{"text_format":"1","workbook":"xlsx","n_sheets":23,"sheets":["Menu","Espece (2)","RDV 07"," Rendez-vous","Suivi contrôles ","Espece","Note de frais","Calendrier  (2)","Ville","Synthèse","heure recup","Suiv Contr ","Recap","Données1","Fetes","Calendrier ","Calendrier  (3)","Feuil6","Feuil2","Recap ","Feuil3","Feuil4","Feuil1"],"not_rendered":{"charts":2,"images":9,"macros":1,"external_links":1,"defined_names":66,"comments":11,"pivot_tables":0},"unopened":[],"bounds":{"document_bytes":16777216,"sheet_cells":100000,"rows_first":2000,"rows_last":500,"rows_between":2000,"halvings":0,"cell_chars":16384,"cell_head_chars":4096},"cells_cut":0,"cells_raw":0,"read":"whole","date_system":"1900"}

{"sheet":"Menu","index":0,"n_rows":11,"n_cols":16,"rows_kept":11,"cut":false,"hidden":false,"merged":[]}
[]
[]
[]
[]
[]
[]
[]
[]
[]
[]
[null,null,null,null,null,null,null,null,null,null,null,null,null,null,null,"                   "]

{"sheet":"Espece (2)","index":1,"n_rows":90,"n_cols":5,"rows_kept":90,"cut":false,"hidden":false,"merged":[[1,0,1,4]]}
[]
["Remise en banque espece suivant bordereau ci joint "]
[]
[]
[null,null,"CHAMPAGNOLE"]
[null,null,"Le:",{"$f":"TODAY()","v":"2013-04-02"}]
[null,null,"Total:",{"$f":"SUM(C10:C14)","v":336}]
[]
[null,"Date Facture","Montant","Nom","Facture"]
[null,{"$f":"IF(Espece!$G226=\"\",Espece!B226,\"\")","v":"2012-01-27"},{"$f":"IF(Espece!$G226=\"\",Espece!C226,\"\")","v":76},{"$f":"IF(Espece!$G226=\"\",Espece!D226,\"\")","v":"ALBARON"},{"$f":"IF(Espece!$G226=\"\",Espece!E226,\"\")","v":8297}]
[null,{"$f":"IF(Espece!$G227=\"\",Espece!B227,\"\")","v":"2012-02-09"},{"$f":"IF(Espece!$G227=\"\",Espece!C227,\"\")","v":91},{"$f":"IF(Espece!$G227=\"\",Espece!D227,\"\")","v":"ADENOT"},{"$f":"IF(Espece!$G227=\"\",Espece!E227,\"\")","v":8332}]
[null,{"$f":"IF(Espece!$G228=\"\",Espece!B228,\"\")","v":"2012-02-16"},{"$f":"IF(Espece!$G228=\"\",Espece!C228,\"\")","v":91},{"$f":"IF(Espece!$G228=\"\",Espece!D228,\"\")","v":"LIRONY"},{"$f":"IF(Espece!$G228=\"\",Espece!E228,\"\")","v":8347}]
[null,{"$f":"IF(Espece!$G229=\"\",Espece!B229,\"\")","v":"2012-03-07"},{"$f":"IF(Espece!$G229=\"\",Espece!C229,\"\")","v":78},{"$f":"IF(Espece!$G229=\"\",Espece!D229,\"\")","v":"ALBARON"},{"$f":"IF(Espece!$G229=\"\",Espece!E229,\"\")","v":8409}]
[null,{"$f":"IF(Espece!$G232=\"\",Espece!B232,\"\")","v":"00:00:00"},{"$f":"IF(Espece!$G232=\"\",Espece!C232,\"\")","v":0},{"$f":"IF(Espece!$G232=\"\",Espece!D232,\"\")","v":"00:00:00"},{"$f":"IF(Espece!$G232=\"\",Espece!E232,\"\")","v":0}]
[null,{"$f":"IF(Espece!$G233=\"\",Espece!B233,\"\")","v":"00:00:00"},{"$f":"IF(Espece!$G233=\"\",Espece!C233,\"\")","v":0},{"$f":"IF(Espece!$G233=\"\",Espece!D233,\"\")","v":"00:00:00"},{"$f":"IF(Espece!$G233=\"\",Espece!E233,\"\")","v":0}]
[null,{"$f":"IF(Espece!$G234=\"\",Espece!B234,\"\")","v":"00:00:00"},{"$f":"IF(Espece!$G234=\"\",Espece!C234,\"\")","v":0},{"$f":"IF(Espece!$G234=\"\",Espece!D234,\"\")","v":"00:00:00"},{"$f":"IF(Espece!$G234=\"\",Espece!E234,\"\")","v":0}]
[null,{"$f":"IF(Espece!$G235=\"\",Espece!B235,\"\")","v":"00:00:00"},{"$f":"IF(Espece!$G235=\"\",Espece!C235,\"\")","v":0},{"$f":"IF(Espece!$G235=\"\",Espece!D235,\"\")","v":"00:00:00"},{"$f":"IF(Espece!$G235=\"\",Espece!E235,\"\")","v":0}]
[null,{"$f":"IF(Espece!$G239=\"\",Espece!B239,\"\")","v":"00:00:00"},{"$f":"IF(Espece!$G239=\"\",Espece!C239,\"\")","v":0},{"$f":"IF(Espece!$G239=\"\",Espece!D239,\"\")","v":"00:00:00"},{"$f":"IF(Espece!$G239=\"\",Espece!E239,\"\")","v":0}]
[null,{"$f":"IF(Espece!$G240=\"\",Espece!B240,\"\")","v":"00:00:00"},{"$f":"IF(Espece!$G240=\"\",Espece!C240,\"\")","v":0},{"$f":"IF(Espece!$G240=\"\",Espece!D240,\"\")","v":"00:00:00"},{"$f":"IF(Espece!$G240=\"\",Espece!E240,\"\")","v":0}]
[null,{"$f":"IF(Espece!$G241=\"\",Espece!B241,\"\")","v":"00:00:00"},{"$f":"IF(Espece!$G241=\"\",Espece!C241,\"\")","v":0},{"$f":"IF(Espece!$G241=\"\",Espece!D241,\"\")","v":"00:00:00"},{"$f":"IF(Espece!$G241=\"\",Espece!E241,\"\")","v":0}]
[null,{"$f":"IF(Espece!$G242=\"\",Espece!B242,\"\")","v":"00:00:00"},{"$f":"IF(Espece!$G242=\"\",Espece!C242,\"\")","v":0},{"$f":"IF(Espece!$G242=\"\",Espece!D242,\"\")","v":"00:00:00"},{"$f":"IF(Espece!$G242=\"\",Espece!E242,\"\")","v":0}]
[null,{"$f":"IF(Espece!$G243=\"\",Espece!B243,\"\")","v":"00:00:00"},{"$f":"IF(Espece!$G243=\"\",Espece!C243,\"\")","v":0},{"$f":"IF(Espece!$G243=\"\",Espece!D243,\"\")","v":"00:00:00"},{"$f":"IF(Espece!$G243=\"\",Espece!E243,\"\")","v":0}]
[null,{"$f":"IF(Espece!$G244=\"\",Espece!B244,\"\")","v":"00:00:00"},{"$f":"IF(Espece!$G244=\"\",Espece!C244,\"\")","v":0},{"$f":"IF(Espece!$G244=\"\",Espece!D244,\"\")","v":"00:00:00"},{"$f":"IF(Espece!$G244=\"\",Espece!E244,\"\")","v":0}]
[null,{"$f":"IF(Espece!$G245=\"\",Espece!B245,\"\")","v":"00:00:00"},{"$f":"IF(Espece!$G245=\"\",Espece!C245,\"\")","v":0},{"$f":"IF(Espece!$G245=\"\",Espece!D245,\"\")","v":"00:00:00"},{"$f":"IF(Espece!$G245=\"\",Espece!E245,\"\")","v":0}]
[null,{"$f":"IF(Espece!$G246=\"\",Espece!B246,\"\")","v":"00:00:00"},{"$f":"IF(Espece!$G246=\"\",Espece!C246,\"\")","v":0},{"$f":"IF(Espece!$G246=\"\",Espece!D246,\"\")","v":"00:00:00"},{"$f":"IF(Espece!$G246=\"\",Espece!E246,\"\")","v":0}]
[null,{"$f":"IF(Espece!$G247=\"\",Espece!B247,\"\")","v":"00:00:00"},{"$f":"IF(Espece!$G247=\"\",Espece!C247,\"\")","v":0},{"$f":"IF(Espece!$G247=\"\",Espece!D247,\"\")","v":"00:00:00"},{"$f":"IF(Espece!$G247=\"\",Espece!E247,\"\")","v":0}]
[null,{"$f":"IF(Espece!$G248=\"\",Espece!B248,\"\")","v":"00:00:00"},{"$f":"IF(Espece!$G248=\"\",Espece!C248,\"\")","v":0},{"$f":"IF(Espece!$G248=\"\",Espece!D248,\"\")","v":"00:00:00"},{"$f":"IF(Espece!$G248=\"\",Espece!E248,\"\")","v":0}]
[null,{"$f":"IF(Espece!$G249=\"\",Espece!B249,\"\")","v":"00:00:00"},{"$f":"IF(Espece!$G249=\"\",Espece!C249,\"\")","v":0},{"$f":"IF(Espece!$G249=\"\",Espece!D249,\"\")","v":"00:00:00"},{"$f":"IF(Espece!$G249=\"\",Espece!E249,\"\")","v":0}]
[null,{"$f":"IF(Espece!$G250=\"\",Espece!B250,\"\")","v":"00:00:00"},{"$f":"IF(Espece!$G250=\"\",Espece!C250,\"\")","v":0},{"$f":"IF(Espece!$G250=\"\",Espece!D250,\"\")","v":"00:00:00"},{"$f":"IF(Espece!$G250=\"\",Espece!E250,\"\")","v":0}]
[null,{"$f":"IF(Espece!$G251=\"\",Espece!B251,\"\")","v":"00:00:00"},{"$f":"IF(Espece!$G251=\"\",Espece!C251,\"\")","v":0},{"$f":"IF(Espece!$G251=\"\",Espece!D251,\"\")","v":"00:00:00"},{"$f":"IF(Espece!$G251=\"\",Espece!E251,\"\")","v":0}]
[null,{"$f":"IF(Espece!$G252=\"\",Espece!B252,\"\")","v":"00:00:00"},{"$f":"IF(Espece!$G252=\"\",Espece!C252,\"\")","v":0},{"$f":"IF(Espece!$G252=\"\",Espece!D252,\"\")","v":"00:00:00"},{"$f":"IF(Espece!$G252=\"\",Espece!E252,\"\")","v":0}]
[null,{"$f":"IF(Espece!$G253=\"\",Espece!B253,\"\")","v":"00:00:00"},{"$f":"IF(Espece!$G253=\"\",Espece!C253,\"\")","v":0},{"$f":"IF(Espece!$G253=\"\",Espece!D253,\"\")","v":"00:00:00"},{"$f":"IF(Espece!$G253=\"\",Espece!E253,\"\")","v":0}]
[null,{"$f":"IF(Espece!$G254=\"\",Espece!B254,\"\")","v":"00:00:00"},{"$f":"IF(Espece!$G254=\"\",Espece!C254,\"\")","v":0},{"$f":"IF(Espece!$G254=\"\",Espece!D254,\"\")","v":"00:00:00"},{"$f":"IF(Espece!$G254=\"\",Espece!E254,\"\")","v":0}]
[null,{"$f":"IF(Espece!$G255=\"\",Espece!B255,\"\")","v":"00:00:00"},{"$f":"IF(Espece!$G255=\"\",Espece!C255,\"\")","v":0},{"$f":"IF(Espece!$G255=\"\",Espece!D255,\"\")","v":"00:00:00"},{"$f":"IF(Espece!$G255=\"\",Espece!E255,\"\")","v":0}]
[null,{"$f":"IF(Espece!$G256=\"\",Espece!B256,\"\")","v":"00:00:00"},{"$f":"IF(Espece!$G256=\"\",Espece!C256,\"\")","v":0},{"$f":"IF(Espece!$G256=\"\",Espece!D256,\"\")","v":"00:00:00"},{"$f":"IF(Espece!$G256=\"\",Espece!E256,\"\")","v":0}]
[null,{"$f":"IF(Espece!$G257=\"\",Espece!B257,\"\")","v":"00:00:00"},{"$f":"IF(Espece!$G257=\"\",Espece!C257,\"\")","v":0},{"$f":"IF(Espece!$G257=\"\",Espece!D257,\"\")","v":"00:00:00"},{"$f":"IF(Espece!$G257=\"\",Espece!E257,\"\")","v":0}]
[null,{"$f":"IF(Espece!$G258=\"\",Espece!B258,\"\")","v":"00:00:00"},{"$f":"IF(Espece!$G258=\"\",Espece!C258,\"\")","v":0},{"$f":"IF(Espece!$G258=\"\",Espece!D258,\"\")","v":"00:00:00"},{"$f":"IF(Espece!$G258=\"\",Espece!E258,\"\")","v":0}]
[null,{"$f":"IF(Espece!$G259=\"\",Espece!B259,\"\")","v":"00:00:00"},{"$f":"IF(Espece!$G259=\"\",Espece!C259,\"\")","v":0},{"$f":"IF(Espece!$G259=\"\",Espece!D259,\"\")","v":"00:00:00"},{"$f":"IF(Espece!$G259=\"\",Espece!E259,\"\")","v":0}]
[null,{"$f":"IF(Espece!$G260=\"\",Espece!B260,\"\")","v":"00:00:00"},{"$f":"IF(Espece!$G260=\"\",Espece!C260,\"\")","v":0},{"$f":"IF(Espece!$G260=\"\",Espece!D260,\"\")","v":"00:00:00"},{"$f":"IF(Espece!$G260=\"\",Espece!E260,\"\")","v":0}]
[null,{"$f":"IF(Espece!$G261=\"\",Espece!B261,\"\")","v":"00:00:00"},{"$f":"IF(Espece!$G261=\"\",Espece!C261,\"\")","v":0},{"$f":"IF(Espece!$G261=\"\",Espece!D261,\"\")","v":"00:00:00"},{"$f":"IF(Espece!$G261=\"\",Espece!E261,\"\")","v":0}]
[null,{"$f":"IF(Espece!$G262=\"\",Espece!B262,\"\")","v":"00:00:00"},{"$f":"IF(Espece!$G262=\"\",Espece!C262,\"\")","v":0},{"$f":"IF(Espece!$G262=\"\",Espece!D262,\"\")","v":"00:00:00"},{"$f":"IF(Espece!$G262=\"\",Espece!E262,\"\")","v":0}]
[null,{"$f":"IF(Espece!$G263=\"\",Espece!B263,\"\")","v":"00:00:00"},{"$f":"IF(Espece!$G263=\"\",Espece!C263,\"\")","v":0},{"$f":"IF(Espece!$G263=\"\",Espece!D263,\"\")","v":"00:00:00"},{"$f":"IF(Espece!$G263=\"\",Espece!E263,\"\")","v":0}]
[null,{"$f":"IF(Espece!$G264=\"\",Espece!B264,\"\")","v":"00:00:00"},{"$f":"IF(Espece!$G264=\"\",Espece!C264,\"\")","v":0},{"$f":"IF(Espece!$G264=\"\",Espece!D264,\"\")","v":"00:00:00"},{"$f":"IF(Espece!$G264=\"\",Espece!E264,\"\")","v":0}]
[null,{"$f":"IF(Espece!$G265=\"\",Espece!B265,\"\")","v":"00:00:00"},{"$f":"IF(Espece!$G265=\"\",Espece!C265,\"\")","v":0},{"$f":"IF(Espece!$G265=\"\",Espece!D265,\"\")","v":"00:00:00"},{"$f":"IF(Espece!$G265=\"\",Espece!E265,\"\")","v":0}]
[null,{"$f":"IF(Espece!$G266=\"\",Espece!B266,\"\")","v":"00:00:00"},{"$f":"IF(Espece!$G266=\"\",Espece!C266,\"\")","v":0},{"$f":"IF(Espece!$G266=\"\",Espece!D266,\"\")","v":"00:00:00"},{"$f":"IF(Espece!$G266=\"\",Espece!E266,\"\")","v":0}]
[null,{"$f":"IF(Espece!$G267=\"\",Espece!B267,\"\")","v":"00:00:00"},{"$f":"IF(Espece!$G267=\"\",Espece!C267,\"\")","v":0},{"$f":"IF(Espece!$G267=\"\",Espece!D267,\"\")","v":"00:00:00"},{"$f":"IF(Espece!$G267=\"\",Espece!E267,\"\")","v":0}]
[null,{"$f":"IF(Espece!$G268=\"\",Espece!B268,\"\")","v":"00:00:00"},{"$f":"IF(Espece!$G268=\"\",Espece!C268,\"\")","v":0},{"$f":"IF(Espece!$G268=\"\",Espece!D268,\"\")","v":"00:00:00"},{"$f":"IF(Espece!$G268=\"\",Espece!E268,\"\")","v":0}]
[null,{"$f":"IF(Espece!$G269=\"\",Espece!B269,\"\")","v":"00:00:00"},{"$f":"IF(Espece!$G269=\"\",Espece!C269,\"\")","v":0},{"$f":"IF(Espece!$G269=\"\",Espece!D269,\"\")","v":"00:00:00"},{"$f":"IF(Espece!$G269=\"\",Espece!E269,\"\")","v":0}]
[null,{"$f":"IF(Espece!$G270=\"\",Espece!B270,\"\")","v":"00:00:00"},{"$f":"IF(Espece!$G270=\"\",Espece!C270,\"\")","v":0},{"$f":"IF(Espece!$G270=\"\",Espece!D270,\"\")","v":"00:00:00"},{"$f":"IF(Espece!$G270=\"\",Espece!E270,\"\")","v":0}]
[null,{"$f":"IF(Espece!$G271=\"\",Espece!B271,\"\")","v":"00:00:00"},{"$f":"IF(Espece!$G271=\"\",Espece!C271,\"\")","v":0},{"$f":"IF(Espece!$G271=\"\",Espece!D271,\"\")","v":"00:00:00"},{"$f":"IF(Espece!$G271=\"\",Espece!E271,\"\")","v":0}]
[null,{"$f":"IF(Espece!$G272=\"\",Espece!B272,\"\")","v":"00:00:00"},{"$f":"IF(Espece!$G272=\"\",Espece!C272,\"\")","v":0},{"$f":"IF(Espece!$G272=\"\",Espece!D272,\"\")","v":"00:00:00"},{"$f":"IF(Espece!$G272=\"\",Espece!E272,\"\")","v":0}]
[null,{"$f":"IF(Espece!$G273=\"\",Espece!B273,\"\")","v":"00:00:00"},{"$f":"IF(Espece!$G273=\"\",Espece!C273,\"\")","v":0},{"$f":"IF(Espece!$G273=\"\",Espece!D273,\"\")","v":"00:00:00"},{"$f":"IF(Espece!$G273=\"\",Espece!E273,\"\")","v":0}]
[null,{"$f":"IF(Espece!$G274=\"\",Espece!B274,\"\")","v":"00:00:00"},{"$f":"IF(Espece!$G274=\"\",Espece!C274,\"\")","v":0},{"$f":"IF(Espece!$G274=\"\",Espece!D274,\"\")","v":"00:00:00"},{"$f":"IF(Espece!$G274=\"\",Espece!E274,\"\")","v":0}]
[null,{"$f":"IF(Espece!$G275=\"\",Espece!B275,\"\")","v":"00:00:00"},{"$f":"IF(Espece!$G275=\"\",Espece!C275,\"\")","v":0},{"$f":"IF(Espece!$G275=\"\",Espece!D275,\"\")","v":"00:00:00"},{"$f":"IF(Espece!$G275=\"\",Espece!E275,\"\")","v":0}]
[null,{"$f":"IF(Espece!$G276=\"\",Espece!B276,\"\")","v":"00:00:00"},{"$f":"IF(Espece!$G276=\"\",Espece!C276,\"\")","v":0},{"$f":"IF(Espece!$G276=\"\",Espece!D276,\"\")","v":"00:00:00"},{"$f":"IF(Espece!$G276=\"\",Espece!E276,\"\")","v":0}]
[null,{"$f":"IF(Espece!$G277=\"\",Espece!B277,\"\")","v":"00:00:00"},{"$f":"IF(Espece!$G277=\"\",Espece!C277,\"\")","v":0},{"$f":"IF(Espece!$G277=\"\",Espece!D277,\"\")","v":"00:00:00"},{"$f":"IF(Espece!$G277=\"\",Espece!E277,\"\")","v":0}]
[null,{"$f":"IF(Espece!$G278=\"\",Espece!B278,\"\")","v":"00:00:00"},{"$f":"IF(Espece!$G278=\"\",Espece!C278,\"\")","v":0},{"$f":"IF(Espece!$G278=\"\",Espece!D278,\"\")","v":"00:00:00"},{"$f":"IF(Espece!$G278=\"\",Espece!E278,\"\")","v":0}]
[null,{"$f":"IF(Espece!$G279=\"\",Espece!B279,\"\")","v":"00:00:00"},{"$f":"IF(Espece!$G279=\"\",Espece!C279,\"\")","v":0},{"$f":"IF(Espece!$G279=\"\",Espece!D279,\"\")","v":"00:00:00"},{"$f":"IF(Espece!$G279=\"\",Espece!E279,\"\")","v":0}]
[null,{"$f":"IF(Espece!$G280=\"\",Espece!B280,\"\")","v":"00:00:00"},{"$f":"IF(Espece!$G280=\"\",Espece!C280,\"\")","v":0},{"$f":"IF(Espece!$G280=\"\",Espece!D280,\"\")","v":"00:00:00"},{"$f":"IF(Espece!$G280=\"\",Espece!E280,\"\")","v":0}]
[null,{"$f":"IF(Espece!$G281=\"\",Espece!B281,\"\")","v":"00:00:00"},{"$f":"IF(Espece!$G281=\"\",Espece!C281,\"\")","v":0},{"$f":"IF(Espece!$G281=\"\",Espece!D281,\"\")","v":"00:00:00"},{"$f":"IF(Espece!$G281=\"\",Espece!E281,\"\")","v":0}]
[null,{"$f":"IF(Espece!$G282=\"\",Espece!B282,\"\")","v":"00:00:00"},{"$f":"IF(Espece!$G282=\"\",Espece!C282,\"\")","v":0},{"$f":"IF(Espece!$G282=\"\",Espece!D282,\"\")","v":"00:00:00"},{"$f":"IF(Espece!$G282=\"\",Espece!E282,\"\")","v":0}]
[null,{"$f":"IF(Espece!$G283=\"\",Espece!B283,\"\")","v":"00:00:00"},{"$f":"IF(Espece!$G283=\"\",Espece!C283,\"\")","v":0},{"$f":"IF(Espece!$G283=\"\",Espece!D283,\"\")","v":"00:00:00"},{"$f":"IF(Espece!$G283=\"\",Espece!E283,\"\")","v":0}]
[null,{"$f":"IF(Espece!$G284=\"\",Espece!B284,\"\")","v":"00:00:00"},{"$f":"IF(Espece!$G284=\"\",Espece!C284,\"\")","v":0},{"$f":"IF(Espece!$G284=\"\",Espece!D284,\"\")","v":"00:00:00"},{"$f":"IF(Espece!$G284=\"\",Espece!E284,\"\")","v":0}]
[null,{"$f":"IF(Espece!$G285=\"\",Espece!B285,\"\")","v":"00:00:00"},{"$f":"IF(Espece!$G285=\"\",Espece!C285,\"\")","v":0},{"$f":"IF(Espece!$G285=\"\",Espece!D285,\"\")","v":"00:00:00"},{"$f":"IF(Espece!$G285=\"\",Espece!E285,\"\")","v":0}]
[null,{"$f":"IF(Espece!$G286=\"\",Espece!B286,\"\")","v":"00:00:00"},{"$f":"IF(Espece!$G286=\"\",Espece!C286,\"\")","v":0},{"$f":"IF(Espece!$G286=\"\",Espece!D286,\"\")","v":"00:00:00"},{"$f":"IF(Espece!$G286=\"\",Espece!E286,\"\")","v":0}]
[null,{"$f":"IF(Espece!$G287=\"\",Espece!B287,\"\")","v":"00:00:00"},{"$f":"IF(Espece!$G287=\"\",Espece!C287,\"\")","v":0},{"$f":"IF(Espece!$G287=\"\",Espece!D287,\"\")","v":"00:00:00"},{"$f":"IF(Espece!$G287=\"\",Espece!E287,\"\")","v":0}]
[null,{"$f":"IF(Espece!$G288=\"\",Espece!B288,\"\")","v":"00:00:00"},{"$f":"IF(Espece!$G288=\"\",Espece!C288,\"\")","v":0},{"$f":"IF(Espece!$G288=\"\",Espece!D288,\"\")","v":"00:00:00"},{"$f":"IF(Espece!$G288=\"\",Espece!E288,\"\")","v":0}]
[null,{"$f":"IF(Espece!$G289=\"\",Espece!B289,\"\")","v":"00:00:00"},{"$f":"IF(Espece!$G289=\"\",Espece!C289,\"\")","v":0},{"$f":"IF(Espece!$G289=\"\",Espece!D289,\"\")","v":"00:00:00"},{"$f":"IF(Espece!$G289=\"\",Espece!E289,\"\")","v":0}]
[null,{"$f":"IF(Espece!$G290=\"\",Espece!B290,\"\")","v":"00:00:00"},{"$f":"IF(Espece!$G290=\"\",Espece!C290,\"\")","v":0},{"$f":"IF(Espece!$G290=\"\",Espece!D290,\"\")","v":"00:00:00"},{"$f":"IF(Espece!$G290=\"\",Espece!E290,\"\")","v":0}]
[null,{"$f":"IF(Espece!$G291=\"\",Espece!B291,\"\")","v":"00:00:00"},{"$f":"IF(Espece!$G291=\"\",Espece!C291,\"\")","v":0},{"$f":"IF(Espece!$G291=\"\",Espece!D291,\"\")","v":"00:00:00"},{"$f":"IF(Espece!$G291=\"\",Espece!E291,\"\")","v":0}]
[null,{"$f":"IF(Espece!$G292=\"\",Espece!B292,\"\")","v":"00:00:00"},{"$f":"IF(Espece!$G292=\"\",Espece!C292,\"\")","v":0},{"$f":"IF(Espece!$G292=\"\",Espece!D292,\"\")","v":"00:00:00"},{"$f":"IF(Espece!$G292=\"\",Espece!E292,\"\")","v":0}]
[null,{"$f":"IF(Espece!$G293=\"\",Espece!B293,\"\")","v":"00:00:00"},{"$f":"IF(Espece!$G293=\"\",Espece!C293,\"\")","v":0},{"$f":"IF(Espece!$G293=\"\",Espece!D293,\"\")","v":"00:00:00"},{"$f":"IF(Espece!$G293=\"\",Espece!E293,\"\")","v":0}]
[null,{"$f":"IF(Espece!$G294=\"\",Espece!B294,\"\")","v":"00:00:00"},{"$f":"IF(Espece!$G294=\"\",Espece!C294,\"\")","v":0},{"$f":"IF(Espece!$G294=\"\",Espece!D294,\"\")","v":"00:00:00"},{"$f":"IF(Espece!$G294=\"\",Espece!E294,\"\")","v":0}]
[null,{"$f":"IF(Espece!$G295=\"\",Espece!B295,\"\")","v":"00:00:00"},{"$f":"IF(Espece!$G295=\"\",Espece!C295,\"\")","v":0},{"$f":"IF(Espece!$G295=\"\",Espece!D295,\"\")","v":"00:00:00"},{"$f":"IF(Espece!$G295=\"\",Espece!E295,\"\")","v":0}]
[null,{"$f":"IF(Espece!$G296=\"\",Espece!B296,\"\")","v":"00:00:00"},{"$f":"IF(Espece!$G296=\"\",Espece!C296,\"\")","v":0},{"$f":"IF(Espece!$G296=\"\",Espece!D296,\"\")","v":"00:00:00"},{"$f":"IF(Espece!$G296=\"\",Espece!E296,\"\")","v":0}]
[null,{"$f":"IF(Espece!$G297=\"\",Espece!B297,\"\")","v":"00:00:00"},{"$f":"IF(Espece!$G297=\"\",Espece!C297,\"\")","v":0},{"$f":"IF(Espece!$G297=\"\",Espece!D297,\"\")","v":"00:00:00"},{"$f":"IF(Espece!$G297=\"\",Espece!E297,\"\")","v":0}]
[null,{"$f":"IF(Espece!$G298=\"\",Espece!B298,\"\")","v":"00:00:00"},{"$f":"IF(Espece!$G298=\"\",Espece!C298,\"\")","v":0},{"$f":"IF(Espece!$G298=\"\",Espece!D298,\"\")","v":"00:00:00"},{"$f":"IF(Espece!$G298=\"\",Espece!E298,\"\")","v":0}]
[null,{"$f":"IF(Espece!$G299=\"\",Espece!B299,\"\")","v":"00:00:00"},{"$f":"IF(Espece!$G299=\"\",Espece!C299,\"\")","v":0},{"$f":"IF(Espece!$G299=\"\",Espece!D299,\"\")","v":"00:00:00"},{"$f":"IF(Espece!$G299=\"\",Espece!E299,\"\")","v":0}]
[null,{"$f":"IF(Espece!$G300=\"\",Espece!B300,\"\")","v":"00:00:00"},{"$f":"IF(Espece!$G300=\"\",Espece!C300,\"\")","v":0},{"$f":"IF(Espece!$G300=\"\",Espece!D300,\"\")","v":"00:00:00"},{"$f":"IF(Espece!$G300=\"\",Espece!E300,\"\")","v":0}]
[null,{"$f":"IF(Espece!$G301=\"\",Espece!B301,\"\")","v":"00:00:00"},{"$f":"IF(Espece!$G301=\"\",Espece!C301,\"\")","v":0},{"$f":"IF(Espece!$G301=\"\",Espece!D301,\"\")","v":"00:00:00"},{"$f":"IF(Espece!$G301=\"\",Espece!E301,\"\")","v":0}]
[null,{"$f":"IF(Espece!$G302=\"\",Espece!B302,\"\")","v":"00:00:00"},{"$f":"IF(Espece!$G302=\"\",Espece!C302,\"\")","v":0},{"$f":"IF(Espece!$G302=\"\",Espece!D302,\"\")","v":"00:00:00"},{"$f":"IF(Espece!$G302=\"\",Espece!E302,\"\")","v":0}]
[null,{"$f":"IF(Espece!$G303=\"\",Espece!B303,\"\")","v":"00:00:00"},{"$f":"IF(Espece!$G303=\"\",Espece!C303,\"\")","v":0},{"$f":"IF(Espece!$G303=\"\",Espece!D303,\"\")","v":"00:00:00"},{"$f":"IF(Espece!$G303=\"\",Espece!E303,\"\")","v":0}]
[null,{"$f":"IF(Espece!$G304=\"\",Espece!B304,\"\")","v":"00:00:00"},{"$f":"IF(Espece!$G304=\"\",Espece!C304,\"\")","v":0},{"$f":"IF(Espece!$G304=\"\",Espece!D304,\"\")","v":"00:00:00"},{"$f":"IF(Espece!$G304=\"\",Espece!E304,\"\")","v":0}]
[null,{"$f":"IF(Espece!$G305=\"\",Espece!B305,\"\")","v":"00:00:00"},{"$f":"IF(Espece!$G305=\"\",Espece!C305,\"\")","v":0},{"$f":"IF(Espece!$G305=\"\",Espece!D305,\"\")","v":"00:00:00"},{"$f":"IF(Espece!$G305=\"\",Espece!E305,\"\")","v":0}]
[null,{"$f":"IF(Espece!$G306=\"\",Espece!B306,\"\")","v":"00:00:00"},{"$f":"IF(Espece!$G306=\"\",Espece!C306,\"\")","v":0},{"$f":"IF(Espece!$G306=\"\",Espece!D306,\"\")","v":"00:00:00"},{"$f":"IF(Espece!$G306=\"\",Espece!E306,\"\")","v":0}]
[null,{"$f":"IF(Espece!$G307=\"\",Espece!B307,\"\")","v":"00:00:00"},{"$f":"IF(Espece!$G307=\"\",Espece!C307,\"\")","v":0},{"$f":"IF(Espece!$G307=\"\",Espece!D307,\"\")","v":"00:00:00"},{"$f":"IF(Espece!$G307=\"\",Espece!E307,\"\")","v":0}]
[null,{"$f":"IF(Espece!$G308=\"\",Espece!B308,\"\")","v":"00:00:00"},{"$f":"IF(Espece!$G308=\"\",Espece!C308,\"\")","v":0},{"$f":"IF(Espece!$G308=\"\",Espece!D308,\"\")","v":"00:00:00"},{"$f":"IF(Espece!$G308=\"\",Espece!E308,\"\")","v":0}]
[null,{"$f":"IF(Espece!$G309=\"\",Espece!B309,\"\")","v":"00:00:00"},{"$f":"IF(Espece!$G309=\"\",Espece!C309,\"\")","v":0},{"$f":"IF(Espece!$G309=\"\",Espece!D309,\"\")","v":"00:00:00"},{"$f":"IF(Espece!$G309=\"\",Espece!E309,\"\")","v":0}]
[null,{"$f":"IF(Espece!$G310=\"\",Espece!B310,\"\")","v":"00:00:00"},{"$f":"IF(Espece!$G310=\"\",Espece!C310,\"\")","v":0},{"$f":"IF(Espece!$G310=\"\",Espece!D310,\"\")","v":"00:00:00"},{"$f":"IF(Espece!$G310=\"\",Espece!E310,\"\")","v":0}]
[null,{"$f":"IF(Espece!$G311=\"\",Espece!B311,\"\")","v":"00:00:00"},{"$f":"IF(Espece!$G311=\"\",Espece!C311,\"\")","v":0},{"$f":"IF(Espece!$G311=\"\",Espece!D311,\"\")","v":"00:00:00"},{"$f":"IF(Espece!$G311=\"\",Espece!E311,\"\")","v":0}]

{"sheet":"RDV 07","index":2,"n_rows":448,"n_cols":17,"rows_kept":448,"cut":false,"hidden":true,"merged":[[1,15,3,16],[5,15,7,16],[17,9,17,12],[1,9,1,13],[13,7,13,8],[22,9,22,12],[18,9,18,12],[19,9,19,12],[5,7,5,8],[7,7,7,8],[9,7,9,8],[11,7,11,8],[20,9,20,12],[21,9,21,12],[15,7,15,8],[27,9,27,12],[28,9,28,12],[30,9,30,12],[23,9,23,12],[24,9,24,12],[25,9,25,12],[26,9,26,12],[29,9,29,12],[45,9,45,12],[46,9,46,12],[47,9,47,12],[48,9,48,12],[49,9,49,12],[50,9,50,12],[31,9,31,12],[32,9,32,12],[33,9,33,12],[34,9,34,12],[43,9,43,12],[44,9,44,12],[42,9,42,12],[35,9,35,12],[36,9,36,12],[37,9,37,12],[38,9,38,12],[39,9,39,12],[40,9,40,12],[41,9,41,12],[58,9,58,12],[59,9,59,12],[51,9,51,12],[52,9,52,12],[54,9,54,12],[55,9,55,12],[56,9,56,12],[57,9,57,12],[64,9,64,12],[65,9,65,12],[66,9,66,12],[67,9,67,12],[60,9,60,12],[61,9,61,12],[62,9,62,12],[63,9,63,12],[72,9,72,12],[73,9,73,12],[74,9,74,12],[75,9,75,12],[68,9,68,12],[69,9,69,12],[70,9,70,12],[71,9,71,12],[80,9,80,12],[81,9,81,12],[82,9,82,12],[83,9,83,12],[76,9,76,12],[77,9,77,12],[78,9,78,12],[79,9,79,12],[89,9,89,12],[90,9,90,12],[91,9,91,12],[92,9,92,12],[84,9,84,12],[85,9,85,12],[87,9,87,12],[88,9,88,12],[97,9,97,12],[98,9,98,12],[99,9,99,12],[100,9,100,12],[93,9,93,12],[94,9,94,12],[95,9,95,12],[96,9,96,12],[105,9,105,12],[106,9,106,12],[107,9,107,12],[108,9,108,12],[101,9,101,12],[102,9,102,12],[103,9,103,12],[104,9,104,12],[113,9,113,12],[114,9,114,12],[115,9,115,12],[116,9,116,12],[109,9,109,12],[110,9,110,12],[111,9,111,12],[112,9,112,12],[121,9,121,12],[123,9,123,12],[124,9,124,12],[125,9,125,12],[117,9,117,12],[118,9,118,12],[119,9,119,12],[120,9,120,12],[130,9,130,12],[131,9,131,12],[132,9,132,12],[133,9,133,12],[126,9,126,12],[127,9,127,12],[128,9,128,12],[129,9,129,12],[138,9,138,12],[139,9,139,12],[140,9,140,12],[141,9,141,12],[134,9,134,12],[135,9,135,12],[136,9,136,12],[137,9,137,12],[146,9,146,12],[147,9,147,12],[148,9,148,12],[149,9,149,12],[142,9,142,12],[143,9,143,12],[144,9,144,12],[145,9,145,12],[154,9,154,12],[155,9,155,12],[156,9,156,12],[157,9,157,12],[150,9,150,12],[151,9,151,12],[152,9,152,12],[153,9,153,12],[163,9,163,12],[164,9,164,12],[165,9,165,12],[166,9,166,12],[159,9,159,12],[160,9,160,12],[161,9,161,12],[162,9,162,12],[171,9,171,12],[172,9,172,12],[173,9,173,12],[174,9,174,12],[167,9,167,12],[168,9,168,12],[169,9,169,12],[170,9,170,12],[179,9,179,12],[180,9,180,12],[181,9,181,12],[182,9,182,12],[175,9,175,12],[176,9,176,12],[177,9,177,12],[178,9,178,12],[187,9,187,12],[188,9,188,12],[189,9,189,12],[190,9,190,12],[183,9,183,12],[184,9,184,12],[185,9,185,12],[186,9,186,12],[196,9,196,12],[197,9,197,12],[198,9,198,12],[199,9,199,12],[191,9,191,12],[192,9,192,12],[193,9,193,12],[195,9,195,12],[204,9,204,12],[205,9,205,12],[206,9,206,12],[207,9,207,12],[200,9,200,12],[201,9,201,12],[202,9,202,12],[203,9,203,12],[212,9,212,12],[213,9,213,12],[214,9,214,12],[215,9,215,12],[208,9,208,12],[209,9,209,12],[210,9,210,12],[211,9,211,12],[220,9,220,12],[221,9,221,12],[222,9,222,12],[223,9,223,12],[216,9,216,12],[217,9,217,12],[218,9,218,12],[219,9,219,12],[228,9,228,12],[230,9,230,12],[231,9,231,12],[232,9,232,12],[224,9,224,12],[225,9,225,12],[226,9,226,12],[227,9,227,12],[237,9,237,12],[238,9,238,12],[239,9,239,12],[240,9,240,12],[233,9,233,12],[234,9,234,12],[235,9,235,12],[236,9,236,12],[245,9,245,12],[246,9,246,12],[247,9,247,12],[248,9,248,12],[241,9,241,12],[242,9,242,12],[243,9,243,12],[244,9,244,12],[253,9,253,12],[254,9,254,12],[255,9,255,12],[256,9,256,12],[249,9,249,12],[250,9,250,12],[251,9,251,12],[252,9,252,12],[261,9,261,12],[262,9,262,12],[263,9,263,12],[264,9,264,12],[257,9,257,12],[258,9,258,12],[259,9,259,12],[260,9,260,12],[270,9,270,12],[271,9,271,12],[272,9,272,12],[273,9,273,12],[265,9,265,12],[267,9,267,12],[268,9,268,12],[269,9,269,12],[278,9,278,12],[279,9,279,12],[280,9,280,12],[281,9,281,12],[274,9,274,12],[275,9,275,12],[276,9,276,12],[277,9,277,12],[282,9,282,12],[291,9,291,12],[292,9,292,12],[285,9,285,12],[283,9,283,12],[284,9,284,12],[286,9,286,12],[287,9,287,12],[288,9,288,12],[289,9,289,12],[296,9,296,12],[297,9,297,12],[298,9,298,12],[299,9,299,12],[290,9,290,12],[293,9,293,12],[294,9,294,12],[295,9,295,12],[305,9,305,12],[306,9,306,12],[307,9,307,12],[308,9,308,12],[300,9,300,12],[301,9,301,12],[303,9,303,12],[304,9,304,12],[313,9,313,12],[314,9,314,12],[315,9,315,12],[316,9,316,12],[309,9,309,12],[310,9,310,12],[311,9,311,12],[312,9,312,12],[321,9,321,12],[322,9,322,12],[323,9,323,12],[324,9,324,12],[317,9,317,12],[318,9,318,12],[319,9,319,12],[320,9,320,12],[329,9,329,12],[330,9,330,12],[331,9,331,12],[332,9,332,12],[325,9,325,12],[326,9,326,12],[327,9,327,12],[328,9,328,12],[338,9,338,12],[339,9,339,12],[340,9,340,12],[341,9,341,12],[333,9,333,12],[334,9,334,12],[335,9,335,12],[336,9,336,12],[346,9,346,12],[347,9,347,12],[348,9,348,12],[349,9,349,12],[342,9,342,12],[343,9,343,12],[344,9,344,12],[345,9,345,12],[354,9,354,12],[355,9,355,12],[356,9,356,12],[357,9,357,12],[350,9,350,12],[351,9,351,12],[352,9,352,12],[353,9,353,12],[362,9,362,12],[363,9,363,12],[364,9,364,12],[365,9,365,12],[358,9,358,12],[359,9,359,12],[360,9,360,12],[361,9,361,12],[370,9,370,12],[371,9,371,12],[372,9,372,12],[373,9,373,12],[366,9,366,12],[367,9,367,12],[368,9,368,12],[369,9,369,12],[379,9,379,12],[380,9,380,12],[381,9,381,12],[382,9,382,12],[383,9,383,12],[375,9,375,12],[376,9,376,12],[377,9,377,12],[378,9,378,12],[387,9,387,12],[388,9,388,12],[389,9,389,12],[390,9,390,12],[391,9,391,12],[384,9,384,12],[385,9,385,12],[386,9,386,12],[395,9,395,12],[396,9,396,12],[397,9,397,12],[398,9,398,12],[392,9,392,12],[393,9,393,12],[394,9,394,12],[403,9,403,12],[404,9,404,12],[405,9,405,12],[416,9,416,12],[417,9,417,12],[418,9,418,12],[419,9,419,12],[437,9,437,12],[434,9,434,12],[406,9,406,12],[399,9,399,12],[400,9,400,12],[401,9,401,12],[402,9,402,12],[412,9,412,12],[413,9,413,12],[414,9,414,12],[415,9,415,12],[407,9,407,12],[408,9,408,12],[410,9,410,12],[411,9,411,12],[420,9,420,12],[421,9,421,12],[422,9,422,12],[423,9,423,12],[424,9,424,12],[428,9,428,12],[429,9,429,12],[430,9,430,12],[431,9,431,12],[425,9,425,12],[426,9,426,12],[427,9,427,12],[445,9,445,12],[441,9,441,12],[442,9,442,12],[443,9,443,12],[444,9,444,12],[439,9,439,12],[440,9,440,12],[438,9,438,12],[432,9,432,12],[433,9,433,12],[435,9,435,12],[436,9,436,12]]}
[]
[null,null,null,{"$f":"COUNTIF(F$19:F$446,\"p\")","v":149},"Présent",null,null,null,null,"Heures/mois",null,null,null,null,null,"% AUXILIAIRE"]
[null,null,null,null,null,null,null,null,null,"temps",null,"temps"]
[null,null,null,{"$f":"H448-D6+46","v":51.5},"Heures restantes à récupérer",null,null,null,null,"centre","centre +auxiliaire",null,"centre","centre +auxiliaire"]
[]
[null,null,null,{"$f":"SUM(I19:I446)","v":50},"Heures récupérées",null,null,"JANVIER",null,{"$f":"DSUM($A$18:$G$446,J3,Données1!A3:B3)","v":{"$error":"#VALUE!"}},{"$f":"G54+H54","v":160},"JUILLET",{"$f":"DSUM($A$18:$G$446,L3,Données1!A14:B15)","v":126},{"$f":"G267+H267","v":147},null,{"$f":"D14/D2*100","v":32.214765100671137}]
[null,null,null,null,null,null,null,null,null,"temps",{"$f":"G55","v":7},null,"temps"]
[null,null,null,null,"Rendez-vous",null,null,"FEVRIER",null,{"$f":"DSUM($A$18:$G$446,J7,Données1!A4:B5)","v":90.5},{"$f":"G87+H87","v":137.5},"AOUT",{"$f":"DSUM($A$18:$G$446,M7,Données1!A16:B17)","v":126},{"$f":"G303+H303","v":158}]
[null,null,null,"TEMPS",null,null,null,null,null,"temps",{"$f":"G57","v":0},null,"temps"]
[null,null,null,{"$f":"COUNTIF(F$19:F$446,\"f\")","v":8},"Formation",null,null,"MARS",null,{"$f":"DSUM($A$18:$G$446,J9,Données1!A6:B7)","v":130},{"$f":"G123+H123","v":147},"SEPTEMBRE",{"$f":"DSUM($A$18:$G$446,M9,Données1!A18:B19)","v":28},{"$f":"G338+H338","v":35}]
[null,null,null,null,null,null,null,null,null,"temps",null,null,"temps"]
[null,null,null,{"$f":"COUNTIF(F$19:F$446,\"v\")","v":17},"Vacances",null,null,"AVRIL",null,{"$f":"DSUM($A$18:$G$446,J11,Données1!A8:B9)","v":70},{"$f":"G159+H159","v":110},"OCTOBRE",{"$f":"DSUM($A$18:$G$446,M11,Données1!A20:B21)","v":98},{"$f":"G375+H375","v":165}]
[null,null,null,{"$f":"COUNTIF(F$19:F$446,\"m\")","v":0},null,null,null,null,null,"temps",null,null,"temps",null,null,null,{"$f":"D13/#REF!*100","v":{"$error":"#REF!"}}]
[null,null,null,{"$f":"COUNTIF(F$19:F$446,\"e\")","v":48},"Extérieur",null,null,"MAI",null,{"$f":"DSUM($A$18:$G$446,J13,Données1!A10:B11)","v":96},{"$f":"G195+H195","v":137},"NOVEMBRE",{"$f":"DSUM($A$18:$G$446,M13,Données1!A22:B23)","v":70},{"$f":"G410+H410","v":113}]
[null,null,null,null,null,null,null,null,null,"temps",null,null,"temps"]
[null,null,null,{"$f":"COUNTIF(F$19:F$446,\"M\")","v":0},"Maladie",null,null,"JUIN",null,{"$f":"DSUM($A$18:$G$446,J15,Données1!A12:B13)","v":84},{"$f":"G230+H230","v":117},"DECEMBRE",{"$f":"DSUM($A$18:$G$446,M15,Données1!A24:B25)","v":0},{"$f":"G447+H447","v":0}]
[]
["M","S","J","Date",null,"Pointage","temps","Heure sup","Heures recup","RENDEZ VOUS"]
[{"$f":"MONTH(D19)","v":1},{"$f":"NO.SEMAINE(D19,2)-1","v":{"$error":"#NAME?"}},2,"2007-01-01",{"$f":"IF(D19,Données1!W5)","v":"Jour de l'An"},null,null,null,null,"ETAIN"]
[{"$f":"MONTH(D20)","v":1},{"$error":"#NAME?"},3,"2007-01-02",{"$f":"IF(D20,Données1!W6)","v":"St Basile"},"p",7]
[1,{"$error":"#NAME?"},4,"2007-01-03",{"$f":"IF(D21,Données1!W7)","v":"Ste Geneviève"},"e",7,3,null,"Rumilly"]
[1,{"$error":"#NAME?"},5,"2007-01-04",{"$f":"IF(D22,Données1!W8)","v":"St Odilon"},"p",7]
[1,{"$error":"#NAME?"},6,"2007-01-05",{"$f":"IF(D23,Données1!W9)","v":"St Edouard"},"p",6.5,null,0.5]
[1,{"$error":"#NAME?"},7,"2007-01-06",{"$f":"IF(D24,Données1!W10)","v":"Ste Melaine"}]
[1,{"$error":"#NAME?"},8,"2007-01-07",{"$f":"IF(D25,Données1!W11)","v":"St Raymond"}]
[]
[1,{"$f":"NO.SEMAINE(D27,2)-1","v":{"$error":"#NAME?"}},9,"2007-01-08",{"$f":"IF(D27,Données1!W12)","v":"St Lucien"},"p",7]
[{"$f":"MONTH(D28)","v":1},{"$error":"#NAME?"},10,"2007-01-09",{"$f":"IF(D28,Données1!W13)","v":"Ste Alix"},"p",7]
[1,{"$error":"#NAME?"},11,"2007-01-10",{"$f":"IF(D29,Données1!W14)","v":"St Guillaume"},"e",7,null,null,"Pouilly en Auxois"]
[1,{"$error":"#NAME?"},12,"2007-01-11",{"$f":"IF(D30,Données1!W15)","v":"St Paulin"},"p",6.5,null,0.5,"OPHTALMO",null,null,null,"17:15:00"]
[1,{"$error":"#NAME?"},13,"2007-01-12",{"$f":"IF(D31,Données1!W16)","v":"Ste Tatiana"},"p",6.5,null,0.5]
[1,{"$error":"#NAME?"},14,"2007-01-13",{"$f":"IF(D32,Données1!W17)","v":"Ste Yvette"}]
[1,{"$error":"#NAME?"},15,"2007-01-14",{"$f":"IF(D33,Données1!W18)","v":"Ste Nina"}]
[]
[1,{"$f":"NO.SEMAINE(D35,2)-1","v":{"$error":"#NAME?"}},16,"2007-01-15",{"$f":"IF(D35,Données1!W19)","v":"St Rémi"},"p",7,2.5,null,"Panne banc freinage",null,null,null,null,"INTERVENTION à 18h45"]
[{"$f":"MONTH(D36)","v":1},{"$error":"#NAME?"},17,"2007-01-16",{"$f":"IF(D36,Données1!W20)","v":"St Marcel"},"p",7,null,null,"Panne banc freinage"]
[1,{"$error":"#NAME?"},18,"2007-01-17",{"$f":"IF(D37,Données1!W21)","v":"Ste Roseline"},"e",7,null,null,"Sennecé les Macon supervision DRIRE"]
[1,{"$error":"#NAME?"},19,"2007-01-18",{"$f":"IF(D38,Données1!W22)","v":"Ste Prisca"},"p",7]
[1,{"$error":"#NAME?"},20,"2007-01-19",{"$f":"IF(D39,Données1!W23)","v":"St Marius"},"p",7,null,null,"DENTISTE",null,null,null,"17:00:00"]
[1,{"$error":"#NAME?"},21,"2007-01-20",{"$f":"IF(D40,Données1!W24)","v":"St Sébastien"}]
[1,{"$error":"#NAME?"},22,"2007-01-21",{"$f":"IF(D41,Données1!W25)","v":"Ste Agnès"}]
[]
[1,{"$f":"NO.SEMAINE(D43,2)-1","v":{"$error":"#NAME?"}},23,"2007-01-22",{"$f":"IF(D43,Données1!W26)","v":"St Vincent"},"p",7]
[{"$f":"MONTH(D44)","v":1},{"$error":"#NAME?"},24,"2007-01-23",{"$f":"IF(D44,Données1!W27)","v":"St Barnard"},"p",6.5,null,0.5]
[1,{"$error":"#NAME?"},25,"2007-01-24",{"$f":"IF(D45,Données1!W28)","v":"St François de Sales"},"e",7,3,null,"Rumilly Liaison informatique otc impossible"]
[1,{"$error":"#NAME?"},26,"2007-01-25",{"$f":"IF(D46,Données1!W29)","v":"Convers. de St Paul"},"p",6.5,null,0.5]
[1,{"$error":"#NAME?"},27,"2007-01-26",{"$f":"IF(D47,Données1!W30)","v":"Ste Paule"},"p",7]
[1,{"$error":"#NAME?"},28,"2007-01-27",{"$f":"IF(D48,Données1!W31)","v":"Ste Angel"}]
[1,{"$error":"#NAME?"},29,"2007-01-28",{"$f":"IF(D49,Données1!W32)","v":"St Thomas d'Aquin"}]
[]
[1,{"$f":"NO.SEMAINE(D51,2)-1","v":{"$error":"#NAME?"}},30,"2007-01-29",{"$f":"IF(D51,Données1!W33)","v":"St Gildas"},"p",7,null,null,"PANNE Porte sortie + Plaques"]
[{"$f":"MONTH(D52)","v":1},{"$f":"NO.SEMAINE(D52,2)-1","v":{"$error":"#NAME?"}},31,"2007-01-30",{"$f":"IF(D52,Données1!W34)","v":"Ste Martine"},"p",7]
[1,{"$f":"NO.SEMAINE(D53,2)-1","v":{"$error":"#NAME?"}},32,"2007-01-31",{"$f":"IF(D53,Données1!W35)","v":"Ste Marcelle"},"e",7,null,null,"Pouilly en Auxois"]
[null,null,null,null,null,null,{"$f":"SUM(G19:G53)","v":151.5},{"$f":"SUM(H19:H53)","v":8.5}]
[2,{"$f":"NO.SEMAINE(D55,2)-1","v":{"$error":"#NAME?"}},33,"2007-02-01",{"$f":"IF(D55,Données1!W36)","v":"Ste Ella"},"p",7,null,null,"Entretien Opacimetre"]
[2,{"$f":"NO.SEMAINE(D56,2)-1","v":{"$error":"#NAME?"}},34,"2007-02-02",{"$f":"IF(D56,Données1!W37)","v":"Prés. du Seigneur"},"p",7,null,null,"RADIO CLO",null,null,null,"15:00:00"]
[2,{"$f":"NO.SEMAINE(D57,2)-1","v":{"$error":"#NAME?"}},35,"2007-02-03",{"$f":"IF(D57,Données1!W38)","v":"St Blaise"}]
[2,{"$f":"NO.SEMAINE(D58,2)-1","v":{"$error":"#NAME?"}},36,"2007-02-04",{"$f":"IF(D58,Données1!W39)","v":"Ste Véronique"}]
[]
[2,{"$f":"NO.SEMAINE(D60,2)-1","v":{"$error":"#NAME?"}},37,"2007-02-05",{"$f":"IF(D60,Données1!W40)","v":"Ste Agathe"},"p",7,null,null,"Supervision F. MERLET"]
[{"$f":"MONTH(D61)","v":2},{"$error":"#NAME?"},38,"2007-02-06",{"$f":"IF(D61,Données1!W41)","v":"St Gaston"},"p",7,null,null,"CARDIO",null,null,null,"17:30:00"]
[2,{"$error":"#NAME?"},39,"2007-02-07",{"$f":"IF(D62,Données1!W42)","v":"Ste Eugénie"},"e",7,null,null,"Rumilly"]
[2,{"$error":"#NAME?"},40,"2007-02-08",{"$f":"IF(D63,Données1!W43)","v":"Ste Jacqueline"},"e",7,2,null,"Cordesse  PB informatique"]
[2,{"$error":"#NAME?"},41,"2007-02-09",{"$f":"IF(D64,Données1!W44)","v":"Ste Apolline"},"p",7]
[2,{"$error":"#NAME?"},42,"2007-02-10",{"$f":"IF(D65,Données1!W45)","v":"St Arnaud"}]
[2,{"$error":"#NAME?"},43,"2007-02-11",{"$f":"IF(D66,Données1!W46)","v":"N.-D. de Lourdes"}]
[]
[2,{"$f":"NO.SEMAINE(D68,2)-1","v":{"$error":"#NAME?"}},44,"2007-02-12",{"$f":"IF(D68,Données1!W47)","v":"St Félix"},"e",7,null,null,"Meyhet"]
[{"$f":"MONTH(D69)","v":2},{"$error":"#NAME?"},45,"2007-02-13",{"$f":"IF(D69,Données1!W48)","v":"Ste Béatrice"},"p",7]
[2,{"$error":"#NAME?"},46,"2007-02-14",{"$f":"IF(D70,Données1!W49)","v":"St Valentin"},"e",7,null,null,"Sennecé les Macon "]
[2,{"$error":"#NAME?"},47,"2007-02-15",{"$f":"IF(D71,Données1!W50)","v":"St Claude"},"p",6.5,null,0.5]
[2,{"$error":"#NAME?"},48,"2007-02-16",{"$f":"IF(D72,Données1!W51)","v":"Ste Julienne"},null,null,null,7,"Recup + (location Scenic 259€) ETAIN"]
[2,{"$error":"#NAME?"},49,"2007-02-17",{"$f":"IF(D73,Données1!W52)","v":"St Alexis"},null,null,null,null,"ETAIN"]
[2,{"$error":"#NAME?"},50,"2007-02-18",{"$f":"IF(D74,Données1!W53)","v":"Ste Bernadette"},null,null,null,null,"ETAIN"]
[]
[2,{"$f":"NO.SEMAINE(D76,2)-1","v":{"$error":"#NAME?"}},51,"2007-02-19",{"$f":"IF(D76,Données1!W54)","v":"St Gabin"},"p",7,null,null,"Etalonnage banc freinage"]
[{"$f":"MONTH(D77)","v":2},{"$error":"#NAME?"},52,"2007-02-20",{"$f":"IF(D77,Données1!W55)","v":"Ste Aimée"},"p",7]
[2,{"$error":"#NAME?"},53,"2007-02-21",{"$f":"IF(D78,Données1!W56)","v":"St P. Damien"},"e",7,null,null,"Pouilly en Auxois  Audit qualite",null,null,null,null,"Remy depart de Dijon"]
[2,{"$error":"#NAME?"},54,"2007-02-22",{"$f":"IF(D79,Données1!W57)","v":"Ste Isabelle"},"p",7,null,null,"DENTISTE",null,null,null,"17:00:00"]
[2,{"$error":"#NAME?"},55,"2007-02-23",{"$f":"IF(D80,Données1!W58)","v":"St Lazare"},"p",7]
[2,{"$error":"#NAME?"},56,"2007-02-24",{"$f":"IF(D81,Données1!W59)","v":"St Modeste"}]
[2,{"$error":"#NAME?"},57,"2007-02-25",{"$f":"IF(D82,Données1!W60)","v":"St Roméo"}]
[]
[2,{"$f":"NO.SEMAINE(D84,2)-1","v":{"$error":"#NAME?"}},58,"2007-02-26",{"$f":"IF(D84,Données1!W61)","v":"St Nestor"},"p",7]
[{"$f":"MONTH(D85)","v":2},{"$f":"NO.SEMAINE(D85,2)-1","v":{"$error":"#NAME?"}},59,"2007-02-27",{"$f":"IF(D85,Données1!W62)","v":"St Honorine"},"p",7]
[2,{"$f":"NO.SEMAINE(D86,2)-1","v":{"$error":"#NAME?"}},60,"2007-02-28",{"$f":"IF(D86,Données1!W63)","v":"St Romain"},"e",7,3,null,"Rumilly Pb informatique"]
[null,null,null,null,null,null,{"$f":"SUM(G55:G86)","v":132.5},{"$f":"SUM(H55:H86)","v":5}]
[3,{"$f":"NO.SEMAINE(D88,2)-1","v":{"$error":"#NAME?"}},61,"2007-03-01",{"$f":"IF(D88,Données1!W65)","v":"St Aubin"},"p",7,null,null,"Docteur CLO",null,null,null,"18:00:00"]
[3,{"$f":"NO.SEMAINE(D89,2)-1","v":{"$error":"#NAME?"}},62,"2007-03-02",{"$f":"IF(D89,Données1!W66)","v":"St Charles le Bon"},"p",6,null,1," URGENCE DENTISTE +",null,null,null,"13:00:00"]
[3,{"$f":"NO.SEMAINE(D90,2)-1","v":{"$error":"#NAME?"}},63,"2007-03-03",{"$f":"IF(D90,Données1!W67)","v":"St Gwénolé"},null,null,null,null,"BELFORT"]
[3,{"$f":"NO.SEMAINE(D91,2)-1","v":{"$error":"#NAME?"}},64,"2007-03-04",{"$f":"IF(D91,Données1!W68)","v":"St Casimir"},null,null,null,null,"BELFORT"]
[]
[3,{"$f":"NO.SEMAINE(D93,2)-1","v":{"$error":"#NAME?"}},65,"2007-03-05",{"$f":"IF(D93,Données1!W69)","v":"Ste Olivia"},"p",7,null,null,null,null,null,null,null,"PANNE INTERNET"]
[{"$f":"MONTH(D94)","v":3},{"$error":"#NAME?"},66,"2007-03-06",{"$f":"IF(D94,Données1!W70)","v":"Ste Colette"},"p",7]
[3,{"$error":"#NAME?"},67,"2007-03-07",{"$f":"IF(D95,Données1!W71)","v":"Ste Félicité"},"p",7,null,null,"LETTRE DRIRE"]
[3,{"$error":"#NAME?"},68,"2007-03-08",{"$f":"IF(D96,Données1!W72)","v":"St Jean-de-Dieu"},"p",7,null,null,"DENTISTE",null,null,null,"13:00:00"]
[3,{"$error":"#NAME?"},69,"2007-03-09",{"$f":"IF(D97,Données1!W73)","v":"Ste Françoise R."},"p",7,null,null,"AUDIT QUALITE",null,null,null,null,"INTERNET VERIF (pas venu)"]
[3,{"$error":"#NAME?"},70,"2007-03-10",{"$f":"IF(D98,Données1!W74)","v":"St Vivien"}]
[3,{"$error":"#NAME?"},71,"2007-03-11",{"$f":"IF(D99,Données1!W75)","v":"Ste Rosine"}]
[]
[3,{"$f":"NO.SEMAINE(D101,2)-1","v":{"$error":"#NAME?"}},72,"2007-03-12",{"$f":"IF(D101,Données1!W76)","v":"Ste Justine"},"p",7,null,null,"SIDEF"]
[{"$f":"MONTH(D102)","v":3},{"$error":"#NAME?"},73,"2007-03-13",{"$f":"IF(D102,Données1!W77)","v":"St Rodrigue"},"p",5,null,2,"AUDIT DRIRE",null,null,null,null,"INTERNET VERIF"]
[3,{"$error":"#NAME?"},74,"2007-03-14",{"$f":"IF(D103,Données1!W78)","v":"Ste Mathilde"},"p",7]
[3,{"$error":"#NAME?"},75,"2007-03-15",{"$f":"IF(D104,Données1!W79)","v":"Ste Louise M."},"e",7,3,null,"Cordesse  PB informatique"]
[3,{"$error":"#NAME?"},76,"2007-03-16",{"$f":"IF(D105,Données1!W80)","v":"Ste Bénédicte"},"p",7]
[3,{"$error":"#NAME?"},77,"2007-03-17",{"$f":"IF(D106,Données1!W81)","v":"St Patrice"}]
[3,{"$error":"#NAME?"},78,"2007-03-18",{"$f":"IF(D107,Données1!W82)","v":"St Cyrille"}]
[]
[3,{"$f":"NO.SEMAINE(D109,2)-1","v":{"$error":"#NAME?"}},79,"2007-03-19",{"$f":"IF(D109,Données1!W83)","v":"St Joseph"},"p",7]
[{"$f":"MONTH(D110)","v":3},{"$error":"#NAME?"},80,"2007-03-20",{"$f":"IF(D110,Données1!W84)","v":"Printemps"},"p",7]
[3,{"$error":"#NAME?"},81,"2007-03-21",{"$f":"IF(D111,Données1!W85)","v":"Ste Clémence"},"e",7,null,null,"Pouilly en Auxois  Panne banc de freinage"]
[3,{"$error":"#NAME?"},82,"2007-03-22",{"$f":"IF(D112,Données1!W86)","v":"Ste Léa"},"p",7,null,null,"DENTISTE",null,null,null,"ANNULE"]
[3,{"$error":"#NAME?"},83,"2007-03-23",{"$f":"IF(D113,Données1!W87)","v":"St Victorien"},null,null,null,7,"Recup ETAIN"]
[3,{"$error":"#NAME?"},84,"2007-03-24",{"$f":"IF(D114,Données1!W88)","v":"Ste Catherine"},null,null,null,null,"ETAIN"]
[3,{"$error":"#NAME?"},85,"2007-03-25",{"$f":"IF(D115,Données1!W89)","v":"Annonciation"},null,null,null,null,"ETAIN"]
[]
[3,{"$f":"NO.SEMAINE(D117,2)-1","v":{"$error":"#NAME?"}},86,"2007-03-26",{"$f":"IF(D117,Données1!W90)","v":"Ste Larissa"},"p",7]
[{"$f":"MONTH(D118)","v":3},{"$error":"#NAME?"},87,"2007-03-27",{"$f":"IF(D118,Données1!W91)","v":"St Habib"},"p",7]
[3,{"$error":"#NAME?"},88,"2007-03-28",{"$f":"IF(D119,Données1!W92)","v":"St Gontran"},"p",7]
[3,{"$error":"#NAME?"},89,"2007-03-29",{"$f":"IF(D120,Données1!W93)","v":"Ste Gwladys"},"p",7,null,null,"DENTISTE",null,null,null,"08:00:00"]
[3,{"$error":"#NAME?"},90,"2007-03-30",{"$f":"IF(D121,Données1!W94)","v":"St Amédée"},"p",7]
[3,{"$error":"#NAME?"},91,"2007-03-31",{"$f":"IF(D122,Données1!W95)","v":"St Benjamin"}]
[null,null,null,null,null,null,{"$f":"SUM(G88:G122)","v":144},{"$f":"SUM(H88:H122)","v":3}]
[4,{"$f":"NO.SEMAINE(D124,2)-1","v":{"$error":"#NAME?"}},92,"2007-04-01",{"$f":"IF(D124,Données1!W96)","v":"St Hugues"}]
[]
[4,{"$f":"NO.SEMAINE(D126,2)-1","v":{"$error":"#NAME?"}},93,"2007-04-02",{"$f":"IF(D126,Données1!W97)","v":"Ste Sandrine"},"f",null,null,null,"Maintien Qualif Poitiers"]
[{"$f":"MONTH(D127)","v":4},{"$error":"#NAME?"},94,"2007-04-03",{"$f":"IF(D127,Données1!W98)","v":"St Richard"},"f",null,null,null,"Maintien Qualif Poitiers"]
[4,{"$error":"#NAME?"},95,"2007-04-04",{"$f":"IF(D128,Données1!W99)","v":"St Isidore"},"f",null,null,null,"Maintien Qualif Poitiers"]
[4,{"$error":"#NAME?"},96,"2007-04-05",{"$f":"IF(D129,Données1!W100)","v":"Ste  Irène"},"f",null,null,null,"Maintien Qualif Poitiers"]
[4,{"$error":"#NAME?"},97,"2007-04-06",{"$f":"IF(D130,Données1!W101)","v":"St Marcellin"},null,null,null,7,"Recup"]
[4,{"$error":"#NAME?"},98,"2007-04-07",{"$f":"IF(D131,Données1!W102)","v":"St J.-B. de Salle"}]
[4,{"$error":"#NAME?"},99,"2007-04-08",{"$f":"IF(D132,Données1!W103)","v":"Ste Julie"}]
[]
[4,{"$f":"NO.SEMAINE(D134,2)-1","v":{"$error":"#NAME?"}},100,"2007-04-09",{"$f":"IF(D134,Données1!W104)","v":"St Gautier"},null,null,null,null,"Pâques"]
[{"$f":"MONTH(D135)","v":4},{"$error":"#NAME?"},101,"2007-04-10",{"$f":"IF(D135,Données1!W105)","v":"St Fulbert"},"e",7,null,null,"Meyhet"]
[4,{"$error":"#NAME?"},102,"2007-04-11",{"$f":"IF(D136,Données1!W106)","v":"St Stanislas"},"e",7,null,null,"Pouilly en Auxois  "]
[4,{"$error":"#NAME?"},103,"2007-04-12",{"$f":"IF(D137,Données1!W107)","v":"St Jules"},"p",7]
[4,{"$error":"#NAME?"},104,"2007-04-13",{"$f":"IF(D138,Données1!W108)","v":"Ste Ida"},"p",7]
[4,{"$error":"#NAME?"},105,"2007-04-14",{"$f":"IF(D139,Données1!W109)","v":"St Maxime"}]
[4,{"$error":"#NAME?"},106,"2007-04-15",{"$f":"IF(D140,Données1!W110)","v":"St Paterne"}]
[]
[4,{"$f":"NO.SEMAINE(D142,2)-1","v":{"$error":"#NAME?"}},107,"2007-04-16",{"$f":"IF(D142,Données1!W111)","v":"St Benoît-Joseph"},"p",7]
[{"$f":"MONTH(D143)","v":4},{"$error":"#NAME?"},108,"2007-04-17",{"$f":"IF(D143,Données1!W112)","v":"St Et. Harding"},"p",7]
[4,{"$error":"#NAME?"},109,"2007-04-18",{"$f":"IF(D144,Données1!W113)","v":"St Parfait"},"e",7,null,null,"Sennecé les Macon "]
[4,{"$error":"#NAME?"},110,"2007-04-19",{"$f":"IF(D145,Données1!W114)","v":"Ste Emma"},"e",7,3,null,"Cordesse  "]
[4,{"$error":"#NAME?"},111,"2007-04-20",{"$f":"IF(D146,Données1!W115)","v":"Ste Odette"},"p",7]
[4,{"$error":"#NAME?"},112,"2007-04-21",{"$f":"IF(D147,Données1!W116)","v":"St Anselme"},null,null,null,null,"ETAIN"]
[4,{"$error":"#NAME?"},113,"2007-04-22",{"$f":"IF(D148,Données1!W117)","v":"St Alexandre"},null,null,null,null,"ETAIN"]
[]
[4,{"$f":"NO.SEMAINE(D150,2)-1","v":{"$error":"#NAME?"}},114,"2007-04-23",{"$f":"IF(D150,Données1!W118)","v":"St Georges"},"p",7]
[{"$f":"MONTH(D151)","v":4},{"$error":"#NAME?"},115,"2007-04-24",{"$f":"IF(D151,Données1!W119)","v":"St Fidèle"},"p",7]
[4,{"$error":"#NAME?"},116,"2007-04-25",{"$f":"IF(D152,Données1!W120)","v":"Souvenir Déportés"},"e",7,2,null,"Pouilly en Auxois  "]
[4,{"$error":"#NAME?"},117,"2007-04-26",{"$f":"IF(D153,Données1!W121)","v":"Ste Alida"},"p",7]
[4,{"$error":"#NAME?"},118,"2007-04-27",{"$f":"IF(D154,Données1!W122)","v":"Ste Zita"},"p",7]
[4,{"$error":"#NAME?"},119,"2007-04-28",{"$f":"IF(D155,Données1!W123)","v":"Ste Valérie"}]
[4,{"$error":"#NAME?"},120,"2007-04-29",{"$f":"IF(D156,Données1!W124)","v":"Ste C. de Sienne"}]
[]
[4,{"$f":"NO.SEMAINE(D158,2)-1","v":{"$error":"#NAME?"}},121,"2007-04-30",{"$f":"IF(D158,Données1!W125)","v":"St Robert"},"p",7]
[null,null,null,null,null,null,{"$f":"SUM(G124:G158)","v":105},{"$f":"SUM(H124:H158)","v":5}]
[{"$f":"MONTH(D160)","v":5},{"$f":"NO.SEMAINE(D160,2)-1","v":{"$error":"#NAME?"}},122,"2007-05-01",{"$f":"IF(D160,Données1!W126)","v":"F. du travail"}]
[5,{"$error":"#NAME?"},123,"2007-05-02",{"$f":"IF(D161,Données1!W127)","v":"St Boris"},"e",7,null,null,"Sennecé les Macon "]
[5,{"$error":"#NAME?"},124,"2007-05-03",{"$f":"IF(D162,Données1!W128)","v":"Sts Philippe-Jacques"},"e",7,3,null,"Cordesse  ",null,null,null,null,205,"Moyeu AVD"]
[5,{"$error":"#NAME?"},125,"2007-05-04",{"$f":"IF(D163,Données1!W129)","v":"St Sylvain"},"p",7]
[5,{"$error":"#NAME?"},126,"2007-05-05",{"$f":"IF(D164,Données1!W130)","v":"Ste Judith"}]
[5,{"$error":"#NAME?"},127,"2007-05-06",{"$f":"IF(D165,Données1!W131)","v":"Ste Prudence"},null,null,null,null,"VETO"]
[]
[5,{"$f":"NO.SEMAINE(D167,2)-1","v":{"$error":"#NAME?"}},128,"2007-05-07",{"$f":"IF(D167,Données1!W132)","v":"Ste Gisèle"},"p",6,null,1]
[{"$f":"MONTH(D168)","v":5},{"$error":"#NAME?"},129,"2007-05-08",{"$f":"IF(D168,Données1!W133)","v":"Annivers. 1945"}]
[5,{"$error":"#NAME?"},130,"2007-05-09",{"$f":"IF(D169,Données1!W134)","v":"St Pacôme"},"p",6,null,1]
[5,{"$error":"#NAME?"},131,"2007-05-10",{"$f":"IF(D170,Données1!W135)","v":"Ste Solange"},"p",7]
[5,{"$error":"#NAME?"},132,"2007-05-11",{"$f":"IF(D171,Données1!W136)","v":"Ste Estelle"},"p",7]
[5,{"$error":"#NAME?"},133,"2007-05-12",{"$f":"IF(D172,Données1!W137)","v":"St Achille"},null,null,null,null,"BELFORT"]
[5,{"$error":"#NAME?"},134,"2007-05-13",{"$f":"IF(D173,Données1!W138)","v":"Ste Rolande"},null,null,null,null,"BELFORT"]
[]
[5,{"$f":"NO.SEMAINE(D175,2)-1","v":{"$error":"#NAME?"}},135,"2007-05-14",{"$f":"IF(D175,Données1!W139)","v":"St Matthias"},"p",7]
[{"$f":"MONTH(D176)","v":5},{"$error":"#NAME?"},136,"2007-05-15",{"$f":"IF(D176,Données1!W140)","v":"Ste Denise"},"p",7,null,null,"Villefranche /Saone"]
[5,{"$error":"#NAME?"},137,"2007-05-16",{"$f":"IF(D177,Données1!W141)","v":"St Honoré"},"e",7,3,null,"Rumilly Liaison informatique otc impossible"]
[5,{"$error":"#NAME?"},138,"2007-05-17",{"$f":"IF(D178,Données1!W142)","v":"St Pascal"}]
[5,{"$error":"#NAME?"},139,"2007-05-18",{"$f":"IF(D179,Données1!W143)","v":"St Eric"},"p",7]
[5,{"$error":"#NAME?"},140,"2007-05-19",{"$f":"IF(D180,Données1!W144)","v":"St Yves"},null,null,null,null,"Roland"]
[5,{"$error":"#NAME?"},141,"2007-05-20",{"$f":"IF(D181,Données1!W145)","v":"St Bernardin"}]
[]
[5,{"$f":"NO.SEMAINE(D183,2)-1","v":{"$error":"#NAME?"}},142,"2007-05-21",{"$f":"IF(D183,Données1!W146)","v":"St Constantin"},"p",7]
[{"$f":"MONTH(D184)","v":5},{"$error":"#NAME?"},143,"2007-05-22",{"$f":"IF(D184,Données1!W147)","v":"St Emile"},"p",7]
[5,{"$error":"#NAME?"},144,"2007-05-23",{"$f":"IF(D185,Données1!W148)","v":"St Didier"},"p",7,null,null,"Prefecture",null,null,null,"10:00:00"]
[5,{"$error":"#NAME?"},145,"2007-05-24",{"$f":"IF(D186,Données1!W149)","v":"St Donatien"},"p",7,null,null,"Dentiste",null,null,null,"08:00:00"]
[5,{"$error":"#NAME?"},146,"2007-05-25",{"$f":"IF(D187,Données1!W150)","v":"Ste Sophie"},"p",7]
[5,{"$error":"#NAME?"},147,"2007-05-26",{"$f":"IF(D188,Données1!W151)","v":"St Bérenger"}]
[5,{"$error":"#NAME?"},148,"2007-05-27",{"$f":"IF(D189,Données1!W152)","v":"St Augustin de C."}]
[]
[5,{"$f":"NO.SEMAINE(D191,2)-1","v":{"$error":"#NAME?"}},149,"2007-05-28",{"$f":"IF(D191,Données1!W153)","v":"St Germain"},null,null,null,7]
[{"$f":"MONTH(D192)","v":5},{"$f":"NO.SEMAINE(D192,2)-1","v":{"$error":"#NAME?"}},150,"2007-05-29",{"$f":"IF(D192,Données1!W154)","v":"St Aymar"},"p",7]
[5,{"$f":"NO.SEMAINE(D193,2)-1","v":{"$error":"#NAME?"}},151,"2007-05-30",{"$f":"IF(D193,Données1!W155)","v":"St Ferdinand"},"e",7,null,null,"Sennecé les Macon "]
[5,{"$f":"NO.SEMAINE(D194,2)-1","v":{"$error":"#NAME?"}},152,"2007-05-31",{"$f":"IF(D194,Données1!W156)","v":"V. de la Ste Vierge"},"e",7,null,null,"Cordesse  "]
[null,null,null,null,null,null,{"$f":"SUM(G160:G194)","v":131},{"$f":"SUM(H160:H194)","v":6}]
[6,{"$f":"NO.SEMAINE(D196,2)-1","v":{"$error":"#NAME?"}},153,"2007-06-01",{"$f":"IF(D196,Données1!W157)","v":"St Justin"},null,null,null,7]
[6,{"$f":"NO.SEMAINE(D197,2)-1","v":{"$error":"#NAME?"}},154,"2007-06-02",{"$f":"IF(D197,Données1!W158)","v":"Ste Blandine"}]
[6,{"$f":"NO.SEMAINE(D198,2)-1","v":{"$error":"#NAME?"}},155,"2007-06-03",{"$f":"IF(D198,Données1!W159)","v":"St Kévin"}]
[]
[6,{"$f":"NO.SEMAINE(D200,2)-1","v":{"$error":"#NAME?"}},156,"2007-06-04",{"$f":"IF(D200,Données1!W160)","v":"Ste Clothilde"},"p",7]
[{"$f":"MONTH(D201)","v":6},{"$error":"#NAME?"},157,"2007-06-05",{"$f":"IF(D201,Données1!W161)","v":"St Igor"},"p",7]
[6,{"$error":"#NAME?"},158,"2007-06-06",{"$f":"IF(D202,Données1!W162)","v":"St Norbert"},"p",7]
[6,{"$error":"#NAME?"},159,"2007-06-07",{"$f":"IF(D203,Données1!W163)","v":"St Gilbert"}]
[6,{"$error":"#NAME?"},160,"2007-06-08",{"$f":"IF(D204,Données1!W164)","v":"St Médard"},"e",7,6,null,"Chauffailles"]
[6,{"$error":"#NAME?"},161,"2007-06-09",{"$f":"IF(D205,Données1!W165)","v":"Ste Diane"}]
[6,{"$error":"#NAME?"},162,"2007-06-10",{"$f":"IF(D206,Données1!W166)","v":"St Landry"}]
[]
[6,{"$f":"NO.SEMAINE(D208,2)-1","v":{"$error":"#NAME?"}},163,"2007-06-11",{"$f":"IF(D208,Données1!W167)","v":"St Barnabé"},"f",null,null,null,"Remise à niveau frein"]
[{"$f":"MONTH(D209)","v":6},{"$error":"#NAME?"},164,"2007-06-12",{"$f":"IF(D209,Données1!W168)","v":"St Guy"},"f",null,null,null,"Remise à niveau frein"]
[6,{"$error":"#NAME?"},165,"2007-06-13",{"$f":"IF(D210,Données1!W169)","v":"St A. de Padou"},"f",null,null,null,"Remise à niveau frein"]
[6,{"$error":"#NAME?"},166,"2007-06-14",{"$f":"IF(D211,Données1!W170)","v":"St Elisée"},"f",null,null,null,"Remise à niveau frein"]
[6,{"$error":"#NAME?"},167,"2007-06-15",{"$f":"IF(D212,Données1!W171)","v":"Ste Germaine"},"p",7]
[6,{"$error":"#NAME?"},168,"2007-06-16",{"$f":"IF(D213,Données1!W172)","v":"St J.-F. Régis"}]
[6,{"$error":"#NAME?"},169,"2007-06-17",{"$f":"IF(D214,Données1!W173)","v":"St Hervé"}]
[]
[6,{"$f":"NO.SEMAINE(D216,2)-1","v":{"$error":"#NAME?"}},170,"2007-06-18",{"$f":"IF(D216,Données1!W174)","v":"St Léonce"},"p",7,null,null,"HJ"]
[{"$f":"MONTH(D217)","v":6},{"$error":"#NAME?"},171,"2007-06-19",{"$f":"IF(D217,Données1!W175)","v":"St Romuald"},"p",7,null,null,"VISITE MEDICALE PANNE BANC"]
[6,{"$error":"#NAME?"},172,"2007-06-20",{"$f":"IF(D218,Données1!W176)","v":"St Silvère"},"p",7]
[6,{"$error":"#NAME?"},173,"2007-06-21",{"$f":"IF(D219,Données1!W177)","v":"F. Dieu"},"p",7,null,null,"DRIRE"]
[6,{"$error":"#NAME?"},174,"2007-06-22",{"$f":"IF(D220,Données1!W178)","v":"St Alban"},"p",7]
[6,{"$error":"#NAME?"},175,"2007-06-23",{"$f":"IF(D221,Données1!W179)","v":"Ste Audrey"}]
[6,{"$error":"#NAME?"},176,"2007-06-24",{"$f":"IF(D222,Données1!W180)","v":"St Jean-Baptiste"}]
[]
[6,{"$f":"NO.SEMAINE(D224,2)-1","v":{"$error":"#NAME?"}},177,"2007-06-25",{"$f":"IF(D224,Données1!W181)","v":"St Salomon"},"e",7,null,null,"Meyhet"]
[{"$f":"MONTH(D225)","v":6},{"$error":"#NAME?"},178,"2007-06-26",{"$f":"IF(D225,Données1!W182)","v":"St Anthelme"},"p",7]
[6,{"$error":"#NAME?"},179,"2007-06-27",{"$f":"IF(D226,Données1!W183)","v":"St Fernand"},"p",7]
[6,{"$error":"#NAME?"},180,"2007-06-28",{"$f":"IF(D227,Données1!W184)","v":"St Irénée"},"p",7]
[6,{"$error":"#NAME?"},181,"2007-06-29",{"$f":"IF(D228,Données1!W185)","v":"St Pierre-Paul"},"e",7,6,null,"Chauffailles"]
[6,{"$error":"#NAME?"},182,"2007-06-30",{"$f":"IF(D229,Données1!W186)","v":"St Martial"}]
[null,null,null,null,null,null,{"$f":"SUM(G196:G229)","v":105},{"$f":"SUM(H196:H229)","v":12}]
[7,{"$f":"NO.SEMAINE(D231,2)-1","v":{"$error":"#NAME?"}},183,"2007-07-01",{"$f":"IF(D231,Données1!W187)","v":"St Thierry"}]
[]
[7,{"$f":"NO.SEMAINE(D233,2)-1","v":{"$error":"#NAME?"}},184,"2007-07-02",{"$f":"IF(D233,Données1!W188)","v":"St Martinien"},null,null,null,7]
[{"$f":"MONTH(D234)","v":7},{"$error":"#NAME?"},185,"2007-07-03",{"$f":"IF(D234,Données1!W189)","v":"St Thomas"},"p",7]
[7,{"$error":"#NAME?"},186,"2007-07-04",{"$f":"IF(D235,Données1!W190)","v":"St Florent"},"e",7,null,null,"Rumilly Pas d'informatique"]
[7,{"$error":"#NAME?"},187,"2007-07-05",{"$f":"IF(D236,Données1!W191)","v":"St Antoine"},"p",7]
[7,{"$error":"#NAME?"},188,"2007-07-06",{"$f":"IF(D237,Données1!W192)","v":"Ste Mariette"},"p",7]
[7,{"$error":"#NAME?"},189,"2007-07-07",{"$f":"IF(D238,Données1!W193)","v":"St Raoul"}]
[7,{"$error":"#NAME?"},190,"2007-07-08",{"$f":"IF(D239,Données1!W194)","v":"St Thibaut"}]
[]
[7,{"$f":"NO.SEMAINE(D241,2)-1","v":{"$error":"#NAME?"}},191,"2007-07-09",{"$f":"IF(D241,Données1!W195)","v":"Ste Amandine"},"p",7]
[{"$f":"MONTH(D242)","v":7},{"$error":"#NAME?"},192,"2007-07-10",{"$f":"IF(D242,Données1!W196)","v":"St Ulrich"},"p",7]
[7,{"$error":"#NAME?"},193,"2007-07-11",{"$f":"IF(D243,Données1!W197)","v":"St Benoît"},"p",7]
[7,{"$error":"#NAME?"},194,"2007-07-12",{"$f":"IF(D244,Données1!W198)","v":"St Olivier"},"p",7]
[7,{"$error":"#NAME?"},195,"2007-07-13",{"$f":"IF(D245,Données1!W199)","v":"Sts Henri et Joël"},"p",7]
[7,{"$error":"#NAME?"},196,"2007-07-14",{"$f":"IF(D246,Données1!W200)","v":"Fête nationale"}]
[7,{"$error":"#NAME?"},197,"2007-07-15",{"$f":"IF(D247,Données1!W201)","v":"St Donald"}]
[]
[7,{"$f":"NO.SEMAINE(D249,2)-1","v":{"$error":"#NAME?"}},198,"2007-07-16",{"$f":"IF(D249,Données1!W202)","v":"N.D. Mont Carmel"},"p",7]
[{"$f":"MONTH(D250)","v":7},{"$error":"#NAME?"},199,"2007-07-17",{"$f":"IF(D250,Données1!W203)","v":"Ste Charlotte"},"p",7]
[7,{"$error":"#NAME?"},200,"2007-07-18",{"$f":"IF(D251,Données1!W204)","v":"St Frédéric"},"p",7]
[7,{"$error":"#NAME?"},201,"2007-07-19",{"$f":"IF(D252,Données1!W205)","v":"St Arsène"},"e",7,null,null,"Cordesse"]
[7,{"$error":"#NAME?"},202,"2007-07-20",{"$f":"IF(D253,Données1!W206)","v":"Ste Marina"},"p",7]
[7,{"$error":"#NAME?"},203,"2007-07-21",{"$f":"IF(D254,Données1!W207)","v":"St Victor"}]
[7,{"$error":"#NAME?"},204,"2007-07-22",{"$f":"IF(D255,Données1!W208)","v":"Ste Marie-Madel."}]
[]
[7,{"$f":"NO.SEMAINE(D257,2)-1","v":{"$error":"#NAME?"}},205,"2007-07-23",{"$f":"IF(D257,Données1!W209)","v":"Ste Brigitte"},"p",7]
[{"$f":"MONTH(D258)","v":7},{"$error":"#NAME?"},206,"2007-07-24",{"$f":"IF(D258,Données1!W210)","v":"Ste Christine"},"p",7,null,null,"AZNAR (Q3)"]
[7,{"$error":"#NAME?"},207,"2007-07-25",{"$f":"IF(D259,Données1!W211)","v":"St Jacques"},"p",7]
[7,{"$error":"#NAME?"},208,"2007-07-26",{"$f":"IF(D260,Données1!W212)","v":"Ste Anne"},"e",7,null,null,"Cordesse"]
[7,{"$error":"#NAME?"},209,"2007-07-27",{"$f":"IF(D261,Données1!W213)","v":"Ste Nathalie"},"p",7]
[7,{"$error":"#NAME?"},210,"2007-07-28",{"$f":"IF(D262,Données1!W214)","v":"St Samson"},null,null,null,null,"ETAIN"]
[7,{"$error":"#NAME?"},211,"2007-07-29",{"$f":"IF(D263,Données1!W215)","v":"Ste Marthe"},null,null,null,null,"ETAIN"]
[]
[7,{"$f":"NO.SEMAINE(D265,2)-1","v":{"$error":"#NAME?"}},212,"2007-07-30",{"$f":"IF(D265,Données1!W216)","v":"Ste Juliette"},"p",7]
[{"$f":"MONTH(D266)","v":7},{"$f":"NO.SEMAINE(D266,2)-1","v":{"$error":"#NAME?"}},213,"2007-07-31",{"$f":"IF(D266,Données1!W217)","v":"St Ign. Loyola"},"p",7]
[null,null,null,null,null,null,{"$f":"SUM(G231:G266)","v":147},{"$f":"SUM(H231:H266)","v":0}]
[8,{"$f":"NO.SEMAINE(D268,2)-1","v":{"$error":"#NAME?"}},214,"2007-08-01",{"$f":"IF(D268,Données1!W218)","v":"St Alphonse"},"e",7,null,null,"Rumilly Pas d'informatique"]
[8,{"$f":"NO.SEMAINE(D269,2)-1","v":{"$error":"#NAME?"}},215,"2007-08-02",{"$f":"IF(D269,Données1!W219)","v":"St Julien-Eym."},"p",7]
[8,{"$f":"NO.SEMAINE(D270,2)-1","v":{"$error":"#NAME?"}},216,"2007-08-03",{"$f":"IF(D270,Données1!W220)","v":"Ste Lydie"},"p",7]
[8,{"$f":"NO.SEMAINE(D271,2)-1","v":{"$error":"#NAME?"}},217,"2007-08-04",{"$f":"IF(D271,Données1!W221)","v":"St J.M. Vianney"},null,null,null,null,"BELFORT"]
[8,{"$f":"NO.SEMAINE(D272,2)-1","v":{"$error":"#NAME?"}},218,"2007-08-05",{"$f":"IF(D272,Données1!W222)","v":"St Abel"},null,null,null,null,"BELFORT"]
[]
[8,{"$f":"NO.SEMAINE(D274,2)-1","v":{"$error":"#NAME?"}},219,"2007-08-06",{"$f":"IF(D274,Données1!W223)","v":"Transfiguration"},"p",7]
[{"$f":"MONTH(D275)","v":8},{"$error":"#NAME?"},220,"2007-08-07",{"$f":"IF(D275,Données1!W224)","v":"St Gaëtan"},"p",7]
[8,{"$error":"#NAME?"},221,"2007-08-08",{"$f":"IF(D276,Données1!W225)","v":"St Dominique"},"e",7,null,null,"Scenece"]
[8,{"$error":"#NAME?"},222,"2007-08-09",{"$f":"IF(D277,Données1!W226)","v":"St Amour"},"e",7,2,null,"Cordesse"]
[8,{"$error":"#NAME?"},223,"2007-08-10",{"$f":"IF(D278,Données1!W227)","v":"St Laurent"},"p",7]
[8,{"$error":"#NAME?"},224,"2007-08-11",{"$f":"IF(D279,Données1!W228)","v":"Ste Claire"}]
[8,{"$error":"#NAME?"},225,"2007-08-12",{"$f":"IF(D280,Données1!W229)","v":"Ste Clarisse"}]
[]
[8,{"$f":"NO.SEMAINE(D282,2)-1","v":{"$error":"#NAME?"}},226,"2007-08-13",{"$f":"IF(D282,Données1!W230)","v":"St Hippolyte"},"p",7]
[{"$f":"MONTH(D283)","v":8},{"$error":"#NAME?"},227,"2007-08-14",{"$f":"IF(D283,Données1!W231)","v":"St Evrard"},"p",7]
[8,{"$error":"#NAME?"},228,"2007-08-15",{"$f":"IF(D284,Données1!W232)","v":"Assomption"}]
[8,{"$error":"#NAME?"},229,"2007-08-16",{"$f":"IF(D285,Données1!W233)","v":"St Armel"},"p",7,null,null,"Besançon"]
[8,{"$error":"#NAME?"},230,"2007-08-17",{"$f":"IF(D286,Données1!W234)","v":"St Hyacinthe"},"p",7]
[8,{"$error":"#NAME?"},231,"2007-08-18",{"$f":"IF(D287,Données1!W235)","v":"Ste Hélène"}]
[8,{"$error":"#NAME?"},232,"2007-08-19",{"$f":"IF(D288,Données1!W236)","v":"St Jean Eudes"}]
[]
[8,{"$f":"NO.SEMAINE(D290,2)-1","v":{"$error":"#NAME?"}},233,"2007-08-20",{"$f":"IF(D290,Données1!W237)","v":"St Bernard"},"p",7]
[{"$f":"MONTH(D291)","v":8},{"$error":"#NAME?"},234,"2007-08-21",{"$f":"IF(D291,Données1!W238)","v":"St Christophe"},"p",7]
[8,{"$error":"#NAME?"},235,"2007-08-22",{"$f":"IF(D292,Données1!W239)","v":"St Fabrice"},"p",7,null,null,"Besançon"]
[8,{"$error":"#NAME?"},236,"2007-08-23",{"$f":"IF(D293,Données1!W240)","v":"Ste Rose de Lima"},"e",7,2,null,"Cordesse"]
[8,{"$error":"#NAME?"},237,"2007-08-24",{"$f":"IF(D294,Données1!W241)","v":"St Barthélémy"},"p",7]
[8,{"$error":"#NAME?"},238,"2007-08-25",{"$f":"IF(D295,Données1!W242)","v":"St Louis"}]
[8,{"$error":"#NAME?"},239,"2007-08-26",{"$f":"IF(D296,Données1!W243)","v":"Ste Natacha"}]
[]
[8,{"$f":"NO.SEMAINE(D298,2)-1","v":{"$error":"#NAME?"}},240,"2007-08-27",{"$f":"IF(D298,Données1!W244)","v":"Ste Monique"},"p",7,null,null,"Maintenance Banc"]
[{"$f":"MONTH(D299)","v":8},{"$f":"NO.SEMAINE(D299,2)-1","v":{"$error":"#NAME?"}},241,"2007-08-28",{"$f":"IF(D299,Données1!W245)","v":"St Augustin"},"p",7]
[8,{"$f":"NO.SEMAINE(D300,2)-1","v":{"$error":"#NAME?"}},242,"2007-08-29",{"$f":"IF(D300,Données1!W246)","v":"Ste Sabine"},"p",7,null,null,"Préventif Banc"]
[8,{"$f":"NO.SEMAINE(D301,2)-1","v":{"$error":"#NAME?"}},243,"2007-08-30",{"$f":"IF(D301,Données1!W247)","v":"St Fiacre"},"p",7]
[8,{"$f":"NO.SEMAINE(D302,2)-1","v":{"$error":"#NAME?"}},244,"2007-08-31",{"$f":"IF(D302,Données1!W248)","v":"St Aristide"},"p",7]
[null,null,null,null,null,null,{"$f":"SUM(G268:G302)","v":154},{"$f":"SUM(H268:H302)","v":4}]
[9,{"$f":"NO.SEMAINE(D304,2)-1","v":{"$error":"#NAME?"}},245,"2007-09-01",{"$f":"IF(D304,Données1!W249)","v":"St Gilles"}]
[9,{"$f":"NO.SEMAINE(D305,2)-1","v":{"$error":"#NAME?"}},246,"2007-09-02",{"$f":"IF(D305,Données1!W250)","v":"Ste Ingrid"}]
[]
[9,{"$f":"NO.SEMAINE(D307,2)-1","v":{"$error":"#NAME?"}},247,"2007-09-03",{"$f":"IF(D307,Données1!W251)","v":"St Grégoire"},"p",7]
[{"$f":"MONTH(D308)","v":9},{"$error":"#NAME?"},248,"2007-09-04",{"$f":"IF(D308,Données1!W252)","v":"Ste Rosalie"},"p",7]
[9,{"$error":"#NAME?"},249,"2007-09-05",{"$f":"IF(D309,Données1!W253)","v":"Ste Raïssa"},"e",7,null,null,"Rumilly Pas d'informatique",null,null,null,null,"appel à 08h45"]
[9,{"$error":"#NAME?"},250,"2007-09-06",{"$f":"IF(D310,Données1!W254)","v":"St Bertrand"},"p",7]
[9,{"$error":"#NAME?"},251,"2007-09-07",{"$f":"IF(D311,Données1!W255)","v":"Ste Reine"},"p",7]
[9,{"$error":"#NAME?"},252,"2007-09-08",{"$f":"IF(D312,Données1!W256)","v":"Nativité"},"v",null,null,null,"VACANCES"]
[9,{"$error":"#NAME?"},253,"2007-09-09",{"$f":"IF(D313,Données1!W257)","v":"St Alain"},null,null,null,null,"VACANCES"]
[null,null,null,null,null,null,null,null,null,"VACANCES"]
[9,{"$f":"NO.SEMAINE(D315,2)-1","v":{"$error":"#NAME?"}},254,"2007-09-10",{"$f":"IF(D315,Données1!W258)","v":"Ste Inès"},"V",null,null,null,"VACANCES"]
[{"$f":"MONTH(D316)","v":9},{"$error":"#NAME?"},255,"2007-09-11",{"$f":"IF(D316,Données1!W259)","v":"Ste Adelphe"},"V",null,null,null,"VACANCES"]
[9,{"$error":"#NAME?"},256,"2007-09-12",{"$f":"IF(D317,Données1!W260)","v":"St Apollinaire"},"V",null,null,null,"VACANCES"]
[9,{"$error":"#NAME?"},257,"2007-09-13",{"$f":"IF(D318,Données1!W261)","v":"St Aimé"},"V",null,null,null,"VACANCES"]
[9,{"$error":"#NAME?"},258,"2007-09-14",{"$f":"IF(D319,Données1!W262)","v":"Croix Glorieuse"},"V",null,null,null,"VACANCES"]
[9,{"$error":"#NAME?"},259,"2007-09-15",{"$f":"IF(D320,Données1!W263)","v":"St Roland"},null,null,null,null,"VACANCES"]
[9,{"$error":"#NAME?"},260,"2007-09-16",{"$f":"IF(D321,Données1!W264)","v":"Ste Edith"},null,null,null,null,"VACANCES"]
[null,null,null,null,null,null,null,null,null,"VACANCES"]
[9,{"$f":"NO.SEMAINE(D323,2)-1","v":{"$error":"#NAME?"}},261,"2007-09-17",{"$f":"IF(D323,Données1!W265)","v":"St Renaud"},"V",null,null,null,"VACANCES"]
[{"$f":"MONTH(D324)","v":9},{"$error":"#NAME?"},262,"2007-09-18",{"$f":"IF(D324,Données1!W266)","v":"Ste Nadège"},"V",null,null,null,"VACANCES"]
[9,{"$error":"#NAME?"},263,"2007-09-19",{"$f":"IF(D325,Données1!W267)","v":"Ste Emilie"},"V",null,null,null,"VACANCES"]
[9,{"$error":"#NAME?"},264,"2007-09-20",{"$f":"IF(D326,Données1!W268)","v":"St Davy"},"V",null,null,null,"VACANCES"]
[9,{"$error":"#NAME?"},265,"2007-09-21",{"$f":"IF(D327,Données1!W269)","v":"St Matthieu"},"V",null,null,null,"VACANCES"]
[9,{"$error":"#NAME?"},266,"2007-09-22",{"$f":"IF(D328,Données1!W270)","v":"St Maurice"},null,null,null,null,"VACANCES"]
[9,{"$error":"#NAME?"},267,"2007-09-23",{"$f":"IF(D329,Données1!W271)","v":"St Constant"},null,null,null,null,"VACANCES"]
[null,null,null,null,null,null,null,null,null,"VACANCES"]
[9,{"$f":"NO.SEMAINE(D331,2)-1","v":{"$error":"#NAME?"}},268,"2007-09-24",{"$f":"IF(D331,Données1!W272)","v":"Ste Thècle"},"V",null,null,null,"VACANCES"]
[{"$f":"MONTH(D332)","v":9},{"$error":"#NAME?"},269,"2007-09-25",{"$f":"IF(D332,Données1!W273)","v":"St Herman"},"V",null,null,null,"VACANCES"]
[9,{"$error":"#NAME?"},270,"2007-09-26",{"$f":"IF(D333,Données1!W274)","v":"St Côme-Damien"},"V",null,null,null,"VACANCES"]
[9,{"$error":"#NAME?"},271,"2007-09-27",{"$f":"IF(D334,Données1!W275)","v":"St Vincent de Paul"},"V",null,null,null,"VACANCES"]
[9,{"$error":"#NAME?"},272,"2007-09-28",{"$f":"IF(D335,Données1!W276)","v":"St Venceslas"},"V",null,null,null,"VACANCES"]
[9,{"$error":"#NAME?"},273,"2007-09-29",{"$f":"IF(D336,Données1!W277)","v":"Sts Michel-Gabriel"},null,null,null,null,"VACANCES"]
[9,{"$error":"#NAME?"},274,"2007-09-30",{"$f":"IF(D337,Données1!W278)","v":"St Jérôme"},null,null,null,null,"VACANCES"]
[null,null,null,null,null,null,{"$f":"SUM(G304:G337)","v":35},{"$f":"SUM(H304:H337)","v":0}]
[]
[10,{"$f":"NO.SEMAINE(D340,2)-1","v":{"$error":"#NAME?"}},275,"2007-10-01",{"$f":"IF(D340,Données1!W279)","v":"Ste Thérèse de l'E. J."},"p",7,null,null,"VILLEFRANCHE"]
[{"$f":"MONTH(D341)","v":10},{"$error":"#NAME?"},276,"2007-10-02",{"$f":"IF(D341,Données1!W280)","v":"St Léger"},"e",7,null,null,"LYON AUDIBERT"]
[10,{"$error":"#NAME?"},277,"2007-10-03",{"$f":"IF(D342,Données1!W281)","v":"St Gérard"},"e",7,null,null,"RUMILLY"]
[10,{"$error":"#NAME?"},278,"2007-10-04",{"$f":"IF(D343,Données1!W282)","v":"St Fr. d'Assise"},"e",7,null,null,"LYON VAISE"]
[10,{"$error":"#NAME?"},279,"2007-10-05",{"$f":"IF(D344,Données1!W283)","v":"Ste Fleur"},"p",7,null,null,"VILLEFRANCHE"]
[10,{"$error":"#NAME?"},280,"2007-10-06",{"$f":"IF(D345,Données1!W284)","v":"St Bruno"}]
[10,{"$error":"#NAME?"},281,"2007-10-07",{"$f":"IF(D346,Données1!W285)","v":"St Serge"}]
[]
[10,{"$f":"NO.SEMAINE(D348,2)-1","v":{"$error":"#NAME?"}},282,"2007-10-08",{"$f":"IF(D348,Données1!W286)","v":"Ste Pélagie"},"p",7,null,null,"VILLEFRANCHE"]
[{"$f":"MONTH(D349)","v":10},{"$error":"#NAME?"},283,"2007-10-09",{"$f":"IF(D349,Données1!W287)","v":"St Denis"},"p",7,null,null,"VILLEFRANCHE"]
[10,{"$error":"#NAME?"},284,"2007-10-10",{"$f":"IF(D350,Données1!W288)","v":"St Ghislain"},"e",7,null,null,"RUMILLY ADSL + Audit Paris"]
[10,{"$error":"#NAME?"},285,"2007-10-11",{"$f":"IF(D351,Données1!W289)","v":"St Firmin"},"e",7,null,null,"LYON AUDIBERT"]
[10,{"$error":"#NAME?"},286,"2007-10-12",{"$f":"IF(D352,Données1!W290)","v":"St Wilfrid"},"e",7,null,null,"CHAUFFAILLES"]
[10,{"$error":"#NAME?"},287,"2007-10-13",{"$f":"IF(D353,Données1!W291)","v":"St Géraud"}]
[10,{"$error":"#NAME?"},288,"2007-10-14",{"$f":"IF(D354,Données1!W292)","v":"St Juste"}]
[]
[10,{"$f":"NO.SEMAINE(D356,2)-1","v":{"$error":"#NAME?"}},289,"2007-10-15",{"$f":"IF(D356,Données1!W293)","v":"Ste Thérèse d'A."},"p",7,null,null,"VILLEFRANCHE"]
[{"$f":"MONTH(D357)","v":10},{"$error":"#NAME?"},290,"2007-10-16",{"$f":"IF(D357,Données1!W294)","v":"Ste Edwige"},"p",7]
[10,{"$error":"#NAME?"},291,"2007-10-17",{"$f":"IF(D358,Données1!W295)","v":"St Baudouin"},"e",7,2,null,"RUMILLY "]
[10,{"$error":"#NAME?"},292,"2007-10-18",{"$f":"IF(D359,Données1!W296)","v":"St Luc"},"p",7]
[10,{"$error":"#NAME?"},293,"2007-10-19",{"$f":"IF(D360,Données1!W297)","v":"St René"},"p",7]
[10,{"$error":"#NAME?"},294,"2007-10-20",{"$f":"IF(D361,Données1!W298)","v":"Ste Adeline"}]
[10,{"$error":"#NAME?"},295,"2007-10-21",{"$f":"IF(D362,Données1!W299)","v":"Ste Céline"}]
[]
[10,{"$f":"NO.SEMAINE(D364,2)-1","v":{"$error":"#NAME?"}},296,"2007-10-22",{"$f":"IF(D364,Données1!W300)","v":"Ste Salomé"},"p",7]
[{"$f":"MONTH(D365)","v":10},{"$error":"#NAME?"},297,"2007-10-23",{"$f":"IF(D365,Données1!W301)","v":"St Jean de C."},"p",7]
[10,{"$error":"#NAME?"},298,"2007-10-24",{"$f":"IF(D366,Données1!W302)","v":"St Florentin"},"e",7,null,null,"Scenece"]
[10,{"$error":"#NAME?"},299,"2007-10-25",{"$f":"IF(D367,Données1!W303)","v":"St Enguerran"},"p",7]
[10,{"$error":"#NAME?"},300,"2007-10-26",{"$f":"IF(D368,Données1!W304)","v":"St Dimitri"},"p",7]
[10,{"$error":"#NAME?"},301,"2007-10-27",{"$f":"IF(D369,Données1!W305)","v":"Ste Emeline"}]
[10,{"$error":"#NAME?"},302,"2007-10-28",{"$f":"IF(D370,Données1!W306)","v":"St Simon"}]
[]
[10,{"$f":"NO.SEMAINE(D372,2)-1","v":{"$error":"#NAME?"}},303,"2007-10-29",{"$f":"IF(D372,Données1!W307)","v":"St Narcisse"},"p",7]
[{"$f":"MONTH(D373)","v":10},{"$f":"NO.SEMAINE(D373,2)-1","v":{"$error":"#NAME?"}},304,"2007-10-30",{"$f":"IF(D373,Données1!W308)","v":"Ste Bienvenue"},"p",7]
[10,{"$f":"NO.SEMAINE(D374,2)-1","v":{"$error":"#NAME?"}},305,"2007-10-31",{"$f":"IF(D374,Données1!W309)","v":"St Quentin"},"e",7,2,null,"RUMILLY "]
[null,null,null,null,null,null,{"$f":"SUM(G340:G374)","v":161},{"$f":"SUM(H340:H374)","v":4}]
[11,{"$f":"NO.SEMAINE(D376,2)-1","v":{"$error":"#NAME?"}},306,"2007-11-01",{"$f":"IF(D376,Données1!W310)","v":"Toussaint"}]
[11,{"$f":"NO.SEMAINE(D377,2)-1","v":{"$error":"#NAME?"}},307,"2007-11-02",{"$f":"IF(D377,Données1!W311)","v":"Défunts"},"V",null,null,null,"VACANCES",null,null,null,null,"BELFORT"]
[11,{"$f":"NO.SEMAINE(D378,2)-1","v":{"$error":"#NAME?"}},308,"2007-11-03",{"$f":"IF(D378,Données1!W312)","v":"St Hubert"}]
[11,{"$f":"NO.SEMAINE(D379,2)-1","v":{"$error":"#NAME?"}},309,"2007-11-04",{"$f":"IF(D379,Données1!W313)","v":"St Charles"}]
[]
[11,{"$f":"NO.SEMAINE(D381,2)-1","v":{"$error":"#NAME?"}},310,"2007-11-05",{"$f":"IF(D381,Données1!W314)","v":"Ste Sylvie"},"p",7]
[{"$f":"MONTH(D382)","v":11},{"$error":"#NAME?"},311,"2007-11-06",{"$f":"IF(D382,Données1!W315)","v":"Ste Bertille"},"p",7]
[11,{"$error":"#NAME?"},312,"2007-11-07",{"$f":"IF(D383,Données1!W316)","v":"Ste Carine"},"e",7,null,null,"Scenece"]
[11,{"$error":"#NAME?"},313,"2007-11-08",{"$f":"IF(D384,Données1!W317)","v":"St Geoffroy"},"p",7]
[11,{"$error":"#NAME?"},314,"2007-11-09",{"$f":"IF(D385,Données1!W318)","v":"St Théodore"},"p",7]
[11,{"$error":"#NAME?"},315,"2007-11-10",{"$f":"IF(D386,Données1!W319)","v":"St Léon"}]
[11,{"$error":"#NAME?"},316,"2007-11-11",{"$f":"IF(D387,Données1!W320)","v":"Armistice 1918"}]
[]
[11,{"$f":"NO.SEMAINE(D389,2)-1","v":{"$error":"#NAME?"}},317,"2007-11-12",{"$f":"IF(D389,Données1!W321)","v":"St Christian"},"p",7,null,null,"MQ 2007",null,null,null,null,"SANTA CRUZ"]
[{"$f":"MONTH(D390)","v":11},{"$error":"#NAME?"},318,"2007-11-13",{"$f":"IF(D390,Données1!W322)","v":"St Brice"},"p",7,null,null,"AUDIT QUALITE",null,null,null,null,"MERLET + MAUGUEN"]
[11,{"$error":"#NAME?"},319,"2007-11-14",{"$f":"IF(D391,Données1!W323)","v":"St Sidoine"},"e",7,2,null,"RUMILLY "]
[11,{"$error":"#NAME?"},320,"2007-11-15",{"$f":"IF(D392,Données1!W324)","v":"St Albert"},"e",7,2,null,"Cordesse"]
[11,{"$error":"#NAME?"},321,"2007-11-16",{"$f":"IF(D393,Données1!W325)","v":"Ste Marguerite"},"p",7]
[11,{"$error":"#NAME?"},322,"2007-11-17",{"$f":"IF(D394,Données1!W326)","v":"Ste Elisabeth"}]
[11,{"$error":"#NAME?"},323,"2007-11-18",{"$f":"IF(D395,Données1!W327)","v":"Ste Aude"}]
[]
[11,{"$f":"NO.SEMAINE(D397,2)-1","v":{"$error":"#NAME?"}},324,"2007-11-19",{"$f":"IF(D397,Données1!W328)","v":"St Tanguy"},"p",7]
[{"$f":"MONTH(D398)","v":11},{"$error":"#NAME?"},325,"2007-11-20",{"$f":"IF(D398,Données1!W329)","v":"St Edmond"},"p",7]
[11,{"$error":"#NAME?"},326,"2007-11-21",{"$f":"IF(D399,Données1!W330)","v":"Prés. de Marie"},"e",7,2,null,"RUMILLY "]
[11,{"$error":"#NAME?"},327,"2007-11-22",{"$f":"IF(D400,Données1!W331)","v":"Ste Cécile"},"e",7,2,null,"Cordesse"]
[11,{"$error":"#NAME?"},328,"2007-11-23",{"$f":"IF(D401,Données1!W332)","v":"St Clément"},"p",7]
[11,{"$error":"#NAME?"},329,"2007-11-24",{"$f":"IF(D402,Données1!W333)","v":"Ste Flora"}]
[11,{"$error":"#NAME?"},330,"2007-11-25",{"$f":"IF(D403,Données1!W334)","v":"Ste Catherine L."}]
[]
[11,{"$f":"NO.SEMAINE(D405,2)-1","v":{"$error":"#NAME?"}},331,"2007-11-26",{"$f":"IF(D405,Données1!W335)","v":"Ste Delphine"},null,null,null,null,"Changement Banc"]
[{"$f":"MONTH(D406)","v":11},{"$f":"NO.SEMAINE(D406,2)-1","v":{"$error":"#NAME?"}},332,"2007-11-27",{"$f":"IF(D406,Données1!W336)","v":"St Séverin"},null,null,null,null,"Changement Banc"]
[11,{"$f":"NO.SEMAINE(D407,2)-1","v":{"$error":"#NAME?"}},333,"2007-11-28",{"$f":"IF(D407,Données1!W337)","v":"St Jacques de M."},null,null,null,null,"RUMILLY "]
[11,{"$f":"NO.SEMAINE(D408,2)-1","v":{"$error":"#NAME?"}},334,"2007-11-29",{"$f":"IF(D408,Données1!W338)","v":"St Saturnin"},null,null,null,null,"Changement Banc"]
[11,{"$f":"NO.SEMAINE(D409,2)-1","v":{"$error":"#NAME?"}},335,"2007-11-30",{"$f":"IF(D409,Données1!W339)","v":"St André"},null,null,null,null,"Changement Banc"]
[null,null,null,null,null,null,{"$f":"SUM(G376:G409)","v":105},{"$f":"SUM(H376:H409)","v":8}]
[12,{"$f":"NO.SEMAINE(D411,2)-1","v":{"$error":"#NAME?"}},336,"2007-12-01",{"$f":"IF(D411,Données1!W340)","v":"Ste Florence"}]
[12,{"$f":"NO.SEMAINE(D412,2)-1","v":{"$error":"#NAME?"}},337,"2007-12-02",{"$f":"IF(D412,Données1!W341)","v":"Ste Viviane"}]
[]
[12,{"$f":"NO.SEMAINE(D414,2)-1","v":{"$error":"#NAME?"}},338,"2007-12-03",{"$f":"IF(D414,Données1!W342)","v":"St François Xavier"}]
[{"$f":"MONTH(D415)","v":12},{"$error":"#NAME?"},339,"2007-12-04",{"$f":"IF(D415,Données1!W343)","v":"Ste Barbara"}]
[12,{"$error":"#NAME?"},340,"2007-12-05",{"$f":"IF(D416,Données1!W344)","v":"St Gérald"}]
[12,{"$error":"#NAME?"},341,"2007-12-06",{"$f":"IF(D417,Données1!W345)","v":"St Nicolas"}]
[12,{"$error":"#NAME?"},342,"2007-12-07",{"$f":"IF(D418,Données1!W346)","v":"St Ambroise"}]
[12,{"$error":"#NAME?"},343,"2007-12-08",{"$f":"IF(D419,Données1!W347)","v":"Immac. Conception"}]
[12,{"$error":"#NAME?"},344,"2007-12-09",{"$f":"IF(D420,Données1!W348)","v":"St P. Fourier"}]
[]
[12,{"$f":"NO.SEMAINE(D422,2)-1","v":{"$error":"#NAME?"}},345,"2007-12-10",{"$f":"IF(D422,Données1!W349)","v":"St Romaric"}]
[{"$f":"MONTH(D423)","v":12},{"$error":"#NAME?"},346,"2007-12-11",{"$f":"IF(D423,Données1!W350)","v":"St Daniel"}]
[12,{"$error":"#NAME?"},347,"2007-12-12",{"$f":"IF(D424,Données1!W351)","v":"Ste J.-F. Chantal"}]
[12,{"$error":"#NAME?"},348,"2007-12-13",{"$f":"IF(D425,Données1!W352)","v":"Ste Lucie"}]
[12,{"$error":"#NAME?"},349,"2007-12-14",{"$f":"IF(D426,Données1!W353)","v":"Ste Odile"}]
[12,{"$error":"#NAME?"},350,"2007-12-15",{"$f":"IF(D427,Données1!W354)","v":"Ste Ninon"}]
[12,{"$error":"#NAME?"},351,"2007-12-16",{"$f":"IF(D428,Données1!W355)","v":"Ste Alice"}]
[]
[12,{"$f":"NO.SEMAINE(D430,2)-1","v":{"$error":"#NAME?"}},352,"2007-12-17",{"$f":"IF(D430,Données1!W356)","v":"St Judicaël"}]
[{"$f":"MONTH(D431)","v":12},{"$error":"#NAME?"},353,"2007-12-18",{"$f":"IF(D431,Données1!W357)","v":"St Gatien"}]
[12,{"$error":"#NAME?"},354,"2007-12-19",{"$f":"IF(D432,Données1!W358)","v":"St Urbain"}]
[12,{"$error":"#NAME?"},355,"2007-12-20",{"$f":"IF(D433,Données1!W359)","v":"St Théophile"}]
[12,{"$error":"#NAME?"},356,"2007-12-21",{"$f":"IF(D434,Données1!W360)","v":"St Pierre C."}]
[12,{"$error":"#NAME?"},357,"2007-12-22",{"$f":"IF(D435,Données1!W361)","v":"Ste Franç. Xavière"}]
[12,{"$error":"#NAME?"},358,"2007-12-23",{"$f":"IF(D436,Données1!W362)","v":"St Armand"}]
[]
[12,{"$f":"NO.SEMAINE(D438,2)-1","v":{"$error":"#NAME?"}},359,"2007-12-24",{"$f":"IF(D438,Données1!W363)","v":"Ste Adèle"}]
[{"$f":"MONTH(D439)","v":12},{"$error":"#NAME?"},360,"2007-12-25",{"$f":"IF(D439,Données1!W364)","v":"Noël"}]
[12,{"$error":"#NAME?"},361,"2007-12-26",{"$f":"IF(D440,Données1!W365)","v":"St Etienne"}]
[12,{"$error":"#NAME?"},362,"2007-12-27",{"$f":"IF(D441,Données1!W366)","v":"St Jean"}]
[12,{"$error":"#NAME?"},363,"2007-12-28",{"$f":"IF(D442,Données1!W367)","v":"Sts Innocents"}]
[12,{"$error":"#NAME?"},364,"2007-12-29",{"$f":"IF(D443,Données1!W368)","v":"St David"}]
[12,{"$error":"#NAME?"},365,"2007-12-30",{"$f":"IF(D444,Données1!W369)","v":"St Roger"}]
[]
[12,{"$f":"NO.SEMAINE(D446,2)-1","v":{"$error":"#NAME?"}},366,"2007-12-31",{"$f":"IF(D446,Données1!W370)","v":"St Sylvestre"}]
[null,null,null,null,null,null,{"$f":"SUM(G411:G446)","v":0},{"$f":"SUM(H411:H446)","v":0}]
[null,null,null,null,null,null,null,{"$f":"H54+H87+H123+H159+H195+H230+H267+H303+H338+H375+H410+H447","v":55.5}]

{"sheet":" Rendez-vous","index":3,"n_rows":459,"n_cols":20,"rows_kept":459,"cut":false,"hidden":false,"merged":[[212,9,212,15],[206,9,206,15],[214,9,214,15],[210,9,210,15],[211,9,211,15],[177,9,177,15],[201,9,201,15],[195,9,195,15],[178,9,178,15],[190,9,190,15],[208,9,208,15],[209,9,209,15],[187,9,187,15],[200,9,200,15],[192,9,192,15],[186,9,186,15],[189,9,189,15],[191,9,191,15],[205,9,205,15],[193,9,193,15],[194,9,194,15],[198,9,198,15],[179,9,179,15],[181,9,181,15],[202,9,202,15],[203,9,203,15],[199,9,199,15],[173,9,173,15],[172,9,172,15],[167,9,167,15],[168,9,168,15],[170,9,170,15],[119,9,119,15],[197,9,197,15],[174,9,174,15],[139,9,139,15],[132,9,132,15],[135,9,135,15],[155,9,155,15],[182,9,182,15],[184,9,184,15],[122,9,122,15],[120,9,120,15],[121,9,121,15],[183,9,183,15],[169,9,169,15],[176,9,176,15],[175,9,175,15],[356,9,356,15],[363,9,363,15],[364,9,364,15],[321,9,321,15],[11,7,11,8],[89,9,89,15],[72,9,72,15],[5,7,5,8],[7,7,7,8],[9,7,9,8],[69,9,69,15],[60,9,60,15],[59,9,59,15],[64,9,64,15],[79,9,79,15],[83,9,83,15],[76,9,76,15],[30,9,30,15],[47,9,47,15],[38,9,38,15],[91,9,91,15],[45,9,45,15],[46,9,46,15],[78,9,78,15],[407,9,407,15],[405,9,405,15],[414,9,414,15],[406,9,406,15],[398,9,398,15],[1,9,1,13],[15,7,15,8],[13,7,13,8],[66,9,66,15],[70,9,70,15],[42,9,42,15],[43,9,43,15],[48,9,48,15],[40,9,40,15],[31,9,31,15],[383,9,383,15],[379,9,379,15],[365,9,365,15],[337,9,337,15],[338,9,338,15],[333,9,333,15],[341,9,341,15],[342,9,342,15],[355,9,355,15],[0,14,0,19],[87,9,87,15],[37,9,37,15],[1,16,3,18],[5,14,7,15],[1,14,3,15],[32,9,32,15],[39,9,39,15],[34,9,34,15],[36,9,36,15],[35,9,35,15],[75,9,75,15],[52,9,52,15],[51,9,51,15],[68,9,68,15],[62,9,62,15],[77,9,77,15],[71,9,71,15],[81,9,81,15],[73,9,73,15],[85,9,85,15],[86,9,86,15],[56,9,56,15],[58,9,58,15],[0,3,0,7],[0,8,0,13],[88,9,88,15],[80,9,80,15],[84,9,84,15],[381,9,381,15],[382,9,382,15],[403,9,403,15],[404,9,404,15],[384,9,384,15],[386,9,386,15],[374,9,374,15],[375,9,375,15],[380,9,380,15],[376,9,376,15],[378,9,378,15],[360,9,360,15],[357,9,357,15],[359,9,359,15],[345,9,345,15],[362,9,362,15],[366,9,366,15],[367,9,367,15],[349,9,349,15],[313,9,313,15],[440,9,440,15],[352,9,352,15],[354,9,354,15],[372,9,372,15],[390,9,390,15],[416,9,416,15],[412,9,412,15],[408,9,408,15],[437,9,437,15],[423,9,423,15],[426,9,426,15],[428,9,428,15],[425,9,425,15],[358,9,358,15],[351,9,351,15],[347,9,347,15],[348,9,348,15],[419,9,419,15],[429,9,429,15],[421,9,421,15],[424,9,424,15],[371,9,371,15],[420,9,420,15],[457,9,457,15],[453,9,453,15],[452,9,452,15],[455,9,455,15],[441,9,441,15],[409,9,409,15],[447,9,447,15],[448,9,448,15],[446,9,446,15],[442,9,442,15],[444,9,444,15],[445,9,445,15],[456,9,456,15],[450,9,450,15],[439,9,439,15],[432,9,432,15],[438,9,438,15],[434,9,434,15],[436,9,436,15],[431,9,431,15],[430,9,430,15],[417,9,417,15],[411,9,411,15],[413,9,413,15],[335,9,335,15],[346,9,346,15],[339,9,339,15],[340,9,340,15],[334,9,334,15],[343,9,343,15],[454,9,454,15],[449,9,449,15],[368,9,368,15],[433,9,433,15],[373,9,373,15],[392,9,392,15],[393,9,393,15],[391,9,391,15],[370,9,370,15],[388,9,388,15],[401,9,401,15],[415,9,415,15],[389,9,389,15],[395,9,395,15],[396,9,396,15],[400,9,400,15],[399,9,399,15],[397,9,397,15],[302,9,302,15],[331,9,331,15],[316,9,316,15],[306,9,306,15],[305,9,305,15],[330,9,330,15],[304,9,304,15],[307,9,307,15],[332,9,332,15],[308,9,308,15],[309,9,309,15],[329,9,329,15],[325,9,325,15],[326,9,326,15],[327,9,327,15],[324,9,324,15],[312,9,312,15],[314,9,314,15],[317,9,317,15],[323,9,323,15],[318,9,318,15],[322,9,322,15],[319,9,319,15],[310,9,310,15],[301,9,301,15],[290,9,290,15],[291,9,291,15],[293,9,293,15],[296,9,296,15],[292,9,292,15],[280,9,280,15],[283,9,283,15],[277,9,277,15],[282,9,282,15],[281,9,281,15],[294,9,294,15],[298,9,298,15],[299,9,299,15],[300,9,300,15],[297,9,297,15],[285,9,285,15],[284,9,284,15],[288,9,288,15],[289,9,289,15],[286,9,286,15],[273,9,273,15],[276,9,276,15],[266,9,266,15],[256,9,256,15],[261,9,261,15],[257,9,257,15],[258,9,258,15],[253,9,253,15],[259,9,259,15],[260,9,260,15],[263,9,263,15],[269,9,269,15],[271,9,271,15],[275,9,275,15],[274,9,274,15],[272,9,272,15],[223,9,223,15],[226,9,226,15],[228,9,228,15],[225,9,225,15],[224,9,224,15],[268,9,268,15],[265,9,265,15],[264,9,264,15],[255,9,255,15],[267,9,267,15],[233,9,233,15],[235,9,235,15],[239,9,239,15],[230,9,230,15],[220,9,220,15],[248,9,248,15],[252,9,252,15],[249,9,249,15],[251,9,251,15],[215,9,215,15],[218,9,218,15],[216,9,216,15],[217,9,217,15],[219,9,219,15],[247,9,247,15],[245,9,245,15],[244,9,244,15],[250,9,250,15],[232,9,232,15],[231,9,231,15],[227,9,227,15],[243,9,243,15],[238,9,238,15],[240,9,240,15],[234,9,234,15],[236,9,236,15],[241,9,241,15],[222,9,222,15],[185,9,185,15],[163,9,163,15],[113,9,113,15],[114,9,114,15],[116,9,116,15],[117,9,117,15],[118,9,118,15],[126,9,126,15],[157,9,157,15],[141,9,141,15],[124,9,124,15],[142,9,142,15],[147,9,147,15],[144,9,144,15],[145,9,145,15],[165,9,165,15],[151,9,151,15],[158,9,158,15],[152,9,152,15],[154,9,154,15],[160,9,160,15],[128,9,128,15],[129,9,129,15],[134,9,134,15],[106,9,106,15],[108,9,108,15],[105,9,105,15],[166,9,166,15],[149,9,149,15],[150,9,150,15],[112,9,112,15],[127,9,127,15],[125,9,125,15],[162,9,162,15],[153,9,153,15],[159,9,159,15],[161,9,161,15],[143,9,143,15],[146,9,146,15],[130,9,130,15],[138,9,138,15],[137,9,137,15],[133,9,133,15],[5,16,7,18],[1,19,3,20],[5,19,7,20],[95,9,95,15],[111,9,111,15],[97,9,97,15],[109,9,109,15],[96,9,96,15],[102,9,102,15],[99,9,99,15],[101,9,101,15],[103,9,103,15],[104,9,104,15],[63,9,63,15],[55,9,55,15],[44,9,44,15],[54,9,54,15],[61,9,61,15],[50,9,50,15],[53,9,53,15],[92,9,92,15],[94,9,94,15],[93,9,93,15],[110,9,110,15]]}
[null,null,null,{"$f":"TODAY()","v":"2013-04-02"},null,null,null,null,{"$f":"VLOOKUP(D1,Fetes!A1:C717,3)","v":"St Roger"},null,null,null,null,null,{"$f":"VLOOKUP(D1,Fetes!A1:B722,2)","v":0}]
[null,null,null,{"$f":"COUNTIF(F$32:F$458,\"p\")","v":32},"Présent","p",null,null,null,"Heures/mois",null,null,null,null,"% AUXILIAIRE",null,"KM prévisionnel",null,null,"KM parcouru"]
[null,null,null,null,null,null,null,null,null,"temps",null,"temps"]
[null,null,null,{"$f":"COUNTIF(F$32:F$458,\"e\")","v":9},"Extérieur","e",null,null,null,"centre","centre +auxiliaire",null,"centre","centre +auxiliaire"]
[null,null,null,null,null,null,null,null,null,"temps"]
[null,null,null,{"$f":"COUNTIF(F32:F458,\"sp\")","v":9},"Extérieur SP","sp",null,"JANVIER",null,{"$f":"DSUM($A$31:$G$458,J5,Données1!A3:B3)","v":{"$error":"#VALUE!"}},{"$f":"H68+G68","v":6.6041666666666687},"JUILLET",{"$f":"DSUM($A$31:$G$458,L3,Données1!A14:B15)","v":0},{"$f":"G279+H279","v":0},{"$f":"(D4)/(D2+D4+D6)*100","v":18},null,{"$f":"S459","v":{"$error":"#N/A"}},null,null,{"$f":"R459","v":{"$error":"#N/A"}}]
[null,null,null,null,null,null,null,null,null,"temps",{"$f":"H69+G69","v":0.41666666666666669},null,"temps"]
[null,null,null,{"$f":"H460-I460","v":0},"Heures restantes à récupérer",null,null,"FEVRIER",null,{"$f":"DSUM($A$31:$G$458,J7,Données1!A4:B5)","v":2.9166666666666665},{"$f":"H101+G101","v":7.5972222222222241},"AOUT",{"$f":"DSUM($A$31:$G$458,M7,Données1!A16:B17)","v":0},{"$f":"G316+H316","v":0}]
[null,null,null,null,null,null,null,null,null,"temps",{"$f":"G145+H145","v":0},null,"temps"]
[null,null,null,{"$f":"I460","v":0},"Heures récupérées",null,null,"MARS",null,{"$f":"DSUM($A$31:$G$458,J9,Données1!A6:B7)","v":1.7500000000000002},{"$f":"G137+H137","v":2.9513888888888888},"SEPTEMBRE",{"$f":"DSUM($A$31:$G$458,M9,Données1!A18:B19)","v":0},{"$f":"G351+H351","v":0}]
[null,null,null,null,null,null,null,null,null,"temps",null,null,"temps"]
[null,null,null,{"$f":"COUNTIF(F$32:F$458,\"f\")","v":0},"Formation",null,null,"AVRIL",null,{"$f":"DSUM($A$31:$G$458,J11,Données1!A8:B9)","v":0},{"$f":"G172+H172","v":0},"OCTOBRE",{"$f":"DSUM($A$31:$G$458,M11,Données1!A20:B21)","v":0},{"$f":"G388+H388","v":0}]
[null,null,null,null,null,null,null,null,null,"temps",null,null,"temps",null,null,null,{"$f":"#REF!","v":{"$error":"#REF!"}}]
[null,null,null,{"$f":"26+COUNTIF(F$32:F$272,\"v\")","v":26},"Vacances 08-09","v",null,"MAI",null,{"$f":"DSUM($A$31:$G$458,J13,Données1!A10:B11)","v":0},{"$f":"G208+H208","v":0},"NOVEMBRE",{"$f":"DSUM($A$31:$G$458,M13,Données1!A22:B23)","v":0},{"$f":"G423+H423","v":0}]
[null,null,null,null,null,null,null,null,null,"temps",null,null,"temps"]
[null,null,null,{"$f":"COUNTIF(F$276:F$458,\"v\")","v":0},"Vacances 09-10",null,null,"JUIN",null,{"$f":"DSUM($A$31:$G$458,J15,Données1!A12:B13)","v":0},{"$f":"G243+H243","v":0},"DECEMBRE",{"$f":"DSUM($A$31:$G$458,M15,Données1!A24:B25)","v":0},{"$f":"G459+H459","v":0}]
[null,null,null,{"$f":"COUNTIF(F$32:F$458,\"M\")","v":1},"Maladie","m"]
[null,null,null,null,"Audibert"]
[null,null,null,null,"Belley"]
[null,null,null,null,"Besançon"]
[null,null,null,null,"Chauffailles"]
[null,null,null,null,"Cordesse"]
[null,null,null,null,"Fains les Montbard"]
[null,null,null,null,"Les Pins"]
[null,null,null,null,"Meythet"]
[null,null,null,null,"Pouilly en Auxois"]
[null,null,null,null,"Rumilly"]
[null,null,null,null,"Thann"]
[null,null,null,null,"Villefranche"]
[null,null,null,null,"Nul"]
["M","S","J","Date","ville","Pointage","temps","Heure sup","Heures recup","RENDEZ VOUS",null,null,null,null,null,null,null,"KM"]
[{"$f":"MONTH(D32)","v":1},{"$f":"WEEKNUM(D32,2)","v":1},2,"2011-01-01","Nul",null,null,null,null,null,null,null,null,null,null,null,null,{"$f":"IF(F32=\"\",0,S32)","v":0},{"$f":"VLOOKUP(E32,Ville!$A$3:$H$53,2,0)","v":{"$error":"#N/A"}}]
[1,1,3,{"$f":"D32+1","v":"2011-01-02"},"Nul",null,null,null,null,null,null,null,null,null,null,null,null,0,{"$f":"VLOOKUP(E33,Ville!$A$3:$H$53,2,0)","v":{"$error":"#N/A"}}]
[null,null,null,null,"Nul",null,null,null,null,null,null,null,null,null,null,null,null,0]
[1,2,4,{"$f":"D33+1","v":"2011-01-03"},"Meythet","e","07:00:00","04:20:00",null,null,null,null,null,null,null,null,null,{"$f":"IF(F35=\"\",0,S35)","v":298},{"$f":"VLOOKUP(E35,Ville!$A$3:$H$53,2,0)","v":298}]
[1,2,null,{"$f":"D35+1","v":"2011-01-04"},"Nul","p","07:00:00",null,null,null,null,null,null,null,null,null,null,0]
[1,2,5,"2011-01-05","Nul","p","07:00:00",null,null,null,null,null,null,null,null,null,null,{"$error":"#N/A"},{"$f":"VLOOKUP(E37,Ville!$A$3:$H$53,2,0)","v":{"$error":"#N/A"}}]
[1,2,6,"2011-01-06","Nul","p","07:00:00",null,null,null,null,null,null,null,null,null,null,{"$error":"#N/A"},{"$f":"VLOOKUP(E38,Ville!$A$3:$H$53,2,0)","v":{"$error":"#N/A"}}]
[1,2,7,"2011-01-07","Nul","p","07:00:00",null,null,null,null,null,null,null,null,null,null,{"$error":"#N/A"},{"$f":"VLOOKUP(E39,Ville!$A$3:$H$53,2,0)","v":{"$error":"#N/A"}}]
[1,2,null,"2011-01-08","Nul",null,null,null,null,null,null,null,null,null,null,null,null,0,{"$f":"VLOOKUP(E40,Ville!$A$3:$H$53,2,0)","v":{"$error":"#N/A"}}]
[1,2,null,"2011-01-09","Nul",null,null,null,null,null,null,null,null,null,null,null,null,0,{"$f":"VLOOKUP(E41,Ville!$A$3:$H$53,2,0)","v":{"$error":"#N/A"}}]
[null,null,null,null,"Nul",null,null,null,null,null,null,null,null,null,null,null,null,0]
[1,3,8,{"$f":"D41+1","v":"2011-01-10"},"Nul","m","07:00:00",null,null,null,null,null,null,null,null,null,null,{"$error":"#N/A"},{"$f":"VLOOKUP(E43,Ville!$A$3:$H$53,2,0)","v":{"$error":"#N/A"}}]
[1,3,9,"2011-01-11","Nul","p","07:00:00",null,null,null,null,null,null,null,null,null,null,{"$error":"#N/A"},{"$f":"VLOOKUP(E44,Ville!$A$3:$H$53,2,0)","v":{"$error":"#N/A"}}]
[1,2,null,"2011-01-12","Nul","p","07:00:00",null,null,null,null,null,null,null,null,null,null,0]
[1,3,10,"2011-01-13","Nul","p","07:00:00",null,null,null,null,null,null,null,null,null,null,{"$error":"#N/A"},{"$f":"VLOOKUP(E46,Ville!$A$3:$H$53,2,0)","v":{"$error":"#N/A"}}]
[1,3,11,"2011-01-14","Nul","p","07:00:00",null,null,null,null,null,null,null,null,null,null,{"$error":"#N/A"},{"$f":"VLOOKUP(E47,Ville!$A$3:$H$53,2,0)","v":{"$error":"#N/A"}}]
[1,3,null,"2011-01-15","Nul",null,null,null,null,null,null,null,null,null,null,null,null,0,{"$f":"VLOOKUP(E48,Ville!$A$3:$H$53,2,0)","v":{"$error":"#N/A"}}]
[1,3,12,"2011-01-16","Nul",null,null,null,null,null,null,null,null,null,null,null,null,0,{"$f":"VLOOKUP(E49,Ville!$A$3:$H$53,2,0)","v":{"$error":"#N/A"}}]
[null,null,null,null,"Nul",null,null,null,null,null,null,null,null,null,null,null,null,0]
[1,4,13,{"$f":"D49+1","v":"2011-01-17"},"Nul","p","07:00:00",null,null,null,null,null,null,null,null,null,null,{"$error":"#N/A"},{"$f":"VLOOKUP(E51,Ville!$A$3:$H$53,2,0)","v":{"$error":"#N/A"}}]
[1,4,14,"2011-01-18","Nul","p","07:00:00",null,null,null,null,null,null,null,null,null,null,{"$error":"#N/A"},{"$f":"VLOOKUP(E52,Ville!$A$3:$H$53,2,0)","v":{"$error":"#N/A"}}]
[1,4,15,"2011-01-19","sp Besançon","sp","07:00:00","01:50:00",null,null,null,null,null,null,null,null,null,{"$error":"#N/A"},{"$f":"VLOOKUP(E53,Ville!$A$3:$H$53,2,0)","v":{"$error":"#N/A"}}]
[1,4,null,"2011-01-20","Nul","p","07:00:00",null,null,null,null,null,null,null,null,null,null,0]
[1,4,15,"2011-01-21","Nul","p","07:00:00",null,null,null,null,null,null,null,null,null,null,{"$error":"#N/A"},{"$f":"VLOOKUP(E55,Ville!$A$3:$H$53,2,0)","v":{"$error":"#N/A"}}]
[1,4,16,"2011-01-22","Nul",null,null,null,null,null,null,null,null,null,null,null,null,0,{"$f":"VLOOKUP(E56,Ville!$A$3:$H$53,2,0)","v":{"$error":"#N/A"}}]
[1,4,17,"2011-01-23","Nul",null,null,null,null,null,null,null,null,null,null,null,null,0,{"$f":"VLOOKUP(E57,Ville!$A$3:$H$53,2,0)","v":{"$error":"#N/A"}}]
[null,null,null,null,"Nul",null,null,null,null,null,null,null,null,null,null,null,null,0]
[1,5,null,{"$f":"D57+1","v":"2011-01-24"},"Besançon","e","07:00:00","01:20:00",null,null,null,null,null,null,null,null,null,{"$error":"#N/A"},{"$f":"VLOOKUP(E59,Ville!$A$3:$H$53,2,0)","v":{"$error":"#N/A"}}]
[1,5,18,"2011-01-25","Nul","p","07:00:00",null,null,"GAZ",null,null,null,null,null,null,null,{"$error":"#N/A"},{"$f":"VLOOKUP(E60,Ville!$A$3:$H$53,2,0)","v":{"$error":"#N/A"}}]
[1,5,19,"2011-01-26","Thann","e","07:00:00","04:00:00",null,null,null,null,null,null,null,null,null,402,{"$f":"VLOOKUP(E61,Ville!$A$3:$H$53,2,0)","v":402}]
[1,5,20,"2011-01-27","Nul","p","07:00:00",null,null,null,null,null,null,null,null,null,null,{"$error":"#N/A"},{"$f":"VLOOKUP(E62,Ville!$A$3:$H$53,2,0)","v":{"$error":"#N/A"}}]
[1,5,null,"2011-01-28","Nul","p","07:00:00",null,null,null,null,null,null,null,null,null,null,0]
[1,5,21,"2011-01-29","Nul",null,null,null,null,null,null,null,null,null,null,null,null,0,{"$f":"VLOOKUP(E64,Ville!$A$3:$H$53,2,0)","v":{"$error":"#N/A"}}]
[1,5,22,"2011-01-30","Nul",null,null,null,null,null,null,null,null,null,null,null,null,0,{"$f":"VLOOKUP(E65,Ville!$A$3:$H$53,2,0)","v":{"$error":"#N/A"}}]
[1,null,null,null,"Nul",null,null,null,null,null,null,null,null,null,null,null,null,0]
[1,6,22,{"$f":"D65+1","v":"2011-01-31"},"Nul","p","07:00:00",null,null,null,null,null,null,null,null,null,null,{"$error":"#N/A"},{"$f":"VLOOKUP(E67,Ville!$A$3:$H$53,2,0)","v":{"$error":"#N/A"}}]
[null,null,null,null,"Nul",null,{"$f":"SUM(G32:G67)","v":6.1250000000000018},{"$f":"SUM(H32:H67)","v":0.47916666666666663},{"$f":"SUM(I32:I67)","v":0},null,null,null,null,null,null,null,null,0]
[2,6,23,{"$f":"D67+1","v":"2011-02-01"},"sp Villefranche","sp","07:00:00","03:00:00",null,null,null,null,null,null,null,null,null,{"$error":"#N/A"},{"$f":"VLOOKUP(E69,Ville!$A$3:$H$53,2,0)","v":{"$error":"#N/A"}}]
[2,6,null,"2011-02-02","Nul","p","07:00:00",null,null,null,null,null,null,null,null,null,null,{"$error":"#N/A"},{"$f":"VLOOKUP(E70,Ville!$A$3:$H$53,2,0)","v":{"$error":"#N/A"}}]
[2,6,24,"2011-02-03","Sennece les Macons","e","07:00:00","02:00:00",null,null,null,null,null,null,null,null,null,298,{"$f":"VLOOKUP(E71,Ville!$A$3:$H$53,2,0)","v":298}]
[2,6,25,"2011-02-04","Nul","p","07:00:00",null,null,null,null,null,null,null,null,null,null,{"$error":"#N/A"},{"$f":"VLOOKUP(E72,Ville!$A$3:$H$53,2,0)","v":{"$error":"#N/A"}}]
[2,6,null,"2011-02-05","Nul",null,null,null,null,null,null,null,null,null,null,null,null,0]
[2,6,null,"2011-02-06","Nul",null,null,null,null,null,null,null,null,null,null,null,null,0]
[2,null,null,null,"Nul",null,null,null,null,null,null,null,null,null,null,null,null,0]
[2,7,26,{"$f":"D74+1","v":"2011-02-07"},"sp Villefranche","sp","07:00:00","03:00:00",null,null,null,null,null,null,null,null,null,{"$error":"#N/A"},{"$f":"VLOOKUP(E76,Ville!$A$3:$H$53,2,0)","v":{"$error":"#N/A"}}]
[2,7,27,"2011-02-08","Nul","p","07:00:00",null,null,null,null,null,null,null,null,null,null,{"$error":"#N/A"},{"$f":"VLOOKUP(E77,Ville!$A$3:$H$53,2,0)","v":{"$error":"#N/A"}}]
[2,7,28,"2011-02-09","sp Besançon","sp","07:00:00","01:50:00",null,null,null,null,null,null,null,null,null,{"$error":"#N/A"},{"$f":"VLOOKUP(E78,Ville!$A$3:$H$53,2,0)","v":{"$error":"#N/A"}}]
[2,7,29,"2011-02-10","Nul","p","07:00:00",null,null,null,null,null,null,null,null,null,null,{"$error":"#N/A"},{"$f":"VLOOKUP(E79,Ville!$A$3:$H$53,2,0)","v":{"$error":"#N/A"}}]
[2,7,null,"2011-02-11","Montreuil","e","07:00:00","04:00:00",null,null,null,null,null,null,null,null,null,854,{"$f":"VLOOKUP(E80,Ville!$A$3:$H$53,2,0)","v":854}]
[2,7,29,"2011-02-12","Montreuil","e","07:00:00","04:00:00",null,null,null,null,null,null,null,null,null,854,{"$f":"VLOOKUP(E81,Ville!$A$3:$H$53,2,0)","v":854}]
[2,7,null,"2011-02-13","Nul",null,null,null,null,null,null,null,null,null,null,null,null,0,{"$f":"VLOOKUP(E82,Ville!$A$3:$H$53,2,0)","v":{"$error":"#N/A"}}]
[null,null,null,null,"Nul",null,null,null,null,null,null,null,null,null,null,null,null,0,{"$f":"VLOOKUP(E83,Ville!$A$3:$H$53,2,0)","v":{"$error":"#N/A"}}]
[2,8,null,{"$f":"D82+1","v":"2011-02-14"},"Meythet","e","07:00:00","04:20:00",null,null,null,null,null,null,null,null,null,298,{"$f":"VLOOKUP(E84,Ville!$A$3:$H$53,2,0)","v":298}]
[2,8,30,"2011-02-15","Nul","p","07:00:00",null,null,null,null,null,null,null,null,null,null,{"$error":"#N/A"},{"$f":"VLOOKUP(E85,Ville!$A$3:$H$53,2,0)","v":{"$error":"#N/A"}}]
[2,8,31,"2011-02-16","Thann","e","07:00:00","04:00:00",null,null,null,null,null,null,null,null,null,402,{"$f":"VLOOKUP(E86,Ville!$A$3:$H$53,2,0)","v":402}]
[2,8,32,"2011-02-17","Nul","p","07:00:00",null,null,null,null,null,null,null,null,null,null,{"$error":"#N/A"},{"$f":"VLOOKUP(E87,Ville!$A$3:$H$53,2,0)","v":{"$error":"#N/A"}}]
[2,8,33,"2011-02-18","Nul","p","07:00:00",null,null,null,null,null,null,null,null,null,null,{"$error":"#N/A"},{"$f":"VLOOKUP(E88,Ville!$A$3:$H$53,2,0)","v":{"$error":"#N/A"}}]
[2,8,33,"2011-02-19","Nul",null,null,null,null,null,null,null,null,null,null,null,null,0,{"$f":"VLOOKUP(E89,Ville!$A$3:$H$53,2,0)","v":{"$error":"#N/A"}}]
[2,8,34,"2011-02-20","Nul",null,null,null,null,null,null,null,null,null,null,null,null,0,{"$f":"VLOOKUP(E90,Ville!$A$3:$H$53,2,0)","v":{"$error":"#N/A"}}]
[null,null,null,null,"nul",null,null,null,null,null,null,null,null,null,null,null,null,0]
[2,9,35,{"$f":"D90+1","v":"2011-02-21"},"sp Besançon","sp","07:00:00","01:50:00",null,null,null,null,null,null,null,null,null,{"$error":"#N/A"},{"$f":"VLOOKUP(E92,Ville!$A$3:$H$53,2,0)","v":{"$error":"#N/A"}}]
[2,9,null,"2011-02-22","Nul","p","07:00:00",null,null,null,null,null,null,null,null,null,null,0]
[2,9,null,"2011-02-23","sp Villefranche","sp","07:00:00","03:00:00",null,null,null,null,null,null,null,null,null,{"$error":"#N/A"},{"$f":"VLOOKUP(E94,Ville!$A$3:$H$53,2,0)","v":{"$error":"#N/A"}}]
[2,9,null,"2011-02-24","Nul","p","07:00:00",null,null,null,null,null,null,null,null,null,null,{"$error":"#N/A"},{"$f":"VLOOKUP(E95,Ville!$A$3:$H$53,2,0)","v":{"$error":"#N/A"}}]
[{"$f":"MONTH(D96)","v":2},9,36,"2011-02-25","Nul","p","07:00:00",null,null,null,null,null,null,null,null,null,null,{"$f":"IF(F96=\"\",0,S96)","v":{"$error":"#N/A"}},{"$f":"VLOOKUP(E96,Ville!$A$3:$H$53,2,0)","v":{"$error":"#N/A"}}]
[{"$f":"MONTH(D97)","v":2},9,37,"2011-02-26","Nul",null,null,null,null,null,null,null,null,null,null,null,null,0,{"$f":"VLOOKUP(E97,Ville!$A$3:$H$53,2,0)","v":{"$error":"#N/A"}}]
[{"$f":"MONTH(D98)","v":2},9,38,"2011-02-27","Nul",null,null,null,null,null,null,null,null,null,null,null,null,0,{"$f":"VLOOKUP(E98,Ville!$A$3:$H$53,2,0)","v":{"$error":"#N/A"}}]
[null,null,null,null,"Nul",null,null,null,null,null,null,null,null,null,null,null,null,0]
[{"$f":"MONTH(D100)","v":2},10,39,{"$f":"D98+1","v":"2011-02-28"},"Meythet","e","07:00:00","04:20:00",null,null,null,null,null,null,null,null,null,298,{"$f":"VLOOKUP(E100,Ville!$A$3:$H$53,2,0)","v":298}]
[null,null,null,null,"Nul",null,{"$f":"SUM(G69:G100)","v":6.1250000000000018},{"$f":"SUM(H69:H100)","v":1.4722222222222221},{"$f":"SUM(I69:I100)","v":0},null,null,null,null,null,null,null,null,0,{"$f":"VLOOKUP(E101,Ville!$A$3:$H$53,2,0)","v":{"$error":"#N/A"}}]
[{"$f":"MONTH(D102)","v":3},10,40,{"$f":"D100+1","v":"2011-03-01"},"Nul","p","07:00:00",null,null,null,null,null,null,null,null,null,null,{"$error":"#N/A"},{"$f":"VLOOKUP(E102,Ville!$A$3:$H$53,2,0)","v":{"$error":"#N/A"}}]
[3,10,null,"2011-03-02","sp Villefranche","sp","07:00:00","03:00:00",null,null,null,null,null,null,null,null,null,{"$error":"#N/A"},{"$f":"VLOOKUP(E103,Ville!$A$3:$H$53,2,0)","v":{"$error":"#N/A"}}]
[3,10,41,"2011-03-03","Nul","p","07:00:00",null,null,null,null,null,null,null,null,null,null,{"$error":"#N/A"},{"$f":"VLOOKUP(E104,Ville!$A$3:$H$53,2,0)","v":{"$error":"#N/A"}}]
[3,10,null,"2011-03-04","Nul","p","07:00:00",null,null,null,null,null,null,null,null,null,null,{"$error":"#N/A"},{"$f":"VLOOKUP(E105,Ville!$A$3:$H$53,2,0)","v":{"$error":"#N/A"}}]
[3,10,42,"2011-03-05","Nul",null,null,null,null,null,null,null,null,null,null,null,null,0,{"$f":"VLOOKUP(E106,Ville!$A$3:$H$53,2,0)","v":{"$error":"#N/A"}}]
[3,{"$f":"WEEKNUM(D107,2)","v":10},43,"2011-03-06","Nul",null,null,null,null,null,null,null,null,null,null,null,null,0,{"$f":"VLOOKUP(E107,Ville!$A$3:$H$53,2,0)","v":{"$error":"#N/A"}}]
[null,null,null,null,"Nul",null,null,null,null,null,null,null,null,null,null,null,null,0]
[3,11,43,{"$f":"D107+1","v":"2011-03-07"},"sp Villefranche","sp","07:00:00","03:00:00",null,null,null,null,null,null,null,null,null,{"$f":"IF(F109=\"\",0,S109)","v":{"$error":"#N/A"}},{"$f":"VLOOKUP(E109,Ville!$A$3:$H$53,2,0)","v":{"$error":"#N/A"}}]
[3,11,44,{"$f":"D109+1","v":"2011-03-08"},"Nul","p","07:00:00",null,null,null,null,null,null,null,null,null,null,{"$error":"#N/A"},{"$f":"VLOOKUP(E110,Ville!$A$3:$H$53,2,0)","v":{"$error":"#N/A"}}]
[3,11,45,"2011-03-09","sp Besançon","sp","07:00:00","01:50:00",null,null,null,null,null,null,null,null,null,{"$error":"#N/A"},{"$f":"VLOOKUP(E111,Ville!$A$3:$H$53,2,0)","v":{"$error":"#N/A"}}]
[3,11,null,"2011-03-10","Nul","p","07:00:00",null,null,null,null,null,null,null,null,null,null,0]
[3,11,null,"2011-03-11","Nul","p","07:00:00",null,null,null,null,null,null,null,null,null,null,0]
[3,11,46,"2011-03-12","Nul",null,null,null,null,null,null,null,null,null,null,null,null,0,{"$f":"VLOOKUP(E114,Ville!$A$3:$H$53,2,0)","v":{"$error":"#N/A"}}]
[3,11,47,"2011-03-13","Nul",null,null,null,null,null,null,null,null,null,null,null,null,0,{"$f":"VLOOKUP(E115,Ville!$A$3:$H$53,2,0)","v":{"$error":"#N/A"}}]
[null,null,null,null,"Nul",null,null,null,null,null,null,null,null,null,null,null,null,0]
[3,12,null,{"$f":"D115+1","v":"2011-03-14"},"Meythet",null,null,null,null,null,null,null,null,null,null,null,null,0,{"$f":"VLOOKUP(E117,Ville!$A$3:$H$53,2,0)","v":298}]
[3,12,48,"2011-03-15","Nul",null,null,null,null,null,null,null,null,null,null,null,null,0,{"$f":"VLOOKUP(E118,Ville!$A$3:$H$53,2,0)","v":{"$error":"#N/A"}}]
[3,12,49,"2011-03-16","Thann",null,null,null,null,null,null,null,null,null,null,null,null,0,{"$f":"VLOOKUP(E119,Ville!$A$3:$H$53,2,0)","v":402}]
[3,12,50,"2011-03-17","Nul",null,null,null,null,null,null,null,null,null,null,null,null,0,{"$f":"VLOOKUP(E120,Ville!$A$3:$H$53,2,0)","v":{"$error":"#N/A"}}]
[3,12,50,"2011-03-18","Nul",null,null,null,null,null,null,null,null,null,null,null,null,0,{"$f":"VLOOKUP(E121,Ville!$A$3:$H$53,2,0)","v":{"$error":"#N/A"}}]
[3,12,null,"2011-03-19","Nul",null,null,null,null,null,null,null,null,null,null,null,null,0]
[3,12,51,"2011-03-20","Nul",null,null,null,null,null,null,null,null,null,null,null,null,0,{"$f":"VLOOKUP(E123,Ville!$A$3:$H$53,2,0)","v":{"$error":"#N/A"}}]
[null,null,null,null,"Nul",null,null,null,null,null,null,null,null,null,null,null,null,0]
[3,13,52,{"$f":"D123+1","v":"2011-03-21"},"sp Villefranche",null,null,null,null,null,null,null,null,null,null,null,null,0,{"$f":"VLOOKUP(E125,Ville!$A$3:$H$53,2,0)","v":{"$error":"#N/A"}}]
[3,13,null,"2011-03-22","Nul",null,null,null,null,null,null,null,null,null,null,null,null,0,{"$f":"VLOOKUP(E126,Ville!$A$3:$H$53,2,0)","v":{"$error":"#N/A"}}]
[3,13,53,"2011-03-23","sp Villefranche",null,null,null,null,null,null,null,null,null,null,null,null,0,{"$f":"VLOOKUP(E127,Ville!$A$3:$H$53,2,0)","v":{"$error":"#N/A"}}]
[3,13,null,"2011-03-24","Nul",null,null,null,null,null,null,null,null,null,null,null,null,0,{"$f":"VLOOKUP(E128,Ville!$A$3:$H$53,2,0)","v":{"$error":"#N/A"}}]
[3,13,54,"2011-03-25","Nul",null,null,null,null,null,null,null,null,null,null,null,null,0,{"$f":"VLOOKUP(E129,Ville!$A$3:$H$53,2,0)","v":{"$error":"#N/A"}}]
[3,13,55,"2011-03-26","Nul",null,null,null,null,null,null,null,null,null,null,null,null,0,{"$f":"VLOOKUP(E130,Ville!$A$3:$H$53,2,0)","v":{"$error":"#N/A"}}]
[3,13,null,"2011-03-27","Nul",null,null,null,null,null,null,null,null,null,null,null,null,0]
[null,null,null,null,"Nul",null,null,null,null,null,null,null,null,null,null,null,null,0]
[3,14,56,{"$f":"D131+1","v":"2011-03-28"},"sp Villefranche",null,null,null,null,null,null,null,null,null,null,null,null,0,{"$f":"VLOOKUP(E133,Ville!$A$3:$H$53,2,0)","v":{"$error":"#N/A"}}]
[3,14,57,"2011-03-29","Nul",null,null,null,null,null,null,null,null,null,null,null,null,0,{"$f":"VLOOKUP(E134,Ville!$A$3:$H$53,2,0)","v":{"$error":"#N/A"}}]
[3,14,58,"2011-03-30","sp Villefranche",null,null,null,null,null,null,null,null,null,null,null,null,0,{"$f":"VLOOKUP(E135,Ville!$A$3:$H$53,2,0)","v":{"$error":"#N/A"}}]
[3,14,59,"2011-03-31","Nul",null,null,null,null,null,null,null,null,null,null,null,null,0,{"$f":"VLOOKUP(E136,Ville!$A$3:$H$53,2,0)","v":{"$error":"#N/A"}}]
[null,null,null,null,"Nul",null,{"$f":"SUM(G102:G136)","v":2.625},{"$f":"SUM(H102:H136)","v":0.3263888888888889},null,null,null,null,null,null,null,null,null,0]
[{"$f":"MONTH(D138)","v":4},14,58,{"$f":"D136+1","v":"2011-04-01"},"Nul",null,null,null,null,null,null,null,null,null,null,null,null,0,{"$f":"VLOOKUP(E138,Ville!$A$3:$H$53,2,0)","v":{"$error":"#N/A"}}]
[4,14,null,"2011-04-02","Nul",null,null,null,null,null,null,null,null,null,null,null,null,0,{"$f":"VLOOKUP(E139,Ville!$A$3:$H$53,2,0)","v":{"$error":"#N/A"}}]
[4,14,59,"2011-04-03","Nul",null,null,null,null,null,null,null,null,null,null,null,null,0,{"$f":"VLOOKUP(E140,Ville!$A$3:$H$53,2,0)","v":{"$error":"#N/A"}}]
[null,null,null,null,"Nul",null,null,null,null,null,null,null,null,null,null,null,null,0]
[4,15,null,{"$f":"D140+1","v":"2011-04-04"},"Nul",null,null,null,null,null,null,null,null,null,null,null,null,0]
[4,15,60,"2011-04-05","Nul",null,null,null,null,null,null,null,null,null,null,null,null,0,{"$f":"VLOOKUP(E143,Ville!$A$3:$H$53,2,0)","v":{"$error":"#N/A"}}]
[4,15,61,"2011-04-06","Nul",null,null,null,null,null,null,null,null,null,null,null,null,0,{"$f":"VLOOKUP(E144,Ville!$A$3:$H$53,2,0)","v":{"$error":"#N/A"}}]
[4,15,61,"2011-04-07","Nul",null,null,null,null,null,null,null,null,null,null,null,null,0,{"$f":"VLOOKUP(E145,Ville!$A$3:$H$53,2,0)","v":{"$error":"#N/A"}}]
[4,15,62,"2011-04-08","Nul",null,null,null,null,null,null,null,null,null,null,null,null,0,{"$f":"VLOOKUP(E146,Ville!$A$3:$H$53,2,0)","v":{"$error":"#N/A"}}]
[4,15,63,"2011-04-09","Nul",null,null,null,null,null,null,null,null,null,null,null,null,0,{"$f":"VLOOKUP(E147,Ville!$A$3:$H$53,2,0)","v":{"$error":"#N/A"}}]
[4,15,63,"2011-04-10","Nul",null,null,null,null,null,null,null,null,null,null,null,null,0,{"$f":"VLOOKUP(E148,Ville!$A$3:$H$53,2,0)","v":{"$error":"#N/A"}}]
[null,null,null,null,"Nul",null,null,null,null,null,null,null,null,null,null,null,null,0]
[4,16,null,{"$f":"D148+1","v":"2011-04-11"},"Nul",null,null,null,null,null,null,null,null,null,null,null,null,0,{"$f":"VLOOKUP(E150,Ville!$A$3:$H$53,2,0)","v":{"$error":"#N/A"}}]
[4,16,null,"2011-04-12","Nul",null,null,null,null,null,null,null,null,null,null,null,null,0]
[4,16,64,"2011-04-13","Nul",null,null,null,null,null,null,null,null,null,null,null,null,0,{"$f":"VLOOKUP(E152,Ville!$A$3:$H$53,2,0)","v":{"$error":"#N/A"}}]
[4,16,65,"2011-04-14","Nul",null,null,null,null,null,null,null,null,null,null,null,null,0,{"$f":"VLOOKUP(E153,Ville!$A$3:$H$53,2,0)","v":{"$error":"#N/A"}}]
[4,16,66,"2011-04-15","Nul",null,null,null,null,null,null,null,null,null,null,null,null,0,{"$f":"VLOOKUP(E154,Ville!$A$3:$H$53,2,0)","v":{"$error":"#N/A"}}]
[4,16,null,"2011-04-16","Nul",null,null,null,null,null,null,null,null,null,null,null,null,0]
[4,16,67,"2011-04-17","Nul",null,null,null,null,null,null,null,null,null,null,null,null,0,{"$f":"VLOOKUP(E156,Ville!$A$3:$H$53,2,0)","v":{"$error":"#N/A"}}]
[null,null,null,null,"Nul",null,null,null,null,null,null,null,null,null,null,null,null,0]
[4,17,68,{"$f":"D156+1","v":"2011-04-18"},"Nul",null,null,null,null,null,null,null,null,null,null,null,null,0,{"$f":"VLOOKUP(E158,Ville!$A$3:$H$53,2,0)","v":{"$error":"#N/A"}}]
[4,17,69,"2011-04-19","Nul",null,null,null,null,null,null,null,null,null,null,null,null,0,{"$f":"VLOOKUP(E159,Ville!$A$3:$H$53,2,0)","v":{"$error":"#N/A"}}]
[4,17,70,"2011-04-20","Nul",null,null,null,null,null,null,null,null,null,null,null,null,{"$f":"IF(F160=\"\",0,S160)","v":0},{"$f":"VLOOKUP(E160,Ville!$A$3:$H$53,2,0)","v":{"$error":"#N/A"}}]
[4,17,null,"2011-04-21","Nul",null,null,null,null,null,null,null,null,null,null,null,null,0]
[4,17,null,"2011-04-22","Nul",null,null,null,null,null,null,null,null,null,null,null,null,0,{"$f":"VLOOKUP(E162,Ville!$A$3:$H$53,2,0)","v":{"$error":"#N/A"}}]
[{"$f":"MONTH(D163)","v":4},17,70,"2011-04-23","Nul",null,null,null,null,null,null,null,null,null,null,null,null,0,{"$f":"VLOOKUP(E163,Ville!$A$3:$H$53,2,0)","v":{"$error":"#N/A"}}]
[4,17,71,"2011-04-24","Nul",null,null,null,null,null,null,null,null,null,null,null,null,0,{"$f":"VLOOKUP(E164,Ville!$A$3:$H$53,2,0)","v":{"$error":"#N/A"}}]
[null,null,null,null,"Nul",null,null,null,null,null,null,null,null,null,null,null,null,0]
[4,18,72,{"$f":"D164+1","v":"2011-04-25"},"Nul",null,null,null,null,null,null,null,null,null,null,null,null,0,{"$f":"VLOOKUP(E166,Ville!$A$3:$H$53,2,0)","v":{"$error":"#N/A"}}]
[4,18,73,"2011-04-26","Nul",null,null,null,null,null,null,null,null,null,null,null,null,0,{"$f":"VLOOKUP(E167,Ville!$A$3:$H$53,2,0)","v":{"$error":"#N/A"}}]
[4,18,74,"2011-04-27","Nul",null,null,null,null,null,null,null,null,null,null,null,null,0,{"$f":"VLOOKUP(E168,Ville!$A$3:$H$53,2,0)","v":{"$error":"#N/A"}}]
[4,18,75,"2011-04-28","Nul",null,null,null,null,null,null,null,null,null,null,null,null,0,{"$f":"VLOOKUP(E169,Ville!$A$3:$H$53,2,0)","v":{"$error":"#N/A"}}]
[4,18,null,"2011-04-29","Nul",null,null,null,null,null,null,null,null,null,null,null,null,0]
[4,18,76,"2011-04-30","Nul",null,null,null,null,null,null,null,null,null,null,null,null,0,{"$f":"VLOOKUP(E171,Ville!$A$3:$H$53,2,0)","v":{"$error":"#N/A"}}]
[null,null,null,null,"Nul",null,{"$f":"SUM(G138:G171)","v":0},{"$f":"SUM(H138:H171)","v":0},null,null,null,null,null,null,null,null,null,0]
[5,18,null,{"$f":"D171+1","v":"2011-05-01"},"Nul",null,null,null,null,null,null,null,null,null,null,null,null,0,{"$f":"VLOOKUP(E173,Ville!$A$3:$H$53,2,0)","v":{"$error":"#N/A"}}]
[5,19,76,"2011-05-02","Nul",null,null,null,null,null,null,null,null,null,null,null,null,0,{"$f":"VLOOKUP(E174,Ville!$A$3:$H$53,2,0)","v":{"$error":"#N/A"}}]
[5,19,77,"2011-05-03","Nul",null,null,null,null,null,null,null,null,null,null,null,null,0,{"$f":"VLOOKUP(E175,Ville!$A$3:$H$53,2,0)","v":{"$error":"#N/A"}}]
[5,19,null,"2011-05-04","Nul",null,null,null,null,null,null,null,null,null,null,null,null,0,{"$f":"VLOOKUP(E176,Ville!$A$3:$H$53,2,0)","v":{"$error":"#N/A"}}]
[5,19,78,"2011-05-05","Nul",null,null,null,null,null,null,null,null,null,null,null,null,0,{"$f":"VLOOKUP(E177,Ville!$A$3:$H$53,2,0)","v":{"$error":"#N/A"}}]
[5,19,79,"2011-05-06","Nul",null,null,null,null,null,null,null,null,null,null,null,null,0,{"$f":"VLOOKUP(E178,Ville!$A$3:$H$53,2,0)","v":{"$error":"#N/A"}}]
[5,19,null,"2011-05-07","Nul",null,null,null,null,null,null,null,null,null,null,null,null,0]
[5,19,80,"2011-05-08","Nul",null,null,null,null,null,null,null,null,null,null,null,null,0,{"$f":"VLOOKUP(E180,Ville!$A$3:$H$53,2,0)","v":{"$error":"#N/A"}}]
[null,null,null,null,"Nul",null,null,null,null,null,null,null,null,null,null,null,null,0]
[5,{"$f":"WEEKNUM(D182,2)","v":20},81,{"$f":"D180+1","v":"2011-05-09"},"Nul",null,null,null,null,null,null,null,null,null,null,null,null,0,{"$f":"VLOOKUP(E182,Ville!$A$3:$H$53,2,0)","v":{"$error":"#N/A"}}]
[5,20,82,"2011-05-10","Nul",null,null,null,null,null,null,null,null,null,null,null,null,0,{"$f":"VLOOKUP(E183,Ville!$A$3:$H$53,2,0)","v":{"$error":"#N/A"}}]
[5,20,null,{"$f":"D183+1","v":"2011-05-11"},"Nul",null,null,null,null,null,null,null,null,null,null,null,null,0,{"$f":"VLOOKUP(E184,Ville!$A$3:$H$53,2,0)","v":{"$error":"#N/A"}}]
[5,20,83,"2011-05-12","Nul",null,null,null,null,null,null,null,null,null,null,null,null,0,{"$f":"VLOOKUP(E185,Ville!$A$3:$H$53,2,0)","v":{"$error":"#N/A"}}]
[5,20,84,"2011-05-13","Nul",null,null,null,null,null,null,null,null,null,null,null,null,0,{"$f":"VLOOKUP(E186,Ville!$A$3:$H$53,2,0)","v":{"$error":"#N/A"}}]
[5,20,84,"2011-05-14","Nul",null,null,null,null,null,null,null,null,null,null,null,null,0,{"$f":"VLOOKUP(E187,Ville!$A$3:$H$53,2,0)","v":{"$error":"#N/A"}}]
[5,20,null,"2011-05-15","Nul",null,null,null,null,null,null,null,null,null,null,null,null,0]
[null,null,null,null,"Nul",null,null,null,null,null,null,null,null,null,null,null,null,0]
[5,21,85,{"$f":"D188+1","v":"2011-05-16"},"Nul",null,null,null,null,null,null,null,null,null,null,null,null,0,{"$f":"VLOOKUP(E190,Ville!$A$3:$H$53,2,0)","v":{"$error":"#N/A"}}]
[5,21,86,"2011-05-17","Nul",null,null,null,null,null,null,null,null,null,null,null,null,0,{"$f":"VLOOKUP(E191,Ville!$A$3:$H$53,2,0)","v":{"$error":"#N/A"}}]
[5,21,87,"2011-05-18","Nul",null,null,null,null,null,null,null,null,null,null,null,null,0,{"$f":"VLOOKUP(E192,Ville!$A$3:$H$53,2,0)","v":{"$error":"#N/A"}}]
[5,21,88,"2011-05-19","Nul",null,null,null,null,null,null,null,null,null,null,null,null,0,{"$f":"VLOOKUP(E193,Ville!$A$3:$H$53,2,0)","v":{"$error":"#N/A"}}]
[5,21,null,"2011-05-20","Nul",null,null,null,null,null,null,null,null,null,null,null,null,0,{"$f":"VLOOKUP(E194,Ville!$A$3:$H$53,2,0)","v":{"$error":"#N/A"}}]
[5,21,null,"2011-05-21","Nul",null,null,null,null,null,null,null,null,null,null,null,null,0]
[{"$f":"MONTH(D196)","v":5},21,89,"2011-05-22","Nul",null,null,null,null,null,null,null,null,null,null,null,null,0,{"$f":"VLOOKUP(E196,Ville!$A$3:$H$53,2,0)","v":{"$error":"#N/A"}}]
[null,null,null,null,"Nul",null,null,null,null,null,null,null,null,null,null,null,null,0]
[5,22,90,{"$f":"D196+1","v":"2011-05-23"},"Nul",null,null,null,null,null,null,null,null,null,null,null,null,0,{"$f":"VLOOKUP(E198,Ville!$A$3:$H$53,2,0)","v":{"$error":"#N/A"}}]
[5,22,null,"2011-05-24","Nul",null,null,null,null,null,null,null,null,null,null,null,null,0]
[5,22,91,"2011-05-25","Nul",null,null,null,null,null,null,null,null,null,null,null,null,0,{"$f":"VLOOKUP(E200,Ville!$A$3:$H$53,2,0)","v":{"$error":"#N/A"}}]
[5,22,92,"2011-05-26","Nul",null,null,null,null,null,null,null,null,null,null,null,null,0,{"$f":"VLOOKUP(E201,Ville!$A$3:$H$53,2,0)","v":{"$error":"#N/A"}}]
[5,22,93,"2011-05-27","Nul",null,null,null,null,null,null,null,null,null,null,null,null,0,{"$f":"VLOOKUP(E202,Ville!$A$3:$H$53,2,0)","v":{"$error":"#N/A"}}]
[5,22,92,"2011-05-28","Nul",null,null,null,null,null,null,null,null,null,null,null,null,0,{"$f":"VLOOKUP(E203,Ville!$A$3:$H$53,2,0)","v":{"$error":"#N/A"}}]
[5,22,93,"2011-05-29","Nul",null,null,null,null,null,null,null,null,null,null,null,null,0,{"$f":"VLOOKUP(E204,Ville!$A$3:$H$53,2,0)","v":{"$error":"#N/A"}}]
[null,null,null,null,"Nul",null,null,null,null,null,null,null,null,null,null,null,null,0]
[5,23,null,{"$f":"D204+1","v":"2011-05-30"},"Nul",null,null,null,null,null,null,null,null,null,null,null,null,0,{"$f":"VLOOKUP(E206,Ville!$A$3:$H$53,2,0)","v":{"$error":"#N/A"}}]
[5,23,94,"2011-05-31","Nul",null,null,null,null,null,null,null,null,null,null,null,null,0,{"$f":"VLOOKUP(E207,Ville!$A$3:$H$53,2,0)","v":{"$error":"#N/A"}}]
[null,null,null,null,"Nul",null,{"$f":"SUM(G173:G207)","v":0},{"$f":"SUM(H173:H207)","v":0},null,null,null,null,null,null,null,null,null,0]
[6,23,null,{"$f":"D207+1","v":"2011-06-01"},"Nul",null,null,null,null,null,null,null,null,null,null,null,null,0]
[6,23,95,"2011-06-02","Nul",null,null,null,null,null,null,null,null,null,null,null,null,0,{"$f":"VLOOKUP(E210,Ville!$A$3:$H$53,2,0)","v":{"$error":"#N/A"}}]
[6,23,96,"2011-06-03","Nul",null,null,null,null,null,null,null,null,null,null,null,null,0,{"$f":"VLOOKUP(E211,Ville!$A$3:$H$53,2,0)","v":{"$error":"#N/A"}}]
[6,23,97,"2011-06-04","Nul",null,null,null,null,null,null,null,null,null,null,null,null,0,{"$f":"VLOOKUP(E212,Ville!$A$3:$H$53,2,0)","v":{"$error":"#N/A"}}]
[6,23,98,"2011-06-05","Nul",null,null,null,null,null,null,null,null,null,null,null,null,0,{"$f":"VLOOKUP(E213,Ville!$A$3:$H$53,2,0)","v":{"$error":"#N/A"}}]
[null,null,null,null,"Nul",null,null,null,null,null,null,null,null,null,null,null,null,0]
[6,24,98,{"$f":"D213+1","v":"2011-06-06"},"Nul",null,null,null,null,null,null,null,null,null,null,null,null,0,{"$f":"VLOOKUP(E215,Ville!$A$3:$H$53,2,0)","v":{"$error":"#N/A"}}]
[6,24,99,"2011-06-07","Nul",null,null,null,null,null,null,null,null,null,null,null,null,0,{"$f":"VLOOKUP(E216,Ville!$A$3:$H$53,2,0)","v":{"$error":"#N/A"}}]
[6,24,null,"2011-06-08","Nul",null,null,null,null,null,null,null,null,null,null,null,null,0,{"$f":"VLOOKUP(E217,Ville!$A$3:$H$53,2,0)","v":{"$error":"#N/A"}}]
[6,24,null,"2011-06-09","Nul",null,null,null,null,null,null,null,null,null,null,null,null,0]
[6,24,100,"2011-06-10","Nul",null,null,null,null,null,null,null,null,null,null,null,null,0,{"$f":"VLOOKUP(E219,Ville!$A$3:$H$53,2,0)","v":{"$error":"#N/A"}}]
[6,24,101,"2011-06-11","Nul",null,null,null,null,null,null,null,null,null,null,null,null,0,{"$f":"VLOOKUP(E220,Ville!$A$3:$H$53,2,0)","v":{"$error":"#N/A"}}]
[6,24,102,"2011-06-12","Nul",null,null,null,null,null,null,null,null,null,null,null,null,0,{"$f":"VLOOKUP(E221,Ville!$A$3:$H$53,2,0)","v":{"$error":"#N/A"}}]
[null,null,null,null,"Nul",null,null,null,null,null,null,null,null,null,null,null,null,0]
[6,25,103,{"$f":"D221+1","v":"2011-06-13"},"Nul",null,null,null,null,null,null,null,null,null,null,null,null,0,{"$f":"VLOOKUP(E223,Ville!$A$3:$H$53,2,0)","v":{"$error":"#N/A"}}]
[6,25,null,"2011-06-14","Nul",null,null,null,null,null,null,null,null,null,null,null,null,{"$f":"IF(F224=\"\",0,S224)","v":0},{"$f":"VLOOKUP(E224,Ville!$A$3:$H$53,2,0)","v":{"$error":"#N/A"}}]
[6,25,104,"2011-06-15","Nul",null,null,null,null,null,null,null,null,null,null,null,null,0,{"$f":"VLOOKUP(E225,Ville!$A$3:$H$53,2,0)","v":{"$error":"#N/A"}}]
[6,25,105,"2011-06-16","Nul",null,null,null,null,null,null,null,null,null,null,null,null,0,{"$f":"VLOOKUP(E226,Ville!$A$3:$H$53,2,0)","v":{"$error":"#N/A"}}]
[6,25,null,"2011-06-17","Nul",null,null,null,null,null,null,null,null,null,null,null,null,0]
[6,25,105,"2011-06-18","Nul",null,null,null,null,null,null,null,null,null,null,null,null,0,{"$f":"VLOOKUP(E228,Ville!$A$3:$H$53,2,0)","v":{"$error":"#N/A"}}]
[6,25,null,"2011-06-19","Nul",null,null,null,null,null,null,null,null,null,null,null,null,0,{"$f":"VLOOKUP(E229,Ville!$A$3:$H$53,2,0)","v":{"$error":"#N/A"}}]
[null,null,null,null,"Nul",null,null,null,null,null,null,null,null,null,null,null,null,0]
[6,26,106,{"$f":"D229+1","v":"2011-06-20"},"Nul",null,null,null,null,null,null,null,null,null,null,null,null,0,{"$f":"VLOOKUP(E231,Ville!$A$3:$H$53,2,0)","v":{"$error":"#N/A"}}]
[6,26,107,"2011-06-21","Nul",null,null,null,null,null,null,null,null,null,null,null,null,0,{"$f":"VLOOKUP(E232,Ville!$A$3:$H$53,2,0)","v":{"$error":"#N/A"}}]
[6,26,108,"2011-06-22","Nul",null,null,null,null,null,null,null,null,null,null,null,null,0,{"$f":"VLOOKUP(E233,Ville!$A$3:$H$53,2,0)","v":{"$error":"#N/A"}}]
[6,26,109,"2011-06-23","Nul",null,null,null,null,null,null,null,null,null,null,null,null,0,{"$f":"VLOOKUP(E234,Ville!$A$3:$H$53,2,0)","v":{"$error":"#N/A"}}]
[6,26,110,"2011-06-24","Nul",null,null,null,null,null,null,null,null,null,null,null,null,0,{"$f":"VLOOKUP(E235,Ville!$A$3:$H$53,2,0)","v":{"$error":"#N/A"}}]
[6,26,null,"2011-06-25","Nul",null,null,null,null,null,null,null,null,null,null,null,null,0]
[6,26,111,"2011-06-26","Nul",null,null,null,null,null,null,null,null,null,null,null,null,0,{"$f":"VLOOKUP(E237,Ville!$A$3:$H$53,2,0)","v":{"$error":"#N/A"}}]
[null,null,null,null,"Nul",null,null,null,null,null,null,null,null,null,null,null,null,0]
[6,27,null,{"$f":"D237+1","v":"2011-06-27"},"Nul",null,null,null,null,null,null,null,null,null,null,null,null,0]
[{"$f":"MONTH(D240)","v":6},27,112,"2011-06-28","Nul",null,null,null,null,null,null,null,null,null,null,null,null,0,{"$f":"VLOOKUP(E240,Ville!$A$3:$H$53,2,0)","v":{"$error":"#N/A"}}]
[{"$f":"MONTH(D241)","v":6},27,null,"2011-06-29","Nul",null,null,null,null,null,null,null,null,null,null,null,null,0,{"$f":"VLOOKUP(E241,Ville!$A$3:$H$53,2,0)","v":{"$error":"#N/A"}}]
[6,27,112,"2011-06-30","Nul",null,null,null,null,null,null,null,null,null,null,null,null,0,{"$f":"VLOOKUP(E242,Ville!$A$3:$H$53,2,0)","v":{"$error":"#N/A"}}]
[null,null,null,null,"Nul",null,{"$f":"SUM(G209:G242)","v":0},{"$f":"SUM(H209:H242)","v":0},null,null,null,null,null,null,null,null,null,0]
[7,27,113,{"$f":"D242+1","v":"2011-07-01"},"Nul",null,null,null,null,null,null,null,null,null,null,null,null,0,{"$f":"VLOOKUP(E244,Ville!$A$3:$H$53,2,0)","v":{"$error":"#N/A"}}]
[7,27,114,"2011-07-02","Nul",null,null,null,null,null,null,null,null,null,null,null,null,0,{"$f":"VLOOKUP(E245,Ville!$A$3:$H$53,2,0)","v":{"$error":"#N/A"}}]
[7,27,115,"2011-07-03","Nul",null,null,null,null,null,null,null,null,null,null,null,null,0,{"$f":"VLOOKUP(E246,Ville!$A$3:$H$53,2,0)","v":{"$error":"#N/A"}}]
[null,null,null,null,"Nul",null,null,null,null,null,null,null,null,null,null,null,null,0]
[7,28,null,{"$f":"D246+1","v":"2011-07-04"},"Nul",null,null,null,null,null,null,null,null,null,null,null,null,0]
[7,28,116,"2011-07-05","Nul",null,null,null,null,null,null,null,null,null,null,null,null,0,{"$f":"VLOOKUP(E249,Ville!$A$3:$H$53,2,0)","v":{"$error":"#N/A"}}]
[7,28,117,"2011-07-06","Nul",null,null,null,null,null,null,null,null,null,null,null,null,0,{"$f":"VLOOKUP(E250,Ville!$A$3:$H$53,2,0)","v":{"$error":"#N/A"}}]
[7,28,118,"2011-07-07","Nul",null,null,null,null,null,null,null,null,null,null,null,null,0,{"$f":"VLOOKUP(E251,Ville!$A$3:$H$53,2,0)","v":{"$error":"#N/A"}}]
[7,28,null,"2011-07-08","Nul",null,null,null,null,null,null,null,null,null,null,null,null,0,{"$f":"VLOOKUP(E252,Ville!$A$3:$H$53,2,0)","v":{"$error":"#N/A"}}]
[7,28,118,"2011-07-09","Nul",null,null,null,null,null,null,null,null,null,null,null,null,0,{"$f":"VLOOKUP(E253,Ville!$A$3:$H$53,2,0)","v":{"$error":"#N/A"}}]
[7,28,119,"2011-07-10","Nul",null,null,null,null,null,null,null,null,null,null,null,null,0,{"$f":"VLOOKUP(E254,Ville!$A$3:$H$53,2,0)","v":{"$error":"#N/A"}}]
[null,null,null,null,"Nul",null,null,null,null,null,null,null,null,null,null,null,null,0]
[7,29,120,{"$f":"D254+1","v":"2011-07-11"},"Nul",null,null,null,null,null,null,null,null,null,null,null,null,0,{"$f":"VLOOKUP(E256,Ville!$A$3:$H$53,2,0)","v":{"$error":"#N/A"}}]
[7,{"$f":"WEEKNUM(D257,2)","v":29},null,"2011-07-12","Nul",null,null,null,null,null,null,null,null,null,null,null,null,0]
[7,29,121,"2011-07-13","Nul",null,null,null,null,null,null,null,null,null,null,null,null,0,{"$f":"VLOOKUP(E258,Ville!$A$3:$H$53,2,0)","v":{"$error":"#N/A"}}]
[7,29,122,{"$f":"D258+1","v":"2011-07-14"},"Nul",null,null,null,null,null,null,null,null,null,null,null,null,0,{"$f":"VLOOKUP(E259,Ville!$A$3:$H$53,2,0)","v":{"$error":"#N/A"}}]
[7,29,122,"2011-07-15","Nul",null,null,null,null,null,null,null,null,null,null,null,null,0,{"$f":"VLOOKUP(E260,Ville!$A$3:$H$53,2,0)","v":{"$error":"#N/A"}}]
[7,29,123,"2011-07-16","Nul",null,null,null,null,null,null,null,null,null,null,null,null,0,{"$f":"VLOOKUP(E261,Ville!$A$3:$H$53,2,0)","v":{"$error":"#N/A"}}]
[7,29,null,"2011-07-17","Nul",null,null,null,null,null,null,null,null,null,null,null,null,0,{"$f":"VLOOKUP(E262,Ville!$A$3:$H$53,2,0)","v":{"$error":"#N/A"}}]
[null,null,null,null,"Nul",null,null,null,null,null,null,null,null,null,null,null,null,0]
[7,30,124,{"$f":"D262+1","v":"2011-07-18"},"Nul",null,null,null,null,null,null,null,null,null,null,null,null,0,{"$f":"VLOOKUP(E264,Ville!$A$3:$H$53,2,0)","v":{"$error":"#N/A"}}]
[7,30,125,"2011-07-19","Nul",null,null,null,null,null,null,null,null,null,null,null,null,0,{"$f":"VLOOKUP(E265,Ville!$A$3:$H$53,2,0)","v":{"$error":"#N/A"}}]
[7,30,null,"2011-07-20","Nul",null,null,null,null,null,null,null,null,null,null,null,null,0]
[7,30,126,"2011-07-21","Nul",null,null,null,null,null,null,null,null,null,null,null,null,0,{"$f":"VLOOKUP(E267,Ville!$A$3:$H$53,2,0)","v":{"$error":"#N/A"}}]
[7,30,126,"2011-07-22","Nul",null,null,null,null,null,null,null,null,null,null,null,null,0,{"$f":"VLOOKUP(E268,Ville!$A$3:$H$53,2,0)","v":{"$error":"#N/A"}}]
[7,30,127,"2011-07-23","Nul",null,null,null,null,null,null,null,null,null,null,null,null,0,{"$f":"VLOOKUP(E269,Ville!$A$3:$H$53,2,0)","v":{"$error":"#N/A"}}]
[7,30,128,"2011-07-24","Nul",null,null,null,null,null,null,null,null,null,null,null,null,0,{"$f":"VLOOKUP(E270,Ville!$A$3:$H$53,2,0)","v":{"$error":"#N/A"}}]
[null,null,null,null,"Nul",null,null,null,null,null,null,null,null,null,null,null,null,0]
[7,31,129,{"$f":"D270+1","v":"2011-07-25"},"Nul",null,null,null,null,null,null,null,null,null,null,null,null,0,{"$f":"VLOOKUP(E272,Ville!$A$3:$H$53,2,0)","v":{"$error":"#N/A"}}]
[7,31,null,"2011-07-26","Nul",null,null,null,null,null,null,null,null,null,null,null,null,0,{"$f":"VLOOKUP(E273,Ville!$A$3:$H$53,2,0)","v":{"$error":"#N/A"}}]
[7,31,null,"2011-07-27","Nul",null,null,null,null,null,null,null,null,null,null,null,null,0,{"$f":"VLOOKUP(E274,Ville!$A$3:$H$53,2,0)","v":{"$error":"#N/A"}}]
[7,31,null,"2011-07-28","Nul",null,null,null,null,null,null,null,null,null,null,null,null,0]
[7,31,130,"2011-07-29","Nul",null,null,null,null,null,null,null,null,null,null,null,null,0,{"$f":"VLOOKUP(E276,Ville!$A$3:$H$53,2,0)","v":{"$error":"#N/A"}}]
[7,31,131,"2011-07-30","Nul",null,null,null,null,null,null,null,null,null,null,null,null,0,{"$f":"VLOOKUP(E277,Ville!$A$3:$H$53,2,0)","v":{"$error":"#N/A"}}]
[{"$f":"MONTH(D278)","v":7},31,132,"2011-07-31","Nul",null,null,null,null,null,null,null,null,null,null,null,null,0,{"$f":"VLOOKUP(E278,Ville!$A$3:$H$53,2,0)","v":{"$error":"#N/A"}}]
[null,null,null,null,"Nul",null,{"$f":"SUM(G244:G278)","v":0},{"$f":"SUM(H244:H278)","v":0},null,null,null,null,null,null,null,null,null,0]
[null,null,null,null,"Nul",null,null,null,null,null,null,null,null,null,null,null,null,0]
[{"$f":"MONTH(D281)","v":8},32,null,{"$f":"D278+1","v":"2011-08-01"},"Nul",null,null,null,null,null,null,null,null,null,null,null,null,0]
[{"$f":"MONTH(D282)","v":8},32,133,"2011-08-02","Nul",null,null,null,null,null,null,null,null,null,null,null,null,0,{"$f":"VLOOKUP(E282,Ville!$A$3:$H$53,2,0)","v":{"$error":"#N/A"}}]
[{"$f":"MONTH(D283)","v":8},32,133,"2011-08-03","Nul",null,null,null,null,null,null,null,null,null,null,null,null,0,{"$f":"VLOOKUP(E283,Ville!$A$3:$H$53,2,0)","v":{"$error":"#N/A"}}]
[8,32,134,"2011-08-04","Nul",null,null,null,null,null,null,null,null,null,null,null,null,0,{"$f":"VLOOKUP(E284,Ville!$A$3:$H$53,2,0)","v":{"$error":"#N/A"}}]
[8,32,135,"2011-08-05","Nul",null,null,null,null,null,null,null,null,null,null,null,null,0,{"$f":"VLOOKUP(E285,Ville!$A$3:$H$53,2,0)","v":{"$error":"#N/A"}}]
[8,32,null,"2011-08-06","Nul",null,null,null,null,null,null,null,null,null,null,null,null,0]
[8,32,null,"2011-08-07","Nul",null,null,null,null,null,null,null,null,null,null,null,null,0,{"$f":"VLOOKUP(E287,Ville!$A$3:$H$53,2,0)","v":{"$error":"#N/A"}}]
[null,null,null,null,"Nul",null,null,null,null,null,null,null,null,null,null,null,null,{"$f":"IF(F288=\"\",0,S288)","v":0}]
[8,33,136,{"$f":"D287+1","v":"2011-08-08"},"Nul",null,null,null,null,null,null,null,null,null,null,null,null,0,{"$f":"VLOOKUP(E289,Ville!$A$3:$H$53,2,0)","v":{"$error":"#N/A"}}]
[8,33,137,"2011-08-09","Nul",null,null,null,null,null,null,null,null,null,null,null,null,0,{"$f":"VLOOKUP(E290,Ville!$A$3:$H$53,2,0)","v":{"$error":"#N/A"}}]
[8,33,138,"2011-08-10","Nul",null,null,null,null,null,null,null,null,null,null,null,null,0,{"$f":"VLOOKUP(E291,Ville!$A$3:$H$53,2,0)","v":{"$error":"#N/A"}}]
[8,33,139,"2011-08-11","Nul",null,null,null,null,null,null,null,null,null,null,null,null,0,{"$f":"VLOOKUP(E292,Ville!$A$3:$H$53,2,0)","v":{"$error":"#N/A"}}]
[8,33,140,"2011-08-12","Nul",null,null,null,null,null,null,null,null,null,null,null,null,0,{"$f":"VLOOKUP(E293,Ville!$A$3:$H$53,2,0)","v":{"$error":"#N/A"}}]
[8,33,140,"2011-08-13","Nul",null,null,null,null,null,null,null,null,null,null,null,null,0,{"$f":"VLOOKUP(E294,Ville!$A$3:$H$53,2,0)","v":{"$error":"#N/A"}}]
[8,33,null,"2011-08-14","Nul",null,null,null,null,null,null,null,null,null,null,null,null,0]
[null,null,null,null,"Nul",null,null,null,null,null,null,null,null,null,null,null,null,0]
[8,34,141,{"$f":"D295+1","v":"2011-08-15"},"Nul",null,null,null,null,null,null,null,null,null,null,null,null,0,{"$f":"VLOOKUP(E297,Ville!$A$3:$H$53,2,0)","v":{"$error":"#N/A"}}]
[8,34,null,"2011-08-16","Nul",null,null,null,null,null,null,null,null,null,null,null,null,0,{"$f":"VLOOKUP(E298,Ville!$A$3:$H$53,2,0)","v":{"$error":"#N/A"}}]
[8,34,142,"2011-08-17","Nul",null,null,null,null,null,null,null,null,null,null,null,null,0,{"$f":"VLOOKUP(E299,Ville!$A$3:$H$53,2,0)","v":{"$error":"#N/A"}}]
[8,34,143,"2011-08-18","Nul",null,null,null,null,null,null,null,null,null,null,null,null,0,{"$f":"VLOOKUP(E300,Ville!$A$3:$H$53,2,0)","v":{"$error":"#N/A"}}]
[8,34,144,"2011-08-19","Nul",null,null,null,null,null,null,null,null,null,null,null,null,0,{"$f":"VLOOKUP(E301,Ville!$A$3:$H$53,2,0)","v":{"$error":"#N/A"}}]
[8,34,145,"2011-08-20","Nul",null,null,null,null,null,null,null,null,null,null,null,null,0,{"$f":"VLOOKUP(E302,Ville!$A$3:$H$53,2,0)","v":{"$error":"#N/A"}}]
[8,34,146,"2011-08-21","Nul",null,null,null,null,null,null,null,null,null,null,null,null,0,{"$f":"VLOOKUP(E303,Ville!$A$3:$H$53,2,0)","v":{"$error":"#N/A"}}]
[null,null,null,null,"Nul",null,null,null,null,null,null,null,null,null,null,null,null,0]
[8,35,null,{"$f":"D303+1","v":"2011-08-22"},"Nul",null,null,null,null,null,null,null,null,null,null,null,null,0]
[8,35,147,"2011-08-23","Nul",null,null,null,null,null,null,null,null,null,null,null,null,0,{"$f":"VLOOKUP(E306,Ville!$A$3:$H$53,2,0)","v":{"$error":"#N/A"}}]
[8,35,147,"2011-08-24","Nul",null,null,null,null,null,null,null,null,null,null,null,null,0,{"$f":"VLOOKUP(E307,Ville!$A$3:$H$53,2,0)","v":{"$error":"#N/A"}}]
[8,35,null,"2011-08-25","Nul",null,null,null,null,null,null,null,null,null,null,null,null,0,{"$f":"VLOOKUP(E308,Ville!$A$3:$H$53,2,0)","v":{"$error":"#N/A"}}]
[8,35,148,"2011-08-26","Nul",null,null,null,null,null,null,null,null,null,null,null,null,0,{"$f":"VLOOKUP(E309,Ville!$A$3:$H$53,2,0)","v":{"$error":"#N/A"}}]
[8,35,149,"2011-08-27","Nul",null,null,null,null,null,null,null,null,null,null,null,null,0,{"$f":"VLOOKUP(E310,Ville!$A$3:$H$53,2,0)","v":{"$error":"#N/A"}}]
[8,35,150,"2011-08-28","Nul",null,null,null,null,null,null,null,null,null,null,null,null,0,{"$f":"VLOOKUP(E311,Ville!$A$3:$H$53,2,0)","v":{"$error":"#N/A"}}]
[null,null,null,null,"Nul",null,null,null,null,null,null,null,null,null,null,null,null,0]
[8,36,151,{"$f":"D311+1","v":"2011-08-29"},"Nul",null,null,null,null,null,null,null,null,null,null,null,null,0,{"$f":"VLOOKUP(E313,Ville!$A$3:$H$53,2,0)","v":{"$error":"#N/A"}}]
[8,36,null,"2011-08-30","Nul",null,null,null,null,null,null,null,null,null,null,null,null,0]
[8,36,152,"2011-08-31","Nul",null,null,null,null,null,null,null,null,null,null,null,null,0,{"$f":"VLOOKUP(E315,Ville!$A$3:$H$53,2,0)","v":{"$error":"#N/A"}}]
[null,null,null,null,"Nul",null,{"$f":"SUM(G281:G315)","v":0},{"$f":"SUM(H281:H315)","v":0},null,null,null,null,null,null,null,null,null,0]
[9,36,153,{"$f":"D315+1","v":"2011-09-01"},"Nul",null,null,null,null,null,null,null,null,null,null,null,null,0,{"$f":"VLOOKUP(E317,Ville!$A$3:$H$53,2,0)","v":{"$error":"#N/A"}}]
[9,36,153,"2011-09-02","Nul",null,null,null,null,null,null,null,null,null,null,null,null,0,{"$f":"VLOOKUP(E318,Ville!$A$3:$H$53,2,0)","v":{"$error":"#N/A"}}]
[9,36,null,"2011-09-03","Nul",null,null,null,null,null,null,null,null,null,null,null,null,0,{"$f":"VLOOKUP(E319,Ville!$A$3:$H$53,2,0)","v":{"$error":"#N/A"}}]
[9,36,155,"2011-09-04","Nul",null,null,null,null,null,null,null,null,null,null,null,null,0,{"$f":"VLOOKUP(E320,Ville!$A$3:$H$53,2,0)","v":{"$error":"#N/A"}}]
[null,null,null,null,"Nul",null,null,null,null,null,null,null,null,null,null,null,null,0]
[9,37,154,{"$f":"D320+1","v":"2011-09-05"},"Nul",null,null,null,null,null,null,null,null,null,null,null,null,0,{"$f":"VLOOKUP(E322,Ville!$A$3:$H$53,2,0)","v":{"$error":"#N/A"}}]
[9,37,null,"2011-09-06","Nul",null,null,null,null,null,null,null,null,null,null,null,null,0]
[9,37,null,"2011-09-07","Nul",null,null,null,null,null,null,null,null,null,null,null,null,0,{"$f":"VLOOKUP(E324,Ville!$A$3:$H$53,2,0)","v":{"$error":"#N/A"}}]
[{"$f":"MONTH(D325)","v":9},37,null,"2011-09-08","Nul",null,null,null,null,null,null,null,null,null,null,null,null,0]
[{"$f":"MONTH(D326)","v":9},37,155,"2011-09-09","Nul",null,null,null,null,null,null,null,null,null,null,null,null,0,{"$f":"VLOOKUP(E326,Ville!$A$3:$H$53,2,0)","v":{"$error":"#N/A"}}]
[{"$f":"MONTH(D327)","v":9},37,156,"2011-09-10","Nul",null,null,null,null,null,null,null,null,null,null,null,null,0,{"$f":"VLOOKUP(E327,Ville!$A$3:$H$53,2,0)","v":{"$error":"#N/A"}}]
[{"$f":"MONTH(D328)","v":9},37,157,"2011-09-11","Nul",null,null,null,null,null,null,null,null,null,null,null,null,0,{"$f":"VLOOKUP(E328,Ville!$A$3:$H$53,2,0)","v":{"$error":"#N/A"}}]
[null,null,null,null,"Nul",null,null,null,null,null,null,null,null,null,null,null,null,0]
[9,38,158,{"$f":"D328+1","v":"2011-09-12"},"Nul",null,null,null,null,null,null,null,null,null,null,null,null,0,{"$f":"VLOOKUP(E330,Ville!$A$3:$H$53,2,0)","v":{"$error":"#N/A"}}]
[9,38,159,"2011-09-13","Nul",null,null,null,null,null,null,null,null,null,null,null,null,0,{"$f":"VLOOKUP(E331,Ville!$A$3:$H$53,2,0)","v":{"$error":"#N/A"}}]
[9,{"$f":"WEEKNUM(D332,2)","v":38},null,"2011-09-14","Nul",null,null,null,null,null,null,null,null,null,null,null,null,0,{"$f":"VLOOKUP(E332,Ville!$A$3:$H$53,2,0)","v":{"$error":"#N/A"}}]
[9,38,160,"2011-09-15","Nul",null,null,null,null,null,null,null,null,null,null,null,null,0,{"$f":"VLOOKUP(E333,Ville!$A$3:$H$53,2,0)","v":{"$error":"#N/A"}}]
[9,38,null,{"$f":"D333+1","v":"2011-09-16"},"Nul",null,null,null,null,null,null,null,null,null,null,null,null,0]
[9,38,161,"2011-09-17","Nul",null,null,null,null,null,null,null,null,null,null,null,null,0,{"$f":"VLOOKUP(E335,Ville!$A$3:$H$53,2,0)","v":{"$error":"#N/A"}}]
[9,38,161,"2011-09-18","Nul",null,null,null,null,null,null,null,null,null,null,null,null,0,{"$f":"VLOOKUP(E336,Ville!$A$3:$H$53,2,0)","v":{"$error":"#N/A"}}]
[null,null,null,null,"Nul",null,null,null,null,null,null,null,null,null,null,null,null,0]
[9,39,162,{"$f":"D336+1","v":"2011-09-19"},"Nul",null,null,null,null,null,null,null,null,null,null,null,null,0,{"$f":"VLOOKUP(E338,Ville!$A$3:$H$53,2,0)","v":{"$error":"#N/A"}}]
[9,39,163,"2011-09-20","Nul",null,null,null,null,null,null,null,null,null,null,null,null,0,{"$f":"VLOOKUP(E339,Ville!$A$3:$H$53,2,0)","v":{"$error":"#N/A"}}]
[9,39,164,"2011-09-21","Nul",null,null,null,null,null,null,null,null,null,null,null,null,0,{"$f":"VLOOKUP(E340,Ville!$A$3:$H$53,2,0)","v":{"$error":"#N/A"}}]
[9,39,165,"2011-09-22","Nul",null,null,null,null,null,null,null,null,null,null,null,null,0,{"$f":"VLOOKUP(E341,Ville!$A$3:$H$53,2,0)","v":{"$error":"#N/A"}}]
[9,39,null,"2011-09-23","Nul",null,null,null,null,null,null,null,null,null,null,null,null,0,{"$f":"VLOOKUP(E342,Ville!$A$3:$H$53,2,0)","v":{"$error":"#N/A"}}]
[9,39,null,"2011-09-24","Nul",null,null,null,null,null,null,null,null,null,null,null,null,0]
[9,39,166,"2011-09-25","Nul",null,null,null,null,null,null,null,null,null,null,null,null,0,{"$f":"VLOOKUP(E344,Ville!$A$3:$H$53,2,0)","v":{"$error":"#N/A"}}]
[null,null,null,null,"Nul",null,null,null,null,null,null,null,null,null,null,null,null,0]
[9,40,167,{"$f":"D344+1","v":"2011-09-26"},"Nul",null,null,null,null,null,null,null,null,null,null,null,null,0,{"$f":"VLOOKUP(E346,Ville!$A$3:$H$53,2,0)","v":{"$error":"#N/A"}}]
[9,40,168,"2011-09-27","Nul",null,null,null,null,null,null,null,null,null,null,null,null,0,{"$f":"VLOOKUP(E347,Ville!$A$3:$H$53,2,0)","v":{"$error":"#N/A"}}]
[9,40,168,"2011-09-28","Nul",null,null,null,null,null,null,null,null,null,null,null,null,0,{"$f":"VLOOKUP(E348,Ville!$A$3:$H$53,2,0)","v":{"$error":"#N/A"}}]
[9,40,169,"2011-09-29","Nul",null,null,null,null,null,null,null,null,null,null,null,null,0,{"$f":"VLOOKUP(E349,Ville!$A$3:$H$53,2,0)","v":{"$error":"#N/A"}}]
[9,40,170,"2011-09-30","Nul",null,null,null,null,null,null,null,null,null,null,null,null,0,{"$f":"VLOOKUP(E350,Ville!$A$3:$H$53,2,0)","v":{"$error":"#N/A"}}]
[null,null,null,null,"Nul",null,{"$f":"SUM(G317:G350)","v":0},{"$f":"SUM(H317:H350)","v":0},null,null,null,null,null,null,null,null,null,0]
[10,40,171,{"$f":"D350+1","v":"2011-10-01"},"Nul",null,null,null,null,null,null,null,null,null,null,null,null,{"$f":"IF(F352=\"\",0,S352)","v":0},{"$f":"VLOOKUP(E352,Ville!$A$3:$H$53,2,0)","v":{"$error":"#N/A"}}]
[10,40,null,"2011-10-02","Nul",null,null,null,null,null,null,null,null,null,null,null,null,0]
[null,null,null,null,"Nul",null,null,null,null,null,null,null,null,null,null,null,null,0]
[10,41,null,{"$f":"D353+1","v":"2011-10-03"},"Nul",null,null,null,null,null,null,null,null,null,null,null,null,0,{"$f":"VLOOKUP(E355,Ville!$A$3:$H$53,2,0)","v":{"$error":"#N/A"}}]
[10,41,172,"2011-10-04","Nul",null,null,null,null,null,null,null,null,null,null,null,null,0,{"$f":"VLOOKUP(E356,Ville!$A$3:$H$53,2,0)","v":{"$error":"#N/A"}}]
[10,41,173,"2011-10-05","Nul",null,null,null,null,null,null,null,null,null,null,null,null,0,{"$f":"VLOOKUP(E357,Ville!$A$3:$H$53,2,0)","v":{"$error":"#N/A"}}]
[10,41,174,"2011-10-06","Nul",null,null,null,null,null,null,null,null,null,null,null,null,0,{"$f":"VLOOKUP(E358,Ville!$A$3:$H$53,2,0)","v":{"$error":"#N/A"}}]
[10,41,175,"2011-10-07","Nul",null,null,null,null,null,null,null,null,null,null,null,null,0,{"$f":"VLOOKUP(E359,Ville!$A$3:$H$53,2,0)","v":{"$error":"#N/A"}}]
[10,41,175,"2011-10-08","Nul",null,null,null,null,null,null,null,null,null,null,null,null,0,{"$f":"VLOOKUP(E360,Ville!$A$3:$H$53,2,0)","v":{"$error":"#N/A"}}]
[10,41,176,"2011-10-09","Nul",null,null,null,null,null,null,null,null,null,null,null,null,0,{"$f":"VLOOKUP(E361,Ville!$A$3:$H$53,2,0)","v":{"$error":"#N/A"}}]
[null,null,null,null,"Nul",null,null,null,null,null,null,null,null,null,null,null,null,0]
[10,42,177,{"$f":"D361+1","v":"2011-10-10"},"Nul",null,null,null,null,null,null,null,null,null,null,null,null,0,{"$f":"VLOOKUP(E363,Ville!$A$3:$H$53,2,0)","v":{"$error":"#N/A"}}]
[10,{"$f":"WEEKNUM(D364,2)","v":42},null,"2011-10-11","Nul",null,null,null,null,null,null,null,null,null,null,null,null,0,{"$f":"VLOOKUP(E364,Ville!$A$3:$H$53,2,0)","v":{"$error":"#N/A"}}]
[10,{"$f":"WEEKNUM(D365,2)","v":42},null,"2011-10-12","Nul",null,null,null,null,null,null,null,null,null,null,null,null,0]
[10,42,178,"2011-10-13","Nul",null,null,null,null,null,null,null,null,null,null,null,null,0,{"$f":"VLOOKUP(E366,Ville!$A$3:$H$53,2,0)","v":{"$error":"#N/A"}}]
[10,42,179,"2011-10-14","Nul",null,null,null,null,null,null,null,null,null,null,null,null,0,{"$f":"VLOOKUP(E367,Ville!$A$3:$H$53,2,0)","v":{"$error":"#N/A"}}]
[10,42,180,"2011-10-15","Nul",null,null,null,null,null,null,null,null,null,null,null,null,0,{"$f":"VLOOKUP(E368,Ville!$A$3:$H$53,2,0)","v":{"$error":"#N/A"}}]
[10,42,181,"2011-10-16","Nul",null,null,null,null,null,null,null,null,null,null,null,null,0,{"$f":"VLOOKUP(E369,Ville!$A$3:$H$53,2,0)","v":{"$error":"#N/A"}}]
[null,null,null,null,"Nul",null,null,null,null,null,null,null,null,null,null,null,null,0]
[10,43,182,{"$f":"D369+1","v":"2011-10-17"},"Nul",null,null,null,null,null,null,null,null,null,null,null,null,0,{"$f":"VLOOKUP(E371,Ville!$A$3:$H$53,2,0)","v":{"$error":"#N/A"}}]
[10,43,null,"2011-10-18","Nul",null,null,null,null,null,null,null,null,null,null,null,null,0]
[10,43,null,"2011-10-19","Nul",null,null,null,null,null,null,null,null,null,null,null,null,0,{"$f":"VLOOKUP(E373,Ville!$A$3:$H$53,2,0)","v":{"$error":"#N/A"}}]
[10,43,182,"2011-10-20","Nul",null,null,null,null,null,null,null,null,null,null,null,null,0,{"$f":"VLOOKUP(E374,Ville!$A$3:$H$53,2,0)","v":{"$error":"#N/A"}}]
[10,43,182,"2011-10-21","Nul",null,null,null,null,null,null,null,null,null,null,null,null,0,{"$f":"VLOOKUP(E375,Ville!$A$3:$H$53,2,0)","v":{"$error":"#N/A"}}]
[10,43,182,"2011-10-22","Nul",null,null,null,null,null,null,null,null,null,null,null,null,0,{"$f":"VLOOKUP(E376,Ville!$A$3:$H$53,2,0)","v":{"$error":"#N/A"}}]
[10,43,183,"2011-10-23","Nul",null,null,null,null,null,null,null,null,null,null,null,null,0,{"$f":"VLOOKUP(E377,Ville!$A$3:$H$53,2,0)","v":{"$error":"#N/A"}}]
[null,null,null,null,"Nul",null,null,null,null,null,null,null,null,null,null,null,null,0]
[10,44,184,{"$f":"D377+1","v":"2011-10-24"},"Nul",null,null,null,null,null,null,null,null,null,null,null,null,0,{"$f":"VLOOKUP(E379,Ville!$A$3:$H$53,2,0)","v":{"$error":"#N/A"}}]
[10,44,185,"2011-10-25","Nul",null,null,null,null,null,null,null,null,null,null,null,null,0,{"$f":"VLOOKUP(E380,Ville!$A$3:$H$53,2,0)","v":{"$error":"#N/A"}}]
[10,44,null,"2011-10-26","Nul",null,null,null,null,null,null,null,null,null,null,null,null,0]
[10,44,186,"2011-10-27","Nul",null,null,null,null,null,null,null,null,null,null,null,null,0,{"$f":"VLOOKUP(E382,Ville!$A$3:$H$53,2,0)","v":{"$error":"#N/A"}}]
[10,44,187,"2011-10-28","Nul",null,null,null,null,null,null,null,null,null,null,null,null,0,{"$f":"VLOOKUP(E383,Ville!$A$3:$H$53,2,0)","v":{"$error":"#N/A"}}]
[10,44,188,"2011-10-29","Nul",null,null,null,null,null,null,null,null,null,null,null,null,0,{"$f":"VLOOKUP(E384,Ville!$A$3:$H$53,2,0)","v":{"$error":"#N/A"}}]
[10,44,189,"2011-10-30","Nul",null,null,null,null,null,null,null,null,null,null,null,null,0,{"$f":"VLOOKUP(E385,Ville!$A$3:$H$53,2,0)","v":{"$error":"#N/A"}}]
[null,null,null,null,"Nul",null,null,null,null,null,null,null,null,null,null,null,null,0]
[10,45,null,{"$f":"D385+1","v":"2011-10-31"},"Nul",null,null,null,null,null,null,null,null,null,null,null,null,0,{"$f":"VLOOKUP(E387,Ville!$A$3:$H$53,2,0)","v":{"$error":"#N/A"}}]
[null,null,null,null,"Nul",null,{"$f":"SUM(G352:G387)","v":0},{"$f":"SUM(H352:H387)","v":0},null,null,null,null,null,null,null,null,null,0]
[11,45,189,{"$f":"D387+1","v":"2011-11-01"},"Nul",null,null,null,null,null,null,null,null,null,null,null,null,0,{"$f":"VLOOKUP(E389,Ville!$A$3:$H$53,2,0)","v":{"$error":"#N/A"}}]
[11,45,190,"2011-11-02","Nul",null,null,null,null,null,null,null,null,null,null,null,null,0,{"$f":"VLOOKUP(E390,Ville!$A$3:$H$53,2,0)","v":{"$error":"#N/A"}}]
[11,45,null,"2011-11-03","Nul",null,null,null,null,null,null,null,null,null,null,null,null,0]
[11,45,191,"2011-11-04","Nul",null,null,null,null,null,null,null,null,null,null,null,null,0,{"$f":"VLOOKUP(E392,Ville!$A$3:$H$53,2,0)","v":{"$error":"#N/A"}}]
[11,45,192,"2011-11-05","Nul",null,null,null,null,null,null,null,null,null,null,null,null,0,{"$f":"VLOOKUP(E393,Ville!$A$3:$H$53,2,0)","v":{"$error":"#N/A"}}]
[11,45,193,"2011-11-06","Nul",null,null,null,null,null,null,null,null,null,null,null,null,0,{"$f":"VLOOKUP(E394,Ville!$A$3:$H$53,2,0)","v":{"$error":"#N/A"}}]
[null,null,null,null,"Nul",null,null,null,null,null,null,null,null,null,null,null,null,0]
[11,46,194,{"$f":"D394+1","v":"2011-11-07"},"Nul",null,null,null,null,null,null,null,null,null,null,null,null,0,{"$f":"VLOOKUP(E396,Ville!$A$3:$H$53,2,0)","v":{"$error":"#N/A"}}]
[11,46,195,"2011-11-08","Nul",null,null,null,null,null,null,null,null,null,null,null,null,0,{"$f":"VLOOKUP(E397,Ville!$A$3:$H$53,2,0)","v":{"$error":"#N/A"}}]
[11,46,195,"2011-11-09","Nul",null,null,null,null,null,null,null,null,null,null,null,null,0,{"$f":"VLOOKUP(E398,Ville!$A$3:$H$53,2,0)","v":{"$error":"#N/A"}}]
[11,46,195,"2011-11-10","Nul",null,null,null,null,null,null,null,null,null,null,null,null,0,{"$f":"VLOOKUP(E399,Ville!$A$3:$H$53,2,0)","v":{"$error":"#N/A"}}]
[11,46,null,"2011-11-11","Nul",null,null,null,null,null,null,null,null,null,null,null,null,0]
[11,46,196,"2011-11-12","Nul",null,null,null,null,null,null,null,null,null,null,null,null,0,{"$f":"VLOOKUP(E401,Ville!$A$3:$H$53,2,0)","v":{"$error":"#N/A"}}]
[11,46,197,"2011-11-13","Nul",null,null,null,null,null,null,null,null,null,null,null,null,0,{"$f":"VLOOKUP(E402,Ville!$A$3:$H$53,2,0)","v":{"$error":"#N/A"}}]
[null,null,null,null,"Nul",null,null,null,null,null,null,null,null,null,null,null,null,0]
[{"$f":"MONTH(D404)","v":11},47,198,{"$f":"D402+1","v":"2011-11-14"},"Nul",null,null,null,null,null,null,null,null,null,null,null,null,0,{"$f":"VLOOKUP(E404,Ville!$A$3:$H$53,2,0)","v":{"$error":"#N/A"}}]
[11,47,199,"2011-11-15","Nul",null,null,null,null,null,null,null,null,null,null,null,null,0,{"$f":"VLOOKUP(E405,Ville!$A$3:$H$53,2,0)","v":{"$error":"#N/A"}}]
[11,47,null,"2011-11-16","Nul",null,null,null,null,null,null,null,null,null,null,null,null,0]
[11,47,200,"2011-11-17","Nul",null,null,null,null,null,null,null,null,null,null,null,null,0,{"$f":"VLOOKUP(E407,Ville!$A$3:$H$53,2,0)","v":{"$error":"#N/A"}}]
[11,47,201,"2011-11-18","Nul",null,null,null,null,null,null,null,null,null,null,null,null,0,{"$f":"VLOOKUP(E408,Ville!$A$3:$H$53,2,0)","v":{"$error":"#N/A"}}]
[11,47,201,{"$f":"D408+1","v":"2011-11-19"},"Nul",null,null,null,null,null,null,null,null,null,null,null,null,0,{"$f":"VLOOKUP(E409,Ville!$A$3:$H$53,2,0)","v":{"$error":"#N/A"}}]
[11,47,null,"2011-11-20","Nul",null,null,null,null,null,null,null,null,null,null,null,null,0]
[null,null,null,null,"Nul",null,null,null,null,null,null,null,null,null,null,null,null,0]
[11,48,202,{"$f":"D410+1","v":"2011-11-21"},"Nul",null,null,null,null,null,null,null,null,null,null,null,null,0,{"$f":"VLOOKUP(E412,Ville!$A$3:$H$53,2,0)","v":{"$error":"#N/A"}}]
[11,48,203,"2011-11-22","Nul",null,null,null,null,null,null,null,null,null,null,null,null,0,{"$f":"VLOOKUP(E413,Ville!$A$3:$H$53,2,0)","v":{"$error":"#N/A"}}]
[11,48,203,"2011-11-23","Nul",null,null,null,null,null,null,null,null,null,null,null,null,0,{"$f":"VLOOKUP(E414,Ville!$A$3:$H$53,2,0)","v":{"$error":"#N/A"}}]
[11,48,204,"2011-11-24","Nul",null,null,null,null,null,null,null,null,null,null,null,null,0,{"$f":"VLOOKUP(E415,Ville!$A$3:$H$53,2,0)","v":{"$error":"#N/A"}}]
[11,48,205,"2011-11-25","Nul",null,null,null,null,null,null,null,null,null,null,null,null,{"$f":"IF(F416=\"\",0,S416)","v":0},{"$f":"VLOOKUP(E416,Ville!$A$3:$H$53,2,0)","v":{"$error":"#N/A"}}]
[11,48,206,"2011-11-26","Nul",null,null,null,null,null,null,null,null,null,null,null,null,0,{"$f":"VLOOKUP(E417,Ville!$A$3:$H$53,2,0)","v":{"$error":"#N/A"}}]
[11,48,207,"2011-11-27","Nul",null,null,null,null,null,null,null,null,null,null,null,null,0,{"$f":"VLOOKUP(E418,Ville!$A$3:$H$53,2,0)","v":{"$error":"#N/A"}}]
[null,null,null,null,"Nul",null,null,null,null,null,null,null,null,null,null,null,null,0]
[11,49,null,{"$f":"D418+1","v":"2011-11-28"},"Nul",null,null,null,null,null,null,null,null,null,null,null,null,0]
[11,49,208,"2011-11-29","Nul",null,null,null,null,null,null,null,null,null,null,null,null,0,{"$f":"VLOOKUP(E421,Ville!$A$3:$H$53,2,0)","v":{"$error":"#N/A"}}]
[11,49,208,"2011-11-30","Nul",null,null,null,null,null,null,null,null,null,null,null,null,0,{"$f":"VLOOKUP(E422,Ville!$A$3:$H$53,2,0)","v":{"$error":"#N/A"}}]
[null,null,null,null,"Nul",null,{"$f":"SUM(G388:G422)","v":0},{"$f":"SUM(H388:H422)","v":0},null,null,null,null,null,null,null,null,null,0]
[12,49,208,{"$f":"D422+1","v":"2011-12-01"},"Nul"," ",null,null,null,null,null,null,null,null,null,null,null,{"$error":"#N/A"},{"$f":"VLOOKUP(E424,Ville!$A$3:$H$53,2,0)","v":{"$error":"#N/A"}}]
[12,49,209,"2011-12-02","Nul",null,null,null,null,null,null,null,null,null,null,null,null,0,{"$f":"VLOOKUP(E425,Ville!$A$3:$H$53,2,0)","v":{"$error":"#N/A"}}]
[12,49,210,"2011-12-03","Nul",null,null,null,null,null,null,null,null,null,null,null,null,0,{"$f":"VLOOKUP(E426,Ville!$A$3:$H$53,2,0)","v":{"$error":"#N/A"}}]
[12,49,210,"2011-12-04","Nul",null,null,null,null,null,null,null,null,null,null,null,null,0,{"$f":"VLOOKUP(E427,Ville!$A$3:$H$53,2,0)","v":{"$error":"#N/A"}}]
[null,null,null,null,"Nul",null,null,null,null,null,null,null,null,null,null,null,null,0]
[12,50,211,{"$f":"D427+1","v":"2011-12-05"},"Nul",null,null,null,null,null,null,null,null,null,null,null,null,0,{"$f":"VLOOKUP(E429,Ville!$A$3:$H$53,2,0)","v":{"$error":"#N/A"}}]
[12,50,null,"2011-12-06","Nul",null,null,null,null,null,null,null,null,null,null,null,null,0,{"$f":"VLOOKUP(E430,Ville!$A$3:$H$53,2,0)","v":{"$error":"#N/A"}}]
[12,50,212,"2011-12-07","Nul",null,null,null,null,null,null,null,null,null,null,null,null,0,{"$f":"VLOOKUP(E431,Ville!$A$3:$H$53,2,0)","v":{"$error":"#N/A"}}]
[12,50,213,"2011-12-08","Nul",null,null,null,null,null,null,null,null,null,null,null,null,0,{"$f":"VLOOKUP(E432,Ville!$A$3:$H$53,2,0)","v":{"$error":"#N/A"}}]
[12,50,213,"2011-12-09","Nul",null,null,null,null,null,null,null,null,null,null,null,null,0,{"$f":"VLOOKUP(E433,Ville!$A$3:$H$53,2,0)","v":{"$error":"#N/A"}}]
[12,50,213,"2011-12-10","Nul",null,null,null,null,null,null,null,null,null,null,null,null,0,{"$f":"VLOOKUP(E434,Ville!$A$3:$H$53,2,0)","v":{"$error":"#N/A"}}]
[12,50,214,"2011-12-11","Nul",null,null,null,null,null,null,null,null,null,null,null,null,0,{"$f":"VLOOKUP(E435,Ville!$A$3:$H$53,2,0)","v":{"$error":"#N/A"}}]
[null,null,null,null,"Nul",null,null,null,null,null,null,null,null,null,null,null,null,0]
[12,51,215,{"$f":"D435+1","v":"2011-12-12"},"Nul",null,null,null,null,null,null,null,null,null,null,null,null,0,{"$f":"VLOOKUP(E437,Ville!$A$3:$H$53,2,0)","v":{"$error":"#N/A"}}]
[12,51,216,"2011-12-13","Nul",null,null,null,null,null,null,null,null,null,null,null,null,0,{"$f":"VLOOKUP(E438,Ville!$A$3:$H$53,2,0)","v":{"$error":"#N/A"}}]
[12,51,null,"2011-12-14","Nul",null,null,null,null,null,null,null,null,null,null,null,null,0,{"$f":"VLOOKUP(E439,Ville!$A$3:$H$53,2,0)","v":{"$error":"#N/A"}}]
[12,{"$f":"WEEKNUM(D440,2)","v":51},217,"2011-12-15","Nul",null,null,null,null,null,null,null,null,null,null,null,null,0,{"$f":"VLOOKUP(E440,Ville!$A$3:$H$53,2,0)","v":{"$error":"#N/A"}}]
[12,51,217,"2011-12-16","Nul",null,null,null,null,null,null,null,null,null,null,null,null,0,{"$f":"VLOOKUP(E441,Ville!$A$3:$H$53,2,0)","v":{"$error":"#N/A"}}]
[12,51,218,"2011-12-17","Nul",null,null,null,null,null,null,null,null,null,null,null,null,0,{"$f":"VLOOKUP(E442,Ville!$A$3:$H$53,2,0)","v":{"$error":"#N/A"}}]
[12,51,218,"2011-12-18","Nul",null,null,null,null,null,null,null,null,null,null,null,null,0,{"$f":"VLOOKUP(E443,Ville!$A$3:$H$53,2,0)","v":{"$error":"#N/A"}}]
[null,null,null,null,"Nul",null,null,null,null,null,null,null,null,null,null,null,null,0]
[12,52,219,{"$f":"D443+1","v":"2011-12-19"},"Nul",null,null,null,null,null,null,null,null,null,null,null,null,0,{"$f":"VLOOKUP(E445,Ville!$A$3:$H$53,2,0)","v":{"$error":"#N/A"}}]
[12,52,220,"2011-12-20","Nul",null,null,null,null,null,null,null,null,null,null,null,null,0,{"$f":"VLOOKUP(E446,Ville!$A$3:$H$53,2,0)","v":{"$error":"#N/A"}}]
[12,52,221,"2011-12-21","Nul",null,null,null,null,null,null,null,null,null,null,null,null,0,{"$f":"VLOOKUP(E447,Ville!$A$3:$H$53,2,0)","v":{"$error":"#N/A"}}]
[12,52,null,"2011-12-22","Nul",null,null,null,null,null,null,null,null,null,null,null,null,0]
[12,52,null,"2011-12-23","Nul",null,null,null,null,null,null,null,null,null,null,null,null,0]
[12,52,222,"2011-12-24","Nul",null,null,null,null,null,null,null,null,null,null,null,null,0,{"$f":"VLOOKUP(E450,Ville!$A$3:$H$53,2,0)","v":{"$error":"#N/A"}}]
[12,52,223,"2011-12-25","Nul",null,null,null,null,null,null,null,null,null,null,null,null,0,{"$f":"VLOOKUP(E451,Ville!$A$3:$H$53,2,0)","v":{"$error":"#N/A"}}]
[null,null,null,null,"Nul",null,null,null,null,null,null,null,null,null,null,null,null,0]
[12,53,224,{"$f":"D451+1","v":"2011-12-26"},"Nul",null,null,null,null,null,null,null,null,null,null,null,null,0,{"$f":"VLOOKUP(E453,Ville!$A$3:$H$53,2,0)","v":{"$error":"#N/A"}}]
[12,53,224,"2011-12-27","Nul",null,null,null,null,null,null,null,null,null,null,null,null,0,{"$f":"VLOOKUP(E454,Ville!$A$3:$H$53,2,0)","v":{"$error":"#N/A"}}]
[12,53,224,"2011-12-28","Nul",null,null,null,null,null,null,null,null,null,null,null,null,0,{"$f":"VLOOKUP(E455,Ville!$A$3:$H$53,2,0)","v":{"$error":"#N/A"}}]
[12,53,225,"2011-12-29","Nul",null,null,null,null,null,null,null,null,null,null,null,null,0,{"$f":"VLOOKUP(E456,Ville!$A$3:$H$53,2,0)","v":{"$error":"#N/A"}}]
[12,53,226,"2011-12-30","Nul",null,null,null,null,null,null,null,null,null,null,null,null,0,{"$f":"VLOOKUP(E457,Ville!$A$3:$H$53,2,0)","v":{"$error":"#N/A"}}]
[12,53,null,"2011-12-31","Nul",null,null,null,null,null,null,null,null,null,null,null,null,0]
[null,null,null,null,null,null,{"$f":"SUM(G424:G458)","v":0},{"$f":"SUM(H424:H458)","v":0},null,null,null,null,null,null,null,null,null,{"$f":"SUM(R32:R458)","v":{"$error":"#N/A"}},{"$f":"SUM(S32:S458)","v":{"$error":"#N/A"}}]

{"sheet":"Suivi contrôles ","index":4,"n_rows":508,"n_cols":38,"rows_kept":508,"cut":false,"hidden":false,"merged":[[1,5,1,11],[1,13,1,19],[1,21,1,27],[1,29,1,35]]}
[]
[null,null,null,null,7.1910828025477711,"ALAIN",null,null,null,null,null,null,7.331325301204819,"CENTRE",null,null,null,null,null,null,10,"AUXILIAIRE",null,null,null,null,null,null,8.0833333333333339,"ALAIN + AUXILIAIRE",null,null,null,null,null,null,"TMD"]
["M","J",null,"Date","TOTAL","TM","TCP","TMD","CV","R","S","REFUS","TOTAL","TM","TCP","TMD","CV","R","S","REFUS","TOTAL","TM","TCP","TMD","CV","R","S","REFUS","TOTAL","TM","TCP","TMD","CV","R","S","REFUS"]
[null,null,null,"JANV",{"$f":"E50","v":97},68,21,0,8,3,7,{"$f":"IF((J4+K4)/(F4+G4+H4)*100=0,\"\",(J4+K4)/(F4+G4+H4)*100)","v":11.235955056179774},{"$f":"M50","v":97},68,21,0,8,3,7,{"$f":"IF((R4+S4)/(N4+O4+P4)*100=0,\"\",(R4+S4)/(N4+O4+P4)*100)","v":11.235955056179774},{"$f":"U50","v":30},19,6,2,3,0,0,{"$f":"IF((Z4+AA4)/(V4+W4+X4)*100=0,\"\",(Z4+AA4)/(V4+W4+X4)*100)","v":""},{"$f":"AC50","v":127},87,27,2,11,3,7,{"$f":"IF((AH4+AI4)/(AD4+AE4+AF4)*100=0,\"\",(AH4+AI4)/(AD4+AE4+AF4)*100)","v":8.6206896551724146},59,{"$f":"AF4","v":2}]
[null,null,null,"FÉVR",{"$f":"E80","v":89},49,35,0,5,5,5,{"$f":"IF((J5+K5)/(F5+G5+H5)*100=0,\"\",(J5+K5)/(F5+G5+H5)*100)","v":11.904761904761903},{"$f":"M80","v":89},49,35,0,5,5,5,{"$f":"IF((R5+S5)/(N5+O5+P5)*100=0,\"\",(R5+S5)/(N5+O5+P5)*100)","v":11.904761904761903},{"$f":"U80","v":45},37,3,2,3,1,1,4.7619047619047619,{"$f":"AC80","v":134},86,38,{"$f":"AF80","v":2},8,6,6,9.5238095238095237,61,{"$f":"AL4+AF5","v":4}]
[null,null,null,"MARS",{"$f":"E113","v":0},{"$f":"F113","v":0},0,0,0,0,0,{"$error":"#DIV/0!"},{"$f":"M113","v":0},0,0,0,0,0,0,{"$error":"#DIV/0!"},{"$f":"U113","v":0},0,0,0,0,0,0,{"$error":"#DIV/0!"},{"$f":"AC113","v":0},{"$f":"AD113","v":0},0,0,0,0,0,{"$error":"#DIV/0!"},55,{"$f":"AL5+AF6","v":4}]
[null,null,null,"AVR",{"$f":"E145","v":0},0,0,0,0,0,0,{"$error":"#DIV/0!"},{"$f":"M145","v":0},{"$f":"N145","v":0},0,0,0,0,0,{"$error":"#DIV/0!"},{"$f":"U145","v":0},0,0,0,0,0,0,{"$error":"#DIV/0!"},{"$f":"AC145","v":0},0,0,0,0,0,0,{"$error":"#DIV/0!"},48,{"$f":"AL6+AF7","v":4}]
[null,null,null,"MAI",{"$f":"E178","v":0},0,0,0,0,0,0,{"$error":"#DIV/0!"},{"$f":"M178","v":0},0,0,0,0,0,0,{"$error":"#DIV/0!"},{"$f":"U178","v":0},0,0,0,0,0,0,{"$error":"#DIV/0!"},{"$f":"AC178","v":0},0,0,0,0,0,0,{"$error":"#DIV/0!"},45,4]
[null,null,null,"JUIN",{"$f":"E210","v":0},0,0,0,0,0,0,{"$error":"#DIV/0!"},{"$f":"M210","v":0},0,0,0,0,0,0,{"$error":"#DIV/0!"},{"$f":"U210","v":0},0,0,0,0,0,0,{"$error":"#DIV/0!"},{"$f":"AC210","v":0},0,0,0,0,0,0,{"$error":"#DIV/0!"},35,4]
[null,null,null,"JUIL",{"$f":"E243","v":0},0,0,0,0,0,0,{"$error":"#DIV/0!"},{"$f":"M243","v":0},0,0,0,0,0,0,{"$error":"#DIV/0!"},{"$f":"U243","v":0},0,0,0,0,0,0,{"$error":"#DIV/0!"},{"$f":"AC243","v":0},0,0,0,0,0,0,{"$error":"#DIV/0!"},28,4]
[null,null,null,"AOÛT",{"$f":"E276","v":0},0,0,0,0,0,0,{"$error":"#DIV/0!"},{"$f":"M276","v":0},0,0,0,0,0,0,{"$error":"#DIV/0!"},{"$f":"U276","v":0},0,0,0,0,0,0,{"$error":"#DIV/0!"},{"$f":"AC276","v":0},0,0,0,0,0,0,{"$error":"#DIV/0!"},25,4]
[null,null,null,"SEPT",{"$f":"E308","v":0},0,0,0,0,0,0,{"$error":"#DIV/0!"},{"$f":"M308","v":0},0,0,0,0,0,0,{"$error":"#DIV/0!"},{"$f":"U308","v":0},0,0,0,0,0,0,{"$error":"#DIV/0!"},{"$f":"AC308","v":0},0,0,0,0,0,0,{"$error":"#DIV/0!"},25,4]
[null,null,null,"OCT",{"$f":"E341","v":0},0,0,{"$f":"H341","v":0},0,0,0,{"$error":"#DIV/0!"},{"$f":"M341","v":0},0,0,0,0,0,0,{"$f":"IF((R13+S13)/(N13+O13+P13)*100=0,\"\",(R13+S13)/(N13+O13+P13)*100)","v":{"$error":"#DIV/0!"}},{"$f":"U341","v":0},0,0,0,0,0,0,{"$error":"#DIV/0!"},{"$f":"AC341","v":0},0,0,0,0,0,0,{"$error":"#DIV/0!"},20,4]
[null,null,null,"NOV",{"$f":"E373","v":0},0,0,0,0,0,0,{"$error":"#DIV/0!"},{"$f":"M373","v":0},0,0,0,0,0,0,{"$f":"IF((R14+S14)/(N14+O14+P14)*100=0,\"\",(R14+S14)/(N14+O14+P14)*100)","v":{"$error":"#DIV/0!"}},{"$f":"U373","v":0},0,0,0,0,0,0,{"$error":"#DIV/0!"},{"$f":"AC373","v":0},0,0,0,0,0,0,{"$error":"#DIV/0!"},13,4]
[null,null,null,"DÉC",{"$f":"E406","v":0},0,0,0,0,0,0,{"$error":"#DIV/0!"},{"$f":"M406","v":0},0,0,0,0,0,0,{"$f":"IF((R15+S15)/(N15+O15+P15)*100=0,\"\",(R15+S15)/(N15+O15+P15)*100)","v":{"$error":"#DIV/0!"}},{"$f":"U406","v":0},0,0,0,0,0,0,{"$error":"#DIV/0!"},{"$f":"AC406","v":0},0,0,0,0,0,0,{"$error":"#DIV/0!"},{"$f":"SUM(AF4:AF15)","v":4},4]
[null,null,null,null,{"$f":"SUM(E4:E15)","v":186},117,56,{"$f":"SUM(H4:H15)","v":0},13,8,12,11.560693641618498,{"$f":"SUM(M4:M15)","v":186},117,56,0,13,8,12,{"$f":"IF((R16+S16)/(N16+O16+P16)*100=0,\"\",(R16+S16)/(N16+O16+P16)*100)","v":11.560693641618498},{"$f":"SUM(U4:U15)","v":75},56,9,4,6,1,1,2.8985507246376812,{"$f":"SUM(AC4:AC15)","v":261},173,65,{"$f":"SUM(AF4:AF13)","v":4},19,9,13,9.0909090909090917,{"$f":"SUM(AF4:AF15)","v":4}]
[null,null,null,null,null,null,null,null,null,null,null,null,null,null,null,null,null,null,null,null,null,null,null,null,null,null,null,null,null,null,null,null,null,null,null,null,"NUL"]
["M",null,null,null,"T1","TM","TCP","TMD","CV","R","S",null,"T2","TM","TCP","TMD","CV","R","S",null,"T3","TM","TCP","TMD","CV","R","S",null,"T4","TM","TCP","TMD","CV","R","S",null,"lieu"]
[{"$f":"MONTH(D19)","v":1},1,null,"2011-01-01",{"$f":"SUM(F19:I19)","v":0},null,null,null,null,null,null,{"$f":"(J19+K19)/(F19+G19+H19)*100","v":{"$error":"#DIV/0!"}},{"$f":"SUM(N19:Q19)","v":0},null,{"$f":"G19","v":0},{"$f":"H19","v":0},{"$f":"I19","v":0},{"$f":"J19","v":0},{"$f":"K19","v":0},{"$f":"(R19+S19)/(N19+O19+P19)*100","v":{"$error":"#DIV/0!"}},{"$f":"SUM(V19:Y19)","v":0},null,null,null,null,null,null,{"$f":"IF((Z19+AA19)/(V19+W19+X19)*100=0,\"\",(Z19+AA19)/(V19+W19+X19)*100)","v":{"$error":"#DIV/0!"}},{"$f":"SUM(AD19:AG19)","v":0},{"$f":"F19+V19","v":0},{"$f":"G19+W19","v":0},{"$f":"H19+X19","v":0},{"$f":"I19+Y19","v":0},{"$f":"J19+Z19","v":0},{"$f":"K19+AA19","v":0},{"$f":"IF((AH19+AI19)/(AD19+AE19+AF19)*100=0,\"\",(AH19+AI19)/(AD19+AE19+AF19)*100)","v":{"$error":"#DIV/0!"}},"NUL"]
[1,2,null,"2011-01-02",0,null,null,null,null,null,null,{"$error":"#DIV/0!"},0,{"$f":"F20","v":0},0,0,0,0,0,{"$error":"#DIV/0!"},0,null,null,null,null,null,null,{"$error":"#DIV/0!"},0,0,0,0,0,0,0,{"$error":"#DIV/0!"},"NUL"]
[1,3,null,"2011-01-03",0,null,null,null,null,null,null,{"$error":"#DIV/0!"},0,null,null,null,null,0,0,{"$error":"#DIV/0!"},2,1,null,null,1,null,null,"",2,1,0,0,1,0,0,"","Meythet"]
[1,4,null,"2011-01-04",7,5,1,null,1,null,null,0,7,5,1,0,1,0,0,0,0,null,null,null,null,null,null,{"$error":"#DIV/0!"},7,5,1,0,1,0,0,"","NUL"]
[1,5,null,"2011-01-05",5,5,null,null,null,null,null,0,5,5,0,0,0,0,0,0,0,null,null,null,null,null,null,{"$error":"#DIV/0!"},5,5,0,0,0,0,0,"","NUL"]
[1,6,null,"2011-01-06",7,4,2,null,1,null,1,16.666666666666664,7,4,2,0,1,0,1,16.666666666666664,0,null,null,null,null,null,null,{"$error":"#DIV/0!"},7,4,2,0,1,0,1,16.666666666666664,"NUL"]
[1,7,null,"2011-01-07",10,9,1,null,null,1,3,40,10,9,1,0,0,1,3,40,0,null,null,null,null,null,null,{"$error":"#DIV/0!"},10,9,1,0,0,1,3,40,"NUL"]
[1,8,null,"2011-01-08",0,null,null,null,null,null,null,{"$error":"#DIV/0!"},0,0,0,0,0,0,0,{"$error":"#DIV/0!"},0,null,null,null,null,null,null,{"$error":"#DIV/0!"},0,0,0,0,0,0,0,{"$error":"#DIV/0!"},"NUL"]
[1,9,null,"2011-01-09",0,null,null,null,null,null,null,{"$error":"#DIV/0!"},0,0,0,0,0,0,0,{"$error":"#DIV/0!"},0,null,null,null,null,null,null,{"$error":"#DIV/0!"},0,0,0,0,0,0,0,{"$error":"#DIV/0!"},"NUL"]
[1,10,null,"2011-01-10",0,null,null,null,null,null,null,{"$error":"#DIV/0!"},0,0,0,0,0,0,0,{"$error":"#DIV/0!"},0,null,null,null,null,null,null,{"$error":"#DIV/0!"},0,0,0,0,0,0,0,{"$error":"#DIV/0!"},"NUL"]
[1,11,null,"2011-01-11",6,5,1,null,null,1,1,33.333333333333329,6,5,1,0,0,1,1,33.333333333333329,0,null,null,null,null,null,null,null,6,5,1,0,0,1,1,33.333333333333329,"NUL"]
[1,12,null,"2011-01-12",7,3,4,null,null,null,null,0,7,3,4,0,0,0,0,0,0,null,null,null,null,null,null,null,7,3,4,0,0,0,0,"","NUL"]
[1,13,null,"2011-01-13",0,null,null,null,null,null,null,{"$f":"(J31+K31)/(F31+G31+H31)*100","v":{"$error":"#DIV/0!"}},0,{"$f":"F31","v":0},{"$f":"G31","v":0},0,0,0,0,{"$error":"#DIV/0!"},1,1,null,null,null,null,null,null,1,{"$f":"F31+V31","v":1},{"$f":"G31+W31","v":0},0,0,0,0,"","sennece les macon"]
[1,14,null,"2011-01-14",7,4,1,null,2,null,null,0,7,4,1,0,2,0,0,0,{"$f":"SUM(V32:Y32)","v":0},null,null,null,null,null,null,null,7,{"$f":"F32+V32","v":4},{"$f":"G32+W32","v":1},0,2,0,0,"","NUL"]
[1,15,null,"2011-01-15",0,null,null,null,null,null,null,{"$error":"#DIV/0!"},0,0,0,0,0,0,0,{"$error":"#DIV/0!"},0,null,null,null,null,null,null,null,0,0,0,0,0,0,0,{"$error":"#DIV/0!"},"NUL"]
[1,16,null,"2011-01-16",0,null,null,null,null,null,null,{"$error":"#DIV/0!"},0,0,0,0,0,0,0,{"$error":"#DIV/0!"},0,null,null,null,null,null,null,null,0,0,0,0,0,0,0,{"$error":"#DIV/0!"},"NUL"]
[1,17,null,"2011-01-17",6,5,null,null,1,null,null,0,6,5,0,0,1,0,0,0,0,null,null,null,null,null,null,null,6,5,0,0,1,0,0,"","NUL"]
[1,18,null,"2011-01-18",9,5,4,null,null,1,null,11.111111111111111,9,5,4,0,0,1,0,11.111111111111111,0,null,null,null,null,null,null,null,9,5,4,0,0,1,0,11.111111111111111,"NUL"]
[1,19,null,"2011-01-19",0,null,null,null,null,null,null,{"$error":"#DIV/0!"},0,0,0,0,0,0,0,{"$error":"#DIV/0!"},9,5,4,null,null,null,null,null,9,5,4,0,0,0,0,"","sp Besançon"]
[1,20,null,"2011-01-20",6,4,2,null,null,null,null,0,6,4,2,0,0,0,0,0,0,null,null,null,null,null,null,null,6,4,2,0,0,0,0,"","NUL"]
[1,21,null,"2011-01-21",5,5,null,null,null,null,null,0,5,5,0,0,0,0,0,0,0,null,null,null,null,null,null,{"$error":"#DIV/0!"},5,5,0,0,0,0,0,"","NUL"]
[1,22,null,"2011-01-22",0,null,null,null,null,null,null,{"$error":"#DIV/0!"},0,0,0,0,0,0,0,{"$error":"#DIV/0!"},0,null,null,null,null,null,null,{"$error":"#DIV/0!"},0,0,0,0,0,0,0,{"$error":"#DIV/0!"},"NUL"]
[1,23,null,"2011-01-23",0,null,null,null,null,null,null,{"$error":"#DIV/0!"},0,0,0,0,0,0,0,{"$error":"#DIV/0!"},0,null,null,null,null,null,null,{"$error":"#DIV/0!"},0,0,0,0,0,0,0,{"$error":"#DIV/0!"},"NUL"]
[1,24,null,"2011-01-24",0,null,null,null,null,null,null,{"$error":"#DIV/0!"},0,0,0,0,0,0,0,{"$error":"#DIV/0!"},11,8,1,1,1,null,null,{"$f":"IF((Z42+AA42)/(V42+W42+X42)*100=0,\"\",(Z42+AA42)/(V42+W42+X42)*100)","v":""},11,8,1,{"$f":"H42+X42","v":1},1,0,0,"","Besançon Iax"]
[1,25,null,"2011-01-25",6,4,2,null,null,null,null,0,6,4,2,0,0,0,0,0,0,null,null,null,null,null,null,{"$f":"IF((Z43+AA43)/(V43+W43+X43)*100=0,\"\",(Z43+AA43)/(V43+W43+X43)*100)","v":{"$error":"#DIV/0!"}},6,4,2,{"$f":"H43+X43","v":0},0,0,0,"","NUL"]
[1,26,null,"2011-01-26",0,null,null,null,null,null,null,{"$error":"#DIV/0!"},0,0,0,0,0,0,0,{"$error":"#DIV/0!"},7,4,1,1,1,null,null,{"$f":"IF((Z44+AA44)/(V44+W44+X44)*100=0,\"\",(Z44+AA44)/(V44+W44+X44)*100)","v":""},7,4,1,{"$f":"H44+X44","v":1},1,0,0,"","Thann"]
[1,27,null,"2011-01-27",5,1,2,null,2,null,1,33.333333333333329,5,1,2,0,2,0,1,33.333333333333329,0,null,null,null,null,null,null,{"$error":"#DIV/0!"},5,1,2,0,2,0,1,33.333333333333329,"NUL"]
[1,28,null,"2011-01-28",7,5,1,null,1,null,1,16.666666666666664,7,5,1,0,1,0,1,16.666666666666664,0,null,null,null,null,null,null,{"$error":"#DIV/0!"},7,5,1,0,1,0,1,16.666666666666664,"NUL"]
[1,29,null,"2011-01-29",0,null,null,null,null,null,null,{"$error":"#DIV/0!"},0,0,0,0,0,0,0,{"$error":"#DIV/0!"},0,null,null,null,null,null,null,{"$error":"#DIV/0!"},0,0,0,0,0,0,0,{"$error":"#DIV/0!"},"NUL"]
[1,30,null,"2011-01-30",0,null,null,null,null,null,null,{"$error":"#DIV/0!"},0,0,0,0,0,0,0,{"$error":"#DIV/0!"},0,null,null,null,null,null,null,{"$error":"#DIV/0!"},0,0,0,0,0,0,0,{"$error":"#DIV/0!"},"NUL"]
[1,31,null,"2011-01-31",4,4,null,null,null,null,null,0,4,4,0,0,0,0,0,0,0,null,null,null,null,null,null,{"$error":"#DIV/0!"},4,4,0,0,0,0,0,"","NUL"]
[null,null,null,null,{"$f":"SUM(E19:E49)","v":97},68,21,0,8,3,7,11.235955056179774,{"$f":"SUM(M19:M49)","v":97},{"$f":"SUM(N19:N49)","v":68},21,0,8,3,7,11.235955056179774,{"$f":"SUM(U19:U49)","v":30},19,6,2,3,0,0,"",{"$f":"SUM(AC19:AC49)","v":127},87,27,2,11,3,7,8.6206896551724146,"NUL"]
[null,null,null,null,null,null,null,null,null,null,null,{"$error":"#DIV/0!"},null,null,null,null,null,null,null,null,null,null,null,null,null,null,null,null,null,null,null,null,null,null,null,null,"NUL"]
[{"$f":"MONTH(D52)","v":2},32,null,"2011-02-01",{"$f":"SUM(F52:I52)","v":0},null,null,null,null,null,null,{"$error":"#DIV/0!"},{"$f":"SUM(N52:Q52)","v":0},{"$f":"F52","v":0},{"$f":"G52","v":0},{"$f":"H52","v":0},{"$f":"I52","v":0},{"$f":"J52","v":0},{"$f":"K52","v":0},{"$f":"(R52+S52)/(N52+O52+P52)*100","v":{"$error":"#DIV/0!"}},{"$f":"SUM(V52:Y52)","v":1},1,null,null,null,null,null,null,{"$f":"SUM(AD52:AG52)","v":1},{"$f":"F52+V52","v":1},{"$f":"G52+W52","v":0},{"$f":"H52+X52","v":0},{"$f":"I52+Y52","v":0},{"$f":"J52+Z52","v":0},{"$f":"K52+AA52","v":0},{"$f":"IF((AH52+AI52)/(AD52+AE52+AF52)*100=0,\"\",(AH52+AI52)/(AD52+AE52+AF52)*100)","v":""},"villefranche"]
[2,33,null,"2011-02-02",5,3,2,null,null,null,null,0,5,3,2,0,0,0,0,0,0,null,null,null,null,null,null,null,5,3,2,0,0,0,0,"","NUL"]
[2,34,null,"2011-02-03",0,null,null,null,null,null,null,{"$error":"#DIV/0!"},0,0,0,0,0,0,0,{"$error":"#DIV/0!"},4,4,null,null,null,null,null,null,4,4,0,0,0,0,0,"","sennece les macon"]
[2,35,null,"2011-02-04",9,4,5,null,null,null,null,0,9,4,5,0,0,0,0,0,0,null,null,null,null,null,null,null,9,4,5,0,0,0,0,"","NUL"]
[2,36,null,"2011-02-05",0,null,null,null,null,null,null,{"$error":"#DIV/0!"},0,0,0,0,0,0,0,{"$error":"#DIV/0!"},0,null,null,null,null,null,null,null,0,0,0,0,0,0,0,{"$error":"#DIV/0!"},"NUL"]
[2,37,null,"2011-02-06",0,null,null,null,null,null,null,{"$error":"#DIV/0!"},0,0,0,0,0,0,0,{"$error":"#DIV/0!"},0,null,null,null,null,null,null,{"$f":"IF((Z57+AA57)/(V57+W57+X57)*100=0,\"\",(Z57+AA57)/(V57+W57+X57)*100)","v":{"$error":"#DIV/0!"}},0,0,0,0,0,0,0,{"$error":"#DIV/0!"},"NUL"]
[2,38,null,"2011-02-07",0,null,null,null,null,null,null,{"$error":"#DIV/0!"},0,0,0,0,0,0,0,{"$error":"#DIV/0!"},5,4,null,null,1,null,null,"",5,4,0,0,1,0,0,"","villefranche"]
[2,39,null,"2011-02-08",13,10,3,null,null,1,1,15.384615384615385,13,10,3,0,0,1,1,15.384615384615385,0,null,null,null,null,null,null,{"$error":"#DIV/0!"},13,10,3,0,0,1,1,15.384615384615385,"NUL"]
[2,40,null,"2011-02-09",0,null,null,null,null,null,null,{"$error":"#DIV/0!"},0,0,0,0,0,0,0,{"$error":"#DIV/0!"},5,4,1,null,null,null,null,"",5,4,1,0,0,0,0,"","sp Besançon"]
[2,41,null,"2011-02-10",9,5,4,null,null,null,null,0,9,5,4,0,0,0,0,0,0,null,null,null,null,null,null,{"$error":"#DIV/0!"},9,5,4,0,0,0,0,"","NUL"]
[2,42,null,"2011-02-11",0,null,null,null,null,null,null,{"$error":"#DIV/0!"},0,0,0,0,0,0,0,{"$f":"(R62+S62)/(N62+O62+P62)*100","v":{"$error":"#DIV/0!"}},0,null,null,null,null,null,null,{"$error":"#DIV/0!"},0,0,0,0,0,0,0,{"$error":"#DIV/0!"},"NUL"]
[2,43,null,"2011-02-12",0,null,null,null,null,null,null,{"$error":"#DIV/0!"},0,0,0,0,0,0,0,{"$error":"#DIV/0!"},0,null,null,null,null,null,null,{"$error":"#DIV/0!"},0,0,0,0,0,0,0,{"$error":"#DIV/0!"},"NUL"]
[2,44,null,"2011-02-13",0,null,null,null,null,null,null,{"$error":"#DIV/0!"},0,0,0,0,0,0,0,{"$error":"#DIV/0!"},0,null,null,null,null,null,null,{"$error":"#DIV/0!"},0,0,0,0,0,0,0,{"$error":"#DIV/0!"},"NUL"]
[2,45,null,"2011-02-14",0,null,null,null,null,null,null,{"$error":"#DIV/0!"},0,0,0,0,0,0,0,{"$error":"#DIV/0!"},7,7,null,null,null,1,1,28.571428571428569,7,7,0,0,0,1,1,28.571428571428569,"Meythet"]
[2,46,null,"2011-02-15",7,6,1,null,null,1,1,28.571428571428569,7,6,1,0,0,1,1,28.571428571428569,0,null,null,null,null,null,null,{"$error":"#DIV/0!"},7,6,1,0,0,1,1,28.571428571428569,"NUL"]
[2,47,null,"2011-02-16",0,null,null,null,null,null,null,{"$error":"#DIV/0!"},0,0,0,0,0,0,0,{"$error":"#DIV/0!"},7,3,null,2,2,null,null,{"$f":"IF((Z67+AA67)/(V67+W67+X67)*100=0,\"\",(Z67+AA67)/(V67+W67+X67)*100)","v":""},7,3,0,{"$f":"H67+X67","v":2},2,0,0,"","Thann"]
[2,48,null,"2011-02-17",11,3,7,null,1,null,2,20,11,3,7,0,1,0,2,20,0,null,null,null,null,null,null,{"$error":"#DIV/0!"},11,3,7,0,1,0,2,20,"NUL"]
[2,49,null,"2011-02-18",6,5,1,null,null,null,null,{"$f":"(J69+K69)/(F69+G69+H69)*100","v":0},6,5,1,0,0,0,0,0,0,null,null,null,null,null,null,{"$error":"#DIV/0!"},6,5,1,0,0,0,0,"","NUL"]
[2,50,null,"2011-02-19",0,null,null,null,null,null,null,{"$error":"#DIV/0!"},0,0,0,0,0,0,0,{"$error":"#DIV/0!"},0,null,null,null,null,null,null,{"$error":"#DIV/0!"},0,0,0,0,0,0,0,{"$error":"#DIV/0!"},"NUL"]
[2,51,null,"2011-02-20",0,null,null,null,null,null,null,{"$error":"#DIV/0!"},0,0,0,0,0,0,0,{"$error":"#DIV/0!"},0,null,null,null,null,null,null,{"$error":"#DIV/0!"},0,0,0,0,0,0,0,{"$error":"#DIV/0!"},"NUL"]
[2,52,null,"2011-02-21",0,null,null,null,null,null,null,{"$error":"#DIV/0!"},0,0,0,0,0,0,0,{"$error":"#DIV/0!"},8,7,1,null,null,null,null,"",8,7,1,0,0,0,0,"","sp Besançon"]
[2,53,null,"2011-02-22",11,6,5,null,null,1,1,18.181818181818183,11,6,5,0,0,1,1,18.181818181818183,0,null,null,null,null,null,null,null,11,6,5,0,0,1,1,18.181818181818183,"NUL"]
[2,54,null,"2011-02-23",0,null,null,null,null,null,null,{"$error":"#DIV/0!"},0,0,0,0,0,0,0,{"$error":"#DIV/0!"},8,7,1,null,null,null,null,"",8,7,1,0,0,0,0,"","villefranche"]
[2,55,null,"2011-02-24",10,4,3,null,3,null,null,0,10,4,3,0,3,0,0,0,0,null,null,null,null,null,null,{"$error":"#DIV/0!"},10,4,3,0,3,0,0,"","NUL"]
[2,56,null,"2011-02-25",8,3,4,null,1,2,null,28.571428571428569,8,3,4,0,1,2,0,28.571428571428569,0,null,null,null,null,null,null,{"$error":"#DIV/0!"},8,3,4,0,1,2,0,28.571428571428569,"NUL"]
[2,57,null,"2011-02-26",0,null,null,null,null,null,null,{"$error":"#DIV/0!"},0,0,0,0,0,0,0,{"$error":"#DIV/0!"},0,null,null,null,null,null,null,{"$error":"#DIV/0!"},0,0,0,0,0,0,0,{"$error":"#DIV/0!"},"NUL"]
[2,58,null,"2011-02-27",0,null,null,null,null,null,null,{"$error":"#DIV/0!"},0,0,0,0,0,0,0,{"$error":"#DIV/0!"},0,null,null,null,null,null,null,{"$error":"#DIV/0!"},0,0,0,0,0,0,0,{"$error":"#DIV/0!"},"NUL"]
[2,59,null,"2011-02-28",0,null,null,null,null,null,null,{"$error":"#DIV/0!"},0,0,0,0,0,0,0,{"$error":"#DIV/0!"},0,null,null,null,null,null,null,{"$error":"#DIV/0!"},0,0,0,0,0,0,0,{"$error":"#DIV/0!"},"NUL"]
[null,null,null,null,{"$f":"SUM(E52:E79)","v":89},{"$f":"SUM(F52:F79)","v":49},35,0,5,5,5,11.904761904761903,{"$f":"SUM(M52:M79)","v":89},49,35,0,5,5,5,11.904761904761903,{"$f":"SUM(U52:U79)","v":45},37,3,2,3,1,1,4.7619047619047619,{"$f":"SUM(AC52:AC79)","v":134},86,38,2,8,6,6,9.5238095238095237,"NUL"]
[null,null,null,null,null,null,null,null,null,null,null,{"$error":"#DIV/0!"},null,null,null,null,null,null,null,null,null,null,null,null,null,null,null,null,null,null,null,null,null,null,null,null,"NUL"]
[{"$f":"MONTH(D82)","v":3},60,null,"2011-03-01",{"$f":"SUM(F82:I82)","v":0},null,null,null,null,null,null,{"$error":"#DIV/0!"},{"$f":"SUM(N82:Q82)","v":0},{"$f":"F82","v":0},{"$f":"G82","v":0},{"$f":"H82","v":0},{"$f":"I82","v":0},{"$f":"J82","v":0},{"$f":"K82","v":0},{"$f":"(R82+S82)/(N82+O82+P82)*100","v":{"$error":"#DIV/0!"}},{"$f":"SUM(V82:Y82)","v":0},null,null,null,null,null,null,null,{"$f":"SUM(AD82:AG82)","v":0},{"$f":"F82+V82","v":0},{"$f":"G82+W82","v":0},{"$f":"H82+X82","v":0},{"$f":"I82+Y82","v":0},{"$f":"J82+Z82","v":0},{"$f":"K82+AA82","v":0},{"$f":"IF((AH82+AI82)/(AD82+AE82+AF82)*100=0,\"\",(AH82+AI82)/(AD82+AE82+AF82)*100)","v":{"$error":"#DIV/0!"}},"NUL"]
[3,61,null,"2011-03-02",0,null,null,null,null,null,null,{"$error":"#DIV/0!"},0,0,0,0,0,0,0,{"$error":"#DIV/0!"},0,null,null,null,null,null,null,null,0,0,0,0,0,0,0,{"$error":"#DIV/0!"},"NUL"]
[3,62,null,"2011-03-03",0,null,null,null,null,null,null,{"$error":"#DIV/0!"},0,0,0,0,0,0,0,{"$error":"#DIV/0!"},0,null,null,null,null,null,null,null,0,0,0,0,0,0,0,{"$error":"#DIV/0!"},"NUL"]
[3,63,null,"2011-03-04",0,null,null,null,null,null,null,{"$error":"#DIV/0!"},0,0,0,0,0,0,0,{"$error":"#DIV/0!"},0,null,null,null,null,null,null,null,0,0,0,0,0,0,0,{"$error":"#DIV/0!"},"NUL"]
[3,64,null,"2011-03-05",0,null,null,null,null,null,null,{"$error":"#DIV/0!"},0,0,0,0,0,0,0,{"$error":"#DIV/0!"},0,null,null,null,null,null,null,null,0,0,0,0,0,0,0,{"$error":"#DIV/0!"},"NUL"]
[3,65,null,"2011-03-06",0,null,null,null,null,null,null,{"$error":"#DIV/0!"},0,0,0,0,0,0,0,{"$error":"#DIV/0!"},0,null,null,null,null,null,null,null,0,0,0,0,0,0,0,{"$error":"#DIV/0!"},"NUL"]
[3,66,null,"2011-03-07",0,null,null,null,null,null,null,{"$error":"#DIV/0!"},0,0,0,0,0,0,0,{"$error":"#DIV/0!"},0,null,null,null,null,null,null,null,0,0,0,0,0,0,0,{"$error":"#DIV/0!"},"NUL"]
[3,67,null,"2011-03-08",0,null,null,null,null,null,null,{"$error":"#DIV/0!"},0,0,0,0,0,0,0,{"$error":"#DIV/0!"},0,null,null,null,null,null,null,null,0,0,0,0,0,0,0,{"$error":"#DIV/0!"},"NUL"]
[3,68,null,"2011-03-09",0,null,null,null,null,null,null,{"$error":"#DIV/0!"},0,0,0,0,0,0,0,{"$error":"#DIV/0!"},0,null,null,null,null,null,null,null,0,0,0,0,0,0,0,{"$error":"#DIV/0!"},"NUL"]
[3,69,null,"2011-03-10",0,null,null,null,null,null,null,{"$error":"#DIV/0!"},0,0,0,0,0,0,0,{"$error":"#DIV/0!"},0,null,null,null,null,null,null,null,0,0,0,0,0,0,0,{"$error":"#DIV/0!"},"NUL"]
[3,70,null,"2011-03-11",0,null,null,null,null,null,null,{"$error":"#DIV/0!"},0,{"$f":"F92","v":0},{"$f":"G92","v":0},{"$f":"H92","v":0},{"$f":"I92","v":0},{"$f":"J92","v":0},0,{"$error":"#DIV/0!"},0,null,null,null,null,null,null,null,{"$f":"SUM(AD92:AG92)","v":0},0,0,0,0,0,0,{"$error":"#DIV/0!"},"NUL"]
[3,71,null,"2011-03-12",0,null,null,null,null,null,null,{"$error":"#DIV/0!"},0,0,0,0,0,0,0,{"$error":"#DIV/0!"},0,null,null,null,null,null,null,null,0,0,0,0,0,0,0,{"$error":"#DIV/0!"},"NUL"]
[3,72,null,"2011-03-13",0,null,null,null,null,null,null,{"$error":"#DIV/0!"},0,0,0,0,0,0,0,{"$error":"#DIV/0!"},0,null,null,null,null,null,null,null,0,0,0,0,0,0,0,{"$error":"#DIV/0!"},"NUL"]
[3,73,null,"2011-03-14",0,null,null,null,null,null,null,{"$error":"#DIV/0!"},0,0,0,0,0,0,0,{"$error":"#DIV/0!"},0,null,null,null,null,null,null,null,0,0,0,0,0,0,0,{"$error":"#DIV/0!"},"NUL"]
[3,74,null,"2011-03-15",0,null,null,null,null,null,null,{"$error":"#DIV/0!"},0,0,0,0,0,0,0,{"$error":"#DIV/0!"},0,null,null,null,null,null,null,null,0,0,0,0,0,0,0,{"$error":"#DIV/0!"},"NUL"]
[3,75,null,"2011-03-16",0,null,null,null,null,null,null,{"$error":"#DIV/0!"},0,0,0,0,0,0,0,{"$error":"#DIV/0!"},0,null,null,null,null,null,null,null,0,0,0,0,0,0,0,{"$error":"#DIV/0!"},"NUL"]
[3,76,null,"2011-03-17",0,null,null,null,null,null,null,{"$error":"#DIV/0!"},0,0,0,0,0,0,0,{"$error":"#DIV/0!"},0,null,null,null,null,null,null,null,0,0,0,0,0,0,0,{"$error":"#DIV/0!"},"NUL"]
[3,77,null,"2011-03-18",0,null,null,null,null,null,null,{"$error":"#DIV/0!"},0,0,0,0,0,0,0,{"$error":"#DIV/0!"},0,null,null,null,null,null,null,{"$f":"IF((Z99+AA99)/(V99+W99+X99)*100=0,\"\",(Z99+AA99)/(V99+W99+X99)*100)","v":{"$error":"#DIV/0!"}},0,0,0,0,0,0,0,{"$error":"#DIV/0!"},"NUL"]
[3,78,null,"2011-03-19",0,null,null,null,null,null,null,{"$error":"#DIV/0!"},0,0,0,0,0,0,0,{"$error":"#DIV/0!"},0,null,null,null,null,null,null,{"$f":"IF((Z100+AA100)/(V100+W100+X100)*100=0,\"\",(Z100+AA100)/(V100+W100+X100)*100)","v":{"$error":"#DIV/0!"}},0,0,0,0,0,0,0,{"$error":"#DIV/0!"},"NUL"]
[3,79,null,"2011-03-20",0,null,null,null,null,null,null,{"$error":"#DIV/0!"},0,null,0,0,0,0,0,{"$error":"#DIV/0!"},0,null,null,null,null,null,null,{"$f":"IF((Z101+AA101)/(V101+W101+X101)*100=0,\"\",(Z101+AA101)/(V101+W101+X101)*100)","v":{"$error":"#DIV/0!"}},0,0,{"$f":"G101+W101","v":0},{"$f":"H101+X101","v":0},{"$f":"I101+Y101","v":0},{"$f":"J101+Z101","v":0},{"$f":"K101+AA101","v":0},{"$error":"#DIV/0!"},"NUL"]
[3,80,null,"2011-03-21",0,null,null,null,null,null,null,{"$error":"#DIV/0!"},0,0,0,0,0,0,0,{"$error":"#DIV/0!"},0,null,null,null,null,null,null,{"$f":"IF((Z102+AA102)/(V102+W102+X102)*100=0,\"\",(Z102+AA102)/(V102+W102+X102)*100)","v":{"$error":"#DIV/0!"}},0,{"$f":"F102+V102","v":0},0,0,0,0,0,{"$error":"#DIV/0!"},"NUL"]
[3,81,null,"2011-03-22",0,null,null,null,null,null,null,{"$error":"#DIV/0!"},0,0,0,0,0,0,0,{"$error":"#DIV/0!"},0,null,null,null,null,null,null,null,0,0,0,0,0,0,0,{"$error":"#DIV/0!"},"NUL"]
[3,82,null,"2011-03-23",0,null,null,null,null,null,null,{"$error":"#DIV/0!"},0,0,0,0,0,0,0,{"$error":"#DIV/0!"},0,null,null,null,null,null,null,null,0,0,0,0,0,0,0,{"$error":"#DIV/0!"},"NUL"]
[3,83,null,"2011-03-24",0,null,null,null,null,null,null,{"$error":"#DIV/0!"},0,0,0,0,0,0,0,{"$error":"#DIV/0!"},0,null,null,null,null,null,null,null,0,0,0,0,0,0,0,{"$error":"#DIV/0!"},"NUL"]
[3,84,null,"2011-03-25",0,null,null,null,null,null,null,{"$error":"#DIV/0!"},0,0,0,0,0,0,0,{"$error":"#DIV/0!"},0,null,null,null,null,null,null,null,0,0,0,0,0,0,0,{"$error":"#DIV/0!"},"NUL"]
[3,85,null,"2011-03-26",0,null,null,null,null,null,null,{"$error":"#DIV/0!"},0,0,0,0,0,0,0,{"$error":"#DIV/0!"},0,null,null,null,null,null,null,null,0,0,0,0,0,0,0,{"$error":"#DIV/0!"},"NUL"]
[3,86,null,"2011-03-27",0,null,null,null,null,null,null,{"$error":"#DIV/0!"},0,0,0,0,0,0,0,{"$error":"#DIV/0!"},0,null,null,null,null,null,null,null,0,0,0,0,0,0,0,{"$error":"#DIV/0!"},"NUL"]
[3,87,null,"2011-03-28",0,null,null,null,null,null,null,{"$error":"#DIV/0!"},0,0,0,0,0,0,0,{"$error":"#DIV/0!"},0,null,null,null,null,null,null,null,0,0,0,0,0,0,0,{"$error":"#DIV/0!"},"NUL"]
[3,88,null,"2011-03-29",0,null,null,null,null,null,null,{"$error":"#DIV/0!"},0,0,0,0,0,0,0,{"$error":"#DIV/0!"},0,null,null,null,null,null,null,null,0,0,0,0,0,0,0,{"$error":"#DIV/0!"},"NUL"]
[3,89,null,"2011-03-30",{"$f":"SUM(F111:I111)","v":0},null,null,null,null,null,null,{"$error":"#DIV/0!"},0,0,0,0,0,0,0,{"$error":"#DIV/0!"},0,null,null,null,null,null,null,null,0,0,0,0,0,0,0,{"$error":"#DIV/0!"},"NUL"]
[3,90,null,"2011-03-31",0,null,null,null,null,null,null,{"$error":"#DIV/0!"},0,0,0,null,0,0,0,{"$error":"#DIV/0!"},0,null,null,null,null,null,null,{"$f":"IF((Z112+AA112)/(V112+W112+X112)*100=0,\"\",(Z112+AA112)/(V112+W112+X112)*100)","v":{"$error":"#DIV/0!"}},0,0,0,0,0,0,0,{"$error":"#DIV/0!"},"NUL"]
[null,null,null,null,{"$f":"SUM(E82:E112)","v":0},0,0,0,0,0,0,{"$error":"#DIV/0!"},{"$f":"SUM(M82:M112)","v":0},{"$f":"SUM(N82:N112)","v":0},0,0,0,0,0,{"$error":"#DIV/0!"},{"$f":"SUM(U82:U112)","v":0},0,0,0,0,0,0,{"$f":"IF((Z113+AA113)/(V113+W113+X113)*100=0,\"\",(Z113+AA113)/(V113+W113+X113)*100)","v":{"$error":"#DIV/0!"}},{"$f":"SUM(AC82:AC112)","v":0},0,0,0,0,0,0,{"$error":"#DIV/0!"},"NUL"]
[null,null,null,null,null,null,null,null,null,null,null,{"$error":"#DIV/0!"},null,null,null,null,null,null,null,null,null,null,null,null,null,null,null,null,null,null,null,null,null,null,null,null,"NUL"]
[{"$f":"MONTH(D115)","v":4},91,null,"2011-04-01",{"$f":"SUM(F115:I115)","v":0},null,null,null,null,null,null,{"$error":"#DIV/0!"},{"$f":"SUM(N115:Q115)","v":0},{"$f":"F115","v":0},{"$f":"G115","v":0},{"$f":"H115","v":0},{"$f":"I115","v":0},{"$f":"J115","v":0},{"$f":"K115","v":0},{"$f":"(R115+S115)/(N115+O115+P115)*100","v":{"$error":"#DIV/0!"}},{"$f":"SUM(V115:Y115)","v":0},null,null,null,null,null,null,{"$f":"IF((Z115+AA115)/(V115+W115+X115)*100=0,\"\",(Z115+AA115)/(V115+W115+X115)*100)","v":{"$error":"#DIV/0!"}},{"$f":"SUM(AD115:AG115)","v":0},{"$f":"F115+V115","v":0},{"$f":"G115+W115","v":0},{"$f":"H115+X115","v":0},{"$f":"I115+Y115","v":0},{"$f":"J115+Z115","v":0},{"$f":"K115+AA115","v":0},{"$f":"IF((AH115+AI115)/(AD115+AE115+AF115)*100=0,\"\",(AH115+AI115)/(AD115+AE115+AF115)*100)","v":{"$error":"#DIV/0!"}},"NUL"]
[4,92,null,"2011-04-02",0,null,null,null,null,null,null,{"$f":"(J116+K116)/(F116+G116+H116)*100","v":{"$error":"#DIV/0!"}},0,0,0,0,0,0,0,{"$error":"#DIV/0!"},0,null,null,null,null,null,null,{"$error":"#DIV/0!"},0,0,0,0,0,0,0,{"$error":"#DIV/0!"},"NUL"]
[4,93,null,"2011-04-03",0,null,null,null,null,null,null,{"$error":"#DIV/0!"},0,0,0,0,0,0,0,{"$error":"#DIV/0!"},0,null,null,null,null,null,null,{"$error":"#DIV/0!"},0,0,0,0,0,0,0,{"$error":"#DIV/0!"},"NUL"]
[4,94,null,"2011-04-04",0,null,null,null,null,null,null,{"$error":"#DIV/0!"},0,0,0,0,0,0,0,{"$error":"#DIV/0!"},0,null,null,null,null,null,null,{"$error":"#DIV/0!"},0,0,0,0,0,0,0,{"$error":"#DIV/0!"},"NUL"]
[4,95,null,"2011-04-05",0,null,null,null,null,null,null,{"$error":"#DIV/0!"},0,0,0,0,0,0,0,{"$error":"#DIV/0!"},0,null,null,null,null,null,null,{"$error":"#DIV/0!"},0,0,0,0,0,0,0,{"$error":"#DIV/0!"},"NUL"]
[4,96,null,"2011-04-06",0,null,null,null,null,null,null,{"$error":"#DIV/0!"},0,0,0,0,0,0,0,{"$error":"#DIV/0!"},0,null,null,null,null,null,null,{"$error":"#DIV/0!"},0,0,0,0,0,0,0,{"$error":"#DIV/0!"},"NUL"]
[4,97,null,"2011-04-07",0,null,null,null,null,null,null,{"$error":"#DIV/0!"},0,0,0,0,0,0,0,{"$error":"#DIV/0!"},0,null,null,null,null,null,null,{"$error":"#DIV/0!"},0,0,0,0,0,0,0,{"$error":"#DIV/0!"},"NUL"]
[4,98,null,"2011-04-08",0,null,null,null,null,null,null,{"$error":"#DIV/0!"},0,null,null,null,0,0,0,{"$error":"#DIV/0!"},0,null,null,null,null,null,null,{"$error":"#DIV/0!"},0,0,0,0,0,0,0,{"$error":"#DIV/0!"},"NUL"]
[4,99,null,"2011-04-09",0,null,null,null,null,null,null,{"$error":"#DIV/0!"},0,0,0,0,0,0,0,{"$error":"#DIV/0!"},0,null,null,null,null,null,null,{"$error":"#DIV/0!"},0,0,0,0,0,0,0,{"$error":"#DIV/0!"},"NUL"]
[4,100,null,"2011-04-10",0,null,null,null,null,null,null,{"$error":"#DIV/0!"},0,0,0,0,0,0,0,{"$error":"#DIV/0!"},0,null,null,null,null,null,null,{"$error":"#DIV/0!"},0,0,0,0,0,0,0,{"$error":"#DIV/0!"},"NUL"]
[4,101,null,"2011-04-11",0,null,null,null,null,null,null,{"$error":"#DIV/0!"},0,0,0,0,0,0,0,{"$error":"#DIV/0!"},0,null,null,null,null,null,null,{"$error":"#DIV/0!"},0,0,0,0,0,0,0,{"$error":"#DIV/0!"},"NUL"]
[4,102,null,"2011-04-12",0,null,null,null,null,null,null,{"$error":"#DIV/0!"},0,0,0,0,0,0,0,{"$error":"#DIV/0!"},0,null,null,null,null,null,null,{"$error":"#DIV/0!"},0,0,0,0,0,0,0,{"$error":"#DIV/0!"},"NUL"]
[4,103,null,"2011-04-13",0,null,null,null,null,null,null,{"$error":"#DIV/0!"},0,0,0,0,0,0,0,{"$error":"#DIV/0!"},0,null,null,null,null,null,null,{"$error":"#DIV/0!"},0,0,0,0,0,0,0,{"$error":"#DIV/0!"},"NUL"]
[4,104,null,"2011-04-14",0,null,null,null,null,null,null,{"$error":"#DIV/0!"},0,0,0,0,0,0,0,{"$error":"#DIV/0!"},0,null,null,null,null,null,null,{"$error":"#DIV/0!"},0,0,0,0,0,0,0,{"$error":"#DIV/0!"},"NUL"]
[4,105,null,"2011-04-15",0,null,null,null,null,null,null,{"$error":"#DIV/0!"},0,0,0,0,0,0,0,{"$error":"#DIV/0!"},0,null,null,null,null,null,null,{"$error":"#DIV/0!"},0,0,0,0,0,0,0,{"$error":"#DIV/0!"},"NUL"]
[4,106,null,"2011-04-16",0,null,null,null,null,null,null,{"$error":"#DIV/0!"},0,0,0,0,0,0,0,{"$error":"#DIV/0!"},0,null,null,null,null,null,null,{"$error":"#DIV/0!"},0,0,0,0,0,0,0,{"$error":"#DIV/0!"},"NUL"]
[4,107,null,"2011-04-17",0,null,null,null,null,null,null,{"$error":"#DIV/0!"},0,0,0,0,0,0,0,{"$error":"#DIV/0!"},0,null,null,null,null,null,null,{"$error":"#DIV/0!"},0,0,0,0,0,0,0,{"$error":"#DIV/0!"},"NUL"]
[4,108,null,"2011-04-18",0,null,null,null,null,null,null,{"$error":"#DIV/0!"},0,0,0,0,0,0,0,{"$error":"#DIV/0!"},0,null,null,null,null,null,null,{"$error":"#DIV/0!"},0,0,0,0,0,0,0,{"$error":"#DIV/0!"},"NUL"]
[4,109,null,"2011-04-19",0,null,null,null,null,null,null,{"$error":"#DIV/0!"},0,0,0,0,0,0,0,{"$error":"#DIV/0!"},0,null,null,null,null,null,null,{"$error":"#DIV/0!"},0,0,0,0,0,0,0,{"$error":"#DIV/0!"},"NUL"]
[4,110,null,"2011-04-20",0,null,null,null,null,null,null,{"$error":"#DIV/0!"},0,0,0,0,0,0,0,{"$error":"#DIV/0!"},0,null,null,null,null,null,null,{"$error":"#DIV/0!"},0,0,0,0,0,0,0,{"$error":"#DIV/0!"},"NUL"]
[4,111,null,"2011-04-21",0,null,null,null,null,null,null,{"$error":"#DIV/0!"},0,0,0,0,0,0,0,{"$error":"#DIV/0!"},0,null,null,null,null,null,null,{"$error":"#DIV/0!"},0,0,0,0,0,0,0,{"$error":"#DIV/0!"},"NUL"]
[4,112,null,"2011-04-22",0,null,null,null,null,null,null,{"$error":"#DIV/0!"},0,0,0,0,0,0,0,{"$error":"#DIV/0!"},0,null,null,null,null,null,null,{"$error":"#DIV/0!"},0,0,0,0,0,0,0,{"$error":"#DIV/0!"},"NUL"]
[4,113,null,"2011-04-23",0,null,null,null,null,null,null,{"$error":"#DIV/0!"},0,0,0,0,0,0,0,{"$error":"#DIV/0!"},0,null,null,null,null,null,null,{"$error":"#DIV/0!"},0,0,0,0,0,0,0,{"$error":"#DIV/0!"},"NUL"]
[4,114,null,"2011-04-24",0,null,null,null,null,null,null,{"$error":"#DIV/0!"},0,0,0,0,0,0,0,{"$error":"#DIV/0!"},0,null,null,null,null,null,null,{"$error":"#DIV/0!"},0,0,0,0,0,0,0,{"$error":"#DIV/0!"},"NUL"]
[4,115,null,"2011-04-25",0,null,null,null,null,null,null,{"$error":"#DIV/0!"},0,0,0,0,0,0,0,{"$error":"#DIV/0!"},0,null,null,null,null,null,null,{"$error":"#DIV/0!"},0,0,0,0,0,0,0,{"$error":"#DIV/0!"},"NUL"]
[4,116,null,"2011-04-26",0,null,null,null,null,null,null,{"$error":"#DIV/0!"},0,0,0,0,0,0,0,{"$error":"#DIV/0!"},0,null,null,null,null,null,null,null,0,0,0,0,0,0,0,{"$error":"#DIV/0!"},"NUL"]
[4,117,null,"2011-04-27",0,null,null,null,null,null,null,{"$error":"#DIV/0!"},0,0,0,0,0,0,0,{"$error":"#DIV/0!"},0,null,null,null,null,null,null,null,0,0,0,0,0,0,0,{"$error":"#DIV/0!"},"NUL"]
[4,118,null,"2011-04-28",0,null,null,null,null,null,null,{"$error":"#DIV/0!"},0,0,0,0,0,0,0,{"$error":"#DIV/0!"},0,null,null,null,null,null,null,null,0,0,0,0,0,0,0,{"$error":"#DIV/0!"},"NUL"]
[4,119,null,"2011-04-29",0,null,null,null,null,null,null,{"$error":"#DIV/0!"},0,0,0,0,0,0,0,{"$error":"#DIV/0!"},0,null,null,null,null,null,null,null,0,0,0,0,0,0,0,{"$error":"#DIV/0!"},"NUL"]
[4,120,null,"2011-04-30",0,null,null,null,null,null,null,{"$error":"#DIV/0!"},0,0,0,0,0,0,0,{"$error":"#DIV/0!"},0,null,null,null,null,null,null,{"$error":"#DIV/0!"},0,0,0,0,0,0,0,{"$error":"#DIV/0!"},"NUL"]
[null,null,null,null,{"$f":"SUM(E115:E144)","v":0},0,0,0,0,0,0,{"$error":"#DIV/0!"},{"$f":"SUM(M115:M144)","v":0},0,0,0,0,0,0,{"$error":"#DIV/0!"},{"$f":"SUM(U115:U144)","v":0},0,0,0,0,0,0,{"$error":"#DIV/0!"},{"$f":"SUM(AC115:AC144)","v":0},0,0,0,0,0,0,{"$error":"#DIV/0!"},"NUL"]
[null,null,null,null,null,null,null,null,null,null,null,{"$error":"#DIV/0!"},null,null,null,null,null,null,null,null,null,null,null,null,null,null,null,null,null,0,0,0,0,0,0,null,"NUL"]
[{"$f":"MONTH(D147)","v":5},121,null,"2011-05-01",{"$f":"SUM(F147:I147)","v":0},null,null,null,null,null,null,{"$error":"#DIV/0!"},{"$f":"SUM(N147:Q147)","v":0},{"$f":"F147","v":0},0,0,0,0,0,{"$f":"(R147+S147)/(N147+O147+P147)*100","v":{"$error":"#DIV/0!"}},{"$f":"SUM(V147:Y147)","v":0},null,null,null,null,null,null,{"$f":"IF((Z147+AA147)/(V147+W147+X147)*100=0,\"\",(Z147+AA147)/(V147+W147+X147)*100)","v":{"$error":"#DIV/0!"}},{"$f":"SUM(AD147:AG147)","v":0},0,0,0,0,0,0,{"$f":"IF((AH147+AI147)/(AD147+AE147+AF147)*100=0,\"\",(AH147+AI147)/(AD147+AE147+AF147)*100)","v":{"$error":"#DIV/0!"}},"NUL"]
[5,122,null,"2011-05-02",0,null,null,null,null,null,null,{"$error":"#DIV/0!"},0,0,0,0,0,0,0,{"$error":"#DIV/0!"},0,null,null,null,null,null,null,{"$error":"#DIV/0!"},0,0,0,0,0,0,0,{"$error":"#DIV/0!"},"NUL"]
[5,123,null,"2011-05-03",0,null,null,null,null,null,null,{"$error":"#DIV/0!"},0,0,0,0,0,0,0,{"$error":"#DIV/0!"},0,null,null,null,null,null,null,{"$error":"#DIV/0!"},0,0,0,0,0,0,0,{"$error":"#DIV/0!"},"NUL"]
[5,124,null,"2011-05-04",0,null,null,null,null,null,null,{"$error":"#DIV/0!"},0,{"$f":"F150","v":0},0,0,0,0,0,{"$f":"(R150+S150)/(N150+O150+P150)*100","v":{"$error":"#DIV/0!"}},0,null,null,null,null,null,null,{"$error":"#DIV/0!"},0,0,0,0,0,0,0,{"$error":"#DIV/0!"},"NUL"]
[5,125,null,"2011-05-05",0,null,null,null,null,null,null,{"$error":"#DIV/0!"},0,0,0,0,0,0,0,{"$f":"(R151+S151)/(N151+O151+P151)*100","v":{"$error":"#DIV/0!"}},0,null,null,null,null,null,null,{"$error":"#DIV/0!"},0,0,0,0,0,0,0,{"$error":"#DIV/0!"},"NUL"]
[5,126,null,"2011-05-06",0,null,null,null,null,null,null,{"$error":"#DIV/0!"},0,0,0,0,0,0,0,{"$f":"(R152+S152)/(N152+O152+P152)*100","v":{"$error":"#DIV/0!"}},0,null,null,null,null,null,null,{"$error":"#DIV/0!"},0,0,0,0,0,0,0,{"$error":"#DIV/0!"},"NUL"]
[5,127,null,"2011-05-07",0,null,null,null,null,null,null,{"$error":"#DIV/0!"},0,0,0,0,0,0,0,{"$f":"(R153+S153)/(N153+O153+P153)*100","v":{"$error":"#DIV/0!"}},0,null,null,null,null,null,null,{"$error":"#DIV/0!"},0,0,0,0,0,0,0,{"$error":"#DIV/0!"},"NUL"]
[5,128,null,"2011-05-08",0,null,null,null,null,null,null,{"$error":"#DIV/0!"},0,{"$f":"F154","v":0},{"$f":"G154","v":0},{"$f":"H154","v":0},{"$f":"I154","v":0},{"$f":"J154","v":0},{"$f":"K154","v":0},{"$error":"#DIV/0!"},0,null,null,null,null,null,null,{"$error":"#DIV/0!"},0,0,0,0,0,0,0,{"$error":"#DIV/0!"},"NUL"]
[5,129,null,"2011-05-09",0,null,null,null,null,null,null,{"$error":"#DIV/0!"},0,0,0,0,0,0,0,{"$error":"#DIV/0!"},0,null,null,null,null,null,null,{"$error":"#DIV/0!"},0,0,0,0,0,0,0,{"$error":"#DIV/0!"},"NUL"]
[5,130,null,"2011-05-10",0,null,null,null,null,null,null,{"$error":"#DIV/0!"},0,0,0,0,0,0,0,{"$error":"#DIV/0!"},0,null,null,null,null,null,null,null,0,0,0,0,0,0,0,{"$error":"#DIV/0!"},"NUL"]
[5,131,null,"2011-05-11",0,null,null,null,null,null,null,{"$error":"#DIV/0!"},0,0,0,0,0,0,0,{"$error":"#DIV/0!"},0,null,null,null,null,null,null,null,0,0,0,0,0,0,0,{"$error":"#DIV/0!"},"NUL"]
[5,132,null,"2011-05-12",0,null,null,null,null,null,null,{"$error":"#DIV/0!"},0,0,0,0,0,0,0,{"$error":"#DIV/0!"},0,null,null,null,null,null,null,null,{"$f":"SUM(AD158:AG158)","v":0},{"$f":"F158+V158","v":0},0,0,0,0,0,{"$error":"#DIV/0!"},"NUL"]
[5,133,null,"2011-05-13",0,null,null,null,null,null,null,{"$error":"#DIV/0!"},0,0,0,0,0,0,0,{"$error":"#DIV/0!"},0,null,null,null,null,null,null,null,0,0,0,0,0,0,0,{"$error":"#DIV/0!"},"NUL"]
[5,134,null,"2011-05-14",0,null,null,null,null,null,null,{"$error":"#DIV/0!"},0,0,0,0,0,0,0,{"$error":"#DIV/0!"},0,null,null,null,null,null,null,null,0,0,0,0,0,0,0,{"$error":"#DIV/0!"},"NUL"]
[5,135,null,"2011-05-15",0,null,null,null,null,null,null,{"$error":"#DIV/0!"},0,0,0,0,0,0,0,{"$error":"#DIV/0!"},0,null,null,null,null,null,null,null,0,0,0,0,0,0,0,{"$error":"#DIV/0!"},"NUL"]
[5,136,null,"2011-05-16",0,null,null,null,null,null,null,{"$error":"#DIV/0!"},0,0,0,0,0,0,0,{"$error":"#DIV/0!"},0,null,null,null,null,null,null,null,0,0,0,0,0,0,0,{"$error":"#DIV/0!"},"NUL"]
[5,137,null,"2011-05-17",0,null,null,null,null,null,null,{"$error":"#DIV/0!"},0,0,0,0,0,0,0,{"$error":"#DIV/0!"},0,null,null,null,null,null,null,null,0,0,0,0,0,0,0,{"$error":"#DIV/0!"},"NUL"]
[5,138,null,"2011-05-18",0,null,null,null,null,null,null,{"$error":"#DIV/0!"},0,0,0,0,0,0,0,{"$error":"#DIV/0!"},0,null,null,null,null,null,null,null,0,0,0,0,0,0,0,{"$error":"#DIV/0!"},"NUL"]
[5,139,null,"2011-05-19",0,null,null,null,null,null,null,{"$error":"#DIV/0!"},0,0,0,0,0,0,0,{"$error":"#DIV/0!"},0,null,null,null,null,null,null,null,0,0,0,0,0,0,0,{"$error":"#DIV/0!"},"NUL"]
[5,140,null,"2011-05-20",0,null,null,null,null,null,null,{"$error":"#DIV/0!"},0,0,0,0,0,0,0,{"$error":"#DIV/0!"},0,null,null,null,null,null,null,{"$error":"#DIV/0!"},0,0,0,0,0,0,0,{"$error":"#DIV/0!"},"NUL"]
[5,141,null,"2011-05-21",0,null,null,null,null,null,null,{"$error":"#DIV/0!"},0,0,0,0,0,0,0,{"$error":"#DIV/0!"},0,null,null,null,null,null,null,{"$error":"#DIV/0!"},0,0,0,0,0,0,0,{"$error":"#DIV/0!"},"NUL"]
[5,142,null,"2011-05-22",0,null,null,null,null,null,null,{"$error":"#DIV/0!"},0,0,0,0,0,0,0,{"$error":"#DIV/0!"},0,null,null,null,null,null,null,{"$error":"#DIV/0!"},0,0,0,0,0,0,0,{"$error":"#DIV/0!"},"NUL"]
[5,143,null,"2011-05-23",0,null,null,null,null,null,null,{"$error":"#DIV/0!"},0,0,0,0,0,0,0,{"$error":"#DIV/0!"},0,null,null,null,null,null,null,{"$error":"#DIV/0!"},0,0,0,0,0,0,0,{"$error":"#DIV/0!"},"NUL"]
[5,144,null,"2011-05-24",0,null,null,null,null,null,null,{"$error":"#DIV/0!"},0,0,0,0,0,0,0,{"$error":"#DIV/0!"},0,null,null,null,null,null,null,{"$error":"#DIV/0!"},0,0,0,0,0,0,0,{"$error":"#DIV/0!"},"NUL"]
[5,145,null,"2011-05-25",0,null,null,null,null,null,null,{"$error":"#DIV/0!"},0,0,0,0,0,0,0,{"$error":"#DIV/0!"},0,null,null,null,null,null,null,{"$error":"#DIV/0!"},0,0,0,0,0,0,0,{"$error":"#DIV/0!"},"NUL"]
[5,146,null,"2011-05-26",0,null,null,null,null,null,null,{"$error":"#DIV/0!"},0,0,0,0,0,0,0,{"$error":"#DIV/0!"},0,null,null,null,null,null,null,{"$error":"#DIV/0!"},0,0,0,0,0,0,0,{"$error":"#DIV/0!"},"NUL"]
[5,147,null,"2011-05-27",0,null,null,null,null,null,null,{"$error":"#DIV/0!"},0,{"$f":"F173","v":0},0,0,0,0,0,{"$f":"(R173+S173)/(N173+O173+P173)*100","v":{"$error":"#DIV/0!"}},0,null,null,null,null,null,null,null,0,0,0,0,0,0,0,{"$error":"#DIV/0!"},"NUL"]
[5,148,null,"2011-05-28",0,null,null,null,null,null,null,{"$error":"#DIV/0!"},0,0,0,0,0,0,0,{"$error":"#DIV/0!"},0,null,null,null,null,null,null,null,0,{"$f":"F174+V174","v":0},{"$f":"G174+W174","v":0},0,0,0,0,{"$error":"#DIV/0!"},"NUL"]
[5,149,null,"2011-05-29",0,null,null,null,null,null,null,{"$error":"#DIV/0!"},0,0,0,0,0,0,0,{"$error":"#DIV/0!"},0,null,null,null,null,null,null,{"$error":"#DIV/0!"},0,0,0,0,0,0,0,{"$error":"#DIV/0!"},"NUL"]
[5,150,null,"2011-05-30",0,null,null,null,null,null,null,{"$error":"#DIV/0!"},0,0,0,0,0,0,0,{"$error":"#DIV/0!"},0,null,null,null,null,null,null,{"$error":"#DIV/0!"},0,0,0,0,0,0,0,{"$error":"#DIV/0!"},"NUL"]
[5,151,null,"2011-05-31",0,null,null,null,null,null,null,{"$error":"#DIV/0!"},0,0,0,0,0,0,0,{"$error":"#DIV/0!"},0,null,null,null,null,null,null,{"$error":"#DIV/0!"},0,0,0,0,0,0,0,{"$error":"#DIV/0!"},"NUL"]
[null,null,null,null,{"$f":"SUM(E147:E177)","v":0},0,0,0,0,0,0,{"$error":"#DIV/0!"},{"$f":"SUM(M147:M177)","v":0},{"$f":"SUM(N147:N177)","v":0},{"$f":"G178","v":0},{"$f":"H178","v":0},{"$f":"I178","v":0},{"$f":"J178","v":0},{"$f":"K178","v":0},{"$error":"#DIV/0!"},{"$f":"SUM(U147:U177)","v":0},0,0,0,0,0,0,{"$error":"#DIV/0!"},{"$f":"SUM(AC147:AC177)","v":0},0,0,0,0,0,0,{"$error":"#DIV/0!"},"NUL"]
[null,null,null,null,null,null,null,null,null,null,null,{"$error":"#DIV/0!"},null,null,null,null,null,null,null,null,null,null,null,null,null,null,null,null,null,{"$f":"F179+V179","v":0},{"$f":"G179+W179","v":0},{"$f":"H179+X179","v":0},{"$f":"I179+Y179","v":0},{"$f":"J179+Z179","v":0},{"$f":"K179+AA179","v":0},null,"NUL"]
[{"$f":"MONTH(D180)","v":6},152,null,"2011-06-01",{"$f":"SUM(F180:I180)","v":0},null,null,null,null,null,null,{"$f":"(J180+K180)/(F180+G180+H180)*100","v":{"$error":"#DIV/0!"}},{"$f":"SUM(N180:Q180)","v":0},{"$f":"F180","v":0},{"$f":"G180","v":0},{"$f":"H180","v":0},{"$f":"I180","v":0},{"$f":"J180","v":0},{"$f":"K180","v":0},{"$f":"(R180+S180)/(N180+O180+P180)*100","v":{"$error":"#DIV/0!"}},{"$f":"SUM(V180:Y180)","v":0},null,null,null,null,null,null,{"$f":"IF((Z180+AA180)/(V180+W180+X180)*100=0,\"\",(Z180+AA180)/(V180+W180+X180)*100)","v":{"$error":"#DIV/0!"}},{"$f":"SUM(AD180:AG180)","v":0},0,0,0,0,0,0,{"$f":"IF((AH180+AI180)/(AD180+AE180+AF180)*100=0,\"\",(AH180+AI180)/(AD180+AE180+AF180)*100)","v":{"$error":"#DIV/0!"}},"NUL"]
[6,153,null,"2011-06-02",0,null,null,null,null,null,null,{"$error":"#DIV/0!"},0,0,0,0,0,0,0,{"$error":"#DIV/0!"},0,null,null,null,null,null,null,null,null,0,0,0,0,0,0,{"$error":"#DIV/0!"},"NUL"]
[6,154,null,"2011-06-03",0,null,null,null,null,null,null,{"$error":"#DIV/0!"},0,0,0,0,0,0,0,{"$error":"#DIV/0!"},0,null,null,null,null,null,null,null,null,0,0,0,0,0,0,{"$error":"#DIV/0!"},"NUL"]
[6,155,null,"2011-06-04",0,null,null,null,null,null,null,{"$error":"#DIV/0!"},0,{"$f":"F183","v":0},{"$f":"G183","v":0},{"$f":"H183","v":0},{"$f":"I183","v":0},0,0,{"$error":"#DIV/0!"},0,null,null,null,null,null,null,null,null,0,0,0,0,0,0,{"$error":"#DIV/0!"},"NUL"]
[6,156,null,"2011-06-05",0,null,null,null,null,null,null,{"$error":"#DIV/0!"},0,0,0,0,0,0,0,{"$error":"#DIV/0!"},0,null,null,null,null,null,null,null,null,0,0,0,0,0,0,{"$error":"#DIV/0!"},"NUL"]
[6,157,null,"2011-06-06",0,null,null,null,null,null,null,{"$error":"#DIV/0!"},0,0,0,0,0,0,0,{"$error":"#DIV/0!"},0,null,null,null,null,null,null,null,null,0,0,0,0,0,0,{"$error":"#DIV/0!"},"NUL"]
[6,158,null,"2011-06-07",0,null,null,null,null,null,null,{"$error":"#DIV/0!"},0,0,0,0,0,0,0,{"$error":"#DIV/0!"},0,null,null,null,null,null,null,null,null,0,0,0,0,0,0,{"$error":"#DIV/0!"},"NUL"]
[6,159,null,"2011-06-08",0,null,null,null,null,null,null,{"$error":"#DIV/0!"},0,0,0,0,0,0,0,{"$error":"#DIV/0!"},0,null,null,null,null,null,null,null,null,0,0,0,0,0,0,{"$error":"#DIV/0!"},"NUL"]
[6,160,null,"2011-06-09",0,null,null,null,null,null,null,{"$error":"#DIV/0!"},0,0,0,0,0,0,0,{"$error":"#DIV/0!"},0,null,null,null,null,null,null,null,null,0,0,0,0,0,0,{"$error":"#DIV/0!"},"NUL"]
[6,161,null,"2011-06-10",0,null,null,null,null,null,null,{"$error":"#DIV/0!"},0,0,0,0,0,0,0,{"$error":"#DIV/0!"},0,null,null,null,null,null,null,null,null,0,0,0,0,0,0,{"$error":"#DIV/0!"},"NUL"]
[6,162,null,"2011-06-11",0,null,null,null,null,null,null,{"$error":"#DIV/0!"},0,0,0,0,0,0,0,{"$error":"#DIV/0!"},0,null,null,null,null,null,null,null,null,0,0,0,0,0,0,{"$error":"#DIV/0!"},"NUL"]
[6,163,null,"2011-06-12",0,null,null,null,null,null,null,{"$error":"#DIV/0!"},0,0,0,0,0,0,0,{"$error":"#DIV/0!"},0,null,null,null,null,null,null,null,null,0,0,0,0,0,0,{"$error":"#DIV/0!"},"NUL"]
[6,164,null,"2011-06-13",0,null,null,null,null,null,null,{"$error":"#DIV/0!"},0,0,0,0,0,0,0,{"$error":"#DIV/0!"},0,null,null,null,null,null,null,null,null,0,0,0,0,0,0,{"$error":"#DIV/0!"},"NUL"]
[6,165,null,"2011-06-14",0,null,null,null,null,null,null,{"$error":"#DIV/0!"},0,0,0,0,0,0,0,{"$error":"#DIV/0!"},0,null,null,null,null,null,null,null,0,0,0,0,0,0,0,{"$error":"#DIV/0!"},"NUL"]
[6,166,null,"2011-06-15",0,null,null,null,null,null,null,{"$error":"#DIV/0!"},null,0,0,0,0,0,0,{"$error":"#DIV/0!"},0,null,null,null,null,null,null,null,0,0,0,0,0,0,0,{"$error":"#DIV/0!"},"NUL"]
[6,167,null,"2011-06-16",0,null,null,null,null,null,null,{"$error":"#DIV/0!"},null,{"$f":"F195","v":0},0,0,0,0,0,{"$f":"(R195+S195)/(N195+O195+P195)*100","v":{"$error":"#DIV/0!"}},0,null,null,null,null,null,null,null,0,0,0,0,0,0,0,{"$error":"#DIV/0!"},"NUL"]
[6,168,null,"2011-06-17",0,null,null,null,null,null,null,{"$error":"#DIV/0!"},null,0,0,0,0,0,0,{"$error":"#DIV/0!"},0,null,null,null,null,null,null,null,0,0,0,0,0,0,0,{"$error":"#DIV/0!"},"NUL"]
[6,169,null,"2011-06-18",0,null,null,null,null,null,null,{"$error":"#DIV/0!"},null,0,0,0,0,0,0,{"$error":"#DIV/0!"},0,null,null,null,null,null,null,null,0,0,0,0,0,0,0,{"$error":"#DIV/0!"},"NUL"]
[6,170,null,"2011-06-19",0,null,null,null,null,null,null,{"$error":"#DIV/0!"},null,0,0,0,0,0,0,{"$error":"#DIV/0!"},0,null,null,null,null,null,null,null,0,0,0,0,0,0,0,{"$error":"#DIV/0!"},"NUL"]
[6,171,null,"2011-06-20",0,null,null,null,null,null,null,{"$error":"#DIV/0!"},null,0,0,0,0,0,0,{"$error":"#DIV/0!"},0,null,null,null,null,null,null,null,0,0,0,0,0,0,0,{"$error":"#DIV/0!"},"NUL"]
[6,172,null,"2011-06-21",0,null,null,null,null,null,null,{"$error":"#DIV/0!"},null,0,0,0,0,0,0,{"$error":"#DIV/0!"},0,null,null,null,null,null,null,null,0,0,0,0,0,0,0,{"$error":"#DIV/0!"},"NUL"]
[6,173,null,"2011-06-22",0,null,null,null,null,null,null,{"$error":"#DIV/0!"},null,0,0,0,0,0,0,{"$error":"#DIV/0!"},0,null,null,null,null,null,null,null,0,0,0,0,0,0,0,{"$error":"#DIV/0!"},"NUL"]
[6,174,null,"2011-06-23",0,null,null,null,null,null,null,{"$error":"#DIV/0!"},null,0,0,0,0,0,0,{"$error":"#DIV/0!"},0,null,null,null,null,null,null,null,0,0,0,0,0,0,0,{"$error":"#DIV/0!"},"NUL"]
[6,175,null,"2011-06-24",0,null,null,null,null,null,null,{"$error":"#DIV/0!"},null,0,0,0,0,0,0,{"$error":"#DIV/0!"},0,null,null,null,null,null,null,null,0,0,0,0,0,0,0,{"$error":"#DIV/0!"},"NUL"]
[6,176,null,"2011-06-25",0,null,null,null,null,null,null,{"$error":"#DIV/0!"},null,0,0,0,0,0,0,{"$error":"#DIV/0!"},0,null,null,null,null,null,null,null,0,0,0,0,0,0,0,{"$error":"#DIV/0!"},"NUL"]
[6,177,null,"2011-06-26",0,null,null,null,null,null,null,{"$error":"#DIV/0!"},null,0,0,0,0,0,0,{"$error":"#DIV/0!"},0,null,null,null,null,null,null,null,0,0,0,0,0,0,0,{"$error":"#DIV/0!"},"NUL"]
[6,178,null,"2011-06-27",0,null,null,null,null,null,null,{"$error":"#DIV/0!"},null,0,0,0,0,0,0,{"$error":"#DIV/0!"},0,null,null,null,null,null,null,null,0,0,0,0,0,0,0,{"$error":"#DIV/0!"},"NUL"]
[6,179,null,"2011-06-28",0,null,null,null,null,null,null,{"$error":"#DIV/0!"},null,0,0,0,0,0,0,{"$error":"#DIV/0!"},0,null,null,null,null,null,null,null,0,0,0,0,0,0,0,{"$error":"#DIV/0!"},"NUL"]
[6,180,null,"2011-06-29",0,null,null,null,null,null,null,{"$error":"#DIV/0!"},null,0,0,0,0,0,0,{"$error":"#DIV/0!"},0,null,null,null,null,null,null,null,0,0,0,0,0,0,0,{"$error":"#DIV/0!"},"NUL"]
[6,181,null,"2011-06-30",0,null,null,null,null,null,null,{"$error":"#DIV/0!"},0,0,0,0,0,0,0,{"$error":"#DIV/0!"},0,null,null,null,null,null,null,null,0,0,0,0,0,0,0,{"$error":"#DIV/0!"},"NUL"]
[null,null,null,null,{"$f":"SUM(E180:E209)","v":0},0,0,0,0,0,0,{"$error":"#DIV/0!"},{"$f":"SUM(M180:M209)","v":0},0,0,0,0,0,0,{"$error":"#DIV/0!"},{"$f":"SUM(U180:U209)","v":0},0,0,0,0,0,0,{"$f":"IF((Z210+AA210)/(V210+W210+X210)*100=0,\"\",(Z210+AA210)/(V210+W210+X210)*100)","v":{"$error":"#DIV/0!"}},{"$f":"SUM(AC180:AC209)","v":0},0,0,0,0,0,0,{"$error":"#DIV/0!"},"NUL"]
[null,null,null,null,null,null,null,null,null,null,null,{"$error":"#DIV/0!"},null,null,null,null,null,null,null,null,null,null,null,null,null,null,null,null,null,0,0,0,0,0,0,null,"NUL"]
[{"$f":"MONTH(D212)","v":7},182,null,"2011-07-01",{"$f":"SUM(F212:I212)","v":0},null,null,null,null,null,null,{"$error":"#DIV/0!"},{"$f":"SUM(N212:Q212)","v":0},{"$f":"F212","v":0},{"$f":"G212","v":0},{"$f":"H212","v":0},{"$f":"I212","v":0},{"$f":"J212","v":0},{"$f":"K212","v":0},{"$f":"(R212+S212)/(N212+O212+P212)*100","v":{"$error":"#DIV/0!"}},{"$f":"SUM(V212:Y212)","v":0},null,null,null,null,null,null,{"$f":"IF((Z212+AA212)/(V212+W212+X212)*100=0,\"\",(Z212+AA212)/(V212+W212+X212)*100)","v":{"$error":"#DIV/0!"}},{"$f":"SUM(AD212:AG212)","v":0},0,0,0,0,0,0,{"$f":"IF((AH212+AI212)/(AD212+AE212+AF212)*100=0,\"\",(AH212+AI212)/(AD212+AE212+AF212)*100)","v":{"$error":"#DIV/0!"}},"NUL"]
[7,183,null,"2011-07-02",0,null,null,null,null,null,null,{"$error":"#DIV/0!"},0,0,0,0,0,0,0,{"$error":"#DIV/0!"},0,null,null,null,null,null,null,{"$error":"#DIV/0!"},0,0,0,0,0,0,0,{"$error":"#DIV/0!"},"NUL"]
[7,184,null,"2011-07-03",0,null,null,null,null,null,null,{"$error":"#DIV/0!"},0,0,0,0,0,0,0,{"$error":"#DIV/0!"},0,null,null,null,null,null,null,{"$error":"#DIV/0!"},0,0,0,0,0,0,0,{"$error":"#DIV/0!"},"NUL"]
[7,185,null,"2011-07-04",0,null,null,null,null,null,null,{"$error":"#DIV/0!"},0,0,0,0,0,0,0,{"$error":"#DIV/0!"},0,null,null,null,null,null,null,{"$error":"#DIV/0!"},0,0,0,0,0,0,0,{"$error":"#DIV/0!"},"NUL"]
[7,186,null,"2011-07-05",0,null,null,null,null,null,null,{"$error":"#DIV/0!"},0,0,0,0,0,0,0,{"$error":"#DIV/0!"},null,null,null,null,null,null,null,null,0,0,0,0,0,0,0,{"$error":"#DIV/0!"},"NUL"]
[7,187,null,"2011-07-06",0,null,null,null,null,null,null,{"$error":"#DIV/0!"},0,0,0,0,0,0,0,{"$error":"#DIV/0!"},null,null,null,null,null,null,null,null,0,0,0,0,0,0,0,{"$error":"#DIV/0!"},"NUL"]
[7,188,null,"2011-07-07",0,null,null,null,null,null,null,{"$error":"#DIV/0!"},0,0,0,0,0,0,0,{"$error":"#DIV/0!"},null,null,null,null,null,null,null,null,0,0,0,0,0,0,0,{"$error":"#DIV/0!"},"NUL"]
[7,189,null,"2011-07-08",0,null,null,null,null,null,null,{"$error":"#DIV/0!"},0,0,0,0,0,0,0,{"$error":"#DIV/0!"},null,null,null,null,null,null,null,null,0,0,0,0,0,0,0,{"$error":"#DIV/0!"},"NUL"]
[7,190,null,"2011-07-09",0,null,null,null,null,null,null,{"$error":"#DIV/0!"},0,0,0,0,0,0,0,{"$error":"#DIV/0!"},null,null,null,null,null,null,null,null,0,0,0,0,0,0,0,{"$error":"#DIV/0!"},"NUL"]
[7,191,null,"2011-07-10",0,null,null,null,null,null,null,{"$error":"#DIV/0!"},0,0,0,0,0,0,0,{"$error":"#DIV/0!"},null,null,null,null,null,null,null,null,0,0,0,0,0,0,0,{"$error":"#DIV/0!"},"NUL"]
[7,192,null,"2011-07-11",0,null,null,null,null,null,null,{"$error":"#DIV/0!"},0,0,0,0,0,0,0,{"$error":"#DIV/0!"},null,null,null,null,null,null,null,null,0,0,0,0,0,0,0,{"$error":"#DIV/0!"},"NUL"]
[7,193,null,"2011-07-12",0,null,null,null,null,null,null,{"$error":"#DIV/0!"},0,0,0,0,0,0,0,{"$error":"#DIV/0!"},null,null,null,null,null,null,null,null,0,0,0,0,0,0,0,{"$error":"#DIV/0!"},"NUL"]
[7,194,null,"2011-07-13",0,null,null,null,null,null,null,{"$error":"#DIV/0!"},0,0,0,0,0,0,0,{"$error":"#DIV/0!"},0,null,null,null,null,null,null,{"$error":"#DIV/0!"},0,0,0,0,0,0,0,{"$error":"#DIV/0!"},"NUL"]
[7,195,null,"2011-07-14",0,null,null,null,null,null,null,{"$error":"#DIV/0!"},0,0,0,0,0,0,0,{"$error":"#DIV/0!"},0,null,null,null,null,null,null,{"$error":"#DIV/0!"},0,0,0,0,0,0,0,{"$error":"#DIV/0!"},"NUL"]
[7,196,null,"2011-07-15",0,null,null,null,null,null,null,{"$error":"#DIV/0!"},0,0,0,0,0,0,0,{"$error":"#DIV/0!"},0,null,null,null,null,null,null,{"$error":"#DIV/0!"},0,0,0,0,0,0,0,{"$error":"#DIV/0!"},"NUL"]
[7,197,null,"2011-07-16",0,null,null,null,null,null,null,{"$error":"#DIV/0!"},0,0,0,0,0,0,0,{"$error":"#DIV/0!"},0,null,null,null,null,null,null,{"$error":"#DIV/0!"},0,0,0,0,0,0,0,{"$error":"#DIV/0!"},"NUL"]
[7,198,null,"2011-07-17",0,null,null,null,null,null,null,{"$error":"#DIV/0!"},0,0,0,0,0,0,0,{"$error":"#DIV/0!"},0,null,null,null,null,null,null,{"$error":"#DIV/0!"},0,0,0,0,0,0,0,{"$error":"#DIV/0!"},"NUL"]
[7,199,null,"2011-07-18",0,null,null,null,null,null,null,{"$error":"#DIV/0!"},0,0,0,0,0,0,0,{"$error":"#DIV/0!"},0,null,null,null,null,null,null,{"$error":"#DIV/0!"},0,0,0,0,0,0,0,{"$error":"#DIV/0!"},"NUL"]
[7,200,null,"2011-07-19",0,null,null,null,null,null,null,{"$error":"#DIV/0!"},0,0,0,0,0,0,0,{"$error":"#DIV/0!"},0,null,null,null,null,null,null,{"$error":"#DIV/0!"},0,0,0,0,0,0,0,{"$error":"#DIV/0!"},"NUL"]
[7,201,null,"2011-07-20",0,null,null,null,null,null,null,{"$error":"#DIV/0!"},0,0,0,0,0,0,0,{"$error":"#DIV/0!"},0,null,null,null,null,null,null,{"$error":"#DIV/0!"},0,0,0,0,0,0,0,{"$error":"#DIV/0!"},"NUL"]
[7,202,null,"2011-07-21",0,null,null,null,null,null,null,{"$error":"#DIV/0!"},0,0,0,0,0,0,0,{"$error":"#DIV/0!"},0,null,null,null,null,null,null,{"$error":"#DIV/0!"},0,0,0,0,0,0,0,{"$error":"#DIV/0!"},"NUL"]
[7,203,null,"2011-07-22",0,null,null,null,null,null,null,{"$error":"#DIV/0!"},0,0,0,0,0,0,0,{"$error":"#DIV/0!"},0,null,null,null,null,null,null,{"$error":"#DIV/0!"},0,0,0,0,0,0,0,{"$error":"#DIV/0!"},"NUL"]
[7,204,null,"2011-07-23",0,null,null,null,null,null,null,{"$error":"#DIV/0!"},0,0,0,0,0,0,0,{"$error":"#DIV/0!"},0,null,null,null,null,null,null,null,0,0,0,0,0,0,0,{"$error":"#DIV/0!"},"NUL"]
[7,205,null,"2011-07-24",0,null,null,null,null,null,null,{"$error":"#DIV/0!"},0,0,0,0,0,0,0,{"$error":"#DIV/0!"},0,null,null,null,null,null,null,null,0,0,0,0,0,0,0,{"$error":"#DIV/0!"},"NUL"]
[7,206,null,"2011-07-25",0,null,null,null,null,null,null,{"$error":"#DIV/0!"},0,0,0,0,0,0,0,{"$error":"#DIV/0!"},0,null,null,null,null,null,null,null,0,0,0,0,0,0,0,{"$error":"#DIV/0!"},"NUL"]
[7,207,null,"2011-07-26",0,null,null,null,null,null,null,{"$error":"#DIV/0!"},0,0,0,0,0,0,0,{"$error":"#DIV/0!"},0,null,null,null,null,null,null,null,0,0,0,0,0,0,0,{"$error":"#DIV/0!"},"NUL"]
[7,208,null,"2011-07-27",0,null,null,null,null,null,null,{"$error":"#DIV/0!"},0,0,0,0,0,0,0,{"$error":"#DIV/0!"},0,null,null,null,null,null,null,null,0,0,0,0,0,0,0,{"$error":"#DIV/0!"},"NUL"]
[7,209,null,"2011-07-28",0,null,null,null,null,null,null,{"$error":"#DIV/0!"},0,0,0,0,0,0,0,{"$error":"#DIV/0!"},0,null,null,null,null,null,null,null,0,0,0,0,0,0,0,{"$error":"#DIV/0!"},"NUL"]
[7,210,null,"2011-07-29",0,null,null,null,null,null,null,{"$error":"#DIV/0!"},0,0,0,0,0,0,0,{"$error":"#DIV/0!"},0,null,null,null,null,null,null,null,0,0,0,0,0,0,0,{"$error":"#DIV/0!"},"NUL"]
[7,211,null,"2011-07-30",0,null,null,null,null,null,null,{"$error":"#DIV/0!"},0,0,0,0,0,0,0,{"$error":"#DIV/0!"},0,null,null,null,null,null,null,null,0,0,0,0,0,0,0,{"$error":"#DIV/0!"},"NUL"]
[7,212,null,"2011-07-31",0,null,null,null,null,null,null,{"$error":"#DIV/0!"},0,0,0,0,0,0,0,{"$error":"#DIV/0!"},0,null,null,null,null,null,null,{"$error":"#DIV/0!"},0,0,0,0,0,0,0,{"$error":"#DIV/0!"},"NUL"]
[null,null,null,null,{"$f":"SUM(E212:E242)","v":0},0,0,0,0,0,0,{"$error":"#DIV/0!"},{"$f":"SUM(M212:M242)","v":0},0,0,0,0,0,0,{"$error":"#DIV/0!"},{"$f":"SUM(U212:U242)","v":0},0,0,0,0,0,0,{"$error":"#DIV/0!"},{"$f":"SUM(AC212:AC242)","v":0},{"$f":"F243+V243","v":0},{"$f":"G243+W243","v":0},{"$f":"H243+X243","v":0},{"$f":"I243+Y243","v":0},{"$f":"J243+Z243","v":0},{"$f":"K243+AA243","v":0},{"$error":"#DIV/0!"},"NUL"]
[null,null,null,null,null,null,null,null,null,null,null,{"$f":"(J244+K244)/(F244+G244+H244)*100","v":{"$error":"#DIV/0!"}},null,null,null,null,null,null,null,null,null,null,null,null,null,null,null,null,null,0,0,0,0,0,0,null,"NUL"]
[{"$f":"MONTH(D245)","v":8},213,null,"2011-08-01",{"$f":"SUM(F245:I245)","v":0},null,null,null,null,null,null,{"$error":"#DIV/0!"},{"$f":"SUM(N245:Q245)","v":0},{"$f":"F245","v":0},{"$f":"G245","v":0},{"$f":"H245","v":0},{"$f":"I245","v":0},{"$f":"J245","v":0},{"$f":"K245","v":0},{"$f":"(R245+S245)/(N245+O245+P245)*100","v":{"$error":"#DIV/0!"}},{"$f":"SUM(V245:Y245)","v":0},null,null,null,null,null,null,{"$f":"IF((Z245+AA245)/(V245+W245+X245)*100=0,\"\",(Z245+AA245)/(V245+W245+X245)*100)","v":{"$error":"#DIV/0!"}},{"$f":"SUM(AD245:AG245)","v":0},0,0,0,0,0,0,{"$f":"IF((AH245+AI245)/(AD245+AE245+AF245)*100=0,\"\",(AH245+AI245)/(AD245+AE245+AF245)*100)","v":{"$error":"#DIV/0!"}},"NUL"]
[8,214,null,"2011-08-02",0,null,null,null,null,null,null,{"$error":"#DIV/0!"},0,0,0,0,0,0,0,{"$error":"#DIV/0!"},0,null,null,null,null,null,null,null,0,0,0,0,0,0,0,{"$error":"#DIV/0!"},"NUL"]
[8,215,null,"2011-08-03",0,null,null,null,null,null,null,{"$error":"#DIV/0!"},0,0,0,0,0,0,0,{"$error":"#DIV/0!"},0,null,null,null,null,null,null,null,0,0,0,0,0,0,0,{"$error":"#DIV/0!"},"NUL"]
[8,216,null,"2011-08-04",0,null,null,null,null,null,null,{"$error":"#DIV/0!"},0,0,0,0,0,0,0,{"$error":"#DIV/0!"},0,null,null,null,null,null,null,null,0,0,0,0,0,0,0,{"$error":"#DIV/0!"},"NUL"]
[8,217,null,"2011-08-05",0,null,null,null,null,null,null,{"$error":"#DIV/0!"},0,0,0,0,0,0,0,{"$error":"#DIV/0!"},0,null,null,null,null,null,null,null,0,0,0,0,0,0,0,{"$error":"#DIV/0!"},"NUL"]
[8,218,null,"2011-08-06",0,null,null,null,null,null,null,{"$error":"#DIV/0!"},0,0,0,0,0,0,0,{"$error":"#DIV/0!"},0,null,null,null,null,null,null,null,0,0,0,0,0,0,0,{"$error":"#DIV/0!"},"NUL"]
[8,219,null,"2011-08-07",0,null,null,null,null,null,null,{"$error":"#DIV/0!"},0,0,0,0,0,0,0,{"$error":"#DIV/0!"},0,null,null,null,null,null,null,null,0,0,0,0,0,0,0,{"$error":"#DIV/0!"},"NUL"]
[8,220,null,"2011-08-08",0,null,null,null,null,null,null,{"$error":"#DIV/0!"},0,0,0,0,0,0,0,{"$error":"#DIV/0!"},0,null,null,null,null,null,null,null,0,0,0,0,0,0,0,{"$error":"#DIV/0!"},"NUL"]
[8,221,null,"2011-08-09",0,null,null,null,null,null,null,{"$error":"#DIV/0!"},0,0,0,0,0,0,0,{"$error":"#DIV/0!"},0,null,null,null,null,null,null,null,0,0,0,0,0,0,0,{"$error":"#DIV/0!"},"NUL"]
[8,222,null,"2011-08-10",0,null,null,null,null,null,null,{"$error":"#DIV/0!"},0,0,0,0,0,0,0,{"$error":"#DIV/0!"},0,null,null,null,null,null,null,null,0,0,0,0,0,{"$f":"J254+Z254","v":0},0,{"$error":"#DIV/0!"},"NUL"]
[8,223,null,"2011-08-11",0,null,null,null,null,null,null,{"$error":"#DIV/0!"},0,0,0,0,0,0,0,{"$error":"#DIV/0!"},0,null,null,null,null,null,null,null,0,0,0,0,0,0,0,{"$error":"#DIV/0!"},"NUL"]
[8,224,null,"2011-08-12",0,null,null,null,null,null,null,{"$error":"#DIV/0!"},0,0,0,0,0,0,0,{"$error":"#DIV/0!"},0,null,null,null,null,null,null,{"$error":"#DIV/0!"},0,0,0,0,0,0,0,{"$error":"#DIV/0!"},"NUL"]
[8,225,null,"2011-08-13",0,null,null,null,null,null,null,{"$error":"#DIV/0!"},0,0,0,0,0,0,0,{"$error":"#DIV/0!"},0,null,null,null,null,null,null,{"$error":"#DIV/0!"},0,0,0,0,0,0,0,{"$error":"#DIV/0!"},"NUL"]
[8,226,null,"2011-08-14",0,null,null,null,null,null,null,{"$error":"#DIV/0!"},0,0,0,0,0,0,0,{"$error":"#DIV/0!"},0,null,null,null,null,null,null,{"$error":"#DIV/0!"},0,0,0,0,0,0,0,{"$error":"#DIV/0!"},"NUL"]
[8,227,null,"2011-08-15",0,null,null,null,null,null,null,{"$error":"#DIV/0!"},0,0,0,0,0,0,0,{"$error":"#DIV/0!"},0,null,null,null,null,null,null,{"$error":"#DIV/0!"},0,0,0,0,0,0,0,{"$error":"#DIV/0!"},"NUL"]
[8,228,null,"2011-08-16",0,null,null,null,null,null,null,{"$error":"#DIV/0!"},0,0,0,0,0,0,0,{"$error":"#DIV/0!"},0,null,null,null,null,null,null,{"$error":"#DIV/0!"},0,0,0,0,0,0,0,{"$error":"#DIV/0!"},"NUL"]
[8,229,null,"2011-08-17",{"$f":"SUM(F261:I261)","v":0},null,null,null,null,null,null,{"$error":"#DIV/0!"},0,{"$f":"F261","v":0},0,0,0,0,0,{"$error":"#DIV/0!"},0,null,null,null,null,null,null,{"$error":"#DIV/0!"},0,{"$f":"F261+V261","v":0},0,0,0,0,0,{"$error":"#DIV/0!"},"NUL"]
[8,230,null,"2011-08-18",{"$f":"SUM(F262:I262)","v":0},null,null,null,null,null,null,{"$error":"#DIV/0!"},0,0,0,0,0,0,0,{"$error":"#DIV/0!"},0,null,null,null,null,null,null,{"$error":"#DIV/0!"},0,0,0,0,0,0,{"$f":"K262+AA262","v":0},{"$f":"IF((AH262+AI262)/(AD262+AE262+AF262)*100=0,\"\",(AH262+AI262)/(AD262+AE262+AF262)*100)","v":{"$error":"#DIV/0!"}},"NUL"]
[8,231,null,"2011-08-19",0,null,null,null,null,null,null,{"$error":"#DIV/0!"},0,{"$f":"F263","v":0},{"$f":"G263","v":0},{"$f":"H263","v":0},0,0,0,{"$error":"#DIV/0!"},0,null,null,null,null,null,null,{"$error":"#DIV/0!"},0,0,0,0,0,0,0,{"$error":"#DIV/0!"},"NUL"]
[8,232,null,"2011-08-20",0,null,null,null,null,null,null,{"$error":"#DIV/0!"},0,0,0,0,0,0,0,{"$error":"#DIV/0!"},0,null,null,null,null,null,null,{"$error":"#DIV/0!"},0,0,0,0,0,0,0,{"$error":"#DIV/0!"},"NUL"]
[8,233,null,"2011-08-21",0,null,null,null,null,null,null,{"$error":"#DIV/0!"},0,0,0,0,0,0,0,{"$error":"#DIV/0!"},0,null,null,null,null,null,null,{"$error":"#DIV/0!"},0,0,0,0,0,0,0,{"$error":"#DIV/0!"},"NUL"]
[8,234,null,"2011-08-22",0,null,null,null,null,null,null,{"$error":"#DIV/0!"},0,0,0,0,0,0,0,{"$error":"#DIV/0!"},0,null,null,null,null,null,null,{"$error":"#DIV/0!"},0,0,0,0,0,0,0,{"$error":"#DIV/0!"},"NUL"]
[8,235,null,"2011-08-23",0,null,null,null,null,null,null,{"$error":"#DIV/0!"},0,0,0,0,0,0,0,{"$error":"#DIV/0!"},0,null,null,null,null,null,null,{"$error":"#DIV/0!"},0,0,0,0,0,0,0,{"$error":"#DIV/0!"},"NUL"]
[8,236,null,"2011-08-24",0,null,null,null,null,null,null,{"$error":"#DIV/0!"},0,0,0,0,0,0,0,{"$error":"#DIV/0!"},0,null,null,null,null,null,null,{"$error":"#DIV/0!"},0,0,0,0,0,0,0,{"$error":"#DIV/0!"},"NUL"]
[8,237,null,"2011-08-25",0,null,null,null,null,null,null,{"$error":"#DIV/0!"},0,0,0,0,0,0,0,{"$error":"#DIV/0!"},0,null,null,null,null,null,null,{"$error":"#DIV/0!"},0,0,0,0,0,0,0,{"$error":"#DIV/0!"},"NUL"]
[8,238,null,"2011-08-26",0,null,null,null,null,null,null,{"$error":"#DIV/0!"},0,0,0,0,0,0,0,{"$error":"#DIV/0!"},0,null,null,null,null,null,null,{"$error":"#DIV/0!"},0,0,0,0,0,0,0,{"$error":"#DIV/0!"},"NUL"]
[8,239,null,"2011-08-27",0,null,null,null,null,null,null,{"$error":"#DIV/0!"},0,0,0,0,0,0,0,{"$error":"#DIV/0!"},0,null,null,null,null,null,null,{"$error":"#DIV/0!"},0,0,0,0,0,0,0,{"$error":"#DIV/0!"},"NUL"]
[8,240,null,"2011-08-28",0,null,null,null,null,null,null,{"$error":"#DIV/0!"},0,0,0,0,0,0,0,{"$error":"#DIV/0!"},0,null,null,null,null,null,null,{"$error":"#DIV/0!"},0,0,0,0,0,0,0,{"$error":"#DIV/0!"},"NUL"]
[8,241,null,"2011-08-29",0,null,null,null,null,null,null,{"$error":"#DIV/0!"},0,0,0,0,0,0,0,{"$error":"#DIV/0!"},0,null,null,null,null,null,null,{"$error":"#DIV/0!"},0,0,0,0,0,0,0,{"$error":"#DIV/0!"},"NUL"]
[8,242,null,"2011-08-30",0,null,null,null,null,null,null,{"$error":"#DIV/0!"},0,0,0,0,0,0,0,{"$error":"#DIV/0!"},0,null,null,null,null,null,null,{"$error":"#DIV/0!"},0,0,0,0,0,0,0,{"$error":"#DIV/0!"},"NUL"]
[8,243,null,"2011-08-31",0,null,null,null,null,null,null,{"$error":"#DIV/0!"},0,{"$f":"F275","v":0},0,0,0,0,0,{"$error":"#DIV/0!"},0,null,null,null,null,null,null,{"$error":"#DIV/0!"},0,0,0,0,0,0,0,{"$error":"#DIV/0!"},"NUL"]
[null,null,null,null,{"$f":"SUM(E245:E275)","v":0},0,0,0,0,0,0,{"$error":"#DIV/0!"},{"$f":"SUM(M245:M275)","v":0},0,0,0,0,0,0,{"$error":"#DIV/0!"},{"$f":"SUM(U245:U275)","v":0},0,0,0,0,0,0,{"$error":"#DIV/0!"},{"$f":"SUM(AC245:AC275)","v":0},0,0,0,0,0,0,{"$error":"#DIV/0!"},"NUL"]
[null,null,null,null,null,null,null,null,null,null,null,{"$error":"#DIV/0!"},null,null,null,null,null,null,null,null,null,null,null,null,null,null,null,null,null,0,0,0,0,0,0,null,"NUL"]
[{"$f":"MONTH(D278)","v":9},244,null,"2011-09-01",{"$f":"SUM(F278:I278)","v":0},null,null,null,null,null,null,{"$error":"#DIV/0!"},{"$f":"SUM(N278:Q278)","v":0},{"$f":"F278","v":0},0,0,0,0,0,{"$f":"(R278+S278)/(N278+O278+P278)*100","v":{"$error":"#DIV/0!"}},{"$f":"SUM(V278:Y278)","v":0},null,null,null,null,null,null,{"$f":"IF((Z278+AA278)/(V278+W278+X278)*100=0,\"\",(Z278+AA278)/(V278+W278+X278)*100)","v":{"$error":"#DIV/0!"}},{"$f":"SUM(AD278:AG278)","v":0},0,0,0,0,0,0,{"$f":"IF((AH278+AI278)/(AD278+AE278+AF278)*100=0,\"\",(AH278+AI278)/(AD278+AE278+AF278)*100)","v":{"$error":"#DIV/0!"}},"NUL"]
[9,245,null,"2011-09-02",0,null,null,null,null,null,null,{"$error":"#DIV/0!"},0,0,0,0,0,0,0,{"$error":"#DIV/0!"},0,null,null,null,null,null,null,{"$error":"#DIV/0!"},0,0,0,0,0,0,0,{"$error":"#DIV/0!"},"NUL"]
[9,246,null,"2011-09-03",0,null,null,null,null,null,null,{"$error":"#DIV/0!"},0,{"$f":"F280","v":0},{"$f":"G280","v":0},{"$f":"H280","v":0},{"$f":"I280","v":0},{"$f":"J280","v":0},{"$f":"K280","v":0},{"$error":"#DIV/0!"},0,null,null,null,null,null,null,{"$error":"#DIV/0!"},0,0,0,0,0,0,0,{"$error":"#DIV/0!"},"NUL"]
[9,247,null,"2011-09-04",0,null,null,null,null,null,null,{"$error":"#DIV/0!"},0,0,0,0,0,0,0,{"$error":"#DIV/0!"},0,null,null,null,null,null,null,{"$error":"#DIV/0!"},0,0,0,0,0,0,0,{"$error":"#DIV/0!"},"NUL"]
[9,248,null,"2011-09-05",0,null,null,null,null,null,null,{"$error":"#DIV/0!"},0,0,0,0,0,0,0,{"$error":"#DIV/0!"},0,null,null,null,null,null,null,{"$error":"#DIV/0!"},0,0,0,0,0,0,0,{"$error":"#DIV/0!"},"NUL"]
[9,249,null,"2011-09-06",0,null,null,null,null,null,null,{"$error":"#DIV/0!"},0,0,0,0,0,0,0,{"$error":"#DIV/0!"},0,null,null,null,null,null,null,{"$error":"#DIV/0!"},0,0,0,0,0,0,0,{"$error":"#DIV/0!"},"NUL"]
[9,250,null,"2011-09-07",0,null,null,null,null,null,null,{"$error":"#DIV/0!"},0,0,0,0,0,0,0,{"$error":"#DIV/0!"},0,null,null,null,null,null,null,{"$error":"#DIV/0!"},0,0,0,0,0,0,0,{"$error":"#DIV/0!"},"NUL"]
[9,251,null,"2011-09-08",0,null,null,null,null,null,null,{"$error":"#DIV/0!"},0,0,0,0,0,0,0,{"$error":"#DIV/0!"},0,null,null,null,null,null,null,{"$error":"#DIV/0!"},0,0,0,0,0,0,0,{"$error":"#DIV/0!"},"NUL"]
[9,252,null,"2011-09-09",0,null,null,null,null,null,null,{"$error":"#DIV/0!"},0,0,0,0,0,0,0,{"$error":"#DIV/0!"},0,null,null,null,null,null,null,{"$error":"#DIV/0!"},0,0,0,0,0,0,0,{"$error":"#DIV/0!"},"NUL"]
[9,253,null,"2011-09-10",0,null,null,null,null,null,null,{"$error":"#DIV/0!"},0,0,0,0,0,0,0,{"$error":"#DIV/0!"},0,null,null,null,null,null,null,{"$error":"#DIV/0!"},0,0,0,0,0,0,0,{"$error":"#DIV/0!"},"NUL"]
[9,254,null,"2011-09-11",0,null,null,null,null,null,null,{"$error":"#DIV/0!"},0,0,0,0,0,0,0,{"$error":"#DIV/0!"},0,null,null,null,null,null,null,{"$error":"#DIV/0!"},0,0,0,0,0,0,0,{"$error":"#DIV/0!"},"NUL"]
[9,255,null,"2011-09-12",0,null,null,null,null,null,null,{"$error":"#DIV/0!"},0,0,0,0,0,0,0,{"$error":"#DIV/0!"},0,null,null,null,null,null,null,{"$error":"#DIV/0!"},0,0,0,0,0,0,0,{"$error":"#DIV/0!"},"NUL"]
[9,256,null,"2011-09-13",0,null,null,null,null,null,null,{"$error":"#DIV/0!"},0,0,0,0,0,0,0,{"$error":"#DIV/0!"},0,null,null,null,null,null,null,{"$error":"#DIV/0!"},0,0,0,0,0,0,0,{"$error":"#DIV/0!"},"NUL"]
[9,257,null,"2011-09-14",0,null,null,null,null,null,null,{"$error":"#DIV/0!"},0,0,0,0,0,0,0,{"$f":"(R291+S291)/(N291+O291+P291)*100","v":{"$error":"#DIV/0!"}},0,null,null,null,null,null,null,{"$error":"#DIV/0!"},0,0,0,0,0,0,0,{"$error":"#DIV/0!"},"NUL"]
[9,258,null,"2011-09-15",0,null,null,null,null,null,null,{"$error":"#DIV/0!"},0,0,0,0,0,0,0,{"$error":"#DIV/0!"},0,null,null,null,null,null,null,{"$error":"#DIV/0!"},0,0,0,0,0,0,0,{"$error":"#DIV/0!"},"NUL"]
[9,259,null,"2011-09-16",0,null,null,null,null,null,null,{"$error":"#DIV/0!"},0,0,0,0,0,0,0,{"$error":"#DIV/0!"},0,null,null,null,null,null,null,{"$error":"#DIV/0!"},0,0,0,0,0,0,0,{"$error":"#DIV/0!"},"NUL"]
[9,260,null,"2011-09-17",0,null,null,null,null,null,null,{"$error":"#DIV/0!"},0,0,0,0,0,0,0,{"$error":"#DIV/0!"},0,null,null,null,null,null,null,{"$error":"#DIV/0!"},0,0,0,0,0,0,0,{"$error":"#DIV/0!"},"NUL"]
[9,261,null,"2011-09-18",0,null,null,null,null,null,null,{"$error":"#DIV/0!"},0,{"$f":"F295","v":0},0,0,0,0,0,{"$error":"#DIV/0!"},0,null,null,null,null,null,null,{"$error":"#DIV/0!"},0,0,0,0,0,0,0,{"$error":"#DIV/0!"},"NUL"]
[9,262,null,"2011-09-19",0,null,null,null,null,null,null,{"$error":"#DIV/0!"},0,{"$f":"F296","v":0},0,0,0,0,0,{"$error":"#DIV/0!"},0,null,null,null,null,null,null,{"$error":"#DIV/0!"},0,0,0,0,0,0,0,{"$error":"#DIV/0!"},"NUL"]
[9,263,null,"2011-09-20",0,null,null,null,null,null,null,{"$error":"#DIV/0!"},0,0,0,0,0,0,0,{"$error":"#DIV/0!"},0,null,null,null,null,null,null,{"$error":"#DIV/0!"},0,0,0,0,0,0,0,{"$error":"#DIV/0!"},"NUL"]
[9,264,null,"2011-09-21",0,null,null,null,null,null,null,{"$error":"#DIV/0!"},0,0,0,0,0,0,0,{"$error":"#DIV/0!"},0,null,null,null,null,null,null,{"$error":"#DIV/0!"},0,0,0,0,0,0,0,{"$error":"#DIV/0!"},"NUL"]
[9,265,null,"2011-09-22",0,null,null,null,null,null,null,{"$error":"#DIV/0!"},0,{"$f":"F299","v":0},0,0,0,0,0,{"$error":"#DIV/0!"},0,null,null,null,null,null,null,{"$error":"#DIV/0!"},0,0,0,0,0,0,0,{"$error":"#DIV/0!"},"NUL"]
[9,266,null,"2011-09-23",{"$f":"SUM(F300:I300)","v":0},null,null,null,null,null,null,{"$error":"#DIV/0!"},0,0,0,0,0,0,0,{"$error":"#DIV/0!"},0,null,null,null,null,null,null,{"$error":"#DIV/0!"},0,0,0,0,0,0,0,{"$error":"#DIV/0!"},"NUL"]
[9,267,null,"2011-09-24",0,null,null,null,null,null,null,{"$error":"#DIV/0!"},0,0,0,0,0,0,0,{"$error":"#DIV/0!"},0,null,null,null,null,null,null,{"$error":"#DIV/0!"},0,0,0,0,0,0,0,{"$error":"#DIV/0!"},"NUL"]
[9,268,null,"2011-09-25",0,null,null,null,null,null,null,{"$error":"#DIV/0!"},0,0,0,0,0,0,0,{"$error":"#DIV/0!"},0,null,null,null,null,null,null,{"$error":"#DIV/0!"},0,0,0,0,0,0,0,{"$error":"#DIV/0!"},"NUL"]
[9,269,null,"2011-09-26",0,null,null,null,null,null,null,{"$error":"#DIV/0!"},0,0,0,0,0,0,0,{"$error":"#DIV/0!"},0,null,null,null,null,null,null,{"$error":"#DIV/0!"},0,0,0,0,0,0,0,{"$error":"#DIV/0!"},"NUL"]
[9,270,null,"2011-09-27",0,null,null,null,null,null,null,{"$error":"#DIV/0!"},0,0,0,0,0,0,0,{"$error":"#DIV/0!"},0,null,null,null,null,null,null,{"$error":"#DIV/0!"},0,0,0,0,0,0,0,{"$error":"#DIV/0!"},"NUL"]
[9,271,null,"2011-09-28",0,null,null,null,null,null,null,{"$error":"#DIV/0!"},0,0,0,0,0,0,0,{"$error":"#DIV/0!"},0,null,null,null,null,null,null,{"$error":"#DIV/0!"},0,0,0,0,0,0,0,{"$error":"#DIV/0!"},"NUL"]
[9,272,null,"2011-09-29",0,null,null,null,null,null,null,{"$error":"#DIV/0!"},0,{"$f":"F306","v":0},0,0,0,0,0,{"$error":"#DIV/0!"},0,null,null,null,null,null,null,{"$error":"#DIV/0!"},0,0,0,0,0,0,0,{"$error":"#DIV/0!"},"NUL"]
[9,273,null,"2011-09-30",0,null,null,null,null,null,null,{"$error":"#DIV/0!"},0,0,0,0,0,0,0,{"$error":"#DIV/0!"},0,null,null,null,null,null,null,{"$error":"#DIV/0!"},0,{"$f":"F307+V307","v":0},{"$f":"G307+W307","v":0},{"$f":"H307+X307","v":0},{"$f":"I307+Y307","v":0},{"$f":"J307+Z307","v":0},{"$f":"K307+AA307","v":0},{"$error":"#DIV/0!"},"NUL"]
[null,null,null,null,{"$f":"SUM(E278:E307)","v":0},0,0,0,0,0,0,{"$f":"(J308+K308)/(F308+G308+H308)*100","v":{"$error":"#DIV/0!"}},{"$f":"SUM(M278:M307)","v":0},0,0,0,0,0,0,{"$error":"#DIV/0!"},0,0,0,0,0,0,0,{"$error":"#DIV/0!"},{"$f":"SUM(AC278:AC307)","v":0},0,0,0,0,0,0,{"$error":"#DIV/0!"},"NUL"]
[null,null,null,null,null,null,null,null,null,null,null,{"$error":"#DIV/0!"},null,null,null,null,null,null,null,null,null,null,null,null,null,null,null,null,null,0,0,0,0,0,0,null,"NUL"]
[{"$f":"MONTH(D310)","v":10},274,null,"2011-10-01",{"$f":"SUM(F310:I310)","v":0},null,null,null,null,null,null,{"$error":"#DIV/0!"},{"$f":"SUM(N310:Q310)","v":0},{"$f":"F310","v":0},{"$f":"G310","v":0},{"$f":"H310","v":0},{"$f":"I310","v":0},{"$f":"J310","v":0},{"$f":"K310","v":0},{"$f":"(R310+S310)/(N310+O310+P310)*100","v":{"$error":"#DIV/0!"}},{"$f":"SUM(V310:Y310)","v":0},null,null,null,null,null,null,{"$f":"IF((Z310+AA310)/(V310+W310+X310)*100=0,\"\",(Z310+AA310)/(V310+W310+X310)*100)","v":{"$error":"#DIV/0!"}},{"$f":"SUM(AD310:AG310)","v":0},0,0,0,0,0,0,{"$f":"IF((AH310+AI310)/(AD310+AE310+AF310)*100=0,\"\",(AH310+AI310)/(AD310+AE310+AF310)*100)","v":{"$error":"#DIV/0!"}},"NUL"]
[10,275,null,"2011-10-02",0,null,null,null,null,null,null,{"$error":"#DIV/0!"},0,0,0,0,0,0,0,{"$error":"#DIV/0!"},0,null,null,null,null,null,null,{"$error":"#DIV/0!"},0,0,0,0,0,0,0,{"$error":"#DIV/0!"},"NUL"]
[10,276,null,"2011-10-03",0,null,null,null,null,null,null,{"$error":"#DIV/0!"},0,0,0,0,0,0,0,{"$error":"#DIV/0!"},0,null,null,null,null,null,null,{"$error":"#DIV/0!"},0,0,0,0,0,0,0,{"$error":"#DIV/0!"},"NUL"]
[10,277,null,"2011-10-04",0,null,null,null,null,null,null,{"$error":"#DIV/0!"},0,0,0,0,0,0,0,{"$error":"#DIV/0!"},0,null,null,null,null,null,null,{"$error":"#DIV/0!"},0,0,0,0,0,0,0,{"$error":"#DIV/0!"},"NUL"]
[10,278,null,"2011-10-05",0,null,null,null,null,null,null,{"$error":"#DIV/0!"},0,0,0,0,0,0,0,{"$error":"#DIV/0!"},0,null,null,null,null,null,null,{"$error":"#DIV/0!"},0,0,0,0,0,0,0,{"$error":"#DIV/0!"},"NUL"]
[10,279,null,"2011-10-06",0,null,null,null,null,null,null,{"$error":"#DIV/0!"},0,0,0,0,0,0,0,{"$error":"#DIV/0!"},0,null,null,null,null,null,null,{"$error":"#DIV/0!"},0,0,0,0,0,0,0,{"$error":"#DIV/0!"},"NUL"]
[10,280,null,"2011-10-07",0,null,null,null,null,null,null,{"$error":"#DIV/0!"},0,0,0,0,0,0,0,{"$error":"#DIV/0!"},0,null,null,null,null,null,null,{"$error":"#DIV/0!"},0,0,0,0,0,0,0,{"$error":"#DIV/0!"},"NUL"]
[10,281,null,"2011-10-08",0,null,null,null,null,null,null,{"$error":"#DIV/0!"},0,0,0,0,0,0,0,{"$error":"#DIV/0!"},0,null,null,null,null,null,null,{"$error":"#DIV/0!"},0,0,0,0,0,0,0,{"$error":"#DIV/0!"},"NUL"]
[10,282,null,"2011-10-09",0,null,null,null,null,null,null,{"$error":"#DIV/0!"},0,0,0,0,0,0,0,{"$error":"#DIV/0!"},0,null,null,null,null,null,null,{"$error":"#DIV/0!"},0,0,0,0,0,0,0,{"$error":"#DIV/0!"},"NUL"]
[10,283,null,"2011-10-10",0,null,null,null,null,null,null,{"$error":"#DIV/0!"},0,0,0,0,0,0,0,{"$error":"#DIV/0!"},0,null,null,null,null,null,null,{"$error":"#DIV/0!"},0,0,0,0,0,0,0,{"$error":"#DIV/0!"},"NUL"]
[10,284,null,"2011-10-11",0,null,null,null,null,null,null,{"$error":"#DIV/0!"},0,0,0,0,0,0,0,{"$error":"#DIV/0!"},0,null,null,null,null,null,null,{"$error":"#DIV/0!"},0,0,0,0,0,0,0,{"$error":"#DIV/0!"},"NUL"]
[10,285,null,"2011-10-12",0,null,null,null,null,null,null,{"$error":"#DIV/0!"},0,0,0,0,0,0,0,{"$error":"#DIV/0!"},0,null,null,null,null,null,null,{"$error":"#DIV/0!"},0,0,0,0,0,0,0,{"$error":"#DIV/0!"},"NUL"]
[10,286,null,"2011-10-13",0,null,null,null,null,null,null,{"$error":"#DIV/0!"},0,0,0,0,0,0,0,{"$error":"#DIV/0!"},0,null,null,null,null,null,null,{"$error":"#DIV/0!"},0,0,0,0,0,0,0,{"$error":"#DIV/0!"},"NUL"]
[10,287,null,"2011-10-14",0,null,null,null,null,null,null,{"$error":"#DIV/0!"},0,0,0,0,0,0,0,{"$error":"#DIV/0!"},0,null,null,null,null,null,null,{"$error":"#DIV/0!"},0,0,0,0,0,0,0,{"$error":"#DIV/0!"},"NUL"]
[10,288,null,"2011-10-15",0,null,null,null,null,null,null,{"$error":"#DIV/0!"},0,0,0,0,0,0,0,{"$error":"#DIV/0!"},0,null,null,null,null,null,null,{"$error":"#DIV/0!"},0,0,0,0,0,0,0,{"$error":"#DIV/0!"},"NUL"]
[10,289,null,"2011-10-16",0,null,null,null,null,null,null,{"$error":"#DIV/0!"},0,0,0,0,0,0,0,{"$error":"#DIV/0!"},0,null,null,null,null,null,null,{"$error":"#DIV/0!"},0,0,0,0,0,0,0,{"$error":"#DIV/0!"},"NUL"]
[10,290,null,"2011-10-17",0,null,null,null,null,null,null,{"$error":"#DIV/0!"},0,0,0,0,0,0,0,{"$error":"#DIV/0!"},0,null,null,null,null,null,null,{"$error":"#DIV/0!"},0,0,0,0,0,0,0,{"$error":"#DIV/0!"},"NUL"]
[10,291,null,"2011-10-18",0,null,null,null,null,null,null,{"$error":"#DIV/0!"},0,0,0,0,0,0,0,{"$error":"#DIV/0!"},0,null,null,null,null,null,null,{"$error":"#DIV/0!"},0,0,0,0,0,0,0,{"$error":"#DIV/0!"},"NUL"]
[10,292,null,"2011-10-19",0,null,null,null,null,null,null,{"$error":"#DIV/0!"},0,0,0,0,0,0,0,{"$error":"#DIV/0!"},0,null,null,null,null,null,null,{"$error":"#DIV/0!"},0,0,0,0,0,0,0,{"$error":"#DIV/0!"},"NUL"]
[10,293,null,"2011-10-20",0,null,null,null,null,null,null,{"$error":"#DIV/0!"},0,0,0,0,0,0,0,{"$error":"#DIV/0!"},0,null,null,null,null,null,null,{"$error":"#DIV/0!"},0,0,0,0,0,0,0,{"$error":"#DIV/0!"},"NUL"]
[10,294,null,"2011-10-21",0,null,null,null,null,null,null,{"$error":"#DIV/0!"},0,0,0,0,0,0,0,{"$error":"#DIV/0!"},0,null,null,null,null,null,null,{"$error":"#DIV/0!"},0,0,0,0,0,0,0,{"$error":"#DIV/0!"},"NUL"]
[10,295,null,"2011-10-22",0,null,null,null,null,null,null,{"$error":"#DIV/0!"},0,0,0,0,0,0,0,{"$error":"#DIV/0!"},0,null,null,null,null,null,null,{"$error":"#DIV/0!"},0,0,0,0,0,0,0,{"$error":"#DIV/0!"},"NUL"]
[10,296,null,"2011-10-23",0,null,null,null,null,null,null,{"$error":"#DIV/0!"},0,0,0,0,0,0,0,{"$error":"#DIV/0!"},0,null,null,null,null,null,null,{"$error":"#DIV/0!"},0,0,0,0,0,0,0,{"$error":"#DIV/0!"},"NUL"]
[10,297,null,"2011-10-24",0,null,null,null,null,null,null,{"$error":"#DIV/0!"},0,0,0,0,0,0,0,{"$error":"#DIV/0!"},0,null,null,null,null,null,null,{"$error":"#DIV/0!"},0,0,0,0,0,0,0,{"$error":"#DIV/0!"},"NUL"]
[10,298,null,"2011-10-25",0,null,null,null,null,null,null,{"$error":"#DIV/0!"},0,null,null,null,null,null,0,{"$error":"#DIV/0!"},0,null,null,null,null,null,null,{"$error":"#DIV/0!"},0,0,0,0,0,0,0,{"$error":"#DIV/0!"},"NUL"]
[10,299,null,"2011-10-26",0,null,null,null,null,null,null,{"$error":"#DIV/0!"},0,{"$f":"F335","v":0},0,0,0,0,0,{"$error":"#DIV/0!"},0,null,null,null,null,null,null,{"$error":"#DIV/0!"},0,0,0,0,0,0,0,{"$error":"#DIV/0!"},"NUL"]
[10,300,null,"2011-10-27",0,null,null,null,null,null,null,{"$error":"#DIV/0!"},0,0,0,0,0,0,{"$f":"K336","v":0},{"$f":"(R336+S336)/(N336+O336+P336)*100","v":{"$error":"#DIV/0!"}},0,null,null,null,null,null,null,{"$error":"#DIV/0!"},0,0,0,0,0,0,0,{"$error":"#DIV/0!"},"NUL"]
[10,301,null,"2011-10-28",0,null,null,null,null,null,null,{"$error":"#DIV/0!"},0,0,0,0,0,0,0,{"$error":"#DIV/0!"},0,null,null,null,null,null,null,{"$error":"#DIV/0!"},0,0,0,0,0,0,0,{"$error":"#DIV/0!"},"NUL"]
[10,302,null,"2011-10-29",0,null,null,null,null,null,null,{"$error":"#DIV/0!"},0,0,0,0,0,0,0,{"$error":"#DIV/0!"},0,null,null,null,null,null,null,{"$error":"#DIV/0!"},0,0,0,0,0,0,0,{"$error":"#DIV/0!"},"NUL"]
[10,303,null,"2011-10-30",0,null,null,null,null,null,null,{"$error":"#DIV/0!"},0,0,0,0,0,0,0,{"$error":"#DIV/0!"},0,null,null,null,null,null,null,{"$error":"#DIV/0!"},0,0,0,0,0,0,0,{"$error":"#DIV/0!"},"NUL"]
[10,304,null,"2011-10-31",0,null,null,null,null,null,null,{"$error":"#DIV/0!"},0,0,0,0,0,0,0,{"$error":"#DIV/0!"},0,null,null,null,null,null,null,{"$error":"#DIV/0!"},0,0,0,0,0,0,0,{"$error":"#DIV/0!"},"NUL"]
[null,null,null,null,{"$f":"SUM(E310:E340)","v":0},0,0,0,0,0,0,{"$error":"#DIV/0!"},{"$f":"SUM(M310:M340)","v":0},0,0,0,0,0,0,{"$error":"#DIV/0!"},{"$f":"SUM(U310:U340)","v":0},0,0,0,0,0,0,{"$error":"#DIV/0!"},{"$f":"SUM(AC310:AC340)","v":0},0,0,0,0,0,0,{"$error":"#DIV/0!"},"NUL"]
[null,null,null,null,null,null,null,null,null,null,null,{"$error":"#DIV/0!"},null,null,null,null,null,null,null,null,null,null,null,null,null,null,null,null,null,0,0,0,0,0,0,null,"NUL"]
[{"$f":"MONTH(D343)","v":11},305,null,"2011-11-01",{"$f":"SUM(F343:I343)","v":0},null,null,null,null,null,null,{"$error":"#DIV/0!"},{"$f":"SUM(N343:Q343)","v":0},{"$f":"F343","v":0},{"$f":"G343","v":0},{"$f":"H343","v":0},{"$f":"I343","v":0},{"$f":"J343","v":0},{"$f":"K343","v":0},{"$f":"(R343+S343)/(N343+O343+P343)*100","v":{"$error":"#DIV/0!"}},{"$f":"SUM(V343:Y343)","v":0},null,null,null,null,null,null,{"$f":"IF((Z343+AA343)/(V343+W343+X343)*100=0,\"\",(Z343+AA343)/(V343+W343+X343)*100)","v":{"$error":"#DIV/0!"}},{"$f":"SUM(AD343:AG343)","v":0},0,0,0,0,0,0,{"$f":"IF((AH343+AI343)/(AD343+AE343+AF343)*100=0,\"\",(AH343+AI343)/(AD343+AE343+AF343)*100)","v":{"$error":"#DIV/0!"}},"NUL"]
[11,306,null,"2011-11-02",0,null,null,null,null,null,null,{"$error":"#DIV/0!"},0,0,0,0,0,0,0,{"$error":"#DIV/0!"},0,null,null,null,null,null,null,{"$error":"#DIV/0!"},0,0,0,0,0,0,0,{"$error":"#DIV/0!"},"NUL"]
[11,307,null,"2011-11-03",0,null,null,null,null,null,null,{"$error":"#DIV/0!"},0,0,0,0,0,0,0,{"$error":"#DIV/0!"},0,null,null,null,null,null,null,{"$error":"#DIV/0!"},0,0,0,0,0,0,0,{"$error":"#DIV/0!"},"NUL"]
[11,308,null,"2011-11-04",0,null,null,null,null,null,null,{"$error":"#DIV/0!"},0,0,0,0,0,0,0,{"$error":"#DIV/0!"},0,null,null,null,null,null,null,{"$error":"#DIV/0!"},0,0,0,0,0,0,0,{"$error":"#DIV/0!"},"NUL"]
[11,309,null,"2011-11-05",0,null,null,null,null,null,null,{"$error":"#DIV/0!"},0,0,0,0,0,0,0,{"$error":"#DIV/0!"},0,null,null,null,null,null,null,{"$error":"#DIV/0!"},0,0,0,0,0,0,0,{"$error":"#DIV/0!"},"NUL"]
[11,310,null,"2011-11-06",0,null,null,null,null,null,null,{"$error":"#DIV/0!"},0,0,0,0,0,0,0,{"$error":"#DIV/0!"},0,null,null,null,null,null,null,{"$error":"#DIV/0!"},0,0,0,0,0,0,0,{"$error":"#DIV/0!"},"NUL"]
[11,311,null,"2011-11-07",0,null,null,null,null,null,null,{"$f":"(J349+K349)/(F349+G349+H349)*100","v":{"$error":"#DIV/0!"}},0,0,0,0,0,0,0,{"$error":"#DIV/0!"},0,null,null,null,null,null,null,{"$error":"#DIV/0!"},0,0,0,0,0,0,0,{"$error":"#DIV/0!"},"NUL"]
[11,312,null,"2011-11-08",0,null,null,null,null,null,null,{"$error":"#DIV/0!"},0,0,0,0,0,0,0,{"$error":"#DIV/0!"},0,null,null,null,null,null,null,{"$error":"#DIV/0!"},0,0,0,0,0,0,0,{"$error":"#DIV/0!"},"NUL"]
[11,313,null,"2011-11-09",0,null,null,null,null,null,null,{"$error":"#DIV/0!"},0,0,0,0,0,0,0,{"$error":"#DIV/0!"},0,null,null,null,null,null,null,{"$error":"#DIV/0!"},0,0,0,0,0,0,0,{"$error":"#DIV/0!"},"NUL"]
[11,314,null,"2011-11-10",0,null,null,null,null,null,null,{"$error":"#DIV/0!"},0,0,0,0,0,0,0,{"$error":"#DIV/0!"},0,null,null,null,null,null,null,{"$error":"#DIV/0!"},0,0,0,0,0,0,0,{"$error":"#DIV/0!"},"NUL"]
[11,315,null,"2011-11-11",0,null,null,null,null,null,null,{"$error":"#DIV/0!"},0,0,0,0,0,0,0,{"$error":"#DIV/0!"},0,null,null,null,null,null,null,{"$error":"#DIV/0!"},0,0,0,0,0,0,0,{"$error":"#DIV/0!"},"NUL"]
[11,316,null,"2011-11-12",0,null,null,null,null,null,null,{"$error":"#DIV/0!"},0,0,0,0,0,0,0,{"$error":"#DIV/0!"},0,null,null,null,null,null,null,{"$error":"#DIV/0!"},0,0,0,0,0,0,0,{"$error":"#DIV/0!"},"NUL"]
[11,317,null,"2011-11-13",0,null,null,null,null,null,null,{"$error":"#DIV/0!"},0,0,0,0,0,0,0,{"$error":"#DIV/0!"},0,null,null,null,null,null,null,{"$error":"#DIV/0!"},0,0,0,0,0,0,0,{"$error":"#DIV/0!"},"NUL"]
[11,318,null,"2011-11-14",0,null,null,null,null,null,null,{"$error":"#DIV/0!"},0,0,0,0,0,0,0,{"$error":"#DIV/0!"},0,null,null,null,null,null,null,{"$error":"#DIV/0!"},0,0,0,0,0,0,0,{"$error":"#DIV/0!"},"NUL"]
[11,319,null,"2011-11-15",0,null,null,null,null,null,null,{"$error":"#DIV/0!"},0,0,0,0,0,0,0,{"$error":"#DIV/0!"},0,null,null,null,null,null,null,{"$error":"#DIV/0!"},0,0,0,0,0,0,0,{"$error":"#DIV/0!"},"NUL"]
[11,320,null,"2011-11-16",0,null,null,null,null,null,null,{"$error":"#DIV/0!"},0,0,0,0,0,0,0,{"$error":"#DIV/0!"},0,null,null,null,null,null,null,{"$error":"#DIV/0!"},0,0,0,0,0,0,0,{"$error":"#DIV/0!"},"NUL"]
[11,321,null,"2011-11-17",0,null,null,null,null,null,null,{"$error":"#DIV/0!"},0,0,0,0,0,0,0,{"$error":"#DIV/0!"},0,null,null,null,null,null,null,{"$error":"#DIV/0!"},0,0,0,0,0,0,0,{"$error":"#DIV/0!"},"NUL"]
[11,322,null,"2011-11-18",0,null,null,null,null,null,null,{"$error":"#DIV/0!"},0,0,0,0,0,0,0,{"$error":"#DIV/0!"},0,null,null,null,null,null,null,{"$error":"#DIV/0!"},0,0,0,0,0,0,0,{"$error":"#DIV/0!"},"NUL"]
[11,323,null,"2011-11-19",0,null,null,null,null,null,null,{"$error":"#DIV/0!"},0,0,0,0,0,0,0,{"$error":"#DIV/0!"},0,null,null,null,null,null,null,{"$error":"#DIV/0!"},0,0,0,0,0,0,0,{"$error":"#DIV/0!"},"NUL"]
[11,324,null,"2011-11-20",0,null,null,null,null,null,null,{"$error":"#DIV/0!"},0,0,0,0,0,0,0,{"$error":"#DIV/0!"},0,null,null,null,null,null,null,{"$error":"#DIV/0!"},0,0,0,0,0,0,0,{"$error":"#DIV/0!"},"NUL"]
[11,325,null,"2011-11-21",0,null,null,null,null,null,null,{"$error":"#DIV/0!"},0,0,0,0,0,0,0,{"$error":"#DIV/0!"},0,null,null,null,null,null,null,{"$error":"#DIV/0!"},0,0,0,0,0,0,0,{"$error":"#DIV/0!"},"NUL"]
[11,326,null,"2011-11-22",0,null,null,null,null,null,null,{"$error":"#DIV/0!"},0,0,0,0,0,0,0,{"$error":"#DIV/0!"},0,null,null,null,null,null,null,{"$error":"#DIV/0!"},0,0,0,0,0,0,0,{"$error":"#DIV/0!"},"NUL"]
[11,327,null,"2011-11-23",0,null,null,null,null,null,null,{"$error":"#DIV/0!"},0,0,0,0,0,0,0,{"$error":"#DIV/0!"},0,null,null,null,null,null,null,{"$error":"#DIV/0!"},0,0,0,0,0,0,0,{"$error":"#DIV/0!"},"NUL"]
[11,328,null,"2011-11-24",0,null,null,null,null,null,null,{"$error":"#DIV/0!"},0,0,0,0,0,0,0,{"$error":"#DIV/0!"},0,null,null,null,null,null,null,{"$error":"#DIV/0!"},{"$f":"SUM(AD366:AG366)","v":0},{"$f":"F366+V366","v":0},0,0,0,0,0,{"$f":"IF((AH366+AI366)/(AD366+AE366+AF366)*100=0,\"\",(AH366+AI366)/(AD366+AE366+AF366)*100)","v":{"$error":"#DIV/0!"}},"NUL"]
[11,329,null,"2011-11-25",0,null,null,null,null,null,null,{"$error":"#DIV/0!"},0,0,0,0,0,0,0,{"$error":"#DIV/0!"},0,null,null,null,null,null,null,{"$error":"#DIV/0!"},0,0,0,0,0,0,0,{"$error":"#DIV/0!"},"NUL"]
[11,330,null,"2011-11-26",0,null,null,null,null,null,null,{"$error":"#DIV/0!"},0,0,0,0,0,0,0,{"$error":"#DIV/0!"},0,null,null,null,null,null,null,{"$error":"#DIV/0!"},0,0,0,0,0,0,0,{"$error":"#DIV/0!"},"NUL"]
[11,331,null,"2011-11-27",0,null,null,null,null,null,null,{"$error":"#DIV/0!"},0,0,0,0,0,0,0,{"$error":"#DIV/0!"},0,null,null,null,null,null,null,{"$error":"#DIV/0!"},0,0,0,0,0,0,0,{"$error":"#DIV/0!"},"NUL"]
[11,332,null,"2011-11-28",0,null,null,null,null,null,null,{"$error":"#DIV/0!"},0,0,0,0,0,0,0,{"$error":"#DIV/0!"},0,null,null,null,null,null,null,{"$error":"#DIV/0!"},0,0,0,0,0,0,0,{"$error":"#DIV/0!"},"NUL"]
[11,333,null,"2011-11-29",0,null,null,null,null,null,null,{"$error":"#DIV/0!"},0,0,0,0,0,0,0,{"$error":"#DIV/0!"},0,null,null,null,null,null,null,{"$error":"#DIV/0!"},0,{"$f":"F371+V371","v":0},{"$f":"G371+W371","v":0},{"$f":"H371+X371","v":0},{"$f":"I371+Y371","v":0},{"$f":"J371+Z371","v":0},{"$f":"K371+AA371","v":0},{"$error":"#DIV/0!"},"NUL"]
[11,334,null,"2011-11-30",0,null,null,null,null,null,null,{"$error":"#DIV/0!"},0,0,0,0,0,0,0,{"$error":"#DIV/0!"},0,null,null,null,null,null,null,{"$error":"#DIV/0!"},0,0,0,0,0,0,0,{"$error":"#DIV/0!"},"NUL"]
[null,null,null,null,{"$f":"SUM(E343:E372)","v":0},0,0,0,0,0,0,{"$error":"#DIV/0!"},{"$f":"SUM(M343:M372)","v":0},0,0,0,0,0,0,{"$error":"#DIV/0!"},{"$f":"SUM(U343:U372)","v":0},0,0,0,0,0,0,{"$error":"#DIV/0!"},0,0,0,0,0,0,0,{"$error":"#DIV/0!"},"NUL"]
[null,null,null,null,null,null,null,null,null,null,null,null,null,null,null,null,null,null,null,null,null,null,null,null,null,null,null,null,null,0,0,0,0,0,0,null,"NUL"]
[{"$f":"MONTH(D375)","v":12},335,null,"2011-12-01",{"$f":"SUM(F375:I375)","v":0},null,null,null,null,null,null,{"$f":"(J375+K375)/(F375+G375+H375)*100","v":{"$error":"#DIV/0!"}},{"$f":"SUM(N375:Q375)","v":0},{"$f":"F375","v":0},{"$f":"G375","v":0},{"$f":"H375","v":0},{"$f":"I375","v":0},{"$f":"J375","v":0},{"$f":"K375","v":0},{"$f":"(R375+S375)/(N375+O375+P375)*100","v":{"$error":"#DIV/0!"}},{"$f":"SUM(V375:Y375)","v":0},null,null,null,null,null,null,{"$f":"IF((Z375+AA375)/(V375+W375+X375)*100=0,\"\",(Z375+AA375)/(V375+W375+X375)*100)","v":{"$error":"#DIV/0!"}},{"$f":"SUM(AD375:AG375)","v":0},0,0,0,0,0,0,{"$f":"IF((AH375+AI375)/(AD375+AE375+AF375)*100=0,\"\",(AH375+AI375)/(AD375+AE375+AF375)*100)","v":{"$error":"#DIV/0!"}},"NUL"]
[12,336,null,"2011-12-02",0,null,null,null,null,null,null,{"$error":"#DIV/0!"},{"$f":"SUM(N376:Q376)","v":0},{"$f":"F376","v":0},{"$f":"G376","v":0},{"$f":"H376","v":0},{"$f":"I376","v":0},0,0,{"$error":"#DIV/0!"},0,null,null,null,null,null,null,{"$error":"#DIV/0!"},0,0,0,0,0,0,0,{"$error":"#DIV/0!"},"NUL"]
[12,337,null,"2011-12-03",0,null,null,null,null,null,null,{"$error":"#DIV/0!"},0,{"$f":"F377","v":0},{"$f":"G377","v":0},{"$f":"H377","v":0},0,0,0,{"$error":"#DIV/0!"},0,null,null,null,null,null,null,{"$error":"#DIV/0!"},0,0,0,0,0,0,0,{"$error":"#DIV/0!"},"NUL"]
[12,338,null,"2011-12-04",0,null,null,null,null,null,null,{"$error":"#DIV/0!"},0,0,0,0,0,0,0,{"$error":"#DIV/0!"},0,null,null,null,null,null,null,{"$error":"#DIV/0!"},0,0,0,0,0,0,0,{"$error":"#DIV/0!"},"NUL"]
[12,339,null,"2011-12-05",0,null,null,null,null,null,null,{"$error":"#DIV/0!"},0,0,0,0,0,0,0,{"$error":"#DIV/0!"},0,null,null,null,null,null,null,{"$error":"#DIV/0!"},0,0,0,0,0,0,0,{"$error":"#DIV/0!"},"NUL"]
[12,340,null,"2011-12-06",0,null,null,null,null,null,null,{"$error":"#DIV/0!"},0,0,0,0,0,0,0,{"$error":"#DIV/0!"},0,null,null,null,null,null,null,{"$error":"#DIV/0!"},0,0,0,0,0,0,0,{"$error":"#DIV/0!"},"NUL"]
[12,341,null,"2011-12-07",0,null,null,null,null,null,null,{"$error":"#DIV/0!"},0,0,0,0,0,0,0,{"$error":"#DIV/0!"},0,null,null,null,null,null,null,{"$error":"#DIV/0!"},0,0,0,0,0,0,0,{"$error":"#DIV/0!"},"NUL"]
[12,342,null,"2011-12-08",0,null,null,null,null,null,null,{"$error":"#DIV/0!"},0,0,0,0,0,0,0,{"$error":"#DIV/0!"},0,null,null,null,null,null,null,{"$error":"#DIV/0!"},0,0,0,0,0,0,0,{"$error":"#DIV/0!"},"NUL"]
[12,343,null,"2011-12-09",0,null,null,null,null,null,null,{"$error":"#DIV/0!"},0,0,0,0,0,0,0,{"$error":"#DIV/0!"},0,null,null,null,null,null,null,{"$error":"#DIV/0!"},0,0,0,0,0,0,0,{"$error":"#DIV/0!"},"NUL"]
[12,344,null,"2011-12-10",0,null,null,null,null,null,null,{"$error":"#DIV/0!"},0,0,0,0,0,0,0,{"$error":"#DIV/0!"},0,null,null,null,null,null,null,{"$error":"#DIV/0!"},0,0,0,0,0,0,0,{"$error":"#DIV/0!"},"NUL"]
[12,345,null,"2011-12-11",0,null,null,null,null,null,null,{"$error":"#DIV/0!"},0,0,0,0,0,0,0,{"$error":"#DIV/0!"},0,null,null,null,null,null,null,{"$error":"#DIV/0!"},0,0,0,0,0,0,0,{"$error":"#DIV/0!"},"NUL"]
[12,346,null,"2011-12-12",0,null,null,null,null,null,null,{"$error":"#DIV/0!"},0,0,0,0,0,0,0,{"$error":"#DIV/0!"},0,null,null,null,null,null,null,{"$error":"#DIV/0!"},0,0,0,0,0,0,0,{"$error":"#DIV/0!"},"NUL"]
[12,347,null,"2011-12-13",0,null,null,null,null,null,null,{"$error":"#DIV/0!"},0,0,0,0,0,0,0,{"$error":"#DIV/0!"},0,null,null,null,null,null,null,{"$error":"#DIV/0!"},0,0,0,0,0,0,0,{"$error":"#DIV/0!"},"NUL"]
[12,348,null,"2011-12-14",0,null,null,null,null,null,null,{"$error":"#DIV/0!"},0,0,0,0,0,0,0,{"$error":"#DIV/0!"},0,null,null,null,null,null,null,{"$error":"#DIV/0!"},0,0,0,0,0,0,0,{"$error":"#DIV/0!"},"NUL"]
[12,349,null,"2011-12-15",0,null,null,null,null,null,null,{"$error":"#DIV/0!"},0,0,0,0,0,0,0,{"$error":"#DIV/0!"},0,null,null,null,null,null,null,{"$error":"#DIV/0!"},0,0,0,0,0,0,0,{"$error":"#DIV/0!"},"NUL"]
[12,350,null,"2011-12-16",0,null,null,null,null,null,null,{"$error":"#DIV/0!"},0,0,0,0,0,0,0,{"$error":"#DIV/0!"},0,null,null,null,null,null,null,{"$error":"#DIV/0!"},0,0,0,0,0,0,0,{"$error":"#DIV/0!"},"NUL"]
[12,351,null,"2011-12-17",0,null,null,null,null,null,null,{"$error":"#DIV/0!"},0,0,0,0,0,0,0,{"$error":"#DIV/0!"},0,null,null,null,null,null,null,{"$error":"#DIV/0!"},0,0,0,0,0,0,0,{"$error":"#DIV/0!"},"NUL"]
[12,352,null,"2011-12-18",0,null,null,null,null,null,null,{"$error":"#DIV/0!"},0,0,0,0,0,0,0,{"$error":"#DIV/0!"},0,null,null,null,null,null,null,{"$error":"#DIV/0!"},0,0,0,0,0,0,0,{"$error":"#DIV/0!"},"NUL"]
[12,353,null,"2011-12-19",0,null,null,null,null,null,null,{"$error":"#DIV/0!"},0,0,0,0,0,0,0,{"$error":"#DIV/0!"},0,null,null,null,null,null,null,{"$error":"#DIV/0!"},0,0,0,0,0,0,0,{"$error":"#DIV/0!"},"NUL"]
[12,354,null,"2011-12-20",0,null,null,null,null,null,null,{"$error":"#DIV/0!"},0,0,0,0,0,0,0,{"$error":"#DIV/0!"},0,null,null,null,null,null,null,{"$error":"#DIV/0!"},0,0,0,0,0,0,0,{"$error":"#DIV/0!"},"NUL"]
[12,355,null,"2011-12-21",0,null,null,null,null,null,null,{"$error":"#DIV/0!"},0,0,0,0,0,0,0,{"$error":"#DIV/0!"},0,null,null,null,null,null,null,{"$error":"#DIV/0!"},0,0,0,0,0,0,0,{"$error":"#DIV/0!"},"NUL"]
[12,356,null,"2011-12-22",0,null,null,null,null,null,null,{"$error":"#DIV/0!"},0,0,0,0,0,0,0,{"$error":"#DIV/0!"},0,null,null,null,null,null,null,{"$error":"#DIV/0!"},0,0,0,0,0,0,0,{"$error":"#DIV/0!"},"NUL"]
[12,357,null,"2011-12-23",0,null,null,null,null,null,null,{"$error":"#DIV/0!"},0,0,0,0,0,0,0,{"$error":"#DIV/0!"},0,null,null,null,null,null,null,{"$error":"#DIV/0!"},0,0,0,0,0,0,0,{"$error":"#DIV/0!"},"NUL"]
[12,358,null,"2011-12-24",0,null,null,null,null,null,null,{"$error":"#DIV/0!"},0,0,0,0,0,0,0,{"$error":"#DIV/0!"},0,null,null,null,null,null,null,{"$error":"#DIV/0!"},0,0,0,0,0,0,0,{"$error":"#DIV/0!"},"NUL"]
[12,359,null,"2011-12-25",0,null,null,null,null,null,null,{"$error":"#DIV/0!"},0,0,0,0,0,0,0,{"$error":"#DIV/0!"},0,null,null,null,null,null,null,{"$error":"#DIV/0!"},0,0,0,0,0,0,0,{"$error":"#DIV/0!"},"NUL"]
[12,360,null,"2011-12-26",0,null,null,null,null,null,null,{"$error":"#DIV/0!"},0,0,0,0,0,0,0,{"$error":"#DIV/0!"},0,null,null,null,null,null,null,{"$error":"#DIV/0!"},0,0,0,0,0,0,0,{"$error":"#DIV/0!"},"NUL"]
[12,361,null,"2011-12-27",0,null,null,null,null,null,null,{"$error":"#DIV/0!"},0,0,0,0,0,0,0,{"$error":"#DIV/0!"},0,null,null,null,null,null,null,{"$error":"#DIV/0!"},0,0,0,0,0,0,0,{"$error":"#DIV/0!"},"NUL"]
[12,362,null,"2011-12-28",0,null,null,null,null,null,null,{"$error":"#DIV/0!"},0,0,0,0,0,0,0,{"$error":"#DIV/0!"},0,null,null,null,null,null,null,{"$error":"#DIV/0!"},0,0,0,0,0,0,0,{"$error":"#DIV/0!"},"NUL"]
[12,363,null,"2011-12-29",0,null,null,null,null,null,null,{"$error":"#DIV/0!"},0,0,0,0,0,0,0,{"$error":"#DIV/0!"},0,null,null,null,null,null,null,{"$error":"#DIV/0!"},0,0,0,0,0,0,0,{"$error":"#DIV/0!"},"NUL"]
[12,364,null,"2011-12-30",0,null,null,null,null,null,null,{"$error":"#DIV/0!"},0,0,0,0,0,0,0,{"$error":"#DIV/0!"},0,null,null,null,null,null,null,{"$error":"#DIV/0!"},0,0,0,0,0,0,0,{"$error":"#DIV/0!"},"NUL"]
[12,365,null,"2011-12-31",0,null,null,null,null,null,null,{"$error":"#DIV/0!"},0,0,0,0,0,0,0,{"$error":"#DIV/0!"},0,null,null,null,null,null,null,{"$error":"#DIV/0!"},0,0,0,0,0,0,0,{"$error":"#DIV/0!"},"NUL"]
[null,null,null,null,{"$f":"SUM(E375:E405)","v":0},0,0,0,0,0,0,{"$error":"#DIV/0!"},{"$f":"SUM(M375:M405)","v":0},0,0,0,0,0,0,{"$f":"IF((R406+S406)/(N406+O406+P406)*100=0,\"\",(R406+S406)/(N406+O406+P406)*100)","v":{"$error":"#DIV/0!"}},{"$f":"SUM(U375:U405)","v":0},0,0,0,0,0,0,{"$error":"#DIV/0!"},{"$f":"SUM(AC375:AC405)","v":0},{"$f":"F406+V406","v":0},{"$f":"O406+W406","v":0},{"$f":"H406+X406","v":0},{"$f":"I406+Y406","v":0},{"$f":"J406+Z406","v":0},{"$f":"K406+AA406","v":0},{"$error":"#DIV/0!"},"NUL"]
[null,null,null,null,null,null,null,null,null,null,null,null,null,null,null,null,null,null,null,null,null,null,null,null,null,null,null,null,null,null,null,null,null,null,null,{"$error":"#DIV/0!"},"NUL"]
[null,null,null,null,null,null,null,null,null,null,null,null,null,null,null,null,null,null,null,null,null,null,null,null,null,null,null,null,null,null,null,null,null,null,null,{"$error":"#DIV/0!"},"NUL"]
[null,null,null,null,null,null,null,null,null,null,null,null,null,null,null,null,null,null,null,null,null,null,null,null,null,null,null,null,null,null,null,null,null,null,null,{"$error":"#DIV/0!"},"NUL"]
[null,null,null,null,null,null,null,null,null,null,null,null,null,null,null,null,null,null,null,null,null,null,null,null,null,null,null,null,null,null,null,null,null,null,null,null,"NUL"]
[null,null,null,null,null,null,null,null,null,null,null,null,null,null,null,null,null,null,null,null,null,null,null,null,null,null,null,null,null,null,null,null,null,null,null,null,"NUL"]
[null,null,null,null,null,null,null,null,null,null,null,null,null,null,null,null,null,null,null,null,null,null,null,null,null,null,null,null,null,null,null,null,null,null,null,null,"NUL"]
[null,null,null,null,null,null,null,null,null,null,null,null,null,null,null,null,null,null,null,null,null,null,null,null,null,null,null,null,null,null,null,null,null,null,null,null,"NUL"]
[null,null,null,null,null,null,null,null,null,null,null,null,null,null,null,null,null,null,null,null,null,null,null,null,null,null,null,null,null,null,null,null,null,null,null,null,"NUL"]
[null,null,null,null,null,null,null,null,null,null,null,null,null,null,null,null,null,null,null,null,null,null,null,null,null,null,null,null,null,null,null,null,null,null,null,null,"NUL"]
[null,null,null,null,null,null,null,null,null,null,null,null,null,null,null,null,null,null,null,null,null,null,null,null,null,null,null,null,null,null,null,null,null,null,null,null,"NUL"]
[null,null,null,null,null,null,null,null,null,null,null,null,null,null,null,null,null,null,null,null,null,null,null,null,null,null,null,null,null,null,null,null,null,null,null,null,"NUL"]
[null,null,null,null,null,null,null,null,null,null,null,null,null,null,null,null,null,null,null,null,null,null,null,null,null,null,null,null,null,null,null,null,null,null,null,null,"NUL"]
[null,null,null,null,null,null,null,null,null,null,null,null,null,null,null,null,null,null,null,null,null,null,null,null,null,null,null,null,null,null,null,null,null,null,null,null,"NUL"]
[null,null,null,null,null,null,null,null,null,null,null,null,null,null,null,null,null,null,null,null,null,null,null,null,null,null,null,null,null,null,null,null,null,null,null,null,"NUL"]
[null,null,null,null,null,null,null,null,null,null,null,null,null,null,null,null,null,null,null,null,null,null,null,null,null,null,null,null,null,null,null,null,null,null,null,null,"NUL"]
[null,null,null,null,null,null,null,null,null,null,null,null,null,null,null,null,null,null,null,null,null,null,null,null,null,null,null,null,null,null,null,null,null,null,null,null,"NUL"]
[null,null,null,null,null,null,null,null,null,null,null,null,null,null,null,null,null,null,null,null,null,null,null,null,null,null,null,null,null,null,null,null,null,null,null,null,"NUL"]
[null,null,null,null,null,null,null,null,null,null,null,null,null,null,null,null,null,null,null,null,null,null,null,null,null,null,null,null,null,null,null,null,null,null,null,null,"NUL"]
[null,null,null,null,null,null,null,null,null,null,null,null,null,null,null,null,null,null,null,null,null,null,null,null,null,null,null,null,null,null,null,null,null,null,null,null,"NUL"]
[null,null,null,null,null,null,null,null,null,null,null,null,null,null,null,null,null,null,null,null,null,null,null,null,null,null,null,null,null,null,null,null,null,null,null,null,"NUL"]
[null,null,null,null,null,null,null,null,null,null,null,null,null,null,null,null,null,null,null,null,null,null,null,null,null,null,null,null,null,null,null,null,null,null,null,null,"NUL"]
[null,null,null,null,null,null,null,null,null,null,null,null,null,null,null,null,null,null,null,null,null,null,null,null,null,null,null,null,null,null,null,null,null,null,null,null,"NUL"]
[null,null,null,null,null,null,null,null,null,null,null,null,null,null,null,null,null,null,null,null,null,null,null,null,null,null,null,null,null,null,null,null,null,null,null,null,"NUL"]
[null,null,null,null,null,null,null,null,null,null,null,null,null,null,null,null,null,null,null,null,null,null,null,null,null,null,null,null,null,null,null,null,null,null,null,null,"NUL"]
[null,null,null,null,null,null,null,null,null,null,null,null,null,null,null,null,null,null,null,null,null,null,null,null,null,null,null,null,null,null,null,null,null,null,null,null,"NUL"]
[null,null,null,null,null,null,null,null,null,null,null,null,null,null,null,null,null,null,null,null,null,null,null,null,null,null,null,null,null,null,null,null,null,null,null,null,"NUL"]
[null,null,null,null,null,null,null,null,null,null,null,null,null,null,null,null,null,null,null,null,null,null,null,null,null,null,null,null,null,null,null,null,null,null,null,null,"NUL"]
[null,null,null,null,null,null,null,null,null,null,null,null,null,null,null,null,null,null,null,null,null,null,null,null,null,null,null,null,null,null,null,null,null,null,null,null,"NUL"]
[null,null,null,null,null,null,null,null,null,null,null,null,null,null,null,null,null,null,null,null,null,null,null,null,null,null,null,null,null,null,null,null,null,null,null,null,"NUL"]
[null,null,null,null,null,null,null,null,null,null,null,null,null,null,null,null,null,null,null,null,null,null,null,null,null,null,null,null,null,null,null,null,null,null,null,null,"NUL"]
[null,null,null,null,null,null,null,null,null,null,null,null,null,null,null,null,null,null,null,null,null,null,null,null,null,null,null,null,null,null,null,null,null,null,null,null,"NUL"]
[null,null,null,null,null,null,null,null,null,null,null,null,null,null,null,null,null,null,null,null,null,null,null,null,null,null,null,null,null,null,null,null,null,null,null,null,"NUL"]
[null,null,null,null,null,null,null,null,null,null,null,null,null,null,null,null,null,null,null,null,null,null,null,null,null,null,null,null,null,null,null,null,null,null,null,null,"NUL"]
[null,null,null,null,null,null,null,null,null,null,null,null,null,null,null,null,null,null,null,null,null,null,null,null,null,null,null,null,null,null,null,null,null,null,null,null,"NUL"]
[null,null,null,null,null,null,null,null,null,null,null,null,null,null,null,null,null,null,null,null,null,null,null,null,null,null,null,null,null,null,null,null,null,null,null,null,"NUL"]
[null,null,null,null,null,null,null,null,null,null,null,null,null,null,null,null,null,null,null,null,null,null,null,null,null,null,null,null,null,null,null,null,null,null,null,null,"NUL"]
[null,null,null,null,null,null,null,null,null,null,null,null,null,null,null,null,null,null,null,null,null,null,null,null,null,null,null,null,null,null,null,null,null,null,null,null,"NUL"]
[null,null,null,null,null,null,null,null,null,null,null,null,null,null,null,null,null,null,null,null,null,null,null,null,null,null,null,null,null,null,null,null,null,null,null,null,"NUL"]
[null,null,null,null,null,null,null,null,null,null,null,null,null,null,null,null,null,null,null,null,null,null,null,null,null,null,null,null,null,null,null,null,null,null,null,null,"NUL"]
[null,null,null,null,null,null,null,null,null,null,null,null,null,null,null,null,null,null,null,null,null,null,null,null,null,null,null,null,null,null,null,null,null,null,null,null,"NUL"]
[null,null,null,null,null,null,null,null,null,null,null,null,null,null,null,null,null,null,null,null,null,null,null,null,null,null,null,null,null,null,null,null,null,null,null,null,"NUL"]
[null,null,null,null,null,null,null,null,null,null,null,null,null,null,null,null,null,null,null,null,null,null,null,null,null,null,null,null,null,null,null,null,null,null,null,null,"NUL"]
[null,null,null,null,null,null,null,null,null,null,null,null,null,null,null,null,null,null,null,null,null,null,null,null,null,null,null,null,null,null,null,null,null,null,null,null,"NUL"]
[null,null,null,null,null,null,null,null,null,null,null,null,null,null,null,null,null,null,null,null,null,null,null,null,null,null,null,null,null,null,null,null,null,null,null,null,"NUL"]
[null,null,null,null,null,null,null,null,null,null,null,null,null,null,null,null,null,null,null,null,null,null,null,null,null,null,null,null,null,null,null,null,null,null,null,null,"NUL"]
[null,null,null,null,null,null,null,null,null,null,null,null,null,null,null,null,null,null,null,null,null,null,null,null,null,null,null,null,null,null,null,null,null,null,null,null,"NUL"]
[null,null,null,null,null,null,null,null,null,null,null,null,null,null,null,null,null,null,null,null,null,null,null,null,null,null,null,null,null,null,null,null,null,null,null,null,"NUL"]
[null,null,null,null,null,null,null,null,null,null,null,null,null,null,null,null,null,null,null,null,null,null,null,null,null,null,null,null,null,null,null,null,null,null,null,null,"NUL"]
[null,null,null,null,null,null,null,null,null,null,null,null,null,null,null,null,null,null,null,null,null,null,null,null,null,null,null,null,null,null,null,null,null,null,null,null,"NUL"]
[null,null,null,null,null,null,null,null,null,null,null,null,null,null,null,null,null,null,null,null,null,null,null,null,null,null,null,null,null,null,null,null,null,null,null,null,"NUL"]
[null,null,null,null,null,null,null,null,null,null,null,null,null,null,null,null,null,null,null,null,null,null,null,null,null,null,null,null,null,null,null,null,null,null,null,null,"NUL"]
[null,null,null,null,null,null,null,null,null,null,null,null,null,null,null,null,null,null,null,null,null,null,null,null,null,null,null,null,null,null,null,null,null,null,null,null,"NUL"]
[null,null,null,null,null,null,null,null,null,null,null,null,null,null,null,null,null,null,null,null,null,null,null,null,null,null,null,null,null,null,null,null,null,null,null,null,"NUL"]
[null,null,null,null,null,null,null,null,null,null,null,null,null,null,null,null,null,null,null,null,null,null,null,null,null,null,null,null,null,null,null,null,null,null,null,null,"NUL"]
[null,null,null,null,null,null,null,null,null,null,null,null,null,null,null,null,null,null,null,null,null,null,null,null,null,null,null,null,null,null,null,null,null,null,null,null,"NUL"]
[null,null,null,null,null,null,null,null,null,null,null,null,null,null,null,null,null,null,null,null,null,null,null,null,null,null,null,null,null,null,null,null,null,null,null,null,"NUL"]
[null,null,null,null,null,null,null,null,null,null,null,null,null,null,null,null,null,null,null,null,null,null,null,null,null,null,null,null,null,null,null,null,null,null,null,null,"NUL"]
[null,null,null,null,null,null,null,null,null,null,null,null,null,null,null,null,null,null,null,null,null,null,null,null,null,null,null,null,null,null,null,null,null,null,null,null,"NUL"]
[null,null,null,null,null,null,null,null,null,null,null,null,null,null,null,null,null,null,null,null,null,null,null,null,null,null,null,null,null,null,null,null,null,null,null,null,"NUL"]
[null,null,null,null,null,null,null,null,null,null,null,null,null,null,null,null,null,null,null,null,null,null,null,null,null,null,null,null,null,null,null,null,null,null,null,null,"NUL"]
[null,null,null,null,null,null,null,null,null,null,null,null,null,null,null,null,null,null,null,null,null,null,null,null,null,null,null,null,null,null,null,null,null,null,null,null,"NUL"]
[null,null,null,null,null,null,null,null,null,null,null,null,null,null,null,null,null,null,null,null,null,null,null,null,null,null,null,null,null,null,null,null,null,null,null,null,"NUL"]
[null,null,null,null,null,null,null,null,null,null,null,null,null,null,null,null,null,null,null,null,null,null,null,null,null,null,null,null,null,null,null,null,null,null,null,null,"NUL"]
[null,null,null,null,null,null,null,null,null,null,null,null,null,null,null,null,null,null,null,null,null,null,null,null,null,null,null,null,null,null,null,null,null,null,null,null,"NUL"]
[null,null,null,null,null,null,null,null,null,null,null,null,null,null,null,null,null,null,null,null,null,null,null,null,null,null,null,null,null,null,null,null,null,null,null,null,"NUL"]
[null,null,null,null,null,null,null,null,null,null,null,null,null,null,null,null,null,null,null,null,null,null,null,null,null,null,null,null,null,null,null,null,null,null,null,null,"NUL"]
[null,null,null,null,null,null,null,null,null,null,null,null,null,null,null,null,null,null,null,null,null,null,null,null,null,null,null,null,null,null,null,null,null,null,null,null,"NUL"]
[null,null,null,null,null,null,null,null,null,null,null,null,null,null,null,null,null,null,null,null,null,null,null,null,null,null,null,null,null,null,null,null,null,null,null,null,"NUL"]
[null,null,null,null,null,null,null,null,null,null,null,null,null,null,null,null,null,null,null,null,null,null,null,null,null,null,null,null,null,null,null,null,null,null,null,null,"NUL"]
[null,null,null,null,null,null,null,null,null,null,null,null,null,null,null,null,null,null,null,null,null,null,null,null,null,null,null,null,null,null,null,null,null,null,null,null,"NUL"]
[null,null,null,null,null,null,null,null,null,null,null,null,null,null,null,null,null,null,null,null,null,null,null,null,null,null,null,null,null,null,null,null,null,null,null,null,"NUL"]
[null,null,null,null,null,null,null,null,null,null,null,null,null,null,null,null,null,null,null,null,null,null,null,null,null,null,null,null,null,null,null,null,null,null,null,null,"NUL"]
[null,null,null,null,null,null,null,null,null,null,null,null,null,null,null,null,null,null,null,null,null,null,null,null,null,null,null,null,null,null,null,null,null,null,null,null,"NUL"]
[null,null,null,null,null,null,null,null,null,null,null,null,null,null,null,null,null,null,null,null,null,null,null,null,null,null,null,null,null,null,null,null,null,null,null,null,"NUL"]
[null,null,null,null,null,null,null,null,null,null,null,null,null,null,null,null,null,null,null,null,null,null,null,null,null,null,null,null,null,null,null,null,null,null,null,null,"NUL"]
[null,null,null,null,null,null,null,null,null,null,null,null,null,null,null,null,null,null,null,null,null,null,null,null,null,null,null,null,null,null,null,null,null,null,null,null,"NUL"]
[null,null,null,null,null,null,null,null,null,null,null,null,null,null,null,null,null,null,null,null,null,null,null,null,null,null,null,null,null,null,null,null,null,null,null,null,"NUL"]
[null,null,null,null,null,null,null,null,null,null,null,null,null,null,null,null,null,null,null,null,null,null,null,null,null,null,null,null,null,null,null,null,null,null,null,null,"NUL"]
[null,null,null,null,null,null,null,null,null,null,null,null,null,null,null,null,null,null,null,null,null,null,null,null,null,null,null,null,null,null,null,null,null,null,null,null,"NUL"]
[null,null,null,null,null,null,null,null,null,null,null,null,null,null,null,null,null,null,null,null,null,null,null,null,null,null,null,null,null,null,null,null,null,null,null,null,"NUL"]
[null,null,null,null,null,null,null,null,null,null,null,null,null,null,null,null,null,null,null,null,null,null,null,null,null,null,null,null,null,null,null,null,null,null,null,null,"NUL"]
[null,null,null,null,null,null,null,null,null,null,null,null,null,null,null,null,null,null,null,null,null,null,null,null,null,null,null,null,null,null,null,null,null,null,null,null,"NUL"]
[null,null,null,null,null,null,null,null,null,null,null,null,null,null,null,null,null,null,null,null,null,null,null,null,null,null,null,null,null,null,null,null,null,null,null,null,"NUL"]
[null,null,null,null,null,null,null,null,null,null,null,null,null,null,null,null,null,null,null,null,null,null,null,null,null,null,null,null,null,null,null,null,null,null,null,null,"NUL"]
[null,null,null,null,null,null,null,null,null,null,null,null,null,null,null,null,null,null,null,null,null,null,null,null,null,null,null,null,null,null,null,null,null,null,null,null,"NUL"]
[null,null,null,null,null,null,null,null,null,null,null,null,null,null,null,null,null,null,null,null,null,null,null,null,null,null,null,null,null,null,null,null,null,null,null,null,"NUL"]
[null,null,null,null,null,null,null,null,null,null,null,null,null,null,null,null,null,null,null,null,null,null,null,null,null,null,null,null,null,null,null,null,null,null,null,null,"NUL"]
[null,null,null,null,null,null,null,null,null,null,null,null,null,null,null,null,null,null,null,null,null,null,null,null,null,null,null,null,null,null,null,null,null,null,null,null,"NUL"]
[null,null,null,null,null,null,null,null,null,null,null,null,null,null,null,null,null,null,null,null,null,null,null,null,null,null,null,null,null,null,null,null,null,null,null,null,"NUL"]
[null,null,null,null,null,null,null,null,null,null,null,null,null,null,null,null,null,null,null,null,null,null,null,null,null,null,null,null,null,null,null,null,null,null,null,null,"NUL"]
[null,null,null,null,null,null,null,null,null,null,null,null,null,null,null,null,null,null,null,null,null,null,null,null,null,null,null,null,null,null,null,null,null,null,null,null,"NUL"]
[null,null,null,null,null,null,null,null,null,null,null,null,null,null,null,null,null,null,null,null,null,null,null,null,null,null,null,null,null,null,null,null,null,null,null,null,"NUL"]
[null,null,null,null,null,null,null,null,null,null,null,null,null,null,null,null,null,null,null,null,null,null,null,null,null,null,null,null,null,null,null,null,null,null,null,null,"NUL"]
[null,null,null,null,null,null,null,null,null,null,null,null,null,null,null,null,null,null,null,null,null,null,null,null,null,null,null,null,null,null,null,null,null,null,null,null,"NUL"]
[null,null,null,null,null,null,null,null,null,null,null,null,null,null,null,null,null,null,null,null,null,null,null,null,null,null,null,null,null,null,null,null,null,null,null,null,"NUL"]
[null,null,null,null,null,null,null,null,null,null,null,null,null,null,null,null,null,null,null,null,null,null,null,null,null,null,null,null,null,null,null,null,null,null,null,null,"NUL"]
[null,null,null,null,null,null,null,null,null,null,null,null,null,null,null,null,null,null,null,null,null,null,null,null,null,null,null,null,null,null,null,null,null,null,null,null,"NUL"]
[null,null,null,null,null,null,null,null,null,null,null,null,null,null,null,null,null,null,null,null,null,null,null,null,null,null,null,null,null,null,null,null,null,null,null,null,"NUL"]
[null,null,null,null,null,null,null,null,null,null,null,null,null,null,null,null,null,null,null,null,null,null,null,null,null,null,null,null,null,null,null,null,null,null,null,null,"NUL"]
[null,null,null,null,null,null,null,null,null,null,null,null,null,null,null,null,null,null,null,null,null,null,null,null,null,null,null,null,null,null,null,null,null,null,null,null,"NUL"]
[null,null,null,null,null,null,null,null,null,null,null,null,null,null,null,null,null,null,null,null,null,null,null,null,null,null,null,null,null,null,null,null,null,null,null,null,"NUL"]
[null,null,null,null,null,null,null,null,null,null,null,null,null,null,null,null,null,null,null,null,null,null,null,null,null,null,null,null,null,null,null,null,null,null,null,null,"NUL"]

{"sheet":"Espece","index":5,"n_rows":238,"n_cols":10,"rows_kept":238,"cut":false,"hidden":false,"merged":[]}
[null,"Date","Montant","Nom","Facture","Bordereaux","Date remise","Somme remise"]
[]
[2007,"2007-04-16",83.68,"FAIVRE",2706,null,null,83.68]
[null,"2007-05-25",83.68,"BENLARBI",2857,null,null,83.68]
[null,"2007-06-07",30,"VERGOBY",2910,null,null,30]
[null,"2007-06-15",30,null,null,null,null,30]
[null,"2007-06-18",124.68,null,null,null,null,124.68]
[null,"2007-06-19",83.68,null,null,null,null,83.68]
[null,"2007-06-22",30,null,null,null,null,30]
[null,"2007-06-26",30,null,null,null,"2007-11-02",30]
[null,"2007-07-03",30,null,null,null,"2007-11-02",30]
[null,"2007-07-30",83.68,null,null,null,"2007-11-02",83.68]
[null,"2007-08-14",142.1,null,null,null,"2007-11-02",142.1]
[null,"2007-08-29",30,"KRAMER",3200,null,"2007-11-02",30]
[null,"2007-09-03",83.68,"DORAS",3221,null,"2007-11-02",83.68]
[null,"2007-10-19",71.05,"ALBARON",3346,null,"2007-11-02",71.05]
[null,"2007-10-19",71.05,"ALBARON",3349,null,"2007-11-02",71.05]
[null,"2007-10-19",83.68,"CITROEN",null,null,"2007-11-02",83.68]
[2008,"2008-01-07",83.68,"ALBARON",3586,null,"2008-01-11",83.68]
[null,"2008-01-07",71.05,"ALBARON",3587,null,"2008-01-11",71.05]
[null,"2008-01-07",83.68,"ALBARON",3590,null,"2008-01-11",83.68]
[null,"2008-01-07",71.05,"ALBARON",3591,null,"2008-01-11",71.05]
[null,"2008-01-07",83.68,"MOREZ AUTO",3593,null,"2008-01-11",83.68]
[null,"2008-01-07",71.05,"ALBARON",3594,null,"2008-01-11",71.05]
[null,"2008-01-08",71.05,"ALBARON",3600,null,"2008-01-11",71.05]
[null,"2008-01-09",83.68,"ALBARON",3603,null,"2008-01-11",83.68]
[null,"2008-01-10",71.05,"ALBARON",3608,null,"2008-01-11",71.05]
[null,"2008-01-10",71.05,"ALBARON",3615,null,"2008-01-11",71.05]
[null,"2008-01-14",83.68,"ALBARON",3622,null,"2008-01-26",83.68]
[null,"2008-01-16",71.05,"ALBARON",3630,null,"2008-01-26",71.05]
[null,"2008-01-18",83.68,"ALBARON",3640,null,"2008-01-26",83.68]
[null,"2008-03-03",86,"MAZUREK",3810,null,"2008-06-24",86]
[null,"2008-03-20",42,"PUJOL",3876,null,"2008-06-24",42]
[null,"2008-05-05",86,"MARTIN",4023,null,"2008-06-24",86]
[null,"2008-05-05",73,"ANSCHEILER",4024,null,"2008-08-29",73]
[null,"2008-06-18",31,"BENLARBI",4171,null,"2008-08-29",31]
[null,"2008-08-20",73,"ALBARON",4385,null,"2008-08-29",73]
[null,"2008-08-20",73,"ALBARON",4387,null,"2008-08-29",73]
[null,"2008-08-20",73,"ALBARON",4390,null,"2008-08-29",73]
[null,"2008-08-22",73,"ALBARON",4394,null,"2008-11-12",73]
[null,"2008-09-30",86,"LEPOSTELEC",4524,null,"2009-01-09",86]
[null,"2008-10-20",42,"LEPOSTELEC",4596,null,"2008-11-12",42]
[2009,"2009-01-06",73,"ALBARON",4780,null,"2009-01-09",73]
[null,"2009-01-06",86,"ALBARON",4784,null,"2009-01-09",86]
[null,"2009-01-07",86,"ALBARON",4786,null,"2009-01-09",86]
[null,"2009-01-07",73,"ALBARON",4787,null,"2009-01-09",73]
[null,"2009-01-08",86,"ALBARON",4790,null,"2009-01-09",86]
[null,"2009-01-08",73,"ALBARON",4791,null,"2009-01-09",73]
[null,"2009-01-08",86,"ALBARON",4793,null,"2009-01-09",86]
[null,"2009-01-08",73,"ALBARON",4794,null,"2009-01-09",73]
[null,"2009-01-09",86,"ALBARON",4802,null,"2009-01-09",86]
[null,"2009-01-09",73,"ALBARON",4803,null,"2009-01-09",73]
[null,"2009-01-12",73,"ALBARON",4809,null,"2009-01-09",73]
[null,"2009-01-12",73,"ALBARON",4811,null,"2009-01-09",73]
[null,"2009-01-12",73,"ALBARON",4812,null,"2009-01-09",73]
[null,"2009-02-10",86,"BOURGEOIS",4906,null,"2009-01-09",86]
[null,"2009-02-10",73,"BOURGEOIS",4907,null,"2009-01-09",73]
[null,"2009-02-19",86,"PERRIN",4937,null,"2009-01-09",86]
[null,"2009-02-26",86,"PERRIN",4969,null,"2009-01-09",86]
[null,"2009-03-13",86,"KRAMER",5028,null,"2009-01-09",86]
[null,"2009-03-13",73,"KRAMER",5029,null,"2009-01-09",73]
[null,"2009-03-27",86,"FAIVRE",5097,null,"2009-07-23",86]
[null,"2009-04-03",32,"GANEVAL",5128,null,"2009-07-23",32]
[null,"2009-04-08",89,"ADENOT",5142,null,"2009-07-23",89]
[null,"2009-06-18",89,"SŒUR",5382,null,"2009-07-23",89]
[null,"2009-06-23",74,"REMOND",5410,null,"2009-07-23",74]
[null,"2009-06-23",89,"REMOND",5411,null,"2009-07-23",89]
[null,"2009-06-23",74,"REMOND",5412,null,"2009-07-23",74]
[null,"2009-06-23",89,"GUIGOURET",5413,null,"2009-07-23",89]
[null,"2009-06-23",89,"GRIBEL",5416,null,"2009-07-23",89]
[null,"2009-06-23",74,"GRIBEL",5417,null,"2009-07-23",74]
[null,"2009-07-02",89,"MAZUREK",5450,null,null,89]
[null,"2009-07-30",89,"ADENOT A",5550,null,null,89]
[null,"2009-07-30",74,"VUILLET JP",5551,null,null,74]
[null,"2009-08-04",89,"FREYER",5566,null,null,89]
[null,"2009-08-11",0,"BUGADA",5581,null,null,0]
[null,"2009-08-20",74,"MAUGER YOLLANDE",5603,null,null,74]
[null,"2009-08-20",74,"ALBARON",5604,null,null,74]
[null,"2009-08-20",89,"GOUGEON",5605,null,null,89]
[null,"2009-08-25",74,"ALBARON",5616,null,null,74]
[null,"2009-08-25",74,"ALBARON",5617,null,null,74]
[null,"2009-10-07",89,"ANSCHEILER",5747,null,"2010-01-29",89]
[null,"2009-10-15",89,"JANUEL",5781,null,"2010-01-29",89]
[null,"2009-11-23",89,"ALBARON",5880,null,"2010-01-29",89]
[null,"2009-12-01",89,"ADENOT F",5898,null,"2010-01-29",89]
[2010,"2010-01-07",89,"ALBARON",5982,null,"2010-01-29",89]
[null,"2010-01-07",74,"ALBARON",5983,null,"2010-01-29",74]
[null,"2010-01-07",89,"ALBARON",5985,null,"2010-01-29",89]
[null,"2010-01-07",74,"ALBARON",5986,null,"2010-01-29",74]
[null,"2010-01-08",74,"ALBARON",5987,null,"2010-01-29",74]
[null,"2010-01-08",89,"ALBARON",5993,null,"2010-01-29",89]
[null,"2010-01-08",74,"ALBARON",5994,null,"2010-01-29",74]
[null,"1900-01-21",89,"LIRONY",6026,null,"2010-03-26",89]
[null,"2010-02-03",89,"ALBARON",6062,null,"2010-03-26",89]
[null,"2010-02-03",74,"ALBARON",6063,null,"2010-03-26",74]
[null,"2010-02-09",89,"ALBARON",6078,null,"2010-03-26",89]
[null,"2010-02-09",74,"ALBARON",6079,null,"2010-03-26",74]
[null,"2010-02-16",89,"ADENOT",6116,null,"2010-03-26",89]
[null,"2010-03-02",91,"PERRIN",6162,null,"2010-03-26",91]
[null,"2010-03-02",91,"REMOND",6168,null,"2010-03-26",91]
[null,"2010-03-04",91,"ANSCHEILER",6173,null,"2010-03-26",91]
[null,"2010-03-04",91,"ANSCHEILER",6174,null,"2010-03-26",91]
[null,"2010-03-11",91,"KRAMER",6196,null,"2010-03-26",91]
[null,"2010-03-16",76,"KRAMER",6210,null,"2010-03-26",76]
[null,"2010-03-16",91,"CUBY",6209,null,"2010-03-26",91]
[null,"2010-03-23",91,"FAIVRE",6232,null,"2010-03-26",91]
[null,"2010-03-25",91,"ADENOT",6239,null,"2010-05-21",91]
[null,"2010-04-13",91,"REMOND",6287,null,"2010-05-21",91]
[null,"2010-04-13",76,"REMOND",6288,null,"2010-05-21",76]
[null,"2010-04-13",91,"REMOND",6290,null,"2010-05-21",91]
[null,"2010-04-13",76,"REMOND",6291,null,"2010-05-21",76]
[null,"2010-04-15",91,"REMOND",6300,null,"2010-05-21",91]
[null,"2010-04-15",76,"REMOND",6301,null,"2010-05-21",76]
[null,"2010-04-16",91,"REMOND",6306,null,"2010-05-21",91]
[null,"2010-04-16",76,"REMOND",6307,null,"2010-05-21",76]
[null,"2010-04-29",91,"BATAILLE",6334,null,"2010-05-21",91]
[null,"2010-04-29",91,"FAIVRE",6336,null,"2010-05-21",91]
[null,"2010-03-29",91,"EPAC",133,"RAMBERVILLERS","2010-05-21",91]
[null,"2010-04-26",91,"BOULET",2927,"MEYTHET","2010-05-21",91]
[null,"2010-04-26",91,"BOULET",2928,"MEYTHET","2010-05-21",91]
[null,"2010-05-12",91,"GARGATE",6370,null,"2010-06-24",91]
[null,"2010-06-18",91,"REMOND",6504,null,"2010-06-24",91]
[null,"2010-06-22",91,"GUIGOURET",6511,null,"2010-06-24",91]
[null,"2010-06-22",91,"REMOND",6514,null,"2010-06-24",91]
[null,"2010-06-22",76,"REMOND",6516,null,"2010-06-24",76]
[null,"2010-06-22",76,"REMOND",6517,null,"2010-06-24",76]
[null,"2010-06-22",91,"DUPIL",6518,null,"2010-06-24",91]
[null,"2010-06-22",76,"DUPIL",6519,null,"2010-06-24",76]
[null,"2010-06-22",91,"GRIBAL",6521,null,"2010-06-24",91]
[null,"2010-06-22",76,"GRIBAL",6522,null,"2010-06-24",76]
[null,"2010-06-22",91,"SŒUR",6523,null,"2010-06-24",91]
[null,"2010-06-22",76,"DUPIL",6526,null,"2010-06-24",76]
[null,"2010-06-22",76,"DUPIL",6527,null,"2010-06-24",76]
[null,"2010-06-22",91,"PERRIN",6528,null,"2010-08-27",91]
[null,"2010-06-25",91,"WINTERSHEIM",6546,null,"2010-08-27",91]
[null,"2010-07-05",91,"CHAZEL",2992,null,"2010-08-27",91,"MEYTHET"]
[null,"2010-07-19",76,"ALBARON",6642,null,"2010-08-27",76]
[null,"2010-07-29",103,"RICARD EUROP TRAVEL",6682,null,"2010-08-27",103]
[null,"2010-08-06",91,"ADENOT",6704,null,"2010-08-27",91]
[null,"2010-08-13",76,"ALBARON",6732,null,"2010-08-27",76]
[null,"2010-08-13",76,"ALBARON",6733,null,"2010-08-27",76]
[null,"2010-08-17",76,"ALBARON",6748,null,"2010-08-27",76]
[null,"2010-08-17",76,"MAUGER YOLLANDE",6749,null,"2010-08-27",76]
[null,"2010-08-19",76,"ALBARON",6763,null,"2010-08-27",76]
[null,"2010-08-19",76,"ALBARON",6764,null,"2010-08-27",76]
[null,"2010-08-20",91,"OTT",1346,null,"2010-08-27",91,"vieux thann"]
[null,"2010-08-24",76,"ALBARON",6777,null,"2010-10-21",76]
[null,"2010-09-30",91,"VUILLERMET",6802,null,"2010-10-21",91]
[null,"2010-09-09",91,"CORDIER",6815,null,"2010-10-21",91]
[null,"2010-09-14",33,"CORDIER",6825,null,"2010-10-21",33]
[null,"2010-09-24",91,"OTT",1400,null,"2010-10-21",91,"vieux thann"]
[null,"2010-09-28",91,"REMOND",6875,null,"2010-10-21",91]
[null,"2010-10-04",91,"VUILLERMET",6904,null,"2010-10-21",91]
[null,"2010-10-05",91,"MOREZ AUTO",6915,null,"2011-04-14",91]
[null,"2011-11-22",33,"DESBARRES",3090,null,"2011-04-14",33,"MEYTHET"]
[null,"2010-11-16",76,"ALBARON",7024,null,"2011-04-14",76]
[null,"2011-12-10",91,"ADENOT",7091,null,"2011-04-14",91]
[2011,"2011-01-04",91,"ALBARON",7128,null,"2011-04-14",91]
[null,"2011-01-05",91,"ALBARON",7132,null,"2011-04-14",91]
[null,"2011-01-05",91,"ALBARON",7135,null,"2011-04-14",91]
[null,"2011-01-06",76,"ALBARON",7136,null,"2011-04-14",76]
[null,"2011-01-07",91,"ANSCHEILER",7147,null,"2011-04-14",91]
[null,"2011-01-17",91,"ALBARON",7179,null,"2011-04-14",91]
[null,"2011-01-17",76,"ALBARON",7180,null,"2011-04-14",76]
[null,"2011-01-17",76,"ALBARON",7183,null,"2011-04-14",76]
[null,"2011-01-31",76,"ALBARON",7203,null,"2011-04-14",76]
[null,"2011-01-31",76,"ALBARON",7225,null,"2011-04-14",76]
[null,"2011-01-31",91,"ALBARON",7227,null,"2011-04-14",91]
[null,"2011-02-15",91,"ADENOT",7268,null,"2011-04-14",91]
[null,"2011-02-25",76,"ALBARON",7310,null,"2011-04-14",76]
[null,"2011-02-25",91,"ALBARON",7311,null,"2011-04-14",91]
[null,"2011-02-28",91,"CRAMPON",3175,null,"2011-04-14",91,"MEYTHET"]
[null,"2011-03-10",91,"CATHERIN",7359,null,"2011-04-14",91]
[null,"2011-03-14",91,"CRAMPON",3184,null,"2011-04-14",91,"MEYTHET"]
[null,"2011-03-14",91,"MATHIEZ",3187,null,"2011-04-14",91,"MEYTHET"]
[null,"2011-04-05",91,"ADOLPHE",7412,null,"2011-04-14",91]
[null,"2011-04-11",91,"BOULET",3217,null,"2011-04-14",91,"MEYHTET"]
[null,"2011-04-28",91,"CHAMPREUX",7464,null,null,91]
[null,"2011-05-10",91,"REMOND",7500,null,null,91]
[null,"2011-05-10",76,"REMOND",7501,null,null,76]
[null,"2011-05-10",91,"REMOND",7502,null,null,91]
[null,"2011-05-10",76,"REMOND",7503,null,null,76]
[null,"2011-05-10",91,"REMOND",7504,null,null,91]
[null,"2011-05-10",76,"REMOND",7505,null,null,76]
[null,"2011-05-10",91,"REMOND",7510,null,null,91]
[null,"2011-05-10",76,"REMOND",7511,null,null,76]
[null,"2011-05-10",91,"REMOND",7512,null,null,91]
[null,"2011-05-10",76,"REMOND",7513,null,null,76]
[null,"2011-05-12",91,"CARGATE",7519,null,null,91]
[null,"2011-05-19",91,"BERGER",7542,null,"2011-07-20",91]
[null,"2011-06-16",91,"JONQUOY",7657,null,"2011-07-20",91]
[null,"2011-06-21",91,"GUIGOURET",7659,null,"2011-07-20",91]
[null,"2011-06-21",91,"PERRIN",7659,null,"2011-07-20",91]
[null,"2011-06-21",91,"SELGRAD",7659,null,"2011-07-20",91]
[null,"2011-06-28",91,"HCE HINI COURS ENROBE",7692,null,"2011-07-20",91]
[null,"2011-07-12",91,"PIERRE ALAIN",7744,null,"2011-07-20",91]
[null,"2011-07-12",44,"EMONIN",7760,null,"2011-07-20",44]
[null,"2011-07-27",76,"ALBARON",7794,null,"2011-08-26",76]
[null,"2011-07-29",91,"ADENOT ALAIN",7800,null,"2011-08-26",91]
[null,"2011-08-16",76,"ALBARON",7859,null,"2011-08-26",76]
[null,"2011-08-16",76,"GOUGEON",7860,null,"2011-08-26",76]
[null,"2011-08-16",76,"MAUGER YOLLANDE",7862,null,"2011-08-26",76]
[null,"2011-08-17",76,"ALBARON",7863,null,"2011-08-26",76]
[null,"2011-08-17",76,"ALBARON",7864,null,"2011-08-26",76]
[null,"2011-08-17",76,"ALBARON",7865,null,"2011-08-26",76]
[null,"2011-08-26",91,"MAZUREK",7900,null,"2012-01-11",91]
[null,"2011-10-07",91,"ADENOT JORDAN",8033,null,"2012-01-11",91]
[null,"2011-10-21",91,"TRANSPARENCE",8076,null,"2012-01-11",91]
[null,"2012-11-29",91,"KRAMER",8158,null,"2012-01-11",91]
[null,"2012-11-29",76,"KRAMER",8159,null,"2012-01-11",76]
[null,"2012-12-05",91,"ADENOT FRANCK",8172,null,"2012-01-11",91]
[2012,"2012-01-11",91,"ALBARON",8244,null,"2012-02-02",91]
[null,"2012-01-11",76,"ALBARON",8245,null,"2012-02-02",76]
[null,"2012-01-13",91,"ALBARON",8252,null,"2012-02-02",91]
[null,"2012-01-13",76,"ALBARON",8253,null,"2012-02-02",76]
[null,"2012-01-20",91,"ALBARON",8274,null,"2012-02-02",91]
[null,"2012-01-20",76,"ALBARON",8275,null,"2012-02-02",76]
[null,"2012-01-20",44,"PETITDEMANGE",8276,null,"2012-02-02",44]
[null,"2012-01-20",91,"ALBARON",8277,null,"2012-02-02",91]
[null,"2012-01-20",76,"ALBARON",8278,null,"2012-02-02",76]
[null,"2012-01-24",91,"ANSCHEILER",8282,null,"2012-02-02",91]
[null,"2012-01-24",91,"ANSCHEILER",8283,null,"2012-02-02",91]
[null,"2012-01-27",91,"ALBARON",8294,null,"2012-02-02",91]
[null,"2012-01-27",76,"ALBARON",8295,null,"2012-02-02",76]
[null,"2012-01-27",91,"ALBARON",8296,null,"2012-02-02",91]
[null,"2012-01-27",76,"ALBARON",8297]
[null,"2012-02-09",91,"ADENOT",8332]
[null,"2012-02-16",91,"LIRONY",8347]
[null,"2012-03-07",78,"ALBARON",8409]
[]
[]
[]
[]
[]
[]
[null,null,{"$f":"SUM(C3:C235)","v":18301.39},null,null,null,null,{"$f":"SUM(H3:H235)","v":17965.39},{"$f":"C236-H236","v":336},{"$f":"C236-H236","v":336}]
[]
[null,null,{"$f":"SUM(C5:C237)","v":36435.42},null,null,null,null,null,{"$f":"I236-I237","v":336}]

{"sheet":"Note de frais","index":6,"n_rows":125,"n_cols":15,"rows_kept":125,"cut":false,"hidden":false,"merged":[[9,1,15,1],[31,12,37,12],[16,1,22,1],[23,1,30,1],[31,1,39,1],[23,12,29,12],[16,12,21,12],[9,12,14,12],[1,5,2,5],[3,1,8,1],[3,12,7,12],[1,2,2,2],[1,6,2,6],[1,7,2,7],[1,9,2,9],[1,8,2,8],[1,10,2,10],[1,11,2,11],[101,1,108,1],[101,12,107,12],[93,1,100,1],[93,12,99,12],[1,12,2,12],[1,3,2,3],[77,1,92,1],[77,12,91,12],[69,1,76,1],[69,12,75,12],[59,12,67,12],[40,1,47,1],[40,12,46,12],[48,1,58,1],[48,12,57,12],[59,1,68,1]]}
[null,null,null,null,null,0.48299999999999998]
[null,null,"DATE","LIEU",null,"KM","€/KM","Peages","Gasoil","Repas","Divers","TOTAL","Remboursé"]
[null,null,null,null,null,null,null,null,null,null,null,null,null,{"$f":"F125","v":{"$error":"#VALUE!"}},"Km"]
[null,"Janvier","2008-01-11","ST LAURENT",null,null,{"$f":"IF(F4=\"\",\"\",F4*$F$1)","v":""},null,null,null,27,{"$f":"SUM(G4:K4)","v":27}]
[null,null,"2008-01-15","BESANCON",{"$f":"VLOOKUP(D5,Ville!$A$2:$I$14,8)","v":0},{"$f":"CHOOSE(E5,Ville!#REF!,Ville!#REF!,Ville!#REF!,Ville!#REF!,Ville!#REF!,Ville!#REF!,Ville!#REF!,Ville!#REF!,Ville!#REF!,Ville!#REF!,Ville!#REF!,Ville!#REF!,Ville!#REF!,Ville!#REF!)","v":{"$error":"#VALUE!"}},{"$f":"IF(F5=\"\",\"\",F5*$F$1)","v":{"$error":"#VALUE!"}},{"$f":"CHOOSE(E5,Ville!#REF!,Ville!#REF!,Ville!#REF!,Ville!#REF!,Ville!#REF!,Ville!#REF!,Ville!#REF!,Ville!#REF!,Ville!#REF!,Ville!#REF!,Ville!#REF!,Ville!#REF!,Ville!#REF!,Ville!#REF!)","v":{"$error":"#VALUE!"}},null,4.5999999999999996,null,{"$error":"#VALUE!"}]
[null,null,"2008-01-16","CORDESSE",{"$f":"VLOOKUP(D6,Ville!$A$2:$I$14,8)","v":0},{"$f":"CHOOSE(E6,Ville!#REF!,Ville!#REF!,Ville!#REF!,Ville!#REF!,Ville!#REF!,Ville!#REF!,Ville!#REF!,Ville!#REF!,Ville!#REF!,Ville!#REF!,Ville!#REF!,Ville!#REF!,Ville!#REF!,Ville!#REF!)","v":{"$error":"#VALUE!"}},{"$f":"IF(F6=\"\",\"\",F6*$F$1)","v":{"$error":"#VALUE!"}},{"$f":"CHOOSE(E6,Ville!#REF!,Ville!#REF!,Ville!#REF!,Ville!#REF!,Ville!#REF!,Ville!#REF!,Ville!#REF!,Ville!#REF!,Ville!#REF!,Ville!#REF!,Ville!#REF!,Ville!#REF!,Ville!#REF!,Ville!#REF!)","v":{"$error":"#VALUE!"}},null,8.6,null,{"$error":"#VALUE!"}]
[null,null,"2008-01-23","RUMILLY",{"$f":"VLOOKUP(D7,Ville!$A$2:$I$14,8)","v":0},{"$f":"CHOOSE(E7,Ville!#REF!,Ville!#REF!,Ville!#REF!,Ville!#REF!,Ville!#REF!,Ville!#REF!,Ville!#REF!,Ville!#REF!,Ville!#REF!,Ville!#REF!,Ville!#REF!,Ville!#REF!,Ville!#REF!,Ville!#REF!)","v":{"$error":"#VALUE!"}},{"$f":"IF(F7=\"\",\"\",F7*$F$1)","v":{"$error":"#VALUE!"}},{"$f":"CHOOSE(E7,Ville!#REF!,Ville!#REF!,Ville!#REF!,Ville!#REF!,Ville!#REF!,Ville!#REF!,Ville!#REF!,Ville!#REF!,Ville!#REF!,Ville!#REF!,Ville!#REF!,Ville!#REF!,Ville!#REF!,Ville!#REF!)","v":{"$error":"#VALUE!"}},null,15.9,30,{"$error":"#VALUE!"}]
[null,null,null,"INCONNUE",{"$f":"VLOOKUP(D8,Ville!$A$2:$I$14,8)","v":0},{"$f":"CHOOSE(E8,Ville!#REF!,Ville!#REF!,Ville!#REF!,Ville!#REF!,Ville!#REF!,Ville!#REF!,Ville!#REF!,Ville!#REF!,Ville!#REF!,Ville!#REF!,Ville!#REF!,Ville!#REF!,Ville!#REF!,Ville!#REF!)","v":{"$error":"#VALUE!"}},{"$f":"IF(F8=\"\",\"\",F8*$F$1)","v":{"$error":"#VALUE!"}},{"$f":"CHOOSE(E8,Ville!#REF!,Ville!#REF!,Ville!#REF!,Ville!#REF!,Ville!#REF!,Ville!#REF!,Ville!#REF!,Ville!#REF!,Ville!#REF!,Ville!#REF!,Ville!#REF!,Ville!#REF!,Ville!#REF!,Ville!#REF!)","v":{"$error":"#VALUE!"}},null,null,null,{"$error":"#VALUE!"}]
[null,null,null,"INCONNUE",{"$f":"VLOOKUP(D9,Ville!$A$2:$I$14,8)","v":0},{"$f":"SUM(F4:F8)","v":{"$error":"#VALUE!"}},{"$f":"SUM(G4:G8)","v":{"$error":"#VALUE!"}},{"$f":"SUM(H4:H8)","v":{"$error":"#VALUE!"}},null,{"$f":"SUM(J4:J8)","v":29.1},{"$f":"SUM(K4:K8)","v":57},{"$error":"#VALUE!"}]
[null,"Fevrier","2008-02-08","CHAUFFAILLES",{"$f":"VLOOKUP(D10,Ville!$A$2:$I$14,8)","v":0},{"$f":"CHOOSE(E10,Ville!#REF!,Ville!#REF!,Ville!#REF!,Ville!#REF!,Ville!#REF!,Ville!#REF!,Ville!#REF!,Ville!#REF!,Ville!#REF!,Ville!#REF!,Ville!#REF!,Ville!#REF!,Ville!#REF!,Ville!#REF!)","v":{"$error":"#VALUE!"}},{"$error":"#VALUE!"},{"$f":"CHOOSE(E10,Ville!#REF!,Ville!#REF!,Ville!#REF!,Ville!#REF!,Ville!#REF!,Ville!#REF!,Ville!#REF!,Ville!#REF!,Ville!#REF!,Ville!#REF!,Ville!#REF!,Ville!#REF!,Ville!#REF!,Ville!#REF!)","v":{"$error":"#VALUE!"}},null,null,null,{"$error":"#VALUE!"}]
[null,null,"2008-02-12","RUMILLY",{"$f":"VLOOKUP(D11,Ville!$A$2:$I$14,8)","v":0},{"$f":"CHOOSE(E11,Ville!#REF!,Ville!#REF!,Ville!#REF!,Ville!#REF!,Ville!#REF!,Ville!#REF!,Ville!#REF!,Ville!#REF!,Ville!#REF!,Ville!#REF!,Ville!#REF!,Ville!#REF!,Ville!#REF!,Ville!#REF!)","v":{"$error":"#VALUE!"}},{"$error":"#VALUE!"},{"$f":"CHOOSE(E11,Ville!#REF!,Ville!#REF!,Ville!#REF!,Ville!#REF!,Ville!#REF!,Ville!#REF!,Ville!#REF!,Ville!#REF!,Ville!#REF!,Ville!#REF!,Ville!#REF!,Ville!#REF!,Ville!#REF!,Ville!#REF!)","v":{"$error":"#VALUE!"}},null,13.7,null,{"$error":"#VALUE!"},null,"Mise à jour DOC"]
[null,null,"2008-02-14","BESANCON",{"$f":"VLOOKUP(D12,Ville!$A$2:$I$14,8)","v":0},{"$f":"CHOOSE(E12,Ville!#REF!,Ville!#REF!,Ville!#REF!,Ville!#REF!,Ville!#REF!,Ville!#REF!,Ville!#REF!,Ville!#REF!,Ville!#REF!,Ville!#REF!,Ville!#REF!,Ville!#REF!,Ville!#REF!,Ville!#REF!)","v":{"$error":"#VALUE!"}},{"$error":"#VALUE!"},{"$f":"CHOOSE(E12,Ville!#REF!,Ville!#REF!,Ville!#REF!,Ville!#REF!,Ville!#REF!,Ville!#REF!,Ville!#REF!,Ville!#REF!,Ville!#REF!,Ville!#REF!,Ville!#REF!,Ville!#REF!,Ville!#REF!,Ville!#REF!)","v":{"$error":"#VALUE!"}},null,6.5,null,{"$error":"#VALUE!"}]
[null,null,null,"INCONNUE",{"$f":"VLOOKUP(D13,Ville!$A$2:$I$14,8)","v":0},{"$f":"CHOOSE(E13,Ville!#REF!,Ville!#REF!,Ville!#REF!,Ville!#REF!,Ville!#REF!,Ville!#REF!,Ville!#REF!,Ville!#REF!,Ville!#REF!,Ville!#REF!,Ville!#REF!,Ville!#REF!,Ville!#REF!,Ville!#REF!)","v":{"$error":"#VALUE!"}},{"$error":"#VALUE!"},{"$f":"CHOOSE(E13,Ville!#REF!,Ville!#REF!,Ville!#REF!,Ville!#REF!,Ville!#REF!,Ville!#REF!,Ville!#REF!,Ville!#REF!,Ville!#REF!,Ville!#REF!,Ville!#REF!,Ville!#REF!,Ville!#REF!,Ville!#REF!)","v":{"$error":"#VALUE!"}},null,null,null,{"$error":"#VALUE!"}]
[null,null,null,"INCONNUE",{"$f":"VLOOKUP(D14,Ville!$A$2:$I$14,8)","v":0},{"$f":"CHOOSE(E14,Ville!#REF!,Ville!#REF!,Ville!#REF!,Ville!#REF!,Ville!#REF!,Ville!#REF!,Ville!#REF!,Ville!#REF!,Ville!#REF!,Ville!#REF!,Ville!#REF!,Ville!#REF!,Ville!#REF!,Ville!#REF!)","v":{"$error":"#VALUE!"}},{"$error":"#VALUE!"},{"$f":"CHOOSE(E14,Ville!#REF!,Ville!#REF!,Ville!#REF!,Ville!#REF!,Ville!#REF!,Ville!#REF!,Ville!#REF!,Ville!#REF!,Ville!#REF!,Ville!#REF!,Ville!#REF!,Ville!#REF!,Ville!#REF!,Ville!#REF!)","v":{"$error":"#VALUE!"}},null,null,null,{"$error":"#VALUE!"}]
[null,null,null,"INCONNUE",{"$f":"VLOOKUP(D15,Ville!$A$2:$I$14,8)","v":0},{"$f":"CHOOSE(E15,Ville!#REF!,Ville!#REF!,Ville!#REF!,Ville!#REF!,Ville!#REF!,Ville!#REF!,Ville!#REF!,Ville!#REF!,Ville!#REF!,Ville!#REF!,Ville!#REF!,Ville!#REF!,Ville!#REF!,Ville!#REF!)","v":{"$error":"#VALUE!"}},{"$error":"#VALUE!"},{"$f":"CHOOSE(E15,Ville!#REF!,Ville!#REF!,Ville!#REF!,Ville!#REF!,Ville!#REF!,Ville!#REF!,Ville!#REF!,Ville!#REF!,Ville!#REF!,Ville!#REF!,Ville!#REF!,Ville!#REF!,Ville!#REF!,Ville!#REF!)","v":{"$error":"#VALUE!"}},null,null,null,{"$error":"#VALUE!"}]
[null,null,null,"INCONNUE",{"$f":"VLOOKUP(D16,Ville!$A$2:$I$14,8)","v":0},{"$f":"SUM(F10:F15)","v":{"$error":"#VALUE!"}},{"$f":"SUM(G10:G15)","v":{"$error":"#VALUE!"}},{"$f":"SUM(H10:H15)","v":{"$error":"#VALUE!"}},null,{"$f":"SUM(J10:J15)","v":20.2},null,{"$error":"#VALUE!"}]
[null,"Mars","2008-03-05","MEYTHET",{"$f":"VLOOKUP(D17,Ville!$A$2:$I$14,8)","v":0},{"$f":"CHOOSE(E17,Ville!#REF!,Ville!#REF!,Ville!#REF!,Ville!#REF!,Ville!#REF!,Ville!#REF!,Ville!#REF!,Ville!#REF!,Ville!#REF!,Ville!#REF!,Ville!#REF!,Ville!#REF!,Ville!#REF!)","v":{"$error":"#VALUE!"}},{"$error":"#VALUE!"},{"$f":"CHOOSE(E17,Ville!#REF!,Ville!#REF!,Ville!#REF!,Ville!#REF!,Ville!#REF!,Ville!#REF!,Ville!#REF!,Ville!#REF!,Ville!#REF!,Ville!#REF!,Ville!#REF!,Ville!#REF!,Ville!#REF!)","v":{"$error":"#VALUE!"}},null,6.8,null,{"$f":"SUM(G17:K17)","v":{"$error":"#VALUE!"}},null,"Mise à jour DOC"]
[null,null,"2008-03-11","AUDIBERT",{"$f":"VLOOKUP(D18,Ville!$A$2:$I$14,8)","v":0},420,202.85999999999999,18.899999999999999,null,15,null,236.76]
[null,null,"2008-03-18","MEYTHET",{"$f":"VLOOKUP(D19,Ville!$A$2:$I$14,8)","v":0},{"$f":"CHOOSE(E19,Ville!#REF!,Ville!#REF!,Ville!#REF!,Ville!#REF!,Ville!#REF!,Ville!#REF!,Ville!#REF!,Ville!#REF!,Ville!#REF!,Ville!#REF!,Ville!#REF!,Ville!#REF!,Ville!#REF!,Ville!#REF!)","v":{"$error":"#VALUE!"}},{"$error":"#VALUE!"},{"$f":"CHOOSE(E19,Ville!#REF!,Ville!#REF!,Ville!#REF!,Ville!#REF!,Ville!#REF!,Ville!#REF!,Ville!#REF!,Ville!#REF!,Ville!#REF!,Ville!#REF!,Ville!#REF!,Ville!#REF!,Ville!#REF!,Ville!#REF!)","v":{"$error":"#VALUE!"}},null,null,null,{"$error":"#VALUE!"},null,"Mise à jour DOC"]
[null,null,"2008-03-21","CHAUFFAILLES",{"$f":"VLOOKUP(D20,Ville!$A$2:$I$14,8)","v":0},{"$f":"CHOOSE(E20,Ville!#REF!,Ville!#REF!,Ville!#REF!,Ville!#REF!,Ville!#REF!,Ville!#REF!,Ville!#REF!,Ville!#REF!,Ville!#REF!,Ville!#REF!,Ville!#REF!,Ville!#REF!,Ville!#REF!,Ville!#REF!)","v":{"$error":"#VALUE!"}},{"$error":"#VALUE!"},{"$f":"CHOOSE(E20,Ville!#REF!,Ville!#REF!,Ville!#REF!,Ville!#REF!,Ville!#REF!,Ville!#REF!,Ville!#REF!,Ville!#REF!,Ville!#REF!,Ville!#REF!,Ville!#REF!,Ville!#REF!,Ville!#REF!,Ville!#REF!)","v":{"$error":"#VALUE!"}},null,null,null,{"$error":"#VALUE!"}]
[null,null,"2008-03-27","CORDESSE",{"$f":"VLOOKUP(D21,Ville!$A$2:$I$14,8)","v":0},{"$f":"CHOOSE(E21,Ville!#REF!,Ville!#REF!,Ville!#REF!,Ville!#REF!,Ville!#REF!,Ville!#REF!,Ville!#REF!,Ville!#REF!,Ville!#REF!,Ville!#REF!,Ville!#REF!,Ville!#REF!,Ville!#REF!,Ville!#REF!)","v":{"$error":"#VALUE!"}},{"$error":"#VALUE!"},{"$f":"CHOOSE(E21,Ville!#REF!,Ville!#REF!,Ville!#REF!,Ville!#REF!,Ville!#REF!,Ville!#REF!,Ville!#REF!,Ville!#REF!,Ville!#REF!,Ville!#REF!,Ville!#REF!,Ville!#REF!,Ville!#REF!,Ville!#REF!)","v":{"$error":"#VALUE!"}},null,8.6,null,{"$error":"#VALUE!"}]
[null,null,null,"INCONNUE",{"$f":"VLOOKUP(D22,Ville!$A$2:$I$14,8)","v":0},{"$f":"CHOOSE(E22,Ville!#REF!,Ville!#REF!,Ville!#REF!,Ville!#REF!,Ville!#REF!,Ville!#REF!,Ville!#REF!,Ville!#REF!,Ville!#REF!,Ville!#REF!,Ville!#REF!,Ville!#REF!,Ville!#REF!,Ville!#REF!)","v":{"$error":"#VALUE!"}},{"$error":"#VALUE!"},{"$f":"CHOOSE(E22,Ville!#REF!,Ville!#REF!,Ville!#REF!,Ville!#REF!,Ville!#REF!,Ville!#REF!,Ville!#REF!,Ville!#REF!,Ville!#REF!,Ville!#REF!,Ville!#REF!,Ville!#REF!,Ville!#REF!,Ville!#REF!)","v":{"$error":"#VALUE!"}},null,null,null,{"$error":"#VALUE!"}]
[null,null,null,"INCONNUE",{"$f":"VLOOKUP(D23,Ville!$A$2:$I$14,8)","v":0},{"$f":"SUM(F17:F22)","v":{"$error":"#VALUE!"}},{"$f":"SUM(G17:G22)","v":{"$error":"#VALUE!"}},{"$f":"SUM(H17:H22)","v":{"$error":"#VALUE!"}},null,{"$f":"SUM(J17:J22)","v":30.4},null,{"$error":"#VALUE!"}]
[null,"Avril","2008-04-07","MEYTHET",{"$f":"VLOOKUP(D24,Ville!$A$2:$I$14,8)","v":0},{"$f":"CHOOSE(E24,Ville!#REF!,Ville!#REF!,Ville!#REF!,Ville!#REF!,Ville!#REF!,Ville!#REF!,Ville!#REF!,Ville!#REF!,Ville!#REF!,Ville!#REF!,Ville!#REF!,Ville!#REF!,Ville!#REF!,Ville!#REF!)","v":{"$error":"#VALUE!"}},{"$error":"#VALUE!"},{"$f":"CHOOSE(E24,Ville!#REF!,Ville!#REF!,Ville!#REF!,Ville!#REF!,Ville!#REF!,Ville!#REF!,Ville!#REF!,Ville!#REF!,Ville!#REF!,Ville!#REF!,Ville!#REF!,Ville!#REF!,Ville!#REF!,Ville!#REF!)","v":{"$error":"#VALUE!"}},null,15,null,{"$f":"SUM(G24:K24)","v":{"$error":"#VALUE!"}}]
[null,null,"2008-04-17","CORDESSE",{"$f":"VLOOKUP(D25,Ville!$A$2:$I$14,8)","v":0},{"$f":"CHOOSE(E25,Ville!#REF!,Ville!#REF!,Ville!#REF!,Ville!#REF!,Ville!#REF!,Ville!#REF!,Ville!#REF!,Ville!#REF!,Ville!#REF!,Ville!#REF!,Ville!#REF!,Ville!#REF!,Ville!#REF!,Ville!#REF!)","v":{"$error":"#VALUE!"}},{"$error":"#VALUE!"},{"$f":"CHOOSE(E25,Ville!#REF!,Ville!#REF!,Ville!#REF!,Ville!#REF!,Ville!#REF!,Ville!#REF!,Ville!#REF!,Ville!#REF!,Ville!#REF!,Ville!#REF!,Ville!#REF!,Ville!#REF!,Ville!#REF!,Ville!#REF!)","v":{"$error":"#VALUE!"}},null,null,null,{"$error":"#VALUE!"}]
[null,null,"2008-02-22","MEYTHET",{"$f":"VLOOKUP(D26,Ville!$A$2:$I$14,8)","v":0},{"$f":"CHOOSE(E26,Ville!#REF!,Ville!#REF!,Ville!#REF!,Ville!#REF!,Ville!#REF!,Ville!#REF!,Ville!#REF!,Ville!#REF!,Ville!#REF!,Ville!#REF!,Ville!#REF!,Ville!#REF!,Ville!#REF!,Ville!#REF!)","v":{"$error":"#VALUE!"}},{"$error":"#VALUE!"},{"$f":"CHOOSE(E26,Ville!#REF!,Ville!#REF!,Ville!#REF!,Ville!#REF!,Ville!#REF!,Ville!#REF!,Ville!#REF!,Ville!#REF!,Ville!#REF!,Ville!#REF!,Ville!#REF!,Ville!#REF!,Ville!#REF!,Ville!#REF!)","v":{"$error":"#VALUE!"}},null,null,null,{"$error":"#VALUE!"},null,"Mise à jour DOC"]
[null,null,null,"INCONNUE",{"$f":"VLOOKUP(D27,Ville!$A$2:$I$14,8)","v":0},{"$f":"CHOOSE(E27,Ville!#REF!,Ville!#REF!,Ville!#REF!,Ville!#REF!,Ville!#REF!,Ville!#REF!,Ville!#REF!,Ville!#REF!,Ville!#REF!,Ville!#REF!,Ville!#REF!,Ville!#REF!,Ville!#REF!,Ville!#REF!)","v":{"$error":"#VALUE!"}},{"$error":"#VALUE!"},{"$f":"CHOOSE(E27,Ville!#REF!,Ville!#REF!,Ville!#REF!,Ville!#REF!,Ville!#REF!,Ville!#REF!,Ville!#REF!,Ville!#REF!,Ville!#REF!,Ville!#REF!,Ville!#REF!,Ville!#REF!,Ville!#REF!,Ville!#REF!)","v":{"$error":"#VALUE!"}},null,null,null,{"$error":"#VALUE!"}]
[null,null,null,"INCONNUE",{"$f":"VLOOKUP(D28,Ville!$A$2:$I$14,8)","v":0},{"$f":"CHOOSE(E28,Ville!#REF!,Ville!#REF!,Ville!#REF!,Ville!#REF!,Ville!#REF!,Ville!#REF!,Ville!#REF!,Ville!#REF!,Ville!#REF!,Ville!#REF!,Ville!#REF!,Ville!#REF!,Ville!#REF!,Ville!#REF!)","v":{"$error":"#VALUE!"}},{"$error":"#VALUE!"},{"$f":"CHOOSE(E28,Ville!#REF!,Ville!#REF!,Ville!#REF!,Ville!#REF!,Ville!#REF!,Ville!#REF!,Ville!#REF!,Ville!#REF!,Ville!#REF!,Ville!#REF!,Ville!#REF!,Ville!#REF!,Ville!#REF!,Ville!#REF!)","v":{"$error":"#VALUE!"}},null,null,null,{"$error":"#VALUE!"}]
[null,null,null,"INCONNUE",{"$f":"VLOOKUP(D29,Ville!$A$2:$I$14,8)","v":0},{"$f":"CHOOSE(E29,Ville!#REF!,Ville!#REF!,Ville!#REF!,Ville!#REF!,Ville!#REF!,Ville!#REF!,Ville!#REF!,Ville!#REF!,Ville!#REF!,Ville!#REF!,Ville!#REF!,Ville!#REF!,Ville!#REF!,Ville!#REF!)","v":{"$error":"#VALUE!"}},{"$error":"#VALUE!"},{"$f":"CHOOSE(E29,Ville!#REF!,Ville!#REF!,Ville!#REF!,Ville!#REF!,Ville!#REF!,Ville!#REF!,Ville!#REF!,Ville!#REF!,Ville!#REF!,Ville!#REF!,Ville!#REF!,Ville!#REF!,Ville!#REF!,Ville!#REF!)","v":{"$error":"#VALUE!"}},null,null,null,{"$error":"#VALUE!"}]
[null,null,null,"INCONNUE",{"$f":"VLOOKUP(D30,Ville!$A$2:$I$14,8)","v":0},{"$f":"CHOOSE(E30,Ville!#REF!,Ville!#REF!,Ville!#REF!,Ville!#REF!,Ville!#REF!,Ville!#REF!,Ville!#REF!,Ville!#REF!,Ville!#REF!,Ville!#REF!,Ville!#REF!,Ville!#REF!,Ville!#REF!,Ville!#REF!)","v":{"$error":"#VALUE!"}},{"$error":"#VALUE!"},{"$f":"CHOOSE(E30,Ville!#REF!,Ville!#REF!,Ville!#REF!,Ville!#REF!,Ville!#REF!,Ville!#REF!,Ville!#REF!,Ville!#REF!,Ville!#REF!,Ville!#REF!,Ville!#REF!,Ville!#REF!,Ville!#REF!,Ville!#REF!)","v":{"$error":"#VALUE!"}},null,null,null,{"$error":"#VALUE!"}]
[null,null,null,"INCONNUE",{"$f":"VLOOKUP(D31,Ville!$A$2:$I$14,8)","v":0},{"$f":"SUM(F24:F30)","v":{"$error":"#VALUE!"}},{"$f":"SUM(G24:G30)","v":{"$error":"#VALUE!"}},{"$f":"SUM(H24:H30)","v":{"$error":"#VALUE!"}},null,{"$f":"SUM(J24:J30)","v":15},null,{"$error":"#VALUE!"}]
[null,"Mai","2008-05-19","CHAMPAGNOLE",{"$f":"VLOOKUP(D32,Ville!$A$2:$I$14,8)","v":0},null,"",{"$f":"CHOOSE(E32,Ville!#REF!,Ville!#REF!,Ville!#REF!,Ville!#REF!,Ville!#REF!,Ville!#REF!,Ville!#REF!,Ville!#REF!,Ville!#REF!,Ville!#REF!,Ville!#REF!,Ville!#REF!,Ville!#REF!,Ville!#REF!)","v":{"$error":"#VALUE!"}},null,null,null,{"$error":"#VALUE!"}]
[null,null,"I","LYON",{"$f":"VLOOKUP(D33,Ville!$A$2:$I$14,8)","v":0},{"$f":"CHOOSE(E33,Ville!#REF!,Ville!#REF!,Ville!#REF!,Ville!#REF!,Ville!#REF!,Ville!#REF!,Ville!#REF!,Ville!#REF!,Ville!#REF!,Ville!#REF!,Ville!#REF!,Ville!#REF!,Ville!#REF!,Ville!#REF!)","v":{"$error":"#VALUE!"}},{"$error":"#VALUE!"},{"$f":"CHOOSE(E33,Ville!#REF!,Ville!#REF!,Ville!#REF!,Ville!#REF!,Ville!#REF!,Ville!#REF!,Ville!#REF!,Ville!#REF!,Ville!#REF!,Ville!#REF!,Ville!#REF!,Ville!#REF!,Ville!#REF!,Ville!#REF!)","v":{"$error":"#VALUE!"}},null,null,null,{"$error":"#VALUE!"}]
[null,null,"I","VILLEFRANCHE",{"$f":"VLOOKUP(D34,Ville!$A$2:$I$14,8)","v":0},445,214.935,18.8,null,null,37.4,271.13499999999999]
[null,null,"2008-05-23","CHAMPAGNOLE",{"$f":"VLOOKUP(D35,Ville!$A$2:$I$14,8)","v":0},null,"",{"$f":"CHOOSE(E35,Ville!#REF!,Ville!#REF!,Ville!#REF!,Ville!#REF!,Ville!#REF!,Ville!#REF!,Ville!#REF!,Ville!#REF!,Ville!#REF!,Ville!#REF!,Ville!#REF!,Ville!#REF!,Ville!#REF!,Ville!#REF!)","v":{"$error":"#VALUE!"}},null,null,null,{"$error":"#VALUE!"}]
[null,null,"2008-05-26","MEYTHET",{"$f":"VLOOKUP(D36,Ville!$A$2:$I$14,8)","v":0},{"$f":"CHOOSE(E36,Ville!#REF!,Ville!#REF!,Ville!#REF!,Ville!#REF!,Ville!#REF!,Ville!#REF!,Ville!#REF!,Ville!#REF!,Ville!#REF!,Ville!#REF!,Ville!#REF!,Ville!#REF!,Ville!#REF!,Ville!#REF!)","v":{"$error":"#VALUE!"}},{"$error":"#VALUE!"},{"$f":"CHOOSE(E36,Ville!#REF!,Ville!#REF!,Ville!#REF!,Ville!#REF!,Ville!#REF!,Ville!#REF!,Ville!#REF!,Ville!#REF!,Ville!#REF!,Ville!#REF!,Ville!#REF!,Ville!#REF!,Ville!#REF!,Ville!#REF!)","v":{"$error":"#VALUE!"}},null,15,null,{"$error":"#VALUE!"}]
[null,null,"2008-05-28","FAINS LES MONTBARD",null,400,193.2,9.6,null,null,null,202.79999999999998]
[null,null,"2008-05-29","FAINS LES MONTBARD",{"$f":"VLOOKUP(D38,Ville!$A$2:$I$14,8)","v":0},{"$f":"CHOOSE(E38,Ville!#REF!,Ville!#REF!,Ville!#REF!,Ville!#REF!,Ville!#REF!,Ville!#REF!,Ville!#REF!,Ville!#REF!,Ville!#REF!,Ville!#REF!,Ville!#REF!,Ville!#REF!,Ville!#REF!,Ville!#REF!)","v":{"$error":"#VALUE!"}},{"$error":"#VALUE!"},{"$f":"CHOOSE(E38,Ville!#REF!,Ville!#REF!,Ville!#REF!,Ville!#REF!,Ville!#REF!,Ville!#REF!,Ville!#REF!,Ville!#REF!,Ville!#REF!,Ville!#REF!,Ville!#REF!,Ville!#REF!,Ville!#REF!,Ville!#REF!)","v":{"$error":"#VALUE!"}},null,null,null,{"$error":"#VALUE!"}]
[null,null,null,"INCONNUE",{"$f":"VLOOKUP(D39,Ville!$A$2:$I$14,8)","v":0},{"$f":"CHOOSE(E39,Ville!#REF!,Ville!#REF!,Ville!#REF!,Ville!#REF!,Ville!#REF!,Ville!#REF!,Ville!#REF!,Ville!#REF!,Ville!#REF!,Ville!#REF!,Ville!#REF!,Ville!#REF!,Ville!#REF!,Ville!#REF!)","v":{"$error":"#VALUE!"}},{"$error":"#VALUE!"},{"$f":"CHOOSE(E39,Ville!#REF!,Ville!#REF!,Ville!#REF!,Ville!#REF!,Ville!#REF!,Ville!#REF!,Ville!#REF!,Ville!#REF!,Ville!#REF!,Ville!#REF!,Ville!#REF!,Ville!#REF!,Ville!#REF!,Ville!#REF!)","v":{"$error":"#VALUE!"}}]
[null,null,null,"INCONNUE",{"$f":"VLOOKUP(D40,Ville!$A$2:$I$14,8)","v":0},{"$f":"SUM(F32:F38)","v":{"$error":"#VALUE!"}},{"$f":"SUM(G32:G38)","v":{"$error":"#VALUE!"}},{"$f":"SUM(H32:H38)","v":{"$error":"#VALUE!"}},null,{"$f":"SUM(J32:J38)","v":15},{"$f":"SUM(K32:K38)","v":37.4},{"$error":"#VALUE!"}]
[null,"Juin","2008-06-11","RUMILLY",{"$f":"VLOOKUP(D41,Ville!$A$2:$I$14,8)","v":0},{"$f":"CHOOSE(E41,Ville!#REF!,Ville!#REF!,Ville!#REF!,Ville!#REF!,Ville!#REF!,Ville!#REF!,Ville!#REF!,Ville!#REF!,Ville!#REF!,Ville!#REF!,Ville!#REF!,Ville!#REF!,Ville!#REF!,Ville!#REF!)","v":{"$error":"#VALUE!"}},{"$error":"#VALUE!"},{"$f":"CHOOSE(E41,Ville!#REF!,Ville!#REF!,Ville!#REF!,Ville!#REF!,Ville!#REF!,Ville!#REF!,Ville!#REF!,Ville!#REF!,Ville!#REF!,Ville!#REF!,Ville!#REF!,Ville!#REF!,Ville!#REF!,Ville!#REF!)","v":{"$error":"#VALUE!"}},null,15,null,{"$f":"SUM(G41:K41)","v":{"$error":"#VALUE!"}}]
[null,null,"2008-06-16","MEYTHET",{"$f":"VLOOKUP(D42,Ville!$A$2:$I$14,8)","v":0},{"$f":"CHOOSE(E42,Ville!#REF!,Ville!#REF!,Ville!#REF!,Ville!#REF!,Ville!#REF!,Ville!#REF!,Ville!#REF!,Ville!#REF!,Ville!#REF!,Ville!#REF!,Ville!#REF!,Ville!#REF!,Ville!#REF!,Ville!#REF!)","v":{"$error":"#VALUE!"}},{"$error":"#VALUE!"},{"$f":"CHOOSE(E42,Ville!#REF!,Ville!#REF!,Ville!#REF!,Ville!#REF!,Ville!#REF!,Ville!#REF!,Ville!#REF!,Ville!#REF!,Ville!#REF!,Ville!#REF!,Ville!#REF!,Ville!#REF!,Ville!#REF!,Ville!#REF!)","v":{"$error":"#VALUE!"}},null,15,null,{"$f":"SUM(G42:K42)","v":{"$error":"#VALUE!"}}]
[null,null,"1900-06-17","MONTREUIL",{"$f":"VLOOKUP(D43,Ville!$A$2:$I$14,8)","v":0},430,null,29.8,null,4.5,67,{"$f":"SUM(G43:K43)","v":101.3}]
[null,null,"2008-06-19","CHAMPAGNOLE",{"$f":"VLOOKUP(D44,Ville!$A$2:$I$14,8)","v":0},null,null,{"$f":"CHOOSE(E44,Ville!#REF!,Ville!#REF!,Ville!#REF!,Ville!#REF!,Ville!#REF!,Ville!#REF!,Ville!#REF!,Ville!#REF!,Ville!#REF!,Ville!#REF!,Ville!#REF!,Ville!#REF!,Ville!#REF!,Ville!#REF!)","v":{"$error":"#VALUE!"}},66,null,null,{"$f":"SUM(G44:K44)","v":{"$error":"#VALUE!"}}]
[null,null,"2008-06-27","CHAUFFAILLES",{"$f":"VLOOKUP(D45,Ville!$A$2:$I$14,8)","v":0},{"$f":"CHOOSE(E45,Ville!#REF!,Ville!#REF!,Ville!#REF!,Ville!#REF!,Ville!#REF!,Ville!#REF!,Ville!#REF!,Ville!#REF!,Ville!#REF!,Ville!#REF!,Ville!#REF!,Ville!#REF!,Ville!#REF!,Ville!#REF!)","v":{"$error":"#VALUE!"}},null,{"$f":"CHOOSE(E45,Ville!#REF!,Ville!#REF!,Ville!#REF!,Ville!#REF!,Ville!#REF!,Ville!#REF!,Ville!#REF!,Ville!#REF!,Ville!#REF!,Ville!#REF!,Ville!#REF!,Ville!#REF!,Ville!#REF!,Ville!#REF!)","v":{"$error":"#VALUE!"}},67.5,3.26,null,{"$f":"SUM(G45:K45)","v":{"$error":"#VALUE!"}}]
[null,null,null,"INCONNUE",{"$f":"VLOOKUP(D46,Ville!$A$2:$I$14,8)","v":0},{"$f":"CHOOSE(E46,Ville!#REF!,Ville!#REF!,Ville!#REF!,Ville!#REF!,Ville!#REF!,Ville!#REF!,Ville!#REF!,Ville!#REF!,Ville!#REF!,Ville!#REF!,Ville!#REF!,Ville!#REF!,Ville!#REF!,Ville!#REF!)","v":{"$error":"#VALUE!"}},{"$error":"#VALUE!"},{"$f":"CHOOSE(E46,Ville!#REF!,Ville!#REF!,Ville!#REF!,Ville!#REF!,Ville!#REF!,Ville!#REF!,Ville!#REF!,Ville!#REF!,Ville!#REF!,Ville!#REF!,Ville!#REF!,Ville!#REF!,Ville!#REF!,Ville!#REF!)","v":{"$error":"#VALUE!"}},null,null,null,{"$f":"SUM(G46:K46)","v":{"$error":"#VALUE!"}}]
[null,null,null,"INCONNUE",{"$f":"VLOOKUP(D47,Ville!$A$2:$I$14,8)","v":0},{"$f":"CHOOSE(E47,Ville!#REF!,Ville!#REF!,Ville!#REF!,Ville!#REF!,Ville!#REF!,Ville!#REF!,Ville!#REF!,Ville!#REF!,Ville!#REF!,Ville!#REF!,Ville!#REF!,Ville!#REF!,Ville!#REF!,Ville!#REF!)","v":{"$error":"#VALUE!"}},{"$error":"#VALUE!"},{"$f":"CHOOSE(E47,Ville!#REF!,Ville!#REF!,Ville!#REF!,Ville!#REF!,Ville!#REF!,Ville!#REF!,Ville!#REF!,Ville!#REF!,Ville!#REF!,Ville!#REF!,Ville!#REF!,Ville!#REF!,Ville!#REF!,Ville!#REF!)","v":{"$error":"#VALUE!"}},null,null,null,{"$error":"#VALUE!"}]
[null,null,null,"INCONNUE",{"$f":"VLOOKUP(D48,Ville!$A$2:$I$14,8)","v":0},{"$f":"SUM(F41:F47)","v":{"$error":"#VALUE!"}},{"$error":"#VALUE!"},{"$error":"#VALUE!"},133.5,37.76,67,{"$error":"#VALUE!"}]
[null,"Juillet","2008-07-01","BELLEY",{"$f":"VLOOKUP(D49,Ville!$A$2:$I$14,8)","v":0},{"$f":"CHOOSE(E49,Ville!#REF!,Ville!#REF!,Ville!#REF!,Ville!#REF!,Ville!#REF!,Ville!#REF!,Ville!#REF!,Ville!#REF!,Ville!#REF!,Ville!#REF!,Ville!#REF!,Ville!#REF!,Ville!#REF!,Ville!#REF!)","v":{"$error":"#VALUE!"}},null,{"$f":"CHOOSE(E49,Ville!#REF!,Ville!#REF!,Ville!#REF!,Ville!#REF!,Ville!#REF!,Ville!#REF!,Ville!#REF!,Ville!#REF!,Ville!#REF!,Ville!#REF!,Ville!#REF!,Ville!#REF!,Ville!#REF!,Ville!#REF!)","v":{"$error":"#VALUE!"}},null,7.2,null,{"$error":"#VALUE!"}]
[null,null,"2008-07-07","MEYTHET",{"$f":"VLOOKUP(D50,Ville!$A$2:$I$14,8)","v":0},{"$f":"CHOOSE(E50,Ville!#REF!,Ville!#REF!,Ville!#REF!,Ville!#REF!,Ville!#REF!,Ville!#REF!,Ville!#REF!,Ville!#REF!,Ville!#REF!,Ville!#REF!,Ville!#REF!,Ville!#REF!,Ville!#REF!,Ville!#REF!)","v":{"$error":"#VALUE!"}},null,{"$f":"CHOOSE(E50,Ville!#REF!,Ville!#REF!,Ville!#REF!,Ville!#REF!,Ville!#REF!,Ville!#REF!,Ville!#REF!,Ville!#REF!,Ville!#REF!,Ville!#REF!,Ville!#REF!,Ville!#REF!,Ville!#REF!,Ville!#REF!)","v":{"$error":"#VALUE!"}},null,15,null,{"$error":"#VALUE!"}]
[null,null,"2008-07-08","CHAMPAGNOLE",{"$f":"VLOOKUP(D51,Ville!$A$2:$I$14,8)","v":0},null,null,{"$f":"CHOOSE(E51,Ville!#REF!,Ville!#REF!,Ville!#REF!,Ville!#REF!,Ville!#REF!,Ville!#REF!,Ville!#REF!,Ville!#REF!,Ville!#REF!,Ville!#REF!,Ville!#REF!,Ville!#REF!,Ville!#REF!,Ville!#REF!)","v":{"$error":"#VALUE!"}},60,null,9.35,{"$error":"#VALUE!"}]
[null,null,"2008-07-15","BELLEY",{"$f":"VLOOKUP(D52,Ville!$A$2:$I$14,8)","v":0},{"$f":"CHOOSE(E52,Ville!#REF!,Ville!#REF!,Ville!#REF!,Ville!#REF!,Ville!#REF!,Ville!#REF!,Ville!#REF!,Ville!#REF!,Ville!#REF!,Ville!#REF!,Ville!#REF!,Ville!#REF!,Ville!#REF!,Ville!#REF!)","v":{"$error":"#VALUE!"}},null,{"$f":"CHOOSE(E52,Ville!#REF!,Ville!#REF!,Ville!#REF!,Ville!#REF!,Ville!#REF!,Ville!#REF!,Ville!#REF!,Ville!#REF!,Ville!#REF!,Ville!#REF!,Ville!#REF!,Ville!#REF!,Ville!#REF!,Ville!#REF!)","v":{"$error":"#VALUE!"}},null,8.1999999999999993,null,{"$f":"SUM(G52:K52)","v":{"$error":"#VALUE!"}}]
[null,null,"2008-07-16","RUMILLY",{"$f":"VLOOKUP(D53,Ville!$A$2:$I$14,8)","v":0},{"$f":"CHOOSE(E53,Ville!#REF!,Ville!#REF!,Ville!#REF!,Ville!#REF!,Ville!#REF!,Ville!#REF!,Ville!#REF!,Ville!#REF!,Ville!#REF!,Ville!#REF!,Ville!#REF!,Ville!#REF!,Ville!#REF!,Ville!#REF!)","v":{"$error":"#VALUE!"}},null,{"$f":"CHOOSE(E53,Ville!#REF!,Ville!#REF!,Ville!#REF!,Ville!#REF!,Ville!#REF!,Ville!#REF!,Ville!#REF!,Ville!#REF!,Ville!#REF!,Ville!#REF!,Ville!#REF!,Ville!#REF!,Ville!#REF!,Ville!#REF!)","v":{"$error":"#VALUE!"}},null,15,null,{"$f":"SUM(G53:K53)","v":{"$error":"#VALUE!"}}]
[null,null,"2008-07-17","CHAMPAGNOLE",null,null,null,null,64,null,null,{"$f":"SUM(G54:K54)","v":64}]
[null,null,"2008-07-21","MEYTHET",null,300,null,1.6,null,4,null,{"$f":"SUM(G55:K55)","v":5.6}]
[null,null,"2008-07-22","MEYTHET",{"$f":"VLOOKUP(D56,Ville!$A$2:$I$14,8)","v":0},{"$f":"CHOOSE(E56,Ville!#REF!,Ville!#REF!,Ville!#REF!,Ville!#REF!,Ville!#REF!,Ville!#REF!,Ville!#REF!,Ville!#REF!,Ville!#REF!,Ville!#REF!,Ville!#REF!,Ville!#REF!,Ville!#REF!,Ville!#REF!)","v":{"$error":"#VALUE!"}},null,1.6,null,null,null,{"$f":"SUM(G56:K56)","v":1.6}]
[]
[null,null,null,"INCONNUE",{"$f":"VLOOKUP(D58,Ville!$A$2:$I$14,8)","v":0},{"$f":"CHOOSE(E58,Ville!#REF!,Ville!#REF!,Ville!#REF!,Ville!#REF!,Ville!#REF!,Ville!#REF!,Ville!#REF!,Ville!#REF!,Ville!#REF!,Ville!#REF!,Ville!#REF!,Ville!#REF!,Ville!#REF!,Ville!#REF!)","v":{"$error":"#VALUE!"}},{"$error":"#VALUE!"},{"$f":"CHOOSE(E58,Ville!#REF!,Ville!#REF!,Ville!#REF!,Ville!#REF!,Ville!#REF!,Ville!#REF!,Ville!#REF!,Ville!#REF!,Ville!#REF!,Ville!#REF!,Ville!#REF!,Ville!#REF!,Ville!#REF!,Ville!#REF!)","v":{"$error":"#VALUE!"}},null,null,null,{"$error":"#VALUE!"}]
[null,null,null,"INCONNUE",{"$f":"VLOOKUP(D59,Ville!$A$2:$I$14,8)","v":0},{"$f":"SUM(F49:F58)","v":{"$error":"#VALUE!"}},{"$error":"#VALUE!"},{"$error":"#VALUE!"},124,49.4,9.35,{"$error":"#VALUE!"}]
[null,"Aout","2008-08-04","MEYTHET",{"$f":"VLOOKUP(D60,Ville!$A$2:$I$14,8)","v":0},{"$f":"CHOOSE(E60,Ville!#REF!,Ville!#REF!,Ville!#REF!,Ville!#REF!,Ville!#REF!,Ville!#REF!,Ville!#REF!,Ville!#REF!,Ville!#REF!,Ville!#REF!,Ville!#REF!,Ville!#REF!,Ville!#REF!,Ville!#REF!)","v":{"$error":"#VALUE!"}},null,{"$f":"CHOOSE(E60,Ville!#REF!,Ville!#REF!,Ville!#REF!,Ville!#REF!,Ville!#REF!,Ville!#REF!,Ville!#REF!,Ville!#REF!,Ville!#REF!,Ville!#REF!,Ville!#REF!,Ville!#REF!,Ville!#REF!,Ville!#REF!)","v":{"$error":"#VALUE!"}},null,4.5,null,{"$f":"SUM(G60:K60)","v":{"$error":"#VALUE!"}}]
[null,null,"2008-08-05","FAINS LES MONTBARD",{"$f":"VLOOKUP(D61,Ville!$A$2:$I$14,8)","v":0},{"$f":"CHOOSE(E61,Ville!#REF!,Ville!#REF!,Ville!#REF!,Ville!#REF!,Ville!#REF!,Ville!#REF!,Ville!#REF!,Ville!#REF!,Ville!#REF!,Ville!#REF!,Ville!#REF!,Ville!#REF!,Ville!#REF!,Ville!#REF!)","v":{"$error":"#VALUE!"}},null,20.399999999999999,67,4.5,null,91.9]
[null,null,"2008-08-12","FAINS LES MONTBARD",{"$f":"VLOOKUP(D62,Ville!$A$2:$I$14,8)","v":0},{"$f":"CHOOSE(E62,Ville!#REF!,Ville!#REF!,Ville!#REF!,Ville!#REF!,Ville!#REF!,Ville!#REF!,Ville!#REF!,Ville!#REF!,Ville!#REF!,Ville!#REF!,Ville!#REF!,Ville!#REF!,Ville!#REF!,Ville!#REF!)","v":{"$error":"#VALUE!"}},null,26.3,46,26,56,154.30000000000001]
[null,null,"2008-08-13","ENNERY",{"$f":"VLOOKUP(D63,Ville!$A$2:$I$14,8)","v":0},800,null,22.3,48.5,null,null,70.8]
[null,null,"2008-08-18","VILLEFRANCHE",{"$f":"VLOOKUP(D64,Ville!$A$2:$I$14,8)","v":0},{"$f":"CHOOSE(E64,Ville!#REF!,Ville!#REF!,Ville!#REF!,Ville!#REF!,Ville!#REF!,Ville!#REF!,Ville!#REF!,Ville!#REF!,Ville!#REF!,Ville!#REF!,Ville!#REF!,Ville!#REF!,Ville!#REF!,Ville!#REF!)","v":{"$error":"#VALUE!"}},null,20.100000000000001,60.5,7.5,null,88.1]
[null,null,"2008-08-19","FAINS LES MONTBARD",{"$f":"VLOOKUP(D65,Ville!$A$2:$I$14,8)","v":0},{"$f":"CHOOSE(E65,Ville!#REF!,Ville!#REF!,Ville!#REF!,Ville!#REF!,Ville!#REF!,Ville!#REF!,Ville!#REF!,Ville!#REF!,Ville!#REF!,Ville!#REF!,Ville!#REF!,Ville!#REF!,Ville!#REF!,Ville!#REF!)","v":{"$error":"#VALUE!"}},null,20.399999999999999,null,null,null,20.399999999999999]
[null,null,"2008-08-23","CHAMPAGNOLE",{"$f":"VLOOKUP(D66,Ville!$A$2:$I$14,8)","v":0},null,"",{"$f":"CHOOSE(E66,Ville!#REF!,Ville!#REF!,Ville!#REF!,Ville!#REF!,Ville!#REF!,Ville!#REF!,Ville!#REF!,Ville!#REF!,Ville!#REF!,Ville!#REF!,Ville!#REF!,Ville!#REF!,Ville!#REF!,Ville!#REF!)","v":{"$error":"#VALUE!"}},63.5,null,null,{"$error":"#VALUE!"}]
[null,null,"2008-08-26","BELLEY",null,300,null,3.3,null,7.6,null,10.899999999999999]
[null,null,null,"INCONNUE"]
[null,null,null,"INCONNUE",{"$f":"VLOOKUP(D69,Ville!$A$2:$I$14,8)","v":0},{"$f":"SUM(F60:F66)","v":{"$error":"#VALUE!"}},{"$f":"SUM(G60:G66)","v":0},{"$f":"SUM(H60:H67)","v":{"$error":"#VALUE!"}},{"$f":"SUM(I60:I66)","v":285.5},{"$f":"SUM(J60:J68)","v":50.1},null,{"$f":"SUM(L60:L68)","v":{"$error":"#VALUE!"}}]
[null,"Septembre",null,"INCONNUE",{"$f":"VLOOKUP(D70,Ville!$A$2:$I$14,8)","v":0},{"$f":"CHOOSE(E70,Ville!#REF!,Ville!#REF!,Ville!#REF!,Ville!#REF!,Ville!#REF!,Ville!#REF!,Ville!#REF!,Ville!#REF!,Ville!#REF!,Ville!#REF!,Ville!#REF!,Ville!#REF!,Ville!#REF!,Ville!#REF!)","v":{"$error":"#VALUE!"}},{"$error":"#VALUE!"},{"$f":"CHOOSE(E70,Ville!#REF!,Ville!#REF!,Ville!#REF!,Ville!#REF!,Ville!#REF!,Ville!#REF!,Ville!#REF!,Ville!#REF!,Ville!#REF!,Ville!#REF!,Ville!#REF!,Ville!#REF!,Ville!#REF!,Ville!#REF!)","v":{"$error":"#VALUE!"}},null,null,null,{"$f":"SUM(G70:K70)","v":{"$error":"#VALUE!"}}]
[null,null,null,"INCONNUE",{"$f":"VLOOKUP(D71,Ville!$A$2:$I$14,8)","v":0},{"$f":"CHOOSE(E71,Ville!#REF!,Ville!#REF!,Ville!#REF!,Ville!#REF!,Ville!#REF!,Ville!#REF!,Ville!#REF!,Ville!#REF!,Ville!#REF!,Ville!#REF!,Ville!#REF!,Ville!#REF!,Ville!#REF!,Ville!#REF!)","v":{"$error":"#VALUE!"}},{"$error":"#VALUE!"},{"$f":"CHOOSE(E71,Ville!#REF!,Ville!#REF!,Ville!#REF!,Ville!#REF!,Ville!#REF!,Ville!#REF!,Ville!#REF!,Ville!#REF!,Ville!#REF!,Ville!#REF!,Ville!#REF!,Ville!#REF!,Ville!#REF!,Ville!#REF!)","v":{"$error":"#VALUE!"}}]
[null,null,null,"INCONNUE",{"$f":"VLOOKUP(D72,Ville!$A$2:$I$14,8)","v":0},{"$f":"CHOOSE(E72,Ville!#REF!,Ville!#REF!,Ville!#REF!,Ville!#REF!,Ville!#REF!,Ville!#REF!,Ville!#REF!,Ville!#REF!,Ville!#REF!,Ville!#REF!,Ville!#REF!,Ville!#REF!,Ville!#REF!,Ville!#REF!)","v":{"$error":"#VALUE!"}},{"$error":"#VALUE!"},{"$f":"CHOOSE(E72,Ville!#REF!,Ville!#REF!,Ville!#REF!,Ville!#REF!,Ville!#REF!,Ville!#REF!,Ville!#REF!,Ville!#REF!,Ville!#REF!,Ville!#REF!,Ville!#REF!,Ville!#REF!,Ville!#REF!,Ville!#REF!)","v":{"$error":"#VALUE!"}}]
[null,null,null,"INCONNUE",{"$f":"VLOOKUP(D73,Ville!$A$2:$I$14,8)","v":0},{"$f":"CHOOSE(E73,Ville!#REF!,Ville!#REF!,Ville!#REF!,Ville!#REF!,Ville!#REF!,Ville!#REF!,Ville!#REF!,Ville!#REF!,Ville!#REF!,Ville!#REF!,Ville!#REF!,Ville!#REF!,Ville!#REF!,Ville!#REF!)","v":{"$error":"#VALUE!"}},{"$error":"#VALUE!"},{"$f":"CHOOSE(E73,Ville!#REF!,Ville!#REF!,Ville!#REF!,Ville!#REF!,Ville!#REF!,Ville!#REF!,Ville!#REF!,Ville!#REF!,Ville!#REF!,Ville!#REF!,Ville!#REF!,Ville!#REF!,Ville!#REF!,Ville!#REF!)","v":{"$error":"#VALUE!"}}]
[null,null,null,"INCONNUE",{"$f":"VLOOKUP(D74,Ville!$A$2:$I$14,8)","v":0},{"$f":"CHOOSE(E74,Ville!#REF!,Ville!#REF!,Ville!#REF!,Ville!#REF!,Ville!#REF!,Ville!#REF!,Ville!#REF!,Ville!#REF!,Ville!#REF!,Ville!#REF!,Ville!#REF!,Ville!#REF!,Ville!#REF!,Ville!#REF!)","v":{"$error":"#VALUE!"}},{"$error":"#VALUE!"},{"$f":"CHOOSE(E74,Ville!#REF!,Ville!#REF!,Ville!#REF!,Ville!#REF!,Ville!#REF!,Ville!#REF!,Ville!#REF!,Ville!#REF!,Ville!#REF!,Ville!#REF!,Ville!#REF!,Ville!#REF!,Ville!#REF!,Ville!#REF!)","v":{"$error":"#VALUE!"}}]
[null,null,null,"INCONNUE",{"$f":"VLOOKUP(D75,Ville!$A$2:$I$14,8)","v":0},{"$f":"CHOOSE(E75,Ville!#REF!,Ville!#REF!,Ville!#REF!,Ville!#REF!,Ville!#REF!,Ville!#REF!,Ville!#REF!,Ville!#REF!,Ville!#REF!,Ville!#REF!,Ville!#REF!,Ville!#REF!,Ville!#REF!,Ville!#REF!)","v":{"$error":"#VALUE!"}},{"$error":"#VALUE!"},{"$f":"CHOOSE(E75,Ville!#REF!,Ville!#REF!,Ville!#REF!,Ville!#REF!,Ville!#REF!,Ville!#REF!,Ville!#REF!,Ville!#REF!,Ville!#REF!,Ville!#REF!,Ville!#REF!,Ville!#REF!,Ville!#REF!,Ville!#REF!)","v":{"$error":"#VALUE!"}}]
[null,null,null,"INCONNUE",{"$f":"VLOOKUP(D76,Ville!$A$2:$I$14,8)","v":0},{"$f":"CHOOSE(E76,Ville!#REF!,Ville!#REF!,Ville!#REF!,Ville!#REF!,Ville!#REF!,Ville!#REF!,Ville!#REF!,Ville!#REF!,Ville!#REF!,Ville!#REF!,Ville!#REF!,Ville!#REF!,Ville!#REF!,Ville!#REF!)","v":{"$error":"#VALUE!"}},{"$error":"#VALUE!"},{"$f":"CHOOSE(E76,Ville!#REF!,Ville!#REF!,Ville!#REF!,Ville!#REF!,Ville!#REF!,Ville!#REF!,Ville!#REF!,Ville!#REF!,Ville!#REF!,Ville!#REF!,Ville!#REF!,Ville!#REF!,Ville!#REF!,Ville!#REF!)","v":{"$error":"#VALUE!"}}]
[null,null,null,"INCONNUE",{"$f":"VLOOKUP(D77,Ville!$A$2:$I$14,8)","v":0},null,null,null,null,{"$f":"SUM(J70:J76)","v":0},null,{"$f":"SUM(L70:L76)","v":{"$error":"#VALUE!"}}]
[null,"Octobre","2008-09-30","CHAMPAGNOLE",{"$f":"VLOOKUP(D78,Ville!$A$2:$I$14,8)","v":0},null,"",{"$f":"CHOOSE(E78,Ville!#REF!,Ville!#REF!,Ville!#REF!,Ville!#REF!,Ville!#REF!,Ville!#REF!,Ville!#REF!,Ville!#REF!,Ville!#REF!,Ville!#REF!,Ville!#REF!,Ville!#REF!,Ville!#REF!,Ville!#REF!)","v":{"$error":"#VALUE!"}},61.7,null,null,{"$f":"SUM(G78:K78)","v":{"$error":"#VALUE!"}}]
[null,null,"2008-10-06","MEYTHET",{"$f":"VLOOKUP(D79,Ville!$A$2:$I$14,8)","v":0},{"$f":"CHOOSE(E79,Ville!#REF!,Ville!#REF!,Ville!#REF!,Ville!#REF!,Ville!#REF!,Ville!#REF!,Ville!#REF!,Ville!#REF!,Ville!#REF!,Ville!#REF!,Ville!#REF!,Ville!#REF!,Ville!#REF!,Ville!#REF!)","v":{"$error":"#VALUE!"}},null,{"$f":"CHOOSE(E79,Ville!#REF!,Ville!#REF!,Ville!#REF!,Ville!#REF!,Ville!#REF!,Ville!#REF!,Ville!#REF!,Ville!#REF!,Ville!#REF!,Ville!#REF!,Ville!#REF!,Ville!#REF!,Ville!#REF!,Ville!#REF!)","v":{"$error":"#VALUE!"}},null,3,null,{"$error":"#VALUE!"}]
[null,null,"2008-10-07","BELLEY",{"$f":"VLOOKUP(D80,Ville!$A$2:$I$14,8)","v":0},{"$f":"CHOOSE(E80,Ville!#REF!,Ville!#REF!,Ville!#REF!,Ville!#REF!,Ville!#REF!,Ville!#REF!,Ville!#REF!,Ville!#REF!,Ville!#REF!,Ville!#REF!,Ville!#REF!,Ville!#REF!,Ville!#REF!,Ville!#REF!)","v":{"$error":"#VALUE!"}},null,{"$f":"CHOOSE(E80,Ville!#REF!,Ville!#REF!,Ville!#REF!,Ville!#REF!,Ville!#REF!,Ville!#REF!,Ville!#REF!,Ville!#REF!,Ville!#REF!,Ville!#REF!,Ville!#REF!,Ville!#REF!,Ville!#REF!,Ville!#REF!)","v":{"$error":"#VALUE!"}},null,null,null,{"$error":"#VALUE!"}]
[null,null,"2008-10-08","Rumilly",{"$f":"VLOOKUP(D81,Ville!$A$2:$I$14,8)","v":0},{"$f":"CHOOSE(E81,Ville!#REF!,Ville!#REF!,Ville!#REF!,Ville!#REF!,Ville!#REF!,Ville!#REF!,Ville!#REF!,Ville!#REF!,Ville!#REF!,Ville!#REF!,Ville!#REF!,Ville!#REF!,Ville!#REF!,Ville!#REF!)","v":{"$error":"#VALUE!"}},null,{"$f":"CHOOSE(E81,Ville!#REF!,Ville!#REF!,Ville!#REF!,Ville!#REF!,Ville!#REF!,Ville!#REF!,Ville!#REF!,Ville!#REF!,Ville!#REF!,Ville!#REF!,Ville!#REF!,Ville!#REF!,Ville!#REF!,Ville!#REF!)","v":{"$error":"#VALUE!"}},64,14,null,{"$f":"SUM(G81:K81)","v":{"$error":"#VALUE!"}}]
[null,null,"2008-10-16","CORDESSE",{"$f":"VLOOKUP(D82,Ville!$A$2:$I$14,8)","v":0},{"$f":"CHOOSE(E82,Ville!#REF!,Ville!#REF!,Ville!#REF!,Ville!#REF!,Ville!#REF!,Ville!#REF!,Ville!#REF!,Ville!#REF!,Ville!#REF!,Ville!#REF!,Ville!#REF!,Ville!#REF!,Ville!#REF!,Ville!#REF!)","v":{"$error":"#VALUE!"}},null,{"$f":"CHOOSE(E82,Ville!#REF!,Ville!#REF!,Ville!#REF!,Ville!#REF!,Ville!#REF!,Ville!#REF!,Ville!#REF!,Ville!#REF!,Ville!#REF!,Ville!#REF!,Ville!#REF!,Ville!#REF!,Ville!#REF!,Ville!#REF!)","v":{"$error":"#VALUE!"}},58.72,null,null,{"$error":"#VALUE!"}]
[null,null,"2008-10-21","VILLEFRANCHE",{"$f":"VLOOKUP(D83,Ville!$A$2:$I$14,8)","v":0},{"$f":"CHOOSE(E83,Ville!#REF!,Ville!#REF!,Ville!#REF!,Ville!#REF!,Ville!#REF!,Ville!#REF!,Ville!#REF!,Ville!#REF!,Ville!#REF!,Ville!#REF!,Ville!#REF!,Ville!#REF!,Ville!#REF!,Ville!#REF!)","v":{"$error":"#VALUE!"}},null,9.6999999999999993,null,9.9,null,19.600000000000001]
[null,null,"2008-10-22","LYON",{"$f":"VLOOKUP(D84,Ville!$A$2:$I$14,8)","v":0},300,null,{"$f":"CHOOSE(E84,Ville!#REF!,Ville!#REF!,Ville!#REF!,Ville!#REF!,Ville!#REF!,Ville!#REF!,Ville!#REF!,Ville!#REF!,Ville!#REF!,Ville!#REF!,Ville!#REF!,Ville!#REF!,Ville!#REF!,Ville!#REF!)","v":{"$error":"#VALUE!"}},null,null,null,{"$error":"#VALUE!"}]
[null,null,"2008-10-23","MONTLUEL",{"$f":"VLOOKUP(D85,Ville!$A$2:$I$14,8)","v":0},260,null,7.9,null,null,null,7.9]
[null,null,null,"INCONNUE",{"$f":"VLOOKUP(D86,Ville!$A$2:$I$14,8)","v":0},{"$f":"CHOOSE(E86,Ville!#REF!,Ville!#REF!,Ville!#REF!,Ville!#REF!,Ville!#REF!,Ville!#REF!,Ville!#REF!,Ville!#REF!,Ville!#REF!,Ville!#REF!,Ville!#REF!,Ville!#REF!,Ville!#REF!,Ville!#REF!)","v":{"$error":"#VALUE!"}},{"$f":"IF(F86=\"\",\"\",F86*$F$1)","v":{"$error":"#VALUE!"}},{"$f":"CHOOSE(E86,Ville!#REF!,Ville!#REF!,Ville!#REF!,Ville!#REF!,Ville!#REF!,Ville!#REF!,Ville!#REF!,Ville!#REF!,Ville!#REF!,Ville!#REF!,Ville!#REF!,Ville!#REF!,Ville!#REF!,Ville!#REF!)","v":{"$error":"#VALUE!"}},null,null,null,{"$error":"#VALUE!"}]
[null,null,null,"INCONNUE",{"$f":"VLOOKUP(D87,Ville!$A$2:$I$14,8)","v":0},{"$f":"CHOOSE(E87,Ville!#REF!,Ville!#REF!,Ville!#REF!,Ville!#REF!,Ville!#REF!,Ville!#REF!,Ville!#REF!,Ville!#REF!,Ville!#REF!,Ville!#REF!,Ville!#REF!,Ville!#REF!,Ville!#REF!,Ville!#REF!)","v":{"$error":"#VALUE!"}},{"$error":"#VALUE!"},{"$f":"CHOOSE(E87,Ville!#REF!,Ville!#REF!,Ville!#REF!,Ville!#REF!,Ville!#REF!,Ville!#REF!,Ville!#REF!,Ville!#REF!,Ville!#REF!,Ville!#REF!,Ville!#REF!,Ville!#REF!,Ville!#REF!,Ville!#REF!)","v":{"$error":"#VALUE!"}},null,null,null,{"$error":"#VALUE!"}]
[null,null,null,"INCONNUE",{"$f":"VLOOKUP(D88,Ville!$A$2:$I$14,8)","v":0},{"$f":"CHOOSE(E88,Ville!#REF!,Ville!#REF!,Ville!#REF!,Ville!#REF!,Ville!#REF!,Ville!#REF!,Ville!#REF!,Ville!#REF!,Ville!#REF!,Ville!#REF!,Ville!#REF!,Ville!#REF!,Ville!#REF!,Ville!#REF!)","v":{"$error":"#VALUE!"}},{"$error":"#VALUE!"},{"$f":"CHOOSE(E88,Ville!#REF!,Ville!#REF!,Ville!#REF!,Ville!#REF!,Ville!#REF!,Ville!#REF!,Ville!#REF!,Ville!#REF!,Ville!#REF!,Ville!#REF!,Ville!#REF!,Ville!#REF!,Ville!#REF!,Ville!#REF!)","v":{"$error":"#VALUE!"}},null,null,null,{"$error":"#VALUE!"}]
[null,null,null,"INCONNUE",{"$f":"VLOOKUP(D89,Ville!$A$2:$I$14,8)","v":0},{"$f":"CHOOSE(E89,Ville!#REF!,Ville!#REF!,Ville!#REF!,Ville!#REF!,Ville!#REF!,Ville!#REF!,Ville!#REF!,Ville!#REF!,Ville!#REF!,Ville!#REF!,Ville!#REF!,Ville!#REF!,Ville!#REF!,Ville!#REF!)","v":{"$error":"#VALUE!"}},{"$error":"#VALUE!"},{"$f":"CHOOSE(E89,Ville!#REF!,Ville!#REF!,Ville!#REF!,Ville!#REF!,Ville!#REF!,Ville!#REF!,Ville!#REF!,Ville!#REF!,Ville!#REF!,Ville!#REF!,Ville!#REF!,Ville!#REF!,Ville!#REF!,Ville!#REF!)","v":{"$error":"#VALUE!"}},null,null,null,{"$error":"#VALUE!"}]
[null,null,null,"INCONNUE",{"$f":"VLOOKUP(D90,Ville!$A$2:$I$14,8)","v":0},{"$f":"CHOOSE(E90,Ville!#REF!,Ville!#REF!,Ville!#REF!,Ville!#REF!,Ville!#REF!,Ville!#REF!,Ville!#REF!,Ville!#REF!,Ville!#REF!,Ville!#REF!,Ville!#REF!,Ville!#REF!,Ville!#REF!,Ville!#REF!)","v":{"$error":"#VALUE!"}},{"$error":"#VALUE!"},{"$f":"CHOOSE(E90,Ville!#REF!,Ville!#REF!,Ville!#REF!,Ville!#REF!,Ville!#REF!,Ville!#REF!,Ville!#REF!,Ville!#REF!,Ville!#REF!,Ville!#REF!,Ville!#REF!,Ville!#REF!,Ville!#REF!,Ville!#REF!)","v":{"$error":"#VALUE!"}},null,null,null,{"$error":"#VALUE!"}]
[null,null,null,"INCONNUE",{"$f":"VLOOKUP(D91,Ville!$A$2:$I$14,8)","v":0},{"$f":"CHOOSE(E91,Ville!#REF!,Ville!#REF!,Ville!#REF!,Ville!#REF!,Ville!#REF!,Ville!#REF!,Ville!#REF!,Ville!#REF!,Ville!#REF!,Ville!#REF!,Ville!#REF!,Ville!#REF!,Ville!#REF!,Ville!#REF!)","v":{"$error":"#VALUE!"}},{"$error":"#VALUE!"},{"$f":"CHOOSE(E91,Ville!#REF!,Ville!#REF!,Ville!#REF!,Ville!#REF!,Ville!#REF!,Ville!#REF!,Ville!#REF!,Ville!#REF!,Ville!#REF!,Ville!#REF!,Ville!#REF!,Ville!#REF!,Ville!#REF!,Ville!#REF!)","v":{"$error":"#VALUE!"}},null,null,null,{"$error":"#VALUE!"}]
[null,null,null,"INCONNUE",{"$f":"VLOOKUP(D92,Ville!$A$2:$I$14,8)","v":0},{"$f":"CHOOSE(E92,Ville!#REF!,Ville!#REF!,Ville!#REF!,Ville!#REF!,Ville!#REF!,Ville!#REF!,Ville!#REF!,Ville!#REF!,Ville!#REF!,Ville!#REF!,Ville!#REF!,Ville!#REF!,Ville!#REF!,Ville!#REF!)","v":{"$error":"#VALUE!"}},{"$error":"#VALUE!"},{"$f":"CHOOSE(E92,Ville!#REF!,Ville!#REF!,Ville!#REF!,Ville!#REF!,Ville!#REF!,Ville!#REF!,Ville!#REF!,Ville!#REF!,Ville!#REF!,Ville!#REF!,Ville!#REF!,Ville!#REF!,Ville!#REF!,Ville!#REF!)","v":{"$error":"#VALUE!"}}]
[null,null,null,"INCONNUE",{"$f":"VLOOKUP(D93,Ville!$A$2:$I$14,8)","v":0},{"$f":"SUM(F78:F92)","v":{"$error":"#VALUE!"}},{"$error":"#VALUE!"},{"$error":"#VALUE!"},184.42000000000002,26.9,0,{"$f":"SUM(G93:K93)","v":{"$error":"#VALUE!"}}]
[null,"Novembre",null,"INCONNUE",{"$f":"VLOOKUP(D94,Ville!$A$2:$I$14,8)","v":0},{"$f":"CHOOSE(E94,Ville!#REF!,Ville!#REF!,Ville!#REF!,Ville!#REF!,Ville!#REF!,Ville!#REF!,Ville!#REF!,Ville!#REF!,Ville!#REF!,Ville!#REF!,Ville!#REF!,Ville!#REF!,Ville!#REF!,Ville!#REF!)","v":{"$error":"#VALUE!"}},{"$error":"#VALUE!"},{"$f":"CHOOSE(E94,Ville!#REF!,Ville!#REF!,Ville!#REF!,Ville!#REF!,Ville!#REF!,Ville!#REF!,Ville!#REF!,Ville!#REF!,Ville!#REF!,Ville!#REF!,Ville!#REF!,Ville!#REF!,Ville!#REF!,Ville!#REF!)","v":{"$error":"#VALUE!"}},null,null,null,{"$f":"SUM(G94:K94)","v":{"$error":"#VALUE!"}}]
[null,null,null,"INCONNUE",{"$f":"VLOOKUP(D95,Ville!$A$2:$I$14,8)","v":0},{"$f":"CHOOSE(E95,Ville!#REF!,Ville!#REF!,Ville!#REF!,Ville!#REF!,Ville!#REF!,Ville!#REF!,Ville!#REF!,Ville!#REF!,Ville!#REF!,Ville!#REF!,Ville!#REF!,Ville!#REF!,Ville!#REF!,Ville!#REF!)","v":{"$error":"#VALUE!"}},{"$error":"#VALUE!"},{"$f":"CHOOSE(E95,Ville!#REF!,Ville!#REF!,Ville!#REF!,Ville!#REF!,Ville!#REF!,Ville!#REF!,Ville!#REF!,Ville!#REF!,Ville!#REF!,Ville!#REF!,Ville!#REF!,Ville!#REF!,Ville!#REF!,Ville!#REF!)","v":{"$error":"#VALUE!"}},null,null,null,{"$error":"#VALUE!"}]
[null,null,null,"INCONNUE",{"$f":"VLOOKUP(D96,Ville!$A$2:$I$14,8)","v":0},{"$f":"CHOOSE(E96,Ville!#REF!,Ville!#REF!,Ville!#REF!,Ville!#REF!,Ville!#REF!,Ville!#REF!,Ville!#REF!,Ville!#REF!,Ville!#REF!,Ville!#REF!,Ville!#REF!,Ville!#REF!,Ville!#REF!,Ville!#REF!)","v":{"$error":"#VALUE!"}},{"$error":"#VALUE!"},{"$f":"CHOOSE(E96,Ville!#REF!,Ville!#REF!,Ville!#REF!,Ville!#REF!,Ville!#REF!,Ville!#REF!,Ville!#REF!,Ville!#REF!,Ville!#REF!,Ville!#REF!,Ville!#REF!,Ville!#REF!,Ville!#REF!,Ville!#REF!)","v":{"$error":"#VALUE!"}},null,null,null,{"$error":"#VALUE!"}]
[null,null,null,"INCONNUE",{"$f":"VLOOKUP(D97,Ville!$A$2:$I$14,8)","v":0},{"$f":"CHOOSE(E97,Ville!#REF!,Ville!#REF!,Ville!#REF!,Ville!#REF!,Ville!#REF!,Ville!#REF!,Ville!#REF!,Ville!#REF!,Ville!#REF!,Ville!#REF!,Ville!#REF!,Ville!#REF!,Ville!#REF!,Ville!#REF!)","v":{"$error":"#VALUE!"}},{"$error":"#VALUE!"},{"$f":"CHOOSE(E97,Ville!#REF!,Ville!#REF!,Ville!#REF!,Ville!#REF!,Ville!#REF!,Ville!#REF!,Ville!#REF!,Ville!#REF!,Ville!#REF!,Ville!#REF!,Ville!#REF!,Ville!#REF!,Ville!#REF!,Ville!#REF!)","v":{"$error":"#VALUE!"}},null,null,null,{"$error":"#VALUE!"}]
[null,null,null,"INCONNUE",{"$f":"VLOOKUP(D98,Ville!$A$2:$I$14,8)","v":0},{"$f":"CHOOSE(E98,Ville!#REF!,Ville!#REF!,Ville!#REF!,Ville!#REF!,Ville!#REF!,Ville!#REF!,Ville!#REF!,Ville!#REF!,Ville!#REF!,Ville!#REF!,Ville!#REF!,Ville!#REF!,Ville!#REF!,Ville!#REF!)","v":{"$error":"#VALUE!"}},{"$error":"#VALUE!"},{"$f":"CHOOSE(E98,Ville!#REF!,Ville!#REF!,Ville!#REF!,Ville!#REF!,Ville!#REF!,Ville!#REF!,Ville!#REF!,Ville!#REF!,Ville!#REF!,Ville!#REF!,Ville!#REF!,Ville!#REF!,Ville!#REF!,Ville!#REF!)","v":{"$error":"#VALUE!"}},null,null,null,{"$error":"#VALUE!"}]
[null,null,null,"INCONNUE",{"$f":"VLOOKUP(D99,Ville!$A$2:$I$14,8)","v":0},{"$f":"CHOOSE(E99,Ville!#REF!,Ville!#REF!,Ville!#REF!,Ville!#REF!,Ville!#REF!,Ville!#REF!,Ville!#REF!,Ville!#REF!,Ville!#REF!,Ville!#REF!,Ville!#REF!,Ville!#REF!,Ville!#REF!,Ville!#REF!)","v":{"$error":"#VALUE!"}},{"$error":"#VALUE!"},{"$f":"CHOOSE(E99,Ville!#REF!,Ville!#REF!,Ville!#REF!,Ville!#REF!,Ville!#REF!,Ville!#REF!,Ville!#REF!,Ville!#REF!,Ville!#REF!,Ville!#REF!,Ville!#REF!,Ville!#REF!,Ville!#REF!,Ville!#REF!)","v":{"$error":"#VALUE!"}},null,null,null,{"$error":"#VALUE!"}]
[null,null,null,"INCONNUE",{"$f":"VLOOKUP(D100,Ville!$A$2:$I$14,8)","v":0},{"$f":"CHOOSE(E100,Ville!#REF!,Ville!#REF!,Ville!#REF!,Ville!#REF!,Ville!#REF!,Ville!#REF!,Ville!#REF!,Ville!#REF!,Ville!#REF!,Ville!#REF!,Ville!#REF!,Ville!#REF!,Ville!#REF!,Ville!#REF!)","v":{"$error":"#VALUE!"}},{"$error":"#VALUE!"},{"$f":"CHOOSE(E100,Ville!#REF!,Ville!#REF!,Ville!#REF!,Ville!#REF!,Ville!#REF!,Ville!#REF!,Ville!#REF!,Ville!#REF!,Ville!#REF!,Ville!#REF!,Ville!#REF!,Ville!#REF!,Ville!#REF!,Ville!#REF!)","v":{"$error":"#VALUE!"}}]
[null,null,null,"INCONNUE",{"$f":"VLOOKUP(D101,Ville!$A$2:$I$14,8)","v":0},null,null,null,null,{"$f":"SUM(J94:J100)","v":0},null,{"$f":"SUM(L94:L100)","v":{"$error":"#VALUE!"}}]
[null,"Decembre",null,"INCONNUE",{"$f":"VLOOKUP(D102,Ville!$A$2:$I$14,8)","v":0},{"$f":"CHOOSE(E102,Ville!#REF!,Ville!#REF!,Ville!#REF!,Ville!#REF!,Ville!#REF!,Ville!#REF!,Ville!#REF!,Ville!#REF!,Ville!#REF!,Ville!#REF!,Ville!#REF!,Ville!#REF!,Ville!#REF!,Ville!#REF!)","v":{"$error":"#VALUE!"}},{"$error":"#VALUE!"},{"$f":"CHOOSE(E102,Ville!#REF!,Ville!#REF!,Ville!#REF!,Ville!#REF!,Ville!#REF!,Ville!#REF!,Ville!#REF!,Ville!#REF!,Ville!#REF!,Ville!#REF!,Ville!#REF!,Ville!#REF!,Ville!#REF!,Ville!#REF!)","v":{"$error":"#VALUE!"}},null,null,null,{"$f":"SUM(G102:K102)","v":{"$error":"#VALUE!"}}]
[null,null,null,"INCONNUE",{"$f":"VLOOKUP(D103,Ville!$A$2:$I$14,8)","v":0},{"$f":"CHOOSE(E103,Ville!#REF!,Ville!#REF!,Ville!#REF!,Ville!#REF!,Ville!#REF!,Ville!#REF!,Ville!#REF!,Ville!#REF!,Ville!#REF!,Ville!#REF!,Ville!#REF!,Ville!#REF!,Ville!#REF!,Ville!#REF!)","v":{"$error":"#VALUE!"}},{"$error":"#VALUE!"},{"$f":"CHOOSE(E103,Ville!#REF!,Ville!#REF!,Ville!#REF!,Ville!#REF!,Ville!#REF!,Ville!#REF!,Ville!#REF!,Ville!#REF!,Ville!#REF!,Ville!#REF!,Ville!#REF!,Ville!#REF!,Ville!#REF!,Ville!#REF!)","v":{"$error":"#VALUE!"}}]
[null,null,null,"INCONNUE",{"$f":"VLOOKUP(D104,Ville!$A$2:$I$14,8)","v":0},{"$f":"CHOOSE(E104,Ville!#REF!,Ville!#REF!,Ville!#REF!,Ville!#REF!,Ville!#REF!,Ville!#REF!,Ville!#REF!,Ville!#REF!,Ville!#REF!,Ville!#REF!,Ville!#REF!,Ville!#REF!,Ville!#REF!,Ville!#REF!)","v":{"$error":"#VALUE!"}},{"$error":"#VALUE!"},{"$f":"CHOOSE(E104,Ville!#REF!,Ville!#REF!,Ville!#REF!,Ville!#REF!,Ville!#REF!,Ville!#REF!,Ville!#REF!,Ville!#REF!,Ville!#REF!,Ville!#REF!,Ville!#REF!,Ville!#REF!,Ville!#REF!,Ville!#REF!)","v":{"$error":"#VALUE!"}}]
[null,null,null,"INCONNUE",{"$f":"VLOOKUP(D105,Ville!$A$2:$I$14,8)","v":0},{"$f":"CHOOSE(E105,Ville!#REF!,Ville!#REF!,Ville!#REF!,Ville!#REF!,Ville!#REF!,Ville!#REF!,Ville!#REF!,Ville!#REF!,Ville!#REF!,Ville!#REF!,Ville!#REF!,Ville!#REF!,Ville!#REF!,Ville!#REF!)","v":{"$error":"#VALUE!"}},{"$error":"#VALUE!"},{"$f":"CHOOSE(E105,Ville!#REF!,Ville!#REF!,Ville!#REF!,Ville!#REF!,Ville!#REF!,Ville!#REF!,Ville!#REF!,Ville!#REF!,Ville!#REF!,Ville!#REF!,Ville!#REF!,Ville!#REF!,Ville!#REF!,Ville!#REF!)","v":{"$error":"#VALUE!"}}]
[null,null,null,"INCONNUE",{"$f":"VLOOKUP(D106,Ville!$A$2:$I$14,8)","v":0},{"$f":"CHOOSE(E106,Ville!#REF!,Ville!#REF!,Ville!#REF!,Ville!#REF!,Ville!#REF!,Ville!#REF!,Ville!#REF!,Ville!#REF!,Ville!#REF!,Ville!#REF!,Ville!#REF!,Ville!#REF!,Ville!#REF!,Ville!#REF!)","v":{"$error":"#VALUE!"}},{"$error":"#VALUE!"},{"$f":"CHOOSE(E106,Ville!#REF!,Ville!#REF!,Ville!#REF!,Ville!#REF!,Ville!#REF!,Ville!#REF!,Ville!#REF!,Ville!#REF!,Ville!#REF!,Ville!#REF!,Ville!#REF!,Ville!#REF!,Ville!#REF!,Ville!#REF!)","v":{"$error":"#VALUE!"}}]
[null,null,null,"INCONNUE",{"$f":"VLOOKUP(D107,Ville!$A$2:$I$14,8)","v":0},{"$f":"CHOOSE(E107,Ville!#REF!,Ville!#REF!,Ville!#REF!,Ville!#REF!,Ville!#REF!,Ville!#REF!,Ville!#REF!,Ville!#REF!,Ville!#REF!,Ville!#REF!,Ville!#REF!,Ville!#REF!,Ville!#REF!,Ville!#REF!)","v":{"$error":"#VALUE!"}},{"$error":"#VALUE!"},{"$f":"CHOOSE(E107,Ville!#REF!,Ville!#REF!,Ville!#REF!,Ville!#REF!,Ville!#REF!,Ville!#REF!,Ville!#REF!,Ville!#REF!,Ville!#REF!,Ville!#REF!,Ville!#REF!,Ville!#REF!,Ville!#REF!,Ville!#REF!)","v":{"$error":"#VALUE!"}}]
[null,null,null,"INCONNUE",{"$f":"VLOOKUP(D108,Ville!$A$2:$I$14,8)","v":0},{"$f":"CHOOSE(E108,Ville!#REF!,Ville!#REF!,Ville!#REF!,Ville!#REF!,Ville!#REF!,Ville!#REF!,Ville!#REF!,Ville!#REF!,Ville!#REF!,Ville!#REF!,Ville!#REF!,Ville!#REF!,Ville!#REF!,Ville!#REF!)","v":{"$error":"#VALUE!"}},{"$error":"#VALUE!"},{"$f":"CHOOSE(E108,Ville!#REF!,Ville!#REF!,Ville!#REF!,Ville!#REF!,Ville!#REF!,Ville!#REF!,Ville!#REF!,Ville!#REF!,Ville!#REF!,Ville!#REF!,Ville!#REF!,Ville!#REF!,Ville!#REF!,Ville!#REF!)","v":{"$error":"#VALUE!"}}]
[null,null,null,null,{"$f":"VLOOKUP(D109,Ville!$A$2:$I$14,8)","v":{"$error":"#N/A"}},{"$f":"SUM(F102:F108)","v":{"$error":"#VALUE!"}},{"$error":"#VALUE!"},{"$error":"#VALUE!"},0,0,0,{"$f":"SUM(L102:L108)","v":{"$error":"#VALUE!"}}]
[null,null,null,"BESANCON"]
[null,null,null,"CHAUFFAILLES"]
[null,null,null,"CORDESSE"]
[null,null,null,"ECQUEVILLY"]
[null,null,null,"FINS LES MONTBARD"]
[null,null,null,"INCONNUE"]
[null,null,null,"MEYTHET"]
[null,null,null,"MONTREUIL"]
[null,null,null,"POITIERS"]
[null,null,null,"POUILLYEN AUXOIS"]
[null,null,null,"RUMILLY"]
[null,null,null,"SENECE LES MACONS"]
[null,null,null,"VILLEFRANCHE"]
[]
[]
[null,null,null,"KM",null,{"$f":"SUM(F109+F101+F93+F77+F69+F59+F48+F40+F31+F23+F16+F9)","v":{"$error":"#VALUE!"}}]

{"sheet":"Calendrier  (2)","index":7,"n_rows":610,"n_cols":16,"rows_kept":610,"cut":false,"hidden":true,"merged":[[371,1,371,2],[421,1,421,2],[418,1,418,2],[375,1,375,2],[424,1,424,2],[372,1,372,2],[378,1,378,2],[384,1,384,2],[392,1,392,2],[381,1,381,2],[395,1,395,2],[398,1,398,2],[401,1,401,2],[404,1,404,2],[427,1,427,2],[432,1,432,2],[412,1,412,2],[415,1,415,2],[447,1,447,2],[435,1,435,2],[438,1,438,2],[441,1,441,2],[444,1,444,2],[472,1,472,2],[475,1,475,2],[452,1,452,2],[455,1,455,2],[458,1,458,2],[461,1,461,2],[464,1,464,2],[467,1,467,2],[492,1,492,2],[495,1,495,2],[498,1,498,2],[501,1,501,2],[478,1,478,2],[481,1,481,2],[484,1,484,2],[487,1,487,2],[518,1,518,2],[521,1,521,2],[524,1,524,2],[527,1,527,2],[504,1,504,2],[507,1,507,2],[512,1,512,2],[515,1,515,2],[544,1,544,2],[547,1,547,2],[552,1,552,2],[555,1,555,2],[532,1,532,2],[535,1,535,2],[538,1,538,2],[541,1,541,2],[572,1,572,2],[575,1,575,2],[578,1,578,2],[581,1,581,2],[558,1,558,2],[561,1,561,2],[564,1,564,2],[567,1,567,2],[598,1,598,2],[601,1,601,2],[604,1,604,2],[607,1,607,2],[584,1,584,2],[587,1,587,2],[592,1,592,2],[595,1,595,2]]}
[null,null,null,null,"Année :","2008"]
[null,null,null,"jour","fete"]
[null,null,null,"1900-01-01","Jour de l'An ","NOEL"]
[null,null,null,"1900-01-02","St Basile","ERD"]
[null,null,null,"1900-01-03","Ste Geneviève"]
[null,null,null,"1900-01-04","St Odilon","RTY"]
[null,null,null,"1900-01-05","St Edouard","AZE"]
[null,null,null,"1900-01-06","Ste Melaine"]
[null,null,null,"1900-01-07","St Raymond"]
[null,null,null,"1900-01-08","St Lucien"]
[null,null,null,"1900-01-09","Ste Alix"]
[null,null,null,"1900-01-10","St Guillaume"]
[null,null,null,"1900-01-11","St Paulin"]
[null,null,null,"1900-01-12","Ste Tatiana"]
[null,null,null,"1900-01-13","Ste Yvette"]
[null,null,null,"1900-01-14","Ste Nina"]
[null,null,null,"1900-01-15","St Rémi"]
[null,null,null,"1900-01-16","St Marcel"]
[null,null,null,"1900-01-17","Ste Roseline"]
[null,null,null,"1900-01-18","Ste Prisca"]
[null,null,null,"1900-01-19","St Marius"]
[null,null,null,"1900-01-20","St Sébastien"]
[null,null,null,"1900-01-21","Ste Agnès"]
[null,null,null,"1900-01-22","St Vincent"]
[null,null,null,"1900-01-23","St Barnard"]
[null,null,null,"1900-01-24","St François de Sales"]
[null,null,null,"1900-01-25","Convers. de St Paul"]
[null,null,null,"1900-01-26","Ste Paule"]
[null,null,null,"1900-01-27","Ste Angel"]
[null,null,null,"1900-01-28","St Thomas d'Aquin"]
[null,null,null,"1900-01-29","St Gildas"]
[null,null,null,"1900-01-30","Ste Martine"]
[null,null,null,"1900-01-31","Ste Marcelle"]
[null,null,null,"1900-02-01","Ste Ella"]
[null,null,null,"1900-02-02","Prés. du Seigneur"]
[null,null,null,"1900-02-03","St Blaise"]
[null,null,null,"1900-02-04","Ste Véronique"]
[null,null,null,"1900-02-05","Ste Agathe"]
[null,null,null,"1900-02-06","St Gaston"]
[null,null,null,"1900-02-07","Ste Eugénie"]
[null,null,null,"1900-02-08","Ste Jacqueline"]
[null,null,null,"1900-02-09","Ste Apolline"]
[null,null,null,"1900-02-10","St Arnaud"]
[null,null,null,"1900-02-11","N.-D. de Lourdes"]
[null,null,null,"1900-02-12","St Félix"]
[null,null,null,"1900-02-13","Ste Béatrice"]
[null,null,null,"1900-02-14","St Valentin"]
[null,null,null,"1900-02-15","St Claude"]
[null,null,null,"1900-02-16","Ste Julienne"]
[null,null,null,"1900-02-17","St Alexis  ","REMY"]
[null,null,null,"1900-02-18","Ste Bernadette"]
[null,null,null,"1900-02-19","St Gabin"]
[null,null,null,"1900-02-20","Ste Aimée"]
[null,null,null,"1900-02-21","St P. Damien"]
[null,null,null,"1900-02-22","Ste Isabelle"]
[null,null,null,"1900-02-23","St Lazare"]
[null,null,null,"1900-02-24","St Modeste"]
[null,null,null,"1900-02-25","St Roméo"]
[null,null,null,"1900-02-26","St Nestor"]
[null,null,null,"1900-02-27","St Honorine"]
[null,null,null,"1900-02-28","St Romain"]
[null,null,null,60,"St Auguste"]
[null,null,null,"1900-03-01","St Aubin"]
[null,null,null,"1900-03-02","St Charles le Bon"]
[null,null,null,"1900-03-03","St Gwénolé"]
[null,null,null,"1900-03-04","St Casimir"]
[null,null,null,"1900-03-05","Ste Olivia"]
[null,null,null,"1900-03-06","Ste Colette"]
[null,null,null,"1900-03-07","Ste Félicité"]
[null,null,null,"1900-03-08","St Jean-de-Dieu"]
[null,null,null,"1900-03-09","Ste Françoise R."]
[null,null,null,"1900-03-10","St Vivien"]
[null,null,null,"1900-03-11","Ste Rosine"]
[null,null,null,"1900-03-12","Ste Justine"]
[null,null,null,"1900-03-13","St Rodrigue"]
[null,null,null,"1900-03-14","Ste Mathilde"]
[null,null,null,"1900-03-15","Ste Louise M. ","JEAN CLAUDE"]
[null,null,null,"1900-03-16","Ste Bénédicte"]
[null,null,null,"1900-03-17","St Patrice"]
[null,null,null,"1900-03-18","St Cyrille"]
[null,null,null,"1900-03-19","St Joseph"]
[null,null,null,"1900-03-20","Printemps ","ALEXANDRE"]
[null,null,null,"1900-03-21","Ste Clémence","PAPA"]
[null,null,null,"1900-03-22","Ste Léa"]
[null,null,null,"1900-03-23","St Victorien "]
[null,null,null,"1900-03-24","Ste Catherine"]
[null,null,null,"1900-03-25","Annonciation"]
[null,null,null,"1900-03-26","Ste Larissa"]
[null,null,null,"1900-03-27","St Habib"]
[null,null,null,"1900-03-28","St Gontran"]
[null,null,null,"1900-03-29","Ste Gwladys"]
[null,null,null,"1900-03-30","St Amédée"]
[null,null,null,"1900-03-31","St Benjamin"]
[null,null,null,"1900-04-01","St Hugues"]
[null,null,null,"1900-04-02","Ste Sandrine"]
[null,null,null,"1900-04-03","St Richard"]
[null,null,null,"1900-04-04","St Isidore"]
[null,null,null,"1900-04-05","Ste  Irène"]
[null,null,null,"1900-04-06","St Marcellin"]
[null,null,null,"1900-04-07","St J.-B. de Salle"]
[null,null,null,"1900-04-08","Ste Julie"]
[null,null,null,"1900-04-09","St Gautier"]
[null,null,null,"1900-04-10","St Fulbert"]
[null,null,null,"1900-04-11","St Stanislas"]
[null,null,null,"1900-04-12","St Jules"]
[null,null,null,"1900-04-13","Ste Ida"]
[null,null,null,"1900-04-14","St Maxime"]
[null,null,null,"1900-04-15","St Paterne"]
[null,null,null,"1900-04-16","St Benoît-Joseph"]
[null,null,null,"1900-04-17","St Et. Harding"]
[null,null,null,"1900-04-18","St Parfait"]
[null,null,null,"1900-04-19","Ste Emma"]
[null,null,null,"1900-04-20","Ste Odette"]
[null,null,null,"1900-04-21","St Anselme"]
[null,null,null,"1900-04-22","St Alexandre"]
[null,null,null,"1900-04-23","St Georges"]
[null,null,null,"1900-04-24","St Fidèle"]
[null,null,null,"1900-04-25","Souvenir Déportés"]
[null,null,null,"1900-04-26","Ste Alida"]
[null,null,null,"1900-04-27","Ste Zita"]
[null,null,null,"1900-04-28","Ste Valérie"]
[null,null,null,"1900-04-29","Ste C. de Sienne"]
[null,null,null,"1900-04-30","St Robert"]
[null,null,null,"1900-05-01","F. du travail"]
[null,null,null,"1900-05-02","St Boris"]
[null,null,null,"1900-05-03","Sts Philippe-Jacques"]
[null,null,null,"1900-05-04","St Sylvain"]
[null,null,null,"1900-05-05","Ste Judith"]
[null,null,null,"1900-05-06","Ste Prudence"]
[null,null,null,"1900-05-07","Ste Gisèle"]
[null,null,null,"1900-05-08","Annivers. 1945"]
[null,null,null,"1900-05-09","St Pacôme"]
[null,null,null,"1900-05-10","Ste Solange"]
[null,null,null,"1900-05-11","Ste Estelle"]
[null,null,null,"1900-05-12","St Achille"]
[null,null,null,"1900-05-13","Ste Rolande"]
[null,null,null,"1900-05-14","St Matthias"]
[null,null,null,"1900-05-15","Ste Denise"]
[null,null,null,"1900-05-16","St Honoré ","MARTINE"]
[null,null,null,"1900-05-17","St Pascal"]
[null,null,null,"1900-05-18","St Eric"]
[null,null,null,"1900-05-19","St Yves"]
[null,null,null,"1900-05-20","St Bernardin"]
[null,null,null,"1900-05-21","St Constantin"]
[null,null,null,"1900-05-22","St Emile ","SANDRA"]
[null,null,null,"1900-05-23","St Didier"]
[null,null,null,"1900-05-24","St Donatien"]
[null,null,null,"1900-05-25","Ste Sophie"]
[null,null,null,"1900-05-26","St Bérenger"]
[null,null,null,"1900-05-27","St Augustin de C."]
[null,null,null,"1900-05-28","St Germain"]
[null,null,null,"1900-05-29","St Aymar"]
[null,null,null,"1900-05-30","St Ferdinand"]
[null,null,null,"1900-05-31","V. de la Ste Vierge"]
[null,null,null,"1900-06-01","St Justin"]
[null,null,null,"1900-06-02","Ste Blandine"]
[null,null,null,"1900-06-03","St Kévin"]
[null,null,null,"1900-06-04","Ste Clothilde"]
[null,null,null,"1900-06-05","St Igor"]
[null,null,null,"1900-06-06","St Norbert"]
[null,null,null,"1900-06-07","St Gilbert"]
[null,null,null,"1900-06-08","St Médard"]
[null,null,null,"1900-06-09","Ste Diane"]
[null,null,null,"1900-06-10","St Landry"]
[null,null,null,"1900-06-11","St Barnabé"]
[null,null,null,"1900-06-12","St Guy"]
[null,null,null,"1900-06-13","St A. de Padou"]
[null,null,null,"1900-06-14","St Elisée"]
[null,null,null,"1900-06-15","Ste Germaine"]
[null,null,null,"1900-06-16","St J.-F. Régis"]
[null,null,null,"1900-06-17","St Hervé"]
[null,null,null,"1900-06-18","St Léonce"]
[null,null,null,"1900-06-19","St Romuald"]
[null,null,null,"1900-06-20","St Silvère"]
[null,null,null,"1900-06-21","F. Dieu"]
[null,null,null,"1900-06-22","St Alban"]
[null,null,null,"1900-06-23","Ste Audrey"]
[null,null,null,"1900-06-24","St Jean-Baptiste"]
[null,null,null,"1900-06-25","St Salomon"]
[null,null,null,"1900-06-26","St Anthelme"]
[null,null,null,"1900-06-27","St Fernand"]
[null,null,null,"1900-06-28","St Irénée ","MARIAGE"]
[null,null,null,"1900-06-29","St Pierre-Paul"]
[null,null,null,"1900-06-30","St Martial"]
[null,null,null,"1900-07-01","St Thierry"]
[null,null,null,"1900-07-02","St Martinien"]
[null,null,null,"1900-07-03","St Thomas"]
[null,null,null,"1900-07-04","St Florent"]
[null,null,null,"1900-07-05","St Antoine"]
[null,null,null,"1900-07-06","Ste Mariette"]
[null,null,null,"1900-07-07","St Raoul"]
[null,null,null,"1900-07-08","St Thibaut"]
[null,null,null,"1900-07-09","Ste Amandine"]
[null,null,null,"1900-07-10","St Ulrich ","CLAUDETTE"]
[null,null,null,"1900-07-11","St Benoît"]
[null,null,null,"1900-07-12","St Olivier"]
[null,null,null,"1900-07-13","Sts Henri et Joël"]
[null,null,null,"1900-07-14","Fête nationale"]
[null,null,null,"1900-07-15","St Donald"]
[null,null,null,"1900-07-16","N.D. Mont Carmel"]
[null,null,null,"1900-07-17","Ste Charlotte"]
[null,null,null,"1900-07-18","St Frédéric"]
[null,null,null,"1900-07-19","St Arsène"]
[null,null,null,"1900-07-20","Ste Marina"]
[null,null,null,"1900-07-21","St Victor"]
[null,null,null,"1900-07-22","Ste Marie-Madel."]
[null,null,null,"1900-07-23","Ste Brigitte"]
[null,null,null,"1900-07-24","Ste Christine"]
[null,null,null,"1900-07-25","St Jacques de M. (Enzo)"]
[null,null,null,"1900-07-26","Ste Anne","MAMAN"]
[null,null,null,"1900-07-27","Ste Nathalie"]
[null,null,null,"1900-07-28","St Samson"]
[null,null,null,"1900-07-29","Ste Marthe"]
[null,null,null,"1900-07-30","Ste Juliette"]
[null,null,null,"1900-07-31","St Ign. Loyola"]
[null,null,null,"1900-08-01","St Alphonse"]
[null,null,null,"1900-08-02","St Julien-Eym."]
[null,null,null,"1900-08-03","Ste Lydie"]
[null,null,null,"1900-08-04","St J.M. Vianney"]
[null,null,null,"1900-08-05","St Abel"]
[null,null,null,"1900-08-06","Transfiguration"]
[null,null,null,"1900-08-07","St Gaëtan"]
[null,null,null,"1900-08-08","St Dominique"]
[null,null,null,"1900-08-09","St Amour"]
[null,null,null,"1900-08-10","St Laurent"]
[null,null,null,"1900-08-11","Ste Claire"]
[null,null,null,"1900-08-12","Ste Clarisse"]
[null,null,null,"1900-08-13","St Hippolyte"]
[null,null,null,"1900-08-14","St Evrard"]
[null,null,null,"1900-08-15","Assomption"]
[null,null,null,"1900-08-16","St Armel"]
[null,null,null,"1900-08-17","St Hyacinthe"]
[null,null,null,"1900-08-18","Ste Hélène"]
[null,null,null,"1900-08-19","St Jean Eudes"]
[null,null,null,"1900-08-20","St Bernard"]
[null,null,null,"1900-08-21","St Christophe"]
[null,null,null,"1900-08-22","St Fabrice"]
[null,null,null,"1900-08-23","Ste Rose de Lima"]
[null,null,null,"1900-08-24","St Barthélémy"]
[null,null,null,"1900-08-25","St Louis"]
[null,null,null,"1900-08-26","Ste Natacha"]
[null,null,null,"1900-08-27","Ste Monique"]
[null,null,null,"1900-08-28","St Augustin"]
[null,null,null,"1900-08-29","Ste Sabine"]
[null,null,null,"1900-08-30","St Fiacre"]
[null,null,null,"1900-08-31","St Aristide"]
[null,null,null,"1900-09-01","St Gilles"]
[null,null,null,"1900-09-02","Ste Ingrid"]
[null,null,null,"1900-09-03","St Grégoire"]
[null,null,null,"1900-09-04","Ste Rosalie"]
[null,null,null,"1900-09-05","Ste Raïssa"]
[null,null,null,"1900-09-06","St Bertrand"]
[null,null,null,"1900-09-07","Ste Reine"]
[null,null,null,"1900-09-08","Nativité"]
[null,null,null,"1900-09-09","St Alain"]
[null,null,null,"1900-09-10","Ste Inès"]
[null,null,null,"1900-09-11","Ste Adelphe"]
[null,null,null,"1900-09-12","St Apollinaire"]
[null,null,null,"1900-09-13","St Aimé"]
[null,null,null,"1900-09-14","Croix Glorieuse"]
[null,null,null,"1900-09-15","St Roland"]
[null,null,null,"1900-09-16","Ste Edith"]
[null,null,null,"1900-09-17","St Renaud"]
[null,null,null,"1900-09-18","Ste Nadège"]
[null,null,null,"1900-09-19","Ste Emilie"]
[null,null,null,"1900-09-20","St Davy"]
[null,null,null,"1900-09-21","St Matthieu"]
[null,null,null,"1900-09-22","St Maurice"]
[null,null,null,"1900-09-23","St Constant"]
[null,null,null,"1900-09-24","Ste Thècle"]
[null,null,null,"1900-09-25","St Herman"]
[null,null,null,"1900-09-26","St Côme-Damien","CYRIL"]
[null,null,null,"1900-09-27","St Vincent de Paul"]
[null,null,null,"1900-09-28","St Venceslas"]
[null,null,null,"1900-09-29","Sts Michel-Gabriel"]
[null,null,null,"1900-09-30","St Jérôme"]
[null,null,null,"1900-10-01","Ste Thérèse de l'E. J."]
[null,null,null,"1900-10-02","St Léger"]
[null,null,null,"1900-10-03","St Gérard"]
[null,null,null,"1900-10-04","St Fr. d'Assise"]
[null,null,null,"1900-10-05","Ste Fleur"]
[null,null,null,"1900-10-06","St Bruno"]
[null,null,null,"1900-10-07","St Serge"]
[null,null,null,"1900-10-08","Ste Pélagie"]
[null,null,null,"1900-10-09","St Denis ","ALINE"]
[null,null,null,"1900-10-10","St Ghislain"]
[null,null,null,"1900-10-11","St Firmin"]
[null,null,null,"1900-10-12","St Wilfrid"]
[null,null,null,"1900-10-13","St Géraud"]
[null,null,null,"1900-10-14","St Juste"]
[null,null,null,"1900-10-15","Ste Thérèse d'A."]
[null,null,null,"1900-10-16","Ste Edwige"]
[null,null,null,"1900-10-17","St Baudouin"]
[null,null,null,"1900-10-18","St Luc"]
[null,null,null,"1900-10-19","St René"]
[null,null,null,"1900-10-20","Ste Adeline"]
[null,null,null,"1900-10-21","Ste Céline"]
[null,null,null,"1900-10-22","Ste Salomé"]
[null,null,null,"1900-10-23","St Jean de C."]
[null,null,null,"1900-10-24","St Florentin"]
[null,null,null,"1900-10-25","St Enguerran"]
[null,null,null,"1900-10-26","St Dimitri"]
[null,null,null,"1900-10-27","Ste Emeline"]
[null,null,null,"1900-10-28","St Simon"]
[null,null,null,"1900-10-29","St Narcisse"]
[null,null,null,"1900-10-30","Ste Bienvenue"]
[null,null,null,"1900-10-31","St Quentin"]
[null,null,null,"1900-11-01","Toussaint"]
[null,null,null,"1900-11-02","Défunts"]
[null,null,null,"1900-11-03","St Hubert"]
[null,null,null,"1900-11-04","St Charles"]
[null,null,null,"1900-11-05","Ste Sylvie"]
[null,null,null,"1900-11-06","Ste Bertille"]
[null,null,null,"1900-11-07","Ste Carine"]
[null,null,null,"1900-11-08","St Geoffroy"]
[null,null,null,"1900-11-09","St Théodore"]
[null,null,null,"1900-11-10","St Léon"]
[null,null,null,"1900-11-11","Armistice 1918"]
[null,null,null,"1900-11-12","St Christian"]
[null,null,null,"1900-11-13","St Brice"]
[null,null,null,"1900-11-14","St Sidoine"]
[null,null,null,"1900-11-15","St Albert"]
[null,null,null,"1900-11-16","Ste Marguerite"]
[null,null,null,"1900-11-17","Ste Elisabeth"]
[null,null,null,"1900-11-18","Ste Aude"]
[null,null,null,"1900-11-19","St Tanguy"]
[null,null,null,"1900-11-20","St Edmond"]
[null,null,null,"1900-11-21","Prés. de Marie"]
[null,null,null,"1900-11-22","Ste Cécile"]
[null,null,null,"1900-11-23","St Clément"]
[null,null,null,"1900-11-24","Ste Flora"]
[null,null,null,"1900-11-25","Ste Catherine L."]
[null,null,null,"1900-11-26","Ste Delphine"]
[null,null,null,"1900-11-27","St Séverin"]
[null,null,null,"1900-11-28","St Jacques de M."]
[null,null,null,"1900-11-29","St Saturnin"]
[null,null,null,"1900-11-30","St André"]
[null,null,null,"1900-12-01","Ste Florence"]
[null,null,null,"1900-12-02","Ste Viviane"]
[null,null,null,"1900-12-03","St François Xavier"]
[null,null,null,"1900-12-04","Ste Barbara"]
[null,null,null,"1900-12-05","St Gérald"]
[null,null,null,"1900-12-06","St Nicolas"]
[null,null,null,"1900-12-07","St Ambroise"]
[null,null,null,"1900-12-08","Immac. Conception"]
[null,null,null,"1900-12-09","St P. Fourier"]
[null,null,null,"1900-12-10","St Romaric"]
[null,null,null,"1900-12-11","St Daniel"]
[null,null,null,"1900-12-12","Ste J.-F. Chantal"]
[null,null,null,"1900-12-13","Ste Lucie"]
[null,null,null,"1900-12-14","Ste Odile"]
[null,null,null,"1900-12-15","Ste Ninon"]
[null,null,null,"1900-12-16","Ste Alice"]
[null,null,null,"1900-12-17","St Judicaël"]
[null,null,null,"1900-12-18","St Gatien"]
[null,null,null,"1900-12-19","St Urbain"]
[null,null,null,"1900-12-20","St Théophile"]
[null,null,null,"1900-12-21","St Pierre C."]
[null,null,null,"1900-12-22","Ste Franç. Xavière"]
[null,null,null,"1900-12-23","St Armand"]
[null,null,null,"1900-12-24","Ste Adèle"]
[null,null,null,"1900-12-25","Noël"]
[null,null,null,"1900-12-26","St Etienne"]
[null,null,null,"1900-12-27","St Jean"]
[null,null,null,"1900-12-28","Sts Innocents"]
[null,null,null,"1900-12-29","St David"]
[null,null,null,"1900-12-30","St Roger"]
[null,null,null,"1900-12-31","St Sylvestre"]
[null,null,null,null,null," "]
[]
[null,{"$f":"TEXT(L371,\"aaaa\")","v":"2008"},null,null,{"$f":"P373","v":"2007-12-31"},1,null,null,{"$f":"TEXT(DATE(B371,F371,1),\"mmmm\")","v":"janvier"},null,"Date",{"$f":"DATE(F1,1,1)","v":"2008-01-01"},null,"Numéro de semaine ",null,{"$f":"IF((date-courante+1)<1,(courante-précédente)/7,((INT(((date-courante+1)-1)/7)+1)-(INT(((INT(((date-courante+1)-1)/7)+1)-1)/((suivante-courante)/7)))*(courante-précédente)/7))","v":1}]
[null,"Lundi",null,"Mardi","Mercredi","Jeudi","Vendredi","Samedi","Dimanche",null,"Courante",{"$f":"(DATE(YEAR(date),1,1)+(-((MOD(DATE(YEAR(date),1,1)-2,7)+1)-8-(INT(((MOD(DATE(YEAR(date),1,1)-2,7)+1)-5)/7))*7)))","v":"2007-12-31"},null,"Num 1er jour 1ere semaine",null,{"$f":"(P371-1)*7+1","v":1}]
[null,{"$f":"IF(C375<>\"\",VLOOKUP(DATE(1900,$F371,B375),$D$3:$F$368,3),\"\")","v":""},null,{"$f":"IF(D375<>\"\",VLOOKUP(DATE(1900,$F371,D375),$D$3:$F$368,3),\"\")","v":"NOEL"},"ERD",0,"RTY","AZE",0,null,"Précédente",{"$f":"(DATE(YEAR(date)-1,1,1)+(-((MOD(DATE(YEAR(date)-1,1,1)-2,7)+1)-8-(INT(((MOD(DATE(YEAR(date)-1,1,1)-2,7)+1)-5)/7))*7)))","v":"2007-01-01"},null,"Date 1er jour 1ere semaine",null,{"$f":"IF(OR(MOD(L371-2,7)+1<5,MONTH(L371)<>1),IF(AND(DAY(L372+P372-1)>1,DAY(L372+P372-1)<5),L372+P372-6,L372+P372-1),IF(AND(DAY(L373+P372-1)>1,DAY(L373+P372-1)<5),L373+P372-6,L373+P372-1))","v":"2007-12-31"}]
[null,{"$f":"IF(C375<>\"\",VLOOKUP(DATE(1900,$F371,C375),$D$3:$E$368,2),\"\")","v":""},null,{"$f":"IF(D375<>\"\",VLOOKUP(DATE(1900,$F371,D375),$D$3:$E$368,2),\"\")","v":"Jour de l'An "},"St Basile","Ste Geneviève","St Odilon","St Edouard","Ste Melaine",null,"Suivante",{"$f":"(DATE(YEAR(date)+1,1,1)+(-((MOD(DATE(YEAR(date)+1,1,1)-2,7)+1)-8-(INT(((MOD(DATE(YEAR(date)+1,1,1)-2,7)+1)-5)/7))*7)))","v":"2008-12-29"},null,"Nb de sem. année précédente",null,{"$f":"(L372-L373)/7","v":52}]
[null,{"$f":"P371","v":1},{"$f":"IF(MONTH(P373+COLUMN()-COLUMN(C375)+(ROW()-ROW(C375))*7)=MONTH(L371),DAY(P373+COLUMN()-COLUMN(C375)+(ROW()-ROW(C375))*7),\"\")","v":""},{"$f":"IF(MONTH(P373+COLUMN()-COLUMN(C375)+(ROW()-ROW(C375))*7)=MONTH(L371),DAY(P373+COLUMN()-COLUMN(C375)+(ROW()-ROW(C375))*7),\"\")","v":1},{"$f":"IF(MONTH(P373+COLUMN()-COLUMN(C375)+(ROW()-ROW(C375))*7)=MONTH(L371),DAY(P373+COLUMN()-COLUMN(C375)+(ROW()-ROW(C375))*7),\"\")","v":2},{"$f":"IF(MONTH(P373+COLUMN()-COLUMN(C375)+(ROW()-ROW(C375))*7)=MONTH(L371),DAY(P373+COLUMN()-COLUMN(C375)+(ROW()-ROW(C375))*7),\"\")","v":3},{"$f":"IF(MONTH(P373+COLUMN()-COLUMN(C375)+(ROW()-ROW(C375))*7)=MONTH(L371),DAY(P373+COLUMN()-COLUMN(C375)+(ROW()-ROW(C375))*7),\"\")","v":4},{"$f":"IF(MONTH(P373+COLUMN()-COLUMN(C375)+(ROW()-ROW(C375))*7)=MONTH(L371),DAY(P373+COLUMN()-COLUMN(C375)+(ROW()-ROW(C375))*7),\"\")","v":5},{"$f":"IF(MONTH(P373+COLUMN()-COLUMN(C375)+(ROW()-ROW(C375))*7)=MONTH(L371),DAY(P373+COLUMN()-COLUMN(C375)+(ROW()-ROW(C375))*7),\"\")","v":6}]
[null,{"$f":"IF(C378<>\"\",VLOOKUP(DATE(1900,$F371,C378),$D$3:$F$368,3),\"\")","v":0},null,{"$f":"IF(D378<>\"\",VLOOKUP(DATE(1900,$F371,D378),$D$3:$F$368,3),\"\")","v":0},0,0,0,0,0,null,null,"LUNDI"]
[null,{"$f":"IF(C378<>\"\",VLOOKUP(DATE(1900,$F371,C378),$D$3:$E$368,2),\"\")","v":"St Raymond"},null,{"$f":"IF(D378<>\"\",VLOOKUP(DATE(1900,$F371,D378),$D$3:$E$368,2),\"\")","v":"St Lucien"},"Ste Alix","St Guillaume","St Paulin","Ste Tatiana","Ste Yvette",null,null,"MARDI"]
[null,{"$f":"(B375+1)-(INT(((B375+1)-1)/$P$374))*$P$374","v":2},{"$f":"IF(MONTH(P373+COLUMN()-COLUMN(C375)+(ROW()-ROW(C375)-2)*7)=MONTH(L371),DAY(P373+COLUMN()-COLUMN(C375)+(ROW()-ROW(C375)-2)*7),\"\")","v":7},{"$f":"IF(MONTH(P373+COLUMN()-COLUMN(C375)+(ROW()-ROW(C375)-2)*7)=MONTH(L371),DAY(P373+COLUMN()-COLUMN(C375)+(ROW()-ROW(C375)-2)*7),\"\")","v":8},{"$f":"IF(MONTH(P373+COLUMN()-COLUMN(C375)+(ROW()-ROW(C375)-2)*7)=MONTH(L371),DAY(P373+COLUMN()-COLUMN(C375)+(ROW()-ROW(C375)-2)*7),\"\")","v":9},{"$f":"IF(MONTH(P373+COLUMN()-COLUMN(C375)+(ROW()-ROW(C375)-2)*7)=MONTH(L371),DAY(P373+COLUMN()-COLUMN(C375)+(ROW()-ROW(C375)-2)*7),\"\")","v":10},{"$f":"IF(MONTH(P373+COLUMN()-COLUMN(C375)+(ROW()-ROW(C375)-2)*7)=MONTH(L371),DAY(P373+COLUMN()-COLUMN(C375)+(ROW()-ROW(C375)-2)*7),\"\")","v":11},{"$f":"IF(MONTH(P373+COLUMN()-COLUMN(C375)+(ROW()-ROW(C375)-2)*7)=MONTH(L371),DAY(P373+COLUMN()-COLUMN(C375)+(ROW()-ROW(C375)-2)*7),\"\")","v":12},{"$f":"IF(MONTH(P373+COLUMN()-COLUMN(C375)+(ROW()-ROW(C375)-2)*7)=MONTH(L371),DAY(P373+COLUMN()-COLUMN(C375)+(ROW()-ROW(C375)-2)*7),\"\")","v":13},null,null,"MERCREDI"]
[null,{"$f":"IF(C381<>\"\",VLOOKUP(DATE(1900,$F371,C381),$D$3:$F$368,3),\"\")","v":0},null,{"$f":"IF(D381<>\"\",VLOOKUP(DATE(1900,$F371,D381),$D$3:$F$368,3),\"\")","v":0},0,0,0,0,0,null,null,"JEUDI"]
[null,{"$f":"IF(C381<>\"\",VLOOKUP(DATE(1900,$F371,C381),$D$3:$E$368,2),\"\")","v":"Ste Nina"},null,{"$f":"IF(D381<>\"\",VLOOKUP(DATE(1900,$F371,D381),$D$3:$E$368,2),\"\")","v":"St Rémi"},"St Marcel","Ste Roseline","Ste Prisca","St Marius","St Sébastien",null,null,"VENDREDI"]
[null,{"$f":"B378+1","v":3},{"$f":"IF(MONTH(P373+COLUMN()-COLUMN(C375)+(ROW()-ROW(C375)-4)*7)=MONTH(L371),DAY(P373+COLUMN()-COLUMN(C375)+(ROW()-ROW(C375)-4)*7),\"\")","v":14},{"$f":"IF(MONTH(P373+COLUMN()-COLUMN(C375)+(ROW()-ROW(C375)-4)*7)=MONTH(L371),DAY(P373+COLUMN()-COLUMN(C375)+(ROW()-ROW(C375)-4)*7),\"\")","v":15},{"$f":"IF(MONTH(P373+COLUMN()-COLUMN(C375)+(ROW()-ROW(C375)-4)*7)=MONTH(L371),DAY(P373+COLUMN()-COLUMN(C375)+(ROW()-ROW(C375)-4)*7),\"\")","v":16},{"$f":"IF(MONTH(P373+COLUMN()-COLUMN(C375)+(ROW()-ROW(C375)-4)*7)=MONTH(L371),DAY(P373+COLUMN()-COLUMN(C375)+(ROW()-ROW(C375)-4)*7),\"\")","v":17},{"$f":"IF(MONTH(P373+COLUMN()-COLUMN(C375)+(ROW()-ROW(C375)-4)*7)=MONTH(L371),DAY(P373+COLUMN()-COLUMN(C375)+(ROW()-ROW(C375)-4)*7),\"\")","v":18},{"$f":"IF(MONTH(P373+COLUMN()-COLUMN(C375)+(ROW()-ROW(C375)-4)*7)=MONTH(L371),DAY(P373+COLUMN()-COLUMN(C375)+(ROW()-ROW(C375)-4)*7),\"\")","v":19},{"$f":"IF(MONTH(P373+COLUMN()-COLUMN(C375)+(ROW()-ROW(C375)-4)*7)=MONTH(L371),DAY(P373+COLUMN()-COLUMN(C375)+(ROW()-ROW(C375)-4)*7),\"\")","v":20},null,null,"SAMEDI"]
[null,{"$f":"IF(C384<>\"\",VLOOKUP(DATE(1900,$F371,C384),$D$3:$F$368,3),\"\")","v":0},null,{"$f":"IF(D384<>\"\",VLOOKUP(DATE(1900,$F371,D384),$D$3:$F$368,3),\"\")","v":0},0,0,0,0,0,null,null,"DIMANCHE"]
[null,{"$f":"IF(C384<>\"\",VLOOKUP(DATE(1900,$F371,C384),$D$3:$E$368,2),\"\")","v":"Ste Agnès"},null,{"$f":"IF(D384<>\"\",VLOOKUP(DATE(1900,$F371,D384),$D$3:$E$368,2),\"\")","v":"St Vincent"},"St Barnard","St François de Sales","Convers. de St Paul","Ste Paule","Ste Angel"]
[null,{"$f":"B381+1","v":4},{"$f":"IF(MONTH(P373+COLUMN()-COLUMN(C375)+(ROW()-ROW(C375)-6)*7)=MONTH(L371),DAY(P373+COLUMN()-COLUMN(C375)+(ROW()-ROW(C375)-6)*7),\"\")","v":21},{"$f":"IF(MONTH(P373+COLUMN()-COLUMN(C375)+(ROW()-ROW(C375)-6)*7)=MONTH(L371),DAY(P373+COLUMN()-COLUMN(C375)+(ROW()-ROW(C375)-6)*7),\"\")","v":22},{"$f":"IF(MONTH(P373+COLUMN()-COLUMN(C375)+(ROW()-ROW(C375)-6)*7)=MONTH(L371),DAY(P373+COLUMN()-COLUMN(C375)+(ROW()-ROW(C375)-6)*7),\"\")","v":23},{"$f":"IF(MONTH(P373+COLUMN()-COLUMN(C375)+(ROW()-ROW(C375)-6)*7)=MONTH(L371),DAY(P373+COLUMN()-COLUMN(C375)+(ROW()-ROW(C375)-6)*7),\"\")","v":24},{"$f":"IF(MONTH(P373+COLUMN()-COLUMN(C375)+(ROW()-ROW(C375)-6)*7)=MONTH(L371),DAY(P373+COLUMN()-COLUMN(C375)+(ROW()-ROW(C375)-6)*7),\"\")","v":25},{"$f":"IF(MONTH(P373+COLUMN()-COLUMN(C375)+(ROW()-ROW(C375)-6)*7)=MONTH(L371),DAY(P373+COLUMN()-COLUMN(C375)+(ROW()-ROW(C375)-6)*7),\"\")","v":26},{"$f":"IF(MONTH(P373+COLUMN()-COLUMN(C375)+(ROW()-ROW(C375)-6)*7)=MONTH(L371),DAY(P373+COLUMN()-COLUMN(C375)+(ROW()-ROW(C375)-6)*7),\"\")","v":27}]
[null,{"$f":"IF(C387<>\"\",VLOOKUP(DATE(1900,$F371,C387),$D$3:$F$368,3),\"\")","v":0},null,{"$f":"IF(D387<>\"\",VLOOKUP(DATE(1900,$F371,D387),$D$3:$F$368,3),\"\")","v":0},0,0,"","","",null,null,"1900-01-04",{"$f":"IF(L385=D6,F6,\"FAAUX\")","v":"RTY"}]
[null,{"$f":"IF(C387<>\"\",VLOOKUP(DATE(1900,$F371,C387),$D$3:$E$368,2),\"\")","v":"St Thomas d'Aquin"},null,{"$f":"IF(D387<>\"\",VLOOKUP(DATE(1900,$F371,D387),$D$3:$E$368,2),\"\")","v":"St Gildas"},"Ste Martine","Ste Marcelle","","","",null,null,"1900-01-05",{"$f":"IF(L386=D7,F7,\"FAAUX\")","v":"AZE"}]
[null,{"$f":"B384+1","v":5},{"$f":"IF(MONTH(P373+COLUMN()-COLUMN(C375)+(ROW()-ROW(C375)-8)*7)=MONTH(L371),DAY(P373+COLUMN()-COLUMN(C375)+(ROW()-ROW(C375)-8)*7),\"\")","v":28},{"$f":"IF(MONTH(P373+COLUMN()-COLUMN(C375)+(ROW()-ROW(C375)-8)*7)=MONTH(L371),DAY(P373+COLUMN()-COLUMN(C375)+(ROW()-ROW(C375)-8)*7),\"\")","v":29},{"$f":"IF(MONTH(P373+COLUMN()-COLUMN(C375)+(ROW()-ROW(C375)-8)*7)=MONTH(L371),DAY(P373+COLUMN()-COLUMN(C375)+(ROW()-ROW(C375)-8)*7),\"\")","v":30},{"$f":"IF(MONTH(P373+COLUMN()-COLUMN(C375)+(ROW()-ROW(C375)-8)*7)=MONTH(L371),DAY(P373+COLUMN()-COLUMN(C375)+(ROW()-ROW(C375)-8)*7),\"\")","v":31},{"$f":"IF(MONTH(P373+COLUMN()-COLUMN(C375)+(ROW()-ROW(C375)-8)*7)=MONTH(L371),DAY(P373+COLUMN()-COLUMN(C375)+(ROW()-ROW(C375)-8)*7),\"\")","v":""},{"$f":"IF(MONTH(P373+COLUMN()-COLUMN(C375)+(ROW()-ROW(C375)-8)*7)=MONTH(L371),DAY(P373+COLUMN()-COLUMN(C375)+(ROW()-ROW(C375)-8)*7),\"\")","v":""},{"$f":"IF(MONTH(P373+COLUMN()-COLUMN(C375)+(ROW()-ROW(C375)-8)*7)=MONTH(L371),DAY(P373+COLUMN()-COLUMN(C375)+(ROW()-ROW(C375)-8)*7),\"\")","v":""},null,null,"1900-01-06",{"$f":"IF(L387=D8,F8,\"FAAUX\")","v":0}]
[null,null,null,null,null,null,null,null,null,null,null,"1900-01-07",{"$f":"IF(L388=D9,F9,\"FAAUX\")","v":0}]
[null,{"$f":"IF(C390<>\"\",VLOOKUP(DATE(1900,$F371,C390),$D$3:$E$368,2),\"\")","v":""},null,{"$f":"IF(D390<>\"\",VLOOKUP(DATE(1900,$F371,D390),$D$3:$E$368,2),\"\")","v":""},"","","","","",null,{"$f":"TODAY()","v":"2013-04-02"}]
[null,{"$f":"IF(C390=\"\",\"\",IF(B387=P374,1,B387+1))","v":""},{"$f":"IF(MONTH(P373+COLUMN()-COLUMN(C375)+(ROW()-ROW(C375)-10)*7)=MONTH(L371),DAY(P373+COLUMN()-COLUMN(C375)+(ROW()-ROW(C375)-10)*7),\"\")","v":""},{"$f":"IF(MONTH(P373+COLUMN()-COLUMN(C375)+(ROW()-ROW(C375)-10)*7)=MONTH(L371),DAY(P373+COLUMN()-COLUMN(C375)+(ROW()-ROW(C375)-10)*7),\"\")","v":""},{"$f":"IF(MONTH(P373+COLUMN()-COLUMN(C375)+(ROW()-ROW(C375)-10)*7)=MONTH(L371),DAY(P373+COLUMN()-COLUMN(C375)+(ROW()-ROW(C375)-10)*7),\"\")","v":""},{"$f":"IF(MONTH(P373+COLUMN()-COLUMN(C375)+(ROW()-ROW(C375)-10)*7)=MONTH(L371),DAY(P373+COLUMN()-COLUMN(C375)+(ROW()-ROW(C375)-10)*7),\"\")","v":""},{"$f":"IF(MONTH(P373+COLUMN()-COLUMN(C375)+(ROW()-ROW(C375)-10)*7)=MONTH(L371),DAY(P373+COLUMN()-COLUMN(C375)+(ROW()-ROW(C375)-10)*7),\"\")","v":""},{"$f":"IF(MONTH(P373+COLUMN()-COLUMN(C375)+(ROW()-ROW(C375)-10)*7)=MONTH(L371),DAY(P373+COLUMN()-COLUMN(C375)+(ROW()-ROW(C375)-10)*7),\"\")","v":""},{"$f":"IF(MONTH(P373+COLUMN()-COLUMN(C375)+(ROW()-ROW(C375)-10)*7)=MONTH(L371),DAY(P373+COLUMN()-COLUMN(C375)+(ROW()-ROW(C375)-10)*7),\"\")","v":""},null,"2008-01-04",{"$f":"DGET(B371:I390,B372:I372,B373:I374)","v":{"$error":"#VALUE!"}}]
[null,{"$f":"B371","v":"2008"},null,null,{"$f":"IF(C390<>\"\",E371+35,IF(I387=\"\",E371+28,E371+35))","v":39475},{"$f":"F371+1","v":2},null,null,{"$f":"TEXT(DATE(B391,F391,1),\"mmmm\")","v":"février"}]
[null,null,"Lundi","Mardi","Mercredi","Jeudi","Vendredi","Samedi","Dimanche"]
[null,{"$f":"IF(C395<>\"\",VLOOKUP(DATE(1900,$F391,C395),$D$3:$F$368,3),\"\")","v":""},null,{"$f":"IF(D395<>\"\",VLOOKUP(DATE(1900,$F391,D395),$D$3:$F$368,3),\"\")","v":""},"","",0,0,0]
[null,{"$f":"IF(C395<>\"\",VLOOKUP(DATE(1900,$F391,C395),$D$3:$E$368,2),\"\")","v":""},null,{"$f":"IF(D395<>\"\",VLOOKUP(DATE(1900,$F391,D395),$D$3:$E$368,2),\"\")","v":""},"","","Ste Ella","Prés. du Seigneur","St Blaise"]
[null,{"$f":"MAX(B390,B387,B384)+(I390<>\"\")+AND(I387=\"\",C387=\"\")+AND(I387<>\"\",C390=\"\")","v":5},{"$f":"IF(MONTH(E391+COLUMN()-COLUMN(C395)+(ROW()-ROW(C395))*7)=F391,DAY(E391+COLUMN()-COLUMN(C395)+(ROW()-ROW(C395))*7),\"\")","v":""},{"$f":"IF(MONTH(E391+COLUMN()-COLUMN(C395)+(ROW()-ROW(C395))*7)=F391,DAY(E391+COLUMN()-COLUMN(C395)+(ROW()-ROW(C395))*7),\"\")","v":""},{"$f":"IF(MONTH(E391+COLUMN()-COLUMN(C395)+(ROW()-ROW(C395))*7)=F391,DAY(E391+COLUMN()-COLUMN(C395)+(ROW()-ROW(C395))*7),\"\")","v":""},{"$f":"IF(MONTH(E391+COLUMN()-COLUMN(C395)+(ROW()-ROW(C395))*7)=F391,DAY(E391+COLUMN()-COLUMN(C395)+(ROW()-ROW(C395))*7),\"\")","v":""},{"$f":"IF(MONTH(E391+COLUMN()-COLUMN(C395)+(ROW()-ROW(C395))*7)=F391,DAY(E391+COLUMN()-COLUMN(C395)+(ROW()-ROW(C395))*7),\"\")","v":1},{"$f":"IF(MONTH(E391+COLUMN()-COLUMN(C395)+(ROW()-ROW(C395))*7)=F391,DAY(E391+COLUMN()-COLUMN(C395)+(ROW()-ROW(C395))*7),\"\")","v":2},{"$f":"IF(MONTH(E391+COLUMN()-COLUMN(C395)+(ROW()-ROW(C395))*7)=F391,DAY(E391+COLUMN()-COLUMN(C395)+(ROW()-ROW(C395))*7),\"\")","v":3}]
[null,{"$f":"IF(C398<>\"\",VLOOKUP(DATE(1900,$F391,C398),$D$3:$F$368,3),\"\")","v":0},null,{"$f":"IF(D398<>\"\",VLOOKUP(DATE(1900,$F391,D398),$D$3:$F$368,3),\"\")","v":0},0,0,0,0,0]
[null,{"$f":"IF(C398<>\"\",VLOOKUP(DATE(1900,$F391,C398),$D$3:$E$368,2),\"\")","v":"Ste Véronique"},null,{"$f":"IF(D398<>\"\",VLOOKUP(DATE(1900,$F391,D398),$D$3:$E$368,2),\"\")","v":"Ste Agathe"},"St Gaston","Ste Eugénie","Ste Jacqueline","Ste Apolline","St Arnaud"]
[null,{"$f":"(B395+1)-(INT(((B395+1)-1)/$P$374))*$P$374","v":6},{"$f":"IF(MONTH(E391+COLUMN()-COLUMN(C395)+(ROW()-ROW(C395)-2)*7)=F391,DAY(E391+COLUMN()-COLUMN(C395)+(ROW()-ROW(C395)-2)*7),\"\")","v":4},{"$f":"IF(MONTH(E391+COLUMN()-COLUMN(C395)+(ROW()-ROW(C395)-2)*7)=F391,DAY(E391+COLUMN()-COLUMN(C395)+(ROW()-ROW(C395)-2)*7),\"\")","v":5},{"$f":"IF(MONTH(E391+COLUMN()-COLUMN(C395)+(ROW()-ROW(C395)-2)*7)=F391,DAY(E391+COLUMN()-COLUMN(C395)+(ROW()-ROW(C395)-2)*7),\"\")","v":6},{"$f":"IF(MONTH(E391+COLUMN()-COLUMN(C395)+(ROW()-ROW(C395)-2)*7)=F391,DAY(E391+COLUMN()-COLUMN(C395)+(ROW()-ROW(C395)-2)*7),\"\")","v":7},{"$f":"IF(MONTH(E391+COLUMN()-COLUMN(C395)+(ROW()-ROW(C395)-2)*7)=F391,DAY(E391+COLUMN()-COLUMN(C395)+(ROW()-ROW(C395)-2)*7),\"\")","v":8},{"$f":"IF(MONTH(E391+COLUMN()-COLUMN(C395)+(ROW()-ROW(C395)-2)*7)=F391,DAY(E391+COLUMN()-COLUMN(C395)+(ROW()-ROW(C395)-2)*7),\"\")","v":9},{"$f":"IF(MONTH(E391+COLUMN()-COLUMN(C395)+(ROW()-ROW(C395)-2)*7)=F391,DAY(E391+COLUMN()-COLUMN(C395)+(ROW()-ROW(C395)-2)*7),\"\")","v":10}]
[null,{"$f":"IF(C401<>\"\",VLOOKUP(DATE(1900,$F391,C401),$D$3:$F$368,3),\"\")","v":0},null,{"$f":"IF(D401<>\"\",VLOOKUP(DATE(1900,$F391,D401),$D$3:$F$368,3),\"\")","v":0},0,0,0,0,"REMY"]
[null,{"$f":"IF(C401<>\"\",VLOOKUP(DATE(1900,$F391,C401),$D$3:$E$368,2),\"\")","v":"N.-D. de Lourdes"},null,{"$f":"IF(D401<>\"\",VLOOKUP(DATE(1900,$F391,D401),$D$3:$E$368,2),\"\")","v":"St Félix"},"Ste Béatrice","St Valentin","St Claude","Ste Julienne","St Alexis  "]
[null,{"$f":"B398+1","v":7},{"$f":"IF(MONTH(E391+COLUMN()-COLUMN(C395)+(ROW()-ROW(C395)-4)*7)=F391,DAY(E391+COLUMN()-COLUMN(C395)+(ROW()-ROW(C395)-4)*7),\"\")","v":11},{"$f":"IF(MONTH(E391+COLUMN()-COLUMN(C395)+(ROW()-ROW(C395)-4)*7)=F391,DAY(E391+COLUMN()-COLUMN(C395)+(ROW()-ROW(C395)-4)*7),\"\")","v":12},{"$f":"IF(MONTH(E391+COLUMN()-COLUMN(C395)+(ROW()-ROW(C395)-4)*7)=F391,DAY(E391+COLUMN()-COLUMN(C395)+(ROW()-ROW(C395)-4)*7),\"\")","v":13},{"$f":"IF(MONTH(E391+COLUMN()-COLUMN(C395)+(ROW()-ROW(C395)-4)*7)=F391,DAY(E391+COLUMN()-COLUMN(C395)+(ROW()-ROW(C395)-4)*7),\"\")","v":14},{"$f":"IF(MONTH(E391+COLUMN()-COLUMN(C395)+(ROW()-ROW(C395)-4)*7)=F391,DAY(E391+COLUMN()-COLUMN(C395)+(ROW()-ROW(C395)-4)*7),\"\")","v":15},{"$f":"IF(MONTH(E391+COLUMN()-COLUMN(C395)+(ROW()-ROW(C395)-4)*7)=F391,DAY(E391+COLUMN()-COLUMN(C395)+(ROW()-ROW(C395)-4)*7),\"\")","v":16},{"$f":"IF(MONTH(E391+COLUMN()-COLUMN(C395)+(ROW()-ROW(C395)-4)*7)=F391,DAY(E391+COLUMN()-COLUMN(C395)+(ROW()-ROW(C395)-4)*7),\"\")","v":17}]
[null,{"$f":"IF(C404<>\"\",VLOOKUP(DATE(1900,$F391,C404),$D$3:$F$368,3),\"\")","v":0},null,{"$f":"IF(D404<>\"\",VLOOKUP(DATE(1900,$F391,D404),$D$3:$F$368,3),\"\")","v":0},0,0,0,0,0]
[null,{"$f":"IF(C404<>\"\",VLOOKUP(DATE(1900,$F391,C404),$D$3:$E$368,2),\"\")","v":"Ste Bernadette"},null,{"$f":"IF(D404<>\"\",VLOOKUP(DATE(1900,$F391,D404),$D$3:$E$368,2),\"\")","v":"St Gabin"},"Ste Aimée","St P. Damien","Ste Isabelle","St Lazare","St Modeste"]
[null,{"$f":"B401+1","v":8},{"$f":"IF(MONTH(E391+COLUMN()-COLUMN(C395)+(ROW()-ROW(C395)-6)*7)=F391,DAY(E391+COLUMN()-COLUMN(C395)+(ROW()-ROW(C395)-6)*7),\"\")","v":18},{"$f":"IF(MONTH(E391+COLUMN()-COLUMN(C395)+(ROW()-ROW(C395)-6)*7)=F391,DAY(E391+COLUMN()-COLUMN(C395)+(ROW()-ROW(C395)-6)*7),\"\")","v":19},{"$f":"IF(MONTH(E391+COLUMN()-COLUMN(C395)+(ROW()-ROW(C395)-6)*7)=F391,DAY(E391+COLUMN()-COLUMN(C395)+(ROW()-ROW(C395)-6)*7),\"\")","v":20},{"$f":"IF(MONTH(E391+COLUMN()-COLUMN(C395)+(ROW()-ROW(C395)-6)*7)=F391,DAY(E391+COLUMN()-COLUMN(C395)+(ROW()-ROW(C395)-6)*7),\"\")","v":21},{"$f":"IF(MONTH(E391+COLUMN()-COLUMN(C395)+(ROW()-ROW(C395)-6)*7)=F391,DAY(E391+COLUMN()-COLUMN(C395)+(ROW()-ROW(C395)-6)*7),\"\")","v":22},{"$f":"IF(MONTH(E391+COLUMN()-COLUMN(C395)+(ROW()-ROW(C395)-6)*7)=F391,DAY(E391+COLUMN()-COLUMN(C395)+(ROW()-ROW(C395)-6)*7),\"\")","v":23},{"$f":"IF(MONTH(E391+COLUMN()-COLUMN(C395)+(ROW()-ROW(C395)-6)*7)=F391,DAY(E391+COLUMN()-COLUMN(C395)+(ROW()-ROW(C395)-6)*7),\"\")","v":24}]
[null,{"$f":"IF(C407<>\"\",VLOOKUP(DATE(1900,$F391,C407),$D$3:$F$368,3),\"\")","v":0},null,{"$f":"IF(D407<>\"\",VLOOKUP(DATE(1900,$F391,D407),$D$3:$F$368,3),\"\")","v":0},0,0,0,"",""]
[null,{"$f":"IF(C407<>\"\",VLOOKUP(DATE(1900,$F391,C407),$D$3:$E$368,2),\"\")","v":"St Roméo"},null,{"$f":"IF(D407<>\"\",VLOOKUP(DATE(1900,$F391,D407),$D$3:$E$368,2),\"\")","v":"St Nestor"},"St Honorine","St Romain","St Auguste","",""]
[null,{"$f":"IF(C407=\"\",\"\",IF(B404=H389,1,B404+1))","v":9},{"$f":"IF(MONTH(E391+COLUMN()-COLUMN(C395)+(ROW()-ROW(C395)-8)*7)=F391,DAY(E391+COLUMN()-COLUMN(C395)+(ROW()-ROW(C395)-8)*7),\"\")","v":25},{"$f":"IF(MONTH(E391+COLUMN()-COLUMN(C395)+(ROW()-ROW(C395)-8)*7)=F391,DAY(E391+COLUMN()-COLUMN(C395)+(ROW()-ROW(C395)-8)*7),\"\")","v":26},{"$f":"IF(MONTH(E391+COLUMN()-COLUMN(C395)+(ROW()-ROW(C395)-8)*7)=F391,DAY(E391+COLUMN()-COLUMN(C395)+(ROW()-ROW(C395)-8)*7),\"\")","v":27},{"$f":"IF(MONTH(E391+COLUMN()-COLUMN(C395)+(ROW()-ROW(C395)-8)*7)=F391,DAY(E391+COLUMN()-COLUMN(C395)+(ROW()-ROW(C395)-8)*7),\"\")","v":28},{"$f":"IF(MONTH(E391+COLUMN()-COLUMN(C395)+(ROW()-ROW(C395)-8)*7)=F391,DAY(E391+COLUMN()-COLUMN(C395)+(ROW()-ROW(C395)-8)*7),\"\")","v":29},{"$f":"IF(MONTH(E391+COLUMN()-COLUMN(C395)+(ROW()-ROW(C395)-8)*7)=F391,DAY(E391+COLUMN()-COLUMN(C395)+(ROW()-ROW(C395)-8)*7),\"\")","v":""},{"$f":"IF(MONTH(E391+COLUMN()-COLUMN(C395)+(ROW()-ROW(C395)-8)*7)=F391,DAY(E391+COLUMN()-COLUMN(C395)+(ROW()-ROW(C395)-8)*7),\"\")","v":""}]
[]
[null,{"$f":"IF(C410<>\"\",VLOOKUP(DATE(1900,$F391,C410),$D$3:$E$368,2),\"\")","v":""},null,{"$f":"IF(D410<>\"\",VLOOKUP(DATE(1900,$F391,D410),$D$3:$E$368,2),\"\")","v":""},"","","","",""]
[null,{"$f":"IF(C410=\"\",\"\",IF(B407=H389,1,B407+1))","v":""},{"$f":"IF(MONTH(E391+COLUMN()-COLUMN(C395)+(ROW()-ROW(C395)-10)*7)=F391,DAY(E391+COLUMN()-COLUMN(C395)+(ROW()-ROW(C395)-10)*7),\"\")","v":""},{"$f":"IF(MONTH(E391+COLUMN()-COLUMN(C395)+(ROW()-ROW(C395)-10)*7)=F391,DAY(E391+COLUMN()-COLUMN(C395)+(ROW()-ROW(C395)-10)*7),\"\")","v":""},{"$f":"IF(MONTH(E391+COLUMN()-COLUMN(C395)+(ROW()-ROW(C395)-10)*7)=F391,DAY(E391+COLUMN()-COLUMN(C395)+(ROW()-ROW(C395)-10)*7),\"\")","v":""},{"$f":"IF(MONTH(E391+COLUMN()-COLUMN(C395)+(ROW()-ROW(C395)-10)*7)=F391,DAY(E391+COLUMN()-COLUMN(C395)+(ROW()-ROW(C395)-10)*7),\"\")","v":""},{"$f":"IF(MONTH(E391+COLUMN()-COLUMN(C395)+(ROW()-ROW(C395)-10)*7)=F391,DAY(E391+COLUMN()-COLUMN(C395)+(ROW()-ROW(C395)-10)*7),\"\")","v":""},{"$f":"IF(MONTH(E391+COLUMN()-COLUMN(C395)+(ROW()-ROW(C395)-10)*7)=F391,DAY(E391+COLUMN()-COLUMN(C395)+(ROW()-ROW(C395)-10)*7),\"\")","v":""},{"$f":"IF(MONTH(E391+COLUMN()-COLUMN(C395)+(ROW()-ROW(C395)-10)*7)=F391,DAY(E391+COLUMN()-COLUMN(C395)+(ROW()-ROW(C395)-10)*7),\"\")","v":""}]
[null,{"$f":"B391","v":"2008"},null,null,{"$f":"IF(C410<>\"\",E391+35,IF(I407=\"\",E391+28,E391+35))","v":39503},{"$f":"F391+1","v":3},null,null,{"$f":"TEXT(DATE(B411,F411,1),\"mmmm\")","v":"mars"}]
[null,null,"Lundi","Mardi","Mercredi","Jeudi","Vendredi","Samedi","Dimanche"]
[null,{"$f":"IF(C415<>\"\",VLOOKUP(DATE(1900,$F411,C415),$D$3:$F$368,3),\"\")","v":""},null,{"$f":"IF(D415<>\"\",VLOOKUP(DATE(1900,$F411,D415),$D$3:$F$368,3),\"\")","v":""},"","","",0,0]
[null,{"$f":"IF(C415<>\"\",VLOOKUP(DATE(1900,$F411,C415),$D$3:$E$368,2),\"\")","v":""},null,{"$f":"IF(D415<>\"\",VLOOKUP(DATE(1900,$F411,D415),$D$3:$E$368,2),\"\")","v":""},"","","","St Aubin","St Charles le Bon"]
[null,{"$f":"MAX(B410,B407,B404)+(I410<>\"\")+AND(I407=\"\",C407=\"\")+AND(I407<>\"\",C410=\"\")","v":9},{"$f":"IF(MONTH(E411+COLUMN()-COLUMN(C415)+(ROW()-ROW(C415))*7)=F411,DAY(E411+COLUMN()-COLUMN(C415)+(ROW()-ROW(C415))*7),\"\")","v":""},{"$f":"IF(MONTH(E411+COLUMN()-COLUMN(C415)+(ROW()-ROW(C415))*7)=F411,DAY(E411+COLUMN()-COLUMN(C415)+(ROW()-ROW(C415))*7),\"\")","v":""},{"$f":"IF(MONTH(E411+COLUMN()-COLUMN(C415)+(ROW()-ROW(C415))*7)=F411,DAY(E411+COLUMN()-COLUMN(C415)+(ROW()-ROW(C415))*7),\"\")","v":""},{"$f":"IF(MONTH(E411+COLUMN()-COLUMN(C415)+(ROW()-ROW(C415))*7)=F411,DAY(E411+COLUMN()-COLUMN(C415)+(ROW()-ROW(C415))*7),\"\")","v":""},{"$f":"IF(MONTH(E411+COLUMN()-COLUMN(C415)+(ROW()-ROW(C415))*7)=F411,DAY(E411+COLUMN()-COLUMN(C415)+(ROW()-ROW(C415))*7),\"\")","v":""},{"$f":"IF(MONTH(E411+COLUMN()-COLUMN(C415)+(ROW()-ROW(C415))*7)=F411,DAY(E411+COLUMN()-COLUMN(C415)+(ROW()-ROW(C415))*7),\"\")","v":1},{"$f":"IF(MONTH(E411+COLUMN()-COLUMN(C415)+(ROW()-ROW(C415))*7)=F411,DAY(E411+COLUMN()-COLUMN(C415)+(ROW()-ROW(C415))*7),\"\")","v":2}]
[null,{"$f":"IF(C418<>\"\",VLOOKUP(DATE(1900,$F411,C418),$D$3:$F$368,3),\"\")","v":0},null,{"$f":"IF(D418<>\"\",VLOOKUP(DATE(1900,$F411,D418),$D$3:$F$368,3),\"\")","v":0},0,0,0,0,0]
[null,{"$f":"IF(C418<>\"\",VLOOKUP(DATE(1900,$F411,C418),$D$3:$E$368,2),\"\")","v":"St Gwénolé"},null,{"$f":"IF(D418<>\"\",VLOOKUP(DATE(1900,$F411,D418),$D$3:$E$368,2),\"\")","v":"St Casimir"},"Ste Olivia","Ste Colette","Ste Félicité","St Jean-de-Dieu","Ste Françoise R."]
[null,{"$f":"(B415+1)-(INT(((B415+1)-1)/$P$374))*$P$374","v":10},{"$f":"IF(MONTH(E411+COLUMN()-COLUMN(C415)+(ROW()-ROW(C415)-2)*7)=F411,DAY(E411+COLUMN()-COLUMN(C415)+(ROW()-ROW(C415)-2)*7),\"\")","v":3},{"$f":"IF(MONTH(E411+COLUMN()-COLUMN(C415)+(ROW()-ROW(C415)-2)*7)=F411,DAY(E411+COLUMN()-COLUMN(C415)+(ROW()-ROW(C415)-2)*7),\"\")","v":4},{"$f":"IF(MONTH(E411+COLUMN()-COLUMN(C415)+(ROW()-ROW(C415)-2)*7)=F411,DAY(E411+COLUMN()-COLUMN(C415)+(ROW()-ROW(C415)-2)*7),\"\")","v":5},{"$f":"IF(MONTH(E411+COLUMN()-COLUMN(C415)+(ROW()-ROW(C415)-2)*7)=F411,DAY(E411+COLUMN()-COLUMN(C415)+(ROW()-ROW(C415)-2)*7),\"\")","v":6},{"$f":"IF(MONTH(E411+COLUMN()-COLUMN(C415)+(ROW()-ROW(C415)-2)*7)=F411,DAY(E411+COLUMN()-COLUMN(C415)+(ROW()-ROW(C415)-2)*7),\"\")","v":7},{"$f":"IF(MONTH(E411+COLUMN()-COLUMN(C415)+(ROW()-ROW(C415)-2)*7)=F411,DAY(E411+COLUMN()-COLUMN(C415)+(ROW()-ROW(C415)-2)*7),\"\")","v":8},{"$f":"IF(MONTH(E411+COLUMN()-COLUMN(C415)+(ROW()-ROW(C415)-2)*7)=F411,DAY(E411+COLUMN()-COLUMN(C415)+(ROW()-ROW(C415)-2)*7),\"\")","v":9}]
[null,{"$f":"IF(C421<>\"\",VLOOKUP(DATE(1900,$F411,C421),$D$3:$F$368,3),\"\")","v":0},null,{"$f":"IF(D421<>\"\",VLOOKUP(DATE(1900,$F411,D421),$D$3:$F$368,3),\"\")","v":0},0,0,0,"JEAN CLAUDE",0]
[null,{"$f":"IF(C421<>\"\",VLOOKUP(DATE(1900,$F411,C421),$D$3:$E$368,2),\"\")","v":"St Vivien"},null,{"$f":"IF(D421<>\"\",VLOOKUP(DATE(1900,$F411,D421),$D$3:$E$368,2),\"\")","v":"Ste Rosine"},"Ste Justine","St Rodrigue","Ste Mathilde","Ste Louise M. ","Ste Bénédicte"]
[null,{"$f":"B418+1","v":11},{"$f":"IF(MONTH(E411+COLUMN()-COLUMN(C415)+(ROW()-ROW(C415)-4)*7)=F411,DAY(E411+COLUMN()-COLUMN(C415)+(ROW()-ROW(C415)-4)*7),\"\")","v":10},{"$f":"IF(MONTH(E411+COLUMN()-COLUMN(C415)+(ROW()-ROW(C415)-4)*7)=F411,DAY(E411+COLUMN()-COLUMN(C415)+(ROW()-ROW(C415)-4)*7),\"\")","v":11},{"$f":"IF(MONTH(E411+COLUMN()-COLUMN(C415)+(ROW()-ROW(C415)-4)*7)=F411,DAY(E411+COLUMN()-COLUMN(C415)+(ROW()-ROW(C415)-4)*7),\"\")","v":12},{"$f":"IF(MONTH(E411+COLUMN()-COLUMN(C415)+(ROW()-ROW(C415)-4)*7)=F411,DAY(E411+COLUMN()-COLUMN(C415)+(ROW()-ROW(C415)-4)*7),\"\")","v":13},{"$f":"IF(MONTH(E411+COLUMN()-COLUMN(C415)+(ROW()-ROW(C415)-4)*7)=F411,DAY(E411+COLUMN()-COLUMN(C415)+(ROW()-ROW(C415)-4)*7),\"\")","v":14},{"$f":"IF(MONTH(E411+COLUMN()-COLUMN(C415)+(ROW()-ROW(C415)-4)*7)=F411,DAY(E411+COLUMN()-COLUMN(C415)+(ROW()-ROW(C415)-4)*7),\"\")","v":15},{"$f":"IF(MONTH(E411+COLUMN()-COLUMN(C415)+(ROW()-ROW(C415)-4)*7)=F411,DAY(E411+COLUMN()-COLUMN(C415)+(ROW()-ROW(C415)-4)*7),\"\")","v":16}]
[null,{"$f":"IF(C424<>\"\",VLOOKUP(DATE(1900,$F411,C424),$D$3:$F$368,3),\"\")","v":0},null,{"$f":"IF(D424<>\"\",VLOOKUP(DATE(1900,$F411,D424),$D$3:$F$368,3),\"\")","v":0},0,"ALEXANDRE","PAPA",0,0]
[null,{"$f":"IF(C424<>\"\",VLOOKUP(DATE(1900,$F411,C424),$D$3:$E$368,2),\"\")","v":"St Patrice"},null,{"$f":"IF(D424<>\"\",VLOOKUP(DATE(1900,$F411,D424),$D$3:$E$368,2),\"\")","v":"St Cyrille"},"St Joseph","Printemps ","Ste Clémence","Ste Léa","St Victorien "]
[null,{"$f":"B421+1","v":12},{"$f":"IF(MONTH(E411+COLUMN()-COLUMN(C415)+(ROW()-ROW(C415)-6)*7)=F411,DAY(E411+COLUMN()-COLUMN(C415)+(ROW()-ROW(C415)-6)*7),\"\")","v":17},{"$f":"IF(MONTH(E411+COLUMN()-COLUMN(C415)+(ROW()-ROW(C415)-6)*7)=F411,DAY(E411+COLUMN()-COLUMN(C415)+(ROW()-ROW(C415)-6)*7),\"\")","v":18},{"$f":"IF(MONTH(E411+COLUMN()-COLUMN(C415)+(ROW()-ROW(C415)-6)*7)=F411,DAY(E411+COLUMN()-COLUMN(C415)+(ROW()-ROW(C415)-6)*7),\"\")","v":19},{"$f":"IF(MONTH(E411+COLUMN()-COLUMN(C415)+(ROW()-ROW(C415)-6)*7)=F411,DAY(E411+COLUMN()-COLUMN(C415)+(ROW()-ROW(C415)-6)*7),\"\")","v":20},{"$f":"IF(MONTH(E411+COLUMN()-COLUMN(C415)+(ROW()-ROW(C415)-6)*7)=F411,DAY(E411+COLUMN()-COLUMN(C415)+(ROW()-ROW(C415)-6)*7),\"\")","v":21},{"$f":"IF(MONTH(E411+COLUMN()-COLUMN(C415)+(ROW()-ROW(C415)-6)*7)=F411,DAY(E411+COLUMN()-COLUMN(C415)+(ROW()-ROW(C415)-6)*7),\"\")","v":22},{"$f":"IF(MONTH(E411+COLUMN()-COLUMN(C415)+(ROW()-ROW(C415)-6)*7)=F411,DAY(E411+COLUMN()-COLUMN(C415)+(ROW()-ROW(C415)-6)*7),\"\")","v":23}]
[null,{"$f":"IF(C427<>\"\",VLOOKUP(DATE(1900,$F411,C427),$D$3:$F$368,3),\"\")","v":0},null,{"$f":"IF(D427<>\"\",VLOOKUP(DATE(1900,$F411,D427),$D$3:$F$368,3),\"\")","v":0},0,0,0,0,0]
[null,{"$f":"IF(C427<>\"\",VLOOKUP(DATE(1900,$F411,C427),$D$3:$E$368,2),\"\")","v":"Ste Catherine"},null,{"$f":"IF(D427<>\"\",VLOOKUP(DATE(1900,$F411,D427),$D$3:$E$368,2),\"\")","v":"Annonciation"},"Ste Larissa","St Habib","St Gontran","Ste Gwladys","St Amédée"]
[null,{"$f":"IF(C427=\"\",\"\",IF(B424=H409,1,B424+1))","v":13},{"$f":"IF(MONTH(E411+COLUMN()-COLUMN(C415)+(ROW()-ROW(C415)-8)*7)=F411,DAY(E411+COLUMN()-COLUMN(C415)+(ROW()-ROW(C415)-8)*7),\"\")","v":24},{"$f":"IF(MONTH(E411+COLUMN()-COLUMN(C415)+(ROW()-ROW(C415)-8)*7)=F411,DAY(E411+COLUMN()-COLUMN(C415)+(ROW()-ROW(C415)-8)*7),\"\")","v":25},{"$f":"IF(MONTH(E411+COLUMN()-COLUMN(C415)+(ROW()-ROW(C415)-8)*7)=F411,DAY(E411+COLUMN()-COLUMN(C415)+(ROW()-ROW(C415)-8)*7),\"\")","v":26},{"$f":"IF(MONTH(E411+COLUMN()-COLUMN(C415)+(ROW()-ROW(C415)-8)*7)=F411,DAY(E411+COLUMN()-COLUMN(C415)+(ROW()-ROW(C415)-8)*7),\"\")","v":27},{"$f":"IF(MONTH(E411+COLUMN()-COLUMN(C415)+(ROW()-ROW(C415)-8)*7)=F411,DAY(E411+COLUMN()-COLUMN(C415)+(ROW()-ROW(C415)-8)*7),\"\")","v":28},{"$f":"IF(MONTH(E411+COLUMN()-COLUMN(C415)+(ROW()-ROW(C415)-8)*7)=F411,DAY(E411+COLUMN()-COLUMN(C415)+(ROW()-ROW(C415)-8)*7),\"\")","v":29},{"$f":"IF(MONTH(E411+COLUMN()-COLUMN(C415)+(ROW()-ROW(C415)-8)*7)=F411,DAY(E411+COLUMN()-COLUMN(C415)+(ROW()-ROW(C415)-8)*7),\"\")","v":30}]
[null,{"$f":"IF(C430<>\"\",VLOOKUP(DATE(1900,$F411,C430),$D$3:$F$368,3),\"\")","v":0},null,{"$f":"IF(D430<>\"\",VLOOKUP(DATE(1900,$F411,D430),$D$3:$F$368,3),\"\")","v":""}]
[null,{"$f":"IF(C430<>\"\",VLOOKUP(DATE(1900,$F411,C430),$D$3:$E$368,2),\"\")","v":"St Benjamin"},null,{"$f":"IF(D430<>\"\",VLOOKUP(DATE(1900,$F411,D430),$D$3:$E$368,2),\"\")","v":""},"","","","",""]
[null,{"$f":"IF(C430=\"\",\"\",IF(B427=H409,1,B427+1))","v":14},{"$f":"IF(MONTH(E411+COLUMN()-COLUMN(C415)+(ROW()-ROW(C415)-10)*7)=F411,DAY(E411+COLUMN()-COLUMN(C415)+(ROW()-ROW(C415)-10)*7),\"\")","v":31},{"$f":"IF(MONTH(E411+COLUMN()-COLUMN(C415)+(ROW()-ROW(C415)-10)*7)=F411,DAY(E411+COLUMN()-COLUMN(C415)+(ROW()-ROW(C415)-10)*7),\"\")","v":""},{"$f":"IF(MONTH(E411+COLUMN()-COLUMN(C415)+(ROW()-ROW(C415)-10)*7)=F411,DAY(E411+COLUMN()-COLUMN(C415)+(ROW()-ROW(C415)-10)*7),\"\")","v":""},{"$f":"IF(MONTH(E411+COLUMN()-COLUMN(C415)+(ROW()-ROW(C415)-10)*7)=F411,DAY(E411+COLUMN()-COLUMN(C415)+(ROW()-ROW(C415)-10)*7),\"\")","v":""},{"$f":"IF(MONTH(E411+COLUMN()-COLUMN(C415)+(ROW()-ROW(C415)-10)*7)=F411,DAY(E411+COLUMN()-COLUMN(C415)+(ROW()-ROW(C415)-10)*7),\"\")","v":""},{"$f":"IF(MONTH(E411+COLUMN()-COLUMN(C415)+(ROW()-ROW(C415)-10)*7)=F411,DAY(E411+COLUMN()-COLUMN(C415)+(ROW()-ROW(C415)-10)*7),\"\")","v":""},{"$f":"IF(MONTH(E411+COLUMN()-COLUMN(C415)+(ROW()-ROW(C415)-10)*7)=F411,DAY(E411+COLUMN()-COLUMN(C415)+(ROW()-ROW(C415)-10)*7),\"\")","v":""}]
[null,{"$f":"B411","v":"2008"},null,null,{"$f":"IF(C430<>\"\",E411+35,IF(I427=\"\",E411+28,E411+35))","v":39538},{"$f":"F411+1","v":4},null,null,{"$f":"TEXT(DATE(B431,F431,1),\"mmmm\")","v":"avril"}]
[null,null,"Lundi","Mardi","Mercredi","Jeudi","Vendredi","Samedi","Dimanche"]
[null,{"$f":"IF(C435<>\"\",VLOOKUP(DATE(1900,$F431,C435),$D$3:$F$368,3),\"\")","v":""},null,{"$f":"IF(D435<>\"\",VLOOKUP(DATE(1900,$F431,D435),$D$3:$F$368,3),\"\")","v":0},0,0,0,0,0]
[null,{"$f":"IF(C435<>\"\",VLOOKUP(DATE(1900,$F431,C435),$D$3:$E$368,2),\"\")","v":""},null,{"$f":"IF(D435<>\"\",VLOOKUP(DATE(1900,$F431,D435),$D$3:$E$368,2),\"\")","v":"St Hugues"},"Ste Sandrine","St Richard","St Isidore","Ste  Irène","St Marcellin"]
[null,{"$f":"MAX(B430,B427,B424)+(I430<>\"\")+AND(I427=\"\",C427=\"\")+AND(I427<>\"\",C430=\"\")","v":14},{"$f":"IF(MONTH(E431+COLUMN()-COLUMN(C435)+(ROW()-ROW(C435))*7)=F431,DAY(E431+COLUMN()-COLUMN(C435)+(ROW()-ROW(C435))*7),\"\")","v":""},{"$f":"IF(MONTH(E431+COLUMN()-COLUMN(C435)+(ROW()-ROW(C435))*7)=F431,DAY(E431+COLUMN()-COLUMN(C435)+(ROW()-ROW(C435))*7),\"\")","v":1},{"$f":"IF(MONTH(E431+COLUMN()-COLUMN(C435)+(ROW()-ROW(C435))*7)=F431,DAY(E431+COLUMN()-COLUMN(C435)+(ROW()-ROW(C435))*7),\"\")","v":2},{"$f":"IF(MONTH(E431+COLUMN()-COLUMN(C435)+(ROW()-ROW(C435))*7)=F431,DAY(E431+COLUMN()-COLUMN(C435)+(ROW()-ROW(C435))*7),\"\")","v":3},{"$f":"IF(MONTH(E431+COLUMN()-COLUMN(C435)+(ROW()-ROW(C435))*7)=F431,DAY(E431+COLUMN()-COLUMN(C435)+(ROW()-ROW(C435))*7),\"\")","v":4},{"$f":"IF(MONTH(E431+COLUMN()-COLUMN(C435)+(ROW()-ROW(C435))*7)=F431,DAY(E431+COLUMN()-COLUMN(C435)+(ROW()-ROW(C435))*7),\"\")","v":5},{"$f":"IF(MONTH(E431+COLUMN()-COLUMN(C435)+(ROW()-ROW(C435))*7)=F431,DAY(E431+COLUMN()-COLUMN(C435)+(ROW()-ROW(C435))*7),\"\")","v":6}]
[null,{"$f":"IF(C438<>\"\",VLOOKUP(DATE(1900,$F431,C438),$D$3:$F$368,3),\"\")","v":0},null,{"$f":"IF(D438<>\"\",VLOOKUP(DATE(1900,$F431,D438),$D$3:$F$368,3),\"\")","v":0},0,0,0,0,0]
[null,{"$f":"IF(C438<>\"\",VLOOKUP(DATE(1900,$F431,C438),$D$3:$E$368,2),\"\")","v":"St J.-B. de Salle"},null,{"$f":"IF(D438<>\"\",VLOOKUP(DATE(1900,$F431,D438),$D$3:$E$368,2),\"\")","v":"Ste Julie"},"St Gautier","St Fulbert","St Stanislas","St Jules","Ste Ida"]
[null,{"$f":"(B435+1)-(INT(((B435+1)-1)/$P$374))*$P$374","v":15},{"$f":"IF(MONTH(E431+COLUMN()-COLUMN(C435)+(ROW()-ROW(C435)-2)*7)=F431,DAY(E431+COLUMN()-COLUMN(C435)+(ROW()-ROW(C435)-2)*7),\"\")","v":7},{"$f":"IF(MONTH(E431+COLUMN()-COLUMN(C435)+(ROW()-ROW(C435)-2)*7)=F431,DAY(E431+COLUMN()-COLUMN(C435)+(ROW()-ROW(C435)-2)*7),\"\")","v":8},{"$f":"IF(MONTH(E431+COLUMN()-COLUMN(C435)+(ROW()-ROW(C435)-2)*7)=F431,DAY(E431+COLUMN()-COLUMN(C435)+(ROW()-ROW(C435)-2)*7),\"\")","v":9},{"$f":"IF(MONTH(E431+COLUMN()-COLUMN(C435)+(ROW()-ROW(C435)-2)*7)=F431,DAY(E431+COLUMN()-COLUMN(C435)+(ROW()-ROW(C435)-2)*7),\"\")","v":10},{"$f":"IF(MONTH(E431+COLUMN()-COLUMN(C435)+(ROW()-ROW(C435)-2)*7)=F431,DAY(E431+COLUMN()-COLUMN(C435)+(ROW()-ROW(C435)-2)*7),\"\")","v":11},{"$f":"IF(MONTH(E431+COLUMN()-COLUMN(C435)+(ROW()-ROW(C435)-2)*7)=F431,DAY(E431+COLUMN()-COLUMN(C435)+(ROW()-ROW(C435)-2)*7),\"\")","v":12},{"$f":"IF(MONTH(E431+COLUMN()-COLUMN(C435)+(ROW()-ROW(C435)-2)*7)=F431,DAY(E431+COLUMN()-COLUMN(C435)+(ROW()-ROW(C435)-2)*7),\"\")","v":13}]
[null,{"$f":"IF(C441<>\"\",VLOOKUP(DATE(1900,$F431,C441),$D$3:$F$368,3),\"\")","v":0},null,{"$f":"IF(D441<>\"\",VLOOKUP(DATE(1900,$F431,D441),$D$3:$F$368,3),\"\")","v":0},0,0,0,0,0]
[null,{"$f":"IF(C441<>\"\",VLOOKUP(DATE(1900,$F431,C441),$D$3:$E$368,2),\"\")","v":"St Maxime"},null,{"$f":"IF(D441<>\"\",VLOOKUP(DATE(1900,$F431,D441),$D$3:$E$368,2),\"\")","v":"St Paterne"},"St Benoît-Joseph","St Et. Harding","St Parfait","Ste Emma","Ste Odette"]
[null,{"$f":"B438+1","v":16},{"$f":"IF(MONTH(E431+COLUMN()-COLUMN(C435)+(ROW()-ROW(C435)-4)*7)=F431,DAY(E431+COLUMN()-COLUMN(C435)+(ROW()-ROW(C435)-4)*7),\"\")","v":14},{"$f":"IF(MONTH(E431+COLUMN()-COLUMN(C435)+(ROW()-ROW(C435)-4)*7)=F431,DAY(E431+COLUMN()-COLUMN(C435)+(ROW()-ROW(C435)-4)*7),\"\")","v":15},{"$f":"IF(MONTH(E431+COLUMN()-COLUMN(C435)+(ROW()-ROW(C435)-4)*7)=F431,DAY(E431+COLUMN()-COLUMN(C435)+(ROW()-ROW(C435)-4)*7),\"\")","v":16},{"$f":"IF(MONTH(E431+COLUMN()-COLUMN(C435)+(ROW()-ROW(C435)-4)*7)=F431,DAY(E431+COLUMN()-COLUMN(C435)+(ROW()-ROW(C435)-4)*7),\"\")","v":17},{"$f":"IF(MONTH(E431+COLUMN()-COLUMN(C435)+(ROW()-ROW(C435)-4)*7)=F431,DAY(E431+COLUMN()-COLUMN(C435)+(ROW()-ROW(C435)-4)*7),\"\")","v":18},{"$f":"IF(MONTH(E431+COLUMN()-COLUMN(C435)+(ROW()-ROW(C435)-4)*7)=F431,DAY(E431+COLUMN()-COLUMN(C435)+(ROW()-ROW(C435)-4)*7),\"\")","v":19},{"$f":"IF(MONTH(E431+COLUMN()-COLUMN(C435)+(ROW()-ROW(C435)-4)*7)=F431,DAY(E431+COLUMN()-COLUMN(C435)+(ROW()-ROW(C435)-4)*7),\"\")","v":20}]
[null,{"$f":"IF(C444<>\"\",VLOOKUP(DATE(1900,$F431,C444),$D$3:$F$368,3),\"\")","v":0},null,{"$f":"IF(D444<>\"\",VLOOKUP(DATE(1900,$F431,D444),$D$3:$F$368,3),\"\")","v":0},0,0,0,0,0]
[null,{"$f":"IF(C444<>\"\",VLOOKUP(DATE(1900,$F431,C444),$D$3:$E$368,2),\"\")","v":"St Anselme"},null,{"$f":"IF(D444<>\"\",VLOOKUP(DATE(1900,$F431,D444),$D$3:$E$368,2),\"\")","v":"St Alexandre"},"St Georges","St Fidèle","Souvenir Déportés","Ste Alida","Ste Zita"]
[null,{"$f":"B441+1","v":17},{"$f":"IF(MONTH(E431+COLUMN()-COLUMN(C435)+(ROW()-ROW(C435)-6)*7)=F431,DAY(E431+COLUMN()-COLUMN(C435)+(ROW()-ROW(C435)-6)*7),\"\")","v":21},{"$f":"IF(MONTH(E431+COLUMN()-COLUMN(C435)+(ROW()-ROW(C435)-6)*7)=F431,DAY(E431+COLUMN()-COLUMN(C435)+(ROW()-ROW(C435)-6)*7),\"\")","v":22},{"$f":"IF(MONTH(E431+COLUMN()-COLUMN(C435)+(ROW()-ROW(C435)-6)*7)=F431,DAY(E431+COLUMN()-COLUMN(C435)+(ROW()-ROW(C435)-6)*7),\"\")","v":23},{"$f":"IF(MONTH(E431+COLUMN()-COLUMN(C435)+(ROW()-ROW(C435)-6)*7)=F431,DAY(E431+COLUMN()-COLUMN(C435)+(ROW()-ROW(C435)-6)*7),\"\")","v":24},{"$f":"IF(MONTH(E431+COLUMN()-COLUMN(C435)+(ROW()-ROW(C435)-6)*7)=F431,DAY(E431+COLUMN()-COLUMN(C435)+(ROW()-ROW(C435)-6)*7),\"\")","v":25},{"$f":"IF(MONTH(E431+COLUMN()-COLUMN(C435)+(ROW()-ROW(C435)-6)*7)=F431,DAY(E431+COLUMN()-COLUMN(C435)+(ROW()-ROW(C435)-6)*7),\"\")","v":26},{"$f":"IF(MONTH(E431+COLUMN()-COLUMN(C435)+(ROW()-ROW(C435)-6)*7)=F431,DAY(E431+COLUMN()-COLUMN(C435)+(ROW()-ROW(C435)-6)*7),\"\")","v":27}]
[null,{"$f":"IF(C447<>\"\",VLOOKUP(DATE(1900,$F431,C447),$D$3:$F$368,3),\"\")","v":0},null,{"$f":"IF(D447<>\"\",VLOOKUP(DATE(1900,$F431,D447),$D$3:$F$368,3),\"\")","v":0},0,"","","",""]
[null,{"$f":"IF(C447<>\"\",VLOOKUP(DATE(1900,$F431,C447),$D$3:$E$368,2),\"\")","v":"Ste Valérie"},null,{"$f":"IF(D447<>\"\",VLOOKUP(DATE(1900,$F431,D447),$D$3:$E$368,2),\"\")","v":"Ste C. de Sienne"},"St Robert","","","",""]
[null,{"$f":"IF(C447=\"\",\"\",IF(B444=H429,1,B444+1))","v":18},{"$f":"IF(MONTH(E431+COLUMN()-COLUMN(C435)+(ROW()-ROW(C435)-8)*7)=F431,DAY(E431+COLUMN()-COLUMN(C435)+(ROW()-ROW(C435)-8)*7),\"\")","v":28},{"$f":"IF(MONTH(E431+COLUMN()-COLUMN(C435)+(ROW()-ROW(C435)-8)*7)=F431,DAY(E431+COLUMN()-COLUMN(C435)+(ROW()-ROW(C435)-8)*7),\"\")","v":29},{"$f":"IF(MONTH(E431+COLUMN()-COLUMN(C435)+(ROW()-ROW(C435)-8)*7)=F431,DAY(E431+COLUMN()-COLUMN(C435)+(ROW()-ROW(C435)-8)*7),\"\")","v":30},{"$f":"IF(MONTH(E431+COLUMN()-COLUMN(C435)+(ROW()-ROW(C435)-8)*7)=F431,DAY(E431+COLUMN()-COLUMN(C435)+(ROW()-ROW(C435)-8)*7),\"\")","v":""},{"$f":"IF(MONTH(E431+COLUMN()-COLUMN(C435)+(ROW()-ROW(C435)-8)*7)=F431,DAY(E431+COLUMN()-COLUMN(C435)+(ROW()-ROW(C435)-8)*7),\"\")","v":""},{"$f":"IF(MONTH(E431+COLUMN()-COLUMN(C435)+(ROW()-ROW(C435)-8)*7)=F431,DAY(E431+COLUMN()-COLUMN(C435)+(ROW()-ROW(C435)-8)*7),\"\")","v":""},{"$f":"IF(MONTH(E431+COLUMN()-COLUMN(C435)+(ROW()-ROW(C435)-8)*7)=F431,DAY(E431+COLUMN()-COLUMN(C435)+(ROW()-ROW(C435)-8)*7),\"\")","v":""}]
[null,{"$f":"IF(C450<>\"\",VLOOKUP(DATE(1900,$F431,C450),$D$3:$F$368,3),\"\")","v":""},null,{"$f":"IF(D450<>\"\",VLOOKUP(DATE(1900,$F431,D450),$D$3:$F$368,3),\"\")","v":""},"","","","",""]
[null,{"$f":"IF(C450<>\"\",VLOOKUP(DATE(1900,$F431,C450),$D$3:$E$368,2),\"\")","v":""},null,{"$f":"IF(D450<>\"\",VLOOKUP(DATE(1900,$F431,D450),$D$3:$E$368,2),\"\")","v":""},"","","","",""]
[null,{"$f":"IF(C450=\"\",\"\",IF(B447=H429,1,B447+1))","v":""},{"$f":"IF(MONTH(E431+COLUMN()-COLUMN(C435)+(ROW()-ROW(C435)-10)*7)=F431,DAY(E431+COLUMN()-COLUMN(C435)+(ROW()-ROW(C435)-10)*7),\"\")","v":""},{"$f":"IF(MONTH(E431+COLUMN()-COLUMN(C435)+(ROW()-ROW(C435)-10)*7)=F431,DAY(E431+COLUMN()-COLUMN(C435)+(ROW()-ROW(C435)-10)*7),\"\")","v":""},{"$f":"IF(MONTH(E431+COLUMN()-COLUMN(C435)+(ROW()-ROW(C435)-10)*7)=F431,DAY(E431+COLUMN()-COLUMN(C435)+(ROW()-ROW(C435)-10)*7),\"\")","v":""},{"$f":"IF(MONTH(E431+COLUMN()-COLUMN(C435)+(ROW()-ROW(C435)-10)*7)=F431,DAY(E431+COLUMN()-COLUMN(C435)+(ROW()-ROW(C435)-10)*7),\"\")","v":""},{"$f":"IF(MONTH(E431+COLUMN()-COLUMN(C435)+(ROW()-ROW(C435)-10)*7)=F431,DAY(E431+COLUMN()-COLUMN(C435)+(ROW()-ROW(C435)-10)*7),\"\")","v":""},{"$f":"IF(MONTH(E431+COLUMN()-COLUMN(C435)+(ROW()-ROW(C435)-10)*7)=F431,DAY(E431+COLUMN()-COLUMN(C435)+(ROW()-ROW(C435)-10)*7),\"\")","v":""},{"$f":"IF(MONTH(E431+COLUMN()-COLUMN(C435)+(ROW()-ROW(C435)-10)*7)=F431,DAY(E431+COLUMN()-COLUMN(C435)+(ROW()-ROW(C435)-10)*7),\"\")","v":""}]
[null,{"$f":"B431","v":"2008"},null,null,{"$f":"IF(C450<>\"\",E431+35,IF(L447=\"\",E431+28,E431+35))","v":39566},{"$f":"F431+1","v":5},null,null,{"$f":"TEXT(DATE(B451,F451,1),\"mmmm\")","v":"mai"}]
[null,null,"Lundi","Mardi","Mercredi","Jeudi","Vendredi","Samedi","Dimanche"]
[null,{"$f":"IF(C455<>\"\",VLOOKUP(DATE(1900,$F451,C455),$D$3:$F$368,3),\"\")","v":""},null,{"$f":"IF(D455<>\"\",VLOOKUP(DATE(1900,$F451,D455),$D$3:$F$368,3),\"\")","v":""},"",0,0,0,0]
[null,{"$f":"IF(C455<>\"\",VLOOKUP(DATE(1900,$F451,C455),$D$3:$E$368,2),\"\")","v":""},null,{"$f":"IF(D455<>\"\",VLOOKUP(DATE(1900,$F451,D455),$D$3:$E$368,2),\"\")","v":""},"","F. du travail","St Boris","Sts Philippe-Jacques","St Sylvain"]
[null,{"$f":"MAX(B450,B447,B444)+(I450<>\"\")+AND(L447=\"\",C447=\"\")+AND(L447<>\"\",C450=\"\")","v":18},{"$f":"IF(MONTH(E451+COLUMN()-COLUMN(C455)+(ROW()-ROW(C455))*7)=F451,DAY(E451+COLUMN()-COLUMN(C455)+(ROW()-ROW(C455))*7),\"\")","v":""},{"$f":"IF(MONTH(E451+COLUMN()-COLUMN(C455)+(ROW()-ROW(C455))*7)=F451,DAY(E451+COLUMN()-COLUMN(C455)+(ROW()-ROW(C455))*7),\"\")","v":""},{"$f":"IF(MONTH(E451+COLUMN()-COLUMN(C455)+(ROW()-ROW(C455))*7)=F451,DAY(E451+COLUMN()-COLUMN(C455)+(ROW()-ROW(C455))*7),\"\")","v":""},{"$f":"IF(MONTH(E451+COLUMN()-COLUMN(C455)+(ROW()-ROW(C455))*7)=F451,DAY(E451+COLUMN()-COLUMN(C455)+(ROW()-ROW(C455))*7),\"\")","v":1},{"$f":"IF(MONTH(E451+COLUMN()-COLUMN(C455)+(ROW()-ROW(C455))*7)=F451,DAY(E451+COLUMN()-COLUMN(C455)+(ROW()-ROW(C455))*7),\"\")","v":2},{"$f":"IF(MONTH(E451+COLUMN()-COLUMN(C455)+(ROW()-ROW(C455))*7)=F451,DAY(E451+COLUMN()-COLUMN(C455)+(ROW()-ROW(C455))*7),\"\")","v":3},{"$f":"IF(MONTH(E451+COLUMN()-COLUMN(C455)+(ROW()-ROW(C455))*7)=F451,DAY(E451+COLUMN()-COLUMN(C455)+(ROW()-ROW(C455))*7),\"\")","v":4}]
[null,{"$f":"IF(C458<>\"\",VLOOKUP(DATE(1900,$F451,C458),$D$3:$F$368,3),\"\")","v":0},null,{"$f":"IF(D458<>\"\",VLOOKUP(DATE(1900,$F451,D458),$D$3:$F$368,3),\"\")","v":0},0,0,0,0,0]
[null,{"$f":"IF(C458<>\"\",VLOOKUP(DATE(1900,$F451,C458),$D$3:$E$368,2),\"\")","v":"Ste Judith"},null,{"$f":"IF(D458<>\"\",VLOOKUP(DATE(1900,$F451,D458),$D$3:$E$368,2),\"\")","v":"Ste Prudence"},"Ste Gisèle","Annivers. 1945","St Pacôme","Ste Solange","Ste Estelle"]
[null,{"$f":"(B455+1)-(INT(((B455+1)-1)/$P$374))*$P$374","v":19},{"$f":"IF(MONTH(E451+COLUMN()-COLUMN(C455)+(ROW()-ROW(C455)-2)*7)=F451,DAY(E451+COLUMN()-COLUMN(C455)+(ROW()-ROW(C455)-2)*7),\"\")","v":5},{"$f":"IF(MONTH(E451+COLUMN()-COLUMN(C455)+(ROW()-ROW(C455)-2)*7)=F451,DAY(E451+COLUMN()-COLUMN(C455)+(ROW()-ROW(C455)-2)*7),\"\")","v":6},{"$f":"IF(MONTH(E451+COLUMN()-COLUMN(C455)+(ROW()-ROW(C455)-2)*7)=F451,DAY(E451+COLUMN()-COLUMN(C455)+(ROW()-ROW(C455)-2)*7),\"\")","v":7},{"$f":"IF(MONTH(E451+COLUMN()-COLUMN(C455)+(ROW()-ROW(C455)-2)*7)=F451,DAY(E451+COLUMN()-COLUMN(C455)+(ROW()-ROW(C455)-2)*7),\"\")","v":8},{"$f":"IF(MONTH(E451+COLUMN()-COLUMN(C455)+(ROW()-ROW(C455)-2)*7)=F451,DAY(E451+COLUMN()-COLUMN(C455)+(ROW()-ROW(C455)-2)*7),\"\")","v":9},{"$f":"IF(MONTH(E451+COLUMN()-COLUMN(C455)+(ROW()-ROW(C455)-2)*7)=F451,DAY(E451+COLUMN()-COLUMN(C455)+(ROW()-ROW(C455)-2)*7),\"\")","v":10},{"$f":"IF(MONTH(E451+COLUMN()-COLUMN(C455)+(ROW()-ROW(C455)-2)*7)=F451,DAY(E451+COLUMN()-COLUMN(C455)+(ROW()-ROW(C455)-2)*7),\"\")","v":11}]
[null,{"$f":"IF(C461<>\"\",VLOOKUP(DATE(1900,$F451,C461),$D$3:$F$368,3),\"\")","v":0},null,{"$f":"IF(D461<>\"\",VLOOKUP(DATE(1900,$F451,D461),$D$3:$F$368,3),\"\")","v":0},0,0,"MARTINE",0,0]
[null,{"$f":"IF(C461<>\"\",VLOOKUP(DATE(1900,$F451,C461),$D$3:$E$368,2),\"\")","v":"St Achille"},null,{"$f":"IF(D461<>\"\",VLOOKUP(DATE(1900,$F451,D461),$D$3:$E$368,2),\"\")","v":"Ste Rolande"},"St Matthias","Ste Denise","St Honoré ","St Pascal","St Eric"]
[null,{"$f":"B458+1","v":20},{"$f":"IF(MONTH(E451+COLUMN()-COLUMN(C455)+(ROW()-ROW(C455)-4)*7)=F451,DAY(E451+COLUMN()-COLUMN(C455)+(ROW()-ROW(C455)-4)*7),\"\")","v":12},{"$f":"IF(MONTH(E451+COLUMN()-COLUMN(C455)+(ROW()-ROW(C455)-4)*7)=F451,DAY(E451+COLUMN()-COLUMN(C455)+(ROW()-ROW(C455)-4)*7),\"\")","v":13},{"$f":"IF(MONTH(E451+COLUMN()-COLUMN(C455)+(ROW()-ROW(C455)-4)*7)=F451,DAY(E451+COLUMN()-COLUMN(C455)+(ROW()-ROW(C455)-4)*7),\"\")","v":14},{"$f":"IF(MONTH(E451+COLUMN()-COLUMN(C455)+(ROW()-ROW(C455)-4)*7)=F451,DAY(E451+COLUMN()-COLUMN(C455)+(ROW()-ROW(C455)-4)*7),\"\")","v":15},{"$f":"IF(MONTH(E451+COLUMN()-COLUMN(C455)+(ROW()-ROW(C455)-4)*7)=F451,DAY(E451+COLUMN()-COLUMN(C455)+(ROW()-ROW(C455)-4)*7),\"\")","v":16},{"$f":"IF(MONTH(E451+COLUMN()-COLUMN(C455)+(ROW()-ROW(C455)-4)*7)=F451,DAY(E451+COLUMN()-COLUMN(C455)+(ROW()-ROW(C455)-4)*7),\"\")","v":17},{"$f":"IF(MONTH(E451+COLUMN()-COLUMN(C455)+(ROW()-ROW(C455)-4)*7)=F451,DAY(E451+COLUMN()-COLUMN(C455)+(ROW()-ROW(C455)-4)*7),\"\")","v":18}]
[null,{"$f":"IF(C464<>\"\",VLOOKUP(DATE(1900,$F451,C464),$D$3:$F$368,3),\"\")","v":0},null,{"$f":"IF(D464<>\"\",VLOOKUP(DATE(1900,$F451,D464),$D$3:$F$368,3),\"\")","v":0},0,"SANDRA",0,0,0]
[null,{"$f":"IF(C464<>\"\",VLOOKUP(DATE(1900,$F451,C464),$D$3:$E$368,2),\"\")","v":"St Yves"},null,{"$f":"IF(D464<>\"\",VLOOKUP(DATE(1900,$F451,D464),$D$3:$E$368,2),\"\")","v":"St Bernardin"},"St Constantin","St Emile ","St Didier","St Donatien","Ste Sophie"]
[null,{"$f":"B461+1","v":21},{"$f":"IF(MONTH(E451+COLUMN()-COLUMN(C455)+(ROW()-ROW(C455)-6)*7)=F451,DAY(E451+COLUMN()-COLUMN(C455)+(ROW()-ROW(C455)-6)*7),\"\")","v":19},{"$f":"IF(MONTH(E451+COLUMN()-COLUMN(C455)+(ROW()-ROW(C455)-6)*7)=F451,DAY(E451+COLUMN()-COLUMN(C455)+(ROW()-ROW(C455)-6)*7),\"\")","v":20},{"$f":"IF(MONTH(E451+COLUMN()-COLUMN(C455)+(ROW()-ROW(C455)-6)*7)=F451,DAY(E451+COLUMN()-COLUMN(C455)+(ROW()-ROW(C455)-6)*7),\"\")","v":21},{"$f":"IF(MONTH(E451+COLUMN()-COLUMN(C455)+(ROW()-ROW(C455)-6)*7)=F451,DAY(E451+COLUMN()-COLUMN(C455)+(ROW()-ROW(C455)-6)*7),\"\")","v":22},{"$f":"IF(MONTH(E451+COLUMN()-COLUMN(C455)+(ROW()-ROW(C455)-6)*7)=F451,DAY(E451+COLUMN()-COLUMN(C455)+(ROW()-ROW(C455)-6)*7),\"\")","v":23},{"$f":"IF(MONTH(E451+COLUMN()-COLUMN(C455)+(ROW()-ROW(C455)-6)*7)=F451,DAY(E451+COLUMN()-COLUMN(C455)+(ROW()-ROW(C455)-6)*7),\"\")","v":24},{"$f":"IF(MONTH(E451+COLUMN()-COLUMN(C455)+(ROW()-ROW(C455)-6)*7)=F451,DAY(E451+COLUMN()-COLUMN(C455)+(ROW()-ROW(C455)-6)*7),\"\")","v":25}]
[null,{"$f":"IF(C467<>\"\",VLOOKUP(DATE(1900,$F451,C467),$D$3:$F$368,3),\"\")","v":0},null,{"$f":"IF(D467<>\"\",VLOOKUP(DATE(1900,$F451,D467),$D$3:$F$368,3),\"\")","v":0},{"$f":"IF(E467<>\"\",VLOOKUP(DATE(1900,$F451,E467),$D$3:$F$368,3),\"\")","v":0},{"$f":"IF(F467<>\"\",VLOOKUP(DATE(1900,$F451,F467),$D$3:$F$368,3),\"\")","v":0},{"$f":"IF(G467<>\"\",VLOOKUP(DATE(1900,$F451,G467),$D$3:$F$368,3),\"\")","v":0},{"$f":"IF(H467<>\"\",VLOOKUP(DATE(1900,$F451,H467),$D$3:$F$368,3),\"\")","v":0}]
[null,{"$f":"IF(C467<>\"\",VLOOKUP(DATE(1900,$F451,C467),$D$3:$E$368,2),\"\")","v":"St Bérenger"},null,{"$f":"IF(D467<>\"\",VLOOKUP(DATE(1900,$F451,D467),$D$3:$E$368,2),\"\")","v":"St Augustin de C."},"St Germain","St Aymar","St Ferdinand","V. de la Ste Vierge",""]
[null,{"$f":"IF(C467=\"\",\"\",IF(B464=H449,1,B464+1))","v":22},{"$f":"IF(MONTH(E451+COLUMN()-COLUMN(C455)+(ROW()-ROW(C455)-8)*7)=F451,DAY(E451+COLUMN()-COLUMN(C455)+(ROW()-ROW(C455)-8)*7),\"\")","v":26},{"$f":"IF(MONTH(E451+COLUMN()-COLUMN(C455)+(ROW()-ROW(C455)-8)*7)=F451,DAY(E451+COLUMN()-COLUMN(C455)+(ROW()-ROW(C455)-8)*7),\"\")","v":27},{"$f":"IF(MONTH(E451+COLUMN()-COLUMN(C455)+(ROW()-ROW(C455)-8)*7)=F451,DAY(E451+COLUMN()-COLUMN(C455)+(ROW()-ROW(C455)-8)*7),\"\")","v":28},{"$f":"IF(MONTH(E451+COLUMN()-COLUMN(C455)+(ROW()-ROW(C455)-8)*7)=F451,DAY(E451+COLUMN()-COLUMN(C455)+(ROW()-ROW(C455)-8)*7),\"\")","v":29},{"$f":"IF(MONTH(E451+COLUMN()-COLUMN(C455)+(ROW()-ROW(C455)-8)*7)=F451,DAY(E451+COLUMN()-COLUMN(C455)+(ROW()-ROW(C455)-8)*7),\"\")","v":30},{"$f":"IF(MONTH(E451+COLUMN()-COLUMN(C455)+(ROW()-ROW(C455)-8)*7)=F451,DAY(E451+COLUMN()-COLUMN(C455)+(ROW()-ROW(C455)-8)*7),\"\")","v":31},{"$f":"IF(MONTH(E451+COLUMN()-COLUMN(C455)+(ROW()-ROW(C455)-8)*7)=F451,DAY(E451+COLUMN()-COLUMN(C455)+(ROW()-ROW(C455)-8)*7),\"\")","v":""}]
[null,{"$f":"IF(C470<>\"\",VLOOKUP(DATE(1900,$F451,C470),$D$3:$F$368,3),\"\")","v":""},null,{"$f":"IF(D470<>\"\",VLOOKUP(DATE(1900,$F451,D470),$D$3:$F$368,3),\"\")","v":""},"","","","",""]
[null,{"$f":"IF(C470<>\"\",VLOOKUP(DATE(1900,$F451,C470),$D$3:$E$368,2),\"\")","v":""},null,{"$f":"IF(D470<>\"\",VLOOKUP(DATE(1900,$F451,D470),$D$3:$E$368,2),\"\")","v":""},"","","","",""]
[null,{"$f":"IF(C470=\"\",\"\",IF(B467=H449,1,B467+1))","v":""},{"$f":"IF(MONTH(E451+COLUMN()-COLUMN(C455)+(ROW()-ROW(C455)-10)*7)=F451,DAY(E451+COLUMN()-COLUMN(C455)+(ROW()-ROW(C455)-10)*7),\"\")","v":""},{"$f":"IF(MONTH(E451+COLUMN()-COLUMN(C455)+(ROW()-ROW(C455)-10)*7)=F451,DAY(E451+COLUMN()-COLUMN(C455)+(ROW()-ROW(C455)-10)*7),\"\")","v":""},{"$f":"IF(MONTH(E451+COLUMN()-COLUMN(C455)+(ROW()-ROW(C455)-10)*7)=F451,DAY(E451+COLUMN()-COLUMN(C455)+(ROW()-ROW(C455)-10)*7),\"\")","v":""},{"$f":"IF(MONTH(E451+COLUMN()-COLUMN(C455)+(ROW()-ROW(C455)-10)*7)=F451,DAY(E451+COLUMN()-COLUMN(C455)+(ROW()-ROW(C455)-10)*7),\"\")","v":""},{"$f":"IF(MONTH(E451+COLUMN()-COLUMN(C455)+(ROW()-ROW(C455)-10)*7)=F451,DAY(E451+COLUMN()-COLUMN(C455)+(ROW()-ROW(C455)-10)*7),\"\")","v":""},{"$f":"IF(MONTH(E451+COLUMN()-COLUMN(C455)+(ROW()-ROW(C455)-10)*7)=F451,DAY(E451+COLUMN()-COLUMN(C455)+(ROW()-ROW(C455)-10)*7),\"\")","v":""},{"$f":"IF(MONTH(E451+COLUMN()-COLUMN(C455)+(ROW()-ROW(C455)-10)*7)=F451,DAY(E451+COLUMN()-COLUMN(C455)+(ROW()-ROW(C455)-10)*7),\"\")","v":""}]
[null,{"$f":"B451","v":"2008"},null,null,{"$f":"IF(C470<>\"\",E451+35,IF(I467=\"\",E451+28,E451+35))","v":39594},{"$f":"F451+1","v":6},null,null,{"$f":"TEXT(DATE(B471,F471,1),\"mmmm\")","v":"juin"}]
[null,null,"Lundi","Mardi","Mercredi","Jeudi","Vendredi","Samedi","Dimanche"]
[null,{"$f":"IF(C475<>\"\",VLOOKUP(DATE(1900,$F471,C475),$D$3:$F$368,3),\"\")","v":""},null,{"$f":"IF(D475<>\"\",VLOOKUP(DATE(1900,$F471,D475),$D$3:$F$368,3),\"\")","v":""},"","","","",0]
[null,{"$f":"IF(C475<>\"\",VLOOKUP(DATE(1900,$F471,C475),$D$3:$E$368,2),\"\")","v":""},{"$f":"IF(C475<>\"\",VLOOKUP(DATE(1900,$F471,C475),$D$3:$E$368,2),\"\")","v":""},"","","","","","St Justin"]
[null,{"$f":"MAX(B470,B467,B464)+(I470<>\"\")+AND(I467=\"\",C467=\"\")+AND(I467<>\"\",C470=\"\")","v":22},{"$f":"IF(MONTH(E471+COLUMN()-COLUMN(C475)+(ROW()-ROW(C475))*7)=F471,DAY(E471+COLUMN()-COLUMN(C475)+(ROW()-ROW(C475))*7),\"\")","v":""},{"$f":"IF(MONTH(E471+COLUMN()-COLUMN(C475)+(ROW()-ROW(C475))*7)=F471,DAY(E471+COLUMN()-COLUMN(C475)+(ROW()-ROW(C475))*7),\"\")","v":""},{"$f":"IF(MONTH(E471+COLUMN()-COLUMN(C475)+(ROW()-ROW(C475))*7)=F471,DAY(E471+COLUMN()-COLUMN(C475)+(ROW()-ROW(C475))*7),\"\")","v":""},{"$f":"IF(MONTH(E471+COLUMN()-COLUMN(C475)+(ROW()-ROW(C475))*7)=F471,DAY(E471+COLUMN()-COLUMN(C475)+(ROW()-ROW(C475))*7),\"\")","v":""},{"$f":"IF(MONTH(E471+COLUMN()-COLUMN(C475)+(ROW()-ROW(C475))*7)=F471,DAY(E471+COLUMN()-COLUMN(C475)+(ROW()-ROW(C475))*7),\"\")","v":""},{"$f":"IF(MONTH(E471+COLUMN()-COLUMN(C475)+(ROW()-ROW(C475))*7)=F471,DAY(E471+COLUMN()-COLUMN(C475)+(ROW()-ROW(C475))*7),\"\")","v":""},{"$f":"IF(MONTH(E471+COLUMN()-COLUMN(C475)+(ROW()-ROW(C475))*7)=F471,DAY(E471+COLUMN()-COLUMN(C475)+(ROW()-ROW(C475))*7),\"\")","v":1}]
[null,{"$f":"IF(C478<>\"\",VLOOKUP(DATE(1900,$F471,C478),$D$3:$F$368,3),\"\")","v":0},null,{"$f":"IF(D478<>\"\",VLOOKUP(DATE(1900,$F471,D478),$D$3:$F$368,3),\"\")","v":0},0,0,0,0,0]
[null,{"$f":"IF(C478<>\"\",VLOOKUP(DATE(1900,$F471,C478),$D$3:$E$368,2),\"\")","v":"Ste Blandine"},null,{"$f":"IF(D478<>\"\",VLOOKUP(DATE(1900,$F471,D478),$D$3:$E$368,2),\"\")","v":"St Kévin"},"Ste Clothilde","St Igor","St Norbert","St Gilbert","St Médard"]
[null,{"$f":"(B475+1)-(INT(((B475+1)-1)/$P$374))*$P$374","v":23},{"$f":"IF(MONTH(E471+COLUMN()-COLUMN(C475)+(ROW()-ROW(C475)-2)*7)=F471,DAY(E471+COLUMN()-COLUMN(C475)+(ROW()-ROW(C475)-2)*7),\"\")","v":2},{"$f":"IF(MONTH(E471+COLUMN()-COLUMN(C475)+(ROW()-ROW(C475)-2)*7)=F471,DAY(E471+COLUMN()-COLUMN(C475)+(ROW()-ROW(C475)-2)*7),\"\")","v":3},{"$f":"IF(MONTH(E471+COLUMN()-COLUMN(C475)+(ROW()-ROW(C475)-2)*7)=F471,DAY(E471+COLUMN()-COLUMN(C475)+(ROW()-ROW(C475)-2)*7),\"\")","v":4},{"$f":"IF(MONTH(E471+COLUMN()-COLUMN(C475)+(ROW()-ROW(C475)-2)*7)=F471,DAY(E471+COLUMN()-COLUMN(C475)+(ROW()-ROW(C475)-2)*7),\"\")","v":5},{"$f":"IF(MONTH(E471+COLUMN()-COLUMN(C475)+(ROW()-ROW(C475)-2)*7)=F471,DAY(E471+COLUMN()-COLUMN(C475)+(ROW()-ROW(C475)-2)*7),\"\")","v":6},{"$f":"IF(MONTH(E471+COLUMN()-COLUMN(C475)+(ROW()-ROW(C475)-2)*7)=F471,DAY(E471+COLUMN()-COLUMN(C475)+(ROW()-ROW(C475)-2)*7),\"\")","v":7},{"$f":"IF(MONTH(E471+COLUMN()-COLUMN(C475)+(ROW()-ROW(C475)-2)*7)=F471,DAY(E471+COLUMN()-COLUMN(C475)+(ROW()-ROW(C475)-2)*7),\"\")","v":8}]
[null,{"$f":"IF(C481<>\"\",VLOOKUP(DATE(1900,$F471,C481),$D$3:$F$368,3),\"\")","v":0},null,{"$f":"IF(D481<>\"\",VLOOKUP(DATE(1900,$F471,D481),$D$3:$F$368,3),\"\")","v":0},0,0,0,0,0]
[null,{"$f":"IF(C481<>\"\",VLOOKUP(DATE(1900,$F471,C481),$D$3:$E$368,2),\"\")","v":"Ste Diane"},null,{"$f":"IF(D481<>\"\",VLOOKUP(DATE(1900,$F471,D481),$D$3:$E$368,2),\"\")","v":"St Landry"},"St Barnabé","St Guy","St A. de Padou","St Elisée","Ste Germaine"]
[null,{"$f":"B478+1","v":24},{"$f":"IF(MONTH(E471+COLUMN()-COLUMN(C475)+(ROW()-ROW(C475)-4)*7)=F471,DAY(E471+COLUMN()-COLUMN(C475)+(ROW()-ROW(C475)-4)*7),\"\")","v":9},{"$f":"IF(MONTH(E471+COLUMN()-COLUMN(C475)+(ROW()-ROW(C475)-4)*7)=F471,DAY(E471+COLUMN()-COLUMN(C475)+(ROW()-ROW(C475)-4)*7),\"\")","v":10},{"$f":"IF(MONTH(E471+COLUMN()-COLUMN(C475)+(ROW()-ROW(C475)-4)*7)=F471,DAY(E471+COLUMN()-COLUMN(C475)+(ROW()-ROW(C475)-4)*7),\"\")","v":11},{"$f":"IF(MONTH(E471+COLUMN()-COLUMN(C475)+(ROW()-ROW(C475)-4)*7)=F471,DAY(E471+COLUMN()-COLUMN(C475)+(ROW()-ROW(C475)-4)*7),\"\")","v":12},{"$f":"IF(MONTH(E471+COLUMN()-COLUMN(C475)+(ROW()-ROW(C475)-4)*7)=F471,DAY(E471+COLUMN()-COLUMN(C475)+(ROW()-ROW(C475)-4)*7),\"\")","v":13},{"$f":"IF(MONTH(E471+COLUMN()-COLUMN(C475)+(ROW()-ROW(C475)-4)*7)=F471,DAY(E471+COLUMN()-COLUMN(C475)+(ROW()-ROW(C475)-4)*7),\"\")","v":14},{"$f":"IF(MONTH(E471+COLUMN()-COLUMN(C475)+(ROW()-ROW(C475)-4)*7)=F471,DAY(E471+COLUMN()-COLUMN(C475)+(ROW()-ROW(C475)-4)*7),\"\")","v":15}]
[null,{"$f":"IF(C484<>\"\",VLOOKUP(DATE(1900,$F471,C484),$D$3:$F$368,3),\"\")","v":0},null,{"$f":"IF(D484<>\"\",VLOOKUP(DATE(1900,$F471,D484),$D$3:$F$368,3),\"\")","v":0},0,0,0,0,0]
[null,{"$f":"IF(C484<>\"\",VLOOKUP(DATE(1900,$F471,C484),$D$3:$E$368,2),\"\")","v":"St J.-F. Régis"},null,{"$f":"IF(D484<>\"\",VLOOKUP(DATE(1900,$F471,D484),$D$3:$E$368,2),\"\")","v":"St Hervé"},"St Léonce","St Romuald","St Silvère","F. Dieu","St Alban"]
[null,{"$f":"B481+1","v":25},{"$f":"IF(MONTH(E471+COLUMN()-COLUMN(C475)+(ROW()-ROW(C475)-6)*7)=F471,DAY(E471+COLUMN()-COLUMN(C475)+(ROW()-ROW(C475)-6)*7),\"\")","v":16},{"$f":"IF(MONTH(E471+COLUMN()-COLUMN(C475)+(ROW()-ROW(C475)-6)*7)=F471,DAY(E471+COLUMN()-COLUMN(C475)+(ROW()-ROW(C475)-6)*7),\"\")","v":17},{"$f":"IF(MONTH(E471+COLUMN()-COLUMN(C475)+(ROW()-ROW(C475)-6)*7)=F471,DAY(E471+COLUMN()-COLUMN(C475)+(ROW()-ROW(C475)-6)*7),\"\")","v":18},{"$f":"IF(MONTH(E471+COLUMN()-COLUMN(C475)+(ROW()-ROW(C475)-6)*7)=F471,DAY(E471+COLUMN()-COLUMN(C475)+(ROW()-ROW(C475)-6)*7),\"\")","v":19},{"$f":"IF(MONTH(E471+COLUMN()-COLUMN(C475)+(ROW()-ROW(C475)-6)*7)=F471,DAY(E471+COLUMN()-COLUMN(C475)+(ROW()-ROW(C475)-6)*7),\"\")","v":20},{"$f":"IF(MONTH(E471+COLUMN()-COLUMN(C475)+(ROW()-ROW(C475)-6)*7)=F471,DAY(E471+COLUMN()-COLUMN(C475)+(ROW()-ROW(C475)-6)*7),\"\")","v":21},{"$f":"IF(MONTH(E471+COLUMN()-COLUMN(C475)+(ROW()-ROW(C475)-6)*7)=F471,DAY(E471+COLUMN()-COLUMN(C475)+(ROW()-ROW(C475)-6)*7),\"\")","v":22}]
[null,{"$f":"IF(C487<>\"\",VLOOKUP(DATE(1900,$F471,C487),$D$3:$F$368,3),\"\")","v":0},null,{"$f":"IF(D487<>\"\",VLOOKUP(DATE(1900,$F471,D487),$D$3:$F$368,3),\"\")","v":0},0,0,0,"MARIAGE",0]
[null,{"$f":"IF(C487<>\"\",VLOOKUP(DATE(1900,$F471,C487),$D$3:$E$368,2),\"\")","v":"Ste Audrey"},null,{"$f":"IF(D487<>\"\",VLOOKUP(DATE(1900,$F471,D487),$D$3:$E$368,2),\"\")","v":"St Jean-Baptiste"},"St Salomon","St Anthelme","St Fernand","St Irénée ","St Pierre-Paul"]
[null,{"$f":"IF(C487=\"\",\"\",IF(B484=H469,1,B484+1))","v":26},{"$f":"IF(MONTH(E471+COLUMN()-COLUMN(C475)+(ROW()-ROW(C475)-8)*7)=F471,DAY(E471+COLUMN()-COLUMN(C475)+(ROW()-ROW(C475)-8)*7),\"\")","v":23},{"$f":"IF(MONTH(E471+COLUMN()-COLUMN(C475)+(ROW()-ROW(C475)-8)*7)=F471,DAY(E471+COLUMN()-COLUMN(C475)+(ROW()-ROW(C475)-8)*7),\"\")","v":24},{"$f":"IF(MONTH(E471+COLUMN()-COLUMN(C475)+(ROW()-ROW(C475)-8)*7)=F471,DAY(E471+COLUMN()-COLUMN(C475)+(ROW()-ROW(C475)-8)*7),\"\")","v":25},{"$f":"IF(MONTH(E471+COLUMN()-COLUMN(C475)+(ROW()-ROW(C475)-8)*7)=F471,DAY(E471+COLUMN()-COLUMN(C475)+(ROW()-ROW(C475)-8)*7),\"\")","v":26},{"$f":"IF(MONTH(E471+COLUMN()-COLUMN(C475)+(ROW()-ROW(C475)-8)*7)=F471,DAY(E471+COLUMN()-COLUMN(C475)+(ROW()-ROW(C475)-8)*7),\"\")","v":27},{"$f":"IF(MONTH(E471+COLUMN()-COLUMN(C475)+(ROW()-ROW(C475)-8)*7)=F471,DAY(E471+COLUMN()-COLUMN(C475)+(ROW()-ROW(C475)-8)*7),\"\")","v":28},{"$f":"IF(MONTH(E471+COLUMN()-COLUMN(C475)+(ROW()-ROW(C475)-8)*7)=F471,DAY(E471+COLUMN()-COLUMN(C475)+(ROW()-ROW(C475)-8)*7),\"\")","v":29}]
[null,{"$f":"IF(C490<>\"\",VLOOKUP(DATE(1900,$F471,C490),$D$3:$F$368,3),\"\")","v":0},null,{"$f":"IF(D490<>\"\",VLOOKUP(DATE(1900,$F471,D490),$D$3:$F$368,3),\"\")","v":""},"","","","",""]
[null,{"$f":"IF(C490<>\"\",VLOOKUP(DATE(1900,$F471,C490),$D$3:$E$368,2),\"\")","v":"St Martial"},null,{"$f":"IF(D490<>\"\",VLOOKUP(DATE(1900,$F471,D490),$D$3:$E$368,2),\"\")","v":""},"","","","",""]
[null,{"$f":"IF(C490=\"\",\"\",IF(B487=H469,1,B487+1))","v":27},{"$f":"IF(MONTH(E471+COLUMN()-COLUMN(C475)+(ROW()-ROW(C475)-10)*7)=F471,DAY(E471+COLUMN()-COLUMN(C475)+(ROW()-ROW(C475)-10)*7),\"\")","v":30},{"$f":"IF(MONTH(E471+COLUMN()-COLUMN(C475)+(ROW()-ROW(C475)-10)*7)=F471,DAY(E471+COLUMN()-COLUMN(C475)+(ROW()-ROW(C475)-10)*7),\"\")","v":""},{"$f":"IF(MONTH(E471+COLUMN()-COLUMN(C475)+(ROW()-ROW(C475)-10)*7)=F471,DAY(E471+COLUMN()-COLUMN(C475)+(ROW()-ROW(C475)-10)*7),\"\")","v":""},{"$f":"IF(MONTH(E471+COLUMN()-COLUMN(C475)+(ROW()-ROW(C475)-10)*7)=F471,DAY(E471+COLUMN()-COLUMN(C475)+(ROW()-ROW(C475)-10)*7),\"\")","v":""},{"$f":"IF(MONTH(E471+COLUMN()-COLUMN(C475)+(ROW()-ROW(C475)-10)*7)=F471,DAY(E471+COLUMN()-COLUMN(C475)+(ROW()-ROW(C475)-10)*7),\"\")","v":""},{"$f":"IF(MONTH(E471+COLUMN()-COLUMN(C475)+(ROW()-ROW(C475)-10)*7)=F471,DAY(E471+COLUMN()-COLUMN(C475)+(ROW()-ROW(C475)-10)*7),\"\")","v":""},{"$f":"IF(MONTH(E471+COLUMN()-COLUMN(C475)+(ROW()-ROW(C475)-10)*7)=F471,DAY(E471+COLUMN()-COLUMN(C475)+(ROW()-ROW(C475)-10)*7),\"\")","v":""}]
[null,{"$f":"B471","v":"2008"},null,null,{"$f":"IF(C490<>\"\",E471+35,IF(I487=\"\",E471+28,E471+35))","v":39629},{"$f":"F471+1","v":7},null,null,{"$f":"TEXT(DATE(B491,F491,1),\"mmmm\")","v":"juillet"}]
[null,null,"Lundi","Mardi","Mercredi","Jeudi","Vendredi","Samedi","Dimanche"]
[null,{"$f":"IF(C495<>\"\",VLOOKUP(DATE(1900,$F491,C495),$D$3:$F$368,3),\"\")","v":""},null,{"$f":"IF(D495<>\"\",VLOOKUP(DATE(1900,$F491,D495),$D$3:$F$368,3),\"\")","v":0},0,0,0,0,0]
[null,{"$f":"IF(C495<>\"\",VLOOKUP(DATE(1900,$F491,C495),$D$3:$E$368,2),\"\")","v":""},null,{"$f":"IF(D495<>\"\",VLOOKUP(DATE(1900,$F491,D495),$D$3:$E$368,2),\"\")","v":"St Thierry"},"St Martinien","St Thomas","St Florent","St Antoine","Ste Mariette"]
[null,{"$f":"MAX(B490,B487,B484)+(I490<>\"\")+AND(I487=\"\",C487=\"\")+AND(I487<>\"\",C490=\"\")","v":27},{"$f":"IF(MONTH(E491+COLUMN()-COLUMN(C495)+(ROW()-ROW(C495))*7)=F491,DAY(E491+COLUMN()-COLUMN(C495)+(ROW()-ROW(C495))*7),\"\")","v":""},{"$f":"IF(MONTH(E491+COLUMN()-COLUMN(C495)+(ROW()-ROW(C495))*7)=F491,DAY(E491+COLUMN()-COLUMN(C495)+(ROW()-ROW(C495))*7),\"\")","v":1},{"$f":"IF(MONTH(E491+COLUMN()-COLUMN(C495)+(ROW()-ROW(C495))*7)=F491,DAY(E491+COLUMN()-COLUMN(C495)+(ROW()-ROW(C495))*7),\"\")","v":2},{"$f":"IF(MONTH(E491+COLUMN()-COLUMN(C495)+(ROW()-ROW(C495))*7)=F491,DAY(E491+COLUMN()-COLUMN(C495)+(ROW()-ROW(C495))*7),\"\")","v":3},{"$f":"IF(MONTH(E491+COLUMN()-COLUMN(C495)+(ROW()-ROW(C495))*7)=F491,DAY(E491+COLUMN()-COLUMN(C495)+(ROW()-ROW(C495))*7),\"\")","v":4},{"$f":"IF(MONTH(E491+COLUMN()-COLUMN(C495)+(ROW()-ROW(C495))*7)=F491,DAY(E491+COLUMN()-COLUMN(C495)+(ROW()-ROW(C495))*7),\"\")","v":5},{"$f":"IF(MONTH(E491+COLUMN()-COLUMN(C495)+(ROW()-ROW(C495))*7)=F491,DAY(E491+COLUMN()-COLUMN(C495)+(ROW()-ROW(C495))*7),\"\")","v":6}]
[null,{"$f":"IF(C498<>\"\",VLOOKUP(DATE(1900,$F491,C498),$D$3:$F$368,3),\"\")","v":0},null,{"$f":"IF(D498<>\"\",VLOOKUP(DATE(1900,$F491,D498),$D$3:$F$368,3),\"\")","v":0},0,"CLAUDETTE",0,0,0]
[null,{"$f":"IF(C498<>\"\",VLOOKUP(DATE(1900,$F491,C498),$D$3:$E$368,2),\"\")","v":"St Raoul"},null,{"$f":"IF(D498<>\"\",VLOOKUP(DATE(1900,$F491,D498),$D$3:$E$368,2),\"\")","v":"St Thibaut"},"Ste Amandine","St Ulrich ","St Frédéric","St Olivier","Sts Henri et Joël"]
[null,{"$f":"(B495+1)-(INT(((B495+1)-1)/$P$374))*$P$374","v":28},{"$f":"IF(MONTH(E491+COLUMN()-COLUMN(C495)+(ROW()-ROW(C495)-2)*7)=F491,DAY(E491+COLUMN()-COLUMN(C495)+(ROW()-ROW(C495)-2)*7),\"\")","v":7},{"$f":"IF(MONTH(E491+COLUMN()-COLUMN(C495)+(ROW()-ROW(C495)-2)*7)=F491,DAY(E491+COLUMN()-COLUMN(C495)+(ROW()-ROW(C495)-2)*7),\"\")","v":8},{"$f":"IF(MONTH(E491+COLUMN()-COLUMN(C495)+(ROW()-ROW(C495)-2)*7)=F491,DAY(E491+COLUMN()-COLUMN(C495)+(ROW()-ROW(C495)-2)*7),\"\")","v":9},{"$f":"IF(MONTH(E491+COLUMN()-COLUMN(C495)+(ROW()-ROW(C495)-2)*7)=F491,DAY(E491+COLUMN()-COLUMN(C495)+(ROW()-ROW(C495)-2)*7),\"\")","v":10},{"$f":"IF(MONTH(E491+COLUMN()-COLUMN(C495)+(ROW()-ROW(C495)-1)*7)=F491,DAY(E491+COLUMN()-COLUMN(C495)+(ROW()-ROW(C495)-1)*7),\"\")","v":18},{"$f":"IF(MONTH(E491+COLUMN()-COLUMN(C495)+(ROW()-ROW(C495)-2)*7)=F491,DAY(E491+COLUMN()-COLUMN(C495)+(ROW()-ROW(C495)-2)*7),\"\")","v":12},{"$f":"IF(MONTH(E491+COLUMN()-COLUMN(C495)+(ROW()-ROW(C495)-2)*7)=F491,DAY(E491+COLUMN()-COLUMN(C495)+(ROW()-ROW(C495)-2)*7),\"\")","v":13}]
[null,{"$f":"IF(C501<>\"\",VLOOKUP(DATE(1900,$F491,C501),$D$3:$F$368,3),\"\")","v":0},null,{"$f":"IF(D501<>\"\",VLOOKUP(DATE(1900,$F491,D501),$D$3:$F$368,3),\"\")","v":0},0,0,0,0,0]
[null,{"$f":"IF(C501<>\"\",VLOOKUP(DATE(1900,$F491,C501),$D$3:$E$368,2),\"\")","v":"Fête nationale"},null,{"$f":"IF(D501<>\"\",VLOOKUP(DATE(1900,$F491,D501),$D$3:$E$368,2),\"\")","v":"St Donald"},"N.D. Mont Carmel","Ste Charlotte","St Frédéric","St Arsène","Ste Marina"]
[null,{"$f":"B498+1","v":29},{"$f":"IF(MONTH(E491+COLUMN()-COLUMN(C495)+(ROW()-ROW(C495)-4)*7)=F491,DAY(E491+COLUMN()-COLUMN(C495)+(ROW()-ROW(C495)-4)*7),\"\")","v":14},{"$f":"IF(MONTH(E491+COLUMN()-COLUMN(C495)+(ROW()-ROW(C495)-4)*7)=F491,DAY(E491+COLUMN()-COLUMN(C495)+(ROW()-ROW(C495)-4)*7),\"\")","v":15},{"$f":"IF(MONTH(E491+COLUMN()-COLUMN(C495)+(ROW()-ROW(C495)-4)*7)=F491,DAY(E491+COLUMN()-COLUMN(C495)+(ROW()-ROW(C495)-4)*7),\"\")","v":16},{"$f":"IF(MONTH(E491+COLUMN()-COLUMN(C495)+(ROW()-ROW(C495)-4)*7)=F491,DAY(E491+COLUMN()-COLUMN(C495)+(ROW()-ROW(C495)-4)*7),\"\")","v":17},{"$f":"IF(MONTH(E491+COLUMN()-COLUMN(C495)+(ROW()-ROW(C495)-4)*7)=F491,DAY(E491+COLUMN()-COLUMN(C495)+(ROW()-ROW(C495)-4)*7),\"\")","v":18},{"$f":"IF(MONTH(E491+COLUMN()-COLUMN(C495)+(ROW()-ROW(C495)-4)*7)=F491,DAY(E491+COLUMN()-COLUMN(C495)+(ROW()-ROW(C495)-4)*7),\"\")","v":19},{"$f":"IF(MONTH(E491+COLUMN()-COLUMN(C495)+(ROW()-ROW(C495)-4)*7)=F491,DAY(E491+COLUMN()-COLUMN(C495)+(ROW()-ROW(C495)-4)*7),\"\")","v":20}]
[null,{"$f":"IF(C504<>\"\",VLOOKUP(DATE(1900,$F491,C504),$D$3:$F$368,3),\"\")","v":0},null,{"$f":"IF(D504<>\"\",VLOOKUP(DATE(1900,$F491,D504),$D$3:$F$368,3),\"\")","v":0},0,0,0,"MAMAN",0]
[null,{"$f":"IF(C504<>\"\",VLOOKUP(DATE(1900,$F491,C504),$D$3:$E$368,2),\"\")","v":"St Victor"},null,{"$f":"IF(D504<>\"\",VLOOKUP(DATE(1900,$F491,D504),$D$3:$E$368,2),\"\")","v":"Ste Marie-Madel."},"Ste Brigitte","Ste Christine","St Jacques de M. (Enzo)","Ste Anne","Ste Nathalie"]
[null,{"$f":"B501+1","v":30},{"$f":"IF(MONTH(E491+COLUMN()-COLUMN(C495)+(ROW()-ROW(C495)-6)*7)=F491,DAY(E491+COLUMN()-COLUMN(C495)+(ROW()-ROW(C495)-6)*7),\"\")","v":21},{"$f":"IF(MONTH(E491+COLUMN()-COLUMN(C495)+(ROW()-ROW(C495)-6)*7)=F491,DAY(E491+COLUMN()-COLUMN(C495)+(ROW()-ROW(C495)-6)*7),\"\")","v":22},{"$f":"IF(MONTH(E491+COLUMN()-COLUMN(C495)+(ROW()-ROW(C495)-6)*7)=F491,DAY(E491+COLUMN()-COLUMN(C495)+(ROW()-ROW(C495)-6)*7),\"\")","v":23},{"$f":"IF(MONTH(E491+COLUMN()-COLUMN(C495)+(ROW()-ROW(C495)-6)*7)=F491,DAY(E491+COLUMN()-COLUMN(C495)+(ROW()-ROW(C495)-6)*7),\"\")","v":24},{"$f":"IF(MONTH(E491+COLUMN()-COLUMN(C495)+(ROW()-ROW(C495)-6)*7)=F491,DAY(E491+COLUMN()-COLUMN(C495)+(ROW()-ROW(C495)-6)*7),\"\")","v":25},{"$f":"IF(MONTH(E491+COLUMN()-COLUMN(C495)+(ROW()-ROW(C495)-6)*7)=F491,DAY(E491+COLUMN()-COLUMN(C495)+(ROW()-ROW(C495)-6)*7),\"\")","v":26},{"$f":"IF(MONTH(E491+COLUMN()-COLUMN(C495)+(ROW()-ROW(C495)-6)*7)=F491,DAY(E491+COLUMN()-COLUMN(C495)+(ROW()-ROW(C495)-6)*7),\"\")","v":27}]
[null,{"$f":"IF(C507<>\"\",VLOOKUP(DATE(1900,$F491,C507),$D$3:$F$368,3),\"\")","v":0},null,{"$f":"IF(D507<>\"\",VLOOKUP(DATE(1900,$F491,D507),$D$3:$F$368,3),\"\")","v":0},0,0,"","",""]
[null,{"$f":"IF(C507<>\"\",VLOOKUP(DATE(1900,$F491,C507),$D$3:$E$368,2),\"\")","v":"St Samson"},null,{"$f":"IF(D507<>\"\",VLOOKUP(DATE(1900,$F491,D507),$D$3:$E$368,2),\"\")","v":"Ste Marthe"},"Ste Juliette","St Ign. Loyola","","",""]
[null,{"$f":"IF(C507=\"\",\"\",IF(B504=H489,1,B504+1))","v":31},{"$f":"IF(MONTH(E491+COLUMN()-COLUMN(C495)+(ROW()-ROW(C495)-8)*7)=F491,DAY(E491+COLUMN()-COLUMN(C495)+(ROW()-ROW(C495)-8)*7),\"\")","v":28},{"$f":"IF(MONTH(E491+COLUMN()-COLUMN(C495)+(ROW()-ROW(C495)-8)*7)=F491,DAY(E491+COLUMN()-COLUMN(C495)+(ROW()-ROW(C495)-8)*7),\"\")","v":29},{"$f":"IF(MONTH(E491+COLUMN()-COLUMN(C495)+(ROW()-ROW(C495)-8)*7)=F491,DAY(E491+COLUMN()-COLUMN(C495)+(ROW()-ROW(C495)-8)*7),\"\")","v":30},{"$f":"IF(MONTH(E491+COLUMN()-COLUMN(C495)+(ROW()-ROW(C495)-8)*7)=F491,DAY(E491+COLUMN()-COLUMN(C495)+(ROW()-ROW(C495)-8)*7),\"\")","v":31},{"$f":"IF(MONTH(E491+COLUMN()-COLUMN(C495)+(ROW()-ROW(C495)-8)*7)=F491,DAY(E491+COLUMN()-COLUMN(C495)+(ROW()-ROW(C495)-8)*7),\"\")","v":""},{"$f":"IF(MONTH(E491+COLUMN()-COLUMN(C495)+(ROW()-ROW(C495)-8)*7)=F491,DAY(E491+COLUMN()-COLUMN(C495)+(ROW()-ROW(C495)-8)*7),\"\")","v":""},{"$f":"IF(MONTH(E491+COLUMN()-COLUMN(C495)+(ROW()-ROW(C495)-8)*7)=F491,DAY(E491+COLUMN()-COLUMN(C495)+(ROW()-ROW(C495)-8)*7),\"\")","v":""}]
[null,{"$f":"IF(C510<>\"\",VLOOKUP(DATE(1900,$F491,C510),$D$3:$F$368,3),\"\")","v":""},null,{"$f":"IF(D510<>\"\",VLOOKUP(DATE(1900,$F491,D510),$D$3:$F$368,3),\"\")","v":""},"","","","",""]
[null,{"$f":"IF(C510<>\"\",VLOOKUP(DATE(1900,$F491,C510),$D$3:$E$368,2),\"\")","v":""},null,{"$f":"IF(D510<>\"\",VLOOKUP(DATE(1900,$F491,D510),$D$3:$E$368,2),\"\")","v":""},"","","","",""]
[null,{"$f":"IF(C510=\"\",\"\",IF(B507=H489,1,B507+1))","v":""},{"$f":"IF(MONTH(E491+COLUMN()-COLUMN(C495)+(ROW()-ROW(C495)-10)*7)=F491,DAY(E491+COLUMN()-COLUMN(C495)+(ROW()-ROW(C495)-10)*7),\"\")","v":""},{"$f":"IF(MONTH(E491+COLUMN()-COLUMN(C495)+(ROW()-ROW(C495)-10)*7)=F491,DAY(E491+COLUMN()-COLUMN(C495)+(ROW()-ROW(C495)-10)*7),\"\")","v":""},{"$f":"IF(MONTH(E491+COLUMN()-COLUMN(C495)+(ROW()-ROW(C495)-10)*7)=F491,DAY(E491+COLUMN()-COLUMN(C495)+(ROW()-ROW(C495)-10)*7),\"\")","v":""},{"$f":"IF(MONTH(E491+COLUMN()-COLUMN(C495)+(ROW()-ROW(C495)-10)*7)=F491,DAY(E491+COLUMN()-COLUMN(C495)+(ROW()-ROW(C495)-10)*7),\"\")","v":""},{"$f":"IF(MONTH(E491+COLUMN()-COLUMN(C495)+(ROW()-ROW(C495)-10)*7)=F491,DAY(E491+COLUMN()-COLUMN(C495)+(ROW()-ROW(C495)-10)*7),\"\")","v":""},{"$f":"IF(MONTH(E491+COLUMN()-COLUMN(C495)+(ROW()-ROW(C495)-10)*7)=F491,DAY(E491+COLUMN()-COLUMN(C495)+(ROW()-ROW(C495)-10)*7),\"\")","v":""},{"$f":"IF(MONTH(E491+COLUMN()-COLUMN(C495)+(ROW()-ROW(C495)-10)*7)=F491,DAY(E491+COLUMN()-COLUMN(C495)+(ROW()-ROW(C495)-10)*7),\"\")","v":""}]
[null,{"$f":"B491","v":"2008"},null,null,{"$f":"IF(C510<>\"\",E491+35,IF(I507=\"\",E491+28,E491+35))","v":39657},{"$f":"F491+1","v":8},null,null,{"$f":"TEXT(DATE(B511,F511,1),\"mmmm\")","v":"août"}]
[null,null,"Lundi","Mardi","Mercredi","Jeudi","Vendredi","Samedi","Dimanche"]
[null,{"$f":"IF(C515<>\"\",VLOOKUP(DATE(1900,$F511,C515),$D$3:$F$368,3),\"\")","v":""},null,{"$f":"IF(D515<>\"\",VLOOKUP(DATE(1900,$F511,D515),$D$3:$F$368,3),\"\")","v":""},"","",0,0,0]
[null,{"$f":"IF(C515<>\"\",VLOOKUP(DATE(1900,$F511,C515),$D$3:$E$368,2),\"\")","v":""},null,{"$f":"IF(D515<>\"\",VLOOKUP(DATE(1900,$F511,D515),$D$3:$E$368,2),\"\")","v":""},"","","St Alphonse","St Julien-Eym.","Ste Lydie"]
[null,{"$f":"MAX(B510,B507,B504)+(I510<>\"\")+AND(I507=\"\",C507=\"\")+AND(I507<>\"\",C510=\"\")","v":31},{"$f":"IF(MONTH(E511+COLUMN()-COLUMN(C515)+(ROW()-ROW(C515))*7)=F511,DAY(E511+COLUMN()-COLUMN(C515)+(ROW()-ROW(C515))*7),\"\")","v":""},{"$f":"IF(MONTH(E511+COLUMN()-COLUMN(C515)+(ROW()-ROW(C515))*7)=F511,DAY(E511+COLUMN()-COLUMN(C515)+(ROW()-ROW(C515))*7),\"\")","v":""},{"$f":"IF(MONTH(E511+COLUMN()-COLUMN(C515)+(ROW()-ROW(C515))*7)=F511,DAY(E511+COLUMN()-COLUMN(C515)+(ROW()-ROW(C515))*7),\"\")","v":""},{"$f":"IF(MONTH(E511+COLUMN()-COLUMN(C515)+(ROW()-ROW(C515))*7)=F511,DAY(E511+COLUMN()-COLUMN(C515)+(ROW()-ROW(C515))*7),\"\")","v":""},{"$f":"IF(MONTH(E511+COLUMN()-COLUMN(C515)+(ROW()-ROW(C515))*7)=F511,DAY(E511+COLUMN()-COLUMN(C515)+(ROW()-ROW(C515))*7),\"\")","v":1},{"$f":"IF(MONTH(E511+COLUMN()-COLUMN(C515)+(ROW()-ROW(C515))*7)=F511,DAY(E511+COLUMN()-COLUMN(C515)+(ROW()-ROW(C515))*7),\"\")","v":2},{"$f":"IF(MONTH(E511+COLUMN()-COLUMN(C515)+(ROW()-ROW(C515))*7)=F511,DAY(E511+COLUMN()-COLUMN(C515)+(ROW()-ROW(C515))*7),\"\")","v":3}]
[null,{"$f":"IF(C518<>\"\",VLOOKUP(DATE(1900,$F511,C518),$D$3:$F$368,3),\"\")","v":0},null,{"$f":"IF(D518<>\"\",VLOOKUP(DATE(1900,$F511,D518),$D$3:$F$368,3),\"\")","v":0},0,0,0,0,0]
[null,{"$f":"IF(C518<>\"\",VLOOKUP(DATE(1900,$F511,C518),$D$3:$E$368,2),\"\")","v":"St J.M. Vianney"},null,{"$f":"IF(D518<>\"\",VLOOKUP(DATE(1900,$F511,D518),$D$3:$E$368,2),\"\")","v":"St Abel"},"Transfiguration","St Gaëtan","St Dominique","St Amour","St Laurent"]
[null,{"$f":"(B515+1)-(INT(((B515+1)-1)/$P$374))*$P$374","v":32},{"$f":"IF(MONTH(E511+COLUMN()-COLUMN(C515)+(ROW()-ROW(C515)-2)*7)=F511,DAY(E511+COLUMN()-COLUMN(C515)+(ROW()-ROW(C515)-2)*7),\"\")","v":4},{"$f":"IF(MONTH(E511+COLUMN()-COLUMN(C515)+(ROW()-ROW(C515)-2)*7)=F511,DAY(E511+COLUMN()-COLUMN(C515)+(ROW()-ROW(C515)-2)*7),\"\")","v":5},{"$f":"IF(MONTH(E511+COLUMN()-COLUMN(C515)+(ROW()-ROW(C515)-2)*7)=F511,DAY(E511+COLUMN()-COLUMN(C515)+(ROW()-ROW(C515)-2)*7),\"\")","v":6},{"$f":"IF(MONTH(E511+COLUMN()-COLUMN(C515)+(ROW()-ROW(C515)-2)*7)=F511,DAY(E511+COLUMN()-COLUMN(C515)+(ROW()-ROW(C515)-2)*7),\"\")","v":7},{"$f":"IF(MONTH(E511+COLUMN()-COLUMN(C515)+(ROW()-ROW(C515)-2)*7)=F511,DAY(E511+COLUMN()-COLUMN(C515)+(ROW()-ROW(C515)-2)*7),\"\")","v":8},{"$f":"IF(MONTH(E511+COLUMN()-COLUMN(C515)+(ROW()-ROW(C515)-2)*7)=F511,DAY(E511+COLUMN()-COLUMN(C515)+(ROW()-ROW(C515)-2)*7),\"\")","v":9},{"$f":"IF(MONTH(E511+COLUMN()-COLUMN(C515)+(ROW()-ROW(C515)-2)*7)=F511,DAY(E511+COLUMN()-COLUMN(C515)+(ROW()-ROW(C515)-2)*7),\"\")","v":10}]
[null,{"$f":"IF(C521<>\"\",VLOOKUP(DATE(1900,$F511,C521),$D$3:$F$368,3),\"\")","v":0},null,{"$f":"IF(D521<>\"\",VLOOKUP(DATE(1900,$F511,D521),$D$3:$F$368,3),\"\")","v":0},0,0,0,0,0]
[null,{"$f":"IF(C521<>\"\",VLOOKUP(DATE(1900,$F511,C521),$D$3:$E$368,2),\"\")","v":"Ste Claire"},null,{"$f":"IF(D521<>\"\",VLOOKUP(DATE(1900,$F511,D521),$D$3:$E$368,2),\"\")","v":"Ste Clarisse"},"St Hippolyte","St Evrard","Assomption","St Armel","St Hyacinthe"]
[null,{"$f":"B518+1","v":33},{"$f":"IF(MONTH(E511+COLUMN()-COLUMN(C515)+(ROW()-ROW(C515)-4)*7)=F511,DAY(E511+COLUMN()-COLUMN(C515)+(ROW()-ROW(C515)-4)*7),\"\")","v":11},{"$f":"IF(MONTH(E511+COLUMN()-COLUMN(C515)+(ROW()-ROW(C515)-4)*7)=F511,DAY(E511+COLUMN()-COLUMN(C515)+(ROW()-ROW(C515)-4)*7),\"\")","v":12},{"$f":"IF(MONTH(E511+COLUMN()-COLUMN(C515)+(ROW()-ROW(C515)-4)*7)=F511,DAY(E511+COLUMN()-COLUMN(C515)+(ROW()-ROW(C515)-4)*7),\"\")","v":13},{"$f":"IF(MONTH(E511+COLUMN()-COLUMN(C515)+(ROW()-ROW(C515)-4)*7)=F511,DAY(E511+COLUMN()-COLUMN(C515)+(ROW()-ROW(C515)-4)*7),\"\")","v":14},{"$f":"IF(MONTH(E511+COLUMN()-COLUMN(C515)+(ROW()-ROW(C515)-4)*7)=F511,DAY(E511+COLUMN()-COLUMN(C515)+(ROW()-ROW(C515)-4)*7),\"\")","v":15},{"$f":"IF(MONTH(E511+COLUMN()-COLUMN(C515)+(ROW()-ROW(C515)-4)*7)=F511,DAY(E511+COLUMN()-COLUMN(C515)+(ROW()-ROW(C515)-4)*7),\"\")","v":16},{"$f":"IF(MONTH(E511+COLUMN()-COLUMN(C515)+(ROW()-ROW(C515)-4)*7)=F511,DAY(E511+COLUMN()-COLUMN(C515)+(ROW()-ROW(C515)-4)*7),\"\")","v":17}]
[null,{"$f":"IF(C524<>\"\",VLOOKUP(DATE(1900,$F511,C524),$D$3:$F$368,3),\"\")","v":0},null,{"$f":"IF(D524<>\"\",VLOOKUP(DATE(1900,$F511,D524),$D$3:$F$368,3),\"\")","v":0},0,0,0,0,0]
[null,{"$f":"IF(C524<>\"\",VLOOKUP(DATE(1900,$F511,C524),$D$3:$E$368,2),\"\")","v":"Ste Hélène"},null,{"$f":"IF(D524<>\"\",VLOOKUP(DATE(1900,$F511,D524),$D$3:$E$368,2),\"\")","v":"St Jean Eudes"},"St Bernard","St Christophe","St Fabrice","Ste Rose de Lima","St Barthélémy"]
[null,{"$f":"B521+1","v":34},{"$f":"IF(MONTH(E511+COLUMN()-COLUMN(C515)+(ROW()-ROW(C515)-6)*7)=F511,DAY(E511+COLUMN()-COLUMN(C515)+(ROW()-ROW(C515)-6)*7),\"\")","v":18},{"$f":"IF(MONTH(E511+COLUMN()-COLUMN(C515)+(ROW()-ROW(C515)-6)*7)=F511,DAY(E511+COLUMN()-COLUMN(C515)+(ROW()-ROW(C515)-6)*7),\"\")","v":19},{"$f":"IF(MONTH(E511+COLUMN()-COLUMN(C515)+(ROW()-ROW(C515)-6)*7)=F511,DAY(E511+COLUMN()-COLUMN(C515)+(ROW()-ROW(C515)-6)*7),\"\")","v":20},{"$f":"IF(MONTH(E511+COLUMN()-COLUMN(C515)+(ROW()-ROW(C515)-6)*7)=F511,DAY(E511+COLUMN()-COLUMN(C515)+(ROW()-ROW(C515)-6)*7),\"\")","v":21},{"$f":"IF(MONTH(E511+COLUMN()-COLUMN(C515)+(ROW()-ROW(C515)-6)*7)=F511,DAY(E511+COLUMN()-COLUMN(C515)+(ROW()-ROW(C515)-6)*7),\"\")","v":22},{"$f":"IF(MONTH(E511+COLUMN()-COLUMN(C515)+(ROW()-ROW(C515)-6)*7)=F511,DAY(E511+COLUMN()-COLUMN(C515)+(ROW()-ROW(C515)-6)*7),\"\")","v":23},{"$f":"IF(MONTH(E511+COLUMN()-COLUMN(C515)+(ROW()-ROW(C515)-6)*7)=F511,DAY(E511+COLUMN()-COLUMN(C515)+(ROW()-ROW(C515)-6)*7),\"\")","v":24}]
[null,{"$f":"IF(C527<>\"\",VLOOKUP(DATE(1900,$F511,C527),$D$3:$F$368,3),\"\")","v":0},null,{"$f":"IF(D527<>\"\",VLOOKUP(DATE(1900,$F511,D527),$D$3:$F$368,3),\"\")","v":0},0,0,0,0,0]
[null,{"$f":"IF(C527<>\"\",VLOOKUP(DATE(1900,$F511,C527),$D$3:$E$368,2),\"\")","v":"St Louis"},null,{"$f":"IF(D527<>\"\",VLOOKUP(DATE(1900,$F511,D527),$D$3:$E$368,2),\"\")","v":"Ste Natacha"},"Ste Monique","St Augustin","Ste Sabine","St Fiacre","St Aristide"]
[null,{"$f":"IF(C527=\"\",\"\",IF(B524=H509,1,B524+1))","v":35},{"$f":"IF(MONTH(E511+COLUMN()-COLUMN(C515)+(ROW()-ROW(C515)-8)*7)=F511,DAY(E511+COLUMN()-COLUMN(C515)+(ROW()-ROW(C515)-8)*7),\"\")","v":25},{"$f":"IF(MONTH(E511+COLUMN()-COLUMN(C515)+(ROW()-ROW(C515)-8)*7)=F511,DAY(E511+COLUMN()-COLUMN(C515)+(ROW()-ROW(C515)-8)*7),\"\")","v":26},{"$f":"IF(MONTH(E511+COLUMN()-COLUMN(C515)+(ROW()-ROW(C515)-8)*7)=F511,DAY(E511+COLUMN()-COLUMN(C515)+(ROW()-ROW(C515)-8)*7),\"\")","v":27},{"$f":"IF(MONTH(E511+COLUMN()-COLUMN(C515)+(ROW()-ROW(C515)-8)*7)=F511,DAY(E511+COLUMN()-COLUMN(C515)+(ROW()-ROW(C515)-8)*7),\"\")","v":28},{"$f":"IF(MONTH(E511+COLUMN()-COLUMN(C515)+(ROW()-ROW(C515)-8)*7)=F511,DAY(E511+COLUMN()-COLUMN(C515)+(ROW()-ROW(C515)-8)*7),\"\")","v":29},{"$f":"IF(MONTH(E511+COLUMN()-COLUMN(C515)+(ROW()-ROW(C515)-8)*7)=F511,DAY(E511+COLUMN()-COLUMN(C515)+(ROW()-ROW(C515)-8)*7),\"\")","v":30},{"$f":"IF(MONTH(E511+COLUMN()-COLUMN(C515)+(ROW()-ROW(C515)-8)*7)=F511,DAY(E511+COLUMN()-COLUMN(C515)+(ROW()-ROW(C515)-8)*7),\"\")","v":31}]
[null,{"$f":"IF(C530<>\"\",VLOOKUP(DATE(1900,$F511,C530),$D$3:$F$368,3),\"\")","v":""},null,{"$f":"IF(D530<>\"\",VLOOKUP(DATE(1900,$F511,D530),$D$3:$F$368,3),\"\")","v":""},"","","","",""]
[null,{"$f":"IF(C530<>\"\",VLOOKUP(DATE(1900,$F511,C530),$D$3:$E$368,2),\"\")","v":""},null,{"$f":"IF(D530<>\"\",VLOOKUP(DATE(1900,$F511,D530),$D$3:$E$368,2),\"\")","v":""},"","","","",""]
[null,{"$f":"IF(C530=\"\",\"\",IF(B527=H509,1,B527+1))","v":""},{"$f":"IF(MONTH(E511+COLUMN()-COLUMN(C515)+(ROW()-ROW(C515)-10)*7)=F511,DAY(E511+COLUMN()-COLUMN(C515)+(ROW()-ROW(C515)-10)*7),\"\")","v":""},{"$f":"IF(MONTH(E511+COLUMN()-COLUMN(C515)+(ROW()-ROW(C515)-10)*7)=F511,DAY(E511+COLUMN()-COLUMN(C515)+(ROW()-ROW(C515)-10)*7),\"\")","v":""},{"$f":"IF(MONTH(E511+COLUMN()-COLUMN(C515)+(ROW()-ROW(C515)-10)*7)=F511,DAY(E511+COLUMN()-COLUMN(C515)+(ROW()-ROW(C515)-10)*7),\"\")","v":""},{"$f":"IF(MONTH(E511+COLUMN()-COLUMN(C515)+(ROW()-ROW(C515)-10)*7)=F511,DAY(E511+COLUMN()-COLUMN(C515)+(ROW()-ROW(C515)-10)*7),\"\")","v":""},{"$f":"IF(MONTH(E511+COLUMN()-COLUMN(C515)+(ROW()-ROW(C515)-10)*7)=F511,DAY(E511+COLUMN()-COLUMN(C515)+(ROW()-ROW(C515)-10)*7),\"\")","v":""},{"$f":"IF(MONTH(E511+COLUMN()-COLUMN(C515)+(ROW()-ROW(C515)-10)*7)=F511,DAY(E511+COLUMN()-COLUMN(C515)+(ROW()-ROW(C515)-10)*7),\"\")","v":""},{"$f":"IF(MONTH(E511+COLUMN()-COLUMN(C515)+(ROW()-ROW(C515)-10)*7)=F511,DAY(E511+COLUMN()-COLUMN(C515)+(ROW()-ROW(C515)-10)*7),\"\")","v":""}]
[null,{"$f":"B511","v":"2008"},null,null,{"$f":"IF(C530<>\"\",E511+35,IF(I527=\"\",E511+28,E511+35))","v":39692},{"$f":"F511+1","v":9},null,null,{"$f":"TEXT(DATE(B531,F531,1),\"mmmm\")","v":"septembre"}]
[null,null,"Lundi","Mardi","Mercredi","Jeudi","Vendredi","Samedi","Dimanche"]
[null,{"$f":"IF(C535<>\"\",VLOOKUP(DATE(1900,$F531,C535),$D$3:$F$368,3),\"\")","v":0},null,{"$f":"IF(D535<>\"\",VLOOKUP(DATE(1900,$F$531,D535),$D$3:$F$368,3),\"\")","v":0},{"$f":"IF(E535<>\"\",VLOOKUP(DATE(1900,$F531,E535),$D$3:$F$368,3),\"\")","v":0},{"$f":"IF(F535<>\"\",VLOOKUP(DATE(1900,$F531,F535),$D$3:$F$368,3),\"\")","v":0},{"$f":"IF(G535<>\"\",VLOOKUP(DATE(1900,$F531,G535),$D$3:$F$368,3),\"\")","v":0},{"$f":"IF(H535<>\"\",VLOOKUP(DATE(1900,$F531,H535),$D$3:$F$368,3),\"\")","v":0},{"$f":"IF(I535<>\"\",VLOOKUP(DATE(1900,$F531,I535),$D$3:$F$368,3),\"\")","v":0}]
[null,{"$f":"IF(C535<>\"\",VLOOKUP(DATE(1900,$F531,C535),$D$3:$E$368,2),\"\")","v":"St Gilles"},null,{"$f":"IF(D535<>\"\",VLOOKUP(DATE(1900,$F$531,D535),$D$3:$E$368,2),\"\")","v":"Ste Ingrid"},{"$f":"IF(E535<>\"\",VLOOKUP(DATE(1900,$F531,E535),$D$3:$E$368,2),\"\")","v":"St Grégoire"},{"$f":"IF(F535<>\"\",VLOOKUP(DATE(1900,$F531,F535),$D$3:$E$368,2),\"\")","v":"Ste Rosalie"},{"$f":"IF(G535<>\"\",VLOOKUP(DATE(1900,$F531,G535),$D$3:$E$368,2),\"\")","v":"Ste Raïssa"},{"$f":"IF(H535<>\"\",VLOOKUP(DATE(1900,$F531,H535),$D$3:$E$368,2),\"\")","v":"St Bertrand"},{"$f":"IF(I535<>\"\",VLOOKUP(DATE(1900,$F531,I535),$D$3:$E$368,2),\"\")","v":"Ste Reine"}]
[null,{"$f":"MAX(B530,B527,B524)+(I530<>\"\")+AND(I527=\"\",C527=\"\")+AND(I527<>\"\",C530=\"\")","v":36},{"$f":"IF(MONTH(E531+COLUMN()-COLUMN(C535)+(ROW()-ROW(C535))*7)=F531,DAY(E531+COLUMN()-COLUMN(C535)+(ROW()-ROW(C535))*7),\"\")","v":1},{"$f":"IF(MONTH(E531+COLUMN()-COLUMN(C535)+(ROW()-ROW(C535))*7)=F531,DAY(E531+COLUMN()-COLUMN(C535)+(ROW()-ROW(C535))*7),\"\")","v":2},{"$f":"IF(MONTH(E531+COLUMN()-COLUMN(C535)+(ROW()-ROW(C535))*7)=F531,DAY(E531+COLUMN()-COLUMN(C535)+(ROW()-ROW(C535))*7),\"\")","v":3},{"$f":"IF(MONTH(E531+COLUMN()-COLUMN(C535)+(ROW()-ROW(C535))*7)=F531,DAY(E531+COLUMN()-COLUMN(C535)+(ROW()-ROW(C535))*7),\"\")","v":4},{"$f":"IF(MONTH(E531+COLUMN()-COLUMN(C535)+(ROW()-ROW(C535))*7)=F531,DAY(E531+COLUMN()-COLUMN(C535)+(ROW()-ROW(C535))*7),\"\")","v":5},{"$f":"IF(MONTH(E531+COLUMN()-COLUMN(C535)+(ROW()-ROW(C535))*7)=F531,DAY(E531+COLUMN()-COLUMN(C535)+(ROW()-ROW(C535))*7),\"\")","v":6},{"$f":"IF(MONTH(E531+COLUMN()-COLUMN(C535)+(ROW()-ROW(C535))*7)=F531,DAY(E531+COLUMN()-COLUMN(C535)+(ROW()-ROW(C535))*7),\"\")","v":7}]
[null,{"$f":"IF(C538<>\"\",VLOOKUP(DATE(1900,$F$531,C538),$D$3:$F$368,3),\"\")","v":0},null,{"$f":"IF(D538<>\"\",VLOOKUP(DATE(1900,$F$531,D538),$D$3:$F$368,3),\"\")","v":0},0,0,0,0,0]
[null,{"$f":"IF(C538<>\"\",VLOOKUP(DATE(1900,$F531,C538),$D$3:$E$368,2),\"\")","v":"Nativité"},null,{"$f":"IF(D538<>\"\",VLOOKUP(DATE(1900,$F531,D538),$D$3:$E$368,2),\"\")","v":"St Alain"},"Ste Inès","Ste Adelphe","St Apollinaire","St Aimé","Croix Glorieuse"]
[null,{"$f":"(B535+1)-(INT(((B535+1)-1)/$P$374))*$P$374","v":37},{"$f":"IF(MONTH(E531+COLUMN()-COLUMN(C535)+(ROW()-ROW(C535)-2)*7)=F531,DAY(E531+COLUMN()-COLUMN(C535)+(ROW()-ROW(C535)-2)*7),\"\")","v":8},{"$f":"IF(MONTH(E531+COLUMN()-COLUMN(C535)+(ROW()-ROW(C535)-2)*7)=F531,DAY(E531+COLUMN()-COLUMN(C535)+(ROW()-ROW(C535)-2)*7),\"\")","v":9},{"$f":"IF(MONTH(E531+COLUMN()-COLUMN(C535)+(ROW()-ROW(C535)-2)*7)=F531,DAY(E531+COLUMN()-COLUMN(C535)+(ROW()-ROW(C535)-2)*7),\"\")","v":10},{"$f":"IF(MONTH(E531+COLUMN()-COLUMN(C535)+(ROW()-ROW(C535)-2)*7)=F531,DAY(E531+COLUMN()-COLUMN(C535)+(ROW()-ROW(C535)-2)*7),\"\")","v":11},{"$f":"IF(MONTH(E531+COLUMN()-COLUMN(C535)+(ROW()-ROW(C535)-2)*7)=F531,DAY(E531+COLUMN()-COLUMN(C535)+(ROW()-ROW(C535)-2)*7),\"\")","v":12},{"$f":"IF(MONTH(E531+COLUMN()-COLUMN(C535)+(ROW()-ROW(C535)-2)*7)=F531,DAY(E531+COLUMN()-COLUMN(C535)+(ROW()-ROW(C535)-2)*7),\"\")","v":13},{"$f":"IF(MONTH(E531+COLUMN()-COLUMN(C535)+(ROW()-ROW(C535)-2)*7)=F531,DAY(E531+COLUMN()-COLUMN(C535)+(ROW()-ROW(C535)-2)*7),\"\")","v":14}]
[null,{"$f":"IF(C541<>\"\",VLOOKUP(DATE(1900,$F$531,C541),$D$3:$F$368,3),\"\")","v":0},null,{"$f":"IF(D541<>\"\",VLOOKUP(DATE(1900,$F$531,D541),$D$3:$F$368,3),\"\")","v":0},0,0,0,0,0]
[null,{"$f":"IF(C541<>\"\",VLOOKUP(DATE(1900,$F531,C541),$D$3:$E$368,2),\"\")","v":"St Roland"},null,{"$f":"IF(D541<>\"\",VLOOKUP(DATE(1900,$F531,D541),$D$3:$E$368,2),\"\")","v":"Ste Edith"},"St Renaud","Ste Nadège","Ste Emilie","St Davy","St Matthieu"]
[null,{"$f":"B538+1","v":38},{"$f":"IF(MONTH(E531+COLUMN()-COLUMN(C535)+(ROW()-ROW(C535)-4)*7)=F531,DAY(E531+COLUMN()-COLUMN(C535)+(ROW()-ROW(C535)-4)*7),\"\")","v":15},{"$f":"IF(MONTH(E531+COLUMN()-COLUMN(C535)+(ROW()-ROW(C535)-4)*7)=F531,DAY(E531+COLUMN()-COLUMN(C535)+(ROW()-ROW(C535)-4)*7),\"\")","v":16},{"$f":"IF(MONTH(E531+COLUMN()-COLUMN(C535)+(ROW()-ROW(C535)-4)*7)=F531,DAY(E531+COLUMN()-COLUMN(C535)+(ROW()-ROW(C535)-4)*7),\"\")","v":17},{"$f":"IF(MONTH(E531+COLUMN()-COLUMN(C535)+(ROW()-ROW(C535)-4)*7)=F531,DAY(E531+COLUMN()-COLUMN(C535)+(ROW()-ROW(C535)-4)*7),\"\")","v":18},{"$f":"IF(MONTH(E531+COLUMN()-COLUMN(C535)+(ROW()-ROW(C535)-4)*7)=F531,DAY(E531+COLUMN()-COLUMN(C535)+(ROW()-ROW(C535)-4)*7),\"\")","v":19},{"$f":"IF(MONTH(E531+COLUMN()-COLUMN(C535)+(ROW()-ROW(C535)-4)*7)=F531,DAY(E531+COLUMN()-COLUMN(C535)+(ROW()-ROW(C535)-4)*7),\"\")","v":20},{"$f":"IF(MONTH(E531+COLUMN()-COLUMN(C535)+(ROW()-ROW(C535)-4)*7)=F531,DAY(E531+COLUMN()-COLUMN(C535)+(ROW()-ROW(C535)-4)*7),\"\")","v":21}]
[null,{"$f":"IF(C544<>\"\",VLOOKUP(DATE(1900,$F$531,C544),$D$3:$F$368,3),\"\")","v":0},null,{"$f":"IF(D544<>\"\",VLOOKUP(DATE(1900,$F$531,D544),$D$3:$F$368,3),\"\")","v":0},0,0,"CYRIL",0,0]
[null,{"$f":"IF(C544<>\"\",VLOOKUP(DATE(1900,$F531,C544),$D$3:$E$368,2),\"\")","v":"St Maurice"},null,{"$f":"IF(D544<>\"\",VLOOKUP(DATE(1900,$F531,D544),$D$3:$E$368,2),\"\")","v":"St Constant"},"Ste Thècle","St Herman","St Côme-Damien","St Vincent de Paul","St Venceslas"]
[null,{"$f":"B541+1","v":39},{"$f":"IF(MONTH(E531+COLUMN()-COLUMN(C535)+(ROW()-ROW(C535)-6)*7)=F531,DAY(E531+COLUMN()-COLUMN(C535)+(ROW()-ROW(C535)-6)*7),\"\")","v":22},{"$f":"IF(MONTH(E531+COLUMN()-COLUMN(C535)+(ROW()-ROW(C535)-6)*7)=F531,DAY(E531+COLUMN()-COLUMN(C535)+(ROW()-ROW(C535)-6)*7),\"\")","v":23},{"$f":"IF(MONTH(E531+COLUMN()-COLUMN(C535)+(ROW()-ROW(C535)-6)*7)=F531,DAY(E531+COLUMN()-COLUMN(C535)+(ROW()-ROW(C535)-6)*7),\"\")","v":24},{"$f":"IF(MONTH(E531+COLUMN()-COLUMN(C535)+(ROW()-ROW(C535)-6)*7)=F531,DAY(E531+COLUMN()-COLUMN(C535)+(ROW()-ROW(C535)-6)*7),\"\")","v":25},{"$f":"IF(MONTH(E531+COLUMN()-COLUMN(C535)+(ROW()-ROW(C535)-6)*7)=F531,DAY(E531+COLUMN()-COLUMN(C535)+(ROW()-ROW(C535)-6)*7),\"\")","v":26},{"$f":"IF(MONTH(E531+COLUMN()-COLUMN(C535)+(ROW()-ROW(C535)-6)*7)=F531,DAY(E531+COLUMN()-COLUMN(C535)+(ROW()-ROW(C535)-6)*7),\"\")","v":27},{"$f":"IF(MONTH(E531+COLUMN()-COLUMN(C535)+(ROW()-ROW(C535)-6)*7)=F531,DAY(E531+COLUMN()-COLUMN(C535)+(ROW()-ROW(C535)-6)*7),\"\")","v":28}]
[null,{"$f":"IF(C547<>\"\",VLOOKUP(DATE(1900,$F$531,C547),$D$3:$F$368,3),\"\")","v":0},null,{"$f":"IF(D547<>\"\",VLOOKUP(DATE(1900,$F$531,D547),$D$3:$F$368,3),\"\")","v":0},{"$f":"IF(E547<>\"\",VLOOKUP(DATE(1900,$F$531,E547),$D$3:$F$368,3),\"\")","v":""},{"$f":"IF(F547<>\"\",VLOOKUP(DATE(1900,$F$531,F547),$D$3:$F$368,3),\"\")","v":""},{"$f":"IF(G547<>\"\",VLOOKUP(DATE(1900,$F$531,G547),$D$3:$F$368,3),\"\")","v":""},{"$f":"IF(H547<>\"\",VLOOKUP(DATE(1900,$F$531,H547),$D$3:$F$368,3),\"\")","v":""}]
[null,{"$f":"IF(C547<>\"\",VLOOKUP(DATE(1900,$F531,C547),$D$3:$E$368,2),\"\")","v":"Sts Michel-Gabriel"},null,{"$f":"IF(D547<>\"\",VLOOKUP(DATE(1900,$F531,D547),$D$3:$E$368,2),\"\")","v":"St Jérôme"},"","","","",""]
[null,{"$f":"IF(C547=\"\",\"\",IF(B544=H529,1,B544+1))","v":40},{"$f":"IF(MONTH(E531+COLUMN()-COLUMN(C535)+(ROW()-ROW(C535)-8)*7)=F531,DAY(E531+COLUMN()-COLUMN(C535)+(ROW()-ROW(C535)-8)*7),\"\")","v":29},{"$f":"IF(MONTH(E531+COLUMN()-COLUMN(C535)+(ROW()-ROW(C535)-8)*7)=F531,DAY(E531+COLUMN()-COLUMN(C535)+(ROW()-ROW(C535)-8)*7),\"\")","v":30},{"$f":"IF(MONTH(E531+COLUMN()-COLUMN(C535)+(ROW()-ROW(C535)-8)*7)=F531,DAY(E531+COLUMN()-COLUMN(C535)+(ROW()-ROW(C535)-8)*7),\"\")","v":""},{"$f":"IF(MONTH(E531+COLUMN()-COLUMN(C535)+(ROW()-ROW(C535)-8)*7)=F531,DAY(E531+COLUMN()-COLUMN(C535)+(ROW()-ROW(C535)-8)*7),\"\")","v":""},{"$f":"IF(MONTH(E531+COLUMN()-COLUMN(C535)+(ROW()-ROW(C535)-8)*7)=F531,DAY(E531+COLUMN()-COLUMN(C535)+(ROW()-ROW(C535)-8)*7),\"\")","v":""},{"$f":"IF(MONTH(E531+COLUMN()-COLUMN(C535)+(ROW()-ROW(C535)-8)*7)=F531,DAY(E531+COLUMN()-COLUMN(C535)+(ROW()-ROW(C535)-8)*7),\"\")","v":""},{"$f":"IF(MONTH(E531+COLUMN()-COLUMN(C535)+(ROW()-ROW(C535)-8)*7)=F531,DAY(E531+COLUMN()-COLUMN(C535)+(ROW()-ROW(C535)-8)*7),\"\")","v":""}]
[null,{"$f":"IF(C550<>\"\",VLOOKUP(DATE(1900,$F$531,C550),$D$3:$F$368,3),\"\")","v":""},null,{"$f":"IF(D550<>\"\",VLOOKUP(DATE(1900,$F$531,D550),$D$3:$F$368,3),\"\")","v":""},"","","","",""]
[null,{"$f":"IF(C550<>\"\",VLOOKUP(DATE(1900,$F531,C550),$D$3:$E$368,2),\"\")","v":""},null,{"$f":"IF(D550<>\"\",VLOOKUP(DATE(1900,$F531,D550),$D$3:$E$368,2),\"\")","v":""},"","","","",""]
[null,{"$f":"IF(C550=\"\",\"\",IF(B547=H529,1,B547+1))","v":""},{"$f":"IF(MONTH(E531+COLUMN()-COLUMN(C535)+(ROW()-ROW(C535)-10)*7)=F531,DAY(E531+COLUMN()-COLUMN(C535)+(ROW()-ROW(C535)-10)*7),\"\")","v":""},{"$f":"IF(MONTH(E531+COLUMN()-COLUMN(C535)+(ROW()-ROW(C535)-10)*7)=F531,DAY(E531+COLUMN()-COLUMN(C535)+(ROW()-ROW(C535)-10)*7),\"\")","v":""},{"$f":"IF(MONTH(E531+COLUMN()-COLUMN(C535)+(ROW()-ROW(C535)-10)*7)=F531,DAY(E531+COLUMN()-COLUMN(C535)+(ROW()-ROW(C535)-10)*7),\"\")","v":""},{"$f":"IF(MONTH(E531+COLUMN()-COLUMN(C535)+(ROW()-ROW(C535)-10)*7)=F531,DAY(E531+COLUMN()-COLUMN(C535)+(ROW()-ROW(C535)-10)*7),\"\")","v":""},{"$f":"IF(MONTH(E531+COLUMN()-COLUMN(C535)+(ROW()-ROW(C535)-10)*7)=F531,DAY(E531+COLUMN()-COLUMN(C535)+(ROW()-ROW(C535)-10)*7),\"\")","v":""},{"$f":"IF(MONTH(E531+COLUMN()-COLUMN(C535)+(ROW()-ROW(C535)-10)*7)=F531,DAY(E531+COLUMN()-COLUMN(C535)+(ROW()-ROW(C535)-10)*7),\"\")","v":""},{"$f":"IF(MONTH(E531+COLUMN()-COLUMN(C535)+(ROW()-ROW(C535)-10)*7)=F531,DAY(E531+COLUMN()-COLUMN(C535)+(ROW()-ROW(C535)-10)*7),\"\")","v":""}]
[null,{"$f":"B531","v":"2008"},null,null,{"$f":"IF(C550<>\"\",E531+35,IF(I547=\"\",E531+28,E531+35))","v":39720},{"$f":"F531+1","v":10},null,null,{"$f":"TEXT(DATE(B551,F551,1),\"mmmm\")","v":"octobre"}]
[null,null,"Lundi","Mardi","Mercredi","Jeudi","Vendredi","Samedi","Dimanche"]
[null,{"$f":"IF(C555<>\"\",VLOOKUP(DATE(1900,$F$551,C555),$D$3:$F$368,3),\"\")","v":""},null,{"$f":"IF(D555<>\"\",VLOOKUP(DATE(1900,$F$551,D555),$D$3:$F$368,3),\"\")","v":""},0,0,0,0,0]
[null,{"$f":"IF(C555<>\"\",VLOOKUP(DATE(1900,$F551,C555),$D$3:$E$368,2),\"\")","v":""},null,{"$f":"IF(D555<>\"\",VLOOKUP(DATE(1900,$F551,D555),$D$3:$E$368,2),\"\")","v":""},"Ste Thérèse de l'E. J.","St Léger","St Gérard","St Fr. d'Assise","Ste Fleur"]
[null,{"$f":"MAX(B550,B547,B544)+(I550<>\"\")+AND(I547=\"\",C547=\"\")+AND(I547<>\"\",C550=\"\")","v":40},{"$f":"IF(MONTH(E551+COLUMN()-COLUMN(C555)+(ROW()-ROW(C555))*7)=F551,DAY(E551+COLUMN()-COLUMN(C555)+(ROW()-ROW(C555))*7),\"\")","v":""},{"$f":"IF(MONTH(E551+COLUMN()-COLUMN(C555)+(ROW()-ROW(C555))*7)=F551,DAY(E551+COLUMN()-COLUMN(C555)+(ROW()-ROW(C555))*7),\"\")","v":""},{"$f":"IF(MONTH(E551+COLUMN()-COLUMN(C555)+(ROW()-ROW(C555))*7)=F551,DAY(E551+COLUMN()-COLUMN(C555)+(ROW()-ROW(C555))*7),\"\")","v":1},{"$f":"IF(MONTH(E551+COLUMN()-COLUMN(C555)+(ROW()-ROW(C555))*7)=F551,DAY(E551+COLUMN()-COLUMN(C555)+(ROW()-ROW(C555))*7),\"\")","v":2},{"$f":"IF(MONTH(E551+COLUMN()-COLUMN(C555)+(ROW()-ROW(C555))*7)=F551,DAY(E551+COLUMN()-COLUMN(C555)+(ROW()-ROW(C555))*7),\"\")","v":3},{"$f":"IF(MONTH(E551+COLUMN()-COLUMN(C555)+(ROW()-ROW(C555))*7)=F551,DAY(E551+COLUMN()-COLUMN(C555)+(ROW()-ROW(C555))*7),\"\")","v":4},{"$f":"IF(MONTH(E551+COLUMN()-COLUMN(C555)+(ROW()-ROW(C555))*7)=F551,DAY(E551+COLUMN()-COLUMN(C555)+(ROW()-ROW(C555))*7),\"\")","v":5}]
[null,{"$f":"IF(C558<>\"\",VLOOKUP(DATE(1900,$F$551,C558),$D$3:$F$368,3),\"\")","v":0},null,{"$f":"IF(D558<>\"\",VLOOKUP(DATE(1900,$F$551,D558),$D$3:$F$368,3),\"\")","v":0},0,"ALINE",0,0,0]
[null,{"$f":"IF(C558<>\"\",VLOOKUP(DATE(1900,$F551,C558),$D$3:$E$368,2),\"\")","v":"St Bruno"},null,{"$f":"IF(D558<>\"\",VLOOKUP(DATE(1900,$F551,D558),$D$3:$E$368,2),\"\")","v":"St Serge"},"Ste Pélagie","St Denis ","St Ghislain","St Firmin","St Wilfrid"]
[null,{"$f":"(B555+1)-(INT(((B555+1)-1)/$P$374))*$P$374","v":41},{"$f":"IF(MONTH(E551+COLUMN()-COLUMN(C555)+(ROW()-ROW(C555)-2)*7)=F551,DAY(E551+COLUMN()-COLUMN(C555)+(ROW()-ROW(C555)-2)*7),\"\")","v":6},{"$f":"IF(MONTH(E551+COLUMN()-COLUMN(C555)+(ROW()-ROW(C555)-2)*7)=F551,DAY(E551+COLUMN()-COLUMN(C555)+(ROW()-ROW(C555)-2)*7),\"\")","v":7},{"$f":"IF(MONTH(E551+COLUMN()-COLUMN(C555)+(ROW()-ROW(C555)-2)*7)=F551,DAY(E551+COLUMN()-COLUMN(C555)+(ROW()-ROW(C555)-2)*7),\"\")","v":8},{"$f":"IF(MONTH(E551+COLUMN()-COLUMN(C555)+(ROW()-ROW(C555)-2)*7)=F551,DAY(E551+COLUMN()-COLUMN(C555)+(ROW()-ROW(C555)-2)*7),\"\")","v":9},{"$f":"IF(MONTH(E551+COLUMN()-COLUMN(C555)+(ROW()-ROW(C555)-2)*7)=F551,DAY(E551+COLUMN()-COLUMN(C555)+(ROW()-ROW(C555)-2)*7),\"\")","v":10},{"$f":"IF(MONTH(E551+COLUMN()-COLUMN(C555)+(ROW()-ROW(C555)-2)*7)=F551,DAY(E551+COLUMN()-COLUMN(C555)+(ROW()-ROW(C555)-2)*7),\"\")","v":11},{"$f":"IF(MONTH(E551+COLUMN()-COLUMN(C555)+(ROW()-ROW(C555)-2)*7)=F551,DAY(E551+COLUMN()-COLUMN(C555)+(ROW()-ROW(C555)-2)*7),\"\")","v":12}]
[null,{"$f":"IF(C561<>\"\",VLOOKUP(DATE(1900,$F$551,C561),$D$3:$F$368,3),\"\")","v":0},null,{"$f":"IF(D561<>\"\",VLOOKUP(DATE(1900,$F$551,D561),$D$3:$F$368,3),\"\")","v":0},0,0,0,0,0]
[null,{"$f":"IF(C561<>\"\",VLOOKUP(DATE(1900,$F551,C561),$D$3:$E$368,2),\"\")","v":"St Géraud"},null,{"$f":"IF(D561<>\"\",VLOOKUP(DATE(1900,$F551,D561),$D$3:$E$368,2),\"\")","v":"St Juste"},"Ste Thérèse d'A.","Ste Edwige","St Baudouin","St Luc","St René"]
[null,{"$f":"B558+1","v":42},{"$f":"IF(MONTH(E551+COLUMN()-COLUMN(C555)+(ROW()-ROW(C555)-4)*7)=F551,DAY(E551+COLUMN()-COLUMN(C555)+(ROW()-ROW(C555)-4)*7),\"\")","v":13},{"$f":"IF(MONTH(E551+COLUMN()-COLUMN(C555)+(ROW()-ROW(C555)-4)*7)=F551,DAY(E551+COLUMN()-COLUMN(C555)+(ROW()-ROW(C555)-4)*7),\"\")","v":14},{"$f":"IF(MONTH(E551+COLUMN()-COLUMN(C555)+(ROW()-ROW(C555)-4)*7)=F551,DAY(E551+COLUMN()-COLUMN(C555)+(ROW()-ROW(C555)-4)*7),\"\")","v":15},{"$f":"IF(MONTH(E551+COLUMN()-COLUMN(C555)+(ROW()-ROW(C555)-4)*7)=F551,DAY(E551+COLUMN()-COLUMN(C555)+(ROW()-ROW(C555)-4)*7),\"\")","v":16},{"$f":"IF(MONTH(E551+COLUMN()-COLUMN(C555)+(ROW()-ROW(C555)-4)*7)=F551,DAY(E551+COLUMN()-COLUMN(C555)+(ROW()-ROW(C555)-4)*7),\"\")","v":17},{"$f":"IF(MONTH(E551+COLUMN()-COLUMN(C555)+(ROW()-ROW(C555)-4)*7)=F551,DAY(E551+COLUMN()-COLUMN(C555)+(ROW()-ROW(C555)-4)*7),\"\")","v":18},{"$f":"IF(MONTH(E551+COLUMN()-COLUMN(C555)+(ROW()-ROW(C555)-4)*7)=F551,DAY(E551+COLUMN()-COLUMN(C555)+(ROW()-ROW(C555)-4)*7),\"\")","v":19}]
[null,{"$f":"IF(C564<>\"\",VLOOKUP(DATE(1900,$F$551,C564),$D$3:$F$368,3),\"\")","v":0},null,{"$f":"IF(D564<>\"\",VLOOKUP(DATE(1900,$F$551,D564),$D$3:$F$368,3),\"\")","v":0},0,0,0,0,0]
[null,{"$f":"IF(C564<>\"\",VLOOKUP(DATE(1900,$F551,C564),$D$3:$E$368,2),\"\")","v":"Ste Adeline"},null,{"$f":"IF(D564<>\"\",VLOOKUP(DATE(1900,$F551,D564),$D$3:$E$368,2),\"\")","v":"Ste Céline"},"Ste Salomé","St Jean de C.","St Florentin","St Enguerran","St Dimitri"]
[null,{"$f":"B561+1","v":43},{"$f":"IF(MONTH(E551+COLUMN()-COLUMN(C555)+(ROW()-ROW(C555)-6)*7)=F551,DAY(E551+COLUMN()-COLUMN(C555)+(ROW()-ROW(C555)-6)*7),\"\")","v":20},{"$f":"IF(MONTH(E551+COLUMN()-COLUMN(C555)+(ROW()-ROW(C555)-6)*7)=F551,DAY(E551+COLUMN()-COLUMN(C555)+(ROW()-ROW(C555)-6)*7),\"\")","v":21},{"$f":"IF(MONTH(E551+COLUMN()-COLUMN(C555)+(ROW()-ROW(C555)-6)*7)=F551,DAY(E551+COLUMN()-COLUMN(C555)+(ROW()-ROW(C555)-6)*7),\"\")","v":22},{"$f":"IF(MONTH(E551+COLUMN()-COLUMN(C555)+(ROW()-ROW(C555)-6)*7)=F551,DAY(E551+COLUMN()-COLUMN(C555)+(ROW()-ROW(C555)-6)*7),\"\")","v":23},{"$f":"IF(MONTH(E551+COLUMN()-COLUMN(C555)+(ROW()-ROW(C555)-6)*7)=F551,DAY(E551+COLUMN()-COLUMN(C555)+(ROW()-ROW(C555)-6)*7),\"\")","v":24},{"$f":"IF(MONTH(E551+COLUMN()-COLUMN(C555)+(ROW()-ROW(C555)-6)*7)=F551,DAY(E551+COLUMN()-COLUMN(C555)+(ROW()-ROW(C555)-6)*7),\"\")","v":25},{"$f":"IF(MONTH(E551+COLUMN()-COLUMN(C555)+(ROW()-ROW(C555)-6)*7)=F551,DAY(E551+COLUMN()-COLUMN(C555)+(ROW()-ROW(C555)-6)*7),\"\")","v":26}]
[null,{"$f":"IF(C567<>\"\",VLOOKUP(DATE(1900,$F$551,C567),$D$3:$F$368,3),\"\")","v":0},null,{"$f":"IF(D567<>\"\",VLOOKUP(DATE(1900,$F$551,D567),$D$3:$F$368,3),\"\")","v":0},0,0,0,"",""]
[null,{"$f":"IF(C567<>\"\",VLOOKUP(DATE(1900,$F551,C567),$D$3:$E$368,2),\"\")","v":"Ste Emeline"},null,{"$f":"IF(D567<>\"\",VLOOKUP(DATE(1900,$F551,D567),$D$3:$E$368,2),\"\")","v":"St Simon"},"St Narcisse","Ste Bienvenue","St Quentin","",""]
[null,{"$f":"IF(C567=\"\",\"\",IF(B564=H549,1,B564+1))","v":44},{"$f":"IF(MONTH(E551+COLUMN()-COLUMN(C555)+(ROW()-ROW(C555)-8)*7)=F551,DAY(E551+COLUMN()-COLUMN(C555)+(ROW()-ROW(C555)-8)*7),\"\")","v":27},{"$f":"IF(MONTH(E551+COLUMN()-COLUMN(C555)+(ROW()-ROW(C555)-8)*7)=F551,DAY(E551+COLUMN()-COLUMN(C555)+(ROW()-ROW(C555)-8)*7),\"\")","v":28},{"$f":"IF(MONTH(E551+COLUMN()-COLUMN(C555)+(ROW()-ROW(C555)-8)*7)=F551,DAY(E551+COLUMN()-COLUMN(C555)+(ROW()-ROW(C555)-8)*7),\"\")","v":29},{"$f":"IF(MONTH(E551+COLUMN()-COLUMN(C555)+(ROW()-ROW(C555)-8)*7)=F551,DAY(E551+COLUMN()-COLUMN(C555)+(ROW()-ROW(C555)-8)*7),\"\")","v":30},{"$f":"IF(MONTH(E551+COLUMN()-COLUMN(C555)+(ROW()-ROW(C555)-8)*7)=F551,DAY(E551+COLUMN()-COLUMN(C555)+(ROW()-ROW(C555)-8)*7),\"\")","v":31},{"$f":"IF(MONTH(E551+COLUMN()-COLUMN(C555)+(ROW()-ROW(C555)-8)*7)=F551,DAY(E551+COLUMN()-COLUMN(C555)+(ROW()-ROW(C555)-8)*7),\"\")","v":""},{"$f":"IF(MONTH(E551+COLUMN()-COLUMN(C555)+(ROW()-ROW(C555)-8)*7)=F551,DAY(E551+COLUMN()-COLUMN(C555)+(ROW()-ROW(C555)-8)*7),\"\")","v":""}]
[null,{"$f":"IF(C570<>\"\",VLOOKUP(DATE(1900,$F$551,C570),$D$3:$F$368,3),\"\")","v":""},null,{"$f":"IF(D570<>\"\",VLOOKUP(DATE(1900,$F$551,D570),$D$3:$F$368,3),\"\")","v":""},"","","","",""]
[null,{"$f":"IF(C570<>\"\",VLOOKUP(DATE(1900,$F551,C570),$D$3:$E$368,2),\"\")","v":""},null,{"$f":"IF(D570<>\"\",VLOOKUP(DATE(1900,$F551,D570),$D$3:$E$368,2),\"\")","v":""},"","","","",""]
[null,{"$f":"IF(C570=\"\",\"\",IF(B567=H549,1,B567+1))","v":""},{"$f":"IF(MONTH(E551+COLUMN()-COLUMN(C555)+(ROW()-ROW(C555)-10)*7)=F551,DAY(E551+COLUMN()-COLUMN(C555)+(ROW()-ROW(C555)-10)*7),\"\")","v":""},{"$f":"IF(MONTH(E551+COLUMN()-COLUMN(C555)+(ROW()-ROW(C555)-10)*7)=F551,DAY(E551+COLUMN()-COLUMN(C555)+(ROW()-ROW(C555)-10)*7),\"\")","v":""},{"$f":"IF(MONTH(E551+COLUMN()-COLUMN(C555)+(ROW()-ROW(C555)-10)*7)=F551,DAY(E551+COLUMN()-COLUMN(C555)+(ROW()-ROW(C555)-10)*7),\"\")","v":""},{"$f":"IF(MONTH(E551+COLUMN()-COLUMN(C555)+(ROW()-ROW(C555)-10)*7)=F551,DAY(E551+COLUMN()-COLUMN(C555)+(ROW()-ROW(C555)-10)*7),\"\")","v":""},{"$f":"IF(MONTH(E551+COLUMN()-COLUMN(C555)+(ROW()-ROW(C555)-10)*7)=F551,DAY(E551+COLUMN()-COLUMN(C555)+(ROW()-ROW(C555)-10)*7),\"\")","v":""},{"$f":"IF(MONTH(E551+COLUMN()-COLUMN(C555)+(ROW()-ROW(C555)-10)*7)=F551,DAY(E551+COLUMN()-COLUMN(C555)+(ROW()-ROW(C555)-10)*7),\"\")","v":""},{"$f":"IF(MONTH(E551+COLUMN()-COLUMN(C555)+(ROW()-ROW(C555)-10)*7)=F551,DAY(E551+COLUMN()-COLUMN(C555)+(ROW()-ROW(C555)-10)*7),\"\")","v":""}]
[null,{"$f":"B551","v":"2008"},null,null,{"$f":"IF(C570<>\"\",E551+35,IF(I567=\"\",E551+28,E551+35))","v":39748},{"$f":"F551+1","v":11},null,null,{"$f":"TEXT(DATE(B571,F571,1),\"mmmm\")","v":"novembre"}]
[null,null,"Lundi","Mardi","Mercredi","Jeudi","Vendredi","Samedi","Dimanche"]
[null,{"$f":"IF(C575<>\"\",VLOOKUP(DATE(1900,$F$571,C575),$D$3:$F$368,3),\"\")","v":""},null,{"$f":"IF(D575<>\"\",VLOOKUP(DATE(1900,$F$571,D575),$D$3:$F$368,3),\"\")","v":""},"","","",0,0]
[null,{"$f":"IF(C575<>\"\",VLOOKUP(DATE(1900,$F571,C575),$D$3:$E$368,2),\"\")","v":""},null,{"$f":"IF(D575<>\"\",VLOOKUP(DATE(1900,$F571,D575),$D$3:$E$368,2),\"\")","v":""},"","","","Toussaint","Défunts"]
[null,{"$f":"MAX(B570,B567,B564)+(I570<>\"\")+AND(I567=\"\",C567=\"\")+AND(I567<>\"\",C570=\"\")","v":44},{"$f":"IF(MONTH(E571+COLUMN()-COLUMN(C575)+(ROW()-ROW(C575))*7)=F571,DAY(E571+COLUMN()-COLUMN(C575)+(ROW()-ROW(C575))*7),\"\")","v":""},{"$f":"IF(MONTH(E571+COLUMN()-COLUMN(C575)+(ROW()-ROW(C575))*7)=F571,DAY(E571+COLUMN()-COLUMN(C575)+(ROW()-ROW(C575))*7),\"\")","v":""},{"$f":"IF(MONTH(E571+COLUMN()-COLUMN(C575)+(ROW()-ROW(C575))*7)=F571,DAY(E571+COLUMN()-COLUMN(C575)+(ROW()-ROW(C575))*7),\"\")","v":""},{"$f":"IF(MONTH(E571+COLUMN()-COLUMN(C575)+(ROW()-ROW(C575))*7)=F571,DAY(E571+COLUMN()-COLUMN(C575)+(ROW()-ROW(C575))*7),\"\")","v":""},{"$f":"IF(MONTH(E571+COLUMN()-COLUMN(C575)+(ROW()-ROW(C575))*7)=F571,DAY(E571+COLUMN()-COLUMN(C575)+(ROW()-ROW(C575))*7),\"\")","v":""},{"$f":"IF(MONTH(E571+COLUMN()-COLUMN(C575)+(ROW()-ROW(C575))*7)=F571,DAY(E571+COLUMN()-COLUMN(C575)+(ROW()-ROW(C575))*7),\"\")","v":1},{"$f":"IF(MONTH(E571+COLUMN()-COLUMN(C575)+(ROW()-ROW(C575))*7)=F571,DAY(E571+COLUMN()-COLUMN(C575)+(ROW()-ROW(C575))*7),\"\")","v":2}]
[null,{"$f":"IF(C578<>\"\",VLOOKUP(DATE(1900,$F$571,C578),$D$3:$F$368,3),\"\")","v":0},null,{"$f":"IF(D578<>\"\",VLOOKUP(DATE(1900,$F$571,D578),$D$3:$F$368,3),\"\")","v":0},0,0,0,0,0]
[null,{"$f":"IF(C578<>\"\",VLOOKUP(DATE(1900,$F571,C578),$D$3:$E$368,2),\"\")","v":"St Hubert"},null,{"$f":"IF(D578<>\"\",VLOOKUP(DATE(1900,$F571,D578),$D$3:$E$368,2),\"\")","v":"St Charles"},"Ste Sylvie","Ste Bertille","Ste Carine","St Geoffroy","St Théodore"]
[null,{"$f":"(B575+1)-(INT(((B575+1)-1)/$P$374))*$P$374","v":45},{"$f":"IF(MONTH(E571+COLUMN()-COLUMN(C575)+(ROW()-ROW(C575)-2)*7)=F571,DAY(E571+COLUMN()-COLUMN(C575)+(ROW()-ROW(C575)-2)*7),\"\")","v":3},{"$f":"IF(MONTH(E571+COLUMN()-COLUMN(C575)+(ROW()-ROW(C575)-2)*7)=F571,DAY(E571+COLUMN()-COLUMN(C575)+(ROW()-ROW(C575)-2)*7),\"\")","v":4},{"$f":"IF(MONTH(E571+COLUMN()-COLUMN(C575)+(ROW()-ROW(C575)-2)*7)=F571,DAY(E571+COLUMN()-COLUMN(C575)+(ROW()-ROW(C575)-2)*7),\"\")","v":5},{"$f":"IF(MONTH(E571+COLUMN()-COLUMN(C575)+(ROW()-ROW(C575)-2)*7)=F571,DAY(E571+COLUMN()-COLUMN(C575)+(ROW()-ROW(C575)-2)*7),\"\")","v":6},{"$f":"IF(MONTH(E571+COLUMN()-COLUMN(C575)+(ROW()-ROW(C575)-2)*7)=F571,DAY(E571+COLUMN()-COLUMN(C575)+(ROW()-ROW(C575)-2)*7),\"\")","v":7},{"$f":"IF(MONTH(E571+COLUMN()-COLUMN(C575)+(ROW()-ROW(C575)-2)*7)=F571,DAY(E571+COLUMN()-COLUMN(C575)+(ROW()-ROW(C575)-2)*7),\"\")","v":8},{"$f":"IF(MONTH(E571+COLUMN()-COLUMN(C575)+(ROW()-ROW(C575)-2)*7)=F571,DAY(E571+COLUMN()-COLUMN(C575)+(ROW()-ROW(C575)-2)*7),\"\")","v":9}]
[null,{"$f":"IF(C581<>\"\",VLOOKUP(DATE(1900,$F$571,C581),$D$3:$F$368,3),\"\")","v":0},null,{"$f":"IF(D581<>\"\",VLOOKUP(DATE(1900,$F$571,D581),$D$3:$F$368,3),\"\")","v":0},0,0,0,0,0]
[null,{"$f":"IF(C581<>\"\",VLOOKUP(DATE(1900,$F571,C581),$D$3:$E$368,2),\"\")","v":"St Léon"},null,{"$f":"IF(D581<>\"\",VLOOKUP(DATE(1900,$F571,D581),$D$3:$E$368,2),\"\")","v":"Armistice 1918"},"St Christian","St Brice","St Sidoine","St Albert","Ste Marguerite"]
[null,{"$f":"B578+1","v":46},{"$f":"IF(MONTH(E571+COLUMN()-COLUMN(C575)+(ROW()-ROW(C575)-4)*7)=F571,DAY(E571+COLUMN()-COLUMN(C575)+(ROW()-ROW(C575)-4)*7),\"\")","v":10},{"$f":"IF(MONTH(E571+COLUMN()-COLUMN(C575)+(ROW()-ROW(C575)-4)*7)=F571,DAY(E571+COLUMN()-COLUMN(C575)+(ROW()-ROW(C575)-4)*7),\"\")","v":11},{"$f":"IF(MONTH(E571+COLUMN()-COLUMN(C575)+(ROW()-ROW(C575)-4)*7)=F571,DAY(E571+COLUMN()-COLUMN(C575)+(ROW()-ROW(C575)-4)*7),\"\")","v":12},{"$f":"IF(MONTH(E571+COLUMN()-COLUMN(C575)+(ROW()-ROW(C575)-4)*7)=F571,DAY(E571+COLUMN()-COLUMN(C575)+(ROW()-ROW(C575)-4)*7),\"\")","v":13},{"$f":"IF(MONTH(E571+COLUMN()-COLUMN(C575)+(ROW()-ROW(C575)-4)*7)=F571,DAY(E571+COLUMN()-COLUMN(C575)+(ROW()-ROW(C575)-4)*7),\"\")","v":14},{"$f":"IF(MONTH(E571+COLUMN()-COLUMN(C575)+(ROW()-ROW(C575)-4)*7)=F571,DAY(E571+COLUMN()-COLUMN(C575)+(ROW()-ROW(C575)-4)*7),\"\")","v":15},{"$f":"IF(MONTH(E571+COLUMN()-COLUMN(C575)+(ROW()-ROW(C575)-4)*7)=F571,DAY(E571+COLUMN()-COLUMN(C575)+(ROW()-ROW(C575)-4)*7),\"\")","v":16}]
[null,{"$f":"IF(C584<>\"\",VLOOKUP(DATE(1900,$F$571,C584),$D$3:$F$368,3),\"\")","v":0},null,{"$f":"IF(D584<>\"\",VLOOKUP(DATE(1900,$F$571,D584),$D$3:$F$368,3),\"\")","v":0},0,0,0,0,0]
[null,{"$f":"IF(C584<>\"\",VLOOKUP(DATE(1900,$F571,C584),$D$3:$E$368,2),\"\")","v":"Ste Elisabeth"},null,{"$f":"IF(D584<>\"\",VLOOKUP(DATE(1900,$F571,D584),$D$3:$E$368,2),\"\")","v":"Ste Aude"},"St Tanguy","St Edmond","Prés. de Marie","Ste Cécile","St Clément"]
[null,{"$f":"B581+1","v":47},{"$f":"IF(MONTH(E571+COLUMN()-COLUMN(C575)+(ROW()-ROW(C575)-6)*7)=F571,DAY(E571+COLUMN()-COLUMN(C575)+(ROW()-ROW(C575)-6)*7),\"\")","v":17},{"$f":"IF(MONTH(E571+COLUMN()-COLUMN(C575)+(ROW()-ROW(C575)-6)*7)=F571,DAY(E571+COLUMN()-COLUMN(C575)+(ROW()-ROW(C575)-6)*7),\"\")","v":18},{"$f":"IF(MONTH(E571+COLUMN()-COLUMN(C575)+(ROW()-ROW(C575)-6)*7)=F571,DAY(E571+COLUMN()-COLUMN(C575)+(ROW()-ROW(C575)-6)*7),\"\")","v":19},{"$f":"IF(MONTH(E571+COLUMN()-COLUMN(C575)+(ROW()-ROW(C575)-6)*7)=F571,DAY(E571+COLUMN()-COLUMN(C575)+(ROW()-ROW(C575)-6)*7),\"\")","v":20},{"$f":"IF(MONTH(E571+COLUMN()-COLUMN(C575)+(ROW()-ROW(C575)-6)*7)=F571,DAY(E571+COLUMN()-COLUMN(C575)+(ROW()-ROW(C575)-6)*7),\"\")","v":21},{"$f":"IF(MONTH(E571+COLUMN()-COLUMN(C575)+(ROW()-ROW(C575)-6)*7)=F571,DAY(E571+COLUMN()-COLUMN(C575)+(ROW()-ROW(C575)-6)*7),\"\")","v":22},{"$f":"IF(MONTH(E571+COLUMN()-COLUMN(C575)+(ROW()-ROW(C575)-6)*7)=F571,DAY(E571+COLUMN()-COLUMN(C575)+(ROW()-ROW(C575)-6)*7),\"\")","v":23}]
[null,{"$f":"IF(C587<>\"\",VLOOKUP(DATE(1900,$F$571,C587),$D$3:$F$368,3),\"\")","v":0},null,{"$f":"IF(D587<>\"\",VLOOKUP(DATE(1900,$F$571,D587),$D$3:$F$368,3),\"\")","v":0},0,0,0,0,0]
[null,{"$f":"IF(C587<>\"\",VLOOKUP(DATE(1900,$F571,C587),$D$3:$E$368,2),\"\")","v":"Ste Flora"},null,{"$f":"IF(D587<>\"\",VLOOKUP(DATE(1900,$F571,D587),$D$3:$E$368,2),\"\")","v":"Ste Catherine L."},"Ste Delphine","St Séverin","St Jacques de M.","St Saturnin","St André"]
[null,{"$f":"IF(C587=\"\",\"\",IF(B584=H569,1,B584+1))","v":48},{"$f":"IF(MONTH(E571+COLUMN()-COLUMN(C575)+(ROW()-ROW(C575)-8)*7)=F571,DAY(E571+COLUMN()-COLUMN(C575)+(ROW()-ROW(C575)-8)*7),\"\")","v":24},{"$f":"IF(MONTH(E571+COLUMN()-COLUMN(C575)+(ROW()-ROW(C575)-8)*7)=F571,DAY(E571+COLUMN()-COLUMN(C575)+(ROW()-ROW(C575)-8)*7),\"\")","v":25},{"$f":"IF(MONTH(E571+COLUMN()-COLUMN(C575)+(ROW()-ROW(C575)-8)*7)=F571,DAY(E571+COLUMN()-COLUMN(C575)+(ROW()-ROW(C575)-8)*7),\"\")","v":26},{"$f":"IF(MONTH(E571+COLUMN()-COLUMN(C575)+(ROW()-ROW(C575)-8)*7)=F571,DAY(E571+COLUMN()-COLUMN(C575)+(ROW()-ROW(C575)-8)*7),\"\")","v":27},{"$f":"IF(MONTH(E571+COLUMN()-COLUMN(C575)+(ROW()-ROW(C575)-8)*7)=F571,DAY(E571+COLUMN()-COLUMN(C575)+(ROW()-ROW(C575)-8)*7),\"\")","v":28},{"$f":"IF(MONTH(E571+COLUMN()-COLUMN(C575)+(ROW()-ROW(C575)-8)*7)=F571,DAY(E571+COLUMN()-COLUMN(C575)+(ROW()-ROW(C575)-8)*7),\"\")","v":29},{"$f":"IF(MONTH(E571+COLUMN()-COLUMN(C575)+(ROW()-ROW(C575)-8)*7)=F571,DAY(E571+COLUMN()-COLUMN(C575)+(ROW()-ROW(C575)-8)*7),\"\")","v":30}]
[null,{"$f":"IF(C590<>\"\",VLOOKUP(DATE(1900,$F$571,C590),$D$3:$F$368,3),\"\")","v":""},null,{"$f":"IF(D590<>\"\",VLOOKUP(DATE(1900,$F$571,D590),$D$3:$F$368,3),\"\")","v":""},"","","","",""]
[null,{"$f":"IF(C590<>\"\",VLOOKUP(DATE(1900,$F571,C590),$D$3:$E$368,2),\"\")","v":""},null,{"$f":"IF(D590<>\"\",VLOOKUP(DATE(1900,$F571,D590),$D$3:$E$368,2),\"\")","v":""},"","","","",""]
[null,{"$f":"IF(C590=\"\",\"\",IF(B587=H569,1,B587+1))","v":""},{"$f":"IF(MONTH(E571+COLUMN()-COLUMN(C575)+(ROW()-ROW(C575)-10)*7)=F571,DAY(E571+COLUMN()-COLUMN(C575)+(ROW()-ROW(C575)-10)*7),\"\")","v":""},{"$f":"IF(MONTH(E571+COLUMN()-COLUMN(C575)+(ROW()-ROW(C575)-10)*7)=F571,DAY(E571+COLUMN()-COLUMN(C575)+(ROW()-ROW(C575)-10)*7),\"\")","v":""},{"$f":"IF(MONTH(E571+COLUMN()-COLUMN(C575)+(ROW()-ROW(C575)-10)*7)=F571,DAY(E571+COLUMN()-COLUMN(C575)+(ROW()-ROW(C575)-10)*7),\"\")","v":""},{"$f":"IF(MONTH(E571+COLUMN()-COLUMN(C575)+(ROW()-ROW(C575)-10)*7)=F571,DAY(E571+COLUMN()-COLUMN(C575)+(ROW()-ROW(C575)-10)*7),\"\")","v":""},{"$f":"IF(MONTH(E571+COLUMN()-COLUMN(C575)+(ROW()-ROW(C575)-10)*7)=F571,DAY(E571+COLUMN()-COLUMN(C575)+(ROW()-ROW(C575)-10)*7),\"\")","v":""},{"$f":"IF(MONTH(E571+COLUMN()-COLUMN(C575)+(ROW()-ROW(C575)-10)*7)=F571,DAY(E571+COLUMN()-COLUMN(C575)+(ROW()-ROW(C575)-10)*7),\"\")","v":""},{"$f":"IF(MONTH(E571+COLUMN()-COLUMN(C575)+(ROW()-ROW(C575)-10)*7)=F571,DAY(E571+COLUMN()-COLUMN(C575)+(ROW()-ROW(C575)-10)*7),\"\")","v":""}]
[null,{"$f":"B571","v":"2008"},null,null,{"$f":"IF(C590<>\"\",E571+35,IF(I587=\"\",E571+28,E571+35))","v":39783},{"$f":"F571+1","v":12},null,null,{"$f":"TEXT(DATE(B591,F591,1),\"mmmm\")","v":"décembre"}]
[null,null,"Lundi","Mardi","Mercredi","Jeudi","Vendredi","Samedi","Dimanche"]
[null,{"$f":"IF(C595<>\"\",VLOOKUP(DATE(1900,$F$591,C595),$D$3:$F$368,3),\"\")","v":0},null,{"$f":"IF(D595<>\"\",VLOOKUP(DATE(1900,$F$591,D595),$D$3:$F$368,3),\"\")","v":0},0,0,0,0,0]
[null,{"$f":"IF(C595<>\"\",VLOOKUP(DATE(1900,$F591,C595),$D$3:$E$368,2),\"\")","v":"Ste Florence"},null,{"$f":"IF(D595<>\"\",VLOOKUP(DATE(1900,$F591,D595),$D$3:$E$368,2),\"\")","v":"Ste Viviane"},"St François Xavier","Ste Barbara","St Gérald","St Nicolas","St Ambroise"]
[null,{"$f":"MAX(B590,B587,B584)+(I590<>\"\")+AND(I587=\"\",C587=\"\")+AND(I587<>\"\",C590=\"\")","v":49},{"$f":"IF(MONTH(E591+COLUMN()-COLUMN(C595)+(ROW()-ROW(C595))*7)=F591,DAY(E591+COLUMN()-COLUMN(C595)+(ROW()-ROW(C595))*7),\"\")","v":1},{"$f":"IF(MONTH(E591+COLUMN()-COLUMN(C595)+(ROW()-ROW(C595))*7)=F591,DAY(E591+COLUMN()-COLUMN(C595)+(ROW()-ROW(C595))*7),\"\")","v":2},{"$f":"IF(MONTH(E591+COLUMN()-COLUMN(C595)+(ROW()-ROW(C595))*7)=F591,DAY(E591+COLUMN()-COLUMN(C595)+(ROW()-ROW(C595))*7),\"\")","v":3},{"$f":"IF(MONTH(E591+COLUMN()-COLUMN(C595)+(ROW()-ROW(C595))*7)=F591,DAY(E591+COLUMN()-COLUMN(C595)+(ROW()-ROW(C595))*7),\"\")","v":4},{"$f":"IF(MONTH(E591+COLUMN()-COLUMN(C595)+(ROW()-ROW(C595))*7)=F591,DAY(E591+COLUMN()-COLUMN(C595)+(ROW()-ROW(C595))*7),\"\")","v":5},{"$f":"IF(MONTH(E591+COLUMN()-COLUMN(C595)+(ROW()-ROW(C595))*7)=F591,DAY(E591+COLUMN()-COLUMN(C595)+(ROW()-ROW(C595))*7),\"\")","v":6},{"$f":"IF(MONTH(E591+COLUMN()-COLUMN(C595)+(ROW()-ROW(C595))*7)=F591,DAY(E591+COLUMN()-COLUMN(C595)+(ROW()-ROW(C595))*7),\"\")","v":7}]
[null,{"$f":"IF(C598<>\"\",VLOOKUP(DATE(1900,$F$591,C598),$D$3:$F$368,3),\"\")","v":0},null,{"$f":"IF(D598<>\"\",VLOOKUP(DATE(1900,$F$591,D598),$D$3:$F$368,3),\"\")","v":0},0,0,0,0,0]
[null,{"$f":"IF(C598<>\"\",VLOOKUP(DATE(1900,$F591,C598),$D$3:$E$368,2),\"\")","v":"Immac. Conception"},null,{"$f":"IF(D598<>\"\",VLOOKUP(DATE(1900,$F591,D598),$D$3:$E$368,2),\"\")","v":"St P. Fourier"},"St Romaric","St Daniel","Ste J.-F. Chantal","Ste Lucie","Ste Odile"]
[null,{"$f":"(B595+1)-(INT(((B595+1)-1)/$P$374))*$P$374","v":50},{"$f":"IF(MONTH(E591+COLUMN()-COLUMN(C595)+(ROW()-ROW(C595)-2)*7)=F591,DAY(E591+COLUMN()-COLUMN(C595)+(ROW()-ROW(C595)-2)*7),\"\")","v":8},{"$f":"IF(MONTH(E591+COLUMN()-COLUMN(C595)+(ROW()-ROW(C595)-2)*7)=F591,DAY(E591+COLUMN()-COLUMN(C595)+(ROW()-ROW(C595)-2)*7),\"\")","v":9},{"$f":"IF(MONTH(E591+COLUMN()-COLUMN(C595)+(ROW()-ROW(C595)-2)*7)=F591,DAY(E591+COLUMN()-COLUMN(C595)+(ROW()-ROW(C595)-2)*7),\"\")","v":10},{"$f":"IF(MONTH(E591+COLUMN()-COLUMN(C595)+(ROW()-ROW(C595)-2)*7)=F591,DAY(E591+COLUMN()-COLUMN(C595)+(ROW()-ROW(C595)-2)*7),\"\")","v":11},{"$f":"IF(MONTH(E591+COLUMN()-COLUMN(C595)+(ROW()-ROW(C595)-2)*7)=F591,DAY(E591+COLUMN()-COLUMN(C595)+(ROW()-ROW(C595)-2)*7),\"\")","v":12},{"$f":"IF(MONTH(E591+COLUMN()-COLUMN(C595)+(ROW()-ROW(C595)-2)*7)=F591,DAY(E591+COLUMN()-COLUMN(C595)+(ROW()-ROW(C595)-2)*7),\"\")","v":13},{"$f":"IF(MONTH(E591+COLUMN()-COLUMN(C595)+(ROW()-ROW(C595)-2)*7)=F591,DAY(E591+COLUMN()-COLUMN(C595)+(ROW()-ROW(C595)-2)*7),\"\")","v":14}]
[null,{"$f":"IF(C601<>\"\",VLOOKUP(DATE(1900,$F$591,C601),$D$3:$F$368,3),\"\")","v":0},null,{"$f":"IF(D601<>\"\",VLOOKUP(DATE(1900,$F$591,D601),$D$3:$F$368,3),\"\")","v":0},0,0,0,0,0]
[null,{"$f":"IF(C601<>\"\",VLOOKUP(DATE(1900,$F591,C601),$D$3:$E$368,2),\"\")","v":"Ste Ninon"},null,{"$f":"IF(D601<>\"\",VLOOKUP(DATE(1900,$F591,D601),$D$3:$E$368,2),\"\")","v":"Ste Alice"},"St Judicaël","St Gatien","St Urbain","St Théophile","St Pierre C."]
[null,{"$f":"B598+1","v":51},{"$f":"IF(MONTH(E591+COLUMN()-COLUMN(C595)+(ROW()-ROW(C595)-4)*7)=F591,DAY(E591+COLUMN()-COLUMN(C595)+(ROW()-ROW(C595)-4)*7),\"\")","v":15},{"$f":"IF(MONTH(E591+COLUMN()-COLUMN(C595)+(ROW()-ROW(C595)-4)*7)=F591,DAY(E591+COLUMN()-COLUMN(C595)+(ROW()-ROW(C595)-4)*7),\"\")","v":16},{"$f":"IF(MONTH(E591+COLUMN()-COLUMN(C595)+(ROW()-ROW(C595)-4)*7)=F591,DAY(E591+COLUMN()-COLUMN(C595)+(ROW()-ROW(C595)-4)*7),\"\")","v":17},{"$f":"IF(MONTH(E591+COLUMN()-COLUMN(C595)+(ROW()-ROW(C595)-4)*7)=F591,DAY(E591+COLUMN()-COLUMN(C595)+(ROW()-ROW(C595)-4)*7),\"\")","v":18},{"$f":"IF(MONTH(E591+COLUMN()-COLUMN(C595)+(ROW()-ROW(C595)-4)*7)=F591,DAY(E591+COLUMN()-COLUMN(C595)+(ROW()-ROW(C595)-4)*7),\"\")","v":19},{"$f":"IF(MONTH(E591+COLUMN()-COLUMN(C595)+(ROW()-ROW(C595)-4)*7)=F591,DAY(E591+COLUMN()-COLUMN(C595)+(ROW()-ROW(C595)-4)*7),\"\")","v":20},{"$f":"IF(MONTH(E591+COLUMN()-COLUMN(C595)+(ROW()-ROW(C595)-4)*7)=F591,DAY(E591+COLUMN()-COLUMN(C595)+(ROW()-ROW(C595)-4)*7),\"\")","v":21}]
[null,{"$f":"IF(C604<>\"\",VLOOKUP(DATE(1900,$F$591,C604),$D$3:$F$368,3),\"\")","v":0},null,{"$f":"IF(D604<>\"\",VLOOKUP(DATE(1900,$F$591,D604),$D$3:$F$368,3),\"\")","v":0},0,0,0,0,0]
[null,{"$f":"IF(C604<>\"\",VLOOKUP(DATE(1900,$F591,C604),$D$3:$E$368,2),\"\")","v":"Ste Franç. Xavière"},null,{"$f":"IF(D604<>\"\",VLOOKUP(DATE(1900,$F591,D604),$D$3:$E$368,2),\"\")","v":"St Armand"},"Ste Adèle","Noël","St Etienne","St Jean","Sts Innocents"]
[null,{"$f":"B601+1","v":52},{"$f":"IF(MONTH(E591+COLUMN()-COLUMN(C595)+(ROW()-ROW(C595)-6)*7)=F591,DAY(E591+COLUMN()-COLUMN(C595)+(ROW()-ROW(C595)-6)*7),\"\")","v":22},{"$f":"IF(MONTH(E591+COLUMN()-COLUMN(C595)+(ROW()-ROW(C595)-6)*7)=F591,DAY(E591+COLUMN()-COLUMN(C595)+(ROW()-ROW(C595)-6)*7),\"\")","v":23},{"$f":"IF(MONTH(E591+COLUMN()-COLUMN(C595)+(ROW()-ROW(C595)-6)*7)=F591,DAY(E591+COLUMN()-COLUMN(C595)+(ROW()-ROW(C595)-6)*7),\"\")","v":24},{"$f":"IF(MONTH(E591+COLUMN()-COLUMN(C595)+(ROW()-ROW(C595)-6)*7)=F591,DAY(E591+COLUMN()-COLUMN(C595)+(ROW()-ROW(C595)-6)*7),\"\")","v":25},{"$f":"IF(MONTH(E591+COLUMN()-COLUMN(C595)+(ROW()-ROW(C595)-6)*7)=F591,DAY(E591+COLUMN()-COLUMN(C595)+(ROW()-ROW(C595)-6)*7),\"\")","v":26},{"$f":"IF(MONTH(E591+COLUMN()-COLUMN(C595)+(ROW()-ROW(C595)-6)*7)=F591,DAY(E591+COLUMN()-COLUMN(C595)+(ROW()-ROW(C595)-6)*7),\"\")","v":27},{"$f":"IF(MONTH(E591+COLUMN()-COLUMN(C595)+(ROW()-ROW(C595)-6)*7)=F591,DAY(E591+COLUMN()-COLUMN(C595)+(ROW()-ROW(C595)-6)*7),\"\")","v":28}]
[null,{"$f":"IF(C607<>\"\",VLOOKUP(DATE(1900,$F$591,C607),$D$3:$F$368,3),\"\")","v":0},null,{"$f":"IF(D607<>\"\",VLOOKUP(DATE(1900,$F$591,D607),$D$3:$F$368,3),\"\")","v":0},0,"","","",""]
[null,{"$f":"IF(C607<>\"\",VLOOKUP(DATE(1900,$F591,C607),$D$3:$E$368,2),\"\")","v":"St David"},null,{"$f":"IF(D607<>\"\",VLOOKUP(DATE(1900,$F591,D607),$D$3:$E$368,2),\"\")","v":"St Roger"},"St Sylvestre","","","",""]
[null,{"$f":"IF(C607=\"\",\"\",IF(B604=H589,1,B604+1))","v":53},{"$f":"IF(MONTH(E591+COLUMN()-COLUMN(C595)+(ROW()-ROW(C595)-8)*7)=F591,DAY(E591+COLUMN()-COLUMN(C595)+(ROW()-ROW(C595)-8)*7),\"\")","v":29},{"$f":"IF(MONTH(E591+COLUMN()-COLUMN(C595)+(ROW()-ROW(C595)-8)*7)=F591,DAY(E591+COLUMN()-COLUMN(C595)+(ROW()-ROW(C595)-8)*7),\"\")","v":30},{"$f":"IF(MONTH(E591+COLUMN()-COLUMN(C595)+(ROW()-ROW(C595)-8)*7)=F591,DAY(E591+COLUMN()-COLUMN(C595)+(ROW()-ROW(C595)-8)*7),\"\")","v":31},{"$f":"IF(MONTH(E591+COLUMN()-COLUMN(C595)+(ROW()-ROW(C595)-8)*7)=F591,DAY(E591+COLUMN()-COLUMN(C595)+(ROW()-ROW(C595)-8)*7),\"\")","v":""},{"$f":"IF(MONTH(E591+COLUMN()-COLUMN(C595)+(ROW()-ROW(C595)-8)*7)=F591,DAY(E591+COLUMN()-COLUMN(C595)+(ROW()-ROW(C595)-8)*7),\"\")","v":""},{"$f":"IF(MONTH(E591+COLUMN()-COLUMN(C595)+(ROW()-ROW(C595)-8)*7)=F591,DAY(E591+COLUMN()-COLUMN(C595)+(ROW()-ROW(C595)-8)*7),\"\")","v":""},{"$f":"IF(MONTH(E591+COLUMN()-COLUMN(C595)+(ROW()-ROW(C595)-8)*7)=F591,DAY(E591+COLUMN()-COLUMN(C595)+(ROW()-ROW(C595)-8)*7),\"\")","v":""}]
[null,{"$f":"IF(C610<>\"\",VLOOKUP(DATE(1900,$F$591,C610),$D$3:$F$368,3),\"\")","v":""},null,{"$f":"IF(D610<>\"\",VLOOKUP(DATE(1900,$F$591,D610),$D$3:$F$368,3),\"\")","v":""},"","","","",""]
[null,{"$f":"IF(C610<>\"\",VLOOKUP(DATE(1900,$F591,C610),$D$3:$E$368,2),\"\")","v":""},null,{"$f":"IF(D610<>\"\",VLOOKUP(DATE(1900,$F591,D610),$D$3:$E$368,2),\"\")","v":""},"","","","",""]
[null,{"$f":"IF(C610=\"\",\"\",IF(B607=H589,1,B607+1))","v":""},{"$f":"IF(MONTH(E591+COLUMN()-COLUMN(C595)+(ROW()-ROW(C595)-10)*7)=F591,DAY(E591+COLUMN()-COLUMN(C595)+(ROW()-ROW(C595)-10)*7),\"\")","v":""},{"$f":"IF(MONTH(E591+COLUMN()-COLUMN(C595)+(ROW()-ROW(C595)-10)*7)=F591,DAY(E591+COLUMN()-COLUMN(C595)+(ROW()-ROW(C595)-10)*7),\"\")","v":""},{"$f":"IF(MONTH(E591+COLUMN()-COLUMN(C595)+(ROW()-ROW(C595)-10)*7)=F591,DAY(E591+COLUMN()-COLUMN(C595)+(ROW()-ROW(C595)-10)*7),\"\")","v":""},{"$f":"IF(MONTH(E591+COLUMN()-COLUMN(C595)+(ROW()-ROW(C595)-10)*7)=F591,DAY(E591+COLUMN()-COLUMN(C595)+(ROW()-ROW(C595)-10)*7),\"\")","v":""},{"$f":"IF(MONTH(E591+COLUMN()-COLUMN(C595)+(ROW()-ROW(C595)-10)*7)=F591,DAY(E591+COLUMN()-COLUMN(C595)+(ROW()-ROW(C595)-10)*7),\"\")","v":""},{"$f":"IF(MONTH(E591+COLUMN()-COLUMN(C595)+(ROW()-ROW(C595)-10)*7)=F591,DAY(E591+COLUMN()-COLUMN(C595)+(ROW()-ROW(C595)-10)*7),\"\")","v":""},{"$f":"IF(MONTH(E591+COLUMN()-COLUMN(C595)+(ROW()-ROW(C595)-10)*7)=F591,DAY(E591+COLUMN()-COLUMN(C595)+(ROW()-ROW(C595)-10)*7),\"\")","v":""}]

{"sheet":"Ville","index":8,"n_rows":40,"n_cols":8,"rows_kept":40,"cut":false,"hidden":false,"merged":[]}
[]
["LIEU","KM","Temps",null,"Adresse","TEL","NORD","EST"]
["Alsace",390,"03:00:00","ca","21 rue d'alsace 69100 Villeurbanne"]
["Audibert",416,"03:10:00","ca","61 RUE AUDIBERT ET LAVIROTTE 69008 LYON"]
["Auxerre",528,"04:00:00","sp","ZI LA PLAINE DES ISLES 89000 AUXERRE",386462916]
["Avallon",440,"03:20:00","ca","Villebenoit SUD - ZA la grande corvée 89200 AVALLON",386341292]
["Belley",330,"03:40:00","ca","Z.A. DE L'OUSSON 01300 BELLEY"]
["Besançon iax",132,"01:50:00","ca","Besançon PL - Rue Dennis Gabor 25000 Besançon",381419898]
["Besançon sp",152,"01:50:00","sp","Z.A.C DE VALENTIN - 25000 - BESANÇON"]
["Bourgoin Jallieu",438,"03:30:00","ca","MONSIEUR GAETAN BANCHERI 38300 - BOURGOIN JALLIEU"]
["Champagnole",0,"00:00:00","p"]
["Chatillon sur seine",410,"04:00:00","ca","ZONE ACTIPOLE 21400 - CHATILLON SUR SEINE"]
["Chauffailles",388,"04:10:00","ca"]
["Colmar",468,"04:50:00","sp","1 RUE DENIS PAPIN - 68000 - COLMAR"]
["Cordesse",340,"03:10:00","ca","Sarl NAUDIN et Fils - Champ Rousseaux - 71540 Cordesse",385821355]
["Ecquevilly",924,"07:50:00","sp"]
["Ennery",752,"06:00:00","sp","ZONE INDUSTRIELLE LES JONQUIERES - 57365 - ENNERY"]
["Fains les Montbard",366,"03:30:00","sp","Z.I. 21500 - FAIN LES MONTBARD",380891076]
["La Soie",390,"03:00:00","ca","88 rue de la poudrette 69100 Vaux en velin",469668331]
["Le pontet",860,"09:00:00","sp","421 Rue Benjamin Franklin 84130 Le PONTET",null,"43° 58' 43,56\"","4° 52' 08,38\""]
["Les Pins",390,"03:00:00","ca","98 rue Lacassagne 69003 LYON"]
["Ludres",270,"03:30:00","sp"]
["Lyon",400,"03:10:00","ca"]
["Marseilles",1034,"10:00:00","ca","RTM 3 rue Paul langevin 13013 MARSEILLES 13","04 91 10 52 04","43° 20' 18,76\"","5° 25' 51,49\""]
["Meythet",298,"04:20:00","ca","30 Route de FRANGY 74 MEYTHET"]
["Montreuil",854,"07:30:00","reu","102 rue Etienne Marcel 93100 MONTREUIL"]
["Poitiers",1266,"10:20:00","sp"]
["Pouilly en Auxois",314,"02:10:00","ca"]
["Rambervillier",448,"05:00:00","ca","AUBRY LOGISTIQUE ZI N°4 88700 RAMBERVILLERS",329651559]
["Rumilly",294,"03:30:00","ca","Route d'AIX LES BAINS 74 RUMILLY"]
["Saint Nabord",384,"04:00:00","sp"]
["Sennece les Macons",298,"02:00:00","ca"]
["Seymoutier",390,"02:50:00","sp","ROUTE DE SEMOUTIERS - 52000 - SEMOUTIERS MONTSAON",325320159]
["Strasbourg",628,"05:40:00","ca","14, RUE DE LA GARE AUX MARCHANDISES - 67200 - STRASBOURG"]
["Terville",776,"06:10:00","ca","201 ROUTE DE VERDUN - 57180 - TERVILLE"]
["Thann",402,"04:30:00","ca","SMVI 23 Rue Guy de Place 68800 Vieux Thann",389386946]
["Vaise",410,"03:10:00","ca","16/26 rue saint Simon 69009 LYON","04 78 71 81 77"]
["Vaucouleur",598,"05:00:00","ca","MONSIEUR FRANCIS BOULANGER - 55140 - VAUCOULEURS",329864791]
["Verdun",746,"07:00:00","ca","MONSIEUR JP RICHARD - 55100 - VERDUN"]
["Villefranche",390,"03:00:00","sp","544 RUE CHARLES SEVE - 69400 - VILLEFRANCHE SUR SAONE"]

{"sheet":"Synthèse","index":9,"n_rows":40,"n_cols":4,"rows_kept":40,"cut":false,"hidden":false,"merged":[[5,0,14,0],[15,0,25,0],[26,0,38,0]]}
["Année","Mois","Ville","Nom"]
[2012,"Janvier",null,"GERMAIN"]
["Année","Mois","Ville","Nom"]
[{"$f":"A2-1","v":2011},{"$f":"IF(B2=\"\",\"\",B2)","v":"Janvier"},{"$f":"IF(C2=\"\",\"\",C2)","v":""},{"$f":"IF(D2=\"\",\"\",D2)","v":"GERMAIN"}]
[null,null,{"$f":"A2","v":2012},{"$f":"C5-1","v":2011}]
["POINTAGE","Présent au centre principal",{"$f":"DCOUNTA('Suiv Contr '!$G$12:$AG$721,'Suiv Contr '!$Q$12,'Suiv Contr '!BD54:BH55)","v":18},{"$f":"DCOUNTA('Suiv Contr '!$G$12:$AG$721,'Suiv Contr '!$Q$12,'Suiv Contr '!BD73:BH74)","v":15}]
[null,"Centre auxiliaire extérieur",{"$f":"DCOUNTA('Suiv Contr '!$G$12:$AG$721,'Suiv Contr '!$Q$12,'Suiv Contr '!BD58:BH59)","v":4},{"$f":"DCOUNTA('Suiv Contr '!$G$12:$AG$721,'Suiv Contr '!$Q$12,'Suiv Contr '!BD77:BH78)","v":4}]
[null,"Centre principal extérieur",{"$f":"DCOUNTA('Suiv Contr '!$G$12:$AG$721,'Suiv Contr '!$Q$12,'Suiv Contr '!BD60:BH61)","v":0},{"$f":"DCOUNTA('Suiv Contr '!$G$12:$AG$721,'Suiv Contr '!$Q$12,'Suiv Contr '!BD79:BH80)","v":1}]
[null,"Renfort Extérieur",{"$f":"DCOUNTA('Suiv Contr '!$G$12:$AG$721,'Suiv Contr '!$Q$12,'Suiv Contr '!BD56:BH57)","v":0},{"$f":"DCOUNTA('Suiv Contr '!$G$12:$AG$721,'Suiv Contr '!$Q$12,'Suiv Contr '!BD75:BH76)","v":0}]
[null,"Déplacement Réunion",{"$f":"DCOUNTA('Suiv Contr '!$G$12:$AG$721,'Suiv Contr '!$Q$12,'Suiv Contr '!BD66:BH67)","v":0},{"$f":"DCOUNTA('Suiv Contr '!$G$12:$AG$721,'Suiv Contr '!$Q$12,'Suiv Contr '!BD85:BH86)","v":0}]
[null,"Formation",{"$f":"DCOUNTA('Suiv Contr '!$G$12:$AG$721,'Suiv Contr '!$Q$12,'Suiv Contr '!BD62:BH63)","v":0},{"$f":"DCOUNTA('Suiv Contr '!$G$12:$AG$721,'Suiv Contr '!$Q$12,'Suiv Contr '!BD81:BH82)","v":0}]
[null,"Maladie",{"$f":"DCOUNTA('Suiv Contr '!$G$12:$AG$721,'Suiv Contr '!$Q$12,'Suiv Contr '!BD64:BH65)","v":0},{"$f":"DCOUNTA('Suiv Contr '!$G$12:$AG$721,'Suiv Contr '!$Q$12,'Suiv Contr '!BD83:BH84)","v":0}]
[null,"Vacances",{"$f":"DCOUNTA('Suiv Contr '!$G$12:$AG$721,'Suiv Contr '!$Q$12,'Suiv Contr '!BD68:BH69)","v":0},{"$f":"DCOUNTA('Suiv Contr '!$G$12:$AG$721,'Suiv Contr '!$Q$12,'Suiv Contr '!BD87:BH88)","v":0}]
[null,"Heures Supplémentaires",{"$f":"DSUM('Suiv Contr '!$G$12:$AG$721,'Suiv Contr '!S12,A1:D2)","v":0.52777777777777779},{"$f":"DSUM('Suiv Contr '!$G$12:$AG$721,'Suiv Contr '!S12,'Suiv Contr '!BD73:BG74)","v":0.60416666666666674}]
[null,"Heures Récupérées",{"$f":"DSUM('Suiv Contr '!$G$12:$AG$721,'Suiv Contr '!T12,A1:D2)","v":0.14583333333333334},{"$f":"DSUM('Suiv Contr '!$G$12:$AG$721,'Suiv Contr '!T12,'Suiv Contr '!BD73:BG74)","v":0}]
["PRODUCTION","TM",{"$f":"DSUM('Suiv Contr '!$G$12:$AG$721,'Suiv Contr '!U12,Synthèse!A1:D2)","v":86},{"$f":"DSUM('Suiv Contr '!$G$12:$AG$721,'Suiv Contr '!U12,'Suiv Contr '!BD73:BG74)","v":89}]
[null,"TCP",{"$f":"DSUM('Suiv Contr '!$G$12:$AG$721,'Suiv Contr '!V12,A1:D2)","v":23},{"$f":"DSUM('Suiv Contr '!$G$12:$AG$721,'Suiv Contr '!V12,'Suiv Contr '!BD73:BG74)","v":28}]
[null,"TMD",{"$f":"DSUM('Suiv Contr '!$G$12:$AG$721,'Suiv Contr '!W12,$A$1:$D$2)","v":4},{"$f":"DSUM('Suiv Contr '!$G$12:$AG$721,'Suiv Contr '!W12,'Suiv Contr '!BD73:BG74)","v":2}]
[null,"DEP",{"$f":"DSUM('Suiv Contr '!$G$12:$AG$721,'Suiv Contr '!X12,$A$1:$D$2)","v":2},{"$f":"DSUM('Suiv Contr '!$G$12:$AG$721,'Suiv Contr '!X12,'Suiv Contr '!BD73:BG74)","v":1}]
[null,"VTP",{"$f":"SUM(C16:C19)","v":115},{"$f":"SUM(D16:D19)","v":120}]
[null,"CV",{"$f":"DSUM('Suiv Contr '!$G$12:$AG$721,'Suiv Contr '!Y12,$A$1:$D$2)","v":7},{"$f":"DSUM('Suiv Contr '!$G$12:$AG$721,'Suiv Contr '!Y12,'Suiv Contr '!BD73:BG74)","v":11}]
[null,"VTP + CV",{"$f":"SUM(C20:C21)","v":122},{"$f":"SUM(D20:D21)","v":131}]
[null,"R",{"$f":"DSUM('Suiv Contr '!$G$12:$AG$721,'Suiv Contr '!AA12,$A$1:$D$2)","v":5},{"$f":"DSUM('Suiv Contr '!$G$12:$AG$721,'Suiv Contr '!AA12,'Suiv Contr '!BD73:BG74)","v":3}]
[null,"S",{"$f":"DSUM('Suiv Contr '!$G$12:$AG$721,'Suiv Contr '!Z12,$A$1:$D$2)","v":5},{"$f":"DSUM('Suiv Contr '!$G$12:$AG$721,'Suiv Contr '!Z12,'Suiv Contr '!BD73:BG74)","v":7}]
[null,"X",{"$f":"DSUM('Suiv Contr '!$G$12:$AG$721,'Suiv Contr '!AB12,$A$1:$D$2)","v":1},{"$f":"DSUM('Suiv Contr '!$G$12:$AG$721,'Suiv Contr '!AB12,'Suiv Contr '!BD73:BG74)","v":0}]
[null,"% REFUS",{"$f":"(C23+C24+C25)/C20","v":9.5652173913043481E-2},{"$f":"(D23+D24+D25)/D20","v":8.3333333333333329E-2}]
["NOTE DES FRAIS","Kms",{"$f":"DSUM('Suiv Contr '!$G$12:$AG$721,'Suiv Contr '!AE12,$A$1:$D$2)","v":1130},{"$f":"DSUM('Suiv Contr '!$G$12:$AG$721,'Suiv Contr '!AE12,'Suiv Contr '!BD73:BG74)","v":1282}]
[null,"Gasoil",{"$f":"DSUM('Suiv Contr '!$G$12:$AV$1003,'Suiv Contr '!AH$12,$A$1:$D$2)","v":0},{"$f":"DSUM('Suiv Contr '!$G$12:$AV$1003,'Suiv Contr '!AH$12,$A$3:$D$4)","v":0}]
[null,"Péage",{"$f":"DSUM('Suiv Contr '!$G$12:$AV$1003,'Suiv Contr '!AI$12,$A$1:$D$2)","v":0},{"$f":"DSUM('Suiv Contr '!$G$12:$AV$1003,'Suiv Contr '!AI$12,$A$3:$D$4)","v":0}]
[null,"Parking",{"$f":"DSUM('Suiv Contr '!$G$12:$AV$1003,'Suiv Contr '!AJ$12,$A$1:$D$2)","v":0},{"$f":"DSUM('Suiv Contr '!$G$12:$AV$1003,'Suiv Contr '!AJ$12,$A$3:$D$4)","v":0}]
[null,"Repas midi",{"$f":"DSUM('Suiv Contr '!$G$12:$AV$1003,'Suiv Contr '!AK$12,$A$1:$D$2)","v":0},{"$f":"DSUM('Suiv Contr '!$G$12:$AV$1003,'Suiv Contr '!AK$12,$A$3:$D$4)","v":0}]
[null,"Repas soir",{"$f":"DSUM('Suiv Contr '!$G$12:$AV$1003,'Suiv Contr '!AL$12,$A$1:$D$2)","v":0},{"$f":"DSUM('Suiv Contr '!$G$12:$AV$1003,'Suiv Contr '!AL$12,$A$3:$D$4)","v":0}]
[null,"Hôtel",{"$f":"DSUM('Suiv Contr '!$G$12:$AV$1003,'Suiv Contr '!AM$12,$A$1:$D$2)","v":0},{"$f":"DSUM('Suiv Contr '!$G$12:$AV$1003,'Suiv Contr '!AM$12,$A$3:$D$4)","v":0}]
[null,"Fourniture bureau",{"$f":"DSUM('Suiv Contr '!$G$12:$AV$1003,'Suiv Contr '!AN$12,$A$1:$D$2)","v":0},{"$f":"DSUM('Suiv Contr '!$G$12:$AV$1003,'Suiv Contr '!AN$12,$A$3:$D$4)","v":0}]
[null,"Téléphone",{"$f":"DSUM('Suiv Contr '!$G$12:$AV$1003,'Suiv Contr '!AO$12,$A$1:$D$2)","v":0},{"$f":"DSUM('Suiv Contr '!$G$12:$AV$1003,'Suiv Contr '!AO$12,$A$3:$D$4)","v":0}]
[null,"Affranchissement",{"$f":"DSUM('Suiv Contr '!$G$12:$AV$1003,'Suiv Contr '!AP$12,$A$1:$D$2)","v":0},{"$f":"DSUM('Suiv Contr '!$G$12:$AV$1003,'Suiv Contr '!AP$12,$A$3:$D$4)","v":0}]
[null,"Photocopie",{"$f":"DSUM('Suiv Contr '!$G$12:$AV$1003,'Suiv Contr '!AQ$12,$A$1:$D$2)","v":0},{"$f":"DSUM('Suiv Contr '!$G$12:$AV$1003,'Suiv Contr '!AQ$12,$A$3:$D$4)","v":0}]
[null,"Entretien Véhicule",{"$f":"DSUM('Suiv Contr '!$G$12:$AV$1003,'Suiv Contr '!AR$12,$A$1:$D$2)","v":0},{"$f":"DSUM('Suiv Contr '!$G$12:$AV$1003,'Suiv Contr '!AR$12,$A$3:$D$4)","v":0}]
[null,"Divers",{"$f":"DSUM('Suiv Contr '!$G$12:$AV$1003,'Suiv Contr '!AS$12,$A$1:$D$2)","v":0},{"$f":"DSUM('Suiv Contr '!$G$12:$AV$1003,'Suiv Contr '!AS$12,$A$3:$D$4)","v":0}]
[null,"Total",{"$f":"SUM(C28:C39)","v":0},{"$f":"SUM(D28:D39)","v":0}]

{"sheet":"heure recup","index":10,"n_rows":104,"n_cols":7,"rows_kept":104,"cut":false,"hidden":false,"merged":[[0,0,0,6],[6,0,7,6],[8,0,9,6],[103,0,103,1],[103,2,103,3],[56,0,56,6],[57,0,57,6],[63,0,64,6],[65,0,66,6],[68,0,69,0],[68,3,69,3],[68,4,68,5],[68,6,69,6],[68,1,69,1],[68,2,69,2],[11,4,11,5],[11,6,12,6],[50,0,50,1],[11,0,12,0],[11,1,12,1],[11,2,12,2],[11,3,12,3],[50,2,50,3]]}
["HEURES DE RECUPERATION"]
[]
["NOM Prénom :  GERMAIN ALAIN"]
["Centre :"," CHAMPAGNOLE"]
["Date :","01/03/1 au "]
[]
["Relevé des heures de récupération à retourner tous les mois par fax au 01 55 86 17 22 à l'attention du planning après validation du Responsable de Centre et du Contrôleur"]
[]
["Attention pour les récupérations n'oubliez pas de retirer 1h de franchise, exemple: 4h00 aller retour ça fait 3h de récupération"]
[]
[]
["Date","Déplacements realisés","Heures à récupérées","Heures  récupérées","raisons",null,"observations"]
[null,null,null,null,"contrôle","autre (préciser)"]
["2013-12-20","Cordesse","03:10:00"]
["2011-07-06","Vaise","03:00:00"]
["2011-07-11","Besançon sp","01:50:00"]
["2011-07-13","Villefranche","03:00:00"]
["2011-07-27","Sennece les macons","02:00:00"]
["2011-08-01","Meythet","04:20:00"]
["2011-08-08","besançon iax","01:20:00"]
["2011-08-10","Meythet","04:20:00"]
["2011-08-22","Meythet","04:20:00"]
["2011-08-24","Villefranche","03:00:00"]
["2011-08-31","Villefranche","03:00:00"]
["2011-09-26","Meythet","04:20:00"]
["2011-10-03","Meythet","04:20:00"]
["2011-10-12","Vieux Thann","04:00:00"]
["2011-10-17","Villefranche","03:00:00"]
["2011-10-24","Meythet","04:20:00"]
["2011-11-07","Fains les montbard","03:30:00"]
["2011-11-09","Fains les montbard","03:30:00"]
["2011-11-14","Meythet","04:20:00"]
[]
[]
[]
[]
[]
[]
[]
[]
[]
[]
[]
[]
[]
[]
[]
[]
[null,null,{"$f":"SUM(C14:C48)","v":2.6944444444444446},{"$f":"SUM(D14:D47)","v":0}]
[]
["Heures restantes à récupérer:  ",null,{"$f":"C49-D49","v":2.6944444444444446}]
[]
[]
[]
[]
[]
["HEURES DE RECUPERATION (2/2) "]
[]
[]
["NOM Prénom :  GERMAIN ALAIN"]
["Centre :"," CHAMPAGNOLE"]
["Mois :"]
[]
["Relevé des heures de récupération à retourner tous les mois par fax au 01 55 86 17 22 à l'attention du planning après validation du Responsable de Centre et du Contrôleur"]
[]
["Attention pour les récupérations n'oubliez pas de retirer 1h de franchise, exemple: 4h00 aller retour ça fait 3h de récupération"]
[]
[]
["Date","Déplacements realisés","Heures à récupérées","Heures  récupérées","raisons",null,"observations"]
[null,null,null,null,"contrôle","autre (préciser)"]
["2011-07-04","Villefranche","03:00:00"]
["2011-07-06","Vaise","03:10:00"]
["2011-07-08","Champagnole","00:30:00",null,"(+)1"]
["2011-07-11","Besançon Sp","01:50:00"]
["2011-07-12","Champagnole","03:00:00",null,"(+)6"]
["2011-07-25","Sennece Les Macon","02:00:00"]
["2011-08-01","Meythet","04:20:00",null,null,null,"MAJ doc"]
["2011-08-08","Besançon Iax","01:20:00"]
["2011-08-10","Meythet","04:20:00",null,null,null,"VSI"]
["2011-08-22","Meythet","04:20:00"]
["2011-08-24","Villefranche","03:00:00"]
["2011-08-31","Villefranche","03:00:00"]
[]
[]
[]
[]
[]
[]
[]
[]
[]
[]
[]
[]
[]
[]
[]
[]
[]
[]
[]
[null,null,{"$f":"SUM(C71:C100)","v":1.4097222222222223},{"$f":"SUM(D71:D100)","v":0}]
[]
["Heures restantes à récupérer:  ",null,{"$f":"C102-D102","v":1.4097222222222223}]

{"sheet":"Suiv Contr ","index":11,"n_rows":1197,"n_cols":60,"rows_kept":1197,"cut":false,"hidden":false,"merged":[[845,31,845,32],[846,31,846,32],[847,31,847,32],[839,31,839,32],[688,31,688,32],[689,31,689,32],[690,31,690,32],[632,31,632,32],[418,13,418,15],[418,31,418,32],[997,13,997,15],[998,13,998,15],[999,13,999,15],[1000,13,1000,15],[1001,13,1001,15],[1002,13,1002,15],[374,13,374,15],[535,13,535,15],[439,13,439,15],[473,13,473,15],[407,13,407,15],[567,13,567,15],[980,13,980,15],[981,13,981,15],[982,13,982,15],[983,13,983,15],[984,13,984,15],[985,13,985,15],[986,13,986,15],[987,13,987,15],[988,13,988,15],[989,13,989,15],[990,13,990,15],[991,13,991,15],[992,13,992,15],[993,13,993,15],[994,13,994,15],[995,13,995,15],[996,13,996,15],[963,13,963,15],[964,13,964,15],[965,13,965,15],[966,13,966,15],[967,13,967,15],[968,13,968,15],[969,13,969,15],[970,13,970,15],[971,13,971,15],[972,13,972,15],[973,13,973,15],[974,13,974,15],[975,13,975,15],[976,13,976,15],[977,13,977,15],[978,13,978,15],[979,13,979,15],[946,13,946,15],[947,13,947,15],[948,13,948,15],[949,13,949,15],[950,13,950,15],[951,13,951,15],[952,13,952,15],[953,13,953,15],[954,13,954,15],[955,13,955,15],[956,13,956,15],[957,13,957,15],[958,13,958,15],[959,13,959,15],[960,13,960,15],[961,13,961,15],[962,13,962,15],[929,13,929,15],[930,13,930,15],[931,13,931,15],[932,13,932,15],[933,13,933,15],[934,13,934,15],[935,13,935,15],[936,13,936,15],[937,13,937,15],[938,13,938,15],[939,13,939,15],[940,13,940,15],[941,13,941,15],[942,13,942,15],[943,13,943,15],[944,13,944,15],[945,13,945,15],[912,13,912,15],[913,13,913,15],[914,13,914,15],[915,13,915,15],[916,13,916,15],[917,13,917,15],[918,13,918,15],[919,13,919,15],[920,13,920,15],[921,13,921,15],[922,13,922,15],[923,13,923,15],[924,13,924,15],[925,13,925,15],[926,13,926,15],[927,13,927,15],[928,13,928,15],[895,13,895,15],[896,13,896,15],[897,13,897,15],[898,13,898,15],[899,13,899,15],[900,13,900,15],[901,13,901,15],[902,13,902,15],[903,13,903,15],[904,13,904,15],[905,13,905,15],[906,13,906,15],[907,13,907,15],[908,13,908,15],[909,13,909,15],[910,13,910,15],[911,13,911,15],[878,13,878,15],[879,13,879,15],[880,13,880,15],[881,13,881,15],[882,13,882,15],[883,13,883,15],[884,13,884,15],[885,13,885,15],[886,13,886,15],[887,13,887,15],[888,13,888,15],[889,13,889,15],[890,13,890,15],[891,13,891,15],[892,13,892,15],[893,13,893,15],[894,13,894,15],[861,13,861,15],[862,13,862,15],[863,13,863,15],[864,13,864,15],[865,13,865,15],[866,13,866,15],[867,13,867,15],[868,13,868,15],[869,13,869,15],[870,13,870,15],[871,13,871,15],[872,13,872,15],[873,13,873,15],[874,13,874,15],[875,13,875,15],[876,13,876,15],[877,13,877,15],[844,13,844,15],[845,13,845,15],[846,13,846,15],[847,13,847,15],[848,13,848,15],[849,13,849,15],[850,13,850,15],[851,13,851,15],[852,13,852,15],[853,13,853,15],[854,13,854,15],[855,13,855,15],[856,13,856,15],[857,13,857,15],[858,13,858,15],[859,13,859,15],[860,13,860,15],[827,13,827,15],[828,13,828,15],[829,13,829,15],[830,13,830,15],[831,13,831,15],[832,13,832,15],[833,13,833,15],[834,13,834,15],[835,13,835,15],[836,13,836,15],[837,13,837,15],[838,13,838,15],[839,13,839,15],[840,13,840,15],[841,13,841,15],[842,13,842,15],[843,13,843,15],[810,13,810,15],[811,13,811,15],[812,13,812,15],[813,13,813,15],[814,13,814,15],[815,13,815,15],[816,13,816,15],[817,13,817,15],[818,13,818,15],[819,13,819,15],[820,13,820,15],[821,13,821,15],[822,13,822,15],[823,13,823,15],[824,13,824,15],[825,13,825,15],[826,13,826,15],[793,13,793,15],[794,13,794,15],[795,13,795,15],[796,13,796,15],[797,13,797,15],[798,13,798,15],[799,13,799,15],[800,13,800,15],[801,13,801,15],[802,13,802,15],[803,13,803,15],[804,13,804,15],[805,13,805,15],[806,13,806,15],[807,13,807,15],[808,13,808,15],[809,13,809,15],[776,13,776,15],[777,13,777,15],[778,13,778,15],[779,13,779,15],[780,13,780,15],[781,13,781,15],[782,13,782,15],[783,13,783,15],[784,13,784,15],[785,13,785,15],[786,13,786,15],[787,13,787,15],[788,13,788,15],[789,13,789,15],[790,13,790,15],[791,13,791,15],[792,13,792,15],[759,13,759,15],[760,13,760,15],[761,13,761,15],[762,13,762,15],[763,13,763,15],[764,13,764,15],[765,13,765,15],[766,13,766,15],[767,13,767,15],[768,13,768,15],[769,13,769,15],[770,13,770,15],[771,13,771,15],[772,13,772,15],[773,13,773,15],[774,13,774,15],[775,13,775,15],[742,13,742,15],[743,13,743,15],[744,13,744,15],[745,13,745,15],[746,13,746,15],[747,13,747,15],[748,13,748,15],[749,13,749,15],[750,13,750,15],[751,13,751,15],[752,13,752,15],[753,13,753,15],[754,13,754,15],[755,13,755,15],[756,13,756,15],[757,13,757,15],[758,13,758,15],[725,13,725,15],[726,13,726,15],[727,13,727,15],[728,13,728,15],[729,13,729,15],[730,13,730,15],[731,13,731,15],[732,13,732,15],[733,13,733,15],[734,13,734,15],[735,13,735,15],[736,13,736,15],[737,13,737,15],[738,13,738,15],[739,13,739,15],[740,13,740,15],[741,13,741,15],[708,13,708,15],[709,13,709,15],[710,13,710,15],[711,13,711,15],[712,13,712,15],[713,13,713,15],[714,13,714,15],[715,13,715,15],[716,13,716,15],[717,13,717,15],[718,13,718,15],[719,13,719,15],[720,13,720,15],[721,13,721,15],[722,13,722,15],[723,13,723,15],[724,13,724,15],[691,13,691,15],[692,13,692,15],[693,13,693,15],[694,13,694,15],[695,13,695,15],[696,13,696,15],[697,13,697,15],[698,13,698,15],[699,13,699,15],[700,13,700,15],[701,13,701,15],[702,13,702,15],[703,13,703,15],[704,13,704,15],[705,13,705,15],[706,13,706,15],[707,13,707,15],[674,13,674,15],[675,13,675,15],[676,13,676,15],[677,13,677,15],[678,13,678,15],[679,13,679,15],[680,13,680,15],[681,13,681,15],[682,13,682,15],[683,13,683,15],[684,13,684,15],[685,13,685,15],[686,13,686,15],[687,13,687,15],[688,13,688,15],[689,13,689,15],[690,13,690,15],[657,13,657,15],[658,13,658,15],[659,13,659,15],[660,13,660,15],[661,13,661,15],[662,13,662,15],[663,13,663,15],[664,13,664,15],[665,13,665,15],[666,13,666,15],[667,13,667,15],[668,13,668,15],[669,13,669,15],[670,13,670,15],[671,13,671,15],[672,13,672,15],[673,13,673,15],[630,13,630,15],[631,13,631,15],[642,13,642,15],[643,13,643,15],[644,13,644,15],[645,13,645,15],[646,13,646,15],[647,13,647,15],[648,13,648,15],[649,13,649,15],[650,13,650,15],[651,13,651,15],[653,13,653,15],[654,13,654,15],[655,13,655,15],[656,13,656,15],[639,13,639,15],[640,13,640,15],[641,13,641,15],[633,13,633,15],[634,13,634,15],[635,13,635,15],[636,13,636,15],[637,13,637,15],[638,13,638,15],[632,13,632,15],[652,13,652,15],[1,45,2,45],[1,46,2,46],[1,47,2,47],[1,23,2,23],[1,6,1,11],[1,13,2,13],[1,14,1,15],[1,16,2,16],[1,18,2,18],[1,22,2,22],[1,33,2,33],[1,28,2,28],[1,29,2,29],[1,30,2,30],[1,31,2,31],[1,32,2,32],[1,34,2,34],[1,24,2,24],[1,25,2,25],[1,26,2,26],[1,27,2,27],[1,21,2,21],[22,31,22,32],[23,31,23,32],[24,31,24,32],[25,31,25,32],[26,31,26,32],[27,31,27,32],[16,31,16,32],[17,31,17,32],[18,31,18,32],[19,31,19,32],[20,31,20,32],[21,31,21,32],[11,31,11,32],[12,31,12,32],[13,31,13,32],[14,31,14,32],[1,44,2,44],[11,13,11,15],[12,13,12,15],[13,13,13,15],[14,13,14,15],[15,13,15,15],[16,13,16,15],[1,20,2,20],[1,19,2,19],[1,35,2,35],[1,36,2,36],[1,37,2,37],[1,38,2,38],[1,39,2,39],[1,40,2,40],[1,41,2,41],[1,42,2,42],[1,43,2,43],[9,20,10,20],[15,31,15,32],[9,27,9,29],[30,13,30,15],[31,13,31,15],[32,13,32,15],[33,13,33,15],[34,13,34,15],[23,13,23,15],[24,13,24,15],[25,13,25,15],[26,13,26,15],[27,13,27,15],[28,13,28,15],[17,13,17,15],[18,13,18,15],[19,13,19,15],[20,13,20,15],[21,13,21,15],[22,13,22,15],[29,13,29,15],[47,13,47,15],[48,13,48,15],[49,13,49,15],[50,13,50,15],[51,13,51,15],[52,13,52,15],[41,13,41,15],[42,13,42,15],[43,13,43,15],[44,13,44,15],[45,13,45,15],[46,13,46,15],[35,13,35,15],[36,13,36,15],[37,13,37,15],[38,13,38,15],[39,13,39,15],[40,13,40,15],[65,13,65,15],[66,13,66,15],[67,13,67,15],[68,13,68,15],[69,13,69,15],[70,13,70,15],[59,13,59,15],[60,13,60,15],[61,13,61,15],[62,13,62,15],[63,13,63,15],[64,13,64,15],[53,13,53,15],[54,13,54,15],[55,13,55,15],[56,13,56,15],[57,13,57,15],[58,13,58,15],[83,13,83,15],[84,13,84,15],[85,13,85,15],[86,13,86,15],[87,13,87,15],[88,13,88,15],[77,13,77,15],[78,13,78,15],[79,13,79,15],[80,13,80,15],[81,13,81,15],[82,13,82,15],[71,13,71,15],[72,13,72,15],[73,13,73,15],[74,13,74,15],[75,13,75,15],[76,13,76,15],[101,13,101,15],[102,13,102,15],[103,13,103,15],[104,13,104,15],[105,13,105,15],[106,13,106,15],[95,13,95,15],[96,13,96,15],[97,13,97,15],[98,13,98,15],[99,13,99,15],[100,13,100,15],[89,13,89,15],[90,13,90,15],[91,13,91,15],[92,13,92,15],[93,13,93,15],[94,13,94,15],[119,13,119,15],[120,13,120,15],[121,13,121,15],[122,13,122,15],[123,13,123,15],[124,13,124,15],[113,13,113,15],[114,13,114,15],[115,13,115,15],[116,13,116,15],[117,13,117,15],[118,13,118,15],[107,13,107,15],[108,13,108,15],[109,13,109,15],[110,13,110,15],[111,13,111,15],[112,13,112,15],[137,13,137,15],[138,13,138,15],[139,13,139,15],[140,13,140,15],[141,13,141,15],[142,13,142,15],[131,13,131,15],[132,13,132,15],[133,13,133,15],[134,13,134,15],[135,13,135,15],[136,13,136,15],[125,13,125,15],[126,13,126,15],[127,13,127,15],[128,13,128,15],[129,13,129,15],[130,13,130,15],[155,13,155,15],[156,13,156,15],[157,13,157,15],[158,13,158,15],[159,13,159,15],[160,13,160,15],[149,13,149,15],[150,13,150,15],[151,13,151,15],[152,13,152,15],[153,13,153,15],[154,13,154,15],[143,13,143,15],[144,13,144,15],[145,13,145,15],[146,13,146,15],[147,13,147,15],[148,13,148,15],[173,13,173,15],[174,13,174,15],[175,13,175,15],[176,13,176,15],[177,13,177,15],[178,13,178,15],[167,13,167,15],[168,13,168,15],[169,13,169,15],[170,13,170,15],[171,13,171,15],[172,13,172,15],[161,13,161,15],[162,13,162,15],[163,13,163,15],[164,13,164,15],[165,13,165,15],[166,13,166,15],[191,13,191,15],[192,13,192,15],[193,13,193,15],[194,13,194,15],[195,13,195,15],[196,13,196,15],[185,13,185,15],[186,13,186,15],[187,13,187,15],[188,13,188,15],[189,13,189,15],[190,13,190,15],[179,13,179,15],[180,13,180,15],[181,13,181,15],[182,13,182,15],[183,13,183,15],[184,13,184,15],[209,13,209,15],[210,13,210,15],[211,13,211,15],[212,13,212,15],[213,13,213,15],[214,13,214,15],[203,13,203,15],[204,13,204,15],[205,13,205,15],[206,13,206,15],[207,13,207,15],[208,13,208,15],[197,13,197,15],[198,13,198,15],[199,13,199,15],[200,13,200,15],[201,13,201,15],[202,13,202,15],[227,13,227,15],[228,13,228,15],[229,13,229,15],[230,13,230,15],[231,13,231,15],[232,13,232,15],[221,13,221,15],[222,13,222,15],[223,13,223,15],[224,13,224,15],[225,13,225,15],[226,13,226,15],[215,13,215,15],[216,13,216,15],[217,13,217,15],[218,13,218,15],[219,13,219,15],[220,13,220,15],[245,13,245,15],[246,13,246,15],[247,13,247,15],[248,13,248,15],[249,13,249,15],[250,13,250,15],[239,13,239,15],[240,13,240,15],[241,13,241,15],[242,13,242,15],[243,13,243,15],[244,13,244,15],[233,13,233,15],[234,13,234,15],[235,13,235,15],[236,13,236,15],[237,13,237,15],[238,13,238,15],[263,13,263,15],[264,13,264,15],[265,13,265,15],[266,13,266,15],[267,13,267,15],[268,13,268,15],[257,13,257,15],[258,13,258,15],[259,13,259,15],[260,13,260,15],[261,13,261,15],[262,13,262,15],[251,13,251,15],[252,13,252,15],[253,13,253,15],[254,13,254,15],[255,13,255,15],[256,13,256,15],[281,13,281,15],[282,13,282,15],[283,13,283,15],[284,13,284,15],[285,13,285,15],[286,13,286,15],[275,13,275,15],[276,13,276,15],[277,13,277,15],[278,13,278,15],[279,13,279,15],[280,13,280,15],[269,13,269,15],[270,13,270,15],[271,13,271,15],[272,13,272,15],[273,13,273,15],[274,13,274,15],[299,13,299,15],[300,13,300,15],[301,13,301,15],[302,13,302,15],[303,13,303,15],[304,13,304,15],[293,13,293,15],[294,13,294,15],[295,13,295,15],[296,13,296,15],[297,13,297,15],[298,13,298,15],[287,13,287,15],[288,13,288,15],[289,13,289,15],[290,13,290,15],[291,13,291,15],[292,13,292,15],[317,13,317,15],[318,13,318,15],[319,13,319,15],[320,13,320,15],[321,13,321,15],[322,13,322,15],[311,13,311,15],[312,13,312,15],[313,13,313,15],[314,13,314,15],[315,13,315,15],[316,13,316,15],[305,13,305,15],[306,13,306,15],[307,13,307,15],[308,13,308,15],[309,13,309,15],[310,13,310,15],[335,13,335,15],[336,13,336,15],[337,13,337,15],[338,13,338,15],[329,13,329,15],[330,13,330,15],[331,13,331,15],[332,13,332,15],[333,13,333,15],[334,13,334,15],[354,13,354,15],[323,13,323,15],[324,13,324,15],[325,13,325,15],[326,13,326,15],[327,13,327,15],[328,13,328,15],[355,13,355,15],[356,13,356,15],[357,13,357,15],[358,13,358,15],[359,13,359,15],[348,13,348,15],[349,13,349,15],[350,13,350,15],[351,13,351,15],[352,13,352,15],[353,13,353,15],[344,13,344,15],[345,13,345,15],[346,13,346,15],[347,13,347,15],[339,13,339,15],[340,13,340,15],[341,13,341,15],[342,13,342,15],[373,13,373,15],[375,13,375,15],[376,13,376,15],[377,13,377,15],[378,13,378,15],[379,13,379,15],[366,13,366,15],[367,13,367,15],[369,13,369,15],[370,13,370,15],[371,13,371,15],[372,13,372,15],[360,13,360,15],[361,13,361,15],[362,13,362,15],[363,13,363,15],[364,13,364,15],[365,13,365,15],[368,13,368,15],[392,13,392,15],[393,13,393,15],[394,13,394,15],[396,13,396,15],[397,13,397,15],[398,13,398,15],[386,13,386,15],[387,13,387,15],[388,13,388,15],[389,13,389,15],[390,13,390,15],[391,13,391,15],[380,13,380,15],[381,13,381,15],[382,13,382,15],[383,13,383,15],[384,13,384,15],[385,13,385,15],[395,13,395,15],[412,13,412,15],[413,13,413,15],[414,13,414,15],[415,13,415,15],[416,13,416,15],[417,13,417,15],[405,13,405,15],[406,13,406,15],[408,13,408,15],[409,13,409,15],[410,13,410,15],[411,13,411,15],[399,13,399,15],[400,13,400,15],[401,13,401,15],[402,13,402,15],[403,13,403,15],[404,13,404,15],[431,13,431,15],[432,13,432,15],[433,13,433,15],[434,13,434,15],[435,13,435,15],[436,13,436,15],[425,13,425,15],[426,13,426,15],[427,13,427,15],[428,13,428,15],[429,13,429,15],[430,13,430,15],[419,13,419,15],[420,13,420,15],[421,13,421,15],[422,13,422,15],[423,13,423,15],[424,13,424,15],[450,13,450,15],[451,13,451,15],[452,13,452,15],[453,13,453,15],[454,13,454,15],[455,13,455,15],[444,13,444,15],[445,13,445,15],[446,13,446,15],[447,13,447,15],[448,13,448,15],[449,13,449,15],[437,13,437,15],[438,13,438,15],[440,13,440,15],[441,13,441,15],[442,13,442,15],[443,13,443,15],[470,13,470,15],[471,13,471,15],[472,13,472,15],[474,13,474,15],[475,13,475,15],[476,13,476,15],[464,13,464,15],[465,13,465,15],[466,13,466,15],[467,13,467,15],[468,13,468,15],[469,13,469,15],[456,13,456,15],[457,13,457,15],[459,13,459,15],[461,13,461,15],[462,13,462,15],[463,13,463,15],[458,13,458,15],[460,13,460,15],[489,13,489,15],[490,13,490,15],[491,13,491,15],[492,13,492,15],[493,13,493,15],[495,13,495,15],[483,13,483,15],[484,13,484,15],[485,13,485,15],[486,13,486,15],[487,13,487,15],[488,13,488,15],[477,13,477,15],[478,13,478,15],[479,13,479,15],[480,13,480,15],[481,13,481,15],[482,13,482,15],[494,13,494,15],[507,13,507,15],[508,13,508,15],[509,13,509,15],[510,13,510,15],[511,13,511,15],[512,13,512,15],[501,13,501,15],[502,13,502,15],[503,13,503,15],[504,13,504,15],[505,13,505,15],[506,13,506,15],[496,13,496,15],[497,13,497,15],[498,13,498,15],[499,13,499,15],[500,13,500,15],[525,13,525,15],[526,13,526,15],[527,13,527,15],[528,13,528,15],[529,13,529,15],[530,13,530,15],[519,13,519,15],[520,13,520,15],[521,13,521,15],[522,13,522,15],[523,13,523,15],[524,13,524,15],[513,13,513,15],[514,13,514,15],[515,13,515,15],[516,13,516,15],[517,13,517,15],[518,13,518,15],[544,13,544,15],[545,13,545,15],[546,13,546,15],[547,13,547,15],[548,13,548,15],[549,13,549,15],[538,13,538,15],[539,13,539,15],[540,13,540,15],[541,13,541,15],[542,13,542,15],[543,13,543,15],[531,13,531,15],[532,13,532,15],[533,13,533,15],[534,13,534,15],[536,13,536,15],[537,13,537,15],[562,13,562,15],[563,13,563,15],[564,13,564,15],[565,13,565,15],[566,13,566,15],[568,13,568,15],[556,13,556,15],[557,13,557,15],[558,13,558,15],[559,13,559,15],[560,13,560,15],[561,13,561,15],[550,13,550,15],[551,13,551,15],[552,13,552,15],[553,13,553,15],[554,13,554,15],[555,13,555,15],[581,13,581,15],[582,13,582,15],[583,13,583,15],[584,13,584,15],[585,13,585,15],[586,13,586,15],[575,13,575,15],[576,13,576,15]],"merged_total":1664,"flags":["merged_cut"]}
[]
[null,{"$f":"TODAY()","v":"2013-04-02"},null,null,null,null,null,null,null,null,null,null,null,"presence centre     (p)","déplacement",null,"renfort extern (ex)",null,"formation (f)","malade (m)","reunion (reu)","vacance (v)","recup (rec)","TM","TCP","TMD","DEP","CV","S","R","X","Total VTP","Total VTP + CV","Refus","KM","Gasoil","Péage","Parking","Repas Midi","Repas Soir","Hotel","Fourn Bureau","Tel","PTT","Photo","Entretien VH","Divers","Total"]
[null,null,null,null,null,null,"année","ville",null,null,"mois","nom",null,null,"auxil (ca)","SP (sp)"]
[null,null,null,null,null,null,2013,"Champagnole",null,null,"Mars",null,null,{"$f":"DCOUNTA(G12:AF1874,Q12,Données1!Z8:AD9)","v":16},{"$f":"DCOUNTA(G12:AG1874,Q12,Données1!Z10:AD11)","v":3},{"$f":"DCOUNTA(G12:AG1874,Q12,Données1!Z12:AD13)","v":0},{"$f":"DCOUNTA(G12:AG1874,Q12,Données1!Z6:AD7)","v":0},null,{"$f":"DCOUNTA(G12:AG1874,Q12,Données1!Z14:AD15)","v":0},{"$f":"DCOUNTA(G12:AG1874,Q12,Données1!Z16:AD17)","v":0},{"$f":"DCOUNTA(G12:AH1874,Q12,Données1!Z18:AD19)","v":0},{"$f":"DCOUNTA(G12:AI1874,Q12,Données1!Z20:AC21)","v":0},{"$f":"DCOUNTA(G12:AW1874,Q12,Données1!Z22:AC23)","v":0},{"$f":"DSUM(G12:AF3955,U12,G3:L4)","v":72},{"$f":"DSUM(G12:AG3955,V12,G3:L4)","v":9},{"$f":"DSUM(G12:AG3955,W12,G3:L4)","v":0},{"$f":"DSUM(G12:AG3955,X12,G3:L4)","v":0},{"$f":"DSUM(G12:AG1634,Y12,G3:L4)","v":8},{"$f":"DSUM(G12:AH1634,Z12,G3:L4)","v":7},{"$f":"DSUM(G12:AI1634,AA12,G3:L4)","v":4},{"$f":"DSUM(G12:AI1634,AB12,G3:L4)","v":3},{"$f":"X4+Y4+Z4+AA4","v":81},{"$f":"AF4+AB4","v":89},{"$f":"((AD4+AC4+AE4)/AF4)*100","v":17.283950617283949},{"$f":"DSUM(G12:AG2190,AE12,Données1!Z4:AD5)","v":832},{"$f":"DSUM($G$12:$AV$1003,AH$12,$G$3:$L$4)","v":0},0,0,0,0,0,0,0,0,0,0,0,0]
[null,null,null,null,null,null,"année","ville",null,null,"mois","nom",null,null,null,null,null,null,null,null,null,null,null,null,null,null,null,null,null,null,null,null,null,null,null,{"$f":"DSUM($G$12:$AV$1003,AH$12,$G$3:$L$4)","v":0},{"$f":"DSUM($G$12:$AV$1003,AI$12,$G$3:$L$4)","v":0}]
[null,null,null,null,null,null,2012,{"$f":"IF(H4=\"\",\"\",H4)","v":"Champagnole"},null,null,{"$f":"IF(K4=\"\",\"\",K4)","v":"Mars"},{"$f":"IF(L4=\"\",\"\",L4)","v":""},null,{"$f":"DCOUNTA(G12:AF1876,Q12,Données1!Z25:AD26)","v":20},{"$f":"DCOUNTA(G12:BB307,Q12,Données1!Z27:AD28)","v":0},{"$f":"DCOUNTA(G12:AG1876,Q12,Données1!Z29:AD30)","v":0},{"$f":"DCOUNTA(G12:AG1876,Q12,Données1!Z37:AD38)","v":0},{"$f":"DCOUNTA(H12:AG1876,R12,AZ316:BC317)","v":{"$error":"#VALUE!"}},{"$f":"DCOUNTA(G12:AG1876,Q12,Données1!Z31:AD32)","v":0},{"$f":"DCOUNTA(G12:AG1876,Q12,Données1!Z33:AD34)","v":0},{"$f":"DCOUNTA(G12:AH1876,Q12,Données1!Z35:AD36)","v":0},{"$f":"DCOUNTA(G12:AI1876,Q12,Données1!Z41:AC42)","v":0},{"$f":"DCOUNTA(G12:AW1876,Q12,Données1!Z43:AC44)","v":0},{"$f":"DSUM(G12:AF3957,U12,G5:L6)","v":68},{"$f":"DSUM(G12:AG3957,V12,G5:L6)","v":17},{"$f":"DSUM(G12:AG3957,W12,G5:L6)","v":1},{"$f":"DSUM(G12:AG3957,X12,G5:L6)","v":0},{"$f":"DSUM(G12:AG636,Y12,G5:L6)","v":6},{"$f":"DSUM(G12:AH636,Z12,G5:L6)","v":5},{"$f":"DSUM(G12:AI636,AA12,G5:L6)","v":1},{"$f":"DSUM(G12:AW636,AB12,G5:L6)","v":3},{"$f":"X6+Y6+Z6+AA6","v":86},{"$f":"AF6+AB6","v":92},{"$f":"((AD6+AC6+AE6)/AF6)*100","v":10.465116279069768},{"$f":"DSUM(G12:AG2192,AE12,Données1!Z39:AD40)","v":2204},{"$f":"DSUM($G$12:$AV$1003,AH$12,$G$5:$L$6)","v":0},0,0,0,0,0,0,0,0,0,0,0,0]
[null,null,null,null,null,null,null,null,null,null,null,null,null,null,null,null,null,null,null,null,null,{"$f":"DSUM(G15:AG2193,AE15,G6:L7)","v":{"$error":"#VALUE!"}}]
[null,null,null,null,null,null,"TMD",null,null,null,null,"Heures  Récup",null,null,null,null,null,null,"Vacances",null,null,null,null,{"$f":"X4-X6","v":4},-8,-1,0,2,2,3,0,-5,-3,6.8188343382141809]
[null,null,null,null,null,null,null,null,null,null,null,"Date",null,"Sup","Pris","Restes"]
[null,null,null,null,null,{"$f":"EDATE(F11,-12)","v":"2012-04-02"},{"$f":"SUMPRODUCT((W13:W1877)*(K13:K1877>=$F10)*(K13:K1877<=F11))","v":46},null,null,null,null,"2012-12-17",null,{"$f":"SUMPRODUCT((S13:S1877)*(K13:K1877>=$L10)*(K13:K1877<=L11))","v":2.208333333333333},{"$f":"SUMPRODUCT((T13:T1877)*(K13:K1877>=$L10)*(K13:K1877<=L11))","v":0},{"$f":"N10-O10","v":2.208333333333333},null,null,"2012-06-01",null,{"$f":"SUMPRODUCT((R13:R1877)*(K13:K1877>=$S10)*(K13:K1877<=S11))","v":19},null,null,null,null,null,null,"2011-11-01"]
[null,null,null,null,null,{"$f":"TODAY()","v":"2013-04-02"},null,null,null,null,null,{"$f":"TODAY()","v":"2013-04-02"},null,null,null,null,null,null,"2013-05-31"]
[null,null,null,null,null,null,"année","mois","N° mois","N° jour","jour","nom","ville","ville",null,null,"pointage",null,"heure sup","heure recup","TM","TCP","TMD","DEP","CV","S","R","X","Total VTP","VTP + CV","Km",null,null,"Gasoil","Péage","Parking","Repas Midi","Repas Soir","Hotel","Fourn Bureau","Tel","PTT","Photo","Entretien VH","Divers","Total"]
[null,null,null,null,null,null,{"$f":"IF(K13=\"\",\"\",YEAR(K13))","v":2010},{"$f":"IF(K13=\"\",\"\",VLOOKUP(I13,'Suiv Contr '!$D$14:$E$25,2))","v":"janvier"},{"$f":"IF(K13=\"\",\"\",MONTH(K13))","v":1},{"$f":"IF(K13=\"\",\"\",WEEKDAY(K13,2))","v":1},"2010-01-04","Germain",{"$f":"N13","v":"Champagnole"},"Champagnole",null,null,{"$f":"IF(N13=\"\",\"\",VLOOKUP(N13,Ville!$A$3:$E$40,4,0))","v":"p"},{"$f":"IF(Q13=\"v\",1,0)","v":0},{"$f":"IF(N13=\"\",0,VLOOKUP(N13,Ville!$A$3:$E$40,3,0))","v":"00:00:00"},null,null,null,null,null,1,null,null,null,{"$f":"U13+V13+W13+X13","v":0},{"$f":"AC13+Y13","v":1},{"$f":"IF(N13=\"\",\"\",VLOOKUP(N13,Ville!$A$3:$E$40,2,0))","v":0},null,null,null,null,null,null,null,null,null,null,null,null,null,null,{"$f":"SUM(AH13:AS13)","v":0},null,null,null,null,null,{"$f":"IF(OR(N13=\"champagnole\",N13=\"\"),\"\",1)","v":""}]
[null,"Alsace",null,1,"janvier",null,{"$f":"IF(K14=\"\",\"\",YEAR(K14))","v":2010},{"$f":"IF(K14=\"\",\"\",VLOOKUP(I14,'Suiv Contr '!$D$14:$E$25,2))","v":"janvier"},{"$f":"IF(K14=\"\",\"\",MONTH(K14))","v":1},2,"2010-01-05","Germain",{"$f":"N14","v":"Champagnole"},"Champagnole",null,null,{"$f":"IF(N14=\"\",\"\",VLOOKUP(N14,Ville!$A$3:$E$40,4,0))","v":"p"},{"$f":"IF(Q14=\"v\",1,0)","v":0},{"$f":"IF(N14=\"\",0,VLOOKUP(N14,Ville!$A$3:$E$40,3,0))","v":"00:00:00"},null,3,null,null,null,1,null,null,null,3,4,{"$f":"IF(N14=\"\",\"\",VLOOKUP(N14,Ville!$A$3:$E$40,2,0))","v":0},null,null,null,null,null,null,null,null,null,null,null,null,null,null,{"$f":"SUM(AH14:AS14)","v":0},null,null,null,null,null,""]
[null,"Audibert",null,2,"février",null,2010,{"$f":"IF(K15=\"\",\"\",VLOOKUP(I15,'Suiv Contr '!$D$14:$E$25,2))","v":"janvier"},1,3,"2010-01-06","Germain","Champagnole","Champagnole",null,null,{"$f":"IF(N15=\"\",\"\",VLOOKUP(N15,Ville!$A$3:$E$40,4,0))","v":"p"},0,{"$f":"IF(N15=\"\",0,VLOOKUP(N15,Ville!$A$3:$E$40,3,0))","v":"00:00:00"},null,2,null,null,null,1,null,null,null,2,3,{"$f":"IF(N15=\"\",\"\",VLOOKUP(N15,Ville!$A$3:$E$40,2,0))","v":0},null,null,null,null,null,null,null,null,null,null,null,null,null,null,0,null,null,null,null,null,""]
[null,"Auxerre",null,3,"mars",null,2010,{"$f":"IF(K16=\"\",\"\",VLOOKUP(I16,'Suiv Contr '!$D$14:$E$25,2))","v":"janvier"},1,4,"2010-01-07","Germain","Champagnole","Champagnole",null,null,{"$f":"IF(N16=\"\",\"\",VLOOKUP(N16,Ville!$A$3:$E$40,4,0))","v":"p"},0,{"$f":"IF(N16=\"\",0,VLOOKUP(N16,Ville!$A$3:$E$40,3,0))","v":"00:00:00"},null,6,2,null,null,null,null,1,null,8,8,{"$f":"IF(N16=\"\",\"\",VLOOKUP(N16,Ville!$A$3:$E$40,2,0))","v":0},null,null,null,null,null,null,null,null,null,null,null,null,null,null,0,null,null,null,null,null,""]
[null,"Avallon",null,4,"avril",null,2010,{"$f":"IF(K17=\"\",\"\",VLOOKUP(I17,'Suiv Contr '!$D$14:$E$25,2))","v":"janvier"},1,5,"2010-01-08","Germain","Champagnole","Champagnole",null,null,{"$f":"IF(N17=\"\",\"\",VLOOKUP(N17,Ville!$A$3:$E$40,4,0))","v":"p"},0,{"$f":"IF(N17=\"\",0,VLOOKUP(N17,Ville!$A$3:$E$40,3,0))","v":"00:00:00"},null,8,1,null,null,null,null,null,null,9,9,{"$f":"IF(N17=\"\",\"\",VLOOKUP(N17,Ville!$A$3:$E$40,2,0))","v":0},null,null,null,null,null,null,null,null,null,null,null,null,null,null,0,null,null,null,null,null,""]
[null,"Belley",null,5,"mai",null,2010,{"$f":"IF(K18=\"\",\"\",VLOOKUP(I18,'Suiv Contr '!$D$14:$E$25,2))","v":"janvier"},1,1,"2010-01-11","Germain","Besançon iax","Besançon iax",null,null,{"$f":"IF(N18=\"\",\"\",VLOOKUP(N18,Ville!$A$3:$E$40,4,0))","v":"ca"},0,{"$f":"IF(N18=\"\",0,VLOOKUP(N18,Ville!$A$3:$E$40,3,0))","v":"01:50:00"},null,7,1,null,null,2,1,null,null,8,10,{"$f":"IF(N18=\"\",\"\",VLOOKUP(N18,Ville!$A$3:$E$40,2,0))","v":132},null,null,null,null,null,null,null,null,null,null,null,null,null,null,0,null,null,null,null,null,1]
[null,"Besançon iax",null,6,"juin",null,2010,{"$f":"IF(K19=\"\",\"\",VLOOKUP(I19,'Suiv Contr '!$D$14:$E$25,2))","v":"janvier"},1,2,"2010-01-12","Germain","Champagnole","Champagnole",null,null,{"$f":"IF(N19=\"\",\"\",VLOOKUP(N19,Ville!$A$3:$E$40,4,0))","v":"p"},0,{"$f":"IF(N19=\"\",0,VLOOKUP(N19,Ville!$A$3:$E$40,3,0))","v":"00:00:00"},null,3,null,null,null,null,null,null,null,3,3,{"$f":"IF(N19=\"\",\"\",VLOOKUP(N19,Ville!$A$3:$E$40,2,0))","v":0},null,null,null,null,null,null,null,null,null,null,null,null,null,null,0,null,null,null,null,null,""]
[null,"Besançon sp",null,7,"juillet",null,2010,{"$f":"IF(K20=\"\",\"\",VLOOKUP(I20,'Suiv Contr '!$D$14:$E$25,2))","v":"janvier"},1,3,"2010-01-13","Germain","Pouilly en Auxois","Pouilly en Auxois",null,null,{"$f":"IF(N20=\"\",\"\",VLOOKUP(N20,Ville!$A$3:$E$40,4,0))","v":"ca"},0,{"$f":"IF(N20=\"\",0,VLOOKUP(N20,Ville!$A$3:$E$40,3,0))","v":"02:10:00"},null,1,2,null,null,null,null,null,null,3,3,{"$f":"IF(N20=\"\",\"\",VLOOKUP(N20,Ville!$A$3:$E$40,2,0))","v":314},null,null,null,null,null,null,null,null,null,null,null,null,null,null,0,null,null,null,null,null,1]
[null,"Bourgoin Jallieu",null,8,"août",null,2010,{"$f":"IF(K21=\"\",\"\",VLOOKUP(I21,'Suiv Contr '!$D$14:$E$25,2))","v":"janvier"},1,4,"2010-01-14","Germain","Champagnole","Champagnole",null,null,{"$f":"IF(N21=\"\",\"\",VLOOKUP(N21,Ville!$A$3:$E$40,4,0))","v":"p"},0,{"$f":"IF(N21=\"\",0,VLOOKUP(N21,Ville!$A$3:$E$40,3,0))","v":"00:00:00"},null,3,null,null,null,1,null,null,null,3,4,{"$f":"IF(N21=\"\",\"\",VLOOKUP(N21,Ville!$A$3:$E$40,2,0))","v":0},null,null,null,null,null,null,null,null,null,null,null,null,null,null,0,null,null,null,null,null,""]
[null,"Champagnole",null,9,"septembre",null,2010,{"$f":"IF(K22=\"\",\"\",VLOOKUP(I22,'Suiv Contr '!$D$14:$E$25,2))","v":"janvier"},1,5,"2010-01-15","Germain","Champagnole","Champagnole",null,null,{"$f":"IF(N22=\"\",\"\",VLOOKUP(N22,Ville!$A$3:$E$40,4,0))","v":"p"},0,{"$f":"IF(N22=\"\",0,VLOOKUP(N22,Ville!$A$3:$E$40,3,0))","v":"00:00:00"},null,6,2,null,null,2,3,null,null,8,10,{"$f":"IF(N22=\"\",\"\",VLOOKUP(N22,Ville!$A$3:$E$40,2,0))","v":0},null,null,null,null,null,null,null,null,null,null,null,null,null,null,0,null,null,null,null,null,""]
[null,"Chatillon sur seine",null,10,"octobre",null,2010,{"$f":"IF(K23=\"\",\"\",VLOOKUP(I23,'Suiv Contr '!$D$14:$E$25,2))","v":"janvier"},1,1,"2010-01-18","Germain","Meythet","Meythet",null,null,{"$f":"IF(N23=\"\",\"\",VLOOKUP(N23,Ville!$A$3:$E$40,4,0))","v":"ca"},0,{"$f":"IF(N23=\"\",0,VLOOKUP(N23,Ville!$A$3:$E$40,3,0))","v":"04:20:00"},null,11,null,null,null,null,null,null,null,11,11,{"$f":"IF(N23=\"\",\"\",VLOOKUP(N23,Ville!$A$3:$E$40,2,0))","v":298},null,null,null,null,null,null,null,null,null,null,null,null,null,null,0,null,null,null,null,null,1]
[null,"Chauffailles",null,11,"novembre",null,2010,{"$f":"IF(K24=\"\",\"\",VLOOKUP(I24,'Suiv Contr '!$D$14:$E$25,2))","v":"janvier"},1,2,"2010-01-19","Germain","Champagnole","Champagnole",null,null,{"$f":"IF(N24=\"\",\"\",VLOOKUP(N24,Ville!$A$3:$E$40,4,0))","v":"p"},0,{"$f":"IF(N24=\"\",0,VLOOKUP(N24,Ville!$A$3:$E$40,3,0))","v":"00:00:00"},null,9,null,null,null,null,null,null,null,9,9,{"$f":"IF(N24=\"\",\"\",VLOOKUP(N24,Ville!$A$3:$E$40,2,0))","v":0},null,null,null,null,null,null,null,null,null,null,null,null,null,null,0,null,null,null,null,null,""]
[null,"Colmar",null,12,"décembre",null,2010,{"$f":"IF(K25=\"\",\"\",VLOOKUP(I25,'Suiv Contr '!$D$14:$E$25,2))","v":"janvier"},1,3,"2010-01-20","Germain","Thann","Thann",null,null,{"$f":"IF(N25=\"\",\"\",VLOOKUP(N25,Ville!$A$3:$E$40,4,0))","v":"ca"},0,{"$f":"IF(N25=\"\",0,VLOOKUP(N25,Ville!$A$3:$E$40,3,0))","v":"04:30:00"},null,6,2,1,null,null,1,1,null,9,9,{"$f":"IF(N25=\"\",\"\",VLOOKUP(N25,Ville!$A$3:$E$40,2,0))","v":402},null,null,null,null,null,null,null,null,null,null,null,null,null,null,0,null,null,null,null,null,1]
[null,"Cordesse",null,null,null,null,2010,{"$f":"IF(K26=\"\",\"\",VLOOKUP(I26,'Suiv Contr '!$D$14:$E$25,2))","v":"janvier"},1,4,"2010-01-21","Germain","Champagnole","Champagnole",null,null,{"$f":"IF(N26=\"\",\"\",VLOOKUP(N26,Ville!$A$3:$E$40,4,0))","v":"p"},0,{"$f":"IF(N26=\"\",0,VLOOKUP(N26,Ville!$A$3:$E$40,3,0))","v":"00:00:00"},null,7,1,null,null,1,1,null,null,8,9,{"$f":"IF(N26=\"\",\"\",VLOOKUP(N26,Ville!$A$3:$E$40,2,0))","v":0},null,null,null,null,null,null,null,null,null,null,null,null,null,null,0,null,null,null,null,null,""]
[null,"Ecquevilly",null,null,null,null,2010,{"$f":"IF(K27=\"\",\"\",VLOOKUP(I27,'Suiv Contr '!$D$14:$E$25,2))","v":"janvier"},1,5,"2010-01-22","Germain","Champagnole","Champagnole",null,null,{"$f":"IF(N27=\"\",\"\",VLOOKUP(N27,Ville!$A$3:$E$40,4,0))","v":"p"},0,{"$f":"IF(N27=\"\",0,VLOOKUP(N27,Ville!$A$3:$E$40,3,0))","v":"00:00:00"},null,2,4,null,null,null,null,null,null,6,6,{"$f":"IF(N27=\"\",\"\",VLOOKUP(N27,Ville!$A$3:$E$40,2,0))","v":0},null,null,null,null,null,null,null,null,null,null,null,null,null,null,0,null,null,null,null,null,""]
[null,"Ennery",null,null,null,null,2010,{"$f":"IF(K28=\"\",\"\",VLOOKUP(I28,'Suiv Contr '!$D$14:$E$25,2))","v":"janvier"},1,1,"2010-01-25","Germain","Besançon iax","Besançon iax",null,null,{"$f":"IF(N28=\"\",\"\",VLOOKUP(N28,Ville!$A$3:$E$40,4,0))","v":"ca"},0,{"$f":"IF(N28=\"\",0,VLOOKUP(N28,Ville!$A$3:$E$40,3,0))","v":"01:50:00"},null,8,2,null,null,1,null,null,null,10,11,{"$f":"IF(N28=\"\",\"\",VLOOKUP(N28,Ville!$A$3:$E$40,2,0))","v":132},null,null,null,null,null,null,null,null,null,null,null,null,null,null,0,null,null,null,null,null,1]
[null,"Fains les Montbard",null,null,null,null,2010,{"$f":"IF(K29=\"\",\"\",VLOOKUP(I29,'Suiv Contr '!$D$14:$E$25,2))","v":"janvier"},1,2,"2010-01-26","Germain","Champagnole","Champagnole",null,null,{"$f":"IF(N29=\"\",\"\",VLOOKUP(N29,Ville!$A$3:$E$40,4,0))","v":"p"},0,{"$f":"IF(N29=\"\",0,VLOOKUP(N29,Ville!$A$3:$E$40,3,0))","v":"00:00:00"},null,6,null,null,null,1,null,null,null,6,7,{"$f":"IF(N29=\"\",\"\",VLOOKUP(N29,Ville!$A$3:$E$40,2,0))","v":0},null,null,null,null,null,null,null,null,null,null,null,null,null,null,0,null,null,null,null,null,""]
[null,"La Soie",null,null,null,null,2010,{"$f":"IF(K30=\"\",\"\",VLOOKUP(I30,'Suiv Contr '!$D$14:$E$25,2))","v":"janvier"},1,3,"2010-01-27","Germain","Fains les Montbard","Fains les Montbard",null,null,{"$f":"IF(N30=\"\",\"\",VLOOKUP(N30,Ville!$A$3:$E$40,4,0))","v":"sp"},0,{"$f":"IF(N30=\"\",0,VLOOKUP(N30,Ville!$A$3:$E$40,3,0))","v":"03:30:00"},null,10,2,null,null,null,null,null,null,12,12,{"$f":"IF(N30=\"\",\"\",VLOOKUP(N30,Ville!$A$3:$E$40,2,0))","v":366},null,null,null,null,null,null,null,null,null,null,null,null,null,null,0,null,null,null,null,null,1]
[null,"Le Pontet",null,null,null,null,2010,{"$f":"IF(K31=\"\",\"\",VLOOKUP(I31,'Suiv Contr '!$D$14:$E$25,2))","v":"janvier"},1,4,"2010-01-28","Germain","Champagnole","Champagnole",null,null,{"$f":"IF(N31=\"\",\"\",VLOOKUP(N31,Ville!$A$3:$E$40,4,0))","v":"p"},0,{"$f":"IF(N31=\"\",0,VLOOKUP(N31,Ville!$A$3:$E$40,3,0))","v":"00:00:00"},null,5,3,null,null,1,null,null,null,8,9,{"$f":"IF(N31=\"\",\"\",VLOOKUP(N31,Ville!$A$3:$E$40,2,0))","v":0},null,null,null,null,null,null,null,null,null,null,null,null,null,null,0,null,null,null,null,null,""]
[null,"Les Pins",null,null,null,null,2010,{"$f":"IF(K32=\"\",\"\",VLOOKUP(I32,'Suiv Contr '!$D$14:$E$25,2))","v":"janvier"},1,5,"2010-01-29","Germain","Champagnole","Champagnole",null,null,{"$f":"IF(N32=\"\",\"\",VLOOKUP(N32,Ville!$A$3:$E$40,4,0))","v":"p"},0,{"$f":"IF(N32=\"\",0,VLOOKUP(N32,Ville!$A$3:$E$40,3,0))","v":"00:00:00"},null,5,3,null,null,null,null,null,null,8,8,{"$f":"IF(N32=\"\",\"\",VLOOKUP(N32,Ville!$A$3:$E$40,2,0))","v":0},null,null,null,null,null,null,null,null,null,null,null,null,null,null,0,null,null,null,null,null,""]
[null,"Ludres",null,null,null,null,2010,{"$f":"IF(K33=\"\",\"\",VLOOKUP(I33,'Suiv Contr '!$D$14:$E$25,2))","v":"février"},2,1,"2010-02-01","Germain","Meythet","Meythet",null,null,{"$f":"IF(N33=\"\",\"\",VLOOKUP(N33,Ville!$A$3:$E$40,4,0))","v":"ca"},0,{"$f":"IF(N33=\"\",0,VLOOKUP(N33,Ville!$A$3:$E$40,3,0))","v":"04:20:00"},null,null,null,null,null,1,null,null,null,0,1,{"$f":"IF(N33=\"\",\"\",VLOOKUP(N33,Ville!$A$3:$E$40,2,0))","v":298},null,null,null,null,null,null,null,null,null,null,null,null,null,null,0,null,null,null,null,null,1]
[null,"Lyon",null,null,null,null,2010,{"$f":"IF(K34=\"\",\"\",VLOOKUP(I34,'Suiv Contr '!$D$14:$E$25,2))","v":"février"},2,2,"2010-02-02","Germain","Champagnole","Champagnole",null,null,{"$f":"IF(N34=\"\",\"\",VLOOKUP(N34,Ville!$A$3:$E$40,4,0))","v":"p"},0,{"$f":"IF(N34=\"\",0,VLOOKUP(N34,Ville!$A$3:$E$40,3,0))","v":"00:00:00"},null,2,null,null,null,null,null,null,null,2,2,{"$f":"IF(N34=\"\",\"\",VLOOKUP(N34,Ville!$A$3:$E$40,2,0))","v":0},null,null,null,null,null,null,null,null,null,null,null,null,null,null,0,null,null,null,null,null,""]
[null,"Marseilles",null,null,null,null,2010,{"$f":"IF(K35=\"\",\"\",VLOOKUP(I35,'Suiv Contr '!$D$14:$E$25,2))","v":"février"},2,3,"2010-02-03","Germain","Champagnole","Champagnole",null,null,{"$f":"IF(N35=\"\",\"\",VLOOKUP(N35,Ville!$A$3:$E$40,4,0))","v":"p"},0,{"$f":"IF(N35=\"\",0,VLOOKUP(N35,Ville!$A$3:$E$40,3,0))","v":"00:00:00"},null,3,null,null,null,null,null,null,null,3,3,{"$f":"IF(N35=\"\",\"\",VLOOKUP(N35,Ville!$A$3:$E$40,2,0))","v":0},null,null,null,null,null,null,null,null,null,null,null,null,null,null,0,null,null,null,null,null,""]
[null,"Meythet",null,null,null,null,2010,{"$f":"IF(K36=\"\",\"\",VLOOKUP(I36,'Suiv Contr '!$D$14:$E$25,2))","v":"février"},2,4,"2010-02-04","Germain","Seymoutier","Seymoutier",null,null,{"$f":"IF(N36=\"\",\"\",VLOOKUP(N36,Ville!$A$3:$E$40,4,0))","v":"sp"},0,{"$f":"IF(N36=\"\",0,VLOOKUP(N36,Ville!$A$3:$E$40,3,0))","v":"02:50:00"},null,2,1,null,null,null,1,null,null,3,3,{"$f":"IF(N36=\"\",\"\",VLOOKUP(N36,Ville!$A$3:$E$40,2,0))","v":390},null,null,null,null,null,null,null,null,null,null,null,null,null,null,0,null,null,null,null,null,1]
[null,"Montreuil",null,null,null,null,2010,{"$f":"IF(K37=\"\",\"\",VLOOKUP(I37,'Suiv Contr '!$D$14:$E$25,2))","v":"février"},2,5,"2010-02-05","Germain","Champagnole","Champagnole",null,null,{"$f":"IF(N37=\"\",\"\",VLOOKUP(N37,Ville!$A$3:$E$40,4,0))","v":"p"},0,{"$f":"IF(N37=\"\",0,VLOOKUP(N37,Ville!$A$3:$E$40,3,0))","v":"00:00:00"},null,7,1,null,null,4,1,null,null,8,12,{"$f":"IF(N37=\"\",\"\",VLOOKUP(N37,Ville!$A$3:$E$40,2,0))","v":0},null,null,null,null,null,null,null,null,null,null,null,null,null,null,0,null,null,null,null,null,""]
[null,"Morbier",null,null,null,null,2010,{"$f":"IF(K38=\"\",\"\",VLOOKUP(I38,'Suiv Contr '!$D$14:$E$25,2))","v":"février"},2,1,"2010-02-08","Germain","Champagnole","Champagnole",null,null,{"$f":"IF(N38=\"\",\"\",VLOOKUP(N38,Ville!$A$3:$E$40,4,0))","v":"p"},0,{"$f":"IF(N38=\"\",0,VLOOKUP(N38,Ville!$A$3:$E$40,3,0))","v":"00:00:00"},null,1,null,null,null,null,null,null,null,1,1,{"$f":"IF(N38=\"\",\"\",VLOOKUP(N38,Ville!$A$3:$E$40,2,0))","v":0},null,null,null,null,null,null,null,null,null,null,null,null,null,null,0,null,null,null,null,null,""]
[null,"Poitiers",null,null,null,null,2010,{"$f":"IF(K39=\"\",\"\",VLOOKUP(I39,'Suiv Contr '!$D$14:$E$25,2))","v":"février"},2,2,"2010-02-09","Germain","Champagnole","Champagnole",null,null,{"$f":"IF(N39=\"\",\"\",VLOOKUP(N39,Ville!$A$3:$E$40,4,0))","v":"p"},0,{"$f":"IF(N39=\"\",0,VLOOKUP(N39,Ville!$A$3:$E$40,3,0))","v":"00:00:00"},null,7,4,null,null,null,null,null,null,11,11,{"$f":"IF(N39=\"\",\"\",VLOOKUP(N39,Ville!$A$3:$E$40,2,0))","v":0},null,null,null,null,null,null,null,null,null,null,null,null,null,null,0,null,null,null,null,null,""]
[null,"Pouilly en Auxois",null,null,null,null,2010,{"$f":"IF(K40=\"\",\"\",VLOOKUP(I40,'Suiv Contr '!$D$14:$E$25,2))","v":"février"},2,3,"2010-02-10","Germain","Champagnole","Champagnole",null,null,{"$f":"IF(N40=\"\",\"\",VLOOKUP(N40,Ville!$A$3:$E$40,4,0))","v":"p"},0,{"$f":"IF(N40=\"\",0,VLOOKUP(N40,Ville!$A$3:$E$40,3,0))","v":"00:00:00"},null,3,null,null,null,null,null,null,null,3,3,{"$f":"IF(N40=\"\",\"\",VLOOKUP(N40,Ville!$A$3:$E$40,2,0))","v":0},null,null,null,null,null,null,null,null,null,null,null,null,null,null,0,null,null,null,null,null,""]
[null,"Rambervillier",null,null,null,null,2010,{"$f":"IF(K41=\"\",\"\",VLOOKUP(I41,'Suiv Contr '!$D$14:$E$25,2))","v":"février"},2,4,"2010-02-11","Germain","Champagnole","Champagnole",null,null,{"$f":"IF(N41=\"\",\"\",VLOOKUP(N41,Ville!$A$3:$E$40,4,0))","v":"p"},0,{"$f":"IF(N41=\"\",0,VLOOKUP(N41,Ville!$A$3:$E$40,3,0))","v":"00:00:00"},null,4,6,null,null,null,1,2,null,10,10,{"$f":"IF(N41=\"\",\"\",VLOOKUP(N41,Ville!$A$3:$E$40,2,0))","v":0},null,null,null,null,null,null,null,null,null,null,null,null,null,null,0,null,null,null,null,null,""]
[null,"Rumilly",null,null,null,null,2010,{"$f":"IF(K42=\"\",\"\",VLOOKUP(I42,'Suiv Contr '!$D$14:$E$25,2))","v":"février"},2,5,"2010-02-12","Germain","Champagnole","Champagnole",null,null,{"$f":"IF(N42=\"\",\"\",VLOOKUP(N42,Ville!$A$3:$E$40,4,0))","v":"p"},0,{"$f":"IF(N42=\"\",0,VLOOKUP(N42,Ville!$A$3:$E$40,3,0))","v":"00:00:00"},null,5,4,null,null,null,null,null,null,9,9,{"$f":"IF(N42=\"\",\"\",VLOOKUP(N42,Ville!$A$3:$E$40,2,0))","v":0},null,null,null,null,null,null,null,null,null,null,null,null,null,null,0,null,null,null,null,null,""]
[null,"Saint Nabord",null,null,null,null,2010,{"$f":"IF(K43=\"\",\"\",VLOOKUP(I43,'Suiv Contr '!$D$14:$E$25,2))","v":"février"},2,1,"2010-02-15","Germain","Champagnole","Champagnole",null,null,{"$f":"IF(N43=\"\",\"\",VLOOKUP(N43,Ville!$A$3:$E$40,4,0))","v":"p"},0,{"$f":"IF(N43=\"\",0,VLOOKUP(N43,Ville!$A$3:$E$40,3,0))","v":"00:00:00"},null,1,null,null,null,null,null,null,null,1,1,{"$f":"IF(N43=\"\",\"\",VLOOKUP(N43,Ville!$A$3:$E$40,2,0))","v":0},null,null,null,null,null,null,null,null,null,null,null,null,null,null,0,null,null,null,null,null,""]
[null,"Sennece les Macons",null,null,null,null,2010,{"$f":"IF(K44=\"\",\"\",VLOOKUP(I44,'Suiv Contr '!$D$14:$E$25,2))","v":"février"},2,2,"2010-02-16","Germain","Champagnole","Champagnole",null,null,{"$f":"IF(N44=\"\",\"\",VLOOKUP(N44,Ville!$A$3:$E$40,4,0))","v":"p"},0,{"$f":"IF(N44=\"\",0,VLOOKUP(N44,Ville!$A$3:$E$40,3,0))","v":"00:00:00"},null,2,4,null,null,null,null,null,null,6,6,{"$f":"IF(N44=\"\",\"\",VLOOKUP(N44,Ville!$A$3:$E$40,2,0))","v":0},null,null,null,null,null,null,null,null,null,null,null,null,null,null,0,null,null,null,null,null,""]
[null,"Seymoutier",null,null,null,null,2010,{"$f":"IF(K45=\"\",\"\",VLOOKUP(I45,'Suiv Contr '!$D$14:$E$25,2))","v":"février"},2,3,"2010-02-17","Germain","Champagnole","Champagnole",null,null,"v",1,{"$f":"IF(N45=\"\",0,VLOOKUP(N45,Ville!$A$3:$E$40,3,0))","v":"00:00:00"},null,null,null,null,null,null,null,null,null,0,0,{"$f":"IF(N45=\"\",\"\",VLOOKUP(N45,Ville!$A$3:$E$40,2,0))","v":0},null,null,null,null,null,null,null,null,null,null,null,null,null,null,0,null,null,null,null,null,""]
[null,"Strasbourg",null,null,null,null,2010,{"$f":"IF(K46=\"\",\"\",VLOOKUP(I46,'Suiv Contr '!$D$14:$E$25,2))","v":"février"},2,4,"2010-02-18","Germain","Champagnole","Champagnole",null,null,{"$f":"IF(N46=\"\",\"\",VLOOKUP(N46,Ville!$A$3:$E$40,4,0))","v":"p"},0,{"$f":"IF(N46=\"\",0,VLOOKUP(N46,Ville!$A$3:$E$40,3,0))","v":"00:00:00"},null,4,7,null,null,1,1,1,null,11,12,{"$f":"IF(N46=\"\",\"\",VLOOKUP(N46,Ville!$A$3:$E$40,2,0))","v":0},null,null,null,null,null,null,null,null,null,null,null,null,null,null,0,null,null,null,null,null,""]
[null,"Terville",null,null,null,null,2010,{"$f":"IF(K47=\"\",\"\",VLOOKUP(I47,'Suiv Contr '!$D$14:$E$25,2))","v":"février"},2,5,"2010-02-19","Germain","Champagnole","Champagnole",null,null,{"$f":"IF(N47=\"\",\"\",VLOOKUP(N47,Ville!$A$3:$E$40,4,0))","v":"p"},0,{"$f":"IF(N47=\"\",0,VLOOKUP(N47,Ville!$A$3:$E$40,3,0))","v":"00:00:00"},null,4,4,null,null,5,1,null,null,8,13,{"$f":"IF(N47=\"\",\"\",VLOOKUP(N47,Ville!$A$3:$E$40,2,0))","v":0},null,null,null,null,null,null,null,null,null,null,null,null,null,null,0,null,null,null,null,null,""]
[null,"Thann",null,null,null,null,2010,{"$f":"IF(K48=\"\",\"\",VLOOKUP(I48,'Suiv Contr '!$D$14:$E$25,2))","v":"février"},2,1,"2010-02-22","Germain","Besançon iax","Besançon iax",null,null,{"$f":"IF(N48=\"\",\"\",VLOOKUP(N48,Ville!$A$3:$E$40,4,0))","v":"ca"},0,{"$f":"IF(N48=\"\",0,VLOOKUP(N48,Ville!$A$3:$E$40,3,0))","v":"01:50:00"},null,6,null,null,null,1,1,null,null,6,7,{"$f":"IF(N48=\"\",\"\",VLOOKUP(N48,Ville!$A$3:$E$40,2,0))","v":132},null,null,null,null,null,null,null,null,null,null,null,null,null,null,0,null,null,null,null,null,1]
[null,"vaise",null,null,null,null,2010,{"$f":"IF(K49=\"\",\"\",VLOOKUP(I49,'Suiv Contr '!$D$14:$E$25,2))","v":"février"},2,2,"2010-02-23","Germain","Champagnole","Champagnole",null,null,{"$f":"IF(N49=\"\",\"\",VLOOKUP(N49,Ville!$A$3:$E$40,4,0))","v":"p"},0,{"$f":"IF(N49=\"\",0,VLOOKUP(N49,Ville!$A$3:$E$40,3,0))","v":"00:00:00"},null,6,1,null,null,1,null,1,null,7,8,{"$f":"IF(N49=\"\",\"\",VLOOKUP(N49,Ville!$A$3:$E$40,2,0))","v":0},null,null,null,null,null,null,null,null,null,null,null,null,null,null,0,null,null,null,null,null,""]
[null,"Vaucouleur",null,null,null,null,2010,{"$f":"IF(K50=\"\",\"\",VLOOKUP(I50,'Suiv Contr '!$D$14:$E$25,2))","v":"février"},2,3,"2010-02-24","Germain","Champagnole","Champagnole",null,null,{"$f":"IF(N50=\"\",\"\",VLOOKUP(N50,Ville!$A$3:$E$40,4,0))","v":"p"},0,{"$f":"IF(N50=\"\",0,VLOOKUP(N50,Ville!$A$3:$E$40,3,0))","v":"00:00:00"},null,2,null,null,null,null,null,null,null,2,2,{"$f":"IF(N50=\"\",\"\",VLOOKUP(N50,Ville!$A$3:$E$40,2,0))","v":0},null,null,null,null,null,null,null,null,null,null,null,null,null,null,0,null,null,null,null,null,""]
[null,"Verdun",null,null,null,null,2010,{"$f":"IF(K51=\"\",\"\",VLOOKUP(I51,'Suiv Contr '!$D$14:$E$25,2))","v":"février"},2,4,"2010-02-25","Germain","Champagnole","Champagnole",null,null,{"$f":"IF(N51=\"\",\"\",VLOOKUP(N51,Ville!$A$3:$E$40,4,0))","v":"p"},0,{"$f":"IF(N51=\"\",0,VLOOKUP(N51,Ville!$A$3:$E$40,3,0))","v":"00:00:00"},null,1,1,null,null,null,null,1,null,2,2,{"$f":"IF(N51=\"\",\"\",VLOOKUP(N51,Ville!$A$3:$E$40,2,0))","v":0},null,null,null,null,null,null,null,null,null,null,null,null,null,null,0,null,null,null,null,null,""]
[null,"Villefranche",null,null,null,null,2010,{"$f":"IF(K52=\"\",\"\",VLOOKUP(I52,'Suiv Contr '!$D$14:$E$25,2))","v":"février"},2,5,"2010-02-26","Germain","Champagnole","Champagnole",null,null,{"$f":"IF(N52=\"\",\"\",VLOOKUP(N52,Ville!$A$3:$E$40,4,0))","v":"p"},0,{"$f":"IF(N52=\"\",0,VLOOKUP(N52,Ville!$A$3:$E$40,3,0))","v":"00:00:00"},null,1,null,null,null,null,null,null,null,1,1,{"$f":"IF(N52=\"\",\"\",VLOOKUP(N52,Ville!$A$3:$E$40,2,0))","v":0},null,null,null,null,null,null,null,null,null,null,null,null,null,null,0,null,null,null,null,null,""]
[null,null,null,null,null,null,2010,{"$f":"IF(K53=\"\",\"\",VLOOKUP(I53,'Suiv Contr '!$D$14:$E$25,2))","v":"mars"},3,1,"2010-03-01","Germain","Meythet","Meythet",null,null,{"$f":"IF(N53=\"\",\"\",VLOOKUP(N53,Ville!$A$3:$E$40,4,0))","v":"ca"},0,{"$f":"IF(N53=\"\",0,VLOOKUP(N53,Ville!$A$3:$E$40,3,0))","v":"04:20:00"},null,3,null,1,null,1,null,null,null,4,5,{"$f":"IF(N53=\"\",\"\",VLOOKUP(N53,Ville!$A$3:$E$40,2,0))","v":298},null,null,null,null,null,null,null,null,null,null,null,null,null,null,0,null,null,null,null,null,1]
[null,null,null,null,null,null,2010,{"$f":"IF(K54=\"\",\"\",VLOOKUP(I54,'Suiv Contr '!$D$14:$E$25,2))","v":"mars"},3,2,"2010-03-02","Germain","Champagnole","Champagnole",null,null,{"$f":"IF(N54=\"\",\"\",VLOOKUP(N54,Ville!$A$3:$E$40,4,0))","v":"p"},0,{"$f":"IF(N54=\"\",0,VLOOKUP(N54,Ville!$A$3:$E$40,3,0))","v":"00:00:00"},null,7,6,null,null,null,1,null,null,13,13,{"$f":"IF(N54=\"\",\"\",VLOOKUP(N54,Ville!$A$3:$E$40,2,0))","v":0},null,null,null,null,null,null,null,null,null,null,null,null,null,null,0,null,null,null,null,null,"",null,null,null,"année","ville","mois","nom","pointage"]
[null,null,null,null,null,null,2010,{"$f":"IF(K55=\"\",\"\",VLOOKUP(I55,'Suiv Contr '!$D$14:$E$25,2))","v":"mars"},3,3,"2010-03-03","Germain","Champagnole","Champagnole",null,null,{"$f":"IF(N55=\"\",\"\",VLOOKUP(N55,Ville!$A$3:$E$40,4,0))","v":"p"},0,{"$f":"IF(N55=\"\",0,VLOOKUP(N55,Ville!$A$3:$E$40,3,0))","v":"00:00:00"},"03:00:00",null,null,null,null,null,null,null,null,0,0,{"$f":"IF(N55=\"\",\"\",VLOOKUP(N55,Ville!$A$3:$E$40,2,0))","v":0},null,null,null,null,null,null,null,null,null,null,null,null,null,null,0,null,null,null,null,null,"",null,null,null,{"$f":"Synthèse!$A$2","v":2012},{"$f":"IF(Synthèse!$C$2=\"\",\"\",Synthèse!$C$2)","v":""},{"$f":"IF(Synthèse!$B$2=\"\",\"\",Synthèse!$B$2)","v":"Janvier"},{"$f":"IF(Synthèse!$D$2=\"\",\"\",Synthèse!$D$2)","v":"GERMAIN"},"p"]
[null,null,null,null,null,null,2010,{"$f":"IF(K56=\"\",\"\",VLOOKUP(I56,'Suiv Contr '!$D$14:$E$25,2))","v":"mars"},3,4,"2010-03-04","Germain","Champagnole","Champagnole",null,null,{"$f":"IF(N56=\"\",\"\",VLOOKUP(N56,Ville!$A$3:$E$40,4,0))","v":"p"},0,{"$f":"IF(N56=\"\",0,VLOOKUP(N56,Ville!$A$3:$E$40,3,0))","v":"00:00:00"},null,6,3,null,null,null,null,null,null,9,9,{"$f":"IF(N56=\"\",\"\",VLOOKUP(N56,Ville!$A$3:$E$40,2,0))","v":0},null,null,null,null,null,null,null,null,null,null,null,null,null,null,0,null,null,null,null,null,"",null,null,null,"année","ville","mois","nom","pointage"]
[null,null,null,null,null,null,2010,{"$f":"IF(K57=\"\",\"\",VLOOKUP(I57,'Suiv Contr '!$D$14:$E$25,2))","v":"mars"},3,5,"2010-03-05","Germain","Champagnole","Champagnole",null,null,{"$f":"IF(N59=\"\",\"\",VLOOKUP(N59,Ville!$A$3:$E$40,4,0))","v":"p"},0,{"$f":"IF(N59=\"\",0,VLOOKUP(N59,Ville!$A$3:$E$40,3,0))","v":"00:00:00"},null,7,1,null,null,null,2,1,null,8,8,{"$f":"IF(N59=\"\",\"\",VLOOKUP(N59,Ville!$A$3:$E$40,2,0))","v":0},null,null,null,null,null,null,null,null,null,null,null,null,null,null,0,null,null,null,null,null,"",null,null,null,{"$f":"Synthèse!$A$2","v":2012},{"$f":"IF(Synthèse!$C$2=\"\",\"\",Synthèse!$C$2)","v":""},{"$f":"IF(Synthèse!$B$2=\"\",\"\",Synthèse!$B$2)","v":"Janvier"},{"$f":"IF(Synthèse!$D$2=\"\",\"\",Synthèse!$D$2)","v":"GERMAIN"},"ex"]
[null,null,null,null,null,null,2010,{"$f":"IF(K58=\"\",\"\",VLOOKUP(I58,'Suiv Contr '!$D$14:$E$25,2))","v":"mars"},3,1,"2010-03-08","Germain","Fains les Montbard","Fains les Montbard",null,null,{"$f":"IF(N58=\"\",\"\",VLOOKUP(N58,Ville!$A$3:$E$40,4,0))","v":"sp"},0,{"$f":"IF(N58=\"\",0,VLOOKUP(N58,Ville!$A$3:$E$40,3,0))","v":"03:30:00"},null,6,3,null,null,null,null,null,null,9,9,{"$f":"IF(N58=\"\",\"\",VLOOKUP(N58,Ville!$A$3:$E$40,2,0))","v":366},null,null,null,null,null,null,null,null,null,null,null,null,null,null,0,null,null,null,null,null,1,null,null,null,"année","ville","mois","nom","pointage"]
[null,null,null,null,null,null,2010,{"$f":"IF(K59=\"\",\"\",VLOOKUP(I59,'Suiv Contr '!$D$14:$E$25,2))","v":"mars"},3,2,"2010-03-09","Germain","Champagnole","Champagnole",null,null,{"$f":"IF(N59=\"\",\"\",VLOOKUP(N59,Ville!$A$3:$E$40,4,0))","v":"p"},0,{"$f":"IF(N59=\"\",0,VLOOKUP(N59,Ville!$A$3:$E$40,3,0))","v":"00:00:00"},null,6,3,null,null,3,null,1,null,9,12,{"$f":"IF(N59=\"\",\"\",VLOOKUP(N59,Ville!$A$3:$E$40,2,0))","v":0},null,null,null,null,null,null,null,null,null,null,null,null,null,null,0,null,null,null,null,null,"",null,null,null,{"$f":"Synthèse!$A$2","v":2012},{"$f":"IF(Synthèse!$C$2=\"\",\"\",Synthèse!$C$2)","v":""},{"$f":"IF(Synthèse!$B$2=\"\",\"\",Synthèse!$B$2)","v":"Janvier"},{"$f":"IF(Synthèse!$D$2=\"\",\"\",Synthèse!$D$2)","v":"GERMAIN"},"ca"]
[null,null,null,null,null,null,2010,{"$f":"IF(K60=\"\",\"\",VLOOKUP(I60,'Suiv Contr '!$D$14:$E$25,2))","v":"mars"},3,3,"2010-03-10","Germain","Fains les Montbard","Fains les Montbard",null,null,{"$f":"IF(N60=\"\",\"\",VLOOKUP(N60,Ville!$A$3:$E$40,4,0))","v":"sp"},0,{"$f":"IF(N60=\"\",0,VLOOKUP(N60,Ville!$A$3:$E$40,3,0))","v":"03:30:00"},null,8,null,null,null,null,null,null,null,8,8,{"$f":"IF(N60=\"\",\"\",VLOOKUP(N60,Ville!$A$3:$E$40,2,0))","v":366},null,null,null,null,null,null,null,null,null,null,null,null,null,null,0,null,null,null,null,null,1,null,null,null,"année","ville","mois","nom","pointage"]
[null,null,null,null,null,null,2010,{"$f":"IF(K61=\"\",\"\",VLOOKUP(I61,'Suiv Contr '!$D$14:$E$25,2))","v":"mars"},3,4,"2010-03-11","Germain","Champagnole","Champagnole",null,null,{"$f":"IF(N61=\"\",\"\",VLOOKUP(N61,Ville!$A$3:$E$40,4,0))","v":"p"},0,{"$f":"IF(N61=\"\",0,VLOOKUP(N61,Ville!$A$3:$E$40,3,0))","v":"00:00:00"},null,5,1,null,null,null,null,null,null,6,6,{"$f":"IF(N61=\"\",\"\",VLOOKUP(N61,Ville!$A$3:$E$40,2,0))","v":0},null,null,null,null,null,null,null,null,null,null,null,null,null,null,0,null,null,null,null,null,"",null,null,null,{"$f":"Synthèse!$A$2","v":2012},{"$f":"IF(Synthèse!$C$2=\"\",\"\",Synthèse!$C$2)","v":""},{"$f":"IF(Synthèse!$B$2=\"\",\"\",Synthèse!$B$2)","v":"Janvier"},{"$f":"IF(Synthèse!$D$2=\"\",\"\",Synthèse!$D$2)","v":"GERMAIN"},"sp"]
[null,null,null,null,null,null,2010,{"$f":"IF(K62=\"\",\"\",VLOOKUP(I62,'Suiv Contr '!$D$14:$E$25,2))","v":"mars"},3,5,"2010-03-12","Germain","Champagnole","Champagnole",null,null,{"$f":"IF(N62=\"\",\"\",VLOOKUP(N62,Ville!$A$3:$E$40,4,0))","v":"p"},0,{"$f":"IF(N62=\"\",0,VLOOKUP(N62,Ville!$A$3:$E$40,3,0))","v":"00:00:00"},null,2,null,null,null,null,null,null,null,2,2,{"$f":"IF(N62=\"\",\"\",VLOOKUP(N62,Ville!$A$3:$E$40,2,0))","v":0},null,null,null,null,null,null,null,null,null,null,null,null,null,null,0,null,null,null,null,null,"",null,null,null,"année","ville","mois","nom","pointage"]
[null,null,null,null,null,null,2010,{"$f":"IF(K63=\"\",\"\",VLOOKUP(I63,'Suiv Contr '!$D$14:$E$25,2))","v":"mars"},3,1,"2010-03-15","Germain","Les Pins","Les Pins",null,null,{"$f":"IF(N63=\"\",\"\",VLOOKUP(N63,Ville!$A$3:$E$40,4,0))","v":"ca"},0,{"$f":"IF(N63=\"\",0,VLOOKUP(N63,Ville!$A$3:$E$40,3,0))","v":"03:00:00"},null,null,13,null,null,1,null,2,null,13,14,{"$f":"IF(N63=\"\",\"\",VLOOKUP(N63,Ville!$A$3:$E$40,2,0))","v":390},null,null,null,null,null,null,null,null,null,null,null,null,null,null,0,null,null,null,null,null,1,null,null,null,{"$f":"Synthèse!$A$2","v":2012},{"$f":"IF(Synthèse!$C$2=\"\",\"\",Synthèse!$C$2)","v":""},{"$f":"IF(Synthèse!$B$2=\"\",\"\",Synthèse!$B$2)","v":"Janvier"},{"$f":"IF(Synthèse!$D$2=\"\",\"\",Synthèse!$D$2)","v":"GERMAIN"},"f"]
[null,null,null,null,null,null,2010,{"$f":"IF(K64=\"\",\"\",VLOOKUP(I64,'Suiv Contr '!$D$14:$E$25,2))","v":"mars"},3,2,"2010-03-16","Germain","Champagnole","Champagnole",null,null,{"$f":"IF(N64=\"\",\"\",VLOOKUP(N64,Ville!$A$3:$E$40,4,0))","v":"p"},0,{"$f":"IF(N64=\"\",0,VLOOKUP(N64,Ville!$A$3:$E$40,3,0))","v":"00:00:00"},null,10,3,null,null,null,2,1,null,13,13,{"$f":"IF(N64=\"\",\"\",VLOOKUP(N64,Ville!$A$3:$E$40,2,0))","v":0},null,null,null,null,null,null,null,null,null,null,null,null,null,null,0,null,null,null,null,null,"",null,null,null,"année","ville","mois","nom","pointage"]
[null,null,null,null,null,null,2010,{"$f":"IF(K65=\"\",\"\",VLOOKUP(I65,'Suiv Contr '!$D$14:$E$25,2))","v":"mars"},3,3,"2010-03-17","Germain","Thann","Thann",null,null,{"$f":"IF(N65=\"\",\"\",VLOOKUP(N65,Ville!$A$3:$E$40,4,0))","v":"ca"},0,{"$f":"IF(N65=\"\",0,VLOOKUP(N65,Ville!$A$3:$E$40,3,0))","v":"04:30:00"},null,4,null,4,null,1,null,null,null,8,9,{"$f":"IF(N65=\"\",\"\",VLOOKUP(N65,Ville!$A$3:$E$40,2,0))","v":402},null,null,null,null,null,null,null,null,null,null,null,null,null,null,0,null,null,null,null,null,1,null,null,null,{"$f":"Synthèse!$A$2","v":2012},{"$f":"IF(Synthèse!$C$2=\"\",\"\",Synthèse!$C$2)","v":""},{"$f":"IF(Synthèse!$B$2=\"\",\"\",Synthèse!$B$2)","v":"Janvier"},{"$f":"IF(Synthèse!$D$2=\"\",\"\",Synthèse!$D$2)","v":"GERMAIN"},"m"]
[null,null,null,null,null,null,2010,{"$f":"IF(K66=\"\",\"\",VLOOKUP(I66,'Suiv Contr '!$D$14:$E$25,2))","v":"mars"},3,4,"2010-03-18","Germain","Champagnole","Champagnole",null,null,{"$f":"IF(N66=\"\",\"\",VLOOKUP(N66,Ville!$A$3:$E$40,4,0))","v":"p"},0,{"$f":"IF(N66=\"\",0,VLOOKUP(N66,Ville!$A$3:$E$40,3,0))","v":"00:00:00"},null,6,3,null,null,null,null,null,null,9,9,{"$f":"IF(N66=\"\",\"\",VLOOKUP(N66,Ville!$A$3:$E$40,2,0))","v":0},null,null,null,null,null,null,null,null,null,null,null,null,null,null,0,null,null,null,null,null,"",null,null,null,"année","ville","mois","nom","pointage"]
[null,null,null,null,null,null,2010,{"$f":"IF(K67=\"\",\"\",VLOOKUP(I67,'Suiv Contr '!$D$14:$E$25,2))","v":"mars"},3,5,"2010-03-19","Germain","Champagnole","Champagnole",null,null,{"$f":"IF(N67=\"\",\"\",VLOOKUP(N67,Ville!$A$3:$E$40,4,0))","v":"p"},0,{"$f":"IF(N67=\"\",0,VLOOKUP(N67,Ville!$A$3:$E$40,3,0))","v":"00:00:00"},null,5,null,null,null,null,null,null,null,5,5,{"$f":"IF(N67=\"\",\"\",VLOOKUP(N67,Ville!$A$3:$E$40,2,0))","v":0},null,null,null,null,null,null,null,null,null,null,null,null,null,null,0,null,null,null,null,null,"",null,null,null,{"$f":"Synthèse!$A$2","v":2012},{"$f":"IF(Synthèse!$C$2=\"\",\"\",Synthèse!$C$2)","v":""},{"$f":"IF(Synthèse!$B$2=\"\",\"\",Synthèse!$B$2)","v":"Janvier"},{"$f":"IF(Synthèse!$D$2=\"\",\"\",Synthèse!$D$2)","v":"GERMAIN"},"reu"]
[null,null,null,null,null,null,2010,{"$f":"IF(K68=\"\",\"\",VLOOKUP(I68,'Suiv Contr '!$D$14:$E$25,2))","v":"mars"},3,1,"2010-03-22","Germain","Meythet","Meythet",null,null,{"$f":"IF(N68=\"\",\"\",VLOOKUP(N68,Ville!$A$3:$E$40,4,0))","v":"ca"},0,{"$f":"IF(N68=\"\",0,VLOOKUP(N68,Ville!$A$3:$E$40,3,0))","v":"04:20:00"},null,9,null,null,null,null,null,null,null,9,9,{"$f":"IF(N68=\"\",\"\",VLOOKUP(N68,Ville!$A$3:$E$40,2,0))","v":298},null,null,null,null,null,null,null,null,null,null,null,null,null,null,0,null,null,null,null,null,1,null,null,null,"année","ville","mois","nom","pointage"]
[null,null,null,null,null,null,2010,{"$f":"IF(K69=\"\",\"\",VLOOKUP(I69,'Suiv Contr '!$D$14:$E$25,2))","v":"mars"},3,2,"2010-03-23","Germain","Champagnole","Champagnole",null,null,{"$f":"IF(N69=\"\",\"\",VLOOKUP(N69,Ville!$A$3:$E$40,4,0))","v":"p"},0,{"$f":"IF(N69=\"\",0,VLOOKUP(N69,Ville!$A$3:$E$40,3,0))","v":"00:00:00"},null,7,3,1,null,null,2,1,null,11,11,{"$f":"IF(N69=\"\",\"\",VLOOKUP(N69,Ville!$A$3:$E$40,2,0))","v":0},null,null,null,null,null,null,null,null,null,null,null,null,null,null,0,null,null,null,null,null,"",null,null,null,{"$f":"Synthèse!$A$2","v":2012},{"$f":"IF(Synthèse!$C$2=\"\",\"\",Synthèse!$C$2)","v":""},{"$f":"IF(Synthèse!$B$2=\"\",\"\",Synthèse!$B$2)","v":"Janvier"},{"$f":"IF(Synthèse!$D$2=\"\",\"\",Synthèse!$D$2)","v":"GERMAIN"},"v"]
[null,null,null,null,null,null,2010,{"$f":"IF(K70=\"\",\"\",VLOOKUP(I70,'Suiv Contr '!$D$14:$E$25,2))","v":"mars"},3,3,"2010-03-24","Germain","Fains les Montbard","Fains les Montbard",null,null,{"$f":"IF(N70=\"\",\"\",VLOOKUP(N70,Ville!$A$3:$E$40,4,0))","v":"sp"},0,{"$f":"IF(N70=\"\",0,VLOOKUP(N70,Ville!$A$3:$E$40,3,0))","v":"03:30:00"},null,6,null,null,null,null,2,null,null,6,6,{"$f":"IF(N70=\"\",\"\",VLOOKUP(N70,Ville!$A$3:$E$40,2,0))","v":366},null,null,null,null,null,null,null,null,null,null,null,null,null,null,0,null,null,null,null,null,1,null,null,null,"année","ville","mois","nom","pointage"]
[null,null,null,null,null,null,2010,{"$f":"IF(K71=\"\",\"\",VLOOKUP(I71,'Suiv Contr '!$D$14:$E$25,2))","v":"mars"},3,4,"2010-03-25","Germain","Champagnole","Champagnole",null,null,{"$f":"IF(N71=\"\",\"\",VLOOKUP(N71,Ville!$A$3:$E$40,4,0))","v":"p"},0,{"$f":"IF(N71=\"\",0,VLOOKUP(N71,Ville!$A$3:$E$40,3,0))","v":"00:00:00"},null,5,null,null,null,1,null,null,null,5,6,{"$f":"IF(N71=\"\",\"\",VLOOKUP(N71,Ville!$A$3:$E$40,2,0))","v":0},null,null,null,null,null,null,null,null,null,null,null,null,null,null,0,null,null,null,null,null,"",null,null,null,{"$f":"Synthèse!$A$2","v":2012},{"$f":"IF(Synthèse!$C$2=\"\",\"\",Synthèse!$C$2)","v":""},{"$f":"IF(Synthèse!$B$2=\"\",\"\",Synthèse!$B$2)","v":"Janvier"},{"$f":"IF(Synthèse!$D$2=\"\",\"\",Synthèse!$D$2)","v":"GERMAIN"},"rec"]
[null,null,null,null,null,null,2010,{"$f":"IF(K72=\"\",\"\",VLOOKUP(I72,'Suiv Contr '!$D$14:$E$25,2))","v":"mars"},3,5,"2010-03-26","Germain","Champagnole","Champagnole",null,null,{"$f":"IF(N72=\"\",\"\",VLOOKUP(N72,Ville!$A$3:$E$40,4,0))","v":"p"},0,{"$f":"IF(N72=\"\",0,VLOOKUP(N72,Ville!$A$3:$E$40,3,0))","v":"00:00:00"},null,9,null,null,null,null,1,1,null,9,9,{"$f":"IF(N72=\"\",\"\",VLOOKUP(N72,Ville!$A$3:$E$40,2,0))","v":0},null,null,null,null,null,null,null,null,null,null,null,null,null,null,0,null,null,null,null,null,""]
[null,null,null,null,null,null,2010,{"$f":"IF(K73=\"\",\"\",VLOOKUP(I73,'Suiv Contr '!$D$14:$E$25,2))","v":"mars"},3,1,"2010-03-29","Germain","Rambervillier","Rambervillier",null,null,{"$f":"IF(N73=\"\",\"\",VLOOKUP(N73,Ville!$A$3:$E$40,4,0))","v":"ca"},0,{"$f":"IF(N73=\"\",0,VLOOKUP(N73,Ville!$A$3:$E$40,3,0))","v":"05:00:00"},null,9,null,null,null,1,null,null,null,9,10,{"$f":"IF(N73=\"\",\"\",VLOOKUP(N73,Ville!$A$3:$E$40,2,0))","v":448},null,null,null,null,null,null,null,null,null,null,null,null,null,null,0,null,null,null,null,null,1,null,null,null,"année","ville","mois","nom","pointage"]
[null,null,null,null,null,null,2010,{"$f":"IF(K74=\"\",\"\",VLOOKUP(I74,'Suiv Contr '!$D$14:$E$25,2))","v":"mars"},3,2,"2010-03-30","Germain","Champagnole","Champagnole",null,null,{"$f":"IF(N74=\"\",\"\",VLOOKUP(N74,Ville!$A$3:$E$40,4,0))","v":"p"},0,{"$f":"IF(N74=\"\",0,VLOOKUP(N74,Ville!$A$3:$E$40,3,0))","v":"00:00:00"},null,5,null,null,null,1,2,null,null,5,6,{"$f":"IF(N74=\"\",\"\",VLOOKUP(N74,Ville!$A$3:$E$40,2,0))","v":0},null,null,null,null,null,null,null,null,null,null,null,null,null,null,0,null,null,null,null,null,"",null,null,null,{"$f":"Synthèse!$A$2-1","v":2011},{"$f":"IF(Synthèse!$C$2=\"\",\"\",Synthèse!$C$2)","v":""},{"$f":"IF(Synthèse!$B$2=\"\",\"\",Synthèse!$B$2)","v":"Janvier"},{"$f":"IF(Synthèse!$D$2=\"\",\"\",Synthèse!$D$2)","v":"GERMAIN"},"p"]
[null,null,null,null,null,null,2010,{"$f":"IF(K75=\"\",\"\",VLOOKUP(I75,'Suiv Contr '!$D$14:$E$25,2))","v":"mars"},3,3,"2010-03-31","Germain","Champagnole","Champagnole",null,null,"rec",0,{"$f":"IF(N75=\"\",0,VLOOKUP(N75,Ville!$A$3:$E$40,3,0))","v":"00:00:00"},"07:00:00",null,null,null,null,null,null,null,null,0,0,{"$f":"IF(N75=\"\",\"\",VLOOKUP(N75,Ville!$A$3:$E$40,2,0))","v":0},null,null,null,null,null,null,null,null,null,null,null,null,null,null,0,null,null,null,null,null,"",null,null,null,"année","ville","mois","nom","pointage"]
[null,null,null,null,null,null,2010,{"$f":"IF(K76=\"\",\"\",VLOOKUP(I76,'Suiv Contr '!$D$14:$E$25,2))","v":"avril"},4,4,"2010-04-01","Germain","Champagnole","Champagnole",null,null,{"$f":"IF(N76=\"\",\"\",VLOOKUP(N76,Ville!$A$3:$E$40,4,0))","v":"p"},0,{"$f":"IF(N76=\"\",0,VLOOKUP(N76,Ville!$A$3:$E$40,3,0))","v":"00:00:00"},null,8,1,1,null,1,null,null,null,10,11,{"$f":"IF(N76=\"\",\"\",VLOOKUP(N76,Ville!$A$3:$E$40,2,0))","v":0},null,null,null,null,null,null,null,null,null,null,null,null,null,null,0,null,null,null,null,null,"",null,null,null,{"$f":"Synthèse!$A$2-1","v":2011},{"$f":"IF(Synthèse!$C$2=\"\",\"\",Synthèse!$C$2)","v":""},{"$f":"IF(Synthèse!$B$2=\"\",\"\",Synthèse!$B$2)","v":"Janvier"},{"$f":"IF(Synthèse!$D$2=\"\",\"\",Synthèse!$D$2)","v":"GERMAIN"},"ex"]
[null,null,null,null,null,null,2010,{"$f":"IF(K77=\"\",\"\",VLOOKUP(I77,'Suiv Contr '!$D$14:$E$25,2))","v":"avril"},4,5,"2010-04-02","Germain","Champagnole","Champagnole",null,null,{"$f":"IF(N77=\"\",\"\",VLOOKUP(N77,Ville!$A$3:$E$40,4,0))","v":"p"},0,{"$f":"IF(N77=\"\",0,VLOOKUP(N77,Ville!$A$3:$E$40,3,0))","v":"00:00:00"},null,8,2,null,null,null,1,1,null,{"$f":"U77+V77+W77+X77","v":10},{"$f":"AC77+Y77","v":10},{"$f":"IF(N77=\"\",\"\",VLOOKUP(N77,Ville!$A$3:$E$40,2,0))","v":0},null,null,null,null,null,null,null,null,null,null,null,null,null,null,0,null,null,null,null,null,{"$f":"IF(OR(N77=\"champagnole\",N77=\"\"),\"\",1)","v":""},null,null,null,"année","ville","mois","nom","pointage"]
[null,null,null,null,null,null,{"$f":"IF(K78=\"\",\"\",YEAR(K78))","v":2010},{"$f":"IF(K78=\"\",\"\",VLOOKUP(I78,'Suiv Contr '!$D$14:$E$25,2))","v":"avril"},{"$f":"IF(K78=\"\",\"\",MONTH(K78))","v":4},{"$f":"IF(K78=\"\",\"\",WEEKDAY(K78,2))","v":1},"2010-04-05","FERIE",{"$f":"N78","v":"00:00:00"},null,null,null,{"$f":"IF(N78=\"\",\"\",VLOOKUP(N78,Ville!$A$3:$E$40,4,0))","v":""},{"$f":"IF(Q78=\"v\",1,0)","v":0},{"$f":"IF(N78=\"\",0,VLOOKUP(N78,Ville!$A$3:$E$40,3,0))","v":"00:00:00"},null,null,null,null,null,null,null,null,null,0,0,{"$f":"IF(N78=\"\",\"\",VLOOKUP(N78,Ville!$A$3:$E$40,2,0))","v":""},null,null,null,null,null,null,null,null,null,null,null,null,null,null,{"$f":"SUM(AH78:AS78)","v":0},null,null,null,null,null,"",null,null,null,{"$f":"Synthèse!$A$2-1","v":2011},{"$f":"IF(Synthèse!$C$2=\"\",\"\",Synthèse!$C$2)","v":""},{"$f":"IF(Synthèse!$B$2=\"\",\"\",Synthèse!$B$2)","v":"Janvier"},{"$f":"IF(Synthèse!$D$2=\"\",\"\",Synthèse!$D$2)","v":"GERMAIN"},"ca"]
[null,null,null,null,null,null,2010,{"$f":"IF(K79=\"\",\"\",VLOOKUP(I79,'Suiv Contr '!$D$14:$E$25,2))","v":"avril"},4,2,"2010-04-06","Germain","Ennery","Ennery",null,null,"f",0,{"$f":"IF(N79=\"\",0,VLOOKUP(N79,Ville!$A$3:$E$40,3,0))","v":"06:00:00"},null,null,null,null,null,null,null,null,null,0,0,{"$f":"IF(N79=\"\",\"\",VLOOKUP(N79,Ville!$A$3:$E$40,2,0))","v":752},null,null,null,null,null,null,null,null,null,null,null,null,null,null,0,null,null,null,null,null,1,null,null,null,"année","ville","mois","nom","pointage"]
[null,null,null,null,null,null,2010,{"$f":"IF(K80=\"\",\"\",VLOOKUP(I80,'Suiv Contr '!$D$14:$E$25,2))","v":"avril"},4,3,"2010-04-07","Germain","Ennery","Ennery",null,null,"f",0,null,null,null,null,null,null,null,null,null,null,0,0,null,null,null,null,null,null,null,null,null,null,null,null,null,null,null,0,null,null,null,null,null,1,null,null,null,{"$f":"Synthèse!$A$2-1","v":2011},{"$f":"IF(Synthèse!$C$2=\"\",\"\",Synthèse!$C$2)","v":""},{"$f":"IF(Synthèse!$B$2=\"\",\"\",Synthèse!$B$2)","v":"Janvier"},{"$f":"IF(Synthèse!$D$2=\"\",\"\",Synthèse!$D$2)","v":"GERMAIN"},"sp"]
[null,null,null,null,null,null,2010,{"$f":"IF(K81=\"\",\"\",VLOOKUP(I81,'Suiv Contr '!$D$14:$E$25,2))","v":"avril"},4,4,"2010-04-08","Germain","Ennery","Ennery",null,null,"f",0,null,null,null,null,null,null,null,null,null,null,0,0,null,null,null,null,null,null,null,null,null,null,null,null,null,null,null,0,null,null,null,null,null,1,null,null,null,"année","ville","mois","nom","pointage"]
[null,null,null,null,null,null,2010,{"$f":"IF(K82=\"\",\"\",VLOOKUP(I82,'Suiv Contr '!$D$14:$E$25,2))","v":"avril"},4,5,"2010-04-09","Germain","Ennery","Ennery",null,null,"f",0,null,null,null,null,null,null,null,null,null,null,0,0,null,null,null,null,null,null,null,null,null,null,null,null,null,null,null,0,null,null,null,null,null,1,null,null,null,{"$f":"Synthèse!$A$2-1","v":2011},{"$f":"IF(Synthèse!$C$2=\"\",\"\",Synthèse!$C$2)","v":""},{"$f":"IF(Synthèse!$B$2=\"\",\"\",Synthèse!$B$2)","v":"Janvier"},{"$f":"IF(Synthèse!$D$2=\"\",\"\",Synthèse!$D$2)","v":"GERMAIN"},"f"]
[null,null,null,null,null,null,2010,{"$f":"IF(K83=\"\",\"\",VLOOKUP(I83,'Suiv Contr '!$D$14:$E$25,2))","v":"avril"},4,5,"2010-04-09","Boyer","Champagnole","Champagnole",null,null,"ex",0,{"$f":"IF(N83=\"\",0,VLOOKUP(N83,Ville!$A$3:$E$40,3,0))","v":"00:00:00"},null,5,1,null,null,null,null,null,null,null,null,{"$f":"IF(N83=\"\",\"\",VLOOKUP(N83,Ville!$A$3:$E$40,2,0))","v":0},null,null,null,null,null,null,null,null,null,null,null,null,null,null,0,null,null,null,null,null,"",null,null,null,"année","ville","mois","nom","pointage"]
[null,null,null,null,null,null,2010,{"$f":"IF(K84=\"\",\"\",VLOOKUP(I84,'Suiv Contr '!$D$14:$E$25,2))","v":"avril"},4,1,"2010-04-12","Germain","Rambervillier","Rambervillier",null,null,{"$f":"IF(N84=\"\",\"\",VLOOKUP(N84,Ville!$A$3:$E$40,4,0))","v":"ca"},0,{"$f":"IF(N84=\"\",0,VLOOKUP(N84,Ville!$A$3:$E$40,3,0))","v":"05:00:00"},null,6,null,null,null,null,null,null,null,{"$f":"U84+V84+W84+X84","v":6},{"$f":"AC84+Y84","v":6},{"$f":"IF(N84=\"\",\"\",VLOOKUP(N84,Ville!$A$3:$E$40,2,0))","v":448},null,null,null,null,null,null,null,null,null,null,null,null,null,null,0,null,null,null,null,null,1,null,null,null,{"$f":"Synthèse!$A$2-1","v":2011},{"$f":"IF(Synthèse!$C$2=\"\",\"\",Synthèse!$C$2)","v":""},{"$f":"IF(Synthèse!$B$2=\"\",\"\",Synthèse!$B$2)","v":"Janvier"},{"$f":"IF(Synthèse!$D$2=\"\",\"\",Synthèse!$D$2)","v":"GERMAIN"},"m"]
[null,null,null,null,null,null,2010,{"$f":"IF(K85=\"\",\"\",VLOOKUP(I85,'Suiv Contr '!$D$14:$E$25,2))","v":"avril"},4,2,"2010-04-13","Germain","Champagnole","Champagnole",null,null,"p",0,{"$f":"IF(N85=\"\",0,VLOOKUP(N85,Ville!$A$3:$E$40,3,0))","v":"00:00:00"},null,7,3,null,null,1,1,null,null,10,11,{"$f":"IF(N85=\"\",\"\",VLOOKUP(N85,Ville!$A$3:$E$40,2,0))","v":0},null,null,null,null,null,null,null,null,null,null,null,null,null,null,0,null,null,null,null,null,"",null,null,null,"année","ville","mois","nom","pointage"]
[null,null,null,null,null,null,2010,{"$f":"IF(K86=\"\",\"\",VLOOKUP(I86,'Suiv Contr '!$D$14:$E$25,2))","v":"avril"},4,3,"2010-04-14","Germain","Thann","Thann",null,null,{"$f":"IF(N86=\"\",\"\",VLOOKUP(N86,Ville!$A$3:$E$40,4,0))","v":"ca"},0,{"$f":"IF(N86=\"\",0,VLOOKUP(N86,Ville!$A$3:$E$40,3,0))","v":"04:30:00"},null,null,null,6,null,null,null,null,null,6,6,{"$f":"IF(N86=\"\",\"\",VLOOKUP(N86,Ville!$A$3:$E$40,2,0))","v":402},null,null,null,null,null,null,null,null,null,null,null,null,null,null,0,null,null,null,null,null,1,null,null,null,{"$f":"Synthèse!$A$2-1","v":2011},{"$f":"IF(Synthèse!$C$2=\"\",\"\",Synthèse!$C$2)","v":""},{"$f":"IF(Synthèse!$B$2=\"\",\"\",Synthèse!$B$2)","v":"Janvier"},{"$f":"IF(Synthèse!$D$2=\"\",\"\",Synthèse!$D$2)","v":"GERMAIN"},"reu"]
[null,null,null,null,null,null,2010,{"$f":"IF(K87=\"\",\"\",VLOOKUP(I87,'Suiv Contr '!$D$14:$E$25,2))","v":"avril"},4,4,"2010-04-15","Germain","Champagnole","Champagnole",null,null,{"$f":"IF(N87=\"\",\"\",VLOOKUP(N87,Ville!$A$3:$E$40,4,0))","v":"p"},0,{"$f":"IF(N87=\"\",0,VLOOKUP(N87,Ville!$A$3:$E$40,3,0))","v":"00:00:00"},null,4,3,null,null,2,null,null,null,7,9,{"$f":"IF(N87=\"\",\"\",VLOOKUP(N87,Ville!$A$3:$E$40,2,0))","v":0},null,null,null,null,null,null,null,null,null,null,null,null,null,null,0,null,null,null,null,null,"",null,null,null,"année","ville","mois","nom","pointage"]
[null,null,null,null,null,null,2010,{"$f":"IF(K88=\"\",\"\",VLOOKUP(I88,'Suiv Contr '!$D$14:$E$25,2))","v":"avril"},4,5,"2010-04-16","Germain","Champagnole","Champagnole",null,null,{"$f":"IF(N88=\"\",\"\",VLOOKUP(N88,Ville!$A$3:$E$40,4,0))","v":"p"},0,{"$f":"IF(N88=\"\",0,VLOOKUP(N88,Ville!$A$3:$E$40,3,0))","v":"00:00:00"},null,6,null,null,null,2,null,1,null,6,8,{"$f":"IF(N88=\"\",\"\",VLOOKUP(N88,Ville!$A$3:$E$40,2,0))","v":0},null,null,null,null,null,null,null,null,null,null,null,null,null,null,0,null,null,null,null,null,"",null,null,null,{"$f":"Synthèse!$A$2-1","v":2011},{"$f":"IF(Synthèse!$C$2=\"\",\"\",Synthèse!$C$2)","v":""},{"$f":"IF(Synthèse!$B$2=\"\",\"\",Synthèse!$B$2)","v":"Janvier"},{"$f":"IF(Synthèse!$D$2=\"\",\"\",Synthèse!$D$2)","v":"GERMAIN"},"v"]
[null,null,null,null,null,null,2010,{"$f":"IF(K89=\"\",\"\",VLOOKUP(I89,'Suiv Contr '!$D$14:$E$25,2))","v":"avril"},4,1,"2010-04-19","Germain","Champagnole","Champagnole",null,null,"m",0,{"$f":"IF(N89=\"\",0,VLOOKUP(N89,Ville!$A$3:$E$40,3,0))","v":"00:00:00"},null,null,null,null,null,null,null,null,null,0,0,{"$f":"IF(N89=\"\",\"\",VLOOKUP(N89,Ville!$A$3:$E$40,2,0))","v":0},null,null,null,null,null,null,null,null,null,null,null,null,null,null,0,null,null,null,null,null,"",null,null,null,"année","ville","mois","nom","pointage"]
[null,null,null,null,null,null,2010,{"$f":"IF(K90=\"\",\"\",VLOOKUP(I90,'Suiv Contr '!$D$14:$E$25,2))","v":"avril"},4,2,"2010-04-20","Germain","Champagnole","Champagnole",null,null,"m",0,{"$f":"IF(N90=\"\",0,VLOOKUP(N90,Ville!$A$3:$E$40,3,0))","v":"00:00:00"},null,null,null,null,null,null,null,null,null,0,0,{"$f":"IF(N90=\"\",\"\",VLOOKUP(N90,Ville!$A$3:$E$40,2,0))","v":0},null,null,null,null,null,null,null,null,null,null,null,null,null,null,0,null,null,null,null,null,"",null,null,null,{"$f":"Synthèse!$A$2-1","v":2011},{"$f":"IF(Synthèse!$C$2=\"\",\"\",Synthèse!$C$2)","v":""},{"$f":"IF(Synthèse!$B$2=\"\",\"\",Synthèse!$B$2)","v":"Janvier"},{"$f":"IF(Synthèse!$D$2=\"\",\"\",Synthèse!$D$2)","v":"GERMAIN"},"rec"]
[null,null,null,null,null,null,2010,{"$f":"IF(K91=\"\",\"\",VLOOKUP(I91,'Suiv Contr '!$D$14:$E$25,2))","v":"avril"},4,3,"2010-04-21","Germain","Champagnole","Champagnole",null,null,"m",0,{"$f":"IF(N91=\"\",0,VLOOKUP(N91,Ville!$A$3:$E$40,3,0))","v":"00:00:00"},null,null,null,null,null,null,null,null,null,0,0,{"$f":"IF(N91=\"\",\"\",VLOOKUP(N91,Ville!$A$3:$E$40,2,0))","v":0},null,null,null,null,null,null,null,null,null,null,null,null,null,null,0,null,null,null,null,null,""]
[null,null,null,null,null,null,2010,{"$f":"IF(K92=\"\",\"\",VLOOKUP(I92,'Suiv Contr '!$D$14:$E$25,2))","v":"avril"},4,4,"2010-04-22","Germain","Champagnole","Champagnole",null,null,"m",0,{"$f":"IF(N92=\"\",0,VLOOKUP(N92,Ville!$A$3:$E$40,3,0))","v":"00:00:00"},null,null,null,null,null,null,null,null,null,0,0,{"$f":"IF(N92=\"\",\"\",VLOOKUP(N92,Ville!$A$3:$E$40,2,0))","v":0},null,null,null,null,null,null,null,null,null,null,null,null,null,null,0,null,null,null,null,null,""]
[null,null,null,null,null,null,2010,{"$f":"IF(K93=\"\",\"\",VLOOKUP(I93,'Suiv Contr '!$D$14:$E$25,2))","v":"avril"},4,5,"2010-04-23","Germain","Champagnole","Champagnole",null,null,"m",0,{"$f":"IF(N93=\"\",0,VLOOKUP(N93,Ville!$A$3:$E$40,3,0))","v":"00:00:00"},null,null,null,null,null,null,null,null,null,0,0,{"$f":"IF(N93=\"\",\"\",VLOOKUP(N93,Ville!$A$3:$E$40,2,0))","v":0},null,null,null,null,null,null,null,null,null,null,null,null,null,null,0,null,null,null,null,null,""]
[null,null,null,null,null,null,2010,{"$f":"IF(K94=\"\",\"\",VLOOKUP(I94,'Suiv Contr '!$D$14:$E$25,2))","v":"avril"},4,1,"2010-04-26","Germain","Meythet","Meythet",null,null,{"$f":"IF(N94=\"\",\"\",VLOOKUP(N94,Ville!$A$3:$E$40,4,0))","v":"ca"},0,{"$f":"IF(N94=\"\",0,VLOOKUP(N94,Ville!$A$3:$E$40,3,0))","v":"04:20:00"},null,8,1,null,null,null,null,2,null,9,9,{"$f":"IF(N94=\"\",\"\",VLOOKUP(N94,Ville!$A$3:$E$40,2,0))","v":298},null,null,null,null,null,null,null,null,null,null,null,null,null,null,0,null,null,null,null,null,1]
[null,null,null,null,null,null,2010,{"$f":"IF(K95=\"\",\"\",VLOOKUP(I95,'Suiv Contr '!$D$14:$E$25,2))","v":"avril"},4,2,"2010-04-27","Germain","Champagnole","Champagnole",null,null,{"$f":"IF(N95=\"\",\"\",VLOOKUP(N95,Ville!$A$3:$E$40,4,0))","v":"p"},0,{"$f":"IF(N95=\"\",0,VLOOKUP(N95,Ville!$A$3:$E$40,3,0))","v":"00:00:00"},null,14,1,null,null,null,1,null,null,15,15,{"$f":"IF(N95=\"\",\"\",VLOOKUP(N95,Ville!$A$3:$E$40,2,0))","v":0},null,null,null,null,null,null,null,null,null,null,null,null,null,null,0,null,null,null,null,null,""]
[null,null,null,null,null,null,2010,{"$f":"IF(K96=\"\",\"\",VLOOKUP(I96,'Suiv Contr '!$D$14:$E$25,2))","v":"avril"},4,3,"2010-04-28","Germain","Champagnole","Champagnole",null,null,{"$f":"IF(N96=\"\",\"\",VLOOKUP(N96,Ville!$A$3:$E$40,4,0))","v":"p"},0,{"$f":"IF(N96=\"\",0,VLOOKUP(N96,Ville!$A$3:$E$40,3,0))","v":"00:00:00"},null,6,null,null,null,null,null,null,null,6,6,{"$f":"IF(N96=\"\",\"\",VLOOKUP(N96,Ville!$A$3:$E$40,2,0))","v":0},null,null,null,null,null,null,null,null,null,null,null,null,null,null,0,null,null,null,null,null,""]
[null,null,null,null,null,null,2010,{"$f":"IF(K97=\"\",\"\",VLOOKUP(I97,'Suiv Contr '!$D$14:$E$25,2))","v":"avril"},4,4,"2010-04-29","Germain","Champagnole","Champagnole",null,null,{"$f":"IF(N97=\"\",\"\",VLOOKUP(N97,Ville!$A$3:$E$40,4,0))","v":"p"},0,{"$f":"IF(N97=\"\",0,VLOOKUP(N97,Ville!$A$3:$E$40,3,0))","v":"00:00:00"},null,10,1,null,null,1,null,1,null,11,12,{"$f":"IF(N97=\"\",\"\",VLOOKUP(N97,Ville!$A$3:$E$40,2,0))","v":0},null,null,null,null,null,null,null,null,null,null,null,null,null,null,0,null,null,null,null,null,""]
[null,null,null,null,null,null,2010,{"$f":"IF(K98=\"\",\"\",VLOOKUP(I98,'Suiv Contr '!$D$14:$E$25,2))","v":"avril"},4,5,"2010-04-30","Germain","Champagnole","Champagnole",null,null,{"$f":"IF(N98=\"\",\"\",VLOOKUP(N98,Ville!$A$3:$E$40,4,0))","v":"p"},0,{"$f":"IF(N98=\"\",0,VLOOKUP(N98,Ville!$A$3:$E$40,3,0))","v":"00:00:00"},null,1,2,null,null,null,null,null,null,3,3,{"$f":"IF(N98=\"\",\"\",VLOOKUP(N98,Ville!$A$3:$E$40,2,0))","v":0},null,null,null,null,null,null,null,null,null,null,null,null,null,null,0,null,null,null,null,null,""]
[null,null,null,null,null,null,2010,{"$f":"IF(K99=\"\",\"\",VLOOKUP(I99,'Suiv Contr '!$D$14:$E$25,2))","v":"mai"},5,1,"2010-05-03","Germain","Champagnole","Champagnole",null,null,"v",1,{"$f":"IF(N99=\"\",0,VLOOKUP(N99,Ville!$A$3:$E$40,3,0))","v":"00:00:00"},null,null,null,null,null,null,null,null,null,0,0,{"$f":"IF(N99=\"\",\"\",VLOOKUP(N99,Ville!$A$3:$E$40,2,0))","v":0},null,null,null,null,null,null,null,null,null,null,null,null,null,null,0,null,null,null,null,null,""]
[null,null,null,null,null,null,2010,{"$f":"IF(K100=\"\",\"\",VLOOKUP(I100,'Suiv Contr '!$D$14:$E$25,2))","v":"mai"},5,2,"2010-05-04","Germain","Champagnole","Champagnole",null,null,"v",1,{"$f":"IF(N100=\"\",0,VLOOKUP(N100,Ville!$A$3:$E$40,3,0))","v":"00:00:00"},null,null,null,null,null,null,null,null,null,0,0,{"$f":"IF(N100=\"\",\"\",VLOOKUP(N100,Ville!$A$3:$E$40,2,0))","v":0},null,null,null,null,null,null,null,null,null,null,null,null,null,null,0,null,null,null,null,null,""]
[null,null,null,null,null,null,2010,{"$f":"IF(K101=\"\",\"\",VLOOKUP(I101,'Suiv Contr '!$D$14:$E$25,2))","v":"mai"},5,2,"2010-05-04","Boyer","Champagnole","Champagnole",null,null,"ex",0,{"$f":"IF(N101=\"\",0,VLOOKUP(N101,Ville!$A$3:$E$40,3,0))","v":"00:00:00"},null,5,3,null,null,null,null,null,null,8,8,{"$f":"IF(N101=\"\",\"\",VLOOKUP(N101,Ville!$A$3:$E$40,2,0))","v":0},null,null,null,null,null,null,null,null,null,null,null,null,null,null,0,null,null,null,null,null,""]
[null,null,null,null,null,null,2010,{"$f":"IF(K102=\"\",\"\",VLOOKUP(I102,'Suiv Contr '!$D$14:$E$25,2))","v":"mai"},5,3,"2010-05-05","Germain","Champagnole","Champagnole",null,null,"v",1,{"$f":"IF(N102=\"\",0,VLOOKUP(N102,Ville!$A$3:$E$40,3,0))","v":"00:00:00"},null,null,null,null,null,null,null,null,null,0,0,{"$f":"IF(N102=\"\",\"\",VLOOKUP(N102,Ville!$A$3:$E$40,2,0))","v":0},null,null,null,null,null,null,null,null,null,null,null,null,null,null,0,null,null,null,null,null,""]
[null,null,null,null,null,null,2010,{"$f":"IF(K103=\"\",\"\",VLOOKUP(I103,'Suiv Contr '!$D$14:$E$25,2))","v":"mai"},5,4,"2010-05-06","Germain","Champagnole","Champagnole",null,null,"v",1,{"$f":"IF(N103=\"\",0,VLOOKUP(N103,Ville!$A$3:$E$40,3,0))","v":"00:00:00"},null,null,null,null,null,null,null,null,null,0,0,{"$f":"IF(N103=\"\",\"\",VLOOKUP(N103,Ville!$A$3:$E$40,2,0))","v":0},null,null,null,null,null,null,null,null,null,null,null,null,null,null,0,null,null,null,null,null,""]
[null,null,null,null,null,null,2010,{"$f":"IF(K104=\"\",\"\",VLOOKUP(I104,'Suiv Contr '!$D$14:$E$25,2))","v":"mai"},5,4,"2010-05-06","Boyer","Champagnole","Champagnole",null,null,"ex",0,{"$f":"IF(N104=\"\",0,VLOOKUP(N104,Ville!$A$3:$E$40,3,0))","v":"00:00:00"},null,5,null,null,null,1,null,1,null,5,6,{"$f":"IF(N104=\"\",\"\",VLOOKUP(N104,Ville!$A$3:$E$40,2,0))","v":0},null,null,null,null,null,null,null,null,null,null,null,null,null,null,0,null,null,null,null,null,""]
[null,null,null,null,null,null,2010,{"$f":"IF(K105=\"\",\"\",VLOOKUP(I105,'Suiv Contr '!$D$14:$E$25,2))","v":"mai"},5,5,"2010-05-07","Germain","Champagnole","Champagnole",null,null,"v",1,{"$f":"IF(N105=\"\",0,VLOOKUP(N105,Ville!$A$3:$E$40,3,0))","v":"00:00:00"},null,null,null,null,null,null,null,null,null,0,0,{"$f":"IF(N105=\"\",\"\",VLOOKUP(N105,Ville!$A$3:$E$40,2,0))","v":0},null,null,null,null,null,null,null,null,null,null,null,null,null,null,0,null,null,null,null,null,""]
[null,null,null,null,null,null,2010,{"$f":"IF(K106=\"\",\"\",VLOOKUP(I106,'Suiv Contr '!$D$14:$E$25,2))","v":"mai"},5,1,"2010-05-10","Germain","Meythet","Meythet",null,null,{"$f":"IF(N106=\"\",\"\",VLOOKUP(N106,Ville!$A$3:$E$40,4,0))","v":"ca"},0,{"$f":"IF(N106=\"\",0,VLOOKUP(N106,Ville!$A$3:$E$40,3,0))","v":"04:20:00"},null,2,1,null,null,null,null,1,null,3,3,{"$f":"IF(N106=\"\",\"\",VLOOKUP(N106,Ville!$A$3:$E$40,2,0))","v":298},null,null,null,null,null,null,null,null,null,null,null,null,null,null,0,null,null,null,null,null,1]
[null,null,null,null,null,null,2010,{"$f":"IF(K107=\"\",\"\",VLOOKUP(I107,'Suiv Contr '!$D$14:$E$25,2))","v":"mai"},5,2,"2010-05-11","Germain","Champagnole","Champagnole",null,null,{"$f":"IF(N107=\"\",\"\",VLOOKUP(N107,Ville!$A$3:$E$40,4,0))","v":"p"},0,{"$f":"IF(N107=\"\",0,VLOOKUP(N107,Ville!$A$3:$E$40,3,0))","v":"00:00:00"},null,5,3,null,null,null,1,null,null,8,8,{"$f":"IF(N107=\"\",\"\",VLOOKUP(N107,Ville!$A$3:$E$40,2,0))","v":0},null,null,null,null,null,null,null,null,null,null,null,null,null,null,0,null,null,null,null,null,""]
[null,null,null,null,null,null,2010,{"$f":"IF(K108=\"\",\"\",VLOOKUP(I108,'Suiv Contr '!$D$14:$E$25,2))","v":"mai"},5,3,"2010-05-12","Germain","Champagnole","Champagnole",null,null,{"$f":"IF(N108=\"\",\"\",VLOOKUP(N108,Ville!$A$3:$E$40,4,0))","v":"p"},0,{"$f":"IF(N108=\"\",0,VLOOKUP(N108,Ville!$A$3:$E$40,3,0))","v":"00:00:00"},null,5,2,null,null,null,null,null,null,7,7,{"$f":"IF(N108=\"\",\"\",VLOOKUP(N108,Ville!$A$3:$E$40,2,0))","v":0},null,null,null,null,null,null,null,null,null,null,null,null,null,null,0,null,null,null,null,null,""]
[null,null,null,null,null,null,2010,{"$f":"IF(K109=\"\",\"\",VLOOKUP(I109,'Suiv Contr '!$D$14:$E$25,2))","v":"mai"},5,4,"2010-05-13","FERIE","00:00:00",null,null,null,{"$f":"IF(N109=\"\",\"\",VLOOKUP(N109,Ville!$A$3:$E$40,4,0))","v":""},0,{"$f":"IF(N109=\"\",0,VLOOKUP(N109,Ville!$A$3:$E$40,3,0))","v":"00:00:00"},null,null,null,null,null,null,null,null,null,0,0,{"$f":"IF(N109=\"\",\"\",VLOOKUP(N109,Ville!$A$3:$E$40,2,0))","v":""},null,null,null,null,null,null,null,null,null,null,null,null,null,null,0,null,null,null,null,null,""]
[null,null,null,null,null,null,2010,{"$f":"IF(K110=\"\",\"\",VLOOKUP(I110,'Suiv Contr '!$D$14:$E$25,2))","v":"mai"},5,5,"2010-05-14","Germain","Besançon iax","Besançon iax",null,null,{"$f":"IF(N110=\"\",\"\",VLOOKUP(N110,Ville!$A$3:$E$40,4,0))","v":"ca"},0,{"$f":"IF(N110=\"\",0,VLOOKUP(N110,Ville!$A$3:$E$40,3,0))","v":"01:50:00"},null,7,1,null,null,null,1,1,null,8,8,{"$f":"IF(N110=\"\",\"\",VLOOKUP(N110,Ville!$A$3:$E$40,2,0))","v":132},null,null,null,null,null,null,null,null,null,null,null,null,null,null,0,null,null,null,null,null,1]
[null,null,null,null,null,null,2010,{"$f":"IF(K111=\"\",\"\",VLOOKUP(I111,'Suiv Contr '!$D$14:$E$25,2))","v":"mai"},5,1,"2010-05-17","Germain","Rambervillier","Rambervillier",null,null,{"$f":"IF(N111=\"\",\"\",VLOOKUP(N111,Ville!$A$3:$E$40,4,0))","v":"ca"},0,{"$f":"IF(N111=\"\",0,VLOOKUP(N111,Ville!$A$3:$E$40,3,0))","v":"05:00:00"},null,4,null,null,null,null,null,null,null,4,4,{"$f":"IF(N111=\"\",\"\",VLOOKUP(N111,Ville!$A$3:$E$40,2,0))","v":448},null,null,null,null,null,null,null,null,null,null,null,null,null,null,0,null,null,null,null,null,1]
[null,null,null,null,null,null,2010,{"$f":"IF(K112=\"\",\"\",VLOOKUP(I112,'Suiv Contr '!$D$14:$E$25,2))","v":"mai"},5,2,"2010-05-18","Germain","Champagnole","Champagnole",null,null,{"$f":"IF(N112=\"\",\"\",VLOOKUP(N112,Ville!$A$3:$E$40,4,0))","v":"p"},0,{"$f":"IF(N112=\"\",0,VLOOKUP(N112,Ville!$A$3:$E$40,3,0))","v":"00:00:00"},null,7,1,1,null,null,null,null,null,9,9,{"$f":"IF(N112=\"\",\"\",VLOOKUP(N112,Ville!$A$3:$E$40,2,0))","v":0},null,null,null,null,null,null,null,null,null,null,null,null,null,null,0,null,null,null,null,null,""]
[null,null,null,null,null,null,2010,{"$f":"IF(K113=\"\",\"\",VLOOKUP(I113,'Suiv Contr '!$D$14:$E$25,2))","v":"mai"},5,3,"2010-05-19","Germain","Thann","Thann",null,null,{"$f":"IF(N113=\"\",\"\",VLOOKUP(N113,Ville!$A$3:$E$40,4,0))","v":"ca"},0,{"$f":"IF(N113=\"\",0,VLOOKUP(N113,Ville!$A$3:$E$40,3,0))","v":"04:30:00"},null,1,null,2,null,null,null,null,null,3,3,{"$f":"IF(N113=\"\",\"\",VLOOKUP(N113,Ville!$A$3:$E$40,2,0))","v":402},null,null,null,null,null,null,null,null,null,null,null,null,null,null,0,null,null,null,null,null,1]
[null,null,null,null,null,null,2010,{"$f":"IF(K114=\"\",\"\",VLOOKUP(I114,'Suiv Contr '!$D$14:$E$25,2))","v":"mai"},5,4,"2010-05-20","Germain","Champagnole","Champagnole",null,null,{"$f":"IF(N114=\"\",\"\",VLOOKUP(N114,Ville!$A$3:$E$40,4,0))","v":"p"},0,{"$f":"IF(N114=\"\",0,VLOOKUP(N114,Ville!$A$3:$E$40,3,0))","v":"00:00:00"},null,8,null,null,null,null,1,null,null,8,8,{"$f":"IF(N114=\"\",\"\",VLOOKUP(N114,Ville!$A$3:$E$40,2,0))","v":0},null,null,null,null,null,null,null,null,null,null,null,null,null,null,0,null,null,null,null,null,""]
[null,null,null,null,null,null,2010,{"$f":"IF(K115=\"\",\"\",VLOOKUP(I115,'Suiv Contr '!$D$14:$E$25,2))","v":"mai"},5,5,"2010-05-21","Germain","Champagnole","Champagnole",null,null,{"$f":"IF(N115=\"\",\"\",VLOOKUP(N115,Ville!$A$3:$E$40,4,0))","v":"p"},0,{"$f":"IF(N115=\"\",0,VLOOKUP(N115,Ville!$A$3:$E$40,3,0))","v":"00:00:00"},null,7,null,null,null,null,null,null,null,7,7,{"$f":"IF(N115=\"\",\"\",VLOOKUP(N115,Ville!$A$3:$E$40,2,0))","v":0},null,null,null,null,null,null,null,null,null,null,null,null,null,null,0,null,null,null,null,null,""]
[null,null,null,null,null,null,2010,{"$f":"IF(K116=\"\",\"\",VLOOKUP(I116,'Suiv Contr '!$D$14:$E$25,2))","v":"mai"},5,1,"2010-05-24","Germain","Champagnole","Champagnole",null,null,"rec",0,{"$f":"IF(N116=\"\",0,VLOOKUP(N116,Ville!$A$3:$E$40,3,0))","v":"00:00:00"},"07:00:00",null,null,null,null,null,null,null,null,0,0,{"$f":"IF(N116=\"\",\"\",VLOOKUP(N116,Ville!$A$3:$E$40,2,0))","v":0},null,null,null,null,null,null,null,null,null,null,null,null,null,null,0,null,null,null,null,null,""]
[null,null,null,null,null,null,2010,{"$f":"IF(K117=\"\",\"\",VLOOKUP(I117,'Suiv Contr '!$D$14:$E$25,2))","v":"mai"},5,2,"2010-05-25","Germain","Champagnole","Champagnole",null,null,{"$f":"IF(N117=\"\",\"\",VLOOKUP(N117,Ville!$A$3:$E$40,4,0))","v":"p"},0,{"$f":"IF(N117=\"\",0,VLOOKUP(N117,Ville!$A$3:$E$40,3,0))","v":"00:00:00"},null,6,1,null,null,null,null,null,null,7,7,{"$f":"IF(N117=\"\",\"\",VLOOKUP(N117,Ville!$A$3:$E$40,2,0))","v":0},null,null,null,null,null,null,null,null,null,null,null,null,null,null,0,null,null,null,null,null,""]
[null,null,null,null,null,null,2010,{"$f":"IF(K118=\"\",\"\",VLOOKUP(I118,'Suiv Contr '!$D$14:$E$25,2))","v":"mai"},5,3,"2010-05-26","Germain","Verdun","Verdun",null,null,{"$f":"IF(N118=\"\",\"\",VLOOKUP(N118,Ville!$A$3:$E$40,4,0))","v":"ca"},0,{"$f":"IF(N118=\"\",0,VLOOKUP(N118,Ville!$A$3:$E$40,3,0))","v":"07:00:00"},null,6,1,null,null,null,null,null,null,7,7,{"$f":"IF(N118=\"\",\"\",VLOOKUP(N118,Ville!$A$3:$E$40,2,0))","v":746},null,null,null,null,null,null,null,null,null,null,null,null,null,null,0,null,null,null,null,null,1]
[null,null,null,null,null,null,2010,{"$f":"IF(K119=\"\",\"\",VLOOKUP(I119,'Suiv Contr '!$D$14:$E$25,2))","v":"mai"},5,4,"2010-05-27","Germain","00:00:00",null,null,null,{"$f":"IF(N119=\"\",\"\",VLOOKUP(N119,Ville!$A$3:$E$40,4,0))","v":""},0,{"$f":"IF(N119=\"\",0,VLOOKUP(N119,Ville!$A$3:$E$40,3,0))","v":"00:00:00"},null,null,null,null,null,null,null,null,null,0,0,{"$f":"IF(N119=\"\",\"\",VLOOKUP(N119,Ville!$A$3:$E$40,2,0))","v":""},null,null,null,null,null,null,null,null,null,null,null,null,null,null,0,null,null,null,null,null,""]
[null,null,null,null,null,null,2010,{"$f":"IF(K120=\"\",\"\",VLOOKUP(I120,'Suiv Contr '!$D$14:$E$25,2))","v":"mai"},5,5,"2010-05-28","Germain","Champagnole","Champagnole",null,null,{"$f":"IF(N120=\"\",\"\",VLOOKUP(N120,Ville!$A$3:$E$40,4,0))","v":"p"},0,{"$f":"IF(N120=\"\",0,VLOOKUP(N120,Ville!$A$3:$E$40,3,0))","v":"00:00:00"},null,10,null,null,null,null,3,null,null,10,10,{"$f":"IF(N120=\"\",\"\",VLOOKUP(N120,Ville!$A$3:$E$40,2,0))","v":0},null,null,null,null,null,null,null,null,null,null,null,null,null,null,0,null,null,null,null,null,""]
[null,null,null,null,null,null,2010,{"$f":"IF(K121=\"\",\"\",VLOOKUP(I121,'Suiv Contr '!$D$14:$E$25,2))","v":"mai"},5,1,"2010-05-31","Germain","Champagnole","Champagnole",null,null,{"$f":"IF(N121=\"\",\"\",VLOOKUP(N121,Ville!$A$3:$E$40,4,0))","v":"p"},0,{"$f":"IF(N121=\"\",0,VLOOKUP(N121,Ville!$A$3:$E$40,3,0))","v":"00:00:00"},null,7,null,null,null,null,null,null,null,7,7,{"$f":"IF(N121=\"\",\"\",VLOOKUP(N121,Ville!$A$3:$E$40,2,0))","v":0},null,null,null,null,null,null,null,null,null,null,null,null,null,null,0,null,null,null,null,null,""]
[null,null,null,null,null,null,2010,{"$f":"IF(K122=\"\",\"\",VLOOKUP(I122,'Suiv Contr '!$D$14:$E$25,2))","v":"juin"},6,2,"2010-06-01","Germain","Champagnole","Champagnole",null,null,{"$f":"IF(N122=\"\",\"\",VLOOKUP(N122,Ville!$A$3:$E$40,4,0))","v":"p"},0,{"$f":"IF(N122=\"\",0,VLOOKUP(N122,Ville!$A$3:$E$40,3,0))","v":"00:00:00"},null,5,null,null,null,null,null,null,null,5,5,{"$f":"IF(N122=\"\",\"\",VLOOKUP(N122,Ville!$A$3:$E$40,2,0))","v":0},null,null,null,null,null,null,null,null,null,null,null,null,null,null,0,null,null,null,null,null,""]
[null,null,null,null,null,null,2010,{"$f":"IF(K123=\"\",\"\",VLOOKUP(I123,'Suiv Contr '!$D$14:$E$25,2))","v":"juin"},6,3,"2010-06-02","Germain","Fains les Montbard","Fains les Montbard",null,null,{"$f":"IF(N123=\"\",\"\",VLOOKUP(N123,Ville!$A$3:$E$40,4,0))","v":"sp"},0,{"$f":"IF(N123=\"\",0,VLOOKUP(N123,Ville!$A$3:$E$40,3,0))","v":"03:30:00"},null,10,2,null,null,null,null,null,null,12,12,{"$f":"IF(N123=\"\",\"\",VLOOKUP(N123,Ville!$A$3:$E$40,2,0))","v":366},null,null,null,null,null,null,null,null,null,null,null,null,null,null,0,null,null,null,null,null,1]
[null,null,null,null,null,null,2010,{"$f":"IF(K124=\"\",\"\",VLOOKUP(I124,'Suiv Contr '!$D$14:$E$25,2))","v":"juin"},6,4,"2010-06-03","Germain","Champagnole","Champagnole",null,null,{"$f":"IF(N124=\"\",\"\",VLOOKUP(N124,Ville!$A$3:$E$40,4,0))","v":"p"},0,{"$f":"IF(N124=\"\",0,VLOOKUP(N124,Ville!$A$3:$E$40,3,0))","v":"00:00:00"},null,7,1,null,null,1,null,null,null,8,9,{"$f":"IF(N124=\"\",\"\",VLOOKUP(N124,Ville!$A$3:$E$40,2,0))","v":0},null,null,null,null,null,null,null,null,null,null,null,null,null,null,0,null,null,null,null,null,""]
[null,null,null,null,null,null,2010,{"$f":"IF(K125=\"\",\"\",VLOOKUP(I125,'Suiv Contr '!$D$14:$E$25,2))","v":"juin"},6,5,"2010-06-04","Germain","Champagnole","Champagnole",null,null,{"$f":"IF(N125=\"\",\"\",VLOOKUP(N125,Ville!$A$3:$E$40,4,0))","v":"p"},0,{"$f":"IF(N125=\"\",0,VLOOKUP(N125,Ville!$A$3:$E$40,3,0))","v":"00:00:00"},null,7,3,3,null,1,null,null,null,13,14,{"$f":"IF(N125=\"\",\"\",VLOOKUP(N125,Ville!$A$3:$E$40,2,0))","v":0},null,null,null,null,null,null,null,null,null,null,null,null,null,null,0,null,null,null,null,null,""]
[null,null,null,null,null,null,2010,{"$f":"IF(K126=\"\",\"\",VLOOKUP(I126,'Suiv Contr '!$D$14:$E$25,2))","v":"juin"},6,1,"2010-06-07","Germain","Ludres","Ludres",null,null,{"$f":"IF(N126=\"\",\"\",VLOOKUP(N126,Ville!$A$3:$E$40,4,0))","v":"sp"},0,{"$f":"IF(N126=\"\",0,VLOOKUP(N126,Ville!$A$3:$E$40,3,0))","v":"03:30:00"},null,null,null,null,null,null,null,null,null,0,0,{"$f":"IF(N126=\"\",\"\",VLOOKUP(N126,Ville!$A$3:$E$40,2,0))","v":270},null,null,null,null,null,null,null,null,null,null,null,null,null,null,0,null,null,null,null,null,1]
[null,null,null,null,null,null,2010,{"$f":"IF(K127=\"\",\"\",VLOOKUP(I127,'Suiv Contr '!$D$14:$E$25,2))","v":"juin"},6,2,"2010-06-08","Germain","Strasbourg","Strasbourg",null,null,{"$f":"IF(N127=\"\",\"\",VLOOKUP(N127,Ville!$A$3:$E$40,4,0))","v":"ca"},0,{"$f":"IF(N127=\"\",0,VLOOKUP(N127,Ville!$A$3:$E$40,3,0))","v":"05:40:00"},null,null,11,null,null,null,null,null,null,11,11,{"$f":"IF(N127=\"\",\"\",VLOOKUP(N127,Ville!$A$3:$E$40,2,0))","v":628},null,null,null,null,null,null,null,null,null,null,null,null,null,null,0,null,null,null,null,null,1]
[null,null,null,null,null,null,2010,{"$f":"IF(K128=\"\",\"\",VLOOKUP(I128,'Suiv Contr '!$D$14:$E$25,2))","v":"juin"},6,3,"2010-06-09","Germain","Thann","Thann",null,null,{"$f":"IF(N128=\"\",\"\",VLOOKUP(N128,Ville!$A$3:$E$40,4,0))","v":"ca"},0,{"$f":"IF(N128=\"\",0,VLOOKUP(N128,Ville!$A$3:$E$40,3,0))","v":"04:30:00"},null,6,1,1,null,null,1,null,null,8,8,{"$f":"IF(N128=\"\",\"\",VLOOKUP(N128,Ville!$A$3:$E$40,2,0))","v":402},null,null,null,null,null,null,null,null,null,null,null,null,null,null,0,null,null,null,null,null,1]
[null,null,null,null,null,null,2010,{"$f":"IF(K129=\"\",\"\",VLOOKUP(I129,'Suiv Contr '!$D$14:$E$25,2))","v":"juin"},6,4,"2010-06-10","Germain","Champagnole","Champagnole",null,null,{"$f":"IF(N129=\"\",\"\",VLOOKUP(N129,Ville!$A$3:$E$40,4,0))","v":"p"},0,{"$f":"IF(N129=\"\",0,VLOOKUP(N129,Ville!$A$3:$E$40,3,0))","v":"00:00:00"},null,5,4,null,null,null,2,null,null,9,9,{"$f":"IF(N129=\"\",\"\",VLOOKUP(N129,Ville!$A$3:$E$40,2,0))","v":0},null,null,null,null,null,null,null,null,null,null,null,null,null,null,0,null,null,null,null,null,""]
[null,null,null,null,null,null,2010,{"$f":"IF(K130=\"\",\"\",VLOOKUP(I130,'Suiv Contr '!$D$14:$E$25,2))","v":"juin"},6,5,"2010-06-11","Germain","Champagnole","Champagnole",null,null,{"$f":"IF(N130=\"\",\"\",VLOOKUP(N130,Ville!$A$3:$E$40,4,0))","v":"p"},0,{"$f":"IF(N130=\"\",0,VLOOKUP(N130,Ville!$A$3:$E$40,3,0))","v":"00:00:00"},null,12,null,null,null,1,null,1,null,12,13,{"$f":"IF(N130=\"\",\"\",VLOOKUP(N130,Ville!$A$3:$E$40,2,0))","v":0},null,null,null,null,null,null,null,null,null,null,null,null,null,null,0,null,null,null,null,null,""]
[null,null,null,null,null,null,2010,{"$f":"IF(K131=\"\",\"\",VLOOKUP(I131,'Suiv Contr '!$D$14:$E$25,2))","v":"juin"},6,1,"2010-06-14","Germain","Besançon iax","Besançon iax",null,null,{"$f":"IF(N131=\"\",\"\",VLOOKUP(N131,Ville!$A$3:$E$40,4,0))","v":"ca"},0,{"$f":"IF(N131=\"\",0,VLOOKUP(N131,Ville!$A$3:$E$40,3,0))","v":"01:50:00"},null,4,null,null,null,null,null,null,null,4,4,{"$f":"IF(N131=\"\",\"\",VLOOKUP(N131,Ville!$A$3:$E$40,2,0))","v":132},null,null,null,null,null,null,null,null,null,null,null,null,null,null,0,null,null,null,null,null,1]
[null,null,null,null,null,null,2010,{"$f":"IF(K132=\"\",\"\",VLOOKUP(I132,'Suiv Contr '!$D$14:$E$25,2))","v":"juin"},6,2,"2010-06-15","Germain","Champagnole","Champagnole",null,null,{"$f":"IF(N132=\"\",\"\",VLOOKUP(N132,Ville!$A$3:$E$40,4,0))","v":"p"},0,{"$f":"IF(N132=\"\",0,VLOOKUP(N132,Ville!$A$3:$E$40,3,0))","v":"00:00:00"},null,7,2,null,null,null,2,null,null,9,9,{"$f":"IF(N132=\"\",\"\",VLOOKUP(N132,Ville!$A$3:$E$40,2,0))","v":0},null,null,null,null,null,null,null,null,null,null,null,null,null,null,0,null,null,null,null,null,""]
[null,null,null,null,null,null,2010,{"$f":"IF(K133=\"\",\"\",VLOOKUP(I133,'Suiv Contr '!$D$14:$E$25,2))","v":"juin"},6,3,"2010-06-16","Germain","Fains les Montbard","Fains les Montbard",null,null,{"$f":"IF(N133=\"\",\"\",VLOOKUP(N133,Ville!$A$3:$E$40,4,0))","v":"sp"},0,{"$f":"IF(N133=\"\",0,VLOOKUP(N133,Ville!$A$3:$E$40,3,0))","v":"03:30:00"},null,7,null,null,null,1,null,null,null,7,8,{"$f":"IF(N133=\"\",\"\",VLOOKUP(N133,Ville!$A$3:$E$40,2,0))","v":366},null,null,null,null,null,null,null,null,null,null,null,null,null,null,0,null,null,null,null,null,1]
[null,null,null,null,null,null,2010,{"$f":"IF(K134=\"\",\"\",VLOOKUP(I134,'Suiv Contr '!$D$14:$E$25,2))","v":"juin"},6,4,"2010-06-17","Germain","Champagnole","Champagnole",null,null,{"$f":"IF(N134=\"\",\"\",VLOOKUP(N134,Ville!$A$3:$E$40,4,0))","v":"p"},0,{"$f":"IF(N134=\"\",0,VLOOKUP(N134,Ville!$A$3:$E$40,3,0))","v":"00:00:00"},null,10,3,null,null,1,1,null,null,13,14,{"$f":"IF(N134=\"\",\"\",VLOOKUP(N134,Ville!$A$3:$E$40,2,0))","v":0},null,null,null,null,null,null,null,null,null,null,null,null,null,null,0,null,null,null,null,null,""]
[null,null,null,null,null,null,2010,{"$f":"IF(K135=\"\",\"\",VLOOKUP(I135,'Suiv Contr '!$D$14:$E$25,2))","v":"juin"},6,5,"2010-06-18","Germain","Champagnole","Champagnole",null,null,{"$f":"IF(N135=\"\",\"\",VLOOKUP(N135,Ville!$A$3:$E$40,4,0))","v":"p"},0,{"$f":"IF(N135=\"\",0,VLOOKUP(N135,Ville!$A$3:$E$40,3,0))","v":"00:00:00"},null,6,2,null,null,null,null,null,null,8,8,{"$f":"IF(N135=\"\",\"\",VLOOKUP(N135,Ville!$A$3:$E$40,2,0))","v":0},null,null,null,null,null,null,null,null,null,null,null,null,null,null,0,null,null,null,null,null,""]
[null,null,null,null,null,null,2010,{"$f":"IF(K136=\"\",\"\",VLOOKUP(I136,'Suiv Contr '!$D$14:$E$25,2))","v":"juin"},6,1,"2010-06-21","Germain","Meythet","Meythet",null,null,{"$f":"IF(N136=\"\",\"\",VLOOKUP(N136,Ville!$A$3:$E$40,4,0))","v":"ca"},0,{"$f":"IF(N136=\"\",0,VLOOKUP(N136,Ville!$A$3:$E$40,3,0))","v":"04:20:00"},null,6,null,1,null,null,null,null,null,7,7,{"$f":"IF(N136=\"\",\"\",VLOOKUP(N136,Ville!$A$3:$E$40,2,0))","v":298},null,null,null,null,null,null,null,null,null,null,null,null,null,null,0,null,null,null,null,null,1]
[null,null,null,null,null,null,2010,{"$f":"IF(K137=\"\",\"\",VLOOKUP(I137,'Suiv Contr '!$D$14:$E$25,2))","v":"juin"},6,2,"2010-06-22","Germain","Champagnole","Champagnole",null,null,{"$f":"IF(N137=\"\",\"\",VLOOKUP(N137,Ville!$A$3:$E$40,4,0))","v":"p"},0,{"$f":"IF(N137=\"\",0,VLOOKUP(N137,Ville!$A$3:$E$40,3,0))","v":"00:00:00"},null,17,1,null,null,null,1,1,null,18,18,{"$f":"IF(N137=\"\",\"\",VLOOKUP(N137,Ville!$A$3:$E$40,2,0))","v":0},null,null,null,null,null,null,null,null,null,null,null,null,null,null,0,null,null,null,null,null,""]
[null,null,null,null,null,null,2010,{"$f":"IF(K138=\"\",\"\",VLOOKUP(I138,'Suiv Contr '!$D$14:$E$25,2))","v":"juin"},6,3,"2010-06-23","Germain","Fains les Montbard","Fains les Montbard",null,null,{"$f":"IF(N138=\"\",\"\",VLOOKUP(N138,Ville!$A$3:$E$40,4,0))","v":"sp"},0,{"$f":"IF(N138=\"\",0,VLOOKUP(N138,Ville!$A$3:$E$40,3,0))","v":"03:30:00"},null,10,1,null,null,null,1,null,null,11,11,{"$f":"IF(N138=\"\",\"\",VLOOKUP(N138,Ville!$A$3:$E$40,2,0))","v":366},null,null,null,null,null,null,null,null,null,null,null,null,null,null,0,null,null,null,null,null,1]
[null,null,null,null,null,null,2010,{"$f":"IF(K139=\"\",\"\",VLOOKUP(I139,'Suiv Contr '!$D$14:$E$25,2))","v":"juin"},6,4,"2010-06-24","Germain","Champagnole","Champagnole",null,null,{"$f":"IF(N139=\"\",\"\",VLOOKUP(N139,Ville!$A$3:$E$40,4,0))","v":"p"},0,{"$f":"IF(N139=\"\",0,VLOOKUP(N139,Ville!$A$3:$E$40,3,0))","v":"00:00:00"},null,6,1,null,null,1,null,null,null,7,8,{"$f":"IF(N139=\"\",\"\",VLOOKUP(N139,Ville!$A$3:$E$40,2,0))","v":0},null,null,null,null,null,null,null,null,null,null,null,null,null,null,0,null,null,null,null,null,""]
[null,null,null,null,null,null,2010,{"$f":"IF(K140=\"\",\"\",VLOOKUP(I140,'Suiv Contr '!$D$14:$E$25,2))","v":"juin"},6,5,"2010-06-25","Germain","Champagnole","Champagnole",null,null,{"$f":"IF(N140=\"\",\"\",VLOOKUP(N140,Ville!$A$3:$E$40,4,0))","v":"p"},0,{"$f":"IF(N140=\"\",0,VLOOKUP(N140,Ville!$A$3:$E$40,3,0))","v":"00:00:00"},null,7,null,null,null,2,1,1,null,7,9,{"$f":"IF(N140=\"\",\"\",VLOOKUP(N140,Ville!$A$3:$E$40,2,0))","v":0},null,null,null,null,null,null,null,null,null,null,null,null,null,null,0,null,null,null,null,null,""]
[null,null,null,null,null,null,2010,{"$f":"IF(K141=\"\",\"\",VLOOKUP(I141,'Suiv Contr '!$D$14:$E$25,2))","v":"juin"},6,1,"2010-06-28","Germain","Besançon sp","Besançon sp",null,null,{"$f":"IF(N141=\"\",\"\",VLOOKUP(N141,Ville!$A$3:$E$40,4,0))","v":"sp"},0,{"$f":"IF(N141=\"\",0,VLOOKUP(N141,Ville!$A$3:$E$40,3,0))","v":"01:50:00"},null,5,1,null,null,1,null,null,null,6,7,{"$f":"IF(N141=\"\",\"\",VLOOKUP(N141,Ville!$A$3:$E$40,2,0))","v":152},null,null,null,null,null,null,null,null,null,null,null,null,null,null,0,null,null,null,null,null,{"$f":"IF(OR(N141=\"champagnole\",N141=\"\"),\"\",1)","v":1}]
[null,null,null,null,null,null,{"$f":"IF(K142=\"\",\"\",YEAR(K142))","v":2010},{"$f":"IF(K142=\"\",\"\",VLOOKUP(I142,'Suiv Contr '!$D$14:$E$25,2))","v":"juin"},{"$f":"IF(K142=\"\",\"\",MONTH(K142))","v":6},{"$f":"IF(K142=\"\",\"\",WEEKDAY(K142,2))","v":2},"2010-06-29","Germain",{"$f":"N142","v":"Champagnole"},"Champagnole",null,null,{"$f":"IF(N142=\"\",\"\",VLOOKUP(N142,Ville!$A$3:$E$40,4,0))","v":"p"},{"$f":"IF(Q142=\"v\",1,0)","v":0},{"$f":"IF(N142=\"\",0,VLOOKUP(N142,Ville!$A$3:$E$40,3,0))","v":"00:00:00"},null,9,1,1,1,1,null,1,null,12,13,{"$f":"IF(N142=\"\",\"\",VLOOKUP(N142,Ville!$A$3:$E$40,2,0))","v":0},null,null,null,null,null,null,null,null,null,null,null,null,null,null,{"$f":"SUM(AH142:AS142)","v":0},null,null,null,null,null,""]
[null,null,null,null,null,null,2010,{"$f":"IF(K143=\"\",\"\",VLOOKUP(I143,'Suiv Contr '!$D$14:$E$25,2))","v":"juin"},6,3,"2010-06-30","Germain","Thann","Thann",null,null,{"$f":"IF(N143=\"\",\"\",VLOOKUP(N143,Ville!$A$3:$E$40,4,0))","v":"ca"},0,{"$f":"IF(N143=\"\",0,VLOOKUP(N143,Ville!$A$3:$E$40,3,0))","v":"04:30:00"},null,4,null,4,null,null,null,2,null,8,8,{"$f":"IF(N143=\"\",\"\",VLOOKUP(N143,Ville!$A$3:$E$40,2,0))","v":402},null,null,null,null,null,null,null,null,null,null,null,null,null,null,0,null,null,null,null,null,1]
[null,null,null,null,null,null,2010,{"$f":"IF(K144=\"\",\"\",VLOOKUP(I144,'Suiv Contr '!$D$14:$E$25,2))","v":"juillet"},7,4,"2010-07-01","Germain","Champagnole","Champagnole",null,null,{"$f":"IF(N144=\"\",\"\",VLOOKUP(N144,Ville!$A$3:$E$40,4,0))","v":"p"},0,{"$f":"IF(N144=\"\",0,VLOOKUP(N144,Ville!$A$3:$E$40,3,0))","v":"00:00:00"},null,8,null,null,null,null,null,1,null,8,8,{"$f":"IF(N144=\"\",\"\",VLOOKUP(N144,Ville!$A$3:$E$40,2,0))","v":0},null,null,null,null,null,null,null,null,null,null,null,null,null,null,0,null,null,null,null,null,""]
[null,null,null,null,null,null,2010,{"$f":"IF(K145=\"\",\"\",VLOOKUP(I145,'Suiv Contr '!$D$14:$E$25,2))","v":"juillet"},7,5,"2010-07-02","Germain","Champagnole","Champagnole",null,null,{"$f":"IF(N145=\"\",\"\",VLOOKUP(N145,Ville!$A$3:$E$40,4,0))","v":"p"},0,{"$f":"IF(N145=\"\",0,VLOOKUP(N145,Ville!$A$3:$E$40,3,0))","v":"00:00:00"},null,6,null,null,null,1,null,null,null,6,7,{"$f":"IF(N145=\"\",\"\",VLOOKUP(N145,Ville!$A$3:$E$40,2,0))","v":0},null,null,null,null,null,null,null,null,null,null,null,null,null,null,0,null,null,null,null,null,""]
[null,null,null,null,null,null,2010,{"$f":"IF(K146=\"\",\"\",VLOOKUP(I146,'Suiv Contr '!$D$14:$E$25,2))","v":"juillet"},7,1,"2010-07-05","Germain","Meythet","Meythet",null,null,{"$f":"IF(N146=\"\",\"\",VLOOKUP(N146,Ville!$A$3:$E$40,4,0))","v":"ca"},0,{"$f":"IF(N146=\"\",0,VLOOKUP(N146,Ville!$A$3:$E$40,3,0))","v":"04:20:00"},null,6,null,null,null,null,null,null,null,6,6,{"$f":"IF(N146=\"\",\"\",VLOOKUP(N146,Ville!$A$3:$E$40,2,0))","v":298},null,null,null,null,null,null,null,null,null,null,null,null,null,null,0,null,null,null,null,null,1]
[null,null,null,null,null,null,2010,{"$f":"IF(K147=\"\",\"\",VLOOKUP(I147,'Suiv Contr '!$D$14:$E$25,2))","v":"juillet"},7,2,"2010-07-06","Germain","Champagnole","Champagnole",null,null,{"$f":"IF(N147=\"\",\"\",VLOOKUP(N147,Ville!$A$3:$E$40,4,0))","v":"p"},0,{"$f":"IF(N147=\"\",0,VLOOKUP(N147,Ville!$A$3:$E$40,3,0))","v":"00:00:00"},null,6,1,1,null,null,1,null,null,8,8,{"$f":"IF(N147=\"\",\"\",VLOOKUP(N147,Ville!$A$3:$E$40,2,0))","v":0},null,null,null,null,null,null,null,null,null,null,null,null,null,null,0,null,null,null,null,null,""]
[null,null,null,null,null,null,2010,{"$f":"IF(K148=\"\",\"\",VLOOKUP(I148,'Suiv Contr '!$D$14:$E$25,2))","v":"juillet"},7,3,"2010-07-07","Germain","Champagnole","Champagnole",null,null,{"$f":"IF(N148=\"\",\"\",VLOOKUP(N148,Ville!$A$3:$E$40,4,0))","v":"p"},0,{"$f":"IF(N148=\"\",0,VLOOKUP(N148,Ville!$A$3:$E$40,3,0))","v":"00:00:00"},null,4,null,null,null,3,null,null,null,{"$f":"U148+V148+W148+X148","v":4},{"$f":"AC148+Y148","v":7},{"$f":"IF(N148=\"\",\"\",VLOOKUP(N148,Ville!$A$3:$E$40,2,0))","v":0},null,null,null,null,null,null,null,null,null,null,null,null,null,null,0,null,null,null,null,null,""]
[null,null,null,null,null,null,2010,{"$f":"IF(K149=\"\",\"\",VLOOKUP(I149,'Suiv Contr '!$D$14:$E$25,2))","v":"juillet"},7,4,"2010-07-08","Germain","Champagnole","Champagnole",null,null,{"$f":"IF(N149=\"\",\"\",VLOOKUP(N149,Ville!$A$3:$E$40,4,0))","v":"p"},0,{"$f":"IF(N149=\"\",0,VLOOKUP(N149,Ville!$A$3:$E$40,3,0))","v":"00:00:00"},null,10,1,null,null,null,1,null,null,11,11,{"$f":"IF(N149=\"\",\"\",VLOOKUP(N149,Ville!$A$3:$E$40,2,0))","v":0},null,null,null,null,null,null,null,null,null,null,null,null,null,null,0,null,null,null,null,null,""]
[null,null,null,null,null,null,2010,{"$f":"IF(K150=\"\",\"\",VLOOKUP(I150,'Suiv Contr '!$D$14:$E$25,2))","v":"juillet"},7,5,"2010-07-09","Germain","Champagnole","Champagnole",null,null,{"$f":"IF(N150=\"\",\"\",VLOOKUP(N150,Ville!$A$3:$E$40,4,0))","v":"p"},0,{"$f":"IF(N150=\"\",0,VLOOKUP(N150,Ville!$A$3:$E$40,3,0))","v":"00:00:00"},null,11,2,null,null,1,2,null,null,13,14,{"$f":"IF(N150=\"\",\"\",VLOOKUP(N150,Ville!$A$3:$E$40,2,0))","v":0},null,null,null,null,null,null,null,null,null,null,null,null,null,null,0,null,null,null,null,null,""]
[null,null,null,null,null,null,2010,{"$f":"IF(K151=\"\",\"\",VLOOKUP(I151,'Suiv Contr '!$D$14:$E$25,2))","v":"juillet"},7,1,"2010-07-12","Germain","Besançon iax","Besançon iax",null,null,{"$f":"IF(N151=\"\",\"\",VLOOKUP(N151,Ville!$A$3:$E$40,4,0))","v":"ca"},0,{"$f":"IF(N151=\"\",0,VLOOKUP(N151,Ville!$A$3:$E$40,3,0))","v":"01:50:00"},null,8,2,null,null,null,2,null,null,10,10,{"$f":"IF(N151=\"\",\"\",VLOOKUP(N151,Ville!$A$3:$E$40,2,0))","v":132},null,null,null,null,null,null,null,null,null,null,null,null,null,null,0,null,null,null,null,null,1]
[null,null,null,null,null,null,2010,{"$f":"IF(K152=\"\",\"\",VLOOKUP(I152,'Suiv Contr '!$D$14:$E$25,2))","v":"juillet"},7,2,"2010-07-13","Germain","Champagnole","Champagnole",null,null,{"$f":"IF(N152=\"\",\"\",VLOOKUP(N152,Ville!$A$3:$E$40,4,0))","v":"p"},0,{"$f":"IF(N152=\"\",0,VLOOKUP(N152,Ville!$A$3:$E$40,3,0))","v":"00:00:00"},null,9,2,1,null,null,".",null,null,12,12,{"$f":"IF(N152=\"\",\"\",VLOOKUP(N152,Ville!$A$3:$E$40,2,0))","v":0},null,null,null,null,null,null,null,null,null,null,null,null,null,null,0,null,null,null,null,null,""]
[null,null,null,null,null,null,2010,{"$f":"IF(K153=\"\",\"\",VLOOKUP(I153,'Suiv Contr '!$D$14:$E$25,2))","v":"juillet"},7,3,"2010-07-14","FERIE","00:00:00",null,null,null,{"$f":"IF(N153=\"\",\"\",VLOOKUP(N153,Ville!$A$3:$E$40,4,0))","v":""},0,{"$f":"IF(N153=\"\",0,VLOOKUP(N153,Ville!$A$3:$E$40,3,0))","v":"00:00:00"},null,null,null,null,null,null,null,null,null,0,0,{"$f":"IF(N153=\"\",\"\",VLOOKUP(N153,Ville!$A$3:$E$40,2,0))","v":""},null,null,null,null,null,null,null,null,null,null,null,null,null,null,0,null,null,null,null,null,""]
[null,null,null,null,null,null,2010,{"$f":"IF(K154=\"\",\"\",VLOOKUP(I154,'Suiv Contr '!$D$14:$E$25,2))","v":"juillet"},7,4,"2010-07-15","Germain","Champagnole","Champagnole",null,null,{"$f":"IF(N154=\"\",\"\",VLOOKUP(N154,Ville!$A$3:$E$40,4,0))","v":"p"},0,{"$f":"IF(N154=\"\",0,VLOOKUP(N154,Ville!$A$3:$E$40,3,0))","v":"00:00:00"},null,1,3,null,null,null,null,null,null,4,4,{"$f":"IF(N154=\"\",\"\",VLOOKUP(N154,Ville!$A$3:$E$40,2,0))","v":0},null,null,null,null,null,null,null,null,null,null,null,null,null,null,0,null,null,null,null,null,""]
[null,null,null,null,null,null,2010,{"$f":"IF(K155=\"\",\"\",VLOOKUP(I155,'Suiv Contr '!$D$14:$E$25,2))","v":"juillet"},7,5,"2010-07-16","Germain","Champagnole","Champagnole",null,null,{"$f":"IF(N155=\"\",\"\",VLOOKUP(N155,Ville!$A$3:$E$40,4,0))","v":"p"},0,{"$f":"IF(N155=\"\",0,VLOOKUP(N155,Ville!$A$3:$E$40,3,0))","v":"00:00:00"},null,7,4,null,null,1,2,null,null,11,12,{"$f":"IF(N155=\"\",\"\",VLOOKUP(N155,Ville!$A$3:$E$40,2,0))","v":0},null,null,null,null,null,null,null,null,null,null,null,null,null,null,0,null,null,null,null,null,""]
[null,null,null,null,null,null,2010,{"$f":"IF(K156=\"\",\"\",VLOOKUP(I156,'Suiv Contr '!$D$14:$E$25,2))","v":"juillet"},7,1,"2010-07-19","Germain","Champagnole","Champagnole",null,null,{"$f":"IF(N156=\"\",\"\",VLOOKUP(N156,Ville!$A$3:$E$40,4,0))","v":"p"},0,{"$f":"IF(N156=\"\",0,VLOOKUP(N156,Ville!$A$3:$E$40,3,0))","v":"00:00:00"},null,6,null,null,null,1,null,1,null,6,7,{"$f":"IF(N156=\"\",\"\",VLOOKUP(N156,Ville!$A$3:$E$40,2,0))","v":0},null,null,null,null,null,null,null,null,null,null,null,null,null,null,0,null,null,null,null,null,""]
[null,null,null,null,null,null,2010,{"$f":"IF(K157=\"\",\"\",VLOOKUP(I157,'Suiv Contr '!$D$14:$E$25,2))","v":"juillet"},7,2,"2010-07-20","Germain","Champagnole","Champagnole",null,null,{"$f":"IF(N159=\"\",\"\",VLOOKUP(N159,Ville!$A$3:$E$40,4,0))","v":"p"},0,{"$f":"IF(N159=\"\",0,VLOOKUP(N159,Ville!$A$3:$E$40,3,0))","v":"00:00:00"},null,7,2,null,null,1,null,null,null,9,10,{"$f":"IF(N159=\"\",\"\",VLOOKUP(N159,Ville!$A$3:$E$40,2,0))","v":0},null,null,null,null,null,null,null,null,null,null,null,null,null,null,0,null,null,null,null,null,""]
[null,null,null,null,null,null,2010,{"$f":"IF(K158=\"\",\"\",VLOOKUP(I158,'Suiv Contr '!$D$14:$E$25,2))","v":"juillet"},7,3,"2010-07-21","Germain","Champagnole","Champagnole",null,null,{"$f":"IF(N158=\"\",\"\",VLOOKUP(N158,Ville!$A$3:$E$40,4,0))","v":"p"},0,{"$f":"IF(N158=\"\",0,VLOOKUP(N158,Ville!$A$3:$E$40,3,0))","v":"00:00:00"},null,2,null,null,null,null,null,null,null,2,2,{"$f":"IF(N158=\"\",\"\",VLOOKUP(N158,Ville!$A$3:$E$40,2,0))","v":0},null,null,null,null,null,null,null,null,null,null,null,null,null,null,0,null,null,null,null,null,""]
[null,null,null,null,null,null,2010,{"$f":"IF(K159=\"\",\"\",VLOOKUP(I159,'Suiv Contr '!$D$14:$E$25,2))","v":"juillet"},7,4,"2010-07-22","Germain","Champagnole","Champagnole",null,null,{"$f":"IF(N159=\"\",\"\",VLOOKUP(N159,Ville!$A$3:$E$40,4,0))","v":"p"},0,{"$f":"IF(N159=\"\",0,VLOOKUP(N159,Ville!$A$3:$E$40,3,0))","v":"00:00:00"},null,8,3,null,null,1,null,null,null,11,12,{"$f":"IF(N159=\"\",\"\",VLOOKUP(N159,Ville!$A$3:$E$40,2,0))","v":0},null,null,null,null,null,null,null,null,null,null,null,null,null,null,0,null,null,null,null,null,""]
[null,null,null,null,null,null,2010,{"$f":"IF(K160=\"\",\"\",VLOOKUP(I160,'Suiv Contr '!$D$14:$E$25,2))","v":"juillet"},7,5,"2010-07-23","Germain","Thann","Thann",null,null,{"$f":"IF(N160=\"\",\"\",VLOOKUP(N160,Ville!$A$3:$E$40,4,0))","v":"ca"},0,{"$f":"IF(N160=\"\",0,VLOOKUP(N160,Ville!$A$3:$E$40,3,0))","v":"04:30:00"},null,4,1,4,null,1,2,null,null,9,10,{"$f":"IF(N160=\"\",\"\",VLOOKUP(N160,Ville!$A$3:$E$40,2,0))","v":402},null,null,null,null,null,null,null,null,null,null,null,null,null,null,0,null,null,null,null,null,1]
[null,null,null,null,null,null,2010,{"$f":"IF(K161=\"\",\"\",VLOOKUP(I161,'Suiv Contr '!$D$14:$E$25,2))","v":"juillet"},7,1,"2010-07-26","Germain","Fains les Montbard","Fains les Montbard",null,null,{"$f":"IF(N161=\"\",\"\",VLOOKUP(N161,Ville!$A$3:$E$40,4,0))","v":"sp"},0,{"$f":"IF(N161=\"\",0,VLOOKUP(N161,Ville!$A$3:$E$40,3,0))","v":"03:30:00"},null,6,2,null,null,null,null,null,null,8,8,{"$f":"IF(N161=\"\",\"\",VLOOKUP(N161,Ville!$A$3:$E$40,2,0))","v":366},null,null,null,null,null,null,null,null,null,null,null,null,null,null,0,null,null,null,null,null,1]
[null,null,null,null,null,null,2010,{"$f":"IF(K162=\"\",\"\",VLOOKUP(I162,'Suiv Contr '!$D$14:$E$25,2))","v":"juillet"},7,2,"2010-07-27","Germain","Champagnole","Champagnole",null,null,{"$f":"IF(N162=\"\",\"\",VLOOKUP(N162,Ville!$A$3:$E$40,4,0))","v":"p"},0,{"$f":"IF(N162=\"\",0,VLOOKUP(N162,Ville!$A$3:$E$40,3,0))","v":"00:00:00"},null,2,4,null,null,null,null,1,null,6,6,{"$f":"IF(N162=\"\",\"\",VLOOKUP(N162,Ville!$A$3:$E$40,2,0))","v":0},null,null,null,null,null,null,null,null,null,null,null,null,null,null,0,null,null,null,null,null,""]
[null,null,null,null,null,null,2010,{"$f":"IF(K163=\"\",\"\",VLOOKUP(I163,'Suiv Contr '!$D$14:$E$25,2))","v":"juillet"},7,3,"2010-07-28","Germain","Fains les Montbard","Fains les Montbard",null,null,{"$f":"IF(N163=\"\",\"\",VLOOKUP(N163,Ville!$A$3:$E$40,4,0))","v":"sp"},0,{"$f":"IF(N163=\"\",0,VLOOKUP(N163,Ville!$A$3:$E$40,3,0))","v":"03:30:00"},null,5,1,null,null,1,null,null,null,6,7,{"$f":"IF(N163=\"\",\"\",VLOOKUP(N163,Ville!$A$3:$E$40,2,0))","v":366},null,null,null,null,null,null,null,null,null,null,null,null,null,null,0,null,null,null,null,null,1]
[null,null,null,null,null,null,2010,{"$f":"IF(K164=\"\",\"\",VLOOKUP(I164,'Suiv Contr '!$D$14:$E$25,2))","v":"juillet"},7,4,"2010-07-29","Germain","Champagnole","Champagnole",null,null,{"$f":"IF(N164=\"\",\"\",VLOOKUP(N164,Ville!$A$3:$E$40,4,0))","v":"p"},0,{"$f":"IF(N164=\"\",0,VLOOKUP(N164,Ville!$A$3:$E$40,3,0))","v":"00:00:00"},null,3,5,1,null,null,4,null,null,9,9,{"$f":"IF(N164=\"\",\"\",VLOOKUP(N164,Ville!$A$3:$E$40,2,0))","v":0},null,null,null,null,null,null,null,null,null,null,null,null,null,null,0,null,null,null,null,null,""]
[null,null,null,null,null,null,2010,{"$f":"IF(K165=\"\",\"\",VLOOKUP(I165,'Suiv Contr '!$D$14:$E$25,2))","v":"juillet"},7,5,"2010-07-30","Germain","Chatillon sur seine","Chatillon sur seine",null,null,{"$f":"IF(N165=\"\",\"\",VLOOKUP(N165,Ville!$A$3:$E$40,4,0))","v":"ca"},0,{"$f":"IF(N165=\"\",0,VLOOKUP(N165,Ville!$A$3:$E$40,3,0))","v":"04:00:00"},null,11,null,null,null,2,1,1,null,11,13,{"$f":"IF(N165=\"\",\"\",VLOOKUP(N165,Ville!$A$3:$E$40,2,0))","v":410},null,null,null,null,null,null,null,null,null,null,null,null,null,null,0,null,null,null,null,null,1]
[null,null,null,null,null,null,2010,{"$f":"IF(K166=\"\",\"\",VLOOKUP(I166,'Suiv Contr '!$D$14:$E$25,2))","v":"août"},8,1,"2010-08-02","Germain","Auxerre","Auxerre",null,null,{"$f":"IF(N166=\"\",\"\",VLOOKUP(N166,Ville!$A$3:$E$40,4,0))","v":"sp"},0,{"$f":"IF(N166=\"\",0,VLOOKUP(N166,Ville!$A$3:$E$40,3,0))","v":"04:00:00"},null,7,2,null,null,null,1,null,null,9,9,{"$f":"IF(N166=\"\",\"\",VLOOKUP(N166,Ville!$A$3:$E$40,2,0))","v":528},null,null,null,null,null,null,null,null,null,null,null,null,null,null,0,null,null,null,null,null,1]
[null,null,null,null,null,null,2010,{"$f":"IF(K167=\"\",\"\",VLOOKUP(I167,'Suiv Contr '!$D$14:$E$25,2))","v":"août"},8,2,"2010-08-03","Germain","Champagnole","Champagnole",null,null,{"$f":"IF(N167=\"\",\"\",VLOOKUP(N167,Ville!$A$3:$E$40,4,0))","v":"p"},0,{"$f":"IF(N167=\"\",0,VLOOKUP(N167,Ville!$A$3:$E$40,3,0))","v":"00:00:00"},null,4,5,null,null,null,null,1,null,9,9,{"$f":"IF(N167=\"\",\"\",VLOOKUP(N167,Ville!$A$3:$E$40,2,0))","v":0},null,null,null,null,null,null,null,null,null,null,null,null,null,null,0,null,null,null,null,null,""]
[null,null,null,null,null,null,2010,{"$f":"IF(K168=\"\",\"\",VLOOKUP(I168,'Suiv Contr '!$D$14:$E$25,2))","v":"août"},8,3,"2010-08-04","Germain","Fains les Montbard","Fains les Montbard",null,null,{"$f":"IF(N168=\"\",\"\",VLOOKUP(N168,Ville!$A$3:$E$40,4,0))","v":"sp"},0,{"$f":"IF(N168=\"\",0,VLOOKUP(N168,Ville!$A$3:$E$40,3,0))","v":"03:30:00"},null,2,4,null,null,1,null,1,null,6,7,{"$f":"IF(N168=\"\",\"\",VLOOKUP(N168,Ville!$A$3:$E$40,2,0))","v":366},null,null,null,null,null,null,null,null,null,null,null,null,null,null,0,null,null,null,null,null,1]
[null,null,null,null,null,null,2010,{"$f":"IF(K169=\"\",\"\",VLOOKUP(I169,'Suiv Contr '!$D$14:$E$25,2))","v":"août"},8,4,"2010-08-05","Germain","Cordesse","Cordesse",null,null,{"$f":"IF(N169=\"\",\"\",VLOOKUP(N169,Ville!$A$3:$E$40,4,0))","v":"ca"},0,{"$f":"IF(N169=\"\",0,VLOOKUP(N169,Ville!$A$3:$E$40,3,0))","v":"03:10:00"},null,10,null,null,null,1,1,null,null,10,11,{"$f":"IF(N169=\"\",\"\",VLOOKUP(N169,Ville!$A$3:$E$40,2,0))","v":340},null,null,null,null,null,null,null,null,null,null,null,null,null,null,0,null,null,null,null,null,1]
[null,null,null,null,null,null,2010,{"$f":"IF(K170=\"\",\"\",VLOOKUP(I170,'Suiv Contr '!$D$14:$E$25,2))","v":"août"},8,5,"2010-08-06","Germain","Champagnole","Champagnole",null,null,{"$f":"IF(N170=\"\",\"\",VLOOKUP(N170,Ville!$A$3:$E$40,4,0))","v":"p"},0,{"$f":"IF(N170=\"\",0,VLOOKUP(N170,Ville!$A$3:$E$40,3,0))","v":"00:00:00"},null,9,4,null,null,1,null,1,null,13,14,{"$f":"IF(N170=\"\",\"\",VLOOKUP(N170,Ville!$A$3:$E$40,2,0))","v":0},null,null,null,null,null,null,null,null,null,null,null,null,null,null,0,null,null,null,null,null,""]
[null,null,null,null,null,null,2010,{"$f":"IF(K171=\"\",\"\",VLOOKUP(I171,'Suiv Contr '!$D$14:$E$25,2))","v":"août"},8,1,"2010-08-09","Germain","Auxerre","Auxerre",null,null,{"$f":"IF(N171=\"\",\"\",VLOOKUP(N171,Ville!$A$3:$E$40,4,0))","v":"sp"},0,{"$f":"IF(N171=\"\",0,VLOOKUP(N171,Ville!$A$3:$E$40,3,0))","v":"04:00:00"},null,9,3,null,null,2,2,1,null,12,14,{"$f":"IF(N171=\"\",\"\",VLOOKUP(N171,Ville!$A$3:$E$40,2,0))","v":528},null,null,null,null,null,null,null,null,null,null,null,null,null,null,0,null,null,null,null,null,1]
[null,null,null,null,null,null,2010,{"$f":"IF(K172=\"\",\"\",VLOOKUP(I172,'Suiv Contr '!$D$14:$E$25,2))","v":"août"},8,2,"2010-08-10","Germain","Avallon","Avallon",null,null,{"$f":"IF(N172=\"\",\"\",VLOOKUP(N172,Ville!$A$3:$E$40,4,0))","v":"ca"},0,{"$f":"IF(N172=\"\",0,VLOOKUP(N172,Ville!$A$3:$E$40,3,0))","v":"03:20:00"},null,10,3,null,null,1,null,1,null,13,14,{"$f":"IF(N172=\"\",\"\",VLOOKUP(N172,Ville!$A$3:$E$40,2,0))","v":440},null,null,null,null,null,null,null,null,null,null,null,null,null,null,0,null,null,null,null,null,1]
[null,null,null,null,null,null,2010,{"$f":"IF(K173=\"\",\"\",VLOOKUP(I173,'Suiv Contr '!$D$14:$E$25,2))","v":"août"},8,3,"2010-08-11","Germain","Fains les Montbard","Fains les Montbard",null,null,{"$f":"IF(N173=\"\",\"\",VLOOKUP(N173,Ville!$A$3:$E$40,4,0))","v":"sp"},0,{"$f":"IF(N173=\"\",0,VLOOKUP(N173,Ville!$A$3:$E$40,3,0))","v":"03:30:00"},null,3,2,1,null,1,null,null,null,6,7,{"$f":"IF(N173=\"\",\"\",VLOOKUP(N173,Ville!$A$3:$E$40,2,0))","v":366},null,null,null,null,null,null,null,null,null,null,null,null,null,null,0,null,null,null,null,null,1]
[null,null,null,null,null,null,2010,{"$f":"IF(K174=\"\",\"\",VLOOKUP(I174,'Suiv Contr '!$D$14:$E$25,2))","v":"août"},8,4,"2010-08-12","Germain","Champagnole","Champagnole",null,null,{"$f":"IF(N174=\"\",\"\",VLOOKUP(N174,Ville!$A$3:$E$40,4,0))","v":"p"},0,{"$f":"IF(N174=\"\",0,VLOOKUP(N174,Ville!$A$3:$E$40,3,0))","v":"00:00:00"},null,7,6,null,null,1,null,2,null,13,14,{"$f":"IF(N174=\"\",\"\",VLOOKUP(N174,Ville!$A$3:$E$40,2,0))","v":0},null,null,null,null,null,null,null,null,null,null,null,null,null,null,0,null,null,null,null,null,""]
[null,null,null,null,null,null,2010,{"$f":"IF(K175=\"\",\"\",VLOOKUP(I175,'Suiv Contr '!$D$14:$E$25,2))","v":"août"},8,5,"2010-08-13","Germain","Champagnole","Champagnole",null,null,{"$f":"IF(N175=\"\",\"\",VLOOKUP(N175,Ville!$A$3:$E$40,4,0))","v":"p"},0,{"$f":"IF(N175=\"\",0,VLOOKUP(N175,Ville!$A$3:$E$40,3,0))","v":"00:00:00"},null,8,4,null,null,3,1,1,null,12,15,{"$f":"IF(N175=\"\",\"\",VLOOKUP(N175,Ville!$A$3:$E$40,2,0))","v":0},null,null,null,null,null,null,null,null,null,null,null,null,null,null,0,null,null,null,null,null,""]
[null,null,null,null,null,null,2010,{"$f":"IF(K176=\"\",\"\",VLOOKUP(I176,'Suiv Contr '!$D$14:$E$25,2))","v":"août"},8,1,"2010-08-16","Germain","Meythet","Meythet",null,null,{"$f":"IF(N176=\"\",\"\",VLOOKUP(N176,Ville!$A$3:$E$40,4,0))","v":"ca"},0,{"$f":"IF(N176=\"\",0,VLOOKUP(N176,Ville!$A$3:$E$40,3,0))","v":"04:20:00"},null,null,null,null,null,null,null,null,null,0,0,{"$f":"IF(N176=\"\",\"\",VLOOKUP(N176,Ville!$A$3:$E$40,2,0))","v":298},null,null,null,null,null,null,null,null,null,null,null,null,null,null,0,null,null,null,null,null,1]
[null,null,null,null,null,null,2010,{"$f":"IF(K177=\"\",\"\",VLOOKUP(I177,'Suiv Contr '!$D$14:$E$25,2))","v":"août"},8,2,"2010-08-17","Germain","Champagnole","Champagnole",null,null,{"$f":"IF(N177=\"\",\"\",VLOOKUP(N177,Ville!$A$3:$E$40,4,0))","v":"p"},0,{"$f":"IF(N177=\"\",0,VLOOKUP(N177,Ville!$A$3:$E$40,3,0))","v":"00:00:00"},null,5,10,null,null,null,null,1,null,15,15,{"$f":"IF(N177=\"\",\"\",VLOOKUP(N177,Ville!$A$3:$E$40,2,0))","v":0},null,null,null,null,null,null,null,null,null,null,null,null,null,null,0,null,null,null,null,null,""]
[null,null,null,null,null,null,2010,{"$f":"IF(K178=\"\",\"\",VLOOKUP(I178,'Suiv Contr '!$D$14:$E$25,2))","v":"août"},8,3,"2010-08-18","Germain","Fains les Montbard","Fains les Montbard",null,null,{"$f":"IF(N178=\"\",\"\",VLOOKUP(N178,Ville!$A$3:$E$40,4,0))","v":"sp"},0,{"$f":"IF(N178=\"\",0,VLOOKUP(N178,Ville!$A$3:$E$40,3,0))","v":"03:30:00"},null,5,4,null,null,null,2,null,null,9,9,{"$f":"IF(N178=\"\",\"\",VLOOKUP(N178,Ville!$A$3:$E$40,2,0))","v":366},null,null,null,null,null,null,null,null,null,null,null,null,null,null,0,null,null,null,null,null,1]
[null,null,null,null,null,null,2010,{"$f":"IF(K179=\"\",\"\",VLOOKUP(I179,'Suiv Contr '!$D$14:$E$25,2))","v":"août"},8,4,"2010-08-19","Germain","Champagnole","Champagnole",null,null,{"$f":"IF(N179=\"\",\"\",VLOOKUP(N179,Ville!$A$3:$E$40,4,0))","v":"p"},0,{"$f":"IF(N179=\"\",0,VLOOKUP(N179,Ville!$A$3:$E$40,3,0))","v":"00:00:00"},null,6,8,null,null,1,null,2,null,14,15,{"$f":"IF(N179=\"\",\"\",VLOOKUP(N179,Ville!$A$3:$E$40,2,0))","v":0},null,null,null,null,null,null,null,null,null,null,null,null,null,null,0,null,null,null,null,null,""]
[null,null,null,null,null,null,2010,{"$f":"IF(K180=\"\",\"\",VLOOKUP(I180,'Suiv Contr '!$D$14:$E$25,2))","v":"août"},8,5,"2010-08-20","Germain","Thann","Thann",null,null,{"$f":"IF(N180=\"\",\"\",VLOOKUP(N180,Ville!$A$3:$E$40,4,0))","v":"ca"},0,{"$f":"IF(N180=\"\",0,VLOOKUP(N180,Ville!$A$3:$E$40,3,0))","v":"04:30:00"},null,8,null,2,null,1,null,null,null,10,11,{"$f":"IF(N180=\"\",\"\",VLOOKUP(N180,Ville!$A$3:$E$40,2,0))","v":402},null,null,null,null,null,null,null,null,null,null,null,null,null,null,0,null,null,null,null,null,1]
[null,null,null,null,null,null,2010,{"$f":"IF(K181=\"\",\"\",VLOOKUP(I181,'Suiv Contr '!$D$14:$E$25,2))","v":"août"},8,1,"2010-08-23","Germain","Champagnole","Champagnole",null,null,{"$f":"IF(N181=\"\",\"\",VLOOKUP(N181,Ville!$A$3:$E$40,4,0))","v":"p"},0,{"$f":"IF(N181=\"\",0,VLOOKUP(N181,Ville!$A$3:$E$40,3,0))","v":"00:00:00"},null,1,null,null,null,1,null,null,null,1,2,{"$f":"IF(N181=\"\",\"\",VLOOKUP(N181,Ville!$A$3:$E$40,2,0))","v":0},null,null,null,null,null,null,null,null,null,null,null,null,null,null,0,null,null,null,null,null,""]
[null,null,null,null,null,null,2010,{"$f":"IF(K182=\"\",\"\",VLOOKUP(I182,'Suiv Contr '!$D$14:$E$25,2))","v":"août"},8,2,"2010-08-24","Germain","Champagnole","Champagnole",null,null,{"$f":"IF(N182=\"\",\"\",VLOOKUP(N182,Ville!$A$3:$E$40,4,0))","v":"p"},0,{"$f":"IF(N182=\"\",0,VLOOKUP(N182,Ville!$A$3:$E$40,3,0))","v":"00:00:00"},null,7,4,null,null,null,1,2,null,11,11,{"$f":"IF(N182=\"\",\"\",VLOOKUP(N182,Ville!$A$3:$E$40,2,0))","v":0},null,null,null,null,null,null,null,null,null,null,null,null,null,null,0,null,null,null,null,null,""]
[null,null,null,null,null,null,2010,{"$f":"IF(K183=\"\",\"\",VLOOKUP(I183,'Suiv Contr '!$D$14:$E$25,2))","v":"août"},8,3,"2010-08-25","Germain","Fains les Montbard","Fains les Montbard",null,null,{"$f":"IF(N183=\"\",\"\",VLOOKUP(N183,Ville!$A$3:$E$40,4,0))","v":"sp"},0,{"$f":"IF(N183=\"\",0,VLOOKUP(N183,Ville!$A$3:$E$40,3,0))","v":"03:30:00"},null,2,3,null,null,null,null,null,null,5,5,{"$f":"IF(N183=\"\",\"\",VLOOKUP(N183,Ville!$A$3:$E$40,2,0))","v":366},null,null,null,null,null,null,null,null,null,null,null,null,null,null,0,null,null,null,null,null,1]
[null,null,null,null,null,null,2010,{"$f":"IF(K184=\"\",\"\",VLOOKUP(I184,'Suiv Contr '!$D$14:$E$25,2))","v":"août"},8,4,"2010-08-26","Germain","Champagnole","Champagnole",null,null,{"$f":"IF(N184=\"\",\"\",VLOOKUP(N184,Ville!$A$3:$E$40,4,0))","v":"p"},0,{"$f":"IF(N184=\"\",0,VLOOKUP(N184,Ville!$A$3:$E$40,3,0))","v":"00:00:00"},null,1,3,null,null,2,null,null,null,4,6,{"$f":"IF(N184=\"\",\"\",VLOOKUP(N184,Ville!$A$3:$E$40,2,0))","v":0},null,null,null,null,null,null,null,null,null,null,null,null,null,null,0,null,null,null,null,null,""]
[null,null,null,null,null,null,2010,{"$f":"IF(K185=\"\",\"\",VLOOKUP(I185,'Suiv Contr '!$D$14:$E$25,2))","v":"août"},8,5,"2010-08-27","Germain","Champagnole","Champagnole",null,null,{"$f":"IF(N185=\"\",\"\",VLOOKUP(N185,Ville!$A$3:$E$40,4,0))","v":"p"},0,{"$f":"IF(N185=\"\",0,VLOOKUP(N185,Ville!$A$3:$E$40,3,0))","v":"00:00:00"},null,3,4,null,null,1,null,null,null,7,8,{"$f":"IF(N185=\"\",\"\",VLOOKUP(N185,Ville!$A$3:$E$40,2,0))","v":0},null,null,null,null,null,null,null,null,null,null,null,null,null,null,0,null,null,null,null,null,""]
[null,null,null,null,null,null,2010,{"$f":"IF(K186=\"\",\"\",VLOOKUP(I186,'Suiv Contr '!$D$14:$E$25,2))","v":"août"},8,1,"2010-08-30","Germain","Champagnole","Champagnole",null,null,"v",1,{"$f":"IF(N186=\"\",0,VLOOKUP(N186,Ville!$A$3:$E$40,3,0))","v":"00:00:00"},null,null,null,null,null,null,null,null,null,0,0,{"$f":"IF(N186=\"\",\"\",VLOOKUP(N186,Ville!$A$3:$E$40,2,0))","v":0},null,null,null,null,null,null,null,null,null,null,null,null,null,null,0,null,null,null,null,null,""]
[null,null,null,null,null,null,2010,{"$f":"IF(K187=\"\",\"\",VLOOKUP(I187,'Suiv Contr '!$D$14:$E$25,2))","v":"août"},8,2,"2010-08-31","Germain","Champagnole","Champagnole",null,null,"v",1,{"$f":"IF(N187=\"\",0,VLOOKUP(N187,Ville!$A$3:$E$40,3,0))","v":"00:00:00"},null,null,null,null,null,null,null,null,null,0,0,{"$f":"IF(N187=\"\",\"\",VLOOKUP(N187,Ville!$A$3:$E$40,2,0))","v":0},null,null,null,null,null,null,null,null,null,null,null,null,null,null,0,null,null,null,null,null,""]
[null,null,null,null,null,null,2010,{"$f":"IF(K188=\"\",\"\",VLOOKUP(I188,'Suiv Contr '!$D$14:$E$25,2))","v":"septembre"},9,3,"2010-09-01","Germain","Champagnole","Champagnole",null,null,"v",1,{"$f":"IF(N188=\"\",0,VLOOKUP(N188,Ville!$A$3:$E$40,3,0))","v":"00:00:00"},null,null,null,null,null,null,null,null,null,0,0,{"$f":"IF(N188=\"\",\"\",VLOOKUP(N188,Ville!$A$3:$E$40,2,0))","v":0},null,null,null,null,null,null,null,null,null,null,null,null,null,null,0,null,null,null,null,null,""]
[null,null,null,null,null,null,2010,{"$f":"IF(K189=\"\",\"\",VLOOKUP(I189,'Suiv Contr '!$D$14:$E$25,2))","v":"septembre"},9,4,"2010-09-02","Germain","Champagnole","Champagnole",null,null,"v",1,{"$f":"IF(N189=\"\",0,VLOOKUP(N189,Ville!$A$3:$E$40,3,0))","v":"00:00:00"},null,null,null,null,null,null,null,null,null,0,0,{"$f":"IF(N189=\"\",\"\",VLOOKUP(N189,Ville!$A$3:$E$40,2,0))","v":0},null,null,null,null,null,null,null,null,null,null,null,null,null,null,0,null,null,null,null,null,""]
[null,null,null,null,null,null,2010,{"$f":"IF(K190=\"\",\"\",VLOOKUP(I190,'Suiv Contr '!$D$14:$E$25,2))","v":"septembre"},9,5,"2010-09-03","Germain","Champagnole","Champagnole",null,null,"v",1,{"$f":"IF(N190=\"\",0,VLOOKUP(N190,Ville!$A$3:$E$40,3,0))","v":"00:00:00"},null,null,null,null,null,null,null,null,null,0,0,{"$f":"IF(N190=\"\",\"\",VLOOKUP(N190,Ville!$A$3:$E$40,2,0))","v":0},null,null,null,null,null,null,null,null,null,null,null,null,null,null,0,null,null,null,null,{"$f":"IF(Q190=\"rec\",\"=1\",\"\")","v":""},""]
[null,null,null,null,null,null,2010,{"$f":"IF(K191=\"\",\"\",VLOOKUP(I191,'Suiv Contr '!$D$14:$E$25,2))","v":"septembre"},9,5,"2010-09-03","Villefranche","Champagnole","Champagnole",null,null,"ex",0,{"$f":"IF(N191=\"\",0,VLOOKUP(N191,Ville!$A$3:$E$40,3,0))","v":"00:00:00"},null,1,2,null,null,1,null,null,null,3,4,{"$f":"IF(N191=\"\",\"\",VLOOKUP(N191,Ville!$A$3:$E$40,2,0))","v":0},null,null,null,null,null,null,null,null,null,null,null,null,null,null,0,null,null,{"$f":"IF(K191=$B$2,1,\"\")","v":""},{"$f":"IF(Q191=\"v\",3,\"\")","v":""},{"$f":"IF(Q191=\"rec\",2,\"\")","v":""},""]
[null,null,null,null,null,null,2010,{"$f":"IF(K192=\"\",\"\",VLOOKUP(I192,'Suiv Contr '!$D$14:$E$25,2))","v":"septembre"},9,1,"2010-09-06","Germain","00:00:00",null,null,null,"v",1,{"$f":"IF(N192=\"\",0,VLOOKUP(N192,Ville!$A$3:$E$40,3,0))","v":"00:00:00"},null,null,null,null,null,null,null,null,null,0,0,{"$f":"IF(N192=\"\",\"\",VLOOKUP(N192,Ville!$A$3:$E$40,2,0))","v":""},null,null,null,null,null,null,null,null,null,null,null,null,null,null,0,null,null,{"$f":"IF(K192=$B$2,1,\"\")","v":""},{"$f":"IF(Q192=\"v\",3,\"\")","v":3},{"$f":"IF(Q192=\"rec\",2,\"\")","v":""},""]
[null,null,null,null,null,null,2010,{"$f":"IF(K193=\"\",\"\",VLOOKUP(I193,'Suiv Contr '!$D$14:$E$25,2))","v":"septembre"},9,2,"2010-09-07","Germain","00:00:00",null,null,null,"v",1,{"$f":"IF(N193=\"\",0,VLOOKUP(N193,Ville!$A$3:$E$40,3,0))","v":"00:00:00"},null,null,null,null,null,null,null,null,null,0,0,{"$f":"IF(N193=\"\",\"\",VLOOKUP(N193,Ville!$A$3:$E$40,2,0))","v":""},null,null,null,null,null,null,null,null,null,null,null,null,null,null,0,null,null,"",{"$f":"IF(Q193=\"v\",3,\"\")","v":3},{"$f":"IF(Q193=\"rec\",2,\"\")","v":""},""]
[null,null,null,null,null,null,2010,{"$f":"IF(K194=\"\",\"\",VLOOKUP(I194,'Suiv Contr '!$D$14:$E$25,2))","v":"septembre"},9,2,"2010-09-07","Villefranche","Champagnole","Champagnole",null,null,"ex",0,{"$f":"IF(N194=\"\",0,VLOOKUP(N194,Ville!$A$3:$E$40,3,0))","v":"00:00:00"},null,7,1,null,null,null,2,null,null,8,8,{"$f":"IF(N194=\"\",\"\",VLOOKUP(N194,Ville!$A$3:$E$40,2,0))","v":0},null,null,null,null,null,null,null,null,null,null,null,null,null,null,0,null,null,"","","",""]
[null,null,null,null,null,null,2010,{"$f":"IF(K195=\"\",\"\",VLOOKUP(I195,'Suiv Contr '!$D$14:$E$25,2))","v":"septembre"},9,3,"2010-09-08","Germain","00:00:00",null,null,null,"v",1,{"$f":"IF(N195=\"\",0,VLOOKUP(N195,Ville!$A$3:$E$40,3,0))","v":"00:00:00"},null,null,null,null,null,null,null,null,null,0,0,{"$f":"IF(N195=\"\",\"\",VLOOKUP(N195,Ville!$A$3:$E$40,2,0))","v":""},null,null,null,null,null,null,null,null,null,null,null,null,null,null,0,null,null,"",3,"",""]
[null,null,null,null,null,null,2010,{"$f":"IF(K196=\"\",\"\",VLOOKUP(I196,'Suiv Contr '!$D$14:$E$25,2))","v":"septembre"},9,4,"2010-09-09","Germain","00:00:00",null,null,null,"v",1,{"$f":"IF(N196=\"\",0,VLOOKUP(N196,Ville!$A$3:$E$40,3,0))","v":"00:00:00"},null,null,null,null,null,null,null,null,null,0,0,{"$f":"IF(N196=\"\",\"\",VLOOKUP(N196,Ville!$A$3:$E$40,2,0))","v":""},null,null,null,null,null,null,null,null,null,null,null,null,null,null,0,null,null,"",{"$f":"IF(Q196=\"v\",3,\"\")","v":3},{"$f":"IF(Q196=\"rec\",2,\"\")","v":""},""]
[null,null,null,null,null,null,2010,{"$f":"IF(K197=\"\",\"\",VLOOKUP(I197,'Suiv Contr '!$D$14:$E$25,2))","v":"septembre"},9,4,"2010-09-09","Villefranche","Champagnole","Champagnole",null,null,"ex",0,{"$f":"IF(N197=\"\",0,VLOOKUP(N197,Ville!$A$3:$E$40,3,0))","v":"00:00:00"},null,4,3,null,null,null,3,null,null,7,7,{"$f":"IF(N197=\"\",\"\",VLOOKUP(N197,Ville!$A$3:$E$40,2,0))","v":0},null,null,null,null,null,null,null,null,null,null,null,null,null,null,0,null,null,"","","",""]
[null,null,null,null,null,null,2010,{"$f":"IF(K198=\"\",\"\",VLOOKUP(I198,'Suiv Contr '!$D$14:$E$25,2))","v":"septembre"},9,5,"2010-09-10","Germain","00:00:00",null,null,null,"v",1,{"$f":"IF(N198=\"\",0,VLOOKUP(N198,Ville!$A$3:$E$40,3,0))","v":"00:00:00"},null,null,null,null,null,null,null,null,null,0,0,{"$f":"IF(N198=\"\",\"\",VLOOKUP(N198,Ville!$A$3:$E$40,2,0))","v":""},null,null,null,null,null,null,null,null,null,null,null,null,null,null,0,null,null,"",3,"",""]
[null,null,null,null,null,null,2010,{"$f":"IF(K199=\"\",\"\",VLOOKUP(I199,'Suiv Contr '!$D$14:$E$25,2))","v":"septembre"},9,1,"2010-09-13","Germain","00:00:00",null,null,null,"v",1,{"$f":"IF(N199=\"\",0,VLOOKUP(N199,Ville!$A$3:$E$40,3,0))","v":"00:00:00"},null,null,null,null,null,null,null,null,null,0,0,{"$f":"IF(N199=\"\",\"\",VLOOKUP(N199,Ville!$A$3:$E$40,2,0))","v":""},null,null,null,null,null,null,null,null,null,null,null,null,null,null,0,null,null,"",3,"",""]
[null,null,null,null,null,null,2010,{"$f":"IF(K200=\"\",\"\",VLOOKUP(I200,'Suiv Contr '!$D$14:$E$25,2))","v":"septembre"},9,2,"2010-09-14","Germain","00:00:00",null,null,null,"v",1,{"$f":"IF(N200=\"\",0,VLOOKUP(N200,Ville!$A$3:$E$40,3,0))","v":"00:00:00"},null,null,null,null,null,null,null,null,null,0,0,{"$f":"IF(N200=\"\",\"\",VLOOKUP(N200,Ville!$A$3:$E$40,2,0))","v":""},null,null,null,null,null,null,null,null,null,null,null,null,null,null,0,null,null,"",3,"",""]
[null,null,null,null,null,null,2010,{"$f":"IF(K201=\"\",\"\",VLOOKUP(I201,'Suiv Contr '!$D$14:$E$25,2))","v":"septembre"},9,2,"2010-09-14","Villefranche","Champagnole","Champagnole",null,null,"ex",0,{"$f":"IF(N201=\"\",0,VLOOKUP(N201,Ville!$A$3:$E$40,3,0))","v":"00:00:00"},null,6,3,null,null,1,1,null,null,9,10,{"$f":"IF(N201=\"\",\"\",VLOOKUP(N201,Ville!$A$3:$E$40,2,0))","v":0},null,null,null,null,null,null,null,null,null,null,null,null,null,null,0,null,null,"","","",""]
[null,null,null,null,null,null,2010,{"$f":"IF(K202=\"\",\"\",VLOOKUP(I202,'Suiv Contr '!$D$14:$E$25,2))","v":"septembre"},9,3,"2010-09-15","Germain","00:00:00",null,null,null,"v",1,{"$f":"IF(N202=\"\",0,VLOOKUP(N202,Ville!$A$3:$E$40,3,0))","v":"00:00:00"},null,null,null,null,null,null,null,null,null,0,0,{"$f":"IF(N202=\"\",\"\",VLOOKUP(N202,Ville!$A$3:$E$40,2,0))","v":""},null,null,null,null,null,null,null,null,null,null,null,null,null,null,0,null,null,"",3,"",""]
[null,null,null,null,null,null,2010,{"$f":"IF(K203=\"\",\"\",VLOOKUP(I203,'Suiv Contr '!$D$14:$E$25,2))","v":"septembre"},9,4,"2010-09-16","Germain","00:00:00",null,null,null,"v",1,{"$f":"IF(N203=\"\",0,VLOOKUP(N203,Ville!$A$3:$E$40,3,0))","v":"00:00:00"},null,null,null,null,null,null,null,null,null,0,0,{"$f":"IF(N203=\"\",\"\",VLOOKUP(N203,Ville!$A$3:$E$40,2,0))","v":""},null,null,null,null,null,null,null,null,null,null,null,null,null,null,0,null,null,"",3,"",""]
[null,null,null,null,null,null,2010,{"$f":"IF(K204=\"\",\"\",VLOOKUP(I204,'Suiv Contr '!$D$14:$E$25,2))","v":"septembre"},9,4,"2010-09-16","Villefranche","Champagnole","Champagnole",null,null,"ex",0,{"$f":"IF(N204=\"\",0,VLOOKUP(N204,Ville!$A$3:$E$40,3,0))","v":"00:00:00"},null,9,2,null,null,null,5,null,null,11,11,{"$f":"IF(N204=\"\",\"\",VLOOKUP(N204,Ville!$A$3:$E$40,2,0))","v":0},null,null,null,null,null,null,null,null,null,null,null,null,null,null,0,null,null,"","","",""]
[null,null,null,null,null,null,2010,{"$f":"IF(K205=\"\",\"\",VLOOKUP(I205,'Suiv Contr '!$D$14:$E$25,2))","v":"septembre"},9,5,"2010-09-17","Germain","00:00:00",null,null,null,"v",1,{"$f":"IF(N205=\"\",0,VLOOKUP(N205,Ville!$A$3:$E$40,3,0))","v":"00:00:00"},null,null,null,null,null,null,null,null,null,0,0,{"$f":"IF(N205=\"\",\"\",VLOOKUP(N205,Ville!$A$3:$E$40,2,0))","v":""},null,null,null,null,null,null,null,null,null,null,null,null,null,null,0,null,null,"",3,"",{"$f":"IF(OR(N205=\"champagnole\",N205=\"\"),\"\",1)","v":""}]
[null,null,null,null,null,null,{"$f":"IF(K206=\"\",\"\",YEAR(K206))","v":2010},{"$f":"IF(K206=\"\",\"\",VLOOKUP(I206,'Suiv Contr '!$D$14:$E$25,2))","v":"septembre"},{"$f":"IF(K206=\"\",\"\",MONTH(K206))","v":9},{"$f":"IF(K206=\"\",\"\",WEEKDAY(K206,2))","v":1},"2010-09-20","Germain",{"$f":"N206","v":"Fains les Montbard"},"Fains les Montbard",null,null,{"$f":"IF(N206=\"\",\"\",VLOOKUP(N206,Ville!$A$3:$E$40,4,0))","v":"sp"},{"$f":"IF(Q206=\"v\",1,0)","v":0},{"$f":"IF(N206=\"\",0,VLOOKUP(N206,Ville!$A$3:$E$40,3,0))","v":"03:30:00"},null,9,1,null,null,2,1,null,null,10,12,{"$f":"IF(N206=\"\",\"\",VLOOKUP(N206,Ville!$A$3:$E$40,2,0))","v":366},null,null,null,null,null,null,null,null,null,null,null,null,null,null,{"$f":"SUM(AH206:AS206)","v":0},null,null,"","","",1]
[null,null,null,null,null,null,2010,{"$f":"IF(K207=\"\",\"\",VLOOKUP(I207,'Suiv Contr '!$D$14:$E$25,2))","v":"septembre"},9,2,"2010-09-21","Germain","Champagnole","Champagnole",null,null,{"$f":"IF(N207=\"\",\"\",VLOOKUP(N207,Ville!$A$3:$E$40,4,0))","v":"p"},0,{"$f":"IF(N207=\"\",0,VLOOKUP(N207,Ville!$A$3:$E$40,3,0))","v":"00:00:00"},null,9,2,null,null,null,null,null,null,11,11,{"$f":"IF(N207=\"\",\"\",VLOOKUP(N207,Ville!$A$3:$E$40,2,0))","v":0},null,null,null,null,null,null,null,null,null,null,null,null,null,null,0,null,null,"","","",""]
[null,null,null,null,null,null,2010,{"$f":"IF(K208=\"\",\"\",VLOOKUP(I208,'Suiv Contr '!$D$14:$E$25,2))","v":"septembre"},9,3,"2010-09-22","Germain","Fains les Montbard","Fains les Montbard",null,null,{"$f":"IF(N208=\"\",\"\",VLOOKUP(N208,Ville!$A$3:$E$40,4,0))","v":"sp"},0,{"$f":"IF(N208=\"\",0,VLOOKUP(N208,Ville!$A$3:$E$40,3,0))","v":"03:30:00"},null,9,1,null,null,null,null,null,null,10,10,{"$f":"IF(N208=\"\",\"\",VLOOKUP(N208,Ville!$A$3:$E$40,2,0))","v":366},null,null,null,null,null,null,null,null,null,null,null,null,null,null,0,null,null,"","","",1]
[null,null,null,null,null,null,2010,{"$f":"IF(K209=\"\",\"\",VLOOKUP(I209,'Suiv Contr '!$D$14:$E$25,2))","v":"septembre"},9,4,"2010-09-23","Germain","Champagnole","Champagnole",null,null,{"$f":"IF(N209=\"\",\"\",VLOOKUP(N209,Ville!$A$3:$E$40,4,0))","v":"p"},0,{"$f":"IF(N209=\"\",0,VLOOKUP(N209,Ville!$A$3:$E$40,3,0))","v":"00:00:00"},null,15,1,null,null,null,null,null,null,16,16,{"$f":"IF(N209=\"\",\"\",VLOOKUP(N209,Ville!$A$3:$E$40,2,0))","v":0},null,null,null,null,null,null,null,null,null,null,null,null,null,null,0,null,null,"","","",""]
[null,null,null,null,null,null,2010,{"$f":"IF(K210=\"\",\"\",VLOOKUP(I210,'Suiv Contr '!$D$14:$E$25,2))","v":"septembre"},9,5,"2010-09-24","Germain","Thann","Thann",null,null,{"$f":"IF(N210=\"\",\"\",VLOOKUP(N210,Ville!$A$3:$E$40,4,0))","v":"ca"},0,{"$f":"IF(N210=\"\",0,VLOOKUP(N210,Ville!$A$3:$E$40,3,0))","v":"04:30:00"},null,9,2,null,null,1,1,null,null,11,12,{"$f":"IF(N210=\"\",\"\",VLOOKUP(N210,Ville!$A$3:$E$40,2,0))","v":402},null,null,null,null,null,null,null,null,null,null,null,null,null,null,0,null,null,"","","",1]
[null,null,null,null,null,null,2010,{"$f":"IF(K211=\"\",\"\",VLOOKUP(I211,'Suiv Contr '!$D$14:$E$25,2))","v":"septembre"},9,1,"2010-09-27","Germain","Meythet","Meythet",null,null,{"$f":"IF(N211=\"\",\"\",VLOOKUP(N211,Ville!$A$3:$E$40,4,0))","v":"ca"},0,{"$f":"IF(N211=\"\",0,VLOOKUP(N211,Ville!$A$3:$E$40,3,0))","v":"04:20:00"},null,7,null,null,null,null,1,null,null,7,7,{"$f":"IF(N211=\"\",\"\",VLOOKUP(N211,Ville!$A$3:$E$40,2,0))","v":298},null,null,null,null,null,null,null,null,null,null,null,null,null,null,0,null,null,"","","",1]
[null,null,null,null,null,null,2010,{"$f":"IF(K212=\"\",\"\",VLOOKUP(I212,'Suiv Contr '!$D$14:$E$25,2))","v":"septembre"},9,2,"2010-09-28","Germain","Champagnole","Champagnole",null,null,{"$f":"IF(N212=\"\",\"\",VLOOKUP(N212,Ville!$A$3:$E$40,4,0))","v":"p"},0,{"$f":"IF(N212=\"\",0,VLOOKUP(N212,Ville!$A$3:$E$40,3,0))","v":"00:00:00"},null,7,2,null,null,1,null,null,null,{"$f":"U212+V212+W212+X212","v":9},{"$f":"AC212+Y212","v":10},{"$f":"IF(N212=\"\",\"\",VLOOKUP(N212,Ville!$A$3:$E$40,2,0))","v":0},null,null,null,null,null,null,null,null,null,null,null,null,null,null,0,null,null,"","","",""]
[null,null,null,null,null,null,2010,{"$f":"IF(K213=\"\",\"\",VLOOKUP(I213,'Suiv Contr '!$D$14:$E$25,2))","v":"septembre"},9,3,"2010-09-29","Germain","Champagnole","Champagnole",null,null,{"$f":"IF(N213=\"\",\"\",VLOOKUP(N213,Ville!$A$3:$E$40,4,0))","v":"p"},0,{"$f":"IF(N213=\"\",0,VLOOKUP(N213,Ville!$A$3:$E$40,3,0))","v":"00:00:00"},null,8,null,null,null,2,null,null,null,8,10,{"$f":"IF(N213=\"\",\"\",VLOOKUP(N213,Ville!$A$3:$E$40,2,0))","v":0},null,null,null,null,null,null,null,null,null,null,null,null,null,null,0,null,null,"","","",""]
[null,null,null,null,null,null,2010,{"$f":"IF(K214=\"\",\"\",VLOOKUP(I214,'Suiv Contr '!$D$14:$E$25,2))","v":"septembre"},9,4,"2010-09-30","Germain","Cordesse","Cordesse",null,null,{"$f":"IF(N214=\"\",\"\",VLOOKUP(N214,Ville!$A$3:$E$40,4,0))","v":"ca"},0,{"$f":"IF(N214=\"\",0,VLOOKUP(N214,Ville!$A$3:$E$40,3,0))","v":"03:10:00"},null,6,1,null,null,null,1,1,null,7,7,{"$f":"IF(N214=\"\",\"\",VLOOKUP(N214,Ville!$A$3:$E$40,2,0))","v":340},null,null,null,null,null,null,null,null,null,null,null,null,null,null,0,null,null,"","","",1]
[null,null,null,null,null,null,2010,{"$f":"IF(K215=\"\",\"\",VLOOKUP(I215,'Suiv Contr '!$D$14:$E$25,2))","v":"octobre"},10,5,"2010-10-01","Germain","Champagnole","Champagnole",null,null,{"$f":"IF(N215=\"\",\"\",VLOOKUP(N215,Ville!$A$3:$E$40,4,0))","v":"p"},0,{"$f":"IF(N215=\"\",0,VLOOKUP(N215,Ville!$A$3:$E$40,3,0))","v":"00:00:00"},null,5,2,null,null,3,null,null,null,7,10,{"$f":"IF(N215=\"\",\"\",VLOOKUP(N215,Ville!$A$3:$E$40,2,0))","v":0},null,null,null,null,null,null,null,null,null,null,null,null,null,null,0,null,null,"","","",""]
[null,null,null,null,null,null,2010,{"$f":"IF(K216=\"\",\"\",VLOOKUP(I216,'Suiv Contr '!$D$14:$E$25,2))","v":"octobre"},10,1,"2010-10-04","Germain","Champagnole","Champagnole",null,null,{"$f":"IF(N216=\"\",\"\",VLOOKUP(N216,Ville!$A$3:$E$40,4,0))","v":"p"},0,{"$f":"IF(N216=\"\",0,VLOOKUP(N216,Ville!$A$3:$E$40,3,0))","v":"00:00:00"},null,4,null,null,null,1,null,null,null,4,5,{"$f":"IF(N216=\"\",\"\",VLOOKUP(N216,Ville!$A$3:$E$40,2,0))","v":0},null,null,null,null,null,null,null,null,null,null,null,null,null,null,0,null,null,"","","",""]
[null,null,null,null,null,null,2010,{"$f":"IF(K217=\"\",\"\",VLOOKUP(I217,'Suiv Contr '!$D$14:$E$25,2))","v":"octobre"},10,2,"2010-10-05","Germain","Champagnole","Champagnole",null,null,{"$f":"IF(N217=\"\",\"\",VLOOKUP(N217,Ville!$A$3:$E$40,4,0))","v":"p"},0,{"$f":"IF(N217=\"\",0,VLOOKUP(N217,Ville!$A$3:$E$40,3,0))","v":"00:00:00"},null,9,1,null,null,1,null,1,null,10,11,{"$f":"IF(N217=\"\",\"\",VLOOKUP(N217,Ville!$A$3:$E$40,2,0))","v":0},null,null,null,null,null,null,null,null,null,null,null,null,null,null,0,null,null,"","","",""]
[null,null,null,null,null,null,2010,{"$f":"IF(K218=\"\",\"\",VLOOKUP(I218,'Suiv Contr '!$D$14:$E$25,2))","v":"octobre"},10,3,"2010-10-06","Germain","Fains les Montbard","Fains les Montbard",null,null,{"$f":"IF(N218=\"\",\"\",VLOOKUP(N218,Ville!$A$3:$E$40,4,0))","v":"sp"},0,{"$f":"IF(N218=\"\",0,VLOOKUP(N218,Ville!$A$3:$E$40,3,0))","v":"03:30:00"},null,2,null,null,null,2,null,null,null,2,4,{"$f":"IF(N218=\"\",\"\",VLOOKUP(N218,Ville!$A$3:$E$40,2,0))","v":366},null,null,null,null,null,null,null,null,null,null,null,null,null,null,0,null,null,"","","",1]
[null,null,null,null,null,null,2010,{"$f":"IF(K219=\"\",\"\",VLOOKUP(I219,'Suiv Contr '!$D$14:$E$25,2))","v":"octobre"},10,4,"2010-10-07","Germain","Champagnole","Champagnole",null,null,{"$f":"IF(N219=\"\",\"\",VLOOKUP(N219,Ville!$A$3:$E$40,4,0))","v":"p"},0,{"$f":"IF(N219=\"\",0,VLOOKUP(N219,Ville!$A$3:$E$40,3,0))","v":"00:00:00"},null,6,2,null,null,1,null,1,null,8,9,{"$f":"IF(N219=\"\",\"\",VLOOKUP(N219,Ville!$A$3:$E$40,2,0))","v":0},null,null,null,null,null,null,null,null,null,null,null,null,null,null,0,null,null,"","","",""]
[null,null,null,null,null,null,2010,{"$f":"IF(K220=\"\",\"\",VLOOKUP(I220,'Suiv Contr '!$D$14:$E$25,2))","v":"octobre"},10,5,"2010-10-08","Germain","Champagnole","Champagnole",null,null,{"$f":"IF(N220=\"\",\"\",VLOOKUP(N220,Ville!$A$3:$E$40,4,0))","v":"p"},0,{"$f":"IF(N220=\"\",0,VLOOKUP(N220,Ville!$A$3:$E$40,3,0))","v":"00:00:00"},null,7,1,null,null,1,1,null,null,8,9,{"$f":"IF(N220=\"\",\"\",VLOOKUP(N220,Ville!$A$3:$E$40,2,0))","v":0},null,null,null,null,null,null,null,null,null,null,null,null,null,null,0,null,null,"","","",""]
[null,null,null,null,null,null,2010,{"$f":"IF(K221=\"\",\"\",VLOOKUP(I221,'Suiv Contr '!$D$14:$E$25,2))","v":"octobre"},10,1,"2010-10-11","Germain","Fains les Montbard","Fains les Montbard",null,null,{"$f":"IF(N221=\"\",\"\",VLOOKUP(N221,Ville!$A$3:$E$40,4,0))","v":"sp"},0,{"$f":"IF(N221=\"\",0,VLOOKUP(N221,Ville!$A$3:$E$40,3,0))","v":"03:30:00"},null,13,2,null,null,null,null,null,null,15,15,{"$f":"IF(N221=\"\",\"\",VLOOKUP(N221,Ville!$A$3:$E$40,2,0))","v":366},null,null,null,null,null,null,null,null,null,null,null,null,null,null,0,null,null,"","","",1]
[null,null,null,null,null,null,2010,{"$f":"IF(K222=\"\",\"\",VLOOKUP(I222,'Suiv Contr '!$D$14:$E$25,2))","v":"octobre"},10,2,"2010-10-12","Germain","Champagnole","Champagnole",null,null,{"$f":"IF(N222=\"\",\"\",VLOOKUP(N222,Ville!$A$3:$E$40,4,0))","v":"p"},0,{"$f":"IF(N222=\"\",0,VLOOKUP(N222,Ville!$A$3:$E$40,3,0))","v":"00:00:00"},null,5,2,null,null,null,null,1,null,7,7,{"$f":"IF(N222=\"\",\"\",VLOOKUP(N222,Ville!$A$3:$E$40,2,0))","v":0},null,null,null,null,null,null,null,null,null,null,null,null,null,null,0,null,null,"","","",""]
[null,null,null,null,null,null,2010,{"$f":"IF(K223=\"\",\"\",VLOOKUP(I223,'Suiv Contr '!$D$14:$E$25,2))","v":"octobre"},10,3,"2010-10-13","Germain","Thann","Thann",null,null,{"$f":"IF(N223=\"\",\"\",VLOOKUP(N223,Ville!$A$3:$E$40,4,0))","v":"ca"},0,{"$f":"IF(N223=\"\",0,VLOOKUP(N223,Ville!$A$3:$E$40,3,0))","v":"04:30:00"},null,4,1,3,null,null,null,null,null,8,8,{"$f":"IF(N223=\"\",\"\",VLOOKUP(N223,Ville!$A$3:$E$40,2,0))","v":402},null,null,null,null,null,null,null,null,null,null,null,null,null,null,0,null,null,"","","",1]
[null,null,null,null,null,null,2010,{"$f":"IF(K224=\"\",\"\",VLOOKUP(I224,'Suiv Contr '!$D$14:$E$25,2))","v":"octobre"},10,4,"2010-10-14","Germain","Champagnole","Champagnole",null,null,{"$f":"IF(N224=\"\",\"\",VLOOKUP(N224,Ville!$A$3:$E$40,4,0))","v":"p"},0,{"$f":"IF(N224=\"\",0,VLOOKUP(N224,Ville!$A$3:$E$40,3,0))","v":"00:00:00"},null,8,1,null,null,2,null,null,null,9,11,{"$f":"IF(N224=\"\",\"\",VLOOKUP(N224,Ville!$A$3:$E$40,2,0))","v":0},null,null,null,null,null,null,null,null,null,null,null,null,null,null,0,null,null,"","","",""]
[null,null,null,null,null,null,2010,{"$f":"IF(K225=\"\",\"\",VLOOKUP(I225,'Suiv Contr '!$D$14:$E$25,2))","v":"octobre"},10,5,"2010-10-15","Germain","Champagnole","Champagnole",null,null,{"$f":"IF(N225=\"\",\"\",VLOOKUP(N225,Ville!$A$3:$E$40,4,0))","v":"p"},0,{"$f":"IF(N225=\"\",0,VLOOKUP(N225,Ville!$A$3:$E$40,3,0))","v":"00:00:00"},null,6,1,null,null,null,1,null,null,7,7,{"$f":"IF(N225=\"\",\"\",VLOOKUP(N225,Ville!$A$3:$E$40,2,0))","v":0},null,null,null,null,null,null,null,null,null,null,null,null,null,null,0,null,null,"","","",""]
[null,null,null,null,null,null,2010,{"$f":"IF(K226=\"\",\"\",VLOOKUP(I226,'Suiv Contr '!$D$14:$E$25,2))","v":"octobre"},10,1,"2010-10-18","Germain","Champagnole","Champagnole",null,null,{"$f":"IF(N226=\"\",\"\",VLOOKUP(N226,Ville!$A$3:$E$40,4,0))","v":"p"},0,{"$f":"IF(N226=\"\",0,VLOOKUP(N226,Ville!$A$3:$E$40,3,0))","v":"00:00:00"},null,5,null,null,null,null,null,1,null,5,5,{"$f":"IF(N226=\"\",\"\",VLOOKUP(N226,Ville!$A$3:$E$40,2,0))","v":0},null,null,null,null,null,null,null,null,null,null,null,null,null,null,0,null,null,"","","",""]
[null,null,null,null,null,null,2010,{"$f":"IF(K227=\"\",\"\",VLOOKUP(I227,'Suiv Contr '!$D$14:$E$25,2))","v":"octobre"},10,2,"2010-10-19","Germain","Champagnole","Champagnole",null,null,{"$f":"IF(N227=\"\",\"\",VLOOKUP(N227,Ville!$A$3:$E$40,4,0))","v":"p"},0,{"$f":"IF(N227=\"\",0,VLOOKUP(N227,Ville!$A$3:$E$40,3,0))","v":"00:00:00"},null,5,null,null,null,null,null,null,null,5,5,{"$f":"IF(N227=\"\",\"\",VLOOKUP(N227,Ville!$A$3:$E$40,2,0))","v":0},null,null,null,null,null,null,null,null,null,null,null,null,null,null,0,null,null,"","","",""]
[null,null,null,null,null,null,2010,{"$f":"IF(K228=\"\",\"\",VLOOKUP(I228,'Suiv Contr '!$D$14:$E$25,2))","v":"octobre"},10,3,"2010-10-20","Germain","Fains les Montbard","Fains les Montbard",null,null,{"$f":"IF(N228=\"\",\"\",VLOOKUP(N228,Ville!$A$3:$E$40,4,0))","v":"sp"},0,{"$f":"IF(N228=\"\",0,VLOOKUP(N228,Ville!$A$3:$E$40,3,0))","v":"03:30:00"},null,9,2,null,null,null,1,null,null,11,11,{"$f":"IF(N228=\"\",\"\",VLOOKUP(N228,Ville!$A$3:$E$40,2,0))","v":366},null,null,null,null,null,null,null,null,null,null,null,null,null,null,0,null,null,"","","",1]
[null,null,null,null,null,null,2010,{"$f":"IF(K229=\"\",\"\",VLOOKUP(I229,'Suiv Contr '!$D$14:$E$25,2))","v":"octobre"},10,4,"2010-10-21","Germain","Champagnole","Champagnole",null,null,{"$f":"IF(N229=\"\",\"\",VLOOKUP(N229,Ville!$A$3:$E$40,4,0))","v":"p"},0,{"$f":"IF(N229=\"\",0,VLOOKUP(N229,Ville!$A$3:$E$40,3,0))","v":"00:00:00"},null,2,null,1,null,null,null,null,null,3,3,{"$f":"IF(N229=\"\",\"\",VLOOKUP(N229,Ville!$A$3:$E$40,2,0))","v":0},null,null,null,null,null,null,null,null,null,null,null,null,null,null,0,null,null,"","","",""]
[null,null,null,null,null,null,2010,{"$f":"IF(K230=\"\",\"\",VLOOKUP(I230,'Suiv Contr '!$D$14:$E$25,2))","v":"octobre"},10,5,"2010-10-22","Germain","Champagnole","Champagnole",null,null,{"$f":"IF(N230=\"\",\"\",VLOOKUP(N230,Ville!$A$3:$E$40,4,0))","v":"p"},0,{"$f":"IF(N230=\"\",0,VLOOKUP(N230,Ville!$A$3:$E$40,3,0))","v":"00:00:00"},null,8,null,1,null,null,1,1,null,9,9,{"$f":"IF(N230=\"\",\"\",VLOOKUP(N230,Ville!$A$3:$E$40,2,0))","v":0},null,null,null,null,null,null,null,null,null,null,null,null,null,null,0,null,null,"","","",""]
[null,null,null,null,null,null,2010,{"$f":"IF(K231=\"\",\"\",VLOOKUP(I231,'Suiv Contr '!$D$14:$E$25,2))","v":"octobre"},10,1,"2010-10-25","Germain","Meythet","Meythet",null,null,{"$f":"IF(N231=\"\",\"\",VLOOKUP(N231,Ville!$A$3:$E$40,4,0))","v":"ca"},0,{"$f":"IF(N231=\"\",0,VLOOKUP(N231,Ville!$A$3:$E$40,3,0))","v":"04:20:00"},null,5,null,null,null,1,null,1,null,5,6,{"$f":"IF(N231=\"\",\"\",VLOOKUP(N231,Ville!$A$3:$E$40,2,0))","v":298},null,null,null,null,null,null,null,null,null,null,null,null,null,null,0,null,null,"","","",1]
[null,null,null,null,null,null,2010,{"$f":"IF(K232=\"\",\"\",VLOOKUP(I232,'Suiv Contr '!$D$14:$E$25,2))","v":"octobre"},10,2,"2010-10-26","Germain","Champagnole","Champagnole",null,null,{"$f":"IF(N232=\"\",\"\",VLOOKUP(N232,Ville!$A$3:$E$40,4,0))","v":"p"},0,{"$f":"IF(N232=\"\",0,VLOOKUP(N232,Ville!$A$3:$E$40,3,0))","v":"00:00:00"},null,6,2,null,null,null,1,1,null,8,8,{"$f":"IF(N232=\"\",\"\",VLOOKUP(N232,Ville!$A$3:$E$40,2,0))","v":0},null,null,null,null,null,null,null,null,null,null,null,null,null,null,0,null,null,"","","",""]
[null,null,null,null,null,null,2010,{"$f":"IF(K233=\"\",\"\",VLOOKUP(I233,'Suiv Contr '!$D$14:$E$25,2))","v":"octobre"},10,3,"2010-10-27","Germain","Fains les Montbard","Fains les Montbard",null,null,{"$f":"IF(N233=\"\",\"\",VLOOKUP(N233,Ville!$A$3:$E$40,4,0))","v":"sp"},0,{"$f":"IF(N233=\"\",0,VLOOKUP(N233,Ville!$A$3:$E$40,3,0))","v":"03:30:00"},null,6,null,null,null,null,null,null,null,6,6,{"$f":"IF(N233=\"\",\"\",VLOOKUP(N233,Ville!$A$3:$E$40,2,0))","v":366},null,null,null,null,null,null,null,null,null,null,null,null,null,null,0,null,null,"","","",1]
[null,null,null,null,null,null,2010,{"$f":"IF(K234=\"\",\"\",VLOOKUP(I234,'Suiv Contr '!$D$14:$E$25,2))","v":"octobre"},10,4,"2010-10-28","Germain","Champagnole","Champagnole",null,null,{"$f":"IF(N234=\"\",\"\",VLOOKUP(N234,Ville!$A$3:$E$40,4,0))","v":"p"},0,{"$f":"IF(N234=\"\",0,VLOOKUP(N234,Ville!$A$3:$E$40,3,0))","v":"00:00:00"},null,6,null,null,null,null,null,null,null,6,6,{"$f":"IF(N234=\"\",\"\",VLOOKUP(N234,Ville!$A$3:$E$40,2,0))","v":0},null,null,null,null,null,null,null,null,null,null,null,null,null,null,0,null,null,"","","",""]
[null,null,null,null,null,null,2010,{"$f":"IF(K235=\"\",\"\",VLOOKUP(I235,'Suiv Contr '!$D$14:$E$25,2))","v":"octobre"},10,5,"2010-10-29","Germain","Champagnole","Champagnole",null,null,{"$f":"IF(N235=\"\",\"\",VLOOKUP(N235,Ville!$A$3:$E$40,4,0))","v":"p"},0,{"$f":"IF(N235=\"\",0,VLOOKUP(N235,Ville!$A$3:$E$40,3,0))","v":"00:00:00"},null,6,null,null,null,null,null,null,null,6,6,{"$f":"IF(N235=\"\",\"\",VLOOKUP(N235,Ville!$A$3:$E$40,2,0))","v":0},null,null,null,null,null,null,null,null,null,null,null,null,null,null,0,null,null,"","","",""]
[null,null,null,null,null,null,2010,{"$f":"IF(K236=\"\",\"\",VLOOKUP(I236,'Suiv Contr '!$D$14:$E$25,2))","v":"novembre"},11,1,"2010-11-01","FERIE","00:00:00",null,null,null,{"$f":"IF(N236=\"\",\"\",VLOOKUP(N236,Ville!$A$3:$E$40,4,0))","v":""},0,{"$f":"IF(N236=\"\",0,VLOOKUP(N236,Ville!$A$3:$E$40,3,0))","v":"00:00:00"},null,null,null,null,null,null,null,null,null,0,0,{"$f":"IF(N236=\"\",\"\",VLOOKUP(N236,Ville!$A$3:$E$40,2,0))","v":""},null,null,null,null,null,null,null,null,null,null,null,null,null,null,0,null,null,"","","",""]
[null,null,null,null,null,null,2010,{"$f":"IF(K237=\"\",\"\",VLOOKUP(I237,'Suiv Contr '!$D$14:$E$25,2))","v":"novembre"},11,2,"2010-11-02","Germain","Champagnole","Champagnole",null,null,{"$f":"IF(N237=\"\",\"\",VLOOKUP(N237,Ville!$A$3:$E$40,4,0))","v":"p"},0,{"$f":"IF(N237=\"\",0,VLOOKUP(N237,Ville!$A$3:$E$40,3,0))","v":"00:00:00"},null,3,null,null,null,1,1,null,null,3,4,{"$f":"IF(N237=\"\",\"\",VLOOKUP(N237,Ville!$A$3:$E$40,2,0))","v":0},null,null,null,null,null,null,null,null,null,null,null,null,null,null,0,null,null,"","","",""]
[null,null,null,null,null,null,2010,{"$f":"IF(K238=\"\",\"\",VLOOKUP(I238,'Suiv Contr '!$D$14:$E$25,2))","v":"novembre"},11,3,"2010-11-03","Germain","Fains les Montbard","Fains les Montbard",null,null,{"$f":"IF(N238=\"\",\"\",VLOOKUP(N238,Ville!$A$3:$E$40,4,0))","v":"sp"},0,{"$f":"IF(N238=\"\",0,VLOOKUP(N238,Ville!$A$3:$E$40,3,0))","v":"03:30:00"},null,6,null,null,null,null,null,null,null,6,6,{"$f":"IF(N238=\"\",\"\",VLOOKUP(N238,Ville!$A$3:$E$40,2,0))","v":366},null,null,null,null,null,null,null,null,null,null,null,null,null,null,0,null,null,"","","",1]
[null,null,null,null,null,null,2010,{"$f":"IF(K239=\"\",\"\",VLOOKUP(I239,'Suiv Contr '!$D$14:$E$25,2))","v":"novembre"},11,4,"2010-11-04","Germain","Cordesse","Cordesse",null,null,{"$f":"IF(N239=\"\",\"\",VLOOKUP(N239,Ville!$A$3:$E$40,4,0))","v":"ca"},0,{"$f":"IF(N239=\"\",0,VLOOKUP(N239,Ville!$A$3:$E$40,3,0))","v":"03:10:00"},null,8,null,1,null,4,1,1,null,9,13,{"$f":"IF(N239=\"\",\"\",VLOOKUP(N239,Ville!$A$3:$E$40,2,0))","v":340},null,null,null,null,null,null,null,null,null,null,null,null,null,null,0,null,null,"","","",1]
[null,null,null,null,null,null,2010,{"$f":"IF(K240=\"\",\"\",VLOOKUP(I240,'Suiv Contr '!$D$14:$E$25,2))","v":"novembre"},11,5,"2010-11-05","Germain","Champagnole","Champagnole",null,null,{"$f":"IF(N240=\"\",\"\",VLOOKUP(N240,Ville!$A$3:$E$40,4,0))","v":"p"},0,{"$f":"IF(N240=\"\",0,VLOOKUP(N240,Ville!$A$3:$E$40,3,0))","v":"00:00:00"},null,9,null,null,null,1,1,1,null,9,10,{"$f":"IF(N240=\"\",\"\",VLOOKUP(N240,Ville!$A$3:$E$40,2,0))","v":0},null,null,null,null,null,null,null,null,null,null,null,null,null,null,0,null,null,"","","",""]
[null,null,null,null,null,null,2010,{"$f":"IF(K241=\"\",\"\",VLOOKUP(I241,'Suiv Contr '!$D$14:$E$25,2))","v":"novembre"},11,1,"2010-11-08","Germain","Fains les Montbard","Fains les Montbard",null,null,{"$f":"IF(N241=\"\",\"\",VLOOKUP(N241,Ville!$A$3:$E$40,4,0))","v":"sp"},0,{"$f":"IF(N241=\"\",0,VLOOKUP(N241,Ville!$A$3:$E$40,3,0))","v":"03:30:00"},null,7,null,null,null,1,1,null,null,7,8,{"$f":"IF(N241=\"\",\"\",VLOOKUP(N241,Ville!$A$3:$E$40,2,0))","v":366},null,null,null,null,null,null,null,null,null,null,null,null,null,null,0,null,null,"","","",1]
[null,null,null,null,null,null,2010,{"$f":"IF(K242=\"\",\"\",VLOOKUP(I242,'Suiv Contr '!$D$14:$E$25,2))","v":"novembre"},11,2,"2010-11-09","Germain","Champagnole","Champagnole",null,null,{"$f":"IF(N242=\"\",\"\",VLOOKUP(N242,Ville!$A$3:$E$40,4,0))","v":"p"},0,{"$f":"IF(N242=\"\",0,VLOOKUP(N242,Ville!$A$3:$E$40,3,0))","v":"00:00:00"},null,9,4,null,null,null,null,null,null,13,13,{"$f":"IF(N242=\"\",\"\",VLOOKUP(N242,Ville!$A$3:$E$40,2,0))","v":0},null,null,null,null,null,null,null,null,null,null,null,null,null,null,0,null,null,"","","",""]
[null,null,null,null,null,null,2010,{"$f":"IF(K243=\"\",\"\",VLOOKUP(I243,'Suiv Contr '!$D$14:$E$25,2))","v":"novembre"},11,3,"2010-11-10","Germain","Besançon sp","Besançon sp",null,null,{"$f":"IF(N243=\"\",\"\",VLOOKUP(N243,Ville!$A$3:$E$40,4,0))","v":"sp"},0,{"$f":"IF(N243=\"\",0,VLOOKUP(N243,Ville!$A$3:$E$40,3,0))","v":"01:50:00"},null,7,4,null,null,null,null,1,null,11,11,{"$f":"IF(N243=\"\",\"\",VLOOKUP(N243,Ville!$A$3:$E$40,2,0))","v":152},null,null,null,null,null,null,null,null,null,null,null,null,null,null,0,null,null,"","","",1]
[null,null,null,null,null,null,2010,{"$f":"IF(K244=\"\",\"\",VLOOKUP(I244,'Suiv Contr '!$D$14:$E$25,2))","v":"novembre"},11,4,"2010-11-11","FERIE","00:00:00",null,null,null,{"$f":"IF(N244=\"\",\"\",VLOOKUP(N244,Ville!$A$3:$E$40,4,0))","v":""},0,{"$f":"IF(N244=\"\",0,VLOOKUP(N244,Ville!$A$3:$E$40,3,0))","v":"00:00:00"},null,null,null,null,null,null,null,null,null,0,0,{"$f":"IF(N244=\"\",\"\",VLOOKUP(N244,Ville!$A$3:$E$40,2,0))","v":""},null,null,null,null,null,null,null,null,null,null,null,null,null,null,0,null,null,"","","",""]
[null,null,null,null,null,null,2010,{"$f":"IF(K245=\"\",\"\",VLOOKUP(I245,'Suiv Contr '!$D$14:$E$25,2))","v":"novembre"},11,5,"2010-11-12","Germain","00:00:00",null,null,null,"v",1,{"$f":"IF(N245=\"\",0,VLOOKUP(N245,Ville!$A$3:$E$40,3,0))","v":"00:00:00"},null,null,null,null,null,null,null,null,null,0,0,{"$f":"IF(N245=\"\",\"\",VLOOKUP(N245,Ville!$A$3:$E$40,2,0))","v":""},null,null,null,null,null,null,null,null,null,null,null,null,null,null,0,null,null,"",3,"",""]
[null,null,null,null,null,null,2010,{"$f":"IF(K246=\"\",\"\",VLOOKUP(I246,'Suiv Contr '!$D$14:$E$25,2))","v":"novembre"},11,1,"2010-11-15","Germain","Fains les Montbard","Fains les Montbard",null,null,{"$f":"IF(N246=\"\",\"\",VLOOKUP(N246,Ville!$A$3:$E$40,4,0))","v":"sp"},0,{"$f":"IF(N246=\"\",0,VLOOKUP(N246,Ville!$A$3:$E$40,3,0))","v":"03:30:00"},null,9,3,null,null,1,1,1,null,12,13,{"$f":"IF(N246=\"\",\"\",VLOOKUP(N246,Ville!$A$3:$E$40,2,0))","v":366},null,null,null,null,null,null,null,null,null,null,null,null,null,null,0,null,null,"","","",1]
[null,null,null,null,null,null,2010,{"$f":"IF(K247=\"\",\"\",VLOOKUP(I247,'Suiv Contr '!$D$14:$E$25,2))","v":"novembre"},11,2,"2010-11-16","Germain","Champagnole","Champagnole",null,null,{"$f":"IF(N247=\"\",\"\",VLOOKUP(N247,Ville!$A$3:$E$40,4,0))","v":"p"},0,{"$f":"IF(N247=\"\",0,VLOOKUP(N247,Ville!$A$3:$E$40,3,0))","v":"00:00:00"},null,9,1,null,null,null,null,null,null,10,10,{"$f":"IF(N247=\"\",\"\",VLOOKUP(N247,Ville!$A$3:$E$40,2,0))","v":0},null,null,null,null,null,null,null,null,null,null,null,null,null,null,0,null,null,"","","",""]
[null,null,null,null,null,null,2010,{"$f":"IF(K248=\"\",\"\",VLOOKUP(I248,'Suiv Contr '!$D$14:$E$25,2))","v":"novembre"},11,3,"2010-11-17","Germain","Thann","Thann",null,null,{"$f":"IF(N248=\"\",\"\",VLOOKUP(N248,Ville!$A$3:$E$40,4,0))","v":"ca"},0,{"$f":"IF(N248=\"\",0,VLOOKUP(N248,Ville!$A$3:$E$40,3,0))","v":"04:30:00"},null,3,null,4,null,null,null,null,null,7,7,{"$f":"IF(N248=\"\",\"\",VLOOKUP(N248,Ville!$A$3:$E$40,2,0))","v":402},null,null,null,null,null,null,null,null,null,null,null,null,null,null,0,null,null,"","","",1]
[null,null,null,null,null,null,2010,{"$f":"IF(K249=\"\",\"\",VLOOKUP(I249,'Suiv Contr '!$D$14:$E$25,2))","v":"novembre"},11,4,"2010-11-18","Germain","Champagnole","Champagnole",null,null,{"$f":"IF(N249=\"\",\"\",VLOOKUP(N249,Ville!$A$3:$E$40,4,0))","v":"p"},0,{"$f":"IF(N249=\"\",0,VLOOKUP(N249,Ville!$A$3:$E$40,3,0))","v":"00:00:00"},null,7,null,null,null,1,1,null,null,7,8,{"$f":"IF(N249=\"\",\"\",VLOOKUP(N249,Ville!$A$3:$E$40,2,0))","v":0},null,null,null,null,null,null,null,null,null,null,null,null,null,null,0,null,null,"","","",""]
[null,null,null,null,null,null,2010,{"$f":"IF(K250=\"\",\"\",VLOOKUP(I250,'Suiv Contr '!$D$14:$E$25,2))","v":"novembre"},11,5,"2010-11-19","Germain","Champagnole","Champagnole",null,null,{"$f":"IF(N250=\"\",\"\",VLOOKUP(N250,Ville!$A$3:$E$40,4,0))","v":"p"},0,{"$f":"IF(N250=\"\",0,VLOOKUP(N250,Ville!$A$3:$E$40,3,0))","v":"00:00:00"},null,8,1,null,null,1,null,null,null,9,10,{"$f":"IF(N250=\"\",\"\",VLOOKUP(N250,Ville!$A$3:$E$40,2,0))","v":0},null,null,null,null,null,null,null,null,null,null,null,null,null,null,0,null,null,"","","",""]
[null,null,null,null,null,null,2010,{"$f":"IF(K251=\"\",\"\",VLOOKUP(I251,'Suiv Contr '!$D$14:$E$25,2))","v":"novembre"},11,1,"2010-11-22","Germain","Meythet","Meythet",null,null,{"$f":"IF(N251=\"\",\"\",VLOOKUP(N251,Ville!$A$3:$E$40,4,0))","v":"ca"},0,{"$f":"IF(N251=\"\",0,VLOOKUP(N251,Ville!$A$3:$E$40,3,0))","v":"04:20:00"},null,5,null,2,null,1,null,null,null,7,8,{"$f":"IF(N251=\"\",\"\",VLOOKUP(N251,Ville!$A$3:$E$40,2,0))","v":298},null,null,null,null,null,null,null,null,null,null,null,null,null,null,0,null,null,"","","",1]
[null,null,null,null,null,null,2010,{"$f":"IF(K252=\"\",\"\",VLOOKUP(I252,'Suiv Contr '!$D$14:$E$25,2))","v":"novembre"},11,2,"2010-11-23","Germain","Champagnole","Champagnole",null,null,{"$f":"IF(N252=\"\",\"\",VLOOKUP(N252,Ville!$A$3:$E$40,4,0))","v":"p"},0,{"$f":"IF(N252=\"\",0,VLOOKUP(N252,Ville!$A$3:$E$40,3,0))","v":"00:00:00"},null,4,null,null,null,null,1,2,null,4,4,{"$f":"IF(N252=\"\",\"\",VLOOKUP(N252,Ville!$A$3:$E$40,2,0))","v":0},null,null,null,null,null,null,null,null,null,null,null,null,null,null,0,null,null,"","","",""]
[null,null,null,null,null,null,2010,{"$f":"IF(K253=\"\",\"\",VLOOKUP(I253,'Suiv Contr '!$D$14:$E$25,2))","v":"novembre"},11,3,"2010-11-24","Germain","Fains les Montbard","Fains les Montbard",null,null,{"$f":"IF(N253=\"\",\"\",VLOOKUP(N253,Ville!$A$3:$E$40,4,0))","v":"sp"},0,{"$f":"IF(N253=\"\",0,VLOOKUP(N253,Ville!$A$3:$E$40,3,0))","v":"03:30:00"},null,7,null,null,null,1,null,null,null,7,8,{"$f":"IF(N253=\"\",\"\",VLOOKUP(N253,Ville!$A$3:$E$40,2,0))","v":366},null,null,null,null,null,null,null,null,null,null,null,null,null,null,0,null,null,"","","",1]
[null,null,null,null,null,null,2010,{"$f":"IF(K254=\"\",\"\",VLOOKUP(I254,'Suiv Contr '!$D$14:$E$25,2))","v":"novembre"},11,4,"2010-11-25","Germain","Champagnole","Champagnole",null,null,{"$f":"IF(N254=\"\",\"\",VLOOKUP(N254,Ville!$A$3:$E$40,4,0))","v":"p"},0,{"$f":"IF(N254=\"\",0,VLOOKUP(N254,Ville!$A$3:$E$40,3,0))","v":"00:00:00"},null,6,2,null,null,2,2,null,null,8,10,{"$f":"IF(N254=\"\",\"\",VLOOKUP(N254,Ville!$A$3:$E$40,2,0))","v":0},null,null,null,null,null,null,null,null,null,null,null,null,null,null,0,null,null,"","","",""]
[null,null,null,null,null,null,2010,{"$f":"IF(K255=\"\",\"\",VLOOKUP(I255,'Suiv Contr '!$D$14:$E$25,2))","v":"novembre"},11,5,"2010-11-26","Germain","Champagnole","Champagnole",null,null,{"$f":"IF(N255=\"\",\"\",VLOOKUP(N255,Ville!$A$3:$E$40,4,0))","v":"p"},0,{"$f":"IF(N255=\"\",0,VLOOKUP(N255,Ville!$A$3:$E$40,3,0))","v":"00:00:00"},null,6,3,null,null,1,2,null,null,9,10,{"$f":"IF(N255=\"\",\"\",VLOOKUP(N255,Ville!$A$3:$E$40,2,0))","v":0},null,null,null,null,null,null,null,null,null,null,null,null,null,null,0,null,null,"","","",""]
[null,null,null,null,null,null,2010,{"$f":"IF(K256=\"\",\"\",VLOOKUP(I256,'Suiv Contr '!$D$14:$E$25,2))","v":"novembre"},11,1,"2010-11-29","Germain","Fains les Montbard","Fains les Montbard",null,null,{"$f":"IF(N256=\"\",\"\",VLOOKUP(N256,Ville!$A$3:$E$40,4,0))","v":"sp"},0,{"$f":"IF(N256=\"\",0,VLOOKUP(N256,Ville!$A$3:$E$40,3,0))","v":"03:30:00"},null,8,1,null,null,1,2,null,null,9,10,{"$f":"IF(N256=\"\",\"\",VLOOKUP(N256,Ville!$A$3:$E$40,2,0))","v":366},null,null,null,null,null,null,null,null,null,null,null,null,null,null,0,null,null,{"$f":"IF(K256=$B$2,1,\"\")","v":""},"","",1]
[null,null,null,null,null,null,2010,{"$f":"IF(K257=\"\",\"\",VLOOKUP(I257,'Suiv Contr '!$D$14:$E$25,2))","v":"novembre"},11,2,"2010-11-30","Germain","Champagnole","Champagnole",null,null,{"$f":"IF(N259=\"\",\"\",VLOOKUP(N259,Ville!$A$3:$E$40,4,0))","v":"p"},0,{"$f":"IF(N259=\"\",0,VLOOKUP(N259,Ville!$A$3:$E$40,3,0))","v":"00:00:00"},null,1,null,null,null,1,null,null,null,1,2,{"$f":"IF(N259=\"\",\"\",VLOOKUP(N259,Ville!$A$3:$E$40,2,0))","v":0},null,null,null,null,null,null,null,null,null,null,null,null,null,null,0,null,null,"","","",""]
[null,null,null,null,null,null,2010,{"$f":"IF(K258=\"\",\"\",VLOOKUP(I258,'Suiv Contr '!$D$14:$E$25,2))","v":"décembre"},12,3,"2010-12-01","Germain","Thann","Thann",null,null,{"$f":"IF(N258=\"\",\"\",VLOOKUP(N258,Ville!$A$3:$E$40,4,0))","v":"ca"},0,{"$f":"IF(N258=\"\",0,VLOOKUP(N258,Ville!$A$3:$E$40,3,0))","v":"04:30:00"},null,2,null,3,null,null,1,1,null,5,5,{"$f":"IF(N258=\"\",\"\",VLOOKUP(N258,Ville!$A$3:$E$40,2,0))","v":402},null,null,null,null,null,null,null,null,null,null,null,null,null,null,0,null,null,"","","",1]
[null,null,null,null,null,null,2010,{"$f":"IF(K259=\"\",\"\",VLOOKUP(I259,'Suiv Contr '!$D$14:$E$25,2))","v":"décembre"},12,4,"2010-12-02","Germain","Champagnole","Champagnole",null,null,{"$f":"IF(N259=\"\",\"\",VLOOKUP(N259,Ville!$A$3:$E$40,4,0))","v":"p"},0,{"$f":"IF(N259=\"\",0,VLOOKUP(N259,Ville!$A$3:$E$40,3,0))","v":"00:00:00"},null,4,1,null,null,null,1,null,null,5,5,{"$f":"IF(N259=\"\",\"\",VLOOKUP(N259,Ville!$A$3:$E$40,2,0))","v":0},null,null,null,null,null,null,null,null,null,null,null,null,null,null,0,null,null,"","","",""]
[null,null,null,null,null,null,2010,{"$f":"IF(K260=\"\",\"\",VLOOKUP(I260,'Suiv Contr '!$D$14:$E$25,2))","v":"décembre"},12,5,"2010-12-03","Germain","Champagnole","Champagnole",null,null,{"$f":"IF(N260=\"\",\"\",VLOOKUP(N260,Ville!$A$3:$E$40,4,0))","v":"p"},0,{"$f":"IF(N260=\"\",0,VLOOKUP(N260,Ville!$A$3:$E$40,3,0))","v":"00:00:00"},null,2,1,null,null,null,1,null,null,3,3,{"$f":"IF(N260=\"\",\"\",VLOOKUP(N260,Ville!$A$3:$E$40,2,0))","v":0},null,null,null,null,null,null,null,null,null,null,null,null,null,null,0,null,null,"",{"$f":"IF(Q260=\"v\",3,\"\")","v":""},{"$f":"IF(Q260=\"rec\",2,\"\")","v":""},""]
[null,null,null,null,null,null,2010,{"$f":"IF(K261=\"\",\"\",VLOOKUP(I261,'Suiv Contr '!$D$14:$E$25,2))","v":"décembre"},12,1,"2010-12-06","Germain","Champagnole","Champagnole",null,null,{"$f":"IF(N261=\"\",\"\",VLOOKUP(N261,Ville!$A$3:$E$40,4,0))","v":"p"},0,{"$f":"IF(N261=\"\",0,VLOOKUP(N261,Ville!$A$3:$E$40,3,0))","v":"00:00:00"},null,null,null,null,null,null,null,null,null,0,0,{"$f":"IF(N261=\"\",\"\",VLOOKUP(N261,Ville!$A$3:$E$40,2,0))","v":0},null,null,null,null,null,null,null,null,null,null,null,null,null,null,0,null,null,"","","",""]
[null,null,null,null,null,null,2010,{"$f":"IF(K262=\"\",\"\",VLOOKUP(I262,'Suiv Contr '!$D$14:$E$25,2))","v":"décembre"},12,2,"2010-12-07","Germain","Champagnole","Champagnole",null,null,{"$f":"IF(N262=\"\",\"\",VLOOKUP(N262,Ville!$A$3:$E$40,4,0))","v":"p"},0,{"$f":"IF(N262=\"\",0,VLOOKUP(N262,Ville!$A$3:$E$40,3,0))","v":"00:00:00"},null,7,1,null,null,null,null,null,null,8,8,{"$f":"IF(N262=\"\",\"\",VLOOKUP(N262,Ville!$A$3:$E$40,2,0))","v":0},null,null,null,null,null,null,null,null,null,null,null,null,null,null,0,null,null,"","","",""]
[null,null,null,null,null,null,2010,{"$f":"IF(K263=\"\",\"\",VLOOKUP(I263,'Suiv Contr '!$D$14:$E$25,2))","v":"décembre"},12,3,"2010-12-08","Germain","Thann","Thann",null,null,{"$f":"IF(N263=\"\",\"\",VLOOKUP(N263,Ville!$A$3:$E$40,4,0))","v":"ca"},0,{"$f":"IF(N263=\"\",0,VLOOKUP(N263,Ville!$A$3:$E$40,3,0))","v":"04:30:00"},null,2,null,6,null,null,null,1,null,8,8,{"$f":"IF(N263=\"\",\"\",VLOOKUP(N263,Ville!$A$3:$E$40,2,0))","v":402},null,null,null,null,null,null,null,null,null,null,null,null,null,null,0,null,null,"","","",1]
[null,null,null,null,null,null,2010,{"$f":"IF(K264=\"\",\"\",VLOOKUP(I264,'Suiv Contr '!$D$14:$E$25,2))","v":"décembre"},12,4,"2010-12-09","Germain","Cordesse","Cordesse",null,null,{"$f":"IF(N264=\"\",\"\",VLOOKUP(N264,Ville!$A$3:$E$40,4,0))","v":"ca"},0,{"$f":"IF(N264=\"\",0,VLOOKUP(N264,Ville!$A$3:$E$40,3,0))","v":"03:10:00"},null,9,2,null,null,2,1,null,null,11,13,{"$f":"IF(N264=\"\",\"\",VLOOKUP(N264,Ville!$A$3:$E$40,2,0))","v":340},null,null,null,null,null,null,null,null,null,null,null,null,null,null,0,null,null,"","","",1]
[null,null,null,null,null,null,2010,{"$f":"IF(K265=\"\",\"\",VLOOKUP(I265,'Suiv Contr '!$D$14:$E$25,2))","v":"décembre"},12,5,"2010-12-10","Germain","Champagnole","Champagnole",null,null,{"$f":"IF(N265=\"\",\"\",VLOOKUP(N265,Ville!$A$3:$E$40,4,0))","v":"p"},0,{"$f":"IF(N265=\"\",0,VLOOKUP(N265,Ville!$A$3:$E$40,3,0))","v":"00:00:00"},null,6,1,null,null,null,null,null,null,7,7,{"$f":"IF(N265=\"\",\"\",VLOOKUP(N265,Ville!$A$3:$E$40,2,0))","v":0},null,null,null,null,null,null,null,null,null,null,null,null,null,null,0,null,null,"","","",""]
[null,null,null,null,null,null,2010,{"$f":"IF(K266=\"\",\"\",VLOOKUP(I266,'Suiv Contr '!$D$14:$E$25,2))","v":"décembre"},12,1,"2010-12-13","Germain","Besançon iax","Besançon iax",null,null,{"$f":"IF(N266=\"\",\"\",VLOOKUP(N266,Ville!$A$3:$E$40,4,0))","v":"ca"},0,{"$f":"IF(N266=\"\",0,VLOOKUP(N266,Ville!$A$3:$E$40,3,0))","v":"01:50:00"},null,3,null,null,null,2,null,null,null,3,5,{"$f":"IF(N266=\"\",\"\",VLOOKUP(N266,Ville!$A$3:$E$40,2,0))","v":132},null,null,null,null,null,null,null,null,null,null,null,null,null,null,0,null,null,"","","",1]
[null,null,null,null,null,null,2010,{"$f":"IF(K267=\"\",\"\",VLOOKUP(I267,'Suiv Contr '!$D$14:$E$25,2))","v":"décembre"},12,2,"2010-12-14","Germain","Champagnole","Champagnole",null,null,{"$f":"IF(N267=\"\",\"\",VLOOKUP(N267,Ville!$A$3:$E$40,4,0))","v":"p"},0,{"$f":"IF(N267=\"\",0,VLOOKUP(N267,Ville!$A$3:$E$40,3,0))","v":"00:00:00"},null,1,1,null,null,1,null,null,null,2,3,{"$f":"IF(N267=\"\",\"\",VLOOKUP(N267,Ville!$A$3:$E$40,2,0))","v":0},null,null,null,null,null,null,null,null,null,null,null,null,null,null,0,null,null,"","","",""]
[null,null,null,null,null,null,2010,{"$f":"IF(K268=\"\",\"\",VLOOKUP(I268,'Suiv Contr '!$D$14:$E$25,2))","v":"décembre"},12,3,"2010-12-15","Germain","Belley","Belley",null,null,{"$f":"IF(N268=\"\",\"\",VLOOKUP(N268,Ville!$A$3:$E$40,4,0))","v":"ca"},0,{"$f":"IF(N268=\"\",0,VLOOKUP(N268,Ville!$A$3:$E$40,3,0))","v":"03:40:00"},null,2,2,null,null,null,null,1,null,4,4,{"$f":"IF(N268=\"\",\"\",VLOOKUP(N268,Ville!$A$3:$E$40,2,0))","v":330},null,null,null,null,null,null,null,null,null,null,null,null,null,null,0,null,null,"","","",1]
[null,null,null,null,null,null,{"$f":"IF(K269=\"\",\"\",YEAR(K269))","v":2010},{"$f":"IF(K269=\"\",\"\",VLOOKUP(I269,'Suiv Contr '!$D$14:$E$25,2))","v":"décembre"},{"$f":"IF(K269=\"\",\"\",MONTH(K269))","v":12},{"$f":"IF(K269=\"\",\"\",WEEKDAY(K269,2))","v":4},"2010-12-16","Germain","Champagnole","Champagnole",null,null,{"$f":"IF(N269=\"\",\"\",VLOOKUP(N269,Ville!$A$3:$E$40,4,0))","v":"p"},0,{"$f":"IF(N269=\"\",0,VLOOKUP(N269,Ville!$A$3:$E$40,3,0))","v":"00:00:00"},null,5,1,null,null,1,null,null,null,6,7,{"$f":"IF(N269=\"\",\"\",VLOOKUP(N269,Ville!$A$3:$E$40,2,0))","v":0},null,null,null,null,null,null,null,null,null,null,null,null,null,null,0,null,null,"","","",{"$f":"IF(OR(N269=\"champagnole\",N269=\"\"),\"\",1)","v":""}]
[null,null,null,null,null,null,2010,{"$f":"IF(K270=\"\",\"\",VLOOKUP(I270,'Suiv Contr '!$D$14:$E$25,2))","v":"décembre"},12,5,"2010-12-17","Germain",{"$f":"N270","v":"Champagnole"},"Champagnole",null,null,{"$f":"IF(N270=\"\",\"\",VLOOKUP(N270,Ville!$A$3:$E$40,4,0))","v":"p"},{"$f":"IF(Q270=\"v\",1,0)","v":0},{"$f":"IF(N270=\"\",0,VLOOKUP(N270,Ville!$A$3:$E$40,3,0))","v":"00:00:00"},null,3,null,null,null,null,null,null,null,3,3,{"$f":"IF(N270=\"\",\"\",VLOOKUP(N270,Ville!$A$3:$E$40,2,0))","v":0},null,null,null,null,null,null,null,null,null,null,null,null,null,null,{"$f":"SUM(AH270:AS270)","v":0},null,null,"","","",""]
[null,null,null,null,null,null,2010,{"$f":"IF(K271=\"\",\"\",VLOOKUP(I271,'Suiv Contr '!$D$14:$E$25,2))","v":"décembre"},12,1,"2010-12-20","Germain","Meythet","Meythet",null,null,{"$f":"IF(N271=\"\",\"\",VLOOKUP(N271,Ville!$A$3:$E$40,4,0))","v":"ca"},0,{"$f":"IF(N271=\"\",0,VLOOKUP(N271,Ville!$A$3:$E$40,3,0))","v":"04:20:00"},null,5,null,null,null,null,null,null,null,5,5,{"$f":"IF(N271=\"\",\"\",VLOOKUP(N271,Ville!$A$3:$E$40,2,0))","v":298},null,null,null,null,null,null,null,null,null,null,null,null,null,null,0,null,null,"","","",1]
[null,null,null,null,null,null,2010,{"$f":"IF(K272=\"\",\"\",VLOOKUP(I272,'Suiv Contr '!$D$14:$E$25,2))","v":"décembre"},12,2,"2010-12-21","Germain","Champagnole","Champagnole",null,null,{"$f":"IF(N272=\"\",\"\",VLOOKUP(N272,Ville!$A$3:$E$40,4,0))","v":"p"},0,{"$f":"IF(N272=\"\",0,VLOOKUP(N272,Ville!$A$3:$E$40,3,0))","v":"00:00:00"},null,5,3,null,null,null,null,null,null,8,8,{"$f":"IF(N272=\"\",\"\",VLOOKUP(N272,Ville!$A$3:$E$40,2,0))","v":0},null,null,null,null,null,null,null,null,null,null,null,null,null,null,0,null,null,"","","",""]
[null,null,null,null,null,null,2010,{"$f":"IF(K273=\"\",\"\",VLOOKUP(I273,'Suiv Contr '!$D$14:$E$25,2))","v":"décembre"},12,3,"2010-12-22","Germain","Champagnole","Champagnole",null,null,{"$f":"IF(N273=\"\",\"\",VLOOKUP(N273,Ville!$A$3:$E$40,4,0))","v":"p"},0,{"$f":"IF(N273=\"\",0,VLOOKUP(N273,Ville!$A$3:$E$40,3,0))","v":"00:00:00"},null,4,3,null,null,null,null,null,null,7,7,{"$f":"IF(N273=\"\",\"\",VLOOKUP(N273,Ville!$A$3:$E$40,2,0))","v":0},null,null,null,null,null,null,null,null,null,null,null,null,null,null,0,null,null,"","","",""]
[null,null,null,null,null,null,2010,{"$f":"IF(K274=\"\",\"\",VLOOKUP(I274,'Suiv Contr '!$D$14:$E$25,2))","v":"décembre"},12,4,"2010-12-23","Germain","Cordesse","Cordesse",null,null,{"$f":"IF(N274=\"\",\"\",VLOOKUP(N274,Ville!$A$3:$E$40,4,0))","v":"ca"},0,{"$f":"IF(N274=\"\",0,VLOOKUP(N274,Ville!$A$3:$E$40,3,0))","v":"03:10:00"},null,10,1,null,null,3,2,null,null,11,14,{"$f":"IF(N274=\"\",\"\",VLOOKUP(N274,Ville!$A$3:$E$40,2,0))","v":340},null,null,null,null,null,null,null,null,null,null,null,null,null,null,0,null,null,"","","",1]
[null,null,null,null,null,null,2010,{"$f":"IF(K275=\"\",\"\",VLOOKUP(I275,'Suiv Contr '!$D$14:$E$25,2))","v":"décembre"},12,5,"2010-12-24","Germain","00:00:00",null,null,null,"v",1,{"$f":"IF(N275=\"\",0,VLOOKUP(N275,Ville!$A$3:$E$40,3,0))","v":"00:00:00"},null,null,null,null,null,null,null,null,null,0,0,{"$f":"IF(N275=\"\",\"\",VLOOKUP(N275,Ville!$A$3:$E$40,2,0))","v":""},null,null,null,null,null,null,null,null,null,null,null,null,null,null,0,null,null,"",3,"",""]
[null,null,null,null,null,null,2010,{"$f":"IF(K276=\"\",\"\",VLOOKUP(I276,'Suiv Contr '!$D$14:$E$25,2))","v":"décembre"},12,1,"2010-12-27","Germain","00:00:00",null,null,null,"v",1,{"$f":"IF(N276=\"\",0,VLOOKUP(N276,Ville!$A$3:$E$40,3,0))","v":"00:00:00"},null,null,null,null,null,null,null,null,null,{"$f":"U276+V276+W276+X276","v":0},{"$f":"AC276+Y276","v":0},{"$f":"IF(N276=\"\",\"\",VLOOKUP(N276,Ville!$A$3:$E$40,2,0))","v":""},null,null,null,null,null,null,null,null,null,null,null,null,null,null,0,null,null,"",3,"",""]
[null,null,null,null,null,null,2010,{"$f":"IF(K277=\"\",\"\",VLOOKUP(I277,'Suiv Contr '!$D$14:$E$25,2))","v":"décembre"},12,2,"2010-12-28","Germain","00:00:00",null,null,null,"v",1,{"$f":"IF(N277=\"\",0,VLOOKUP(N277,Ville!$A$3:$E$40,3,0))","v":"00:00:00"},null,null,null,null,null,null,null,null,null,0,0,{"$f":"IF(N277=\"\",\"\",VLOOKUP(N277,Ville!$A$3:$E$40,2,0))","v":""},null,null,null,null,null,null,null,null,null,null,null,null,null,null,0,null,null,"",3,"",""]
[null,null,null,null,null,null,2010,{"$f":"IF(K278=\"\",\"\",VLOOKUP(I278,'Suiv Contr '!$D$14:$E$25,2))","v":"décembre"},12,3,"2010-12-29","Germain","00:00:00",null,null,null,"v",1,{"$f":"IF(N278=\"\",0,VLOOKUP(N278,Ville!$A$3:$E$40,3,0))","v":"00:00:00"},null,null,null,null,null,null,null,null,null,0,0,{"$f":"IF(N278=\"\",\"\",VLOOKUP(N278,Ville!$A$3:$E$40,2,0))","v":""},null,null,null,null,null,null,null,null,null,null,null,null,null,null,0,null,null,"",3,"",""]
[null,null,null,null,null,null,2010,{"$f":"IF(K279=\"\",\"\",VLOOKUP(I279,'Suiv Contr '!$D$14:$E$25,2))","v":"décembre"},12,4,"2010-12-30","Germain","00:00:00",null,null,null,"v",1,{"$f":"IF(N279=\"\",0,VLOOKUP(N279,Ville!$A$3:$E$40,3,0))","v":"00:00:00"},null,null,null,null,null,null,null,null,null,0,0,{"$f":"IF(N279=\"\",\"\",VLOOKUP(N279,Ville!$A$3:$E$40,2,0))","v":""},null,null,null,null,null,null,null,null,null,null,null,null,null,null,0,null,null,"",3,"",""]
[null,null,null,null,null,null,2010,{"$f":"IF(K280=\"\",\"\",VLOOKUP(I280,'Suiv Contr '!$D$14:$E$25,2))","v":"décembre"},12,5,"2010-12-31","Germain","00:00:00",null,null,null,"v",1,{"$f":"IF(N280=\"\",0,VLOOKUP(N280,Ville!$A$3:$E$40,3,0))","v":"00:00:00"},null,null,null,null,null,null,null,null,null,0,0,{"$f":"IF(N280=\"\",\"\",VLOOKUP(N280,Ville!$A$3:$E$40,2,0))","v":""},null,null,null,null,null,null,null,null,null,null,null,null,null,null,0,null,null,"",3,"",""]
[null,null,null,null,null,null,2011,{"$f":"IF(K281=\"\",\"\",VLOOKUP(I281,'Suiv Contr '!$D$14:$E$25,2))","v":"janvier"},1,1,"2011-01-03","Germain","Meythet","Meythet",null,null,{"$f":"IF(N281=\"\",\"\",VLOOKUP(N281,Ville!$A$3:$E$40,4,0))","v":"ca"},0,{"$f":"IF(N281=\"\",0,VLOOKUP(N281,Ville!$A$3:$E$40,3,0))","v":"04:20:00"},null,1,null,null,null,1,null,null,null,1,2,{"$f":"IF(N281=\"\",\"\",VLOOKUP(N281,Ville!$A$3:$E$40,2,0))","v":298},null,null,null,null,null,null,null,null,null,null,null,null,null,null,0,null,null,"","","",1]
[null,null,null,null,null,null,2011,{"$f":"IF(K282=\"\",\"\",VLOOKUP(I282,'Suiv Contr '!$D$14:$E$25,2))","v":"janvier"},1,2,"2011-01-04","Germain","Champagnole","Champagnole",null,null,{"$f":"IF(N282=\"\",\"\",VLOOKUP(N282,Ville!$A$3:$E$40,4,0))","v":"p"},0,{"$f":"IF(N282=\"\",0,VLOOKUP(N282,Ville!$A$3:$E$40,3,0))","v":"00:00:00"},null,5,1,null,null,1,null,null,null,6,7,{"$f":"IF(N282=\"\",\"\",VLOOKUP(N282,Ville!$A$3:$E$40,2,0))","v":0},null,null,null,null,null,null,null,null,null,null,null,null,null,null,0,null,null,"","","",""]
[null,null,null,null,null,null,2011,{"$f":"IF(K283=\"\",\"\",VLOOKUP(I283,'Suiv Contr '!$D$14:$E$25,2))","v":"janvier"},1,3,"2011-01-05","Germain","Champagnole","Champagnole",null,null,{"$f":"IF(N283=\"\",\"\",VLOOKUP(N283,Ville!$A$3:$E$40,4,0))","v":"p"},0,{"$f":"IF(N283=\"\",0,VLOOKUP(N283,Ville!$A$3:$E$40,3,0))","v":"00:00:00"},null,5,null,null,null,null,null,null,null,5,5,{"$f":"IF(N283=\"\",\"\",VLOOKUP(N283,Ville!$A$3:$E$40,2,0))","v":0},null,null,null,null,null,null,null,null,null,null,null,null,null,null,0,null,null,"","","",""]
[null,null,null,null,null,null,2011,{"$f":"IF(K284=\"\",\"\",VLOOKUP(I284,'Suiv Contr '!$D$14:$E$25,2))","v":"janvier"},1,4,"2011-01-06","Germain","Champagnole","Champagnole",null,null,{"$f":"IF(N284=\"\",\"\",VLOOKUP(N284,Ville!$A$3:$E$40,4,0))","v":"p"},0,{"$f":"IF(N284=\"\",0,VLOOKUP(N284,Ville!$A$3:$E$40,3,0))","v":"00:00:00"},null,4,2,null,null,1,1,null,null,6,7,{"$f":"IF(N284=\"\",\"\",VLOOKUP(N284,Ville!$A$3:$E$40,2,0))","v":0},null,null,null,null,null,null,null,null,null,null,null,null,null,null,0,null,null,"","","",""]
[null,null,null,null,null,null,2011,{"$f":"IF(K285=\"\",\"\",VLOOKUP(I285,'Suiv Contr '!$D$14:$E$25,2))","v":"janvier"},1,5,"2011-01-07","Germain","Champagnole","Champagnole",null,null,{"$f":"IF(N285=\"\",\"\",VLOOKUP(N285,Ville!$A$3:$E$40,4,0))","v":"p"},0,{"$f":"IF(N285=\"\",0,VLOOKUP(N285,Ville!$A$3:$E$40,3,0))","v":"00:00:00"},null,9,1,null,null,null,3,1,null,10,10,{"$f":"IF(N285=\"\",\"\",VLOOKUP(N285,Ville!$A$3:$E$40,2,0))","v":0},null,null,null,null,null,null,null,null,null,null,null,null,null,null,0,null,null,"","","",""]
[null,null,null,null,null,null,2011,{"$f":"IF(K286=\"\",\"\",VLOOKUP(I286,'Suiv Contr '!$D$14:$E$25,2))","v":"janvier"},1,2,"2011-01-11","Germain","Champagnole","Champagnole",null,null,{"$f":"IF(N286=\"\",\"\",VLOOKUP(N286,Ville!$A$3:$E$40,4,0))","v":"p"},0,{"$f":"IF(N286=\"\",0,VLOOKUP(N286,Ville!$A$3:$E$40,3,0))","v":"00:00:00"},null,5,1,null,null,null,1,1,null,6,6,{"$f":"IF(N286=\"\",\"\",VLOOKUP(N286,Ville!$A$3:$E$40,2,0))","v":0},null,null,null,null,null,null,null,null,null,null,null,null,null,null,0,null,null,"","","",""]
[null,null,null,null,null,null,2011,{"$f":"IF(K287=\"\",\"\",VLOOKUP(I287,'Suiv Contr '!$D$14:$E$25,2))","v":"janvier"},1,3,"2011-01-12","Germain","Champagnole","Champagnole",null,null,{"$f":"IF(N287=\"\",\"\",VLOOKUP(N287,Ville!$A$3:$E$40,4,0))","v":"p"},0,{"$f":"IF(N287=\"\",0,VLOOKUP(N287,Ville!$A$3:$E$40,3,0))","v":"00:00:00"},null,2,4,null,1,null,null,null,null,7,7,{"$f":"IF(N287=\"\",\"\",VLOOKUP(N287,Ville!$A$3:$E$40,2,0))","v":0},null,null,null,null,null,null,null,null,null,null,null,null,null,null,0,null,null,"","","",""]
[null,null,null,null,null,null,2011,{"$f":"IF(K288=\"\",\"\",VLOOKUP(I288,'Suiv Contr '!$D$14:$E$25,2))","v":"janvier"},1,4,"2011-01-13","Germain","Sennece les macons","Sennece les macons",null,null,{"$f":"IF(N288=\"\",\"\",VLOOKUP(N288,Ville!$A$3:$E$40,4,0))","v":"ca"},0,{"$f":"IF(N288=\"\",0,VLOOKUP(N288,Ville!$A$3:$E$40,3,0))","v":"02:00:00"},null,4,1,null,null,null,null,null,null,5,5,{"$f":"IF(N288=\"\",\"\",VLOOKUP(N288,Ville!$A$3:$E$40,2,0))","v":298},null,null,null,null,null,null,null,null,null,null,null,null,null,null,0,null,null,"","","",1]
[null,null,null,null,null,null,2011,{"$f":"IF(K289=\"\",\"\",VLOOKUP(I289,'Suiv Contr '!$D$14:$E$25,2))","v":"janvier"},1,5,"2011-01-14","Germain","Champagnole","Champagnole",null,null,{"$f":"IF(N289=\"\",\"\",VLOOKUP(N289,Ville!$A$3:$E$40,4,0))","v":"p"},0,{"$f":"IF(N289=\"\",0,VLOOKUP(N289,Ville!$A$3:$E$40,3,0))","v":"00:00:00"},null,4,1,null,null,2,null,null,null,5,7,{"$f":"IF(N289=\"\",\"\",VLOOKUP(N289,Ville!$A$3:$E$40,2,0))","v":0},null,null,null,null,null,null,null,null,null,null,null,null,null,null,0,null,null,"","","",""]
[null,null,null,null,null,null,2011,{"$f":"IF(K290=\"\",\"\",VLOOKUP(I290,'Suiv Contr '!$D$14:$E$25,2))","v":"janvier"},1,1,"2011-01-17","Germain","Champagnole","Champagnole",null,null,{"$f":"IF(N290=\"\",\"\",VLOOKUP(N290,Ville!$A$3:$E$40,4,0))","v":"p"},0,{"$f":"IF(N290=\"\",0,VLOOKUP(N290,Ville!$A$3:$E$40,3,0))","v":"00:00:00"},null,5,null,null,null,1,null,null,null,5,6,{"$f":"IF(N290=\"\",\"\",VLOOKUP(N290,Ville!$A$3:$E$40,2,0))","v":0},null,null,null,null,null,null,null,null,null,null,null,null,null,null,0,null,null,"","","",""]
[null,null,null,null,null,null,2011,{"$f":"IF(K291=\"\",\"\",VLOOKUP(I291,'Suiv Contr '!$D$14:$E$25,2))","v":"janvier"},1,2,"2011-01-18","Germain","Champagnole","Champagnole",null,null,{"$f":"IF(N291=\"\",\"\",VLOOKUP(N291,Ville!$A$3:$E$40,4,0))","v":"p"},0,{"$f":"IF(N291=\"\",0,VLOOKUP(N291,Ville!$A$3:$E$40,3,0))","v":"00:00:00"},null,5,4,null,null,null,null,1,null,9,9,{"$f":"IF(N291=\"\",\"\",VLOOKUP(N291,Ville!$A$3:$E$40,2,0))","v":0},null,null,null,null,null,null,null,null,null,null,null,null,null,null,0,null,null,"","","",""]
[null,null,null,null,null,null,2011,{"$f":"IF(K292=\"\",\"\",VLOOKUP(I292,'Suiv Contr '!$D$14:$E$25,2))","v":"janvier"},1,3,"2011-01-19","Germain","Besançon sp","Besançon sp",null,null,{"$f":"IF(N292=\"\",\"\",VLOOKUP(N292,Ville!$A$3:$E$40,4,0))","v":"sp"},0,{"$f":"IF(N292=\"\",0,VLOOKUP(N292,Ville!$A$3:$E$40,3,0))","v":"01:50:00"},null,5,4,null,null,null,null,null,null,9,9,{"$f":"IF(N292=\"\",\"\",VLOOKUP(N292,Ville!$A$3:$E$40,2,0))","v":152},null,null,null,null,null,null,null,null,null,null,null,null,null,null,0,null,null,"","","",1]
[null,null,null,null,null,null,2011,{"$f":"IF(K293=\"\",\"\",VLOOKUP(I293,'Suiv Contr '!$D$14:$E$25,2))","v":"janvier"},1,4,"2011-01-20","Germain","Champagnole","Champagnole",null,null,{"$f":"IF(N293=\"\",\"\",VLOOKUP(N293,Ville!$A$3:$E$40,4,0))","v":"p"},0,{"$f":"IF(N293=\"\",0,VLOOKUP(N293,Ville!$A$3:$E$40,3,0))","v":"00:00:00"},null,4,2,null,null,null,null,null,null,6,6,{"$f":"IF(N293=\"\",\"\",VLOOKUP(N293,Ville!$A$3:$E$40,2,0))","v":0},null,null,null,null,null,null,null,null,null,null,null,null,null,null,0,null,null,"","","",""]
[null,null,null,null,null,null,2011,{"$f":"IF(K294=\"\",\"\",VLOOKUP(I294,'Suiv Contr '!$D$14:$E$25,2))","v":"janvier"},1,5,"2011-01-21","Germain","Champagnole","Champagnole",null,null,{"$f":"IF(N294=\"\",\"\",VLOOKUP(N294,Ville!$A$3:$E$40,4,0))","v":"p"},0,{"$f":"IF(N294=\"\",0,VLOOKUP(N294,Ville!$A$3:$E$40,3,0))","v":"00:00:00"},null,5,null,null,null,null,null,null,null,5,5,{"$f":"IF(N294=\"\",\"\",VLOOKUP(N294,Ville!$A$3:$E$40,2,0))","v":0},null,null,null,null,null,null,null,null,null,null,null,null,null,null,0,null,null,"","","",""]
[null,null,null,null,null,null,2011,{"$f":"IF(K295=\"\",\"\",VLOOKUP(I295,'Suiv Contr '!$D$14:$E$25,2))","v":"janvier"},1,1,"2011-01-24","Germain","Besançon iax","Besançon iax",null,null,{"$f":"IF(N295=\"\",\"\",VLOOKUP(N295,Ville!$A$3:$E$40,4,0))","v":"ca"},0,{"$f":"IF(N295=\"\",0,VLOOKUP(N295,Ville!$A$3:$E$40,3,0))","v":"01:50:00"},null,8,1,1,null,1,null,null,null,10,11,{"$f":"IF(N295=\"\",\"\",VLOOKUP(N295,Ville!$A$3:$E$40,2,0))","v":132},null,null,null,null,null,null,null,null,null,null,null,null,null,null,0,null,null,"","","",1]
[null,null,null,null,null,null,2011,{"$f":"IF(K296=\"\",\"\",VLOOKUP(I296,'Suiv Contr '!$D$14:$E$25,2))","v":"janvier"},1,2,"2011-01-25","Germain","Champagnole","Champagnole",null,null,{"$f":"IF(N296=\"\",\"\",VLOOKUP(N296,Ville!$A$3:$E$40,4,0))","v":"p"},0,{"$f":"IF(N296=\"\",0,VLOOKUP(N296,Ville!$A$3:$E$40,3,0))","v":"00:00:00"},null,4,2,null,null,null,null,null,null,6,6,{"$f":"IF(N296=\"\",\"\",VLOOKUP(N296,Ville!$A$3:$E$40,2,0))","v":0},null,null,null,null,null,null,null,null,null,null,null,null,null,null,0,null,null,"","","",""]
[null,null,null,null,null,null,2011,{"$f":"IF(K297=\"\",\"\",VLOOKUP(I297,'Suiv Contr '!$D$14:$E$25,2))","v":"janvier"},1,3,"2011-01-26","Germain","Thann","Thann",null,null,{"$f":"IF(N297=\"\",\"\",VLOOKUP(N297,Ville!$A$3:$E$40,4,0))","v":"ca"},0,{"$f":"IF(N297=\"\",0,VLOOKUP(N297,Ville!$A$3:$E$40,3,0))","v":"04:30:00"},null,4,1,1,null,1,null,null,null,6,7,{"$f":"IF(N297=\"\",\"\",VLOOKUP(N297,Ville!$A$3:$E$40,2,0))","v":402},null,null,null,null,null,null,null,null,null,null,null,null,null,null,0,null,null,"","","",1]
[null,null,null,null,null,null,2011,{"$f":"IF(K298=\"\",\"\",VLOOKUP(I298,'Suiv Contr '!$D$14:$E$25,2))","v":"janvier"},1,4,"2011-01-27","Germain","Champagnole","Champagnole",null,null,{"$f":"IF(N298=\"\",\"\",VLOOKUP(N298,Ville!$A$3:$E$40,4,0))","v":"p"},0,{"$f":"IF(N298=\"\",0,VLOOKUP(N298,Ville!$A$3:$E$40,3,0))","v":"00:00:00"},null,1,2,null,null,2,1,null,null,3,5,{"$f":"IF(N298=\"\",\"\",VLOOKUP(N298,Ville!$A$3:$E$40,2,0))","v":0},null,null,null,null,null,null,null,null,null,null,null,null,null,null,0,null,null,"","","",""]
[null,null,null,null,null,null,2011,{"$f":"IF(K299=\"\",\"\",VLOOKUP(I299,'Suiv Contr '!$D$14:$E$25,2))","v":"janvier"},1,5,"2011-01-28","Germain","Champagnole","Champagnole",null,null,{"$f":"IF(N299=\"\",\"\",VLOOKUP(N299,Ville!$A$3:$E$40,4,0))","v":"p"},0,{"$f":"IF(N299=\"\",0,VLOOKUP(N299,Ville!$A$3:$E$40,3,0))","v":"00:00:00"},null,5,1,null,null,1,1,null,null,6,7,{"$f":"IF(N299=\"\",\"\",VLOOKUP(N299,Ville!$A$3:$E$40,2,0))","v":0},null,null,null,null,null,null,null,null,null,null,null,null,null,null,0,null,null,"","","",""]
[null,null,null,null,null,null,2011,{"$f":"IF(K300=\"\",\"\",VLOOKUP(I300,'Suiv Contr '!$D$14:$E$25,2))","v":"janvier"},1,1,"2011-01-31","Germain","Champagnole","Champagnole",null,null,{"$f":"IF(N300=\"\",\"\",VLOOKUP(N300,Ville!$A$3:$E$40,4,0))","v":"p"},0,{"$f":"IF(N300=\"\",0,VLOOKUP(N300,Ville!$A$3:$E$40,3,0))","v":"00:00:00"},null,4,null,null,null,null,null,null,null,4,4,{"$f":"IF(N300=\"\",\"\",VLOOKUP(N300,Ville!$A$3:$E$40,2,0))","v":0},null,null,null,null,null,null,null,null,null,null,null,null,null,null,0,null,null,"","","",""]
[null,null,null,null,null,null,2011,{"$f":"IF(K301=\"\",\"\",VLOOKUP(I301,'Suiv Contr '!$D$14:$E$25,2))","v":"février"},2,2,"2011-02-01","Germain","Villefranche","Villefranche",null,null,{"$f":"IF(N301=\"\",\"\",VLOOKUP(N301,Ville!$A$3:$E$40,4,0))","v":"sp"},0,{"$f":"IF(N301=\"\",0,VLOOKUP(N301,Ville!$A$3:$E$40,3,0))","v":"03:00:00"},null,1,null,null,null,null,null,null,null,1,1,{"$f":"IF(N301=\"\",\"\",VLOOKUP(N301,Ville!$A$3:$E$40,2,0))","v":390},null,null,null,null,null,null,null,null,null,null,null,null,null,null,0,null,null,"","","",1]
[null,null,null,null,null,null,2011,{"$f":"IF(K302=\"\",\"\",VLOOKUP(I302,'Suiv Contr '!$D$14:$E$25,2))","v":"février"},2,3,"2011-02-02","Germain","Champagnole","Champagnole",null,null,{"$f":"IF(N302=\"\",\"\",VLOOKUP(N302,Ville!$A$3:$E$40,4,0))","v":"p"},0,{"$f":"IF(N302=\"\",0,VLOOKUP(N302,Ville!$A$3:$E$40,3,0))","v":"00:00:00"},null,3,2,null,null,null,null,null,null,5,5,{"$f":"IF(N302=\"\",\"\",VLOOKUP(N302,Ville!$A$3:$E$40,2,0))","v":0},null,null,null,null,null,null,null,null,null,null,null,null,null,null,0,null,null,"","","",""]
[null,null,null,null,null,null,2011,{"$f":"IF(K303=\"\",\"\",VLOOKUP(I303,'Suiv Contr '!$D$14:$E$25,2))","v":"février"},2,4,"2011-02-03","Germain","Sennece les macons","Sennece les macons",null,null,{"$f":"IF(N303=\"\",\"\",VLOOKUP(N303,Ville!$A$3:$E$40,4,0))","v":"ca"},0,{"$f":"IF(N303=\"\",0,VLOOKUP(N303,Ville!$A$3:$E$40,3,0))","v":"02:00:00"},null,4,null,null,null,null,null,null,null,4,4,{"$f":"IF(N303=\"\",\"\",VLOOKUP(N303,Ville!$A$3:$E$40,2,0))","v":298},null,null,null,null,null,null,null,null,null,null,null,null,null,null,0,null,null,"","","",1]
[null,null,null,null,null,null,2011,{"$f":"IF(K304=\"\",\"\",VLOOKUP(I304,'Suiv Contr '!$D$14:$E$25,2))","v":"février"},2,5,"2011-02-04","Germain","Champagnole","Champagnole",null,null,{"$f":"IF(N304=\"\",\"\",VLOOKUP(N304,Ville!$A$3:$E$40,4,0))","v":"p"},0,{"$f":"IF(N304=\"\",0,VLOOKUP(N304,Ville!$A$3:$E$40,3,0))","v":"00:00:00"},null,4,5,null,null,null,null,null,null,9,9,{"$f":"IF(N304=\"\",\"\",VLOOKUP(N304,Ville!$A$3:$E$40,2,0))","v":0},null,null,null,null,null,null,null,null,null,null,null,null,null,null,0,null,null,"","","",""]
[null,null,null,null,null,null,2011,{"$f":"IF(K305=\"\",\"\",VLOOKUP(I305,'Suiv Contr '!$D$14:$E$25,2))","v":"février"},2,1,"2011-02-07","Germain","Villefranche","Villefranche",null,null,{"$f":"IF(N305=\"\",\"\",VLOOKUP(N305,Ville!$A$3:$E$40,4,0))","v":"sp"},0,{"$f":"IF(N305=\"\",0,VLOOKUP(N305,Ville!$A$3:$E$40,3,0))","v":"03:00:00"},null,4,null,null,null,1,null,null,null,4,5,{"$f":"IF(N305=\"\",\"\",VLOOKUP(N305,Ville!$A$3:$E$40,2,0))","v":390},null,null,null,null,null,null,null,null,null,null,null,null,null,null,0,null,null,"","","",1]
[null,null,null,null,null,null,2011,{"$f":"IF(K306=\"\",\"\",VLOOKUP(I306,'Suiv Contr '!$D$14:$E$25,2))","v":"février"},2,2,"2011-02-08","Germain","Champagnole","Champagnole",null,null,{"$f":"IF(N306=\"\",\"\",VLOOKUP(N306,Ville!$A$3:$E$40,4,0))","v":"p"},0,{"$f":"IF(N306=\"\",0,VLOOKUP(N306,Ville!$A$3:$E$40,3,0))","v":"00:00:00"},null,10,3,null,null,null,1,1,null,13,13,{"$f":"IF(N306=\"\",\"\",VLOOKUP(N306,Ville!$A$3:$E$40,2,0))","v":0},null,null,null,null,null,null,null,null,null,null,null,null,null,null,0,null,null,"","","",""]
[null,null,null,null,null,null,2011,{"$f":"IF(K307=\"\",\"\",VLOOKUP(I307,'Suiv Contr '!$D$14:$E$25,2))","v":"février"},2,3,"2011-02-09","Germain","Besançon sp","Besançon sp",null,null,{"$f":"IF(N307=\"\",\"\",VLOOKUP(N307,Ville!$A$3:$E$40,4,0))","v":"sp"},0,{"$f":"IF(N307=\"\",0,VLOOKUP(N307,Ville!$A$3:$E$40,3,0))","v":"01:50:00"},null,4,1,null,null,null,null,null,null,5,5,{"$f":"IF(N307=\"\",\"\",VLOOKUP(N307,Ville!$A$3:$E$40,2,0))","v":152},null,null,null,null,null,null,null,null,null,null,null,null,null,null,0,null,null,"","","",1]
[null,null,null,null,null,null,2011,{"$f":"IF(K308=\"\",\"\",VLOOKUP(I308,'Suiv Contr '!$D$14:$E$25,2))","v":"février"},2,4,"2011-02-10","Germain","Champagnole","Champagnole",null,null,{"$f":"IF(N308=\"\",\"\",VLOOKUP(N308,Ville!$A$3:$E$40,4,0))","v":"p"},0,{"$f":"IF(N308=\"\",0,VLOOKUP(N308,Ville!$A$3:$E$40,3,0))","v":"00:00:00"},null,5,4,null,null,null,null,null,null,9,9,{"$f":"IF(N308=\"\",\"\",VLOOKUP(N308,Ville!$A$3:$E$40,2,0))","v":0},null,null,null,null,null,null,null,null,null,null,null,null,null,null,0,null,null,"","","",""]
[null,null,null,null,null,null,2011,{"$f":"IF(K309=\"\",\"\",VLOOKUP(I309,'Suiv Contr '!$D$14:$E$25,2))","v":"février"},2,5,"2011-02-11","Germain","Montreuil","Montreuil",null,null,"reu",0,{"$f":"IF(N309=\"\",0,VLOOKUP(N309,Ville!$A$3:$E$40,3,0))","v":"07:30:00"},null,null,null,null,null,null,null,null,null,0,0,{"$f":"IF(N309=\"\",\"\",VLOOKUP(N309,Ville!$A$3:$E$40,2,0))","v":854},"Réunion",null,null,null,null,null,null,null,null,null,null,null,null,null,0,null,null,"","","",1]
[null,null,null,null,null,null,2011,{"$f":"IF(K310=\"\",\"\",VLOOKUP(I310,'Suiv Contr '!$D$14:$E$25,2))","v":"février"},2,6,"2011-02-12","Germain","Montreuil","Montreuil",null,null,"reu",0,{"$f":"IF(N310=\"\",0,VLOOKUP(N310,Ville!$A$3:$E$40,3,0))","v":"07:30:00"},null,null,null,null,null,null,null,null,null,0,0,null,"Réunion",null,null,null,null,null,null,null,null,null,null,null,null,null,0,null,null,"","","",1]
[null,null,null,null,null,null,2011,{"$f":"IF(K311=\"\",\"\",VLOOKUP(I311,'Suiv Contr '!$D$14:$E$25,2))","v":"février"},2,1,"2011-02-14","Germain","Meythet","Meythet",null,null,{"$f":"IF(N311=\"\",\"\",VLOOKUP(N311,Ville!$A$3:$E$40,4,0))","v":"ca"},0,{"$f":"IF(N311=\"\",0,VLOOKUP(N311,Ville!$A$3:$E$40,3,0))","v":"04:20:00"},null,7,null,null,null,null,1,1,null,7,7,{"$f":"IF(N311=\"\",\"\",VLOOKUP(N311,Ville!$A$3:$E$40,2,0))","v":298},null,null,null,null,null,null,null,null,null,null,null,null,null,null,0,null,null,"","","",1]
[null,null,null,null,null,null,2011,{"$f":"IF(K312=\"\",\"\",VLOOKUP(I312,'Suiv Contr '!$D$14:$E$25,2))","v":"février"},2,2,"2011-02-15","Germain","Champagnole","Champagnole",null,null,{"$f":"IF(N312=\"\",\"\",VLOOKUP(N312,Ville!$A$3:$E$40,4,0))","v":"p"},0,{"$f":"IF(N312=\"\",0,VLOOKUP(N312,Ville!$A$3:$E$40,3,0))","v":"00:00:00"},null,6,1,null,null,null,1,1,null,7,7,{"$f":"IF(N312=\"\",\"\",VLOOKUP(N312,Ville!$A$3:$E$40,2,0))","v":0},null,null,null,null,null,null,null,null,null,null,null,null,null,null,0,null,null,"","","",""]
[null,null,null,null,null,null,2011,{"$f":"IF(K313=\"\",\"\",VLOOKUP(I313,'Suiv Contr '!$D$14:$E$25,2))","v":"février"},2,3,"2011-02-16","Germain","Thann","Thann",null,null,{"$f":"IF(N313=\"\",\"\",VLOOKUP(N313,Ville!$A$3:$E$40,4,0))","v":"ca"},0,{"$f":"IF(N313=\"\",0,VLOOKUP(N313,Ville!$A$3:$E$40,3,0))","v":"04:30:00"},null,3,null,2,null,2,null,null,null,5,7,{"$f":"IF(N313=\"\",\"\",VLOOKUP(N313,Ville!$A$3:$E$40,2,0))","v":402},null,null,null,null,null,null,null,null,null,null,null,null,null,null,0,null,null,"","","",1]
[null,null,null,null,null,null,2011,{"$f":"IF(K314=\"\",\"\",VLOOKUP(I314,'Suiv Contr '!$D$14:$E$25,2))","v":"février"},2,4,"2011-02-17","Germain","Champagnole","Champagnole",null,null,{"$f":"IF(N314=\"\",\"\",VLOOKUP(N314,Ville!$A$3:$E$40,4,0))","v":"p"},0,{"$f":"IF(N314=\"\",0,VLOOKUP(N314,Ville!$A$3:$E$40,3,0))","v":"00:00:00"},null,3,7,null,null,1,2,null,null,10,11,{"$f":"IF(N314=\"\",\"\",VLOOKUP(N314,Ville!$A$3:$E$40,2,0))","v":0},null,null,null,null,null,null,null,null,null,null,null,null,null,null,0,null,null,"","","",""]
[null,null,null,null,null,null,2011,{"$f":"IF(K315=\"\",\"\",VLOOKUP(I315,'Suiv Contr '!$D$14:$E$25,2))","v":"février"},2,5,"2011-02-18","Germain","Champagnole","Champagnole",null,null,{"$f":"IF(N315=\"\",\"\",VLOOKUP(N315,Ville!$A$3:$E$40,4,0))","v":"p"},0,{"$f":"IF(N315=\"\",0,VLOOKUP(N315,Ville!$A$3:$E$40,3,0))","v":"00:00:00"},null,5,1,null,null,null,null,null,null,6,6,{"$f":"IF(N315=\"\",\"\",VLOOKUP(N315,Ville!$A$3:$E$40,2,0))","v":0},null,null,null,null,null,null,null,null,null,null,null,null,null,null,0,null,null,"","","",""]
[null,null,null,null,null,null,2011,{"$f":"IF(K316=\"\",\"\",VLOOKUP(I316,'Suiv Contr '!$D$14:$E$25,2))","v":"février"},2,1,"2011-02-21","Germain","Besançon sp","Besançon sp",null,null,{"$f":"IF(N316=\"\",\"\",VLOOKUP(N316,Ville!$A$3:$E$40,4,0))","v":"sp"},0,{"$f":"IF(N316=\"\",0,VLOOKUP(N316,Ville!$A$3:$E$40,3,0))","v":"01:50:00"},null,7,1,null,null,null,null,null,null,8,8,{"$f":"IF(N316=\"\",\"\",VLOOKUP(N316,Ville!$A$3:$E$40,2,0))","v":152},null,null,null,null,null,null,null,null,null,null,null,null,null,null,0,null,null,"","","",1]
[null,null,null,null,null,null,2011,{"$f":"IF(K317=\"\",\"\",VLOOKUP(I317,'Suiv Contr '!$D$14:$E$25,2))","v":"février"},2,2,"2011-02-22","Germain","Champagnole","Champagnole",null,null,{"$f":"IF(N317=\"\",\"\",VLOOKUP(N317,Ville!$A$3:$E$40,4,0))","v":"p"},0,{"$f":"IF(N317=\"\",0,VLOOKUP(N317,Ville!$A$3:$E$40,3,0))","v":"00:00:00"},null,6,5,null,null,null,1,1,null,11,11,{"$f":"IF(N317=\"\",\"\",VLOOKUP(N317,Ville!$A$3:$E$40,2,0))","v":0},null,null,null,null,null,null,null,null,null,null,null,null,null,null,0,null,null,"","","",""]
[null,null,null,null,null,null,2011,{"$f":"IF(K318=\"\",\"\",VLOOKUP(I318,'Suiv Contr '!$D$14:$E$25,2))","v":"février"},2,3,"2011-02-23","Germain","Villefranche","Villefranche",null,null,{"$f":"IF(N318=\"\",\"\",VLOOKUP(N318,Ville!$A$3:$E$40,4,0))","v":"sp"},0,{"$f":"IF(N318=\"\",0,VLOOKUP(N318,Ville!$A$3:$E$40,3,0))","v":"03:00:00"},null,7,1,null,null,null,null,null,null,8,8,{"$f":"IF(N318=\"\",\"\",VLOOKUP(N318,Ville!$A$3:$E$40,2,0))","v":390},null,null,null,null,null,null,null,null,null,null,null,null,null,null,0,null,null,"","","",1]
[null,null,null,null,null,null,2011,{"$f":"IF(K319=\"\",\"\",VLOOKUP(I319,'Suiv Contr '!$D$14:$E$25,2))","v":"février"},2,4,"2011-02-24","Germain","Champagnole","Champagnole",null,null,{"$f":"IF(N319=\"\",\"\",VLOOKUP(N319,Ville!$A$3:$E$40,4,0))","v":"p"},0,{"$f":"IF(N319=\"\",0,VLOOKUP(N319,Ville!$A$3:$E$40,3,0))","v":"00:00:00"},null,4,3,null,null,3,null,null,null,7,10,{"$f":"IF(N319=\"\",\"\",VLOOKUP(N319,Ville!$A$3:$E$40,2,0))","v":0},null,null,null,null,null,null,null,null,null,null,null,null,null,null,0,null,null,"","","",""]
[null,null,null,null,null,null,2011,{"$f":"IF(K320=\"\",\"\",VLOOKUP(I320,'Suiv Contr '!$D$14:$E$25,2))","v":"février"},2,5,"2011-02-25","Germain","Champagnole","Champagnole",null,null,{"$f":"IF(N320=\"\",\"\",VLOOKUP(N320,Ville!$A$3:$E$40,4,0))","v":"p"},0,{"$f":"IF(N320=\"\",0,VLOOKUP(N320,Ville!$A$3:$E$40,3,0))","v":"00:00:00"},null,3,4,null,null,1,null,2,null,7,8,{"$f":"IF(N320=\"\",\"\",VLOOKUP(N320,Ville!$A$3:$E$40,2,0))","v":0},null,null,null,null,null,null,null,null,null,null,null,null,null,null,0,null,null,{"$f":"IF(K320=$B$2,1,\"\")","v":""},"","",""]
[null,null,null,null,null,null,2011,{"$f":"IF(K321=\"\",\"\",VLOOKUP(I321,'Suiv Contr '!$D$14:$E$25,2))","v":"février"},2,1,"2011-02-28","Germain","Meythet","Meythet",null,null,{"$f":"IF(N321=\"\",\"\",VLOOKUP(N321,Ville!$A$3:$E$40,4,0))","v":"ca"},0,{"$f":"IF(N321=\"\",0,VLOOKUP(N321,Ville!$A$3:$E$40,3,0))","v":"04:20:00"},null,6,2,null,1,null,1,null,null,9,9,{"$f":"IF(N321=\"\",\"\",VLOOKUP(N321,Ville!$A$3:$E$40,2,0))","v":298},null,null,null,null,null,null,null,null,null,null,null,null,null,null,0,null,null,"","","",1]
[null,null,null,null,null,null,2011,{"$f":"IF(K322=\"\",\"\",VLOOKUP(I322,'Suiv Contr '!$D$14:$E$25,2))","v":"mars"},3,2,"2011-03-01","Germain","Champagnole","Champagnole",null,null,{"$f":"IF(N322=\"\",\"\",VLOOKUP(N322,Ville!$A$3:$E$40,4,0))","v":"p"},0,{"$f":"IF(N322=\"\",0,VLOOKUP(N322,Ville!$A$3:$E$40,3,0))","v":"00:00:00"},null,3,1,null,null,2,null,null,null,4,6,{"$f":"IF(N322=\"\",\"\",VLOOKUP(N322,Ville!$A$3:$E$40,2,0))","v":0},null,null,null,null,null,null,null,null,null,null,null,null,null,null,0,null,null,"","","",""]
[null,null,null,null,null,null,2011,{"$f":"IF(K323=\"\",\"\",VLOOKUP(I323,'Suiv Contr '!$D$14:$E$25,2))","v":"mars"},3,3,"2011-03-02","Germain","Villefranche","Villefranche",null,null,{"$f":"IF(N323=\"\",\"\",VLOOKUP(N323,Ville!$A$3:$E$40,4,0))","v":"sp"},0,{"$f":"IF(N323=\"\",0,VLOOKUP(N323,Ville!$A$3:$E$40,3,0))","v":"03:00:00"},null,3,2,null,null,1,null,null,null,5,6,{"$f":"IF(N323=\"\",\"\",VLOOKUP(N323,Ville!$A$3:$E$40,2,0))","v":390},null,null,null,null,null,null,null,null,null,null,null,null,null,null,0,null,null,"","","",1]
[null,null,null,null,null,null,2011,{"$f":"IF(K324=\"\",\"\",VLOOKUP(I324,'Suiv Contr '!$D$14:$E$25,2))","v":"mars"},3,4,"2011-03-03","Germain","Champagnole","Champagnole",null,null,{"$f":"IF(N324=\"\",\"\",VLOOKUP(N324,Ville!$A$3:$E$40,4,0))","v":"p"},0,{"$f":"IF(N324=\"\",0,VLOOKUP(N324,Ville!$A$3:$E$40,3,0))","v":"00:00:00"},null,4,4,null,null,1,null,null,null,8,9,{"$f":"IF(N324=\"\",\"\",VLOOKUP(N324,Ville!$A$3:$E$40,2,0))","v":0},null,null,null,null,null,null,null,null,null,null,null,null,null,null,0,null,null,"",{"$f":"IF(Q324=\"v\",3,\"\")","v":""},{"$f":"IF(Q324=\"rec\",2,\"\")","v":""},""]
[null,null,null,null,null,null,2011,{"$f":"IF(K325=\"\",\"\",VLOOKUP(I325,'Suiv Contr '!$D$14:$E$25,2))","v":"mars"},3,5,"2011-03-04","Germain","Champagnole","Champagnole",null,null,{"$f":"IF(N325=\"\",\"\",VLOOKUP(N325,Ville!$A$3:$E$40,4,0))","v":"p"},0,{"$f":"IF(N325=\"\",0,VLOOKUP(N325,Ville!$A$3:$E$40,3,0))","v":"00:00:00"},null,7,4,null,null,1,1,null,null,11,12,{"$f":"IF(N325=\"\",\"\",VLOOKUP(N325,Ville!$A$3:$E$40,2,0))","v":0},null,null,null,null,null,null,null,null,null,null,null,null,null,null,0,null,null,"","","",""]
[null,null,null,null,null,null,2011,{"$f":"IF(K326=\"\",\"\",VLOOKUP(I326,'Suiv Contr '!$D$14:$E$25,2))","v":"mars"},3,1,"2011-03-07","Germain","Villefranche","Villefranche",null,null,{"$f":"IF(N326=\"\",\"\",VLOOKUP(N326,Ville!$A$3:$E$40,4,0))","v":"sp"},0,{"$f":"IF(N326=\"\",0,VLOOKUP(N326,Ville!$A$3:$E$40,3,0))","v":"03:00:00"},null,5,1,null,null,null,null,null,null,6,6,{"$f":"IF(N326=\"\",\"\",VLOOKUP(N326,Ville!$A$3:$E$40,2,0))","v":390},null,null,null,null,null,null,null,null,null,null,null,null,null,null,0,null,null,"","","",1]
[null,null,null,null,null,null,2011,{"$f":"IF(K327=\"\",\"\",VLOOKUP(I327,'Suiv Contr '!$D$14:$E$25,2))","v":"mars"},3,2,"2011-03-08","Germain","Champagnole","Champagnole",null,null,{"$f":"IF(N327=\"\",\"\",VLOOKUP(N327,Ville!$A$3:$E$40,4,0))","v":"p"},0,{"$f":"IF(N327=\"\",0,VLOOKUP(N327,Ville!$A$3:$E$40,3,0))","v":"00:00:00"},null,5,3,null,null,null,null,null,null,8,8,{"$f":"IF(N327=\"\",\"\",VLOOKUP(N327,Ville!$A$3:$E$40,2,0))","v":0},null,null,null,null,null,null,null,null,null,null,null,null,null,null,0,null,null,"","","",""]
[null,null,null,null,null,null,2011,{"$f":"IF(K328=\"\",\"\",VLOOKUP(I328,'Suiv Contr '!$D$14:$E$25,2))","v":"mars"},3,3,"2011-03-09","Germain","Besançon sp","Besançon sp",null,null,{"$f":"IF(N328=\"\",\"\",VLOOKUP(N328,Ville!$A$3:$E$40,4,0))","v":"sp"},0,{"$f":"IF(N328=\"\",0,VLOOKUP(N328,Ville!$A$3:$E$40,3,0))","v":"01:50:00"},null,2,3,null,null,1,null,1,1,5,6,{"$f":"IF(N328=\"\",\"\",VLOOKUP(N328,Ville!$A$3:$E$40,2,0))","v":152},null,null,null,null,null,null,null,null,null,null,null,null,null,null,0,null,null,"","","",1]
[null,null,null,null,null,null,2011,{"$f":"IF(K329=\"\",\"\",VLOOKUP(I329,'Suiv Contr '!$D$14:$E$25,2))","v":"mars"},3,4,"2011-03-10","Germain","Champagnole","Champagnole",null,null,{"$f":"IF(N329=\"\",\"\",VLOOKUP(N329,Ville!$A$3:$E$40,4,0))","v":"p"},0,{"$f":"IF(N329=\"\",0,VLOOKUP(N329,Ville!$A$3:$E$40,3,0))","v":"00:00:00"},null,6,2,null,null,null,null,null,null,8,8,{"$f":"IF(N329=\"\",\"\",VLOOKUP(N329,Ville!$A$3:$E$40,2,0))","v":0},null,null,null,null,null,null,null,null,null,null,null,null,null,null,0,null,null,"","","",""]
[null,null,null,null,null,null,2011,{"$f":"IF(K330=\"\",\"\",VLOOKUP(I330,'Suiv Contr '!$D$14:$E$25,2))","v":"mars"},3,5,"2011-03-11","Germain","Champagnole","Champagnole",null,null,{"$f":"IF(N330=\"\",\"\",VLOOKUP(N330,Ville!$A$3:$E$40,4,0))","v":"p"},0,{"$f":"IF(N330=\"\",0,VLOOKUP(N330,Ville!$A$3:$E$40,3,0))","v":"00:00:00"},null,3,null,null,null,1,null,null,null,3,4,{"$f":"IF(N330=\"\",\"\",VLOOKUP(N330,Ville!$A$3:$E$40,2,0))","v":0},null,null,null,null,null,null,null,null,null,null,null,null,null,null,0,null,null,"","","",""]
[null,null,null,null,null,null,2011,{"$f":"IF(K331=\"\",\"\",VLOOKUP(I331,'Suiv Contr '!$D$14:$E$25,2))","v":"mars"},3,1,"2011-03-14","Germain","Meythet","Meythet",null,null,{"$f":"IF(N331=\"\",\"\",VLOOKUP(N331,Ville!$A$3:$E$40,4,0))","v":"ca"},0,{"$f":"IF(N331=\"\",0,VLOOKUP(N331,Ville!$A$3:$E$40,3,0))","v":"04:20:00"},null,7,null,null,null,1,null,null,null,7,8,{"$f":"IF(N331=\"\",\"\",VLOOKUP(N331,Ville!$A$3:$E$40,2,0))","v":298},null,null,null,null,null,null,null,null,null,null,null,null,null,null,0,null,null,"","","",1]
[null,null,null,null,null,null,2011,{"$f":"IF(K332=\"\",\"\",VLOOKUP(I332,'Suiv Contr '!$D$14:$E$25,2))","v":"mars"},3,2,"2011-03-15","Germain","Champagnole","Champagnole",null,null,{"$f":"IF(N332=\"\",\"\",VLOOKUP(N332,Ville!$A$3:$E$40,4,0))","v":"p"},0,{"$f":"IF(N332=\"\",0,VLOOKUP(N332,Ville!$A$3:$E$40,3,0))","v":"00:00:00"},null,9,1,null,null,1,null,1,null,10,11,{"$f":"IF(N332=\"\",\"\",VLOOKUP(N332,Ville!$A$3:$E$40,2,0))","v":0},null,null,null,null,null,null,null,null,null,null,null,null,null,null,0,null,null,"","","",""]
[null,null,null,null,null,null,{"$f":"IF(K333=\"\",\"\",YEAR(K333))","v":2011},{"$f":"IF(K333=\"\",\"\",VLOOKUP(I333,'Suiv Contr '!$D$14:$E$25,2))","v":"mars"},{"$f":"IF(K333=\"\",\"\",MONTH(K333))","v":3},{"$f":"IF(K333=\"\",\"\",WEEKDAY(K333,2))","v":3},"2011-03-16","Germain","00:00:00",null,null,null,"rec",0,{"$f":"IF(N333=\"\",0,VLOOKUP(N333,Ville!$A$3:$E$40,3,0))","v":"00:00:00"},"07:00:00",null,null,null,null,null,null,null,null,0,0,{"$f":"IF(N333=\"\",\"\",VLOOKUP(N333,Ville!$A$3:$E$40,2,0))","v":""},"malade",null,null,null,null,null,null,null,null,null,null,null,null,null,0,null,null,"","",2,{"$f":"IF(OR(N333=\"champagnole\",N333=\"\"),\"\",1)","v":""}]
[null,null,null,null,null,null,2011,{"$f":"IF(K334=\"\",\"\",VLOOKUP(I334,'Suiv Contr '!$D$14:$E$25,2))","v":"mars"},3,4,"2011-03-17","Germain",{"$f":"N334","v":"Champagnole"},"Champagnole",null,null,{"$f":"IF(N334=\"\",\"\",VLOOKUP(N334,Ville!$A$3:$E$40,4,0))","v":"p"},{"$f":"IF(Q334=\"v\",1,0)","v":0},{"$f":"IF(N334=\"\",0,VLOOKUP(N334,Ville!$A$3:$E$40,3,0))","v":"00:00:00"},null,5,1,null,null,null,null,1,null,6,6,{"$f":"IF(N334=\"\",\"\",VLOOKUP(N334,Ville!$A$3:$E$40,2,0))","v":0},null,null,null,null,null,null,null,null,null,null,null,null,null,null,{"$f":"SUM(AH334:AS334)","v":0},null,null,"","","",""]
[null,null,null,null,null,null,2011,{"$f":"IF(K335=\"\",\"\",VLOOKUP(I335,'Suiv Contr '!$D$14:$E$25,2))","v":"mars"},3,5,"2011-03-18","Germain","Champagnole","Champagnole",null,null,{"$f":"IF(N335=\"\",\"\",VLOOKUP(N335,Ville!$A$3:$E$40,4,0))","v":"p"},0,{"$f":"IF(N335=\"\",0,VLOOKUP(N335,Ville!$A$3:$E$40,3,0))","v":"00:00:00"},null,2,null,null,null,1,null,null,null,2,3,{"$f":"IF(N335=\"\",\"\",VLOOKUP(N335,Ville!$A$3:$E$40,2,0))","v":0},null,null,null,null,null,null,null,null,null,null,null,null,null,null,0,null,null,"","","",""]
[null,null,null,null,null,null,2011,{"$f":"IF(K336=\"\",\"\",VLOOKUP(I336,'Suiv Contr '!$D$14:$E$25,2))","v":"mars"},3,1,"2011-03-21","Germain","Villefranche","Villefranche",null,null,{"$f":"IF(N336=\"\",\"\",VLOOKUP(N336,Ville!$A$3:$E$40,4,0))","v":"sp"},0,{"$f":"IF(N336=\"\",0,VLOOKUP(N336,Ville!$A$3:$E$40,3,0))","v":"03:00:00"},null,7,2,null,null,null,null,null,null,9,9,{"$f":"IF(N336=\"\",\"\",VLOOKUP(N336,Ville!$A$3:$E$40,2,0))","v":390},null,null,null,null,null,null,null,null,null,null,null,null,null,null,0,null,null,"","","",1]
[null,null,null,null,null,null,2011,{"$f":"IF(K337=\"\",\"\",VLOOKUP(I337,'Suiv Contr '!$D$14:$E$25,2))","v":"mars"},3,2,"2011-03-22","Germain","Champagnole","Champagnole",null,null,{"$f":"IF(N337=\"\",\"\",VLOOKUP(N337,Ville!$A$3:$E$40,4,0))","v":"p"},0,{"$f":"IF(N337=\"\",0,VLOOKUP(N337,Ville!$A$3:$E$40,3,0))","v":"00:00:00"},null,4,1,null,null,1,null,null,null,5,6,{"$f":"IF(N337=\"\",\"\",VLOOKUP(N337,Ville!$A$3:$E$40,2,0))","v":0},null,null,null,null,null,null,null,null,null,null,null,null,null,null,0,null,null,"","","",""]
[null,null,null,null,null,null,2011,{"$f":"IF(K338=\"\",\"\",VLOOKUP(I338,'Suiv Contr '!$D$14:$E$25,2))","v":"mars"},3,3,"2011-03-23","Germain","Villefranche","Villefranche",null,null,{"$f":"IF(N338=\"\",\"\",VLOOKUP(N338,Ville!$A$3:$E$40,4,0))","v":"sp"},0,{"$f":"IF(N338=\"\",0,VLOOKUP(N338,Ville!$A$3:$E$40,3,0))","v":"03:00:00"},null,3,2,null,null,1,2,null,null,{"$f":"U338+V338+W338+X338","v":5},{"$f":"AC338+Y338","v":6},{"$f":"IF(N338=\"\",\"\",VLOOKUP(N338,Ville!$A$3:$E$40,2,0))","v":390},null,null,null,null,null,null,null,null,null,null,null,null,null,null,0,null,null,"","","",1]
[null,null,null,null,null,null,2011,{"$f":"IF(K339=\"\",\"\",VLOOKUP(I339,'Suiv Contr '!$D$14:$E$25,2))","v":"mars"},3,4,"2011-03-24","Germain","Champagnole","Champagnole",null,null,{"$f":"IF(N339=\"\",\"\",VLOOKUP(N339,Ville!$A$3:$E$40,4,0))","v":"p"},0,{"$f":"IF(N339=\"\",0,VLOOKUP(N339,Ville!$A$3:$E$40,3,0))","v":"00:00:00"},null,6,1,null,null,null,null,1,null,7,7,{"$f":"IF(N339=\"\",\"\",VLOOKUP(N339,Ville!$A$3:$E$40,2,0))","v":0},null,null,null,null,null,null,null,null,null,null,null,null,null,null,0,null,null,"","","",""]
[null,null,null,null,null,null,2011,{"$f":"IF(K340=\"\",\"\",VLOOKUP(I340,'Suiv Contr '!$D$14:$E$25,2))","v":"mars"},3,5,"2011-03-25","Germain","Champagnole","Champagnole",null,null,{"$f":"IF(N340=\"\",\"\",VLOOKUP(N340,Ville!$A$3:$E$40,4,0))","v":"p"},0,{"$f":"IF(N340=\"\",0,VLOOKUP(N340,Ville!$A$3:$E$40,3,0))","v":"00:00:00"},null,6,null,null,null,null,null,null,null,6,6,{"$f":"IF(N340=\"\",\"\",VLOOKUP(N340,Ville!$A$3:$E$40,2,0))","v":0},null,null,null,null,null,null,null,null,null,null,null,null,null,null,0,null,null,"","","",""]
[null,null,null,null,null,null,2011,{"$f":"IF(K341=\"\",\"\",VLOOKUP(I341,'Suiv Contr '!$D$14:$E$25,2))","v":"mars"},3,1,"2011-03-28","Germain","Champagnole","Champagnole",null,null,{"$f":"IF(N341=\"\",\"\",VLOOKUP(N341,Ville!$A$3:$E$40,4,0))","v":"p"},0,{"$f":"IF(N341=\"\",0,VLOOKUP(N341,Ville!$A$3:$E$40,3,0))","v":"00:00:00"},null,5,1,1,null,1,null,null,null,7,8,{"$f":"IF(N341=\"\",\"\",VLOOKUP(N341,Ville!$A$3:$E$40,2,0))","v":0},null,null,null,null,null,null,null,null,null,null,null,null,null,null,0,null,null,"","","",""]
[null,null,null,null,null,null,2011,{"$f":"IF(K342=\"\",\"\",VLOOKUP(I342,'Suiv Contr '!$D$14:$E$25,2))","v":"mars"},3,2,"2011-03-29","Germain","Ennery","Ennery",null,null,"f",0,{"$f":"IF(N342=\"\",0,VLOOKUP(N342,Ville!$A$3:$E$40,3,0))","v":"06:00:00"},null,null,null,null,null,null,null,null,null,0,0,{"$f":"IF(N342=\"\",\"\",VLOOKUP(N342,Ville!$A$3:$E$40,2,0))","v":752},"MQ",null,null,null,null,null,null,null,null,null,null,null,null,null,0,null,null,"","","",1]
[null,null,null,null,null,null,2011,{"$f":"IF(K343=\"\",\"\",VLOOKUP(I343,'Suiv Contr '!$D$14:$E$25,2))","v":"mars"},3,3,"2011-03-30","Germain","Ennery","Ennery",null,null,"f",0,null,null,null,null,null,null,null,null,null,null,0,0,null,"MQ",null,null,null,null,null,null,null,null,null,null,null,null,null,0,null,null,"","","",1]
[null,null,null,null,null,null,2011,{"$f":"IF(K344=\"\",\"\",VLOOKUP(I344,'Suiv Contr '!$D$14:$E$25,2))","v":"mars"},3,4,"2011-03-31","Germain","Ennery","Ennery",null,null,"f",0,null,null,null,null,null,null,null,null,null,null,0,0,null,"MQ",null,null,null,null,null,null,null,null,null,null,null,null,null,0,null,null,"","","",1]
[null,null,null,null,null,null,2011,{"$f":"IF(K345=\"\",\"\",VLOOKUP(I345,'Suiv Contr '!$D$14:$E$25,2))","v":"avril"},4,5,"2011-04-01","Germain","Ennery","Ennery",null,null,"f",0,{"$f":"IF(N345=\"\",0,VLOOKUP(N345,Ville!$A$3:$E$40,3,0))","v":"06:00:00"},null,null,null,null,null,null,null,null,null,0,0,null,"MQ",null,0,0,0,0,0,0,0,0,0,0,0,0,0,null,null,"","","",1]
[null,null,null,null,null,null,2011,{"$f":"IF(K346=\"\",\"\",VLOOKUP(I346,'Suiv Contr '!$D$14:$E$25,2))","v":"avril"},4,1,"2011-04-04","Germain","Besançon sp","Besançon sp",null,null,{"$f":"IF(N346=\"\",\"\",VLOOKUP(N346,Ville!$A$3:$E$40,4,0))","v":"sp"},0,{"$f":"IF(N346=\"\",0,VLOOKUP(N346,Ville!$A$3:$E$40,3,0))","v":"01:50:00"},null,7,null,null,null,1,1,null,null,7,8,{"$f":"IF(N346=\"\",\"\",VLOOKUP(N346,Ville!$A$3:$E$40,2,0))","v":152},null,null,0,0,0,6.5,0,0,0,0,1.4,0,0,0,7.9,null,null,"","","",1]
[null,null,null,null,null,null,2011,{"$f":"IF(K347=\"\",\"\",VLOOKUP(I347,'Suiv Contr '!$D$14:$E$25,2))","v":"avril"},4,2,"2011-04-05","Germain","Champagnole","Champagnole",null,null,{"$f":"IF(N347=\"\",\"\",VLOOKUP(N347,Ville!$A$3:$E$40,4,0))","v":"p"},0,{"$f":"IF(N347=\"\",0,VLOOKUP(N347,Ville!$A$3:$E$40,3,0))","v":"00:00:00"},null,5,1,null,null,null,1,1,null,6,6,{"$f":"IF(N347=\"\",\"\",VLOOKUP(N347,Ville!$A$3:$E$40,2,0))","v":0},null,null,50.04,0,0,0,0,0,0,0,0,0,0,0,50.04,null,null,"","","",""]
[null,null,null,null,null,null,2011,{"$f":"IF(K348=\"\",\"\",VLOOKUP(I348,'Suiv Contr '!$D$14:$E$25,2))","v":"avril"},4,3,"2011-04-06","Germain","Villefranche","Villefranche",null,null,{"$f":"IF(N348=\"\",\"\",VLOOKUP(N348,Ville!$A$3:$E$40,4,0))","v":"sp"},0,{"$f":"IF(N348=\"\",0,VLOOKUP(N348,Ville!$A$3:$E$40,3,0))","v":"03:00:00"},null,5,2,null,null,null,null,null,null,7,7,{"$f":"IF(N348=\"\",\"\",VLOOKUP(N348,Ville!$A$3:$E$40,2,0))","v":390},null,null,0,19.8,0,3.58,0,0,0,0,0,0,0,0,23.380000000000003,null,null,"","","",1]
[null,null,null,null,null,null,2011,{"$f":"IF(K349=\"\",\"\",VLOOKUP(I349,'Suiv Contr '!$D$14:$E$25,2))","v":"avril"},4,4,"2011-04-07","Germain","Champagnole","Champagnole",null,null,{"$f":"IF(N349=\"\",\"\",VLOOKUP(N349,Ville!$A$3:$E$40,4,0))","v":"p"},0,{"$f":"IF(N349=\"\",0,VLOOKUP(N349,Ville!$A$3:$E$40,3,0))","v":"00:00:00"},null,5,1,null,null,2,null,null,null,6,8,{"$f":"IF(N349=\"\",\"\",VLOOKUP(N349,Ville!$A$3:$E$40,2,0))","v":0},null,null,0,0,0,0,0,0,0,0,0,0,0,0,0,null,null,"","","",""]
[null,null,null,null,null,null,2011,{"$f":"IF(K350=\"\",\"\",VLOOKUP(I350,'Suiv Contr '!$D$14:$E$25,2))","v":"avril"},4,5,"2011-04-08","Germain","Champagnole","Champagnole",null,null,{"$f":"IF(N350=\"\",\"\",VLOOKUP(N350,Ville!$A$3:$E$40,4,0))","v":"p"},0,{"$f":"IF(N350=\"\",0,VLOOKUP(N350,Ville!$A$3:$E$40,3,0))","v":"00:00:00"},null,5,2,null,null,1,null,2,1,7,8,{"$f":"IF(N350=\"\",\"\",VLOOKUP(N350,Ville!$A$3:$E$40,2,0))","v":0},null,null,0,0,0,0,0,0,0,0,0,0,0,0,0,null,null,"","","",""]
[null,null,null,null,null,null,2011,{"$f":"IF(K351=\"\",\"\",VLOOKUP(I351,'Suiv Contr '!$D$14:$E$25,2))","v":"avril"},4,1,"2011-04-11","Germain","Meythet","Meythet",null,null,{"$f":"IF(N351=\"\",\"\",VLOOKUP(N351,Ville!$A$3:$E$40,4,0))","v":"ca"},0,{"$f":"IF(N351=\"\",0,VLOOKUP(N351,Ville!$A$3:$E$40,3,0))","v":"04:20:00"},null,9,null,null,null,1,1,null,null,9,10,{"$f":"IF(N351=\"\",\"\",VLOOKUP(N351,Ville!$A$3:$E$40,2,0))","v":298},null,null,46,11.8,0,4.5,0,0,0,0,0,0,0,0,62.3,null,null,"","","",1]
[null,null,null,null,null,null,2011,{"$f":"IF(K352=\"\",\"\",VLOOKUP(I352,'Suiv Contr '!$D$14:$E$25,2))","v":"avril"},4,2,"2011-04-12","Germain","Champagnole","Champagnole",null,null,{"$f":"IF(N352=\"\",\"\",VLOOKUP(N352,Ville!$A$3:$E$40,4,0))","v":"p"},0,{"$f":"IF(N352=\"\",0,VLOOKUP(N352,Ville!$A$3:$E$40,3,0))","v":"00:00:00"},null,5,null,null,null,null,1,1,null,5,5,{"$f":"IF(N352=\"\",\"\",VLOOKUP(N352,Ville!$A$3:$E$40,2,0))","v":0},null,null,0,0,0,null,0,0,0,0,0,0,0,0,0,null,null,"","","",""]
[null,null,null,null,null,null,2011,{"$f":"IF(K353=\"\",\"\",VLOOKUP(I353,'Suiv Contr '!$D$14:$E$25,2))","v":"avril"},4,3,"2011-04-13","Germain","Villefranche","Villefranche",null,null,{"$f":"IF(N353=\"\",\"\",VLOOKUP(N353,Ville!$A$3:$E$40,4,0))","v":"sp"},0,{"$f":"IF(N353=\"\",0,VLOOKUP(N353,Ville!$A$3:$E$40,3,0))","v":"03:00:00"},null,6,3,null,null,null,2,null,null,9,9,{"$f":"IF(N353=\"\",\"\",VLOOKUP(N353,Ville!$A$3:$E$40,2,0))","v":390},null,null,0,19.8,0,0,0,0,0,0,0,0,0,0,19.8,null,null,"","","",1]
[null,null,null,null,null,null,2011,{"$f":"IF(K354=\"\",\"\",VLOOKUP(I354,'Suiv Contr '!$D$14:$E$25,2))","v":"avril"},4,4,"2011-04-14","Germain","Champagnole","Champagnole",null,null,{"$f":"IF(N354=\"\",\"\",VLOOKUP(N354,Ville!$A$3:$E$40,4,0))","v":"p"},0,{"$f":"IF(N354=\"\",0,VLOOKUP(N354,Ville!$A$3:$E$40,3,0))","v":"00:00:00"},null,4,null,null,null,1,null,null,null,4,5,{"$f":"IF(N354=\"\",\"\",VLOOKUP(N354,Ville!$A$3:$E$40,2,0))","v":0},null,null,40,null,0,0,0,0,0,0,0,0,0,0,40,null,null,"","","",""]
[null,null,null,null,null,null,2011,{"$f":"IF(K355=\"\",\"\",VLOOKUP(I355,'Suiv Contr '!$D$14:$E$25,2))","v":"avril"},4,5,"2011-04-15","Germain","Champagnole","Champagnole",null,null,{"$f":"IF(N355=\"\",\"\",VLOOKUP(N355,Ville!$A$3:$E$40,4,0))","v":"p"},0,{"$f":"IF(N355=\"\",0,VLOOKUP(N355,Ville!$A$3:$E$40,3,0))","v":"00:00:00"},null,4,null,null,null,null,null,1,null,4,4,{"$f":"IF(N355=\"\",\"\",VLOOKUP(N355,Ville!$A$3:$E$40,2,0))","v":0},"Inspection du travail",null,0,0,0,0,0,0,0,0,0,0,0,0,0,null,null,"","","",""]
[null,null,null,null,null,null,2011,{"$f":"IF(K356=\"\",\"\",VLOOKUP(I356,'Suiv Contr '!$D$14:$E$25,2))","v":"avril"},4,1,"2011-04-18","Germain","Besançon sp","Besançon sp",null,null,{"$f":"IF(N356=\"\",\"\",VLOOKUP(N356,Ville!$A$3:$E$40,4,0))","v":"sp"},0,{"$f":"IF(N356=\"\",0,VLOOKUP(N356,Ville!$A$3:$E$40,3,0))","v":"01:50:00"},null,6,1,null,null,null,null,null,null,7,7,{"$f":"IF(N356=\"\",\"\",VLOOKUP(N356,Ville!$A$3:$E$40,2,0))","v":152},null,null,0,0,0,5.9,0,0,0,0,0,0,0,0,5.9,null,null,"","","",1]
[null,null,null,null,null,null,2011,{"$f":"IF(K357=\"\",\"\",VLOOKUP(I357,'Suiv Contr '!$D$14:$E$25,2))","v":"avril"},4,2,"2011-04-19","Germain","Champagnole","Champagnole",null,null,{"$f":"IF(N357=\"\",\"\",VLOOKUP(N357,Ville!$A$3:$E$40,4,0))","v":"p"},{"$f":"IF(Q357=\"v\",1,0)","v":0},{"$f":"IF(N357=\"\",0,VLOOKUP(N357,Ville!$A$3:$E$40,3,0))","v":"00:00:00"},null,1,null,null,null,1,null,null,null,1,2,{"$f":"IF(N359=\"\",\"\",VLOOKUP(N359,Ville!$A$3:$E$40,2,0))","v":0},null,null,20,0,0,0,0,0,0,0,0,0,0,0,20,null,null,"","","",""]
[null,null,null,null,null,null,2011,{"$f":"IF(K358=\"\",\"\",VLOOKUP(I358,'Suiv Contr '!$D$14:$E$25,2))","v":"avril"},4,3,"2011-04-20","Germain","Besançon sp","Besançon sp",null,null,{"$f":"IF(N358=\"\",\"\",VLOOKUP(N358,Ville!$A$3:$E$40,4,0))","v":"sp"},0,{"$f":"IF(N358=\"\",0,VLOOKUP(N358,Ville!$A$3:$E$40,3,0))","v":"01:50:00"},null,6,1,1,null,null,null,1,null,8,8,{"$f":"IF(N358=\"\",\"\",VLOOKUP(N358,Ville!$A$3:$E$40,2,0))","v":152},null,null,0,0,0,5.9,0,0,0,0,0,0,0,0,5.9,null,null,"","","",1]
[null,null,null,null,null,null,2011,{"$f":"IF(K359=\"\",\"\",VLOOKUP(I359,'Suiv Contr '!$D$14:$E$25,2))","v":"avril"},4,4,"2011-04-21","Germain","Champagnole","Champagnole",null,null,{"$f":"IF(N359=\"\",\"\",VLOOKUP(N359,Ville!$A$3:$E$40,4,0))","v":"p"},0,{"$f":"IF(N359=\"\",0,VLOOKUP(N359,Ville!$A$3:$E$40,3,0))","v":"00:00:00"},null,2,1,null,null,null,null,null,null,3,3,{"$f":"IF(N359=\"\",\"\",VLOOKUP(N359,Ville!$A$3:$E$40,2,0))","v":0},"verif banc + VSI",null,0,0,0,15.8,0,0,0,0,0,0,0,0,15.8,null,null,"","","",""]
[null,null,null,null,null,null,2011,{"$f":"IF(K360=\"\",\"\",VLOOKUP(I360,'Suiv Contr '!$D$14:$E$25,2))","v":"avril"},4,5,"2011-04-22","Germain","Champagnole","Champagnole",null,null,{"$f":"IF(N360=\"\",\"\",VLOOKUP(N360,Ville!$A$3:$E$40,4,0))","v":"p"},0,{"$f":"IF(N360=\"\",0,VLOOKUP(N360,Ville!$A$3:$E$40,3,0))","v":"00:00:00"},null,4,null,null,null,null,null,null,null,4,4,{"$f":"IF(N360=\"\",\"\",VLOOKUP(N360,Ville!$A$3:$E$40,2,0))","v":0},"VSI + Audit",null,0,0,0,19.100000000000001,0,0,0,0,0,0,0,0,19.100000000000001,null,null,"","","",""]
[null,null,null,null,null,null,2011,{"$f":"IF(K361=\"\",\"\",VLOOKUP(I361,'Suiv Contr '!$D$14:$E$25,2))","v":"avril"},4,2,"2011-04-26","Germain","Champagnole","Champagnole",null,null,{"$f":"IF(N361=\"\",\"\",VLOOKUP(N361,Ville!$A$3:$E$40,4,0))","v":"p"},0,{"$f":"IF(N361=\"\",0,VLOOKUP(N361,Ville!$A$3:$E$40,3,0))","v":"00:00:00"},null,5,1,1,null,null,2,null,null,7,7,{"$f":"IF(N361=\"\",\"\",VLOOKUP(N361,Ville!$A$3:$E$40,2,0))","v":0},null,null,20,0,0,0,0,0,0,0,0,0,0,0,20,null,null,"","","",""]
[null,null,null,null,null,null,2011,{"$f":"IF(K362=\"\",\"\",VLOOKUP(I362,'Suiv Contr '!$D$14:$E$25,2))","v":"avril"},4,3,"2011-04-27","Germain","Villefranche","Villefranche",null,null,{"$f":"IF(N362=\"\",\"\",VLOOKUP(N362,Ville!$A$3:$E$40,4,0))","v":"sp"},0,{"$f":"IF(N362=\"\",0,VLOOKUP(N362,Ville!$A$3:$E$40,3,0))","v":"03:00:00"},null,8,1,null,1,1,null,1,null,10,11,{"$f":"IF(N362=\"\",\"\",VLOOKUP(N362,Ville!$A$3:$E$40,2,0))","v":390},null,null,50.8,19.8,0,7.9,0,0,0,0,0,0,0,0,78.5,null,null,"","","",1]
[null,null,null,null,null,null,2011,{"$f":"IF(K363=\"\",\"\",VLOOKUP(I363,'Suiv Contr '!$D$14:$E$25,2))","v":"avril"},4,4,"2011-04-28","Germain","Champagnole","Champagnole",null,null,{"$f":"IF(N363=\"\",\"\",VLOOKUP(N363,Ville!$A$3:$E$40,4,0))","v":"p"},0,{"$f":"IF(N363=\"\",0,VLOOKUP(N363,Ville!$A$3:$E$40,3,0))","v":"00:00:00"},null,3,null,null,null,null,null,null,null,3,3,{"$f":"IF(N363=\"\",\"\",VLOOKUP(N363,Ville!$A$3:$E$40,2,0))","v":0},null,null,0,0,0,0,0,0,0,0,0,0,0,0,0,null,null,"","","",""]
[null,null,null,null,null,null,2011,{"$f":"IF(K364=\"\",\"\",VLOOKUP(I364,'Suiv Contr '!$D$14:$E$25,2))","v":"avril"},4,5,"2011-04-29","Germain","Champagnole","Champagnole",null,null,{"$f":"IF(N364=\"\",\"\",VLOOKUP(N364,Ville!$A$3:$E$40,4,0))","v":"p"},0,{"$f":"IF(N364=\"\",0,VLOOKUP(N364,Ville!$A$3:$E$40,3,0))","v":"00:00:00"},null,9,null,null,null,null,null,1,null,9,9,{"$f":"IF(N364=\"\",\"\",VLOOKUP(N364,Ville!$A$3:$E$40,2,0))","v":0},null,null,0,0,0,0,0,0,0,0,0,0,0,0,0,null,null,"","","",""]
[null,null,null,null,null,null,2011,{"$f":"IF(K365=\"\",\"\",VLOOKUP(I365,'Suiv Contr '!$D$14:$E$25,2))","v":"mai"},5,1,"2011-05-02","Germain","00:00:00",null,null,null,"rec",0,{"$f":"IF(N365=\"\",0,VLOOKUP(N365,Ville!$A$3:$E$40,3,0))","v":"00:00:00"},"07:00:00",null,null,null,null,null,null,null,null,0,0,{"$f":"IF(N365=\"\",\"\",VLOOKUP(N365,Ville!$A$3:$E$40,2,0))","v":""},null,null,0,0,0,0,0,0,0,0,0,0,0,0,0,null,null,"","",2,""]
[null,null,null,null,null,null,2011,{"$f":"IF(K366=\"\",\"\",VLOOKUP(I366,'Suiv Contr '!$D$14:$E$25,2))","v":"mai"},5,2,"2011-05-03","Germain","00:00:00",null,null,null,"rec",0,{"$f":"IF(N366=\"\",0,VLOOKUP(N366,Ville!$A$3:$E$40,3,0))","v":"00:00:00"},"07:00:00",null,null,null,null,null,null,null,null,0,0,{"$f":"IF(N366=\"\",\"\",VLOOKUP(N366,Ville!$A$3:$E$40,2,0))","v":""},null,null,0,0,0,0,0,0,0,0,0,0,0,0,0,null,null,"","",2,""]
[null,null,null,null,null,null,2011,{"$f":"IF(K367=\"\",\"\",VLOOKUP(I367,'Suiv Contr '!$D$14:$E$25,2))","v":"mai"},5,3,"2011-05-04","Germain","00:00:00",null,null,null,"v",1,{"$f":"IF(N367=\"\",0,VLOOKUP(N367,Ville!$A$3:$E$40,3,0))","v":"00:00:00"},null,null,null,null,null,null,null,null,null,0,0,{"$f":"IF(N367=\"\",\"\",VLOOKUP(N367,Ville!$A$3:$E$40,2,0))","v":""},null,null,0,0,0,0,0,0,0,0,0,0,0,0,0,null,null,"",3,"",""]
[null,null,null,null,null,null,2011,{"$f":"IF(K368=\"\",\"\",VLOOKUP(I368,'Suiv Contr '!$D$14:$E$25,2))","v":"mai"},5,4,"2011-05-05","Germain","00:00:00",null,null,null,"v",1,{"$f":"IF(N368=\"\",0,VLOOKUP(N368,Ville!$A$3:$E$40,3,0))","v":"00:00:00"},null,null,null,null,null,null,null,null,null,0,0,{"$f":"IF(N368=\"\",\"\",VLOOKUP(N368,Ville!$A$3:$E$40,2,0))","v":""},null,null,0,0,0,0,0,0,0,0,0,0,0,0,0,null,null,"",3,"",""]
[null,null,null,null,null,null,2011,"mai",null,null,"2011-05-06","Boyer","Champagnole","Champagnole",null,null,"ex",null,null,null,10,2,null,null,null,null,null,null,null,null,null,null,null,null,null,null,null,null,null,null,null,null,null,null,null,null,null,null,"",null,null,""]
[null,null,null,null,null,null,2011,{"$f":"IF(K370=\"\",\"\",VLOOKUP(I370,'Suiv Contr '!$D$14:$E$25,2))","v":"mai"},5,5,"2011-05-06","Germain","00:00:00",null,null,null,"v",1,{"$f":"IF(N370=\"\",0,VLOOKUP(N370,Ville!$A$3:$E$40,3,0))","v":"00:00:00"},null,null,null,null,null,null,null,null,null,0,0,{"$f":"IF(N370=\"\",\"\",VLOOKUP(N370,Ville!$A$3:$E$40,2,0))","v":""},null,null,0,0,0,0,0,0,0,0,0,0,0,0,0,null,null,"",3,"",""]
[null,null,null,null,null,null,2011,{"$f":"IF(K371=\"\",\"\",VLOOKUP(I371,'Suiv Contr '!$D$14:$E$25,2))","v":"mai"},5,5,"2011-05-06","Boyer","Champagnole","Champagnole",null,null,"ex",0,{"$f":"IF(N371=\"\",0,VLOOKUP(N371,Ville!$A$3:$E$40,3,0))","v":"00:00:00"},null,9,2,1,null,null,null,2,null,12,12,{"$f":"IF(N371=\"\",\"\",VLOOKUP(N371,Ville!$A$3:$E$40,2,0))","v":0},null,null,0,0,0,0,0,0,0,0,0,0,0,0,0,null,null,"","","",""]
[null,null,null,null,null,null,2011,{"$f":"IF(K372=\"\",\"\",VLOOKUP(I372,'Suiv Contr '!$D$14:$E$25,2))","v":"mai"},5,1,"2011-05-09","Germain","Villefranche","Villefranche",null,null,{"$f":"IF(N372=\"\",\"\",VLOOKUP(N372,Ville!$A$3:$E$40,4,0))","v":"sp"},0,{"$f":"IF(N372=\"\",0,VLOOKUP(N372,Ville!$A$3:$E$40,3,0))","v":"03:00:00"},null,8,null,null,null,1,1,1,null,8,9,{"$f":"IF(N372=\"\",\"\",VLOOKUP(N372,Ville!$A$3:$E$40,2,0))","v":390},null,null,0,0,0,7.45,0,0,0,0,0,0,0,0,7.45,null,null,"","","",1]
[null,null,null,null,null,null,2011,{"$f":"IF(K373=\"\",\"\",VLOOKUP(I373,'Suiv Contr '!$D$14:$E$25,2))","v":"mai"},5,2,"2011-05-10","Germain","Champagnole","Champagnole",null,null,{"$f":"IF(N373=\"\",\"\",VLOOKUP(N373,Ville!$A$3:$E$40,4,0))","v":"p"},0,{"$f":"IF(N373=\"\",0,VLOOKUP(N373,Ville!$A$3:$E$40,3,0))","v":"00:00:00"},null,15,null,null,null,null,2,null,null,15,15,{"$f":"IF(N373=\"\",\"\",VLOOKUP(N373,Ville!$A$3:$E$40,2,0))","v":0},null,null,0,0,0,0,0,0,0,0,0,0,0,0,0,null,null,"","","",""]
[null,null,null,null,null,null,2011,{"$f":"IF(K374=\"\",\"\",VLOOKUP(I374,'Suiv Contr '!$D$14:$E$25,2))","v":"mai"},5,3,"2011-05-11","Germain","Villefranche","Villefranche",null,null,{"$f":"IF(N374=\"\",\"\",VLOOKUP(N374,Ville!$A$3:$E$40,4,0))","v":"sp"},0,{"$f":"IF(N374=\"\",0,VLOOKUP(N374,Ville!$A$3:$E$40,3,0))","v":"03:00:00"},null,9,3,null,null,null,1,null,null,12,12,{"$f":"IF(N374=\"\",\"\",VLOOKUP(N374,Ville!$A$3:$E$40,2,0))","v":390},null,null,0,0,0,0,0,0,0,0,0,0,0,0,0,null,null,"","","",1]
[null,null,null,null,null,null,2011,{"$f":"IF(K375=\"\",\"\",VLOOKUP(I375,'Suiv Contr '!$D$14:$E$25,2))","v":"mai"},5,4,"2011-05-12","Germain","Champagnole","Champagnole",null,null,{"$f":"IF(N375=\"\",\"\",VLOOKUP(N375,Ville!$A$3:$E$40,4,0))","v":"p"},null,null,null,10,null,null,null,1,1,null,null,{"$f":"U375+V375+W375+X375","v":10},{"$f":"AC375+Y375","v":11},{"$f":"IF(N375=\"\",\"\",VLOOKUP(N375,Ville!$A$3:$E$40,2,0))","v":0},null,null,0,0,0,0,0,0,0,0,0,0,0,0,0,null,null,"","","",""]
[null,null,null,null,null,null,2011,{"$f":"IF(K376=\"\",\"\",VLOOKUP(I376,'Suiv Contr '!$D$14:$E$25,2))","v":"mai"},5,5,"2011-05-13","Germain","Champagnole","Champagnole",null,null,{"$f":"IF(N376=\"\",\"\",VLOOKUP(N376,Ville!$A$3:$E$40,4,0))","v":"p"},0,{"$f":"IF(N376=\"\",0,VLOOKUP(N376,Ville!$A$3:$E$40,3,0))","v":"00:00:00"},null,2,null,1,null,null,null,null,null,3,3,{"$f":"IF(N376=\"\",\"\",VLOOKUP(N376,Ville!$A$3:$E$40,2,0))","v":0},"Gaz",null,0,0,0,0,0,0,0,0,0,0,0,0,0,null,null,"","","",""]
[null,null,null,null,null,null,2011,{"$f":"IF(K377=\"\",\"\",VLOOKUP(I377,'Suiv Contr '!$D$14:$E$25,2))","v":"mai"},5,1,"2011-05-16","Germain","Meythet","Meythet",null,null,{"$f":"IF(N377=\"\",\"\",VLOOKUP(N377,Ville!$A$3:$E$40,4,0))","v":"ca"},0,{"$f":"IF(N377=\"\",0,VLOOKUP(N377,Ville!$A$3:$E$40,3,0))","v":"04:20:00"},null,10,null,null,null,null,2,null,null,10,10,{"$f":"IF(N377=\"\",\"\",VLOOKUP(N377,Ville!$A$3:$E$40,2,0))","v":298},null,null,35,0,0,0,0,0,0,0,0,0,0,0,35,null,null,"","","",1]
[null,null,null,null,null,null,2011,{"$f":"IF(K378=\"\",\"\",VLOOKUP(I378,'Suiv Contr '!$D$14:$E$25,2))","v":"mai"},5,2,"2011-05-17","Germain","Champagnole","Champagnole",null,null,{"$f":"IF(N378=\"\",\"\",VLOOKUP(N378,Ville!$A$3:$E$40,4,0))","v":"p"},0,{"$f":"IF(N378=\"\",0,VLOOKUP(N378,Ville!$A$3:$E$40,3,0))","v":"00:00:00"},null,8,1,null,null,null,null,null,null,9,9,{"$f":"IF(N378=\"\",\"\",VLOOKUP(N378,Ville!$A$3:$E$40,2,0))","v":0},null,null,0,0,0,0,0,0,0,0,0,0,0,0,0,null,null,"","","",""]
[null,null,null,null,null,null,2011,{"$f":"IF(K379=\"\",\"\",VLOOKUP(I379,'Suiv Contr '!$D$14:$E$25,2))","v":"mai"},5,3,"2011-05-18","Germain","Besançon sp","Besançon sp",null,null,{"$f":"IF(N379=\"\",\"\",VLOOKUP(N379,Ville!$A$3:$E$40,4,0))","v":"sp"},0,{"$f":"IF(N379=\"\",0,VLOOKUP(N379,Ville!$A$3:$E$40,3,0))","v":"01:50:00"},null,5,3,null,null,null,null,null,null,8,8,{"$f":"IF(N379=\"\",\"\",VLOOKUP(N379,Ville!$A$3:$E$40,2,0))","v":152},null,null,0,0,0,0,0,0,0,0,0,0,0,0,0,null,null,"","","",1]
[null,null,null,null,null,null,2011,{"$f":"IF(K380=\"\",\"\",VLOOKUP(I380,'Suiv Contr '!$D$14:$E$25,2))","v":"mai"},5,4,"2011-05-19","Germain","Champagnole","Champagnole",null,null,{"$f":"IF(N380=\"\",\"\",VLOOKUP(N380,Ville!$A$3:$E$40,4,0))","v":"p"},0,{"$f":"IF(N380=\"\",0,VLOOKUP(N380,Ville!$A$3:$E$40,3,0))","v":"00:00:00"},null,5,null,null,null,2,null,null,null,5,7,{"$f":"IF(N380=\"\",\"\",VLOOKUP(N380,Ville!$A$3:$E$40,2,0))","v":0},null,null,0,0,0,0,0,0,0,0,0,0,0,0,0,null,null,"","","",""]
[null,null,null,null,null,null,2011,{"$f":"IF(K381=\"\",\"\",VLOOKUP(I381,'Suiv Contr '!$D$14:$E$25,2))","v":"mai"},5,5,"2011-05-20","Germain","Champagnole","Champagnole",null,null,{"$f":"IF(N381=\"\",\"\",VLOOKUP(N381,Ville!$A$3:$E$40,4,0))","v":"p"},0,{"$f":"IF(N381=\"\",0,VLOOKUP(N381,Ville!$A$3:$E$40,3,0))","v":"00:00:00"},null,5,3,null,null,null,null,null,null,8,8,{"$f":"IF(N381=\"\",\"\",VLOOKUP(N381,Ville!$A$3:$E$40,2,0))","v":0},null,null,0,0,0,0,0,0,0,0,0,0,0,0,0,null,null,"","","",""]
[null,null,null,null,null,null,2011,{"$f":"IF(K382=\"\",\"\",VLOOKUP(I382,'Suiv Contr '!$D$14:$E$25,2))","v":"mai"},5,1,"2011-05-23","Germain","Villefranche","Villefranche",null,null,{"$f":"IF(N382=\"\",\"\",VLOOKUP(N382,Ville!$A$3:$E$40,4,0))","v":"sp"},0,{"$f":"IF(N382=\"\",0,VLOOKUP(N382,Ville!$A$3:$E$40,3,0))","v":"03:00:00"},null,9,1,null,null,null,null,null,null,10,10,{"$f":"IF(N382=\"\",\"\",VLOOKUP(N382,Ville!$A$3:$E$40,2,0))","v":390},null,null,0,0,0,0,0,0,0,0,0,0,0,0,0,null,null,"","","",1]
[null,null,null,null,null,null,2011,{"$f":"IF(K383=\"\",\"\",VLOOKUP(I383,'Suiv Contr '!$D$14:$E$25,2))","v":"mai"},5,2,"2011-05-24","Germain","Champagnole","Champagnole",null,null,{"$f":"IF(N383=\"\",\"\",VLOOKUP(N383,Ville!$A$3:$E$40,4,0))","v":"p"},0,{"$f":"IF(N383=\"\",0,VLOOKUP(N383,Ville!$A$3:$E$40,3,0))","v":"00:00:00"},null,9,null,3,null,null,null,null,null,12,12,{"$f":"IF(N383=\"\",\"\",VLOOKUP(N383,Ville!$A$3:$E$40,2,0))","v":0},null,null,0,0,0,0,0,0,0,0,0,0,0,0,0,null,null,"","","",""]
[null,null,null,null,null,null,2011,{"$f":"IF(K384=\"\",\"\",VLOOKUP(I384,'Suiv Contr '!$D$14:$E$25,2))","v":"mai"},5,3,"2011-05-25","Germain","Alsace","Alsace",null,null,{"$f":"IF(N384=\"\",\"\",VLOOKUP(N384,Ville!$A$3:$E$40,4,0))","v":"ca"},0,{"$f":"IF(N384=\"\",0,VLOOKUP(N384,Ville!$A$3:$E$40,3,0))","v":"03:00:00"},null,null,11,null,null,1,2,2,null,11,12,{"$f":"IF(N384=\"\",\"\",VLOOKUP(N384,Ville!$A$3:$E$40,2,0))","v":390},null,null,0,0,0,0,0,0,0,0,0,0,0,0,0,null,null,{"$f":"IF(K384=$B$2,1,\"\")","v":""},"","",1]
[null,null,null,null,null,null,2011,{"$f":"IF(K385=\"\",\"\",VLOOKUP(I385,'Suiv Contr '!$D$14:$E$25,2))","v":"mai"},5,4,"2011-05-26","Germain","Champagnole","Champagnole",null,null,{"$f":"IF(N385=\"\",\"\",VLOOKUP(N385,Ville!$A$3:$E$40,4,0))","v":"p"},0,{"$f":"IF(N385=\"\",0,VLOOKUP(N385,Ville!$A$3:$E$40,3,0))","v":"00:00:00"},null,6,1,null,null,1,null,null,null,7,8,{"$f":"IF(N385=\"\",\"\",VLOOKUP(N385,Ville!$A$3:$E$40,2,0))","v":0},null,null,0,0,0,0,0,0,0,0,0,0,0,0,0,null,null,"","","",""]
[null,null,null,null,null,null,2011,{"$f":"IF(K386=\"\",\"\",VLOOKUP(I386,'Suiv Contr '!$D$14:$E$25,2))","v":"mai"},5,5,"2011-05-27","Germain","Champagnole","Champagnole",null,null,{"$f":"IF(N386=\"\",\"\",VLOOKUP(N386,Ville!$A$3:$E$40,4,0))","v":"p"},0,{"$f":"IF(N386=\"\",0,VLOOKUP(N386,Ville!$A$3:$E$40,3,0))","v":"00:00:00"},null,4,null,3,null,null,1,null,null,7,7,{"$f":"IF(N386=\"\",\"\",VLOOKUP(N386,Ville!$A$3:$E$40,2,0))","v":0},null,null,0,0,0,0,0,0,0,0,0,0,0,0,0,null,null,"","","",""]
[null,null,null,null,null,null,2011,{"$f":"IF(K387=\"\",\"\",VLOOKUP(I387,'Suiv Contr '!$D$14:$E$25,2))","v":"mai"},5,1,"2011-05-30","Germain","Villefranche","Villefranche",null,null,{"$f":"IF(N387=\"\",\"\",VLOOKUP(N387,Ville!$A$3:$E$40,4,0))","v":"sp"},0,{"$f":"IF(N387=\"\",0,VLOOKUP(N387,Ville!$A$3:$E$40,3,0))","v":"03:00:00"},null,6,2,1,null,2,1,1,null,9,11,{"$f":"IF(N387=\"\",\"\",VLOOKUP(N387,Ville!$A$3:$E$40,2,0))","v":390},null,null,0,0,0,0,0,0,0,0,0,0,0,0,0,null,null,"","","",1]
[null,null,null,null,null,null,2011,{"$f":"IF(K388=\"\",\"\",VLOOKUP(I388,'Suiv Contr '!$D$14:$E$25,2))","v":"mai"},5,2,"2011-05-31","Germain","Champagnole","Champagnole",null,null,{"$f":"IF(N388=\"\",\"\",VLOOKUP(N388,Ville!$A$3:$E$40,4,0))","v":"p"},0,{"$f":"IF(N388=\"\",0,VLOOKUP(N388,Ville!$A$3:$E$40,3,0))","v":"00:00:00"},null,6,4,null,null,null,null,null,null,10,10,{"$f":"IF(N388=\"\",\"\",VLOOKUP(N388,Ville!$A$3:$E$40,2,0))","v":0},null,null,0,0,0,0,0,0,0,0,0,0,0,0,0,null,null,"","","",""]
[null,null,null,null,null,null,2011,{"$f":"IF(K389=\"\",\"\",VLOOKUP(I389,'Suiv Contr '!$D$14:$E$25,2))","v":"juin"},6,3,"2011-06-01","Germain","La Soie","La Soie",null,null,{"$f":"IF(N389=\"\",\"\",VLOOKUP(N389,Ville!$A$3:$E$40,4,0))","v":"ca"},0,{"$f":"IF(N389=\"\",0,VLOOKUP(N389,Ville!$A$3:$E$40,3,0))","v":"03:00:00"},null,null,9,null,null,3,1,1,null,9,12,{"$f":"IF(N389=\"\",\"\",VLOOKUP(N389,Ville!$A$3:$E$40,2,0))","v":390},null,null,0,0,0,0,0,0,0,0,0,0,0,0,0,null,null,"",{"$f":"IF(Q389=\"v\",3,\"\")","v":""},{"$f":"IF(Q389=\"rec\",2,\"\")","v":""},1]
[null,null,null,null,null,null,2011,{"$f":"IF(K390=\"\",\"\",VLOOKUP(I390,'Suiv Contr '!$D$14:$E$25,2))","v":"juin"},6,5,"2011-06-03","Germain","Champagnole","Champagnole",null,null,{"$f":"IF(N390=\"\",\"\",VLOOKUP(N390,Ville!$A$3:$E$40,4,0))","v":"p"},0,{"$f":"IF(N390=\"\",0,VLOOKUP(N390,Ville!$A$3:$E$40,3,0))","v":"00:00:00"},null,15,null,null,null,1,null,null,null,15,16,{"$f":"IF(N390=\"\",\"\",VLOOKUP(N390,Ville!$A$3:$E$40,2,0))","v":0},null,null,0,0,0,0,0,0,0,0,0,0,0,0,0,null,null,"","","",""]
[null,null,null,null,null,null,2011,{"$f":"IF(K391=\"\",\"\",VLOOKUP(I391,'Suiv Contr '!$D$14:$E$25,2))","v":"juin"},6,1,"2011-06-06","Germain","Villefranche","Villefranche",null,null,{"$f":"IF(N391=\"\",\"\",VLOOKUP(N391,Ville!$A$3:$E$40,4,0))","v":"sp"},0,{"$f":"IF(N391=\"\",0,VLOOKUP(N391,Ville!$A$3:$E$40,3,0))","v":"03:00:00"},null,11,2,null,null,null,null,null,null,13,13,{"$f":"IF(N391=\"\",\"\",VLOOKUP(N391,Ville!$A$3:$E$40,2,0))","v":390},null,null,0,0,0,0,0,0,0,0,0,0,0,0,0,null,null,"","","",1]
[null,null,null,null,null,null,2011,{"$f":"IF(K392=\"\",\"\",VLOOKUP(I392,'Suiv Contr '!$D$14:$E$25,2))","v":"juin"},6,2,"2011-06-07","Germain","Champagnole","Champagnole",null,null,{"$f":"IF(N392=\"\",\"\",VLOOKUP(N392,Ville!$A$3:$E$40,4,0))","v":"p"},0,{"$f":"IF(N392=\"\",0,VLOOKUP(N392,Ville!$A$3:$E$40,3,0))","v":"00:00:00"},null,12,1,null,null,null,2,1,null,13,13,{"$f":"IF(N392=\"\",\"\",VLOOKUP(N392,Ville!$A$3:$E$40,2,0))","v":0},null,null,0,0,0,0,0,0,0,0,0,0,0,0,0,null,null,"","","",""]
[null,null,null,null,null,null,2011,{"$f":"IF(K393=\"\",\"\",VLOOKUP(I393,'Suiv Contr '!$D$14:$E$25,2))","v":"juin"},6,3,"2011-06-08","Germain","Audibert","Audibert",null,null,{"$f":"IF(N393=\"\",\"\",VLOOKUP(N393,Ville!$A$3:$E$40,4,0))","v":"ca"},0,{"$f":"IF(N393=\"\",0,VLOOKUP(N393,Ville!$A$3:$E$40,3,0))","v":"03:10:00"},null,null,11,null,null,1,1,null,null,11,12,{"$f":"IF(N393=\"\",\"\",VLOOKUP(N393,Ville!$A$3:$E$40,2,0))","v":416},null,null,0,0,0,0,0,0,0,0,0,0,0,0,0,null,null,"","","",1]
[null,null,null,null,null,null,2011,{"$f":"IF(K394=\"\",\"\",VLOOKUP(I394,'Suiv Contr '!$D$14:$E$25,2))","v":"juin"},6,4,"2011-06-09","Germain","Champagnole","Champagnole",null,null,{"$f":"IF(N394=\"\",\"\",VLOOKUP(N394,Ville!$A$3:$E$40,4,0))","v":"p"},0,{"$f":"IF(N394=\"\",0,VLOOKUP(N394,Ville!$A$3:$E$40,3,0))","v":"00:00:00"},null,6,2,null,null,null,null,null,null,8,8,{"$f":"IF(N394=\"\",\"\",VLOOKUP(N394,Ville!$A$3:$E$40,2,0))","v":0},null,null,0,0,0,0,0,0,0,0,0,0,0,0,0,null,null,"","","",""]
[null,null,null,null,null,null,2011,{"$f":"IF(K395=\"\",\"\",VLOOKUP(I395,'Suiv Contr '!$D$14:$E$25,2))","v":"juin"},6,5,"2011-06-10","Germain","Champagnole","Champagnole",null,null,{"$f":"IF(N395=\"\",\"\",VLOOKUP(N395,Ville!$A$3:$E$40,4,0))","v":"p"},{"$f":"IF(Q395=\"v\",1,0)","v":0},{"$f":"IF(N395=\"\",0,VLOOKUP(N395,Ville!$A$3:$E$40,3,0))","v":"00:00:00"},null,9,null,null,null,null,null,null,null,9,9,{"$f":"IF(N395=\"\",\"\",VLOOKUP(N395,Ville!$A$3:$E$40,2,0))","v":0},null,null,0,0,0,0,0,0,0,0,0,0,0,0,0,null,null,"","","",""]
[null,null,null,null,null,null,{"$f":"IF(K396=\"\",\"\",YEAR(K396))","v":2011},{"$f":"IF(K396=\"\",\"\",VLOOKUP(I396,'Suiv Contr '!$D$14:$E$25,2))","v":"juin"},{"$f":"IF(K396=\"\",\"\",MONTH(K396))","v":6},{"$f":"IF(K396=\"\",\"\",WEEKDAY(K396,2))","v":1},"2011-06-13","Germain","00:00:00",null,null,null,"v",1,{"$f":"IF(N396=\"\",0,VLOOKUP(N396,Ville!$A$3:$E$40,3,0))","v":"00:00:00"},null,null,null,null,null,null,null,null,null,{"$f":"U396+V396+W396+X396","v":0},{"$f":"AC396+Y396","v":0},{"$f":"IF(N396=\"\",\"\",VLOOKUP(N396,Ville!$A$3:$E$40,2,0))","v":""},null,null,null,null,null,null,null,null,null,null,null,null,null,null,null,null,null,"",null,null,""]
[null,null,null,null,null,null,2011,{"$f":"IF(K397=\"\",\"\",VLOOKUP(I397,'Suiv Contr '!$D$14:$E$25,2))","v":"juin"},6,2,"2011-06-14","Germain","Champagnole","Champagnole",null,null,{"$f":"IF(N397=\"\",\"\",VLOOKUP(N397,Ville!$A$3:$E$40,4,0))","v":"p"},0,{"$f":"IF(N397=\"\",0,VLOOKUP(N397,Ville!$A$3:$E$40,3,0))","v":"00:00:00"},null,3,1,null,null,null,null,null,null,4,4,{"$f":"IF(N397=\"\",\"\",VLOOKUP(N397,Ville!$A$3:$E$40,2,0))","v":0},null,null,0,0,0,0,0,0,0,0,0,0,0,0,0,null,null,"","","",{"$f":"IF(OR(N397=\"champagnole\",N397=\"\"),\"\",1)","v":""}]
[null,null,null,null,null,null,{"$f":"IF(K398=\"\",\"\",YEAR(K398))","v":2011},{"$f":"IF(K398=\"\",\"\",VLOOKUP(I398,'Suiv Contr '!$D$14:$E$25,2))","v":"juin"},{"$f":"IF(K398=\"\",\"\",MONTH(K398))","v":6},{"$f":"IF(K398=\"\",\"\",WEEKDAY(K398,2))","v":3},"2011-06-15","Germain",{"$f":"N398","v":"Besançon sp"},"Besançon sp",null,null,{"$f":"IF(N398=\"\",\"\",VLOOKUP(N398,Ville!$A$3:$E$40,4,0))","v":"sp"},0,{"$f":"IF(N398=\"\",0,VLOOKUP(N398,Ville!$A$3:$E$40,3,0))","v":"01:50:00"},null,1,1,null,null,1,null,1,null,2,3,{"$f":"IF(N398=\"\",\"\",VLOOKUP(N398,Ville!$A$3:$E$40,2,0))","v":152},null,null,0,0,0,0,0,0,0,0,0,0,0,0,0,null,null,"","","",1]
[null,null,null,null,null,null,2011,{"$f":"IF(K399=\"\",\"\",VLOOKUP(I399,'Suiv Contr '!$D$14:$E$25,2))","v":"juin"},6,4,"2011-06-16","Germain","Champagnole","Champagnole",null,null,{"$f":"IF(N399=\"\",\"\",VLOOKUP(N399,Ville!$A$3:$E$40,4,0))","v":"p"},0,{"$f":"IF(N399=\"\",0,VLOOKUP(N399,Ville!$A$3:$E$40,3,0))","v":"00:00:00"},null,10,1,null,null,1,null,1,null,11,12,{"$f":"IF(N399=\"\",\"\",VLOOKUP(N399,Ville!$A$3:$E$40,2,0))","v":0},null,null,0,0,0,0,0,0,0,0,0,0,0,0,0,null,null,"","","",""]
[null,null,null,null,null,null,2011,{"$f":"IF(K400=\"\",\"\",VLOOKUP(I400,'Suiv Contr '!$D$14:$E$25,2))","v":"juin"},6,5,"2011-06-17","Germain","Champagnole","Champagnole",null,null,{"$f":"IF(N400=\"\",\"\",VLOOKUP(N400,Ville!$A$3:$E$40,4,0))","v":"p"},0,{"$f":"IF(N400=\"\",0,VLOOKUP(N400,Ville!$A$3:$E$40,3,0))","v":"00:00:00"},null,7,1,null,null,null,1,null,null,8,8,{"$f":"IF(N400=\"\",\"\",VLOOKUP(N400,Ville!$A$3:$E$40,2,0))","v":0},null,null,0,0,0,0,0,0,0,0,0,0,0,0,{"$f":"SUM(AH400:AS400)","v":0},null,null,"","","",""]
[null,null,null,null,null,null,2011,{"$f":"IF(K401=\"\",\"\",VLOOKUP(I401,'Suiv Contr '!$D$14:$E$25,2))","v":"juin"},6,1,"2011-06-20","Germain","Sennece les Macons","Sennece les Macons",null,null,{"$f":"IF(N401=\"\",\"\",VLOOKUP(N401,Ville!$A$3:$E$40,4,0))","v":"ca"},0,{"$f":"IF(N401=\"\",0,VLOOKUP(N401,Ville!$A$3:$E$40,3,0))","v":"02:00:00"},null,7,null,null,null,3,null,null,null,7,10,{"$f":"IF(N401=\"\",\"\",VLOOKUP(N401,Ville!$A$3:$E$40,2,0))","v":298},null,null,0,0,0,0,0,0,0,0,0,0,0,0,0,null,null,"","","",1]
[null,null,null,null,null,null,2011,{"$f":"IF(K402=\"\",\"\",VLOOKUP(I402,'Suiv Contr '!$D$14:$E$25,2))","v":"juin"},6,2,"2011-06-21","Germain","Champagnole","Champagnole",null,null,{"$f":"IF(N402=\"\",\"\",VLOOKUP(N402,Ville!$A$3:$E$40,4,0))","v":"p"},0,{"$f":"IF(N402=\"\",0,VLOOKUP(N402,Ville!$A$3:$E$40,3,0))","v":"00:00:00"},null,12,2,null,null,null,1,1,null,{"$f":"U402+V402+W402+X402","v":14},{"$f":"AC402+Y402","v":14},{"$f":"IF(N402=\"\",\"\",VLOOKUP(N402,Ville!$A$3:$E$40,2,0))","v":0},null,null,0,0,0,0,0,0,0,0,0,0,0,0,0,null,null,"","","",""]
[null,null,null,null,null,null,2011,{"$f":"IF(K403=\"\",\"\",VLOOKUP(I403,'Suiv Contr '!$D$14:$E$25,2))","v":"juin"},6,3,"2011-06-22","Germain","Villefranche","Villefranche",null,null,{"$f":"IF(N403=\"\",\"\",VLOOKUP(N403,Ville!$A$3:$E$40,4,0))","v":"sp"},0,{"$f":"IF(N403=\"\",0,VLOOKUP(N403,Ville!$A$3:$E$40,3,0))","v":"03:00:00"},null,8,1,2,null,1,1,null,null,11,12,{"$f":"IF(N403=\"\",\"\",VLOOKUP(N403,Ville!$A$3:$E$40,2,0))","v":390},null,null,0,0,0,0,0,0,0,0,0,0,0,0,0,null,null,"","","",1]
[null,null,null,null,null,null,2011,{"$f":"IF(K404=\"\",\"\",VLOOKUP(I404,'Suiv Contr '!$D$14:$E$25,2))","v":"juin"},6,4,"2011-06-23","Germain","Champagnole","Champagnole",null,null,{"$f":"IF(N404=\"\",\"\",VLOOKUP(N404,Ville!$A$3:$E$40,4,0))","v":"p"},0,{"$f":"IF(N404=\"\",0,VLOOKUP(N404,Ville!$A$3:$E$40,3,0))","v":"00:00:00"},null,1,1,1,null,1,null,null,null,3,4,{"$f":"IF(N404=\"\",\"\",VLOOKUP(N404,Ville!$A$3:$E$40,2,0))","v":0},null,null,0,0,0,0,0,0,0,0,0,0,0,0,0,null,null,"","","",""]
[null,null,null,null,null,null,2011,{"$f":"IF(K405=\"\",\"\",VLOOKUP(I405,'Suiv Contr '!$D$14:$E$25,2))","v":"juin"},6,5,"2011-06-24","Germain","Champagnole","Champagnole",null,null,{"$f":"IF(N405=\"\",\"\",VLOOKUP(N405,Ville!$A$3:$E$40,4,0))","v":"p"},0,{"$f":"IF(N405=\"\",0,VLOOKUP(N405,Ville!$A$3:$E$40,3,0))","v":"00:00:00"},null,5,1,null,null,null,1,null,null,6,6,{"$f":"IF(N405=\"\",\"\",VLOOKUP(N405,Ville!$A$3:$E$40,2,0))","v":0},null,null,0,0,0,0,0,0,0,0,0,0,0,0,0,null,null,"","","",""]
[null,null,null,null,null,null,2011,{"$f":"IF(K406=\"\",\"\",VLOOKUP(I406,'Suiv Contr '!$D$14:$E$25,2))","v":"juin"},6,1,"2011-06-27","Germain","Les Pins","Les Pins",null,null,{"$f":"IF(N406=\"\",\"\",VLOOKUP(N406,Ville!$A$3:$E$40,4,0))","v":"ca"},0,{"$f":"IF(N406=\"\",0,VLOOKUP(N406,Ville!$A$3:$E$40,3,0))","v":"03:00:00"},null,null,12,null,null,null,3,null,null,12,12,{"$f":"IF(N406=\"\",\"\",VLOOKUP(N406,Ville!$A$3:$E$40,2,0))","v":390},null,null,0,0,0,0,0,0,0,0,0,0,0,0,0,null,null,"","","",1]
[null,null,null,null,null,null,2011,{"$f":"IF(K407=\"\",\"\",VLOOKUP(I407,'Suiv Contr '!$D$14:$E$25,2))","v":"juin"},6,2,"2011-06-28","Germain","Champagnole","Champagnole",null,null,{"$f":"IF(N407=\"\",\"\",VLOOKUP(N407,Ville!$A$3:$E$40,4,0))","v":"p"},0,{"$f":"IF(N407=\"\",0,VLOOKUP(N407,Ville!$A$3:$E$40,3,0))","v":"00:00:00"},null,9,null,1,null,null,null,null,null,10,10,{"$f":"IF(N407=\"\",\"\",VLOOKUP(N407,Ville!$A$3:$E$40,2,0))","v":0},null,null,0,0,0,0,0,0,0,0,0,0,0,0,0,null,null,"","","",""]
[null,null,null,null,null,null,2011,{"$f":"IF(K408=\"\",\"\",VLOOKUP(I408,'Suiv Contr '!$D$14:$E$25,2))","v":"juin"},6,3,"2011-06-29","Germain","Belley","Belley",null,null,{"$f":"IF(N408=\"\",\"\",VLOOKUP(N408,Ville!$A$3:$E$40,4,0))","v":"ca"},null,{"$f":"IF(N408=\"\",0,VLOOKUP(N408,Ville!$A$3:$E$40,3,0))","v":"03:40:00"},null,8,null,2,null,1,null,null,null,10,null,{"$f":"IF(N408=\"\",\"\",VLOOKUP(N408,Ville!$A$3:$E$40,2,0))","v":330},null,null,0,0,0,0,0,0,0,0,0,0,0,0,0,null,null,"","","",1]
[null,null,null,null,null,null,2011,{"$f":"IF(K409=\"\",\"\",VLOOKUP(I409,'Suiv Contr '!$D$14:$E$25,2))","v":"juin"},6,4,"2011-06-30","Germain","Champagnole","Champagnole",null,null,{"$f":"IF(N409=\"\",\"\",VLOOKUP(N409,Ville!$A$3:$E$40,4,0))","v":"p"},0,{"$f":"IF(N409=\"\",0,VLOOKUP(N409,Ville!$A$3:$E$40,3,0))","v":"00:00:00"},null,6,1,null,null,null,null,null,null,7,7,{"$f":"IF(N409=\"\",\"\",VLOOKUP(N409,Ville!$A$3:$E$40,2,0))","v":0},null,null,0,0,0,0,0,0,0,0,0,0,0,0,0,null,null,"","","",""]
[null,null,null,null,null,null,2011,{"$f":"IF(K410=\"\",\"\",VLOOKUP(I410,'Suiv Contr '!$D$14:$E$25,2))","v":"juillet"},7,5,"2011-07-01","Germain","Champagnole","Champagnole",null,null,{"$f":"IF(N410=\"\",\"\",VLOOKUP(N410,Ville!$A$3:$E$40,4,0))","v":"p"},0,{"$f":"IF(N410=\"\",0,VLOOKUP(N410,Ville!$A$3:$E$40,3,0))","v":"00:00:00"},null,3,3,null,null,1,null,1,null,6,7,{"$f":"IF(N410=\"\",\"\",VLOOKUP(N410,Ville!$A$3:$E$40,2,0))","v":0},null,null,0,0,0,0,0,0,0,0,0,0,0,0,0,null,null,"","","",""]
[null,null,null,null,null,null,2011,{"$f":"IF(K411=\"\",\"\",VLOOKUP(I411,'Suiv Contr '!$D$14:$E$25,2))","v":"juillet"},7,1,"2011-07-04","Germain","Villefranche","Villefranche",null,null,{"$f":"IF(N411=\"\",\"\",VLOOKUP(N411,Ville!$A$3:$E$40,4,0))","v":"sp"},0,{"$f":"IF(N411=\"\",0,VLOOKUP(N411,Ville!$A$3:$E$40,3,0))","v":"03:00:00"},null,6,3,null,null,null,1,null,1,9,9,{"$f":"IF(N411=\"\",\"\",VLOOKUP(N411,Ville!$A$3:$E$40,2,0))","v":390},null,null,0,0,0,0,0,0,0,0,0,0,0,0,0,null,null,"","","",1]
[null,null,null,null,null,null,2011,{"$f":"IF(K412=\"\",\"\",VLOOKUP(I412,'Suiv Contr '!$D$14:$E$25,2))","v":"juillet"},7,2,"2011-07-05","Germain","Champagnole","Champagnole",null,null,{"$f":"IF(N412=\"\",\"\",VLOOKUP(N412,Ville!$A$3:$E$40,4,0))","v":"p"},0,{"$f":"IF(N412=\"\",0,VLOOKUP(N412,Ville!$A$3:$E$40,3,0))","v":"00:00:00"},null,3,1,1,null,null,null,null,null,5,5,{"$f":"IF(N412=\"\",\"\",VLOOKUP(N412,Ville!$A$3:$E$40,2,0))","v":0},null,null,0,0,0,0,0,0,0,0,0,0,0,0,0,null,null,"","","",""]
[null,null,null,null,null,null,2011,{"$f":"IF(K413=\"\",\"\",VLOOKUP(I413,'Suiv Contr '!$D$14:$E$25,2))","v":"juillet"},7,3,"2011-07-06","Germain","vaise","vaise",null,null,{"$f":"IF(N413=\"\",\"\",VLOOKUP(N413,Ville!$A$3:$E$40,4,0))","v":"ca"},0,{"$f":"IF(N413=\"\",0,VLOOKUP(N413,Ville!$A$3:$E$40,3,0))","v":"03:10:00"},null,null,10,null,null,1,null,null,null,10,11,{"$f":"IF(N413=\"\",\"\",VLOOKUP(N413,Ville!$A$3:$E$40,2,0))","v":410},null,null,0,0,0,0,0,0,0,0,0,0,0,0,0,null,null,"","","",1]
[null,null,null,null,null,null,2011,{"$f":"IF(K414=\"\",\"\",VLOOKUP(I414,'Suiv Contr '!$D$14:$E$25,2))","v":"juillet"},7,4,"2011-07-07","Germain","Champagnole","Champagnole",null,null,{"$f":"IF(N414=\"\",\"\",VLOOKUP(N414,Ville!$A$3:$E$40,4,0))","v":"p"},0,{"$f":"IF(N414=\"\",0,VLOOKUP(N414,Ville!$A$3:$E$40,3,0))","v":"00:00:00"},null,8,3,null,null,3,null,1,null,11,14,{"$f":"IF(N414=\"\",\"\",VLOOKUP(N414,Ville!$A$3:$E$40,2,0))","v":0},null,null,0,0,0,0,0,0,0,0,0,0,0,0,0,null,null,"","","",""]
[null,null,null,null,null,null,2011,{"$f":"IF(K415=\"\",\"\",VLOOKUP(I415,'Suiv Contr '!$D$14:$E$25,2))","v":"juillet"},7,5,"2011-07-08","Germain","Champagnole","Champagnole",null,null,"p",0,{"$f":"IF(N415=\"\",0,VLOOKUP(N415,Ville!$A$3:$E$40,3,0))","v":"00:00:00"},null,12,3,null,null,null,null,2,1,15,15,{"$f":"IF(N415=\"\",\"\",VLOOKUP(N415,Ville!$A$3:$E$40,2,0))","v":0},null,null,0,0,0,0,0,0,0,0,0,0,0,0,0,null,null,"","","",""]
[null,null,null,null,null,null,2011,{"$f":"IF(K416=\"\",\"\",VLOOKUP(I416,'Suiv Contr '!$D$14:$E$25,2))","v":"juillet"},7,1,"2011-07-11","Germain","Besançon sp","Besançon sp",null,null,{"$f":"IF(N416=\"\",\"\",VLOOKUP(N416,Ville!$A$3:$E$40,4,0))","v":"sp"},0,{"$f":"IF(N416=\"\",0,VLOOKUP(N416,Ville!$A$3:$E$40,3,0))","v":"01:50:00"},null,2,null,null,null,null,null,null,null,2,2,{"$f":"IF(N416=\"\",\"\",VLOOKUP(N416,Ville!$A$3:$E$40,2,0))","v":152},null,null,0,0,0,0,0,0,0,0,0,0,0,0,0,null,null,"","","",1]
[null,null,null,null,null,null,2011,{"$f":"IF(K417=\"\",\"\",VLOOKUP(I417,'Suiv Contr '!$D$14:$E$25,2))","v":"juillet"},7,2,"2011-07-12","Germain","Champagnole","Champagnole",null,null,{"$f":"IF(N417=\"\",\"\",VLOOKUP(N417,Ville!$A$3:$E$40,4,0))","v":"p"},0,{"$f":"IF(N417=\"\",0,VLOOKUP(N417,Ville!$A$3:$E$40,3,0))","v":"00:00:00"},null,16,2,null,null,2,1,null,null,18,20,{"$f":"IF(N417=\"\",\"\",VLOOKUP(N417,Ville!$A$3:$E$40,2,0))","v":0},null,null,0,0,0,0,0,0,0,0,0,0,0,0,0,null,null,"","","",""]
[null,null,null,null,null,null,2011,{"$f":"IF(K418=\"\",\"\",VLOOKUP(I418,'Suiv Contr '!$D$14:$E$25,2))","v":"juillet"},7,3,"2011-07-13","Germain","Villefranche","Villefranche",null,null,{"$f":"IF(N418=\"\",\"\",VLOOKUP(N418,Ville!$A$3:$E$40,4,0))","v":"sp"},0,{"$f":"IF(N418=\"\",0,VLOOKUP(N418,Ville!$A$3:$E$40,3,0))","v":"03:00:00"},null,4,2,null,null,null,null,null,null,6,6,{"$f":"IF(N418=\"\",\"\",VLOOKUP(N418,Ville!$A$3:$E$40,2,0))","v":390},null,null,0,0,0,0,0,0,0,0,0,0,0,0,0,null,null,"","","",1]
[null,null,null,null,null,null,2011,{"$f":"IF(K419=\"\",\"\",VLOOKUP(I419,'Suiv Contr '!$D$14:$E$25,2))","v":"juillet"},7,5,"2011-07-15","Germain","00:00:00",null,null,null,"v",{"$f":"IF(Q419=\"v\",1,0)","v":1},{"$f":"IF(N419=\"\",0,VLOOKUP(N419,Ville!$A$3:$E$40,3,0))","v":"00:00:00"},null,null,null,null,null,null,null,null,null,0,0,{"$f":"IF(N419=\"\",\"\",VLOOKUP(N419,Ville!$A$3:$E$40,2,0))","v":""},null,null,null,null,null,null,null,null,null,null,null,null,null,null,null,null,null,"",null,null,""]
[null,null,null,null,null,null,2011,{"$f":"IF(K420=\"\",\"\",VLOOKUP(I420,'Suiv Contr '!$D$14:$E$25,2))","v":"juillet"},7,1,"2011-07-18","Germain","Champagnole","Champagnole",null,null,{"$f":"IF(N420=\"\",\"\",VLOOKUP(N420,Ville!$A$3:$E$40,4,0))","v":"p"},0,{"$f":"IF(N420=\"\",0,VLOOKUP(N420,Ville!$A$3:$E$40,3,0))","v":"00:00:00"},null,4,1,null,null,1,null,null,null,5,6,{"$f":"IF(N420=\"\",\"\",VLOOKUP(N420,Ville!$A$3:$E$40,2,0))","v":0},null,null,0,0,0,0,0,0,0,0,0,0,0,0,0,null,null,"","","",""]
[null,null,null,null,null,null,2011,{"$f":"IF(K421=\"\",\"\",VLOOKUP(I421,'Suiv Contr '!$D$14:$E$25,2))","v":"juillet"},7,2,"2011-07-19","Germain","Champagnole","Champagnole",null,null,{"$f":"IF(N421=\"\",\"\",VLOOKUP(N421,Ville!$A$3:$E$40,4,0))","v":"p"},0,{"$f":"IF(N421=\"\",0,VLOOKUP(N421,Ville!$A$3:$E$40,3,0))","v":"00:00:00"},null,9,3,null,null,null,null,null,null,12,12,{"$f":"IF(N421=\"\",\"\",VLOOKUP(N421,Ville!$A$3:$E$40,2,0))","v":0},null,null,0,0,0,0,0,0,0,0,0,0,0,0,0,null,null,"","","",""]
[null,null,null,null,null,null,2011,{"$f":"IF(K422=\"\",\"\",VLOOKUP(I422,'Suiv Contr '!$D$14:$E$25,2))","v":"juillet"},7,3,"2011-07-20","Germain","Champagnole","Champagnole",null,null,{"$f":"IF(N422=\"\",\"\",VLOOKUP(N422,Ville!$A$3:$E$40,4,0))","v":"p"},0,{"$f":"IF(N422=\"\",0,VLOOKUP(N422,Ville!$A$3:$E$40,3,0))","v":"00:00:00"},null,3,null,null,null,2,1,null,null,3,5,{"$f":"IF(N422=\"\",\"\",VLOOKUP(N422,Ville!$A$3:$E$40,2,0))","v":0},null,null,0,0,0,0,0,0,0,0,0,0,0,0,0,null,null,"","","",""]
[null,null,null,null,null,null,2011,{"$f":"IF(K423=\"\",\"\",VLOOKUP(I423,'Suiv Contr '!$D$14:$E$25,2))","v":"juillet"},7,4,"2011-07-21","Germain","Champagnole","Champagnole",null,null,{"$f":"IF(N423=\"\",\"\",VLOOKUP(N423,Ville!$A$3:$E$40,4,0))","v":"p"},0,{"$f":"IF(N423=\"\",0,VLOOKUP(N423,Ville!$A$3:$E$40,3,0))","v":"00:00:00"},null,null,4,null,null,null,null,null,1,4,4,{"$f":"IF(N423=\"\",\"\",VLOOKUP(N423,Ville!$A$3:$E$40,2,0))","v":0},null,null,0,0,0,0,0,0,0,0,0,0,0,0,0,null,null,"","","",""]
[null,null,null,null,null,null,2011,{"$f":"IF(K424=\"\",\"\",VLOOKUP(I424,'Suiv Contr '!$D$14:$E$25,2))","v":"juillet"},7,5,"2011-07-22","Germain","Champagnole","Champagnole",null,null,{"$f":"IF(N424=\"\",\"\",VLOOKUP(N424,Ville!$A$3:$E$40,4,0))","v":"p"},0,{"$f":"IF(N424=\"\",0,VLOOKUP(N424,Ville!$A$3:$E$40,3,0))","v":"00:00:00"},null,3,1,null,null,null,null,null,null,4,4,{"$f":"IF(N424=\"\",\"\",VLOOKUP(N424,Ville!$A$3:$E$40,2,0))","v":0},null,null,0,0,0,0,0,0,0,0,0,0,0,0,0,null,null,"","","",""]
[null,null,null,null,null,null,2011,{"$f":"IF(K425=\"\",\"\",VLOOKUP(I425,'Suiv Contr '!$D$14:$E$25,2))","v":"juillet"},7,1,"2011-07-25","Germain","Sennece les Macons","Sennece les Macons",null,null,{"$f":"IF(N425=\"\",\"\",VLOOKUP(N425,Ville!$A$3:$E$40,4,0))","v":"ca"},0,{"$f":"IF(N425=\"\",0,VLOOKUP(N425,Ville!$A$3:$E$40,3,0))","v":"02:00:00"},null,3,null,null,null,null,null,1,null,3,3,{"$f":"IF(N425=\"\",\"\",VLOOKUP(N425,Ville!$A$3:$E$40,2,0))","v":298},null,null,0,0,0,0,0,0,0,0,0,0,0,0,0,null,null,"","","",1]
[null,null,null,null,null,null,2011,{"$f":"IF(K426=\"\",\"\",VLOOKUP(I426,'Suiv Contr '!$D$14:$E$25,2))","v":"juillet"},7,2,"2011-07-26","Germain","Champagnole","Champagnole",null,null,{"$f":"IF(N426=\"\",\"\",VLOOKUP(N426,Ville!$A$3:$E$40,4,0))","v":"p"},0,{"$f":"IF(N426=\"\",0,VLOOKUP(N426,Ville!$A$3:$E$40,3,0))","v":"00:00:00"},null,2,null,null,null,null,null,null,null,2,2,{"$f":"IF(N426=\"\",\"\",VLOOKUP(N426,Ville!$A$3:$E$40,2,0))","v":0},null,null,0,0,0,0,0,0,0,0,0,0,0,0,0,null,null,"","","",""]
[null,null,null,null,null,null,2011,{"$f":"IF(K427=\"\",\"\",VLOOKUP(I427,'Suiv Contr '!$D$14:$E$25,2))","v":"juillet"},7,3,"2011-07-27","Germain","Champagnole","Champagnole",null,null,{"$f":"IF(N427=\"\",\"\",VLOOKUP(N427,Ville!$A$3:$E$40,4,0))","v":"p"},0,{"$f":"IF(N427=\"\",0,VLOOKUP(N427,Ville!$A$3:$E$40,3,0))","v":"00:00:00"},null,1,null,null,null,null,null,null,null,1,1,{"$f":"IF(N427=\"\",\"\",VLOOKUP(N427,Ville!$A$3:$E$40,2,0))","v":0},"Karcher",null,0,0,0,0,0,0,0,0,0,0,0,0,0,null,null,"","","",""]
[null,null,null,null,null,null,2011,{"$f":"IF(K428=\"\",\"\",VLOOKUP(I428,'Suiv Contr '!$D$14:$E$25,2))","v":"juillet"},7,4,"2011-07-28","Germain","Champagnole","Champagnole",null,null,{"$f":"IF(N428=\"\",\"\",VLOOKUP(N428,Ville!$A$3:$E$40,4,0))","v":"p"},0,{"$f":"IF(N428=\"\",0,VLOOKUP(N428,Ville!$A$3:$E$40,3,0))","v":"00:00:00"},null,1,2,null,null,null,null,null,null,3,3,{"$f":"IF(N428=\"\",\"\",VLOOKUP(N428,Ville!$A$3:$E$40,2,0))","v":0},null,null,0,0,0,0,0,0,0,0,0,0,0,0,0,null,null,"","","",""]
[null,null,null,null,null,null,2011,{"$f":"IF(K429=\"\",\"\",VLOOKUP(I429,'Suiv Contr '!$D$14:$E$25,2))","v":"juillet"},7,5,"2011-07-29","Germain","Champagnole","Champagnole",null,null,{"$f":"IF(N429=\"\",\"\",VLOOKUP(N429,Ville!$A$3:$E$40,4,0))","v":"p"},0,{"$f":"IF(N429=\"\",0,VLOOKUP(N429,Ville!$A$3:$E$40,3,0))","v":"00:00:00"},null,3,3,null,null,null,null,null,null,6,6,{"$f":"IF(N429=\"\",\"\",VLOOKUP(N429,Ville!$A$3:$E$40,2,0))","v":0},null,null,0,0,0,0,0,0,0,0,0,0,0,0,0,null,null,"","","",""]
[null,null,null,null,null,null,2011,{"$f":"IF(K430=\"\",\"\",VLOOKUP(I430,'Suiv Contr '!$D$14:$E$25,2))","v":"août"},8,1,"2011-08-01","Germain","Meythet","Meythet",null,null,{"$f":"IF(N430=\"\",\"\",VLOOKUP(N430,Ville!$A$3:$E$40,4,0))","v":"ca"},0,{"$f":"IF(N430=\"\",0,VLOOKUP(N430,Ville!$A$3:$E$40,3,0))","v":"04:20:00"},null,null,null,null,null,null,null,null,null,0,0,{"$f":"IF(N430=\"\",\"\",VLOOKUP(N430,Ville!$A$3:$E$40,2,0))","v":298},null,null,0,0,0,0,0,0,0,0,0,0,0,0,0,null,null,"","","",1]
[null,null,null,null,null,null,2011,{"$f":"IF(K431=\"\",\"\",VLOOKUP(I431,'Suiv Contr '!$D$14:$E$25,2))","v":"août"},8,2,"2011-08-02","Germain","Champagnole","Champagnole",null,null,{"$f":"IF(N431=\"\",\"\",VLOOKUP(N431,Ville!$A$3:$E$40,4,0))","v":"p"},0,{"$f":"IF(N431=\"\",0,VLOOKUP(N431,Ville!$A$3:$E$40,3,0))","v":"00:00:00"},null,6,4,null,null,1,1,null,null,10,11,{"$f":"IF(N431=\"\",\"\",VLOOKUP(N431,Ville!$A$3:$E$40,2,0))","v":0},null,null,0,0,0,0,0,0,0,0,0,0,0,0,0,null,null,"","","",""]
[null,null,null,null,null,null,2011,{"$f":"IF(K432=\"\",\"\",VLOOKUP(I432,'Suiv Contr '!$D$14:$E$25,2))","v":"août"},8,3,"2011-08-03","Germain","Champagnole","Champagnole",null,null,{"$f":"IF(N432=\"\",\"\",VLOOKUP(N432,Ville!$A$3:$E$40,4,0))","v":"p"},0,{"$f":"IF(N432=\"\",0,VLOOKUP(N432,Ville!$A$3:$E$40,3,0))","v":"00:00:00"},null,null,3,null,null,1,null,null,null,3,4,{"$f":"IF(N432=\"\",\"\",VLOOKUP(N432,Ville!$A$3:$E$40,2,0))","v":0},null,null,0,0,0,0,0,0,0,0,0,0,0,0,0,null,null,"","","",""]
[null,null,null,null,null,null,2011,{"$f":"IF(K433=\"\",\"\",VLOOKUP(I433,'Suiv Contr '!$D$14:$E$25,2))","v":"août"},8,4,"2011-08-04","Germain","Champagnole","Champagnole",null,null,{"$f":"IF(N433=\"\",\"\",VLOOKUP(N433,Ville!$A$3:$E$40,4,0))","v":"p"},0,{"$f":"IF(N433=\"\",0,VLOOKUP(N433,Ville!$A$3:$E$40,3,0))","v":"00:00:00"},null,4,3,null,null,null,null,null,null,7,7,{"$f":"IF(N433=\"\",\"\",VLOOKUP(N433,Ville!$A$3:$E$40,2,0))","v":0},null,null,0,0,0,0,0,0,0,0,0,0,0,0,0,null,null,"","","",""]
[null,null,null,null,null,null,2011,{"$f":"IF(K434=\"\",\"\",VLOOKUP(I434,'Suiv Contr '!$D$14:$E$25,2))","v":"août"},8,5,"2011-08-05","Germain","Champagnole","Champagnole",null,null,{"$f":"IF(N434=\"\",\"\",VLOOKUP(N434,Ville!$A$3:$E$40,4,0))","v":"p"},0,{"$f":"IF(N434=\"\",0,VLOOKUP(N434,Ville!$A$3:$E$40,3,0))","v":"00:00:00"},null,3,3,null,null,null,null,null,null,6,6,{"$f":"IF(N434=\"\",\"\",VLOOKUP(N434,Ville!$A$3:$E$40,2,0))","v":0},null,null,0,0,0,0,0,0,0,0,0,0,0,0,0,null,null,"","","",""]
[null,null,null,null,null,null,2011,{"$f":"IF(K435=\"\",\"\",VLOOKUP(I435,'Suiv Contr '!$D$14:$E$25,2))","v":"août"},8,1,"2011-08-08","Germain","Besançon iax","Besançon iax",null,null,{"$f":"IF(N435=\"\",\"\",VLOOKUP(N435,Ville!$A$3:$E$40,4,0))","v":"ca"},0,{"$f":"IF(N435=\"\",0,VLOOKUP(N435,Ville!$A$3:$E$40,3,0))","v":"01:50:00"},null,1,null,null,null,null,null,null,null,1,1,{"$f":"IF(N435=\"\",\"\",VLOOKUP(N435,Ville!$A$3:$E$40,2,0))","v":132},null,null,0,0,0,0,0,0,0,0,0,0,0,0,0,null,null,"","","",1]
[null,null,null,null,null,null,2011,{"$f":"IF(K436=\"\",\"\",VLOOKUP(I436,'Suiv Contr '!$D$14:$E$25,2))","v":"août"},8,2,"2011-08-09","Germain","Champagnole","Champagnole",null,null,{"$f":"IF(N436=\"\",\"\",VLOOKUP(N436,Ville!$A$3:$E$40,4,0))","v":"p"},0,{"$f":"IF(N436=\"\",0,VLOOKUP(N436,Ville!$A$3:$E$40,3,0))","v":"00:00:00"},null,4,2,null,null,null,null,null,null,6,6,{"$f":"IF(N436=\"\",\"\",VLOOKUP(N436,Ville!$A$3:$E$40,2,0))","v":0},null,null,0,0,0,0,0,0,0,0,0,0,0,0,0,null,null,"","","",""]
[null,null,null,null,null,null,2011,{"$f":"IF(K437=\"\",\"\",VLOOKUP(I437,'Suiv Contr '!$D$14:$E$25,2))","v":"août"},8,3,"2011-08-10","Germain","Meythet","Meythet",null,null,{"$f":"IF(N437=\"\",\"\",VLOOKUP(N437,Ville!$A$3:$E$40,4,0))","v":"ca"},0,{"$f":"IF(N437=\"\",0,VLOOKUP(N437,Ville!$A$3:$E$40,3,0))","v":"04:20:00"},null,null,null,null,null,null,null,null,null,0,0,{"$f":"IF(N437=\"\",\"\",VLOOKUP(N437,Ville!$A$3:$E$40,2,0))","v":298},null,null,0,0,0,0,0,0,0,0,0,0,0,0,0,null,null,"","","",1]
[null,null,null,null,null,null,2011,{"$f":"IF(K438=\"\",\"\",VLOOKUP(I438,'Suiv Contr '!$D$14:$E$25,2))","v":"août"},8,4,"2011-08-11","Germain","Champagnole","Champagnole",null,null,{"$f":"IF(N438=\"\",\"\",VLOOKUP(N438,Ville!$A$3:$E$40,4,0))","v":"p"},0,{"$f":"IF(N438=\"\",0,VLOOKUP(N438,Ville!$A$3:$E$40,3,0))","v":"00:00:00"},null,7,2,null,null,null,null,1,null,9,9,{"$f":"IF(N438=\"\",\"\",VLOOKUP(N438,Ville!$A$3:$E$40,2,0))","v":0},null,null,0,0,0,0,0,0,0,0,0,0,0,0,0,null,null,"","","",""]
[null,null,null,null,null,null,2011,{"$f":"IF(K439=\"\",\"\",VLOOKUP(I439,'Suiv Contr '!$D$14:$E$25,2))","v":"août"},8,5,"2011-08-12","Germain","Champagnole","Champagnole",null,null,{"$f":"IF(N439=\"\",\"\",VLOOKUP(N439,Ville!$A$3:$E$40,4,0))","v":"p"},0,{"$f":"IF(N439=\"\",0,VLOOKUP(N439,Ville!$A$3:$E$40,3,0))","v":"00:00:00"},null,1,2,null,null,1,null,null,null,3,4,{"$f":"IF(N439=\"\",\"\",VLOOKUP(N439,Ville!$A$3:$E$40,2,0))","v":0},null,null,0,0,0,0,0,0,0,0,0,0,0,0,0,null,null,"","","",""]
[null,null,null,null,null,null,2011,{"$f":"IF(K440=\"\",\"\",VLOOKUP(I440,'Suiv Contr '!$D$14:$E$25,2))","v":"août"},8,2,"2011-08-16","Germain","Champagnole","Champagnole",null,null,{"$f":"IF(N440=\"\",\"\",VLOOKUP(N440,Ville!$A$3:$E$40,4,0))","v":"p"},null,null,null,5,3,null,null,null,null,1,1,8,8,null,null,null,0,0,0,0,0,0,0,0,0,0,0,0,0,null,null,"","","",""]
[null,null,null,null,null,null,2011,{"$f":"IF(K441=\"\",\"\",VLOOKUP(I441,'Suiv Contr '!$D$14:$E$25,2))","v":"août"},8,3,"2011-08-17","Germain","Champagnole","Champagnole",null,null,{"$f":"IF(N441=\"\",\"\",VLOOKUP(N441,Ville!$A$3:$E$40,4,0))","v":"p"},0,{"$f":"IF(N441=\"\",0,VLOOKUP(N441,Ville!$A$3:$E$40,3,0))","v":"00:00:00"},null,7,2,null,null,null,null,1,null,9,9,{"$f":"IF(N441=\"\",\"\",VLOOKUP(N441,Ville!$A$3:$E$40,2,0))","v":0},null,null,0,0,0,0,0,0,0,0,0,0,0,0,0,null,null,"","","",""]
[null,null,null,null,null,null,2011,{"$f":"IF(K442=\"\",\"\",VLOOKUP(I442,'Suiv Contr '!$D$14:$E$25,2))","v":"août"},8,4,"2011-08-18","Germain","Champagnole","Champagnole",null,null,{"$f":"IF(N442=\"\",\"\",VLOOKUP(N442,Ville!$A$3:$E$40,4,0))","v":"p"},0,{"$f":"IF(N442=\"\",0,VLOOKUP(N442,Ville!$A$3:$E$40,3,0))","v":"00:00:00"},null,5,1,null,null,2,null,null,null,6,8,{"$f":"IF(N442=\"\",\"\",VLOOKUP(N442,Ville!$A$3:$E$40,2,0))","v":0},null,null,0,0,0,0,0,0,0,0,0,0,0,0,0,null,null,"","","",""]
[null,null,null,null,null,null,2011,{"$f":"IF(K443=\"\",\"\",VLOOKUP(I443,'Suiv Contr '!$D$14:$E$25,2))","v":"août"},8,5,"2011-08-19","Germain","Champagnole","Champagnole",null,null,{"$f":"IF(N443=\"\",\"\",VLOOKUP(N443,Ville!$A$3:$E$40,4,0))","v":"p"},0,{"$f":"IF(N443=\"\",0,VLOOKUP(N443,Ville!$A$3:$E$40,3,0))","v":"00:00:00"},null,3,2,null,null,null,null,1,null,5,5,{"$f":"IF(N443=\"\",\"\",VLOOKUP(N443,Ville!$A$3:$E$40,2,0))","v":0},null,null,0,0,0,0,0,0,0,0,0,0,0,0,0,null,null,"","","",""]
[null,null,null,null,null,null,2011,{"$f":"IF(K444=\"\",\"\",VLOOKUP(I444,'Suiv Contr '!$D$14:$E$25,2))","v":"août"},8,7,"2011-08-21","Germain","Morbier","Morbier",null,null,null,null,null,null,null,null,null,null,null,null,null,null,null,null,null,"gaz",null,0,0,0,0,0,0,0,0,0,0,0,0,0,null,null,"","",""]
[null,null,null,null,null,null,2011,{"$f":"IF(K445=\"\",\"\",VLOOKUP(I445,'Suiv Contr '!$D$14:$E$25,2))","v":"août"},8,1,"2011-08-22","Germain","Meythet","Meythet",null,null,{"$f":"IF(N445=\"\",\"\",VLOOKUP(N445,Ville!$A$3:$E$40,4,0))","v":"ca"},0,{"$f":"IF(N445=\"\",0,VLOOKUP(N445,Ville!$A$3:$E$40,3,0))","v":"04:20:00"},null,2,2,null,null,null,null,null,null,4,4,{"$f":"IF(N445=\"\",\"\",VLOOKUP(N445,Ville!$A$3:$E$40,2,0))","v":298},null,null,0,0,0,0,0,0,0,0,0,0,0,0,0,null,null,"","","",1]
[null,null,null,null,null,null,2011,{"$f":"IF(K446=\"\",\"\",VLOOKUP(I446,'Suiv Contr '!$D$14:$E$25,2))","v":"août"},8,2,"2011-08-23","Germain","Champagnole","Champagnole",null,null,{"$f":"IF(N446=\"\",\"\",VLOOKUP(N446,Ville!$A$3:$E$40,4,0))","v":"p"},0,{"$f":"IF(N446=\"\",0,VLOOKUP(N446,Ville!$A$3:$E$40,3,0))","v":"00:00:00"},null,3,3,null,null,null,null,null,null,6,6,{"$f":"IF(N446=\"\",\"\",VLOOKUP(N446,Ville!$A$3:$E$40,2,0))","v":0},null,null,0,0,0,0,0,0,0,0,0,0,0,0,0,null,null,"","","",""]
[null,null,null,null,null,null,2011,{"$f":"IF(K447=\"\",\"\",VLOOKUP(I447,'Suiv Contr '!$D$14:$E$25,2))","v":"août"},8,3,"2011-08-24","Germain","Villefranche","Villefranche",null,null,{"$f":"IF(N447=\"\",\"\",VLOOKUP(N447,Ville!$A$3:$E$40,4,0))","v":"sp"},0,{"$f":"IF(N447=\"\",0,VLOOKUP(N447,Ville!$A$3:$E$40,3,0))","v":"03:00:00"},null,6,3,null,null,null,null,null,null,9,9,{"$f":"IF(N447=\"\",\"\",VLOOKUP(N447,Ville!$A$3:$E$40,2,0))","v":390},null,null,0,0,0,0,0,0,0,0,0,0,0,0,0,null,null,"","","",1]
[null,null,null,null,null,null,2011,{"$f":"IF(K448=\"\",\"\",VLOOKUP(I448,'Suiv Contr '!$D$14:$E$25,2))","v":"août"},8,4,"2011-08-25","Germain","Champagnole","Champagnole",null,null,{"$f":"IF(N448=\"\",\"\",VLOOKUP(N448,Ville!$A$3:$E$40,4,0))","v":"p"},0,{"$f":"IF(N448=\"\",0,VLOOKUP(N448,Ville!$A$3:$E$40,3,0))","v":"00:00:00"},null,2,4,null,null,null,null,null,null,6,6,{"$f":"IF(N448=\"\",\"\",VLOOKUP(N448,Ville!$A$3:$E$40,2,0))","v":0},null,null,0,0,0,0,0,0,0,0,0,0,0,0,0,null,null,{"$f":"IF(K448=$B$2,1,\"\")","v":""},"","",""]
[null,null,null,null,null,null,2011,{"$f":"IF(K449=\"\",\"\",VLOOKUP(I449,'Suiv Contr '!$D$14:$E$25,2))","v":"août"},8,5,"2011-08-26","Germain","Champagnole","Champagnole",null,null,{"$f":"IF(N449=\"\",\"\",VLOOKUP(N449,Ville!$A$3:$E$40,4,0))","v":"p"},0,{"$f":"IF(N449=\"\",0,VLOOKUP(N449,Ville!$A$3:$E$40,3,0))","v":"00:00:00"},null,3,3,null,null,null,null,null,null,6,6,{"$f":"IF(N449=\"\",\"\",VLOOKUP(N449,Ville!$A$3:$E$40,2,0))","v":0},null,null,0,0,0,0,0,0,0,0,0,0,0,0,0,null,null,"","","",""]
[null,null,null,null,null,null,2011,{"$f":"IF(K450=\"\",\"\",VLOOKUP(I450,'Suiv Contr '!$D$14:$E$25,2))","v":"août"},8,1,"2011-08-29","Germain","Champagnole","Champagnole",null,null,{"$f":"IF(N450=\"\",\"\",VLOOKUP(N450,Ville!$A$3:$E$40,4,0))","v":"p"},0,{"$f":"IF(N450=\"\",0,VLOOKUP(N450,Ville!$A$3:$E$40,3,0))","v":"00:00:00"},null,3,2,null,null,null,1,null,null,5,5,{"$f":"IF(N450=\"\",\"\",VLOOKUP(N450,Ville!$A$3:$E$40,2,0))","v":0},null,null,0,0,0,0,0,0,0,0,0,0,0,0,0,null,null,"","","",""]
[null,null,null,null,null,null,2011,{"$f":"IF(K451=\"\",\"\",VLOOKUP(I451,'Suiv Contr '!$D$14:$E$25,2))","v":"août"},8,2,"2011-08-30","Germain","Champagnole","Champagnole",null,null,{"$f":"IF(N451=\"\",\"\",VLOOKUP(N451,Ville!$A$3:$E$40,4,0))","v":"p"},0,{"$f":"IF(N451=\"\",0,VLOOKUP(N451,Ville!$A$3:$E$40,3,0))","v":"00:00:00"},null,2,3,null,null,null,null,null,2,5,5,{"$f":"IF(N451=\"\",\"\",VLOOKUP(N451,Ville!$A$3:$E$40,2,0))","v":0},null,null,0,0,0,0,0,0,0,0,0,0,0,0,0,null,null,"","","",""]
[null,null,null,null,null,null,2011,{"$f":"IF(K452=\"\",\"\",VLOOKUP(I452,'Suiv Contr '!$D$14:$E$25,2))","v":"août"},8,3,"2011-08-31","Germain","Villefranche","Villefranche",null,null,{"$f":"IF(N452=\"\",\"\",VLOOKUP(N452,Ville!$A$3:$E$40,4,0))","v":"sp"},0,{"$f":"IF(N452=\"\",0,VLOOKUP(N452,Ville!$A$3:$E$40,3,0))","v":"03:00:00"},null,4,2,null,null,1,2,null,null,6,7,{"$f":"IF(N452=\"\",\"\",VLOOKUP(N452,Ville!$A$3:$E$40,2,0))","v":390},null,null,0,0,0,0,0,0,0,0,0,0,0,0,0,null,null,"","",{"$f":"IF(Q452=\"rec\",2,\"\")","v":""},1]
[null,null,null,null,null,null,2011,{"$f":"IF(K453=\"\",\"\",VLOOKUP(I453,'Suiv Contr '!$D$14:$E$25,2))","v":"septembre"},9,4,"2011-09-01","Germain","Champagnole","Champagnole",null,null,{"$f":"IF(N453=\"\",\"\",VLOOKUP(N453,Ville!$A$3:$E$40,4,0))","v":"p"},0,{"$f":"IF(N453=\"\",0,VLOOKUP(N453,Ville!$A$3:$E$40,3,0))","v":"00:00:00"},null,4,1,null,null,1,1,null,null,5,6,{"$f":"IF(N453=\"\",\"\",VLOOKUP(N453,Ville!$A$3:$E$40,2,0))","v":0},null,null,0,0,0,0,0,0,0,0,0,0,0,0,0,null,null,"","","",""]
[null,null,null,null,null,null,2011,{"$f":"IF(K454=\"\",\"\",VLOOKUP(I454,'Suiv Contr '!$D$14:$E$25,2))","v":"septembre"},9,5,"2011-09-02","Germain","Champagnole","Champagnole",null,null,{"$f":"IF(N454=\"\",\"\",VLOOKUP(N454,Ville!$A$3:$E$40,4,0))","v":"p"},0,{"$f":"IF(N454=\"\",0,VLOOKUP(N454,Ville!$A$3:$E$40,3,0))","v":"00:00:00"},null,4,1,null,null,null,null,null,null,5,5,{"$f":"IF(N454=\"\",\"\",VLOOKUP(N454,Ville!$A$3:$E$40,2,0))","v":0},null,null,0,0,0,0,0,0,0,0,0,0,0,0,0,null,null,"","","",""]
[null,null,null,null,null,null,2011,{"$f":"IF(K455=\"\",\"\",VLOOKUP(I455,'Suiv Contr '!$D$14:$E$25,2))","v":"septembre"},9,1,"2011-09-05","Germain","00:00:00",null,null,null,"v",1,{"$f":"IF(N455=\"\",0,VLOOKUP(N455,Ville!$A$3:$E$40,3,0))","v":"00:00:00"},null,null,null,null,null,null,null,null,null,0,0,{"$f":"IF(N455=\"\",\"\",VLOOKUP(N455,Ville!$A$3:$E$40,2,0))","v":""},null,null,0,0,0,0,0,0,0,0,0,0,0,0,0,null,null,"",{"$f":"IF(Q455=\"v\",3,\"\")","v":3},{"$f":"IF(Q455=\"rec\",2,\"\")","v":""},""]
[null,null,null,null,null,null,2011,{"$f":"IF(K456=\"\",\"\",VLOOKUP(I456,'Suiv Contr '!$D$14:$E$25,2))","v":"septembre"},9,2,"2011-09-06","Germain","00:00:00",null,null,null,"v",1,{"$f":"IF(N456=\"\",0,VLOOKUP(N456,Ville!$A$3:$E$40,3,0))","v":"00:00:00"},null,null,null,null,null,null,null,null,null,0,0,{"$f":"IF(N456=\"\",\"\",VLOOKUP(N456,Ville!$A$3:$E$40,2,0))","v":""},null,null,0,0,0,0,0,0,0,0,0,0,0,0,0,null,null,"",{"$f":"IF(Q456=\"v\",3,\"\")","v":3},{"$f":"IF(Q456=\"rec\",2,\"\")","v":""},{"$f":"IF(OR(N456=\"champagnole\",N456=\"\"),\"\",1)","v":""}]
[null,null,null,null,null,null,2011,{"$f":"IF(K457=\"\",\"\",VLOOKUP(I457,'Suiv Contr '!$D$14:$E$25,2))","v":"septembre"},9,3,"2011-09-07","Germain","00:00:00",null,null,null,"v",1,{"$f":"IF(N457=\"\",0,VLOOKUP(N457,Ville!$A$3:$E$40,3,0))","v":"00:00:00"},null,null,null,null,null,null,null,null,null,0,0,{"$f":"IF(N457=\"\",\"\",VLOOKUP(N457,Ville!$A$3:$E$40,2,0))","v":""},null,null,0,0,0,0,0,0,0,0,0,0,0,0,0,null,null,"",3,"",""]
[null,null,null,null,null,null,2011,{"$f":"IF(K458=\"\",\"\",VLOOKUP(I458,'Suiv Contr '!$D$14:$E$25,2))","v":"septembre"},9,4,"2011-09-08","Germain","00:00:00",null,null,null,"v",1,{"$f":"IF(N458=\"\",0,VLOOKUP(N458,Ville!$A$3:$E$40,3,0))","v":"00:00:00"},null,null,null,null,null,null,null,null,null,0,0,{"$f":"IF(N458=\"\",\"\",VLOOKUP(N458,Ville!$A$3:$E$40,2,0))","v":""},null,null,0,0,0,0,0,0,0,0,0,0,0,0,0,null,null,"",3,"",""]
[null,null,null,null,null,null,{"$f":"IF(K459=\"\",\"\",YEAR(K459))","v":2011},{"$f":"IF(K459=\"\",\"\",VLOOKUP(I459,'Suiv Contr '!$D$14:$E$25,2))","v":"septembre"},{"$f":"IF(K459=\"\",\"\",MONTH(K459))","v":9},{"$f":"IF(K459=\"\",\"\",WEEKDAY(K459,2))","v":4},"2011-09-08","Boyer","Champagnole","Champagnole",null,null,"ex",{"$f":"IF(Q459=\"v\",1,0)","v":0},{"$f":"IF(N459=\"\",0,VLOOKUP(N459,Ville!$A$3:$E$40,3,0))","v":"00:00:00"},null,6,2,null,null,1,2,null,null,{"$f":"U459+V459+W459+X459","v":8},{"$f":"AC459+Y459","v":9},{"$f":"IF(N459=\"\",\"\",VLOOKUP(N459,Ville!$A$3:$E$40,2,0))","v":0},null,null,null,null,null,null,null,null,null,null,null,null,null,null,null,null,null,"",null,null,""]
[null,null,null,null,null,null,2011,{"$f":"IF(K460=\"\",\"\",VLOOKUP(I460,'Suiv Contr '!$D$14:$E$25,2))","v":"septembre"},9,5,"2011-09-09","Germain","00:00:00",null,null,null,"v",{"$f":"IF(Q460=\"v\",1,0)","v":1},{"$f":"IF(N460=\"\",0,VLOOKUP(N460,Ville!$A$3:$E$40,3,0))","v":"00:00:00"},null,null,null,null,null,null,null,null,null,0,0,{"$f":"IF(N460=\"\",\"\",VLOOKUP(N460,Ville!$A$3:$E$40,2,0))","v":""},null,null,0,0,0,0,0,0,0,0,0,0,0,0,0,null,null,"",3,"",""]
[null,null,null,null,null,null,{"$f":"IF(K461=\"\",\"\",YEAR(K461))","v":2011},{"$f":"IF(K461=\"\",\"\",VLOOKUP(I461,'Suiv Contr '!$D$14:$E$25,2))","v":"septembre"},{"$f":"IF(K461=\"\",\"\",MONTH(K461))","v":9},{"$f":"IF(K461=\"\",\"\",WEEKDAY(K461,2))","v":5},"2011-09-09","Boyer","Champagnole","Champagnole",null,null,"ex",{"$f":"IF(Q461=\"v\",1,0)","v":0},{"$f":"IF(N461=\"\",0,VLOOKUP(N461,Ville!$A$3:$E$40,3,0))","v":"00:00:00"},null,10,1,null,null,null,1,null,null,{"$f":"U461+V461+W461+X461","v":11},{"$f":"AC461+Y461","v":11},{"$f":"IF(N461=\"\",\"\",VLOOKUP(N461,Ville!$A$3:$E$40,2,0))","v":0},null,null,null,null,null,null,null,null,null,null,null,null,null,null,null,null,null,"",null,null,""]
[null,null,null,null,null,null,2011,{"$f":"IF(K462=\"\",\"\",VLOOKUP(I462,'Suiv Contr '!$D$14:$E$25,2))","v":"septembre"},9,1,"2011-09-12","Germain",{"$f":"N462","v":"00:00:00"},null,null,null,"v",1,{"$f":"IF(N462=\"\",0,VLOOKUP(N462,Ville!$A$3:$E$40,3,0))","v":"00:00:00"},null,null,null,null,null,null,null,null,null,0,0,{"$f":"IF(N462=\"\",\"\",VLOOKUP(N462,Ville!$A$3:$E$40,2,0))","v":""},null,null,0,0,0,0,0,0,0,0,0,0,0,0,0,null,null,"",3,"",""]
[null,null,null,null,null,null,2011,{"$f":"IF(K463=\"\",\"\",VLOOKUP(I463,'Suiv Contr '!$D$14:$E$25,2))","v":"septembre"},9,2,"2011-09-13","Germain","00:00:00",null,null,null,"v",1,{"$f":"IF(N463=\"\",0,VLOOKUP(N463,Ville!$A$3:$E$40,3,0))","v":"00:00:00"},null,null,null,null,null,null,null,null,null,0,0,{"$f":"IF(N463=\"\",\"\",VLOOKUP(N463,Ville!$A$3:$E$40,2,0))","v":""},null,null,0,0,0,0,0,0,0,0,0,0,0,0,0,null,null,"",3,"",""]
[null,null,null,null,null,null,2011,{"$f":"IF(K464=\"\",\"\",VLOOKUP(I464,'Suiv Contr '!$D$14:$E$25,2))","v":"septembre"},9,3,"2011-09-14","Germain","00:00:00",null,null,null,"v",1,{"$f":"IF(N464=\"\",0,VLOOKUP(N464,Ville!$A$3:$E$40,3,0))","v":"00:00:00"},null,null,null,null,null,null,null,null,null,0,0,{"$f":"IF(N464=\"\",\"\",VLOOKUP(N464,Ville!$A$3:$E$40,2,0))","v":""},null,null,0,0,0,0,0,0,0,0,0,0,0,0,0,null,null,"",3,"",""]
[null,null,null,null,null,null,{"$f":"IF(K465=\"\",\"\",YEAR(K465))","v":2011},{"$f":"IF(K465=\"\",\"\",VLOOKUP(I465,'Suiv Contr '!$D$14:$E$25,2))","v":"septembre"},{"$f":"IF(K465=\"\",\"\",MONTH(K465))","v":9},{"$f":"IF(K465=\"\",\"\",WEEKDAY(K465,2))","v":4},"2011-09-15","Germain","00:00:00",null,null,null,"v",{"$f":"IF(Q465=\"v\",1,0)","v":1},{"$f":"IF(N465=\"\",0,VLOOKUP(N465,Ville!$A$3:$E$40,3,0))","v":"00:00:00"},null,null,null,null,null,null,null,null,null,0,0,{"$f":"IF(N465=\"\",\"\",VLOOKUP(N465,Ville!$A$3:$E$40,2,0))","v":""},null,null,0,0,0,0,0,0,0,0,0,0,0,0,0,null,null,"",3,"",""]
[null,null,null,null,null,null,2011,{"$f":"IF(K466=\"\",\"\",VLOOKUP(I466,'Suiv Contr '!$D$14:$E$25,2))","v":"septembre"},9,4,"2011-09-15","Boyer","Champagnole","Champagnole",null,null,"ex",0,{"$f":"IF(N466=\"\",0,VLOOKUP(N466,Ville!$A$3:$E$40,3,0))","v":"00:00:00"},null,7,3,null,null,null,null,null,null,10,10,{"$f":"IF(N466=\"\",\"\",VLOOKUP(N466,Ville!$A$3:$E$40,2,0))","v":0},null,null,0,0,0,0,0,0,0,0,0,0,0,0,0,null,null,"","","",""]
[null,null,null,null,null,null,2011,{"$f":"IF(K467=\"\",\"\",VLOOKUP(I467,'Suiv Contr '!$D$14:$E$25,2))","v":"septembre"},9,5,"2011-09-16","Germain","00:00:00",null,null,null,"v",1,{"$f":"IF(N467=\"\",0,VLOOKUP(N467,Ville!$A$3:$E$40,3,0))","v":"00:00:00"},null,null,null,null,null,null,null,null,null,0,0,{"$f":"IF(N467=\"\",\"\",VLOOKUP(N467,Ville!$A$3:$E$40,2,0))","v":""},null,null,0,0,0,0,0,0,0,0,0,0,0,0,{"$f":"SUM(AH467:AS467)","v":0},null,null,"",3,"",""]
[null,null,null,null,null,null,2011,{"$f":"IF(K468=\"\",\"\",VLOOKUP(I468,'Suiv Contr '!$D$14:$E$25,2))","v":"septembre"},9,5,"2011-09-16","Boyer","Champagnole","Champagnole",null,null,"ex",0,{"$f":"IF(N468=\"\",0,VLOOKUP(N468,Ville!$A$3:$E$40,3,0))","v":"00:00:00"},null,9,1,null,null,null,2,1,null,10,10,{"$f":"IF(N468=\"\",\"\",VLOOKUP(N468,Ville!$A$3:$E$40,2,0))","v":0},null,null,0,0,0,0,0,0,0,0,0,0,0,0,0,null,null,"","","",""]
[null,null,null,null,null,null,2011,{"$f":"IF(K469=\"\",\"\",VLOOKUP(I469,'Suiv Contr '!$D$14:$E$25,2))","v":"septembre"},9,1,"2011-09-19","Germain","00:00:00",null,null,null,"v",1,{"$f":"IF(N469=\"\",0,VLOOKUP(N469,Ville!$A$3:$E$40,3,0))","v":"00:00:00"},null,null,null,null,null,null,null,null,null,0,0,{"$f":"IF(N469=\"\",\"\",VLOOKUP(N469,Ville!$A$3:$E$40,2,0))","v":""},null,null,0,0,0,0,0,0,0,0,0,0,0,0,0,null,null,"",3,"",""]
[null,null,null,null,null,null,2011,{"$f":"IF(K470=\"\",\"\",VLOOKUP(I470,'Suiv Contr '!$D$14:$E$25,2))","v":"septembre"},9,2,"2011-09-20","Germain","00:00:00",null,null,null,"v",1,{"$f":"IF(N470=\"\",0,VLOOKUP(N470,Ville!$A$3:$E$40,3,0))","v":"00:00:00"},null,null,null,null,null,null,null,null,null,0,0,{"$f":"IF(N470=\"\",\"\",VLOOKUP(N470,Ville!$A$3:$E$40,2,0))","v":""},null,null,0,0,0,0,0,0,0,0,0,0,0,0,0,null,null,"",3,"",""]
[null,null,null,null,null,null,2011,{"$f":"IF(K471=\"\",\"\",VLOOKUP(I471,'Suiv Contr '!$D$14:$E$25,2))","v":"septembre"},9,3,"2011-09-21","Germain","00:00:00",null,null,null,"v",1,{"$f":"IF(N471=\"\",0,VLOOKUP(N471,Ville!$A$3:$E$40,3,0))","v":"00:00:00"},null,null,null,null,null,null,null,null,null,{"$f":"U471+V471+W471+X471","v":0},{"$f":"AC471+Y471","v":0},{"$f":"IF(N471=\"\",\"\",VLOOKUP(N471,Ville!$A$3:$E$40,2,0))","v":""},null,null,0,0,0,0,0,0,0,0,0,0,0,0,0,null,null,"",3,"",""]
[null,null,null,null,null,null,2011,{"$f":"IF(K472=\"\",\"\",VLOOKUP(I472,'Suiv Contr '!$D$14:$E$25,2))","v":"septembre"},9,4,"2011-09-22","Germain","00:00:00",null,null,null,"v",1,{"$f":"IF(N472=\"\",0,VLOOKUP(N472,Ville!$A$3:$E$40,3,0))","v":"00:00:00"},null,null,null,null,null,null,null,null,null,0,0,{"$f":"IF(N472=\"\",\"\",VLOOKUP(N472,Ville!$A$3:$E$40,2,0))","v":""},null,null,0,0,0,0,0,0,0,0,0,0,0,0,0,null,null,"",3,"",{"$f":"IF(OR(N472=\"champagnole\",N472=\"\"),\"\",1)","v":""}]
[null,null,null,null,null,null,2011,{"$f":"IF(K473=\"\",\"\",VLOOKUP(I473,'Suiv Contr '!$D$14:$E$25,2))","v":"septembre"},9,4,"2011-09-22","Boyer","Champagnole","Champagnole",null,null,"ex",0,{"$f":"IF(N473=\"\",0,VLOOKUP(N473,Ville!$A$3:$E$40,3,0))","v":"00:00:00"},null,11,null,null,null,1,null,2,null,11,12,{"$f":"IF(N473=\"\",\"\",VLOOKUP(N473,Ville!$A$3:$E$40,2,0))","v":0},null,null,0,0,0,0,0,0,0,0,0,0,0,0,0,null,null,"","","",{"$f":"IF(OR(N473=\"champagnole\",N473=\"\"),\"\",1)","v":""}]
[null,null,null,null,null,null,2011,{"$f":"IF(K474=\"\",\"\",VLOOKUP(I474,'Suiv Contr '!$D$14:$E$25,2))","v":"septembre"},9,5,"2011-09-23","Germain","00:00:00",null,null,null,"v",1,null,null,null,null,null,null,null,null,null,null,null,null,null,null,null,0,0,0,0,0,0,0,0,0,0,0,0,0,null,null,"",3,"",{"$f":"IF(OR(N474=\"champagnole\",N474=\"\"),\"\",1)","v":""}]
[null,null,null,null,null,null,2011,{"$f":"IF(K475=\"\",\"\",VLOOKUP(I475,'Suiv Contr '!$D$14:$E$25,2))","v":"septembre"},9,1,"2011-09-26","Germain","Meythet","Meythet",null,null,{"$f":"IF(N475=\"\",\"\",VLOOKUP(N475,Ville!$A$3:$E$40,4,0))","v":"ca"},0,{"$f":"IF(N475=\"\",0,VLOOKUP(N475,Ville!$A$3:$E$40,3,0))","v":"04:20:00"},null,3,null,null,null,1,null,null,null,3,4,{"$f":"IF(N475=\"\",\"\",VLOOKUP(N475,Ville!$A$3:$E$40,2,0))","v":298},null,null,0,0,0,0,0,0,0,0,0,0,0,0,0,null,null,"","","",1]
[null,null,null,null,null,null,2011,{"$f":"IF(K476=\"\",\"\",VLOOKUP(I476,'Suiv Contr '!$D$14:$E$25,2))","v":"septembre"},9,2,"2011-09-27","Germain","Champagnole","Champagnole",null,null,{"$f":"IF(N476=\"\",\"\",VLOOKUP(N476,Ville!$A$3:$E$40,4,0))","v":"p"},0,{"$f":"IF(N476=\"\",0,VLOOKUP(N476,Ville!$A$3:$E$40,3,0))","v":"00:00:00"},null,11,1,null,null,1,1,1,1,12,13,{"$f":"IF(N476=\"\",\"\",VLOOKUP(N476,Ville!$A$3:$E$40,2,0))","v":0},null,null,0,0,0,0,0,0,0,0,0,0,0,0,0,null,null,"","","",""]
[null,null,null,null,null,null,2011,{"$f":"IF(K477=\"\",\"\",VLOOKUP(I477,'Suiv Contr '!$D$14:$E$25,2))","v":"septembre"},9,3,"2011-09-28","Germain","Champagnole","Champagnole",null,null,{"$f":"IF(N477=\"\",\"\",VLOOKUP(N477,Ville!$A$3:$E$40,4,0))","v":"p"},0,{"$f":"IF(N477=\"\",0,VLOOKUP(N477,Ville!$A$3:$E$40,3,0))","v":"00:00:00"},null,9,null,null,null,null,null,null,null,9,9,{"$f":"IF(N477=\"\",\"\",VLOOKUP(N477,Ville!$A$3:$E$40,2,0))","v":0},null,null,0,0,0,0,0,0,0,0,0,0,0,0,0,null,null,"","","",""]
[null,null,null,null,null,null,2011,{"$f":"IF(K478=\"\",\"\",VLOOKUP(I478,'Suiv Contr '!$D$14:$E$25,2))","v":"septembre"},9,4,"2011-09-29","Germain","Champagnole","Champagnole",null,null,{"$f":"IF(N478=\"\",\"\",VLOOKUP(N478,Ville!$A$3:$E$40,4,0))","v":"p"},0,{"$f":"IF(N478=\"\",0,VLOOKUP(N478,Ville!$A$3:$E$40,3,0))","v":"00:00:00"},null,6,null,null,null,null,1,null,null,6,6,{"$f":"IF(N478=\"\",\"\",VLOOKUP(N478,Ville!$A$3:$E$40,2,0))","v":0},null,null,0,0,0,0,0,0,0,0,0,0,0,0,0,null,null,"","","",""]
[null,null,null,null,null,null,2011,{"$f":"IF(K479=\"\",\"\",VLOOKUP(I479,'Suiv Contr '!$D$14:$E$25,2))","v":"septembre"},9,5,"2011-09-30","Germain","Champagnole","Champagnole",null,null,{"$f":"IF(N479=\"\",\"\",VLOOKUP(N479,Ville!$A$3:$E$40,4,0))","v":"p"},0,{"$f":"IF(N479=\"\",0,VLOOKUP(N479,Ville!$A$3:$E$40,3,0))","v":"00:00:00"},null,2,null,null,null,null,1,null,null,2,2,{"$f":"IF(N479=\"\",\"\",VLOOKUP(N479,Ville!$A$3:$E$40,2,0))","v":0},null,null,0,0,0,0,0,0,0,0,0,0,0,0,0,null,null,"","","",""]
[null,null,null,null,null,null,2011,{"$f":"IF(K480=\"\",\"\",VLOOKUP(I480,'Suiv Contr '!$D$14:$E$25,2))","v":"octobre"},10,1,"2011-10-03","Germain","Meythet","Meythet",null,null,{"$f":"IF(N480=\"\",\"\",VLOOKUP(N480,Ville!$A$3:$E$40,4,0))","v":"ca"},0,{"$f":"IF(N480=\"\",0,VLOOKUP(N480,Ville!$A$3:$E$40,3,0))","v":"04:20:00"},null,4,null,null,null,null,null,null,null,4,4,{"$f":"IF(N480=\"\",\"\",VLOOKUP(N480,Ville!$A$3:$E$40,2,0))","v":298},null,null,0,0,0,0,0,0,0,0,0,0,0,0,0,null,null,"","","",1]
[null,null,null,null,null,null,2011,{"$f":"IF(K481=\"\",\"\",VLOOKUP(I481,'Suiv Contr '!$D$14:$E$25,2))","v":"octobre"},10,2,"2011-10-04","Germain","Champagnole","Champagnole",null,null,{"$f":"IF(N481=\"\",\"\",VLOOKUP(N481,Ville!$A$3:$E$40,4,0))","v":"p"},0,{"$f":"IF(N481=\"\",0,VLOOKUP(N481,Ville!$A$3:$E$40,3,0))","v":"00:00:00"},null,7,2,null,null,1,1,null,null,9,10,{"$f":"IF(N481=\"\",\"\",VLOOKUP(N481,Ville!$A$3:$E$40,2,0))","v":0},null,null,0,0,0,0,0,0,0,0,0,0,0,0,0,null,null,"","","",""]
[null,null,null,null,null,null,2011,{"$f":"IF(K482=\"\",\"\",VLOOKUP(I482,'Suiv Contr '!$D$14:$E$25,2))","v":"octobre"},10,3,"2011-10-05","Germain","Champagnole","Champagnole",null,null,{"$f":"IF(N482=\"\",\"\",VLOOKUP(N482,Ville!$A$3:$E$40,4,0))","v":"p"},0,{"$f":"IF(N482=\"\",0,VLOOKUP(N482,Ville!$A$3:$E$40,3,0))","v":"00:00:00"},null,3,null,null,null,null,null,null,null,3,3,{"$f":"IF(N482=\"\",\"\",VLOOKUP(N482,Ville!$A$3:$E$40,2,0))","v":0},null,null,0,0,0,0,0,0,0,0,0,0,0,0,0,null,null,"","","",""]
[null,null,null,null,null,null,2011,{"$f":"IF(K483=\"\",\"\",VLOOKUP(I483,'Suiv Contr '!$D$14:$E$25,2))","v":"octobre"},10,4,"2011-10-06","Germain","Champagnole","Champagnole",null,null,{"$f":"IF(N483=\"\",\"\",VLOOKUP(N483,Ville!$A$3:$E$40,4,0))","v":"p"},0,{"$f":"IF(N483=\"\",0,VLOOKUP(N483,Ville!$A$3:$E$40,3,0))","v":"00:00:00"},null,4,null,1,null,2,1,null,null,5,7,{"$f":"IF(N483=\"\",\"\",VLOOKUP(N483,Ville!$A$3:$E$40,2,0))","v":0},null,null,0,0,0,0,0,0,0,0,0,0,0,0,0,null,null,"","","",""]
[null,null,null,null,null,null,2011,{"$f":"IF(K484=\"\",\"\",VLOOKUP(I484,'Suiv Contr '!$D$14:$E$25,2))","v":"octobre"},10,5,"2011-10-07","Germain","Champagnole","Champagnole",null,null,{"$f":"IF(N484=\"\",\"\",VLOOKUP(N484,Ville!$A$3:$E$40,4,0))","v":"p"},0,{"$f":"IF(N484=\"\",0,VLOOKUP(N484,Ville!$A$3:$E$40,3,0))","v":"00:00:00"},null,2,4,1,null,1,null,1,null,7,8,{"$f":"IF(N484=\"\",\"\",VLOOKUP(N484,Ville!$A$3:$E$40,2,0))","v":0},null,null,0,0,0,0,0,0,0,0,0,0,0,0,0,null,null,"","","",""]
[null,null,null,null,null,null,2011,{"$f":"IF(K485=\"\",\"\",VLOOKUP(I485,'Suiv Contr '!$D$14:$E$25,2))","v":"octobre"},10,1,"2011-10-10","Germain","Champagnole","Champagnole",null,null,{"$f":"IF(N485=\"\",\"\",VLOOKUP(N485,Ville!$A$3:$E$40,4,0))","v":"p"},0,{"$f":"IF(N485=\"\",0,VLOOKUP(N485,Ville!$A$3:$E$40,3,0))","v":"00:00:00"},null,2,null,null,null,null,null,null,null,2,2,{"$f":"IF(N485=\"\",\"\",VLOOKUP(N485,Ville!$A$3:$E$40,2,0))","v":0},null,null,0,0,0,0,0,0,0,0,0,0,0,0,0,null,null,"","","",""]
[null,null,null,null,null,null,2011,{"$f":"IF(K486=\"\",\"\",VLOOKUP(I486,'Suiv Contr '!$D$14:$E$25,2))","v":"octobre"},10,2,"2011-10-11","Germain","Champagnole","Champagnole",null,null,{"$f":"IF(N486=\"\",\"\",VLOOKUP(N486,Ville!$A$3:$E$40,4,0))","v":"p"},0,{"$f":"IF(N486=\"\",0,VLOOKUP(N486,Ville!$A$3:$E$40,3,0))","v":"00:00:00"},null,10,null,null,null,null,1,null,null,10,10,{"$f":"IF(N486=\"\",\"\",VLOOKUP(N486,Ville!$A$3:$E$40,2,0))","v":0},null,null,0,0,0,0,0,0,0,0,0,0,0,0,0,null,null,"","","",""]
[null,null,null,null,null,null,2011,{"$f":"IF(K487=\"\",\"\",VLOOKUP(I487,'Suiv Contr '!$D$14:$E$25,2))","v":"octobre"},10,3,"2011-10-12","Germain","Thann","Thann",null,null,{"$f":"IF(N487=\"\",\"\",VLOOKUP(N487,Ville!$A$3:$E$40,4,0))","v":"ca"},0,{"$f":"IF(N487=\"\",0,VLOOKUP(N487,Ville!$A$3:$E$40,3,0))","v":"04:30:00"},null,5,null,3,null,null,null,null,null,8,8,{"$f":"IF(N487=\"\",\"\",VLOOKUP(N487,Ville!$A$3:$E$40,2,0))","v":402},null,null,0,0,0,0,0,0,0,0,0,0,0,0,0,null,null,"","","",1]
[null,null,null,null,null,null,2011,{"$f":"IF(K488=\"\",\"\",VLOOKUP(I488,'Suiv Contr '!$D$14:$E$25,2))","v":"octobre"},10,4,"2011-10-13","Germain","Champagnole","Champagnole",null,null,{"$f":"IF(N488=\"\",\"\",VLOOKUP(N488,Ville!$A$3:$E$40,4,0))","v":"p"},0,{"$f":"IF(N488=\"\",0,VLOOKUP(N488,Ville!$A$3:$E$40,3,0))","v":"00:00:00"},null,4,null,null,null,2,1,null,null,4,6,{"$f":"IF(N488=\"\",\"\",VLOOKUP(N488,Ville!$A$3:$E$40,2,0))","v":0},null,null,0,0,0,0,0,0,0,0,0,0,0,0,0,null,null,"","","",""]
[null,null,null,null,null,null,2011,{"$f":"IF(K489=\"\",\"\",VLOOKUP(I489,'Suiv Contr '!$D$14:$E$25,2))","v":"octobre"},10,5,"2011-10-14","Germain","Champagnole","Champagnole",null,null,{"$f":"IF(N489=\"\",\"\",VLOOKUP(N489,Ville!$A$3:$E$40,4,0))","v":"p"},0,{"$f":"IF(N489=\"\",0,VLOOKUP(N489,Ville!$A$3:$E$40,3,0))","v":"00:00:00"},null,5,null,null,null,null,null,1,null,5,5,{"$f":"IF(N489=\"\",\"\",VLOOKUP(N489,Ville!$A$3:$E$40,2,0))","v":0},null,null,0,0,0,0,0,0,0,0,0,0,0,0,0,null,null,"","","",""]
[null,null,null,null,null,null,2011,{"$f":"IF(K490=\"\",\"\",VLOOKUP(I490,'Suiv Contr '!$D$14:$E$25,2))","v":"octobre"},10,1,"2011-10-17","Germain","Villefranche","Villefranche",null,null,{"$f":"IF(N490=\"\",\"\",VLOOKUP(N490,Ville!$A$3:$E$40,4,0))","v":"sp"},0,{"$f":"IF(N490=\"\",0,VLOOKUP(N490,Ville!$A$3:$E$40,3,0))","v":"03:00:00"},null,4,1,null,null,2,null,null,null,5,7,{"$f":"IF(N490=\"\",\"\",VLOOKUP(N490,Ville!$A$3:$E$40,2,0))","v":390},null,null,0,0,0,0,0,0,0,0,0,0,0,0,0,null,null,"","","",1]
[null,null,null,null,null,null,2011,{"$f":"IF(K491=\"\",\"\",VLOOKUP(I491,'Suiv Contr '!$D$14:$E$25,2))","v":"octobre"},10,2,"2011-10-18","Germain","Champagnole","Champagnole",null,null,{"$f":"IF(N491=\"\",\"\",VLOOKUP(N491,Ville!$A$3:$E$40,4,0))","v":"p"},0,{"$f":"IF(N491=\"\",0,VLOOKUP(N491,Ville!$A$3:$E$40,3,0))","v":"00:00:00"},null,5,null,1,null,null,null,1,null,6,6,{"$f":"IF(N491=\"\",\"\",VLOOKUP(N491,Ville!$A$3:$E$40,2,0))","v":0},null,null,0,0,0,0,0,0,0,0,0,0,0,0,0,null,null,"","","",""]
[null,null,null,null,null,null,2011,{"$f":"IF(K492=\"\",\"\",VLOOKUP(I492,'Suiv Contr '!$D$14:$E$25,2))","v":"octobre"},10,3,"2011-10-19","Germain","Champagnole","Champagnole",null,null,{"$f":"IF(N492=\"\",\"\",VLOOKUP(N492,Ville!$A$3:$E$40,4,0))","v":"p"},0,{"$f":"IF(N492=\"\",0,VLOOKUP(N492,Ville!$A$3:$E$40,3,0))","v":"00:00:00"},null,1,null,1,null,2,1,null,null,2,4,{"$f":"IF(N492=\"\",\"\",VLOOKUP(N492,Ville!$A$3:$E$40,2,0))","v":0},null,null,0,0,0,0,0,0,0,0,0,0,0,0,0,null,null,"","","",""]
[null,null,null,null,null,null,2011,{"$f":"IF(K493=\"\",\"\",VLOOKUP(I493,'Suiv Contr '!$D$14:$E$25,2))","v":"octobre"},10,4,"2011-10-20","Germain","Champagnole","Champagnole",null,null,{"$f":"IF(N493=\"\",\"\",VLOOKUP(N493,Ville!$A$3:$E$40,4,0))","v":"p"},0,{"$f":"IF(N493=\"\",0,VLOOKUP(N493,Ville!$A$3:$E$40,3,0))","v":"00:00:00"},null,3,null,1,null,1,null,null,null,4,5,{"$f":"IF(N493=\"\",\"\",VLOOKUP(N493,Ville!$A$3:$E$40,2,0))","v":0},null,null,0,0,0,0,0,0,0,0,0,0,0,0,0,null,null,"","","",""]
[null,null,null,null,null,null,2011,{"$f":"IF(K494=\"\",\"\",VLOOKUP(I494,'Suiv Contr '!$D$14:$E$25,2))","v":"octobre"},10,5,"2011-10-21","Germain","Champagnole","Champagnole",null,null,{"$f":"IF(N494=\"\",\"\",VLOOKUP(N494,Ville!$A$3:$E$40,4,0))","v":"p"},0,{"$f":"IF(N494=\"\",0,VLOOKUP(N494,Ville!$A$3:$E$40,3,0))","v":"00:00:00"},null,6,1,null,null,null,2,null,null,7,7,{"$f":"IF(N494=\"\",\"\",VLOOKUP(N494,Ville!$A$3:$E$40,2,0))","v":0},"audit Q2",null,0,0,0,0,0,0,0,0,0,0,0,0,0,null,null,"","","",""]
[null,null,null,null,null,null,{"$f":"IF(K495=\"\",\"\",YEAR(K495))","v":2011},"octobre",null,null,"2011-10-22",null,"00:00:00",null,null,null,null,null,null,null,null,null,null,null,null,null,null,null,null,null,null,"gaz",null,null,null,null,null,null,null,null,null,null,null,null,null,null,null,null,""]
[null,null,null,null,null,null,2011,{"$f":"IF(K496=\"\",\"\",VLOOKUP(I496,'Suiv Contr '!$D$14:$E$25,2))","v":"octobre"},10,1,"2011-10-24","Germain","Meythet","Meythet",null,null,{"$f":"IF(N496=\"\",\"\",VLOOKUP(N496,Ville!$A$3:$E$40,4,0))","v":"ca"},0,{"$f":"IF(N496=\"\",0,VLOOKUP(N496,Ville!$A$3:$E$40,3,0))","v":"04:20:00"},null,null,null,null,null,null,null,null,null,0,0,{"$f":"IF(N496=\"\",\"\",VLOOKUP(N496,Ville!$A$3:$E$40,2,0))","v":298},"informatique",null,0,0,0,0,0,0,0,0,0,0,0,0,0,null,null,"","","",1]
[null,null,null,null,null,null,2011,{"$f":"IF(K497=\"\",\"\",VLOOKUP(I497,'Suiv Contr '!$D$14:$E$25,2))","v":"octobre"},10,2,"2011-10-25","Germain","Champagnole","Champagnole",null,null,{"$f":"IF(N497=\"\",\"\",VLOOKUP(N497,Ville!$A$3:$E$40,4,0))","v":"p"},0,{"$f":"IF(N497=\"\",0,VLOOKUP(N497,Ville!$A$3:$E$40,3,0))","v":"00:00:00"},null,5,null,null,null,null,null,null,1,5,5,{"$f":"IF(N497=\"\",\"\",VLOOKUP(N497,Ville!$A$3:$E$40,2,0))","v":0},null,null,0,0,0,0,0,0,0,0,0,0,0,0,0,null,null,"","","",""]
[null,null,null,null,null,null,2011,{"$f":"IF(K498=\"\",\"\",VLOOKUP(I498,'Suiv Contr '!$D$14:$E$25,2))","v":"octobre"},10,3,"2011-10-26","Germain","Champagnole","Champagnole",null,null,{"$f":"IF(N498=\"\",\"\",VLOOKUP(N498,Ville!$A$3:$E$40,4,0))","v":"p"},0,{"$f":"IF(N498=\"\",0,VLOOKUP(N498,Ville!$A$3:$E$40,3,0))","v":"00:00:00"},null,2,null,null,null,1,null,null,null,2,3,{"$f":"IF(N498=\"\",\"\",VLOOKUP(N498,Ville!$A$3:$E$40,2,0))","v":0},null,null,0,0,0,0,0,0,0,0,0,0,0,0,0,null,null,"","","",""]
[null,null,null,null,null,null,2011,{"$f":"IF(K499=\"\",\"\",VLOOKUP(I499,'Suiv Contr '!$D$14:$E$25,2))","v":"octobre"},10,4,"2011-10-27","Germain","00:00:00",null,null,null,"v",1,{"$f":"IF(N499=\"\",0,VLOOKUP(N499,Ville!$A$3:$E$40,3,0))","v":"00:00:00"},null,null,null,null,null,null,null,null,null,0,0,{"$f":"IF(N499=\"\",\"\",VLOOKUP(N499,Ville!$A$3:$E$40,2,0))","v":""},null,null,0,0,0,0,0,0,0,0,0,0,0,0,0,null,null,"",3,"",""]
[null,null,null,null,null,null,2011,{"$f":"IF(K500=\"\",\"\",VLOOKUP(I500,'Suiv Contr '!$D$14:$E$25,2))","v":"octobre"},10,5,"2011-10-28","Germain","Champagnole","Champagnole",null,null,{"$f":"IF(N500=\"\",\"\",VLOOKUP(N500,Ville!$A$3:$E$40,4,0))","v":"p"},0,{"$f":"IF(N500=\"\",0,VLOOKUP(N500,Ville!$A$3:$E$40,3,0))","v":"00:00:00"},null,5,null,null,null,null,null,null,1,5,5,{"$f":"IF(N500=\"\",\"\",VLOOKUP(N500,Ville!$A$3:$E$40,2,0))","v":0},"Ophelie",null,0,0,0,0,0,0,0,0,0,0,0,0,0,null,null,"","","",""]
[null,null,null,null,null,null,2011,{"$f":"IF(K501=\"\",\"\",VLOOKUP(I501,'Suiv Contr '!$D$14:$E$25,2))","v":"octobre"},10,1,"2011-10-31","Germain","Champagnole","Champagnole",null,null,{"$f":"IF(N501=\"\",\"\",VLOOKUP(N501,Ville!$A$3:$E$40,4,0))","v":"p"},0,{"$f":"IF(N501=\"\",0,VLOOKUP(N501,Ville!$A$3:$E$40,3,0))","v":"00:00:00"},null,null,null,null,null,null,null,null,null,0,0,{"$f":"IF(N501=\"\",\"\",VLOOKUP(N501,Ville!$A$3:$E$40,2,0))","v":0},null,null,0,0,0,0,0,0,0,0,0,0,0,0,0,null,null,"","","",""]
[null,null,null,null,null,null,2011,{"$f":"IF(K502=\"\",\"\",VLOOKUP(I502,'Suiv Contr '!$D$14:$E$25,2))","v":"novembre"},11,3,"2011-11-02","Germain","Champagnole","Champagnole",null,null,{"$f":"IF(N502=\"\",\"\",VLOOKUP(N502,Ville!$A$3:$E$40,4,0))","v":"p"},0,{"$f":"IF(N502=\"\",0,VLOOKUP(N502,Ville!$A$3:$E$40,3,0))","v":"00:00:00"},null,2,1,null,null,null,2,1,null,3,3,{"$f":"IF(N502=\"\",\"\",VLOOKUP(N502,Ville!$A$3:$E$40,2,0))","v":0},null,null,0,0,0,0,0,0,0,0,0,0,0,0,0,null,null,"","","",""]
[null,null,null,null,null,null,2011,{"$f":"IF(K503=\"\",\"\",VLOOKUP(I503,'Suiv Contr '!$D$14:$E$25,2))","v":"novembre"},11,4,"2011-11-03","Germain","Champagnole","Champagnole",null,null,{"$f":"IF(N503=\"\",\"\",VLOOKUP(N503,Ville!$A$3:$E$40,4,0))","v":"p"},0,{"$f":"IF(N503=\"\",0,VLOOKUP(N503,Ville!$A$3:$E$40,3,0))","v":"00:00:00"},null,5,3,null,null,1,null,null,null,8,9,{"$f":"IF(N503=\"\",\"\",VLOOKUP(N503,Ville!$A$3:$E$40,2,0))","v":0},null,null,0,0,0,0,0,0,0,0,0,0,0,0,0,null,null,"","","",""]
[null,null,null,null,null,null,2011,{"$f":"IF(K504=\"\",\"\",VLOOKUP(I504,'Suiv Contr '!$D$14:$E$25,2))","v":"novembre"},11,5,"2011-11-04","Germain","Champagnole","Champagnole",null,null,{"$f":"IF(N504=\"\",\"\",VLOOKUP(N504,Ville!$A$3:$E$40,4,0))","v":"p"},0,{"$f":"IF(N504=\"\",0,VLOOKUP(N504,Ville!$A$3:$E$40,3,0))","v":"00:00:00"},null,7,null,null,null,null,null,null,null,7,7,{"$f":"IF(N504=\"\",\"\",VLOOKUP(N504,Ville!$A$3:$E$40,2,0))","v":0},null,null,0,0,0,0,0,0,0,0,0,0,0,0,0,null,null,"","","",""]
[null,null,null,null,null,null,2011,{"$f":"IF(K505=\"\",\"\",VLOOKUP(I505,'Suiv Contr '!$D$14:$E$25,2))","v":"novembre"},11,1,"2011-11-07","Germain","Fains les Montbard","Fains les Montbard",null,null,{"$f":"IF(N505=\"\",\"\",VLOOKUP(N505,Ville!$A$3:$E$40,4,0))","v":"sp"},0,{"$f":"IF(N505=\"\",0,VLOOKUP(N505,Ville!$A$3:$E$40,3,0))","v":"03:30:00"},null,3,null,null,null,null,1,null,null,3,3,{"$f":"IF(N505=\"\",\"\",VLOOKUP(N505,Ville!$A$3:$E$40,2,0))","v":366},null,null,0,0,0,0,0,0,0,0,0,0,0,0,0,null,null,"","","",1]
[null,null,null,null,null,null,2011,{"$f":"IF(K506=\"\",\"\",VLOOKUP(I506,'Suiv Contr '!$D$14:$E$25,2))","v":"novembre"},11,2,"2011-11-08","Germain","00:00:00",null,null,null,"v",1,{"$f":"IF(N506=\"\",0,VLOOKUP(N506,Ville!$A$3:$E$40,3,0))","v":"00:00:00"},null,null,null,null,null,null,null,null,null,0,0,{"$f":"IF(N506=\"\",\"\",VLOOKUP(N506,Ville!$A$3:$E$40,2,0))","v":""},"Ophelie",null,0,0,0,0,0,0,0,0,0,0,0,0,0,null,null,"",3,"",""]
[null,null,null,null,null,null,2011,{"$f":"IF(K507=\"\",\"\",VLOOKUP(I507,'Suiv Contr '!$D$14:$E$25,2))","v":"novembre"},11,3,"2011-11-09","Germain","Fains les Montbard","Fains les Montbard",null,null,{"$f":"IF(N507=\"\",\"\",VLOOKUP(N507,Ville!$A$3:$E$40,4,0))","v":"sp"},0,{"$f":"IF(N507=\"\",0,VLOOKUP(N507,Ville!$A$3:$E$40,3,0))","v":"03:30:00"},null,4,1,null,1,null,1,1,null,6,6,{"$f":"IF(N507=\"\",\"\",VLOOKUP(N507,Ville!$A$3:$E$40,2,0))","v":366},null,null,0,0,0,0,0,0,0,0,0,0,0,0,0,null,null,"","","",1]
[null,null,null,null,null,null,2011,{"$f":"IF(K508=\"\",\"\",VLOOKUP(I508,'Suiv Contr '!$D$14:$E$25,2))","v":"novembre"},11,4,"2011-11-10","Germain","Champagnole","Champagnole",null,null,{"$f":"IF(N508=\"\",\"\",VLOOKUP(N508,Ville!$A$3:$E$40,4,0))","v":"p"},0,{"$f":"IF(N508=\"\",0,VLOOKUP(N508,Ville!$A$3:$E$40,3,0))","v":"00:00:00"},null,7,1,null,null,2,2,null,null,8,10,{"$f":"IF(N508=\"\",\"\",VLOOKUP(N508,Ville!$A$3:$E$40,2,0))","v":0},null,null,0,0,0,0,0,0,0,0,0,0,0,0,0,null,null,"","","",""]
[null,null,null,null,null,null,2011,{"$f":"IF(K509=\"\",\"\",VLOOKUP(I509,'Suiv Contr '!$D$14:$E$25,2))","v":"novembre"},11,1,"2011-11-14","Germain","Meythet","Meythet",null,null,{"$f":"IF(N509=\"\",\"\",VLOOKUP(N509,Ville!$A$3:$E$40,4,0))","v":"ca"},0,{"$f":"IF(N509=\"\",0,VLOOKUP(N509,Ville!$A$3:$E$40,3,0))","v":"04:20:00"},null,null,null,null,null,null,null,null,null,0,0,{"$f":"IF(N509=\"\",\"\",VLOOKUP(N509,Ville!$A$3:$E$40,2,0))","v":298},"Drire + panne infor",null,0,0,0,0,0,0,0,0,0,0,0,0,0,null,null,"","","",1]
[null,null,null,null,null,null,2011,{"$f":"IF(K510=\"\",\"\",VLOOKUP(I510,'Suiv Contr '!$D$14:$E$25,2))","v":"novembre"},11,2,"2011-11-15","Germain","Champagnole","Champagnole",null,null,{"$f":"IF(N510=\"\",\"\",VLOOKUP(N510,Ville!$A$3:$E$40,4,0))","v":"p"},0,{"$f":"IF(N510=\"\",0,VLOOKUP(N510,Ville!$A$3:$E$40,3,0))","v":"00:00:00"},null,4,1,null,null,null,null,null,1,5,5,{"$f":"IF(N510=\"\",\"\",VLOOKUP(N510,Ville!$A$3:$E$40,2,0))","v":0},null,null,0,0,0,0,0,0,0,0,0,0,0,0,0,null,null,"","","",""]
[null,null,null,null,null,null,2011,{"$f":"IF(K511=\"\",\"\",VLOOKUP(I511,'Suiv Contr '!$D$14:$E$25,2))","v":"novembre"},11,3,"2011-11-16","Germain","Champagnole","Champagnole",null,null,{"$f":"IF(N511=\"\",\"\",VLOOKUP(N511,Ville!$A$3:$E$40,4,0))","v":"p"},0,{"$f":"IF(N511=\"\",0,VLOOKUP(N511,Ville!$A$3:$E$40,3,0))","v":"00:00:00"},null,1,null,null,null,null,null,null,null,1,1,{"$f":"IF(N511=\"\",\"\",VLOOKUP(N511,Ville!$A$3:$E$40,2,0))","v":0},null,null,0,0,0,0,0,0,0,0,0,0,0,0,0,null,null,{"$f":"IF(K511=$B$2,1,\"\")","v":""},"","",""]
[null,null,null,null,null,null,2011,{"$f":"IF(K512=\"\",\"\",VLOOKUP(I512,'Suiv Contr '!$D$14:$E$25,2))","v":"novembre"},11,4,"2011-11-17","Germain","Champagnole","Champagnole",null,null,{"$f":"IF(N512=\"\",\"\",VLOOKUP(N512,Ville!$A$3:$E$40,4,0))","v":"p"},0,{"$f":"IF(N512=\"\",0,VLOOKUP(N512,Ville!$A$3:$E$40,3,0))","v":"00:00:00"},null,3,1,null,null,1,null,null,null,4,5,{"$f":"IF(N512=\"\",\"\",VLOOKUP(N512,Ville!$A$3:$E$40,2,0))","v":0},null,null,0,0,0,0,0,0,0,0,0,0,0,0,0,null,null,"","","",""]
[null,null,null,null,null,null,2011,{"$f":"IF(K513=\"\",\"\",VLOOKUP(I513,'Suiv Contr '!$D$14:$E$25,2))","v":"novembre"},11,5,"2011-11-18","Germain","Champagnole","Champagnole",null,null,{"$f":"IF(N513=\"\",\"\",VLOOKUP(N513,Ville!$A$3:$E$40,4,0))","v":"p"},0,{"$f":"IF(N513=\"\",0,VLOOKUP(N513,Ville!$A$3:$E$40,3,0))","v":"00:00:00"},null,2,null,null,null,null,null,null,null,{"$f":"U513+V513+W513+X513","v":2},{"$f":"AC513+Y513","v":2},{"$f":"IF(N513=\"\",\"\",VLOOKUP(N513,Ville!$A$3:$E$40,2,0))","v":0},null,null,0,0,0,0,0,0,0,0,0,0,0,0,0,null,null,"","","",""]
[null,null,null,null,null,null,2011,{"$f":"IF(K514=\"\",\"\",VLOOKUP(I514,'Suiv Contr '!$D$14:$E$25,2))","v":"novembre"},11,1,"2011-11-21","Germain","Champagnole","Champagnole",null,null,{"$f":"IF(N514=\"\",\"\",VLOOKUP(N514,Ville!$A$3:$E$40,4,0))","v":"p"},0,{"$f":"IF(N514=\"\",0,VLOOKUP(N514,Ville!$A$3:$E$40,3,0))","v":"00:00:00"},null,3,null,null,null,null,null,null,null,3,3,{"$f":"IF(N514=\"\",\"\",VLOOKUP(N514,Ville!$A$3:$E$40,2,0))","v":0},null,null,0,0,0,0,0,0,0,0,0,0,0,0,0,null,null,"","","",""]
[null,null,null,null,null,null,2011,{"$f":"IF(K515=\"\",\"\",VLOOKUP(I515,'Suiv Contr '!$D$14:$E$25,2))","v":"novembre"},11,2,"2011-11-22","Germain","Champagnole","Champagnole",null,null,{"$f":"IF(N515=\"\",\"\",VLOOKUP(N515,Ville!$A$3:$E$40,4,0))","v":"p"},0,{"$f":"IF(N515=\"\",0,VLOOKUP(N515,Ville!$A$3:$E$40,3,0))","v":"00:00:00"},null,3,1,null,null,null,null,null,1,4,4,{"$f":"IF(N515=\"\",\"\",VLOOKUP(N515,Ville!$A$3:$E$40,2,0))","v":0},null,null,0,0,0,0,0,0,0,0,0,0,0,0,0,null,null,"","","",""]
[null,null,null,null,null,null,2011,{"$f":"IF(K516=\"\",\"\",VLOOKUP(I516,'Suiv Contr '!$D$14:$E$25,2))","v":"novembre"},11,3,"2011-11-23","Germain","Champagnole","Champagnole",null,null,{"$f":"IF(N516=\"\",\"\",VLOOKUP(N516,Ville!$A$3:$E$40,4,0))","v":"p"},0,{"$f":"IF(N516=\"\",0,VLOOKUP(N516,Ville!$A$3:$E$40,3,0))","v":"00:00:00"},null,null,null,null,null,null,null,null,null,0,0,{"$f":"IF(N516=\"\",\"\",VLOOKUP(N516,Ville!$A$3:$E$40,2,0))","v":0},"modif banc",null,0,0,0,0,0,0,0,0,0,0,0,0,0,null,null,"","","",""]
[null,null,null,null,null,null,2011,{"$f":"IF(K517=\"\",\"\",VLOOKUP(I517,'Suiv Contr '!$D$14:$E$25,2))","v":"novembre"},11,4,"2011-11-24","Germain","Champagnole","Champagnole",null,null,{"$f":"IF(N517=\"\",\"\",VLOOKUP(N517,Ville!$A$3:$E$40,4,0))","v":"p"},0,{"$f":"IF(N517=\"\",0,VLOOKUP(N517,Ville!$A$3:$E$40,3,0))","v":"00:00:00"},null,null,null,null,null,null,null,null,null,0,0,{"$f":"IF(N517=\"\",\"\",VLOOKUP(N517,Ville!$A$3:$E$40,2,0))","v":0},"modif banc",null,0,0,0,0,0,0,0,0,0,0,0,0,0,null,null,"","","",""]
[null,null,null,null,null,null,2011,{"$f":"IF(K518=\"\",\"\",VLOOKUP(I518,'Suiv Contr '!$D$14:$E$25,2))","v":"novembre"},11,5,"2011-11-25","Germain","Champagnole","Champagnole",null,null,{"$f":"IF(N518=\"\",\"\",VLOOKUP(N518,Ville!$A$3:$E$40,4,0))","v":"p"},0,{"$f":"IF(N518=\"\",0,VLOOKUP(N518,Ville!$A$3:$E$40,3,0))","v":"00:00:00"},null,4,2,null,null,1,1,null,null,6,7,{"$f":"IF(N518=\"\",\"\",VLOOKUP(N518,Ville!$A$3:$E$40,2,0))","v":0},null,null,0,0,0,0,0,0,0,0,0,0,0,0,0,null,null,"","","",""]
[null,null,null,null,null,null,2011,{"$f":"IF(K519=\"\",\"\",VLOOKUP(I519,'Suiv Contr '!$D$14:$E$25,2))","v":"novembre"},11,1,"2011-11-28","Germain","Champagnole","Champagnole",null,null,{"$f":"IF(N519=\"\",\"\",VLOOKUP(N519,Ville!$A$3:$E$40,4,0))","v":"p"},0,{"$f":"IF(N519=\"\",0,VLOOKUP(N519,Ville!$A$3:$E$40,3,0))","v":"00:00:00"},null,4,null,null,null,null,null,null,null,4,4,{"$f":"IF(N519=\"\",\"\",VLOOKUP(N519,Ville!$A$3:$E$40,2,0))","v":0},"micro onde",null,0,0,0,0,0,0,0,0,0,0,0,0,0,null,null,"","","",""]
[null,null,null,null,null,null,2011,{"$f":"IF(K520=\"\",\"\",VLOOKUP(I520,'Suiv Contr '!$D$14:$E$25,2))","v":"novembre"},11,2,"2011-11-29","Germain","Champagnole","Champagnole",null,null,{"$f":"IF(N520=\"\",\"\",VLOOKUP(N520,Ville!$A$3:$E$40,4,0))","v":"p"},0,{"$f":"IF(N520=\"\",0,VLOOKUP(N520,Ville!$A$3:$E$40,3,0))","v":"00:00:00"},null,5,1,null,null,1,1,null,null,6,7,{"$f":"IF(N520=\"\",\"\",VLOOKUP(N520,Ville!$A$3:$E$40,2,0))","v":0},null,null,0,0,0,0,0,0,0,0,0,0,0,0,0,null,null,"",{"$f":"IF(Q520=\"v\",3,\"\")","v":""},{"$f":"IF(Q520=\"rec\",2,\"\")","v":""},""]
[null,null,null,null,null,null,2011,{"$f":"IF(K521=\"\",\"\",VLOOKUP(I521,'Suiv Contr '!$D$14:$E$25,2))","v":"novembre"},11,3,"2011-11-30","Germain","Belley","Belley",null,null,{"$f":"IF(N521=\"\",\"\",VLOOKUP(N521,Ville!$A$3:$E$40,4,0))","v":"ca"},0,{"$f":"IF(N521=\"\",0,VLOOKUP(N521,Ville!$A$3:$E$40,3,0))","v":"03:40:00"},null,3,1,null,null,2,1,null,null,4,6,{"$f":"IF(N521=\"\",\"\",VLOOKUP(N521,Ville!$A$3:$E$40,2,0))","v":330},null,null,0,0,0,0,0,0,0,0,0,0,0,0,0,null,null,"","","",1]
[null,null,null,null,null,null,2011,{"$f":"IF(K522=\"\",\"\",VLOOKUP(I522,'Suiv Contr '!$D$14:$E$25,2))","v":"décembre"},12,4,"2011-12-01","Germain","Champagnole","Champagnole",null,null,{"$f":"IF(N522=\"\",\"\",VLOOKUP(N522,Ville!$A$3:$E$40,4,0))","v":"p"},0,{"$f":"IF(N522=\"\",0,VLOOKUP(N522,Ville!$A$3:$E$40,3,0))","v":"00:00:00"},null,3,3,null,null,null,null,null,null,6,6,{"$f":"IF(N522=\"\",\"\",VLOOKUP(N522,Ville!$A$3:$E$40,2,0))","v":0},null,null,0,0,0,0,0,0,0,0,0,0,0,0,0,null,null,"","","",""]
[null,null,null,null,null,null,2011,{"$f":"IF(K523=\"\",\"\",VLOOKUP(I523,'Suiv Contr '!$D$14:$E$25,2))","v":"décembre"},12,5,"2011-12-02","Germain","Champagnole","Champagnole",null,null,{"$f":"IF(N523=\"\",\"\",VLOOKUP(N523,Ville!$A$3:$E$40,4,0))","v":"p"},0,{"$f":"IF(N523=\"\",0,VLOOKUP(N523,Ville!$A$3:$E$40,3,0))","v":"00:00:00"},null,3,2,null,null,null,null,null,null,5,5,{"$f":"IF(N523=\"\",\"\",VLOOKUP(N523,Ville!$A$3:$E$40,2,0))","v":0},null,null,0,0,0,0,0,0,0,0,0,0,0,0,0,null,null,"","","",""]
[null,null,null,null,null,null,2011,{"$f":"IF(K524=\"\",\"\",VLOOKUP(I524,'Suiv Contr '!$D$14:$E$25,2))","v":"décembre"},12,1,"2011-12-05","Germain","Champagnole","Champagnole",null,null,{"$f":"IF(N524=\"\",\"\",VLOOKUP(N524,Ville!$A$3:$E$40,4,0))","v":"p"},0,{"$f":"IF(N524=\"\",0,VLOOKUP(N524,Ville!$A$3:$E$40,3,0))","v":"00:00:00"},null,4,null,null,null,null,null,null,null,4,4,{"$f":"IF(N524=\"\",\"\",VLOOKUP(N524,Ville!$A$3:$E$40,2,0))","v":0},"porte QVS",null,0,0,0,0,0,0,0,0,0,0,0,0,0,null,null,"","","",""]
[null,null,null,null,null,null,2011,{"$f":"IF(K525=\"\",\"\",VLOOKUP(I525,'Suiv Contr '!$D$14:$E$25,2))","v":"décembre"},12,2,"2011-12-06","Germain","Champagnole","Champagnole",null,null,{"$f":"IF(N525=\"\",\"\",VLOOKUP(N525,Ville!$A$3:$E$40,4,0))","v":"p"},0,{"$f":"IF(N525=\"\",0,VLOOKUP(N525,Ville!$A$3:$E$40,3,0))","v":"00:00:00"},null,5,null,null,null,null,null,null,null,5,5,{"$f":"IF(N525=\"\",\"\",VLOOKUP(N525,Ville!$A$3:$E$40,2,0))","v":0},null,null,0,0,0,0,0,0,0,0,0,0,0,0,0,null,null,"","","",""]
[null,null,null,null,null,null,2011,{"$f":"IF(K526=\"\",\"\",VLOOKUP(I526,'Suiv Contr '!$D$14:$E$25,2))","v":"décembre"},12,3,"2011-12-07","Germain",{"$f":"N526","v":"Champagnole"},"Champagnole",null,null,{"$f":"IF(N526=\"\",\"\",VLOOKUP(N526,Ville!$A$3:$E$40,4,0))","v":"p"},0,{"$f":"IF(N526=\"\",0,VLOOKUP(N526,Ville!$A$3:$E$40,3,0))","v":"00:00:00"},null,null,null,null,null,null,null,null,null,0,0,{"$f":"IF(N526=\"\",\"\",VLOOKUP(N526,Ville!$A$3:$E$40,2,0))","v":0},"audit rezo +VSI",null,0,0,0,0,0,0,0,0,0,0,0,0,0,null,null,"","","",""]
[null,null,null,null,null,null,2011,{"$f":"IF(K527=\"\",\"\",VLOOKUP(I527,'Suiv Contr '!$D$14:$E$25,2))","v":"décembre"},12,4,"2011-12-08","Germain","Champagnole","Champagnole",null,null,{"$f":"IF(N527=\"\",\"\",VLOOKUP(N527,Ville!$A$3:$E$40,4,0))","v":"p"},0,{"$f":"IF(N527=\"\",0,VLOOKUP(N527,Ville!$A$3:$E$40,3,0))","v":"00:00:00"},null,3,1,null,null,1,null,null,null,4,5,{"$f":"IF(N527=\"\",\"\",VLOOKUP(N527,Ville!$A$3:$E$40,2,0))","v":0},null,null,0,0,0,0,0,0,0,0,0,0,0,0,0,null,null,"","","",""]
[null,null,null,null,null,null,{"$f":"IF(K528=\"\",\"\",YEAR(K528))","v":2011},{"$f":"IF(K528=\"\",\"\",VLOOKUP(I528,'Suiv Contr '!$D$14:$E$25,2))","v":"décembre"},{"$f":"IF(K528=\"\",\"\",MONTH(K528))","v":12},{"$f":"IF(K528=\"\",\"\",WEEKDAY(K528,2))","v":5},"2011-12-09","Germain","Champagnole","Champagnole",null,null,{"$f":"IF(N528=\"\",\"\",VLOOKUP(N528,Ville!$A$3:$E$40,4,0))","v":"p"},0,{"$f":"IF(N528=\"\",0,VLOOKUP(N528,Ville!$A$3:$E$40,3,0))","v":"00:00:00"},null,4,1,null,null,null,1,null,null,5,5,{"$f":"IF(N528=\"\",\"\",VLOOKUP(N528,Ville!$A$3:$E$40,2,0))","v":0},null,null,0,0,0,0,0,0,0,0,0,0,0,0,0,null,null,"","","",""]
[null,null,null,null,null,null,2011,{"$f":"IF(K529=\"\",\"\",VLOOKUP(I529,'Suiv Contr '!$D$14:$E$25,2))","v":"décembre"},12,1,"2011-12-12","Germain","Meythet","Meythet",null,null,{"$f":"IF(N529=\"\",\"\",VLOOKUP(N529,Ville!$A$3:$E$40,4,0))","v":"ca"},0,{"$f":"IF(N529=\"\",0,VLOOKUP(N529,Ville!$A$3:$E$40,3,0))","v":"04:20:00"},null,5,2,null,null,null,1,null,null,7,7,{"$f":"IF(N529=\"\",\"\",VLOOKUP(N529,Ville!$A$3:$E$40,2,0))","v":298},null,null,0,0,0,0,0,0,0,0,0,0,0,0,0,null,null,"","","",1]
[null,null,null,null,null,null,2011,{"$f":"IF(K530=\"\",\"\",VLOOKUP(I530,'Suiv Contr '!$D$14:$E$25,2))","v":"décembre"},12,2,"2011-12-13","Germain","Champagnole","Champagnole",null,null,{"$f":"IF(N530=\"\",\"\",VLOOKUP(N530,Ville!$A$3:$E$40,4,0))","v":"p"},{"$f":"IF(Q530=\"v\",1,0)","v":0},{"$f":"IF(N530=\"\",0,VLOOKUP(N530,Ville!$A$3:$E$40,3,0))","v":"00:00:00"},null,4,null,null,null,null,null,null,null,4,4,{"$f":"IF(N530=\"\",\"\",VLOOKUP(N530,Ville!$A$3:$E$40,2,0))","v":0},null,null,0,0,0,0,0,0,0,0,0,0,0,0,{"$f":"SUM(AH530:AS530)","v":0},null,null,"","","",""]
[null,null,null,null,null,null,2011,{"$f":"IF(K531=\"\",\"\",VLOOKUP(I531,'Suiv Contr '!$D$14:$E$25,2))","v":"décembre"},12,3,"2011-12-14","Germain","Thann","Thann",null,null,{"$f":"IF(N531=\"\",\"\",VLOOKUP(N531,Ville!$A$3:$E$40,4,0))","v":"ca"},0,{"$f":"IF(N531=\"\",0,VLOOKUP(N531,Ville!$A$3:$E$40,3,0))","v":"04:30:00"},null,1,null,1,null,null,null,null,null,2,2,{"$f":"IF(N531=\"\",\"\",VLOOKUP(N531,Ville!$A$3:$E$40,2,0))","v":402},null,null,0,0,0,0,0,0,0,0,0,0,0,0,0,null,null,"","","",1]
[null,null,null,null,null,null,2011,{"$f":"IF(K532=\"\",\"\",VLOOKUP(I532,'Suiv Contr '!$D$14:$E$25,2))","v":"décembre"},12,4,"2011-12-15","Germain","Champagnole","Champagnole",null,null,{"$f":"IF(N532=\"\",\"\",VLOOKUP(N532,Ville!$A$3:$E$40,4,0))","v":"p"},0,{"$f":"IF(N532=\"\",0,VLOOKUP(N532,Ville!$A$3:$E$40,3,0))","v":"00:00:00"},null,6,1,null,null,null,null,null,null,7,7,{"$f":"IF(N532=\"\",\"\",VLOOKUP(N532,Ville!$A$3:$E$40,2,0))","v":0},"S2M obd reglo",null,0,0,0,0,0,0,0,0,0,0,0,0,0,null,null,"","","",""]
[null,null,null,null,null,null,2011,{"$f":"IF(K533=\"\",\"\",VLOOKUP(I533,'Suiv Contr '!$D$14:$E$25,2))","v":"décembre"},12,5,"2011-12-16","Germain","Champagnole","Champagnole",null,null,{"$f":"IF(N533=\"\",\"\",VLOOKUP(N533,Ville!$A$3:$E$40,4,0))","v":"p"},0,{"$f":"IF(N533=\"\",0,VLOOKUP(N533,Ville!$A$3:$E$40,3,0))","v":"00:00:00"},null,2,null,null,null,null,null,null,null,2,2,{"$f":"IF(N533=\"\",\"\",VLOOKUP(N533,Ville!$A$3:$E$40,2,0))","v":0},null,null,0,0,0,0,0,0,0,0,0,0,0,0,0,null,null,"","","",""]
[null,null,null,null,null,null,2011,{"$f":"IF(K534=\"\",\"\",VLOOKUP(I534,'Suiv Contr '!$D$14:$E$25,2))","v":"décembre"},12,1,"2011-12-19","Germain","Villefranche","Villefranche",null,null,{"$f":"IF(N534=\"\",\"\",VLOOKUP(N534,Ville!$A$3:$E$40,4,0))","v":"sp"},0,{"$f":"IF(N534=\"\",0,VLOOKUP(N534,Ville!$A$3:$E$40,3,0))","v":"03:00:00"},null,2,1,null,null,null,null,null,null,3,3,{"$f":"IF(N534=\"\",\"\",VLOOKUP(N534,Ville!$A$3:$E$40,2,0))","v":390},null,null,0,0,0,0,0,0,0,0,0,0,0,0,0,null,null,"","","",1]
[null,null,null,null,null,null,2011,{"$f":"IF(K535=\"\",\"\",VLOOKUP(I535,'Suiv Contr '!$D$14:$E$25,2))","v":"décembre"},12,2,"2011-12-20","Germain","Champagnole","Champagnole",null,null,{"$f":"IF(N535=\"\",\"\",VLOOKUP(N535,Ville!$A$3:$E$40,4,0))","v":"p"},0,{"$f":"IF(N535=\"\",0,VLOOKUP(N535,Ville!$A$3:$E$40,3,0))","v":"00:00:00"},null,3,2,null,null,null,null,1,null,5,5,{"$f":"IF(N535=\"\",\"\",VLOOKUP(N535,Ville!$A$3:$E$40,2,0))","v":0},null,null,0,0,0,0,0,0,0,0,0,0,0,0,0,null,null,"","","",""]
[null,null,null,null,null,null,2011,{"$f":"IF(K536=\"\",\"\",VLOOKUP(I536,'Suiv Contr '!$D$14:$E$25,2))","v":"décembre"},12,3,"2011-12-21","Germain","Audibert","Audibert",null,null,{"$f":"IF(N536=\"\",\"\",VLOOKUP(N536,Ville!$A$3:$E$40,4,0))","v":"ca"},null,{"$f":"IF(N536=\"\",0,VLOOKUP(N536,Ville!$A$3:$E$40,3,0))","v":"03:10:00"},null,null,10,null,null,2,3,null,null,{"$f":"U536+V536+W536+X536","v":10},{"$f":"AC536+Y536","v":12},{"$f":"IF(N536=\"\",\"\",VLOOKUP(N536,Ville!$A$3:$E$40,2,0))","v":416},null,null,0,0,0,0,0,0,0,0,0,0,0,0,0,null,null,"","","",1]
[null,null,null,null,null,null,2011,{"$f":"IF(K537=\"\",\"\",VLOOKUP(I537,'Suiv Contr '!$D$14:$E$25,2))","v":"décembre"},12,4,"2011-12-22","Germain","Champagnole","Champagnole",null,null,{"$f":"IF(N537=\"\",\"\",VLOOKUP(N537,Ville!$A$3:$E$40,4,0))","v":"p"},0,{"$f":"IF(N537=\"\",0,VLOOKUP(N537,Ville!$A$3:$E$40,3,0))","v":"00:00:00"},null,null,4,null,null,null,null,null,null,{"$f":"U537+V537+W537+X537","v":4},{"$f":"AC537+Y537","v":4},{"$f":"IF(N537=\"\",\"\",VLOOKUP(N537,Ville!$A$3:$E$40,2,0))","v":0},null,null,0,0,0,0,0,0,0,0,0,0,0,0,0,null,null,"","","",{"$f":"IF(OR(N537=\"champagnole\",N537=\"\"),\"\",1)","v":""}]
[null,null,null,null,null,null,2011,{"$f":"IF(K538=\"\",\"\",VLOOKUP(I538,'Suiv Contr '!$D$14:$E$25,2))","v":"décembre"},12,5,"2011-12-23","Germain","Champagnole","Champagnole",null,null,{"$f":"IF(N538=\"\",\"\",VLOOKUP(N538,Ville!$A$3:$E$40,4,0))","v":"p"},0,{"$f":"IF(N538=\"\",0,VLOOKUP(N538,Ville!$A$3:$E$40,3,0))","v":"00:00:00"},null,4,null,null,null,1,null,null,null,4,5,{"$f":"IF(N538=\"\",\"\",VLOOKUP(N538,Ville!$A$3:$E$40,2,0))","v":0},null,null,0,0,0,0,0,0,0,0,0,0,0,0,0,null,null,"","","",""]
[null,null,null,null,null,null,2011,{"$f":"IF(K539=\"\",\"\",VLOOKUP(I539,'Suiv Contr '!$D$14:$E$25,2))","v":"décembre"},12,1,"2011-12-26","Germain","00:00:00",null,null,null,"v",1,{"$f":"IF(N539=\"\",0,VLOOKUP(N539,Ville!$A$3:$E$40,3,0))","v":"00:00:00"},null,null,null,null,null,null,null,null,null,0,0,{"$f":"IF(N539=\"\",\"\",VLOOKUP(N539,Ville!$A$3:$E$40,2,0))","v":""},null,null,0,0,0,0,0,0,0,0,0,0,0,0,0,null,null,"",3,"",""]
[null,null,null,null,null,null,2011,{"$f":"IF(K540=\"\",\"\",VLOOKUP(I540,'Suiv Contr '!$D$14:$E$25,2))","v":"décembre"},12,2,"2011-12-27","Germain","00:00:00",null,null,null,"v",1,{"$f":"IF(N540=\"\",0,VLOOKUP(N540,Ville!$A$3:$E$40,3,0))","v":"00:00:00"},null,null,null,null,null,null,null,null,null,0,0,{"$f":"IF(N540=\"\",\"\",VLOOKUP(N540,Ville!$A$3:$E$40,2,0))","v":""},null,null,0,0,0,0,0,0,0,0,0,0,0,0,0,null,null,"",3,"",""]
[null,null,null,null,null,null,2011,{"$f":"IF(K541=\"\",\"\",VLOOKUP(I541,'Suiv Contr '!$D$14:$E$25,2))","v":"décembre"},12,3,"2011-12-28","Germain","00:00:00",null,null,null,"v",1,{"$f":"IF(N541=\"\",0,VLOOKUP(N541,Ville!$A$3:$E$40,3,0))","v":"00:00:00"},null,null,null,null,null,null,null,null,null,0,0,{"$f":"IF(N541=\"\",\"\",VLOOKUP(N541,Ville!$A$3:$E$40,2,0))","v":""},null,null,0,0,0,0,0,0,0,0,0,0,0,0,0,null,null,"",3,"",""]
[null,null,null,null,null,null,2011,{"$f":"IF(K542=\"\",\"\",VLOOKUP(I542,'Suiv Contr '!$D$14:$E$25,2))","v":"décembre"},12,4,"2011-12-29","Germain","00:00:00",null,null,null,"v",1,{"$f":"IF(N542=\"\",0,VLOOKUP(N542,Ville!$A$3:$E$40,3,0))","v":"00:00:00"},null,null,null,null,null,null,null,null,null,0,0,{"$f":"IF(N542=\"\",\"\",VLOOKUP(N542,Ville!$A$3:$E$40,2,0))","v":""},null,null,0,0,0,0,0,0,0,0,0,0,0,0,0,null,null,"",3,"",""]
[null,null,null,null,null,null,2011,{"$f":"IF(K543=\"\",\"\",VLOOKUP(I543,'Suiv Contr '!$D$14:$E$25,2))","v":"décembre"},12,5,"2011-12-30","Germain","00:00:00",null,null,null,"v",1,{"$f":"IF(N543=\"\",0,VLOOKUP(N543,Ville!$A$3:$E$40,3,0))","v":"00:00:00"},null,null,null,null,null,null,null,null,null,0,0,{"$f":"IF(N543=\"\",\"\",VLOOKUP(N543,Ville!$A$3:$E$40,2,0))","v":""},null,null,0,0,0,0,0,0,0,0,0,0,0,0,0,null,null,"",3,"",""]
[null,null,null,null,null,null,2012,{"$f":"IF(K544=\"\",\"\",VLOOKUP(I544,'Suiv Contr '!$D$14:$E$25,2))","v":"janvier"},1,1,"2012-01-02","Germain","Sennece les Macons","Sennece les Macons",null,null,{"$f":"IF(N544=\"\",\"\",VLOOKUP(N544,Ville!$A$3:$E$40,4,0))","v":"ca"},0,{"$f":"IF(N544=\"\",0,VLOOKUP(N544,Ville!$A$3:$E$40,3,0))","v":"02:00:00"},null,7,null,null,1,null,null,null,null,8,8,{"$f":"IF(N544=\"\",\"\",VLOOKUP(N544,Ville!$A$3:$E$40,2,0))","v":298},null,null,0,0,0,0,0,0,0,0,0,0,0,0,0,null,null,"","","",1]
[null,null,null,null,null,null,2012,{"$f":"IF(K545=\"\",\"\",VLOOKUP(I545,'Suiv Contr '!$D$14:$E$25,2))","v":"janvier"},1,2,"2012-01-03","Germain","Champagnole","Champagnole",null,null,{"$f":"IF(N545=\"\",\"\",VLOOKUP(N545,Ville!$A$3:$E$40,4,0))","v":"p"},0,{"$f":"IF(N545=\"\",0,VLOOKUP(N545,Ville!$A$3:$E$40,3,0))","v":"00:00:00"},null,5,1,null,null,null,null,1,null,6,6,{"$f":"IF(N545=\"\",\"\",VLOOKUP(N545,Ville!$A$3:$E$40,2,0))","v":0},null,null,0,0,0,0,0,0,0,0,0,0,0,0,0,null,null,"","","",""]
[null,null,null,null,null,null,2012,{"$f":"IF(K546=\"\",\"\",VLOOKUP(I546,'Suiv Contr '!$D$14:$E$25,2))","v":"janvier"},1,3,"2012-01-04","Germain","Champagnole","Champagnole",null,null,{"$f":"IF(N546=\"\",\"\",VLOOKUP(N546,Ville!$A$3:$E$40,4,0))","v":"p"},0,{"$f":"IF(N546=\"\",0,VLOOKUP(N546,Ville!$A$3:$E$40,3,0))","v":"00:00:00"},null,2,2,null,null,null,null,null,null,4,4,{"$f":"IF(N546=\"\",\"\",VLOOKUP(N546,Ville!$A$3:$E$40,2,0))","v":0},null,null,0,0,0,0,0,0,0,0,0,0,0,0,0,null,null,"","","",""]
[null,null,null,null,null,null,2012,{"$f":"IF(K547=\"\",\"\",VLOOKUP(I547,'Suiv Contr '!$D$14:$E$25,2))","v":"janvier"},1,4,"2012-01-05","Germain","Champagnole","Champagnole",null,null,{"$f":"IF(N547=\"\",\"\",VLOOKUP(N547,Ville!$A$3:$E$40,4,0))","v":"p"},0,{"$f":"IF(N547=\"\",0,VLOOKUP(N547,Ville!$A$3:$E$40,3,0))","v":"00:00:00"},null,1,2,null,null,null,null,null,null,3,3,{"$f":"IF(N547=\"\",\"\",VLOOKUP(N547,Ville!$A$3:$E$40,2,0))","v":0},null,null,0,0,0,0,0,0,0,0,0,0,0,0,0,null,null,"","","",""]
[null,null,null,null,null,null,2012,{"$f":"IF(K548=\"\",\"\",VLOOKUP(I548,'Suiv Contr '!$D$14:$E$25,2))","v":"janvier"},1,5,"2012-01-06","Germain","Champagnole","Champagnole",null,null,{"$f":"IF(N548=\"\",\"\",VLOOKUP(N548,Ville!$A$3:$E$40,4,0))","v":"p"},0,{"$f":"IF(N548=\"\",0,VLOOKUP(N548,Ville!$A$3:$E$40,3,0))","v":"00:00:00"},null,6,1,null,null,null,null,2,null,7,7,{"$f":"IF(N548=\"\",\"\",VLOOKUP(N548,Ville!$A$3:$E$40,2,0))","v":0},null,null,0,0,0,0,0,0,0,0,0,0,0,0,0,null,null,"","","",""]
[null,null,null,null,null,null,2012,{"$f":"IF(K549=\"\",\"\",VLOOKUP(I549,'Suiv Contr '!$D$14:$E$25,2))","v":"janvier"},1,1,"2012-01-09","Germain","Champagnole","Champagnole",null,null,{"$f":"IF(N549=\"\",\"\",VLOOKUP(N549,Ville!$A$3:$E$40,4,0))","v":"p"},0,{"$f":"IF(N549=\"\",0,VLOOKUP(N549,Ville!$A$3:$E$40,3,0))","v":"00:00:00"},null,1,null,null,null,null,null,null,null,1,1,{"$f":"IF(N549=\"\",\"\",VLOOKUP(N549,Ville!$A$3:$E$40,2,0))","v":0},null,null,0,0,0,0,0,0,0,0,0,0,0,0,0,null,null,"","","",""]
[null,null,null,null,null,null,2012,{"$f":"IF(K550=\"\",\"\",VLOOKUP(I550,'Suiv Contr '!$D$14:$E$25,2))","v":"janvier"},1,2,"2012-01-10","Germain","Champagnole","Champagnole",null,null,{"$f":"IF(N550=\"\",\"\",VLOOKUP(N550,Ville!$A$3:$E$40,4,0))","v":"p"},0,{"$f":"IF(N550=\"\",0,VLOOKUP(N550,Ville!$A$3:$E$40,3,0))","v":"00:00:00"},null,2,1,null,null,null,null,null,null,3,3,{"$f":"IF(N550=\"\",\"\",VLOOKUP(N550,Ville!$A$3:$E$40,2,0))","v":0},null,null,0,0,0,0,0,0,0,0,0,0,0,0,0,null,null,"","","",""]
[null,null,null,null,null,null,2012,{"$f":"IF(K551=\"\",\"\",VLOOKUP(I551,'Suiv Contr '!$D$14:$E$25,2))","v":"janvier"},1,3,"2012-01-11","Germain","Champagnole","Champagnole",null,null,{"$f":"IF(N551=\"\",\"\",VLOOKUP(N551,Ville!$A$3:$E$40,4,0))","v":"p"},0,{"$f":"IF(N551=\"\",0,VLOOKUP(N551,Ville!$A$3:$E$40,3,0))","v":"00:00:00"},null,3,1,null,null,1,null,1,null,4,5,{"$f":"IF(N551=\"\",\"\",VLOOKUP(N551,Ville!$A$3:$E$40,2,0))","v":0},null,null,0,0,0,0,0,0,0,0,0,0,0,0,0,null,null,"","","",""]
[null,null,null,null,null,null,2012,{"$f":"IF(K552=\"\",\"\",VLOOKUP(I552,'Suiv Contr '!$D$14:$E$25,2))","v":"janvier"},1,4,"2012-01-12","Germain","00:00:00",null,null,null,"rec",0,{"$f":"IF(N552=\"\",0,VLOOKUP(N552,Ville!$A$3:$E$40,3,0))","v":"00:00:00"},"03:30:00",null,null,null,null,null,null,null,null,0,0,{"$f":"IF(N552=\"\",\"\",VLOOKUP(N552,Ville!$A$3:$E$40,2,0))","v":""},"Tribunal",null,0,0,0,0,0,0,0,0,0,0,0,0,0,null,null,"","",2,""]
[null,null,null,null,null,null,2012,{"$f":"IF(K553=\"\",\"\",VLOOKUP(I553,'Suiv Contr '!$D$14:$E$25,2))","v":"janvier"},1,4,"2012-01-12","Germain","Champagnole","Champagnole",null,null,{"$f":"IF(N553=\"\",\"\",VLOOKUP(N553,Ville!$A$3:$E$40,4,0))","v":"p"},0,{"$f":"IF(N553=\"\",0,VLOOKUP(N553,Ville!$A$3:$E$40,3,0))","v":"00:00:00"},null,3,1,null,null,null,1,null,null,4,4,{"$f":"IF(N553=\"\",\"\",VLOOKUP(N553,Ville!$A$3:$E$40,2,0))","v":0},null,null,0,0,0,0,0,0,0,0,0,0,0,0,0,null,null,"","","",""]
[null,null,null,null,null,null,2012,{"$f":"IF(K554=\"\",\"\",VLOOKUP(I554,'Suiv Contr '!$D$14:$E$25,2))","v":"janvier"},1,5,"2012-01-13","Germain","Champagnole","Champagnole",null,null,{"$f":"IF(N554=\"\",\"\",VLOOKUP(N554,Ville!$A$3:$E$40,4,0))","v":"p"},0,{"$f":"IF(N554=\"\",0,VLOOKUP(N554,Ville!$A$3:$E$40,3,0))","v":"00:00:00"},null,4,null,null,null,null,null,null,null,{"$f":"U554+V554+W554+X554","v":4},{"$f":"AC554+Y554","v":4},{"$f":"IF(N554=\"\",\"\",VLOOKUP(N554,Ville!$A$3:$E$40,2,0))","v":0},null,null,0,0,0,0,0,0,0,0,0,0,0,0,0,null,null,"","","",""]
[null,null,null,null,null,null,2012,{"$f":"IF(K555=\"\",\"\",VLOOKUP(I555,'Suiv Contr '!$D$14:$E$25,2))","v":"janvier"},1,1,"2012-01-16","Germain","Champagnole","Champagnole",null,null,{"$f":"IF(N555=\"\",\"\",VLOOKUP(N555,Ville!$A$3:$E$40,4,0))","v":"p"},0,{"$f":"IF(N555=\"\",0,VLOOKUP(N555,Ville!$A$3:$E$40,3,0))","v":"00:00:00"},null,4,null,null,null,null,null,null,null,4,4,{"$f":"IF(N555=\"\",\"\",VLOOKUP(N555,Ville!$A$3:$E$40,2,0))","v":0},null,null,0,0,0,0,0,0,0,0,0,0,0,0,0,null,null,"","","",""]
[null,null,null,null,null,null,2012,{"$f":"IF(K556=\"\",\"\",VLOOKUP(I556,'Suiv Contr '!$D$14:$E$25,2))","v":"janvier"},1,2,"2012-01-17","Germain","Champagnole","Champagnole",null,null,{"$f":"IF(N556=\"\",\"\",VLOOKUP(N556,Ville!$A$3:$E$40,4,0))","v":"p"},0,{"$f":"IF(N556=\"\",0,VLOOKUP(N556,Ville!$A$3:$E$40,3,0))","v":"00:00:00"},null,2,2,null,null,null,null,null,null,4,4,{"$f":"IF(N556=\"\",\"\",VLOOKUP(N556,Ville!$A$3:$E$40,2,0))","v":0},"gaz",null,0,0,0,0,0,0,0,0,0,0,0,0,0,null,null,"","","",""]
[null,null,null,null,null,null,2012,{"$f":"IF(K557=\"\",\"\",VLOOKUP(I557,'Suiv Contr '!$D$14:$E$25,2))","v":"janvier"},1,3,"2012-01-18","Germain","Thann","Thann",null,null,{"$f":"IF(N557=\"\",\"\",VLOOKUP(N557,Ville!$A$3:$E$40,4,0))","v":"ca"},0,{"$f":"IF(N557=\"\",0,VLOOKUP(N557,Ville!$A$3:$E$40,3,0))","v":"04:30:00"},null,5,1,3,null,null,null,null,null,9,9,{"$f":"IF(N557=\"\",\"\",VLOOKUP(N557,Ville!$A$3:$E$40,2,0))","v":402},null,null,0,0,0,0,0,0,0,0,0,0,0,0,0,null,null,"","","",1]
[null,null,null,null,null,null,2012,{"$f":"IF(K558=\"\",\"\",VLOOKUP(I558,'Suiv Contr '!$D$14:$E$25,2))","v":"janvier"},1,4,"2012-01-19","Germain","Champagnole","Champagnole",null,null,{"$f":"IF(N558=\"\",\"\",VLOOKUP(N558,Ville!$A$3:$E$40,4,0))","v":"p"},0,{"$f":"IF(N558=\"\",0,VLOOKUP(N558,Ville!$A$3:$E$40,3,0))","v":"00:00:00"},null,2,4,null,null,1,1,null,null,6,7,{"$f":"IF(N558=\"\",\"\",VLOOKUP(N558,Ville!$A$3:$E$40,2,0))","v":0},null,null,0,0,0,0,0,0,0,0,0,0,0,0,0,null,null,"","","",""]
[null,null,null,null,null,null,2012,{"$f":"IF(K559=\"\",\"\",VLOOKUP(I559,'Suiv Contr '!$D$14:$E$25,2))","v":"janvier"},1,5,"2012-01-20","Germain","Champagnole","Champagnole",null,null,{"$f":"IF(N559=\"\",\"\",VLOOKUP(N559,Ville!$A$3:$E$40,4,0))","v":"p"},0,{"$f":"IF(N559=\"\",0,VLOOKUP(N559,Ville!$A$3:$E$40,3,0))","v":"00:00:00"},null,7,1,null,null,2,1,null,null,8,10,{"$f":"IF(N559=\"\",\"\",VLOOKUP(N559,Ville!$A$3:$E$40,2,0))","v":0},null,null,0,0,0,0,0,0,0,0,0,0,0,0,0,null,null,"","","",""]
[null,null,null,null,null,null,2012,{"$f":"IF(K560=\"\",\"\",VLOOKUP(I560,'Suiv Contr '!$D$14:$E$25,2))","v":"janvier"},1,1,"2012-01-23","Germain","Besançon iax","Besançon iax",null,null,{"$f":"IF(N560=\"\",\"\",VLOOKUP(N560,Ville!$A$3:$E$40,4,0))","v":"ca"},{"$f":"IF(Q560=\"v\",1,0)","v":0},{"$f":"IF(N560=\"\",0,VLOOKUP(N560,Ville!$A$3:$E$40,3,0))","v":"01:50:00"},null,9,null,1,null,2,1,1,null,{"$f":"U560+V560+W560+X560","v":10},{"$f":"AC560+Y560","v":12},{"$f":"IF(N560=\"\",\"\",VLOOKUP(N560,Ville!$A$3:$E$40,2,0))","v":132},null,null,0,0,0,0,0,0,0,0,0,0,0,0,0,null,null,"","","",1]
[null,null,null,null,null,null,2012,{"$f":"IF(K561=\"\",\"\",VLOOKUP(I561,'Suiv Contr '!$D$14:$E$25,2))","v":"janvier"},1,2,"2012-01-24","Germain","Champagnole","Champagnole",null,null,{"$f":"IF(N561=\"\",\"\",VLOOKUP(N561,Ville!$A$3:$E$40,4,0))","v":"p"},0,{"$f":"IF(N561=\"\",0,VLOOKUP(N561,Ville!$A$3:$E$40,3,0))","v":"00:00:00"},null,2,3,null,null,null,null,null,null,5,5,{"$f":"IF(N561=\"\",\"\",VLOOKUP(N561,Ville!$A$3:$E$40,2,0))","v":0},null,null,0,0,0,0,0,0,0,0,0,0,0,0,0,null,null,"","","",""]
[null,null,null,null,null,null,2012,{"$f":"IF(K562=\"\",\"\",VLOOKUP(I562,'Suiv Contr '!$D$14:$E$25,2))","v":"janvier"},1,3,"2012-01-25","Germain",{"$f":"N562","v":"Champagnole"},"Champagnole",null,null,{"$f":"IF(N562=\"\",\"\",VLOOKUP(N562,Ville!$A$3:$E$40,4,0))","v":"p"},0,{"$f":"IF(N562=\"\",0,VLOOKUP(N562,Ville!$A$3:$E$40,3,0))","v":"00:00:00"},null,2,null,null,null,null,null,null,1,2,2,{"$f":"IF(N562=\"\",\"\",VLOOKUP(N562,Ville!$A$3:$E$40,2,0))","v":0},null,null,0,0,0,0,0,0,0,0,0,0,0,0,0,null,null,"","","",{"$f":"IF(OR(N562=\"champagnole\",N562=\"\"),\"\",1)","v":""}]
[null,null,null,null,null,null,2012,{"$f":"IF(K563=\"\",\"\",VLOOKUP(I563,'Suiv Contr '!$D$14:$E$25,2))","v":"janvier"},1,4,"2012-01-26","Germain",{"$f":"N563","v":"Champagnole"},"Champagnole",null,null,{"$f":"IF(N563=\"\",\"\",VLOOKUP(N563,Ville!$A$3:$E$40,4,0))","v":"p"},0,{"$f":"IF(N563=\"\",0,VLOOKUP(N563,Ville!$A$3:$E$40,3,0))","v":"00:00:00"},null,5,2,null,null,null,null,null,null,7,7,{"$f":"IF(N563=\"\",\"\",VLOOKUP(N563,Ville!$A$3:$E$40,2,0))","v":0},null,null,0,0,0,0,0,0,0,0,0,0,0,0,0,null,null,"","","",{"$f":"IF(OR(N563=\"champagnole\",N563=\"\"),\"\",1)","v":""}]
[null,null,null,null,null,null,2012,{"$f":"IF(K564=\"\",\"\",VLOOKUP(I564,'Suiv Contr '!$D$14:$E$25,2))","v":"janvier"},1,5,"2012-01-27","Germain","Champagnole","Champagnole",null,null,{"$f":"IF(N564=\"\",\"\",VLOOKUP(N564,Ville!$A$3:$E$40,4,0))","v":"p"},0,{"$f":"IF(N564=\"\",0,VLOOKUP(N564,Ville!$A$3:$E$40,3,0))","v":"00:00:00"},null,6,1,null,null,null,null,null,null,7,7,{"$f":"IF(N564=\"\",\"\",VLOOKUP(N564,Ville!$A$3:$E$40,2,0))","v":0},null,null,0,0,0,0,0,0,0,0,0,0,0,0,0,null,null,"","","",""]
[null,null,null,null,null,null,2012,{"$f":"IF(K565=\"\",\"\",VLOOKUP(I565,'Suiv Contr '!$D$14:$E$25,2))","v":"janvier"},1,1,"2012-01-30","Germain","Meythet","Meythet",null,null,{"$f":"IF(N565=\"\",\"\",VLOOKUP(N565,Ville!$A$3:$E$40,4,0))","v":"ca"},0,{"$f":"IF(N565=\"\",0,VLOOKUP(N565,Ville!$A$3:$E$40,3,0))","v":"04:20:00"},null,7,null,null,1,1,1,null,null,8,9,{"$f":"IF(N565=\"\",\"\",VLOOKUP(N565,Ville!$A$3:$E$40,2,0))","v":298},null,null,0,0,0,0,0,0,0,0,0,0,0,0,0,null,null,"","","",1]
[null,null,null,null,null,null,2012,{"$f":"IF(K566=\"\",\"\",VLOOKUP(I566,'Suiv Contr '!$D$14:$E$25,2))","v":"janvier"},1,2,"2012-01-31","Germain","Champagnole","Champagnole",null,null,{"$f":"IF(N566=\"\",\"\",VLOOKUP(N566,Ville!$A$3:$E$40,4,0))","v":"p"},0,{"$f":"IF(N566=\"\",0,VLOOKUP(N566,Ville!$A$3:$E$40,3,0))","v":"00:00:00"},null,1,null,null,null,null,null,null,null,1,1,{"$f":"IF(N566=\"\",\"\",VLOOKUP(N566,Ville!$A$3:$E$40,2,0))","v":0},null,null,0,0,0,0,0,0,0,0,0,0,0,0,0,null,null,"","","",""]
[null,null,null,null,null,null,2012,{"$f":"IF(K567=\"\",\"\",VLOOKUP(I567,'Suiv Contr '!$D$14:$E$25,2))","v":"février"},2,3,"2012-02-01","Germain","Champagnole","Champagnole",null,null,{"$f":"IF(N567=\"\",\"\",VLOOKUP(N567,Ville!$A$3:$E$40,4,0))","v":"p"},0,{"$f":"IF(N567=\"\",0,VLOOKUP(N567,Ville!$A$3:$E$40,3,0))","v":"00:00:00"},null,1,1,null,null,null,null,null,null,2,2,{"$f":"IF(N567=\"\",\"\",VLOOKUP(N567,Ville!$A$3:$E$40,2,0))","v":0},null,null,0,0,0,0,0,0,0,0,0,0,0,0,0,null,null,"","","",""]
[null,null,null,null,null,null,2012,{"$f":"IF(K568=\"\",\"\",VLOOKUP(I568,'Suiv Contr '!$D$14:$E$25,2))","v":"février"},2,4,"2012-02-02","Germain","Champagnole","Champagnole",null,null,{"$f":"IF(N568=\"\",\"\",VLOOKUP(N568,Ville!$A$3:$E$40,4,0))","v":"p"},null,null,null,null,4,null,null,null,null,null,1,{"$f":"U568+V568+W568+X568","v":4},{"$f":"AC568+Y568","v":4},null,null,null,0,0,0,0,0,0,0,0,0,0,0,0,0,null,null,"","","",""]
[null,null,null,null,null,null,2012,{"$f":"IF(K569=\"\",\"\",VLOOKUP(I569,'Suiv Contr '!$D$14:$E$25,2))","v":"février"},2,5,"2012-02-03","Germain","Champagnole","Champagnole",null,null,{"$f":"IF(N569=\"\",\"\",VLOOKUP(N569,Ville!$A$3:$E$40,4,0))","v":"p"},0,{"$f":"IF(N569=\"\",0,VLOOKUP(N569,Ville!$A$3:$E$40,3,0))","v":"00:00:00"},null,1,6,null,null,null,null,2,null,7,7,{"$f":"IF(N569=\"\",\"\",VLOOKUP(N569,Ville!$A$3:$E$40,2,0))","v":0},null,null,0,0,0,0,0,0,0,0,0,0,0,0,0,null,null,"","","",""]
[null,null,null,null,null,null,2012,{"$f":"IF(K570=\"\",\"\",VLOOKUP(I570,'Suiv Contr '!$D$14:$E$25,2))","v":"février"},2,1,"2012-02-06","Germain","Champagnole","Champagnole",null,null,{"$f":"IF(N570=\"\",\"\",VLOOKUP(N570,Ville!$A$3:$E$40,4,0))","v":"p"},0,{"$f":"IF(N570=\"\",0,VLOOKUP(N570,Ville!$A$3:$E$40,3,0))","v":"00:00:00"},null,2,1,null,null,null,null,1,null,3,3,{"$f":"IF(N570=\"\",\"\",VLOOKUP(N570,Ville!$A$3:$E$40,2,0))","v":0},null,null,0,0,0,0,0,0,0,0,0,0,0,0,0,null,null,"","","",""]
[null,null,null,null,null,null,2012,{"$f":"IF(K571=\"\",\"\",VLOOKUP(I571,'Suiv Contr '!$D$14:$E$25,2))","v":"février"},2,2,"2012-02-07","Germain","Champagnole","Champagnole",null,null,{"$f":"IF(N571=\"\",\"\",VLOOKUP(N571,Ville!$A$3:$E$40,4,0))","v":"p"},0,{"$f":"IF(N571=\"\",0,VLOOKUP(N571,Ville!$A$3:$E$40,3,0))","v":"00:00:00"},null,3,2,null,null,1,null,null,null,5,6,{"$f":"IF(N571=\"\",\"\",VLOOKUP(N571,Ville!$A$3:$E$40,2,0))","v":0},null,null,0,0,0,0,0,0,0,0,0,0,0,0,0,null,null,"","","",""]
[null,null,null,null,null,null,2012,{"$f":"IF(K572=\"\",\"\",VLOOKUP(I572,'Suiv Contr '!$D$14:$E$25,2))","v":"février"},2,3,"2012-02-08","Germain","Champagnole","Champagnole",null,null,{"$f":"IF(N572=\"\",\"\",VLOOKUP(N572,Ville!$A$3:$E$40,4,0))","v":"p"},0,{"$f":"IF(N572=\"\",0,VLOOKUP(N572,Ville!$A$3:$E$40,3,0))","v":"00:00:00"},null,2,1,null,null,1,null,null,1,3,4,{"$f":"IF(N572=\"\",\"\",VLOOKUP(N572,Ville!$A$3:$E$40,2,0))","v":0},null,null,0,0,0,0,0,0,0,0,0,0,0,0,0,null,null,"","","",""]
[null,null,null,null,null,null,2012,{"$f":"IF(K573=\"\",\"\",VLOOKUP(I573,'Suiv Contr '!$D$14:$E$25,2))","v":"février"},2,3,"2012-02-08","Germain","00:00:00",null,null,null,"rec",0,{"$f":"IF(N573=\"\",0,VLOOKUP(N573,Ville!$A$3:$E$40,3,0))","v":"00:00:00"},"03:30:00",null,null,null,null,null,null,null,null,0,0,{"$f":"IF(N573=\"\",\"\",VLOOKUP(N573,Ville!$A$3:$E$40,2,0))","v":""},null,null,0,0,0,0,0,0,0,0,0,0,0,0,0,null,null,"","",2,""]
[null,null,null,null,null,null,2012,{"$f":"IF(K574=\"\",\"\",VLOOKUP(I574,'Suiv Contr '!$D$14:$E$25,2))","v":"février"},2,4,"2012-02-09","Germain","Champagnole","Champagnole",null,null,{"$f":"IF(N574=\"\",\"\",VLOOKUP(N574,Ville!$A$3:$E$40,4,0))","v":"p"},0,{"$f":"IF(N574=\"\",0,VLOOKUP(N574,Ville!$A$3:$E$40,3,0))","v":"00:00:00"},null,6,1,null,null,1,1,null,null,7,8,{"$f":"IF(N574=\"\",\"\",VLOOKUP(N574,Ville!$A$3:$E$40,2,0))","v":0},null,null,0,0,0,0,0,0,0,0,0,0,0,0,0,null,null,"","","",""]
[null,null,null,null,null,null,2012,{"$f":"IF(K575=\"\",\"\",VLOOKUP(I575,'Suiv Contr '!$D$14:$E$25,2))","v":"février"},2,5,"2012-02-10","Germain","Montreuil","Montreuil",null,null,{"$f":"IF(N575=\"\",\"\",VLOOKUP(N575,Ville!$A$3:$E$40,4,0))","v":"reu"},0,{"$f":"IF(N575=\"\",0,VLOOKUP(N575,Ville!$A$3:$E$40,3,0))","v":"07:30:00"},null,null,null,null,null,null,null,null,null,0,0,{"$f":"IF(N575=\"\",\"\",VLOOKUP(N575,Ville!$A$3:$E$40,2,0))","v":854},null,null,0,0,0,0,0,0,0,0,0,0,0,0,0,null,null,{"$f":"IF(K575=$B$2,1,\"\")","v":""},"","",1]
[null,null,null,null,null,null,2012,{"$f":"IF(K576=\"\",\"\",VLOOKUP(I576,'Suiv Contr '!$D$14:$E$25,2))","v":"février"},2,6,"2012-02-11","Germain","Montreuil","Montreuil",null,null,{"$f":"IF(N576=\"\",\"\",VLOOKUP(N576,Ville!$A$3:$E$40,4,0))","v":"reu"},0,null,null,null,null,null,null,null,null,null,null,0,0,null,null,null,0,0,0,0,0,0,0,0,0,0,0,0,0,null,null,"","","",1]
[null,null,null,null,null,null,2012,{"$f":"IF(K577=\"\",\"\",VLOOKUP(I577,'Suiv Contr '!$D$14:$E$25,2))","v":"février"},2,1,"2012-02-13","Germain","Champagnole","Champagnole",null,null,{"$f":"IF(N577=\"\",\"\",VLOOKUP(N577,Ville!$A$3:$E$40,4,0))","v":"p"},0,{"$f":"IF(N577=\"\",0,VLOOKUP(N577,Ville!$A$3:$E$40,3,0))","v":"00:00:00"},null,2,null,null,null,null,null,null,null,2,2,{"$f":"IF(N577=\"\",\"\",VLOOKUP(N577,Ville!$A$3:$E$40,2,0))","v":0},null,null,0,0,0,0,0,0,0,0,0,0,0,0,0,null,null,"","","",""]
[null,null,null,null,null,null,2012,{"$f":"IF(K578=\"\",\"\",VLOOKUP(I578,'Suiv Contr '!$D$14:$E$25,2))","v":"février"},2,2,"2012-02-14","Germain","Champagnole","Champagnole",null,null,{"$f":"IF(N578=\"\",\"\",VLOOKUP(N578,Ville!$A$3:$E$40,4,0))","v":"p"},0,{"$f":"IF(N578=\"\",0,VLOOKUP(N578,Ville!$A$3:$E$40,3,0))","v":"00:00:00"},null,null,3,null,null,1,null,null,null,3,4,{"$f":"IF(N578=\"\",\"\",VLOOKUP(N578,Ville!$A$3:$E$40,2,0))","v":0},null,null,0,0,0,0,0,0,0,0,0,0,0,0,0,null,null,"","","",""]
[null,null,null,null,null,null,2012,{"$f":"IF(K579=\"\",\"\",VLOOKUP(I579,'Suiv Contr '!$D$14:$E$25,2))","v":"février"},2,3,"2012-02-15","Germain","Thann","Thann",null,null,{"$f":"IF(N579=\"\",\"\",VLOOKUP(N579,Ville!$A$3:$E$40,4,0))","v":"ca"},0,{"$f":"IF(N579=\"\",0,VLOOKUP(N579,Ville!$A$3:$E$40,3,0))","v":"04:30:00"},null,1,null,2,null,null,null,null,null,3,3,{"$f":"IF(N579=\"\",\"\",VLOOKUP(N579,Ville!$A$3:$E$40,2,0))","v":402},null,null,0,0,0,0,0,0,0,0,0,0,0,0,0,null,null,"","","",1]
[null,null,null,null,null,null,2012,{"$f":"IF(K580=\"\",\"\",VLOOKUP(I580,'Suiv Contr '!$D$14:$E$25,2))","v":"février"},2,4,"2012-02-16","Germain","Champagnole","Champagnole",null,null,{"$f":"IF(N580=\"\",\"\",VLOOKUP(N580,Ville!$A$3:$E$40,4,0))","v":"p"},0,{"$f":"IF(N580=\"\",0,VLOOKUP(N580,Ville!$A$3:$E$40,3,0))","v":"00:00:00"},null,3,1,null,null,null,null,null,null,4,4,{"$f":"IF(N580=\"\",\"\",VLOOKUP(N580,Ville!$A$3:$E$40,2,0))","v":0},null,null,0,0,0,0,0,0,0,0,0,0,0,0,0,null,null,"","","",""]
[null,null,null,null,null,null,2012,{"$f":"IF(K581=\"\",\"\",VLOOKUP(I581,'Suiv Contr '!$D$14:$E$25,2))","v":"février"},2,5,"2012-02-17","Germain","Champagnole","Champagnole",null,null,{"$f":"IF(N581=\"\",\"\",VLOOKUP(N581,Ville!$A$3:$E$40,4,0))","v":"p"},0,{"$f":"IF(N581=\"\",0,VLOOKUP(N581,Ville!$A$3:$E$40,3,0))","v":"00:00:00"},null,null,1,null,null,null,null,null,null,1,1,{"$f":"IF(N581=\"\",\"\",VLOOKUP(N581,Ville!$A$3:$E$40,2,0))","v":0},null,null,0,0,0,0,0,0,0,0,0,0,0,0,0,null,null,"","","",""]
[null,null,null,null,null,null,2012,{"$f":"IF(K582=\"\",\"\",VLOOKUP(I582,'Suiv Contr '!$D$14:$E$25,2))","v":"février"},2,1,"2012-02-20","Germain","Champagnole","Champagnole",null,null,{"$f":"IF(N582=\"\",\"\",VLOOKUP(N582,Ville!$A$3:$E$40,4,0))","v":"p"},0,{"$f":"IF(N582=\"\",0,VLOOKUP(N582,Ville!$A$3:$E$40,3,0))","v":"00:00:00"},null,5,null,null,null,null,1,null,null,5,5,{"$f":"IF(N582=\"\",\"\",VLOOKUP(N582,Ville!$A$3:$E$40,2,0))","v":0},null,null,0,0,0,0,0,0,0,0,0,0,0,0,0,null,null,"","","",""]
[null,null,null,null,null,null,2012,{"$f":"IF(K583=\"\",\"\",VLOOKUP(I583,'Suiv Contr '!$D$14:$E$25,2))","v":"février"},2,2,"2012-02-21","Germain","Champagnole","Champagnole",null,null,{"$f":"IF(N583=\"\",\"\",VLOOKUP(N583,Ville!$A$3:$E$40,4,0))","v":"p"},0,{"$f":"IF(N583=\"\",0,VLOOKUP(N583,Ville!$A$3:$E$40,3,0))","v":"00:00:00"},null,null,1,null,null,null,null,null,null,1,1,{"$f":"IF(N583=\"\",\"\",VLOOKUP(N583,Ville!$A$3:$E$40,2,0))","v":0},null,null,0,0,0,0,0,0,0,0,0,0,0,0,0,null,null,"","","",""]
[null,null,null,null,null,null,2012,{"$f":"IF(K584=\"\",\"\",VLOOKUP(I584,'Suiv Contr '!$D$14:$E$25,2))","v":"février"},2,3,"2012-02-22","Germain","Champagnole","Champagnole",null,null,{"$f":"IF(N584=\"\",\"\",VLOOKUP(N584,Ville!$A$3:$E$40,4,0))","v":"p"},0,{"$f":"IF(N584=\"\",0,VLOOKUP(N584,Ville!$A$3:$E$40,3,0))","v":"00:00:00"},null,2,2,null,null,1,null,null,null,4,5,{"$f":"IF(N584=\"\",\"\",VLOOKUP(N584,Ville!$A$3:$E$40,2,0))","v":0},null,null,0,0,0,0,0,0,0,0,0,0,0,0,0,null,null,"",{"$f":"IF(Q584=\"v\",3,\"\")","v":""},{"$f":"IF(Q584=\"rec\",2,\"\")","v":""},""]
[null,null,null,null,null,null,2012,{"$f":"IF(K585=\"\",\"\",VLOOKUP(I585,'Suiv Contr '!$D$14:$E$25,2))","v":"février"},2,4,"2012-02-23","Germain","00:00:00",null,null,null,"rec",0,null,"03:30:00",null,null,null,null,null,null,null,null,0,0,{"$f":"IF(N585=\"\",\"\",VLOOKUP(N585,Ville!$A$3:$E$40,2,0))","v":""},null,null,0,0,0,0,0,0,0,0,0,0,0,0,0,null,null,"","",2,""]
[null,null,null,null,null,null,2012,{"$f":"IF(K586=\"\",\"\",VLOOKUP(I586,'Suiv Contr '!$D$14:$E$25,2))","v":"février"},2,4,"2012-02-23","Germain","Champagnole","Champagnole",null,null,{"$f":"IF(N586=\"\",\"\",VLOOKUP(N586,Ville!$A$3:$E$40,4,0))","v":"p"},0,{"$f":"IF(N586=\"\",0,VLOOKUP(N586,Ville!$A$3:$E$40,3,0))","v":"00:00:00"},null,2,1,null,null,null,null,null,null,3,3,{"$f":"IF(N586=\"\",\"\",VLOOKUP(N586,Ville!$A$3:$E$40,2,0))","v":0},null,null,0,0,0,0,0,0,0,0,0,0,0,0,0,null,null,"","","",""]
[null,null,null,null,null,null,2012,{"$f":"IF(K587=\"\",\"\",VLOOKUP(I587,'Suiv Contr '!$D$14:$E$25,2))","v":"février"},2,5,"2012-02-24","Germain","Champagnole","Champagnole",null,null,{"$f":"IF(N587=\"\",\"\",VLOOKUP(N587,Ville!$A$3:$E$40,4,0))","v":"p"},0,{"$f":"IF(N587=\"\",0,VLOOKUP(N587,Ville!$A$3:$E$40,3,0))","v":"00:00:00"},null,9,1,null,null,null,1,null,null,10,10,{"$f":"IF(N587=\"\",\"\",VLOOKUP(N587,Ville!$A$3:$E$40,2,0))","v":0},null,null,0,0,0,0,0,0,0,0,0,0,0,0,0,null,null,"","","",""]
[null,null,null,null,null,null,2012,{"$f":"IF(K588=\"\",\"\",VLOOKUP(I588,'Suiv Contr '!$D$14:$E$25,2))","v":"février"},2,1,"2012-02-27","Germain","Meythet","Meythet",null,null,{"$f":"IF(N588=\"\",\"\",VLOOKUP(N588,Ville!$A$3:$E$40,4,0))","v":"ca"},0,{"$f":"IF(N588=\"\",0,VLOOKUP(N588,Ville!$A$3:$E$40,3,0))","v":"04:20:00"},null,8,1,null,null,1,null,null,null,9,10,{"$f":"IF(N588=\"\",\"\",VLOOKUP(N588,Ville!$A$3:$E$40,2,0))","v":298},null,null,0,0,0,0,0,0,0,0,0,0,0,0,0,null,null,"","","",1]
[null,null,null,null,null,null,2012,{"$f":"IF(K589=\"\",\"\",VLOOKUP(I589,'Suiv Contr '!$D$14:$E$25,2))","v":"février"},2,2,"2012-02-28","Germain","Champagnole","Champagnole",null,null,{"$f":"IF(N589=\"\",\"\",VLOOKUP(N589,Ville!$A$3:$E$40,4,0))","v":"p"},0,{"$f":"IF(N589=\"\",0,VLOOKUP(N589,Ville!$A$3:$E$40,3,0))","v":"00:00:00"},null,2,4,null,null,null,null,null,null,6,6,{"$f":"IF(N589=\"\",\"\",VLOOKUP(N589,Ville!$A$3:$E$40,2,0))","v":0},null,null,0,0,0,0,0,0,0,0,0,0,0,0,0,null,null,"","","",""]
[null,null,null,null,null,null,2012,{"$f":"IF(K590=\"\",\"\",VLOOKUP(I590,'Suiv Contr '!$D$14:$E$25,2))","v":"février"},2,3,"2012-02-29","Germain",{"$f":"N590","v":"Champagnole"},"Champagnole",null,null,{"$f":"IF(N590=\"\",\"\",VLOOKUP(N590,Ville!$A$3:$E$40,4,0))","v":"p"},0,{"$f":"IF(N590=\"\",0,VLOOKUP(N590,Ville!$A$3:$E$40,3,0))","v":"00:00:00"},null,6,2,null,null,null,null,1,null,8,8,{"$f":"IF(N590=\"\",\"\",VLOOKUP(N590,Ville!$A$3:$E$40,2,0))","v":0},null,null,0,0,0,0,0,0,0,0,0,0,0,0,0,null,null,"","","",""]
[null,null,null,null,null,null,2012,{"$f":"IF(K591=\"\",\"\",VLOOKUP(I591,'Suiv Contr '!$D$14:$E$25,2))","v":"mars"},3,4,"2012-03-01","Germain","Champagnole","Champagnole",null,null,{"$f":"IF(N591=\"\",\"\",VLOOKUP(N591,Ville!$A$3:$E$40,4,0))","v":"p"},0,{"$f":"IF(N611=\"\",0,VLOOKUP(N611,Ville!$A$3:$E$40,3,0))","v":"00:00:00"},null,null,2,null,null,null,null,null,null,2,2,{"$f":"IF(N611=\"\",\"\",VLOOKUP(N611,Ville!$A$3:$E$40,2,0))","v":0},null,null,0,0,0,0,0,0,0,0,0,0,0,0,0,null,null,"","","",""]
[null,null,null,null,null,null,{"$f":"IF(K592=\"\",\"\",YEAR(K592))","v":2012},{"$f":"IF(K592=\"\",\"\",VLOOKUP(I592,'Suiv Contr '!$D$14:$E$25,2))","v":"mars"},{"$f":"IF(K592=\"\",\"\",MONTH(K592))","v":3},{"$f":"IF(K592=\"\",\"\",WEEKDAY(K592,2))","v":5},"2012-03-02","Germain","Champagnole","Champagnole",null,null,{"$f":"IF(N592=\"\",\"\",VLOOKUP(N592,Ville!$A$3:$E$40,4,0))","v":"p"},0,{"$f":"IF(N612=\"\",0,VLOOKUP(N612,Ville!$A$3:$E$40,3,0))","v":"00:00:00"},null,4,1,null,null,1,null,null,null,5,6,{"$f":"IF(N612=\"\",\"\",VLOOKUP(N612,Ville!$A$3:$E$40,2,0))","v":0},null,null,0,0,0,0,0,0,0,0,0,0,0,0,0,null,null,"","","",""]
[null,null,null,null,null,null,2012,{"$f":"IF(K593=\"\",\"\",VLOOKUP(I593,'Suiv Contr '!$D$14:$E$25,2))","v":"mars"},3,1,"2012-03-05","Germain","Champagnole","Champagnole",null,null,{"$f":"IF(N593=\"\",\"\",VLOOKUP(N593,Ville!$A$3:$E$40,4,0))","v":"p"},0,{"$f":"IF(N613=\"\",0,VLOOKUP(N613,Ville!$A$3:$E$40,3,0))","v":"00:00:00"},null,1,1,null,null,null,null,null,null,2,2,{"$f":"IF(N613=\"\",\"\",VLOOKUP(N613,Ville!$A$3:$E$40,2,0))","v":0},null,null,0,0,0,0,0,0,0,0,0,0,0,0,0,null,null,"","","",""]
[null,null,null,null,null,null,2012,{"$f":"IF(K594=\"\",\"\",VLOOKUP(I594,'Suiv Contr '!$D$14:$E$25,2))","v":"mars"},3,2,"2012-03-06","Germain","Champagnole","Champagnole",null,null,{"$f":"IF(N594=\"\",\"\",VLOOKUP(N594,Ville!$A$3:$E$40,4,0))","v":"p"},0,{"$f":"IF(N614=\"\",0,VLOOKUP(N614,Ville!$A$3:$E$40,3,0))","v":"00:00:00"},null,5,3,null,null,null,2,null,null,8,8,{"$f":"IF(N614=\"\",\"\",VLOOKUP(N614,Ville!$A$3:$E$40,2,0))","v":0},null,null,0,0,0,0,0,0,0,0,0,0,0,0,{"$f":"SUM(AH594:AS594)","v":0},null,null,"","","",""]
[null,null,null,null,null,null,2012,{"$f":"IF(K595=\"\",\"\",VLOOKUP(I595,'Suiv Contr '!$D$14:$E$25,2))","v":"mars"},3,3,"2012-03-07","Germain","Champagnole","Champagnole",null,null,{"$f":"IF(N595=\"\",\"\",VLOOKUP(N595,Ville!$A$3:$E$40,4,0))","v":"p"},0,{"$f":"IF(N615=\"\",0,VLOOKUP(N615,Ville!$A$3:$E$40,3,0))","v":"04:30:00"},null,6,1,null,null,null,1,null,1,7,7,{"$f":"IF(N615=\"\",\"\",VLOOKUP(N615,Ville!$A$3:$E$40,2,0))","v":402},null,null,0,0,0,0,0,0,0,0,0,0,0,0,0,null,null,"","","",""]
[null,null,null,null,null,null,2012,{"$f":"IF(K596=\"\",\"\",VLOOKUP(I596,'Suiv Contr '!$D$14:$E$25,2))","v":"mars"},3,4,"2012-03-08","Germain","Champagnole","Champagnole",null,null,{"$f":"IF(N596=\"\",\"\",VLOOKUP(N596,Ville!$A$3:$E$40,4,0))","v":"p"},{"$f":"IF(Q596=\"v\",1,0)","v":0},{"$f":"IF(N616=\"\",0,VLOOKUP(N616,Ville!$A$3:$E$40,3,0))","v":"00:00:00"},null,4,null,null,null,null,null,null,null,4,4,{"$f":"IF(N616=\"\",\"\",VLOOKUP(N616,Ville!$A$3:$E$40,2,0))","v":0},null,null,0,0,0,0,0,0,0,0,0,0,0,0,0,null,null,"","","",""]
[null,null,null,null,null,null,2012,{"$f":"IF(K597=\"\",\"\",VLOOKUP(I597,'Suiv Contr '!$D$14:$E$25,2))","v":"mars"},3,5,"2012-03-09","Germain","Champagnole","Champagnole",null,null,{"$f":"IF(N597=\"\",\"\",VLOOKUP(N597,Ville!$A$3:$E$40,4,0))","v":"p"},0,{"$f":"IF(N617=\"\",0,VLOOKUP(N617,Ville!$A$3:$E$40,3,0))","v":"00:00:00"},null,4,3,null,null,null,null,1,null,7,7,{"$f":"IF(N617=\"\",\"\",VLOOKUP(N617,Ville!$A$3:$E$40,2,0))","v":0},null,null,0,0,0,0,0,0,0,0,0,0,0,0,0,null,null,"","","",""]
[null,null,null,null,null,null,{"$f":"IF(K598=\"\",\"\",YEAR(K598))","v":2012},{"$f":"IF(K598=\"\",\"\",VLOOKUP(I598,'Suiv Contr '!$D$14:$E$25,2))","v":"mars"},{"$f":"IF(K598=\"\",\"\",MONTH(K598))","v":3},{"$f":"IF(K598=\"\",\"\",WEEKDAY(K598,2))","v":1},"2012-03-12","Germain","Champagnole","Champagnole",null,null,{"$f":"IF(N598=\"\",\"\",VLOOKUP(N598,Ville!$A$3:$E$40,4,0))","v":"p"},0,{"$f":"IF(N618=\"\",0,VLOOKUP(N618,Ville!$A$3:$E$40,3,0))","v":"06:00:00"},null,1,null,null,null,null,null,null,null,1,1,{"$f":"IF(N618=\"\",\"\",VLOOKUP(N618,Ville!$A$3:$E$40,2,0))","v":752},null,null,0,0,0,0,0,0,0,0,0,0,0,0,0,null,null,{"$f":"IF(K598=$B$2,1,\"\")","v":""},"","",""]
[null,null,null,null,null,null,2012,{"$f":"IF(K599=\"\",\"\",VLOOKUP(I599,'Suiv Contr '!$D$14:$E$25,2))","v":"mars"},3,2,"2012-03-13","Germain","Champagnole","Champagnole",null,null,{"$f":"IF(N599=\"\",\"\",VLOOKUP(N599,Ville!$A$3:$E$40,4,0))","v":"p"},null,null,null,7,null,null,null,1,1,null,null,7,8,null,null,null,0,0,0,0,0,0,0,0,0,0,0,0,0,null,null,"","","",""]
[null,null,null,null,null,null,2012,{"$f":"IF(K600=\"\",\"\",VLOOKUP(I600,'Suiv Contr '!$D$14:$E$25,2))","v":"mars"},3,3,"2012-03-14","Germain","Thann","Thann",null,null,{"$f":"IF(N600=\"\",\"\",VLOOKUP(N600,Ville!$A$3:$E$40,4,0))","v":"ca"},0,{"$f":"IF(N600=\"\",0,VLOOKUP(N600,Ville!$A$3:$E$40,3,0))","v":"04:30:00"},null,5,1,1,null,null,null,null,null,7,7,{"$f":"IF(N620=\"\",\"\",VLOOKUP(N620,Ville!$A$3:$E$40,2,0))","v":752},null,null,0,0,0,0,0,0,0,0,0,0,0,0,0,null,null,"","","",1]
[null,null,null,null,null,null,2012,{"$f":"IF(K601=\"\",\"\",VLOOKUP(I601,'Suiv Contr '!$D$14:$E$25,2))","v":"mars"},3,4,"2012-03-15","Germain","Champagnole","Champagnole",null,null,{"$f":"IF(N601=\"\",\"\",VLOOKUP(N601,Ville!$A$3:$E$40,4,0))","v":"p"},0,{"$f":"IF(N601=\"\",0,VLOOKUP(N601,Ville!$A$3:$E$40,3,0))","v":"00:00:00"},null,4,2,null,null,null,null,null,null,6,6,{"$f":"IF(N601=\"\",\"\",VLOOKUP(N601,Ville!$A$3:$E$40,2,0))","v":0},null,null,0,0,0,0,0,0,0,0,0,0,0,0,0,null,null,"","","",{"$f":"IF(OR(N601=\"champagnole\",N601=\"\"),\"\",1)","v":""}]
[null,null,null,null,null,null,2012,{"$f":"IF(K602=\"\",\"\",VLOOKUP(I602,'Suiv Contr '!$D$14:$E$25,2))","v":"mars"},3,5,"2012-03-16","Germain","Champagnole","Champagnole",null,null,{"$f":"IF(N602=\"\",\"\",VLOOKUP(N602,Ville!$A$3:$E$40,4,0))","v":"p"},0,{"$f":"IF(N602=\"\",0,VLOOKUP(N602,Ville!$A$3:$E$40,3,0))","v":"00:00:00"},null,6,2,null,null,1,null,null,null,8,9,{"$f":"IF(N602=\"\",\"\",VLOOKUP(N602,Ville!$A$3:$E$40,2,0))","v":0},null,null,0,0,0,0,0,0,0,0,0,0,0,0,0,null,null,"","","",""]
[null,null,null,null,null,null,2012,{"$f":"IF(K603=\"\",\"\",VLOOKUP(I603,'Suiv Contr '!$D$14:$E$25,2))","v":"mars"},3,1,"2012-03-19","Germain","Champagnole","Champagnole",null,null,{"$f":"IF(N603=\"\",\"\",VLOOKUP(N603,Ville!$A$3:$E$40,4,0))","v":"p"},0,{"$f":"IF(N603=\"\",0,VLOOKUP(N603,Ville!$A$3:$E$40,3,0))","v":"00:00:00"},null,2,null,null,null,null,null,null,null,{"$f":"U603+V603+W603+X603","v":2},{"$f":"AC603+Y603","v":2},{"$f":"IF(N603=\"\",\"\",VLOOKUP(N603,Ville!$A$3:$E$40,2,0))","v":0},null,null,0,0,0,0,0,0,0,0,0,0,0,0,0,null,null,"","","",""]
[null,null,null,null,null,null,2012,{"$f":"IF(K604=\"\",\"\",VLOOKUP(I604,'Suiv Contr '!$D$14:$E$25,2))","v":"mars"},3,2,"2012-03-20","Germain","Champagnole","Champagnole",null,null,{"$f":"IF(N604=\"\",\"\",VLOOKUP(N604,Ville!$A$3:$E$40,4,0))","v":"p"},0,{"$f":"IF(N604=\"\",0,VLOOKUP(N604,Ville!$A$3:$E$40,3,0))","v":"00:00:00"},null,1,null,null,null,null,null,null,null,1,1,{"$f":"IF(N604=\"\",\"\",VLOOKUP(N604,Ville!$A$3:$E$40,2,0))","v":0},null,null,0,0,0,0,0,0,0,0,0,0,0,0,0,null,null,"","","",""]
[null,null,null,null,null,null,2012,{"$f":"IF(K605=\"\",\"\",VLOOKUP(I605,'Suiv Contr '!$D$14:$E$25,2))","v":"mars"},3,3,"2012-03-21","Germain","Champagnole","Champagnole",null,null,{"$f":"IF(N605=\"\",\"\",VLOOKUP(N605,Ville!$A$3:$E$40,4,0))","v":"p"},0,{"$f":"IF(N605=\"\",0,VLOOKUP(N605,Ville!$A$3:$E$40,3,0))","v":"00:00:00"},null,3,1,null,null,null,null,null,1,4,4,{"$f":"IF(N605=\"\",\"\",VLOOKUP(N605,Ville!$A$3:$E$40,2,0))","v":0},null,null,0,0,0,0,0,0,0,0,0,0,0,0,0,null,null,"","","",""]
[null,null,null,null,null,null,2012,{"$f":"IF(K606=\"\",\"\",VLOOKUP(I606,'Suiv Contr '!$D$14:$E$25,2))","v":"mars"},3,4,"2012-03-22","Germain","Champagnole","Champagnole",null,null,{"$f":"IF(N606=\"\",\"\",VLOOKUP(N606,Ville!$A$3:$E$40,4,0))","v":"p"},0,{"$f":"IF(N606=\"\",0,VLOOKUP(N606,Ville!$A$3:$E$40,3,0))","v":"00:00:00"},null,3,null,null,null,null,null,null,null,3,3,{"$f":"IF(N606=\"\",\"\",VLOOKUP(N606,Ville!$A$3:$E$40,2,0))","v":0},null,null,0,0,0,0,0,0,0,0,0,0,0,0,0,null,null,"","","",""]
[null,null,null,null,null,null,2012,{"$f":"IF(K607=\"\",\"\",VLOOKUP(I607,'Suiv Contr '!$D$14:$E$25,2))","v":"mars"},3,5,"2012-03-23","Germain","Champagnole","Champagnole",null,null,{"$f":"IF(N607=\"\",\"\",VLOOKUP(N607,Ville!$A$3:$E$40,4,0))","v":"p"},0,{"$f":"IF(N607=\"\",0,VLOOKUP(N607,Ville!$A$3:$E$40,3,0))","v":"00:00:00"},null,4,null,1,null,1,null,null,null,5,6,{"$f":"IF(N607=\"\",\"\",VLOOKUP(N607,Ville!$A$3:$E$40,2,0))","v":0},null,null,0,0,0,0,0,0,0,0,0,0,0,0,0,null,null,"","","",""]
[null,null,null,null,null,null,2012,{"$f":"IF(K608=\"\",\"\",VLOOKUP(I608,'Suiv Contr '!$D$14:$E$25,2))","v":"mars"},3,1,"2012-03-26","Germain","Meythet","Meythet",null,null,{"$f":"IF(N608=\"\",\"\",VLOOKUP(N608,Ville!$A$3:$E$40,4,0))","v":"ca"},0,{"$f":"IF(N608=\"\",0,VLOOKUP(N608,Ville!$A$3:$E$40,3,0))","v":"04:20:00"},null,7,null,1,null,3,null,null,null,8,11,{"$f":"IF(N608=\"\",\"\",VLOOKUP(N608,Ville!$A$3:$E$40,2,0))","v":298},null,null,0,0,0,0,0,0,0,0,0,0,0,0,0,null,null,"","","",1]
[null,null,null,null,null,null,2012,{"$f":"IF(K609=\"\",\"\",VLOOKUP(I609,'Suiv Contr '!$D$14:$E$25,2))","v":"mars"},3,2,"2012-03-27","Germain","Champagnole","Champagnole",null,null,{"$f":"IF(N609=\"\",\"\",VLOOKUP(N609,Ville!$A$3:$E$40,4,0))","v":"p"},0,{"$f":"IF(N609=\"\",0,VLOOKUP(N609,Ville!$A$3:$E$40,3,0))","v":"00:00:00"},null,3,null,null,null,null,1,null,1,3,3,{"$f":"IF(N609=\"\",\"\",VLOOKUP(N609,Ville!$A$3:$E$40,2,0))","v":0},null,null,0,0,0,0,0,0,0,0,0,0,0,0,0,null,null,"","","",""]
[null,null,null,null,null,null,2012,{"$f":"IF(K610=\"\",\"\",VLOOKUP(I610,'Suiv Contr '!$D$14:$E$25,2))","v":"mars"},3,3,"2012-03-28","Germain","Champagnole","Champagnole",null,null,{"$f":"IF(N610=\"\",\"\",VLOOKUP(N610,Ville!$A$3:$E$40,4,0))","v":"p"},0,{"$f":"IF(N610=\"\",0,VLOOKUP(N610,Ville!$A$3:$E$40,3,0))","v":"00:00:00"},null,7,null,null,null,null,null,null,null,7,7,{"$f":"IF(N610=\"\",\"\",VLOOKUP(N610,Ville!$A$3:$E$40,2,0))","v":0},null,null,0,0,0,0,0,0,0,0,0,0,0,0,0,null,null,"","","",""]
[null,null,null,null,null,null,2012,{"$f":"IF(K611=\"\",\"\",VLOOKUP(I611,'Suiv Contr '!$D$14:$E$25,2))","v":"mars"},3,4,"2012-03-29","Germain","Champagnole","Champagnole",null,null,{"$f":"IF(N611=\"\",\"\",VLOOKUP(N611,Ville!$A$3:$E$40,4,0))","v":"p"},0,{"$f":"IF(N611=\"\",0,VLOOKUP(N611,Ville!$A$3:$E$40,3,0))","v":"00:00:00"},null,3,1,null,null,null,null,null,null,4,4,{"$f":"IF(N611=\"\",\"\",VLOOKUP(N611,Ville!$A$3:$E$40,2,0))","v":0},null,null,0,0,0,0,0,0,0,0,0,0,0,0,0,null,null,"","","",""]
[null,null,null,null,null,null,2012,{"$f":"IF(K612=\"\",\"\",VLOOKUP(I612,'Suiv Contr '!$D$14:$E$25,2))","v":"mars"},3,5,"2012-03-30","Germain","Champagnole","Champagnole",null,null,{"$f":"IF(N612=\"\",\"\",VLOOKUP(N612,Ville!$A$3:$E$40,4,0))","v":"p"},0,{"$f":"IF(N612=\"\",0,VLOOKUP(N612,Ville!$A$3:$E$40,3,0))","v":"00:00:00"},null,null,null,null,null,2,null,null,null,0,2,{"$f":"IF(N612=\"\",\"\",VLOOKUP(N612,Ville!$A$3:$E$40,2,0))","v":0},null,null,0,0,0,0,0,0,0,0,0,0,0,0,0,null,null,"","","",""]
[null,null,null,null,null,null,2012,{"$f":"IF(K613=\"\",\"\",VLOOKUP(I613,'Suiv Contr '!$D$14:$E$25,2))","v":"avril"},4,1,"2012-04-02","Germain","Champagnole","Champagnole",null,null,{"$f":"IF(N613=\"\",\"\",VLOOKUP(N613,Ville!$A$3:$E$40,4,0))","v":"p"},0,{"$f":"IF(N613=\"\",0,VLOOKUP(N613,Ville!$A$3:$E$40,3,0))","v":"00:00:00"},null,2,null,null,null,null,null,null,null,2,2,{"$f":"IF(N613=\"\",\"\",VLOOKUP(N613,Ville!$A$3:$E$40,2,0))","v":0},null,null,0,0,0,0,0,0,0,0,0,0,0,0,0,null,null,"","","",""]
[null,null,null,null,null,null,2012,{"$f":"IF(K614=\"\",\"\",VLOOKUP(I614,'Suiv Contr '!$D$14:$E$25,2))","v":"avril"},4,2,"2012-04-03","Germain","Champagnole","Champagnole",null,null,{"$f":"IF(N614=\"\",\"\",VLOOKUP(N614,Ville!$A$3:$E$40,4,0))","v":"p"},0,{"$f":"IF(N614=\"\",0,VLOOKUP(N614,Ville!$A$3:$E$40,3,0))","v":"00:00:00"},null,2,2,null,null,null,null,null,null,4,4,{"$f":"IF(N614=\"\",\"\",VLOOKUP(N614,Ville!$A$3:$E$40,2,0))","v":0},null,null,0,0,0,0,0,0,0,0,0,0,0,0,0,null,null,"","","",""]
[null,null,null,null,null,null,2012,{"$f":"IF(K615=\"\",\"\",VLOOKUP(I615,'Suiv Contr '!$D$14:$E$25,2))","v":"avril"},4,3,"2012-04-04","Germain","Thann","Thann",null,null,{"$f":"IF(N615=\"\",\"\",VLOOKUP(N615,Ville!$A$3:$E$40,4,0))","v":"ca"},0,{"$f":"IF(N615=\"\",0,VLOOKUP(N615,Ville!$A$3:$E$40,3,0))","v":"04:30:00"},null,null,1,4,null,null,null,null,null,5,5,{"$f":"IF(N615=\"\",\"\",VLOOKUP(N615,Ville!$A$3:$E$40,2,0))","v":402},null,null,0,0,0,0,0,0,0,0,0,0,0,0,0,null,null,"","","",1]
[null,null,null,null,null,null,2012,{"$f":"IF(K616=\"\",\"\",VLOOKUP(I616,'Suiv Contr '!$D$14:$E$25,2))","v":"avril"},4,4,"2012-04-05","Germain","Champagnole","Champagnole",null,null,{"$f":"IF(N616=\"\",\"\",VLOOKUP(N616,Ville!$A$3:$E$40,4,0))","v":"p"},0,{"$f":"IF(N616=\"\",0,VLOOKUP(N616,Ville!$A$3:$E$40,3,0))","v":"00:00:00"},null,7,1,null,null,null,null,null,null,8,8,{"$f":"IF(N616=\"\",\"\",VLOOKUP(N616,Ville!$A$3:$E$40,2,0))","v":0},null,null,0,0,0,0,0,0,0,0,0,0,0,0,0,null,null,"","","",""]
[null,null,null,null,null,null,2012,{"$f":"IF(K617=\"\",\"\",VLOOKUP(I617,'Suiv Contr '!$D$14:$E$25,2))","v":"avril"},4,5,"2012-04-06","Germain","Champagnole","Champagnole",null,null,{"$f":"IF(N617=\"\",\"\",VLOOKUP(N617,Ville!$A$3:$E$40,4,0))","v":"p"},0,{"$f":"IF(N617=\"\",0,VLOOKUP(N617,Ville!$A$3:$E$40,3,0))","v":"00:00:00"},null,6,3,null,null,null,3,null,null,9,9,{"$f":"IF(N617=\"\",\"\",VLOOKUP(N617,Ville!$A$3:$E$40,2,0))","v":0},null,null,0,0,0,0,0,0,0,0,0,0,0,0,0,null,null,"","","",""]
[null,null,null,null,null,null,2012,{"$f":"IF(K618=\"\",\"\",VLOOKUP(I618,'Suiv Contr '!$D$14:$E$25,2))","v":"avril"},4,2,"2012-04-10","Germain","Ennery","Ennery",null,null,"f",0,{"$f":"IF(N618=\"\",0,VLOOKUP(N618,Ville!$A$3:$E$40,3,0))","v":"06:00:00"},null,null,null,null,null,null,null,null,null,null,null,{"$f":"IF(N618=\"\",\"\",VLOOKUP(N618,Ville!$A$3:$E$40,2,0))","v":752},null,null,0,0,0,0,0,0,0,0,0,0,0,0,0,null,null,"","","",1]
[null,null,null,null,null,null,2012,{"$f":"IF(K619=\"\",\"\",VLOOKUP(I619,'Suiv Contr '!$D$14:$E$25,2))","v":"avril"},4,3,"2012-04-11","Germain","Ennery","Ennery",null,null,"f",0,null,null,null,null,null,null,null,null,null,null,null,null,null,null,null,0,0,0,0,0,0,0,0,0,0,0,0,0,null,null,"","","",1]
[null,null,null,null,null,null,2012,{"$f":"IF(K620=\"\",\"\",VLOOKUP(I620,'Suiv Contr '!$D$14:$E$25,2))","v":"avril"},4,4,"2012-04-12","Germain","Ennery","Ennery",null,null,"f",0,null,null,null,null,null,null,null,null,null,null,null,null,null,null,null,0,0,0,0,0,0,0,0,0,0,0,0,0,null,null,"","","",1]
[null,null,null,null,null,null,2012,{"$f":"IF(K621=\"\",\"\",VLOOKUP(I621,'Suiv Contr '!$D$14:$E$25,2))","v":"avril"},4,5,"2012-04-13","Germain","Ennery","Ennery",null,null,"f",0,null,null,null,null,null,null,null,null,null,null,null,null,null,null,null,0,0,0,0,0,0,0,0,0,0,0,0,0,null,null,"","","",1]
[null,null,null,null,null,null,2012,{"$f":"IF(K622=\"\",\"\",VLOOKUP(I622,'Suiv Contr '!$D$14:$E$25,2))","v":"avril"},4,1,"2012-04-16","Germain","Meythet","Meythet",null,null,{"$f":"IF(N622=\"\",\"\",VLOOKUP(N622,Ville!$A$3:$E$40,4,0))","v":"ca"},0,{"$f":"IF(N622=\"\",0,VLOOKUP(N622,Ville!$A$3:$E$40,3,0))","v":"04:20:00"},null,10,null,null,null,null,null,null,null,10,10,{"$f":"IF(N622=\"\",\"\",VLOOKUP(N622,Ville!$A$3:$E$40,2,0))","v":298},null,null,0,0,0,0,0,0,0,0,0,0,0,0,0,null,null,"","","",1]
[null,null,null,null,null,null,2012,{"$f":"IF(K623=\"\",\"\",VLOOKUP(I623,'Suiv Contr '!$D$14:$E$25,2))","v":"avril"},4,2,"2012-04-17","Germain","Champagnole","Champagnole",null,null,{"$f":"IF(N623=\"\",\"\",VLOOKUP(N623,Ville!$A$3:$E$40,4,0))","v":"p"},0,{"$f":"IF(N623=\"\",0,VLOOKUP(N623,Ville!$A$3:$E$40,3,0))","v":"00:00:00"},null,12,null,null,null,1,2,1,1,12,13,{"$f":"IF(N623=\"\",\"\",VLOOKUP(N623,Ville!$A$3:$E$40,2,0))","v":0},"Opacimetre",null,0,0,0,0,0,0,0,0,0,0,0,0,0,null,null,"","","",""]
[null,null,null,null,null,null,2012,{"$f":"IF(K624=\"\",\"\",VLOOKUP(I624,'Suiv Contr '!$D$14:$E$25,2))","v":"avril"},4,3,"2012-04-18","Germain","Champagnole","Champagnole",null,null,{"$f":"IF(N624=\"\",\"\",VLOOKUP(N624,Ville!$A$3:$E$40,4,0))","v":"p"},0,{"$f":"IF(N624=\"\",0,VLOOKUP(N624,Ville!$A$3:$E$40,3,0))","v":"00:00:00"},null,4,null,1,null,1,null,null,1,5,6,{"$f":"IF(N624=\"\",\"\",VLOOKUP(N624,Ville!$A$3:$E$40,2,0))","v":0},null,null,0,0,0,0,0,0,0,0,0,0,0,0,0,null,null,"","","",""]
[null,null,null,null,null,null,2012,{"$f":"IF(K625=\"\",\"\",VLOOKUP(I625,'Suiv Contr '!$D$14:$E$25,2))","v":"avril"},4,4,"2012-04-19","Germain","Champagnole","Champagnole",null,null,{"$f":"IF(N625=\"\",\"\",VLOOKUP(N625,Ville!$A$3:$E$40,4,0))","v":"p"},0,{"$f":"IF(N625=\"\",0,VLOOKUP(N625,Ville!$A$3:$E$40,3,0))","v":"00:00:00"},null,6,null,null,null,null,null,1,null,6,6,{"$f":"IF(N625=\"\",\"\",VLOOKUP(N625,Ville!$A$3:$E$40,2,0))","v":0},null,null,0,0,0,0,0,0,0,0,0,0,0,0,0,null,null,"","","",""]
[null,null,null,null,null,null,2012,{"$f":"IF(K626=\"\",\"\",VLOOKUP(I626,'Suiv Contr '!$D$14:$E$25,2))","v":"avril"},4,5,"2012-04-20","Germain","Champagnole","Champagnole",null,null,{"$f":"IF(N626=\"\",\"\",VLOOKUP(N626,Ville!$A$3:$E$40,4,0))","v":"p"},0,{"$f":"IF(N626=\"\",0,VLOOKUP(N626,Ville!$A$3:$E$40,3,0))","v":"00:00:00"},null,8,1,null,null,null,null,null,null,9,9,{"$f":"IF(N626=\"\",\"\",VLOOKUP(N626,Ville!$A$3:$E$40,2,0))","v":0},null,null,0,0,0,0,0,0,0,0,0,0,0,0,0,null,null,"","","",""]
[null,null,null,null,null,null,2012,{"$f":"IF(K627=\"\",\"\",VLOOKUP(I627,'Suiv Contr '!$D$14:$E$25,2))","v":"avril"},4,6,"2012-04-21",null,"00:00:00",null,null,null,{"$f":"IF(N627=\"\",\"\",VLOOKUP(N627,Ville!$A$3:$E$40,4,0))","v":""},0,{"$f":"IF(N627=\"\",0,VLOOKUP(N627,Ville!$A$3:$E$40,3,0))","v":"00:00:00"},null,null,null,null,null,null,null,null,null,0,0,{"$f":"IF(N627=\"\",\"\",VLOOKUP(N627,Ville!$A$3:$E$40,2,0))","v":""},"gaz",null,0,0,0,0,0,0,0,0,0,0,0,0,0,null,null,"","","",""]
[null,null,null,null,null,null,2012,{"$f":"IF(K628=\"\",\"\",VLOOKUP(I628,'Suiv Contr '!$D$14:$E$25,2))","v":"avril"},4,1,"2012-04-23","Germain","Champagnole","Champagnole",null,null,{"$f":"IF(N628=\"\",\"\",VLOOKUP(N628,Ville!$A$3:$E$40,4,0))","v":"p"},0,{"$f":"IF(N628=\"\",0,VLOOKUP(N628,Ville!$A$3:$E$40,3,0))","v":"00:00:00"},null,3,null,null,null,null,null,null,null,3,3,{"$f":"IF(N628=\"\",\"\",VLOOKUP(N628,Ville!$A$3:$E$40,2,0))","v":0},null,null,0,0,0,0,0,0,0,0,0,0,0,0,0,null,null,"","","",""]
[null,null,null,null,null,null,2012,{"$f":"IF(K629=\"\",\"\",VLOOKUP(I629,'Suiv Contr '!$D$14:$E$25,2))","v":"avril"},4,2,"2012-04-24","Germain","Champagnole","Champagnole",null,null,{"$f":"IF(N629=\"\",\"\",VLOOKUP(N629,Ville!$A$3:$E$40,4,0))","v":"p"},0,{"$f":"IF(N629=\"\",0,VLOOKUP(N629,Ville!$A$3:$E$40,3,0))","v":"00:00:00"},null,4,1,1,null,1,null,null,null,6,7,{"$f":"IF(N629=\"\",\"\",VLOOKUP(N629,Ville!$A$3:$E$40,2,0))","v":0},null,null,0,0,0,0,0,0,0,0,0,0,0,0,0,null,null,"","","",""]
[null,null,null,null,null,null,2012,{"$f":"IF(K630=\"\",\"\",VLOOKUP(I630,'Suiv Contr '!$D$14:$E$25,2))","v":"avril"},4,3,"2012-04-25","Germain","Thann","Thann",null,null,{"$f":"IF(N630=\"\",\"\",VLOOKUP(N630,Ville!$A$3:$E$40,4,0))","v":"ca"},0,{"$f":"IF(N630=\"\",0,VLOOKUP(N630,Ville!$A$3:$E$40,3,0))","v":"04:30:00"},null,2,1,2,null,null,null,null,null,5,5,{"$f":"IF(N630=\"\",\"\",VLOOKUP(N630,Ville!$A$3:$E$40,2,0))","v":402},null,null,0,0,0,0,0,0,0,0,0,0,0,0,0,null,null,"","","",1]
[null,null,null,null,null,null,2012,{"$f":"IF(K631=\"\",\"\",VLOOKUP(I631,'Suiv Contr '!$D$14:$E$25,2))","v":"avril"},4,null,"2012-04-26","Germain","Champagnole","Champagnole",null,null,{"$f":"IF(N631=\"\",\"\",VLOOKUP(N631,Ville!$A$3:$E$40,4,0))","v":"p"},null,{"$f":"IF(N631=\"\",0,VLOOKUP(N631,Ville!$A$3:$E$40,3,0))","v":"00:00:00"},null,4,null,null,null,1,null,null,null,{"$f":"U631+V631+W631+X631","v":4},{"$f":"AC631+Y631","v":5},{"$f":"IF(N631=\"\",\"\",VLOOKUP(N631,Ville!$A$3:$E$40,2,0))","v":0},null,null,0,0,0,0,0,0,0,0,0,0,0,0,0,null,null,"","","",""]
[null,null,null,null,null,null,2012,{"$f":"IF(K632=\"\",\"\",VLOOKUP(I632,'Suiv Contr '!$D$14:$E$25,2))","v":"avril"},4,null,"2012-04-27","Germain","Champagnole","Champagnole",null,null,{"$f":"IF(N632=\"\",\"\",VLOOKUP(N632,Ville!$A$3:$E$40,4,0))","v":"p"},null,{"$f":"IF(N632=\"\",0,VLOOKUP(N632,Ville!$A$3:$E$40,3,0))","v":"00:00:00"},null,3,1,1,null,null,null,1,null,5,5,{"$f":"IF(N632=\"\",\"\",VLOOKUP(N632,Ville!$A$3:$E$40,2,0))","v":0},null,null,0,0,0,0,0,0,0,0,0,0,0,0,0,null,null,"","","",""]
[null,null,null,null,null,null,2012,{"$f":"IF(K633=\"\",\"\",VLOOKUP(I633,'Suiv Contr '!$D$14:$E$25,2))","v":"avril"},4,{"$f":"IF(K633=\"\",\"\",WEEKDAY(K633,2))","v":1},"2012-04-30","Germain","00:00:00",null,null,null,"v",{"$f":"IF(Q633=\"v\",1,0)","v":1},null,null,null,null,null,null,null,null,null,null,0,0,{"$f":"IF(N633=\"\",\"\",VLOOKUP(N633,Ville!$A$3:$E$40,2,0))","v":""},null,null,0,0,0,0,0,0,0,0,0,0,0,0,0,null,null,"",{"$f":"IF(Q633=\"v\",3,\"\")","v":3},{"$f":"IF(Q633=\"rec\",2,\"\")","v":""},""]
[null,null,null,null,null,null,2012,{"$f":"IF(K634=\"\",\"\",VLOOKUP(I634,'Suiv Contr '!$D$14:$E$25,2))","v":"mai"},5,null,"2012-05-02","Germain","Champagnole","Champagnole",null,null,{"$f":"IF(N634=\"\",\"\",VLOOKUP(N634,Ville!$A$3:$E$40,4,0))","v":"p"},0,{"$f":"IF(N634=\"\",0,VLOOKUP(N634,Ville!$A$3:$E$40,3,0))","v":"00:00:00"},null,7,null,null,null,1,null,null,1,7,8,{"$f":"IF(N634=\"\",\"\",VLOOKUP(N634,Ville!$A$3:$E$40,2,0))","v":0},null,null,0,0,0,0,0,0,0,0,0,0,0,0,0,null,null,"","","",""]
[null,null,null,null,null,null,2012,{"$f":"IF(K635=\"\",\"\",VLOOKUP(I635,'Suiv Contr '!$D$14:$E$25,2))","v":"mai"},5,null,"2012-05-03","Germain","Champagnole","Champagnole",null,null,{"$f":"IF(N635=\"\",\"\",VLOOKUP(N635,Ville!$A$3:$E$40,4,0))","v":"p"},0,{"$f":"IF(N635=\"\",0,VLOOKUP(N635,Ville!$A$3:$E$40,3,0))","v":"00:00:00"},null,8,2,null,null,2,null,null,null,10,12,{"$f":"IF(N635=\"\",\"\",VLOOKUP(N635,Ville!$A$3:$E$40,2,0))","v":0},null,null,0,0,0,0,0,0,0,0,0,0,0,0,0,null,null,"","","",""]
[null,null,null,null,null,null,2012,{"$f":"IF(K636=\"\",\"\",VLOOKUP(I636,'Suiv Contr '!$D$14:$E$25,2))","v":"mai"},5,null,"2012-05-04","Germain","Cordesse","Cordesse",null,null,{"$f":"IF(N636=\"\",\"\",VLOOKUP(N636,Ville!$A$3:$E$40,4,0))","v":"ca"},0,{"$f":"IF(N636=\"\",0,VLOOKUP(N636,Ville!$A$3:$E$40,3,0))","v":"03:10:00"},null,10,null,1,null,null,2,null,null,11,11,{"$f":"IF(N636=\"\",\"\",VLOOKUP(N636,Ville!$A$3:$E$40,2,0))","v":340},null,null,0,0,0,0,0,0,0,0,0,0,0,0,0,null,null,"","","",1]
[null,null,null,null,null,null,2012,{"$f":"IF(K637=\"\",\"\",VLOOKUP(I637,'Suiv Contr '!$D$14:$E$25,2))","v":"mai"},5,null,"2012-05-07","Germain","Champagnole","Champagnole",null,null,{"$f":"IF(N637=\"\",\"\",VLOOKUP(N637,Ville!$A$3:$E$40,4,0))","v":"p"},0,{"$f":"IF(N637=\"\",0,VLOOKUP(N637,Ville!$A$3:$E$40,3,0))","v":"00:00:00"},null,6,1,null,null,null,2,null,null,7,7,{"$f":"IF(N637=\"\",\"\",VLOOKUP(N637,Ville!$A$3:$E$40,2,0))","v":0},null,null,0,0,0,0,0,0,0,0,0,0,0,0,0,null,null,"","","",""]
[null,null,null,null,null,null,2012,{"$f":"IF(K638=\"\",\"\",VLOOKUP(I638,'Suiv Contr '!$D$14:$E$25,2))","v":"mai"},5,null,"2012-05-09","Germain","Marseilles","Marseilles",null,null,{"$f":"IF(N638=\"\",\"\",VLOOKUP(N638,Ville!$A$3:$E$40,4,0))","v":"ca"},0,"04:45:00",null,null,12,null,null,null,2,null,null,12,12,{"$f":"IF(N638=\"\",\"\",VLOOKUP(N638,Ville!$A$3:$E$40,2,0))","v":1034},null,null,0,0,0,0,0,0,0,0,0,0,0,0,0,null,null,"","","",1]
[null,null,null,null,null,null,{"$f":"IF(K639=\"\",\"\",YEAR(K639))","v":2012},{"$f":"IF(K639=\"\",\"\",VLOOKUP(I639,'Suiv Contr '!$D$14:$E$25,2))","v":"mai"},{"$f":"IF(K639=\"\",\"\",MONTH(K639))","v":5},null,"2012-05-10","Germain","Le Pontet","Le Pontet",null,null,{"$f":"IF(N639=\"\",\"\",VLOOKUP(N639,Ville!$A$3:$E$40,4,0))","v":"sp"},0,null,null,11,3,null,null,1,1,1,null,14,15,null,null,null,0,0,0,0,0,0,0,0,0,0,0,0,0,null,null,{"$f":"IF(K639=$B$2,1,\"\")","v":""},"","",1]
[null,null,null,null,null,null,{"$f":"IF(K640=\"\",\"\",YEAR(K640))","v":2012},{"$f":"IF(K640=\"\",\"\",VLOOKUP(I640,'Suiv Contr '!$D$14:$E$25,2))","v":"mai"},{"$f":"IF(K640=\"\",\"\",MONTH(K640))","v":5},null,"2012-05-11","Germain","Le Pontet","Le Pontet",null,null,{"$f":"IF(N640=\"\",\"\",VLOOKUP(N640,Ville!$A$3:$E$40,4,0))","v":"sp"},0,"03:35:00",null,7,2,null,null,null,1,null,null,9,9,{"$f":"IF(N640=\"\",\"\",VLOOKUP(N640,Ville!$A$3:$E$40,2,0))","v":860},null,null,0,0,0,0,0,0,0,0,0,0,0,0,0,null,null,{"$f":"IF(K640=$B$2,1,\"\")","v":""},"","",1]
[null,null,null,null,null,null,2012,{"$f":"IF(K641=\"\",\"\",VLOOKUP(I641,'Suiv Contr '!$D$14:$E$25,2))","v":"mai"},5,null,"2012-05-14","Germain","Besançon iax","Besançon iax",null,null,{"$f":"IF(N641=\"\",\"\",VLOOKUP(N641,Ville!$A$3:$E$40,4,0))","v":"ca"},0,{"$f":"IF(N641=\"\",0,VLOOKUP(N641,Ville!$A$3:$E$40,3,0))","v":"01:50:00"},null,6,null,null,null,1,1,null,null,{"$f":"U641+V641+W641+X641","v":6},{"$f":"AC641+Y641","v":7},{"$f":"IF(N641=\"\",\"\",VLOOKUP(N641,Ville!$A$3:$E$40,2,0))","v":132},null,null,0,0,0,0,0,0,0,0,0,0,0,0,0,null,null,"","","",1]
[null,null,null,null,null,null,2012,{"$f":"IF(K642=\"\",\"\",VLOOKUP(I642,'Suiv Contr '!$D$14:$E$25,2))","v":"mai"},5,null,"2012-05-15","Germain","Champagnole","Champagnole",null,null,{"$f":"IF(N642=\"\",\"\",VLOOKUP(N642,Ville!$A$3:$E$40,4,0))","v":"p"},0,{"$f":"IF(N642=\"\",0,VLOOKUP(N642,Ville!$A$3:$E$40,3,0))","v":"00:00:00"},null,10,1,null,null,1,2,1,1,11,12,{"$f":"IF(N642=\"\",\"\",VLOOKUP(N642,Ville!$A$3:$E$40,2,0))","v":0},null,null,0,0,0,0,0,0,0,0,0,0,0,0,0,null,null,"","","",""]
[null,null,null,null,null,null,2012,{"$f":"IF(K643=\"\",\"\",VLOOKUP(I643,'Suiv Contr '!$D$14:$E$25,2))","v":"mai"},5,null,"2012-05-16","Germain","Champagnole","Champagnole",null,null,{"$f":"IF(N643=\"\",\"\",VLOOKUP(N643,Ville!$A$3:$E$40,4,0))","v":"p"},0,{"$f":"IF(N643=\"\",0,VLOOKUP(N643,Ville!$A$3:$E$40,3,0))","v":"00:00:00"},null,6,1,null,null,null,1,null,null,7,7,{"$f":"IF(N643=\"\",\"\",VLOOKUP(N643,Ville!$A$3:$E$40,2,0))","v":0},null,null,0,0,0,0,0,0,0,0,0,0,0,0,0,null,null,"","","",""]
[null,null,null,null,null,null,2012,{"$f":"IF(K644=\"\",\"\",VLOOKUP(I644,'Suiv Contr '!$D$14:$E$25,2))","v":"mai"},5,null,"2012-05-18","Germain","Champagnole","Champagnole",null,null,"rec",0,{"$f":"IF(N644=\"\",0,VLOOKUP(N644,Ville!$A$3:$E$40,3,0))","v":"00:00:00"},"07:00:00",null,null,null,null,null,null,null,null,0,0,{"$f":"IF(N644=\"\",\"\",VLOOKUP(N644,Ville!$A$3:$E$40,2,0))","v":0},null,null,0,0,0,0,0,0,0,0,0,0,0,0,0,null,null,"","",2,""]
[null,null,null,null,null,null,2012,{"$f":"IF(K645=\"\",\"\",VLOOKUP(I645,'Suiv Contr '!$D$14:$E$25,2))","v":"mai"},5,null,"2012-05-21","Germain","Meythet","Meythet",null,null,{"$f":"IF(N645=\"\",\"\",VLOOKUP(N645,Ville!$A$3:$E$40,4,0))","v":"ca"},0,{"$f":"IF(N645=\"\",0,VLOOKUP(N645,Ville!$A$3:$E$40,3,0))","v":"04:20:00"},null,5,null,1,null,null,null,null,null,6,6,{"$f":"IF(N645=\"\",\"\",VLOOKUP(N645,Ville!$A$3:$E$40,2,0))","v":298},null,null,0,0,0,0,0,0,0,0,0,0,0,0,0,null,null,"","","",1]
[null,null,null,null,null,null,2012,{"$f":"IF(K646=\"\",\"\",VLOOKUP(I646,'Suiv Contr '!$D$14:$E$25,2))","v":"mai"},5,null,"2012-05-22","Germain","Champagnole","Champagnole",null,null,{"$f":"IF(N646=\"\",\"\",VLOOKUP(N646,Ville!$A$3:$E$40,4,0))","v":"p"},0,{"$f":"IF(N646=\"\",0,VLOOKUP(N646,Ville!$A$3:$E$40,3,0))","v":"00:00:00"},null,9,2,1,null,1,1,null,null,12,13,{"$f":"IF(N646=\"\",\"\",VLOOKUP(N646,Ville!$A$3:$E$40,2,0))","v":0},null,null,0,0,0,0,0,0,0,0,0,0,0,0,0,null,null,"","","",""]
[null,null,null,null,null,null,2012,{"$f":"IF(K647=\"\",\"\",VLOOKUP(I647,'Suiv Contr '!$D$14:$E$25,2))","v":"mai"},5,null,"2012-05-23","Germain","Thann","Thann",null,null,{"$f":"IF(N647=\"\",\"\",VLOOKUP(N647,Ville!$A$3:$E$40,4,0))","v":"ca"},0,{"$f":"IF(N647=\"\",0,VLOOKUP(N647,Ville!$A$3:$E$40,3,0))","v":"04:30:00"},null,3,null,1,null,2,1,null,1,4,6,{"$f":"IF(N647=\"\",\"\",VLOOKUP(N647,Ville!$A$3:$E$40,2,0))","v":402},null,null,0,0,0,0,0,0,0,0,0,0,0,0,0,null,null,"","","",1]
[null,null,null,null,null,null,2012,{"$f":"IF(K648=\"\",\"\",VLOOKUP(I648,'Suiv Contr '!$D$14:$E$25,2))","v":"mai"},5,null,"2012-05-24","Germain","Champagnole","Champagnole",null,null,{"$f":"IF(N648=\"\",\"\",VLOOKUP(N648,Ville!$A$3:$E$40,4,0))","v":"p"},0,{"$f":"IF(N648=\"\",0,VLOOKUP(N648,Ville!$A$3:$E$40,3,0))","v":"00:00:00"},null,5,1,null,null,null,null,1,null,6,6,{"$f":"IF(N648=\"\",\"\",VLOOKUP(N648,Ville!$A$3:$E$40,2,0))","v":0},null,null,0,0,0,0,0,0,0,0,0,0,0,0,0,null,null,"","","",""]
[null,null,null,null,null,null,2012,{"$f":"IF(K649=\"\",\"\",VLOOKUP(I649,'Suiv Contr '!$D$14:$E$25,2))","v":"mai"},5,null,"2012-05-25","Germain","Champagnole","Champagnole",null,null,{"$f":"IF(N649=\"\",\"\",VLOOKUP(N649,Ville!$A$3:$E$40,4,0))","v":"p"},0,{"$f":"IF(N649=\"\",0,VLOOKUP(N649,Ville!$A$3:$E$40,3,0))","v":"00:00:00"},null,8,null,2,null,null,null,1,null,10,10,{"$f":"IF(N649=\"\",\"\",VLOOKUP(N649,Ville!$A$3:$E$40,2,0))","v":0},null,null,0,0,0,0,0,0,0,0,0,0,0,0,0,null,null,"",{"$f":"IF(Q649=\"v\",3,\"\")","v":""},{"$f":"IF(Q649=\"rec\",2,\"\")","v":""},""]
[null,null,null,null,null,null,2012,{"$f":"IF(K650=\"\",\"\",VLOOKUP(I650,'Suiv Contr '!$D$14:$E$25,2))","v":"mai"},5,null,"2012-05-29","Germain","Champagnole","Champagnole",null,null,{"$f":"IF(N650=\"\",\"\",VLOOKUP(N650,Ville!$A$3:$E$40,4,0))","v":"p"},0,{"$f":"IF(N650=\"\",0,VLOOKUP(N650,Ville!$A$3:$E$40,3,0))","v":"00:00:00"},null,2,3,null,null,null,1,null,null,5,5,{"$f":"IF(N650=\"\",\"\",VLOOKUP(N650,Ville!$A$3:$E$40,2,0))","v":0},null,null,0,0,0,0,0,0,0,0,0,0,0,0,0,null,null,"","","",""]
[null,null,null,null,null,null,2012,{"$f":"IF(K651=\"\",\"\",VLOOKUP(I651,'Suiv Contr '!$D$14:$E$25,2))","v":"mai"},5,null,"2012-05-30","Germain",{"$f":"N651","v":"Champagnole"},"Champagnole",null,null,{"$f":"IF(N651=\"\",\"\",VLOOKUP(N651,Ville!$A$3:$E$40,4,0))","v":"p"},0,{"$f":"IF(N651=\"\",0,VLOOKUP(N651,Ville!$A$3:$E$40,3,0))","v":"00:00:00"},null,1,2,1,null,1,null,1,null,4,5,{"$f":"IF(N651=\"\",\"\",VLOOKUP(N651,Ville!$A$3:$E$40,2,0))","v":0},null,null,0,0,0,0,0,0,0,0,0,0,0,0,0,null,null,"","","",{"$f":"IF(OR(N651=\"champagnole\",N651=\"\"),\"\",1)","v":""}]
[null,null,null,null,null,null,2012,{"$f":"IF(K652=\"\",\"\",VLOOKUP(I652,'Suiv Contr '!$D$14:$E$25,2))","v":"mai"},5,null,"2012-05-31","Germain",{"$f":"N652","v":"Champagnole"},"Champagnole",null,null,{"$f":"IF(N652=\"\",\"\",VLOOKUP(N652,Ville!$A$3:$E$40,4,0))","v":"p"},0,{"$f":"IF(N652=\"\",0,VLOOKUP(N652,Ville!$A$3:$E$40,3,0))","v":"00:00:00"},null,5,1,null,null,2,null,null,2,6,8,{"$f":"IF(N652=\"\",\"\",VLOOKUP(N652,Ville!$A$3:$E$40,2,0))","v":0},null,null,0,0,0,0,0,0,0,0,0,0,0,0,0,null,null,"","","",{"$f":"IF(OR(N652=\"champagnole\",N652=\"\"),\"\",1)","v":""}]
[null,null,null,null,null,null,2012,{"$f":"IF(K653=\"\",\"\",VLOOKUP(I653,'Suiv Contr '!$D$14:$E$25,2))","v":"juin"},6,null,"2012-06-01","Germain",{"$f":"N653","v":"Champagnole"},"Champagnole",null,null,{"$f":"IF(N653=\"\",\"\",VLOOKUP(N653,Ville!$A$3:$E$40,4,0))","v":"p"},0,null,null,6,1,null,null,null,1,null,null,7,7,null,null,null,null,null,null,null,null,null,null,null,null,null,null,null,null,null,null,""]
[null,null,null,null,null,null,2012,{"$f":"IF(K654=\"\",\"\",VLOOKUP(I654,'Suiv Contr '!$D$14:$E$25,2))","v":"juin"},6,null,"2012-06-04","Germain","Champagnole","Champagnole",null,null,{"$f":"IF(N654=\"\",\"\",VLOOKUP(N654,Ville!$A$3:$E$40,4,0))","v":"p"},0,{"$f":"IF(N654=\"\",0,VLOOKUP(N654,Ville!$A$3:$E$40,3,0))","v":"00:00:00"},null,3,1,null,null,null,null,null,null,4,4,{"$f":"IF(N654=\"\",\"\",VLOOKUP(N654,Ville!$A$3:$E$40,2,0))","v":0},null,null,0,0,0,0,0,0,0,0,0,0,0,0,0,null,null,"","","",""]
[null,null,null,null,null,null,2012,{"$f":"IF(K655=\"\",\"\",VLOOKUP(I655,'Suiv Contr '!$D$14:$E$25,2))","v":"juin"},6,null,"2012-06-05","Germain",{"$f":"N655","v":"Champagnole"},"Champagnole",null,null,{"$f":"IF(N655=\"\",\"\",VLOOKUP(N655,Ville!$A$3:$E$40,4,0))","v":"p"},0,{"$f":"IF(N655=\"\",0,VLOOKUP(N655,Ville!$A$3:$E$40,3,0))","v":"00:00:00"},null,5,null,null,null,1,null,null,null,5,6,{"$f":"IF(N655=\"\",\"\",VLOOKUP(N655,Ville!$A$3:$E$40,2,0))","v":0},null,null,0,0,0,0,0,0,0,0,0,0,0,0,0,null,null,"","","",""]
[null,null,null,null,null,null,2012,{"$f":"IF(K656=\"\",\"\",VLOOKUP(I656,'Suiv Contr '!$D$14:$E$25,2))","v":"juin"},6,null,"2012-06-06","Germain","Champagnole","Champagnole",null,null,{"$f":"IF(N656=\"\",\"\",VLOOKUP(N656,Ville!$A$3:$E$40,4,0))","v":"p"},0,{"$f":"IF(N656=\"\",0,VLOOKUP(N656,Ville!$A$3:$E$40,3,0))","v":"00:00:00"},null,3,null,1,null,null,null,1,null,4,4,{"$f":"IF(N656=\"\",\"\",VLOOKUP(N656,Ville!$A$3:$E$40,2,0))","v":0},null,null,0,0,0,0,0,0,0,0,0,0,0,0,0,null,null,"","","",""]
[null,null,null,null,null,null,2012,{"$f":"IF(K657=\"\",\"\",VLOOKUP(I657,'Suiv Contr '!$D$14:$E$25,2))","v":"juin"},6,null,"2012-06-07","Germain","Champagnole","Champagnole",null,null,{"$f":"IF(N657=\"\",\"\",VLOOKUP(N657,Ville!$A$3:$E$40,4,0))","v":"p"},0,{"$f":"IF(N657=\"\",0,VLOOKUP(N657,Ville!$A$3:$E$40,3,0))","v":"00:00:00"},null,11,null,null,null,null,1,2,null,11,11,{"$f":"IF(N657=\"\",\"\",VLOOKUP(N657,Ville!$A$3:$E$40,2,0))","v":0},null,null,0,0,0,0,0,0,0,0,0,0,0,0,0,null,null,"","","",""]
[null,null,null,null,null,null,2012,{"$f":"IF(K658=\"\",\"\",VLOOKUP(I658,'Suiv Contr '!$D$14:$E$25,2))","v":"juin"},6,null,"2012-06-08","Germain","Champagnole","Champagnole",null,null,{"$f":"IF(N658=\"\",\"\",VLOOKUP(N658,Ville!$A$3:$E$40,4,0))","v":"p"},0,{"$f":"IF(N658=\"\",0,VLOOKUP(N658,Ville!$A$3:$E$40,3,0))","v":"00:00:00"},null,5,1,null,null,1,null,null,null,6,7,{"$f":"IF(N658=\"\",\"\",VLOOKUP(N658,Ville!$A$3:$E$40,2,0))","v":0},null,null,0,0,0,0,0,0,0,0,0,0,0,0,0,null,null,"","","",""]
[null,null,null,null,null,null,2012,{"$f":"IF(K659=\"\",\"\",VLOOKUP(I659,'Suiv Contr '!$D$14:$E$25,2))","v":"juin"},6,null,"2012-06-11","Germain","Champagnole","Champagnole",null,null,{"$f":"IF(N659=\"\",\"\",VLOOKUP(N659,Ville!$A$3:$E$40,4,0))","v":"p"},0,{"$f":"IF(N659=\"\",0,VLOOKUP(N659,Ville!$A$3:$E$40,3,0))","v":"00:00:00"},null,7,2,null,null,null,1,1,null,9,9,{"$f":"IF(N659=\"\",\"\",VLOOKUP(N659,Ville!$A$3:$E$40,2,0))","v":0},null,null,0,0,0,0,0,0,0,0,0,0,0,0,{"$f":"SUM(AH659:AS659)","v":0},null,null,"","","",""]
[null,null,null,null,null,null,2012,{"$f":"IF(K660=\"\",\"\",VLOOKUP(I660,'Suiv Contr '!$D$14:$E$25,2))","v":"juin"},6,null,"2012-06-12","Germain","Champagnole","Champagnole",null,null,{"$f":"IF(N660=\"\",\"\",VLOOKUP(N660,Ville!$A$3:$E$40,4,0))","v":"p"},0,{"$f":"IF(N660=\"\",0,VLOOKUP(N660,Ville!$A$3:$E$40,3,0))","v":"00:00:00"},null,7,null,null,null,1,null,null,null,7,8,{"$f":"IF(N660=\"\",\"\",VLOOKUP(N660,Ville!$A$3:$E$40,2,0))","v":0},null,null,0,0,0,0,0,0,0,0,0,0,0,0,0,null,null,"","","",""]
[null,null,null,null,null,null,2012,{"$f":"IF(K661=\"\",\"\",VLOOKUP(I661,'Suiv Contr '!$D$14:$E$25,2))","v":"juin"},6,null,"2012-06-13","Germain","Champagnole","Champagnole",null,null,{"$f":"IF(N661=\"\",\"\",VLOOKUP(N661,Ville!$A$3:$E$40,4,0))","v":"p"},0,{"$f":"IF(N661=\"\",0,VLOOKUP(N661,Ville!$A$3:$E$40,3,0))","v":"00:00:00"},null,2,1,null,null,2,null,null,null,3,5,{"$f":"IF(N661=\"\",\"\",VLOOKUP(N661,Ville!$A$3:$E$40,2,0))","v":0},null,null,0,0,0,0,0,0,0,0,0,0,0,0,0,null,null,"","","",""]
[null,null,null,null,null,null,2012,{"$f":"IF(K662=\"\",\"\",VLOOKUP(I662,'Suiv Contr '!$D$14:$E$25,2))","v":"juin"},6,null,"2012-06-14","Germain","Champagnole","Champagnole",null,null,{"$f":"IF(N662=\"\",\"\",VLOOKUP(N662,Ville!$A$3:$E$40,4,0))","v":"p"},0,{"$f":"IF(N662=\"\",0,VLOOKUP(N662,Ville!$A$3:$E$40,3,0))","v":"00:00:00"},null,4,null,null,null,null,null,null,null,4,4,{"$f":"IF(N662=\"\",\"\",VLOOKUP(N662,Ville!$A$3:$E$40,2,0))","v":0},null,null,0,0,0,0,0,0,0,0,0,0,0,0,0,null,null,"","","",""]
[null,null,null,null,null,null,{"$f":"IF(K663=\"\",\"\",YEAR(K663))","v":2012},{"$f":"IF(K663=\"\",\"\",VLOOKUP(I663,'Suiv Contr '!$D$14:$E$25,2))","v":"juin"},{"$f":"IF(K663=\"\",\"\",MONTH(K663))","v":6},null,"2012-06-15","Germain","Champagnole","Champagnole",null,null,{"$f":"IF(N663=\"\",\"\",VLOOKUP(N663,Ville!$A$3:$E$40,4,0))","v":"p"},0,{"$f":"IF(N663=\"\",0,VLOOKUP(N663,Ville!$A$3:$E$40,3,0))","v":"00:00:00"},null,8,1,null,null,null,null,null,null,9,9,{"$f":"IF(N663=\"\",\"\",VLOOKUP(N663,Ville!$A$3:$E$40,2,0))","v":0},null,null,0,0,0,0,0,0,0,0,0,0,0,0,0,null,null,{"$f":"IF(K663=$B$2,1,\"\")","v":""},"","",""]
[null,null,null,null,null,null,2012,{"$f":"IF(K664=\"\",\"\",VLOOKUP(I664,'Suiv Contr '!$D$14:$E$25,2))","v":"juin"},6,null,"2012-06-18","Germain","Champagnole","Champagnole",null,null,{"$f":"IF(N664=\"\",\"\",VLOOKUP(N664,Ville!$A$3:$E$40,4,0))","v":"p"},0,{"$f":"IF(N664=\"\",0,VLOOKUP(N664,Ville!$A$3:$E$40,3,0))","v":"00:00:00"},null,3,null,null,null,null,null,null,null,3,3,{"$f":"IF(N664=\"\",\"\",VLOOKUP(N664,Ville!$A$3:$E$40,2,0))","v":0},null,null,0,0,0,0,0,0,0,0,0,0,0,0,0,null,null,"","","",""]
[null,null,null,null,null,null,2012,{"$f":"IF(K665=\"\",\"\",VLOOKUP(I665,'Suiv Contr '!$D$14:$E$25,2))","v":"juin"},6,null,"2012-06-19","Germain","Champagnole","Champagnole",null,null,{"$f":"IF(N665=\"\",\"\",VLOOKUP(N665,Ville!$A$3:$E$40,4,0))","v":"p"},0,{"$f":"IF(N665=\"\",0,VLOOKUP(N665,Ville!$A$3:$E$40,3,0))","v":"00:00:00"},null,11,3,null,null,null,null,null,null,14,14,{"$f":"IF(N665=\"\",\"\",VLOOKUP(N665,Ville!$A$3:$E$40,2,0))","v":0},null,null,0,0,0,0,0,0,0,0,0,0,0,0,0,null,null,"","","",""]
[null,null,null,null,null,null,2012,{"$f":"IF(K666=\"\",\"\",VLOOKUP(I666,'Suiv Contr '!$D$14:$E$25,2))","v":"juin"},6,null,"2012-06-20","Germain","Champagnole","Champagnole",null,null,{"$f":"IF(N666=\"\",\"\",VLOOKUP(N666,Ville!$A$3:$E$40,4,0))","v":"p"},0,{"$f":"IF(N666=\"\",0,VLOOKUP(N666,Ville!$A$3:$E$40,3,0))","v":"00:00:00"},null,8,3,null,null,1,null,null,null,11,12,{"$f":"IF(N666=\"\",\"\",VLOOKUP(N666,Ville!$A$3:$E$40,2,0))","v":0},null,null,0,0,0,0,0,0,0,0,0,0,0,0,0,null,null,"","","",{"$f":"IF(OR(N666=\"champagnole\",N666=\"\"),\"\",1)","v":""}]
[null,null,null,null,null,null,2012,{"$f":"IF(K667=\"\",\"\",VLOOKUP(I667,'Suiv Contr '!$D$14:$E$25,2))","v":"juin"},6,null,"2012-06-21","Germain","Champagnole","Champagnole",null,null,{"$f":"IF(N667=\"\",\"\",VLOOKUP(N667,Ville!$A$3:$E$40,4,0))","v":"p"},0,{"$f":"IF(N667=\"\",0,VLOOKUP(N667,Ville!$A$3:$E$40,3,0))","v":"00:00:00"},null,2,1,null,null,null,null,null,null,3,3,{"$f":"IF(N667=\"\",\"\",VLOOKUP(N667,Ville!$A$3:$E$40,2,0))","v":0},null,null,0,0,0,0,0,0,0,0,0,0,0,0,0,null,null,"","","",""]
[null,null,null,null,null,null,2012,{"$f":"IF(K668=\"\",\"\",VLOOKUP(I668,'Suiv Contr '!$D$14:$E$25,2))","v":"juin"},6,null,"2012-06-22","Germain","Champagnole","Champagnole",null,null,{"$f":"IF(N668=\"\",\"\",VLOOKUP(N668,Ville!$A$3:$E$40,4,0))","v":"p"},0,{"$f":"IF(N668=\"\",0,VLOOKUP(N668,Ville!$A$3:$E$40,3,0))","v":"00:00:00"},null,8,null,null,null,null,1,null,null,8,8,{"$f":"IF(N668=\"\",\"\",VLOOKUP(N668,Ville!$A$3:$E$40,2,0))","v":0},null,null,0,0,0,0,0,0,0,0,0,0,0,0,0,null,null,"","","",""]
[null,null,null,null,null,null,2012,{"$f":"IF(K669=\"\",\"\",VLOOKUP(I669,'Suiv Contr '!$D$14:$E$25,2))","v":"juin"},6,null,"2012-06-25","Germain","Meythet","Meythet",null,null,{"$f":"IF(N669=\"\",\"\",VLOOKUP(N669,Ville!$A$3:$E$40,4,0))","v":"ca"},0,{"$f":"IF(N669=\"\",0,VLOOKUP(N669,Ville!$A$3:$E$40,3,0))","v":"04:20:00"},null,5,null,null,null,null,null,null,null,5,5,{"$f":"IF(N669=\"\",\"\",VLOOKUP(N669,Ville!$A$3:$E$40,2,0))","v":298},null,null,0,0,0,0,0,0,0,0,0,0,0,0,0,null,null,"","","",1]
[null,null,null,null,null,null,2012,{"$f":"IF(K670=\"\",\"\",VLOOKUP(I670,'Suiv Contr '!$D$14:$E$25,2))","v":"juin"},6,null,"2012-06-26","Germain","Champagnole","Champagnole",null,null,{"$f":"IF(N670=\"\",\"\",VLOOKUP(N670,Ville!$A$3:$E$40,4,0))","v":"p"},0,{"$f":"IF(N670=\"\",0,VLOOKUP(N670,Ville!$A$3:$E$40,3,0))","v":"00:00:00"},null,5,null,null,null,null,null,null,null,5,5,{"$f":"IF(N670=\"\",\"\",VLOOKUP(N670,Ville!$A$3:$E$40,2,0))","v":0},null,null,0,0,0,0,0,0,0,0,0,0,0,0,0,null,null,"","","",""]
[null,null,null,null,null,null,2012,{"$f":"IF(K671=\"\",\"\",VLOOKUP(I671,'Suiv Contr '!$D$14:$E$25,2))","v":"juin"},6,null,"2012-06-27","Germain","Champagnole","Champagnole",null,null,{"$f":"IF(N671=\"\",\"\",VLOOKUP(N671,Ville!$A$3:$E$40,4,0))","v":"p"},0,{"$f":"IF(N671=\"\",0,VLOOKUP(N671,Ville!$A$3:$E$40,3,0))","v":"00:00:00"},null,4,null,null,null,null,1,null,null,4,4,{"$f":"IF(N671=\"\",\"\",VLOOKUP(N671,Ville!$A$3:$E$40,2,0))","v":0},null,null,0,0,0,0,0,0,0,0,0,0,0,0,0,null,null,"","","",""]
[null,null,null,null,null,null,2012,{"$f":"IF(K672=\"\",\"\",VLOOKUP(I672,'Suiv Contr '!$D$14:$E$25,2))","v":"juin"},6,null,"2012-06-28","Germain","Champagnole","Champagnole",null,null,{"$f":"IF(N672=\"\",\"\",VLOOKUP(N672,Ville!$A$3:$E$40,4,0))","v":"p"},0,{"$f":"IF(N672=\"\",0,VLOOKUP(N672,Ville!$A$3:$E$40,3,0))","v":"00:00:00"},null,6,null,null,null,null,null,null,null,6,6,{"$f":"IF(N672=\"\",\"\",VLOOKUP(N672,Ville!$A$3:$E$40,2,0))","v":0},null,null,0,0,0,0,0,0,0,0,0,0,0,0,0,null,null,"","","",""]
[null,null,null,null,null,null,2012,{"$f":"IF(K673=\"\",\"\",VLOOKUP(I673,'Suiv Contr '!$D$14:$E$25,2))","v":"juin"},6,null,"2012-06-29","Germain","Champagnole","Champagnole",null,null,{"$f":"IF(N673=\"\",\"\",VLOOKUP(N673,Ville!$A$3:$E$40,4,0))","v":"p"},0,{"$f":"IF(N673=\"\",0,VLOOKUP(N673,Ville!$A$3:$E$40,3,0))","v":"00:00:00"},null,1,null,null,null,null,1,null,null,1,1,{"$f":"IF(N673=\"\",\"\",VLOOKUP(N673,Ville!$A$3:$E$40,2,0))","v":0},null,null,0,0,0,0,0,0,0,0,0,0,0,0,0,null,null,"","","",""]
[null,null,null,null,null,null,2012,{"$f":"IF(K674=\"\",\"\",VLOOKUP(I674,'Suiv Contr '!$D$14:$E$25,2))","v":"juillet"},7,null,"2012-07-02","Germain","Champagnole","Champagnole",null,null,{"$f":"IF(N674=\"\",\"\",VLOOKUP(N674,Ville!$A$3:$E$40,4,0))","v":"p"},0,{"$f":"IF(N674=\"\",0,VLOOKUP(N674,Ville!$A$3:$E$40,3,0))","v":"00:00:00"},null,3,null,null,null,null,null,null,null,3,3,{"$f":"IF(N674=\"\",\"\",VLOOKUP(N674,Ville!$A$3:$E$40,2,0))","v":0},null,null,0,0,0,0,0,0,0,0,0,0,0,0,0,null,null,"","","",""]
[null,null,null,null,null,null,2012,{"$f":"IF(K675=\"\",\"\",VLOOKUP(I675,'Suiv Contr '!$D$14:$E$25,2))","v":"juillet"},7,null,"2012-07-03","Germain","Champagnole","Champagnole",null,null,{"$f":"IF(N675=\"\",\"\",VLOOKUP(N675,Ville!$A$3:$E$40,4,0))","v":"p"},0,{"$f":"IF(N675=\"\",0,VLOOKUP(N675,Ville!$A$3:$E$40,3,0))","v":"00:00:00"},null,4,null,null,null,null,null,null,null,4,4,{"$f":"IF(N675=\"\",\"\",VLOOKUP(N675,Ville!$A$3:$E$40,2,0))","v":0},null,null,0,0,0,0,0,0,0,0,0,0,0,0,0,null,null,"","","",""]
[null,null,null,null,null,null,2012,{"$f":"IF(K676=\"\",\"\",VLOOKUP(I676,'Suiv Contr '!$D$14:$E$25,2))","v":"juillet"},7,null,"2012-07-04","Germain","Champagnole","Champagnole",null,null,{"$f":"IF(N676=\"\",\"\",VLOOKUP(N676,Ville!$A$3:$E$40,4,0))","v":"p"},0,{"$f":"IF(N676=\"\",0,VLOOKUP(N676,Ville!$A$3:$E$40,3,0))","v":"00:00:00"},null,2,null,1,null,null,null,null,null,3,3,{"$f":"IF(N676=\"\",\"\",VLOOKUP(N676,Ville!$A$3:$E$40,2,0))","v":0},null,null,0,0,0,0,0,0,0,0,0,0,0,0,0,null,null,"","","",""]
[null,null,null,null,null,null,2012,{"$f":"IF(K677=\"\",\"\",VLOOKUP(I677,'Suiv Contr '!$D$14:$E$25,2))","v":"juillet"},7,null,"2012-07-05","Germain","Champagnole","Champagnole",null,null,{"$f":"IF(N677=\"\",\"\",VLOOKUP(N677,Ville!$A$3:$E$40,4,0))","v":"p"},0,{"$f":"IF(N677=\"\",0,VLOOKUP(N677,Ville!$A$3:$E$40,3,0))","v":"00:00:00"},null,3,2,null,null,null,null,null,null,5,5,{"$f":"IF(N677=\"\",\"\",VLOOKUP(N677,Ville!$A$3:$E$40,2,0))","v":0},null,null,0,0,0,0,0,0,0,0,0,0,0,0,0,null,null,"","","",""]
[null,null,null,null,null,null,2012,{"$f":"IF(K678=\"\",\"\",VLOOKUP(I678,'Suiv Contr '!$D$14:$E$25,2))","v":"juillet"},7,null,"2012-07-06","Germain","Champagnole","Champagnole",null,null,{"$f":"IF(N678=\"\",\"\",VLOOKUP(N678,Ville!$A$3:$E$40,4,0))","v":"p"},0,{"$f":"IF(N678=\"\",0,VLOOKUP(N678,Ville!$A$3:$E$40,3,0))","v":"00:00:00"},null,4,null,null,null,2,1,null,null,4,6,{"$f":"IF(N678=\"\",\"\",VLOOKUP(N678,Ville!$A$3:$E$40,2,0))","v":0},null,null,0,0,0,0,0,0,0,0,0,0,0,0,0,null,null,"","","",""]
[null,null,null,null,null,null,2012,{"$f":"IF(K679=\"\",\"\",VLOOKUP(I679,'Suiv Contr '!$D$14:$E$25,2))","v":"juillet"},7,null,"2012-07-09","Germain","Champagnole","Champagnole",null,null,{"$f":"IF(N679=\"\",\"\",VLOOKUP(N679,Ville!$A$3:$E$40,4,0))","v":"p"},0,{"$f":"IF(N679=\"\",0,VLOOKUP(N679,Ville!$A$3:$E$40,3,0))","v":"00:00:00"},null,4,2,null,null,null,1,null,null,6,6,{"$f":"IF(N679=\"\",\"\",VLOOKUP(N679,Ville!$A$3:$E$40,2,0))","v":0},null,null,0,0,0,0,0,0,0,0,0,0,0,0,0,null,null,"","","",""]
[null,null,null,null,null,null,2012,{"$f":"IF(K680=\"\",\"\",VLOOKUP(I680,'Suiv Contr '!$D$14:$E$25,2))","v":"juillet"},7,null,"2012-07-10","Germain","Champagnole","Champagnole",null,null,{"$f":"IF(N680=\"\",\"\",VLOOKUP(N680,Ville!$A$3:$E$40,4,0))","v":"p"},0,{"$f":"IF(N680=\"\",0,VLOOKUP(N680,Ville!$A$3:$E$40,3,0))","v":"00:00:00"},null,7,null,null,null,null,1,1,1,7,7,{"$f":"IF(N680=\"\",\"\",VLOOKUP(N680,Ville!$A$3:$E$40,2,0))","v":0},null,null,0,0,0,0,0,0,0,0,0,0,0,0,0,null,null,"","","",""]
[null,null,null,null,null,null,2012,{"$f":"IF(K681=\"\",\"\",VLOOKUP(I681,'Suiv Contr '!$D$14:$E$25,2))","v":"juillet"},7,null,"2012-07-11","Germain","Champagnole","Champagnole",null,null,{"$f":"IF(N681=\"\",\"\",VLOOKUP(N681,Ville!$A$3:$E$40,4,0))","v":"p"},0,{"$f":"IF(N681=\"\",0,VLOOKUP(N681,Ville!$A$3:$E$40,3,0))","v":"00:00:00"},null,2,2,null,null,1,1,1,null,4,5,{"$f":"IF(N681=\"\",\"\",VLOOKUP(N681,Ville!$A$3:$E$40,2,0))","v":0},null,null,0,0,0,0,0,0,0,0,0,0,0,0,0,null,null,"","","",""]
[null,null,null,null,null,null,2012,{"$f":"IF(K682=\"\",\"\",VLOOKUP(I682,'Suiv Contr '!$D$14:$E$25,2))","v":"juillet"},7,null,"2012-07-12","Germain","Champagnole","Champagnole",null,null,{"$f":"IF(N682=\"\",\"\",VLOOKUP(N682,Ville!$A$3:$E$40,4,0))","v":"p"},0,{"$f":"IF(N682=\"\",0,VLOOKUP(N682,Ville!$A$3:$E$40,3,0))","v":"00:00:00"},null,1,null,null,null,null,null,null,null,1,1,{"$f":"IF(N682=\"\",\"\",VLOOKUP(N682,Ville!$A$3:$E$40,2,0))","v":0},null,null,0,0,0,0,0,0,0,0,0,0,0,0,0,null,null,"","","",""]
[null,null,null,null,null,null,2012,{"$f":"IF(K683=\"\",\"\",VLOOKUP(I683,'Suiv Contr '!$D$14:$E$25,2))","v":"juillet"},7,null,"2012-07-12","Germain","Cordesse","Cordesse",null,null,{"$f":"IF(N683=\"\",\"\",VLOOKUP(N683,Ville!$A$3:$E$40,4,0))","v":"ca"},0,{"$f":"IF(N683=\"\",0,VLOOKUP(N683,Ville!$A$3:$E$40,3,0))","v":"03:10:00"},null,11,null,null,null,3,2,null,null,{"$f":"U683+V683+W683+X683","v":11},{"$f":"AC683+Y683","v":14},{"$f":"IF(N683=\"\",\"\",VLOOKUP(N683,Ville!$A$3:$E$40,2,0))","v":340},null,null,0,0,0,0,0,0,0,0,0,0,0,0,0,null,null,"","","",1]
[null,null,null,null,null,null,2012,{"$f":"IF(K684=\"\",\"\",VLOOKUP(I684,'Suiv Contr '!$D$14:$E$25,2))","v":"juillet"},7,null,"2012-07-13","Germain","Champagnole","Champagnole",null,null,{"$f":"IF(N684=\"\",\"\",VLOOKUP(N684,Ville!$A$3:$E$40,4,0))","v":"p"},0,{"$f":"IF(N684=\"\",0,VLOOKUP(N684,Ville!$A$3:$E$40,3,0))","v":"00:00:00"},null,5,1,null,null,null,null,null,null,6,6,{"$f":"IF(N684=\"\",\"\",VLOOKUP(N684,Ville!$A$3:$E$40,2,0))","v":0},null,null,0,0,0,0,0,0,0,0,0,0,0,0,0,null,null,"","","",""]
[null,null,null,null,null,null,2012,{"$f":"IF(K685=\"\",\"\",VLOOKUP(I685,'Suiv Contr '!$D$14:$E$25,2))","v":"juillet"},7,null,"2012-07-16","Germain","Champagnole","Champagnole",null,null,{"$f":"IF(N685=\"\",\"\",VLOOKUP(N685,Ville!$A$3:$E$40,4,0))","v":"p"},0,{"$f":"IF(N685=\"\",0,VLOOKUP(N685,Ville!$A$3:$E$40,3,0))","v":"00:00:00"},null,4,1,null,null,null,null,null,null,5,5,{"$f":"IF(N685=\"\",\"\",VLOOKUP(N685,Ville!$A$3:$E$40,2,0))","v":0},null,null,0,0,0,0,0,0,0,0,0,0,0,0,0,null,null,"","","",""]
[null,null,null,null,null,null,2012,{"$f":"IF(K686=\"\",\"\",VLOOKUP(I686,'Suiv Contr '!$D$14:$E$25,2))","v":"juillet"},7,null,"2012-07-17","Germain","Champagnole","Champagnole",null,null,{"$f":"IF(N686=\"\",\"\",VLOOKUP(N686,Ville!$A$3:$E$40,4,0))","v":"p"},0,{"$f":"IF(N686=\"\",0,VLOOKUP(N686,Ville!$A$3:$E$40,3,0))","v":"00:00:00"},null,3,4,null,null,null,null,null,null,7,7,{"$f":"IF(N686=\"\",\"\",VLOOKUP(N686,Ville!$A$3:$E$40,2,0))","v":0},null,null,0,0,0,0,0,0,0,0,0,0,0,0,0,null,null,"","","",""]
[null,null,null,null,null,null,2012,{"$f":"IF(K687=\"\",\"\",VLOOKUP(I687,'Suiv Contr '!$D$14:$E$25,2))","v":"juillet"},7,null,"2012-07-18","Germain","Champagnole","Champagnole",null,null,{"$f":"IF(N687=\"\",\"\",VLOOKUP(N687,Ville!$A$3:$E$40,4,0))","v":"p"},0,{"$f":"IF(N687=\"\",0,VLOOKUP(N687,Ville!$A$3:$E$40,3,0))","v":"00:00:00"},null,4,null,null,null,null,null,null,null,4,4,{"$f":"IF(N687=\"\",\"\",VLOOKUP(N687,Ville!$A$3:$E$40,2,0))","v":0},null,null,0,0,0,0,0,0,0,0,0,0,0,0,0,null,null,"","","",""]
[null,null,null,null,null,null,2012,{"$f":"IF(K688=\"\",\"\",VLOOKUP(I688,'Suiv Contr '!$D$14:$E$25,2))","v":"juillet"},7,null,"2012-07-19","Germain","Champagnole","Champagnole",null,null,{"$f":"IF(N688=\"\",\"\",VLOOKUP(N688,Ville!$A$3:$E$40,4,0))","v":"p"},0,{"$f":"IF(N688=\"\",0,VLOOKUP(N688,Ville!$A$3:$E$40,3,0))","v":"00:00:00"},null,4,4,null,null,2,null,null,null,8,10,{"$f":"IF(N688=\"\",\"\",VLOOKUP(N688,Ville!$A$3:$E$40,2,0))","v":0},null,null,0,0,0,0,0,0,0,0,0,0,0,0,0,null,null,"","","",""]
[null,null,null,null,null,null,2012,{"$f":"IF(K689=\"\",\"\",VLOOKUP(I689,'Suiv Contr '!$D$14:$E$25,2))","v":"juillet"},7,null,"2012-07-20","Germain","Thann","Thann",null,null,{"$f":"IF(N689=\"\",\"\",VLOOKUP(N689,Ville!$A$3:$E$40,4,0))","v":"ca"},0,{"$f":"IF(N689=\"\",0,VLOOKUP(N689,Ville!$A$3:$E$40,3,0))","v":"04:30:00"},null,2,null,2,null,null,null,1,null,4,4,{"$f":"IF(N689=\"\",\"\",VLOOKUP(N689,Ville!$A$3:$E$40,2,0))","v":402},"gaz +drire",null,0,0,0,0,0,0,0,0,0,0,0,0,0,null,null,"","","",1]
[null,null,null,null,null,null,2012,{"$f":"IF(K690=\"\",\"\",VLOOKUP(I690,'Suiv Contr '!$D$14:$E$25,2))","v":"juillet"},7,null,"2012-07-23","Germain","Besançon iax","Besançon iax",null,null,{"$f":"IF(N690=\"\",\"\",VLOOKUP(N690,Ville!$A$3:$E$40,4,0))","v":"ca"},0,{"$f":"IF(N690=\"\",0,VLOOKUP(N690,Ville!$A$3:$E$40,3,0))","v":"01:50:00"},null,3,null,null,null,null,null,null,null,3,3,{"$f":"IF(N690=\"\",\"\",VLOOKUP(N690,Ville!$A$3:$E$40,2,0))","v":132},null,null,0,0,0,0,0,0,0,0,0,0,0,0,0,null,null,"","","",1]
[null,null,null,null,null,null,2012,{"$f":"IF(K691=\"\",\"\",VLOOKUP(I691,'Suiv Contr '!$D$14:$E$25,2))","v":"juillet"},7,null,"2012-07-24","Germain","Champagnole","Champagnole",null,null,{"$f":"IF(N691=\"\",\"\",VLOOKUP(N691,Ville!$A$3:$E$40,4,0))","v":"p"},0,{"$f":"IF(N691=\"\",0,VLOOKUP(N691,Ville!$A$3:$E$40,3,0))","v":"00:00:00"},null,7,null,2,null,null,2,3,null,9,9,{"$f":"IF(N691=\"\",\"\",VLOOKUP(N691,Ville!$A$3:$E$40,2,0))","v":0},"drire",null,0,0,0,0,0,0,0,0,0,0,0,0,0,null,null,"","","",""]
[null,null,null,null,null,null,2012,{"$f":"IF(K692=\"\",\"\",VLOOKUP(I692,'Suiv Contr '!$D$14:$E$25,2))","v":"juillet"},7,null,"2012-07-25","Germain",{"$f":"N692","v":"Champagnole"},"Champagnole",null,null,{"$f":"IF(N692=\"\",\"\",VLOOKUP(N692,Ville!$A$3:$E$40,4,0))","v":"p"},0,{"$f":"IF(N692=\"\",0,VLOOKUP(N692,Ville!$A$3:$E$40,3,0))","v":"00:00:00"},null,6,null,null,null,2,null,null,1,6,8,{"$f":"IF(N692=\"\",\"\",VLOOKUP(N692,Ville!$A$3:$E$40,2,0))","v":0},null,null,0,0,0,0,0,0,0,0,0,0,0,0,0,null,null,"","","",{"$f":"IF(OR(N692=\"champagnole\",N692=\"\"),\"\",1)","v":""}]
[null,null,null,null,null,null,2012,{"$f":"IF(K693=\"\",\"\",VLOOKUP(I693,'Suiv Contr '!$D$14:$E$25,2))","v":"juillet"},7,null,"2012-07-26","Germain",{"$f":"N693","v":"Champagnole"},"Champagnole",null,null,{"$f":"IF(N693=\"\",\"\",VLOOKUP(N693,Ville!$A$3:$E$40,4,0))","v":"p"},0,{"$f":"IF(N693=\"\",0,VLOOKUP(N693,Ville!$A$3:$E$40,3,0))","v":"00:00:00"},null,5,2,null,null,1,null,null,null,7,8,{"$f":"IF(N693=\"\",\"\",VLOOKUP(N693,Ville!$A$3:$E$40,2,0))","v":0},null,null,0,0,0,0,0,0,0,0,0,0,0,0,0,null,null,"","","",{"$f":"IF(OR(N693=\"champagnole\",N693=\"\"),\"\",1)","v":""}]
[null,null,null,null,null,null,2012,{"$f":"IF(K694=\"\",\"\",VLOOKUP(I694,'Suiv Contr '!$D$14:$E$25,2))","v":"juillet"},7,null,"2012-07-27","Germain","Champagnole","Champagnole",null,null,{"$f":"IF(N694=\"\",\"\",VLOOKUP(N694,Ville!$A$3:$E$40,4,0))","v":"p"},0,{"$f":"IF(N694=\"\",0,VLOOKUP(N694,Ville!$A$3:$E$40,3,0))","v":"00:00:00"},null,null,1,null,null,1,null,null,null,1,2,{"$f":"IF(N694=\"\",\"\",VLOOKUP(N694,Ville!$A$3:$E$40,2,0))","v":0},null,null,0,0,0,0,0,0,0,0,0,0,0,0,0,null,null,"","","",""]
[null,null,null,null,null,null,2012,{"$f":"IF(K695=\"\",\"\",VLOOKUP(I695,'Suiv Contr '!$D$14:$E$25,2))","v":"juillet"},7,null,"2012-07-30","Germain","Champagnole","Champagnole",null,null,{"$f":"IF(N695=\"\",\"\",VLOOKUP(N695,Ville!$A$3:$E$40,4,0))","v":"p"},0,{"$f":"IF(N695=\"\",0,VLOOKUP(N695,Ville!$A$3:$E$40,3,0))","v":"00:00:00"},null,4,2,1,null,null,null,null,null,7,7,{"$f":"IF(N695=\"\",\"\",VLOOKUP(N695,Ville!$A$3:$E$40,2,0))","v":0},null,null,0,0,0,0,0,0,0,0,0,0,0,0,0,null,null,"","","",""]
[null,null,null,null,null,null,2012,{"$f":"IF(K696=\"\",\"\",VLOOKUP(I696,'Suiv Contr '!$D$14:$E$25,2))","v":"juillet"},7,null,"2012-07-31","Germain","Champagnole","Champagnole",null,null,{"$f":"IF(N696=\"\",\"\",VLOOKUP(N696,Ville!$A$3:$E$40,4,0))","v":"p"},0,{"$f":"IF(N696=\"\",0,VLOOKUP(N696,Ville!$A$3:$E$40,3,0))","v":"00:00:00"},null,3,2,null,null,null,null,null,null,5,5,{"$f":"IF(N696=\"\",\"\",VLOOKUP(N696,Ville!$A$3:$E$40,2,0))","v":0},null,null,0,0,0,0,0,0,0,0,0,0,0,0,0,null,null,"","","",""]
[null,null,null,null,null,null,2012,{"$f":"IF(K697=\"\",\"\",VLOOKUP(I697,'Suiv Contr '!$D$14:$E$25,2))","v":"août"},8,null,"2012-08-01","Germain","Champagnole","Champagnole",null,null,{"$f":"IF(N697=\"\",\"\",VLOOKUP(N697,Ville!$A$3:$E$40,4,0))","v":"p"},{"$f":"IF(Q697=\"v\",1,0)","v":0},{"$f":"IF(N697=\"\",0,VLOOKUP(N697,Ville!$A$3:$E$40,3,0))","v":"00:00:00"},null,4,4,null,null,null,null,null,null,8,8,{"$f":"IF(N697=\"\",\"\",VLOOKUP(N697,Ville!$A$3:$E$40,2,0))","v":0},null,null,0,0,0,0,0,0,0,0,0,0,0,0,0,null,null,"","","",""]
[null,null,null,null,null,null,2012,{"$f":"IF(K698=\"\",\"\",VLOOKUP(I698,'Suiv Contr '!$D$14:$E$25,2))","v":"août"},8,null,"2012-08-02","Germain","Champagnole","Champagnole",null,null,{"$f":"IF(N698=\"\",\"\",VLOOKUP(N698,Ville!$A$3:$E$40,4,0))","v":"p"},0,{"$f":"IF(N698=\"\",0,VLOOKUP(N698,Ville!$A$3:$E$40,3,0))","v":"00:00:00"},null,3,3,null,null,null,1,null,null,6,6,{"$f":"IF(N698=\"\",\"\",VLOOKUP(N698,Ville!$A$3:$E$40,2,0))","v":0},null,null,0,0,0,0,0,0,0,0,0,0,0,0,0,null,null,"","","",""]
[null,null,null,null,null,null,2012,{"$f":"IF(K699=\"\",\"\",VLOOKUP(I699,'Suiv Contr '!$D$14:$E$25,2))","v":"août"},8,null,"2012-08-03","Germain","Champagnole","Champagnole",null,null,{"$f":"IF(N699=\"\",\"\",VLOOKUP(N699,Ville!$A$3:$E$40,4,0))","v":"p"},0,{"$f":"IF(N699=\"\",0,VLOOKUP(N699,Ville!$A$3:$E$40,3,0))","v":"00:00:00"},null,1,4,null,null,null,null,null,null,5,5,{"$f":"IF(N699=\"\",\"\",VLOOKUP(N699,Ville!$A$3:$E$40,2,0))","v":0},null,null,0,0,0,0,0,0,0,0,0,0,0,0,0,null,null,"","","",""]
[null,null,null,null,null,null,2012,{"$f":"IF(K700=\"\",\"\",VLOOKUP(I700,'Suiv Contr '!$D$14:$E$25,2))","v":"août"},8,null,"2012-08-06","Germain","Meythet","Meythet",null,null,{"$f":"IF(N700=\"\",\"\",VLOOKUP(N700,Ville!$A$3:$E$40,4,0))","v":"ca"},0,{"$f":"IF(N700=\"\",0,VLOOKUP(N700,Ville!$A$3:$E$40,3,0))","v":"04:20:00"},null,6,1,null,null,null,1,null,null,7,7,{"$f":"IF(N700=\"\",\"\",VLOOKUP(N700,Ville!$A$3:$E$40,2,0))","v":298},null,null,0,0,0,0,0,0,0,0,0,0,0,0,0,null,null,"","","",1]
[null,null,null,null,null,null,2012,{"$f":"IF(K701=\"\",\"\",VLOOKUP(I701,'Suiv Contr '!$D$14:$E$25,2))","v":"août"},8,null,"2012-08-07","Germain","Champagnole","Champagnole",null,null,{"$f":"IF(N701=\"\",\"\",VLOOKUP(N701,Ville!$A$3:$E$40,4,0))","v":"p"},0,{"$f":"IF(N701=\"\",0,VLOOKUP(N701,Ville!$A$3:$E$40,3,0))","v":"00:00:00"},null,7,2,null,null,null,1,null,null,9,9,{"$f":"IF(N701=\"\",\"\",VLOOKUP(N701,Ville!$A$3:$E$40,2,0))","v":0},null,null,0,0,0,0,0,0,0,0,0,0,0,0,0,null,null,"","","",""]
[null,null,null,null,null,null,2012,{"$f":"IF(K702=\"\",\"\",VLOOKUP(I702,'Suiv Contr '!$D$14:$E$25,2))","v":"août"},8,null,"2012-08-08","Germain","Champagnole","Champagnole",null,null,{"$f":"IF(N702=\"\",\"\",VLOOKUP(N702,Ville!$A$3:$E$40,4,0))","v":"p"},0,{"$f":"IF(N702=\"\",0,VLOOKUP(N702,Ville!$A$3:$E$40,3,0))","v":"00:00:00"},null,1,2,null,null,null,null,null,null,3,3,{"$f":"IF(N702=\"\",\"\",VLOOKUP(N702,Ville!$A$3:$E$40,2,0))","v":0},null,null,0,0,0,0,0,0,0,0,0,0,0,0,0,null,null,"","","",""]
[null,null,null,null,null,null,2012,{"$f":"IF(K703=\"\",\"\",VLOOKUP(I703,'Suiv Contr '!$D$14:$E$25,2))","v":"août"},8,null,"2012-08-09","Germain","Champagnole","Champagnole",null,null,{"$f":"IF(N703=\"\",\"\",VLOOKUP(N703,Ville!$A$3:$E$40,4,0))","v":"p"},0,{"$f":"IF(N703=\"\",0,VLOOKUP(N703,Ville!$A$3:$E$40,3,0))","v":"00:00:00"},null,4,2,null,null,null,null,null,1,6,6,{"$f":"IF(N703=\"\",\"\",VLOOKUP(N703,Ville!$A$3:$E$40,2,0))","v":0},null,null,0,0,0,0,0,0,0,0,0,0,0,0,0,null,null,"","","",""]
[null,null,null,null,null,null,2012,{"$f":"IF(K704=\"\",\"\",VLOOKUP(I704,'Suiv Contr '!$D$14:$E$25,2))","v":"août"},8,null,"2012-08-10","Germain","Champagnole","Champagnole",null,null,{"$f":"IF(N704=\"\",\"\",VLOOKUP(N704,Ville!$A$3:$E$40,4,0))","v":"p"},0,{"$f":"IF(N704=\"\",0,VLOOKUP(N704,Ville!$A$3:$E$40,3,0))","v":"00:00:00"},null,2,3,null,null,null,null,null,null,5,5,{"$f":"IF(N704=\"\",\"\",VLOOKUP(N704,Ville!$A$3:$E$40,2,0))","v":0},null,null,0,0,0,0,0,0,0,0,0,0,0,0,0,null,null,"","","",""]
[null,null,null,null,null,null,2012,{"$f":"IF(K705=\"\",\"\",VLOOKUP(I705,'Suiv Contr '!$D$14:$E$25,2))","v":"août"},8,null,"2012-08-13","Germain","00:00:00",null,null,null,"v",1,null,null,null,null,null,null,null,null,null,null,null,null,{"$f":"IF(N705=\"\",\"\",VLOOKUP(N705,Ville!$A$3:$E$40,2,0))","v":""},null,null,0,0,0,0,0,0,0,0,0,0,0,0,0,null,null,"",3,"",""]
[null,null,null,null,null,null,2012,{"$f":"IF(K706=\"\",\"\",VLOOKUP(I706,'Suiv Contr '!$D$14:$E$25,2))","v":"août"},8,null,"2012-08-14","Germain","00:00:00",null,null,null,"v",1,null,null,null,null,null,null,null,null,null,null,null,null,{"$f":"IF(N706=\"\",\"\",VLOOKUP(N706,Ville!$A$3:$E$40,2,0))","v":""},null,null,0,0,0,0,0,0,0,0,0,0,0,0,0,null,null,"",3,"",""]
[null,null,null,null,null,null,2012,{"$f":"IF(K707=\"\",\"\",VLOOKUP(I707,'Suiv Contr '!$D$14:$E$25,2))","v":"août"},8,null,"2012-08-16","Germain","00:00:00",null,null,null,"v",1,null,null,null,null,null,null,null,null,null,null,null,null,{"$f":"IF(N707=\"\",\"\",VLOOKUP(N707,Ville!$A$3:$E$40,2,0))","v":""},null,null,0,0,0,0,0,0,0,0,0,0,0,0,0,null,null,"",3,"",""]
[null,null,null,null,null,null,2012,{"$f":"IF(K708=\"\",\"\",VLOOKUP(I708,'Suiv Contr '!$D$14:$E$25,2))","v":"août"},8,null,"2012-08-16","Dufour","Champagnole","Champagnole",null,null,"ex",0,null,null,3,1,null,1,null,1,null,null,5,5,null,null,null,0,0,0,0,0,0,0,0,0,0,0,0,0,null,null,"","","",""]
[null,null,null,null,null,null,2012,{"$f":"IF(K709=\"\",\"\",VLOOKUP(I709,'Suiv Contr '!$D$14:$E$25,2))","v":"août"},8,null,"2012-08-17","Germain","00:00:00",null,null,null,"v",1,null,null,null,null,null,null,null,null,null,null,null,null,null,null,null,0,0,0,0,0,0,0,0,0,0,0,0,0,null,null,"",3,"",""]
[null,null,null,null,null,null,2012,{"$f":"IF(K710=\"\",\"\",VLOOKUP(I710,'Suiv Contr '!$D$14:$E$25,2))","v":"août"},8,null,"2012-08-17","Dufour","Champagnole","Champagnole",null,null,"ex",0,null,null,2,2,null,null,1,1,null,null,4,5,null,null,null,0,0,0,0,0,0,0,0,0,0,0,0,0,null,null,"","","",""]
[null,null,null,null,null,null,2012,{"$f":"IF(K711=\"\",\"\",VLOOKUP(I711,'Suiv Contr '!$D$14:$E$25,2))","v":"août"},8,null,"2012-08-20","Germain","00:00:00",null,null,null,"v",1,null,null,null,null,null,null,null,null,null,null,null,null,{"$f":"IF(N711=\"\",\"\",VLOOKUP(N711,Ville!$A$3:$E$40,2,0))","v":""},null,null,0,0,0,0,0,0,0,0,0,0,0,0,0,null,null,"",3,"",""]
[null,null,null,null,null,null,2012,{"$f":"IF(K712=\"\",\"\",VLOOKUP(I712,'Suiv Contr '!$D$14:$E$25,2))","v":"août"},8,null,"2012-08-21","Germain","00:00:00",null,null,null,"v",1,null,null,null,null,null,null,null,null,null,null,null,null,{"$f":"IF(N712=\"\",\"\",VLOOKUP(N712,Ville!$A$3:$E$40,2,0))","v":""},null,null,0,0,0,0,0,0,0,0,0,0,0,0,0,null,null,"",3,"",""]
[null,null,null,null,null,null,2012,{"$f":"IF(K713=\"\",\"\",VLOOKUP(I713,'Suiv Contr '!$D$14:$E$25,2))","v":"août"},8,null,"2012-08-22","Germain","00:00:00",null,null,null,"v",1,null,null,null,null,null,null,null,null,null,null,null,null,{"$f":"IF(N713=\"\",\"\",VLOOKUP(N713,Ville!$A$3:$E$40,2,0))","v":""},null,null,0,0,0,0,0,0,0,0,0,0,0,0,0,null,null,"",{"$f":"IF(Q713=\"v\",3,\"\")","v":3},{"$f":"IF(Q713=\"rec\",2,\"\")","v":""},""]
[null,null,null,null,null,null,2012,{"$f":"IF(K714=\"\",\"\",VLOOKUP(I714,'Suiv Contr '!$D$14:$E$25,2))","v":"août"},8,null,"2012-08-23","Germain","00:00:00",null,null,null,"v",1,null,null,null,null,null,null,null,null,null,null,null,null,{"$f":"IF(N714=\"\",\"\",VLOOKUP(N714,Ville!$A$3:$E$40,2,0))","v":""},null,null,0,0,0,0,0,0,0,0,0,0,0,0,0,null,null,"",3,"",""]
[null,null,null,null,null,null,2012,{"$f":"IF(K715=\"\",\"\",VLOOKUP(I715,'Suiv Contr '!$D$14:$E$25,2))","v":"août"},8,null,"2012-08-23"," Rollin","Champagnole","Champagnole",null,null,"ex",0,{"$f":"IF(N715=\"\",0,VLOOKUP(N715,Ville!$A$3:$E$40,3,0))","v":"00:00:00"},null,3,8,null,1,null,1,2,null,12,12,{"$f":"IF(N715=\"\",\"\",VLOOKUP(N715,Ville!$A$3:$E$40,2,0))","v":0},null,null,0,0,0,0,0,0,0,0,0,0,0,0,0,null,null,"","","",""]
[null,null,null,null,null,null,2012,{"$f":"IF(K716=\"\",\"\",VLOOKUP(I716,'Suiv Contr '!$D$14:$E$25,2))","v":"août"},8,null,"2012-08-24","Germain","00:00:00",null,null,null,"v",{"$f":"IF(Q716=\"v\",1,0)","v":1},null,null,null,null,null,null,null,null,null,null,null,null,{"$f":"IF(N716=\"\",\"\",VLOOKUP(N716,Ville!$A$3:$E$40,2,0))","v":""},null,null,0,0,0,0,0,0,0,0,0,0,0,0,0,null,null,"",3,"",""]
[null,null,null,null,null,null,2012,{"$f":"IF(K717=\"\",\"\",VLOOKUP(I717,'Suiv Contr '!$D$14:$E$25,2))","v":"août"},8,null,"2012-08-27","Germain",{"$f":"N717","v":"00:00:00"},null,null,null,"v",1,null,null,null,null,null,null,null,null,null,null,null,null,null,null,null,0,0,0,0,0,0,0,0,0,0,0,0,0,null,null,"",3,"",""]
[null,null,null,null,null,null,2012,{"$f":"IF(K718=\"\",\"\",VLOOKUP(I718,'Suiv Contr '!$D$14:$E$25,2))","v":"août"},8,null,"2012-08-28","Germain",{"$f":"N718","v":"00:00:00"},null,null,null,"v",{"$f":"IF(Q718=\"v\",1,0)","v":1},null,null,null,null,null,null,null,null,null,null,null,null,null,null,null,0,0,0,0,0,0,0,0,0,0,0,0,0,null,null,"",3,"",""]
[null,null,null,null,null,null,2012,{"$f":"IF(K719=\"\",\"\",VLOOKUP(I719,'Suiv Contr '!$D$14:$E$25,2))","v":"août"},8,null,"2012-08-29","Germain",{"$f":"N719","v":"00:00:00"},null,null,null,"v",{"$f":"IF(Q719=\"v\",1,0)","v":1},null,null,null,null,null,null,null,null,null,null,null,null,null,null,null,0,0,0,0,0,0,0,0,0,0,0,0,0,null,null,"",3,"",""]
[null,null,null,null,null,null,2012,{"$f":"IF(K720=\"\",\"\",VLOOKUP(I720,'Suiv Contr '!$D$14:$E$25,2))","v":"août"},8,null,"2012-08-30","Germain","00:00:00",null,null,null,"v",{"$f":"IF(Q720=\"v\",1,0)","v":1},null,null,null,null,null,null,null,null,null,null,null,null,null,null,null,0,0,0,0,0,0,0,0,0,0,0,0,0,null,null,"",3,"",""]
[null,null,null,null,null,null,2012,{"$f":"IF(K721=\"\",\"\",VLOOKUP(I721,'Suiv Contr '!$D$14:$E$25,2))","v":"août"},8,null,"2012-08-30","Fromager","Champagnole","Champagnole",null,null,"ex",0,{"$f":"IF(N721=\"\",0,VLOOKUP(N721,Ville!$A$3:$E$40,3,0))","v":"00:00:00"},null,3,8,null,null,null,1,null,null,11,11,{"$f":"IF(N721=\"\",\"\",VLOOKUP(N721,Ville!$A$3:$E$40,2,0))","v":0},null,null,0,0,0,0,0,0,0,0,0,0,0,0,0,null,null,"","","",""]
[null,null,null,null,null,null,2012,{"$f":"IF(K722=\"\",\"\",VLOOKUP(I722,'Suiv Contr '!$D$14:$E$25,2))","v":"août"},8,null,"2012-08-31","Germain","00:00:00",null,null,null,"v",1,null,null,null,null,null,null,null,null,null,null,null,null,null,null,null,0,0,0,0,0,0,0,0,0,0,0,0,0,null,null,"",3,"",""]
[null,null,null,null,null,null,2012,{"$f":"IF(K723=\"\",\"\",VLOOKUP(I723,'Suiv Contr '!$D$14:$E$25,2))","v":"septembre"},9,null,"2012-09-03","Germain","Champagnole","Champagnole",null,null,{"$f":"IF(N723=\"\",\"\",VLOOKUP(N723,Ville!$A$3:$E$40,4,0))","v":"p"},0,{"$f":"IF(N723=\"\",0,VLOOKUP(N723,Ville!$A$3:$E$40,3,0))","v":"00:00:00"},null,2,2,null,null,null,1,null,1,4,4,{"$f":"IF(N723=\"\",\"\",VLOOKUP(N723,Ville!$A$3:$E$40,2,0))","v":0},null,null,0,0,0,0,0,0,0,0,0,0,0,0,{"$f":"SUM(AH723:AS723)","v":0},null,null,"","","",""]
[null,null,null,null,null,null,2012,{"$f":"IF(K724=\"\",\"\",VLOOKUP(I724,'Suiv Contr '!$D$14:$E$25,2))","v":"septembre"},9,null,"2012-09-04","Germain","Champagnole","Champagnole",null,null,{"$f":"IF(N724=\"\",\"\",VLOOKUP(N724,Ville!$A$3:$E$40,4,0))","v":"p"},0,{"$f":"IF(N724=\"\",0,VLOOKUP(N724,Ville!$A$3:$E$40,3,0))","v":"00:00:00"},null,8,null,null,null,null,null,1,null,8,8,{"$f":"IF(N724=\"\",\"\",VLOOKUP(N724,Ville!$A$3:$E$40,2,0))","v":0},null,null,0,0,0,0,0,0,0,0,0,0,0,0,0,null,null,"","","",""]
[null,null,null,null,null,null,2012,{"$f":"IF(K725=\"\",\"\",VLOOKUP(I725,'Suiv Contr '!$D$14:$E$25,2))","v":"septembre"},9,null,"2012-09-05","Germain","Champagnole","Champagnole",null,null,{"$f":"IF(N725=\"\",\"\",VLOOKUP(N725,Ville!$A$3:$E$40,4,0))","v":"p"},0,{"$f":"IF(N725=\"\",0,VLOOKUP(N725,Ville!$A$3:$E$40,3,0))","v":"00:00:00"},null,1,null,null,null,1,null,null,null,1,2,{"$f":"IF(N725=\"\",\"\",VLOOKUP(N725,Ville!$A$3:$E$40,2,0))","v":0},null,null,0,0,0,0,0,0,0,0,0,0,0,0,0,null,null,"","","",""]
[null,null,null,null,null,null,2012,{"$f":"IF(K726=\"\",\"\",VLOOKUP(I726,'Suiv Contr '!$D$14:$E$25,2))","v":"septembre"},9,null,"2012-09-06","Germain","Champagnole","Champagnole",null,null,{"$f":"IF(N726=\"\",\"\",VLOOKUP(N726,Ville!$A$3:$E$40,4,0))","v":"p"},0,{"$f":"IF(N726=\"\",0,VLOOKUP(N726,Ville!$A$3:$E$40,3,0))","v":"00:00:00"},null,4,1,null,null,null,null,1,null,5,5,{"$f":"IF(N726=\"\",\"\",VLOOKUP(N726,Ville!$A$3:$E$40,2,0))","v":0},null,null,0,0,0,0,0,0,0,0,0,0,0,0,0,null,null,"","","",""]
[null,null,null,null,null,null,{"$f":"IF(K727=\"\",\"\",YEAR(K727))","v":2012},{"$f":"IF(K727=\"\",\"\",VLOOKUP(I727,'Suiv Contr '!$D$14:$E$25,2))","v":"septembre"},{"$f":"IF(K727=\"\",\"\",MONTH(K727))","v":9},null,"2012-09-07","Germain","Champagnole","Champagnole",null,null,{"$f":"IF(N727=\"\",\"\",VLOOKUP(N727,Ville!$A$3:$E$40,4,0))","v":"p"},0,{"$f":"IF(N727=\"\",0,VLOOKUP(N727,Ville!$A$3:$E$40,3,0))","v":"00:00:00"},null,1,4,null,null,2,null,null,null,5,7,{"$f":"IF(N727=\"\",\"\",VLOOKUP(N727,Ville!$A$3:$E$40,2,0))","v":0},null,null,0,0,0,0,0,0,0,0,0,0,0,0,0,null,null,{"$f":"IF(K727=$B$2,1,\"\")","v":""},"","",""]
[null,null,null,null,null,null,2012,{"$f":"IF(K728=\"\",\"\",VLOOKUP(I728,'Suiv Contr '!$D$14:$E$25,2))","v":"septembre"},9,null,"2012-09-10","Germain","Champagnole","Champagnole",null,null,{"$f":"IF(N728=\"\",\"\",VLOOKUP(N728,Ville!$A$3:$E$40,4,0))","v":"p"},0,{"$f":"IF(N728=\"\",0,VLOOKUP(N728,Ville!$A$3:$E$40,3,0))","v":"00:00:00"},null,3,null,null,null,null,null,null,null,3,3,{"$f":"IF(N728=\"\",\"\",VLOOKUP(N728,Ville!$A$3:$E$40,2,0))","v":0},null,null,0,0,0,0,0,0,0,0,0,0,0,0,0,null,null,"","","",""]
[null,null,null,null,null,null,2012,{"$f":"IF(K729=\"\",\"\",VLOOKUP(I729,'Suiv Contr '!$D$14:$E$25,2))","v":"septembre"},9,null,"2012-09-11","Germain","Champagnole","Champagnole",null,null,{"$f":"IF(N729=\"\",\"\",VLOOKUP(N729,Ville!$A$3:$E$40,4,0))","v":"p"},0,{"$f":"IF(N729=\"\",0,VLOOKUP(N729,Ville!$A$3:$E$40,3,0))","v":"00:00:00"},null,5,null,2,null,1,null,null,1,7,8,{"$f":"IF(N729=\"\",\"\",VLOOKUP(N729,Ville!$A$3:$E$40,2,0))","v":0},null,null,0,0,0,0,0,0,0,0,0,0,0,0,0,null,null,"","","",""]
[null,null,null,null,null,null,2012,{"$f":"IF(K730=\"\",\"\",VLOOKUP(I730,'Suiv Contr '!$D$14:$E$25,2))","v":"septembre"},9,null,"2012-09-12","Germain","Champagnole","Champagnole",null,null,{"$f":"IF(N730=\"\",\"\",VLOOKUP(N730,Ville!$A$3:$E$40,4,0))","v":"p"},0,{"$f":"IF(N730=\"\",0,VLOOKUP(N730,Ville!$A$3:$E$40,3,0))","v":"00:00:00"},null,12,1,null,null,null,null,null,null,13,13,{"$f":"IF(N730=\"\",\"\",VLOOKUP(N730,Ville!$A$3:$E$40,2,0))","v":0},null,null,0,0,0,0,0,0,0,0,0,0,0,0,0,null,null,"","","",{"$f":"IF(OR(N730=\"champagnole\",N730=\"\"),\"\",1)","v":""}]
[null,null,null,null,null,null,2012,{"$f":"IF(K731=\"\",\"\",VLOOKUP(I731,'Suiv Contr '!$D$14:$E$25,2))","v":"septembre"},9,null,"2012-09-13","Germain","Champagnole","Champagnole",null,null,{"$f":"IF(N731=\"\",\"\",VLOOKUP(N731,Ville!$A$3:$E$40,4,0))","v":"p"},0,{"$f":"IF(N731=\"\",0,VLOOKUP(N731,Ville!$A$3:$E$40,3,0))","v":"00:00:00"},null,3,1,null,null,null,null,null,null,4,4,{"$f":"IF(N731=\"\",\"\",VLOOKUP(N731,Ville!$A$3:$E$40,2,0))","v":0},null,null,0,0,0,0,0,0,0,0,0,0,0,0,0,null,null,"","","",""]
[null,null,null,null,null,null,2012,{"$f":"IF(K732=\"\",\"\",VLOOKUP(I732,'Suiv Contr '!$D$14:$E$25,2))","v":"septembre"},9,null,"2012-09-14","Germain","Thann","Thann",null,null,{"$f":"IF(N732=\"\",\"\",VLOOKUP(N732,Ville!$A$3:$E$40,4,0))","v":"ca"},0,{"$f":"IF(N732=\"\",0,VLOOKUP(N732,Ville!$A$3:$E$40,3,0))","v":"04:30:00"},null,5,1,2,null,null,1,null,null,8,8,{"$f":"IF(N732=\"\",\"\",VLOOKUP(N732,Ville!$A$3:$E$40,2,0))","v":402},null,null,0,0,0,0,0,0,0,0,0,0,0,0,0,null,null,"","","",1]
[null,null,null,null,null,null,2012,{"$f":"IF(K733=\"\",\"\",VLOOKUP(I733,'Suiv Contr '!$D$14:$E$25,2))","v":"septembre"},9,null,"2012-09-17","Germain","Meythet","Meythet",null,null,{"$f":"IF(N733=\"\",\"\",VLOOKUP(N733,Ville!$A$3:$E$40,4,0))","v":"ca"},0,{"$f":"IF(N733=\"\",0,VLOOKUP(N733,Ville!$A$3:$E$40,3,0))","v":"04:20:00"},null,6,null,null,null,null,null,null,null,{"$f":"U733+V733+W733+X733","v":6},{"$f":"AC733+Y733","v":6},{"$f":"IF(N733=\"\",\"\",VLOOKUP(N733,Ville!$A$3:$E$40,2,0))","v":298},null,null,0,0,0,0,0,0,0,0,0,0,0,0,0,null,null,"","","",1]
[null,null,null,null,null,null,2012,{"$f":"IF(K734=\"\",\"\",VLOOKUP(I734,'Suiv Contr '!$D$14:$E$25,2))","v":"septembre"},9,null,"2012-09-18","Germain","Villefranche","Villefranche",null,null,{"$f":"IF(N734=\"\",\"\",VLOOKUP(N734,Ville!$A$3:$E$40,4,0))","v":"sp"},0,{"$f":"IF(N734=\"\",0,VLOOKUP(N734,Ville!$A$3:$E$40,3,0))","v":"03:00:00"},null,7,3,null,null,2,2,null,null,10,12,{"$f":"IF(N734=\"\",\"\",VLOOKUP(N734,Ville!$A$3:$E$40,2,0))","v":390},null,null,0,0,0,0,0,0,0,0,0,0,0,0,0,null,null,"","","",1]
[null,null,null,null,null,null,2012,{"$f":"IF(K735=\"\",\"\",VLOOKUP(I735,'Suiv Contr '!$D$14:$E$25,2))","v":"septembre"},9,null,"2012-09-19","Germain","Champagnole","Champagnole",null,null,{"$f":"IF(N735=\"\",\"\",VLOOKUP(N735,Ville!$A$3:$E$40,4,0))","v":"p"},0,{"$f":"IF(N735=\"\",0,VLOOKUP(N735,Ville!$A$3:$E$40,3,0))","v":"00:00:00"},null,0,null,null,null,null,null,null,null,0,0,{"$f":"IF(N735=\"\",\"\",VLOOKUP(N735,Ville!$A$3:$E$40,2,0))","v":0},null,null,0,0,0,0,0,0,0,0,0,0,0,0,0,null,null,"","","",""]
[null,null,null,null,null,null,2012,{"$f":"IF(K736=\"\",\"\",VLOOKUP(I736,'Suiv Contr '!$D$14:$E$25,2))","v":"septembre"},9,null,"2012-09-20","Germain","Champagnole","Champagnole",null,null,{"$f":"IF(N736=\"\",\"\",VLOOKUP(N736,Ville!$A$3:$E$40,4,0))","v":"p"},0,{"$f":"IF(N736=\"\",0,VLOOKUP(N736,Ville!$A$3:$E$40,3,0))","v":"00:00:00"},null,8,1,null,null,1,null,null,1,9,10,{"$f":"IF(N736=\"\",\"\",VLOOKUP(N736,Ville!$A$3:$E$40,2,0))","v":0},null,null,0,0,0,0,0,0,0,0,0,0,0,0,0,null,null,"","","",""]
[null,null,null,null,null,null,2012,{"$f":"IF(K737=\"\",\"\",VLOOKUP(I737,'Suiv Contr '!$D$14:$E$25,2))","v":"septembre"},9,null,"2012-09-21","Germain","Champagnole","Champagnole",null,null,{"$f":"IF(N737=\"\",\"\",VLOOKUP(N737,Ville!$A$3:$E$40,4,0))","v":"p"},0,{"$f":"IF(N737=\"\",0,VLOOKUP(N737,Ville!$A$3:$E$40,3,0))","v":"00:00:00"},null,9,null,null,null,1,null,null,null,9,10,{"$f":"IF(N737=\"\",\"\",VLOOKUP(N737,Ville!$A$3:$E$40,2,0))","v":0},null,null,0,0,0,0,0,0,0,0,0,0,0,0,0,null,null,"","","",""]
[null,null,null,null,null,null,2012,{"$f":"IF(K738=\"\",\"\",VLOOKUP(I738,'Suiv Contr '!$D$14:$E$25,2))","v":"septembre"},9,null,"2012-09-24","Germain","Champagnole","Champagnole",null,null,{"$f":"IF(N738=\"\",\"\",VLOOKUP(N738,Ville!$A$3:$E$40,4,0))","v":"p"},0,{"$f":"IF(N738=\"\",0,VLOOKUP(N738,Ville!$A$3:$E$40,3,0))","v":"00:00:00"},null,8,1,null,null,null,null,null,2,9,9,{"$f":"IF(N738=\"\",\"\",VLOOKUP(N738,Ville!$A$3:$E$40,2,0))","v":0},null,null,0,0,0,0,0,0,0,0,0,0,0,0,0,null,null,"","","",""]
[null,null,null,null,null,null,2012,{"$f":"IF(K739=\"\",\"\",VLOOKUP(I739,'Suiv Contr '!$D$14:$E$25,2))","v":"septembre"},9,null,"2012-09-25","Germain","Champagnole","Champagnole",null,null,{"$f":"IF(N739=\"\",\"\",VLOOKUP(N739,Ville!$A$3:$E$40,4,0))","v":"p"},0,{"$f":"IF(N739=\"\",0,VLOOKUP(N739,Ville!$A$3:$E$40,3,0))","v":"00:00:00"},null,6,1,null,null,null,null,null,null,7,7,{"$f":"IF(N739=\"\",\"\",VLOOKUP(N739,Ville!$A$3:$E$40,2,0))","v":0},null,null,0,0,0,0,0,0,0,0,0,0,0,0,0,null,null,"","","",""]
[null,null,null,null,null,null,2012,{"$f":"IF(K740=\"\",\"\",VLOOKUP(I740,'Suiv Contr '!$D$14:$E$25,2))","v":"septembre"},9,null,"2012-09-26","Germain","Champagnole","Champagnole",null,null,{"$f":"IF(N740=\"\",\"\",VLOOKUP(N740,Ville!$A$3:$E$40,4,0))","v":"p"},0,{"$f":"IF(N740=\"\",0,VLOOKUP(N740,Ville!$A$3:$E$40,3,0))","v":"00:00:00"},null,6,null,null,null,null,null,null,null,6,6,{"$f":"IF(N740=\"\",\"\",VLOOKUP(N740,Ville!$A$3:$E$40,2,0))","v":0},null,null,0,0,0,0,0,0,0,0,0,0,0,0,0,null,null,"","","",""]
[null,null,null,null,null,null,2012,{"$f":"IF(K741=\"\",\"\",VLOOKUP(I741,'Suiv Contr '!$D$14:$E$25,2))","v":"septembre"},9,null,"2012-09-27","Germain","Champagnole","Champagnole",null,null,{"$f":"IF(N741=\"\",\"\",VLOOKUP(N741,Ville!$A$3:$E$40,4,0))","v":"p"},0,{"$f":"IF(N741=\"\",0,VLOOKUP(N741,Ville!$A$3:$E$40,3,0))","v":"00:00:00"},null,9,null,null,null,1,1,2,null,9,10,{"$f":"IF(N741=\"\",\"\",VLOOKUP(N741,Ville!$A$3:$E$40,2,0))","v":0},null,null,0,0,0,0,0,0,0,0,0,0,0,0,0,null,null,"","","",""]
[null,null,null,null,null,null,2012,{"$f":"IF(K742=\"\",\"\",VLOOKUP(I742,'Suiv Contr '!$D$14:$E$25,2))","v":"septembre"},9,null,"2012-09-28","Germain","Champagnole","Champagnole",null,null,{"$f":"IF(N742=\"\",\"\",VLOOKUP(N742,Ville!$A$3:$E$40,4,0))","v":"p"},0,{"$f":"IF(N742=\"\",0,VLOOKUP(N742,Ville!$A$3:$E$40,3,0))","v":"00:00:00"},null,4,null,null,null,null,null,null,null,4,4,{"$f":"IF(N742=\"\",\"\",VLOOKUP(N742,Ville!$A$3:$E$40,2,0))","v":0},null,null,0,0,0,0,0,0,0,0,0,0,0,0,0,null,null,"","","",""]
[null,null,null,null,null,null,2012,{"$f":"IF(K743=\"\",\"\",VLOOKUP(I743,'Suiv Contr '!$D$14:$E$25,2))","v":"octobre"},10,null,"2012-10-01","Germain","Champagnole","Champagnole",null,null,{"$f":"IF(N743=\"\",\"\",VLOOKUP(N743,Ville!$A$3:$E$40,4,0))","v":"p"},0,{"$f":"IF(N743=\"\",0,VLOOKUP(N743,Ville!$A$3:$E$40,3,0))","v":"00:00:00"},null,3,2,null,null,null,1,null,null,5,5,{"$f":"IF(N743=\"\",\"\",VLOOKUP(N743,Ville!$A$3:$E$40,2,0))","v":0},null,null,0,0,0,0,0,0,0,0,0,0,0,0,0,null,null,"","","",""]
[null,null,null,null,null,null,2012,{"$f":"IF(K744=\"\",\"\",VLOOKUP(I744,'Suiv Contr '!$D$14:$E$25,2))","v":"octobre"},10,null,"2012-10-02","Germain","Champagnole","Champagnole",null,null,{"$f":"IF(N744=\"\",\"\",VLOOKUP(N744,Ville!$A$3:$E$40,4,0))","v":"p"},0,{"$f":"IF(N744=\"\",0,VLOOKUP(N744,Ville!$A$3:$E$40,3,0))","v":"00:00:00"},null,3,null,null,null,null,null,null,null,3,3,{"$f":"IF(N744=\"\",\"\",VLOOKUP(N744,Ville!$A$3:$E$40,2,0))","v":0},null,null,0,0,0,0,0,0,0,0,0,0,0,0,0,null,null,"","","",""]
[null,null,null,null,null,null,2012,{"$f":"IF(K745=\"\",\"\",VLOOKUP(I745,'Suiv Contr '!$D$14:$E$25,2))","v":"octobre"},10,null,"2012-10-03","Germain","Champagnole","Champagnole",null,null,{"$f":"IF(N745=\"\",\"\",VLOOKUP(N745,Ville!$A$3:$E$40,4,0))","v":"p"},0,{"$f":"IF(N745=\"\",0,VLOOKUP(N745,Ville!$A$3:$E$40,3,0))","v":"00:00:00"},null,4,null,1,null,null,null,null,null,5,5,{"$f":"IF(N745=\"\",\"\",VLOOKUP(N745,Ville!$A$3:$E$40,2,0))","v":0},null,null,0,0,0,0,0,0,0,0,0,0,0,0,0,null,null,"","","",""]
[null,null,null,null,null,null,2012,{"$f":"IF(K746=\"\",\"\",VLOOKUP(I746,'Suiv Contr '!$D$14:$E$25,2))","v":"octobre"},10,null,"2012-10-04","Germain","Champagnole","Champagnole",null,null,{"$f":"IF(N746=\"\",\"\",VLOOKUP(N746,Ville!$A$3:$E$40,4,0))","v":"p"},0,{"$f":"IF(N746=\"\",0,VLOOKUP(N746,Ville!$A$3:$E$40,3,0))","v":"00:00:00"},null,5,null,null,null,null,null,null,null,5,5,{"$f":"IF(N746=\"\",\"\",VLOOKUP(N746,Ville!$A$3:$E$40,2,0))","v":0},null,null,0,0,0,0,0,0,0,0,0,0,0,0,0,null,null,"","","",""]
[null,null,null,null,null,null,2012,{"$f":"IF(K747=\"\",\"\",VLOOKUP(I747,'Suiv Contr '!$D$14:$E$25,2))","v":"octobre"},10,null,"2012-10-05","Germain","Champagnole","Champagnole",null,null,{"$f":"IF(N747=\"\",\"\",VLOOKUP(N747,Ville!$A$3:$E$40,4,0))","v":"p"},0,{"$f":"IF(N747=\"\",0,VLOOKUP(N747,Ville!$A$3:$E$40,3,0))","v":"00:00:00"},null,null,1,null,null,null,null,null,null,1,1,{"$f":"IF(N747=\"\",\"\",VLOOKUP(N747,Ville!$A$3:$E$40,2,0))","v":0},null,null,0,0,0,0,0,0,0,0,0,0,0,0,0,null,null,"","","",""]
[null,null,null,null,null,null,2012,{"$f":"IF(K748=\"\",\"\",VLOOKUP(I748,'Suiv Contr '!$D$14:$E$25,2))","v":"octobre"},10,null,"2012-10-08","Germain","Champagnole","Champagnole",null,null,{"$f":"IF(N748=\"\",\"\",VLOOKUP(N748,Ville!$A$3:$E$40,4,0))","v":"p"},0,{"$f":"IF(N748=\"\",0,VLOOKUP(N748,Ville!$A$3:$E$40,3,0))","v":"00:00:00"},null,2,1,null,null,null,1,null,1,3,3,{"$f":"IF(N748=\"\",\"\",VLOOKUP(N748,Ville!$A$3:$E$40,2,0))","v":0},"gaz",null,0,0,0,0,0,0,0,0,0,0,0,0,0,null,null,"","","",""]
[null,null,null,null,null,null,2012,{"$f":"IF(K749=\"\",\"\",VLOOKUP(I749,'Suiv Contr '!$D$14:$E$25,2))","v":"octobre"},10,null,"2012-10-09","Germain","Champagnole","Champagnole",null,null,{"$f":"IF(N749=\"\",\"\",VLOOKUP(N749,Ville!$A$3:$E$40,4,0))","v":"p"},0,{"$f":"IF(N749=\"\",0,VLOOKUP(N749,Ville!$A$3:$E$40,3,0))","v":"00:00:00"},null,10,null,null,null,1,null,null,1,10,11,{"$f":"IF(N749=\"\",\"\",VLOOKUP(N749,Ville!$A$3:$E$40,2,0))","v":0},null,null,0,0,0,0,0,0,0,0,0,0,0,0,0,null,null,"","","",""]
[null,null,null,null,null,null,2012,{"$f":"IF(K750=\"\",\"\",VLOOKUP(I750,'Suiv Contr '!$D$14:$E$25,2))","v":"octobre"},10,null,"2012-10-10","Germain","Champagnole","Champagnole",null,null,{"$f":"IF(N750=\"\",\"\",VLOOKUP(N750,Ville!$A$3:$E$40,4,0))","v":"p"},0,{"$f":"IF(N750=\"\",0,VLOOKUP(N750,Ville!$A$3:$E$40,3,0))","v":"00:00:00"},null,4,1,null,null,1,2,null,null,5,6,{"$f":"IF(N750=\"\",\"\",VLOOKUP(N750,Ville!$A$3:$E$40,2,0))","v":0},null,null,0,0,0,0,0,0,0,0,0,0,0,0,0,null,null,"","","",""]
[null,null,null,null,null,null,2012,{"$f":"IF(K751=\"\",\"\",VLOOKUP(I751,'Suiv Contr '!$D$14:$E$25,2))","v":"octobre"},10,null,"2012-10-11","Germain","Champagnole","Champagnole",null,null,{"$f":"IF(N751=\"\",\"\",VLOOKUP(N751,Ville!$A$3:$E$40,4,0))","v":"p"},0,{"$f":"IF(N751=\"\",0,VLOOKUP(N751,Ville!$A$3:$E$40,3,0))","v":"00:00:00"},null,3,null,null,null,null,null,null,null,3,3,{"$f":"IF(N751=\"\",\"\",VLOOKUP(N751,Ville!$A$3:$E$40,2,0))","v":0},null,null,0,0,0,0,0,0,0,0,0,0,0,0,0,null,null,"","","",""]
[null,null,null,null,null,null,2012,{"$f":"IF(K752=\"\",\"\",VLOOKUP(I752,'Suiv Contr '!$D$14:$E$25,2))","v":"octobre"},10,null,"2012-10-12","Germain","Champagnole","Champagnole",null,null,{"$f":"IF(N752=\"\",\"\",VLOOKUP(N752,Ville!$A$3:$E$40,4,0))","v":"p"},0,{"$f":"IF(N752=\"\",0,VLOOKUP(N752,Ville!$A$3:$E$40,3,0))","v":"00:00:00"},null,8,null,1,null,null,null,null,null,9,9,{"$f":"IF(N752=\"\",\"\",VLOOKUP(N752,Ville!$A$3:$E$40,2,0))","v":0},null,null,0,0,0,0,0,0,0,0,0,0,0,0,0,null,null,"","","",""]
[null,null,null,null,null,null,2012,{"$f":"IF(K753=\"\",\"\",VLOOKUP(I753,'Suiv Contr '!$D$14:$E$25,2))","v":"octobre"},10,null,"2012-10-15","Germain","Champagnole","Champagnole",null,null,{"$f":"IF(N753=\"\",\"\",VLOOKUP(N753,Ville!$A$3:$E$40,4,0))","v":"p"},0,{"$f":"IF(N753=\"\",0,VLOOKUP(N753,Ville!$A$3:$E$40,3,0))","v":"00:00:00"},null,5,null,null,null,null,null,null,null,5,5,{"$f":"IF(N753=\"\",\"\",VLOOKUP(N753,Ville!$A$3:$E$40,2,0))","v":0},null,null,0,0,0,0,0,0,0,0,0,0,0,0,0,null,null,"","","",""]
[null,null,null,null,null,null,2012,{"$f":"IF(K754=\"\",\"\",VLOOKUP(I754,'Suiv Contr '!$D$14:$E$25,2))","v":"octobre"},10,null,"2012-10-16","Germain","Champagnole","Champagnole",null,null,{"$f":"IF(N754=\"\",\"\",VLOOKUP(N754,Ville!$A$3:$E$40,4,0))","v":"p"},0,{"$f":"IF(N754=\"\",0,VLOOKUP(N754,Ville!$A$3:$E$40,3,0))","v":"00:00:00"},null,6,null,null,null,null,null,null,null,6,6,{"$f":"IF(N754=\"\",\"\",VLOOKUP(N754,Ville!$A$3:$E$40,2,0))","v":0},null,null,0,0,0,0,0,0,0,0,0,0,0,0,0,null,null,"","","",""]
[null,null,null,null,null,null,2012,{"$f":"IF(K755=\"\",\"\",VLOOKUP(I755,'Suiv Contr '!$D$14:$E$25,2))","v":"octobre"},10,null,"2012-10-17","Germain","Thann","Thann",null,null,{"$f":"IF(N755=\"\",\"\",VLOOKUP(N755,Ville!$A$3:$E$40,4,0))","v":"ca"},0,{"$f":"IF(N755=\"\",0,VLOOKUP(N755,Ville!$A$3:$E$40,3,0))","v":"04:30:00"},null,4,null,3,null,null,null,null,null,7,7,{"$f":"IF(N755=\"\",\"\",VLOOKUP(N755,Ville!$A$3:$E$40,2,0))","v":402},null,null,0,0,0,0,0,0,0,0,0,0,0,0,0,null,null,"","","",1]
[null,null,null,null,null,null,2012,{"$f":"IF(K756=\"\",\"\",VLOOKUP(I756,'Suiv Contr '!$D$14:$E$25,2))","v":"octobre"},10,null,"2012-10-18","Germain","Champagnole","Champagnole",null,null,{"$f":"IF(N756=\"\",\"\",VLOOKUP(N756,Ville!$A$3:$E$40,4,0))","v":"p"},0,{"$f":"IF(N756=\"\",0,VLOOKUP(N756,Ville!$A$3:$E$40,3,0))","v":"00:00:00"},null,6,1,null,null,null,1,null,null,7,7,{"$f":"IF(N756=\"\",\"\",VLOOKUP(N756,Ville!$A$3:$E$40,2,0))","v":0},null,null,0,0,0,0,0,0,0,0,0,0,0,0,0,null,null,"","","",""]
[null,null,null,null,null,null,2012,{"$f":"IF(K757=\"\",\"\",VLOOKUP(I757,'Suiv Contr '!$D$14:$E$25,2))","v":"octobre"},10,null,"2012-10-19","Germain","Champagnole","Champagnole",null,null,{"$f":"IF(N757=\"\",\"\",VLOOKUP(N757,Ville!$A$3:$E$40,4,0))","v":"p"},0,{"$f":"IF(N757=\"\",0,VLOOKUP(N757,Ville!$A$3:$E$40,3,0))","v":"00:00:00"},null,2,2,null,null,null,null,null,null,4,4,{"$f":"IF(N757=\"\",\"\",VLOOKUP(N757,Ville!$A$3:$E$40,2,0))","v":0},null,null,0,0,0,0,0,0,0,0,0,0,0,0,0,null,null,"","","",""]
[null,null,null,null,null,null,2012,{"$f":"IF(K758=\"\",\"\",VLOOKUP(I758,'Suiv Contr '!$D$14:$E$25,2))","v":"octobre"},10,null,"2012-10-22","Germain","Champagnole","Champagnole",null,null,{"$f":"IF(N758=\"\",\"\",VLOOKUP(N758,Ville!$A$3:$E$40,4,0))","v":"p"},0,{"$f":"IF(N758=\"\",0,VLOOKUP(N758,Ville!$A$3:$E$40,3,0))","v":"00:00:00"},null,2,null,null,null,null,1,null,null,2,2,{"$f":"IF(N758=\"\",\"\",VLOOKUP(N758,Ville!$A$3:$E$40,2,0))","v":0},null,null,0,0,0,0,0,0,0,0,0,0,0,0,0,null,null,"","","",""]
[null,null,null,null,null,null,2012,{"$f":"IF(K759=\"\",\"\",VLOOKUP(I759,'Suiv Contr '!$D$14:$E$25,2))","v":"octobre"},10,null,"2012-10-23","Germain","Champagnole","Champagnole",null,null,{"$f":"IF(N759=\"\",\"\",VLOOKUP(N759,Ville!$A$3:$E$40,4,0))","v":"p"},0,{"$f":"IF(N759=\"\",0,VLOOKUP(N759,Ville!$A$3:$E$40,3,0))","v":"00:00:00"},null,0,null,null,null,null,null,null,null,0,0,{"$f":"IF(N759=\"\",\"\",VLOOKUP(N759,Ville!$A$3:$E$40,2,0))","v":0},null,null,0,0,0,0,0,0,0,0,0,0,0,0,0,null,null,"","","",""]
[null,null,null,null,null,null,2012,{"$f":"IF(K760=\"\",\"\",VLOOKUP(I760,'Suiv Contr '!$D$14:$E$25,2))","v":"octobre"},10,null,"2012-10-24","Germain","Champagnole","Champagnole",null,null,{"$f":"IF(N760=\"\",\"\",VLOOKUP(N760,Ville!$A$3:$E$40,4,0))","v":"p"},0,{"$f":"IF(N760=\"\",0,VLOOKUP(N760,Ville!$A$3:$E$40,3,0))","v":"00:00:00"},null,5,1,null,null,2,null,null,null,6,8,{"$f":"IF(N760=\"\",\"\",VLOOKUP(N760,Ville!$A$3:$E$40,2,0))","v":0},null,null,0,0,0,0,0,0,0,0,0,0,0,0,0,null,null,"","","",""]
[null,null,null,null,null,null,2012,{"$f":"IF(K761=\"\",\"\",VLOOKUP(I761,'Suiv Contr '!$D$14:$E$25,2))","v":"octobre"},10,null,"2012-10-25","Germain","Champagnole","Champagnole",null,null,{"$f":"IF(N761=\"\",\"\",VLOOKUP(N761,Ville!$A$3:$E$40,4,0))","v":"p"},{"$f":"IF(Q761=\"v\",1,0)","v":0},{"$f":"IF(N761=\"\",0,VLOOKUP(N761,Ville!$A$3:$E$40,3,0))","v":"00:00:00"},null,2,1,null,null,null,null,null,null,3,3,{"$f":"IF(N761=\"\",\"\",VLOOKUP(N761,Ville!$A$3:$E$40,2,0))","v":0},null,null,0,0,0,0,0,0,0,0,0,0,0,0,0,null,null,"","","",""]
[null,null,null,null,null,null,2012,{"$f":"IF(K762=\"\",\"\",VLOOKUP(I762,'Suiv Contr '!$D$14:$E$25,2))","v":"octobre"},10,null,"2012-10-26","Germain","Champagnole","Champagnole",null,null,{"$f":"IF(N762=\"\",\"\",VLOOKUP(N762,Ville!$A$3:$E$40,4,0))","v":"p"},0,{"$f":"IF(N762=\"\",0,VLOOKUP(N762,Ville!$A$3:$E$40,3,0))","v":"00:00:00"},null,6,null,null,null,null,1,null,null,6,6,{"$f":"IF(N762=\"\",\"\",VLOOKUP(N762,Ville!$A$3:$E$40,2,0))","v":0},null,null,0,0,0,0,0,0,0,0,0,0,0,0,0,null,null,"","","",""]
[null,null,null,null,null,null,2012,{"$f":"IF(K763=\"\",\"\",VLOOKUP(I763,'Suiv Contr '!$D$14:$E$25,2))","v":"octobre"},10,null,"2012-10-29","Germain","Meythet","Meythet",null,null,{"$f":"IF(N763=\"\",\"\",VLOOKUP(N763,Ville!$A$3:$E$40,4,0))","v":"ca"},0,{"$f":"IF(N763=\"\",0,VLOOKUP(N763,Ville!$A$3:$E$40,3,0))","v":"04:20:00"},null,3,null,null,null,null,null,null,null,3,3,{"$f":"IF(N763=\"\",\"\",VLOOKUP(N763,Ville!$A$3:$E$40,2,0))","v":298},"Panne banc",null,0,0,0,0,0,0,0,0,0,0,0,0,0,null,null,"","","",1]
[null,null,null,null,null,null,2012,{"$f":"IF(K764=\"\",\"\",VLOOKUP(I764,'Suiv Contr '!$D$14:$E$25,2))","v":"octobre"},10,null,"2012-10-30","Germain","Champagnole","Champagnole",null,null,{"$f":"IF(N764=\"\",\"\",VLOOKUP(N764,Ville!$A$3:$E$40,4,0))","v":"p"},0,{"$f":"IF(N764=\"\",0,VLOOKUP(N764,Ville!$A$3:$E$40,3,0))","v":"00:00:00"},null,null,1,null,null,null,null,null,null,1,1,{"$f":"IF(N764=\"\",\"\",VLOOKUP(N764,Ville!$A$3:$E$40,2,0))","v":0},null,null,0,0,0,0,0,0,0,0,0,0,0,0,0,null,null,"","","",""]
[null,null,null,null,null,null,2012,{"$f":"IF(K765=\"\",\"\",VLOOKUP(I765,'Suiv Contr '!$D$14:$E$25,2))","v":"octobre"},10,null,"2012-10-31","Germain","Champagnole","Champagnole",null,null,{"$f":"IF(N765=\"\",\"\",VLOOKUP(N765,Ville!$A$3:$E$40,4,0))","v":"p"},0,{"$f":"IF(N765=\"\",0,VLOOKUP(N765,Ville!$A$3:$E$40,3,0))","v":"00:00:00"},null,2,null,null,null,1,null,null,null,2,3,{"$f":"IF(N765=\"\",\"\",VLOOKUP(N765,Ville!$A$3:$E$40,2,0))","v":0},null,null,0,0,0,0,0,0,0,0,0,0,0,0,0,null,null,"","","",""]
[null,null,null,null,null,null,2012,{"$f":"IF(K766=\"\",\"\",VLOOKUP(I766,'Suiv Contr '!$D$14:$E$25,2))","v":"novembre"},11,null,"2012-11-05","Germain","Champagnole","Champagnole",null,null,{"$f":"IF(N766=\"\",\"\",VLOOKUP(N766,Ville!$A$3:$E$40,4,0))","v":"p"},0,{"$f":"IF(N766=\"\",0,VLOOKUP(N766,Ville!$A$3:$E$40,3,0))","v":"00:00:00"},null,1,null,null,null,null,null,null,null,1,1,{"$f":"IF(N766=\"\",\"\",VLOOKUP(N766,Ville!$A$3:$E$40,2,0))","v":0},null,null,0,0,0,0,0,0,0,0,0,0,0,0,0,null,null,"","","",""]
[null,null,null,null,null,null,2012,{"$f":"IF(K767=\"\",\"\",VLOOKUP(I767,'Suiv Contr '!$D$14:$E$25,2))","v":"novembre"},11,null,"2012-11-06","Germain","Saint Nabord","Saint Nabord",null,null,{"$f":"IF(N767=\"\",\"\",VLOOKUP(N767,Ville!$A$3:$E$40,4,0))","v":"sp"},0,{"$f":"IF(N767=\"\",0,VLOOKUP(N767,Ville!$A$3:$E$40,3,0))","v":"04:00:00"},null,null,null,null,null,null,null,null,null,0,0,{"$f":"IF(N767=\"\",\"\",VLOOKUP(N767,Ville!$A$3:$E$40,2,0))","v":384},null,null,0,0,0,0,0,0,0,0,0,0,0,0,0,null,null,"","","",1]
[null,null,null,null,null,null,2012,{"$f":"IF(K768=\"\",\"\",VLOOKUP(I768,'Suiv Contr '!$D$14:$E$25,2))","v":"novembre"},11,null,"2012-11-07","Germain","Champagnole","Champagnole",null,null,{"$f":"IF(N768=\"\",\"\",VLOOKUP(N768,Ville!$A$3:$E$40,4,0))","v":"p"},0,{"$f":"IF(N768=\"\",0,VLOOKUP(N768,Ville!$A$3:$E$40,3,0))","v":"00:00:00"},null,3,1,null,null,null,null,2,null,4,4,{"$f":"IF(N768=\"\",\"\",VLOOKUP(N768,Ville!$A$3:$E$40,2,0))","v":0},null,null,0,0,0,0,0,0,0,0,0,0,0,0,0,null,null,"","","",""]
[null,null,null,null,null,null,2012,{"$f":"IF(K769=\"\",\"\",VLOOKUP(I769,'Suiv Contr '!$D$14:$E$25,2))","v":"novembre"},11,null,"2012-11-08","Germain","Champagnole","Champagnole",null,null,{"$f":"IF(N769=\"\",\"\",VLOOKUP(N769,Ville!$A$3:$E$40,4,0))","v":"p"},0,{"$f":"IF(N769=\"\",0,VLOOKUP(N769,Ville!$A$3:$E$40,3,0))","v":"00:00:00"},null,5,null,null,null,null,null,null,null,5,5,{"$f":"IF(N769=\"\",\"\",VLOOKUP(N769,Ville!$A$3:$E$40,2,0))","v":0},null,null,0,0,0,0,0,0,0,0,0,0,0,0,0,null,null,"","","",""]
[null,null,null,null,null,null,2012,{"$f":"IF(K770=\"\",\"\",VLOOKUP(I770,'Suiv Contr '!$D$14:$E$25,2))","v":"novembre"},11,null,"2012-11-09","Germain","Champagnole","Champagnole",null,null,{"$f":"IF(N770=\"\",\"\",VLOOKUP(N770,Ville!$A$3:$E$40,4,0))","v":"p"},0,{"$f":"IF(N770=\"\",0,VLOOKUP(N770,Ville!$A$3:$E$40,3,0))","v":"00:00:00"},null,4,null,null,null,null,null,null,null,4,4,{"$f":"IF(N770=\"\",\"\",VLOOKUP(N770,Ville!$A$3:$E$40,2,0))","v":0},null,null,0,0,0,0,0,0,0,0,0,0,0,0,0,null,null,"","","",""]
[null,null,null,null,null,null,2012,{"$f":"IF(K771=\"\",\"\",VLOOKUP(I771,'Suiv Contr '!$D$14:$E$25,2))","v":"novembre"},11,null,"2012-11-12","Germain","Besançon iax","Besançon iax",null,null,{"$f":"IF(N771=\"\",\"\",VLOOKUP(N771,Ville!$A$3:$E$40,4,0))","v":"ca"},0,{"$f":"IF(N771=\"\",0,VLOOKUP(N771,Ville!$A$3:$E$40,3,0))","v":"01:50:00"},null,2,null,null,null,null,1,null,null,2,2,{"$f":"IF(N771=\"\",\"\",VLOOKUP(N771,Ville!$A$3:$E$40,2,0))","v":132},null,null,0,0,0,0,0,0,0,0,0,0,0,0,0,null,null,"","","",1]
[null,null,null,null,null,null,2012,{"$f":"IF(K772=\"\",\"\",VLOOKUP(I772,'Suiv Contr '!$D$14:$E$25,2))","v":"novembre"},11,null,"2012-11-13","Germain","Champagnole","Champagnole",null,null,{"$f":"IF(N772=\"\",\"\",VLOOKUP(N772,Ville!$A$3:$E$40,4,0))","v":"p"},0,{"$f":"IF(N772=\"\",0,VLOOKUP(N772,Ville!$A$3:$E$40,3,0))","v":"00:00:00"},null,5,null,null,null,null,null,null,null,5,5,{"$f":"IF(N772=\"\",\"\",VLOOKUP(N772,Ville!$A$3:$E$40,2,0))","v":0},null,null,0,0,0,0,0,0,0,0,0,0,0,0,0,null,null,"","","",""]
[null,null,null,null,null,null,2012,{"$f":"IF(K773=\"\",\"\",VLOOKUP(I773,'Suiv Contr '!$D$14:$E$25,2))","v":"novembre"},11,null,"2012-11-14","Germain","Thann","Thann",null,null,{"$f":"IF(N773=\"\",\"\",VLOOKUP(N773,Ville!$A$3:$E$40,4,0))","v":"ca"},0,{"$f":"IF(N773=\"\",0,VLOOKUP(N773,Ville!$A$3:$E$40,3,0))","v":"04:30:00"},null,2,null,2,null,null,null,null,null,4,4,{"$f":"IF(N773=\"\",\"\",VLOOKUP(N773,Ville!$A$3:$E$40,2,0))","v":402},null,null,0,0,0,0,0,0,0,0,0,0,0,0,0,null,null,"","","",1]
[null,null,null,null,null,null,2012,{"$f":"IF(K774=\"\",\"\",VLOOKUP(I774,'Suiv Contr '!$D$14:$E$25,2))","v":"novembre"},11,null,"2012-11-15","Germain","Champagnole","Champagnole",null,null,{"$f":"IF(N774=\"\",\"\",VLOOKUP(N774,Ville!$A$3:$E$40,4,0))","v":"p"},0,{"$f":"IF(N774=\"\",0,VLOOKUP(N774,Ville!$A$3:$E$40,3,0))","v":"00:00:00"},null,5,null,null,null,null,2,null,null,5,5,{"$f":"IF(N774=\"\",\"\",VLOOKUP(N774,Ville!$A$3:$E$40,2,0))","v":0},null,null,0,0,0,0,0,0,0,0,0,0,0,0,0,null,null,"","","",""]
[null,null,null,null,null,null,2012,{"$f":"IF(K775=\"\",\"\",VLOOKUP(I775,'Suiv Contr '!$D$14:$E$25,2))","v":"novembre"},11,null,"2012-11-16","Germain","Champagnole","Champagnole",null,null,{"$f":"IF(N775=\"\",\"\",VLOOKUP(N775,Ville!$A$3:$E$40,4,0))","v":"p"},0,{"$f":"IF(N775=\"\",0,VLOOKUP(N775,Ville!$A$3:$E$40,3,0))","v":"00:00:00"},null,2,null,null,null,1,null,null,null,2,3,{"$f":"IF(N775=\"\",\"\",VLOOKUP(N775,Ville!$A$3:$E$40,2,0))","v":0},null,null,0,0,0,0,0,0,0,0,0,0,0,0,0,null,null,"","","",""]
[null,null,null,null,null,null,2012,{"$f":"IF(K776=\"\",\"\",VLOOKUP(I776,'Suiv Contr '!$D$14:$E$25,2))","v":"novembre"},11,null,"2012-11-19","Germain","Champagnole","Champagnole",null,null,{"$f":"IF(N776=\"\",\"\",VLOOKUP(N776,Ville!$A$3:$E$40,4,0))","v":"p"},0,{"$f":"IF(N776=\"\",0,VLOOKUP(N776,Ville!$A$3:$E$40,3,0))","v":"00:00:00"},null,2,null,null,null,null,null,1,null,2,2,{"$f":"IF(N776=\"\",\"\",VLOOKUP(N776,Ville!$A$3:$E$40,2,0))","v":0},null,null,0,0,0,0,0,0,0,0,0,0,0,0,0,null,null,"","","",""]
[null,null,null,null,null,null,2012,{"$f":"IF(K777=\"\",\"\",VLOOKUP(I777,'Suiv Contr '!$D$14:$E$25,2))","v":"novembre"},11,null,"2012-11-20","Germain","Champagnole","Champagnole",null,null,{"$f":"IF(N777=\"\",\"\",VLOOKUP(N777,Ville!$A$3:$E$40,4,0))","v":"p"},0,{"$f":"IF(N777=\"\",0,VLOOKUP(N777,Ville!$A$3:$E$40,3,0))","v":"00:00:00"},null,2,2,null,null,1,2,null,null,4,5,{"$f":"IF(N777=\"\",\"\",VLOOKUP(N777,Ville!$A$3:$E$40,2,0))","v":0},null,null,0,0,0,0,0,0,0,0,0,0,0,0,0,null,null,"",{"$f":"IF(Q777=\"v\",3,\"\")","v":""},{"$f":"IF(Q777=\"rec\",2,\"\")","v":""},""]
[null,null,null,null,null,null,2012,{"$f":"IF(K778=\"\",\"\",VLOOKUP(I778,'Suiv Contr '!$D$14:$E$25,2))","v":"novembre"},11,null,"2012-11-21","Germain","La Soie","La Soie",null,null,{"$f":"IF(N778=\"\",\"\",VLOOKUP(N778,Ville!$A$3:$E$40,4,0))","v":"ca"},0,{"$f":"IF(N778=\"\",0,VLOOKUP(N778,Ville!$A$3:$E$40,3,0))","v":"03:00:00"},null,null,9,null,null,3,2,null,null,9,12,{"$f":"IF(N778=\"\",\"\",VLOOKUP(N778,Ville!$A$3:$E$40,2,0))","v":390},null,null,0,0,0,0,0,0,0,0,0,0,0,0,0,null,null,"","","",1]
[null,null,null,null,null,null,2012,{"$f":"IF(K779=\"\",\"\",VLOOKUP(I779,'Suiv Contr '!$D$14:$E$25,2))","v":"novembre"},11,null,"2012-11-22","Germain","Champagnole","Champagnole",null,null,{"$f":"IF(N779=\"\",\"\",VLOOKUP(N779,Ville!$A$3:$E$40,4,0))","v":"p"},0,{"$f":"IF(N779=\"\",0,VLOOKUP(N779,Ville!$A$3:$E$40,3,0))","v":"00:00:00"},null,3,2,null,null,1,1,null,null,5,6,{"$f":"IF(N779=\"\",\"\",VLOOKUP(N779,Ville!$A$3:$E$40,2,0))","v":0},null,null,0,0,0,0,0,0,0,0,0,0,0,0,0,null,null,"","","",""]
[null,null,null,null,null,null,2012,{"$f":"IF(K780=\"\",\"\",VLOOKUP(I780,'Suiv Contr '!$D$14:$E$25,2))","v":"novembre"},11,null,"2012-11-23","Germain","Champagnole","Champagnole",null,null,{"$f":"IF(N780=\"\",\"\",VLOOKUP(N780,Ville!$A$3:$E$40,4,0))","v":"p"},0,{"$f":"IF(N780=\"\",0,VLOOKUP(N780,Ville!$A$3:$E$40,3,0))","v":"00:00:00"},null,1,2,null,null,2,null,null,null,3,5,{"$f":"IF(N780=\"\",\"\",VLOOKUP(N780,Ville!$A$3:$E$40,2,0))","v":0},null,null,0,0,0,0,0,0,0,0,0,0,0,0,0,null,null,"","","",""]
[null,null,null,null,null,null,2012,{"$f":"IF(K781=\"\",\"\",VLOOKUP(I781,'Suiv Contr '!$D$14:$E$25,2))","v":"novembre"},11,null,"2012-11-26","Germain","Meythet","Meythet",null,null,{"$f":"IF(N781=\"\",\"\",VLOOKUP(N781,Ville!$A$3:$E$40,4,0))","v":"ca"},0,{"$f":"IF(N781=\"\",0,VLOOKUP(N781,Ville!$A$3:$E$40,3,0))","v":"04:20:00"},null,8,null,null,null,1,null,null,null,8,9,{"$f":"IF(N781=\"\",\"\",VLOOKUP(N781,Ville!$A$3:$E$40,2,0))","v":298},null,null,0,0,0,0,0,0,0,0,0,0,0,0,0,null,null,"","","",1]
[null,null,null,null,null,null,2012,{"$f":"IF(K782=\"\",\"\",VLOOKUP(I782,'Suiv Contr '!$D$14:$E$25,2))","v":"novembre"},11,null,"2012-11-27","Germain","Champagnole","Champagnole",null,null,{"$f":"IF(N782=\"\",\"\",VLOOKUP(N782,Ville!$A$3:$E$40,4,0))","v":"p"},0,{"$f":"IF(N782=\"\",0,VLOOKUP(N782,Ville!$A$3:$E$40,3,0))","v":"00:00:00"},null,2,2,1,null,null,null,1,null,5,5,{"$f":"IF(N782=\"\",\"\",VLOOKUP(N782,Ville!$A$3:$E$40,2,0))","v":0},null,null,0,0,0,0,0,0,0,0,0,0,0,0,0,null,null,"","","",""]
[null,null,null,null,null,null,2012,{"$f":"IF(K783=\"\",\"\",VLOOKUP(I783,'Suiv Contr '!$D$14:$E$25,2))","v":"novembre"},11,null,"2012-11-28","Germain",{"$f":"N783","v":"Champagnole"},"Champagnole",null,null,{"$f":"IF(N783=\"\",\"\",VLOOKUP(N783,Ville!$A$3:$E$40,4,0))","v":"p"},0,{"$f":"IF(N783=\"\",0,VLOOKUP(N783,Ville!$A$3:$E$40,3,0))","v":"00:00:00"},null,1,2,null,null,null,null,null,null,3,3,{"$f":"IF(N783=\"\",\"\",VLOOKUP(N783,Ville!$A$3:$E$40,2,0))","v":0},null,null,0,0,0,0,0,0,0,0,0,0,0,0,0,null,null,"","","",""]
[null,null,null,null,null,null,2012,{"$f":"IF(K784=\"\",\"\",VLOOKUP(I784,'Suiv Contr '!$D$14:$E$25,2))","v":"novembre"},11,null,"2012-11-29","Germain","Champagnole","Champagnole",null,null,{"$f":"IF(N784=\"\",\"\",VLOOKUP(N784,Ville!$A$3:$E$40,4,0))","v":"p"},0,{"$f":"IF(N784=\"\",0,VLOOKUP(N784,Ville!$A$3:$E$40,3,0))","v":"00:00:00"},null,2,2,null,null,null,null,null,null,4,4,{"$f":"IF(N784=\"\",\"\",VLOOKUP(N784,Ville!$A$3:$E$40,2,0))","v":0},null,null,0,0,0,0,0,0,0,0,0,0,0,0,0,null,null,"","","",""]
[null,null,null,null,null,null,2012,{"$f":"IF(K785=\"\",\"\",VLOOKUP(I785,'Suiv Contr '!$D$14:$E$25,2))","v":"novembre"},11,null,"2012-11-30","Germain","Champagnole","Champagnole",null,null,{"$f":"IF(N785=\"\",\"\",VLOOKUP(N785,Ville!$A$3:$E$40,4,0))","v":"p"},0,{"$f":"IF(N785=\"\",0,VLOOKUP(N785,Ville!$A$3:$E$40,3,0))","v":"00:00:00"},null,2,null,null,null,null,null,null,null,2,2,{"$f":"IF(N785=\"\",\"\",VLOOKUP(N785,Ville!$A$3:$E$40,2,0))","v":0},null,null,0,0,0,0,0,0,0,0,0,0,0,0,0,null,null,"","","",""]
[null,null,null,null,null,null,2012,{"$f":"IF(K786=\"\",\"\",VLOOKUP(I786,'Suiv Contr '!$D$14:$E$25,2))","v":"décembre"},12,null,"2012-12-03","Germain","Champagnole","Champagnole",null,null,{"$f":"IF(N786=\"\",\"\",VLOOKUP(N786,Ville!$A$3:$E$40,4,0))","v":"p"},0,{"$f":"IF(N786=\"\",0,VLOOKUP(N786,Ville!$A$3:$E$40,3,0))","v":"00:00:00"},null,4,null,null,null,null,null,null,null,4,4,{"$f":"IF(N786=\"\",\"\",VLOOKUP(N786,Ville!$A$3:$E$40,2,0))","v":0},null,null,0,0,0,0,0,0,0,0,0,0,0,0,0,null,null,"","","",""]
[null,null,null,null,null,null,2012,{"$f":"IF(K787=\"\",\"\",VLOOKUP(I787,'Suiv Contr '!$D$14:$E$25,2))","v":"décembre"},12,null,"2012-12-04","Germain","Champagnole","Champagnole",null,null,{"$f":"IF(N787=\"\",\"\",VLOOKUP(N787,Ville!$A$3:$E$40,4,0))","v":"p"},0,{"$f":"IF(N787=\"\",0,VLOOKUP(N787,Ville!$A$3:$E$40,3,0))","v":"00:00:00"},null,4,null,null,null,null,null,null,null,{"$f":"U787+V787+W787+X787","v":4},{"$f":"AC787+Y787","v":4},{"$f":"IF(N787=\"\",\"\",VLOOKUP(N787,Ville!$A$3:$E$40,2,0))","v":0},null,null,0,0,0,0,0,0,0,0,0,0,0,0,{"$f":"SUM(AH787:AS787)","v":0},null,null,"","","",""]
[null,null,null,null,null,null,2012,{"$f":"IF(K788=\"\",\"\",VLOOKUP(I788,'Suiv Contr '!$D$14:$E$25,2))","v":"décembre"},12,null,"2012-12-05","Germain","Champagnole","Champagnole",null,null,{"$f":"IF(N788=\"\",\"\",VLOOKUP(N788,Ville!$A$3:$E$40,4,0))","v":"p"},0,{"$f":"IF(N788=\"\",0,VLOOKUP(N788,Ville!$A$3:$E$40,3,0))","v":"00:00:00"},null,2,null,null,null,2,null,null,null,2,4,{"$f":"IF(N788=\"\",\"\",VLOOKUP(N788,Ville!$A$3:$E$40,2,0))","v":0},null,null,0,0,0,0,0,0,0,0,0,0,0,0,0,null,null,"","","",""]
[null,null,null,null,null,null,2012,{"$f":"IF(K789=\"\",\"\",VLOOKUP(I789,'Suiv Contr '!$D$14:$E$25,2))","v":"décembre"},12,null,"2012-12-06","Germain",{"$f":"N789","v":"Champagnole"},"Champagnole",null,null,{"$f":"IF(N789=\"\",\"\",VLOOKUP(N789,Ville!$A$3:$E$40,4,0))","v":"p"},0,{"$f":"IF(N789=\"\",0,VLOOKUP(N789,Ville!$A$3:$E$40,3,0))","v":"00:00:00"},null,1,1,null,null,null,null,null,null,2,2,{"$f":"IF(N789=\"\",\"\",VLOOKUP(N789,Ville!$A$3:$E$40,2,0))","v":0},null,null,0,0,0,0,0,0,0,0,0,0,0,0,0,null,null,"","","",""]
[null,null,null,null,null,null,2012,{"$f":"IF(K790=\"\",\"\",VLOOKUP(I790,'Suiv Contr '!$D$14:$E$25,2))","v":"décembre"},12,null,"2012-12-07","Germain","Champagnole","Champagnole",null,null,{"$f":"IF(N790=\"\",\"\",VLOOKUP(N790,Ville!$A$3:$E$40,4,0))","v":"p"},0,{"$f":"IF(N790=\"\",0,VLOOKUP(N790,Ville!$A$3:$E$40,3,0))","v":"00:00:00"},null,0,null,null,null,null,null,null,null,0,0,{"$f":"IF(N790=\"\",\"\",VLOOKUP(N790,Ville!$A$3:$E$40,2,0))","v":0},null,null,0,0,0,0,0,0,0,0,0,0,0,0,0,null,null,"","","",""]
[null,null,null,null,null,null,{"$f":"IF(K791=\"\",\"\",YEAR(K791))","v":2012},{"$f":"IF(K791=\"\",\"\",VLOOKUP(I791,'Suiv Contr '!$D$14:$E$25,2))","v":"décembre"},{"$f":"IF(K791=\"\",\"\",MONTH(K791))","v":12},null,"2012-12-10","Germain","Champagnole","Champagnole",null,null,{"$f":"IF(N791=\"\",\"\",VLOOKUP(N791,Ville!$A$3:$E$40,4,0))","v":"p"},0,{"$f":"IF(N791=\"\",0,VLOOKUP(N791,Ville!$A$3:$E$40,3,0))","v":"00:00:00"},null,1,2,null,null,null,null,null,null,3,3,{"$f":"IF(N791=\"\",\"\",VLOOKUP(N791,Ville!$A$3:$E$40,2,0))","v":0},null,null,0,0,0,0,0,0,0,0,0,0,0,0,0,null,null,{"$f":"IF(K791=$B$2,1,\"\")","v":""},"","",""]
[null,null,null,null,null,null,2012,{"$f":"IF(K792=\"\",\"\",VLOOKUP(I792,'Suiv Contr '!$D$14:$E$25,2))","v":"décembre"},12,null,"2012-12-11","Germain","Champagnole","Champagnole",null,null,{"$f":"IF(N792=\"\",\"\",VLOOKUP(N792,Ville!$A$3:$E$40,4,0))","v":"p"},0,{"$f":"IF(N792=\"\",0,VLOOKUP(N792,Ville!$A$3:$E$40,3,0))","v":"00:00:00"},null,3,1,null,null,null,null,null,1,4,4,{"$f":"IF(N792=\"\",\"\",VLOOKUP(N792,Ville!$A$3:$E$40,2,0))","v":0},null,null,0,0,0,0,0,0,0,0,0,0,0,0,0,null,null,"","","",""]
[null,null,null,null,null,null,2012,{"$f":"IF(K793=\"\",\"\",VLOOKUP(I793,'Suiv Contr '!$D$14:$E$25,2))","v":"décembre"},12,null,"2012-12-12","Germain","Thann","Thann",null,null,{"$f":"IF(N793=\"\",\"\",VLOOKUP(N793,Ville!$A$3:$E$40,4,0))","v":"ca"},0,{"$f":"IF(N793=\"\",0,VLOOKUP(N793,Ville!$A$3:$E$40,3,0))","v":"04:30:00"},null,4,null,1,null,null,1,null,null,5,5,{"$f":"IF(N793=\"\",\"\",VLOOKUP(N793,Ville!$A$3:$E$40,2,0))","v":402},null,null,0,0,0,0,0,0,0,0,0,0,0,0,0,null,null,"","","",1]
[null,null,null,null,null,null,2012,{"$f":"IF(K794=\"\",\"\",VLOOKUP(I794,'Suiv Contr '!$D$14:$E$25,2))","v":"décembre"},12,null,"2012-12-13","Germain","Champagnole","Champagnole",null,null,{"$f":"IF(N794=\"\",\"\",VLOOKUP(N794,Ville!$A$3:$E$40,4,0))","v":"p"},0,{"$f":"IF(N794=\"\",0,VLOOKUP(N794,Ville!$A$3:$E$40,3,0))","v":"00:00:00"},null,3,2,null,null,null,null,null,null,5,5,{"$f":"IF(N794=\"\",\"\",VLOOKUP(N794,Ville!$A$3:$E$40,2,0))","v":0},null,null,0,0,0,0,0,0,0,0,0,0,0,0,0,null,null,"","","",{"$f":"IF(OR(N794=\"champagnole\",N794=\"\"),\"\",1)","v":""}]
[null,null,null,null,null,null,2012,{"$f":"IF(K795=\"\",\"\",VLOOKUP(I795,'Suiv Contr '!$D$14:$E$25,2))","v":"décembre"},12,null,"2012-12-14","Germain","Champagnole","Champagnole",null,null,{"$f":"IF(N795=\"\",\"\",VLOOKUP(N795,Ville!$A$3:$E$40,4,0))","v":"p"},0,{"$f":"IF(N795=\"\",0,VLOOKUP(N795,Ville!$A$3:$E$40,3,0))","v":"00:00:00"},null,4,1,null,null,null,1,null,1,5,5,{"$f":"IF(N795=\"\",\"\",VLOOKUP(N795,Ville!$A$3:$E$40,2,0))","v":0},null,null,0,0,0,0,0,0,0,0,0,0,0,0,0,null,null,"","","",""]
[null,null,null,null,null,null,2012,{"$f":"IF(K796=\"\",\"\",VLOOKUP(I796,'Suiv Contr '!$D$14:$E$25,2))","v":"décembre"},12,null,"2012-12-17","Germain","Meythet","Meythet",null,null,{"$f":"IF(N796=\"\",\"\",VLOOKUP(N796,Ville!$A$3:$E$40,4,0))","v":"ca"},0,{"$f":"IF(N796=\"\",0,VLOOKUP(N796,Ville!$A$3:$E$40,3,0))","v":"04:20:00"},null,7,null,1,null,1,null,null,null,8,9,{"$f":"IF(N796=\"\",\"\",VLOOKUP(N796,Ville!$A$3:$E$40,2,0))","v":298},null,null,0,0,0,0,0,0,0,0,0,0,0,0,0,null,null,"","","",1]
[null,null,null,null,null,null,2012,{"$f":"IF(K797=\"\",\"\",VLOOKUP(I797,'Suiv Contr '!$D$14:$E$25,2))","v":"décembre"},12,null,"2012-12-18","Germain","Champagnole","Champagnole",null,null,{"$f":"IF(N797=\"\",\"\",VLOOKUP(N797,Ville!$A$3:$E$40,4,0))","v":"p"},0,{"$f":"IF(N797=\"\",0,VLOOKUP(N797,Ville!$A$3:$E$40,3,0))","v":"00:00:00"},null,5,4,null,null,null,null,null,null,{"$f":"U797+V797+W797+X797","v":9},{"$f":"AC797+Y797","v":9},{"$f":"IF(N797=\"\",\"\",VLOOKUP(N797,Ville!$A$3:$E$40,2,0))","v":0},null,null,0,0,0,0,0,0,0,0,0,0,0,0,0,null,null,"","","",""]
[null,null,null,null,null,null,2012,{"$f":"IF(K798=\"\",\"\",VLOOKUP(I798,'Suiv Contr '!$D$14:$E$25,2))","v":"décembre"},12,null,"2012-12-19","Germain","Champagnole","Champagnole",null,null,{"$f":"IF(N798=\"\",\"\",VLOOKUP(N798,Ville!$A$3:$E$40,4,0))","v":"p"},0,{"$f":"IF(N798=\"\",0,VLOOKUP(N798,Ville!$A$3:$E$40,3,0))","v":"00:00:00"},null,2,2,null,null,1,null,null,null,4,5,{"$f":"IF(N798=\"\",\"\",VLOOKUP(N798,Ville!$A$3:$E$40,2,0))","v":0},null,null,0,0,0,0,0,0,0,0,0,0,0,0,0,null,null,"","","",""]
[null,null,null,null,null,null,2012,{"$f":"IF(K799=\"\",\"\",VLOOKUP(I799,'Suiv Contr '!$D$14:$E$25,2))","v":"décembre"},12,null,"2012-12-20","Germain","Cordesse","Cordesse",null,null,{"$f":"IF(N799=\"\",\"\",VLOOKUP(N799,Ville!$A$3:$E$40,4,0))","v":"ca"},0,{"$f":"IF(N799=\"\",0,VLOOKUP(N799,Ville!$A$3:$E$40,3,0))","v":"03:10:00"},null,12,2,null,null,2,2,null,1,14,16,{"$f":"IF(N799=\"\",\"\",VLOOKUP(N799,Ville!$A$3:$E$40,2,0))","v":340},null,null,0,0,0,0,0,0,0,0,0,0,0,0,0,null,null,"","","",1]
[null,null,null,null,null,null,2012,{"$f":"IF(K800=\"\",\"\",VLOOKUP(I800,'Suiv Contr '!$D$14:$E$25,2))","v":"décembre"},12,null,"2012-12-21","Germain","Champagnole","Champagnole",null,null,{"$f":"IF(N800=\"\",\"\",VLOOKUP(N800,Ville!$A$3:$E$40,4,0))","v":"p"},0,{"$f":"IF(N800=\"\",0,VLOOKUP(N800,Ville!$A$3:$E$40,3,0))","v":"00:00:00"},null,4,null,1,null,null,null,2,null,5,5,{"$f":"IF(N800=\"\",\"\",VLOOKUP(N800,Ville!$A$3:$E$40,2,0))","v":0},null,null,0,0,0,0,0,0,0,0,0,0,0,0,0,null,null,"","","",""]
[null,null,null,null,null,null,2012,{"$f":"IF(K801=\"\",\"\",VLOOKUP(I801,'Suiv Contr '!$D$14:$E$25,2))","v":"décembre"},12,null,"2012-12-24","Germain","00:00:00",null,null,null,"v",1,null,null,null,null,null,null,null,null,null,null,0,0,{"$f":"IF(N801=\"\",\"\",VLOOKUP(N801,Ville!$A$3:$E$40,2,0))","v":""},null,null,0,0,0,0,0,0,0,0,0,0,0,0,0,null,null,"",3,"",""]
[null,null,null,null,null,null,2012,{"$f":"IF(K802=\"\",\"\",VLOOKUP(I802,'Suiv Contr '!$D$14:$E$25,2))","v":"décembre"},12,null,"2012-12-26","Germain","00:00:00",null,null,null,"v",1,null,null,null,null,null,null,null,null,null,null,0,0,{"$f":"IF(N802=\"\",\"\",VLOOKUP(N802,Ville!$A$3:$E$40,2,0))","v":""},null,null,0,0,0,0,0,0,0,0,0,0,0,0,0,null,null,"",3,"",""]
[null,null,null,null,null,null,2012,{"$f":"IF(K803=\"\",\"\",VLOOKUP(I803,'Suiv Contr '!$D$14:$E$25,2))","v":"décembre"},12,null,"2012-12-27","Germain","00:00:00",null,null,null,"v",1,null,null,null,null,null,null,null,null,null,null,0,0,{"$f":"IF(N803=\"\",\"\",VLOOKUP(N803,Ville!$A$3:$E$40,2,0))","v":""},null,null,0,0,0,0,0,0,0,0,0,0,0,0,0,null,null,"",3,"",""]
[null,null,null,null,null,null,2012,{"$f":"IF(K804=\"\",\"\",VLOOKUP(I804,'Suiv Contr '!$D$14:$E$25,2))","v":"décembre"},12,null,"2012-12-28","Germain","00:00:00",null,null,null,"v",1,null,null,null,null,null,null,null,null,null,null,0,0,{"$f":"IF(N804=\"\",\"\",VLOOKUP(N804,Ville!$A$3:$E$40,2,0))","v":""},null,null,0,0,0,0,0,0,0,0,0,0,0,0,0,null,null,"",3,"",""]
[null,null,null,null,null,null,2012,{"$f":"IF(K805=\"\",\"\",VLOOKUP(I805,'Suiv Contr '!$D$14:$E$25,2))","v":"décembre"},12,null,"2012-12-31","Germain","Germain",null,null,null,"v",1,null,null,null,null,null,null,null,null,null,null,0,0,{"$f":"IF(N805=\"\",\"\",VLOOKUP(N805,Ville!$A$3:$E$40,2,0))","v":""},null,null,0,0,0,0,0,0,0,0,0,0,0,0,0,null,null,"",3,"",""]
[null,null,null,null,null,null,2013,{"$f":"IF(K806=\"\",\"\",VLOOKUP(I806,'Suiv Contr '!$D$14:$E$25,2))","v":"janvier"},1,null,"2013-01-02","Germain","Champagnole","Champagnole",null,null,{"$f":"IF(N806=\"\",\"\",VLOOKUP(N806,Ville!$A$3:$E$40,4,0))","v":"p"},0,{"$f":"IF(N806=\"\",0,VLOOKUP(N806,Ville!$A$3:$E$40,3,0))","v":"00:00:00"},null,null,2,null,null,null,null,null,null,{"$f":"U806+V806+W806+X806","v":2},{"$f":"AC806+Y806","v":2},{"$f":"IF(N806=\"\",\"\",VLOOKUP(N806,Ville!$A$3:$E$40,2,0))","v":0},null,null,0,0,0,0,0,0,0,0,0,0,0,0,0,null,null,"","","",""]
[null,null,null,null,null,null,2013,{"$f":"IF(K807=\"\",\"\",VLOOKUP(I807,'Suiv Contr '!$D$14:$E$25,2))","v":"janvier"},1,null,"2013-01-03","Germain","Champagnole","Champagnole",null,null,{"$f":"IF(N807=\"\",\"\",VLOOKUP(N807,Ville!$A$3:$E$40,4,0))","v":"p"},0,{"$f":"IF(N807=\"\",0,VLOOKUP(N807,Ville!$A$3:$E$40,3,0))","v":"00:00:00"},null,4,4,null,null,null,2,null,null,8,8,{"$f":"IF(N807=\"\",\"\",VLOOKUP(N807,Ville!$A$3:$E$40,2,0))","v":0},null,null,0,0,0,0,0,0,0,0,0,0,0,0,0,null,null,"","","",""]
[null,null,null,null,null,null,2013,{"$f":"IF(K808=\"\",\"\",VLOOKUP(I808,'Suiv Contr '!$D$14:$E$25,2))","v":"janvier"},1,null,"2013-01-04","Germain","Champagnole","Champagnole",null,null,{"$f":"IF(N808=\"\",\"\",VLOOKUP(N808,Ville!$A$3:$E$40,4,0))","v":"p"},0,{"$f":"IF(N808=\"\",0,VLOOKUP(N808,Ville!$A$3:$E$40,3,0))","v":"00:00:00"},null,4,2,null,null,null,null,1,null,6,6,{"$f":"IF(N808=\"\",\"\",VLOOKUP(N808,Ville!$A$3:$E$40,2,0))","v":0},null,null,0,0,0,0,0,0,0,0,0,0,0,0,0,null,null,"","","",""]
[null,null,null,null,null,null,2013,{"$f":"IF(K809=\"\",\"\",VLOOKUP(I809,'Suiv Contr '!$D$14:$E$25,2))","v":"janvier"},1,null,"2013-01-07","Germain","Champagnole","Champagnole",null,null,{"$f":"IF(N809=\"\",\"\",VLOOKUP(N809,Ville!$A$3:$E$40,4,0))","v":"p"},0,{"$f":"IF(N809=\"\",0,VLOOKUP(N809,Ville!$A$3:$E$40,3,0))","v":"00:00:00"},null,3,null,null,null,1,null,1,null,{"$f":"U809+V809+W809+X809","v":3},{"$f":"AC809+Y809","v":4},{"$f":"IF(N809=\"\",\"\",VLOOKUP(N809,Ville!$A$3:$E$40,2,0))","v":0},null,null,0,0,0,0,0,0,0,0,0,0,0,0,0,null,null,"","","",""]
[null,null,null,null,null,null,2013,{"$f":"IF(K810=\"\",\"\",VLOOKUP(I810,'Suiv Contr '!$D$14:$E$25,2))","v":"janvier"},1,null,"2013-01-08","Germain","Champagnole","Champagnole",null,null,{"$f":"IF(N810=\"\",\"\",VLOOKUP(N810,Ville!$A$3:$E$40,4,0))","v":"p"},0,{"$f":"IF(N810=\"\",0,VLOOKUP(N810,Ville!$A$3:$E$40,3,0))","v":"00:00:00"},null,3,1,null,null,null,1,1,null,4,4,{"$f":"IF(N810=\"\",\"\",VLOOKUP(N810,Ville!$A$3:$E$40,2,0))","v":0},null,null,0,0,0,0,0,0,0,0,0,0,0,0,0,null,null,"","","",""]
[null,null,null,null,null,null,2013,{"$f":"IF(K811=\"\",\"\",VLOOKUP(I811,'Suiv Contr '!$D$14:$E$25,2))","v":"janvier"},1,null,"2013-01-09","Germain","Bourgoin Jallieu","Bourgoin Jallieu",null,null,{"$f":"IF(N811=\"\",\"\",VLOOKUP(N811,Ville!$A$3:$E$40,4,0))","v":"ca"},0,{"$f":"IF(N811=\"\",0,VLOOKUP(N811,Ville!$A$3:$E$40,3,0))","v":"03:30:00"},null,10,2,null,null,3,1,null,null,12,15,{"$f":"IF(N811=\"\",\"\",VLOOKUP(N811,Ville!$A$3:$E$40,2,0))","v":438},null,null,0,0,0,0,0,0,0,0,0,0,0,0,0,null,null,"","","",1]
[null,null,null,null,null,null,2013,{"$f":"IF(K812=\"\",\"\",VLOOKUP(I812,'Suiv Contr '!$D$14:$E$25,2))","v":"janvier"},1,null,"2013-01-10","Germain","Champagnole","Champagnole",null,null,{"$f":"IF(N812=\"\",\"\",VLOOKUP(N812,Ville!$A$3:$E$40,4,0))","v":"p"},0,{"$f":"IF(N812=\"\",0,VLOOKUP(N812,Ville!$A$3:$E$40,3,0))","v":"00:00:00"},null,4,1,null,null,null,null,null,null,5,5,{"$f":"IF(N812=\"\",\"\",VLOOKUP(N812,Ville!$A$3:$E$40,2,0))","v":0},null,null,0,0,0,0,0,0,0,0,0,0,0,0,0,null,null,"","","",""]
[null,null,null,null,null,null,2013,{"$f":"IF(K813=\"\",\"\",VLOOKUP(I813,'Suiv Contr '!$D$14:$E$25,2))","v":"janvier"},1,null,"2013-01-11","Germain","Champagnole","Champagnole",null,null,{"$f":"IF(N813=\"\",\"\",VLOOKUP(N813,Ville!$A$3:$E$40,4,0))","v":"p"},0,{"$f":"IF(N813=\"\",0,VLOOKUP(N813,Ville!$A$3:$E$40,3,0))","v":"00:00:00"},null,8,1,null,null,null,null,null,1,9,9,{"$f":"IF(N813=\"\",\"\",VLOOKUP(N813,Ville!$A$3:$E$40,2,0))","v":0},null,null,0,0,0,0,0,0,0,0,0,0,0,0,0,null,null,"","","",""]
[null,null,null,null,null,null,2013,{"$f":"IF(K814=\"\",\"\",VLOOKUP(I814,'Suiv Contr '!$D$14:$E$25,2))","v":"janvier"},1,null,"2013-01-14","Germain","Champagnole","Champagnole",null,null,{"$f":"IF(N814=\"\",\"\",VLOOKUP(N814,Ville!$A$3:$E$40,4,0))","v":"p"},0,{"$f":"IF(N814=\"\",0,VLOOKUP(N814,Ville!$A$3:$E$40,3,0))","v":"00:00:00"},null,null,1,null,null,null,1,null,null,1,1,{"$f":"IF(N814=\"\",\"\",VLOOKUP(N814,Ville!$A$3:$E$40,2,0))","v":0},null,null,0,0,0,0,0,0,0,0,0,0,0,0,0,null,null,"","","",""]
[null,null,null,null,null,null,2013,{"$f":"IF(K815=\"\",\"\",VLOOKUP(I815,'Suiv Contr '!$D$14:$E$25,2))","v":"janvier"},1,null,"2013-01-15","Germain","Champagnole","Champagnole",null,null,{"$f":"IF(N815=\"\",\"\",VLOOKUP(N815,Ville!$A$3:$E$40,4,0))","v":"p"},0,{"$f":"IF(N815=\"\",0,VLOOKUP(N815,Ville!$A$3:$E$40,3,0))","v":"00:00:00"},null,4,null,null,null,null,null,null,null,4,4,{"$f":"IF(N815=\"\",\"\",VLOOKUP(N815,Ville!$A$3:$E$40,2,0))","v":0},null,null,0,0,0,0,0,0,0,0,0,0,0,0,0,null,null,"","","",""]
[null,null,null,null,null,null,2013,{"$f":"IF(K816=\"\",\"\",VLOOKUP(I816,'Suiv Contr '!$D$14:$E$25,2))","v":"janvier"},1,null,"2013-01-16","Germain","Champagnole","Champagnole",null,null,{"$f":"IF(N816=\"\",\"\",VLOOKUP(N816,Ville!$A$3:$E$40,4,0))","v":"p"},0,{"$f":"IF(N816=\"\",0,VLOOKUP(N816,Ville!$A$3:$E$40,3,0))","v":"00:00:00"},null,1,6,null,null,1,1,null,null,7,8,{"$f":"IF(N816=\"\",\"\",VLOOKUP(N816,Ville!$A$3:$E$40,2,0))","v":0},null,null,0,0,0,0,0,0,0,0,0,0,0,0,0,null,null,"","","",""]
[null,null,null,null,null,null,2013,{"$f":"IF(K817=\"\",\"\",VLOOKUP(I817,'Suiv Contr '!$D$14:$E$25,2))","v":"janvier"},1,null,"2013-01-17","Germain","Champagnole","Champagnole",null,null,{"$f":"IF(N817=\"\",\"\",VLOOKUP(N817,Ville!$A$3:$E$40,4,0))","v":"p"},0,{"$f":"IF(N817=\"\",0,VLOOKUP(N817,Ville!$A$3:$E$40,3,0))","v":"00:00:00"},null,5,1,null,null,null,null,null,null,6,6,{"$f":"IF(N817=\"\",\"\",VLOOKUP(N817,Ville!$A$3:$E$40,2,0))","v":0},null,null,0,0,0,0,0,0,0,0,0,0,0,0,0,null,null,"","","",""]
[null,null,null,null,null,null,2013,{"$f":"IF(K818=\"\",\"\",VLOOKUP(I818,'Suiv Contr '!$D$14:$E$25,2))","v":"janvier"},1,null,"2013-01-18","Germain","Champagnole","Champagnole",null,null,{"$f":"IF(N818=\"\",\"\",VLOOKUP(N818,Ville!$A$3:$E$40,4,0))","v":"p"},0,{"$f":"IF(N818=\"\",0,VLOOKUP(N818,Ville!$A$3:$E$40,3,0))","v":"00:00:00"},null,4,1,null,null,null,null,null,null,5,5,{"$f":"IF(N818=\"\",\"\",VLOOKUP(N818,Ville!$A$3:$E$40,2,0))","v":0},null,null,0,0,0,0,0,0,0,0,0,0,0,0,0,null,null,"","","",""]
[null,null,null,null,null,null,2013,{"$f":"IF(K819=\"\",\"\",VLOOKUP(I819,'Suiv Contr '!$D$14:$E$25,2))","v":"janvier"},1,null,"2013-01-21","Germain","Champagnole","Champagnole",null,null,{"$f":"IF(N819=\"\",\"\",VLOOKUP(N819,Ville!$A$3:$E$40,4,0))","v":"p"},0,{"$f":"IF(N819=\"\",0,VLOOKUP(N819,Ville!$A$3:$E$40,3,0))","v":"00:00:00"},null,0,null,null,null,null,null,null,null,0,0,{"$f":"IF(N819=\"\",\"\",VLOOKUP(N819,Ville!$A$3:$E$40,2,0))","v":0},"gaz",null,0,0,0,0,0,0,0,0,0,0,0,0,0,null,null,"","","",""]
[null,null,null,null,null,null,2013,{"$f":"IF(K820=\"\",\"\",VLOOKUP(I820,'Suiv Contr '!$D$14:$E$25,2))","v":"janvier"},1,null,"2013-01-22","Germain","Champagnole","Champagnole",null,null,{"$f":"IF(N820=\"\",\"\",VLOOKUP(N820,Ville!$A$3:$E$40,4,0))","v":"p"},0,{"$f":"IF(N820=\"\",0,VLOOKUP(N820,Ville!$A$3:$E$40,3,0))","v":"00:00:00"},null,1,3,1,null,null,null,null,null,5,5,{"$f":"IF(N820=\"\",\"\",VLOOKUP(N820,Ville!$A$3:$E$40,2,0))","v":0},null,null,0,0,0,0,0,0,0,0,0,0,0,0,0,null,null,"","","",""]
[null,null,null,null,null,null,2013,{"$f":"IF(K821=\"\",\"\",VLOOKUP(I821,'Suiv Contr '!$D$14:$E$25,2))","v":"janvier"},1,null,"2013-01-23","Germain","Thann","Thann",null,null,{"$f":"IF(N821=\"\",\"\",VLOOKUP(N821,Ville!$A$3:$E$40,4,0))","v":"ca"},0,{"$f":"IF(N821=\"\",0,VLOOKUP(N821,Ville!$A$3:$E$40,3,0))","v":"04:30:00"},null,4,null,1,null,null,1,null,null,5,5,{"$f":"IF(N821=\"\",\"\",VLOOKUP(N821,Ville!$A$3:$E$40,2,0))","v":402},null,null,0,0,0,0,0,0,0,0,0,0,0,0,0,null,null,"","","",1]
[null,null,null,null,null,null,2013,{"$f":"IF(K822=\"\",\"\",VLOOKUP(I822,'Suiv Contr '!$D$14:$E$25,2))","v":"janvier"},1,null,"2013-01-24","Germain","Champagnole","Champagnole",null,null,{"$f":"IF(N822=\"\",\"\",VLOOKUP(N822,Ville!$A$3:$E$40,4,0))","v":"p"},0,{"$f":"IF(N822=\"\",0,VLOOKUP(N822,Ville!$A$3:$E$40,3,0))","v":"00:00:00"},null,6,2,null,null,null,null,null,1,8,8,{"$f":"IF(N822=\"\",\"\",VLOOKUP(N822,Ville!$A$3:$E$40,2,0))","v":0},null,null,0,0,0,0,0,0,0,0,0,0,0,0,0,null,null,"","","",""]
[null,null,null,null,null,null,2013,{"$f":"IF(K823=\"\",\"\",VLOOKUP(I823,'Suiv Contr '!$D$14:$E$25,2))","v":"janvier"},1,null,"2013-01-25","Germain","Champagnole","Champagnole",null,null,{"$f":"IF(N823=\"\",\"\",VLOOKUP(N823,Ville!$A$3:$E$40,4,0))","v":"p"},0,{"$f":"IF(N823=\"\",0,VLOOKUP(N823,Ville!$A$3:$E$40,3,0))","v":"00:00:00"},null,3,1,null,null,1,null,null,null,4,5,{"$f":"IF(N823=\"\",\"\",VLOOKUP(N823,Ville!$A$3:$E$40,2,0))","v":0},null,null,0,0,0,0,0,0,0,0,0,0,0,0,0,null,null,"","","",""]
[null,null,null,null,null,null,2013,{"$f":"IF(K824=\"\",\"\",VLOOKUP(I824,'Suiv Contr '!$D$14:$E$25,2))","v":"janvier"},1,null,"2013-01-28","Germain","Meythet","Meythet",null,null,{"$f":"IF(N824=\"\",\"\",VLOOKUP(N824,Ville!$A$3:$E$40,4,0))","v":"ca"},0,{"$f":"IF(N824=\"\",0,VLOOKUP(N824,Ville!$A$3:$E$40,3,0))","v":"04:20:00"},null,4,2,null,null,1,1,null,null,6,7,{"$f":"IF(N824=\"\",\"\",VLOOKUP(N824,Ville!$A$3:$E$40,2,0))","v":298},null,null,0,0,0,0,0,0,0,0,0,0,0,0,0,null,null,"","","",1]
[null,null,null,null,null,null,2013,{"$f":"IF(K825=\"\",\"\",VLOOKUP(I825,'Suiv Contr '!$D$14:$E$25,2))","v":"janvier"},1,null,"2013-01-29","Germain","Champagnole","Champagnole",null,null,{"$f":"IF(N825=\"\",\"\",VLOOKUP(N825,Ville!$A$3:$E$40,4,0))","v":"p"},{"$f":"IF(Q825=\"v\",1,0)","v":0},{"$f":"IF(N825=\"\",0,VLOOKUP(N825,Ville!$A$3:$E$40,3,0))","v":"00:00:00"},null,3,2,null,null,null,null,null,null,5,5,{"$f":"IF(N825=\"\",\"\",VLOOKUP(N825,Ville!$A$3:$E$40,2,0))","v":0},null,null,0,0,0,0,0,0,0,0,0,0,0,0,0,null,null,"","","",""]
[null,null,null,null,null,null,2013,{"$f":"IF(K826=\"\",\"\",VLOOKUP(I826,'Suiv Contr '!$D$14:$E$25,2))","v":"janvier"},1,null,"2013-01-30","Germain","Champagnole","Champagnole",null,null,{"$f":"IF(N826=\"\",\"\",VLOOKUP(N826,Ville!$A$3:$E$40,4,0))","v":"p"},0,{"$f":"IF(N826=\"\",0,VLOOKUP(N826,Ville!$A$3:$E$40,3,0))","v":"00:00:00"},null,1,7,null,null,2,null,null,null,8,10,{"$f":"IF(N826=\"\",\"\",VLOOKUP(N826,Ville!$A$3:$E$40,2,0))","v":0},null,null,0,0,0,0,0,0,0,0,0,0,0,0,0,null,null,"","","",""]
[null,null,null,null,null,null,2013,{"$f":"IF(K827=\"\",\"\",VLOOKUP(I827,'Suiv Contr '!$D$14:$E$25,2))","v":"janvier"},1,null,"2013-01-31","Germain","Champagnole","Champagnole",null,null,{"$f":"IF(N827=\"\",\"\",VLOOKUP(N827,Ville!$A$3:$E$40,4,0))","v":"p"},0,{"$f":"IF(N827=\"\",0,VLOOKUP(N827,Ville!$A$3:$E$40,3,0))","v":"00:00:00"},null,3,5,null,null,null,null,null,null,8,8,{"$f":"IF(N827=\"\",\"\",VLOOKUP(N827,Ville!$A$3:$E$40,2,0))","v":0},null,null,0,0,0,0,0,0,0,0,0,0,0,0,0,null,null,"","","",""]
[null,null,null,null,null,null,2013,{"$f":"IF(K828=\"\",\"\",VLOOKUP(I828,'Suiv Contr '!$D$14:$E$25,2))","v":"février"},2,null,"2013-02-01","Germain","Montreuil","Montreuil",null,null,{"$f":"IF(N828=\"\",\"\",VLOOKUP(N828,Ville!$A$3:$E$40,4,0))","v":"reu"},0,{"$f":"IF(N828=\"\",0,VLOOKUP(N828,Ville!$A$3:$E$40,3,0))","v":"07:30:00"},null,null,null,null,null,null,null,null,null,0,0,{"$f":"IF(N828=\"\",\"\",VLOOKUP(N828,Ville!$A$3:$E$40,2,0))","v":854},null,null,0,0,0,0,0,0,0,0,0,0,0,0,0,null,null,"","","",1]
[null,null,null,null,null,null,2013,{"$f":"IF(K829=\"\",\"\",VLOOKUP(I829,'Suiv Contr '!$D$14:$E$25,2))","v":"février"},2,null,"2013-02-02","Germain","Montreuil","Montreuil",null,null,{"$f":"IF(N829=\"\",\"\",VLOOKUP(N829,Ville!$A$3:$E$40,4,0))","v":"reu"},0,null,null,null,null,null,null,null,null,null,null,0,0,null,null,null,0,0,0,0,0,0,0,0,0,0,0,0,0,null,null,"","","",1]
[null,null,null,null,null,null,2013,{"$f":"IF(K830=\"\",\"\",VLOOKUP(I830,'Suiv Contr '!$D$14:$E$25,2))","v":"février"},2,null,"2013-02-04","Germain","Besançon iax","Besançon iax",null,null,{"$f":"IF(N830=\"\",\"\",VLOOKUP(N830,Ville!$A$3:$E$40,4,0))","v":"ca"},0,{"$f":"IF(N830=\"\",0,VLOOKUP(N830,Ville!$A$3:$E$40,3,0))","v":"01:50:00"},null,5,null,null,null,null,null,null,null,5,5,{"$f":"IF(N830=\"\",\"\",VLOOKUP(N830,Ville!$A$3:$E$40,2,0))","v":132},null,null,0,0,0,0,0,0,0,0,0,0,0,0,0,null,null,"","","",1]
[null,null,null,null,null,null,2013,{"$f":"IF(K831=\"\",\"\",VLOOKUP(I831,'Suiv Contr '!$D$14:$E$25,2))","v":"février"},2,null,"2013-02-05","Germain","Champagnole","Champagnole",null,null,{"$f":"IF(N831=\"\",\"\",VLOOKUP(N831,Ville!$A$3:$E$40,4,0))","v":"p"},0,{"$f":"IF(N831=\"\",0,VLOOKUP(N831,Ville!$A$3:$E$40,3,0))","v":"00:00:00"},null,3,3,null,null,null,null,null,null,6,6,{"$f":"IF(N831=\"\",\"\",VLOOKUP(N831,Ville!$A$3:$E$40,2,0))","v":0},null,null,0,0,0,0,0,0,0,0,0,0,0,0,0,null,null,"","","",""]
[null,null,null,null,null,null,2013,{"$f":"IF(K832=\"\",\"\",VLOOKUP(I832,'Suiv Contr '!$D$14:$E$25,2))","v":"février"},2,null,"2013-02-06","Germain","Champagnole","Champagnole",null,null,{"$f":"IF(N832=\"\",\"\",VLOOKUP(N832,Ville!$A$3:$E$40,4,0))","v":"p"},0,{"$f":"IF(N832=\"\",0,VLOOKUP(N832,Ville!$A$3:$E$40,3,0))","v":"00:00:00"},null,10,3,null,null,1,1,null,1,13,14,{"$f":"IF(N832=\"\",\"\",VLOOKUP(N832,Ville!$A$3:$E$40,2,0))","v":0},null,null,0,0,0,0,0,0,0,0,0,0,0,0,0,null,null,"","","",""]
[null,null,null,null,null,null,2013,{"$f":"IF(K833=\"\",\"\",VLOOKUP(I833,'Suiv Contr '!$D$14:$E$25,2))","v":"février"},2,null,"2013-02-07","Germain","Champagnole","Champagnole",null,null,{"$f":"IF(N833=\"\",\"\",VLOOKUP(N833,Ville!$A$3:$E$40,4,0))","v":"p"},0,{"$f":"IF(N833=\"\",0,VLOOKUP(N833,Ville!$A$3:$E$40,3,0))","v":"00:00:00"},null,2,2,null,null,1,1,null,null,4,5,{"$f":"IF(N833=\"\",\"\",VLOOKUP(N833,Ville!$A$3:$E$40,2,0))","v":0},null,null,0,0,0,0,0,0,0,0,0,0,0,0,0,null,null,"","","",""]
[null,null,null,null,null,null,2013,{"$f":"IF(K834=\"\",\"\",VLOOKUP(I834,'Suiv Contr '!$D$14:$E$25,2))","v":"février"},2,null,"2013-02-08","Germain","Champagnole","Champagnole",null,null,{"$f":"IF(N834=\"\",\"\",VLOOKUP(N834,Ville!$A$3:$E$40,4,0))","v":"p"},0,{"$f":"IF(N834=\"\",0,VLOOKUP(N834,Ville!$A$3:$E$40,3,0))","v":"00:00:00"},null,7,2,null,null,null,null,null,null,9,9,{"$f":"IF(N834=\"\",\"\",VLOOKUP(N834,Ville!$A$3:$E$40,2,0))","v":0},null,null,0,0,0,0,0,0,0,0,0,0,0,0,0,null,null,"","","",""]
[null,null,null,null,null,null,2013,{"$f":"IF(K835=\"\",\"\",VLOOKUP(I835,'Suiv Contr '!$D$14:$E$25,2))","v":"février"},2,null,"2013-02-11","Germain","Meythet","Meythet",null,null,{"$f":"IF(N835=\"\",\"\",VLOOKUP(N835,Ville!$A$3:$E$40,4,0))","v":"ca"},0,{"$f":"IF(N835=\"\",0,VLOOKUP(N835,Ville!$A$3:$E$40,3,0))","v":"04:20:00"},null,3,null,null,null,null,null,null,null,3,3,{"$f":"IF(N835=\"\",\"\",VLOOKUP(N835,Ville!$A$3:$E$40,2,0))","v":298},null,null,0,0,0,0,0,0,0,0,0,0,0,0,0,null,null,"","","",1]
[null,null,null,null,null,null,2013,{"$f":"IF(K836=\"\",\"\",VLOOKUP(I836,'Suiv Contr '!$D$14:$E$25,2))","v":"février"},2,null,"2013-02-12","Germain","Champagnole","Champagnole",null,null,{"$f":"IF(N836=\"\",\"\",VLOOKUP(N836,Ville!$A$3:$E$40,4,0))","v":"p"},0,{"$f":"IF(N836=\"\",0,VLOOKUP(N836,Ville!$A$3:$E$40,3,0))","v":"00:00:00"},null,null,null,null,null,null,null,null,null,0,0,{"$f":"IF(N836=\"\",\"\",VLOOKUP(N836,Ville!$A$3:$E$40,2,0))","v":0},null,null,0,0,0,0,0,0,0,0,0,0,0,0,0,null,null,"","","",""]
[null,null,null,null,null,null,2013,{"$f":"IF(K837=\"\",\"\",VLOOKUP(I837,'Suiv Contr '!$D$14:$E$25,2))","v":"février"},2,null,"2013-02-13","Germain","Champagnole","Champagnole",null,null,{"$f":"IF(N837=\"\",\"\",VLOOKUP(N837,Ville!$A$3:$E$40,4,0))","v":"p"},0,{"$f":"IF(N837=\"\",0,VLOOKUP(N837,Ville!$A$3:$E$40,3,0))","v":"00:00:00"},null,null,2,null,null,null,null,null,null,2,2,{"$f":"IF(N837=\"\",\"\",VLOOKUP(N837,Ville!$A$3:$E$40,2,0))","v":0},null,null,0,0,0,0,0,0,0,0,0,0,0,0,0,null,null,"","","",""]
[null,null,null,null,null,null,2013,{"$f":"IF(K838=\"\",\"\",VLOOKUP(I838,'Suiv Contr '!$D$14:$E$25,2))","v":"février"},2,null,"2013-02-14","Germain","Champagnole","Champagnole",null,null,{"$f":"IF(N838=\"\",\"\",VLOOKUP(N838,Ville!$A$3:$E$40,4,0))","v":"p"},0,{"$f":"IF(N838=\"\",0,VLOOKUP(N838,Ville!$A$3:$E$40,3,0))","v":"00:00:00"},null,4,null,null,null,null,1,null,null,4,4,{"$f":"IF(N838=\"\",\"\",VLOOKUP(N838,Ville!$A$3:$E$40,2,0))","v":0},null,null,0,0,0,0,0,0,0,0,0,0,0,0,0,null,null,"","","",""]
[null,null,null,null,null,null,2013,{"$f":"IF(K839=\"\",\"\",VLOOKUP(I839,'Suiv Contr '!$D$14:$E$25,2))","v":"février"},2,null,"2013-02-15","Germain","Champagnole","Champagnole",null,null,{"$f":"IF(N839=\"\",\"\",VLOOKUP(N839,Ville!$A$3:$E$40,4,0))","v":"p"},0,{"$f":"IF(N839=\"\",0,VLOOKUP(N839,Ville!$A$3:$E$40,3,0))","v":"00:00:00"},null,4,1,null,null,null,null,null,null,5,5,{"$f":"IF(N839=\"\",\"\",VLOOKUP(N839,Ville!$A$3:$E$40,2,0))","v":0},null,null,0,0,0,0,0,0,0,0,0,0,0,0,0,null,null,"","","",""]
[null,null,null,null,null,null,2013,{"$f":"IF(K840=\"\",\"\",VLOOKUP(I840,'Suiv Contr '!$D$14:$E$25,2))","v":"février"},2,null,"2013-02-18","Germain","Champagnole","Champagnole",null,null,{"$f":"IF(N840=\"\",\"\",VLOOKUP(N840,Ville!$A$3:$E$40,4,0))","v":"p"},0,{"$f":"IF(N840=\"\",0,VLOOKUP(N840,Ville!$A$3:$E$40,3,0))","v":"00:00:00"},null,5,null,null,null,null,2,null,null,5,5,{"$f":"IF(N840=\"\",\"\",VLOOKUP(N840,Ville!$A$3:$E$40,2,0))","v":0},"gaz",null,0,0,0,0,0,0,0,0,0,0,0,0,0,null,null,"","","",""]
[null,null,null,null,null,null,2013,{"$f":"IF(K841=\"\",\"\",VLOOKUP(I841,'Suiv Contr '!$D$14:$E$25,2))","v":"février"},2,null,"2013-02-19","Germain","Champagnole","Champagnole",null,null,{"$f":"IF(N841=\"\",\"\",VLOOKUP(N841,Ville!$A$3:$E$40,4,0))","v":"p"},0,{"$f":"IF(N841=\"\",0,VLOOKUP(N841,Ville!$A$3:$E$40,3,0))","v":"00:00:00"},null,1,1,null,null,1,null,null,null,2,3,{"$f":"IF(N841=\"\",\"\",VLOOKUP(N841,Ville!$A$3:$E$40,2,0))","v":0},null,null,0,0,0,0,0,0,0,0,0,0,0,0,0,null,null,"",{"$f":"IF(Q841=\"v\",3,\"\")","v":""},{"$f":"IF(Q841=\"rec\",2,\"\")","v":""},""]
[null,null,null,null,null,null,2013,{"$f":"IF(K842=\"\",\"\",VLOOKUP(I842,'Suiv Contr '!$D$14:$E$25,2))","v":"février"},2,null,"2013-02-20","Germain","Thann","Thann",null,null,{"$f":"IF(N842=\"\",\"\",VLOOKUP(N842,Ville!$A$3:$E$40,4,0))","v":"ca"},0,{"$f":"IF(N842=\"\",0,VLOOKUP(N842,Ville!$A$3:$E$40,3,0))","v":"04:30:00"},null,2,null,3,null,null,null,null,null,5,5,{"$f":"IF(N842=\"\",\"\",VLOOKUP(N842,Ville!$A$3:$E$40,2,0))","v":402},null,null,0,0,0,0,0,0,0,0,0,0,0,0,0,null,null,"","","",1]
[null,null,null,null,null,null,2013,{"$f":"IF(K843=\"\",\"\",VLOOKUP(I843,'Suiv Contr '!$D$14:$E$25,2))","v":"février"},2,null,"2013-02-21","Germain","Champagnole","Champagnole",null,null,{"$f":"IF(N843=\"\",\"\",VLOOKUP(N843,Ville!$A$3:$E$40,4,0))","v":"p"},0,{"$f":"IF(N843=\"\",0,VLOOKUP(N843,Ville!$A$3:$E$40,3,0))","v":"00:00:00"},null,5,5,null,null,null,null,null,null,10,10,{"$f":"IF(N843=\"\",\"\",VLOOKUP(N843,Ville!$A$3:$E$40,2,0))","v":0},null,null,0,0,0,0,0,0,0,0,0,0,0,0,0,null,null,"","","",""]
[null,null,null,null,null,null,2013,{"$f":"IF(K844=\"\",\"\",VLOOKUP(I844,'Suiv Contr '!$D$14:$E$25,2))","v":"février"},2,null,"2013-02-22","Germain","Germain","Champagnole",null,null,{"$f":"IF(N844=\"\",\"\",VLOOKUP(N844,Ville!$A$3:$E$40,4,0))","v":"p"},0,{"$f":"IF(N844=\"\",0,VLOOKUP(N844,Ville!$A$3:$E$40,3,0))","v":"00:00:00"},null,5,4,null,null,null,null,null,null,9,9,{"$f":"IF(N844=\"\",\"\",VLOOKUP(N844,Ville!$A$3:$E$40,2,0))","v":0},null,null,0,0,0,0,0,0,0,0,0,0,0,0,0,null,null,"","","",""]
[null,null,null,null,null,null,2013,{"$f":"IF(K845=\"\",\"\",VLOOKUP(I845,'Suiv Contr '!$D$14:$E$25,2))","v":"février"},2,null,"2013-02-25","Germain","Meythet","Meythet",null,null,{"$f":"IF(N845=\"\",\"\",VLOOKUP(N845,Ville!$A$3:$E$40,4,0))","v":"ca"},0,{"$f":"IF(N845=\"\",0,VLOOKUP(N845,Ville!$A$3:$E$40,3,0))","v":"04:20:00"},null,14,null,null,null,1,null,null,null,14,15,{"$f":"IF(N845=\"\",\"\",VLOOKUP(N845,Ville!$A$3:$E$40,2,0))","v":298},null,null,0,0,0,0,0,0,0,0,0,0,0,0,0,null,null,"","","",1]
[null,null,null,null,null,null,2013,{"$f":"IF(K846=\"\",\"\",VLOOKUP(I846,'Suiv Contr '!$D$14:$E$25,2))","v":"février"},2,null,"2013-02-26","Germain","Champagnole","Champagnole",null,null,{"$f":"IF(N846=\"\",\"\",VLOOKUP(N846,Ville!$A$3:$E$40,4,0))","v":"p"},0,{"$f":"IF(N846=\"\",0,VLOOKUP(N846,Ville!$A$3:$E$40,3,0))","v":"00:00:00"},null,1,3,null,null,null,null,null,null,4,4,{"$f":"IF(N846=\"\",\"\",VLOOKUP(N846,Ville!$A$3:$E$40,2,0))","v":0},"panne informatique",null,0,0,0,0,0,0,0,0,0,0,0,0,0,null,null,"","","",""]
[null,null,null,null,null,null,2013,{"$f":"IF(K847=\"\",\"\",VLOOKUP(I847,'Suiv Contr '!$D$14:$E$25,2))","v":"février"},2,null,"2013-02-27","Germain",{"$f":"N847","v":"Champagnole"},"Champagnole",null,null,{"$f":"IF(N847=\"\",\"\",VLOOKUP(N847,Ville!$A$3:$E$40,4,0))","v":"p"},0,{"$f":"IF(N847=\"\",0,VLOOKUP(N847,Ville!$A$3:$E$40,3,0))","v":"00:00:00"},null,null,1,null,null,null,null,null,null,1,1,{"$f":"IF(N847=\"\",\"\",VLOOKUP(N847,Ville!$A$3:$E$40,2,0))","v":0},"panne informatique",null,0,0,0,0,0,0,0,0,0,0,0,0,0,null,null,"","","",""]
[null,null,null,null,null,null,2013,{"$f":"IF(K848=\"\",\"\",VLOOKUP(I848,'Suiv Contr '!$D$14:$E$25,2))","v":"février"},2,null,"2013-02-28","Germain","Champagnole","Champagnole",null,null,{"$f":"IF(N848=\"\",\"\",VLOOKUP(N848,Ville!$A$3:$E$40,4,0))","v":"p"},0,{"$f":"IF(N848=\"\",0,VLOOKUP(N848,Ville!$A$3:$E$40,3,0))","v":"00:00:00"},null,2,8,null,null,null,null,null,null,10,10,{"$f":"IF(N848=\"\",\"\",VLOOKUP(N848,Ville!$A$3:$E$40,2,0))","v":0},"panne informatique",null,0,0,0,0,0,0,0,0,0,0,0,0,0,null,null,"","","",""]
[null,null,null,null,null,null,2013,{"$f":"IF(K849=\"\",\"\",VLOOKUP(I849,'Suiv Contr '!$D$14:$E$25,2))","v":"mars"},3,null,"2013-03-01","Germain","Champagnole","Champagnole",null,null,{"$f":"IF(N849=\"\",\"\",VLOOKUP(N849,Ville!$A$3:$E$40,4,0))","v":"p"},0,{"$f":"IF(N849=\"\",0,VLOOKUP(N849,Ville!$A$3:$E$40,3,0))","v":"00:00:00"},null,6,2,null,null,null,1,2,null,8,8,{"$f":"IF(N849=\"\",\"\",VLOOKUP(N849,Ville!$A$3:$E$40,2,0))","v":0},"panne informatique",null,0,0,0,0,0,0,0,0,0,0,0,0,0,null,null,"","","",""]
[null,null,null,null,null,null,2013,{"$f":"IF(K850=\"\",\"\",VLOOKUP(I850,'Suiv Contr '!$D$14:$E$25,2))","v":"mars"},3,null,"2013-03-04","Germain","Besançon iax","Besançon iax",null,null,{"$f":"IF(N850=\"\",\"\",VLOOKUP(N850,Ville!$A$3:$E$40,4,0))","v":"ca"},0,{"$f":"IF(N850=\"\",0,VLOOKUP(N850,Ville!$A$3:$E$40,3,0))","v":"01:50:00"},null,4,null,null,null,null,null,null,null,4,4,{"$f":"IF(N850=\"\",\"\",VLOOKUP(N850,Ville!$A$3:$E$40,2,0))","v":132},null,null,0,0,0,0,0,0,0,0,0,0,0,0,0,null,null,"","","",1]
[null,null,null,null,null,null,2013,{"$f":"IF(K851=\"\",\"\",VLOOKUP(I851,'Suiv Contr '!$D$14:$E$25,2))","v":"mars"},3,null,"2013-03-05","Germain","Champagnole","Champagnole",null,null,{"$f":"IF(N851=\"\",\"\",VLOOKUP(N851,Ville!$A$3:$E$40,4,0))","v":"p"},0,{"$f":"IF(N851=\"\",0,VLOOKUP(N851,Ville!$A$3:$E$40,3,0))","v":"00:00:00"},null,11,null,null,null,1,1,null,1,11,12,{"$f":"IF(N851=\"\",\"\",VLOOKUP(N851,Ville!$A$3:$E$40,2,0))","v":0},null,null,0,0,0,0,0,0,0,0,0,0,0,0,{"$f":"SUM(AH851:AS851)","v":0},null,null,"","","",""]
[null,null,null,null,null,null,2013,{"$f":"IF(K852=\"\",\"\",VLOOKUP(I852,'Suiv Contr '!$D$14:$E$25,2))","v":"mars"},3,null,"2013-03-06","Germain","Champagnole","Champagnole",null,null,{"$f":"IF(N852=\"\",\"\",VLOOKUP(N852,Ville!$A$3:$E$40,4,0))","v":"p"},0,{"$f":"IF(N852=\"\",0,VLOOKUP(N852,Ville!$A$3:$E$40,3,0))","v":"00:00:00"},null,7,null,null,null,1,1,null,null,7,8,{"$f":"IF(N852=\"\",\"\",VLOOKUP(N852,Ville!$A$3:$E$40,2,0))","v":0},null,null,0,0,0,0,0,0,0,0,0,0,0,0,0,null,null,"","","",""]
[null,null,null,null,null,null,2013,{"$f":"IF(K853=\"\",\"\",VLOOKUP(I853,'Suiv Contr '!$D$14:$E$25,2))","v":"mars"},3,null,"2013-03-07","Germain","Champagnole","Champagnole",null,null,{"$f":"IF(N853=\"\",\"\",VLOOKUP(N853,Ville!$A$3:$E$40,4,0))","v":"p"},0,{"$f":"IF(N853=\"\",0,VLOOKUP(N853,Ville!$A$3:$E$40,3,0))","v":"00:00:00"},null,2,2,null,null,null,null,null,null,{"$f":"U853+V853+W853+X853","v":4},{"$f":"AC853+Y853","v":4},{"$f":"IF(N853=\"\",\"\",VLOOKUP(N853,Ville!$A$3:$E$40,2,0))","v":0},null,null,0,0,0,0,0,0,0,0,0,0,0,0,0,null,null,"","","",""]
[null,null,null,null,null,null,2013,{"$f":"IF(K854=\"\",\"\",VLOOKUP(I854,'Suiv Contr '!$D$14:$E$25,2))","v":"mars"},3,null,"2013-03-08","Germain","Champagnole","Champagnole",null,null,{"$f":"IF(N854=\"\",\"\",VLOOKUP(N854,Ville!$A$3:$E$40,4,0))","v":"p"},0,{"$f":"IF(N854=\"\",0,VLOOKUP(N854,Ville!$A$3:$E$40,3,0))","v":"00:00:00"},null,5,1,null,null,null,1,null,null,6,6,{"$f":"IF(N854=\"\",\"\",VLOOKUP(N854,Ville!$A$3:$E$40,2,0))","v":0},null,null,0,0,0,0,0,0,0,0,0,0,0,0,0,null,null,"","","",""]
[null,null,null,null,null,null,{"$f":"IF(K855=\"\",\"\",YEAR(K855))","v":2013},{"$f":"IF(K855=\"\",\"\",VLOOKUP(I855,'Suiv Contr '!$D$14:$E$25,2))","v":"mars"},{"$f":"IF(K855=\"\",\"\",MONTH(K855))","v":3},null,"2013-03-11","Germain","Champagnole","Champagnole",null,null,{"$f":"IF(N855=\"\",\"\",VLOOKUP(N855,Ville!$A$3:$E$40,4,0))","v":"p"},0,{"$f":"IF(N855=\"\",0,VLOOKUP(N855,Ville!$A$3:$E$40,3,0))","v":"00:00:00"},null,4,null,null,null,1,null,null,null,4,5,{"$f":"IF(N855=\"\",\"\",VLOOKUP(N855,Ville!$A$3:$E$40,2,0))","v":0},null,null,0,0,0,0,0,0,0,0,0,0,0,0,0,null,null,{"$f":"IF(K855=$B$2,1,\"\")","v":""},"","",""]
[null,null,null,null,null,null,2013,{"$f":"IF(K856=\"\",\"\",VLOOKUP(I856,'Suiv Contr '!$D$14:$E$25,2))","v":"mars"},3,null,"2013-03-12","Germain","Champagnole","Champagnole",null,null,{"$f":"IF(N856=\"\",\"\",VLOOKUP(N856,Ville!$A$3:$E$40,4,0))","v":"p"},0,{"$f":"IF(N856=\"\",0,VLOOKUP(N856,Ville!$A$3:$E$40,3,0))","v":"00:00:00"},null,4,1,null,null,null,2,null,2,5,5,{"$f":"IF(N856=\"\",\"\",VLOOKUP(N856,Ville!$A$3:$E$40,2,0))","v":0},null,null,0,0,0,0,0,0,0,0,0,0,0,0,0,null,null,"","","",""]
[null,null,null,null,null,null,2013,{"$f":"IF(K857=\"\",\"\",VLOOKUP(I857,'Suiv Contr '!$D$14:$E$25,2))","v":"mars"},3,null,"2013-03-13","Germain","Champagnole","Champagnole",null,null,{"$f":"IF(N857=\"\",\"\",VLOOKUP(N857,Ville!$A$3:$E$40,4,0))","v":"p"},0,{"$f":"IF(N857=\"\",0,VLOOKUP(N857,Ville!$A$3:$E$40,3,0))","v":"00:00:00"},null,7,null,null,null,1,null,1,null,7,8,{"$f":"IF(N857=\"\",\"\",VLOOKUP(N857,Ville!$A$3:$E$40,2,0))","v":0},null,null,0,0,0,0,0,0,0,0,0,0,0,0,0,null,null,"","","",""]
[null,null,null,null,null,null,2013,{"$f":"IF(K858=\"\",\"\",VLOOKUP(I858,'Suiv Contr '!$D$14:$E$25,2))","v":"mars"},3,null,"2013-03-14","Germain","Champagnole","Champagnole",null,null,{"$f":"IF(N858=\"\",\"\",VLOOKUP(N858,Ville!$A$3:$E$40,4,0))","v":"p"},0,{"$f":"IF(N858=\"\",0,VLOOKUP(N858,Ville!$A$3:$E$40,3,0))","v":"00:00:00"},null,1,null,null,null,1,null,1,null,1,2,{"$f":"IF(N858=\"\",\"\",VLOOKUP(N858,Ville!$A$3:$E$40,2,0))","v":0},null,null,0,0,0,0,0,0,0,0,0,0,0,0,0,null,null,"","","",{"$f":"IF(OR(N858=\"champagnole\",N858=\"\"),\"\",1)","v":""}]
[null,null,null,null,null,null,2013,{"$f":"IF(K859=\"\",\"\",VLOOKUP(I859,'Suiv Contr '!$D$14:$E$25,2))","v":"mars"},3,null,"2013-03-15","Germain","Champagnole","Champagnole",null,null,{"$f":"IF(N859=\"\",\"\",VLOOKUP(N859,Ville!$A$3:$E$40,4,0))","v":"p"},0,{"$f":"IF(N859=\"\",0,VLOOKUP(N859,Ville!$A$3:$E$40,3,0))","v":"00:00:00"},null,7,1,null,null,null,1,null,null,8,8,{"$f":"IF(N859=\"\",\"\",VLOOKUP(N859,Ville!$A$3:$E$40,2,0))","v":0},null,null,0,0,0,0,0,0,0,0,0,0,0,0,0,null,null,"","","",""]
[null,null,null,null,null,null,2013,{"$f":"IF(K860=\"\",\"\",VLOOKUP(I860,'Suiv Contr '!$D$14:$E$25,2))","v":"mars"},3,null,"2013-03-18","Germain","Champagnole","Champagnole",null,null,{"$f":"IF(N860=\"\",\"\",VLOOKUP(N860,Ville!$A$3:$E$40,4,0))","v":"p"},0,{"$f":"IF(N860=\"\",0,VLOOKUP(N860,Ville!$A$3:$E$40,3,0))","v":"00:00:00"},null,1,null,null,null,3,null,null,null,1,4,{"$f":"IF(N860=\"\",\"\",VLOOKUP(N860,Ville!$A$3:$E$40,2,0))","v":0},null,null,0,0,0,0,0,0,0,0,0,0,0,0,0,null,null,"","","",""]
[null,null,null,null,null,null,2013,{"$f":"IF(K861=\"\",\"\",VLOOKUP(I861,'Suiv Contr '!$D$14:$E$25,2))","v":"mars"},3,null,"2013-03-19","Germain","Champagnole","Champagnole",null,null,{"$f":"IF(N861=\"\",\"\",VLOOKUP(N861,Ville!$A$3:$E$40,4,0))","v":"p"},0,{"$f":"IF(N861=\"\",0,VLOOKUP(N861,Ville!$A$3:$E$40,3,0))","v":"00:00:00"},null,2,1,null,null,null,null,null,null,3,3,{"$f":"IF(N861=\"\",\"\",VLOOKUP(N861,Ville!$A$3:$E$40,2,0))","v":0},null,null,0,0,0,0,0,0,0,0,0,0,0,0,0,null,null,"","","",""]
[null,null,null,null,null,null,2013,{"$f":"IF(K862=\"\",\"\",VLOOKUP(I862,'Suiv Contr '!$D$14:$E$25,2))","v":"mars"},3,null,"2013-03-20","Germain","Thann","Thann",null,null,{"$f":"IF(N862=\"\",\"\",VLOOKUP(N862,Ville!$A$3:$E$40,4,0))","v":"ca"},0,{"$f":"IF(N862=\"\",0,VLOOKUP(N862,Ville!$A$3:$E$40,3,0))","v":"04:30:00"},null,3,null,3,null,null,2,null,null,6,6,{"$f":"IF(N862=\"\",\"\",VLOOKUP(N862,Ville!$A$3:$E$40,2,0))","v":402},null,null,0,0,0,0,0,0,0,0,0,0,0,0,0,null,null,"","","",1]
[null,null,null,null,null,null,2013,{"$f":"IF(K863=\"\",\"\",VLOOKUP(I863,'Suiv Contr '!$D$14:$E$25,2))","v":"mars"},3,null,"2013-03-21","Germain","Champagnole","Champagnole",null,null,{"$f":"IF(N863=\"\",\"\",VLOOKUP(N863,Ville!$A$3:$E$40,4,0))","v":"p"},0,{"$f":"IF(N863=\"\",0,VLOOKUP(N863,Ville!$A$3:$E$40,3,0))","v":"00:00:00"},null,5,null,null,null,null,null,null,null,5,5,{"$f":"IF(N863=\"\",\"\",VLOOKUP(N863,Ville!$A$3:$E$40,2,0))","v":0},null,null,0,0,0,0,0,0,0,0,0,0,0,0,0,null,null,"","","",""]
[null,null,null,null,null,null,2013,{"$f":"IF(K864=\"\",\"\",VLOOKUP(I864,'Suiv Contr '!$D$14:$E$25,2))","v":"mars"},3,null,"2013-03-22","Germain","Champagnole","Champagnole",null,null,{"$f":"IF(N864=\"\",\"\",VLOOKUP(N864,Ville!$A$3:$E$40,4,0))","v":"p"},0,{"$f":"IF(N864=\"\",0,VLOOKUP(N864,Ville!$A$3:$E$40,3,0))","v":"00:00:00"},null,4,null,null,null,null,null,null,null,4,4,{"$f":"IF(N864=\"\",\"\",VLOOKUP(N864,Ville!$A$3:$E$40,2,0))","v":0},null,null,0,0,0,0,0,0,0,0,0,0,0,0,0,null,null,"","","",""]
[null,null,null,null,null,null,2013,{"$f":"IF(K865=\"\",\"\",VLOOKUP(I865,'Suiv Contr '!$D$14:$E$25,2))","v":"mars"},3,null,"2013-03-25","Germain","Meythet","Meythet",null,null,{"$f":"IF(N865=\"\",\"\",VLOOKUP(N865,Ville!$A$3:$E$40,4,0))","v":"ca"},0,{"$f":"IF(N865=\"\",0,VLOOKUP(N865,Ville!$A$3:$E$40,3,0))","v":"04:20:00"},null,null,null,null,null,null,null,null,null,null,null,{"$f":"IF(N865=\"\",\"\",VLOOKUP(N865,Ville!$A$3:$E$40,2,0))","v":298},null,null,0,0,0,0,0,0,0,0,0,0,0,0,0,null,null,"","","",1]
[null,null,null,null,null,null,2013,{"$f":"IF(K866=\"\",\"\",VLOOKUP(I866,'Suiv Contr '!$D$14:$E$25,2))","v":"mars"},3,null,"2013-03-26","Germain","Champagnole","Champagnole",null,null,{"$f":"IF(N866=\"\",\"\",VLOOKUP(N866,Ville!$A$3:$E$40,4,0))","v":"p"},0,{"$f":"IF(N866=\"\",0,VLOOKUP(N866,Ville!$A$3:$E$40,3,0))","v":"00:00:00"},null,4,null,null,null,null,null,null,null,4,4,{"$f":"IF(N866=\"\",\"\",VLOOKUP(N866,Ville!$A$3:$E$40,2,0))","v":0},null,null,0,0,0,0,0,0,0,0,0,0,0,0,0,null,null,"","","",""]
[null,null,null,null,null,null,2013,{"$f":"IF(K867=\"\",\"\",VLOOKUP(I867,'Suiv Contr '!$D$14:$E$25,2))","v":"mars"},3,null,"2013-03-27","Germain","Champagnole","Champagnole",null,null,{"$f":"IF(N867=\"\",\"\",VLOOKUP(N867,Ville!$A$3:$E$40,4,0))","v":"p"},0,{"$f":"IF(N867=\"\",0,VLOOKUP(N867,Ville!$A$3:$E$40,3,0))","v":"00:00:00"},null,2,1,null,null,null,null,null,null,3,3,{"$f":"IF(N867=\"\",\"\",VLOOKUP(N867,Ville!$A$3:$E$40,2,0))","v":0},null,null,0,0,0,0,0,0,0,0,0,0,0,0,0,null,null,"","","",""]
[null,null,null,null,null,null,"",{"$f":"IF(K868=\"\",\"\",VLOOKUP(I868,'Suiv Contr '!$D$14:$E$25,2))","v":""},"",null,null,null,"00:00:00",null,null,null,{"$f":"IF(N868=\"\",\"\",VLOOKUP(N868,Ville!$A$3:$E$40,4,0))","v":""},0,{"$f":"IF(N868=\"\",0,VLOOKUP(N868,Ville!$A$3:$E$40,3,0))","v":"00:00:00"},null,null,null,null,null,null,null,null,null,0,0,{"$f":"IF(N868=\"\",\"\",VLOOKUP(N868,Ville!$A$3:$E$40,2,0))","v":""},null,null,0,0,0,0,0,0,0,0,0,0,0,0,0,null,null,"","","",""]
[null,null,null,null,null,null,"",{"$f":"IF(K869=\"\",\"\",VLOOKUP(I869,'Suiv Contr '!$D$14:$E$25,2))","v":""},"",null,null,null,"00:00:00",null,null,null,{"$f":"IF(N869=\"\",\"\",VLOOKUP(N869,Ville!$A$3:$E$40,4,0))","v":""},0,{"$f":"IF(N869=\"\",0,VLOOKUP(N869,Ville!$A$3:$E$40,3,0))","v":"00:00:00"},null,null,null,null,null,null,null,null,null,0,0,{"$f":"IF(N869=\"\",\"\",VLOOKUP(N869,Ville!$A$3:$E$40,2,0))","v":""},null,null,0,0,0,0,0,0,0,0,0,0,0,0,0,null,null,"","","",""]
[null,null,null,null,null,null,"",{"$f":"IF(K870=\"\",\"\",VLOOKUP(I870,'Suiv Contr '!$D$14:$E$25,2))","v":""},"",null,null,null,"00:00:00",null,null,null,{"$f":"IF(N870=\"\",\"\",VLOOKUP(N870,Ville!$A$3:$E$40,4,0))","v":""},0,{"$f":"IF(N870=\"\",0,VLOOKUP(N870,Ville!$A$3:$E$40,3,0))","v":"00:00:00"},null,null,null,null,null,null,null,null,null,0,0,{"$f":"IF(N870=\"\",\"\",VLOOKUP(N870,Ville!$A$3:$E$40,2,0))","v":""},null,null,0,0,0,0,0,0,0,0,0,0,0,0,0,null,null,"","","",""]
[null,null,null,null,null,null,"",{"$f":"IF(K871=\"\",\"\",VLOOKUP(I871,'Suiv Contr '!$D$14:$E$25,2))","v":""},"",null,null,null,"00:00:00",null,null,null,{"$f":"IF(N871=\"\",\"\",VLOOKUP(N871,Ville!$A$3:$E$40,4,0))","v":""},0,{"$f":"IF(N871=\"\",0,VLOOKUP(N871,Ville!$A$3:$E$40,3,0))","v":"00:00:00"},null,null,null,null,null,null,null,null,null,0,0,{"$f":"IF(N871=\"\",\"\",VLOOKUP(N871,Ville!$A$3:$E$40,2,0))","v":""},null,null,0,0,0,0,0,0,0,0,0,0,0,0,0,null,null,"","","",""]
[null,null,null,null,null,null,"",{"$f":"IF(K872=\"\",\"\",VLOOKUP(I872,'Suiv Contr '!$D$14:$E$25,2))","v":""},"",null,null,null,"00:00:00",null,null,null,{"$f":"IF(N872=\"\",\"\",VLOOKUP(N872,Ville!$A$3:$E$40,4,0))","v":""},0,{"$f":"IF(N872=\"\",0,VLOOKUP(N872,Ville!$A$3:$E$40,3,0))","v":"00:00:00"},null,null,null,null,null,null,null,null,null,0,0,{"$f":"IF(N872=\"\",\"\",VLOOKUP(N872,Ville!$A$3:$E$40,2,0))","v":""},null,null,0,0,0,0,0,0,0,0,0,0,0,0,0,null,null,"","","",""]
[null,null,null,null,null,null,"",{"$f":"IF(K873=\"\",\"\",VLOOKUP(I873,'Suiv Contr '!$D$14:$E$25,2))","v":""},"",null,null,null,"00:00:00",null,null,null,{"$f":"IF(N873=\"\",\"\",VLOOKUP(N873,Ville!$A$3:$E$40,4,0))","v":""},0,{"$f":"IF(N873=\"\",0,VLOOKUP(N873,Ville!$A$3:$E$40,3,0))","v":"00:00:00"},null,null,null,null,null,null,null,null,null,0,0,{"$f":"IF(N873=\"\",\"\",VLOOKUP(N873,Ville!$A$3:$E$40,2,0))","v":""},null,null,0,0,0,0,0,0,0,0,0,0,0,0,0,null,null,"","","",""]
[null,null,null,null,null,null,"",{"$f":"IF(K874=\"\",\"\",VLOOKUP(I874,'Suiv Contr '!$D$14:$E$25,2))","v":""},"",null,null,null,"00:00:00",null,null,null,{"$f":"IF(N874=\"\",\"\",VLOOKUP(N874,Ville!$A$3:$E$40,4,0))","v":""},0,{"$f":"IF(N874=\"\",0,VLOOKUP(N874,Ville!$A$3:$E$40,3,0))","v":"00:00:00"},null,null,null,null,null,null,null,null,null,0,0,{"$f":"IF(N874=\"\",\"\",VLOOKUP(N874,Ville!$A$3:$E$40,2,0))","v":""},null,null,0,0,0,0,0,0,0,0,0,0,0,0,0,null,null,"","","",""]
[null,null,null,null,null,null,"",{"$f":"IF(K875=\"\",\"\",VLOOKUP(I875,'Suiv Contr '!$D$14:$E$25,2))","v":""},"",null,null,null,"00:00:00",null,null,null,{"$f":"IF(N875=\"\",\"\",VLOOKUP(N875,Ville!$A$3:$E$40,4,0))","v":""},0,{"$f":"IF(N875=\"\",0,VLOOKUP(N875,Ville!$A$3:$E$40,3,0))","v":"00:00:00"},null,null,null,null,null,null,null,null,null,0,0,{"$f":"IF(N875=\"\",\"\",VLOOKUP(N875,Ville!$A$3:$E$40,2,0))","v":""},null,null,0,0,0,0,0,0,0,0,0,0,0,0,0,null,null,"","","",""]
[null,null,null,null,null,null,"",{"$f":"IF(K876=\"\",\"\",VLOOKUP(I876,'Suiv Contr '!$D$14:$E$25,2))","v":""},"",null,null,null,"00:00:00",null,null,null,{"$f":"IF(N876=\"\",\"\",VLOOKUP(N876,Ville!$A$3:$E$40,4,0))","v":""},0,{"$f":"IF(N876=\"\",0,VLOOKUP(N876,Ville!$A$3:$E$40,3,0))","v":"00:00:00"},null,null,null,null,null,null,null,null,null,0,0,{"$f":"IF(N876=\"\",\"\",VLOOKUP(N876,Ville!$A$3:$E$40,2,0))","v":""},null,null,0,0,0,0,0,0,0,0,0,0,0,0,0,null,null,"","","",""]
[null,null,null,null,null,null,"",{"$f":"IF(K877=\"\",\"\",VLOOKUP(I877,'Suiv Contr '!$D$14:$E$25,2))","v":""},"",null,null,null,"00:00:00",null,null,null,{"$f":"IF(N877=\"\",\"\",VLOOKUP(N877,Ville!$A$3:$E$40,4,0))","v":""},0,{"$f":"IF(N877=\"\",0,VLOOKUP(N877,Ville!$A$3:$E$40,3,0))","v":"00:00:00"},null,null,null,null,null,null,null,null,null,0,0,{"$f":"IF(N877=\"\",\"\",VLOOKUP(N877,Ville!$A$3:$E$40,2,0))","v":""},null,null,0,0,0,0,0,0,0,0,0,0,0,0,0,null,null,"","","",""]
[null,null,null,null,null,null,"",{"$f":"IF(K878=\"\",\"\",VLOOKUP(I878,'Suiv Contr '!$D$14:$E$25,2))","v":""},"",null,null,null,"00:00:00",null,null,null,{"$f":"IF(N878=\"\",\"\",VLOOKUP(N878,Ville!$A$3:$E$40,4,0))","v":""},0,{"$f":"IF(N878=\"\",0,VLOOKUP(N878,Ville!$A$3:$E$40,3,0))","v":"00:00:00"},null,null,null,null,null,null,null,null,null,0,0,{"$f":"IF(N878=\"\",\"\",VLOOKUP(N878,Ville!$A$3:$E$40,2,0))","v":""},null,null,0,0,0,0,0,0,0,0,0,0,0,0,0,null,null,"","","",""]
[null,null,null,null,null,null,"",{"$f":"IF(K879=\"\",\"\",VLOOKUP(I879,'Suiv Contr '!$D$14:$E$25,2))","v":""},"",null,null,null,"00:00:00",null,null,null,{"$f":"IF(N879=\"\",\"\",VLOOKUP(N879,Ville!$A$3:$E$40,4,0))","v":""},0,{"$f":"IF(N879=\"\",0,VLOOKUP(N879,Ville!$A$3:$E$40,3,0))","v":"00:00:00"},null,null,null,null,null,null,null,null,null,0,0,{"$f":"IF(N879=\"\",\"\",VLOOKUP(N879,Ville!$A$3:$E$40,2,0))","v":""},null,null,0,0,0,0,0,0,0,0,0,0,0,0,0,null,null,"","","",""]
[null,null,null,null,null,null,"",{"$f":"IF(K880=\"\",\"\",VLOOKUP(I880,'Suiv Contr '!$D$14:$E$25,2))","v":""},"",null,null,null,"00:00:00",null,null,null,{"$f":"IF(N880=\"\",\"\",VLOOKUP(N880,Ville!$A$3:$E$40,4,0))","v":""},0,{"$f":"IF(N880=\"\",0,VLOOKUP(N880,Ville!$A$3:$E$40,3,0))","v":"00:00:00"},null,null,null,null,null,null,null,null,null,0,0,{"$f":"IF(N880=\"\",\"\",VLOOKUP(N880,Ville!$A$3:$E$40,2,0))","v":""},null,null,0,0,0,0,0,0,0,0,0,0,0,0,0,null,null,"","","",""]
[null,null,null,null,null,null,"",{"$f":"IF(K881=\"\",\"\",VLOOKUP(I881,'Suiv Contr '!$D$14:$E$25,2))","v":""},"",null,null,null,"00:00:00",null,null,null,{"$f":"IF(N881=\"\",\"\",VLOOKUP(N881,Ville!$A$3:$E$40,4,0))","v":""},0,{"$f":"IF(N881=\"\",0,VLOOKUP(N881,Ville!$A$3:$E$40,3,0))","v":"00:00:00"},null,null,null,null,null,null,null,null,null,0,0,{"$f":"IF(N881=\"\",\"\",VLOOKUP(N881,Ville!$A$3:$E$40,2,0))","v":""},null,null,0,0,0,0,0,0,0,0,0,0,0,0,0,null,null,"","","",""]
[null,null,null,null,null,null,"",{"$f":"IF(K882=\"\",\"\",VLOOKUP(I882,'Suiv Contr '!$D$14:$E$25,2))","v":""},"",null,null,null,"00:00:00",null,null,null,{"$f":"IF(N882=\"\",\"\",VLOOKUP(N882,Ville!$A$3:$E$40,4,0))","v":""},0,{"$f":"IF(N882=\"\",0,VLOOKUP(N882,Ville!$A$3:$E$40,3,0))","v":"00:00:00"},null,null,null,null,null,null,null,null,null,0,0,{"$f":"IF(N882=\"\",\"\",VLOOKUP(N882,Ville!$A$3:$E$40,2,0))","v":""},null,null,0,0,0,0,0,0,0,0,0,0,0,0,0,null,null,"","","",""]
[null,null,null,null,null,null,"",{"$f":"IF(K883=\"\",\"\",VLOOKUP(I883,'Suiv Contr '!$D$14:$E$25,2))","v":""},"",null,null,null,"00:00:00",null,null,null,{"$f":"IF(N883=\"\",\"\",VLOOKUP(N883,Ville!$A$3:$E$40,4,0))","v":""},0,{"$f":"IF(N883=\"\",0,VLOOKUP(N883,Ville!$A$3:$E$40,3,0))","v":"00:00:00"},null,null,null,null,null,null,null,null,null,0,0,{"$f":"IF(N883=\"\",\"\",VLOOKUP(N883,Ville!$A$3:$E$40,2,0))","v":""},null,null,0,0,0,0,0,0,0,0,0,0,0,0,0,null,null,"","","",""]
[null,null,null,null,null,null,"",{"$f":"IF(K884=\"\",\"\",VLOOKUP(I884,'Suiv Contr '!$D$14:$E$25,2))","v":""},"",null,null,null,"00:00:00",null,null,null,{"$f":"IF(N884=\"\",\"\",VLOOKUP(N884,Ville!$A$3:$E$40,4,0))","v":""},0,{"$f":"IF(N884=\"\",0,VLOOKUP(N884,Ville!$A$3:$E$40,3,0))","v":"00:00:00"},null,null,null,null,null,null,null,null,null,0,0,{"$f":"IF(N884=\"\",\"\",VLOOKUP(N884,Ville!$A$3:$E$40,2,0))","v":""},null,null,0,0,0,0,0,0,0,0,0,0,0,0,0,null,null,"","","",""]
[null,null,null,null,null,null,"",{"$f":"IF(K885=\"\",\"\",VLOOKUP(I885,'Suiv Contr '!$D$14:$E$25,2))","v":""},"",null,null,null,"00:00:00",null,null,null,{"$f":"IF(N885=\"\",\"\",VLOOKUP(N885,Ville!$A$3:$E$40,4,0))","v":""},0,{"$f":"IF(N885=\"\",0,VLOOKUP(N885,Ville!$A$3:$E$40,3,0))","v":"00:00:00"},null,null,null,null,null,null,null,null,null,0,0,{"$f":"IF(N885=\"\",\"\",VLOOKUP(N885,Ville!$A$3:$E$40,2,0))","v":""},null,null,0,0,0,0,0,0,0,0,0,0,0,0,0,null,null,"","","",""]
[null,null,null,null,null,null,"",{"$f":"IF(K886=\"\",\"\",VLOOKUP(I886,'Suiv Contr '!$D$14:$E$25,2))","v":""},"",null,null,null,"00:00:00",null,null,null,{"$f":"IF(N886=\"\",\"\",VLOOKUP(N886,Ville!$A$3:$E$40,4,0))","v":""},0,{"$f":"IF(N886=\"\",0,VLOOKUP(N886,Ville!$A$3:$E$40,3,0))","v":"00:00:00"},null,null,null,null,null,null,null,null,null,0,0,{"$f":"IF(N886=\"\",\"\",VLOOKUP(N886,Ville!$A$3:$E$40,2,0))","v":""},null,null,0,0,0,0,0,0,0,0,0,0,0,0,0,null,null,"","","",""]
[null,null,null,null,null,null,"",{"$f":"IF(K887=\"\",\"\",VLOOKUP(I887,'Suiv Contr '!$D$14:$E$25,2))","v":""},"",null,null,null,"00:00:00",null,null,null,{"$f":"IF(N887=\"\",\"\",VLOOKUP(N887,Ville!$A$3:$E$40,4,0))","v":""},0,{"$f":"IF(N887=\"\",0,VLOOKUP(N887,Ville!$A$3:$E$40,3,0))","v":"00:00:00"},null,null,null,null,null,null,null,null,null,0,0,{"$f":"IF(N887=\"\",\"\",VLOOKUP(N887,Ville!$A$3:$E$40,2,0))","v":""},null,null,0,0,0,0,0,0,0,0,0,0,0,0,0,null,null,"","","",""]
[null,null,null,null,null,null,"",{"$f":"IF(K888=\"\",\"\",VLOOKUP(I888,'Suiv Contr '!$D$14:$E$25,2))","v":""},"",null,null,null,"00:00:00",null,null,null,{"$f":"IF(N888=\"\",\"\",VLOOKUP(N888,Ville!$A$3:$E$40,4,0))","v":""},0,{"$f":"IF(N888=\"\",0,VLOOKUP(N888,Ville!$A$3:$E$40,3,0))","v":"00:00:00"},null,null,null,null,null,null,null,null,null,0,0,{"$f":"IF(N888=\"\",\"\",VLOOKUP(N888,Ville!$A$3:$E$40,2,0))","v":""},null,null,0,0,0,0,0,0,0,0,0,0,0,0,0,null,null,"","","",""]
[null,null,null,null,null,null,"",{"$f":"IF(K889=\"\",\"\",VLOOKUP(I889,'Suiv Contr '!$D$14:$E$25,2))","v":""},"",null,null,null,"00:00:00",null,null,null,{"$f":"IF(N889=\"\",\"\",VLOOKUP(N889,Ville!$A$3:$E$40,4,0))","v":""},{"$f":"IF(Q889=\"v\",1,0)","v":0},{"$f":"IF(N889=\"\",0,VLOOKUP(N889,Ville!$A$3:$E$40,3,0))","v":"00:00:00"},null,null,null,null,null,null,null,null,null,0,0,{"$f":"IF(N889=\"\",\"\",VLOOKUP(N889,Ville!$A$3:$E$40,2,0))","v":""},null,null,0,0,0,0,0,0,0,0,0,0,0,0,0,null,null,"","","",""]
[null,null,null,null,null,null,"",{"$f":"IF(K890=\"\",\"\",VLOOKUP(I890,'Suiv Contr '!$D$14:$E$25,2))","v":""},"",null,null,null,"00:00:00",null,null,null,{"$f":"IF(N890=\"\",\"\",VLOOKUP(N890,Ville!$A$3:$E$40,4,0))","v":""},0,{"$f":"IF(N890=\"\",0,VLOOKUP(N890,Ville!$A$3:$E$40,3,0))","v":"00:00:00"},null,null,null,null,null,null,null,null,null,0,0,{"$f":"IF(N890=\"\",\"\",VLOOKUP(N890,Ville!$A$3:$E$40,2,0))","v":""},null,null,0,0,0,0,0,0,0,0,0,0,0,0,0,null,null,"","","",""]
[null,null,null,null,null,null,"",{"$f":"IF(K891=\"\",\"\",VLOOKUP(I891,'Suiv Contr '!$D$14:$E$25,2))","v":""},"",null,null,null,"00:00:00",null,null,null,{"$f":"IF(N891=\"\",\"\",VLOOKUP(N891,Ville!$A$3:$E$40,4,0))","v":""},0,{"$f":"IF(N891=\"\",0,VLOOKUP(N891,Ville!$A$3:$E$40,3,0))","v":"00:00:00"},null,null,null,null,null,null,null,null,null,0,0,{"$f":"IF(N891=\"\",\"\",VLOOKUP(N891,Ville!$A$3:$E$40,2,0))","v":""},null,null,0,0,0,0,0,0,0,0,0,0,0,0,0,null,null,"","","",""]
[null,null,null,null,null,null,"",{"$f":"IF(K892=\"\",\"\",VLOOKUP(I892,'Suiv Contr '!$D$14:$E$25,2))","v":""},"",null,null,null,"00:00:00",null,null,null,{"$f":"IF(N892=\"\",\"\",VLOOKUP(N892,Ville!$A$3:$E$40,4,0))","v":""},0,{"$f":"IF(N892=\"\",0,VLOOKUP(N892,Ville!$A$3:$E$40,3,0))","v":"00:00:00"},null,null,null,null,null,null,null,null,null,0,0,{"$f":"IF(N892=\"\",\"\",VLOOKUP(N892,Ville!$A$3:$E$40,2,0))","v":""},null,null,0,0,0,0,0,0,0,0,0,0,0,0,0,null,null,"","","",""]
[null,null,null,null,null,null,"",{"$f":"IF(K893=\"\",\"\",VLOOKUP(I893,'Suiv Contr '!$D$14:$E$25,2))","v":""},"",null,null,null,"00:00:00",null,null,null,{"$f":"IF(N893=\"\",\"\",VLOOKUP(N893,Ville!$A$3:$E$40,4,0))","v":""},0,{"$f":"IF(N893=\"\",0,VLOOKUP(N893,Ville!$A$3:$E$40,3,0))","v":"00:00:00"},null,null,null,null,null,null,null,null,null,0,0,{"$f":"IF(N893=\"\",\"\",VLOOKUP(N893,Ville!$A$3:$E$40,2,0))","v":""},null,null,0,0,0,0,0,0,0,0,0,0,0,0,0,null,null,"","","",""]
[null,null,null,null,null,null,"",{"$f":"IF(K894=\"\",\"\",VLOOKUP(I894,'Suiv Contr '!$D$14:$E$25,2))","v":""},"",null,null,null,"00:00:00",null,null,null,{"$f":"IF(N894=\"\",\"\",VLOOKUP(N894,Ville!$A$3:$E$40,4,0))","v":""},0,{"$f":"IF(N894=\"\",0,VLOOKUP(N894,Ville!$A$3:$E$40,3,0))","v":"00:00:00"},null,null,null,null,null,null,null,null,null,0,0,{"$f":"IF(N894=\"\",\"\",VLOOKUP(N894,Ville!$A$3:$E$40,2,0))","v":""},null,null,0,0,0,0,0,0,0,0,0,0,0,0,0,null,null,"","","",""]
[null,null,null,null,null,null,"",{"$f":"IF(K895=\"\",\"\",VLOOKUP(I895,'Suiv Contr '!$D$14:$E$25,2))","v":""},"",null,null,null,"00:00:00",null,null,null,{"$f":"IF(N895=\"\",\"\",VLOOKUP(N895,Ville!$A$3:$E$40,4,0))","v":""},0,{"$f":"IF(N895=\"\",0,VLOOKUP(N895,Ville!$A$3:$E$40,3,0))","v":"00:00:00"},null,null,null,null,null,null,null,null,null,0,0,{"$f":"IF(N895=\"\",\"\",VLOOKUP(N895,Ville!$A$3:$E$40,2,0))","v":""},null,null,0,0,0,0,0,0,0,0,0,0,0,0,0,null,null,"","","",""]
[null,null,null,null,null,null,"",{"$f":"IF(K896=\"\",\"\",VLOOKUP(I896,'Suiv Contr '!$D$14:$E$25,2))","v":""},"",null,null,null,"00:00:00",null,null,null,{"$f":"IF(N896=\"\",\"\",VLOOKUP(N896,Ville!$A$3:$E$40,4,0))","v":""},0,{"$f":"IF(N896=\"\",0,VLOOKUP(N896,Ville!$A$3:$E$40,3,0))","v":"00:00:00"},null,null,null,null,null,null,null,null,null,0,0,{"$f":"IF(N896=\"\",\"\",VLOOKUP(N896,Ville!$A$3:$E$40,2,0))","v":""},null,null,0,0,0,0,0,0,0,0,0,0,0,0,0,null,null,"","","",""]
[null,null,null,null,null,null,"",{"$f":"IF(K897=\"\",\"\",VLOOKUP(I897,'Suiv Contr '!$D$14:$E$25,2))","v":""},"",null,null,null,"00:00:00",null,null,null,{"$f":"IF(N897=\"\",\"\",VLOOKUP(N897,Ville!$A$3:$E$40,4,0))","v":""},0,{"$f":"IF(N897=\"\",0,VLOOKUP(N897,Ville!$A$3:$E$40,3,0))","v":"00:00:00"},null,null,null,null,null,null,null,null,null,0,0,{"$f":"IF(N897=\"\",\"\",VLOOKUP(N897,Ville!$A$3:$E$40,2,0))","v":""},null,null,0,0,0,0,0,0,0,0,0,0,0,0,0,null,null,"","","",""]
[null,null,null,null,null,null,"",{"$f":"IF(K898=\"\",\"\",VLOOKUP(I898,'Suiv Contr '!$D$14:$E$25,2))","v":""},"",null,null,null,"00:00:00",null,null,null,{"$f":"IF(N898=\"\",\"\",VLOOKUP(N898,Ville!$A$3:$E$40,4,0))","v":""},0,{"$f":"IF(N898=\"\",0,VLOOKUP(N898,Ville!$A$3:$E$40,3,0))","v":"00:00:00"},null,null,null,null,null,null,null,null,null,0,0,{"$f":"IF(N898=\"\",\"\",VLOOKUP(N898,Ville!$A$3:$E$40,2,0))","v":""},null,null,0,0,0,0,0,0,0,0,0,0,0,0,0,null,null,"","","",""]
[null,null,null,null,null,null,"",{"$f":"IF(K899=\"\",\"\",VLOOKUP(I899,'Suiv Contr '!$D$14:$E$25,2))","v":""},"",null,null,null,"00:00:00",null,null,null,{"$f":"IF(N899=\"\",\"\",VLOOKUP(N899,Ville!$A$3:$E$40,4,0))","v":""},0,{"$f":"IF(N899=\"\",0,VLOOKUP(N899,Ville!$A$3:$E$40,3,0))","v":"00:00:00"},null,null,null,null,null,null,null,null,null,0,0,{"$f":"IF(N899=\"\",\"\",VLOOKUP(N899,Ville!$A$3:$E$40,2,0))","v":""},null,null,0,0,0,0,0,0,0,0,0,0,0,0,0,null,null,"","","",""]
[null,null,null,null,null,null,"",{"$f":"IF(K900=\"\",\"\",VLOOKUP(I900,'Suiv Contr '!$D$14:$E$25,2))","v":""},"",null,null,null,"00:00:00",null,null,null,{"$f":"IF(N900=\"\",\"\",VLOOKUP(N900,Ville!$A$3:$E$40,4,0))","v":""},0,{"$f":"IF(N900=\"\",0,VLOOKUP(N900,Ville!$A$3:$E$40,3,0))","v":"00:00:00"},null,null,null,null,null,null,null,null,null,0,0,{"$f":"IF(N900=\"\",\"\",VLOOKUP(N900,Ville!$A$3:$E$40,2,0))","v":""},null,null,0,0,0,0,0,0,0,0,0,0,0,0,0,null,null,"","","",""]
[null,null,null,null,null,null,"",{"$f":"IF(K901=\"\",\"\",VLOOKUP(I901,'Suiv Contr '!$D$14:$E$25,2))","v":""},"",null,null,null,"00:00:00",null,null,null,{"$f":"IF(N901=\"\",\"\",VLOOKUP(N901,Ville!$A$3:$E$40,4,0))","v":""},0,{"$f":"IF(N901=\"\",0,VLOOKUP(N901,Ville!$A$3:$E$40,3,0))","v":"00:00:00"},null,null,null,null,null,null,null,null,null,0,0,{"$f":"IF(N901=\"\",\"\",VLOOKUP(N901,Ville!$A$3:$E$40,2,0))","v":""},null,null,0,0,0,0,0,0,0,0,0,0,0,0,0,null,null,"","","",""]
[null,null,null,null,null,null,"",{"$f":"IF(K902=\"\",\"\",VLOOKUP(I902,'Suiv Contr '!$D$14:$E$25,2))","v":""},"",null,null,null,"00:00:00",null,null,null,{"$f":"IF(N902=\"\",\"\",VLOOKUP(N902,Ville!$A$3:$E$40,4,0))","v":""},0,{"$f":"IF(N902=\"\",0,VLOOKUP(N902,Ville!$A$3:$E$40,3,0))","v":"00:00:00"},null,null,null,null,null,null,null,null,null,0,0,{"$f":"IF(N902=\"\",\"\",VLOOKUP(N902,Ville!$A$3:$E$40,2,0))","v":""},null,null,0,0,0,0,0,0,0,0,0,0,0,0,0,null,null,"","","",""]
[null,null,null,null,null,null,"",{"$f":"IF(K903=\"\",\"\",VLOOKUP(I903,'Suiv Contr '!$D$14:$E$25,2))","v":""},"",null,null,null,"00:00:00",null,null,null,{"$f":"IF(N903=\"\",\"\",VLOOKUP(N903,Ville!$A$3:$E$40,4,0))","v":""},0,{"$f":"IF(N903=\"\",0,VLOOKUP(N903,Ville!$A$3:$E$40,3,0))","v":"00:00:00"},null,null,null,null,null,null,null,null,null,0,0,{"$f":"IF(N903=\"\",\"\",VLOOKUP(N903,Ville!$A$3:$E$40,2,0))","v":""},null,null,0,0,0,0,0,0,0,0,0,0,0,0,0,null,null,"","","",""]
[null,null,null,null,null,null,"",{"$f":"IF(K904=\"\",\"\",VLOOKUP(I904,'Suiv Contr '!$D$14:$E$25,2))","v":""},"",null,null,null,"00:00:00",null,null,null,{"$f":"IF(N904=\"\",\"\",VLOOKUP(N904,Ville!$A$3:$E$40,4,0))","v":""},0,{"$f":"IF(N904=\"\",0,VLOOKUP(N904,Ville!$A$3:$E$40,3,0))","v":"00:00:00"},null,null,null,null,null,null,null,null,null,0,0,{"$f":"IF(N904=\"\",\"\",VLOOKUP(N904,Ville!$A$3:$E$40,2,0))","v":""},null,null,0,0,0,0,0,0,0,0,0,0,0,0,0,null,null,"","","",""]
[null,null,null,null,null,null,"",{"$f":"IF(K905=\"\",\"\",VLOOKUP(I905,'Suiv Contr '!$D$14:$E$25,2))","v":""},"",null,null,null,"00:00:00",null,null,null,{"$f":"IF(N905=\"\",\"\",VLOOKUP(N905,Ville!$A$3:$E$40,4,0))","v":""},0,{"$f":"IF(N905=\"\",0,VLOOKUP(N905,Ville!$A$3:$E$40,3,0))","v":"00:00:00"},null,null,null,null,null,null,null,null,null,0,0,{"$f":"IF(N905=\"\",\"\",VLOOKUP(N905,Ville!$A$3:$E$40,2,0))","v":""},null,null,0,0,0,0,0,0,0,0,0,0,0,0,0,null,null,"",{"$f":"IF(Q905=\"v\",3,\"\")","v":""},{"$f":"IF(Q905=\"rec\",2,\"\")","v":""},""]
[null,null,null,null,null,null,"",{"$f":"IF(K906=\"\",\"\",VLOOKUP(I906,'Suiv Contr '!$D$14:$E$25,2))","v":""},"",null,null,null,"00:00:00",null,null,null,{"$f":"IF(N906=\"\",\"\",VLOOKUP(N906,Ville!$A$3:$E$40,4,0))","v":""},0,{"$f":"IF(N906=\"\",0,VLOOKUP(N906,Ville!$A$3:$E$40,3,0))","v":"00:00:00"},null,null,null,null,null,null,null,null,null,0,0,{"$f":"IF(N906=\"\",\"\",VLOOKUP(N906,Ville!$A$3:$E$40,2,0))","v":""},null,null,0,0,0,0,0,0,0,0,0,0,0,0,0,null,null,"","","",""]
[null,null,null,null,null,null,"",{"$f":"IF(K907=\"\",\"\",VLOOKUP(I907,'Suiv Contr '!$D$14:$E$25,2))","v":""},"",null,null,null,"00:00:00",null,null,null,{"$f":"IF(N907=\"\",\"\",VLOOKUP(N907,Ville!$A$3:$E$40,4,0))","v":""},0,{"$f":"IF(N907=\"\",0,VLOOKUP(N907,Ville!$A$3:$E$40,3,0))","v":"00:00:00"},null,null,null,null,null,null,null,null,null,0,0,{"$f":"IF(N907=\"\",\"\",VLOOKUP(N907,Ville!$A$3:$E$40,2,0))","v":""},null,null,0,0,0,0,0,0,0,0,0,0,0,0,0,null,null,"","","",""]
[null,null,null,null,null,null,"",{"$f":"IF(K908=\"\",\"\",VLOOKUP(I908,'Suiv Contr '!$D$14:$E$25,2))","v":""},"",null,null,null,"00:00:00",null,null,null,{"$f":"IF(N908=\"\",\"\",VLOOKUP(N908,Ville!$A$3:$E$40,4,0))","v":""},0,{"$f":"IF(N908=\"\",0,VLOOKUP(N908,Ville!$A$3:$E$40,3,0))","v":"00:00:00"},null,null,null,null,null,null,null,null,null,0,0,{"$f":"IF(N908=\"\",\"\",VLOOKUP(N908,Ville!$A$3:$E$40,2,0))","v":""},null,null,0,0,0,0,0,0,0,0,0,0,0,0,0,null,null,"","","",""]
[null,null,null,null,null,null,"",{"$f":"IF(K909=\"\",\"\",VLOOKUP(I909,'Suiv Contr '!$D$14:$E$25,2))","v":""},"",null,null,null,"00:00:00",null,null,null,{"$f":"IF(N909=\"\",\"\",VLOOKUP(N909,Ville!$A$3:$E$40,4,0))","v":""},0,{"$f":"IF(N909=\"\",0,VLOOKUP(N909,Ville!$A$3:$E$40,3,0))","v":"00:00:00"},null,null,null,null,null,null,null,null,null,0,0,{"$f":"IF(N909=\"\",\"\",VLOOKUP(N909,Ville!$A$3:$E$40,2,0))","v":""},null,null,0,0,0,0,0,0,0,0,0,0,0,0,0,null,null,"","","",""]
[null,null,null,null,null,null,"",{"$f":"IF(K910=\"\",\"\",VLOOKUP(I910,'Suiv Contr '!$D$14:$E$25,2))","v":""},"",null,null,null,"00:00:00",null,null,null,{"$f":"IF(N910=\"\",\"\",VLOOKUP(N910,Ville!$A$3:$E$40,4,0))","v":""},0,{"$f":"IF(N910=\"\",0,VLOOKUP(N910,Ville!$A$3:$E$40,3,0))","v":"00:00:00"},null,null,null,null,null,null,null,null,null,0,0,{"$f":"IF(N910=\"\",\"\",VLOOKUP(N910,Ville!$A$3:$E$40,2,0))","v":""},null,null,0,0,0,0,0,0,0,0,0,0,0,0,0,null,null,"","","",""]
[null,null,null,null,null,null,"",{"$f":"IF(K911=\"\",\"\",VLOOKUP(I911,'Suiv Contr '!$D$14:$E$25,2))","v":""},"",null,null,null,{"$f":"N911","v":"00:00:00"},null,null,null,{"$f":"IF(N911=\"\",\"\",VLOOKUP(N911,Ville!$A$3:$E$40,4,0))","v":""},0,{"$f":"IF(N911=\"\",0,VLOOKUP(N911,Ville!$A$3:$E$40,3,0))","v":"00:00:00"},null,null,null,null,null,null,null,null,null,0,0,{"$f":"IF(N911=\"\",\"\",VLOOKUP(N911,Ville!$A$3:$E$40,2,0))","v":""},null,null,0,0,0,0,0,0,0,0,0,0,0,0,0,null,null,"","","",""]
[null,null,null,null,null,null,"",{"$f":"IF(K912=\"\",\"\",VLOOKUP(I912,'Suiv Contr '!$D$14:$E$25,2))","v":""},"",null,null,null,"00:00:00",null,null,null,{"$f":"IF(N912=\"\",\"\",VLOOKUP(N912,Ville!$A$3:$E$40,4,0))","v":""},0,{"$f":"IF(N912=\"\",0,VLOOKUP(N912,Ville!$A$3:$E$40,3,0))","v":"00:00:00"},null,null,null,null,null,null,null,null,null,0,0,{"$f":"IF(N912=\"\",\"\",VLOOKUP(N912,Ville!$A$3:$E$40,2,0))","v":""},null,null,0,0,0,0,0,0,0,0,0,0,0,0,0,null,null,"","","",""]
[null,null,null,null,null,null,"",{"$f":"IF(K913=\"\",\"\",VLOOKUP(I913,'Suiv Contr '!$D$14:$E$25,2))","v":""},"",null,null,null,"00:00:00",null,null,null,{"$f":"IF(N913=\"\",\"\",VLOOKUP(N913,Ville!$A$3:$E$40,4,0))","v":""},0,{"$f":"IF(N913=\"\",0,VLOOKUP(N913,Ville!$A$3:$E$40,3,0))","v":"00:00:00"},null,null,null,null,null,null,null,null,null,0,0,{"$f":"IF(N913=\"\",\"\",VLOOKUP(N913,Ville!$A$3:$E$40,2,0))","v":""},null,null,0,0,0,0,0,0,0,0,0,0,0,0,0,null,null,"","","",""]
[null,null,null,null,null,null,"",{"$f":"IF(K914=\"\",\"\",VLOOKUP(I914,'Suiv Contr '!$D$14:$E$25,2))","v":""},"",null,null,null,"00:00:00",null,null,null,{"$f":"IF(N914=\"\",\"\",VLOOKUP(N914,Ville!$A$3:$E$40,4,0))","v":""},0,{"$f":"IF(N914=\"\",0,VLOOKUP(N914,Ville!$A$3:$E$40,3,0))","v":"00:00:00"},null,null,null,null,null,null,null,null,null,0,0,{"$f":"IF(N914=\"\",\"\",VLOOKUP(N914,Ville!$A$3:$E$40,2,0))","v":""},null,null,0,0,0,0,0,0,0,0,0,0,0,0,0,null,null,"","","",""]
[null,null,null,null,null,null,"",{"$f":"IF(K915=\"\",\"\",VLOOKUP(I915,'Suiv Contr '!$D$14:$E$25,2))","v":""},"",null,null,null,"00:00:00",null,null,null,{"$f":"IF(N915=\"\",\"\",VLOOKUP(N915,Ville!$A$3:$E$40,4,0))","v":""},0,{"$f":"IF(N915=\"\",0,VLOOKUP(N915,Ville!$A$3:$E$40,3,0))","v":"00:00:00"},null,null,null,null,null,null,null,null,null,0,0,{"$f":"IF(N915=\"\",\"\",VLOOKUP(N915,Ville!$A$3:$E$40,2,0))","v":""},null,null,0,0,0,0,0,0,0,0,0,0,0,0,{"$f":"SUM(AH915:AS915)","v":0},null,null,"","","",""]
[null,null,null,null,null,null,"",{"$f":"IF(K916=\"\",\"\",VLOOKUP(I916,'Suiv Contr '!$D$14:$E$25,2))","v":""},"",null,null,null,"00:00:00",null,null,null,{"$f":"IF(N916=\"\",\"\",VLOOKUP(N916,Ville!$A$3:$E$40,4,0))","v":""},0,{"$f":"IF(N916=\"\",0,VLOOKUP(N916,Ville!$A$3:$E$40,3,0))","v":"00:00:00"},null,null,null,null,null,null,null,null,null,0,0,{"$f":"IF(N916=\"\",\"\",VLOOKUP(N916,Ville!$A$3:$E$40,2,0))","v":""},null,null,0,0,0,0,0,0,0,0,0,0,0,0,0,null,null,"","","",""]
[null,null,null,null,null,null,"",{"$f":"IF(K917=\"\",\"\",VLOOKUP(I917,'Suiv Contr '!$D$14:$E$25,2))","v":""},"",null,null,null,"00:00:00",null,null,null,{"$f":"IF(N917=\"\",\"\",VLOOKUP(N917,Ville!$A$3:$E$40,4,0))","v":""},0,{"$f":"IF(N917=\"\",0,VLOOKUP(N917,Ville!$A$3:$E$40,3,0))","v":"00:00:00"},null,null,null,null,null,null,null,null,null,{"$f":"U917+V917+W917+X917","v":0},{"$f":"AC917+Y917","v":0},{"$f":"IF(N917=\"\",\"\",VLOOKUP(N917,Ville!$A$3:$E$40,2,0))","v":""},null,null,0,0,0,0,0,0,0,0,0,0,0,0,0,null,null,"","","",""]
[null,null,null,null,null,null,"",{"$f":"IF(K918=\"\",\"\",VLOOKUP(I918,'Suiv Contr '!$D$14:$E$25,2))","v":""},"",null,null,null,"00:00:00",null,null,null,{"$f":"IF(N918=\"\",\"\",VLOOKUP(N918,Ville!$A$3:$E$40,4,0))","v":""},0,{"$f":"IF(N918=\"\",0,VLOOKUP(N918,Ville!$A$3:$E$40,3,0))","v":"00:00:00"},null,null,null,null,null,null,null,null,null,0,0,{"$f":"IF(N918=\"\",\"\",VLOOKUP(N918,Ville!$A$3:$E$40,2,0))","v":""},null,null,0,0,0,0,0,0,0,0,0,0,0,0,0,null,null,"","","",""]
[null,null,null,null,null,null,{"$f":"IF(K919=\"\",\"\",YEAR(K919))","v":""},{"$f":"IF(K919=\"\",\"\",VLOOKUP(I919,'Suiv Contr '!$D$14:$E$25,2))","v":""},{"$f":"IF(K919=\"\",\"\",MONTH(K919))","v":""},null,null,null,"00:00:00",null,null,null,{"$f":"IF(N919=\"\",\"\",VLOOKUP(N919,Ville!$A$3:$E$40,4,0))","v":""},0,{"$f":"IF(N919=\"\",0,VLOOKUP(N919,Ville!$A$3:$E$40,3,0))","v":"00:00:00"},null,null,null,null,null,null,null,null,null,0,0,{"$f":"IF(N919=\"\",\"\",VLOOKUP(N919,Ville!$A$3:$E$40,2,0))","v":""},null,null,0,0,0,0,0,0,0,0,0,0,0,0,0,null,null,{"$f":"IF(K919=$B$2,1,\"\")","v":""},"","",""]
[null,null,null,null,null,null,"",{"$f":"IF(K920=\"\",\"\",VLOOKUP(I920,'Suiv Contr '!$D$14:$E$25,2))","v":""},"",null,null,null,"00:00:00",null,null,null,{"$f":"IF(N920=\"\",\"\",VLOOKUP(N920,Ville!$A$3:$E$40,4,0))","v":""},0,{"$f":"IF(N920=\"\",0,VLOOKUP(N920,Ville!$A$3:$E$40,3,0))","v":"00:00:00"},null,null,null,null,null,null,null,null,null,0,0,{"$f":"IF(N920=\"\",\"\",VLOOKUP(N920,Ville!$A$3:$E$40,2,0))","v":""},null,null,0,0,0,0,0,0,0,0,0,0,0,0,0,null,null,"","","",""]
[null,null,null,null,null,null,"",{"$f":"IF(K921=\"\",\"\",VLOOKUP(I921,'Suiv Contr '!$D$14:$E$25,2))","v":""},"",null,null,null,"00:00:00",null,null,null,{"$f":"IF(N921=\"\",\"\",VLOOKUP(N921,Ville!$A$3:$E$40,4,0))","v":""},0,{"$f":"IF(N921=\"\",0,VLOOKUP(N921,Ville!$A$3:$E$40,3,0))","v":"00:00:00"},null,null,null,null,null,null,null,null,null,null,null,{"$f":"IF(N921=\"\",\"\",VLOOKUP(N921,Ville!$A$3:$E$40,2,0))","v":""},null,null,0,0,0,0,0,0,0,0,0,0,0,0,0,null,null,"","","",""]
[null,null,null,null,null,null,"",{"$f":"IF(K922=\"\",\"\",VLOOKUP(I922,'Suiv Contr '!$D$14:$E$25,2))","v":""},"",null,null,null,"00:00:00",null,null,null,{"$f":"IF(N922=\"\",\"\",VLOOKUP(N922,Ville!$A$3:$E$40,4,0))","v":""},0,{"$f":"IF(N922=\"\",0,VLOOKUP(N922,Ville!$A$3:$E$40,3,0))","v":"00:00:00"},null,null,null,null,null,null,null,null,null,null,null,{"$f":"IF(N922=\"\",\"\",VLOOKUP(N922,Ville!$A$3:$E$40,2,0))","v":""},null,null,0,0,0,0,0,0,0,0,0,0,0,0,0,null,null,"","","",{"$f":"IF(OR(N922=\"champagnole\",N922=\"\"),\"\",1)","v":""}]
[null,null,null,null,null,null,"",{"$f":"IF(K923=\"\",\"\",VLOOKUP(I923,'Suiv Contr '!$D$14:$E$25,2))","v":""},"",null,null,null,"00:00:00",null,null,null,{"$f":"IF(N923=\"\",\"\",VLOOKUP(N923,Ville!$A$3:$E$40,4,0))","v":""},0,{"$f":"IF(N923=\"\",0,VLOOKUP(N923,Ville!$A$3:$E$40,3,0))","v":"00:00:00"},null,null,null,null,null,null,null,null,null,null,null,{"$f":"IF(N923=\"\",\"\",VLOOKUP(N923,Ville!$A$3:$E$40,2,0))","v":""},null,null,0,0,0,0,0,0,0,0,0,0,0,0,0,null,null,"","","",""]
[null,null,null,null,null,null,"",{"$f":"IF(K924=\"\",\"\",VLOOKUP(I924,'Suiv Contr '!$D$14:$E$25,2))","v":""},"",null,null,null,"00:00:00",null,null,null,{"$f":"IF(N924=\"\",\"\",VLOOKUP(N924,Ville!$A$3:$E$40,4,0))","v":""},0,{"$f":"IF(N924=\"\",0,VLOOKUP(N924,Ville!$A$3:$E$40,3,0))","v":"00:00:00"},null,null,null,null,null,null,null,null,null,null,null,{"$f":"IF(N924=\"\",\"\",VLOOKUP(N924,Ville!$A$3:$E$40,2,0))","v":""},null,null,0,0,0,0,0,0,0,0,0,0,0,0,0,null,null,"","","",""]
[null,null,null,null,null,null,"",{"$f":"IF(K925=\"\",\"\",VLOOKUP(I925,'Suiv Contr '!$D$14:$E$25,2))","v":""},"",null,null,null,"00:00:00",null,null,null,{"$f":"IF(N925=\"\",\"\",VLOOKUP(N925,Ville!$A$3:$E$40,4,0))","v":""},0,{"$f":"IF(N925=\"\",0,VLOOKUP(N925,Ville!$A$3:$E$40,3,0))","v":"00:00:00"},null,null,null,null,null,null,null,null,null,null,null,{"$f":"IF(N925=\"\",\"\",VLOOKUP(N925,Ville!$A$3:$E$40,2,0))","v":""},null,null,0,0,0,0,0,0,0,0,0,0,0,0,0,null,null,"","","",""]
[null,null,null,null,null,null,"",{"$f":"IF(K926=\"\",\"\",VLOOKUP(I926,'Suiv Contr '!$D$14:$E$25,2))","v":""},"",null,null,null,"00:00:00",null,null,null,{"$f":"IF(N926=\"\",\"\",VLOOKUP(N926,Ville!$A$3:$E$40,4,0))","v":""},0,{"$f":"IF(N926=\"\",0,VLOOKUP(N926,Ville!$A$3:$E$40,3,0))","v":"00:00:00"},null,null,null,null,null,null,null,null,null,null,null,{"$f":"IF(N926=\"\",\"\",VLOOKUP(N926,Ville!$A$3:$E$40,2,0))","v":""},null,null,0,0,0,0,0,0,0,0,0,0,0,0,0,null,null,"","","",""]
[null,null,null,null,null,null,"",{"$f":"IF(K927=\"\",\"\",VLOOKUP(I927,'Suiv Contr '!$D$14:$E$25,2))","v":""},"",null,null,null,"00:00:00",null,null,null,{"$f":"IF(N927=\"\",\"\",VLOOKUP(N927,Ville!$A$3:$E$40,4,0))","v":""},0,{"$f":"IF(N927=\"\",0,VLOOKUP(N927,Ville!$A$3:$E$40,3,0))","v":"00:00:00"},null,null,null,null,null,null,null,null,null,null,null,{"$f":"IF(N927=\"\",\"\",VLOOKUP(N927,Ville!$A$3:$E$40,2,0))","v":""},null,null,0,0,0,0,0,0,0,0,0,0,0,0,0,null,null,"","","",""]
[null,null,null,null,null,null,"",{"$f":"IF(K928=\"\",\"\",VLOOKUP(I928,'Suiv Contr '!$D$14:$E$25,2))","v":""},"",null,null,null,"00:00:00",null,null,null,{"$f":"IF(N928=\"\",\"\",VLOOKUP(N928,Ville!$A$3:$E$40,4,0))","v":""},0,{"$f":"IF(N928=\"\",0,VLOOKUP(N928,Ville!$A$3:$E$40,3,0))","v":"00:00:00"},null,null,null,null,null,null,null,null,null,null,null,{"$f":"IF(N928=\"\",\"\",VLOOKUP(N928,Ville!$A$3:$E$40,2,0))","v":""},null,null,0,0,0,0,0,0,0,0,0,0,0,0,0,null,null,"","","",""]
[null,null,null,null,null,null,"",{"$f":"IF(K929=\"\",\"\",VLOOKUP(I929,'Suiv Contr '!$D$14:$E$25,2))","v":""},"",null,null,null,"00:00:00",null,null,null,{"$f":"IF(N929=\"\",\"\",VLOOKUP(N929,Ville!$A$3:$E$40,4,0))","v":""},0,{"$f":"IF(N929=\"\",0,VLOOKUP(N929,Ville!$A$3:$E$40,3,0))","v":"00:00:00"},null,null,null,null,null,null,null,null,null,null,null,{"$f":"IF(N929=\"\",\"\",VLOOKUP(N929,Ville!$A$3:$E$40,2,0))","v":""},null,null,0,0,0,0,0,0,0,0,0,0,0,0,0,null,null,"","","",""]
[null,null,null,null,null,null,"",{"$f":"IF(K930=\"\",\"\",VLOOKUP(I930,'Suiv Contr '!$D$14:$E$25,2))","v":""},"",null,null,null,"00:00:00",null,null,null,{"$f":"IF(N930=\"\",\"\",VLOOKUP(N930,Ville!$A$3:$E$40,4,0))","v":""},0,{"$f":"IF(N930=\"\",0,VLOOKUP(N930,Ville!$A$3:$E$40,3,0))","v":"00:00:00"},null,null,null,null,null,null,null,null,null,null,null,{"$f":"IF(N930=\"\",\"\",VLOOKUP(N930,Ville!$A$3:$E$40,2,0))","v":""},null,null,0,0,0,0,0,0,0,0,0,0,0,0,0,null,null,"","","",""]
[null,null,null,null,null,null,"",{"$f":"IF(K931=\"\",\"\",VLOOKUP(I931,'Suiv Contr '!$D$14:$E$25,2))","v":""},"",null,null,null,"00:00:00",null,null,null,{"$f":"IF(N931=\"\",\"\",VLOOKUP(N931,Ville!$A$3:$E$40,4,0))","v":""},0,{"$f":"IF(N931=\"\",0,VLOOKUP(N931,Ville!$A$3:$E$40,3,0))","v":"00:00:00"},null,null,null,null,null,null,null,null,null,null,null,{"$f":"IF(N931=\"\",\"\",VLOOKUP(N931,Ville!$A$3:$E$40,2,0))","v":""},null,null,0,0,0,0,0,0,0,0,0,0,0,0,0,null,null,"","","",""]
[null,null,null,null,null,null,"",{"$f":"IF(K932=\"\",\"\",VLOOKUP(I932,'Suiv Contr '!$D$14:$E$25,2))","v":""},"",null,null,null,"00:00:00",null,null,null,{"$f":"IF(N932=\"\",\"\",VLOOKUP(N932,Ville!$A$3:$E$40,4,0))","v":""},0,{"$f":"IF(N932=\"\",0,VLOOKUP(N932,Ville!$A$3:$E$40,3,0))","v":"00:00:00"},null,null,null,null,null,null,null,null,null,null,null,{"$f":"IF(N932=\"\",\"\",VLOOKUP(N932,Ville!$A$3:$E$40,2,0))","v":""},null,null,0,0,0,0,0,0,0,0,0,0,0,0,0,null,null,"","","",""]
[null,null,null,null,null,null,"",{"$f":"IF(K933=\"\",\"\",VLOOKUP(I933,'Suiv Contr '!$D$14:$E$25,2))","v":""},"",null,null,null,"00:00:00",null,null,null,{"$f":"IF(N933=\"\",\"\",VLOOKUP(N933,Ville!$A$3:$E$40,4,0))","v":""},0,{"$f":"IF(N933=\"\",0,VLOOKUP(N933,Ville!$A$3:$E$40,3,0))","v":"00:00:00"},null,null,null,null,null,null,null,null,null,null,null,{"$f":"IF(N933=\"\",\"\",VLOOKUP(N933,Ville!$A$3:$E$40,2,0))","v":""},null,null,0,0,0,0,0,0,0,0,0,0,0,0,0,null,null,"","","",""]
[null,null,null,null,null,null,"",{"$f":"IF(K934=\"\",\"\",VLOOKUP(I934,'Suiv Contr '!$D$14:$E$25,2))","v":""},"",null,null,null,"00:00:00",null,null,null,{"$f":"IF(N934=\"\",\"\",VLOOKUP(N934,Ville!$A$3:$E$40,4,0))","v":""},0,{"$f":"IF(N934=\"\",0,VLOOKUP(N934,Ville!$A$3:$E$40,3,0))","v":"00:00:00"},null,null,null,null,null,null,null,null,null,null,null,{"$f":"IF(N934=\"\",\"\",VLOOKUP(N934,Ville!$A$3:$E$40,2,0))","v":""},null,null,0,0,0,0,0,0,0,0,0,0,0,0,0,null,null,"","","",""]
[null,null,null,null,null,null,"",{"$f":"IF(K935=\"\",\"\",VLOOKUP(I935,'Suiv Contr '!$D$14:$E$25,2))","v":""},"",null,null,null,"00:00:00",null,null,null,{"$f":"IF(N935=\"\",\"\",VLOOKUP(N935,Ville!$A$3:$E$40,4,0))","v":""},0,{"$f":"IF(N935=\"\",0,VLOOKUP(N935,Ville!$A$3:$E$40,3,0))","v":"00:00:00"},null,null,null,null,null,null,null,null,null,null,null,{"$f":"IF(N935=\"\",\"\",VLOOKUP(N935,Ville!$A$3:$E$40,2,0))","v":""},null,null,0,0,0,0,0,0,0,0,0,0,0,0,0,null,null,"","","",""]
[null,null,null,null,null,null,"",{"$f":"IF(K936=\"\",\"\",VLOOKUP(I936,'Suiv Contr '!$D$14:$E$25,2))","v":""},"",null,null,null,"00:00:00",null,null,null,{"$f":"IF(N936=\"\",\"\",VLOOKUP(N936,Ville!$A$3:$E$40,4,0))","v":""},0,{"$f":"IF(N936=\"\",0,VLOOKUP(N936,Ville!$A$3:$E$40,3,0))","v":"00:00:00"},null,null,null,null,null,null,null,null,null,null,null,{"$f":"IF(N936=\"\",\"\",VLOOKUP(N936,Ville!$A$3:$E$40,2,0))","v":""},null,null,0,0,0,0,0,0,0,0,0,0,0,0,0,null,null,"","","",""]
[null,null,null,null,null,null,"",{"$f":"IF(K937=\"\",\"\",VLOOKUP(I937,'Suiv Contr '!$D$14:$E$25,2))","v":""},"",null,null,null,"00:00:00",null,null,null,{"$f":"IF(N937=\"\",\"\",VLOOKUP(N937,Ville!$A$3:$E$40,4,0))","v":""},0,{"$f":"IF(N937=\"\",0,VLOOKUP(N937,Ville!$A$3:$E$40,3,0))","v":"00:00:00"},null,null,null,null,null,null,null,null,null,null,null,{"$f":"IF(N937=\"\",\"\",VLOOKUP(N937,Ville!$A$3:$E$40,2,0))","v":""},null,null,0,0,0,0,0,0,0,0,0,0,0,0,0,null,null,"","","",""]
[null,null,null,null,null,null,"",{"$f":"IF(K938=\"\",\"\",VLOOKUP(I938,'Suiv Contr '!$D$14:$E$25,2))","v":""},"",null,null,null,"00:00:00",null,null,null,{"$f":"IF(N938=\"\",\"\",VLOOKUP(N938,Ville!$A$3:$E$40,4,0))","v":""},0,{"$f":"IF(N938=\"\",0,VLOOKUP(N938,Ville!$A$3:$E$40,3,0))","v":"00:00:00"},null,null,null,null,null,null,null,null,null,null,null,{"$f":"IF(N938=\"\",\"\",VLOOKUP(N938,Ville!$A$3:$E$40,2,0))","v":""},null,null,0,0,0,0,0,0,0,0,0,0,0,0,0,null,null,"","","",""]
[null,null,null,null,null,null,"",{"$f":"IF(K939=\"\",\"\",VLOOKUP(I939,'Suiv Contr '!$D$14:$E$25,2))","v":""},"",null,null,null,"00:00:00",null,null,null,{"$f":"IF(N939=\"\",\"\",VLOOKUP(N939,Ville!$A$3:$E$40,4,0))","v":""},0,{"$f":"IF(N939=\"\",0,VLOOKUP(N939,Ville!$A$3:$E$40,3,0))","v":"00:00:00"},null,null,null,null,null,null,null,null,null,null,null,{"$f":"IF(N939=\"\",\"\",VLOOKUP(N939,Ville!$A$3:$E$40,2,0))","v":""},null,null,0,0,0,0,0,0,0,0,0,0,0,0,0,null,null,"","","",""]
[null,null,null,null,null,null,"",{"$f":"IF(K940=\"\",\"\",VLOOKUP(I940,'Suiv Contr '!$D$14:$E$25,2))","v":""},"",null,null,null,"00:00:00",null,null,null,{"$f":"IF(N940=\"\",\"\",VLOOKUP(N940,Ville!$A$3:$E$40,4,0))","v":""},0,{"$f":"IF(N940=\"\",0,VLOOKUP(N940,Ville!$A$3:$E$40,3,0))","v":"00:00:00"},null,null,null,null,null,null,null,null,null,null,null,{"$f":"IF(N940=\"\",\"\",VLOOKUP(N940,Ville!$A$3:$E$40,2,0))","v":""},null,null,0,0,0,0,0,0,0,0,0,0,0,0,0,null,null,"","","",""]
[null,null,null,null,null,null,"",{"$f":"IF(K941=\"\",\"\",VLOOKUP(I941,'Suiv Contr '!$D$14:$E$25,2))","v":""},"",null,null,null,"00:00:00",null,null,null,{"$f":"IF(N941=\"\",\"\",VLOOKUP(N941,Ville!$A$3:$E$40,4,0))","v":""},0,{"$f":"IF(N941=\"\",0,VLOOKUP(N941,Ville!$A$3:$E$40,3,0))","v":"00:00:00"},null,null,null,null,null,null,null,null,null,null,null,{"$f":"IF(N941=\"\",\"\",VLOOKUP(N941,Ville!$A$3:$E$40,2,0))","v":""},null,null,0,0,0,0,0,0,0,0,0,0,0,0,0,null,null,"","","",""]
[null,null,null,null,null,null,"",{"$f":"IF(K942=\"\",\"\",VLOOKUP(I942,'Suiv Contr '!$D$14:$E$25,2))","v":""},"",null,null,null,"00:00:00",null,null,null,{"$f":"IF(N942=\"\",\"\",VLOOKUP(N942,Ville!$A$3:$E$40,4,0))","v":""},0,{"$f":"IF(N942=\"\",0,VLOOKUP(N942,Ville!$A$3:$E$40,3,0))","v":"00:00:00"},null,null,null,null,null,null,null,null,null,null,null,{"$f":"IF(N942=\"\",\"\",VLOOKUP(N942,Ville!$A$3:$E$40,2,0))","v":""},null,null,0,0,0,0,0,0,0,0,0,0,0,0,0,null,null,"","","",""]
[null,null,null,null,null,null,"",{"$f":"IF(K943=\"\",\"\",VLOOKUP(I943,'Suiv Contr '!$D$14:$E$25,2))","v":""},"",null,null,null,"00:00:00",null,null,null,{"$f":"IF(N943=\"\",\"\",VLOOKUP(N943,Ville!$A$3:$E$40,4,0))","v":""},0,{"$f":"IF(N943=\"\",0,VLOOKUP(N943,Ville!$A$3:$E$40,3,0))","v":"00:00:00"},null,null,null,null,null,null,null,null,null,null,null,{"$f":"IF(N943=\"\",\"\",VLOOKUP(N943,Ville!$A$3:$E$40,2,0))","v":""},null,null,0,0,0,0,0,0,0,0,0,0,0,0,0,null,null,"","","",""]
[null,null,null,null,null,null,"",{"$f":"IF(K944=\"\",\"\",VLOOKUP(I944,'Suiv Contr '!$D$14:$E$25,2))","v":""},"",null,null,null,"00:00:00",null,null,null,{"$f":"IF(N944=\"\",\"\",VLOOKUP(N944,Ville!$A$3:$E$40,4,0))","v":""},0,{"$f":"IF(N944=\"\",0,VLOOKUP(N944,Ville!$A$3:$E$40,3,0))","v":"00:00:00"},null,null,null,null,null,null,null,null,null,null,null,{"$f":"IF(N944=\"\",\"\",VLOOKUP(N944,Ville!$A$3:$E$40,2,0))","v":""},null,null,0,0,0,0,0,0,0,0,0,0,0,0,0,null,null,"","","",""]
[null,null,null,null,null,null,"",{"$f":"IF(K945=\"\",\"\",VLOOKUP(I945,'Suiv Contr '!$D$14:$E$25,2))","v":""},"",null,null,null,"00:00:00",null,null,null,{"$f":"IF(N945=\"\",\"\",VLOOKUP(N945,Ville!$A$3:$E$40,4,0))","v":""},0,{"$f":"IF(N945=\"\",0,VLOOKUP(N945,Ville!$A$3:$E$40,3,0))","v":"00:00:00"},null,null,null,null,null,null,null,null,null,null,null,{"$f":"IF(N945=\"\",\"\",VLOOKUP(N945,Ville!$A$3:$E$40,2,0))","v":""},null,null,0,0,0,0,0,0,0,0,0,0,0,0,0,null,null,"","","",""]
[null,null,null,null,null,null,"",{"$f":"IF(K946=\"\",\"\",VLOOKUP(I946,'Suiv Contr '!$D$14:$E$25,2))","v":""},"",null,null,null,"00:00:00",null,null,null,{"$f":"IF(N946=\"\",\"\",VLOOKUP(N946,Ville!$A$3:$E$40,4,0))","v":""},0,{"$f":"IF(N946=\"\",0,VLOOKUP(N946,Ville!$A$3:$E$40,3,0))","v":"00:00:00"},null,null,null,null,null,null,null,null,null,null,null,{"$f":"IF(N946=\"\",\"\",VLOOKUP(N946,Ville!$A$3:$E$40,2,0))","v":""},null,null,0,0,0,0,0,0,0,0,0,0,0,0,0,null,null,"","","",""]
[null,null,null,null,null,null,"",{"$f":"IF(K947=\"\",\"\",VLOOKUP(I947,'Suiv Contr '!$D$14:$E$25,2))","v":""},"",null,null,null,"00:00:00",null,null,null,{"$f":"IF(N947=\"\",\"\",VLOOKUP(N947,Ville!$A$3:$E$40,4,0))","v":""},0,{"$f":"IF(N947=\"\",0,VLOOKUP(N947,Ville!$A$3:$E$40,3,0))","v":"00:00:00"},null,null,null,null,null,null,null,null,null,null,null,{"$f":"IF(N947=\"\",\"\",VLOOKUP(N947,Ville!$A$3:$E$40,2,0))","v":""},null,null,0,0,0,0,0,0,0,0,0,0,0,0,0,null,null,"","","",""]
[null,null,null,null,null,null,"",{"$f":"IF(K948=\"\",\"\",VLOOKUP(I948,'Suiv Contr '!$D$14:$E$25,2))","v":""},"",null,null,null,"00:00:00",null,null,null,null,0,{"$f":"IF(N948=\"\",0,VLOOKUP(N948,Ville!$A$3:$E$40,3,0))","v":"00:00:00"},null,null,null,null,null,null,null,null,null,null,null,{"$f":"IF(N948=\"\",\"\",VLOOKUP(N948,Ville!$A$3:$E$40,2,0))","v":""},null,null,0,0,0,0,0,0,0,0,0,0,0,0,0,null,null,"","","",""]
[null,null,null,null,null,null,"",{"$f":"IF(K949=\"\",\"\",VLOOKUP(I949,'Suiv Contr '!$D$14:$E$25,2))","v":""},"",null,null,null,"00:00:00",null,null,null,null,0,{"$f":"IF(N949=\"\",0,VLOOKUP(N949,Ville!$A$3:$E$40,3,0))","v":"00:00:00"},null,null,null,null,null,null,null,null,null,null,null,{"$f":"IF(N949=\"\",\"\",VLOOKUP(N949,Ville!$A$3:$E$40,2,0))","v":""},null,null,0,0,0,0,0,0,0,0,0,0,0,0,0,null,null,"","","",""]
[null,null,null,null,null,null,"",{"$f":"IF(K950=\"\",\"\",VLOOKUP(I950,'Suiv Contr '!$D$14:$E$25,2))","v":""},"",null,null,null,"00:00:00",null,null,null,null,0,{"$f":"IF(N950=\"\",0,VLOOKUP(N950,Ville!$A$3:$E$40,3,0))","v":"00:00:00"},null,null,null,null,null,null,null,null,null,null,null,{"$f":"IF(N950=\"\",\"\",VLOOKUP(N950,Ville!$A$3:$E$40,2,0))","v":""},null,null,0,0,0,0,0,0,0,0,0,0,0,0,0,null,null,"","","",""]
[null,null,null,null,null,null,"",{"$f":"IF(K951=\"\",\"\",VLOOKUP(I951,'Suiv Contr '!$D$14:$E$25,2))","v":""},"",null,null,null,"00:00:00",null,null,null,null,0,{"$f":"IF(N951=\"\",0,VLOOKUP(N951,Ville!$A$3:$E$40,3,0))","v":"00:00:00"},null,null,null,null,null,null,null,null,null,null,null,{"$f":"IF(N951=\"\",\"\",VLOOKUP(N951,Ville!$A$3:$E$40,2,0))","v":""},null,null,0,0,0,0,0,0,0,0,0,0,0,0,0,null,null,"","","",""]
[null,null,null,null,null,null,"",{"$f":"IF(K952=\"\",\"\",VLOOKUP(I952,'Suiv Contr '!$D$14:$E$25,2))","v":""},"",null,null,null,"00:00:00",null,null,null,null,0,{"$f":"IF(N952=\"\",0,VLOOKUP(N952,Ville!$A$3:$E$40,3,0))","v":"00:00:00"},null,null,null,null,null,null,null,null,null,null,null,{"$f":"IF(N952=\"\",\"\",VLOOKUP(N952,Ville!$A$3:$E$40,2,0))","v":""},null,null,0,0,0,0,0,0,0,0,0,0,0,0,0,null,null,"","","",""]
[null,null,null,null,null,null,"",{"$f":"IF(K953=\"\",\"\",VLOOKUP(I953,'Suiv Contr '!$D$14:$E$25,2))","v":""},"",null,null,null,"00:00:00",null,null,null,null,{"$f":"IF(Q953=\"v\",1,0)","v":0},{"$f":"IF(N953=\"\",0,VLOOKUP(N953,Ville!$A$3:$E$40,3,0))","v":"00:00:00"},null,null,null,null,null,null,null,null,null,null,null,{"$f":"IF(N953=\"\",\"\",VLOOKUP(N953,Ville!$A$3:$E$40,2,0))","v":""},null,null,0,0,0,0,0,0,0,0,0,0,0,0,0,null,null,"","","",""]
[null,null,null,null,null,null,"",{"$f":"IF(K954=\"\",\"\",VLOOKUP(I954,'Suiv Contr '!$D$14:$E$25,2))","v":""},"",null,null,null,"00:00:00",null,null,null,null,0,{"$f":"IF(N954=\"\",0,VLOOKUP(N954,Ville!$A$3:$E$40,3,0))","v":"00:00:00"},null,null,null,null,null,null,null,null,null,null,null,{"$f":"IF(N954=\"\",\"\",VLOOKUP(N954,Ville!$A$3:$E$40,2,0))","v":""},null,null,0,0,0,0,0,0,0,0,0,0,0,0,0,null,null,"","","",""]
[null,null,null,null,null,null,"",{"$f":"IF(K955=\"\",\"\",VLOOKUP(I955,'Suiv Contr '!$D$14:$E$25,2))","v":""},"",null,null,null,"00:00:00",null,null,null,null,0,{"$f":"IF(N955=\"\",0,VLOOKUP(N955,Ville!$A$3:$E$40,3,0))","v":"00:00:00"},null,null,null,null,null,null,null,null,null,null,null,{"$f":"IF(N955=\"\",\"\",VLOOKUP(N955,Ville!$A$3:$E$40,2,0))","v":""},null,null,0,0,0,0,0,0,0,0,0,0,0,0,0,null,null,"","","",""]
[null,null,null,null,null,null,"",{"$f":"IF(K956=\"\",\"\",VLOOKUP(I956,'Suiv Contr '!$D$14:$E$25,2))","v":""},"",null,null,null,"00:00:00",null,null,null,null,0,{"$f":"IF(N956=\"\",0,VLOOKUP(N956,Ville!$A$3:$E$40,3,0))","v":"00:00:00"},null,null,null,null,null,null,null,null,null,null,null,{"$f":"IF(N956=\"\",\"\",VLOOKUP(N956,Ville!$A$3:$E$40,2,0))","v":""},null,null,0,0,0,0,0,0,0,0,0,0,0,0,0,null,null,"","","",""]
[null,null,null,null,null,null,"",{"$f":"IF(K957=\"\",\"\",VLOOKUP(I957,'Suiv Contr '!$D$14:$E$25,2))","v":""},"",null,null,null,"00:00:00",null,null,null,null,0,{"$f":"IF(N957=\"\",0,VLOOKUP(N957,Ville!$A$3:$E$40,3,0))","v":"00:00:00"},null,null,null,null,null,null,null,null,null,null,null,{"$f":"IF(N957=\"\",\"\",VLOOKUP(N957,Ville!$A$3:$E$40,2,0))","v":""},null,null,0,0,0,0,0,0,0,0,0,0,0,0,0,null,null,"","","",""]
[null,null,null,null,null,null,"",{"$f":"IF(K958=\"\",\"\",VLOOKUP(I958,'Suiv Contr '!$D$14:$E$25,2))","v":""},"",null,null,null,"00:00:00",null,null,null,null,0,{"$f":"IF(N958=\"\",0,VLOOKUP(N958,Ville!$A$3:$E$40,3,0))","v":"00:00:00"},null,null,null,null,null,null,null,null,null,null,null,{"$f":"IF(N958=\"\",\"\",VLOOKUP(N958,Ville!$A$3:$E$40,2,0))","v":""},null,null,0,0,0,0,0,0,0,0,0,0,0,0,0,null,null,"","","",""]
[null,null,null,null,null,null,"",{"$f":"IF(K959=\"\",\"\",VLOOKUP(I959,'Suiv Contr '!$D$14:$E$25,2))","v":""},"",null,null,null,"00:00:00",null,null,null,null,0,{"$f":"IF(N959=\"\",0,VLOOKUP(N959,Ville!$A$3:$E$40,3,0))","v":"00:00:00"},null,null,null,null,null,null,null,null,null,null,null,{"$f":"IF(N959=\"\",\"\",VLOOKUP(N959,Ville!$A$3:$E$40,2,0))","v":""},null,null,0,0,0,0,0,0,0,0,0,0,0,0,0,null,null,"","","",""]
[null,null,null,null,null,null,"",{"$f":"IF(K960=\"\",\"\",VLOOKUP(I960,'Suiv Contr '!$D$14:$E$25,2))","v":""},"",null,null,null,"00:00:00",null,null,null,null,0,{"$f":"IF(N960=\"\",0,VLOOKUP(N960,Ville!$A$3:$E$40,3,0))","v":"00:00:00"},null,null,null,null,null,null,null,null,null,null,null,{"$f":"IF(N960=\"\",\"\",VLOOKUP(N960,Ville!$A$3:$E$40,2,0))","v":""},null,null,0,0,0,0,0,0,0,0,0,0,0,0,0,null,null,"","","",""]
[null,null,null,null,null,null,"",{"$f":"IF(K961=\"\",\"\",VLOOKUP(I961,'Suiv Contr '!$D$14:$E$25,2))","v":""},"",null,null,null,"00:00:00",null,null,null,null,0,{"$f":"IF(N961=\"\",0,VLOOKUP(N961,Ville!$A$3:$E$40,3,0))","v":"00:00:00"},null,null,null,null,null,null,null,null,null,null,null,{"$f":"IF(N961=\"\",\"\",VLOOKUP(N961,Ville!$A$3:$E$40,2,0))","v":""},null,null,0,0,0,0,0,0,0,0,0,0,0,0,0,null,null,"","","",""]
[null,null,null,null,null,null,"",{"$f":"IF(K962=\"\",\"\",VLOOKUP(I962,'Suiv Contr '!$D$14:$E$25,2))","v":""},"",null,null,null,"00:00:00",null,null,null,null,0,{"$f":"IF(N962=\"\",0,VLOOKUP(N962,Ville!$A$3:$E$40,3,0))","v":"00:00:00"},null,null,null,null,null,null,null,null,null,null,null,{"$f":"IF(N962=\"\",\"\",VLOOKUP(N962,Ville!$A$3:$E$40,2,0))","v":""},null,null,0,0,0,0,0,0,0,0,0,0,0,0,0,null,null,"","","",""]
[null,null,null,null,null,null,"",{"$f":"IF(K963=\"\",\"\",VLOOKUP(I963,'Suiv Contr '!$D$14:$E$25,2))","v":""},"",null,null,null,"00:00:00",null,null,null,null,0,{"$f":"IF(N963=\"\",0,VLOOKUP(N963,Ville!$A$3:$E$40,3,0))","v":"00:00:00"},null,null,null,null,null,null,null,null,null,null,null,{"$f":"IF(N963=\"\",\"\",VLOOKUP(N963,Ville!$A$3:$E$40,2,0))","v":""},null,null,0,0,0,0,0,0,0,0,0,0,0,0,0,null,null,"","","",""]
[null,null,null,null,null,null,"",{"$f":"IF(K964=\"\",\"\",VLOOKUP(I964,'Suiv Contr '!$D$14:$E$25,2))","v":""},"",null,null,null,"00:00:00",null,null,null,null,0,{"$f":"IF(N964=\"\",0,VLOOKUP(N964,Ville!$A$3:$E$40,3,0))","v":"00:00:00"},null,null,null,null,null,null,null,null,null,null,null,{"$f":"IF(N964=\"\",\"\",VLOOKUP(N964,Ville!$A$3:$E$40,2,0))","v":""},null,null,0,0,0,0,0,0,0,0,0,0,0,0,0,null,null,"","","",""]
[null,null,null,null,null,null,"",{"$f":"IF(K965=\"\",\"\",VLOOKUP(I965,'Suiv Contr '!$D$14:$E$25,2))","v":""},"",null,null,null,"00:00:00",null,null,null,null,0,{"$f":"IF(N965=\"\",0,VLOOKUP(N965,Ville!$A$3:$E$40,3,0))","v":"00:00:00"},null,null,null,null,null,null,null,null,null,null,null,{"$f":"IF(N965=\"\",\"\",VLOOKUP(N965,Ville!$A$3:$E$40,2,0))","v":""},null,null,0,0,0,0,0,0,0,0,0,0,0,0,0,null,null,"","","",""]
[null,null,null,null,null,null,"",{"$f":"IF(K966=\"\",\"\",VLOOKUP(I966,'Suiv Contr '!$D$14:$E$25,2))","v":""},"",null,null,null,"00:00:00",null,null,null,null,0,{"$f":"IF(N966=\"\",0,VLOOKUP(N966,Ville!$A$3:$E$40,3,0))","v":"00:00:00"},null,null,null,null,null,null,null,null,null,null,null,{"$f":"IF(N966=\"\",\"\",VLOOKUP(N966,Ville!$A$3:$E$40,2,0))","v":""},null,null,0,0,0,0,0,0,0,0,0,0,0,0,0,null,null,"","","",""]
[null,null,null,null,null,null,"",{"$f":"IF(K967=\"\",\"\",VLOOKUP(I967,'Suiv Contr '!$D$14:$E$25,2))","v":""},"",null,null,null,"00:00:00",null,null,null,null,0,{"$f":"IF(N967=\"\",0,VLOOKUP(N967,Ville!$A$3:$E$40,3,0))","v":"00:00:00"},null,null,null,null,null,null,null,null,null,null,null,{"$f":"IF(N967=\"\",\"\",VLOOKUP(N967,Ville!$A$3:$E$40,2,0))","v":""},null,null,0,0,0,0,0,0,0,0,0,0,0,0,0,null,null,"","","",""]
[null,null,null,null,null,null,"",{"$f":"IF(K968=\"\",\"\",VLOOKUP(I968,'Suiv Contr '!$D$14:$E$25,2))","v":""},"",null,null,null,"00:00:00",null,null,null,null,0,{"$f":"IF(N968=\"\",0,VLOOKUP(N968,Ville!$A$3:$E$40,3,0))","v":"00:00:00"},null,null,null,null,null,null,null,null,null,null,null,{"$f":"IF(N968=\"\",\"\",VLOOKUP(N968,Ville!$A$3:$E$40,2,0))","v":""},null,null,0,0,0,0,0,0,0,0,0,0,0,0,0,null,null,"","","",""]
[null,null,null,null,null,null,"",{"$f":"IF(K969=\"\",\"\",VLOOKUP(I969,'Suiv Contr '!$D$14:$E$25,2))","v":""},"",null,null,null,"00:00:00",null,null,null,null,0,{"$f":"IF(N969=\"\",0,VLOOKUP(N969,Ville!$A$3:$E$40,3,0))","v":"00:00:00"},null,null,null,null,null,null,null,null,null,null,null,{"$f":"IF(N969=\"\",\"\",VLOOKUP(N969,Ville!$A$3:$E$40,2,0))","v":""},null,null,0,0,0,0,0,0,0,0,0,0,0,0,0,null,null,"",{"$f":"IF(Q969=\"v\",3,\"\")","v":""},{"$f":"IF(Q969=\"rec\",2,\"\")","v":""},""]
[null,null,null,null,null,null,"",{"$f":"IF(K970=\"\",\"\",VLOOKUP(I970,'Suiv Contr '!$D$14:$E$25,2))","v":""},"",null,null,null,"00:00:00",null,null,null,null,0,{"$f":"IF(N970=\"\",0,VLOOKUP(N970,Ville!$A$3:$E$40,3,0))","v":"00:00:00"},null,null,null,null,null,null,null,null,null,null,null,{"$f":"IF(N970=\"\",\"\",VLOOKUP(N970,Ville!$A$3:$E$40,2,0))","v":""},null,null,0,0,0,0,0,0,0,0,0,0,0,0,0,null,null,"","","",""]
[null,null,null,null,null,null,"",{"$f":"IF(K971=\"\",\"\",VLOOKUP(I971,'Suiv Contr '!$D$14:$E$25,2))","v":""},"",null,null,null,"00:00:00",null,null,null,null,0,{"$f":"IF(N971=\"\",0,VLOOKUP(N971,Ville!$A$3:$E$40,3,0))","v":"00:00:00"},null,null,null,null,null,null,null,null,null,null,null,{"$f":"IF(N971=\"\",\"\",VLOOKUP(N971,Ville!$A$3:$E$40,2,0))","v":""},null,null,0,0,0,0,0,0,0,0,0,0,0,0,0,null,null,"","","",""]
[null,null,null,null,null,null,"",{"$f":"IF(K972=\"\",\"\",VLOOKUP(I972,'Suiv Contr '!$D$14:$E$25,2))","v":""},"",null,null,null,"00:00:00",null,null,null,null,0,{"$f":"IF(N972=\"\",0,VLOOKUP(N972,Ville!$A$3:$E$40,3,0))","v":"00:00:00"},null,null,null,null,null,null,null,null,null,null,null,{"$f":"IF(N972=\"\",\"\",VLOOKUP(N972,Ville!$A$3:$E$40,2,0))","v":""},null,null,0,0,0,0,0,0,0,0,0,0,0,0,0,null,null,"","","",""]
[null,null,null,null,null,null,"",{"$f":"IF(K973=\"\",\"\",VLOOKUP(I973,'Suiv Contr '!$D$14:$E$25,2))","v":""},"",null,null,null,"00:00:00",null,null,null,null,null,{"$f":"IF(N973=\"\",0,VLOOKUP(N973,Ville!$A$3:$E$40,3,0))","v":"00:00:00"},null,null,null,null,null,null,null,null,null,null,null,{"$f":"IF(N973=\"\",\"\",VLOOKUP(N973,Ville!$A$3:$E$40,2,0))","v":""},null,null,0,0,0,0,0,0,0,0,0,0,0,0,0,null,null,"","","",""]
[null,null,null,null,null,null,"",{"$f":"IF(K974=\"\",\"\",VLOOKUP(I974,'Suiv Contr '!$D$14:$E$25,2))","v":""},"",null,null,null,"00:00:00",null,null,null,null,null,{"$f":"IF(N974=\"\",0,VLOOKUP(N974,Ville!$A$3:$E$40,3,0))","v":"00:00:00"},null,null,null,null,null,null,null,null,null,null,null,{"$f":"IF(N974=\"\",\"\",VLOOKUP(N974,Ville!$A$3:$E$40,2,0))","v":""},null,null,0,0,0,0,0,0,0,0,0,0,0,0,0,null,null,"","","",""]
[null,null,null,null,null,null,"",{"$f":"IF(K975=\"\",\"\",VLOOKUP(I975,'Suiv Contr '!$D$14:$E$25,2))","v":""},"",null,null,null,{"$f":"N975","v":"00:00:00"},null,null,null,null,null,{"$f":"IF(N975=\"\",0,VLOOKUP(N975,Ville!$A$3:$E$40,3,0))","v":"00:00:00"},null,null,null,null,null,null,null,null,null,null,null,{"$f":"IF(N975=\"\",\"\",VLOOKUP(N975,Ville!$A$3:$E$40,2,0))","v":""},null,null,0,0,0,0,0,0,0,0,0,0,0,0,0,null,null,"","","",""]
[null,null,null,null,null,null,"",{"$f":"IF(K976=\"\",\"\",VLOOKUP(I976,'Suiv Contr '!$D$14:$E$25,2))","v":""},"",null,null,null,"00:00:00",null,null,null,null,null,{"$f":"IF(N976=\"\",0,VLOOKUP(N976,Ville!$A$3:$E$40,3,0))","v":"00:00:00"},null,null,null,null,null,null,null,null,null,null,null,{"$f":"IF(N976=\"\",\"\",VLOOKUP(N976,Ville!$A$3:$E$40,2,0))","v":""},null,null,0,0,0,0,0,0,0,0,0,0,0,0,0,null,null,"","","",""]
[null,null,null,null,null,null,"",{"$f":"IF(K977=\"\",\"\",VLOOKUP(I977,'Suiv Contr '!$D$14:$E$25,2))","v":""},"",null,null,null,"00:00:00",null,null,null,null,null,{"$f":"IF(N977=\"\",0,VLOOKUP(N977,Ville!$A$3:$E$40,3,0))","v":"00:00:00"},null,null,null,null,null,null,null,null,null,null,null,{"$f":"IF(N977=\"\",\"\",VLOOKUP(N977,Ville!$A$3:$E$40,2,0))","v":""},null,null,0,0,0,0,0,0,0,0,0,0,0,0,0,null,null,"","","",""]
[null,null,null,null,null,null,"",{"$f":"IF(K978=\"\",\"\",VLOOKUP(I978,'Suiv Contr '!$D$14:$E$25,2))","v":""},"",null,null,null,"00:00:00",null,null,null,null,null,{"$f":"IF(N978=\"\",0,VLOOKUP(N978,Ville!$A$3:$E$40,3,0))","v":"00:00:00"},null,null,null,null,null,null,null,null,null,null,null,{"$f":"IF(N978=\"\",\"\",VLOOKUP(N978,Ville!$A$3:$E$40,2,0))","v":""},null,null,0,0,0,0,0,0,0,0,0,0,0,0,0,null,null,"","","",""]
[null,null,null,null,null,null,"",{"$f":"IF(K979=\"\",\"\",VLOOKUP(I979,'Suiv Contr '!$D$14:$E$25,2))","v":""},"",null,null,null,"00:00:00",null,null,null,null,null,{"$f":"IF(N979=\"\",0,VLOOKUP(N979,Ville!$A$3:$E$40,3,0))","v":"00:00:00"},null,null,null,null,null,null,null,null,null,null,null,{"$f":"IF(N979=\"\",\"\",VLOOKUP(N979,Ville!$A$3:$E$40,2,0))","v":""},null,null,0,0,0,0,0,0,0,0,0,0,0,0,{"$f":"SUM(AH979:AS979)","v":0},null,null,"","","",""]
[null,null,null,null,null,null,"",{"$f":"IF(K980=\"\",\"\",VLOOKUP(I980,'Suiv Contr '!$D$14:$E$25,2))","v":""},"",null,null,null,"00:00:00",null,null,null,null,null,{"$f":"IF(N980=\"\",0,VLOOKUP(N980,Ville!$A$3:$E$40,3,0))","v":"00:00:00"},null,null,null,null,null,null,null,null,null,null,null,{"$f":"IF(N980=\"\",\"\",VLOOKUP(N980,Ville!$A$3:$E$40,2,0))","v":""},null,null,0,0,0,0,0,0,0,0,0,0,0,0,0,null,null,"","","",""]
[null,null,null,null,null,null,"",{"$f":"IF(K981=\"\",\"\",VLOOKUP(I981,'Suiv Contr '!$D$14:$E$25,2))","v":""},"",null,null,null,"00:00:00",null,null,null,null,null,{"$f":"IF(N981=\"\",0,VLOOKUP(N981,Ville!$A$3:$E$40,3,0))","v":"00:00:00"},null,null,null,null,null,null,null,null,null,null,null,{"$f":"IF(N981=\"\",\"\",VLOOKUP(N981,Ville!$A$3:$E$40,2,0))","v":""},null,null,0,0,0,0,0,0,0,0,0,0,0,0,0,null,null,"","","",""]
[null,null,null,null,null,null,"",{"$f":"IF(K982=\"\",\"\",VLOOKUP(I982,'Suiv Contr '!$D$14:$E$25,2))","v":""},"",null,null,null,"00:00:00",null,null,null,null,null,{"$f":"IF(N982=\"\",0,VLOOKUP(N982,Ville!$A$3:$E$40,3,0))","v":"00:00:00"},null,null,null,null,null,null,null,null,null,null,null,{"$f":"IF(N982=\"\",\"\",VLOOKUP(N982,Ville!$A$3:$E$40,2,0))","v":""},null,null,0,0,0,0,0,0,0,0,0,0,0,0,0,null,null,"","","",""]
[null,null,null,null,null,null,{"$f":"IF(K983=\"\",\"\",YEAR(K983))","v":""},{"$f":"IF(K983=\"\",\"\",VLOOKUP(I983,'Suiv Contr '!$D$14:$E$25,2))","v":""},{"$f":"IF(K983=\"\",\"\",MONTH(K983))","v":""},null,null,null,"00:00:00",null,null,null,null,null,{"$f":"IF(N983=\"\",0,VLOOKUP(N983,Ville!$A$3:$E$40,3,0))","v":"00:00:00"},null,null,null,null,null,null,null,null,null,null,null,{"$f":"IF(N983=\"\",\"\",VLOOKUP(N983,Ville!$A$3:$E$40,2,0))","v":""},null,null,0,0,0,0,0,0,0,0,0,0,0,0,0,null,null,{"$f":"IF(K983=$B$2,1,\"\")","v":""},"","",""]
[null,null,null,null,null,null,"",{"$f":"IF(K984=\"\",\"\",VLOOKUP(I984,'Suiv Contr '!$D$14:$E$25,2))","v":""},"",null,null,null,"00:00:00",null,null,null,null,null,{"$f":"IF(N984=\"\",0,VLOOKUP(N984,Ville!$A$3:$E$40,3,0))","v":"00:00:00"},null,null,null,null,null,null,null,null,null,null,null,{"$f":"IF(N984=\"\",\"\",VLOOKUP(N984,Ville!$A$3:$E$40,2,0))","v":""},null,null,0,0,0,0,0,0,0,0,0,0,0,0,0,null,null,"","","",""]
[null,null,null,null,null,null,"",{"$f":"IF(K985=\"\",\"\",VLOOKUP(I985,'Suiv Contr '!$D$14:$E$25,2))","v":""},"",null,null,null,"00:00:00",null,null,null,null,null,{"$f":"IF(N985=\"\",0,VLOOKUP(N985,Ville!$A$3:$E$40,3,0))","v":"00:00:00"},null,null,null,null,null,null,null,null,null,null,null,{"$f":"IF(N985=\"\",\"\",VLOOKUP(N985,Ville!$A$3:$E$40,2,0))","v":""},null,null,0,0,0,0,0,0,0,0,0,0,0,0,0,null,null,"","","",""]
[null,null,null,null,null,null,"",{"$f":"IF(K986=\"\",\"\",VLOOKUP(I986,'Suiv Contr '!$D$14:$E$25,2))","v":""},"",null,null,null,"00:00:00",null,null,null,null,null,{"$f":"IF(N986=\"\",0,VLOOKUP(N986,Ville!$A$3:$E$40,3,0))","v":"00:00:00"},null,null,null,null,null,null,null,null,null,null,null,{"$f":"IF(N986=\"\",\"\",VLOOKUP(N986,Ville!$A$3:$E$40,2,0))","v":""},null,null,0,0,0,0,0,0,0,0,0,0,0,0,0,null,null,"","","",{"$f":"IF(OR(N986=\"champagnole\",N986=\"\"),\"\",1)","v":""}]
[null,null,null,null,null,null,"",{"$f":"IF(K987=\"\",\"\",VLOOKUP(I987,'Suiv Contr '!$D$14:$E$25,2))","v":""},"",null,null,null,"00:00:00",null,null,null,null,null,{"$f":"IF(N987=\"\",0,VLOOKUP(N987,Ville!$A$3:$E$40,3,0))","v":"00:00:00"},null,null,null,null,null,null,null,null,null,null,null,{"$f":"IF(N987=\"\",\"\",VLOOKUP(N987,Ville!$A$3:$E$40,2,0))","v":""},null,null,0,0,0,0,0,0,0,0,0,0,0,0,0,null,null,"","","",""]
[null,null,null,null,null,null,"",{"$f":"IF(K988=\"\",\"\",VLOOKUP(I988,'Suiv Contr '!$D$14:$E$25,2))","v":""},"",null,null,null,"00:00:00",null,null,null,null,null,{"$f":"IF(N988=\"\",0,VLOOKUP(N988,Ville!$A$3:$E$40,3,0))","v":"00:00:00"},null,null,null,null,null,null,null,null,null,null,null,{"$f":"IF(N988=\"\",\"\",VLOOKUP(N988,Ville!$A$3:$E$40,2,0))","v":""},null,null,0,0,0,0,0,0,0,0,0,0,0,0,0,null,null,"","","",""]
[null,null,null,null,null,null,"",{"$f":"IF(K989=\"\",\"\",VLOOKUP(I989,'Suiv Contr '!$D$14:$E$25,2))","v":""},"",null,null,null,"00:00:00",null,null,null,null,null,{"$f":"IF(N989=\"\",0,VLOOKUP(N989,Ville!$A$3:$E$40,3,0))","v":"00:00:00"},null,null,null,null,null,null,null,null,null,null,null,{"$f":"IF(N989=\"\",\"\",VLOOKUP(N989,Ville!$A$3:$E$40,2,0))","v":""},null,null,0,0,0,0,0,0,0,0,0,0,0,0,0,null,null,"","","",""]
[null,null,null,null,null,null,"",{"$f":"IF(K990=\"\",\"\",VLOOKUP(I990,'Suiv Contr '!$D$14:$E$25,2))","v":""},"",null,null,null,"00:00:00",null,null,null,null,null,{"$f":"IF(N990=\"\",0,VLOOKUP(N990,Ville!$A$3:$E$40,3,0))","v":"00:00:00"},null,null,null,null,null,null,null,null,null,null,null,{"$f":"IF(N990=\"\",\"\",VLOOKUP(N990,Ville!$A$3:$E$40,2,0))","v":""},null,null,0,0,0,0,0,0,0,0,0,0,0,0,0,null,null,"","","",""]
[null,null,null,null,null,null,"",{"$f":"IF(K991=\"\",\"\",VLOOKUP(I991,'Suiv Contr '!$D$14:$E$25,2))","v":""},"",null,null,null,"00:00:00",null,null,null,null,null,{"$f":"IF(N991=\"\",0,VLOOKUP(N991,Ville!$A$3:$E$40,3,0))","v":"00:00:00"},null,null,null,null,null,null,null,null,null,null,null,{"$f":"IF(N991=\"\",\"\",VLOOKUP(N991,Ville!$A$3:$E$40,2,0))","v":""},null,null,0,0,0,0,0,0,0,0,0,0,0,0,0,null,null,"","","",""]
[null,null,null,null,null,null,"",{"$f":"IF(K992=\"\",\"\",VLOOKUP(I992,'Suiv Contr '!$D$14:$E$25,2))","v":""},"",null,null,null,"00:00:00",null,null,null,null,null,{"$f":"IF(N992=\"\",0,VLOOKUP(N992,Ville!$A$3:$E$40,3,0))","v":"00:00:00"},null,null,null,null,null,null,null,null,null,null,null,{"$f":"IF(N992=\"\",\"\",VLOOKUP(N992,Ville!$A$3:$E$40,2,0))","v":""},null,null,0,0,0,0,0,0,0,0,0,0,0,0,0,null,null,"","","",""]
[null,null,null,null,null,null,"",{"$f":"IF(K993=\"\",\"\",VLOOKUP(I993,'Suiv Contr '!$D$14:$E$25,2))","v":""},"",null,null,null,"00:00:00",null,null,null,null,null,{"$f":"IF(N993=\"\",0,VLOOKUP(N993,Ville!$A$3:$E$40,3,0))","v":"00:00:00"},null,null,null,null,null,null,null,null,null,null,null,{"$f":"IF(N993=\"\",\"\",VLOOKUP(N993,Ville!$A$3:$E$40,2,0))","v":""},null,null,0,0,0,0,0,0,0,0,0,0,0,0,0,null,null,"","","",""]
[null,null,null,null,null,null,"",{"$f":"IF(K994=\"\",\"\",VLOOKUP(I994,'Suiv Contr '!$D$14:$E$25,2))","v":""},"",null,null,null,"00:00:00",null,null,null,null,null,{"$f":"IF(N994=\"\",0,VLOOKUP(N994,Ville!$A$3:$E$40,3,0))","v":"00:00:00"},null,null,null,null,null,null,null,null,null,null,null,{"$f":"IF(N994=\"\",\"\",VLOOKUP(N994,Ville!$A$3:$E$40,2,0))","v":""},null,null,0,0,0,0,0,0,0,0,0,0,0,0,0,null,null,"","","",""]
[null,null,null,null,null,null,"",{"$f":"IF(K995=\"\",\"\",VLOOKUP(I995,'Suiv Contr '!$D$14:$E$25,2))","v":""},"",null,null,null,"00:00:00",null,null,null,null,null,{"$f":"IF(N995=\"\",0,VLOOKUP(N995,Ville!$A$3:$E$40,3,0))","v":"00:00:00"},null,null,null,null,null,null,null,null,null,null,null,{"$f":"IF(N995=\"\",\"\",VLOOKUP(N995,Ville!$A$3:$E$40,2,0))","v":""},null,null,0,0,0,0,0,0,0,0,0,0,0,0,0,null,null,"","","",""]
[null,null,null,null,null,null,"",{"$f":"IF(K996=\"\",\"\",VLOOKUP(I996,'Suiv Contr '!$D$14:$E$25,2))","v":""},"",null,null,null,"00:00:00",null,null,null,null,null,{"$f":"IF(N996=\"\",0,VLOOKUP(N996,Ville!$A$3:$E$40,3,0))","v":"00:00:00"},null,null,null,null,null,null,null,null,null,null,null,{"$f":"IF(N996=\"\",\"\",VLOOKUP(N996,Ville!$A$3:$E$40,2,0))","v":""},null,null,0,0,0,0,0,0,0,0,0,0,0,0,0,null,null,"","","",""]
[null,null,null,null,null,null,"",{"$f":"IF(K997=\"\",\"\",VLOOKUP(I997,'Suiv Contr '!$D$14:$E$25,2))","v":""},"",null,null,null,"00:00:00",null,null,null,null,null,{"$f":"IF(N997=\"\",0,VLOOKUP(N997,Ville!$A$3:$E$40,3,0))","v":"00:00:00"},null,null,null,null,null,null,null,null,null,null,null,{"$f":"IF(N997=\"\",\"\",VLOOKUP(N997,Ville!$A$3:$E$40,2,0))","v":""},null,null,0,0,0,0,0,0,0,0,0,0,0,0,0,null,null,"","","",""]
[null,null,null,null,null,null,"",{"$f":"IF(K998=\"\",\"\",VLOOKUP(I998,'Suiv Contr '!$D$14:$E$25,2))","v":""},"",null,null,null,"00:00:00",null,null,null,null,null,{"$f":"IF(N998=\"\",0,VLOOKUP(N998,Ville!$A$3:$E$40,3,0))","v":"00:00:00"},null,null,null,null,null,null,null,null,null,null,null,{"$f":"IF(N998=\"\",\"\",VLOOKUP(N998,Ville!$A$3:$E$40,2,0))","v":""},null,null,0,0,0,0,0,0,0,0,0,0,0,0,0,null,null,"","",""]
[null,null,null,null,null,null,"",{"$f":"IF(K999=\"\",\"\",VLOOKUP(I999,'Suiv Contr '!$D$14:$E$25,2))","v":""},"",null,null,null,"00:00:00",null,null,null,null,null,{"$f":"IF(N999=\"\",0,VLOOKUP(N999,Ville!$A$3:$E$40,3,0))","v":"00:00:00"},null,null,null,null,null,null,null,null,null,null,null,{"$f":"IF(N999=\"\",\"\",VLOOKUP(N999,Ville!$A$3:$E$40,2,0))","v":""},null,null,0,0,0,0,0,0,0,0,0,0,0,0,0,null,null,"","",""]
[null,null,null,null,null,null,"",{"$f":"IF(K1000=\"\",\"\",VLOOKUP(I1000,'Suiv Contr '!$D$14:$E$25,2))","v":""},"",null,null,null,"00:00:00",null,null,null,null,null,{"$f":"IF(N1000=\"\",0,VLOOKUP(N1000,Ville!$A$3:$E$40,3,0))","v":"00:00:00"},null,null,null,null,null,null,null,null,null,null,null,{"$f":"IF(N1000=\"\",\"\",VLOOKUP(N1000,Ville!$A$3:$E$40,2,0))","v":""},null,null,0,0,0,0,0,0,0,0,0,0,0,0,0,null,null,"","",""]
[null,null,null,null,null,null,"",{"$f":"IF(K1001=\"\",\"\",VLOOKUP(I1001,'Suiv Contr '!$D$14:$E$25,2))","v":""},"",null,null,null,"00:00:00",null,null,null,null,null,{"$f":"IF(N1001=\"\",0,VLOOKUP(N1001,Ville!$A$3:$E$40,3,0))","v":"00:00:00"},null,null,null,null,null,null,null,null,null,null,null,{"$f":"IF(N1001=\"\",\"\",VLOOKUP(N1001,Ville!$A$3:$E$40,2,0))","v":""},null,null,0,0,0,0,0,0,0,0,0,0,0,0,0,null,null,"","",""]
[null,null,null,null,null,null,null,null,null,null,null,null,"00:00:00",null,null,null,null,null,{"$f":"IF(N1002=\"\",0,VLOOKUP(N1002,Ville!$A$3:$E$40,3,0))","v":"00:00:00"},null,null,null,null,null,null,null,null,null,null,null,{"$f":"IF(N1002=\"\",\"\",VLOOKUP(N1002,Ville!$A$3:$E$40,2,0))","v":""},null,null,0,0,0,0,0,0,0,0,0,0,0,0,0,null,null,null,"",""]
[null,null,null,null,null,null,null,null,null,null,null,null,"00:00:00",null,null,null,null,null,{"$f":"IF(N1003=\"\",0,VLOOKUP(N1003,Ville!$A$3:$E$40,3,0))","v":"00:00:00"},null,null,null,null,null,null,null,null,null,null,null,{"$f":"IF(N1003=\"\",\"\",VLOOKUP(N1003,Ville!$A$3:$E$40,2,0))","v":""},null,null,0,0,0,0,0,0,0,0,0,0,0,0,0,null,null,null,"",""]
[null,null,null,null,null,null,null,null,null,null,null,null,"00:00:00"]
[null,null,null,null,null,null,null,null,null,null,null,null,"00:00:00"]
[null,null,null,null,null,null,null,null,null,null,null,null,"00:00:00"]
[null,null,null,null,null,null,null,null,null,null,null,null,"00:00:00"]
[null,null,null,null,null,null,null,null,null,null,null,null,"00:00:00"]
[null,null,null,null,null,null,null,null,null,null,null,null,"00:00:00"]
[null,null,null,null,null,null,null,null,null,null,null,null,"00:00:00"]
[null,null,null,null,null,null,null,null,null,null,null,null,"00:00:00"]
[null,null,null,null,null,null,null,null,null,null,null,null,"00:00:00"]
[null,null,null,null,null,null,null,null,null,null,null,null,"00:00:00"]
[null,null,null,null,null,null,null,null,null,null,null,null,"00:00:00"]
[null,null,null,null,null,null,null,null,null,null,null,null,"00:00:00"]
[null,null,null,null,null,null,null,null,null,null,null,null,"00:00:00"]
[null,null,null,null,null,null,null,null,null,null,null,null,"00:00:00"]
[null,null,null,null,null,null,null,null,null,null,null,null,"00:00:00"]
[null,null,null,null,null,null,null,null,null,null,null,null,"00:00:00"]
[null,null,null,null,null,null,null,null,null,null,null,null,"00:00:00"]
[null,null,null,null,null,null,null,null,null,null,null,null,"00:00:00"]
[null,null,null,null,null,null,null,null,null,null,null,null,"00:00:00"]
[null,null,null,null,null,null,null,null,null,null,null,null,"00:00:00"]
[null,null,null,null,null,null,null,null,null,null,null,null,"00:00:00"]
[null,null,null,null,null,null,null,null,null,null,null,null,"00:00:00"]
[null,null,null,null,null,null,null,null,null,null,null,null,"00:00:00"]
[null,null,null,null,null,null,null,null,null,null,null,null,"00:00:00"]
[null,null,null,null,null,null,null,null,null,null,null,null,"00:00:00"]
[null,null,null,null,null,null,null,null,null,null,null,null,"00:00:00"]
[null,null,null,null,null,null,null,null,null,null,null,null,"00:00:00"]
[null,null,null,null,null,null,null,null,null,null,null,null,"00:00:00"]
[null,null,null,null,null,null,null,null,null,null,null,null,"00:00:00"]
[null,null,null,null,null,null,null,null,null,null,null,null,"00:00:00"]
[null,null,null,null,null,null,null,null,null,null,null,null,"00:00:00"]
[null,null,null,null,null,null,null,null,null,null,null,null,"00:00:00"]
[null,null,null,null,null,null,null,null,null,null,null,null,"00:00:00"]
[null,null,null,null,null,null,null,null,null,null,null,null,"00:00:00"]
[null,null,null,null,null,null,null,null,null,null,null,null,"00:00:00"]
[null,null,null,null,null,null,null,null,null,null,null,null,{"$f":"N1039","v":"00:00:00"}]
[null,null,null,null,null,null,null,null,null,null,null,null,"00:00:00"]
[null,null,null,null,null,null,null,null,null,null,null,null,"00:00:00"]
[null,null,null,null,null,null,null,null,null,null,null,null,"00:00:00"]
[null,null,null,null,null,null,null,null,null,null,null,null,"00:00:00"]
[null,null,null,null,null,null,null,null,null,null,null,null,"00:00:00"]
[null,null,null,null,null,null,null,null,null,null,null,null,"00:00:00"]
[null,null,null,null,null,null,null,null,null,null,null,null,"00:00:00"]
[null,null,null,null,null,null,null,null,null,null,null,null,"00:00:00"]
[null,null,null,null,null,null,null,null,null,null,null,null,"00:00:00"]
[null,null,null,null,null,null,null,null,null,null,null,null,"00:00:00"]
[null,null,null,null,null,null,null,null,null,null,null,null,"00:00:00"]
[null,null,null,null,null,null,null,null,null,null,null,null,"00:00:00"]
[null,null,null,null,null,null,null,null,null,null,null,null,"00:00:00"]
[null,null,null,null,null,null,null,null,null,null,null,null,"00:00:00"]
[null,null,null,null,null,null,null,null,null,null,null,null,"00:00:00"]
[null,null,null,null,null,null,null,null,null,null,null,null,"00:00:00"]
[null,null,null,null,null,null,null,null,null,null,null,null,"00:00:00"]
[null,null,null,null,null,null,null,null,null,null,null,null,"00:00:00"]
[null,null,null,null,null,null,null,null,null,null,null,null,"00:00:00"]
[null,null,null,null,null,null,null,null,null,null,null,null,"00:00:00"]
[null,null,null,null,null,null,null,null,null,null,null,null,"00:00:00"]
[null,null,null,null,null,null,null,null,null,null,null,null,"00:00:00"]
[null,null,null,null,null,null,null,null,null,null,null,null,"00:00:00"]
[null,null,null,null,null,null,null,null,null,null,null,null,"00:00:00"]
[null,null,null,null,null,null,null,null,null,null,null,null,"00:00:00"]
[null,null,null,null,null,null,null,null,null,null,null,null,"00:00:00"]
[null,null,null,null,null,null,null,null,null,null,null,null,"00:00:00"]
[null,null,null,null,null,null,null,null,null,null,null,null,"00:00:00"]
[null,null,null,null,null,null,null,null,null,null,null,null,"00:00:00"]
[null,null,null,null,null,null,null,null,null,null,null,null,"00:00:00"]
[null,null,null,null,null,null,null,null,null,null,null,null,"00:00:00"]
[null,null,null,null,null,null,null,null,null,null,null,null,"00:00:00"]
[null,null,null,null,null,null,null,null,null,null,null,null,"00:00:00"]
[null,null,null,null,null,null,null,null,null,null,null,null,"00:00:00"]
[null,null,null,null,null,null,null,null,null,null,null,null,"00:00:00"]
[null,null,null,null,null,null,null,null,null,null,null,null,"00:00:00"]
[null,null,null,null,null,null,null,null,null,null,null,null,"00:00:00"]
[null,null,null,null,null,null,null,null,null,null,null,null,"00:00:00"]
[null,null,null,null,null,null,null,null,null,null,null,null,"00:00:00"]
[null,null,null,null,null,null,null,null,null,null,null,null,"00:00:00"]
[null,null,null,null,null,null,null,null,null,null,null,null,"00:00:00"]
[null,null,null,null,null,null,null,null,null,null,null,null,"00:00:00"]
[null,null,null,null,null,null,null,null,null,null,null,null,"00:00:00"]
[null,null,null,null,null,null,null,null,null,null,null,null,"00:00:00"]
[null,null,null,null,null,null,null,null,null,null,null,null,"00:00:00"]
[null,null,null,null,null,null,null,null,null,null,null,null,"00:00:00"]
[null,null,null,null,null,null,null,null,null,null,null,null,"00:00:00"]
[null,null,null,null,null,null,null,null,null,null,null,null,"00:00:00"]
[null,null,null,null,null,null,null,null,null,null,null,null,"00:00:00"]
[null,null,null,null,null,null,null,null,null,null,null,null,"00:00:00"]
[null,null,null,null,null,null,null,null,null,null,null,null,"00:00:00"]
[null,null,null,null,null,null,null,null,null,null,null,null,"00:00:00"]
[null,null,null,null,null,null,null,null,null,null,null,null,"00:00:00"]
[null,null,null,null,null,null,null,null,null,null,null,null,"00:00:00"]
[null,null,null,null,null,null,null,null,null,null,null,null,"00:00:00"]
[null,null,null,null,null,null,null,null,null,null,null,null,"00:00:00"]
[null,null,null,null,null,null,null,null,null,null,null,null,"00:00:00"]
[null,null,null,null,null,null,null,null,null,null,null,null,"00:00:00"]
[null,null,null,null,null,null,null,null,null,null,null,null,"00:00:00"]
[null,null,null,null,null,null,null,null,null,null,null,null,"00:00:00"]
[null,null,null,null,null,null,null,null,null,null,null,null,"00:00:00"]
[null,null,null,null,null,null,null,null,null,null,null,null,"00:00:00"]
[null,null,null,null,null,null,null,null,null,null,null,null,"00:00:00"]
[null,null,null,null,null,null,null,null,null,null,null,null,{"$f":"N1103","v":"00:00:00"}]
[null,null,null,null,null,null,null,null,null,null,null,null,"00:00:00"]
[null,null,null,null,null,null,null,null,null,null,null,null,"00:00:00"]
[null,null,null,null,null,null,null,null,null,null,null,null,"00:00:00"]
[null,null,null,null,null,null,null,null,null,null,null,null,"00:00:00"]
[null,null,null,null,null,null,null,null,null,null,null,null,"00:00:00"]
[null,null,null,null,null,null,null,null,null,null,null,null,"00:00:00"]
[null,null,null,null,null,null,null,null,null,null,null,null,"00:00:00"]
[null,null,null,null,null,null,null,null,null,null,null,null,"00:00:00"]
[null,null,null,null,null,null,null,null,null,null,null,null,"00:00:00"]
[null,null,null,null,null,null,null,null,null,null,null,null,"00:00:00"]
[null,null,null,null,null,null,null,null,null,null,null,null,"00:00:00"]
[null,null,null,null,null,null,null,null,null,null,null,null,"00:00:00"]
[null,null,null,null,null,null,null,null,null,null,null,null,"00:00:00"]
[null,null,null,null,null,null,null,null,null,null,null,null,"00:00:00"]
[null,null,null,null,null,null,null,null,null,null,null,null,"00:00:00"]
[null,null,null,null,null,null,null,null,null,null,null,null,"00:00:00"]
[null,null,null,null,null,null,null,null,null,null,null,null,"00:00:00"]
[null,null,null,null,null,null,null,null,null,null,null,null,"00:00:00"]
[null,null,null,null,null,null,null,null,null,null,null,null,"00:00:00"]
[null,null,null,null,null,null,null,null,null,null,null,null,"00:00:00"]
[null,null,null,null,null,null,null,null,null,null,null,null,"00:00:00"]
[null,null,null,null,null,null,null,null,null,null,null,null,"00:00:00"]
[null,null,null,null,null,null,null,null,null,null,null,null,"00:00:00"]
[null,null,null,null,null,null,null,null,null,null,null,null,"00:00:00"]
[null,null,null,null,null,null,null,null,null,null,null,null,"00:00:00"]
[null,null,null,null,null,null,null,null,null,null,null,null,"00:00:00"]
[null,null,null,null,null,null,null,null,null,null,null,null,"00:00:00"]
[null,null,null,null,null,null,null,null,null,null,null,null,"00:00:00"]
[null,null,null,null,null,null,null,null,null,null,null,null,"00:00:00"]
[null,null,null,null,null,null,null,null,null,null,null,null,"00:00:00"]
[null,null,null,null,null,null,null,null,null,null,null,null,"00:00:00"]
[null,null,null,null,null,null,null,null,null,null,null,null,"00:00:00"]
[null,null,null,null,null,null,null,null,null,null,null,null,"00:00:00"]
[null,null,null,null,null,null,null,null,null,null,null,null,"00:00:00"]
[null,null,null,null,null,null,null,null,null,null,null,null,"00:00:00"]
[null,null,null,null,null,null,null,null,null,null,null,null,"00:00:00"]
[null,null,null,null,null,null,null,null,null,null,null,null,"00:00:00"]
[null,null,null,null,null,null,null,null,null,null,null,null,"00:00:00"]
[null,null,null,null,null,null,null,null,null,null,null,null,"00:00:00"]
[null,null,null,null,null,null,null,null,null,null,null,null,"00:00:00"]
[null,null,null,null,null,null,null,null,null,null,null,null,"00:00:00"]
[null,null,null,null,null,null,null,null,null,null,null,null,"00:00:00"]
[null,null,null,null,null,null,null,null,null,null,null,null,"00:00:00"]
[null,null,null,null,null,null,null,null,null,null,null,null,"00:00:00"]
[null,null,null,null,null,null,null,null,null,null,null,null,"00:00:00"]
[null,null,null,null,null,null,null,null,null,null,null,null,"00:00:00"]
[null,null,null,null,null,null,null,null,null,null,null,null,"00:00:00"]
[null,null,null,null,null,null,null,null,null,null,null,null,"00:00:00"]
[null,null,null,null,null,null,null,null,null,null,null,null,"00:00:00"]
[null,null,null,null,null,null,null,null,null,null,null,null,"00:00:00"]
[null,null,null,null,null,null,null,null,null,null,null,null,"00:00:00"]
[null,null,null,null,null,null,null,null,null,null,null,null,"00:00:00"]
[null,null,null,null,null,null,null,null,null,null,null,null,"00:00:00"]
[null,null,null,null,null,null,null,null,null,null,null,null,"00:00:00"]
[null,null,null,null,null,null,null,null,null,null,null,null,"00:00:00"]
[null,null,null,null,null,null,null,null,null,null,null,null,"00:00:00"]
[null,null,null,null,null,null,null,null,null,null,null,null,"00:00:00"]
[null,null,null,null,null,null,null,null,null,null,null,null,"00:00:00"]
[null,null,null,null,null,null,null,null,null,null,null,null,"00:00:00"]
[null,null,null,null,null,null,null,null,null,null,null,null,"00:00:00"]
[null,null,null,null,null,null,null,null,null,null,null,null,"00:00:00"]
[null,null,null,null,null,null,null,null,null,null,null,null,"00:00:00"]
[null,null,null,null,null,null,null,null,null,null,null,null,"00:00:00"]
[null,null,null,null,null,null,null,null,null,null,null,null,{"$f":"N1167","v":"00:00:00"}]
[null,null,null,null,null,null,null,null,null,null,null,null,"00:00:00"]
[null,null,null,null,null,null,null,null,null,null,null,null,"00:00:00"]
[null,null,null,null,null,null,null,null,null,null,null,null,"00:00:00"]
[null,null,null,null,null,null,null,null,null,null,null,null,"00:00:00"]
[null,null,null,null,null,null,null,null,null,null,null,null,"00:00:00"]
[null,null,null,null,null,null,null,null,null,null,null,null,"00:00:00"]
[null,null,null,null,null,null,null,null,null,null,null,null,"00:00:00"]
[null,null,null,null,null,null,null,null,null,null,null,null,"00:00:00"]
[null,null,null,null,null,null,null,null,null,null,null,null,"00:00:00"]
[null,null,null,null,null,null,null,null,null,null,null,null,"00:00:00"]
[null,null,null,null,null,null,null,null,null,null,null,null,"00:00:00"]
[null,null,null,null,null,null,null,null,null,null,null,null,"00:00:00"]
[null,null,null,null,null,null,null,null,null,null,null,null,"00:00:00"]
[null,null,null,null,null,null,null,null,null,null,null,null,"00:00:00"]
[null,null,null,null,null,null,null,null,null,null,null,null,"00:00:00"]
[null,null,null,null,null,null,null,null,null,null,null,null,"00:00:00"]
[null,null,null,null,null,null,null,null,null,null,null,null,"00:00:00"]
[null,null,null,null,null,null,null,null,null,null,null,null,"00:00:00"]
[null,null,null,null,null,null,null,null,null,null,null,null,"00:00:00"]
[null,null,null,null,null,null,null,null,null,null,null,null,"00:00:00"]
[null,null,null,null,null,null,null,null,null,null,null,null,"00:00:00"]
[null,null,null,null,null,null,null,null,null,null,null,null,"00:00:00"]
[null,null,null,null,null,null,null,null,null,null,null,null,"00:00:00"]
[null,null,null,null,null,null,null,null,null,null,null,null,"00:00:00"]
[null,null,null,null,null,null,null,null,null,null,null,null,"00:00:00"]
[null,null,null,null,null,null,null,null,null,null,null,null,"00:00:00"]
[null,null,null,null,null,null,null,null,null,null,null,null,"00:00:00"]
[null,null,null,null,null,null,null,null,null,null,null,null,"00:00:00"]
[null,null,null,null,null,null,null,null,null,null,null,null,"00:00:00"]
[null,null,null,null,null,null,null,null,null,null,null,null,"00:00:00"]

{"sheet":"Recap","index":12,"n_rows":50,"n_cols":11,"rows_kept":50,"cut":false,"hidden":false,"merged":[[27,5,27,14]]}
["CHAMPAGNOLE"]
["mois","année","ville","mois","année","ville","mois","année","ville"]
["janvier",2010,"champagnole","janvier",2011,"champagnole","janvier",2012,"champagnole"]
["mois","année","ville","mois","année","ville","mois","année","ville"]
["février",2010,"champagnole","février",2011,"champagnole","février",2012,"champagnole"]
["mois","année","ville","mois","année","ville","mois","année","ville"]
["mars",2010,"champagnole","mars",2011,"champagnole","mars",2012,"champagnole"]
["mois","année","ville","mois","année","ville","mois","année","ville"]
["avril",2010,"champagnole","avril",2011,"champagnole","avril",2012,"champagnole"]
["mois","année","ville","mois","année","ville","mois","année","ville"]
["mai",2010,"champagnole","mai",2011,"champagnole","mai",2012,"champagnole"]
["mois","année","ville","mois","année","ville","mois","année","ville"]
["juin",2010,"champagnole","juin",2011,"champagnole","juin",2012,"champagnole"]
["mois","année","ville","mois","année","ville","mois","année","ville"]
["juillet",2010,"champagnole","juillet",2011,"champagnole","juillet",2012,"champagnole"]
["mois","année","ville","mois","année","ville","mois","année","ville"]
["août",2010,"champagnole","août",2011,"champagnole","août",2012,"champagnole"]
["mois","année","ville","mois","année","ville","mois","année","ville"]
["septembre",2010,"champagnole","septembre",2011,"champagnole","septembre",2012,"champagnole"]
["mois","année","ville","mois","année","ville","mois","année","ville"]
["octobre",2010,"champagnole","octobre",2011,"champagnole","octobre",2012,"champagnole"]
["mois","année","ville","mois","année","ville","mois","année","ville"]
["novembre",2010,"champagnole","novembre",2011,"champagnole","novembre",2012,"champagnole"]
["mois","année","ville","mois","année","ville","mois","année","ville"]
["décembre",2010,"champagnole","décembre",2011,"champagnole","décembre",2012,"champagnole"]
[]
[]
[null,2010,2011,2012,null,"Activité CHAMPAGNOLE"]
["janvier",{"$f":"DSUM('Suiv Contr '!$A$12:$AG$1228,'Suiv Contr '!$AD$12,A2:C3)","v":90},{"$f":"DSUM('Suiv Contr '!$A$12:$AG$1228,'Suiv Contr '!$AD$12,D2:F3)","v":97},{"$f":"DSUM('Suiv Contr '!$A$12:$AG$1228,'Suiv Contr '!$AD$12,G2:I3)","v":84}]
["février",{"$f":"DSUM('Suiv Contr '!$A$12:$AG$1228,'Suiv Contr '!$AD$12,A4:C5)","v":96},{"$f":"DSUM('Suiv Contr '!$A$12:$AG$1228,'Suiv Contr '!$AD$12,D4:F5)","v":89},{"$f":"DSUM('Suiv Contr '!$A$12:$AG$1228,'Suiv Contr '!$AD$12,G4:I5)","v":83}]
["mars",{"$f":"DSUM('Suiv Contr '!$A$12:$AG$1228,'Suiv Contr '!$AD$12,A6:C7)","v":109},{"$f":"DSUM('Suiv Contr '!$A$12:$AG$1228,'Suiv Contr '!$AD$12,D6:F7)","v":94},{"$f":"DSUM('Suiv Contr '!$A$12:$AG$1228,'Suiv Contr '!$AD$12,G6:I7)","v":92}]
["avril",{"$f":"DSUM('Suiv Contr '!$A$12:$AG$1228,'Suiv Contr '!$AD$12,A8:C9)","v":85},{"$f":"DSUM('Suiv Contr '!$A$12:$AG$1228,'Suiv Contr '!$AD$12,D8:F9)","v":64},{"$f":"DSUM('Suiv Contr '!$A$12:$AG$1228,'Suiv Contr '!$AD$12,G8:I9)","v":77}]
["mai",{"$f":"DSUM('Suiv Contr '!$A$12:$AG$1228,'Suiv Contr '!$AD$12,A10:C11)","v":77},{"$f":"DSUM('Suiv Contr '!$A$12:$AG$1228,'Suiv Contr '!$AD$12,D10:F11)","v":102},{"$f":"DSUM('Suiv Contr '!$A$12:$AG$1228,'Suiv Contr '!$AD$12,G10:I11)","v":93}]
["juin",{"$f":"DSUM('Suiv Contr '!$A$12:$AG$1228,'Suiv Contr '!$AD$12,A12:C13)","v":129},{"$f":"DSUM('Suiv Contr '!$A$12:$AG$1228,'Suiv Contr '!$AD$12,D12:F13)","v":111},{"$f":"DSUM('Suiv Contr '!$A$12:$AG$1228,'Suiv Contr '!$AD$12,G12:I13)","v":130}]
["juillet",{"$f":"DSUM('Suiv Contr '!$A$12:$AG$1228,'Suiv Contr '!$AD$12,A14:C15)","v":129},{"$f":"DSUM('Suiv Contr '!$A$12:$AG$1228,'Suiv Contr '!$AD$12,D14:F15)","v":104},{"$f":"DSUM('Suiv Contr '!$A$12:$AG$1228,'Suiv Contr '!$AD$12,G14:I15)","v":111}]
["août",{"$f":"DSUM('Suiv Contr '!$A$12:$AG$1228,'Suiv Contr '!$AD$12,A16:C17)","v":109},{"$f":"DSUM('Suiv Contr '!$A$12:$AG$1228,'Suiv Contr '!$AD$12,D16:F17)","v":105},{"$f":"DSUM('Suiv Contr '!$A$12:$AG$1228,'Suiv Contr '!$AD$12,G16:I17)","v":75}]
["septembre",{"$f":"DSUM('Suiv Contr '!$A$12:$AG$1228,'Suiv Contr '!$AD$12,A18:C19)","v":87},{"$f":"DSUM('Suiv Contr '!$A$12:$AG$1228,'Suiv Contr '!$AD$12,D18:F19)","v":93},{"$f":"DSUM('Suiv Contr '!$A$12:$AG$1228,'Suiv Contr '!$AD$12,G18:I19)","v":110}]
["octobre",{"$f":"DSUM('Suiv Contr '!$A$12:$AG$1228,'Suiv Contr '!$AD$12,A20:C21)","v":111},{"$f":"DSUM('Suiv Contr '!$A$12:$AG$1228,'Suiv Contr '!$AD$12,D20:F21)","v":86},{"$f":"DSUM('Suiv Contr '!$A$12:$AG$1228,'Suiv Contr '!$AD$12,G20:I21)","v":96}]
["novembre",{"$f":"DSUM('Suiv Contr '!$A$12:$AG$1228,'Suiv Contr '!$AD$12,A22:C23)","v":81},{"$f":"DSUM('Suiv Contr '!$A$12:$AG$1228,'Suiv Contr '!$AD$12,D22:F23)","v":67},{"$f":"DSUM('Suiv Contr '!$A$12:$AG$1228,'Suiv Contr '!$AD$12,G22:I23)","v":59}]
["décembre",{"$f":"DSUM('Suiv Contr '!$A$12:$AG$1228,'Suiv Contr '!$AD$12,A24:C25)","v":51},{"$f":"DSUM('Suiv Contr '!$A$12:$AG$1228,'Suiv Contr '!$AD$12,D24:F25)","v":57},{"$f":"DSUM('Suiv Contr '!$A$12:$AG$1228,'Suiv Contr '!$AD$12,G24:I25)","v":50}]
[null,{"$f":"SUM(B29:B40)","v":1154},{"$f":"SUM(C29:C40)","v":1069},{"$f":"SUM(D29:D40)","v":1060}]
[null,null,{"$f":"C41-B41","v":-85},{"$f":"D41-C41","v":-9}]
[]
[]
[]
[]
[]
[]
[null,null,null,null,null,null,null,null,{"$f":"EDATE(J49,-12)","v":"2012-04-02"},{"$f":"TODAY()","v":"2013-04-02"}]
[null,null,null,null,null,null,null,null,{"$f":"janvier11+fevrier11+mars11+avril11+_mai2011+juin11+juillet11+aout11+septembre11+octobre11+novembre11+decembre11","v":1069},{"$f":"janvier12+fevrier12+mars12+avril12+_mai12+juin12+juillet12+aout12+septembre12+octobre12+novembre12+decembre12","v":1060},{"$f":"J50-I50","v":-9}]

{"sheet":"Données1","index":13,"n_rows":370,"n_cols":36,"rows_kept":370,"cut":false,"hidden":false,"merged":[]}
[]
[]
[1,"P",1,"e","e",null,null,null,null,null,"MOIS","NB jour",null,"Pointage",null,"VILLEFRANCHE",null,null,null,null,null,null,"Année :","2012"]
["M","Pointage","M","Pointage",null,null,null,null,null,null,"Janv",{"$error":"#VALUE!"},null,"e",null,null,null,null,null,null,null,"jour","fete",null,null,"année","ville","mois","nom","Km",null,"année","ville","mois","nom","Km"]
[2,"P",2,"e",null,null,null,null,null,null,"Févr",{"$error":"#VALUE!"},null,"P",null,null,null,null,null,null,null,"1900-01-01","Jour de l'An",null,null,{"$f":"IF('Suiv Contr '!G4=\"\",\"\",'Suiv Contr '!G4)","v":2013},null,{"$f":"IF('Suiv Contr '!$K$4=\"\",\"\",'Suiv Contr '!$K$4)","v":"Mars"},{"$f":"IF('Suiv Contr '!$L$4=\"\",\"\",'Suiv Contr '!$L$4)","v":""},null,null,{"$f":"IF('Suiv Contr '!$G$4=\"\",\"\",'Suiv Contr '!$G$4)","v":2013},{"$f":"IF('Suiv Contr '!$H$4=\"\",\"\",'Suiv Contr '!$H$4)","v":"Champagnole"},{"$f":"IF('Suiv Contr '!$K$4=\"\",\"\",'Suiv Contr '!$K$4)","v":"Mars"},{"$f":"IF('Suiv Contr '!$L$4=\"\",\"\",'Suiv Contr '!$L$4)","v":""}]
["M","Pointage","M","Pointage",null,null,null,null,null,null,"Mars",{"$error":"#VALUE!"},null,null,null,null,null,null,null,null,null,"1900-01-02","St Basile",null,null,"année","ville","mois","nom","pointage",null,"année","ville","mois","nom","pointage"]
[3,"P",3,"e",null,null,null,null,null,null,"Avr",{"$error":"#VALUE!"},null,null,null,null,null,null,null,null,null,"1900-01-03","Ste Geneviève",null,null,{"$f":"IF('Suiv Contr '!G4=\"\",\"\",'Suiv Contr '!G4)","v":2013},null,{"$f":"IF('Suiv Contr '!K4=\"\",\"\",'Suiv Contr '!K4)","v":"Mars"},null,"ex",null,{"$f":"IF('Suiv Contr '!$G$4=\"\",\"\",'Suiv Contr '!$G$4)","v":2013},{"$f":"IF('Suiv Contr '!$H$4=\"\",\"\",'Suiv Contr '!$H$4)","v":"Champagnole"},{"$f":"IF('Suiv Contr '!$K$4=\"\",\"\",'Suiv Contr '!$K$4)","v":"Mars"},{"$f":"IF('Suiv Contr '!$L$4=\"\",\"\",'Suiv Contr '!$L$4)","v":""},"ex"]
["M","Pointage","M","Pointage",null,null,null,null,null,null,"Mai",{"$error":"#VALUE!"},null,null,null,null,null,null,null,null,null,"1900-01-04","St Odilon",null,null,"année","ville","mois","nom","pointage",null,"année","ville","mois","nom","pointage"]
[4,"P",4,"e",null,null,null,null,null,null,"Juin",{"$error":"#VALUE!"},"T2","M",null,"T3","M",null,"T4","M",null,"1900-01-05","St Edouard",null,null,{"$f":"IF('Suiv Contr '!G4=\"\",\"\",'Suiv Contr '!G4)","v":2013},null,{"$f":"IF('Suiv Contr '!K4=\"\",\"\",'Suiv Contr '!K4)","v":"Mars"},{"$f":"IF('Suiv Contr '!L4=\"\",\"\",'Suiv Contr '!L4)","v":""},"p",null,{"$f":"IF('Suiv Contr '!$G$4=\"\",\"\",'Suiv Contr '!$G$4)","v":2013},{"$f":"IF('Suiv Contr '!$H$4=\"\",\"\",'Suiv Contr '!$H$4)","v":"Champagnole"},{"$f":"IF('Suiv Contr '!$K$4=\"\",\"\",'Suiv Contr '!$K$4)","v":"Mars"},{"$f":"IF('Suiv Contr '!$L$4=\"\",\"\",'Suiv Contr '!$L$4)","v":""},"p"]
["M","Pointage","M","Pointage",null,null,null,null,null,null,"Juil",{"$error":"#VALUE!"},">0",1,null,">0",1,null,">0",1,null,"1900-01-06","Ste Melaine",null,null,"année","ville","mois","nom","pointage",null,"année","ville","mois","nom","pointage"]
[5,"P",5,"e",null,null,null,null,null,null,"Août",{"$error":"#VALUE!"},"T2","M",null,"T3","M",null,"T4","M",null,"1900-01-07","St Raymond",null,null,{"$f":"IF('Suiv Contr '!$G$4=\"\",\"\",'Suiv Contr '!$G$4)","v":2013},null,{"$f":"IF('Suiv Contr '!$K$4=\"\",\"\",'Suiv Contr '!$K$4)","v":"Mars"},{"$f":"IF('Suiv Contr '!$L$4=\"\",\"\",'Suiv Contr '!$L$4)","v":""},"ca",null,{"$f":"IF('Suiv Contr '!$G$4=\"\",\"\",'Suiv Contr '!$G$4)","v":2013},{"$f":"IF('Suiv Contr '!$H$4=\"\",\"\",'Suiv Contr '!$H$4)","v":"Champagnole"},{"$f":"IF('Suiv Contr '!$K$4=\"\",\"\",'Suiv Contr '!$K$4)","v":"Mars"},{"$f":"IF('Suiv Contr '!$L$4=\"\",\"\",'Suiv Contr '!$L$4)","v":""},"ca"]
["M","Pointage","M","Pointage",null,null,null,null,null,null,"Sept",{"$error":"#VALUE!"},">0",2,null,">0",2,null,">0",2,null,"1900-01-08","St Lucien",null,null,"année","ville","mois","nom","pointage",null,"année","ville","mois","nom","pointage"]
[6,"P",6,"e",null,null,null,null,null,null,"Oct",{"$error":"#VALUE!"},"T2","M",null,"T3","M",null,"T4","M",null,"1900-01-09","Ste Alix",null,null,{"$f":"IF('Suiv Contr '!$G$4=\"\",\"\",'Suiv Contr '!$G$4)","v":2013},null,{"$f":"IF('Suiv Contr '!$K$4=\"\",\"\",'Suiv Contr '!$K$4)","v":"Mars"},{"$f":"IF('Suiv Contr '!$L$4=\"\",\"\",'Suiv Contr '!$L$4)","v":""},"sp",null,{"$f":"IF('Suiv Contr '!$G$4=\"\",\"\",'Suiv Contr '!$G$4)","v":2013},{"$f":"IF('Suiv Contr '!$H$4=\"\",\"\",'Suiv Contr '!$H$4)","v":"Champagnole"},{"$f":"IF('Suiv Contr '!$K$4=\"\",\"\",'Suiv Contr '!$K$4)","v":"Mars"},{"$f":"IF('Suiv Contr '!$L$4=\"\",\"\",'Suiv Contr '!$L$4)","v":""},"sp"]
["M","Pointage","M","Pointage",null,null,null,null,null,null,"Nov",{"$error":"#VALUE!"},">0",3,null,">0",3,null,">0",3,null,"1900-01-10","St Guillaume",null,null,"année","ville","mois","nom","pointage",null,"année","ville","mois","nom","pointage"]
[7,"P",7,"e",null,null,null,null,null,null,"Déc",{"$error":"#VALUE!"},"T2","M",null,"T3","M",null,"T4","M",null,"1900-01-11","St Paulin",null,null,{"$f":"IF('Suiv Contr '!$G$4=\"\",\"\",'Suiv Contr '!$G$4)","v":2013},null,{"$f":"IF('Suiv Contr '!$K$4=\"\",\"\",'Suiv Contr '!$K$4)","v":"Mars"},{"$f":"IF('Suiv Contr '!$L$4=\"\",\"\",'Suiv Contr '!$L$4)","v":""},"f",null,{"$f":"IF('Suiv Contr '!$G$4=\"\",\"\",'Suiv Contr '!$G$4)","v":2013},{"$f":"IF('Suiv Contr '!$H$4=\"\",\"\",'Suiv Contr '!$H$4)","v":"Champagnole"},{"$f":"IF('Suiv Contr '!$K$4=\"\",\"\",'Suiv Contr '!$K$4)","v":"Mars"},{"$f":"IF('Suiv Contr '!$L$4=\"\",\"\",'Suiv Contr '!$L$4)","v":""},"f"]
["M","Pointage","M","Pointage",null,null,null,null,null,null,null,null,">0",4,null,">0",4,null,">0",4,null,"1900-01-12","Ste Tatiana",null,null,"année","ville","mois","nom","pointage",null,"année","ville","mois","nom","pointage"]
[8,"P",8,"e",null,null,null,null,null,null,null,null,"T2","M",null,"T3","M",null,"T4","M",null,"1900-01-13","Ste Yvette",null,null,{"$f":"IF('Suiv Contr '!$G$4=\"\",\"\",'Suiv Contr '!$G$4)","v":2013},null,{"$f":"IF('Suiv Contr '!$K$4=\"\",\"\",'Suiv Contr '!$K$4)","v":"Mars"},{"$f":"IF('Suiv Contr '!$L$4=\"\",\"\",'Suiv Contr '!$L$4)","v":""},"m",null,{"$f":"IF('Suiv Contr '!$G$4=\"\",\"\",'Suiv Contr '!$G$4)","v":2013},{"$f":"IF('Suiv Contr '!$H$4=\"\",\"\",'Suiv Contr '!$H$4)","v":"Champagnole"},{"$f":"IF('Suiv Contr '!$K$4=\"\",\"\",'Suiv Contr '!$K$4)","v":"Mars"},{"$f":"IF('Suiv Contr '!$L$4=\"\",\"\",'Suiv Contr '!$L$4)","v":""},"m"]
["M","Pointage","M","Pointage",null,null,null,null,null,null,null,null,">0",5,null,">0",5,null,">0",5,null,"1900-01-14","Ste Nina",null,null,"année","ville","mois","nom","pointage",null,"année","ville","mois","nom","pointage"]
[9,"P",9,"e",null,null,null,null,null,null,null,null,"T2","M",null,"T3","M",null,"T4","M",null,"1900-01-15","St Rémi",null,null,{"$f":"IF('Suiv Contr '!$G$4=\"\",\"\",'Suiv Contr '!$G$4)","v":2013},null,{"$f":"IF('Suiv Contr '!$K$4=\"\",\"\",'Suiv Contr '!$K$4)","v":"Mars"},{"$f":"IF('Suiv Contr '!$L$4=\"\",\"\",'Suiv Contr '!$L$4)","v":""},"reu",null,{"$f":"IF('Suiv Contr '!$G$4=\"\",\"\",'Suiv Contr '!$G$4)","v":2013},{"$f":"IF('Suiv Contr '!$H$4=\"\",\"\",'Suiv Contr '!$H$4)","v":"Champagnole"},{"$f":"IF('Suiv Contr '!$K$4=\"\",\"\",'Suiv Contr '!$K$4)","v":"Mars"},{"$f":"IF('Suiv Contr '!$L$4=\"\",\"\",'Suiv Contr '!$L$4)","v":""},"reu"]
["M","Pointage","M","Pointage",null,null,null,null,null,null,null,null,">0",6,null,">0",6,null,">0",6,null,"1900-01-16","St Marcel",null,null,"année","mois","nom","pointage",null,null,"année","mois","nom","pointage"]
[10,"P",10,"e",null,null,null,null,null,null,null,null,"T2","M",null,"T3","M",null,"T4","M",null,"1900-01-17","Ste Roseline",null,null,{"$f":"IF('Suiv Contr '!$G$4=\"\",\"\",'Suiv Contr '!$G$4)","v":2013},{"$f":"IF('Suiv Contr '!$K$4=\"\",\"\",'Suiv Contr '!$K$4)","v":"Mars"},{"$f":"IF('Suiv Contr '!$L$4=\"\",\"\",'Suiv Contr '!$L$4)","v":""},"v",null,null,{"$f":"IF('Suiv Contr '!$G$4=\"\",\"\",'Suiv Contr '!$G$4)","v":2013},{"$f":"IF('Suiv Contr '!$K$4=\"\",\"\",'Suiv Contr '!$K$4)","v":"Mars"},{"$f":"IF('Suiv Contr '!$L$4=\"\",\"\",'Suiv Contr '!$L$4)","v":""},"v"]
["M","Pointage","M","Pointage",null,null,null,null,null,null,null,null,">0",7,null,">0",7,null,">0",7,null,"1900-01-18","Ste Prisca",null,null,"année","mois","nom","pointage",null,null,"année","mois","nom","pointage"]
[11,"P",11,"e",null,null,null,null,null,null,null,null,"T2","M",null,"T3","M",null,"T4","M",null,"1900-01-19","St Marius",null,null,{"$f":"IF('Suiv Contr '!$G$4=\"\",\"\",'Suiv Contr '!$G$4)","v":2013},{"$f":"IF('Suiv Contr '!$K$4=\"\",\"\",'Suiv Contr '!$K$4)","v":"Mars"},{"$f":"IF('Suiv Contr '!$L$4=\"\",\"\",'Suiv Contr '!$L$4)","v":""},"rec",null,null,{"$f":"IF('Suiv Contr '!$G$4=\"\",\"\",'Suiv Contr '!$G$4)","v":2013},{"$f":"IF('Suiv Contr '!$K$4=\"\",\"\",'Suiv Contr '!$K$4)","v":"Mars"},{"$f":"IF('Suiv Contr '!$L$4=\"\",\"\",'Suiv Contr '!$L$4)","v":""},"rec"]
["M","Pointage","M","Pointage",null,null,null,null,null,null,null,null,">0",8,null,">0",8,null,">0",8,null,"1900-01-20","St Sébastien"]
[12,"P",12,"e",null,null,null,null,null,null,null,null,"T2","M",null,"T3","M",null,"T4","M",null,"1900-01-21","Ste Agnès",null,null,"année","ville","mois","nom","pointage",null,"année","ville","mois","nom","pointage"]
[null,null,null,null,null,null,null,null,null,null,null,null,">0",9,null,">0",9,null,">0",9,null,"1900-01-22","St Vincent",null,null,{"$f":"IF('Suiv Contr '!$G$6=\"\",\"\",'Suiv Contr '!$G$6)","v":2012},null,{"$f":"IF('Suiv Contr '!$K$4=\"\",\"\",'Suiv Contr '!$K$4)","v":"Mars"},{"$f":"IF('Suiv Contr '!$L$4=\"\",\"\",'Suiv Contr '!$L$4)","v":""},"p",null,{"$f":"IF('Suiv Contr '!$G$6=\"\",\"\",'Suiv Contr '!$G$6)","v":2012},{"$f":"IF('Suiv Contr '!$H4=\"\",\"\",'Suiv Contr '!$H4)","v":"Champagnole"},{"$f":"IF('Suiv Contr '!$K$4=\"\",\"\",'Suiv Contr '!$K$4)","v":"Mars"},{"$f":"IF('Suiv Contr '!$L$4=\"\",\"\",'Suiv Contr '!$L$4)","v":""},"p"]
[null,null,null,null,null,null,null,null,null,null,null,null,"T2","M",null,"T3","M",null,"T4","M",null,"1900-01-23","St Barnard",null,null,"année","ville","mois","nom","pointage",null,"année","ville","mois","nom","pointage"]
[null,null,null,null,null,null,null,null,null,null,null,null,">0",10,null,">0",10,null,">0",10,null,"1900-01-24","St François de Sales",null,null,{"$f":"IF('Suiv Contr '!$G$6=\"\",\"\",'Suiv Contr '!$G$6)","v":2012},{"$f":"IF('Suiv Contr '!$H2=\"\",\"\",'Suiv Contr '!$H2)","v":""},{"$f":"IF('Suiv Contr '!$K$4=\"\",\"\",'Suiv Contr '!$K$4)","v":"Mars"},{"$f":"IF('Suiv Contr '!$L$4=\"\",\"\",'Suiv Contr '!$L$4)","v":""},"ca",null,{"$f":"IF('Suiv Contr '!$G$6=\"\",\"\",'Suiv Contr '!$G$6)","v":2012},{"$f":"IF('Suiv Contr '!$H2=\"\",\"\",'Suiv Contr '!$H2)","v":""},{"$f":"IF('Suiv Contr '!$K$4=\"\",\"\",'Suiv Contr '!$K$4)","v":"Mars"},{"$f":"IF('Suiv Contr '!$L$4=\"\",\"\",'Suiv Contr '!$L$4)","v":""},"ca"]
[null,null,null,null,null,null,null,null,null,null,null,null,"T2","M",null,"T3","M",null,"T4","M",null,"1900-01-25","Convers. de St Paul",null,null,"année","ville","mois","nom","pointage",null,"année","ville","mois","nom","pointage"]
["Pointage",null,null,null,null,null,null,null,null,null,null,null,">0",11,null,">0",11,null,">0",11,null,"1900-01-26","Ste Paule",null,null,{"$f":"IF('Suiv Contr '!$G$6=\"\",\"\",'Suiv Contr '!$G$6)","v":2012},null,{"$f":"IF('Suiv Contr '!$K$4=\"\",\"\",'Suiv Contr '!$K$4)","v":"Mars"},{"$f":"IF('Suiv Contr '!$L$4=\"\",\"\",'Suiv Contr '!$L$4)","v":""},"sp",null,{"$f":"IF('Suiv Contr '!$G$6=\"\",\"\",'Suiv Contr '!$G$6)","v":2012},{"$f":"IF('Suiv Contr '!$H4=\"\",\"\",'Suiv Contr '!$H4)","v":"Champagnole"},{"$f":"IF('Suiv Contr '!$K$4=\"\",\"\",'Suiv Contr '!$K$4)","v":"Mars"},{"$f":"IF('Suiv Contr '!$L$4=\"\",\"\",'Suiv Contr '!$L$4)","v":""},"sp"]
["R",null,null,null,null,null,null,null,null,null,null,null,"T2","M",null,"T3","M",null,"T4","M",null,"1900-01-27","Ste Angel",null,null,"année","ville","mois","nom","pointage",null,"année","ville","mois","nom","pointage"]
[null,null,null,null,null,null,null,null,null,null,null,null,">0",12,null,">0",12,null,">0",12,null,"1900-01-28","St Thomas d'Aquin",null,null,{"$f":"IF('Suiv Contr '!$G$6=\"\",\"\",'Suiv Contr '!$G$6)","v":2012},null,{"$f":"IF('Suiv Contr '!$K$4=\"\",\"\",'Suiv Contr '!$K$4)","v":"Mars"},{"$f":"IF('Suiv Contr '!$L$4=\"\",\"\",'Suiv Contr '!$L$4)","v":""},"f",null,{"$f":"IF('Suiv Contr '!$G$6=\"\",\"\",'Suiv Contr '!$G$6)","v":2012},{"$f":"IF('Suiv Contr '!$H4=\"\",\"\",'Suiv Contr '!$H4)","v":"Champagnole"},{"$f":"IF('Suiv Contr '!$K$4=\"\",\"\",'Suiv Contr '!$K$4)","v":"Mars"},{"$f":"IF('Suiv Contr '!$L$4=\"\",\"\",'Suiv Contr '!$L$4)","v":""},"f"]
["Pointage",null,null,null,null,null,null,null,null,null,null,null,null,null,null,null,null,null,null,null,null,"1900-01-29","St Gildas",null,null,"année","ville","mois","nom","pointage",null,"année","ville","mois","nom","pointage"]
["P",null,null,null,null,null,null,null,null,null,null,null,null,null,null,null,null,null,null,null,null,"1900-01-30","Ste Martine",null,null,{"$f":"IF('Suiv Contr '!$G$6=\"\",\"\",'Suiv Contr '!$G$6)","v":2012},null,{"$f":"IF('Suiv Contr '!$K$4=\"\",\"\",'Suiv Contr '!$K$4)","v":"Mars"},{"$f":"IF('Suiv Contr '!$L$4=\"\",\"\",'Suiv Contr '!$L$4)","v":""},"m",null,{"$f":"IF('Suiv Contr '!$G$6=\"\",\"\",'Suiv Contr '!$G$6)","v":2012},{"$f":"IF('Suiv Contr '!$H4=\"\",\"\",'Suiv Contr '!$H4)","v":"Champagnole"},{"$f":"IF('Suiv Contr '!$K$4=\"\",\"\",'Suiv Contr '!$K$4)","v":"Mars"},{"$f":"IF('Suiv Contr '!$L$4=\"\",\"\",'Suiv Contr '!$L$4)","v":""},"m"]
[null,null,null,null,null,null,null,null,null,null,null,null,null,null,null,null,null,null,null,null,null,"1900-01-31","Ste Marcelle",null,null,"année","ville","mois","nom","pointage",null,"année","ville","mois","nom","pointage"]
[null,null,null,null,null,null,null,null,null,null,null,"besancon",150,null,null,null,null,null,null,null,null,"1900-02-01","Ste Ella",null,null,{"$f":"IF('Suiv Contr '!$G$6=\"\",\"\",'Suiv Contr '!$G$6)","v":2012},null,{"$f":"IF('Suiv Contr '!$K$4=\"\",\"\",'Suiv Contr '!$K$4)","v":"Mars"},{"$f":"IF('Suiv Contr '!$L$4=\"\",\"\",'Suiv Contr '!$L$4)","v":""},"reu",null,{"$f":"IF('Suiv Contr '!$G$6=\"\",\"\",'Suiv Contr '!$G$6)","v":2012},{"$f":"IF('Suiv Contr '!$H4=\"\",\"\",'Suiv Contr '!$H4)","v":"Champagnole"},{"$f":"IF('Suiv Contr '!$K$4=\"\",\"\",'Suiv Contr '!$K$4)","v":"Mars"},{"$f":"IF('Suiv Contr '!$L$4=\"\",\"\",'Suiv Contr '!$L$4)","v":""},"reu"]
[null,null,null,null,null,null,null,null,null,null,null,"cordesse",400,null,null,null,null,null,null,null,null,"1900-02-02","Prés. du Seigneur",null,null,"année","ville","mois","nom","pointage",null,"année","ville","mois","nom","pointage"]
[null,null,null,null,null,null,null,null,null,null,null,null,null,null,null,null,null,null,null,null,null,"1900-02-03","St Blaise",null,null,{"$f":"IF('Suiv Contr '!$G$6=\"\",\"\",'Suiv Contr '!$G$6)","v":2012},null,{"$f":"IF('Suiv Contr '!$K$4=\"\",\"\",'Suiv Contr '!$K$4)","v":"Mars"},null,"ex",null,{"$f":"IF('Suiv Contr '!$G$6=\"\",\"\",'Suiv Contr '!$G$6)","v":2012},{"$f":"IF('Suiv Contr '!$H4=\"\",\"\",'Suiv Contr '!$H4)","v":"Champagnole"},{"$f":"IF('Suiv Contr '!$K$4=\"\",\"\",'Suiv Contr '!$K$4)","v":"Mars"},{"$f":"IF('Suiv Contr '!$L$4=\"\",\"\",'Suiv Contr '!$L$4)","v":""},"ex"]
[null,null,null,null,null,null,null,null,null,null,null,null,null,null,null,null,null,null,null,null,null,"1900-02-04","Ste Véronique",null,null,"année","ville","mois","nom","Km",null,"année","ville","mois","nom","Km"]
[null,null,null,null,null,null,null,null,null,null,null,null,null,null,null,null,null,null,null,null,null,"1900-02-05","Ste Agathe",null,null,{"$f":"IF('Suiv Contr '!$G$6=\"\",\"\",'Suiv Contr '!$G$6)","v":2012},null,{"$f":"IF('Suiv Contr '!$K$4=\"\",\"\",'Suiv Contr '!$K$4)","v":"Mars"},{"$f":"IF('Suiv Contr '!$L$4=\"\",\"\",'Suiv Contr '!$L$4)","v":""},null,null,{"$f":"IF('Suiv Contr '!$G$6=\"\",\"\",'Suiv Contr '!$G$6)","v":2012},null,{"$f":"IF('Suiv Contr '!$K$4=\"\",\"\",'Suiv Contr '!$K$4)","v":"Mars"},{"$f":"IF('Suiv Contr '!$L$4=\"\",\"\",'Suiv Contr '!$L$4)","v":""}]
[null,null,null,null,null,null,null,null,null,null,null,null,null,null,null,null,null,null,null,null,null,"1900-02-06","St Gaston",null,null,"année","mois","nom","pointage",null,null,"année","mois","nom","pointage"]
[null,null,null,null,null,null,null,null,null,null,null,null,null,null,null,null,null,null,null,null,null,"1900-02-07","Ste Eugénie",null,null,{"$f":"IF('Suiv Contr '!$G$6=\"\",\"\",'Suiv Contr '!$G$6)","v":2012},{"$f":"IF('Suiv Contr '!$K$4=\"\",\"\",'Suiv Contr '!$K$4)","v":"Mars"},{"$f":"IF('Suiv Contr '!$L$4=\"\",\"\",'Suiv Contr '!$L$4)","v":""},"v",null,null,{"$f":"IF('Suiv Contr '!$G$6=\"\",\"\",'Suiv Contr '!$G$6)","v":2012},{"$f":"IF('Suiv Contr '!$K$4=\"\",\"\",'Suiv Contr '!$K$4)","v":"Mars"},{"$f":"IF('Suiv Contr '!$L$4=\"\",\"\",'Suiv Contr '!$L$4)","v":""},"v"]
[null,null,null,null,null,null,null,null,null,null,null,null,null,null,null,null,null,null,null,null,null,"1900-02-08","Ste Jacqueline",null,null,"année","mois","nom","pointage",null,null,"année","mois","nom","pointage"]
[null,null,null,null,null,null,null,null,null,null,null,null,null,null,null,null,null,null,null,null,null,"1900-02-09","Ste Apolline",null,null,{"$f":"IF('Suiv Contr '!$G$6=\"\",\"\",'Suiv Contr '!$G$6)","v":2012},{"$f":"IF('Suiv Contr '!$K$4=\"\",\"\",'Suiv Contr '!$K$4)","v":"Mars"},{"$f":"IF('Suiv Contr '!$L$4=\"\",\"\",'Suiv Contr '!$L$4)","v":""},"rec",null,null,{"$f":"IF('Suiv Contr '!$G$6=\"\",\"\",'Suiv Contr '!$G$6)","v":2012},{"$f":"IF('Suiv Contr '!$K$4=\"\",\"\",'Suiv Contr '!$K$4)","v":"Mars"},{"$f":"IF('Suiv Contr '!$L$4=\"\",\"\",'Suiv Contr '!$L$4)","v":""},"rec"]
[null,null,null,null,null,null,null,null,null,null,null,null,null,null,null,null,null,null,null,null,null,"1900-02-10","St Arnaud"]
[null,null,null,null,null,null,null,null,null,null,null,null,null,null,null,null,null,null,null,null,null,"1900-02-11","N.-D. de Lourdes"]
[null,null,null,null,null,null,null,null,null,null,null,null,null,null,null,null,null,null,null,null,null,"1900-02-12","St Félix"]
[null,null,null,null,null,null,null,null,null,null,null,null,null,null,null,null,null,null,null,null,null,"1900-02-13","Ste Béatrice"]
[null,null,null,null,null,null,null,null,null,null,null,null,null,null,null,null,null,null,null,null,null,"1900-02-14","St Valentin"]
[null,null,null,null,null,null,null,null,null,null,null,null,null,null,null,null,null,null,null,null,null,"1900-02-15","St Claude"]
[null,null,null,null,null,null,null,null,null,null,null,null,null,null,null,null,null,null,null,null,null,"1900-02-16","Ste Julienne"]
[null,null,null,null,null,null,null,null,null,null,null,null,null,null,null,null,null,null,null,null,null,"1900-02-17","St Alexis"]
[null,null,null,null,null,null,null,null,null,null,null,null,null,null,null,null,null,null,null,null,null,"1900-02-18","Ste Bernadette"]
[null,null,null,null,null,null,null,null,null,null,null,null,null,null,null,null,null,null,null,null,null,"1900-02-19","St Gabin"]
[null,null,null,null,null,null,null,null,null,null,null,null,null,null,null,null,null,null,null,null,null,"1900-02-20","Ste Aimée"]
[null,null,null,null,null,null,null,null,null,null,null,null,null,null,null,null,null,null,null,null,null,"1900-02-21","St P. Damien"]
[null,null,null,null,null,null,null,null,null,null,null,null,null,null,null,null,null,null,null,null,null,"1900-02-22","Ste Isabelle"]
[null,null,null,null,null,null,null,null,null,null,null,null,null,null,null,null,null,null,null,null,null,"1900-02-23","St Lazare"]
[null,null,null,null,null,null,null,null,null,null,null,null,null,null,null,null,null,null,null,null,null,"1900-02-24","St Modeste"]
[null,null,null,null,null,null,null,null,null,null,null,null,null,null,null,null,null,null,null,null,null,"1900-02-25","St Roméo"]
[null,null,null,null,null,null,null,null,null,null,null,null,null,null,null,null,null,null,null,null,null,"1900-02-26","St Nestor"]
[null,null,null,null,null,null,null,null,null,null,null,null,null,null,null,null,null,null,null,null,null,"1900-02-27","St Honorine"]
[null,null,null,null,null,null,null,null,null,null,null,null,null,null,null,null,null,null,null,null,null,"1900-02-28","St Romain"]
[null,null,null,null,null,null,null,null,null,null,null,null,null,null,null,null,null,null,null,null,null,60,"St Auguste"]
[null,null,null,null,null,null,null,null,null,null,null,null,null,null,null,null,null,null,null,null,null,"1900-03-01","St Aubin"]
[null,null,null,null,null,null,null,null,null,null,null,null,null,null,null,null,null,null,null,null,null,"1900-03-02","St Charles le Bon"]
[null,null,null,null,null,null,null,null,null,null,null,null,null,null,null,null,null,null,null,null,null,"1900-03-03","St Gwénolé"]
[null,null,null,null,null,null,null,null,null,null,null,null,null,null,null,null,null,null,null,null,null,"1900-03-04","St Casimir"]
[null,null,null,null,null,null,null,null,null,null,null,null,null,null,null,null,null,null,null,null,null,"1900-03-05","Ste Olivia"]
[null,null,null,null,null,null,null,null,null,null,null,null,null,null,null,null,null,null,null,null,null,"1900-03-06","Ste Colette"]
[null,null,null,null,null,null,null,null,null,null,null,null,null,null,null,null,null,null,null,null,null,"1900-03-07","Ste Félicité"]
[null,null,null,null,null,null,null,null,null,null,null,null,null,null,null,null,null,null,null,null,null,"1900-03-08","St Jean-de-Dieu"]
[null,null,null,null,null,null,null,null,null,null,null,null,null,null,null,null,null,null,null,null,null,"1900-03-09","Ste Françoise R."]
[null,null,null,null,null,null,null,null,null,null,null,null,null,null,null,null,null,null,null,null,null,"1900-03-10","St Vivien"]
[null,null,null,null,null,null,null,null,null,null,null,null,null,null,null,null,null,null,null,null,null,"1900-03-11","Ste Rosine"]
[null,null,null,null,null,null,null,null,null,null,null,null,null,null,null,null,null,null,null,null,null,"1900-03-12","Ste Justine"]
[null,null,null,null,null,null,null,null,null,null,null,null,null,null,null,null,null,null,null,null,null,"1900-03-13","St Rodrigue"]
[null,null,null,null,null,null,null,null,null,null,null,null,null,null,null,null,null,null,null,null,null,"1900-03-14","Ste Mathilde"]
[null,null,null,null,null,null,null,null,null,null,null,null,null,null,null,null,null,null,null,null,null,"1900-03-15","Ste Louise M."]
[null,null,null,null,null,null,null,null,null,null,null,null,null,null,null,null,null,null,null,null,null,"1900-03-16","Ste Bénédicte"]
[null,null,null,null,null,null,null,null,null,null,null,null,null,null,null,null,null,null,null,null,null,"1900-03-17","St Patrice"]
[null,null,null,null,null,null,null,null,null,null,null,null,null,null,null,null,null,null,null,null,null,"1900-03-18","St Cyrille"]
[null,null,null,null,null,null,null,null,null,null,null,null,null,null,null,null,null,null,null,null,null,"1900-03-19","St Joseph"]
[null,null,null,null,null,null,null,null,null,null,null,null,null,null,null,null,null,null,null,null,null,"1900-03-20","Printemps"]
[null,null,null,null,null,null,null,null,null,null,null,null,null,null,null,null,null,null,null,null,null,"1900-03-21","Ste Clémence"]
[null,null,null,null,null,null,null,null,null,null,null,null,null,null,null,null,null,null,null,null,null,"1900-03-22","Ste Léa"]
[null,null,null,null,null,null,null,null,null,null,null,null,null,null,null,null,null,null,null,null,null,"1900-03-23","St Victorien"]
[null,null,null,null,null,null,null,null,null,null,null,null,null,null,null,null,null,null,null,null,null,"1900-03-24","Ste Catherine"]
[null,null,null,null,null,null,null,null,null,null,null,null,null,null,null,null,null,null,null,null,null,"1900-03-25","Annonciation"]
[null,null,null,null,null,null,null,null,null,null,null,null,null,null,null,null,null,null,null,null,null,"1900-03-26","Ste Larissa"]
[null,null,null,null,null,null,null,null,null,null,null,null,null,null,null,null,null,null,null,null,null,"1900-03-27","St Habib"]
[null,null,null,null,null,null,null,null,null,null,null,null,null,null,null,null,null,null,null,null,null,"1900-03-28","St Gontran"]
[null,null,null,null,null,null,null,null,null,null,null,null,null,null,null,null,null,null,null,null,null,"1900-03-29","Ste Gwladys"]
[null,null,null,null,null,null,null,null,null,null,null,null,null,null,null,null,null,null,null,null,null,"1900-03-30","St Amédée"]
[null,null,null,null,null,null,null,null,null,null,null,null,null,null,null,null,null,null,null,null,null,"1900-03-31","St Benjamin"]
[null,null,null,null,null,null,null,null,null,null,null,null,null,null,null,null,null,null,null,null,null,"1900-04-01","St Hugues"]
[null,null,null,null,null,null,null,null,null,null,null,null,null,null,null,null,null,null,null,null,null,"1900-04-02","Ste Sandrine"]
[null,null,null,null,null,null,null,null,null,null,null,null,null,null,null,null,null,null,null,null,null,"1900-04-03","St Richard"]
[null,null,null,null,null,null,null,null,null,null,null,null,null,null,null,null,null,null,null,null,null,"1900-04-04","St Isidore"]
[null,null,null,null,null,null,null,null,null,null,null,null,null,null,null,null,null,null,null,null,null,"1900-04-05","Ste  Irène"]
[null,null,null,null,null,null,null,null,null,null,null,null,null,null,null,null,null,null,null,null,null,"1900-04-06","St Marcellin"]
[null,null,null,null,null,null,null,null,null,null,null,null,null,null,null,null,null,null,null,null,null,"1900-04-07","St J.-B. de Salle"]
[null,null,null,null,null,null,null,null,null,null,null,null,null,null,null,null,null,null,null,null,null,"1900-04-08","Ste Julie"]
[null,null,null,null,null,null,null,null,null,null,null,null,null,null,null,null,null,null,null,null,null,"1900-04-09","St Gautier"]
[null,null,null,null,null,null,null,null,null,null,null,null,null,null,null,null,null,null,null,null,null,"1900-04-10","St Fulbert"]
[null,null,null,null,null,null,null,null,null,null,null,null,null,null,null,null,null,null,null,null,null,"1900-04-11","St Stanislas"]
[null,null,null,null,null,null,null,null,null,null,null,null,null,null,null,null,null,null,null,null,null,"1900-04-12","St Jules"]
[null,null,null,null,null,null,null,null,null,null,null,null,null,null,null,null,null,null,null,null,null,"1900-04-13","Ste Ida"]
[null,null,null,null,null,null,null,null,null,null,null,null,null,null,null,null,null,null,null,null,null,"1900-04-14","St Maxime"]
[null,null,null,null,null,null,null,null,null,null,null,null,null,null,null,null,null,null,null,null,null,"1900-04-15","St Paterne"]
[null,null,null,null,null,null,null,null,null,null,null,null,null,null,null,null,null,null,null,null,null,"1900-04-16","St Benoît-Joseph"]
[null,null,null,null,null,null,null,null,null,null,null,null,null,null,null,null,null,null,null,null,null,"1900-04-17","St Et. Harding"]
[null,null,null,null,null,null,null,null,null,null,null,null,null,null,null,null,null,null,null,null,null,"1900-04-18","St Parfait"]
[null,null,null,null,null,null,null,null,null,null,null,null,null,null,null,null,null,null,null,null,null,"1900-04-19","Ste Emma"]
[null,null,null,null,null,null,null,null,null,null,null,null,null,null,null,null,null,null,null,null,null,"1900-04-20","Ste Odette"]
[null,null,null,null,null,null,null,null,null,null,null,null,null,null,null,null,null,null,null,null,null,"1900-04-21","St Anselme"]
[null,null,null,null,null,null,null,null,null,null,null,null,null,null,null,null,null,null,null,null,null,"1900-04-22","St Alexandre"]
[null,null,null,null,null,null,null,null,null,null,null,null,null,null,null,null,null,null,null,null,null,"1900-04-23","St Georges"]
[null,null,null,null,null,null,null,null,null,null,null,null,null,null,null,null,null,null,null,null,null,"1900-04-24","St Fidèle"]
[null,null,null,null,null,null,null,null,null,null,null,null,null,null,null,null,null,null,null,null,null,"1900-04-25","Souvenir Déportés"]
[null,null,null,null,null,null,null,null,null,null,null,null,null,null,null,null,null,null,null,null,null,"1900-04-26","Ste Alida"]
[null,null,null,null,null,null,null,null,null,null,null,null,null,null,null,null,null,null,null,null,null,"1900-04-27","Ste Zita"]
[null,null,null,null,null,null,null,null,null,null,null,null,null,null,null,null,null,null,null,null,null,"1900-04-28","Ste Valérie"]
[null,null,null,null,null,null,null,null,null,null,null,null,null,null,null,null,null,null,null,null,null,"1900-04-29","Ste C. de Sienne"]
[null,null,null,null,null,null,null,null,null,null,null,null,null,null,null,null,null,null,null,null,null,"1900-04-30","St Robert"]
[null,null,null,null,null,null,null,null,null,null,null,null,null,null,null,null,null,null,null,null,null,"1900-05-01","F. du travail"]
[null,null,null,null,null,null,null,null,null,null,null,null,null,null,null,null,null,null,null,null,null,"1900-05-02","St Boris"]
[null,null,null,null,null,null,null,null,null,null,null,null,null,null,null,null,null,null,null,null,null,"1900-05-03","Sts Philippe-Jacques"]
[null,null,null,null,null,null,null,null,null,null,null,null,null,null,null,null,null,null,null,null,null,"1900-05-04","St Sylvain"]
[null,null,null,null,null,null,null,null,null,null,null,null,null,null,null,null,null,null,null,null,null,"1900-05-05","Ste Judith"]
[null,null,null,null,null,null,null,null,null,null,null,null,null,null,null,null,null,null,null,null,null,"1900-05-06","Ste Prudence"]
[null,null,null,null,null,null,null,null,null,null,null,null,null,null,null,null,null,null,null,null,null,"1900-05-07","Ste Gisèle"]
[null,null,null,null,null,null,null,null,null,null,null,null,null,null,null,null,null,null,null,null,null,"1900-05-08","Annivers. 1945"]
[null,null,null,null,null,null,null,null,null,null,null,null,null,null,null,null,null,null,null,null,null,"1900-05-09","St Pacôme"]
[null,null,null,null,null,null,null,null,null,null,null,null,null,null,null,null,null,null,null,null,null,"1900-05-10","Ste Solange"]
[null,null,null,null,null,null,null,null,null,null,null,null,null,null,null,null,null,null,null,null,null,"1900-05-11","Ste Estelle"]
[null,null,null,null,null,null,null,null,null,null,null,null,null,null,null,null,null,null,null,null,null,"1900-05-12","St Achille"]
[null,null,null,null,null,null,null,null,null,null,null,null,null,null,null,null,null,null,null,null,null,"1900-05-13","Ste Rolande"]
[null,null,null,null,null,null,null,null,null,null,null,null,null,null,null,null,null,null,null,null,null,"1900-05-14","St Matthias"]
[null,null,null,null,null,null,null,null,null,null,null,null,null,null,null,null,null,null,null,null,null,"1900-05-15","Ste Denise"]
[null,null,null,null,null,null,null,null,null,null,null,null,null,null,null,null,null,null,null,null,null,"1900-05-16","St Honoré"]
[null,null,null,null,null,null,null,null,null,null,null,null,null,null,null,null,null,null,null,null,null,"1900-05-17","St Pascal"]
[null,null,null,null,null,null,null,null,null,null,null,null,null,null,null,null,null,null,null,null,null,"1900-05-18","St Eric"]
[null,null,null,null,null,null,null,null,null,null,null,null,null,null,null,null,null,null,null,null,null,"1900-05-19","St Yves"]
[null,null,null,null,null,null,null,null,null,null,null,null,null,null,null,null,null,null,null,null,null,"1900-05-20","St Bernardin"]
[null,null,null,null,null,null,null,null,null,null,null,null,null,null,null,null,null,null,null,null,null,"1900-05-21","St Constantin"]
[null,null,null,null,null,null,null,null,null,null,null,null,null,null,null,null,null,null,null,null,null,"1900-05-22","St Emile"]
[null,null,null,null,null,null,null,null,null,null,null,null,null,null,null,null,null,null,null,null,null,"1900-05-23","St Didier"]
[null,null,null,null,null,null,null,null,null,null,null,null,null,null,null,null,null,null,null,null,null,"1900-05-24","St Donatien"]
[null,null,null,null,null,null,null,null,null,null,null,null,null,null,null,null,null,null,null,null,null,"1900-05-25","Ste Sophie"]
[null,null,null,null,null,null,null,null,null,null,null,null,null,null,null,null,null,null,null,null,null,"1900-05-26","St Bérenger"]
[null,null,null,null,null,null,null,null,null,null,null,null,null,null,null,null,null,null,null,null,null,"1900-05-27","St Augustin de C."]
[null,null,null,null,null,null,null,null,null,null,null,null,null,null,null,null,null,null,null,null,null,"1900-05-28","St Germain"]
[null,null,null,null,null,null,null,null,null,null,null,null,null,null,null,null,null,null,null,null,null,"1900-05-29","St Aymar"]
[null,null,null,null,null,null,null,null,null,null,null,null,null,null,null,null,null,null,null,null,null,"1900-05-30","St Ferdinand"]
[null,null,null,null,null,null,null,null,null,null,null,null,null,null,null,null,null,null,null,null,null,"1900-05-31","V. de la Ste Vierge"]
[null,null,null,null,null,null,null,null,null,null,null,null,null,null,null,null,null,null,null,null,null,"1900-06-01","St Justin"]
[null,null,null,null,null,null,null,null,null,null,null,null,null,null,null,null,null,null,null,null,null,"1900-06-02","Ste Blandine"]
[null,null,null,null,null,null,null,null,null,null,null,null,null,null,null,null,null,null,null,null,null,"1900-06-03","St Kévin"]
[null,null,null,null,null,null,null,null,null,null,null,null,null,null,null,null,null,null,null,null,null,"1900-06-04","Ste Clothilde"]
[null,null,null,null,null,null,null,null,null,null,null,null,null,null,null,null,null,null,null,null,null,"1900-06-05","St Igor"]
[null,null,null,null,null,null,null,null,null,null,null,null,null,null,null,null,null,null,null,null,null,"1900-06-06","St Norbert"]
[null,null,null,null,null,null,null,null,null,null,null,null,null,null,null,null,null,null,null,null,null,"1900-06-07","St Gilbert"]
[null,null,null,null,null,null,null,null,null,null,null,null,null,null,null,null,null,null,null,null,null,"1900-06-08","St Médard"]
[null,null,null,null,null,null,null,null,null,null,null,null,null,null,null,null,null,null,null,null,null,"1900-06-09","Ste Diane"]
[null,null,null,null,null,null,null,null,null,null,null,null,null,null,null,null,null,null,null,null,null,"1900-06-10","St Landry"]
[null,null,null,null,null,null,null,null,null,null,null,null,null,null,null,null,null,null,null,null,null,"1900-06-11","St Barnabé"]
[null,null,null,null,null,null,null,null,null,null,null,null,null,null,null,null,null,null,null,null,null,"1900-06-12","St Guy"]
[null,null,null,null,null,null,null,null,null,null,null,null,null,null,null,null,null,null,null,null,null,"1900-06-13","St A. de Padou"]
[null,null,null,null,null,null,null,null,null,null,null,null,null,null,null,null,null,null,null,null,null,"1900-06-14","St Elisée"]
[null,null,null,null,null,null,null,null,null,null,null,null,null,null,null,null,null,null,null,null,null,"1900-06-15","Ste Germaine"]
[null,null,null,null,null,null,null,null,null,null,null,null,null,null,null,null,null,null,null,null,null,"1900-06-16","St J.-F. Régis"]
[null,null,null,null,null,null,null,null,null,null,null,null,null,null,null,null,null,null,null,null,null,"1900-06-17","St Hervé"]
[null,null,null,null,null,null,null,null,null,null,null,null,null,null,null,null,null,null,null,null,null,"1900-06-18","St Léonce"]
[null,null,null,null,null,null,null,null,null,null,null,null,null,null,null,null,null,null,null,null,null,"1900-06-19","St Romuald"]
[null,null,null,null,null,null,null,null,null,null,null,null,null,null,null,null,null,null,null,null,null,"1900-06-20","St Silvère"]
[null,null,null,null,null,null,null,null,null,null,null,null,null,null,null,null,null,null,null,null,null,"1900-06-21","F. Dieu"]
[null,null,null,null,null,null,null,null,null,null,null,null,null,null,null,null,null,null,null,null,null,"1900-06-22","St Alban"]
[null,null,null,null,null,null,null,null,null,null,null,null,null,null,null,null,null,null,null,null,null,"1900-06-23","Ste Audrey"]
[null,null,null,null,null,null,null,null,null,null,null,null,null,null,null,null,null,null,null,null,null,"1900-06-24","St Jean-Baptiste"]
[null,null,null,null,null,null,null,null,null,null,null,null,null,null,null,null,null,null,null,null,null,"1900-06-25","St Salomon"]
[null,null,null,null,null,null,null,null,null,null,null,null,null,null,null,null,null,null,null,null,null,"1900-06-26","St Anthelme"]
[null,null,null,null,null,null,null,null,null,null,null,null,null,null,null,null,null,null,null,null,null,"1900-06-27","St Fernand"]
[null,null,null,null,null,null,null,null,null,null,null,null,null,null,null,null,null,null,null,null,null,"1900-06-28","St Irénée"]
[null,null,null,null,null,null,null,null,null,null,null,null,null,null,null,null,null,null,null,null,null,"1900-06-29","St Pierre-Paul"]
[null,null,null,null,null,null,null,null,null,null,null,null,null,null,null,null,null,null,null,null,null,"1900-06-30","St Martial"]
[null,null,null,null,null,null,null,null,null,null,null,null,null,null,null,null,null,null,null,null,null,"1900-07-01","St Thierry"]
[null,null,null,null,null,null,null,null,null,null,null,null,null,null,null,null,null,null,null,null,null,"1900-07-02","St Martinien"]
[null,null,null,null,null,null,null,null,null,null,null,null,null,null,null,null,null,null,null,null,null,"1900-07-03","St Thomas"]
[null,null,null,null,null,null,null,null,null,null,null,null,null,null,null,null,null,null,null,null,null,"1900-07-04","St Florent"]
[null,null,null,null,null,null,null,null,null,null,null,null,null,null,null,null,null,null,null,null,null,"1900-07-05","St Antoine"]
[null,null,null,null,null,null,null,null,null,null,null,null,null,null,null,null,null,null,null,null,null,"1900-07-06","Ste Mariette"]
[null,null,null,null,null,null,null,null,null,null,null,null,null,null,null,null,null,null,null,null,null,"1900-07-07","St Raoul"]
[null,null,null,null,null,null,null,null,null,null,null,null,null,null,null,null,null,null,null,null,null,"1900-07-08","St Thibaut"]
[null,null,null,null,null,null,null,null,null,null,null,null,null,null,null,null,null,null,null,null,null,"1900-07-09","Ste Amandine"]
[null,null,null,null,null,null,null,null,null,null,null,null,null,null,null,null,null,null,null,null,null,"1900-07-10","St Ulrich"]
[null,null,null,null,null,null,null,null,null,null,null,null,null,null,null,null,null,null,null,null,null,"1900-07-11","St Benoît"]
[null,null,null,null,null,null,null,null,null,null,null,null,null,null,null,null,null,null,null,null,null,"1900-07-12","St Olivier"]
[null,null,null,null,null,null,null,null,null,null,null,null,null,null,null,null,null,null,null,null,null,"1900-07-13","Sts Henri et Joël"]
[null,null,null,null,null,null,null,null,null,null,null,null,null,null,null,null,null,null,null,null,null,"1900-07-14","Fête nationale"]
[null,null,null,null,null,null,null,null,null,null,null,null,null,null,null,null,null,null,null,null,null,"1900-07-15","St Donald"]
[null,null,null,null,null,null,null,null,null,null,null,null,null,null,null,null,null,null,null,null,null,"1900-07-16","N.D. Mont Carmel"]
[null,null,null,null,null,null,null,null,null,null,null,null,null,null,null,null,null,null,null,null,null,"1900-07-17","Ste Charlotte"]
[null,null,null,null,null,null,null,null,null,null,null,null,null,null,null,null,null,null,null,null,null,"1900-07-18","St Frédéric"]
[null,null,null,null,null,null,null,null,null,null,null,null,null,null,null,null,null,null,null,null,null,"1900-07-19","St Arsène"]
[null,null,null,null,null,null,null,null,null,null,null,null,null,null,null,null,null,null,null,null,null,"1900-07-20","Ste Marina"]
[null,null,null,null,null,null,null,null,null,null,null,null,null,null,null,null,null,null,null,null,null,"1900-07-21","St Victor"]
[null,null,null,null,null,null,null,null,null,null,null,null,null,null,null,null,null,null,null,null,null,"1900-07-22","Ste Marie-Madel."]
[null,null,null,null,null,null,null,null,null,null,null,null,null,null,null,null,null,null,null,null,null,"1900-07-23","Ste Brigitte"]
[null,null,null,null,null,null,null,null,null,null,null,null,null,null,null,null,null,null,null,null,null,"1900-07-24","Ste Christine"]
[null,null,null,null,null,null,null,null,null,null,null,null,null,null,null,null,null,null,null,null,null,"1900-07-25","St Jacques"]
[null,null,null,null,null,null,null,null,null,null,null,null,null,null,null,null,null,null,null,null,null,"1900-07-26","Ste Anne"]
[null,null,null,null,null,null,null,null,null,null,null,null,null,null,null,null,null,null,null,null,null,"1900-07-27","Ste Nathalie"]
[null,null,null,null,null,null,null,null,null,null,null,null,null,null,null,null,null,null,null,null,null,"1900-07-28","St Samson"]
[null,null,null,null,null,null,null,null,null,null,null,null,null,null,null,null,null,null,null,null,null,"1900-07-29","Ste Marthe"]
[null,null,null,null,null,null,null,null,null,null,null,null,null,null,null,null,null,null,null,null,null,"1900-07-30","Ste Juliette"]
[null,null,null,null,null,null,null,null,null,null,null,null,null,null,null,null,null,null,null,null,null,"1900-07-31","St Ign. Loyola"]
[null,null,null,null,null,null,null,null,null,null,null,null,null,null,null,null,null,null,null,null,null,"1900-08-01","St Alphonse"]
[null,null,null,null,null,null,null,null,null,null,null,null,null,null,null,null,null,null,null,null,null,"1900-08-02","St Julien-Eym."]
[null,null,null,null,null,null,null,null,null,null,null,null,null,null,null,null,null,null,null,null,null,"1900-08-03","Ste Lydie"]
[null,null,null,null,null,null,null,null,null,null,null,null,null,null,null,null,null,null,null,null,null,"1900-08-04","St J.M. Vianney"]
[null,null,null,null,null,null,null,null,null,null,null,null,null,null,null,null,null,null,null,null,null,"1900-08-05","St Abel"]
[null,null,null,null,null,null,null,null,null,null,null,null,null,null,null,null,null,null,null,null,null,"1900-08-06","Transfiguration"]
[null,null,null,null,null,null,null,null,null,null,null,null,null,null,null,null,null,null,null,null,null,"1900-08-07","St Gaëtan"]
[null,null,null,null,null,null,null,null,null,null,null,null,null,null,null,null,null,null,null,null,null,"1900-08-08","St Dominique"]
[null,null,null,null,null,null,null,null,null,null,null,null,null,null,null,null,null,null,null,null,null,"1900-08-09","St Amour"]
[null,null,null,null,null,null,null,null,null,null,null,null,null,null,null,null,null,null,null,null,null,"1900-08-10","St Laurent"]
[null,null,null,null,null,null,null,null,null,null,null,null,null,null,null,null,null,null,null,null,null,"1900-08-11","Ste Claire"]
[null,null,null,null,null,null,null,null,null,null,null,null,null,null,null,null,null,null,null,null,null,"1900-08-12","Ste Clarisse"]
[null,null,null,null,null,null,null,null,null,null,null,null,null,null,null,null,null,null,null,null,null,"1900-08-13","St Hippolyte"]
[null,null,null,null,null,null,null,null,null,null,null,null,null,null,null,null,null,null,null,null,null,"1900-08-14","St Evrard"]
[null,null,null,null,null,null,null,null,null,null,null,null,null,null,null,null,null,null,null,null,null,"1900-08-15","Assomption"]
[null,null,null,null,null,null,null,null,null,null,null,null,null,null,null,null,null,null,null,null,null,"1900-08-16","St Armel"]
[null,null,null,null,null,null,null,null,null,null,null,null,null,null,null,null,null,null,null,null,null,"1900-08-17","St Hyacinthe"]
[null,null,null,null,null,null,null,null,null,null,null,null,null,null,null,null,null,null,null,null,null,"1900-08-18","Ste Hélène"]
[null,null,null,null,null,null,null,null,null,null,null,null,null,null,null,null,null,null,null,null,null,"1900-08-19","St Jean Eudes"]
[null,null,null,null,null,null,null,null,null,null,null,null,null,null,null,null,null,null,null,null,null,"1900-08-20","St Bernard"]
[null,null,null,null,null,null,null,null,null,null,null,null,null,null,null,null,null,null,null,null,null,"1900-08-21","St Christophe"]
[null,null,null,null,null,null,null,null,null,null,null,null,null,null,null,null,null,null,null,null,null,"1900-08-22","St Fabrice"]
[null,null,null,null,null,null,null,null,null,null,null,null,null,null,null,null,null,null,null,null,null,"1900-08-23","Ste Rose de Lima"]
[null,null,null,null,null,null,null,null,null,null,null,null,null,null,null,null,null,null,null,null,null,"1900-08-24","St Barthélémy"]
[null,null,null,null,null,null,null,null,null,null,null,null,null,null,null,null,null,null,null,null,null,"1900-08-25","St Louis"]
[null,null,null,null,null,null,null,null,null,null,null,null,null,null,null,null,null,null,null,null,null,"1900-08-26","Ste Natacha"]
[null,null,null,null,null,null,null,null,null,null,null,null,null,null,null,null,null,null,null,null,null,"1900-08-27","Ste Monique"]
[null,null,null,null,null,null,null,null,null,null,null,null,null,null,null,null,null,null,null,null,null,"1900-08-28","St Augustin"]
[null,null,null,null,null,null,null,null,null,null,null,null,null,null,null,null,null,null,null,null,null,"1900-08-29","Ste Sabine"]
[null,null,null,null,null,null,null,null,null,null,null,null,null,null,null,null,null,null,null,null,null,"1900-08-30","St Fiacre"]
[null,null,null,null,null,null,null,null,null,null,null,null,null,null,null,null,null,null,null,null,null,"1900-08-31","St Aristide"]
[null,null,null,null,null,null,null,null,null,null,null,null,null,null,null,null,null,null,null,null,null,"1900-09-01","St Gilles"]
[null,null,null,null,null,null,null,null,null,null,null,null,null,null,null,null,null,null,null,null,null,"1900-09-02","Ste Ingrid"]
[null,null,null,null,null,null,null,null,null,null,null,null,null,null,null,null,null,null,null,null,null,"1900-09-03","St Grégoire"]
[null,null,null,null,null,null,null,null,null,null,null,null,null,null,null,null,null,null,null,null,null,"1900-09-04","Ste Rosalie"]
[null,null,null,null,null,null,null,null,null,null,null,null,null,null,null,null,null,null,null,null,null,"1900-09-05","Ste Raïssa"]
[null,null,null,null,null,null,null,null,null,null,null,null,null,null,null,null,null,null,null,null,null,"1900-09-06","St Bertrand"]
[null,null,null,null,null,null,null,null,null,null,null,null,null,null,null,null,null,null,null,null,null,"1900-09-07","Ste Reine"]
[null,null,null,null,null,null,null,null,null,null,null,null,null,null,null,null,null,null,null,null,null,"1900-09-08","Nativité"]
[null,null,null,null,null,null,null,null,null,null,null,null,null,null,null,null,null,null,null,null,null,"1900-09-09","St Alain"]
[null,null,null,null,null,null,null,null,null,null,null,null,null,null,null,null,null,null,null,null,null,"1900-09-10","Ste Inès"]
[null,null,null,null,null,null,null,null,null,null,null,null,null,null,null,null,null,null,null,null,null,"1900-09-11","Ste Adelphe"]
[null,null,null,null,null,null,null,null,null,null,null,null,null,null,null,null,null,null,null,null,null,"1900-09-12","St Apollinaire"]
[null,null,null,null,null,null,null,null,null,null,null,null,null,null,null,null,null,null,null,null,null,"1900-09-13","St Aimé"]
[null,null,null,null,null,null,null,null,null,null,null,null,null,null,null,null,null,null,null,null,null,"1900-09-14","Croix Glorieuse"]
[null,null,null,null,null,null,null,null,null,null,null,null,null,null,null,null,null,null,null,null,null,"1900-09-15","St Roland"]
[null,null,null,null,null,null,null,null,null,null,null,null,null,null,null,null,null,null,null,null,null,"1900-09-16","Ste Edith"]
[null,null,null,null,null,null,null,null,null,null,null,null,null,null,null,null,null,null,null,null,null,"1900-09-17","St Renaud"]
[null,null,null,null,null,null,null,null,null,null,null,null,null,null,null,null,null,null,null,null,null,"1900-09-18","Ste Nadège"]
[null,null,null,null,null,null,null,null,null,null,null,null,null,null,null,null,null,null,null,null,null,"1900-09-19","Ste Emilie"]
[null,null,null,null,null,null,null,null,null,null,null,null,null,null,null,null,null,null,null,null,null,"1900-09-20","St Davy"]
[null,null,null,null,null,null,null,null,null,null,null,null,null,null,null,null,null,null,null,null,null,"1900-09-21","St Matthieu"]
[null,null,null,null,null,null,null,null,null,null,null,null,null,null,null,null,null,null,null,null,null,"1900-09-22","St Maurice"]
[null,null,null,null,null,null,null,null,null,null,null,null,null,null,null,null,null,null,null,null,null,"1900-09-23","St Constant"]
[null,null,null,null,null,null,null,null,null,null,null,null,null,null,null,null,null,null,null,null,null,"1900-09-24","Ste Thècle"]
[null,null,null,null,null,null,null,null,null,null,null,null,null,null,null,null,null,null,null,null,null,"1900-09-25","St Herman"]
[null,null,null,null,null,null,null,null,null,null,null,null,null,null,null,null,null,null,null,null,null,"1900-09-26","St Côme-Damien"]
[null,null,null,null,null,null,null,null,null,null,null,null,null,null,null,null,null,null,null,null,null,"1900-09-27","St Vincent de Paul"]
[null,null,null,null,null,null,null,null,null,null,null,null,null,null,null,null,null,null,null,null,null,"1900-09-28","St Venceslas"]
[null,null,null,null,null,null,null,null,null,null,null,null,null,null,null,null,null,null,null,null,null,"1900-09-29","Sts Michel-Gabriel"]
[null,null,null,null,null,null,null,null,null,null,null,null,null,null,null,null,null,null,null,null,null,"1900-09-30","St Jérôme"]
[null,null,null,null,null,null,null,null,null,null,null,null,null,null,null,null,null,null,null,null,null,"1900-10-01","Ste Thérèse de l'E. J."]
[null,null,null,null,null,null,null,null,null,null,null,null,null,null,null,null,null,null,null,null,null,"1900-10-02","St Léger"]
[null,null,null,null,null,null,null,null,null,null,null,null,null,null,null,null,null,null,null,null,null,"1900-10-03","St Gérard"]
[null,null,null,null,null,null,null,null,null,null,null,null,null,null,null,null,null,null,null,null,null,"1900-10-04","St Fr. d'Assise"]
[null,null,null,null,null,null,null,null,null,null,null,null,null,null,null,null,null,null,null,null,null,"1900-10-05","Ste Fleur"]
[null,null,null,null,null,null,null,null,null,null,null,null,null,null,null,null,null,null,null,null,null,"1900-10-06","St Bruno"]
[null,null,null,null,null,null,null,null,null,null,null,null,null,null,null,null,null,null,null,null,null,"1900-10-07","St Serge"]
[null,null,null,null,null,null,null,null,null,null,null,null,null,null,null,null,null,null,null,null,null,"1900-10-08","Ste Pélagie"]
[null,null,null,null,null,null,null,null,null,null,null,null,null,null,null,null,null,null,null,null,null,"1900-10-09","St Denis"]
[null,null,null,null,null,null,null,null,null,null,null,null,null,null,null,null,null,null,null,null,null,"1900-10-10","St Ghislain"]
[null,null,null,null,null,null,null,null,null,null,null,null,null,null,null,null,null,null,null,null,null,"1900-10-11","St Firmin"]
[null,null,null,null,null,null,null,null,null,null,null,null,null,null,null,null,null,null,null,null,null,"1900-10-12","St Wilfrid"]
[null,null,null,null,null,null,null,null,null,null,null,null,null,null,null,null,null,null,null,null,null,"1900-10-13","St Géraud"]
[null,null,null,null,null,null,null,null,null,null,null,null,null,null,null,null,null,null,null,null,null,"1900-10-14","St Juste"]
[null,null,null,null,null,null,null,null,null,null,null,null,null,null,null,null,null,null,null,null,null,"1900-10-15","Ste Thérèse d'A."]
[null,null,null,null,null,null,null,null,null,null,null,null,null,null,null,null,null,null,null,null,null,"1900-10-16","Ste Edwige"]
[null,null,null,null,null,null,null,null,null,null,null,null,null,null,null,null,null,null,null,null,null,"1900-10-17","St Baudouin"]
[null,null,null,null,null,null,null,null,null,null,null,null,null,null,null,null,null,null,null,null,null,"1900-10-18","St Luc"]
[null,null,null,null,null,null,null,null,null,null,null,null,null,null,null,null,null,null,null,null,null,"1900-10-19","St René"]
[null,null,null,null,null,null,null,null,null,null,null,null,null,null,null,null,null,null,null,null,null,"1900-10-20","Ste Adeline"]
[null,null,null,null,null,null,null,null,null,null,null,null,null,null,null,null,null,null,null,null,null,"1900-10-21","Ste Céline"]
[null,null,null,null,null,null,null,null,null,null,null,null,null,null,null,null,null,null,null,null,null,"1900-10-22","Ste Salomé"]
[null,null,null,null,null,null,null,null,null,null,null,null,null,null,null,null,null,null,null,null,null,"1900-10-23","St Jean de C."]
[null,null,null,null,null,null,null,null,null,null,null,null,null,null,null,null,null,null,null,null,null,"1900-10-24","St Florentin"]
[null,null,null,null,null,null,null,null,null,null,null,null,null,null,null,null,null,null,null,null,null,"1900-10-25","St Enguerran"]
[null,null,null,null,null,null,null,null,null,null,null,null,null,null,null,null,null,null,null,null,null,"1900-10-26","St Dimitri"]
[null,null,null,null,null,null,null,null,null,null,null,null,null,null,null,null,null,null,null,null,null,"1900-10-27","Ste Emeline"]
[null,null,null,null,null,null,null,null,null,null,null,null,null,null,null,null,null,null,null,null,null,"1900-10-28","St Simon"]
[null,null,null,null,null,null,null,null,null,null,null,null,null,null,null,null,null,null,null,null,null,"1900-10-29","St Narcisse"]
[null,null,null,null,null,null,null,null,null,null,null,null,null,null,null,null,null,null,null,null,null,"1900-10-30","Ste Bienvenue"]
[null,null,null,null,null,null,null,null,null,null,null,null,null,null,null,null,null,null,null,null,null,"1900-10-31","St Quentin"]
[null,null,null,null,null,null,null,null,null,null,null,null,null,null,null,null,null,null,null,null,null,"1900-11-01","Toussaint"]
[null,null,null,null,null,null,null,null,null,null,null,null,null,null,null,null,null,null,null,null,null,"1900-11-02","Défunts"]
[null,null,null,null,null,null,null,null,null,null,null,null,null,null,null,null,null,null,null,null,null,"1900-11-03","St Hubert"]
[null,null,null,null,null,null,null,null,null,null,null,null,null,null,null,null,null,null,null,null,null,"1900-11-04","St Charles"]
[null,null,null,null,null,null,null,null,null,null,null,null,null,null,null,null,null,null,null,null,null,"1900-11-05","Ste Sylvie"]
[null,null,null,null,null,null,null,null,null,null,null,null,null,null,null,null,null,null,null,null,null,"1900-11-06","Ste Bertille"]
[null,null,null,null,null,null,null,null,null,null,null,null,null,null,null,null,null,null,null,null,null,"1900-11-07","Ste Carine"]
[null,null,null,null,null,null,null,null,null,null,null,null,null,null,null,null,null,null,null,null,null,"1900-11-08","St Geoffroy"]
[null,null,null,null,null,null,null,null,null,null,null,null,null,null,null,null,null,null,null,null,null,"1900-11-09","St Théodore"]
[null,null,null,null,null,null,null,null,null,null,null,null,null,null,null,null,null,null,null,null,null,"1900-11-10","St Léon"]
[null,null,null,null,null,null,null,null,null,null,null,null,null,null,null,null,null,null,null,null,null,"1900-11-11","Armistice 1918"]
[null,null,null,null,null,null,null,null,null,null,null,null,null,null,null,null,null,null,null,null,null,"1900-11-12","St Christian"]
[null,null,null,null,null,null,null,null,null,null,null,null,null,null,null,null,null,null,null,null,null,"1900-11-13","St Brice"]
[null,null,null,null,null,null,null,null,null,null,null,null,null,null,null,null,null,null,null,null,null,"1900-11-14","St Sidoine"]
[null,null,null,null,null,null,null,null,null,null,null,null,null,null,null,null,null,null,null,null,null,"1900-11-15","St Albert"]
[null,null,null,null,null,null,null,null,null,null,null,null,null,null,null,null,null,null,null,null,null,"1900-11-16","Ste Marguerite"]
[null,null,null,null,null,null,null,null,null,null,null,null,null,null,null,null,null,null,null,null,null,"1900-11-17","Ste Elisabeth"]
[null,null,null,null,null,null,null,null,null,null,null,null,null,null,null,null,null,null,null,null,null,"1900-11-18","Ste Aude"]
[null,null,null,null,null,null,null,null,null,null,null,null,null,null,null,null,null,null,null,null,null,"1900-11-19","St Tanguy"]
[null,null,null,null,null,null,null,null,null,null,null,null,null,null,null,null,null,null,null,null,null,"1900-11-20","St Edmond"]
[null,null,null,null,null,null,null,null,null,null,null,null,null,null,null,null,null,null,null,null,null,"1900-11-21","Prés. de Marie"]
[null,null,null,null,null,null,null,null,null,null,null,null,null,null,null,null,null,null,null,null,null,"1900-11-22","Ste Cécile"]
[null,null,null,null,null,null,null,null,null,null,null,null,null,null,null,null,null,null,null,null,null,"1900-11-23","St Clément"]
[null,null,null,null,null,null,null,null,null,null,null,null,null,null,null,null,null,null,null,null,null,"1900-11-24","Ste Flora"]
[null,null,null,null,null,null,null,null,null,null,null,null,null,null,null,null,null,null,null,null,null,"1900-11-25","Ste Catherine L."]
[null,null,null,null,null,null,null,null,null,null,null,null,null,null,null,null,null,null,null,null,null,"1900-11-26","Ste Delphine"]
[null,null,null,null,null,null,null,null,null,null,null,null,null,null,null,null,null,null,null,null,null,"1900-11-27","St Séverin"]
[null,null,null,null,null,null,null,null,null,null,null,null,null,null,null,null,null,null,null,null,null,"1900-11-28","St Jacques de M."]
[null,null,null,null,null,null,null,null,null,null,null,null,null,null,null,null,null,null,null,null,null,"1900-11-29","St Saturnin"]
[null,null,null,null,null,null,null,null,null,null,null,null,null,null,null,null,null,null,null,null,null,"1900-11-30","St André"]
[null,null,null,null,null,null,null,null,null,null,null,null,null,null,null,null,null,null,null,null,null,"1900-12-01","Ste Florence"]
[null,null,null,null,null,null,null,null,null,null,null,null,null,null,null,null,null,null,null,null,null,"1900-12-02","Ste Viviane"]
[null,null,null,null,null,null,null,null,null,null,null,null,null,null,null,null,null,null,null,null,null,"1900-12-03","St François Xavier"]
[null,null,null,null,null,null,null,null,null,null,null,null,null,null,null,null,null,null,null,null,null,"1900-12-04","Ste Barbara"]
[null,null,null,null,null,null,null,null,null,null,null,null,null,null,null,null,null,null,null,null,null,"1900-12-05","St Gérald"]
[null,null,null,null,null,null,null,null,null,null,null,null,null,null,null,null,null,null,null,null,null,"1900-12-06","St Nicolas"]
[null,null,null,null,null,null,null,null,null,null,null,null,null,null,null,null,null,null,null,null,null,"1900-12-07","St Ambroise"]
[null,null,null,null,null,null,null,null,null,null,null,null,null,null,null,null,null,null,null,null,null,"1900-12-08","Immac. Conception"]
[null,null,null,null,null,null,null,null,null,null,null,null,null,null,null,null,null,null,null,null,null,"1900-12-09","St P. Fourier"]
[null,null,null,null,null,null,null,null,null,null,null,null,null,null,null,null,null,null,null,null,null,"1900-12-10","St Romaric"]
[null,null,null,null,null,null,null,null,null,null,null,null,null,null,null,null,null,null,null,null,null,"1900-12-11","St Daniel"]
[null,null,null,null,null,null,null,null,null,null,null,null,null,null,null,null,null,null,null,null,null,"1900-12-12","Ste J.-F. Chantal"]
[null,null,null,null,null,null,null,null,null,null,null,null,null,null,null,null,null,null,null,null,null,"1900-12-13","Ste Lucie"]
[null,null,null,null,null,null,null,null,null,null,null,null,null,null,null,null,null,null,null,null,null,"1900-12-14","Ste Odile"]
[null,null,null,null,null,null,null,null,null,null,null,null,null,null,null,null,null,null,null,null,null,"1900-12-15","Ste Ninon"]
[null,null,null,null,null,null,null,null,null,null,null,null,null,null,null,null,null,null,null,null,null,"1900-12-16","Ste Alice"]
[null,null,null,null,null,null,null,null,null,null,null,null,null,null,null,null,null,null,null,null,null,"1900-12-17","St Judicaël"]
[null,null,null,null,null,null,null,null,null,null,null,null,null,null,null,null,null,null,null,null,null,"1900-12-18","St Gatien"]
[null,null,null,null,null,null,null,null,null,null,null,null,null,null,null,null,null,null,null,null,null,"1900-12-19","St Urbain"]
[null,null,null,null,null,null,null,null,null,null,null,null,null,null,null,null,null,null,null,null,null,"1900-12-20","St Théophile"]
[null,null,null,null,null,null,null,null,null,null,null,null,null,null,null,null,null,null,null,null,null,"1900-12-21","St Pierre C."]
[null,null,null,null,null,null,null,null,null,null,null,null,null,null,null,null,null,null,null,null,null,"1900-12-22","Ste Franç. Xavière"]
[null,null,null,null,null,null,null,null,null,null,null,null,null,null,null,null,null,null,null,null,null,"1900-12-23","St Armand"]
[null,null,null,null,null,null,null,null,null,null,null,null,null,null,null,null,null,null,null,null,null,"1900-12-24","Ste Adèle"]
[null,null,null,null,null,null,null,null,null,null,null,null,null,null,null,null,null,null,null,null,null,"1900-12-25","Noël"]
[null,null,null,null,null,null,null,null,null,null,null,null,null,null,null,null,null,null,null,null,null,"1900-12-26","St Etienne"]
[null,null,null,null,null,null,null,null,null,null,null,null,null,null,null,null,null,null,null,null,null,"1900-12-27","St Jean"]
[null,null,null,null,null,null,null,null,null,null,null,null,null,null,null,null,null,null,null,null,null,"1900-12-28","Sts Innocents"]
[null,null,null,null,null,null,null,null,null,null,null,null,null,null,null,null,null,null,null,null,null,"1900-12-29","St David"]
[null,null,null,null,null,null,null,null,null,null,null,null,null,null,null,null,null,null,null,null,null,"1900-12-30","St Roger"]
[null,null,null,null,null,null,null,null,null,null,null,null,null,null,null,null,null,null,null,null,null,"1900-12-31","St Sylvestre"]

{"sheet":"Fetes","index":14,"n_rows":366,"n_cols":9,"rows_kept":366,"cut":false,"hidden":false,"merged":[[68,6,68,7]]}
["Date","Anniversaire","Fete"]
["2012-01-01",null,"Jour de l'An "]
[{"$f":"A2+1","v":"2012-01-02"},null,"St Basile"]
[{"$f":"A3+1","v":"2012-01-03"},null,"Ste Geneviève"]
["2012-01-04",null,"St Odilon"]
["2012-01-05",null,"St Edouard"]
["2012-01-06",null,"Ste Melaine"]
["2012-01-07",null,"St Raymond"]
["2012-01-08",null,"St Lucien"]
["2012-01-09",null,"Ste Alix"]
["2012-01-10",null,"St Guillaume"]
["2012-01-11",null,"St Paulin"]
["2012-01-12",null,"Ste Tatiana"]
["2012-01-13",null,"Ste Yvette"]
["2012-01-14",null,"Ste Nina"]
["2012-01-15",null,"St Rémi"]
["2012-01-16",null,"St Marcel"]
["2012-01-17",null,"Ste Roseline"]
["2012-01-18",null,"Ste Prisca"]
["2012-01-19",null,"St Marius"]
["2012-01-20",null,"St Sébastien"]
["2012-01-21",null,"Ste Agnès"]
["2012-01-22",null,"St Vincent"]
["2012-01-23",null,"St Barnard"]
["2012-01-24",null,"St François de Sales"]
["2012-01-25",null,"Convers. de St Paul"]
["2012-01-26",null,"Ste Paule"]
["2012-01-27",null,"Ste Angel"]
["2012-01-28",null,"St Thomas d'Aquin"]
["2012-01-29",null,"St Gildas"]
["2012-01-30",null,"Ste Martine"]
["2012-01-31",null,"Ste Marcelle"]
["2012-02-01",null,"Ste Ella"]
["2012-02-02",null,"Prés. du Seigneur"]
["2012-02-03",null,"St Blaise"]
["2012-02-04",null,"Ste Véronique"]
["2012-02-05",null,"Ste Agathe"]
["2012-02-06",null,"St Gaston"]
["2012-02-07",null,"Ste Eugénie"]
["2012-02-08",null,"Ste Jacqueline"]
["2012-02-09",null,"Ste Apolline"]
["2012-02-10",null,"St Arnaud"]
["2012-02-11",null,"N.-D. de Lourdes"]
["2012-02-12",null,"St Félix"]
["2012-02-13",null,"Ste Béatrice"]
["2012-02-14",null,"St Valentin"]
["2012-02-15",null,"St Claude"]
["2012-02-16",null,"Ste Julienne"]
["2012-02-17","REMY","St Alexis  "]
["2012-02-18",null,"Ste Bernadette"]
["2012-02-19",null,"St Gabin"]
["2012-02-20",null,"Ste Aimée"]
["2012-02-21",null,"St P. Damien"]
["2012-02-22",null,"Ste Isabelle"]
["2012-02-23",null,"St Lazare"]
["2012-02-24",null,"St Modeste"]
["2012-02-25",null,"St Roméo"]
["2012-02-26",null,"St Nestor"]
["2012-02-27",null,"St Honorine"]
["2012-02-28",null,"St Romain"]
["2012-02-29",null,"St Auguste"]
["2012-03-01",null,"St Aubin"]
["2012-03-02",null,"St Charles le Bon"]
["2012-03-03",null,"St Gwénolé"]
["2012-03-04",null,"St Casimir"]
["2012-03-05",null,"Ste Olivia"]
["2012-03-06",null,"Ste Colette"]
[{"$f":"A67+1","v":"2012-03-07"},null,"Ste Félicité"]
["2012-03-08",null,"St Jean-de-Dieu",null,null,null,2012]
["2012-03-09",null,"Ste Françoise R.",null,null,null,{"$f":"DATE(G69,1,1)","v":"2012-01-01"},"Rémy"]
["2012-03-10",null,"St Vivien",null,null,null,{"$f":"ROUND(DATE(G69,4,MOD(234-11*MOD(G69,19),30))/7,)*7-6","v":"2012-04-08"},"Pâques"]
["2012-03-11",null,"Ste Rosine",null,null,null,{"$f":"G71+1","v":"2012-04-09"},"Lundi de Pâques"]
["2012-03-12",null,"Ste Justine",null,null,null,{"$f":"DATE(G69,5,1)","v":"2012-05-01"},"Fête du Travail"]
["2012-03-13",null,"St Rodrigue",null,null,null,{"$f":"DATE(G69,5,8)","v":"2012-05-08"},"Victoire 1945"]
["2012-03-14","JEAN CLAUDE","Ste Mathilde",null,null,null,{"$f":"G71+39","v":"2012-05-17"},"Ascension"]
["2012-03-15",null,"Ste Louise M. ",null,null,null,{"$f":"G72+49","v":"2012-05-28"},"Pentecôte"]
["2012-03-16",null,"Ste Bénédicte",null,null,null,{"$f":"G76+1","v":"2012-05-29"},"Lundi de Pentecôte"]
["2012-03-17",null,"St Patrice",null,null,null,{"$f":"DATE(G69,7,14)","v":"2012-07-14"},"Fête Nationale"]
["2012-03-18",null,"St Cyrille",null,null,null,{"$f":"DATE(G69,8,15)","v":"2012-08-15"},"Assomption"]
["2012-03-19","ALEXANDRE","St Joseph",null,null,null,{"$f":"DATE(G69,11,1)","v":"2012-11-01"},"Toussaint"]
["2012-03-20",null,"Printemps ",null,null,null,{"$f":"DATE(G69,11,11)","v":"2012-11-11"},"Armistice"]
["2012-03-21",null,"Ste Clémence",null,null,null,{"$f":"DATE(G69,12,25)","v":"2012-12-25"},"Noël"]
["2012-03-22","papa","Ste Léa"]
["2012-03-23",null,"St Victorien ",null,null,null,"samedi et dimanche en GRIS 25%",null,"ok"]
["2012-03-24",null,"Ste Catherine",null,null,null,"fériés en vert clair!!! Comment faire?"]
["2012-03-25",null,"Annonciation"]
["2012-03-26",null,"Ste Larissa"]
["2012-03-27",null,"St Habib"]
["2012-03-28",null,"St Gontran"]
["2012-03-29",null,"Ste Gwladys"]
["2012-03-30",null,"St Amédée"]
["2012-03-31",null,"St Benjamin"]
["2012-04-01",null,"St Hugues"]
["2012-04-02",null,"Ste Sandrine"]
["2012-04-03","MOI","St Richard"]
["2012-04-04",null,"St Isidore"]
["2012-04-05",null,"Ste  Irène"]
["2012-04-06",null,"St Marcellin"]
["2012-04-07",null,"St J.-B. de Salle"]
["2012-04-08",null,"Ste Julie"]
["2012-04-09",null,"St Gautier"]
["2012-04-10",null,"St Fulbert"]
["2012-04-11",null,"St Stanislas"]
["2012-04-12",null,"St Jules"]
["2012-04-13",null,"Ste Ida"]
["2012-04-14",null,"St Maxime"]
["2012-04-15",null,"St Paterne"]
["2012-04-16",null,"St Benoît-Joseph"]
["2012-04-17",null,"St Et. Harding"]
["2012-04-18",null,"St Parfait"]
["2012-04-19",null,"Ste Emma"]
["2012-04-20",null,"Ste Odette"]
["2012-04-21",null,"St Anselme"]
["2012-04-22",null,"St Alexandre"]
["2012-04-23",null,"St Georges"]
["2012-04-24",null,"St Fidèle"]
["2012-04-25",null,"Souvenir Déportés"]
["2012-04-26",null,"Ste Alida"]
["2012-04-27",null,"Ste Zita"]
["2012-04-28",null,"Ste Valérie"]
["2012-04-29",null,"Ste C. de Sienne"]
["2012-04-30",null,"St Robert"]
["2012-05-01",null,"F. du travail"]
["2012-05-02",null,"St Boris"]
["2012-05-03",null,"Sts Philippe-Jacques"]
["2012-05-04",null,"St Sylvain"]
["2012-05-05",null,"Ste Judith"]
["2012-05-06",null,"Ste Prudence"]
["2012-05-07",null,"Ste Gisèle"]
["2012-05-08",null,"Annivers. 1945"]
["2012-05-09",null,"St Pacôme"]
[{"$f":"A131+1","v":"2012-05-10"},null,"Ste Solange"]
["2012-05-11",null,"Ste Estelle"]
["2012-05-12",null,"St Achille"]
["2012-05-13",null,"Ste Rolande"]
["2012-05-14",null,"St Matthias"]
["2012-05-15","MARTINE","Ste Denise"]
["2012-05-16",null,"St Honoré "]
["2012-05-17",null,"St Pascal"]
["2012-05-18",null,"St Eric"]
["2012-05-19",null,"St Yves"]
["2012-05-20",null,"St Bernardin"]
["2012-05-21","SANDRA","St Constantin"]
["2012-05-22",null,"St Emile "]
["2012-05-23",null,"St Didier"]
["2012-05-24",null,"St Donatien"]
["2012-05-25",null,"Ste Sophie"]
["2012-05-26",null,"St Bérenger"]
["2012-05-27",null,"St Augustin de C."]
["2012-05-28",null,"St Germain"]
["2012-05-29",null,"St Aymar"]
["2012-05-30",null,"St Ferdinand"]
["2012-05-31",null,"V. de la Ste Vierge"]
["2012-06-01",null,"St Justin"]
["2012-06-02",null,"Ste Blandine"]
["2012-06-03",null,"St Kévin"]
["2012-06-04",null,"Ste Clothilde"]
["2012-06-05",null,"St Igor"]
["2012-06-06",null,"St Norbert"]
["2012-06-07",null,"St Gilbert"]
["2012-06-08",null,"St Médard"]
["2012-06-09",null,"Ste Diane"]
["2012-06-10",null,"St Landry"]
["2012-06-11",null,"St Barnabé"]
["2012-06-12",null,"St Guy"]
["2012-06-13",null,"St A. de Padou"]
["2012-06-14",null,"St Elisée"]
["2012-06-15",null,"Ste Germaine"]
["2012-06-16",null,"St J.-F. Régis"]
["2012-06-17",null,"St Hervé"]
["2012-06-18",null,"St Léonce"]
["2012-06-19",null,"St Romuald"]
["2012-06-20",null,"St Silvère"]
["2012-06-21",null,"F. Dieu"]
["2012-06-22",null,"St Alban"]
["2012-06-23",null,"Ste Audrey"]
["2012-06-24",null,"St Jean-Baptiste"]
["2012-06-25",null,"St Salomon"]
["2012-06-26",null,"St Anthelme"]
["2012-06-27","MARIAGE","St Fernand"]
["2012-06-28",null,"St Irénée "]
["2012-06-29",null,"St Pierre-Paul"]
["2012-06-30",null,"St Martial"]
["2012-07-01",null,"St Thierry"]
["2012-07-02",null,"St Martinien"]
["2012-07-03",null,"St Thomas"]
["2012-07-04",null,"St Florent"]
["2012-07-05",null,"St Antoine"]
["2012-07-06",null,"Ste Mariette"]
["2012-07-07",null,"St Raoul"]
["2012-07-08",null,"St Thibaut"]
["2012-07-09","CLAUDETTE","Ste Amandine"]
["2012-07-10",null,"St Ulrich "]
["2012-07-11",null,"St Benoît"]
["2012-07-12",null,"St Olivier"]
[{"$f":"A195+1","v":"2012-07-13"},null,"Sts Henri et Joël"]
["2012-07-14",null,"Fête nationale"]
["2012-07-15",null,"St Donald"]
["2012-07-16",null,"N.D. Mont Carmel"]
["2012-07-17",null,"Ste Charlotte"]
["2012-07-18",null,"St Frédéric"]
["2012-07-19",null,"St Arsène"]
["2012-07-20",null,"Ste Marina"]
["2012-07-21",null,"St Victor"]
["2012-07-22",null,"Ste Marie-Madel."]
["2012-07-23",null,"Ste Brigitte"]
["2012-07-24","ENZO","Ste Christine"]
["2012-07-25","MAMAN","St Jacques de M. (Enzo)"]
["2012-07-26",null,"Ste Anne"]
["2012-07-27",null,"Ste Nathalie"]
["2012-07-28",null,"St Samson"]
["2012-07-29",null,"Ste Marthe"]
["2012-07-30",null,"Ste Juliette"]
["2012-07-31",null,"St Ign. Loyola"]
["2012-08-01",null,"St Alphonse"]
["2012-08-02",null,"St Julien-Eym."]
["2012-08-03",null,"Ste Lydie"]
["2012-08-04",null,"St J.M. Vianney"]
["2012-08-05",null,"St Abel"]
["2012-08-06",null,"Transfiguration"]
["2012-08-07",null,"St Gaëtan"]
["2012-08-08",null,"St Dominique"]
["2012-08-09",null,"St Amour"]
["2012-08-10",null,"St Laurent"]
["2012-08-11",null,"Ste Claire"]
["2012-08-12",null,"Ste Clarisse"]
["2012-08-13",null,"St Hippolyte"]
["2012-08-14",null,"St Evrard"]
["2012-08-15",null,"Assomption"]
["2012-08-16",null,"St Armel"]
["2012-08-17",null,"St Hyacinthe"]
["2012-08-18",null,"Ste Hélène"]
["2012-08-19",null,"St Jean Eudes"]
["2012-08-20",null,"St Bernard"]
["2012-08-21",null,"St Christophe"]
["2012-08-22",null,"St Fabrice"]
["2012-08-23",null,"Ste Rose de Lima"]
["2012-08-24",null,"St Barthélémy"]
["2012-08-25",null,"St Louis"]
["2012-08-26",null,"Ste Natacha"]
["2012-08-27",null,"Ste Monique"]
["2012-08-28",null,"St Augustin"]
["2012-08-29",null,"Ste Sabine"]
["2012-08-30",null,"St Fiacre"]
["2012-08-31",null,"St Aristide"]
["2012-09-01",null,"St Gilles"]
["2012-09-02",null,"Ste Ingrid"]
["2012-09-03",null,"St Grégoire"]
["2012-09-04",null,"Ste Rosalie"]
["2012-09-05",null,"Ste Raïssa"]
["2012-09-06",null,"St Bertrand"]
["2012-09-07",null,"Ste Reine"]
["2012-09-08",null,"Nativité"]
["2012-09-09",null,"St Alain"]
["2012-09-10",null,"Ste Inès"]
["2012-09-11",null,"Ste Adelphe"]
["2012-09-12",null,"St Apollinaire"]
["2012-09-13",null,"St Aimé"]
["2012-09-14",null,"Croix Glorieuse"]
[{"$f":"A259+1","v":"2012-09-15"},null,"St Roland"]
["2012-09-16","ROLAND","Ste Edith"]
["2012-09-17",null,"St Renaud"]
["2012-09-18",null,"Ste Nadège"]
["2012-09-19",null,"Ste Emilie"]
["2012-09-20",null,"St Davy"]
["2012-09-21",null,"St Matthieu"]
["2012-09-22",null,"St Maurice"]
["2012-09-23",null,"St Constant"]
["2012-09-24",null,"Ste Thècle"]
["2012-09-25","CYRIL","St Herman"]
["2012-09-26",null,"St Côme-Damien"]
["2012-09-27",null,"St Vincent de Paul"]
["2012-09-28",null,"St Venceslas"]
["2012-09-29",null,"Sts Michel-Gabriel"]
["2012-09-30",null,"St Jérôme"]
["2012-10-01",null,"Ste Thérèse de l'E. J."]
["2012-10-02",null,"St Léger"]
["2012-10-03",null,"St Gérard"]
["2012-10-04",null,"St Fr. d'Assise"]
["2012-10-05",null,"Ste Fleur"]
["2012-10-06",null,"St Bruno"]
["2012-10-07",null,"St Serge"]
["2012-10-08","ALINE ","Ste Pélagie"]
["2012-10-09",null,"St Denis "]
["2012-10-10",null,"St Ghislain"]
["2012-10-11",null,"St Firmin"]
["2012-10-12",null,"St Wilfrid"]
["2012-10-13",null,"St Géraud"]
["2012-10-14",null,"St Juste"]
["2012-10-15",null,"Ste Thérèse d'A."]
["2012-10-16",null,"Ste Edwige"]
["2012-10-17","Caramel","St Baudouin"]
["2012-10-18",null,"St Luc"]
["2012-10-19",null,"St René"]
["2012-10-20",null,"Ste Adeline"]
["2012-10-21",null,"Ste Céline"]
["2012-10-22",null,"Ste Salomé"]
["2012-10-23","Ophelie","St Jean de C."]
["2012-10-24",null,"St Florentin"]
["2012-10-25",null,"St Enguerran"]
["2012-10-26",null,"St Dimitri"]
["2012-10-27",null,"Ste Emeline"]
["2012-10-28",null,"St Simon"]
["2012-10-29",null,"St Narcisse"]
["2012-10-30",null,"Ste Bienvenue"]
["2012-10-31",null,"St Quentin"]
["2012-11-01",null,"Toussaint"]
["2012-11-02",null,"Défunts"]
["2012-11-03",null,"St Hubert"]
["2012-11-04",null,"St Charles"]
["2012-11-05",null,"Ste Sylvie"]
["2012-11-06",null,"Ste Bertille"]
["2012-11-07",null,"Ste Carine"]
["2012-11-08",null,"St Geoffroy"]
["2012-11-09",null,"St Théodore"]
["2012-11-10",null,"St Léon"]
["2012-11-11",null,"Armistice 1918"]
["2012-11-12",null,"St Christian"]
["2012-11-13",null,"St Brice"]
["2012-11-14",null,"St Sidoine"]
["2012-11-15",null,"St Albert"]
["2012-11-16",null,"Ste Marguerite"]
["2012-11-17",null,"Ste Elisabeth"]
[{"$f":"A323+1","v":"2012-11-18"},null,"Ste Aude"]
["2012-11-19",null,"St Tanguy"]
["2012-11-20",null,"St Edmond"]
["2012-11-21",null,"Prés. de Marie"]
["2012-11-22",null,"Ste Cécile"]
["2012-11-23",null,"St Clément"]
["2012-11-24",null,"Ste Flora"]
["2012-11-25",null,"Ste Catherine L."]
["2012-11-26",null,"Ste Delphine"]
["2012-11-27",null,"St Séverin"]
["2012-11-28",null,"St Jacques de M."]
["2012-11-29",null,"St Saturnin"]
["2012-11-30",null,"St André"]
["2012-12-01",null,"Ste Florence"]
["2012-12-02",null,"Ste Viviane"]
["2012-12-03",null,"St François Xavier"]
["2012-12-04",null,"Ste Barbara"]
["2012-12-05",null,"St Gérald"]
["2012-12-06",null,"St Nicolas"]
["2012-12-07",null,"St Ambroise"]
["2012-12-08",null,"Immac. Conception"]
["2012-12-09",null,"St P. Fourier"]
["2012-12-10",null,"St Romaric"]
["2012-12-11",null,"St Daniel"]
["2012-12-12",null,"Ste J.-F. Chantal"]
["2012-12-13",null,"Ste Lucie"]
["2012-12-14",null,"Ste Odile"]
["2012-12-15",null,"Ste Ninon"]
["2012-12-16",null,"Ste Alice"]
["2012-12-17",null,"St Judicaël"]
["2012-12-18",null,"St Gatien"]
["2012-12-19",null,"St Urbain"]
["2012-12-20",null,"St Théophile"]
["2012-12-21",null,"St Pierre C."]
["2012-12-22",null,"Ste Franç. Xavière"]
["2012-12-23",null,"St Armand"]
["2012-12-24",null,"Ste Adèle"]
["2012-12-25",null,"Noël"]
["2012-12-26",null,"St Etienne"]
["2012-12-27",null,"St Jean"]
["2012-12-28",null,"Sts Innocents"]
["2012-12-29",null,"St David"]
["2012-12-30",null,"St Roger"]

{"sheet":"Calendrier ","index":15,"n_rows":610,"n_cols":16,"rows_kept":610,"cut":false,"hidden":false,"merged":[[371,1,371,2],[421,1,421,2],[418,1,418,2],[375,1,375,2],[424,1,424,2],[372,1,372,2],[378,1,378,2],[384,1,384,2],[392,1,392,2],[381,1,381,2],[395,1,395,2],[398,1,398,2],[401,1,401,2],[404,1,404,2],[427,1,427,2],[432,1,432,2],[412,1,412,2],[415,1,415,2],[447,1,447,2],[435,1,435,2],[438,1,438,2],[441,1,441,2],[444,1,444,2],[472,1,472,2],[475,1,475,2],[452,1,452,2],[455,1,455,2],[458,1,458,2],[461,1,461,2],[464,1,464,2],[467,1,467,2],[492,1,492,2],[495,1,495,2],[498,1,498,2],[501,1,501,2],[478,1,478,2],[481,1,481,2],[484,1,484,2],[487,1,487,2],[518,1,518,2],[521,1,521,2],[524,1,524,2],[527,1,527,2],[504,1,504,2],[507,1,507,2],[512,1,512,2],[515,1,515,2],[544,1,544,2],[547,1,547,2],[552,1,552,2],[555,1,555,2],[532,1,532,2],[535,1,535,2],[538,1,538,2],[541,1,541,2],[572,1,572,2],[575,1,575,2],[578,1,578,2],[581,1,581,2],[558,1,558,2],[561,1,561,2],[564,1,564,2],[567,1,567,2],[598,1,598,2],[601,1,601,2],[604,1,604,2],[607,1,607,2],[584,1,584,2],[587,1,587,2],[592,1,592,2],[595,1,595,2]]}
[null,null,null,null,"Année :","2012"]
[null,null,null,"jour","fete"]
[null,null,null,"1900-01-01","Jour de l'An "]
[null,null,null,"1900-01-02","St Basile"]
[null,null,null,"1900-01-03","Ste Geneviève"]
[null,null,null,"1900-01-04","St Odilon"]
[null,null,null,"1900-01-05","St Edouard"]
[null,null,null,"1900-01-06","Ste Melaine"]
[null,null,null,"1900-01-07","St Raymond"]
[null,null,null,"1900-01-08","St Lucien"]
[null,null,null,"1900-01-09","Ste Alix"]
[null,null,null,"1900-01-10","St Guillaume"]
[null,null,null,"1900-01-11","St Paulin"]
[null,null,null,"1900-01-12","Ste Tatiana"]
[null,null,null,"1900-01-13","Ste Yvette"]
[null,null,null,"1900-01-14","Ste Nina"]
[null,null,null,"1900-01-15","St Rémi"]
[null,null,null,"1900-01-16","St Marcel"]
[null,null,null,"1900-01-17","Ste Roseline"]
[null,null,null,"1900-01-18","Ste Prisca"]
[null,null,null,"1900-01-19","St Marius"]
[null,null,null,"1900-01-20","St Sébastien"]
[null,null,null,"1900-01-21","Ste Agnès"]
[null,null,null,"1900-01-22","St Vincent"]
[null,null,null,"1900-01-23","St Barnard"]
[null,null,null,"1900-01-24","St François de Sales"]
[null,null,null,"1900-01-25","Convers. de St Paul"]
[null,null,null,"1900-01-26","Ste Paule"]
[null,null,null,"1900-01-27","Ste Angel"]
[null,null,null,"1900-01-28","St Thomas d'Aquin"]
[null,null,null,"1900-01-29","St Gildas"]
[null,null,null,"1900-01-30","Ste Martine"]
[null,null,null,"1900-01-31","Ste Marcelle"]
[null,null,null,"1900-02-01","Ste Ella"]
[null,null,null,"1900-02-02","Prés. du Seigneur"]
[null,null,null,"1900-02-03","St Blaise"]
[null,null,null,"1900-02-04","Ste Véronique"]
[null,null,null,"1900-02-05","Ste Agathe"]
[null,null,null,"1900-02-06","St Gaston"]
[null,null,null,"1900-02-07","Ste Eugénie"]
[null,null,null,"1900-02-08","Ste Jacqueline"]
[null,null,null,"1900-02-09","Ste Apolline"]
[null,null,null,"1900-02-10","St Arnaud"]
[null,null,null,"1900-02-11","N.-D. de Lourdes"]
[null,null,null,"1900-02-12","St Félix"]
[null,null,null,"1900-02-13","Ste Béatrice"]
[null,null,null,"1900-02-14","St Valentin"]
[null,null,null,"1900-02-15","St Claude"]
[null,null,null,"1900-02-16","Ste Julienne"]
[null,null,null,"1900-02-17","St Alexis  ","REMY"]
[null,null,null,"1900-02-18","Ste Bernadette"]
[null,null,null,"1900-02-19","St Gabin"]
[null,null,null,"1900-02-20","Ste Aimée"]
[null,null,null,"1900-02-21","St P. Damien"]
[null,null,null,"1900-02-22","Ste Isabelle"]
[null,null,null,"1900-02-23","St Lazare"]
[null,null,null,"1900-02-24","St Modeste"]
[null,null,null,"1900-02-25","St Roméo"]
[null,null,null,"1900-02-26","St Nestor"]
[null,null,null,"1900-02-27","St Honorine"]
[null,null,null,"1900-02-28","St Romain"]
[null,null,null,60,"St Auguste"]
[null,null,null,"1900-03-01","St Aubin"]
[null,null,null,"1900-03-02","St Charles le Bon"]
[null,null,null,"1900-03-03","St Gwénolé"]
[null,null,null,"1900-03-04","St Casimir"]
[null,null,null,"1900-03-05","Ste Olivia"]
[null,null,null,"1900-03-06","Ste Colette"]
[null,null,null,"1900-03-07","Ste Félicité"]
[null,null,null,"1900-03-08","St Jean-de-Dieu"]
[null,null,null,"1900-03-09","Ste Françoise R."]
[null,null,null,"1900-03-10","St Vivien"]
[null,null,null,"1900-03-11","Ste Rosine"]
[null,null,null,"1900-03-12","Ste Justine"]
[null,null,null,"1900-03-13","St Rodrigue"]
[null,null,null,"1900-03-14","Ste Mathilde"]
[null,null,null,"1900-03-15","Ste Louise M. ","JEAN CLAUDE"]
[null,null,null,"1900-03-16","Ste Bénédicte"]
[null,null,null,"1900-03-17","St Patrice"]
[null,null,null,"1900-03-18","St Cyrille"]
[null,null,null,"1900-03-19","St Joseph"]
[null,null,null,"1900-03-20","Printemps ","ALEXANDRE"]
[null,null,null,"1900-03-21","Ste Clémence","PAPA"]
[null,null,null,"1900-03-22","Ste Léa"]
[null,null,null,"1900-03-23","St Victorien "]
[null,null,null,"1900-03-24","Ste Catherine"]
[null,null,null,"1900-03-25","Annonciation"]
[null,null,null,"1900-03-26","Ste Larissa"]
[null,null,null,"1900-03-27","St Habib"]
[null,null,null,"1900-03-28","St Gontran"]
[null,null,null,"1900-03-29","Ste Gwladys"]
[null,null,null,"1900-03-30","St Amédée"]
[null,null,null,"1900-03-31","St Benjamin"]
[null,null,null,"1900-04-01","St Hugues"]
[null,null,null,"1900-04-02","Ste Sandrine"]
[null,null,null,"1900-04-03","St Richard"]
[null,null,null,"1900-04-04","St Isidore"]
[null,null,null,"1900-04-05","Ste  Irène"]
[null,null,null,"1900-04-06","St Marcellin"]
[null,null,null,"1900-04-07","St J.-B. de Salle"]
[null,null,null,"1900-04-08","Ste Julie"]
[null,null,null,"1900-04-09","St Gautier"]
[null,null,null,"1900-04-10","St Fulbert"]
[null,null,null,"1900-04-11","St Stanislas"]
[null,null,null,"1900-04-12","St Jules"]
[null,null,null,"1900-04-13","Ste Ida"]
[null,null,null,"1900-04-14","St Maxime"]
[null,null,null,"1900-04-15","St Paterne"]
[null,null,null,"1900-04-16","St Benoît-Joseph"]
[null,null,null,"1900-04-17","St Et. Harding"]
[null,null,null,"1900-04-18","St Parfait"]
[null,null,null,"1900-04-19","Ste Emma"]
[null,null,null,"1900-04-20","Ste Odette"]
[null,null,null,"1900-04-21","St Anselme"]
[null,null,null,"1900-04-22","St Alexandre"]
[null,null,null,"1900-04-23","St Georges"]
[null,null,null,"1900-04-24","St Fidèle"]
[null,null,null,"1900-04-25","Souvenir Déportés"]
[null,null,null,"1900-04-26","Ste Alida"]
[null,null,null,"1900-04-27","Ste Zita"]
[null,null,null,"1900-04-28","Ste Valérie"]
[null,null,null,"1900-04-29","Ste C. de Sienne"]
[null,null,null,"1900-04-30","St Robert"]
[null,null,null,"1900-05-01","F. du travail"]
[null,null,null,"1900-05-02","St Boris"]
[null,null,null,"1900-05-03","Sts Philippe-Jacques"]
[null,null,null,"1900-05-04","St Sylvain"]
[null,null,null,"1900-05-05","Ste Judith"]
[null,null,null,"1900-05-06","Ste Prudence"]
[null,null,null,"1900-05-07","Ste Gisèle"]
[null,null,null,"1900-05-08","Annivers. 1945"]
[null,null,null,"1900-05-09","St Pacôme"]
[null,null,null,"1900-05-10","Ste Solange"]
[null,null,null,"1900-05-11","Ste Estelle"]
[null,null,null,"1900-05-12","St Achille"]
[null,null,null,"1900-05-13","Ste Rolande"]
[null,null,null,"1900-05-14","St Matthias"]
[null,null,null,"1900-05-15","Ste Denise"]
[null,null,null,"1900-05-16","St Honoré ","MARTINE"]
[null,null,null,"1900-05-17","St Pascal"]
[null,null,null,"1900-05-18","St Eric"]
[null,null,null,"1900-05-19","St Yves"]
[null,null,null,"1900-05-20","St Bernardin"]
[null,null,null,"1900-05-21","St Constantin"]
[null,null,null,"1900-05-22","St Emile ","SANDRA"]
[null,null,null,"1900-05-23","St Didier"]
[null,null,null,"1900-05-24","St Donatien"]
[null,null,null,"1900-05-25","Ste Sophie"]
[null,null,null,"1900-05-26","St Bérenger"]
[null,null,null,"1900-05-27","St Augustin de C."]
[null,null,null,"1900-05-28","St Germain"]
[null,null,null,"1900-05-29","St Aymar"]
[null,null,null,"1900-05-30","St Ferdinand"]
[null,null,null,"1900-05-31","V. de la Ste Vierge"]
[null,null,null,"1900-06-01","St Justin"]
[null,null,null,"1900-06-02","Ste Blandine"]
[null,null,null,"1900-06-03","St Kévin"]
[null,null,null,"1900-06-04","Ste Clothilde"]
[null,null,null,"1900-06-05","St Igor"]
[null,null,null,"1900-06-06","St Norbert"]
[null,null,null,"1900-06-07","St Gilbert"]
[null,null,null,"1900-06-08","St Médard"]
[null,null,null,"1900-06-09","Ste Diane"]
[null,null,null,"1900-06-10","St Landry"]
[null,null,null,"1900-06-11","St Barnabé"]
[null,null,null,"1900-06-12","St Guy"]
[null,null,null,"1900-06-13","St A. de Padou"]
[null,null,null,"1900-06-14","St Elisée"]
[null,null,null,"1900-06-15","Ste Germaine"]
[null,null,null,"1900-06-16","St J.-F. Régis"]
[null,null,null,"1900-06-17","St Hervé"]
[null,null,null,"1900-06-18","St Léonce"]
[null,null,null,"1900-06-19","St Romuald"]
[null,null,null,"1900-06-20","St Silvère"]
[null,null,null,"1900-06-21","F. Dieu"]
[null,null,null,"1900-06-22","St Alban"]
[null,null,null,"1900-06-23","Ste Audrey"]
[null,null,null,"1900-06-24","St Jean-Baptiste"]
[null,null,null,"1900-06-25","St Salomon"]
[null,null,null,"1900-06-26","St Anthelme"]
[null,null,null,"1900-06-27","St Fernand"]
[null,null,null,"1900-06-28","St Irénée ","MARIAGE"]
[null,null,null,"1900-06-29","St Pierre-Paul"]
[null,null,null,"1900-06-30","St Martial"]
[null,null,null,"1900-07-01","St Thierry"]
[null,null,null,"1900-07-02","St Martinien"]
[null,null,null,"1900-07-03","St Thomas"]
[null,null,null,"1900-07-04","St Florent"]
[null,null,null,"1900-07-05","St Antoine"]
[null,null,null,"1900-07-06","Ste Mariette"]
[null,null,null,"1900-07-07","St Raoul"]
[null,null,null,"1900-07-08","St Thibaut"]
[null,null,null,"1900-07-09","Ste Amandine"]
[null,null,null,"1900-07-10","St Ulrich ","CLAUDETTE"]
[null,null,null,"1900-07-11","St Benoît"]
[null,null,null,"1900-07-12","St Olivier"]
[null,null,null,"1900-07-13","Sts Henri et Joël"]
[null,null,null,"1900-07-14","Fête nationale"]
[null,null,null,"1900-07-15","St Donald"]
[null,null,null,"1900-07-16","N.D. Mont Carmel"]
[null,null,null,"1900-07-17","Ste Charlotte"]
[null,null,null,"1900-07-18","St Frédéric"]
[null,null,null,"1900-07-19","St Arsène"]
[null,null,null,"1900-07-20","Ste Marina"]
[null,null,null,"1900-07-21","St Victor"]
[null,null,null,"1900-07-22","Ste Marie-Madel."]
[null,null,null,"1900-07-23","Ste Brigitte"]
[null,null,null,"1900-07-24","Ste Christine"]
[null,null,null,"1900-07-25","St Jacques de M. (Enzo)"]
[null,null,null,"1900-07-26","Ste Anne","MAMAN"]
[null,null,null,"1900-07-27","Ste Nathalie"]
[null,null,null,"1900-07-28","St Samson"]
[null,null,null,"1900-07-29","Ste Marthe"]
[null,null,null,"1900-07-30","Ste Juliette"]
[null,null,null,"1900-07-31","St Ign. Loyola"]
[null,null,null,"1900-08-01","St Alphonse"]
[null,null,null,"1900-08-02","St Julien-Eym."]
[null,null,null,"1900-08-03","Ste Lydie"]
[null,null,null,"1900-08-04","St J.M. Vianney"]
[null,null,null,"1900-08-05","St Abel"]
[null,null,null,"1900-08-06","Transfiguration"]
[null,null,null,"1900-08-07","St Gaëtan"]
[null,null,null,"1900-08-08","St Dominique"]
[null,null,null,"1900-08-09","St Amour"]
[null,null,null,"1900-08-10","St Laurent"]
[null,null,null,"1900-08-11","Ste Claire"]
[null,null,null,"1900-08-12","Ste Clarisse"]
[null,null,null,"1900-08-13","St Hippolyte"]
[null,null,null,"1900-08-14","St Evrard"]
[null,null,null,"1900-08-15","Assomption"]
[null,null,null,"1900-08-16","St Armel"]
[null,null,null,"1900-08-17","St Hyacinthe"]
[null,null,null,"1900-08-18","Ste Hélène"]
[null,null,null,"1900-08-19","St Jean Eudes"]
[null,null,null,"1900-08-20","St Bernard"]
[null,null,null,"1900-08-21","St Christophe"]
[null,null,null,"1900-08-22","St Fabrice"]
[null,null,null,"1900-08-23","Ste Rose de Lima"]
[null,null,null,"1900-08-24","St Barthélémy"]
[null,null,null,"1900-08-25","St Louis"]
[null,null,null,"1900-08-26","Ste Natacha"]
[null,null,null,"1900-08-27","Ste Monique"]
[null,null,null,"1900-08-28","St Augustin"]
[null,null,null,"1900-08-29","Ste Sabine"]
[null,null,null,"1900-08-30","St Fiacre"]
[null,null,null,"1900-08-31","St Aristide"]
[null,null,null,"1900-09-01","St Gilles"]
[null,null,null,"1900-09-02","Ste Ingrid"]
[null,null,null,"1900-09-03","St Grégoire"]
[null,null,null,"1900-09-04","Ste Rosalie"]
[null,null,null,"1900-09-05","Ste Raïssa"]
[null,null,null,"1900-09-06","St Bertrand"]
[null,null,null,"1900-09-07","Ste Reine"]
[null,null,null,"1900-09-08","Nativité"]
[null,null,null,"1900-09-09","St Alain"]
[null,null,null,"1900-09-10","Ste Inès"]
[null,null,null,"1900-09-11","Ste Adelphe"]
[null,null,null,"1900-09-12","St Apollinaire"]
[null,null,null,"1900-09-13","St Aimé"]
[null,null,null,"1900-09-14","Croix Glorieuse"]
[null,null,null,"1900-09-15","St Roland"]
[null,null,null,"1900-09-16","Ste Edith"]
[null,null,null,"1900-09-17","St Renaud"]
[null,null,null,"1900-09-18","Ste Nadège"]
[null,null,null,"1900-09-19","Ste Emilie"]
[null,null,null,"1900-09-20","St Davy"]
[null,null,null,"1900-09-21","St Matthieu"]
[null,null,null,"1900-09-22","St Maurice"]
[null,null,null,"1900-09-23","St Constant"]
[null,null,null,"1900-09-24","Ste Thècle"]
[null,null,null,"1900-09-25","St Herman"]
[null,null,null,"1900-09-26","St Côme-Damien"]
[null,null,null,"1900-09-27","St Vincent de Paul"]
[null,null,null,"1900-09-28","St Venceslas"]
[null,null,null,"1900-09-29","Sts Michel-Gabriel"]
[null,null,null,"1900-09-30","St Jérôme"]
[null,null,null,"1900-10-01","Ste Thérèse de l'E. J."]
[null,null,null,"1900-10-02","St Léger"]
[null,null,null,"1900-10-03","St Gérard"]
[null,null,null,"1900-10-04","St Fr. d'Assise"]
[null,null,null,"1900-10-05","Ste Fleur"]
[null,null,null,"1900-10-06","St Bruno"]
[null,null,null,"1900-10-07","St Serge"]
[null,null,null,"1900-10-08","Ste Pélagie"]
[null,null,null,"1900-10-09","St Denis ","ALINE"]
[null,null,null,"1900-10-10","St Ghislain"]
[null,null,null,"1900-10-11","St Firmin"]
[null,null,null,"1900-10-12","St Wilfrid"]
[null,null,null,"1900-10-13","St Géraud"]
[null,null,null,"1900-10-14","St Juste"]
[null,null,null,"1900-10-15","Ste Thérèse d'A."]
[null,null,null,"1900-10-16","Ste Edwige"]
[null,null,null,"1900-10-17","St Baudouin"]
[null,null,null,"1900-10-18","St Luc"]
[null,null,null,"1900-10-19","St René"]
[null,null,null,"1900-10-20","Ste Adeline"]
[null,null,null,"1900-10-21","Ste Céline"]
[null,null,null,"1900-10-22","Ste Salomé"]
[null,null,null,"1900-10-23","St Jean de C."]
[null,null,null,"1900-10-24","St Florentin"]
[null,null,null,"1900-10-25","St Enguerran"]
[null,null,null,"1900-10-26","St Dimitri"]
[null,null,null,"1900-10-27","Ste Emeline"]
[null,null,null,"1900-10-28","St Simon"]
[null,null,null,"1900-10-29","St Narcisse"]
[null,null,null,"1900-10-30","Ste Bienvenue"]
[null,null,null,"1900-10-31","St Quentin"]
[null,null,null,"1900-11-01","Toussaint"]
[null,null,null,"1900-11-02","Défunts"]
[null,null,null,"1900-11-03","St Hubert"]
[null,null,null,"1900-11-04","St Charles"]
[null,null,null,"1900-11-05","Ste Sylvie"]
[null,null,null,"1900-11-06","Ste Bertille"]
[null,null,null,"1900-11-07","Ste Carine"]
[null,null,null,"1900-11-08","St Geoffroy"]
[null,null,null,"1900-11-09","St Théodore"]
[null,null,null,"1900-11-10","St Léon"]
[null,null,null,"1900-11-11","Armistice 1918"]
[null,null,null,"1900-11-12","St Christian"]
[null,null,null,"1900-11-13","St Brice"]
[null,null,null,"1900-11-14","St Sidoine"]
[null,null,null,"1900-11-15","St Albert"]
[null,null,null,"1900-11-16","Ste Marguerite"]
[null,null,null,"1900-11-17","Ste Elisabeth"]
[null,null,null,"1900-11-18","Ste Aude"]
[null,null,null,"1900-11-19","St Tanguy"]
[null,null,null,"1900-11-20","St Edmond"]
[null,null,null,"1900-11-21","Prés. de Marie"]
[null,null,null,"1900-11-22","Ste Cécile"]
[null,null,null,"1900-11-23","St Clément"]
[null,null,null,"1900-11-24","Ste Flora"]
[null,null,null,"1900-11-25","Ste Catherine L."]
[null,null,null,"1900-11-26","Ste Delphine"]
[null,null,null,"1900-11-27","St Séverin"]
[null,null,null,"1900-11-28","St Jacques de M."]
[null,null,null,"1900-11-29","St Saturnin"]
[null,null,null,"1900-11-30","St André"]
[null,null,null,"1900-12-01","Ste Florence"]
[null,null,null,"1900-12-02","Ste Viviane"]
[null,null,null,"1900-12-03","St François Xavier"]
[null,null,null,"1900-12-04","Ste Barbara"]
[null,null,null,"1900-12-05","St Gérald"]
[null,null,null,"1900-12-06","St Nicolas"]
[null,null,null,"1900-12-07","St Ambroise"]
[null,null,null,"1900-12-08","Immac. Conception"]
[null,null,null,"1900-12-09","St P. Fourier"]
[null,null,null,"1900-12-10","St Romaric"]
[null,null,null,"1900-12-11","St Daniel"]
[null,null,null,"1900-12-12","Ste J.-F. Chantal"]
[null,null,null,"1900-12-13","Ste Lucie"]
[null,null,null,"1900-12-14","Ste Odile"]
[null,null,null,"1900-12-15","Ste Ninon"]
[null,null,null,"1900-12-16","Ste Alice"]
[null,null,null,"1900-12-17","St Judicaël"]
[null,null,null,"1900-12-18","St Gatien"]
[null,null,null,"1900-12-19","St Urbain"]
[null,null,null,"1900-12-20","St Théophile"]
[null,null,null,"1900-12-21","St Pierre C."]
[null,null,null,"1900-12-22","Ste Franç. Xavière"]
[null,null,null,"1900-12-23","St Armand"]
[null,null,null,"1900-12-24","Ste Adèle"]
[null,null,null,"1900-12-25","Noël"]
[null,null,null,"1900-12-26","St Etienne"]
[null,null,null,"1900-12-27","St Jean"]
[null,null,null,"1900-12-28","Sts Innocents"]
[null,null,null,"1900-12-29","St David"]
[null,null,null,"1900-12-30","St Roger"]
[null,null,null,"1900-12-31","St Sylvestre"]
[null,null,null,null,null," "]
[]
[null,{"$f":"TEXT(L371,\"aaaa\")","v":"2012"},null,null,{"$f":"P373","v":"2011-12-26"},1,null,null,{"$f":"TEXT(DATE(B371,F371,1),\"mmmm\")","v":"janvier"},null,"Date",{"$f":"DATE(F1,1,1)","v":"2012-01-01"},null,"Numéro de semaine ",null,{"$f":"IF((date-courante+1)<1,(courante-précédente)/7,((INT(((date-courante+1)-1)/7)+1)-(INT(((INT(((date-courante+1)-1)/7)+1)-1)/((suivante-courante)/7)))*(courante-précédente)/7))","v":52}]
[null,"Lundi",null,"Mardi","Mercredi","Jeudi","Vendredi","Samedi","Dimanche",null,"Courante",{"$f":"(DATE(YEAR(date),1,1)+(-((MOD(DATE(YEAR(date),1,1)-2,7)+1)-8-(INT(((MOD(DATE(YEAR(date),1,1)-2,7)+1)-5)/7))*7)))","v":"2012-01-02"},null,"Num 1er jour 1ere semaine",null,{"$f":"(P371-1)*7+1","v":358}]
[null,{"$f":"IF(C375<>\"\",VLOOKUP(DATE(1900,$F371,B375),$D$3:$F$368,3),\"\")","v":""},null,{"$f":"IF(D375<>\"\",VLOOKUP(DATE(1900,$F371,D375),$D$3:$F$368,3),\"\")","v":""},"","","","",0,null,"Précédente",{"$f":"(DATE(YEAR(date)-1,1,1)+(-((MOD(DATE(YEAR(date)-1,1,1)-2,7)+1)-8-(INT(((MOD(DATE(YEAR(date)-1,1,1)-2,7)+1)-5)/7))*7)))","v":"2011-01-03"},null,"Date 1er jour 1ere semaine",null,{"$f":"IF(OR(MOD(L371-2,7)+1<5,MONTH(L371)<>1),IF(AND(DAY(L372+P372-1)>1,DAY(L372+P372-1)<5),L372+P372-6,L372+P372-1),IF(AND(DAY(L373+P372-1)>1,DAY(L373+P372-1)<5),L373+P372-6,L373+P372-1))","v":"2011-12-26"}]
[null,{"$f":"IF(C375<>\"\",VLOOKUP(DATE(1900,$F371,C375),$D$3:$E$368,2),\"\")","v":""},null,{"$f":"IF(D375<>\"\",VLOOKUP(DATE(1900,$F371,D375),$D$3:$E$368,2),\"\")","v":""},"","","","","Jour de l'An ",null,"Suivante",{"$f":"(DATE(YEAR(date)+1,1,1)+(-((MOD(DATE(YEAR(date)+1,1,1)-2,7)+1)-8-(INT(((MOD(DATE(YEAR(date)+1,1,1)-2,7)+1)-5)/7))*7)))","v":"2012-12-31"},null,"Nb de sem. année précédente",null,{"$f":"(L372-L373)/7","v":52}]
[null,{"$f":"P371","v":52},{"$f":"IF(MONTH(P373+COLUMN()-COLUMN(C375)+(ROW()-ROW(C375))*7)=MONTH(L371),DAY(P373+COLUMN()-COLUMN(C375)+(ROW()-ROW(C375))*7),\"\")","v":""},{"$f":"IF(MONTH(P373+COLUMN()-COLUMN(C375)+(ROW()-ROW(C375))*7)=MONTH(L371),DAY(P373+COLUMN()-COLUMN(C375)+(ROW()-ROW(C375))*7),\"\")","v":""},{"$f":"IF(MONTH(P373+COLUMN()-COLUMN(C375)+(ROW()-ROW(C375))*7)=MONTH(L371),DAY(P373+COLUMN()-COLUMN(C375)+(ROW()-ROW(C375))*7),\"\")","v":""},{"$f":"IF(MONTH(P373+COLUMN()-COLUMN(C375)+(ROW()-ROW(C375))*7)=MONTH(L371),DAY(P373+COLUMN()-COLUMN(C375)+(ROW()-ROW(C375))*7),\"\")","v":""},{"$f":"IF(MONTH(P373+COLUMN()-COLUMN(C375)+(ROW()-ROW(C375))*7)=MONTH(L371),DAY(P373+COLUMN()-COLUMN(C375)+(ROW()-ROW(C375))*7),\"\")","v":""},{"$f":"IF(MONTH(P373+COLUMN()-COLUMN(C375)+(ROW()-ROW(C375))*7)=MONTH(L371),DAY(P373+COLUMN()-COLUMN(C375)+(ROW()-ROW(C375))*7),\"\")","v":""},{"$f":"IF(MONTH(P373+COLUMN()-COLUMN(C375)+(ROW()-ROW(C375))*7)=MONTH(L371),DAY(P373+COLUMN()-COLUMN(C375)+(ROW()-ROW(C375))*7),\"\")","v":1}]
[null,{"$f":"IF(C378<>\"\",VLOOKUP(DATE(1900,$F371,C378),$D$3:$F$368,3),\"\")","v":0},null,{"$f":"IF(D378<>\"\",VLOOKUP(DATE(1900,$F371,D378),$D$3:$F$368,3),\"\")","v":0},0,0,0,0,0]
[null,{"$f":"IF(C378<>\"\",VLOOKUP(DATE(1900,$F371,C378),$D$3:$E$368,2),\"\")","v":"St Basile"},null,{"$f":"IF(D378<>\"\",VLOOKUP(DATE(1900,$F371,D378),$D$3:$E$368,2),\"\")","v":"Ste Geneviève"},"St Odilon","St Edouard","Ste Melaine","St Raymond","St Lucien"]
[null,{"$f":"(B375+1)-(INT(((B375+1)-1)/$P$374))*$P$374","v":1},{"$f":"IF(MONTH(P373+COLUMN()-COLUMN(C375)+(ROW()-ROW(C375)-2)*7)=MONTH(L371),DAY(P373+COLUMN()-COLUMN(C375)+(ROW()-ROW(C375)-2)*7),\"\")","v":2},{"$f":"IF(MONTH(P373+COLUMN()-COLUMN(C375)+(ROW()-ROW(C375)-2)*7)=MONTH(L371),DAY(P373+COLUMN()-COLUMN(C375)+(ROW()-ROW(C375)-2)*7),\"\")","v":3},{"$f":"IF(MONTH(P373+COLUMN()-COLUMN(C375)+(ROW()-ROW(C375)-2)*7)=MONTH(L371),DAY(P373+COLUMN()-COLUMN(C375)+(ROW()-ROW(C375)-2)*7),\"\")","v":4},{"$f":"IF(MONTH(P373+COLUMN()-COLUMN(C375)+(ROW()-ROW(C375)-2)*7)=MONTH(L371),DAY(P373+COLUMN()-COLUMN(C375)+(ROW()-ROW(C375)-2)*7),\"\")","v":5},{"$f":"IF(MONTH(P373+COLUMN()-COLUMN(C375)+(ROW()-ROW(C375)-2)*7)=MONTH(L371),DAY(P373+COLUMN()-COLUMN(C375)+(ROW()-ROW(C375)-2)*7),\"\")","v":6},{"$f":"IF(MONTH(P373+COLUMN()-COLUMN(C375)+(ROW()-ROW(C375)-2)*7)=MONTH(L371),DAY(P373+COLUMN()-COLUMN(C375)+(ROW()-ROW(C375)-2)*7),\"\")","v":7},{"$f":"IF(MONTH(P373+COLUMN()-COLUMN(C375)+(ROW()-ROW(C375)-2)*7)=MONTH(L371),DAY(P373+COLUMN()-COLUMN(C375)+(ROW()-ROW(C375)-2)*7),\"\")","v":8}]
[null,{"$f":"IF(C381<>\"\",VLOOKUP(DATE(1900,$F371,C381),$D$3:$F$368,3),\"\")","v":0},null,{"$f":"IF(D381<>\"\",VLOOKUP(DATE(1900,$F371,D381),$D$3:$F$368,3),\"\")","v":0},0,0,0,0,0]
[null,{"$f":"IF(C381<>\"\",VLOOKUP(DATE(1900,$F371,C381),$D$3:$E$368,2),\"\")","v":"Ste Alix"},null,{"$f":"IF(D381<>\"\",VLOOKUP(DATE(1900,$F371,D381),$D$3:$E$368,2),\"\")","v":"St Guillaume"},"St Paulin","Ste Tatiana","Ste Yvette","Ste Nina","St Rémi"]
[null,{"$f":"B378+1","v":2},{"$f":"IF(MONTH(P373+COLUMN()-COLUMN(C375)+(ROW()-ROW(C375)-4)*7)=MONTH(L371),DAY(P373+COLUMN()-COLUMN(C375)+(ROW()-ROW(C375)-4)*7),\"\")","v":9},{"$f":"IF(MONTH(P373+COLUMN()-COLUMN(C375)+(ROW()-ROW(C375)-4)*7)=MONTH(L371),DAY(P373+COLUMN()-COLUMN(C375)+(ROW()-ROW(C375)-4)*7),\"\")","v":10},{"$f":"IF(MONTH(P373+COLUMN()-COLUMN(C375)+(ROW()-ROW(C375)-4)*7)=MONTH(L371),DAY(P373+COLUMN()-COLUMN(C375)+(ROW()-ROW(C375)-4)*7),\"\")","v":11},{"$f":"IF(MONTH(P373+COLUMN()-COLUMN(C375)+(ROW()-ROW(C375)-4)*7)=MONTH(L371),DAY(P373+COLUMN()-COLUMN(C375)+(ROW()-ROW(C375)-4)*7),\"\")","v":12},{"$f":"IF(MONTH(P373+COLUMN()-COLUMN(C375)+(ROW()-ROW(C375)-4)*7)=MONTH(L371),DAY(P373+COLUMN()-COLUMN(C375)+(ROW()-ROW(C375)-4)*7),\"\")","v":13},{"$f":"IF(MONTH(P373+COLUMN()-COLUMN(C375)+(ROW()-ROW(C375)-4)*7)=MONTH(L371),DAY(P373+COLUMN()-COLUMN(C375)+(ROW()-ROW(C375)-4)*7),\"\")","v":14},{"$f":"IF(MONTH(P373+COLUMN()-COLUMN(C375)+(ROW()-ROW(C375)-4)*7)=MONTH(L371),DAY(P373+COLUMN()-COLUMN(C375)+(ROW()-ROW(C375)-4)*7),\"\")","v":15}]
[null,{"$f":"IF(C384<>\"\",VLOOKUP(DATE(1900,$F371,C384),$D$3:$F$368,3),\"\")","v":0},null,{"$f":"IF(D384<>\"\",VLOOKUP(DATE(1900,$F371,D384),$D$3:$F$368,3),\"\")","v":0},0,0,0,0,0]
[null,{"$f":"IF(C384<>\"\",VLOOKUP(DATE(1900,$F371,C384),$D$3:$E$368,2),\"\")","v":"St Marcel"},null,{"$f":"IF(D384<>\"\",VLOOKUP(DATE(1900,$F371,D384),$D$3:$E$368,2),\"\")","v":"Ste Roseline"},"Ste Prisca","St Marius","St Sébastien","Ste Agnès","St Vincent"]
[null,{"$f":"B381+1","v":3},{"$f":"IF(MONTH(P373+COLUMN()-COLUMN(C375)+(ROW()-ROW(C375)-6)*7)=MONTH(L371),DAY(P373+COLUMN()-COLUMN(C375)+(ROW()-ROW(C375)-6)*7),\"\")","v":16},{"$f":"IF(MONTH(P373+COLUMN()-COLUMN(C375)+(ROW()-ROW(C375)-6)*7)=MONTH(L371),DAY(P373+COLUMN()-COLUMN(C375)+(ROW()-ROW(C375)-6)*7),\"\")","v":17},{"$f":"IF(MONTH(P373+COLUMN()-COLUMN(C375)+(ROW()-ROW(C375)-6)*7)=MONTH(L371),DAY(P373+COLUMN()-COLUMN(C375)+(ROW()-ROW(C375)-6)*7),\"\")","v":18},{"$f":"IF(MONTH(P373+COLUMN()-COLUMN(C375)+(ROW()-ROW(C375)-6)*7)=MONTH(L371),DAY(P373+COLUMN()-COLUMN(C375)+(ROW()-ROW(C375)-6)*7),\"\")","v":19},{"$f":"IF(MONTH(P373+COLUMN()-COLUMN(C375)+(ROW()-ROW(C375)-6)*7)=MONTH(L371),DAY(P373+COLUMN()-COLUMN(C375)+(ROW()-ROW(C375)-6)*7),\"\")","v":20},{"$f":"IF(MONTH(P373+COLUMN()-COLUMN(C375)+(ROW()-ROW(C375)-6)*7)=MONTH(L371),DAY(P373+COLUMN()-COLUMN(C375)+(ROW()-ROW(C375)-6)*7),\"\")","v":21},{"$f":"IF(MONTH(P373+COLUMN()-COLUMN(C375)+(ROW()-ROW(C375)-6)*7)=MONTH(L371),DAY(P373+COLUMN()-COLUMN(C375)+(ROW()-ROW(C375)-6)*7),\"\")","v":22}]
[null,{"$f":"IF(C387<>\"\",VLOOKUP(DATE(1900,$F371,C387),$D$3:$F$368,3),\"\")","v":0},null,{"$f":"IF(D387<>\"\",VLOOKUP(DATE(1900,$F371,D387),$D$3:$F$368,3),\"\")","v":0},0,0,0,0,0]
[null,{"$f":"IF(C387<>\"\",VLOOKUP(DATE(1900,$F371,C387),$D$3:$E$368,2),\"\")","v":"St Barnard"},null,{"$f":"IF(D387<>\"\",VLOOKUP(DATE(1900,$F371,D387),$D$3:$E$368,2),\"\")","v":"St François de Sales"},"Convers. de St Paul","Ste Paule","Ste Angel","St Thomas d'Aquin","St Gildas"]
[null,{"$f":"B384+1","v":4},{"$f":"IF(MONTH(P373+COLUMN()-COLUMN(C375)+(ROW()-ROW(C375)-8)*7)=MONTH(L371),DAY(P373+COLUMN()-COLUMN(C375)+(ROW()-ROW(C375)-8)*7),\"\")","v":23},{"$f":"IF(MONTH(P373+COLUMN()-COLUMN(C375)+(ROW()-ROW(C375)-8)*7)=MONTH(L371),DAY(P373+COLUMN()-COLUMN(C375)+(ROW()-ROW(C375)-8)*7),\"\")","v":24},{"$f":"IF(MONTH(P373+COLUMN()-COLUMN(C375)+(ROW()-ROW(C375)-8)*7)=MONTH(L371),DAY(P373+COLUMN()-COLUMN(C375)+(ROW()-ROW(C375)-8)*7),\"\")","v":25},{"$f":"IF(MONTH(P373+COLUMN()-COLUMN(C375)+(ROW()-ROW(C375)-8)*7)=MONTH(L371),DAY(P373+COLUMN()-COLUMN(C375)+(ROW()-ROW(C375)-8)*7),\"\")","v":26},{"$f":"IF(MONTH(P373+COLUMN()-COLUMN(C375)+(ROW()-ROW(C375)-8)*7)=MONTH(L371),DAY(P373+COLUMN()-COLUMN(C375)+(ROW()-ROW(C375)-8)*7),\"\")","v":27},{"$f":"IF(MONTH(P373+COLUMN()-COLUMN(C375)+(ROW()-ROW(C375)-8)*7)=MONTH(L371),DAY(P373+COLUMN()-COLUMN(C375)+(ROW()-ROW(C375)-8)*7),\"\")","v":28},{"$f":"IF(MONTH(P373+COLUMN()-COLUMN(C375)+(ROW()-ROW(C375)-8)*7)=MONTH(L371),DAY(P373+COLUMN()-COLUMN(C375)+(ROW()-ROW(C375)-8)*7),\"\")","v":29}]
[]
[null,{"$f":"IF(C390<>\"\",VLOOKUP(DATE(1900,$F371,C390),$D$3:$E$368,2),\"\")","v":"Ste Martine"},null,{"$f":"IF(D390<>\"\",VLOOKUP(DATE(1900,$F371,D390),$D$3:$E$368,2),\"\")","v":"Ste Marcelle"},"","","","",""]
[null,{"$f":"IF(C390=\"\",\"\",IF(B387=P374,1,B387+1))","v":5},{"$f":"IF(MONTH(P373+COLUMN()-COLUMN(C375)+(ROW()-ROW(C375)-10)*7)=MONTH(L371),DAY(P373+COLUMN()-COLUMN(C375)+(ROW()-ROW(C375)-10)*7),\"\")","v":30},{"$f":"IF(MONTH(P373+COLUMN()-COLUMN(C375)+(ROW()-ROW(C375)-10)*7)=MONTH(L371),DAY(P373+COLUMN()-COLUMN(C375)+(ROW()-ROW(C375)-10)*7),\"\")","v":31},{"$f":"IF(MONTH(P373+COLUMN()-COLUMN(C375)+(ROW()-ROW(C375)-10)*7)=MONTH(L371),DAY(P373+COLUMN()-COLUMN(C375)+(ROW()-ROW(C375)-10)*7),\"\")","v":""},{"$f":"IF(MONTH(P373+COLUMN()-COLUMN(C375)+(ROW()-ROW(C375)-10)*7)=MONTH(L371),DAY(P373+COLUMN()-COLUMN(C375)+(ROW()-ROW(C375)-10)*7),\"\")","v":""},{"$f":"IF(MONTH(P373+COLUMN()-COLUMN(C375)+(ROW()-ROW(C375)-10)*7)=MONTH(L371),DAY(P373+COLUMN()-COLUMN(C375)+(ROW()-ROW(C375)-10)*7),\"\")","v":""},{"$f":"IF(MONTH(P373+COLUMN()-COLUMN(C375)+(ROW()-ROW(C375)-10)*7)=MONTH(L371),DAY(P373+COLUMN()-COLUMN(C375)+(ROW()-ROW(C375)-10)*7),\"\")","v":""},{"$f":"IF(MONTH(P373+COLUMN()-COLUMN(C375)+(ROW()-ROW(C375)-10)*7)=MONTH(L371),DAY(P373+COLUMN()-COLUMN(C375)+(ROW()-ROW(C375)-10)*7),\"\")","v":""}]
[null,{"$f":"B371","v":"2012"},null,null,{"$f":"IF(C390<>\"\",E371+35,IF(I387=\"\",E371+28,E371+35))","v":40938},{"$f":"F371+1","v":2},null,null,{"$f":"TEXT(DATE(B391,F391,1),\"mmmm\")","v":"février"}]
[null,null,"Lundi","Mardi","Mercredi","Jeudi","Vendredi","Samedi","Dimanche"]
[null,{"$f":"IF(C395<>\"\",VLOOKUP(DATE(1900,$F391,C395),$D$3:$F$368,3),\"\")","v":""},null,{"$f":"IF(D395<>\"\",VLOOKUP(DATE(1900,$F391,D395),$D$3:$F$368,3),\"\")","v":""},0,0,0,0,0]
[null,{"$f":"IF(C395<>\"\",VLOOKUP(DATE(1900,$F391,C395),$D$3:$E$368,2),\"\")","v":""},null,{"$f":"IF(D395<>\"\",VLOOKUP(DATE(1900,$F391,D395),$D$3:$E$368,2),\"\")","v":""},"Ste Ella","Prés. du Seigneur","St Blaise","Ste Véronique","Ste Agathe"]
[null,{"$f":"MAX(B390,B387,B384)+(I390<>\"\")+AND(I387=\"\",C387=\"\")+AND(I387<>\"\",C390=\"\")","v":5},{"$f":"IF(MONTH(E391+COLUMN()-COLUMN(C395)+(ROW()-ROW(C395))*7)=F391,DAY(E391+COLUMN()-COLUMN(C395)+(ROW()-ROW(C395))*7),\"\")","v":""},{"$f":"IF(MONTH(E391+COLUMN()-COLUMN(C395)+(ROW()-ROW(C395))*7)=F391,DAY(E391+COLUMN()-COLUMN(C395)+(ROW()-ROW(C395))*7),\"\")","v":""},{"$f":"IF(MONTH(E391+COLUMN()-COLUMN(C395)+(ROW()-ROW(C395))*7)=F391,DAY(E391+COLUMN()-COLUMN(C395)+(ROW()-ROW(C395))*7),\"\")","v":1},{"$f":"IF(MONTH(E391+COLUMN()-COLUMN(C395)+(ROW()-ROW(C395))*7)=F391,DAY(E391+COLUMN()-COLUMN(C395)+(ROW()-ROW(C395))*7),\"\")","v":2},{"$f":"IF(MONTH(E391+COLUMN()-COLUMN(C395)+(ROW()-ROW(C395))*7)=F391,DAY(E391+COLUMN()-COLUMN(C395)+(ROW()-ROW(C395))*7),\"\")","v":3},{"$f":"IF(MONTH(E391+COLUMN()-COLUMN(C395)+(ROW()-ROW(C395))*7)=F391,DAY(E391+COLUMN()-COLUMN(C395)+(ROW()-ROW(C395))*7),\"\")","v":4},{"$f":"IF(MONTH(E391+COLUMN()-COLUMN(C395)+(ROW()-ROW(C395))*7)=F391,DAY(E391+COLUMN()-COLUMN(C395)+(ROW()-ROW(C395))*7),\"\")","v":5}]
[null,{"$f":"IF(C398<>\"\",VLOOKUP(DATE(1900,$F391,C398),$D$3:$F$368,3),\"\")","v":0},null,{"$f":"IF(D398<>\"\",VLOOKUP(DATE(1900,$F391,D398),$D$3:$F$368,3),\"\")","v":0},0,0,0,0,0]
[null,{"$f":"IF(C398<>\"\",VLOOKUP(DATE(1900,$F391,C398),$D$3:$E$368,2),\"\")","v":"St Gaston"},null,{"$f":"IF(D398<>\"\",VLOOKUP(DATE(1900,$F391,D398),$D$3:$E$368,2),\"\")","v":"Ste Eugénie"},"Ste Jacqueline","Ste Apolline","St Arnaud","N.-D. de Lourdes","St Félix"]
[null,{"$f":"(B395+1)-(INT(((B395+1)-1)/$P$374))*$P$374","v":6},{"$f":"IF(MONTH(E391+COLUMN()-COLUMN(C395)+(ROW()-ROW(C395)-2)*7)=F391,DAY(E391+COLUMN()-COLUMN(C395)+(ROW()-ROW(C395)-2)*7),\"\")","v":6},{"$f":"IF(MONTH(E391+COLUMN()-COLUMN(C395)+(ROW()-ROW(C395)-2)*7)=F391,DAY(E391+COLUMN()-COLUMN(C395)+(ROW()-ROW(C395)-2)*7),\"\")","v":7},{"$f":"IF(MONTH(E391+COLUMN()-COLUMN(C395)+(ROW()-ROW(C395)-2)*7)=F391,DAY(E391+COLUMN()-COLUMN(C395)+(ROW()-ROW(C395)-2)*7),\"\")","v":8},{"$f":"IF(MONTH(E391+COLUMN()-COLUMN(C395)+(ROW()-ROW(C395)-2)*7)=F391,DAY(E391+COLUMN()-COLUMN(C395)+(ROW()-ROW(C395)-2)*7),\"\")","v":9},{"$f":"IF(MONTH(E391+COLUMN()-COLUMN(C395)+(ROW()-ROW(C395)-2)*7)=F391,DAY(E391+COLUMN()-COLUMN(C395)+(ROW()-ROW(C395)-2)*7),\"\")","v":10},{"$f":"IF(MONTH(E391+COLUMN()-COLUMN(C395)+(ROW()-ROW(C395)-2)*7)=F391,DAY(E391+COLUMN()-COLUMN(C395)+(ROW()-ROW(C395)-2)*7),\"\")","v":11},{"$f":"IF(MONTH(E391+COLUMN()-COLUMN(C395)+(ROW()-ROW(C395)-2)*7)=F391,DAY(E391+COLUMN()-COLUMN(C395)+(ROW()-ROW(C395)-2)*7),\"\")","v":12}]
[null,{"$f":"IF(C401<>\"\",VLOOKUP(DATE(1900,$F391,C401),$D$3:$F$368,3),\"\")","v":0},null,{"$f":"IF(D401<>\"\",VLOOKUP(DATE(1900,$F391,D401),$D$3:$F$368,3),\"\")","v":0},0,0,"REMY",0,0]
[null,{"$f":"IF(C401<>\"\",VLOOKUP(DATE(1900,$F391,C401),$D$3:$E$368,2),\"\")","v":"Ste Béatrice"},null,{"$f":"IF(D401<>\"\",VLOOKUP(DATE(1900,$F391,D401),$D$3:$E$368,2),\"\")","v":"St Valentin"},"St Claude","Ste Julienne","St Alexis  ","Ste Bernadette","St Gabin"]
[null,{"$f":"B398+1","v":7},{"$f":"IF(MONTH(E391+COLUMN()-COLUMN(C395)+(ROW()-ROW(C395)-4)*7)=F391,DAY(E391+COLUMN()-COLUMN(C395)+(ROW()-ROW(C395)-4)*7),\"\")","v":13},{"$f":"IF(MONTH(E391+COLUMN()-COLUMN(C395)+(ROW()-ROW(C395)-4)*7)=F391,DAY(E391+COLUMN()-COLUMN(C395)+(ROW()-ROW(C395)-4)*7),\"\")","v":14},{"$f":"IF(MONTH(E391+COLUMN()-COLUMN(C395)+(ROW()-ROW(C395)-4)*7)=F391,DAY(E391+COLUMN()-COLUMN(C395)+(ROW()-ROW(C395)-4)*7),\"\")","v":15},{"$f":"IF(MONTH(E391+COLUMN()-COLUMN(C395)+(ROW()-ROW(C395)-4)*7)=F391,DAY(E391+COLUMN()-COLUMN(C395)+(ROW()-ROW(C395)-4)*7),\"\")","v":16},{"$f":"IF(MONTH(E391+COLUMN()-COLUMN(C395)+(ROW()-ROW(C395)-4)*7)=F391,DAY(E391+COLUMN()-COLUMN(C395)+(ROW()-ROW(C395)-4)*7),\"\")","v":17},{"$f":"IF(MONTH(E391+COLUMN()-COLUMN(C395)+(ROW()-ROW(C395)-4)*7)=F391,DAY(E391+COLUMN()-COLUMN(C395)+(ROW()-ROW(C395)-4)*7),\"\")","v":18},{"$f":"IF(MONTH(E391+COLUMN()-COLUMN(C395)+(ROW()-ROW(C395)-4)*7)=F391,DAY(E391+COLUMN()-COLUMN(C395)+(ROW()-ROW(C395)-4)*7),\"\")","v":19}]
[null,{"$f":"IF(C404<>\"\",VLOOKUP(DATE(1900,$F391,C404),$D$3:$F$368,3),\"\")","v":0},null,{"$f":"IF(D404<>\"\",VLOOKUP(DATE(1900,$F391,D404),$D$3:$F$368,3),\"\")","v":0},0,0,0,0,0]
[null,{"$f":"IF(C404<>\"\",VLOOKUP(DATE(1900,$F391,C404),$D$3:$E$368,2),\"\")","v":"Ste Aimée"},null,{"$f":"IF(D404<>\"\",VLOOKUP(DATE(1900,$F391,D404),$D$3:$E$368,2),\"\")","v":"St P. Damien"},"Ste Isabelle","St Lazare","St Modeste","St Roméo","St Nestor"]
[null,{"$f":"B401+1","v":8},{"$f":"IF(MONTH(E391+COLUMN()-COLUMN(C395)+(ROW()-ROW(C395)-6)*7)=F391,DAY(E391+COLUMN()-COLUMN(C395)+(ROW()-ROW(C395)-6)*7),\"\")","v":20},{"$f":"IF(MONTH(E391+COLUMN()-COLUMN(C395)+(ROW()-ROW(C395)-6)*7)=F391,DAY(E391+COLUMN()-COLUMN(C395)+(ROW()-ROW(C395)-6)*7),\"\")","v":21},{"$f":"IF(MONTH(E391+COLUMN()-COLUMN(C395)+(ROW()-ROW(C395)-6)*7)=F391,DAY(E391+COLUMN()-COLUMN(C395)+(ROW()-ROW(C395)-6)*7),\"\")","v":22},{"$f":"IF(MONTH(E391+COLUMN()-COLUMN(C395)+(ROW()-ROW(C395)-6)*7)=F391,DAY(E391+COLUMN()-COLUMN(C395)+(ROW()-ROW(C395)-6)*7),\"\")","v":23},{"$f":"IF(MONTH(E391+COLUMN()-COLUMN(C395)+(ROW()-ROW(C395)-6)*7)=F391,DAY(E391+COLUMN()-COLUMN(C395)+(ROW()-ROW(C395)-6)*7),\"\")","v":24},{"$f":"IF(MONTH(E391+COLUMN()-COLUMN(C395)+(ROW()-ROW(C395)-6)*7)=F391,DAY(E391+COLUMN()-COLUMN(C395)+(ROW()-ROW(C395)-6)*7),\"\")","v":25},{"$f":"IF(MONTH(E391+COLUMN()-COLUMN(C395)+(ROW()-ROW(C395)-6)*7)=F391,DAY(E391+COLUMN()-COLUMN(C395)+(ROW()-ROW(C395)-6)*7),\"\")","v":26}]
[null,{"$f":"IF(C407<>\"\",VLOOKUP(DATE(1900,$F391,C407),$D$3:$F$368,3),\"\")","v":0},null,{"$f":"IF(D407<>\"\",VLOOKUP(DATE(1900,$F391,D407),$D$3:$F$368,3),\"\")","v":0},0,"","","",""]
[null,{"$f":"IF(C407<>\"\",VLOOKUP(DATE(1900,$F391,C407),$D$3:$E$368,2),\"\")","v":"St Honorine"},null,{"$f":"IF(D407<>\"\",VLOOKUP(DATE(1900,$F391,D407),$D$3:$E$368,2),\"\")","v":"St Romain"},"St Auguste","","","",""]
[null,{"$f":"IF(C407=\"\",\"\",IF(B404=H389,1,B404+1))","v":9},{"$f":"IF(MONTH(E391+COLUMN()-COLUMN(C395)+(ROW()-ROW(C395)-8)*7)=F391,DAY(E391+COLUMN()-COLUMN(C395)+(ROW()-ROW(C395)-8)*7),\"\")","v":27},{"$f":"IF(MONTH(E391+COLUMN()-COLUMN(C395)+(ROW()-ROW(C395)-8)*7)=F391,DAY(E391+COLUMN()-COLUMN(C395)+(ROW()-ROW(C395)-8)*7),\"\")","v":28},{"$f":"IF(MONTH(E391+COLUMN()-COLUMN(C395)+(ROW()-ROW(C395)-8)*7)=F391,DAY(E391+COLUMN()-COLUMN(C395)+(ROW()-ROW(C395)-8)*7),\"\")","v":29},{"$f":"IF(MONTH(E391+COLUMN()-COLUMN(C395)+(ROW()-ROW(C395)-8)*7)=F391,DAY(E391+COLUMN()-COLUMN(C395)+(ROW()-ROW(C395)-8)*7),\"\")","v":""},{"$f":"IF(MONTH(E391+COLUMN()-COLUMN(C395)+(ROW()-ROW(C395)-8)*7)=F391,DAY(E391+COLUMN()-COLUMN(C395)+(ROW()-ROW(C395)-8)*7),\"\")","v":""},{"$f":"IF(MONTH(E391+COLUMN()-COLUMN(C395)+(ROW()-ROW(C395)-8)*7)=F391,DAY(E391+COLUMN()-COLUMN(C395)+(ROW()-ROW(C395)-8)*7),\"\")","v":""},{"$f":"IF(MONTH(E391+COLUMN()-COLUMN(C395)+(ROW()-ROW(C395)-8)*7)=F391,DAY(E391+COLUMN()-COLUMN(C395)+(ROW()-ROW(C395)-8)*7),\"\")","v":""}]
[]
[null,{"$f":"IF(C410<>\"\",VLOOKUP(DATE(1900,$F391,C410),$D$3:$E$368,2),\"\")","v":""},null,{"$f":"IF(D410<>\"\",VLOOKUP(DATE(1900,$F391,D410),$D$3:$E$368,2),\"\")","v":""},"","","","",""]
[null,{"$f":"IF(C410=\"\",\"\",IF(B407=H389,1,B407+1))","v":""},{"$f":"IF(MONTH(E391+COLUMN()-COLUMN(C395)+(ROW()-ROW(C395)-10)*7)=F391,DAY(E391+COLUMN()-COLUMN(C395)+(ROW()-ROW(C395)-10)*7),\"\")","v":""},{"$f":"IF(MONTH(E391+COLUMN()-COLUMN(C395)+(ROW()-ROW(C395)-10)*7)=F391,DAY(E391+COLUMN()-COLUMN(C395)+(ROW()-ROW(C395)-10)*7),\"\")","v":""},{"$f":"IF(MONTH(E391+COLUMN()-COLUMN(C395)+(ROW()-ROW(C395)-10)*7)=F391,DAY(E391+COLUMN()-COLUMN(C395)+(ROW()-ROW(C395)-10)*7),\"\")","v":""},{"$f":"IF(MONTH(E391+COLUMN()-COLUMN(C395)+(ROW()-ROW(C395)-10)*7)=F391,DAY(E391+COLUMN()-COLUMN(C395)+(ROW()-ROW(C395)-10)*7),\"\")","v":""},{"$f":"IF(MONTH(E391+COLUMN()-COLUMN(C395)+(ROW()-ROW(C395)-10)*7)=F391,DAY(E391+COLUMN()-COLUMN(C395)+(ROW()-ROW(C395)-10)*7),\"\")","v":""},{"$f":"IF(MONTH(E391+COLUMN()-COLUMN(C395)+(ROW()-ROW(C395)-10)*7)=F391,DAY(E391+COLUMN()-COLUMN(C395)+(ROW()-ROW(C395)-10)*7),\"\")","v":""},{"$f":"IF(MONTH(E391+COLUMN()-COLUMN(C395)+(ROW()-ROW(C395)-10)*7)=F391,DAY(E391+COLUMN()-COLUMN(C395)+(ROW()-ROW(C395)-10)*7),\"\")","v":""}]
[null,{"$f":"B391","v":"2012"},null,null,{"$f":"IF(C410<>\"\",E391+35,IF(I407=\"\",E391+28,E391+35))","v":40966},{"$f":"F391+1","v":3},null,null,{"$f":"TEXT(DATE(B411,F411,1),\"mmmm\")","v":"mars"}]
[null,null,"Lundi","Mardi","Mercredi","Jeudi","Vendredi","Samedi","Dimanche"]
[null,{"$f":"IF(C415<>\"\",VLOOKUP(DATE(1900,$F411,C415),$D$3:$F$368,3),\"\")","v":""},null,{"$f":"IF(D415<>\"\",VLOOKUP(DATE(1900,$F411,D415),$D$3:$F$368,3),\"\")","v":""},"",0,0,0,0]
[null,{"$f":"IF(C415<>\"\",VLOOKUP(DATE(1900,$F411,C415),$D$3:$E$368,2),\"\")","v":""},null,{"$f":"IF(D415<>\"\",VLOOKUP(DATE(1900,$F411,D415),$D$3:$E$368,2),\"\")","v":""},"","St Aubin","St Charles le Bon","St Gwénolé","St Casimir"]
[null,{"$f":"MAX(B410,B407,B404)+(I410<>\"\")+AND(I407=\"\",C407=\"\")+AND(I407<>\"\",C410=\"\")","v":9},{"$f":"IF(MONTH(E411+COLUMN()-COLUMN(C415)+(ROW()-ROW(C415))*7)=F411,DAY(E411+COLUMN()-COLUMN(C415)+(ROW()-ROW(C415))*7),\"\")","v":""},{"$f":"IF(MONTH(E411+COLUMN()-COLUMN(C415)+(ROW()-ROW(C415))*7)=F411,DAY(E411+COLUMN()-COLUMN(C415)+(ROW()-ROW(C415))*7),\"\")","v":""},{"$f":"IF(MONTH(E411+COLUMN()-COLUMN(C415)+(ROW()-ROW(C415))*7)=F411,DAY(E411+COLUMN()-COLUMN(C415)+(ROW()-ROW(C415))*7),\"\")","v":""},{"$f":"IF(MONTH(E411+COLUMN()-COLUMN(C415)+(ROW()-ROW(C415))*7)=F411,DAY(E411+COLUMN()-COLUMN(C415)+(ROW()-ROW(C415))*7),\"\")","v":1},{"$f":"IF(MONTH(E411+COLUMN()-COLUMN(C415)+(ROW()-ROW(C415))*7)=F411,DAY(E411+COLUMN()-COLUMN(C415)+(ROW()-ROW(C415))*7),\"\")","v":2},{"$f":"IF(MONTH(E411+COLUMN()-COLUMN(C415)+(ROW()-ROW(C415))*7)=F411,DAY(E411+COLUMN()-COLUMN(C415)+(ROW()-ROW(C415))*7),\"\")","v":3},{"$f":"IF(MONTH(E411+COLUMN()-COLUMN(C415)+(ROW()-ROW(C415))*7)=F411,DAY(E411+COLUMN()-COLUMN(C415)+(ROW()-ROW(C415))*7),\"\")","v":4}]
[null,{"$f":"IF(C418<>\"\",VLOOKUP(DATE(1900,$F411,C418),$D$3:$F$368,3),\"\")","v":0},null,{"$f":"IF(D418<>\"\",VLOOKUP(DATE(1900,$F411,D418),$D$3:$F$368,3),\"\")","v":0},0,0,0,0,0]
[null,{"$f":"IF(C418<>\"\",VLOOKUP(DATE(1900,$F411,C418),$D$3:$E$368,2),\"\")","v":"Ste Olivia"},null,{"$f":"IF(D418<>\"\",VLOOKUP(DATE(1900,$F411,D418),$D$3:$E$368,2),\"\")","v":"Ste Colette"},"Ste Félicité","St Jean-de-Dieu","Ste Françoise R.","St Vivien","Ste Rosine"]
[null,{"$f":"(B415+1)-(INT(((B415+1)-1)/$P$374))*$P$374","v":10},{"$f":"IF(MONTH(E411+COLUMN()-COLUMN(C415)+(ROW()-ROW(C415)-2)*7)=F411,DAY(E411+COLUMN()-COLUMN(C415)+(ROW()-ROW(C415)-2)*7),\"\")","v":5},{"$f":"IF(MONTH(E411+COLUMN()-COLUMN(C415)+(ROW()-ROW(C415)-2)*7)=F411,DAY(E411+COLUMN()-COLUMN(C415)+(ROW()-ROW(C415)-2)*7),\"\")","v":6},{"$f":"IF(MONTH(E411+COLUMN()-COLUMN(C415)+(ROW()-ROW(C415)-2)*7)=F411,DAY(E411+COLUMN()-COLUMN(C415)+(ROW()-ROW(C415)-2)*7),\"\")","v":7},{"$f":"IF(MONTH(E411+COLUMN()-COLUMN(C415)+(ROW()-ROW(C415)-2)*7)=F411,DAY(E411+COLUMN()-COLUMN(C415)+(ROW()-ROW(C415)-2)*7),\"\")","v":8},{"$f":"IF(MONTH(E411+COLUMN()-COLUMN(C415)+(ROW()-ROW(C415)-2)*7)=F411,DAY(E411+COLUMN()-COLUMN(C415)+(ROW()-ROW(C415)-2)*7),\"\")","v":9},{"$f":"IF(MONTH(E411+COLUMN()-COLUMN(C415)+(ROW()-ROW(C415)-2)*7)=F411,DAY(E411+COLUMN()-COLUMN(C415)+(ROW()-ROW(C415)-2)*7),\"\")","v":10},{"$f":"IF(MONTH(E411+COLUMN()-COLUMN(C415)+(ROW()-ROW(C415)-2)*7)=F411,DAY(E411+COLUMN()-COLUMN(C415)+(ROW()-ROW(C415)-2)*7),\"\")","v":11}]
[null,{"$f":"IF(C421<>\"\",VLOOKUP(DATE(1900,$F411,C421),$D$3:$F$368,3),\"\")","v":0},null,{"$f":"IF(D421<>\"\",VLOOKUP(DATE(1900,$F411,D421),$D$3:$F$368,3),\"\")","v":0},0,"JEAN CLAUDE",0,0,0]
[null,{"$f":"IF(C421<>\"\",VLOOKUP(DATE(1900,$F411,C421),$D$3:$E$368,2),\"\")","v":"Ste Justine"},null,{"$f":"IF(D421<>\"\",VLOOKUP(DATE(1900,$F411,D421),$D$3:$E$368,2),\"\")","v":"St Rodrigue"},"Ste Mathilde","Ste Louise M. ","Ste Bénédicte","St Patrice","St Cyrille"]
[null,{"$f":"B418+1","v":11},{"$f":"IF(MONTH(E411+COLUMN()-COLUMN(C415)+(ROW()-ROW(C415)-4)*7)=F411,DAY(E411+COLUMN()-COLUMN(C415)+(ROW()-ROW(C415)-4)*7),\"\")","v":12},{"$f":"IF(MONTH(E411+COLUMN()-COLUMN(C415)+(ROW()-ROW(C415)-4)*7)=F411,DAY(E411+COLUMN()-COLUMN(C415)+(ROW()-ROW(C415)-4)*7),\"\")","v":13},{"$f":"IF(MONTH(E411+COLUMN()-COLUMN(C415)+(ROW()-ROW(C415)-4)*7)=F411,DAY(E411+COLUMN()-COLUMN(C415)+(ROW()-ROW(C415)-4)*7),\"\")","v":14},{"$f":"IF(MONTH(E411+COLUMN()-COLUMN(C415)+(ROW()-ROW(C415)-4)*7)=F411,DAY(E411+COLUMN()-COLUMN(C415)+(ROW()-ROW(C415)-4)*7),\"\")","v":15},{"$f":"IF(MONTH(E411+COLUMN()-COLUMN(C415)+(ROW()-ROW(C415)-4)*7)=F411,DAY(E411+COLUMN()-COLUMN(C415)+(ROW()-ROW(C415)-4)*7),\"\")","v":16},{"$f":"IF(MONTH(E411+COLUMN()-COLUMN(C415)+(ROW()-ROW(C415)-4)*7)=F411,DAY(E411+COLUMN()-COLUMN(C415)+(ROW()-ROW(C415)-4)*7),\"\")","v":17},{"$f":"IF(MONTH(E411+COLUMN()-COLUMN(C415)+(ROW()-ROW(C415)-4)*7)=F411,DAY(E411+COLUMN()-COLUMN(C415)+(ROW()-ROW(C415)-4)*7),\"\")","v":18}]
[null,{"$f":"IF(C424<>\"\",VLOOKUP(DATE(1900,$F411,C424),$D$3:$F$368,3),\"\")","v":0},null,{"$f":"IF(D424<>\"\",VLOOKUP(DATE(1900,$F411,D424),$D$3:$F$368,3),\"\")","v":"ALEXANDRE"},"PAPA",0,0,0,0]
[null,{"$f":"IF(C424<>\"\",VLOOKUP(DATE(1900,$F411,C424),$D$3:$E$368,2),\"\")","v":"St Joseph"},null,{"$f":"IF(D424<>\"\",VLOOKUP(DATE(1900,$F411,D424),$D$3:$E$368,2),\"\")","v":"Printemps "},"Ste Clémence","Ste Léa","St Victorien ","Ste Catherine","Annonciation"]
[null,{"$f":"B421+1","v":12},{"$f":"IF(MONTH(E411+COLUMN()-COLUMN(C415)+(ROW()-ROW(C415)-6)*7)=F411,DAY(E411+COLUMN()-COLUMN(C415)+(ROW()-ROW(C415)-6)*7),\"\")","v":19},{"$f":"IF(MONTH(E411+COLUMN()-COLUMN(C415)+(ROW()-ROW(C415)-6)*7)=F411,DAY(E411+COLUMN()-COLUMN(C415)+(ROW()-ROW(C415)-6)*7),\"\")","v":20},{"$f":"IF(MONTH(E411+COLUMN()-COLUMN(C415)+(ROW()-ROW(C415)-6)*7)=F411,DAY(E411+COLUMN()-COLUMN(C415)+(ROW()-ROW(C415)-6)*7),\"\")","v":21},{"$f":"IF(MONTH(E411+COLUMN()-COLUMN(C415)+(ROW()-ROW(C415)-6)*7)=F411,DAY(E411+COLUMN()-COLUMN(C415)+(ROW()-ROW(C415)-6)*7),\"\")","v":22},{"$f":"IF(MONTH(E411+COLUMN()-COLUMN(C415)+(ROW()-ROW(C415)-6)*7)=F411,DAY(E411+COLUMN()-COLUMN(C415)+(ROW()-ROW(C415)-6)*7),\"\")","v":23},{"$f":"IF(MONTH(E411+COLUMN()-COLUMN(C415)+(ROW()-ROW(C415)-6)*7)=F411,DAY(E411+COLUMN()-COLUMN(C415)+(ROW()-ROW(C415)-6)*7),\"\")","v":24},{"$f":"IF(MONTH(E411+COLUMN()-COLUMN(C415)+(ROW()-ROW(C415)-6)*7)=F411,DAY(E411+COLUMN()-COLUMN(C415)+(ROW()-ROW(C415)-6)*7),\"\")","v":25}]
[null,{"$f":"IF(C427<>\"\",VLOOKUP(DATE(1900,$F411,C427),$D$3:$F$368,3),\"\")","v":0},null,{"$f":"IF(D427<>\"\",VLOOKUP(DATE(1900,$F411,D427),$D$3:$F$368,3),\"\")","v":0},0,0,0,0,""]
[null,{"$f":"IF(C427<>\"\",VLOOKUP(DATE(1900,$F411,C427),$D$3:$E$368,2),\"\")","v":"Ste Larissa"},null,{"$f":"IF(D427<>\"\",VLOOKUP(DATE(1900,$F411,D427),$D$3:$E$368,2),\"\")","v":"St Habib"},"St Gontran","Ste Gwladys","St Amédée","St Benjamin",""]
[null,{"$f":"IF(C427=\"\",\"\",IF(B424=H409,1,B424+1))","v":13},{"$f":"IF(MONTH(E411+COLUMN()-COLUMN(C415)+(ROW()-ROW(C415)-8)*7)=F411,DAY(E411+COLUMN()-COLUMN(C415)+(ROW()-ROW(C415)-8)*7),\"\")","v":26},{"$f":"IF(MONTH(E411+COLUMN()-COLUMN(C415)+(ROW()-ROW(C415)-8)*7)=F411,DAY(E411+COLUMN()-COLUMN(C415)+(ROW()-ROW(C415)-8)*7),\"\")","v":27},{"$f":"IF(MONTH(E411+COLUMN()-COLUMN(C415)+(ROW()-ROW(C415)-8)*7)=F411,DAY(E411+COLUMN()-COLUMN(C415)+(ROW()-ROW(C415)-8)*7),\"\")","v":28},{"$f":"IF(MONTH(E411+COLUMN()-COLUMN(C415)+(ROW()-ROW(C415)-8)*7)=F411,DAY(E411+COLUMN()-COLUMN(C415)+(ROW()-ROW(C415)-8)*7),\"\")","v":29},{"$f":"IF(MONTH(E411+COLUMN()-COLUMN(C415)+(ROW()-ROW(C415)-8)*7)=F411,DAY(E411+COLUMN()-COLUMN(C415)+(ROW()-ROW(C415)-8)*7),\"\")","v":30},{"$f":"IF(MONTH(E411+COLUMN()-COLUMN(C415)+(ROW()-ROW(C415)-8)*7)=F411,DAY(E411+COLUMN()-COLUMN(C415)+(ROW()-ROW(C415)-8)*7),\"\")","v":31},{"$f":"IF(MONTH(E411+COLUMN()-COLUMN(C415)+(ROW()-ROW(C415)-8)*7)=F411,DAY(E411+COLUMN()-COLUMN(C415)+(ROW()-ROW(C415)-8)*7),\"\")","v":""}]
[null,{"$f":"IF(C430<>\"\",VLOOKUP(DATE(1900,$F411,C430),$D$3:$F$368,3),\"\")","v":""},null,{"$f":"IF(D430<>\"\",VLOOKUP(DATE(1900,$F411,D430),$D$3:$F$368,3),\"\")","v":""}]
[null,{"$f":"IF(C430<>\"\",VLOOKUP(DATE(1900,$F411,C430),$D$3:$E$368,2),\"\")","v":""},null,{"$f":"IF(D430<>\"\",VLOOKUP(DATE(1900,$F411,D430),$D$3:$E$368,2),\"\")","v":""},"","","","",""]
[null,{"$f":"IF(C430=\"\",\"\",IF(B427=H409,1,B427+1))","v":""},{"$f":"IF(MONTH(E411+COLUMN()-COLUMN(C415)+(ROW()-ROW(C415)-10)*7)=F411,DAY(E411+COLUMN()-COLUMN(C415)+(ROW()-ROW(C415)-10)*7),\"\")","v":""},{"$f":"IF(MONTH(E411+COLUMN()-COLUMN(C415)+(ROW()-ROW(C415)-10)*7)=F411,DAY(E411+COLUMN()-COLUMN(C415)+(ROW()-ROW(C415)-10)*7),\"\")","v":""},{"$f":"IF(MONTH(E411+COLUMN()-COLUMN(C415)+(ROW()-ROW(C415)-10)*7)=F411,DAY(E411+COLUMN()-COLUMN(C415)+(ROW()-ROW(C415)-10)*7),\"\")","v":""},{"$f":"IF(MONTH(E411+COLUMN()-COLUMN(C415)+(ROW()-ROW(C415)-10)*7)=F411,DAY(E411+COLUMN()-COLUMN(C415)+(ROW()-ROW(C415)-10)*7),\"\")","v":""},{"$f":"IF(MONTH(E411+COLUMN()-COLUMN(C415)+(ROW()-ROW(C415)-10)*7)=F411,DAY(E411+COLUMN()-COLUMN(C415)+(ROW()-ROW(C415)-10)*7),\"\")","v":""},{"$f":"IF(MONTH(E411+COLUMN()-COLUMN(C415)+(ROW()-ROW(C415)-10)*7)=F411,DAY(E411+COLUMN()-COLUMN(C415)+(ROW()-ROW(C415)-10)*7),\"\")","v":""},{"$f":"IF(MONTH(E411+COLUMN()-COLUMN(C415)+(ROW()-ROW(C415)-10)*7)=F411,DAY(E411+COLUMN()-COLUMN(C415)+(ROW()-ROW(C415)-10)*7),\"\")","v":""}]
[null,{"$f":"B411","v":"2012"},null,null,{"$f":"IF(C430<>\"\",E411+35,IF(I427=\"\",E411+28,E411+35))","v":40994},{"$f":"F411+1","v":4},null,null,{"$f":"TEXT(DATE(B431,F431,1),\"mmmm\")","v":"avril"}]
[null,null,"Lundi","Mardi","Mercredi","Jeudi","Vendredi","Samedi","Dimanche"]
[null,{"$f":"IF(C435<>\"\",VLOOKUP(DATE(1900,$F431,C435),$D$3:$F$368,3),\"\")","v":""},null,{"$f":"IF(D435<>\"\",VLOOKUP(DATE(1900,$F431,D435),$D$3:$F$368,3),\"\")","v":""},"","","","",0]
[null,{"$f":"IF(C435<>\"\",VLOOKUP(DATE(1900,$F431,C435),$D$3:$E$368,2),\"\")","v":""},null,{"$f":"IF(D435<>\"\",VLOOKUP(DATE(1900,$F431,D435),$D$3:$E$368,2),\"\")","v":""},"","","","","St Hugues"]
[null,{"$f":"MAX(B430,B427,B424)+(I430<>\"\")+AND(I427=\"\",C427=\"\")+AND(I427<>\"\",C430=\"\")","v":13},{"$f":"IF(MONTH(E431+COLUMN()-COLUMN(C435)+(ROW()-ROW(C435))*7)=F431,DAY(E431+COLUMN()-COLUMN(C435)+(ROW()-ROW(C435))*7),\"\")","v":""},{"$f":"IF(MONTH(E431+COLUMN()-COLUMN(C435)+(ROW()-ROW(C435))*7)=F431,DAY(E431+COLUMN()-COLUMN(C435)+(ROW()-ROW(C435))*7),\"\")","v":""},{"$f":"IF(MONTH(E431+COLUMN()-COLUMN(C435)+(ROW()-ROW(C435))*7)=F431,DAY(E431+COLUMN()-COLUMN(C435)+(ROW()-ROW(C435))*7),\"\")","v":""},{"$f":"IF(MONTH(E431+COLUMN()-COLUMN(C435)+(ROW()-ROW(C435))*7)=F431,DAY(E431+COLUMN()-COLUMN(C435)+(ROW()-ROW(C435))*7),\"\")","v":""},{"$f":"IF(MONTH(E431+COLUMN()-COLUMN(C435)+(ROW()-ROW(C435))*7)=F431,DAY(E431+COLUMN()-COLUMN(C435)+(ROW()-ROW(C435))*7),\"\")","v":""},{"$f":"IF(MONTH(E431+COLUMN()-COLUMN(C435)+(ROW()-ROW(C435))*7)=F431,DAY(E431+COLUMN()-COLUMN(C435)+(ROW()-ROW(C435))*7),\"\")","v":""},{"$f":"IF(MONTH(E431+COLUMN()-COLUMN(C435)+(ROW()-ROW(C435))*7)=F431,DAY(E431+COLUMN()-COLUMN(C435)+(ROW()-ROW(C435))*7),\"\")","v":1}]
[null,{"$f":"IF(C438<>\"\",VLOOKUP(DATE(1900,$F431,C438),$D$3:$F$368,3),\"\")","v":0},null,{"$f":"IF(D438<>\"\",VLOOKUP(DATE(1900,$F431,D438),$D$3:$F$368,3),\"\")","v":0},0,0,0,0,0]
[null,{"$f":"IF(C438<>\"\",VLOOKUP(DATE(1900,$F431,C438),$D$3:$E$368,2),\"\")","v":"Ste Sandrine"},null,{"$f":"IF(D438<>\"\",VLOOKUP(DATE(1900,$F431,D438),$D$3:$E$368,2),\"\")","v":"St Richard"},"St Isidore","Ste  Irène","St Marcellin","St J.-B. de Salle","Ste Julie"]
[null,{"$f":"(B435+1)-(INT(((B435+1)-1)/$P$374))*$P$374","v":14},{"$f":"IF(MONTH(E431+COLUMN()-COLUMN(C435)+(ROW()-ROW(C435)-2)*7)=F431,DAY(E431+COLUMN()-COLUMN(C435)+(ROW()-ROW(C435)-2)*7),\"\")","v":2},{"$f":"IF(MONTH(E431+COLUMN()-COLUMN(C435)+(ROW()-ROW(C435)-2)*7)=F431,DAY(E431+COLUMN()-COLUMN(C435)+(ROW()-ROW(C435)-2)*7),\"\")","v":3},{"$f":"IF(MONTH(E431+COLUMN()-COLUMN(C435)+(ROW()-ROW(C435)-2)*7)=F431,DAY(E431+COLUMN()-COLUMN(C435)+(ROW()-ROW(C435)-2)*7),\"\")","v":4},{"$f":"IF(MONTH(E431+COLUMN()-COLUMN(C435)+(ROW()-ROW(C435)-2)*7)=F431,DAY(E431+COLUMN()-COLUMN(C435)+(ROW()-ROW(C435)-2)*7),\"\")","v":5},{"$f":"IF(MONTH(E431+COLUMN()-COLUMN(C435)+(ROW()-ROW(C435)-2)*7)=F431,DAY(E431+COLUMN()-COLUMN(C435)+(ROW()-ROW(C435)-2)*7),\"\")","v":6},{"$f":"IF(MONTH(E431+COLUMN()-COLUMN(C435)+(ROW()-ROW(C435)-2)*7)=F431,DAY(E431+COLUMN()-COLUMN(C435)+(ROW()-ROW(C435)-2)*7),\"\")","v":7},{"$f":"IF(MONTH(E431+COLUMN()-COLUMN(C435)+(ROW()-ROW(C435)-2)*7)=F431,DAY(E431+COLUMN()-COLUMN(C435)+(ROW()-ROW(C435)-2)*7),\"\")","v":8}]
[null,{"$f":"IF(C441<>\"\",VLOOKUP(DATE(1900,$F431,C441),$D$3:$F$368,3),\"\")","v":0},null,{"$f":"IF(D441<>\"\",VLOOKUP(DATE(1900,$F431,D441),$D$3:$F$368,3),\"\")","v":0},0,0,0,0,0]
[null,{"$f":"IF(C441<>\"\",VLOOKUP(DATE(1900,$F431,C441),$D$3:$E$368,2),\"\")","v":"St Gautier"},null,{"$f":"IF(D441<>\"\",VLOOKUP(DATE(1900,$F431,D441),$D$3:$E$368,2),\"\")","v":"St Fulbert"},"St Stanislas","St Jules","Ste Ida","St Maxime","St Paterne"]
[null,{"$f":"B438+1","v":15},{"$f":"IF(MONTH(E431+COLUMN()-COLUMN(C435)+(ROW()-ROW(C435)-4)*7)=F431,DAY(E431+COLUMN()-COLUMN(C435)+(ROW()-ROW(C435)-4)*7),\"\")","v":9},{"$f":"IF(MONTH(E431+COLUMN()-COLUMN(C435)+(ROW()-ROW(C435)-4)*7)=F431,DAY(E431+COLUMN()-COLUMN(C435)+(ROW()-ROW(C435)-4)*7),\"\")","v":10},{"$f":"IF(MONTH(E431+COLUMN()-COLUMN(C435)+(ROW()-ROW(C435)-4)*7)=F431,DAY(E431+COLUMN()-COLUMN(C435)+(ROW()-ROW(C435)-4)*7),\"\")","v":11},{"$f":"IF(MONTH(E431+COLUMN()-COLUMN(C435)+(ROW()-ROW(C435)-4)*7)=F431,DAY(E431+COLUMN()-COLUMN(C435)+(ROW()-ROW(C435)-4)*7),\"\")","v":12},{"$f":"IF(MONTH(E431+COLUMN()-COLUMN(C435)+(ROW()-ROW(C435)-4)*7)=F431,DAY(E431+COLUMN()-COLUMN(C435)+(ROW()-ROW(C435)-4)*7),\"\")","v":13},{"$f":"IF(MONTH(E431+COLUMN()-COLUMN(C435)+(ROW()-ROW(C435)-4)*7)=F431,DAY(E431+COLUMN()-COLUMN(C435)+(ROW()-ROW(C435)-4)*7),\"\")","v":14},{"$f":"IF(MONTH(E431+COLUMN()-COLUMN(C435)+(ROW()-ROW(C435)-4)*7)=F431,DAY(E431+COLUMN()-COLUMN(C435)+(ROW()-ROW(C435)-4)*7),\"\")","v":15}]
[null,{"$f":"IF(C444<>\"\",VLOOKUP(DATE(1900,$F431,C444),$D$3:$F$368,3),\"\")","v":0},null,{"$f":"IF(D444<>\"\",VLOOKUP(DATE(1900,$F431,D444),$D$3:$F$368,3),\"\")","v":0},0,0,0,0,0]
[null,{"$f":"IF(C444<>\"\",VLOOKUP(DATE(1900,$F431,C444),$D$3:$E$368,2),\"\")","v":"St Benoît-Joseph"},null,{"$f":"IF(D444<>\"\",VLOOKUP(DATE(1900,$F431,D444),$D$3:$E$368,2),\"\")","v":"St Et. Harding"},"St Parfait","Ste Emma","Ste Odette","St Anselme","St Alexandre"]
[null,{"$f":"B441+1","v":16},{"$f":"IF(MONTH(E431+COLUMN()-COLUMN(C435)+(ROW()-ROW(C435)-6)*7)=F431,DAY(E431+COLUMN()-COLUMN(C435)+(ROW()-ROW(C435)-6)*7),\"\")","v":16},{"$f":"IF(MONTH(E431+COLUMN()-COLUMN(C435)+(ROW()-ROW(C435)-6)*7)=F431,DAY(E431+COLUMN()-COLUMN(C435)+(ROW()-ROW(C435)-6)*7),\"\")","v":17},{"$f":"IF(MONTH(E431+COLUMN()-COLUMN(C435)+(ROW()-ROW(C435)-6)*7)=F431,DAY(E431+COLUMN()-COLUMN(C435)+(ROW()-ROW(C435)-6)*7),\"\")","v":18},{"$f":"IF(MONTH(E431+COLUMN()-COLUMN(C435)+(ROW()-ROW(C435)-6)*7)=F431,DAY(E431+COLUMN()-COLUMN(C435)+(ROW()-ROW(C435)-6)*7),\"\")","v":19},{"$f":"IF(MONTH(E431+COLUMN()-COLUMN(C435)+(ROW()-ROW(C435)-6)*7)=F431,DAY(E431+COLUMN()-COLUMN(C435)+(ROW()-ROW(C435)-6)*7),\"\")","v":20},{"$f":"IF(MONTH(E431+COLUMN()-COLUMN(C435)+(ROW()-ROW(C435)-6)*7)=F431,DAY(E431+COLUMN()-COLUMN(C435)+(ROW()-ROW(C435)-6)*7),\"\")","v":21},{"$f":"IF(MONTH(E431+COLUMN()-COLUMN(C435)+(ROW()-ROW(C435)-6)*7)=F431,DAY(E431+COLUMN()-COLUMN(C435)+(ROW()-ROW(C435)-6)*7),\"\")","v":22}]
[null,{"$f":"IF(C447<>\"\",VLOOKUP(DATE(1900,$F431,C447),$D$3:$F$368,3),\"\")","v":0},null,{"$f":"IF(D447<>\"\",VLOOKUP(DATE(1900,$F431,D447),$D$3:$F$368,3),\"\")","v":0},0,0,0,0,0]
[null,{"$f":"IF(C447<>\"\",VLOOKUP(DATE(1900,$F431,C447),$D$3:$E$368,2),\"\")","v":"St Georges"},null,{"$f":"IF(D447<>\"\",VLOOKUP(DATE(1900,$F431,D447),$D$3:$E$368,2),\"\")","v":"St Fidèle"},"Souvenir Déportés","Ste Alida","Ste Zita","Ste Valérie","Ste C. de Sienne"]
[null,{"$f":"IF(C447=\"\",\"\",IF(B444=H429,1,B444+1))","v":17},{"$f":"IF(MONTH(E431+COLUMN()-COLUMN(C435)+(ROW()-ROW(C435)-8)*7)=F431,DAY(E431+COLUMN()-COLUMN(C435)+(ROW()-ROW(C435)-8)*7),\"\")","v":23},{"$f":"IF(MONTH(E431+COLUMN()-COLUMN(C435)+(ROW()-ROW(C435)-8)*7)=F431,DAY(E431+COLUMN()-COLUMN(C435)+(ROW()-ROW(C435)-8)*7),\"\")","v":24},{"$f":"IF(MONTH(E431+COLUMN()-COLUMN(C435)+(ROW()-ROW(C435)-8)*7)=F431,DAY(E431+COLUMN()-COLUMN(C435)+(ROW()-ROW(C435)-8)*7),\"\")","v":25},{"$f":"IF(MONTH(E431+COLUMN()-COLUMN(C435)+(ROW()-ROW(C435)-8)*7)=F431,DAY(E431+COLUMN()-COLUMN(C435)+(ROW()-ROW(C435)-8)*7),\"\")","v":26},{"$f":"IF(MONTH(E431+COLUMN()-COLUMN(C435)+(ROW()-ROW(C435)-8)*7)=F431,DAY(E431+COLUMN()-COLUMN(C435)+(ROW()-ROW(C435)-8)*7),\"\")","v":27},{"$f":"IF(MONTH(E431+COLUMN()-COLUMN(C435)+(ROW()-ROW(C435)-8)*7)=F431,DAY(E431+COLUMN()-COLUMN(C435)+(ROW()-ROW(C435)-8)*7),\"\")","v":28},{"$f":"IF(MONTH(E431+COLUMN()-COLUMN(C435)+(ROW()-ROW(C435)-8)*7)=F431,DAY(E431+COLUMN()-COLUMN(C435)+(ROW()-ROW(C435)-8)*7),\"\")","v":29}]
[null,{"$f":"IF(C450<>\"\",VLOOKUP(DATE(1900,$F431,C450),$D$3:$F$368,3),\"\")","v":0},null,{"$f":"IF(D450<>\"\",VLOOKUP(DATE(1900,$F431,D450),$D$3:$F$368,3),\"\")","v":""},"","","","",""]
[null,{"$f":"IF(C450<>\"\",VLOOKUP(DATE(1900,$F431,C450),$D$3:$E$368,2),\"\")","v":"St Robert"},null,{"$f":"IF(D450<>\"\",VLOOKUP(DATE(1900,$F431,D450),$D$3:$E$368,2),\"\")","v":""},"","","","",""]
[null,{"$f":"IF(C450=\"\",\"\",IF(B447=H429,1,B447+1))","v":18},{"$f":"IF(MONTH(E431+COLUMN()-COLUMN(C435)+(ROW()-ROW(C435)-10)*7)=F431,DAY(E431+COLUMN()-COLUMN(C435)+(ROW()-ROW(C435)-10)*7),\"\")","v":30},{"$f":"IF(MONTH(E431+COLUMN()-COLUMN(C435)+(ROW()-ROW(C435)-10)*7)=F431,DAY(E431+COLUMN()-COLUMN(C435)+(ROW()-ROW(C435)-10)*7),\"\")","v":""},{"$f":"IF(MONTH(E431+COLUMN()-COLUMN(C435)+(ROW()-ROW(C435)-10)*7)=F431,DAY(E431+COLUMN()-COLUMN(C435)+(ROW()-ROW(C435)-10)*7),\"\")","v":""},{"$f":"IF(MONTH(E431+COLUMN()-COLUMN(C435)+(ROW()-ROW(C435)-10)*7)=F431,DAY(E431+COLUMN()-COLUMN(C435)+(ROW()-ROW(C435)-10)*7),\"\")","v":""},{"$f":"IF(MONTH(E431+COLUMN()-COLUMN(C435)+(ROW()-ROW(C435)-10)*7)=F431,DAY(E431+COLUMN()-COLUMN(C435)+(ROW()-ROW(C435)-10)*7),\"\")","v":""},{"$f":"IF(MONTH(E431+COLUMN()-COLUMN(C435)+(ROW()-ROW(C435)-10)*7)=F431,DAY(E431+COLUMN()-COLUMN(C435)+(ROW()-ROW(C435)-10)*7),\"\")","v":""},{"$f":"IF(MONTH(E431+COLUMN()-COLUMN(C435)+(ROW()-ROW(C435)-10)*7)=F431,DAY(E431+COLUMN()-COLUMN(C435)+(ROW()-ROW(C435)-10)*7),\"\")","v":""}]
[null,{"$f":"B431","v":"2012"},null,null,{"$f":"IF(C450<>\"\",E431+35,IF(L447=\"\",E431+28,E431+35))","v":41029},{"$f":"F431+1","v":5},null,null,{"$f":"TEXT(DATE(B451,F451,1),\"mmmm\")","v":"mai"}]
[null,null,"Lundi","Mardi","Mercredi","Jeudi","Vendredi","Samedi","Dimanche"]
[null,{"$f":"IF(C455<>\"\",VLOOKUP(DATE(1900,$F451,C455),$D$3:$F$368,3),\"\")","v":""},null,{"$f":"IF(D455<>\"\",VLOOKUP(DATE(1900,$F451,D455),$D$3:$F$368,3),\"\")","v":0},0,0,0,0,0]
[null,{"$f":"IF(C455<>\"\",VLOOKUP(DATE(1900,$F451,C455),$D$3:$E$368,2),\"\")","v":""},null,{"$f":"IF(D455<>\"\",VLOOKUP(DATE(1900,$F451,D455),$D$3:$E$368,2),\"\")","v":"F. du travail"},"St Boris","Sts Philippe-Jacques","St Sylvain","Ste Judith","Ste Prudence"]
[null,{"$f":"MAX(B450,B447,B444)+(I450<>\"\")+AND(L447=\"\",C447=\"\")+AND(L447<>\"\",C450=\"\")","v":18},{"$f":"IF(MONTH(E451+COLUMN()-COLUMN(C455)+(ROW()-ROW(C455))*7)=F451,DAY(E451+COLUMN()-COLUMN(C455)+(ROW()-ROW(C455))*7),\"\")","v":""},{"$f":"IF(MONTH(E451+COLUMN()-COLUMN(C455)+(ROW()-ROW(C455))*7)=F451,DAY(E451+COLUMN()-COLUMN(C455)+(ROW()-ROW(C455))*7),\"\")","v":1},{"$f":"IF(MONTH(E451+COLUMN()-COLUMN(C455)+(ROW()-ROW(C455))*7)=F451,DAY(E451+COLUMN()-COLUMN(C455)+(ROW()-ROW(C455))*7),\"\")","v":2},{"$f":"IF(MONTH(E451+COLUMN()-COLUMN(C455)+(ROW()-ROW(C455))*7)=F451,DAY(E451+COLUMN()-COLUMN(C455)+(ROW()-ROW(C455))*7),\"\")","v":3},{"$f":"IF(MONTH(E451+COLUMN()-COLUMN(C455)+(ROW()-ROW(C455))*7)=F451,DAY(E451+COLUMN()-COLUMN(C455)+(ROW()-ROW(C455))*7),\"\")","v":4},{"$f":"IF(MONTH(E451+COLUMN()-COLUMN(C455)+(ROW()-ROW(C455))*7)=F451,DAY(E451+COLUMN()-COLUMN(C455)+(ROW()-ROW(C455))*7),\"\")","v":5},{"$f":"IF(MONTH(E451+COLUMN()-COLUMN(C455)+(ROW()-ROW(C455))*7)=F451,DAY(E451+COLUMN()-COLUMN(C455)+(ROW()-ROW(C455))*7),\"\")","v":6}]
[null,{"$f":"IF(C458<>\"\",VLOOKUP(DATE(1900,$F451,C458),$D$3:$F$368,3),\"\")","v":0},null,{"$f":"IF(D458<>\"\",VLOOKUP(DATE(1900,$F451,D458),$D$3:$F$368,3),\"\")","v":0},0,0,0,0,0]
[null,{"$f":"IF(C458<>\"\",VLOOKUP(DATE(1900,$F451,C458),$D$3:$E$368,2),\"\")","v":"Ste Gisèle"},null,{"$f":"IF(D458<>\"\",VLOOKUP(DATE(1900,$F451,D458),$D$3:$E$368,2),\"\")","v":"Annivers. 1945"},"St Pacôme","Ste Solange","Ste Estelle","St Achille","Ste Rolande"]
[null,{"$f":"(B455+1)-(INT(((B455+1)-1)/$P$374))*$P$374","v":19},{"$f":"IF(MONTH(E451+COLUMN()-COLUMN(C455)+(ROW()-ROW(C455)-2)*7)=F451,DAY(E451+COLUMN()-COLUMN(C455)+(ROW()-ROW(C455)-2)*7),\"\")","v":7},{"$f":"IF(MONTH(E451+COLUMN()-COLUMN(C455)+(ROW()-ROW(C455)-2)*7)=F451,DAY(E451+COLUMN()-COLUMN(C455)+(ROW()-ROW(C455)-2)*7),\"\")","v":8},{"$f":"IF(MONTH(E451+COLUMN()-COLUMN(C455)+(ROW()-ROW(C455)-2)*7)=F451,DAY(E451+COLUMN()-COLUMN(C455)+(ROW()-ROW(C455)-2)*7),\"\")","v":9},{"$f":"IF(MONTH(E451+COLUMN()-COLUMN(C455)+(ROW()-ROW(C455)-2)*7)=F451,DAY(E451+COLUMN()-COLUMN(C455)+(ROW()-ROW(C455)-2)*7),\"\")","v":10},{"$f":"IF(MONTH(E451+COLUMN()-COLUMN(C455)+(ROW()-ROW(C455)-2)*7)=F451,DAY(E451+COLUMN()-COLUMN(C455)+(ROW()-ROW(C455)-2)*7),\"\")","v":11},{"$f":"IF(MONTH(E451+COLUMN()-COLUMN(C455)+(ROW()-ROW(C455)-2)*7)=F451,DAY(E451+COLUMN()-COLUMN(C455)+(ROW()-ROW(C455)-2)*7),\"\")","v":12},{"$f":"IF(MONTH(E451+COLUMN()-COLUMN(C455)+(ROW()-ROW(C455)-2)*7)=F451,DAY(E451+COLUMN()-COLUMN(C455)+(ROW()-ROW(C455)-2)*7),\"\")","v":13}]
[null,{"$f":"IF(C461<>\"\",VLOOKUP(DATE(1900,$F451,C461),$D$3:$F$368,3),\"\")","v":0},null,{"$f":"IF(D461<>\"\",VLOOKUP(DATE(1900,$F451,D461),$D$3:$F$368,3),\"\")","v":0},"MARTINE",0,0,0,0]
[null,{"$f":"IF(C461<>\"\",VLOOKUP(DATE(1900,$F451,C461),$D$3:$E$368,2),\"\")","v":"St Matthias"},null,{"$f":"IF(D461<>\"\",VLOOKUP(DATE(1900,$F451,D461),$D$3:$E$368,2),\"\")","v":"Ste Denise"},"St Honoré ","St Pascal","St Eric","St Yves","St Bernardin"]
[null,{"$f":"B458+1","v":20},{"$f":"IF(MONTH(E451+COLUMN()-COLUMN(C455)+(ROW()-ROW(C455)-4)*7)=F451,DAY(E451+COLUMN()-COLUMN(C455)+(ROW()-ROW(C455)-4)*7),\"\")","v":14},{"$f":"IF(MONTH(E451+COLUMN()-COLUMN(C455)+(ROW()-ROW(C455)-4)*7)=F451,DAY(E451+COLUMN()-COLUMN(C455)+(ROW()-ROW(C455)-4)*7),\"\")","v":15},{"$f":"IF(MONTH(E451+COLUMN()-COLUMN(C455)+(ROW()-ROW(C455)-4)*7)=F451,DAY(E451+COLUMN()-COLUMN(C455)+(ROW()-ROW(C455)-4)*7),\"\")","v":16},{"$f":"IF(MONTH(E451+COLUMN()-COLUMN(C455)+(ROW()-ROW(C455)-4)*7)=F451,DAY(E451+COLUMN()-COLUMN(C455)+(ROW()-ROW(C455)-4)*7),\"\")","v":17},{"$f":"IF(MONTH(E451+COLUMN()-COLUMN(C455)+(ROW()-ROW(C455)-4)*7)=F451,DAY(E451+COLUMN()-COLUMN(C455)+(ROW()-ROW(C455)-4)*7),\"\")","v":18},{"$f":"IF(MONTH(E451+COLUMN()-COLUMN(C455)+(ROW()-ROW(C455)-4)*7)=F451,DAY(E451+COLUMN()-COLUMN(C455)+(ROW()-ROW(C455)-4)*7),\"\")","v":19},{"$f":"IF(MONTH(E451+COLUMN()-COLUMN(C455)+(ROW()-ROW(C455)-4)*7)=F451,DAY(E451+COLUMN()-COLUMN(C455)+(ROW()-ROW(C455)-4)*7),\"\")","v":20}]
[null,{"$f":"IF(C464<>\"\",VLOOKUP(DATE(1900,$F451,C464),$D$3:$F$368,3),\"\")","v":0},null,{"$f":"IF(D464<>\"\",VLOOKUP(DATE(1900,$F451,D464),$D$3:$F$368,3),\"\")","v":"SANDRA"},0,0,0,0,0]
[null,{"$f":"IF(C464<>\"\",VLOOKUP(DATE(1900,$F451,C464),$D$3:$E$368,2),\"\")","v":"St Constantin"},null,{"$f":"IF(D464<>\"\",VLOOKUP(DATE(1900,$F451,D464),$D$3:$E$368,2),\"\")","v":"St Emile "},"St Didier","St Donatien","Ste Sophie","St Bérenger","St Augustin de C."]
[null,{"$f":"B461+1","v":21},{"$f":"IF(MONTH(E451+COLUMN()-COLUMN(C455)+(ROW()-ROW(C455)-6)*7)=F451,DAY(E451+COLUMN()-COLUMN(C455)+(ROW()-ROW(C455)-6)*7),\"\")","v":21},{"$f":"IF(MONTH(E451+COLUMN()-COLUMN(C455)+(ROW()-ROW(C455)-6)*7)=F451,DAY(E451+COLUMN()-COLUMN(C455)+(ROW()-ROW(C455)-6)*7),\"\")","v":22},{"$f":"IF(MONTH(E451+COLUMN()-COLUMN(C455)+(ROW()-ROW(C455)-6)*7)=F451,DAY(E451+COLUMN()-COLUMN(C455)+(ROW()-ROW(C455)-6)*7),\"\")","v":23},{"$f":"IF(MONTH(E451+COLUMN()-COLUMN(C455)+(ROW()-ROW(C455)-6)*7)=F451,DAY(E451+COLUMN()-COLUMN(C455)+(ROW()-ROW(C455)-6)*7),\"\")","v":24},{"$f":"IF(MONTH(E451+COLUMN()-COLUMN(C455)+(ROW()-ROW(C455)-6)*7)=F451,DAY(E451+COLUMN()-COLUMN(C455)+(ROW()-ROW(C455)-6)*7),\"\")","v":25},{"$f":"IF(MONTH(E451+COLUMN()-COLUMN(C455)+(ROW()-ROW(C455)-6)*7)=F451,DAY(E451+COLUMN()-COLUMN(C455)+(ROW()-ROW(C455)-6)*7),\"\")","v":26},{"$f":"IF(MONTH(E451+COLUMN()-COLUMN(C455)+(ROW()-ROW(C455)-6)*7)=F451,DAY(E451+COLUMN()-COLUMN(C455)+(ROW()-ROW(C455)-6)*7),\"\")","v":27}]
[null,{"$f":"IF(C467<>\"\",VLOOKUP(DATE(1900,$F451,C467),$D$3:$F$368,3),\"\")","v":0},null,{"$f":"IF(D467<>\"\",VLOOKUP(DATE(1900,$F451,D467),$D$3:$F$368,3),\"\")","v":0},{"$f":"IF(E467<>\"\",VLOOKUP(DATE(1900,$F451,E467),$D$3:$F$368,3),\"\")","v":0},{"$f":"IF(F467<>\"\",VLOOKUP(DATE(1900,$F451,F467),$D$3:$F$368,3),\"\")","v":0},{"$f":"IF(G467<>\"\",VLOOKUP(DATE(1900,$F451,G467),$D$3:$F$368,3),\"\")","v":""},{"$f":"IF(H467<>\"\",VLOOKUP(DATE(1900,$F451,H467),$D$3:$F$368,3),\"\")","v":""}]
[null,{"$f":"IF(C467<>\"\",VLOOKUP(DATE(1900,$F451,C467),$D$3:$E$368,2),\"\")","v":"St Germain"},null,{"$f":"IF(D467<>\"\",VLOOKUP(DATE(1900,$F451,D467),$D$3:$E$368,2),\"\")","v":"St Aymar"},"St Ferdinand","V. de la Ste Vierge","","",""]
[null,{"$f":"IF(C467=\"\",\"\",IF(B464=H449,1,B464+1))","v":22},{"$f":"IF(MONTH(E451+COLUMN()-COLUMN(C455)+(ROW()-ROW(C455)-8)*7)=F451,DAY(E451+COLUMN()-COLUMN(C455)+(ROW()-ROW(C455)-8)*7),\"\")","v":28},{"$f":"IF(MONTH(E451+COLUMN()-COLUMN(C455)+(ROW()-ROW(C455)-8)*7)=F451,DAY(E451+COLUMN()-COLUMN(C455)+(ROW()-ROW(C455)-8)*7),\"\")","v":29},{"$f":"IF(MONTH(E451+COLUMN()-COLUMN(C455)+(ROW()-ROW(C455)-8)*7)=F451,DAY(E451+COLUMN()-COLUMN(C455)+(ROW()-ROW(C455)-8)*7),\"\")","v":30},{"$f":"IF(MONTH(E451+COLUMN()-COLUMN(C455)+(ROW()-ROW(C455)-8)*7)=F451,DAY(E451+COLUMN()-COLUMN(C455)+(ROW()-ROW(C455)-8)*7),\"\")","v":31},{"$f":"IF(MONTH(E451+COLUMN()-COLUMN(C455)+(ROW()-ROW(C455)-8)*7)=F451,DAY(E451+COLUMN()-COLUMN(C455)+(ROW()-ROW(C455)-8)*7),\"\")","v":""},{"$f":"IF(MONTH(E451+COLUMN()-COLUMN(C455)+(ROW()-ROW(C455)-8)*7)=F451,DAY(E451+COLUMN()-COLUMN(C455)+(ROW()-ROW(C455)-8)*7),\"\")","v":""},{"$f":"IF(MONTH(E451+COLUMN()-COLUMN(C455)+(ROW()-ROW(C455)-8)*7)=F451,DAY(E451+COLUMN()-COLUMN(C455)+(ROW()-ROW(C455)-8)*7),\"\")","v":""}]
[null,{"$f":"IF(C470<>\"\",VLOOKUP(DATE(1900,$F451,C470),$D$3:$F$368,3),\"\")","v":""},null,{"$f":"IF(D470<>\"\",VLOOKUP(DATE(1900,$F451,D470),$D$3:$F$368,3),\"\")","v":""},"","","","",""]
[null,{"$f":"IF(C470<>\"\",VLOOKUP(DATE(1900,$F451,C470),$D$3:$E$368,2),\"\")","v":""},null,{"$f":"IF(D470<>\"\",VLOOKUP(DATE(1900,$F451,D470),$D$3:$E$368,2),\"\")","v":""},"","","","",""]
[null,{"$f":"IF(C470=\"\",\"\",IF(B467=H449,1,B467+1))","v":""},{"$f":"IF(MONTH(E451+COLUMN()-COLUMN(C455)+(ROW()-ROW(C455)-10)*7)=F451,DAY(E451+COLUMN()-COLUMN(C455)+(ROW()-ROW(C455)-10)*7),\"\")","v":""},{"$f":"IF(MONTH(E451+COLUMN()-COLUMN(C455)+(ROW()-ROW(C455)-10)*7)=F451,DAY(E451+COLUMN()-COLUMN(C455)+(ROW()-ROW(C455)-10)*7),\"\")","v":""},{"$f":"IF(MONTH(E451+COLUMN()-COLUMN(C455)+(ROW()-ROW(C455)-10)*7)=F451,DAY(E451+COLUMN()-COLUMN(C455)+(ROW()-ROW(C455)-10)*7),\"\")","v":""},{"$f":"IF(MONTH(E451+COLUMN()-COLUMN(C455)+(ROW()-ROW(C455)-10)*7)=F451,DAY(E451+COLUMN()-COLUMN(C455)+(ROW()-ROW(C455)-10)*7),\"\")","v":""},{"$f":"IF(MONTH(E451+COLUMN()-COLUMN(C455)+(ROW()-ROW(C455)-10)*7)=F451,DAY(E451+COLUMN()-COLUMN(C455)+(ROW()-ROW(C455)-10)*7),\"\")","v":""},{"$f":"IF(MONTH(E451+COLUMN()-COLUMN(C455)+(ROW()-ROW(C455)-10)*7)=F451,DAY(E451+COLUMN()-COLUMN(C455)+(ROW()-ROW(C455)-10)*7),\"\")","v":""},{"$f":"IF(MONTH(E451+COLUMN()-COLUMN(C455)+(ROW()-ROW(C455)-10)*7)=F451,DAY(E451+COLUMN()-COLUMN(C455)+(ROW()-ROW(C455)-10)*7),\"\")","v":""}]
[null,{"$f":"B451","v":"2012"},null,null,{"$f":"IF(C470<>\"\",E451+35,IF(I467=\"\",E451+28,E451+35))","v":41057},{"$f":"F451+1","v":6},null,null,{"$f":"TEXT(DATE(B471,F471,1),\"mmmm\")","v":"juin"}]
[null,null,"Lundi","Mardi","Mercredi","Jeudi","Vendredi","Samedi","Dimanche"]
[null,{"$f":"IF(C475<>\"\",VLOOKUP(DATE(1900,$F471,C475),$D$3:$F$368,3),\"\")","v":""},null,{"$f":"IF(D475<>\"\",VLOOKUP(DATE(1900,$F471,D475),$D$3:$F$368,3),\"\")","v":""},"","",0,0,0]
[null,{"$f":"IF(C475<>\"\",VLOOKUP(DATE(1900,$F471,C475),$D$3:$E$368,2),\"\")","v":""},{"$f":"IF(C475<>\"\",VLOOKUP(DATE(1900,$F471,C475),$D$3:$E$368,2),\"\")","v":""},"","","","St Justin","Ste Blandine","St Kévin"]
[null,{"$f":"MAX(B470,B467,B464)+(I470<>\"\")+AND(I467=\"\",C467=\"\")+AND(I467<>\"\",C470=\"\")","v":22},{"$f":"IF(MONTH(E471+COLUMN()-COLUMN(C475)+(ROW()-ROW(C475))*7)=F471,DAY(E471+COLUMN()-COLUMN(C475)+(ROW()-ROW(C475))*7),\"\")","v":""},{"$f":"IF(MONTH(E471+COLUMN()-COLUMN(C475)+(ROW()-ROW(C475))*7)=F471,DAY(E471+COLUMN()-COLUMN(C475)+(ROW()-ROW(C475))*7),\"\")","v":""},{"$f":"IF(MONTH(E471+COLUMN()-COLUMN(C475)+(ROW()-ROW(C475))*7)=F471,DAY(E471+COLUMN()-COLUMN(C475)+(ROW()-ROW(C475))*7),\"\")","v":""},{"$f":"IF(MONTH(E471+COLUMN()-COLUMN(C475)+(ROW()-ROW(C475))*7)=F471,DAY(E471+COLUMN()-COLUMN(C475)+(ROW()-ROW(C475))*7),\"\")","v":""},{"$f":"IF(MONTH(E471+COLUMN()-COLUMN(C475)+(ROW()-ROW(C475))*7)=F471,DAY(E471+COLUMN()-COLUMN(C475)+(ROW()-ROW(C475))*7),\"\")","v":1},{"$f":"IF(MONTH(E471+COLUMN()-COLUMN(C475)+(ROW()-ROW(C475))*7)=F471,DAY(E471+COLUMN()-COLUMN(C475)+(ROW()-ROW(C475))*7),\"\")","v":2},{"$f":"IF(MONTH(E471+COLUMN()-COLUMN(C475)+(ROW()-ROW(C475))*7)=F471,DAY(E471+COLUMN()-COLUMN(C475)+(ROW()-ROW(C475))*7),\"\")","v":3}]
[null,{"$f":"IF(C478<>\"\",VLOOKUP(DATE(1900,$F471,C478),$D$3:$F$368,3),\"\")","v":0},null,{"$f":"IF(D478<>\"\",VLOOKUP(DATE(1900,$F471,D478),$D$3:$F$368,3),\"\")","v":0},0,0,0,0,0]
[null,{"$f":"IF(C478<>\"\",VLOOKUP(DATE(1900,$F471,C478),$D$3:$E$368,2),\"\")","v":"Ste Clothilde"},null,{"$f":"IF(D478<>\"\",VLOOKUP(DATE(1900,$F471,D478),$D$3:$E$368,2),\"\")","v":"St Igor"},"St Norbert","St Gilbert","St Médard","Ste Diane","St Landry"]
[null,{"$f":"(B475+1)-(INT(((B475+1)-1)/$P$374))*$P$374","v":23},{"$f":"IF(MONTH(E471+COLUMN()-COLUMN(C475)+(ROW()-ROW(C475)-2)*7)=F471,DAY(E471+COLUMN()-COLUMN(C475)+(ROW()-ROW(C475)-2)*7),\"\")","v":4},{"$f":"IF(MONTH(E471+COLUMN()-COLUMN(C475)+(ROW()-ROW(C475)-2)*7)=F471,DAY(E471+COLUMN()-COLUMN(C475)+(ROW()-ROW(C475)-2)*7),\"\")","v":5},{"$f":"IF(MONTH(E471+COLUMN()-COLUMN(C475)+(ROW()-ROW(C475)-2)*7)=F471,DAY(E471+COLUMN()-COLUMN(C475)+(ROW()-ROW(C475)-2)*7),\"\")","v":6},{"$f":"IF(MONTH(E471+COLUMN()-COLUMN(C475)+(ROW()-ROW(C475)-2)*7)=F471,DAY(E471+COLUMN()-COLUMN(C475)+(ROW()-ROW(C475)-2)*7),\"\")","v":7},{"$f":"IF(MONTH(E471+COLUMN()-COLUMN(C475)+(ROW()-ROW(C475)-2)*7)=F471,DAY(E471+COLUMN()-COLUMN(C475)+(ROW()-ROW(C475)-2)*7),\"\")","v":8},{"$f":"IF(MONTH(E471+COLUMN()-COLUMN(C475)+(ROW()-ROW(C475)-2)*7)=F471,DAY(E471+COLUMN()-COLUMN(C475)+(ROW()-ROW(C475)-2)*7),\"\")","v":9},{"$f":"IF(MONTH(E471+COLUMN()-COLUMN(C475)+(ROW()-ROW(C475)-2)*7)=F471,DAY(E471+COLUMN()-COLUMN(C475)+(ROW()-ROW(C475)-2)*7),\"\")","v":10}]
[null,{"$f":"IF(C481<>\"\",VLOOKUP(DATE(1900,$F471,C481),$D$3:$F$368,3),\"\")","v":0},null,{"$f":"IF(D481<>\"\",VLOOKUP(DATE(1900,$F471,D481),$D$3:$F$368,3),\"\")","v":0},0,0,0,0,0]
[null,{"$f":"IF(C481<>\"\",VLOOKUP(DATE(1900,$F471,C481),$D$3:$E$368,2),\"\")","v":"St Barnabé"},null,{"$f":"IF(D481<>\"\",VLOOKUP(DATE(1900,$F471,D481),$D$3:$E$368,2),\"\")","v":"St Guy"},"St A. de Padou","St Elisée","Ste Germaine","St J.-F. Régis","St Hervé"]
[null,{"$f":"B478+1","v":24},{"$f":"IF(MONTH(E471+COLUMN()-COLUMN(C475)+(ROW()-ROW(C475)-4)*7)=F471,DAY(E471+COLUMN()-COLUMN(C475)+(ROW()-ROW(C475)-4)*7),\"\")","v":11},{"$f":"IF(MONTH(E471+COLUMN()-COLUMN(C475)+(ROW()-ROW(C475)-4)*7)=F471,DAY(E471+COLUMN()-COLUMN(C475)+(ROW()-ROW(C475)-4)*7),\"\")","v":12},{"$f":"IF(MONTH(E471+COLUMN()-COLUMN(C475)+(ROW()-ROW(C475)-4)*7)=F471,DAY(E471+COLUMN()-COLUMN(C475)+(ROW()-ROW(C475)-4)*7),\"\")","v":13},{"$f":"IF(MONTH(E471+COLUMN()-COLUMN(C475)+(ROW()-ROW(C475)-4)*7)=F471,DAY(E471+COLUMN()-COLUMN(C475)+(ROW()-ROW(C475)-4)*7),\"\")","v":14},{"$f":"IF(MONTH(E471+COLUMN()-COLUMN(C475)+(ROW()-ROW(C475)-4)*7)=F471,DAY(E471+COLUMN()-COLUMN(C475)+(ROW()-ROW(C475)-4)*7),\"\")","v":15},{"$f":"IF(MONTH(E471+COLUMN()-COLUMN(C475)+(ROW()-ROW(C475)-4)*7)=F471,DAY(E471+COLUMN()-COLUMN(C475)+(ROW()-ROW(C475)-4)*7),\"\")","v":16},{"$f":"IF(MONTH(E471+COLUMN()-COLUMN(C475)+(ROW()-ROW(C475)-4)*7)=F471,DAY(E471+COLUMN()-COLUMN(C475)+(ROW()-ROW(C475)-4)*7),\"\")","v":17}]
[null,{"$f":"IF(C484<>\"\",VLOOKUP(DATE(1900,$F471,C484),$D$3:$F$368,3),\"\")","v":0},null,{"$f":"IF(D484<>\"\",VLOOKUP(DATE(1900,$F471,D484),$D$3:$F$368,3),\"\")","v":0},0,0,0,0,0]
[null,{"$f":"IF(C484<>\"\",VLOOKUP(DATE(1900,$F471,C484),$D$3:$E$368,2),\"\")","v":"St Léonce"},null,{"$f":"IF(D484<>\"\",VLOOKUP(DATE(1900,$F471,D484),$D$3:$E$368,2),\"\")","v":"St Romuald"},"St Silvère","F. Dieu","St Alban","Ste Audrey","St Jean-Baptiste"]
[null,{"$f":"B481+1","v":25},{"$f":"IF(MONTH(E471+COLUMN()-COLUMN(C475)+(ROW()-ROW(C475)-6)*7)=F471,DAY(E471+COLUMN()-COLUMN(C475)+(ROW()-ROW(C475)-6)*7),\"\")","v":18},{"$f":"IF(MONTH(E471+COLUMN()-COLUMN(C475)+(ROW()-ROW(C475)-6)*7)=F471,DAY(E471+COLUMN()-COLUMN(C475)+(ROW()-ROW(C475)-6)*7),\"\")","v":19},{"$f":"IF(MONTH(E471+COLUMN()-COLUMN(C475)+(ROW()-ROW(C475)-6)*7)=F471,DAY(E471+COLUMN()-COLUMN(C475)+(ROW()-ROW(C475)-6)*7),\"\")","v":20},{"$f":"IF(MONTH(E471+COLUMN()-COLUMN(C475)+(ROW()-ROW(C475)-6)*7)=F471,DAY(E471+COLUMN()-COLUMN(C475)+(ROW()-ROW(C475)-6)*7),\"\")","v":21},{"$f":"IF(MONTH(E471+COLUMN()-COLUMN(C475)+(ROW()-ROW(C475)-6)*7)=F471,DAY(E471+COLUMN()-COLUMN(C475)+(ROW()-ROW(C475)-6)*7),\"\")","v":22},{"$f":"IF(MONTH(E471+COLUMN()-COLUMN(C475)+(ROW()-ROW(C475)-6)*7)=F471,DAY(E471+COLUMN()-COLUMN(C475)+(ROW()-ROW(C475)-6)*7),\"\")","v":23},{"$f":"IF(MONTH(E471+COLUMN()-COLUMN(C475)+(ROW()-ROW(C475)-6)*7)=F471,DAY(E471+COLUMN()-COLUMN(C475)+(ROW()-ROW(C475)-6)*7),\"\")","v":24}]
[null,{"$f":"IF(C487<>\"\",VLOOKUP(DATE(1900,$F471,C487),$D$3:$F$368,3),\"\")","v":0},null,{"$f":"IF(D487<>\"\",VLOOKUP(DATE(1900,$F471,D487),$D$3:$F$368,3),\"\")","v":0},0,"MARIAGE",0,0,""]
[null,{"$f":"IF(C487<>\"\",VLOOKUP(DATE(1900,$F471,C487),$D$3:$E$368,2),\"\")","v":"St Salomon"},null,{"$f":"IF(D487<>\"\",VLOOKUP(DATE(1900,$F471,D487),$D$3:$E$368,2),\"\")","v":"St Anthelme"},"St Fernand","St Irénée ","St Pierre-Paul","St Martial",""]
[null,{"$f":"IF(C487=\"\",\"\",IF(B484=H469,1,B484+1))","v":26},{"$f":"IF(MONTH(E471+COLUMN()-COLUMN(C475)+(ROW()-ROW(C475)-8)*7)=F471,DAY(E471+COLUMN()-COLUMN(C475)+(ROW()-ROW(C475)-8)*7),\"\")","v":25},{"$f":"IF(MONTH(E471+COLUMN()-COLUMN(C475)+(ROW()-ROW(C475)-8)*7)=F471,DAY(E471+COLUMN()-COLUMN(C475)+(ROW()-ROW(C475)-8)*7),\"\")","v":26},{"$f":"IF(MONTH(E471+COLUMN()-COLUMN(C475)+(ROW()-ROW(C475)-8)*7)=F471,DAY(E471+COLUMN()-COLUMN(C475)+(ROW()-ROW(C475)-8)*7),\"\")","v":27},{"$f":"IF(MONTH(E471+COLUMN()-COLUMN(C475)+(ROW()-ROW(C475)-8)*7)=F471,DAY(E471+COLUMN()-COLUMN(C475)+(ROW()-ROW(C475)-8)*7),\"\")","v":28},{"$f":"IF(MONTH(E471+COLUMN()-COLUMN(C475)+(ROW()-ROW(C475)-8)*7)=F471,DAY(E471+COLUMN()-COLUMN(C475)+(ROW()-ROW(C475)-8)*7),\"\")","v":29},{"$f":"IF(MONTH(E471+COLUMN()-COLUMN(C475)+(ROW()-ROW(C475)-8)*7)=F471,DAY(E471+COLUMN()-COLUMN(C475)+(ROW()-ROW(C475)-8)*7),\"\")","v":30},{"$f":"IF(MONTH(E471+COLUMN()-COLUMN(C475)+(ROW()-ROW(C475)-8)*7)=F471,DAY(E471+COLUMN()-COLUMN(C475)+(ROW()-ROW(C475)-8)*7),\"\")","v":""}]
[null,{"$f":"IF(C490<>\"\",VLOOKUP(DATE(1900,$F471,C490),$D$3:$F$368,3),\"\")","v":""},null,{"$f":"IF(D490<>\"\",VLOOKUP(DATE(1900,$F471,D490),$D$3:$F$368,3),\"\")","v":""},"","","","",""]
[null,{"$f":"IF(C490<>\"\",VLOOKUP(DATE(1900,$F471,C490),$D$3:$E$368,2),\"\")","v":""},null,{"$f":"IF(D490<>\"\",VLOOKUP(DATE(1900,$F471,D490),$D$3:$E$368,2),\"\")","v":""},"","","","",""]
[null,{"$f":"IF(C490=\"\",\"\",IF(B487=H469,1,B487+1))","v":""},{"$f":"IF(MONTH(E471+COLUMN()-COLUMN(C475)+(ROW()-ROW(C475)-10)*7)=F471,DAY(E471+COLUMN()-COLUMN(C475)+(ROW()-ROW(C475)-10)*7),\"\")","v":""},{"$f":"IF(MONTH(E471+COLUMN()-COLUMN(C475)+(ROW()-ROW(C475)-10)*7)=F471,DAY(E471+COLUMN()-COLUMN(C475)+(ROW()-ROW(C475)-10)*7),\"\")","v":""},{"$f":"IF(MONTH(E471+COLUMN()-COLUMN(C475)+(ROW()-ROW(C475)-10)*7)=F471,DAY(E471+COLUMN()-COLUMN(C475)+(ROW()-ROW(C475)-10)*7),\"\")","v":""},{"$f":"IF(MONTH(E471+COLUMN()-COLUMN(C475)+(ROW()-ROW(C475)-10)*7)=F471,DAY(E471+COLUMN()-COLUMN(C475)+(ROW()-ROW(C475)-10)*7),\"\")","v":""},{"$f":"IF(MONTH(E471+COLUMN()-COLUMN(C475)+(ROW()-ROW(C475)-10)*7)=F471,DAY(E471+COLUMN()-COLUMN(C475)+(ROW()-ROW(C475)-10)*7),\"\")","v":""},{"$f":"IF(MONTH(E471+COLUMN()-COLUMN(C475)+(ROW()-ROW(C475)-10)*7)=F471,DAY(E471+COLUMN()-COLUMN(C475)+(ROW()-ROW(C475)-10)*7),\"\")","v":""},{"$f":"IF(MONTH(E471+COLUMN()-COLUMN(C475)+(ROW()-ROW(C475)-10)*7)=F471,DAY(E471+COLUMN()-COLUMN(C475)+(ROW()-ROW(C475)-10)*7),\"\")","v":""}]
[null,{"$f":"B471","v":"2012"},null,null,{"$f":"IF(C490<>\"\",E471+35,IF(I487=\"\",E471+28,E471+35))","v":41085},{"$f":"F471+1","v":7},null,null,{"$f":"TEXT(DATE(B491,F491,1),\"mmmm\")","v":"juillet"}]
[null,null,"Lundi","Mardi","Mercredi","Jeudi","Vendredi","Samedi","Dimanche"]
[null,{"$f":"IF(C495<>\"\",VLOOKUP(DATE(1900,$F491,C495),$D$3:$F$368,3),\"\")","v":""},null,{"$f":"IF(D495<>\"\",VLOOKUP(DATE(1900,$F491,D495),$D$3:$F$368,3),\"\")","v":""},"","","","",0]
[null,{"$f":"IF(C495<>\"\",VLOOKUP(DATE(1900,$F491,C495),$D$3:$E$368,2),\"\")","v":""},null,{"$f":"IF(D495<>\"\",VLOOKUP(DATE(1900,$F491,D495),$D$3:$E$368,2),\"\")","v":""},"","","","","St Thierry"]
[null,{"$f":"MAX(B490,B487,B484)+(I490<>\"\")+AND(I487=\"\",C487=\"\")+AND(I487<>\"\",C490=\"\")","v":26},{"$f":"IF(MONTH(E491+COLUMN()-COLUMN(C495)+(ROW()-ROW(C495))*7)=F491,DAY(E491+COLUMN()-COLUMN(C495)+(ROW()-ROW(C495))*7),\"\")","v":""},{"$f":"IF(MONTH(E491+COLUMN()-COLUMN(C495)+(ROW()-ROW(C495))*7)=F491,DAY(E491+COLUMN()-COLUMN(C495)+(ROW()-ROW(C495))*7),\"\")","v":""},{"$f":"IF(MONTH(E491+COLUMN()-COLUMN(C495)+(ROW()-ROW(C495))*7)=F491,DAY(E491+COLUMN()-COLUMN(C495)+(ROW()-ROW(C495))*7),\"\")","v":""},{"$f":"IF(MONTH(E491+COLUMN()-COLUMN(C495)+(ROW()-ROW(C495))*7)=F491,DAY(E491+COLUMN()-COLUMN(C495)+(ROW()-ROW(C495))*7),\"\")","v":""},{"$f":"IF(MONTH(E491+COLUMN()-COLUMN(C495)+(ROW()-ROW(C495))*7)=F491,DAY(E491+COLUMN()-COLUMN(C495)+(ROW()-ROW(C495))*7),\"\")","v":""},{"$f":"IF(MONTH(E491+COLUMN()-COLUMN(C495)+(ROW()-ROW(C495))*7)=F491,DAY(E491+COLUMN()-COLUMN(C495)+(ROW()-ROW(C495))*7),\"\")","v":""},{"$f":"IF(MONTH(E491+COLUMN()-COLUMN(C495)+(ROW()-ROW(C495))*7)=F491,DAY(E491+COLUMN()-COLUMN(C495)+(ROW()-ROW(C495))*7),\"\")","v":1}]
[null,{"$f":"IF(C498<>\"\",VLOOKUP(DATE(1900,$F491,C498),$D$3:$F$368,3),\"\")","v":0},null,{"$f":"IF(D498<>\"\",VLOOKUP(DATE(1900,$F491,D498),$D$3:$F$368,3),\"\")","v":0},0,0,0,0,0]
[null,{"$f":"IF(C498<>\"\",VLOOKUP(DATE(1900,$F491,C498),$D$3:$E$368,2),\"\")","v":"St Martinien"},null,{"$f":"IF(D498<>\"\",VLOOKUP(DATE(1900,$F491,D498),$D$3:$E$368,2),\"\")","v":"St Thomas"},"St Florent","St Antoine","Sts Henri et Joël","St Raoul","St Thibaut"]
[null,{"$f":"(B495+1)-(INT(((B495+1)-1)/$P$374))*$P$374","v":27},{"$f":"IF(MONTH(E491+COLUMN()-COLUMN(C495)+(ROW()-ROW(C495)-2)*7)=F491,DAY(E491+COLUMN()-COLUMN(C495)+(ROW()-ROW(C495)-2)*7),\"\")","v":2},{"$f":"IF(MONTH(E491+COLUMN()-COLUMN(C495)+(ROW()-ROW(C495)-2)*7)=F491,DAY(E491+COLUMN()-COLUMN(C495)+(ROW()-ROW(C495)-2)*7),\"\")","v":3},{"$f":"IF(MONTH(E491+COLUMN()-COLUMN(C495)+(ROW()-ROW(C495)-2)*7)=F491,DAY(E491+COLUMN()-COLUMN(C495)+(ROW()-ROW(C495)-2)*7),\"\")","v":4},{"$f":"IF(MONTH(E491+COLUMN()-COLUMN(C495)+(ROW()-ROW(C495)-2)*7)=F491,DAY(E491+COLUMN()-COLUMN(C495)+(ROW()-ROW(C495)-2)*7),\"\")","v":5},{"$f":"IF(MONTH(E491+COLUMN()-COLUMN(C495)+(ROW()-ROW(C495)-1)*7)=F491,DAY(E491+COLUMN()-COLUMN(C495)+(ROW()-ROW(C495)-1)*7),\"\")","v":13},{"$f":"IF(MONTH(E491+COLUMN()-COLUMN(C495)+(ROW()-ROW(C495)-2)*7)=F491,DAY(E491+COLUMN()-COLUMN(C495)+(ROW()-ROW(C495)-2)*7),\"\")","v":7},{"$f":"IF(MONTH(E491+COLUMN()-COLUMN(C495)+(ROW()-ROW(C495)-2)*7)=F491,DAY(E491+COLUMN()-COLUMN(C495)+(ROW()-ROW(C495)-2)*7),\"\")","v":8}]
[null,{"$f":"IF(C501<>\"\",VLOOKUP(DATE(1900,$F491,C501),$D$3:$F$368,3),\"\")","v":0},null,{"$f":"IF(D501<>\"\",VLOOKUP(DATE(1900,$F491,D501),$D$3:$F$368,3),\"\")","v":"CLAUDETTE"},0,0,0,0,0]
[null,{"$f":"IF(C501<>\"\",VLOOKUP(DATE(1900,$F491,C501),$D$3:$E$368,2),\"\")","v":"Ste Amandine"},null,{"$f":"IF(D501<>\"\",VLOOKUP(DATE(1900,$F491,D501),$D$3:$E$368,2),\"\")","v":"St Ulrich "},"St Benoît","St Olivier","Sts Henri et Joël","Fête nationale","St Donald"]
[null,{"$f":"B498+1","v":28},{"$f":"IF(MONTH(E491+COLUMN()-COLUMN(C495)+(ROW()-ROW(C495)-4)*7)=F491,DAY(E491+COLUMN()-COLUMN(C495)+(ROW()-ROW(C495)-4)*7),\"\")","v":9},{"$f":"IF(MONTH(E491+COLUMN()-COLUMN(C495)+(ROW()-ROW(C495)-4)*7)=F491,DAY(E491+COLUMN()-COLUMN(C495)+(ROW()-ROW(C495)-4)*7),\"\")","v":10},{"$f":"IF(MONTH(E491+COLUMN()-COLUMN(C495)+(ROW()-ROW(C495)-4)*7)=F491,DAY(E491+COLUMN()-COLUMN(C495)+(ROW()-ROW(C495)-4)*7),\"\")","v":11},{"$f":"IF(MONTH(E491+COLUMN()-COLUMN(C495)+(ROW()-ROW(C495)-4)*7)=F491,DAY(E491+COLUMN()-COLUMN(C495)+(ROW()-ROW(C495)-4)*7),\"\")","v":12},{"$f":"IF(MONTH(E491+COLUMN()-COLUMN(C495)+(ROW()-ROW(C495)-4)*7)=F491,DAY(E491+COLUMN()-COLUMN(C495)+(ROW()-ROW(C495)-4)*7),\"\")","v":13},{"$f":"IF(MONTH(E491+COLUMN()-COLUMN(C495)+(ROW()-ROW(C495)-4)*7)=F491,DAY(E491+COLUMN()-COLUMN(C495)+(ROW()-ROW(C495)-4)*7),\"\")","v":14},{"$f":"IF(MONTH(E491+COLUMN()-COLUMN(C495)+(ROW()-ROW(C495)-4)*7)=F491,DAY(E491+COLUMN()-COLUMN(C495)+(ROW()-ROW(C495)-4)*7),\"\")","v":15}]
[null,{"$f":"IF(C504<>\"\",VLOOKUP(DATE(1900,$F491,C504),$D$3:$F$368,3),\"\")","v":0},null,{"$f":"IF(D504<>\"\",VLOOKUP(DATE(1900,$F491,D504),$D$3:$F$368,3),\"\")","v":0},0,0,0,0,0]
[null,{"$f":"IF(C504<>\"\",VLOOKUP(DATE(1900,$F491,C504),$D$3:$E$368,2),\"\")","v":"N.D. Mont Carmel"},null,{"$f":"IF(D504<>\"\",VLOOKUP(DATE(1900,$F491,D504),$D$3:$E$368,2),\"\")","v":"Ste Charlotte"},"St Frédéric","St Arsène","Ste Marina","St Victor","Ste Marie-Madel."]
[null,{"$f":"B501+1","v":29},{"$f":"IF(MONTH(E491+COLUMN()-COLUMN(C495)+(ROW()-ROW(C495)-6)*7)=F491,DAY(E491+COLUMN()-COLUMN(C495)+(ROW()-ROW(C495)-6)*7),\"\")","v":16},{"$f":"IF(MONTH(E491+COLUMN()-COLUMN(C495)+(ROW()-ROW(C495)-6)*7)=F491,DAY(E491+COLUMN()-COLUMN(C495)+(ROW()-ROW(C495)-6)*7),\"\")","v":17},{"$f":"IF(MONTH(E491+COLUMN()-COLUMN(C495)+(ROW()-ROW(C495)-6)*7)=F491,DAY(E491+COLUMN()-COLUMN(C495)+(ROW()-ROW(C495)-6)*7),\"\")","v":18},{"$f":"IF(MONTH(E491+COLUMN()-COLUMN(C495)+(ROW()-ROW(C495)-6)*7)=F491,DAY(E491+COLUMN()-COLUMN(C495)+(ROW()-ROW(C495)-6)*7),\"\")","v":19},{"$f":"IF(MONTH(E491+COLUMN()-COLUMN(C495)+(ROW()-ROW(C495)-6)*7)=F491,DAY(E491+COLUMN()-COLUMN(C495)+(ROW()-ROW(C495)-6)*7),\"\")","v":20},{"$f":"IF(MONTH(E491+COLUMN()-COLUMN(C495)+(ROW()-ROW(C495)-6)*7)=F491,DAY(E491+COLUMN()-COLUMN(C495)+(ROW()-ROW(C495)-6)*7),\"\")","v":21},{"$f":"IF(MONTH(E491+COLUMN()-COLUMN(C495)+(ROW()-ROW(C495)-6)*7)=F491,DAY(E491+COLUMN()-COLUMN(C495)+(ROW()-ROW(C495)-6)*7),\"\")","v":22}]
[null,{"$f":"IF(C507<>\"\",VLOOKUP(DATE(1900,$F491,C507),$D$3:$F$368,3),\"\")","v":0},null,{"$f":"IF(D507<>\"\",VLOOKUP(DATE(1900,$F491,D507),$D$3:$F$368,3),\"\")","v":0},0,"MAMAN",0,0,0]
[null,{"$f":"IF(C507<>\"\",VLOOKUP(DATE(1900,$F491,C507),$D$3:$E$368,2),\"\")","v":"Ste Brigitte"},null,{"$f":"IF(D507<>\"\",VLOOKUP(DATE(1900,$F491,D507),$D$3:$E$368,2),\"\")","v":"Ste Christine"},"St Jacques de M. (Enzo)","Ste Anne","Ste Nathalie","St Samson","Ste Marthe"]
[null,{"$f":"IF(C507=\"\",\"\",IF(B504=H489,1,B504+1))","v":30},{"$f":"IF(MONTH(E491+COLUMN()-COLUMN(C495)+(ROW()-ROW(C495)-8)*7)=F491,DAY(E491+COLUMN()-COLUMN(C495)+(ROW()-ROW(C495)-8)*7),\"\")","v":23},{"$f":"IF(MONTH(E491+COLUMN()-COLUMN(C495)+(ROW()-ROW(C495)-8)*7)=F491,DAY(E491+COLUMN()-COLUMN(C495)+(ROW()-ROW(C495)-8)*7),\"\")","v":24},{"$f":"IF(MONTH(E491+COLUMN()-COLUMN(C495)+(ROW()-ROW(C495)-8)*7)=F491,DAY(E491+COLUMN()-COLUMN(C495)+(ROW()-ROW(C495)-8)*7),\"\")","v":25},{"$f":"IF(MONTH(E491+COLUMN()-COLUMN(C495)+(ROW()-ROW(C495)-8)*7)=F491,DAY(E491+COLUMN()-COLUMN(C495)+(ROW()-ROW(C495)-8)*7),\"\")","v":26},{"$f":"IF(MONTH(E491+COLUMN()-COLUMN(C495)+(ROW()-ROW(C495)-8)*7)=F491,DAY(E491+COLUMN()-COLUMN(C495)+(ROW()-ROW(C495)-8)*7),\"\")","v":27},{"$f":"IF(MONTH(E491+COLUMN()-COLUMN(C495)+(ROW()-ROW(C495)-8)*7)=F491,DAY(E491+COLUMN()-COLUMN(C495)+(ROW()-ROW(C495)-8)*7),\"\")","v":28},{"$f":"IF(MONTH(E491+COLUMN()-COLUMN(C495)+(ROW()-ROW(C495)-8)*7)=F491,DAY(E491+COLUMN()-COLUMN(C495)+(ROW()-ROW(C495)-8)*7),\"\")","v":29}]
[null,{"$f":"IF(C510<>\"\",VLOOKUP(DATE(1900,$F491,C510),$D$3:$F$368,3),\"\")","v":0},null,{"$f":"IF(D510<>\"\",VLOOKUP(DATE(1900,$F491,D510),$D$3:$F$368,3),\"\")","v":0},"","","","",""]
[null,{"$f":"IF(C510<>\"\",VLOOKUP(DATE(1900,$F491,C510),$D$3:$E$368,2),\"\")","v":"Ste Juliette"},null,{"$f":"IF(D510<>\"\",VLOOKUP(DATE(1900,$F491,D510),$D$3:$E$368,2),\"\")","v":"St Ign. Loyola"},"","","","",""]
[null,{"$f":"IF(C510=\"\",\"\",IF(B507=H489,1,B507+1))","v":31},{"$f":"IF(MONTH(E491+COLUMN()-COLUMN(C495)+(ROW()-ROW(C495)-10)*7)=F491,DAY(E491+COLUMN()-COLUMN(C495)+(ROW()-ROW(C495)-10)*7),\"\")","v":30},{"$f":"IF(MONTH(E491+COLUMN()-COLUMN(C495)+(ROW()-ROW(C495)-10)*7)=F491,DAY(E491+COLUMN()-COLUMN(C495)+(ROW()-ROW(C495)-10)*7),\"\")","v":31},{"$f":"IF(MONTH(E491+COLUMN()-COLUMN(C495)+(ROW()-ROW(C495)-10)*7)=F491,DAY(E491+COLUMN()-COLUMN(C495)+(ROW()-ROW(C495)-10)*7),\"\")","v":""},{"$f":"IF(MONTH(E491+COLUMN()-COLUMN(C495)+(ROW()-ROW(C495)-10)*7)=F491,DAY(E491+COLUMN()-COLUMN(C495)+(ROW()-ROW(C495)-10)*7),\"\")","v":""},{"$f":"IF(MONTH(E491+COLUMN()-COLUMN(C495)+(ROW()-ROW(C495)-10)*7)=F491,DAY(E491+COLUMN()-COLUMN(C495)+(ROW()-ROW(C495)-10)*7),\"\")","v":""},{"$f":"IF(MONTH(E491+COLUMN()-COLUMN(C495)+(ROW()-ROW(C495)-10)*7)=F491,DAY(E491+COLUMN()-COLUMN(C495)+(ROW()-ROW(C495)-10)*7),\"\")","v":""},{"$f":"IF(MONTH(E491+COLUMN()-COLUMN(C495)+(ROW()-ROW(C495)-10)*7)=F491,DAY(E491+COLUMN()-COLUMN(C495)+(ROW()-ROW(C495)-10)*7),\"\")","v":""}]
[null,{"$f":"B491","v":"2012"},null,null,{"$f":"IF(C510<>\"\",E491+35,IF(I507=\"\",E491+28,E491+35))","v":41120},{"$f":"F491+1","v":8},null,null,{"$f":"TEXT(DATE(B511,F511,1),\"mmmm\")","v":"août"}]
[null,null,"Lundi","Mardi","Mercredi","Jeudi","Vendredi","Samedi","Dimanche"]
[null,{"$f":"IF(C515<>\"\",VLOOKUP(DATE(1900,$F511,C515),$D$3:$F$368,3),\"\")","v":""},null,{"$f":"IF(D515<>\"\",VLOOKUP(DATE(1900,$F511,D515),$D$3:$F$368,3),\"\")","v":""},0,0,0,0,0]
[null,{"$f":"IF(C515<>\"\",VLOOKUP(DATE(1900,$F511,C515),$D$3:$E$368,2),\"\")","v":""},null,{"$f":"IF(D515<>\"\",VLOOKUP(DATE(1900,$F511,D515),$D$3:$E$368,2),\"\")","v":""},"St Alphonse","St Julien-Eym.","Ste Lydie","St J.M. Vianney","St Abel"]
[null,{"$f":"MAX(B510,B507,B504)+(I510<>\"\")+AND(I507=\"\",C507=\"\")+AND(I507<>\"\",C510=\"\")","v":31},{"$f":"IF(MONTH(E511+COLUMN()-COLUMN(C515)+(ROW()-ROW(C515))*7)=F511,DAY(E511+COLUMN()-COLUMN(C515)+(ROW()-ROW(C515))*7),\"\")","v":""},{"$f":"IF(MONTH(E511+COLUMN()-COLUMN(C515)+(ROW()-ROW(C515))*7)=F511,DAY(E511+COLUMN()-COLUMN(C515)+(ROW()-ROW(C515))*7),\"\")","v":""},{"$f":"IF(MONTH(E511+COLUMN()-COLUMN(C515)+(ROW()-ROW(C515))*7)=F511,DAY(E511+COLUMN()-COLUMN(C515)+(ROW()-ROW(C515))*7),\"\")","v":1},{"$f":"IF(MONTH(E511+COLUMN()-COLUMN(C515)+(ROW()-ROW(C515))*7)=F511,DAY(E511+COLUMN()-COLUMN(C515)+(ROW()-ROW(C515))*7),\"\")","v":2},{"$f":"IF(MONTH(E511+COLUMN()-COLUMN(C515)+(ROW()-ROW(C515))*7)=F511,DAY(E511+COLUMN()-COLUMN(C515)+(ROW()-ROW(C515))*7),\"\")","v":3},{"$f":"IF(MONTH(E511+COLUMN()-COLUMN(C515)+(ROW()-ROW(C515))*7)=F511,DAY(E511+COLUMN()-COLUMN(C515)+(ROW()-ROW(C515))*7),\"\")","v":4},{"$f":"IF(MONTH(E511+COLUMN()-COLUMN(C515)+(ROW()-ROW(C515))*7)=F511,DAY(E511+COLUMN()-COLUMN(C515)+(ROW()-ROW(C515))*7),\"\")","v":5}]
[null,{"$f":"IF(C518<>\"\",VLOOKUP(DATE(1900,$F511,C518),$D$3:$F$368,3),\"\")","v":0},null,{"$f":"IF(D518<>\"\",VLOOKUP(DATE(1900,$F511,D518),$D$3:$F$368,3),\"\")","v":0},0,0,0,0,0]
[null,{"$f":"IF(C518<>\"\",VLOOKUP(DATE(1900,$F511,C518),$D$3:$E$368,2),\"\")","v":"Transfiguration"},null,{"$f":"IF(D518<>\"\",VLOOKUP(DATE(1900,$F511,D518),$D$3:$E$368,2),\"\")","v":"St Gaëtan"},"St Dominique","St Amour","St Laurent","Ste Claire","Ste Clarisse"]
[null,{"$f":"(B515+1)-(INT(((B515+1)-1)/$P$374))*$P$374","v":32},{"$f":"IF(MONTH(E511+COLUMN()-COLUMN(C515)+(ROW()-ROW(C515)-2)*7)=F511,DAY(E511+COLUMN()-COLUMN(C515)+(ROW()-ROW(C515)-2)*7),\"\")","v":6},{"$f":"IF(MONTH(E511+COLUMN()-COLUMN(C515)+(ROW()-ROW(C515)-2)*7)=F511,DAY(E511+COLUMN()-COLUMN(C515)+(ROW()-ROW(C515)-2)*7),\"\")","v":7},{"$f":"IF(MONTH(E511+COLUMN()-COLUMN(C515)+(ROW()-ROW(C515)-2)*7)=F511,DAY(E511+COLUMN()-COLUMN(C515)+(ROW()-ROW(C515)-2)*7),\"\")","v":8},{"$f":"IF(MONTH(E511+COLUMN()-COLUMN(C515)+(ROW()-ROW(C515)-2)*7)=F511,DAY(E511+COLUMN()-COLUMN(C515)+(ROW()-ROW(C515)-2)*7),\"\")","v":9},{"$f":"IF(MONTH(E511+COLUMN()-COLUMN(C515)+(ROW()-ROW(C515)-2)*7)=F511,DAY(E511+COLUMN()-COLUMN(C515)+(ROW()-ROW(C515)-2)*7),\"\")","v":10},{"$f":"IF(MONTH(E511+COLUMN()-COLUMN(C515)+(ROW()-ROW(C515)-2)*7)=F511,DAY(E511+COLUMN()-COLUMN(C515)+(ROW()-ROW(C515)-2)*7),\"\")","v":11},{"$f":"IF(MONTH(E511+COLUMN()-COLUMN(C515)+(ROW()-ROW(C515)-2)*7)=F511,DAY(E511+COLUMN()-COLUMN(C515)+(ROW()-ROW(C515)-2)*7),\"\")","v":12}]
[null,{"$f":"IF(C521<>\"\",VLOOKUP(DATE(1900,$F511,C521),$D$3:$F$368,3),\"\")","v":0},null,{"$f":"IF(D521<>\"\",VLOOKUP(DATE(1900,$F511,D521),$D$3:$F$368,3),\"\")","v":0},0,0,0,0,0]
[null,{"$f":"IF(C521<>\"\",VLOOKUP(DATE(1900,$F511,C521),$D$3:$E$368,2),\"\")","v":"St Hippolyte"},null,{"$f":"IF(D521<>\"\",VLOOKUP(DATE(1900,$F511,D521),$D$3:$E$368,2),\"\")","v":"St Evrard"},"Assomption","St Armel","St Hyacinthe","Ste Hélène","St Jean Eudes"]
[null,{"$f":"B518+1","v":33},{"$f":"IF(MONTH(E511+COLUMN()-COLUMN(C515)+(ROW()-ROW(C515)-4)*7)=F511,DAY(E511+COLUMN()-COLUMN(C515)+(ROW()-ROW(C515)-4)*7),\"\")","v":13},{"$f":"IF(MONTH(E511+COLUMN()-COLUMN(C515)+(ROW()-ROW(C515)-4)*7)=F511,DAY(E511+COLUMN()-COLUMN(C515)+(ROW()-ROW(C515)-4)*7),\"\")","v":14},{"$f":"IF(MONTH(E511+COLUMN()-COLUMN(C515)+(ROW()-ROW(C515)-4)*7)=F511,DAY(E511+COLUMN()-COLUMN(C515)+(ROW()-ROW(C515)-4)*7),\"\")","v":15},{"$f":"IF(MONTH(E511+COLUMN()-COLUMN(C515)+(ROW()-ROW(C515)-4)*7)=F511,DAY(E511+COLUMN()-COLUMN(C515)+(ROW()-ROW(C515)-4)*7),\"\")","v":16},{"$f":"IF(MONTH(E511+COLUMN()-COLUMN(C515)+(ROW()-ROW(C515)-4)*7)=F511,DAY(E511+COLUMN()-COLUMN(C515)+(ROW()-ROW(C515)-4)*7),\"\")","v":17},{"$f":"IF(MONTH(E511+COLUMN()-COLUMN(C515)+(ROW()-ROW(C515)-4)*7)=F511,DAY(E511+COLUMN()-COLUMN(C515)+(ROW()-ROW(C515)-4)*7),\"\")","v":18},{"$f":"IF(MONTH(E511+COLUMN()-COLUMN(C515)+(ROW()-ROW(C515)-4)*7)=F511,DAY(E511+COLUMN()-COLUMN(C515)+(ROW()-ROW(C515)-4)*7),\"\")","v":19}]
[null,{"$f":"IF(C524<>\"\",VLOOKUP(DATE(1900,$F511,C524),$D$3:$F$368,3),\"\")","v":0},null,{"$f":"IF(D524<>\"\",VLOOKUP(DATE(1900,$F511,D524),$D$3:$F$368,3),\"\")","v":0},0,0,0,0,0]
[null,{"$f":"IF(C524<>\"\",VLOOKUP(DATE(1900,$F511,C524),$D$3:$E$368,2),\"\")","v":"St Bernard"},null,{"$f":"IF(D524<>\"\",VLOOKUP(DATE(1900,$F511,D524),$D$3:$E$368,2),\"\")","v":"St Christophe"},"St Fabrice","Ste Rose de Lima","St Barthélémy","St Louis","Ste Natacha"]
[null,{"$f":"B521+1","v":34},{"$f":"IF(MONTH(E511+COLUMN()-COLUMN(C515)+(ROW()-ROW(C515)-6)*7)=F511,DAY(E511+COLUMN()-COLUMN(C515)+(ROW()-ROW(C515)-6)*7),\"\")","v":20},{"$f":"IF(MONTH(E511+COLUMN()-COLUMN(C515)+(ROW()-ROW(C515)-6)*7)=F511,DAY(E511+COLUMN()-COLUMN(C515)+(ROW()-ROW(C515)-6)*7),\"\")","v":21},{"$f":"IF(MONTH(E511+COLUMN()-COLUMN(C515)+(ROW()-ROW(C515)-6)*7)=F511,DAY(E511+COLUMN()-COLUMN(C515)+(ROW()-ROW(C515)-6)*7),\"\")","v":22},{"$f":"IF(MONTH(E511+COLUMN()-COLUMN(C515)+(ROW()-ROW(C515)-6)*7)=F511,DAY(E511+COLUMN()-COLUMN(C515)+(ROW()-ROW(C515)-6)*7),\"\")","v":23},{"$f":"IF(MONTH(E511+COLUMN()-COLUMN(C515)+(ROW()-ROW(C515)-6)*7)=F511,DAY(E511+COLUMN()-COLUMN(C515)+(ROW()-ROW(C515)-6)*7),\"\")","v":24},{"$f":"IF(MONTH(E511+COLUMN()-COLUMN(C515)+(ROW()-ROW(C515)-6)*7)=F511,DAY(E511+COLUMN()-COLUMN(C515)+(ROW()-ROW(C515)-6)*7),\"\")","v":25},{"$f":"IF(MONTH(E511+COLUMN()-COLUMN(C515)+(ROW()-ROW(C515)-6)*7)=F511,DAY(E511+COLUMN()-COLUMN(C515)+(ROW()-ROW(C515)-6)*7),\"\")","v":26}]
[null,{"$f":"IF(C527<>\"\",VLOOKUP(DATE(1900,$F511,C527),$D$3:$F$368,3),\"\")","v":0},null,{"$f":"IF(D527<>\"\",VLOOKUP(DATE(1900,$F511,D527),$D$3:$F$368,3),\"\")","v":0},0,0,0,"",""]
[null,{"$f":"IF(C527<>\"\",VLOOKUP(DATE(1900,$F511,C527),$D$3:$E$368,2),\"\")","v":"Ste Monique"},null,{"$f":"IF(D527<>\"\",VLOOKUP(DATE(1900,$F511,D527),$D$3:$E$368,2),\"\")","v":"St Augustin"},"Ste Sabine","St Fiacre","St Aristide","",""]
[null,{"$f":"IF(C527=\"\",\"\",IF(B524=H509,1,B524+1))","v":35},{"$f":"IF(MONTH(E511+COLUMN()-COLUMN(C515)+(ROW()-ROW(C515)-8)*7)=F511,DAY(E511+COLUMN()-COLUMN(C515)+(ROW()-ROW(C515)-8)*7),\"\")","v":27},{"$f":"IF(MONTH(E511+COLUMN()-COLUMN(C515)+(ROW()-ROW(C515)-8)*7)=F511,DAY(E511+COLUMN()-COLUMN(C515)+(ROW()-ROW(C515)-8)*7),\"\")","v":28},{"$f":"IF(MONTH(E511+COLUMN()-COLUMN(C515)+(ROW()-ROW(C515)-8)*7)=F511,DAY(E511+COLUMN()-COLUMN(C515)+(ROW()-ROW(C515)-8)*7),\"\")","v":29},{"$f":"IF(MONTH(E511+COLUMN()-COLUMN(C515)+(ROW()-ROW(C515)-8)*7)=F511,DAY(E511+COLUMN()-COLUMN(C515)+(ROW()-ROW(C515)-8)*7),\"\")","v":30},{"$f":"IF(MONTH(E511+COLUMN()-COLUMN(C515)+(ROW()-ROW(C515)-8)*7)=F511,DAY(E511+COLUMN()-COLUMN(C515)+(ROW()-ROW(C515)-8)*7),\"\")","v":31},{"$f":"IF(MONTH(E511+COLUMN()-COLUMN(C515)+(ROW()-ROW(C515)-8)*7)=F511,DAY(E511+COLUMN()-COLUMN(C515)+(ROW()-ROW(C515)-8)*7),\"\")","v":""},{"$f":"IF(MONTH(E511+COLUMN()-COLUMN(C515)+(ROW()-ROW(C515)-8)*7)=F511,DAY(E511+COLUMN()-COLUMN(C515)+(ROW()-ROW(C515)-8)*7),\"\")","v":""}]
[null,{"$f":"IF(C530<>\"\",VLOOKUP(DATE(1900,$F511,C530),$D$3:$F$368,3),\"\")","v":""},null,{"$f":"IF(D530<>\"\",VLOOKUP(DATE(1900,$F511,D530),$D$3:$F$368,3),\"\")","v":""},"","","","",""]
[null,{"$f":"IF(C530<>\"\",VLOOKUP(DATE(1900,$F511,C530),$D$3:$E$368,2),\"\")","v":""},null,{"$f":"IF(D530<>\"\",VLOOKUP(DATE(1900,$F511,D530),$D$3:$E$368,2),\"\")","v":""},"","","","",""]
[null,{"$f":"IF(C530=\"\",\"\",IF(B527=H509,1,B527+1))","v":""},{"$f":"IF(MONTH(E511+COLUMN()-COLUMN(C515)+(ROW()-ROW(C515)-10)*7)=F511,DAY(E511+COLUMN()-COLUMN(C515)+(ROW()-ROW(C515)-10)*7),\"\")","v":""},{"$f":"IF(MONTH(E511+COLUMN()-COLUMN(C515)+(ROW()-ROW(C515)-10)*7)=F511,DAY(E511+COLUMN()-COLUMN(C515)+(ROW()-ROW(C515)-10)*7),\"\")","v":""},{"$f":"IF(MONTH(E511+COLUMN()-COLUMN(C515)+(ROW()-ROW(C515)-10)*7)=F511,DAY(E511+COLUMN()-COLUMN(C515)+(ROW()-ROW(C515)-10)*7),\"\")","v":""},{"$f":"IF(MONTH(E511+COLUMN()-COLUMN(C515)+(ROW()-ROW(C515)-10)*7)=F511,DAY(E511+COLUMN()-COLUMN(C515)+(ROW()-ROW(C515)-10)*7),\"\")","v":""},{"$f":"IF(MONTH(E511+COLUMN()-COLUMN(C515)+(ROW()-ROW(C515)-10)*7)=F511,DAY(E511+COLUMN()-COLUMN(C515)+(ROW()-ROW(C515)-10)*7),\"\")","v":""},{"$f":"IF(MONTH(E511+COLUMN()-COLUMN(C515)+(ROW()-ROW(C515)-10)*7)=F511,DAY(E511+COLUMN()-COLUMN(C515)+(ROW()-ROW(C515)-10)*7),\"\")","v":""},{"$f":"IF(MONTH(E511+COLUMN()-COLUMN(C515)+(ROW()-ROW(C515)-10)*7)=F511,DAY(E511+COLUMN()-COLUMN(C515)+(ROW()-ROW(C515)-10)*7),\"\")","v":""}]
[null,{"$f":"B511","v":"2012"},null,null,{"$f":"IF(C530<>\"\",E511+35,IF(I527=\"\",E511+28,E511+35))","v":41148},{"$f":"F511+1","v":9},null,null,{"$f":"TEXT(DATE(B531,F531,1),\"mmmm\")","v":"septembre"}]
[null,null,"Lundi","Mardi","Mercredi","Jeudi","Vendredi","Samedi","Dimanche"]
[null,{"$f":"IF(C535<>\"\",VLOOKUP(DATE(1900,$F531,C535),$D$3:$F$368,3),\"\")","v":""},null,{"$f":"IF(D535<>\"\",VLOOKUP(DATE(1900,$F$531,D535),$D$3:$F$368,3),\"\")","v":""},{"$f":"IF(E535<>\"\",VLOOKUP(DATE(1900,$F531,E535),$D$3:$F$368,3),\"\")","v":""},{"$f":"IF(F535<>\"\",VLOOKUP(DATE(1900,$F531,F535),$D$3:$F$368,3),\"\")","v":""},{"$f":"IF(G535<>\"\",VLOOKUP(DATE(1900,$F531,G535),$D$3:$F$368,3),\"\")","v":""},{"$f":"IF(H535<>\"\",VLOOKUP(DATE(1900,$F531,H535),$D$3:$F$368,3),\"\")","v":0},{"$f":"IF(I535<>\"\",VLOOKUP(DATE(1900,$F531,I535),$D$3:$F$368,3),\"\")","v":0}]
[null,{"$f":"IF(C535<>\"\",VLOOKUP(DATE(1900,$F531,C535),$D$3:$E$368,2),\"\")","v":""},null,{"$f":"IF(D535<>\"\",VLOOKUP(DATE(1900,$F$531,D535),$D$3:$E$368,2),\"\")","v":""},{"$f":"IF(E535<>\"\",VLOOKUP(DATE(1900,$F531,E535),$D$3:$E$368,2),\"\")","v":""},{"$f":"IF(F535<>\"\",VLOOKUP(DATE(1900,$F531,F535),$D$3:$E$368,2),\"\")","v":""},{"$f":"IF(G535<>\"\",VLOOKUP(DATE(1900,$F531,G535),$D$3:$E$368,2),\"\")","v":""},{"$f":"IF(H535<>\"\",VLOOKUP(DATE(1900,$F531,H535),$D$3:$E$368,2),\"\")","v":"St Gilles"},{"$f":"IF(I535<>\"\",VLOOKUP(DATE(1900,$F531,I535),$D$3:$E$368,2),\"\")","v":"Ste Ingrid"}]
[null,{"$f":"MAX(B530,B527,B524)+(I530<>\"\")+AND(I527=\"\",C527=\"\")+AND(I527<>\"\",C530=\"\")","v":35},{"$f":"IF(MONTH(E531+COLUMN()-COLUMN(C535)+(ROW()-ROW(C535))*7)=F531,DAY(E531+COLUMN()-COLUMN(C535)+(ROW()-ROW(C535))*7),\"\")","v":""},{"$f":"IF(MONTH(E531+COLUMN()-COLUMN(C535)+(ROW()-ROW(C535))*7)=F531,DAY(E531+COLUMN()-COLUMN(C535)+(ROW()-ROW(C535))*7),\"\")","v":""},{"$f":"IF(MONTH(E531+COLUMN()-COLUMN(C535)+(ROW()-ROW(C535))*7)=F531,DAY(E531+COLUMN()-COLUMN(C535)+(ROW()-ROW(C535))*7),\"\")","v":""},{"$f":"IF(MONTH(E531+COLUMN()-COLUMN(C535)+(ROW()-ROW(C535))*7)=F531,DAY(E531+COLUMN()-COLUMN(C535)+(ROW()-ROW(C535))*7),\"\")","v":""},{"$f":"IF(MONTH(E531+COLUMN()-COLUMN(C535)+(ROW()-ROW(C535))*7)=F531,DAY(E531+COLUMN()-COLUMN(C535)+(ROW()-ROW(C535))*7),\"\")","v":""},{"$f":"IF(MONTH(E531+COLUMN()-COLUMN(C535)+(ROW()-ROW(C535))*7)=F531,DAY(E531+COLUMN()-COLUMN(C535)+(ROW()-ROW(C535))*7),\"\")","v":1},{"$f":"IF(MONTH(E531+COLUMN()-COLUMN(C535)+(ROW()-ROW(C535))*7)=F531,DAY(E531+COLUMN()-COLUMN(C535)+(ROW()-ROW(C535))*7),\"\")","v":2}]
[null,{"$f":"IF(C538<>\"\",VLOOKUP(DATE(1900,$F$531,C538),$D$3:$F$368,3),\"\")","v":0},null,{"$f":"IF(D538<>\"\",VLOOKUP(DATE(1900,$F$531,D538),$D$3:$F$368,3),\"\")","v":0},0,0,0,0,0]
[null,{"$f":"IF(C538<>\"\",VLOOKUP(DATE(1900,$F531,C538),$D$3:$E$368,2),\"\")","v":"St Grégoire"},null,{"$f":"IF(D538<>\"\",VLOOKUP(DATE(1900,$F531,D538),$D$3:$E$368,2),\"\")","v":"Ste Rosalie"},"Ste Raïssa","St Bertrand","Ste Reine","Nativité","St Alain"]
[null,{"$f":"(B535+1)-(INT(((B535+1)-1)/$P$374))*$P$374","v":36},{"$f":"IF(MONTH(E531+COLUMN()-COLUMN(C535)+(ROW()-ROW(C535)-2)*7)=F531,DAY(E531+COLUMN()-COLUMN(C535)+(ROW()-ROW(C535)-2)*7),\"\")","v":3},{"$f":"IF(MONTH(E531+COLUMN()-COLUMN(C535)+(ROW()-ROW(C535)-2)*7)=F531,DAY(E531+COLUMN()-COLUMN(C535)+(ROW()-ROW(C535)-2)*7),\"\")","v":4},{"$f":"IF(MONTH(E531+COLUMN()-COLUMN(C535)+(ROW()-ROW(C535)-2)*7)=F531,DAY(E531+COLUMN()-COLUMN(C535)+(ROW()-ROW(C535)-2)*7),\"\")","v":5},{"$f":"IF(MONTH(E531+COLUMN()-COLUMN(C535)+(ROW()-ROW(C535)-2)*7)=F531,DAY(E531+COLUMN()-COLUMN(C535)+(ROW()-ROW(C535)-2)*7),\"\")","v":6},{"$f":"IF(MONTH(E531+COLUMN()-COLUMN(C535)+(ROW()-ROW(C535)-2)*7)=F531,DAY(E531+COLUMN()-COLUMN(C535)+(ROW()-ROW(C535)-2)*7),\"\")","v":7},{"$f":"IF(MONTH(E531+COLUMN()-COLUMN(C535)+(ROW()-ROW(C535)-2)*7)=F531,DAY(E531+COLUMN()-COLUMN(C535)+(ROW()-ROW(C535)-2)*7),\"\")","v":8},{"$f":"IF(MONTH(E531+COLUMN()-COLUMN(C535)+(ROW()-ROW(C535)-2)*7)=F531,DAY(E531+COLUMN()-COLUMN(C535)+(ROW()-ROW(C535)-2)*7),\"\")","v":9}]
[null,{"$f":"IF(C541<>\"\",VLOOKUP(DATE(1900,$F$531,C541),$D$3:$F$368,3),\"\")","v":0},null,{"$f":"IF(D541<>\"\",VLOOKUP(DATE(1900,$F$531,D541),$D$3:$F$368,3),\"\")","v":0},0,0,0,0,0]
[null,{"$f":"IF(C541<>\"\",VLOOKUP(DATE(1900,$F531,C541),$D$3:$E$368,2),\"\")","v":"Ste Inès"},null,{"$f":"IF(D541<>\"\",VLOOKUP(DATE(1900,$F531,D541),$D$3:$E$368,2),\"\")","v":"Ste Adelphe"},"St Apollinaire","St Aimé","Croix Glorieuse","St Roland","Ste Edith"]
[null,{"$f":"B538+1","v":37},{"$f":"IF(MONTH(E531+COLUMN()-COLUMN(C535)+(ROW()-ROW(C535)-4)*7)=F531,DAY(E531+COLUMN()-COLUMN(C535)+(ROW()-ROW(C535)-4)*7),\"\")","v":10},{"$f":"IF(MONTH(E531+COLUMN()-COLUMN(C535)+(ROW()-ROW(C535)-4)*7)=F531,DAY(E531+COLUMN()-COLUMN(C535)+(ROW()-ROW(C535)-4)*7),\"\")","v":11},{"$f":"IF(MONTH(E531+COLUMN()-COLUMN(C535)+(ROW()-ROW(C535)-4)*7)=F531,DAY(E531+COLUMN()-COLUMN(C535)+(ROW()-ROW(C535)-4)*7),\"\")","v":12},{"$f":"IF(MONTH(E531+COLUMN()-COLUMN(C535)+(ROW()-ROW(C535)-4)*7)=F531,DAY(E531+COLUMN()-COLUMN(C535)+(ROW()-ROW(C535)-4)*7),\"\")","v":13},{"$f":"IF(MONTH(E531+COLUMN()-COLUMN(C535)+(ROW()-ROW(C535)-4)*7)=F531,DAY(E531+COLUMN()-COLUMN(C535)+(ROW()-ROW(C535)-4)*7),\"\")","v":14},{"$f":"IF(MONTH(E531+COLUMN()-COLUMN(C535)+(ROW()-ROW(C535)-4)*7)=F531,DAY(E531+COLUMN()-COLUMN(C535)+(ROW()-ROW(C535)-4)*7),\"\")","v":15},{"$f":"IF(MONTH(E531+COLUMN()-COLUMN(C535)+(ROW()-ROW(C535)-4)*7)=F531,DAY(E531+COLUMN()-COLUMN(C535)+(ROW()-ROW(C535)-4)*7),\"\")","v":16}]
[null,{"$f":"IF(C544<>\"\",VLOOKUP(DATE(1900,$F$531,C544),$D$3:$F$368,3),\"\")","v":0},null,{"$f":"IF(D544<>\"\",VLOOKUP(DATE(1900,$F$531,D544),$D$3:$F$368,3),\"\")","v":0},0,0,0,0,0]
[null,{"$f":"IF(C544<>\"\",VLOOKUP(DATE(1900,$F531,C544),$D$3:$E$368,2),\"\")","v":"St Renaud"},null,{"$f":"IF(D544<>\"\",VLOOKUP(DATE(1900,$F531,D544),$D$3:$E$368,2),\"\")","v":"Ste Nadège"},"Ste Emilie","St Davy","St Matthieu","St Maurice","St Constant"]
[null,{"$f":"B541+1","v":38},{"$f":"IF(MONTH(E531+COLUMN()-COLUMN(C535)+(ROW()-ROW(C535)-6)*7)=F531,DAY(E531+COLUMN()-COLUMN(C535)+(ROW()-ROW(C535)-6)*7),\"\")","v":17},{"$f":"IF(MONTH(E531+COLUMN()-COLUMN(C535)+(ROW()-ROW(C535)-6)*7)=F531,DAY(E531+COLUMN()-COLUMN(C535)+(ROW()-ROW(C535)-6)*7),\"\")","v":18},{"$f":"IF(MONTH(E531+COLUMN()-COLUMN(C535)+(ROW()-ROW(C535)-6)*7)=F531,DAY(E531+COLUMN()-COLUMN(C535)+(ROW()-ROW(C535)-6)*7),\"\")","v":19},{"$f":"IF(MONTH(E531+COLUMN()-COLUMN(C535)+(ROW()-ROW(C535)-6)*7)=F531,DAY(E531+COLUMN()-COLUMN(C535)+(ROW()-ROW(C535)-6)*7),\"\")","v":20},{"$f":"IF(MONTH(E531+COLUMN()-COLUMN(C535)+(ROW()-ROW(C535)-6)*7)=F531,DAY(E531+COLUMN()-COLUMN(C535)+(ROW()-ROW(C535)-6)*7),\"\")","v":21},{"$f":"IF(MONTH(E531+COLUMN()-COLUMN(C535)+(ROW()-ROW(C535)-6)*7)=F531,DAY(E531+COLUMN()-COLUMN(C535)+(ROW()-ROW(C535)-6)*7),\"\")","v":22},{"$f":"IF(MONTH(E531+COLUMN()-COLUMN(C535)+(ROW()-ROW(C535)-6)*7)=F531,DAY(E531+COLUMN()-COLUMN(C535)+(ROW()-ROW(C535)-6)*7),\"\")","v":23}]
[null,{"$f":"IF(C547<>\"\",VLOOKUP(DATE(1900,$F$531,C547),$D$3:$F$368,3),\"\")","v":0},null,{"$f":"IF(D547<>\"\",VLOOKUP(DATE(1900,$F$531,D547),$D$3:$F$368,3),\"\")","v":0},{"$f":"IF(E547<>\"\",VLOOKUP(DATE(1900,$F$531,E547),$D$3:$F$368,3),\"\")","v":0},{"$f":"IF(F547<>\"\",VLOOKUP(DATE(1900,$F$531,F547),$D$3:$F$368,3),\"\")","v":0},{"$f":"IF(G547<>\"\",VLOOKUP(DATE(1900,$F$531,G547),$D$3:$F$368,3),\"\")","v":0},{"$f":"IF(H547<>\"\",VLOOKUP(DATE(1900,$F$531,H547),$D$3:$F$368,3),\"\")","v":0}]
[null,{"$f":"IF(C547<>\"\",VLOOKUP(DATE(1900,$F531,C547),$D$3:$E$368,2),\"\")","v":"Ste Thècle"},null,{"$f":"IF(D547<>\"\",VLOOKUP(DATE(1900,$F531,D547),$D$3:$E$368,2),\"\")","v":"St Herman"},"St Côme-Damien","St Vincent de Paul","St Venceslas","Sts Michel-Gabriel","St Jérôme"]
[null,{"$f":"IF(C547=\"\",\"\",IF(B544=H529,1,B544+1))","v":39},{"$f":"IF(MONTH(E531+COLUMN()-COLUMN(C535)+(ROW()-ROW(C535)-8)*7)=F531,DAY(E531+COLUMN()-COLUMN(C535)+(ROW()-ROW(C535)-8)*7),\"\")","v":24},{"$f":"IF(MONTH(E531+COLUMN()-COLUMN(C535)+(ROW()-ROW(C535)-8)*7)=F531,DAY(E531+COLUMN()-COLUMN(C535)+(ROW()-ROW(C535)-8)*7),\"\")","v":25},{"$f":"IF(MONTH(E531+COLUMN()-COLUMN(C535)+(ROW()-ROW(C535)-8)*7)=F531,DAY(E531+COLUMN()-COLUMN(C535)+(ROW()-ROW(C535)-8)*7),\"\")","v":26},{"$f":"IF(MONTH(E531+COLUMN()-COLUMN(C535)+(ROW()-ROW(C535)-8)*7)=F531,DAY(E531+COLUMN()-COLUMN(C535)+(ROW()-ROW(C535)-8)*7),\"\")","v":27},{"$f":"IF(MONTH(E531+COLUMN()-COLUMN(C535)+(ROW()-ROW(C535)-8)*7)=F531,DAY(E531+COLUMN()-COLUMN(C535)+(ROW()-ROW(C535)-8)*7),\"\")","v":28},{"$f":"IF(MONTH(E531+COLUMN()-COLUMN(C535)+(ROW()-ROW(C535)-8)*7)=F531,DAY(E531+COLUMN()-COLUMN(C535)+(ROW()-ROW(C535)-8)*7),\"\")","v":29},{"$f":"IF(MONTH(E531+COLUMN()-COLUMN(C535)+(ROW()-ROW(C535)-8)*7)=F531,DAY(E531+COLUMN()-COLUMN(C535)+(ROW()-ROW(C535)-8)*7),\"\")","v":30}]
[null,{"$f":"IF(C550<>\"\",VLOOKUP(DATE(1900,$F$531,C550),$D$3:$F$368,3),\"\")","v":""},null,{"$f":"IF(D550<>\"\",VLOOKUP(DATE(1900,$F$531,D550),$D$3:$F$368,3),\"\")","v":""},"","","","",""]
[null,{"$f":"IF(C550<>\"\",VLOOKUP(DATE(1900,$F531,C550),$D$3:$E$368,2),\"\")","v":""},null,{"$f":"IF(D550<>\"\",VLOOKUP(DATE(1900,$F531,D550),$D$3:$E$368,2),\"\")","v":""},"","","","",""]
[null,{"$f":"IF(C550=\"\",\"\",IF(B547=H529,1,B547+1))","v":""},{"$f":"IF(MONTH(E531+COLUMN()-COLUMN(C535)+(ROW()-ROW(C535)-10)*7)=F531,DAY(E531+COLUMN()-COLUMN(C535)+(ROW()-ROW(C535)-10)*7),\"\")","v":""},{"$f":"IF(MONTH(E531+COLUMN()-COLUMN(C535)+(ROW()-ROW(C535)-10)*7)=F531,DAY(E531+COLUMN()-COLUMN(C535)+(ROW()-ROW(C535)-10)*7),\"\")","v":""},{"$f":"IF(MONTH(E531+COLUMN()-COLUMN(C535)+(ROW()-ROW(C535)-10)*7)=F531,DAY(E531+COLUMN()-COLUMN(C535)+(ROW()-ROW(C535)-10)*7),\"\")","v":""},{"$f":"IF(MONTH(E531+COLUMN()-COLUMN(C535)+(ROW()-ROW(C535)-10)*7)=F531,DAY(E531+COLUMN()-COLUMN(C535)+(ROW()-ROW(C535)-10)*7),\"\")","v":""},{"$f":"IF(MONTH(E531+COLUMN()-COLUMN(C535)+(ROW()-ROW(C535)-10)*7)=F531,DAY(E531+COLUMN()-COLUMN(C535)+(ROW()-ROW(C535)-10)*7),\"\")","v":""},{"$f":"IF(MONTH(E531+COLUMN()-COLUMN(C535)+(ROW()-ROW(C535)-10)*7)=F531,DAY(E531+COLUMN()-COLUMN(C535)+(ROW()-ROW(C535)-10)*7),\"\")","v":""},{"$f":"IF(MONTH(E531+COLUMN()-COLUMN(C535)+(ROW()-ROW(C535)-10)*7)=F531,DAY(E531+COLUMN()-COLUMN(C535)+(ROW()-ROW(C535)-10)*7),\"\")","v":""}]
[null,{"$f":"B531","v":"2012"},null,null,{"$f":"IF(C550<>\"\",E531+35,IF(I547=\"\",E531+28,E531+35))","v":41183},{"$f":"F531+1","v":10},null,null,{"$f":"TEXT(DATE(B551,F551,1),\"mmmm\")","v":"octobre"}]
[null,null,"Lundi","Mardi","Mercredi","Jeudi","Vendredi","Samedi","Dimanche"]
[null,{"$f":"IF(C555<>\"\",VLOOKUP(DATE(1900,$F$551,C555),$D$3:$F$368,3),\"\")","v":0},null,{"$f":"IF(D555<>\"\",VLOOKUP(DATE(1900,$F$551,D555),$D$3:$F$368,3),\"\")","v":0},0,0,0,0,0]
[null,{"$f":"IF(C555<>\"\",VLOOKUP(DATE(1900,$F551,C555),$D$3:$E$368,2),\"\")","v":"Ste Thérèse de l'E. J."},null,{"$f":"IF(D555<>\"\",VLOOKUP(DATE(1900,$F551,D555),$D$3:$E$368,2),\"\")","v":"St Léger"},"St Gérard","St Fr. d'Assise","Ste Fleur","St Bruno","St Serge"]
[null,{"$f":"MAX(B550,B547,B544)+(I550<>\"\")+AND(I547=\"\",C547=\"\")+AND(I547<>\"\",C550=\"\")","v":40},{"$f":"IF(MONTH(E551+COLUMN()-COLUMN(C555)+(ROW()-ROW(C555))*7)=F551,DAY(E551+COLUMN()-COLUMN(C555)+(ROW()-ROW(C555))*7),\"\")","v":1},{"$f":"IF(MONTH(E551+COLUMN()-COLUMN(C555)+(ROW()-ROW(C555))*7)=F551,DAY(E551+COLUMN()-COLUMN(C555)+(ROW()-ROW(C555))*7),\"\")","v":2},{"$f":"IF(MONTH(E551+COLUMN()-COLUMN(C555)+(ROW()-ROW(C555))*7)=F551,DAY(E551+COLUMN()-COLUMN(C555)+(ROW()-ROW(C555))*7),\"\")","v":3},{"$f":"IF(MONTH(E551+COLUMN()-COLUMN(C555)+(ROW()-ROW(C555))*7)=F551,DAY(E551+COLUMN()-COLUMN(C555)+(ROW()-ROW(C555))*7),\"\")","v":4},{"$f":"IF(MONTH(E551+COLUMN()-COLUMN(C555)+(ROW()-ROW(C555))*7)=F551,DAY(E551+COLUMN()-COLUMN(C555)+(ROW()-ROW(C555))*7),\"\")","v":5},{"$f":"IF(MONTH(E551+COLUMN()-COLUMN(C555)+(ROW()-ROW(C555))*7)=F551,DAY(E551+COLUMN()-COLUMN(C555)+(ROW()-ROW(C555))*7),\"\")","v":6},{"$f":"IF(MONTH(E551+COLUMN()-COLUMN(C555)+(ROW()-ROW(C555))*7)=F551,DAY(E551+COLUMN()-COLUMN(C555)+(ROW()-ROW(C555))*7),\"\")","v":7}]
[null,{"$f":"IF(C558<>\"\",VLOOKUP(DATE(1900,$F$551,C558),$D$3:$F$368,3),\"\")","v":0},null,{"$f":"IF(D558<>\"\",VLOOKUP(DATE(1900,$F$551,D558),$D$3:$F$368,3),\"\")","v":"ALINE"},0,0,0,0,0]
[null,{"$f":"IF(C558<>\"\",VLOOKUP(DATE(1900,$F551,C558),$D$3:$E$368,2),\"\")","v":"Ste Pélagie"},null,{"$f":"IF(D558<>\"\",VLOOKUP(DATE(1900,$F551,D558),$D$3:$E$368,2),\"\")","v":"St Denis "},"St Ghislain","St Firmin","St Wilfrid","St Géraud","St Juste"]
[null,{"$f":"(B555+1)-(INT(((B555+1)-1)/$P$374))*$P$374","v":41},{"$f":"IF(MONTH(E551+COLUMN()-COLUMN(C555)+(ROW()-ROW(C555)-2)*7)=F551,DAY(E551+COLUMN()-COLUMN(C555)+(ROW()-ROW(C555)-2)*7),\"\")","v":8},{"$f":"IF(MONTH(E551+COLUMN()-COLUMN(C555)+(ROW()-ROW(C555)-2)*7)=F551,DAY(E551+COLUMN()-COLUMN(C555)+(ROW()-ROW(C555)-2)*7),\"\")","v":9},{"$f":"IF(MONTH(E551+COLUMN()-COLUMN(C555)+(ROW()-ROW(C555)-2)*7)=F551,DAY(E551+COLUMN()-COLUMN(C555)+(ROW()-ROW(C555)-2)*7),\"\")","v":10},{"$f":"IF(MONTH(E551+COLUMN()-COLUMN(C555)+(ROW()-ROW(C555)-2)*7)=F551,DAY(E551+COLUMN()-COLUMN(C555)+(ROW()-ROW(C555)-2)*7),\"\")","v":11},{"$f":"IF(MONTH(E551+COLUMN()-COLUMN(C555)+(ROW()-ROW(C555)-2)*7)=F551,DAY(E551+COLUMN()-COLUMN(C555)+(ROW()-ROW(C555)-2)*7),\"\")","v":12},{"$f":"IF(MONTH(E551+COLUMN()-COLUMN(C555)+(ROW()-ROW(C555)-2)*7)=F551,DAY(E551+COLUMN()-COLUMN(C555)+(ROW()-ROW(C555)-2)*7),\"\")","v":13},{"$f":"IF(MONTH(E551+COLUMN()-COLUMN(C555)+(ROW()-ROW(C555)-2)*7)=F551,DAY(E551+COLUMN()-COLUMN(C555)+(ROW()-ROW(C555)-2)*7),\"\")","v":14}]
[null,{"$f":"IF(C561<>\"\",VLOOKUP(DATE(1900,$F$551,C561),$D$3:$F$368,3),\"\")","v":0},null,{"$f":"IF(D561<>\"\",VLOOKUP(DATE(1900,$F$551,D561),$D$3:$F$368,3),\"\")","v":0},0,0,0,0,0]
[null,{"$f":"IF(C561<>\"\",VLOOKUP(DATE(1900,$F551,C561),$D$3:$E$368,2),\"\")","v":"Ste Thérèse d'A."},null,{"$f":"IF(D561<>\"\",VLOOKUP(DATE(1900,$F551,D561),$D$3:$E$368,2),\"\")","v":"Ste Edwige"},"St Baudouin","St Luc","St René","Ste Adeline","Ste Céline"]
[null,{"$f":"B558+1","v":42},{"$f":"IF(MONTH(E551+COLUMN()-COLUMN(C555)+(ROW()-ROW(C555)-4)*7)=F551,DAY(E551+COLUMN()-COLUMN(C555)+(ROW()-ROW(C555)-4)*7),\"\")","v":15},{"$f":"IF(MONTH(E551+COLUMN()-COLUMN(C555)+(ROW()-ROW(C555)-4)*7)=F551,DAY(E551+COLUMN()-COLUMN(C555)+(ROW()-ROW(C555)-4)*7),\"\")","v":16},{"$f":"IF(MONTH(E551+COLUMN()-COLUMN(C555)+(ROW()-ROW(C555)-4)*7)=F551,DAY(E551+COLUMN()-COLUMN(C555)+(ROW()-ROW(C555)-4)*7),\"\")","v":17},{"$f":"IF(MONTH(E551+COLUMN()-COLUMN(C555)+(ROW()-ROW(C555)-4)*7)=F551,DAY(E551+COLUMN()-COLUMN(C555)+(ROW()-ROW(C555)-4)*7),\"\")","v":18},{"$f":"IF(MONTH(E551+COLUMN()-COLUMN(C555)+(ROW()-ROW(C555)-4)*7)=F551,DAY(E551+COLUMN()-COLUMN(C555)+(ROW()-ROW(C555)-4)*7),\"\")","v":19},{"$f":"IF(MONTH(E551+COLUMN()-COLUMN(C555)+(ROW()-ROW(C555)-4)*7)=F551,DAY(E551+COLUMN()-COLUMN(C555)+(ROW()-ROW(C555)-4)*7),\"\")","v":20},{"$f":"IF(MONTH(E551+COLUMN()-COLUMN(C555)+(ROW()-ROW(C555)-4)*7)=F551,DAY(E551+COLUMN()-COLUMN(C555)+(ROW()-ROW(C555)-4)*7),\"\")","v":21}]
[null,{"$f":"IF(C564<>\"\",VLOOKUP(DATE(1900,$F$551,C564),$D$3:$F$368,3),\"\")","v":0},null,{"$f":"IF(D564<>\"\",VLOOKUP(DATE(1900,$F$551,D564),$D$3:$F$368,3),\"\")","v":0},0,0,0,0,0]
[null,{"$f":"IF(C564<>\"\",VLOOKUP(DATE(1900,$F551,C564),$D$3:$E$368,2),\"\")","v":"Ste Salomé"},null,{"$f":"IF(D564<>\"\",VLOOKUP(DATE(1900,$F551,D564),$D$3:$E$368,2),\"\")","v":"St Jean de C."},"St Florentin","St Enguerran","St Dimitri","Ste Emeline","St Simon"]
[null,{"$f":"B561+1","v":43},{"$f":"IF(MONTH(E551+COLUMN()-COLUMN(C555)+(ROW()-ROW(C555)-6)*7)=F551,DAY(E551+COLUMN()-COLUMN(C555)+(ROW()-ROW(C555)-6)*7),\"\")","v":22},{"$f":"IF(MONTH(E551+COLUMN()-COLUMN(C555)+(ROW()-ROW(C555)-6)*7)=F551,DAY(E551+COLUMN()-COLUMN(C555)+(ROW()-ROW(C555)-6)*7),\"\")","v":23},{"$f":"IF(MONTH(E551+COLUMN()-COLUMN(C555)+(ROW()-ROW(C555)-6)*7)=F551,DAY(E551+COLUMN()-COLUMN(C555)+(ROW()-ROW(C555)-6)*7),\"\")","v":24},{"$f":"IF(MONTH(E551+COLUMN()-COLUMN(C555)+(ROW()-ROW(C555)-6)*7)=F551,DAY(E551+COLUMN()-COLUMN(C555)+(ROW()-ROW(C555)-6)*7),\"\")","v":25},{"$f":"IF(MONTH(E551+COLUMN()-COLUMN(C555)+(ROW()-ROW(C555)-6)*7)=F551,DAY(E551+COLUMN()-COLUMN(C555)+(ROW()-ROW(C555)-6)*7),\"\")","v":26},{"$f":"IF(MONTH(E551+COLUMN()-COLUMN(C555)+(ROW()-ROW(C555)-6)*7)=F551,DAY(E551+COLUMN()-COLUMN(C555)+(ROW()-ROW(C555)-6)*7),\"\")","v":27},{"$f":"IF(MONTH(E551+COLUMN()-COLUMN(C555)+(ROW()-ROW(C555)-6)*7)=F551,DAY(E551+COLUMN()-COLUMN(C555)+(ROW()-ROW(C555)-6)*7),\"\")","v":28}]
[null,{"$f":"IF(C567<>\"\",VLOOKUP(DATE(1900,$F$551,C567),$D$3:$F$368,3),\"\")","v":0},null,{"$f":"IF(D567<>\"\",VLOOKUP(DATE(1900,$F$551,D567),$D$3:$F$368,3),\"\")","v":0},0,"","","",""]
[null,{"$f":"IF(C567<>\"\",VLOOKUP(DATE(1900,$F551,C567),$D$3:$E$368,2),\"\")","v":"St Narcisse"},null,{"$f":"IF(D567<>\"\",VLOOKUP(DATE(1900,$F551,D567),$D$3:$E$368,2),\"\")","v":"Ste Bienvenue"},"St Quentin","","","",""]
[null,{"$f":"IF(C567=\"\",\"\",IF(B564=H549,1,B564+1))","v":44},{"$f":"IF(MONTH(E551+COLUMN()-COLUMN(C555)+(ROW()-ROW(C555)-8)*7)=F551,DAY(E551+COLUMN()-COLUMN(C555)+(ROW()-ROW(C555)-8)*7),\"\")","v":29},{"$f":"IF(MONTH(E551+COLUMN()-COLUMN(C555)+(ROW()-ROW(C555)-8)*7)=F551,DAY(E551+COLUMN()-COLUMN(C555)+(ROW()-ROW(C555)-8)*7),\"\")","v":30},{"$f":"IF(MONTH(E551+COLUMN()-COLUMN(C555)+(ROW()-ROW(C555)-8)*7)=F551,DAY(E551+COLUMN()-COLUMN(C555)+(ROW()-ROW(C555)-8)*7),\"\")","v":31},{"$f":"IF(MONTH(E551+COLUMN()-COLUMN(C555)+(ROW()-ROW(C555)-8)*7)=F551,DAY(E551+COLUMN()-COLUMN(C555)+(ROW()-ROW(C555)-8)*7),\"\")","v":""},{"$f":"IF(MONTH(E551+COLUMN()-COLUMN(C555)+(ROW()-ROW(C555)-8)*7)=F551,DAY(E551+COLUMN()-COLUMN(C555)+(ROW()-ROW(C555)-8)*7),\"\")","v":""},{"$f":"IF(MONTH(E551+COLUMN()-COLUMN(C555)+(ROW()-ROW(C555)-8)*7)=F551,DAY(E551+COLUMN()-COLUMN(C555)+(ROW()-ROW(C555)-8)*7),\"\")","v":""},{"$f":"IF(MONTH(E551+COLUMN()-COLUMN(C555)+(ROW()-ROW(C555)-8)*7)=F551,DAY(E551+COLUMN()-COLUMN(C555)+(ROW()-ROW(C555)-8)*7),\"\")","v":""}]
[null,{"$f":"IF(C570<>\"\",VLOOKUP(DATE(1900,$F$551,C570),$D$3:$F$368,3),\"\")","v":""},null,{"$f":"IF(D570<>\"\",VLOOKUP(DATE(1900,$F$551,D570),$D$3:$F$368,3),\"\")","v":""},"","","","",""]
[null,{"$f":"IF(C570<>\"\",VLOOKUP(DATE(1900,$F551,C570),$D$3:$E$368,2),\"\")","v":""},null,{"$f":"IF(D570<>\"\",VLOOKUP(DATE(1900,$F551,D570),$D$3:$E$368,2),\"\")","v":""},"","","","",""]
[null,{"$f":"IF(C570=\"\",\"\",IF(B567=H549,1,B567+1))","v":""},{"$f":"IF(MONTH(E551+COLUMN()-COLUMN(C555)+(ROW()-ROW(C555)-10)*7)=F551,DAY(E551+COLUMN()-COLUMN(C555)+(ROW()-ROW(C555)-10)*7),\"\")","v":""},{"$f":"IF(MONTH(E551+COLUMN()-COLUMN(C555)+(ROW()-ROW(C555)-10)*7)=F551,DAY(E551+COLUMN()-COLUMN(C555)+(ROW()-ROW(C555)-10)*7),\"\")","v":""},{"$f":"IF(MONTH(E551+COLUMN()-COLUMN(C555)+(ROW()-ROW(C555)-10)*7)=F551,DAY(E551+COLUMN()-COLUMN(C555)+(ROW()-ROW(C555)-10)*7),\"\")","v":""},{"$f":"IF(MONTH(E551+COLUMN()-COLUMN(C555)+(ROW()-ROW(C555)-10)*7)=F551,DAY(E551+COLUMN()-COLUMN(C555)+(ROW()-ROW(C555)-10)*7),\"\")","v":""},{"$f":"IF(MONTH(E551+COLUMN()-COLUMN(C555)+(ROW()-ROW(C555)-10)*7)=F551,DAY(E551+COLUMN()-COLUMN(C555)+(ROW()-ROW(C555)-10)*7),\"\")","v":""},{"$f":"IF(MONTH(E551+COLUMN()-COLUMN(C555)+(ROW()-ROW(C555)-10)*7)=F551,DAY(E551+COLUMN()-COLUMN(C555)+(ROW()-ROW(C555)-10)*7),\"\")","v":""},{"$f":"IF(MONTH(E551+COLUMN()-COLUMN(C555)+(ROW()-ROW(C555)-10)*7)=F551,DAY(E551+COLUMN()-COLUMN(C555)+(ROW()-ROW(C555)-10)*7),\"\")","v":""}]
[null,{"$f":"B551","v":"2012"},null,null,{"$f":"IF(C570<>\"\",E551+35,IF(I567=\"\",E551+28,E551+35))","v":41211},{"$f":"F551+1","v":11},null,null,{"$f":"TEXT(DATE(B571,F571,1),\"mmmm\")","v":"novembre"}]
[null,null,"Lundi","Mardi","Mercredi","Jeudi","Vendredi","Samedi","Dimanche"]
[null,{"$f":"IF(C575<>\"\",VLOOKUP(DATE(1900,$F$571,C575),$D$3:$F$368,3),\"\")","v":""},null,{"$f":"IF(D575<>\"\",VLOOKUP(DATE(1900,$F$571,D575),$D$3:$F$368,3),\"\")","v":""},"",0,0,0,0]
[null,{"$f":"IF(C575<>\"\",VLOOKUP(DATE(1900,$F571,C575),$D$3:$E$368,2),\"\")","v":""},null,{"$f":"IF(D575<>\"\",VLOOKUP(DATE(1900,$F571,D575),$D$3:$E$368,2),\"\")","v":""},"","Toussaint","Défunts","St Hubert","St Charles"]
[null,{"$f":"MAX(B570,B567,B564)+(I570<>\"\")+AND(I567=\"\",C567=\"\")+AND(I567<>\"\",C570=\"\")","v":44},{"$f":"IF(MONTH(E571+COLUMN()-COLUMN(C575)+(ROW()-ROW(C575))*7)=F571,DAY(E571+COLUMN()-COLUMN(C575)+(ROW()-ROW(C575))*7),\"\")","v":""},{"$f":"IF(MONTH(E571+COLUMN()-COLUMN(C575)+(ROW()-ROW(C575))*7)=F571,DAY(E571+COLUMN()-COLUMN(C575)+(ROW()-ROW(C575))*7),\"\")","v":""},{"$f":"IF(MONTH(E571+COLUMN()-COLUMN(C575)+(ROW()-ROW(C575))*7)=F571,DAY(E571+COLUMN()-COLUMN(C575)+(ROW()-ROW(C575))*7),\"\")","v":""},{"$f":"IF(MONTH(E571+COLUMN()-COLUMN(C575)+(ROW()-ROW(C575))*7)=F571,DAY(E571+COLUMN()-COLUMN(C575)+(ROW()-ROW(C575))*7),\"\")","v":1},{"$f":"IF(MONTH(E571+COLUMN()-COLUMN(C575)+(ROW()-ROW(C575))*7)=F571,DAY(E571+COLUMN()-COLUMN(C575)+(ROW()-ROW(C575))*7),\"\")","v":2},{"$f":"IF(MONTH(E571+COLUMN()-COLUMN(C575)+(ROW()-ROW(C575))*7)=F571,DAY(E571+COLUMN()-COLUMN(C575)+(ROW()-ROW(C575))*7),\"\")","v":3},{"$f":"IF(MONTH(E571+COLUMN()-COLUMN(C575)+(ROW()-ROW(C575))*7)=F571,DAY(E571+COLUMN()-COLUMN(C575)+(ROW()-ROW(C575))*7),\"\")","v":4}]
[null,{"$f":"IF(C578<>\"\",VLOOKUP(DATE(1900,$F$571,C578),$D$3:$F$368,3),\"\")","v":0},null,{"$f":"IF(D578<>\"\",VLOOKUP(DATE(1900,$F$571,D578),$D$3:$F$368,3),\"\")","v":0},0,0,0,0,0]
[null,{"$f":"IF(C578<>\"\",VLOOKUP(DATE(1900,$F571,C578),$D$3:$E$368,2),\"\")","v":"Ste Sylvie"},null,{"$f":"IF(D578<>\"\",VLOOKUP(DATE(1900,$F571,D578),$D$3:$E$368,2),\"\")","v":"Ste Bertille"},"Ste Carine","St Geoffroy","St Théodore","St Léon","Armistice 1918"]
[null,{"$f":"(B575+1)-(INT(((B575+1)-1)/$P$374))*$P$374","v":45},{"$f":"IF(MONTH(E571+COLUMN()-COLUMN(C575)+(ROW()-ROW(C575)-2)*7)=F571,DAY(E571+COLUMN()-COLUMN(C575)+(ROW()-ROW(C575)-2)*7),\"\")","v":5},{"$f":"IF(MONTH(E571+COLUMN()-COLUMN(C575)+(ROW()-ROW(C575)-2)*7)=F571,DAY(E571+COLUMN()-COLUMN(C575)+(ROW()-ROW(C575)-2)*7),\"\")","v":6},{"$f":"IF(MONTH(E571+COLUMN()-COLUMN(C575)+(ROW()-ROW(C575)-2)*7)=F571,DAY(E571+COLUMN()-COLUMN(C575)+(ROW()-ROW(C575)-2)*7),\"\")","v":7},{"$f":"IF(MONTH(E571+COLUMN()-COLUMN(C575)+(ROW()-ROW(C575)-2)*7)=F571,DAY(E571+COLUMN()-COLUMN(C575)+(ROW()-ROW(C575)-2)*7),\"\")","v":8},{"$f":"IF(MONTH(E571+COLUMN()-COLUMN(C575)+(ROW()-ROW(C575)-2)*7)=F571,DAY(E571+COLUMN()-COLUMN(C575)+(ROW()-ROW(C575)-2)*7),\"\")","v":9},{"$f":"IF(MONTH(E571+COLUMN()-COLUMN(C575)+(ROW()-ROW(C575)-2)*7)=F571,DAY(E571+COLUMN()-COLUMN(C575)+(ROW()-ROW(C575)-2)*7),\"\")","v":10},{"$f":"IF(MONTH(E571+COLUMN()-COLUMN(C575)+(ROW()-ROW(C575)-2)*7)=F571,DAY(E571+COLUMN()-COLUMN(C575)+(ROW()-ROW(C575)-2)*7),\"\")","v":11}]
[null,{"$f":"IF(C581<>\"\",VLOOKUP(DATE(1900,$F$571,C581),$D$3:$F$368,3),\"\")","v":0},null,{"$f":"IF(D581<>\"\",VLOOKUP(DATE(1900,$F$571,D581),$D$3:$F$368,3),\"\")","v":0},0,0,0,0,0]
[null,{"$f":"IF(C581<>\"\",VLOOKUP(DATE(1900,$F571,C581),$D$3:$E$368,2),\"\")","v":"St Christian"},null,{"$f":"IF(D581<>\"\",VLOOKUP(DATE(1900,$F571,D581),$D$3:$E$368,2),\"\")","v":"St Brice"},"St Sidoine","St Albert","Ste Marguerite","Ste Elisabeth","Ste Aude"]
[null,{"$f":"B578+1","v":46},{"$f":"IF(MONTH(E571+COLUMN()-COLUMN(C575)+(ROW()-ROW(C575)-4)*7)=F571,DAY(E571+COLUMN()-COLUMN(C575)+(ROW()-ROW(C575)-4)*7),\"\")","v":12},{"$f":"IF(MONTH(E571+COLUMN()-COLUMN(C575)+(ROW()-ROW(C575)-4)*7)=F571,DAY(E571+COLUMN()-COLUMN(C575)+(ROW()-ROW(C575)-4)*7),\"\")","v":13},{"$f":"IF(MONTH(E571+COLUMN()-COLUMN(C575)+(ROW()-ROW(C575)-4)*7)=F571,DAY(E571+COLUMN()-COLUMN(C575)+(ROW()-ROW(C575)-4)*7),\"\")","v":14},{"$f":"IF(MONTH(E571+COLUMN()-COLUMN(C575)+(ROW()-ROW(C575)-4)*7)=F571,DAY(E571+COLUMN()-COLUMN(C575)+(ROW()-ROW(C575)-4)*7),\"\")","v":15},{"$f":"IF(MONTH(E571+COLUMN()-COLUMN(C575)+(ROW()-ROW(C575)-4)*7)=F571,DAY(E571+COLUMN()-COLUMN(C575)+(ROW()-ROW(C575)-4)*7),\"\")","v":16},{"$f":"IF(MONTH(E571+COLUMN()-COLUMN(C575)+(ROW()-ROW(C575)-4)*7)=F571,DAY(E571+COLUMN()-COLUMN(C575)+(ROW()-ROW(C575)-4)*7),\"\")","v":17},{"$f":"IF(MONTH(E571+COLUMN()-COLUMN(C575)+(ROW()-ROW(C575)-4)*7)=F571,DAY(E571+COLUMN()-COLUMN(C575)+(ROW()-ROW(C575)-4)*7),\"\")","v":18}]
[null,{"$f":"IF(C584<>\"\",VLOOKUP(DATE(1900,$F$571,C584),$D$3:$F$368,3),\"\")","v":0},null,{"$f":"IF(D584<>\"\",VLOOKUP(DATE(1900,$F$571,D584),$D$3:$F$368,3),\"\")","v":0},0,0,0,0,0]
[null,{"$f":"IF(C584<>\"\",VLOOKUP(DATE(1900,$F571,C584),$D$3:$E$368,2),\"\")","v":"St Tanguy"},null,{"$f":"IF(D584<>\"\",VLOOKUP(DATE(1900,$F571,D584),$D$3:$E$368,2),\"\")","v":"St Edmond"},"Prés. de Marie","Ste Cécile","St Clément","Ste Flora","Ste Catherine L."]
[null,{"$f":"B581+1","v":47},{"$f":"IF(MONTH(E571+COLUMN()-COLUMN(C575)+(ROW()-ROW(C575)-6)*7)=F571,DAY(E571+COLUMN()-COLUMN(C575)+(ROW()-ROW(C575)-6)*7),\"\")","v":19},{"$f":"IF(MONTH(E571+COLUMN()-COLUMN(C575)+(ROW()-ROW(C575)-6)*7)=F571,DAY(E571+COLUMN()-COLUMN(C575)+(ROW()-ROW(C575)-6)*7),\"\")","v":20},{"$f":"IF(MONTH(E571+COLUMN()-COLUMN(C575)+(ROW()-ROW(C575)-6)*7)=F571,DAY(E571+COLUMN()-COLUMN(C575)+(ROW()-ROW(C575)-6)*7),\"\")","v":21},{"$f":"IF(MONTH(E571+COLUMN()-COLUMN(C575)+(ROW()-ROW(C575)-6)*7)=F571,DAY(E571+COLUMN()-COLUMN(C575)+(ROW()-ROW(C575)-6)*7),\"\")","v":22},{"$f":"IF(MONTH(E571+COLUMN()-COLUMN(C575)+(ROW()-ROW(C575)-6)*7)=F571,DAY(E571+COLUMN()-COLUMN(C575)+(ROW()-ROW(C575)-6)*7),\"\")","v":23},{"$f":"IF(MONTH(E571+COLUMN()-COLUMN(C575)+(ROW()-ROW(C575)-6)*7)=F571,DAY(E571+COLUMN()-COLUMN(C575)+(ROW()-ROW(C575)-6)*7),\"\")","v":24},{"$f":"IF(MONTH(E571+COLUMN()-COLUMN(C575)+(ROW()-ROW(C575)-6)*7)=F571,DAY(E571+COLUMN()-COLUMN(C575)+(ROW()-ROW(C575)-6)*7),\"\")","v":25}]
[null,{"$f":"IF(C587<>\"\",VLOOKUP(DATE(1900,$F$571,C587),$D$3:$F$368,3),\"\")","v":0},null,{"$f":"IF(D587<>\"\",VLOOKUP(DATE(1900,$F$571,D587),$D$3:$F$368,3),\"\")","v":0},0,0,0,"",""]
[null,{"$f":"IF(C587<>\"\",VLOOKUP(DATE(1900,$F571,C587),$D$3:$E$368,2),\"\")","v":"Ste Delphine"},null,{"$f":"IF(D587<>\"\",VLOOKUP(DATE(1900,$F571,D587),$D$3:$E$368,2),\"\")","v":"St Séverin"},"St Jacques de M.","St Saturnin","St André","",""]
[null,{"$f":"IF(C587=\"\",\"\",IF(B584=H569,1,B584+1))","v":48},{"$f":"IF(MONTH(E571+COLUMN()-COLUMN(C575)+(ROW()-ROW(C575)-8)*7)=F571,DAY(E571+COLUMN()-COLUMN(C575)+(ROW()-ROW(C575)-8)*7),\"\")","v":26},{"$f":"IF(MONTH(E571+COLUMN()-COLUMN(C575)+(ROW()-ROW(C575)-8)*7)=F571,DAY(E571+COLUMN()-COLUMN(C575)+(ROW()-ROW(C575)-8)*7),\"\")","v":27},{"$f":"IF(MONTH(E571+COLUMN()-COLUMN(C575)+(ROW()-ROW(C575)-8)*7)=F571,DAY(E571+COLUMN()-COLUMN(C575)+(ROW()-ROW(C575)-8)*7),\"\")","v":28},{"$f":"IF(MONTH(E571+COLUMN()-COLUMN(C575)+(ROW()-ROW(C575)-8)*7)=F571,DAY(E571+COLUMN()-COLUMN(C575)+(ROW()-ROW(C575)-8)*7),\"\")","v":29},{"$f":"IF(MONTH(E571+COLUMN()-COLUMN(C575)+(ROW()-ROW(C575)-8)*7)=F571,DAY(E571+COLUMN()-COLUMN(C575)+(ROW()-ROW(C575)-8)*7),\"\")","v":30},{"$f":"IF(MONTH(E571+COLUMN()-COLUMN(C575)+(ROW()-ROW(C575)-8)*7)=F571,DAY(E571+COLUMN()-COLUMN(C575)+(ROW()-ROW(C575)-8)*7),\"\")","v":""},{"$f":"IF(MONTH(E571+COLUMN()-COLUMN(C575)+(ROW()-ROW(C575)-8)*7)=F571,DAY(E571+COLUMN()-COLUMN(C575)+(ROW()-ROW(C575)-8)*7),\"\")","v":""}]
[null,{"$f":"IF(C590<>\"\",VLOOKUP(DATE(1900,$F$571,C590),$D$3:$F$368,3),\"\")","v":""},null,{"$f":"IF(D590<>\"\",VLOOKUP(DATE(1900,$F$571,D590),$D$3:$F$368,3),\"\")","v":""},"","","","",""]
[null,{"$f":"IF(C590<>\"\",VLOOKUP(DATE(1900,$F571,C590),$D$3:$E$368,2),\"\")","v":""},null,{"$f":"IF(D590<>\"\",VLOOKUP(DATE(1900,$F571,D590),$D$3:$E$368,2),\"\")","v":""},"","","","",""]
[null,{"$f":"IF(C590=\"\",\"\",IF(B587=H569,1,B587+1))","v":""},{"$f":"IF(MONTH(E571+COLUMN()-COLUMN(C575)+(ROW()-ROW(C575)-10)*7)=F571,DAY(E571+COLUMN()-COLUMN(C575)+(ROW()-ROW(C575)-10)*7),\"\")","v":""},{"$f":"IF(MONTH(E571+COLUMN()-COLUMN(C575)+(ROW()-ROW(C575)-10)*7)=F571,DAY(E571+COLUMN()-COLUMN(C575)+(ROW()-ROW(C575)-10)*7),\"\")","v":""},{"$f":"IF(MONTH(E571+COLUMN()-COLUMN(C575)+(ROW()-ROW(C575)-10)*7)=F571,DAY(E571+COLUMN()-COLUMN(C575)+(ROW()-ROW(C575)-10)*7),\"\")","v":""},{"$f":"IF(MONTH(E571+COLUMN()-COLUMN(C575)+(ROW()-ROW(C575)-10)*7)=F571,DAY(E571+COLUMN()-COLUMN(C575)+(ROW()-ROW(C575)-10)*7),\"\")","v":""},{"$f":"IF(MONTH(E571+COLUMN()-COLUMN(C575)+(ROW()-ROW(C575)-10)*7)=F571,DAY(E571+COLUMN()-COLUMN(C575)+(ROW()-ROW(C575)-10)*7),\"\")","v":""},{"$f":"IF(MONTH(E571+COLUMN()-COLUMN(C575)+(ROW()-ROW(C575)-10)*7)=F571,DAY(E571+COLUMN()-COLUMN(C575)+(ROW()-ROW(C575)-10)*7),\"\")","v":""},{"$f":"IF(MONTH(E571+COLUMN()-COLUMN(C575)+(ROW()-ROW(C575)-10)*7)=F571,DAY(E571+COLUMN()-COLUMN(C575)+(ROW()-ROW(C575)-10)*7),\"\")","v":""}]
[null,{"$f":"B571","v":"2012"},null,null,{"$f":"IF(C590<>\"\",E571+35,IF(I587=\"\",E571+28,E571+35))","v":41239},{"$f":"F571+1","v":12},null,null,{"$f":"TEXT(DATE(B591,F591,1),\"mmmm\")","v":"décembre"}]
[null,null,"Lundi","Mardi","Mercredi","Jeudi","Vendredi","Samedi","Dimanche"]
[null,{"$f":"IF(C595<>\"\",VLOOKUP(DATE(1900,$F$591,C595),$D$3:$F$368,3),\"\")","v":""},null,{"$f":"IF(D595<>\"\",VLOOKUP(DATE(1900,$F$591,D595),$D$3:$F$368,3),\"\")","v":""},"","","",0,0]
[null,{"$f":"IF(C595<>\"\",VLOOKUP(DATE(1900,$F591,C595),$D$3:$E$368,2),\"\")","v":""},null,{"$f":"IF(D595<>\"\",VLOOKUP(DATE(1900,$F591,D595),$D$3:$E$368,2),\"\")","v":""},"","","","Ste Florence","Ste Viviane"]
[null,{"$f":"MAX(B590,B587,B584)+(I590<>\"\")+AND(I587=\"\",C587=\"\")+AND(I587<>\"\",C590=\"\")","v":48},{"$f":"IF(MONTH(E591+COLUMN()-COLUMN(C595)+(ROW()-ROW(C595))*7)=F591,DAY(E591+COLUMN()-COLUMN(C595)+(ROW()-ROW(C595))*7),\"\")","v":""},{"$f":"IF(MONTH(E591+COLUMN()-COLUMN(C595)+(ROW()-ROW(C595))*7)=F591,DAY(E591+COLUMN()-COLUMN(C595)+(ROW()-ROW(C595))*7),\"\")","v":""},{"$f":"IF(MONTH(E591+COLUMN()-COLUMN(C595)+(ROW()-ROW(C595))*7)=F591,DAY(E591+COLUMN()-COLUMN(C595)+(ROW()-ROW(C595))*7),\"\")","v":""},{"$f":"IF(MONTH(E591+COLUMN()-COLUMN(C595)+(ROW()-ROW(C595))*7)=F591,DAY(E591+COLUMN()-COLUMN(C595)+(ROW()-ROW(C595))*7),\"\")","v":""},{"$f":"IF(MONTH(E591+COLUMN()-COLUMN(C595)+(ROW()-ROW(C595))*7)=F591,DAY(E591+COLUMN()-COLUMN(C595)+(ROW()-ROW(C595))*7),\"\")","v":""},{"$f":"IF(MONTH(E591+COLUMN()-COLUMN(C595)+(ROW()-ROW(C595))*7)=F591,DAY(E591+COLUMN()-COLUMN(C595)+(ROW()-ROW(C595))*7),\"\")","v":1},{"$f":"IF(MONTH(E591+COLUMN()-COLUMN(C595)+(ROW()-ROW(C595))*7)=F591,DAY(E591+COLUMN()-COLUMN(C595)+(ROW()-ROW(C595))*7),\"\")","v":2}]
[null,{"$f":"IF(C598<>\"\",VLOOKUP(DATE(1900,$F$591,C598),$D$3:$F$368,3),\"\")","v":0},null,{"$f":"IF(D598<>\"\",VLOOKUP(DATE(1900,$F$591,D598),$D$3:$F$368,3),\"\")","v":0},0,0,0,0,0]
[null,{"$f":"IF(C598<>\"\",VLOOKUP(DATE(1900,$F591,C598),$D$3:$E$368,2),\"\")","v":"St François Xavier"},null,{"$f":"IF(D598<>\"\",VLOOKUP(DATE(1900,$F591,D598),$D$3:$E$368,2),\"\")","v":"Ste Barbara"},"St Gérald","St Nicolas","St Ambroise","Immac. Conception","St P. Fourier"]
[null,{"$f":"(B595+1)-(INT(((B595+1)-1)/$P$374))*$P$374","v":49},{"$f":"IF(MONTH(E591+COLUMN()-COLUMN(C595)+(ROW()-ROW(C595)-2)*7)=F591,DAY(E591+COLUMN()-COLUMN(C595)+(ROW()-ROW(C595)-2)*7),\"\")","v":3},{"$f":"IF(MONTH(E591+COLUMN()-COLUMN(C595)+(ROW()-ROW(C595)-2)*7)=F591,DAY(E591+COLUMN()-COLUMN(C595)+(ROW()-ROW(C595)-2)*7),\"\")","v":4},{"$f":"IF(MONTH(E591+COLUMN()-COLUMN(C595)+(ROW()-ROW(C595)-2)*7)=F591,DAY(E591+COLUMN()-COLUMN(C595)+(ROW()-ROW(C595)-2)*7),\"\")","v":5},{"$f":"IF(MONTH(E591+COLUMN()-COLUMN(C595)+(ROW()-ROW(C595)-2)*7)=F591,DAY(E591+COLUMN()-COLUMN(C595)+(ROW()-ROW(C595)-2)*7),\"\")","v":6},{"$f":"IF(MONTH(E591+COLUMN()-COLUMN(C595)+(ROW()-ROW(C595)-2)*7)=F591,DAY(E591+COLUMN()-COLUMN(C595)+(ROW()-ROW(C595)-2)*7),\"\")","v":7},{"$f":"IF(MONTH(E591+COLUMN()-COLUMN(C595)+(ROW()-ROW(C595)-2)*7)=F591,DAY(E591+COLUMN()-COLUMN(C595)+(ROW()-ROW(C595)-2)*7),\"\")","v":8},{"$f":"IF(MONTH(E591+COLUMN()-COLUMN(C595)+(ROW()-ROW(C595)-2)*7)=F591,DAY(E591+COLUMN()-COLUMN(C595)+(ROW()-ROW(C595)-2)*7),\"\")","v":9}]
[null,{"$f":"IF(C601<>\"\",VLOOKUP(DATE(1900,$F$591,C601),$D$3:$F$368,3),\"\")","v":0},null,{"$f":"IF(D601<>\"\",VLOOKUP(DATE(1900,$F$591,D601),$D$3:$F$368,3),\"\")","v":0},0,0,0,0,0]
[null,{"$f":"IF(C601<>\"\",VLOOKUP(DATE(1900,$F591,C601),$D$3:$E$368,2),\"\")","v":"St Romaric"},null,{"$f":"IF(D601<>\"\",VLOOKUP(DATE(1900,$F591,D601),$D$3:$E$368,2),\"\")","v":"St Daniel"},"Ste J.-F. Chantal","Ste Lucie","Ste Odile","Ste Ninon","Ste Alice"]
[null,{"$f":"B598+1","v":50},{"$f":"IF(MONTH(E591+COLUMN()-COLUMN(C595)+(ROW()-ROW(C595)-4)*7)=F591,DAY(E591+COLUMN()-COLUMN(C595)+(ROW()-ROW(C595)-4)*7),\"\")","v":10},{"$f":"IF(MONTH(E591+COLUMN()-COLUMN(C595)+(ROW()-ROW(C595)-4)*7)=F591,DAY(E591+COLUMN()-COLUMN(C595)+(ROW()-ROW(C595)-4)*7),\"\")","v":11},{"$f":"IF(MONTH(E591+COLUMN()-COLUMN(C595)+(ROW()-ROW(C595)-4)*7)=F591,DAY(E591+COLUMN()-COLUMN(C595)+(ROW()-ROW(C595)-4)*7),\"\")","v":12},{"$f":"IF(MONTH(E591+COLUMN()-COLUMN(C595)+(ROW()-ROW(C595)-4)*7)=F591,DAY(E591+COLUMN()-COLUMN(C595)+(ROW()-ROW(C595)-4)*7),\"\")","v":13},{"$f":"IF(MONTH(E591+COLUMN()-COLUMN(C595)+(ROW()-ROW(C595)-4)*7)=F591,DAY(E591+COLUMN()-COLUMN(C595)+(ROW()-ROW(C595)-4)*7),\"\")","v":14},{"$f":"IF(MONTH(E591+COLUMN()-COLUMN(C595)+(ROW()-ROW(C595)-4)*7)=F591,DAY(E591+COLUMN()-COLUMN(C595)+(ROW()-ROW(C595)-4)*7),\"\")","v":15},{"$f":"IF(MONTH(E591+COLUMN()-COLUMN(C595)+(ROW()-ROW(C595)-4)*7)=F591,DAY(E591+COLUMN()-COLUMN(C595)+(ROW()-ROW(C595)-4)*7),\"\")","v":16}]
[null,{"$f":"IF(C604<>\"\",VLOOKUP(DATE(1900,$F$591,C604),$D$3:$F$368,3),\"\")","v":0},null,{"$f":"IF(D604<>\"\",VLOOKUP(DATE(1900,$F$591,D604),$D$3:$F$368,3),\"\")","v":0},0,0,0,0,0]
[null,{"$f":"IF(C604<>\"\",VLOOKUP(DATE(1900,$F591,C604),$D$3:$E$368,2),\"\")","v":"St Judicaël"},null,{"$f":"IF(D604<>\"\",VLOOKUP(DATE(1900,$F591,D604),$D$3:$E$368,2),\"\")","v":"St Gatien"},"St Urbain","St Théophile","St Pierre C.","Ste Franç. Xavière","St Armand"]
[null,{"$f":"B601+1","v":51},{"$f":"IF(MONTH(E591+COLUMN()-COLUMN(C595)+(ROW()-ROW(C595)-6)*7)=F591,DAY(E591+COLUMN()-COLUMN(C595)+(ROW()-ROW(C595)-6)*7),\"\")","v":17},{"$f":"IF(MONTH(E591+COLUMN()-COLUMN(C595)+(ROW()-ROW(C595)-6)*7)=F591,DAY(E591+COLUMN()-COLUMN(C595)+(ROW()-ROW(C595)-6)*7),\"\")","v":18},{"$f":"IF(MONTH(E591+COLUMN()-COLUMN(C595)+(ROW()-ROW(C595)-6)*7)=F591,DAY(E591+COLUMN()-COLUMN(C595)+(ROW()-ROW(C595)-6)*7),\"\")","v":19},{"$f":"IF(MONTH(E591+COLUMN()-COLUMN(C595)+(ROW()-ROW(C595)-6)*7)=F591,DAY(E591+COLUMN()-COLUMN(C595)+(ROW()-ROW(C595)-6)*7),\"\")","v":20},{"$f":"IF(MONTH(E591+COLUMN()-COLUMN(C595)+(ROW()-ROW(C595)-6)*7)=F591,DAY(E591+COLUMN()-COLUMN(C595)+(ROW()-ROW(C595)-6)*7),\"\")","v":21},{"$f":"IF(MONTH(E591+COLUMN()-COLUMN(C595)+(ROW()-ROW(C595)-6)*7)=F591,DAY(E591+COLUMN()-COLUMN(C595)+(ROW()-ROW(C595)-6)*7),\"\")","v":22},{"$f":"IF(MONTH(E591+COLUMN()-COLUMN(C595)+(ROW()-ROW(C595)-6)*7)=F591,DAY(E591+COLUMN()-COLUMN(C595)+(ROW()-ROW(C595)-6)*7),\"\")","v":23}]
[null,{"$f":"IF(C607<>\"\",VLOOKUP(DATE(1900,$F$591,C607),$D$3:$F$368,3),\"\")","v":0},null,{"$f":"IF(D607<>\"\",VLOOKUP(DATE(1900,$F$591,D607),$D$3:$F$368,3),\"\")","v":0},0,0,0,0,0]
[null,{"$f":"IF(C607<>\"\",VLOOKUP(DATE(1900,$F591,C607),$D$3:$E$368,2),\"\")","v":"Ste Adèle"},null,{"$f":"IF(D607<>\"\",VLOOKUP(DATE(1900,$F591,D607),$D$3:$E$368,2),\"\")","v":"Noël"},"St Etienne","St Jean","Sts Innocents","St David","St Roger"]
[null,{"$f":"IF(C607=\"\",\"\",IF(B604=H589,1,B604+1))","v":52},{"$f":"IF(MONTH(E591+COLUMN()-COLUMN(C595)+(ROW()-ROW(C595)-8)*7)=F591,DAY(E591+COLUMN()-COLUMN(C595)+(ROW()-ROW(C595)-8)*7),\"\")","v":24},{"$f":"IF(MONTH(E591+COLUMN()-COLUMN(C595)+(ROW()-ROW(C595)-8)*7)=F591,DAY(E591+COLUMN()-COLUMN(C595)+(ROW()-ROW(C595)-8)*7),\"\")","v":25},{"$f":"IF(MONTH(E591+COLUMN()-COLUMN(C595)+(ROW()-ROW(C595)-8)*7)=F591,DAY(E591+COLUMN()-COLUMN(C595)+(ROW()-ROW(C595)-8)*7),\"\")","v":26},{"$f":"IF(MONTH(E591+COLUMN()-COLUMN(C595)+(ROW()-ROW(C595)-8)*7)=F591,DAY(E591+COLUMN()-COLUMN(C595)+(ROW()-ROW(C595)-8)*7),\"\")","v":27},{"$f":"IF(MONTH(E591+COLUMN()-COLUMN(C595)+(ROW()-ROW(C595)-8)*7)=F591,DAY(E591+COLUMN()-COLUMN(C595)+(ROW()-ROW(C595)-8)*7),\"\")","v":28},{"$f":"IF(MONTH(E591+COLUMN()-COLUMN(C595)+(ROW()-ROW(C595)-8)*7)=F591,DAY(E591+COLUMN()-COLUMN(C595)+(ROW()-ROW(C595)-8)*7),\"\")","v":29},{"$f":"IF(MONTH(E591+COLUMN()-COLUMN(C595)+(ROW()-ROW(C595)-8)*7)=F591,DAY(E591+COLUMN()-COLUMN(C595)+(ROW()-ROW(C595)-8)*7),\"\")","v":30}]
[null,{"$f":"IF(C610<>\"\",VLOOKUP(DATE(1900,$F$591,C610),$D$3:$F$368,3),\"\")","v":0},null,{"$f":"IF(D610<>\"\",VLOOKUP(DATE(1900,$F$591,D610),$D$3:$F$368,3),\"\")","v":""},"","","","",""]
[null,{"$f":"IF(C610<>\"\",VLOOKUP(DATE(1900,$F591,C610),$D$3:$E$368,2),\"\")","v":"St Sylvestre"},null,{"$f":"IF(D610<>\"\",VLOOKUP(DATE(1900,$F591,D610),$D$3:$E$368,2),\"\")","v":""},"","","","",""]
[null,{"$f":"IF(C610=\"\",\"\",IF(B607=H589,1,B607+1))","v":53},{"$f":"IF(MONTH(E591+COLUMN()-COLUMN(C595)+(ROW()-ROW(C595)-10)*7)=F591,DAY(E591+COLUMN()-COLUMN(C595)+(ROW()-ROW(C595)-10)*7),\"\")","v":31},{"$f":"IF(MONTH(E591+COLUMN()-COLUMN(C595)+(ROW()-ROW(C595)-10)*7)=F591,DAY(E591+COLUMN()-COLUMN(C595)+(ROW()-ROW(C595)-10)*7),\"\")","v":""},{"$f":"IF(MONTH(E591+COLUMN()-COLUMN(C595)+(ROW()-ROW(C595)-10)*7)=F591,DAY(E591+COLUMN()-COLUMN(C595)+(ROW()-ROW(C595)-10)*7),\"\")","v":""},{"$f":"IF(MONTH(E591+COLUMN()-COLUMN(C595)+(ROW()-ROW(C595)-10)*7)=F591,DAY(E591+COLUMN()-COLUMN(C595)+(ROW()-ROW(C595)-10)*7),\"\")","v":""},{"$f":"IF(MONTH(E591+COLUMN()-COLUMN(C595)+(ROW()-ROW(C595)-10)*7)=F591,DAY(E591+COLUMN()-COLUMN(C595)+(ROW()-ROW(C595)-10)*7),\"\")","v":""},{"$f":"IF(MONTH(E591+COLUMN()-COLUMN(C595)+(ROW()-ROW(C595)-10)*7)=F591,DAY(E591+COLUMN()-COLUMN(C595)+(ROW()-ROW(C595)-10)*7),\"\")","v":""},{"$f":"IF(MONTH(E591+COLUMN()-COLUMN(C595)+(ROW()-ROW(C595)-10)*7)=F591,DAY(E591+COLUMN()-COLUMN(C595)+(ROW()-ROW(C595)-10)*7),\"\")","v":""}]

{"sheet":"Calendrier  (3)","index":16,"n_rows":614,"n_cols":14,"rows_kept":614,"cut":false,"hidden":true,"merged":[[582,1,582,2],[605,1,605,2],[608,1,608,2],[611,1,611,2],[585,1,585,2],[588,1,588,2],[591,1,591,2],[596,1,596,2],[599,1,599,2],[602,1,602,2],[571,1,571,2],[576,1,576,2],[579,1,579,2],[536,1,536,2],[539,1,539,2],[542,1,542,2],[545,1,545,2],[548,1,548,2],[551,1,551,2],[556,1,556,2],[559,1,559,2],[562,1,562,2],[565,1,565,2],[568,1,568,2],[531,1,531,2],[496,1,496,2],[499,1,499,2],[502,1,502,2],[505,1,505,2],[508,1,508,2],[511,1,511,2],[516,1,516,2],[519,1,519,2],[522,1,522,2],[525,1,525,2],[528,1,528,2],[491,1,491,2],[436,1,436,2],[471,1,471,2],[465,1,465,2],[468,1,468,2],[456,1,456,2],[459,1,459,2],[462,1,462,2],[451,1,451,2],[439,1,439,2],[448,1,448,2],[476,1,476,2],[479,1,479,2],[482,1,482,2],[485,1,485,2],[488,1,488,2],[445,1,445,2],[408,1,408,2],[399,1,399,2],[385,1,385,2],[402,1,402,2],[388,1,388,2],[428,1,428,2],[396,1,396,2],[431,1,431,2],[425,1,425,2],[422,1,422,2],[405,1,405,2],[416,1,416,2],[419,1,419,2],[375,1,375,2],[442,1,442,2],[376,1,376,2],[382,1,382,2],[379,1,379,2]]}
[null,null,null,null,null,null,null,"Date",{"$f":"DATE(F3,1,1)","v":"2010-01-01"},null,null,"Numéro de semaine ",null,{"$f":"IF((date-courante+1)<1,(courante-précédente)/7,((INT(((date-courante+1)-1)/7)+1)-(INT(((INT(((date-courante+1)-1)/7)+1)-1)/((suivante-courante)/7)))*(courante-précédente)/7))","v":53}]
[null,null,null,null,null,null,null,"Courante",{"$f":"(DATE(YEAR(date),1,1)+(-((MOD(DATE(YEAR(date),1,1)-2,7)+1)-8-(INT(((MOD(DATE(YEAR(date),1,1)-2,7)+1)-5)/7))*7)))","v":"2010-01-04"},null,null,"Num 1er jour 1ere semaine",null,{"$f":"(N1-1)*7+1","v":365}]
[null,null,null,null,"Année :","2010",null,"Précédente",{"$f":"(DATE(YEAR(date)-1,1,1)+(-((MOD(DATE(YEAR(date)-1,1,1)-2,7)+1)-8-(INT(((MOD(DATE(YEAR(date)-1,1,1)-2,7)+1)-5)/7))*7)))","v":"2008-12-29"},null,null,"Date 1er jour 1ere semaine",null,{"$f":"IF(OR(MOD(I1-2,7)+1<5,MONTH(I1)<>1),IF(AND(DAY(I2+N2-1)>1,DAY(I2+N2-1)<5),I2+N2-6,I2+N2-1),IF(AND(DAY(I3+N2-1)>1,DAY(I3+N2-1)<5),I3+N2-6,I3+N2-1))","v":"2009-12-28"}]
[null,null,null,"jour","fete",null,null,"Suivante",{"$f":"(DATE(YEAR(date)+1,1,1)+(-((MOD(DATE(YEAR(date)+1,1,1)-2,7)+1)-8-(INT(((MOD(DATE(YEAR(date)+1,1,1)-2,7)+1)-5)/7))*7)))","v":"2011-01-03"},null,null,"Nb de sem. année précédente",null,{"$f":"(I2-I3)/7","v":53}]
[null,null,null,"1900-01-01","Jour de l'An "]
[null,null,null,"1900-01-02","St Basile"]
[null,null,null,"1900-01-03","Ste Geneviève"]
[null,null,null,"1900-01-04","St Odilon"]
[null,null,null,"1900-01-05","St Edouard"]
[null,null,null,"1900-01-06","Ste Melaine"]
[null,null,null,"1900-01-07","St Raymond"]
[null,null,null,"1900-01-08","St Lucien"]
[null,null,null,"1900-01-09","Ste Alix"]
[null,null,null,"1900-01-10","St Guillaume"]
[null,null,null,"1900-01-11","St Paulin"]
[null,null,null,"1900-01-12","Ste Tatiana"]
[null,null,null,"1900-01-13","Ste Yvette"]
[null,null,null,"1900-01-14","Ste Nina"]
[null,null,null,"1900-01-15","St Rémi"]
[null,null,null,"1900-01-16","St Marcel"]
[null,null,null,"1900-01-17","Ste Roseline"]
[null,null,null,"1900-01-18","Ste Prisca"]
[null,null,null,"1900-01-19","St Marius"]
[null,null,null,"1900-01-20","St Sébastien"]
[null,null,null,"1900-01-21","Ste Agnès"]
[null,null,null,"1900-01-22","St Vincent"]
[null,null,null,"1900-01-23","St Barnard"]
[null,null,null,"1900-01-24","St François de Sales"]
[null,null,null,"1900-01-25","Convers. de St Paul"]
[null,null,null,"1900-01-26","Ste Paule"]
[null,null,null,"1900-01-27","Ste Angel"]
[null,null,null,"1900-01-28","St Thomas d'Aquin"]
[null,null,null,"1900-01-29","St Gildas"]
[null,null,null,"1900-01-30","Ste Martine"]
[null,null,null,"1900-01-31","Ste Marcelle"]
[null,null,null,"1900-02-01","Ste Ella"]
[null,null,null,"1900-02-02","Prés. du Seigneur"]
[null,null,null,"1900-02-03","St Blaise"]
[null,null,null,"1900-02-04","Ste Véronique"]
[null,null,null,"1900-02-05","Ste Agathe"]
[null,null,null,"1900-02-06","St Gaston"]
[null,null,null,"1900-02-07","Ste Eugénie"]
[null,null,null,"1900-02-08","Ste Jacqueline"]
[null,null,null,"1900-02-09","Ste Apolline"]
[null,null,null,"1900-02-10","St Arnaud"]
[null,null,null,"1900-02-11","N.-D. de Lourdes"]
[null,null,null,"1900-02-12","St Félix"]
[null,null,null,"1900-02-13","Ste Béatrice"]
[null,null,null,"1900-02-14","St Valentin"]
[null,null,null,"1900-02-15","St Claude"]
[null,null,null,"1900-02-16","Ste Julienne"]
[null,null,null,"1900-02-17","St Alexis  ","REMY"]
[null,null,null,"1900-02-18","Ste Bernadette"]
[null,null,null,"1900-02-19","St Gabin"]
[null,null,null,"1900-02-20","Ste Aimée"]
[null,null,null,"1900-02-21","St P. Damien"]
[null,null,null,"1900-02-22","Ste Isabelle"]
[null,null,null,"1900-02-23","St Lazare"]
[null,null,null,"1900-02-24","St Modeste"]
[null,null,null,"1900-02-25","St Roméo"]
[null,null,null,"1900-02-26","St Nestor"]
[null,null,null,"1900-02-27","St Honorine"]
[null,null,null,"1900-02-28","St Romain"]
[null,null,null,60,"St Auguste"]
[null,null,null,"1900-03-01","St Aubin"]
[null,null,null,"1900-03-02","St Charles le Bon"]
[null,null,null,"1900-03-03","St Gwénolé"]
[null,null,null,"1900-03-04","St Casimir"]
[null,null,null,"1900-03-05","Ste Olivia"]
[null,null,null,"1900-03-06","Ste Colette"]
[null,null,null,"1900-03-07","Ste Félicité"]
[null,null,null,"1900-03-08","St Jean-de-Dieu"]
[null,null,null,"1900-03-09","Ste Françoise R."]
[null,null,null,"1900-03-10","St Vivien"]
[null,null,null,"1900-03-11","Ste Rosine"]
[null,null,null,"1900-03-12","Ste Justine"]
[null,null,null,"1900-03-13","St Rodrigue"]
[null,null,null,"1900-03-14","Ste Mathilde"]
[null,null,null,"1900-03-15","Ste Louise M. ","JEAN CLAUDE"]
[null,null,null,"1900-03-16","Ste Bénédicte"]
[null,null,null,"1900-03-17","St Patrice"]
[null,null,null,"1900-03-18","St Cyrille"]
[null,null,null,"1900-03-19","St Joseph"]
[null,null,null,"1900-03-20","Printemps ","ALEXANDRE"]
[null,null,null,"1900-03-21","Ste Clémence","PAPA"]
[null,null,null,"1900-03-22","Ste Léa"]
[null,null,null,"1900-03-23","St Victorien "]
[null,null,null,"1900-03-24","Ste Catherine"]
[null,null,null,"1900-03-25","Annonciation"]
[null,null,null,"1900-03-26","Ste Larissa"]
[null,null,null,"1900-03-27","St Habib"]
[null,null,null,"1900-03-28","St Gontran"]
[null,null,null,"1900-03-29","Ste Gwladys"]
[null,null,null,"1900-03-30","St Amédée"]
[null,null,null,"1900-03-31","St Benjamin"]
[null,null,null,"1900-04-01","St Hugues"]
[null,null,null,"1900-04-02","Ste Sandrine"]
[null,null,null,"1900-04-03","St Richard"]
[null,null,null,"1900-04-04","St Isidore"]
[null,null,null,"1900-04-05","Ste  Irène"]
[null,null,null,"1900-04-06","St Marcellin"]
[null,null,null,"1900-04-07","St J.-B. de Salle"]
[null,null,null,"1900-04-08","Ste Julie"]
[null,null,null,"1900-04-09","St Gautier"]
[null,null,null,"1900-04-10","St Fulbert"]
[null,null,null,"1900-04-11","St Stanislas"]
[null,null,null,"1900-04-12","St Jules"]
[null,null,null,"1900-04-13","Ste Ida"]
[null,null,null,"1900-04-14","St Maxime"]
[null,null,null,"1900-04-15","St Paterne"]
[null,null,null,"1900-04-16","St Benoît-Joseph"]
[null,null,null,"1900-04-17","St Et. Harding"]
[null,null,null,"1900-04-18","St Parfait"]
[null,null,null,"1900-04-19","Ste Emma"]
[null,null,null,"1900-04-20","Ste Odette"]
[null,null,null,"1900-04-21","St Anselme"]
[null,null,null,"1900-04-22","St Alexandre"]
[null,null,null,"1900-04-23","St Georges"]
[null,null,null,"1900-04-24","St Fidèle"]
[null,null,null,"1900-04-25","Souvenir Déportés"]
[null,null,null,"1900-04-26","Ste Alida"]
[null,null,null,"1900-04-27","Ste Zita"]
[null,null,null,"1900-04-28","Ste Valérie"]
[null,null,null,"1900-04-29","Ste C. de Sienne"]
[null,null,null,"1900-04-30","St Robert"]
[null,null,null,"1900-05-01","F. du travail"]
[null,null,null,"1900-05-02","St Boris"]
[null,null,null,"1900-05-03","Sts Philippe-Jacques"]
[null,null,null,"1900-05-04","St Sylvain"]
[null,null,null,"1900-05-05","Ste Judith"]
[null,null,null,"1900-05-06","Ste Prudence"]
[null,null,null,"1900-05-07","Ste Gisèle"]
[null,null,null,"1900-05-08","Annivers. 1945"]
[null,null,null,"1900-05-09","St Pacôme"]
[null,null,null,"1900-05-10","Ste Solange"]
[null,null,null,"1900-05-11","Ste Estelle"]
[null,null,null,"1900-05-12","St Achille"]
[null,null,null,"1900-05-13","Ste Rolande"]
[null,null,null,"1900-05-14","St Matthias"]
[null,null,null,"1900-05-15","Ste Denise"]
[null,null,null,"1900-05-16","St Honoré ","MARTINE"]
[null,null,null,"1900-05-17","St Pascal"]
[null,null,null,"1900-05-18","St Eric"]
[null,null,null,"1900-05-19","St Yves"]
[null,null,null,"1900-05-20","St Bernardin"]
[null,null,null,"1900-05-21","St Constantin"]
[null,null,null,"1900-05-22","St Emile ","SANDRA"]
[null,null,null,"1900-05-23","St Didier"]
[null,null,null,"1900-05-24","St Donatien"]
[null,null,null,"1900-05-25","Ste Sophie"]
[null,null,null,"1900-05-26","St Bérenger"]
[null,null,null,"1900-05-27","St Augustin de C."]
[null,null,null,"1900-05-28","St Germain"]
[null,null,null,"1900-05-29","St Aymar"]
[null,null,null,"1900-05-30","St Ferdinand"]
[null,null,null,"1900-05-31","V. de la Ste Vierge"]
[null,null,null,"1900-06-01","St Justin"]
[null,null,null,"1900-06-02","Ste Blandine"]
[null,null,null,"1900-06-03","St Kévin"]
[null,null,null,"1900-06-04","Ste Clothilde"]
[null,null,null,"1900-06-05","St Igor"]
[null,null,null,"1900-06-06","St Norbert"]
[null,null,null,"1900-06-07","St Gilbert"]
[null,null,null,"1900-06-08","St Médard"]
[null,null,null,"1900-06-09","Ste Diane"]
[null,null,null,"1900-06-10","St Landry"]
[null,null,null,"1900-06-11","St Barnabé"]
[null,null,null,"1900-06-12","St Guy"]
[null,null,null,"1900-06-13","St A. de Padou"]
[null,null,null,"1900-06-14","St Elisée"]
[null,null,null,"1900-06-15","Ste Germaine"]
[null,null,null,"1900-06-16","St J.-F. Régis"]
[null,null,null,"1900-06-17","St Hervé"]
[null,null,null,"1900-06-18","St Léonce"]
[null,null,null,"1900-06-19","St Romuald"]
[null,null,null,"1900-06-20","St Silvère"]
[null,null,null,"1900-06-21","F. Dieu"]
[null,null,null,"1900-06-22","St Alban"]
[null,null,null,"1900-06-23","Ste Audrey"]
[null,null,null,"1900-06-24","St Jean-Baptiste"]
[null,null,null,"1900-06-25","St Salomon"]
[null,null,null,"1900-06-26","St Anthelme"]
[null,null,null,"1900-06-27","St Fernand"]
[null,null,null,"1900-06-28","St Irénée ","MARIAGE"]
[null,null,null,"1900-06-29","St Pierre-Paul"]
[null,null,null,"1900-06-30","St Martial"]
[null,null,null,"1900-07-01","St Thierry"]
[null,null,null,"1900-07-02","St Martinien"]
[null,null,null,"1900-07-03","St Thomas"]
[null,null,null,"1900-07-04","St Florent"]
[null,null,null,"1900-07-05","St Antoine"]
[null,null,null,"1900-07-06","Ste Mariette"]
[null,null,null,"1900-07-07","St Raoul"]
[null,null,null,"1900-07-08","St Thibaut"]
[null,null,null,"1900-07-09","Ste Amandine"]
[null,null,null,"1900-07-10","St Ulrich ","CLAUDETTE"]
[null,null,null,"1900-07-11","St Benoît"]
[null,null,null,"1900-07-12","St Olivier"]
[null,null,null,"1900-07-13","Sts Henri et Joël"]
[null,null,null,"1900-07-14","Fête nationale"]
[null,null,null,"1900-07-15","St Donald"]
[null,null,null,"1900-07-16","N.D. Mont Carmel"]
[null,null,null,"1900-07-17","Ste Charlotte"]
[null,null,null,"1900-07-18","St Frédéric"]
[null,null,null,"1900-07-19","St Arsène"]
[null,null,null,"1900-07-20","Ste Marina"]
[null,null,null,"1900-07-21","St Victor"]
[null,null,null,"1900-07-22","Ste Marie-Madel."]
[null,null,null,"1900-07-23","Ste Brigitte"]
[null,null,null,"1900-07-24","Ste Christine"]
[null,null,null,"1900-07-25","St Jacques de M. (Enzo)"]
[null,null,null,"1900-07-26","Ste Anne","MAMAN"]
[null,null,null,"1900-07-27","Ste Nathalie"]
[null,null,null,"1900-07-28","St Samson"]
[null,null,null,"1900-07-29","Ste Marthe"]
[null,null,null,"1900-07-30","Ste Juliette"]
[null,null,null,"1900-07-31","St Ign. Loyola"]
[null,null,null,"1900-08-01","St Alphonse"]
[null,null,null,"1900-08-02","St Julien-Eym."]
[null,null,null,"1900-08-03","Ste Lydie"]
[null,null,null,"1900-08-04","St J.M. Vianney"]
[null,null,null,"1900-08-05","St Abel"]
[null,null,null,"1900-08-06","Transfiguration"]
[null,null,null,"1900-08-07","St Gaëtan"]
[null,null,null,"1900-08-08","St Dominique"]
[null,null,null,"1900-08-09","St Amour"]
[null,null,null,"1900-08-10","St Laurent"]
[null,null,null,"1900-08-11","Ste Claire"]
[null,null,null,"1900-08-12","Ste Clarisse"]
[null,null,null,"1900-08-13","St Hippolyte"]
[null,null,null,"1900-08-14","St Evrard"]
[null,null,null,"1900-08-15","Assomption"]
[null,null,null,"1900-08-16","St Armel"]
[null,null,null,"1900-08-17","St Hyacinthe"]
[null,null,null,"1900-08-18","Ste Hélène"]
[null,null,null,"1900-08-19","St Jean Eudes"]
[null,null,null,"1900-08-20","St Bernard"]
[null,null,null,"1900-08-21","St Christophe"]
[null,null,null,"1900-08-22","St Fabrice"]
[null,null,null,"1900-08-23","Ste Rose de Lima"]
[null,null,null,"1900-08-24","St Barthélémy"]
[null,null,null,"1900-08-25","St Louis"]
[null,null,null,"1900-08-26","Ste Natacha"]
[null,null,null,"1900-08-27","Ste Monique"]
[null,null,null,"1900-08-28","St Augustin"]
[null,null,null,"1900-08-29","Ste Sabine"]
[null,null,null,"1900-08-30","St Fiacre"]
[null,null,null,"1900-08-31","St Aristide"]
[null,null,null,"1900-09-01","St Gilles"]
[null,null,null,"1900-09-02","Ste Ingrid"]
[null,null,null,"1900-09-03","St Grégoire"]
[null,null,null,"1900-09-04","Ste Rosalie"]
[null,null,null,"1900-09-05","Ste Raïssa"]
[null,null,null,"1900-09-06","St Bertrand"]
[null,null,null,"1900-09-07","Ste Reine"]
[null,null,null,"1900-09-08","Nativité"]
[null,null,null,"1900-09-09","St Alain"]
[null,null,null,"1900-09-10","Ste Inès"]
[null,null,null,"1900-09-11","Ste Adelphe"]
[null,null,null,"1900-09-12","St Apollinaire"]
[null,null,null,"1900-09-13","St Aimé"]
[null,null,null,"1900-09-14","Croix Glorieuse"]
[null,null,null,"1900-09-15","St Roland"]
[null,null,null,"1900-09-16","Ste Edith"]
[null,null,null,"1900-09-17","St Renaud"]
[null,null,null,"1900-09-18","Ste Nadège"]
[null,null,null,"1900-09-19","Ste Emilie"]
[null,null,null,"1900-09-20","St Davy"]
[null,null,null,"1900-09-21","St Matthieu"]
[null,null,null,"1900-09-22","St Maurice"]
[null,null,null,"1900-09-23","St Constant"]
[null,null,null,"1900-09-24","Ste Thècle"]
[null,null,null,"1900-09-25","St Herman"]
[null,null,null,"1900-09-26","St Côme-Damien"]
[null,null,null,"1900-09-27","St Vincent de Paul"]
[null,null,null,"1900-09-28","St Venceslas"]
[null,null,null,"1900-09-29","Sts Michel-Gabriel"]
[null,null,null,"1900-09-30","St Jérôme"]
[null,null,null,"1900-10-01","Ste Thérèse de l'E. J."]
[null,null,null,"1900-10-02","St Léger"]
[null,null,null,"1900-10-03","St Gérard"]
[null,null,null,"1900-10-04","St Fr. d'Assise"]
[null,null,null,"1900-10-05","Ste Fleur"]
[null,null,null,"1900-10-06","St Bruno"]
[null,null,null,"1900-10-07","St Serge"]
[null,null,null,"1900-10-08","Ste Pélagie"]
[null,null,null,"1900-10-09","St Denis ","ALINE"]
[null,null,null,"1900-10-10","St Ghislain"]
[null,null,null,"1900-10-11","St Firmin"]
[null,null,null,"1900-10-12","St Wilfrid"]
[null,null,null,"1900-10-13","St Géraud"]
[null,null,null,"1900-10-14","St Juste"]
[null,null,null,"1900-10-15","Ste Thérèse d'A."]
[null,null,null,"1900-10-16","Ste Edwige"]
[null,null,null,"1900-10-17","St Baudouin"]
[null,null,null,"1900-10-18","St Luc"]
[null,null,null,"1900-10-19","St René"]
[null,null,null,"1900-10-20","Ste Adeline"]
[null,null,null,"1900-10-21","Ste Céline"]
[null,null,null,"1900-10-22","Ste Salomé"]
[null,null,null,"1900-10-23","St Jean de C."]
[null,null,null,"1900-10-24","St Florentin"]
[null,null,null,"1900-10-25","St Enguerran"]
[null,null,null,"1900-10-26","St Dimitri"]
[null,null,null,"1900-10-27","Ste Emeline"]
[null,null,null,"1900-10-28","St Simon"]
[null,null,null,"1900-10-29","St Narcisse"]
[null,null,null,"1900-10-30","Ste Bienvenue"]
[null,null,null,"1900-10-31","St Quentin"]
[null,null,null,"1900-11-01","Toussaint"]
[null,null,null,"1900-11-02","Défunts"]
[null,null,null,"1900-11-03","St Hubert"]
[null,null,null,"1900-11-04","St Charles"]
[null,null,null,"1900-11-05","Ste Sylvie"]
[null,null,null,"1900-11-06","Ste Bertille"]
[null,null,null,"1900-11-07","Ste Carine"]
[null,null,null,"1900-11-08","St Geoffroy"]
[null,null,null,"1900-11-09","St Théodore"]
[null,null,null,"1900-11-10","St Léon"]
[null,null,null,"1900-11-11","Armistice 1918"]
[null,null,null,"1900-11-12","St Christian"]
[null,null,null,"1900-11-13","St Brice"]
[null,null,null,"1900-11-14","St Sidoine"]
[null,null,null,"1900-11-15","St Albert"]
[null,null,null,"1900-11-16","Ste Marguerite"]
[null,null,null,"1900-11-17","Ste Elisabeth"]
[null,null,null,"1900-11-18","Ste Aude"]
[null,null,null,"1900-11-19","St Tanguy"]
[null,null,null,"1900-11-20","St Edmond"]
[null,null,null,"1900-11-21","Prés. de Marie"]
[null,null,null,"1900-11-22","Ste Cécile"]
[null,null,null,"1900-11-23","St Clément"]
[null,null,null,"1900-11-24","Ste Flora"]
[null,null,null,"1900-11-25","Ste Catherine L."]
[null,null,null,"1900-11-26","Ste Delphine"]
[null,null,null,"1900-11-27","St Séverin"]
[null,null,null,"1900-11-28","St Jacques de M."]
[null,null,null,"1900-11-29","St Saturnin"]
[null,null,null,"1900-11-30","St André"]
[null,null,null,"1900-12-01","Ste Florence"]
[null,null,null,"1900-12-02","Ste Viviane"]
[null,null,null,"1900-12-03","St François Xavier"]
[null,null,null,"1900-12-04","Ste Barbara"]
[null,null,null,"1900-12-05","St Gérald"]
[null,null,null,"1900-12-06","St Nicolas"]
[null,null,null,"1900-12-07","St Ambroise"]
[null,null,null,"1900-12-08","Immac. Conception"]
[null,null,null,"1900-12-09","St P. Fourier"]
[null,null,null,"1900-12-10","St Romaric"]
[null,null,null,"1900-12-11","St Daniel"]
[null,null,null,"1900-12-12","Ste J.-F. Chantal"]
[null,null,null,"1900-12-13","Ste Lucie"]
[null,null,null,"1900-12-14","Ste Odile"]
[null,null,null,"1900-12-15","Ste Ninon"]
[null,null,null,"1900-12-16","Ste Alice"]
[null,null,null,"1900-12-17","St Judicaël"]
[null,null,null,"1900-12-18","St Gatien"]
[null,null,null,"1900-12-19","St Urbain"]
[null,null,null,"1900-12-20","St Théophile"]
[null,null,null,"1900-12-21","St Pierre C."]
[null,null,null,"1900-12-22","Ste Franç. Xavière"]
[null,null,null,"1900-12-23","St Armand"]
[null,null,null,"1900-12-24","Ste Adèle"]
[null,null,null,"1900-12-25","Noël"]
[null,null,null,"1900-12-26","St Etienne"]
[null,null,null,"1900-12-27","St Jean"]
[null,null,null,"1900-12-28","Sts Innocents"]
[null,null,null,"1900-12-29","St David"]
[null,null,null,"1900-12-30","St Roger"]
[null,null,null,"1900-12-31","St Sylvestre"]
[]
[]
[null,null,null,null,null," "]
[]
[null,{"$f":"TEXT(I1,\"aaaa\")","v":"2010"},null,null,{"$f":"N3","v":"2009-12-28"},1,null,null,{"$f":"TEXT(DATE(B375,F375,1),\"mmmm\")","v":"janvier"}]
[null,"Lundi",null,"Mardi","Mercredi","Jeudi","Vendredi","Samedi","Dimanche"]
[null,{"$f":"IF(C379<>\"\",VLOOKUP(DATE(1900,$F375,B379),$D$5:$F$370,3),\"\")","v":""},null,{"$f":"IF(D379<>\"\",VLOOKUP(DATE(1900,$F375,D379),$D$5:$F$370,3),\"\")","v":""},"","",0,0,0]
[null,{"$f":"IF(C379<>\"\",VLOOKUP(DATE(1900,$F375,C379),$D$5:$E$370,2),\"\")","v":""},null,{"$f":"IF(D379<>\"\",VLOOKUP(DATE(1900,$F375,D379),$D$5:$E$370,2),\"\")","v":""},"","","Jour de l'An ","St Basile","Ste Geneviève"]
[null,{"$f":"N1","v":53},{"$f":"IF(MONTH(N3+COLUMN()-COLUMN(C379)+(ROW()-ROW(C379))*7)=MONTH(I1),DAY(N3+COLUMN()-COLUMN(C379)+(ROW()-ROW(C379))*7),\"\")","v":""},{"$f":"IF(MONTH(N3+COLUMN()-COLUMN(C379)+(ROW()-ROW(C379))*7)=MONTH(I1),DAY(N3+COLUMN()-COLUMN(C379)+(ROW()-ROW(C379))*7),\"\")","v":""},{"$f":"IF(MONTH(N3+COLUMN()-COLUMN(C379)+(ROW()-ROW(C379))*7)=MONTH(I1),DAY(N3+COLUMN()-COLUMN(C379)+(ROW()-ROW(C379))*7),\"\")","v":""},{"$f":"IF(MONTH(N3+COLUMN()-COLUMN(C379)+(ROW()-ROW(C379))*7)=MONTH(I1),DAY(N3+COLUMN()-COLUMN(C379)+(ROW()-ROW(C379))*7),\"\")","v":""},{"$f":"IF(MONTH(N3+COLUMN()-COLUMN(C379)+(ROW()-ROW(C379))*7)=MONTH(I1),DAY(N3+COLUMN()-COLUMN(C379)+(ROW()-ROW(C379))*7),\"\")","v":1},{"$f":"IF(MONTH(N3+COLUMN()-COLUMN(C379)+(ROW()-ROW(C379))*7)=MONTH(I1),DAY(N3+COLUMN()-COLUMN(C379)+(ROW()-ROW(C379))*7),\"\")","v":2},{"$f":"IF(MONTH(N3+COLUMN()-COLUMN(C379)+(ROW()-ROW(C379))*7)=MONTH(I1),DAY(N3+COLUMN()-COLUMN(C379)+(ROW()-ROW(C379))*7),\"\")","v":3}]
[null,{"$f":"IF(C382<>\"\",VLOOKUP(DATE(1900,$F375,C382),$D$5:$F$370,3),\"\")","v":0},null,{"$f":"IF(D382<>\"\",VLOOKUP(DATE(1900,$F375,D382),$D$5:$F$370,3),\"\")","v":0},0,0,0,0,0]
[null,{"$f":"IF(C382<>\"\",VLOOKUP(DATE(1900,$F375,C382),$D$5:$E$370,2),\"\")","v":"St Odilon"},null,{"$f":"IF(D382<>\"\",VLOOKUP(DATE(1900,$F375,D382),$D$5:$E$370,2),\"\")","v":"St Edouard"},"Ste Melaine","St Raymond","St Lucien","Ste Alix","St Guillaume"]
[null,{"$f":"(B379+1)-(INT(((B379+1)-1)/$N$4))*$N$4","v":1},{"$f":"IF(MONTH(N3+COLUMN()-COLUMN(C379)+(ROW()-ROW(C379)-2)*7)=MONTH(I1),DAY(N3+COLUMN()-COLUMN(C379)+(ROW()-ROW(C379)-2)*7),\"\")","v":4},{"$f":"IF(MONTH(N3+COLUMN()-COLUMN(C379)+(ROW()-ROW(C379)-2)*7)=MONTH(I1),DAY(N3+COLUMN()-COLUMN(C379)+(ROW()-ROW(C379)-2)*7),\"\")","v":5},{"$f":"IF(MONTH(N3+COLUMN()-COLUMN(C379)+(ROW()-ROW(C379)-2)*7)=MONTH(I1),DAY(N3+COLUMN()-COLUMN(C379)+(ROW()-ROW(C379)-2)*7),\"\")","v":6},{"$f":"IF(MONTH(N3+COLUMN()-COLUMN(C379)+(ROW()-ROW(C379)-2)*7)=MONTH(I1),DAY(N3+COLUMN()-COLUMN(C379)+(ROW()-ROW(C379)-2)*7),\"\")","v":7},{"$f":"IF(MONTH(N3+COLUMN()-COLUMN(C379)+(ROW()-ROW(C379)-2)*7)=MONTH(I1),DAY(N3+COLUMN()-COLUMN(C379)+(ROW()-ROW(C379)-2)*7),\"\")","v":8},{"$f":"IF(MONTH(N3+COLUMN()-COLUMN(C379)+(ROW()-ROW(C379)-2)*7)=MONTH(I1),DAY(N3+COLUMN()-COLUMN(C379)+(ROW()-ROW(C379)-2)*7),\"\")","v":9},{"$f":"IF(MONTH(N3+COLUMN()-COLUMN(C379)+(ROW()-ROW(C379)-2)*7)=MONTH(I1),DAY(N3+COLUMN()-COLUMN(C379)+(ROW()-ROW(C379)-2)*7),\"\")","v":10}]
[null,{"$f":"IF(C385<>\"\",VLOOKUP(DATE(1900,$F375,C385),$D$5:$F$370,3),\"\")","v":0},null,{"$f":"IF(D385<>\"\",VLOOKUP(DATE(1900,$F375,D385),$D$5:$F$370,3),\"\")","v":0},0,0,0,0,0]
[null,{"$f":"IF(C385<>\"\",VLOOKUP(DATE(1900,$F375,C385),$D$5:$E$370,2),\"\")","v":"St Paulin"},null,{"$f":"IF(D385<>\"\",VLOOKUP(DATE(1900,$F375,D385),$D$5:$E$370,2),\"\")","v":"Ste Tatiana"},"Ste Yvette","Ste Nina","St Rémi","St Marcel","Ste Roseline"]
[null,{"$f":"B382+1","v":2},{"$f":"IF(MONTH(N3+COLUMN()-COLUMN(C379)+(ROW()-ROW(C379)-4)*7)=MONTH(I1),DAY(N3+COLUMN()-COLUMN(C379)+(ROW()-ROW(C379)-4)*7),\"\")","v":11},{"$f":"IF(MONTH(N3+COLUMN()-COLUMN(C379)+(ROW()-ROW(C379)-4)*7)=MONTH(I1),DAY(N3+COLUMN()-COLUMN(C379)+(ROW()-ROW(C379)-4)*7),\"\")","v":12},{"$f":"IF(MONTH(N3+COLUMN()-COLUMN(C379)+(ROW()-ROW(C379)-4)*7)=MONTH(I1),DAY(N3+COLUMN()-COLUMN(C379)+(ROW()-ROW(C379)-4)*7),\"\")","v":13},{"$f":"IF(MONTH(N3+COLUMN()-COLUMN(C379)+(ROW()-ROW(C379)-4)*7)=MONTH(I1),DAY(N3+COLUMN()-COLUMN(C379)+(ROW()-ROW(C379)-4)*7),\"\")","v":14},{"$f":"IF(MONTH(N3+COLUMN()-COLUMN(C379)+(ROW()-ROW(C379)-4)*7)=MONTH(I1),DAY(N3+COLUMN()-COLUMN(C379)+(ROW()-ROW(C379)-4)*7),\"\")","v":15},{"$f":"IF(MONTH(N3+COLUMN()-COLUMN(C379)+(ROW()-ROW(C379)-4)*7)=MONTH(I1),DAY(N3+COLUMN()-COLUMN(C379)+(ROW()-ROW(C379)-4)*7),\"\")","v":16},{"$f":"IF(MONTH(N3+COLUMN()-COLUMN(C379)+(ROW()-ROW(C379)-4)*7)=MONTH(I1),DAY(N3+COLUMN()-COLUMN(C379)+(ROW()-ROW(C379)-4)*7),\"\")","v":17}]
[null,{"$f":"IF(C388<>\"\",VLOOKUP(DATE(1900,$F375,C388),$D$5:$F$370,3),\"\")","v":0},null,{"$f":"IF(D388<>\"\",VLOOKUP(DATE(1900,$F375,D388),$D$5:$F$370,3),\"\")","v":0},0,0,0,0,0]
[null,{"$f":"IF(C388<>\"\",VLOOKUP(DATE(1900,$F375,C388),$D$5:$E$370,2),\"\")","v":"Ste Prisca"},null,{"$f":"IF(D388<>\"\",VLOOKUP(DATE(1900,$F375,D388),$D$5:$E$370,2),\"\")","v":"St Marius"},"St Sébastien","Ste Agnès","St Vincent","St Barnard","St François de Sales"]
[null,{"$f":"B385+1","v":3},{"$f":"IF(MONTH(N3+COLUMN()-COLUMN(C379)+(ROW()-ROW(C379)-6)*7)=MONTH(I1),DAY(N3+COLUMN()-COLUMN(C379)+(ROW()-ROW(C379)-6)*7),\"\")","v":18},{"$f":"IF(MONTH(N3+COLUMN()-COLUMN(C379)+(ROW()-ROW(C379)-6)*7)=MONTH(I1),DAY(N3+COLUMN()-COLUMN(C379)+(ROW()-ROW(C379)-6)*7),\"\")","v":19},{"$f":"IF(MONTH(N3+COLUMN()-COLUMN(C379)+(ROW()-ROW(C379)-6)*7)=MONTH(I1),DAY(N3+COLUMN()-COLUMN(C379)+(ROW()-ROW(C379)-6)*7),\"\")","v":20},{"$f":"IF(MONTH(N3+COLUMN()-COLUMN(C379)+(ROW()-ROW(C379)-6)*7)=MONTH(I1),DAY(N3+COLUMN()-COLUMN(C379)+(ROW()-ROW(C379)-6)*7),\"\")","v":21},{"$f":"IF(MONTH(N3+COLUMN()-COLUMN(C379)+(ROW()-ROW(C379)-6)*7)=MONTH(I1),DAY(N3+COLUMN()-COLUMN(C379)+(ROW()-ROW(C379)-6)*7),\"\")","v":22},{"$f":"IF(MONTH(N3+COLUMN()-COLUMN(C379)+(ROW()-ROW(C379)-6)*7)=MONTH(I1),DAY(N3+COLUMN()-COLUMN(C379)+(ROW()-ROW(C379)-6)*7),\"\")","v":23},{"$f":"IF(MONTH(N3+COLUMN()-COLUMN(C379)+(ROW()-ROW(C379)-6)*7)=MONTH(I1),DAY(N3+COLUMN()-COLUMN(C379)+(ROW()-ROW(C379)-6)*7),\"\")","v":24}]
[null,{"$f":"IF(C391<>\"\",VLOOKUP(DATE(1900,$F375,C391),$D$5:$F$370,3),\"\")","v":0},null,{"$f":"IF(D391<>\"\",VLOOKUP(DATE(1900,$F375,D391),$D$5:$F$370,3),\"\")","v":0},0,0,0,0,0]
[null,{"$f":"IF(C391<>\"\",VLOOKUP(DATE(1900,$F375,C391),$D$5:$E$370,2),\"\")","v":"Convers. de St Paul"},null,{"$f":"IF(D391<>\"\",VLOOKUP(DATE(1900,$F375,D391),$D$5:$E$370,2),\"\")","v":"Ste Paule"},"Ste Angel","St Thomas d'Aquin","St Gildas","Ste Martine","Ste Marcelle"]
[null,{"$f":"B388+1","v":4},{"$f":"IF(MONTH(N3+COLUMN()-COLUMN(C379)+(ROW()-ROW(C379)-8)*7)=MONTH(I1),DAY(N3+COLUMN()-COLUMN(C379)+(ROW()-ROW(C379)-8)*7),\"\")","v":25},{"$f":"IF(MONTH(N3+COLUMN()-COLUMN(C379)+(ROW()-ROW(C379)-8)*7)=MONTH(I1),DAY(N3+COLUMN()-COLUMN(C379)+(ROW()-ROW(C379)-8)*7),\"\")","v":26},{"$f":"IF(MONTH(N3+COLUMN()-COLUMN(C379)+(ROW()-ROW(C379)-8)*7)=MONTH(I1),DAY(N3+COLUMN()-COLUMN(C379)+(ROW()-ROW(C379)-8)*7),\"\")","v":27},{"$f":"IF(MONTH(N3+COLUMN()-COLUMN(C379)+(ROW()-ROW(C379)-8)*7)=MONTH(I1),DAY(N3+COLUMN()-COLUMN(C379)+(ROW()-ROW(C379)-8)*7),\"\")","v":28},{"$f":"IF(MONTH(N3+COLUMN()-COLUMN(C379)+(ROW()-ROW(C379)-8)*7)=MONTH(I1),DAY(N3+COLUMN()-COLUMN(C379)+(ROW()-ROW(C379)-8)*7),\"\")","v":29},{"$f":"IF(MONTH(N3+COLUMN()-COLUMN(C379)+(ROW()-ROW(C379)-8)*7)=MONTH(I1),DAY(N3+COLUMN()-COLUMN(C379)+(ROW()-ROW(C379)-8)*7),\"\")","v":30},{"$f":"IF(MONTH(N3+COLUMN()-COLUMN(C379)+(ROW()-ROW(C379)-8)*7)=MONTH(I1),DAY(N3+COLUMN()-COLUMN(C379)+(ROW()-ROW(C379)-8)*7),\"\")","v":31}]
[]
[null,{"$f":"IF(C394<>\"\",VLOOKUP(DATE(1900,$F375,C394),$D$5:$E$370,2),\"\")","v":""},null,{"$f":"IF(D394<>\"\",VLOOKUP(DATE(1900,$F375,D394),$D$5:$E$370,2),\"\")","v":""},"","","","",""]
[null,{"$f":"IF(C394=\"\",\"\",IF(B391=N4,1,B391+1))","v":""},{"$f":"IF(MONTH(N3+COLUMN()-COLUMN(C379)+(ROW()-ROW(C379)-10)*7)=MONTH(I1),DAY(N3+COLUMN()-COLUMN(C379)+(ROW()-ROW(C379)-10)*7),\"\")","v":""},{"$f":"IF(MONTH(N3+COLUMN()-COLUMN(C379)+(ROW()-ROW(C379)-10)*7)=MONTH(I1),DAY(N3+COLUMN()-COLUMN(C379)+(ROW()-ROW(C379)-10)*7),\"\")","v":""},{"$f":"IF(MONTH(N3+COLUMN()-COLUMN(C379)+(ROW()-ROW(C379)-10)*7)=MONTH(I1),DAY(N3+COLUMN()-COLUMN(C379)+(ROW()-ROW(C379)-10)*7),\"\")","v":""},{"$f":"IF(MONTH(N3+COLUMN()-COLUMN(C379)+(ROW()-ROW(C379)-10)*7)=MONTH(I1),DAY(N3+COLUMN()-COLUMN(C379)+(ROW()-ROW(C379)-10)*7),\"\")","v":""},{"$f":"IF(MONTH(N3+COLUMN()-COLUMN(C379)+(ROW()-ROW(C379)-10)*7)=MONTH(I1),DAY(N3+COLUMN()-COLUMN(C379)+(ROW()-ROW(C379)-10)*7),\"\")","v":""},{"$f":"IF(MONTH(N3+COLUMN()-COLUMN(C379)+(ROW()-ROW(C379)-10)*7)=MONTH(I1),DAY(N3+COLUMN()-COLUMN(C379)+(ROW()-ROW(C379)-10)*7),\"\")","v":""},{"$f":"IF(MONTH(N3+COLUMN()-COLUMN(C379)+(ROW()-ROW(C379)-10)*7)=MONTH(I1),DAY(N3+COLUMN()-COLUMN(C379)+(ROW()-ROW(C379)-10)*7),\"\")","v":""}]
[null,{"$f":"B375","v":"2010"},null,null,{"$f":"IF(C394<>\"\",E375+35,IF(I391=\"\",E375+28,E375+35))","v":40210},{"$f":"F375+1","v":2},null,null,{"$f":"TEXT(DATE(B395,F395,1),\"mmmm\")","v":"février"}]
[null,null,"Lundi","Mardi","Mercredi","Jeudi","Vendredi","Samedi","Dimanche"]
[null,{"$f":"IF(C399<>\"\",VLOOKUP(DATE(1900,$F395,C399),$D$5:$F$370,3),\"\")","v":0},null,{"$f":"IF(D399<>\"\",VLOOKUP(DATE(1900,$F395,D399),$D$5:$F$370,3),\"\")","v":0},0,0,0,0,0]
[null,{"$f":"IF(C399<>\"\",VLOOKUP(DATE(1900,$F395,C399),$D$5:$E$370,2),\"\")","v":"Ste Ella"},null,{"$f":"IF(D399<>\"\",VLOOKUP(DATE(1900,$F395,D399),$D$5:$E$370,2),\"\")","v":"Prés. du Seigneur"},"St Blaise","Ste Véronique","Ste Agathe","St Gaston","Ste Eugénie"]
[null,{"$f":"MAX(B394,B391,B388)+(I394<>\"\")+AND(I391=\"\",C391=\"\")+AND(I391<>\"\",C394=\"\")","v":5},{"$f":"IF(MONTH(E395+COLUMN()-COLUMN(C399)+(ROW()-ROW(C399))*7)=F395,DAY(E395+COLUMN()-COLUMN(C399)+(ROW()-ROW(C399))*7),\"\")","v":1},{"$f":"IF(MONTH(E395+COLUMN()-COLUMN(C399)+(ROW()-ROW(C399))*7)=F395,DAY(E395+COLUMN()-COLUMN(C399)+(ROW()-ROW(C399))*7),\"\")","v":2},{"$f":"IF(MONTH(E395+COLUMN()-COLUMN(C399)+(ROW()-ROW(C399))*7)=F395,DAY(E395+COLUMN()-COLUMN(C399)+(ROW()-ROW(C399))*7),\"\")","v":3},{"$f":"IF(MONTH(E395+COLUMN()-COLUMN(C399)+(ROW()-ROW(C399))*7)=F395,DAY(E395+COLUMN()-COLUMN(C399)+(ROW()-ROW(C399))*7),\"\")","v":4},{"$f":"IF(MONTH(E395+COLUMN()-COLUMN(C399)+(ROW()-ROW(C399))*7)=F395,DAY(E395+COLUMN()-COLUMN(C399)+(ROW()-ROW(C399))*7),\"\")","v":5},{"$f":"IF(MONTH(E395+COLUMN()-COLUMN(C399)+(ROW()-ROW(C399))*7)=F395,DAY(E395+COLUMN()-COLUMN(C399)+(ROW()-ROW(C399))*7),\"\")","v":6},{"$f":"IF(MONTH(E395+COLUMN()-COLUMN(C399)+(ROW()-ROW(C399))*7)=F395,DAY(E395+COLUMN()-COLUMN(C399)+(ROW()-ROW(C399))*7),\"\")","v":7}]
[null,{"$f":"IF(C402<>\"\",VLOOKUP(DATE(1900,$F395,C402),$D$5:$F$370,3),\"\")","v":0},null,{"$f":"IF(D402<>\"\",VLOOKUP(DATE(1900,$F395,D402),$D$5:$F$370,3),\"\")","v":0},0,0,0,0,0]
[null,{"$f":"IF(C402<>\"\",VLOOKUP(DATE(1900,$F395,C402),$D$5:$E$370,2),\"\")","v":"Ste Jacqueline"},null,{"$f":"IF(D402<>\"\",VLOOKUP(DATE(1900,$F395,D402),$D$5:$E$370,2),\"\")","v":"Ste Apolline"},"St Arnaud","N.-D. de Lourdes","St Félix","Ste Béatrice","St Valentin"]
[null,{"$f":"(B399+1)-(INT(((B399+1)-1)/$N$4))*$N$4","v":6},{"$f":"IF(MONTH(E395+COLUMN()-COLUMN(C399)+(ROW()-ROW(C399)-2)*7)=F395,DAY(E395+COLUMN()-COLUMN(C399)+(ROW()-ROW(C399)-2)*7),\"\")","v":8},{"$f":"IF(MONTH(E395+COLUMN()-COLUMN(C399)+(ROW()-ROW(C399)-2)*7)=F395,DAY(E395+COLUMN()-COLUMN(C399)+(ROW()-ROW(C399)-2)*7),\"\")","v":9},{"$f":"IF(MONTH(E395+COLUMN()-COLUMN(C399)+(ROW()-ROW(C399)-2)*7)=F395,DAY(E395+COLUMN()-COLUMN(C399)+(ROW()-ROW(C399)-2)*7),\"\")","v":10},{"$f":"IF(MONTH(E395+COLUMN()-COLUMN(C399)+(ROW()-ROW(C399)-2)*7)=F395,DAY(E395+COLUMN()-COLUMN(C399)+(ROW()-ROW(C399)-2)*7),\"\")","v":11},{"$f":"IF(MONTH(E395+COLUMN()-COLUMN(C399)+(ROW()-ROW(C399)-2)*7)=F395,DAY(E395+COLUMN()-COLUMN(C399)+(ROW()-ROW(C399)-2)*7),\"\")","v":12},{"$f":"IF(MONTH(E395+COLUMN()-COLUMN(C399)+(ROW()-ROW(C399)-2)*7)=F395,DAY(E395+COLUMN()-COLUMN(C399)+(ROW()-ROW(C399)-2)*7),\"\")","v":13},{"$f":"IF(MONTH(E395+COLUMN()-COLUMN(C399)+(ROW()-ROW(C399)-2)*7)=F395,DAY(E395+COLUMN()-COLUMN(C399)+(ROW()-ROW(C399)-2)*7),\"\")","v":14}]
[null,{"$f":"IF(C405<>\"\",VLOOKUP(DATE(1900,$F395,C405),$D$5:$F$370,3),\"\")","v":0},null,{"$f":"IF(D405<>\"\",VLOOKUP(DATE(1900,$F395,D405),$D$5:$F$370,3),\"\")","v":0},"REMY",0,0,0,0]
[null,{"$f":"IF(C405<>\"\",VLOOKUP(DATE(1900,$F395,C405),$D$5:$E$370,2),\"\")","v":"St Claude"},null,{"$f":"IF(D405<>\"\",VLOOKUP(DATE(1900,$F395,D405),$D$5:$E$370,2),\"\")","v":"Ste Julienne"},"St Alexis  ","Ste Bernadette","St Gabin","Ste Aimée","St P. Damien"]
[null,{"$f":"B402+1","v":7},{"$f":"IF(MONTH(E395+COLUMN()-COLUMN(C399)+(ROW()-ROW(C399)-4)*7)=F395,DAY(E395+COLUMN()-COLUMN(C399)+(ROW()-ROW(C399)-4)*7),\"\")","v":15},{"$f":"IF(MONTH(E395+COLUMN()-COLUMN(C399)+(ROW()-ROW(C399)-4)*7)=F395,DAY(E395+COLUMN()-COLUMN(C399)+(ROW()-ROW(C399)-4)*7),\"\")","v":16},{"$f":"IF(MONTH(E395+COLUMN()-COLUMN(C399)+(ROW()-ROW(C399)-4)*7)=F395,DAY(E395+COLUMN()-COLUMN(C399)+(ROW()-ROW(C399)-4)*7),\"\")","v":17},{"$f":"IF(MONTH(E395+COLUMN()-COLUMN(C399)+(ROW()-ROW(C399)-4)*7)=F395,DAY(E395+COLUMN()-COLUMN(C399)+(ROW()-ROW(C399)-4)*7),\"\")","v":18},{"$f":"IF(MONTH(E395+COLUMN()-COLUMN(C399)+(ROW()-ROW(C399)-4)*7)=F395,DAY(E395+COLUMN()-COLUMN(C399)+(ROW()-ROW(C399)-4)*7),\"\")","v":19},{"$f":"IF(MONTH(E395+COLUMN()-COLUMN(C399)+(ROW()-ROW(C399)-4)*7)=F395,DAY(E395+COLUMN()-COLUMN(C399)+(ROW()-ROW(C399)-4)*7),\"\")","v":20},{"$f":"IF(MONTH(E395+COLUMN()-COLUMN(C399)+(ROW()-ROW(C399)-4)*7)=F395,DAY(E395+COLUMN()-COLUMN(C399)+(ROW()-ROW(C399)-4)*7),\"\")","v":21}]
[null,{"$f":"IF(C408<>\"\",VLOOKUP(DATE(1900,$F395,C408),$D$5:$F$370,3),\"\")","v":0},null,{"$f":"IF(D408<>\"\",VLOOKUP(DATE(1900,$F395,D408),$D$5:$F$370,3),\"\")","v":0},0,0,0,0,0]
[null,{"$f":"IF(C408<>\"\",VLOOKUP(DATE(1900,$F395,C408),$D$5:$E$370,2),\"\")","v":"Ste Isabelle"},null,{"$f":"IF(D408<>\"\",VLOOKUP(DATE(1900,$F395,D408),$D$5:$E$370,2),\"\")","v":"St Lazare"},"St Modeste","St Roméo","St Nestor","St Honorine","St Romain"]
[null,{"$f":"B405+1","v":8},{"$f":"IF(MONTH(E395+COLUMN()-COLUMN(C399)+(ROW()-ROW(C399)-6)*7)=F395,DAY(E395+COLUMN()-COLUMN(C399)+(ROW()-ROW(C399)-6)*7),\"\")","v":22},{"$f":"IF(MONTH(E395+COLUMN()-COLUMN(C399)+(ROW()-ROW(C399)-6)*7)=F395,DAY(E395+COLUMN()-COLUMN(C399)+(ROW()-ROW(C399)-6)*7),\"\")","v":23},{"$f":"IF(MONTH(E395+COLUMN()-COLUMN(C399)+(ROW()-ROW(C399)-6)*7)=F395,DAY(E395+COLUMN()-COLUMN(C399)+(ROW()-ROW(C399)-6)*7),\"\")","v":24},{"$f":"IF(MONTH(E395+COLUMN()-COLUMN(C399)+(ROW()-ROW(C399)-6)*7)=F395,DAY(E395+COLUMN()-COLUMN(C399)+(ROW()-ROW(C399)-6)*7),\"\")","v":25},{"$f":"IF(MONTH(E395+COLUMN()-COLUMN(C399)+(ROW()-ROW(C399)-6)*7)=F395,DAY(E395+COLUMN()-COLUMN(C399)+(ROW()-ROW(C399)-6)*7),\"\")","v":26},{"$f":"IF(MONTH(E395+COLUMN()-COLUMN(C399)+(ROW()-ROW(C399)-6)*7)=F395,DAY(E395+COLUMN()-COLUMN(C399)+(ROW()-ROW(C399)-6)*7),\"\")","v":27},{"$f":"IF(MONTH(E395+COLUMN()-COLUMN(C399)+(ROW()-ROW(C399)-6)*7)=F395,DAY(E395+COLUMN()-COLUMN(C399)+(ROW()-ROW(C399)-6)*7),\"\")","v":28}]
[null,{"$f":"IF(C411<>\"\",VLOOKUP(DATE(1900,$F395,C411),$D$5:$F$370,3),\"\")","v":""},null,{"$f":"IF(D411<>\"\",VLOOKUP(DATE(1900,$F395,D411),$D$5:$F$370,3),\"\")","v":""},"","","","",""]
[null,{"$f":"IF(C411<>\"\",VLOOKUP(DATE(1900,$F395,C411),$D$5:$E$370,2),\"\")","v":""},null,{"$f":"IF(D411<>\"\",VLOOKUP(DATE(1900,$F395,D411),$D$5:$E$370,2),\"\")","v":""},"","","","",""]
[null,{"$f":"IF(C411=\"\",\"\",IF(B408=H393,1,B408+1))","v":""},{"$f":"IF(MONTH(E395+COLUMN()-COLUMN(C399)+(ROW()-ROW(C399)-8)*7)=F395,DAY(E395+COLUMN()-COLUMN(C399)+(ROW()-ROW(C399)-8)*7),\"\")","v":""},{"$f":"IF(MONTH(E395+COLUMN()-COLUMN(C399)+(ROW()-ROW(C399)-8)*7)=F395,DAY(E395+COLUMN()-COLUMN(C399)+(ROW()-ROW(C399)-8)*7),\"\")","v":""},{"$f":"IF(MONTH(E395+COLUMN()-COLUMN(C399)+(ROW()-ROW(C399)-8)*7)=F395,DAY(E395+COLUMN()-COLUMN(C399)+(ROW()-ROW(C399)-8)*7),\"\")","v":""},{"$f":"IF(MONTH(E395+COLUMN()-COLUMN(C399)+(ROW()-ROW(C399)-8)*7)=F395,DAY(E395+COLUMN()-COLUMN(C399)+(ROW()-ROW(C399)-8)*7),\"\")","v":""},{"$f":"IF(MONTH(E395+COLUMN()-COLUMN(C399)+(ROW()-ROW(C399)-8)*7)=F395,DAY(E395+COLUMN()-COLUMN(C399)+(ROW()-ROW(C399)-8)*7),\"\")","v":""},{"$f":"IF(MONTH(E395+COLUMN()-COLUMN(C399)+(ROW()-ROW(C399)-8)*7)=F395,DAY(E395+COLUMN()-COLUMN(C399)+(ROW()-ROW(C399)-8)*7),\"\")","v":""},{"$f":"IF(MONTH(E395+COLUMN()-COLUMN(C399)+(ROW()-ROW(C399)-8)*7)=F395,DAY(E395+COLUMN()-COLUMN(C399)+(ROW()-ROW(C399)-8)*7),\"\")","v":""}]
[]
[null,{"$f":"IF(C414<>\"\",VLOOKUP(DATE(1900,$F395,C414),$D$5:$E$370,2),\"\")","v":""},null,{"$f":"IF(D414<>\"\",VLOOKUP(DATE(1900,$F395,D414),$D$5:$E$370,2),\"\")","v":""},"","","","",""]
[null,{"$f":"IF(C414=\"\",\"\",IF(B411=H393,1,B411+1))","v":""},{"$f":"IF(MONTH(E395+COLUMN()-COLUMN(C399)+(ROW()-ROW(C399)-10)*7)=F395,DAY(E395+COLUMN()-COLUMN(C399)+(ROW()-ROW(C399)-10)*7),\"\")","v":""},{"$f":"IF(MONTH(E395+COLUMN()-COLUMN(C399)+(ROW()-ROW(C399)-10)*7)=F395,DAY(E395+COLUMN()-COLUMN(C399)+(ROW()-ROW(C399)-10)*7),\"\")","v":""},{"$f":"IF(MONTH(E395+COLUMN()-COLUMN(C399)+(ROW()-ROW(C399)-10)*7)=F395,DAY(E395+COLUMN()-COLUMN(C399)+(ROW()-ROW(C399)-10)*7),\"\")","v":""},{"$f":"IF(MONTH(E395+COLUMN()-COLUMN(C399)+(ROW()-ROW(C399)-10)*7)=F395,DAY(E395+COLUMN()-COLUMN(C399)+(ROW()-ROW(C399)-10)*7),\"\")","v":""},{"$f":"IF(MONTH(E395+COLUMN()-COLUMN(C399)+(ROW()-ROW(C399)-10)*7)=F395,DAY(E395+COLUMN()-COLUMN(C399)+(ROW()-ROW(C399)-10)*7),\"\")","v":""},{"$f":"IF(MONTH(E395+COLUMN()-COLUMN(C399)+(ROW()-ROW(C399)-10)*7)=F395,DAY(E395+COLUMN()-COLUMN(C399)+(ROW()-ROW(C399)-10)*7),\"\")","v":""},{"$f":"IF(MONTH(E395+COLUMN()-COLUMN(C399)+(ROW()-ROW(C399)-10)*7)=F395,DAY(E395+COLUMN()-COLUMN(C399)+(ROW()-ROW(C399)-10)*7),\"\")","v":""}]
[null,{"$f":"B395","v":"2010"},null,null,{"$f":"IF(C414<>\"\",E395+35,IF(I411=\"\",E395+28,E395+35))","v":40238},{"$f":"F395+1","v":3},null,null,{"$f":"TEXT(DATE(B415,F415,1),\"mmmm\")","v":"mars"}]
[null,null,"Lundi","Mardi","Mercredi","Jeudi","Vendredi","Samedi","Dimanche"]
[null,{"$f":"IF(C419<>\"\",VLOOKUP(DATE(1900,$F415,C419),$D$5:$F$370,3),\"\")","v":0},null,{"$f":"IF(D419<>\"\",VLOOKUP(DATE(1900,$F415,D419),$D$5:$F$370,3),\"\")","v":0},0,0,0,0,0]
[null,{"$f":"IF(C419<>\"\",VLOOKUP(DATE(1900,$F415,C419),$D$5:$E$370,2),\"\")","v":"St Aubin"},null,{"$f":"IF(D419<>\"\",VLOOKUP(DATE(1900,$F415,D419),$D$5:$E$370,2),\"\")","v":"St Charles le Bon"},"St Gwénolé","St Casimir","Ste Olivia","Ste Colette","Ste Félicité"]
[null,{"$f":"MAX(B414,B411,B408)+(I414<>\"\")+AND(I411=\"\",C411=\"\")+AND(I411<>\"\",C414=\"\")","v":9},{"$f":"IF(MONTH(E415+COLUMN()-COLUMN(C419)+(ROW()-ROW(C419))*7)=F415,DAY(E415+COLUMN()-COLUMN(C419)+(ROW()-ROW(C419))*7),\"\")","v":1},{"$f":"IF(MONTH(E415+COLUMN()-COLUMN(C419)+(ROW()-ROW(C419))*7)=F415,DAY(E415+COLUMN()-COLUMN(C419)+(ROW()-ROW(C419))*7),\"\")","v":2},{"$f":"IF(MONTH(E415+COLUMN()-COLUMN(C419)+(ROW()-ROW(C419))*7)=F415,DAY(E415+COLUMN()-COLUMN(C419)+(ROW()-ROW(C419))*7),\"\")","v":3},{"$f":"IF(MONTH(E415+COLUMN()-COLUMN(C419)+(ROW()-ROW(C419))*7)=F415,DAY(E415+COLUMN()-COLUMN(C419)+(ROW()-ROW(C419))*7),\"\")","v":4},{"$f":"IF(MONTH(E415+COLUMN()-COLUMN(C419)+(ROW()-ROW(C419))*7)=F415,DAY(E415+COLUMN()-COLUMN(C419)+(ROW()-ROW(C419))*7),\"\")","v":5},{"$f":"IF(MONTH(E415+COLUMN()-COLUMN(C419)+(ROW()-ROW(C419))*7)=F415,DAY(E415+COLUMN()-COLUMN(C419)+(ROW()-ROW(C419))*7),\"\")","v":6},{"$f":"IF(MONTH(E415+COLUMN()-COLUMN(C419)+(ROW()-ROW(C419))*7)=F415,DAY(E415+COLUMN()-COLUMN(C419)+(ROW()-ROW(C419))*7),\"\")","v":7}]
[null,{"$f":"IF(C422<>\"\",VLOOKUP(DATE(1900,$F415,C422),$D$5:$F$370,3),\"\")","v":0},null,{"$f":"IF(D422<>\"\",VLOOKUP(DATE(1900,$F415,D422),$D$5:$F$370,3),\"\")","v":0},0,0,0,0,0]
[null,{"$f":"IF(C422<>\"\",VLOOKUP(DATE(1900,$F415,C422),$D$5:$E$370,2),\"\")","v":"St Jean-de-Dieu"},null,{"$f":"IF(D422<>\"\",VLOOKUP(DATE(1900,$F415,D422),$D$5:$E$370,2),\"\")","v":"Ste Françoise R."},"St Vivien","Ste Rosine","Ste Justine","St Rodrigue","Ste Mathilde"]
[null,{"$f":"(B419+1)-(INT(((B419+1)-1)/$N$4))*$N$4","v":10},{"$f":"IF(MONTH(E415+COLUMN()-COLUMN(C419)+(ROW()-ROW(C419)-2)*7)=F415,DAY(E415+COLUMN()-COLUMN(C419)+(ROW()-ROW(C419)-2)*7),\"\")","v":8},{"$f":"IF(MONTH(E415+COLUMN()-COLUMN(C419)+(ROW()-ROW(C419)-2)*7)=F415,DAY(E415+COLUMN()-COLUMN(C419)+(ROW()-ROW(C419)-2)*7),\"\")","v":9},{"$f":"IF(MONTH(E415+COLUMN()-COLUMN(C419)+(ROW()-ROW(C419)-2)*7)=F415,DAY(E415+COLUMN()-COLUMN(C419)+(ROW()-ROW(C419)-2)*7),\"\")","v":10},{"$f":"IF(MONTH(E415+COLUMN()-COLUMN(C419)+(ROW()-ROW(C419)-2)*7)=F415,DAY(E415+COLUMN()-COLUMN(C419)+(ROW()-ROW(C419)-2)*7),\"\")","v":11},{"$f":"IF(MONTH(E415+COLUMN()-COLUMN(C419)+(ROW()-ROW(C419)-2)*7)=F415,DAY(E415+COLUMN()-COLUMN(C419)+(ROW()-ROW(C419)-2)*7),\"\")","v":12},{"$f":"IF(MONTH(E415+COLUMN()-COLUMN(C419)+(ROW()-ROW(C419)-2)*7)=F415,DAY(E415+COLUMN()-COLUMN(C419)+(ROW()-ROW(C419)-2)*7),\"\")","v":13},{"$f":"IF(MONTH(E415+COLUMN()-COLUMN(C419)+(ROW()-ROW(C419)-2)*7)=F415,DAY(E415+COLUMN()-COLUMN(C419)+(ROW()-ROW(C419)-2)*7),\"\")","v":14}]
[null,{"$f":"IF(C425<>\"\",VLOOKUP(DATE(1900,$F415,C425),$D$5:$F$370,3),\"\")","v":"JEAN CLAUDE"},null,{"$f":"IF(D425<>\"\",VLOOKUP(DATE(1900,$F415,D425),$D$5:$F$370,3),\"\")","v":0},0,0,0,"ALEXANDRE","PAPA"]
[null,{"$f":"IF(C425<>\"\",VLOOKUP(DATE(1900,$F415,C425),$D$5:$E$370,2),\"\")","v":"Ste Louise M. "},null,{"$f":"IF(D425<>\"\",VLOOKUP(DATE(1900,$F415,D425),$D$5:$E$370,2),\"\")","v":"Ste Bénédicte"},"St Patrice","St Cyrille","St Joseph","Printemps ","Ste Clémence"]
[null,{"$f":"B422+1","v":11},{"$f":"IF(MONTH(E415+COLUMN()-COLUMN(C419)+(ROW()-ROW(C419)-4)*7)=F415,DAY(E415+COLUMN()-COLUMN(C419)+(ROW()-ROW(C419)-4)*7),\"\")","v":15},{"$f":"IF(MONTH(E415+COLUMN()-COLUMN(C419)+(ROW()-ROW(C419)-4)*7)=F415,DAY(E415+COLUMN()-COLUMN(C419)+(ROW()-ROW(C419)-4)*7),\"\")","v":16},{"$f":"IF(MONTH(E415+COLUMN()-COLUMN(C419)+(ROW()-ROW(C419)-4)*7)=F415,DAY(E415+COLUMN()-COLUMN(C419)+(ROW()-ROW(C419)-4)*7),\"\")","v":17},{"$f":"IF(MONTH(E415+COLUMN()-COLUMN(C419)+(ROW()-ROW(C419)-4)*7)=F415,DAY(E415+COLUMN()-COLUMN(C419)+(ROW()-ROW(C419)-4)*7),\"\")","v":18},{"$f":"IF(MONTH(E415+COLUMN()-COLUMN(C419)+(ROW()-ROW(C419)-4)*7)=F415,DAY(E415+COLUMN()-COLUMN(C419)+(ROW()-ROW(C419)-4)*7),\"\")","v":19},{"$f":"IF(MONTH(E415+COLUMN()-COLUMN(C419)+(ROW()-ROW(C419)-4)*7)=F415,DAY(E415+COLUMN()-COLUMN(C419)+(ROW()-ROW(C419)-4)*7),\"\")","v":20},{"$f":"IF(MONTH(E415+COLUMN()-COLUMN(C419)+(ROW()-ROW(C419)-4)*7)=F415,DAY(E415+COLUMN()-COLUMN(C419)+(ROW()-ROW(C419)-4)*7),\"\")","v":21}]
[null,{"$f":"IF(C428<>\"\",VLOOKUP(DATE(1900,$F415,C428),$D$5:$F$370,3),\"\")","v":0},null,{"$f":"IF(D428<>\"\",VLOOKUP(DATE(1900,$F415,D428),$D$5:$F$370,3),\"\")","v":0},0,0,0,0,0]
[null,{"$f":"IF(C428<>\"\",VLOOKUP(DATE(1900,$F415,C428),$D$5:$E$370,2),\"\")","v":"Ste Léa"},null,{"$f":"IF(D428<>\"\",VLOOKUP(DATE(1900,$F415,D428),$D$5:$E$370,2),\"\")","v":"St Victorien "},"Ste Catherine","Annonciation","Ste Larissa","St Habib","St Gontran"]
[null,{"$f":"B425+1","v":12},{"$f":"IF(MONTH(E415+COLUMN()-COLUMN(C419)+(ROW()-ROW(C419)-6)*7)=F415,DAY(E415+COLUMN()-COLUMN(C419)+(ROW()-ROW(C419)-6)*7),\"\")","v":22},{"$f":"IF(MONTH(E415+COLUMN()-COLUMN(C419)+(ROW()-ROW(C419)-6)*7)=F415,DAY(E415+COLUMN()-COLUMN(C419)+(ROW()-ROW(C419)-6)*7),\"\")","v":23},{"$f":"IF(MONTH(E415+COLUMN()-COLUMN(C419)+(ROW()-ROW(C419)-6)*7)=F415,DAY(E415+COLUMN()-COLUMN(C419)+(ROW()-ROW(C419)-6)*7),\"\")","v":24},{"$f":"IF(MONTH(E415+COLUMN()-COLUMN(C419)+(ROW()-ROW(C419)-6)*7)=F415,DAY(E415+COLUMN()-COLUMN(C419)+(ROW()-ROW(C419)-6)*7),\"\")","v":25},{"$f":"IF(MONTH(E415+COLUMN()-COLUMN(C419)+(ROW()-ROW(C419)-6)*7)=F415,DAY(E415+COLUMN()-COLUMN(C419)+(ROW()-ROW(C419)-6)*7),\"\")","v":26},{"$f":"IF(MONTH(E415+COLUMN()-COLUMN(C419)+(ROW()-ROW(C419)-6)*7)=F415,DAY(E415+COLUMN()-COLUMN(C419)+(ROW()-ROW(C419)-6)*7),\"\")","v":27},{"$f":"IF(MONTH(E415+COLUMN()-COLUMN(C419)+(ROW()-ROW(C419)-6)*7)=F415,DAY(E415+COLUMN()-COLUMN(C419)+(ROW()-ROW(C419)-6)*7),\"\")","v":28}]
[null,{"$f":"IF(C431<>\"\",VLOOKUP(DATE(1900,$F415,C431),$D$5:$F$370,3),\"\")","v":0},null,{"$f":"IF(D431<>\"\",VLOOKUP(DATE(1900,$F415,D431),$D$5:$F$370,3),\"\")","v":0},0,"","","",""]
[null,{"$f":"IF(C431<>\"\",VLOOKUP(DATE(1900,$F415,C431),$D$5:$E$370,2),\"\")","v":"Ste Gwladys"},null,{"$f":"IF(D431<>\"\",VLOOKUP(DATE(1900,$F415,D431),$D$5:$E$370,2),\"\")","v":"St Amédée"},"St Benjamin","","","",""]
[null,{"$f":"IF(C431=\"\",\"\",IF(B428=H413,1,B428+1))","v":13},{"$f":"IF(MONTH(E415+COLUMN()-COLUMN(C419)+(ROW()-ROW(C419)-8)*7)=F415,DAY(E415+COLUMN()-COLUMN(C419)+(ROW()-ROW(C419)-8)*7),\"\")","v":29},{"$f":"IF(MONTH(E415+COLUMN()-COLUMN(C419)+(ROW()-ROW(C419)-8)*7)=F415,DAY(E415+COLUMN()-COLUMN(C419)+(ROW()-ROW(C419)-8)*7),\"\")","v":30},{"$f":"IF(MONTH(E415+COLUMN()-COLUMN(C419)+(ROW()-ROW(C419)-8)*7)=F415,DAY(E415+COLUMN()-COLUMN(C419)+(ROW()-ROW(C419)-8)*7),\"\")","v":31},{"$f":"IF(MONTH(E415+COLUMN()-COLUMN(C419)+(ROW()-ROW(C419)-8)*7)=F415,DAY(E415+COLUMN()-COLUMN(C419)+(ROW()-ROW(C419)-8)*7),\"\")","v":""},{"$f":"IF(MONTH(E415+COLUMN()-COLUMN(C419)+(ROW()-ROW(C419)-8)*7)=F415,DAY(E415+COLUMN()-COLUMN(C419)+(ROW()-ROW(C419)-8)*7),\"\")","v":""},{"$f":"IF(MONTH(E415+COLUMN()-COLUMN(C419)+(ROW()-ROW(C419)-8)*7)=F415,DAY(E415+COLUMN()-COLUMN(C419)+(ROW()-ROW(C419)-8)*7),\"\")","v":""},{"$f":"IF(MONTH(E415+COLUMN()-COLUMN(C419)+(ROW()-ROW(C419)-8)*7)=F415,DAY(E415+COLUMN()-COLUMN(C419)+(ROW()-ROW(C419)-8)*7),\"\")","v":""}]
[null,{"$f":"IF(C434<>\"\",VLOOKUP(DATE(1900,$F415,C434),$D$5:$F$370,3),\"\")","v":""},null,{"$f":"IF(D434<>\"\",VLOOKUP(DATE(1900,$F415,D434),$D$5:$F$370,3),\"\")","v":""}]
[null,{"$f":"IF(C434<>\"\",VLOOKUP(DATE(1900,$F415,C434),$D$5:$E$370,2),\"\")","v":""},null,{"$f":"IF(D434<>\"\",VLOOKUP(DATE(1900,$F415,D434),$D$5:$E$370,2),\"\")","v":""},"","","","",""]
[null,{"$f":"IF(C434=\"\",\"\",IF(B431=H413,1,B431+1))","v":""},{"$f":"IF(MONTH(E415+COLUMN()-COLUMN(C419)+(ROW()-ROW(C419)-10)*7)=F415,DAY(E415+COLUMN()-COLUMN(C419)+(ROW()-ROW(C419)-10)*7),\"\")","v":""},{"$f":"IF(MONTH(E415+COLUMN()-COLUMN(C419)+(ROW()-ROW(C419)-10)*7)=F415,DAY(E415+COLUMN()-COLUMN(C419)+(ROW()-ROW(C419)-10)*7),\"\")","v":""},{"$f":"IF(MONTH(E415+COLUMN()-COLUMN(C419)+(ROW()-ROW(C419)-10)*7)=F415,DAY(E415+COLUMN()-COLUMN(C419)+(ROW()-ROW(C419)-10)*7),\"\")","v":""},{"$f":"IF(MONTH(E415+COLUMN()-COLUMN(C419)+(ROW()-ROW(C419)-10)*7)=F415,DAY(E415+COLUMN()-COLUMN(C419)+(ROW()-ROW(C419)-10)*7),\"\")","v":""},{"$f":"IF(MONTH(E415+COLUMN()-COLUMN(C419)+(ROW()-ROW(C419)-10)*7)=F415,DAY(E415+COLUMN()-COLUMN(C419)+(ROW()-ROW(C419)-10)*7),\"\")","v":""},{"$f":"IF(MONTH(E415+COLUMN()-COLUMN(C419)+(ROW()-ROW(C419)-10)*7)=F415,DAY(E415+COLUMN()-COLUMN(C419)+(ROW()-ROW(C419)-10)*7),\"\")","v":""},{"$f":"IF(MONTH(E415+COLUMN()-COLUMN(C419)+(ROW()-ROW(C419)-10)*7)=F415,DAY(E415+COLUMN()-COLUMN(C419)+(ROW()-ROW(C419)-10)*7),\"\")","v":""}]
[null,{"$f":"B415","v":"2010"},null,null,{"$f":"IF(C434<>\"\",E415+35,IF(I431=\"\",E415+28,E415+35))","v":40266},{"$f":"F415+1","v":4},null,null,{"$f":"TEXT(DATE(B435,F435,1),\"mmmm\")","v":"avril"}]
[null,null,"Lundi","Mardi","Mercredi","Jeudi","Vendredi","Samedi","Dimanche"]
[null,{"$f":"IF(C439<>\"\",VLOOKUP(DATE(1900,$F435,C439),$D$5:$F$370,3),\"\")","v":""},null,{"$f":"IF(D439<>\"\",VLOOKUP(DATE(1900,$F435,D439),$D$5:$F$370,3),\"\")","v":""},"",0,0,0,0]
[null,{"$f":"IF(C439<>\"\",VLOOKUP(DATE(1900,$F435,C439),$D$5:$E$370,2),\"\")","v":""},null,{"$f":"IF(D439<>\"\",VLOOKUP(DATE(1900,$F435,D439),$D$5:$E$370,2),\"\")","v":""},"","St Hugues","Ste Sandrine","St Richard","St Isidore"]
[null,{"$f":"MAX(B434,B431,B428)+(I434<>\"\")+AND(I431=\"\",C431=\"\")+AND(I431<>\"\",C434=\"\")","v":13},{"$f":"IF(MONTH(E435+COLUMN()-COLUMN(C439)+(ROW()-ROW(C439))*7)=F435,DAY(E435+COLUMN()-COLUMN(C439)+(ROW()-ROW(C439))*7),\"\")","v":""},{"$f":"IF(MONTH(E435+COLUMN()-COLUMN(C439)+(ROW()-ROW(C439))*7)=F435,DAY(E435+COLUMN()-COLUMN(C439)+(ROW()-ROW(C439))*7),\"\")","v":""},{"$f":"IF(MONTH(E435+COLUMN()-COLUMN(C439)+(ROW()-ROW(C439))*7)=F435,DAY(E435+COLUMN()-COLUMN(C439)+(ROW()-ROW(C439))*7),\"\")","v":""},{"$f":"IF(MONTH(E435+COLUMN()-COLUMN(C439)+(ROW()-ROW(C439))*7)=F435,DAY(E435+COLUMN()-COLUMN(C439)+(ROW()-ROW(C439))*7),\"\")","v":1},{"$f":"IF(MONTH(E435+COLUMN()-COLUMN(C439)+(ROW()-ROW(C439))*7)=F435,DAY(E435+COLUMN()-COLUMN(C439)+(ROW()-ROW(C439))*7),\"\")","v":2},{"$f":"IF(MONTH(E435+COLUMN()-COLUMN(C439)+(ROW()-ROW(C439))*7)=F435,DAY(E435+COLUMN()-COLUMN(C439)+(ROW()-ROW(C439))*7),\"\")","v":3},{"$f":"IF(MONTH(E435+COLUMN()-COLUMN(C439)+(ROW()-ROW(C439))*7)=F435,DAY(E435+COLUMN()-COLUMN(C439)+(ROW()-ROW(C439))*7),\"\")","v":4}]
[null,{"$f":"IF(C442<>\"\",VLOOKUP(DATE(1900,$F435,C442),$D$5:$F$370,3),\"\")","v":0},null,{"$f":"IF(D442<>\"\",VLOOKUP(DATE(1900,$F435,D442),$D$5:$F$370,3),\"\")","v":0},0,0,0,0,0]
[null,{"$f":"IF(C442<>\"\",VLOOKUP(DATE(1900,$F435,C442),$D$5:$E$370,2),\"\")","v":"Ste  Irène"},null,{"$f":"IF(D442<>\"\",VLOOKUP(DATE(1900,$F435,D442),$D$5:$E$370,2),\"\")","v":"St Marcellin"},"St J.-B. de Salle","Ste Julie","St Gautier","St Fulbert","St Stanislas"]
[null,{"$f":"(B439+1)-(INT(((B439+1)-1)/$N$4))*$N$4","v":14},{"$f":"IF(MONTH(E435+COLUMN()-COLUMN(C439)+(ROW()-ROW(C439)-2)*7)=F435,DAY(E435+COLUMN()-COLUMN(C439)+(ROW()-ROW(C439)-2)*7),\"\")","v":5},{"$f":"IF(MONTH(E435+COLUMN()-COLUMN(C439)+(ROW()-ROW(C439)-2)*7)=F435,DAY(E435+COLUMN()-COLUMN(C439)+(ROW()-ROW(C439)-2)*7),\"\")","v":6},{"$f":"IF(MONTH(E435+COLUMN()-COLUMN(C439)+(ROW()-ROW(C439)-2)*7)=F435,DAY(E435+COLUMN()-COLUMN(C439)+(ROW()-ROW(C439)-2)*7),\"\")","v":7},{"$f":"IF(MONTH(E435+COLUMN()-COLUMN(C439)+(ROW()-ROW(C439)-2)*7)=F435,DAY(E435+COLUMN()-COLUMN(C439)+(ROW()-ROW(C439)-2)*7),\"\")","v":8},{"$f":"IF(MONTH(E435+COLUMN()-COLUMN(C439)+(ROW()-ROW(C439)-2)*7)=F435,DAY(E435+COLUMN()-COLUMN(C439)+(ROW()-ROW(C439)-2)*7),\"\")","v":9},{"$f":"IF(MONTH(E435+COLUMN()-COLUMN(C439)+(ROW()-ROW(C439)-2)*7)=F435,DAY(E435+COLUMN()-COLUMN(C439)+(ROW()-ROW(C439)-2)*7),\"\")","v":10},{"$f":"IF(MONTH(E435+COLUMN()-COLUMN(C439)+(ROW()-ROW(C439)-2)*7)=F435,DAY(E435+COLUMN()-COLUMN(C439)+(ROW()-ROW(C439)-2)*7),\"\")","v":11}]
[null,{"$f":"IF(C445<>\"\",VLOOKUP(DATE(1900,$F435,C445),$D$5:$F$370,3),\"\")","v":0},null,{"$f":"IF(D445<>\"\",VLOOKUP(DATE(1900,$F435,D445),$D$5:$F$370,3),\"\")","v":0},0,0,0,0,0]
[null,{"$f":"IF(C445<>\"\",VLOOKUP(DATE(1900,$F435,C445),$D$5:$E$370,2),\"\")","v":"St Jules"},null,{"$f":"IF(D445<>\"\",VLOOKUP(DATE(1900,$F435,D445),$D$5:$E$370,2),\"\")","v":"Ste Ida"},"St Maxime","St Paterne","St Benoît-Joseph","St Et. Harding","St Parfait"]
[null,{"$f":"B442+1","v":15},{"$f":"IF(MONTH(E435+COLUMN()-COLUMN(C439)+(ROW()-ROW(C439)-4)*7)=F435,DAY(E435+COLUMN()-COLUMN(C439)+(ROW()-ROW(C439)-4)*7),\"\")","v":12},{"$f":"IF(MONTH(E435+COLUMN()-COLUMN(C439)+(ROW()-ROW(C439)-4)*7)=F435,DAY(E435+COLUMN()-COLUMN(C439)+(ROW()-ROW(C439)-4)*7),\"\")","v":13},{"$f":"IF(MONTH(E435+COLUMN()-COLUMN(C439)+(ROW()-ROW(C439)-4)*7)=F435,DAY(E435+COLUMN()-COLUMN(C439)+(ROW()-ROW(C439)-4)*7),\"\")","v":14},{"$f":"IF(MONTH(E435+COLUMN()-COLUMN(C439)+(ROW()-ROW(C439)-4)*7)=F435,DAY(E435+COLUMN()-COLUMN(C439)+(ROW()-ROW(C439)-4)*7),\"\")","v":15},{"$f":"IF(MONTH(E435+COLUMN()-COLUMN(C439)+(ROW()-ROW(C439)-4)*7)=F435,DAY(E435+COLUMN()-COLUMN(C439)+(ROW()-ROW(C439)-4)*7),\"\")","v":16},{"$f":"IF(MONTH(E435+COLUMN()-COLUMN(C439)+(ROW()-ROW(C439)-4)*7)=F435,DAY(E435+COLUMN()-COLUMN(C439)+(ROW()-ROW(C439)-4)*7),\"\")","v":17},{"$f":"IF(MONTH(E435+COLUMN()-COLUMN(C439)+(ROW()-ROW(C439)-4)*7)=F435,DAY(E435+COLUMN()-COLUMN(C439)+(ROW()-ROW(C439)-4)*7),\"\")","v":18}]
[null,{"$f":"IF(C448<>\"\",VLOOKUP(DATE(1900,$F435,C448),$D$5:$F$370,3),\"\")","v":0},null,{"$f":"IF(D448<>\"\",VLOOKUP(DATE(1900,$F435,D448),$D$5:$F$370,3),\"\")","v":0},0,0,0,0,0]
[null,{"$f":"IF(C448<>\"\",VLOOKUP(DATE(1900,$F435,C448),$D$5:$E$370,2),\"\")","v":"Ste Emma"},null,{"$f":"IF(D448<>\"\",VLOOKUP(DATE(1900,$F435,D448),$D$5:$E$370,2),\"\")","v":"Ste Odette"},"St Anselme","St Alexandre","St Georges","St Fidèle","Souvenir Déportés"]
[null,{"$f":"B445+1","v":16},{"$f":"IF(MONTH(E435+COLUMN()-COLUMN(C439)+(ROW()-ROW(C439)-6)*7)=F435,DAY(E435+COLUMN()-COLUMN(C439)+(ROW()-ROW(C439)-6)*7),\"\")","v":19},{"$f":"IF(MONTH(E435+COLUMN()-COLUMN(C439)+(ROW()-ROW(C439)-6)*7)=F435,DAY(E435+COLUMN()-COLUMN(C439)+(ROW()-ROW(C439)-6)*7),\"\")","v":20},{"$f":"IF(MONTH(E435+COLUMN()-COLUMN(C439)+(ROW()-ROW(C439)-6)*7)=F435,DAY(E435+COLUMN()-COLUMN(C439)+(ROW()-ROW(C439)-6)*7),\"\")","v":21},{"$f":"IF(MONTH(E435+COLUMN()-COLUMN(C439)+(ROW()-ROW(C439)-6)*7)=F435,DAY(E435+COLUMN()-COLUMN(C439)+(ROW()-ROW(C439)-6)*7),\"\")","v":22},{"$f":"IF(MONTH(E435+COLUMN()-COLUMN(C439)+(ROW()-ROW(C439)-6)*7)=F435,DAY(E435+COLUMN()-COLUMN(C439)+(ROW()-ROW(C439)-6)*7),\"\")","v":23},{"$f":"IF(MONTH(E435+COLUMN()-COLUMN(C439)+(ROW()-ROW(C439)-6)*7)=F435,DAY(E435+COLUMN()-COLUMN(C439)+(ROW()-ROW(C439)-6)*7),\"\")","v":24},{"$f":"IF(MONTH(E435+COLUMN()-COLUMN(C439)+(ROW()-ROW(C439)-6)*7)=F435,DAY(E435+COLUMN()-COLUMN(C439)+(ROW()-ROW(C439)-6)*7),\"\")","v":25}]
[null,{"$f":"IF(C451<>\"\",VLOOKUP(DATE(1900,$F435,C451),$D$5:$F$370,3),\"\")","v":0},null,{"$f":"IF(D451<>\"\",VLOOKUP(DATE(1900,$F435,D451),$D$5:$F$370,3),\"\")","v":0},0,0,0,"",""]
[null,{"$f":"IF(C451<>\"\",VLOOKUP(DATE(1900,$F435,C451),$D$5:$E$370,2),\"\")","v":"Ste Alida"},null,{"$f":"IF(D451<>\"\",VLOOKUP(DATE(1900,$F435,D451),$D$5:$E$370,2),\"\")","v":"Ste Zita"},"Ste Valérie","Ste C. de Sienne","St Robert","",""]
[null,{"$f":"IF(C451=\"\",\"\",IF(B448=H433,1,B448+1))","v":17},{"$f":"IF(MONTH(E435+COLUMN()-COLUMN(C439)+(ROW()-ROW(C439)-8)*7)=F435,DAY(E435+COLUMN()-COLUMN(C439)+(ROW()-ROW(C439)-8)*7),\"\")","v":26},{"$f":"IF(MONTH(E435+COLUMN()-COLUMN(C439)+(ROW()-ROW(C439)-8)*7)=F435,DAY(E435+COLUMN()-COLUMN(C439)+(ROW()-ROW(C439)-8)*7),\"\")","v":27},{"$f":"IF(MONTH(E435+COLUMN()-COLUMN(C439)+(ROW()-ROW(C439)-8)*7)=F435,DAY(E435+COLUMN()-COLUMN(C439)+(ROW()-ROW(C439)-8)*7),\"\")","v":28},{"$f":"IF(MONTH(E435+COLUMN()-COLUMN(C439)+(ROW()-ROW(C439)-8)*7)=F435,DAY(E435+COLUMN()-COLUMN(C439)+(ROW()-ROW(C439)-8)*7),\"\")","v":29},{"$f":"IF(MONTH(E435+COLUMN()-COLUMN(C439)+(ROW()-ROW(C439)-8)*7)=F435,DAY(E435+COLUMN()-COLUMN(C439)+(ROW()-ROW(C439)-8)*7),\"\")","v":30},{"$f":"IF(MONTH(E435+COLUMN()-COLUMN(C439)+(ROW()-ROW(C439)-8)*7)=F435,DAY(E435+COLUMN()-COLUMN(C439)+(ROW()-ROW(C439)-8)*7),\"\")","v":""},{"$f":"IF(MONTH(E435+COLUMN()-COLUMN(C439)+(ROW()-ROW(C439)-8)*7)=F435,DAY(E435+COLUMN()-COLUMN(C439)+(ROW()-ROW(C439)-8)*7),\"\")","v":""}]
[null,{"$f":"IF(C454<>\"\",VLOOKUP(DATE(1900,$F435,C454),$D$5:$F$370,3),\"\")","v":""},null,{"$f":"IF(D454<>\"\",VLOOKUP(DATE(1900,$F435,D454),$D$5:$F$370,3),\"\")","v":""},"","","","",""]
[null,{"$f":"IF(C454<>\"\",VLOOKUP(DATE(1900,$F435,C454),$D$5:$E$370,2),\"\")","v":""},null,{"$f":"IF(D454<>\"\",VLOOKUP(DATE(1900,$F435,D454),$D$5:$E$370,2),\"\")","v":""},"","","","",""]
[null,{"$f":"IF(C454=\"\",\"\",IF(B451=H433,1,B451+1))","v":""},{"$f":"IF(MONTH(E435+COLUMN()-COLUMN(C439)+(ROW()-ROW(C439)-10)*7)=F435,DAY(E435+COLUMN()-COLUMN(C439)+(ROW()-ROW(C439)-10)*7),\"\")","v":""},{"$f":"IF(MONTH(E435+COLUMN()-COLUMN(C439)+(ROW()-ROW(C439)-10)*7)=F435,DAY(E435+COLUMN()-COLUMN(C439)+(ROW()-ROW(C439)-10)*7),\"\")","v":""},{"$f":"IF(MONTH(E435+COLUMN()-COLUMN(C439)+(ROW()-ROW(C439)-10)*7)=F435,DAY(E435+COLUMN()-COLUMN(C439)+(ROW()-ROW(C439)-10)*7),\"\")","v":""},{"$f":"IF(MONTH(E435+COLUMN()-COLUMN(C439)+(ROW()-ROW(C439)-10)*7)=F435,DAY(E435+COLUMN()-COLUMN(C439)+(ROW()-ROW(C439)-10)*7),\"\")","v":""},{"$f":"IF(MONTH(E435+COLUMN()-COLUMN(C439)+(ROW()-ROW(C439)-10)*7)=F435,DAY(E435+COLUMN()-COLUMN(C439)+(ROW()-ROW(C439)-10)*7),\"\")","v":""},{"$f":"IF(MONTH(E435+COLUMN()-COLUMN(C439)+(ROW()-ROW(C439)-10)*7)=F435,DAY(E435+COLUMN()-COLUMN(C439)+(ROW()-ROW(C439)-10)*7),\"\")","v":""},{"$f":"IF(MONTH(E435+COLUMN()-COLUMN(C439)+(ROW()-ROW(C439)-10)*7)=F435,DAY(E435+COLUMN()-COLUMN(C439)+(ROW()-ROW(C439)-10)*7),\"\")","v":""}]
[null,{"$f":"B435","v":"2010"},null,null,{"$f":"IF(C454<>\"\",E435+35,IF(M451=\"\",E435+28,E435+35))","v":40294},{"$f":"F435+1","v":5},null,null,{"$f":"TEXT(DATE(B455,F455,1),\"mmmm\")","v":"mai"}]
[null,null,"Lundi","Mardi","Mercredi","Jeudi","Vendredi","Samedi","Dimanche"]
[null,{"$f":"IF(C459<>\"\",VLOOKUP(DATE(1900,$F455,C459),$D$5:$F$370,3),\"\")","v":""},null,{"$f":"IF(D459<>\"\",VLOOKUP(DATE(1900,$F455,D459),$D$5:$F$370,3),\"\")","v":""},"","","",0,0]
[null,{"$f":"IF(C459<>\"\",VLOOKUP(DATE(1900,$F455,C459),$D$5:$E$370,2),\"\")","v":""},null,{"$f":"IF(D459<>\"\",VLOOKUP(DATE(1900,$F455,D459),$D$5:$E$370,2),\"\")","v":""},"","","","F. du travail","St Boris"]
[null,{"$f":"MAX(B454,B451,B448)+(I454<>\"\")+AND(M451=\"\",C451=\"\")+AND(M451<>\"\",C454=\"\")","v":17},{"$f":"IF(MONTH(E455+COLUMN()-COLUMN(C459)+(ROW()-ROW(C459))*7)=F455,DAY(E455+COLUMN()-COLUMN(C459)+(ROW()-ROW(C459))*7),\"\")","v":""},{"$f":"IF(MONTH(E455+COLUMN()-COLUMN(C459)+(ROW()-ROW(C459))*7)=F455,DAY(E455+COLUMN()-COLUMN(C459)+(ROW()-ROW(C459))*7),\"\")","v":""},{"$f":"IF(MONTH(E455+COLUMN()-COLUMN(C459)+(ROW()-ROW(C459))*7)=F455,DAY(E455+COLUMN()-COLUMN(C459)+(ROW()-ROW(C459))*7),\"\")","v":""},{"$f":"IF(MONTH(E455+COLUMN()-COLUMN(C459)+(ROW()-ROW(C459))*7)=F455,DAY(E455+COLUMN()-COLUMN(C459)+(ROW()-ROW(C459))*7),\"\")","v":""},{"$f":"IF(MONTH(E455+COLUMN()-COLUMN(C459)+(ROW()-ROW(C459))*7)=F455,DAY(E455+COLUMN()-COLUMN(C459)+(ROW()-ROW(C459))*7),\"\")","v":""},{"$f":"IF(MONTH(E455+COLUMN()-COLUMN(C459)+(ROW()-ROW(C459))*7)=F455,DAY(E455+COLUMN()-COLUMN(C459)+(ROW()-ROW(C459))*7),\"\")","v":1},{"$f":"IF(MONTH(E455+COLUMN()-COLUMN(C459)+(ROW()-ROW(C459))*7)=F455,DAY(E455+COLUMN()-COLUMN(C459)+(ROW()-ROW(C459))*7),\"\")","v":2}]
[null,{"$f":"IF(C462<>\"\",VLOOKUP(DATE(1900,$F455,C462),$D$5:$F$370,3),\"\")","v":0},null,{"$f":"IF(D462<>\"\",VLOOKUP(DATE(1900,$F455,D462),$D$5:$F$370,3),\"\")","v":0},0,0,0,0,0]
[null,{"$f":"IF(C462<>\"\",VLOOKUP(DATE(1900,$F455,C462),$D$5:$E$370,2),\"\")","v":"Sts Philippe-Jacques"},null,{"$f":"IF(D462<>\"\",VLOOKUP(DATE(1900,$F455,D462),$D$5:$E$370,2),\"\")","v":"St Sylvain"},"Ste Judith","Ste Prudence","Ste Gisèle","Annivers. 1945","St Pacôme"]
[null,{"$f":"(B459+1)-(INT(((B459+1)-1)/$N$4))*$N$4","v":18},{"$f":"IF(MONTH(E455+COLUMN()-COLUMN(C459)+(ROW()-ROW(C459)-2)*7)=F455,DAY(E455+COLUMN()-COLUMN(C459)+(ROW()-ROW(C459)-2)*7),\"\")","v":3},{"$f":"IF(MONTH(E455+COLUMN()-COLUMN(C459)+(ROW()-ROW(C459)-2)*7)=F455,DAY(E455+COLUMN()-COLUMN(C459)+(ROW()-ROW(C459)-2)*7),\"\")","v":4},{"$f":"IF(MONTH(E455+COLUMN()-COLUMN(C459)+(ROW()-ROW(C459)-2)*7)=F455,DAY(E455+COLUMN()-COLUMN(C459)+(ROW()-ROW(C459)-2)*7),\"\")","v":5},{"$f":"IF(MONTH(E455+COLUMN()-COLUMN(C459)+(ROW()-ROW(C459)-2)*7)=F455,DAY(E455+COLUMN()-COLUMN(C459)+(ROW()-ROW(C459)-2)*7),\"\")","v":6},{"$f":"IF(MONTH(E455+COLUMN()-COLUMN(C459)+(ROW()-ROW(C459)-2)*7)=F455,DAY(E455+COLUMN()-COLUMN(C459)+(ROW()-ROW(C459)-2)*7),\"\")","v":7},{"$f":"IF(MONTH(E455+COLUMN()-COLUMN(C459)+(ROW()-ROW(C459)-2)*7)=F455,DAY(E455+COLUMN()-COLUMN(C459)+(ROW()-ROW(C459)-2)*7),\"\")","v":8},{"$f":"IF(MONTH(E455+COLUMN()-COLUMN(C459)+(ROW()-ROW(C459)-2)*7)=F455,DAY(E455+COLUMN()-COLUMN(C459)+(ROW()-ROW(C459)-2)*7),\"\")","v":9}]
[null,{"$f":"IF(C465<>\"\",VLOOKUP(DATE(1900,$F455,C465),$D$5:$F$370,3),\"\")","v":0},null,{"$f":"IF(D465<>\"\",VLOOKUP(DATE(1900,$F455,D465),$D$5:$F$370,3),\"\")","v":0},0,0,0,0,"MARTINE"]
[null,{"$f":"IF(C465<>\"\",VLOOKUP(DATE(1900,$F455,C465),$D$5:$E$370,2),\"\")","v":"Ste Solange"},null,{"$f":"IF(D465<>\"\",VLOOKUP(DATE(1900,$F455,D465),$D$5:$E$370,2),\"\")","v":"Ste Estelle"},"St Achille","Ste Rolande","St Matthias","Ste Denise","St Honoré "]
[null,{"$f":"B462+1","v":19},{"$f":"IF(MONTH(E455+COLUMN()-COLUMN(C459)+(ROW()-ROW(C459)-4)*7)=F455,DAY(E455+COLUMN()-COLUMN(C459)+(ROW()-ROW(C459)-4)*7),\"\")","v":10},{"$f":"IF(MONTH(E455+COLUMN()-COLUMN(C459)+(ROW()-ROW(C459)-4)*7)=F455,DAY(E455+COLUMN()-COLUMN(C459)+(ROW()-ROW(C459)-4)*7),\"\")","v":11},{"$f":"IF(MONTH(E455+COLUMN()-COLUMN(C459)+(ROW()-ROW(C459)-4)*7)=F455,DAY(E455+COLUMN()-COLUMN(C459)+(ROW()-ROW(C459)-4)*7),\"\")","v":12},{"$f":"IF(MONTH(E455+COLUMN()-COLUMN(C459)+(ROW()-ROW(C459)-4)*7)=F455,DAY(E455+COLUMN()-COLUMN(C459)+(ROW()-ROW(C459)-4)*7),\"\")","v":13},{"$f":"IF(MONTH(E455+COLUMN()-COLUMN(C459)+(ROW()-ROW(C459)-4)*7)=F455,DAY(E455+COLUMN()-COLUMN(C459)+(ROW()-ROW(C459)-4)*7),\"\")","v":14},{"$f":"IF(MONTH(E455+COLUMN()-COLUMN(C459)+(ROW()-ROW(C459)-4)*7)=F455,DAY(E455+COLUMN()-COLUMN(C459)+(ROW()-ROW(C459)-4)*7),\"\")","v":15},{"$f":"IF(MONTH(E455+COLUMN()-COLUMN(C459)+(ROW()-ROW(C459)-4)*7)=F455,DAY(E455+COLUMN()-COLUMN(C459)+(ROW()-ROW(C459)-4)*7),\"\")","v":16}]
[null,{"$f":"IF(C468<>\"\",VLOOKUP(DATE(1900,$F455,C468),$D$5:$F$370,3),\"\")","v":0},null,{"$f":"IF(D468<>\"\",VLOOKUP(DATE(1900,$F455,D468),$D$5:$F$370,3),\"\")","v":0},0,0,0,"SANDRA",0]
[null,{"$f":"IF(C468<>\"\",VLOOKUP(DATE(1900,$F455,C468),$D$5:$E$370,2),\"\")","v":"St Pascal"},null,{"$f":"IF(D468<>\"\",VLOOKUP(DATE(1900,$F455,D468),$D$5:$E$370,2),\"\")","v":"St Eric"},"St Yves","St Bernardin","St Constantin","St Emile ","St Didier"]
[null,{"$f":"B465+1","v":20},{"$f":"IF(MONTH(E455+COLUMN()-COLUMN(C459)+(ROW()-ROW(C459)-6)*7)=F455,DAY(E455+COLUMN()-COLUMN(C459)+(ROW()-ROW(C459)-6)*7),\"\")","v":17},{"$f":"IF(MONTH(E455+COLUMN()-COLUMN(C459)+(ROW()-ROW(C459)-6)*7)=F455,DAY(E455+COLUMN()-COLUMN(C459)+(ROW()-ROW(C459)-6)*7),\"\")","v":18},{"$f":"IF(MONTH(E455+COLUMN()-COLUMN(C459)+(ROW()-ROW(C459)-6)*7)=F455,DAY(E455+COLUMN()-COLUMN(C459)+(ROW()-ROW(C459)-6)*7),\"\")","v":19},{"$f":"IF(MONTH(E455+COLUMN()-COLUMN(C459)+(ROW()-ROW(C459)-6)*7)=F455,DAY(E455+COLUMN()-COLUMN(C459)+(ROW()-ROW(C459)-6)*7),\"\")","v":20},{"$f":"IF(MONTH(E455+COLUMN()-COLUMN(C459)+(ROW()-ROW(C459)-6)*7)=F455,DAY(E455+COLUMN()-COLUMN(C459)+(ROW()-ROW(C459)-6)*7),\"\")","v":21},{"$f":"IF(MONTH(E455+COLUMN()-COLUMN(C459)+(ROW()-ROW(C459)-6)*7)=F455,DAY(E455+COLUMN()-COLUMN(C459)+(ROW()-ROW(C459)-6)*7),\"\")","v":22},{"$f":"IF(MONTH(E455+COLUMN()-COLUMN(C459)+(ROW()-ROW(C459)-6)*7)=F455,DAY(E455+COLUMN()-COLUMN(C459)+(ROW()-ROW(C459)-6)*7),\"\")","v":23}]
[null,{"$f":"IF(C471<>\"\",VLOOKUP(DATE(1900,$F455,C471),$D$5:$F$370,3),\"\")","v":0},null,{"$f":"IF(D471<>\"\",VLOOKUP(DATE(1900,$F455,D471),$D$5:$F$370,3),\"\")","v":0},{"$f":"IF(E471<>\"\",VLOOKUP(DATE(1900,$F455,E471),$D$5:$F$370,3),\"\")","v":0},{"$f":"IF(F471<>\"\",VLOOKUP(DATE(1900,$F455,F471),$D$5:$F$370,3),\"\")","v":0},{"$f":"IF(G471<>\"\",VLOOKUP(DATE(1900,$F455,G471),$D$5:$F$370,3),\"\")","v":0},{"$f":"IF(H471<>\"\",VLOOKUP(DATE(1900,$F455,H471),$D$5:$F$370,3),\"\")","v":0}]
[null,{"$f":"IF(C471<>\"\",VLOOKUP(DATE(1900,$F455,C471),$D$5:$E$370,2),\"\")","v":"St Donatien"},null,{"$f":"IF(D471<>\"\",VLOOKUP(DATE(1900,$F455,D471),$D$5:$E$370,2),\"\")","v":"Ste Sophie"},"St Bérenger","St Augustin de C.","St Germain","St Aymar","St Ferdinand"]
[null,{"$f":"IF(C471=\"\",\"\",IF(B468=H453,1,B468+1))","v":21},{"$f":"IF(MONTH(E455+COLUMN()-COLUMN(C459)+(ROW()-ROW(C459)-8)*7)=F455,DAY(E455+COLUMN()-COLUMN(C459)+(ROW()-ROW(C459)-8)*7),\"\")","v":24},{"$f":"IF(MONTH(E455+COLUMN()-COLUMN(C459)+(ROW()-ROW(C459)-8)*7)=F455,DAY(E455+COLUMN()-COLUMN(C459)+(ROW()-ROW(C459)-8)*7),\"\")","v":25},{"$f":"IF(MONTH(E455+COLUMN()-COLUMN(C459)+(ROW()-ROW(C459)-8)*7)=F455,DAY(E455+COLUMN()-COLUMN(C459)+(ROW()-ROW(C459)-8)*7),\"\")","v":26},{"$f":"IF(MONTH(E455+COLUMN()-COLUMN(C459)+(ROW()-ROW(C459)-8)*7)=F455,DAY(E455+COLUMN()-COLUMN(C459)+(ROW()-ROW(C459)-8)*7),\"\")","v":27},{"$f":"IF(MONTH(E455+COLUMN()-COLUMN(C459)+(ROW()-ROW(C459)-8)*7)=F455,DAY(E455+COLUMN()-COLUMN(C459)+(ROW()-ROW(C459)-8)*7),\"\")","v":28},{"$f":"IF(MONTH(E455+COLUMN()-COLUMN(C459)+(ROW()-ROW(C459)-8)*7)=F455,DAY(E455+COLUMN()-COLUMN(C459)+(ROW()-ROW(C459)-8)*7),\"\")","v":29},{"$f":"IF(MONTH(E455+COLUMN()-COLUMN(C459)+(ROW()-ROW(C459)-8)*7)=F455,DAY(E455+COLUMN()-COLUMN(C459)+(ROW()-ROW(C459)-8)*7),\"\")","v":30}]
[null,{"$f":"IF(C474<>\"\",VLOOKUP(DATE(1900,$F455,C474),$D$5:$F$370,3),\"\")","v":0},null,{"$f":"IF(D474<>\"\",VLOOKUP(DATE(1900,$F455,D474),$D$5:$F$370,3),\"\")","v":""},"","","","",""]
[null,{"$f":"IF(C474<>\"\",VLOOKUP(DATE(1900,$F455,C474),$D$5:$E$370,2),\"\")","v":"V. de la Ste Vierge"},null,{"$f":"IF(D474<>\"\",VLOOKUP(DATE(1900,$F455,D474),$D$5:$E$370,2),\"\")","v":""},"","","","",""]
[null,{"$f":"IF(C474=\"\",\"\",IF(B471=H453,1,B471+1))","v":22},{"$f":"IF(MONTH(E455+COLUMN()-COLUMN(C459)+(ROW()-ROW(C459)-10)*7)=F455,DAY(E455+COLUMN()-COLUMN(C459)+(ROW()-ROW(C459)-10)*7),\"\")","v":31},{"$f":"IF(MONTH(E455+COLUMN()-COLUMN(C459)+(ROW()-ROW(C459)-10)*7)=F455,DAY(E455+COLUMN()-COLUMN(C459)+(ROW()-ROW(C459)-10)*7),\"\")","v":""},{"$f":"IF(MONTH(E455+COLUMN()-COLUMN(C459)+(ROW()-ROW(C459)-10)*7)=F455,DAY(E455+COLUMN()-COLUMN(C459)+(ROW()-ROW(C459)-10)*7),\"\")","v":""},{"$f":"IF(MONTH(E455+COLUMN()-COLUMN(C459)+(ROW()-ROW(C459)-10)*7)=F455,DAY(E455+COLUMN()-COLUMN(C459)+(ROW()-ROW(C459)-10)*7),\"\")","v":""},{"$f":"IF(MONTH(E455+COLUMN()-COLUMN(C459)+(ROW()-ROW(C459)-10)*7)=F455,DAY(E455+COLUMN()-COLUMN(C459)+(ROW()-ROW(C459)-10)*7),\"\")","v":""},{"$f":"IF(MONTH(E455+COLUMN()-COLUMN(C459)+(ROW()-ROW(C459)-10)*7)=F455,DAY(E455+COLUMN()-COLUMN(C459)+(ROW()-ROW(C459)-10)*7),\"\")","v":""},{"$f":"IF(MONTH(E455+COLUMN()-COLUMN(C459)+(ROW()-ROW(C459)-10)*7)=F455,DAY(E455+COLUMN()-COLUMN(C459)+(ROW()-ROW(C459)-10)*7),\"\")","v":""}]
[null,{"$f":"B455","v":"2010"},null,null,{"$f":"IF(C474<>\"\",E455+35,IF(I471=\"\",E455+28,E455+35))","v":40329},{"$f":"F455+1","v":6},null,null,{"$f":"TEXT(DATE(B475,F475,1),\"mmmm\")","v":"juin"}]
[null,null,"Lundi","Mardi","Mercredi","Jeudi","Vendredi","Samedi","Dimanche"]
[null,{"$f":"IF(C479<>\"\",VLOOKUP(DATE(1900,$F475,C479),$D$5:$F$370,3),\"\")","v":""},null,{"$f":"IF(D479<>\"\",VLOOKUP(DATE(1900,$F475,D479),$D$5:$F$370,3),\"\")","v":0},0,0,0,0,0]
[null,{"$f":"IF(C479<>\"\",VLOOKUP(DATE(1900,$F475,C479),$D$5:$E$370,2),\"\")","v":""},{"$f":"IF(C479<>\"\",VLOOKUP(DATE(1900,$F475,C479),$D$5:$E$370,2),\"\")","v":""},"St Justin","Ste Blandine","St Kévin","Ste Clothilde","St Igor","St Norbert"]
[null,{"$f":"MAX(B474,B471,B468)+(I474<>\"\")+AND(I471=\"\",C471=\"\")+AND(I471<>\"\",C474=\"\")","v":22},{"$f":"IF(MONTH(E475+COLUMN()-COLUMN(C479)+(ROW()-ROW(C479))*7)=F475,DAY(E475+COLUMN()-COLUMN(C479)+(ROW()-ROW(C479))*7),\"\")","v":""},{"$f":"IF(MONTH(E475+COLUMN()-COLUMN(C479)+(ROW()-ROW(C479))*7)=F475,DAY(E475+COLUMN()-COLUMN(C479)+(ROW()-ROW(C479))*7),\"\")","v":1},{"$f":"IF(MONTH(E475+COLUMN()-COLUMN(C479)+(ROW()-ROW(C479))*7)=F475,DAY(E475+COLUMN()-COLUMN(C479)+(ROW()-ROW(C479))*7),\"\")","v":2},{"$f":"IF(MONTH(E475+COLUMN()-COLUMN(C479)+(ROW()-ROW(C479))*7)=F475,DAY(E475+COLUMN()-COLUMN(C479)+(ROW()-ROW(C479))*7),\"\")","v":3},{"$f":"IF(MONTH(E475+COLUMN()-COLUMN(C479)+(ROW()-ROW(C479))*7)=F475,DAY(E475+COLUMN()-COLUMN(C479)+(ROW()-ROW(C479))*7),\"\")","v":4},{"$f":"IF(MONTH(E475+COLUMN()-COLUMN(C479)+(ROW()-ROW(C479))*7)=F475,DAY(E475+COLUMN()-COLUMN(C479)+(ROW()-ROW(C479))*7),\"\")","v":5},{"$f":"IF(MONTH(E475+COLUMN()-COLUMN(C479)+(ROW()-ROW(C479))*7)=F475,DAY(E475+COLUMN()-COLUMN(C479)+(ROW()-ROW(C479))*7),\"\")","v":6}]
[null,{"$f":"IF(C482<>\"\",VLOOKUP(DATE(1900,$F475,C482),$D$5:$F$370,3),\"\")","v":0},null,{"$f":"IF(D482<>\"\",VLOOKUP(DATE(1900,$F475,D482),$D$5:$F$370,3),\"\")","v":0},0,0,0,0,0]
[null,{"$f":"IF(C482<>\"\",VLOOKUP(DATE(1900,$F475,C482),$D$5:$E$370,2),\"\")","v":"St Gilbert"},null,{"$f":"IF(D482<>\"\",VLOOKUP(DATE(1900,$F475,D482),$D$5:$E$370,2),\"\")","v":"St Médard"},"Ste Diane","St Landry","St Barnabé","St Guy","St A. de Padou"]
[null,{"$f":"(B479+1)-(INT(((B479+1)-1)/$N$4))*$N$4","v":23},{"$f":"IF(MONTH(E475+COLUMN()-COLUMN(C479)+(ROW()-ROW(C479)-2)*7)=F475,DAY(E475+COLUMN()-COLUMN(C479)+(ROW()-ROW(C479)-2)*7),\"\")","v":7},{"$f":"IF(MONTH(E475+COLUMN()-COLUMN(C479)+(ROW()-ROW(C479)-2)*7)=F475,DAY(E475+COLUMN()-COLUMN(C479)+(ROW()-ROW(C479)-2)*7),\"\")","v":8},{"$f":"IF(MONTH(E475+COLUMN()-COLUMN(C479)+(ROW()-ROW(C479)-2)*7)=F475,DAY(E475+COLUMN()-COLUMN(C479)+(ROW()-ROW(C479)-2)*7),\"\")","v":9},{"$f":"IF(MONTH(E475+COLUMN()-COLUMN(C479)+(ROW()-ROW(C479)-2)*7)=F475,DAY(E475+COLUMN()-COLUMN(C479)+(ROW()-ROW(C479)-2)*7),\"\")","v":10},{"$f":"IF(MONTH(E475+COLUMN()-COLUMN(C479)+(ROW()-ROW(C479)-2)*7)=F475,DAY(E475+COLUMN()-COLUMN(C479)+(ROW()-ROW(C479)-2)*7),\"\")","v":11},{"$f":"IF(MONTH(E475+COLUMN()-COLUMN(C479)+(ROW()-ROW(C479)-2)*7)=F475,DAY(E475+COLUMN()-COLUMN(C479)+(ROW()-ROW(C479)-2)*7),\"\")","v":12},{"$f":"IF(MONTH(E475+COLUMN()-COLUMN(C479)+(ROW()-ROW(C479)-2)*7)=F475,DAY(E475+COLUMN()-COLUMN(C479)+(ROW()-ROW(C479)-2)*7),\"\")","v":13}]
[null,{"$f":"IF(C485<>\"\",VLOOKUP(DATE(1900,$F475,C485),$D$5:$F$370,3),\"\")","v":0},null,{"$f":"IF(D485<>\"\",VLOOKUP(DATE(1900,$F475,D485),$D$5:$F$370,3),\"\")","v":0},0,0,0,0,0]
[null,{"$f":"IF(C485<>\"\",VLOOKUP(DATE(1900,$F475,C485),$D$5:$E$370,2),\"\")","v":"St Elisée"},null,{"$f":"IF(D485<>\"\",VLOOKUP(DATE(1900,$F475,D485),$D$5:$E$370,2),\"\")","v":"Ste Germaine"},"St J.-F. Régis","St Hervé","St Léonce","St Romuald","St Silvère"]
[null,{"$f":"B482+1","v":24},{"$f":"IF(MONTH(E475+COLUMN()-COLUMN(C479)+(ROW()-ROW(C479)-4)*7)=F475,DAY(E475+COLUMN()-COLUMN(C479)+(ROW()-ROW(C479)-4)*7),\"\")","v":14},{"$f":"IF(MONTH(E475+COLUMN()-COLUMN(C479)+(ROW()-ROW(C479)-4)*7)=F475,DAY(E475+COLUMN()-COLUMN(C479)+(ROW()-ROW(C479)-4)*7),\"\")","v":15},{"$f":"IF(MONTH(E475+COLUMN()-COLUMN(C479)+(ROW()-ROW(C479)-4)*7)=F475,DAY(E475+COLUMN()-COLUMN(C479)+(ROW()-ROW(C479)-4)*7),\"\")","v":16},{"$f":"IF(MONTH(E475+COLUMN()-COLUMN(C479)+(ROW()-ROW(C479)-4)*7)=F475,DAY(E475+COLUMN()-COLUMN(C479)+(ROW()-ROW(C479)-4)*7),\"\")","v":17},{"$f":"IF(MONTH(E475+COLUMN()-COLUMN(C479)+(ROW()-ROW(C479)-4)*7)=F475,DAY(E475+COLUMN()-COLUMN(C479)+(ROW()-ROW(C479)-4)*7),\"\")","v":18},{"$f":"IF(MONTH(E475+COLUMN()-COLUMN(C479)+(ROW()-ROW(C479)-4)*7)=F475,DAY(E475+COLUMN()-COLUMN(C479)+(ROW()-ROW(C479)-4)*7),\"\")","v":19},{"$f":"IF(MONTH(E475+COLUMN()-COLUMN(C479)+(ROW()-ROW(C479)-4)*7)=F475,DAY(E475+COLUMN()-COLUMN(C479)+(ROW()-ROW(C479)-4)*7),\"\")","v":20}]
[null,{"$f":"IF(C488<>\"\",VLOOKUP(DATE(1900,$F475,C488),$D$5:$F$370,3),\"\")","v":0},null,{"$f":"IF(D488<>\"\",VLOOKUP(DATE(1900,$F475,D488),$D$5:$F$370,3),\"\")","v":0},0,0,0,0,0]
[null,{"$f":"IF(C488<>\"\",VLOOKUP(DATE(1900,$F475,C488),$D$5:$E$370,2),\"\")","v":"F. Dieu"},null,{"$f":"IF(D488<>\"\",VLOOKUP(DATE(1900,$F475,D488),$D$5:$E$370,2),\"\")","v":"St Alban"},"Ste Audrey","St Jean-Baptiste","St Salomon","St Anthelme","St Fernand"]
[null,{"$f":"B485+1","v":25},{"$f":"IF(MONTH(E475+COLUMN()-COLUMN(C479)+(ROW()-ROW(C479)-6)*7)=F475,DAY(E475+COLUMN()-COLUMN(C479)+(ROW()-ROW(C479)-6)*7),\"\")","v":21},{"$f":"IF(MONTH(E475+COLUMN()-COLUMN(C479)+(ROW()-ROW(C479)-6)*7)=F475,DAY(E475+COLUMN()-COLUMN(C479)+(ROW()-ROW(C479)-6)*7),\"\")","v":22},{"$f":"IF(MONTH(E475+COLUMN()-COLUMN(C479)+(ROW()-ROW(C479)-6)*7)=F475,DAY(E475+COLUMN()-COLUMN(C479)+(ROW()-ROW(C479)-6)*7),\"\")","v":23},{"$f":"IF(MONTH(E475+COLUMN()-COLUMN(C479)+(ROW()-ROW(C479)-6)*7)=F475,DAY(E475+COLUMN()-COLUMN(C479)+(ROW()-ROW(C479)-6)*7),\"\")","v":24},{"$f":"IF(MONTH(E475+COLUMN()-COLUMN(C479)+(ROW()-ROW(C479)-6)*7)=F475,DAY(E475+COLUMN()-COLUMN(C479)+(ROW()-ROW(C479)-6)*7),\"\")","v":25},{"$f":"IF(MONTH(E475+COLUMN()-COLUMN(C479)+(ROW()-ROW(C479)-6)*7)=F475,DAY(E475+COLUMN()-COLUMN(C479)+(ROW()-ROW(C479)-6)*7),\"\")","v":26},{"$f":"IF(MONTH(E475+COLUMN()-COLUMN(C479)+(ROW()-ROW(C479)-6)*7)=F475,DAY(E475+COLUMN()-COLUMN(C479)+(ROW()-ROW(C479)-6)*7),\"\")","v":27}]
[null,{"$f":"IF(C491<>\"\",VLOOKUP(DATE(1900,$F475,C491),$D$5:$F$370,3),\"\")","v":"MARIAGE"},null,{"$f":"IF(D491<>\"\",VLOOKUP(DATE(1900,$F475,D491),$D$5:$F$370,3),\"\")","v":0},0,"","","",""]
[null,{"$f":"IF(C491<>\"\",VLOOKUP(DATE(1900,$F475,C491),$D$5:$E$370,2),\"\")","v":"St Irénée "},null,{"$f":"IF(D491<>\"\",VLOOKUP(DATE(1900,$F475,D491),$D$5:$E$370,2),\"\")","v":"St Pierre-Paul"},"St Martial","","","",""]
[null,{"$f":"IF(C491=\"\",\"\",IF(B488=H473,1,B488+1))","v":26},{"$f":"IF(MONTH(E475+COLUMN()-COLUMN(C479)+(ROW()-ROW(C479)-8)*7)=F475,DAY(E475+COLUMN()-COLUMN(C479)+(ROW()-ROW(C479)-8)*7),\"\")","v":28},{"$f":"IF(MONTH(E475+COLUMN()-COLUMN(C479)+(ROW()-ROW(C479)-8)*7)=F475,DAY(E475+COLUMN()-COLUMN(C479)+(ROW()-ROW(C479)-8)*7),\"\")","v":29},{"$f":"IF(MONTH(E475+COLUMN()-COLUMN(C479)+(ROW()-ROW(C479)-8)*7)=F475,DAY(E475+COLUMN()-COLUMN(C479)+(ROW()-ROW(C479)-8)*7),\"\")","v":30},{"$f":"IF(MONTH(E475+COLUMN()-COLUMN(C479)+(ROW()-ROW(C479)-8)*7)=F475,DAY(E475+COLUMN()-COLUMN(C479)+(ROW()-ROW(C479)-8)*7),\"\")","v":""},{"$f":"IF(MONTH(E475+COLUMN()-COLUMN(C479)+(ROW()-ROW(C479)-8)*7)=F475,DAY(E475+COLUMN()-COLUMN(C479)+(ROW()-ROW(C479)-8)*7),\"\")","v":""},{"$f":"IF(MONTH(E475+COLUMN()-COLUMN(C479)+(ROW()-ROW(C479)-8)*7)=F475,DAY(E475+COLUMN()-COLUMN(C479)+(ROW()-ROW(C479)-8)*7),\"\")","v":""},{"$f":"IF(MONTH(E475+COLUMN()-COLUMN(C479)+(ROW()-ROW(C479)-8)*7)=F475,DAY(E475+COLUMN()-COLUMN(C479)+(ROW()-ROW(C479)-8)*7),\"\")","v":""}]
[null,{"$f":"IF(C494<>\"\",VLOOKUP(DATE(1900,$F475,C494),$D$5:$F$370,3),\"\")","v":""},null,{"$f":"IF(D494<>\"\",VLOOKUP(DATE(1900,$F475,D494),$D$5:$F$370,3),\"\")","v":""},"","","","",""]
[null,{"$f":"IF(C494<>\"\",VLOOKUP(DATE(1900,$F475,C494),$D$5:$E$370,2),\"\")","v":""},null,{"$f":"IF(D494<>\"\",VLOOKUP(DATE(1900,$F475,D494),$D$5:$E$370,2),\"\")","v":""},"","","","",""]
[null,{"$f":"IF(C494=\"\",\"\",IF(B491=H473,1,B491+1))","v":""},{"$f":"IF(MONTH(E475+COLUMN()-COLUMN(C479)+(ROW()-ROW(C479)-10)*7)=F475,DAY(E475+COLUMN()-COLUMN(C479)+(ROW()-ROW(C479)-10)*7),\"\")","v":""},{"$f":"IF(MONTH(E475+COLUMN()-COLUMN(C479)+(ROW()-ROW(C479)-10)*7)=F475,DAY(E475+COLUMN()-COLUMN(C479)+(ROW()-ROW(C479)-10)*7),\"\")","v":""},{"$f":"IF(MONTH(E475+COLUMN()-COLUMN(C479)+(ROW()-ROW(C479)-10)*7)=F475,DAY(E475+COLUMN()-COLUMN(C479)+(ROW()-ROW(C479)-10)*7),\"\")","v":""},{"$f":"IF(MONTH(E475+COLUMN()-COLUMN(C479)+(ROW()-ROW(C479)-10)*7)=F475,DAY(E475+COLUMN()-COLUMN(C479)+(ROW()-ROW(C479)-10)*7),\"\")","v":""},{"$f":"IF(MONTH(E475+COLUMN()-COLUMN(C479)+(ROW()-ROW(C479)-10)*7)=F475,DAY(E475+COLUMN()-COLUMN(C479)+(ROW()-ROW(C479)-10)*7),\"\")","v":""},{"$f":"IF(MONTH(E475+COLUMN()-COLUMN(C479)+(ROW()-ROW(C479)-10)*7)=F475,DAY(E475+COLUMN()-COLUMN(C479)+(ROW()-ROW(C479)-10)*7),\"\")","v":""},{"$f":"IF(MONTH(E475+COLUMN()-COLUMN(C479)+(ROW()-ROW(C479)-10)*7)=F475,DAY(E475+COLUMN()-COLUMN(C479)+(ROW()-ROW(C479)-10)*7),\"\")","v":""}]
[null,{"$f":"B475","v":"2010"},null,null,{"$f":"IF(C494<>\"\",E475+35,IF(I491=\"\",E475+28,E475+35))","v":40357},{"$f":"F475+1","v":7},null,null,{"$f":"TEXT(DATE(B495,F495,1),\"mmmm\")","v":"juillet"}]
[null,null,"Lundi","Mardi","Mercredi","Jeudi","Vendredi","Samedi","Dimanche"]
[null,{"$f":"IF(C499<>\"\",VLOOKUP(DATE(1900,$F495,C499),$D$5:$F$370,3),\"\")","v":""},null,{"$f":"IF(D499<>\"\",VLOOKUP(DATE(1900,$F495,D499),$D$5:$F$370,3),\"\")","v":""},"",0,0,0,0]
[null,{"$f":"IF(C499<>\"\",VLOOKUP(DATE(1900,$F495,C499),$D$5:$E$370,2),\"\")","v":""},null,{"$f":"IF(D499<>\"\",VLOOKUP(DATE(1900,$F495,D499),$D$5:$E$370,2),\"\")","v":""},"","St Thierry","St Martinien","St Thomas","St Florent"]
[null,{"$f":"MAX(B494,B491,B488)+(I494<>\"\")+AND(I491=\"\",C491=\"\")+AND(I491<>\"\",C494=\"\")","v":26},{"$f":"IF(MONTH(E495+COLUMN()-COLUMN(C499)+(ROW()-ROW(C499))*7)=F495,DAY(E495+COLUMN()-COLUMN(C499)+(ROW()-ROW(C499))*7),\"\")","v":""},{"$f":"IF(MONTH(E495+COLUMN()-COLUMN(C499)+(ROW()-ROW(C499))*7)=F495,DAY(E495+COLUMN()-COLUMN(C499)+(ROW()-ROW(C499))*7),\"\")","v":""},{"$f":"IF(MONTH(E495+COLUMN()-COLUMN(C499)+(ROW()-ROW(C499))*7)=F495,DAY(E495+COLUMN()-COLUMN(C499)+(ROW()-ROW(C499))*7),\"\")","v":""},{"$f":"IF(MONTH(E495+COLUMN()-COLUMN(C499)+(ROW()-ROW(C499))*7)=F495,DAY(E495+COLUMN()-COLUMN(C499)+(ROW()-ROW(C499))*7),\"\")","v":1},{"$f":"IF(MONTH(E495+COLUMN()-COLUMN(C499)+(ROW()-ROW(C499))*7)=F495,DAY(E495+COLUMN()-COLUMN(C499)+(ROW()-ROW(C499))*7),\"\")","v":2},{"$f":"IF(MONTH(E495+COLUMN()-COLUMN(C499)+(ROW()-ROW(C499))*7)=F495,DAY(E495+COLUMN()-COLUMN(C499)+(ROW()-ROW(C499))*7),\"\")","v":3},{"$f":"IF(MONTH(E495+COLUMN()-COLUMN(C499)+(ROW()-ROW(C499))*7)=F495,DAY(E495+COLUMN()-COLUMN(C499)+(ROW()-ROW(C499))*7),\"\")","v":4}]
[null,{"$f":"IF(C502<>\"\",VLOOKUP(DATE(1900,$F495,C502),$D$5:$F$370,3),\"\")","v":0},null,{"$f":"IF(D502<>\"\",VLOOKUP(DATE(1900,$F495,D502),$D$5:$F$370,3),\"\")","v":0},0,0,0,"CLAUDETTE",0]
[null,{"$f":"IF(C502<>\"\",VLOOKUP(DATE(1900,$F495,C502),$D$5:$E$370,2),\"\")","v":"St Antoine"},null,{"$f":"IF(D502<>\"\",VLOOKUP(DATE(1900,$F495,D502),$D$5:$E$370,2),\"\")","v":"Ste Mariette"},"St Raoul","St Thibaut","N.D. Mont Carmel","St Ulrich ","St Benoît"]
[null,{"$f":"(B499+1)-(INT(((B499+1)-1)/$N$4))*$N$4","v":27},{"$f":"IF(MONTH(E495+COLUMN()-COLUMN(C499)+(ROW()-ROW(C499)-2)*7)=F495,DAY(E495+COLUMN()-COLUMN(C499)+(ROW()-ROW(C499)-2)*7),\"\")","v":5},{"$f":"IF(MONTH(E495+COLUMN()-COLUMN(C499)+(ROW()-ROW(C499)-2)*7)=F495,DAY(E495+COLUMN()-COLUMN(C499)+(ROW()-ROW(C499)-2)*7),\"\")","v":6},{"$f":"IF(MONTH(E495+COLUMN()-COLUMN(C499)+(ROW()-ROW(C499)-2)*7)=F495,DAY(E495+COLUMN()-COLUMN(C499)+(ROW()-ROW(C499)-2)*7),\"\")","v":7},{"$f":"IF(MONTH(E495+COLUMN()-COLUMN(C499)+(ROW()-ROW(C499)-2)*7)=F495,DAY(E495+COLUMN()-COLUMN(C499)+(ROW()-ROW(C499)-2)*7),\"\")","v":8},{"$f":"IF(MONTH(E495+COLUMN()-COLUMN(C499)+(ROW()-ROW(C499)-1)*7)=F495,DAY(E495+COLUMN()-COLUMN(C499)+(ROW()-ROW(C499)-1)*7),\"\")","v":16},{"$f":"IF(MONTH(E495+COLUMN()-COLUMN(C499)+(ROW()-ROW(C499)-2)*7)=F495,DAY(E495+COLUMN()-COLUMN(C499)+(ROW()-ROW(C499)-2)*7),\"\")","v":10},{"$f":"IF(MONTH(E495+COLUMN()-COLUMN(C499)+(ROW()-ROW(C499)-2)*7)=F495,DAY(E495+COLUMN()-COLUMN(C499)+(ROW()-ROW(C499)-2)*7),\"\")","v":11}]
[null,{"$f":"IF(C505<>\"\",VLOOKUP(DATE(1900,$F495,C505),$D$5:$F$370,3),\"\")","v":0},null,{"$f":"IF(D505<>\"\",VLOOKUP(DATE(1900,$F495,D505),$D$5:$F$370,3),\"\")","v":0},0,0,0,0,0]
[null,{"$f":"IF(C505<>\"\",VLOOKUP(DATE(1900,$F495,C505),$D$5:$E$370,2),\"\")","v":"St Olivier"},null,{"$f":"IF(D505<>\"\",VLOOKUP(DATE(1900,$F495,D505),$D$5:$E$370,2),\"\")","v":"Sts Henri et Joël"},"Fête nationale","St Donald","N.D. Mont Carmel","Ste Charlotte","St Frédéric"]
[null,{"$f":"B502+1","v":28},{"$f":"IF(MONTH(E495+COLUMN()-COLUMN(C499)+(ROW()-ROW(C499)-4)*7)=F495,DAY(E495+COLUMN()-COLUMN(C499)+(ROW()-ROW(C499)-4)*7),\"\")","v":12},{"$f":"IF(MONTH(E495+COLUMN()-COLUMN(C499)+(ROW()-ROW(C499)-4)*7)=F495,DAY(E495+COLUMN()-COLUMN(C499)+(ROW()-ROW(C499)-4)*7),\"\")","v":13},{"$f":"IF(MONTH(E495+COLUMN()-COLUMN(C499)+(ROW()-ROW(C499)-4)*7)=F495,DAY(E495+COLUMN()-COLUMN(C499)+(ROW()-ROW(C499)-4)*7),\"\")","v":14},{"$f":"IF(MONTH(E495+COLUMN()-COLUMN(C499)+(ROW()-ROW(C499)-4)*7)=F495,DAY(E495+COLUMN()-COLUMN(C499)+(ROW()-ROW(C499)-4)*7),\"\")","v":15},{"$f":"IF(MONTH(E495+COLUMN()-COLUMN(C499)+(ROW()-ROW(C499)-4)*7)=F495,DAY(E495+COLUMN()-COLUMN(C499)+(ROW()-ROW(C499)-4)*7),\"\")","v":16},{"$f":"IF(MONTH(E495+COLUMN()-COLUMN(C499)+(ROW()-ROW(C499)-4)*7)=F495,DAY(E495+COLUMN()-COLUMN(C499)+(ROW()-ROW(C499)-4)*7),\"\")","v":17},{"$f":"IF(MONTH(E495+COLUMN()-COLUMN(C499)+(ROW()-ROW(C499)-4)*7)=F495,DAY(E495+COLUMN()-COLUMN(C499)+(ROW()-ROW(C499)-4)*7),\"\")","v":18}]
[null,{"$f":"IF(C508<>\"\",VLOOKUP(DATE(1900,$F495,C508),$D$5:$F$370,3),\"\")","v":0},null,{"$f":"IF(D508<>\"\",VLOOKUP(DATE(1900,$F495,D508),$D$5:$F$370,3),\"\")","v":0},0,0,0,0,0]
[null,{"$f":"IF(C508<>\"\",VLOOKUP(DATE(1900,$F495,C508),$D$5:$E$370,2),\"\")","v":"St Arsène"},null,{"$f":"IF(D508<>\"\",VLOOKUP(DATE(1900,$F495,D508),$D$5:$E$370,2),\"\")","v":"Ste Marina"},"St Victor","Ste Marie-Madel.","Ste Brigitte","Ste Christine","St Jacques de M. (Enzo)"]
[null,{"$f":"B505+1","v":29},{"$f":"IF(MONTH(E495+COLUMN()-COLUMN(C499)+(ROW()-ROW(C499)-6)*7)=F495,DAY(E495+COLUMN()-COLUMN(C499)+(ROW()-ROW(C499)-6)*7),\"\")","v":19},{"$f":"IF(MONTH(E495+COLUMN()-COLUMN(C499)+(ROW()-ROW(C499)-6)*7)=F495,DAY(E495+COLUMN()-COLUMN(C499)+(ROW()-ROW(C499)-6)*7),\"\")","v":20},{"$f":"IF(MONTH(E495+COLUMN()-COLUMN(C499)+(ROW()-ROW(C499)-6)*7)=F495,DAY(E495+COLUMN()-COLUMN(C499)+(ROW()-ROW(C499)-6)*7),\"\")","v":21},{"$f":"IF(MONTH(E495+COLUMN()-COLUMN(C499)+(ROW()-ROW(C499)-6)*7)=F495,DAY(E495+COLUMN()-COLUMN(C499)+(ROW()-ROW(C499)-6)*7),\"\")","v":22},{"$f":"IF(MONTH(E495+COLUMN()-COLUMN(C499)+(ROW()-ROW(C499)-6)*7)=F495,DAY(E495+COLUMN()-COLUMN(C499)+(ROW()-ROW(C499)-6)*7),\"\")","v":23},{"$f":"IF(MONTH(E495+COLUMN()-COLUMN(C499)+(ROW()-ROW(C499)-6)*7)=F495,DAY(E495+COLUMN()-COLUMN(C499)+(ROW()-ROW(C499)-6)*7),\"\")","v":24},{"$f":"IF(MONTH(E495+COLUMN()-COLUMN(C499)+(ROW()-ROW(C499)-6)*7)=F495,DAY(E495+COLUMN()-COLUMN(C499)+(ROW()-ROW(C499)-6)*7),\"\")","v":25}]
[null,{"$f":"IF(C511<>\"\",VLOOKUP(DATE(1900,$F495,C511),$D$5:$F$370,3),\"\")","v":"MAMAN"},null,{"$f":"IF(D511<>\"\",VLOOKUP(DATE(1900,$F495,D511),$D$5:$F$370,3),\"\")","v":0},0,0,0,0,""]
[null,{"$f":"IF(C511<>\"\",VLOOKUP(DATE(1900,$F495,C511),$D$5:$E$370,2),\"\")","v":"Ste Anne"},null,{"$f":"IF(D511<>\"\",VLOOKUP(DATE(1900,$F495,D511),$D$5:$E$370,2),\"\")","v":"Ste Nathalie"},"St Samson","Ste Marthe","Ste Juliette","St Ign. Loyola",""]
[null,{"$f":"IF(C511=\"\",\"\",IF(B508=H493,1,B508+1))","v":30},{"$f":"IF(MONTH(E495+COLUMN()-COLUMN(C499)+(ROW()-ROW(C499)-8)*7)=F495,DAY(E495+COLUMN()-COLUMN(C499)+(ROW()-ROW(C499)-8)*7),\"\")","v":26},{"$f":"IF(MONTH(E495+COLUMN()-COLUMN(C499)+(ROW()-ROW(C499)-8)*7)=F495,DAY(E495+COLUMN()-COLUMN(C499)+(ROW()-ROW(C499)-8)*7),\"\")","v":27},{"$f":"IF(MONTH(E495+COLUMN()-COLUMN(C499)+(ROW()-ROW(C499)-8)*7)=F495,DAY(E495+COLUMN()-COLUMN(C499)+(ROW()-ROW(C499)-8)*7),\"\")","v":28},{"$f":"IF(MONTH(E495+COLUMN()-COLUMN(C499)+(ROW()-ROW(C499)-8)*7)=F495,DAY(E495+COLUMN()-COLUMN(C499)+(ROW()-ROW(C499)-8)*7),\"\")","v":29},{"$f":"IF(MONTH(E495+COLUMN()-COLUMN(C499)+(ROW()-ROW(C499)-8)*7)=F495,DAY(E495+COLUMN()-COLUMN(C499)+(ROW()-ROW(C499)-8)*7),\"\")","v":30},{"$f":"IF(MONTH(E495+COLUMN()-COLUMN(C499)+(ROW()-ROW(C499)-8)*7)=F495,DAY(E495+COLUMN()-COLUMN(C499)+(ROW()-ROW(C499)-8)*7),\"\")","v":31},{"$f":"IF(MONTH(E495+COLUMN()-COLUMN(C499)+(ROW()-ROW(C499)-8)*7)=F495,DAY(E495+COLUMN()-COLUMN(C499)+(ROW()-ROW(C499)-8)*7),\"\")","v":""}]
[null,{"$f":"IF(C514<>\"\",VLOOKUP(DATE(1900,$F495,C514),$D$5:$F$370,3),\"\")","v":""},null,{"$f":"IF(D514<>\"\",VLOOKUP(DATE(1900,$F495,D514),$D$5:$F$370,3),\"\")","v":""},"","","","",""]
[null,{"$f":"IF(C514<>\"\",VLOOKUP(DATE(1900,$F495,C514),$D$5:$E$370,2),\"\")","v":""},null,{"$f":"IF(D514<>\"\",VLOOKUP(DATE(1900,$F495,D514),$D$5:$E$370,2),\"\")","v":""},"","","","",""]
[null,{"$f":"IF(C514=\"\",\"\",IF(B511=H493,1,B511+1))","v":""},{"$f":"IF(MONTH(E495+COLUMN()-COLUMN(C499)+(ROW()-ROW(C499)-10)*7)=F495,DAY(E495+COLUMN()-COLUMN(C499)+(ROW()-ROW(C499)-10)*7),\"\")","v":""},{"$f":"IF(MONTH(E495+COLUMN()-COLUMN(C499)+(ROW()-ROW(C499)-10)*7)=F495,DAY(E495+COLUMN()-COLUMN(C499)+(ROW()-ROW(C499)-10)*7),\"\")","v":""},{"$f":"IF(MONTH(E495+COLUMN()-COLUMN(C499)+(ROW()-ROW(C499)-10)*7)=F495,DAY(E495+COLUMN()-COLUMN(C499)+(ROW()-ROW(C499)-10)*7),\"\")","v":""},{"$f":"IF(MONTH(E495+COLUMN()-COLUMN(C499)+(ROW()-ROW(C499)-10)*7)=F495,DAY(E495+COLUMN()-COLUMN(C499)+(ROW()-ROW(C499)-10)*7),\"\")","v":""},{"$f":"IF(MONTH(E495+COLUMN()-COLUMN(C499)+(ROW()-ROW(C499)-10)*7)=F495,DAY(E495+COLUMN()-COLUMN(C499)+(ROW()-ROW(C499)-10)*7),\"\")","v":""},{"$f":"IF(MONTH(E495+COLUMN()-COLUMN(C499)+(ROW()-ROW(C499)-10)*7)=F495,DAY(E495+COLUMN()-COLUMN(C499)+(ROW()-ROW(C499)-10)*7),\"\")","v":""},{"$f":"IF(MONTH(E495+COLUMN()-COLUMN(C499)+(ROW()-ROW(C499)-10)*7)=F495,DAY(E495+COLUMN()-COLUMN(C499)+(ROW()-ROW(C499)-10)*7),\"\")","v":""}]
[null,{"$f":"B495","v":"2010"},null,null,{"$f":"IF(C514<>\"\",E495+35,IF(I511=\"\",E495+28,E495+35))","v":40385},{"$f":"F495+1","v":8},null,null,{"$f":"TEXT(DATE(B515,F515,1),\"mmmm\")","v":"août"}]
[null,null,"Lundi","Mardi","Mercredi","Jeudi","Vendredi","Samedi","Dimanche"]
[null,{"$f":"IF(C519<>\"\",VLOOKUP(DATE(1900,$F515,C519),$D$5:$F$370,3),\"\")","v":""},null,{"$f":"IF(D519<>\"\",VLOOKUP(DATE(1900,$F515,D519),$D$5:$F$370,3),\"\")","v":""},"","","","",0]
[null,{"$f":"IF(C519<>\"\",VLOOKUP(DATE(1900,$F515,C519),$D$5:$E$370,2),\"\")","v":""},null,{"$f":"IF(D519<>\"\",VLOOKUP(DATE(1900,$F515,D519),$D$5:$E$370,2),\"\")","v":""},"","","","","St Alphonse"]
[null,{"$f":"MAX(B514,B511,B508)+(I514<>\"\")+AND(I511=\"\",C511=\"\")+AND(I511<>\"\",C514=\"\")","v":30},{"$f":"IF(MONTH(E515+COLUMN()-COLUMN(C519)+(ROW()-ROW(C519))*7)=F515,DAY(E515+COLUMN()-COLUMN(C519)+(ROW()-ROW(C519))*7),\"\")","v":""},{"$f":"IF(MONTH(E515+COLUMN()-COLUMN(C519)+(ROW()-ROW(C519))*7)=F515,DAY(E515+COLUMN()-COLUMN(C519)+(ROW()-ROW(C519))*7),\"\")","v":""},{"$f":"IF(MONTH(E515+COLUMN()-COLUMN(C519)+(ROW()-ROW(C519))*7)=F515,DAY(E515+COLUMN()-COLUMN(C519)+(ROW()-ROW(C519))*7),\"\")","v":""},{"$f":"IF(MONTH(E515+COLUMN()-COLUMN(C519)+(ROW()-ROW(C519))*7)=F515,DAY(E515+COLUMN()-COLUMN(C519)+(ROW()-ROW(C519))*7),\"\")","v":""},{"$f":"IF(MONTH(E515+COLUMN()-COLUMN(C519)+(ROW()-ROW(C519))*7)=F515,DAY(E515+COLUMN()-COLUMN(C519)+(ROW()-ROW(C519))*7),\"\")","v":""},{"$f":"IF(MONTH(E515+COLUMN()-COLUMN(C519)+(ROW()-ROW(C519))*7)=F515,DAY(E515+COLUMN()-COLUMN(C519)+(ROW()-ROW(C519))*7),\"\")","v":""},{"$f":"IF(MONTH(E515+COLUMN()-COLUMN(C519)+(ROW()-ROW(C519))*7)=F515,DAY(E515+COLUMN()-COLUMN(C519)+(ROW()-ROW(C519))*7),\"\")","v":1}]
[null,{"$f":"IF(C522<>\"\",VLOOKUP(DATE(1900,$F515,C522),$D$5:$F$370,3),\"\")","v":0},null,{"$f":"IF(D522<>\"\",VLOOKUP(DATE(1900,$F515,D522),$D$5:$F$370,3),\"\")","v":0},0,0,0,0,0]
[null,{"$f":"IF(C522<>\"\",VLOOKUP(DATE(1900,$F515,C522),$D$5:$E$370,2),\"\")","v":"St Julien-Eym."},null,{"$f":"IF(D522<>\"\",VLOOKUP(DATE(1900,$F515,D522),$D$5:$E$370,2),\"\")","v":"Ste Lydie"},"St J.M. Vianney","St Abel","Transfiguration","St Gaëtan","St Dominique"]
[null,{"$f":"(B519+1)-(INT(((B519+1)-1)/$N$4))*$N$4","v":31},{"$f":"IF(MONTH(E515+COLUMN()-COLUMN(C519)+(ROW()-ROW(C519)-2)*7)=F515,DAY(E515+COLUMN()-COLUMN(C519)+(ROW()-ROW(C519)-2)*7),\"\")","v":2},{"$f":"IF(MONTH(E515+COLUMN()-COLUMN(C519)+(ROW()-ROW(C519)-2)*7)=F515,DAY(E515+COLUMN()-COLUMN(C519)+(ROW()-ROW(C519)-2)*7),\"\")","v":3},{"$f":"IF(MONTH(E515+COLUMN()-COLUMN(C519)+(ROW()-ROW(C519)-2)*7)=F515,DAY(E515+COLUMN()-COLUMN(C519)+(ROW()-ROW(C519)-2)*7),\"\")","v":4},{"$f":"IF(MONTH(E515+COLUMN()-COLUMN(C519)+(ROW()-ROW(C519)-2)*7)=F515,DAY(E515+COLUMN()-COLUMN(C519)+(ROW()-ROW(C519)-2)*7),\"\")","v":5},{"$f":"IF(MONTH(E515+COLUMN()-COLUMN(C519)+(ROW()-ROW(C519)-2)*7)=F515,DAY(E515+COLUMN()-COLUMN(C519)+(ROW()-ROW(C519)-2)*7),\"\")","v":6},{"$f":"IF(MONTH(E515+COLUMN()-COLUMN(C519)+(ROW()-ROW(C519)-2)*7)=F515,DAY(E515+COLUMN()-COLUMN(C519)+(ROW()-ROW(C519)-2)*7),\"\")","v":7},{"$f":"IF(MONTH(E515+COLUMN()-COLUMN(C519)+(ROW()-ROW(C519)-2)*7)=F515,DAY(E515+COLUMN()-COLUMN(C519)+(ROW()-ROW(C519)-2)*7),\"\")","v":8}]
[null,{"$f":"IF(C525<>\"\",VLOOKUP(DATE(1900,$F515,C525),$D$5:$F$370,3),\"\")","v":0},null,{"$f":"IF(D525<>\"\",VLOOKUP(DATE(1900,$F515,D525),$D$5:$F$370,3),\"\")","v":0},0,0,0,0,0]
[null,{"$f":"IF(C525<>\"\",VLOOKUP(DATE(1900,$F515,C525),$D$5:$E$370,2),\"\")","v":"St Amour"},null,{"$f":"IF(D525<>\"\",VLOOKUP(DATE(1900,$F515,D525),$D$5:$E$370,2),\"\")","v":"St Laurent"},"Ste Claire","Ste Clarisse","St Hippolyte","St Evrard","Assomption"]
[null,{"$f":"B522+1","v":32},{"$f":"IF(MONTH(E515+COLUMN()-COLUMN(C519)+(ROW()-ROW(C519)-4)*7)=F515,DAY(E515+COLUMN()-COLUMN(C519)+(ROW()-ROW(C519)-4)*7),\"\")","v":9},{"$f":"IF(MONTH(E515+COLUMN()-COLUMN(C519)+(ROW()-ROW(C519)-4)*7)=F515,DAY(E515+COLUMN()-COLUMN(C519)+(ROW()-ROW(C519)-4)*7),\"\")","v":10},{"$f":"IF(MONTH(E515+COLUMN()-COLUMN(C519)+(ROW()-ROW(C519)-4)*7)=F515,DAY(E515+COLUMN()-COLUMN(C519)+(ROW()-ROW(C519)-4)*7),\"\")","v":11},{"$f":"IF(MONTH(E515+COLUMN()-COLUMN(C519)+(ROW()-ROW(C519)-4)*7)=F515,DAY(E515+COLUMN()-COLUMN(C519)+(ROW()-ROW(C519)-4)*7),\"\")","v":12},{"$f":"IF(MONTH(E515+COLUMN()-COLUMN(C519)+(ROW()-ROW(C519)-4)*7)=F515,DAY(E515+COLUMN()-COLUMN(C519)+(ROW()-ROW(C519)-4)*7),\"\")","v":13},{"$f":"IF(MONTH(E515+COLUMN()-COLUMN(C519)+(ROW()-ROW(C519)-4)*7)=F515,DAY(E515+COLUMN()-COLUMN(C519)+(ROW()-ROW(C519)-4)*7),\"\")","v":14},{"$f":"IF(MONTH(E515+COLUMN()-COLUMN(C519)+(ROW()-ROW(C519)-4)*7)=F515,DAY(E515+COLUMN()-COLUMN(C519)+(ROW()-ROW(C519)-4)*7),\"\")","v":15}]
[null,{"$f":"IF(C528<>\"\",VLOOKUP(DATE(1900,$F515,C528),$D$5:$F$370,3),\"\")","v":0},null,{"$f":"IF(D528<>\"\",VLOOKUP(DATE(1900,$F515,D528),$D$5:$F$370,3),\"\")","v":0},0,0,0,0,0]
[null,{"$f":"IF(C528<>\"\",VLOOKUP(DATE(1900,$F515,C528),$D$5:$E$370,2),\"\")","v":"St Armel"},null,{"$f":"IF(D528<>\"\",VLOOKUP(DATE(1900,$F515,D528),$D$5:$E$370,2),\"\")","v":"St Hyacinthe"},"Ste Hélène","St Jean Eudes","St Bernard","St Christophe","St Fabrice"]
[null,{"$f":"B525+1","v":33},{"$f":"IF(MONTH(E515+COLUMN()-COLUMN(C519)+(ROW()-ROW(C519)-6)*7)=F515,DAY(E515+COLUMN()-COLUMN(C519)+(ROW()-ROW(C519)-6)*7),\"\")","v":16},{"$f":"IF(MONTH(E515+COLUMN()-COLUMN(C519)+(ROW()-ROW(C519)-6)*7)=F515,DAY(E515+COLUMN()-COLUMN(C519)+(ROW()-ROW(C519)-6)*7),\"\")","v":17},{"$f":"IF(MONTH(E515+COLUMN()-COLUMN(C519)+(ROW()-ROW(C519)-6)*7)=F515,DAY(E515+COLUMN()-COLUMN(C519)+(ROW()-ROW(C519)-6)*7),\"\")","v":18},{"$f":"IF(MONTH(E515+COLUMN()-COLUMN(C519)+(ROW()-ROW(C519)-6)*7)=F515,DAY(E515+COLUMN()-COLUMN(C519)+(ROW()-ROW(C519)-6)*7),\"\")","v":19},{"$f":"IF(MONTH(E515+COLUMN()-COLUMN(C519)+(ROW()-ROW(C519)-6)*7)=F515,DAY(E515+COLUMN()-COLUMN(C519)+(ROW()-ROW(C519)-6)*7),\"\")","v":20},{"$f":"IF(MONTH(E515+COLUMN()-COLUMN(C519)+(ROW()-ROW(C519)-6)*7)=F515,DAY(E515+COLUMN()-COLUMN(C519)+(ROW()-ROW(C519)-6)*7),\"\")","v":21},{"$f":"IF(MONTH(E515+COLUMN()-COLUMN(C519)+(ROW()-ROW(C519)-6)*7)=F515,DAY(E515+COLUMN()-COLUMN(C519)+(ROW()-ROW(C519)-6)*7),\"\")","v":22}]
[null,{"$f":"IF(C531<>\"\",VLOOKUP(DATE(1900,$F515,C531),$D$5:$F$370,3),\"\")","v":0},null,{"$f":"IF(D531<>\"\",VLOOKUP(DATE(1900,$F515,D531),$D$5:$F$370,3),\"\")","v":0},0,0,0,0,0]
[null,{"$f":"IF(C531<>\"\",VLOOKUP(DATE(1900,$F515,C531),$D$5:$E$370,2),\"\")","v":"Ste Rose de Lima"},null,{"$f":"IF(D531<>\"\",VLOOKUP(DATE(1900,$F515,D531),$D$5:$E$370,2),\"\")","v":"St Barthélémy"},"St Louis","Ste Natacha","Ste Monique","St Augustin","Ste Sabine"]
[null,{"$f":"IF(C531=\"\",\"\",IF(B528=H513,1,B528+1))","v":34},{"$f":"IF(MONTH(E515+COLUMN()-COLUMN(C519)+(ROW()-ROW(C519)-8)*7)=F515,DAY(E515+COLUMN()-COLUMN(C519)+(ROW()-ROW(C519)-8)*7),\"\")","v":23},{"$f":"IF(MONTH(E515+COLUMN()-COLUMN(C519)+(ROW()-ROW(C519)-8)*7)=F515,DAY(E515+COLUMN()-COLUMN(C519)+(ROW()-ROW(C519)-8)*7),\"\")","v":24},{"$f":"IF(MONTH(E515+COLUMN()-COLUMN(C519)+(ROW()-ROW(C519)-8)*7)=F515,DAY(E515+COLUMN()-COLUMN(C519)+(ROW()-ROW(C519)-8)*7),\"\")","v":25},{"$f":"IF(MONTH(E515+COLUMN()-COLUMN(C519)+(ROW()-ROW(C519)-8)*7)=F515,DAY(E515+COLUMN()-COLUMN(C519)+(ROW()-ROW(C519)-8)*7),\"\")","v":26},{"$f":"IF(MONTH(E515+COLUMN()-COLUMN(C519)+(ROW()-ROW(C519)-8)*7)=F515,DAY(E515+COLUMN()-COLUMN(C519)+(ROW()-ROW(C519)-8)*7),\"\")","v":27},{"$f":"IF(MONTH(E515+COLUMN()-COLUMN(C519)+(ROW()-ROW(C519)-8)*7)=F515,DAY(E515+COLUMN()-COLUMN(C519)+(ROW()-ROW(C519)-8)*7),\"\")","v":28},{"$f":"IF(MONTH(E515+COLUMN()-COLUMN(C519)+(ROW()-ROW(C519)-8)*7)=F515,DAY(E515+COLUMN()-COLUMN(C519)+(ROW()-ROW(C519)-8)*7),\"\")","v":29}]
[null,{"$f":"IF(C534<>\"\",VLOOKUP(DATE(1900,$F515,C534),$D$5:$F$370,3),\"\")","v":0},null,{"$f":"IF(D534<>\"\",VLOOKUP(DATE(1900,$F515,D534),$D$5:$F$370,3),\"\")","v":0},"","","","",""]
[null,{"$f":"IF(C534<>\"\",VLOOKUP(DATE(1900,$F515,C534),$D$5:$E$370,2),\"\")","v":"St Fiacre"},null,{"$f":"IF(D534<>\"\",VLOOKUP(DATE(1900,$F515,D534),$D$5:$E$370,2),\"\")","v":"St Aristide"},"","","","",""]
[null,{"$f":"IF(C534=\"\",\"\",IF(B531=H513,1,B531+1))","v":35},{"$f":"IF(MONTH(E515+COLUMN()-COLUMN(C519)+(ROW()-ROW(C519)-10)*7)=F515,DAY(E515+COLUMN()-COLUMN(C519)+(ROW()-ROW(C519)-10)*7),\"\")","v":30},{"$f":"IF(MONTH(E515+COLUMN()-COLUMN(C519)+(ROW()-ROW(C519)-10)*7)=F515,DAY(E515+COLUMN()-COLUMN(C519)+(ROW()-ROW(C519)-10)*7),\"\")","v":31},{"$f":"IF(MONTH(E515+COLUMN()-COLUMN(C519)+(ROW()-ROW(C519)-10)*7)=F515,DAY(E515+COLUMN()-COLUMN(C519)+(ROW()-ROW(C519)-10)*7),\"\")","v":""},{"$f":"IF(MONTH(E515+COLUMN()-COLUMN(C519)+(ROW()-ROW(C519)-10)*7)=F515,DAY(E515+COLUMN()-COLUMN(C519)+(ROW()-ROW(C519)-10)*7),\"\")","v":""},{"$f":"IF(MONTH(E515+COLUMN()-COLUMN(C519)+(ROW()-ROW(C519)-10)*7)=F515,DAY(E515+COLUMN()-COLUMN(C519)+(ROW()-ROW(C519)-10)*7),\"\")","v":""},{"$f":"IF(MONTH(E515+COLUMN()-COLUMN(C519)+(ROW()-ROW(C519)-10)*7)=F515,DAY(E515+COLUMN()-COLUMN(C519)+(ROW()-ROW(C519)-10)*7),\"\")","v":""},{"$f":"IF(MONTH(E515+COLUMN()-COLUMN(C519)+(ROW()-ROW(C519)-10)*7)=F515,DAY(E515+COLUMN()-COLUMN(C519)+(ROW()-ROW(C519)-10)*7),\"\")","v":""}]
[null,{"$f":"B515","v":"2010"},null,null,{"$f":"IF(C534<>\"\",E515+35,IF(I531=\"\",E515+28,E515+35))","v":40420},{"$f":"F515+1","v":9},null,null,{"$f":"TEXT(DATE(B535,F535,1),\"mmmm\")","v":"septembre"}]
[null,null,"Lundi","Mardi","Mercredi","Jeudi","Vendredi","Samedi","Dimanche"]
[null,{"$f":"IF(C539<>\"\",VLOOKUP(DATE(1900,$F535,C539),$D$5:$F$370,3),\"\")","v":""},null,{"$f":"IF(D539<>\"\",VLOOKUP(DATE(1900,$F$535,D539),$D$5:$F$370,3),\"\")","v":""},{"$f":"IF(E539<>\"\",VLOOKUP(DATE(1900,$F535,E539),$D$5:$F$370,3),\"\")","v":0},{"$f":"IF(F539<>\"\",VLOOKUP(DATE(1900,$F535,F539),$D$5:$F$370,3),\"\")","v":0},{"$f":"IF(G539<>\"\",VLOOKUP(DATE(1900,$F535,G539),$D$5:$F$370,3),\"\")","v":0},{"$f":"IF(H539<>\"\",VLOOKUP(DATE(1900,$F535,H539),$D$5:$F$370,3),\"\")","v":0},{"$f":"IF(I539<>\"\",VLOOKUP(DATE(1900,$F535,I539),$D$5:$F$370,3),\"\")","v":0}]
[null,{"$f":"IF(C539<>\"\",VLOOKUP(DATE(1900,$F535,C539),$D$5:$E$370,2),\"\")","v":""},null,{"$f":"IF(D539<>\"\",VLOOKUP(DATE(1900,$F$535,D539),$D$5:$E$370,2),\"\")","v":""},{"$f":"IF(E539<>\"\",VLOOKUP(DATE(1900,$F535,E539),$D$5:$E$370,2),\"\")","v":"St Gilles"},{"$f":"IF(F539<>\"\",VLOOKUP(DATE(1900,$F535,F539),$D$5:$E$370,2),\"\")","v":"Ste Ingrid"},{"$f":"IF(G539<>\"\",VLOOKUP(DATE(1900,$F535,G539),$D$5:$E$370,2),\"\")","v":"St Grégoire"},{"$f":"IF(H539<>\"\",VLOOKUP(DATE(1900,$F535,H539),$D$5:$E$370,2),\"\")","v":"Ste Rosalie"},{"$f":"IF(I539<>\"\",VLOOKUP(DATE(1900,$F535,I539),$D$5:$E$370,2),\"\")","v":"Ste Raïssa"}]
[null,{"$f":"MAX(B534,B531,B528)+(I534<>\"\")+AND(I531=\"\",C531=\"\")+AND(I531<>\"\",C534=\"\")","v":35},{"$f":"IF(MONTH(E535+COLUMN()-COLUMN(C539)+(ROW()-ROW(C539))*7)=F535,DAY(E535+COLUMN()-COLUMN(C539)+(ROW()-ROW(C539))*7),\"\")","v":""},{"$f":"IF(MONTH(E535+COLUMN()-COLUMN(C539)+(ROW()-ROW(C539))*7)=F535,DAY(E535+COLUMN()-COLUMN(C539)+(ROW()-ROW(C539))*7),\"\")","v":""},{"$f":"IF(MONTH(E535+COLUMN()-COLUMN(C539)+(ROW()-ROW(C539))*7)=F535,DAY(E535+COLUMN()-COLUMN(C539)+(ROW()-ROW(C539))*7),\"\")","v":1},{"$f":"IF(MONTH(E535+COLUMN()-COLUMN(C539)+(ROW()-ROW(C539))*7)=F535,DAY(E535+COLUMN()-COLUMN(C539)+(ROW()-ROW(C539))*7),\"\")","v":2},{"$f":"IF(MONTH(E535+COLUMN()-COLUMN(C539)+(ROW()-ROW(C539))*7)=F535,DAY(E535+COLUMN()-COLUMN(C539)+(ROW()-ROW(C539))*7),\"\")","v":3},{"$f":"IF(MONTH(E535+COLUMN()-COLUMN(C539)+(ROW()-ROW(C539))*7)=F535,DAY(E535+COLUMN()-COLUMN(C539)+(ROW()-ROW(C539))*7),\"\")","v":4},{"$f":"IF(MONTH(E535+COLUMN()-COLUMN(C539)+(ROW()-ROW(C539))*7)=F535,DAY(E535+COLUMN()-COLUMN(C539)+(ROW()-ROW(C539))*7),\"\")","v":5}]
[null,{"$f":"IF(C542<>\"\",VLOOKUP(DATE(1900,$F$535,C542),$D$5:$F$370,3),\"\")","v":0},null,{"$f":"IF(D542<>\"\",VLOOKUP(DATE(1900,$F$535,D542),$D$5:$F$370,3),\"\")","v":0},0,0,0,0,0]
[null,{"$f":"IF(C542<>\"\",VLOOKUP(DATE(1900,$F535,C542),$D$5:$E$370,2),\"\")","v":"St Bertrand"},null,{"$f":"IF(D542<>\"\",VLOOKUP(DATE(1900,$F535,D542),$D$5:$E$370,2),\"\")","v":"Ste Reine"},"Nativité","St Alain","Ste Inès","Ste Adelphe","St Apollinaire"]
[null,{"$f":"(B539+1)-(INT(((B539+1)-1)/$N$4))*$N$4","v":36},{"$f":"IF(MONTH(E535+COLUMN()-COLUMN(C539)+(ROW()-ROW(C539)-2)*7)=F535,DAY(E535+COLUMN()-COLUMN(C539)+(ROW()-ROW(C539)-2)*7),\"\")","v":6},{"$f":"IF(MONTH(E535+COLUMN()-COLUMN(C539)+(ROW()-ROW(C539)-2)*7)=F535,DAY(E535+COLUMN()-COLUMN(C539)+(ROW()-ROW(C539)-2)*7),\"\")","v":7},{"$f":"IF(MONTH(E535+COLUMN()-COLUMN(C539)+(ROW()-ROW(C539)-2)*7)=F535,DAY(E535+COLUMN()-COLUMN(C539)+(ROW()-ROW(C539)-2)*7),\"\")","v":8},{"$f":"IF(MONTH(E535+COLUMN()-COLUMN(C539)+(ROW()-ROW(C539)-2)*7)=F535,DAY(E535+COLUMN()-COLUMN(C539)+(ROW()-ROW(C539)-2)*7),\"\")","v":9},{"$f":"IF(MONTH(E535+COLUMN()-COLUMN(C539)+(ROW()-ROW(C539)-2)*7)=F535,DAY(E535+COLUMN()-COLUMN(C539)+(ROW()-ROW(C539)-2)*7),\"\")","v":10},{"$f":"IF(MONTH(E535+COLUMN()-COLUMN(C539)+(ROW()-ROW(C539)-2)*7)=F535,DAY(E535+COLUMN()-COLUMN(C539)+(ROW()-ROW(C539)-2)*7),\"\")","v":11},{"$f":"IF(MONTH(E535+COLUMN()-COLUMN(C539)+(ROW()-ROW(C539)-2)*7)=F535,DAY(E535+COLUMN()-COLUMN(C539)+(ROW()-ROW(C539)-2)*7),\"\")","v":12}]
[null,{"$f":"IF(C545<>\"\",VLOOKUP(DATE(1900,$F$535,C545),$D$5:$F$370,3),\"\")","v":0},null,{"$f":"IF(D545<>\"\",VLOOKUP(DATE(1900,$F$535,D545),$D$5:$F$370,3),\"\")","v":0},0,0,0,0,0]
[null,{"$f":"IF(C545<>\"\",VLOOKUP(DATE(1900,$F535,C545),$D$5:$E$370,2),\"\")","v":"St Aimé"},null,{"$f":"IF(D545<>\"\",VLOOKUP(DATE(1900,$F535,D545),$D$5:$E$370,2),\"\")","v":"Croix Glorieuse"},"St Roland","Ste Edith","St Renaud","Ste Nadège","Ste Emilie"]
[null,{"$f":"B542+1","v":37},{"$f":"IF(MONTH(E535+COLUMN()-COLUMN(C539)+(ROW()-ROW(C539)-4)*7)=F535,DAY(E535+COLUMN()-COLUMN(C539)+(ROW()-ROW(C539)-4)*7),\"\")","v":13},{"$f":"IF(MONTH(E535+COLUMN()-COLUMN(C539)+(ROW()-ROW(C539)-4)*7)=F535,DAY(E535+COLUMN()-COLUMN(C539)+(ROW()-ROW(C539)-4)*7),\"\")","v":14},{"$f":"IF(MONTH(E535+COLUMN()-COLUMN(C539)+(ROW()-ROW(C539)-4)*7)=F535,DAY(E535+COLUMN()-COLUMN(C539)+(ROW()-ROW(C539)-4)*7),\"\")","v":15},{"$f":"IF(MONTH(E535+COLUMN()-COLUMN(C539)+(ROW()-ROW(C539)-4)*7)=F535,DAY(E535+COLUMN()-COLUMN(C539)+(ROW()-ROW(C539)-4)*7),\"\")","v":16},{"$f":"IF(MONTH(E535+COLUMN()-COLUMN(C539)+(ROW()-ROW(C539)-4)*7)=F535,DAY(E535+COLUMN()-COLUMN(C539)+(ROW()-ROW(C539)-4)*7),\"\")","v":17},{"$f":"IF(MONTH(E535+COLUMN()-COLUMN(C539)+(ROW()-ROW(C539)-4)*7)=F535,DAY(E535+COLUMN()-COLUMN(C539)+(ROW()-ROW(C539)-4)*7),\"\")","v":18},{"$f":"IF(MONTH(E535+COLUMN()-COLUMN(C539)+(ROW()-ROW(C539)-4)*7)=F535,DAY(E535+COLUMN()-COLUMN(C539)+(ROW()-ROW(C539)-4)*7),\"\")","v":19}]
[null,{"$f":"IF(C548<>\"\",VLOOKUP(DATE(1900,$F$535,C548),$D$5:$F$370,3),\"\")","v":0},null,{"$f":"IF(D548<>\"\",VLOOKUP(DATE(1900,$F$535,D548),$D$5:$F$370,3),\"\")","v":0},0,0,0,0,0]
[null,{"$f":"IF(C548<>\"\",VLOOKUP(DATE(1900,$F535,C548),$D$5:$E$370,2),\"\")","v":"St Davy"},null,{"$f":"IF(D548<>\"\",VLOOKUP(DATE(1900,$F535,D548),$D$5:$E$370,2),\"\")","v":"St Matthieu"},"St Maurice","St Constant","Ste Thècle","St Herman","St Côme-Damien"]
[null,{"$f":"B545+1","v":38},{"$f":"IF(MONTH(E535+COLUMN()-COLUMN(C539)+(ROW()-ROW(C539)-6)*7)=F535,DAY(E535+COLUMN()-COLUMN(C539)+(ROW()-ROW(C539)-6)*7),\"\")","v":20},{"$f":"IF(MONTH(E535+COLUMN()-COLUMN(C539)+(ROW()-ROW(C539)-6)*7)=F535,DAY(E535+COLUMN()-COLUMN(C539)+(ROW()-ROW(C539)-6)*7),\"\")","v":21},{"$f":"IF(MONTH(E535+COLUMN()-COLUMN(C539)+(ROW()-ROW(C539)-6)*7)=F535,DAY(E535+COLUMN()-COLUMN(C539)+(ROW()-ROW(C539)-6)*7),\"\")","v":22},{"$f":"IF(MONTH(E535+COLUMN()-COLUMN(C539)+(ROW()-ROW(C539)-6)*7)=F535,DAY(E535+COLUMN()-COLUMN(C539)+(ROW()-ROW(C539)-6)*7),\"\")","v":23},{"$f":"IF(MONTH(E535+COLUMN()-COLUMN(C539)+(ROW()-ROW(C539)-6)*7)=F535,DAY(E535+COLUMN()-COLUMN(C539)+(ROW()-ROW(C539)-6)*7),\"\")","v":24},{"$f":"IF(MONTH(E535+COLUMN()-COLUMN(C539)+(ROW()-ROW(C539)-6)*7)=F535,DAY(E535+COLUMN()-COLUMN(C539)+(ROW()-ROW(C539)-6)*7),\"\")","v":25},{"$f":"IF(MONTH(E535+COLUMN()-COLUMN(C539)+(ROW()-ROW(C539)-6)*7)=F535,DAY(E535+COLUMN()-COLUMN(C539)+(ROW()-ROW(C539)-6)*7),\"\")","v":26}]
[null,{"$f":"IF(C551<>\"\",VLOOKUP(DATE(1900,$F$535,C551),$D$5:$F$370,3),\"\")","v":0},null,{"$f":"IF(D551<>\"\",VLOOKUP(DATE(1900,$F$535,D551),$D$5:$F$370,3),\"\")","v":0},{"$f":"IF(E551<>\"\",VLOOKUP(DATE(1900,$F$535,E551),$D$5:$F$370,3),\"\")","v":0},{"$f":"IF(F551<>\"\",VLOOKUP(DATE(1900,$F$535,F551),$D$5:$F$370,3),\"\")","v":0},{"$f":"IF(G551<>\"\",VLOOKUP(DATE(1900,$F$535,G551),$D$5:$F$370,3),\"\")","v":""},{"$f":"IF(H551<>\"\",VLOOKUP(DATE(1900,$F$535,H551),$D$5:$F$370,3),\"\")","v":""}]
[null,{"$f":"IF(C551<>\"\",VLOOKUP(DATE(1900,$F535,C551),$D$5:$E$370,2),\"\")","v":"St Vincent de Paul"},null,{"$f":"IF(D551<>\"\",VLOOKUP(DATE(1900,$F535,D551),$D$5:$E$370,2),\"\")","v":"St Venceslas"},"Sts Michel-Gabriel","St Jérôme","","",""]
[null,{"$f":"IF(C551=\"\",\"\",IF(B548=H533,1,B548+1))","v":39},{"$f":"IF(MONTH(E535+COLUMN()-COLUMN(C539)+(ROW()-ROW(C539)-8)*7)=F535,DAY(E535+COLUMN()-COLUMN(C539)+(ROW()-ROW(C539)-8)*7),\"\")","v":27},{"$f":"IF(MONTH(E535+COLUMN()-COLUMN(C539)+(ROW()-ROW(C539)-8)*7)=F535,DAY(E535+COLUMN()-COLUMN(C539)+(ROW()-ROW(C539)-8)*7),\"\")","v":28},{"$f":"IF(MONTH(E535+COLUMN()-COLUMN(C539)+(ROW()-ROW(C539)-8)*7)=F535,DAY(E535+COLUMN()-COLUMN(C539)+(ROW()-ROW(C539)-8)*7),\"\")","v":29},{"$f":"IF(MONTH(E535+COLUMN()-COLUMN(C539)+(ROW()-ROW(C539)-8)*7)=F535,DAY(E535+COLUMN()-COLUMN(C539)+(ROW()-ROW(C539)-8)*7),\"\")","v":30},{"$f":"IF(MONTH(E535+COLUMN()-COLUMN(C539)+(ROW()-ROW(C539)-8)*7)=F535,DAY(E535+COLUMN()-COLUMN(C539)+(ROW()-ROW(C539)-8)*7),\"\")","v":""},{"$f":"IF(MONTH(E535+COLUMN()-COLUMN(C539)+(ROW()-ROW(C539)-8)*7)=F535,DAY(E535+COLUMN()-COLUMN(C539)+(ROW()-ROW(C539)-8)*7),\"\")","v":""},{"$f":"IF(MONTH(E535+COLUMN()-COLUMN(C539)+(ROW()-ROW(C539)-8)*7)=F535,DAY(E535+COLUMN()-COLUMN(C539)+(ROW()-ROW(C539)-8)*7),\"\")","v":""}]
[null,{"$f":"IF(C554<>\"\",VLOOKUP(DATE(1900,$F$535,C554),$D$5:$F$370,3),\"\")","v":""},null,{"$f":"IF(D554<>\"\",VLOOKUP(DATE(1900,$F$535,D554),$D$5:$F$370,3),\"\")","v":""},"","","","",""]
[null,{"$f":"IF(C554<>\"\",VLOOKUP(DATE(1900,$F535,C554),$D$5:$E$370,2),\"\")","v":""},null,{"$f":"IF(D554<>\"\",VLOOKUP(DATE(1900,$F535,D554),$D$5:$E$370,2),\"\")","v":""},"","","","",""]
[null,{"$f":"IF(C554=\"\",\"\",IF(B551=H533,1,B551+1))","v":""},{"$f":"IF(MONTH(E535+COLUMN()-COLUMN(C539)+(ROW()-ROW(C539)-10)*7)=F535,DAY(E535+COLUMN()-COLUMN(C539)+(ROW()-ROW(C539)-10)*7),\"\")","v":""},{"$f":"IF(MONTH(E535+COLUMN()-COLUMN(C539)+(ROW()-ROW(C539)-10)*7)=F535,DAY(E535+COLUMN()-COLUMN(C539)+(ROW()-ROW(C539)-10)*7),\"\")","v":""},{"$f":"IF(MONTH(E535+COLUMN()-COLUMN(C539)+(ROW()-ROW(C539)-10)*7)=F535,DAY(E535+COLUMN()-COLUMN(C539)+(ROW()-ROW(C539)-10)*7),\"\")","v":""},{"$f":"IF(MONTH(E535+COLUMN()-COLUMN(C539)+(ROW()-ROW(C539)-10)*7)=F535,DAY(E535+COLUMN()-COLUMN(C539)+(ROW()-ROW(C539)-10)*7),\"\")","v":""},{"$f":"IF(MONTH(E535+COLUMN()-COLUMN(C539)+(ROW()-ROW(C539)-10)*7)=F535,DAY(E535+COLUMN()-COLUMN(C539)+(ROW()-ROW(C539)-10)*7),\"\")","v":""},{"$f":"IF(MONTH(E535+COLUMN()-COLUMN(C539)+(ROW()-ROW(C539)-10)*7)=F535,DAY(E535+COLUMN()-COLUMN(C539)+(ROW()-ROW(C539)-10)*7),\"\")","v":""},{"$f":"IF(MONTH(E535+COLUMN()-COLUMN(C539)+(ROW()-ROW(C539)-10)*7)=F535,DAY(E535+COLUMN()-COLUMN(C539)+(ROW()-ROW(C539)-10)*7),\"\")","v":""}]
[null,{"$f":"B535","v":"2010"},null,null,{"$f":"IF(C554<>\"\",E535+35,IF(I551=\"\",E535+28,E535+35))","v":40448},{"$f":"F535+1","v":10},null,null,{"$f":"TEXT(DATE(B555,F555,1),\"mmmm\")","v":"octobre"}]
[null,null,"Lundi","Mardi","Mercredi","Jeudi","Vendredi","Samedi","Dimanche"]
[null,{"$f":"IF(C559<>\"\",VLOOKUP(DATE(1900,$F$555,C559),$D$5:$F$370,3),\"\")","v":""},null,{"$f":"IF(D559<>\"\",VLOOKUP(DATE(1900,$F$555,D559),$D$5:$F$370,3),\"\")","v":""},"","",0,0,0]
[null,{"$f":"IF(C559<>\"\",VLOOKUP(DATE(1900,$F555,C559),$D$5:$E$370,2),\"\")","v":""},null,{"$f":"IF(D559<>\"\",VLOOKUP(DATE(1900,$F555,D559),$D$5:$E$370,2),\"\")","v":""},"","","Ste Thérèse de l'E. J.","St Léger","St Gérard"]
[null,{"$f":"MAX(B554,B551,B548)+(I554<>\"\")+AND(I551=\"\",C551=\"\")+AND(I551<>\"\",C554=\"\")","v":39},{"$f":"IF(MONTH(E555+COLUMN()-COLUMN(C559)+(ROW()-ROW(C559))*7)=F555,DAY(E555+COLUMN()-COLUMN(C559)+(ROW()-ROW(C559))*7),\"\")","v":""},{"$f":"IF(MONTH(E555+COLUMN()-COLUMN(C559)+(ROW()-ROW(C559))*7)=F555,DAY(E555+COLUMN()-COLUMN(C559)+(ROW()-ROW(C559))*7),\"\")","v":""},{"$f":"IF(MONTH(E555+COLUMN()-COLUMN(C559)+(ROW()-ROW(C559))*7)=F555,DAY(E555+COLUMN()-COLUMN(C559)+(ROW()-ROW(C559))*7),\"\")","v":""},{"$f":"IF(MONTH(E555+COLUMN()-COLUMN(C559)+(ROW()-ROW(C559))*7)=F555,DAY(E555+COLUMN()-COLUMN(C559)+(ROW()-ROW(C559))*7),\"\")","v":""},{"$f":"IF(MONTH(E555+COLUMN()-COLUMN(C559)+(ROW()-ROW(C559))*7)=F555,DAY(E555+COLUMN()-COLUMN(C559)+(ROW()-ROW(C559))*7),\"\")","v":1},{"$f":"IF(MONTH(E555+COLUMN()-COLUMN(C559)+(ROW()-ROW(C559))*7)=F555,DAY(E555+COLUMN()-COLUMN(C559)+(ROW()-ROW(C559))*7),\"\")","v":2},{"$f":"IF(MONTH(E555+COLUMN()-COLUMN(C559)+(ROW()-ROW(C559))*7)=F555,DAY(E555+COLUMN()-COLUMN(C559)+(ROW()-ROW(C559))*7),\"\")","v":3}]
[null,{"$f":"IF(C562<>\"\",VLOOKUP(DATE(1900,$F$555,C562),$D$5:$F$370,3),\"\")","v":0},null,{"$f":"IF(D562<>\"\",VLOOKUP(DATE(1900,$F$555,D562),$D$5:$F$370,3),\"\")","v":0},0,0,0,"ALINE",0]
[null,{"$f":"IF(C562<>\"\",VLOOKUP(DATE(1900,$F555,C562),$D$5:$E$370,2),\"\")","v":"St Fr. d'Assise"},null,{"$f":"IF(D562<>\"\",VLOOKUP(DATE(1900,$F555,D562),$D$5:$E$370,2),\"\")","v":"Ste Fleur"},"St Bruno","St Serge","Ste Pélagie","St Denis ","St Ghislain"]
[null,{"$f":"(B559+1)-(INT(((B559+1)-1)/$N$4))*$N$4","v":40},{"$f":"IF(MONTH(E555+COLUMN()-COLUMN(C559)+(ROW()-ROW(C559)-2)*7)=F555,DAY(E555+COLUMN()-COLUMN(C559)+(ROW()-ROW(C559)-2)*7),\"\")","v":4},{"$f":"IF(MONTH(E555+COLUMN()-COLUMN(C559)+(ROW()-ROW(C559)-2)*7)=F555,DAY(E555+COLUMN()-COLUMN(C559)+(ROW()-ROW(C559)-2)*7),\"\")","v":5},{"$f":"IF(MONTH(E555+COLUMN()-COLUMN(C559)+(ROW()-ROW(C559)-2)*7)=F555,DAY(E555+COLUMN()-COLUMN(C559)+(ROW()-ROW(C559)-2)*7),\"\")","v":6},{"$f":"IF(MONTH(E555+COLUMN()-COLUMN(C559)+(ROW()-ROW(C559)-2)*7)=F555,DAY(E555+COLUMN()-COLUMN(C559)+(ROW()-ROW(C559)-2)*7),\"\")","v":7},{"$f":"IF(MONTH(E555+COLUMN()-COLUMN(C559)+(ROW()-ROW(C559)-2)*7)=F555,DAY(E555+COLUMN()-COLUMN(C559)+(ROW()-ROW(C559)-2)*7),\"\")","v":8},{"$f":"IF(MONTH(E555+COLUMN()-COLUMN(C559)+(ROW()-ROW(C559)-2)*7)=F555,DAY(E555+COLUMN()-COLUMN(C559)+(ROW()-ROW(C559)-2)*7),\"\")","v":9},{"$f":"IF(MONTH(E555+COLUMN()-COLUMN(C559)+(ROW()-ROW(C559)-2)*7)=F555,DAY(E555+COLUMN()-COLUMN(C559)+(ROW()-ROW(C559)-2)*7),\"\")","v":10}]
[null,{"$f":"IF(C565<>\"\",VLOOKUP(DATE(1900,$F$555,C565),$D$5:$F$370,3),\"\")","v":0},null,{"$f":"IF(D565<>\"\",VLOOKUP(DATE(1900,$F$555,D565),$D$5:$F$370,3),\"\")","v":0},0,0,0,0,0]
[null,{"$f":"IF(C565<>\"\",VLOOKUP(DATE(1900,$F555,C565),$D$5:$E$370,2),\"\")","v":"St Firmin"},null,{"$f":"IF(D565<>\"\",VLOOKUP(DATE(1900,$F555,D565),$D$5:$E$370,2),\"\")","v":"St Wilfrid"},"St Géraud","St Juste","Ste Thérèse d'A.","Ste Edwige","St Baudouin"]
[null,{"$f":"B562+1","v":41},{"$f":"IF(MONTH(E555+COLUMN()-COLUMN(C559)+(ROW()-ROW(C559)-4)*7)=F555,DAY(E555+COLUMN()-COLUMN(C559)+(ROW()-ROW(C559)-4)*7),\"\")","v":11},{"$f":"IF(MONTH(E555+COLUMN()-COLUMN(C559)+(ROW()-ROW(C559)-4)*7)=F555,DAY(E555+COLUMN()-COLUMN(C559)+(ROW()-ROW(C559)-4)*7),\"\")","v":12},{"$f":"IF(MONTH(E555+COLUMN()-COLUMN(C559)+(ROW()-ROW(C559)-4)*7)=F555,DAY(E555+COLUMN()-COLUMN(C559)+(ROW()-ROW(C559)-4)*7),\"\")","v":13},{"$f":"IF(MONTH(E555+COLUMN()-COLUMN(C559)+(ROW()-ROW(C559)-4)*7)=F555,DAY(E555+COLUMN()-COLUMN(C559)+(ROW()-ROW(C559)-4)*7),\"\")","v":14},{"$f":"IF(MONTH(E555+COLUMN()-COLUMN(C559)+(ROW()-ROW(C559)-4)*7)=F555,DAY(E555+COLUMN()-COLUMN(C559)+(ROW()-ROW(C559)-4)*7),\"\")","v":15},{"$f":"IF(MONTH(E555+COLUMN()-COLUMN(C559)+(ROW()-ROW(C559)-4)*7)=F555,DAY(E555+COLUMN()-COLUMN(C559)+(ROW()-ROW(C559)-4)*7),\"\")","v":16},{"$f":"IF(MONTH(E555+COLUMN()-COLUMN(C559)+(ROW()-ROW(C559)-4)*7)=F555,DAY(E555+COLUMN()-COLUMN(C559)+(ROW()-ROW(C559)-4)*7),\"\")","v":17}]
[null,{"$f":"IF(C568<>\"\",VLOOKUP(DATE(1900,$F$555,C568),$D$5:$F$370,3),\"\")","v":0},null,{"$f":"IF(D568<>\"\",VLOOKUP(DATE(1900,$F$555,D568),$D$5:$F$370,3),\"\")","v":0},0,0,0,0,0]
[null,{"$f":"IF(C568<>\"\",VLOOKUP(DATE(1900,$F555,C568),$D$5:$E$370,2),\"\")","v":"St Luc"},null,{"$f":"IF(D568<>\"\",VLOOKUP(DATE(1900,$F555,D568),$D$5:$E$370,2),\"\")","v":"St René"},"Ste Adeline","Ste Céline","Ste Salomé","St Jean de C.","St Florentin"]
[null,{"$f":"B565+1","v":42},{"$f":"IF(MONTH(E555+COLUMN()-COLUMN(C559)+(ROW()-ROW(C559)-6)*7)=F555,DAY(E555+COLUMN()-COLUMN(C559)+(ROW()-ROW(C559)-6)*7),\"\")","v":18},{"$f":"IF(MONTH(E555+COLUMN()-COLUMN(C559)+(ROW()-ROW(C559)-6)*7)=F555,DAY(E555+COLUMN()-COLUMN(C559)+(ROW()-ROW(C559)-6)*7),\"\")","v":19},{"$f":"IF(MONTH(E555+COLUMN()-COLUMN(C559)+(ROW()-ROW(C559)-6)*7)=F555,DAY(E555+COLUMN()-COLUMN(C559)+(ROW()-ROW(C559)-6)*7),\"\")","v":20},{"$f":"IF(MONTH(E555+COLUMN()-COLUMN(C559)+(ROW()-ROW(C559)-6)*7)=F555,DAY(E555+COLUMN()-COLUMN(C559)+(ROW()-ROW(C559)-6)*7),\"\")","v":21},{"$f":"IF(MONTH(E555+COLUMN()-COLUMN(C559)+(ROW()-ROW(C559)-6)*7)=F555,DAY(E555+COLUMN()-COLUMN(C559)+(ROW()-ROW(C559)-6)*7),\"\")","v":22},{"$f":"IF(MONTH(E555+COLUMN()-COLUMN(C559)+(ROW()-ROW(C559)-6)*7)=F555,DAY(E555+COLUMN()-COLUMN(C559)+(ROW()-ROW(C559)-6)*7),\"\")","v":23},{"$f":"IF(MONTH(E555+COLUMN()-COLUMN(C559)+(ROW()-ROW(C559)-6)*7)=F555,DAY(E555+COLUMN()-COLUMN(C559)+(ROW()-ROW(C559)-6)*7),\"\")","v":24}]
[null,{"$f":"IF(C571<>\"\",VLOOKUP(DATE(1900,$F$555,C571),$D$5:$F$370,3),\"\")","v":0},null,{"$f":"IF(D571<>\"\",VLOOKUP(DATE(1900,$F$555,D571),$D$5:$F$370,3),\"\")","v":0},0,0,0,0,0]
[null,{"$f":"IF(C571<>\"\",VLOOKUP(DATE(1900,$F555,C571),$D$5:$E$370,2),\"\")","v":"St Enguerran"},null,{"$f":"IF(D571<>\"\",VLOOKUP(DATE(1900,$F555,D571),$D$5:$E$370,2),\"\")","v":"St Dimitri"},"Ste Emeline","St Simon","St Narcisse","Ste Bienvenue","St Quentin"]
[null,{"$f":"IF(C571=\"\",\"\",IF(B568=H553,1,B568+1))","v":43},{"$f":"IF(MONTH(E555+COLUMN()-COLUMN(C559)+(ROW()-ROW(C559)-8)*7)=F555,DAY(E555+COLUMN()-COLUMN(C559)+(ROW()-ROW(C559)-8)*7),\"\")","v":25},{"$f":"IF(MONTH(E555+COLUMN()-COLUMN(C559)+(ROW()-ROW(C559)-8)*7)=F555,DAY(E555+COLUMN()-COLUMN(C559)+(ROW()-ROW(C559)-8)*7),\"\")","v":26},{"$f":"IF(MONTH(E555+COLUMN()-COLUMN(C559)+(ROW()-ROW(C559)-8)*7)=F555,DAY(E555+COLUMN()-COLUMN(C559)+(ROW()-ROW(C559)-8)*7),\"\")","v":27},{"$f":"IF(MONTH(E555+COLUMN()-COLUMN(C559)+(ROW()-ROW(C559)-8)*7)=F555,DAY(E555+COLUMN()-COLUMN(C559)+(ROW()-ROW(C559)-8)*7),\"\")","v":28},{"$f":"IF(MONTH(E555+COLUMN()-COLUMN(C559)+(ROW()-ROW(C559)-8)*7)=F555,DAY(E555+COLUMN()-COLUMN(C559)+(ROW()-ROW(C559)-8)*7),\"\")","v":29},{"$f":"IF(MONTH(E555+COLUMN()-COLUMN(C559)+(ROW()-ROW(C559)-8)*7)=F555,DAY(E555+COLUMN()-COLUMN(C559)+(ROW()-ROW(C559)-8)*7),\"\")","v":30},{"$f":"IF(MONTH(E555+COLUMN()-COLUMN(C559)+(ROW()-ROW(C559)-8)*7)=F555,DAY(E555+COLUMN()-COLUMN(C559)+(ROW()-ROW(C559)-8)*7),\"\")","v":31}]
[null,{"$f":"IF(C574<>\"\",VLOOKUP(DATE(1900,$F$555,C574),$D$5:$F$370,3),\"\")","v":""},null,{"$f":"IF(D574<>\"\",VLOOKUP(DATE(1900,$F$555,D574),$D$5:$F$370,3),\"\")","v":""},"","","","",""]
[null,{"$f":"IF(C574<>\"\",VLOOKUP(DATE(1900,$F555,C574),$D$5:$E$370,2),\"\")","v":""},null,{"$f":"IF(D574<>\"\",VLOOKUP(DATE(1900,$F555,D574),$D$5:$E$370,2),\"\")","v":""},"","","","",""]
[null,{"$f":"IF(C574=\"\",\"\",IF(B571=H553,1,B571+1))","v":""},{"$f":"IF(MONTH(E555+COLUMN()-COLUMN(C559)+(ROW()-ROW(C559)-10)*7)=F555,DAY(E555+COLUMN()-COLUMN(C559)+(ROW()-ROW(C559)-10)*7),\"\")","v":""},{"$f":"IF(MONTH(E555+COLUMN()-COLUMN(C559)+(ROW()-ROW(C559)-10)*7)=F555,DAY(E555+COLUMN()-COLUMN(C559)+(ROW()-ROW(C559)-10)*7),\"\")","v":""},{"$f":"IF(MONTH(E555+COLUMN()-COLUMN(C559)+(ROW()-ROW(C559)-10)*7)=F555,DAY(E555+COLUMN()-COLUMN(C559)+(ROW()-ROW(C559)-10)*7),\"\")","v":""},{"$f":"IF(MONTH(E555+COLUMN()-COLUMN(C559)+(ROW()-ROW(C559)-10)*7)=F555,DAY(E555+COLUMN()-COLUMN(C559)+(ROW()-ROW(C559)-10)*7),\"\")","v":""},{"$f":"IF(MONTH(E555+COLUMN()-COLUMN(C559)+(ROW()-ROW(C559)-10)*7)=F555,DAY(E555+COLUMN()-COLUMN(C559)+(ROW()-ROW(C559)-10)*7),\"\")","v":""},{"$f":"IF(MONTH(E555+COLUMN()-COLUMN(C559)+(ROW()-ROW(C559)-10)*7)=F555,DAY(E555+COLUMN()-COLUMN(C559)+(ROW()-ROW(C559)-10)*7),\"\")","v":""},{"$f":"IF(MONTH(E555+COLUMN()-COLUMN(C559)+(ROW()-ROW(C559)-10)*7)=F555,DAY(E555+COLUMN()-COLUMN(C559)+(ROW()-ROW(C559)-10)*7),\"\")","v":""}]
[null,{"$f":"B555","v":"2010"},null,null,{"$f":"IF(C574<>\"\",E555+35,IF(I571=\"\",E555+28,E555+35))","v":40483},{"$f":"F555+1","v":11},null,null,{"$f":"TEXT(DATE(B575,F575,1),\"mmmm\")","v":"novembre"}]
[null,null,"Lundi","Mardi","Mercredi","Jeudi","Vendredi","Samedi","Dimanche"]
[null,{"$f":"IF(C579<>\"\",VLOOKUP(DATE(1900,$F$575,C579),$D$5:$F$370,3),\"\")","v":0},null,{"$f":"IF(D579<>\"\",VLOOKUP(DATE(1900,$F$575,D579),$D$5:$F$370,3),\"\")","v":0},0,0,0,0,0]
[null,{"$f":"IF(C579<>\"\",VLOOKUP(DATE(1900,$F575,C579),$D$5:$E$370,2),\"\")","v":"Toussaint"},null,{"$f":"IF(D579<>\"\",VLOOKUP(DATE(1900,$F575,D579),$D$5:$E$370,2),\"\")","v":"Défunts"},"St Hubert","St Charles","Ste Sylvie","Ste Bertille","Ste Carine"]
[null,{"$f":"MAX(B574,B571,B568)+(I574<>\"\")+AND(I571=\"\",C571=\"\")+AND(I571<>\"\",C574=\"\")","v":44},{"$f":"IF(MONTH(E575+COLUMN()-COLUMN(C579)+(ROW()-ROW(C579))*7)=F575,DAY(E575+COLUMN()-COLUMN(C579)+(ROW()-ROW(C579))*7),\"\")","v":1},{"$f":"IF(MONTH(E575+COLUMN()-COLUMN(C579)+(ROW()-ROW(C579))*7)=F575,DAY(E575+COLUMN()-COLUMN(C579)+(ROW()-ROW(C579))*7),\"\")","v":2},{"$f":"IF(MONTH(E575+COLUMN()-COLUMN(C579)+(ROW()-ROW(C579))*7)=F575,DAY(E575+COLUMN()-COLUMN(C579)+(ROW()-ROW(C579))*7),\"\")","v":3},{"$f":"IF(MONTH(E575+COLUMN()-COLUMN(C579)+(ROW()-ROW(C579))*7)=F575,DAY(E575+COLUMN()-COLUMN(C579)+(ROW()-ROW(C579))*7),\"\")","v":4},{"$f":"IF(MONTH(E575+COLUMN()-COLUMN(C579)+(ROW()-ROW(C579))*7)=F575,DAY(E575+COLUMN()-COLUMN(C579)+(ROW()-ROW(C579))*7),\"\")","v":5},{"$f":"IF(MONTH(E575+COLUMN()-COLUMN(C579)+(ROW()-ROW(C579))*7)=F575,DAY(E575+COLUMN()-COLUMN(C579)+(ROW()-ROW(C579))*7),\"\")","v":6},{"$f":"IF(MONTH(E575+COLUMN()-COLUMN(C579)+(ROW()-ROW(C579))*7)=F575,DAY(E575+COLUMN()-COLUMN(C579)+(ROW()-ROW(C579))*7),\"\")","v":7}]
[null,{"$f":"IF(C582<>\"\",VLOOKUP(DATE(1900,$F$575,C582),$D$5:$F$370,3),\"\")","v":0},null,{"$f":"IF(D582<>\"\",VLOOKUP(DATE(1900,$F$575,D582),$D$5:$F$370,3),\"\")","v":0},0,0,0,0,0]
[null,{"$f":"IF(C582<>\"\",VLOOKUP(DATE(1900,$F575,C582),$D$5:$E$370,2),\"\")","v":"St Geoffroy"},null,{"$f":"IF(D582<>\"\",VLOOKUP(DATE(1900,$F575,D582),$D$5:$E$370,2),\"\")","v":"St Théodore"},"St Léon","Armistice 1918","St Christian","St Brice","St Sidoine"]
[null,{"$f":"(B579+1)-(INT(((B579+1)-1)/$N$4))*$N$4","v":45},{"$f":"IF(MONTH(E575+COLUMN()-COLUMN(C579)+(ROW()-ROW(C579)-2)*7)=F575,DAY(E575+COLUMN()-COLUMN(C579)+(ROW()-ROW(C579)-2)*7),\"\")","v":8},{"$f":"IF(MONTH(E575+COLUMN()-COLUMN(C579)+(ROW()-ROW(C579)-2)*7)=F575,DAY(E575+COLUMN()-COLUMN(C579)+(ROW()-ROW(C579)-2)*7),\"\")","v":9},{"$f":"IF(MONTH(E575+COLUMN()-COLUMN(C579)+(ROW()-ROW(C579)-2)*7)=F575,DAY(E575+COLUMN()-COLUMN(C579)+(ROW()-ROW(C579)-2)*7),\"\")","v":10},{"$f":"IF(MONTH(E575+COLUMN()-COLUMN(C579)+(ROW()-ROW(C579)-2)*7)=F575,DAY(E575+COLUMN()-COLUMN(C579)+(ROW()-ROW(C579)-2)*7),\"\")","v":11},{"$f":"IF(MONTH(E575+COLUMN()-COLUMN(C579)+(ROW()-ROW(C579)-2)*7)=F575,DAY(E575+COLUMN()-COLUMN(C579)+(ROW()-ROW(C579)-2)*7),\"\")","v":12},{"$f":"IF(MONTH(E575+COLUMN()-COLUMN(C579)+(ROW()-ROW(C579)-2)*7)=F575,DAY(E575+COLUMN()-COLUMN(C579)+(ROW()-ROW(C579)-2)*7),\"\")","v":13},{"$f":"IF(MONTH(E575+COLUMN()-COLUMN(C579)+(ROW()-ROW(C579)-2)*7)=F575,DAY(E575+COLUMN()-COLUMN(C579)+(ROW()-ROW(C579)-2)*7),\"\")","v":14}]
[null,{"$f":"IF(C585<>\"\",VLOOKUP(DATE(1900,$F$575,C585),$D$5:$F$370,3),\"\")","v":0},null,{"$f":"IF(D585<>\"\",VLOOKUP(DATE(1900,$F$575,D585),$D$5:$F$370,3),\"\")","v":0},0,0,0,0,0]
[null,{"$f":"IF(C585<>\"\",VLOOKUP(DATE(1900,$F575,C585),$D$5:$E$370,2),\"\")","v":"St Albert"},null,{"$f":"IF(D585<>\"\",VLOOKUP(DATE(1900,$F575,D585),$D$5:$E$370,2),\"\")","v":"Ste Marguerite"},"Ste Elisabeth","Ste Aude","St Tanguy","St Edmond","Prés. de Marie"]
[null,{"$f":"B582+1","v":46},{"$f":"IF(MONTH(E575+COLUMN()-COLUMN(C579)+(ROW()-ROW(C579)-4)*7)=F575,DAY(E575+COLUMN()-COLUMN(C579)+(ROW()-ROW(C579)-4)*7),\"\")","v":15},{"$f":"IF(MONTH(E575+COLUMN()-COLUMN(C579)+(ROW()-ROW(C579)-4)*7)=F575,DAY(E575+COLUMN()-COLUMN(C579)+(ROW()-ROW(C579)-4)*7),\"\")","v":16},{"$f":"IF(MONTH(E575+COLUMN()-COLUMN(C579)+(ROW()-ROW(C579)-4)*7)=F575,DAY(E575+COLUMN()-COLUMN(C579)+(ROW()-ROW(C579)-4)*7),\"\")","v":17},{"$f":"IF(MONTH(E575+COLUMN()-COLUMN(C579)+(ROW()-ROW(C579)-4)*7)=F575,DAY(E575+COLUMN()-COLUMN(C579)+(ROW()-ROW(C579)-4)*7),\"\")","v":18},{"$f":"IF(MONTH(E575+COLUMN()-COLUMN(C579)+(ROW()-ROW(C579)-4)*7)=F575,DAY(E575+COLUMN()-COLUMN(C579)+(ROW()-ROW(C579)-4)*7),\"\")","v":19},{"$f":"IF(MONTH(E575+COLUMN()-COLUMN(C579)+(ROW()-ROW(C579)-4)*7)=F575,DAY(E575+COLUMN()-COLUMN(C579)+(ROW()-ROW(C579)-4)*7),\"\")","v":20},{"$f":"IF(MONTH(E575+COLUMN()-COLUMN(C579)+(ROW()-ROW(C579)-4)*7)=F575,DAY(E575+COLUMN()-COLUMN(C579)+(ROW()-ROW(C579)-4)*7),\"\")","v":21}]
[null,{"$f":"IF(C588<>\"\",VLOOKUP(DATE(1900,$F$575,C588),$D$5:$F$370,3),\"\")","v":0},null,{"$f":"IF(D588<>\"\",VLOOKUP(DATE(1900,$F$575,D588),$D$5:$F$370,3),\"\")","v":0},0,0,0,0,0]
[null,{"$f":"IF(C588<>\"\",VLOOKUP(DATE(1900,$F575,C588),$D$5:$E$370,2),\"\")","v":"Ste Cécile"},null,{"$f":"IF(D588<>\"\",VLOOKUP(DATE(1900,$F575,D588),$D$5:$E$370,2),\"\")","v":"St Clément"},"Ste Flora","Ste Catherine L.","Ste Delphine","St Séverin","St Jacques de M."]
[null,{"$f":"B585+1","v":47},{"$f":"IF(MONTH(E575+COLUMN()-COLUMN(C579)+(ROW()-ROW(C579)-6)*7)=F575,DAY(E575+COLUMN()-COLUMN(C579)+(ROW()-ROW(C579)-6)*7),\"\")","v":22},{"$f":"IF(MONTH(E575+COLUMN()-COLUMN(C579)+(ROW()-ROW(C579)-6)*7)=F575,DAY(E575+COLUMN()-COLUMN(C579)+(ROW()-ROW(C579)-6)*7),\"\")","v":23},{"$f":"IF(MONTH(E575+COLUMN()-COLUMN(C579)+(ROW()-ROW(C579)-6)*7)=F575,DAY(E575+COLUMN()-COLUMN(C579)+(ROW()-ROW(C579)-6)*7),\"\")","v":24},{"$f":"IF(MONTH(E575+COLUMN()-COLUMN(C579)+(ROW()-ROW(C579)-6)*7)=F575,DAY(E575+COLUMN()-COLUMN(C579)+(ROW()-ROW(C579)-6)*7),\"\")","v":25},{"$f":"IF(MONTH(E575+COLUMN()-COLUMN(C579)+(ROW()-ROW(C579)-6)*7)=F575,DAY(E575+COLUMN()-COLUMN(C579)+(ROW()-ROW(C579)-6)*7),\"\")","v":26},{"$f":"IF(MONTH(E575+COLUMN()-COLUMN(C579)+(ROW()-ROW(C579)-6)*7)=F575,DAY(E575+COLUMN()-COLUMN(C579)+(ROW()-ROW(C579)-6)*7),\"\")","v":27},{"$f":"IF(MONTH(E575+COLUMN()-COLUMN(C579)+(ROW()-ROW(C579)-6)*7)=F575,DAY(E575+COLUMN()-COLUMN(C579)+(ROW()-ROW(C579)-6)*7),\"\")","v":28}]
[null,{"$f":"IF(C591<>\"\",VLOOKUP(DATE(1900,$F$575,C591),$D$5:$F$370,3),\"\")","v":0},null,{"$f":"IF(D591<>\"\",VLOOKUP(DATE(1900,$F$575,D591),$D$5:$F$370,3),\"\")","v":0},"","","","",""]
[null,{"$f":"IF(C591<>\"\",VLOOKUP(DATE(1900,$F575,C591),$D$5:$E$370,2),\"\")","v":"St Saturnin"},null,{"$f":"IF(D591<>\"\",VLOOKUP(DATE(1900,$F575,D591),$D$5:$E$370,2),\"\")","v":"St André"},"","","","",""]
[null,{"$f":"IF(C591=\"\",\"\",IF(B588=H573,1,B588+1))","v":48},{"$f":"IF(MONTH(E575+COLUMN()-COLUMN(C579)+(ROW()-ROW(C579)-8)*7)=F575,DAY(E575+COLUMN()-COLUMN(C579)+(ROW()-ROW(C579)-8)*7),\"\")","v":29},{"$f":"IF(MONTH(E575+COLUMN()-COLUMN(C579)+(ROW()-ROW(C579)-8)*7)=F575,DAY(E575+COLUMN()-COLUMN(C579)+(ROW()-ROW(C579)-8)*7),\"\")","v":30},{"$f":"IF(MONTH(E575+COLUMN()-COLUMN(C579)+(ROW()-ROW(C579)-8)*7)=F575,DAY(E575+COLUMN()-COLUMN(C579)+(ROW()-ROW(C579)-8)*7),\"\")","v":""},{"$f":"IF(MONTH(E575+COLUMN()-COLUMN(C579)+(ROW()-ROW(C579)-8)*7)=F575,DAY(E575+COLUMN()-COLUMN(C579)+(ROW()-ROW(C579)-8)*7),\"\")","v":""},{"$f":"IF(MONTH(E575+COLUMN()-COLUMN(C579)+(ROW()-ROW(C579)-8)*7)=F575,DAY(E575+COLUMN()-COLUMN(C579)+(ROW()-ROW(C579)-8)*7),\"\")","v":""},{"$f":"IF(MONTH(E575+COLUMN()-COLUMN(C579)+(ROW()-ROW(C579)-8)*7)=F575,DAY(E575+COLUMN()-COLUMN(C579)+(ROW()-ROW(C579)-8)*7),\"\")","v":""},{"$f":"IF(MONTH(E575+COLUMN()-COLUMN(C579)+(ROW()-ROW(C579)-8)*7)=F575,DAY(E575+COLUMN()-COLUMN(C579)+(ROW()-ROW(C579)-8)*7),\"\")","v":""}]
[null,{"$f":"IF(C594<>\"\",VLOOKUP(DATE(1900,$F$575,C594),$D$5:$F$370,3),\"\")","v":""},null,{"$f":"IF(D594<>\"\",VLOOKUP(DATE(1900,$F$575,D594),$D$5:$F$370,3),\"\")","v":""},"","","","",""]
[null,{"$f":"IF(C594<>\"\",VLOOKUP(DATE(1900,$F575,C594),$D$5:$E$370,2),\"\")","v":""},null,{"$f":"IF(D594<>\"\",VLOOKUP(DATE(1900,$F575,D594),$D$5:$E$370,2),\"\")","v":""},"","","","",""]
[null,{"$f":"IF(C594=\"\",\"\",IF(B591=H573,1,B591+1))","v":""},{"$f":"IF(MONTH(E575+COLUMN()-COLUMN(C579)+(ROW()-ROW(C579)-10)*7)=F575,DAY(E575+COLUMN()-COLUMN(C579)+(ROW()-ROW(C579)-10)*7),\"\")","v":""},{"$f":"IF(MONTH(E575+COLUMN()-COLUMN(C579)+(ROW()-ROW(C579)-10)*7)=F575,DAY(E575+COLUMN()-COLUMN(C579)+(ROW()-ROW(C579)-10)*7),\"\")","v":""},{"$f":"IF(MONTH(E575+COLUMN()-COLUMN(C579)+(ROW()-ROW(C579)-10)*7)=F575,DAY(E575+COLUMN()-COLUMN(C579)+(ROW()-ROW(C579)-10)*7),\"\")","v":""},{"$f":"IF(MONTH(E575+COLUMN()-COLUMN(C579)+(ROW()-ROW(C579)-10)*7)=F575,DAY(E575+COLUMN()-COLUMN(C579)+(ROW()-ROW(C579)-10)*7),\"\")","v":""},{"$f":"IF(MONTH(E575+COLUMN()-COLUMN(C579)+(ROW()-ROW(C579)-10)*7)=F575,DAY(E575+COLUMN()-COLUMN(C579)+(ROW()-ROW(C579)-10)*7),\"\")","v":""},{"$f":"IF(MONTH(E575+COLUMN()-COLUMN(C579)+(ROW()-ROW(C579)-10)*7)=F575,DAY(E575+COLUMN()-COLUMN(C579)+(ROW()-ROW(C579)-10)*7),\"\")","v":""},{"$f":"IF(MONTH(E575+COLUMN()-COLUMN(C579)+(ROW()-ROW(C579)-10)*7)=F575,DAY(E575+COLUMN()-COLUMN(C579)+(ROW()-ROW(C579)-10)*7),\"\")","v":""}]
[null,{"$f":"B575","v":"2010"},null,null,{"$f":"IF(C594<>\"\",E575+35,IF(I591=\"\",E575+28,E575+35))","v":40511},{"$f":"F575+1","v":12},null,null,{"$f":"TEXT(DATE(B595,F595,1),\"mmmm\")","v":"décembre"}]
[null,null,"Lundi","Mardi","Mercredi","Jeudi","Vendredi","Samedi","Dimanche"]
[null,{"$f":"IF(C599<>\"\",VLOOKUP(DATE(1900,$F$595,C599),$D$5:$F$370,3),\"\")","v":""},null,{"$f":"IF(D599<>\"\",VLOOKUP(DATE(1900,$F$595,D599),$D$5:$F$370,3),\"\")","v":""},0,0,0,0,0]
[null,{"$f":"IF(C599<>\"\",VLOOKUP(DATE(1900,$F595,C599),$D$5:$E$370,2),\"\")","v":""},null,{"$f":"IF(D599<>\"\",VLOOKUP(DATE(1900,$F595,D599),$D$5:$E$370,2),\"\")","v":""},"Ste Florence","Ste Viviane","St François Xavier","Ste Barbara","St Gérald"]
[null,{"$f":"MAX(B594,B591,B588)+(I594<>\"\")+AND(I591=\"\",C591=\"\")+AND(I591<>\"\",C594=\"\")","v":48},{"$f":"IF(MONTH(E595+COLUMN()-COLUMN(C599)+(ROW()-ROW(C599))*7)=F595,DAY(E595+COLUMN()-COLUMN(C599)+(ROW()-ROW(C599))*7),\"\")","v":""},{"$f":"IF(MONTH(E595+COLUMN()-COLUMN(C599)+(ROW()-ROW(C599))*7)=F595,DAY(E595+COLUMN()-COLUMN(C599)+(ROW()-ROW(C599))*7),\"\")","v":""},{"$f":"IF(MONTH(E595+COLUMN()-COLUMN(C599)+(ROW()-ROW(C599))*7)=F595,DAY(E595+COLUMN()-COLUMN(C599)+(ROW()-ROW(C599))*7),\"\")","v":1},{"$f":"IF(MONTH(E595+COLUMN()-COLUMN(C599)+(ROW()-ROW(C599))*7)=F595,DAY(E595+COLUMN()-COLUMN(C599)+(ROW()-ROW(C599))*7),\"\")","v":2},{"$f":"IF(MONTH(E595+COLUMN()-COLUMN(C599)+(ROW()-ROW(C599))*7)=F595,DAY(E595+COLUMN()-COLUMN(C599)+(ROW()-ROW(C599))*7),\"\")","v":3},{"$f":"IF(MONTH(E595+COLUMN()-COLUMN(C599)+(ROW()-ROW(C599))*7)=F595,DAY(E595+COLUMN()-COLUMN(C599)+(ROW()-ROW(C599))*7),\"\")","v":4},{"$f":"IF(MONTH(E595+COLUMN()-COLUMN(C599)+(ROW()-ROW(C599))*7)=F595,DAY(E595+COLUMN()-COLUMN(C599)+(ROW()-ROW(C599))*7),\"\")","v":5}]
[null,{"$f":"IF(C602<>\"\",VLOOKUP(DATE(1900,$F$595,C602),$D$5:$F$370,3),\"\")","v":0},null,{"$f":"IF(D602<>\"\",VLOOKUP(DATE(1900,$F$595,D602),$D$5:$F$370,3),\"\")","v":0},0,0,0,0,0]
[null,{"$f":"IF(C602<>\"\",VLOOKUP(DATE(1900,$F595,C602),$D$5:$E$370,2),\"\")","v":"St Nicolas"},null,{"$f":"IF(D602<>\"\",VLOOKUP(DATE(1900,$F595,D602),$D$5:$E$370,2),\"\")","v":"St Ambroise"},"Immac. Conception","St P. Fourier","St Romaric","St Daniel","Ste J.-F. Chantal"]
[null,{"$f":"(B599+1)-(INT(((B599+1)-1)/$N$4))*$N$4","v":49},{"$f":"IF(MONTH(E595+COLUMN()-COLUMN(C599)+(ROW()-ROW(C599)-2)*7)=F595,DAY(E595+COLUMN()-COLUMN(C599)+(ROW()-ROW(C599)-2)*7),\"\")","v":6},{"$f":"IF(MONTH(E595+COLUMN()-COLUMN(C599)+(ROW()-ROW(C599)-2)*7)=F595,DAY(E595+COLUMN()-COLUMN(C599)+(ROW()-ROW(C599)-2)*7),\"\")","v":7},{"$f":"IF(MONTH(E595+COLUMN()-COLUMN(C599)+(ROW()-ROW(C599)-2)*7)=F595,DAY(E595+COLUMN()-COLUMN(C599)+(ROW()-ROW(C599)-2)*7),\"\")","v":8},{"$f":"IF(MONTH(E595+COLUMN()-COLUMN(C599)+(ROW()-ROW(C599)-2)*7)=F595,DAY(E595+COLUMN()-COLUMN(C599)+(ROW()-ROW(C599)-2)*7),\"\")","v":9},{"$f":"IF(MONTH(E595+COLUMN()-COLUMN(C599)+(ROW()-ROW(C599)-2)*7)=F595,DAY(E595+COLUMN()-COLUMN(C599)+(ROW()-ROW(C599)-2)*7),\"\")","v":10},{"$f":"IF(MONTH(E595+COLUMN()-COLUMN(C599)+(ROW()-ROW(C599)-2)*7)=F595,DAY(E595+COLUMN()-COLUMN(C599)+(ROW()-ROW(C599)-2)*7),\"\")","v":11},{"$f":"IF(MONTH(E595+COLUMN()-COLUMN(C599)+(ROW()-ROW(C599)-2)*7)=F595,DAY(E595+COLUMN()-COLUMN(C599)+(ROW()-ROW(C599)-2)*7),\"\")","v":12}]
[null,{"$f":"IF(C605<>\"\",VLOOKUP(DATE(1900,$F$595,C605),$D$5:$F$370,3),\"\")","v":0},null,{"$f":"IF(D605<>\"\",VLOOKUP(DATE(1900,$F$595,D605),$D$5:$F$370,3),\"\")","v":0},0,0,0,0,0]
[null,{"$f":"IF(C605<>\"\",VLOOKUP(DATE(1900,$F595,C605),$D$5:$E$370,2),\"\")","v":"Ste Lucie"},null,{"$f":"IF(D605<>\"\",VLOOKUP(DATE(1900,$F595,D605),$D$5:$E$370,2),\"\")","v":"Ste Odile"},"Ste Ninon","Ste Alice","St Judicaël","St Gatien","St Urbain"]
[null,{"$f":"B602+1","v":50},{"$f":"IF(MONTH(E595+COLUMN()-COLUMN(C599)+(ROW()-ROW(C599)-4)*7)=F595,DAY(E595+COLUMN()-COLUMN(C599)+(ROW()-ROW(C599)-4)*7),\"\")","v":13},{"$f":"IF(MONTH(E595+COLUMN()-COLUMN(C599)+(ROW()-ROW(C599)-4)*7)=F595,DAY(E595+COLUMN()-COLUMN(C599)+(ROW()-ROW(C599)-4)*7),\"\")","v":14},{"$f":"IF(MONTH(E595+COLUMN()-COLUMN(C599)+(ROW()-ROW(C599)-4)*7)=F595,DAY(E595+COLUMN()-COLUMN(C599)+(ROW()-ROW(C599)-4)*7),\"\")","v":15},{"$f":"IF(MONTH(E595+COLUMN()-COLUMN(C599)+(ROW()-ROW(C599)-4)*7)=F595,DAY(E595+COLUMN()-COLUMN(C599)+(ROW()-ROW(C599)-4)*7),\"\")","v":16},{"$f":"IF(MONTH(E595+COLUMN()-COLUMN(C599)+(ROW()-ROW(C599)-4)*7)=F595,DAY(E595+COLUMN()-COLUMN(C599)+(ROW()-ROW(C599)-4)*7),\"\")","v":17},{"$f":"IF(MONTH(E595+COLUMN()-COLUMN(C599)+(ROW()-ROW(C599)-4)*7)=F595,DAY(E595+COLUMN()-COLUMN(C599)+(ROW()-ROW(C599)-4)*7),\"\")","v":18},{"$f":"IF(MONTH(E595+COLUMN()-COLUMN(C599)+(ROW()-ROW(C599)-4)*7)=F595,DAY(E595+COLUMN()-COLUMN(C599)+(ROW()-ROW(C599)-4)*7),\"\")","v":19}]
[null,{"$f":"IF(C608<>\"\",VLOOKUP(DATE(1900,$F$595,C608),$D$5:$F$370,3),\"\")","v":0},null,{"$f":"IF(D608<>\"\",VLOOKUP(DATE(1900,$F$595,D608),$D$5:$F$370,3),\"\")","v":0},0,0,0,0,0]
[null,{"$f":"IF(C608<>\"\",VLOOKUP(DATE(1900,$F595,C608),$D$5:$E$370,2),\"\")","v":"St Théophile"},null,{"$f":"IF(D608<>\"\",VLOOKUP(DATE(1900,$F595,D608),$D$5:$E$370,2),\"\")","v":"St Pierre C."},"Ste Franç. Xavière","St Armand","Ste Adèle","Noël","St Etienne"]
[null,{"$f":"B605+1","v":51},{"$f":"IF(MONTH(E595+COLUMN()-COLUMN(C599)+(ROW()-ROW(C599)-6)*7)=F595,DAY(E595+COLUMN()-COLUMN(C599)+(ROW()-ROW(C599)-6)*7),\"\")","v":20},{"$f":"IF(MONTH(E595+COLUMN()-COLUMN(C599)+(ROW()-ROW(C599)-6)*7)=F595,DAY(E595+COLUMN()-COLUMN(C599)+(ROW()-ROW(C599)-6)*7),\"\")","v":21},{"$f":"IF(MONTH(E595+COLUMN()-COLUMN(C599)+(ROW()-ROW(C599)-6)*7)=F595,DAY(E595+COLUMN()-COLUMN(C599)+(ROW()-ROW(C599)-6)*7),\"\")","v":22},{"$f":"IF(MONTH(E595+COLUMN()-COLUMN(C599)+(ROW()-ROW(C599)-6)*7)=F595,DAY(E595+COLUMN()-COLUMN(C599)+(ROW()-ROW(C599)-6)*7),\"\")","v":23},{"$f":"IF(MONTH(E595+COLUMN()-COLUMN(C599)+(ROW()-ROW(C599)-6)*7)=F595,DAY(E595+COLUMN()-COLUMN(C599)+(ROW()-ROW(C599)-6)*7),\"\")","v":24},{"$f":"IF(MONTH(E595+COLUMN()-COLUMN(C599)+(ROW()-ROW(C599)-6)*7)=F595,DAY(E595+COLUMN()-COLUMN(C599)+(ROW()-ROW(C599)-6)*7),\"\")","v":25},{"$f":"IF(MONTH(E595+COLUMN()-COLUMN(C599)+(ROW()-ROW(C599)-6)*7)=F595,DAY(E595+COLUMN()-COLUMN(C599)+(ROW()-ROW(C599)-6)*7),\"\")","v":26}]
[null,{"$f":"IF(C611<>\"\",VLOOKUP(DATE(1900,$F$595,C611),$D$5:$F$370,3),\"\")","v":0},null,{"$f":"IF(D611<>\"\",VLOOKUP(DATE(1900,$F$595,D611),$D$5:$F$370,3),\"\")","v":0},0,0,0,"",""]
[null,{"$f":"IF(C611<>\"\",VLOOKUP(DATE(1900,$F595,C611),$D$5:$E$370,2),\"\")","v":"St Jean"},null,{"$f":"IF(D611<>\"\",VLOOKUP(DATE(1900,$F595,D611),$D$5:$E$370,2),\"\")","v":"Sts Innocents"},"St David","St Roger","St Sylvestre","",""]
[null,{"$f":"IF(C611=\"\",\"\",IF(B608=H593,1,B608+1))","v":52},{"$f":"IF(MONTH(E595+COLUMN()-COLUMN(C599)+(ROW()-ROW(C599)-8)*7)=F595,DAY(E595+COLUMN()-COLUMN(C599)+(ROW()-ROW(C599)-8)*7),\"\")","v":27},{"$f":"IF(MONTH(E595+COLUMN()-COLUMN(C599)+(ROW()-ROW(C599)-8)*7)=F595,DAY(E595+COLUMN()-COLUMN(C599)+(ROW()-ROW(C599)-8)*7),\"\")","v":28},{"$f":"IF(MONTH(E595+COLUMN()-COLUMN(C599)+(ROW()-ROW(C599)-8)*7)=F595,DAY(E595+COLUMN()-COLUMN(C599)+(ROW()-ROW(C599)-8)*7),\"\")","v":29},{"$f":"IF(MONTH(E595+COLUMN()-COLUMN(C599)+(ROW()-ROW(C599)-8)*7)=F595,DAY(E595+COLUMN()-COLUMN(C599)+(ROW()-ROW(C599)-8)*7),\"\")","v":30},{"$f":"IF(MONTH(E595+COLUMN()-COLUMN(C599)+(ROW()-ROW(C599)-8)*7)=F595,DAY(E595+COLUMN()-COLUMN(C599)+(ROW()-ROW(C599)-8)*7),\"\")","v":31},{"$f":"IF(MONTH(E595+COLUMN()-COLUMN(C599)+(ROW()-ROW(C599)-8)*7)=F595,DAY(E595+COLUMN()-COLUMN(C599)+(ROW()-ROW(C599)-8)*7),\"\")","v":""},{"$f":"IF(MONTH(E595+COLUMN()-COLUMN(C599)+(ROW()-ROW(C599)-8)*7)=F595,DAY(E595+COLUMN()-COLUMN(C599)+(ROW()-ROW(C599)-8)*7),\"\")","v":""}]
[null,{"$f":"IF(C614<>\"\",VLOOKUP(DATE(1900,$F$595,C614),$D$5:$F$370,3),\"\")","v":""},null,{"$f":"IF(D614<>\"\",VLOOKUP(DATE(1900,$F$595,D614),$D$5:$F$370,3),\"\")","v":""},"","","","",""]
[null,{"$f":"IF(C614<>\"\",VLOOKUP(DATE(1900,$F595,C614),$D$5:$E$370,2),\"\")","v":""},null,{"$f":"IF(D614<>\"\",VLOOKUP(DATE(1900,$F595,D614),$D$5:$E$370,2),\"\")","v":""},"","","","",""]
[null,{"$f":"IF(C614=\"\",\"\",IF(B611=H593,1,B611+1))","v":""},{"$f":"IF(MONTH(E595+COLUMN()-COLUMN(C599)+(ROW()-ROW(C599)-10)*7)=F595,DAY(E595+COLUMN()-COLUMN(C599)+(ROW()-ROW(C599)-10)*7),\"\")","v":""},{"$f":"IF(MONTH(E595+COLUMN()-COLUMN(C599)+(ROW()-ROW(C599)-10)*7)=F595,DAY(E595+COLUMN()-COLUMN(C599)+(ROW()-ROW(C599)-10)*7),\"\")","v":""},{"$f":"IF(MONTH(E595+COLUMN()-COLUMN(C599)+(ROW()-ROW(C599)-10)*7)=F595,DAY(E595+COLUMN()-COLUMN(C599)+(ROW()-ROW(C599)-10)*7),\"\")","v":""},{"$f":"IF(MONTH(E595+COLUMN()-COLUMN(C599)+(ROW()-ROW(C599)-10)*7)=F595,DAY(E595+COLUMN()-COLUMN(C599)+(ROW()-ROW(C599)-10)*7),\"\")","v":""},{"$f":"IF(MONTH(E595+COLUMN()-COLUMN(C599)+(ROW()-ROW(C599)-10)*7)=F595,DAY(E595+COLUMN()-COLUMN(C599)+(ROW()-ROW(C599)-10)*7),\"\")","v":""},{"$f":"IF(MONTH(E595+COLUMN()-COLUMN(C599)+(ROW()-ROW(C599)-10)*7)=F595,DAY(E595+COLUMN()-COLUMN(C599)+(ROW()-ROW(C599)-10)*7),\"\")","v":""},{"$f":"IF(MONTH(E595+COLUMN()-COLUMN(C599)+(ROW()-ROW(C599)-10)*7)=F595,DAY(E595+COLUMN()-COLUMN(C599)+(ROW()-ROW(C599)-10)*7),\"\")","v":""}]

{"sheet":"Feuil6","index":17,"n_rows":58,"n_cols":16,"rows_kept":58,"cut":false,"hidden":false,"merged":[[57,1,60,2],[57,4,60,6],[8,0,9,0],[53,8,54,8],[53,9,54,9],[0,0,0,15],[6,1,6,2],[6,3,6,5],[8,6,8,7],[53,2,54,2],[53,3,54,3],[53,4,54,4],[53,5,54,5],[53,6,54,6],[53,7,54,7],[53,14,54,14],[53,15,54,15],[53,10,54,10],[53,11,54,11],[53,12,54,12],[53,13,54,13]]}
["NOTE DE FRAIS"]
[]
["NOM","GERMAIN"]
[]
["PRENOM","Alain"]
[]
["SEMAINE"," Du ",null,"Au"]
[]
["DATE","LIEU","KMS","GASOIL","PEAGES","PARKING","REPAS",null,"HOTEL","FOURN","TELEPH","AFFRAN","PHOTOC","ENTRET","DIVERS","TOTAL"]
[null,null,null,null,null,null,"MIDI","SOIR",null,"BUREAU",null,null,null,"VEHIC"]
["JOUR"]
["2011-04-22",{"$f":"IF($A12=\"\",\"\",DGET('Suiv Contr '!$G$12:$AT$1003,'Suiv Contr '!$N$12,$A11:$A12))","v":"Champagnole"},{"$f":"IF($A12=\"\",\"\",DGET('Suiv Contr '!$G$12:$AT$1003,'Suiv Contr '!$AE$12,$A11:$A12))","v":0},{"$f":"IF($A12=\"\",\"\",DGET('Suiv Contr '!$G$12:$AT$1003,'Suiv Contr '!$AH$12,$A11:$A12))","v":0},{"$f":"IF($A12=\"\",\"\",DGET('Suiv Contr '!$G$12:$AT$1003,'Suiv Contr '!$AI$12,$A11:$A12))","v":0},{"$f":"IF($A12=\"\",\"\",DGET('Suiv Contr '!$G$12:$AT$1003,'Suiv Contr '!$AJ$12,$A11:$A12))","v":0},{"$f":"IF($A12=\"\",\"\",DGET('Suiv Contr '!$G$12:$AT$1003,'Suiv Contr '!$AK$12,$A11:$A12))","v":19.100000000000001},{"$f":"IF($A12=\"\",\"\",DGET('Suiv Contr '!$G$12:$AT$1003,'Suiv Contr '!$AL$12,$A11:$A12))","v":0},{"$f":"IF($A12=\"\",\"\",DGET('Suiv Contr '!$G$12:$AT$1003,'Suiv Contr '!$AM$12,$A11:$A12))","v":0},{"$f":"IF($A12=\"\",\"\",DGET('Suiv Contr '!$G$12:$AT$1003,'Suiv Contr '!$AN$12,$A11:$A12))","v":0},{"$f":"IF($A12=\"\",\"\",DGET('Suiv Contr '!$G$12:$AT$1003,'Suiv Contr '!$AO$12,$A11:$A12))","v":0},{"$f":"IF($A12=\"\",\"\",DGET('Suiv Contr '!$G$12:$AT$1003,'Suiv Contr '!$AP$12,$A11:$A12))","v":0},{"$f":"IF($A12=\"\",\"\",DGET('Suiv Contr '!$G$12:$AT$1003,'Suiv Contr '!$AQ$12,$A11:$A12))","v":0},{"$f":"IF($A12=\"\",\"\",DGET('Suiv Contr '!$G$12:$AT$1003,'Suiv Contr '!$AR$12,$A11:$A12))","v":0},{"$f":"IF($A12=\"\",\"\",DGET('Suiv Contr '!$G$12:$AT$1003,'Suiv Contr '!$AS$12,$A11:$A12))","v":0}]
[]
["JOUR"]
["2011-04-22",{"$f":"IF($A15=\"\",\"\",DGET('Suiv Contr '!$G$12:$AT$1003,'Suiv Contr '!$N$12,$A14:$A15))","v":"Champagnole"},{"$f":"IF($A15=\"\",\"\",DGET('Suiv Contr '!$G$12:$AT$1003,'Suiv Contr '!$AE$12,$A14:$A15))","v":0},{"$f":"IF($A15=\"\",\"\",DGET('Suiv Contr '!$G$12:$AT$1003,'Suiv Contr '!$AH$12,$A14:$A15))","v":0},{"$f":"IF($A15=\"\",\"\",DGET('Suiv Contr '!$G$12:$AT$1003,'Suiv Contr '!$AI$12,$A14:$A15))","v":0},{"$f":"IF($A15=\"\",\"\",DGET('Suiv Contr '!$G$12:$AT$1003,'Suiv Contr '!$AJ$12,$A14:$A15))","v":0},{"$f":"IF($A15=\"\",\"\",DGET('Suiv Contr '!$G$12:$AT$1003,'Suiv Contr '!$AK$12,$A14:$A15))","v":19.100000000000001},{"$f":"IF($A15=\"\",\"\",DGET('Suiv Contr '!$G$12:$AT$1003,'Suiv Contr '!$AL$12,$A14:$A15))","v":0},{"$f":"IF($A15=\"\",\"\",DGET('Suiv Contr '!$G$12:$AT$1003,'Suiv Contr '!$AM$12,$A14:$A15))","v":0},{"$f":"IF($A15=\"\",\"\",DGET('Suiv Contr '!$G$12:$AT$1003,'Suiv Contr '!$AN$12,$A14:$A15))","v":0},{"$f":"IF($A15=\"\",\"\",DGET('Suiv Contr '!$G$12:$AT$1003,'Suiv Contr '!$AO$12,$A14:$A15))","v":0},{"$f":"IF($A15=\"\",\"\",DGET('Suiv Contr '!$G$12:$AT$1003,'Suiv Contr '!$AP$12,$A14:$A15))","v":0},{"$f":"IF($A15=\"\",\"\",DGET('Suiv Contr '!$G$12:$AT$1003,'Suiv Contr '!$AQ$12,$A14:$A15))","v":0},{"$f":"IF($A15=\"\",\"\",DGET('Suiv Contr '!$G$12:$AT$1003,'Suiv Contr '!$AR$12,$A14:$A15))","v":0},{"$f":"IF($A15=\"\",\"\",DGET('Suiv Contr '!$G$12:$AT$1003,'Suiv Contr '!$AS$12,$A14:$A15))","v":0}]
[]
["JOUR"]
["2011-04-22",{"$f":"IF($A18=\"\",\"\",DGET('Suiv Contr '!$G$12:$AT$1003,'Suiv Contr '!$N$12,$A17:$A18))","v":"Champagnole"},{"$f":"IF($A18=\"\",\"\",DGET('Suiv Contr '!$G$12:$AT$1003,'Suiv Contr '!$AE$12,$A17:$A18))","v":0},{"$f":"IF($A18=\"\",\"\",DGET('Suiv Contr '!$G$12:$AT$1003,'Suiv Contr '!$AH$12,$A17:$A18))","v":0},{"$f":"IF($A18=\"\",\"\",DGET('Suiv Contr '!$G$12:$AT$1003,'Suiv Contr '!$AI$12,$A17:$A18))","v":0},{"$f":"IF($A18=\"\",\"\",DGET('Suiv Contr '!$G$12:$AT$1003,'Suiv Contr '!$AJ$12,$A17:$A18))","v":0},{"$f":"IF($A18=\"\",\"\",DGET('Suiv Contr '!$G$12:$AT$1003,'Suiv Contr '!$AK$12,$A17:$A18))","v":19.100000000000001},{"$f":"IF($A18=\"\",\"\",DGET('Suiv Contr '!$G$12:$AT$1003,'Suiv Contr '!$AL$12,$A17:$A18))","v":0},{"$f":"IF($A18=\"\",\"\",DGET('Suiv Contr '!$G$12:$AT$1003,'Suiv Contr '!$AM$12,$A17:$A18))","v":0},{"$f":"IF($A18=\"\",\"\",DGET('Suiv Contr '!$G$12:$AT$1003,'Suiv Contr '!$AN$12,$A17:$A18))","v":0},{"$f":"IF($A18=\"\",\"\",DGET('Suiv Contr '!$G$12:$AT$1003,'Suiv Contr '!$AO$12,$A17:$A18))","v":0},{"$f":"IF($A18=\"\",\"\",DGET('Suiv Contr '!$G$12:$AT$1003,'Suiv Contr '!$AP$12,$A17:$A18))","v":0},{"$f":"IF($A18=\"\",\"\",DGET('Suiv Contr '!$G$12:$AT$1003,'Suiv Contr '!$AQ$12,$A17:$A18))","v":0},{"$f":"IF($A18=\"\",\"\",DGET('Suiv Contr '!$G$12:$AT$1003,'Suiv Contr '!$AR$12,$A17:$A18))","v":0},{"$f":"IF($A18=\"\",\"\",DGET('Suiv Contr '!$G$12:$AT$1003,'Suiv Contr '!$AS$12,$A17:$A18))","v":0}]
[]
["JOUR"]
["2011-04-22",{"$f":"IF($A21=\"\",\"\",DGET('Suiv Contr '!$G$12:$AT$1003,'Suiv Contr '!$N$12,$A20:$A21))","v":"Champagnole"},{"$f":"IF($A21=\"\",\"\",DGET('Suiv Contr '!$G$12:$AT$1003,'Suiv Contr '!$AE$12,$A20:$A21))","v":0},{"$f":"IF($A21=\"\",\"\",DGET('Suiv Contr '!$G$12:$AT$1003,'Suiv Contr '!$AH$12,$A20:$A21))","v":0},{"$f":"IF($A21=\"\",\"\",DGET('Suiv Contr '!$G$12:$AT$1003,'Suiv Contr '!$AI$12,$A20:$A21))","v":0},{"$f":"IF($A21=\"\",\"\",DGET('Suiv Contr '!$G$12:$AT$1003,'Suiv Contr '!$AJ$12,$A20:$A21))","v":0},{"$f":"IF($A21=\"\",\"\",DGET('Suiv Contr '!$G$12:$AT$1003,'Suiv Contr '!$AK$12,$A20:$A21))","v":19.100000000000001},{"$f":"IF($A21=\"\",\"\",DGET('Suiv Contr '!$G$12:$AT$1003,'Suiv Contr '!$AL$12,$A20:$A21))","v":0},{"$f":"IF($A21=\"\",\"\",DGET('Suiv Contr '!$G$12:$AT$1003,'Suiv Contr '!$AM$12,$A20:$A21))","v":0},{"$f":"IF($A21=\"\",\"\",DGET('Suiv Contr '!$G$12:$AT$1003,'Suiv Contr '!$AN$12,$A20:$A21))","v":0},{"$f":"IF($A21=\"\",\"\",DGET('Suiv Contr '!$G$12:$AT$1003,'Suiv Contr '!$AO$12,$A20:$A21))","v":0},{"$f":"IF($A21=\"\",\"\",DGET('Suiv Contr '!$G$12:$AT$1003,'Suiv Contr '!$AP$12,$A20:$A21))","v":0},{"$f":"IF($A21=\"\",\"\",DGET('Suiv Contr '!$G$12:$AT$1003,'Suiv Contr '!$AQ$12,$A20:$A21))","v":0},{"$f":"IF($A21=\"\",\"\",DGET('Suiv Contr '!$G$12:$AT$1003,'Suiv Contr '!$AR$12,$A20:$A21))","v":0},{"$f":"IF($A21=\"\",\"\",DGET('Suiv Contr '!$G$12:$AT$1003,'Suiv Contr '!$AS$12,$A20:$A21))","v":0}]
[]
["JOUR"]
["2011-04-22",{"$f":"IF($A24=\"\",\"\",DGET('Suiv Contr '!$G$12:$AT$1003,'Suiv Contr '!$N$12,$A23:$A24))","v":"Champagnole"},{"$f":"IF($A24=\"\",\"\",DGET('Suiv Contr '!$G$12:$AT$1003,'Suiv Contr '!$AE$12,$A23:$A24))","v":0},{"$f":"IF($A24=\"\",\"\",DGET('Suiv Contr '!$G$12:$AT$1003,'Suiv Contr '!$AH$12,$A23:$A24))","v":0},{"$f":"IF($A24=\"\",\"\",DGET('Suiv Contr '!$G$12:$AT$1003,'Suiv Contr '!$AI$12,$A23:$A24))","v":0},{"$f":"IF($A24=\"\",\"\",DGET('Suiv Contr '!$G$12:$AT$1003,'Suiv Contr '!$AJ$12,$A23:$A24))","v":0},{"$f":"IF($A24=\"\",\"\",DGET('Suiv Contr '!$G$12:$AT$1003,'Suiv Contr '!$AK$12,$A23:$A24))","v":19.100000000000001},{"$f":"IF($A24=\"\",\"\",DGET('Suiv Contr '!$G$12:$AT$1003,'Suiv Contr '!$AL$12,$A23:$A24))","v":0},{"$f":"IF($A24=\"\",\"\",DGET('Suiv Contr '!$G$12:$AT$1003,'Suiv Contr '!$AM$12,$A23:$A24))","v":0},{"$f":"IF($A24=\"\",\"\",DGET('Suiv Contr '!$G$12:$AT$1003,'Suiv Contr '!$AN$12,$A23:$A24))","v":0},{"$f":"IF($A24=\"\",\"\",DGET('Suiv Contr '!$G$12:$AT$1003,'Suiv Contr '!$AO$12,$A23:$A24))","v":0},{"$f":"IF($A24=\"\",\"\",DGET('Suiv Contr '!$G$12:$AT$1003,'Suiv Contr '!$AP$12,$A23:$A24))","v":0},{"$f":"IF($A24=\"\",\"\",DGET('Suiv Contr '!$G$12:$AT$1003,'Suiv Contr '!$AQ$12,$A23:$A24))","v":0},{"$f":"IF($A24=\"\",\"\",DGET('Suiv Contr '!$G$12:$AT$1003,'Suiv Contr '!$AR$12,$A23:$A24))","v":0},{"$f":"IF($A24=\"\",\"\",DGET('Suiv Contr '!$G$12:$AT$1003,'Suiv Contr '!$AS$12,$A23:$A24))","v":0}]
[]
["JOUR"]
["2011-04-22",{"$f":"IF($A27=\"\",\"\",DGET('Suiv Contr '!$G$12:$AT$1003,'Suiv Contr '!$N$12,$A26:$A27))","v":"Champagnole"},{"$f":"IF($A27=\"\",\"\",DGET('Suiv Contr '!$G$12:$AT$1003,'Suiv Contr '!$AE$12,$A26:$A27))","v":0},{"$f":"IF($A27=\"\",\"\",DGET('Suiv Contr '!$G$12:$AT$1003,'Suiv Contr '!$AH$12,$A26:$A27))","v":0},{"$f":"IF($A27=\"\",\"\",DGET('Suiv Contr '!$G$12:$AT$1003,'Suiv Contr '!$AI$12,$A26:$A27))","v":0},{"$f":"IF($A27=\"\",\"\",DGET('Suiv Contr '!$G$12:$AT$1003,'Suiv Contr '!$AJ$12,$A26:$A27))","v":0},{"$f":"IF($A27=\"\",\"\",DGET('Suiv Contr '!$G$12:$AT$1003,'Suiv Contr '!$AK$12,$A26:$A27))","v":19.100000000000001},{"$f":"IF($A27=\"\",\"\",DGET('Suiv Contr '!$G$12:$AT$1003,'Suiv Contr '!$AL$12,$A26:$A27))","v":0},{"$f":"IF($A27=\"\",\"\",DGET('Suiv Contr '!$G$12:$AT$1003,'Suiv Contr '!$AM$12,$A26:$A27))","v":0},{"$f":"IF($A27=\"\",\"\",DGET('Suiv Contr '!$G$12:$AT$1003,'Suiv Contr '!$AN$12,$A26:$A27))","v":0},{"$f":"IF($A27=\"\",\"\",DGET('Suiv Contr '!$G$12:$AT$1003,'Suiv Contr '!$AO$12,$A26:$A27))","v":0},{"$f":"IF($A27=\"\",\"\",DGET('Suiv Contr '!$G$12:$AT$1003,'Suiv Contr '!$AP$12,$A26:$A27))","v":0},{"$f":"IF($A27=\"\",\"\",DGET('Suiv Contr '!$G$12:$AT$1003,'Suiv Contr '!$AQ$12,$A26:$A27))","v":0},{"$f":"IF($A27=\"\",\"\",DGET('Suiv Contr '!$G$12:$AT$1003,'Suiv Contr '!$AR$12,$A26:$A27))","v":0},{"$f":"IF($A27=\"\",\"\",DGET('Suiv Contr '!$G$12:$AT$1003,'Suiv Contr '!$AS$12,$A26:$A27))","v":0}]
[]
["JOUR"]
["2011-04-22",{"$f":"IF($A30=\"\",\"\",DGET('Suiv Contr '!$G$12:$AT$1003,'Suiv Contr '!$N$12,$A29:$A30))","v":"Champagnole"},{"$f":"IF($A30=\"\",\"\",DGET('Suiv Contr '!$G$12:$AT$1003,'Suiv Contr '!$AE$12,$A29:$A30))","v":0},{"$f":"IF($A30=\"\",\"\",DGET('Suiv Contr '!$G$12:$AT$1003,'Suiv Contr '!$AH$12,$A29:$A30))","v":0},{"$f":"IF($A30=\"\",\"\",DGET('Suiv Contr '!$G$12:$AT$1003,'Suiv Contr '!$AI$12,$A29:$A30))","v":0},{"$f":"IF($A30=\"\",\"\",DGET('Suiv Contr '!$G$12:$AT$1003,'Suiv Contr '!$AJ$12,$A29:$A30))","v":0},{"$f":"IF($A30=\"\",\"\",DGET('Suiv Contr '!$G$12:$AT$1003,'Suiv Contr '!$AK$12,$A29:$A30))","v":19.100000000000001},{"$f":"IF($A30=\"\",\"\",DGET('Suiv Contr '!$G$12:$AT$1003,'Suiv Contr '!$AL$12,$A29:$A30))","v":0},{"$f":"IF($A30=\"\",\"\",DGET('Suiv Contr '!$G$12:$AT$1003,'Suiv Contr '!$AM$12,$A29:$A30))","v":0},{"$f":"IF($A30=\"\",\"\",DGET('Suiv Contr '!$G$12:$AT$1003,'Suiv Contr '!$AN$12,$A29:$A30))","v":0},{"$f":"IF($A30=\"\",\"\",DGET('Suiv Contr '!$G$12:$AT$1003,'Suiv Contr '!$AO$12,$A29:$A30))","v":0},{"$f":"IF($A30=\"\",\"\",DGET('Suiv Contr '!$G$12:$AT$1003,'Suiv Contr '!$AP$12,$A29:$A30))","v":0},{"$f":"IF($A30=\"\",\"\",DGET('Suiv Contr '!$G$12:$AT$1003,'Suiv Contr '!$AQ$12,$A29:$A30))","v":0},{"$f":"IF($A30=\"\",\"\",DGET('Suiv Contr '!$G$12:$AT$1003,'Suiv Contr '!$AR$12,$A29:$A30))","v":0},{"$f":"IF($A30=\"\",\"\",DGET('Suiv Contr '!$G$12:$AT$1003,'Suiv Contr '!$AS$12,$A29:$A30))","v":0}]
[]
["JOUR"]
["2011-04-22",{"$f":"IF($A33=\"\",\"\",DGET('Suiv Contr '!$G$12:$AT$1003,'Suiv Contr '!$N$12,$A32:$A33))","v":"Champagnole"},{"$f":"IF($A33=\"\",\"\",DGET('Suiv Contr '!$G$12:$AT$1003,'Suiv Contr '!$AE$12,$A32:$A33))","v":0},{"$f":"IF($A33=\"\",\"\",DGET('Suiv Contr '!$G$12:$AT$1003,'Suiv Contr '!$AH$12,$A32:$A33))","v":0},{"$f":"IF($A33=\"\",\"\",DGET('Suiv Contr '!$G$12:$AT$1003,'Suiv Contr '!$AI$12,$A32:$A33))","v":0},{"$f":"IF($A33=\"\",\"\",DGET('Suiv Contr '!$G$12:$AT$1003,'Suiv Contr '!$AJ$12,$A32:$A33))","v":0},{"$f":"IF($A33=\"\",\"\",DGET('Suiv Contr '!$G$12:$AT$1003,'Suiv Contr '!$AK$12,$A32:$A33))","v":19.100000000000001},{"$f":"IF($A33=\"\",\"\",DGET('Suiv Contr '!$G$12:$AT$1003,'Suiv Contr '!$AL$12,$A32:$A33))","v":0},{"$f":"IF($A33=\"\",\"\",DGET('Suiv Contr '!$G$12:$AT$1003,'Suiv Contr '!$AM$12,$A32:$A33))","v":0},{"$f":"IF($A33=\"\",\"\",DGET('Suiv Contr '!$G$12:$AT$1003,'Suiv Contr '!$AN$12,$A32:$A33))","v":0},{"$f":"IF($A33=\"\",\"\",DGET('Suiv Contr '!$G$12:$AT$1003,'Suiv Contr '!$AO$12,$A32:$A33))","v":0},{"$f":"IF($A33=\"\",\"\",DGET('Suiv Contr '!$G$12:$AT$1003,'Suiv Contr '!$AP$12,$A32:$A33))","v":0},{"$f":"IF($A33=\"\",\"\",DGET('Suiv Contr '!$G$12:$AT$1003,'Suiv Contr '!$AQ$12,$A32:$A33))","v":0},{"$f":"IF($A33=\"\",\"\",DGET('Suiv Contr '!$G$12:$AT$1003,'Suiv Contr '!$AR$12,$A32:$A33))","v":0},{"$f":"IF($A33=\"\",\"\",DGET('Suiv Contr '!$G$12:$AT$1003,'Suiv Contr '!$AS$12,$A32:$A33))","v":0}]
[]
["JOUR"]
["2011-04-22",{"$f":"IF($A36=\"\",\"\",DGET('Suiv Contr '!$G$12:$AT$1003,'Suiv Contr '!$N$12,$A35:$A36))","v":"Champagnole"},{"$f":"IF($A36=\"\",\"\",DGET('Suiv Contr '!$G$12:$AT$1003,'Suiv Contr '!$AE$12,$A35:$A36))","v":0},{"$f":"IF($A36=\"\",\"\",DGET('Suiv Contr '!$G$12:$AT$1003,'Suiv Contr '!$AH$12,$A35:$A36))","v":0},{"$f":"IF($A36=\"\",\"\",DGET('Suiv Contr '!$G$12:$AT$1003,'Suiv Contr '!$AI$12,$A35:$A36))","v":0},{"$f":"IF($A36=\"\",\"\",DGET('Suiv Contr '!$G$12:$AT$1003,'Suiv Contr '!$AJ$12,$A35:$A36))","v":0},{"$f":"IF($A36=\"\",\"\",DGET('Suiv Contr '!$G$12:$AT$1003,'Suiv Contr '!$AK$12,$A35:$A36))","v":19.100000000000001},{"$f":"IF($A36=\"\",\"\",DGET('Suiv Contr '!$G$12:$AT$1003,'Suiv Contr '!$AL$12,$A35:$A36))","v":0},{"$f":"IF($A36=\"\",\"\",DGET('Suiv Contr '!$G$12:$AT$1003,'Suiv Contr '!$AM$12,$A35:$A36))","v":0},{"$f":"IF($A36=\"\",\"\",DGET('Suiv Contr '!$G$12:$AT$1003,'Suiv Contr '!$AN$12,$A35:$A36))","v":0},{"$f":"IF($A36=\"\",\"\",DGET('Suiv Contr '!$G$12:$AT$1003,'Suiv Contr '!$AO$12,$A35:$A36))","v":0},{"$f":"IF($A36=\"\",\"\",DGET('Suiv Contr '!$G$12:$AT$1003,'Suiv Contr '!$AP$12,$A35:$A36))","v":0},{"$f":"IF($A36=\"\",\"\",DGET('Suiv Contr '!$G$12:$AT$1003,'Suiv Contr '!$AQ$12,$A35:$A36))","v":0},{"$f":"IF($A36=\"\",\"\",DGET('Suiv Contr '!$G$12:$AT$1003,'Suiv Contr '!$AR$12,$A35:$A36))","v":0},{"$f":"IF($A36=\"\",\"\",DGET('Suiv Contr '!$G$12:$AT$1003,'Suiv Contr '!$AS$12,$A35:$A36))","v":0}]
[]
["JOUR"]
["2011-04-22",{"$f":"IF($A39=\"\",\"\",DGET('Suiv Contr '!$G$12:$AT$1003,'Suiv Contr '!$N$12,$A38:$A39))","v":"Champagnole"},{"$f":"IF($A39=\"\",\"\",DGET('Suiv Contr '!$G$12:$AT$1003,'Suiv Contr '!$AE$12,$A38:$A39))","v":0},{"$f":"IF($A39=\"\",\"\",DGET('Suiv Contr '!$G$12:$AT$1003,'Suiv Contr '!$AH$12,$A38:$A39))","v":0},{"$f":"IF($A39=\"\",\"\",DGET('Suiv Contr '!$G$12:$AT$1003,'Suiv Contr '!$AI$12,$A38:$A39))","v":0},{"$f":"IF($A39=\"\",\"\",DGET('Suiv Contr '!$G$12:$AT$1003,'Suiv Contr '!$AJ$12,$A38:$A39))","v":0},{"$f":"IF($A39=\"\",\"\",DGET('Suiv Contr '!$G$12:$AT$1003,'Suiv Contr '!$AK$12,$A38:$A39))","v":19.100000000000001},{"$f":"IF($A39=\"\",\"\",DGET('Suiv Contr '!$G$12:$AT$1003,'Suiv Contr '!$AL$12,$A38:$A39))","v":0},{"$f":"IF($A39=\"\",\"\",DGET('Suiv Contr '!$G$12:$AT$1003,'Suiv Contr '!$AM$12,$A38:$A39))","v":0},{"$f":"IF($A39=\"\",\"\",DGET('Suiv Contr '!$G$12:$AT$1003,'Suiv Contr '!$AN$12,$A38:$A39))","v":0},{"$f":"IF($A39=\"\",\"\",DGET('Suiv Contr '!$G$12:$AT$1003,'Suiv Contr '!$AO$12,$A38:$A39))","v":0},{"$f":"IF($A39=\"\",\"\",DGET('Suiv Contr '!$G$12:$AT$1003,'Suiv Contr '!$AP$12,$A38:$A39))","v":0},{"$f":"IF($A39=\"\",\"\",DGET('Suiv Contr '!$G$12:$AT$1003,'Suiv Contr '!$AQ$12,$A38:$A39))","v":0},{"$f":"IF($A39=\"\",\"\",DGET('Suiv Contr '!$G$12:$AT$1003,'Suiv Contr '!$AR$12,$A38:$A39))","v":0},{"$f":"IF($A39=\"\",\"\",DGET('Suiv Contr '!$G$12:$AT$1003,'Suiv Contr '!$AS$12,$A38:$A39))","v":0}]
[]
["JOUR"]
["2011-04-22",{"$f":"IF($A42=\"\",\"\",DGET('Suiv Contr '!$G$12:$AT$1003,'Suiv Contr '!$N$12,$A41:$A42))","v":"Champagnole"},{"$f":"IF($A42=\"\",\"\",DGET('Suiv Contr '!$G$12:$AT$1003,'Suiv Contr '!$AE$12,$A41:$A42))","v":0},{"$f":"IF($A42=\"\",\"\",DGET('Suiv Contr '!$G$12:$AT$1003,'Suiv Contr '!$AH$12,$A41:$A42))","v":0},{"$f":"IF($A42=\"\",\"\",DGET('Suiv Contr '!$G$12:$AT$1003,'Suiv Contr '!$AI$12,$A41:$A42))","v":0},{"$f":"IF($A42=\"\",\"\",DGET('Suiv Contr '!$G$12:$AT$1003,'Suiv Contr '!$AJ$12,$A41:$A42))","v":0},{"$f":"IF($A42=\"\",\"\",DGET('Suiv Contr '!$G$12:$AT$1003,'Suiv Contr '!$AK$12,$A41:$A42))","v":19.100000000000001},{"$f":"IF($A42=\"\",\"\",DGET('Suiv Contr '!$G$12:$AT$1003,'Suiv Contr '!$AL$12,$A41:$A42))","v":0},{"$f":"IF($A42=\"\",\"\",DGET('Suiv Contr '!$G$12:$AT$1003,'Suiv Contr '!$AM$12,$A41:$A42))","v":0},{"$f":"IF($A42=\"\",\"\",DGET('Suiv Contr '!$G$12:$AT$1003,'Suiv Contr '!$AN$12,$A41:$A42))","v":0},{"$f":"IF($A42=\"\",\"\",DGET('Suiv Contr '!$G$12:$AT$1003,'Suiv Contr '!$AO$12,$A41:$A42))","v":0},{"$f":"IF($A42=\"\",\"\",DGET('Suiv Contr '!$G$12:$AT$1003,'Suiv Contr '!$AP$12,$A41:$A42))","v":0},{"$f":"IF($A42=\"\",\"\",DGET('Suiv Contr '!$G$12:$AT$1003,'Suiv Contr '!$AQ$12,$A41:$A42))","v":0},{"$f":"IF($A42=\"\",\"\",DGET('Suiv Contr '!$G$12:$AT$1003,'Suiv Contr '!$AR$12,$A41:$A42))","v":0},{"$f":"IF($A42=\"\",\"\",DGET('Suiv Contr '!$G$12:$AT$1003,'Suiv Contr '!$AS$12,$A41:$A42))","v":0}]
[]
["JOUR"]
["2011-04-22",{"$f":"IF($A45=\"\",\"\",DGET('Suiv Contr '!$G$12:$AT$1003,'Suiv Contr '!$N$12,$A44:$A45))","v":"Champagnole"},{"$f":"IF($A45=\"\",\"\",DGET('Suiv Contr '!$G$12:$AT$1003,'Suiv Contr '!$AE$12,$A44:$A45))","v":0},{"$f":"IF($A45=\"\",\"\",DGET('Suiv Contr '!$G$12:$AT$1003,'Suiv Contr '!$AH$12,$A44:$A45))","v":0},{"$f":"IF($A45=\"\",\"\",DGET('Suiv Contr '!$G$12:$AT$1003,'Suiv Contr '!$AI$12,$A44:$A45))","v":0},{"$f":"IF($A45=\"\",\"\",DGET('Suiv Contr '!$G$12:$AT$1003,'Suiv Contr '!$AJ$12,$A44:$A45))","v":0},{"$f":"IF($A45=\"\",\"\",DGET('Suiv Contr '!$G$12:$AT$1003,'Suiv Contr '!$AK$12,$A44:$A45))","v":19.100000000000001},{"$f":"IF($A45=\"\",\"\",DGET('Suiv Contr '!$G$12:$AT$1003,'Suiv Contr '!$AL$12,$A44:$A45))","v":0},{"$f":"IF($A45=\"\",\"\",DGET('Suiv Contr '!$G$12:$AT$1003,'Suiv Contr '!$AM$12,$A44:$A45))","v":0},{"$f":"IF($A45=\"\",\"\",DGET('Suiv Contr '!$G$12:$AT$1003,'Suiv Contr '!$AN$12,$A44:$A45))","v":0},{"$f":"IF($A45=\"\",\"\",DGET('Suiv Contr '!$G$12:$AT$1003,'Suiv Contr '!$AO$12,$A44:$A45))","v":0},{"$f":"IF($A45=\"\",\"\",DGET('Suiv Contr '!$G$12:$AT$1003,'Suiv Contr '!$AP$12,$A44:$A45))","v":0},{"$f":"IF($A45=\"\",\"\",DGET('Suiv Contr '!$G$12:$AT$1003,'Suiv Contr '!$AQ$12,$A44:$A45))","v":0},{"$f":"IF($A45=\"\",\"\",DGET('Suiv Contr '!$G$12:$AT$1003,'Suiv Contr '!$AR$12,$A44:$A45))","v":0},{"$f":"IF($A45=\"\",\"\",DGET('Suiv Contr '!$G$12:$AT$1003,'Suiv Contr '!$AS$12,$A44:$A45))","v":0}]
[]
["JOUR"]
["2011-04-22",{"$f":"IF($A48=\"\",\"\",DGET('Suiv Contr '!$G$12:$AT$1003,'Suiv Contr '!$N$12,$A47:$A48))","v":"Champagnole"},{"$f":"IF($A48=\"\",\"\",DGET('Suiv Contr '!$G$12:$AT$1003,'Suiv Contr '!$AE$12,$A47:$A48))","v":0},{"$f":"IF($A48=\"\",\"\",DGET('Suiv Contr '!$G$12:$AT$1003,'Suiv Contr '!$AH$12,$A47:$A48))","v":0},{"$f":"IF($A48=\"\",\"\",DGET('Suiv Contr '!$G$12:$AT$1003,'Suiv Contr '!$AI$12,$A47:$A48))","v":0},{"$f":"IF($A48=\"\",\"\",DGET('Suiv Contr '!$G$12:$AT$1003,'Suiv Contr '!$AJ$12,$A47:$A48))","v":0},{"$f":"IF($A48=\"\",\"\",DGET('Suiv Contr '!$G$12:$AT$1003,'Suiv Contr '!$AK$12,$A47:$A48))","v":19.100000000000001},{"$f":"IF($A48=\"\",\"\",DGET('Suiv Contr '!$G$12:$AT$1003,'Suiv Contr '!$AL$12,$A47:$A48))","v":0},{"$f":"IF($A48=\"\",\"\",DGET('Suiv Contr '!$G$12:$AT$1003,'Suiv Contr '!$AM$12,$A47:$A48))","v":0},{"$f":"IF($A48=\"\",\"\",DGET('Suiv Contr '!$G$12:$AT$1003,'Suiv Contr '!$AN$12,$A47:$A48))","v":0},{"$f":"IF($A48=\"\",\"\",DGET('Suiv Contr '!$G$12:$AT$1003,'Suiv Contr '!$AO$12,$A47:$A48))","v":0},{"$f":"IF($A48=\"\",\"\",DGET('Suiv Contr '!$G$12:$AT$1003,'Suiv Contr '!$AP$12,$A47:$A48))","v":0},{"$f":"IF($A48=\"\",\"\",DGET('Suiv Contr '!$G$12:$AT$1003,'Suiv Contr '!$AQ$12,$A47:$A48))","v":0},{"$f":"IF($A48=\"\",\"\",DGET('Suiv Contr '!$G$12:$AT$1003,'Suiv Contr '!$AR$12,$A47:$A48))","v":0},{"$f":"IF($A48=\"\",\"\",DGET('Suiv Contr '!$G$12:$AT$1003,'Suiv Contr '!$AS$12,$A47:$A48))","v":0}]
[]
[]
[null,null,"X"]
[null,null,0.48299999999999998]
[null,null,{"$f":"SUM(C12:C49)","v":0}]
[null,null,{"$f":"C52*C53","v":0},{"$f":"SUM(D12:D49)","v":0},0,0,248.29999999999995,0,0,0,0,0,0,0,0,{"$f":"SUM(C54:O54)","v":248.29999999999995}]
[null,"="]
[]
[]
[null,"Visa de l'interressé",null,null,"Visa du chef de service"]

{"sheet":"Feuil2","index":18,"n_rows":18,"n_cols":10,"rows_kept":18,"cut":false,"hidden":false,"merged":[]}
[]
[]
[]
[]
[null,2005,2006,2007,2008,2009,2010,2011,2012,2013]
["janvier",null,90,110,111,108,82,97,84]
["février",34,63,94,113,104,97,89,83]
["mars",122,128,128,106,125,103,94]
["avril",101,121,92,106,91,92,64]
["mai",147,144,114,76,81,81,102]
["juin",133,117,111,134,157,128,111]
["juillet",134,97,118,122,99,129,104]
["août",103,95,93,88,70,113,105]
["septembre",107,112,97,80,85,88,93]
["octobre",76,104,89,91,113,104,86]
["novembre",84,73,79,72,61,81,67]
["décembre",70,59,92,81,72,51,57]
[null,{"$f":"SUM(B7:B17)","v":1111},{"$f":"SUM(C6:C17)","v":1203},1217,1180,1166,1149,1069]

{"sheet":"Recap ","index":19,"n_rows":63,"n_cols":58,"rows_kept":63,"cut":false,"hidden":true,"merged":[[4,42,4,44],[4,33,4,35],[38,25,38,28],[20,1,20,21],[21,1,21,3],[21,4,21,6],[21,7,21,9],[21,10,21,12],[21,13,21,15],[38,4,38,6],[38,19,38,21],[38,10,38,12],[38,1,38,2],[37,1,37,18],[21,51,22,51],[38,7,38,9],[38,16,38,18],[21,19,21,21],[38,13,38,15],[21,16,21,18],[1,0,1,29],[4,1,4,3],[4,4,4,6],[4,24,4,26],[4,27,4,29],[4,10,4,12],[4,16,4,18],[3,1,3,21],[4,19,4,21],[3,24,3,41],[4,7,4,9],[4,13,4,15],[4,39,4,41],[4,30,4,32],[4,36,4,38]]}
[]
[]
[]
[null,"ALAIN",null,null,null,null,null,null,null,null,null,null,null,null,null,null,null,null,null,null,null,null,null,null,"EXTERIEUR"]
[null,2005,null,null,2006,null,null,2007,null,null,2008,null,null,2009,null,null,2010,null,null,2011,null,null,null,null,2005,null,null,2006,null,null,2007,null,null,2008,null,null,2009,null,null,2010,null,null,2011]
[null,"Total","Jours","Moy","Total","Jours","Moy","Total","Jours","Moy","Total","Jours","Moy","Total","Jours","Moy","Total","Jours","Moy","Total","Jours","Moy",null,null,"Total","Jours","Moy","Total","Jours","Moy","Total","Jours","Moy","Total","Jours","Moy","Total","Jours","Moy","Total","Jours","Moy","Total","Jours","Moy"]
["JAN",null,null,null,90,21,{"$f":"IF(E7=\"\",\"\",E7/F7)","v":4.2857142857142856},110,{"$f":"COUNTIF('RDV 07'!F19:F53,\"P\")","v":17},{"$f":"IF(H7=0,\"\",H7/I7)","v":6.4705882352941178},105,16,{"$f":"IF(K7=0,\"\",K7/L7)","v":6.5625},108,16,{"$f":"IF(N7=0,\"\",N7/O7)","v":6.75},82,13,{"$f":"IF(Q7=0,\"\",Q7/R7)","v":6.3076923076923075},{"$f":"'Suivi contrôles '!E4","v":97},{"$f":"DCOUNTA(' Rendez-vous'!A$31:P$459,' Rendez-vous'!F$31,Données1!A3:B3)","v":{"$error":"#VALUE!"}},{"$f":"IF(T7=0,\"\",T7/U7)","v":{"$error":"#VALUE!"}},null,"JAN",null,null,null,90,21,{"$f":"IF(AB7=\"\",\"\",AB7/AC7)","v":4.2857142857142856},{"$f":"#REF!","v":{"$error":"#REF!"}},{"$f":"DCOUNT(#REF!,#REF!,Données1!P9:Q10)","v":{"$error":"#REF!"}},{"$f":"IF(AE7=0,\"\",AE7/AF7)","v":{"$error":"#REF!"}},15,1,{"$f":"IF(AH7=0,\"\",AH7/AI7)","v":15},47,4,{"$f":"IF(AK7=0,\"\",AK7/AL7)","v":11.75},56,6,{"$f":"IF(AN7=0,\"\",AN7/AO7)","v":9.3333333333333339},{"$f":"'Suivi contrôles '!U4","v":30},{"$f":"DCOUNT('Suivi contrôles '!A$18:AP493,'Suivi contrôles '!$U$18,Données1!$P9:$Q10)","v":5},{"$f":"IF(AQ7=0,\"\",AQ7/AR7)","v":6}]
["FEV",34,6,{"$f":"B8/C8","v":5.666666666666667},63,10,6.3,{"$f":"#REF!","v":{"$error":"#REF!"}},{"$f":"COUNTIF('RDV 07'!F55:F86,\"P\")","v":13},{"$error":"#REF!"},113,17,6.6470588235294121,104,11,9.454545454545455,97,16,6.0625,{"$f":"'Suivi contrôles '!E5","v":89},{"$f":"DCOUNTA(' Rendez-vous'!A$31:P$459,' Rendez-vous'!F$31,Données1!A4:B5)","v":10},8.9,null,"FEV",34,6,{"$f":"Y8/Z8","v":5.666666666666667},63,10,6.3,{"$f":"#REF!","v":{"$error":"#REF!"}},{"$f":"DCOUNT(#REF!,#REF!,Données1!P11:Q12)","v":{"$error":"#REF!"}},{"$error":"#REF!"},28,2,14,67,6,11.166666666666666,11,3,{"$f":"IF(AN8=0,\"\",AN8/AO8)","v":3.6666666666666665},{"$f":"'Suivi contrôles '!U5","v":45},{"$f":"DCOUNT('Suivi contrôles '!A$18:AP494,'Suivi contrôles '!$U$18,Données1!$P11:$Q12)","v":8},{"$f":"IF(AQ8=0,\"\",AQ8/AR8)","v":5.625}]
["MARS",122,22,5.5454545454545459,128,21,6.0952380952380949,{"$f":"#REF!","v":{"$error":"#REF!"}},{"$f":"COUNTIF('RDV 07'!F88:F122,\"P\")","v":19},{"$error":"#REF!"},104,15,6.9333333333333336,132,15,8.8000000000000007,103,14,7.3571428571428568,{"$f":"'Suivi contrôles '!E6","v":0},{"$f":"DCOUNTA(' Rendez-vous'!A$31:P$459,' Rendez-vous'!F$31,Données1!A6:B7)","v":6},"",null,"MARS",122,22,5.5454545454545459,128,21,6.0952380952380949,{"$f":"#REF!","v":{"$error":"#REF!"}},{"$f":"DCOUNT(#REF!,#REF!,Données1!P13:Q14)","v":{"$error":"#REF!"}},{"$error":"#REF!"},42,3,14,34,4,8.5,70,8,8.75,{"$f":"'Suivi contrôles '!U6","v":0},{"$f":"DCOUNT('Suivi contrôles '!A$18:AP495,'Suivi contrôles '!$U$18,Données1!$P13:$Q14)","v":0},""]
["AVR",101,21,4.8095238095238093,121,18,6.7222222222222223,{"$f":"#REF!","v":{"$error":"#REF!"}},{"$f":"COUNTIF('RDV 07'!F124:F160,\"P\")","v":10},{"$error":"#REF!"},106,18,5.8888888888888893,91,16,5.6875,86,9,9.5555555555555554,{"$f":"'Suivi contrôles '!E7","v":0},{"$f":"DCOUNTA(' Rendez-vous'!A$31:P$459,' Rendez-vous'!F$31,Données1!A8:B9)","v":0},"",null,"AVR",101,21,4.8095238095238093,121,18,6.7222222222222223,{"$f":"#REF!","v":{"$error":"#REF!"}},{"$f":"DCOUNT(#REF!,#REF!,Données1!P15:Q16)","v":{"$error":"#REF!"}},{"$error":"#REF!"},23,2,11.5,43,5,8.6,21,3,7,{"$f":"'Suivi contrôles '!U7","v":0},{"$f":"DCOUNT('Suivi contrôles '!A$18:AP496,'Suivi contrôles '!$U$18,Données1!$P15:$Q16)","v":0},""]
["MAI",147,21,7,144,20,7.2,{"$f":"(#REF!)-6","v":{"$error":"#REF!"}},{"$f":"COUNTIF('RDV 07'!F161:F194,\"P\")","v":14},{"$error":"#REF!"},66,6,11,60,6,10,63,8,7.875,{"$f":"'Suivi contrôles '!E8","v":0},{"$f":"DCOUNTA(' Rendez-vous'!A$31:P$459,' Rendez-vous'!F$31,Données1!A10:B11)","v":0},"",null,"MAI",147,21,7,144,20,7.2,{"$f":"#REF!","v":{"$error":"#REF!"}},{"$f":"DCOUNT(#REF!,#REF!,Données1!P17:Q18)","v":{"$error":"#REF!"}},{"$error":"#REF!"},28,3,9.3333333333333339,30,3,10,27,5,5.4,{"$f":"'Suivi contrôles '!U8","v":0},{"$f":"DCOUNT('Suivi contrôles '!A$18:AP497,'Suivi contrôles '!$U$18,Données1!$P17:$Q18)","v":0},""]
["JUIN",133,22,6.0454545454545459,117,16,7.3125,{"$f":"(#REF!)-9","v":{"$error":"#REF!"}},{"$f":"COUNTIF('RDV 07'!F196:F229,\"P\")","v":12},{"$f":"IF(H12=0,\"\",H12/I12)","v":{"$error":"#REF!"}},134,16,8.375,144,13,11.076923076923077,128,12,10.666666666666666,{"$f":"'Suivi contrôles '!E9","v":0},{"$f":"DCOUNTA(' Rendez-vous'!A$31:P$459,' Rendez-vous'!F$31,Données1!A12:B13)","v":0},"",null,"JUIN",133,22,6.0454545454545459,117,16,7.3125,{"$f":"#REF!","v":{"$error":"#REF!"}},{"$f":"DCOUNT(#REF!,#REF!,Données1!P19:Q20)","v":{"$error":"#REF!"}},{"$error":"#REF!"},33,3,11,81,7,11.571428571428571,78,9,8.6666666666666661,{"$f":"'Suivi contrôles '!U9","v":0},{"$f":"DCOUNT('Suivi contrôles '!A$18:AP498,'Suivi contrôles '!$U$18,Données1!$P19:$Q20)","v":0},""]
["JUIL",134,20,6.7,97,16,6.0625,{"$f":"(#REF!)-2","v":{"$error":"#REF!"}},{"$f":"COUNTIF('RDV 07'!F231:F266,\"P\")","v":18},{"$error":"#REF!"},122,16,7.625,99,12,8.25,129,15,8.6,{"$f":"'Suivi contrôles '!E10","v":0},{"$f":"DCOUNTA(' Rendez-vous'!A$31:P$459,' Rendez-vous'!F$31,Données1!A14:B15)","v":0},"",null,"JUIL",134,20,6.7,97,16,6.0625,{"$f":"#REF!","v":{"$error":"#REF!"}},{"$f":"DCOUNT(#REF!,#REF!,Données1!P21:Q22)","v":{"$error":"#REF!"}},{"$error":"#REF!"},52,5,10.4,81,8,10.125,54,6,9,{"$f":"'Suivi contrôles '!U10","v":0},{"$f":"DCOUNT('Suivi contrôles '!A$18:AP499,'Suivi contrôles '!$U$18,Données1!$P21:$Q22)","v":0},""]
["AOUT",103,21,4.9047619047619051,95,17,5.5882352941176467,{"$f":"#REF!","v":{"$error":"#REF!"}},{"$f":"COUNTIF('RDV 07'!F268:F302,\"P\")-2","v":16},{"$error":"#REF!"},88,12,7.333333333333333,61,11,5.5454545454545459,109,10,10.9,{"$f":"'Suivi contrôles '!E11","v":0},{"$f":"DCOUNTA(' Rendez-vous'!A$31:P$459,' Rendez-vous'!F$31,Données1!A16:B17)","v":0},"",null,"AOUT",103,21,4.9047619047619051,95,17,5.5882352941176467,{"$f":"#REF!","v":{"$error":"#REF!"}},{"$f":"DCOUNT(#REF!,#REF!,Données1!P23:Q24)","v":{"$error":"#REF!"}},{"$error":"#REF!"},47,7,6.7142857142857144,28,4,7,78,8,9.75,{"$f":"'Suivi contrôles '!U11","v":0},{"$f":"DCOUNT('Suivi contrôles '!A$18:AP500,'Suivi contrôles '!$U$18,Données1!$P23:$Q24)","v":0},""]
["SEPT",107,21,5.0952380952380949,112,18,6.2222222222222223,{"$f":"#REF!","v":{"$error":"#REF!"}},{"$f":"COUNTIF('RDV 07'!F304:F337,\"P\")","v":4},{"$error":"#REF!"},36,7,5.1428571428571432,38,4,9.5,47,4,{"$f":"IF(Q15=0,\"\",Q15/R15)","v":11.75},{"$f":"'Suivi contrôles '!E12","v":0},{"$f":"DCOUNTA(' Rendez-vous'!A$31:P$459,' Rendez-vous'!F$31,Données1!A18:B19)","v":0},{"$f":"IF(T15=0,\"\",T15/U15)","v":""},null,"SEPT",107,21,5.0952380952380949,112,18,6.2222222222222223,{"$f":"#REF!","v":{"$error":"#REF!"}},{"$f":"DCOUNT(#REF!,#REF!,Données1!P25:Q26)","v":{"$error":"#REF!"}},{"$error":"#REF!"},0,0,0,28,3,9.3333333333333339,48,5,{"$f":"IF(AN15=0,\"\",AN15/AO15)","v":9.6},{"$f":"'Suivi contrôles '!U12","v":0},{"$f":"DCOUNT('Suivi contrôles '!A$18:AP501,'Suivi contrôles '!$U$18,Données1!$P25:$Q26)","v":0},{"$f":"IF(AQ15=0,\"\",AQ15/AR15)","v":""}]
["OCT",76,20,3.8,104,22,4.7272727272727275,{"$f":"#REF!","v":{"$error":"#REF!"}},{"$f":"COUNTIF('RDV 07'!F339:F374,\"P\")-4","v":10},{"$error":"#REF!"},91,13,7,109,18,6.0555555555555554,104,15,6.9333333333333336,{"$f":"'Suivi contrôles '!E13","v":0},{"$f":"DCOUNTA(' Rendez-vous'!A$31:P$459,' Rendez-vous'!F$31,Données1!A20:B21)","v":0},{"$f":"IF(T16=0,\"\",T16/U16)","v":""},null,"OCT",76,20,3.8,104,22,4.7272727272727275,{"$f":"#REF!","v":{"$error":"#REF!"}},{"$f":"DCOUNT(#REF!,#REF!,Données1!P27:Q28)","v":{"$error":"#REF!"}},{"$error":"#REF!"},101,10,10.1,18,3,6,54,6,9,{"$f":"'Suivi contrôles '!U13","v":0},{"$f":"DCOUNT('Suivi contrôles '!A$18:AP502,'Suivi contrôles '!$U$18,Données1!$P27:$Q28)","v":0},{"$f":"IF(AQ16=0,\"\",AQ16/AR16)","v":""}]
["NOV",84,17,4.9411764705882355,73,18,4.0555555555555554,79,10,7.9,72,13,5.5384615384615383,61,14,4.3571428571428568,81,10,8.1,{"$f":"'Suivi contrôles '!E14","v":0},{"$f":"DCOUNTA(' Rendez-vous'!A$31:P$459,' Rendez-vous'!F$31,Données1!A22:B23)","v":0},{"$f":"IF(T17=0,\"\",T17/U17)","v":""},null,"NOV",84,17,4.9411764705882355,73,18,4.0555555555555554,95,9,10.555555555555555,44,4,11,50,5,10,78,8,9.75,{"$f":"'Suivi contrôles '!U14","v":0},{"$f":"DCOUNT('Suivi contrôles '!A$18:AP503,'Suivi contrôles '!$U$18,Données1!$P29:$Q30)","v":0},{"$f":"IF(AQ17=0,\"\",AQ17/AR17)","v":""}]
["DEC",70,21,3.3333333333333335,59,15,3.9333333333333331,92,14,6.5714285714285712,74,11,6.7272727272727275,66,10,6.6,51,10,5.0999999999999996,{"$f":"'Suivi contrôles '!E15","v":0},{"$f":"DCOUNTA(' Rendez-vous'!A$31:P$459,' Rendez-vous'!F$31,Données1!A24:B25)","v":0},{"$f":"IF(T18=0,\"\",T18/U18)","v":""},null,"DEC",70,21,3.3333333333333335,59,15,3.9333333333333331,6,1,6,46,4,11.5,71,7,10.142857142857142,54,7,7.7142857142857144,{"$f":"'Suivi contrôles '!U15","v":0},{"$f":"DCOUNT('Suivi contrôles '!A$18:AP504,'Suivi contrôles '!$U$18,Données1!$P31:$Q32)","v":0},{"$f":"IF(AQ18=0,\"\",AQ18/AR18)","v":""}]
[null,{"$f":"SUM(B8:B18)","v":1111},{"$f":"SUM(C8:C18)","v":212},5.2405660377358494,{"$f":"SUM(E7:E18)","v":1203},{"$f":"SUM(F7:F18)","v":212},{"$f":"E19/F19","v":5.6745283018867925},{"$f":"SUM(H7:H18)","v":{"$error":"#REF!"}},{"$f":"SUM(I7:I18)","v":157},{"$f":"IF(H19=\"\",\"\",H19/I19)","v":{"$error":"#REF!"}},{"$f":"SUM(K7:K18)","v":1111},{"$f":"SUM(L7:L18)","v":160},{"$f":"IF(K19=\"\",\"\",K19/L19)","v":6.9437499999999996},{"$f":"SUM(N7:N18)","v":1073},{"$f":"SUM(O7:O18)","v":146},7.3493150684931505,{"$f":"SUM(Q7:Q18)","v":1080},{"$f":"SUM(R7:R18)","v":136},7.9411764705882355,{"$f":"SUM(T7:T18)","v":186},{"$f":"SUM(U7:U18)","v":{"$error":"#VALUE!"}},{"$f":"IF(T19=0,\"\",T19/U19)","v":{"$error":"#VALUE!"}},null,null,{"$f":"SUM(Y8:Y18)","v":1111},{"$f":"SUM(Z8:Z18)","v":212},5.2405660377358494,{"$f":"SUM(AB7:AB18)","v":1203},{"$f":"SUM(AC7:AC18)","v":212},{"$f":"AB19/AC19","v":5.6745283018867925},{"$f":"SUM(AE7:AE18)","v":{"$error":"#REF!"}},{"$f":"SUM(AF7:AF18)","v":{"$error":"#REF!"}},{"$f":"IF(AE19=\"\",\"\",AE19/AF19)","v":{"$error":"#REF!"}},{"$f":"SUM(AH7:AH18)","v":459},{"$f":"SUM(AI7:AI18)","v":44},{"$f":"IF(AH19=\"\",\"\",AH19/AI19)","v":10.431818181818182},{"$f":"SUM(AK7:AK18)","v":578},{"$f":"SUM(AL7:AL18)","v":59},9.796610169491526,{"$f":"SUM(AN7:AN18)","v":629},{"$f":"SUM(AO7:AO18)","v":74},8.5,{"$f":"SUM(AQ7:AQ18)","v":75},{"$f":"SUM(AR7:AR18)","v":13},{"$f":"IF(AQ19=0,\"\",AQ19/AR19)","v":5.7692307692307692}]
[]
[null,"CENTRE",null,null,null,null,null,null,null,null,null,null,null,null,null,null,null,null,null,null,null,null,null,"CENTRE"]
[null,2005,null,null,2006,null,null,2007,null,null,2008,null,null,2009,null,null,2010,null,null,2011,null,null,null,2006,2007,2008,2009,2010,2011,null,null,null,null,null,null,null,null,null,null,null,null,null,null,null,null,null,null,null,null,"ECART 08/09",null,"%            EXT"]
[null,"Total","Jours","Moy","Total","Jours","Moy","Total","Jours","Moy","Total","Jours","Moy","Total","Jours","Moy","Total","Jours","Moy","Total","Jours","Moy","JAN",{"$f":"E24","v":90},{"$f":"H24","v":{"$error":"#REF!"}},{"$f":"K24","v":111},{"$f":"N24","v":108},{"$f":"Q24","v":82},{"$f":"T24","v":97},{"$f":"AC23-AB23","v":15},null,null,null,null,null,null,null,null,null,null,null,null,null,null,null,null,null,null,null,"C","Al+Au"]
["JAN",null,null,null,90,21,{"$f":"IF(E24=\"\",\"\",E24/F24)","v":4.2857142857142856},{"$f":"#REF!","v":{"$error":"#REF!"}},{"$f":"DCOUNT(#REF!,#REF!,Données1!M9:N10)","v":{"$error":"#REF!"}},{"$f":"IF(H24=0,\"\",H24/I24)","v":{"$error":"#REF!"}},111,17,{"$f":"IF(K24=0,\"\",K24/L24)","v":6.5294117647058822},108,16,{"$f":"IF(N24=0,\"\",N24/O24)","v":6.75},82,13,{"$f":"IF(Q24=0,\"\",Q24/R24)","v":6.3076923076923075},{"$f":"'Suivi contrôles '!M4","v":97},{"$f":"DCOUNT('Suivi contrôles '!$A$18:$AJ$405,'Suivi contrôles '!M18,Données1!M9:N10)","v":15},{"$f":"IF(T24=0,\"\",T24/U24)","v":6.4666666666666668},"FEV",{"$f":"E24+E25","v":153},{"$f":"H24+H25","v":{"$error":"#REF!"}},{"$f":"K24+K25","v":224},{"$f":"N24+N25","v":212},{"$f":"Q24+Q25","v":179},{"$f":"T24+T25","v":186},7,null,null,null,null,null,null,null,null,null,null,null,null,null,null,null,null,null,null,null,{"$f":"(Q24-N24)/Q24","v":-0.31707317073170732},{"$f":"(Q41-N41)/Q41","v":-0.12318840579710146},{"$f":"AN7/Q41","v":0.40579710144927539},null,null,null,null,{"$f":"R24-O24","v":-3},{"$f":"BE24","v":-3}]
["FEV",34,6,{"$f":"B25/C25","v":5.666666666666667},63,10,6.3,{"$f":"#REF!","v":{"$error":"#REF!"}},{"$f":"DCOUNT(#REF!,#REF!,Données1!M11:N12)","v":{"$error":"#REF!"}},{"$f":"IF(H25=0,\"\",H25/I25)","v":{"$error":"#REF!"}},113,16,{"$f":"IF(K25=0,\"\",K25/L25)","v":7.0625},104,13,{"$f":"IF(N25=0,\"\",N25/O25)","v":8},97,15,6.4666666666666668,{"$f":"'Suivi contrôles '!M5","v":89},{"$f":"DCOUNT('Suivi contrôles '!$A$18:$AJ$405,'Suivi contrôles '!$N$18,Données1!N11:N12)","v":10},8.9,"MARS",{"$f":"E24+E25+E26","v":281},{"$f":"H24+H25+H26","v":{"$error":"#REF!"}},{"$f":"K24+K25+K26","v":330},{"$f":"N24+N25+N26","v":337},{"$f":"Q24+Q25+Q26","v":282},{"$f":"T24+T25+T26","v":280},-2,null,null,null,null,null,null,null,null,null,null,null,null,null,null,null,null,null,null,null,-7.2164948453608241E-2,-0.58333333333333337,0.10185185185185185,null,null,null,null,{"$f":"R25-O25","v":2},{"$f":"BF24+BE25","v":-1}]
["MARS",122,22,5.5454545454545459,128,21,6.0952380952380949,{"$f":"#REF!","v":{"$error":"#REF!"}},{"$f":"DCOUNT(#REF!,#REF!,Données1!M13:N14)","v":{"$error":"#REF!"}},{"$error":"#REF!"},106,16,6.625,125,16,7.8125,103,13,7.9230769230769234,94,13,7.2307692307692308,"AVR",{"$f":"E24+E25+E26+E27","v":402},{"$f":"H24+H25+H26+H27","v":{"$error":"#REF!"}},{"$f":"K24+K25+K26+K27","v":436},{"$f":"N24+N25+N26+N27","v":428},{"$f":"Q24+Q25+Q26+Q27","v":374},{"$f":"T24+T25+T26+T27","v":344},-30,null,null,null,null,null,null,null,null,null,null,null,null,null,null,null,null,null,null,null,-0.21359223300970873,4.046242774566474E-2,0.40462427745664742,null,null,null,null,-3,{"$f":"BF25+BE26","v":-4}]
["AVR",101,21,4.8095238095238093,121,18,6.7222222222222223,{"$f":"#REF!","v":{"$error":"#REF!"}},{"$f":"DCOUNT(#REF!,#REF!,Données1!M15:N16)","v":{"$error":"#REF!"}},{"$error":"#REF!"},106,19,5.5789473684210522,91,14,6.5,92,10,9.1999999999999993,64,12,5.333333333333333,"MAI",{"$f":"E24+E25+E26+E27+E28","v":546},{"$f":"H24+H25+H26+H27+H28","v":{"$error":"#REF!"}},{"$f":"K24+K25+K26+K27+K28","v":512},{"$f":"N24+N25+N26+N27+N28","v":509},{"$f":"Q24+Q25+Q26+Q27+Q28","v":455},{"$f":"T24+T25+T26+T27+T28","v":458},3,null,null,null,null,null,null,null,null,null,null,null,null,null,null,null,null,null,null,null,1.0869565217391304E-2,-0.25233644859813081,0.19626168224299065,null,null,null,null,-4,{"$f":"BF26+BE27","v":-8}]
["MAI",147,21,7,144,20,7.2,{"$f":"#REF!","v":{"$error":"#REF!"}},{"$f":"DCOUNT(#REF!,#REF!,Données1!M17:N18)","v":{"$error":"#REF!"}},{"$error":"#REF!"},76,7,10.857142857142858,81,8,10.125,81,11,7.3636363636363633,114,12,9.5,"JUIN",{"$f":"E24+E25+E26+E27+E28+E29","v":663},{"$f":"H24+H25+H26+H27+H28+H29","v":{"$error":"#REF!"}},{"$f":"K24+K25+K26+K27+K28+K29","v":646},{"$f":"N24+N25+N26+N27+N28+N29","v":666},{"$f":"Q24+Q25+Q26+Q27+Q28+Q29","v":583},{"$f":"T24+T25+T26+T27+T28+T29","v":562},-21,null,null,null,null,null,null,null,null,null,null,null,null,null,null,null,null,null,null,null,0,-8.8888888888888892E-2,0.3,null,null,null,null,3,-5]
["JUIN",133,22,6.0454545454545459,117,16,7.3125,{"$f":"#REF!","v":{"$error":"#REF!"}},{"$f":"DCOUNT(#REF!,#REF!,Données1!M19:N20)","v":{"$error":"#REF!"}},{"$error":"#REF!"},134,16,8.375,157,14,11.214285714285714,128,12,10.666666666666666,104,14,7.4285714285714288,"JUIL",{"$f":"E24+E25+E26+E27+E28+E29+E30","v":760},{"$f":"H24+H25+H26+H27+H28+H29+H30","v":{"$error":"#REF!"}},{"$f":"K24+K25+K26+K27+K28+K29+K30","v":768},{"$f":"N24+N25+N26+N27+N28+N29+N30","v":765},{"$f":"Q24+Q25+Q26+Q27+Q28+Q29+Q30","v":712},{"$f":"T24+T25+T26+T27+T28+T29+T30","v":667},-45,null,null,null,null,null,null,null,null,null,null,null,null,null,null,null,null,null,null,null,-0.2265625,-9.2233009708737865E-2,0.37864077669902912,null,null,null,null,-2,-7]
["JUIL",134,20,6.7,97,16,6.0625,{"$f":"#REF!","v":{"$error":"#REF!"}},{"$f":"DCOUNT(#REF!,#REF!,Données1!M21:N22)","v":{"$error":"#REF!"}},{"$error":"#REF!"},122,16,7.625,99,11,9,129,15,8.6,105,16,6.5625,"AOUT",{"$f":"E24+E25+E26+E27+E28+E29+E30+E31","v":855},{"$f":"H24+H25+H26+H27+H28+H29+H30+H31","v":{"$error":"#REF!"}},{"$f":"K24+K25+K26+K27+K28+K29+K30+K31","v":856},{"$f":"N24+N25+N26+N27+N28+N29+N30+N31","v":835},{"$f":"Q24+Q25+Q26+Q27+Q28+Q29+Q30+Q31","v":825},{"$f":"T24+T25+T26+T27+T28+T29+T30+T31","v":760},-65,null,null,null,null,null,null,null,null,null,null,null,null,null,null,null,null,null,null,null,0.23255813953488372,1.6393442622950821E-2,0.29508196721311475,null,null,null,null,4,-3]
["AOUT",103,21,4.9047619047619051,95,17,5.5882352941176467,{"$f":"#REF!","v":{"$error":"#REF!"}},{"$f":"DCOUNT(#REF!,#REF!,Données1!M23:N24)","v":{"$error":"#REF!"}},{"$error":"#REF!"},88,12,7.333333333333333,70,11,6.3636363636363633,113,11,10.272727272727273,93,11,8.454545454545455,"SEPT",{"$f":"E24+E25+E26+E27+E28+E29+E30+E31+E32","v":967},{"$f":"H24+H25+H26+H27+H28+H29+H30+H31+H32","v":{"$error":"#REF!"}},{"$f":"K24+K25+K26+K27+K28+K29+K30+K31+K32","v":936},{"$f":"N24+N25+N26+N27+N28+N29+N30+N31+N32","v":920},{"$f":"Q24+Q25+Q26+Q27+Q28+Q29+Q30+Q31+Q32","v":913},{"$f":"T24+T25+T26+T27+T28+T29+T30+T31+T32","v":846},-67,null,null,null,null,null,null,null,null,null,null,null,null,null,null,null,null,null,null,null,0.38053097345132741,0.54591836734693877,0.39795918367346939,null,null,null,null,0,-3]
["SEPT",107,21,5.0952380952380949,112,18,6.2222222222222223,{"$f":"#REF!","v":{"$error":"#REF!"}},{"$f":"DCOUNT(#REF!,#REF!,Données1!M25:N26)","v":{"$error":"#REF!"}},{"$error":"#REF!"},80,12,6.666666666666667,85,9,9.4444444444444446,88,9,{"$f":"IF(Q32=0,\"\",Q32/R32)","v":9.7777777777777786},86,16,{"$f":"IF(T32=0,\"\",T32/U32)","v":5.375},"OCT",{"$f":"E24+E25+E26+E27+E28+E29+E30+E31+E32+E33","v":1071},{"$f":"H24+H25+H26+H27+H28+H29+H30+H31+H32+H33","v":{"$error":"#REF!"}},{"$f":"K24+K25+K26+K27+K28+K29+K30+K31+K32+K33","v":1027},{"$f":"N24+N25+N26+N27+N28+N29+N30+N31+N32+N33","v":1033},{"$f":"Q24+Q25+Q26+Q27+Q28+Q29+Q30+Q31+Q32+Q33","v":1017},{"$f":"T24+T25+T26+T27+T28+T29+T30+T31+T32+T33","v":846},-171,null,null,null,null,null,null,null,null,null,null,null,null,null,null,null,null,null,null,null,3.4090909090909088E-2,0.30526315789473685,0.50526315789473686,null,null,null,null,0,-3]
["OCT",76,20,3.8,104,22,4.7272727272727275,{"$f":"#REF!","v":{"$error":"#REF!"}},{"$f":"DCOUNT(#REF!,#REF!,Données1!M27:N28)","v":{"$error":"#REF!"}},{"$error":"#REF!"},91,12,7.583333333333333,113,18,6.2777777777777777,104,14,7.4285714285714288,{"$f":"'Suivi contrôles '!M13","v":0},{"$f":"DCOUNT('Suivi contrôles '!$A$18:$AJ$405,'Suivi contrôles '!$N$18,Données1!N25:N26)","v":0},{"$f":"IF(T33=0,\"\",T33/U33)","v":""},"NOV",{"$f":"E24+E25+E26+E27+E28+E29+E30+E31+E32+E33+E34","v":1144},{"$f":"H24+H25+H26+H27+H28+H29+H30+H31+H32+H33+H34","v":{"$error":"#REF!"}},{"$f":"K24+K25+K26+K27+K28+K29+K30+K31+K32+K33+K34","v":1099},{"$f":"N24+N25+N26+N27+N28+N29+N30+N31+N32+N33+N34","v":1094},{"$f":"Q24+Q25+Q26+Q27+Q28+Q29+Q30+Q31+Q32+Q33+Q34","v":1098},{"$f":"T24+T25+T26+T27+T28+T29+T30+T31+T32+T33+T34","v":846},-252,null,null,null,null,null,null,null,null,null,null,null,null,null,null,null,null,null,null,null,-8.6538461538461536E-2,0.19620253164556961,0.34177215189873417,null,null,null,null,-4,-7]
["NOV",84,17,4.9411764705882355,73,18,4.0555555555555554,79,10,7.9,72,13,5.5384615384615383,61,14,4.3571428571428568,81,10,8.1,{"$f":"'Suivi contrôles '!M14","v":0},{"$f":"DCOUNT('Suivi contrôles '!$A$18:$AJ$405,'Suivi contrôles '!$N$18,Données1!N27:N28)","v":0},{"$f":"IF(T34=0,\"\",T34/U34)","v":""},"DEC",{"$f":"E24+E25+E26+E27+E28+E29+E30+E31+E32+E33+E34+E35","v":1203},{"$f":"H24+H25+H26+H27+H28+H29+H30+H31+H32+H33+H34+H35","v":{"$error":"#REF!"}},1180,{"$f":"N24+N25+N26+N27+N28+N29+N30+N31+N32+N33+N34+N35","v":1166},{"$f":"Q24+Q25+Q26+Q27+Q28+Q29+Q30+Q31+Q32+Q33+Q34+Q35","v":1149},{"$f":"T24+T25+T26+T27+T28+T29+T30+T31+T32+T33+T34+T35","v":846},-303,null,null,null,null,null,null,null,null,null,null,null,null,null,null,null,null,null,null,null,0.24691358024691357,0.30188679245283018,0.49056603773584906,null,null,null,null,-4,-11]
["DEC",70,21,3.3333333333333335,59,15,3.9333333333333331,92,14,6.5714285714285712,81,12,6.75,72,12,6,51,9,5.666666666666667,{"$f":"'Suivi contrôles '!M15","v":0},{"$f":"DCOUNT('Suivi contrôles '!$A$18:$AJ$405,'Suivi contrôles '!$N$18,Données1!N29:N30)","v":0},{"$f":"IF(T35=0,\"\",T35/U35)","v":""},null,null,null,null,null,null,null,null,null,null,null,null,null,null,null,null,null,null,null,null,null,null,null,null,null,null,null,null,null,null,null,null,null,null,-3,-14]
[null,{"$f":"SUM(B25:B35)","v":1111},{"$f":"SUM(C25:C35)","v":212},5.2405660377358494,{"$f":"SUM(E24:E35)","v":1203},{"$f":"SUM(F24:F35)","v":212},{"$f":"E36/F36","v":5.6745283018867925},{"$f":"SUM(H24:H35)","v":{"$error":"#REF!"}},{"$f":"SUM(I24:I35)","v":{"$error":"#REF!"}},{"$error":"#REF!"},{"$f":"SUM(K24:K35)","v":1180},{"$f":"SUM(L24:L35)","v":168},7.0238095238095237,{"$f":"SUM(N24:N35)","v":1166},{"$f":"SUM(O24:O35)","v":156},{"$f":"IF(N36=\"\",\"\",N36/O36)","v":7.4743589743589745},{"$f":"SUM(Q24:Q35)","v":1149},{"$f":"SUM(R24:R35)","v":142},{"$f":"IF(Q36=\"\",\"\",Q36/R36)","v":8.091549295774648},{"$f":"SUM(T24:T35)","v":846},{"$f":"SUM(U24:U35)","v":119},{"$f":"IF(T36=\"\",\"\",T36/U36)","v":7.1092436974789912},null,{"$f":"(X34-W34)/X34","v":{"$error":"#VALUE!"}},{"$error":"#REF!"},{"$error":"#REF!"},-1.2006861063464836E-2,-1.4795474325500435E-2,-0.35815602836879434,null,null,null,null,null,null,null,null,null,null,null,null,null,null,null,null,null,null,null,null,{"$f":"SUM(AX24:AX35)/12","v":-9.1401218267173068E-4},{"$f":"SUM(AY24:AY35)/12","v":2.2178886115208227E-2},{"$f":"SUM(AZ24:AZ35)/12","v":0.31815151567630823},null,null,null,null,{"$f":"R36-O36","v":-14}]
[null,null,null,null,null,null,null,null,null,null,null,null,null,null,null,null,null,null,null,null,null,null,null,null,null,null,null,null,null,null,null,null,null,null,null,null,null,null,null,null,null,null,null,null,null,null,null,null,null,null,null,null,null,null,null,null,{"$f":"R37-O37","v":0}]
[null,"ALAIN + EXTERIEUR",null,null,null,null,null,null,null,null,null,null,null,null,null,null,null,null,null,null,null,null,null,null,null,null,null,null,{"$f":"(AB33-AA33)/AB33","v":3.6429872495446266E-3}]
[null,2005,null,null,2006,null,null,2007,null,null,2008,null,null,2009,null,null,2010,null,null,2011,null,null,null,null,null,"EXTERIEUR"]
[null,"Total","Jours","Moy","Total","Jours","Moy","Total","Jours","Moy","Total","Jours","Moy","Total","Jours","Moy","Total","Jours","Moy","Total","Jours","Moy",null,2006,2007,2008,2009,2010,2011]
["JAN",null,null,null,90,21,{"$f":"IF(E41=\"\",\"\",E41/F41)","v":4.2857142857142856},{"$f":"#REF!","v":{"$error":"#REF!"}},{"$f":"DCOUNT(#REF!,#REF!,Données1!S9:T10)","v":{"$error":"#REF!"}},{"$f":"IF(H41=0,\"\",H41/I41)","v":{"$error":"#REF!"}},126,18,{"$f":"IF(K41=0,\"\",K41/L41)","v":7},155,20,{"$f":"IF(N41=0,\"\",N41/O41)","v":7.75},138,19,{"$f":"IF(Q41=0,\"\",Q41/R41)","v":7.2631578947368425},{"$f":"'Suivi contrôles '!AC4","v":127},{"$f":"DCOUNT('Suivi contrôles '!A$18:AP510,'Suivi contrôles '!$AC$18,Données1!S9:T10)","v":20},{"$f":"IF(T41=0,\"\",T41/U41)","v":6.35},"JAN",{"$f":"R24","v":13},{"$f":"S24","v":6.3076923076923075},{"$f":"K41","v":126},{"$f":"N41","v":155},{"$f":"Q41","v":138},{"$f":"T41","v":127},{"$f":"AC41-AB41","v":-11}]
["FEV",null,null,null,63,10,6.3,{"$f":"#REF!","v":{"$error":"#REF!"}},{"$f":"DCOUNT(#REF!,#REF!,Données1!S11:T12)","v":{"$error":"#REF!"}},{"$f":"IF(H42=0,\"\",H42/I42)","v":{"$error":"#REF!"}},141,18,{"$f":"IF(K42=0,\"\",K42/L42)","v":7.833333333333333},171,19,{"$f":"IF(N42=0,\"\",N42/O42)","v":9},108,18,{"$f":"IF(Q42=0,\"\",Q42/R42)","v":6},143,{"$f":"DCOUNT('Suivi contrôles '!A$18:AP511,'Suivi contrôles '!$AC$18,Données1!S11:T12)","v":18},{"$f":"IF(T42=0,\"\",T42/U42)","v":7.9444444444444446},"FEV",{"$f":"R24+R25","v":28},{"$f":"S24+S25","v":12.774358974358975},{"$f":"K41+K42","v":267},{"$f":"N41+N42","v":326},{"$f":"Q41+Q42","v":246},{"$f":"T41+T42","v":270},24]
["MARS",null,null,null,128,21,6.0952380952380949,{"$f":"#REF!","v":{"$error":"#REF!"}},{"$f":"DCOUNT(#REF!,#REF!,Données1!S13:T14)","v":{"$error":"#REF!"}},{"$error":"#REF!"},146,18,8.1111111111111107,166,21,7.9047619047619051,173,21,8.2380952380952372,{"$f":"'Suivi contrôles '!AC6","v":0},{"$f":"DCOUNT('Suivi contrôles '!A$18:AP512,'Suivi contrôles '!$AC$18,Données1!S13:T14)","v":0},"","MARS",{"$f":"R24+R25+R26","v":41},{"$f":"S24+S25+S26","v":20.697435897435899},{"$f":"K41+K42+K43","v":413},{"$f":"N41+N42+N43","v":492},{"$f":"Q41+Q42+Q43","v":419},{"$f":"T41+T42+T43","v":270},-149]
["AVR",null,null,null,121,18,6.7222222222222223,{"$f":"#REF!","v":{"$error":"#REF!"}},{"$f":"DCOUNT(#REF!,#REF!,Données1!S15:T16)","v":{"$error":"#REF!"}},{"$error":"#REF!"},129,21,6.1428571428571432,134,19,7.0526315789473681,107,12,8.9166666666666661,{"$f":"'Suivi contrôles '!AC7","v":0},{"$f":"DCOUNT('Suivi contrôles '!A$18:AP513,'Suivi contrôles '!$AC$18,Données1!S15:T16)","v":0},"","AVR",{"$f":"R24+R25+R26+R27","v":51},{"$f":"S24+S25+S26+S27","v":29.897435897435898},{"$f":"K41+K42+K43+K44","v":542},{"$f":"N41+N42+N43+N44","v":626},{"$f":"Q41+Q42+Q43+Q44","v":526},{"$f":"T41+T42+T43+T44","v":270},-256]
["MAI",null,null,null,144,20,7.2,{"$f":"#REF!","v":{"$error":"#REF!"}},{"$f":"DCOUNT(#REF!,#REF!,Données1!S17:T18)","v":{"$error":"#REF!"}},{"$error":"#REF!"},104,10,10.4,98,10,9.8000000000000007,90,13,6.9230769230769234,{"$f":"'Suivi contrôles '!AC8","v":0},{"$f":"DCOUNT('Suivi contrôles '!A$18:AP514,'Suivi contrôles '!$AC$18,Données1!S17:T18)","v":0},"","MAI",{"$f":"R24+R25+R26+R27+R28","v":62},{"$f":"S24+S25+S26+S27+S28","v":37.261072261072258},{"$f":"K41+K42+K43+K44+K45","v":646},{"$f":"N41+N42+N43+N44+N45","v":724},{"$f":"Q41+Q42+Q43+Q44+Q45","v":616},{"$f":"T41+T42+T43+T44+T45","v":270},-346]
["JUIN",null,null,null,117,16,7.3125,{"$f":"#REF!","v":{"$error":"#REF!"}},{"$f":"DCOUNT(#REF!,#REF!,Données1!S19:T20)","v":{"$error":"#REF!"}},{"$error":"#REF!"},167,19,8.7894736842105257,225,20,11.25,206,21,9.8095238095238102,{"$f":"'Suivi contrôles '!AC9","v":0},{"$f":"DCOUNT('Suivi contrôles '!A$18:AP515,'Suivi contrôles '!$AC$18,Données1!S19:T20)","v":0},"","JUIN",{"$f":"R24+R25+R26+R27+R28+R29","v":74},{"$f":"S24+S25+S26+S27+S28+S29","v":47.927738927738922},{"$f":"K41+K42+K43+K44+K45+K46","v":813},{"$f":"N41+N42+N43+N44+N45+N46","v":949},{"$f":"Q41+Q42+Q43+Q44+Q45+Q46","v":822},{"$f":"T41+T42+T43+T44+T45+T46","v":270},-552]
["JUIL",null,null,null,{"$f":"97+45","v":142},20,7.1,{"$f":"#REF!","v":{"$error":"#REF!"}},{"$f":"DCOUNT(#REF!,#REF!,Données1!S21:T22)","v":{"$error":"#REF!"}},{"$error":"#REF!"},174,21,8.2857142857142865,180,19,9.473684210526315,183,21,8.7142857142857135,{"$f":"'Suivi contrôles '!AC10","v":0},{"$f":"DCOUNT('Suivi contrôles '!A$18:AP516,'Suivi contrôles '!$AC$18,Données1!S21:T22)","v":0},"","JUIL",{"$f":"R24+R25+R26+R27+R28+R29+R30","v":89},{"$f":"S24+S25+S26+S27+S28+S29+S30","v":56.527738927738923},{"$f":"K41+K42+K43+K44+K45+K46+K47","v":987},{"$f":"N41+N42+N43+N44+N45+N46+N47","v":1129},{"$f":"Q41+Q42+Q43+Q44+Q45+Q46+Q47","v":1005},{"$f":"T41+T42+T43+T44+T45+T46+T47","v":270},-735]
["AOUT",null,null,null,{"$f":"95+43","v":138},21,6.5714285714285712,{"$f":"#REF!","v":{"$error":"#REF!"}},{"$f":"DCOUNT(#REF!,#REF!,Données1!S23:T24)","v":{"$error":"#REF!"}},{"$error":"#REF!"},135,19,7.1052631578947372,89,13,6.8461538461538458,196,19,10.315789473684211,{"$f":"'Suivi contrôles '!AC11","v":0},{"$f":"DCOUNT('Suivi contrôles '!A$18:AP517,'Suivi contrôles '!$AC$18,Données1!S23:T24)","v":0},"","AOUT",{"$f":"R24+R25+R26+R27+R28+R29+R30+R31","v":100},{"$f":"S24+S25+S26+S27+S28+S29+S30+S31","v":66.80046620046619},{"$f":"K41+K42+K43+K44+K45+K46+K47+K48","v":1122},{"$f":"N41+N42+N43+N44+N45+N46+N47+N48","v":1218},{"$f":"Q41+Q42+Q43+Q44+Q45+Q46+Q47+Q48","v":1201},{"$f":"T41+T42+T43+T44+T45+T46+T47+T48","v":270},-931]
["SEPT",null,null,null,123,19,6.4736842105263159,{"$f":"#REF!","v":{"$error":"#REF!"}},{"$f":"DCOUNT(#REF!,#REF!,Données1!S25:T26)","v":{"$error":"#REF!"}},{"$error":"#REF!"},80,12,6.666666666666667,66,7,9.4285714285714288,95,9,10.555555555555555,{"$f":"'Suivi contrôles '!AC12","v":0},{"$f":"DCOUNT('Suivi contrôles '!A$18:AP518,'Suivi contrôles '!$AC$18,Données1!S25:T26)","v":0},"","SEPT",{"$f":"R24+R25+R26+R27+R28+R29+R30+R31+R32","v":109},{"$f":"S24+S25+S26+S27+S28+S29+S30+S31+S32","v":76.578243978243961},{"$f":"K41+K42+K43+K44+K45+K46+K47+K48+K49","v":1202},{"$f":"N41+N42+N43+N44+N45+N46+N47+N48+N49","v":1284},{"$f":"Q41+Q42+Q43+Q44+Q45+Q46+Q47+Q48+Q49","v":1296},{"$f":"T41+T42+T43+T44+T45+T46+T47+T48+T49","v":270},-1026]
["OCT",null,null,null,104,22,4.7272727272727275,{"$f":"#REF!","v":{"$error":"#REF!"}},{"$f":"DCOUNT(#REF!,#REF!,Données1!S27:T28)","v":{"$error":"#REF!"}},{"$error":"#REF!"},192,22,8.7272727272727266,127,20,6.35,158,19,8.3157894736842106,{"$f":"'Suivi contrôles '!AC13","v":0},{"$f":"DCOUNT('Suivi contrôles '!A$18:AP519,'Suivi contrôles '!$AC$18,Données1!S27:T28)","v":0},"","OCT",{"$f":"R24+R25+R26+R27+R28+R29+R30+R31+R32+R33","v":123},{"$f":"S24+S25+S26+S27+S28+S29+S30+S31+S32+S33","v":84.006815406815392},{"$f":"K41+K42+K43+K44+K45+K46+K47+K48+K49+K50","v":1394},{"$f":"N41+N42+N43+N44+N45+N46+N47+N48+N49+N50","v":1411},{"$f":"Q41+Q42+Q43+Q44+Q45+Q46+Q47+Q48+Q49+Q50","v":1454},{"$f":"T41+T42+T43+T44+T45+T46+T47+T48+T49+T50","v":270},-1184]
["NOV",null,null,null,{"$f":"73+9+13","v":95},20,4.75,174,19,9.1578947368421044,116,17,6.8235294117647056,111,19,5.8421052631578947,159,18,8.8333333333333339,{"$f":"'Suivi contrôles '!AC14","v":0},{"$f":"DCOUNT('Suivi contrôles '!A$18:AP520,'Suivi contrôles '!$AC$18,Données1!S29:T30)","v":0},"","NOV",{"$f":"R24+R25+R26+R27+R28+R29+R30+R31+R32+R33+R34","v":133},{"$f":"S24+S25+S26+S27+S28+S29+S30+S31+S32+S33+S34","v":92.106815406815386},{"$f":"K41+K42+K43+K44+K45+K46+K47+K48+K49+K50+K51","v":1510},{"$f":"N41+N42+N43+N44+N45+N46+N47+N48+N49+N50+N51","v":1522},{"$f":"Q41+Q42+Q43+Q44+Q45+Q46+Q47+Q48+Q49+Q50+Q51","v":1613},{"$f":"T41+T42+T43+T44+T45+T46+T47+T48+T49+T50+T51","v":270},-1343]
["DEC",null,null,null,{"$f":"59+11+10+5+8","v":93},19,4.8947368421052628,98,15,6.5333333333333332,127,16,7.9375,137,18,7.6111111111111107,105,16,6.5625,{"$f":"'Suivi contrôles '!AC15","v":0},{"$f":"DCOUNT('Suivi contrôles '!A$18:AP521,'Suivi contrôles '!$AC$18,Données1!S31:T32)","v":0},"","DEC",{"$f":"R24+R25+R26+R27+R28+R29+R30+R31+R32+R33+R34+R35","v":142},{"$f":"S24+S25+S26+S27+S28+S29+S30+S31+S32+S33+S34+S35","v":97.773482073482057},{"$f":"K41+K42+K43+K44+K45+K46+K47+K48+K49+K50+K51+K52","v":1637},{"$f":"N41+N42+N43+N44+N45+N46+N47+N48+N49+N50+N51+N52","v":1659},{"$f":"Q41+Q42+Q43+Q44+Q45+Q46+Q47+Q48+Q49+Q50+Q51+Q52","v":1718},{"$f":"T41+T42+T43+T44+T45+T46+T47+T48+T49+T50+T51+T52","v":270},-1448]
[null,null,null,null,{"$f":"SUM(E41:E52)","v":1358},{"$f":"SUM(F41:F52)","v":227},5.9823788546255505,{"$f":"SUM(H41:H52)","v":{"$error":"#REF!"}},{"$f":"SUM(I41:I52)","v":{"$error":"#REF!"}},{"$f":"IF(H53=\"\",\"\",H53/I53)","v":{"$error":"#REF!"}},{"$f":"SUM(K41:K52)","v":1637},{"$f":"SUM(L41:L52)","v":211},7.7582938388625591,{"$f":"SUM(N41:N52)","v":1659},{"$f":"SUM(O41:O52)","v":205},8.0926829268292675,{"$f":"SUM(Q41:Q52)","v":1718},{"$f":"SUM(R41:R52)","v":206},{"$f":"IF(Q53=0,\"\",Q53/R53)","v":8.3398058252427187},{"$f":"SUM(T41:T52)","v":270},{"$f":"SUM(U41:U52)","v":38},7.1052631578947372]
[null,null,null,null,null,null,null,null,null,null,null,null,null,null,null,null,null,null,null,null,null,null,null,{"$f":"(X52-AC34)/X52","v":-4.957746478873239},{"$f":"(Y52-X52)/Y52","v":-0.45233653326654893},{"$f":"(Z52-Y52)/Z52","v":0.94027276599054244},{"$f":"(AA52-Z52)/AA52","v":1.3261000602772756E-2},{"$f":"(AB52-AA52)/AB52","v":3.4342258440046569E-2},{"$f":"(AC52-AB52)/AC52","v":-5.3629629629629632}]
[null,null,null,null,null,null,null,null,null,null,null,null,null,null,null,null,null,null,null,null,null,null,null,null,null,null,null,{"$f":"(AB51-AA51)/AB51","v":5.6416615003099815E-2}]
[null,null,null,null,null,null,null,null,null,null,null,null,null,null,null,null,null,null,null,null,null,null,null,null,{"$f":"B41+B42+B43+B44+B45","v":0},{"$f":"C41+C42+C43+C44+C45","v":0},{"$f":"D41+D42+D43+D44+D45","v":0}]
[null,null,null,null,null,null,null,null,null,null,null,null,null,null,null,null,null,null,null,null,null,null,null,null,{"$f":"B41+B42+B43+B44+B45+B46","v":0},{"$f":"C41+C42+C43+C44+C45+C46","v":0},{"$f":"D41+D42+D43+D44+D45+D46","v":0}]
[null,null,null,null,null,null,null,null,null,null,null,null,null,null,null,null,null,null,null,null,null,null,null,null,{"$f":"B41+B42+B43+B44+B45+B46+B47","v":0},{"$f":"C41+C42+C43+C44+C45+C46+C47","v":0},{"$f":"D41+D42+D43+D44+D45+D46+D47","v":0}]
[null,null,null,null,null,null,null,null,null,null,null,null,null,null,null,null,null,null,null,null,null,null,null,null,{"$f":"B41+B42+B43+B44+B45+B46+B47+B48","v":0},{"$f":"C41+C42+C43+C44+C45+C46+C47+C48","v":0},{"$f":"D41+D42+D43+D44+D45+D46+D47+D48","v":0}]
[null,null,null,null,null,null,null,null,null,null,null,null,null,null,null,null,null,null,null,null,null,null,null,null,{"$f":"B41+B42+B43+B44+B45+B46+B47+B48+B49","v":0},{"$f":"C41+C42+C43+C44+C45+C46+C47+C48+C49","v":0},{"$f":"D41+D42+D43+D44+D45+D46+D47+D48+D49","v":0}]
[null,null,null,null,null,null,null,null,null,null,null,null,null,null,null,null,null,null,null,null,null,null,null,null,{"$f":"B41+B42+B43+B44+B45+B46+B47+B48+B49+B50","v":0},{"$f":"C41+C42+C43+C44+C45+C46+C47+C48+C49+C50","v":0},{"$f":"D41+D42+D43+D44+D45+D46+D47+D48+D49+D50","v":0}]
[null,null,null,null,null,null,null,null,null,null,null,null,null,null,null,null,null,null,null,null,null,null,null,null,{"$f":"B41+B42+B43+B44+B45+B46+B47+B48+B49+B50+B51","v":0},{"$f":"C41+C42+C43+C44+C45+C46+C47+C48+C49+C50+C51","v":0},{"$f":"D41+D42+D43+D44+D45+D46+D47+D48+D49+D50+D51","v":0}]
[null,null,null,null,null,null,null,null,null,null,null,null,null,null,null,null,null,null,null,null,null,null,null,null,{"$f":"B41+B42+B43+B44+B45+B46+B47+B48+B49+B50+B51+B52","v":0},{"$f":"C41+C42+C43+C44+C45+C46+C47+C48+C49+C50+C51+C52","v":0},{"$f":"D41+D42+D43+D44+D45+D46+D47+D48+D49+D50+D51+D52","v":0}]

{"sheet":"Feuil3","index":20,"n_rows":0,"n_cols":0,"rows_kept":0,"cut":false,"hidden":false,"merged":[]}

{"sheet":"Feuil4","index":21,"n_rows":0,"n_cols":0,"rows_kept":0,"cut":false,"hidden":false,"merged":[]}

{"sheet":"Feuil1","index":22,"n_rows":9,"n_cols":3,"rows_kept":9,"cut":false,"hidden":false,"merged":[]}
[]
[]
["Centre de rattachement","Nom Prénom","Agrément"]
["ENNERY","AMASRI Zakariya","068K7005"]
["SAINT-BARHELEMY","ARCICAULT Tony","049J7014"]
["SEMOUTIERS","AUBERTIN","052J7001"]
["ENNERY","BARADEL Yannick","88K7000"]
["COLMAR","BARB Roger","068J7004"]
["AUBAGNE"]