{"text_format":"1","workbook":"xlsx","n_sheets":11,"sheets":["Feuil1","Feuil2","Feuil6","Feuil7","Feuil10","Feuil3","clisson","Feuil14","Feuil5","classement","Feuil4"],"not_rendered":{"charts":3,"images":0,"macros":1,"external_links":0,"defined_names":13,"comments":0,"pivot_tables":6},"unopened":[],"bounds":{"document_bytes":16777216,"sheet_cells":100000,"rows_first":2000,"rows_last":500,"rows_between":2000,"halvings":0,"cell_chars":16384,"cell_head_chars":4096},"cells_cut":0,"cells_raw":0,"read":"whole","date_system":"1900"}

{"sheet":"Feuil1","index":0,"n_rows":799,"n_cols":23,"rows_kept":799,"cut":false,"hidden":false,"merged":[]}
["Arbitrage et Services"]
[]
["Fédération française de Handball - On est tous Handballeurs"]
[]
["FFHB"]
["Equipes de France"]
["Pratiquer"]
["Compétitions"]
["DTN"]
["Sites dédiés"]
["Vos outils"]
[]
["Présentation"]
["Organigramme"]
["Histoire"]
["Projet Fédéral 2008-2018"]
["Les Commissions"]
["Accueil"]
["Jury d'Appel"]
["Finances"]
["Organisation des compétitions"]
["Réclamations et litiges"]
["Arbitrage"]
["Médicale"]
["Développement"]
["Agents"]
["Discipline"]
["Statuts et Réglementation"]
["CNCG"]
["Service IT"]
["Documentations"]
["Règlements"]
["Procès verbaux"]
["Organisation des compétitions"]
["Hand Infos"]
["Fiches pratiques"]
["Abonnement Newsletters"]
["Les règlements des ligues"]
["Evénements"]
["Rendez-vous à ne pas manquer"]
["Nous contacter"]
["Coordonnées FFHB"]
["Poser une question"]
["Votre avis nous intéresse"]
["Glossaire"]
["Fermer"]
[]
["France A masculine"]
["Site Les experts"]
["Résultats"]
["France A féminine"]
["Site Femmes de Défis"]
["Résultats"]
["France Junior"]
["Féminine moins de 20 ans"]
["Masculin moins de 21 ans"]
["France Jeune"]
["Féminine moins de 18 ans"]
["Masculin moins de 19 ans"]
["France Cadet(te)s"]
["Cadettes (moins de 16 ans)"]
["Cadets (moins de 17 ans)"]
["Fermer"]
[]
["Adhésion"]
["Prendre une licence"]
["Assurance"]
["Handball 1er pas"]
["Histoire"]
["Le matériel"]
["Le Mini Hand"]
["Histoire"]
["Règles"]
["Le matériel"]
["L'arbitrage"]
["Les événements"]
["Le Handball"]
["Histoire"]
["Le matériel"]
["Le Sand Ball"]
["Histoire"]
["Règles"]
["Le matériel"]
["L'arbitrage"]
["Hand Ensemble"]
["Histoire"]
["Règles"]
["Le matériel"]
["L'arbitrage"]
["Où pratiquer"]
["Loisir"]
["Fermer"]
[]
["Championnats nationaux"]
[]
["Coupe de France"]
["Coupe de la ligue"]
["Coupe d'Europe"]
["Interpôles"]
["Interligues"]
["Intercomités"]
[]
["Championnats régionaux"]
["Alsace"]
["Aquitaine"]
["Auvergne"]
["Bourgogne"]
["Bretagne"]
["Centre"]
["Champagne-Ardenne"]
["Corse"]
["Côte d'Azur"]
["Dauphiné-Savoie"]
["Franche-Comté"]
["Ile-de-France EST"]
["Languedoc-Roussillon"]
["Limousin"]
["Lorraine"]
["Lyonnais"]
["Midi-Pyrénées"]
["Nord-Pas-de-Calais"]
["Normandie"]
["Paris Ile-de-France Ouest"]
["Pays de la Loire"]
["Picardie"]
["Poitou-Charentes"]
["Provence-Alpes"]
["Guadeloupe"]
["Guyane"]
["La Réunion"]
["Martinique"]
["Mayotte"]
[]
["Championnats départementaux"]
["01 - Comité de l'Ain"]
["02 - Comité de l'Aisne"]
["03 - Comité de l'Allier"]
["04 - Comité des Alpes-de-Haute-Provence"]
["05 - Comité des Hautes-Alpes"]
["06 - Comité des Alpes Maritimes"]
["07 - Comité de l'Ardèche"]
["08 - Comité des Ardennes"]
["09 - Comité de l'Ariège"]
["10 - Comité de l'Aube"]
["11 - Comité de l'Aude"]
["12 - Comité de l'Aveyron"]
["13 - Comité des Bouches-du-Rhône"]
["14 - Comité du Calvados"]
["15 - Comité du Cantal"]
["16 - Comité de la Charente"]
["17 - Comité de la Charente-Maritime"]
["18 - Comité du Cher"]
["19 - Comité de la Corrèze"]
["20 - Comité de la Corse-du-Sud"]
["21 - Comité de la Côte-d'Or"]
["22 - Comité des Côtes-d'Armor"]
["23 - Comité de la Creuse"]
["24 - Comité de la Dordogne"]
["25 - Comité du Doubs"]
["26 - Comité de la Drôme"]
["27 - Comité de l'Eure"]
["28 - Comité de l'Eure-et-Loir"]
["29 - Comité du Finistère"]
["30 - Comité du Gard"]
["31 - Comité de la Haute-Garonne"]
["32 - Comité du Gers"]
["33 - Comité de la Gironde"]
["34 - Comité de l'Hérault"]
["35 - Comité de l'Ille-et-Vilaine"]
["36 - Comité de l'Indre"]
["37 - Comité de l'Indre-et-Loire"]
["38 - Comité de l'Isère"]
["39 - Comité du Jura"]
["40 - Comité des Landes"]
["41 - Comité du Loir-et-Cher"]
["42 - Comité de la Loire"]
["43 - Comité de la Haute-Loire"]
["44 - Comité de la Loire-Atlantique"]
["45 - Comité du Loiret"]
["46 - Comité du Lot"]
["47 - Comité du Lot-et-Garonne"]
["48 - Comité de la Lozère"]
["49 - Comité du Maine-et-Loire"]
["50 - Comité de la Manche"]
["51 - Comité de la Marne"]
["52 - Comité de la Haute-Marne"]
["53 - Comité de la Mayenne"]
["54 - Comité de la Meurthe-et-Moselle"]
["55 - Comité de la Meuse"]
["56 - Comité du Morbihan"]
["57 - Comité de la Moselle"]
["58 - Comité de la Nièvre"]
["59 - Comité du Nord"]
["60 - Comité de l'Oise"]
["61 - Comité de l'Orne"]
["62 - Comité du Pas-de-Calais"]
["63 - Comité du Puy-de-Dôme"]
["64 - Comité des Pyrénées-Atlantiques"]
["65 - Comité des Hautes-Pyrénées"]
["66 - Comité des Pyrénées-Orientales"]
["67 - Comité du Bas-Rhin"]
["68 - Comité du Haut-Rhin"]
["69 - Département du Rhône"]
["70 - Comité de la Haute-Saône"]
["71 - Comité de la Saône-et-Loire"]
["72 - Comité de la Sarthe"]
["73 - Comité de la Savoie"]
["74 - Comité de la Haute-Savoie"]
["75 - Comité de Paris"]
["76 - Comité de la Seine-Maritime"]
["77 - Comité de la Seine et Marne"]
["78 - Comité des Yvelines"]
["79 - Comité des Deux-Sèvres"]
["80 - Comité de la Somme"]
["81 - Comité du Tarn"]
["82 - Comité du Tarn-et-Garonne"]
["83 - Comité du Var"]
["84 - Comité du Vaucluse"]
["85 - Comité de la Vendée"]
["86 - Comité de la Vienne"]
["87 - Comité de la Haute-Vienne"]
["88 - Comité des Vosges"]
["89 - Comité de l'Yonne"]
["90 - Comité du Territoire de Belfort"]
["91 - Comité de l'Essonne"]
["92 - Comité des Hauts-de-Seine"]
["93 - Comité de la Seine Saint-Denis"]
["94 - Comité du Val de Marne"]
["95 - Comité du Val d'Oise"]
["96 - Comité de la Haute-Corse"]
["Fermer"]
[]
["Les Experts"]
["Femmes de Défis"]
["Anim'H@nd"]
["Campus des handballeurs"]
["LFH"]
["LNH"]
["On est tous supporters"]
["Fermer"]
[]
["Webmail"]
["Espace de partage"]
["Gesthand"]
["Ihand-calculette distance"]
["Ihand-arbitrage"]
["Fermer"]
[]
["Accueil > "]
["Compétitions > "]
["Championnats départementaux > "]
["44 - Comité de la Loire-Atlantique"]
[]
["44 - Comité de la Loire-Atlantique"]
[]
["Classement / Résultats"]
["Statistiques joueurs"]
[]
[null,"Équipes","Pts","J","G","Nuls","P","Buts +","Buts -","Diff"]
[1,"RACC NANTES 2",52,18,17,0,1,538,379,159]
[2,"HIRONDELLE ST YO HB 2",43,18,12,1,5,498,420,78]
[3,"FANS HB LIGNE 2",42,18,12,0,6,459,432,27]
[4,"ASPTT NANTES 2",40,18,10,2,6,467,427,40]
[5,"AL PORTERIE AC HANDBALL",40,18,11,0,7,444,427,17]
[6,"ASC LA MONTAGNE",36,18,9,0,9,458,455,3]
[7,"AL CHATEAUBRIANT",34,18,7,2,9,483,499,-16]
[8,"CHABOSSIERE OLYMPIQUE CLUB HB 2",34,18,7,2,9,446,472,-26]
[9,"TRIGNAC HANDBALL 3",32,18,6,2,10,414,454,-40]
[10,"HANDBALL CLISSON",31,18,6,1,11,416,467,-51]
[11,"THOUARE HANDBALL CLUB",30,18,6,0,12,387,440,-53]
[12,"ASAG HAYE FOUASSIERE",18,18,0,0,18,368,506,-138]
[]
["Afficher la dernière journée"]
[]
["Journée 1 du 10/09/2012 au 16/09/2012"]
[]
["2012-09-15","22 - HIRONDELLE ST YO HB 2","arbitrage","FDM","info"]
["19:00:00"]
[null,"26 - AL PORTERIE AC HANDBALL"]
["2012-09-15","19 - THOUARE HANDBALL CLUB","arbitrage","FDM","info"]
["19:00:00"]
[null,"25 - TRIGNAC HANDBALL 3"]
["27/10/2012 (R)","22 - CHABOSSIERE OLYMPIQUE CLUB HB 2","arbitrage","FDM","info"]
["22:00:00"]
[null,"22 - AL CHATEAUBRIANT"]
["2012-09-15","29 - ASAG HAYE FOUASSIERE","arbitrage","FDM","info"]
["19:00:00"]
[null,"32 - ASPTT NANTES 2",null,null,null,null,null,null,null,null,null,null,null,null,null,null,null,null,null,null,null,null,"=INDEX(Feuil1!:A$19;(LIGNE()-1)*6;0)"]
["2012-09-15","31 - RACC NANTES 2","arbitrage","FDM","info"]
["19:00:00"]
[null,"23 - FANS HB LIGNE 2"]
["2012-09-15","20 - HANDBALL CLISSON","arbitrage","FDM","info"]
["19:00:00"]
[null,"19 - ASC LA MONTAGNE"]
[]
["Journée 2 du 17/09/2012 au 23/09/2012"]
[]
["2012-09-22","23 - ASC LA MONTAGNE","arbitrage","FDM","info"]
["21:00:00"]
[null,"42 - RACC NANTES 2"]
["2012-09-22","24 - FANS HB LIGNE 2","arbitrage","FDM","info"]
["19:00:00"]
[null,"20 - TRIGNAC HANDBALL 3"]
["2012-09-22","30 - THOUARE HANDBALL CLUB","arbitrage","FDM","info"]
["19:00:00"]
[null,"23 - ASAG HAYE FOUASSIERE"]
["2012-09-23","24 - ASPTT NANTES 2","arbitrage","FDM","info"]
["16:00:00"]
[null,"24 - CHABOSSIERE OLYMPIQUE CLUB HB 2"]
["2012-09-22","26 - AL CHATEAUBRIANT","arbitrage","FDM","info"]
["21:30:00"]
[null,"31 - HIRONDELLE ST YO HB 2"]
["2012-09-22","18 - AL PORTERIE AC HANDBALL","arbitrage","FDM","info"]
["19:00:00"]
[null,"37 - HANDBALL CLISSON"]
[]
["Journée 3 du 01/10/2012 au 07/10/2012"]
[]
["2012-10-06","25 - ASC LA MONTAGNE","arbitrage","FDM","info"]
["20:30:00"]
[null,"24 - AL PORTERIE AC HANDBALL"]
["06/10/2012 (R)","33 - HIRONDELLE ST YO HB 2","arbitrage","FDM","info"]
["21:00:00"]
[null,"33 - ASPTT NANTES 2"]
["2012-10-06","18 - CHABOSSIERE OLYMPIQUE CLUB HB 2","arbitrage","FDM","info"]
["22:00:00"]
[null,"30 - THOUARE HANDBALL CLUB"]
["2012-10-06","20 - ASAG HAYE FOUASSIERE","arbitrage","FDM","info"]
["19:00:00"]
[null,"28 - FANS HB LIGNE 2"]
["2012-10-06","23 - TRIGNAC HANDBALL 3","arbitrage","FDM","info"]
["19:00:00"]
[null,"41 - RACC NANTES 2"]
["2012-10-06","20 - HANDBALL CLISSON","arbitrage","FDM","info"]
["19:00:00"]
[null,"27 - AL CHATEAUBRIANT"]
[]
["Journée 4 du 08/10/2012 au 14/10/2012"]
[]
["2012-10-13","32 - FANS HB LIGNE 2","arbitrage","FDM","info"]
["19:00:00"]
[null,"30 - CHABOSSIERE OLYMPIQUE CLUB HB 2"]
["13/10/2012 (R)","19 - THOUARE HANDBALL CLUB","arbitrage","FDM","info"]
["21:00:00"]
[null,"28 - HIRONDELLE ST YO HB 2"]
["2012-10-14","23 - ASPTT NANTES 2","arbitrage","FDM","info"]
["16:00:00"]
[null,"16 - HANDBALL CLISSON"]
["2012-10-13","28 - AL CHATEAUBRIANT","arbitrage","FDM","info"]
["21:30:00"]
[null,"32 - AL PORTERIE AC HANDBALL"]
["2012-10-13","23 - TRIGNAC HANDBALL 3","arbitrage","FDM","info"]
["22:00:00"]
[null,"33 - ASC LA MONTAGNE"]
["2012-10-13","29 - RACC NANTES 2","arbitrage","FDM","info"]
["19:00:00"]
[null,"17 - ASAG HAYE FOUASSIERE"]
[]
["Journée 5 du 15/10/2012 au 21/10/2012"]
[]
["2012-10-20","35 - ASC LA MONTAGNE","arbitrage","FDM","info"]
["20:30:00"]
[null,"25 - AL CHATEAUBRIANT"]
["2012-10-20","24 - HIRONDELLE ST YO HB 2","arbitrage","FDM","info"]
["21:00:00"]
[null,"25 - FANS HB LIGNE 2"]
["2012-10-20","27 - CHABOSSIERE OLYMPIQUE CLUB HB 2","arbitrage","FDM","info"]
["19:00:00"]
[null,"34 - RACC NANTES 2"]
["2012-10-20","22 - ASAG HAYE FOUASSIERE","arbitrage","FDM","info"]
["19:00:00"]
[null,"26 - TRIGNAC HANDBALL 3"]
["20/10/2012 (R)","16 - AL PORTERIE AC HANDBALL","arbitrage","FDM","info"]
["21:00:00"]
[null,"30 - ASPTT NANTES 2"]
["2012-10-20","24 - HANDBALL CLISSON","arbitrage","FDM","info"]
["19:00:00"]
[null,"22 - THOUARE HANDBALL CLUB"]
[]
["Journée 6 du 29/10/2012 au 04/11/2012"]
[]
["2012-11-03","30 - FANS HB LIGNE 2","arbitrage","FDM","info"]
["19:00:00"]
[null,"29 - HANDBALL CLISSON"]
["03/11/2012 (R)","25 - THOUARE HANDBALL CLUB","arbitrage","FDM","info"]
["19:00:00"]
[null,"22 - AL PORTERIE AC HANDBALL"]
["2012-11-04","18 - ASPTT NANTES 2","arbitrage","FDM","info"]
["11:00:00"]
[null,"24 - AL CHATEAUBRIANT"]
["2012-11-03","19 - ASAG HAYE FOUASSIERE","arbitrage","FDM","info"]
["19:00:00"]
[null,"35 - ASC LA MONTAGNE"]
["2012-11-03","30 - TRIGNAC HANDBALL 3","arbitrage","FDM","info"]
["22:00:00"]
[null,"22 - CHABOSSIERE OLYMPIQUE CLUB HB 2"]
["2012-11-03","29 - RACC NANTES 2","arbitrage","FDM","info"]
["19:00:00"]
[null,"24 - HIRONDELLE ST YO HB 2"]
[]
["Journée 7 du 05/11/2012 au 11/11/2012"]
[]
["2012-11-10","26 - ASC LA MONTAGNE","arbitrage","FDM","info"]
["19:30:00"]
[null,"23 - ASPTT NANTES 2"]
["2012-11-10","27 - HIRONDELLE ST YO HB 2","arbitrage","FDM","info"]
["20:00:00"]
[null,"20 - TRIGNAC HANDBALL 3"]
["24/11/2012 (R)","28 - CHABOSSIERE OLYMPIQUE CLUB HB 2","arbitrage","FDM","info"]
["22:00:00"]
[null,"24 - ASAG HAYE FOUASSIERE"]
["2012-11-10","31 - AL CHATEAUBRIANT","arbitrage","FDM","info"]
["20:30:00"]
[null,"24 - THOUARE HANDBALL CLUB"]
["2012-11-10","24 - AL PORTERIE AC HANDBALL","arbitrage","FDM","info"]
["19:00:00"]
[null,"21 - FANS HB LIGNE 2"]
["2012-11-10","18 - HANDBALL CLISSON","arbitrage","FDM","info"]
["21:00:00"]
[null,"24 - RACC NANTES 2"]
[]
["Journée 8 du 12/11/2012 au 18/11/2012"]
[]
["2012-11-17","28 - FANS HB LIGNE 2","arbitrage","FDM","info"]
["21:00:00"]
[null,"24 - AL CHATEAUBRIANT"]
["2012-11-17","12 - THOUARE HANDBALL CLUB","arbitrage","FDM","info"]
["21:00:00"]
[null,"25 - ASPTT NANTES 2"]
["2012-11-17","23 - CHABOSSIERE OLYMPIQUE CLUB HB 2","arbitrage","FDM","info"]
["19:00:00"]
[null,"21 - ASC LA MONTAGNE"]
["2012-11-17","20 - ASAG HAYE FOUASSIERE","arbitrage","FDM","info"]
["19:00:00"]
[null,"32 - HIRONDELLE ST YO HB 2"]
["2012-11-17","31 - TRIGNAC HANDBALL 3","arbitrage","FDM","info"]
["22:00:00"]
[null,"31 - HANDBALL CLISSON"]
["2012-11-17","24 - RACC NANTES 2","arbitrage","FDM","info"]
["19:00:00"]
[null,"23 - AL PORTERIE AC HANDBALL"]
[]
["Journée 9 du 26/11/2012 au 02/12/2012"]
[]
["2012-12-01","28 - ASC LA MONTAGNE","arbitrage","FDM","info"]
["20:00:00"]
[null,"24 - THOUARE HANDBALL CLUB"]
["2012-12-01","30 - HIRONDELLE ST YO HB 2","arbitrage","FDM","info"]
["20:00:00"]
[null,"25 - CHABOSSIERE OLYMPIQUE CLUB HB 2"]
["2012-12-02","21 - ASPTT NANTES 2","arbitrage","FDM","info"]
["14:00:00"]
[null,"25 - FANS HB LIGNE 2"]
["01/12/2012 (R)","16 - AL CHATEAUBRIANT","arbitrage","FDM","info"]
["20:30:00"]
[null,"31 - RACC NANTES 2"]
["2012-12-01","30 - AL PORTERIE AC HANDBALL","arbitrage","FDM","info"]
["20:00:00"]
[null,"21 - TRIGNAC HANDBALL 3"]
["2012-12-01","24 - HANDBALL CLISSON","arbitrage","FDM","info"]
["19:00:00"]
[null,"17 - ASAG HAYE FOUASSIERE"]
[]
["Journée 10 du 03/12/2012 au 09/12/2012"]
[]
["2012-12-08","21 - FANS HB LIGNE 2","arbitrage","FDM","info"]
["21:00:00"]
[null,"11 - THOUARE HANDBALL CLUB"]
["2012-12-08","30 - HIRONDELLE ST YO HB 2","arbitrage","FDM","info"]
["21:00:00"]
[null,"18 - ASC LA MONTAGNE"]
["2012-12-08","33 - CHABOSSIERE OLYMPIQUE CLUB HB 2","arbitrage","FDM","info"]
["22:00:00"]
[null,"24 - HANDBALL CLISSON"]
["2012-12-08","17 - ASAG HAYE FOUASSIERE","arbitrage","FDM","info"]
["19:00:00"]
[null,"33 - AL PORTERIE AC HANDBALL"]
["2012-12-08","23 - TRIGNAC HANDBALL 3","arbitrage","FDM","info"]
["22:00:00"]
[null,"23 - AL CHATEAUBRIANT"]
["2012-12-08","30 - RACC NANTES 2","arbitrage","FDM","info"]
["21:00:00"]
[null,"24 - ASPTT NANTES 2"]
[]
["Journée 11 du 31/12/2012 au 06/01/2013"]
[]
["2013-01-06","31 - ASC LA MONTAGNE","arbitrage","FDM","info"]
["09:30:00"]
[null,"23 - FANS HB LIGNE 2"]
["2013-01-05","24 - THOUARE HANDBALL CLUB","arbitrage","FDM","info"]
["19:00:00"]
[null,"30 - RACC NANTES 2"]
["2013-01-06","25 - ASPTT NANTES 2","arbitrage","FDM","info"]
["14:00:00"]
[null,"15 - TRIGNAC HANDBALL 3"]
["12/01/2013 (R)","26 - AL CHATEAUBRIANT","arbitrage","FDM","info"]
["20:30:00"]
[null,"23 - ASAG HAYE FOUASSIERE"]
["2013-01-05","24 - AL PORTERIE AC HANDBALL","arbitrage","FDM","info"]
["21:00:00"]
[null,"23 - CHABOSSIERE OLYMPIQUE CLUB HB 2"]
["05/01/2013 (R)","23 - HANDBALL CLISSON","arbitrage","FDM","info"]
["18:30:00"]
[null,"31 - HIRONDELLE ST YO HB 2"]
[]
["Journée 12 du 14/01/2013 au 20/01/2013"]
[]
["2013-01-20","25 - ASC LA MONTAGNE","arbitrage","FDM","info"]
["11:00:00"]
[null,"17 - HANDBALL CLISSON"]
["19/01/2013 (R)","25 - FANS HB LIGNE 2","arbitrage","FDM","info"]
["19:00:00"]
[null,"24 - RACC NANTES 2"]
["20/01/2013 (R)","22 - ASPTT NANTES 2","arbitrage","FDM","info"]
["14:00:00"]
[null,"18 - ASAG HAYE FOUASSIERE"]
["2013-01-19","31 - AL CHATEAUBRIANT","arbitrage","FDM","info"]
["20:30:00"]
[null,"25 - CHABOSSIERE OLYMPIQUE CLUB HB 2"]
["2013-01-19","23 - TRIGNAC HANDBALL 3","arbitrage","FDM","info"]
["20:30:00"]
[null,"26 - THOUARE HANDBALL CLUB"]
["2013-01-19","29 - AL PORTERIE AC HANDBALL","arbitrage","FDM","info"]
["21:00:00"]
[null,"27 - HIRONDELLE ST YO HB 2"]
[]
["Journée 13 du 21/01/2013 au 27/01/2013"]
[]
["2013-01-27","36 - HIRONDELLE ST YO HB 2","arbitrage","FDM","info"]
["14:00:00"]
[null,"25 - AL CHATEAUBRIANT"]
["2013-01-26","27 - CHABOSSIERE OLYMPIQUE CLUB HB 2","arbitrage","FDM","info"]
["19:00:00"]
[null,"31 - ASPTT NANTES 2"]
["2013-01-26","19 - ASAG HAYE FOUASSIERE","arbitrage","FDM","info"]
["19:00:00"]
[null,"21 - THOUARE HANDBALL CLUB"]
["2013-01-26","26 - TRIGNAC HANDBALL 3","arbitrage","FDM","info"]
["19:00:00"]
[null,"24 - FANS HB LIGNE 2"]
["2013-01-26","30 - RACC NANTES 2","arbitrage","FDM","info"]
["21:00:00"]
[null,"24 - ASC LA MONTAGNE"]
["26/01/2013 (R)","20 - HANDBALL CLISSON","arbitrage","FDM","info"]
["22:00:00"]
[null,"25 - AL PORTERIE AC HANDBALL"]
[]
["Journée 14 du 28/01/2013 au 03/02/2013"]
[]
["2013-02-02","29 - FANS HB LIGNE 2","arbitrage","FDM","info"]
["20:30:00"]
[null,"24 - ASAG HAYE FOUASSIERE"]
["15/12/2012 (R)","24 - THOUARE HANDBALL CLUB","arbitrage","FDM","info"]
["19:00:00"]
[null,"29 - CHABOSSIERE OLYMPIQUE CLUB HB 2"]
["2013-02-03","21 - ASPTT NANTES 2","arbitrage","FDM","info"]
["14:30:00"]
[null,"28 - HIRONDELLE ST YO HB 2"]
["2013-02-02","36 - AL CHATEAUBRIANT","arbitrage","FDM","info"]
["20:30:00"]
[null,"25 - HANDBALL CLISSON"]
["02/02/2013 (R)","23 - AL PORTERIE AC HANDBALL","arbitrage","FDM","info"]
["19:00:00"]
[null,"16 - ASC LA MONTAGNE"]
["2013-02-02","21 - RACC NANTES 2","arbitrage","FDM","info"]
["19:00:00"]
[null,"16 - TRIGNAC HANDBALL 3"]
[]
["Journée 15 du 04/02/2013 au 10/02/2013"]
[]
["2013-02-09","19 - ASC LA MONTAGNE","arbitrage","FDM","info"]
["19:30:00"]
[null,"23 - TRIGNAC HANDBALL 3"]
["09/02/2013 (R)","24 - HIRONDELLE ST YO HB 2","arbitrage","FDM","info"]
["20:00:00"]
[null,"18 - THOUARE HANDBALL CLUB"]
["2013-02-09","27 - CHABOSSIERE OLYMPIQUE CLUB HB 2","arbitrage","FDM","info"]
["22:00:00"]
[null,"20 - FANS HB LIGNE 2"]
["2013-02-09","14 - ASAG HAYE FOUASSIERE","arbitrage","FDM","info"]
["19:00:00"]
[null,"36 - RACC NANTES 2"]
["2013-02-09","28 - AL PORTERIE AC HANDBALL","arbitrage","FDM","info"]
["21:00:00"]
[null,"25 - AL CHATEAUBRIANT"]
["09/02/2013 (R)","27 - HANDBALL CLISSON","arbitrage","FDM","info"]
["20:15:00"]
[null,"21 - ASPTT NANTES 2"]
[]
["Journée 16 du 11/02/2013 au 17/02/2013"]
[]
["2013-02-16","22 - FANS HB LIGNE 2","arbitrage","FDM","info"]
["21:00:00"]
[null,"24 - HIRONDELLE ST YO HB 2"]
["23/02/2013 (R)","14 - THOUARE HANDBALL CLUB","arbitrage","FDM","info"]
["21:00:00"]
[null,"18 - HANDBALL CLISSON"]
["17/02/2013 (R)","29 - ASPTT NANTES 2","arbitrage","FDM","info"]
["15:15:00"]
[null,"23 - AL PORTERIE AC HANDBALL"]
["2013-02-16","37 - AL CHATEAUBRIANT","arbitrage","FDM","info"]
["20:30:00"]
[null,"36 - ASC LA MONTAGNE"]
["2013-02-16","30 - TRIGNAC HANDBALL 3","arbitrage","FDM","info"]
["19:00:00"]
[null,"20 - ASAG HAYE FOUASSIERE"]
["2013-02-16","28 - RACC NANTES 2","arbitrage","FDM","info"]
["21:00:00"]
[null,"18 - CHABOSSIERE OLYMPIQUE CLUB HB 2"]
[]
["Journée 17 du 11/03/2013 au 17/03/2013"]
[]
["2013-03-16","21 - ASC LA MONTAGNE","arbitrage","FDM","info"]
["19:30:00"]
[null,"19 - ASAG HAYE FOUASSIERE"]
["09/03/2013 (R)","21 - HIRONDELLE ST YO HB 2","arbitrage","FDM","info"]
["20:00:00"]
[null,"22 - RACC NANTES 2"]
["2013-03-16","21 - CHABOSSIERE OLYMPIQUE CLUB HB 2","arbitrage","FDM","info"]
["19:00:00"]
[null,"20 - TRIGNAC HANDBALL 3"]
["2013-03-16","31 - AL CHATEAUBRIANT","arbitrage","FDM","info"]
["20:30:00"]
[null,"35 - ASPTT NANTES 2"]
["2013-03-16","26 - AL PORTERIE AC HANDBALL","arbitrage","FDM","info"]
["19:00:00"]
[null,"17 - THOUARE HANDBALL CLUB"]
["2013-03-16","24 - HANDBALL CLISSON","arbitrage","FDM","info"]
["22:00:00"]
[null,"39 - FANS HB LIGNE 2"]
[]
["Journée 18 du 01/04/2013 au 07/04/2013"]
[]
["2013-04-06","20 - FANS HB LIGNE 2","arbitrage","FDM","info"]
["19:30:00"]
[null,"18 - AL PORTERIE AC HANDBALL"]
["2013-04-06","27 - THOUARE HANDBALL CLUB","arbitrage","FDM","info"]
["19:00:00"]
[null,"26 - AL CHATEAUBRIANT"]
["2013-04-06","30 - ASPTT NANTES 2","arbitrage","FDM","info"]
["22:00:00"]
[null,"23 - ASC LA MONTAGNE"]
["2013-04-06","23 - ASAG HAYE FOUASSIERE","arbitrage","FDM","info"]
["19:00:00"]
[null,"24 - CHABOSSIERE OLYMPIQUE CLUB HB 2"]
["2013-04-06","19 - TRIGNAC HANDBALL 3","arbitrage","FDM","info"]
["22:00:00"]
[null,"26 - HIRONDELLE ST YO HB 2"]
["2013-04-06","32 - RACC NANTES 2","arbitrage","FDM","info"]
["21:00:00"]
[null,"19 - HANDBALL CLISSON"]
[]
["Journée 19 du 08/04/2013 au 14/04/2013"]
[]
["2013-04-13","- ASC LA MONTAGNE","arbitrage",null,"info"]
["19:45:00"]
[null,"- CHABOSSIERE OLYMPIQUE CLUB HB 2"]
["14/04/2013 (R)","- HIRONDELLE ST YO HB 2","arbitrage",null,"info"]
["16:00:00"]
[null,"- ASAG HAYE FOUASSIERE"]
["2013-04-13","- ASPTT NANTES 2","arbitrage",null,"info"]
["21:15:00"]
[null,"- THOUARE HANDBALL CLUB"]
["2013-04-13","- AL CHATEAUBRIANT","arbitrage",null,"info"]
["20:30:00"]
[null,"- FANS HB LIGNE 2"]
["2013-04-13","- AL PORTERIE AC HANDBALL","arbitrage",null,"info"]
["19:00:00"]
[null,"- RACC NANTES 2"]
["2013-04-13","- HANDBALL CLISSON","arbitrage",null,"info"]
["20:15:00"]
[null,"- TRIGNAC HANDBALL 3"]
[]
["Journée 20 du 15/04/2013 au 21/04/2013"]
[]
["2013-04-20","- FANS HB LIGNE 2","arbitrage",null,"info"]
["19:00:00"]
[null,"- ASPTT NANTES 2"]
["2013-04-20","- THOUARE HANDBALL CLUB","arbitrage",null,"info"]
["21:00:00"]
[null,"- ASC LA MONTAGNE"]
["2013-04-20","- CHABOSSIERE OLYMPIQUE CLUB HB 2","arbitrage",null,"info"]
["19:00:00"]
[null,"- HIRONDELLE ST YO HB 2"]
["2013-04-20","- ASAG HAYE FOUASSIERE","arbitrage",null,"info"]
["19:00:00"]
[null,"- HANDBALL CLISSON"]
["2013-04-20","- TRIGNAC HANDBALL 3","arbitrage",null,"info"]
["20:30:00"]
[null,"- AL PORTERIE AC HANDBALL"]
["2013-04-20","- RACC NANTES 2","arbitrage",null,"info"]
["21:00:00"]
[null,"- AL CHATEAUBRIANT"]
[]
["Journée 21 du 29/04/2013 au 05/05/2013"]
[]
["2013-05-04","- ASC LA MONTAGNE","arbitrage",null,"info"]
["20:00:00"]
[null,"- HIRONDELLE ST YO HB 2"]
["2013-05-04","- THOUARE HANDBALL CLUB","arbitrage",null,"info"]
["19:00:00"]
[null,"- FANS HB LIGNE 2"]
["2013-05-04","- ASPTT NANTES 2","arbitrage",null,"info"]
["22:00:00"]
[null,"- RACC NANTES 2"]
["2013-05-04","- AL CHATEAUBRIANT","arbitrage",null,"info"]
["20:30:00"]
[null,"- TRIGNAC HANDBALL 3"]
["2013-05-04","- AL PORTERIE AC HANDBALL","arbitrage",null,"info"]
["19:00:00"]
[null,"- ASAG HAYE FOUASSIERE"]
["2013-05-04","- HANDBALL CLISSON","arbitrage",null,"info"]
["19:00:00"]
[null,"- CHABOSSIERE OLYMPIQUE CLUB HB 2"]
[]
["Journée 22 du 06/05/2013 au 12/05/2013"]
[]
["11/05/2013 (R)","- FANS HB LIGNE 2","arbitrage",null,"info"]
["21:00:00"]
[null,"- ASC LA MONTAGNE"]
["2013-05-11","- HIRONDELLE ST YO HB 2","arbitrage",null,"info"]
["20:00:00"]
[null,"- HANDBALL CLISSON"]
["2013-05-11","- CHABOSSIERE OLYMPIQUE CLUB HB 2","arbitrage",null,"info"]
["22:00:00"]
[null,"- AL PORTERIE AC HANDBALL"]
["27/04/2013 (R)","- ASAG HAYE FOUASSIERE","arbitrage",null,"info"]
["21:00:00"]
[null,"- AL CHATEAUBRIANT"]
["2013-05-11","- TRIGNAC HANDBALL 3","arbitrage",null,"info"]
["22:00:00"]
[null,"- ASPTT NANTES 2"]
["2013-05-11","- RACC NANTES 2","arbitrage",null,"info"]
["19:00:00"]
[null,"- THOUARE HANDBALL CLUB"]
[]
["Tweeter"]
[]
["Liens permanents"]
[]
["Je recherche un club, une salle..."]
["Trouver un match près de chez vous"]
["Rendez-vous à ne pas manquer"]
["Boutique officielle"]
["Handline"]
["Presse"]
["Programme TV"]
["Médiathèque / Vidéos"]
[]
["Actualités"]
[]
["2013-04-08"]
[]
["FFHB : 85e Assemblée Générale Fédérale à Caen les 12 et 13 avril"]
[]
["2013-04-08"]
[]
["EDF (H) - L'Entretien du Lundi - Jérôme Fernandez : \"Transmettre le témoin\""]
[]
["2013-04-08"]
[]
["EDF (F) - Bleues de l'étranger : Györ prend une option"]
[]
["2013-04-08"]
[]
["EDF (F) - Bleues de l'Hexagone : Metz va y aller !"]
[]
["2013-04-06"]
[]
["EDF (H) - Qualifs Euro 2014 - Réactions et statistiques après France/Norvège"]
[]
["2013-04-06"]
[]
["EDF (H) - Qualifs Euro 2014 - Les Bleus qualifiés !"]
[]
["Newsletters"]
[]
["Pour rester informé, abonnez-vous à nos newsletters"]
[]
["Sélectionnez newsletters auxquelles vous souhaitez être abonné."]
[]
["> S'abonner"]
[]
["Publicité"]
[]
["Fédération Française de Handball"]
["LFH"]
["LNH"]
["PROD 2"]
["Leg'Hand"]
["Boutique officielle FFHB"]
["On est tous supporters"]
[]
["Plan du site"]
[]
["Liens | "]
["Crédits | "]
["Mentions légales | "]
["Contact | "]

{"sheet":"Feuil2","index":1,"n_rows":15,"n_cols":11,"rows_kept":15,"cut":false,"hidden":false,"merged":[[1,2,1,9]]}
[]
[null,null,"CLASSEMENT"]
[null,null,{"$f":"Feuil1!B259","v":"Équipes"},{"$f":"Feuil1!C259","v":"Pts"},{"$f":"Feuil1!D259","v":"J"},{"$f":"Feuil1!E259","v":"G"},{"$f":"Feuil1!F259","v":"Nuls"},{"$f":"Feuil1!G259","v":"P"},{"$f":"Feuil1!H259","v":"Buts +"},{"$f":"Feuil1!I259","v":"Buts -"},{"$f":"Feuil1!J259","v":"Diff"}]
[null,{"$f":"Feuil1!A260","v":1},{"$f":"Feuil1!B260","v":"RACC NANTES 2"},{"$f":"Feuil1!C260","v":52},{"$f":"Feuil1!D260","v":18},{"$f":"Feuil1!E260","v":17},{"$f":"Feuil1!F260","v":0},{"$f":"Feuil1!G260","v":1},{"$f":"Feuil1!H260","v":538},{"$f":"Feuil1!I260","v":379},{"$f":"Feuil1!J260","v":159}]
[null,{"$f":"Feuil1!A261","v":2},{"$f":"Feuil1!B261","v":"HIRONDELLE ST YO HB 2"},{"$f":"Feuil1!C261","v":43},{"$f":"Feuil1!D261","v":18},{"$f":"Feuil1!E261","v":12},{"$f":"Feuil1!F261","v":1},{"$f":"Feuil1!G261","v":5},{"$f":"Feuil1!H261","v":498},{"$f":"Feuil1!I261","v":420},{"$f":"Feuil1!J261","v":78}]
[null,{"$f":"Feuil1!A262","v":3},{"$f":"Feuil1!B262","v":"FANS HB LIGNE 2"},{"$f":"Feuil1!C262","v":42},{"$f":"Feuil1!D262","v":18},{"$f":"Feuil1!E262","v":12},{"$f":"Feuil1!F262","v":0},{"$f":"Feuil1!G262","v":6},{"$f":"Feuil1!H262","v":459},{"$f":"Feuil1!I262","v":432},{"$f":"Feuil1!J262","v":27}]
[null,{"$f":"Feuil1!A263","v":4},{"$f":"Feuil1!B263","v":"ASPTT NANTES 2"},{"$f":"Feuil1!C263","v":40},{"$f":"Feuil1!D263","v":18},{"$f":"Feuil1!E263","v":10},{"$f":"Feuil1!F263","v":2},{"$f":"Feuil1!G263","v":6},{"$f":"Feuil1!H263","v":467},{"$f":"Feuil1!I263","v":427},{"$f":"Feuil1!J263","v":40}]
[null,{"$f":"Feuil1!A264","v":5},{"$f":"Feuil1!B264","v":"AL PORTERIE AC HANDBALL"},{"$f":"Feuil1!C264","v":40},{"$f":"Feuil1!D264","v":18},{"$f":"Feuil1!E264","v":11},{"$f":"Feuil1!F264","v":0},{"$f":"Feuil1!G264","v":7},{"$f":"Feuil1!H264","v":444},{"$f":"Feuil1!I264","v":427},{"$f":"Feuil1!J264","v":17}]
[null,{"$f":"Feuil1!A265","v":6},{"$f":"Feuil1!B265","v":"ASC LA MONTAGNE"},{"$f":"Feuil1!C265","v":36},{"$f":"Feuil1!D265","v":18},{"$f":"Feuil1!E265","v":9},{"$f":"Feuil1!F265","v":0},{"$f":"Feuil1!G265","v":9},{"$f":"Feuil1!H265","v":458},{"$f":"Feuil1!I265","v":455},{"$f":"Feuil1!J265","v":3}]
[null,{"$f":"Feuil1!A266","v":7},{"$f":"Feuil1!B266","v":"AL CHATEAUBRIANT"},{"$f":"Feuil1!C266","v":34},{"$f":"Feuil1!D266","v":18},{"$f":"Feuil1!E266","v":7},{"$f":"Feuil1!F266","v":2},{"$f":"Feuil1!G266","v":9},{"$f":"Feuil1!H266","v":483},{"$f":"Feuil1!I266","v":499},{"$f":"Feuil1!J266","v":-16}]
[null,{"$f":"Feuil1!A267","v":8},{"$f":"Feuil1!B267","v":"CHABOSSIERE OLYMPIQUE CLUB HB 2"},{"$f":"Feuil1!C267","v":34},{"$f":"Feuil1!D267","v":18},{"$f":"Feuil1!E267","v":7},{"$f":"Feuil1!F267","v":2},{"$f":"Feuil1!G267","v":9},{"$f":"Feuil1!H267","v":446},{"$f":"Feuil1!I267","v":472},{"$f":"Feuil1!J267","v":-26}]
[null,{"$f":"Feuil1!A268","v":9},{"$f":"Feuil1!B268","v":"TRIGNAC HANDBALL 3"},{"$f":"Feuil1!C268","v":32},{"$f":"Feuil1!D268","v":18},{"$f":"Feuil1!E268","v":6},{"$f":"Feuil1!F268","v":2},{"$f":"Feuil1!G268","v":10},{"$f":"Feuil1!H268","v":414},{"$f":"Feuil1!I268","v":454},{"$f":"Feuil1!J268","v":-40}]
[null,{"$f":"Feuil1!A269","v":10},{"$f":"Feuil1!B269","v":"HANDBALL CLISSON"},{"$f":"Feuil1!C269","v":31},{"$f":"Feuil1!D269","v":18},{"$f":"Feuil1!E269","v":6},{"$f":"Feuil1!F269","v":1},{"$f":"Feuil1!G269","v":11},{"$f":"Feuil1!H269","v":416},{"$f":"Feuil1!I269","v":467},{"$f":"Feuil1!J269","v":-51}]
[null,{"$f":"Feuil1!A270","v":11},{"$f":"Feuil1!B270","v":"THOUARE HANDBALL CLUB"},{"$f":"Feuil1!C270","v":30},{"$f":"Feuil1!D270","v":18},{"$f":"Feuil1!E270","v":6},{"$f":"Feuil1!F270","v":0},{"$f":"Feuil1!G270","v":12},{"$f":"Feuil1!H270","v":387},{"$f":"Feuil1!I270","v":440},{"$f":"Feuil1!J270","v":-53}]
[null,{"$f":"Feuil1!A271","v":12},{"$f":"Feuil1!B271","v":"ASAG HAYE FOUASSIERE"},{"$f":"Feuil1!C271","v":18},{"$f":"Feuil1!D271","v":18},{"$f":"Feuil1!E271","v":0},{"$f":"Feuil1!F271","v":0},{"$f":"Feuil1!G271","v":18},{"$f":"Feuil1!H271","v":368},{"$f":"Feuil1!I271","v":506},{"$f":"Feuil1!J271","v":-138}]

{"sheet":"Feuil6","index":2,"n_rows":15,"n_cols":7,"rows_kept":15,"cut":false,"hidden":false,"merged":[]}
[]
[]
["journée","date","heure","domicile","score domicile","score visiteur","visisteur "]
[2,"2012-09-22","19:00:00","- AL PORTERIE AC HANDBALL",18,37,"- HANDBALL CLISSON"]
[5,"20/10/2012 (R)","21:00:00","- AL PORTERIE AC HANDBALL",16,30,"- ASPTT NANTES 2"]
[7,"2012-11-10","19:00:00","- AL PORTERIE AC HANDBALL",24,21,"- FANS HB LIGNE 2"]
[9,"2012-12-01","20:00:00","- AL PORTERIE AC HANDBALL",30,21,"- TRIGNAC HANDBALL 3"]
[11,"2013-01-05","21:00:00","- AL PORTERIE AC HANDBALL",24,23,"- CHABOSSIERE OLYMPIQUE CLUB HB 2"]
[12,"2013-01-19","21:00:00","- AL PORTERIE AC HANDBALL",29,27,"- HIRONDELLE ST YO HB 2"]
[14,"02/02/2013 (R)","19:00:00","- AL PORTERIE AC HANDBALL",23,16,"- ASC LA MONTAGNE"]
[15,"2013-02-09","21:00:00","- AL PORTERIE AC HANDBALL",28,25,"- AL CHATEAUBRIANT"]
[17,"2013-03-16","19:00:00","- AL PORTERIE AC HANDBALL",26,17,"- HIRONDELLE ST YO HB 2"]
[19,"2013-04-13","19:00:00","- AL PORTERIE AC HANDBALL","(vide)","(vide)","- RACC NANTES 2"]
[21,"2013-05-04","19:00:00","- AL PORTERIE AC HANDBALL","(vide)","(vide)","- ASAG HAYE FOUASSIERE"]
["Total général"]

{"sheet":"Feuil7","index":3,"n_rows":137,"n_cols":7,"rows_kept":137,"cut":false,"hidden":false,"merged":[]}
[]
[]
[]
["journée","date","heure","domicile","score domicile","score visiteur","visisteur "]
[1,"27/10/2012 (R)","22:00:00","- CHABOSSIERE OLYMPIQUE CLUB HB 2",22,22,"- AL CHATEAUBRIANT"]
[null,"2012-09-15","19:00:00","- ASAG HAYE FOUASSIERE",29,32,"- ASPTT NANTES 2"]
[null,null,null,"- HANDBALL CLISSON",20,19,"- ASC LA MONTAGNE"]
[null,null,null,"- HIRONDELLE ST YO HB 2",19,25,"- TRIGNAC HANDBALL 3"]
[null,null,null,null,22,26,"- AL PORTERIE AC HANDBALL"]
[null,null,null,"- RACC NANTES 2",31,23,"- FANS HB LIGNE 2"]
[2,"2012-09-22","19:00:00","- AL PORTERIE AC HANDBALL",18,37,"- HANDBALL CLISSON"]
[null,null,null,"- FANS HB LIGNE 2",24,20,"- TRIGNAC HANDBALL 3"]
[null,null,null,"- HIRONDELLE ST YO HB 2",30,23,"- ASAG HAYE FOUASSIERE"]
[null,null,"21:00:00","- ASC LA MONTAGNE",23,42,"- RACC NANTES 2"]
[null,null,"21:30:00","- AL CHATEAUBRIANT",26,31,"- HIRONDELLE ST YO HB 2"]
[null,"2012-09-23","16:00:00","- ASPTT NANTES 2",24,24,"- CHABOSSIERE OLYMPIQUE CLUB HB 2"]
[3,"06/10/2012 (R)","21:00:00","- HIRONDELLE ST YO HB 2",33,33,"- ASPTT NANTES 2"]
[null,"2012-10-06","19:00:00","- ASAG HAYE FOUASSIERE",20,28,"- FANS HB LIGNE 2"]
[null,null,null,"- HANDBALL CLISSON",20,27,"- AL CHATEAUBRIANT"]
[null,null,null,"- TRIGNAC HANDBALL 3",23,41,"- RACC NANTES 2"]
[null,null,"20:30:00","- ASC LA MONTAGNE",25,24,"- AL PORTERIE AC HANDBALL"]
[null,null,"22:00:00","- CHABOSSIERE OLYMPIQUE CLUB HB 2",18,30,"- HIRONDELLE ST YO HB 2"]
[4,"13/10/2012 (R)","21:00:00","- HIRONDELLE ST YO HB 2",19,28,"- HIRONDELLE ST YO HB 2"]
[null,"2012-10-13","19:00:00","- FANS HB LIGNE 2",32,30,"- CHABOSSIERE OLYMPIQUE CLUB HB 2"]
[null,null,null,"- RACC NANTES 2",29,17,"- ASAG HAYE FOUASSIERE"]
[null,null,"21:30:00","- AL CHATEAUBRIANT",28,32,"- AL PORTERIE AC HANDBALL"]
[null,null,"22:00:00","- TRIGNAC HANDBALL 3",23,33,"- ASC LA MONTAGNE"]
[null,"2012-10-14","16:00:00","- ASPTT NANTES 2",23,16,"- HANDBALL CLISSON"]
[5,"20/10/2012 (R)","21:00:00","- AL PORTERIE AC HANDBALL",16,30,"- ASPTT NANTES 2"]
[null,"2012-10-20","19:00:00","- ASAG HAYE FOUASSIERE",22,26,"- TRIGNAC HANDBALL 3"]
[null,null,null,"- CHABOSSIERE OLYMPIQUE CLUB HB 2",27,34,"- RACC NANTES 2"]
[null,null,null,"- HANDBALL CLISSON",24,22,"- HIRONDELLE ST YO HB 2"]
[null,null,"20:30:00","- ASC LA MONTAGNE",35,25,"- AL CHATEAUBRIANT"]
[null,null,"21:00:00","- HIRONDELLE ST YO HB 2",24,25,"- FANS HB LIGNE 2"]
[6,"03/11/2012 (R)","19:00:00","- HIRONDELLE ST YO HB 2",25,22,"- AL PORTERIE AC HANDBALL"]
[null,"2012-11-03","19:00:00","- ASAG HAYE FOUASSIERE",19,35,"- ASC LA MONTAGNE"]
[null,null,null,"- FANS HB LIGNE 2",30,29,"- HANDBALL CLISSON"]
[null,null,null,"- RACC NANTES 2",29,24,"- HIRONDELLE ST YO HB 2"]
[null,null,"22:00:00","- TRIGNAC HANDBALL 3",30,22,"- CHABOSSIERE OLYMPIQUE CLUB HB 2"]
[null,"2012-11-04","11:00:00","- ASPTT NANTES 2",18,24,"- AL CHATEAUBRIANT"]
[7,"24/11/2012 (R)","22:00:00","- CHABOSSIERE OLYMPIQUE CLUB HB 2",28,24,"- ASAG HAYE FOUASSIERE"]
[null,"2012-11-10","19:00:00","- AL PORTERIE AC HANDBALL",24,21,"- FANS HB LIGNE 2"]
[null,null,"19:30:00","- ASC LA MONTAGNE",26,23,"- ASPTT NANTES 2"]
[null,null,"20:00:00","- HIRONDELLE ST YO HB 2",27,20,"- TRIGNAC HANDBALL 3"]
[null,null,"20:30:00","- AL CHATEAUBRIANT",31,24,"- HIRONDELLE ST YO HB 2"]
[null,null,"21:00:00","- HANDBALL CLISSON",18,24,"- RACC NANTES 2"]
[8,"2012-11-17","19:00:00","- ASAG HAYE FOUASSIERE",20,32,"- HIRONDELLE ST YO HB 2"]
[null,null,null,"- CHABOSSIERE OLYMPIQUE CLUB HB 2",23,21,"- ASC LA MONTAGNE"]
[null,null,null,"- RACC NANTES 2",24,23,"- AL PORTERIE AC HANDBALL"]
[null,null,"21:00:00","- FANS HB LIGNE 2",28,24,"- AL CHATEAUBRIANT"]
[null,null,null,"- HIRONDELLE ST YO HB 2",12,25,"- ASPTT NANTES 2"]
[null,null,"22:00:00","- TRIGNAC HANDBALL 3",31,31,"- HANDBALL CLISSON"]
[9,"01/12/2012 (R)","20:30:00","- AL CHATEAUBRIANT",16,31,"- RACC NANTES 2"]
[null,"2012-12-01","19:00:00","- HANDBALL CLISSON",24,17,"- ASAG HAYE FOUASSIERE"]
[null,null,"20:00:00","- AL PORTERIE AC HANDBALL",30,21,"- TRIGNAC HANDBALL 3"]
[null,null,null,"- ASC LA MONTAGNE",28,24,"- HIRONDELLE ST YO HB 2"]
[null,null,null,"- HIRONDELLE ST YO HB 2",30,25,"- CHABOSSIERE OLYMPIQUE CLUB HB 2"]
[null,"2012-12-02","14:00:00","- ASPTT NANTES 2",21,25,"- FANS HB LIGNE 2"]
[10,"2012-12-08","19:00:00","- ASAG HAYE FOUASSIERE",17,33,"- AL PORTERIE AC HANDBALL"]
[null,null,"21:00:00","- FANS HB LIGNE 2",21,11,"- HIRONDELLE ST YO HB 2"]
[null,null,null,"- HIRONDELLE ST YO HB 2",30,18,"- ASC LA MONTAGNE"]
[null,null,null,"- RACC NANTES 2",30,24,"- ASPTT NANTES 2"]
[null,null,"22:00:00","- CHABOSSIERE OLYMPIQUE CLUB HB 2",33,24,"- HANDBALL CLISSON"]
[null,null,null,"- TRIGNAC HANDBALL 3",23,23,"- AL CHATEAUBRIANT"]
[11,"05/01/2013 (R)","18:30:00","- HANDBALL CLISSON",23,31,"- HIRONDELLE ST YO HB 2"]
[null,"12/01/2013 (R)","20:30:00","- AL CHATEAUBRIANT",26,23,"- ASAG HAYE FOUASSIERE"]
[null,"2013-01-05","19:00:00","- HIRONDELLE ST YO HB 2",24,30,"- RACC NANTES 2"]
[null,null,"21:00:00","- AL PORTERIE AC HANDBALL",24,23,"- CHABOSSIERE OLYMPIQUE CLUB HB 2"]
[null,"2013-01-06","09:30:00","- ASC LA MONTAGNE",31,23,"- FANS HB LIGNE 2"]
[null,null,"14:00:00","- ASPTT NANTES 2",25,15,"- TRIGNAC HANDBALL 3"]
[12,"19/01/2013 (R)","19:00:00","- FANS HB LIGNE 2",25,24,"- RACC NANTES 2"]
[null,"20/01/2013 (R)","14:00:00","- ASPTT NANTES 2",22,18,"- ASAG HAYE FOUASSIERE"]
[null,"2013-01-19","20:30:00","- AL CHATEAUBRIANT",31,25,"- CHABOSSIERE OLYMPIQUE CLUB HB 2"]
[null,null,null,"- TRIGNAC HANDBALL 3",23,26,"- HIRONDELLE ST YO HB 2"]
[null,null,"21:00:00","- AL PORTERIE AC HANDBALL",29,27,"- HIRONDELLE ST YO HB 2"]
[null,"2013-01-20","11:00:00","- ASC LA MONTAGNE",25,17,"- HANDBALL CLISSON"]
[13,"26/01/2013 (R)","22:00:00","- HANDBALL CLISSON",20,25,"- AL PORTERIE AC HANDBALL"]
[null,"2013-01-26","19:00:00","- ASAG HAYE FOUASSIERE",19,21,"- HIRONDELLE ST YO HB 2"]
[null,null,null,"- CHABOSSIERE OLYMPIQUE CLUB HB 2",27,31,"- ASPTT NANTES 2"]
[null,null,null,"- TRIGNAC HANDBALL 3",26,24,"- FANS HB LIGNE 2"]
[null,null,"21:00:00","- RACC NANTES 2",30,24,"- ASC LA MONTAGNE"]
[null,"2013-01-27","14:00:00","- HIRONDELLE ST YO HB 2",36,25,"- AL CHATEAUBRIANT"]
[14,"02/02/2013 (R)","19:00:00","- AL PORTERIE AC HANDBALL",23,16,"- ASC LA MONTAGNE"]
[null,"15/12/2012 (R)","19:00:00","- HIRONDELLE ST YO HB 2",24,29,"- CHABOSSIERE OLYMPIQUE CLUB HB 2"]
[null,"2013-02-02","19:00:00","- RACC NANTES 2",21,16,"- TRIGNAC HANDBALL 3"]
[null,null,"20:30:00","- AL CHATEAUBRIANT",36,25,"- HANDBALL CLISSON"]
[null,null,null,"- FANS HB LIGNE 2",29,24,"- ASAG HAYE FOUASSIERE"]
[null,"2013-02-03","14:30:00","- ASPTT NANTES 2",21,28,"- HIRONDELLE ST YO HB 2"]
[15,"09/02/2013 (R)","20:00:00","- HIRONDELLE ST YO HB 2",24,18,"- HIRONDELLE ST YO HB 2"]
[null,null,"20:15:00","- HANDBALL CLISSON",27,21,"- ASPTT NANTES 2"]
[null,"2013-02-09","19:00:00","- ASAG HAYE FOUASSIERE",14,36,"- RACC NANTES 2"]
[null,null,"19:30:00","- ASC LA MONTAGNE",19,23,"- TRIGNAC HANDBALL 3"]
[null,null,"21:00:00","- AL PORTERIE AC HANDBALL",28,25,"- AL CHATEAUBRIANT"]
[null,null,"22:00:00","- CHABOSSIERE OLYMPIQUE CLUB HB 2",27,20,"- FANS HB LIGNE 2"]
[16,"17/02/2013 (R)","15:15:00","- ASPTT NANTES 2",29,23,"- AL PORTERIE AC HANDBALL"]
[null,"23/02/2013 (R)","21:00:00","- HIRONDELLE ST YO HB 2",14,18,"- HANDBALL CLISSON"]
[null,"2013-02-16","19:00:00","- TRIGNAC HANDBALL 3",30,20,"- ASAG HAYE FOUASSIERE"]
[null,null,"20:30:00","- AL CHATEAUBRIANT",37,36,"- ASC LA MONTAGNE"]
[null,null,"21:00:00","- FANS HB LIGNE 2",22,24,"- HIRONDELLE ST YO HB 2"]
[null,null,null,"- RACC NANTES 2",28,18,"- CHABOSSIERE OLYMPIQUE CLUB HB 2"]
[17,"09/03/2013 (R)","20:00:00","- HIRONDELLE ST YO HB 2",21,22,"- RACC NANTES 2"]
[null,"2013-03-16","19:00:00","- AL PORTERIE AC HANDBALL",26,17,"- HIRONDELLE ST YO HB 2"]
[null,null,null,"- CHABOSSIERE OLYMPIQUE CLUB HB 2",21,20,"- TRIGNAC HANDBALL 3"]
[null,null,"19:30:00","- ASC LA MONTAGNE",21,19,"- ASAG HAYE FOUASSIERE"]
[null,null,"20:30:00","- AL CHATEAUBRIANT",31,35,"- ASPTT NANTES 2"]
[null,null,"22:00:00","- HANDBALL CLISSON",24,39,"- FANS HB LIGNE 2"]
[18,"2013-04-06","19:00:00","- ASAG HAYE FOUASSIERE",23,24,"- CHABOSSIERE OLYMPIQUE CLUB HB 2"]
[null,null,null,"- HIRONDELLE ST YO HB 2",27,26,"- AL CHATEAUBRIANT"]
[null,null,"19:30:00","- FANS HB LIGNE 2",20,18,"- AL PORTERIE AC HANDBALL"]
[null,null,"21:00:00","- RACC NANTES 2",32,19,"- HANDBALL CLISSON"]
[null,null,"22:00:00","- ASPTT NANTES 2",30,23,"- ASC LA MONTAGNE"]
[null,null,null,"- TRIGNAC HANDBALL 3",19,26,"- HIRONDELLE ST YO HB 2"]
[19,"14/04/2013 (R)","16:00:00","- HIRONDELLE ST YO HB 2","(vide)","(vide)","- ASAG HAYE FOUASSIERE"]
[null,"2013-04-13","19:00:00","- AL PORTERIE AC HANDBALL","(vide)","(vide)","- RACC NANTES 2"]
[null,null,"19:45:00","- ASC LA MONTAGNE","(vide)","(vide)","- CHABOSSIERE OLYMPIQUE CLUB HB 2"]
[null,null,"20:15:00","- HANDBALL CLISSON","(vide)","(vide)","- TRIGNAC HANDBALL 3"]
[null,null,"20:30:00","- AL CHATEAUBRIANT","(vide)","(vide)","- FANS HB LIGNE 2"]
[null,null,"21:15:00","- ASPTT NANTES 2","(vide)","(vide)","- HIRONDELLE ST YO HB 2"]
[20,"2013-04-20","19:00:00","- ASAG HAYE FOUASSIERE","(vide)","(vide)","- HANDBALL CLISSON"]
[null,null,null,"- CHABOSSIERE OLYMPIQUE CLUB HB 2","(vide)","(vide)","- HIRONDELLE ST YO HB 2"]
[null,null,null,"- FANS HB LIGNE 2","(vide)","(vide)","- ASPTT NANTES 2"]
[null,null,"20:30:00","- TRIGNAC HANDBALL 3","(vide)","(vide)","- AL PORTERIE AC HANDBALL"]
[null,null,"21:00:00","- HIRONDELLE ST YO HB 2","(vide)","(vide)","- ASC LA MONTAGNE"]
[null,null,null,"- RACC NANTES 2","(vide)","(vide)","- AL CHATEAUBRIANT"]
[21,"2013-05-04","19:00:00","- AL PORTERIE AC HANDBALL","(vide)","(vide)","- ASAG HAYE FOUASSIERE"]
[null,null,null,"- HANDBALL CLISSON","(vide)","(vide)","- CHABOSSIERE OLYMPIQUE CLUB HB 2"]
[null,null,null,"- HIRONDELLE ST YO HB 2","(vide)","(vide)","- FANS HB LIGNE 2"]
[null,null,"20:00:00","- ASC LA MONTAGNE","(vide)","(vide)","- HIRONDELLE ST YO HB 2"]
[null,null,"20:30:00","- AL CHATEAUBRIANT","(vide)","(vide)","- TRIGNAC HANDBALL 3"]
[null,null,"22:00:00","- ASPTT NANTES 2","(vide)","(vide)","- RACC NANTES 2"]
[22,"11/05/2013 (R)","21:00:00"," - FANS HB LIGNE 2","(vide)","(vide)"," - ASC LA MONTAGNE"]
[null,"27/04/2013 (R)","21:00:00","- ASAG HAYE FOUASSIERE","(vide)","(vide)","- AL CHATEAUBRIANT"]
[null,"2013-05-11","19:00:00","- RACC NANTES 2","(vide)","(vide)","- HIRONDELLE ST YO HB 2"]
[null,null,"20:00:00","- HIRONDELLE ST YO HB 2","(vide)","(vide)","- HANDBALL CLISSON"]
[null,null,"22:00:00","- CHABOSSIERE OLYMPIQUE CLUB HB 2","(vide)","(vide)","- AL PORTERIE AC HANDBALL"]
[null,null,null,"- TRIGNAC HANDBALL 3","(vide)","(vide)","- ASPTT NANTES 2"]
["Total général"]

{"sheet":"Feuil10","index":4,"n_rows":135,"n_cols":9,"rows_kept":135,"cut":false,"hidden":false,"merged":[]}
[]
[]
["journée","date","heure","domicile","score domicile","score visiteur","visisteur ","gagnant","perdant"]
[1,"27/10/2012 (R)","22:00:00","- CHABOSSIERE OLYMPIQUE CLUB HB 2",22,22,"- AL CHATEAUBRIANT",""]
[null,"2012-09-15","19:00:00","- ASAG HAYE FOUASSIERE",29,32,"- ASPTT NANTES 2","- ASPTT NANTES 2","- ASAG HAYE FOUASSIERE"]
[null,null,null,"- HANDBALL CLISSON",20,19,"- ASC LA MONTAGNE","- HANDBALL CLISSON","- ASC LA MONTAGNE"]
[null,null,null,"- HIRONDELLE ST YO HB 2",19,25,"- TRIGNAC HANDBALL 3","- TRIGNAC HANDBALL 3","- HIRONDELLE ST YO HB 2"]
[null,null,null,null,22,26,"- AL PORTERIE AC HANDBALL","- AL PORTERIE AC HANDBALL","- HIRONDELLE ST YO HB 2"]
[null,null,null,"- RACC NANTES 2",31,23,"- FANS HB LIGNE 2","- RACC NANTES 2","- FANS HB LIGNE 2"]
[2,"2012-09-22","19:00:00","- AL PORTERIE AC HANDBALL",18,37,"- HANDBALL CLISSON","- HANDBALL CLISSON","- AL PORTERIE AC HANDBALL"]
[null,null,null,"- FANS HB LIGNE 2",24,20,"- TRIGNAC HANDBALL 3","- FANS HB LIGNE 2","- TRIGNAC HANDBALL 3"]
[null,null,null,"- HIRONDELLE ST YO HB 2",30,23,"- ASAG HAYE FOUASSIERE","- HIRONDELLE ST YO HB 2","- ASAG HAYE FOUASSIERE"]
[null,null,"21:00:00","- ASC LA MONTAGNE",23,42,"- RACC NANTES 2","- RACC NANTES 2","- ASC LA MONTAGNE"]
[null,null,"21:30:00","- AL CHATEAUBRIANT",26,31,"- HIRONDELLE ST YO HB 2","- HIRONDELLE ST YO HB 2","- AL CHATEAUBRIANT"]
[null,"2012-09-23","16:00:00","- ASPTT NANTES 2",24,24,"- CHABOSSIERE OLYMPIQUE CLUB HB 2",""]
[3,"06/10/2012 (R)","21:00:00","- HIRONDELLE ST YO HB 2",33,33,"- ASPTT NANTES 2",""]
[null,"2012-10-06","19:00:00","- ASAG HAYE FOUASSIERE",20,28,"- FANS HB LIGNE 2","- FANS HB LIGNE 2","- ASAG HAYE FOUASSIERE"]
[null,null,null,"- HANDBALL CLISSON",20,27,"- AL CHATEAUBRIANT","- AL CHATEAUBRIANT","- HANDBALL CLISSON"]
[null,null,null,"- TRIGNAC HANDBALL 3",23,41,"- RACC NANTES 2","- RACC NANTES 2","- TRIGNAC HANDBALL 3"]
[null,null,"20:30:00","- ASC LA MONTAGNE",25,24,"- AL PORTERIE AC HANDBALL","- ASC LA MONTAGNE","- AL PORTERIE AC HANDBALL"]
[null,null,"22:00:00","- CHABOSSIERE OLYMPIQUE CLUB HB 2",18,30,"- HIRONDELLE ST YO HB 2","- HIRONDELLE ST YO HB 2","- CHABOSSIERE OLYMPIQUE CLUB HB 2"]
[4,"13/10/2012 (R)","21:00:00","- HIRONDELLE ST YO HB 2",19,28,"- HIRONDELLE ST YO HB 2","- HIRONDELLE ST YO HB 2","- HIRONDELLE ST YO HB 2"]
[null,"2012-10-13","19:00:00","- FANS HB LIGNE 2",32,30,"- CHABOSSIERE OLYMPIQUE CLUB HB 2","- FANS HB LIGNE 2","- CHABOSSIERE OLYMPIQUE CLUB HB 2"]
[null,null,null,"- RACC NANTES 2",29,17,"- ASAG HAYE FOUASSIERE","- RACC NANTES 2","- ASAG HAYE FOUASSIERE"]
[null,null,"21:30:00","- AL CHATEAUBRIANT",28,32,"- AL PORTERIE AC HANDBALL","- AL PORTERIE AC HANDBALL","- AL CHATEAUBRIANT"]
[null,null,"22:00:00","- TRIGNAC HANDBALL 3",23,33,"- ASC LA MONTAGNE","- ASC LA MONTAGNE","- TRIGNAC HANDBALL 3"]
[null,"2012-10-14","16:00:00","- ASPTT NANTES 2",23,16,"- HANDBALL CLISSON","- ASPTT NANTES 2","- HANDBALL CLISSON"]
[5,"20/10/2012 (R)","21:00:00","- AL PORTERIE AC HANDBALL",16,30,"- ASPTT NANTES 2","- ASPTT NANTES 2","- AL PORTERIE AC HANDBALL"]
[null,"2012-10-20","19:00:00","- ASAG HAYE FOUASSIERE",22,26,"- TRIGNAC HANDBALL 3","- TRIGNAC HANDBALL 3","- ASAG HAYE FOUASSIERE"]
[null,null,null,"- CHABOSSIERE OLYMPIQUE CLUB HB 2",27,34,"- RACC NANTES 2","- RACC NANTES 2","- CHABOSSIERE OLYMPIQUE CLUB HB 2"]
[null,null,null,"- HANDBALL CLISSON",24,22,"- HIRONDELLE ST YO HB 2","- HANDBALL CLISSON","- HIRONDELLE ST YO HB 2"]
[null,null,"20:30:00","- ASC LA MONTAGNE",35,25,"- AL CHATEAUBRIANT","- ASC LA MONTAGNE","- AL CHATEAUBRIANT"]
[null,null,"21:00:00","- HIRONDELLE ST YO HB 2",24,25,"- FANS HB LIGNE 2","- FANS HB LIGNE 2","- HIRONDELLE ST YO HB 2"]
[6,"03/11/2012 (R)","19:00:00","- HIRONDELLE ST YO HB 2",25,22,"- AL PORTERIE AC HANDBALL","- HIRONDELLE ST YO HB 2","- AL PORTERIE AC HANDBALL"]
[null,"2012-11-03","19:00:00","- ASAG HAYE FOUASSIERE",19,35,"- ASC LA MONTAGNE","- ASC LA MONTAGNE","- ASAG HAYE FOUASSIERE"]
[null,null,null,"- FANS HB LIGNE 2",30,29,"- HANDBALL CLISSON","- FANS HB LIGNE 2","- HANDBALL CLISSON"]
[null,null,null,"- RACC NANTES 2",29,24,"- HIRONDELLE ST YO HB 2","- RACC NANTES 2","- HIRONDELLE ST YO HB 2"]
[null,null,"22:00:00","- TRIGNAC HANDBALL 3",30,22,"- CHABOSSIERE OLYMPIQUE CLUB HB 2","- TRIGNAC HANDBALL 3","- CHABOSSIERE OLYMPIQUE CLUB HB 2"]
[null,"2012-11-04","11:00:00","- ASPTT NANTES 2",18,24,"- AL CHATEAUBRIANT","- AL CHATEAUBRIANT","- ASPTT NANTES 2"]
[7,"24/11/2012 (R)","22:00:00","- CHABOSSIERE OLYMPIQUE CLUB HB 2",28,24,"- ASAG HAYE FOUASSIERE","- CHABOSSIERE OLYMPIQUE CLUB HB 2","- ASAG HAYE FOUASSIERE"]
[null,"2012-11-10","19:00:00","- AL PORTERIE AC HANDBALL",24,21,"- FANS HB LIGNE 2","- AL PORTERIE AC HANDBALL","- FANS HB LIGNE 2"]
[null,null,"19:30:00","- ASC LA MONTAGNE",26,23,"- ASPTT NANTES 2","- ASC LA MONTAGNE","- ASPTT NANTES 2"]
[null,null,"20:00:00","- HIRONDELLE ST YO HB 2",27,20,"- TRIGNAC HANDBALL 3","- HIRONDELLE ST YO HB 2","- TRIGNAC HANDBALL 3"]
[null,null,"20:30:00","- AL CHATEAUBRIANT",31,24,"- HIRONDELLE ST YO HB 2","- AL CHATEAUBRIANT","- HIRONDELLE ST YO HB 2"]
[null,null,"21:00:00","- HANDBALL CLISSON",18,24,"- RACC NANTES 2","- RACC NANTES 2","- HANDBALL CLISSON"]
[8,"2012-11-17","19:00:00","- ASAG HAYE FOUASSIERE",20,32,"- HIRONDELLE ST YO HB 2","- HIRONDELLE ST YO HB 2","- ASAG HAYE FOUASSIERE"]
[null,null,null,"- CHABOSSIERE OLYMPIQUE CLUB HB 2",23,21,"- ASC LA MONTAGNE","- CHABOSSIERE OLYMPIQUE CLUB HB 2","- ASC LA MONTAGNE"]
[null,null,null,"- RACC NANTES 2",24,23,"- AL PORTERIE AC HANDBALL","- RACC NANTES 2","- AL PORTERIE AC HANDBALL"]
[null,null,"21:00:00","- FANS HB LIGNE 2",28,24,"- AL CHATEAUBRIANT","- FANS HB LIGNE 2","- AL CHATEAUBRIANT"]
[null,null,null,"- HIRONDELLE ST YO HB 2",12,25,"- ASPTT NANTES 2","- ASPTT NANTES 2","- HIRONDELLE ST YO HB 2"]
[null,null,"22:00:00","- TRIGNAC HANDBALL 3",31,31,"- HANDBALL CLISSON",""]
[9,"01/12/2012 (R)","20:30:00","- AL CHATEAUBRIANT",16,31,"- RACC NANTES 2","- RACC NANTES 2","- AL CHATEAUBRIANT"]
[null,"2012-12-01","19:00:00","- HANDBALL CLISSON",24,17,"- ASAG HAYE FOUASSIERE","- HANDBALL CLISSON","- ASAG HAYE FOUASSIERE"]
[null,null,"20:00:00","- AL PORTERIE AC HANDBALL",30,21,"- TRIGNAC HANDBALL 3","- AL PORTERIE AC HANDBALL","- TRIGNAC HANDBALL 3"]
[null,null,null,"- ASC LA MONTAGNE",28,24,"- HIRONDELLE ST YO HB 2","- ASC LA MONTAGNE","- HIRONDELLE ST YO HB 2"]
[null,null,null,"- HIRONDELLE ST YO HB 2",30,25,"- CHABOSSIERE OLYMPIQUE CLUB HB 2","- HIRONDELLE ST YO HB 2","- CHABOSSIERE OLYMPIQUE CLUB HB 2"]
[null,"2012-12-02","14:00:00","- ASPTT NANTES 2",21,25,"- FANS HB LIGNE 2","- FANS HB LIGNE 2","- ASPTT NANTES 2"]
[10,"2012-12-08","19:00:00","- ASAG HAYE FOUASSIERE",17,33,"- AL PORTERIE AC HANDBALL","- AL PORTERIE AC HANDBALL","- ASAG HAYE FOUASSIERE"]
[null,null,"21:00:00","- FANS HB LIGNE 2",21,11,"- HIRONDELLE ST YO HB 2","- FANS HB LIGNE 2","- HIRONDELLE ST YO HB 2"]
[null,null,null,"- HIRONDELLE ST YO HB 2",30,18,"- ASC LA MONTAGNE","- HIRONDELLE ST YO HB 2","- ASC LA MONTAGNE"]
[null,null,null,"- RACC NANTES 2",30,24,"- ASPTT NANTES 2","- RACC NANTES 2","- ASPTT NANTES 2"]
[null,null,"22:00:00","- CHABOSSIERE OLYMPIQUE CLUB HB 2",33,24,"- HANDBALL CLISSON","- CHABOSSIERE OLYMPIQUE CLUB HB 2","- HANDBALL CLISSON"]
[null,null,null,"- TRIGNAC HANDBALL 3",23,23,"- AL CHATEAUBRIANT",""]
[11,"05/01/2013 (R)","18:30:00","- HANDBALL CLISSON",23,31,"- HIRONDELLE ST YO HB 2","- HIRONDELLE ST YO HB 2","- HANDBALL CLISSON"]
[null,"12/01/2013 (R)","20:30:00","- AL CHATEAUBRIANT",26,23,"- ASAG HAYE FOUASSIERE","- AL CHATEAUBRIANT","- ASAG HAYE FOUASSIERE"]
[null,"2013-01-05","19:00:00","- HIRONDELLE ST YO HB 2",24,30,"- RACC NANTES 2","- RACC NANTES 2","- HIRONDELLE ST YO HB 2"]
[null,null,"21:00:00","- AL PORTERIE AC HANDBALL",24,23,"- CHABOSSIERE OLYMPIQUE CLUB HB 2","- AL PORTERIE AC HANDBALL","- CHABOSSIERE OLYMPIQUE CLUB HB 2"]
[null,"2013-01-06","09:30:00","- ASC LA MONTAGNE",31,23,"- FANS HB LIGNE 2","- ASC LA MONTAGNE","- FANS HB LIGNE 2"]
[null,null,"14:00:00","- ASPTT NANTES 2",25,15,"- TRIGNAC HANDBALL 3","- ASPTT NANTES 2","- TRIGNAC HANDBALL 3"]
[12,"19/01/2013 (R)","19:00:00","- FANS HB LIGNE 2",25,24,"- RACC NANTES 2","- FANS HB LIGNE 2","- RACC NANTES 2"]
[null,"20/01/2013 (R)","14:00:00","- ASPTT NANTES 2",22,18,"- ASAG HAYE FOUASSIERE","- ASPTT NANTES 2","- ASAG HAYE FOUASSIERE"]
[null,"2013-01-19","20:30:00","- AL CHATEAUBRIANT",31,25,"- CHABOSSIERE OLYMPIQUE CLUB HB 2","- AL CHATEAUBRIANT","- CHABOSSIERE OLYMPIQUE CLUB HB 2"]
[null,null,null,"- TRIGNAC HANDBALL 3",23,26,"- HIRONDELLE ST YO HB 2","- HIRONDELLE ST YO HB 2","- TRIGNAC HANDBALL 3"]
[null,null,"21:00:00","- AL PORTERIE AC HANDBALL",29,27,"- HIRONDELLE ST YO HB 2","- AL PORTERIE AC HANDBALL","- HIRONDELLE ST YO HB 2"]
[null,"2013-01-20","11:00:00","- ASC LA MONTAGNE",25,17,"- HANDBALL CLISSON","- ASC LA MONTAGNE","- HANDBALL CLISSON"]
[13,"26/01/2013 (R)","22:00:00","- HANDBALL CLISSON",20,25,"- AL PORTERIE AC HANDBALL","- AL PORTERIE AC HANDBALL","- HANDBALL CLISSON"]
[null,"2013-01-26","19:00:00","- ASAG HAYE FOUASSIERE",19,21,"- HIRONDELLE ST YO HB 2","- HIRONDELLE ST YO HB 2","- ASAG HAYE FOUASSIERE"]
[null,null,null,"- CHABOSSIERE OLYMPIQUE CLUB HB 2",27,31,"- ASPTT NANTES 2","- ASPTT NANTES 2","- CHABOSSIERE OLYMPIQUE CLUB HB 2"]
[null,null,null,"- TRIGNAC HANDBALL 3",26,24,"- FANS HB LIGNE 2","- TRIGNAC HANDBALL 3","- FANS HB LIGNE 2"]
[null,null,"21:00:00","- RACC NANTES 2",30,24,"- ASC LA MONTAGNE","- RACC NANTES 2","- ASC LA MONTAGNE"]
[null,"2013-01-27","14:00:00","- HIRONDELLE ST YO HB 2",36,25,"- AL CHATEAUBRIANT","- HIRONDELLE ST YO HB 2","- AL CHATEAUBRIANT"]
[14,"02/02/2013 (R)","19:00:00","- AL PORTERIE AC HANDBALL",23,16,"- ASC LA MONTAGNE","- AL PORTERIE AC HANDBALL","- ASC LA MONTAGNE"]
[null,"15/12/2012 (R)","19:00:00","- HIRONDELLE ST YO HB 2",24,29,"- CHABOSSIERE OLYMPIQUE CLUB HB 2","- CHABOSSIERE OLYMPIQUE CLUB HB 2","- HIRONDELLE ST YO HB 2"]
[null,"2013-02-02","19:00:00","- RACC NANTES 2",21,16,"- TRIGNAC HANDBALL 3","- RACC NANTES 2","- TRIGNAC HANDBALL 3"]
[null,null,"20:30:00","- AL CHATEAUBRIANT",36,25,"- HANDBALL CLISSON","- AL CHATEAUBRIANT","- HANDBALL CLISSON"]
[null,null,null,"- FANS HB LIGNE 2",29,24,"- ASAG HAYE FOUASSIERE","- FANS HB LIGNE 2","- ASAG HAYE FOUASSIERE"]
[null,"2013-02-03","14:30:00","- ASPTT NANTES 2",21,28,"- HIRONDELLE ST YO HB 2","- HIRONDELLE ST YO HB 2","- ASPTT NANTES 2"]
[15,"09/02/2013 (R)","20:00:00","- HIRONDELLE ST YO HB 2",24,18,"- HIRONDELLE ST YO HB 2","- HIRONDELLE ST YO HB 2","- HIRONDELLE ST YO HB 2"]
[null,null,"20:15:00","- HANDBALL CLISSON",27,21,"- ASPTT NANTES 2","- HANDBALL CLISSON","- ASPTT NANTES 2"]
[null,"2013-02-09","19:00:00","- ASAG HAYE FOUASSIERE",14,36,"- RACC NANTES 2","- RACC NANTES 2","- ASAG HAYE FOUASSIERE"]
[null,null,"19:30:00","- ASC LA MONTAGNE",19,23,"- TRIGNAC HANDBALL 3","- TRIGNAC HANDBALL 3","- ASC LA MONTAGNE"]
[null,null,"21:00:00","- AL PORTERIE AC HANDBALL",28,25,"- AL CHATEAUBRIANT","- AL PORTERIE AC HANDBALL","- AL CHATEAUBRIANT"]
[null,null,"22:00:00","- CHABOSSIERE OLYMPIQUE CLUB HB 2",27,20,"- FANS HB LIGNE 2","- CHABOSSIERE OLYMPIQUE CLUB HB 2","- FANS HB LIGNE 2"]
[16,"17/02/2013 (R)","15:15:00","- ASPTT NANTES 2",29,23,"- AL PORTERIE AC HANDBALL","- ASPTT NANTES 2","- AL PORTERIE AC HANDBALL"]
[null,"23/02/2013 (R)","21:00:00","- HIRONDELLE ST YO HB 2",14,18,"- HANDBALL CLISSON","- HANDBALL CLISSON","- HIRONDELLE ST YO HB 2"]
[null,"2013-02-16","19:00:00","- TRIGNAC HANDBALL 3",30,20,"- ASAG HAYE FOUASSIERE","- TRIGNAC HANDBALL 3","- ASAG HAYE FOUASSIERE"]
[null,null,"20:30:00","- AL CHATEAUBRIANT",37,36,"- ASC LA MONTAGNE","- AL CHATEAUBRIANT","- ASC LA MONTAGNE"]
[null,null,"21:00:00","- FANS HB LIGNE 2",22,24,"- HIRONDELLE ST YO HB 2","- HIRONDELLE ST YO HB 2","- FANS HB LIGNE 2"]
[null,null,null,"- RACC NANTES 2",28,18,"- CHABOSSIERE OLYMPIQUE CLUB HB 2","- RACC NANTES 2","- CHABOSSIERE OLYMPIQUE CLUB HB 2"]
[17,"09/03/2013 (R)","20:00:00","- HIRONDELLE ST YO HB 2",21,22,"- RACC NANTES 2","- RACC NANTES 2","- HIRONDELLE ST YO HB 2"]
[null,"2013-03-16","19:00:00","- AL PORTERIE AC HANDBALL",26,17,"- HIRONDELLE ST YO HB 2","- AL PORTERIE AC HANDBALL","- HIRONDELLE ST YO HB 2"]
[null,null,null,"- CHABOSSIERE OLYMPIQUE CLUB HB 2",21,20,"- TRIGNAC HANDBALL 3","- CHABOSSIERE OLYMPIQUE CLUB HB 2","- TRIGNAC HANDBALL 3"]
[null,null,"19:30:00","- ASC LA MONTAGNE",21,19,"- ASAG HAYE FOUASSIERE","- ASC LA MONTAGNE","- ASAG HAYE FOUASSIERE"]
[null,null,"20:30:00","- AL CHATEAUBRIANT",31,35,"- ASPTT NANTES 2","- ASPTT NANTES 2","- AL CHATEAUBRIANT"]
[null,null,"22:00:00","- HANDBALL CLISSON",24,39,"- FANS HB LIGNE 2","- FANS HB LIGNE 2","- HANDBALL CLISSON"]
[18,"2013-04-06","19:00:00","- ASAG HAYE FOUASSIERE",23,24,"- CHABOSSIERE OLYMPIQUE CLUB HB 2","- CHABOSSIERE OLYMPIQUE CLUB HB 2","- ASAG HAYE FOUASSIERE"]
[null,null,null,"- HIRONDELLE ST YO HB 2",27,26,"- AL CHATEAUBRIANT","- HIRONDELLE ST YO HB 2","- AL CHATEAUBRIANT"]
[null,null,"19:30:00","- FANS HB LIGNE 2",20,18,"- AL PORTERIE AC HANDBALL","- FANS HB LIGNE 2","- AL PORTERIE AC HANDBALL"]
[null,null,"21:00:00","- RACC NANTES 2",32,19,"- HANDBALL CLISSON","- RACC NANTES 2","- HANDBALL CLISSON"]
[null,null,"22:00:00","- ASPTT NANTES 2",30,23,"- ASC LA MONTAGNE","- ASPTT NANTES 2","- ASC LA MONTAGNE"]
[null,null,null,"- TRIGNAC HANDBALL 3",19,26,"- HIRONDELLE ST YO HB 2","- HIRONDELLE ST YO HB 2","- TRIGNAC HANDBALL 3"]
[19,"14/04/2013 (R)","16:00:00","- HIRONDELLE ST YO HB 2","(vide)","(vide)","- ASAG HAYE FOUASSIERE",""]
[null,"2013-04-13","19:00:00","- AL PORTERIE AC HANDBALL","(vide)","(vide)","- RACC NANTES 2",""]
[null,null,"19:45:00","- ASC LA MONTAGNE","(vide)","(vide)","- CHABOSSIERE OLYMPIQUE CLUB HB 2",""]
[null,null,"20:15:00","- HANDBALL CLISSON","(vide)","(vide)","- TRIGNAC HANDBALL 3",""]
[null,null,"20:30:00","- AL CHATEAUBRIANT","(vide)","(vide)","- FANS HB LIGNE 2",""]
[null,null,"21:15:00","- ASPTT NANTES 2","(vide)","(vide)","- HIRONDELLE ST YO HB 2",""]
[20,"2013-04-20","19:00:00","- ASAG HAYE FOUASSIERE","(vide)","(vide)","- HANDBALL CLISSON",""]
[null,null,null,"- CHABOSSIERE OLYMPIQUE CLUB HB 2","(vide)","(vide)","- HIRONDELLE ST YO HB 2",""]
[null,null,null,"- FANS HB LIGNE 2","(vide)","(vide)","- ASPTT NANTES 2",""]
[null,null,"20:30:00","- TRIGNAC HANDBALL 3","(vide)","(vide)","- AL PORTERIE AC HANDBALL",""]
[null,null,"21:00:00","- HIRONDELLE ST YO HB 2","(vide)","(vide)","- ASC LA MONTAGNE",""]
[null,null,null,"- RACC NANTES 2","(vide)","(vide)","- AL CHATEAUBRIANT",""]
[21,"2013-05-04","19:00:00","- AL PORTERIE AC HANDBALL","(vide)","(vide)","- ASAG HAYE FOUASSIERE",""]
[null,null,null,"- HANDBALL CLISSON","(vide)","(vide)","- CHABOSSIERE OLYMPIQUE CLUB HB 2",""]
[null,null,null,"- HIRONDELLE ST YO HB 2","(vide)","(vide)","- FANS HB LIGNE 2",""]
[null,null,"20:00:00","- ASC LA MONTAGNE","(vide)","(vide)","- HIRONDELLE ST YO HB 2",""]
[null,null,"20:30:00","- AL CHATEAUBRIANT","(vide)","(vide)","- TRIGNAC HANDBALL 3",""]
[null,null,"22:00:00","- ASPTT NANTES 2","(vide)","(vide)","- RACC NANTES 2",""]
[22,"11/05/2013 (R)","21:00:00"," - FANS HB LIGNE 2","(vide)","(vide)"," - ASC LA MONTAGNE",""]
[null,"27/04/2013 (R)","21:00:00","- ASAG HAYE FOUASSIERE","(vide)","(vide)","- AL CHATEAUBRIANT",""]
[null,"2013-05-11","19:00:00","- RACC NANTES 2","(vide)","(vide)","- HIRONDELLE ST YO HB 2",""]
[null,null,"20:00:00","- HIRONDELLE ST YO HB 2","(vide)","(vide)","- HANDBALL CLISSON",""]
[null,null,"22:00:00","- CHABOSSIERE OLYMPIQUE CLUB HB 2","(vide)","(vide)","- AL PORTERIE AC HANDBALL",""]
[null,null,null,"- TRIGNAC HANDBALL 3","(vide)","(vide)","- ASPTT NANTES 2",""]

{"sheet":"Feuil3","index":5,"n_rows":150,"n_cols":34,"rows_kept":150,"cut":false,"hidden":false,"merged":[]}
[null,null,null,"=SI($E4<>0;SI($D4=\"- CHABOSSIERE OLYMPIQUE CLUB HB 2\";SI($H4=\"- CHABOSSIERE OLYMPIQUE CLUB HB 2\";3;SI($I4=\"- CHABOSSIERE OLYMPIQUE CLUB HB 2\";1;2));SI($G4=\"- CHABOSSIERE OLYMPIQUE CLUB HB 2\";SI($H4=\"- CHABOSSIERE OLYMPIQUE CLUB HB 2\";3;SI($I4=\"- CHABOSSIERE OLYMPIQUE CLUB HB 2\";1;2));\"\"));\"\")"]
[]
["journee","date","heure","domicile","score d","score v","visiteur","gagnant","perdant","pts st yo","pts chab","pts haye","pts RACC","pts clisson","pts la mont","pts ligne","pts asptt","pts château","pts al port","pts trignac","pts thouare",null,"- HIRONDELLE ST YO HB 2","- CHABOSSIERE OLYMPIQUE CLUB HB 2","- ASAG HAYE FOUASSIERE","- RACC NANTES 2","- HANDBALL CLISSON","- ASC LA MONTAGNE","- FANS HB LIGNE 2","- ASPTT NANTES 2","- AL CHATEAUBRIANT","- AL PORTERIE AC HANDBALL","- TRIGNAC HANDBALL 3","- THOUARE HANDBALL CLUB"]
[1,"2012-09-15","19:00:00","- HIRONDELLE ST YO HB 2",22,26,"- AL PORTERIE AC HANDBALL",{"$f":"IF($E4<>0,IF($F4=$E4,\"\",IF($F4>$E4,$G4,$D4)),\"\")","v":"- AL PORTERIE AC HANDBALL"},{"$f":"IF($E4<>0,IF($F4=$E4,\"\",IF($F4<$E4,$G4,$D4)),\"\")","v":"- HIRONDELLE ST YO HB 2"},{"$f":"IF($E4<>0,IF($D4=W$3,IF($H4=W$3,3,IF($I4=W$3,1,2)),IF($G4=W$3,IF($H4=W$3,3,IF($I4=W$3,1,2)),\"\")),\"\")","v":1},{"$f":"IF($E4<>0,IF($D4=X$3,IF($H4=X$3,3,IF($I4=X$3,1,2)),IF($G4=X$3,IF($H4=X$3,3,IF($I4=X$3,1,2)),\"\")),\"\")","v":""},"","","","","","","",3,"",{"$f":"IF($E4<>0,IF($D4=$AH$3,IF($H4=$AH$3,3,IF($I4=$AH$3,1,2)),IF($G4=$AH$3,IF($H4=$AH$3,3,IF($I4=$AH$3,1,2)),\"\")),\"\")","v":""}]
[1,"2012-09-15","19:00:00","- THOUARE HANDBALL CLUB",19,25,"- TRIGNAC HANDBALL 3",{"$f":"IF($E5<>0,IF($F5=$E5,\"\",IF($F5>$E5,$G5,$D5)),\"\")","v":"- TRIGNAC HANDBALL 3"},{"$f":"IF($E5<>0,IF($F5=$E5,\"\",IF($F5<$E5,$G5,$D5)),\"\")","v":"- THOUARE HANDBALL CLUB"},{"$f":"IF($E5<>0,IF($D5=$W$3,IF($H5=$W$3,3,IF($I5=$W$3,1,2)),IF($G5=$W$3,IF($H5=$W$3,3,IF($I5=$W$3,1,2)),\"\")),\"\")","v":""},{"$f":"IF($E5<>0,IF($D5=X$3,IF($H5=X$3,3,IF($I5=X$3,1,2)),IF($G5=X$3,IF($H5=X$3,3,IF($I5=X$3,1,2)),\"\")),\"\")","v":""},{"$f":"IF($E5<>0,IF($D5=Y$3,IF($H5=Y$3,3,IF($I5=Y$3,1,2)),IF($G5=Y$3,IF($H5=Y$3,3,IF($I5=Y$3,1,2)),\"\")),\"\")","v":""},{"$f":"IF($E5<>0,IF($D5=Z$3,IF($H5=Z$3,3,IF($I5=Z$3,1,2)),IF($G5=Z$3,IF($H5=Z$3,3,IF($I5=Z$3,1,2)),\"\")),\"\")","v":""},{"$f":"IF($E5<>0,IF($D5=AA$3,IF($H5=AA$3,3,IF($I5=AA$3,1,2)),IF($G5=AA$3,IF($H5=AA$3,3,IF($I5=AA$3,1,2)),\"\")),\"\")","v":""},{"$f":"IF($E5<>0,IF($D5=AB$3,IF($H5=AB$3,3,IF($I5=AB$3,1,2)),IF($G5=AB$3,IF($H5=AB$3,3,IF($I5=AB$3,1,2)),\"\")),\"\")","v":""},{"$f":"IF($E5<>0,IF($D5=AC$3,IF($H5=AC$3,3,IF($I5=AC$3,1,2)),IF($G5=AC$3,IF($H5=AC$3,3,IF($I5=AC$3,1,2)),\"\")),\"\")","v":""},{"$f":"IF($E5<>0,IF($D5=AD$3,IF($H5=AD$3,3,IF($I5=AD$3,1,2)),IF($G5=AD$3,IF($H5=AD$3,3,IF($I5=AD$3,1,2)),\"\")),\"\")","v":""},{"$f":"IF($E5<>0,IF($D5=AE$3,IF($H5=AE$3,3,IF($I5=AE$3,1,2)),IF($G5=AE$3,IF($H5=AE$3,3,IF($I5=AE$3,1,2)),\"\")),\"\")","v":""},{"$f":"IF($E5<>0,IF($D5=AF$3,IF($H5=AF$3,3,IF($I5=AF$3,1,2)),IF($G5=AF$3,IF($H5=AF$3,3,IF($I5=AF$3,1,2)),\"\")),\"\")","v":""},{"$f":"IF($E5<>0,IF($D5=AG$3,IF($H5=AG$3,3,IF($I5=AG$3,1,2)),IF($G5=AG$3,IF($H5=AG$3,3,IF($I5=AG$3,1,2)),\"\")),\"\")","v":3},{"$f":"IF($E5<>0,IF($D5=$AH$3,IF($H5=$AH$3,3,IF($I5=$AH$3,1,2)),IF($G5=$AH$3,IF($H5=$AH$3,3,IF($I5=$AH$3,1,2)),\"\")),\"\")","v":1}]
[1,"27/10/2012 (R)","22:00:00","- CHABOSSIERE OLYMPIQUE CLUB HB 2",22,22,"- AL CHATEAUBRIANT","","","",2,"","","","","","",2,"","",""]
[1,"2012-09-15","19:00:00","- ASAG HAYE FOUASSIERE",29,32,"- ASPTT NANTES 2","- ASPTT NANTES 2","- ASAG HAYE FOUASSIERE","","",1,"","","","",3,"","","",""]
[1,"2012-09-15","19:00:00","- RACC NANTES 2",31,23,"- FANS HB LIGNE 2","- RACC NANTES 2","- FANS HB LIGNE 2","","","",3,"","",1,"","","","",""]
[1,"2012-09-15","19:00:00","- HANDBALL CLISSON",20,19,"- ASC LA MONTAGNE","- HANDBALL CLISSON","- ASC LA MONTAGNE","","","","",3,1,"","","","","",""]
[2,"2012-09-22","21:00:00","- ASC LA MONTAGNE",23,42,"- RACC NANTES 2","- RACC NANTES 2","- ASC LA MONTAGNE","","","",3,"",1,"","","","","",""]
[2,"2012-09-22","19:00:00","- FANS HB LIGNE 2",24,20,"- TRIGNAC HANDBALL 3","- FANS HB LIGNE 2","- TRIGNAC HANDBALL 3","","","","","","",3,"","","",1,""]
[2,"2012-09-22","19:00:00","- THOUARE HANDBALL CLUB",30,23,"- ASAG HAYE FOUASSIERE","- THOUARE HANDBALL CLUB","- ASAG HAYE FOUASSIERE","","",1,"","","","","","","","",3]
[2,"2012-09-23","16:00:00","- ASPTT NANTES 2",24,24,"- CHABOSSIERE OLYMPIQUE CLUB HB 2","","","",2,"","","","","",2,"","","",""]
[2,"2012-09-22","21:30:00","- AL CHATEAUBRIANT",26,31,"- HIRONDELLE ST YO HB 2","- HIRONDELLE ST YO HB 2","- AL CHATEAUBRIANT",3,"","","","","","","",1,"","",""]
[2,"2012-09-22","19:00:00","- AL PORTERIE AC HANDBALL",18,37,"- HANDBALL CLISSON","- HANDBALL CLISSON","- AL PORTERIE AC HANDBALL","","","","",3,"","","","",1,"",""]
[3,"2012-10-06","20:30:00","- ASC LA MONTAGNE",25,24,"- AL PORTERIE AC HANDBALL","- ASC LA MONTAGNE","- AL PORTERIE AC HANDBALL","","","","","",3,"","","",1,"",""]
[3,"06/10/2012 (R)","21:00:00","- HIRONDELLE ST YO HB 2",33,33,"- ASPTT NANTES 2","","",2,"","","","","","",2,"","","",""]
[3,"2012-10-06","22:00:00","- CHABOSSIERE OLYMPIQUE CLUB HB 2",18,30,"- THOUARE HANDBALL CLUB","- THOUARE HANDBALL CLUB","- CHABOSSIERE OLYMPIQUE CLUB HB 2","",1,"","","","","","","","","",3]
[3,"2012-10-06","19:00:00","- ASAG HAYE FOUASSIERE",20,28,"- FANS HB LIGNE 2","- FANS HB LIGNE 2","- ASAG HAYE FOUASSIERE","","",1,"","","",3,"","","","",""]
[3,"2012-10-06","19:00:00","- TRIGNAC HANDBALL 3",23,41,"- RACC NANTES 2","- RACC NANTES 2","- TRIGNAC HANDBALL 3","","","",3,"","","","","","",1,""]
[3,"2012-10-06","19:00:00","- HANDBALL CLISSON",20,27,"- AL CHATEAUBRIANT","- AL CHATEAUBRIANT","- HANDBALL CLISSON","","","","",1,"","","",3,"","",""]
[4,"2012-10-13","19:00:00","- FANS HB LIGNE 2",32,30,"- CHABOSSIERE OLYMPIQUE CLUB HB 2","- FANS HB LIGNE 2","- CHABOSSIERE OLYMPIQUE CLUB HB 2","",1,"","","","",3,"","","","",""]
[4,"13/10/2012 (R)","21:00:00","- THOUARE HANDBALL CLUB",19,28,"- HIRONDELLE ST YO HB 2","- HIRONDELLE ST YO HB 2","- THOUARE HANDBALL CLUB",3,"","","","","","","","","","",1]
[4,"2012-10-14","16:00:00","- ASPTT NANTES 2",23,16,"- HANDBALL CLISSON","- ASPTT NANTES 2","- HANDBALL CLISSON","","","","",1,"","",3,"","","",""]
[4,"2012-10-13","21:30:00","- AL CHATEAUBRIANT",28,32,"- AL PORTERIE AC HANDBALL","- AL PORTERIE AC HANDBALL","- AL CHATEAUBRIANT","","","","","","","","",1,3,"",""]
[4,"2012-10-13","22:00:00","- TRIGNAC HANDBALL 3",23,33,"- ASC LA MONTAGNE","- ASC LA MONTAGNE","- TRIGNAC HANDBALL 3","","","","","",3,"","","","",1,""]
[4,"2012-10-13","19:00:00","- RACC NANTES 2",29,17,"- ASAG HAYE FOUASSIERE","- RACC NANTES 2","- ASAG HAYE FOUASSIERE","","",1,3,"","","","","","","",""]
[5,"2012-10-20","20:30:00","- ASC LA MONTAGNE",35,25,"- AL CHATEAUBRIANT","- ASC LA MONTAGNE","- AL CHATEAUBRIANT","","","","","",3,"","",1,"","",""]
[5,"2012-10-20","21:00:00","- HIRONDELLE ST YO HB 2",24,25,"- FANS HB LIGNE 2","- FANS HB LIGNE 2","- HIRONDELLE ST YO HB 2",1,"","","","","",3,"","","","",""]
[5,"2012-10-20","19:00:00","- CHABOSSIERE OLYMPIQUE CLUB HB 2",27,34,"- RACC NANTES 2","- RACC NANTES 2","- CHABOSSIERE OLYMPIQUE CLUB HB 2","",1,"",3,"","","","","","","",""]
[5,"2012-10-20","19:00:00","- ASAG HAYE FOUASSIERE",22,26,"- TRIGNAC HANDBALL 3","- TRIGNAC HANDBALL 3","- ASAG HAYE FOUASSIERE","","",1,"","","","","","","",3,""]
[5,"20/10/2012 (R)","21:00:00","- AL PORTERIE AC HANDBALL",16,30,"- ASPTT NANTES 2","- ASPTT NANTES 2","- AL PORTERIE AC HANDBALL","","","","","","","",3,"",1,"",""]
[5,"2012-10-20","19:00:00","- HANDBALL CLISSON",24,22,"- THOUARE HANDBALL CLUB","- HANDBALL CLISSON","- THOUARE HANDBALL CLUB","","","","",3,"","","","","","",1]
[6,"2012-11-03","19:00:00","- FANS HB LIGNE 2",30,29,"- HANDBALL CLISSON","- FANS HB LIGNE 2","- HANDBALL CLISSON","","","","",1,"",3,"","","","",""]
[6,"03/11/2012 (R)","19:00:00","- THOUARE HANDBALL CLUB",25,22,"- AL PORTERIE AC HANDBALL","- THOUARE HANDBALL CLUB","- AL PORTERIE AC HANDBALL","","","","","","","","","",1,"",3]
[6,"2012-11-04","11:00:00","- ASPTT NANTES 2",18,24,"- AL CHATEAUBRIANT","- AL CHATEAUBRIANT","- ASPTT NANTES 2","","","","","","","",1,3,"","",""]
[6,"2012-11-03","19:00:00","- ASAG HAYE FOUASSIERE",19,35,"- ASC LA MONTAGNE","- ASC LA MONTAGNE","- ASAG HAYE FOUASSIERE","","",1,"","",3,"","","","","",""]
[6,"2012-11-03","22:00:00","- TRIGNAC HANDBALL 3",30,22,"- CHABOSSIERE OLYMPIQUE CLUB HB 2","- TRIGNAC HANDBALL 3","- CHABOSSIERE OLYMPIQUE CLUB HB 2","",1,"","","","","","","","",3,""]
[6,"2012-11-03","19:00:00","- RACC NANTES 2",29,24,"- HIRONDELLE ST YO HB 2","- RACC NANTES 2","- HIRONDELLE ST YO HB 2",1,"","",3,"","","","","","","",""]
[7,"2012-11-10","19:30:00","- ASC LA MONTAGNE",26,23,"- ASPTT NANTES 2","- ASC LA MONTAGNE","- ASPTT NANTES 2","","","","","",3,"",1,"","","",""]
[7,"2012-11-10","20:00:00","- HIRONDELLE ST YO HB 2",27,20,"- TRIGNAC HANDBALL 3","- HIRONDELLE ST YO HB 2","- TRIGNAC HANDBALL 3",3,"","","","","","","","","",1,""]
[7,"24/11/2012 (R)","22:00:00","- CHABOSSIERE OLYMPIQUE CLUB HB 2",28,24,"- ASAG HAYE FOUASSIERE","- CHABOSSIERE OLYMPIQUE CLUB HB 2","- ASAG HAYE FOUASSIERE","",3,1,"","","","","","","","",""]
[7,"2012-11-10","20:30:00","- AL CHATEAUBRIANT",31,24,"- THOUARE HANDBALL CLUB","- AL CHATEAUBRIANT","- THOUARE HANDBALL CLUB","","","","","","","","",3,"","",1]
[7,"2012-11-10","19:00:00","- AL PORTERIE AC HANDBALL",24,21,"- FANS HB LIGNE 2","- AL PORTERIE AC HANDBALL","- FANS HB LIGNE 2","","","","","","",1,"","",3,"",""]
[7,"2012-11-10","21:00:00","- HANDBALL CLISSON",18,24,"- RACC NANTES 2","- RACC NANTES 2","- HANDBALL CLISSON","","","",3,1,"","","","","","",""]
[8,"2012-11-17","21:00:00","- FANS HB LIGNE 2",28,24,"- AL CHATEAUBRIANT","- FANS HB LIGNE 2","- AL CHATEAUBRIANT","","","","","","",3,"",1,"","",""]
[8,"2012-11-17","21:00:00","- THOUARE HANDBALL CLUB",12,25,"- ASPTT NANTES 2","- ASPTT NANTES 2","- THOUARE HANDBALL CLUB","","","","","","","",3,"","","",1]
[8,"2012-11-17","19:00:00","- CHABOSSIERE OLYMPIQUE CLUB HB 2",23,21,"- ASC LA MONTAGNE","- CHABOSSIERE OLYMPIQUE CLUB HB 2","- ASC LA MONTAGNE","",3,"","","",1,"","","","","",""]
[8,"2012-11-17","19:00:00","- ASAG HAYE FOUASSIERE",20,32,"- HIRONDELLE ST YO HB 2","- HIRONDELLE ST YO HB 2","- ASAG HAYE FOUASSIERE",3,"",1,"","","","","","","","",""]
[8,"2012-11-17","22:00:00","- TRIGNAC HANDBALL 3",31,31,"- HANDBALL CLISSON","","","","","","",2,"","","","","",2,""]
[8,"2012-11-17","19:00:00","- RACC NANTES 2",24,23,"- AL PORTERIE AC HANDBALL","- RACC NANTES 2","- AL PORTERIE AC HANDBALL","","","",3,"","","","","",1,"",""]
[9,"2012-12-01","20:00:00","- ASC LA MONTAGNE",28,24,"- THOUARE HANDBALL CLUB","- ASC LA MONTAGNE","- THOUARE HANDBALL CLUB","","","","","",3,"","","","","",1]
[9,"2012-12-01","20:00:00","- HIRONDELLE ST YO HB 2",30,25,"- CHABOSSIERE OLYMPIQUE CLUB HB 2","- HIRONDELLE ST YO HB 2","- CHABOSSIERE OLYMPIQUE CLUB HB 2",3,1,"","","","","","","","","",""]
[9,"2012-12-02","14:00:00","- ASPTT NANTES 2",21,25,"- FANS HB LIGNE 2","- FANS HB LIGNE 2","- ASPTT NANTES 2","","","","","","",3,1,"","","",""]
[9,"01/12/2012 (R)","20:30:00","- AL CHATEAUBRIANT",16,31,"- RACC NANTES 2","- RACC NANTES 2","- AL CHATEAUBRIANT","","","",3,"","","","",1,"","",""]
[9,"2012-12-01","20:00:00","- AL PORTERIE AC HANDBALL",30,21,"- TRIGNAC HANDBALL 3","- AL PORTERIE AC HANDBALL","- TRIGNAC HANDBALL 3","","","","","","","","","",3,1,""]
[9,"2012-12-01","19:00:00","- HANDBALL CLISSON",24,17,"- ASAG HAYE FOUASSIERE","- HANDBALL CLISSON","- ASAG HAYE FOUASSIERE","","",1,"",3,"","","","","","",""]
[10,"2012-12-08","21:00:00","- FANS HB LIGNE 2",21,11,"- THOUARE HANDBALL CLUB","- FANS HB LIGNE 2","- THOUARE HANDBALL CLUB","","","","","","",3,"","","","",1]
[10,"2012-12-08","21:00:00","- HIRONDELLE ST YO HB 2",30,18,"- ASC LA MONTAGNE","- HIRONDELLE ST YO HB 2","- ASC LA MONTAGNE",3,"","","","",1,"","","","","",""]
[10,"2012-12-08","22:00:00","- CHABOSSIERE OLYMPIQUE CLUB HB 2",33,24,"- HANDBALL CLISSON","- CHABOSSIERE OLYMPIQUE CLUB HB 2","- HANDBALL CLISSON","",3,"","",1,"","","","","","",""]
[10,"2012-12-08","19:00:00","- ASAG HAYE FOUASSIERE",17,33,"- AL PORTERIE AC HANDBALL","- AL PORTERIE AC HANDBALL","- ASAG HAYE FOUASSIERE","","",1,"","","","","","",3,"",""]
[10,"2012-12-08","22:00:00","- TRIGNAC HANDBALL 3",23,23,"- AL CHATEAUBRIANT","","","","","","","","","","",2,"",2,""]
[10,"2012-12-08","21:00:00","- RACC NANTES 2",30,24,"- ASPTT NANTES 2","- RACC NANTES 2","- ASPTT NANTES 2","","","",3,"","","",1,"","","",""]
[11,"2013-01-06","09:30:00","- ASC LA MONTAGNE",31,23,"- FANS HB LIGNE 2","- ASC LA MONTAGNE","- FANS HB LIGNE 2","","","","","",3,1,"","","","",""]
[11,"2013-01-05","19:00:00","- THOUARE HANDBALL CLUB",24,30,"- RACC NANTES 2","- RACC NANTES 2","- THOUARE HANDBALL CLUB","","","",3,"","","","","","","",1]
[11,"2013-01-06","14:00:00","- ASPTT NANTES 2",25,15,"- TRIGNAC HANDBALL 3","- ASPTT NANTES 2","- TRIGNAC HANDBALL 3","","","","","","","",3,"","",1,""]
[11,"12/01/2013 (R)","20:30:00","- AL CHATEAUBRIANT",26,23,"- ASAG HAYE FOUASSIERE","- AL CHATEAUBRIANT","- ASAG HAYE FOUASSIERE","","",1,"","","","","",3,"","",""]
[11,"2013-01-05","21:00:00","- AL PORTERIE AC HANDBALL",24,23,"- CHABOSSIERE OLYMPIQUE CLUB HB 2","- AL PORTERIE AC HANDBALL","- CHABOSSIERE OLYMPIQUE CLUB HB 2","",1,"","","","","","","",3,"",""]
[11,"05/01/2013 (R)","18:30:00","- HANDBALL CLISSON",23,31,"- HIRONDELLE ST YO HB 2",{"$f":"IF($E69<>0,IF($F69=$E69,\"\",IF($F69>$E69,$G69,$D69)),\"\")","v":"- HIRONDELLE ST YO HB 2"},{"$f":"IF($E69<>0,IF($F69=$E69,\"\",IF($F69<$E69,$G69,$D69)),\"\")","v":"- HANDBALL CLISSON"},{"$f":"IF($E69<>0,IF($D69=$W$3,IF($H69=$W$3,3,IF($I69=$W$3,1,2)),IF($G69=$W$3,IF($H69=$W$3,3,IF($I69=$W$3,1,2)),\"\")),\"\")","v":3},{"$f":"IF($E69<>0,IF($D69=X$3,IF($H69=X$3,3,IF($I69=X$3,1,2)),IF($G69=X$3,IF($H69=X$3,3,IF($I69=X$3,1,2)),\"\")),\"\")","v":""},{"$f":"IF($E69<>0,IF($D69=Y$3,IF($H69=Y$3,3,IF($I69=Y$3,1,2)),IF($G69=Y$3,IF($H69=Y$3,3,IF($I69=Y$3,1,2)),\"\")),\"\")","v":""},{"$f":"IF($E69<>0,IF($D69=Z$3,IF($H69=Z$3,3,IF($I69=Z$3,1,2)),IF($G69=Z$3,IF($H69=Z$3,3,IF($I69=Z$3,1,2)),\"\")),\"\")","v":""},{"$f":"IF($E69<>0,IF($D69=AA$3,IF($H69=AA$3,3,IF($I69=AA$3,1,2)),IF($G69=AA$3,IF($H69=AA$3,3,IF($I69=AA$3,1,2)),\"\")),\"\")","v":1},{"$f":"IF($E69<>0,IF($D69=AB$3,IF($H69=AB$3,3,IF($I69=AB$3,1,2)),IF($G69=AB$3,IF($H69=AB$3,3,IF($I69=AB$3,1,2)),\"\")),\"\")","v":""},{"$f":"IF($E69<>0,IF($D69=AC$3,IF($H69=AC$3,3,IF($I69=AC$3,1,2)),IF($G69=AC$3,IF($H69=AC$3,3,IF($I69=AC$3,1,2)),\"\")),\"\")","v":""},{"$f":"IF($E69<>0,IF($D69=AD$3,IF($H69=AD$3,3,IF($I69=AD$3,1,2)),IF($G69=AD$3,IF($H69=AD$3,3,IF($I69=AD$3,1,2)),\"\")),\"\")","v":""},{"$f":"IF($E69<>0,IF($D69=AE$3,IF($H69=AE$3,3,IF($I69=AE$3,1,2)),IF($G69=AE$3,IF($H69=AE$3,3,IF($I69=AE$3,1,2)),\"\")),\"\")","v":""},{"$f":"IF($E69<>0,IF($D69=AF$3,IF($H69=AF$3,3,IF($I69=AF$3,1,2)),IF($G69=AF$3,IF($H69=AF$3,3,IF($I69=AF$3,1,2)),\"\")),\"\")","v":""},{"$f":"IF($E69<>0,IF($D69=AG$3,IF($H69=AG$3,3,IF($I69=AG$3,1,2)),IF($G69=AG$3,IF($H69=AG$3,3,IF($I69=AG$3,1,2)),\"\")),\"\")","v":""},{"$f":"IF($E69<>0,IF($D69=$AH$3,IF($H69=$AH$3,3,IF($I69=$AH$3,1,2)),IF($G69=$AH$3,IF($H69=$AH$3,3,IF($I69=$AH$3,1,2)),\"\")),\"\")","v":""}]
[12,"2013-01-20","11:00:00","- ASC LA MONTAGNE",25,17,"- HANDBALL CLISSON","- ASC LA MONTAGNE","- HANDBALL CLISSON","","","","",1,3,"","","","","",""]
[12,"19/01/2013 (R)","19:00:00","- FANS HB LIGNE 2",25,24,"- RACC NANTES 2","- FANS HB LIGNE 2","- RACC NANTES 2","","","",1,"","",3,"","","","",""]
[12,"20/01/2013 (R)","14:00:00","- ASPTT NANTES 2",22,18,"- ASAG HAYE FOUASSIERE","- ASPTT NANTES 2","- ASAG HAYE FOUASSIERE","","",1,"","","","",3,"","","",""]
[12,"2013-01-19","20:30:00","- AL CHATEAUBRIANT",31,25,"- CHABOSSIERE OLYMPIQUE CLUB HB 2","- AL CHATEAUBRIANT","- CHABOSSIERE OLYMPIQUE CLUB HB 2","",1,"","","","","","",3,"","",""]
[12,"2013-01-19","20:30:00","- TRIGNAC HANDBALL 3",23,26,"- THOUARE HANDBALL CLUB","- THOUARE HANDBALL CLUB","- TRIGNAC HANDBALL 3","","","","","","","","","","",1,3]
[12,"2013-01-19","21:00:00","- AL PORTERIE AC HANDBALL",29,27,"- HIRONDELLE ST YO HB 2","- AL PORTERIE AC HANDBALL","- HIRONDELLE ST YO HB 2",1,"","","","","","","","",3,"",""]
[13,"2013-01-27","14:00:00","- HIRONDELLE ST YO HB 2",36,25,"- AL CHATEAUBRIANT","- HIRONDELLE ST YO HB 2","- AL CHATEAUBRIANT",3,"","","","","","","",1,"","",""]
[13,"2013-01-26","19:00:00","- CHABOSSIERE OLYMPIQUE CLUB HB 2",27,31,"- ASPTT NANTES 2","- ASPTT NANTES 2","- CHABOSSIERE OLYMPIQUE CLUB HB 2","",1,"","","","","",3,"","","",""]
[13,"2013-01-26","19:00:00","- ASAG HAYE FOUASSIERE",19,21,"- THOUARE HANDBALL CLUB","- THOUARE HANDBALL CLUB","- ASAG HAYE FOUASSIERE","","",1,"","","","","","","","",3]
[13,"2013-01-26","19:00:00","- TRIGNAC HANDBALL 3",26,24,"- FANS HB LIGNE 2","- TRIGNAC HANDBALL 3","- FANS HB LIGNE 2","","","","","","",1,"","","",3,""]
[13,"2013-01-26","21:00:00","- RACC NANTES 2",30,24,"- ASC LA MONTAGNE","- RACC NANTES 2","- ASC LA MONTAGNE","","","",3,"",1,"","","","","",""]
[13,"26/01/2013 (R)","22:00:00","- HANDBALL CLISSON",20,25,"- AL PORTERIE AC HANDBALL","- AL PORTERIE AC HANDBALL","- HANDBALL CLISSON","","","","",1,"","","","",3,"",""]
[14,"2013-02-02","20:30:00","- FANS HB LIGNE 2",29,24,"- ASAG HAYE FOUASSIERE","- FANS HB LIGNE 2","- ASAG HAYE FOUASSIERE","","",1,"","","",3,"","","","",""]
[14,"15/12/2012 (R)","19:00:00","- THOUARE HANDBALL CLUB",24,29,"- CHABOSSIERE OLYMPIQUE CLUB HB 2","- CHABOSSIERE OLYMPIQUE CLUB HB 2","- THOUARE HANDBALL CLUB","",3,"","","","","","","","","",1]
[14,"2013-02-03","14:30:00","- ASPTT NANTES 2",21,28,"- HIRONDELLE ST YO HB 2","- HIRONDELLE ST YO HB 2","- ASPTT NANTES 2",3,"","","","","","",1,"","","",""]
[14,"2013-02-02","20:30:00","- AL CHATEAUBRIANT",36,25,"- HANDBALL CLISSON","- AL CHATEAUBRIANT","- HANDBALL CLISSON","","","","",1,"","","",3,"","",""]
[14,"02/02/2013 (R)","19:00:00","- AL PORTERIE AC HANDBALL",23,16,"- ASC LA MONTAGNE","- AL PORTERIE AC HANDBALL","- ASC LA MONTAGNE","","","","","",1,"","","",3,"",""]
[14,"2013-02-02","19:00:00","- RACC NANTES 2",21,16,"- TRIGNAC HANDBALL 3","- RACC NANTES 2","- TRIGNAC HANDBALL 3","","","",3,"","","","","","",1,""]
[15,"2013-02-09","19:30:00","- ASC LA MONTAGNE",19,23,"- TRIGNAC HANDBALL 3","- TRIGNAC HANDBALL 3","- ASC LA MONTAGNE","","","","","",1,"","","","",3,""]
[15,"09/02/2013 (R)","20:00:00","- HIRONDELLE ST YO HB 2",24,18,"- THOUARE HANDBALL CLUB","- HIRONDELLE ST YO HB 2","- THOUARE HANDBALL CLUB",3,"","","","","","","","","","",1]
[15,"2013-02-09","22:00:00","- CHABOSSIERE OLYMPIQUE CLUB HB 2",27,20,"- FANS HB LIGNE 2","- CHABOSSIERE OLYMPIQUE CLUB HB 2","- FANS HB LIGNE 2","",3,"","","","",1,"","","","",""]
[15,"2013-02-09","19:00:00","- ASAG HAYE FOUASSIERE",14,36,"- RACC NANTES 2","- RACC NANTES 2","- ASAG HAYE FOUASSIERE","","",1,3,"","","","","","","",""]
[15,"2013-02-09","21:00:00","- AL PORTERIE AC HANDBALL",28,25,"- AL CHATEAUBRIANT","- AL PORTERIE AC HANDBALL","- AL CHATEAUBRIANT","","","","","","","","",1,3,"",""]
[15,"09/02/2013 (R)","20:15:00","- HANDBALL CLISSON",27,21,"- ASPTT NANTES 2","- HANDBALL CLISSON","- ASPTT NANTES 2","","","","",3,"","",1,"","","",""]
[16,"2013-02-16","21:00:00","- FANS HB LIGNE 2",22,24,"- HIRONDELLE ST YO HB 2","- HIRONDELLE ST YO HB 2","- FANS HB LIGNE 2",3,"","","","","",1,"","","","",""]
[16,"23/02/2013 (R)","21:00:00","- THOUARE HANDBALL CLUB",14,18,"- HANDBALL CLISSON","- HANDBALL CLISSON","- THOUARE HANDBALL CLUB","","","","",3,"","","","","","",1]
[16,"17/02/2013 (R)","15:15:00","- ASPTT NANTES 2",29,23,"- AL PORTERIE AC HANDBALL","- ASPTT NANTES 2","- AL PORTERIE AC HANDBALL","","","","","","","",3,"",1,"",""]
[16,"2013-02-16","20:30:00","- AL CHATEAUBRIANT",37,36,"- ASC LA MONTAGNE","- AL CHATEAUBRIANT","- ASC LA MONTAGNE","","","","","",1,"","",3,"","",""]
[16,"2013-02-16","19:00:00","- TRIGNAC HANDBALL 3",30,20,"- ASAG HAYE FOUASSIERE","- TRIGNAC HANDBALL 3","- ASAG HAYE FOUASSIERE","","",1,"","","","","","","",3,""]
[16,"2013-02-16","21:00:00","- RACC NANTES 2",28,18,"- CHABOSSIERE OLYMPIQUE CLUB HB 2","- RACC NANTES 2","- CHABOSSIERE OLYMPIQUE CLUB HB 2","",1,"",3,"","","","","","","",""]
[17,"2013-03-16","19:30:00","- ASC LA MONTAGNE",21,19,"- ASAG HAYE FOUASSIERE","- ASC LA MONTAGNE","- ASAG HAYE FOUASSIERE","","",1,"","",3,"","","","","",""]
[17,"09/03/2013 (R)","20:00:00","- HIRONDELLE ST YO HB 2",21,22,"- RACC NANTES 2","- RACC NANTES 2","- HIRONDELLE ST YO HB 2",1,"","",3,"","","","","","","",""]
[17,"2013-03-16","19:00:00","- CHABOSSIERE OLYMPIQUE CLUB HB 2",21,20,"- TRIGNAC HANDBALL 3","- CHABOSSIERE OLYMPIQUE CLUB HB 2","- TRIGNAC HANDBALL 3","",3,"","","","","","","","",1,""]
[17,"2013-03-16","20:30:00","- AL CHATEAUBRIANT",31,35,"- ASPTT NANTES 2","- ASPTT NANTES 2","- AL CHATEAUBRIANT","","","","","","","",3,1,"","",""]
[17,"2013-03-16","19:00:00","- AL PORTERIE AC HANDBALL",26,17,"- THOUARE HANDBALL CLUB","- AL PORTERIE AC HANDBALL","- THOUARE HANDBALL CLUB","","","","","","","","","",3,"",1]
[17,"2013-03-16","22:00:00","- HANDBALL CLISSON",24,39,"- FANS HB LIGNE 2","- FANS HB LIGNE 2","- HANDBALL CLISSON","","","","",1,"",3,"","","","",""]
[18,"2013-04-06","19:30:00","- FANS HB LIGNE 2",20,18,"- AL PORTERIE AC HANDBALL","- FANS HB LIGNE 2","- AL PORTERIE AC HANDBALL","","","","","","",3,"","",1,"",""]
[18,"2013-04-06","19:00:00","- THOUARE HANDBALL CLUB",27,26,"- AL CHATEAUBRIANT","- THOUARE HANDBALL CLUB","- AL CHATEAUBRIANT","","","","","","","","",1,"","",3]
[18,"2013-04-06","22:00:00","- ASPTT NANTES 2",30,23,"- ASC LA MONTAGNE","- ASPTT NANTES 2","- ASC LA MONTAGNE","","","","","",1,"",3,"","","",""]
[18,"2013-04-06","19:00:00","- ASAG HAYE FOUASSIERE",23,24,"- CHABOSSIERE OLYMPIQUE CLUB HB 2","- CHABOSSIERE OLYMPIQUE CLUB HB 2","- ASAG HAYE FOUASSIERE","",3,1,"","","","","","","","",""]
[18,"2013-04-06","22:00:00","- TRIGNAC HANDBALL 3",19,26,"- HIRONDELLE ST YO HB 2","- HIRONDELLE ST YO HB 2","- TRIGNAC HANDBALL 3",3,"","","","","","","","","",1,""]
[18,"2013-04-06","21:00:00","- RACC NANTES 2",32,19,"- HANDBALL CLISSON","- RACC NANTES 2","- HANDBALL CLISSON","","","",3,1,"","","","","","",""]
[19,"2013-04-13","19:45:00","- ASC LA MONTAGNE",null,null,"- CHABOSSIERE OLYMPIQUE CLUB HB 2","","","","","","","","","","","","","",""]
[19,"14/04/2013 (R)","16:00:00","- HIRONDELLE ST YO HB 2",null,null,"- ASAG HAYE FOUASSIERE","","","","","","","","","","","","","",""]
[19,"2013-04-13","21:15:00","- ASPTT NANTES 2",null,null,"- THOUARE HANDBALL CLUB","","","","","","","","","","","","","",""]
[19,"2013-04-13","20:30:00","- AL CHATEAUBRIANT",null,null,"- FANS HB LIGNE 2","","","","","","","","","","","","","",""]
[19,"2013-04-13","19:00:00","- AL PORTERIE AC HANDBALL",null,null,"- RACC NANTES 2","","","","","","","","","","","","","",""]
[19,"2013-04-13","20:15:00","- HANDBALL CLISSON",null,null,"- TRIGNAC HANDBALL 3","","","","","","","","","","","","","",""]
[20,"2013-04-20","19:00:00","- FANS HB LIGNE 2",null,null,"- ASPTT NANTES 2","","","","","","","","","","","","","",""]
[20,"2013-04-20","21:00:00","- THOUARE HANDBALL CLUB",null,null,"- ASC LA MONTAGNE","","","","","","","","","","","","","",""]
[20,"2013-04-20","19:00:00","- CHABOSSIERE OLYMPIQUE CLUB HB 2",null,null,"- HIRONDELLE ST YO HB 2","","","","","","","","","","","","","",""]
[20,"2013-04-20","19:00:00","- ASAG HAYE FOUASSIERE",null,null,"- HANDBALL CLISSON","","","","","","","","","","","","","",""]
[20,"2013-04-20","20:30:00","- TRIGNAC HANDBALL 3",null,null,"- AL PORTERIE AC HANDBALL","","","","","","","","","","","","","",""]
[20,"2013-04-20","21:00:00","- RACC NANTES 2",null,null,"- AL CHATEAUBRIANT","","","","","","","","","","","","","",""]
[21,"2013-05-04","20:00:00","- ASC LA MONTAGNE",null,null,"- HIRONDELLE ST YO HB 2","","","","","","","","","","","","","",""]
[21,"2013-05-04","19:00:00","- THOUARE HANDBALL CLUB",null,null,"- FANS HB LIGNE 2","","","","","","","","","","","","","",""]
[21,"2013-05-04","22:00:00","- ASPTT NANTES 2",null,null,"- RACC NANTES 2","","","","","","","","","","","","","",""]
[21,"2013-05-04","20:30:00","- AL CHATEAUBRIANT",null,null,"- TRIGNAC HANDBALL 3","","","","","","","","","","","","","",""]
[21,"2013-05-04","19:00:00","- AL PORTERIE AC HANDBALL",null,null,"- ASAG HAYE FOUASSIERE","","","","","","","","","","","","","",""]
[21,"2013-05-04","19:00:00","- HANDBALL CLISSON",null,null,"- CHABOSSIERE OLYMPIQUE CLUB HB 2","","","","","","","","","","","","","",""]
[22,"11/05/2013 (R)","21:00:00","- FANS HB LIGNE 2",null,null,"- ASC LA MONTAGNE","","","","","","","","","","","","","",""]
[22,"2013-05-11","20:00:00","- HIRONDELLE ST YO HB 2",null,null,"- HANDBALL CLISSON","","","","","","","","","","","","","",""]
[22,"2013-05-11","22:00:00","- CHABOSSIERE OLYMPIQUE CLUB HB 2",null,null,"- AL PORTERIE AC HANDBALL","","","","","","","","","","","","","",""]
[22,"27/04/2013 (R)","21:00:00","- ASAG HAYE FOUASSIERE",null,null,"- AL CHATEAUBRIANT",{"$f":"IF($E133<>0,IF($F133=$E133,\"\",IF($F133>$E133,$G133,$D133)),\"\")","v":""},{"$f":"IF($E133<>0,IF($F133=$E133,\"\",IF($F133<$E133,$G133,$D133)),\"\")","v":""},{"$f":"IF($E133<>0,IF($D133=$W$3,IF($H133=$W$3,3,IF($I133=$W$3,1,2)),IF($G133=$W$3,IF($H133=$W$3,3,IF($I133=$W$3,1,2)),\"\")),\"\")","v":""},{"$f":"IF($E133<>0,IF($D133=X$3,IF($H133=X$3,3,IF($I133=X$3,1,2)),IF($G133=X$3,IF($H133=X$3,3,IF($I133=X$3,1,2)),\"\")),\"\")","v":""},{"$f":"IF($E133<>0,IF($D133=Y$3,IF($H133=Y$3,3,IF($I133=Y$3,1,2)),IF($G133=Y$3,IF($H133=Y$3,3,IF($I133=Y$3,1,2)),\"\")),\"\")","v":""},{"$f":"IF($E133<>0,IF($D133=Z$3,IF($H133=Z$3,3,IF($I133=Z$3,1,2)),IF($G133=Z$3,IF($H133=Z$3,3,IF($I133=Z$3,1,2)),\"\")),\"\")","v":""},{"$f":"IF($E133<>0,IF($D133=AA$3,IF($H133=AA$3,3,IF($I133=AA$3,1,2)),IF($G133=AA$3,IF($H133=AA$3,3,IF($I133=AA$3,1,2)),\"\")),\"\")","v":""},{"$f":"IF($E133<>0,IF($D133=AB$3,IF($H133=AB$3,3,IF($I133=AB$3,1,2)),IF($G133=AB$3,IF($H133=AB$3,3,IF($I133=AB$3,1,2)),\"\")),\"\")","v":""},{"$f":"IF($E133<>0,IF($D133=AC$3,IF($H133=AC$3,3,IF($I133=AC$3,1,2)),IF($G133=AC$3,IF($H133=AC$3,3,IF($I133=AC$3,1,2)),\"\")),\"\")","v":""},{"$f":"IF($E133<>0,IF($D133=AD$3,IF($H133=AD$3,3,IF($I133=AD$3,1,2)),IF($G133=AD$3,IF($H133=AD$3,3,IF($I133=AD$3,1,2)),\"\")),\"\")","v":""},{"$f":"IF($E133<>0,IF($D133=AE$3,IF($H133=AE$3,3,IF($I133=AE$3,1,2)),IF($G133=AE$3,IF($H133=AE$3,3,IF($I133=AE$3,1,2)),\"\")),\"\")","v":""},{"$f":"IF($E133<>0,IF($D133=AF$3,IF($H133=AF$3,3,IF($I133=AF$3,1,2)),IF($G133=AF$3,IF($H133=AF$3,3,IF($I133=AF$3,1,2)),\"\")),\"\")","v":""},{"$f":"IF($E133<>0,IF($D133=AG$3,IF($H133=AG$3,3,IF($I133=AG$3,1,2)),IF($G133=AG$3,IF($H133=AG$3,3,IF($I133=AG$3,1,2)),\"\")),\"\")","v":""},{"$f":"IF($E133<>0,IF($D133=$AH$3,IF($H133=$AH$3,3,IF($I133=$AH$3,1,2)),IF($G133=$AH$3,IF($H133=$AH$3,3,IF($I133=$AH$3,1,2)),\"\")),\"\")","v":""}]
[22,"2013-05-11","22:00:00","- TRIGNAC HANDBALL 3",null,null,"- ASPTT NANTES 2","","","","","","","","","","","","","",""]
[22,"2013-05-11","19:00:00","- RACC NANTES 2",null,null,"- THOUARE HANDBALL CLUB","","","","","","","","","","","","","",""]
[]
[]
[null,null,null,"domicile","visiteur",6]
[null,null,null,{"$f":"INDEX(I139:I150,F138)","v":"- ASC LA MONTAGNE"},null,null,null,null,"- HIRONDELLE ST YO HB 2"]
[null,null,null,null,{"$f":"INDEX(I139:I150,F138)","v":"- ASC LA MONTAGNE"},null,null,null,"- CHABOSSIERE OLYMPIQUE CLUB HB 2"]
[null,null,null,null,null,null,null,null,"- ASAG HAYE FOUASSIERE"]
[null,null,null,null,null,null,null,null,"- RACC NANTES 2"]
[null,null,null,null,null,null,null,null,"- HANDBALL CLISSON"]
[null,null,null,null,null,null,null,null,"- ASC LA MONTAGNE"]
[null,null,null,null,null,null,null,null,"- FANS HB LIGNE 2"]
[null,null,null,null,null,null,null,null,"- ASPTT NANTES 2"]
[null,null,null,null,null,null,null,null,"- AL CHATEAUBRIANT"]
[null,null,null,null,null,null,null,null,"- AL PORTERIE AC HANDBALL"]
[null,null,null,null,null,null,null,null,"- TRIGNAC HANDBALL 3"]
[null,null,null,null,null,null,null,null,"- THOUARE HANDBALL CLUB"]

{"sheet":"clisson","index":6,"n_rows":59,"n_cols":10,"rows_kept":59,"cut":false,"hidden":false,"merged":[]}
[]
[]
[]
[null,null,null,null,null,null,null,null,null,7]
[]
[]
[]
[]
[{"$f":"Feuil3!A3","v":"journee"},{"$f":"Feuil3!B3","v":"date"},{"$f":"Feuil3!C3","v":"heure"},{"$f":"Feuil3!D3","v":"domicile"},{"$f":"Feuil3!E3","v":"score d"},{"$f":"Feuil3!F3","v":"score v"},{"$f":"Feuil3!G3","v":"visiteur"},{"$f":"Feuil3!H3","v":"gagnant"},{"$f":"Feuil3!I3","v":"perdant"},"pts clisson"]
[{"$f":"Feuil3!A9","v":1},{"$f":"Feuil3!B9","v":"2012-09-15"},{"$f":"Feuil3!C9","v":"19:00:00"},{"$f":"Feuil3!D9","v":"- HANDBALL CLISSON"},{"$f":"Feuil3!E9","v":20},{"$f":"Feuil3!F9","v":19},{"$f":"Feuil3!G9","v":"- ASC LA MONTAGNE"},{"$f":"Feuil3!H9","v":"- HANDBALL CLISSON"},{"$f":"Feuil3!I9","v":"- ASC LA MONTAGNE"},{"$f":"IF(E10<>0,IF($H10=\"- HANDBALL CLISSON\",3,IF($I10=\"- HANDBALL CLISSON\",1,2)),\"\")","v":3}]
[{"$f":"Feuil3!A15","v":2},{"$f":"Feuil3!B15","v":"2012-09-22"},{"$f":"Feuil3!C15","v":"19:00:00"},{"$f":"Feuil3!D15","v":"- AL PORTERIE AC HANDBALL"},{"$f":"Feuil3!E15","v":18},{"$f":"Feuil3!F15","v":37},{"$f":"Feuil3!G15","v":"- HANDBALL CLISSON"},{"$f":"Feuil3!H15","v":"- HANDBALL CLISSON"},{"$f":"Feuil3!I15","v":"- AL PORTERIE AC HANDBALL"},{"$f":"IF(E11<>0,IF($H11=\"- HANDBALL CLISSON\",3,IF($I11=\"- HANDBALL CLISSON\",1,2)),\"\")","v":3}]
[{"$f":"Feuil3!A21","v":3},{"$f":"Feuil3!B21","v":"2012-10-06"},{"$f":"Feuil3!C21","v":"19:00:00"},{"$f":"Feuil3!D21","v":"- HANDBALL CLISSON"},{"$f":"Feuil3!E21","v":20},{"$f":"Feuil3!F21","v":27},{"$f":"Feuil3!G21","v":"- AL CHATEAUBRIANT"},{"$f":"Feuil3!H21","v":"- AL CHATEAUBRIANT"},{"$f":"Feuil3!I21","v":"- HANDBALL CLISSON"},1]
[{"$f":"Feuil3!A24","v":4},{"$f":"Feuil3!B24","v":"2012-10-14"},{"$f":"Feuil3!C24","v":"16:00:00"},{"$f":"Feuil3!D24","v":"- ASPTT NANTES 2"},{"$f":"Feuil3!E24","v":23},{"$f":"Feuil3!F24","v":16},{"$f":"Feuil3!G24","v":"- HANDBALL CLISSON"},{"$f":"Feuil3!H24","v":"- ASPTT NANTES 2"},{"$f":"Feuil3!I24","v":"- HANDBALL CLISSON"},1]
[{"$f":"Feuil3!A33","v":5},{"$f":"Feuil3!B33","v":"2012-10-20"},{"$f":"Feuil3!C33","v":"19:00:00"},{"$f":"Feuil3!D33","v":"- HANDBALL CLISSON"},{"$f":"Feuil3!E33","v":24},{"$f":"Feuil3!F33","v":22},{"$f":"Feuil3!G33","v":"- THOUARE HANDBALL CLUB"},{"$f":"Feuil3!H33","v":"- HANDBALL CLISSON"},{"$f":"Feuil3!I33","v":"- THOUARE HANDBALL CLUB"},3]
[{"$f":"Feuil3!A34","v":6},{"$f":"Feuil3!B34","v":"2012-11-03"},{"$f":"Feuil3!C34","v":"19:00:00"},{"$f":"Feuil3!D34","v":"- FANS HB LIGNE 2"},{"$f":"Feuil3!E34","v":30},{"$f":"Feuil3!F34","v":29},{"$f":"Feuil3!G34","v":"- HANDBALL CLISSON"},{"$f":"Feuil3!H34","v":"- FANS HB LIGNE 2"},{"$f":"Feuil3!I34","v":"- HANDBALL CLISSON"},1]
[{"$f":"Feuil3!A45","v":7},{"$f":"Feuil3!B45","v":"2012-11-10"},{"$f":"Feuil3!C45","v":"21:00:00"},{"$f":"Feuil3!D45","v":"- HANDBALL CLISSON"},{"$f":"Feuil3!E45","v":18},{"$f":"Feuil3!F45","v":24},{"$f":"Feuil3!G45","v":"- RACC NANTES 2"},{"$f":"Feuil3!H45","v":"- RACC NANTES 2"},{"$f":"Feuil3!I45","v":"- HANDBALL CLISSON"},1]
[{"$f":"Feuil3!A50","v":8},{"$f":"Feuil3!B50","v":"2012-11-17"},{"$f":"Feuil3!C50","v":"22:00:00"},{"$f":"Feuil3!D50","v":"- TRIGNAC HANDBALL 3"},{"$f":"Feuil3!E50","v":31},{"$f":"Feuil3!F50","v":31},{"$f":"Feuil3!G50","v":"- HANDBALL CLISSON"},{"$f":"Feuil3!H50","v":""},{"$f":"Feuil3!I50","v":""},2]
[{"$f":"Feuil3!A57","v":9},{"$f":"Feuil3!B57","v":"2012-12-01"},{"$f":"Feuil3!C57","v":"19:00:00"},{"$f":"Feuil3!D57","v":"- HANDBALL CLISSON"},{"$f":"Feuil3!E57","v":24},{"$f":"Feuil3!F57","v":17},{"$f":"Feuil3!G57","v":"- ASAG HAYE FOUASSIERE"},{"$f":"Feuil3!H57","v":"- HANDBALL CLISSON"},{"$f":"Feuil3!I57","v":"- ASAG HAYE FOUASSIERE"},3]
[{"$f":"Feuil3!A60","v":10},{"$f":"Feuil3!B60","v":"2012-12-08"},{"$f":"Feuil3!C60","v":"22:00:00"},{"$f":"Feuil3!D60","v":"- CHABOSSIERE OLYMPIQUE CLUB HB 2"},{"$f":"Feuil3!E60","v":33},{"$f":"Feuil3!F60","v":24},{"$f":"Feuil3!G60","v":"- HANDBALL CLISSON"},{"$f":"Feuil3!H60","v":"- CHABOSSIERE OLYMPIQUE CLUB HB 2"},{"$f":"Feuil3!I60","v":"- HANDBALL CLISSON"},1]
[{"$f":"Feuil3!A69","v":11},{"$f":"Feuil3!B69","v":"05/01/2013 (R)"},{"$f":"Feuil3!C69","v":"18:30:00"},{"$f":"Feuil3!D69","v":"- HANDBALL CLISSON"},{"$f":"Feuil3!E69","v":23},{"$f":"Feuil3!F69","v":31},{"$f":"Feuil3!G69","v":"- HIRONDELLE ST YO HB 2"},{"$f":"Feuil3!H69","v":"- HIRONDELLE ST YO HB 2"},{"$f":"Feuil3!I69","v":"- HANDBALL CLISSON"},1]
[{"$f":"Feuil3!A70","v":12},{"$f":"Feuil3!B70","v":"2013-01-20"},{"$f":"Feuil3!C70","v":"11:00:00"},{"$f":"Feuil3!D70","v":"- ASC LA MONTAGNE"},{"$f":"Feuil3!E70","v":25},{"$f":"Feuil3!F70","v":17},{"$f":"Feuil3!G70","v":"- HANDBALL CLISSON"},{"$f":"Feuil3!H70","v":"- ASC LA MONTAGNE"},{"$f":"Feuil3!I70","v":"- HANDBALL CLISSON"},1]
[{"$f":"Feuil3!A81","v":13},{"$f":"Feuil3!B81","v":"26/01/2013 (R)"},{"$f":"Feuil3!C81","v":"22:00:00"},{"$f":"Feuil3!D81","v":"- HANDBALL CLISSON"},{"$f":"Feuil3!E81","v":20},{"$f":"Feuil3!F81","v":25},{"$f":"Feuil3!G81","v":"- AL PORTERIE AC HANDBALL"},{"$f":"Feuil3!H81","v":"- AL PORTERIE AC HANDBALL"},{"$f":"Feuil3!I81","v":"- HANDBALL CLISSON"},1]
[{"$f":"Feuil3!A85","v":14},{"$f":"Feuil3!B85","v":"2013-02-02"},{"$f":"Feuil3!C85","v":"20:30:00"},{"$f":"Feuil3!D85","v":"- AL CHATEAUBRIANT"},{"$f":"Feuil3!E85","v":36},{"$f":"Feuil3!F85","v":25},{"$f":"Feuil3!G85","v":"- HANDBALL CLISSON"},{"$f":"Feuil3!H85","v":"- AL CHATEAUBRIANT"},{"$f":"Feuil3!I85","v":"- HANDBALL CLISSON"},1]
[{"$f":"Feuil3!A93","v":15},{"$f":"Feuil3!B93","v":"09/02/2013 (R)"},{"$f":"Feuil3!C93","v":"20:15:00"},{"$f":"Feuil3!D93","v":"- HANDBALL CLISSON"},{"$f":"Feuil3!E93","v":27},{"$f":"Feuil3!F93","v":21},{"$f":"Feuil3!G93","v":"- ASPTT NANTES 2"},{"$f":"Feuil3!H93","v":"- HANDBALL CLISSON"},{"$f":"Feuil3!I93","v":"- ASPTT NANTES 2"},3]
[{"$f":"Feuil3!A95","v":16},{"$f":"Feuil3!B95","v":"23/02/2013 (R)"},{"$f":"Feuil3!C95","v":"21:00:00"},{"$f":"Feuil3!D95","v":"- THOUARE HANDBALL CLUB"},{"$f":"Feuil3!E95","v":14},{"$f":"Feuil3!F95","v":18},{"$f":"Feuil3!G95","v":"- HANDBALL CLISSON"},{"$f":"Feuil3!H95","v":"- HANDBALL CLISSON"},{"$f":"Feuil3!I95","v":"- THOUARE HANDBALL CLUB"},3]
[{"$f":"Feuil3!A105","v":17},{"$f":"Feuil3!B105","v":"2013-03-16"},{"$f":"Feuil3!C105","v":"22:00:00"},{"$f":"Feuil3!D105","v":"- HANDBALL CLISSON"},{"$f":"Feuil3!E105","v":24},{"$f":"Feuil3!F105","v":39},{"$f":"Feuil3!G105","v":"- FANS HB LIGNE 2"},{"$f":"Feuil3!H105","v":"- FANS HB LIGNE 2"},{"$f":"Feuil3!I105","v":"- HANDBALL CLISSON"},1]
[{"$f":"Feuil3!A111","v":18},{"$f":"Feuil3!B111","v":"2013-04-06"},{"$f":"Feuil3!C111","v":"21:00:00"},{"$f":"Feuil3!D111","v":"- RACC NANTES 2"},{"$f":"Feuil3!E111","v":32},{"$f":"Feuil3!F111","v":19},{"$f":"Feuil3!G111","v":"- HANDBALL CLISSON"},{"$f":"Feuil3!H111","v":"- RACC NANTES 2"},{"$f":"Feuil3!I111","v":"- HANDBALL CLISSON"},1]
[{"$f":"Feuil3!A117","v":19},{"$f":"Feuil3!B117","v":"2013-04-13"},{"$f":"Feuil3!C117","v":"20:15:00"},{"$f":"Feuil3!D117","v":"- HANDBALL CLISSON"},{"$f":"Feuil3!E117","v":0},{"$f":"Feuil3!F117","v":0},{"$f":"Feuil3!G117","v":"- TRIGNAC HANDBALL 3"},{"$f":"Feuil3!H117","v":""},{"$f":"Feuil3!I117","v":""},""]
[{"$f":"Feuil3!A121","v":20},{"$f":"Feuil3!B121","v":"2013-04-20"},{"$f":"Feuil3!C121","v":"19:00:00"},{"$f":"Feuil3!D121","v":"- ASAG HAYE FOUASSIERE"},{"$f":"Feuil3!E121","v":0},{"$f":"Feuil3!F121","v":0},{"$f":"Feuil3!G121","v":"- HANDBALL CLISSON"},{"$f":"Feuil3!H121","v":""},{"$f":"Feuil3!I121","v":""},""]
[{"$f":"Feuil3!A129","v":21},{"$f":"Feuil3!B129","v":"2013-05-04"},{"$f":"Feuil3!C129","v":"19:00:00"},{"$f":"Feuil3!D129","v":"- HANDBALL CLISSON"},{"$f":"Feuil3!E129","v":0},{"$f":"Feuil3!F129","v":0},{"$f":"Feuil3!G129","v":"- CHABOSSIERE OLYMPIQUE CLUB HB 2"},{"$f":"Feuil3!H129","v":""},{"$f":"Feuil3!I129","v":""},""]
[{"$f":"Feuil3!A131","v":22},{"$f":"Feuil3!B131","v":"2013-05-11"},{"$f":"Feuil3!C131","v":"20:00:00"},{"$f":"Feuil3!D131","v":"- HIRONDELLE ST YO HB 2"},{"$f":"Feuil3!E131","v":0},{"$f":"Feuil3!F131","v":0},{"$f":"Feuil3!G131","v":"- HANDBALL CLISSON"},{"$f":"Feuil3!H131","v":""},{"$f":"Feuil3!I131","v":""},""]
[]
[]
[]
[]
["Étiquettes de lignes"]
[1]
[2]
[3]
[4]
[5]
[6]
[7]
[8]
[9]
[10]
[11]
[12]
[13]
[14]
[15]
[16]
[17]
[18]
[19]
[20]
[21]
[22]
["Total général"]

{"sheet":"Feuil14","index":7,"n_rows":0,"n_cols":0,"rows_kept":0,"cut":false,"hidden":false,"merged":[]}

{"sheet":"Feuil5","index":8,"n_rows":69,"n_cols":12,"rows_kept":69,"cut":false,"hidden":false,"merged":[]}
[]
[]
["journee","Somme de pts trignac","Somme de pts thouare","Somme de pts château","Somme de pts asptt","Somme de pts st yo","Somme de pts chab","Somme de pts haye","Somme de pts ligne","Somme de pts RACC","Somme de pts clisson","Somme de pts la mont"]
[1,3,1,2,3,1,2,1,1,3,3,1]
[2,1,3,1,2,3,2,1,3,3,3,1]
[3,1,3,3,2,2,1,1,3,3,1,3]
[4,1,1,1,3,3,1,1,3,3,1,3]
[5,3,1,1,3,1,1,1,3,3,3,3]
[6,3,3,3,1,1,1,1,3,3,1,3]
[7,1,1,3,1,3,3,1,1,3,1,3]
[8,2,1,1,3,3,3,1,3,3,2,1]
[9,1,1,1,1,3,1,1,3,3,3,3]
[10,2,1,2,1,3,3,1,3,3,1,1]
[11,1,1,3,3,3,1,1,1,3,1,3]
[12,1,3,3,3,1,1,1,3,1,1,3]
[13,3,3,1,3,3,1,1,1,3,1,1]
[14,1,1,3,1,3,3,1,3,3,1,1]
[15,3,1,1,1,3,3,1,1,3,3,1]
[16,3,1,3,3,3,1,1,1,3,3,1]
[17,1,1,1,3,1,3,1,3,3,1,3]
[18,1,3,1,3,3,3,1,3,3,1,1]
[19,0,0,0,0,0,0,0,0,0,0,0]
[20,0,0,0,0,0,0,0,0,0,0,0]
[21,0,0,0,0,0,0,0,0,0,0,0]
[22,0,0,0,0,0,0,0,0,0,0,0]
["Total général",32,30,34,40,43,34,18,42,52,31,36]
[]
[]
[]
[]
[]
[]
[]
[]
[]
[]
[]
[]
[]
[]
[]
[]
[]
[]
[]
[{"$f":"A3","v":"journee"},"Somme de pts trignac","Somme de pts thouare","Somme de pts château","Somme de pts asptt","Somme de pts st yo","Somme de pts chab","Somme de pts haye","Somme de pts ligne","Somme de pts RACC","Somme de pts clisson","Somme de pts la mont"]
[{"$f":"A4","v":1},3,1,2,3,1,2,1,1,3,3,1]
[{"$f":"A5","v":2},1,3,1,2,3,2,1,3,3,3,1]
[{"$f":"A6","v":3},1,3,3,2,2,1,1,3,3,1,3]
[{"$f":"A7","v":4},1,1,1,3,3,1,1,3,3,1,3]
[{"$f":"A8","v":5},3,1,1,3,1,1,1,3,3,3,3]
[{"$f":"A9","v":6},3,3,3,1,1,1,1,3,3,1,3]
[{"$f":"A10","v":7},1,1,3,1,3,3,1,1,3,1,3]
[{"$f":"A11","v":8},2,1,1,3,3,3,1,3,3,2,1]
[{"$f":"A12","v":9},1,1,1,1,3,1,1,3,3,3,3]
[{"$f":"A13","v":10},2,1,2,1,3,3,1,3,3,1,1]
[{"$f":"A14","v":11},1,1,3,3,3,1,1,1,3,1,3]
[{"$f":"A15","v":12},1,3,3,3,1,1,1,3,1,1,3]
[{"$f":"A16","v":13},3,3,1,3,3,1,1,1,3,1,1]
[{"$f":"A17","v":14},1,1,3,1,3,3,1,3,3,1,1]
[{"$f":"A18","v":15},3,1,1,1,3,3,1,1,3,3,1]
[{"$f":"A19","v":16},3,1,3,3,3,1,1,1,3,3,1]
[{"$f":"A20","v":17},1,1,1,3,1,3,1,3,3,1,3]
[{"$f":"A21","v":18},1,3,1,3,3,3,1,3,3,1,1]
[{"$f":"A22","v":19},0,0,0,0,0,0,0,0,0,0,0]
[{"$f":"A23","v":20},0,0,0,0,0,0,0,0,0,0,0]
[{"$f":"A24","v":21},0,0,0,0,0,0,0,0,0,0,0]
[{"$f":"A25","v":22},0,0,0,0,0,0,0,0,0,0,0]
[{"$f":"A26","v":"Total général"},32,30,34,40,43,34,18,42,52,31,36]

{"sheet":"classement","index":9,"n_rows":136,"n_cols":14,"rows_kept":136,"cut":false,"hidden":false,"merged":[]}
[]
[]
[]
[null,{"$f":"Feuil3!A3","v":"journee"},{"$f":"Feuil3!J3","v":"pts st yo"},{"$f":"Feuil3!K3","v":"pts chab"},{"$f":"Feuil3!L3","v":"pts haye"},{"$f":"Feuil3!M3","v":"pts RACC"},{"$f":"Feuil3!N3","v":"pts clisson"},{"$f":"Feuil3!O3","v":"pts la mont"},{"$f":"Feuil3!P3","v":"pts ligne"},{"$f":"Feuil3!Q3","v":"pts asptt"},{"$f":"Feuil3!R3","v":"pts château"},{"$f":"Feuil3!S3","v":"pts al port"},{"$f":"Feuil3!T3","v":"pts trignac"},{"$f":"Feuil3!U3","v":"pts thouare"}]
[null,{"$f":"Feuil3!A4","v":1},{"$f":"Feuil3!J4","v":1},{"$f":"Feuil3!K4","v":""},{"$f":"Feuil3!L4","v":""},{"$f":"Feuil3!M4","v":""},{"$f":"Feuil3!N4","v":""},{"$f":"Feuil3!O4","v":""},{"$f":"Feuil3!P4","v":""},{"$f":"Feuil3!Q4","v":""},{"$f":"Feuil3!R4","v":""},{"$f":"Feuil3!S4","v":3},{"$f":"Feuil3!T4","v":""},{"$f":"Feuil3!U4","v":""}]
[null,{"$f":"Feuil3!A5","v":1},{"$f":"Feuil3!J5","v":""},{"$f":"Feuil3!K5","v":""},{"$f":"Feuil3!L5","v":""},{"$f":"Feuil3!M5","v":""},{"$f":"Feuil3!N5","v":""},{"$f":"Feuil3!O5","v":""},{"$f":"Feuil3!P5","v":""},{"$f":"Feuil3!Q5","v":""},{"$f":"Feuil3!R5","v":""},{"$f":"Feuil3!S5","v":""},{"$f":"Feuil3!T5","v":3},{"$f":"Feuil3!U5","v":1}]
[null,{"$f":"Feuil3!A6","v":1},{"$f":"Feuil3!J6","v":""},{"$f":"Feuil3!K6","v":2},{"$f":"Feuil3!L6","v":""},{"$f":"Feuil3!M6","v":""},{"$f":"Feuil3!N6","v":""},{"$f":"Feuil3!O6","v":""},{"$f":"Feuil3!P6","v":""},{"$f":"Feuil3!Q6","v":""},{"$f":"Feuil3!R6","v":2},{"$f":"Feuil3!S6","v":""},{"$f":"Feuil3!T6","v":""},{"$f":"Feuil3!U6","v":""}]
[null,{"$f":"Feuil3!A7","v":1},{"$f":"Feuil3!J7","v":""},{"$f":"Feuil3!K7","v":""},{"$f":"Feuil3!L7","v":1},{"$f":"Feuil3!M7","v":""},{"$f":"Feuil3!N7","v":""},{"$f":"Feuil3!O7","v":""},{"$f":"Feuil3!P7","v":""},{"$f":"Feuil3!Q7","v":3},{"$f":"Feuil3!R7","v":""},{"$f":"Feuil3!S7","v":""},{"$f":"Feuil3!T7","v":""},{"$f":"Feuil3!U7","v":""}]
[null,{"$f":"Feuil3!A8","v":1},{"$f":"Feuil3!J8","v":""},{"$f":"Feuil3!K8","v":""},{"$f":"Feuil3!L8","v":""},{"$f":"Feuil3!M8","v":3},{"$f":"Feuil3!N8","v":""},{"$f":"Feuil3!O8","v":""},{"$f":"Feuil3!P8","v":1},{"$f":"Feuil3!Q8","v":""},{"$f":"Feuil3!R8","v":""},{"$f":"Feuil3!S8","v":""},{"$f":"Feuil3!T8","v":""},{"$f":"Feuil3!U8","v":""}]
[null,{"$f":"Feuil3!A9","v":1},{"$f":"Feuil3!J9","v":""},{"$f":"Feuil3!K9","v":""},{"$f":"Feuil3!L9","v":""},{"$f":"Feuil3!M9","v":""},{"$f":"Feuil3!N9","v":3},{"$f":"Feuil3!O9","v":1},{"$f":"Feuil3!P9","v":""},{"$f":"Feuil3!Q9","v":""},{"$f":"Feuil3!R9","v":""},{"$f":"Feuil3!S9","v":""},{"$f":"Feuil3!T9","v":""},{"$f":"Feuil3!U9","v":""}]
[null,{"$f":"Feuil3!A10","v":2},{"$f":"Feuil3!J10","v":""},{"$f":"Feuil3!K10","v":""},{"$f":"Feuil3!L10","v":""},{"$f":"Feuil3!M10","v":3},{"$f":"Feuil3!N10","v":""},{"$f":"Feuil3!O10","v":1},{"$f":"Feuil3!P10","v":""},{"$f":"Feuil3!Q10","v":""},{"$f":"Feuil3!R10","v":""},{"$f":"Feuil3!S10","v":""},{"$f":"Feuil3!T10","v":""},{"$f":"Feuil3!U10","v":""}]
[null,{"$f":"Feuil3!A11","v":2},{"$f":"Feuil3!J11","v":""},{"$f":"Feuil3!K11","v":""},{"$f":"Feuil3!L11","v":""},{"$f":"Feuil3!M11","v":""},{"$f":"Feuil3!N11","v":""},{"$f":"Feuil3!O11","v":""},{"$f":"Feuil3!P11","v":3},{"$f":"Feuil3!Q11","v":""},{"$f":"Feuil3!R11","v":""},{"$f":"Feuil3!S11","v":""},{"$f":"Feuil3!T11","v":1},{"$f":"Feuil3!U11","v":""}]
[null,{"$f":"Feuil3!A12","v":2},{"$f":"Feuil3!J12","v":""},{"$f":"Feuil3!K12","v":""},{"$f":"Feuil3!L12","v":1},{"$f":"Feuil3!M12","v":""},{"$f":"Feuil3!N12","v":""},{"$f":"Feuil3!O12","v":""},{"$f":"Feuil3!P12","v":""},{"$f":"Feuil3!Q12","v":""},{"$f":"Feuil3!R12","v":""},{"$f":"Feuil3!S12","v":""},{"$f":"Feuil3!T12","v":""},{"$f":"Feuil3!U12","v":3}]
[null,{"$f":"Feuil3!A13","v":2},{"$f":"Feuil3!J13","v":""},{"$f":"Feuil3!K13","v":2},{"$f":"Feuil3!L13","v":""},{"$f":"Feuil3!M13","v":""},{"$f":"Feuil3!N13","v":""},{"$f":"Feuil3!O13","v":""},{"$f":"Feuil3!P13","v":""},{"$f":"Feuil3!Q13","v":2},{"$f":"Feuil3!R13","v":""},{"$f":"Feuil3!S13","v":""},{"$f":"Feuil3!T13","v":""},{"$f":"Feuil3!U13","v":""}]
[null,{"$f":"Feuil3!A14","v":2},{"$f":"Feuil3!J14","v":3},{"$f":"Feuil3!K14","v":""},{"$f":"Feuil3!L14","v":""},{"$f":"Feuil3!M14","v":""},{"$f":"Feuil3!N14","v":""},{"$f":"Feuil3!O14","v":""},{"$f":"Feuil3!P14","v":""},{"$f":"Feuil3!Q14","v":""},{"$f":"Feuil3!R14","v":1},{"$f":"Feuil3!S14","v":""},{"$f":"Feuil3!T14","v":""},{"$f":"Feuil3!U14","v":""}]
[null,{"$f":"Feuil3!A15","v":2},{"$f":"Feuil3!J15","v":""},{"$f":"Feuil3!K15","v":""},{"$f":"Feuil3!L15","v":""},{"$f":"Feuil3!M15","v":""},{"$f":"Feuil3!N15","v":3},{"$f":"Feuil3!O15","v":""},{"$f":"Feuil3!P15","v":""},{"$f":"Feuil3!Q15","v":""},{"$f":"Feuil3!R15","v":""},{"$f":"Feuil3!S15","v":1},{"$f":"Feuil3!T15","v":""},{"$f":"Feuil3!U15","v":""}]
[null,{"$f":"Feuil3!A16","v":3},{"$f":"Feuil3!J16","v":""},{"$f":"Feuil3!K16","v":""},{"$f":"Feuil3!L16","v":""},{"$f":"Feuil3!M16","v":""},{"$f":"Feuil3!N16","v":""},{"$f":"Feuil3!O16","v":3},{"$f":"Feuil3!P16","v":""},{"$f":"Feuil3!Q16","v":""},{"$f":"Feuil3!R16","v":""},{"$f":"Feuil3!S16","v":1},{"$f":"Feuil3!T16","v":""},{"$f":"Feuil3!U16","v":""}]
[null,{"$f":"Feuil3!A17","v":3},{"$f":"Feuil3!J17","v":2},{"$f":"Feuil3!K17","v":""},{"$f":"Feuil3!L17","v":""},{"$f":"Feuil3!M17","v":""},{"$f":"Feuil3!N17","v":""},{"$f":"Feuil3!O17","v":""},{"$f":"Feuil3!P17","v":""},{"$f":"Feuil3!Q17","v":2},{"$f":"Feuil3!R17","v":""},{"$f":"Feuil3!S17","v":""},{"$f":"Feuil3!T17","v":""},{"$f":"Feuil3!U17","v":""}]
[null,{"$f":"Feuil3!A18","v":3},{"$f":"Feuil3!J18","v":""},{"$f":"Feuil3!K18","v":1},{"$f":"Feuil3!L18","v":""},{"$f":"Feuil3!M18","v":""},{"$f":"Feuil3!N18","v":""},{"$f":"Feuil3!O18","v":""},{"$f":"Feuil3!P18","v":""},{"$f":"Feuil3!Q18","v":""},{"$f":"Feuil3!R18","v":""},{"$f":"Feuil3!S18","v":""},{"$f":"Feuil3!T18","v":""},{"$f":"Feuil3!U18","v":3}]
[null,{"$f":"Feuil3!A19","v":3},{"$f":"Feuil3!J19","v":""},{"$f":"Feuil3!K19","v":""},{"$f":"Feuil3!L19","v":1},{"$f":"Feuil3!M19","v":""},{"$f":"Feuil3!N19","v":""},{"$f":"Feuil3!O19","v":""},{"$f":"Feuil3!P19","v":3},{"$f":"Feuil3!Q19","v":""},{"$f":"Feuil3!R19","v":""},{"$f":"Feuil3!S19","v":""},{"$f":"Feuil3!T19","v":""},{"$f":"Feuil3!U19","v":""}]
[null,{"$f":"Feuil3!A20","v":3},{"$f":"Feuil3!J20","v":""},{"$f":"Feuil3!K20","v":""},{"$f":"Feuil3!L20","v":""},{"$f":"Feuil3!M20","v":3},{"$f":"Feuil3!N20","v":""},{"$f":"Feuil3!O20","v":""},{"$f":"Feuil3!P20","v":""},{"$f":"Feuil3!Q20","v":""},{"$f":"Feuil3!R20","v":""},{"$f":"Feuil3!S20","v":""},{"$f":"Feuil3!T20","v":1},{"$f":"Feuil3!U20","v":""}]
[null,{"$f":"Feuil3!A21","v":3},{"$f":"Feuil3!J21","v":""},{"$f":"Feuil3!K21","v":""},{"$f":"Feuil3!L21","v":""},{"$f":"Feuil3!M21","v":""},{"$f":"Feuil3!N21","v":1},{"$f":"Feuil3!O21","v":""},{"$f":"Feuil3!P21","v":""},{"$f":"Feuil3!Q21","v":""},{"$f":"Feuil3!R21","v":3},{"$f":"Feuil3!S21","v":""},{"$f":"Feuil3!T21","v":""},{"$f":"Feuil3!U21","v":""}]
[null,{"$f":"Feuil3!A22","v":4},{"$f":"Feuil3!J22","v":""},{"$f":"Feuil3!K22","v":1},{"$f":"Feuil3!L22","v":""},{"$f":"Feuil3!M22","v":""},{"$f":"Feuil3!N22","v":""},{"$f":"Feuil3!O22","v":""},{"$f":"Feuil3!P22","v":3},{"$f":"Feuil3!Q22","v":""},{"$f":"Feuil3!R22","v":""},{"$f":"Feuil3!S22","v":""},{"$f":"Feuil3!T22","v":""},{"$f":"Feuil3!U22","v":""}]
[null,{"$f":"Feuil3!A23","v":4},{"$f":"Feuil3!J23","v":3},{"$f":"Feuil3!K23","v":""},{"$f":"Feuil3!L23","v":""},{"$f":"Feuil3!M23","v":""},{"$f":"Feuil3!N23","v":""},{"$f":"Feuil3!O23","v":""},{"$f":"Feuil3!P23","v":""},{"$f":"Feuil3!Q23","v":""},{"$f":"Feuil3!R23","v":""},{"$f":"Feuil3!S23","v":""},{"$f":"Feuil3!T23","v":""},{"$f":"Feuil3!U23","v":1}]
[null,{"$f":"Feuil3!A24","v":4},{"$f":"Feuil3!J24","v":""},{"$f":"Feuil3!K24","v":""},{"$f":"Feuil3!L24","v":""},{"$f":"Feuil3!M24","v":""},{"$f":"Feuil3!N24","v":1},{"$f":"Feuil3!O24","v":""},{"$f":"Feuil3!P24","v":""},{"$f":"Feuil3!Q24","v":3},{"$f":"Feuil3!R24","v":""},{"$f":"Feuil3!S24","v":""},{"$f":"Feuil3!T24","v":""},{"$f":"Feuil3!U24","v":""}]
[null,{"$f":"Feuil3!A25","v":4},{"$f":"Feuil3!J25","v":""},{"$f":"Feuil3!K25","v":""},{"$f":"Feuil3!L25","v":""},{"$f":"Feuil3!M25","v":""},{"$f":"Feuil3!N25","v":""},{"$f":"Feuil3!O25","v":""},{"$f":"Feuil3!P25","v":""},{"$f":"Feuil3!Q25","v":""},{"$f":"Feuil3!R25","v":1},{"$f":"Feuil3!S25","v":3},{"$f":"Feuil3!T25","v":""},{"$f":"Feuil3!U25","v":""}]
[null,{"$f":"Feuil3!A26","v":4},{"$f":"Feuil3!J26","v":""},{"$f":"Feuil3!K26","v":""},{"$f":"Feuil3!L26","v":""},{"$f":"Feuil3!M26","v":""},{"$f":"Feuil3!N26","v":""},{"$f":"Feuil3!O26","v":3},{"$f":"Feuil3!P26","v":""},{"$f":"Feuil3!Q26","v":""},{"$f":"Feuil3!R26","v":""},{"$f":"Feuil3!S26","v":""},{"$f":"Feuil3!T26","v":1},{"$f":"Feuil3!U26","v":""}]
[null,{"$f":"Feuil3!A27","v":4},{"$f":"Feuil3!J27","v":""},{"$f":"Feuil3!K27","v":""},{"$f":"Feuil3!L27","v":1},{"$f":"Feuil3!M27","v":3},{"$f":"Feuil3!N27","v":""},{"$f":"Feuil3!O27","v":""},{"$f":"Feuil3!P27","v":""},{"$f":"Feuil3!Q27","v":""},{"$f":"Feuil3!R27","v":""},{"$f":"Feuil3!S27","v":""},{"$f":"Feuil3!T27","v":""},{"$f":"Feuil3!U27","v":""}]
[null,{"$f":"Feuil3!A28","v":5},{"$f":"Feuil3!J28","v":""},{"$f":"Feuil3!K28","v":""},{"$f":"Feuil3!L28","v":""},{"$f":"Feuil3!M28","v":""},{"$f":"Feuil3!N28","v":""},{"$f":"Feuil3!O28","v":3},{"$f":"Feuil3!P28","v":""},{"$f":"Feuil3!Q28","v":""},{"$f":"Feuil3!R28","v":1},{"$f":"Feuil3!S28","v":""},{"$f":"Feuil3!T28","v":""},{"$f":"Feuil3!U28","v":""}]
[null,{"$f":"Feuil3!A29","v":5},{"$f":"Feuil3!J29","v":1},{"$f":"Feuil3!K29","v":""},{"$f":"Feuil3!L29","v":""},{"$f":"Feuil3!M29","v":""},{"$f":"Feuil3!N29","v":""},{"$f":"Feuil3!O29","v":""},{"$f":"Feuil3!P29","v":3},{"$f":"Feuil3!Q29","v":""},{"$f":"Feuil3!R29","v":""},{"$f":"Feuil3!S29","v":""},{"$f":"Feuil3!T29","v":""},{"$f":"Feuil3!U29","v":""}]
[null,{"$f":"Feuil3!A30","v":5},{"$f":"Feuil3!J30","v":""},{"$f":"Feuil3!K30","v":1},{"$f":"Feuil3!L30","v":""},{"$f":"Feuil3!M30","v":3},{"$f":"Feuil3!N30","v":""},{"$f":"Feuil3!O30","v":""},{"$f":"Feuil3!P30","v":""},{"$f":"Feuil3!Q30","v":""},{"$f":"Feuil3!R30","v":""},{"$f":"Feuil3!S30","v":""},{"$f":"Feuil3!T30","v":""},{"$f":"Feuil3!U30","v":""}]
[null,{"$f":"Feuil3!A31","v":5},{"$f":"Feuil3!J31","v":""},{"$f":"Feuil3!K31","v":""},{"$f":"Feuil3!L31","v":1},{"$f":"Feuil3!M31","v":""},{"$f":"Feuil3!N31","v":""},{"$f":"Feuil3!O31","v":""},{"$f":"Feuil3!P31","v":""},{"$f":"Feuil3!Q31","v":""},{"$f":"Feuil3!R31","v":""},{"$f":"Feuil3!S31","v":""},{"$f":"Feuil3!T31","v":3},{"$f":"Feuil3!U31","v":""}]
[null,{"$f":"Feuil3!A32","v":5},{"$f":"Feuil3!J32","v":""},{"$f":"Feuil3!K32","v":""},{"$f":"Feuil3!L32","v":""},{"$f":"Feuil3!M32","v":""},{"$f":"Feuil3!N32","v":""},{"$f":"Feuil3!O32","v":""},{"$f":"Feuil3!P32","v":""},{"$f":"Feuil3!Q32","v":3},{"$f":"Feuil3!R32","v":""},{"$f":"Feuil3!S32","v":1},{"$f":"Feuil3!T32","v":""},{"$f":"Feuil3!U32","v":""}]
[null,{"$f":"Feuil3!A33","v":5},{"$f":"Feuil3!J33","v":""},{"$f":"Feuil3!K33","v":""},{"$f":"Feuil3!L33","v":""},{"$f":"Feuil3!M33","v":""},{"$f":"Feuil3!N33","v":3},{"$f":"Feuil3!O33","v":""},{"$f":"Feuil3!P33","v":""},{"$f":"Feuil3!Q33","v":""},{"$f":"Feuil3!R33","v":""},{"$f":"Feuil3!S33","v":""},{"$f":"Feuil3!T33","v":""},{"$f":"Feuil3!U33","v":1}]
[null,{"$f":"Feuil3!A34","v":6},{"$f":"Feuil3!J34","v":""},{"$f":"Feuil3!K34","v":""},{"$f":"Feuil3!L34","v":""},{"$f":"Feuil3!M34","v":""},{"$f":"Feuil3!N34","v":1},{"$f":"Feuil3!O34","v":""},{"$f":"Feuil3!P34","v":3},{"$f":"Feuil3!Q34","v":""},{"$f":"Feuil3!R34","v":""},{"$f":"Feuil3!S34","v":""},{"$f":"Feuil3!T34","v":""},{"$f":"Feuil3!U34","v":""}]
[null,{"$f":"Feuil3!A35","v":6},{"$f":"Feuil3!J35","v":""},{"$f":"Feuil3!K35","v":""},{"$f":"Feuil3!L35","v":""},{"$f":"Feuil3!M35","v":""},{"$f":"Feuil3!N35","v":""},{"$f":"Feuil3!O35","v":""},{"$f":"Feuil3!P35","v":""},{"$f":"Feuil3!Q35","v":""},{"$f":"Feuil3!R35","v":""},{"$f":"Feuil3!S35","v":1},{"$f":"Feuil3!T35","v":""},{"$f":"Feuil3!U35","v":3}]
[null,{"$f":"Feuil3!A36","v":6},{"$f":"Feuil3!J36","v":""},{"$f":"Feuil3!K36","v":""},{"$f":"Feuil3!L36","v":""},{"$f":"Feuil3!M36","v":""},{"$f":"Feuil3!N36","v":""},{"$f":"Feuil3!O36","v":""},{"$f":"Feuil3!P36","v":""},{"$f":"Feuil3!Q36","v":1},{"$f":"Feuil3!R36","v":3},{"$f":"Feuil3!S36","v":""},{"$f":"Feuil3!T36","v":""},{"$f":"Feuil3!U36","v":""}]
[null,{"$f":"Feuil3!A37","v":6},{"$f":"Feuil3!J37","v":""},{"$f":"Feuil3!K37","v":""},{"$f":"Feuil3!L37","v":1},{"$f":"Feuil3!M37","v":""},{"$f":"Feuil3!N37","v":""},{"$f":"Feuil3!O37","v":3},{"$f":"Feuil3!P37","v":""},{"$f":"Feuil3!Q37","v":""},{"$f":"Feuil3!R37","v":""},{"$f":"Feuil3!S37","v":""},{"$f":"Feuil3!T37","v":""},{"$f":"Feuil3!U37","v":""}]
[null,{"$f":"Feuil3!A38","v":6},{"$f":"Feuil3!J38","v":""},{"$f":"Feuil3!K38","v":1},{"$f":"Feuil3!L38","v":""},{"$f":"Feuil3!M38","v":""},{"$f":"Feuil3!N38","v":""},{"$f":"Feuil3!O38","v":""},{"$f":"Feuil3!P38","v":""},{"$f":"Feuil3!Q38","v":""},{"$f":"Feuil3!R38","v":""},{"$f":"Feuil3!S38","v":""},{"$f":"Feuil3!T38","v":3},{"$f":"Feuil3!U38","v":""}]
[null,{"$f":"Feuil3!A39","v":6},{"$f":"Feuil3!J39","v":1},{"$f":"Feuil3!K39","v":""},{"$f":"Feuil3!L39","v":""},{"$f":"Feuil3!M39","v":3},{"$f":"Feuil3!N39","v":""},{"$f":"Feuil3!O39","v":""},{"$f":"Feuil3!P39","v":""},{"$f":"Feuil3!Q39","v":""},{"$f":"Feuil3!R39","v":""},{"$f":"Feuil3!S39","v":""},{"$f":"Feuil3!T39","v":""},{"$f":"Feuil3!U39","v":""}]
[null,{"$f":"Feuil3!A40","v":7},{"$f":"Feuil3!J40","v":""},{"$f":"Feuil3!K40","v":""},{"$f":"Feuil3!L40","v":""},{"$f":"Feuil3!M40","v":""},{"$f":"Feuil3!N40","v":""},{"$f":"Feuil3!O40","v":3},{"$f":"Feuil3!P40","v":""},{"$f":"Feuil3!Q40","v":1},{"$f":"Feuil3!R40","v":""},{"$f":"Feuil3!S40","v":""},{"$f":"Feuil3!T40","v":""},{"$f":"Feuil3!U40","v":""}]
[null,{"$f":"Feuil3!A41","v":7},{"$f":"Feuil3!J41","v":3},{"$f":"Feuil3!K41","v":""},{"$f":"Feuil3!L41","v":""},{"$f":"Feuil3!M41","v":""},{"$f":"Feuil3!N41","v":""},{"$f":"Feuil3!O41","v":""},{"$f":"Feuil3!P41","v":""},{"$f":"Feuil3!Q41","v":""},{"$f":"Feuil3!R41","v":""},{"$f":"Feuil3!S41","v":""},{"$f":"Feuil3!T41","v":1},{"$f":"Feuil3!U41","v":""}]
[null,{"$f":"Feuil3!A42","v":7},{"$f":"Feuil3!J42","v":""},{"$f":"Feuil3!K42","v":3},{"$f":"Feuil3!L42","v":1},{"$f":"Feuil3!M42","v":""},{"$f":"Feuil3!N42","v":""},{"$f":"Feuil3!O42","v":""},{"$f":"Feuil3!P42","v":""},{"$f":"Feuil3!Q42","v":""},{"$f":"Feuil3!R42","v":""},{"$f":"Feuil3!S42","v":""},{"$f":"Feuil3!T42","v":""},{"$f":"Feuil3!U42","v":""}]
[null,{"$f":"Feuil3!A43","v":7},{"$f":"Feuil3!J43","v":""},{"$f":"Feuil3!K43","v":""},{"$f":"Feuil3!L43","v":""},{"$f":"Feuil3!M43","v":""},{"$f":"Feuil3!N43","v":""},{"$f":"Feuil3!O43","v":""},{"$f":"Feuil3!P43","v":""},{"$f":"Feuil3!Q43","v":""},{"$f":"Feuil3!R43","v":3},{"$f":"Feuil3!S43","v":""},{"$f":"Feuil3!T43","v":""},{"$f":"Feuil3!U43","v":1}]
[null,{"$f":"Feuil3!A44","v":7},{"$f":"Feuil3!J44","v":""},{"$f":"Feuil3!K44","v":""},{"$f":"Feuil3!L44","v":""},{"$f":"Feuil3!M44","v":""},{"$f":"Feuil3!N44","v":""},{"$f":"Feuil3!O44","v":""},{"$f":"Feuil3!P44","v":1},{"$f":"Feuil3!Q44","v":""},{"$f":"Feuil3!R44","v":""},{"$f":"Feuil3!S44","v":3},{"$f":"Feuil3!T44","v":""},{"$f":"Feuil3!U44","v":""}]
[null,{"$f":"Feuil3!A45","v":7},{"$f":"Feuil3!J45","v":""},{"$f":"Feuil3!K45","v":""},{"$f":"Feuil3!L45","v":""},{"$f":"Feuil3!M45","v":3},{"$f":"Feuil3!N45","v":1},{"$f":"Feuil3!O45","v":""},{"$f":"Feuil3!P45","v":""},{"$f":"Feuil3!Q45","v":""},{"$f":"Feuil3!R45","v":""},{"$f":"Feuil3!S45","v":""},{"$f":"Feuil3!T45","v":""},{"$f":"Feuil3!U45","v":""}]
[null,{"$f":"Feuil3!A46","v":8},{"$f":"Feuil3!J46","v":""},{"$f":"Feuil3!K46","v":""},{"$f":"Feuil3!L46","v":""},{"$f":"Feuil3!M46","v":""},{"$f":"Feuil3!N46","v":""},{"$f":"Feuil3!O46","v":""},{"$f":"Feuil3!P46","v":3},{"$f":"Feuil3!Q46","v":""},{"$f":"Feuil3!R46","v":1},{"$f":"Feuil3!S46","v":""},{"$f":"Feuil3!T46","v":""},{"$f":"Feuil3!U46","v":""}]
[null,{"$f":"Feuil3!A47","v":8},{"$f":"Feuil3!J47","v":""},{"$f":"Feuil3!K47","v":""},{"$f":"Feuil3!L47","v":""},{"$f":"Feuil3!M47","v":""},{"$f":"Feuil3!N47","v":""},{"$f":"Feuil3!O47","v":""},{"$f":"Feuil3!P47","v":""},{"$f":"Feuil3!Q47","v":3},{"$f":"Feuil3!R47","v":""},{"$f":"Feuil3!S47","v":""},{"$f":"Feuil3!T47","v":""},{"$f":"Feuil3!U47","v":1}]
[null,{"$f":"Feuil3!A48","v":8},{"$f":"Feuil3!J48","v":""},{"$f":"Feuil3!K48","v":3},{"$f":"Feuil3!L48","v":""},{"$f":"Feuil3!M48","v":""},{"$f":"Feuil3!N48","v":""},{"$f":"Feuil3!O48","v":1},{"$f":"Feuil3!P48","v":""},{"$f":"Feuil3!Q48","v":""},{"$f":"Feuil3!R48","v":""},{"$f":"Feuil3!S48","v":""},{"$f":"Feuil3!T48","v":""},{"$f":"Feuil3!U48","v":""}]
[null,{"$f":"Feuil3!A49","v":8},{"$f":"Feuil3!J49","v":3},{"$f":"Feuil3!K49","v":""},{"$f":"Feuil3!L49","v":1},{"$f":"Feuil3!M49","v":""},{"$f":"Feuil3!N49","v":""},{"$f":"Feuil3!O49","v":""},{"$f":"Feuil3!P49","v":""},{"$f":"Feuil3!Q49","v":""},{"$f":"Feuil3!R49","v":""},{"$f":"Feuil3!S49","v":""},{"$f":"Feuil3!T49","v":""},{"$f":"Feuil3!U49","v":""}]
[null,{"$f":"Feuil3!A50","v":8},{"$f":"Feuil3!J50","v":""},{"$f":"Feuil3!K50","v":""},{"$f":"Feuil3!L50","v":""},{"$f":"Feuil3!M50","v":""},{"$f":"Feuil3!N50","v":2},{"$f":"Feuil3!O50","v":""},{"$f":"Feuil3!P50","v":""},{"$f":"Feuil3!Q50","v":""},{"$f":"Feuil3!R50","v":""},{"$f":"Feuil3!S50","v":""},{"$f":"Feuil3!T50","v":2},{"$f":"Feuil3!U50","v":""}]
[null,{"$f":"Feuil3!A51","v":8},{"$f":"Feuil3!J51","v":""},{"$f":"Feuil3!K51","v":""},{"$f":"Feuil3!L51","v":""},{"$f":"Feuil3!M51","v":3},{"$f":"Feuil3!N51","v":""},{"$f":"Feuil3!O51","v":""},{"$f":"Feuil3!P51","v":""},{"$f":"Feuil3!Q51","v":""},{"$f":"Feuil3!R51","v":""},{"$f":"Feuil3!S51","v":1},{"$f":"Feuil3!T51","v":""},{"$f":"Feuil3!U51","v":""}]
[null,{"$f":"Feuil3!A52","v":9},{"$f":"Feuil3!J52","v":""},{"$f":"Feuil3!K52","v":""},{"$f":"Feuil3!L52","v":""},{"$f":"Feuil3!M52","v":""},{"$f":"Feuil3!N52","v":""},{"$f":"Feuil3!O52","v":3},{"$f":"Feuil3!P52","v":""},{"$f":"Feuil3!Q52","v":""},{"$f":"Feuil3!R52","v":""},{"$f":"Feuil3!S52","v":""},{"$f":"Feuil3!T52","v":""},{"$f":"Feuil3!U52","v":1}]
[null,{"$f":"Feuil3!A53","v":9},{"$f":"Feuil3!J53","v":3},{"$f":"Feuil3!K53","v":1},{"$f":"Feuil3!L53","v":""},{"$f":"Feuil3!M53","v":""},{"$f":"Feuil3!N53","v":""},{"$f":"Feuil3!O53","v":""},{"$f":"Feuil3!P53","v":""},{"$f":"Feuil3!Q53","v":""},{"$f":"Feuil3!R53","v":""},{"$f":"Feuil3!S53","v":""},{"$f":"Feuil3!T53","v":""},{"$f":"Feuil3!U53","v":""}]
[null,{"$f":"Feuil3!A54","v":9},{"$f":"Feuil3!J54","v":""},{"$f":"Feuil3!K54","v":""},{"$f":"Feuil3!L54","v":""},{"$f":"Feuil3!M54","v":""},{"$f":"Feuil3!N54","v":""},{"$f":"Feuil3!O54","v":""},{"$f":"Feuil3!P54","v":3},{"$f":"Feuil3!Q54","v":1},{"$f":"Feuil3!R54","v":""},{"$f":"Feuil3!S54","v":""},{"$f":"Feuil3!T54","v":""},{"$f":"Feuil3!U54","v":""}]
[null,{"$f":"Feuil3!A55","v":9},{"$f":"Feuil3!J55","v":""},{"$f":"Feuil3!K55","v":""},{"$f":"Feuil3!L55","v":""},{"$f":"Feuil3!M55","v":3},{"$f":"Feuil3!N55","v":""},{"$f":"Feuil3!O55","v":""},{"$f":"Feuil3!P55","v":""},{"$f":"Feuil3!Q55","v":""},{"$f":"Feuil3!R55","v":1},{"$f":"Feuil3!S55","v":""},{"$f":"Feuil3!T55","v":""},{"$f":"Feuil3!U55","v":""}]
[null,{"$f":"Feuil3!A56","v":9},{"$f":"Feuil3!J56","v":""},{"$f":"Feuil3!K56","v":""},{"$f":"Feuil3!L56","v":""},{"$f":"Feuil3!M56","v":""},{"$f":"Feuil3!N56","v":""},{"$f":"Feuil3!O56","v":""},{"$f":"Feuil3!P56","v":""},{"$f":"Feuil3!Q56","v":""},{"$f":"Feuil3!R56","v":""},{"$f":"Feuil3!S56","v":3},{"$f":"Feuil3!T56","v":1},{"$f":"Feuil3!U56","v":""}]
[null,{"$f":"Feuil3!A57","v":9},{"$f":"Feuil3!J57","v":""},{"$f":"Feuil3!K57","v":""},{"$f":"Feuil3!L57","v":1},{"$f":"Feuil3!M57","v":""},{"$f":"Feuil3!N57","v":3},{"$f":"Feuil3!O57","v":""},{"$f":"Feuil3!P57","v":""},{"$f":"Feuil3!Q57","v":""},{"$f":"Feuil3!R57","v":""},{"$f":"Feuil3!S57","v":""},{"$f":"Feuil3!T57","v":""},{"$f":"Feuil3!U57","v":""}]
[null,{"$f":"Feuil3!A58","v":10},{"$f":"Feuil3!J58","v":""},{"$f":"Feuil3!K58","v":""},{"$f":"Feuil3!L58","v":""},{"$f":"Feuil3!M58","v":""},{"$f":"Feuil3!N58","v":""},{"$f":"Feuil3!O58","v":""},{"$f":"Feuil3!P58","v":3},{"$f":"Feuil3!Q58","v":""},{"$f":"Feuil3!R58","v":""},{"$f":"Feuil3!S58","v":""},{"$f":"Feuil3!T58","v":""},{"$f":"Feuil3!U58","v":1}]
[null,{"$f":"Feuil3!A59","v":10},{"$f":"Feuil3!J59","v":3},{"$f":"Feuil3!K59","v":""},{"$f":"Feuil3!L59","v":""},{"$f":"Feuil3!M59","v":""},{"$f":"Feuil3!N59","v":""},{"$f":"Feuil3!O59","v":1},{"$f":"Feuil3!P59","v":""},{"$f":"Feuil3!Q59","v":""},{"$f":"Feuil3!R59","v":""},{"$f":"Feuil3!S59","v":""},{"$f":"Feuil3!T59","v":""},{"$f":"Feuil3!U59","v":""}]
[null,{"$f":"Feuil3!A60","v":10},{"$f":"Feuil3!J60","v":""},{"$f":"Feuil3!K60","v":3},{"$f":"Feuil3!L60","v":""},{"$f":"Feuil3!M60","v":""},{"$f":"Feuil3!N60","v":1},{"$f":"Feuil3!O60","v":""},{"$f":"Feuil3!P60","v":""},{"$f":"Feuil3!Q60","v":""},{"$f":"Feuil3!R60","v":""},{"$f":"Feuil3!S60","v":""},{"$f":"Feuil3!T60","v":""},{"$f":"Feuil3!U60","v":""}]
[null,{"$f":"Feuil3!A61","v":10},{"$f":"Feuil3!J61","v":""},{"$f":"Feuil3!K61","v":""},{"$f":"Feuil3!L61","v":1},{"$f":"Feuil3!M61","v":""},{"$f":"Feuil3!N61","v":""},{"$f":"Feuil3!O61","v":""},{"$f":"Feuil3!P61","v":""},{"$f":"Feuil3!Q61","v":""},{"$f":"Feuil3!R61","v":""},{"$f":"Feuil3!S61","v":3},{"$f":"Feuil3!T61","v":""},{"$f":"Feuil3!U61","v":""}]
[null,{"$f":"Feuil3!A62","v":10},{"$f":"Feuil3!J62","v":""},{"$f":"Feuil3!K62","v":""},{"$f":"Feuil3!L62","v":""},{"$f":"Feuil3!M62","v":""},{"$f":"Feuil3!N62","v":""},{"$f":"Feuil3!O62","v":""},{"$f":"Feuil3!P62","v":""},{"$f":"Feuil3!Q62","v":""},{"$f":"Feuil3!R62","v":2},{"$f":"Feuil3!S62","v":""},{"$f":"Feuil3!T62","v":2},{"$f":"Feuil3!U62","v":""}]
[null,{"$f":"Feuil3!A63","v":10},{"$f":"Feuil3!J63","v":""},{"$f":"Feuil3!K63","v":""},{"$f":"Feuil3!L63","v":""},{"$f":"Feuil3!M63","v":3},{"$f":"Feuil3!N63","v":""},{"$f":"Feuil3!O63","v":""},{"$f":"Feuil3!P63","v":""},{"$f":"Feuil3!Q63","v":1},{"$f":"Feuil3!R63","v":""},{"$f":"Feuil3!S63","v":""},{"$f":"Feuil3!T63","v":""},{"$f":"Feuil3!U63","v":""}]
[null,{"$f":"Feuil3!A64","v":11},{"$f":"Feuil3!J64","v":""},{"$f":"Feuil3!K64","v":""},{"$f":"Feuil3!L64","v":""},{"$f":"Feuil3!M64","v":""},{"$f":"Feuil3!N64","v":""},{"$f":"Feuil3!O64","v":3},{"$f":"Feuil3!P64","v":1},{"$f":"Feuil3!Q64","v":""},{"$f":"Feuil3!R64","v":""},{"$f":"Feuil3!S64","v":""},{"$f":"Feuil3!T64","v":""},{"$f":"Feuil3!U64","v":""}]
[null,{"$f":"Feuil3!A65","v":11},{"$f":"Feuil3!J65","v":""},{"$f":"Feuil3!K65","v":""},{"$f":"Feuil3!L65","v":""},{"$f":"Feuil3!M65","v":3},{"$f":"Feuil3!N65","v":""},{"$f":"Feuil3!O65","v":""},{"$f":"Feuil3!P65","v":""},{"$f":"Feuil3!Q65","v":""},{"$f":"Feuil3!R65","v":""},{"$f":"Feuil3!S65","v":""},{"$f":"Feuil3!T65","v":""},{"$f":"Feuil3!U65","v":1}]
[null,{"$f":"Feuil3!A66","v":11},{"$f":"Feuil3!J66","v":""},{"$f":"Feuil3!K66","v":""},{"$f":"Feuil3!L66","v":""},{"$f":"Feuil3!M66","v":""},{"$f":"Feuil3!N66","v":""},{"$f":"Feuil3!O66","v":""},{"$f":"Feuil3!P66","v":""},{"$f":"Feuil3!Q66","v":3},{"$f":"Feuil3!R66","v":""},{"$f":"Feuil3!S66","v":""},{"$f":"Feuil3!T66","v":1},{"$f":"Feuil3!U66","v":""}]
[null,{"$f":"Feuil3!A67","v":11},{"$f":"Feuil3!J67","v":""},{"$f":"Feuil3!K67","v":""},{"$f":"Feuil3!L67","v":1},{"$f":"Feuil3!M67","v":""},{"$f":"Feuil3!N67","v":""},{"$f":"Feuil3!O67","v":""},{"$f":"Feuil3!P67","v":""},{"$f":"Feuil3!Q67","v":""},{"$f":"Feuil3!R67","v":3},{"$f":"Feuil3!S67","v":""},{"$f":"Feuil3!T67","v":""},{"$f":"Feuil3!U67","v":""}]
[null,{"$f":"Feuil3!A68","v":11},{"$f":"Feuil3!J68","v":""},{"$f":"Feuil3!K68","v":1},{"$f":"Feuil3!L68","v":""},{"$f":"Feuil3!M68","v":""},{"$f":"Feuil3!N68","v":""},{"$f":"Feuil3!O68","v":""},{"$f":"Feuil3!P68","v":""},{"$f":"Feuil3!Q68","v":""},{"$f":"Feuil3!R68","v":""},{"$f":"Feuil3!S68","v":3},{"$f":"Feuil3!T68","v":""},{"$f":"Feuil3!U68","v":""}]
[null,{"$f":"Feuil3!A69","v":11},{"$f":"Feuil3!J69","v":3},{"$f":"Feuil3!K69","v":""},{"$f":"Feuil3!L69","v":""},{"$f":"Feuil3!M69","v":""},{"$f":"Feuil3!N69","v":1},{"$f":"Feuil3!O69","v":""},{"$f":"Feuil3!P69","v":""},{"$f":"Feuil3!Q69","v":""},{"$f":"Feuil3!R69","v":""},{"$f":"Feuil3!S69","v":""},{"$f":"Feuil3!T69","v":""},{"$f":"Feuil3!U69","v":""}]
[null,{"$f":"Feuil3!A70","v":12},{"$f":"Feuil3!J70","v":""},{"$f":"Feuil3!K70","v":""},{"$f":"Feuil3!L70","v":""},{"$f":"Feuil3!M70","v":""},{"$f":"Feuil3!N70","v":1},{"$f":"Feuil3!O70","v":3},{"$f":"Feuil3!P70","v":""},{"$f":"Feuil3!Q70","v":""},{"$f":"Feuil3!R70","v":""},{"$f":"Feuil3!S70","v":""},{"$f":"Feuil3!T70","v":""},{"$f":"Feuil3!U70","v":""}]
[null,{"$f":"Feuil3!A71","v":12},{"$f":"Feuil3!J71","v":""},{"$f":"Feuil3!K71","v":""},{"$f":"Feuil3!L71","v":""},{"$f":"Feuil3!M71","v":1},{"$f":"Feuil3!N71","v":""},{"$f":"Feuil3!O71","v":""},{"$f":"Feuil3!P71","v":3},{"$f":"Feuil3!Q71","v":""},{"$f":"Feuil3!R71","v":""},{"$f":"Feuil3!S71","v":""},{"$f":"Feuil3!T71","v":""},{"$f":"Feuil3!U71","v":""}]
[null,{"$f":"Feuil3!A72","v":12},{"$f":"Feuil3!J72","v":""},{"$f":"Feuil3!K72","v":""},{"$f":"Feuil3!L72","v":1},{"$f":"Feuil3!M72","v":""},{"$f":"Feuil3!N72","v":""},{"$f":"Feuil3!O72","v":""},{"$f":"Feuil3!P72","v":""},{"$f":"Feuil3!Q72","v":3},{"$f":"Feuil3!R72","v":""},{"$f":"Feuil3!S72","v":""},{"$f":"Feuil3!T72","v":""},{"$f":"Feuil3!U72","v":""}]
[null,{"$f":"Feuil3!A73","v":12},{"$f":"Feuil3!J73","v":""},{"$f":"Feuil3!K73","v":1},{"$f":"Feuil3!L73","v":""},{"$f":"Feuil3!M73","v":""},{"$f":"Feuil3!N73","v":""},{"$f":"Feuil3!O73","v":""},{"$f":"Feuil3!P73","v":""},{"$f":"Feuil3!Q73","v":""},{"$f":"Feuil3!R73","v":3},{"$f":"Feuil3!S73","v":""},{"$f":"Feuil3!T73","v":""},{"$f":"Feuil3!U73","v":""}]
[null,{"$f":"Feuil3!A74","v":12},{"$f":"Feuil3!J74","v":""},{"$f":"Feuil3!K74","v":""},{"$f":"Feuil3!L74","v":""},{"$f":"Feuil3!M74","v":""},{"$f":"Feuil3!N74","v":""},{"$f":"Feuil3!O74","v":""},{"$f":"Feuil3!P74","v":""},{"$f":"Feuil3!Q74","v":""},{"$f":"Feuil3!R74","v":""},{"$f":"Feuil3!S74","v":""},{"$f":"Feuil3!T74","v":1},{"$f":"Feuil3!U74","v":3}]
[null,{"$f":"Feuil3!A75","v":12},{"$f":"Feuil3!J75","v":1},{"$f":"Feuil3!K75","v":""},{"$f":"Feuil3!L75","v":""},{"$f":"Feuil3!M75","v":""},{"$f":"Feuil3!N75","v":""},{"$f":"Feuil3!O75","v":""},{"$f":"Feuil3!P75","v":""},{"$f":"Feuil3!Q75","v":""},{"$f":"Feuil3!R75","v":""},{"$f":"Feuil3!S75","v":3},{"$f":"Feuil3!T75","v":""},{"$f":"Feuil3!U75","v":""}]
[null,{"$f":"Feuil3!A76","v":13},{"$f":"Feuil3!J76","v":3},{"$f":"Feuil3!K76","v":""},{"$f":"Feuil3!L76","v":""},{"$f":"Feuil3!M76","v":""},{"$f":"Feuil3!N76","v":""},{"$f":"Feuil3!O76","v":""},{"$f":"Feuil3!P76","v":""},{"$f":"Feuil3!Q76","v":""},{"$f":"Feuil3!R76","v":1},{"$f":"Feuil3!S76","v":""},{"$f":"Feuil3!T76","v":""},{"$f":"Feuil3!U76","v":""}]
[null,{"$f":"Feuil3!A77","v":13},{"$f":"Feuil3!J77","v":""},{"$f":"Feuil3!K77","v":1},{"$f":"Feuil3!L77","v":""},{"$f":"Feuil3!M77","v":""},{"$f":"Feuil3!N77","v":""},{"$f":"Feuil3!O77","v":""},{"$f":"Feuil3!P77","v":""},{"$f":"Feuil3!Q77","v":3},{"$f":"Feuil3!R77","v":""},{"$f":"Feuil3!S77","v":""},{"$f":"Feuil3!T77","v":""},{"$f":"Feuil3!U77","v":""}]
[null,{"$f":"Feuil3!A78","v":13},{"$f":"Feuil3!J78","v":""},{"$f":"Feuil3!K78","v":""},{"$f":"Feuil3!L78","v":1},{"$f":"Feuil3!M78","v":""},{"$f":"Feuil3!N78","v":""},{"$f":"Feuil3!O78","v":""},{"$f":"Feuil3!P78","v":""},{"$f":"Feuil3!Q78","v":""},{"$f":"Feuil3!R78","v":""},{"$f":"Feuil3!S78","v":""},{"$f":"Feuil3!T78","v":""},{"$f":"Feuil3!U78","v":3}]
[null,{"$f":"Feuil3!A79","v":13},{"$f":"Feuil3!J79","v":""},{"$f":"Feuil3!K79","v":""},{"$f":"Feuil3!L79","v":""},{"$f":"Feuil3!M79","v":""},{"$f":"Feuil3!N79","v":""},{"$f":"Feuil3!O79","v":""},{"$f":"Feuil3!P79","v":1},{"$f":"Feuil3!Q79","v":""},{"$f":"Feuil3!R79","v":""},{"$f":"Feuil3!S79","v":""},{"$f":"Feuil3!T79","v":3},{"$f":"Feuil3!U79","v":""}]
[null,{"$f":"Feuil3!A80","v":13},{"$f":"Feuil3!J80","v":""},{"$f":"Feuil3!K80","v":""},{"$f":"Feuil3!L80","v":""},{"$f":"Feuil3!M80","v":3},{"$f":"Feuil3!N80","v":""},{"$f":"Feuil3!O80","v":1},{"$f":"Feuil3!P80","v":""},{"$f":"Feuil3!Q80","v":""},{"$f":"Feuil3!R80","v":""},{"$f":"Feuil3!S80","v":""},{"$f":"Feuil3!T80","v":""},{"$f":"Feuil3!U80","v":""}]
[null,{"$f":"Feuil3!A81","v":13},{"$f":"Feuil3!J81","v":""},{"$f":"Feuil3!K81","v":""},{"$f":"Feuil3!L81","v":""},{"$f":"Feuil3!M81","v":""},{"$f":"Feuil3!N81","v":1},{"$f":"Feuil3!O81","v":""},{"$f":"Feuil3!P81","v":""},{"$f":"Feuil3!Q81","v":""},{"$f":"Feuil3!R81","v":""},{"$f":"Feuil3!S81","v":3},{"$f":"Feuil3!T81","v":""},{"$f":"Feuil3!U81","v":""}]
[null,{"$f":"Feuil3!A82","v":14},{"$f":"Feuil3!J82","v":""},{"$f":"Feuil3!K82","v":""},{"$f":"Feuil3!L82","v":1},{"$f":"Feuil3!M82","v":""},{"$f":"Feuil3!N82","v":""},{"$f":"Feuil3!O82","v":""},{"$f":"Feuil3!P82","v":3},{"$f":"Feuil3!Q82","v":""},{"$f":"Feuil3!R82","v":""},{"$f":"Feuil3!S82","v":""},{"$f":"Feuil3!T82","v":""},{"$f":"Feuil3!U82","v":""}]
[null,{"$f":"Feuil3!A83","v":14},{"$f":"Feuil3!J83","v":""},{"$f":"Feuil3!K83","v":3},{"$f":"Feuil3!L83","v":""},{"$f":"Feuil3!M83","v":""},{"$f":"Feuil3!N83","v":""},{"$f":"Feuil3!O83","v":""},{"$f":"Feuil3!P83","v":""},{"$f":"Feuil3!Q83","v":""},{"$f":"Feuil3!R83","v":""},{"$f":"Feuil3!S83","v":""},{"$f":"Feuil3!T83","v":""},{"$f":"Feuil3!U83","v":1}]
[null,{"$f":"Feuil3!A84","v":14},{"$f":"Feuil3!J84","v":3},{"$f":"Feuil3!K84","v":""},{"$f":"Feuil3!L84","v":""},{"$f":"Feuil3!M84","v":""},{"$f":"Feuil3!N84","v":""},{"$f":"Feuil3!O84","v":""},{"$f":"Feuil3!P84","v":""},{"$f":"Feuil3!Q84","v":1},{"$f":"Feuil3!R84","v":""},{"$f":"Feuil3!S84","v":""},{"$f":"Feuil3!T84","v":""},{"$f":"Feuil3!U84","v":""}]
[null,{"$f":"Feuil3!A85","v":14},{"$f":"Feuil3!J85","v":""},{"$f":"Feuil3!K85","v":""},{"$f":"Feuil3!L85","v":""},{"$f":"Feuil3!M85","v":""},{"$f":"Feuil3!N85","v":1},{"$f":"Feuil3!O85","v":""},{"$f":"Feuil3!P85","v":""},{"$f":"Feuil3!Q85","v":""},{"$f":"Feuil3!R85","v":3},{"$f":"Feuil3!S85","v":""},{"$f":"Feuil3!T85","v":""},{"$f":"Feuil3!U85","v":""}]
[null,{"$f":"Feuil3!A86","v":14},{"$f":"Feuil3!J86","v":""},{"$f":"Feuil3!K86","v":""},{"$f":"Feuil3!L86","v":""},{"$f":"Feuil3!M86","v":""},{"$f":"Feuil3!N86","v":""},{"$f":"Feuil3!O86","v":1},{"$f":"Feuil3!P86","v":""},{"$f":"Feuil3!Q86","v":""},{"$f":"Feuil3!R86","v":""},{"$f":"Feuil3!S86","v":3},{"$f":"Feuil3!T86","v":""},{"$f":"Feuil3!U86","v":""}]
[null,{"$f":"Feuil3!A87","v":14},{"$f":"Feuil3!J87","v":""},{"$f":"Feuil3!K87","v":""},{"$f":"Feuil3!L87","v":""},{"$f":"Feuil3!M87","v":3},{"$f":"Feuil3!N87","v":""},{"$f":"Feuil3!O87","v":""},{"$f":"Feuil3!P87","v":""},{"$f":"Feuil3!Q87","v":""},{"$f":"Feuil3!R87","v":""},{"$f":"Feuil3!S87","v":""},{"$f":"Feuil3!T87","v":1},{"$f":"Feuil3!U87","v":""}]
[null,{"$f":"Feuil3!A88","v":15},{"$f":"Feuil3!J88","v":""},{"$f":"Feuil3!K88","v":""},{"$f":"Feuil3!L88","v":""},{"$f":"Feuil3!M88","v":""},{"$f":"Feuil3!N88","v":""},{"$f":"Feuil3!O88","v":1},{"$f":"Feuil3!P88","v":""},{"$f":"Feuil3!Q88","v":""},{"$f":"Feuil3!R88","v":""},{"$f":"Feuil3!S88","v":""},{"$f":"Feuil3!T88","v":3},{"$f":"Feuil3!U88","v":""}]
[null,{"$f":"Feuil3!A89","v":15},{"$f":"Feuil3!J89","v":3},{"$f":"Feuil3!K89","v":""},{"$f":"Feuil3!L89","v":""},{"$f":"Feuil3!M89","v":""},{"$f":"Feuil3!N89","v":""},{"$f":"Feuil3!O89","v":""},{"$f":"Feuil3!P89","v":""},{"$f":"Feuil3!Q89","v":""},{"$f":"Feuil3!R89","v":""},{"$f":"Feuil3!S89","v":""},{"$f":"Feuil3!T89","v":""},{"$f":"Feuil3!U89","v":1}]
[null,{"$f":"Feuil3!A90","v":15},{"$f":"Feuil3!J90","v":""},{"$f":"Feuil3!K90","v":3},{"$f":"Feuil3!L90","v":""},{"$f":"Feuil3!M90","v":""},{"$f":"Feuil3!N90","v":""},{"$f":"Feuil3!O90","v":""},{"$f":"Feuil3!P90","v":1},{"$f":"Feuil3!Q90","v":""},{"$f":"Feuil3!R90","v":""},{"$f":"Feuil3!S90","v":""},{"$f":"Feuil3!T90","v":""},{"$f":"Feuil3!U90","v":""}]
[null,{"$f":"Feuil3!A91","v":15},{"$f":"Feuil3!J91","v":""},{"$f":"Feuil3!K91","v":""},{"$f":"Feuil3!L91","v":1},{"$f":"Feuil3!M91","v":3},{"$f":"Feuil3!N91","v":""},{"$f":"Feuil3!O91","v":""},{"$f":"Feuil3!P91","v":""},{"$f":"Feuil3!Q91","v":""},{"$f":"Feuil3!R91","v":""},{"$f":"Feuil3!S91","v":""},{"$f":"Feuil3!T91","v":""},{"$f":"Feuil3!U91","v":""}]
[null,{"$f":"Feuil3!A92","v":15},{"$f":"Feuil3!J92","v":""},{"$f":"Feuil3!K92","v":""},{"$f":"Feuil3!L92","v":""},{"$f":"Feuil3!M92","v":""},{"$f":"Feuil3!N92","v":""},{"$f":"Feuil3!O92","v":""},{"$f":"Feuil3!P92","v":""},{"$f":"Feuil3!Q92","v":""},{"$f":"Feuil3!R92","v":1},{"$f":"Feuil3!S92","v":3},{"$f":"Feuil3!T92","v":""},{"$f":"Feuil3!U92","v":""}]
[null,{"$f":"Feuil3!A93","v":15},{"$f":"Feuil3!J93","v":""},{"$f":"Feuil3!K93","v":""},{"$f":"Feuil3!L93","v":""},{"$f":"Feuil3!M93","v":""},{"$f":"Feuil3!N93","v":3},{"$f":"Feuil3!O93","v":""},{"$f":"Feuil3!P93","v":""},{"$f":"Feuil3!Q93","v":1},{"$f":"Feuil3!R93","v":""},{"$f":"Feuil3!S93","v":""},{"$f":"Feuil3!T93","v":""},{"$f":"Feuil3!U93","v":""}]
[null,{"$f":"Feuil3!A94","v":16},{"$f":"Feuil3!J94","v":3},{"$f":"Feuil3!K94","v":""},{"$f":"Feuil3!L94","v":""},{"$f":"Feuil3!M94","v":""},{"$f":"Feuil3!N94","v":""},{"$f":"Feuil3!O94","v":""},{"$f":"Feuil3!P94","v":1},{"$f":"Feuil3!Q94","v":""},{"$f":"Feuil3!R94","v":""},{"$f":"Feuil3!S94","v":""},{"$f":"Feuil3!T94","v":""},{"$f":"Feuil3!U94","v":""}]
[null,{"$f":"Feuil3!A95","v":16},{"$f":"Feuil3!J95","v":""},{"$f":"Feuil3!K95","v":""},{"$f":"Feuil3!L95","v":""},{"$f":"Feuil3!M95","v":""},{"$f":"Feuil3!N95","v":3},{"$f":"Feuil3!O95","v":""},{"$f":"Feuil3!P95","v":""},{"$f":"Feuil3!Q95","v":""},{"$f":"Feuil3!R95","v":""},{"$f":"Feuil3!S95","v":""},{"$f":"Feuil3!T95","v":""},{"$f":"Feuil3!U95","v":1}]
[null,{"$f":"Feuil3!A96","v":16},{"$f":"Feuil3!J96","v":""},{"$f":"Feuil3!K96","v":""},{"$f":"Feuil3!L96","v":""},{"$f":"Feuil3!M96","v":""},{"$f":"Feuil3!N96","v":""},{"$f":"Feuil3!O96","v":""},{"$f":"Feuil3!P96","v":""},{"$f":"Feuil3!Q96","v":3},{"$f":"Feuil3!R96","v":""},{"$f":"Feuil3!S96","v":1},{"$f":"Feuil3!T96","v":""},{"$f":"Feuil3!U96","v":""}]
[null,{"$f":"Feuil3!A97","v":16},{"$f":"Feuil3!J97","v":""},{"$f":"Feuil3!K97","v":""},{"$f":"Feuil3!L97","v":""},{"$f":"Feuil3!M97","v":""},{"$f":"Feuil3!N97","v":""},{"$f":"Feuil3!O97","v":1},{"$f":"Feuil3!P97","v":""},{"$f":"Feuil3!Q97","v":""},{"$f":"Feuil3!R97","v":3},{"$f":"Feuil3!S97","v":""},{"$f":"Feuil3!T97","v":""},{"$f":"Feuil3!U97","v":""}]
[null,{"$f":"Feuil3!A98","v":16},{"$f":"Feuil3!J98","v":""},{"$f":"Feuil3!K98","v":""},{"$f":"Feuil3!L98","v":1},{"$f":"Feuil3!M98","v":""},{"$f":"Feuil3!N98","v":""},{"$f":"Feuil3!O98","v":""},{"$f":"Feuil3!P98","v":""},{"$f":"Feuil3!Q98","v":""},{"$f":"Feuil3!R98","v":""},{"$f":"Feuil3!S98","v":""},{"$f":"Feuil3!T98","v":3},{"$f":"Feuil3!U98","v":""}]
[null,{"$f":"Feuil3!A99","v":16},{"$f":"Feuil3!J99","v":""},{"$f":"Feuil3!K99","v":1},{"$f":"Feuil3!L99","v":""},{"$f":"Feuil3!M99","v":3},{"$f":"Feuil3!N99","v":""},{"$f":"Feuil3!O99","v":""},{"$f":"Feuil3!P99","v":""},{"$f":"Feuil3!Q99","v":""},{"$f":"Feuil3!R99","v":""},{"$f":"Feuil3!S99","v":""},{"$f":"Feuil3!T99","v":""},{"$f":"Feuil3!U99","v":""}]
[null,{"$f":"Feuil3!A100","v":17},{"$f":"Feuil3!J100","v":""},{"$f":"Feuil3!K100","v":""},{"$f":"Feuil3!L100","v":1},{"$f":"Feuil3!M100","v":""},{"$f":"Feuil3!N100","v":""},{"$f":"Feuil3!O100","v":3},{"$f":"Feuil3!P100","v":""},{"$f":"Feuil3!Q100","v":""},{"$f":"Feuil3!R100","v":""},{"$f":"Feuil3!S100","v":""},{"$f":"Feuil3!T100","v":""},{"$f":"Feuil3!U100","v":""}]
[null,{"$f":"Feuil3!A101","v":17},{"$f":"Feuil3!J101","v":1},{"$f":"Feuil3!K101","v":""},{"$f":"Feuil3!L101","v":""},{"$f":"Feuil3!M101","v":3},{"$f":"Feuil3!N101","v":""},{"$f":"Feuil3!O101","v":""},{"$f":"Feuil3!P101","v":""},{"$f":"Feuil3!Q101","v":""},{"$f":"Feuil3!R101","v":""},{"$f":"Feuil3!S101","v":""},{"$f":"Feuil3!T101","v":""},{"$f":"Feuil3!U101","v":""}]
[null,{"$f":"Feuil3!A102","v":17},{"$f":"Feuil3!J102","v":""},{"$f":"Feuil3!K102","v":3},{"$f":"Feuil3!L102","v":""},{"$f":"Feuil3!M102","v":""},{"$f":"Feuil3!N102","v":""},{"$f":"Feuil3!O102","v":""},{"$f":"Feuil3!P102","v":""},{"$f":"Feuil3!Q102","v":""},{"$f":"Feuil3!R102","v":""},{"$f":"Feuil3!S102","v":""},{"$f":"Feuil3!T102","v":1},{"$f":"Feuil3!U102","v":""}]
[null,{"$f":"Feuil3!A103","v":17},{"$f":"Feuil3!J103","v":""},{"$f":"Feuil3!K103","v":""},{"$f":"Feuil3!L103","v":""},{"$f":"Feuil3!M103","v":""},{"$f":"Feuil3!N103","v":""},{"$f":"Feuil3!O103","v":""},{"$f":"Feuil3!P103","v":""},{"$f":"Feuil3!Q103","v":3},{"$f":"Feuil3!R103","v":1},{"$f":"Feuil3!S103","v":""},{"$f":"Feuil3!T103","v":""},{"$f":"Feuil3!U103","v":""}]
[null,{"$f":"Feuil3!A104","v":17},{"$f":"Feuil3!J104","v":""},{"$f":"Feuil3!K104","v":""},{"$f":"Feuil3!L104","v":""},{"$f":"Feuil3!M104","v":""},{"$f":"Feuil3!N104","v":""},{"$f":"Feuil3!O104","v":""},{"$f":"Feuil3!P104","v":""},{"$f":"Feuil3!Q104","v":""},{"$f":"Feuil3!R104","v":""},{"$f":"Feuil3!S104","v":3},{"$f":"Feuil3!T104","v":""},{"$f":"Feuil3!U104","v":1}]
[null,{"$f":"Feuil3!A105","v":17},{"$f":"Feuil3!J105","v":""},{"$f":"Feuil3!K105","v":""},{"$f":"Feuil3!L105","v":""},{"$f":"Feuil3!M105","v":""},{"$f":"Feuil3!N105","v":1},{"$f":"Feuil3!O105","v":""},{"$f":"Feuil3!P105","v":3},{"$f":"Feuil3!Q105","v":""},{"$f":"Feuil3!R105","v":""},{"$f":"Feuil3!S105","v":""},{"$f":"Feuil3!T105","v":""},{"$f":"Feuil3!U105","v":""}]
[null,{"$f":"Feuil3!A106","v":18},{"$f":"Feuil3!J106","v":""},{"$f":"Feuil3!K106","v":""},{"$f":"Feuil3!L106","v":""},{"$f":"Feuil3!M106","v":""},{"$f":"Feuil3!N106","v":""},{"$f":"Feuil3!O106","v":""},{"$f":"Feuil3!P106","v":3},{"$f":"Feuil3!Q106","v":""},{"$f":"Feuil3!R106","v":""},{"$f":"Feuil3!S106","v":1},{"$f":"Feuil3!T106","v":""},{"$f":"Feuil3!U106","v":""}]
[null,{"$f":"Feuil3!A107","v":18},{"$f":"Feuil3!J107","v":""},{"$f":"Feuil3!K107","v":""},{"$f":"Feuil3!L107","v":""},{"$f":"Feuil3!M107","v":""},{"$f":"Feuil3!N107","v":""},{"$f":"Feuil3!O107","v":""},{"$f":"Feuil3!P107","v":""},{"$f":"Feuil3!Q107","v":""},{"$f":"Feuil3!R107","v":1},{"$f":"Feuil3!S107","v":""},{"$f":"Feuil3!T107","v":""},{"$f":"Feuil3!U107","v":3}]
[null,{"$f":"Feuil3!A108","v":18},{"$f":"Feuil3!J108","v":""},{"$f":"Feuil3!K108","v":""},{"$f":"Feuil3!L108","v":""},{"$f":"Feuil3!M108","v":""},{"$f":"Feuil3!N108","v":""},{"$f":"Feuil3!O108","v":1},{"$f":"Feuil3!P108","v":""},{"$f":"Feuil3!Q108","v":3},{"$f":"Feuil3!R108","v":""},{"$f":"Feuil3!S108","v":""},{"$f":"Feuil3!T108","v":""},{"$f":"Feuil3!U108","v":""}]
[null,{"$f":"Feuil3!A109","v":18},{"$f":"Feuil3!J109","v":""},{"$f":"Feuil3!K109","v":3},{"$f":"Feuil3!L109","v":1},{"$f":"Feuil3!M109","v":""},{"$f":"Feuil3!N109","v":""},{"$f":"Feuil3!O109","v":""},{"$f":"Feuil3!P109","v":""},{"$f":"Feuil3!Q109","v":""},{"$f":"Feuil3!R109","v":""},{"$f":"Feuil3!S109","v":""},{"$f":"Feuil3!T109","v":""},{"$f":"Feuil3!U109","v":""}]
[null,{"$f":"Feuil3!A110","v":18},{"$f":"Feuil3!J110","v":3},{"$f":"Feuil3!K110","v":""},{"$f":"Feuil3!L110","v":""},{"$f":"Feuil3!M110","v":""},{"$f":"Feuil3!N110","v":""},{"$f":"Feuil3!O110","v":""},{"$f":"Feuil3!P110","v":""},{"$f":"Feuil3!Q110","v":""},{"$f":"Feuil3!R110","v":""},{"$f":"Feuil3!S110","v":""},{"$f":"Feuil3!T110","v":1},{"$f":"Feuil3!U110","v":""}]
[null,{"$f":"Feuil3!A111","v":18},{"$f":"Feuil3!J111","v":""},{"$f":"Feuil3!K111","v":""},{"$f":"Feuil3!L111","v":""},{"$f":"Feuil3!M111","v":3},{"$f":"Feuil3!N111","v":1},{"$f":"Feuil3!O111","v":""},{"$f":"Feuil3!P111","v":""},{"$f":"Feuil3!Q111","v":""},{"$f":"Feuil3!R111","v":""},{"$f":"Feuil3!S111","v":""},{"$f":"Feuil3!T111","v":""},{"$f":"Feuil3!U111","v":""}]
[null,{"$f":"Feuil3!A112","v":19},{"$f":"Feuil3!J112","v":""},{"$f":"Feuil3!K112","v":""},{"$f":"Feuil3!L112","v":""},{"$f":"Feuil3!M112","v":""},{"$f":"Feuil3!N112","v":""},{"$f":"Feuil3!O112","v":""},{"$f":"Feuil3!P112","v":""},{"$f":"Feuil3!Q112","v":""},{"$f":"Feuil3!R112","v":""},{"$f":"Feuil3!S112","v":""},{"$f":"Feuil3!T112","v":""},{"$f":"Feuil3!U112","v":""}]
[null,{"$f":"Feuil3!A113","v":19},{"$f":"Feuil3!J113","v":""},{"$f":"Feuil3!K113","v":""},{"$f":"Feuil3!L113","v":""},{"$f":"Feuil3!M113","v":""},{"$f":"Feuil3!N113","v":""},{"$f":"Feuil3!O113","v":""},{"$f":"Feuil3!P113","v":""},{"$f":"Feuil3!Q113","v":""},{"$f":"Feuil3!R113","v":""},{"$f":"Feuil3!S113","v":""},{"$f":"Feuil3!T113","v":""},{"$f":"Feuil3!U113","v":""}]
[null,{"$f":"Feuil3!A114","v":19},{"$f":"Feuil3!J114","v":""},{"$f":"Feuil3!K114","v":""},{"$f":"Feuil3!L114","v":""},{"$f":"Feuil3!M114","v":""},{"$f":"Feuil3!N114","v":""},{"$f":"Feuil3!O114","v":""},{"$f":"Feuil3!P114","v":""},{"$f":"Feuil3!Q114","v":""},{"$f":"Feuil3!R114","v":""},{"$f":"Feuil3!S114","v":""},{"$f":"Feuil3!T114","v":""},{"$f":"Feuil3!U114","v":""}]
[null,{"$f":"Feuil3!A115","v":19},{"$f":"Feuil3!J115","v":""},{"$f":"Feuil3!K115","v":""},{"$f":"Feuil3!L115","v":""},{"$f":"Feuil3!M115","v":""},{"$f":"Feuil3!N115","v":""},{"$f":"Feuil3!O115","v":""},{"$f":"Feuil3!P115","v":""},{"$f":"Feuil3!Q115","v":""},{"$f":"Feuil3!R115","v":""},{"$f":"Feuil3!S115","v":""},{"$f":"Feuil3!T115","v":""},{"$f":"Feuil3!U115","v":""}]
[null,{"$f":"Feuil3!A116","v":19},{"$f":"Feuil3!J116","v":""},{"$f":"Feuil3!K116","v":""},{"$f":"Feuil3!L116","v":""},{"$f":"Feuil3!M116","v":""},{"$f":"Feuil3!N116","v":""},{"$f":"Feuil3!O116","v":""},{"$f":"Feuil3!P116","v":""},{"$f":"Feuil3!Q116","v":""},{"$f":"Feuil3!R116","v":""},{"$f":"Feuil3!S116","v":""},{"$f":"Feuil3!T116","v":""},{"$f":"Feuil3!U116","v":""}]
[null,{"$f":"Feuil3!A117","v":19},{"$f":"Feuil3!J117","v":""},{"$f":"Feuil3!K117","v":""},{"$f":"Feuil3!L117","v":""},{"$f":"Feuil3!M117","v":""},{"$f":"Feuil3!N117","v":""},{"$f":"Feuil3!O117","v":""},{"$f":"Feuil3!P117","v":""},{"$f":"Feuil3!Q117","v":""},{"$f":"Feuil3!R117","v":""},{"$f":"Feuil3!S117","v":""},{"$f":"Feuil3!T117","v":""},{"$f":"Feuil3!U117","v":""}]
[null,{"$f":"Feuil3!A118","v":20},{"$f":"Feuil3!J118","v":""},{"$f":"Feuil3!K118","v":""},{"$f":"Feuil3!L118","v":""},{"$f":"Feuil3!M118","v":""},{"$f":"Feuil3!N118","v":""},{"$f":"Feuil3!O118","v":""},{"$f":"Feuil3!P118","v":""},{"$f":"Feuil3!Q118","v":""},{"$f":"Feuil3!R118","v":""},{"$f":"Feuil3!S118","v":""},{"$f":"Feuil3!T118","v":""},{"$f":"Feuil3!U118","v":""}]
[null,{"$f":"Feuil3!A119","v":20},{"$f":"Feuil3!J119","v":""},{"$f":"Feuil3!K119","v":""},{"$f":"Feuil3!L119","v":""},{"$f":"Feuil3!M119","v":""},{"$f":"Feuil3!N119","v":""},{"$f":"Feuil3!O119","v":""},{"$f":"Feuil3!P119","v":""},{"$f":"Feuil3!Q119","v":""},{"$f":"Feuil3!R119","v":""},{"$f":"Feuil3!S119","v":""},{"$f":"Feuil3!T119","v":""},{"$f":"Feuil3!U119","v":""}]
[null,{"$f":"Feuil3!A120","v":20},{"$f":"Feuil3!J120","v":""},{"$f":"Feuil3!K120","v":""},{"$f":"Feuil3!L120","v":""},{"$f":"Feuil3!M120","v":""},{"$f":"Feuil3!N120","v":""},{"$f":"Feuil3!O120","v":""},{"$f":"Feuil3!P120","v":""},{"$f":"Feuil3!Q120","v":""},{"$f":"Feuil3!R120","v":""},{"$f":"Feuil3!S120","v":""},{"$f":"Feuil3!T120","v":""},{"$f":"Feuil3!U120","v":""}]
[null,{"$f":"Feuil3!A121","v":20},{"$f":"Feuil3!J121","v":""},{"$f":"Feuil3!K121","v":""},{"$f":"Feuil3!L121","v":""},{"$f":"Feuil3!M121","v":""},{"$f":"Feuil3!N121","v":""},{"$f":"Feuil3!O121","v":""},{"$f":"Feuil3!P121","v":""},{"$f":"Feuil3!Q121","v":""},{"$f":"Feuil3!R121","v":""},{"$f":"Feuil3!S121","v":""},{"$f":"Feuil3!T121","v":""},{"$f":"Feuil3!U121","v":""}]
[null,{"$f":"Feuil3!A122","v":20},{"$f":"Feuil3!J122","v":""},{"$f":"Feuil3!K122","v":""},{"$f":"Feuil3!L122","v":""},{"$f":"Feuil3!M122","v":""},{"$f":"Feuil3!N122","v":""},{"$f":"Feuil3!O122","v":""},{"$f":"Feuil3!P122","v":""},{"$f":"Feuil3!Q122","v":""},{"$f":"Feuil3!R122","v":""},{"$f":"Feuil3!S122","v":""},{"$f":"Feuil3!T122","v":""},{"$f":"Feuil3!U122","v":""}]
[null,{"$f":"Feuil3!A123","v":20},{"$f":"Feuil3!J123","v":""},{"$f":"Feuil3!K123","v":""},{"$f":"Feuil3!L123","v":""},{"$f":"Feuil3!M123","v":""},{"$f":"Feuil3!N123","v":""},{"$f":"Feuil3!O123","v":""},{"$f":"Feuil3!P123","v":""},{"$f":"Feuil3!Q123","v":""},{"$f":"Feuil3!R123","v":""},{"$f":"Feuil3!S123","v":""},{"$f":"Feuil3!T123","v":""},{"$f":"Feuil3!U123","v":""}]
[null,{"$f":"Feuil3!A124","v":21},{"$f":"Feuil3!J124","v":""},{"$f":"Feuil3!K124","v":""},{"$f":"Feuil3!L124","v":""},{"$f":"Feuil3!M124","v":""},{"$f":"Feuil3!N124","v":""},{"$f":"Feuil3!O124","v":""},{"$f":"Feuil3!P124","v":""},{"$f":"Feuil3!Q124","v":""},{"$f":"Feuil3!R124","v":""},{"$f":"Feuil3!S124","v":""},{"$f":"Feuil3!T124","v":""},{"$f":"Feuil3!U124","v":""}]
[null,{"$f":"Feuil3!A125","v":21},{"$f":"Feuil3!J125","v":""},{"$f":"Feuil3!K125","v":""},{"$f":"Feuil3!L125","v":""},{"$f":"Feuil3!M125","v":""},{"$f":"Feuil3!N125","v":""},{"$f":"Feuil3!O125","v":""},{"$f":"Feuil3!P125","v":""},{"$f":"Feuil3!Q125","v":""},{"$f":"Feuil3!R125","v":""},{"$f":"Feuil3!S125","v":""},{"$f":"Feuil3!T125","v":""},{"$f":"Feuil3!U125","v":""}]
[null,{"$f":"Feuil3!A126","v":21},{"$f":"Feuil3!J126","v":""},{"$f":"Feuil3!K126","v":""},{"$f":"Feuil3!L126","v":""},{"$f":"Feuil3!M126","v":""},{"$f":"Feuil3!N126","v":""},{"$f":"Feuil3!O126","v":""},{"$f":"Feuil3!P126","v":""},{"$f":"Feuil3!Q126","v":""},{"$f":"Feuil3!R126","v":""},{"$f":"Feuil3!S126","v":""},{"$f":"Feuil3!T126","v":""},{"$f":"Feuil3!U126","v":""}]
[null,{"$f":"Feuil3!A127","v":21},{"$f":"Feuil3!J127","v":""},{"$f":"Feuil3!K127","v":""},{"$f":"Feuil3!L127","v":""},{"$f":"Feuil3!M127","v":""},{"$f":"Feuil3!N127","v":""},{"$f":"Feuil3!O127","v":""},{"$f":"Feuil3!P127","v":""},{"$f":"Feuil3!Q127","v":""},{"$f":"Feuil3!R127","v":""},{"$f":"Feuil3!S127","v":""},{"$f":"Feuil3!T127","v":""},{"$f":"Feuil3!U127","v":""}]
[null,{"$f":"Feuil3!A128","v":21},{"$f":"Feuil3!J128","v":""},{"$f":"Feuil3!K128","v":""},{"$f":"Feuil3!L128","v":""},{"$f":"Feuil3!M128","v":""},{"$f":"Feuil3!N128","v":""},{"$f":"Feuil3!O128","v":""},{"$f":"Feuil3!P128","v":""},{"$f":"Feuil3!Q128","v":""},{"$f":"Feuil3!R128","v":""},{"$f":"Feuil3!S128","v":""},{"$f":"Feuil3!T128","v":""},{"$f":"Feuil3!U128","v":""}]
[null,{"$f":"Feuil3!A129","v":21},{"$f":"Feuil3!J129","v":""},{"$f":"Feuil3!K129","v":""},{"$f":"Feuil3!L129","v":""},{"$f":"Feuil3!M129","v":""},{"$f":"Feuil3!N129","v":""},{"$f":"Feuil3!O129","v":""},{"$f":"Feuil3!P129","v":""},{"$f":"Feuil3!Q129","v":""},{"$f":"Feuil3!R129","v":""},{"$f":"Feuil3!S129","v":""},{"$f":"Feuil3!T129","v":""},{"$f":"Feuil3!U129","v":""}]
[null,{"$f":"Feuil3!A130","v":22},{"$f":"Feuil3!J130","v":""},{"$f":"Feuil3!K130","v":""},{"$f":"Feuil3!L130","v":""},{"$f":"Feuil3!M130","v":""},{"$f":"Feuil3!N130","v":""},{"$f":"Feuil3!O130","v":""},{"$f":"Feuil3!P130","v":""},{"$f":"Feuil3!Q130","v":""},{"$f":"Feuil3!R130","v":""},{"$f":"Feuil3!S130","v":""},{"$f":"Feuil3!T130","v":""},{"$f":"Feuil3!U130","v":""}]
[null,{"$f":"Feuil3!A131","v":22},{"$f":"Feuil3!J131","v":""},{"$f":"Feuil3!K131","v":""},{"$f":"Feuil3!L131","v":""},{"$f":"Feuil3!M131","v":""},{"$f":"Feuil3!N131","v":""},{"$f":"Feuil3!O131","v":""},{"$f":"Feuil3!P131","v":""},{"$f":"Feuil3!Q131","v":""},{"$f":"Feuil3!R131","v":""},{"$f":"Feuil3!S131","v":""},{"$f":"Feuil3!T131","v":""},{"$f":"Feuil3!U131","v":""}]
[null,{"$f":"Feuil3!A132","v":22},{"$f":"Feuil3!J132","v":""},{"$f":"Feuil3!K132","v":""},{"$f":"Feuil3!L132","v":""},{"$f":"Feuil3!M132","v":""},{"$f":"Feuil3!N132","v":""},{"$f":"Feuil3!O132","v":""},{"$f":"Feuil3!P132","v":""},{"$f":"Feuil3!Q132","v":""},{"$f":"Feuil3!R132","v":""},{"$f":"Feuil3!S132","v":""},{"$f":"Feuil3!T132","v":""},{"$f":"Feuil3!U132","v":""}]
[null,{"$f":"Feuil3!A133","v":22},{"$f":"Feuil3!J133","v":""},{"$f":"Feuil3!K133","v":""},{"$f":"Feuil3!L133","v":""},{"$f":"Feuil3!M133","v":""},{"$f":"Feuil3!N133","v":""},{"$f":"Feuil3!O133","v":""},{"$f":"Feuil3!P133","v":""},{"$f":"Feuil3!Q133","v":""},{"$f":"Feuil3!R133","v":""},{"$f":"Feuil3!S133","v":""},{"$f":"Feuil3!T133","v":""},{"$f":"Feuil3!U133","v":""}]
[null,{"$f":"Feuil3!A134","v":22},{"$f":"Feuil3!J134","v":""},{"$f":"Feuil3!K134","v":""},{"$f":"Feuil3!L134","v":""},{"$f":"Feuil3!M134","v":""},{"$f":"Feuil3!N134","v":""},{"$f":"Feuil3!O134","v":""},{"$f":"Feuil3!P134","v":""},{"$f":"Feuil3!Q134","v":""},{"$f":"Feuil3!R134","v":""},{"$f":"Feuil3!S134","v":""},{"$f":"Feuil3!T134","v":""},{"$f":"Feuil3!U134","v":""}]
[null,{"$f":"Feuil3!A135","v":22},{"$f":"Feuil3!J135","v":""},{"$f":"Feuil3!K135","v":""},{"$f":"Feuil3!L135","v":""},{"$f":"Feuil3!M135","v":""},{"$f":"Feuil3!N135","v":""},{"$f":"Feuil3!O135","v":""},{"$f":"Feuil3!P135","v":""},{"$f":"Feuil3!Q135","v":""},{"$f":"Feuil3!R135","v":""},{"$f":"Feuil3!S135","v":""},{"$f":"Feuil3!T135","v":""},{"$f":"Feuil3!U135","v":""}]

{"sheet":"Feuil4","index":10,"n_rows":26,"n_cols":12,"rows_kept":26,"cut":false,"hidden":false,"merged":[]}
[]
[]
[]
[{"$f":"Feuil5!A3","v":"journee"},"Somme de pts trignac","Somme de pts thouare","Somme de pts château","Somme de pts asptt","Somme de pts st yo","Somme de pts chab","Somme de pts haye","Somme de pts ligne","Somme de pts RACC","Somme de pts clisson","Somme de pts la mont"]
[{"$f":"Feuil5!A4","v":1},{"$f":"Feuil5!B$47","v":3},{"$f":"Feuil5!C$47","v":1},{"$f":"Feuil5!D$47","v":2},{"$f":"Feuil5!E$47","v":3},{"$f":"Feuil5!F$47","v":1},{"$f":"Feuil5!G$47","v":2},{"$f":"Feuil5!H$47","v":1},{"$f":"Feuil5!I$47","v":1},{"$f":"Feuil5!J$47","v":3},{"$f":"Feuil5!K$47","v":3},{"$f":"Feuil5!L$47","v":1}]
[{"$f":"Feuil5!A5","v":2},{"$f":"B5+Feuil5!B48","v":4},{"$f":"C5+Feuil5!C48","v":4},{"$f":"D5+Feuil5!D48","v":3},{"$f":"E5+Feuil5!E48","v":5},{"$f":"F5+Feuil5!F48","v":4},{"$f":"G5+Feuil5!G48","v":4},{"$f":"H5+Feuil5!H48","v":2},{"$f":"I5+Feuil5!I48","v":4},{"$f":"J5+Feuil5!J48","v":6},{"$f":"K5+Feuil5!K48","v":6},{"$f":"L5+Feuil5!L48","v":2}]
[{"$f":"Feuil5!A6","v":3},{"$f":"B6+Feuil5!B49","v":5},{"$f":"C6+Feuil5!C49","v":7},{"$f":"D6+Feuil5!D49","v":6},{"$f":"E6+Feuil5!E49","v":7},{"$f":"F6+Feuil5!F49","v":6},{"$f":"G6+Feuil5!G49","v":5},{"$f":"H6+Feuil5!H49","v":3},{"$f":"I6+Feuil5!I49","v":7},{"$f":"J6+Feuil5!J49","v":9},{"$f":"K6+Feuil5!K49","v":7},{"$f":"L6+Feuil5!L49","v":5}]
[{"$f":"Feuil5!A7","v":4},{"$f":"B7+Feuil5!B50","v":6},{"$f":"C7+Feuil5!C50","v":8},{"$f":"D7+Feuil5!D50","v":7},{"$f":"E7+Feuil5!E50","v":10},{"$f":"F7+Feuil5!F50","v":9},{"$f":"G7+Feuil5!G50","v":6},{"$f":"H7+Feuil5!H50","v":4},{"$f":"I7+Feuil5!I50","v":10},{"$f":"J7+Feuil5!J50","v":12},{"$f":"K7+Feuil5!K50","v":8},{"$f":"L7+Feuil5!L50","v":8}]
[{"$f":"Feuil5!A8","v":5},{"$f":"B8+Feuil5!B51","v":9},{"$f":"C8+Feuil5!C51","v":9},{"$f":"D8+Feuil5!D51","v":8},{"$f":"E8+Feuil5!E51","v":13},{"$f":"F8+Feuil5!F51","v":10},{"$f":"G8+Feuil5!G51","v":7},{"$f":"H8+Feuil5!H51","v":5},{"$f":"I8+Feuil5!I51","v":13},{"$f":"J8+Feuil5!J51","v":15},{"$f":"K8+Feuil5!K51","v":11},{"$f":"L8+Feuil5!L51","v":11}]
[{"$f":"Feuil5!A9","v":6},{"$f":"B9+Feuil5!B52","v":12},{"$f":"C9+Feuil5!C52","v":12},{"$f":"D9+Feuil5!D52","v":11},{"$f":"E9+Feuil5!E52","v":14},{"$f":"F9+Feuil5!F52","v":11},{"$f":"G9+Feuil5!G52","v":8},{"$f":"H9+Feuil5!H52","v":6},{"$f":"I9+Feuil5!I52","v":16},{"$f":"J9+Feuil5!J52","v":18},{"$f":"K9+Feuil5!K52","v":12},{"$f":"L9+Feuil5!L52","v":14}]
[{"$f":"Feuil5!A10","v":7},{"$f":"B10+Feuil5!B53","v":13},{"$f":"C10+Feuil5!C53","v":13},{"$f":"D10+Feuil5!D53","v":14},{"$f":"E10+Feuil5!E53","v":15},{"$f":"F10+Feuil5!F53","v":14},{"$f":"G10+Feuil5!G53","v":11},{"$f":"H10+Feuil5!H53","v":7},{"$f":"I10+Feuil5!I53","v":17},{"$f":"J10+Feuil5!J53","v":21},{"$f":"K10+Feuil5!K53","v":13},{"$f":"L10+Feuil5!L53","v":17}]
[{"$f":"Feuil5!A11","v":8},{"$f":"B11+Feuil5!B54","v":15},{"$f":"C11+Feuil5!C54","v":14},{"$f":"D11+Feuil5!D54","v":15},{"$f":"E11+Feuil5!E54","v":18},{"$f":"F11+Feuil5!F54","v":17},{"$f":"G11+Feuil5!G54","v":14},{"$f":"H11+Feuil5!H54","v":8},{"$f":"I11+Feuil5!I54","v":20},{"$f":"J11+Feuil5!J54","v":24},{"$f":"K11+Feuil5!K54","v":15},{"$f":"L11+Feuil5!L54","v":18}]
[{"$f":"Feuil5!A12","v":9},{"$f":"B12+Feuil5!B55","v":16},{"$f":"C12+Feuil5!C55","v":15},{"$f":"D12+Feuil5!D55","v":16},{"$f":"E12+Feuil5!E55","v":19},{"$f":"F12+Feuil5!F55","v":20},{"$f":"G12+Feuil5!G55","v":15},{"$f":"H12+Feuil5!H55","v":9},{"$f":"I12+Feuil5!I55","v":23},{"$f":"J12+Feuil5!J55","v":27},{"$f":"K12+Feuil5!K55","v":18},{"$f":"L12+Feuil5!L55","v":21}]
[{"$f":"Feuil5!A13","v":10},{"$f":"B13+Feuil5!B56","v":18},{"$f":"C13+Feuil5!C56","v":16},{"$f":"D13+Feuil5!D56","v":18},{"$f":"E13+Feuil5!E56","v":20},{"$f":"F13+Feuil5!F56","v":23},{"$f":"G13+Feuil5!G56","v":18},{"$f":"H13+Feuil5!H56","v":10},{"$f":"I13+Feuil5!I56","v":26},{"$f":"J13+Feuil5!J56","v":30},{"$f":"K13+Feuil5!K56","v":19},{"$f":"L13+Feuil5!L56","v":22}]
[{"$f":"Feuil5!A14","v":11},{"$f":"B14+Feuil5!B57","v":19},{"$f":"C14+Feuil5!C57","v":17},{"$f":"D14+Feuil5!D57","v":21},{"$f":"E14+Feuil5!E57","v":23},{"$f":"F14+Feuil5!F57","v":26},{"$f":"G14+Feuil5!G57","v":19},{"$f":"H14+Feuil5!H57","v":11},{"$f":"I14+Feuil5!I57","v":27},{"$f":"J14+Feuil5!J57","v":33},{"$f":"K14+Feuil5!K57","v":20},{"$f":"L14+Feuil5!L57","v":25}]
[{"$f":"Feuil5!A15","v":12},{"$f":"B15+Feuil5!B58","v":20},{"$f":"C15+Feuil5!C58","v":20},{"$f":"D15+Feuil5!D58","v":24},{"$f":"E15+Feuil5!E58","v":26},{"$f":"F15+Feuil5!F58","v":27},{"$f":"G15+Feuil5!G58","v":20},{"$f":"H15+Feuil5!H58","v":12},{"$f":"I15+Feuil5!I58","v":30},{"$f":"J15+Feuil5!J58","v":34},{"$f":"K15+Feuil5!K58","v":21},{"$f":"L15+Feuil5!L58","v":28}]
[{"$f":"Feuil5!A16","v":13},{"$f":"B16+Feuil5!B59","v":23},{"$f":"C16+Feuil5!C59","v":23},{"$f":"D16+Feuil5!D59","v":25},{"$f":"E16+Feuil5!E59","v":29},{"$f":"F16+Feuil5!F59","v":30},{"$f":"G16+Feuil5!G59","v":21},{"$f":"H16+Feuil5!H59","v":13},{"$f":"I16+Feuil5!I59","v":31},{"$f":"J16+Feuil5!J59","v":37},{"$f":"K16+Feuil5!K59","v":22},{"$f":"L16+Feuil5!L59","v":29}]
[{"$f":"Feuil5!A17","v":14},{"$f":"B17+Feuil5!B60","v":24},{"$f":"C17+Feuil5!C60","v":24},{"$f":"D17+Feuil5!D60","v":28},{"$f":"E17+Feuil5!E60","v":30},{"$f":"F17+Feuil5!F60","v":33},{"$f":"G17+Feuil5!G60","v":24},{"$f":"H17+Feuil5!H60","v":14},{"$f":"I17+Feuil5!I60","v":34},{"$f":"J17+Feuil5!J60","v":40},{"$f":"K17+Feuil5!K60","v":23},{"$f":"L17+Feuil5!L60","v":30}]
[{"$f":"Feuil5!A18","v":15},{"$f":"B18+Feuil5!B61","v":27},{"$f":"C18+Feuil5!C61","v":25},{"$f":"D18+Feuil5!D61","v":29},{"$f":"E18+Feuil5!E61","v":31},{"$f":"F18+Feuil5!F61","v":36},{"$f":"G18+Feuil5!G61","v":27},{"$f":"H18+Feuil5!H61","v":15},{"$f":"I18+Feuil5!I61","v":35},{"$f":"J18+Feuil5!J61","v":43},{"$f":"K18+Feuil5!K61","v":26},{"$f":"L18+Feuil5!L61","v":31}]
[{"$f":"Feuil5!A19","v":16},{"$f":"B19+Feuil5!B62","v":30},{"$f":"C19+Feuil5!C62","v":26},{"$f":"D19+Feuil5!D62","v":32},{"$f":"E19+Feuil5!E62","v":34},{"$f":"F19+Feuil5!F62","v":39},{"$f":"G19+Feuil5!G62","v":28},{"$f":"H19+Feuil5!H62","v":16},{"$f":"I19+Feuil5!I62","v":36},{"$f":"J19+Feuil5!J62","v":46},{"$f":"K19+Feuil5!K62","v":29},{"$f":"L19+Feuil5!L62","v":32}]
[{"$f":"Feuil5!A20","v":17},{"$f":"B20+Feuil5!B63","v":31},{"$f":"C20+Feuil5!C63","v":27},{"$f":"D20+Feuil5!D63","v":33},{"$f":"E20+Feuil5!E63","v":37},{"$f":"F20+Feuil5!F63","v":40},{"$f":"G20+Feuil5!G63","v":31},{"$f":"H20+Feuil5!H63","v":17},{"$f":"I20+Feuil5!I63","v":39},{"$f":"J20+Feuil5!J63","v":49},{"$f":"K20+Feuil5!K63","v":30},{"$f":"L20+Feuil5!L63","v":35}]
[{"$f":"Feuil5!A21","v":18},{"$f":"B21+Feuil5!B64","v":32},{"$f":"C21+Feuil5!C64","v":30},{"$f":"D21+Feuil5!D64","v":34},{"$f":"E21+Feuil5!E64","v":40},{"$f":"F21+Feuil5!F64","v":43},{"$f":"G21+Feuil5!G64","v":34},{"$f":"H21+Feuil5!H64","v":18},{"$f":"I21+Feuil5!I64","v":42},{"$f":"J21+Feuil5!J64","v":52},{"$f":"K21+Feuil5!K64","v":31},{"$f":"L21+Feuil5!L64","v":36}]
[{"$f":"Feuil5!A22","v":19},{"$f":"B22+Feuil5!B65","v":32},{"$f":"C22+Feuil5!C65","v":30},{"$f":"D22+Feuil5!D65","v":34},{"$f":"E22+Feuil5!E65","v":40},{"$f":"F22+Feuil5!F65","v":43},{"$f":"G22+Feuil5!G65","v":34},{"$f":"H22+Feuil5!H65","v":18},{"$f":"I22+Feuil5!I65","v":42},{"$f":"J22+Feuil5!J65","v":52},{"$f":"K22+Feuil5!K65","v":31},{"$f":"L22+Feuil5!L65","v":36}]
[{"$f":"Feuil5!A23","v":20},{"$f":"B23+Feuil5!B66","v":32},{"$f":"C23+Feuil5!C66","v":30},{"$f":"D23+Feuil5!D66","v":34},{"$f":"E23+Feuil5!E66","v":40},{"$f":"F23+Feuil5!F66","v":43},{"$f":"G23+Feuil5!G66","v":34},{"$f":"H23+Feuil5!H66","v":18},{"$f":"I23+Feuil5!I66","v":42},{"$f":"J23+Feuil5!J66","v":52},{"$f":"K23+Feuil5!K66","v":31},{"$f":"L23+Feuil5!L66","v":36}]
[{"$f":"Feuil5!A24","v":21},{"$f":"B24+Feuil5!B67","v":32},{"$f":"C24+Feuil5!C67","v":30},{"$f":"D24+Feuil5!D67","v":34},{"$f":"E24+Feuil5!E67","v":40},{"$f":"F24+Feuil5!F67","v":43},{"$f":"G24+Feuil5!G67","v":34},{"$f":"H24+Feuil5!H67","v":18},{"$f":"I24+Feuil5!I67","v":42},{"$f":"J24+Feuil5!J67","v":52},{"$f":"K24+Feuil5!K67","v":31},{"$f":"L24+Feuil5!L67","v":36}]
[{"$f":"Feuil5!A25","v":22},{"$f":"B25+Feuil5!B68","v":32},{"$f":"C25+Feuil5!C68","v":30},{"$f":"D25+Feuil5!D68","v":34},{"$f":"E25+Feuil5!E68","v":40},{"$f":"F25+Feuil5!F68","v":43},{"$f":"G25+Feuil5!G68","v":34},{"$f":"H25+Feuil5!H68","v":18},{"$f":"I25+Feuil5!I68","v":42},{"$f":"J25+Feuil5!J68","v":52},{"$f":"K25+Feuil5!K68","v":31},{"$f":"L25+Feuil5!L68","v":36}]