{"text_format":"1","workbook":"xlsx","n_sheets":4,"sheets":["Classement","Cagnotte et Participants","#16","#17"],"not_rendered":{"charts":3,"images":0,"macros":1,"external_links":0,"defined_names":0,"comments":0,"pivot_tables":0},"unopened":[],"bounds":{"document_bytes":16777216,"sheet_cells":100000,"rows_first":2000,"rows_last":500,"rows_between":2000,"halvings":0,"cell_chars":16384,"cell_head_chars":4096},"cells_cut":0,"cells_raw":0,"read":"whole","date_system":"1900"}

{"sheet":"Classement","index":0,"n_rows":13,"n_cols":3,"rows_kept":13,"cut":false,"hidden":false,"merged":[]}
[]
[null,"Le Lynx",{"$f":"'#16'!X6+'#17'!X6","v":38}]
[null,"Eliwood",{"$f":"'#16'!X5+'#17'!X5","v":34}]
[null,"Lulu&Nolan",{"$f":"'#16'!X12+'#17'!X12","v":32}]
[null,"Marco",{"$f":"'#16'!X13+'#17'!X13","v":32}]
[null,"Yoshi1993",{"$f":"'#16'!X8+'#17'!X8","v":30}]
[null,"Picsou",{"$f":"'#16'!X9+'#17'!X9","v":28}]
[null,"micka62",{"$f":"'#16'!X11+'#17'!X11","v":28}]
[null,"james62",{"$f":"'#16'!X7+'#17'!X7","v":20}]
[null,"mathieu",{"$f":"'#16'!X10+'#17'!X10","v":16}]
[null,"Arès",{"$f":"'#16'!X14+'#17'!X14","v":14}]
[null,"Gooloum",{"$f":"'#16'!X15+'#17'!X15","v":12}]
[null,"Phil",{"$f":"'#16'!X16+'#17'!X16","v":10}]

{"sheet":"Cagnotte et Participants","index":1,"n_rows":4,"n_cols":12,"rows_kept":4,"cut":false,"hidden":false,"merged":[[1,1,2,1]]}
[]
[null,"Evolution de la cagnotte","#16","#17","#18","#19","#20","#21","#22","#23","#24","#25"]
[null,null,11500000,13000000]
[null,"Participants",9,11]

{"sheet":"#16","index":2,"n_rows":16,"n_cols":34,"rows_kept":16,"cut":false,"hidden":false,"merged":[[1,2,2,3],[1,20,2,21],[1,16,2,17],[1,12,2,13],[1,8,2,9],[1,4,2,5],[1,18,2,19],[1,14,2,15],[1,10,2,11],[1,6,2,7]]}
[]
[null,null,"Match 1",null,"Match 2",null,"Match 3",null,"Match 4",null,"Match 5",null,"Match 6",null,"Match 7",null,"Match 8",null,"Match 9",null,"Match 10"]
[]
[null,"Résultats",2,3,2,0,2,1,2,0,0,2,3,3,0,1,1,0,0,0,2,1,null,"Points","M1","M2","M3","M4","M5","M6","M7","M8","M9","M10"]
[null,"Eliwood",1,4,2,1,3,1,1,2,1,2,1,1,2,3,2,0,1,1,3,2,null,{"$f":"SUM(Y5:AH5)","v":18},{"$f":"IF(AND($C$4=C5,$D$4=D5),4,IF(AND($C$4=$D$4,C5=D5),2,IF(AND(($C$4>$D$4),(C5>D5)),2,IF(AND(($D$4>$C$4),(D5>C5)),2,0))))","v":2},{"$f":"IF(AND($E$4=E5,$F$4=F5),4,IF(AND($E$4=$F$4,E5=F5),2,IF(AND(($E$4>$F$4),(E5>F5)),2,IF(AND(($F$4>$E$4),(F5>E5)),2,0))))","v":2},{"$f":"IF(AND($G$4=G5,$H$4=H5),4,IF(AND($G$4=$H$4,G5=H5),2,IF(AND(($G$4>$H$4),(G5>H5)),2,IF(AND(($H$4>$G$4),(H5>G5)),2,0))))","v":2},{"$f":"IF(AND($I$4=I5,$J$4=J5),4,IF(AND($I$4=$J$4,I5=J5),2,IF(AND(($I$4>$J$4),(I5>J5)),2,IF(AND(($J$4>$I$4),(J5>I5)),2,0))))","v":0},{"$f":"IF(AND($K$4=K5,$L$4=L5),4,IF(AND($K$4=$L$4,K5=L5),2,IF(AND(($K$4>$L$4),(K5>L5)),2,IF(AND(($L$4>$K$4),(L5>K5)),2,0))))","v":2},{"$f":"IF(AND($M$4=M5,$N$4=N5),4,IF(AND($M$4=$N$4,M5=N5),2,IF(AND(($M$4>$N$4),(M5>N5)),2,IF(AND(($N$4>$M$4),(N5>M5)),2,0))))","v":2},{"$f":"IF(AND($O$4=O5,$P$4=P5),4,IF(AND($O$4=$P$4,O5=P5),2,IF(AND(($O$4>$P$4),(O5>P5)),2,IF(AND(($P$4>$O$4),(P5>O5)),2,0))))","v":2},{"$f":"IF(AND($Q$4=Q5,$R$4=R5),4,IF(AND($Q$4=$R$4,Q5=R5),2,IF(AND(($Q$4>$R$4),(Q5>R5)),2,IF(AND(($R$4>$Q$4),(R5>Q5)),2,0))))","v":2},{"$f":"IF(AND($S$4=S5,$T$4=T5),4,IF(AND($S$4=$T$4,S5=T5),2,IF(AND(($S$4>$T$4),(S5>T5)),2,IF(AND(($T$4>$S$4),(T5>S5)),2,0))))","v":2},{"$f":"IF(AND($U$4=U5,$V$4=V5),4,IF(AND($U$4=$V$4,U5=V5),2,IF(AND(($U$4>$V$4),(U5>V5)),2,IF(AND(($V$4>$U$4),(V5>U5)),2,0))))","v":2}]
[null,"Le Lynx",1,2,1,0,2,1,1,2,0,2,1,1,1,2,2,1,0,0,2,0,null,{"$f":"SUM(Y6:AH6)","v":24},{"$f":"IF(AND($C$4=C6,$D$4=D6),4,IF(AND($C$4=$D$4,C6=D6),2,IF(AND(($C$4>$D$4),(C6>D6)),2,IF(AND(($D$4>$C$4),(D6>C6)),2,0))))","v":2},{"$f":"IF(AND($E$4=E6,$F$4=F6),4,IF(AND($E$4=$F$4,E6=F6),2,IF(AND(($E$4>$F$4),(E6>F6)),2,IF(AND(($F$4>$E$4),(F6>E6)),2,0))))","v":2},{"$f":"IF(AND($G$4=G6,$H$4=H6),4,IF(AND($G$4=$H$4,G6=H6),2,IF(AND(($G$4>$H$4),(G6>H6)),2,IF(AND(($H$4>$G$4),(H6>G6)),2,0))))","v":4},{"$f":"IF(AND($I$4=I6,$J$4=J6),4,IF(AND($I$4=$J$4,I6=J6),2,IF(AND(($I$4>$J$4),(I6>J6)),2,IF(AND(($J$4>$I$4),(J6>I6)),2,0))))","v":0},{"$f":"IF(AND($K$4=K6,$L$4=L6),4,IF(AND($K$4=$L$4,K6=L6),2,IF(AND(($K$4>$L$4),(K6>L6)),2,IF(AND(($L$4>$K$4),(L6>K6)),2,0))))","v":4},{"$f":"IF(AND($M$4=M6,$N$4=N6),4,IF(AND($M$4=$N$4,M6=N6),2,IF(AND(($M$4>$N$4),(M6>N6)),2,IF(AND(($N$4>$M$4),(N6>M6)),2,0))))","v":2},{"$f":"IF(AND($O$4=O6,$P$4=P6),4,IF(AND($O$4=$P$4,O6=P6),2,IF(AND(($O$4>$P$4),(O6>P6)),2,IF(AND(($P$4>$O$4),(P6>O6)),2,0))))","v":2},{"$f":"IF(AND($Q$4=Q6,$R$4=R6),4,IF(AND($Q$4=$R$4,Q6=R6),2,IF(AND(($Q$4>$R$4),(Q6>R6)),2,IF(AND(($R$4>$Q$4),(R6>Q6)),2,0))))","v":2},{"$f":"IF(AND($S$4=S6,$T$4=T6),4,IF(AND($S$4=$T$4,S6=T6),2,IF(AND(($S$4>$T$4),(S6>T6)),2,IF(AND(($T$4>$S$4),(T6>S6)),2,0))))","v":4},{"$f":"IF(AND($U$4=U6,$V$4=V6),4,IF(AND($U$4=$V$4,U6=V6),2,IF(AND(($U$4>$V$4),(U6>V6)),2,IF(AND(($V$4>$U$4),(V6>U6)),2,0))))","v":2}]
[null,"james62",0,4,2,1,1,1,1,0,2,2,3,1,2,3,2,0,1,2,2,0,null,12,2,2,0,2,0,0,2,2,0,2]
[null,"Yoshi1993",0,2,1,1,2,0,1,1,1,2,2,0,1,2,2,0,1,1,3,1,null,14,2,0,2,0,2,0,2,2,2,2]
[null,"Picsou",1,4,1,2,2,1,1,3,1,2,2,0,1,1,3,1,1,1,3,1,null,14,2,0,4,0,2,0,0,2,2,2]
[null,"mathieu",1,3,0,3,2,1,1,2,1,2,2,0,1,2,2,0,3,1,2,1,null,16,2,0,4,0,2,0,2,2,0,4]
[null,"micka62",0,3,1,0,1,2,2,0,2,0,2,1,0,2,2,0,0,1,3,1,null,14,2,2,0,4,0,0,2,2,0,2]
[null,"Lulu&Nolan",0,2,0,1,1,0,2,1,1,2,1,0,1,1,1,0,0,0,1,0,null,18,2,0,2,2,2,0,0,4,4,2]
[null,"Marco",0,3,2,1,2,1,1,1,2,0,2,0,1,1,2,0,1,0,2,1,null,14,2,2,4,0,0,0,0,2,0,4]
[null,"Arès"]
[null,"Gooloum"]
[null,"Phil"]

{"sheet":"#17","index":3,"n_rows":16,"n_cols":34,"rows_kept":16,"cut":false,"hidden":false,"merged":[[1,14,2,15],[1,16,2,17],[1,18,2,19],[1,20,2,21],[1,2,2,3],[1,4,2,5],[1,6,2,7],[1,8,2,9],[1,10,2,11],[1,12,2,13]]}
[]
[null,null,"Match 1",null,"Match 2",null,"Match 3",null,"Match 4",null,"Match 5",null,"Match 6",null,"Match 7",null,"Match 8",null,"Match 9",null,"Match 10"]
[]
[null,"Résultats",0,2,3,0,0,1,3,1,2,3,2,0,0,0,1,1,1,1,2,1,null,"Points","M1","M2","M3","M4","M5","M6","M7","M8","M9","M10"]
[null,"Eliwood",3,1,3,0,1,2,2,2,1,3,2,1,1,1,1,1,1,2,0,0,null,{"$f":"SUM(Y5:AH5)","v":16},{"$f":"IF(AND($C$4=C5,$D$4=D5),4,IF(AND($C$4=$D$4,C5=D5),2,IF(AND(($C$4>$D$4),(C5>D5)),2,IF(AND(($D$4>$C$4),(D5>C5)),2,0))))","v":0},{"$f":"IF(AND($E$4=E5,$F$4=F5),4,IF(AND($E$4=$F$4,E5=F5),2,IF(AND(($E$4>$F$4),(E5>F5)),2,IF(AND(($F$4>$E$4),(F5>E5)),2,0))))","v":4},{"$f":"IF(AND($G$4=G5,$H$4=H5),4,IF(AND($G$4=$H$4,G5=H5),2,IF(AND(($G$4>$H$4),(G5>H5)),2,IF(AND(($H$4>$G$4),(H5>G5)),2,0))))","v":2},{"$f":"IF(AND($I$4=I5,$J$4=J5),4,IF(AND($I$4=$J$4,I5=J5),2,IF(AND(($I$4>$J$4),(I5>J5)),2,IF(AND(($J$4>$I$4),(J5>I5)),2,0))))","v":0},{"$f":"IF(AND($K$4=K5,$L$4=L5),4,IF(AND($K$4=$L$4,K5=L5),2,IF(AND(($K$4>$L$4),(K5>L5)),2,IF(AND(($L$4>$K$4),(L5>K5)),2,0))))","v":2},{"$f":"IF(AND($M$4=M5,$N$4=N5),4,IF(AND($M$4=$N$4,M5=N5),2,IF(AND(($M$4>$N$4),(M5>N5)),2,IF(AND(($N$4>$M$4),(N5>M5)),2,0))))","v":2},{"$f":"IF(AND($O$4=O5,$P$4=P5),4,IF(AND($O$4=$P$4,O5=P5),2,IF(AND(($O$4>$P$4),(O5>P5)),2,IF(AND(($P$4>$O$4),(P5>O5)),2,0))))","v":2},{"$f":"IF(AND($Q$4=Q5,$R$4=R5),4,IF(AND($Q$4=$R$4,Q5=R5),2,IF(AND(($Q$4>$R$4),(Q5>R5)),2,IF(AND(($R$4>$Q$4),(R5>Q5)),2,0))))","v":4},{"$f":"IF(AND($S$4=S5,$T$4=T5),4,IF(AND($S$4=$T$4,S5=T5),2,IF(AND(($S$4>$T$4),(S5>T5)),2,IF(AND(($T$4>$S$4),(T5>S5)),2,0))))","v":0},{"$f":"IF(AND($U$4=U5,$V$4=V5),4,IF(AND($U$4=$V$4,U5=V5),2,IF(AND(($U$4>$V$4),(U5>V5)),2,IF(AND(($V$4>$U$4),(V5>U5)),2,0))))","v":0}]
[null,"Le Lynx",2,1,3,1,1,0,2,1,1,3,2,1,1,2,2,2,1,1,1,1,null,{"$f":"SUM(Y6:AH6)","v":14},{"$f":"IF(AND($C$4=C6,$D$4=D6),4,IF(AND($C$4=$D$4,C6=D6),2,IF(AND(($C$4>$D$4),(C6>D6)),2,IF(AND(($D$4>$C$4),(D6>C6)),2,0))))","v":0},{"$f":"IF(AND($E$4=E6,$F$4=F6),4,IF(AND($E$4=$F$4,E6=F6),2,IF(AND(($E$4>$F$4),(E6>F6)),2,IF(AND(($F$4>$E$4),(F6>E6)),2,0))))","v":2},{"$f":"IF(AND($G$4=G6,$H$4=H6),4,IF(AND($G$4=$H$4,G6=H6),2,IF(AND(($G$4>$H$4),(G6>H6)),2,IF(AND(($H$4>$G$4),(H6>G6)),2,0))))","v":0},{"$f":"IF(AND($I$4=I6,$J$4=J6),4,IF(AND($I$4=$J$4,I6=J6),2,IF(AND(($I$4>$J$4),(I6>J6)),2,IF(AND(($J$4>$I$4),(J6>I6)),2,0))))","v":2},{"$f":"IF(AND($K$4=K6,$L$4=L6),4,IF(AND($K$4=$L$4,K6=L6),2,IF(AND(($K$4>$L$4),(K6>L6)),2,IF(AND(($L$4>$K$4),(L6>K6)),2,0))))","v":2},{"$f":"IF(AND($M$4=M6,$N$4=N6),4,IF(AND($M$4=$N$4,M6=N6),2,IF(AND(($M$4>$N$4),(M6>N6)),2,IF(AND(($N$4>$M$4),(N6>M6)),2,0))))","v":2},{"$f":"IF(AND($O$4=O6,$P$4=P6),4,IF(AND($O$4=$P$4,O6=P6),2,IF(AND(($O$4>$P$4),(O6>P6)),2,IF(AND(($P$4>$O$4),(P6>O6)),2,0))))","v":0},{"$f":"IF(AND($Q$4=Q6,$R$4=R6),4,IF(AND($Q$4=$R$4,Q6=R6),2,IF(AND(($Q$4>$R$4),(Q6>R6)),2,IF(AND(($R$4>$Q$4),(R6>Q6)),2,0))))","v":2},{"$f":"IF(AND($S$4=S6,$T$4=T6),4,IF(AND($S$4=$T$4,S6=T6),2,IF(AND(($S$4>$T$4),(S6>T6)),2,IF(AND(($T$4>$S$4),(T6>S6)),2,0))))","v":4},{"$f":"IF(AND($U$4=U6,$V$4=V6),4,IF(AND($U$4=$V$4,U6=V6),2,IF(AND(($U$4>$V$4),(U6>V6)),2,IF(AND(($V$4>$U$4),(V6>U6)),2,0))))","v":0}]
[null,"james62",2,0,3,1,1,1,1,2,1,0,2,2,1,1,2,1,1,1,0,1,null,8,0,2,0,0,0,0,2,0,4,0]
[null,"Yoshi1993",2,1,2,0,1,2,1,1,1,2,2,1,2,2,2,1,1,1,1,0,null,16,0,2,2,0,2,2,2,0,4,2]
[null,"Picsou",3,2,4,1,1,2,2,2,1,3,2,1,2,2,2,1,1,1,1,1,null,14,0,2,2,0,2,2,2,0,4,0]
[null,"mathieu"]
[null,"micka62",2,1,2,0,1,2,2,0,0,2,2,0,1,0,2,1,0,2,2,0,null,14,{"$f":"IF(AND($C$4=C11,$D$4=D11),4,IF(AND($C$4=$D$4,C11=D11),2,IF(AND(($C$4>$D$4),(C11>D11)),2,IF(AND(($D$4>$C$4),(D11>C11)),2,0))))","v":0},{"$f":"IF(AND($E$4=E11,$F$4=F11),4,IF(AND($E$4=$F$4,E11=F11),2,IF(AND(($E$4>$F$4),(E11>F11)),2,IF(AND(($F$4>$E$4),(F11>E11)),2,0))))","v":2},{"$f":"IF(AND($G$4=G11,$H$4=H11),4,IF(AND($G$4=$H$4,G11=H11),2,IF(AND(($G$4>$H$4),(G11>H11)),2,IF(AND(($H$4>$G$4),(H11>G11)),2,0))))","v":2},{"$f":"IF(AND($I$4=I11,$J$4=J11),4,IF(AND($I$4=$J$4,I11=J11),2,IF(AND(($I$4>$J$4),(I11>J11)),2,IF(AND(($J$4>$I$4),(J11>I11)),2,0))))","v":2},{"$f":"IF(AND($K$4=K11,$L$4=L11),4,IF(AND($K$4=$L$4,K11=L11),2,IF(AND(($K$4>$L$4),(K11>L11)),2,IF(AND(($L$4>$K$4),(L11>K11)),2,0))))","v":2},{"$f":"IF(AND($M$4=M11,$N$4=N11),4,IF(AND($M$4=$N$4,M11=N11),2,IF(AND(($M$4>$N$4),(M11>N11)),2,IF(AND(($N$4>$M$4),(N11>M11)),2,0))))","v":4},{"$f":"IF(AND($O$4=O11,$P$4=P11),4,IF(AND($O$4=$P$4,O11=P11),2,IF(AND(($O$4>$P$4),(O11>P11)),2,IF(AND(($P$4>$O$4),(P11>O11)),2,0))))","v":0},{"$f":"IF(AND($Q$4=Q11,$R$4=R11),4,IF(AND($Q$4=$R$4,Q11=R11),2,IF(AND(($Q$4>$R$4),(Q11>R11)),2,IF(AND(($R$4>$Q$4),(R11>Q11)),2,0))))","v":0},{"$f":"IF(AND($S$4=S11,$T$4=T11),4,IF(AND($S$4=$T$4,S11=T11),2,IF(AND(($S$4>$T$4),(S11>T11)),2,IF(AND(($T$4>$S$4),(T11>S11)),2,0))))","v":0},{"$f":"IF(AND($U$4=U11,$V$4=V11),4,IF(AND($U$4=$V$4,U11=V11),2,IF(AND(($U$4>$V$4),(U11>V11)),2,IF(AND(($V$4>$U$4),(V11>U11)),2,0))))","v":2}]
[null,"Lulu&Nolan",1,0,2,0,0,1,1,0,0,1,2,1,1,1,1,2,1,2,0,0,null,14,0,2,4,2,2,2,2,0,0,0]
[null,"Marco",2,1,2,0,0,1,2,1,0,2,2,0,1,1,0,0,0,2,1,1,"  ",18,0,2,4,2,2,4,2,2,0,0]
[null,"Arès",3,1,4,0,0,2,3,1,1,2,3,1,0,1,2,1,0,2,1,0,null,14,0,2,2,4,2,2,0,0,0,2]
[null,"Gooloum",2,1,2,1,1,1,2,2,1,2,1,1,1,2,2,2,1,1,3,1,null,12,0,2,0,0,2,0,0,2,4,2]
[null,"Phil",3,1,1,2,1,3,1,1,1,4,2,2,1,3,1,1,0,4,1,0,null,10,0,0,2,0,2,0,0,4,0,2]