{"text_format":"1","workbook":"xlsx","n_sheets":12,"sheets":["QUOTAS DES LIV","qui livre qui","Matrice encodage","samedi","dimanche","lundi","mardi","mercredi","jeudi","vendredi","TDP","Importation"],"not_rendered":{"charts":0,"images":0,"macros":1,"external_links":0,"defined_names":0,"comments":0,"pivot_tables":0},"unopened":[],"bounds":{"document_bytes":16777216,"sheet_cells":100000,"rows_first":2000,"rows_last":500,"rows_between":2000,"halvings":0,"cell_chars":16384,"cell_head_chars":4096},"cells_cut":0,"cells_raw":0,"read":"whole","date_system":"1900"}

{"sheet":"QUOTAS DES LIV","index":0,"n_rows":11,"n_cols":50,"rows_kept":11,"cut":false,"hidden":false,"merged":[]}
["PSEUDO","Khonsou","tharsilla","chachadu44","chepa","wakash","vipere92","boody","trezepac","tweick","dolfijn","kiwi445","terminator3","aym35","ygrek","havok1","maromi","orev","calicelame","kirle","shuo","micktram","darkspread","hbing","ithaque","frite","blackeagle","ashday","majokajupo","houdihadu59","filou690","yodaDM","lokiii","oglala","lesinc","gropere","doudou59","banania","bastien14","darksnake","eliote","nonobcd82","pierrhout","wizz59780","misaxsan","anthony2306","whiteforest","elladan","TOTAL","verif"]
["tdp",{"$f":"VLOOKUP(B1,TDP!$A:$B,2,FALSE)","v":5.1000000000000004E-3},{"$f":"VLOOKUP(C1,TDP!$A:$B,2,FALSE)","v":5.1000000000000004E-3},{"$f":"VLOOKUP(D1,TDP!A:B,2,FALSE)","v":8.6E-3},{"$f":"VLOOKUP(E1,TDP!$A:$B,2,FALSE)","v":6.0000000000000001E-3},{"$f":"VLOOKUP(F1,TDP!$A:$B,2,FALSE)","v":7.7000000000000002E-3},{"$f":"VLOOKUP(G1,TDP!$A:$B,2,FALSE)","v":7.0000000000000001E-3},{"$f":"VLOOKUP(H1,TDP!$A:$B,2,FALSE)","v":4.0000000000000001E-3},{"$f":"VLOOKUP(I1,TDP!$A:$B,2,FALSE)","v":3.8E-3},{"$f":"VLOOKUP(J1,TDP!$A:$B,2,FALSE)","v":5.1000000000000004E-3},{"$f":"VLOOKUP(K1,TDP!$A:$B,2,FALSE)","v":7.0000000000000001E-3},{"$f":"VLOOKUP(L1,TDP!$A:$B,2,FALSE)","v":1.06E-2},{"$f":"VLOOKUP(M1,TDP!$A:$B,2,FALSE)","v":1.06E-2},{"$f":"VLOOKUP(N1,TDP!$A:$B,2,FALSE)","v":1.46E-2},{"$f":"VLOOKUP(O1,TDP!$A:$B,2,FALSE)","v":7.7000000000000002E-3},{"$f":"VLOOKUP(P1,TDP!$A:$B,2,FALSE)","v":8.6E-3},{"$f":"VLOOKUP(Q1,TDP!$A:$B,2,FALSE)","v":1.18E-2},{"$f":"VLOOKUP(R1,TDP!$A:$B,2,FALSE)","v":1.18E-2},{"$f":"VLOOKUP(S1,TDP!$A:$B,2,FALSE)","v":2.0999999999999999E-3},{"$f":"VLOOKUP(T1,TDP!$A:$B,2,FALSE)","v":1.18E-2},{"$f":"VLOOKUP(U1,TDP!$A:$B,2,FALSE)","v":1.46E-2},{"$f":"VLOOKUP(V1,TDP!$A:$B,2,FALSE)","v":2.0999999999999999E-3},{"$f":"VLOOKUP(W1,TDP!$A:$B,2,FALSE)","v":1.06E-2},{"$f":"VLOOKUP(X1,TDP!$A:$B,2,FALSE)","v":0.02},{"$f":"VLOOKUP(Y1,TDP!$A:$B,2,FALSE)","v":1.6199999999999999E-2},{"$f":"VLOOKUP(Z1,TDP!$A:$B,2,FALSE)","v":3.0499999999999999E-2},{"$f":"VLOOKUP(AA1,TDP!$A:$B,2,FALSE)","v":1.46E-2},{"$f":"VLOOKUP(AB1,TDP!$A:$B,2,FALSE)","v":2.47E-2},{"$f":"VLOOKUP(AC1,TDP!$A:$B,2,FALSE)","v":1.06E-2},{"$f":"VLOOKUP(AD1,TDP!$A:$B,2,FALSE)","v":5.0000000000000001E-3},{"$f":"VLOOKUP(AE1,TDP!$A:$B,2,FALSE)","v":0.02},{"$f":"VLOOKUP(AF1,TDP!$A:$B,2,FALSE)","v":9.5999999999999992E-3},{"$f":"VLOOKUP(AG1,TDP!$A:$B,2,FALSE)","v":2.7400000000000001E-2},{"$f":"VLOOKUP(AH1,TDP!$A:$B,2,FALSE)","v":1.3100000000000001E-2},{"$f":"VLOOKUP(AI1,TDP!$A:$B,2,FALSE)","v":8.6E-3},{"$f":"VLOOKUP(AJ1,TDP!$A:$B,2,FALSE)","v":5.0000000000000001E-3},{"$f":"VLOOKUP(AK1,TDP!$A:$B,2,FALSE)","v":1.6199999999999999E-2},{"$f":"VLOOKUP(AL1,TDP!$A:$B,2,FALSE)","v":2.2200000000000001E-2},{"$f":"VLOOKUP(AM1,TDP!$A:$B,2,FALSE)","v":0.01},{"$f":"VLOOKUP(AN1,TDP!$A:$B,2,FALSE)","v":2.7400000000000001E-2},{"$f":"VLOOKUP(AO1,TDP!$A:$B,2,FALSE)","v":2.2200000000000001E-2},{"$f":"VLOOKUP(AP1,TDP!$A:$B,2,FALSE)","v":2.47E-2},{"$f":"VLOOKUP(AQ1,TDP!$A:$B,2,FALSE)","v":2.7400000000000001E-2},{"$f":"VLOOKUP(AR1,TDP!$A:$B,2,FALSE)","v":2.47E-2},{"$f":"VLOOKUP(AS1,TDP!$A:$B,2,FALSE)","v":4.6399999999999997E-2},{"$f":"VLOOKUP(AT1,TDP!$A:$B,2,FALSE)","v":0.01},{"$f":"VLOOKUP(AU1,TDP!$A:$B,2,FALSE)","v":2.47E-2},{"$f":"VLOOKUP(AV1,TDP!$A:$B,2,FALSE)","v":0.01},{"$f":"SUM(B2:AV2)","v":0.64749999999999996}]
["1/tdp",{"$f":"1/B2","v":196.07843137254901},{"$f":"1/C2","v":196.07843137254901},{"$f":"1/D2","v":116.27906976744185},166.66666666666666,{"$f":"1/F2","v":129.87012987012986},{"$f":"1/G2","v":142.85714285714286},{"$f":"1/H2","v":250},263.15789473684208,196.07843137254901,142.85714285714286,94.339622641509436,94.339622641509436,68.493150684931507,129.87012987012986,116.27906976744185,84.745762711864415,84.745762711864415,476.1904761904762,84.745762711864415,68.493150684931507,476.1904761904762,94.339622641509436,50,61.728395061728399,32.786885245901637,68.493150684931507,40.48582995951417,94.339622641509436,200,50,104.16666666666667,36.496350364963504,76.33587786259541,116.27906976744185,200,61.728395061728399,45.045045045045043,100,36.496350364963504,45.045045045045043,40.48582995951417,36.496350364963504,40.48582995951417,21.551724137931036,100,40.48582995951417,100,{"$f":"SUM(B3:AV3)","v":5471.628198474994}]
["%/tdc ally",{"$f":"(B3*$AW$4)/$AW$3","v":3.5835481553223656},3.5835481553223656,2.1251273944353559,3.0460159320240101,2.3735189080706576,2.6108707988777233,4.5690238980360158,4.8094988400379108,3.5835481553223656,2.6108707988777233,1.7241599615230248,1.7241599615230248,1.251787369324936,2.3735189080706576,2.1251273944353559,1.548821660351192,1.548821660351192,8.7029026629257444,1.548821660351192,1.251787369324936,8.7029026629257444,1.7241599615230248,0.91380477960720319,1.1281540488977817,0.59921624892275616,1.251787369324936,0.73992289846737103,1.7241599615230248,3.6552191184288128,0.91380477960720319,1.9037599575150068,0.6670107880344549,1.3951218009270274,2.1251273944353559,3.6552191184288128,1.1281540488977817,0.82324754919567855,1.8276095592144064,0.6670107880344549,0.82324754919567855,0.73992289846737103,0.6670107880344549,0.73992289846737103,0.39388137052034622,1.8276095592144064,{"$f":"(AU3*$AW$4)/$AW$3","v":0.73992289846737103},{"$f":"(AV3*$AW$4)/$AW$3","v":1.8276095592144064},100,{"$f":"SUM(B4:AV4)","v":100.00000000000004}]
["tdc moyen",{"$f":"VLOOKUP(B1,'Matrice encodage'!$A:$I,9,FALSE)","v":2305002347.2857141},{"$f":"VLOOKUP(C1,'Matrice encodage'!$A:$I,9,FALSE)","v":2123998443},{"$f":"VLOOKUP(D1,'Matrice encodage'!$A:$I,9,FALSE)","v":1535136287},{"$f":"VLOOKUP(E1,'Matrice encodage'!$A:$I,9,FALSE)","v":1461977360.1428571},{"$f":"VLOOKUP(F1,'Matrice encodage'!$A:$I,9,FALSE)","v":8711238.8571428563},{"$f":"VLOOKUP(G1,'Matrice encodage'!$A:$I,9,FALSE)","v":27758206.428571429},{"$f":"VLOOKUP(H1,'Matrice encodage'!$A:$I,9,FALSE)","v":6419922.8571428573},{"$f":"VLOOKUP(I1,'Matrice encodage'!$A:$I,9,FALSE)","v":424784.85714285716},{"$f":"VLOOKUP(J1,'Matrice encodage'!$A:$I,9,FALSE)","v":2541484.1428571427},{"$f":"VLOOKUP(K1,'Matrice encodage'!$A:$I,9,FALSE)","v":1060036.857142857},{"$f":"VLOOKUP(L1,'Matrice encodage'!$A:$I,9,FALSE)","v":589206286.14285719},{"$f":"VLOOKUP(M1,'Matrice encodage'!$A:$I,9,FALSE)","v":326341257.85714287},{"$f":"VLOOKUP(N1,'Matrice encodage'!$A:$I,9,FALSE)","v":139741694.2857143},{"$f":"VLOOKUP(O1,'Matrice encodage'!$A:$I,9,FALSE)","v":76391262.428571433},{"$f":"VLOOKUP(P1,'Matrice encodage'!$A:$I,9,FALSE)","v":31785944.428571429},{"$f":"VLOOKUP(Q1,'Matrice encodage'!$A:$I,9,FALSE)","v":45452917},{"$f":"VLOOKUP(R1,'Matrice encodage'!$A:$I,9,FALSE)","v":25883043.285714287},{"$f":"VLOOKUP(S1,'Matrice encodage'!$A:$I,9,FALSE)","v":29328806.285714287},{"$f":"VLOOKUP(T1,'Matrice encodage'!$A:$I,9,FALSE)","v":42042379.142857142},{"$f":"VLOOKUP(U1,'Matrice encodage'!$A:$I,9,FALSE)","v":22661690.428571429},{"$f":"VLOOKUP(V1,'Matrice encodage'!$A:$I,9,FALSE)","v":15462249.714285715},{"$f":"VLOOKUP(W1,'Matrice encodage'!$A:$I,9,FALSE)","v":16135993.142857144},{"$f":"VLOOKUP(X1,'Matrice encodage'!$A:$I,9,FALSE)","v":40136826.142857142},{"$f":"VLOOKUP(Y1,'Matrice encodage'!$A:$I,9,FALSE)","v":13512705.714285715},{"$f":"VLOOKUP(Z1,'Matrice encodage'!$A:$I,9,FALSE)","v":11487885},{"$f":"VLOOKUP(AA1,'Matrice encodage'!$A:$I,9,FALSE)","v":4846558.4285714282},{"$f":"VLOOKUP(AB1,'Matrice encodage'!$A:$I,9,FALSE)","v":12897937.571428571},{"$f":"VLOOKUP(AC1,'Matrice encodage'!$A:$I,9,FALSE)","v":4775570.8571428573},{"$f":"VLOOKUP(AD1,'Matrice encodage'!$A:$I,9,FALSE)","v":5871042.1428571427},{"$f":"VLOOKUP(AE1,'Matrice encodage'!$A:$I,9,FALSE)","v":15196573},{"$f":"VLOOKUP(AF1,'Matrice encodage'!$A:$I,9,FALSE)","v":2707391},{"$f":"VLOOKUP(AG1,'Matrice encodage'!$A:$I,9,FALSE)","v":5000948.1428571427},{"$f":"VLOOKUP(AH1,'Matrice encodage'!$A:$I,9,FALSE)","v":5336541.4285714282},{"$f":"VLOOKUP(AI1,'Matrice encodage'!$A:$I,9,FALSE)","v":2309444},{"$f":"VLOOKUP(AJ1,'Matrice encodage'!$A:$I,9,FALSE)","v":3121704.5714285714},{"$f":"VLOOKUP(AK1,'Matrice encodage'!$A:$I,9,FALSE)","v":1591001.7142857143},{"$f":"VLOOKUP(AL1,'Matrice encodage'!$A:$I,9,FALSE)","v":1892724},{"$f":"VLOOKUP(AM1,'Matrice encodage'!$A:$I,9,FALSE)","v":1245149},{"$f":"VLOOKUP(AN1,'Matrice encodage'!$A:$I,9,FALSE)","v":1127219},{"$f":"VLOOKUP(AO1,'Matrice encodage'!$A:$I,9,FALSE)","v":743349.28571428568},{"$f":"VLOOKUP(AP1,'Matrice encodage'!$A:$I,9,FALSE)","v":683296},{"$f":"VLOOKUP(AQ1,'Matrice encodage'!$A:$I,9,FALSE)","v":620935},{"$f":"VLOOKUP(AR1,'Matrice encodage'!$A:$I,9,FALSE)","v":415182},{"$f":"VLOOKUP(AS1,'Matrice encodage'!$A:$I,9,FALSE)","v":367568},{"$f":"VLOOKUP(AT1,'Matrice encodage'!$A:$I,9,FALSE)","v":304172},{"$f":"VLOOKUP(AU1,'Matrice encodage'!$A:$I,9,FALSE)","v":268468},{"$f":"VLOOKUP(AV1,'Matrice encodage'!$A:$I,9,FALSE)","v":211067},{"$f":"SUM(B5:AV5)","v":8970134894.5714264}]
["ressources optenues",{"$f":"B5*48*6","v":663840676018.28564},{"$f":"C5*48*6","v":611711551584},442119250656,421049479721.14288,{"$f":"F5*48*6","v":2508836790.8571424},{"$f":"G5*48*6","v":7994363451.4285717},{"$f":"H5*48*6","v":1848937782.8571429},122338038.85714285,731947433.14285707,305290614.85714281,169691410409.14288,93986282262.857147,40245607954.285721,22000683579.428574,9154351995.4285717,13090440096,7454316466.2857151,8446696210.2857151,12108205193.142857,6526566843.4285717,4453127917.7142859,4647166025.1428576,11559405929.142857,3891659245.7142859,3308510880,1395808827.4285712,3714606020.5714288,1375364406.8571429,1690860137.1428571,4376613024,779728608,1440273065.1428571,1536923931.4285712,665119872,899050916.57142854,458208493.71428573,545104512,358602912,324639072,214084594.2857143,196789248,178829280,119572416,105859584,87601536,77318784,60787296,{"$f":"AW5*48*6","v":2583398849636.5708}]
["ressources avec %",{"$f":"($AW$6*B4)/100","v":92577341820.770554},{"$f":"($AW$6*C4)/100","v":92577341820.770554},54900516661.154617,78690740547.654953,61317460167.003868,67449206183.704247,118036110821.48244,124248537706.82361,92577341820.770554,67449206183.704247,44541928611.880165,44541928611.880165,32338660499.036289,61317460167.003868,54900516661.154617,40012240956.434723,40012240956.434723,224830687279.01419,40012240956.434723,32338660499.036289,224830687279.01419,44541928611.880165,23607222164.29649,29144718721.353687,15480145681.505894,32338660499.036289,19115159647.203636,44541928611.880165,94428888657.185959,23607222164.29649,49181712842.284355,17231549025.033932,36041560556.177834,54900516661.154617,94428888657.185959,29144718721.353687,21267767715.58242,47214444328.592979,17231549025.033932,21267767715.58242,19115159647.203636,17231549025.033932,19115159647.203636,10175526794.955383,47214444328.592979,19115159647.203636,{"$f":"($AW$6*AV4)/100","v":47214444328.592979},{"$f":"SUM(B7:AV7)","v":2583398849636.5698}]
["colo 36 ou 38%  perte",{"$f":"(B6*36)/100","v":238982643366.58282},{"$f":"(C6*38)/100","v":232450389601.92001},168005315249.28,159998802294.0343,953357980.52571416,3037858111.5428572,702596357.48571432,46488454.76571428,278140024.59428573,{"$f":"(K6*36)/100","v":109904621.34857142},null,null,null,null,null,null,null,null,null,null,null,null,null,null,null,null,null,null,null,null,null,null,null,null,null,null,null,null,null,null,null,null,null,null,null,null,null,null,{"$f":"SUM(B8:AV8)","v":804565496062.07996}]
["colo  gain",{"$f":"F8","v":953357980.52571416},{"$f":"G8","v":3037858111.5428572},{"$f":"J8","v":278140024.59428573},{"$f":"H8","v":702596357.48571432},{"$f":"B8","v":238982643366.58282},{"$f":"C8","v":232450389601.92001},{"$f":"E8","v":159998802294.0343},{"$f":"K8","v":109904621.34857142},{"$f":"D8","v":168005315249.28},{"$f":"I8","v":46488454.76571428},null,null,null,null,null,null,null,null,null,null,null,null,null,null,null,null,null,null,null,null,null,null,null,null,null,null,null,null,null,null,null,null,null,null,null,null,null,null,{"$f":"SUM(B9:AV9)","v":804565496062.07996}]
["doit livrer",{"$f":"(B6+B9)-(B7+B8)","v":333234048811.45801},{"$f":"(C6+C9)-(C7+C8)","v":289721678272.85229},219491558770.15967,183062533236.93933,179220662009.9104,169957688758.10147,43109032897.923294,null,{"$f":"(J6+J9)-(J7+J8)","v":75881780837.058014},null,{"$f":"(L6+L9)-(L7+L8)","v":125149481797.26273},{"$f":"(M6+M9)-(M7+M8)","v":49444353650.976982},7906947455.2494316,null,null,null,null,null,null,null,null,null,null,null,null,null,null,null,null,null,null,null,null,null,null,null,null,null,null,null,null,null,null,null,null,null,null,{"$f":"SUM(B10:AV10)","v":1676179766497.8921},{"$f":"AW10+AX8","v":2480745262559.9722}]
["doit recevoir",null,null,null,null,null,null,null,{"$f":"(I6+I9)-(I7+I8)","v":-124062783501.38361},null,-67207331735.429962,null,null,null,-39316776587.575294,-45746164665.726044,-26921800860.434723,-32557924490.14901,-216383991068.72849,-27904035763.291866,-25812093655.607719,-220377559361.2999,-39894762586.737305,-12047816235.153633,-25253059475.6394,-12171634801.505894,-30942851671.607719,-15400553626.632208,-43166564205.023026,-92738028520.043106,-19230609140.29649,-48401984234.284355,-15791275959.891075,-34504636624.74926,-54235396789.154617,-93529837740.614532,-28686510227.6394,-20722663203.58242,-46855841416.592979,-16906909953.033932,-21053683121.296707,-18918370399.203636,-17052719745.033932,-18995587231.203636,-10069667210.955383,-47126842792.592979,-19037840863.203636,-47153657032.592979,{"$f":"SUM(B11:AV11)","v":-1676179766497.8906},{"$f":"AW11-AX9","v":-2480745262559.9707}]

{"sheet":"qui livre qui","index":1,"n_rows":45,"n_cols":13,"rows_kept":45,"cut":false,"hidden":false,"merged":[]}
[null,"tharsilla","chepa","khonsou","chachadu44","kiwi445","tweick","wakash","vipere92","boody","terminator3",null,"quotas"]
["trezepac",null,null,null,123.7,null,null,null,null,null,null,{"$f":"SUM(B2:K2)","v":123.7},{"$f":"HLOOKUP(A2,'QUOTAS DES LIV'!$A:$AV,11,FALSE)/1000000000","v":-124.06278350138361}]
["dolfijn",null,null,null,null,null,null,67.099999999999994,null,null,null,67.099999999999994,{"$f":"HLOOKUP(A3,'QUOTAS DES LIV'!$A:$AV,11,FALSE)/1000000000","v":-67.20733173542996}]
["Aym35",null,null,null,null,2.0009999999999999,null,null,null,null,null,2.0009999999999999,{"$f":"HLOOKUP(A4,'QUOTAS DES LIV'!$A:$AV,11,FALSE)/1000000000","v":0}]
["Ygrek",null,null,null,null,38.4,null,null,null,null,null,38.4,{"$f":"HLOOKUP(A5,'QUOTAS DES LIV'!$A:$AV,11,FALSE)/1000000000","v":-39.316776587575298}]
["havok1","*",null,null,null,null,null,null,44.1,null,null,44.1,{"$f":"HLOOKUP(A6,'QUOTAS DES LIV'!$A:$AV,11,FALSE)/1000000000","v":-45.746164665726042}]
["maromi",null,null,null,null,null,null,29.3,null,null,null,29.3,{"$f":"HLOOKUP(A7,'QUOTAS DES LIV'!$A:$AV,11,FALSE)/1000000000","v":-26.921800860434722}]
["orev",null,null,null,null,null,null,null,null,30.6,null,30.6,{"$f":"HLOOKUP(A8,'QUOTAS DES LIV'!$A:$AV,11,FALSE)/1000000000","v":-32.557924490149013}]
["kirle",null,null,null,null,null,null,32,null,null,null,32,{"$f":"HLOOKUP(A9,'QUOTAS DES LIV'!$A:$AV,11,FALSE)/1000000000","v":-27.904035763291866}]
["shuo",null,null,25.9,null,null,"*",null,null,null,null,25.9,{"$f":"HLOOKUP(A10,'QUOTAS DES LIV'!$A:$AV,11,FALSE)/1000000000","v":-25.812093655607718}]
["micktram",null,null,188.8,null,null,31,null,null,null,null,219.8,{"$f":"HLOOKUP(A11,'QUOTAS DES LIV'!$A:$AV,11,FALSE)/1000000000","v":-220.37755936129989}]
["darkspread",null,null,null,null,{"$f":"34.7-26.9","v":7.8000000000000043},null,null,null,null,26.9,{"$f":"SUM(B12:K12)","v":34.700000000000003},{"$f":"HLOOKUP(A12,'QUOTAS DES LIV'!$A:$AV,11,FALSE)/1000000000","v":-39.894762586737308}]
["hbing",null,null,null,17.899999999999999,null,"*",null,null,null,null,17.899999999999999,{"$f":"HLOOKUP(A13,'QUOTAS DES LIV'!$A:$AV,11,FALSE)/1000000000","v":-12.047816235153633}]
["ithaque","*",null,null,null,null,null,null,25.5,null,null,25.5,{"$f":"HLOOKUP(A14,'QUOTAS DES LIV'!$A:$AV,11,FALSE)/1000000000","v":-25.2530594756394}]
["frite","*",null,null,null,null,null,null,11.9,null,null,11.9,{"$f":"HLOOKUP(A15,'QUOTAS DES LIV'!$A:$AV,11,FALSE)/1000000000","v":-12.171634801505894}]
["blackeagle",null,null,null,30.4,null,null,null,null,null,null,30.4,{"$f":"HLOOKUP(A16,'QUOTAS DES LIV'!$A:$AV,11,FALSE)/1000000000","v":-30.94285167160772}]
["ashday",null,null,17.399999999999999,null,null,null,null,null,null,null,17.399999999999999,{"$f":"HLOOKUP(A17,'QUOTAS DES LIV'!$A:$AV,11,FALSE)/1000000000","v":-15.400553626632208}]
["majokajupo",null,null,null,null,null,null,null,42.9,"*",null,42.9,{"$f":"HLOOKUP(A18,'QUOTAS DES LIV'!$A:$AV,11,FALSE)/1000000000","v":-43.166564205023029}]
["houdihadu59",68,null,null,null,null,null,null,23.8,null,null,91.8,{"$f":"HLOOKUP(A19,'QUOTAS DES LIV'!$A:$AV,11,FALSE)/1000000000","v":-92.738028520043102}]
["YodaDM",null,48.3,null,null,null,null,"*",null,null,null,48.3,{"$f":"HLOOKUP(A20,'QUOTAS DES LIV'!$A:$AV,11,FALSE)/1000000000","v":-48.401984234284356}]
["filou690",null,null,null,21.6,null,null,null,null,null,null,21.6,{"$f":"HLOOKUP(A21,'QUOTAS DES LIV'!$A:$AV,11,FALSE)/1000000000","v":-19.23060914029649}]
["lokiii",15.4,null,"*",null,null,null,null,null,null,null,15.4,{"$f":"HLOOKUP(A22,'QUOTAS DES LIV'!$A:$AV,11,FALSE)/1000000000","v":-15.791275959891076}]
["oglala",35,null,null,null,null,null,null,null,null,null,35,{"$f":"HLOOKUP(A23,'QUOTAS DES LIV'!$A:$AV,11,FALSE)/1000000000","v":-34.50463662474926}]
["lesinc",null,{"$f":"54.1-26","v":28.1},"*",null,null,null,26,null,null,null,54.1,{"$f":"HLOOKUP(A24,'QUOTAS DES LIV'!$A:$AV,11,FALSE)/1000000000","v":-54.23539678915462}]
["gropere",null,null,24.8,null,68.5,null,null,null,null,null,93.3,{"$f":"HLOOKUP(A25,'QUOTAS DES LIV'!$A:$AV,11,FALSE)/1000000000","v":-93.529837740614539}]
["doudou59",null,null,null,null,null,28.3,null,null,null,null,28.3,{"$f":"HLOOKUP(A26,'QUOTAS DES LIV'!$A:$AV,11,FALSE)/1000000000","v":-28.686510227639399}]
["Darksnake",null,null,8.3000000000000007,8.6,null,"*",null,null,null,null,16.899999999999999,{"$f":"HLOOKUP(A27,'QUOTAS DES LIV'!$A:$AV,11,FALSE)/1000000000","v":-16.906909953033932}]
["calicelame",100,100,15.4,null,null,null,null,null,null,null,215.4,{"$f":"HLOOKUP(A28,'QUOTAS DES LIV'!$A:$AV,11,FALSE)/1000000000","v":-216.38399106872848}]
["pierrhout",null,9.3000000000000007,7.7,null,null,null,null,null,null,null,17,{"$f":"HLOOKUP(A29,'QUOTAS DES LIV'!$A:$AV,11,FALSE)/1000000000","v":-17.052719745033933}]
["wizz59780",null,null,null,null,19,null,null,null,null,null,19,{"$f":"HLOOKUP(A30,'QUOTAS DES LIV'!$A:$AV,11,FALSE)/1000000000","v":-18.995587231203636}]
["bastien14",46.6,null,null,null,null,"*",null,null,null,null,46.6,{"$f":"HLOOKUP(A31,'QUOTAS DES LIV'!$A:$AV,11,FALSE)/1000000000","v":-46.85584141659298}]
["misaxsan",null,null,null,null,null,null,null,null,null,null,0,{"$f":"HLOOKUP(A32,'QUOTAS DES LIV'!$A:$AV,11,FALSE)/1000000000","v":-10.069667210955384}]
["banania","*",null,null,null,null,null,null,"*","*",null,0,{"$f":"HLOOKUP(A33,'QUOTAS DES LIV'!$A:$AV,11,FALSE)/1000000000","v":-20.722663203582421}]
["nonobcd82","*",null,null,null,null,null,null,"*","*",null,0,{"$f":"HLOOKUP(A34,'QUOTAS DES LIV'!$A:$AV,11,FALSE)/1000000000","v":-18.918370399203635}]
["eliote","*",null,null,null,null,null,null,"*","*",null,0,{"$f":"HLOOKUP(A35,'QUOTAS DES LIV'!$A:$AV,11,FALSE)/1000000000","v":-21.053683121296707}]
["anthony2306",null,null,null,"*",null,null,null,null,null,null,0,{"$f":"HLOOKUP(A36,'QUOTAS DES LIV'!$A:$AV,11,FALSE)/1000000000","v":-47.126842792592981}]
["whiteforest",null,null,null,"*",null,null,null,null,null,null,0,{"$f":"HLOOKUP(A37,'QUOTAS DES LIV'!$A:$AV,11,FALSE)/1000000000","v":-19.037840863203638}]
["elladan",null,null,null,null,null,null,null,null,null,null,0,{"$f":"HLOOKUP(A38,'QUOTAS DES LIV'!$A:$AV,11,FALSE)/1000000000","v":-47.153657032592982}]
["a livrer report",{"$f":"HLOOKUP(B1,'QUOTAS DES LIV'!$A:$AV,10,FALSE)/1000000000","v":289.72167827285227},{"$f":"HLOOKUP(C1,'QUOTAS DES LIV'!$A:$AV,10,FALSE)/1000000000","v":183.06253323693934},{"$f":"HLOOKUP(D1,'QUOTAS DES LIV'!$A:$AV,10,FALSE)/1000000000","v":333.23404881145802},{"$f":"HLOOKUP(E1,'QUOTAS DES LIV'!$A:$AV,10,FALSE)/1000000000","v":219.49155877015966},{"$f":"HLOOKUP(F1,'QUOTAS DES LIV'!$A:$AV,10,FALSE)/1000000000","v":125.14948179726272},{"$f":"HLOOKUP(G1,'QUOTAS DES LIV'!$A:$AV,10,FALSE)/1000000000","v":75.881780837058017},{"$f":"HLOOKUP(H1,'QUOTAS DES LIV'!$A:$AV,10,FALSE)/1000000000","v":179.2206620099104},{"$f":"HLOOKUP(I1,'QUOTAS DES LIV'!$A:$AV,10,FALSE)/1000000000","v":169.95768875810148},{"$f":"HLOOKUP(J1,'QUOTAS DES LIV'!$A:$AV,10,FALSE)/1000000000","v":43.109032897923292},{"$f":"HLOOKUP(K1,'QUOTAS DES LIV'!$A:$AV,10,FALSE)/1000000000","v":49.444353650976986},{"$f":"SUM(B39:K39)","v":1668.2728190426424},{"$f":"SUM(M2:M38)","v":-1676.179766497891}]
["prorata des inactifs",{"$f":"SUM($M$32:$M$38)/11","v":-16.734793147584341},-16.734793147584341,-16.734793147584341,-16.734793147584341,-16.734793147584341,-16.734793147584341,-16.734793147584341,-16.734793147584341,-16.734793147584341,-16.734793147584341,null,{"$f":"SUM(M32:M38)","v":-184.08272462342774}]
["reste à livrer",{"$f":"B39+B40","v":272.98688512526792},{"$f":"C39+C40","v":166.32774008935502},316.49925566387367,202.7567656225753,108.41468864967838,59.146987689473676,162.48586886232607,153.22289561051713,26.374239750338951,{"$f":"K39+K40","v":32.709560503392645},null,{"$f":"SUM(B41:K41)","v":1500.9248875667986}]
[]
[]
["verif",{"$f":"SUM(B2:B38)","v":265},185.70000000000002,288.3,202.2,135.70099999999999,59.3,154.39999999999998,148.20000000000002,30.6,{"$f":"SUM(K2:K38)","v":26.9}]
["diff",{"$f":"B41-B44","v":7.9868851252679178},{"$f":"C41-C44","v":-19.372259910644999},28.199255663873657,0.55676562257531259,-27.286311350321611,-0.15301231052632147,8.0858688623260946,5.0228956105171108,-4.2257602496610502,5.8095605033926461]

{"sheet":"Matrice encodage","index":2,"n_rows":50,"n_cols":9,"rows_kept":50,"cut":false,"hidden":false,"merged":[]}
["IMPORTATION","Samedi","Dimanche","Lundi","Mardi","Mercredi","Jeudi","Vendredi","MOYENNE"]
["khonsou",{"$f":"VLOOKUP(A2,samedi!A:B,2,FALSE)","v":2241820445},{"$f":"VLOOKUP(A2,dimanche!A:B,2,FALSE)","v":2241820445},{"$f":"VLOOKUP(A2,lundi!A:B,2,FALSE)","v":2241766155},{"$f":"VLOOKUP(A2,mardi!A:B,2,FALSE)","v":2368497217},{"$f":"VLOOKUP(A2,mercredi!A:B,2,FALSE)","v":2366640927},{"$f":"VLOOKUP(A2,jeudi!A:B,2,FALSE)","v":2378065321},{"$f":"VLOOKUP(A2,vendredi!A:B,2,FALSE)","v":2296405921},{"$f":"AVERAGE(D2,E2,F2,G2,H2,B2,C2)","v":2305002347.2857141}]
["tharsilla",{"$f":"VLOOKUP(A3,samedi!A:B,2,FALSE)","v":2123998443},{"$f":"VLOOKUP(A3,dimanche!A:B,2,FALSE)","v":2123998443},{"$f":"VLOOKUP(A3,lundi!A:B,2,FALSE)","v":2123998443},{"$f":"VLOOKUP(A3,mardi!A:B,2,FALSE)","v":2123998443},{"$f":"VLOOKUP(A3,mercredi!A:B,2,FALSE)","v":2123998443},{"$f":"VLOOKUP(A3,jeudi!A:B,2,FALSE)","v":2123998443},{"$f":"VLOOKUP(A3,vendredi!A:B,2,FALSE)","v":2123998443},{"$f":"AVERAGE(D3,E3,F3,G3,H3,B3,C3)","v":2123998443}]
["chachadu44",{"$f":"VLOOKUP(A4,samedi!A:B,2,FALSE)","v":1535136287},{"$f":"VLOOKUP(A4,dimanche!A:B,2,FALSE)","v":1535136287},{"$f":"VLOOKUP(A4,lundi!A:B,2,FALSE)","v":1535136287},{"$f":"VLOOKUP(A4,mardi!A:B,2,FALSE)","v":1535136287},{"$f":"VLOOKUP(A4,mercredi!A:B,2,FALSE)","v":1535136287},{"$f":"VLOOKUP(A4,jeudi!A:B,2,FALSE)","v":1535136287},{"$f":"VLOOKUP(A4,vendredi!A:B,2,FALSE)","v":1535136287},1535136287]
["chepa",{"$f":"VLOOKUP(A5,samedi!A:B,2,FALSE)","v":1496016592},{"$f":"VLOOKUP(A5,dimanche!A:B,2,FALSE)","v":1496016592},{"$f":"VLOOKUP(A5,lundi!A:B,2,FALSE)","v":1496016592},{"$f":"VLOOKUP(A5,mardi!A:B,2,FALSE)","v":1499805343},{"$f":"VLOOKUP(A5,mercredi!A:B,2,FALSE)","v":1426130474},{"$f":"VLOOKUP(A5,jeudi!A:B,2,FALSE)","v":1406300213},{"$f":"VLOOKUP(A5,vendredi!A:B,2,FALSE)","v":1413555715},1461977360.1428571]
["kiwi445",{"$f":"VLOOKUP(A6,samedi!A:B,2,FALSE)","v":721431277},{"$f":"VLOOKUP(A6,dimanche!A:B,2,FALSE)","v":721431277},{"$f":"VLOOKUP(A6,lundi!A:B,2,FALSE)","v":606482162},{"$f":"VLOOKUP(A6,mardi!A:B,2,FALSE)","v":606482162},{"$f":"VLOOKUP(A6,mercredi!A:B,2,FALSE)","v":499773021},{"$f":"VLOOKUP(A6,jeudi!A:B,2,FALSE)","v":484422052},{"$f":"VLOOKUP(A6,vendredi!A:B,2,FALSE)","v":484422052},589206286.14285719]
["terminator3",{"$f":"VLOOKUP(A7,samedi!A:B,2,FALSE)","v":313517929},{"$f":"VLOOKUP(A7,dimanche!A:B,2,FALSE)","v":313517929},{"$f":"VLOOKUP(A7,lundi!A:B,2,FALSE)","v":386422246},{"$f":"VLOOKUP(A7,mardi!A:B,2,FALSE)","v":292309324},{"$f":"VLOOKUP(A7,mercredi!A:B,2,FALSE)","v":299968629},{"$f":"VLOOKUP(A7,jeudi!A:B,2,FALSE)","v":339326374},{"$f":"VLOOKUP(A7,vendredi!A:B,2,FALSE)","v":339326374},326341257.85714287]
["Aym35",{"$f":"VLOOKUP(A8,samedi!A:B,2,FALSE)","v":124104111},{"$f":"VLOOKUP(A8,dimanche!A:B,2,FALSE)","v":124104111},{"$f":"VLOOKUP(A8,lundi!A:B,2,FALSE)","v":145492628},{"$f":"VLOOKUP(A8,mardi!A:B,2,FALSE)","v":128675213},{"$f":"VLOOKUP(A8,mercredi!A:B,2,FALSE)","v":120362051},{"$f":"VLOOKUP(A8,jeudi!A:B,2,FALSE)","v":167726873},{"$f":"VLOOKUP(A8,vendredi!A:B,2,FALSE)","v":167726873},139741694.2857143]
["ygrek",{"$f":"VLOOKUP(A9,samedi!A:B,2,FALSE)","v":63349825},{"$f":"VLOOKUP(A9,dimanche!A:B,2,FALSE)","v":63349825},{"$f":"VLOOKUP(A9,lundi!A:B,2,FALSE)","v":75203758},{"$f":"VLOOKUP(A9,mardi!A:B,2,FALSE)","v":120374182},{"$f":"VLOOKUP(A9,mercredi!A:B,2,FALSE)","v":54746388},{"$f":"VLOOKUP(A9,jeudi!A:B,2,FALSE)","v":70249467},{"$f":"VLOOKUP(A9,vendredi!A:B,2,FALSE)","v":87465392},76391262.428571433]
["havok1",{"$f":"VLOOKUP(A10,samedi!A:B,2,FALSE)","v":53999038},{"$f":"VLOOKUP(A10,dimanche!A:B,2,FALSE)","v":53999038},{"$f":"VLOOKUP(A10,lundi!A:B,2,FALSE)","v":30675967},{"$f":"VLOOKUP(A10,mardi!A:B,2,FALSE)","v":20956892},{"$f":"VLOOKUP(A10,mercredi!A:B,2,FALSE)","v":20956892},{"$f":"VLOOKUP(A10,jeudi!A:B,2,FALSE)","v":20956892},{"$f":"VLOOKUP(A10,vendredi!A:B,2,FALSE)","v":20956892},31785944.428571429]
["Maromi",{"$f":"VLOOKUP(A11,samedi!A:B,2,FALSE)","v":48828665},{"$f":"VLOOKUP(A11,dimanche!A:B,2,FALSE)","v":48828665},{"$f":"VLOOKUP(A11,lundi!A:B,2,FALSE)","v":26970712},{"$f":"VLOOKUP(A11,mardi!A:B,2,FALSE)","v":40044164},{"$f":"VLOOKUP(A11,mercredi!A:B,2,FALSE)","v":51166071},{"$f":"VLOOKUP(A11,jeudi!A:B,2,FALSE)","v":51166071},{"$f":"VLOOKUP(A11,vendredi!A:B,2,FALSE)","v":51166071},45452917]
["orev",{"$f":"VLOOKUP(A12,samedi!A:B,2,FALSE)","v":42204618},{"$f":"VLOOKUP(A12,dimanche!A:B,2,FALSE)","v":42204618},{"$f":"VLOOKUP(A12,lundi!A:B,2,FALSE)","v":17834002},{"$f":"VLOOKUP(A12,mardi!A:B,2,FALSE)","v":10514279},{"$f":"VLOOKUP(A12,mercredi!A:B,2,FALSE)","v":11683360},{"$f":"VLOOKUP(A12,jeudi!A:B,2,FALSE)","v":25181469},{"$f":"VLOOKUP(A12,vendredi!A:B,2,FALSE)","v":31558957},25883043.285714287]
["Calicelame",{"$f":"VLOOKUP(A13,samedi!A:B,2,FALSE)","v":31797785},{"$f":"VLOOKUP(A13,dimanche!A:B,2,FALSE)","v":31797785},{"$f":"VLOOKUP(A13,lundi!A:B,2,FALSE)","v":31797785},{"$f":"VLOOKUP(A13,mardi!A:B,2,FALSE)","v":21445756},{"$f":"VLOOKUP(A13,mercredi!A:B,2,FALSE)","v":27386607},{"$f":"VLOOKUP(A13,jeudi!A:B,2,FALSE)","v":30537963},{"$f":"VLOOKUP(A13,vendredi!A:B,2,FALSE)","v":30537963},29328806.285714287]
["kirle",{"$f":"VLOOKUP(A14,samedi!A:B,2,FALSE)","v":27715454},{"$f":"VLOOKUP(A14,dimanche!A:B,2,FALSE)","v":27715454},{"$f":"VLOOKUP(A14,lundi!A:B,2,FALSE)","v":27715454},{"$f":"VLOOKUP(A14,mardi!A:B,2,FALSE)","v":60287573},{"$f":"VLOOKUP(A14,mercredi!A:B,2,FALSE)","v":50287573},{"$f":"VLOOKUP(A14,jeudi!A:B,2,FALSE)","v":50287573},{"$f":"VLOOKUP(A14,vendredi!A:B,2,FALSE)","v":50287573},42042379.142857142]
["shuo",{"$f":"VLOOKUP(A15,samedi!A:B,2,FALSE)","v":22194850},{"$f":"VLOOKUP(A15,dimanche!A:B,2,FALSE)","v":22194850},{"$f":"VLOOKUP(A15,lundi!A:B,2,FALSE)","v":22194850},{"$f":"VLOOKUP(A15,mardi!A:B,2,FALSE)","v":31353251},{"$f":"VLOOKUP(A15,mercredi!A:B,2,FALSE)","v":20231344},{"$f":"VLOOKUP(A15,jeudi!A:B,2,FALSE)","v":20231344},{"$f":"VLOOKUP(A15,vendredi!A:B,2,FALSE)","v":20231344},22661690.428571429]
["Micktram",{"$f":"VLOOKUP(A16,samedi!A:B,2,FALSE)","v":20628092},{"$f":"VLOOKUP(A16,dimanche!A:B,2,FALSE)","v":20628092},{"$f":"VLOOKUP(A16,lundi!A:B,2,FALSE)","v":14666640},{"$f":"VLOOKUP(A16,mardi!A:B,2,FALSE)","v":13343541},{"$f":"VLOOKUP(A16,mercredi!A:B,2,FALSE)","v":8084785},{"$f":"VLOOKUP(A16,jeudi!A:B,2,FALSE)","v":13947813},{"$f":"VLOOKUP(A16,vendredi!A:B,2,FALSE)","v":16936785},15462249.714285715]
["Darkspread",{"$f":"VLOOKUP(A17,samedi!A:B,2,FALSE)","v":18777605},{"$f":"VLOOKUP(A17,dimanche!A:B,2,FALSE)","v":18777605},{"$f":"VLOOKUP(A17,lundi!A:B,2,FALSE)","v":27634968},{"$f":"VLOOKUP(A17,mardi!A:B,2,FALSE)","v":14561516},{"$f":"VLOOKUP(A17,mercredi!A:B,2,FALSE)","v":14561516},{"$f":"VLOOKUP(A17,jeudi!A:B,2,FALSE)","v":9319371},{"$f":"VLOOKUP(A17,vendredi!A:B,2,FALSE)","v":9319371},16135993.142857144]
["hbing",{"$f":"VLOOKUP(A18,samedi!A:B,2,FALSE)","v":17423704},{"$f":"VLOOKUP(A18,dimanche!A:B,2,FALSE)","v":17423704},{"$f":"VLOOKUP(A18,lundi!A:B,2,FALSE)","v":33246541},{"$f":"VLOOKUP(A18,mardi!A:B,2,FALSE)","v":17022230},{"$f":"VLOOKUP(A18,mercredi!A:B,2,FALSE)","v":54745470},{"$f":"VLOOKUP(A18,jeudi!A:B,2,FALSE)","v":72272433},{"$f":"VLOOKUP(A18,vendredi!A:B,2,FALSE)","v":68823701},40136826.142857142]
["Ithaque",{"$f":"VLOOKUP(A19,samedi!A:B,2,FALSE)","v":12629636},{"$f":"VLOOKUP(A19,dimanche!A:B,2,FALSE)","v":12629636},{"$f":"VLOOKUP(A19,lundi!A:B,2,FALSE)","v":16484668},{"$f":"VLOOKUP(A19,mardi!A:B,2,FALSE)","v":10373867},{"$f":"VLOOKUP(A19,mercredi!A:B,2,FALSE)","v":15260745},{"$f":"VLOOKUP(A19,jeudi!A:B,2,FALSE)","v":15116882},{"$f":"VLOOKUP(A19,vendredi!A:B,2,FALSE)","v":12093506},13512705.714285715]
["Frite",{"$f":"VLOOKUP(A20,samedi!A:B,2,FALSE)","v":11746472},{"$f":"VLOOKUP(A20,dimanche!A:B,2,FALSE)","v":11746472},{"$f":"VLOOKUP(A20,lundi!A:B,2,FALSE)","v":10492728},{"$f":"VLOOKUP(A20,mardi!A:B,2,FALSE)","v":8859380},{"$f":"VLOOKUP(A20,mercredi!A:B,2,FALSE)","v":7383133},{"$f":"VLOOKUP(A20,jeudi!A:B,2,FALSE)","v":16770561},{"$f":"VLOOKUP(A20,vendredi!A:B,2,FALSE)","v":13416449},11487885]
["Blackeagle",{"$f":"VLOOKUP(A21,samedi!A:B,2,FALSE)","v":10384350},{"$f":"VLOOKUP(A21,dimanche!A:B,2,FALSE)","v":10384350},{"$f":"VLOOKUP(A21,lundi!A:B,2,FALSE)","v":3982205},{"$f":"VLOOKUP(A21,mardi!A:B,2,FALSE)","v":2548612},{"$f":"VLOOKUP(A21,mercredi!A:B,2,FALSE)","v":2548612},{"$f":"VLOOKUP(A21,jeudi!A:B,2,FALSE)","v":2038890},{"$f":"VLOOKUP(A21,vendredi!A:B,2,FALSE)","v":2038890},4846558.4285714282]
["Ashday",{"$f":"VLOOKUP(A22,samedi!A:B,2,FALSE)","v":7666418},{"$f":"VLOOKUP(A22,dimanche!A:B,2,FALSE)","v":7666418},{"$f":"VLOOKUP(A22,lundi!A:B,2,FALSE)","v":4333324},{"$f":"VLOOKUP(A22,mardi!A:B,2,FALSE)","v":4184902},{"$f":"VLOOKUP(A22,mercredi!A:B,2,FALSE)","v":3347922},{"$f":"VLOOKUP(A22,jeudi!A:B,2,FALSE)","v":24021441},{"$f":"VLOOKUP(A22,vendredi!A:B,2,FALSE)","v":39065138},12897937.571428571]
["majokajupo",{"$f":"VLOOKUP(A23,samedi!A:B,2,FALSE)","v":6322008},{"$f":"VLOOKUP(A23,dimanche!A:B,2,FALSE)","v":6322008},{"$f":"VLOOKUP(A23,lundi!A:B,2,FALSE)","v":6494003},{"$f":"VLOOKUP(A23,mardi!A:B,2,FALSE)","v":3322719},{"$f":"VLOOKUP(A23,mercredi!A:B,2,FALSE)","v":2445522},{"$f":"VLOOKUP(A23,jeudi!A:B,2,FALSE)","v":3370258},{"$f":"VLOOKUP(A23,vendredi!A:B,2,FALSE)","v":5152478},4775570.8571428573]
["houdihadu59",{"$f":"VLOOKUP(A24,samedi!A:B,2,FALSE)","v":5891342},{"$f":"VLOOKUP(A24,dimanche!A:B,2,FALSE)","v":5891342},{"$f":"VLOOKUP(A24,lundi!A:B,2,FALSE)","v":8633380},{"$f":"VLOOKUP(A24,mardi!A:B,2,FALSE)","v":5055189},{"$f":"VLOOKUP(A24,mercredi!A:B,2,FALSE)","v":3824135},{"$f":"VLOOKUP(A24,jeudi!A:B,2,FALSE)","v":5563928},{"$f":"VLOOKUP(A24,vendredi!A:B,2,FALSE)","v":6237979},5871042.1428571427]
["filou690",{"$f":"VLOOKUP(A25,samedi!A:B,2,FALSE)","v":5696493},{"$f":"VLOOKUP(A25,dimanche!A:B,2,FALSE)","v":5696493},{"$f":"VLOOKUP(A25,lundi!A:B,2,FALSE)","v":7323554},{"$f":"VLOOKUP(A25,mardi!A:B,2,FALSE)","v":14480874},{"$f":"VLOOKUP(A25,mercredi!A:B,2,FALSE)","v":17667032},{"$f":"VLOOKUP(A25,jeudi!A:B,2,FALSE)","v":26280887},{"$f":"VLOOKUP(A25,vendredi!A:B,2,FALSE)","v":29230678},15196573]
["YodaDM",{"$f":"VLOOKUP(A26,samedi!A:B,2,FALSE)","v":4519615},{"$f":"VLOOKUP(A26,dimanche!A:B,2,FALSE)","v":4519615},{"$f":"VLOOKUP(A26,lundi!A:B,2,FALSE)","v":1335876},{"$f":"VLOOKUP(A26,mardi!A:B,2,FALSE)","v":2969757},{"$f":"VLOOKUP(A26,mercredi!A:B,2,FALSE)","v":1868958},{"$f":"VLOOKUP(A26,jeudi!A:B,2,FALSE)","v":1868958},{"$f":"VLOOKUP(A26,vendredi!A:B,2,FALSE)","v":1868958},2707391]
["lokiii",{"$f":"VLOOKUP(A27,samedi!A:B,2,FALSE)","v":4274344},{"$f":"VLOOKUP(A27,dimanche!A:B,2,FALSE)","v":4274344},{"$f":"VLOOKUP(A27,lundi!A:B,2,FALSE)","v":7049153},{"$f":"VLOOKUP(A27,mardi!A:B,2,FALSE)","v":4852199},{"$f":"VLOOKUP(A27,mercredi!A:B,2,FALSE)","v":4852199},{"$f":"VLOOKUP(A27,jeudi!A:B,2,FALSE)","v":4852199},{"$f":"VLOOKUP(A27,vendredi!A:B,2,FALSE)","v":4852199},5000948.1428571427]
["oglala",{"$f":"VLOOKUP(A28,samedi!A:B,2,FALSE)","v":4047321},{"$f":"VLOOKUP(A28,dimanche!A:B,2,FALSE)","v":4047321},{"$f":"VLOOKUP(A28,lundi!A:B,2,FALSE)","v":3361072},{"$f":"VLOOKUP(A28,mardi!A:B,2,FALSE)","v":3734045},{"$f":"VLOOKUP(A28,mercredi!A:B,2,FALSE)","v":7304029},{"$f":"VLOOKUP(A28,jeudi!A:B,2,FALSE)","v":8178244},{"$f":"VLOOKUP(A28,vendredi!A:B,2,FALSE)","v":6683758},5336541.4285714282]
["lesinc",{"$f":"VLOOKUP(A29,samedi!A:B,2,FALSE)","v":3894819},{"$f":"VLOOKUP(A29,dimanche!A:B,2,FALSE)","v":3894819},{"$f":"VLOOKUP(A29,lundi!A:B,2,FALSE)","v":3636214},{"$f":"VLOOKUP(A29,mardi!A:B,2,FALSE)","v":1238780},{"$f":"VLOOKUP(A29,mercredi!A:B,2,FALSE)","v":991024},{"$f":"VLOOKUP(A29,jeudi!A:B,2,FALSE)","v":991024},{"$f":"VLOOKUP(A29,vendredi!A:B,2,FALSE)","v":1519428},2309444]
["gropere",{"$f":"VLOOKUP(A30,samedi!A:B,2,FALSE)","v":3097832},{"$f":"VLOOKUP(A30,dimanche!A:B,2,FALSE)","v":3097832},{"$f":"VLOOKUP(A30,lundi!A:B,2,FALSE)","v":3587150},{"$f":"VLOOKUP(A30,mardi!A:B,2,FALSE)","v":2870322},{"$f":"VLOOKUP(A30,mercredi!A:B,2,FALSE)","v":4282724},{"$f":"VLOOKUP(A30,jeudi!A:B,2,FALSE)","v":2258036},{"$f":"VLOOKUP(A30,vendredi!A:B,2,FALSE)","v":2658036},3121704.5714285714]
["Tweick",{"$f":"VLOOKUP(A31,samedi!A:B,2,FALSE)","v":2630228},{"$f":"VLOOKUP(A31,dimanche!A:B,2,FALSE)","v":2630228},{"$f":"VLOOKUP(A31,lundi!A:B,2,FALSE)","v":980417},{"$f":"VLOOKUP(A31,mardi!A:B,2,FALSE)","v":980417},{"$f":"VLOOKUP(A31,mercredi!A:B,2,FALSE)","v":8118001},{"$f":"VLOOKUP(A31,jeudi!A:B,2,FALSE)","v":1225549},{"$f":"VLOOKUP(A31,vendredi!A:B,2,FALSE)","v":1225549},2541484.1428571427]
["Doudou59",{"$f":"VLOOKUP(A32,samedi!A:B,2,FALSE)","v":2363096},{"$f":"VLOOKUP(A32,dimanche!A:B,2,FALSE)","v":2363096},{"$f":"VLOOKUP(A32,lundi!A:B,2,FALSE)","v":2361456},{"$f":"VLOOKUP(A32,mardi!A:B,2,FALSE)","v":1012341},{"$f":"VLOOKUP(A32,mercredi!A:B,2,FALSE)","v":1012341},{"$f":"VLOOKUP(A32,jeudi!A:B,2,FALSE)","v":1012341},{"$f":"VLOOKUP(A32,vendredi!A:B,2,FALSE)","v":1012341},1591001.7142857143]
["dolfijn",{"$f":"VLOOKUP(A33,samedi!A:B,2,FALSE)","v":1656365},{"$f":"VLOOKUP(A33,dimanche!A:B,2,FALSE)","v":1656365},{"$f":"VLOOKUP(A33,lundi!A:B,2,FALSE)","v":1060074},{"$f":"VLOOKUP(A33,mardi!A:B,2,FALSE)","v":831644},{"$f":"VLOOKUP(A33,mercredi!A:B,2,FALSE)","v":831644},{"$f":"VLOOKUP(A33,jeudi!A:B,2,FALSE)","v":831644},{"$f":"VLOOKUP(A33,vendredi!A:B,2,FALSE)","v":552522},1060036.857142857]
["Banania",{"$f":"VLOOKUP(A34,samedi!A:B,2,FALSE)","v":1317152},{"$f":"VLOOKUP(A34,dimanche!A:B,2,FALSE)","v":1317152},{"$f":"VLOOKUP(A34,lundi!A:B,2,FALSE)","v":1053722},{"$f":"VLOOKUP(A34,mardi!A:B,2,FALSE)","v":842978},{"$f":"VLOOKUP(A34,mercredi!A:B,2,FALSE)","v":969424},{"$f":"VLOOKUP(A34,jeudi!A:B,2,FALSE)","v":969424},{"$f":"VLOOKUP(A34,vendredi!A:B,2,FALSE)","v":6779216},1892724]
["bastien14",{"$f":"VLOOKUP(A35,samedi!A:B,2,FALSE)","v":1046335},{"$f":"VLOOKUP(A35,dimanche!A:B,2,FALSE)","v":1046335},{"$f":"VLOOKUP(A35,lundi!A:B,2,FALSE)","v":2058588},{"$f":"VLOOKUP(A35,mardi!A:B,2,FALSE)","v":1208262},{"$f":"VLOOKUP(A35,mercredi!A:B,2,FALSE)","v":1338419},{"$f":"VLOOKUP(A35,jeudi!A:B,2,FALSE)","v":1009052},{"$f":"VLOOKUP(A35,vendredi!A:B,2,FALSE)","v":1009052},1245149]
["Darksnake",{"$f":"VLOOKUP(A36,samedi!A:B,2,FALSE)","v":947520},{"$f":"VLOOKUP(A36,dimanche!A:B,2,FALSE)","v":947520},{"$f":"VLOOKUP(A36,lundi!A:B,2,FALSE)","v":947520},{"$f":"VLOOKUP(A36,mardi!A:B,2,FALSE)","v":1558016},{"$f":"VLOOKUP(A36,mercredi!A:B,2,FALSE)","v":1246413},{"$f":"VLOOKUP(A36,jeudi!A:B,2,FALSE)","v":1246413},{"$f":"VLOOKUP(A36,vendredi!A:B,2,FALSE)","v":997131},1127219]
["eliote",{"$f":"VLOOKUP(A37,samedi!A:B,2,FALSE)","v":935837},{"$f":"VLOOKUP(A37,dimanche!A:B,2,FALSE)","v":935837},{"$f":"VLOOKUP(A37,lundi!A:B,2,FALSE)","v":935837},{"$f":"VLOOKUP(A37,mardi!A:B,2,FALSE)","v":935837},{"$f":"VLOOKUP(A37,mercredi!A:B,2,FALSE)","v":486699},{"$f":"VLOOKUP(A37,jeudi!A:B,2,FALSE)","v":486699},{"$f":"VLOOKUP(A37,vendredi!A:B,2,FALSE)","v":486699},743349.28571428568]
["WakasH",{"$f":"VLOOKUP(A38,samedi!A:B,2,FALSE)","v":825035},{"$f":"VLOOKUP(A38,dimanche!A:B,2,FALSE)","v":825035},{"$f":"VLOOKUP(A38,lundi!A:B,2,FALSE)","v":825035},{"$f":"VLOOKUP(A38,mardi!A:B,2,FALSE)","v":825035},{"$f":"VLOOKUP(A38,mercredi!A:B,2,FALSE)","v":825035},{"$f":"VLOOKUP(A38,jeudi!A:B,2,FALSE)","v":45054332},{"$f":"VLOOKUP(A38,vendredi!A:B,2,FALSE)","v":11799165},8711238.8571428563]
["vipere92",{"$f":"VLOOKUP(A39,samedi!A:B,2,FALSE)","v":821057},{"$f":"VLOOKUP(A39,dimanche!A:B,2,FALSE)","v":821057},{"$f":"VLOOKUP(A39,lundi!A:B,2,FALSE)","v":821057},{"$f":"VLOOKUP(A39,mardi!A:B,2,FALSE)","v":78847248},{"$f":"VLOOKUP(A39,mercredi!A:B,2,FALSE)","v":101568620},{"$f":"VLOOKUP(A39,jeudi!A:B,2,FALSE)","v":6691624},{"$f":"VLOOKUP(A39,vendredi!A:B,2,FALSE)","v":4736782},27758206.428571429]
["Boody",{"$f":"VLOOKUP(A40,samedi!A:B,2,FALSE)","v":714883},{"$f":"VLOOKUP(A40,dimanche!A:B,2,FALSE)","v":714883},{"$f":"VLOOKUP(A40,lundi!A:B,2,FALSE)","v":714883},{"$f":"VLOOKUP(A40,mardi!A:B,2,FALSE)","v":714883},{"$f":"VLOOKUP(A40,mercredi!A:B,2,FALSE)","v":39252945},{"$f":"VLOOKUP(A40,jeudi!A:B,2,FALSE)","v":1664206},{"$f":"VLOOKUP(A40,vendredi!A:B,2,FALSE)","v":1162777},6419922.8571428573]
["nonobcd82",{"$f":"VLOOKUP(A41,samedi!A:B,2,FALSE)","v":683296},{"$f":"VLOOKUP(A41,dimanche!A:B,2,FALSE)","v":683296},{"$f":"VLOOKUP(A41,lundi!A:B,2,FALSE)","v":683296},{"$f":"VLOOKUP(A41,mardi!A:B,2,FALSE)","v":683296},{"$f":"VLOOKUP(A41,mercredi!A:B,2,FALSE)","v":683296},{"$f":"VLOOKUP(A41,jeudi!A:B,2,FALSE)","v":683296},{"$f":"VLOOKUP(A41,vendredi!A:B,2,FALSE)","v":683296},683296]
["pierrhout",{"$f":"VLOOKUP(A42,samedi!A:B,2,FALSE)","v":620935},{"$f":"VLOOKUP(A42,dimanche!A:B,2,FALSE)","v":620935},{"$f":"VLOOKUP(A42,lundi!A:B,2,FALSE)","v":620935},{"$f":"VLOOKUP(A42,mardi!A:B,2,FALSE)","v":620935},{"$f":"VLOOKUP(A42,mercredi!A:B,2,FALSE)","v":620935},{"$f":"VLOOKUP(A42,jeudi!A:B,2,FALSE)","v":620935},{"$f":"VLOOKUP(A42,vendredi!A:B,2,FALSE)","v":620935},620935]
["trezepac",{"$f":"VLOOKUP(A43,samedi!A:B,2,FALSE)","v":478976},{"$f":"VLOOKUP(A43,dimanche!A:B,2,FALSE)","v":478976},{"$f":"VLOOKUP(A43,lundi!A:B,2,FALSE)","v":478976},{"$f":"VLOOKUP(A43,mardi!A:B,2,FALSE)","v":478976},{"$f":"VLOOKUP(A43,mercredi!A:B,2,FALSE)","v":352530},{"$f":"VLOOKUP(A43,jeudi!A:B,2,FALSE)","v":352530},{"$f":"VLOOKUP(A43,vendredi!A:B,2,FALSE)","v":352530},424784.85714285716]
["wizz59780",{"$f":"VLOOKUP(A44,samedi!A:B,2,FALSE)","v":415182},{"$f":"VLOOKUP(A44,dimanche!A:B,2,FALSE)","v":415182},{"$f":"VLOOKUP(A44,lundi!A:B,2,FALSE)","v":415182},{"$f":"VLOOKUP(A44,mardi!A:B,2,FALSE)","v":415182},{"$f":"VLOOKUP(A44,mercredi!A:B,2,FALSE)","v":415182},{"$f":"VLOOKUP(A44,jeudi!A:B,2,FALSE)","v":415182},{"$f":"VLOOKUP(A44,vendredi!A:B,2,FALSE)","v":415182},415182]
["misaxsan",{"$f":"VLOOKUP(A45,samedi!A:B,2,FALSE)","v":367568},{"$f":"VLOOKUP(A45,dimanche!A:B,2,FALSE)","v":367568},{"$f":"VLOOKUP(A45,lundi!A:B,2,FALSE)","v":367568},{"$f":"VLOOKUP(A45,mardi!A:B,2,FALSE)","v":367568},{"$f":"VLOOKUP(A45,mercredi!A:B,2,FALSE)","v":367568},{"$f":"VLOOKUP(A45,jeudi!A:B,2,FALSE)","v":367568},{"$f":"VLOOKUP(A45,vendredi!A:B,2,FALSE)","v":367568},367568]
["anthony2306",{"$f":"VLOOKUP(A46,samedi!A:B,2,FALSE)","v":304172},{"$f":"VLOOKUP(A46,dimanche!A:B,2,FALSE)","v":304172},{"$f":"VLOOKUP(A46,lundi!A:B,2,FALSE)","v":304172},{"$f":"VLOOKUP(A46,mardi!A:B,2,FALSE)","v":304172},{"$f":"VLOOKUP(A46,mercredi!A:B,2,FALSE)","v":304172},{"$f":"VLOOKUP(A46,jeudi!A:B,2,FALSE)","v":304172},{"$f":"VLOOKUP(A46,vendredi!A:B,2,FALSE)","v":304172},304172]
["whiteforest",{"$f":"VLOOKUP(A47,samedi!A:B,2,FALSE)","v":268468},{"$f":"VLOOKUP(A47,dimanche!A:B,2,FALSE)","v":268468},{"$f":"VLOOKUP(A47,lundi!A:B,2,FALSE)","v":268468},{"$f":"VLOOKUP(A47,mardi!A:B,2,FALSE)","v":268468},{"$f":"VLOOKUP(A47,mercredi!A:B,2,FALSE)","v":268468},{"$f":"VLOOKUP(A47,jeudi!A:B,2,FALSE)","v":268468},{"$f":"VLOOKUP(A47,vendredi!A:B,2,FALSE)","v":268468},268468]
["elladan",{"$f":"VLOOKUP(A48,samedi!A:B,2,FALSE)","v":211067},{"$f":"VLOOKUP(A48,dimanche!A:B,2,FALSE)","v":211067},{"$f":"VLOOKUP(A48,lundi!A:B,2,FALSE)","v":211067},{"$f":"VLOOKUP(A48,mardi!A:B,2,FALSE)","v":211067},{"$f":"VLOOKUP(A48,mercredi!A:B,2,FALSE)","v":211067},{"$f":"VLOOKUP(A48,jeudi!A:B,2,FALSE)","v":211067},{"$f":"VLOOKUP(A48,vendredi!A:B,2,FALSE)","v":211067},211067]
[]
["TOTAL TDC ALLIANCE",{"$f":"SUM(B2:B48)","v":8999722542},{"$f":"SUM(C2:C48)","v":8999722542},{"$f":"SUM(D2:D48)","v":8935076770},{"$f":"SUM(E2:E48)","v":9060404344},8916508632,8973851769,8905657663,{"$f":"SUM(I2:I48)","v":8970134894.5714302}]

{"sheet":"samedi","index":3,"n_rows":47,"n_cols":4,"rows_kept":47,"cut":false,"hidden":false,"merged":[]}
["khonsou",2241820445,null,"OK"]
["tharsilla",2123998443]
["chachadu44",1535136287]
["chepa",1496016592]
["kiwi445",721431277]
["terminator3",313517929]
["Aym35",124104111]
["ygrek",63349825]
["havok1",53999038]
["Maromi",48828665]
["orev",42204618]
["Calicelame",31797785]
["kirle",27715454]
["shuo",22194850]
["Micktram",20628092]
["Darkspread",18777605]
["hbing",17423704]
["Ithaque",12629636]
["Frite",11746472]
["Blackeagle",10384350]
["Ashday",7666418]
["majokajupo",6322008]
["houdihadu59",5891342]
["filou690",5696493]
["YodaDM",4519615]
["lokiii",4274344]
["oglala",4047321]
["lesinc",3894819]
["gropere",3097832]
["Tweick",2630228]
["Doudou59",2363096]
["dolfijn",1656365]
["Banania",1317152]
["bastien14",1046335]
["Darksnake",947520]
["eliote",935837]
["WakasH",825035]
["vipere92",821057]
["Boody",714883]
["nonobcd82",683296]
["pierrhout",620935]
["trezepac",478976]
["wizz59780",415182]
["misaxsan",367568]
["anthony2306",304172]
["whiteforest",268468]
["elladan",211067]

{"sheet":"dimanche","index":4,"n_rows":47,"n_cols":4,"rows_kept":47,"cut":false,"hidden":false,"merged":[]}
["khonsou",2241820445,null,"OK"]
["tharsilla",2123998443]
["chachadu44",1535136287]
["chepa",1496016592]
["kiwi445",721431277]
["terminator3",313517929]
["Aym35",124104111]
["ygrek",63349825]
["havok1",53999038]
["Maromi",48828665]
["orev",42204618]
["Calicelame",31797785]
["kirle",27715454]
["shuo",22194850]
["Micktram",20628092]
["Darkspread",18777605]
["hbing",17423704]
["Ithaque",12629636]
["Frite",11746472]
["Blackeagle",10384350]
["Ashday",7666418]
["majokajupo",6322008]
["houdihadu59",5891342]
["filou690",5696493]
["YodaDM",4519615]
["lokiii",4274344]
["oglala",4047321]
["lesinc",3894819]
["gropere",3097832]
["Tweick",2630228]
["Doudou59",2363096]
["dolfijn",1656365]
["Banania",1317152]
["bastien14",1046335]
["Darksnake",947520]
["eliote",935837]
["WakasH",825035]
["vipere92",821057]
["Boody",714883]
["nonobcd82",683296]
["pierrhout",620935]
["trezepac",478976]
["wizz59780",415182]
["misaxsan",367568]
["anthony2306",304172]
["whiteforest",268468]
["elladan",211067]

{"sheet":"lundi","index":5,"n_rows":47,"n_cols":4,"rows_kept":47,"cut":false,"hidden":false,"merged":[]}
["khonsou",2241766155,null,"OK"]
["tharsilla",2123998443]
["chachadu44",1535136287]
["chepa",1496016592]
["kiwi445",606482162]
["terminator3",386422246]
["Aym35",145492628]
["ygrek",75203758]
["hbing",33246541]
["Calicelame",31797785]
["havok1",30675967]
["kirle",27715454]
["Darkspread",27634968]
["Maromi",26970712]
["shuo",22194850]
["orev",17834002]
["Ithaque",16484668]
["Micktram",14666640]
["Frite",10492728]
["houdihadu59",8633380]
["filou690",7323554]
["lokiii",7049153]
["majokajupo",6494003]
["Ashday",4333324]
["Blackeagle",3982205]
["lesinc",3636214]
["gropere",3587150]
["oglala",3361072]
["Doudou59",2361456]
["bastien14",2058588]
["YodaDM",1335876]
["dolfijn",1060074]
["Banania",1053722]
["Tweick",980417]
["Darksnake",947520]
["eliote",935837]
["WakasH",825035]
["vipere92",821057]
["Boody",714883]
["nonobcd82",683296]
["pierrhout",620935]
["trezepac",478976]
["wizz59780",415182]
["misaxsan",367568]
["anthony2306",304172]
["whiteforest",268468]
["elladan",211067]

{"sheet":"mardi","index":6,"n_rows":47,"n_cols":4,"rows_kept":47,"cut":false,"hidden":false,"merged":[]}
["khonsou",2368497217,null,"ok"]
["tharsilla",2123998443]
["chachadu44",1535136287]
["chepa",1499805343]
["kiwi445",606482162]
["terminator3",292309324]
["Aym35",128675213]
["ygrek",120374182]
["vipere92",78847248]
["kirle",60287573]
["Maromi",40044164]
["shuo",31353251]
["Calicelame",21445756]
["havok1",20956892]
["hbing",17022230]
["Darkspread",14561516]
["filou690",14480874]
["Micktram",13343541]
["orev",10514279]
["Ithaque",10373867]
["Frite",8859380]
["houdihadu59",5055189]
["lokiii",4852199]
["Ashday",4184902]
["oglala",3734045]
["majokajupo",3322719]
["YodaDM",2969757]
["gropere",2870322]
["Blackeagle",2548612]
["Darksnake",1558016]
["lesinc",1238780]
["bastien14",1208262]
["Doudou59",1012341]
["Tweick",980417]
["eliote",935837]
["Banania",842978]
["dolfijn",831644]
["WakasH",825035]
["Boody",714883]
["nonobcd82",683296]
["pierrhout",620935]
["trezepac",478976]
["wizz59780",415182]
["misaxsan",367568]
["anthony2306",304172]
["whiteforest",268468]
["elladan",211067]

{"sheet":"mercredi","index":7,"n_rows":47,"n_cols":4,"rows_kept":47,"cut":false,"hidden":false,"merged":[]}
["khonsou",2366640927,null,"ok"]
["tharsilla",2123998443]
["chachadu44",1535136287]
["chepa",1426130474]
["kiwi445",499773021]
["terminator3",299968629]
["Aym35",120362051]
["vipere92",101568620]
["ygrek",54746388]
["hbing",54745470]
["Maromi",51166071]
["kirle",50287573]
["Boody",39252945]
["Calicelame",27386607]
["havok1",20956892]
["shuo",20231344]
["filou690",17667032]
["Ithaque",15260745]
["Darkspread",14561516]
["orev",11683360]
["Tweick",8118001]
["Micktram",8084785]
["Frite",7383133]
["oglala",7304029]
["lokiii",4852199]
["gropere",4282724]
["houdihadu59",3824135]
["Ashday",3347922]
["Blackeagle",2548612]
["majokajupo",2445522]
["YodaDM",1868958]
["bastien14",1338419]
["Darksnake",1246413]
["Doudou59",1012341]
["lesinc",991024]
["Banania",969424]
["dolfijn",831644]
["WakasH",825035]
["nonobcd82",683296]
["pierrhout",620935]
["eliote",486699]
["wizz59780",415182]
["misaxsan",367568]
["trezepac",352530]
["anthony2306",304172]
["whiteforest",268468]
["elladan",211067]

{"sheet":"jeudi","index":8,"n_rows":47,"n_cols":4,"rows_kept":47,"cut":false,"hidden":false,"merged":[]}
["khonsou",2378065321,null,"ok"]
["tharsilla",2123998443]
["chachadu44",1535136287]
["chepa",1406300213]
["kiwi445",484422052]
["terminator3",339326374]
["Aym35",167726873]
["hbing",72272433]
["ygrek",70249467]
["Maromi",51166071]
["kirle",50287573]
["WakasH",45054332]
["Calicelame",30537963]
["filou690",26280887]
["orev",25181469]
["Ashday",24021441]
["havok1",20956892]
["shuo",20231344]
["Frite",16770561]
["Ithaque",15116882]
["Micktram",13947813]
["Darkspread",9319371]
["oglala",8178244]
["vipere92",6691624]
["houdihadu59",5563928]
["lokiii",4852199]
["majokajupo",3370258]
["gropere",2258036]
["Blackeagle",2038890]
["YodaDM",1868958]
["Boody",1664206]
["Darksnake",1246413]
["Tweick",1225549]
["Doudou59",1012341]
["bastien14",1009052]
["lesinc",991024]
["Banania",969424]
["dolfijn",831644]
["nonobcd82",683296]
["pierrhout",620935]
["eliote",486699]
["wizz59780",415182]
["misaxsan",367568]
["trezepac",352530]
["anthony2306",304172]
["whiteforest",268468]
["elladan",211067]

{"sheet":"vendredi","index":9,"n_rows":47,"n_cols":2,"rows_kept":47,"cut":false,"hidden":false,"merged":[]}
["khonsou",2296405921]
["tharsilla",2123998443]
["chachadu44",1535136287]
["chepa",1413555715]
["kiwi445",484422052]
["terminator3",339326374]
["Aym35",167726873]
["ygrek",87465392]
["hbing",68823701]
["Maromi",51166071]
["kirle",50287573]
["Ashday",39065138]
["orev",31558957]
["Calicelame",30537963]
["filou690",29230678]
["havok1",20956892]
["shuo",20231344]
["Micktram",16936785]
["Frite",13416449]
["Ithaque",12093506]
["WakasH",11799165]
["Darkspread",9319371]
["Banania",6779216]
["oglala",6683758]
["houdihadu59",6237979]
["majokajupo",5152478]
["lokiii",4852199]
["vipere92",4736782]
["gropere",2658036]
["Blackeagle",2038890]
["YodaDM",1868958]
["lesinc",1519428]
["Tweick",1225549]
["Boody",1162777]
["Doudou59",1012341]
["bastien14",1009052]
["Darksnake",997131]
["nonobcd82",683296]
["pierrhout",620935]
["dolfijn",552522]
["eliote",486699]
["wizz59780",415182]
["misaxsan",367568]
["trezepac",352530]
["anthony2306",304172]
["whiteforest",268468]
["elladan",211067]

{"sheet":"TDP","index":10,"n_rows":50,"n_cols":2,"rows_kept":50,"cut":false,"hidden":false,"merged":[]}
["trezepac",3.8E-3]
["tharsilla",5.1000000000000004E-3]
["chepa",6.0000000000000001E-3]
["khonsou",5.1000000000000004E-3]
["chachadu44",8.6E-3]
["kiwi445",1.06E-2]
["kirle",1.18E-2]
["hbing",0.02]
["orev",1.18E-2]
["boody",4.0000000000000001E-3]
["whiteforest",2.47E-2]
["darkspread",1.06E-2]
["ithaque",1.6199999999999999E-2]
["ashday",2.47E-2]
["havok1",8.6E-3]
["lokiii",2.7400000000000001E-2]
["maromi",1.18E-2]
["oglala",1.3100000000000001E-2]
["gropere",5.0000000000000001E-3]
["houdihadu59",5.0000000000000001E-3]
["filou690",0.02]
["blackeagle",1.46E-2]
["Ygrek",7.7000000000000002E-3]
["Frite",3.0499999999999999E-2]
["misaxsan",4.6399999999999997E-2]
["eliote",2.2200000000000001E-2]
["YodaDM",9.5999999999999992E-3]
["Aym35",1.46E-2]
["doudou59",1.6199999999999999E-2]
["Calicelame",2.0999999999999999E-3]
["Micktram",2.0999999999999999E-3]
["pierrhout",2.7400000000000001E-2]
["anthony2306",0.01]
["nonobcd82",2.47E-2]
["wizz59780",2.47E-2]
["Wakash",7.7000000000000002E-3]
["lesinc",8.6E-3]
["dolfijn",7.0000000000000001E-3]
["Tweick",5.1000000000000004E-3]
["vipere92",7.0000000000000001E-3]
["majokajupo",1.06E-2]
["Banania",2.2200000000000001E-2]
["Darksnake",2.7400000000000001E-2]
["shuo",1.46E-2]
["terminator3",1.06E-2]
["elladan",0.01]
["bastien14",0.01]
["TOTAUX",{"$f":"SUM(B1:B47)","v":0.64750000000000008}]
["nb membres",46]
["tdp moyen",{"$f":"B48/B49","v":1.407608695652174E-2}]

{"sheet":"Importation","index":11,"n_rows":46,"n_cols":2,"rows_kept":46,"cut":false,"hidden":false,"merged":[]}
["khonsou",2596985489]
["tharsilla",2399203488]
["chachadu44",1846705716]
["chepa",1222393063]
["trezepac",809059529]
["alx02",641180757]
["aditi",629482574]
["terminator3",527026406]
["kiwi445",234957796]
["Aym35",96827039]
["Maromi",81005854]
["WakasH",51749468]
["bastien14",37327967]
["Ashday",31930430]
["Darkspread",25762387]
["havok1",24314347]
["Micktram",20561468]
["lesinc",18223420]
["Boody",15081818]
["majokajupo",14744173]
["hbing",14393366]
["hiha",10790912]
["Tweick",8346586]
["filou690",8268664]
["Doudou59",4506835]
["Blackeagle",4111416]
["houdihadu59",3988867]
["guigui9256",3951855]
["Calicelame",3252019]
["orev",2460045]
["YodaDM",1461070]
["shuo",1042916]
["oglala",1036982]
["Ithaque",852699]
["Banania",827520]
["Frite",811336]
["Darksnake",756296]
["bibil",720505]
["pierrhout",648495]
["kirle",628454]
["vipere92",474645]
["eliote",339360]
["misaxsan",307568]
["anthony2306",304172]
["whiteforest",268468]
["elladan",211067]