{"text_format":"1","workbook":"xlsx","n_sheets":11,"sheets":["Mode d'emploi","Fiches des membres étincellants","Classement Général","L'Etincelle Française","Nos voisins européens","La C1 avec Ford et Playstation","Analyse LE 2015","Les paris avec Bwin","L'analyse de Pierre Meneze","Autres articles","Photos"],"not_rendered":{"charts":6,"images":55,"macros":1,"external_links":0,"defined_names":0,"comments":1,"pivot_tables":0},"unopened":[],"bounds":{"document_bytes":16777216,"sheet_cells":100000,"rows_first":2000,"rows_last":500,"rows_between":2000,"halvings":0,"cell_chars":16384,"cell_head_chars":4096},"cells_cut":0,"cells_raw":0,"read":"whole","date_system":"1900"}

{"sheet":"Mode d'emploi","index":0,"n_rows":80,"n_cols":2,"rows_kept":80,"cut":false,"hidden":false,"merged":[[4,1,29,1],[0,0,1048575,0],[32,1,54,1],[57,1,77,1]]}
[null,"Mode d'emploi du \"Tableur Etincelant\""]
[null,"A la fin de chaque journée de championnat:"]
[null,"1/  Remplir la partie \"Réalité\" en faisant dérouler les listes de chaque case"]
[null,"Pour l'onglet \"L'étincelle Française\"                     Pour celui \"de nos voisins européens\"        et si nécéssaire pour l'onglet \"La C1 avec Ford et Playstation\""]
[]
[]
[]
[]
[]
[]
[]
[]
[]
[]
[]
[]
[]
[]
[]
[]
[]
[]
[]
[]
[]
[]
[]
[]
[]
[]
[]
[null,"2/ Reporter les résultats trouvés dans les tableaux récapitulatifs pour la France et les championnats étrangers. Les graphiques s'effectueront automatiquement. Attention à reporter les données obtenues dans la case correspondant à la bonne journée!"]
[]
[]
[]
[]
[]
[]
[]
[]
[]
[]
[]
[]
[]
[]
[]
[]
[]
[]
[]
[]
[]
[]
[]
[]
[null,"3/   Dernière étape. Dans l'onglet \"Classement général\", les scores ont été calculés automatiquement. Il faut cependant inscrire dans le tableau la position de chaque candidat au classement afin de générer le dernier graphique"]
[]
[]
[]
[]
[]
[]
[]
[]
[]
[]
[]
[]
[]
[]
[]
[]
[]
[]
[]
[]
[]
[null,"Attention! Après chaque modification, le sauvegarder et l'envoyer à jemisson@ligueetincelle.com et martin@ligueetincelle.com"]
[null,"Les informations concernant les paris seront également mises à jour après chaque session dans l'onglet \"les paris avec bwin\""]

{"sheet":"Fiches des membres étincellants","index":1,"n_rows":73,"n_cols":49,"rows_kept":73,"cut":false,"hidden":false,"merged":[[71,4,71,5],[42,3,42,4],[45,4,45,5],[53,1,53,2],[55,3,55,4],[43,3,43,4],[56,3,56,4],[69,3,69,4],[66,1,66,2],[68,3,68,4],[1,1,1,2],[3,3,3,4],[6,4,6,5],[29,3,29,4],[19,4,19,5],[16,3,16,4],[40,1,40,2],[4,3,4,4],[17,3,17,4],[27,1,27,2],[14,1,14,2],[32,4,32,5],[30,3,30,4]]}
[]
[null,"ADDA Jemisson :"]
[]
[null,null,null,"Nombre de participations :",null,6]
[null,null,null,"Première participation :",null,"2008/2009"]
[]
[null,null,null,"Palmarès :","Vainqueur de la Ligue Etincelle :",null,"2 (2009, 2014)"]
[null,null,null,null,"Vainqueur du Trophée Maryse Burgot :",null,"1 (2014)",null,null,null,null,null,null,null,null,null,null,null,null,null,null,null,null,null,null,null,null,null,null,null,null,null,null,null,null,null,null,null,null,null,null,null,"j","m","n","g","a","c"]
[null,null,null,null,"Vainqueur du Trophée Fiorèse :",null,"2 (2010, 2011)",null,null,null,null,null,null,null,null,null,null,null,null,null,null,null,null,null,null,null,null,null,null,null,null,null,null,null,null,null,null,null,null,null,null,null,1,2,null,null,null,null,2009]
[null,null,null,null,null,null,null,null,null,null,null,null,null,null,null,null,null,null,null,null,null,null,null,null,null,null,null,null,null,null,null,null,null,null,null,null,null,null,null,null,null,null,2,1,null,null,null,null,2010]
[null,null,null,null,null,null,null,null,null,null,null,null,null,null,null,null,null,null,null,null,null,null,null,null,null,null,null,null,null,null,null,null,null,null,null,null,null,null,null,null,null,null,2,1,null,null,null,null,2011]
[null,null,null,null,null,null,null,null,null,null,null,null,null,null,null,null,null,null,null,null,null,null,null,null,null,null,null,null,null,null,null,null,null,null,null,null,null,null,null,null,null,null,3,2,4,1,null,null,2012]
[null,null,null,null,null,null,null,null,null,null,null,null,null,null,null,null,null,null,null,null,null,null,null,null,null,null,null,null,null,null,null,null,null,null,null,null,null,null,null,null,null,null,3,2,1,4,5,null,2013]
[null,null,null,null,null,null,null,null,null,null,null,null,null,null,null,null,null,null,null,null,null,null,null,null,null,null,null,null,null,null,null,null,null,null,null,null,null,null,null,null,null,null,1,5,4,2,6,3,2014]
[null,"CHARON Nathan :",null,null,null,null,null,null,null,null,null,null,null,null,null,null,null,null,null,null,null,null,null,null,null,null,null,null,null,null,null,null,null,null,null,null,null,null,null,null,null,null,7,7,7,7,7,7,2015]
[]
[null,null,null,"Nombre de participations :",null,3,null,null,null,null,null,null,null,null,null,null,null,null,null,null,null,null,null,null,null,null,null,null,null,null,null,null,null,null,null,null,null,null,null,null,null,null,2,1,null,null,null,null,2011]
[null,null,null,"Première participation :",null,"2011/2012",null,null,null,null,null,null,null,null,null,null,null,null,null,null,null,null,null,null,null,null,null,null,null,null,null,null,null,null,null,null,null,null,null,null,null,null,5,2,1,4,3,null,2012]
[null,null,null,null,null,null,null,null,null,null,null,null,null,null,null,null,null,null,null,null,null,null,null,null,null,null,null,null,null,null,null,null,null,null,null,null,null,null,null,null,null,null,1,3,2,5,4,6,2014]
[null,null,null,"Palmarès :","Vainqueur de la Ligue Etincelle :",null,"1 (2013)",null,null,null,null,null,null,null,null,null,null,null,null,null,null,null,null,null,null,null,null,null,null,null,null,null,null,null,null,null,null,null,null,null,null,null,7,7,7,7,7,7,2016]
[null,null,null,null,"Vainqueur du Trophée Maryse Burgot :",null,"1 (2012)"]
[null,null,null,null,"Vainqueur du Trophée Fiorèse :",null,"1 (2012)"]
[]
[]
[]
[]
[]
[null,"DE COLOMBEL Martin :"]
[]
[null,null,null,"Nombre de participations :",null,6]
[null,null,null,"Première participation :",null,"2008/2009"]
[]
[null,null,null,"Palmarès :","Vainqueur de la Ligue Etincelle :",null,"2 (2010, 2011)"]
[null,null,null,null,"Vainqueur du Trophée Maryse Burgot :",null,"1 (2011)"]
[null,null,null,null,"Vainqueur du Trophée Fiorèse :",null,"1 (2009)"]
[]
[]
[]
[]
[]
[null,"DEMOTTE Antoine :"]
[]
[null,null,null,"Nombre de participations :",null,2]
[null,null,null,"Première participation :",null,"2012/2013"]
[]
[null,null,null,"Palmarès :","Vainqueur du Trophée Fiorèse :",null,"2 (2013, 2014)"]
[]
[]
[]
[]
[]
[]
[]
[null,"JEHANNO Clément :"]
[]
[null,null,null,"Nombre de participations :",null,1]
[null,null,null,"Première participation :",null,"2013/2014"]
[]
[null,null,null,"Palmarès :","Néant"]
[]
[]
[]
[]
[]
[]
[]
[null,"MARCHETTI Gianni :"]
[]
[null,null,null,"Nombre de participations :",null,3]
[null,null,null,"Première participation :",null,"2011/2012"]
[]
[null,null,null,"Palmarès :","Vainqueur de la Ligue Etincelle :",null,"1 (2012)"]
[null,null,null,null,"Finaliste de la Ligue Etincelle :",null,"1 (2014)"]

{"sheet":"Classement Général","index":2,"n_rows":21,"n_cols":7,"rows_kept":21,"cut":false,"hidden":false,"merged":[[0,0,0,16383],[7,1,7,6]]}
[]
[null,"Antoine","Clément","Gianni","Jemisson","Martin","Nathan"]
["France",{"$f":"'L''Etincelle Française'!B39","v":55},{"$f":"'L''Etincelle Française'!C39","v":44},{"$f":"'L''Etincelle Française'!D39","v":71},{"$f":"'L''Etincelle Française'!E39","v":54},{"$f":"'L''Etincelle Française'!F39","v":67},{"$f":"'L''Etincelle Française'!G39","v":51}]
["Etranger",{"$f":"'Nos voisins européens'!$C$28","v":49},{"$f":"'Nos voisins européens'!D28","v":64},{"$f":"'Nos voisins européens'!E28","v":34},{"$f":"'Nos voisins européens'!F28","v":47},{"$f":"'Nos voisins européens'!G28","v":52},{"$f":"'Nos voisins européens'!H28","v":64}]
["Europe",{"$f":"'La C1 avec Ford et Playstation'!C40+'La C1 avec Ford et Playstation'!C47","v":0},{"$f":"'La C1 avec Ford et Playstation'!D40+'La C1 avec Ford et Playstation'!D47","v":0},{"$f":"'La C1 avec Ford et Playstation'!E40+'La C1 avec Ford et Playstation'!E47","v":0},{"$f":"'La C1 avec Ford et Playstation'!F40+'La C1 avec Ford et Playstation'!F47","v":0},{"$f":"'La C1 avec Ford et Playstation'!G40+'La C1 avec Ford et Playstation'!G47","v":0},{"$f":"'La C1 avec Ford et Playstation'!H40+'La C1 avec Ford et Playstation'!H47","v":0}]
["TOTAL",{"$f":"SUM(B3:B5)","v":104},108,105,101,119,115]
[]
[null,"Evolution des Positions"]
[null,"Antoine","Clément","Gianni","Jemisson","Martin","Nathan"]
["2014-08-31",3,4,5,1,6,2]
["2014-09-15",6,4,3,1,5,2]
["2014-09-21",4,2,5,3,6,1]
["2014-09-25",5,1,4,2,6,3]
["2014-09-29",6,2,5,3,4,1]
["2014-10-05",6,4,3,1,5,2]
["2014-10-20",6,5,4,1,3,2]
["2014-10-27",4,6,2,1,3,5]
["03/11/2014",5,3,4,6,2,1]
["11/11/2014",4,3,5,6,1,2]
["24/11/2014",3,5,2,6,1,4]
["01/12/2014",5,3,4,6,1,2]

{"sheet":"L'Etincelle Française","index":3,"n_rows":86,"n_cols":35,"rows_kept":86,"cut":false,"hidden":false,"merged":[[0,0,8,16383],[24,0,26,0],[11,7,13,7],[11,0,13,0],[14,0,17,0],[14,7,17,7],[42,1,42,2],[42,3,42,4],[27,7,28,7],[18,0,23,0],[41,0,41,8],[32,0,34,0],[32,7,34,7],[27,0,28,0],[29,7,30,7],[27,8,28,8],[18,7,23,7],[24,7,26,7],[29,0,30,0],[29,8,30,8]]}
[]
[]
[]
[]
[]
[]
[]
[]
[]
["J11","Antoine","Clément","Gianni","Jemisson","Martin","Nathan","Points","Réalité",null,null,null,null,null,null,null,null,null,null,null,null,null,null,null,null,null,"Antoine","Clément","gianni","jems","martin","nathan"]
["1er","PSG","PSG","PSG","PSG","PSG","PSG","35pts","Marseille",null,null,null,null,null,null,null,null,null,null,null,null,null,null,null,"Toulouse","Dijon",{"$f":"IF(B11=I11,35,0)","v":0},{"$f":"IF(C11=I11,35,0)","v":0},{"$f":"IF(D11=I11,35,0)","v":0},{"$f":"IF(E11=I11,35,0)","v":0},{"$f":"IF(F11=I11,35,0)","v":0},{"$f":"IF(G11=I11,35,0)","v":0}]
["Qualifies C1","PSG","PSG","PSG","PSG","PSG","PSG","13pts par équipe","Marseille",null,null,null,null,null,null,null,null,null,null,null,null,null,null,null,"Lens","GFC Ajaccio",{"$f":"IF(OR(I12=B$12,I12=B$13,I12=B$14),13,0)","v":0},{"$f":"IF(OR(I12=C$12,I12=C$13,I12=C$14),13,0)","v":0},{"$f":"IF(OR(I12=D$12,I12=D$13,I12=D$14),13,0)","v":13},{"$f":"IF(OR(I12=E$12,I12=E$13,I12=E$14),13,0)","v":0},{"$f":"IF(OR(I12=F$12,I12=F$13,I12=F$14),13,0)","v":13},{"$f":"IF(OR(I12=G$12,I12=G$13,I12=G$14),13,0)","v":0},null,null,"Gignac"]
[null,"Lyon ","Bordeaux","Monaco","Monaco","Marseille","Saint-Etienne",null,"PSG",null,null,null,null,null,null,null,null,null,null,null,null,null,null,null,"PSG","Troyes",{"$f":"IF(OR(I13=B$12,I13=B$13,I13=B$14),13,0)","v":13},{"$f":"IF(OR(I13=C$12,I13=C$13,I13=C$14),13,0)","v":13},{"$f":"IF(OR(I13=D$12,I13=D$13,I13=D$14),13,0)","v":13},{"$f":"IF(OR(I13=E$12,I13=E$13,I13=E$14),13,0)","v":13},{"$f":"IF(OR(I13=F$12,I13=F$13,I13=F$14),13,0)","v":13},{"$f":"IF(OR(I13=G$12,I13=G$13,I13=G$14),13,0)","v":13},null,null,"Ben Yedder"]
[null,"Monaco","Lille","Marseille","Saint-Etienne","Monaco","Lille",null,"Lyon ",null,null,null,null,null,null,null,null,null,null,null,null,null,null,null,"Bordeaux","Brest",{"$f":"IF(OR(I14=B$12,I14=B$13,I14=B$14),13,0)","v":13},{"$f":"IF(OR(I14=C$12,I14=C$13,I14=C$14),13,0)","v":0},{"$f":"IF(OR(I14=D$12,I14=D$13,I14=D$14),13,0)","v":0},{"$f":"IF(OR(I14=E$12,I14=E$13,I14=E$14),13,0)","v":0},{"$f":"IF(OR(I14=F$12,I14=F$13,I14=F$14),13,0)","v":0},{"$f":"IF(OR(I14=G$12,I14=G$13,I14=G$14),13,0)","v":0},null,null,"Ibrahimovic"]
["4 premiers","PSG","PSG","PSG","PSG","PSG","PSG","8pts par équipe","Marseille",null,null,null,null,null,null,null,null,null,null,null,null,null,null,null,"Caen","Nancy",{"$f":"IF(OR(I15=B$15,I15=B$16,I15=B$17,I15=B$18),8,0)","v":0},{"$f":"IF(OR(I15=C$15,I15=C$16,I15=C$17,I15=C$18),8,0)","v":0},{"$f":"IF(OR(I15=D$15,I15=D$16,I15=D$17,I15=D$18),8,0)","v":8},{"$f":"IF(OR(I15=E$15,I15=E$16,I15=E$17,I15=E$18),8,0)","v":8},{"$f":"IF(OR(I15=F$15,I15=F$16,I15=F$17,I15=F$18),8,0)","v":8},{"$f":"IF(OR(I15=G$15,I15=G$16,I15=G$17,I15=G$18),8,0)","v":0},null,null,"Berbatov"]
[null,"Lyon ","Bordeaux","Monaco","Monaco","Marseille","Saint-Etienne",null,"PSG",null,null,null,null,null,null,null,null,null,null,null,null,null,null,null,"Lorient","Le Havre",{"$f":"IF(OR(I16=B$15,I16=B$16,I16=B$17,I16=B$18),8,0)","v":8},{"$f":"IF(OR(I16=C$15,I16=C$16,I16=C$17,I16=C$18),8,0)","v":8},{"$f":"IF(OR(I16=D$15,I16=D$16,I16=D$17,I16=D$18),8,0)","v":8},{"$f":"IF(OR(I16=E$15,I16=E$16,I16=E$17,I16=E$18),8,0)","v":8},{"$f":"IF(OR(I16=F$15,I16=F$16,I16=F$17,I16=F$18),8,0)","v":8},{"$f":"IF(OR(I16=G$15,I16=G$16,I16=G$17,I16=G$18),8,0)","v":8},null,null,"Cavani"]
[null,"Monaco","Lille","Marseille","Saint-Etienne","Monaco","Bordeaux",null,"Lyon ",null,null,null,null,null,null,null,null,null,null,null,null,null,null,null,"Evian TG","Sochaux",{"$f":"IF(OR(I17=B$15,I17=B$16,I17=B$17,I17=B$18),8,0)","v":8},{"$f":"IF(OR(I17=C$15,I17=C$16,I17=C$17,I17=C$18),8,0)","v":0},{"$f":"IF(OR(I17=D$15,I17=I$16,J17=D$17,I17=D$18),8,0)","v":0},{"$f":"IF(OR(I17=E$15,I17=E$16,I17=E$17,I17=E$18),8,0)","v":0},{"$f":"IF(OR(I17=F$15,I17=F$16,I17=F$17,I17=F$18),8,0)","v":0},{"$f":"IF(OR(I17=G$15,I17=G$16,I17=G$17,I17=G$18),8,0)","v":0},null,null,"Lacazette"]
[null,"Lille","Monaco","Lille","Marseille","Saint-Etienne","Monaco",null,"Bordeaux",null,null,null,null,null,null,null,null,null,null,null,null,null,null,null,"Nantes","Angers",{"$f":"IF(OR(I18=B$15,I18=B$16,I18=B$17,I18=B$18),8,0)","v":0},{"$f":"IF(OR(I18=C$15,I18=C$16,I18=C$17,I18=C$18),8,0)","v":8},{"$f":"IF(OR(I18=D$15,I18=D$16,I18=D$17,I18=D$18),8,0)","v":0},{"$f":"IF(OR(I18=E$15,I18=E$16,I18=E$17,I18=E$18),8,0)","v":0},{"$f":"IF(OR(I18=F$15,I18=F$16,I18=F$17,I18=F$18),8,0)","v":0},{"$f":"IF(OR(I18=G$15,I18=G$16,I18=G$17,I18=G$18),8,0)","v":8},null,null,"Verratti"]
["5 à 10","Saint-Etienne","Marseille","Saint-Etienne","Bordeaux","Saint-Etienne","Marseille","4 pts par équipe","Nantes",null,null,null,null,null,null,null,null,null,null,null,null,null,null,null,"Reims","Niort",{"$f":"IF(OR(I19=B$19,I19=B$20,I19=B$21,I19=B$22,I19=B$23,I19=B$24),4,0)","v":0},{"$f":"IF(OR(I19=C$19,I19=C$20,I19=C$21,I19=C$22,I19=C$23,I19=C$24),4,0)","v":0},{"$f":"IF(OR(I19=D$19,I19=D$20,I19=D$21,I19=D$22,I19=D$23,I19=D$24),4,0)","v":0},{"$f":"IF(OR(I19=E$19,I19=E$20,I19=E$21,I19=E$22,I19=E$23,I19=E$24),4,0)","v":4},{"$f":"IF(OR(I19=F$19,I19=F$20,I19=F$21,I19=F$22,I19=F$23,I19=F$24),4,0)","v":0},{"$f":"IF(OR(I19=G$19,I19=G$20,I19=G$21,I19=G$22,I19=G$23,I19=G$24),4,0)","v":4},null,null,"Matuidi"]
[null,"Rennes","Nice","Bordeaux","Lille","Lyon ","Rennes",null,"Saint-Etienne",null,null,null,null,null,null,null,null,null,null,null,null,null,null,null,"Montpellier","Nîmes",4,4,4,0,4,0,null,null,"Lucas"]
[null,"Marseille","Rennes","Lyon ","Nantes","Lille","Lorient",null,"Rennes",null,null,null,null,null,null,null,null,null,null,null,null,null,null,null,"Rennes","laval",4,4,4,0,4,4,null,null,"Pastore"]
[null,"Bordeaux","Saint-Etienne","Toulouse","Lyon ","Rennes","Montpellier",null,"Monaco",null,null,null,null,null,null,null,null,null,null,null,null,null,null,null,"Lille","Auxerre",0,0,0,0,0,0,null,null,"Moutinho"]
[null,"Montpellier","Lyon ","Rennes","Toulouse","Bordeaux","Toulouse",null,"Montpellier",null,null,null,null,null,null,null,null,null,null,null,null,null,null,null,"Saint-Etienne","Orléans",4,0,4,4,0,4,null,null,"Doucoure"]
[null,"Toulouse",null,"Montpellier","Montpellier","Toulouse","Nantes",null,"Reims",null,null,null,null,null,null,null,null,null,null,null,null,null,null,null,"Metz","AC Ajaccio",0,0,0,0,0,0,null,null,"Mendy"]
["Relégués","Reims","Guingamp","Lens","Evian TG","Evian TG","Evian TG","7pts par équipe","Guingamp",null,null,null,null,null,null,null,null,null,null,null,null,null,null,null,"Guingamp","Créteil",{"$f":"IF(OR(I25=B$25,I25=B$26,I25=B$27),7,0)","v":0},{"$f":"IF(OR(I25=C$25,I25=C$26,I25=C$27),7,0)","v":7},{"$f":"IF(OR(I25=D$25,I25=D$26,I25=D$27),7,0)","v":0},{"$f":"IF(OR(I25=E$25,I25=E$26,I25=E$27),7,0)","v":7},{"$f":"IF(OR(I25=F$25,I25=F$26,I25=F$27),7,0)","v":7},{"$f":"IF(OR(I25=G$25,I25=G$26,I25=G$27),7,0)","v":0},null,null,"N'jie"]
[null,"Metz","Reims","Evian TG","Reims","Reims","Reims",null,"Lens",null,null,null,null,null,null,null,null,null,null,null,null,null,null,null,"Nice","Valenciennes",{"$f":"IF(OR(I26=B$25,I26=B$26,I26=B$27),7,0)","v":0},{"$f":"IF(OR(I26=C$25,I26=C$26,I26=C$27),7,0)","v":0},{"$f":"IF(OR(I26=D$25,I26=D$26,26=D$27),7,0)","v":7},{"$f":"IF(OR(I26=E$25,I26=E$26,I26=E$27),7,0)","v":0},{"$f":"IF(OR(I26=F$25,I26=F$26,I26=F$27),7,0)","v":0},{"$f":"IF(OR(I26=G$25,I26=G$26,I26=G$27),7,0)","v":0},null,null,"Ferri"]
[null,null,"Evian TG","Metz","Guingamp","Guingamp","Nice",null,"Bastia",null,null,null,null,null,null,null,null,null,null,null,null,null,null,null,"Lyon ","Clermont",{"$f":"IF(OR(I27=B$25,I27=B$26,I27=B$27),7,0)","v":0},{"$f":"IF(OR(I27=C$25,I27=C$26,I27=C$27),7,0)","v":0},{"$f":"IF(OR(I27=D$25,I27=D$26,I27=D$27),7,0)","v":0},{"$f":"IF(OR(I27=E$25,I27=E$26,I27=E$27),7,0)","v":0},{"$f":"IF(OR(I27=F$25,I27=F$26,I27=F$27),7,0)","v":0},{"$f":"IF(OR(I27=G$25,I27=G$26,I27=G$27),7,0)","v":0},null,null,"Mendy"]
["Passeur","Verratti","Ibrahimovic","Pastore","Ibrahimovic","Ibrahimovic","Ibrahimovic","1pt","Payet",null,null,null,null,null,null,null,null,null,null,null,null,null,null,null,null,"Chateauroux",{"$f":"IF(OR(I28=B28,I28=B29),1,0)","v":0},{"$f":"IF(OR(I28=C28,I28=C29),1,0)","v":0},{"$f":"IF(OR(I28=D28,I28=D29),1,0)","v":0},{"$f":"IF(OR(I28=E28,I28=E29),1,0)","v":0},{"$f":"IF(OR(I28=F28,I28=F29),1,0)","v":0},{"$f":"IF(OR(I28=G28,I28=G29),1,0)","v":0}]
[null,"Matuidi","Lucas","Verratti","Pastore","Pastore","Moutinho",null,null,null,null,null,null,null,null,null,null,null,null,null,null,null,null,null,null,"Tours",{"$f":"IF(OR(I30=B30,I30=B31),4,0)","v":4},{"$f":"IF(OR(I30=C30,I30=C31),4,0)","v":0},{"$f":"IF(OR(I30=D30,I30=D31),4,0)","v":0},{"$f":"IF(OR(I30=E30,I30=E31),4,0)","v":0},{"$f":"IF(OR(I30=F30,I30=F31),4,0)","v":0},{"$f":"IF(OR(I30=G30,I30=G31),4,0)","v":0},null,null,"Payet"]
["Buteur","Ibrahimovic","Ibrahimovic","Ibrahimovic","Ibrahimovic","Ibrahimovic","Ibrahimovic","4pts","Lacazette",null,null,null,null,null,null,null,null,null,null,null,null,null,null,null,null,"Arles-Avignon",null,null,null,null,null,null,null,null,"Regattin"]
[null,"Lacazette","Cavani","Gignac","Gignac","Berbatov","Cavani",null,null,null,null,null,null,null,null,null,null,null,null,null,null,null,null,null,null,null,null,null,null,null,null,null,null,null,"Fortes"]
["Total Ligue 1",{"$f":"SUM(AA11:AA34)","v":58},{"$f":"SUM(AB11:AB27)","v":44},{"$f":"SUM(AC11:AC29)","v":61},{"$f":"SUM(AD11:AD29)","v":44},{"$f":"SUM(AE11:AE29)","v":57},{"$f":"SUM(AF11:AF29)","v":41},null,null,null,null,null,null,null,null,null,null,null,null,null,null,null,null,null,"Marseille",null,{"$f":"IF(OR(I33=B33,I33=B34,I33=B35),5,0)","v":0},{"$f":"IF(OR(I33=C33,I33=C34,I33=C35),5,0)","v":0},{"$f":"IF(OR(I33=D33,I33=D34,I33=D35),5,0)","v":0},{"$f":"IF(OR(I33=E33,I33=E34,I33=E35),5,0)","v":0},{"$f":"IF(OR(I33=F33,I33=F34,I33=F35),5,0)","v":0},{"$f":"IF(OR(I33=G33,I33=G34,I33=G35),5,0)","v":0}]
["Promus L2","Sochaux","Angers","Troyes","Troyes","Troyes","Troyes","5pts par équipe","Brest",null,null,null,null,null,null,null,null,null,null,null,null,null,null,null,"Bastia",null,{"$f":"IF(OR(I34=B33,I34=B34,I34=B35),5,0)","v":0},{"$f":"IF(OR(I34=C33,I34=C34,I34=C35),5,0)","v":5},{"$f":"IF(OR(I34=D33,I34=D34,I34=D35),5,0)","v":5},{"$f":"IF(OR(I34=E33,I34=E34,I34=E35),5,0)","v":5},{"$f":"IF(OR(I34=F33,I34=F34,I34=F35),5,0)","v":5},{"$f":"IF(OR(I34=G33,I34=G34,I34=G35),5,0)","v":5}]
[null,"Angers","AC Ajaccio","Dijon","Dijon","Dijon","Dijon",null,"Troyes",null,null,null,null,null,null,null,null,null,null,null,null,null,null,null,"Monaco",null,{"$f":"IF(OR(I35=B34,I35=B35,I35=B33),5,0)","v":0},{"$f":"IF(OR(I35=C34,I35=C35,I35=C33),5,0)","v":0},{"$f":"IF(OR(I35=D34,I35=D35,I35=D33),5,0)","v":5},{"$f":"IF(OR(I35=E34,I35=E35,I35=E33),5,0)","v":5},{"$f":"IF(OR(I35=F34,I35=F35,I35=F33),5,0)","v":5},{"$f":"IF(OR(I35=G34,I35=G35,I35=G33),5,0)","v":5}]
[null,null,"Troyes","AC Ajaccio","Angers","Angers","AC Ajaccio",null,"Dijon",null,null,null,null,null,null,null,null,null,null,null,null,null,null,null,null,null,{"$f":"IF(I$36=B36,7,0)","v":0},0,0,0,0,0]
["Coupe de France","PSG","PSG","PSG","PSG","PSG","Guingamp","7pts",null,null,null,null,null,null,null,null,null,null,null,null,null,null,null,null,null,null,{"$f":"IF(I$37=B37,3,0)","v":0},0,0,0,0,0]
["Coupe de la Ligue","PSG","PSG","PSG","PSG","PSG","Saint-Etienne","3pts"]
["Total L2/Coupes",{"$f":"SUM(AA32:AA36)","v":0},5,10,10,10,10]
["TOTAL (avec pénalités)",{"$f":"B38+B32-3","v":55},{"$f":"C38+C32-5","v":44},{"$f":"D38+D32","v":71},{"$f":"E38+E32","v":54},{"$f":"F38+F32","v":67},{"$f":"G38+G32","v":51}]
[]
[]
["Classement par journée de L1, promus L2, meilleur buteur et passeur plus Coupe de France et Coupe de la Ligue"]
["journée","Antoine",null,"Clément",null,"Gianni","Jemisson","Martin","Nathan"]
["1ère",26,"*",13,"**",12,44,27,40]
["2nde",22,"*",57,"**",48,66,53,74]
["3ème",27,"*",64,"**",35,48,31,73]
["4ème",49,"*",92,"**",70,72,72,86]
["5ème",24,"*",60,"**",58,52,61,73]
["6ème",23,"*",52,"**",58,70,62,58]
["7ème",20,"*",54,"**",62,92,84,73]
["8ème",28,"*",83,"**",70,63,68,61]
["9ème",38,"*",65,"**",87,66,71,51]
["10ème",34,"*",53,"**",71,62,71,47]
["11ème",47,"*",43,"**",71,73,82,54]
["12ème",51,"*",44,"**",71,58,63,54]
["13ème",51,"*",39,"**",62,45,62,42]
["14ème",55,"*",44,"**",71,54,67,51]
["15ème",55,"*",44,"**",71,54,67,51]
["16ème",null,"*",null,"**"]
["17ème",null,"*",null,"**"]
["18ème",null,"*",null,"**"]
["19ème",null,"*",null,"**"]
["20ème",null,"*",null,"**"]
["21ème",null,"*",null,"**"]
["22ème",null,"*",null,"**"]
["23ème",null,"*",null,"**"]
["24ème",null,"*",null,"**"]
["25ème",null,"*",null,"**"]
["26ème",null,"*",null,"**"]
["27ème",null,"*",null,"**"]
["28ème",null,"*",null,"**"]
["29ème",null,"*",null,"**"]
["30ème",null,"*",null,"**"]
["31ème",null,"*",null,"**"]
["32ème",null,"*",null,"**"]
["33ème",null,"*",null,"**"]
["34ème",null,"*",null,"**"]
["35ème",null,"*",null,"**"]
["36ème",null,"*",null,"**"]
["37ème",null,"*",null,"**"]
["38ème",null,"*",null,"**"]
[]
[null,"1er au balcon",null,"2nd",null,"3ème","4ème","5ème","Fiorèse"]
[]
["*En tenant compte de la pénalité de 3 points"]
["**En tenant compte de la pénalité de 5 points"]

{"sheet":"Nos voisins européens","index":4,"n_rows":182,"n_cols":42,"rows_kept":182,"cut":false,"hidden":false,"merged":[[181,10,181,11],[181,12,181,13],[181,2,181,3],[181,4,181,5],[181,6,181,7],[181,8,181,9],[174,13,176,13],[177,3,179,3],[177,5,179,5],[174,9,176,9],[174,11,176,11],[174,3,176,3],[177,11,179,11],[177,13,179,13],[177,7,179,7],[177,9,179,9],[0,0,0,16383],[5,8,8,8],[10,0,15,0],[16,0,21,0],[160,13,163,13],[164,0,167,0],[164,9,167,9],[164,11,167,11],[156,11,159,11],[156,13,159,13],[164,3,167,3],[164,5,167,5],[164,7,167,7],[156,0,159,0],[156,3,159,3],[156,5,159,5],[156,7,159,7],[164,13,167,13],[160,9,163,9],[160,11,163,11],[160,5,163,5],[160,7,163,7],[160,0,163,0],[160,3,163,3],[177,0,179,0],[174,0,176,0],[168,13,170,13],[171,0,173,0],[171,3,173,3],[171,5,173,5],[171,7,173,7],[171,9,173,9],[171,11,173,11],[171,13,173,13],[174,5,176,5],[174,7,176,7],[168,0,170,0],[168,3,170,3],[156,9,159,9],[144,5,147,5],[144,7,147,7],[144,9,147,9],[144,11,147,11],[144,13,147,13],[148,13,151,13],[168,9,170,9],[168,11,170,11],[152,5,155,5],[152,7,155,7],[168,5,170,5],[168,7,170,7],[148,0,151,0],[148,3,151,3],[148,5,151,5],[148,7,151,7],[148,9,151,9],[148,11,151,11],[152,9,155,9],[152,11,155,11],[152,13,155,13],[152,0,155,0],[152,3,155,3],[144,0,147,0],[144,3,147,3],[136,9,139,9],[136,11,139,11],[136,0,139,0],[136,3,139,3],[136,5,139,5],[136,7,139,7],[140,7,143,7],[140,9,143,9],[140,11,143,11],[116,5,119,5],[116,7,119,7],[116,9,119,9],[116,11,119,11],[116,13,119,13],[140,13,143,13],[128,3,131,3],[140,0,143,0],[140,3,143,3],[140,5,143,5],[136,13,139,13],[128,13,131,13],[132,0,135,0],[132,3,135,3],[132,5,135,5],[132,7,135,7],[132,9,135,9],[132,11,135,11],[132,13,135,13],[128,0,131,0],[128,9,131,9],[128,11,131,11],[128,5,131,5],[128,7,131,7],[92,7,95,7],[108,9,111,9],[96,0,99,0],[96,3,99,3],[96,9,99,9],[124,11,127,11],[124,13,127,13],[120,9,123,9],[120,11,123,11],[112,9,115,9],[112,11,115,11],[120,13,123,13],[124,9,127,9],[124,0,127,0],[124,3,127,3],[124,5,127,5],[124,7,127,7],[120,0,123,0],[120,3,123,3],[120,5,123,5],[120,7,123,7],[112,13,115,13],[116,0,119,0],[116,3,119,3],[112,0,115,0],[112,3,115,3],[112,5,115,5],[112,7,115,7],[104,3,107,3],[104,5,107,5],[104,7,107,7],[100,9,103,9],[100,11,103,11],[108,0,111,0],[108,3,111,3],[108,5,111,5],[108,7,111,7],[108,13,111,13],[104,9,107,9],[104,11,107,11],[104,13,107,13],[100,0,103,0],[100,3,103,3],[100,5,103,5],[100,7,103,7],[104,0,107,0],[108,11,111,11],[100,13,103,13],[96,11,99,11],[96,5,99,5],[96,7,99,7],[96,13,99,13],[84,13,87,13],[88,0,91,0],[88,3,91,3],[88,5,91,5],[88,7,91,7],[88,13,91,13],[84,0,87,0],[84,3,87,3],[84,5,87,5],[84,7,87,7],[84,9,87,9],[84,11,87,11],[88,9,91,9],[88,11,91,11],[92,9,95,9],[92,11,95,11],[92,13,95,13],[92,0,95,0],[92,3,95,3],[92,5,95,5],[76,13,79,13],[72,0,75,0],[72,3,75,3],[72,5,75,5],[72,7,75,7],[72,9,75,9],[72,11,75,11],[72,13,75,13],[80,13,83,13],[80,5,83,5],[80,7,83,7],[80,9,83,9],[80,11,83,11],[80,0,83,0],[80,3,83,3],[60,0,63,0],[60,3,63,3],[60,5,63,5],[60,7,63,7],[76,0,79,0],[76,3,79,3],[76,5,79,5],[76,7,79,7],[56,11,59,11],[64,0,67,0],[64,3,67,3],[64,11,67,11],[64,5,67,5],[76,9,79,9],[76,11,79,11],[64,9,67,9],[68,0,71,0],[68,3,71,3],[68,5,71,5],[68,7,71,7],[60,9,63,9],[60,11,63,11],[60,13,63,13],[56,9,59,9],[48,7,51,7],[40,11,43,11],[64,7,67,7],[64,13,67,13],[68,9,71,9],[68,11,71,11],[56,13,59,13],[68,13,71,13],[52,11,55,11],[44,13,47,13],[36,13,39,13],[40,0,43,0],[40,3,43,3],[40,5,43,5],[40,7,43,7],[40,13,43,13],[36,0,39,0],[56,0,59,0],[56,3,59,3],[56,5,59,5],[56,7,59,7],[52,0,55,0],[52,3,55,3],[52,5,55,5],[52,7,55,7],[48,3,51,3],[48,0,51,0],[48,5,51,5],[40,9,43,9],[52,13,55,13],[48,9,51,9],[48,11,51,11],[48,13,51,13],[52,9,55,9],[36,3,39,3],[36,5,39,5],[36,7,39,7],[36,9,39,9],[36,11,39,11],[44,0,47,0],[44,3,47,3],[44,5,47,5],[44,7,47,7],[44,9,47,9],[44,11,47,11],[32,0,35,0],[32,3,35,3],[32,5,35,5],[32,7,35,7],[32,13,35,13],[4,0,9,0],[31,2,31,3],[31,4,31,5],[31,6,31,7],[31,8,31,9],[32,9,35,9],[32,11,35,11],[31,10,31,11],[22,0,26,0],[31,12,31,13],[5,1,8,1],[11,1,14,1],[17,1,20,1],[23,1,25,1],[11,8,14,8],[17,8,20,8],[23,8,25,8]]}
[]
[]
[null,null,null,null,null,null,null,null,null,null,null,null,null,null,null,null,null,null,null,null,null,null,null,null,null,null,null,null,null,null,"Angleterre","Espagne","Allemagne","Italie",null,null,"Antoine","Clément","Gianni","Jems","Martin","Nathan"]
[null,null,"Antoine","Clément","Gianni","Jemisson","Martin","Nathan","Points","Réalité",null,null,null,null,null,null,null,null,null,null,null,null,null,null,null,null,null,null,null,null,"Chelsea","Barcelone","Bayern","Juventus",null,"ang",{"$f":"IF(OR(J$5=C5),15,0)","v":15},{"$f":"IF(J$5=D5,15,0)","v":15},{"$f":"IF(J$5=E5,15,0)","v":0},{"$f":"IF(J$5=F5,15,0)","v":15},{"$f":"IF(J$5=G5,15,0)","v":0},{"$f":"IF(J$5=H5,15,0)","v":15}]
["Angleterre","Champion","Chelsea","Chelsea","Man City","Chelsea","Man City","Chelsea","15pts","Chelsea",null,null,null,null,null,null,null,null,null,null,null,null,null,null,null,null,null,null,null,null,"Southampton","Real Madrid","Hoffenheim","Roma",null,null,{"$f":"IF(OR(J6=C$6,J6=C$7,J6=C$8,J6=C$9),3,0)","v":3},{"$f":"IF(OR(J6=D$6,J6=D$7,J6=D$8,J6=D$9),3,0)","v":3},{"$f":"IF(OR(J6=E$6,J6=E$7,J6=E$8,J6=E$9),3,0)","v":3},{"$f":"IF(OR(J6=F$6,J6=F$7,J6=F$8,J6=F$9),3,0)","v":3},{"$f":"IF(OR(J6=G$6,J6=G$7,J6=G$8,J6=G$9),3,0)","v":3},{"$f":"IF(OR(J6=H$6,J6=H$7,J6=H$8,J6=H$9),3,0)","v":3}]
[null,"Qualifiés C1","Chelsea","Chelsea","Man City","Chelsea","Man City","Chelsea","3pts/équipe","Chelsea",null,null,null,null,null,null,null,null,null,null,null,null,null,null,null,null,null,null,null,null,"Man City","Seville FC","Bor M'Gladbach","Sampdoria",null,null,{"$f":"IF(OR(J7=C$6,J7=C$7,J7=C$8,J7=C$9),3,0)","v":3},{"$f":"IF(OR(J7=D$6,J7=D$7,J7=D$8,J7=D$9),3,0)","v":3},{"$f":"IF(OR(J7=E$6,J7=E$7,J7=E$8,J7=E$9),3,0)","v":3},{"$f":"IF(OR(J7=F$6,J7=F$7,J7=F$8,J7=F$9),3,0)","v":3},{"$f":"IF(OR(J7=G$6,J7=G$7,J7=G$8,J7=G$9),3,0)","v":3},{"$f":"IF(OR(J7=H$6,J7=H$7,J7=H$8,J7=H$9),3,0)","v":3}]
[null,null,"Man City","Arsenal","Liverpool","Man City","Chelsea","Arsenal",null,"Man City",null,null,null,null,null,null,null,null,null,null,null,null,null,null,null,null,null,null,null,null,"West Ham","Valence","Mayence","AC Milan",null,null,{"$f":"IF(OR(J8=C$6,J8=C$7,J8=C$8,J8=C$9),3,0)","v":0},{"$f":"IF(OR(J8=D$6,J8=D$7,J8=D$8,J8=D$9),3,0)","v":0},{"$f":"IF(OR(J8=E$6,J8=E$7,J8=E$8,J8=E$9),3,0)","v":0},{"$f":"IF(OR(J8=F$6,J8=F$7,J8=F$8,J8=F$9),3,0)","v":0},{"$f":"IF(OR(J8=G$6,J8=G$7,J8=G$8,J8=G$9),3,0)","v":0},{"$f":"IF(OR(J8=H$6,J8=H$7,J8=H$8,J8=H$9),3,0)","v":0}]
[null,null,"Liverpool","Man City","Arsenal","Liverpool","Arsenal","Man City",null,"Southampton",null,null,null,null,null,null,null,null,null,null,null,null,null,null,null,null,null,null,null,null,"Arsenal","Atletico ","Wolfsburg","Udinese",null,null,{"$f":"IF(OR(J9=C$6,J9=C$7,J9=C$8,J9=C$9),3,0)","v":0},{"$f":"IF(OR(J9=D$6,J9=D$7,J9=D$8,J9=D$9),3,0)","v":0},{"$f":"IF(OR(J9=E$6,J9=E$7,J9=E$8,J9=E$9),3,0)","v":0},{"$f":"IF(OR(J9=F$6,J9=F$7,J9=F$8,J9=F$9),3,0)","v":0},{"$f":"IF(OR(J9=G$6,J9=G$7,J9=G$8,J9=G$9),3,0)","v":3},{"$f":"IF(OR(J9=H$6,J9=H$7,J9=H$8,J9=H$9),3,0)","v":0}]
[null,null,"Arsenal","Liverpool","Chelsea","Arsenal","Man Utd","Liverpool",null,"Man Utd",null,null,null,null,null,null,null,null,null,null,null,null,null,null,null,null,null,null,null,null,"Liverpool","Celta Vigo","Bayer Lev","Lazio",null,"esp",{"$f":"IF(J$11=C11,15,0)","v":0},{"$f":"IF(D11=J11,15,0)","v":15},{"$f":"IF(E11=J11,15,0)","v":0},{"$f":"IF(F11=J11,15,0)","v":0},{"$f":"IF(G11=J11,15,0)","v":15},{"$f":"IF(H11=J11,15,0)","v":15}]
[null,"Pts total",{"$f":"SUM(AK4:AK8)","v":21},21,6,21,9,21,null,null,null,null,null,null,null,null,null,null,null,null,null,null,null,null,null,null,null,null,null,null,"QPR","Cordoue","Werder Breme","Parme",null,null,{"$f":"IF(OR($J12=C$12,$J12=C$13,$J12=C$14,$J12=C$15),3,0)","v":3},3,3,3,3,3]
["Espagne","Champion","Barcelone","Real Madrid","Barcelone","Barcelone","Real Madrid","Real Madrid","15pts","Real Madrid",null,null,null,null,null,null,null,null,null,null,null,null,null,null,null,null,null,null,null,null,"Man Utd","Villareal","Hanovre","Naples",null,null,3,3,3,3,3,3]
[null,"Qualifiés C1","Barcelone","Barcelone","Barcelone","Barcelone","Barcelone","Barcelone","3pts/équipe","Barcelone",null,null,null,null,null,null,null,null,null,null,null,null,null,null,null,null,null,null,null,null,"Swensea","Malga","Paderborn","Hellas Verone",null,null,3,3,3,3,3,3]
[null,null,"Real Madrid","Real Madrid","Real Madrid","Real Madrid","Real Madrid","Real Madrid",null,"Atletico ",null,null,null,null,null,null,null,null,null,null,null,null,null,null,null,null,null,null,null,null,"Hull","Rayo Vallecano","Augsbourg","Inter Milan",null,null,0,0,0,3,0,0]
[null,null,"Atletico ","Atletico ","Atletico ","Atletico ","Atletico ","Atletico ",null,"Real Madrid",null,null,null,null,null,null,null,null,null,null,null,null,null,null,null,null,null,null,null,null,"Tottenham","Getafe","Cologne","Genoa",null,"all",{"$f":"IF($J17=C17,5,0)","v":5},5,5,0,5,5]
[null,null,"Valence","Valence","Valence","Seville FC","Valence","Valence",null,"Seville FC",null,null,null,null,null,null,null,null,null,null,null,null,null,null,null,null,null,null,null,null,"Stoke","Espanyol","Francfort","Fiorentina",null,null,{"$f":"IF(OR($J18=C$18,$J18=C$19,$J18=C$20,$J18=C$21),2,0)","v":2},2,2,2,2,2]
[null,"Pts total",{"$f":"SUM(AK9:AK13)","v":9},24,9,12,24,24,null,null,null,null,null,null,null,null,null,null,null,null,null,null,null,null,null,null,null,null,null,null,"Burnley","Levante","Fribourg","Sassuolo",null,null,0,0,2,0,0,0]
["Allemagne","Champion","Bayern","Bayern","Bayern","Bor Dortmund","Bayern","Bayern","5pts","Bayern",null,null,null,null,null,null,null,null,null,null,null,null,null,null,null,null,null,null,null,null,"West Brom","Eibar","Schalke 04","Torino",null,null,2,2,0,2,2,2]
[null,"Qualifiés C1","Bayern","Bayern","Bayern","Bor Dortmund","Bayern","Bayern","2pts/équipe","Bayern",null,null,null,null,null,null,null,null,null,null,null,null,null,null,null,null,null,null,null,null,"Aston Villa","Almeria","Hertha Berlin","Empoli",null,null,0,0,0,0,0,0]
[null,null,"Bor Dortmund","Bor Dortmund","Bor Dortmund","Bayern","Bor Dortmund","Bor Dortmund",null,"Wolfsburg",null,null,null,null,null,null,null,null,null,null,null,null,null,null,null,null,null,null,null,null,"Everton","Athletic Bilbao","Stuttgart","Atalanta",null,"ita",{"$f":"IF($J23=C23,6,0)","v":6},6,6,6,6,6]
[null,null,"Schalke 04","Schalke 04","Schalke 04","Schalke 04","Schalke 04","Schalke 04",null,"Bayer Lev",null,null,null,null,null,null,null,null,null,null,null,null,null,null,null,null,null,null,null,null,"Leicester","Granada","Bor Dortmund","Cesena",null,null,{"$f":"IF(OR($J24=C$24,$J24=C$25,$J24=C$26,),2,0)","v":2},{"$f":"IF(OR($J24=D$24,$J24=D$25,$J24=D$26,),2,0)","v":2},2,2,2,2]
[null,null,"Bayer Lev","Bayer Lev","Wolfsburg","Bayer Lev","Bayer Lev","Bayer Lev",null,"Augsbourg",null,null,null,null,null,null,null,null,null,null,null,null,null,null,null,null,null,null,null,null,"Crystal Pal","Deportivo","Hambourg ","Palerme",null,null,{"$f":"IF(OR($J25=C$24,$J25=C$25,$J25=C$26,),2,0)","v":2},2,2,2,2,2]
[null,"Pts total",{"$f":"SUM(AK14:AK18)","v":9},9,9,4,9,9,null,null,null,null,null,null,null,null,null,null,null,null,null,null,null,null,null,null,null,null,null,null,"Newcastle","Elche",null,"Chievo ",null,null,{"$f":"IF(OR($J26=C$24,$J26=C$25,$J26=C$26,),2,0)","v":0},0,0,0,0,0]
["Italie","Champion","Juventus","Juventus","Juventus","Juventus","Juventus","Juventus","6pts","Juventus",null,null,null,null,null,null,null,null,null,null,null,null,null,null,null,null,null,null,null,null,"Sunderland","Real Sociedad",null,"Cagliari"]
[null,"Qualifiés C1","Juventus","Juventus","Juventus","Juventus","Juventus","Juventus","2pts/équipe","Juventus"]
[null,null,"Roma","Roma","Roma","Roma","Roma","Roma",null,"Roma"]
[null,null,"Naples","AC Milan","Naples","Naples","Naples","AC Milan",null,"Genoa"]
[null,"Pts total",{"$f":"SUM(AK19:AK22)","v":10},10,10,10,10,10]
[null,"TOTAL",{"$f":"SUM(C27,C22,C16,C10)","v":49},64,34,47,52,64]
[]
[]
[]
["journée",null,"Antoine",null,"Clément",null,"Gianni",null,"Jemisson",null,"Martin",null,"Nathan",null,null,"journée","Antoine",null,"Clément",null,"Gianni",null,"Jemisson",null,"Martin",null,"Nathan"]
["1ère","Italie",2,{"$f":"SUM(C33:C36)","v":54},4,{"$f":"SUM(E33:E36)","v":41},2,{"$f":"SUM(G33:G36)","v":37},2,{"$f":"SUM(I33:I36)","v":54},2,{"$f":"SUM(K33:K36)","v":21},4,{"$f":"SUM(M33:M36)","v":41},null,"1ère",{"$f":"D33","v":54},null,{"$f":"F33","v":41},null,{"$f":"H33","v":37},null,{"$f":"J33","v":54},null,{"$f":"L33","v":21},null,{"$f":"N33","v":41}]
[null,"Angleterre",27,null,27,null,12,null,27,null,9,null,27,null,null,"2nde",{"$f":"D37","v":33},null,{"$f":"F37","v":20},null,{"$f":"H37","v":31},null,{"$f":"J37","v":30},null,{"$f":"L37","v":18},null,{"$f":"N37","v":20}]
[null,"Espagne",21,null,6,null,21,null,21,null,6,null,6,null,null,"3ème",{"$f":"D41","v":55},null,{"$f":"F41","v":40},null,{"$f":"H41","v":38},null,{"$f":"J41","v":55},null,{"$f":"L41","v":25},null,{"$f":"N41","v":40}]
[null,"Allemagne",4,null,4,null,2,null,4,null,4,null,4,null,null,"4ème",{"$f":"+D45","v":54},null,{"$f":"+F45","v":39},null,{"$f":"+H45","v":39},null,{"$f":"+J45","v":54},null,{"$f":"+L45","v":24},null,{"$f":"+N45","v":39}]
["2ème","Italie",4,{"$f":"SUM(C37:C40)","v":33},6,{"$f":"SUM(E37:E40)","v":20},4,{"$f":"SUM(G37:G40)","v":31},4,{"$f":"SUM(I37:I40)","v":30},4,{"$f":"SUM(K37:K40)","v":18},6,{"$f":"SUM(M37:M40)","v":20},null,"5ème",{"$f":"+D49","v":49},null,{"$f":"+F49","v":49},null,{"$f":"+H49","v":32},null,{"$f":"+J49","v":44},null,{"$f":"+L49","v":34},null,{"$f":"+N49","v":49}]
[null,"Angleterre",6,null,6,null,6,null,6,null,6,null,6,null,null,"6ème",{"$f":"+D53","v":67},null,{"$f":"+F53","v":52},null,{"$f":"+H53","v":50},null,{"$f":"+J53","v":62},null,{"$f":"+L53","v":37},null,{"$f":"+N53","v":52}]
[null,"Espagne",21,null,6,null,21,null,18,null,6,null,6,null,null,"7ème",{"$f":"+D57","v":64},null,{"$f":"+F57","v":49},null,{"$f":"+H57","v":47},null,{"$f":"+J57","v":59},null,{"$f":"+L57","v":37},null,{"$f":"+N57","v":49}]
[null,"Allemagne",2,null,2,null,0,null,2,null,2,null,2,null,null,"8ème",{"$f":"+D61","v":62},null,{"$f":"+F61","v":47},null,{"$f":"+H61","v":47},null,{"$f":"+J61","v":57},null,{"$f":"+L61","v":32},null,{"$f":"+N61","v":47}]
["3ème","Italie",4,{"$f":"SUM(C41:C44)","v":55},4,{"$f":"SUM(E41:E44)","v":40},4,{"$f":"SUM(G41:G44)","v":38},4,{"$f":"SUM(I41:I44)","v":55},4,{"$f":"SUM(K41:K44)","v":25},4,{"$f":"SUM(M41:M44)","v":40},null,"9ème",{"$f":"+D65","v":62},null,{"$f":"+F65","v":49},null,{"$f":"+H65","v":49},null,{"$f":"+J65","v":57},null,{"$f":"+L65","v":32},null,{"$f":"+N65","v":49}]
[null,"Angleterre",21,null,21,null,6,null,21,null,6,null,21,null,null,"10ème",{"$f":"+D69","v":53},null,{"$f":"+F69","v":68},null,{"$f":"+H69","v":40},null,{"$f":"+J69","v":45},null,{"$f":"+L69","v":53},null,{"$f":"+N69","v":68}]
[null,"Espagne",24,null,9,null,24,null,24,null,9,null,9,null,null,"11ème",{"$f":"+D73","v":52},null,{"$f":"+F73","v":65},null,{"$f":"+H73","v":39},null,{"$f":"+J73","v":44},null,{"$f":"+L73","v":52},null,{"$f":"+N73","v":65}]
[null,"Allemagne",6,null,6,null,4,null,6,null,6,null,6,null,null,"12ème",{"$f":"+D77","v":52},null,{"$f":"+F77","v":65},null,{"$f":"+H77","v":39},null,{"$f":"+J77","v":44},null,{"$f":"+L77","v":52},null,{"$f":"+N77","v":65}]
["4ème","Italie",10,{"$f":"SUM(C45:C48)","v":54},10,{"$f":"SUM(E45:E48)","v":39},10,{"$f":"SUM(G45:G48)","v":39},10,{"$f":"SUM(I45:I48)","v":54},10,{"$f":"SUM(K45:K48)","v":24},10,{"$f":"SUM(M45:M48)","v":39},null,"13ème",{"$f":"+D81","v":49},null,{"$f":"+F81","v":64},null,{"$f":"+H81","v":34},null,{"$f":"+J81","v":47},null,{"$f":"+L81","v":52},null,{"$f":"+N81","v":64}]
[null,"Angleterre",18,null,18,null,3,null,18,null,3,null,18,null,null,"14ème",{"$f":"+D85","v":0},null,{"$f":"+F85","v":0},null,{"$f":"+H85","v":0},null,{"$f":"+J85","v":0},null,{"$f":"+L85","v":0},null,{"$f":"+N85","v":0}]
[null,"Espagne",24,null,9,null,24,null,24,null,9,null,9,null,null,"15ème",{"$f":"+D89","v":0},null,{"$f":"+F89","v":0},null,{"$f":"+H89","v":0},null,{"$f":"+J89","v":0},null,{"$f":"+L89","v":0},null,{"$f":"+N89","v":0}]
[null,"Allemagne",2,null,2,null,2,null,2,null,2,null,2,null,null,"16ème",{"$f":"+D93","v":0},null,{"$f":"+F93","v":0},null,{"$f":"+H93","v":0},null,{"$f":"+J93","v":0},null,{"$f":"+L93","v":0},null,{"$f":"+N93","v":0}]
["5ème","Italie",10,{"$f":"SUM(C49:C52)","v":49},10,{"$f":"SUM(E49:E52)","v":49},10,{"$f":"SUM(G49:G52)","v":32},10,{"$f":"SUM(I49:I52)","v":44},10,{"$f":"SUM(K49:K52)","v":34},10,{"$f":"SUM(M49:M52)","v":49},null,"17ème",{"$f":"+D97","v":0},null,{"$f":"+F97","v":0},null,{"$f":"+H97","v":0},null,{"$f":"+J97","v":0},null,{"$f":"+L97","v":0},null,{"$f":"+N97","v":0}]
[null,"Angleterre",21,null,21,null,6,null,21,null,6,null,21,null,null,"18ème",{"$f":"+D101","v":0},null,{"$f":"+F101","v":0},null,{"$f":"+H101","v":0},null,{"$f":"+J101","v":0},null,{"$f":"+L101","v":0},null,{"$f":"+N101","v":0}]
[null,"Espagne",9,null,9,null,9,null,9,null,9,null,9,null,null,"19ème",{"$f":"+D105","v":0},null,{"$f":"+F105","v":0},null,{"$f":"+H105","v":0},null,{"$f":"+J105","v":0},null,{"$f":"+L105","v":0},null,{"$f":"+N105","v":0}]
[null,"Allemagne",9,null,9,null,7,null,4,null,9,null,9,null,null,"20ème",{"$f":"+D109","v":0},null,{"$f":"+F109","v":0},null,{"$f":"+H109","v":0},null,{"$f":"+J109","v":0},null,{"$f":"+L109","v":0},null,{"$f":"+N109","v":0}]
["6ème","Italie",10,{"$f":"SUM(C53:C56)","v":67},10,{"$f":"SUM(E53:E56)","v":52},10,{"$f":"SUM(G53:G56)","v":50},10,{"$f":"SUM(I53:I56)","v":62},10,{"$f":"SUM(K53:K56)","v":37},10,{"$f":"SUM(M53:M56)","v":52},null,"21ème",{"$f":"+D113","v":0},null,{"$f":"+F113","v":0},null,{"$f":"+H113","v":0},null,{"$f":"+J113","v":0},null,{"$f":"+L113","v":0},null,{"$f":"+N113","v":0}]
[null,"Angleterre",24,null,24,null,9,null,24,null,9,null,24,null,null,"22ème",{"$f":"+D117","v":0},null,{"$f":"+F117","v":0},null,{"$f":"+H117","v":0},null,{"$f":"+J117","v":0},null,{"$f":"+L117","v":0},null,{"$f":"+N117","v":0}]
[null,"Espagne",24,null,9,null,24,null,24,null,9,null,9,null,null,"23ème",{"$f":"+D121","v":0},null,{"$f":"+F121","v":0},null,{"$f":"+H121","v":0},null,{"$f":"+J121","v":0},null,{"$f":"+L121","v":0},null,{"$f":"+N121","v":0}]
[null,"Allemagne",9,null,9,null,7,null,4,null,9,null,9,null,null,"24ème",{"$f":"+D125","v":0},null,{"$f":"+F125","v":0},null,{"$f":"+H125","v":0},null,{"$f":"+J125","v":0},null,{"$f":"+L125","v":0},null,{"$f":"+N125","v":0}]
["7ème","Italie",10,{"$f":"SUM(C57:C60)","v":64},10,{"$f":"SUM(E57:E60)","v":49},10,{"$f":"SUM(G57:G60)","v":47},10,{"$f":"SUM(I57:I60)","v":59},10,{"$f":"SUM(K57:K60)","v":37},10,{"$f":"SUM(M57:M60)","v":49},null,"25ème",{"$f":"+D129","v":0},null,{"$f":"+F129","v":0},null,{"$f":"+H129","v":0},null,{"$f":"+J129","v":0},null,{"$f":"+L129","v":0},null,{"$f":"+N129","v":0}]
[null,"Angleterre",21,null,21,null,6,null,21,null,9,null,21,null,null,"26ème",{"$f":"+D133","v":0},null,{"$f":"+F133","v":0},null,{"$f":"+H133","v":0},null,{"$f":"+J133","v":0},null,{"$f":"+L133","v":0},null,{"$f":"+N133","v":0}]
[null,"Espagne",24,null,9,null,24,null,24,null,9,null,9,null,null,"27ème",{"$f":"+D137","v":0},null,{"$f":"+F137","v":0},null,{"$f":"+H137","v":0},null,{"$f":"+J137","v":0},null,{"$f":"+L137","v":0},null,{"$f":"+N137","v":0}]
[null,"Allemagne",9,null,9,null,7,null,4,null,9,null,9,null,null,"28ème",{"$f":"+D141","v":0},null,{"$f":"+F141","v":0},null,{"$f":"+H141","v":0},null,{"$f":"+J141","v":0},null,{"$f":"+L141","v":0},null,{"$f":"+N141","v":0}]
["8ème","Italie",10,{"$f":"SUM(C61:C64)","v":62},10,{"$f":"SUM(E61:E64)","v":47},10,{"$f":"SUM(G61:G64)","v":47},10,{"$f":"SUM(I61:I64)","v":57},10,{"$f":"SUM(K61:K64)","v":32},10,{"$f":"SUM(M61:M64)","v":47},null,"29ème",{"$f":"+D145","v":0},null,{"$f":"+F145","v":0},null,{"$f":"+H145","v":0},null,{"$f":"+J145","v":0},null,{"$f":"+L145","v":0},null,{"$f":"+N145","v":0}]
[null,"Angleterre",21,null,21,null,6,null,21,null,6,null,21,null,null,"30ème",{"$f":"+D149","v":0},null,{"$f":"+F149","v":0},null,{"$f":"+H149","v":0},null,{"$f":"+J149","v":0},null,{"$f":"+L149","v":0},null,{"$f":"+N149","v":0}]
[null,"Espagne",24,null,9,null,24,null,24,null,9,null,9,null,null,"31ème",{"$f":"+D153","v":0},null,{"$f":"+F153","v":0},null,{"$f":"+H153","v":0},null,{"$f":"+J153","v":0},null,{"$f":"+L153","v":0},null,{"$f":"+N153","v":0}]
[null,"Allemagne",7,null,7,null,7,null,2,null,7,null,7,null,null,"32ème",{"$f":"+D157","v":0},null,{"$f":"+F157","v":0},null,{"$f":"+H157","v":0},null,{"$f":"+J157","v":0},null,{"$f":"+L157","v":0},null,{"$f":"+N157","v":0}]
["9ème","Italie",10,{"$f":"SUM(C65:C68)","v":62},12,{"$f":"SUM(E65:E68)","v":49},10,{"$f":"SUM(G65:G68)","v":49},10,{"$f":"SUM(I65:I68)","v":57},10,{"$f":"SUM(K65:K68)","v":32},12,{"$f":"SUM(M65:M68)","v":49},null,"33ème",{"$f":"+D161","v":0},null,{"$f":"+F161","v":0},null,{"$f":"+H161","v":0},null,{"$f":"+J161","v":0},null,{"$f":"+L161","v":0},null,{"$f":"+N161","v":0}]
[null,"Angleterre",21,null,21,null,6,null,21,null,6,null,21,null,null,"34ème",{"$f":"+D165","v":0},null,{"$f":"+F165","v":0},null,{"$f":"+H165","v":0},null,{"$f":"+J165","v":0},null,{"$f":"+L165","v":0},null,{"$f":"+N165","v":0}]
[null,"Espagne",24,null,9,null,24,null,24,null,9,null,9,null,null,"35ème",{"$f":"D169","v":0},null,{"$f":"F169","v":0},null,{"$f":"H169","v":0},null,{"$f":"J169","v":0},null,{"$f":"L169","v":0},null,{"$f":"N169","v":0}]
[null,"Allemagne",7,null,7,null,9,null,2,null,7,null,7,null,null,"36ème",{"$f":"D172","v":0},null,{"$f":"F172","v":0},null,{"$f":"H172","v":0},null,{"$f":"J172","v":0},null,{"$f":"L172","v":0},null,{"$f":"N172","v":0}]
["10ème","Italie",10,{"$f":"SUM(C69:C72)","v":53},10,{"$f":"SUM(E69:E72)","v":68},10,{"$f":"SUM(G69:G72)","v":40},10,{"$f":"SUM(I69:I72)","v":45},10,{"$f":"SUM(K69:K72)","v":53},10,{"$f":"SUM(M69:M72)","v":68},null,"37ème",{"$f":"D175","v":0},null,{"$f":"F175","v":0},null,{"$f":"H175","v":0},null,{"$f":"J175","v":0},null,{"$f":"L175","v":0},null,{"$f":"N175","v":0}]
[null,"Angleterre",24,null,24,null,9,null,24,null,9,null,24,null,null,"38ème",{"$f":"D178","v":0},null,{"$f":"F178","v":0},null,{"$f":"H178","v":0},null,{"$f":"J178","v":0},null,{"$f":"L178","v":0},null,{"$f":"N178","v":0}]
[null,"Espagne",12,null,27,null,12,null,9,null,27,null,27]
[null,"Allemagne",7,null,7,null,9,null,2,null,7,null,7]
["11ème","Italie",12,{"$f":"SUM(C73:C76)","v":52},10,{"$f":"SUM(E73:E76)","v":65},12,{"$f":"SUM(G73:G76)","v":39},12,{"$f":"SUM(I73:I76)","v":44},12,{"$f":"SUM(K73:K76)","v":52},10,{"$f":"SUM(M73:M76)","v":65}]
[null,"Angleterre",21,null,21,null,6,null,21,null,6,null,21]
[null,"Espagne",12,null,27,null,12,null,9,null,27,null,27]
[null,"Allemagne",7,null,7,null,9,null,2,null,7,null,7]
["12ème","Italie",12,{"$f":"SUM(C77:C80)","v":52},10,{"$f":"SUM(E77:E80)","v":65},12,{"$f":"SUM(G77:G80)","v":39},12,{"$f":"SUM(I77:I80)","v":44},12,{"$f":"SUM(K77:K80)","v":52},10,{"$f":"SUM(M77:M80)","v":65}]
[null,"Angleterre",21,null,21,null,6,null,21,null,6,null,21]
[null,"Espagne",12,null,27,null,12,null,9,null,27,null,27]
[null,"Allemagne",7,null,7,null,9,null,2,null,7,null,7]
["13ème","Italie",10,{"$f":"SUM(C81:C84)","v":49},10,{"$f":"SUM(E81:E84)","v":64},10,{"$f":"SUM(G81:G84)","v":34},10,{"$f":"SUM(I81:I84)","v":47},10,{"$f":"SUM(K81:K84)","v":52},10,{"$f":"SUM(M81:M84)","v":64}]
[null,"Angleterre",21,null,21,null,6,null,21,null,9,null,21]
[null,"Espagne",9,null,24,null,9,null,12,null,24,null,24]
[null,"Allemagne",9,null,9,null,9,null,4,null,9,null,9]
["14ème","Italie",null,{"$f":"SUM(C85:C88)","v":0},null,{"$f":"SUM(E85:E88)","v":0},null,{"$f":"SUM(G85:G88)","v":0},null,{"$f":"SUM(I85:I88)","v":0},null,{"$f":"SUM(K85:K88)","v":0},null,{"$f":"SUM(M85:M88)","v":0}]
[null,"Angleterre"]
[null,"Espagne"]
[null,"Allemagne"]
["15ème","Italie",null,{"$f":"SUM(C89:C92)","v":0},null,{"$f":"SUM(E89:E92)","v":0},null,{"$f":"SUM(G89:G92)","v":0},null,{"$f":"SUM(I89:I92)","v":0},null,{"$f":"SUM(K89:K92)","v":0},null,{"$f":"SUM(M89:M92)","v":0}]
[null,"Angleterre"]
[null,"Espagne"]
[null,"Allemagne"]
["16ème","Italie",null,{"$f":"SUM(C93:C96)","v":0},null,{"$f":"SUM(E93:E96)","v":0},null,{"$f":"SUM(G93:G96)","v":0},null,{"$f":"SUM(I93:I96)","v":0},null,{"$f":"SUM(K93:K96)","v":0},null,{"$f":"SUM(M93:M96)","v":0}]
[null,"Angleterre"]
[null,"Espagne"]
[null,"Allemagne"]
["17ème","Italie",null,{"$f":"SUM(C97:C100)","v":0},null,{"$f":"SUM(E97:E100)","v":0},null,{"$f":"SUM(G97:G100)","v":0},null,{"$f":"SUM(I97:I100)","v":0},null,{"$f":"SUM(K97:K100)","v":0},null,{"$f":"SUM(M97:M100)","v":0}]
[null,"Angleterre"]
[null,"Espagne"]
[null,"Allemagne"]
["18ème","Italie",null,{"$f":"SUM(C101:C104)","v":0},null,{"$f":"SUM(E101:E104)","v":0},null,{"$f":"SUM(G101:G104)","v":0},null,{"$f":"SUM(I101:I104)","v":0},null,{"$f":"SUM(K101:K104)","v":0},null,{"$f":"SUM(M101:M104)","v":0}]
[null,"Angleterre"]
[null,"Espagne"]
[null,"Allemagne"]
["19ème","Italie",null,{"$f":"SUM(C105:C108)","v":0},null,{"$f":"SUM(E105:E108)","v":0},null,{"$f":"SUM(G105:G108)","v":0},null,{"$f":"SUM(I105:I108)","v":0},null,{"$f":"SUM(K105:K108)","v":0},null,{"$f":"SUM(M105:M108)","v":0}]
[null,"Angleterre"]
[null,"Espagne"]
[null,"Allemagne"]
["20ème","Italie",null,{"$f":"SUM(C109:C112)","v":0},null,{"$f":"SUM(E109:E112)","v":0},null,{"$f":"SUM(G109:G112)","v":0},null,{"$f":"SUM(I109:I112)","v":0},null,{"$f":"SUM(K109:K112)","v":0},null,{"$f":"SUM(M109:M112)","v":0}]
[null,"Angleterre"]
[null,"Espagne"]
[null,"Allemagne"]
["21er","Italie",null,{"$f":"SUM(C113:C116)","v":0},null,{"$f":"SUM(E113:E116)","v":0},null,{"$f":"SUM(G113:G116)","v":0},null,{"$f":"SUM(I113:I116)","v":0},null,{"$f":"SUM(K113:K116)","v":0},null,{"$f":"SUM(M113:M116)","v":0}]
[null,"Angleterre"]
[null,"Espagne"]
[null,"Allemagne"]
["22ème","Italie",null,{"$f":"SUM(C117:C120)","v":0},null,{"$f":"SUM(E117:E120)","v":0},null,{"$f":"SUM(G117:G120)","v":0},null,{"$f":"SUM(I117:I120)","v":0},null,{"$f":"SUM(K117:K120)","v":0},null,{"$f":"SUM(M117:M120)","v":0}]
[null,"Angleterre"]
[null,"Espagne"]
[null,"Allemagne"]
["23ème","Italie",null,{"$f":"SUM(C121:C124)","v":0},null,{"$f":"SUM(E121:E124)","v":0},null,{"$f":"SUM(G121:G124)","v":0},null,{"$f":"SUM(I121:I124)","v":0},null,{"$f":"SUM(K121:K124)","v":0},null,{"$f":"SUM(M121:M124)","v":0}]
[null,"Angleterre"]
[null,"Espagne"]
[null,"Allemagne"]
["24ème","Italie",null,{"$f":"SUM(C125:C128)","v":0},null,{"$f":"SUM(E125:E128)","v":0},null,{"$f":"SUM(G125:G128)","v":0},null,{"$f":"SUM(I125:I128)","v":0},null,{"$f":"SUM(K125:K128)","v":0},null,{"$f":"SUM(M125:M128)","v":0}]
[null,"Angleterre"]
[null,"Espagne"]
[null,"Allemagne"]
["25ème","Italie",null,{"$f":"SUM(C129:C132)","v":0},null,{"$f":"SUM(E129:E132)","v":0},null,{"$f":"SUM(G129:G132)","v":0},null,{"$f":"SUM(I129:I132)","v":0},null,{"$f":"SUM(K129:K132)","v":0},null,{"$f":"SUM(M129:M132)","v":0}]
[null,"Angleterre"]
[null,"Espagne"]
[null,"Allemagne"]
["26ème","Italie",null,{"$f":"SUM(C133:C136)","v":0},null,{"$f":"SUM(E133:E136)","v":0},null,{"$f":"SUM(G133:G136)","v":0},null,{"$f":"SUM(I133:I136)","v":0},null,{"$f":"SUM(K133:K136)","v":0},null,{"$f":"SUM(M133:M136)","v":0}]
[null,"Angleterre"]
[null,"Espagne"]
[null,"Allemagne"]
["27ème","Italie",null,{"$f":"SUM(C137:C140)","v":0},null,{"$f":"SUM(E137:E140)","v":0},null,{"$f":"SUM(G137:G140)","v":0},null,{"$f":"SUM(I137:I140)","v":0},null,{"$f":"SUM(K137:K140)","v":0},null,{"$f":"SUM(M137:M140)","v":0}]
[null,"Angleterre"]
[null,"Espagne"]
[null,"Allemagne"]
["28ème","Italie",null,{"$f":"SUM(C141:C144)","v":0},null,{"$f":"SUM(E141:E144)","v":0},null,{"$f":"SUM(G141:G144)","v":0},null,{"$f":"SUM(I141:I144)","v":0},null,{"$f":"SUM(K141:K144)","v":0},null,{"$f":"SUM(M141:M144)","v":0}]
[null,"Angleterre"]
[null,"Espagne"]
[null,"Allemagne"]
["29ème","Italie",null,{"$f":"SUM(C145:C148)","v":0},null,{"$f":"SUM(E145:E148)","v":0},null,{"$f":"SUM(G145:G148)","v":0},null,{"$f":"SUM(I145:I148)","v":0},null,{"$f":"SUM(K145:K148)","v":0},null,{"$f":"SUM(M145:M148)","v":0}]
[null,"Angleterre"]
[null,"Espagne"]
[null,"Allemagne"]
["30ème","Italie",null,{"$f":"SUM(C149:C152)","v":0},null,{"$f":"SUM(E149:E152)","v":0},null,{"$f":"SUM(G149:G152)","v":0},null,{"$f":"SUM(I149:I152)","v":0},null,{"$f":"SUM(K149:K152)","v":0},null,{"$f":"SUM(M149:M152)","v":0}]
[null,"Angleterre"]
[null,"Espagne"]
[null,"Allemagne"]
["31er","Italie",null,{"$f":"SUM(C153:C156)","v":0},null,{"$f":"SUM(E153:E156)","v":0},null,{"$f":"SUM(G153:G156)","v":0},null,{"$f":"SUM(I153:I156)","v":0},null,{"$f":"SUM(K153:K156)","v":0},null,{"$f":"SUM(M153:M156)","v":0}]
[null,"Angleterre"]
[null,"Espagne"]
[null,"Allemagne"]
["32ème","Italie",null,{"$f":"SUM(C157:C160)","v":0},null,{"$f":"SUM(E157:E160)","v":0},null,{"$f":"SUM(G157:G160)","v":0},null,{"$f":"SUM(I157:I160)","v":0},null,{"$f":"SUM(K157:K160)","v":0},null,{"$f":"SUM(M157:M160)","v":0}]
[null,"Angleterre"]
[null,"Espagne"]
[null,"Allemagne"]
["33ème","Italie",null,{"$f":"SUM(C161:C164)","v":0},null,{"$f":"SUM(E161:E164)","v":0},null,{"$f":"SUM(G161:G164)","v":0},null,{"$f":"SUM(I161:I164)","v":0},null,{"$f":"SUM(K161:K164)","v":0},null,{"$f":"SUM(M161:M164)","v":0}]
[null,"Angleterre"]
[null,"Espagne"]
[null,"Allemagne"]
["34ème","Italie",null,{"$f":"SUM(C165:C168)","v":0},null,{"$f":"SUM(E165:E168)","v":0},null,{"$f":"SUM(G165:G168)","v":0},null,{"$f":"SUM(I165:I168)","v":0},null,{"$f":"SUM(K165:K168)","v":0},null,{"$f":"SUM(M165:M168)","v":0}]
[null,"Angleterre"]
[null,"Espagne"]
[null,"Allemagne"]
["35ème","Italie",null,{"$f":"SUM(C169:C171)+C168","v":0},null,{"$f":"SUM(E169:E171)+E168","v":0},null,{"$f":"SUM(G169:G171)+G168","v":0},null,{"$f":"SUM(I169:I171)+I168","v":0},null,{"$f":"SUM(K169:K171)+K168","v":0},null,{"$f":"SUM(M169:M171)+M168","v":0}]
[null,"Angleterre"]
[null,"Espagne"]
["36ème","Italie",null,{"$f":"SUM(C172:C174)+C168","v":0},null,{"$f":"SUM(E172:E174)+E168","v":0},null,{"$f":"SUM(G172:G174)+G168","v":0},null,{"$f":"SUM(I172:I174)+I168","v":0},null,{"$f":"SUM(K172:K174)+K168","v":0},null,{"$f":"SUM(M172:M174)+M168","v":0}]
[null,"Angleterre"]
[null,"Espagne"]
["37ème","Italie",null,{"$f":"SUM(C175:C177)+C168","v":0},null,{"$f":"SUM(E175:E177)+E168","v":0},null,{"$f":"SUM(G175:G177)+G168","v":0},null,{"$f":"SUM(I175:I177)+I168","v":0},null,{"$f":"SUM(K175:K177)+K168","v":0},null,{"$f":"SUM(M175:M177)+M168","v":0}]
[null,"Angleterre"]
[null,"Espagne"]
["38ème","Italie",null,{"$f":"SUM(C178:C180)+C168","v":0},null,{"$f":"SUM(E178:E180)+E168","v":0},null,{"$f":"SUM(G178:G180)+G168","v":0},null,{"$f":"SUM(I178:I180)+I168","v":0},null,{"$f":"SUM(K178:K180)+K168","v":0},null,{"$f":"SUM(M178:M180)+M168","v":0}]
[null,"Angleterre"]
[null,"Espagne"]
[]
[null,null,"1er au balcon",null,"2nd",null,"3ème",null,"4ème",null,"5ème",null,"Fiorèse"]

{"sheet":"La C1 avec Ford et Playstation","index":5,"n_rows":47,"n_cols":36,"rows_kept":47,"cut":false,"hidden":false,"merged":[[0,0,0,16383],[3,1,18,1],[20,1,27,1],[29,1,32,1],[40,0,47,0],[42,1,45,1],[42,8,45,8],[42,9,45,9],[34,1,35,1],[3,0,37,0],[3,8,18,8],[20,8,27,8],[29,8,32,8],[34,8,35,8]]}
[]
[]
[null,null,"Antoine","Clément","Gianni","Jemisson","Martin","Nathan","Points","Réalité",null,null,null,null,null,null,null,null,null,null,null,null,null,null,null,null,null,"Real Madrid",null,null,"antoine","clem","gianni","jems","mart","nath"]
[null,"Qualifiés 1/8e de finale","PSG","PSG","PSG","PSG","PSG","PSG","2,5pts par équipe",null,null,null,null,null,null,null,null,null,null,null,null,null,null,null,null,null,null,"Barcelone","Real Madrid","huit",{"$f":"IF(OR($J4=C$4,$J4=C$5,$J4=C$6,$J4=C$7,$J4=C$8,$J4=C$9,$J4=C$10,$J4=C$11,$J4=C$12,$J4=C$13,$J4=C$14,$J4=C$15,$J4=C$16,$J4=C$17,$J4=C$18,$J4=C$19),2.5,0)","v":0},{"$f":"IF(OR($J4=D$4,$J4=D$5,$J4=D$6,$J4=D$7,$J4=D$8,$J4=D$9,$J4=D$10,$J4=D$11,$J4=D$12,$J4=D$13,$J4=D$14,$J4=D$15,$J4=D$16,$J4=D$17,$J4=D$18,$J4=D$19),2.5,0)","v":0},0,0,0,0]
[null,null,"Barcelone","Barcelone","Barcelone","Barcelone","Barcelone","Barcelone",null,null,null,null,null,null,null,null,null,null,null,null,null,null,null,null,null,null,null,"Bayern","Chelsea",null,{"$f":"IF(OR($J5=C$4,$J5=C$5,$J5=C$6,$J5=C$7,$J5=C$8,$J5=C$9,$J5=C$10,$J5=C$11,$J5=C$12,$J5=C$13,$J5=C$14,$J5=C$15,$J5=C$16,$J5=C$17,$J5=C$18,$J5=C$19),2.5,0)","v":0},0,0,0,0,0]
[null,null,"Atletico","Atletico","Atletico","Atletico","Atletico","Atletico",null,null,null,null,null,null,null,null,null,null,null,null,null,null,null,null,null,null,null,"Chelsea","Barcelone",null,0,0,0,0,0,0]
[null,null,"Real Madrid","Real Madrid","Real Madrid","Real Madrid","Real Madrid","Real Madrid",null,null,null,null,null,null,null,null,null,null,null,null,null,null,null,null,null,null,null,"Benfica","Man City",null,0,0,{"$f":"IF(OR($J7=E$4,$J7=E$5,$J7=E$6,$J7=E$7,$J7=E$8,$J7=E$9,$J7=E$10,$J7=E$11,$J7=E$12,$J7=E$13,$J7=E$14,$J7=E$15,$J7=E$16,$J7=E$17,$J7=E$18,$J7=E$19),2.5,0)","v":0},0,0,0]
[null,null,"Juventus","Juventus","Juventus","Juventus","Juventus","Juventus",null,null,null,null,null,null,null,null,null,null,null,null,null,null,null,null,null,null,null,"Atletico","Tottenham",null,0,0,0,{"$f":"IF(OR($J8=F$4,$J8=F$5,$J8=F$6,$J8=F$7,$J8=F$8,$J8=F$9,$J8=F$10,$J8=F$11,$J8=F$12,$J8=F$13,$J8=F$14,$J8=F$15,$J8=F$16,$J8=F$17,$J8=F$18,$J8=F$19),2.5,0)","v":0},0,0]
[null,null,"Liverpool","Liverpool","Liverpool","Liverpool","Liverpool","Liverpool",null,null,null,null,null,null,null,null,null,null,null,null,null,null,null,null,null,null,null,"Arsenal","Inter Milan",null,0,0,0,0,0,0]
[null,null,"Benfica","Benfica","Benfica","Benfica","Benfica","Benfica",null,null,null,null,null,null,null,null,null,null,null,null,null,null,null,null,null,null,null,"Porto","Naples",null,0,0,{"$f":"IF(OR($J10=E$4,$J10=E$5,$J10=E$6,$J10=E$7,$J10=E$8,$J10=E$9,$J10=E$10,$J10=E$11,$J10=E$12,$J10=E$13,$J10=E$14,$J10=E$15,$J10=E$16,$J10=E$17,$J10=E$18,$J10=E$19),2.5,0)","v":0},0,0,0]
[null,null,"Bayern","Bayern","Bayern","Bayern","Bayern","Bayern",null,null,null,null,null,null,null,null,null,null,null,null,null,null,null,null,null,null,null,"Schalke","PSV",null,0,0,0,0,0,0]
[null,null,"Arsenal","Arsenal","Arsenal","Arsenal","Arsenal","Arsenal",null,null,null,null,null,null,null,null,null,null,null,null,null,null,null,null,null,null,null,"Borussia","Wolfsburg",null,0,0,0,0,0,0]
[null,null,"Borussia","Borussia","Borussia","Borussia","Borussia","Borussia",null,null,null,null,null,null,null,null,null,null,null,null,null,null,null,null,null,null,null,"Juventus","Sevilla",null,0,0,0,0,0,0]
[null,null,"Man City","Man City","Man City","Man City","Man City","Man City",null,null,null,null,null,null,null,null,null,null,null,null,null,null,null,null,null,null,null,"PSG","Fiorentina",null,0,0,0,0,0,0]
[null,null,"Chelsea","Chelsea","Chelsea","Chelsea","Chelsea","Chelsea",null,null,null,null,null,null,null,null,null,null,null,null,null,null,null,null,null,null,null,"Shaktar","Benfica",null,0,0,0,0,0,0]
[null,null,"Schalke","Schalke","Schalke","Schalke","Schalke","Schalke",null,null,null,null,null,null,null,null,null,null,null,null,null,null,null,null,null,null,null,"FC Bâle","Roma",null,0,0,0,0,0,0]
[null,null,"Shaktar","Shaktar","Athletic","Shaktar","Athletic","Athletic",null,null,null,null,null,null,null,null,null,null,null,null,null,null,null,null,null,null,null,"Zenith","Athletic",null,{"$f":"IF(OR($J17=C$4,$J17=C$5,$J17=C$6,$J17=C$7,$J17=C$8,$J17=C$9,$J17=C$10,$J17=C$11,$J17=C$12,$J17=C$13,$J17=C$14,$J17=C$15,$J17=C$16,$J17=C$17,$J17=C$18,$J17=C$19),2.5,0)","v":0},{"$f":"IF(OR($J17=D$4,$J17=D$5,$J17=D$6,$J17=D$7,$J17=D$8,$J17=D$9,$J17=D$10,$J17=D$11,$J17=D$12,$J17=D$13,$J17=D$14,$J17=D$15,$J17=D$16,$J17=D$17,$J17=D$18,$J17=D$19),2.5,0)","v":0},0,0,0,0]
[null,null,"Porto","Porto","Porto","Porto","Porto","Porto",null,null,null,null,null,null,null,null,null,null,null,null,null,null,null,null,null,null,null,"Man City","Monaco",null,0,0,0,0,0,0]
[null,null,"Bayer Lev","Bayer Lev","Bayer Lev","Bayer Lev","Bayer Lev","Bayer Lev",null,null,null,null,null,null,null,null,null,null,null,null,null,null,null,null,null,null,null,"Bayer Lev","PSG",null,0,0,0,0,0,0]
[null,"Total",{"$f":"SUM(AE4:AE19)","v":0},0,0,0,0,0,null,null,null,null,null,null,null,null,null,null,null,null,null,null,null,null,null,null,null,"Olympiakos","Bayern","quart",{"$f":"IF(OR($J21=C$21,$J21=C$22,$J21=C$23,$J21=C$24,$J21=C$25,$J21=C$26,$J21=C$27,$J21=C$28),3,0)","v":0},{"$f":"IF(OR($J21=D$21,$J21=D$22,$J21=D$23,$J21=D$24,$J21=D$25,$J21=D$26,$J21=D$27,$J21=D$28),3,0)","v":0},{"$f":"IF(OR($J21=E$21,$J21=E$22,$J21=E$23,$J21=E$24,$J21=E$25,$J21=E$26,$J21=E$27,$J21=E$28),3,0)","v":0},{"$f":"IF(OR($J21=F$21,$J21=F$22,$J21=F$23,$J21=F$24,$J21=F$25,$J21=F$26,$J21=F$27,$J21=F$28),3,0)","v":0},{"$f":"IF(OR($J21=G$21,$J21=G$22,$J21=G$23,$J21=G$24,$J21=G$25,$J21=G$26,$J21=G$27,$J21=G$28),3,0)","v":0},{"$f":"IF(OR($J21=H$21,$J21=H$22,$J21=H$23,$J21=H$24,$J21=H$25,$J21=H$26,$J21=H$27,$J21=H$28),3,0)","v":0}]
[null,"Qualifiés 1/4 de finale","Arsenal","PSG","PSG","PSG","PSG","PSG","3pts par équipe",null,null,null,null,null,null,null,null,null,null,null,null,null,null,null,null,null,null,"CSKA","Chelsea",null,0,{"$f":"IF(OR($J22=D$21,$J22=D$22,$J22=D$23,$J22=D$24,$J22=D$25,$J22=D$26,$J22=D$27,$J22=D$28),3,0)","v":0},0,0,0,0]
[null,null,"Barcelone","Barcelone","Barcelone","Barcelone","Barcelone","Barcelone",null,null,null,null,null,null,null,null,null,null,null,null,null,null,null,null,null,null,null,"Ajax","Juventus",null,0,{"$f":"IF(OR($J23=D$21,$J23=D$22,$J23=D$23,$J23=D$24,$J23=D$25,$J23=D$26,$J23=D$27,$J23=D$28),3,0)","v":0},0,0,0,0]
[null,null,"Juventus","Liverpool","Juventus","Juventus","Juventus","Juventus",null,null,null,null,null,null,null,null,null,null,null,null,null,null,null,null,null,null,null,"Liverpool",null,null,0,0,0,0,0,0]
[null,null,"Real Madrid","Real Madrid","Real Madrid","Real Madrid","Real Madrid","Real Madrid",null,null,null,null,null,null,null,null,null,null,null,null,null,null,null,null,null,null,null,"Sporting",null,null,0,0,0,0,0,0]
[null,null,"Borussia","Borussia","Borussia","Liverpool","Borussia","Porto",null,null,null,null,null,null,null,null,null,null,null,null,null,null,null,null,null,null,null,"Galatasaray",null,null,0,0,0,0,0,0]
[null,null,"Bayern","Bayern","Bayern","Bayern","Bayern","Bayern",null,null,null,null,null,null,null,null,null,null,null,null,null,null,null,null,null,null,null,"Athletic",null,null,0,0,0,0,0,0]
[null,null,"Man City","Man City","Man City","Man City","Man City","Man City",null,null,null,null,null,null,null,null,null,null,null,null,null,null,null,null,null,null,null,"Anderlecht",null,null,0,0,0,0,0,0]
[null,null,"Chelsea","Chelsea","Chelsea","Chelsea","Chelsea","Chelsea",null,null,null,null,null,null,null,null,null,null,null,null,null,null,null,null,null,null,null,"Roma",null,"demi",{"$f":"IF(OR($J30=C$33,$J30=C$32,$J30=C$31,$J30=C$30),6,0)","v":0},{"$f":"IF(OR($J30=D$33,$J30=D$32,$J30=D$31,$J30=D$30),6,0)","v":0},{"$f":"IF(OR($J30=E$33,$J30=E$32,$J30=E$31,$J30=E$30),6,0)","v":0},{"$f":"IF(OR($J30=F$33,$J30=F$32,$J30=F$31,$J30=F$30),6,0)","v":0},{"$f":"IF(OR($J30=G$33,$J30=G$32,$J30=G$31,$J30=G$30),6,0)","v":0},{"$f":"IF(OR($J30=H$33,$J30=H$32,$J30=H$31,$J30=H$30),6,0)","v":0}]
[null,"Total",{"$f":"SUM(AE20:AE27)","v":0},0,0,0,0,0,null,null,null,null,null,null,null,null,null,null,null,null,null,null,null,null,null,null,null,"APOEL",null,null,0,0,0,0,0,0]
[null,"Qualifiés 1/2 finale","Barcelone","PSG","Barcelone","Real Madrid","Real Madrid","Real Madrid","6pts par équipe","Malmö",null,null,null,null,null,null,null,null,null,null,null,null,null,null,null,null,null,"BATE",null,null,0,0,0,0,0,0]
[null,null,"Real Madrid","Real Madrid","Real Madrid","PSG","Bayern","Bayern",null,null,null,null,null,null,null,null,null,null,null,null,null,null,null,null,null,null,null,"Ludogorets",null,null,0,0,0,0,0,0]
[null,null,"Bayern","Bayern","PSG","Bayern","Man City","Chelsea",null,null,null,null,null,null,null,null,null,null,null,null,null,null,null,null,null,null,null,"Maribor",null,"finale",{"$f":"IF(OR($J35=C$36,$J35=C$35),13,0)","v":0},{"$f":"IF(OR($J35=D$36,$J35=D$35),13,0)","v":0},0,0,0,0]
[null,null,"Chelsea","Chelsea","Man City","Barcelone","PSG","PSG",null,null,null,null,null,null,null,null,null,null,null,null,null,null,null,null,null,null,null,"Monaco",null,null,0,0,0,0,0,0]
[null,"Total",{"$f":"SUM(AE28:AE31)","v":0},0,0,0,0,0,null,null,null,null,null,null,null,null,null,null,null,null,null,null,null,null,null,null,null,"Malmö",null,"vainqueur",{"$f":"IF($J38=C$38,24,0)","v":0},{"$f":"IF($J38=D$38,24,0)","v":0},0,0,0,0]
[null,"Finalistes","Barcelone","Chelsea","Barcelone","Real Madrid","Real Madrid","Real Madrid","13pts par équipe","Malmö"]
[null,null,"Real Madrid","PSG","Man City","Barcelone","Bayern","PSG",null,null,null,null,null,null,null,null,null,null,null,null,null,null,null,null,null,null,null,null,null,"c3",{"$f":"IF(OR($J43=C$43,$J43=C$44,$J43=C$45,$J43=C$46),15,0)","v":0},0,0,0,0,0]
[null,"Total",{"$f":"SUM(AE32:AE33)","v":0},0,0,0,0,0]
[null,"Vainqueur","Barcelone","Chelsea","Man City","Real Madrid","Real Madrid","Real Madrid","24pts","Malmö"]
[null,"Total",{"$f":"AE34","v":0},0,0,0,0,0]
[null,"TOTAL",{"$f":"C37+C34+C29+C20+C39","v":0},0,0,0,0,0]
[]
[null,null,"Antoine","Clément","Gianni","Jemisson","Martin","Nathan","Points","Réalité"]
[null,"Vainqueur","Real Madrid","Tottenham","Wolfsburg","Naples","Monaco","Juventus","15pts"]
[null,null,"Chelsea","Inter Milan","Naples","Roma","Naples","PSG"]
[null,null,"Barcelone","Naples","Sevilla","Benfica","Inter Milan","Bayern"]
[null,null,"Man City","PSV","Fiorentina","Athletic","Roma","Chelsea"]
[null,"TOTAL",{"$f":"AE36","v":0},0,0,0,0,0]

{"sheet":"Analyse LE 2015","index":6,"n_rows":191,"n_cols":9,"rows_kept":191,"cut":false,"hidden":false,"merged":[[113,1,114,1],[135,1,135,2],[115,1,119,1],[165,1,166,1],[136,1,137,1],[138,1,139,1],[140,1,141,1],[142,1,143,1],[164,1,164,2],[152,1,159,1],[150,1,151,1],[144,1,148,1],[121,1,122,1],[123,1,130,1],[181,1,188,1],[167,1,168,1],[169,1,170,1],[171,1,172,1],[173,1,177,1],[179,1,180,1],[19,1,19,2],[48,1,48,2],[51,1,52,1],[53,1,54,1],[92,1,93,1],[34,1,35,1],[20,1,21,1],[22,1,23,1],[24,1,25,1],[26,1,27,1],[28,1,32,1],[36,1,43,1],[49,1,50,1],[78,1,79,1],[80,1,81,1],[55,1,56,1],[111,1,112,1],[106,1,106,2],[86,1,90,1],[82,1,83,1],[84,1,85,1],[107,1,108,1],[109,1,110,1],[57,1,61,1],[77,1,77,2],[63,1,64,1],[65,1,72,1],[94,1,101,1]]}
[]
[]
[]
[]
[]
[]
[null,null,"ADDA Jemisson","CHARON Nathan","DE COLOMBEL Martin","DEMOTTE Antoine","JEHANNO Clément","MARCHETTI Gianni","MOYENNE"]
[null,"ADDA Jemisson",null,0.72499999999999998,0.82499999999999996,0.72499999999999998,0.72499999999999998,0.75,0.75]
[null,"CHARON Nathan",0.72499999999999998,null,0.7,0.66249999999999998,0.75,0.65,0.69750000000000001]
[null,"DE COLOMBEL Martin",0.82499999999999996,0.7,null,0.7,0.73750000000000004,0.77500000000000002,0.747]
[null,"DEMOTTE Antoine",0.72499999999999998,0.66249999999999998,0.7,null,0.7,0.7,0.69750000000000001]
[null,"JEHANNO Clément",0.72499999999999998,0.75,0.73499999999999999,0.7,null,0.67500000000000004,0.71750000000000003]
[null,"MARCHETTI Gianni",0.75,0.65,0.77500000000000002,0.7,0.67500000000000004,null,0.71]
[null,"MOYENNE",0.75,0.69750000000000001,0.747,0.69750000000000001,0.71750000000000003,0.71]
[]
[]
[null,"il y a 80 noms à donner"]
[]
[]
[null,"ADDA par rapport à :",null,"CHARON","DE COLOMBEL","DEMOTTE","JEHANNO","MARCHETTI"]
[null,"Italie","Champion","1/1","1/1","1/1","1/1","1/1"]
[null,null,"3 Qualifiés C1","2/3","3/3","3/3","2/3","3/3"]
[null,"Angleterre","Champion","1/1","0/1","1/1","1/1","0/1"]
[null,null,"4 qualifiés C1","4/4","3/4","4/4","4/4","4/4"]
[null,"Espagne","Champion","0/1","0/1","1/1","0/1","1/1"]
[null,null,"4 qualifiés C1","4/4","4/4","4/4","4/4","3/4"]
[null,"Allemagne","Champion","0/1","0/1","0/1","0/1","0/1"]
[null,null,"4 qualifiés C1","4/4","4/4","4/4","4/4","3/4"]
[null,"C1","1/8èmes de finale","15/16","15/16","16/16","16/16","15/16"]
[null,null,"1/4 de finale","7/8","7/8","6/8","7/8","7/8"]
[null,null,"1/2 finale","3/4","3/4","3/4","3/4","3/4"]
[null,null,"Finale","1/2","1/2","2/2","0/2","1/2"]
[null,null,"Vainqueur","1/1","1/1","0/1","0/1","0/1"]
[null,"C3","Vainqueur(4 choix)","0/4","2/4","0/4","1/4","1/4"]
[null,"Coupes","Vainqueur Coupe de France","0/1","1/1","1/1","1/1","1/1"]
[null,null,"Vainqueur Coupe de la Ligue","0/1","1/1","1/1","1/1","1/1"]
[null,"Ligue 1","Champion","1/1","1/1","1/1","1/1","1/1"]
[null,null,"3 Qualifiés C1","2/3","2/3","2/3","2/3*","2/3"]
[null,null,"4 premiers","3/4","4/4","2/4","2/4","3/4"]
[null,null,"5ème à 10ème (6 équipes)","3/6","4/6","3/6","1/6","4/6"]
[null,null,"Relégués ","2/3","3/3","1/3","3/3","1/3"]
[null,null,"Promus L2","2/3","3/3","1/3","2/3","2/3"]
[null,null,"Meilleur Passeur (2 choix)","1/2","2/2","0/2","1/2","1/2"]
[null,null,"Meilleur Buteur (2 choix)","1/2","1/2","1/2","1/2","2/2"]
[null,null,null,"TOTAL","TOTAL","TOTAL","TOTAL","TOTAL"]
[null,null,null,"58/80","66/80","58/80","58/80","60/80"]
[]
[]
[null,"CHARON par rapport à :",null,"ADDA","DE COLOMBEL","DEMOTTE","JEHANNO","MARCHETTI"]
[null,"Italie","Champion","1/1","1/1","1/1","1/1","1/1"]
[null,null,"3 Qualifiés C1","2/3","2/3","2/3","3/3","2/3"]
[null,"Angleterre","Champion","1/1","0/1","1/1","1/1","0/1"]
[null,null,"4 qualifiés C1","4/4","3/4","4/4","4/4","4/4"]
[null,"Espagne","Champion","0/1","1/1","0/1","1/1","0/1"]
[null,null,"4 qualifiés C1","4/4","4/4","4/4","4/4","3/4"]
[null,"Allemagne","Champion","0/1","1/1","1/1","1/1","1/1"]
[null,null,"4 qualifiés C1","4/4","4/4","4/4","4/4","3/4"]
[null,"C1","1/8èmes de finale","15/16","16/16","15/16","15/16","16/16"]
[null,null,"1/4 de finale","7/8","6/8","6/8","6/8","7/8"]
[null,null,"1/2 finale","3/4","3/4","3/4","4/4","2/4"]
[null,null,"Finale","1/2","1/2","1/2","1/2","0/2"]
[null,null,"Vainqueur","1/1","1/1","0/1","0/1","0/1"]
[null,"C3","Vainqueur(4 choix)","0/4","0/4","1/4","0/4","0/4"]
[null,"Coupes","Vainqueur Coupe de France","0/1","0/1","0/1","0/1","0/1"]
[null,null,"Vainqueur Coupe de la Ligue","0/1","0/1","0/1","0/1","0/1"]
[null,"Ligue 1","Champion","1/1","1/1","1/1","1/1","1/1"]
[null,null,"3 Qualifiés C1","2/3","1/3","1/3","2/3*","1/3"]
[null,null,"4 premiers","3/4","3/4","2/4","3/4","2/4"]
[null,null,"5ème à 10ème (6 équipes)","3/6","2/6","4/6","2/6","3/6"]
[null,null,"Relégués ","2/3","2/3","1/3","2/3","1/3"]
[null,null,"Promus L2","2/3","2/3","0/3","2/3","3/3"]
[null,null,"Meilleur Passeur (2 choix)","1/2","1/2","0/2","1/2","0/2"]
[null,null,"Meilleur Buteur (2 choix)","1/2","1/2","1/2","2/2","2/2"]
[null,null,null,"TOTAL","TOTAL","TOTAL","TOTAL","TOTAL"]
[null,null,null,"58/80","56/80","53/80","60/80","52/80"]
[]
[]
[null,"DE COLOMBEL par rapport à :",null,"ADDA","CHARON","DEMOTTE","JEHANNO","MARCHETTI"]
[null,"Italie","Champion","1/1","1/1","1/1","1/1","1/1"]
[null,null,"3 Qualifiés C1","3/3","2/3","3/3","2/3","3/3"]
[null,"Angleterre","Champion","0/1","0/1","0/1","0/1","1/1"]
[null,null,"4 qualifiés C1","3/4","3/4","3/4","3/4","3/4"]
[null,"Espagne","Champion","0/1","1/1","1/1","1/1","0/1"]
[null,null,"4 qualifiés C1","4/4","4/4","4/4","4/4","3/4"]
[null,"Allemagne","Champion","0/1","1/1","1/1","1/1","1/1"]
[null,null,"4 qualifiés C1","4/4","4/4","4/4","4/4","3/4"]
[null,"C1","1/8èmes de finale","15/16","16/16","15/16","15/16","16/16"]
[null,null,"1/4 de finale","7/8","6/8","7/8","7/8","8/8"]
[null,null,"1/2 finale","3/4","3/4","2/4","3/4","3/4"]
[null,null,"Finale","1/2","1/2","1/2","0/2","0/2"]
[null,null,"Vainqueur","1/1","1/1","0/1","0/1","0/1"]
[null,"C3","Vainqueur(4 choix)","2/4","0/4","0/4","2/4","1/4"]
[null,"Coupes","Vainqueur Coupe de France","1/1","0/1","1/1","1/1","1/1"]
[null,null,"Vainqueur Coupe de la Ligue","1/1","0/1","1/1","1/1","1/1"]
[null,"Ligue 1","Champion","1/1","1/1","1/1","1/1","1/1"]
[null,null,"3 Qualifiés C1","2/3","1/3","2/3","2/3*","3/3"]
[null,null,"4 premiers","4/4","3/4","2/4","2/4","3/4"]
[null,null,"5ème à 10ème (6 équipes)","4/6","2/6","4/6","2/6","5/6"]
[null,null,"Relégués ","3/3","2/3","1/3","3/3","1/3"]
[null,null,"Promus L2","3/3","2/3","1/3","2/3","2/3"]
[null,null,"Meilleur Passeur (2 choix)","2/2","1/2","0/2","1/2","1/2"]
[null,null,"Meilleur Buteur (2 choix)","1/2","1/2","1/2","1/2","1/2"]
[null,null,null,"TOTAL","TOTAL","TOTAL","TOTAL","TOTAL"]
[null,null,null,"66/80","56/80","56/80","59/80","62/80"]
[]
[]
[null,"DEMOTTE par rapport à :",null,"ADDA","CHARON","DE COLOMBEL","JEHANNO","MARCHETTI"]
[null,"Italie","Champion","1/1","1/1","1/1","1/1","1/1"]
[null,null,"3 Qualifiés C1","3/3","2/3","3/3","2/3","3/3"]
[null,"Angleterre","Champion","1/1","1/1","0/1","1/1","0/1"]
[null,null,"4 qualifiés C1","4/4","4/4","3/4","4/4","4/4"]
[null,"Espagne","Champion","1/1","0/1","1/1","0/1","1/1"]
[null,null,"4 qualifiés C1","4/4","4/4","4/4","4/4","3/4"]
[null,"Allemagne","Champion","0/1","1/1","1/1","1/1","1/1"]
[null,null,"4 qualifiés C1","4/4","4/4","4/4","4/4","3/4"]
[null,"C1","1/8èmes de finale","16/16","15/16","15/16","16/16","15/16"]
[null,null,"1/4 de finale","6/8","6/8","7/8","6/8","7/8"]
[null,null,"1/2 finale","3/4","3/4","2/4","3/4","2/4"]
[null,null,"Finale","2/2","1/2","1/2","0/2","1/2"]
[null,null,"Vainqueur","0/1","0/1","0/1","0/1","0/1"]
[null,"C3","Vainqueur(4 choix)","0/4","1/4","0/4","0/4","0/4"]
[null,"Coupes","Vainqueur Coupe de France","1/1","0/1","1/1","1/1","1/1"]
[null,null,"Vainqueur Coupe de la Ligue","1/1","0/1","1/1","1/1","1/1"]
[null,"Ligue 1","Champion","1/1","1/1","1/1","1/1","1/1"]
[null,null,"3 Qualifiés C1","2/3","1/3","2/3","2/3*","2/3"]
[null,null,"4 premiers","2/4","2/4","2/4","3/4","3/4"]
[null,null,"5ème à 10ème (6 équipes)","3/6","4/6","4/6","3/6","5/6"]
[null,null,"Relégués ","1/3","1/3","1/3","1/3","1/3"]
[null,null,"Promus L2","1/3","0/3","1/3","1/3","0/3"]
[null,null,"Meilleur Passeur (2 choix)","0/2","0/2","0/2","0/2","1/2"]
[null,null,"Meilleur Buteur (2 choix)","1/2","1/2","1/2","1/2","1/2"]
[null,null,null,"TOTAL","TOTAL","TOTAL","TOTAL","TOTAL"]
[null,null,null,"58/80","53/80","56/80","56/80","56/80"]
[]
[]
[null,"JEHANNO par rapport à :",null,"ADDA","CHARON","DE COLOMBEL","DEMOTTE","MARCHETTI"]
[null,"Italie","Champion","1/1","1/1","1/1","1/1","1/1"]
[null,null,"3 Qualifiés C1","2/3","3/3","2/3","2/3","2/3"]
[null,"Angleterre","Champion","1/1","1/1","0/1","1/1","0/1"]
[null,null,"4 qualifiés C1","4/4","4/4","3/4","4/4","4/4"]
[null,"Espagne","Champion","0/1","1/1","1/1","0/1","0/1"]
[null,null,"4 qualifiés C1","4/4","4/4","4/4","4/4","3/4"]
[null,"Allemagne","Champion","0/1","1/1","1/1","1/1","1/1"]
[null,null,"4 qualifiés C1","4/4","4/4","4/4","4/4","3/4"]
[null,"C1","1/8èmes de finale","16/16","15/16","15/16","16/16","15/16"]
[null,null,"1/4 de finale","7/8","6/8","7/8","6/8","7/8"]
[null,null,"1/2 finale","3/4","4/4","3/4","3/4","2/4"]
[null,null,"Finale","0/2","1/2","0/2","0/2","0/2"]
[null,null,"Vainqueur","0/1","0/1","0/1","0/1","0/1"]
[null,"C3","Vainqueur(4 choix)","1/4","0/4","2/4","0/4","1/4"]
[null,"Coupes","Vainqueur Coupe de France","1/1","0/1","1/1","1/1","1/1"]
[null,null,"Vainqueur Coupe de la Ligue","1/1","0/1","1/1","1/1","1/1"]
[null,"Ligue 1","Champion","1/1","1/1","1/1","1/1","1/1"]
[null,null,"3 Qualifiés C1","2/3*","2/3*","2/3*","2/3*","2/3*"]
[null,null,"4 premiers","2/4","3/4","2/4","3/4","3/4"]
[null,null,"5ème à 10ème (6 équipes)","1/6","2/6","2/6","3/6","3/6"]
[null,null,"Relégués ","3/3","2/3","3/3","1/3","1/3"]
[null,null,"Promus L2","2/3","2/3","2/3","1/3","2/3"]
[null,null,"Meilleur Passeur (2 choix)","1/2","1/2","1/2","0/2","0/2"]
[null,null,"Meilleur Buteur (2 choix)","1/2","2/2","1/2","1/2","1/2"]
[null,null,null,"TOTAL","TOTAL","TOTAL","TOTAL","TOTAL"]
[null,null,null,"58/80","60/80","59/80","56/80","54/80"]
[]
[]
[null,"MARCHETTI par rapport à :",null,"ADDA","CHARON","DE COLOMBEL","DEMOTTE","JEHANNO"]
[null,"Italie","Champion","1/1","1/1","1/1","1/1","1/1"]
[null,null,"3 Qualifiés C1","3/3","2/3","3/3","3/3","2/3"]
[null,"Angleterre","Champion","0/1","0/1","1/1","0/1","0/1"]
[null,null,"4 qualifiés C1","4/4","4/4","3/4","4/4","4/4"]
[null,"Espagne","Champion","1/1","0/1","0/1","1/1","0/1"]
[null,null,"4 qualifiés C1","3/4","3/4","3/4","3/4","3/4"]
[null,"Allemagne","Champion","0/1","1/1","1/1","1/1","1/1"]
[null,null,"4 qualifiés C1","3/4","3/4","3/4","3/4","3/4"]
[null,"C1","1/8èmes de finale","15/16","16/16","16/16","15/16","15/16"]
[null,null,"1/4 de finale","7/8","7/8","8/8","7/8","7/8"]
[null,null,"1/2 finale","3/4","2/4","3/4","2/4","2/4"]
[null,null,"Finale","1/2","0/2","0/2","1/2","0/2"]
[null,null,"Vainqueur","0/1","0/1","0/1","0/1","0/1"]
[null,"C3","Vainqueur(4 choix)","1/4","0/4","1/4","0/4","1/4"]
[null,"Coupes","Vainqueur Coupe de France","1/1","0/1","1/1","1/1","1/1"]
[null,null,"Vainqueur Coupe de la Ligue","1/1","0/1","1/1","1/1","1/1"]
[null,"Ligue 1","Champion","1/1","1/1","1/1","1/1","1/1"]
[null,null,"3 Qualifiés C1","2/3","1/3","3/3","2/3","2/3*"]
[null,null,"4 premiers","3/4","2/4","3/4","3/4","3/4"]
[null,null,"5ème à 10ème (6 équipes)","4/6","3/6","5/6","5/6","3/6"]
[null,null,"Relégués ","1/3","1/3","1/3","1/3","1/3"]
[null,null,"Promus L2","2/3","3/3","2/3","0/3","2/3"]
[null,null,"Meilleur Passeur (2 choix)","1/2","0/2","1/2","1/2","0/2"]
[null,null,"Meilleur Buteur (2 choix)","2/2","2/2","1/2","1/2","1/2"]
[null,null,null,"TOTAL","TOTAL","TOTAL","TOTAL","TOTAL"]
[null,null,null,"60/80","52/80","62/80","56/80","54/80"]

{"sheet":"Les paris avec Bwin","index":7,"n_rows":69,"n_cols":18,"rows_kept":69,"cut":false,"hidden":false,"merged":[[54,3,56,3],[69,0,71,0],[69,10,71,10],[69,11,71,11],[69,12,71,12],[59,0,61,0],[59,10,61,10],[59,11,61,11],[59,12,61,12],[54,7,56,7],[69,13,71,13],[64,0,66,0],[64,10,66,10],[64,11,66,11],[64,12,66,12],[64,13,66,13],[59,13,61,13],[49,13,51,13],[54,0,56,0],[54,10,56,10],[54,11,56,11],[54,12,56,12],[54,13,56,13],[49,1,51,1],[49,2,51,2],[49,3,51,3],[49,4,51,4],[49,5,51,5],[49,6,51,6],[49,7,51,7],[49,8,51,8],[49,9,51,9],[39,1,41,1],[49,0,51,0],[49,10,51,10],[49,11,51,11],[49,12,51,12],[39,0,41,0],[39,10,41,10],[39,12,41,12],[44,0,46,0],[44,10,46,10],[44,12,46,12],[39,11,41,11],[44,11,46,11],[39,9,41,9],[39,8,41,8],[39,7,41,7],[39,13,41,13],[44,13,46,13],[19,13,21,13],[24,13,26,13],[29,13,31,13],[34,13,36,13],[39,6,41,6],[39,5,41,5],[39,4,41,4],[39,3,41,3],[39,2,41,2],[29,0,31,0],[29,10,31,10],[29,12,31,12],[34,0,36,0],[34,10,36,10],[34,12,36,12],[29,11,31,11],[34,11,36,11],[19,0,21,0],[19,10,21,10],[19,12,21,12],[24,0,26,0],[24,10,26,10],[24,12,26,12],[19,11,21,11],[24,11,26,11],[0,0,9,16383],[14,10,16,10],[14,0,16,0],[11,0,11,1],[14,12,16,12],[14,11,16,11],[13,15,13,17],[14,13,16,13]]}
[]
[]
[]
[]
[]
[]
[]
[]
[]
[]
[]
["Pot de départ : 117,7€"]
[]
["date du pari","matchs pariés","Antoine","Clément","Gianni","Jemisson","Martin","Nathan","pari définitif","résultat","mise","cote","solde après pari","parieur",null,"Bilan"]
["2014-10-18","Marseille - Toulouse",1,"N","N","N",1,null,"N",1,5,8.9600000000000009,112.7,"Martin",null,117.7,"€","-"]
[null,"Monaco - Evian-TG",1,1,1,1,1,null,1,1,null,null,null,null,null,112.7,"€","m"]
[null,"Lyon - Montpellier",1,1,2,1,1,null,1,1,null,null,null,null,null,123.7,"€","k"]
[null,null,null,null,null,null,null,null,null,null,null,null,null,null,null,118.7,"€","m"]
["date du pari","matchs pariés","Antoine","Clément","Gianni","Jemisson","Martin","Nathan","pari définitif","résultat","mise","cote","solde après pari","parieur",null,113.7,"€","m"]
["2014-10-21","Barca - Ajax",1,1,1,1,1,1,1,1,10,2.13,123.7,"Jemisson",null,103.7,"€","m"]
[null,"Chelsea - Maribor",1,1,1,1,1,1,1,1,null,null,null,null,null,110.5,"€","k"]
[null,"Porto - Atletico Bilbao",1,1,"N",1,1,1,1,1,null,null,null,null,null,121.03,"€","k"]
[null,null,null,null,null,null,null,null,null,null,null,null,null,null,null,128.03,"€","k"]
["date du pari","matchs pariés","Antoine","Clément","Gianni","Jemisson","Martin","Nathan","pari définitif","résultat","mise","cote","solde après pari","parieur",null,127.03,"€","m"]
["2014-10-25","Toulouse - Lens",1,1,1,1,1,null,1,2,5,8.2799999999999994,118.7,"Gianni",null,117.03,"€","m"]
[null,"Guingamp - Nice",2,2,2,"N","N",null,2,2,null,null,null,null,null,null,"€"]
[null,"Saint-Etienne - Metz",1,1,1,1,1,null,1,1,null,null,null,null,null,null,"€"]
[null,null,null,null,null,null,null,null,null,null,null,null,null,null,null,null,"€"]
["date du pari","matchs pariés","Antoine","Clément","Gianni","Jemisson","Martin","Nathan","pari définitif","résultat","mise","cote","solde après pari","parieur",null,null,"€"]
["2014-10-30","Monaco-Reims",1,1,1,1,1,1,1,"N",5,4.5,113.7,"Nathan",null,null,"€"]
[null,"Lorient-Paris",1,2,2,2,2,2,2,2,null,null,null,null,null,null,"€"]
[null,"Nice-Lyon",1,2,"N",2,2,2,2,2,null,null,null,null,null,null,"€"]
[null,null,null,null,null,null,null,null,null,null,null,null,null,null,null,null,"€"]
["date du pari","matchs pariés","Antoine","Clément","Gianni","Jemisson","Martin","Nathan","pari définitif","résultat","mise","cote","solde après pari","parieur",null,null,"€"]
["2014-11-04","Juventus - Olympiakos",1,1,1,1,1,null,1,1,10,2.33,103.7,"Antoine",null,null,"€"]
[null,"Arsenal - Anderlecht",1,1,1,1,1,null,1,"N"]
[null,"Maribor - Chelsea",1,2,1,2,2,null,2,"N"]
[]
["date du pari","matchs pariés","Antoine","Clément","Gianni","Jemisson","Martin","Nathan","pari définitif","résultat","mise","cote","solde après pari","parieur"]
["2014-11-09","Paris-Marseille",1,1,null,1,1,null,1,1,10,1.68,110.5,"Clément"]
[]
[]
[]
["date du pari","matchs pariés","Antoine","Clément","Gianni","Jemisson","Martin","Nathan","pari définitif","résultat","mise","cote","solde après pari","parieur"]
["2014-11-21","Chelsea-West Brom",1,null,1,1,1,1,1,1,10,2.0499999999999998,121.03,"Martin"]
[null,"Eibar-Real",2,null,2,2,2,2,2,2]
[null,"Metz-PSG",2,null,2,2,2,2,2,2]
[]
["date du pari","matchs pariés","Antoine","Clément","Gianni","Jemisson","Martin","Nathan","pari définitif","résultat","mise","cote","solde après pari","parieur"]
["2014-11-26","Bâle-Real",2,null,2,2,2,null,2,2,20,1.4,128.03,"Jemisson"]
[]
[]
[]
["date du pari","matchs pariés","Antoine","Clément","Gianni","Jemisson","Martin","Nathan","pari définitif","résultat","mise","cote","solde après pari","parieur"]
["2014-11-27","Guingamp-Fio",2,null,2,2,2,null,2,2,2,11.5,127.03,"Gianni"]
[null,"???-Naples",2,null,2,2,2,null,2,"N"]
[null,"Inter-Dnipro",1,null,1,1,1,null,1,1]
[]
["date du pari","matchs pariés","Antoine","Clément","Gianni","Jemisson","Martin","Nathan","pari définitif","résultat","mise","cote","solde après pari","parieur"]
["2014-11-30","PSG-Nice",1,1,1,1,1,1,1,1,10,2.06,117.03,"Nathan"]
[null,"Sunderland-Chelsea",2,2,2,2,2,2,2,"N"]
[null,"Juve-Torino",1,1,1,1,1,1,1,1]
[]
["date du pari","matchs pariés","Antoine","Clément","Gianni","Jemisson","Martin","Nathan","pari définitif","résultat","mise","cote","solde après pari","parieur"]
[]
[]
[]
[]
["date du pari","matchs pariés","Antoine","Clément","Gianni","Jemisson","Martin","Nathan","pari définitif","résultat","mise","cote","solde après pari","parieur"]

{"sheet":"L'analyse de Pierre Meneze","index":8,"n_rows":119,"n_cols":1,"rows_kept":119,"cut":false,"hidden":false,"merged":[]}
[]
[]
[]
[]
[]
[]
[]
[]
[]
[]
[]
[]
[]
[]
[]
[]
[]
[]
[]
[]
[]
[]
[]
[]
[]
[]
[]
[]
[]
[]
[]
[]
[]
[]
[]
[]
[]
[]
[]
[]
[]
[]
[]
[]
[]
[]
[]
[]
[]
[]
[]
[]
[]
[]
[]
[]
[]
[]
[]
[]
[]
[]
[]
[]
[]
[]
[]
[]
[]
[]
[]
[]
[]
[]
[]
[]
[]
[]
[]
[]
[]
[]
[]
[]
[]
[]
[]
[]
[]
[]
[]
[]
[]
[]
[]
[]
[]
[]
[]
[]
[]
[]
[]
[]
[]
[]
[]
[]
[]
[]
[]
[]
[]
[]
[]
[]
[]
[]
["i"]

{"sheet":"Autres articles","index":9,"n_rows":131,"n_cols":1,"rows_kept":131,"cut":false,"hidden":false,"merged":[]}
[]
[]
[]
[]
[]
[]
[]
[]
[]
[]
[]
[]
[]
[]
[]
[]
[]
[]
[]
[]
[]
[]
[]
[]
[]
[]
[]
[]
[]
[]
[]
[]
[]
[]
[]
[]
[]
[]
[]
[]
[]
[]
[]
[]
[]
[]
[]
[]
[]
[]
[]
[]
[]
[]
[]
[]
[]
[]
[]
[]
[]
[]
[]
[]
[]
[]
[]
[]
[]
[]
[]
[]
[]
[]
[]
[]
[]
[]
[]
[]
[]
[]
[]
[]
[]
[]
[]
[]
[]
[]
[]
[]
[]
[]
[]
[]
[]
[]
[]
[]
[]
[]
[]
[]
[]
[]
[]
[]
[]
[]
[]
[]
[]
[]
[]
[]
[]
[]
[]
[]
[]
[]
[]
[]
[]
[]
[]
[]
[]
[]
["i"]

{"sheet":"Photos","index":10,"n_rows":92,"n_cols":21,"rows_kept":92,"cut":false,"hidden":false,"merged":[[91,20,91,22],[19,1,19,3],[40,1,40,3],[53,1,54,3],[67,1,67,4],[22,14,23,15],[46,5,47,7],[55,5,55,7],[55,16,55,18],[56,20,56,22],[22,17,23,18],[43,16,44,18],[14,20,15,22],[32,20,33,22],[45,20,45,22],[65,20,65,22],[22,5,22,11]]}
[]
[]
[]
[]
[]
[]
[]
[]
[]
[]
[]
[]
[]
[]
[null,null,null,null,null,null,null,null,null,null,null,null,null,null,null,null,null,null,null,null,"Le graphiste, Nathan et la juriste"]
[]
[]
[]
[]
[null,"Gala 2012"]
[]
[]
[null,null,null,null,null,"Signatures des premiers contrats de la Ligue Etincelle - 2008",null,null,null,null,null,null,null,null,"Variante ancien logo",null,null,"Logo Trophée Maryse Burgot"]
[]
[]
[]
[]
[]
[]
[]
[]
[]
[null,null,null,null,null,null,null,null,null,null,null,null,null,null,null,null,null,null,null,null,"Le Trophée de la Ligue Etincelle"]
[]
[]
[]
[]
[]
[]
[]
[null,"Gala 2012"]
[]
[]
[null,null,null,null,null,null,null,null,null,null,null,null,null,null,null,null,"Jemisson avec le Trophée Maryse Burgot en 2014"]
[]
[null,null,null,null,null,null,null,null,null,null,null,null,null,null,null,null,null,null,null,null,"Ancien Logo"]
[null,null,null,null,null,"Flyer Gala de la Ligue Etincelle 2014"]
[]
[]
[]
[]
[]
[]
[null,"Clément et un représentant de la Lenine League"]
[]
[null,null,null,null,null,"Pierre Menèze",null,null,null,null,null,null,null,null,null,null,"Gala 2014"]
[null,null,null,null,null,null,null,null,null,null,null,null,null,null,null,null,null,null,null,null,"Projet de refonte du logo"]
[]
[]
[]
[]
[]
[]
[]
[]
[null,null,null,null,null,null,null,null,null,null,null,null,null,null,null,null,null,null,null,null,"Gala 2014"]
[]
[null,"Gala 2014"]
[]
[]
[]
[]
[]
[]
[]
[]
[]
[]
[]
[]
[]
[]
[]
[]
[]
[]
[]
[]
[]
[]
[]
[null,null,null,null,null,null,null,null,null,null,null,null,null,null,null,null,null,null,null,null,"Gala 2014"]