{"text_format":"1","workbook":"xlsx","n_sheets":4,"sheets":["Echecs","Pieces","Placements","MiseEnEchec"],"not_rendered":{"charts":0,"images":0,"macros":1,"external_links":0,"defined_names":2,"comments":0,"pivot_tables":0},"unopened":[],"bounds":{"document_bytes":16777216,"sheet_cells":100000,"rows_first":2000,"rows_last":500,"rows_between":2000,"halvings":0,"cell_chars":16384,"cell_head_chars":4096},"cells_cut":0,"cells_raw":0,"read":"whole","date_system":"1900"}

{"sheet":"Echecs","index":0,"n_rows":20,"n_cols":29,"rows_kept":20,"cut":false,"hidden":false,"merged":[[0,16,0,19],[0,9,0,10],[0,12,0,15],[0,20,0,27]]}
["TB","CB","FB","DB","RB","FB","CB","TB",null,"Pions",null,"Cavalier","Fou",null,null,null,"Tour",null,null,null,"Dame",null,null,null,null,null,null,null,"Roi"]
[null,"PB","PB","PB","PB","PB","PB","PB",null,null,null,null,"BD","HG","HD","BG","Haut","Bas","gauche","droite","H","B","G","D","HD","BD","HG","BG"]
["PB",null,null,null,null,null,null,null,null,{"$f":"Placements!A1","v":0},{"$f":"Placements!B1","v":0},{"$f":"Placements!C1","v":0},{"$f":"Placements!D1","v":0},{"$f":"Placements!E1","v":0},{"$f":"Placements!F1","v":0},{"$f":"Placements!G1","v":0},{"$f":"Placements!H1","v":0},{"$f":"Placements!I1","v":0},{"$f":"Placements!J1","v":0},{"$f":"Placements!K1","v":0},{"$f":"Placements!L1","v":0},{"$f":"Placements!M1","v":0},{"$f":"Placements!N1","v":0},{"$f":"Placements!O1","v":0},{"$f":"Placements!P1","v":0},{"$f":"Placements!Q1","v":0},{"$f":"Placements!R1","v":0},{"$f":"Placements!S1","v":0},{"$f":"Placements!T1","v":0}]
[null,null,null,"DN","RB",null,null,null,null,{"$f":"Placements!A2","v":0},{"$f":"Placements!B2","v":"6A"},{"$f":"Placements!C2","v":0},{"$f":"Placements!D2","v":0},{"$f":"Placements!E2","v":0},{"$f":"Placements!F2","v":0},{"$f":"Placements!G2","v":0},{"$f":"Placements!H2","v":0},{"$f":"Placements!I2","v":0},{"$f":"Placements!J2","v":0},{"$f":"Placements!K2","v":0},{"$f":"Placements!L2","v":0},{"$f":"Placements!M2","v":0},{"$f":"Placements!N2","v":0},{"$f":"Placements!O2","v":0},{"$f":"Placements!P2","v":0},{"$f":"Placements!Q2","v":0},{"$f":"Placements!R2","v":0},{"$f":"Placements!S2","v":0},{"$f":"Placements!T2","v":0}]
[null,null,null,null,null,null,null,null,null,{"$f":"Placements!A3","v":0},{"$f":"Placements!B3","v":"5A"},{"$f":"Placements!C3","v":0},{"$f":"Placements!D3","v":0},{"$f":"Placements!E3","v":0},{"$f":"Placements!F3","v":0},{"$f":"Placements!G3","v":0},{"$f":"Placements!H3","v":0},{"$f":"Placements!I3","v":0},{"$f":"Placements!J3","v":0},{"$f":"Placements!K3","v":0},{"$f":"Placements!L3","v":0},{"$f":"Placements!M3","v":0},{"$f":"Placements!N3","v":0},{"$f":"Placements!O3","v":0},{"$f":"Placements!P3","v":0},{"$f":"Placements!Q3","v":0},{"$f":"Placements!R3","v":0},{"$f":"Placements!S3","v":0},{"$f":"Placements!T3","v":0}]
["PN",null,null,null,null,null,null,null,null,{"$f":"Placements!A4","v":0},{"$f":"Placements!B4","v":0},{"$f":"Placements!C4","v":0},{"$f":"Placements!D4","v":0},{"$f":"Placements!E4","v":0},{"$f":"Placements!F4","v":0},{"$f":"Placements!G4","v":0},{"$f":"Placements!H4","v":0},{"$f":"Placements!I4","v":0},{"$f":"Placements!J4","v":0},{"$f":"Placements!K4","v":0},{"$f":"Placements!L4","v":0},{"$f":"Placements!M4","v":0},{"$f":"Placements!N4","v":0},{"$f":"Placements!O4","v":0},{"$f":"Placements!P4","v":0},{"$f":"Placements!Q4","v":0},{"$f":"Placements!R4","v":0},{"$f":"Placements!S4","v":0},{"$f":"Placements!T4","v":0}]
[null,"PN","PN","PN","PN","PN","PN","PN",null,{"$f":"Placements!A5","v":0},{"$f":"Placements!B5","v":0},{"$f":"Placements!C5","v":0},{"$f":"Placements!D5","v":0},{"$f":"Placements!E5","v":0},{"$f":"Placements!F5","v":0},{"$f":"Placements!G5","v":0},{"$f":"Placements!H5","v":0},{"$f":"Placements!I5","v":0},{"$f":"Placements!J5","v":0},{"$f":"Placements!K5","v":0},{"$f":"Placements!L5","v":0},{"$f":"Placements!M5","v":0},{"$f":"Placements!N5","v":0},{"$f":"Placements!O5","v":0},{"$f":"Placements!P5","v":0},{"$f":"Placements!Q5","v":0},{"$f":"Placements!R5","v":0},{"$f":"Placements!S5","v":0},{"$f":"Placements!T5","v":0}]
["TN","CN","FN","DN","RN","FN","CN","RN",null,{"$f":"Placements!A6","v":0},{"$f":"Placements!B6","v":0},{"$f":"Placements!C6","v":0},{"$f":"Placements!D6","v":0},{"$f":"Placements!E6","v":0},{"$f":"Placements!F6","v":0},{"$f":"Placements!G6","v":0},{"$f":"Placements!H6","v":0},{"$f":"Placements!I6","v":0},{"$f":"Placements!J6","v":0},{"$f":"Placements!K6","v":0},{"$f":"Placements!L6","v":0},{"$f":"Placements!M6","v":0},{"$f":"Placements!N6","v":0},{"$f":"Placements!O6","v":0},{"$f":"Placements!P6","v":0},{"$f":"Placements!Q6","v":0},{"$f":"Placements!R6","v":0},{"$f":"Placements!S6","v":0},{"$f":"Placements!T6","v":0}]
[null,null,null,null,null,null,null,null,null,{"$f":"Placements!A7","v":0},{"$f":"Placements!B7","v":0},{"$f":"Placements!C7","v":0},{"$f":"Placements!D7","v":0},{"$f":"Placements!E7","v":0},{"$f":"Placements!F7","v":0},{"$f":"Placements!G7","v":0},{"$f":"Placements!H7","v":0},{"$f":"Placements!I7","v":0},{"$f":"Placements!J7","v":0},{"$f":"Placements!K7","v":0},{"$f":"Placements!L7","v":0},{"$f":"Placements!M7","v":0},{"$f":"Placements!N7","v":0},{"$f":"Placements!O7","v":0},{"$f":"Placements!P7","v":0},{"$f":"Placements!Q7","v":0},{"$f":"Placements!R7","v":0},{"$f":"Placements!S7","v":0},{"$f":"Placements!T7","v":0}]
[null,null,null,null,null,null,null,null,null,{"$f":"Placements!A8","v":0},{"$f":"Placements!B8","v":0},{"$f":"Placements!C8","v":0},{"$f":"Placements!D8","v":0},{"$f":"Placements!E8","v":0},{"$f":"Placements!F8","v":0},{"$f":"Placements!G8","v":0},{"$f":"Placements!H8","v":0},{"$f":"Placements!I8","v":0},{"$f":"Placements!J8","v":0},{"$f":"Placements!K8","v":0},{"$f":"Placements!L8","v":0},{"$f":"Placements!M8","v":0},{"$f":"Placements!N8","v":0},{"$f":"Placements!O8","v":0},{"$f":"Placements!P8","v":0},{"$f":"Placements!Q8","v":0},{"$f":"Placements!R8","v":0},{"$f":"Placements!S8","v":0},{"$f":"Placements!T8","v":0}]
[null,null,null,null,null,null,null,null,null,{"$f":"Placements!A9","v":0},{"$f":"Placements!B9","v":0},{"$f":"Placements!C9","v":0},{"$f":"Placements!D9","v":0},{"$f":"Placements!E9","v":0},{"$f":"Placements!F9","v":0},{"$f":"Placements!G9","v":0},{"$f":"Placements!H9","v":0},{"$f":"Placements!I9","v":0},{"$f":"Placements!J9","v":0},{"$f":"Placements!K9","v":0},{"$f":"Placements!L9","v":0},{"$f":"Placements!M9","v":0},{"$f":"Placements!N9","v":0},{"$f":"Placements!O9","v":0},{"$f":"Placements!P9","v":0},{"$f":"Placements!Q9","v":0},{"$f":"Placements!R9","v":0},{"$f":"Placements!S9","v":0},{"$f":"Placements!T9","v":0}]
[null,null,null,null,null,null,null,null,null,{"$f":"Placements!A10","v":0},{"$f":"Placements!B10","v":0},{"$f":"Placements!C10","v":0},{"$f":"Placements!D10","v":0},{"$f":"Placements!E10","v":0},{"$f":"Placements!F10","v":0},{"$f":"Placements!G10","v":0},{"$f":"Placements!H10","v":0},{"$f":"Placements!I10","v":0},{"$f":"Placements!J10","v":0},{"$f":"Placements!K10","v":0},{"$f":"Placements!L10","v":0},{"$f":"Placements!M10","v":0},{"$f":"Placements!N10","v":0},{"$f":"Placements!O10","v":0},{"$f":"Placements!P10","v":0},{"$f":"Placements!Q10","v":0},{"$f":"Placements!R10","v":0},{"$f":"Placements!S10","v":0},{"$f":"Placements!T10","v":0}]
[null,null,null,null,null,null,null,null,null,{"$f":"Placements!A11","v":0},{"$f":"Placements!B11","v":0},{"$f":"Placements!C11","v":0},{"$f":"Placements!D11","v":0},{"$f":"Placements!E11","v":0},{"$f":"Placements!F11","v":0},{"$f":"Placements!G11","v":0},{"$f":"Placements!H11","v":0},{"$f":"Placements!I11","v":0},{"$f":"Placements!J11","v":0},{"$f":"Placements!K11","v":0},{"$f":"Placements!L11","v":0},{"$f":"Placements!M11","v":0},{"$f":"Placements!N11","v":0},{"$f":"Placements!O11","v":0},{"$f":"Placements!P11","v":0},{"$f":"Placements!Q11","v":0},{"$f":"Placements!R11","v":0},{"$f":"Placements!S11","v":0},{"$f":"Placements!T11","v":0}]
[null,null,null,null,null,null,null,null,null,{"$f":"Placements!A12","v":0},{"$f":"Placements!B12","v":0},{"$f":"Placements!C12","v":0},{"$f":"Placements!D12","v":0},{"$f":"Placements!E12","v":0},{"$f":"Placements!F12","v":0},{"$f":"Placements!G12","v":0},{"$f":"Placements!H12","v":0},{"$f":"Placements!I12","v":0},{"$f":"Placements!J12","v":0},{"$f":"Placements!K12","v":0},{"$f":"Placements!L12","v":0},{"$f":"Placements!M12","v":0},{"$f":"Placements!N12","v":0},{"$f":"Placements!O12","v":0},{"$f":"Placements!P12","v":0},{"$f":"Placements!Q12","v":0},{"$f":"Placements!R12","v":0},{"$f":"Placements!S12","v":0},{"$f":"Placements!T12","v":0}]
[null,null,null,null,null,null,null,null,null,{"$f":"Placements!A13","v":0},{"$f":"Placements!B13","v":0},{"$f":"Placements!C13","v":0},{"$f":"Placements!D13","v":0},{"$f":"Placements!E13","v":0},{"$f":"Placements!F13","v":0},{"$f":"Placements!G13","v":0},{"$f":"Placements!H13","v":0},{"$f":"Placements!I13","v":0},{"$f":"Placements!J13","v":0},{"$f":"Placements!K13","v":0},{"$f":"Placements!L13","v":0},{"$f":"Placements!M13","v":0},{"$f":"Placements!N13","v":0},{"$f":"Placements!O13","v":0},{"$f":"Placements!P13","v":0},{"$f":"Placements!Q13","v":0},{"$f":"Placements!R13","v":0},{"$f":"Placements!S13","v":0},{"$f":"Placements!T13","v":0}]
[null,null,null,null,null,null,null,null,null,{"$f":"Placements!A14","v":0},{"$f":"Placements!B14","v":0},{"$f":"Placements!C14","v":0},{"$f":"Placements!D14","v":0},{"$f":"Placements!E14","v":0},{"$f":"Placements!F14","v":0},{"$f":"Placements!G14","v":0},{"$f":"Placements!H14","v":0},{"$f":"Placements!I14","v":0},{"$f":"Placements!J14","v":0},{"$f":"Placements!K14","v":0},{"$f":"Placements!L14","v":0},{"$f":"Placements!M14","v":0},{"$f":"Placements!N14","v":0},{"$f":"Placements!O14","v":0},{"$f":"Placements!P14","v":0},{"$f":"Placements!Q14","v":0},{"$f":"Placements!R14","v":0},{"$f":"Placements!S14","v":0},{"$f":"Placements!T14","v":0}]
[null,null,null,null,null,null,null,null,null,{"$f":"Placements!A15","v":0},{"$f":"Placements!B15","v":0},{"$f":"Placements!C15","v":0},{"$f":"Placements!D15","v":0},{"$f":"Placements!E15","v":0},{"$f":"Placements!F15","v":0},{"$f":"Placements!G15","v":0},{"$f":"Placements!H15","v":0},{"$f":"Placements!I15","v":0},{"$f":"Placements!J15","v":0},{"$f":"Placements!K15","v":0},{"$f":"Placements!L15","v":0},{"$f":"Placements!M15","v":0},{"$f":"Placements!N15","v":0},{"$f":"Placements!O15","v":0},{"$f":"Placements!P15","v":0},{"$f":"Placements!Q15","v":0},{"$f":"Placements!R15","v":0},{"$f":"Placements!S15","v":0},{"$f":"Placements!T15","v":0}]
[null,null,null,null,null,null,null,null,null,{"$f":"Placements!A16","v":0},{"$f":"Placements!B16","v":0},{"$f":"Placements!C16","v":0},{"$f":"Placements!D16","v":0},{"$f":"Placements!E16","v":0},{"$f":"Placements!F16","v":0},{"$f":"Placements!G16","v":0},{"$f":"Placements!H16","v":0},{"$f":"Placements!I16","v":0},{"$f":"Placements!J16","v":0},{"$f":"Placements!K16","v":0},{"$f":"Placements!L16","v":0},{"$f":"Placements!M16","v":0},{"$f":"Placements!N16","v":0},{"$f":"Placements!O16","v":0},{"$f":"Placements!P16","v":0},{"$f":"Placements!Q16","v":0},{"$f":"Placements!R16","v":0},{"$f":"Placements!S16","v":0},{"$f":"Placements!T16","v":0}]
[null,null,null,null,null,null,null,null,null,{"$f":"Placements!A17","v":0},{"$f":"Placements!B17","v":0},{"$f":"Placements!C17","v":0},{"$f":"Placements!D17","v":0},{"$f":"Placements!E17","v":0},{"$f":"Placements!F17","v":0},{"$f":"Placements!G17","v":0},{"$f":"Placements!H17","v":0},{"$f":"Placements!I17","v":0},{"$f":"Placements!J17","v":0},{"$f":"Placements!K17","v":0},{"$f":"Placements!L17","v":0},{"$f":"Placements!M17","v":0},{"$f":"Placements!N17","v":0},{"$f":"Placements!O17","v":0},{"$f":"Placements!P17","v":0},{"$f":"Placements!Q17","v":0},{"$f":"Placements!R17","v":0},{"$f":"Placements!S17","v":0},{"$f":"Placements!T17","v":0}]
[null,null,null,null,null,null,null,null,null,{"$f":"Placements!A18","v":0},{"$f":"Placements!B18","v":0},{"$f":"Placements!C18","v":0},{"$f":"Placements!D18","v":0},{"$f":"Placements!E18","v":0},{"$f":"Placements!F18","v":0},{"$f":"Placements!G18","v":0},{"$f":"Placements!H18","v":0},{"$f":"Placements!I18","v":0},{"$f":"Placements!J18","v":0},{"$f":"Placements!K18","v":0},{"$f":"Placements!L18","v":0},{"$f":"Placements!M18","v":0},{"$f":"Placements!N18","v":0},{"$f":"Placements!O18","v":0},{"$f":"Placements!P18","v":0},{"$f":"Placements!Q18","v":0},{"$f":"Placements!R18","v":0},{"$f":"Placements!S18","v":0},{"$f":"Placements!T18","v":0}]

{"sheet":"Pieces","index":1,"n_rows":13,"n_cols":7,"rows_kept":13,"cut":false,"hidden":false,"merged":[[6,2,6,3],[6,5,6,6]]}
[]
[]
[]
[]
[]
[]
[null,"B","Blancs Restants",null,"N","Noirs Restants"]
[null,"P","Pion",{"$f":"COUNTIF(Plateau,B8 & B$7)","v":8},"P","Pion",{"$f":"COUNTIF(Plateau,E8 & E$7)","v":8}]
[null,"T","Tour",2,"T","Tour",1]
[null,"C","Cavalier",2,"C","Cavalier",2]
[null,"F","Fou",2,"F","Fou",2]
[null,"D","Dame",1,"D","Dame",2]
[null,"R","Roi",2,"R","Roi",2]

{"sheet":"Placements","index":2,"n_rows":31,"n_cols":10,"rows_kept":31,"cut":false,"hidden":false,"merged":[[20,2,20,9],[26,2,26,9]]}
[]
[null,"6A"]
[null,"5A"]
[]
[]
[]
[]
[]
[]
[]
[]
[]
[]
[]
[]
[]
[]
[]
[]
[]
[null,null,"Offset des Cavaliers"]
[null,"Titre","1H","2H","4H","5H","7H","8H","10H","11H"]
[null,"Ligne",-2,-1,1,2,2,1,-1,-2]
[null,"Colonne",1,2,2,1,-1,-2,-2,-1]
[null,"Possible ?",1,1,1,1,1,1,1,1]
[]
[null,null,"Offset du Roi"]
[null,"Titre","H","HD","D","BD","B","BG","G","HG"]
[null,"Ligne",-1,-1,0,1,1,1,0,-1]
[null,"Colonne",0,1,1,1,0,-1,-1,-1]
[null,"Possible ?",1,1,1,1,1,1,1,1]

{"sheet":"MiseEnEchec","index":3,"n_rows":24,"n_cols":20,"rows_kept":24,"cut":false,"hidden":false,"merged":[[0,0,0,1],[0,3,0,6],[0,7,0,10],[0,11,0,18]]}
["Pions",null,null,"Fou",null,null,null,"Tour",null,null,null,"Dame",null,null,null,null,null,null,null,"Roi Adverse"]
[null,null,null,null,"HG","HD","BG","Haut","Bas","gauche","droite","H","B","G","D","HD","BD","HG","BG"]
[]
[]
[]
[]
[]
[]
[]
[]
[]
[]
[]
[]
[]
[]
[]
[]
[]
[]
[]
[]
[]
["P","P","C","F","F","F","F","T","T","T","T","D","D","D","D","D","D","D","D"]