{"text_format":"1","workbook":"xlsx","n_sheets":20,"sheets":["Planning","À Faire - Récapitulatif","À Faire - Détails","Production","Combats - Loots","Formation de Troupes","Bâtiments","Paramètres","Prev","level","Améliorations - Sorts & Troupes","Héros","Coûts des Améliorations","Gains et Stockage","Trophées","Coûts de Formation","Calendrier","Traduction","Paramètres - Admin","Journal des Modifications"],"not_rendered":{"charts":1,"images":1,"macros":1,"external_links":0,"defined_names":16,"comments":1,"pivot_tables":0},"unopened":[],"bounds":{"document_bytes":16777216,"sheet_cells":100000,"rows_first":2000,"rows_last":500,"rows_between":2000,"halvings":0,"cell_chars":16384,"cell_head_chars":4096},"cells_cut":0,"cells_raw":0,"read":"whole","date_system":"1900"}

{"sheet":"Planning","index":0,"n_rows":68,"n_cols":68,"rows_kept":68,"cut":false,"hidden":false,"merged":[[61,0,61,7],[58,0,58,7],[20,0,20,7],[31,0,31,7],[0,11,0,12],[7,0,7,7],[1,8,1,9],[2,8,2,9],[3,8,3,9],[51,0,51,7],[40,0,40,7],[2,0,5,7],[0,13,0,14],[1,11,1,12],[2,11,2,12],[3,11,3,12],[1,13,1,14],[2,13,2,14],[3,13,3,14],[0,18,0,25],[14,0,14,7],[34,0,34,7],[0,0,0,1],[1,0,1,1],[4,8,4,9],[4,11,4,12],[4,13,4,14],[0,15,0,16],[1,15,1,16],[2,15,2,16],[3,15,3,16],[0,8,0,9],[1,23,1,25],[2,23,2,25],[4,19,4,21],[2,19,2,21],[1,19,1,21],[3,19,3,21],[4,23,4,25],[4,15,4,16]]}
["LVL HdV",null,"Date de Départ","Pas (jour)","Période Sélectionnée","Créer Planning",null,"Réinitialiser","Période",null,"NB","Besoins d'Or\n(sans remparts)",null,"Besoins d'Elixir",null,"Besoins d'Elixir Noir",null,null,"Légende"]
[{"$f":"Paramètres!$BE$2","v":10},null,"2015-04-27",1,"2015-04-30",null,null,null,{"$f":"period_selected","v":"2015-04-30"},null,1,5360000,null,0,null,0,null,null,null,"Planifié",null,null,null,"% Réalisé"]
["Planning",null,null,null,null,null,null,null,{"$f":"$I2+$D$2","v":"2015-05-01"},null,0,0,null,0,null,0,null,null,null,"Réel",null,null,null,"% Réalisé (au-delà du planifié)"]
[null,null,null,null,null,null,null,null,{"$f":"$I3+$D$2","v":"2015-05-02"},null,1,4500000,null,0,null,0,null,null,null,"Réel (au-delà du planifié)"]
[null,null,null,null,null,null,null,null,{"$f":"$I4+$D$2","v":"2015-05-03"},null,2,3000000,null,0,null,20000,null,null,null,"Ouvriers disponibles",null,null,null,"Erreur - Pas suffisament d'Ouvriers"]
[null,null,null,null,null,null,null,null,{"$f":"SUM(I8:I35)+SUM(I59:I69)","v":0},0,0,0,0,0,0,0,0,0,0,0,0,0,0,0,0,0,0,0,0,0,0,0,0,0,0,0,0,0,0,0,{"$f":"SUM(AO8:AO35)+SUM(AO59:AO69)","v":0},0,0,0,0,0,0,0,0,0,0,0,0,0,0,0,0,0,0,0,0,0,0,0,0,0,0,0]
["Construction / Amélioration","+","Coût","Durée Planifée (jours)","Début Planifiée","Début Réel","Durée Réelle","% Réalisé",{"$f":"$C$2","v":"2015-04-27"},{"$f":"I$7+$D$2","v":"2015-04-28"},{"$f":"J$7+$D$2","v":"2015-04-29"},"2015-04-30","2015-05-01","2015-05-02","2015-05-03","2015-05-04","2015-05-05","2015-05-06",{"$f":"R$7+$D$2","v":"2015-05-07"},"2015-05-08","2015-05-09",{"$f":"U$7+$D$2","v":"2015-05-10"},"2015-05-11","2015-05-12","2015-05-13","2015-05-14","2015-05-15",{"$f":"AA$7+$D$2","v":"2015-05-16"},"2015-05-17","2015-05-18","2015-05-19","2015-05-20","2015-05-21","2015-05-22","2015-05-23","2015-05-24","2015-05-25","2015-05-26","2015-05-27","2015-05-28","2015-05-29","2015-05-30","2015-05-31","2015-06-01","2015-06-02","2015-06-03","2015-06-04","2015-06-05","2015-06-06","2015-06-07","2015-06-08","2015-06-09","2015-06-10","2015-06-11","2015-06-12","2015-06-13","2015-06-14","2015-06-15","2015-06-16","2015-06-17","2015-06-18","2015-06-19","2015-06-20","2015-06-21","2015-06-22","2015-06-23","2015-06-24","2015-06-25"]
["Bâtiments de Ressources",null,null,null,null,null,null,null,{"$f":"IF(ISERROR(Plan),0,Plan)","v":0},0,0,0,0,0,0,0,0,0,{"$f":"IF(ISERROR(Plan),0,Plan)","v":0},0,0,0,0,0,0,0,0,0,{"$f":"IF(ISERROR(Plan),0,Plan)","v":0},0,0,0,0,0,0,0,0,0,{"$f":"IF(ISERROR(Plan),0,Plan)","v":0},0,0,0,0,0,0,0,0,0,{"$f":"IF(ISERROR(Plan),0,Plan)","v":0},0,0,0,0,0,0,0,0,0,{"$f":"IF(ISERROR(Plan),0,Plan)","v":0},0,0,0,0,0,0,0,0,0]
["Mine d'Or",null,{"$f":"IF($B9<>\"\",VLOOKUP($B9,COSTS_Gold_Mine[#All],2),\"\")","v":""},{"$f":"IF($B9<>\"\",VLOOKUP($B9,COSTS_Gold_Mine[#All],3)/24,\"\")","v":""},null,null,{"$f":"IF($D9<>\"\",$D9,\"\")","v":""},null,0,0,0,0,0,0,0,0,0,0,0,0,0,0,0,0,0,0,0,0,0,0,0,0,0,0,0,0,0,0,0,0,0,0,0,0,0,0,0,0,0,0,0,0,0,0,0,0,0,0,0,0,0,0,0,0,0,0,0,0]
["Extracteur d'Élixir",null,{"$f":"IF($B10<>\"\",VLOOKUP($B10,COSTS_Elixir_Collector[#All],2),\"\")","v":""},{"$f":"IF($B10<>\"\",VLOOKUP($B10,COSTS_Elixir_Collector[#All],3)/24,\"\")","v":""},null,null,{"$f":"IF($D10<>\"\",$D10,\"\")","v":""},null,{"$f":"IF(ISERROR(Plan),0,Plan)","v":0},0,0,0,0,0,0,0,0,0,{"$f":"IF(ISERROR(Plan),0,Plan)","v":0},0,0,0,0,0,0,0,0,0,{"$f":"IF(ISERROR(Plan),0,Plan)","v":0},0,0,0,0,0,0,0,0,0,{"$f":"IF(ISERROR(Plan),0,Plan)","v":0},0,0,0,0,0,0,0,0,0,{"$f":"IF(ISERROR(Plan),0,Plan)","v":0},0,0,0,0,0,0,0,0,0,{"$f":"IF(ISERROR(Plan),0,Plan)","v":0},0,0,0,0,0,0,0,0,0]
["Foreuse d'Élixir Noir",null,{"$f":"IF($B11<>\"\",VLOOKUP($B11,COSTS_Dark_Elixir_Drill[#All],2),\"\")","v":""},{"$f":"IF($B11<>\"\",VLOOKUP($B11,COSTS_Dark_Elixir_Drill[#All],3)/24,\"\")","v":""},null,null,"",null,{"$f":"IF(ISERROR(Plan),0,Plan)","v":0},0,0,0,0,0,0,0,0,0,{"$f":"IF(ISERROR(Plan),0,Plan)","v":0},0,0,0,0,0,0,0,0,0,{"$f":"IF(ISERROR(Plan),0,Plan)","v":0},0,0,0,0,0,0,0,0,0,{"$f":"IF(ISERROR(Plan),0,Plan)","v":0},0,0,0,0,0,0,0,0,0,{"$f":"IF(ISERROR(Plan),0,Plan)","v":0},0,0,0,0,0,0,0,0,0,{"$f":"IF(ISERROR(Plan),0,Plan)","v":0},0,0,0,0,0,0,0,0,0]
["Réserve d'Or",null,{"$f":"IF($B12<>\"\",VLOOKUP($B12,COSTS_Gold_Storage[#All],2),\"\")","v":""},{"$f":"IF($B12<>\"\",VLOOKUP($B12,COSTS_Gold_Storage[#All],3)/24,\"\")","v":""},null,null,"",null,{"$f":"IF(ISERROR(Plan),0,Plan)","v":0},0,0,0,0,0,0,0,0,0,{"$f":"IF(ISERROR(Plan),0,Plan)","v":0},0,0,0,0,0,0,0,0,0,{"$f":"IF(ISERROR(Plan),0,Plan)","v":0},0,0,0,0,0,0,0,0,0,{"$f":"IF(ISERROR(Plan),0,Plan)","v":0},0,0,0,0,0,0,0,0,0,{"$f":"IF(ISERROR(Plan),0,Plan)","v":0},0,0,0,0,0,0,0,0,0,{"$f":"IF(ISERROR(Plan),0,Plan)","v":0},0,0,0,0,0,0,0,0,0]
["Réservoir d'Élixir",null,{"$f":"IF($B13<>\"\",VLOOKUP($B13,COSTS_Elixir_Storage[#All],2),\"\")","v":""},{"$f":"IF($B13<>\"\",VLOOKUP($B13,COSTS_Elixir_Storage[#All],3)/24,\"\")","v":""},null,null,"",null,{"$f":"IF(ISERROR(Plan),0,Plan)","v":0},0,0,0,0,0,0,0,0,0,{"$f":"IF(ISERROR(Plan),0,Plan)","v":0},0,0,0,0,0,0,0,0,0,{"$f":"IF(ISERROR(Plan),0,Plan)","v":0},0,0,0,0,0,0,0,0,0,{"$f":"IF(ISERROR(Plan),0,Plan)","v":0},0,0,0,0,0,0,0,0,0,{"$f":"IF(ISERROR(Plan),0,Plan)","v":0},0,0,0,0,0,0,0,0,0,{"$f":"IF(ISERROR(Plan),0,Plan)","v":0},0,0,0,0,0,0,0,0,0]
["Réservoir d'Élixir Noir",null,{"$f":"IF($B14<>\"\",VLOOKUP($B14,COSTS_Dark_Elixir_Storage[#All],2),\"\")","v":""},{"$f":"IF($B14<>\"\",VLOOKUP($B14,COSTS_Dark_Elixir_Storage[#All],3)/24,\"\")","v":""},null,null,"",null,{"$f":"IF(ISERROR(Plan),0,Plan)","v":0},0,0,0,0,0,0,0,0,0,{"$f":"IF(ISERROR(Plan),0,Plan)","v":0},0,0,0,0,0,0,0,0,0,{"$f":"IF(ISERROR(Plan),0,Plan)","v":0},0,0,0,0,0,0,0,0,0,{"$f":"IF(ISERROR(Plan),0,Plan)","v":0},0,0,0,0,0,0,0,0,0,{"$f":"IF(ISERROR(Plan),0,Plan)","v":0},0,0,0,0,0,0,0,0,0,{"$f":"IF(ISERROR(Plan),0,Plan)","v":0},0,0,0,0,0,0,0,0,0]
["Bâtiments d'Armée",null,null,null,null,null,null,null,{"$f":"IF(ISERROR(Plan),0,Plan)","v":0},0,0,0,0,0,0,0,0,0,{"$f":"IF(ISERROR(Plan),0,Plan)","v":0},0,0,0,0,0,0,0,0,0,{"$f":"IF(ISERROR(Plan),0,Plan)","v":0},0,0,0,0,0,0,0,0,0,{"$f":"IF(ISERROR(Plan),0,Plan)","v":0},0,0,0,0,0,0,0,0,0,{"$f":"IF(ISERROR(Plan),0,Plan)","v":0},0,0,0,0,0,0,0,0,0,{"$f":"IF(ISERROR(Plan),0,Plan)","v":0},0,0,0,0,0,0,0,0,0]
["Caserne",null,{"$f":"IF($B16<>\"\",VLOOKUP($B16,COSTS_Barrack[#All],2),\"\")","v":""},{"$f":"IF($B16<>\"\",VLOOKUP($B16,COSTS_Barrack[#All],3)/24,\"\")","v":""},null,null,{"$f":"IF($D16<>\"\",$D16,\"\")","v":""},null,0,0,0,0,0,0,0,0,0,0,0,0,0,0,0,0,0,0,0,0,0,0,0,0,0,0,0,0,0,0,0,0,0,0,0,0,0,0,0,0,0,0,0,0,0,0,0,0,0,0,0,0,0,0,0,0,0,0,0,0]
["Caserne Noire",null,{"$f":"IF($B17<>\"\",VLOOKUP($B17,COSTS_Dark_Barrack[#All],2),\"\")","v":""},{"$f":"IF($B17<>\"\",VLOOKUP($B17,COSTS_Dark_Barrack[#All],3)/24,\"\")","v":""},null,null,{"$f":"IF($D17<>\"\",$D17,\"\")","v":""},null,{"$f":"IF(ISERROR(Plan),0,Plan)","v":0},0,0,0,0,0,0,0,0,0,{"$f":"IF(ISERROR(Plan),0,Plan)","v":0},0,0,0,0,0,0,0,0,0,{"$f":"IF(ISERROR(Plan),0,Plan)","v":0},0,0,0,0,0,0,0,0,0,{"$f":"IF(ISERROR(Plan),0,Plan)","v":0},0,0,0,0,0,0,0,0,0,{"$f":"IF(ISERROR(Plan),0,Plan)","v":0},0,0,0,0,0,0,0,0,0,{"$f":"IF(ISERROR(Plan),0,Plan)","v":0},0,0,0,0,0,0,0,0,0]
["Camp Militaire",null,{"$f":"IF($B18<>\"\",VLOOKUP($B18,COSTS_Army_Camp[#All],2),\"\")","v":""},{"$f":"IF($B18<>\"\",VLOOKUP($B18,COSTS_Army_Camp[#All],3)/24,\"\")","v":""},null,null,"",null,0,0,0,0,0,0,0,0,0,0,0,0,0,0,0,0,0,0,0,0,0,0,0,0,0,0,0,0,0,0,0,0,0,0,0,0,0,0,0,0,0,0,0,0,0,0,0,0,0,0,0,0,0,0,0,0,0,0,0,0]
["Laboratoire",null,{"$f":"IF($B19<>\"\",VLOOKUP($B19,COSTS_Laboratory[#All],2),\"\")","v":""},{"$f":"IF($B19<>\"\",VLOOKUP($B19,COSTS_Laboratory[#All],3)/24,\"\")","v":""},null,null,"",null,{"$f":"IF(ISERROR(Plan),0,Plan)","v":0},0,0,0,0,0,0,0,0,0,{"$f":"IF(ISERROR(Plan),0,Plan)","v":0},0,0,0,0,0,0,0,0,0,{"$f":"IF(ISERROR(Plan),0,Plan)","v":0},0,0,0,0,0,0,0,0,0,{"$f":"IF(ISERROR(Plan),0,Plan)","v":0},0,0,0,0,0,0,0,0,0,{"$f":"IF(ISERROR(Plan),0,Plan)","v":0},0,0,0,0,0,0,0,0,0,{"$f":"IF(ISERROR(Plan),0,Plan)","v":0},0,0,0,0,0,0,0,0,0]
["Usine de Sorts",null,{"$f":"IF($B20<>\"\",VLOOKUP($B20,COSTS_Spell_Factory[#All],2),\"\")","v":""},{"$f":"IF($B20<>\"\",VLOOKUP($B20,COSTS_Spell_Factory[#All],3)/24,\"\")","v":""},null,null,"",null,{"$f":"IF(ISERROR(Plan),0,Plan)","v":0},0,0,0,0,0,0,0,0,0,{"$f":"IF(ISERROR(Plan),0,Plan)","v":0},0,0,0,0,0,0,0,0,0,{"$f":"IF(ISERROR(Plan),0,Plan)","v":0},0,0,0,0,0,0,0,0,0,{"$f":"IF(ISERROR(Plan),0,Plan)","v":0},0,0,0,0,0,0,0,0,0,{"$f":"IF(ISERROR(Plan),0,Plan)","v":0},0,0,0,0,0,0,0,0,0,{"$f":"IF(ISERROR(Plan),0,Plan)","v":0},0,0,0,0,0,0,0,0,0]
["Bâtiments Défensifs",null,null,null,null,null,null,null,0,0,0,0,0,0,0,0,0,0,0,0,0,0,0,0,0,0,0,0,0,0,0,0,0,0,0,0,0,0,0,0,0,0,0,0,0,0,0,0,0,0,0,0,0,0,0,0,0,0,0,0,0,0,0,0,0,0,0,0]
["Rempart",null,{"$f":"IF($B22<>\"\",VLOOKUP($B22,COSTS_Wall[#All],2),\"\")","v":""},{"$f":"IF($B22<>\"\",VLOOKUP($B22,COSTS_Wall[#All],3)/24,\"\")","v":""},null,null,{"$f":"IF($D22<>\"\",$D22,\"\")","v":""},null,0,0,0,0,0,0,0,0,0,0,0,0,0,0,0,0,0,0,0,0,0,0,0,0,0,0,0,0,0,0,0,0,0,0,0,0,0,0,0,0,0,0,0,0,0,0,0,0,0,0,0,0,0,0,0,0,0,0,0,0]
["Canon",null,{"$f":"IF($B23<>\"\",VLOOKUP($B23,COSTS_Cannon[#All],2),\"\")","v":""},{"$f":"IF($B23<>\"\",VLOOKUP($B23,COSTS_Cannon[#All],3)/24,\"\")","v":""},null,null,{"$f":"IF($D23<>\"\",$D23,\"\")","v":""},null,{"$f":"IF(ISERROR(Plan),0,Plan)","v":0},0,0,0,0,0,0,0,0,0,{"$f":"IF(ISERROR(Plan),0,Plan)","v":0},0,0,0,0,0,0,0,0,0,{"$f":"IF(ISERROR(Plan),0,Plan)","v":0},0,0,0,0,0,0,0,0,0,{"$f":"IF(ISERROR(Plan),0,Plan)","v":0},0,0,0,0,0,0,0,0,0,{"$f":"IF(ISERROR(Plan),0,Plan)","v":0},0,0,0,0,0,0,0,0,0,{"$f":"IF(ISERROR(Plan),0,Plan)","v":0},0,0,0,0,0,0,0,0,0]
["Tour d'Archers",null,{"$f":"IF($B24<>\"\",VLOOKUP($B24,COSTS_Archer_Tower[#All],2),\"\")","v":""},{"$f":"IF($B24<>\"\",VLOOKUP($B24,COSTS_Archer_Tower[#All],3)/24,\"\")","v":""},null,null,"",null,{"$f":"IF(ISERROR(Plan),0,Plan)","v":0},0,0,0,0,0,0,0,0,0,{"$f":"IF(ISERROR(Plan),0,Plan)","v":0},0,0,0,0,0,0,0,0,0,{"$f":"IF(ISERROR(Plan),0,Plan)","v":0},0,0,0,0,0,0,0,0,0,{"$f":"IF(ISERROR(Plan),0,Plan)","v":0},0,0,0,0,0,0,0,0,0,{"$f":"IF(ISERROR(Plan),0,Plan)","v":0},0,0,0,0,0,0,0,0,0,{"$f":"IF(ISERROR(Plan),0,Plan)","v":0},0,0,0,0,0,0,0,0,0]
["Mortier",null,{"$f":"IF($B25<>\"\",VLOOKUP($B25,COSTS_Mortar[#All],2),\"\")","v":""},{"$f":"IF($B25<>\"\",VLOOKUP($B25,COSTS_Mortar[#All],3)/24,\"\")","v":""},null,null,"",null,{"$f":"IF(ISERROR(Plan),0,Plan)","v":0},0,0,0,0,0,0,0,0,0,{"$f":"IF(ISERROR(Plan),0,Plan)","v":0},0,0,0,0,0,0,0,0,0,{"$f":"IF(ISERROR(Plan),0,Plan)","v":0},0,0,0,0,0,0,0,0,0,{"$f":"IF(ISERROR(Plan),0,Plan)","v":0},0,0,0,0,0,0,0,0,0,{"$f":"IF(ISERROR(Plan),0,Plan)","v":0},0,0,0,0,0,0,0,0,0,{"$f":"IF(ISERROR(Plan),0,Plan)","v":0},0,0,0,0,0,0,0,0,0]
["Défense Antiaérienne",null,{"$f":"IF($B26<>\"\",VLOOKUP($B26,COSTS_Air_Defense[#All],2),\"\")","v":""},{"$f":"IF($B26<>\"\",VLOOKUP($B26,COSTS_Air_Defense[#All],3)/24,\"\")","v":""},null,null,"",null,{"$f":"IF(ISERROR(Plan),0,Plan)","v":0},0,0,0,0,0,0,0,0,0,{"$f":"IF(ISERROR(Plan),0,Plan)","v":0},0,0,0,0,0,0,0,0,0,{"$f":"IF(ISERROR(Plan),0,Plan)","v":0},0,0,0,0,0,0,0,0,0,{"$f":"IF(ISERROR(Plan),0,Plan)","v":0},0,0,0,0,0,0,0,0,0,{"$f":"IF(ISERROR(Plan),0,Plan)","v":0},0,0,0,0,0,0,0,0,0,{"$f":"IF(ISERROR(Plan),0,Plan)","v":0},0,0,0,0,0,0,0,0,0]
["Tour de Sorciers",null,{"$f":"IF($B27<>\"\",VLOOKUP($B27,COSTS_Wizard_Tower[#All],2),\"\")","v":""},{"$f":"IF($B27<>\"\",VLOOKUP($B27,COSTS_Wizard_Tower[#All],3)/24,\"\")","v":""},null,null,"",null,{"$f":"IF(ISERROR(Plan),0,Plan)","v":0},0,0,0,0,0,0,0,0,0,{"$f":"IF(ISERROR(Plan),0,Plan)","v":0},0,0,0,0,0,0,0,0,0,{"$f":"IF(ISERROR(Plan),0,Plan)","v":0},0,0,0,0,0,0,0,0,0,{"$f":"IF(ISERROR(Plan),0,Plan)","v":0},0,0,0,0,0,0,0,0,0,{"$f":"IF(ISERROR(Plan),0,Plan)","v":0},0,0,0,0,0,0,0,0,0,{"$f":"IF(ISERROR(Plan),0,Plan)","v":0},0,0,0,0,0,0,0,0,0]
["Propulseur d'air"]
["Tesla Camouflée",null,{"$f":"IF($B29<>\"\",VLOOKUP($B29,COSTS_Hidden_Tesla[#All],2),\"\")","v":""},{"$f":"IF($B29<>\"\",VLOOKUP($B29,COSTS_Hidden_Tesla[#All],3)/24,\"\")","v":""},null,null,"",null,{"$f":"IF(ISERROR(Plan),0,Plan)","v":0},0,0,0,0,0,0,0,0,0,{"$f":"IF(ISERROR(Plan),0,Plan)","v":0},0,0,0,0,0,0,0,0,0,{"$f":"IF(ISERROR(Plan),0,Plan)","v":0},0,0,0,0,0,0,0,0,0,{"$f":"IF(ISERROR(Plan),0,Plan)","v":0},0,0,0,0,0,0,0,0,0,{"$f":"IF(ISERROR(Plan),0,Plan)","v":0},0,0,0,0,0,0,0,0,0,{"$f":"IF(ISERROR(Plan),0,Plan)","v":0},0,0,0,0,0,0,0,0,0]
["Arc-X",null,{"$f":"IF($B30<>\"\",VLOOKUP($B30,COSTS_XBow[#All],2),\"\")","v":""},{"$f":"IF($B30<>\"\",VLOOKUP($B30,COSTS_XBow[#All],3)/24,\"\")","v":""},null,null,"",null,{"$f":"IF(ISERROR(Plan),0,Plan)","v":0},0,0,0,0,0,0,0,0,0,{"$f":"IF(ISERROR(Plan),0,Plan)","v":0},0,0,0,0,0,0,0,0,0,{"$f":"IF(ISERROR(Plan),0,Plan)","v":0},0,0,0,0,0,0,0,0,0,{"$f":"IF(ISERROR(Plan),0,Plan)","v":0},0,0,0,0,0,0,0,0,0,{"$f":"IF(ISERROR(Plan),0,Plan)","v":0},0,0,0,0,0,0,0,0,0,{"$f":"IF(ISERROR(Plan),0,Plan)","v":0},0,0,0,0,0,0,0,0,0]
["Tour de l'Enfer",null,{"$f":"IF($B31<>\"\",VLOOKUP($B31,COSTS_Inferno_Tower[#All],2),\"\")","v":""},{"$f":"IF($B31<>\"\",VLOOKUP($B31,COSTS_Inferno_Tower[#All],3)/24,\"\")","v":""},null,null,"",null,0,0,0,0,0,0,0,0,0,0,0,0,0,0,0,0,0,0,0,0,0,0,0,0,0,0,0,0,0,0,0,0,0,0,0,0,0,0,0,0,0,0,0,0,0,0,0,0,0,0,0,0,0,0,0,0,0,0,0,0]
["Bâtiments Autres",null,null,null,null,null,null,null,{"$f":"IF(ISERROR(Plan),0,Plan)","v":0},0,0,0,0,0,0,0,0,0,{"$f":"IF(ISERROR(Plan),0,Plan)","v":0},0,0,0,0,0,0,0,0,0,{"$f":"IF(ISERROR(Plan),0,Plan)","v":0},0,0,0,0,0,0,0,0,0,{"$f":"IF(ISERROR(Plan),0,Plan)","v":0},0,0,0,0,0,0,0,0,0,{"$f":"IF(ISERROR(Plan),0,Plan)","v":0},0,0,0,0,0,0,0,0,0,{"$f":"IF(ISERROR(Plan),0,Plan)","v":0},0,0,0,0,0,0,0,0,0]
["Château de Clan",null,{"$f":"IF($B33<>\"\",VLOOKUP($B33,COSTS_Clan_Castle[#All],2),\"\")","v":""},{"$f":"IF($B33<>\"\",VLOOKUP($B33,COSTS_Clan_Castle[#All],3)/24,\"\")","v":""},null,null,{"$f":"IF($D33<>\"\",$D33,\"\")","v":""},null,0,0,0,0,0,0,0,0,0,0,0,0,0,0,0,0,0,0,0,0,0,0,0,0,0,0,0,0,0,0,0,0,0,0,0,0,0,0,0,0,0,0,0,0,0,0,0,0,0,0,0,0,0,0,0,0,0,0,0,0]
["Hôtel de Ville",null,{"$f":"IF($B34<>\"\",VLOOKUP($B34,COSTS_Town_Home[#All],2),\"\")","v":""},{"$f":"IF($B34<>\"\",VLOOKUP($B34,COSTS_Town_Home[#All],3)/24,\"\")","v":""},null,null,{"$f":"IF($D34<>\"\",$D34,\"\")","v":""},null,0,0,0,0,0,0,0,0,0,0,0,0,0,0,0,0,0,0,0,0,0,0,0,0,0,0,0,0,0,0,0,0,0,0,0,0,0,0,0,0,0,0,0,0,0,0,0,0,0,0,0,0,0,0,0,0,0,0,0,0]
["Améliorations de Sorts",null,null,null,null,null,null,null,0,0,0,0,0,0,0,0,0,0,0,0,0,0,0,0,0,0,0,0,0,0,0,0,0,0,0,0,0,0,0,0,0,0,0,0,0,0,0,0,0,0,0,0,0,0,0,0,0,0,0,0,0,0,0,0,0,0,0,0]
["Sort de Foudre",null,{"$f":"IF($B36<>\"\",VLOOKUP($B36,COSTS_Spell_Lightning[#All],2),\"\")","v":""},{"$f":"IF($B36<>\"\",VLOOKUP($B36,COSTS_Spell_Lightning[#All],3)/24,\"\")","v":""},null,null,{"$f":"IF($D36<>\"\",$D36,\"\")","v":""},null,0,0,0,0,0,0,0,0,0,0,0,0,0,0,0,0,0,0,0,0,0,0,0,0,0,0,0,0,0,0,0,0,0,0,0,0,0,0,0,0,0,0,0,0,0,0,0,0,0,0,0,0,0,0,0,0,0,0,0,0]
["Sort de Guérison",null,{"$f":"IF($B37<>\"\",VLOOKUP($B37,COSTS_Spell_Healing[#All],2),\"\")","v":""},{"$f":"IF($B37<>\"\",VLOOKUP($B37,COSTS_Spell_Healing[#All],3)/24,\"\")","v":""},null,null,{"$f":"IF($D37<>\"\",$D37,\"\")","v":""},null,{"$f":"IF(ISERROR(Plan),0,Plan)","v":0},0,0,0,0,0,0,0,0,0,{"$f":"IF(ISERROR(Plan),0,Plan)","v":0},0,0,0,0,0,0,0,0,0,{"$f":"IF(ISERROR(Plan),0,Plan)","v":0},0,0,0,0,0,0,0,0,0,{"$f":"IF(ISERROR(Plan),0,Plan)","v":0},0,0,0,0,0,0,0,0,0,{"$f":"IF(ISERROR(Plan),0,Plan)","v":0},0,0,0,0,0,0,0,0,0,{"$f":"IF(ISERROR(Plan),0,Plan)","v":0},0,0,0,0,0,0,0,0,0]
["Sort de Rage",null,{"$f":"IF($B38<>\"\",VLOOKUP($B38,COSTS_Spell_Rage[#All],2),\"\")","v":""},{"$f":"IF($B38<>\"\",VLOOKUP($B38,COSTS_Spell_Rage[#All],3)/24,\"\")","v":""},null,null,"",null,0,0,0,0,0,0,0,0,0,0,0,0,0,0,0,0,0,0,0,0,0,0,0,0,0,0,0,0,0,0,0,0,0,0,0,0,0,0,0,0,0,0,0,0,0,0,0,0,0,0,0,0,0,0,0,0,0,0,0,0]
["Sort de Saut",null,{"$f":"IF($B39<>\"\",VLOOKUP($B39,COSTS_Spell_Jump[#All],2),\"\")","v":""},{"$f":"IF($B39<>\"\",VLOOKUP($B39,COSTS_Spell_Jump[#All],3)/24,\"\")","v":""},null,null,"",null,{"$f":"IF(ISERROR(Plan),0,Plan)","v":0},0,0,0,0,0,0,0,0,0,{"$f":"IF(ISERROR(Plan),0,Plan)","v":0},0,0,0,0,0,0,0,0,0,{"$f":"IF(ISERROR(Plan),0,Plan)","v":0},0,0,0,0,0,0,0,0,0,{"$f":"IF(ISERROR(Plan),0,Plan)","v":0},0,0,0,0,0,0,0,0,0,{"$f":"IF(ISERROR(Plan),0,Plan)","v":0},0,0,0,0,0,0,0,0,0,{"$f":"IF(ISERROR(Plan),0,Plan)","v":0},0,0,0,0,0,0,0,0,0]
["Sort de Gel",null,{"$f":"IF($B40<>\"\",VLOOKUP($B40,COSTS_Spell_Freeze[#All],2),\"\")","v":""},{"$f":"IF($B40<>\"\",VLOOKUP($B40,COSTS_Spell_Freeze[#All],3)/24,\"\")","v":""},null,null,"",null,0,0,0,0,0,0,0,0,0,0,0,0,0,0,0,0,0,0,0,0,0,0,0,0,0,0,0,0,0,0,0,0,0,0,0,0,0,0,0,0,0,0,0,0,0,0,0,0,0,0,0,0,0,0,0,0,0,0,0,0]
["Améliorations de Troupes",null,null,null,null,null,null,null,0,0,0,0,0,0,0,0,0,0,0,0,0,0,0,0,0,0,0,0,0,0,0,0,0,0,0,0,0,0,0,0,0,0,0,0,0,0,0,0,0,0,0,0,0,0,0,0,0,0,0,0,0,0,0,0,0,0,0,0]
["Barbare",null,{"$f":"IF($B42<>\"\",VLOOKUP($B42,COSTS_Barbarian[#All],2),\"\")","v":""},{"$f":"IF($B42<>\"\",VLOOKUP($B42,COSTS_Barbarian[#All],3)/24,\"\")","v":""},null,null,"",null,0,0,0,0,0,0,0,0,0,0,0,0,0,0,0,0,0,0,0,0,0,0,0,0,0,0,0,0,0,0,0,0,0,0,0,0,0,0,0,0,0,0,0,0,0,0,0,0,0,0,0,0,0,0,0,0,0,0,0,0]
["Archer",null,{"$f":"IF($B43<>\"\",VLOOKUP($B43,COSTS_Archer[#All],2),\"\")","v":""},{"$f":"IF($B43<>\"\",VLOOKUP($B43,COSTS_Archer[#All],3)/24,\"\")","v":""},null,null,"",null,{"$f":"IF(ISERROR(Plan),0,Plan)","v":0},0,0,0,0,0,0,0,0,0,{"$f":"IF(ISERROR(Plan),0,Plan)","v":0},0,0,0,0,0,0,0,0,0,{"$f":"IF(ISERROR(Plan),0,Plan)","v":0},0,0,0,0,0,0,0,0,0,{"$f":"IF(ISERROR(Plan),0,Plan)","v":0},0,0,0,0,0,0,0,0,0,{"$f":"IF(ISERROR(Plan),0,Plan)","v":0},0,0,0,0,0,0,0,0,0,{"$f":"IF(ISERROR(Plan),0,Plan)","v":0},0,0,0,0,0,0,0,0,0]
["Gobelin",null,{"$f":"IF($B44<>\"\",VLOOKUP($B44,COSTS_Goblin[#All],2),\"\")","v":""},{"$f":"IF($B44<>\"\",VLOOKUP($B44,COSTS_Goblin[#All],3)/24,\"\")","v":""},null,null,"",null,{"$f":"IF(ISERROR(Plan),0,Plan)","v":0},0,0,0,0,0,0,0,0,0,{"$f":"IF(ISERROR(Plan),0,Plan)","v":0},0,0,0,0,0,0,0,0,0,{"$f":"IF(ISERROR(Plan),0,Plan)","v":0},0,0,0,0,0,0,0,0,0,{"$f":"IF(ISERROR(Plan),0,Plan)","v":0},0,0,0,0,0,0,0,0,0,{"$f":"IF(ISERROR(Plan),0,Plan)","v":0},0,0,0,0,0,0,0,0,0,{"$f":"IF(ISERROR(Plan),0,Plan)","v":0},0,0,0,0,0,0,0,0,0]
["Géant",null,{"$f":"IF($B45<>\"\",VLOOKUP($B45,COSTS_Giant[#All],2),\"\")","v":""},{"$f":"IF($B45<>\"\",VLOOKUP($B45,COSTS_Giant[#All],3)/24,\"\")","v":""},null,null,"",null,0,0,0,0,0,0,0,0,0,0,0,0,0,0,0,0,0,0,0,0,0,0,0,0,0,0,0,0,{"$f":"IF(ISERROR(Plan),0,Plan)","v":0},0,0,0,0,0,0,0,0,0,0,0,0,0,0,0,0,0,0,0,0,0,0,0,0,0,0,0,0,0,0,0]
["Sapeur",null,{"$f":"IF($B46<>\"\",VLOOKUP($B46,COSTS_Wall_Breaker[#All],2),\"\")","v":""},{"$f":"IF($B46<>\"\",VLOOKUP($B46,COSTS_Wall_Breaker[#All],3)/24,\"\")","v":""},null,null,"",null,{"$f":"IF(ISERROR(Plan),0,Plan)","v":0},0,0,0,0,0,0,0,0,0,{"$f":"IF(ISERROR(Plan),0,Plan)","v":0},0,0,0,0,0,0,0,0,0,{"$f":"IF(ISERROR(Plan),0,Plan)","v":0},0,0,0,0,0,0,0,0,0,{"$f":"IF(ISERROR(Plan),0,Plan)","v":0},0,0,0,0,0,0,0,0,0,{"$f":"IF(ISERROR(Plan),0,Plan)","v":0},0,0,0,0,0,0,0,0,0,{"$f":"IF(ISERROR(Plan),0,Plan)","v":0},0,0,0,0,0,0,0,0,0]
["Ballon",null,{"$f":"IF($B47<>\"\",VLOOKUP($B47,COSTS_Balloon[#All],2),\"\")","v":""},{"$f":"IF($B47<>\"\",VLOOKUP($B47,COSTS_Balloon[#All],3)/24,\"\")","v":""},null,null,"",null,0,0,0,0,0,0,0,0,0,0,0,0,0,0,0,0,0,0,0,0,0,0,0,0,0,0,0,0,0,0,0,0,0,0,0,0,0,0,0,0,0,0,0,0,0,0,0,0,0,0,0,0,0,0,0,0,0,0,0,0]
["Sorcier",null,{"$f":"IF($B48<>\"\",VLOOKUP($B48,COSTS_Wizard[#All],2),\"\")","v":""},{"$f":"IF($B48<>\"\",VLOOKUP($B48,COSTS_Wizard[#All],3)/24,\"\")","v":""},null,null,"",null,{"$f":"IF(ISERROR(Plan),0,Plan)","v":0},0,0,0,0,0,0,0,0,0,{"$f":"IF(ISERROR(Plan),0,Plan)","v":0},0,0,0,0,0,0,0,0,0,{"$f":"IF(ISERROR(Plan),0,Plan)","v":0},0,0,0,0,0,0,0,0,0,{"$f":"IF(ISERROR(Plan),0,Plan)","v":0},0,0,0,0,0,0,0,0,0,{"$f":"IF(ISERROR(Plan),0,Plan)","v":0},0,0,0,0,0,0,0,0,0,{"$f":"IF(ISERROR(Plan),0,Plan)","v":0},0,0,0,0,0,0,0,0,0]
["Guérisseuse",null,{"$f":"IF($B49<>\"\",VLOOKUP($B49,COSTS_Healer[#All],2),\"\")","v":""},{"$f":"IF($B49<>\"\",VLOOKUP($B49,COSTS_Healer[#All],3)/24,\"\")","v":""},null,null,"",null,{"$f":"IF(ISERROR(Plan),0,Plan)","v":0},0,0,0,0,0,0,0,0,0,{"$f":"IF(ISERROR(Plan),0,Plan)","v":0},0,0,0,0,0,0,0,0,0,{"$f":"IF(ISERROR(Plan),0,Plan)","v":0},0,0,0,0,0,0,0,0,0,{"$f":"IF(ISERROR(Plan),0,Plan)","v":0},0,0,0,0,0,0,0,0,0,{"$f":"IF(ISERROR(Plan),0,Plan)","v":0},0,0,0,0,0,0,0,0,0,{"$f":"IF(ISERROR(Plan),0,Plan)","v":0},0,0,0,0,0,0,0,0,0]
["Dragon",null,{"$f":"IF($B50<>\"\",VLOOKUP($B50,COSTS_Dragon[#All],2),\"\")","v":""},{"$f":"IF($B50<>\"\",VLOOKUP($B50,COSTS_Dragon[#All],3)/24,\"\")","v":""},null,null,"",null,0,0,0,0,0,0,0,0,0,0,0,0,0,0,0,0,0,0,0,0,0,0,0,0,0,0,0,0,0,0,0,0,0,0,0,0,0,0,0,0,0,0,0,0,0,0,0,0,0,0,0,0,0,0,0,0,0,0,0,0]
["P.E.K.K.A",null,{"$f":"IF($B51<>\"\",VLOOKUP($B51,COSTS_PEKKA[#All],2),\"\")","v":""},{"$f":"IF($B51<>\"\",VLOOKUP($B51,COSTS_PEKKA[#All],3)/24,\"\")","v":""},null,null,"",null,0,0,0,0,0,0,0,0,0,0,0,0,0,0,0,0,0,0,0,0,0,0,0,0,0,0,0,0,0,0,0,0,0,0,0,0,0,0,0,0,0,0,0,0,0,0,0,0,0,0,0,0,0,0,0,0,0,0,0,0]
["Améliorations de Troupes Noires",null,null,null,null,null,null,null,{"$f":"IF(ISERROR(Plan),0,Plan)","v":0},0,0,0,0,0,0,0,0,0,{"$f":"IF(ISERROR(Plan),0,Plan)","v":0},0,0,0,0,0,0,0,0,0,{"$f":"IF(ISERROR(Plan),0,Plan)","v":0},0,0,0,0,0,0,0,0,0,{"$f":"IF(ISERROR(Plan),0,Plan)","v":0},0,0,0,0,0,0,0,0,0,{"$f":"IF(ISERROR(Plan),0,Plan)","v":0},0,0,0,0,0,0,0,0,0,{"$f":"IF(ISERROR(Plan),0,Plan)","v":0},0,0,0,0,0,0,0,0,0]
["Serviteur",null,{"$f":"IF($B53<>\"\",VLOOKUP($B53,COSTS_Minion[#All],2),\"\")","v":""},{"$f":"IF($B53<>\"\",VLOOKUP($B53,COSTS_Minion[#All],3)/24,\"\")","v":""},null,null,"",null,0,0,0,0,0,0,0,0,0,0,0,0,0,0,0,0,0,0,0,0,0,0,0,0,0,0,0,0,0,0,0,0,0,0,0,0,0,0,0,0,0,0,0,0,0,0,0,0,0,0,0,0,0,0,0,0,0,0,0,0]
["Chevaucheur de Cochon",null,{"$f":"IF($B54<>\"\",VLOOKUP($B54,COSTS_Hog_Rider[#All],2),\"\")","v":""},{"$f":"IF($B54<>\"\",VLOOKUP($B54,COSTS_Hog_Rider[#All],3)/24,\"\")","v":""},null,null,"",null,{"$f":"IF(ISERROR(Plan),0,Plan)","v":0},0,0,0,0,0,0,0,0,0,{"$f":"IF(ISERROR(Plan),0,Plan)","v":0},0,0,0,0,0,0,0,0,0,{"$f":"IF(ISERROR(Plan),0,Plan)","v":0},0,0,0,0,0,0,0,0,0,{"$f":"IF(ISERROR(Plan),0,Plan)","v":0},0,0,0,0,0,0,0,0,0,{"$f":"IF(ISERROR(Plan),0,Plan)","v":0},0,0,0,0,0,0,0,0,0,{"$f":"IF(ISERROR(Plan),0,Plan)","v":0},0,0,0,0,0,0,0,0,0]
["Valkyrie",null,{"$f":"IF($B55<>\"\",VLOOKUP($B55,COSTS_Valkyrie[#All],2),\"\")","v":""},{"$f":"IF($B55<>\"\",VLOOKUP($B55,COSTS_Valkyrie[#All],3)/24,\"\")","v":""},null,null,"",null,{"$f":"IF(ISERROR(Plan),0,Plan)","v":0},0,0,0,0,0,0,0,0,0,{"$f":"IF(ISERROR(Plan),0,Plan)","v":0},0,0,0,0,0,0,0,0,0,{"$f":"IF(ISERROR(Plan),0,Plan)","v":0},0,0,0,0,0,0,0,0,0,{"$f":"IF(ISERROR(Plan),0,Plan)","v":0},0,0,0,0,0,0,0,0,0,{"$f":"IF(ISERROR(Plan),0,Plan)","v":0},0,0,0,0,0,0,0,0,0,{"$f":"IF(ISERROR(Plan),0,Plan)","v":0},0,0,0,0,0,0,0,0,0]
["Golem",null,{"$f":"IF($B56<>\"\",VLOOKUP($B56,COSTS_Golem[#All],2),\"\")","v":""},{"$f":"IF($B56<>\"\",VLOOKUP($B56,COSTS_Golem[#All],3)/24,\"\")","v":""},null,null,{"$f":"IF($D56<>\"\",$D56,\"\")","v":""},null,0,0,0,0,0,0,0,0,0,0,0,0,0,0,0,0,0,0,0,0,0,0,0,0,0,0,0,0,0,0,0,0,0,0,0,0,0,0,0,0,0,0,0,0,0,0,0,0,0,0,0,0,0,0,0,0,0,0,0,0]
["Sorcière",null,{"$f":"IF($B57<>\"\",VLOOKUP($B57,COSTS_Witch[#All],2),\"\")","v":""},{"$f":"IF($B57<>\"\",VLOOKUP($B57,COSTS_Witch[#All],3)/24,\"\")","v":""},null,null,""]
["Molosse de lave",null,{"$f":"IF($B58<>\"\",VLOOKUP($B58,COSTS_Lava_Hound[#All],2),\"\")","v":""},{"$f":"IF($B58<>\"\",VLOOKUP($B58,COSTS_Lava_Hound[#All],3)/24,\"\")","v":""},null,null,""]
["Héros",null,null,null,null,null,null,null,{"$f":"IF(ISERROR(Plan),0,Plan)","v":0},0,0,0,0,0,0,0,0,0,0,0,0,0,0,0,0,{"$f":"IF(ISERROR(Plan),0,Plan)","v":0},0,0,0,0,0,0,0,0,0,0,0,0,0,0,0,0,0,0,0,0,0,0,0,0,0,0,0,0,0,0,0,0,0,0,0,0,0,0,0,0,0,0]
["Roi des Barbares",null,{"$f":"IF($B60<>\"\",VLOOKUP($B60,COSTS_Barbarian_King[#All],2),\"\")","v":""},{"$f":"IF($B60<>\"\",VLOOKUP($B60,COSTS_Barbarian_King[#All],3)/24,\"\")","v":""},null,null,"",null,{"$f":"IF(ISERROR(Plan),0,Plan)","v":0},0,0,0,0,0,0,0,0,0,0,0,0,0,0,0,0,0,0,0,0,0,0,0,0,0,0,0,0,0,0,0,0,0,0,0,0,0,0,0,0,0,0,0,0,0,0,0,0,0,0,0,0,0,0,0,0,0,0,0]
["Reine des Archers",null,{"$f":"IF($B61<>\"\",VLOOKUP($B61,COSTS_Archer_Queen[#All],2),\"\")","v":""},{"$f":"IF($B61<>\"\",VLOOKUP($B61,COSTS_Archer_Queen[#All],3)/24,\"\")","v":""},null,null,"",null,{"$f":"IF(ISERROR(Plan),0,Plan)","v":0},0,{"$f":"IF(ISERROR(Plan),0,Plan)","v":0},0,0,0,0,0,0,0,0,0,{"$f":"IF(ISERROR(Plan),0,Plan)","v":0},0,0,0,0,0,0,0,0,0,{"$f":"IF(ISERROR(Plan),0,Plan)","v":0},0,0,0,0,0,0,0,0,0,{"$f":"IF(ISERROR(Plan),0,Plan)","v":0},0,0,0,0,0,0,0,0,0,{"$f":"IF(ISERROR(Plan),0,Plan)","v":0},0,0,0,0,0,0,0,0,0,{"$f":"IF(ISERROR(Plan),0,Plan)","v":0},0,0,0,0,0,0,0]
["Pièges Défensifs",null,null,null,null,null,null,null,{"$f":"IF(ISERROR(Plan),0,Plan)","v":0},0,0,0,0,0,0,0,0,0,0,0,0,0,0,0,0,0,0,0,0,0,0,0,0,0,0,0,0,0,0,0,0,0,0,0,0,0,0,0,0,0,0,0,0,0,0,0,0,0,0,0,0,0,0,0,0,0,0,0]
["Bombe",null,{"$f":"IF($B63<>\"\",VLOOKUP($B63,COSTS_Bomb[#All],2),\"\")","v":""},{"$f":"IF($B63<>\"\",VLOOKUP($B63,COSTS_Bomb[#All],3)/24,\"\")","v":""},null,null,"",null,0,0,0,0,0,0,0,0,0,0,0,0,0,0,0,0,0,0,0,0,0,0,0,0,0,0,0,0,0,0,0,0,0,0,0,0,0,0,0,0,0,0,0,0,0,0,0,0,0,0,0,0,0,0,0,0,0,0,0,0]
["Piège à ressort",null,{"$f":"IF($B64<>\"\",VLOOKUP($B64,COSTS_Spring_Trap[#All],2),\"\")","v":""},{"$f":"IF($B64<>\"\",VLOOKUP($B64,COSTS_Spring_Trap[#All],3)/24,\"\")","v":""},null,null,{"$f":"IF($D64<>\"\",$D64,\"\")","v":""},null,0,0,{"$f":"IF(ISERROR(Plan),0,Plan)","v":0},0,0,0,0,0,0,0,0,0,0,0,0,0,0,0,0,0,0,0,0,0,0,0,0,0,0,0,0,0,0,0,{"$f":"IF(ISERROR(Plan),0,Plan)","v":0},0,0,0,0,0,0,0,0,0,0,0,0,0,0,0,0,0,0,{"$f":"IF(ISERROR(Plan),0,Plan)","v":0},0,0,0,0,0,0]
["Bombe géante",null,{"$f":"IF($B65<>\"\",VLOOKUP($B65,COSTS_Giant_Bomb[#All],2),\"\")","v":""},{"$f":"IF($B65<>\"\",VLOOKUP($B65,COSTS_Giant_Bomb[#All],3)/24,\"\")","v":""},null,null,"",null,0,0,{"$f":"IF(ISERROR(Plan),0,Plan)","v":0},0,0,0,0,0,0,0,0,0,0,0,0,0,{"$f":"IF(ISERROR(Plan),0,Plan)","v":0},0,0,0,0,0,0,0,0,0,0,0,0,0,0,0,{"$f":"IF(ISERROR(Plan),0,Plan)","v":0},0,0,0,0,0,0,0,0,0,0,0,0,0,0,0,{"$f":"IF(ISERROR(Plan),0,Plan)","v":0},0,0,0,0,0,0,0,0,0,0,0]
["Bombe aérienne",null,{"$f":"IF($B66<>\"\",VLOOKUP($B66,COST_Air_Bomb[#All],2),\"\")","v":""},{"$f":"IF($B66<>\"\",VLOOKUP($B66,COST_Air_Bomb[#All],3)/24,\"\")","v":""},null,null,"",null,0,0,0,0,0,0,0,0,0,0,0,0,0,0,0,0,0,0,0,0,0,0,0,0,0,0,0,0,0,0,0,0,0,0,0,0,0,0,0,0,0,0,0,0,0,0,0,0,0,0,0,0,0,0,0,0,0,0,0,0]
["Tête chercheuse",null,{"$f":"IF($B67<>\"\",VLOOKUP($B67,COST_Seeking_Air_Mine[#All],2),\"\")","v":""},{"$f":"IF($B67<>\"\",VLOOKUP($B67,COST_Seeking_Air_Mine[#All],3)/24,\"\")","v":""},null,null,"",null,0,0,0,0,0,0,0,0,0,0,0,0,0,0,0,0,0,0,0,0,0,0,0,0,0,0,0,0,0,0,0,0,0,0,0,0,0,0,0,0,0,0,0,0,0,0,0,0,0,0,0,0,0,0,0,0,0,0,0,0]
["Piège squelettique",null,{"$f":"IF($B68<>\"\",VLOOKUP($B68,COST_Skeleton_Trap[#All],2),\"\")","v":""},{"$f":"IF($B68<>\"\",VLOOKUP($B68,COST_Skeleton_Trap[#All],3)/24,\"\")","v":""},null,null,"",null,{"$f":"IF(ISERROR(Plan),0,Plan)","v":0},0,0,0,0,0,0,0,0,0,0,0,0,0,0,0,0,0,0,0,0,0,0,0,0,0,0,0,0,0,0,0,0,0,0,0,0,0,0,0,0,0,0,0,0,0,0,0,0,0,0,0,0,0,0,0,0,0,0,0]

{"sheet":"À Faire - Récapitulatif","index":1,"n_rows":31,"n_cols":32,"rows_kept":31,"cut":false,"hidden":false,"merged":[[27,14,27,17],[1,3,1,5],[0,3,0,5],[0,6,0,7],[1,6,1,7],[0,13,0,17],[1,13,1,17],[1,11,1,12],[0,11,0,12],[0,8,0,10],[1,8,1,10],[18,0,18,5],[18,6,18,11],[2,0,3,29],[1,18,1,20],[0,18,0,20],[4,24,4,29],[1,21,1,23],[0,21,0,23],[18,18,18,23],[4,0,4,5],[4,6,4,11],[4,12,4,17],[4,18,4,23],[1,1,1,2],[0,1,0,2],[18,12,18,17]]}
["LVL HdV","Affichage Temps",null,"Or Total :",null,null,"Élixir Total :",null,"Élixir Noir Total :",null,null,"Temps Total :",null,{"$f":"'Paramètres - Admin'!$D$7 & IF($B$2='Paramètres - Admin'!$B$2,TEXT((E13+K12+Q16+W9+AC13)*60*60,\"# 0\")&\" \" & 'Paramètres - Admin'!$B$2,IF($B$2='Paramètres - Admin'!$B$3,TEXT((E13+K12+Q16+W9+AC13)*60,\"# 0\")&\" \" & 'Paramètres - Admin'!$B$3,IF($B$2='Paramètres - Admin'!$B$4,TEXT((E13+K12+Q16+W9+AC13),\"# 0,00\")&\" \" & 'Paramètres - Admin'!$B$4,IF($B$2='Paramètres - Admin'!$B$5,TEXT((E13+K12+Q16+W9+AC13)/24,\"# 0,00\")&\" \" & 'Paramètres - Admin'!$B$5,IF($B$2='Paramètres - Admin'!$B$6,TEXT(((E13+K12+Q16+W9+AC13)/24)/30,\"# 0,00\")&\" \" & 'Paramètres - Admin'!$B$6,IF((E13+K12+Q16+W9+AC13)/24>=1,INT((E13+K12+Q16+W9+AC13)/24)&\" \" &  'Paramètres - Admin'!$D$4 & \" \" & HOUR((E13+K12+Q16+W9+AC13)/24-INT((E13+K12+Q16+W9+AC13)/24))&\" \" &  'Paramètres - Admin'!$D$3 & \" \" & MINUTE((E13+K12+Q16+W9+AC13)/24-INT((E13+K12+Q16+W9+AC13)/24))&\" \" &  'Paramètres - Admin'!$D$2,HOUR((E13+K12+Q16+W9+AC13)/24-INT((E13+K12+Q16+W9+AC13)/24))&\" \" &  'Paramètres - Admin'!$D$3 & \" \" & MINUTE((E13+K12+Q16+W9+AC13)/24-INT((E13+K12+Q16+W9+AC13)/24))&\" \" &  'Paramètres - Admin'!$D$2))))))","v":"Bâtiments : 992 jours 6 hrs 0 mins"},null,null,null,null,"=> Temps par Ouvrier :",null,null,"Améliorations de Troupes/Sorts :"]
[{"$f":"Paramètres!$BE$2","v":10},"j/h/m",null,{"$f":"TEXT(D8+D11+P16+V9+AB13,\"# ##0\")","v":"2 562 492 000"},null,null,{"$f":"TEXT(D7+D9+D10+D12+J12+D26+J31,\"# ##0\")","v":"163 486 000"},null,{"$f":"TEXT(P27+V23,\"# ##0\")","v":"8 397 500"},null,null,{"$f":"IF($B$2='Paramètres - Admin'!$B$2,TEXT((E13+K12+Q16+W9+E26+K31+Q27+AC13+W23)*60*60,\"# 0\")&\" \" & 'Paramètres - Admin'!$B$2,IF($B$2='Paramètres - Admin'!$B$3,TEXT((E13+K12+Q16+W9+E26+K31+Q27+AC13+W23)*60,\"# 0\")&\" \" & 'Paramètres - Admin'!$B$3,IF($B$2='Paramètres - Admin'!$B$4,TEXT((E13+K12+Q16+W9+E26+K31+Q27+AC13+W23),\"# 0,00\")&\" \" & 'Paramètres - Admin'!$B$4,IF($B$2='Paramètres - Admin'!$B$5,TEXT((E13+K12+Q16+W9+E26+K31+Q27+AC13+W23)/24,\"# 0,00\")&\" \" & 'Paramètres - Admin'!$B$5,IF($B$2='Paramètres - Admin'!$B$6,TEXT(((E13+K12+Q16+W9+E26+K31+Q27+AC13+W23)/24)/30,\"# 0,00\")&\" \" & 'Paramètres - Admin'!$B$6,IF((E13+K12+Q16+W9+E26+K31+Q27+AC13+W23)/24>=1,INT((E13+K12+Q16+W9+E26+K31+Q27+AC13+W23)/24)&\" \" &  'Paramètres - Admin'!$D$4 & \" \" & HOUR((E13+K12+Q16+W9+E26+K31+Q27+AC13+W23)/24-INT((E13+K12+Q16+W9+E26+K31+Q27+AC13+W23)/24))&\" \" &  'Paramètres - Admin'!$D$3 & \" \" & MINUTE((E13+K12+Q16+W9+E26+K31+Q27+AC13+W23)/24-INT((E13+K12+Q16+W9+E26+K31+Q27+AC13+W23)/24))&\" \" &  'Paramètres - Admin'!$D$2,HOUR((E13+K12+Q16+W9+E26+K31+Q27+W23)/24-INT((E13+K12+Q16+W9+E26+K31+Q27+AC13+W23)/24))&\" \" &  'Paramètres - Admin'!$D$3 & \" \" & MINUTE((E13+K12+Q16+W9+E26+K31+Q27+AC13+W23)/24-INT((E13+K12+Q16+W9+E26+K31+Q27+AC13+W23)/24))&\" \" &  'Paramètres - Admin'!$D$2))))))","v":"1763 jours 18 hrs 0 mins"},null,{"$f":"'Paramètres - Admin'!$D$6 & IF($B$2='Paramètres - Admin'!$B$2,TEXT(W23*60*60,\"# 0\")&\" \" & 'Paramètres - Admin'!$B$2,IF($B$2='Paramètres - Admin'!$B$3,TEXT(W23*60,\"# 0\")&\" \" & 'Paramètres - Admin'!$B$3,IF($B$2='Paramètres - Admin'!$B$4,TEXT(W23,\"# 0,00\")&\" \" & 'Paramètres - Admin'!$B$4,IF($B$2='Paramètres - Admin'!$B$5,TEXT(W23/24,\"# 0,00\")&\" \" & 'Paramètres - Admin'!$B$5,IF($B$2='Paramètres - Admin'!$B$6,TEXT((W23/24)/30,\"# 0,00\")&\" \" & 'Paramètres - Admin'!$B$6,IF(W23/24>=1,INT(W23/24)&\" \" &  'Paramètres - Admin'!$D$4 & \" \" & HOUR(W23/24-INT(W23/24))&\" \" &  'Paramètres - Admin'!$D$3 & \" \" & MINUTE(W23/24-INT(W23/24))&\" \" &  'Paramètres - Admin'!$D$2,HOUR(W23/24-INT(W23/24))&\" \" &  'Paramètres - Admin'!$D$3 & \" \" & MINUTE(W23/24-INT(W23/24))&\" \" &  'Paramètres - Admin'!$D$2))))))","v":"Héros : 442 jours 12 hrs 0 mins"},null,null,null,null,{"$f":"IF($B$2='Paramètres - Admin'!$B$2,TEXT((E13+K12+Q16+W9+AC13+W23)/Paramètres!$BF$2*60*60,\"# 0\")&\" \" & 'Paramètres - Admin'!$B$2,IF($B$2='Paramètres - Admin'!$B$3,TEXT((E13+K12+Q16+W9+AC13+W23)/Paramètres!$BF$2*60,\"# 0\")&\" \" & 'Paramètres - Admin'!$B$3,IF($B$2='Paramètres - Admin'!$B$4,TEXT((E13+K12+Q16+W9+AC13+W23)/Paramètres!$BF$2,\"# 0,00\")&\" \" & 'Paramètres - Admin'!$B$4,IF($B$2='Paramètres - Admin'!$B$5,TEXT((E13+K12+Q16+W9+AC13+W23)/Paramètres!$BF$2/24,\"# 0,00\")&\" \" & 'Paramètres - Admin'!$B$5,IF($B$2='Paramètres - Admin'!$B$6,TEXT(((E13+K12+Q16+W9+AC13+W23)/Paramètres!$BF$2/24)/30,\"# 0,00\")&\" \" & 'Paramètres - Admin'!$B$6,IF((E13+K12+Q16+W9+AC13+W23)/Paramètres!$BF$2/24>=1,INT((E13+K12+Q16+W9+AC13+W23)/Paramètres!$BF$2/24)&\" \" &  'Paramètres - Admin'!$D$4 & \" \" & HOUR((E13+K12+Q16+W9+AC13+W23)/Paramètres!$BF$2/24-INT((E13+K12+Q16+W9+AC13+W23)/Paramètres!$BF$2/24))&\" \" &  'Paramètres - Admin'!$D$3 & \" \" & MINUTE((E13+K12+Q16+W9+AC13+W23)/Paramètres!$BF$2/24-INT((E13+K12+Q16+W9+AC13+W23)/Paramètres!$BF$2/24))&\" \" &  'Paramètres - Admin'!$D$2,HOUR((E13+K12+Q16+W9+AC13+W23)/Paramètres!$BF$2/24-INT((E13+K12+Q16+W9+AC13+W23)/Paramètres!$BF$2/24))&\" \" &  'Paramètres - Admin'!$D$3 & \" \" & MINUTE((E13+K12+Q16+W9+AC13+W23)/Paramètres!$BF$2/24-INT((E13+K12+Q16+W9+AC13+W23)/Paramètres!$BF$2/24))&\" \" &  'Paramètres - Admin'!$D$2))))))","v":"286 jours 22 hrs 48 mins"},null,null,{"$f":"IF($B$2='Paramètres - Admin'!$B$2,TEXT((E26+K31+Q27)*60*60,\"# 0\")&\" \" & 'Paramètres - Admin'!$B$2,IF($B$2='Paramètres - Admin'!$B$3,TEXT((E26+K31+Q27)*60,\"# 0\")&\" \" & 'Paramètres - Admin'!$B$3,IF($B$2='Paramètres - Admin'!$B$4,TEXT((E26+K31+Q27),\"# 0,00\")&\" \" & 'Paramètres - Admin'!$B$4,IF($B$2='Paramètres - Admin'!$B$5,TEXT((E26+K31+Q27)/24,\"# 0,00\")&\" \" & 'Paramètres - Admin'!$B$5,IF($B$2='Paramètres - Admin'!$B$6,TEXT(((E26+K31+Q27)/24)/30,\"# 0,00\")&\" \" & 'Paramètres - Admin'!$B$6,IF((E26+K31+Q27)/24>=1,INT((E26+K31+Q27)/24)&\" \" &  'Paramètres - Admin'!$D$4 & \" \" & HOUR((E26+K31+Q27)/24-INT((E26+K31+Q27)/24))&\" \" &  'Paramètres - Admin'!$D$3 & \" \" & MINUTE((E26+K31+Q27)/24-INT((E26+K31+Q27)/24))&\" \" &  'Paramètres - Admin'!$D$2,HOUR((E26+K31+Q27)/24-INT((E26+K31+Q27)/24))&\" \" &  'Paramètres - Admin'!$D$3 & \" \" & MINUTE((E26+K31+Q27)/24-INT((E26+K31+Q27)/24))&\" \" &  'Paramètres - Admin'!$D$2))))))","v":"329 jours 0 hrs 0 mins"}]
["Tableaux récapitulatifs",null,null,null,null,null,null,null,null,null,null,null,null,null,null,null,null,null,null,null,null,null,null,null,null,null,null,null,null,null,"Or",{"$f":"D8+D11+P16+V9+AB13","v":2562492000}]
[null,null,null,null,null,null,null,null,null,null,null,null,null,null,null,null,null,null,null,null,null,null,null,null,null,null,null,null,null,null,"Élixir",{"$f":"D7+D9+D10+D12+J12+D26+J31","v":163486000}]
["Bâtiments de Ressources",null,null,null,null,null,"Bâtiments d'Armée",null,null,null,null,null,"Bâtiments Défensifs",null,null,null,null,null,"Bâtiments Autres",null,null,null,null,null,"Pièges Défensifs",null,null,null,null,null,"Élixir Noir",{"$f":"P27+V23","v":8397500}]
["Bâtiment","À Faire","Up.","Coût Total","Temps Total","Temps Total","Bâtiment","À Faire","Up.","Coût Total","Temps Total","Temps Total","Bâtiment","À Faire","Up.","Coût Total","Temps Total","Temps Total","Bâtiment","À Faire","Up.","Coût Total","Temps Total","Temps Total","Bâtiment","À Faire","Up.","Coût Total","Temps Total","Temps Total"]
["Mine d'Or",{"$f":"'À Faire - Détails'!J6","v":0},{"$f":"'À Faire - Détails'!K6","v":1},{"$f":"'À Faire - Détails'!J20","v":336000},{"$f":"'À Faire - Détails'!K20","v":120},{"$f":"IF($B$2='Paramètres - Admin'!$B$2,TEXT(E7*60*60,\"# 0\")&\" \" & 'Paramètres - Admin'!$B$2,IF($B$2='Paramètres - Admin'!$B$3,TEXT(E7*60,\"# 0\")&\" \" & 'Paramètres - Admin'!$B$3,IF($B$2='Paramètres - Admin'!$B$4,TEXT(E7,\"# 0,00\")&\" \" & 'Paramètres - Admin'!$B$4,IF($B$2='Paramètres - Admin'!$B$5,TEXT(E7/24,\"# 0,00\")&\" \" & 'Paramètres - Admin'!$B$5,IF($B$2='Paramètres - Admin'!$B$6,TEXT((E7/24)/30,\"# 0,00\")&\" \" & 'Paramètres - Admin'!$B$6,IF(E7/24>=1,INT(E7/24)&\" \" &  'Paramètres - Admin'!$D$4 & \" \" & HOUR(E7/24-INT(E7/24))&\" \" &  'Paramètres - Admin'!$D$3 & \" \" & MINUTE(E7/24-INT(E7/24))&\" \" &  'Paramètres - Admin'!$D$2,HOUR(E7/24-INT(E7/24))&\" \" &  'Paramètres - Admin'!$D$3 & \" \" & MINUTE(E7/24-INT(E7/24))&\" \" &  'Paramètres - Admin'!$D$2))))))","v":"5 jours 0 hrs 0 mins"},"Caserne",{"$f":"'À Faire - Détails'!J61","v":0},{"$f":"'À Faire - Détails'!K61","v":1},{"$f":"'À Faire - Détails'!J73","v":2000000},{"$f":"'À Faire - Détails'!K73","v":144},{"$f":"IF($B$2='Paramètres - Admin'!$B$2,TEXT(K7*60*60,\"# 0\")&\" \" & 'Paramètres - Admin'!$B$2,IF($B$2='Paramètres - Admin'!$B$3,TEXT(K7*60,\"# 0\")&\" \" & 'Paramètres - Admin'!$B$3,IF($B$2='Paramètres - Admin'!$B$4,TEXT(K7,\"# 0,00\")&\" \" & 'Paramètres - Admin'!$B$4,IF($B$2='Paramètres - Admin'!$B$5,TEXT(K7/24,\"# 0,00\")&\" \" & 'Paramètres - Admin'!$B$5,IF($B$2='Paramètres - Admin'!$B$6,TEXT((K7/24)/30,\"# 0,00\")&\" \" & 'Paramètres - Admin'!$B$6,IF(K7/24>=1,INT(K7/24)&\" \" &  'Paramètres - Admin'!$D$4 & \" \" & HOUR(K7/24-INT(K7/24))&\" \" &  'Paramètres - Admin'!$D$3 & \" \" & MINUTE(K7/24-INT(K7/24))&\" \" &  'Paramètres - Admin'!$D$2,HOUR(K7/24-INT(K7/24))&\" \" &  'Paramètres - Admin'!$D$3 & \" \" & MINUTE(K7/24-INT(K7/24))&\" \" &  'Paramètres - Admin'!$D$2))))))","v":"6 jours 0 hrs 0 mins"},"Rempart",{"$f":"'À Faire - Détails'!J101","v":0},{"$f":"'À Faire - Détails'!K101","v":748},{"$f":"'À Faire - Détails'!J114","v":1998000000},{"$f":"'À Faire - Détails'!K114","v":0},{"$f":"IF($B$2='Paramètres - Admin'!$B$2,TEXT(Q7*60*60,\"# 0\")&\" \" & 'Paramètres - Admin'!$B$2,IF($B$2='Paramètres - Admin'!$B$3,TEXT(Q7*60,\"# 0\")&\" \" & 'Paramètres - Admin'!$B$3,IF($B$2='Paramètres - Admin'!$B$4,TEXT(Q7,\"# 0,00\")&\" \" & 'Paramètres - Admin'!$B$4,IF($B$2='Paramètres - Admin'!$B$5,TEXT(Q7/24,\"# 0,00\")&\" \" & 'Paramètres - Admin'!$B$5,IF($B$2='Paramètres - Admin'!$B$6,TEXT((Q7/24)/30,\"# 0,00\")&\" \" & 'Paramètres - Admin'!$B$6,IF(Q7/24>=1,INT(Q7/24)&\" \" &  'Paramètres - Admin'!$D$4 & \" \" & HOUR(Q7/24-INT(Q7/24))&\" \" &  'Paramètres - Admin'!$D$3 & \" \" & MINUTE(Q7/24-INT(Q7/24))&\" \" &  'Paramètres - Admin'!$D$2,HOUR(Q7/24-INT(Q7/24))&\" \" &  'Paramètres - Admin'!$D$3 & \" \" & MINUTE(Q7/24-INT(Q7/24))&\" \" &  'Paramètres - Admin'!$D$2))))))","v":"0 hrs 0 mins"},"Château de Clan",{"$f":"'À Faire - Détails'!J165","v":0},{"$f":"'À Faire - Détails'!K165","v":2},{"$f":"'À Faire - Détails'!J173","v":12000000},{"$f":"'À Faire - Détails'!K173","v":504},{"$f":"IF($B$2='Paramètres - Admin'!$B$2,TEXT(W7*60*60,\"# 0\")&\" \" & 'Paramètres - Admin'!$B$2,IF($B$2='Paramètres - Admin'!$B$3,TEXT(W7*60,\"# 0\")&\" \" & 'Paramètres - Admin'!$B$3,IF($B$2='Paramètres - Admin'!$B$4,TEXT(W7,\"# 0,00\")&\" \" & 'Paramètres - Admin'!$B$4,IF($B$2='Paramètres - Admin'!$B$5,TEXT(W7/24,\"# 0,00\")&\" \" & 'Paramètres - Admin'!$B$5,IF($B$2='Paramètres - Admin'!$B$6,TEXT((W7/24)/30,\"# 0,00\")&\" \" & 'Paramètres - Admin'!$B$6,IF(W7/24>=1,INT(W7/24)&\" \" &  'Paramètres - Admin'!$D$4 & \" \" & HOUR(W7/24-INT(W7/24))&\" \" &  'Paramètres - Admin'!$D$3 & \" \" & MINUTE(W7/24-INT(W7/24))&\" \" &  'Paramètres - Admin'!$D$2,HOUR(W7/24-INT(W7/24))&\" \" &  'Paramètres - Admin'!$D$3 & \" \" & MINUTE(W7/24-INT(W7/24))&\" \" &  'Paramètres - Admin'!$D$2))))))","v":"21 jours 0 hrs 0 mins"},"Bombe",{"$f":"'À Faire - Détails'!J183","v":0},{"$f":"'À Faire - Détails'!K183","v":12},{"$f":"'À Faire - Détails'!J191","v":15000000},{"$f":"'À Faire - Détails'!K191","v":432},{"$f":"IF($B$2='Paramètres - Admin'!$B$2,TEXT(AC7*60*60,\"# 0\")&\" \" & 'Paramètres - Admin'!$B$2,IF($B$2='Paramètres - Admin'!$B$3,TEXT(AC7*60,\"# 0\")&\" \" & 'Paramètres - Admin'!$B$3,IF($B$2='Paramètres - Admin'!$B$4,TEXT(AC7,\"# 0,00\")&\" \" & 'Paramètres - Admin'!$B$4,IF($B$2='Paramètres - Admin'!$B$5,TEXT(AC7/24,\"# 0,00\")&\" \" & 'Paramètres - Admin'!$B$5,IF($B$2='Paramètres - Admin'!$B$6,TEXT((AC7/24)/30,\"# 0,00\")&\" \" & 'Paramètres - Admin'!$B$6,IF(AC7/24>=1,INT(AC7/24)&\" \" &  'Paramètres - Admin'!$D$4 & \" \" & HOUR(AC7/24-INT(AC7/24))&\" \" &  'Paramètres - Admin'!$D$3 & \" \" & MINUTE(AC7/24-INT(AC7/24))&\" \" &  'Paramètres - Admin'!$D$2,HOUR(AC7/24-INT(AC7/24))&\" \" &  'Paramètres - Admin'!$D$3 & \" \" & MINUTE(AC7/24-INT(AC7/24))&\" \" &  'Paramètres - Admin'!$D$2))))))","v":"18 jours 0 hrs 0 mins"}]
["Extracteur d'Élixir",{"$f":"'À Faire - Détails'!U6","v":0},{"$f":"'À Faire - Détails'!V6","v":7},{"$f":"'À Faire - Détails'!U20","v":2352000},{"$f":"'À Faire - Détails'!V20","v":840},{"$f":"IF($B$2='Paramètres - Admin'!$B$2,TEXT(E8*60*60,\"# 0\")&\" \" & 'Paramètres - Admin'!$B$2,IF($B$2='Paramètres - Admin'!$B$3,TEXT(E8*60,\"# 0\")&\" \" & 'Paramètres - Admin'!$B$3,IF($B$2='Paramètres - Admin'!$B$4,TEXT(E8,\"# 0,00\")&\" \" & 'Paramètres - Admin'!$B$4,IF($B$2='Paramètres - Admin'!$B$5,TEXT(E8/24,\"# 0,00\")&\" \" & 'Paramètres - Admin'!$B$5,IF($B$2='Paramètres - Admin'!$B$6,TEXT((E8/24)/30,\"# 0,00\")&\" \" & 'Paramètres - Admin'!$B$6,IF(E8/24>=1,INT(E8/24)&\" \" &  'Paramètres - Admin'!$D$4 & \" \" & HOUR(E8/24-INT(E8/24))&\" \" &  'Paramètres - Admin'!$D$3 & \" \" & MINUTE(E8/24-INT(E8/24))&\" \" &  'Paramètres - Admin'!$D$2,HOUR(E8/24-INT(E8/24))&\" \" &  'Paramètres - Admin'!$D$3 & \" \" & MINUTE(E8/24-INT(E8/24))&\" \" &  'Paramètres - Admin'!$D$2))))))","v":"35 jours 0 hrs 0 mins"},"Caserne Noire",{"$f":"'À Faire - Détails'!J75","v":0},{"$f":"'À Faire - Détails'!K75","v":3},{"$f":"'À Faire - Détails'!J83","v":8500000},{"$f":"'À Faire - Détails'!K83","v":576},{"$f":"IF($B$2='Paramètres - Admin'!$B$2,TEXT(K8*60*60,\"# 0\")&\" \" & 'Paramètres - Admin'!$B$2,IF($B$2='Paramètres - Admin'!$B$3,TEXT(K8*60,\"# 0\")&\" \" & 'Paramètres - Admin'!$B$3,IF($B$2='Paramètres - Admin'!$B$4,TEXT(K8,\"# 0,00\")&\" \" & 'Paramètres - Admin'!$B$4,IF($B$2='Paramètres - Admin'!$B$5,TEXT(K8/24,\"# 0,00\")&\" \" & 'Paramètres - Admin'!$B$5,IF($B$2='Paramètres - Admin'!$B$6,TEXT((K8/24)/30,\"# 0,00\")&\" \" & 'Paramètres - Admin'!$B$6,IF(K8/24>=1,INT(K8/24)&\" \" &  'Paramètres - Admin'!$D$4 & \" \" & HOUR(K8/24-INT(K8/24))&\" \" &  'Paramètres - Admin'!$D$3 & \" \" & MINUTE(K8/24-INT(K8/24))&\" \" &  'Paramètres - Admin'!$D$2,HOUR(K8/24-INT(K8/24))&\" \" &  'Paramètres - Admin'!$D$3 & \" \" & MINUTE(K8/24-INT(K8/24))&\" \" &  'Paramètres - Admin'!$D$2))))))","v":"24 jours 0 hrs 0 mins"},"Canon",{"$f":"'À Faire - Détails'!J116","v":0},{"$f":"'À Faire - Détails'!K116","v":19},{"$f":"'À Faire - Détails'!J131","v":78400000},{"$f":"'À Faire - Détails'!K131","v":2400},{"$f":"IF($B$2='Paramètres - Admin'!$B$2,TEXT(Q8*60*60,\"# 0\")&\" \" & 'Paramètres - Admin'!$B$2,IF($B$2='Paramètres - Admin'!$B$3,TEXT(Q8*60,\"# 0\")&\" \" & 'Paramètres - Admin'!$B$3,IF($B$2='Paramètres - Admin'!$B$4,TEXT(Q8,\"# 0,00\")&\" \" & 'Paramètres - Admin'!$B$4,IF($B$2='Paramètres - Admin'!$B$5,TEXT(Q8/24,\"# 0,00\")&\" \" & 'Paramètres - Admin'!$B$5,IF($B$2='Paramètres - Admin'!$B$6,TEXT((Q8/24)/30,\"# 0,00\")&\" \" & 'Paramètres - Admin'!$B$6,IF(Q8/24>=1,INT(Q8/24)&\" \" &  'Paramètres - Admin'!$D$4 & \" \" & HOUR(Q8/24-INT(Q8/24))&\" \" &  'Paramètres - Admin'!$D$3 & \" \" & MINUTE(Q8/24-INT(Q8/24))&\" \" &  'Paramètres - Admin'!$D$2,HOUR(Q8/24-INT(Q8/24))&\" \" &  'Paramètres - Admin'!$D$3 & \" \" & MINUTE(Q8/24-INT(Q8/24))&\" \" &  'Paramètres - Admin'!$D$2))))))","v":"100 jours 0 hrs 0 mins"},"Hôtel de Ville",{"$f":"'À Faire - Détails'!U165","v":0},{"$f":"'À Faire - Détails'!V165","v":0},{"$f":"'À Faire - Détails'!U177","v":0},{"$f":"'À Faire - Détails'!V177","v":0},{"$f":"IF($B$2='Paramètres - Admin'!$B$2,TEXT(W8*60*60,\"# 0\")&\" \" & 'Paramètres - Admin'!$B$2,IF($B$2='Paramètres - Admin'!$B$3,TEXT(W8*60,\"# 0\")&\" \" & 'Paramètres - Admin'!$B$3,IF($B$2='Paramètres - Admin'!$B$4,TEXT(W8,\"# 0,00\")&\" \" & 'Paramètres - Admin'!$B$4,IF($B$2='Paramètres - Admin'!$B$5,TEXT(W8/24,\"# 0,00\")&\" \" & 'Paramètres - Admin'!$B$5,IF($B$2='Paramètres - Admin'!$B$6,TEXT((W8/24)/30,\"# 0,00\")&\" \" & 'Paramètres - Admin'!$B$6,IF(W8/24>=1,INT(W8/24)&\" \" &  'Paramètres - Admin'!$D$4 & \" \" & HOUR(W8/24-INT(W8/24))&\" \" &  'Paramètres - Admin'!$D$3 & \" \" & MINUTE(W8/24-INT(W8/24))&\" \" &  'Paramètres - Admin'!$D$2,HOUR(W8/24-INT(W8/24))&\" \" &  'Paramètres - Admin'!$D$3 & \" \" & MINUTE(W8/24-INT(W8/24))&\" \" &  'Paramètres - Admin'!$D$2))))))","v":"0 hrs 0 mins"},"Piège à ressort",{"$f":"'À Faire - Détails'!J193","v":0},{"$f":"'À Faire - Détails'!K193","v":0},{"$f":"'À Faire - Détails'!J196","v":0},{"$f":"'À Faire - Détails'!K196","v":0},{"$f":"IF($B$2='Paramètres - Admin'!$B$2,TEXT(AC8*60*60,\"# 0\")&\" \" & 'Paramètres - Admin'!$B$2,IF($B$2='Paramètres - Admin'!$B$3,TEXT(AC8*60,\"# 0\")&\" \" & 'Paramètres - Admin'!$B$3,IF($B$2='Paramètres - Admin'!$B$4,TEXT(AC8,\"# 0,00\")&\" \" & 'Paramètres - Admin'!$B$4,IF($B$2='Paramètres - Admin'!$B$5,TEXT(AC8/24,\"# 0,00\")&\" \" & 'Paramètres - Admin'!$B$5,IF($B$2='Paramètres - Admin'!$B$6,TEXT((AC8/24)/30,\"# 0,00\")&\" \" & 'Paramètres - Admin'!$B$6,IF(AC8/24>=1,INT(AC8/24)&\" \" &  'Paramètres - Admin'!$D$4 & \" \" & HOUR(AC8/24-INT(AC8/24))&\" \" &  'Paramètres - Admin'!$D$3 & \" \" & MINUTE(AC8/24-INT(AC8/24))&\" \" &  'Paramètres - Admin'!$D$2,HOUR(AC8/24-INT(AC8/24))&\" \" &  'Paramètres - Admin'!$D$3 & \" \" & MINUTE(AC8/24-INT(AC8/24))&\" \" &  'Paramètres - Admin'!$D$2))))))","v":"0 hrs 0 mins"}]
["Foreuse d'Élixir Noir",{"$f":"'À Faire - Détails'!J22","v":0},{"$f":"'À Faire - Détails'!K22","v":6},{"$f":"'À Faire - Détails'!J30","v":27000000},{"$f":"'À Faire - Détails'!K30","v":1008},{"$f":"IF($B$2='Paramètres - Admin'!$B$2,TEXT(E9*60*60,\"# 0\")&\" \" & 'Paramètres - Admin'!$B$2,IF($B$2='Paramètres - Admin'!$B$3,TEXT(E9*60,\"# 0\")&\" \" & 'Paramètres - Admin'!$B$3,IF($B$2='Paramètres - Admin'!$B$4,TEXT(E9,\"# 0,00\")&\" \" & 'Paramètres - Admin'!$B$4,IF($B$2='Paramètres - Admin'!$B$5,TEXT(E9/24,\"# 0,00\")&\" \" & 'Paramètres - Admin'!$B$5,IF($B$2='Paramètres - Admin'!$B$6,TEXT((E9/24)/30,\"# 0,00\")&\" \" & 'Paramètres - Admin'!$B$6,IF(E9/24>=1,INT(E9/24)&\" \" &  'Paramètres - Admin'!$D$4 & \" \" & HOUR(E9/24-INT(E9/24))&\" \" &  'Paramètres - Admin'!$D$3 & \" \" & MINUTE(E9/24-INT(E9/24))&\" \" &  'Paramètres - Admin'!$D$2,HOUR(E9/24-INT(E9/24))&\" \" &  'Paramètres - Admin'!$D$3 & \" \" & MINUTE(E9/24-INT(E9/24))&\" \" &  'Paramètres - Admin'!$D$2))))))","v":"42 jours 0 hrs 0 mins"},"Camp Militaire",{"$f":"'À Faire - Détails'!J85","v":0},{"$f":"'À Faire - Détails'!K85","v":0},{"$f":"'À Faire - Détails'!J95","v":0},{"$f":"'À Faire - Détails'!K95","v":0},{"$f":"IF($B$2='Paramètres - Admin'!$B$2,TEXT(K9*60*60,\"# 0\")&\" \" & 'Paramètres - Admin'!$B$2,IF($B$2='Paramètres - Admin'!$B$3,TEXT(K9*60,\"# 0\")&\" \" & 'Paramètres - Admin'!$B$3,IF($B$2='Paramètres - Admin'!$B$4,TEXT(K9,\"# 0,00\")&\" \" & 'Paramètres - Admin'!$B$4,IF($B$2='Paramètres - Admin'!$B$5,TEXT(K9/24,\"# 0,00\")&\" \" & 'Paramètres - Admin'!$B$5,IF($B$2='Paramètres - Admin'!$B$6,TEXT((K9/24)/30,\"# 0,00\")&\" \" & 'Paramètres - Admin'!$B$6,IF(K9/24>=1,INT(K9/24)&\" \" &  'Paramètres - Admin'!$D$4 & \" \" & HOUR(K9/24-INT(K9/24))&\" \" &  'Paramètres - Admin'!$D$3 & \" \" & MINUTE(K9/24-INT(K9/24))&\" \" &  'Paramètres - Admin'!$D$2,HOUR(K9/24-INT(K9/24))&\" \" &  'Paramètres - Admin'!$D$3 & \" \" & MINUTE(K9/24-INT(K9/24))&\" \" &  'Paramètres - Admin'!$D$2))))))","v":"0 hrs 0 mins"},"Tour d'Archers",{"$f":"'À Faire - Détails'!J133","v":0},{"$f":"'À Faire - Détails'!K133","v":24},{"$f":"'À Faire - Détails'!J148","v":136000000},{"$f":"'À Faire - Détails'!K148","v":3864},{"$f":"IF($B$2='Paramètres - Admin'!$B$2,TEXT(Q9*60*60,\"# 0\")&\" \" & 'Paramètres - Admin'!$B$2,IF($B$2='Paramètres - Admin'!$B$3,TEXT(Q9*60,\"# 0\")&\" \" & 'Paramètres - Admin'!$B$3,IF($B$2='Paramètres - Admin'!$B$4,TEXT(Q9,\"# 0,00\")&\" \" & 'Paramètres - Admin'!$B$4,IF($B$2='Paramètres - Admin'!$B$5,TEXT(Q9/24,\"# 0,00\")&\" \" & 'Paramètres - Admin'!$B$5,IF($B$2='Paramètres - Admin'!$B$6,TEXT((Q9/24)/30,\"# 0,00\")&\" \" & 'Paramètres - Admin'!$B$6,IF(Q9/24>=1,INT(Q9/24)&\" \" &  'Paramètres - Admin'!$D$4 & \" \" & HOUR(Q9/24-INT(Q9/24))&\" \" &  'Paramètres - Admin'!$D$3 & \" \" & MINUTE(Q9/24-INT(Q9/24))&\" \" &  'Paramètres - Admin'!$D$2,HOUR(Q9/24-INT(Q9/24))&\" \" &  'Paramètres - Admin'!$D$3 & \" \" & MINUTE(Q9/24-INT(Q9/24))&\" \" &  'Paramètres - Admin'!$D$2))))))","v":"161 jours 0 hrs 0 mins"},"Total",{"$f":"SUM(T7:T8)","v":0},{"$f":"SUM(U7:U8)","v":2},{"$f":"SUM(V7:V8)","v":12000000},{"$f":"SUM(W7:W8)","v":504},{"$f":"IF($B$2='Paramètres - Admin'!$B$2,TEXT(W9*60*60,\"# 0\")&\" \" & 'Paramètres - Admin'!$B$2,IF($B$2='Paramètres - Admin'!$B$3,TEXT(W9*60,\"# 0\")&\" \" & 'Paramètres - Admin'!$B$3,IF($B$2='Paramètres - Admin'!$B$4,TEXT(W9,\"# 0,00\")&\" \" & 'Paramètres - Admin'!$B$4,IF($B$2='Paramètres - Admin'!$B$5,TEXT(W9/24,\"# 0,00\")&\" \" & 'Paramètres - Admin'!$B$5,IF($B$2='Paramètres - Admin'!$B$6,TEXT((W9/24)/30,\"# 0,00\")&\" \" & 'Paramètres - Admin'!$B$6,IF(W9/24>=1,INT(W9/24)&\" \" &  'Paramètres - Admin'!$D$4 & \" \" & HOUR(W9/24-INT(W9/24))&\" \" &  'Paramètres - Admin'!$D$3 & \" \" & MINUTE(W9/24-INT(W9/24))&\" \" &  'Paramètres - Admin'!$D$2,HOUR(W9/24-INT(W9/24))&\" \" &  'Paramètres - Admin'!$D$3 & \" \" & MINUTE(W9/24-INT(W9/24))&\" \" &  'Paramètres - Admin'!$D$2))))))","v":"21 jours 0 hrs 0 mins"},"Bombe géante",{"$f":"'À Faire - Détails'!J198","v":0},{"$f":"'À Faire - Détails'!K198","v":10},{"$f":"'À Faire - Détails'!J204","v":16250000},{"$f":"'À Faire - Détails'!K204","v":480},{"$f":"IF($B$2='Paramètres - Admin'!$B$2,TEXT(AC9*60*60,\"# 0\")&\" \" & 'Paramètres - Admin'!$B$2,IF($B$2='Paramètres - Admin'!$B$3,TEXT(AC9*60,\"# 0\")&\" \" & 'Paramètres - Admin'!$B$3,IF($B$2='Paramètres - Admin'!$B$4,TEXT(AC9,\"# 0,00\")&\" \" & 'Paramètres - Admin'!$B$4,IF($B$2='Paramètres - Admin'!$B$5,TEXT(AC9/24,\"# 0,00\")&\" \" & 'Paramètres - Admin'!$B$5,IF($B$2='Paramètres - Admin'!$B$6,TEXT((AC9/24)/30,\"# 0,00\")&\" \" & 'Paramètres - Admin'!$B$6,IF(AC9/24>=1,INT(AC9/24)&\" \" &  'Paramètres - Admin'!$D$4 & \" \" & HOUR(AC9/24-INT(AC9/24))&\" \" &  'Paramètres - Admin'!$D$3 & \" \" & MINUTE(AC9/24-INT(AC9/24))&\" \" &  'Paramètres - Admin'!$D$2,HOUR(AC9/24-INT(AC9/24))&\" \" &  'Paramètres - Admin'!$D$3 & \" \" & MINUTE(AC9/24-INT(AC9/24))&\" \" &  'Paramètres - Admin'!$D$2))))))","v":"20 jours 0 hrs 0 mins"}]
["Réserve d'Or",{"$f":"'À Faire - Détails'!J32","v":0},{"$f":"'À Faire - Détails'!K32","v":0},{"$f":"'À Faire - Détails'!J45","v":0},{"$f":"'À Faire - Détails'!K45","v":0},{"$f":"IF($B$2='Paramètres - Admin'!$B$2,TEXT(E10*60*60,\"# 0\")&\" \" & 'Paramètres - Admin'!$B$2,IF($B$2='Paramètres - Admin'!$B$3,TEXT(E10*60,\"# 0\")&\" \" & 'Paramètres - Admin'!$B$3,IF($B$2='Paramètres - Admin'!$B$4,TEXT(E10,\"# 0,00\")&\" \" & 'Paramètres - Admin'!$B$4,IF($B$2='Paramètres - Admin'!$B$5,TEXT(E10/24,\"# 0,00\")&\" \" & 'Paramètres - Admin'!$B$5,IF($B$2='Paramètres - Admin'!$B$6,TEXT((E10/24)/30,\"# 0,00\")&\" \" & 'Paramètres - Admin'!$B$6,IF(E10/24>=1,INT(E10/24)&\" \" &  'Paramètres - Admin'!$D$4 & \" \" & HOUR(E10/24-INT(E10/24))&\" \" &  'Paramètres - Admin'!$D$3 & \" \" & MINUTE(E10/24-INT(E10/24))&\" \" &  'Paramètres - Admin'!$D$2,HOUR(E10/24-INT(E10/24))&\" \" &  'Paramètres - Admin'!$D$3 & \" \" & MINUTE(E10/24-INT(E10/24))&\" \" &  'Paramètres - Admin'!$D$2))))))","v":"0 hrs 0 mins"},"Laboratoire",{"$f":"'À Faire - Détails'!U61","v":0},{"$f":"'À Faire - Détails'!V61","v":0},{"$f":"'À Faire - Détails'!U71","v":0},{"$f":"'À Faire - Détails'!V71","v":0},{"$f":"IF($B$2='Paramètres - Admin'!$B$2,TEXT(K10*60*60,\"# 0\")&\" \" & 'Paramètres - Admin'!$B$2,IF($B$2='Paramètres - Admin'!$B$3,TEXT(K10*60,\"# 0\")&\" \" & 'Paramètres - Admin'!$B$3,IF($B$2='Paramètres - Admin'!$B$4,TEXT(K10,\"# 0,00\")&\" \" & 'Paramètres - Admin'!$B$4,IF($B$2='Paramètres - Admin'!$B$5,TEXT(K10/24,\"# 0,00\")&\" \" & 'Paramètres - Admin'!$B$5,IF($B$2='Paramètres - Admin'!$B$6,TEXT((K10/24)/30,\"# 0,00\")&\" \" & 'Paramètres - Admin'!$B$6,IF(K10/24>=1,INT(K10/24)&\" \" &  'Paramètres - Admin'!$D$4 & \" \" & HOUR(K10/24-INT(K10/24))&\" \" &  'Paramètres - Admin'!$D$3 & \" \" & MINUTE(K10/24-INT(K10/24))&\" \" &  'Paramètres - Admin'!$D$2,HOUR(K10/24-INT(K10/24))&\" \" &  'Paramètres - Admin'!$D$3 & \" \" & MINUTE(K10/24-INT(K10/24))&\" \" &  'Paramètres - Admin'!$D$2))))))","v":"0 hrs 0 mins"},"Mortier",{"$f":"'À Faire - Détails'!J150","v":0},{"$f":"'À Faire - Détails'!K150","v":8},{"$f":"'À Faire - Détails'!J160","v":38400000},{"$f":"'À Faire - Détails'!K160","v":1632},{"$f":"IF($B$2='Paramètres - Admin'!$B$2,TEXT(Q10*60*60,\"# 0\")&\" \" & 'Paramètres - Admin'!$B$2,IF($B$2='Paramètres - Admin'!$B$3,TEXT(Q10*60,\"# 0\")&\" \" & 'Paramètres - Admin'!$B$3,IF($B$2='Paramètres - Admin'!$B$4,TEXT(Q10,\"# 0,00\")&\" \" & 'Paramètres - Admin'!$B$4,IF($B$2='Paramètres - Admin'!$B$5,TEXT(Q10/24,\"# 0,00\")&\" \" & 'Paramètres - Admin'!$B$5,IF($B$2='Paramètres - Admin'!$B$6,TEXT((Q10/24)/30,\"# 0,00\")&\" \" & 'Paramètres - Admin'!$B$6,IF(Q10/24>=1,INT(Q10/24)&\" \" &  'Paramètres - Admin'!$D$4 & \" \" & HOUR(Q10/24-INT(Q10/24))&\" \" &  'Paramètres - Admin'!$D$3 & \" \" & MINUTE(Q10/24-INT(Q10/24))&\" \" &  'Paramètres - Admin'!$D$2,HOUR(Q10/24-INT(Q10/24))&\" \" &  'Paramètres - Admin'!$D$3 & \" \" & MINUTE(Q10/24-INT(Q10/24))&\" \" &  'Paramètres - Admin'!$D$2))))))","v":"68 jours 0 hrs 0 mins"},null,null,null,null,null,null,"Bombe aérienne",{"$f":"'À Faire - Détails'!U183","v":0},{"$f":"'À Faire - Détails'!V183","v":6},{"$f":"'À Faire - Détails'!U189","v":7700000},{"$f":"'À Faire - Détails'!V189","v":132},{"$f":"IF($B$2='Paramètres - Admin'!$B$2,TEXT(AC10*60*60,\"# 0\")&\" \" & 'Paramètres - Admin'!$B$2,IF($B$2='Paramètres - Admin'!$B$3,TEXT(AC10*60,\"# 0\")&\" \" & 'Paramètres - Admin'!$B$3,IF($B$2='Paramètres - Admin'!$B$4,TEXT(AC10,\"# 0,00\")&\" \" & 'Paramètres - Admin'!$B$4,IF($B$2='Paramètres - Admin'!$B$5,TEXT(AC10/24,\"# 0,00\")&\" \" & 'Paramètres - Admin'!$B$5,IF($B$2='Paramètres - Admin'!$B$6,TEXT((AC10/24)/30,\"# 0,00\")&\" \" & 'Paramètres - Admin'!$B$6,IF(AC10/24>=1,INT(AC10/24)&\" \" &  'Paramètres - Admin'!$D$4 & \" \" & HOUR(AC10/24-INT(AC10/24))&\" \" &  'Paramètres - Admin'!$D$3 & \" \" & MINUTE(AC10/24-INT(AC10/24))&\" \" &  'Paramètres - Admin'!$D$2,HOUR(AC10/24-INT(AC10/24))&\" \" &  'Paramètres - Admin'!$D$3 & \" \" & MINUTE(AC10/24-INT(AC10/24))&\" \" &  'Paramètres - Admin'!$D$2))))))","v":"5 jours 12 hrs 0 mins"}]
["Réservoir d'Élixir",{"$f":"'À Faire - Détails'!U22","v":0},{"$f":"'À Faire - Détails'!V22","v":0},{"$f":"'À Faire - Détails'!U35","v":0},{"$f":"'À Faire - Détails'!V35","v":0},{"$f":"IF($B$2='Paramètres - Admin'!$B$2,TEXT(E11*60*60,\"# 0\")&\" \" & 'Paramètres - Admin'!$B$2,IF($B$2='Paramètres - Admin'!$B$3,TEXT(E11*60,\"# 0\")&\" \" & 'Paramètres - Admin'!$B$3,IF($B$2='Paramètres - Admin'!$B$4,TEXT(E11,\"# 0,00\")&\" \" & 'Paramètres - Admin'!$B$4,IF($B$2='Paramètres - Admin'!$B$5,TEXT(E11/24,\"# 0,00\")&\" \" & 'Paramètres - Admin'!$B$5,IF($B$2='Paramètres - Admin'!$B$6,TEXT((E11/24)/30,\"# 0,00\")&\" \" & 'Paramètres - Admin'!$B$6,IF(E11/24>=1,INT(E11/24)&\" \" &  'Paramètres - Admin'!$D$4 & \" \" & HOUR(E11/24-INT(E11/24))&\" \" &  'Paramètres - Admin'!$D$3 & \" \" & MINUTE(E11/24-INT(E11/24))&\" \" &  'Paramètres - Admin'!$D$2,HOUR(E11/24-INT(E11/24))&\" \" &  'Paramètres - Admin'!$D$3 & \" \" & MINUTE(E11/24-INT(E11/24))&\" \" &  'Paramètres - Admin'!$D$2))))))","v":"0 hrs 0 mins"},"Usine de Sorts",{"$f":"'À Faire - Détails'!U73","v":0},{"$f":"'À Faire - Détails'!V73","v":0},{"$f":"'À Faire - Détails'!U80","v":0},{"$f":"'À Faire - Détails'!V80","v":0},{"$f":"IF($B$2='Paramètres - Admin'!$B$2,TEXT(K11*60*60,\"# 0\")&\" \" & 'Paramètres - Admin'!$B$2,IF($B$2='Paramètres - Admin'!$B$3,TEXT(K11*60,\"# 0\")&\" \" & 'Paramètres - Admin'!$B$3,IF($B$2='Paramètres - Admin'!$B$4,TEXT(K11,\"# 0,00\")&\" \" & 'Paramètres - Admin'!$B$4,IF($B$2='Paramètres - Admin'!$B$5,TEXT(K11/24,\"# 0,00\")&\" \" & 'Paramètres - Admin'!$B$5,IF($B$2='Paramètres - Admin'!$B$6,TEXT((K11/24)/30,\"# 0,00\")&\" \" & 'Paramètres - Admin'!$B$6,IF(K11/24>=1,INT(K11/24)&\" \" &  'Paramètres - Admin'!$D$4 & \" \" & HOUR(K11/24-INT(K11/24))&\" \" &  'Paramètres - Admin'!$D$3 & \" \" & MINUTE(K11/24-INT(K11/24))&\" \" &  'Paramètres - Admin'!$D$2,HOUR(K11/24-INT(K11/24))&\" \" &  'Paramètres - Admin'!$D$3 & \" \" & MINUTE(K11/24-INT(K11/24))&\" \" &  'Paramètres - Admin'!$D$2))))))","v":"0 hrs 0 mins"},"Défense Antiaérienne",{"$f":"'À Faire - Détails'!U101","v":0},{"$f":"'À Faire - Détails'!V101","v":10},{"$f":"'À Faire - Détails'!U111","v":50760000},{"$f":"'À Faire - Détails'!V111","v":2448},{"$f":"IF($B$2='Paramètres - Admin'!$B$2,TEXT(Q11*60*60,\"# 0\")&\" \" & 'Paramètres - Admin'!$B$2,IF($B$2='Paramètres - Admin'!$B$3,TEXT(Q11*60,\"# 0\")&\" \" & 'Paramètres - Admin'!$B$3,IF($B$2='Paramètres - Admin'!$B$4,TEXT(Q11,\"# 0,00\")&\" \" & 'Paramètres - Admin'!$B$4,IF($B$2='Paramètres - Admin'!$B$5,TEXT(Q11/24,\"# 0,00\")&\" \" & 'Paramètres - Admin'!$B$5,IF($B$2='Paramètres - Admin'!$B$6,TEXT((Q11/24)/30,\"# 0,00\")&\" \" & 'Paramètres - Admin'!$B$6,IF(Q11/24>=1,INT(Q11/24)&\" \" &  'Paramètres - Admin'!$D$4 & \" \" & HOUR(Q11/24-INT(Q11/24))&\" \" &  'Paramètres - Admin'!$D$3 & \" \" & MINUTE(Q11/24-INT(Q11/24))&\" \" &  'Paramètres - Admin'!$D$2,HOUR(Q11/24-INT(Q11/24))&\" \" &  'Paramètres - Admin'!$D$3 & \" \" & MINUTE(Q11/24-INT(Q11/24))&\" \" &  'Paramètres - Admin'!$D$2))))))","v":"102 jours 0 hrs 0 mins"},null,null,null,null,null,null,"Tête chercheuse",{"$f":"'À Faire - Détails'!U191","v":0},{"$f":"'À Faire - Détails'!V191","v":10},{"$f":"'À Faire - Détails'!U196","v":30000000},{"$f":"'À Faire - Détails'!V196","v":480},{"$f":"IF($B$2='Paramètres - Admin'!$B$2,TEXT(AC11*60*60,\"# 0\")&\" \" & 'Paramètres - Admin'!$B$2,IF($B$2='Paramètres - Admin'!$B$3,TEXT(AC11*60,\"# 0\")&\" \" & 'Paramètres - Admin'!$B$3,IF($B$2='Paramètres - Admin'!$B$4,TEXT(AC11,\"# 0,00\")&\" \" & 'Paramètres - Admin'!$B$4,IF($B$2='Paramètres - Admin'!$B$5,TEXT(AC11/24,\"# 0,00\")&\" \" & 'Paramètres - Admin'!$B$5,IF($B$2='Paramètres - Admin'!$B$6,TEXT((AC11/24)/30,\"# 0,00\")&\" \" & 'Paramètres - Admin'!$B$6,IF(AC11/24>=1,INT(AC11/24)&\" \" &  'Paramètres - Admin'!$D$4 & \" \" & HOUR(AC11/24-INT(AC11/24))&\" \" &  'Paramètres - Admin'!$D$3 & \" \" & MINUTE(AC11/24-INT(AC11/24))&\" \" &  'Paramètres - Admin'!$D$2,HOUR(AC11/24-INT(AC11/24))&\" \" &  'Paramètres - Admin'!$D$3 & \" \" & MINUTE(AC11/24-INT(AC11/24))&\" \" &  'Paramètres - Admin'!$D$2))))))","v":"20 jours 0 hrs 0 mins"}]
["Réservoir d'Élixir Noir",{"$f":"'À Faire - Détails'!J47","v":0},{"$f":"'À Faire - Détails'!K47","v":1},{"$f":"'À Faire - Détails'!J55","v":3600000},{"$f":"'À Faire - Détails'!K55","v":144},{"$f":"IF($B$2='Paramètres - Admin'!$B$2,TEXT(E12*60*60,\"# 0\")&\" \" & 'Paramètres - Admin'!$B$2,IF($B$2='Paramètres - Admin'!$B$3,TEXT(E12*60,\"# 0\")&\" \" & 'Paramètres - Admin'!$B$3,IF($B$2='Paramètres - Admin'!$B$4,TEXT(E12,\"# 0,00\")&\" \" & 'Paramètres - Admin'!$B$4,IF($B$2='Paramètres - Admin'!$B$5,TEXT(E12/24,\"# 0,00\")&\" \" & 'Paramètres - Admin'!$B$5,IF($B$2='Paramètres - Admin'!$B$6,TEXT((E12/24)/30,\"# 0,00\")&\" \" & 'Paramètres - Admin'!$B$6,IF(E12/24>=1,INT(E12/24)&\" \" &  'Paramètres - Admin'!$D$4 & \" \" & HOUR(E12/24-INT(E12/24))&\" \" &  'Paramètres - Admin'!$D$3 & \" \" & MINUTE(E12/24-INT(E12/24))&\" \" &  'Paramètres - Admin'!$D$2,HOUR(E12/24-INT(E12/24))&\" \" &  'Paramètres - Admin'!$D$3 & \" \" & MINUTE(E12/24-INT(E12/24))&\" \" &  'Paramètres - Admin'!$D$2))))))","v":"6 jours 0 hrs 0 mins"},"Total",{"$f":"SUM(H8:H11)","v":0},{"$f":"SUM(I7:I11)","v":4},{"$f":"SUM(J7:J11)","v":10500000},{"$f":"SUM(K7:K11)","v":720},{"$f":"IF($B$2='Paramètres - Admin'!$B$2,TEXT(K12*60*60,\"# 0\")&\" \" & 'Paramètres - Admin'!$B$2,IF($B$2='Paramètres - Admin'!$B$3,TEXT(K12*60,\"# 0\")&\" \" & 'Paramètres - Admin'!$B$3,IF($B$2='Paramètres - Admin'!$B$4,TEXT(K12,\"# 0,00\")&\" \" & 'Paramètres - Admin'!$B$4,IF($B$2='Paramètres - Admin'!$B$5,TEXT(K12/24,\"# 0,00\")&\" \" & 'Paramètres - Admin'!$B$5,IF($B$2='Paramètres - Admin'!$B$6,TEXT((K12/24)/30,\"# 0,00\")&\" \" & 'Paramètres - Admin'!$B$6,IF(K12/24>=1,INT(K12/24)&\" \" &  'Paramètres - Admin'!$D$4 & \" \" & HOUR(K12/24-INT(K12/24))&\" \" &  'Paramètres - Admin'!$D$3 & \" \" & MINUTE(K12/24-INT(K12/24))&\" \" &  'Paramètres - Admin'!$D$2,HOUR(K12/24-INT(K12/24))&\" \" &  'Paramètres - Admin'!$D$3 & \" \" & MINUTE(K12/24-INT(K12/24))&\" \" &  'Paramètres - Admin'!$D$2))))))","v":"30 jours 0 hrs 0 mins"},"Tour de Sorciers",{"$f":"'À Faire - Détails'!U113","v":0},{"$f":"'À Faire - Détails'!V113","v":10},{"$f":"'À Faire - Détails'!U123","v":51680000},{"$f":"'À Faire - Détails'!V123","v":1848},{"$f":"IF($B$2='Paramètres - Admin'!$B$2,TEXT(Q12*60*60,\"# 0\")&\" \" & 'Paramètres - Admin'!$B$2,IF($B$2='Paramètres - Admin'!$B$3,TEXT(Q12*60,\"# 0\")&\" \" & 'Paramètres - Admin'!$B$3,IF($B$2='Paramètres - Admin'!$B$4,TEXT(Q12,\"# 0,00\")&\" \" & 'Paramètres - Admin'!$B$4,IF($B$2='Paramètres - Admin'!$B$5,TEXT(Q12/24,\"# 0,00\")&\" \" & 'Paramètres - Admin'!$B$5,IF($B$2='Paramètres - Admin'!$B$6,TEXT((Q12/24)/30,\"# 0,00\")&\" \" & 'Paramètres - Admin'!$B$6,IF(Q12/24>=1,INT(Q12/24)&\" \" &  'Paramètres - Admin'!$D$4 & \" \" & HOUR(Q12/24-INT(Q12/24))&\" \" &  'Paramètres - Admin'!$D$3 & \" \" & MINUTE(Q12/24-INT(Q12/24))&\" \" &  'Paramètres - Admin'!$D$2,HOUR(Q12/24-INT(Q12/24))&\" \" &  'Paramètres - Admin'!$D$3 & \" \" & MINUTE(Q12/24-INT(Q12/24))&\" \" &  'Paramètres - Admin'!$D$2))))))","v":"77 jours 0 hrs 0 mins"},null,null,null,null,null,null,"Piège squelettique",{"$f":"'À Faire - Détails'!U198","v":0},{"$f":"'À Faire - Détails'!V198","v":6},{"$f":"'À Faire - Détails'!U203","v":5700000},{"$f":"'À Faire - Détails'!V203","v":90},{"$f":"IF($B$2='Paramètres - Admin'!$B$2,TEXT(AC12*60*60,\"# 0\")&\" \" & 'Paramètres - Admin'!$B$2,IF($B$2='Paramètres - Admin'!$B$3,TEXT(AC12*60,\"# 0\")&\" \" & 'Paramètres - Admin'!$B$3,IF($B$2='Paramètres - Admin'!$B$4,TEXT(AC12,\"# 0,00\")&\" \" & 'Paramètres - Admin'!$B$4,IF($B$2='Paramètres - Admin'!$B$5,TEXT(AC12/24,\"# 0,00\")&\" \" & 'Paramètres - Admin'!$B$5,IF($B$2='Paramètres - Admin'!$B$6,TEXT((AC12/24)/30,\"# 0,00\")&\" \" & 'Paramètres - Admin'!$B$6,IF(AC12/24>=1,INT(AC12/24)&\" \" &  'Paramètres - Admin'!$D$4 & \" \" & HOUR(AC12/24-INT(AC12/24))&\" \" &  'Paramètres - Admin'!$D$3 & \" \" & MINUTE(AC12/24-INT(AC12/24))&\" \" &  'Paramètres - Admin'!$D$2,HOUR(AC12/24-INT(AC12/24))&\" \" &  'Paramètres - Admin'!$D$3 & \" \" & MINUTE(AC12/24-INT(AC12/24))&\" \" &  'Paramètres - Admin'!$D$2))))))","v":"3 jours 18 hrs 0 mins"}]
["Total",{"$f":"SUM(B7:B12)","v":0},{"$f":"SUM(C7:C12)","v":15},{"$f":"SUM(D7:D12)","v":33288000},{"$f":"SUM(E7:E12)","v":2112},{"$f":"IF($B$2='Paramètres - Admin'!$B$2,TEXT(E13*60*60,\"# 0\")&\" \" & 'Paramètres - Admin'!$B$2,IF($B$2='Paramètres - Admin'!$B$3,TEXT(E13*60,\"# 0\")&\" \" & 'Paramètres - Admin'!$B$3,IF($B$2='Paramètres - Admin'!$B$4,TEXT(E13,\"# 0,00\")&\" \" & 'Paramètres - Admin'!$B$4,IF($B$2='Paramètres - Admin'!$B$5,TEXT(E13/24,\"# 0,00\")&\" \" & 'Paramètres - Admin'!$B$5,IF($B$2='Paramètres - Admin'!$B$6,TEXT((E13/24)/30,\"# 0,00\")&\" \" & 'Paramètres - Admin'!$B$6,IF(E13/24>=1,INT(E13/24)&\" \" &  'Paramètres - Admin'!$D$4 & \" \" & HOUR(E13/24-INT(E13/24))&\" \" &  'Paramètres - Admin'!$D$3 & \" \" & MINUTE(E13/24-INT(E13/24))&\" \" &  'Paramètres - Admin'!$D$2,HOUR(E13/24-INT(E13/24))&\" \" &  'Paramètres - Admin'!$D$3 & \" \" & MINUTE(E13/24-INT(E13/24))&\" \" &  'Paramètres - Admin'!$D$2))))))","v":"88 jours 0 hrs 0 mins"},null,null,null,null,null,null,"Tesla Camouflée",{"$f":"'À Faire - Détails'!U125","v":0},{"$f":"'À Faire - Détails'!V125","v":13},{"$f":"'À Faire - Détails'!U135","v":44250000},{"$f":"'À Faire - Détails'!V135","v":3264},{"$f":"IF($B$2='Paramètres - Admin'!$B$2,TEXT(Q13*60*60,\"# 0\")&\" \" & 'Paramètres - Admin'!$B$2,IF($B$2='Paramètres - Admin'!$B$3,TEXT(Q13*60,\"# 0\")&\" \" & 'Paramètres - Admin'!$B$3,IF($B$2='Paramètres - Admin'!$B$4,TEXT(Q13,\"# 0,00\")&\" \" & 'Paramètres - Admin'!$B$4,IF($B$2='Paramètres - Admin'!$B$5,TEXT(Q13/24,\"# 0,00\")&\" \" & 'Paramètres - Admin'!$B$5,IF($B$2='Paramètres - Admin'!$B$6,TEXT((Q13/24)/30,\"# 0,00\")&\" \" & 'Paramètres - Admin'!$B$6,IF(Q13/24>=1,INT(Q13/24)&\" \" &  'Paramètres - Admin'!$D$4 & \" \" & HOUR(Q13/24-INT(Q13/24))&\" \" &  'Paramètres - Admin'!$D$3 & \" \" & MINUTE(Q13/24-INT(Q13/24))&\" \" &  'Paramètres - Admin'!$D$2,HOUR(Q13/24-INT(Q13/24))&\" \" &  'Paramètres - Admin'!$D$3 & \" \" & MINUTE(Q13/24-INT(Q13/24))&\" \" &  'Paramètres - Admin'!$D$2))))))","v":"136 jours 0 hrs 0 mins"},null,null,null,null,null,null,"Total",{"$f":"SUM(Z7:Z12)","v":0},{"$f":"SUM(AA7:AA12)","v":44},{"$f":"SUM(AB7:AB12)","v":74650000},{"$f":"SUM(AC7:AC12)","v":1614},{"$f":"IF($B$2='Paramètres - Admin'!$B$2,TEXT(AC13*60*60,\"# 0\")&\" \" & 'Paramètres - Admin'!$B$2,IF($B$2='Paramètres - Admin'!$B$3,TEXT(AC13*60,\"# 0\")&\" \" & 'Paramètres - Admin'!$B$3,IF($B$2='Paramètres - Admin'!$B$4,TEXT(AC13,\"# 0,00\")&\" \" & 'Paramètres - Admin'!$B$4,IF($B$2='Paramètres - Admin'!$B$5,TEXT(AC13/24,\"# 0,00\")&\" \" & 'Paramètres - Admin'!$B$5,IF($B$2='Paramètres - Admin'!$B$6,TEXT((AC13/24)/30,\"# 0,00\")&\" \" & 'Paramètres - Admin'!$B$6,IF(AC13/24>=1,INT(AC13/24)&\" \" &  'Paramètres - Admin'!$D$4 & \" \" & HOUR(AC13/24-INT(AC13/24))&\" \" &  'Paramètres - Admin'!$D$3 & \" \" & MINUTE(AC13/24-INT(AC13/24))&\" \" &  'Paramètres - Admin'!$D$2,HOUR(AC13/24-INT(AC13/24))&\" \" &  'Paramètres - Admin'!$D$3 & \" \" & MINUTE(AC13/24-INT(AC13/24))&\" \" &  'Paramètres - Admin'!$D$2))))))","v":"67 jours 6 hrs 0 mins"}]
[null,null,null,null,null,null,null,null,null,null,null,null,"Arc-X",{"$f":"'À Faire - Détails'!U137","v":0},{"$f":"'À Faire - Détails'!V137","v":9},{"$f":"'À Faire - Détails'!U143","v":60000000},{"$f":"'À Faire - Détails'!V143","v":2736},{"$f":"IF($B$2='Paramètres - Admin'!$B$2,TEXT(Q14*60*60,\"# 0\")&\" \" & 'Paramètres - Admin'!$B$2,IF($B$2='Paramètres - Admin'!$B$3,TEXT(Q14*60,\"# 0\")&\" \" & 'Paramètres - Admin'!$B$3,IF($B$2='Paramètres - Admin'!$B$4,TEXT(Q14,\"# 0,00\")&\" \" & 'Paramètres - Admin'!$B$4,IF($B$2='Paramètres - Admin'!$B$5,TEXT(Q14/24,\"# 0,00\")&\" \" & 'Paramètres - Admin'!$B$5,IF($B$2='Paramètres - Admin'!$B$6,TEXT((Q14/24)/30,\"# 0,00\")&\" \" & 'Paramètres - Admin'!$B$6,IF(Q14/24>=1,INT(Q14/24)&\" \" &  'Paramètres - Admin'!$D$4 & \" \" & HOUR(Q14/24-INT(Q14/24))&\" \" &  'Paramètres - Admin'!$D$3 & \" \" & MINUTE(Q14/24-INT(Q14/24))&\" \" &  'Paramètres - Admin'!$D$2,HOUR(Q14/24-INT(Q14/24))&\" \" &  'Paramètres - Admin'!$D$3 & \" \" & MINUTE(Q14/24-INT(Q14/24))&\" \" &  'Paramètres - Admin'!$D$2))))))","v":"114 jours 0 hrs 0 mins"}]
[null,null,null,null,null,null,null,null,null,null,null,null,"Inferno Tower\t",{"$f":"'À Faire - Détails'!U145","v":0},{"$f":"'À Faire - Détails'!V145","v":2},{"$f":"'À Faire - Détails'!U150","v":16000000},{"$f":"'À Faire - Détails'!V150","v":672},{"$f":"IF($B$2='Paramètres - Admin'!$B$2,TEXT(Q15*60*60,\"# 0\")&\" \" & 'Paramètres - Admin'!$B$2,IF($B$2='Paramètres - Admin'!$B$3,TEXT(Q15*60,\"# 0\")&\" \" & 'Paramètres - Admin'!$B$3,IF($B$2='Paramètres - Admin'!$B$4,TEXT(Q15,\"# 0,00\")&\" \" & 'Paramètres - Admin'!$B$4,IF($B$2='Paramètres - Admin'!$B$5,TEXT(Q15/24,\"# 0,00\")&\" \" & 'Paramètres - Admin'!$B$5,IF($B$2='Paramètres - Admin'!$B$6,TEXT((Q15/24)/30,\"# 0,00\")&\" \" & 'Paramètres - Admin'!$B$6,IF(Q15/24>=1,INT(Q15/24)&\" \" &  'Paramètres - Admin'!$D$4 & \" \" & HOUR(Q15/24-INT(Q15/24))&\" \" &  'Paramètres - Admin'!$D$3 & \" \" & MINUTE(Q15/24-INT(Q15/24))&\" \" &  'Paramètres - Admin'!$D$2,HOUR(Q15/24-INT(Q15/24))&\" \" &  'Paramètres - Admin'!$D$3 & \" \" & MINUTE(Q15/24-INT(Q15/24))&\" \" &  'Paramètres - Admin'!$D$2))))))","v":"28 jours 0 hrs 0 mins"}]
[null,null,null,null,null,null,null,null,null,null,null,null,"Total",{"$f":"SUM(N7:N15)","v":0},{"$f":"SUM(O7:O15)","v":843},{"$f":"SUM(P7:P15)","v":2473490000},{"$f":"SUM(Q7:Q15)","v":18864},{"$f":"IF($B$2='Paramètres - Admin'!$B$2,TEXT(Q16*60*60,\"# 0\")&\" \" & 'Paramètres - Admin'!$B$2,IF($B$2='Paramètres - Admin'!$B$3,TEXT(Q16*60,\"# 0\")&\" \" & 'Paramètres - Admin'!$B$3,IF($B$2='Paramètres - Admin'!$B$4,TEXT(Q16,\"# 0,00\")&\" \" & 'Paramètres - Admin'!$B$4,IF($B$2='Paramètres - Admin'!$B$5,TEXT(Q16/24,\"# 0,00\")&\" \" & 'Paramètres - Admin'!$B$5,IF($B$2='Paramètres - Admin'!$B$6,TEXT((Q16/24)/30,\"# 0,00\")&\" \" & 'Paramètres - Admin'!$B$6,IF(Q16/24>=1,INT(Q16/24)&\" \" &  'Paramètres - Admin'!$D$4 & \" \" & HOUR(Q16/24-INT(Q16/24))&\" \" &  'Paramètres - Admin'!$D$3 & \" \" & MINUTE(Q16/24-INT(Q16/24))&\" \" &  'Paramètres - Admin'!$D$2,HOUR(Q16/24-INT(Q16/24))&\" \" &  'Paramètres - Admin'!$D$3 & \" \" & MINUTE(Q16/24-INT(Q16/24))&\" \" &  'Paramètres - Admin'!$D$2))))))","v":"786 jours 0 hrs 0 mins"}]
[]
[]
["Améliorations de Sorts",null,null,null,null,null,"Améliorations de Troupes",null,null,null,null,null,"Améliorations de Troupes Noires",null,null,null,null,null,"Héros"]
["Sort","À Faire","Up.","Coût Total","Temps Total","Temps Total","Troupe Normale","À Faire","Up.","Coût Total","Temps Total","Temps Total","Troupe Noire","À Faire","Up.","Coût Total","Temps Total","Temps Total","Héros","À Faire","Up.","Coût Total","Temps Total","Temps Total"]
["Sort de Foudre",{"$f":"'À Faire - Détails'!J210","v":0},{"$f":"'À Faire - Détails'!K210","v":1},{"$f":"'À Faire - Détails'!J218","v":8000000},{"$f":"'À Faire - Détails'!K218","v":336},{"$f":"IF($B$2='Paramètres - Admin'!$B$2,TEXT(E21*60*60,\"# 0\")&\" \" & 'Paramètres - Admin'!$B$2,IF($B$2='Paramètres - Admin'!$B$3,TEXT(E21*60,\"# 0\")&\" \" & 'Paramètres - Admin'!$B$3,IF($B$2='Paramètres - Admin'!$B$4,TEXT(E21,\"# 0,00\")&\" \" & 'Paramètres - Admin'!$B$4,IF($B$2='Paramètres - Admin'!$B$5,TEXT(E21/24,\"# 0,00\")&\" \" & 'Paramètres - Admin'!$B$5,IF($B$2='Paramètres - Admin'!$B$6,TEXT((E21/24)/30,\"# 0,00\")&\" \" & 'Paramètres - Admin'!$B$6,IF(E21/24>=1,INT(E21/24)&\" \" &  'Paramètres - Admin'!$D$4 & \" \" & HOUR(E21/24-INT(E21/24))&\" \" &  'Paramètres - Admin'!$D$3 & \" \" & MINUTE(E21/24-INT(E21/24))&\" \" &  'Paramètres - Admin'!$D$2,HOUR(E21/24-INT(E21/24))&\" \" &  'Paramètres - Admin'!$D$3 & \" \" & MINUTE(E21/24-INT(E21/24))&\" \" &  'Paramètres - Admin'!$D$2))))))","v":"14 jours 0 hrs 0 mins"},"Barbare",{"$f":"'À Faire - Détails'!J243","v":0},{"$f":"'À Faire - Détails'!K243","v":2},{"$f":"'À Faire - Détails'!J252","v":10500000},{"$f":"'À Faire - Détails'!K252","v":576},{"$f":"IF($B$2='Paramètres - Admin'!$B$2,TEXT(K21*60*60,\"# 0\")&\" \" & 'Paramètres - Admin'!$B$2,IF($B$2='Paramètres - Admin'!$B$3,TEXT(K21*60,\"# 0\")&\" \" & 'Paramètres - Admin'!$B$3,IF($B$2='Paramètres - Admin'!$B$4,TEXT(K21,\"# 0,00\")&\" \" & 'Paramètres - Admin'!$B$4,IF($B$2='Paramètres - Admin'!$B$5,TEXT(K21/24,\"# 0,00\")&\" \" & 'Paramètres - Admin'!$B$5,IF($B$2='Paramètres - Admin'!$B$6,TEXT((K21/24)/30,\"# 0,00\")&\" \" & 'Paramètres - Admin'!$B$6,IF(K21/24>=1,INT(K21/24)&\" \" &  'Paramètres - Admin'!$D$4 & \" \" & HOUR(K21/24-INT(K21/24))&\" \" &  'Paramètres - Admin'!$D$3 & \" \" & MINUTE(K21/24-INT(K21/24))&\" \" &  'Paramètres - Admin'!$D$2,HOUR(K21/24-INT(K21/24))&\" \" &  'Paramètres - Admin'!$D$3 & \" \" & MINUTE(K21/24-INT(K21/24))&\" \" &  'Paramètres - Admin'!$D$2))))))","v":"24 jours 0 hrs 0 mins"},"Serviteur",{"$f":"'À Faire - Détails'!J300","v":0},{"$f":"'À Faire - Détails'!K300","v":1},{"$f":"'À Faire - Détails'!J308","v":100000},{"$f":"'À Faire - Détails'!K308","v":0},{"$f":"IF($B$2='Paramètres - Admin'!$B$2,TEXT(Q21*60*60,\"# 0\")&\" \" & 'Paramètres - Admin'!$B$2,IF($B$2='Paramètres - Admin'!$B$3,TEXT(Q21*60,\"# 0\")&\" \" & 'Paramètres - Admin'!$B$3,IF($B$2='Paramètres - Admin'!$B$4,TEXT(Q21,\"# 0,00\")&\" \" & 'Paramètres - Admin'!$B$4,IF($B$2='Paramètres - Admin'!$B$5,TEXT(Q21/24,\"# 0,00\")&\" \" & 'Paramètres - Admin'!$B$5,IF($B$2='Paramètres - Admin'!$B$6,TEXT((Q21/24)/30,\"# 0,00\")&\" \" & 'Paramètres - Admin'!$B$6,IF(Q21/24>=1,INT(Q21/24)&\" \" &  'Paramètres - Admin'!$D$4 & \" \" & HOUR(Q21/24-INT(Q21/24))&\" \" &  'Paramètres - Admin'!$D$3 & \" \" & MINUTE(Q21/24-INT(Q21/24))&\" \" &  'Paramètres - Admin'!$D$2,HOUR(Q21/24-INT(Q21/24))&\" \" &  'Paramètres - Admin'!$D$3 & \" \" & MINUTE(Q21/24-INT(Q21/24))&\" \" &  'Paramètres - Admin'!$D$2))))))","v":"0 hrs 0 mins"},"Roi des Barbares",{"$f":"'À Faire - Détails'!J331","v":0},{"$f":"'À Faire - Détails'!K331","v":34},{"$f":"'À Faire - Détails'!J373","v":3655000},{"$f":"'À Faire - Détails'!K373","v":5280},{"$f":"IF($B$2='Paramètres - Admin'!$B$2,TEXT(W21*60*60,\"# 0\")&\" \" & 'Paramètres - Admin'!$B$2,IF($B$2='Paramètres - Admin'!$B$3,TEXT(W21*60,\"# 0\")&\" \" & 'Paramètres - Admin'!$B$3,IF($B$2='Paramètres - Admin'!$B$4,TEXT(W21,\"# 0,00\")&\" \" & 'Paramètres - Admin'!$B$4,IF($B$2='Paramètres - Admin'!$B$5,TEXT(W21/24,\"# 0,00\")&\" \" & 'Paramètres - Admin'!$B$5,IF($B$2='Paramètres - Admin'!$B$6,TEXT((W21/24)/30,\"# 0,00\")&\" \" & 'Paramètres - Admin'!$B$6,IF(W21/24>=1,INT(W21/24)&\" \" &  'Paramètres - Admin'!$D$4 & \" \" & HOUR(W21/24-INT(W21/24))&\" \" &  'Paramètres - Admin'!$D$3 & \" \" & MINUTE(W21/24-INT(W21/24))&\" \" &  'Paramètres - Admin'!$D$2,HOUR(W21/24-INT(W21/24))&\" \" &  'Paramètres - Admin'!$D$3 & \" \" & MINUTE(W21/24-INT(W21/24))&\" \" &  'Paramètres - Admin'!$D$2))))))","v":"220 jours 0 hrs 0 mins"}]
["Sort de Guérison",{"$f":"'À Faire - Détails'!J220","v":0},{"$f":"'À Faire - Détails'!K220","v":1},{"$f":"'À Faire - Détails'!J228","v":4800000},{"$f":"'À Faire - Détails'!K228","v":168},{"$f":"IF($B$2='Paramètres - Admin'!$B$2,TEXT(E22*60*60,\"# 0\")&\" \" & 'Paramètres - Admin'!$B$2,IF($B$2='Paramètres - Admin'!$B$3,TEXT(E22*60,\"# 0\")&\" \" & 'Paramètres - Admin'!$B$3,IF($B$2='Paramètres - Admin'!$B$4,TEXT(E22,\"# 0,00\")&\" \" & 'Paramètres - Admin'!$B$4,IF($B$2='Paramètres - Admin'!$B$5,TEXT(E22/24,\"# 0,00\")&\" \" & 'Paramètres - Admin'!$B$5,IF($B$2='Paramètres - Admin'!$B$6,TEXT((E22/24)/30,\"# 0,00\")&\" \" & 'Paramètres - Admin'!$B$6,IF(E22/24>=1,INT(E22/24)&\" \" &  'Paramètres - Admin'!$D$4 & \" \" & HOUR(E22/24-INT(E22/24))&\" \" &  'Paramètres - Admin'!$D$3 & \" \" & MINUTE(E22/24-INT(E22/24))&\" \" &  'Paramètres - Admin'!$D$2,HOUR(E22/24-INT(E22/24))&\" \" &  'Paramètres - Admin'!$D$3 & \" \" & MINUTE(E22/24-INT(E22/24))&\" \" &  'Paramètres - Admin'!$D$2))))))","v":"7 jours 0 hrs 0 mins"},"Archer",{"$f":"'À Faire - Détails'!J254","v":0},{"$f":"'À Faire - Détails'!K254","v":2},{"$f":"'À Faire - Détails'!J263","v":13500000},{"$f":"'À Faire - Détails'!K263","v":576},{"$f":"IF($B$2='Paramètres - Admin'!$B$2,TEXT(K22*60*60,\"# 0\")&\" \" & 'Paramètres - Admin'!$B$2,IF($B$2='Paramètres - Admin'!$B$3,TEXT(K22*60,\"# 0\")&\" \" & 'Paramètres - Admin'!$B$3,IF($B$2='Paramètres - Admin'!$B$4,TEXT(K22,\"# 0,00\")&\" \" & 'Paramètres - Admin'!$B$4,IF($B$2='Paramètres - Admin'!$B$5,TEXT(K22/24,\"# 0,00\")&\" \" & 'Paramètres - Admin'!$B$5,IF($B$2='Paramètres - Admin'!$B$6,TEXT((K22/24)/30,\"# 0,00\")&\" \" & 'Paramètres - Admin'!$B$6,IF(K22/24>=1,INT(K22/24)&\" \" &  'Paramètres - Admin'!$D$4 & \" \" & HOUR(K22/24-INT(K22/24))&\" \" &  'Paramètres - Admin'!$D$3 & \" \" & MINUTE(K22/24-INT(K22/24))&\" \" &  'Paramètres - Admin'!$D$2,HOUR(K22/24-INT(K22/24))&\" \" &  'Paramètres - Admin'!$D$3 & \" \" & MINUTE(K22/24-INT(K22/24))&\" \" &  'Paramètres - Admin'!$D$2))))))","v":"24 jours 0 hrs 0 mins"},"Chevaucheur de Cochon",{"$f":"'À Faire - Détails'!J310","v":0},{"$f":"'À Faire - Détails'!K310","v":1},{"$f":"'À Faire - Détails'!J317","v":50000},{"$f":"'À Faire - Détails'!K317","v":336},{"$f":"IF($B$2='Paramètres - Admin'!$B$2,TEXT(Q22*60*60,\"# 0\")&\" \" & 'Paramètres - Admin'!$B$2,IF($B$2='Paramètres - Admin'!$B$3,TEXT(Q22*60,\"# 0\")&\" \" & 'Paramètres - Admin'!$B$3,IF($B$2='Paramètres - Admin'!$B$4,TEXT(Q22,\"# 0,00\")&\" \" & 'Paramètres - Admin'!$B$4,IF($B$2='Paramètres - Admin'!$B$5,TEXT(Q22/24,\"# 0,00\")&\" \" & 'Paramètres - Admin'!$B$5,IF($B$2='Paramètres - Admin'!$B$6,TEXT((Q22/24)/30,\"# 0,00\")&\" \" & 'Paramètres - Admin'!$B$6,IF(Q22/24>=1,INT(Q22/24)&\" \" &  'Paramètres - Admin'!$D$4 & \" \" & HOUR(Q22/24-INT(Q22/24))&\" \" &  'Paramètres - Admin'!$D$3 & \" \" & MINUTE(Q22/24-INT(Q22/24))&\" \" &  'Paramètres - Admin'!$D$2,HOUR(Q22/24-INT(Q22/24))&\" \" &  'Paramètres - Admin'!$D$3 & \" \" & MINUTE(Q22/24-INT(Q22/24))&\" \" &  'Paramètres - Admin'!$D$2))))))","v":"14 jours 0 hrs 0 mins"},"Reine des Archers",{"$f":"'À Faire - Détails'!U331","v":0},{"$f":"'À Faire - Détails'!V331","v":35},{"$f":"'À Faire - Détails'!U373","v":4027500},{"$f":"'À Faire - Détails'!V373","v":5340},{"$f":"IF($B$2='Paramètres - Admin'!$B$2,TEXT(W22*60*60,\"# 0\")&\" \" & 'Paramètres - Admin'!$B$2,IF($B$2='Paramètres - Admin'!$B$3,TEXT(W22*60,\"# 0\")&\" \" & 'Paramètres - Admin'!$B$3,IF($B$2='Paramètres - Admin'!$B$4,TEXT(W22,\"# 0,00\")&\" \" & 'Paramètres - Admin'!$B$4,IF($B$2='Paramètres - Admin'!$B$5,TEXT(W22/24,\"# 0,00\")&\" \" & 'Paramètres - Admin'!$B$5,IF($B$2='Paramètres - Admin'!$B$6,TEXT((W22/24)/30,\"# 0,00\")&\" \" & 'Paramètres - Admin'!$B$6,IF(W22/24>=1,INT(W22/24)&\" \" &  'Paramètres - Admin'!$D$4 & \" \" & HOUR(W22/24-INT(W22/24))&\" \" &  'Paramètres - Admin'!$D$3 & \" \" & MINUTE(W22/24-INT(W22/24))&\" \" &  'Paramètres - Admin'!$D$2,HOUR(W22/24-INT(W22/24))&\" \" &  'Paramètres - Admin'!$D$3 & \" \" & MINUTE(W22/24-INT(W22/24))&\" \" &  'Paramètres - Admin'!$D$2))))))","v":"222 jours 12 hrs 0 mins"}]
["Sort de Rage",{"$f":"'À Faire - Détails'!J230","v":0},{"$f":"'À Faire - Détails'!K230","v":0},{"$f":"'À Faire - Détails'!J237","v":0},{"$f":"'À Faire - Détails'!K237","v":0},{"$f":"IF($B$2='Paramètres - Admin'!$B$2,TEXT(E23*60*60,\"# 0\")&\" \" & 'Paramètres - Admin'!$B$2,IF($B$2='Paramètres - Admin'!$B$3,TEXT(E23*60,\"# 0\")&\" \" & 'Paramètres - Admin'!$B$3,IF($B$2='Paramètres - Admin'!$B$4,TEXT(E23,\"# 0,00\")&\" \" & 'Paramètres - Admin'!$B$4,IF($B$2='Paramètres - Admin'!$B$5,TEXT(E23/24,\"# 0,00\")&\" \" & 'Paramètres - Admin'!$B$5,IF($B$2='Paramètres - Admin'!$B$6,TEXT((E23/24)/30,\"# 0,00\")&\" \" & 'Paramètres - Admin'!$B$6,IF(E23/24>=1,INT(E23/24)&\" \" &  'Paramètres - Admin'!$D$4 & \" \" & HOUR(E23/24-INT(E23/24))&\" \" &  'Paramètres - Admin'!$D$3 & \" \" & MINUTE(E23/24-INT(E23/24))&\" \" &  'Paramètres - Admin'!$D$2,HOUR(E23/24-INT(E23/24))&\" \" &  'Paramètres - Admin'!$D$3 & \" \" & MINUTE(E23/24-INT(E23/24))&\" \" &  'Paramètres - Admin'!$D$2))))))","v":"0 hrs 0 mins"},"Gobelin",{"$f":"'À Faire - Détails'!J265","v":0},{"$f":"'À Faire - Détails'!K265","v":1},{"$f":"'À Faire - Détails'!J273","v":4500000},{"$f":"'À Faire - Détails'!K273","v":240},{"$f":"IF($B$2='Paramètres - Admin'!$B$2,TEXT(K23*60*60,\"# 0\")&\" \" & 'Paramètres - Admin'!$B$2,IF($B$2='Paramètres - Admin'!$B$3,TEXT(K23*60,\"# 0\")&\" \" & 'Paramètres - Admin'!$B$3,IF($B$2='Paramètres - Admin'!$B$4,TEXT(K23,\"# 0,00\")&\" \" & 'Paramètres - Admin'!$B$4,IF($B$2='Paramètres - Admin'!$B$5,TEXT(K23/24,\"# 0,00\")&\" \" & 'Paramètres - Admin'!$B$5,IF($B$2='Paramètres - Admin'!$B$6,TEXT((K23/24)/30,\"# 0,00\")&\" \" & 'Paramètres - Admin'!$B$6,IF(K23/24>=1,INT(K23/24)&\" \" &  'Paramètres - Admin'!$D$4 & \" \" & HOUR(K23/24-INT(K23/24))&\" \" &  'Paramètres - Admin'!$D$3 & \" \" & MINUTE(K23/24-INT(K23/24))&\" \" &  'Paramètres - Admin'!$D$2,HOUR(K23/24-INT(K23/24))&\" \" &  'Paramètres - Admin'!$D$3 & \" \" & MINUTE(K23/24-INT(K23/24))&\" \" &  'Paramètres - Admin'!$D$2))))))","v":"10 jours 0 hrs 0 mins"},"Valkyrie",{"$f":"'À Faire - Détails'!J319","v":0},{"$f":"'À Faire - Détails'!K319","v":3},{"$f":"'À Faire - Détails'!J325","v":180000},{"$f":"'À Faire - Détails'!K325","v":864},{"$f":"IF($B$2='Paramètres - Admin'!$B$2,TEXT(Q23*60*60,\"# 0\")&\" \" & 'Paramètres - Admin'!$B$2,IF($B$2='Paramètres - Admin'!$B$3,TEXT(Q23*60,\"# 0\")&\" \" & 'Paramètres - Admin'!$B$3,IF($B$2='Paramètres - Admin'!$B$4,TEXT(Q23,\"# 0,00\")&\" \" & 'Paramètres - Admin'!$B$4,IF($B$2='Paramètres - Admin'!$B$5,TEXT(Q23/24,\"# 0,00\")&\" \" & 'Paramètres - Admin'!$B$5,IF($B$2='Paramètres - Admin'!$B$6,TEXT((Q23/24)/30,\"# 0,00\")&\" \" & 'Paramètres - Admin'!$B$6,IF(Q23/24>=1,INT(Q23/24)&\" \" &  'Paramètres - Admin'!$D$4 & \" \" & HOUR(Q23/24-INT(Q23/24))&\" \" &  'Paramètres - Admin'!$D$3 & \" \" & MINUTE(Q23/24-INT(Q23/24))&\" \" &  'Paramètres - Admin'!$D$2,HOUR(Q23/24-INT(Q23/24))&\" \" &  'Paramètres - Admin'!$D$3 & \" \" & MINUTE(Q23/24-INT(Q23/24))&\" \" &  'Paramètres - Admin'!$D$2))))))","v":"36 jours 0 hrs 0 mins"},"Total",{"$f":"SUM(T21:T22)","v":0},{"$f":"SUM(U21:U22)","v":69},{"$f":"SUM(V21:V22)","v":7682500},{"$f":"SUM(W21:W22)","v":10620},{"$f":"IF($B$2='Paramètres - Admin'!$B$2,TEXT(W23*60*60,\"# 0\")&\" \" & 'Paramètres - Admin'!$B$2,IF($B$2='Paramètres - Admin'!$B$3,TEXT(W23*60,\"# 0\")&\" \" & 'Paramètres - Admin'!$B$3,IF($B$2='Paramètres - Admin'!$B$4,TEXT(W23,\"# 0,00\")&\" \" & 'Paramètres - Admin'!$B$4,IF($B$2='Paramètres - Admin'!$B$5,TEXT(W23/24,\"# 0,00\")&\" \" & 'Paramètres - Admin'!$B$5,IF($B$2='Paramètres - Admin'!$B$6,TEXT((W23/24)/30,\"# 0,00\")&\" \" & 'Paramètres - Admin'!$B$6,IF(W23/24>=1,INT(W23/24)&\" \" &  'Paramètres - Admin'!$D$4 & \" \" & HOUR(W23/24-INT(W23/24))&\" \" &  'Paramètres - Admin'!$D$3 & \" \" & MINUTE(W23/24-INT(W23/24))&\" \" &  'Paramètres - Admin'!$D$2,HOUR(W23/24-INT(W23/24))&\" \" &  'Paramètres - Admin'!$D$3 & \" \" & MINUTE(W23/24-INT(W23/24))&\" \" &  'Paramètres - Admin'!$D$2))))))","v":"442 jours 12 hrs 0 mins"}]
["Sort de Saut",{"$f":"'À Faire - Détails'!U210","v":0},{"$f":"'À Faire - Détails'!V210","v":1},{"$f":"'À Faire - Détails'!U215","v":6000000},{"$f":"'À Faire - Détails'!V215","v":168},{"$f":"IF($B$2='Paramètres - Admin'!$B$2,TEXT(E24*60*60,\"# 0\")&\" \" & 'Paramètres - Admin'!$B$2,IF($B$2='Paramètres - Admin'!$B$3,TEXT(E24*60,\"# 0\")&\" \" & 'Paramètres - Admin'!$B$3,IF($B$2='Paramètres - Admin'!$B$4,TEXT(E24,\"# 0,00\")&\" \" & 'Paramètres - Admin'!$B$4,IF($B$2='Paramètres - Admin'!$B$5,TEXT(E24/24,\"# 0,00\")&\" \" & 'Paramètres - Admin'!$B$5,IF($B$2='Paramètres - Admin'!$B$6,TEXT((E24/24)/30,\"# 0,00\")&\" \" & 'Paramètres - Admin'!$B$6,IF(E24/24>=1,INT(E24/24)&\" \" &  'Paramètres - Admin'!$D$4 & \" \" & HOUR(E24/24-INT(E24/24))&\" \" &  'Paramètres - Admin'!$D$3 & \" \" & MINUTE(E24/24-INT(E24/24))&\" \" &  'Paramètres - Admin'!$D$2,HOUR(E24/24-INT(E24/24))&\" \" &  'Paramètres - Admin'!$D$3 & \" \" & MINUTE(E24/24-INT(E24/24))&\" \" &  'Paramètres - Admin'!$D$2))))))","v":"7 jours 0 hrs 0 mins"},"Géant",{"$f":"'À Faire - Détails'!J275","v":0},{"$f":"'À Faire - Détails'!K275","v":2},{"$f":"'À Faire - Détails'!J284","v":13000000},{"$f":"'À Faire - Détails'!K284","v":576},{"$f":"IF($B$2='Paramètres - Admin'!$B$2,TEXT(K24*60*60,\"# 0\")&\" \" & 'Paramètres - Admin'!$B$2,IF($B$2='Paramètres - Admin'!$B$3,TEXT(K24*60,\"# 0\")&\" \" & 'Paramètres - Admin'!$B$3,IF($B$2='Paramètres - Admin'!$B$4,TEXT(K24,\"# 0,00\")&\" \" & 'Paramètres - Admin'!$B$4,IF($B$2='Paramètres - Admin'!$B$5,TEXT(K24/24,\"# 0,00\")&\" \" & 'Paramètres - Admin'!$B$5,IF($B$2='Paramètres - Admin'!$B$6,TEXT((K24/24)/30,\"# 0,00\")&\" \" & 'Paramètres - Admin'!$B$6,IF(K24/24>=1,INT(K24/24)&\" \" &  'Paramètres - Admin'!$D$4 & \" \" & HOUR(K24/24-INT(K24/24))&\" \" &  'Paramètres - Admin'!$D$3 & \" \" & MINUTE(K24/24-INT(K24/24))&\" \" &  'Paramètres - Admin'!$D$2,HOUR(K24/24-INT(K24/24))&\" \" &  'Paramètres - Admin'!$D$3 & \" \" & MINUTE(K24/24-INT(K24/24))&\" \" &  'Paramètres - Admin'!$D$2))))))","v":"24 jours 0 hrs 0 mins"},"Golem",{"$f":"'À Faire - Détails'!U300","v":0},{"$f":"'À Faire - Détails'!V300","v":3},{"$f":"'À Faire - Détails'!U307","v":240000},{"$f":"'À Faire - Détails'!V307","v":960},{"$f":"IF($B$2='Paramètres - Admin'!$B$2,TEXT(Q24*60*60,\"# 0\")&\" \" & 'Paramètres - Admin'!$B$2,IF($B$2='Paramètres - Admin'!$B$3,TEXT(Q24*60,\"# 0\")&\" \" & 'Paramètres - Admin'!$B$3,IF($B$2='Paramètres - Admin'!$B$4,TEXT(Q24,\"# 0,00\")&\" \" & 'Paramètres - Admin'!$B$4,IF($B$2='Paramètres - Admin'!$B$5,TEXT(Q24/24,\"# 0,00\")&\" \" & 'Paramètres - Admin'!$B$5,IF($B$2='Paramètres - Admin'!$B$6,TEXT((Q24/24)/30,\"# 0,00\")&\" \" & 'Paramètres - Admin'!$B$6,IF(Q24/24>=1,INT(Q24/24)&\" \" &  'Paramètres - Admin'!$D$4 & \" \" & HOUR(Q24/24-INT(Q24/24))&\" \" &  'Paramètres - Admin'!$D$3 & \" \" & MINUTE(Q24/24-INT(Q24/24))&\" \" &  'Paramètres - Admin'!$D$2,HOUR(Q24/24-INT(Q24/24))&\" \" &  'Paramètres - Admin'!$D$3 & \" \" & MINUTE(Q24/24-INT(Q24/24))&\" \" &  'Paramètres - Admin'!$D$2))))))","v":"40 jours 0 hrs 0 mins"}]
["Sort de Gel",{"$f":"'À Faire - Détails'!U217","v":0},{"$f":"'À Faire - Détails'!V217","v":4},{"$f":"'À Faire - Détails'!U224","v":23500000},{"$f":"'À Faire - Détails'!V224","v":864},{"$f":"IF($B$2='Paramètres - Admin'!$B$2,TEXT(E25*60*60,\"# 0\")&\" \" & 'Paramètres - Admin'!$B$2,IF($B$2='Paramètres - Admin'!$B$3,TEXT(E25*60,\"# 0\")&\" \" & 'Paramètres - Admin'!$B$3,IF($B$2='Paramètres - Admin'!$B$4,TEXT(E25,\"# 0,00\")&\" \" & 'Paramètres - Admin'!$B$4,IF($B$2='Paramètres - Admin'!$B$5,TEXT(E25/24,\"# 0,00\")&\" \" & 'Paramètres - Admin'!$B$5,IF($B$2='Paramètres - Admin'!$B$6,TEXT((E25/24)/30,\"# 0,00\")&\" \" & 'Paramètres - Admin'!$B$6,IF(E25/24>=1,INT(E25/24)&\" \" &  'Paramètres - Admin'!$D$4 & \" \" & HOUR(E25/24-INT(E25/24))&\" \" &  'Paramètres - Admin'!$D$3 & \" \" & MINUTE(E25/24-INT(E25/24))&\" \" &  'Paramètres - Admin'!$D$2,HOUR(E25/24-INT(E25/24))&\" \" &  'Paramètres - Admin'!$D$3 & \" \" & MINUTE(E25/24-INT(E25/24))&\" \" &  'Paramètres - Admin'!$D$2))))))","v":"36 jours 0 hrs 0 mins"},"Sapeur",{"$f":"'À Faire - Détails'!J286","v":0},{"$f":"'À Faire - Détails'!K286","v":1},{"$f":"'À Faire - Détails'!J294","v":6750000},{"$f":"'À Faire - Détails'!K294","v":240},{"$f":"IF($B$2='Paramètres - Admin'!$B$2,TEXT(K25*60*60,\"# 0\")&\" \" & 'Paramètres - Admin'!$B$2,IF($B$2='Paramètres - Admin'!$B$3,TEXT(K25*60,\"# 0\")&\" \" & 'Paramètres - Admin'!$B$3,IF($B$2='Paramètres - Admin'!$B$4,TEXT(K25,\"# 0,00\")&\" \" & 'Paramètres - Admin'!$B$4,IF($B$2='Paramètres - Admin'!$B$5,TEXT(K25/24,\"# 0,00\")&\" \" & 'Paramètres - Admin'!$B$5,IF($B$2='Paramètres - Admin'!$B$6,TEXT((K25/24)/30,\"# 0,00\")&\" \" & 'Paramètres - Admin'!$B$6,IF(K25/24>=1,INT(K25/24)&\" \" &  'Paramètres - Admin'!$D$4 & \" \" & HOUR(K25/24-INT(K25/24))&\" \" &  'Paramètres - Admin'!$D$3 & \" \" & MINUTE(K25/24-INT(K25/24))&\" \" &  'Paramètres - Admin'!$D$2,HOUR(K25/24-INT(K25/24))&\" \" &  'Paramètres - Admin'!$D$3 & \" \" & MINUTE(K25/24-INT(K25/24))&\" \" &  'Paramètres - Admin'!$D$2))))))","v":"10 jours 0 hrs 0 mins"},"Sorcière",{"$f":"'À Faire - Détails'!U309","v":0},{"$f":"'À Faire - Détails'!V309","v":1},{"$f":"'À Faire - Détails'!U312","v":75000},{"$f":"'À Faire - Détails'!V313","v":240},{"$f":"IF($B$2='Paramètres - Admin'!$B$2,TEXT(Q25*60*60,\"# 0\")&\" \" & 'Paramètres - Admin'!$B$2,IF($B$2='Paramètres - Admin'!$B$3,TEXT(Q25*60,\"# 0\")&\" \" & 'Paramètres - Admin'!$B$3,IF($B$2='Paramètres - Admin'!$B$4,TEXT(Q25,\"# 0,00\")&\" \" & 'Paramètres - Admin'!$B$4,IF($B$2='Paramètres - Admin'!$B$5,TEXT(Q25/24,\"# 0,00\")&\" \" & 'Paramètres - Admin'!$B$5,IF($B$2='Paramètres - Admin'!$B$6,TEXT((Q25/24)/30,\"# 0,00\")&\" \" & 'Paramètres - Admin'!$B$6,IF(Q25/24>=1,INT(Q25/24)&\" \" &  'Paramètres - Admin'!$D$4 & \" \" & HOUR(Q25/24-INT(Q25/24))&\" \" &  'Paramètres - Admin'!$D$3 & \" \" & MINUTE(Q25/24-INT(Q25/24))&\" \" &  'Paramètres - Admin'!$D$2,HOUR(Q25/24-INT(Q25/24))&\" \" &  'Paramètres - Admin'!$D$3 & \" \" & MINUTE(Q25/24-INT(Q25/24))&\" \" &  'Paramètres - Admin'!$D$2))))))","v":"10 jours 0 hrs 0 mins"}]
["Total",{"$f":"SUM(B21:B25)","v":0},{"$f":"SUM(C21:C25)","v":7},{"$f":"SUM(D21:D25)","v":42300000},{"$f":"SUM(E21:E25)","v":1536},{"$f":"IF($B$2='Paramètres - Admin'!$B$2,TEXT(E26*60*60,\"# 0\")&\" \" & 'Paramètres - Admin'!$B$2,IF($B$2='Paramètres - Admin'!$B$3,TEXT(E26*60,\"# 0\")&\" \" & 'Paramètres - Admin'!$B$3,IF($B$2='Paramètres - Admin'!$B$4,TEXT(E26,\"# 0,00\")&\" \" & 'Paramètres - Admin'!$B$4,IF($B$2='Paramètres - Admin'!$B$5,TEXT(E26/24,\"# 0,00\")&\" \" & 'Paramètres - Admin'!$B$5,IF($B$2='Paramètres - Admin'!$B$6,TEXT((E26/24)/30,\"# 0,00\")&\" \" & 'Paramètres - Admin'!$B$6,IF(E26/24>=1,INT(E26/24)&\" \" &  'Paramètres - Admin'!$D$4 & \" \" & HOUR(E26/24-INT(E26/24))&\" \" &  'Paramètres - Admin'!$D$3 & \" \" & MINUTE(E26/24-INT(E26/24))&\" \" &  'Paramètres - Admin'!$D$2,HOUR(E26/24-INT(E26/24))&\" \" &  'Paramètres - Admin'!$D$3 & \" \" & MINUTE(E26/24-INT(E26/24))&\" \" &  'Paramètres - Admin'!$D$2))))))","v":"64 jours 0 hrs 0 mins"},"Ballon",{"$f":"'À Faire - Détails'!U243","v":0},{"$f":"'À Faire - Détails'!V243","v":0},{"$f":"'À Faire - Détails'!U251","v":0},{"$f":"'À Faire - Détails'!V251","v":0},{"$f":"IF($B$2='Paramètres - Admin'!$B$2,TEXT(K26*60*60,\"# 0\")&\" \" & 'Paramètres - Admin'!$B$2,IF($B$2='Paramètres - Admin'!$B$3,TEXT(K26*60,\"# 0\")&\" \" & 'Paramètres - Admin'!$B$3,IF($B$2='Paramètres - Admin'!$B$4,TEXT(K26,\"# 0,00\")&\" \" & 'Paramètres - Admin'!$B$4,IF($B$2='Paramètres - Admin'!$B$5,TEXT(K26/24,\"# 0,00\")&\" \" & 'Paramètres - Admin'!$B$5,IF($B$2='Paramètres - Admin'!$B$6,TEXT((K26/24)/30,\"# 0,00\")&\" \" & 'Paramètres - Admin'!$B$6,IF(K26/24>=1,INT(K26/24)&\" \" &  'Paramètres - Admin'!$D$4 & \" \" & HOUR(K26/24-INT(K26/24))&\" \" &  'Paramètres - Admin'!$D$3 & \" \" & MINUTE(K26/24-INT(K26/24))&\" \" &  'Paramètres - Admin'!$D$2,HOUR(K26/24-INT(K26/24))&\" \" &  'Paramètres - Admin'!$D$3 & \" \" & MINUTE(K26/24-INT(K26/24))&\" \" &  'Paramètres - Admin'!$D$2))))))","v":"0 hrs 0 mins"},"Molosse de lave",{"$f":"'À Faire - Détails'!U315","v":0},{"$f":"'À Faire - Détails'!V315","v":1},{"$f":"'À Faire - Détails'!U320","v":70000},{"$f":"'À Faire - Détails'!V320","v":288},{"$f":"IF($B$2='Paramètres - Admin'!$B$2,TEXT(Q26*60*60,\"# 0\")&\" \" & 'Paramètres - Admin'!$B$2,IF($B$2='Paramètres - Admin'!$B$3,TEXT(Q26*60,\"# 0\")&\" \" & 'Paramètres - Admin'!$B$3,IF($B$2='Paramètres - Admin'!$B$4,TEXT(Q26,\"# 0,00\")&\" \" & 'Paramètres - Admin'!$B$4,IF($B$2='Paramètres - Admin'!$B$5,TEXT(Q26/24,\"# 0,00\")&\" \" & 'Paramètres - Admin'!$B$5,IF($B$2='Paramètres - Admin'!$B$6,TEXT((Q26/24)/30,\"# 0,00\")&\" \" & 'Paramètres - Admin'!$B$6,IF(Q26/24>=1,INT(Q26/24)&\" \" &  'Paramètres - Admin'!$D$4 & \" \" & HOUR(Q26/24-INT(Q26/24))&\" \" &  'Paramètres - Admin'!$D$3 & \" \" & MINUTE(Q26/24-INT(Q26/24))&\" \" &  'Paramètres - Admin'!$D$2,HOUR(Q26/24-INT(Q26/24))&\" \" &  'Paramètres - Admin'!$D$3 & \" \" & MINUTE(Q26/24-INT(Q26/24))&\" \" &  'Paramètres - Admin'!$D$2))))))","v":"12 jours 0 hrs 0 mins"}]
[null,null,null,null,null,null,"Sorcier",{"$f":"'À Faire - Détails'!U253","v":0},{"$f":"'À Faire - Détails'!V253","v":1},{"$f":"'À Faire - Détails'!U261","v":7500000},{"$f":"'À Faire - Détails'!V261","v":336},{"$f":"IF($B$2='Paramètres - Admin'!$B$2,TEXT(K27*60*60,\"# 0\")&\" \" & 'Paramètres - Admin'!$B$2,IF($B$2='Paramètres - Admin'!$B$3,TEXT(K27*60,\"# 0\")&\" \" & 'Paramètres - Admin'!$B$3,IF($B$2='Paramètres - Admin'!$B$4,TEXT(K27,\"# 0,00\")&\" \" & 'Paramètres - Admin'!$B$4,IF($B$2='Paramètres - Admin'!$B$5,TEXT(K27/24,\"# 0,00\")&\" \" & 'Paramètres - Admin'!$B$5,IF($B$2='Paramètres - Admin'!$B$6,TEXT((K27/24)/30,\"# 0,00\")&\" \" & 'Paramètres - Admin'!$B$6,IF(K27/24>=1,INT(K27/24)&\" \" &  'Paramètres - Admin'!$D$4 & \" \" & HOUR(K27/24-INT(K27/24))&\" \" &  'Paramètres - Admin'!$D$3 & \" \" & MINUTE(K27/24-INT(K27/24))&\" \" &  'Paramètres - Admin'!$D$2,HOUR(K27/24-INT(K27/24))&\" \" &  'Paramètres - Admin'!$D$3 & \" \" & MINUTE(K27/24-INT(K27/24))&\" \" &  'Paramètres - Admin'!$D$2))))))","v":"14 jours 0 hrs 0 mins"},"Total",{"$f":"SUM(N21:N26)","v":0},{"$f":"SUM(O21:O26)","v":10},{"$f":"SUM(P21:P26)","v":715000},{"$f":"SUM(Q21:Q26)","v":2688},{"$f":"IF($B$2='Paramètres - Admin'!$B$2,TEXT(Q27*60*60,\"# 0\")&\" \" & 'Paramètres - Admin'!$B$2,IF($B$2='Paramètres - Admin'!$B$3,TEXT(Q27*60,\"# 0\")&\" \" & 'Paramètres - Admin'!$B$3,IF($B$2='Paramètres - Admin'!$B$4,TEXT(Q27,\"# 0,00\")&\" \" & 'Paramètres - Admin'!$B$4,IF($B$2='Paramètres - Admin'!$B$5,TEXT(Q27/24,\"# 0,00\")&\" \" & 'Paramètres - Admin'!$B$5,IF($B$2='Paramètres - Admin'!$B$6,TEXT((Q27/24)/30,\"# 0,00\")&\" \" & 'Paramètres - Admin'!$B$6,IF(Q27/24>=1,INT(Q27/24)&\" \" &  'Paramètres - Admin'!$D$4 & \" \" & HOUR(Q27/24-INT(Q27/24))&\" \" &  'Paramètres - Admin'!$D$3 & \" \" & MINUTE(Q27/24-INT(Q27/24))&\" \" &  'Paramètres - Admin'!$D$2,HOUR(Q27/24-INT(Q27/24))&\" \" &  'Paramètres - Admin'!$D$3 & \" \" & MINUTE(Q27/24-INT(Q27/24))&\" \" &  'Paramètres - Admin'!$D$2))))))","v":"112 jours 0 hrs 0 mins"}]
[null,null,null,null,null,null,"Guérisseuse",{"$f":"'À Faire - Détails'!U263","v":0},{"$f":"'À Faire - Détails'!V263","v":1},{"$f":"'À Faire - Détails'!U269","v":3000000},{"$f":"'À Faire - Détails'!V269","v":168},{"$f":"IF($B$2='Paramètres - Admin'!$B$2,TEXT(K28*60*60,\"# 0\")&\" \" & 'Paramètres - Admin'!$B$2,IF($B$2='Paramètres - Admin'!$B$3,TEXT(K28*60,\"# 0\")&\" \" & 'Paramètres - Admin'!$B$3,IF($B$2='Paramètres - Admin'!$B$4,TEXT(K28,\"# 0,00\")&\" \" & 'Paramètres - Admin'!$B$4,IF($B$2='Paramètres - Admin'!$B$5,TEXT(K28/24,\"# 0,00\")&\" \" & 'Paramètres - Admin'!$B$5,IF($B$2='Paramètres - Admin'!$B$6,TEXT((K28/24)/30,\"# 0,00\")&\" \" & 'Paramètres - Admin'!$B$6,IF(K28/24>=1,INT(K28/24)&\" \" &  'Paramètres - Admin'!$D$4 & \" \" & HOUR(K28/24-INT(K28/24))&\" \" &  'Paramètres - Admin'!$D$3 & \" \" & MINUTE(K28/24-INT(K28/24))&\" \" &  'Paramètres - Admin'!$D$2,HOUR(K28/24-INT(K28/24))&\" \" &  'Paramètres - Admin'!$D$3 & \" \" & MINUTE(K28/24-INT(K28/24))&\" \" &  'Paramètres - Admin'!$D$2))))))","v":"7 jours 0 hrs 0 mins"},null,null,"Ressources Nécessaires"]
[null,null,null,null,null,null,"Dragon",{"$f":"'À Faire - Détails'!U271","v":0},{"$f":"'À Faire - Détails'!V271","v":0},{"$f":"'À Faire - Détails'!U277","v":0},{"$f":"'À Faire - Détails'!V277","v":0},{"$f":"IF($B$2='Paramètres - Admin'!$B$2,TEXT(K29*60*60,\"# 0\")&\" \" & 'Paramètres - Admin'!$B$2,IF($B$2='Paramètres - Admin'!$B$3,TEXT(K29*60,\"# 0\")&\" \" & 'Paramètres - Admin'!$B$3,IF($B$2='Paramètres - Admin'!$B$4,TEXT(K29,\"# 0,00\")&\" \" & 'Paramètres - Admin'!$B$4,IF($B$2='Paramètres - Admin'!$B$5,TEXT(K29/24,\"# 0,00\")&\" \" & 'Paramètres - Admin'!$B$5,IF($B$2='Paramètres - Admin'!$B$6,TEXT((K29/24)/30,\"# 0,00\")&\" \" & 'Paramètres - Admin'!$B$6,IF(K29/24>=1,INT(K29/24)&\" \" &  'Paramètres - Admin'!$D$4 & \" \" & HOUR(K29/24-INT(K29/24))&\" \" &  'Paramètres - Admin'!$D$3 & \" \" & MINUTE(K29/24-INT(K29/24))&\" \" &  'Paramètres - Admin'!$D$2,HOUR(K29/24-INT(K29/24))&\" \" &  'Paramètres - Admin'!$D$3 & \" \" & MINUTE(K29/24-INT(K29/24))&\" \" &  'Paramètres - Admin'!$D$2))))))","v":"0 hrs 0 mins"}]
[null,null,null,null,null,null,"P.E.K.K.A",{"$f":"'À Faire - Détails'!U279","v":0},{"$f":"'À Faire - Détails'!V279","v":3},{"$f":"'À Faire - Détails'!U286","v":21000000},{"$f":"'À Faire - Détails'!V286","v":960},{"$f":"IF($B$2='Paramètres - Admin'!$B$2,TEXT(K30*60*60,\"# 0\")&\" \" & 'Paramètres - Admin'!$B$2,IF($B$2='Paramètres - Admin'!$B$3,TEXT(K30*60,\"# 0\")&\" \" & 'Paramètres - Admin'!$B$3,IF($B$2='Paramètres - Admin'!$B$4,TEXT(K30,\"# 0,00\")&\" \" & 'Paramètres - Admin'!$B$4,IF($B$2='Paramètres - Admin'!$B$5,TEXT(K30/24,\"# 0,00\")&\" \" & 'Paramètres - Admin'!$B$5,IF($B$2='Paramètres - Admin'!$B$6,TEXT((K30/24)/30,\"# 0,00\")&\" \" & 'Paramètres - Admin'!$B$6,IF(K30/24>=1,INT(K30/24)&\" \" &  'Paramètres - Admin'!$D$4 & \" \" & HOUR(K30/24-INT(K30/24))&\" \" &  'Paramètres - Admin'!$D$3 & \" \" & MINUTE(K30/24-INT(K30/24))&\" \" &  'Paramètres - Admin'!$D$2,HOUR(K30/24-INT(K30/24))&\" \" &  'Paramètres - Admin'!$D$3 & \" \" & MINUTE(K30/24-INT(K30/24))&\" \" &  'Paramètres - Admin'!$D$2))))))","v":"40 jours 0 hrs 0 mins"}]
[null,null,null,null,null,null,"Total",{"$f":"SUM(H21:H30)","v":0},{"$f":"SUM(I21:I30)","v":13},{"$f":"SUM(J21:J30)","v":79750000},{"$f":"SUM(K21:K30)","v":3672},{"$f":"IF($B$2='Paramètres - Admin'!$B$2,TEXT(K31*60*60,\"# 0\")&\" \" & 'Paramètres - Admin'!$B$2,IF($B$2='Paramètres - Admin'!$B$3,TEXT(K31*60,\"# 0\")&\" \" & 'Paramètres - Admin'!$B$3,IF($B$2='Paramètres - Admin'!$B$4,TEXT(K31,\"# 0,00\")&\" \" & 'Paramètres - Admin'!$B$4,IF($B$2='Paramètres - Admin'!$B$5,TEXT(K31/24,\"# 0,00\")&\" \" & 'Paramètres - Admin'!$B$5,IF($B$2='Paramètres - Admin'!$B$6,TEXT((K31/24)/30,\"# 0,00\")&\" \" & 'Paramètres - Admin'!$B$6,IF(K31/24>=1,INT(K31/24)&\" \" &  'Paramètres - Admin'!$D$4 & \" \" & HOUR(K31/24-INT(K31/24))&\" \" &  'Paramètres - Admin'!$D$3 & \" \" & MINUTE(K31/24-INT(K31/24))&\" \" &  'Paramètres - Admin'!$D$2,HOUR(K31/24-INT(K31/24))&\" \" &  'Paramètres - Admin'!$D$3 & \" \" & MINUTE(K31/24-INT(K31/24))&\" \" &  'Paramètres - Admin'!$D$2))))))","v":"153 jours 0 hrs 0 mins"}]

{"sheet":"À Faire - Détails","index":2,"n_rows":373,"n_cols":22,"rows_kept":373,"cut":false,"hidden":false,"merged":[[0,2,0,4],[0,5,0,7],[0,17,0,19],[0,8,0,9],[0,10,0,12],[0,20,0,21],[0,13,0,16],[1,13,1,16],[1,0,1,1],[0,0,0,1],[1,2,1,4],[1,5,1,7],[1,8,1,9],[1,10,1,12],[1,17,1,19],[1,20,1,21],[73,0,74,2],[179,0,179,21],[3,0,3,10],[30,0,31,2],[143,11,144,13],[110,11,110,18],[111,11,112,13],[122,11,122,18],[123,11,124,13],[161,0,161,21],[20,11,21,13],[172,0,172,7],[163,11,164,13],[163,0,164,2],[149,11,149,18],[159,0,159,7],[134,11,134,18],[114,0,115,2],[99,11,100,13],[147,0,147,7],[148,0,149,2],[142,11,142,18],[79,11,79,18],[82,0,82,7],[273,0,274,2],[284,0,285,2],[298,0,299,2],[324,0,324,7],[293,0,293,7],[2,0,2,21],[45,0,46,2],[44,0,44,7],[54,0,54,7],[59,11,60,13],[70,11,70,18],[71,11,72,13],[20,0,21,2],[57,0,57,21],[58,0,58,21],[3,11,3,21],[4,0,5,2],[4,11,5,13],[19,0,19,7],[19,11,19,18],[29,0,29,7],[34,11,34,18],[72,0,72,7],[59,0,60,2],[203,0,203,7],[181,0,182,2],[195,0,195,7],[135,11,136,13],[190,0,190,7],[372,0,372,7],[372,11,372,18],[196,0,197,2],[308,0,309,2],[317,0,318,2],[236,0,236,7],[208,11,209,13],[214,11,214,18],[208,0,209,2],[218,0,219,2],[228,0,229,2],[215,11,216,13],[223,11,223,18],[313,11,314,13],[196,11,197,13],[329,11,330,13],[329,0,330,2],[252,0,253,2],[263,0,264,2],[298,11,299,13],[307,11,308,13],[251,11,252,13],[261,11,262,13],[269,11,270,13],[277,11,278,13],[99,0,100,2],[83,0,84,2],[94,0,94,7],[113,0,113,7],[131,0,132,2],[97,0,97,21],[162,0,162,21],[98,0,98,21],[241,11,242,13],[176,11,176,18],[202,11,202,18],[181,11,182,13],[188,11,188,18],[189,11,190,13],[195,11,195,18],[241,0,242,2],[130,0,130,7],[191,0,192,2]]}
["LVL HdV",null,"Or Total :",null,null,"Élixir Total :",null,null,"Élixir Noir Total :",null,"Temps Total :",null,null,{"$f":"'À Faire - Récapitulatif'!N1","v":"Bâtiments : 992 jours 6 hrs 0 mins"},null,null,null,"=> Temps par Ouvrier :",null,null,"Améliorations de Troupes/Sorts :"]
[{"$f":"Paramètres!$BE$2","v":10},null,{"$f":"'À Faire - Récapitulatif'!D2","v":"2 562 492 000"},null,null,{"$f":"'À Faire - Récapitulatif'!G2","v":"163 486 000"},null,null,{"$f":"'À Faire - Récapitulatif'!I2","v":"8 397 500"},null,{"$f":"'À Faire - Récapitulatif'!L2","v":"1763 jours 18 hrs 0 mins"},null,null,{"$f":"'À Faire - Récapitulatif'!N2","v":"Héros : 442 jours 12 hrs 0 mins"},null,null,null,{"$f":"'À Faire - Récapitulatif'!S2","v":"286 jours 22 hrs 48 mins"},null,null,{"$f":"'À Faire - Récapitulatif'!V2","v":"329 jours 0 hrs 0 mins"}]
["Bâtiments de Ressources"]
["Élixir",null,null,null,null,null,null,null,null,null,null,"Or"]
["Mine d'Or",null,null,"Max","Max +",null,null,null,"Actuel","À Faire","Améliorations","Extracteur d'Élixir",null,null,"Max","Max +",null,null,null,"Actuel","À Faire","Améliorations"]
[null,null,null,{"$f":"VLOOKUP($A$2,AVAILABLE_Buildings_Resource[#All],MATCH(A5,AVAILABLE_Buildings_Resource[#Headers],0))","v":7},{"$f":"VLOOKUP($A$2,AVAILABLE_Buildings_Resource[#All],MATCH(A5,AVAILABLE_Buildings_Resource[#Headers],0)+1)","v":12},null,null,null,{"$f":"IF(SUM(B8:B19)>D6,\"Error\",SUM(B8:B19))","v":7},{"$f":"IF(I$6=\"Error\",\"Error\",D6-I6)","v":0},{"$f":"IF(I$6=\"Error\",\"Error\",SUM(F8:F19))","v":1},null,null,null,{"$f":"VLOOKUP($A$2,AVAILABLE_Buildings_Resource[#All],MATCH(L5,AVAILABLE_Buildings_Resource[#Headers],0))","v":7},{"$f":"VLOOKUP($A$2,AVAILABLE_Buildings_Resource[#All],MATCH(L5,AVAILABLE_Buildings_Resource[#Headers],0)+1)","v":12},null,null,null,{"$f":"IF(SUM(M8:M19)>O6,\"Error\",SUM(M8:M19))","v":7},{"$f":"IF(T$6=\"Error\",\"Error\",O6-T6)","v":0},{"$f":"IF(T$6=\"Error\",\"Error\",SUM(Q8:Q19))","v":7}]
["+","NB",null,null,null,"NB","+","Coût","Temps","Coût Total","Temps Total","+","NB",null,null,null,"NB","+","Coût","Temps","Coût Total","Temps Total"]
[1,{"$f":"IF(Paramètres!B6=0,\"\",Paramètres!B6)","v":""},{"$f":"IF(C7<>0,C7+IF(AND(B7<>\"\",A7<E$6),B7,0),IF(AND(B7<>\"\",A7<E$6),B7,0))","v":0},null,null,{"$f":"IF(G8<>\"/\",IF(I$6=\"Error\",\"Error\",$J$6+C8),\"/\")","v":0},{"$f":"IF(I$6=\"Error\",\"Error\",IF(AND($E$6<>\"/\",$E$6>'Paramètres - Admin'!$A2),'Paramètres - Admin'!$A3,\"/\"))","v":1},{"$f":"IF(G8<>\"/\",VLOOKUP(G8,COSTS_Gold_Mine[#All],2),\"/\")","v":150},{"$f":"IF(G8<>\"/\",VLOOKUP(G8,COSTS_Gold_Mine[#All],3),\"/\")","v":1.6666666666666666E-2},{"$f":"IF(I$6=\"Error\",\"Error\",IF(H8<>\"/\",F8*H8,0))","v":0},{"$f":"IF(I$6=\"Error\",\"Error\",IF(I8<>\"/\",F8*I8,0))","v":0},1,{"$f":"IF(Paramètres!C6=0,\"\",Paramètres!C6)","v":""},{"$f":"IF(N7<>0,N7+IF(AND(M7<>\"\",L7<P$6),M7,0),IF(AND(M7<>\"\",L7<P$6),M7,0))","v":0},null,null,{"$f":"IF(R8<>\"/\",IF(T$6=\"Error\",\"Error\",$U$6+N8),\"/\")","v":0},{"$f":"IF(T$6=\"Error\",\"Error\",IF(AND($P$6<>\"/\",$P$6>'Paramètres - Admin'!$A2),'Paramètres - Admin'!$A3,\"/\"))","v":1},{"$f":"IF(R8<>\"/\",VLOOKUP(R8,COSTS_Elixir_Collector[#All],2),\"/\")","v":150},{"$f":"IF(R8<>\"/\",VLOOKUP(R8,COSTS_Elixir_Collector[#All],3),\"/\")","v":1.6666666666666666E-2},{"$f":"IF(T$6=\"Error\",\"Error\",IF(S8<>\"/\",Q8*S8,0))","v":0},{"$f":"IF(T$6=\"Error\",\"Error\",IF(T8<>\"/\",Q8*T8,0))","v":0}]
[2,{"$f":"IF(Paramètres!B7=0,\"\",Paramètres!B7)","v":""},{"$f":"IF(C8<>0,C8+IF(AND(B8<>\"\",A8<E$6),B8,0),IF(AND(B8<>\"\",A8<E$6),B8,0))","v":0},null,null,{"$f":"IF(G9<>\"/\",IF(I$6=\"Error\",\"Error\",$J$6+C9),\"/\")","v":0},{"$f":"IF(I$6=\"Error\",\"Error\",IF(AND($E$6<>\"/\",$E$6>'Paramètres - Admin'!$A3),'Paramètres - Admin'!$A4,\"/\"))","v":2},{"$f":"IF(G9<>\"/\",VLOOKUP(G9,COSTS_Gold_Mine[#All],2),\"/\")","v":300},{"$f":"IF(G9<>\"/\",VLOOKUP(G9,COSTS_Gold_Mine[#All],3),\"/\")","v":8.3333333333333329E-2},{"$f":"IF(I$6=\"Error\",\"Error\",IF(H9<>\"/\",F9*H9,0))","v":0},{"$f":"IF(I$6=\"Error\",\"Error\",IF(I9<>\"/\",F9*I9,0))","v":0},2,{"$f":"IF(Paramètres!C7=0,\"\",Paramètres!C7)","v":""},{"$f":"IF(N8<>0,N8+IF(AND(M8<>\"\",L8<P$6),M8,0),IF(AND(M8<>\"\",L8<P$6),M8,0))","v":0},null,null,{"$f":"IF(R9<>\"/\",IF(T$6=\"Error\",\"Error\",$U$6+N9),\"/\")","v":0},{"$f":"IF(T$6=\"Error\",\"Error\",IF(AND($P$6<>\"/\",$P$6>'Paramètres - Admin'!$A3),'Paramètres - Admin'!$A4,\"/\"))","v":2},{"$f":"IF(R9<>\"/\",VLOOKUP(R9,COSTS_Elixir_Collector[#All],2),\"/\")","v":300},{"$f":"IF(R9<>\"/\",VLOOKUP(R9,COSTS_Elixir_Collector[#All],3),\"/\")","v":8.3333333333333329E-2},{"$f":"IF(T$6=\"Error\",\"Error\",IF(S9<>\"/\",Q9*S9,0))","v":0},{"$f":"IF(T$6=\"Error\",\"Error\",IF(T9<>\"/\",Q9*T9,0))","v":0}]
[3,{"$f":"IF(Paramètres!B8=0,\"\",Paramètres!B8)","v":""},0,null,null,0,{"$f":"IF(I$6=\"Error\",\"Error\",IF(AND($E$6<>\"/\",$E$6>'Paramètres - Admin'!$A4),'Paramètres - Admin'!$A5,\"/\"))","v":3},{"$f":"IF(G10<>\"/\",VLOOKUP(G10,COSTS_Gold_Mine[#All],2),\"/\")","v":700},{"$f":"IF(G10<>\"/\",VLOOKUP(G10,COSTS_Gold_Mine[#All],3),\"/\")","v":0.25},0,0,3,{"$f":"IF(Paramètres!C8=0,\"\",Paramètres!C8)","v":""},0,null,null,0,{"$f":"IF(T$6=\"Error\",\"Error\",IF(AND($P$6<>\"/\",$P$6>'Paramètres - Admin'!$A4),'Paramètres - Admin'!$A5,\"/\"))","v":3},{"$f":"IF(R10<>\"/\",VLOOKUP(R10,COSTS_Elixir_Collector[#All],2),\"/\")","v":700},{"$f":"IF(R10<>\"/\",VLOOKUP(R10,COSTS_Elixir_Collector[#All],3),\"/\")","v":0.25},0,0]
[4,{"$f":"IF(Paramètres!B9=0,\"\",Paramètres!B9)","v":""},0,null,null,0,{"$f":"IF(I$6=\"Error\",\"Error\",IF(AND($E$6<>\"/\",$E$6>'Paramètres - Admin'!$A5),'Paramètres - Admin'!$A6,\"/\"))","v":4},{"$f":"IF(G11<>\"/\",VLOOKUP(G11,COSTS_Gold_Mine[#All],2),\"/\")","v":1400},{"$f":"IF(G11<>\"/\",VLOOKUP(G11,COSTS_Gold_Mine[#All],3),\"/\")","v":1},0,0,4,{"$f":"IF(Paramètres!C9=0,\"\",Paramètres!C9)","v":""},0,null,null,0,{"$f":"IF(T$6=\"Error\",\"Error\",IF(AND($P$6<>\"/\",$P$6>'Paramètres - Admin'!$A5),'Paramètres - Admin'!$A6,\"/\"))","v":4},{"$f":"IF(R11<>\"/\",VLOOKUP(R11,COSTS_Elixir_Collector[#All],2),\"/\")","v":1400},{"$f":"IF(R11<>\"/\",VLOOKUP(R11,COSTS_Elixir_Collector[#All],3),\"/\")","v":1},0,0]
[5,{"$f":"IF(Paramètres!B10=0,\"\",Paramètres!B10)","v":""},0,null,null,0,{"$f":"IF(I$6=\"Error\",\"Error\",IF(AND($E$6<>\"/\",$E$6>'Paramètres - Admin'!$A6),'Paramètres - Admin'!$A7,\"/\"))","v":5},{"$f":"IF(G12<>\"/\",VLOOKUP(G12,COSTS_Gold_Mine[#All],2),\"/\")","v":3000},{"$f":"IF(G12<>\"/\",VLOOKUP(G12,COSTS_Gold_Mine[#All],3),\"/\")","v":2},0,0,5,{"$f":"IF(Paramètres!C10=0,\"\",Paramètres!C10)","v":""},0,null,null,0,{"$f":"IF(T$6=\"Error\",\"Error\",IF(AND($P$6<>\"/\",$P$6>'Paramètres - Admin'!$A6),'Paramètres - Admin'!$A7,\"/\"))","v":5},{"$f":"IF(R12<>\"/\",VLOOKUP(R12,COSTS_Elixir_Collector[#All],2),\"/\")","v":3000},{"$f":"IF(R12<>\"/\",VLOOKUP(R12,COSTS_Elixir_Collector[#All],3),\"/\")","v":2},0,0]
[6,{"$f":"IF(Paramètres!B11=0,\"\",Paramètres!B11)","v":""},0,null,null,0,{"$f":"IF(I$6=\"Error\",\"Error\",IF(AND($E$6<>\"/\",$E$6>'Paramètres - Admin'!$A7),'Paramètres - Admin'!$A8,\"/\"))","v":6},{"$f":"IF(G13<>\"/\",VLOOKUP(G13,COSTS_Gold_Mine[#All],2),\"/\")","v":7000},{"$f":"IF(G13<>\"/\",VLOOKUP(G13,COSTS_Gold_Mine[#All],3),\"/\")","v":6},0,0,6,{"$f":"IF(Paramètres!C11=0,\"\",Paramètres!C11)","v":""},0,null,null,0,{"$f":"IF(T$6=\"Error\",\"Error\",IF(AND($P$6<>\"/\",$P$6>'Paramètres - Admin'!$A7),'Paramètres - Admin'!$A8,\"/\"))","v":6},{"$f":"IF(R13<>\"/\",VLOOKUP(R13,COSTS_Elixir_Collector[#All],2),\"/\")","v":7000},{"$f":"IF(R13<>\"/\",VLOOKUP(R13,COSTS_Elixir_Collector[#All],3),\"/\")","v":6},0,0]
[7,{"$f":"IF(Paramètres!B12=0,\"\",Paramètres!B12)","v":""},0,null,null,0,{"$f":"IF(I$6=\"Error\",\"Error\",IF(AND($E$6<>\"/\",$E$6>'Paramètres - Admin'!$A8),'Paramètres - Admin'!$A9,\"/\"))","v":7},{"$f":"IF(G14<>\"/\",VLOOKUP(G14,COSTS_Gold_Mine[#All],2),\"/\")","v":14000},{"$f":"IF(G14<>\"/\",VLOOKUP(G14,COSTS_Gold_Mine[#All],3),\"/\")","v":12},0,0,7,{"$f":"IF(Paramètres!C12=0,\"\",Paramètres!C12)","v":""},0,null,null,0,{"$f":"IF(T$6=\"Error\",\"Error\",IF(AND($P$6<>\"/\",$P$6>'Paramètres - Admin'!$A8),'Paramètres - Admin'!$A9,\"/\"))","v":7},{"$f":"IF(R14<>\"/\",VLOOKUP(R14,COSTS_Elixir_Collector[#All],2),\"/\")","v":14000},{"$f":"IF(R14<>\"/\",VLOOKUP(R14,COSTS_Elixir_Collector[#All],3),\"/\")","v":12},0,0]
[8,{"$f":"IF(Paramètres!B13=0,\"\",Paramètres!B13)","v":""},0,null,null,0,{"$f":"IF(I$6=\"Error\",\"Error\",IF(AND($E$6<>\"/\",$E$6>'Paramètres - Admin'!$A9),'Paramètres - Admin'!$A10,\"/\"))","v":8},{"$f":"IF(G15<>\"/\",VLOOKUP(G15,COSTS_Gold_Mine[#All],2),\"/\")","v":28000},{"$f":"IF(G15<>\"/\",VLOOKUP(G15,COSTS_Gold_Mine[#All],3),\"/\")","v":24},0,0,8,{"$f":"IF(Paramètres!C13=0,\"\",Paramètres!C13)","v":""},0,null,null,0,{"$f":"IF(T$6=\"Error\",\"Error\",IF(AND($P$6<>\"/\",$P$6>'Paramètres - Admin'!$A9),'Paramètres - Admin'!$A10,\"/\"))","v":8},{"$f":"IF(R15<>\"/\",VLOOKUP(R15,COSTS_Elixir_Collector[#All],2),\"/\")","v":28000},{"$f":"IF(R15<>\"/\",VLOOKUP(R15,COSTS_Elixir_Collector[#All],3),\"/\")","v":24},0,0]
[9,{"$f":"IF(Paramètres!B14=0,\"\",Paramètres!B14)","v":""},0,null,null,0,{"$f":"IF(I$6=\"Error\",\"Error\",IF(AND($E$6<>\"/\",$E$6>'Paramètres - Admin'!$A10),'Paramètres - Admin'!$A11,\"/\"))","v":9},{"$f":"IF(G16<>\"/\",VLOOKUP(G16,COSTS_Gold_Mine[#All],2),\"/\")","v":56000},{"$f":"IF(G16<>\"/\",VLOOKUP(G16,COSTS_Gold_Mine[#All],3),\"/\")","v":48},0,0,9,{"$f":"IF(Paramètres!C14=0,\"\",Paramètres!C14)","v":""},0,null,null,0,{"$f":"IF(T$6=\"Error\",\"Error\",IF(AND($P$6<>\"/\",$P$6>'Paramètres - Admin'!$A10),'Paramètres - Admin'!$A11,\"/\"))","v":9},{"$f":"IF(R16<>\"/\",VLOOKUP(R16,COSTS_Elixir_Collector[#All],2),\"/\")","v":56000},{"$f":"IF(R16<>\"/\",VLOOKUP(R16,COSTS_Elixir_Collector[#All],3),\"/\")","v":48},0,0]
[10,{"$f":"IF(Paramètres!B15=0,\"\",Paramètres!B15)","v":""},0,null,null,0,{"$f":"IF(I$6=\"Error\",\"Error\",IF(AND($E$6<>\"/\",$E$6>'Paramètres - Admin'!$A11),'Paramètres - Admin'!$A12,\"/\"))","v":10},{"$f":"IF(G17<>\"/\",VLOOKUP(G17,COSTS_Gold_Mine[#All],2),\"/\")","v":84000},{"$f":"IF(G17<>\"/\",VLOOKUP(G17,COSTS_Gold_Mine[#All],3),\"/\")","v":72},0,0,10,{"$f":"IF(Paramètres!C15=0,\"\",Paramètres!C15)","v":""},0,null,null,0,{"$f":"IF(T$6=\"Error\",\"Error\",IF(AND($P$6<>\"/\",$P$6>'Paramètres - Admin'!$A11),'Paramètres - Admin'!$A12,\"/\"))","v":10},{"$f":"IF(R17<>\"/\",VLOOKUP(R17,COSTS_Elixir_Collector[#All],2),\"/\")","v":84000},{"$f":"IF(R17<>\"/\",VLOOKUP(R17,COSTS_Elixir_Collector[#All],3),\"/\")","v":72},0,0]
[11,{"$f":"IF(Paramètres!B16=0,\"\",Paramètres!B16)","v":1},0,null,null,0,{"$f":"IF(I$6=\"Error\",\"Error\",IF(AND($E$6<>\"/\",$E$6>'Paramètres - Admin'!$A12),'Paramètres - Admin'!$A13,\"/\"))","v":11},{"$f":"IF(G18<>\"/\",VLOOKUP(G18,COSTS_Gold_Mine[#All],2),\"/\")","v":168000},{"$f":"IF(G18<>\"/\",VLOOKUP(G18,COSTS_Gold_Mine[#All],3),\"/\")","v":96},0,0,11,{"$f":"IF(Paramètres!C16=0,\"\",Paramètres!C16)","v":7},{"$f":"IF(N17<>0,N17+IF(AND(M17<>\"\",L17<P$6),M17,0),IF(AND(M17<>\"\",L17<P$6),M17,0))","v":0},null,null,{"$f":"IF(R18<>\"/\",IF(T$6=\"Error\",\"Error\",$U$6+N18),\"/\")","v":0},{"$f":"IF(T$6=\"Error\",\"Error\",IF(AND($P$6<>\"/\",$P$6>'Paramètres - Admin'!$A12),'Paramètres - Admin'!$A13,\"/\"))","v":11},{"$f":"IF(R18<>\"/\",VLOOKUP(R18,COSTS_Elixir_Collector[#All],2),\"/\")","v":168000},{"$f":"IF(R18<>\"/\",VLOOKUP(R18,COSTS_Elixir_Collector[#All],3),\"/\")","v":96},{"$f":"IF(T$6=\"Error\",\"Error\",IF(S18<>\"/\",Q18*S18,0))","v":0},{"$f":"IF(T$6=\"Error\",\"Error\",IF(T18<>\"/\",Q18*T18,0))","v":0}]
[12,{"$f":"IF(Paramètres!B17=0,\"\",Paramètres!B17)","v":6},{"$f":"IF(C18<>0,C18+IF(AND(B18<>\"\",A18<E$6),B18,0),IF(AND(B18<>\"\",A18<E$6),B18,0))","v":1},null,null,{"$f":"IF(G19<>\"/\",IF(I$6=\"Error\",\"Error\",$J$6+C19),\"/\")","v":1},{"$f":"IF(I$6=\"Error\",\"Error\",IF(AND($E$6<>\"/\",$E$6>'Paramètres - Admin'!$A13),'Paramètres - Admin'!$A14,\"/\"))","v":12},{"$f":"IF(G19<>\"/\",VLOOKUP(G19,COSTS_Gold_Mine[#All],2),\"/\")","v":336000},{"$f":"IF(G19<>\"/\",VLOOKUP(G19,COSTS_Gold_Mine[#All],3),\"/\")","v":120},{"$f":"IF(I$6=\"Error\",\"Error\",IF(H19<>\"/\",F19*H19,0))","v":336000},{"$f":"IF(I$6=\"Error\",\"Error\",IF(I19<>\"/\",F19*I19,0))","v":120},12,{"$f":"IF(Paramètres!C17=0,\"\",Paramètres!C17)","v":""},{"$f":"IF(N18<>0,N18+IF(AND(M18<>\"\",L18<P$6),M18,0),IF(AND(M18<>\"\",L18<P$6),M18,0))","v":7},null,null,{"$f":"IF(R19<>\"/\",IF(T$6=\"Error\",\"Error\",$U$6+N19),\"/\")","v":7},{"$f":"IF(T$6=\"Error\",\"Error\",IF(AND($P$6<>\"/\",$P$6>'Paramètres - Admin'!$A13),'Paramètres - Admin'!$A14,\"/\"))","v":12},{"$f":"IF(R19<>\"/\",VLOOKUP(R19,COSTS_Elixir_Collector[#All],2),\"/\")","v":336000},{"$f":"IF(R19<>\"/\",VLOOKUP(R19,COSTS_Elixir_Collector[#All],3),\"/\")","v":120},{"$f":"IF(T$6=\"Error\",\"Error\",IF(S19<>\"/\",Q19*S19,0))","v":2352000},{"$f":"IF(T$6=\"Error\",\"Error\",IF(T19<>\"/\",Q19*T19,0))","v":840}]
[null,null,null,null,null,null,null,null,"Total",{"$f":"IF(I$6=\"Error\",\"Error\",SUM(J8:J19))","v":336000},{"$f":"IF(I$6=\"Error\",\"Error\",SUM(K8:K19))","v":120},null,null,null,null,null,null,null,null,"Total",{"$f":"IF(T$6=\"Error\",\"Error\",SUM(U8:U19))","v":2352000},{"$f":"IF(T$6=\"Error\",\"Error\",SUM(V8:V19))","v":840}]
["Foreuse d'Élixir Noir",null,null,"Max","Max +",null,null,null,"Actuel","À Faire","Améliorations","Réservoir d'Élixir",null,null,"Max","Max +",null,null,null,"Actuel","À Faire","Améliorations"]
[null,null,null,{"$f":"VLOOKUP($A$2,AVAILABLE_Buildings_Resource[#All],MATCH(A21,AVAILABLE_Buildings_Resource[#Headers],0))","v":3},{"$f":"VLOOKUP($A$2,AVAILABLE_Buildings_Resource[#All],MATCH(A21,AVAILABLE_Buildings_Resource[#Headers],0)+1)","v":6},null,null,null,{"$f":"IF(SUM(B24:B29)>D22,\"Error\",SUM(B24:B29))","v":3},{"$f":"IF(I$22=\"Error\",\"Error\",D22-I22)","v":0},{"$f":"IF(I$22=\"Error\",\"Error\",SUM(F24:F29))","v":6},null,null,null,{"$f":"VLOOKUP($A$2,AVAILABLE_Buildings_Resource[#All],MATCH(L21,AVAILABLE_Buildings_Resource[#Headers],0))","v":4},{"$f":"VLOOKUP($A$2,AVAILABLE_Buildings_Resource[#All],MATCH(L21,AVAILABLE_Buildings_Resource[#Headers],0)+1)","v":11},null,null,null,{"$f":"IF(SUM(M24:M34)>O22,\"Error\",SUM(M24:M34))","v":4},{"$f":"IF(T$22=\"Error\",\"Error\",O22-T22)","v":0},{"$f":"IF(T$22=\"Error\",\"Error\",SUM(Q24:Q34))","v":0}]
["+","NB",null,null,null,"NB","+","Coût","Temps","Coût Total","Temps Total","+","NB",null,null,null,"NB","+","Coût","Temps","Coût Total","Temps Total"]
[1,{"$f":"IF(Paramètres!D6=0,\"\",Paramètres!D6)","v":""},{"$f":"IF(C23<>0,C23+IF(AND(B23<>\"\",A23<E$6),B23,0),IF(AND(B23<>\"\",A23<E$6),B23,0))","v":0},null,null,{"$f":"IF(G24<>\"/\",IF(I$22=\"Error\",\"Error\",$J$22+C24),\"/\")","v":0},{"$f":"IF(I$22=\"Error\",\"Error\",IF(AND($E$22<>\"/\",$E$22>'Paramètres - Admin'!$A2),'Paramètres - Admin'!$A3,\"/\"))","v":1},{"$f":"IF(G24<>\"/\",VLOOKUP(G24,COSTS_Dark_Elixir_Drill[#All],2),\"/\")","v":1000000},{"$f":"IF(G24<>\"/\",VLOOKUP(G24,COSTS_Dark_Elixir_Drill[#All],3),\"/\")","v":24},{"$f":"IF(I$22=\"Error\",\"Error\",IF(H24<>\"/\",F24*H24,0))","v":0},{"$f":"IF(I$22=\"Error\",\"Error\",IF(I24<>\"/\",F24*I24,0))","v":0},1,{"$f":"IF(Paramètres!F6=0,\"\",Paramètres!F6)","v":""},{"$f":"IF(N23<>0,N23+IF(AND(M23<>\"\",L23<P$6),M23,0),IF(AND(M23<>\"\",L23<P$6),M23,0))","v":0},null,null,{"$f":"IF(R24<>\"/\",IF(T$22=\"Error\",\"Error\",$U$22+N24),\"/\")","v":0},{"$f":"IF(T$22=\"Error\",\"Error\",IF(AND($P$22<>\"/\",$P$22>'Paramètres - Admin'!$A2),'Paramètres - Admin'!$A3,\"/\"))","v":1},{"$f":"IF(R24<>\"/\",VLOOKUP(R24,COSTS_Elixir_Storage[#All],2),\"/\")","v":300},{"$f":"IF(R24<>\"/\",VLOOKUP(R24,COSTS_Elixir_Storage[#All],3),\"/\")","v":0.25},{"$f":"IF(T$22=\"Error\",\"Error\",IF(S24<>\"/\",Q24*S24,0))","v":0},{"$f":"IF(T$22=\"Error\",\"Error\",IF(T24<>\"/\",Q24*T24,0))","v":0}]
[2,{"$f":"IF(Paramètres!D7=0,\"\",Paramètres!D7)","v":""},0,null,null,0,{"$f":"IF(I$22=\"Error\",\"Error\",IF(AND($E$22<>\"/\",$E$22>'Paramètres - Admin'!$A3),'Paramètres - Admin'!$A4,\"/\"))","v":2},{"$f":"IF(G25<>\"/\",VLOOKUP(G25,COSTS_Dark_Elixir_Drill[#All],2),\"/\")","v":1500000},{"$f":"IF(G25<>\"/\",VLOOKUP(G25,COSTS_Dark_Elixir_Drill[#All],3),\"/\")","v":48},0,0,2,{"$f":"IF(Paramètres!F7=0,\"\",Paramètres!F7)","v":""},0,null,null,0,{"$f":"IF(T$22=\"Error\",\"Error\",IF(AND($P$22<>\"/\",$P$22>'Paramètres - Admin'!$A3),'Paramètres - Admin'!$A4,\"/\"))","v":2},{"$f":"IF(R25<>\"/\",VLOOKUP(R25,COSTS_Elixir_Storage[#All],2),\"/\")","v":750},{"$f":"IF(R25<>\"/\",VLOOKUP(R25,COSTS_Elixir_Storage[#All],3),\"/\")","v":0.5},0,0]
[3,{"$f":"IF(Paramètres!D8=0,\"\",Paramètres!D8)","v":""},0,null,null,0,{"$f":"IF(I$22=\"Error\",\"Error\",IF(AND($E$22<>\"/\",$E$22>'Paramètres - Admin'!$A4),'Paramètres - Admin'!$A5,\"/\"))","v":3},{"$f":"IF(G26<>\"/\",VLOOKUP(G26,COSTS_Dark_Elixir_Drill[#All],2),\"/\")","v":2000000},{"$f":"IF(G26<>\"/\",VLOOKUP(G26,COSTS_Dark_Elixir_Drill[#All],3),\"/\")","v":72},0,0,3,{"$f":"IF(Paramètres!F8=0,\"\",Paramètres!F8)","v":""},0,null,null,0,{"$f":"IF(T$22=\"Error\",\"Error\",IF(AND($P$22<>\"/\",$P$22>'Paramètres - Admin'!$A4),'Paramètres - Admin'!$A5,\"/\"))","v":3},{"$f":"IF(R26<>\"/\",VLOOKUP(R26,COSTS_Elixir_Storage[#All],2),\"/\")","v":1500},{"$f":"IF(R26<>\"/\",VLOOKUP(R26,COSTS_Elixir_Storage[#All],3),\"/\")","v":1},0,0]
[4,{"$f":"IF(Paramètres!D9=0,\"\",Paramètres!D9)","v":3},0,null,null,0,{"$f":"IF(I$22=\"Error\",\"Error\",IF(AND($E$22<>\"/\",$E$22>'Paramètres - Admin'!$A5),'Paramètres - Admin'!$A6,\"/\"))","v":4},{"$f":"IF(G27<>\"/\",VLOOKUP(G27,COSTS_Dark_Elixir_Drill[#All],2),\"/\")","v":3000000},{"$f":"IF(G27<>\"/\",VLOOKUP(G27,COSTS_Dark_Elixir_Drill[#All],3),\"/\")","v":96},0,0,4,{"$f":"IF(Paramètres!F9=0,\"\",Paramètres!F9)","v":""},0,null,null,0,{"$f":"IF(T$22=\"Error\",\"Error\",IF(AND($P$22<>\"/\",$P$22>'Paramètres - Admin'!$A5),'Paramètres - Admin'!$A6,\"/\"))","v":4},{"$f":"IF(R27<>\"/\",VLOOKUP(R27,COSTS_Elixir_Storage[#All],2),\"/\")","v":3000},{"$f":"IF(R27<>\"/\",VLOOKUP(R27,COSTS_Elixir_Storage[#All],3),\"/\")","v":2},0,0]
[5,{"$f":"IF(Paramètres!D10=0,\"\",Paramètres!D10)","v":""},3,null,null,3,{"$f":"IF(I$22=\"Error\",\"Error\",IF(AND($E$22<>\"/\",$E$22>'Paramètres - Admin'!$A6),'Paramètres - Admin'!$A7,\"/\"))","v":5},{"$f":"IF(G28<>\"/\",VLOOKUP(G28,COSTS_Dark_Elixir_Drill[#All],2),\"/\")","v":4000000},{"$f":"IF(G28<>\"/\",VLOOKUP(G28,COSTS_Dark_Elixir_Drill[#All],3),\"/\")","v":144},12000000,432,5,{"$f":"IF(Paramètres!F10=0,\"\",Paramètres!F10)","v":""},0,null,null,0,{"$f":"IF(T$22=\"Error\",\"Error\",IF(AND($P$22<>\"/\",$P$22>'Paramètres - Admin'!$A6),'Paramètres - Admin'!$A7,\"/\"))","v":5},{"$f":"IF(R28<>\"/\",VLOOKUP(R28,COSTS_Elixir_Storage[#All],2),\"/\")","v":6000},{"$f":"IF(R28<>\"/\",VLOOKUP(R28,COSTS_Elixir_Storage[#All],3),\"/\")","v":3},0,0]
[6,{"$f":"IF(Paramètres!D11=0,\"\",Paramètres!D11)","v":""},3,null,null,3,{"$f":"IF(I$22=\"Error\",\"Error\",IF(AND($E$22<>\"/\",$E$22>'Paramètres - Admin'!$A7),'Paramètres - Admin'!$A8,\"/\"))","v":6},{"$f":"IF(G29<>\"/\",VLOOKUP(G29,COSTS_Dark_Elixir_Drill[#All],2),\"/\")","v":5000000},{"$f":"IF(G29<>\"/\",VLOOKUP(G29,COSTS_Dark_Elixir_Drill[#All],3),\"/\")","v":192},15000000,576,6,{"$f":"IF(Paramètres!F11=0,\"\",Paramètres!F11)","v":""},0,null,null,0,{"$f":"IF(T$22=\"Error\",\"Error\",IF(AND($P$22<>\"/\",$P$22>'Paramètres - Admin'!$A7),'Paramètres - Admin'!$A8,\"/\"))","v":6},{"$f":"IF(R29<>\"/\",VLOOKUP(R29,COSTS_Elixir_Storage[#All],2),\"/\")","v":12000},{"$f":"IF(R29<>\"/\",VLOOKUP(R29,COSTS_Elixir_Storage[#All],3),\"/\")","v":4},0,0]
[null,null,null,null,null,null,null,null,"Total",{"$f":"IF(I$22=\"Error\",\"Error\",SUM(J24:J29))","v":27000000},{"$f":"IF(I$22=\"Error\",\"Error\",SUM(K24:K29))","v":1008},7,{"$f":"IF(Paramètres!F12=0,\"\",Paramètres!F12)","v":""},0,null,null,0,{"$f":"IF(T$22=\"Error\",\"Error\",IF(AND($P$22<>\"/\",$P$22>'Paramètres - Admin'!$A8),'Paramètres - Admin'!$A9,\"/\"))","v":7},{"$f":"IF(R30<>\"/\",VLOOKUP(R30,COSTS_Elixir_Storage[#All],2),\"/\")","v":25000},{"$f":"IF(R30<>\"/\",VLOOKUP(R30,COSTS_Elixir_Storage[#All],3),\"/\")","v":6},0,0]
["Réserve d'Or",null,null,"Max","Max +",null,null,null,"Actuel","À Faire","Améliorations",8,{"$f":"IF(Paramètres!F13=0,\"\",Paramètres!F13)","v":""},0,null,null,0,{"$f":"IF(T$22=\"Error\",\"Error\",IF(AND($P$22<>\"/\",$P$22>'Paramètres - Admin'!$A9),'Paramètres - Admin'!$A10,\"/\"))","v":8},{"$f":"IF(R31<>\"/\",VLOOKUP(R31,COSTS_Elixir_Storage[#All],2),\"/\")","v":50000},{"$f":"IF(R31<>\"/\",VLOOKUP(R31,COSTS_Elixir_Storage[#All],3),\"/\")","v":8},0,0]
[null,null,null,{"$f":"VLOOKUP($A$2,AVAILABLE_Buildings_Resource[#All],MATCH(A31,AVAILABLE_Buildings_Resource[#Headers],0))","v":4},{"$f":"VLOOKUP($A$2,AVAILABLE_Buildings_Resource[#All],MATCH(A31,AVAILABLE_Buildings_Resource[#Headers],0)+1)","v":11},null,null,null,{"$f":"IF(SUM(B34:B44)>D32,\"Error\",SUM(B34:B44))","v":4},{"$f":"IF(I$32=\"Error\",\"Error\",D32-I32)","v":0},{"$f":"IF(I$32=\"Error\",\"Error\",SUM(F34:F44))","v":0},9,{"$f":"IF(Paramètres!F14=0,\"\",Paramètres!F14)","v":""},0,null,null,0,{"$f":"IF(T$22=\"Error\",\"Error\",IF(AND($P$22<>\"/\",$P$22>'Paramètres - Admin'!$A10),'Paramètres - Admin'!$A11,\"/\"))","v":9},{"$f":"IF(R32<>\"/\",VLOOKUP(R32,COSTS_Elixir_Storage[#All],2),\"/\")","v":100000},{"$f":"IF(R32<>\"/\",VLOOKUP(R32,COSTS_Elixir_Storage[#All],3),\"/\")","v":12},0,0]
["+","NB",null,null,null,"NB","+","Coût","Temps","Coût Total","Temps Total",10,{"$f":"IF(Paramètres!F15=0,\"\",Paramètres!F15)","v":""},0,null,null,0,{"$f":"IF(T$22=\"Error\",\"Error\",IF(AND($P$22<>\"/\",$P$22>'Paramètres - Admin'!$A11),'Paramètres - Admin'!$A12,\"/\"))","v":10},{"$f":"IF(R33<>\"/\",VLOOKUP(R33,COSTS_Elixir_Storage[#All],2),\"/\")","v":250000},{"$f":"IF(R33<>\"/\",VLOOKUP(R33,COSTS_Elixir_Storage[#All],3),\"/\")","v":24},0,0]
[1,{"$f":"IF(Paramètres!E6=0,\"\",Paramètres!E6)","v":""},{"$f":"IF(C33<>0,C33+IF(AND(B33<>\"\",A33<E$6),B33,0),IF(AND(B33<>\"\",A33<E$6),B33,0))","v":0},null,null,{"$f":"IF(G34<>\"/\",IF(I$32=\"Error\",\"Error\",$J$32+C34),\"/\")","v":0},{"$f":"IF(I$32=\"Error\",\"Error\",IF(AND($E$32<>\"/\",$E$32>'Paramètres - Admin'!$A2),'Paramètres - Admin'!$A3,\"/\"))","v":1},{"$f":"IF(G34<>\"/\",VLOOKUP(G34,COSTS_Gold_Storage[#All],2),\"/\")","v":300},{"$f":"IF(G34<>\"/\",VLOOKUP(G34,COSTS_Gold_Storage[#All],3),\"/\")","v":0.25},{"$f":"IF(I$32=\"Error\",\"Error\",IF(H34<>\"/\",F34*H34,0))","v":0},{"$f":"IF(I$32=\"Error\",\"Error\",IF(I34<>\"/\",F34*I34,0))","v":0},11,{"$f":"IF(Paramètres!F16=0,\"\",Paramètres!F16)","v":4},0,null,null,0,{"$f":"IF(T$22=\"Error\",\"Error\",IF(AND($P$22<>\"/\",$P$22>'Paramètres - Admin'!$A12),'Paramètres - Admin'!$A13,\"/\"))","v":11},{"$f":"IF(R34<>\"/\",VLOOKUP(R34,COSTS_Elixir_Storage[#All],2),\"/\")","v":500000},{"$f":"IF(R34<>\"/\",VLOOKUP(R34,COSTS_Elixir_Storage[#All],3),\"/\")","v":48},0,0]
[2,{"$f":"IF(Paramètres!E7=0,\"\",Paramètres!E7)","v":""},0,null,null,0,{"$f":"IF(I$32=\"Error\",\"Error\",IF(AND($E$32<>\"/\",$E$32>'Paramètres - Admin'!$A3),'Paramètres - Admin'!$A4,\"/\"))","v":2},{"$f":"IF(G35<>\"/\",VLOOKUP(G35,COSTS_Gold_Storage[#All],2),\"/\")","v":750},{"$f":"IF(G35<>\"/\",VLOOKUP(G35,COSTS_Gold_Storage[#All],3),\"/\")","v":0.5},0,0,null,null,null,null,null,null,null,null,"Total",{"$f":"IF(T$22=\"Error\",\"Error\",SUM(U24:U34))","v":0},{"$f":"IF(T$22=\"Error\",\"Error\",SUM(V24:V34))","v":0}]
[3,{"$f":"IF(Paramètres!E8=0,\"\",Paramètres!E8)","v":""},0,null,null,0,{"$f":"IF(I$32=\"Error\",\"Error\",IF(AND($E$32<>\"/\",$E$32>'Paramètres - Admin'!$A4),'Paramètres - Admin'!$A5,\"/\"))","v":3},{"$f":"IF(G36<>\"/\",VLOOKUP(G36,COSTS_Gold_Storage[#All],2),\"/\")","v":1500},{"$f":"IF(G36<>\"/\",VLOOKUP(G36,COSTS_Gold_Storage[#All],3),\"/\")","v":1},0,0]
[4,{"$f":"IF(Paramètres!E9=0,\"\",Paramètres!E9)","v":""},0,null,null,0,{"$f":"IF(I$32=\"Error\",\"Error\",IF(AND($E$32<>\"/\",$E$32>'Paramètres - Admin'!$A5),'Paramètres - Admin'!$A6,\"/\"))","v":4},{"$f":"IF(G37<>\"/\",VLOOKUP(G37,COSTS_Gold_Storage[#All],2),\"/\")","v":3000},{"$f":"IF(G37<>\"/\",VLOOKUP(G37,COSTS_Gold_Storage[#All],3),\"/\")","v":2},0,0]
[5,{"$f":"IF(Paramètres!E10=0,\"\",Paramètres!E10)","v":""},0,null,null,0,{"$f":"IF(I$32=\"Error\",\"Error\",IF(AND($E$32<>\"/\",$E$32>'Paramètres - Admin'!$A6),'Paramètres - Admin'!$A7,\"/\"))","v":5},{"$f":"IF(G38<>\"/\",VLOOKUP(G38,COSTS_Gold_Storage[#All],2),\"/\")","v":6000},{"$f":"IF(G38<>\"/\",VLOOKUP(G38,COSTS_Gold_Storage[#All],3),\"/\")","v":3},0,0]
[6,{"$f":"IF(Paramètres!E11=0,\"\",Paramètres!E11)","v":""},0,null,null,0,{"$f":"IF(I$32=\"Error\",\"Error\",IF(AND($E$32<>\"/\",$E$32>'Paramètres - Admin'!$A7),'Paramètres - Admin'!$A8,\"/\"))","v":6},{"$f":"IF(G39<>\"/\",VLOOKUP(G39,COSTS_Gold_Storage[#All],2),\"/\")","v":12000},{"$f":"IF(G39<>\"/\",VLOOKUP(G39,COSTS_Gold_Storage[#All],3),\"/\")","v":4},0,0]
[7,{"$f":"IF(Paramètres!E12=0,\"\",Paramètres!E12)","v":""},0,null,null,0,{"$f":"IF(I$32=\"Error\",\"Error\",IF(AND($E$32<>\"/\",$E$32>'Paramètres - Admin'!$A8),'Paramètres - Admin'!$A9,\"/\"))","v":7},{"$f":"IF(G40<>\"/\",VLOOKUP(G40,COSTS_Gold_Storage[#All],2),\"/\")","v":25000},{"$f":"IF(G40<>\"/\",VLOOKUP(G40,COSTS_Gold_Storage[#All],3),\"/\")","v":6},0,0]
[8,{"$f":"IF(Paramètres!E13=0,\"\",Paramètres!E13)","v":""},0,null,null,0,{"$f":"IF(I$32=\"Error\",\"Error\",IF(AND($E$32<>\"/\",$E$32>'Paramètres - Admin'!$A9),'Paramètres - Admin'!$A10,\"/\"))","v":8},{"$f":"IF(G41<>\"/\",VLOOKUP(G41,COSTS_Gold_Storage[#All],2),\"/\")","v":50000},{"$f":"IF(G41<>\"/\",VLOOKUP(G41,COSTS_Gold_Storage[#All],3),\"/\")","v":8},0,0]
[9,{"$f":"IF(Paramètres!E14=0,\"\",Paramètres!E14)","v":""},0,null,null,0,{"$f":"IF(I$32=\"Error\",\"Error\",IF(AND($E$32<>\"/\",$E$32>'Paramètres - Admin'!$A10),'Paramètres - Admin'!$A11,\"/\"))","v":9},{"$f":"IF(G42<>\"/\",VLOOKUP(G42,COSTS_Gold_Storage[#All],2),\"/\")","v":100000},{"$f":"IF(G42<>\"/\",VLOOKUP(G42,COSTS_Gold_Storage[#All],3),\"/\")","v":12},0,0]
[10,{"$f":"IF(Paramètres!E15=0,\"\",Paramètres!E15)","v":""},0,null,null,0,{"$f":"IF(I$32=\"Error\",\"Error\",IF(AND($E$32<>\"/\",$E$32>'Paramètres - Admin'!$A11),'Paramètres - Admin'!$A12,\"/\"))","v":10},{"$f":"IF(G43<>\"/\",VLOOKUP(G43,COSTS_Gold_Storage[#All],2),\"/\")","v":250000},{"$f":"IF(G43<>\"/\",VLOOKUP(G43,COSTS_Gold_Storage[#All],3),\"/\")","v":24},0,0]
[11,{"$f":"IF(Paramètres!E16=0,\"\",Paramètres!E16)","v":4},0,null,null,0,{"$f":"IF(I$32=\"Error\",\"Error\",IF(AND($E$32<>\"/\",$E$32>'Paramètres - Admin'!$A12),'Paramètres - Admin'!$A13,\"/\"))","v":11},{"$f":"IF(G44<>\"/\",VLOOKUP(G44,COSTS_Gold_Storage[#All],2),\"/\")","v":500000},{"$f":"IF(G44<>\"/\",VLOOKUP(G44,COSTS_Gold_Storage[#All],3),\"/\")","v":48},0,0]
[null,null,null,null,null,null,null,null,"Total",{"$f":"IF(I$32=\"Error\",\"Error\",SUM(J34:J44))","v":0},{"$f":"IF(I$32=\"Error\",\"Error\",SUM(K34:K44))","v":0}]
["Réservoir d'Élixir Noir",null,null,"Max","Max +",null,null,null,"Actuel","À Faire","Améliorations"]
[null,null,null,{"$f":"VLOOKUP($A$2,AVAILABLE_Buildings_Resource[#All],MATCH(A46,AVAILABLE_Buildings_Resource[#Headers],0))","v":1},{"$f":"VLOOKUP($A$2,AVAILABLE_Buildings_Resource[#All],MATCH(A46,AVAILABLE_Buildings_Resource[#Headers],0)+1)","v":6},null,null,null,{"$f":"IF(SUM(B49:B54)>D47,\"Error\",SUM(B49:B54))","v":1},{"$f":"IF(I$47=\"Error\",\"Error\",D47-I47)","v":0},{"$f":"IF(I$47=\"Error\",\"Error\",SUM(F49:F54))","v":1}]
["+","NB",null,null,null,"NB","+","Coût","Temps","Coût Total","Temps Total"]
[1,{"$f":"IF(Paramètres!G6=0,\"\",Paramètres!G6)","v":""},{"$f":"IF(C48<>0,C48+IF(AND(B48<>\"\",A48<E$6),B48,0),IF(AND(B48<>\"\",A48<E$6),B48,0))","v":0},null,null,{"$f":"IF(G49<>\"/\",IF(I$47=\"Error\",\"Error\",$J$47+C49),\"/\")","v":0},{"$f":"IF(I$47=\"Error\",\"Error\",IF(AND($E$47<>\"/\",$E$47>'Paramètres - Admin'!$A2),'Paramètres - Admin'!$A3,\"/\"))","v":1},{"$f":"IF(G49<>\"/\",VLOOKUP(G49,COSTS_Dark_Elixir_Storage[#All],2),\"/\")","v":600000},{"$f":"IF(G49<>\"/\",VLOOKUP(G49,COSTS_Dark_Elixir_Storage[#All],3),\"/\")","v":24},{"$f":"IF(I$47=\"Error\",\"Error\",IF(H49<>\"/\",F49*H49,0))","v":0},{"$f":"IF(I$47=\"Error\",\"Error\",IF(I49<>\"/\",F49*I49,0))","v":0}]
[2,{"$f":"IF(Paramètres!G7=0,\"\",Paramètres!G7)","v":""},0,null,null,0,{"$f":"IF(I$47=\"Error\",\"Error\",IF(AND($E$47<>\"/\",$E$47>'Paramètres - Admin'!$A3),'Paramètres - Admin'!$A4,\"/\"))","v":2},{"$f":"IF(G50<>\"/\",VLOOKUP(G50,COSTS_Dark_Elixir_Storage[#All],2),\"/\")","v":1200000},{"$f":"IF(G50<>\"/\",VLOOKUP(G50,COSTS_Dark_Elixir_Storage[#All],3),\"/\")","v":48},0,0]
[3,{"$f":"IF(Paramètres!G8=0,\"\",Paramètres!G8)","v":""},0,null,null,0,{"$f":"IF(I$47=\"Error\",\"Error\",IF(AND($E$47<>\"/\",$E$47>'Paramètres - Admin'!$A4),'Paramètres - Admin'!$A5,\"/\"))","v":3},{"$f":"IF(G51<>\"/\",VLOOKUP(G51,COSTS_Dark_Elixir_Storage[#All],2),\"/\")","v":1800000},{"$f":"IF(G51<>\"/\",VLOOKUP(G51,COSTS_Dark_Elixir_Storage[#All],3),\"/\")","v":72},0,0]
[4,{"$f":"IF(Paramètres!G9=0,\"\",Paramètres!G9)","v":""},0,null,null,0,{"$f":"IF(I$47=\"Error\",\"Error\",IF(AND($E$47<>\"/\",$E$47>'Paramètres - Admin'!$A5),'Paramètres - Admin'!$A6,\"/\"))","v":4},{"$f":"IF(G52<>\"/\",VLOOKUP(G52,COSTS_Dark_Elixir_Storage[#All],2),\"/\")","v":2400000},{"$f":"IF(G52<>\"/\",VLOOKUP(G52,COSTS_Dark_Elixir_Storage[#All],3),\"/\")","v":96},0,0]
[5,{"$f":"IF(Paramètres!G10=0,\"\",Paramètres!G10)","v":1},0,null,null,0,{"$f":"IF(I$47=\"Error\",\"Error\",IF(AND($E$47<>\"/\",$E$47>'Paramètres - Admin'!$A6),'Paramètres - Admin'!$A7,\"/\"))","v":5},{"$f":"IF(G53<>\"/\",VLOOKUP(G53,COSTS_Dark_Elixir_Storage[#All],2),\"/\")","v":3000000},{"$f":"IF(G53<>\"/\",VLOOKUP(G53,COSTS_Dark_Elixir_Storage[#All],3),\"/\")","v":120},0,0]
[6,{"$f":"IF(Paramètres!G11=0,\"\",Paramètres!G11)","v":""},1,null,null,1,{"$f":"IF(I$47=\"Error\",\"Error\",IF(AND($E$47<>\"/\",$E$47>'Paramètres - Admin'!$A7),'Paramètres - Admin'!$A8,\"/\"))","v":6},{"$f":"IF(G54<>\"/\",VLOOKUP(G54,COSTS_Dark_Elixir_Storage[#All],2),\"/\")","v":3600000},{"$f":"IF(G54<>\"/\",VLOOKUP(G54,COSTS_Dark_Elixir_Storage[#All],3),\"/\")","v":144},3600000,144]
[null,null,null,null,null,null,null,null,"Total",{"$f":"IF(I$47=\"Error\",\"Error\",SUM(J49:J54))","v":3600000},{"$f":"IF(I$47=\"Error\",\"Error\",SUM(K49:K54))","v":144}]
[]
[]
["Bâtiments d'Armée"]
["Élixir"]
["Caserne",null,null,"Max","Max +",null,null,null,"Actuel","À Faire","Améliorations","Laboratoire",null,null,"Max","Max +",null,null,null,"Actuel","À Faire","Améliorations"]
[null,null,null,{"$f":"VLOOKUP($A$2,AVAILABLE_Buildings_Army[#All],MATCH(A60,AVAILABLE_Buildings_Army[#Headers],0))","v":4},{"$f":"VLOOKUP($A$2,AVAILABLE_Buildings_Army[#All],MATCH(A60,AVAILABLE_Buildings_Army[#Headers],0)+1)","v":10},null,null,null,{"$f":"IF(SUM(B63:B72)>D61,\"Error\",SUM(B63:B72))","v":4},{"$f":"IF(I$61=\"Error\",\"Error\",D61-I61)","v":0},{"$f":"IF(I$61=\"Error\",\"Error\",SUM(F63:F72))","v":1},null,null,null,{"$f":"VLOOKUP($A$2,AVAILABLE_Buildings_Army[#All],MATCH(L60,AVAILABLE_Buildings_Army[#Headers],0))","v":1},{"$f":"VLOOKUP($A$2,AVAILABLE_Buildings_Army[#All],MATCH(L60,AVAILABLE_Buildings_Army[#Headers],0)+1)","v":8},null,null,null,{"$f":"IF(SUM(M63:M70)>O61,\"Error\",SUM(M63:M70))","v":1},{"$f":"IF(T$61=\"Error\",\"Error\",O61-T61)","v":0},{"$f":"IF(T$61=\"Error\",\"Error\",SUM(Q63:Q70))","v":0}]
["+","NB",null,null,null,"NB","+","Coût","Temps","Coût Total","Temps Total","+","NB",null,null,null,"NB","+","Coût","Temps","Coût Total","Temps Total"]
[1,{"$f":"IF(Paramètres!H6=0,\"\",Paramètres!H6)","v":""},{"$f":"IF(C62<>0,C62+IF(AND(B62<>\"\",A62<E$6),B62,0),IF(AND(B62<>\"\",A62<E$6),B62,0))","v":0},null,null,{"$f":"IF(G63<>\"/\",IF(I$61=\"Error\",\"Error\",$J$61+C63),\"/\")","v":0},{"$f":"IF(I$61=\"Error\",\"Error\",IF(AND($E$61<>\"/\",$E$61>'Paramètres - Admin'!$A2),'Paramètres - Admin'!$A3,\"/\"))","v":1},{"$f":"IF(G63<>\"/\",VLOOKUP(G63,COSTS_Barrack[#All],2),\"/\")","v":200},{"$f":"IF(G63<>\"/\",VLOOKUP(G63,COSTS_Barrack[#All],3),\"/\")","v":0.02},{"$f":"IF(I$61=\"Error\",\"Error\",IF(H63<>\"/\",F63*H63,0))","v":0},{"$f":"IF(I$61=\"Error\",\"Error\",IF(I63<>\"/\",F63*I63,0))","v":0},1,{"$f":"IF(Paramètres!K6=0,\"\",Paramètres!K6)","v":""},{"$f":"IF(N62<>0,N62+IF(AND(M62<>\"\",L62<E$6),M62,0),IF(AND(M62<>\"\",L62<E$6),M62,0))","v":0},null,null,{"$f":"IF(R63<>\"/\",IF(T$61=\"Error\",\"Error\",$U$61+N63),\"/\")","v":0},{"$f":"IF(T$61=\"Error\",\"Error\",IF(AND($P$61<>\"/\",$P$61>'Paramètres - Admin'!$A2),'Paramètres - Admin'!$A3,\"/\"))","v":1},{"$f":"IF(R63<>\"/\",VLOOKUP(R63,COSTS_Laboratory[#All],2),\"/\")","v":25000},{"$f":"IF(R63<>\"/\",VLOOKUP(R63,COSTS_Laboratory[#All],3),\"/\")","v":0.5},{"$f":"IF(T$61=\"Error\",\"Error\",IF(S63<>\"/\",Q63*S63,0))","v":0},{"$f":"IF(T$61=\"Error\",\"Error\",IF(T63<>\"/\",Q63*T63,0))","v":0}]
[2,{"$f":"IF(Paramètres!H7=0,\"\",Paramètres!H7)","v":""},{"$f":"IF(C63<>0,C63+IF(AND(B63<>\"\",A63<E$6),B63,0),IF(AND(B63<>\"\",A63<E$6),B63,0))","v":0},null,null,{"$f":"IF(G64<>\"/\",IF(I$61=\"Error\",\"Error\",$J$61+C64),\"/\")","v":0},{"$f":"IF(I$61=\"Error\",\"Error\",IF(AND($E$61<>\"/\",$E$61>'Paramètres - Admin'!$A3),'Paramètres - Admin'!$A4,\"/\"))","v":2},{"$f":"IF(G64<>\"/\",VLOOKUP(G64,COSTS_Barrack[#All],2),\"/\")","v":1000},{"$f":"IF(G64<>\"/\",VLOOKUP(G64,COSTS_Barrack[#All],3),\"/\")","v":0.25},{"$f":"IF(I$61=\"Error\",\"Error\",IF(H64<>\"/\",F64*H64,0))","v":0},{"$f":"IF(I$61=\"Error\",\"Error\",IF(I64<>\"/\",F64*I64,0))","v":0},2,{"$f":"IF(Paramètres!K7=0,\"\",Paramètres!K7)","v":""},{"$f":"IF(N63<>0,N63+IF(AND(M63<>\"\",L63<E$6),M63,0),IF(AND(M63<>\"\",L63<E$6),M63,0))","v":0},null,null,{"$f":"IF(R64<>\"/\",IF(T$61=\"Error\",\"Error\",$U$61+N64),\"/\")","v":0},{"$f":"IF(T$61=\"Error\",\"Error\",IF(AND($P$61<>\"/\",$P$61>'Paramètres - Admin'!$A3),'Paramètres - Admin'!$A4,\"/\"))","v":2},{"$f":"IF(R64<>\"/\",VLOOKUP(R64,COSTS_Laboratory[#All],2),\"/\")","v":50000},{"$f":"IF(R64<>\"/\",VLOOKUP(R64,COSTS_Laboratory[#All],3),\"/\")","v":5},{"$f":"IF(T$61=\"Error\",\"Error\",IF(S64<>\"/\",Q64*S64,0))","v":0},{"$f":"IF(T$61=\"Error\",\"Error\",IF(T64<>\"/\",Q64*T64,0))","v":0}]
[3,{"$f":"IF(Paramètres!H8=0,\"\",Paramètres!H8)","v":""},0,null,null,0,{"$f":"IF(I$61=\"Error\",\"Error\",IF(AND($E$61<>\"/\",$E$61>'Paramètres - Admin'!$A4),'Paramètres - Admin'!$A5,\"/\"))","v":3},{"$f":"IF(G65<>\"/\",VLOOKUP(G65,COSTS_Barrack[#All],2),\"/\")","v":2500},{"$f":"IF(G65<>\"/\",VLOOKUP(G65,COSTS_Barrack[#All],3),\"/\")","v":2},0,0,3,{"$f":"IF(Paramètres!K8=0,\"\",Paramètres!K8)","v":""},0,null,null,0,{"$f":"IF(T$61=\"Error\",\"Error\",IF(AND($P$61<>\"/\",$P$61>'Paramètres - Admin'!$A4),'Paramètres - Admin'!$A5,\"/\"))","v":3},{"$f":"IF(R65<>\"/\",VLOOKUP(R65,COSTS_Laboratory[#All],2),\"/\")","v":90000},{"$f":"IF(R65<>\"/\",VLOOKUP(R65,COSTS_Laboratory[#All],3),\"/\")","v":12},0,0]
[4,{"$f":"IF(Paramètres!H9=0,\"\",Paramètres!H9)","v":""},0,null,null,0,{"$f":"IF(I$61=\"Error\",\"Error\",IF(AND($E$61<>\"/\",$E$61>'Paramètres - Admin'!$A5),'Paramètres - Admin'!$A6,\"/\"))","v":4},{"$f":"IF(G66<>\"/\",VLOOKUP(G66,COSTS_Barrack[#All],2),\"/\")","v":5000},{"$f":"IF(G66<>\"/\",VLOOKUP(G66,COSTS_Barrack[#All],3),\"/\")","v":4},0,0,4,{"$f":"IF(Paramètres!K9=0,\"\",Paramètres!K9)","v":""},0,null,null,0,{"$f":"IF(T$61=\"Error\",\"Error\",IF(AND($P$61<>\"/\",$P$61>'Paramètres - Admin'!$A5),'Paramètres - Admin'!$A6,\"/\"))","v":4},{"$f":"IF(R66<>\"/\",VLOOKUP(R66,COSTS_Laboratory[#All],2),\"/\")","v":270000},{"$f":"IF(R66<>\"/\",VLOOKUP(R66,COSTS_Laboratory[#All],3),\"/\")","v":24},0,0]
[5,{"$f":"IF(Paramètres!H10=0,\"\",Paramètres!H10)","v":""},0,null,null,0,{"$f":"IF(I$61=\"Error\",\"Error\",IF(AND($E$61<>\"/\",$E$61>'Paramètres - Admin'!$A6),'Paramètres - Admin'!$A7,\"/\"))","v":5},{"$f":"IF(G67<>\"/\",VLOOKUP(G67,COSTS_Barrack[#All],2),\"/\")","v":10000},{"$f":"IF(G67<>\"/\",VLOOKUP(G67,COSTS_Barrack[#All],3),\"/\")","v":10},0,0,5,{"$f":"IF(Paramètres!K10=0,\"\",Paramètres!K10)","v":""},0,null,null,0,{"$f":"IF(T$61=\"Error\",\"Error\",IF(AND($P$61<>\"/\",$P$61>'Paramètres - Admin'!$A6),'Paramètres - Admin'!$A7,\"/\"))","v":5},{"$f":"IF(R67<>\"/\",VLOOKUP(R67,COSTS_Laboratory[#All],2),\"/\")","v":500000},{"$f":"IF(R67<>\"/\",VLOOKUP(R67,COSTS_Laboratory[#All],3),\"/\")","v":48},0,0]
[6,{"$f":"IF(Paramètres!H11=0,\"\",Paramètres!H11)","v":""},0,null,null,0,{"$f":"IF(I$61=\"Error\",\"Error\",IF(AND($E$61<>\"/\",$E$61>'Paramètres - Admin'!$A7),'Paramètres - Admin'!$A8,\"/\"))","v":6},{"$f":"IF(G68<>\"/\",VLOOKUP(G68,COSTS_Barrack[#All],2),\"/\")","v":80000},{"$f":"IF(G68<>\"/\",VLOOKUP(G68,COSTS_Barrack[#All],3),\"/\")","v":16},0,0,6,{"$f":"IF(Paramètres!K11=0,\"\",Paramètres!K11)","v":""},0,null,null,0,{"$f":"IF(T$61=\"Error\",\"Error\",IF(AND($P$61<>\"/\",$P$61>'Paramètres - Admin'!$A7),'Paramètres - Admin'!$A8,\"/\"))","v":6},{"$f":"IF(R68<>\"/\",VLOOKUP(R68,COSTS_Laboratory[#All],2),\"/\")","v":1000000},{"$f":"IF(R68<>\"/\",VLOOKUP(R68,COSTS_Laboratory[#All],3),\"/\")","v":96},0,0]
[7,{"$f":"IF(Paramètres!H12=0,\"\",Paramètres!H12)","v":""},0,null,null,0,{"$f":"IF(I$61=\"Error\",\"Error\",IF(AND($E$61<>\"/\",$E$61>'Paramètres - Admin'!$A8),'Paramètres - Admin'!$A9,\"/\"))","v":7},{"$f":"IF(G69<>\"/\",VLOOKUP(G69,COSTS_Barrack[#All],2),\"/\")","v":240000},{"$f":"IF(G69<>\"/\",VLOOKUP(G69,COSTS_Barrack[#All],3),\"/\")","v":24},0,0,7,{"$f":"IF(Paramètres!K12=0,\"\",Paramètres!K12)","v":""},0,null,null,0,{"$f":"IF(T$61=\"Error\",\"Error\",IF(AND($P$61<>\"/\",$P$61>'Paramètres - Admin'!$A8),'Paramètres - Admin'!$A9,\"/\"))","v":7},{"$f":"IF(R69<>\"/\",VLOOKUP(R69,COSTS_Laboratory[#All],2),\"/\")","v":2500000},{"$f":"IF(R69<>\"/\",VLOOKUP(R69,COSTS_Laboratory[#All],3),\"/\")","v":120},0,0]
[8,{"$f":"IF(Paramètres!H13=0,\"\",Paramètres!H13)","v":""},0,null,null,0,{"$f":"IF(I$61=\"Error\",\"Error\",IF(AND($E$61<>\"/\",$E$61>'Paramètres - Admin'!$A9),'Paramètres - Admin'!$A10,\"/\"))","v":8},{"$f":"IF(G70<>\"/\",VLOOKUP(G70,COSTS_Barrack[#All],2),\"/\")","v":700000},{"$f":"IF(G70<>\"/\",VLOOKUP(G70,COSTS_Barrack[#All],3),\"/\")","v":48},0,0,8,{"$f":"IF(Paramètres!K13=0,\"\",Paramètres!K13)","v":1},0,null,null,0,{"$f":"IF(T$61=\"Error\",\"Error\",IF(AND($P$61<>\"/\",$P$61>'Paramètres - Admin'!$A9),'Paramètres - Admin'!$A10,\"/\"))","v":8},{"$f":"IF(R70<>\"/\",VLOOKUP(R70,COSTS_Laboratory[#All],2),\"/\")","v":4000000},{"$f":"IF(R70<>\"/\",VLOOKUP(R70,COSTS_Laboratory[#All],3),\"/\")","v":144},0,0]
[9,{"$f":"IF(Paramètres!H14=0,\"\",Paramètres!H14)","v":1},0,null,null,0,{"$f":"IF(I$61=\"Error\",\"Error\",IF(AND($E$61<>\"/\",$E$61>'Paramètres - Admin'!$A10),'Paramètres - Admin'!$A11,\"/\"))","v":9},{"$f":"IF(G71<>\"/\",VLOOKUP(G71,COSTS_Barrack[#All],2),\"/\")","v":1500000},{"$f":"IF(G71<>\"/\",VLOOKUP(G71,COSTS_Barrack[#All],3),\"/\")","v":96},0,0,null,null,null,null,null,null,null,null,"Total",{"$f":"IF(T$61=\"Error\",\"Error\",SUM(U63:U70))","v":0},{"$f":"IF(T$61=\"Error\",\"Error\",SUM(V63:V70))","v":0}]
[10,{"$f":"IF(Paramètres!H15=0,\"\",Paramètres!H15)","v":3},1,null,null,1,{"$f":"IF(I$61=\"Error\",\"Error\",IF(AND($E$61<>\"/\",$E$61>'Paramètres - Admin'!$A11),'Paramètres - Admin'!$A12,\"/\"))","v":10},{"$f":"IF(G72<>\"/\",VLOOKUP(G72,COSTS_Barrack[#All],2),\"/\")","v":2000000},{"$f":"IF(G72<>\"/\",VLOOKUP(G72,COSTS_Barrack[#All],3),\"/\")","v":144},2000000,144,"Usine de Sorts",null,null,"Max","Max +",null,null,null,"Actuel","À Faire","Améliorations"]
[null,null,null,null,null,null,null,null,"Total",{"$f":"IF(I$61=\"Error\",\"Error\",SUM(J63:J72))","v":2000000},{"$f":"IF(I$61=\"Error\",\"Error\",SUM(K63:K72))","v":144},null,null,null,{"$f":"VLOOKUP($A$2,AVAILABLE_Buildings_Army[#All],MATCH(L72,AVAILABLE_Buildings_Army[#Headers],0))","v":1},{"$f":"VLOOKUP($A$2,AVAILABLE_Buildings_Army[#All],MATCH(L72,AVAILABLE_Buildings_Army[#Headers],0)+1)","v":5},null,null,null,{"$f":"IF(SUM(M75:M79)>O73,\"Error\",SUM(M75:M79))","v":1},{"$f":"IF(T$73=\"Error\",\"Error\",O73-T73)","v":0},{"$f":"IF(T$73=\"Error\",\"Error\",SUM(Q75:Q79))","v":0}]
["Caserne Noire",null,null,"Max","Max +",null,null,null,"Actuel","À Faire","Améliorations","+","NB",null,null,null,"NB","+","Coût","Temps","Coût Total","Temps Total"]
[null,null,null,{"$f":"VLOOKUP($A$2,AVAILABLE_Buildings_Army[#All],MATCH(A74,AVAILABLE_Buildings_Army[#Headers],0))","v":2},{"$f":"VLOOKUP($A$2,AVAILABLE_Buildings_Army[#All],MATCH(A74,AVAILABLE_Buildings_Army[#Headers],0)+1)","v":6},null,null,null,{"$f":"IF(SUM(B77:B82)>D75,\"Error\",SUM(B77:B82))","v":2},{"$f":"IF(I$75=\"Error\",\"Error\",D75-I75)","v":0},{"$f":"IF(I$75=\"Error\",\"Error\",SUM(F77:F82))","v":3},1,{"$f":"IF(Paramètres!L6=0,\"\",Paramètres!L6)","v":""},{"$f":"IF(N74<>0,N74+IF(AND(M74<>\"\",L74<E$6),M74,0),IF(AND(M74<>\"\",L74<E$6),M74,0))","v":0},null,null,{"$f":"IF(R75<>\"/\",IF(T$73=\"Error\",\"Error\",$U$73+N75),\"/\")","v":0},{"$f":"IF(T$73=\"Error\",\"Error\",IF(AND($P$73<>\"/\",$P$73>'Paramètres - Admin'!$A2),'Paramètres - Admin'!$A3,\"/\"))","v":1},{"$f":"IF(R75<>\"/\",VLOOKUP(R75,COSTS_Spell_Factory[#All],2),\"/\")","v":200000},{"$f":"IF(R75<>\"/\",VLOOKUP(R75,COSTS_Spell_Factory[#All],3),\"/\")","v":24},{"$f":"IF(T$73=\"Error\",\"Error\",IF(S75<>\"/\",Q75*S75,0))","v":0},{"$f":"IF(T$73=\"Error\",\"Error\",IF(T75<>\"/\",Q75*T75,0))","v":0}]
["+","NB",null,null,null,"NB","+","Coût","Temps","Coût Total","Temps Total",2,{"$f":"IF(Paramètres!L7=0,\"\",Paramètres!L7)","v":""},{"$f":"IF(N75<>0,N75+IF(AND(M75<>\"\",L75<E$6),M75,0),IF(AND(M75<>\"\",L75<E$6),M75,0))","v":0},null,null,{"$f":"IF(R76<>\"/\",IF(T$73=\"Error\",\"Error\",$U$73+N76),\"/\")","v":0},{"$f":"IF(T$73=\"Error\",\"Error\",IF(AND($P$73<>\"/\",$P$73>'Paramètres - Admin'!$A3),'Paramètres - Admin'!$A4,\"/\"))","v":2},{"$f":"IF(R76<>\"/\",VLOOKUP(R76,COSTS_Spell_Factory[#All],2),\"/\")","v":400000},{"$f":"IF(R76<>\"/\",VLOOKUP(R76,COSTS_Spell_Factory[#All],3),\"/\")","v":48},{"$f":"IF(T$73=\"Error\",\"Error\",IF(S76<>\"/\",Q76*S76,0))","v":0},{"$f":"IF(T$73=\"Error\",\"Error\",IF(T76<>\"/\",Q76*T76,0))","v":0}]
[1,{"$f":"IF(Paramètres!I6=0,\"\",Paramètres!I6)","v":""},{"$f":"IF(C76<>0,C76+IF(AND(B76<>\"\",A76<E$6),B76,0),IF(AND(B76<>\"\",A76<E$6),B76,0))","v":0},null,null,{"$f":"IF(G77<>\"/\",IF(I$75=\"Error\",\"Error\",$J$75+C77),\"/\")","v":0},{"$f":"IF(I$75=\"Error\",\"Error\",IF(AND($E$75<>\"/\",$E$75>'Paramètres - Admin'!$A2),'Paramètres - Admin'!$A3,\"/\"))","v":1},{"$f":"IF(G77<>\"/\",VLOOKUP(G77,COSTS_Dark_Barrack[#All],2),\"/\")","v":750000},{"$f":"IF(G77<>\"/\",VLOOKUP(G77,COSTS_Dark_Barrack[#All],3),\"/\")","v":72},{"$f":"IF(I$75=\"Error\",\"Error\",IF(H77<>\"/\",F77*H77,0))","v":0},{"$f":"IF(I$75=\"Error\",\"Error\",IF(I77<>\"/\",F77*I77,0))","v":0},3,{"$f":"IF(Paramètres!L8=0,\"\",Paramètres!L8)","v":""},{"$f":"IF(N76<>0,N76+IF(AND(M76<>\"\",L76<E$6),M76,0),IF(AND(M76<>\"\",L76<E$6),M76,0))","v":0},null,null,{"$f":"IF(R77<>\"/\",IF(T$73=\"Error\",\"Error\",$U$73+N77),\"/\")","v":0},{"$f":"IF(T$73=\"Error\",\"Error\",IF(AND($P$73<>\"/\",$P$73>'Paramètres - Admin'!$A4),'Paramètres - Admin'!$A5,\"/\"))","v":3},{"$f":"IF(R77<>\"/\",VLOOKUP(R77,COSTS_Spell_Factory[#All],2),\"/\")","v":800000},{"$f":"IF(R77<>\"/\",VLOOKUP(R77,COSTS_Spell_Factory[#All],3),\"/\")","v":96},{"$f":"IF(T$73=\"Error\",\"Error\",IF(S77<>\"/\",Q77*S77,0))","v":0},{"$f":"IF(T$73=\"Error\",\"Error\",IF(T77<>\"/\",Q77*T77,0))","v":0}]
[2,{"$f":"IF(Paramètres!I7=0,\"\",Paramètres!I7)","v":""},0,null,null,0,{"$f":"IF(I$75=\"Error\",\"Error\",IF(AND($E$75<>\"/\",$E$75>'Paramètres - Admin'!$A3),'Paramètres - Admin'!$A4,\"/\"))","v":2},{"$f":"IF(G78<>\"/\",VLOOKUP(G78,COSTS_Dark_Barrack[#All],2),\"/\")","v":1250000},{"$f":"IF(G78<>\"/\",VLOOKUP(G78,COSTS_Dark_Barrack[#All],3),\"/\")","v":120},0,0,4,{"$f":"IF(Paramètres!L9=0,\"\",Paramètres!L9)","v":""},{"$f":"IF(N77<>0,N77+IF(AND(M77<>\"\",L77<E$6),M77,0),IF(AND(M77<>\"\",L77<E$6),M77,0))","v":0},null,null,{"$f":"IF(R78<>\"/\",IF(T$73=\"Error\",\"Error\",$U$73+N78),\"/\")","v":0},{"$f":"IF(T$73=\"Error\",\"Error\",IF(AND($P$73<>\"/\",$P$73>'Paramètres - Admin'!$A5),'Paramètres - Admin'!$A6,\"/\"))","v":4},{"$f":"IF(R78<>\"/\",VLOOKUP(R78,COSTS_Spell_Factory[#All],2),\"/\")","v":1600000},{"$f":"IF(R78<>\"/\",VLOOKUP(R78,COSTS_Spell_Factory[#All],3),\"/\")","v":120},{"$f":"IF(T$73=\"Error\",\"Error\",IF(S78<>\"/\",Q78*S78,0))","v":0},{"$f":"IF(T$73=\"Error\",\"Error\",IF(T78<>\"/\",Q78*T78,0))","v":0}]
[3,{"$f":"IF(Paramètres!I8=0,\"\",Paramètres!I8)","v":1},0,null,null,0,{"$f":"IF(I$75=\"Error\",\"Error\",IF(AND($E$75<>\"/\",$E$75>'Paramètres - Admin'!$A4),'Paramètres - Admin'!$A5,\"/\"))","v":3},{"$f":"IF(G79<>\"/\",VLOOKUP(G79,COSTS_Dark_Barrack[#All],2),\"/\")","v":1750000},{"$f":"IF(G79<>\"/\",VLOOKUP(G79,COSTS_Dark_Barrack[#All],3),\"/\")","v":144},0,0,5,{"$f":"IF(Paramètres!L10=0,\"\",Paramètres!L10)","v":1},{"$f":"IF(N78<>0,N78+IF(AND(M78<>\"\",L78<E$6),M78,0),IF(AND(M78<>\"\",L78<E$6),M78,0))","v":0},null,null,{"$f":"IF(R79<>\"/\",IF(T$73=\"Error\",\"Error\",$U$73+N79),\"/\")","v":0},{"$f":"IF(T$73=\"Error\",\"Error\",IF(AND($P$73<>\"/\",$P$73>'Paramètres - Admin'!$A6),'Paramètres - Admin'!$A7,\"/\"))","v":5},{"$f":"IF(R79<>\"/\",VLOOKUP(R79,COSTS_Spell_Factory[#All],2),\"/\")","v":3200000},{"$f":"IF(R79<>\"/\",VLOOKUP(R79,COSTS_Spell_Factory[#All],3),\"/\")","v":144},{"$f":"IF(T$73=\"Error\",\"Error\",IF(S79<>\"/\",Q79*S79,0))","v":0},{"$f":"IF(T$73=\"Error\",\"Error\",IF(T79<>\"/\",Q79*T79,0))","v":0}]
[4,{"$f":"IF(Paramètres!I9=0,\"\",Paramètres!I9)","v":""},1,null,null,1,{"$f":"IF(I$75=\"Error\",\"Error\",IF(AND($E$75<>\"/\",$E$75>'Paramètres - Admin'!$A5),'Paramètres - Admin'!$A6,\"/\"))","v":4},{"$f":"IF(G80<>\"/\",VLOOKUP(G80,COSTS_Dark_Barrack[#All],2),\"/\")","v":2250000},{"$f":"IF(G80<>\"/\",VLOOKUP(G80,COSTS_Dark_Barrack[#All],3),\"/\")","v":168},2250000,168,null,null,null,null,null,null,null,null,"Total",{"$f":"IF(T$73=\"Error\",\"Error\",SUM(U75:U79))","v":0},{"$f":"IF(T$73=\"Error\",\"Error\",SUM(V75:V79))","v":0}]
[5,{"$f":"IF(Paramètres!I10=0,\"\",Paramètres!I10)","v":""},1,null,null,1,{"$f":"IF(I$75=\"Error\",\"Error\",IF(AND($E$75<>\"/\",$E$75>'Paramètres - Admin'!$A6),'Paramètres - Admin'!$A7,\"/\"))","v":5},{"$f":"IF(G81<>\"/\",VLOOKUP(G81,COSTS_Dark_Barrack[#All],2),\"/\")","v":2750000},{"$f":"IF(G81<>\"/\",VLOOKUP(G81,COSTS_Dark_Barrack[#All],3),\"/\")","v":192},2750000,192]
[6,{"$f":"IF(Paramètres!I11=0,\"\",Paramètres!I11)","v":1},1,null,null,1,{"$f":"IF(I$75=\"Error\",\"Error\",IF(AND($E$75<>\"/\",$E$75>'Paramètres - Admin'!$A7),'Paramètres - Admin'!$A8,\"/\"))","v":6},{"$f":"IF(G82<>\"/\",VLOOKUP(G82,COSTS_Dark_Barrack[#All],2),\"/\")","v":3500000},{"$f":"IF(G82<>\"/\",VLOOKUP(G82,COSTS_Dark_Barrack[#All],3),\"/\")","v":216},3500000,216]
[null,null,null,null,null,null,null,null,"Total",{"$f":"IF(I$75=\"Error\",\"Error\",SUM(J77:J82))","v":8500000},{"$f":"IF(I$75=\"Error\",\"Error\",SUM(K77:K82))","v":576}]
["Camp Militaire",null,null,"Max","Max +",null,null,null,"Actuel","À Faire","Améliorations"]
[null,null,null,{"$f":"VLOOKUP($A$2,AVAILABLE_Buildings_Army[#All],MATCH(A84,AVAILABLE_Buildings_Army[#Headers],0))","v":4},{"$f":"VLOOKUP($A$2,AVAILABLE_Buildings_Army[#All],MATCH(A84,AVAILABLE_Buildings_Army[#Headers],0)+1)","v":8},null,null,null,{"$f":"IF(SUM(B87:B94)>D85,\"Error\",SUM(B87:B94))","v":4},{"$f":"IF(I$85=\"Error\",\"Error\",D85-I85)","v":0},{"$f":"IF(I$85=\"Error\",\"Error\",SUM(F87:F94))","v":0}]
["+","NB",null,null,null,"NB","+","Coût","Temps","Coût Total","Temps Total"]
[1,{"$f":"IF(Paramètres!J6=0,\"\",Paramètres!J6)","v":""},{"$f":"IF(C86<>0,C86+IF(AND(B86<>\"\",A86<E$6),B86,0),IF(AND(B86<>\"\",A86<E$6),B86,0))","v":0},null,null,{"$f":"IF(G87<>\"/\",IF(I$85=\"Error\",\"Error\",$J$85+C87),\"/\")","v":0},{"$f":"IF(I$85=\"Error\",\"Error\",IF(AND($E$85<>\"/\",$E$85>'Paramètres - Admin'!$A2),'Paramètres - Admin'!$A3,\"/\"))","v":1},{"$f":"IF(G87<>\"/\",VLOOKUP(G87,COSTS_Army_Camp[#All],2),\"/\")","v":250},{"$f":"IF(G87<>\"/\",VLOOKUP(G87,COSTS_Army_Camp[#All],3),\"/\")","v":8.3333333333333329E-2},{"$f":"IF(I$85=\"Error\",\"Error\",IF(H87<>\"/\",F87*H87,0))","v":0},{"$f":"IF(I$85=\"Error\",\"Error\",IF(I87<>\"/\",F87*I87,0))","v":0}]
[2,{"$f":"IF(Paramètres!J7=0,\"\",Paramètres!J7)","v":""},{"$f":"IF(C87<>0,C87+IF(AND(B87<>\"\",A87<E$6),B87,0),IF(AND(B87<>\"\",A87<E$6),B87,0))","v":0},null,null,{"$f":"IF(G88<>\"/\",IF(I$85=\"Error\",\"Error\",$J$85+C88),\"/\")","v":0},{"$f":"IF(I$85=\"Error\",\"Error\",IF(AND($E$85<>\"/\",$E$85>'Paramètres - Admin'!$A3),'Paramètres - Admin'!$A4,\"/\"))","v":2},{"$f":"IF(G88<>\"/\",VLOOKUP(G88,COSTS_Army_Camp[#All],2),\"/\")","v":2500},{"$f":"IF(G88<>\"/\",VLOOKUP(G88,COSTS_Army_Camp[#All],3),\"/\")","v":1},{"$f":"IF(I$85=\"Error\",\"Error\",IF(H88<>\"/\",F88*H88,0))","v":0},{"$f":"IF(I$85=\"Error\",\"Error\",IF(I88<>\"/\",F88*I88,0))","v":0}]
[3,{"$f":"IF(Paramètres!J8=0,\"\",Paramètres!J8)","v":""},0,null,null,0,{"$f":"IF(I$85=\"Error\",\"Error\",IF(AND($E$85<>\"/\",$E$85>'Paramètres - Admin'!$A4),'Paramètres - Admin'!$A5,\"/\"))","v":3},{"$f":"IF(G89<>\"/\",VLOOKUP(G89,COSTS_Army_Camp[#All],2),\"/\")","v":10000},{"$f":"IF(G89<>\"/\",VLOOKUP(G89,COSTS_Army_Camp[#All],3),\"/\")","v":3},0,0]
[4,{"$f":"IF(Paramètres!J9=0,\"\",Paramètres!J9)","v":""},0,null,null,0,{"$f":"IF(I$85=\"Error\",\"Error\",IF(AND($E$85<>\"/\",$E$85>'Paramètres - Admin'!$A5),'Paramètres - Admin'!$A6,\"/\"))","v":4},{"$f":"IF(G90<>\"/\",VLOOKUP(G90,COSTS_Army_Camp[#All],2),\"/\")","v":100000},{"$f":"IF(G90<>\"/\",VLOOKUP(G90,COSTS_Army_Camp[#All],3),\"/\")","v":8},0,0]
[5,{"$f":"IF(Paramètres!J10=0,\"\",Paramètres!J10)","v":""},0,null,null,0,{"$f":"IF(I$85=\"Error\",\"Error\",IF(AND($E$85<>\"/\",$E$85>'Paramètres - Admin'!$A6),'Paramètres - Admin'!$A7,\"/\"))","v":5},{"$f":"IF(G91<>\"/\",VLOOKUP(G91,COSTS_Army_Camp[#All],2),\"/\")","v":250000},{"$f":"IF(G91<>\"/\",VLOOKUP(G91,COSTS_Army_Camp[#All],3),\"/\")","v":24},0,0]
[6,{"$f":"IF(Paramètres!J11=0,\"\",Paramètres!J11)","v":""},0,null,null,0,{"$f":"IF(I$85=\"Error\",\"Error\",IF(AND($E$85<>\"/\",$E$85>'Paramètres - Admin'!$A7),'Paramètres - Admin'!$A8,\"/\"))","v":6},{"$f":"IF(G92<>\"/\",VLOOKUP(G92,COSTS_Army_Camp[#All],2),\"/\")","v":750000},{"$f":"IF(G92<>\"/\",VLOOKUP(G92,COSTS_Army_Camp[#All],3),\"/\")","v":72},0,0]
[7,{"$f":"IF(Paramètres!J12=0,\"\",Paramètres!J12)","v":""},0,null,null,0,{"$f":"IF(I$85=\"Error\",\"Error\",IF(AND($E$85<>\"/\",$E$85>'Paramètres - Admin'!$A8),'Paramètres - Admin'!$A9,\"/\"))","v":7},{"$f":"IF(G93<>\"/\",VLOOKUP(G93,COSTS_Army_Camp[#All],2),\"/\")","v":2250000},{"$f":"IF(G93<>\"/\",VLOOKUP(G93,COSTS_Army_Camp[#All],3),\"/\")","v":120},0,0]
[8,{"$f":"IF(Paramètres!J13=0,\"\",Paramètres!J13)","v":4},0,null,null,0,{"$f":"IF(I$85=\"Error\",\"Error\",IF(AND($E$85<>\"/\",$E$85>'Paramètres - Admin'!$A9),'Paramètres - Admin'!$A10,\"/\"))","v":8},{"$f":"IF(G94<>\"/\",VLOOKUP(G94,COSTS_Army_Camp[#All],2),\"/\")","v":6750000},{"$f":"IF(G94<>\"/\",VLOOKUP(G94,COSTS_Army_Camp[#All],3),\"/\")","v":240},0,0]
[null,null,null,null,null,null,null,null,"Total",{"$f":"IF(I$85=\"Error\",\"Error\",SUM(J87:J94))","v":0},{"$f":"IF(I$85=\"Error\",\"Error\",SUM(K87:K94))","v":0}]
[]
[]
["Bâtiments Défensifs"]
["Or"]
["Rempart",null,null,"Max","Max +",null,null,null,"Actuel","À Faire","Améliorations","Défense Antiaérienne",null,null,"Max","Max +",null,null,null,"Actuel","À Faire","Améliorations"]
[null,null,null,{"$f":"VLOOKUP($A$2,AVAILABLE_Buildings_Defensive[#All],MATCH(A100,AVAILABLE_Buildings_Defensive[#Headers],0))","v":250},{"$f":"VLOOKUP($A$2,AVAILABLE_Buildings_Defensive[#All],MATCH(A100,AVAILABLE_Buildings_Defensive[#Headers],0)+1)","v":11},null,null,null,{"$f":"IF(SUM(B103:B113)>D101,\"Error\",SUM(B103:B113))","v":250},{"$f":"IF(I$101=\"Error\",\"Error\",D101-I101)","v":0},{"$f":"IF(I$101=\"Error\",\"Error\",SUM(F103:F113))","v":748},null,null,null,{"$f":"VLOOKUP($A$2,AVAILABLE_Buildings_Defensive[#All],MATCH(L100,AVAILABLE_Buildings_Defensive[#Headers],0))","v":4},{"$f":"VLOOKUP($A$2,AVAILABLE_Buildings_Defensive[#All],MATCH(L100,AVAILABLE_Buildings_Defensive[#Headers],0)+1)","v":8},null,null,null,{"$f":"IF(SUM(M103:M110)>O101,\"Error\",SUM(M103:M110))","v":4},{"$f":"IF(T$101=\"Error\",\"Error\",O101-T101)","v":0},{"$f":"IF(T$101=\"Error\",\"Error\",SUM(Q103:Q110))","v":10}]
["+","NB",null,null,null,"NB","+","Coût","Temps","Coût Total","Temps Total","+","NB",null,null,null,"NB","+","Coût","Temps","Coût Total","Temps Total"]
[1,{"$f":"IF(Paramètres!M6=0,\"\",Paramètres!M6)","v":""},{"$f":"IF(C102<>0,C102+IF(AND(B102<>\"\",A102<E$6),B102,0),IF(AND(B102<>\"\",A102<E$6),B102,0))","v":0},null,null,{"$f":"IF(G103<>\"/\",IF(I$101=\"Error\",\"Error\",$J$101+C103),\"/\")","v":0},{"$f":"IF(I$101=\"Error\",\"Error\",IF(AND($E$101<>\"/\",$E$101>'Paramètres - Admin'!$A2),'Paramètres - Admin'!$A3,\"/\"))","v":1},{"$f":"IF(G103<>\"/\",VLOOKUP(G103,COSTS_Wall[#All],2),\"/\")","v":200},{"$f":"IF(G103<>\"/\",VLOOKUP(G103,COSTS_Wall[#All],3),\"/\")","v":0},{"$f":"IF(I$101=\"Error\",\"Error\",IF(H103<>\"/\",F103*H103,0))","v":0},{"$f":"IF(I$101=\"Error\",\"Error\",IF(I103<>\"/\",F103*I103,0))","v":0},1,{"$f":"IF(Paramètres!Q6=0,\"\",Paramètres!Q6)","v":""},{"$f":"IF(N102<>0,N102+IF(AND(M102<>\"\",L102<E$6),M102,0),IF(AND(M102<>\"\",L102<E$6),M102,0))","v":0},null,null,{"$f":"IF(R103<>\"/\",IF(T$101=\"Error\",\"Error\",$U$101+N103),\"/\")","v":0},{"$f":"IF(T$101=\"Error\",\"Error\",IF(AND($P$101<>\"/\",$P$101>'Paramètres - Admin'!$A2),'Paramètres - Admin'!$A3,\"/\"))","v":1},{"$f":"IF(R103<>\"/\",VLOOKUP(R103,COSTS_Air_Defense[#All],2),\"/\")","v":22500},{"$f":"IF(R103<>\"/\",VLOOKUP(R103,COSTS_Air_Defense[#All],3),\"/\")","v":5},{"$f":"IF(T$101=\"Error\",\"Error\",IF(S103<>\"/\",Q103*S103,0))","v":0},{"$f":"IF(T$101=\"Error\",\"Error\",IF(T103<>\"/\",Q103*T103,0))","v":0}]
[2,{"$f":"IF(Paramètres!M7=0,\"\",Paramètres!M7)","v":""},0,null,null,0,{"$f":"IF(I$101=\"Error\",\"Error\",IF(AND($E$101<>\"/\",$E$101>'Paramètres - Admin'!$A3),'Paramètres - Admin'!$A4,\"/\"))","v":2},{"$f":"IF(G104<>\"/\",VLOOKUP(G104,COSTS_Wall[#All],2),\"/\")","v":1000},{"$f":"IF(G104<>\"/\",VLOOKUP(G104,COSTS_Wall[#All],3),\"/\")","v":0},0,0,2,{"$f":"IF(Paramètres!Q7=0,\"\",Paramètres!Q7)","v":""},{"$f":"IF(N103<>0,N103+IF(AND(M103<>\"\",L103<E$6),M103,0),IF(AND(M103<>\"\",L103<E$6),M103,0))","v":0},null,null,{"$f":"IF(R104<>\"/\",IF(T$101=\"Error\",\"Error\",$U$101+N104),\"/\")","v":0},{"$f":"IF(T$101=\"Error\",\"Error\",IF(AND($P$101<>\"/\",$P$101>'Paramètres - Admin'!$A3),'Paramètres - Admin'!$A4,\"/\"))","v":2},{"$f":"IF(R104<>\"/\",VLOOKUP(R104,COSTS_Air_Defense[#All],2),\"/\")","v":90000},{"$f":"IF(R104<>\"/\",VLOOKUP(R104,COSTS_Air_Defense[#All],3),\"/\")","v":24},{"$f":"IF(T$101=\"Error\",\"Error\",IF(S104<>\"/\",Q104*S104,0))","v":0},{"$f":"IF(T$101=\"Error\",\"Error\",IF(T104<>\"/\",Q104*T104,0))","v":0}]
[3,{"$f":"IF(Paramètres!M8=0,\"\",Paramètres!M8)","v":""},0,null,null,0,{"$f":"IF(I$101=\"Error\",\"Error\",IF(AND($E$101<>\"/\",$E$101>'Paramètres - Admin'!$A4),'Paramètres - Admin'!$A5,\"/\"))","v":3},{"$f":"IF(G105<>\"/\",VLOOKUP(G105,COSTS_Wall[#All],2),\"/\")","v":5000},{"$f":"IF(G105<>\"/\",VLOOKUP(G105,COSTS_Wall[#All],3),\"/\")","v":0},0,0,3,{"$f":"IF(Paramètres!Q8=0,\"\",Paramètres!Q8)","v":""},0,null,null,0,{"$f":"IF(T$101=\"Error\",\"Error\",IF(AND($P$101<>\"/\",$P$101>'Paramètres - Admin'!$A4),'Paramètres - Admin'!$A5,\"/\"))","v":3},{"$f":"IF(R105<>\"/\",VLOOKUP(R105,COSTS_Air_Defense[#All],2),\"/\")","v":270000},{"$f":"IF(R105<>\"/\",VLOOKUP(R105,COSTS_Air_Defense[#All],3),\"/\")","v":72},0,0]
[4,{"$f":"IF(Paramètres!M9=0,\"\",Paramètres!M9)","v":""},0,null,null,0,{"$f":"IF(I$101=\"Error\",\"Error\",IF(AND($E$101<>\"/\",$E$101>'Paramètres - Admin'!$A5),'Paramètres - Admin'!$A6,\"/\"))","v":4},{"$f":"IF(G106<>\"/\",VLOOKUP(G106,COSTS_Wall[#All],2),\"/\")","v":10000},{"$f":"IF(G106<>\"/\",VLOOKUP(G106,COSTS_Wall[#All],3),\"/\")","v":0},0,0,4,{"$f":"IF(Paramètres!Q9=0,\"\",Paramètres!Q9)","v":1},0,null,null,0,{"$f":"IF(T$101=\"Error\",\"Error\",IF(AND($P$101<>\"/\",$P$101>'Paramètres - Admin'!$A5),'Paramètres - Admin'!$A6,\"/\"))","v":4},{"$f":"IF(R106<>\"/\",VLOOKUP(R106,COSTS_Air_Defense[#All],2),\"/\")","v":540000},{"$f":"IF(R106<>\"/\",VLOOKUP(R106,COSTS_Air_Defense[#All],3),\"/\")","v":120},0,0]
[5,{"$f":"IF(Paramètres!M10=0,\"\",Paramètres!M10)","v":""},0,null,null,0,{"$f":"IF(I$101=\"Error\",\"Error\",IF(AND($E$101<>\"/\",$E$101>'Paramètres - Admin'!$A6),'Paramètres - Admin'!$A7,\"/\"))","v":5},{"$f":"IF(G107<>\"/\",VLOOKUP(G107,COSTS_Wall[#All],2),\"/\")","v":30000},{"$f":"IF(G107<>\"/\",VLOOKUP(G107,COSTS_Wall[#All],3),\"/\")","v":0},0,0,5,{"$f":"IF(Paramètres!Q10=0,\"\",Paramètres!Q10)","v":""},1,null,null,1,{"$f":"IF(T$101=\"Error\",\"Error\",IF(AND($P$101<>\"/\",$P$101>'Paramètres - Admin'!$A6),'Paramètres - Admin'!$A7,\"/\"))","v":5},{"$f":"IF(R107<>\"/\",VLOOKUP(R107,COSTS_Air_Defense[#All],2),\"/\")","v":1080000},{"$f":"IF(R107<>\"/\",VLOOKUP(R107,COSTS_Air_Defense[#All],3),\"/\")","v":144},1080000,144]
[6,{"$f":"IF(Paramètres!M11=0,\"\",Paramètres!M11)","v":""},0,null,null,0,{"$f":"IF(I$101=\"Error\",\"Error\",IF(AND($E$101<>\"/\",$E$101>'Paramètres - Admin'!$A7),'Paramètres - Admin'!$A8,\"/\"))","v":6},{"$f":"IF(G108<>\"/\",VLOOKUP(G108,COSTS_Wall[#All],2),\"/\")","v":75000},{"$f":"IF(G108<>\"/\",VLOOKUP(G108,COSTS_Wall[#All],3),\"/\")","v":0},0,0,6,{"$f":"IF(Paramètres!Q11=0,\"\",Paramètres!Q11)","v":3},1,null,null,1,{"$f":"IF(T$101=\"Error\",\"Error\",IF(AND($P$101<>\"/\",$P$101>'Paramètres - Admin'!$A7),'Paramètres - Admin'!$A8,\"/\"))","v":6},{"$f":"IF(R108<>\"/\",VLOOKUP(R108,COSTS_Air_Defense[#All],2),\"/\")","v":2160000},{"$f":"IF(R108<>\"/\",VLOOKUP(R108,COSTS_Air_Defense[#All],3),\"/\")","v":192},2160000,192]
[7,{"$f":"IF(Paramètres!M12=0,\"\",Paramètres!M12)","v":""},0,null,null,0,{"$f":"IF(I$101=\"Error\",\"Error\",IF(AND($E$101<>\"/\",$E$101>'Paramètres - Admin'!$A8),'Paramètres - Admin'!$A9,\"/\"))","v":7},{"$f":"IF(G109<>\"/\",VLOOKUP(G109,COSTS_Wall[#All],2),\"/\")","v":200000},{"$f":"IF(G109<>\"/\",VLOOKUP(G109,COSTS_Wall[#All],3),\"/\")","v":0},0,0,7,{"$f":"IF(Paramètres!Q12=0,\"\",Paramètres!Q12)","v":""},4,null,null,4,{"$f":"IF(T$101=\"Error\",\"Error\",IF(AND($P$101<>\"/\",$P$101>'Paramètres - Admin'!$A8),'Paramètres - Admin'!$A9,\"/\"))","v":7},{"$f":"IF(R109<>\"/\",VLOOKUP(R109,COSTS_Air_Defense[#All],2),\"/\")","v":4320000},{"$f":"IF(R109<>\"/\",VLOOKUP(R109,COSTS_Air_Defense[#All],3),\"/\")","v":240},17280000,960]
[8,{"$f":"IF(Paramètres!M13=0,\"\",Paramètres!M13)","v":248},0,null,null,0,{"$f":"IF(I$101=\"Error\",\"Error\",IF(AND($E$101<>\"/\",$E$101>'Paramètres - Admin'!$A9),'Paramètres - Admin'!$A10,\"/\"))","v":8},{"$f":"IF(G110<>\"/\",VLOOKUP(G110,COSTS_Wall[#All],2),\"/\")","v":500000},{"$f":"IF(G110<>\"/\",VLOOKUP(G110,COSTS_Wall[#All],3),\"/\")","v":0},0,0,8,{"$f":"IF(Paramètres!Q13=0,\"\",Paramètres!Q13)","v":""},4,null,null,4,{"$f":"IF(T$101=\"Error\",\"Error\",IF(AND($P$101<>\"/\",$P$101>'Paramètres - Admin'!$A9),'Paramètres - Admin'!$A10,\"/\"))","v":8},{"$f":"IF(R110<>\"/\",VLOOKUP(R110,COSTS_Air_Defense[#All],2),\"/\")","v":7560000},{"$f":"IF(R110<>\"/\",VLOOKUP(R110,COSTS_Air_Defense[#All],3),\"/\")","v":288},30240000,1152]
[9,{"$f":"IF(Paramètres!M14=0,\"\",Paramètres!M14)","v":2},248,null,null,248,{"$f":"IF(I$101=\"Error\",\"Error\",IF(AND($E$101<>\"/\",$E$101>'Paramètres - Admin'!$A10),'Paramètres - Admin'!$A11,\"/\"))","v":9},{"$f":"IF(G111<>\"/\",VLOOKUP(G111,COSTS_Wall[#All],2),\"/\")","v":1000000},{"$f":"IF(G111<>\"/\",VLOOKUP(G111,COSTS_Wall[#All],3),\"/\")","v":0},248000000,0,null,null,null,null,null,null,null,null,"Total",{"$f":"IF(T$101=\"Error\",\"Error\",SUM(U103:U110))","v":50760000},{"$f":"IF(T$101=\"Error\",\"Error\",SUM(V103:V110))","v":2448}]
[10,{"$f":"IF(Paramètres!M15=0,\"\",Paramètres!M15)","v":""},250,null,null,250,{"$f":"IF(I$101=\"Error\",\"Error\",IF(AND($E$101<>\"/\",$E$101>'Paramètres - Admin'!$A11),'Paramètres - Admin'!$A12,\"/\"))","v":10},{"$f":"IF(G112<>\"/\",VLOOKUP(G112,COSTS_Wall[#All],2),\"/\")","v":3000000},{"$f":"IF(G112<>\"/\",VLOOKUP(G112,COSTS_Wall[#All],3),\"/\")","v":0},750000000,0,"Tour de Sorciers",null,null,"Max","Max +",null,null,null,"Actuel","À Faire","Améliorations"]
[11,{"$f":"IF(Paramètres!M16=0,\"\",Paramètres!M16)","v":""},250,null,null,250,{"$f":"IF(I$101=\"Error\",\"Error\",IF(AND($E$101<>\"/\",$E$101>'Paramètres - Admin'!$A12),'Paramètres - Admin'!$A13,\"/\"))","v":11},{"$f":"IF(G113<>\"/\",VLOOKUP(G113,COSTS_Wall[#All],2),\"/\")","v":4000000},{"$f":"IF(G113<>\"/\",VLOOKUP(G113,COSTS_Wall[#All],3),\"/\")","v":0},1000000000,0,null,null,null,{"$f":"VLOOKUP($A$2,AVAILABLE_Buildings_Defensive[#All],MATCH(L112,AVAILABLE_Buildings_Defensive[#Headers],0))","v":4},{"$f":"VLOOKUP($A$2,AVAILABLE_Buildings_Defensive[#All],MATCH(L112,AVAILABLE_Buildings_Defensive[#Headers],0)+1)","v":8},null,null,null,{"$f":"IF(SUM(M115:M122)>O113,\"Error\",SUM(M115:M122))","v":4},{"$f":"IF(T$113=\"Error\",\"Error\",O113-T113)","v":0},{"$f":"IF(T$113=\"Error\",\"Error\",SUM(Q115:Q122))","v":10}]
[null,null,null,null,null,null,null,null,"Total",{"$f":"IF(I$101=\"Error\",\"Error\",SUM(J103:J113))","v":1998000000},{"$f":"IF(I$101=\"Error\",\"Error\",SUM(K103:K113))","v":0},"+","NB",null,null,null,"NB","+","Coût","Temps","Coût Total","Temps Total"]
["Canon",null,null,"Max","Max +",null,null,null,"Actuel","À Faire","Améliorations",1,{"$f":"IF(Paramètres!R6=0,\"\",Paramètres!R6)","v":""},{"$f":"IF(N114<>0,N114+IF(AND(M114<>\"\",L114<P$6),M114,0),IF(AND(M114<>\"\",L114<P$6),M114,0))","v":0},null,null,{"$f":"IF(R115<>\"/\",IF(T$113=\"Error\",\"Error\",$U$113+N115),\"/\")","v":0},{"$f":"IF(T$113=\"Error\",\"Error\",IF(AND($P$113<>\"/\",$P$113>'Paramètres - Admin'!$A2),'Paramètres - Admin'!$A3,\"/\"))","v":1},{"$f":"IF(R115<>\"/\",VLOOKUP(R115,COSTS_Wizard_Tower[#All],2),\"/\")","v":180000},{"$f":"IF(R115<>\"/\",VLOOKUP(R115,COSTS_Wizard_Tower[#All],3),\"/\")","v":12},{"$f":"IF(T$113=\"Error\",\"Error\",IF(S115<>\"/\",Q115*S115,0))","v":0},{"$f":"IF(T$113=\"Error\",\"Error\",IF(T115<>\"/\",Q115*T115,0))","v":0}]
[null,null,null,{"$f":"VLOOKUP($A$2,AVAILABLE_Buildings_Defensive[#All],MATCH(A115,AVAILABLE_Buildings_Defensive[#Headers],0))","v":6},{"$f":"VLOOKUP($A$2,AVAILABLE_Buildings_Defensive[#All],MATCH(A115,AVAILABLE_Buildings_Defensive[#Headers],0)+1)","v":13},null,null,null,{"$f":"IF(SUM(B118:B130)>D116,\"Error\",SUM(B118:B130))","v":6},{"$f":"IF(I$116=\"Error\",\"Error\",D116-I116)","v":0},{"$f":"IF(I$116=\"Error\",\"Error\",SUM(F118:F130))","v":19},2,{"$f":"IF(Paramètres!R7=0,\"\",Paramètres!R7)","v":""},{"$f":"IF(N115<>0,N115+IF(AND(M115<>\"\",L115<P$6),M115,0),IF(AND(M115<>\"\",L115<P$6),M115,0))","v":0},null,null,{"$f":"IF(R116<>\"/\",IF(T$113=\"Error\",\"Error\",$U$113+N116),\"/\")","v":0},{"$f":"IF(T$113=\"Error\",\"Error\",IF(AND($P$113<>\"/\",$P$113>'Paramètres - Admin'!$A3),'Paramètres - Admin'!$A4,\"/\"))","v":2},{"$f":"IF(R116<>\"/\",VLOOKUP(R116,COSTS_Wizard_Tower[#All],2),\"/\")","v":360000},{"$f":"IF(R116<>\"/\",VLOOKUP(R116,COSTS_Wizard_Tower[#All],3),\"/\")","v":24},{"$f":"IF(T$113=\"Error\",\"Error\",IF(S116<>\"/\",Q116*S116,0))","v":0},{"$f":"IF(T$113=\"Error\",\"Error\",IF(T116<>\"/\",Q116*T116,0))","v":0}]
["+","NB",null,null,null,"NB","+","Coût","Temps","Coût Total","Temps Total",3,{"$f":"IF(Paramètres!R8=0,\"\",Paramètres!R8)","v":""},0,null,null,0,{"$f":"IF(T$113=\"Error\",\"Error\",IF(AND($P$113<>\"/\",$P$113>'Paramètres - Admin'!$A4),'Paramètres - Admin'!$A5,\"/\"))","v":3},{"$f":"IF(R117<>\"/\",VLOOKUP(R117,COSTS_Wizard_Tower[#All],2),\"/\")","v":720000},{"$f":"IF(R117<>\"/\",VLOOKUP(R117,COSTS_Wizard_Tower[#All],3),\"/\")","v":48},0,0]
[1,{"$f":"IF(Paramètres!N6=0,\"\",Paramètres!N6)","v":""},{"$f":"IF(C117<>0,C117+IF(AND(B117<>\"\",A117<$E$116),B117,0),IF(AND(B117<>\"\",A117<$E$116),B117,0))","v":0},null,null,{"$f":"IF(G118<>\"/\",IF(I$116=\"Error\",\"Error\",$J$116+C118),\"/\")","v":0},{"$f":"IF(I$116=\"Error\",\"Error\",IF(AND($E$116<>\"/\",$E$116>'Paramètres - Admin'!$A2),'Paramètres - Admin'!$A3,\"/\"))","v":1},{"$f":"IF(G118<>\"/\",VLOOKUP(G118,COSTS_Cannon[#All],2),\"/\")","v":250},{"$f":"IF(G118<>\"/\",VLOOKUP(G118,COSTS_Cannon[#All],3),\"/\")","v":1.6666666666666666E-2},{"$f":"IF(I$116=\"Error\",\"Error\",IF(H118<>\"/\",F118*H118,0))","v":0},{"$f":"IF(I$116=\"Error\",\"Error\",IF(I118<>\"/\",F118*I118,0))","v":0},4,{"$f":"IF(Paramètres!R9=0,\"\",Paramètres!R9)","v":1},0,null,null,0,{"$f":"IF(T$113=\"Error\",\"Error\",IF(AND($P$113<>\"/\",$P$113>'Paramètres - Admin'!$A5),'Paramètres - Admin'!$A6,\"/\"))","v":4},{"$f":"IF(R118<>\"/\",VLOOKUP(R118,COSTS_Wizard_Tower[#All],2),\"/\")","v":1280000},{"$f":"IF(R118<>\"/\",VLOOKUP(R118,COSTS_Wizard_Tower[#All],3),\"/\")","v":72},0,0]
[2,{"$f":"IF(Paramètres!N7=0,\"\",Paramètres!N7)","v":""},{"$f":"IF(C118<>0,C118+IF(AND(B118<>\"\",A118<$E$116),B118,0),IF(AND(B118<>\"\",A118<$E$116),B118,0))","v":0},null,null,{"$f":"IF(G119<>\"/\",IF(I$116=\"Error\",\"Error\",$J$116+C119),\"/\")","v":0},{"$f":"IF(I$116=\"Error\",\"Error\",IF(AND($E$116<>\"/\",$E$116>'Paramètres - Admin'!$A3),'Paramètres - Admin'!$A4,\"/\"))","v":2},{"$f":"IF(G119<>\"/\",VLOOKUP(G119,COSTS_Cannon[#All],2),\"/\")","v":1000},{"$f":"IF(G119<>\"/\",VLOOKUP(G119,COSTS_Cannon[#All],3),\"/\")","v":0.25},{"$f":"IF(I$116=\"Error\",\"Error\",IF(H119<>\"/\",F119*H119,0))","v":0},{"$f":"IF(I$116=\"Error\",\"Error\",IF(I119<>\"/\",F119*I119,0))","v":0},5,{"$f":"IF(Paramètres!R10=0,\"\",Paramètres!R10)","v":""},1,null,null,1,{"$f":"IF(T$113=\"Error\",\"Error\",IF(AND($P$113<>\"/\",$P$113>'Paramètres - Admin'!$A6),'Paramètres - Admin'!$A7,\"/\"))","v":5},{"$f":"IF(R119<>\"/\",VLOOKUP(R119,COSTS_Wizard_Tower[#All],2),\"/\")","v":1960000},{"$f":"IF(R119<>\"/\",VLOOKUP(R119,COSTS_Wizard_Tower[#All],3),\"/\")","v":96},1960000,96]
[3,{"$f":"IF(Paramètres!N8=0,\"\",Paramètres!N8)","v":""},0,null,null,0,{"$f":"IF(I$116=\"Error\",\"Error\",IF(AND($E$116<>\"/\",$E$116>'Paramètres - Admin'!$A4),'Paramètres - Admin'!$A5,\"/\"))","v":3},{"$f":"IF(G120<>\"/\",VLOOKUP(G120,COSTS_Cannon[#All],2),\"/\")","v":4000},{"$f":"IF(G120<>\"/\",VLOOKUP(G120,COSTS_Cannon[#All],3),\"/\")","v":0.75},0,0,6,{"$f":"IF(Paramètres!R11=0,\"\",Paramètres!R11)","v":3},1,null,null,1,{"$f":"IF(T$113=\"Error\",\"Error\",IF(AND($P$113<>\"/\",$P$113>'Paramètres - Admin'!$A7),'Paramètres - Admin'!$A8,\"/\"))","v":6},{"$f":"IF(R120<>\"/\",VLOOKUP(R120,COSTS_Wizard_Tower[#All],2),\"/\")","v":2680000},{"$f":"IF(R120<>\"/\",VLOOKUP(R120,COSTS_Wizard_Tower[#All],3),\"/\")","v":120},2680000,120]
[4,{"$f":"IF(Paramètres!N9=0,\"\",Paramètres!N9)","v":""},0,null,null,0,{"$f":"IF(I$116=\"Error\",\"Error\",IF(AND($E$116<>\"/\",$E$116>'Paramètres - Admin'!$A5),'Paramètres - Admin'!$A6,\"/\"))","v":4},{"$f":"IF(G121<>\"/\",VLOOKUP(G121,COSTS_Cannon[#All],2),\"/\")","v":16000},{"$f":"IF(G121<>\"/\",VLOOKUP(G121,COSTS_Cannon[#All],3),\"/\")","v":2},0,0,7,{"$f":"IF(Paramètres!R12=0,\"\",Paramètres!R12)","v":""},4,null,null,4,{"$f":"IF(T$113=\"Error\",\"Error\",IF(AND($P$113<>\"/\",$P$113>'Paramètres - Admin'!$A8),'Paramètres - Admin'!$A9,\"/\"))","v":7},{"$f":"IF(R121<>\"/\",VLOOKUP(R121,COSTS_Wizard_Tower[#All],2),\"/\")","v":5360000},{"$f":"IF(R121<>\"/\",VLOOKUP(R121,COSTS_Wizard_Tower[#All],3),\"/\")","v":168},21440000,672]
[5,{"$f":"IF(Paramètres!N10=0,\"\",Paramètres!N10)","v":""},0,null,null,0,{"$f":"IF(I$116=\"Error\",\"Error\",IF(AND($E$116<>\"/\",$E$116>'Paramètres - Admin'!$A6),'Paramètres - Admin'!$A7,\"/\"))","v":5},{"$f":"IF(G122<>\"/\",VLOOKUP(G122,COSTS_Cannon[#All],2),\"/\")","v":50000},{"$f":"IF(G122<>\"/\",VLOOKUP(G122,COSTS_Cannon[#All],3),\"/\")","v":6},0,0,8,{"$f":"IF(Paramètres!R13=0,\"\",Paramètres!R13)","v":""},4,null,null,4,{"$f":"IF(T$113=\"Error\",\"Error\",IF(AND($P$113<>\"/\",$P$113>'Paramètres - Admin'!$A9),'Paramètres - Admin'!$A10,\"/\"))","v":8},{"$f":"IF(R122<>\"/\",VLOOKUP(R122,COSTS_Wizard_Tower[#All],2),\"/\")","v":6400000},{"$f":"IF(R122<>\"/\",VLOOKUP(R122,COSTS_Wizard_Tower[#All],3),\"/\")","v":240},25600000,960]
[6,{"$f":"IF(Paramètres!N11=0,\"\",Paramètres!N11)","v":""},0,null,null,0,{"$f":"IF(I$116=\"Error\",\"Error\",IF(AND($E$116<>\"/\",$E$116>'Paramètres - Admin'!$A7),'Paramètres - Admin'!$A8,\"/\"))","v":6},{"$f":"IF(G123<>\"/\",VLOOKUP(G123,COSTS_Cannon[#All],2),\"/\")","v":100000},{"$f":"IF(G123<>\"/\",VLOOKUP(G123,COSTS_Cannon[#All],3),\"/\")","v":12},0,0,null,null,null,null,null,null,null,null,"Total",{"$f":"IF(T$113=\"Error\",\"Error\",SUM(U115:U122))","v":51680000},{"$f":"IF(T$113=\"Error\",\"Error\",SUM(V115:V122))","v":1848}]
[7,{"$f":"IF(Paramètres!N12=0,\"\",Paramètres!N12)","v":""},0,null,null,0,{"$f":"IF(I$116=\"Error\",\"Error\",IF(AND($E$116<>\"/\",$E$116>'Paramètres - Admin'!$A8),'Paramètres - Admin'!$A9,\"/\"))","v":7},{"$f":"IF(G124<>\"/\",VLOOKUP(G124,COSTS_Cannon[#All],2),\"/\")","v":200000},{"$f":"IF(G124<>\"/\",VLOOKUP(G124,COSTS_Cannon[#All],3),\"/\")","v":24},0,0,"Tesla Camouflée",null,null,"Max","Max +",null,null,null,"Actuel","À Faire","Améliorations"]
[8,{"$f":"IF(Paramètres!N13=0,\"\",Paramètres!N13)","v":""},0,null,null,0,{"$f":"IF(I$116=\"Error\",\"Error\",IF(AND($E$116<>\"/\",$E$116>'Paramètres - Admin'!$A9),'Paramètres - Admin'!$A10,\"/\"))","v":8},{"$f":"IF(G125<>\"/\",VLOOKUP(G125,COSTS_Cannon[#All],2),\"/\")","v":400000},{"$f":"IF(G125<>\"/\",VLOOKUP(G125,COSTS_Cannon[#All],3),\"/\")","v":48},0,0,null,null,null,{"$f":"VLOOKUP($A$2,AVAILABLE_Buildings_Defensive[#All],MATCH(L124,AVAILABLE_Buildings_Defensive[#Headers],0))","v":4},{"$f":"VLOOKUP($A$2,AVAILABLE_Buildings_Defensive[#All],MATCH(L124,AVAILABLE_Buildings_Defensive[#Headers],0)+1)","v":8},null,null,null,{"$f":"IF(SUM(M127:M134)>O125,\"Error\",SUM(M127:M134))","v":4},{"$f":"IF(T$125=\"Error\",\"Error\",O125-T125)","v":0},{"$f":"IF(T$125=\"Error\",\"Error\",SUM(Q127:Q134))","v":13}]
[9,{"$f":"IF(Paramètres!N14=0,\"\",Paramètres!N14)","v":1},0,null,null,0,{"$f":"IF(I$116=\"Error\",\"Error\",IF(AND($E$116<>\"/\",$E$116>'Paramètres - Admin'!$A10),'Paramètres - Admin'!$A11,\"/\"))","v":9},{"$f":"IF(G126<>\"/\",VLOOKUP(G126,COSTS_Cannon[#All],2),\"/\")","v":800000},{"$f":"IF(G126<>\"/\",VLOOKUP(G126,COSTS_Cannon[#All],3),\"/\")","v":72},0,0,"+","NB",null,null,null,"NB","+","Coût","Temps","Coût Total","Temps Total"]
[10,{"$f":"IF(Paramètres!N15=0,\"\",Paramètres!N15)","v":5},1,null,null,1,{"$f":"IF(I$116=\"Error\",\"Error\",IF(AND($E$116<>\"/\",$E$116>'Paramètres - Admin'!$A11),'Paramètres - Admin'!$A12,\"/\"))","v":10},{"$f":"IF(G127<>\"/\",VLOOKUP(G127,COSTS_Cannon[#All],2),\"/\")","v":1600000},{"$f":"IF(G127<>\"/\",VLOOKUP(G127,COSTS_Cannon[#All],3),\"/\")","v":96},1600000,96,1,{"$f":"IF(Paramètres!T6=0,\"\",Paramètres!T6)","v":1},{"$f":"IF(N126<>0,N126+IF(AND(M126<>\"\",L126<P$6),M126,0),IF(AND(M126<>\"\",L126<P$6),M126,0))","v":0},null,null,{"$f":"IF(R127<>\"/\",IF(T$125=\"Error\",\"Error\",$U$125+N127),\"/\")","v":0},{"$f":"IF(T$125=\"Error\",\"Error\",IF(AND($P$125<>\"/\",$P$125>'Paramètres - Admin'!$A2),'Paramètres - Admin'!$A3,\"/\"))","v":1},{"$f":"IF(R127<>\"/\",VLOOKUP(R127,COSTS_Hidden_Tesla[#All],2),\"/\")","v":1000000},{"$f":"IF(R127<>\"/\",VLOOKUP(R127,COSTS_Hidden_Tesla[#All],3),\"/\")","v":24},{"$f":"IF(T$125=\"Error\",\"Error\",IF(S127<>\"/\",Q127*S127,0))","v":0},{"$f":"IF(T$125=\"Error\",\"Error\",IF(T127<>\"/\",Q127*T127,0))","v":0}]
[11,{"$f":"IF(Paramètres!N16=0,\"\",Paramètres!N16)","v":""},6,null,null,6,{"$f":"IF(I$116=\"Error\",\"Error\",IF(AND($E$116<>\"/\",$E$116>'Paramètres - Admin'!$A12),'Paramètres - Admin'!$A13,\"/\"))","v":11},{"$f":"IF(G128<>\"/\",VLOOKUP(G128,COSTS_Cannon[#All],2),\"/\")","v":3200000},{"$f":"IF(G128<>\"/\",VLOOKUP(G128,COSTS_Cannon[#All],3),\"/\")","v":120},19200000,720,2,{"$f":"IF(Paramètres!T7=0,\"\",Paramètres!T7)","v":""},{"$f":"IF(N127<>0,N127+IF(AND(M127<>\"\",L127<P$6),M127,0),IF(AND(M127<>\"\",L127<P$6),M127,0))","v":1},null,null,{"$f":"IF(R128<>\"/\",IF(T$125=\"Error\",\"Error\",$U$125+N128),\"/\")","v":1},{"$f":"IF(T$125=\"Error\",\"Error\",IF(AND($P$125<>\"/\",$P$125>'Paramètres - Admin'!$A3),'Paramètres - Admin'!$A4,\"/\"))","v":2},{"$f":"IF(R128<>\"/\",VLOOKUP(R128,COSTS_Hidden_Tesla[#All],2),\"/\")","v":1250000},{"$f":"IF(R128<>\"/\",VLOOKUP(R128,COSTS_Hidden_Tesla[#All],3),\"/\")","v":72},{"$f":"IF(T$125=\"Error\",\"Error\",IF(S128<>\"/\",Q128*S128,0))","v":1250000},{"$f":"IF(T$125=\"Error\",\"Error\",IF(T128<>\"/\",Q128*T128,0))","v":72}]
[12,{"$f":"IF(Paramètres!N17=0,\"\",Paramètres!N17)","v":""},{"$f":"IF(C127<>0,C127+IF(AND(B127<>\"\",A127<$E$116),B127,0),IF(AND(B127<>\"\",A127<$E$116),B127,0))","v":6},null,null,{"$f":"IF(G129<>\"/\",IF(I$116=\"Error\",\"Error\",$J$116+C129),\"/\")","v":6},{"$f":"IF(I$116=\"Error\",\"Error\",IF(AND($E$116<>\"/\",$E$116>'Paramètres - Admin'!$A12),'Paramètres - Admin'!$A13,\"/\"))","v":11},{"$f":"IF(G129<>\"/\",VLOOKUP(G129,COSTS_Cannon[#All],2),\"/\")","v":3200000},{"$f":"IF(G129<>\"/\",VLOOKUP(G129,COSTS_Cannon[#All],3),\"/\")","v":120},{"$f":"IF(I$116=\"Error\",\"Error\",IF(H129<>\"/\",F129*H129,0))","v":19200000},{"$f":"IF(I$116=\"Error\",\"Error\",IF(I129<>\"/\",F129*I129,0))","v":720},3,{"$f":"IF(Paramètres!T8=0,\"\",Paramètres!T8)","v":""},1,null,null,1,{"$f":"IF(T$125=\"Error\",\"Error\",IF(AND($P$125<>\"/\",$P$125>'Paramètres - Admin'!$A4),'Paramètres - Admin'!$A5,\"/\"))","v":3},{"$f":"IF(R129<>\"/\",VLOOKUP(R129,COSTS_Hidden_Tesla[#All],2),\"/\")","v":1500000},{"$f":"IF(R129<>\"/\",VLOOKUP(R129,COSTS_Hidden_Tesla[#All],3),\"/\")","v":120},1500000,120]
[13,{"$f":"IF(Paramètres!N18=0,\"\",Paramètres!N18)","v":""},{"$f":"IF(C128<>0,C128+IF(AND(B128<>\"\",A128<$E$116),B128,0),IF(AND(B128<>\"\",A128<$E$116),B128,0))","v":6},null,null,6,{"$f":"IF(I$116=\"Error\",\"Error\",IF(AND($E$116<>\"/\",$E$116>'Paramètres - Admin'!$A13),'Paramètres - Admin'!$A14,\"/\"))","v":12},{"$f":"IF(G130<>\"/\",VLOOKUP(G130,COSTS_Cannon[#All],2),\"/\")","v":6400000},{"$f":"IF(G130<>\"/\",VLOOKUP(G130,COSTS_Cannon[#All],3),\"/\")","v":144},38400000,864,4,{"$f":"IF(Paramètres!T9=0,\"\",Paramètres!T9)","v":""},1,null,null,1,{"$f":"IF(T$125=\"Error\",\"Error\",IF(AND($P$125<>\"/\",$P$125>'Paramètres - Admin'!$A5),'Paramètres - Admin'!$A6,\"/\"))","v":4},{"$f":"IF(R130<>\"/\",VLOOKUP(R130,COSTS_Hidden_Tesla[#All],2),\"/\")","v":2000000},{"$f":"IF(R130<>\"/\",VLOOKUP(R130,COSTS_Hidden_Tesla[#All],3),\"/\")","v":144},2000000,144]
[null,null,null,null,null,null,null,null,"Total",{"$f":"IF(I$116=\"Error\",\"Error\",SUM(J118:J130))","v":78400000},{"$f":"IF(I$116=\"Error\",\"Error\",SUM(K118:K130))","v":2400},5,{"$f":"IF(Paramètres!T10=0,\"\",Paramètres!T10)","v":""},1,null,null,1,{"$f":"IF(T$125=\"Error\",\"Error\",IF(AND($P$125<>\"/\",$P$125>'Paramètres - Admin'!$A6),'Paramètres - Admin'!$A7,\"/\"))","v":5},{"$f":"IF(R131<>\"/\",VLOOKUP(R131,COSTS_Hidden_Tesla[#All],2),\"/\")","v":2500000},{"$f":"IF(R131<>\"/\",VLOOKUP(R131,COSTS_Hidden_Tesla[#All],3),\"/\")","v":192},2500000,192]
["Tour d'Archers",null,null,"Max","Max +",null,null,null,"Actuel","À Faire","Améliorations",6,{"$f":"IF(Paramètres!T11=0,\"\",Paramètres!T11)","v":3},1,null,null,1,{"$f":"IF(T$125=\"Error\",\"Error\",IF(AND($P$125<>\"/\",$P$125>'Paramètres - Admin'!$A7),'Paramètres - Admin'!$A8,\"/\"))","v":6},{"$f":"IF(R132<>\"/\",VLOOKUP(R132,COSTS_Hidden_Tesla[#All],2),\"/\")","v":3000000},{"$f":"IF(R132<>\"/\",VLOOKUP(R132,COSTS_Hidden_Tesla[#All],3),\"/\")","v":240},3000000,240]
[null,null,null,{"$f":"VLOOKUP($A$2,AVAILABLE_Buildings_Defensive[#All],MATCH(A132,AVAILABLE_Buildings_Defensive[#Headers],0))","v":7},{"$f":"VLOOKUP($A$2,AVAILABLE_Buildings_Defensive[#All],MATCH(A132,AVAILABLE_Buildings_Defensive[#Headers],0)+1)","v":13},null,null,null,{"$f":"IF(SUM(B135:B147)>D133,\"Error\",SUM(B135:B147))","v":7},{"$f":"IF(I$133=\"Error\",\"Error\",D133-I133)","v":0},{"$f":"IF(I$133=\"Error\",\"Error\",SUM(F135:F147))","v":24},7,{"$f":"IF(Paramètres!T12=0,\"\",Paramètres!T12)","v":""},4,null,null,4,{"$f":"IF(T$125=\"Error\",\"Error\",IF(AND($P$125<>\"/\",$P$125>'Paramètres - Admin'!$A8),'Paramètres - Admin'!$A9,\"/\"))","v":7},{"$f":"IF(R133<>\"/\",VLOOKUP(R133,COSTS_Hidden_Tesla[#All],2),\"/\")","v":3500000},{"$f":"IF(R133<>\"/\",VLOOKUP(R133,COSTS_Hidden_Tesla[#All],3),\"/\")","v":288},14000000,1152]
["+","NB",null,null,null,"NB","+","Coût","Temps","Coût Total","Temps Total",8,{"$f":"IF(Paramètres!T13=0,\"\",Paramètres!T13)","v":""},4,null,null,4,{"$f":"IF(T$125=\"Error\",\"Error\",IF(AND($P$125<>\"/\",$P$125>'Paramètres - Admin'!$A9),'Paramètres - Admin'!$A10,\"/\"))","v":8},{"$f":"IF(R134<>\"/\",VLOOKUP(R134,COSTS_Hidden_Tesla[#All],2),\"/\")","v":5000000},{"$f":"IF(R134<>\"/\",VLOOKUP(R134,COSTS_Hidden_Tesla[#All],3),\"/\")","v":336},20000000,1344]
[1,{"$f":"IF(Paramètres!O6=0,\"\",Paramètres!O6)","v":""},{"$f":"IF(C134<>0,C134+IF(AND(B134<>\"\",A134<$E$133),B134,0),IF(AND(B134<>\"\",A134<$E$133),B134,0))","v":0},null,null,{"$f":"IF(G135<>\"/\",IF(I$133=\"Error\",\"Error\",$J$133+C135),\"/\")","v":0},{"$f":"IF(I$133=\"Error\",\"Error\",IF(AND($E$133<>\"/\",$E$133>'Paramètres - Admin'!$A2),'Paramètres - Admin'!$A3,\"/\"))","v":1},{"$f":"IF(G135<>\"/\",VLOOKUP(G135,COSTS_Archer_Tower[#All],2),\"/\")","v":1000},{"$f":"IF(G135<>\"/\",VLOOKUP(G135,COSTS_Archer_Tower[#All],3),\"/\")","v":0.25},{"$f":"IF(I$133=\"Error\",\"Error\",IF(H135<>\"/\",F135*H135,0))","v":0},{"$f":"IF(I$133=\"Error\",\"Error\",IF(I135<>\"/\",F135*I135,0))","v":0},null,null,null,null,null,null,null,null,"Total",{"$f":"IF(T$125=\"Error\",\"Error\",SUM(U127:U134))","v":44250000},{"$f":"IF(T$125=\"Error\",\"Error\",SUM(V127:V134))","v":3264}]
[2,{"$f":"IF(Paramètres!O7=0,\"\",Paramètres!O7)","v":""},0,null,null,0,{"$f":"IF(I$133=\"Error\",\"Error\",IF(AND($E$133<>\"/\",$E$133>'Paramètres - Admin'!$A3),'Paramètres - Admin'!$A4,\"/\"))","v":2},{"$f":"IF(G136<>\"/\",VLOOKUP(G136,COSTS_Archer_Tower[#All],2),\"/\")","v":2000},{"$f":"IF(G136<>\"/\",VLOOKUP(G136,COSTS_Archer_Tower[#All],3),\"/\")","v":0.5},0,0,"Arc-X",null,null,"Max","Max +",null,null,null,"Actuel","À Faire","Améliorations"]
[3,{"$f":"IF(Paramètres!O8=0,\"\",Paramètres!O8)","v":""},0,null,null,0,{"$f":"IF(I$133=\"Error\",\"Error\",IF(AND($E$133<>\"/\",$E$133>'Paramètres - Admin'!$A4),'Paramètres - Admin'!$A5,\"/\"))","v":3},{"$f":"IF(G137<>\"/\",VLOOKUP(G137,COSTS_Archer_Tower[#All],2),\"/\")","v":5000},{"$f":"IF(G137<>\"/\",VLOOKUP(G137,COSTS_Archer_Tower[#All],3),\"/\")","v":0.75},0,0,null,null,null,{"$f":"VLOOKUP($A$2,AVAILABLE_Buildings_Defensive[#All],MATCH(L136,AVAILABLE_Buildings_Defensive[#Headers],0))","v":3},{"$f":"VLOOKUP($A$2,AVAILABLE_Buildings_Defensive[#All],MATCH(L136,AVAILABLE_Buildings_Defensive[#Headers],0)+1)","v":4},null,null,null,{"$f":"IF(SUM(M139:M142)>O137,\"Error\",SUM(M139:M142))","v":3},{"$f":"IF(T$137=\"Error\",\"Error\",O137-T137)","v":0},{"$f":"IF(T$137=\"Error\",\"Error\",SUM(Q139:Q142))","v":9}]
[4,{"$f":"IF(Paramètres!O9=0,\"\",Paramètres!O9)","v":""},0,null,null,0,{"$f":"IF(I$133=\"Error\",\"Error\",IF(AND($E$133<>\"/\",$E$133>'Paramètres - Admin'!$A5),'Paramètres - Admin'!$A6,\"/\"))","v":4},{"$f":"IF(G138<>\"/\",VLOOKUP(G138,COSTS_Archer_Tower[#All],2),\"/\")","v":20000},{"$f":"IF(G138<>\"/\",VLOOKUP(G138,COSTS_Archer_Tower[#All],3),\"/\")","v":4},0,0,"+","NB",null,null,null,"NB","+","Coût","Temps","Coût Total","Temps Total"]
[5,{"$f":"IF(Paramètres!O10=0,\"\",Paramètres!O10)","v":""},0,null,null,0,{"$f":"IF(I$133=\"Error\",\"Error\",IF(AND($E$133<>\"/\",$E$133>'Paramètres - Admin'!$A6),'Paramètres - Admin'!$A7,\"/\"))","v":5},{"$f":"IF(G139<>\"/\",VLOOKUP(G139,COSTS_Archer_Tower[#All],2),\"/\")","v":80000},{"$f":"IF(G139<>\"/\",VLOOKUP(G139,COSTS_Archer_Tower[#All],3),\"/\")","v":12},0,0,1,{"$f":"IF(Paramètres!U6=0,\"\",Paramètres!U6)","v":3},{"$f":"IF(N138<>0,N138+IF(AND(M138<>\"\",L138<P$6),M138,0),IF(AND(M138<>\"\",L138<P$6),M138,0))","v":0},null,null,{"$f":"IF(R139<>\"/\",IF(T$137=\"Error\",\"Error\",$U$137+N139),\"/\")","v":0},{"$f":"IF(T$137=\"Error\",\"Error\",IF(AND($P$137<>\"/\",$P$137>'Paramètres - Admin'!$A2),'Paramètres - Admin'!$A3,\"/\"))","v":1},{"$f":"IF(R139<>\"/\",VLOOKUP(R139,COSTS_XBow[#All],2),\"/\")","v":3000000},{"$f":"IF(R139<>\"/\",VLOOKUP(R139,COSTS_XBow[#All],3),\"/\")","v":168},{"$f":"IF(T$137=\"Error\",\"Error\",IF(S139<>\"/\",Q139*S139,0))","v":0},{"$f":"IF(T$137=\"Error\",\"Error\",IF(T139<>\"/\",Q139*T139,0))","v":0}]
[6,{"$f":"IF(Paramètres!O11=0,\"\",Paramètres!O11)","v":""},0,null,null,0,{"$f":"IF(I$133=\"Error\",\"Error\",IF(AND($E$133<>\"/\",$E$133>'Paramètres - Admin'!$A7),'Paramètres - Admin'!$A8,\"/\"))","v":6},{"$f":"IF(G140<>\"/\",VLOOKUP(G140,COSTS_Archer_Tower[#All],2),\"/\")","v":180000},{"$f":"IF(G140<>\"/\",VLOOKUP(G140,COSTS_Archer_Tower[#All],3),\"/\")","v":24},0,0,2,{"$f":"IF(Paramètres!U7=0,\"\",Paramètres!U7)","v":""},{"$f":"IF(N139<>0,N139+IF(AND(M139<>\"\",L139<P$6),M139,0),IF(AND(M139<>\"\",L139<P$6),M139,0))","v":3},null,null,{"$f":"IF(R140<>\"/\",IF(T$137=\"Error\",\"Error\",$U$137+N140),\"/\")","v":3},{"$f":"IF(T$137=\"Error\",\"Error\",IF(AND($P$137<>\"/\",$P$137>'Paramètres - Admin'!$A3),'Paramètres - Admin'!$A4,\"/\"))","v":2},{"$f":"IF(R140<>\"/\",VLOOKUP(R140,COSTS_XBow[#All],2),\"/\")","v":5000000},{"$f":"IF(R140<>\"/\",VLOOKUP(R140,COSTS_XBow[#All],3),\"/\")","v":240},{"$f":"IF(T$137=\"Error\",\"Error\",IF(S140<>\"/\",Q140*S140,0))","v":15000000},{"$f":"IF(T$137=\"Error\",\"Error\",IF(T140<>\"/\",Q140*T140,0))","v":720}]
[7,{"$f":"IF(Paramètres!O12=0,\"\",Paramètres!O12)","v":""},0,null,null,0,{"$f":"IF(I$133=\"Error\",\"Error\",IF(AND($E$133<>\"/\",$E$133>'Paramètres - Admin'!$A8),'Paramètres - Admin'!$A9,\"/\"))","v":7},{"$f":"IF(G141<>\"/\",VLOOKUP(G141,COSTS_Archer_Tower[#All],2),\"/\")","v":360000},{"$f":"IF(G141<>\"/\",VLOOKUP(G141,COSTS_Archer_Tower[#All],3),\"/\")","v":48},0,0,3,{"$f":"IF(Paramètres!U8=0,\"\",Paramètres!U8)","v":""},{"$f":"IF(N140<>0,N140+IF(AND(M140<>\"\",L140<P$6),M140,0),IF(AND(M140<>\"\",L140<P$6),M140,0))","v":3},null,null,{"$f":"IF(R141<>\"/\",IF(T$137=\"Error\",\"Error\",$U$137+N141),\"/\")","v":3},{"$f":"IF(T$137=\"Error\",\"Error\",IF(AND($P$137<>\"/\",$P$137>'Paramètres - Admin'!$A4),'Paramètres - Admin'!$A5,\"/\"))","v":3},{"$f":"IF(R141<>\"/\",VLOOKUP(R141,COSTS_XBow[#All],2),\"/\")","v":7000000},{"$f":"IF(R141<>\"/\",VLOOKUP(R141,COSTS_XBow[#All],3),\"/\")","v":336},{"$f":"IF(T$137=\"Error\",\"Error\",IF(S141<>\"/\",Q141*S141,0))","v":21000000},{"$f":"IF(T$137=\"Error\",\"Error\",IF(T141<>\"/\",Q141*T141,0))","v":1008}]
[8,{"$f":"IF(Paramètres!O13=0,\"\",Paramètres!O13)","v":1},0,null,null,0,{"$f":"IF(I$133=\"Error\",\"Error\",IF(AND($E$133<>\"/\",$E$133>'Paramètres - Admin'!$A9),'Paramètres - Admin'!$A10,\"/\"))","v":8},{"$f":"IF(G142<>\"/\",VLOOKUP(G142,COSTS_Archer_Tower[#All],2),\"/\")","v":720000},{"$f":"IF(G142<>\"/\",VLOOKUP(G142,COSTS_Archer_Tower[#All],3),\"/\")","v":72},0,0,4,{"$f":"IF(Paramètres!U9=0,\"\",Paramètres!U9)","v":""},{"$f":"IF(N141<>0,N141+IF(AND(M141<>\"\",L141<P$6),M141,0),IF(AND(M141<>\"\",L141<P$6),M141,0))","v":3},null,null,{"$f":"IF(R142<>\"/\",IF(T$137=\"Error\",\"Error\",$U$137+N142),\"/\")","v":3},{"$f":"IF(T$137=\"Error\",\"Error\",IF(AND($P$137<>\"/\",$P$137>'Paramètres - Admin'!$A5),'Paramètres - Admin'!$A6,\"/\"))","v":4},{"$f":"IF(R142<>\"/\",VLOOKUP(R142,COSTS_XBow[#All],2),\"/\")","v":8000000},{"$f":"IF(R142<>\"/\",VLOOKUP(R142,COSTS_XBow[#All],3),\"/\")","v":336},{"$f":"IF(T$137=\"Error\",\"Error\",IF(S142<>\"/\",Q142*S142,0))","v":24000000},{"$f":"IF(T$137=\"Error\",\"Error\",IF(T142<>\"/\",Q142*T142,0))","v":1008}]
[9,{"$f":"IF(Paramètres!O14=0,\"\",Paramètres!O14)","v":1},1,null,null,1,{"$f":"IF(I$133=\"Error\",\"Error\",IF(AND($E$133<>\"/\",$E$133>'Paramètres - Admin'!$A10),'Paramètres - Admin'!$A11,\"/\"))","v":9},{"$f":"IF(G143<>\"/\",VLOOKUP(G143,COSTS_Archer_Tower[#All],2),\"/\")","v":1500000},{"$f":"IF(G143<>\"/\",VLOOKUP(G143,COSTS_Archer_Tower[#All],3),\"/\")","v":96},1500000,96,null,null,null,null,null,null,null,null,"Total",{"$f":"IF(T$137=\"Error\",\"Error\",SUM(U139:U142))","v":60000000},{"$f":"IF(T$137=\"Error\",\"Error\",SUM(V139:V142))","v":2736}]
[10,{"$f":"IF(Paramètres!O15=0,\"\",Paramètres!O15)","v":5},2,null,null,2,{"$f":"IF(I$133=\"Error\",\"Error\",IF(AND($E$133<>\"/\",$E$133>'Paramètres - Admin'!$A11),'Paramètres - Admin'!$A12,\"/\"))","v":10},{"$f":"IF(G144<>\"/\",VLOOKUP(G144,COSTS_Archer_Tower[#All],2),\"/\")","v":2500000},{"$f":"IF(G144<>\"/\",VLOOKUP(G144,COSTS_Archer_Tower[#All],3),\"/\")","v":120},5000000,240,"Tour de l'Enfer",null,null,"Max","Max +",null,null,null,"Actuel","À Faire","Améliorations"]
[11,{"$f":"IF(Paramètres!O16=0,\"\",Paramètres!O16)","v":""},7,null,null,7,{"$f":"IF(I$133=\"Error\",\"Error\",IF(AND($E$133<>\"/\",$E$133>'Paramètres - Admin'!$A12),'Paramètres - Admin'!$A13,\"/\"))","v":11},{"$f":"IF(G145<>\"/\",VLOOKUP(G145,COSTS_Archer_Tower[#All],2),\"/\")","v":4500000},{"$f":"IF(G145<>\"/\",VLOOKUP(G145,COSTS_Archer_Tower[#All],3),\"/\")","v":144},31500000,1008,null,null,null,{"$f":"VLOOKUP($A$2,AVAILABLE_Buildings_Defensive[#All],MATCH(L144,AVAILABLE_Buildings_Defensive[#Headers],0))","v":2},{"$f":"VLOOKUP($A$2,AVAILABLE_Buildings_Defensive[#All],MATCH(L144,AVAILABLE_Buildings_Defensive[#Headers],0)+1)","v":3},null,null,null,{"$f":"IF(SUM(M147:M149)>O145,\"Error\",SUM(M147:M149))","v":2},{"$f":"IF(T$145=\"Error\",\"Error\",O145-T145)","v":0},{"$f":"IF(T$145=\"Error\",\"Error\",SUM(Q147:Q149))","v":2}]
[12,{"$f":"IF(Paramètres!O17=0,\"\",Paramètres!O17)","v":""},7,null,null,7,{"$f":"IF(I$133=\"Error\",\"Error\",IF(AND($E$133<>\"/\",$E$133>'Paramètres - Admin'!$A13),'Paramètres - Admin'!$A14,\"/\"))","v":12},{"$f":"IF(G146<>\"/\",VLOOKUP(G146,COSTS_Archer_Tower[#All],2),\"/\")","v":6500000},{"$f":"IF(G146<>\"/\",VLOOKUP(G146,COSTS_Archer_Tower[#All],3),\"/\")","v":168},45500000,1176,"+","NB",null,null,null,"NB","+","Coût","Temps","Coût Total","Temps Total"]
[13,{"$f":"IF(Paramètres!O18=0,\"\",Paramètres!O18)","v":""},7,null,null,7,{"$f":"IF(I$133=\"Error\",\"Error\",IF(AND($E$133<>\"/\",$E$133>'Paramètres - Admin'!$A14),'Paramètres - Admin'!$A15,\"/\"))","v":13},{"$f":"IF(G147<>\"/\",VLOOKUP(G147,COSTS_Archer_Tower[#All],2),\"/\")","v":7500000},{"$f":"IF(G147<>\"/\",VLOOKUP(G147,COSTS_Archer_Tower[#All],3),\"/\")","v":192},52500000,1344,1,{"$f":"IF(Paramètres!V6=0,\"\",Paramètres!V6)","v":""},{"$f":"IF(N146<>0,N146+IF(AND(M146<>\"\",L146<P$6),M146,0),IF(AND(M146<>\"\",L146<P$6),M146,0))","v":0},null,null,{"$f":"IF(R147<>\"/\",IF(T$145=\"Error\",\"Error\",$U$145+N147),\"/\")","v":0},{"$f":"IF(T$145=\"Error\",\"Error\",IF(AND($P$145<>\"/\",$P$145>'Paramètres - Admin'!$A2),'Paramètres - Admin'!$A3,\"/\"))","v":1},{"$f":"IF(R147<>\"/\",VLOOKUP(R147,COSTS_Inferno_Tower[#All],2),\"/\")","v":5000000},{"$f":"IF(R147<>\"/\",VLOOKUP(R147,COSTS_Inferno_Tower[#All],3),\"/\")","v":168},{"$f":"IF(T$145=\"Error\",\"Error\",IF(S147<>\"/\",Q147*S147,0))","v":0},{"$f":"IF(T$145=\"Error\",\"Error\",IF(T147<>\"/\",Q147*T147,0))","v":0}]
[null,null,null,null,null,null,null,null,"Total",{"$f":"IF(I$133=\"Error\",\"Error\",SUM(J135:J147))","v":136000000},{"$f":"IF(I$133=\"Error\",\"Error\",SUM(K135:K147))","v":3864},2,{"$f":"IF(Paramètres!V7=0,\"\",Paramètres!V7)","v":2},{"$f":"IF(N147<>0,N147+IF(AND(M147<>\"\",L147<P$6),M147,0),IF(AND(M147<>\"\",L147<P$6),M147,0))","v":0},null,null,{"$f":"IF(R148<>\"/\",IF(T$145=\"Error\",\"Error\",$U$145+N148),\"/\")","v":0},{"$f":"IF(T$145=\"Error\",\"Error\",IF(AND($P$145<>\"/\",$P$145>'Paramètres - Admin'!$A3),'Paramètres - Admin'!$A4,\"/\"))","v":2},{"$f":"IF(R148<>\"/\",VLOOKUP(R148,COSTS_Inferno_Tower[#All],2),\"/\")","v":6500000},{"$f":"IF(R148<>\"/\",VLOOKUP(R148,COSTS_Inferno_Tower[#All],3),\"/\")","v":240},{"$f":"IF(T$145=\"Error\",\"Error\",IF(S148<>\"/\",Q148*S148,0))","v":0},{"$f":"IF(T$145=\"Error\",\"Error\",IF(T148<>\"/\",Q148*T148,0))","v":0}]
["Mortier",null,null,"Max","Max +",null,null,null,"Actuel","À Faire","Améliorations",3,{"$f":"IF(Paramètres!V8=0,\"\",Paramètres!V8)","v":""},{"$f":"IF(N148<>0,N148+IF(AND(M148<>\"\",L148<P$6),M148,0),IF(AND(M148<>\"\",L148<P$6),M148,0))","v":2},null,null,{"$f":"IF(R149<>\"/\",IF(T$145=\"Error\",\"Error\",$U$145+N149),\"/\")","v":2},{"$f":"IF(T$145=\"Error\",\"Error\",IF(AND($P$145<>\"/\",$P$145>'Paramètres - Admin'!$A4),'Paramètres - Admin'!$A5,\"/\"))","v":3},{"$f":"IF(R149<>\"/\",VLOOKUP(R149,COSTS_Inferno_Tower[#All],2),\"/\")","v":8000000},{"$f":"IF(R149<>\"/\",VLOOKUP(R149,COSTS_Inferno_Tower[#All],3),\"/\")","v":336},{"$f":"IF(T$145=\"Error\",\"Error\",IF(S149<>\"/\",Q149*S149,0))","v":16000000},{"$f":"IF(T$145=\"Error\",\"Error\",IF(T149<>\"/\",Q149*T149,0))","v":672}]
[null,null,null,{"$f":"VLOOKUP($A$2,AVAILABLE_Buildings_Defensive[#All],MATCH(A149,AVAILABLE_Buildings_Defensive[#Headers],0))","v":4},{"$f":"VLOOKUP($A$2,AVAILABLE_Buildings_Defensive[#All],MATCH(A149,AVAILABLE_Buildings_Defensive[#Headers],0)+1)","v":8},null,null,null,{"$f":"IF(SUM(B152:B159)>D150,\"Error\",SUM(B152:B159))","v":4},{"$f":"IF(I$150=\"Error\",\"Error\",D150-I150)","v":0},{"$f":"IF(I$150=\"Error\",\"Error\",SUM(F152:F159))","v":8},null,null,null,null,null,null,null,null,"Total",{"$f":"IF(T$145=\"Error\",\"Error\",SUM(U147:U149))","v":16000000},{"$f":"IF(T$145=\"Error\",\"Error\",SUM(V147:V149))","v":672}]
["+","NB",null,null,null,"NB","+","Coût","Temps","Coût Total","Temps Total"]
[1,{"$f":"IF(Paramètres!P6=0,\"\",Paramètres!P6)","v":""},{"$f":"IF(C151<>0,C151+IF(AND(B151<>\"\",A151<E$6),B151,0),IF(AND(B151<>\"\",A151<E$6),B151,0))","v":0},null,null,{"$f":"IF(G152<>\"/\",IF(I$150=\"Error\",\"Error\",$J$150+C152),\"/\")","v":0},{"$f":"IF(I$150=\"Error\",\"Error\",IF(AND($E$150<>\"/\",$E$150>'Paramètres - Admin'!$A2),'Paramètres - Admin'!$A3,\"/\"))","v":1},{"$f":"IF(G152<>\"/\",VLOOKUP(G152,COSTS_Mortar[#All],2),\"/\")","v":8000},{"$f":"IF(G152<>\"/\",VLOOKUP(G152,COSTS_Mortar[#All],3),\"/\")","v":8},{"$f":"IF(I$150=\"Error\",\"Error\",IF(H152<>\"/\",F152*H152,0))","v":0},{"$f":"IF(I$150=\"Error\",\"Error\",IF(I152<>\"/\",F152*I152,0))","v":0}]
[2,{"$f":"IF(Paramètres!P7=0,\"\",Paramètres!P7)","v":""},{"$f":"IF(C152<>0,C152+IF(AND(B152<>\"\",A152<E$6),B152,0),IF(AND(B152<>\"\",A152<E$6),B152,0))","v":0},null,null,0,{"$f":"IF(I$150=\"Error\",\"Error\",IF(AND($E$150<>\"/\",$E$150>'Paramètres - Admin'!$A3),'Paramètres - Admin'!$A4,\"/\"))","v":2},{"$f":"IF(G153<>\"/\",VLOOKUP(G153,COSTS_Mortar[#All],2),\"/\")","v":32000},{"$f":"IF(G153<>\"/\",VLOOKUP(G153,COSTS_Mortar[#All],3),\"/\")","v":12},0,0]
[3,{"$f":"IF(Paramètres!P8=0,\"\",Paramètres!P8)","v":""},0,null,null,0,{"$f":"IF(I$150=\"Error\",\"Error\",IF(AND($E$150<>\"/\",$E$150>'Paramètres - Admin'!$A4),'Paramètres - Admin'!$A5,\"/\"))","v":3},{"$f":"IF(G154<>\"/\",VLOOKUP(G154,COSTS_Mortar[#All],2),\"/\")","v":120000},{"$f":"IF(G154<>\"/\",VLOOKUP(G154,COSTS_Mortar[#All],3),\"/\")","v":24},0,0]
[4,{"$f":"IF(Paramètres!P9=0,\"\",Paramètres!P9)","v":""},0,null,null,0,{"$f":"IF(I$150=\"Error\",\"Error\",IF(AND($E$150<>\"/\",$E$150>'Paramètres - Admin'!$A5),'Paramètres - Admin'!$A6,\"/\"))","v":4},{"$f":"IF(G155<>\"/\",VLOOKUP(G155,COSTS_Mortar[#All],2),\"/\")","v":400000},{"$f":"IF(G155<>\"/\",VLOOKUP(G155,COSTS_Mortar[#All],3),\"/\")","v":48},0,0]
[5,{"$f":"IF(Paramètres!P10=0,\"\",Paramètres!P10)","v":""},0,null,null,0,{"$f":"IF(I$150=\"Error\",\"Error\",IF(AND($E$150<>\"/\",$E$150>'Paramètres - Admin'!$A6),'Paramètres - Admin'!$A7,\"/\"))","v":5},{"$f":"IF(G156<>\"/\",VLOOKUP(G156,COSTS_Mortar[#All],2),\"/\")","v":800000},{"$f":"IF(G156<>\"/\",VLOOKUP(G156,COSTS_Mortar[#All],3),\"/\")","v":96},0,0]
[6,{"$f":"IF(Paramètres!P11=0,\"\",Paramètres!P11)","v":4},0,null,null,0,{"$f":"IF(I$150=\"Error\",\"Error\",IF(AND($E$150<>\"/\",$E$150>'Paramètres - Admin'!$A7),'Paramètres - Admin'!$A8,\"/\"))","v":6},{"$f":"IF(G157<>\"/\",VLOOKUP(G157,COSTS_Mortar[#All],2),\"/\")","v":1600000},{"$f":"IF(G157<>\"/\",VLOOKUP(G157,COSTS_Mortar[#All],3),\"/\")","v":120},0,0]
[7,{"$f":"IF(Paramètres!P12=0,\"\",Paramètres!P12)","v":""},4,null,null,4,{"$f":"IF(I$150=\"Error\",\"Error\",IF(AND($E$150<>\"/\",$E$150>'Paramètres - Admin'!$A8),'Paramètres - Admin'!$A9,\"/\"))","v":7},{"$f":"IF(G158<>\"/\",VLOOKUP(G158,COSTS_Mortar[#All],2),\"/\")","v":3200000},{"$f":"IF(G158<>\"/\",VLOOKUP(G158,COSTS_Mortar[#All],3),\"/\")","v":168},12800000,672]
[8,{"$f":"IF(Paramètres!P13=0,\"\",Paramètres!P13)","v":""},4,null,null,4,{"$f":"IF(I$150=\"Error\",\"Error\",IF(AND($E$150<>\"/\",$E$150>'Paramètres - Admin'!$A9),'Paramètres - Admin'!$A10,\"/\"))","v":8},{"$f":"IF(G159<>\"/\",VLOOKUP(G159,COSTS_Mortar[#All],2),\"/\")","v":6400000},{"$f":"IF(G159<>\"/\",VLOOKUP(G159,COSTS_Mortar[#All],3),\"/\")","v":240},25600000,960]
[null,null,null,null,null,null,null,null,"Total",{"$f":"IF(I$150=\"Error\",\"Error\",SUM(J152:J159))","v":38400000},{"$f":"IF(I$150=\"Error\",\"Error\",SUM(K152:K159))","v":1632}]
[]
["Bâtiments Autres"]
["Or"]
["Château de Clan",null,null,"Max","Max +",null,null,null,"Actuel","À Faire","Améliorations","Hôtel de Ville",null,null,"Max","Max +",null,null,null,"Actuel","À Faire","Améliorations"]
[null,null,null,{"$f":"VLOOKUP($A$2,AVAILABLE_Buildings_Other[#All],MATCH(A164,AVAILABLE_Buildings_Other[#Headers],0))","v":1},{"$f":"VLOOKUP($A$2,AVAILABLE_Buildings_Other[#All],MATCH(A164,AVAILABLE_Buildings_Other[#Headers],0)+1)","v":6},null,null,null,{"$f":"IF(SUM(B167:B172)>D165,\"Error\",SUM(B167:B172))","v":1},{"$f":"IF(I$165=\"Error\",\"Error\",D165-I165)","v":0},{"$f":"IF(I$165=\"Error\",\"Error\",SUM(F167:F172))","v":2},null,null,null,{"$f":"VLOOKUP($A$2,AVAILABLE_Buildings_Other[#All],MATCH(L164,AVAILABLE_Buildings_Other[#Headers],0))","v":1},{"$f":"VLOOKUP($A$2,AVAILABLE_Buildings_Other[#All],MATCH(L164,AVAILABLE_Buildings_Other[#Headers],0)+1)","v":10},null,null,null,{"$f":"IF(SUM(M167:M176)>O165,\"Error\",SUM(M167:M176))","v":1},{"$f":"IF(T$165=\"Error\",\"Error\",O165-T165)","v":0},{"$f":"IF(T$165=\"Error\",\"Error\",SUM(Q167:Q176))","v":0}]
["+","NB",null,null,null,"NB","+","Coût","Temps","Coût Total","Temps Total","+","NB",null,null,null,"NB","+","Coût","Temps","Coût Total","Temps Total"]
[1,{"$f":"IF(Paramètres!AC6=0,\"\",Paramètres!AC6)","v":""},{"$f":"IF(C166<>0,C166+IF(AND(B166<>\"\",A166<P$6),B166,0),IF(AND(B166<>\"\",A166<P$6),B166,0))","v":0},null,null,{"$f":"IF(G167<>\"/\",IF(I$165=\"Error\",\"Error\",$J$165+C167),\"/\")","v":0},{"$f":"IF(I$165=\"Error\",\"Error\",IF(AND($E$165<>\"/\",$E$165>'Paramètres - Admin'!$A2),'Paramètres - Admin'!$A3,\"/\"))","v":1},{"$f":"IF(G167<>\"/\",VLOOKUP(G167,COSTS_Clan_Castle[#All],2),\"/\")","v":40000},{"$f":"IF(G167<>\"/\",VLOOKUP(G167,COSTS_Clan_Castle[#All],3),\"/\")","v":0},{"$f":"IF(I$165=\"Error\",\"Error\",IF(H167<>\"/\",F167*H167,0))","v":0},{"$f":"IF(I$165=\"Error\",\"Error\",IF(I167<>\"/\",F167*I167,0))","v":0},1,{"$f":"IF(Paramètres!AD6=0,\"\",Paramètres!AD6)","v":""},{"$f":"IF(N166<>0,N166+IF(AND(M166<>\"\",L166<P$6),M166,0),IF(AND(M166<>\"\",L166<P$6),M166,0))","v":0},null,null,{"$f":"IF(R167<>\"/\",IF(T$165=\"Error\",\"Error\",$U$165+N167),\"/\")","v":0},{"$f":"IF(T$165=\"Error\",\"Error\",IF(AND($P$165<>\"/\",$P$165>'Paramètres - Admin'!$A2),'Paramètres - Admin'!$A3,\"/\"))","v":1},{"$f":"IF(R167<>\"/\",VLOOKUP(R167,COSTS_Town_Home[#All],2),\"/\")","v":0},{"$f":"IF(R167<>\"/\",VLOOKUP(R167,COSTS_Town_Home[#All],3),\"/\")","v":0},{"$f":"IF(T$165=\"Error\",\"Error\",IF(S167<>\"/\",Q167*S167,0))","v":0},{"$f":"IF(T$165=\"Error\",\"Error\",IF(T167<>\"/\",Q167*T167,0))","v":0}]
[2,{"$f":"IF(Paramètres!AC7=0,\"\",Paramètres!AC7)","v":""},0,null,null,0,{"$f":"IF(I$165=\"Error\",\"Error\",IF(AND($E$165<>\"/\",$E$165>'Paramètres - Admin'!$A3),'Paramètres - Admin'!$A4,\"/\"))","v":2},{"$f":"IF(G168<>\"/\",VLOOKUP(G168,COSTS_Clan_Castle[#All],2),\"/\")","v":100000},{"$f":"IF(G168<>\"/\",VLOOKUP(G168,COSTS_Clan_Castle[#All],3),\"/\")","v":6},0,0,2,{"$f":"IF(Paramètres!AD7=0,\"\",Paramètres!AD7)","v":""},{"$f":"IF(N167<>0,N167+IF(AND(M167<>\"\",L167<P$6),M167,0),IF(AND(M167<>\"\",L167<P$6),M167,0))","v":0},null,null,{"$f":"IF(R168<>\"/\",IF(T$165=\"Error\",\"Error\",$U$165+N168),\"/\")","v":0},{"$f":"IF(T$165=\"Error\",\"Error\",IF(AND($P$165<>\"/\",$P$165>'Paramètres - Admin'!$A3),'Paramètres - Admin'!$A4,\"/\"))","v":2},{"$f":"IF(R168<>\"/\",VLOOKUP(R168,COSTS_Town_Home[#All],2),\"/\")","v":1000},{"$f":"IF(R168<>\"/\",VLOOKUP(R168,COSTS_Town_Home[#All],3),\"/\")","v":8.3333333333333329E-2},{"$f":"IF(T$165=\"Error\",\"Error\",IF(S168<>\"/\",Q168*S168,0))","v":0},{"$f":"IF(T$165=\"Error\",\"Error\",IF(T168<>\"/\",Q168*T168,0))","v":0}]
[3,{"$f":"IF(Paramètres!AC8=0,\"\",Paramètres!AC8)","v":""},0,null,null,0,{"$f":"IF(I$165=\"Error\",\"Error\",IF(AND($E$165<>\"/\",$E$165>'Paramètres - Admin'!$A4),'Paramètres - Admin'!$A5,\"/\"))","v":3},{"$f":"IF(G169<>\"/\",VLOOKUP(G169,COSTS_Clan_Castle[#All],2),\"/\")","v":800000},{"$f":"IF(G169<>\"/\",VLOOKUP(G169,COSTS_Clan_Castle[#All],3),\"/\")","v":24},0,0,3,{"$f":"IF(Paramètres!AD8=0,\"\",Paramètres!AD8)","v":""},0,null,null,0,{"$f":"IF(T$165=\"Error\",\"Error\",IF(AND($P$165<>\"/\",$P$165>'Paramètres - Admin'!$A4),'Paramètres - Admin'!$A5,\"/\"))","v":3},{"$f":"IF(R169<>\"/\",VLOOKUP(R169,COSTS_Town_Home[#All],2),\"/\")","v":4000},{"$f":"IF(R169<>\"/\",VLOOKUP(R169,COSTS_Town_Home[#All],3),\"/\")","v":3},0,0]
[4,{"$f":"IF(Paramètres!AC9=0,\"\",Paramètres!AC9)","v":1},0,null,null,0,{"$f":"IF(I$165=\"Error\",\"Error\",IF(AND($E$165<>\"/\",$E$165>'Paramètres - Admin'!$A5),'Paramètres - Admin'!$A6,\"/\"))","v":4},{"$f":"IF(G170<>\"/\",VLOOKUP(G170,COSTS_Clan_Castle[#All],2),\"/\")","v":1800000},{"$f":"IF(G170<>\"/\",VLOOKUP(G170,COSTS_Clan_Castle[#All],3),\"/\")","v":48},0,0,4,{"$f":"IF(Paramètres!AD9=0,\"\",Paramètres!AD9)","v":""},0,null,null,0,{"$f":"IF(T$165=\"Error\",\"Error\",IF(AND($P$165<>\"/\",$P$165>'Paramètres - Admin'!$A5),'Paramètres - Admin'!$A6,\"/\"))","v":4},{"$f":"IF(R170<>\"/\",VLOOKUP(R170,COSTS_Town_Home[#All],2),\"/\")","v":25000},{"$f":"IF(R170<>\"/\",VLOOKUP(R170,COSTS_Town_Home[#All],3),\"/\")","v":24},0,0]
[5,{"$f":"IF(Paramètres!AC10=0,\"\",Paramètres!AC10)","v":""},1,null,null,1,{"$f":"IF(I$165=\"Error\",\"Error\",IF(AND($E$165<>\"/\",$E$165>'Paramètres - Admin'!$A6),'Paramètres - Admin'!$A7,\"/\"))","v":5},{"$f":"IF(G171<>\"/\",VLOOKUP(G171,COSTS_Clan_Castle[#All],2),\"/\")","v":5000000},{"$f":"IF(G171<>\"/\",VLOOKUP(G171,COSTS_Clan_Castle[#All],3),\"/\")","v":168},5000000,168,5,{"$f":"IF(Paramètres!AD10=0,\"\",Paramètres!AD10)","v":""},0,null,null,0,{"$f":"IF(T$165=\"Error\",\"Error\",IF(AND($P$165<>\"/\",$P$165>'Paramètres - Admin'!$A6),'Paramètres - Admin'!$A7,\"/\"))","v":5},{"$f":"IF(R171<>\"/\",VLOOKUP(R171,COSTS_Town_Home[#All],2),\"/\")","v":150000},{"$f":"IF(R171<>\"/\",VLOOKUP(R171,COSTS_Town_Home[#All],3),\"/\")","v":48},0,0]
[6,{"$f":"IF(Paramètres!AC11=0,\"\",Paramètres!AC11)","v":""},1,null,null,1,{"$f":"IF(I$165=\"Error\",\"Error\",IF(AND($E$165<>\"/\",$E$165>'Paramètres - Admin'!$A7),'Paramètres - Admin'!$A8,\"/\"))","v":6},{"$f":"IF(G172<>\"/\",VLOOKUP(G172,COSTS_Clan_Castle[#All],2),\"/\")","v":7000000},{"$f":"IF(G172<>\"/\",VLOOKUP(G172,COSTS_Clan_Castle[#All],3),\"/\")","v":336},7000000,336,6,{"$f":"IF(Paramètres!AD11=0,\"\",Paramètres!AD11)","v":""},0,null,null,0,{"$f":"IF(T$165=\"Error\",\"Error\",IF(AND($P$165<>\"/\",$P$165>'Paramètres - Admin'!$A7),'Paramètres - Admin'!$A8,\"/\"))","v":6},{"$f":"IF(R172<>\"/\",VLOOKUP(R172,COSTS_Town_Home[#All],2),\"/\")","v":750000},{"$f":"IF(R172<>\"/\",VLOOKUP(R172,COSTS_Town_Home[#All],3),\"/\")","v":96},0,0]
[null,null,null,null,null,null,null,null,"Total",{"$f":"IF(I$165=\"Error\",\"Error\",SUM(J167:J172))","v":12000000},{"$f":"IF(I$165=\"Error\",\"Error\",SUM(K167:K172))","v":504},7,{"$f":"IF(Paramètres!AD12=0,\"\",Paramètres!AD12)","v":""},0,null,null,0,{"$f":"IF(T$165=\"Error\",\"Error\",IF(AND($P$165<>\"/\",$P$165>'Paramètres - Admin'!$A8),'Paramètres - Admin'!$A9,\"/\"))","v":7},{"$f":"IF(R173<>\"/\",VLOOKUP(R173,COSTS_Town_Home[#All],2),\"/\")","v":1200000},{"$f":"IF(R173<>\"/\",VLOOKUP(R173,COSTS_Town_Home[#All],3),\"/\")","v":144},0,0]
[null,null,null,null,null,null,null,null,null,null,null,8,{"$f":"IF(Paramètres!AD13=0,\"\",Paramètres!AD13)","v":""},0,null,null,0,{"$f":"IF(T$165=\"Error\",\"Error\",IF(AND($P$165<>\"/\",$P$165>'Paramètres - Admin'!$A9),'Paramètres - Admin'!$A10,\"/\"))","v":8},{"$f":"IF(R174<>\"/\",VLOOKUP(R174,COSTS_Town_Home[#All],2),\"/\")","v":2000000},{"$f":"IF(R174<>\"/\",VLOOKUP(R174,COSTS_Town_Home[#All],3),\"/\")","v":192},0,0]
[null,null,null,null,null,null,null,null,null,null,null,9,{"$f":"IF(Paramètres!AD14=0,\"\",Paramètres!AD14)","v":""},0,null,null,0,{"$f":"IF(T$165=\"Error\",\"Error\",IF(AND($P$165<>\"/\",$P$165>'Paramètres - Admin'!$A10),'Paramètres - Admin'!$A11,\"/\"))","v":9},{"$f":"IF(R175<>\"/\",VLOOKUP(R175,COSTS_Town_Home[#All],2),\"/\")","v":3000000},{"$f":"IF(R175<>\"/\",VLOOKUP(R175,COSTS_Town_Home[#All],3),\"/\")","v":240},0,0]
[null,null,null,null,null,null,null,null,null,null,null,10,{"$f":"IF(Paramètres!AD15=0,\"\",Paramètres!AD15)","v":1},0,null,null,0,{"$f":"IF(T$165=\"Error\",\"Error\",IF(AND($P$165<>\"/\",$P$165>'Paramètres - Admin'!$A11),'Paramètres - Admin'!$A12,\"/\"))","v":10},{"$f":"IF(R176<>\"/\",VLOOKUP(R176,COSTS_Town_Home[#All],2),\"/\")","v":4000000},{"$f":"IF(R176<>\"/\",VLOOKUP(R176,COSTS_Town_Home[#All],3),\"/\")","v":336},0,0]
[null,null,null,null,null,null,null,null,null,null,null,null,null,null,null,null,null,null,null,"Total",{"$f":"IF(T$165=\"Error\",\"Error\",SUM(U167:U176))","v":0},{"$f":"IF(T$165=\"Error\",\"Error\",SUM(V167:V176))","v":0}]
[]
[]
["Pièges Défensifs"]
["Or"]
["Bombe",null,null,"Max","Max +",null,null,null,"Actuel","À Faire","Améliorations","Bombe aérienne",null,null,"Max","Max +",null,null,null,"Actuel","À Faire","Améliorations"]
[null,null,null,{"$f":"VLOOKUP($A$2,AVAILABLE_Traps[#All],MATCH(A182,AVAILABLE_Traps[#Headers],0))","v":6},{"$f":"VLOOKUP($A$2,AVAILABLE_Traps[#All],MATCH(A182,AVAILABLE_Traps[#Headers],0)+1)","v":6},null,null,null,{"$f":"IF(SUM(B185:B190)>D183,\"Error\",SUM(B185:B190))","v":6},{"$f":"IF(I$183=\"Error\",\"Error\",D183-I183)","v":0},{"$f":"IF(I$183=\"Error\",\"Error\",SUM(F185:F190))","v":12},null,null,null,{"$f":"VLOOKUP($A$2,AVAILABLE_Traps[#All],MATCH(L182,AVAILABLE_Traps[#Headers],0))","v":5},{"$f":"VLOOKUP($A$2,AVAILABLE_Traps[#All],MATCH(L182,AVAILABLE_Traps[#Headers],0)+1)","v":4},null,null,null,{"$f":"IF(SUM(M185:M188)>O183,\"Error\",SUM(M185:M188))","v":5},{"$f":"IF(T$183=\"Error\",\"Error\",O183-T183)","v":0},{"$f":"IF(T$183=\"Error\",\"Error\",SUM(Q185:Q188))","v":6}]
["+","NB",null,null,null,"NB","+","Coût","Temps","Coût Total","Temps Total","+","NB",null,null,null,"NB","+","Coût","Temps","Coût Total","Temps Total"]
[1,{"$f":"IF(Paramètres!W6=0,\"\",Paramètres!W6)","v":""},{"$f":"IF(C184<>0,C184+IF(AND(B184<>\"\",A184<E$183),B184,0),IF(AND(B184<>\"\",A184<E$183),B184,0))","v":0},null,null,{"$f":"IF(G185<>\"/\",IF($I$183=\"Error\",\"Error\",$J$183+C185),\"/\")","v":0},{"$f":"IF(I$183=\"Error\",\"Error\",IF(AND($E$183<>\"/\",$E$183>'Paramètres - Admin'!$A2),'Paramètres - Admin'!$A3,\"/\"))","v":1},{"$f":"IF(G185<>\"/\",VLOOKUP(G185,COSTS_Bomb[#All],2),\"/\")","v":400},{"$f":"IF(G185<>\"/\",VLOOKUP(G185,COSTS_Bomb[#All],3),\"/\")","v":0},{"$f":"IF(I$183=\"Error\",\"Error\",IF(H185<>\"/\",F185*H185,0))","v":0},{"$f":"IF(I$183=\"Error\",\"Error\",IF(I185<>\"/\",F185*I185,0))","v":0},1,{"$f":"IF(Paramètres!Z6=0,\"\",Paramètres!Z6)","v":""},{"$f":"IF(N184<>0,N184+IF(AND(M184<>\"\",L184<P$183),M184,0),IF(AND(M184<>\"\",L184<P$183),M184,0))","v":0},null,null,{"$f":"IF(R185<>\"/\",IF($T$183=\"Error\",\"Error\",$U$183+N185),\"/\")","v":0},{"$f":"IF(T$183=\"Error\",\"Error\",IF(AND($P$183<>\"/\",$P$183>'Paramètres - Admin'!$A2),'Paramètres - Admin'!$A3,\"/\"))","v":1},{"$f":"IF(R185<>\"/\",VLOOKUP(R185,COST_Air_Bomb[#All],2),\"/\")","v":4000},{"$f":"IF(R185<>\"/\",VLOOKUP(R185,COST_Air_Bomb[#All],3),\"/\")","v":0},{"$f":"IF(T$183=\"Error\",\"Error\",IF(S185<>\"/\",Q185*S185,0))","v":0},{"$f":"IF(T$183=\"Error\",\"Error\",IF(T185<>\"/\",Q185*T185,0))","v":0}]
[2,{"$f":"IF(Paramètres!W7=0,\"\",Paramètres!W7)","v":""},0,null,null,0,{"$f":"IF(I$183=\"Error\",\"Error\",IF(AND($E$183<>\"/\",$E$183>'Paramètres - Admin'!$A3),'Paramètres - Admin'!$A4,\"/\"))","v":2},{"$f":"IF(G186<>\"/\",VLOOKUP(G186,COSTS_Bomb[#All],2),\"/\")","v":1000},{"$f":"IF(G186<>\"/\",VLOOKUP(G186,COSTS_Bomb[#All],3),\"/\")","v":0.25},0,{"$f":"IF(I$101=\"Error\",\"Error\",IF(I186<>\"/\",F186*I186,0))","v":0},2,{"$f":"IF(Paramètres!Z7=0,\"\",Paramètres!Z7)","v":1},{"$f":"IF(N185<>0,N185+IF(AND(M185<>\"\",L185<P$183),M185,0),IF(AND(M185<>\"\",L185<P$183),M185,0))","v":0},null,null,{"$f":"IF(R186<>\"/\",IF($T$183=\"Error\",\"Error\",$U$183+N186),\"/\")","v":0},{"$f":"IF(T$183=\"Error\",\"Error\",IF(AND($P$183<>\"/\",$P$183>'Paramètres - Admin'!$A3),'Paramètres - Admin'!$A4,\"/\"))","v":2},{"$f":"IF(R186<>\"/\",VLOOKUP(R186,COST_Air_Bomb[#All],2),\"/\")","v":20000},{"$f":"IF(R186<>\"/\",VLOOKUP(R186,COST_Air_Bomb[#All],3),\"/\")","v":4},{"$f":"IF(T$183=\"Error\",\"Error\",IF(S186<>\"/\",Q186*S186,0))","v":0},{"$f":"IF(T$183=\"Error\",\"Error\",IF(T186<>\"/\",Q186*T186,0))","v":0}]
[3,{"$f":"IF(Paramètres!W8=0,\"\",Paramètres!W8)","v":""},0,null,null,0,{"$f":"IF(I$183=\"Error\",\"Error\",IF(AND($E$183<>\"/\",$E$183>'Paramètres - Admin'!$A4),'Paramètres - Admin'!$A5,\"/\"))","v":3},{"$f":"IF(G187<>\"/\",VLOOKUP(G187,COSTS_Bomb[#All],2),\"/\")","v":10000},{"$f":"IF(G187<>\"/\",VLOOKUP(G187,COSTS_Bomb[#All],3),\"/\")","v":2},0,{"$f":"IF(I$101=\"Error\",\"Error\",IF(I187<>\"/\",F187*I187,0))","v":0},3,{"$f":"IF(Paramètres!Z8=0,\"\",Paramètres!Z8)","v":4},{"$f":"IF(N186<>0,N186+IF(AND(M186<>\"\",L186<P$183),M186,0),IF(AND(M186<>\"\",L186<P$183),M186,0))","v":1},null,null,{"$f":"IF(R187<>\"/\",IF($T$183=\"Error\",\"Error\",$U$183+N187),\"/\")","v":1},{"$f":"IF(T$183=\"Error\",\"Error\",IF(AND($P$183<>\"/\",$P$183>'Paramètres - Admin'!$A4),'Paramètres - Admin'!$A5,\"/\"))","v":3},{"$f":"IF(R187<>\"/\",VLOOKUP(R187,COST_Air_Bomb[#All],2),\"/\")","v":200000},{"$f":"IF(R187<>\"/\",VLOOKUP(R187,COST_Air_Bomb[#All],3),\"/\")","v":12},{"$f":"IF(T$183=\"Error\",\"Error\",IF(S187<>\"/\",Q187*S187,0))","v":200000},{"$f":"IF(T$183=\"Error\",\"Error\",IF(T187<>\"/\",Q187*T187,0))","v":12}]
[4,{"$f":"IF(Paramètres!W9=0,\"\",Paramètres!W9)","v":6},0,null,null,0,{"$f":"IF(I$183=\"Error\",\"Error\",IF(AND($E$183<>\"/\",$E$183>'Paramètres - Admin'!$A5),'Paramètres - Admin'!$A6,\"/\"))","v":4},{"$f":"IF(G188<>\"/\",VLOOKUP(G188,COSTS_Bomb[#All],2),\"/\")","v":100000},{"$f":"IF(G188<>\"/\",VLOOKUP(G188,COSTS_Bomb[#All],3),\"/\")","v":8},0,{"$f":"IF(I$101=\"Error\",\"Error\",IF(I188<>\"/\",F188*I188,0))","v":0},4,{"$f":"IF(Paramètres!Z9=0,\"\",Paramètres!Z9)","v":""},{"$f":"IF(N187<>0,N187+IF(AND(M187<>\"\",L187<P$183),M187,0),IF(AND(M187<>\"\",L187<P$183),M187,0))","v":5},null,null,{"$f":"IF(R188<>\"/\",IF($T$183=\"Error\",\"Error\",$U$183+N188),\"/\")","v":5},{"$f":"IF(T$183=\"Error\",\"Error\",IF(AND($P$183<>\"/\",$P$183>'Paramètres - Admin'!$A5),'Paramètres - Admin'!$A6,\"/\"))","v":4},{"$f":"IF(R188<>\"/\",VLOOKUP(R188,COST_Air_Bomb[#All],2),\"/\")","v":1500000},{"$f":"IF(R188<>\"/\",VLOOKUP(R188,COST_Air_Bomb[#All],3),\"/\")","v":24},{"$f":"IF(T$183=\"Error\",\"Error\",IF(S188<>\"/\",Q188*S188,0))","v":7500000},{"$f":"IF(T$183=\"Error\",\"Error\",IF(T188<>\"/\",Q188*T188,0))","v":120}]
[5,{"$f":"IF(Paramètres!W10=0,\"\",Paramètres!W10)","v":""},6,null,null,6,{"$f":"IF(I$183=\"Error\",\"Error\",IF(AND($E$183<>\"/\",$E$183>'Paramètres - Admin'!$A6),'Paramètres - Admin'!$A7,\"/\"))","v":5},{"$f":"IF(G189<>\"/\",VLOOKUP(G189,COSTS_Bomb[#All],2),\"/\")","v":1000000},{"$f":"IF(G189<>\"/\",VLOOKUP(G189,COSTS_Bomb[#All],3),\"/\")","v":24},6000000,{"$f":"IF(I$101=\"Error\",\"Error\",IF(I189<>\"/\",F189*I189,0))","v":144},null,null,null,null,null,null,null,null,"Total",{"$f":"IF(T$183=\"Error\",\"Error\",SUM(U185:U188))","v":7700000},{"$f":"IF(T$183=\"Error\",\"Error\",SUM(V185:V188))","v":132}]
[6,{"$f":"IF(Paramètres!W11=0,\"\",Paramètres!W11)","v":""},6,null,null,6,{"$f":"IF(I$183=\"Error\",\"Error\",IF(AND($E$183<>\"/\",$E$183>'Paramètres - Admin'!$A7),'Paramètres - Admin'!$A8,\"/\"))","v":6},{"$f":"IF(G190<>\"/\",VLOOKUP(G190,COSTS_Bomb[#All],2),\"/\")","v":1500000},{"$f":"IF(G190<>\"/\",VLOOKUP(G190,COSTS_Bomb[#All],3),\"/\")","v":48},9000000,{"$f":"IF(I$183=\"Error\",\"Error\",IF(I190<>\"/\",F190*I190,0))","v":288},"Tête chercheuse",null,null,"Max","Max +",null,null,null,"Actuel","À Faire","Améliorations"]
[null,null,null,null,null,null,null,null,"Total",{"$f":"IF(I$183=\"Error\",\"Error\",SUM(J185:J190))","v":15000000},{"$f":"IF(I$183=\"Error\",\"Error\",SUM(K185:K190))","v":432},null,null,null,{"$f":"VLOOKUP($A$2,AVAILABLE_Traps[#All],MATCH(L190,AVAILABLE_Traps[#Headers],0))","v":5},{"$f":"VLOOKUP($A$2,AVAILABLE_Traps[#All],MATCH(L190,AVAILABLE_Traps[#Headers],0)+1)","v":3},null,null,null,{"$f":"IF(SUM(M193:M195)>O191,\"Error\",SUM(M193:M195))","v":5},{"$f":"IF(T$191=\"Error\",\"Error\",O191-T191)","v":0},{"$f":"IF(T$191=\"Error\",\"Error\",SUM(Q193:Q195))","v":10}]
["Piège à ressort",null,null,"Max","Max +",null,null,null,"Actuel","À Faire","Améliorations","+","NB",null,null,null,"NB","+","Coût","Temps","Coût Total","Temps Total"]
[null,null,null,{"$f":"VLOOKUP($A$2,AVAILABLE_Traps[#All],MATCH(A192,AVAILABLE_Traps[#Headers],0))","v":6},{"$f":"VLOOKUP($A$2,AVAILABLE_Traps[#All],MATCH(A192,AVAILABLE_Traps[#Headers],0)+1)","v":1},null,null,null,{"$f":"IF(SUM(B195:B195)>D193,\"Error\",SUM(B195:B195))","v":6},{"$f":"IF(I$193=\"Error\",\"Error\",D193-I193)","v":0},{"$f":"IF(I$193=\"Error\",\"Error\",SUM(F195:F195))","v":0},1,{"$f":"IF(Paramètres!AA6=0,\"\",Paramètres!AA6)","v":5},{"$f":"IF(N192<>0,N192+IF(AND(M192<>\"\",L192<P$191),M192,0),IF(AND(M192<>\"\",L192<P$191),M192,0))","v":0},null,null,{"$f":"IF(R193<>\"/\",IF($T$191=\"Error\",\"Error\",$U$191+N193),\"/\")","v":0},{"$f":"IF(T$191=\"Error\",\"Error\",IF(AND($P$191<>\"/\",$P$191>'Paramètres - Admin'!$A2),'Paramètres - Admin'!$A3,\"/\"))","v":1},{"$f":"IF(R193<>\"/\",VLOOKUP(R193,COST_Seeking_Air_Mine[#All],2),\"/\")","v":15000},{"$f":"IF(R193<>\"/\",VLOOKUP(R193,COST_Seeking_Air_Mine[#All],3),\"/\")","v":5},{"$f":"IF(T$191=\"Error\",\"Error\",IF(S193<>\"/\",Q193*S193,0))","v":0},{"$f":"IF(T$191=\"Error\",\"Error\",IF(T193<>\"/\",Q193*T193,0))","v":0}]
["+","NB",null,null,null,"NB","+","Coût","Temps","Coût Total","Temps Total",2,{"$f":"IF(Paramètres!AA7=0,\"\",Paramètres!AA7)","v":""},{"$f":"IF(N193<>0,N193+IF(AND(M193<>\"\",L193<P$191),M193,0),IF(AND(M193<>\"\",L193<P$191),M193,0))","v":5},null,null,{"$f":"IF(R194<>\"/\",IF($T$191=\"Error\",\"Error\",$U$191+N194),\"/\")","v":5},{"$f":"IF(T$191=\"Error\",\"Error\",IF(AND($P$191<>\"/\",$P$191>'Paramètres - Admin'!$A3),'Paramètres - Admin'!$A4,\"/\"))","v":2},{"$f":"IF(R194<>\"/\",VLOOKUP(R194,COST_Seeking_Air_Mine[#All],2),\"/\")","v":2000000},{"$f":"IF(R194<>\"/\",VLOOKUP(R194,COST_Seeking_Air_Mine[#All],3),\"/\")","v":24},{"$f":"IF(T$191=\"Error\",\"Error\",IF(S194<>\"/\",Q194*S194,0))","v":10000000},{"$f":"IF(T$191=\"Error\",\"Error\",IF(T194<>\"/\",Q194*T194,0))","v":120}]
[1,{"$f":"IF(Paramètres!X6=0,\"\",Paramètres!X6)","v":6},{"$f":"IF(C194<>0,C194+IF(AND(B194<>\"\",A194<E$193),B194,0),IF(AND(B194<>\"\",A194<E$193),B194,0))","v":0},null,null,{"$f":"IF(G195<>\"/\",IF($I$193=\"Error\",\"Error\",$J$193+C195),\"/\")","v":0},{"$f":"IF(I$193=\"Error\",\"Error\",IF(AND($E$193<>\"/\",$E$193>'Paramètres - Admin'!$A2),'Paramètres - Admin'!$A3,\"/\"))","v":1},{"$f":"IF(G195<>\"/\",VLOOKUP(G195,COSTS_Spring_Trap[#All],2),\"/\")","v":2000},{"$f":"IF(G195<>\"/\",VLOOKUP(G195,COSTS_Spring_Trap[#All],3),\"/\")","v":0},{"$f":"IF(I$193=\"Error\",\"Error\",IF(H195<>\"/\",F195*H195,0))","v":0},{"$f":"IF(I$193=\"Error\",\"Error\",IF(I195<>\"/\",F195*I195,0))","v":0},3,{"$f":"IF(Paramètres!AA8=0,\"\",Paramètres!AA8)","v":""},{"$f":"IF(N194<>0,N194+IF(AND(M194<>\"\",L194<P$191),M194,0),IF(AND(M194<>\"\",L194<P$191),M194,0))","v":5},null,null,{"$f":"IF(R195<>\"/\",IF($T$191=\"Error\",\"Error\",$U$191+N195),\"/\")","v":5},{"$f":"IF(T$191=\"Error\",\"Error\",IF(AND($P$191<>\"/\",$P$191>'Paramètres - Admin'!$A4),'Paramètres - Admin'!$A5,\"/\"))","v":3},{"$f":"IF(R195<>\"/\",VLOOKUP(R195,COST_Seeking_Air_Mine[#All],2),\"/\")","v":4000000},{"$f":"IF(R195<>\"/\",VLOOKUP(R195,COST_Seeking_Air_Mine[#All],3),\"/\")","v":72},{"$f":"IF(T$191=\"Error\",\"Error\",IF(S195<>\"/\",Q195*S195,0))","v":20000000},{"$f":"IF(T$191=\"Error\",\"Error\",IF(T195<>\"/\",Q195*T195,0))","v":360}]
[null,null,null,null,null,null,null,null,"Total",{"$f":"IF(I$193=\"Error\",\"Error\",SUM(J195:J195))","v":0},{"$f":"IF(I$193=\"Error\",\"Error\",SUM(K195:K195))","v":0},null,null,null,null,null,null,null,null,"Total",{"$f":"IF(T$191=\"Error\",\"Error\",SUM(U193:U195))","v":30000000},{"$f":"IF(T$191=\"Error\",\"Error\",SUM(V193:V195))","v":480}]
["Bombe géante",null,null,"Max","Max +",null,null,null,"Actuel","À Faire","Améliorations","Piège squelettique",null,null,"Max","Max +",null,null,null,"Actuel","À Faire","Améliorations"]
[null,null,null,{"$f":"VLOOKUP($A$2,AVAILABLE_Traps[#All],MATCH(A197,AVAILABLE_Traps[#Headers],0))","v":5},{"$f":"VLOOKUP($A$2,AVAILABLE_Traps[#All],MATCH(A197,AVAILABLE_Traps[#Headers],0)+1)","v":4},null,null,null,{"$f":"IF(SUM(B200:B203)>D198,\"Error\",SUM(B200:B203))","v":5},{"$f":"IF(I$198=\"Error\",\"Error\",D198-I198)","v":0},{"$f":"IF(I$198=\"Error\",\"Error\",SUM(F200:F203))","v":10},null,null,null,{"$f":"VLOOKUP($A$2,AVAILABLE_Traps[#All],MATCH(L197,AVAILABLE_Traps[#Headers],0))","v":3},{"$f":"VLOOKUP($A$2,AVAILABLE_Traps[#All],MATCH(L197,AVAILABLE_Traps[#Headers],0)+1)","v":3},null,null,null,{"$f":"IF(SUM(M200:M202)>O198,\"Error\",SUM(M200:M202))","v":3},{"$f":"IF(T$198=\"Error\",\"Error\",O198-T198)","v":0},{"$f":"IF(T$198=\"Error\",\"Error\",SUM(Q200:Q202))","v":6}]
["+","NB",null,null,null,"NB","+","Coût","Temps","Coût Total","Temps Total","+","NB",null,null,null,"NB","+","Coût","Temps","Coût Total","Temps Total"]
[1,{"$f":"IF(Paramètres!Y6=0,\"\",Paramètres!Y6)","v":""},{"$f":"IF(C199<>0,C199+IF(AND(B199<>\"\",A199<E$198),B199,0),IF(AND(B199<>\"\",A199<E$198),B199,0))","v":0},null,null,{"$f":"IF(G200<>\"/\",IF($I$198=\"Error\",\"Error\",$J$198+C200),\"/\")","v":0},{"$f":"IF(I$198=\"Error\",\"Error\",IF(AND($E$198<>\"/\",$E$198>'Paramètres - Admin'!$A2),'Paramètres - Admin'!$A3,\"/\"))","v":1},{"$f":"IF(G200<>\"/\",VLOOKUP(G200,COSTS_Giant_Bomb[#All],2),\"/\")","v":12500},{"$f":"IF(G200<>\"/\",VLOOKUP(G200,COSTS_Giant_Bomb[#All],3),\"/\")","v":0},{"$f":"IF(I$198=\"Error\",\"Error\",IF(H200<>\"/\",F200*H200,0))","v":0},{"$f":"IF(I$198=\"Error\",\"Error\",IF(I200<>\"/\",F200*I200,0))","v":0},1,{"$f":"IF(Paramètres!AB6=0,\"\",Paramètres!AB6)","v":3},{"$f":"IF(N199<>0,N199+IF(AND(M199<>\"\",L199<P$198),M199,0),IF(AND(M199<>\"\",L199<P$198),M199,0))","v":0},null,null,{"$f":"IF(R200<>\"/\",IF($T$198=\"Error\",\"Error\",$U$198+N200),\"/\")","v":0},{"$f":"IF(T$198=\"Error\",\"Error\",IF(AND($P$198<>\"/\",$P$198>'Paramètres - Admin'!$A2),'Paramètres - Admin'!$A3,\"/\"))","v":1},{"$f":"IF(R200<>\"/\",VLOOKUP(R200,COST_Skeleton_Trap[#All],2),\"/\")","v":6000},{"$f":"IF(R200<>\"/\",VLOOKUP(R200,COST_Skeleton_Trap[#All],3),\"/\")","v":0},{"$f":"IF(T$198=\"Error\",\"Error\",IF(S200<>\"/\",Q200*S200,0))","v":0},{"$f":"IF(T$198=\"Error\",\"Error\",IF(T200<>\"/\",Q200*T200,0))","v":0}]
[2,{"$f":"IF(Paramètres!Y7=0,\"\",Paramètres!Y7)","v":5},{"$f":"IF(C200<>0,C200+IF(AND(B200<>\"\",A200<E$198),B200,0),IF(AND(B200<>\"\",A200<E$198),B200,0))","v":0},null,null,{"$f":"IF(G201<>\"/\",IF($I$198=\"Error\",\"Error\",$J$198+C201),\"/\")","v":0},{"$f":"IF(I$198=\"Error\",\"Error\",IF(AND($E$198<>\"/\",$E$198>'Paramètres - Admin'!$A3),'Paramètres - Admin'!$A4,\"/\"))","v":2},{"$f":"IF(G201<>\"/\",VLOOKUP(G201,COSTS_Giant_Bomb[#All],2),\"/\")","v":75000},{"$f":"IF(G201<>\"/\",VLOOKUP(G201,COSTS_Giant_Bomb[#All],3),\"/\")","v":6},{"$f":"IF(I$198=\"Error\",\"Error\",IF(H201<>\"/\",F201*H201,0))","v":0},{"$f":"IF(I$198=\"Error\",\"Error\",IF(I201<>\"/\",F201*I201,0))","v":0},2,{"$f":"IF(Paramètres!AB7=0,\"\",Paramètres!AB7)","v":""},{"$f":"IF(N200<>0,N200+IF(AND(M200<>\"\",L200<P$198),M200,0),IF(AND(M200<>\"\",L200<P$198),M200,0))","v":3},null,null,{"$f":"IF(R201<>\"/\",IF($T$198=\"Error\",\"Error\",$U$198+N201),\"/\")","v":3},{"$f":"IF(T$198=\"Error\",\"Error\",IF(AND($P$198<>\"/\",$P$198>'Paramètres - Admin'!$A3),'Paramètres - Admin'!$A4,\"/\"))","v":2},{"$f":"IF(R201<>\"/\",VLOOKUP(R201,COST_Skeleton_Trap[#All],2),\"/\")","v":600000},{"$f":"IF(R201<>\"/\",VLOOKUP(R201,COST_Skeleton_Trap[#All],3),\"/\")","v":6},{"$f":"IF(T$198=\"Error\",\"Error\",IF(S201<>\"/\",Q201*S201,0))","v":1800000},{"$f":"IF(T$198=\"Error\",\"Error\",IF(T201<>\"/\",Q201*T201,0))","v":18}]
[3,{"$f":"IF(Paramètres!Y8=0,\"\",Paramètres!Y8)","v":""},{"$f":"IF(C201<>0,C201+IF(AND(B201<>\"\",A201<E$198),B201,0),IF(AND(B201<>\"\",A201<E$198),B201,0))","v":5},null,null,{"$f":"IF(G202<>\"/\",IF($I$198=\"Error\",\"Error\",$J$198+C202),\"/\")","v":5},{"$f":"IF(I$198=\"Error\",\"Error\",IF(AND($E$198<>\"/\",$E$198>'Paramètres - Admin'!$A4),'Paramètres - Admin'!$A5,\"/\"))","v":3},{"$f":"IF(G202<>\"/\",VLOOKUP(G202,COSTS_Giant_Bomb[#All],2),\"/\")","v":750000},{"$f":"IF(G202<>\"/\",VLOOKUP(G202,COSTS_Giant_Bomb[#All],3),\"/\")","v":24},{"$f":"IF(I$198=\"Error\",\"Error\",IF(H202<>\"/\",F202*H202,0))","v":3750000},{"$f":"IF(I$198=\"Error\",\"Error\",IF(I202<>\"/\",F202*I202,0))","v":120},3,{"$f":"IF(Paramètres!AB8=0,\"\",Paramètres!AB8)","v":""},{"$f":"IF(N201<>0,N201+IF(AND(M201<>\"\",L201<P$198),M201,0),IF(AND(M201<>\"\",L201<P$198),M201,0))","v":3},null,null,{"$f":"IF(R202<>\"/\",IF($T$198=\"Error\",\"Error\",$U$198+N202),\"/\")","v":3},{"$f":"IF(T$198=\"Error\",\"Error\",IF(AND($P$198<>\"/\",$P$198>'Paramètres - Admin'!$A4),'Paramètres - Admin'!$A5,\"/\"))","v":3},{"$f":"IF(R202<>\"/\",VLOOKUP(R202,COST_Skeleton_Trap[#All],2),\"/\")","v":1300000},{"$f":"IF(R202<>\"/\",VLOOKUP(R202,COST_Skeleton_Trap[#All],3),\"/\")","v":24},{"$f":"IF(T$198=\"Error\",\"Error\",IF(S202<>\"/\",Q202*S202,0))","v":3900000},{"$f":"IF(T$198=\"Error\",\"Error\",IF(T202<>\"/\",Q202*T202,0))","v":72}]
[4,{"$f":"IF(Paramètres!Y9=0,\"\",Paramètres!Y9)","v":""},{"$f":"IF(C202<>0,C202+IF(AND(B202<>\"\",A202<E$198),B202,0),IF(AND(B202<>\"\",A202<E$198),B202,0))","v":5},null,null,{"$f":"IF(G203<>\"/\",IF($I$198=\"Error\",\"Error\",$J$198+C203),\"/\")","v":5},{"$f":"IF(I$198=\"Error\",\"Error\",IF(AND($E$198<>\"/\",$E$198>'Paramètres - Admin'!$A5),'Paramètres - Admin'!$A6,\"/\"))","v":4},{"$f":"IF(G203<>\"/\",VLOOKUP(G203,COSTS_Giant_Bomb[#All],2),\"/\")","v":2500000},{"$f":"IF(G203<>\"/\",VLOOKUP(G203,COSTS_Giant_Bomb[#All],3),\"/\")","v":72},{"$f":"IF(I$198=\"Error\",\"Error\",IF(H203<>\"/\",F203*H203,0))","v":12500000},{"$f":"IF(I$198=\"Error\",\"Error\",IF(I203<>\"/\",F203*I203,0))","v":360},null,null,null,null,null,null,null,null,"Total",{"$f":"IF(T$198=\"Error\",\"Error\",SUM(U200:U202))","v":5700000},{"$f":"IF(T$198=\"Error\",\"Error\",SUM(V200:V202))","v":90}]
[null,null,null,null,null,null,null,null,"Total",{"$f":"IF(I$198=\"Error\",\"Error\",SUM(J200:J203))","v":16250000},{"$f":"IF(I$198=\"Error\",\"Error\",SUM(K200:K203))","v":480}]
[]
[]
["Améliorations de Sorts"]
["Élixir"]
["Sort de Foudre",null,null,"Max","Max +",null,null,null,"Actuel","À Faire","Améliorations","Sort de Saut",null,null,"Max","Max +",null,null,null,"Actuel","À Faire","Améliorations"]
[null,null,null,{"$f":"VLOOKUP($A$2,AVAILABLE_Upgrades_Spells[#All],MATCH(A209,AVAILABLE_Upgrades_Spells[#Headers],0))","v":1},{"$f":"VLOOKUP(IF(ISERROR(LOOKUP(MATCH(1,Paramètres!$K$6:$K$45,0),Paramètres!$A$6:$A$45)),0,LOOKUP(MATCH(1,Paramètres!$K$6:$K$45,0),Paramètres!$A$6:$A$45)),AVAILABLE_Upgrades_Spells[#All],MATCH(A209,AVAILABLE_Upgrades_Spells[#Headers],0)+1)","v":6},null,null,null,{"$f":"IF(SUM(B212:B217)>D210,\"Error\",SUM(B212:B217))","v":1},{"$f":"IF(I$210=\"Error\",\"Error\",D210-I210)","v":0},{"$f":"IF(I$210=\"Error\",\"Error\",SUM(F212:F217))","v":1},null,null,null,{"$f":"VLOOKUP($A$2,AVAILABLE_Upgrades_Spells[#All],MATCH(L209,AVAILABLE_Upgrades_Spells[#Headers],0))","v":1},{"$f":"VLOOKUP(IF(ISERROR(LOOKUP(MATCH(1,Paramètres!$K$6:$K$45,0),Paramètres!$A$6:$A$45)),0,LOOKUP(MATCH(1,Paramètres!$K$6:$K$45,0),Paramètres!$A$6:$A$45)),AVAILABLE_Upgrades_Spells[#All],MATCH(L209,AVAILABLE_Upgrades_Spells[#Headers],0)+1)","v":3},null,null,null,{"$f":"IF(SUM(M212:M214)>O210,\"Error\",SUM(M212:M214))","v":1},{"$f":"IF(T$210=\"Error\",\"Error\",O210-T210)","v":0},{"$f":"IF(T$210=\"Error\",\"Error\",SUM(Q212:Q214))","v":1}]
["+","NB",null,null,null,"NB","+","Coût","Temps","Coût Total","Temps Total","+","NB",null,null,null,"NB","+","Coût","Temps","Coût Total","Temps Total"]
[1,{"$f":"IF(Paramètres!AF6=0,\"\",Paramètres!AF6)","v":""},{"$f":"IF(C211<>0,C211+IF(AND(B211<>\"\",A211<E$6),B211,0),IF(AND(B211<>\"\",A211<E$6),B211,0))","v":0},null,null,{"$f":"IF(G212<>\"/\",IF(I$210=\"Error\",\"Error\",$J$210+C212),\"/\")","v":0},{"$f":"IF(I$210=\"Error\",\"Error\",IF(AND($E$210<>\"/\",$E$210>'Paramètres - Admin'!$A2),'Paramètres - Admin'!$A3,\"/\"))","v":1},{"$f":"IF(G212<>\"/\",VLOOKUP(G212,COSTS_Spell_Lightning[#All],2),\"/\")","v":0},{"$f":"IF(G212<>\"/\",VLOOKUP(G212,COSTS_Spell_Lightning[#All],3),\"/\")","v":0},{"$f":"IF(I$210=\"Error\",\"Error\",IF(H212<>\"/\",F212*H212,0))","v":0},{"$f":"IF(I$210=\"Error\",\"Error\",IF(I212<>\"/\",F212*I212,0))","v":0},1,{"$f":"IF(Paramètres!AI6=0,\"\",Paramètres!AI6)","v":""},{"$f":"IF(N211<>0,N211+IF(AND(M211<>\"\",L211<P$6),M211,0),IF(AND(M211<>\"\",L211<P$6),M211,0))","v":0},null,null,{"$f":"IF(R212<>\"/\",IF(T$210=\"Error\",\"Error\",$U$210+N212),\"/\")","v":0},{"$f":"IF(T$210=\"Error\",\"Error\",IF(AND($P$210<>\"/\",$P$210>'Paramètres - Admin'!$A2),'Paramètres - Admin'!$A3,\"/\"))","v":1},{"$f":"IF(R212<>\"/\",VLOOKUP(R212,COSTS_Spell_Jump[#All],2),\"/\")","v":0},{"$f":"IF(R212<>\"/\",VLOOKUP(R212,COSTS_Spell_Jump[#All],3),\"/\")","v":0},{"$f":"IF(T$210=\"Error\",\"Error\",IF(S212<>\"/\",Q212*S212,0))","v":0},{"$f":"IF(T$210=\"Error\",\"Error\",IF(T212<>\"/\",Q212*T212,0))","v":0}]
[2,{"$f":"IF(Paramètres!AF7=0,\"\",Paramètres!AF7)","v":""},0,null,null,0,{"$f":"IF(I$210=\"Error\",\"Error\",IF(AND($E$210<>\"/\",$E$210>'Paramètres - Admin'!$A3),'Paramètres - Admin'!$A4,\"/\"))","v":2},{"$f":"IF(G213<>\"/\",VLOOKUP(G213,COSTS_Spell_Lightning[#All],2),\"/\")","v":200000},{"$f":"IF(G213<>\"/\",VLOOKUP(G213,COSTS_Spell_Lightning[#All],3),\"/\")","v":24},0,0,2,{"$f":"IF(Paramètres!AI7=0,\"\",Paramètres!AI7)","v":1},{"$f":"IF(N212<>0,N212+IF(AND(M212<>\"\",L212<P$6),M212,0),IF(AND(M212<>\"\",L212<P$6),M212,0))","v":0},null,null,{"$f":"IF(R213<>\"/\",IF(T$210=\"Error\",\"Error\",$U$210+N213),\"/\")","v":0},{"$f":"IF(T$210=\"Error\",\"Error\",IF(AND($P$210<>\"/\",$P$210>'Paramètres - Admin'!$A3),'Paramètres - Admin'!$A4,\"/\"))","v":2},{"$f":"IF(R213<>\"/\",VLOOKUP(R213,COSTS_Spell_Jump[#All],2),\"/\")","v":3000000},{"$f":"IF(R213<>\"/\",VLOOKUP(R213,COSTS_Spell_Jump[#All],3),\"/\")","v":120},{"$f":"IF(T$210=\"Error\",\"Error\",IF(S213<>\"/\",Q213*S213,0))","v":0},{"$f":"IF(T$210=\"Error\",\"Error\",IF(T213<>\"/\",Q213*T213,0))","v":0}]
[3,{"$f":"IF(Paramètres!AF8=0,\"\",Paramètres!AF8)","v":""},0,null,null,0,{"$f":"IF(I$210=\"Error\",\"Error\",IF(AND($E$210<>\"/\",$E$210>'Paramètres - Admin'!$A4),'Paramètres - Admin'!$A5,\"/\"))","v":3},{"$f":"IF(G214<>\"/\",VLOOKUP(G214,COSTS_Spell_Lightning[#All],2),\"/\")","v":500000},{"$f":"IF(G214<>\"/\",VLOOKUP(G214,COSTS_Spell_Lightning[#All],3),\"/\")","v":48},0,0,3,{"$f":"IF(Paramètres!AI8=0,\"\",Paramètres!AI8)","v":""},{"$f":"IF(N213<>0,N213+IF(AND(M213<>\"\",L213<P$6),M213,0),IF(AND(M213<>\"\",L213<P$6),M213,0))","v":1},null,null,{"$f":"IF(R214<>\"/\",IF(T$210=\"Error\",\"Error\",$U$210+N214),\"/\")","v":1},{"$f":"IF(T$210=\"Error\",\"Error\",IF(AND($P$210<>\"/\",$P$210>'Paramètres - Admin'!$A4),'Paramètres - Admin'!$A5,\"/\"))","v":3},{"$f":"IF(R214<>\"/\",VLOOKUP(R214,COSTS_Spell_Jump[#All],2),\"/\")","v":6000000},{"$f":"IF(R214<>\"/\",VLOOKUP(R214,COSTS_Spell_Jump[#All],3),\"/\")","v":168},{"$f":"IF(T$210=\"Error\",\"Error\",IF(S214<>\"/\",Q214*S214,0))","v":6000000},{"$f":"IF(T$210=\"Error\",\"Error\",IF(T214<>\"/\",Q214*T214,0))","v":168}]
[4,{"$f":"IF(Paramètres!AF9=0,\"\",Paramètres!AF9)","v":""},0,null,null,0,{"$f":"IF(I$210=\"Error\",\"Error\",IF(AND($E$210<>\"/\",$E$210>'Paramètres - Admin'!$A5),'Paramètres - Admin'!$A6,\"/\"))","v":4},{"$f":"IF(G215<>\"/\",VLOOKUP(G215,COSTS_Spell_Lightning[#All],2),\"/\")","v":1000000},{"$f":"IF(G215<>\"/\",VLOOKUP(G215,COSTS_Spell_Lightning[#All],3),\"/\")","v":72},0,0,null,null,null,null,null,null,null,null,"Total",{"$f":"IF(T$210=\"Error\",\"Error\",SUM(U212:U214))","v":6000000},{"$f":"IF(T$210=\"Error\",\"Error\",SUM(V212:V214))","v":168}]
[5,{"$f":"IF(Paramètres!AF10=0,\"\",Paramètres!AF10)","v":1},0,null,null,0,{"$f":"IF(I$210=\"Error\",\"Error\",IF(AND($E$210<>\"/\",$E$210>'Paramètres - Admin'!$A6),'Paramètres - Admin'!$A7,\"/\"))","v":5},{"$f":"IF(G216<>\"/\",VLOOKUP(G216,COSTS_Spell_Lightning[#All],2),\"/\")","v":2000000},{"$f":"IF(G216<>\"/\",VLOOKUP(G216,COSTS_Spell_Lightning[#All],3),\"/\")","v":96},0,0,"Sort de Gel",null,null,"Max","Max +",null,null,null,"Actuel","À Faire","Améliorations"]
[6,{"$f":"IF(Paramètres!AF11=0,\"\",Paramètres!AF11)","v":""},1,null,null,1,{"$f":"IF(I$210=\"Error\",\"Error\",IF(AND($E$210<>\"/\",$E$210>'Paramètres - Admin'!$A7),'Paramètres - Admin'!$A8,\"/\"))","v":6},{"$f":"IF(G217<>\"/\",VLOOKUP(G217,COSTS_Spell_Lightning[#All],2),\"/\")","v":8000000},{"$f":"IF(G217<>\"/\",VLOOKUP(G217,COSTS_Spell_Lightning[#All],3),\"/\")","v":336},8000000,336,null,null,null,{"$f":"VLOOKUP($A$2,AVAILABLE_Upgrades_Spells[#All],MATCH(L216,AVAILABLE_Upgrades_Spells[#Headers],0))","v":1},{"$f":"VLOOKUP(IF(ISERROR(LOOKUP(MATCH(1,Paramètres!$K$6:$K$45,0),Paramètres!$A$6:$A$45)),0,LOOKUP(MATCH(1,Paramètres!$K$6:$K$45,0),Paramètres!$A$6:$A$45)),AVAILABLE_Upgrades_Spells[#All],MATCH(L216,AVAILABLE_Upgrades_Spells[#Headers],0)+1)","v":5},null,null,null,{"$f":"IF(SUM(M219:M223)>O217,\"Error\",SUM(M219:M223))","v":1},{"$f":"IF(T$217=\"Error\",\"Error\",O217-T217)","v":0},{"$f":"IF(T$217=\"Error\",\"Error\",SUM(Q219:Q223))","v":4}]
[null,null,null,null,null,null,null,null,"Total",{"$f":"IF(I$210=\"Error\",\"Error\",SUM(J212:J217))","v":8000000},{"$f":"IF(I$210=\"Error\",\"Error\",SUM(K212:K217))","v":336},"+","NB",null,null,null,"NB","+","Coût","Temps","Coût Total","Temps Total"]
["Sort de Guérison",null,null,"Max","Max +",null,null,null,"Actuel","À Faire","Améliorations",1,{"$f":"IF(Paramètres!AJ6=0,\"\",Paramètres!AJ6)","v":1},{"$f":"IF(N218<>0,N218+IF(AND(M218<>\"\",L218<P$6),M218,0),IF(AND(M218<>\"\",L218<P$6),M218,0))","v":0},null,null,{"$f":"IF(R219<>\"/\",IF(T$217=\"Error\",\"Error\",$U$217+N219),\"/\")","v":0},{"$f":"IF(T$217=\"Error\",\"Error\",IF(AND($P$217<>\"/\",$P$217>'Paramètres - Admin'!$A2),'Paramètres - Admin'!$A3,\"/\"))","v":1},{"$f":"IF(R219<>\"/\",VLOOKUP(R219,COSTS_Spell_Freeze[#All],2),\"/\")","v":0},{"$f":"IF(R219<>\"/\",VLOOKUP(R219,COSTS_Spell_Freeze[#All],3),\"/\")","v":0},{"$f":"IF(T$217=\"Error\",\"Error\",IF(S219<>\"/\",Q219*S219,0))","v":0},{"$f":"IF(T$217=\"Error\",\"Error\",IF(T219<>\"/\",Q219*T219,0))","v":0}]
[null,null,null,{"$f":"VLOOKUP($A$2,AVAILABLE_Upgrades_Spells[#All],MATCH(A219,AVAILABLE_Upgrades_Spells[#Headers],0))","v":1},{"$f":"VLOOKUP(IF(ISERROR(LOOKUP(MATCH(1,Paramètres!$K$6:$K$45,0),Paramètres!$A$6:$A$45)),0,LOOKUP(MATCH(1,Paramètres!$K$6:$K$45,0),Paramètres!$A$6:$A$45)),AVAILABLE_Upgrades_Spells[#All],MATCH(A219,AVAILABLE_Upgrades_Spells[#Headers],0)+1)","v":6},null,null,null,{"$f":"IF(SUM(B222:B227)>D220,\"Error\",SUM(B222:B227))","v":1},{"$f":"IF(I$220=\"Error\",\"Error\",D220-I220)","v":0},{"$f":"IF(I$220=\"Error\",\"Error\",SUM(F222:F227))","v":1},2,{"$f":"IF(Paramètres!AJ7=0,\"\",Paramètres!AJ7)","v":""},{"$f":"IF(N219<>0,N219+IF(AND(M219<>\"\",L219<P$6),M219,0),IF(AND(M219<>\"\",L219<P$6),M219,0))","v":1},null,null,{"$f":"IF(R220<>\"/\",IF(T$217=\"Error\",\"Error\",$U$217+N220),\"/\")","v":1},{"$f":"IF(T$217=\"Error\",\"Error\",IF(AND($P$217<>\"/\",$P$217>'Paramètres - Admin'!$A3),'Paramètres - Admin'!$A4,\"/\"))","v":2},{"$f":"IF(R220<>\"/\",VLOOKUP(R220,COSTS_Spell_Freeze[#All],2),\"/\")","v":4000000},{"$f":"IF(R220<>\"/\",VLOOKUP(R220,COSTS_Spell_Freeze[#All],3),\"/\")","v":120},{"$f":"IF(T$217=\"Error\",\"Error\",IF(S220<>\"/\",Q220*S220,0))","v":4000000},{"$f":"IF(T$217=\"Error\",\"Error\",IF(T220<>\"/\",Q220*T220,0))","v":120}]
["+","NB",null,null,null,"NB","+","Coût","Temps","Coût Total","Temps Total",3,{"$f":"IF(Paramètres!AJ8=0,\"\",Paramètres!AJ8)","v":""},{"$f":"IF(N220<>0,N220+IF(AND(M220<>\"\",L220<P$6),M220,0),IF(AND(M220<>\"\",L220<P$6),M220,0))","v":1},null,null,{"$f":"IF(R221<>\"/\",IF(T$217=\"Error\",\"Error\",$U$217+N221),\"/\")","v":1},{"$f":"IF(T$217=\"Error\",\"Error\",IF(AND($P$217<>\"/\",$P$217>'Paramètres - Admin'!$A4),'Paramètres - Admin'!$A5,\"/\"))","v":3},{"$f":"IF(R221<>\"/\",VLOOKUP(R221,COSTS_Spell_Freeze[#All],2),\"/\")","v":5000000},{"$f":"IF(R221<>\"/\",VLOOKUP(R221,COSTS_Spell_Freeze[#All],3),\"/\")","v":168},{"$f":"IF(T$217=\"Error\",\"Error\",IF(S221<>\"/\",Q221*S221,0))","v":5000000},{"$f":"IF(T$217=\"Error\",\"Error\",IF(T221<>\"/\",Q221*T221,0))","v":168}]
[1,{"$f":"IF(Paramètres!AG6=0,\"\",Paramètres!AG6)","v":""},{"$f":"IF(C221<>0,C221+IF(AND(B221<>\"\",A221<E$6),B221,0),IF(AND(B221<>\"\",A221<E$6),B221,0))","v":0},null,null,{"$f":"IF(G222<>\"/\",IF(I$220=\"Error\",\"Error\",$J$220+C222),\"/\")","v":0},{"$f":"IF(I$220=\"Error\",\"Error\",IF(AND($E$220<>\"/\",$E$220>'Paramètres - Admin'!$A2),'Paramètres - Admin'!$A3,\"/\"))","v":1},{"$f":"IF(G222<>\"/\",VLOOKUP(G222,COSTS_Spell_Healing[#All],2),\"/\")","v":0},{"$f":"IF(G222<>\"/\",VLOOKUP(G222,COSTS_Spell_Healing[#All],3),\"/\")","v":0},{"$f":"IF(I$220=\"Error\",\"Error\",IF(H222<>\"/\",F222*H222,0))","v":0},{"$f":"IF(I$220=\"Error\",\"Error\",IF(I222<>\"/\",F222*I222,0))","v":0},4,{"$f":"IF(Paramètres!AJ9=0,\"\",Paramètres!AJ9)","v":""},{"$f":"IF(N221<>0,N221+IF(AND(M221<>\"\",L221<P$6),M221,0),IF(AND(M221<>\"\",L221<P$6),M221,0))","v":1},null,null,{"$f":"IF(R222<>\"/\",IF(T$217=\"Error\",\"Error\",$U$217+N222),\"/\")","v":1},{"$f":"IF(T$217=\"Error\",\"Error\",IF(AND($P$217<>\"/\",$P$217>'Paramètres - Admin'!$A5),'Paramètres - Admin'!$A6,\"/\"))","v":4},{"$f":"IF(R222<>\"/\",VLOOKUP(R222,COSTS_Spell_Freeze[#All],2),\"/\")","v":6500000},{"$f":"IF(R222<>\"/\",VLOOKUP(R222,COSTS_Spell_Freeze[#All],3),\"/\")","v":240},{"$f":"IF(T$217=\"Error\",\"Error\",IF(S222<>\"/\",Q222*S222,0))","v":6500000},{"$f":"IF(T$217=\"Error\",\"Error\",IF(T222<>\"/\",Q222*T222,0))","v":240}]
[2,{"$f":"IF(Paramètres!AG7=0,\"\",Paramètres!AG7)","v":""},0,null,null,0,{"$f":"IF(I$220=\"Error\",\"Error\",IF(AND($E$220<>\"/\",$E$220>'Paramètres - Admin'!$A3),'Paramètres - Admin'!$A4,\"/\"))","v":2},{"$f":"IF(G223<>\"/\",VLOOKUP(G223,COSTS_Spell_Healing[#All],2),\"/\")","v":300000},{"$f":"IF(G223<>\"/\",VLOOKUP(G223,COSTS_Spell_Healing[#All],3),\"/\")","v":24},0,0,5,{"$f":"IF(Paramètres!AJ10=0,\"\",Paramètres!AJ10)","v":""},{"$f":"IF(N222<>0,N222+IF(AND(M222<>\"\",L222<P$6),M222,0),IF(AND(M222<>\"\",L222<P$6),M222,0))","v":1},null,null,{"$f":"IF(R223<>\"/\",IF(T$217=\"Error\",\"Error\",$U$217+N223),\"/\")","v":1},{"$f":"IF(T$217=\"Error\",\"Error\",IF(AND($P$217<>\"/\",$P$217>'Paramètres - Admin'!$A6),'Paramètres - Admin'!$A7,\"/\"))","v":5},{"$f":"IF(R223<>\"/\",VLOOKUP(R223,COSTS_Spell_Freeze[#All],2),\"/\")","v":8000000},{"$f":"IF(R223<>\"/\",VLOOKUP(R223,COSTS_Spell_Freeze[#All],3),\"/\")","v":336},{"$f":"IF(T$217=\"Error\",\"Error\",IF(S223<>\"/\",Q223*S223,0))","v":8000000},{"$f":"IF(T$217=\"Error\",\"Error\",IF(T223<>\"/\",Q223*T223,0))","v":336}]
[3,{"$f":"IF(Paramètres!AG8=0,\"\",Paramètres!AG8)","v":""},0,null,null,0,{"$f":"IF(I$220=\"Error\",\"Error\",IF(AND($E$220<>\"/\",$E$220>'Paramètres - Admin'!$A4),'Paramètres - Admin'!$A5,\"/\"))","v":3},{"$f":"IF(G224<>\"/\",VLOOKUP(G224,COSTS_Spell_Healing[#All],2),\"/\")","v":600000},{"$f":"IF(G224<>\"/\",VLOOKUP(G224,COSTS_Spell_Healing[#All],3),\"/\")","v":48},0,0,null,null,null,null,null,null,null,null,"Total",{"$f":"IF(T$217=\"Error\",\"Error\",SUM(U219:U223))","v":23500000},{"$f":"IF(T$217=\"Error\",\"Error\",SUM(V219:V223))","v":864}]
[4,{"$f":"IF(Paramètres!AG9=0,\"\",Paramètres!AG9)","v":""},0,null,null,0,{"$f":"IF(I$220=\"Error\",\"Error\",IF(AND($E$220<>\"/\",$E$220>'Paramètres - Admin'!$A5),'Paramètres - Admin'!$A6,\"/\"))","v":4},{"$f":"IF(G225<>\"/\",VLOOKUP(G225,COSTS_Spell_Healing[#All],2),\"/\")","v":1200000},{"$f":"IF(G225<>\"/\",VLOOKUP(G225,COSTS_Spell_Healing[#All],3),\"/\")","v":72},0,0]
[5,{"$f":"IF(Paramètres!AG10=0,\"\",Paramètres!AG10)","v":1},0,null,null,0,{"$f":"IF(I$220=\"Error\",\"Error\",IF(AND($E$220<>\"/\",$E$220>'Paramètres - Admin'!$A6),'Paramètres - Admin'!$A7,\"/\"))","v":5},{"$f":"IF(G226<>\"/\",VLOOKUP(G226,COSTS_Spell_Healing[#All],2),\"/\")","v":2400000},{"$f":"IF(G226<>\"/\",VLOOKUP(G226,COSTS_Spell_Healing[#All],3),\"/\")","v":120},0,0]
[6,{"$f":"IF(Paramètres!AG11=0,\"\",Paramètres!AG11)","v":""},1,null,null,1,{"$f":"IF(I$220=\"Error\",\"Error\",IF(AND($E$220<>\"/\",$E$220>'Paramètres - Admin'!$A7),'Paramètres - Admin'!$A8,\"/\"))","v":6},{"$f":"IF(G227<>\"/\",VLOOKUP(G227,COSTS_Spell_Healing[#All],2),\"/\")","v":4800000},{"$f":"IF(G227<>\"/\",VLOOKUP(G227,COSTS_Spell_Healing[#All],3),\"/\")","v":168},4800000,168]
[null,null,null,null,null,null,null,null,"Total",{"$f":"IF(I$220=\"Error\",\"Error\",SUM(J222:J227))","v":4800000},{"$f":"IF(I$220=\"Error\",\"Error\",SUM(K222:K227))","v":168}]
["Sort de Rage",null,null,"Max","Max +",null,null,null,"Actuel","À Faire","Améliorations"]
[null,null,null,{"$f":"VLOOKUP($A$2,AVAILABLE_Upgrades_Spells[#All],MATCH(A229,AVAILABLE_Upgrades_Spells[#Headers],0))","v":1},{"$f":"VLOOKUP(IF(ISERROR(LOOKUP(MATCH(1,Paramètres!$K$6:$K$45,0),Paramètres!$A$6:$A$45)),0,LOOKUP(MATCH(1,Paramètres!$K$6:$K$45,0),Paramètres!$A$6:$A$45)),AVAILABLE_Upgrades_Spells[#All],MATCH(A229,AVAILABLE_Upgrades_Spells[#Headers],0)+1)","v":5},null,null,null,{"$f":"IF(SUM(B232:B236)>D230,\"Error\",SUM(B232:B236))","v":1},{"$f":"IF(I$230=\"Error\",\"Error\",D230-I230)","v":0},{"$f":"IF(I$230=\"Error\",\"Error\",SUM(F232:F236))","v":0}]
["+","NB",null,null,null,"NB","+","Coût","Temps","Coût Total","Temps Total"]
[1,{"$f":"IF(Paramètres!AH6=0,\"\",Paramètres!AH6)","v":""},{"$f":"IF(C231<>0,C231+IF(AND(B231<>\"\",A231<E$6),B231,0),IF(AND(B231<>\"\",A231<E$6),B231,0))","v":0},null,null,{"$f":"IF(G232<>\"/\",IF(I$230=\"Error\",\"Error\",$J$230+C232),\"/\")","v":0},{"$f":"IF(I$230=\"Error\",\"Error\",IF(AND($E$230<>\"/\",$E$230>'Paramètres - Admin'!$A2),'Paramètres - Admin'!$A3,\"/\"))","v":1},{"$f":"IF(G232<>\"/\",VLOOKUP(G232,COSTS_Spell_Rage[#All],2),\"/\")","v":0},{"$f":"IF(G232<>\"/\",VLOOKUP(G232,COSTS_Spell_Rage[#All],3),\"/\")","v":0},{"$f":"IF(I$230=\"Error\",\"Error\",IF(H232<>\"/\",F232*H232,0))","v":0},{"$f":"IF(I$230=\"Error\",\"Error\",IF(I232<>\"/\",F232*I232,0))","v":0}]
[2,{"$f":"IF(Paramètres!AH7=0,\"\",Paramètres!AH7)","v":""},{"$f":"IF(C232<>0,C232+IF(AND(B232<>\"\",A232<E$6),B232,0),IF(AND(B232<>\"\",A232<E$6),B232,0))","v":0},null,null,{"$f":"IF(G233<>\"/\",IF(I$230=\"Error\",\"Error\",$J$230+C233),\"/\")","v":0},{"$f":"IF(I$230=\"Error\",\"Error\",IF(AND($E$230<>\"/\",$E$230>'Paramètres - Admin'!$A3),'Paramètres - Admin'!$A4,\"/\"))","v":2},{"$f":"IF(G233<>\"/\",VLOOKUP(G233,COSTS_Spell_Rage[#All],2),\"/\")","v":450000},{"$f":"IF(G233<>\"/\",VLOOKUP(G233,COSTS_Spell_Rage[#All],3),\"/\")","v":48},{"$f":"IF(I$230=\"Error\",\"Error\",IF(H233<>\"/\",F233*H233,0))","v":0},{"$f":"IF(I$230=\"Error\",\"Error\",IF(I233<>\"/\",F233*I233,0))","v":0}]
[3,{"$f":"IF(Paramètres!AH8=0,\"\",Paramètres!AH8)","v":""},{"$f":"IF(C233<>0,C233+IF(AND(B233<>\"\",A233<E$6),B233,0),IF(AND(B233<>\"\",A233<E$6),B233,0))","v":0},null,null,{"$f":"IF(G234<>\"/\",IF(I$230=\"Error\",\"Error\",$J$230+C234),\"/\")","v":0},{"$f":"IF(I$230=\"Error\",\"Error\",IF(AND($E$230<>\"/\",$E$230>'Paramètres - Admin'!$A4),'Paramètres - Admin'!$A5,\"/\"))","v":3},{"$f":"IF(G234<>\"/\",VLOOKUP(G234,COSTS_Spell_Rage[#All],2),\"/\")","v":900000},{"$f":"IF(G234<>\"/\",VLOOKUP(G234,COSTS_Spell_Rage[#All],3),\"/\")","v":72},{"$f":"IF(I$230=\"Error\",\"Error\",IF(H234<>\"/\",F234*H234,0))","v":0},{"$f":"IF(I$230=\"Error\",\"Error\",IF(I234<>\"/\",F234*I234,0))","v":0}]
[4,{"$f":"IF(Paramètres!AH9=0,\"\",Paramètres!AH9)","v":""},{"$f":"IF(C234<>0,C234+IF(AND(B234<>\"\",A234<E$6),B234,0),IF(AND(B234<>\"\",A234<E$6),B234,0))","v":0},null,null,{"$f":"IF(G235<>\"/\",IF(I$230=\"Error\",\"Error\",$J$230+C235),\"/\")","v":0},{"$f":"IF(I$230=\"Error\",\"Error\",IF(AND($E$230<>\"/\",$E$230>'Paramètres - Admin'!$A5),'Paramètres - Admin'!$A6,\"/\"))","v":4},{"$f":"IF(G235<>\"/\",VLOOKUP(G235,COSTS_Spell_Rage[#All],2),\"/\")","v":1800000},{"$f":"IF(G235<>\"/\",VLOOKUP(G235,COSTS_Spell_Rage[#All],3),\"/\")","v":120},{"$f":"IF(I$230=\"Error\",\"Error\",IF(H235<>\"/\",F235*H235,0))","v":0},{"$f":"IF(I$230=\"Error\",\"Error\",IF(I235<>\"/\",F235*I235,0))","v":0}]
[5,{"$f":"IF(Paramètres!AH10=0,\"\",Paramètres!AH10)","v":1},{"$f":"IF(C235<>0,C235+IF(AND(B235<>\"\",A235<E$6),B235,0),IF(AND(B235<>\"\",A235<E$6),B235,0))","v":0},null,null,{"$f":"IF(G236<>\"/\",IF(I$230=\"Error\",\"Error\",$J$230+C236),\"/\")","v":0},{"$f":"IF(I$230=\"Error\",\"Error\",IF(AND($E$230<>\"/\",$E$230>'Paramètres - Admin'!$A6),'Paramètres - Admin'!$A7,\"/\"))","v":5},{"$f":"IF(G236<>\"/\",VLOOKUP(G236,COSTS_Spell_Rage[#All],2),\"/\")","v":3000000},{"$f":"IF(G236<>\"/\",VLOOKUP(G236,COSTS_Spell_Rage[#All],3),\"/\")","v":168},{"$f":"IF(I$230=\"Error\",\"Error\",IF(H236<>\"/\",F236*H236,0))","v":0},{"$f":"IF(I$230=\"Error\",\"Error\",IF(I236<>\"/\",F236*I236,0))","v":0}]
[null,null,null,null,null,null,null,null,"Total",{"$f":"IF(I$230=\"Error\",\"Error\",SUM(J232:J236))","v":0},{"$f":"IF(I$230=\"Error\",\"Error\",SUM(K232:K236))","v":0}]
[]
[]
["Améliorations de Troupes"]
["Élixir"]
["Barbare",null,null,"Max","Max +",null,null,null,"Actuel","À Faire","Améliorations","Ballon",null,null,"Max","Max +",null,null,null,"Actuel","À Faire","Améliorations"]
[null,null,null,{"$f":"VLOOKUP($A$2,AVAILABLE_Upgrades_Normal_Troops[#All],MATCH(A242,AVAILABLE_Upgrades_Normal_Troops[#Headers],0))","v":1},{"$f":"VLOOKUP(IF(ISERROR(LOOKUP(MATCH(1,Paramètres!$K$6:$K$45,0),Paramètres!$A$6:$A$45)),0,LOOKUP(MATCH(1,Paramètres!$K$6:$K$45,0),Paramètres!$A$6:$A$45)),AVAILABLE_Upgrades_Normal_Troops[#All],MATCH(A242,AVAILABLE_Upgrades_Normal_Troops[#Headers],0)+1)","v":7},null,null,null,{"$f":"IF(SUM(B245:B251)>D243,\"Error\",SUM(B245:B251))","v":1},{"$f":"IF(I$243=\"Error\",\"Error\",D243-I243)","v":0},{"$f":"IF(I$243=\"Error\",\"Error\",SUM(F245:F251))","v":2},null,null,null,{"$f":"VLOOKUP($A$2,AVAILABLE_Upgrades_Normal_Troops[#All],MATCH(L242,AVAILABLE_Upgrades_Normal_Troops[#Headers],0))","v":1},{"$f":"VLOOKUP(IF(ISERROR(LOOKUP(MATCH(1,Paramètres!$K$6:$K$45,0),Paramètres!$A$6:$A$45)),0,LOOKUP(MATCH(1,Paramètres!$K$6:$K$45,0),Paramètres!$A$6:$A$45)),AVAILABLE_Upgrades_Normal_Troops[#All],MATCH(L242,AVAILABLE_Upgrades_Normal_Troops[#Headers],0)+1)","v":6},null,null,null,{"$f":"IF(SUM(M245:M250)>O243,\"Error\",SUM(M245:M250))","v":1},{"$f":"IF(T$243=\"Error\",\"Error\",O243-T243)","v":0},{"$f":"IF(T$243=\"Error\",\"Error\",SUM(Q245:Q250))","v":0}]
["+","NB",null,null,null,"NB","+","Coût","Temps","Coût Total","Temps Total","+","NB",null,null,null,"NB","+","Coût","Temps","Coût Total","Temps Total"]
[1,{"$f":"IF(Paramètres!AK6=0,\"\",Paramètres!AK6)","v":""},{"$f":"IF(C244<>0,C244+IF(AND(B244<>\"\",A244<E$6),B244,0),IF(AND(B244<>\"\",A244<E$6),B244,0))","v":0},null,null,{"$f":"IF(G245<>\"/\",IF(I$243=\"Error\",\"Error\",$J$243+C245),\"/\")","v":0},{"$f":"IF(I$243=\"Error\",\"Error\",IF(AND($E$243<>\"/\",$E$243>'Paramètres - Admin'!$A2),'Paramètres - Admin'!$A3,\"/\"))","v":1},{"$f":"IF(G245<>\"/\",VLOOKUP(G245,COSTS_Barbarian[#All],2),\"/\")","v":0},{"$f":"IF(G245<>\"/\",VLOOKUP(G245,COSTS_Barbarian[#All],3),\"/\")","v":0},{"$f":"IF(I$243=\"Error\",\"Error\",IF(H245<>\"/\",F245*H245,0))","v":0},{"$f":"IF(I$243=\"Error\",\"Error\",IF(I245<>\"/\",F245*I245,0))","v":0},1,{"$f":"IF(Paramètres!AP6=0,\"\",Paramètres!AP6)","v":""},{"$f":"IF(N244<>0,N244+IF(AND(M244<>\"\",L244<P$6),M244,0),IF(AND(M244<>\"\",L244<P$6),M244,0))","v":0},null,null,{"$f":"IF(R245<>\"/\",IF(T$243=\"Error\",\"Error\",$U$243+N245),\"/\")","v":0},{"$f":"IF(T$243=\"Error\",\"Error\",IF(AND($P$243<>\"/\",$P$243>'Paramètres - Admin'!$A2),'Paramètres - Admin'!$A3,\"/\"))","v":1},{"$f":"IF(R245<>\"/\",VLOOKUP(R245,COSTS_Balloon[#All],2),\"/\")","v":0},{"$f":"IF(R245<>\"/\",VLOOKUP(R245,COSTS_Balloon[#All],3),\"/\")","v":0},{"$f":"IF(T$243=\"Error\",\"Error\",IF(S245<>\"/\",Q245*S245,0))","v":0},{"$f":"IF(T$243=\"Error\",\"Error\",IF(T245<>\"/\",Q245*T245,0))","v":0}]
[2,{"$f":"IF(Paramètres!AK7=0,\"\",Paramètres!AK7)","v":""},{"$f":"IF(C245<>0,C245+IF(AND(B245<>\"\",A245<E$6),B245,0),IF(AND(B245<>\"\",A245<E$6),B245,0))","v":0},null,null,0,{"$f":"IF(I$243=\"Error\",\"Error\",IF(AND($E$243<>\"/\",$E$243>'Paramètres - Admin'!$A3),'Paramètres - Admin'!$A4,\"/\"))","v":2},{"$f":"IF(G246<>\"/\",VLOOKUP(G246,COSTS_Barbarian[#All],2),\"/\")","v":50000},{"$f":"IF(G246<>\"/\",VLOOKUP(G246,COSTS_Barbarian[#All],3),\"/\")","v":6},0,0,2,{"$f":"IF(Paramètres!AP7=0,\"\",Paramètres!AP7)","v":""},0,null,null,0,{"$f":"IF(T$243=\"Error\",\"Error\",IF(AND($P$243<>\"/\",$P$243>'Paramètres - Admin'!$A3),'Paramètres - Admin'!$A4,\"/\"))","v":2},{"$f":"IF(R246<>\"/\",VLOOKUP(R246,COSTS_Balloon[#All],2),\"/\")","v":150000},{"$f":"IF(R246<>\"/\",VLOOKUP(R246,COSTS_Balloon[#All],3),\"/\")","v":24},0,0]
[3,{"$f":"IF(Paramètres!AK8=0,\"\",Paramètres!AK8)","v":""},0,null,null,0,{"$f":"IF(I$243=\"Error\",\"Error\",IF(AND($E$243<>\"/\",$E$243>'Paramètres - Admin'!$A4),'Paramètres - Admin'!$A5,\"/\"))","v":3},{"$f":"IF(G247<>\"/\",VLOOKUP(G247,COSTS_Barbarian[#All],2),\"/\")","v":150000},{"$f":"IF(G247<>\"/\",VLOOKUP(G247,COSTS_Barbarian[#All],3),\"/\")","v":24},0,0,3,{"$f":"IF(Paramètres!AP8=0,\"\",Paramètres!AP8)","v":""},0,null,null,0,{"$f":"IF(T$243=\"Error\",\"Error\",IF(AND($P$243<>\"/\",$P$243>'Paramètres - Admin'!$A4),'Paramètres - Admin'!$A5,\"/\"))","v":3},{"$f":"IF(R247<>\"/\",VLOOKUP(R247,COSTS_Balloon[#All],2),\"/\")","v":450000},{"$f":"IF(R247<>\"/\",VLOOKUP(R247,COSTS_Balloon[#All],3),\"/\")","v":48},0,0]
[4,{"$f":"IF(Paramètres!AK9=0,\"\",Paramètres!AK9)","v":""},0,null,null,0,{"$f":"IF(I$243=\"Error\",\"Error\",IF(AND($E$243<>\"/\",$E$243>'Paramètres - Admin'!$A5),'Paramètres - Admin'!$A6,\"/\"))","v":4},{"$f":"IF(G248<>\"/\",VLOOKUP(G248,COSTS_Barbarian[#All],2),\"/\")","v":500000},{"$f":"IF(G248<>\"/\",VLOOKUP(G248,COSTS_Barbarian[#All],3),\"/\")","v":72},0,0,4,{"$f":"IF(Paramètres!AP9=0,\"\",Paramètres!AP9)","v":""},0,null,null,0,{"$f":"IF(T$243=\"Error\",\"Error\",IF(AND($P$243<>\"/\",$P$243>'Paramètres - Admin'!$A5),'Paramètres - Admin'!$A6,\"/\"))","v":4},{"$f":"IF(R248<>\"/\",VLOOKUP(R248,COSTS_Balloon[#All],2),\"/\")","v":1350000},{"$f":"IF(R248<>\"/\",VLOOKUP(R248,COSTS_Balloon[#All],3),\"/\")","v":72},0,0]
[5,{"$f":"IF(Paramètres!AK10=0,\"\",Paramètres!AK10)","v":1},0,null,null,0,{"$f":"IF(I$243=\"Error\",\"Error\",IF(AND($E$243<>\"/\",$E$243>'Paramètres - Admin'!$A6),'Paramètres - Admin'!$A7,\"/\"))","v":5},{"$f":"IF(G249<>\"/\",VLOOKUP(G249,COSTS_Barbarian[#All],2),\"/\")","v":1500000},{"$f":"IF(G249<>\"/\",VLOOKUP(G249,COSTS_Barbarian[#All],3),\"/\")","v":120},0,0,5,{"$f":"IF(Paramètres!AP10=0,\"\",Paramètres!AP10)","v":""},0,null,null,0,{"$f":"IF(T$243=\"Error\",\"Error\",IF(AND($P$243<>\"/\",$P$243>'Paramètres - Admin'!$A6),'Paramètres - Admin'!$A7,\"/\"))","v":5},{"$f":"IF(R249<>\"/\",VLOOKUP(R249,COSTS_Balloon[#All],2),\"/\")","v":2500000},{"$f":"IF(R249<>\"/\",VLOOKUP(R249,COSTS_Balloon[#All],3),\"/\")","v":120},0,0]
[6,{"$f":"IF(Paramètres!AK11=0,\"\",Paramètres!AK11)","v":""},1,null,null,1,{"$f":"IF(I$243=\"Error\",\"Error\",IF(AND($E$243<>\"/\",$E$243>'Paramètres - Admin'!$A7),'Paramètres - Admin'!$A8,\"/\"))","v":6},{"$f":"IF(G250<>\"/\",VLOOKUP(G250,COSTS_Barbarian[#All],2),\"/\")","v":4500000},{"$f":"IF(G250<>\"/\",VLOOKUP(G250,COSTS_Barbarian[#All],3),\"/\")","v":240},4500000,240,6,{"$f":"IF(Paramètres!AP11=0,\"\",Paramètres!AP11)","v":1},0,null,null,0,{"$f":"IF(T$243=\"Error\",\"Error\",IF(AND($P$243<>\"/\",$P$243>'Paramètres - Admin'!$A7),'Paramètres - Admin'!$A8,\"/\"))","v":6},{"$f":"IF(R250<>\"/\",VLOOKUP(R250,COSTS_Balloon[#All],2),\"/\")","v":6000000},{"$f":"IF(R250<>\"/\",VLOOKUP(R250,COSTS_Balloon[#All],3),\"/\")","v":240},0,0]
[7,{"$f":"IF(Paramètres!AK12=0,\"\",Paramètres!AK12)","v":""},1,null,null,1,{"$f":"IF(I$243=\"Error\",\"Error\",IF(AND($E$243<>\"/\",$E$243>'Paramètres - Admin'!$A8),'Paramètres - Admin'!$A9,\"/\"))","v":7},{"$f":"IF(G251<>\"/\",VLOOKUP(G251,COSTS_Barbarian[#All],2),\"/\")","v":6000000},{"$f":"IF(G251<>\"/\",VLOOKUP(G251,COSTS_Barbarian[#All],3),\"/\")","v":336},6000000,336,null,null,null,null,null,null,null,null,"Total",{"$f":"IF(T$243=\"Error\",\"Error\",SUM(U245:U250))","v":0},{"$f":"IF(T$243=\"Error\",\"Error\",SUM(V245:V250))","v":0}]
[null,null,null,null,null,null,null,null,"Total",{"$f":"IF(I$243=\"Error\",\"Error\",SUM(J245:J251))","v":10500000},{"$f":"IF(I$243=\"Error\",\"Error\",SUM(K245:K251))","v":576},"Sorcier",null,null,"Max","Max +",null,null,null,"Actuel","À Faire","Améliorations"]
["Archer",null,null,"Max","Max +",null,null,null,"Actuel","À Faire","Améliorations",null,null,null,{"$f":"VLOOKUP($A$2,AVAILABLE_Upgrades_Normal_Troops[#All],MATCH(L252,AVAILABLE_Upgrades_Normal_Troops[#Headers],0))","v":1},{"$f":"VLOOKUP(IF(ISERROR(LOOKUP(MATCH(1,Paramètres!$K$6:$K$45,0),Paramètres!$A$6:$A$45)),0,LOOKUP(MATCH(1,Paramètres!$K$6:$K$45,0),Paramètres!$A$6:$A$45)),AVAILABLE_Upgrades_Normal_Troops[#All],MATCH(L252,AVAILABLE_Upgrades_Normal_Troops[#Headers],0)+1)","v":6},null,null,null,{"$f":"IF(SUM(M255:M260)>O253,\"Error\",SUM(M255:M260))","v":1},{"$f":"IF(T$253=\"Error\",\"Error\",O253-T253)","v":0},{"$f":"IF(T$253=\"Error\",\"Error\",SUM(Q255:Q260))","v":1}]
[null,null,null,{"$f":"VLOOKUP($A$2,AVAILABLE_Upgrades_Normal_Troops[#All],MATCH(A253,AVAILABLE_Upgrades_Normal_Troops[#Headers],0))","v":1},{"$f":"VLOOKUP(IF(ISERROR(LOOKUP(MATCH(1,Paramètres!$K$6:$K$45,0),Paramètres!$A$6:$A$45)),0,LOOKUP(MATCH(1,Paramètres!$K$6:$K$45,0),Paramètres!$A$6:$A$45)),AVAILABLE_Upgrades_Normal_Troops[#All],MATCH(A253,AVAILABLE_Upgrades_Normal_Troops[#Headers],0)+1)","v":7},null,null,null,{"$f":"IF(SUM(B256:B262)>D254,\"Error\",SUM(B256:B262))","v":1},{"$f":"IF(I$254=\"Error\",\"Error\",D254-I254)","v":0},{"$f":"IF(I$254=\"Error\",\"Error\",SUM(F256:F262))","v":2},"+","NB",null,null,null,"NB","+","Coût","Temps","Coût Total","Temps Total"]
["+","NB",null,null,null,"NB","+","Coût","Temps","Coût Total","Temps Total",1,{"$f":"IF(Paramètres!AQ6=0,\"\",Paramètres!AQ6)","v":""},{"$f":"IF(N254<>0,N254+IF(AND(M254<>\"\",L254<P$6),M254,0),IF(AND(M254<>\"\",L254<P$6),M254,0))","v":0},null,null,{"$f":"IF(R255<>\"/\",IF(T$253=\"Error\",\"Error\",$U$253+N255),\"/\")","v":0},{"$f":"IF(T$253=\"Error\",\"Error\",IF(AND($P$253<>\"/\",$P$253>'Paramètres - Admin'!$A2),'Paramètres - Admin'!$A3,\"/\"))","v":1},{"$f":"IF(R255<>\"/\",VLOOKUP(R255,COSTS_Wizard[#All],2),\"/\")","v":0},{"$f":"IF(R255<>\"/\",VLOOKUP(R255,COSTS_Wizard[#All],3),\"/\")","v":0},{"$f":"IF(T$253=\"Error\",\"Error\",IF(S255<>\"/\",Q255*S255,0))","v":0},{"$f":"IF(T$253=\"Error\",\"Error\",IF(T255<>\"/\",Q255*T255,0))","v":0}]
[1,{"$f":"IF(Paramètres!AL6=0,\"\",Paramètres!AL6)","v":""},{"$f":"IF(C255<>0,C255+IF(AND(B255<>\"\",A255<E$6),B255,0),IF(AND(B255<>\"\",A255<E$6),B255,0))","v":0},null,null,{"$f":"IF(G256<>\"/\",IF(I$254=\"Error\",\"Error\",$J$254+C256),\"/\")","v":0},{"$f":"IF(I$254=\"Error\",\"Error\",IF(AND($E$254<>\"/\",$E$254>'Paramètres - Admin'!$A2),'Paramètres - Admin'!$A3,\"/\"))","v":1},{"$f":"IF(G256<>\"/\",VLOOKUP(G256,COSTS_Archer[#All],2),\"/\")","v":0},{"$f":"IF(G256<>\"/\",VLOOKUP(G256,COSTS_Archer[#All],3),\"/\")","v":0},{"$f":"IF(I$254=\"Error\",\"Error\",IF(H256<>\"/\",F256*H256,0))","v":0},{"$f":"IF(I$254=\"Error\",\"Error\",IF(I256<>\"/\",F256*I256,0))","v":0},2,{"$f":"IF(Paramètres!AQ7=0,\"\",Paramètres!AQ7)","v":""},0,null,null,0,{"$f":"IF(T$253=\"Error\",\"Error\",IF(AND($P$253<>\"/\",$P$253>'Paramètres - Admin'!$A3),'Paramètres - Admin'!$A4,\"/\"))","v":2},{"$f":"IF(R256<>\"/\",VLOOKUP(R256,COSTS_Wizard[#All],2),\"/\")","v":150000},{"$f":"IF(R256<>\"/\",VLOOKUP(R256,COSTS_Wizard[#All],3),\"/\")","v":24},0,0]
[2,{"$f":"IF(Paramètres!AL7=0,\"\",Paramètres!AL7)","v":""},{"$f":"IF(C256<>0,C256+IF(AND(B256<>\"\",A256<E$6),B256,0),IF(AND(B256<>\"\",A256<E$6),B256,0))","v":0},null,null,0,{"$f":"IF(I$254=\"Error\",\"Error\",IF(AND($E$254<>\"/\",$E$254>'Paramètres - Admin'!$A3),'Paramètres - Admin'!$A4,\"/\"))","v":2},{"$f":"IF(G257<>\"/\",VLOOKUP(G257,COSTS_Archer[#All],2),\"/\")","v":50000},{"$f":"IF(G257<>\"/\",VLOOKUP(G257,COSTS_Archer[#All],3),\"/\")","v":12},0,0,3,{"$f":"IF(Paramètres!AQ8=0,\"\",Paramètres!AQ8)","v":""},0,null,null,0,{"$f":"IF(T$253=\"Error\",\"Error\",IF(AND($P$253<>\"/\",$P$253>'Paramètres - Admin'!$A4),'Paramètres - Admin'!$A5,\"/\"))","v":3},{"$f":"IF(R257<>\"/\",VLOOKUP(R257,COSTS_Wizard[#All],2),\"/\")","v":450000},{"$f":"IF(R257<>\"/\",VLOOKUP(R257,COSTS_Wizard[#All],3),\"/\")","v":48},0,0]
[3,{"$f":"IF(Paramètres!AL8=0,\"\",Paramètres!AL8)","v":""},0,null,null,0,{"$f":"IF(I$254=\"Error\",\"Error\",IF(AND($E$254<>\"/\",$E$254>'Paramètres - Admin'!$A4),'Paramètres - Admin'!$A5,\"/\"))","v":3},{"$f":"IF(G258<>\"/\",VLOOKUP(G258,COSTS_Archer[#All],2),\"/\")","v":250000},{"$f":"IF(G258<>\"/\",VLOOKUP(G258,COSTS_Archer[#All],3),\"/\")","v":48},0,0,4,{"$f":"IF(Paramètres!AQ9=0,\"\",Paramètres!AQ9)","v":""},0,null,null,0,{"$f":"IF(T$253=\"Error\",\"Error\",IF(AND($P$253<>\"/\",$P$253>'Paramètres - Admin'!$A5),'Paramètres - Admin'!$A6,\"/\"))","v":4},{"$f":"IF(R258<>\"/\",VLOOKUP(R258,COSTS_Wizard[#All],2),\"/\")","v":1350000},{"$f":"IF(R258<>\"/\",VLOOKUP(R258,COSTS_Wizard[#All],3),\"/\")","v":72},0,0]
[4,{"$f":"IF(Paramètres!AL9=0,\"\",Paramètres!AL9)","v":""},0,null,null,0,{"$f":"IF(I$254=\"Error\",\"Error\",IF(AND($E$254<>\"/\",$E$254>'Paramètres - Admin'!$A5),'Paramètres - Admin'!$A6,\"/\"))","v":4},{"$f":"IF(G259<>\"/\",VLOOKUP(G259,COSTS_Archer[#All],2),\"/\")","v":750000},{"$f":"IF(G259<>\"/\",VLOOKUP(G259,COSTS_Archer[#All],3),\"/\")","v":72},0,0,5,{"$f":"IF(Paramètres!AQ10=0,\"\",Paramètres!AQ10)","v":1},0,null,null,0,{"$f":"IF(T$253=\"Error\",\"Error\",IF(AND($P$253<>\"/\",$P$253>'Paramètres - Admin'!$A6),'Paramètres - Admin'!$A7,\"/\"))","v":5},{"$f":"IF(R259<>\"/\",VLOOKUP(R259,COSTS_Wizard[#All],2),\"/\")","v":2500000},{"$f":"IF(R259<>\"/\",VLOOKUP(R259,COSTS_Wizard[#All],3),\"/\")","v":120},0,0]
[5,{"$f":"IF(Paramètres!AL10=0,\"\",Paramètres!AL10)","v":1},0,null,null,0,{"$f":"IF(I$254=\"Error\",\"Error\",IF(AND($E$254<>\"/\",$E$254>'Paramètres - Admin'!$A6),'Paramètres - Admin'!$A7,\"/\"))","v":5},{"$f":"IF(G260<>\"/\",VLOOKUP(G260,COSTS_Archer[#All],2),\"/\")","v":2250000},{"$f":"IF(G260<>\"/\",VLOOKUP(G260,COSTS_Archer[#All],3),\"/\")","v":120},0,0,6,{"$f":"IF(Paramètres!AQ11=0,\"\",Paramètres!AQ11)","v":""},1,null,null,1,{"$f":"IF(T$253=\"Error\",\"Error\",IF(AND($P$253<>\"/\",$P$253>'Paramètres - Admin'!$A7),'Paramètres - Admin'!$A8,\"/\"))","v":6},{"$f":"IF(R260<>\"/\",VLOOKUP(R260,COSTS_Wizard[#All],2),\"/\")","v":7500000},{"$f":"IF(R260<>\"/\",VLOOKUP(R260,COSTS_Wizard[#All],3),\"/\")","v":336},7500000,336]
[6,{"$f":"IF(Paramètres!AL11=0,\"\",Paramètres!AL11)","v":""},1,null,null,1,{"$f":"IF(I$254=\"Error\",\"Error\",IF(AND($E$254<>\"/\",$E$254>'Paramètres - Admin'!$A7),'Paramètres - Admin'!$A8,\"/\"))","v":6},{"$f":"IF(G261<>\"/\",VLOOKUP(G261,COSTS_Archer[#All],2),\"/\")","v":6000000},{"$f":"IF(G261<>\"/\",VLOOKUP(G261,COSTS_Archer[#All],3),\"/\")","v":240},6000000,240,null,null,null,null,null,null,null,null,"Total",{"$f":"IF(T$253=\"Error\",\"Error\",SUM(U255:U260))","v":7500000},{"$f":"IF(T$253=\"Error\",\"Error\",SUM(V255:V260))","v":336}]
[7,{"$f":"IF(Paramètres!AL12=0,\"\",Paramètres!AL12)","v":""},1,null,null,1,{"$f":"IF(I$254=\"Error\",\"Error\",IF(AND($E$254<>\"/\",$E$254>'Paramètres - Admin'!$A8),'Paramètres - Admin'!$A9,\"/\"))","v":7},{"$f":"IF(G262<>\"/\",VLOOKUP(G262,COSTS_Archer[#All],2),\"/\")","v":7500000},{"$f":"IF(G262<>\"/\",VLOOKUP(G262,COSTS_Archer[#All],3),\"/\")","v":336},7500000,336,"Guérisseuse",null,null,"Max","Max +",null,null,null,"Actuel","À Faire","Améliorations"]
[null,null,null,null,null,null,null,null,"Total",{"$f":"IF(I$254=\"Error\",\"Error\",SUM(J256:J262))","v":13500000},{"$f":"IF(I$254=\"Error\",\"Error\",SUM(K256:K262))","v":576},null,null,null,{"$f":"VLOOKUP($A$2,AVAILABLE_Upgrades_Normal_Troops[#All],MATCH(L262,AVAILABLE_Upgrades_Normal_Troops[#Headers],0))","v":1},{"$f":"VLOOKUP(IF(ISERROR(LOOKUP(MATCH(1,Paramètres!$K$6:$K$45,0),Paramètres!$A$6:$A$45)),0,LOOKUP(MATCH(1,Paramètres!$K$6:$K$45,0),Paramètres!$A$6:$A$45)),AVAILABLE_Upgrades_Normal_Troops[#All],MATCH(L262,AVAILABLE_Upgrades_Normal_Troops[#Headers],0)+1)","v":4},null,null,null,{"$f":"IF(SUM(M265:M268)>O263,\"Error\",SUM(M265:M268))","v":1},{"$f":"IF(T$263=\"Error\",\"Error\",O263-T263)","v":0},{"$f":"IF(T$263=\"Error\",\"Error\",SUM(Q265:Q268))","v":1}]
["Gobelin",null,null,"Max","Max +",null,null,null,"Actuel","À Faire","Améliorations","+","NB",null,null,null,"NB","+","Coût","Temps","Coût Total","Temps Total"]
[null,null,null,{"$f":"VLOOKUP($A$2,AVAILABLE_Upgrades_Normal_Troops[#All],MATCH(A264,AVAILABLE_Upgrades_Normal_Troops[#Headers],0))","v":1},{"$f":"VLOOKUP(IF(ISERROR(LOOKUP(MATCH(1,Paramètres!$K$6:$K$45,0),Paramètres!$A$6:$A$45)),0,LOOKUP(MATCH(1,Paramètres!$K$6:$K$45,0),Paramètres!$A$6:$A$45)),AVAILABLE_Upgrades_Normal_Troops[#All],MATCH(A264,AVAILABLE_Upgrades_Normal_Troops[#Headers],0)+1)","v":6},null,null,null,{"$f":"IF(SUM(B267:B272)>D265,\"Error\",SUM(B267:B272))","v":1},{"$f":"IF(I$265=\"Error\",\"Error\",D265-I265)","v":0},{"$f":"IF(I$265=\"Error\",\"Error\",SUM(F267:F272))","v":1},1,{"$f":"IF(Paramètres!AR6=0,\"\",Paramètres!AR6)","v":""},{"$f":"IF(N264<>0,N264+IF(AND(M264<>\"\",L264<P$6),M264,0),IF(AND(M264<>\"\",L264<P$6),M264,0))","v":0},null,null,{"$f":"IF(R265<>\"/\",IF(T$263=\"Error\",\"Error\",$U$263+N265),\"/\")","v":0},{"$f":"IF(T$263=\"Error\",\"Error\",IF(AND($P$263<>\"/\",$P$263>'Paramètres - Admin'!$A2),'Paramètres - Admin'!$A3,\"/\"))","v":1},{"$f":"IF(R265<>\"/\",VLOOKUP(R265,COSTS_Healer[#All],2),\"/\")","v":0},{"$f":"IF(R265<>\"/\",VLOOKUP(R265,COSTS_Healer[#All],3),\"/\")","v":0},{"$f":"IF(T$263=\"Error\",\"Error\",IF(S265<>\"/\",Q265*S265,0))","v":0},{"$f":"IF(T$263=\"Error\",\"Error\",IF(T265<>\"/\",Q265*T265,0))","v":0}]
["+","NB",null,null,null,"NB","+","Coût","Temps","Coût Total","Temps Total",2,{"$f":"IF(Paramètres!AR7=0,\"\",Paramètres!AR7)","v":""},{"$f":"IF(N265<>0,N265+IF(AND(M265<>\"\",L265<P$6),M265,0),IF(AND(M265<>\"\",L265<P$6),M265,0))","v":0},null,null,{"$f":"IF(R266<>\"/\",IF(T$263=\"Error\",\"Error\",$U$263+N266),\"/\")","v":0},{"$f":"IF(T$263=\"Error\",\"Error\",IF(AND($P$263<>\"/\",$P$263>'Paramètres - Admin'!$A3),'Paramètres - Admin'!$A4,\"/\"))","v":2},{"$f":"IF(R266<>\"/\",VLOOKUP(R266,COSTS_Healer[#All],2),\"/\")","v":750000},{"$f":"IF(R266<>\"/\",VLOOKUP(R266,COSTS_Healer[#All],3),\"/\")","v":72},{"$f":"IF(T$263=\"Error\",\"Error\",IF(S266<>\"/\",Q266*S266,0))","v":0},{"$f":"IF(T$263=\"Error\",\"Error\",IF(T266<>\"/\",Q266*T266,0))","v":0}]
[1,{"$f":"IF(Paramètres!AM6=0,\"\",Paramètres!AM6)","v":""},{"$f":"IF(C266<>0,C266+IF(AND(B266<>\"\",A266<E$6),B266,0),IF(AND(B266<>\"\",A266<E$6),B266,0))","v":0},null,null,{"$f":"IF(G267<>\"/\",IF(I$265=\"Error\",\"Error\",$J$265+C267),\"/\")","v":0},{"$f":"IF(I$265=\"Error\",\"Error\",IF(AND($E$265<>\"/\",$E$265>'Paramètres - Admin'!$A2),'Paramètres - Admin'!$A3,\"/\"))","v":1},{"$f":"IF(G267<>\"/\",VLOOKUP(G267,COSTS_Goblin[#All],2),\"/\")","v":0},{"$f":"IF(G267<>\"/\",VLOOKUP(G267,COSTS_Goblin[#All],3),\"/\")","v":0},{"$f":"IF(I$265=\"Error\",\"Error\",IF(H267<>\"/\",F267*H267,0))","v":0},{"$f":"IF(I$265=\"Error\",\"Error\",IF(I267<>\"/\",F267*I267,0))","v":0},3,{"$f":"IF(Paramètres!AR8=0,\"\",Paramètres!AR8)","v":1},{"$f":"IF(N266<>0,N266+IF(AND(M266<>\"\",L266<P$6),M266,0),IF(AND(M266<>\"\",L266<P$6),M266,0))","v":0},null,null,{"$f":"IF(R267<>\"/\",IF(T$263=\"Error\",\"Error\",$U$263+N267),\"/\")","v":0},{"$f":"IF(T$263=\"Error\",\"Error\",IF(AND($P$263<>\"/\",$P$263>'Paramètres - Admin'!$A4),'Paramètres - Admin'!$A5,\"/\"))","v":3},{"$f":"IF(R267<>\"/\",VLOOKUP(R267,COSTS_Healer[#All],2),\"/\")","v":1500000},{"$f":"IF(R267<>\"/\",VLOOKUP(R267,COSTS_Healer[#All],3),\"/\")","v":120},{"$f":"IF(T$263=\"Error\",\"Error\",IF(S267<>\"/\",Q267*S267,0))","v":0},{"$f":"IF(T$263=\"Error\",\"Error\",IF(T267<>\"/\",Q267*T267,0))","v":0}]
[2,{"$f":"IF(Paramètres!AM7=0,\"\",Paramètres!AM7)","v":""},0,null,null,0,{"$f":"IF(I$265=\"Error\",\"Error\",IF(AND($E$265<>\"/\",$E$265>'Paramètres - Admin'!$A3),'Paramètres - Admin'!$A4,\"/\"))","v":2},{"$f":"IF(G268<>\"/\",VLOOKUP(G268,COSTS_Goblin[#All],2),\"/\")","v":50000},{"$f":"IF(G268<>\"/\",VLOOKUP(G268,COSTS_Goblin[#All],3),\"/\")","v":12},0,0,4,{"$f":"IF(Paramètres!AR9=0,\"\",Paramètres!AR9)","v":""},{"$f":"IF(N267<>0,N267+IF(AND(M267<>\"\",L267<P$6),M267,0),IF(AND(M267<>\"\",L267<P$6),M267,0))","v":1},null,null,{"$f":"IF(R268<>\"/\",IF(T$263=\"Error\",\"Error\",$U$263+N268),\"/\")","v":1},{"$f":"IF(T$263=\"Error\",\"Error\",IF(AND($P$263<>\"/\",$P$263>'Paramètres - Admin'!$A5),'Paramètres - Admin'!$A6,\"/\"))","v":4},{"$f":"IF(R268<>\"/\",VLOOKUP(R268,COSTS_Healer[#All],2),\"/\")","v":3000000},{"$f":"IF(R268<>\"/\",VLOOKUP(R268,COSTS_Healer[#All],3),\"/\")","v":168},{"$f":"IF(T$263=\"Error\",\"Error\",IF(S268<>\"/\",Q268*S268,0))","v":3000000},{"$f":"IF(T$263=\"Error\",\"Error\",IF(T268<>\"/\",Q268*T268,0))","v":168}]
[3,{"$f":"IF(Paramètres!AM8=0,\"\",Paramètres!AM8)","v":""},0,null,null,0,{"$f":"IF(I$265=\"Error\",\"Error\",IF(AND($E$265<>\"/\",$E$265>'Paramètres - Admin'!$A4),'Paramètres - Admin'!$A5,\"/\"))","v":3},{"$f":"IF(G269<>\"/\",VLOOKUP(G269,COSTS_Goblin[#All],2),\"/\")","v":250000},{"$f":"IF(G269<>\"/\",VLOOKUP(G269,COSTS_Goblin[#All],3),\"/\")","v":48},0,0,null,null,null,null,null,null,null,null,"Total",{"$f":"IF(T$263=\"Error\",\"Error\",SUM(U265:U268))","v":3000000},{"$f":"IF(T$263=\"Error\",\"Error\",SUM(V265:V268))","v":168}]
[4,{"$f":"IF(Paramètres!AM9=0,\"\",Paramètres!AM9)","v":""},0,null,null,0,{"$f":"IF(I$265=\"Error\",\"Error\",IF(AND($E$265<>\"/\",$E$265>'Paramètres - Admin'!$A5),'Paramètres - Admin'!$A6,\"/\"))","v":4},{"$f":"IF(G270<>\"/\",VLOOKUP(G270,COSTS_Goblin[#All],2),\"/\")","v":750000},{"$f":"IF(G270<>\"/\",VLOOKUP(G270,COSTS_Goblin[#All],3),\"/\")","v":72},0,0,"Dragon",null,null,"Max","Max +",null,null,null,"Actuel","À Faire","Améliorations"]
[5,{"$f":"IF(Paramètres!AM10=0,\"\",Paramètres!AM10)","v":1},0,null,null,0,{"$f":"IF(I$265=\"Error\",\"Error\",IF(AND($E$265<>\"/\",$E$265>'Paramètres - Admin'!$A6),'Paramètres - Admin'!$A7,\"/\"))","v":5},{"$f":"IF(G271<>\"/\",VLOOKUP(G271,COSTS_Goblin[#All],2),\"/\")","v":2250000},{"$f":"IF(G271<>\"/\",VLOOKUP(G271,COSTS_Goblin[#All],3),\"/\")","v":120},0,0,null,null,null,{"$f":"VLOOKUP($A$2,AVAILABLE_Upgrades_Normal_Troops[#All],MATCH(L270,AVAILABLE_Upgrades_Normal_Troops[#Headers],0))","v":1},{"$f":"VLOOKUP(IF(ISERROR(LOOKUP(MATCH(1,Paramètres!$K$6:$K$45,0),Paramètres!$A$6:$A$45)),0,LOOKUP(MATCH(1,Paramètres!$K$6:$K$45,0),Paramètres!$A$6:$A$45)),AVAILABLE_Upgrades_Normal_Troops[#All],MATCH(L270,AVAILABLE_Upgrades_Normal_Troops[#Headers],0)+1)","v":4},null,null,null,{"$f":"IF(SUM(M273:M276)>O271,\"Error\",SUM(M273:M276))","v":1},{"$f":"IF(T$271=\"Error\",\"Error\",O271-T271)","v":0},{"$f":"IF(T$271=\"Error\",\"Error\",SUM(Q273:Q276))","v":0}]
[6,{"$f":"IF(Paramètres!AM11=0,\"\",Paramètres!AM11)","v":""},1,null,null,1,{"$f":"IF(I$265=\"Error\",\"Error\",IF(AND($E$265<>\"/\",$E$265>'Paramètres - Admin'!$A7),'Paramètres - Admin'!$A8,\"/\"))","v":6},{"$f":"IF(G272<>\"/\",VLOOKUP(G272,COSTS_Goblin[#All],2),\"/\")","v":4500000},{"$f":"IF(G272<>\"/\",VLOOKUP(G272,COSTS_Goblin[#All],3),\"/\")","v":240},4500000,240,"+","NB",null,null,null,"NB","+","Coût","Temps","Coût Total","Temps Total"]
[null,null,null,null,null,null,null,null,"Total",{"$f":"IF(I$265=\"Error\",\"Error\",SUM(J267:J272))","v":4500000},{"$f":"IF(I$265=\"Error\",\"Error\",SUM(K267:K272))","v":240},1,{"$f":"IF(Paramètres!AS6=0,\"\",Paramètres!AS6)","v":""},{"$f":"IF(N272<>0,N272+IF(AND(M272<>\"\",L272<P$6),M272,0),IF(AND(M272<>\"\",L272<P$6),M272,0))","v":0},null,null,{"$f":"IF(R273<>\"/\",IF(T$271=\"Error\",\"Error\",$U$271+N273),\"/\")","v":0},{"$f":"IF(T$271=\"Error\",\"Error\",IF(AND($P$271<>\"/\",$P$271>'Paramètres - Admin'!$A2),'Paramètres - Admin'!$A3,\"/\"))","v":1},{"$f":"IF(R273<>\"/\",VLOOKUP(R273,COSTS_Dragon[#All],2),\"/\")","v":0},{"$f":"IF(R273<>\"/\",VLOOKUP(R273,COSTS_Dragon[#All],3),\"/\")","v":0},{"$f":"IF(T$271=\"Error\",\"Error\",IF(S273<>\"/\",Q273*S273,0))","v":0},{"$f":"IF(T$271=\"Error\",\"Error\",IF(T273<>\"/\",Q273*T273,0))","v":0}]
["Géant",null,null,"Max","Max +",null,null,null,"Actuel","À Faire","Améliorations",2,{"$f":"IF(Paramètres!AS7=0,\"\",Paramètres!AS7)","v":""},{"$f":"IF(N273<>0,N273+IF(AND(M273<>\"\",L273<P$6),M273,0),IF(AND(M273<>\"\",L273<P$6),M273,0))","v":0},null,null,{"$f":"IF(R274<>\"/\",IF(T$271=\"Error\",\"Error\",$U$271+N274),\"/\")","v":0},{"$f":"IF(T$271=\"Error\",\"Error\",IF(AND($P$271<>\"/\",$P$271>'Paramètres - Admin'!$A3),'Paramètres - Admin'!$A4,\"/\"))","v":2},{"$f":"IF(R274<>\"/\",VLOOKUP(R274,COSTS_Dragon[#All],2),\"/\")","v":2000000},{"$f":"IF(R274<>\"/\",VLOOKUP(R274,COSTS_Dragon[#All],3),\"/\")","v":168},{"$f":"IF(T$271=\"Error\",\"Error\",IF(S274<>\"/\",Q274*S274,0))","v":0},{"$f":"IF(T$271=\"Error\",\"Error\",IF(T274<>\"/\",Q274*T274,0))","v":0}]
[null,null,null,{"$f":"VLOOKUP($A$2,AVAILABLE_Upgrades_Normal_Troops[#All],MATCH(A274,AVAILABLE_Upgrades_Normal_Troops[#Headers],0))","v":1},{"$f":"VLOOKUP(IF(ISERROR(LOOKUP(MATCH(1,Paramètres!$K$6:$K$45,0),Paramètres!$A$6:$A$45)),0,LOOKUP(MATCH(1,Paramètres!$K$6:$K$45,0),Paramètres!$A$6:$A$45)),AVAILABLE_Upgrades_Normal_Troops[#All],MATCH(A274,AVAILABLE_Upgrades_Normal_Troops[#Headers],0)+1)","v":7},null,null,null,{"$f":"IF(SUM(B277:B283)>D275,\"Error\",SUM(B277:B283))","v":1},{"$f":"IF(I$275=\"Error\",\"Error\",D275-I275)","v":0},{"$f":"IF(I$275=\"Error\",\"Error\",SUM(F277:F283))","v":2},3,{"$f":"IF(Paramètres!AS8=0,\"\",Paramètres!AS8)","v":""},{"$f":"IF(N274<>0,N274+IF(AND(M274<>\"\",L274<P$6),M274,0),IF(AND(M274<>\"\",L274<P$6),M274,0))","v":0},null,null,{"$f":"IF(R275<>\"/\",IF(T$271=\"Error\",\"Error\",$U$271+N275),\"/\")","v":0},{"$f":"IF(T$271=\"Error\",\"Error\",IF(AND($P$271<>\"/\",$P$271>'Paramètres - Admin'!$A4),'Paramètres - Admin'!$A5,\"/\"))","v":3},{"$f":"IF(R275<>\"/\",VLOOKUP(R275,COSTS_Dragon[#All],2),\"/\")","v":3000000},{"$f":"IF(R275<>\"/\",VLOOKUP(R275,COSTS_Dragon[#All],3),\"/\")","v":240},{"$f":"IF(T$271=\"Error\",\"Error\",IF(S275<>\"/\",Q275*S275,0))","v":0},{"$f":"IF(T$271=\"Error\",\"Error\",IF(T275<>\"/\",Q275*T275,0))","v":0}]
["+","NB",null,null,null,"NB","+","Coût","Temps","Coût Total","Temps Total",4,{"$f":"IF(Paramètres!AS9=0,\"\",Paramètres!AS9)","v":1},{"$f":"IF(N275<>0,N275+IF(AND(M275<>\"\",L275<P$6),M275,0),IF(AND(M275<>\"\",L275<P$6),M275,0))","v":0},null,null,{"$f":"IF(R276<>\"/\",IF(T$271=\"Error\",\"Error\",$U$271+N276),\"/\")","v":0},{"$f":"IF(T$271=\"Error\",\"Error\",IF(AND($P$271<>\"/\",$P$271>'Paramètres - Admin'!$A5),'Paramètres - Admin'!$A6,\"/\"))","v":4},{"$f":"IF(R276<>\"/\",VLOOKUP(R276,COSTS_Dragon[#All],2),\"/\")","v":8000000},{"$f":"IF(R276<>\"/\",VLOOKUP(R276,COSTS_Dragon[#All],3),\"/\")","v":288},{"$f":"IF(T$271=\"Error\",\"Error\",IF(S276<>\"/\",Q276*S276,0))","v":0},{"$f":"IF(T$271=\"Error\",\"Error\",IF(T276<>\"/\",Q276*T276,0))","v":0}]
[1,{"$f":"IF(Paramètres!AN6=0,\"\",Paramètres!AN6)","v":""},{"$f":"IF(C276<>0,C276+IF(AND(B276<>\"\",A276<E$6),B276,0),IF(AND(B276<>\"\",A276<E$6),B276,0))","v":0},null,null,{"$f":"IF(G277<>\"/\",IF(I$275=\"Error\",\"Error\",$J$275+C277),\"/\")","v":0},{"$f":"IF(I$275=\"Error\",\"Error\",IF(AND($E$275<>\"/\",$E$275>'Paramètres - Admin'!$A2),'Paramètres - Admin'!$A3,\"/\"))","v":1},{"$f":"IF(G277<>\"/\",VLOOKUP(G277,COSTS_Giant[#All],2),\"/\")","v":0},{"$f":"IF(G277<>\"/\",VLOOKUP(G277,COSTS_Giant[#All],3),\"/\")","v":0},{"$f":"IF(I$275=\"Error\",\"Error\",IF(H277<>\"/\",F277*H277,0))","v":0},{"$f":"IF(I$275=\"Error\",\"Error\",IF(I277<>\"/\",F277*I277,0))","v":0},null,null,null,null,null,null,null,null,"Total",{"$f":"IF(T$271=\"Error\",\"Error\",SUM(U273:U276))","v":0},{"$f":"IF(T$271=\"Error\",\"Error\",SUM(V273:V276))","v":0}]
[2,{"$f":"IF(Paramètres!AN7=0,\"\",Paramètres!AN7)","v":""},0,null,null,0,{"$f":"IF(I$275=\"Error\",\"Error\",IF(AND($E$275<>\"/\",$E$275>'Paramètres - Admin'!$A3),'Paramètres - Admin'!$A4,\"/\"))","v":2},{"$f":"IF(G278<>\"/\",VLOOKUP(G278,COSTS_Giant[#All],2),\"/\")","v":100000},{"$f":"IF(G278<>\"/\",VLOOKUP(G278,COSTS_Giant[#All],3),\"/\")","v":24},0,0,"P.E.K.K.A",null,null,"Max","Max +",null,null,null,"Actuel","À Faire","Améliorations"]
[3,{"$f":"IF(Paramètres!AN8=0,\"\",Paramètres!AN8)","v":""},0,null,null,0,{"$f":"IF(I$275=\"Error\",\"Error\",IF(AND($E$275<>\"/\",$E$275>'Paramètres - Admin'!$A4),'Paramètres - Admin'!$A5,\"/\"))","v":3},{"$f":"IF(G279<>\"/\",VLOOKUP(G279,COSTS_Giant[#All],2),\"/\")","v":250000},{"$f":"IF(G279<>\"/\",VLOOKUP(G279,COSTS_Giant[#All],3),\"/\")","v":48},0,0,null,null,null,{"$f":"VLOOKUP($A$2,AVAILABLE_Upgrades_Normal_Troops[#All],MATCH(L278,AVAILABLE_Upgrades_Normal_Troops[#Headers],0))","v":1},{"$f":"VLOOKUP(IF(ISERROR(LOOKUP(MATCH(1,Paramètres!$K$6:$K$45,0),Paramètres!$A$6:$A$45)),0,LOOKUP(MATCH(1,Paramètres!$K$6:$K$45,0),Paramètres!$A$6:$A$45)),AVAILABLE_Upgrades_Normal_Troops[#All],MATCH(L278,AVAILABLE_Upgrades_Normal_Troops[#Headers],0)+1)","v":5},null,null,null,{"$f":"IF(SUM(M281:M285)>O279,\"Error\",SUM(M281:M285))","v":1},{"$f":"IF(T$279=\"Error\",\"Error\",O279-T279)","v":0},{"$f":"IF(T$279=\"Error\",\"Error\",SUM(Q281:Q285))","v":3}]
[4,{"$f":"IF(Paramètres!AN9=0,\"\",Paramètres!AN9)","v":""},0,null,null,0,{"$f":"IF(I$275=\"Error\",\"Error\",IF(AND($E$275<>\"/\",$E$275>'Paramètres - Admin'!$A5),'Paramètres - Admin'!$A6,\"/\"))","v":4},{"$f":"IF(G280<>\"/\",VLOOKUP(G280,COSTS_Giant[#All],2),\"/\")","v":750000},{"$f":"IF(G280<>\"/\",VLOOKUP(G280,COSTS_Giant[#All],3),\"/\")","v":72},0,0,"+","NB",null,null,null,"NB","+","Coût","Temps","Coût Total","Temps Total"]
[5,{"$f":"IF(Paramètres!AN10=0,\"\",Paramètres!AN10)","v":1},0,null,null,0,{"$f":"IF(I$275=\"Error\",\"Error\",IF(AND($E$275<>\"/\",$E$275>'Paramètres - Admin'!$A6),'Paramètres - Admin'!$A7,\"/\"))","v":5},{"$f":"IF(G281<>\"/\",VLOOKUP(G281,COSTS_Giant[#All],2),\"/\")","v":2250000},{"$f":"IF(G281<>\"/\",VLOOKUP(G281,COSTS_Giant[#All],3),\"/\")","v":120},0,0,1,{"$f":"IF(Paramètres!AT6=0,\"\",Paramètres!AT6)","v":""},{"$f":"IF(N280<>0,N280+IF(AND(M280<>\"\",L280<P$6),M280,0),IF(AND(M280<>\"\",L280<P$6),M280,0))","v":0},null,null,{"$f":"IF(R281<>\"/\",IF(T$279=\"Error\",\"Error\",$U$279+N281),\"/\")","v":0},{"$f":"IF(T$279=\"Error\",\"Error\",IF(AND($P$279<>\"/\",$P$279>'Paramètres - Admin'!$A2),'Paramètres - Admin'!$A3,\"/\"))","v":1},{"$f":"IF(R281<>\"/\",VLOOKUP(R281,COSTS_PEKKA[#All],2),\"/\")","v":0},{"$f":"IF(R281<>\"/\",VLOOKUP(R281,COSTS_PEKKA[#All],3),\"/\")","v":0},{"$f":"IF(T$279=\"Error\",\"Error\",IF(S281<>\"/\",Q281*S281,0))","v":0},{"$f":"IF(T$279=\"Error\",\"Error\",IF(T281<>\"/\",Q281*T281,0))","v":0}]
[6,{"$f":"IF(Paramètres!AN11=0,\"\",Paramètres!AN11)","v":""},1,null,null,1,{"$f":"IF(I$275=\"Error\",\"Error\",IF(AND($E$275<>\"/\",$E$275>'Paramètres - Admin'!$A7),'Paramètres - Admin'!$A8,\"/\"))","v":6},{"$f":"IF(G282<>\"/\",VLOOKUP(G282,COSTS_Giant[#All],2),\"/\")","v":6000000},{"$f":"IF(G282<>\"/\",VLOOKUP(G282,COSTS_Giant[#All],3),\"/\")","v":240},6000000,240,2,{"$f":"IF(Paramètres!AT7=0,\"\",Paramètres!AT7)","v":1},{"$f":"IF(N281<>0,N281+IF(AND(M281<>\"\",L281<P$6),M281,0),IF(AND(M281<>\"\",L281<P$6),M281,0))","v":0},null,null,{"$f":"IF(R282<>\"/\",IF(T$279=\"Error\",\"Error\",$U$279+N282),\"/\")","v":0},{"$f":"IF(T$279=\"Error\",\"Error\",IF(AND($P$279<>\"/\",$P$279>'Paramètres - Admin'!$A3),'Paramètres - Admin'!$A4,\"/\"))","v":2},{"$f":"IF(R282<>\"/\",VLOOKUP(R282,COSTS_PEKKA[#All],2),\"/\")","v":3000000},{"$f":"IF(R282<>\"/\",VLOOKUP(R282,COSTS_PEKKA[#All],3),\"/\")","v":240},{"$f":"IF(T$279=\"Error\",\"Error\",IF(S282<>\"/\",Q282*S282,0))","v":0},{"$f":"IF(T$279=\"Error\",\"Error\",IF(T282<>\"/\",Q282*T282,0))","v":0}]
[7,{"$f":"IF(Paramètres!AN12=0,\"\",Paramètres!AN12)","v":""},1,null,null,1,{"$f":"IF(I$275=\"Error\",\"Error\",IF(AND($E$275<>\"/\",$E$275>'Paramètres - Admin'!$A8),'Paramètres - Admin'!$A9,\"/\"))","v":7},{"$f":"IF(G283<>\"/\",VLOOKUP(G283,COSTS_Giant[#All],2),\"/\")","v":7000000},{"$f":"IF(G283<>\"/\",VLOOKUP(G283,COSTS_Giant[#All],3),\"/\")","v":336},7000000,336,3,{"$f":"IF(Paramètres!AT8=0,\"\",Paramètres!AT8)","v":""},{"$f":"IF(N282<>0,N282+IF(AND(M282<>\"\",L282<P$6),M282,0),IF(AND(M282<>\"\",L282<P$6),M282,0))","v":1},null,null,{"$f":"IF(R283<>\"/\",IF(T$279=\"Error\",\"Error\",$U$279+N283),\"/\")","v":1},{"$f":"IF(T$279=\"Error\",\"Error\",IF(AND($P$279<>\"/\",$P$279>'Paramètres - Admin'!$A4),'Paramètres - Admin'!$A5,\"/\"))","v":3},{"$f":"IF(R283<>\"/\",VLOOKUP(R283,COSTS_PEKKA[#All],2),\"/\")","v":6000000},{"$f":"IF(R283<>\"/\",VLOOKUP(R283,COSTS_PEKKA[#All],3),\"/\")","v":288},{"$f":"IF(T$279=\"Error\",\"Error\",IF(S283<>\"/\",Q283*S283,0))","v":6000000},{"$f":"IF(T$279=\"Error\",\"Error\",IF(T283<>\"/\",Q283*T283,0))","v":288}]
[null,null,null,null,null,null,null,null,"Total",{"$f":"IF(I$275=\"Error\",\"Error\",SUM(J277:J283))","v":13000000},{"$f":"IF(I$275=\"Error\",\"Error\",SUM(K277:K283))","v":576},4,{"$f":"IF(Paramètres!AT9=0,\"\",Paramètres!AT9)","v":""},{"$f":"IF(N283<>0,N283+IF(AND(M283<>\"\",L283<P$6),M283,0),IF(AND(M283<>\"\",L283<P$6),M283,0))","v":1},null,null,{"$f":"IF(R284<>\"/\",IF(T$279=\"Error\",\"Error\",$U$279+N284),\"/\")","v":1},{"$f":"IF(T$279=\"Error\",\"Error\",IF(AND($P$279<>\"/\",$P$279>'Paramètres - Admin'!$A5),'Paramètres - Admin'!$A6,\"/\"))","v":4},{"$f":"IF(R284<>\"/\",VLOOKUP(R284,COSTS_PEKKA[#All],2),\"/\")","v":7000000},{"$f":"IF(R284<>\"/\",VLOOKUP(R284,COSTS_PEKKA[#All],3),\"/\")","v":336},{"$f":"IF(T$279=\"Error\",\"Error\",IF(S284<>\"/\",Q284*S284,0))","v":7000000},{"$f":"IF(T$279=\"Error\",\"Error\",IF(T284<>\"/\",Q284*T284,0))","v":336}]
["Sapeur",null,null,"Max","Max +",null,null,null,"Actuel","À Faire","Améliorations",5,{"$f":"IF(Paramètres!AT10=0,\"\",Paramètres!AT10)","v":""},{"$f":"IF(N284<>0,N284+IF(AND(M284<>\"\",L284<P$6),M284,0),IF(AND(M284<>\"\",L284<P$6),M284,0))","v":1},null,null,{"$f":"IF(R285<>\"/\",IF(T$279=\"Error\",\"Error\",$U$279+N285),\"/\")","v":1},{"$f":"IF(T$279=\"Error\",\"Error\",IF(AND($P$279<>\"/\",$P$279>'Paramètres - Admin'!$A6),'Paramètres - Admin'!$A7,\"/\"))","v":5},{"$f":"IF(R285<>\"/\",VLOOKUP(R285,COSTS_PEKKA[#All],2),\"/\")","v":8000000},{"$f":"IF(R285<>\"/\",VLOOKUP(R285,COSTS_PEKKA[#All],3),\"/\")","v":336},{"$f":"IF(T$279=\"Error\",\"Error\",IF(S285<>\"/\",Q285*S285,0))","v":8000000},{"$f":"IF(T$279=\"Error\",\"Error\",IF(T285<>\"/\",Q285*T285,0))","v":336}]
[null,null,null,{"$f":"VLOOKUP($A$2,AVAILABLE_Upgrades_Normal_Troops[#All],MATCH(A285,AVAILABLE_Upgrades_Normal_Troops[#Headers],0))","v":1},{"$f":"VLOOKUP(IF(ISERROR(LOOKUP(MATCH(1,Paramètres!$K$6:$K$45,0),Paramètres!$A$6:$A$45)),0,LOOKUP(MATCH(1,Paramètres!$K$6:$K$45,0),Paramètres!$A$6:$A$45)),AVAILABLE_Upgrades_Normal_Troops[#All],MATCH(A285,AVAILABLE_Upgrades_Normal_Troops[#Headers],0)+1)","v":6},null,null,null,{"$f":"IF(SUM(B288:B293)>D286,\"Error\",SUM(B288:B293))","v":1},{"$f":"IF(I$286=\"Error\",\"Error\",D286-I286)","v":0},{"$f":"IF(I$286=\"Error\",\"Error\",SUM(F288:F293))","v":1},null,null,null,null,null,null,null,null,"Total",{"$f":"IF(T$279=\"Error\",\"Error\",SUM(U281:U285))","v":21000000},{"$f":"IF(T$279=\"Error\",\"Error\",SUM(V281:V285))","v":960}]
["+","NB",null,null,null,"NB","+","Coût","Temps","Coût Total","Temps Total"]
[1,{"$f":"IF(Paramètres!AO6=0,\"\",Paramètres!AO6)","v":""},{"$f":"IF(C287<>0,C287+IF(AND(B287<>\"\",A287<E$6),B287,0),IF(AND(B287<>\"\",A287<E$6),B287,0))","v":0},null,null,{"$f":"IF(G288<>\"/\",IF(I$286=\"Error\",\"Error\",$J$286+C288),\"/\")","v":0},{"$f":"IF(I$286=\"Error\",\"Error\",IF(AND($E$286<>\"/\",$E$286>'Paramètres - Admin'!$A2),'Paramètres - Admin'!$A3,\"/\"))","v":1},{"$f":"IF(G288<>\"/\",VLOOKUP(G288,COSTS_Wall_Breaker[#All],2),\"/\")","v":0},{"$f":"IF(G288<>\"/\",VLOOKUP(G288,COSTS_Wall_Breaker[#All],3),\"/\")","v":0},{"$f":"IF(I$286=\"Error\",\"Error\",IF(H288<>\"/\",F288*H288,0))","v":0},{"$f":"IF(I$286=\"Error\",\"Error\",IF(I288<>\"/\",F288*I288,0))","v":0}]
[2,{"$f":"IF(Paramètres!AO7=0,\"\",Paramètres!AO7)","v":""},0,null,null,0,{"$f":"IF(I$286=\"Error\",\"Error\",IF(AND($E$286<>\"/\",$E$286>'Paramètres - Admin'!$A3),'Paramètres - Admin'!$A4,\"/\"))","v":2},{"$f":"IF(G289<>\"/\",VLOOKUP(G289,COSTS_Wall_Breaker[#All],2),\"/\")","v":100000},{"$f":"IF(G289<>\"/\",VLOOKUP(G289,COSTS_Wall_Breaker[#All],3),\"/\")","v":24},0,0]
[3,{"$f":"IF(Paramètres!AO8=0,\"\",Paramètres!AO8)","v":""},0,null,null,0,{"$f":"IF(I$286=\"Error\",\"Error\",IF(AND($E$286<>\"/\",$E$286>'Paramètres - Admin'!$A4),'Paramètres - Admin'!$A5,\"/\"))","v":3},{"$f":"IF(G290<>\"/\",VLOOKUP(G290,COSTS_Wall_Breaker[#All],2),\"/\")","v":250000},{"$f":"IF(G290<>\"/\",VLOOKUP(G290,COSTS_Wall_Breaker[#All],3),\"/\")","v":48},0,0]
[4,{"$f":"IF(Paramètres!AO9=0,\"\",Paramètres!AO9)","v":""},0,null,null,0,{"$f":"IF(I$286=\"Error\",\"Error\",IF(AND($E$286<>\"/\",$E$286>'Paramètres - Admin'!$A5),'Paramètres - Admin'!$A6,\"/\"))","v":4},{"$f":"IF(G291<>\"/\",VLOOKUP(G291,COSTS_Wall_Breaker[#All],2),\"/\")","v":750000},{"$f":"IF(G291<>\"/\",VLOOKUP(G291,COSTS_Wall_Breaker[#All],3),\"/\")","v":72},0,0]
[5,{"$f":"IF(Paramètres!AO10=0,\"\",Paramètres!AO10)","v":1},0,null,null,0,{"$f":"IF(I$286=\"Error\",\"Error\",IF(AND($E$286<>\"/\",$E$286>'Paramètres - Admin'!$A6),'Paramètres - Admin'!$A7,\"/\"))","v":5},{"$f":"IF(G292<>\"/\",VLOOKUP(G292,COSTS_Wall_Breaker[#All],2),\"/\")","v":2250000},{"$f":"IF(G292<>\"/\",VLOOKUP(G292,COSTS_Wall_Breaker[#All],3),\"/\")","v":120},0,0]
[6,{"$f":"IF(Paramètres!AO11=0,\"\",Paramètres!AO11)","v":""},1,null,null,1,{"$f":"IF(I$286=\"Error\",\"Error\",IF(AND($E$286<>\"/\",$E$286>'Paramètres - Admin'!$A7),'Paramètres - Admin'!$A8,\"/\"))","v":6},{"$f":"IF(G293<>\"/\",VLOOKUP(G293,COSTS_Wall_Breaker[#All],2),\"/\")","v":6750000},{"$f":"IF(G293<>\"/\",VLOOKUP(G293,COSTS_Wall_Breaker[#All],3),\"/\")","v":240},6750000,240]
[null,null,null,null,null,null,null,null,"Total",{"$f":"IF(I$286=\"Error\",\"Error\",SUM(J288:J293))","v":6750000},{"$f":"IF(I$286=\"Error\",\"Error\",SUM(K288:K293))","v":240}]
[]
[]
["Améliorations de Troupes Noires"]
["Élixir Noir"]
["Serviteur",null,null,"Max","Max +",null,null,null,"Actuel","À Faire","Améliorations","Golem",null,null,"Max","Max +",null,null,null,"Actuel","À Faire","Améliorations"]
[null,null,null,{"$f":"VLOOKUP($A$2,AVAILABLE_Upgrades_Dark_Troops[#All],MATCH(A299,AVAILABLE_Upgrades_Dark_Troops[#Headers],0))","v":1},{"$f":"VLOOKUP(IF(ISERROR(LOOKUP(MATCH(1,Paramètres!$K$6:$K$45,0),Paramètres!$A$6:$A$45)),0,LOOKUP(MATCH(1,Paramètres!$K$6:$K$45,0),Paramètres!$A$6:$A$45)),AVAILABLE_Upgrades_Dark_Troops[#All],MATCH(A299,AVAILABLE_Upgrades_Dark_Troops[#Headers],0)+1)","v":6},null,null,null,{"$f":"IF(SUM(B302:B307)>D300,\"Error\",SUM(B302:B307))","v":1},{"$f":"IF(I$300=\"Error\",\"Error\",D300-I300)","v":0},{"$f":"IF(I$300=\"Error\",\"Error\",SUM(F302:F307))","v":1},null,null,null,{"$f":"VLOOKUP($A$2,AVAILABLE_Upgrades_Dark_Troops[#All],MATCH(L299,AVAILABLE_Upgrades_Dark_Troops[#Headers],0))","v":1},{"$f":"VLOOKUP(IF(ISERROR(LOOKUP(MATCH(1,Paramètres!$K$6:$K$45,0),Paramètres!$A$6:$A$45)),0,LOOKUP(MATCH(1,Paramètres!$K$6:$K$45,0),Paramètres!$A$6:$A$45)),AVAILABLE_Upgrades_Dark_Troops[#All],MATCH(L299,AVAILABLE_Upgrades_Dark_Troops[#Headers],0)+1)","v":5},null,null,null,{"$f":"IF(SUM(M302:M306)>O300,\"Error\",SUM(M302:M306))","v":1},{"$f":"IF(T$300=\"Error\",\"Error\",O300-T300)","v":0},{"$f":"IF(T$300=\"Error\",\"Error\",SUM(Q302:Q306))","v":3}]
["+","NB",null,null,null,"NB","+","Coût","Temps","Coût Total","Temps Total","+","NB",null,null,null,"NB","+","Coût","Temps","Coût Total","Temps Total"]
[1,{"$f":"IF(Paramètres!AU6=0,\"\",Paramètres!AU6)","v":""},{"$f":"IF(C301<>0,C301+IF(AND(B301<>\"\",A301<E$6),B301,0),IF(AND(B301<>\"\",A301<E$6),B301,0))","v":0},null,null,{"$f":"IF(G302<>\"/\",IF(I$300=\"Error\",\"Error\",$J$300+C302),\"/\")","v":0},{"$f":"IF(I$300=\"Error\",\"Error\",IF(AND($E$300<>\"/\",$E$300>'Paramètres - Admin'!$A2),'Paramètres - Admin'!$A3,\"/\"))","v":1},{"$f":"IF(G302<>\"/\",VLOOKUP(G302,COSTS_Minion[#All],2),\"/\")","v":0},{"$f":"IF(G302<>\"/\",VLOOKUP(G302,COSTS_Minion[#All],3),\"/\")","v":0},{"$f":"IF(I$300=\"Error\",\"Error\",IF(H302<>\"/\",F302*H302,0))","v":0},{"$f":"IF(I$300=\"Error\",\"Error\",IF(I302<>\"/\",F302*I302,0))","v":0},1,{"$f":"IF(Paramètres!AX6=0,\"\",Paramètres!AX6)","v":""},{"$f":"IF(N301<>0,N301+IF(AND(M301<>\"\",L301<P$6),M301,0),IF(AND(M301<>\"\",L301<P$6),M301,0))","v":0},null,null,{"$f":"IF(R302<>\"/\",IF(T$300=\"Error\",\"Error\",$U$300+N302),\"/\")","v":0},{"$f":"IF(T$300=\"Error\",\"Error\",IF(AND($P$300<>\"/\",$P$300>'Paramètres - Admin'!$A2),'Paramètres - Admin'!$A3,\"/\"))","v":1},{"$f":"IF(R302<>\"/\",VLOOKUP(R302,COSTS_Golem[#All],2),\"/\")","v":0},{"$f":"IF(R302<>\"/\",VLOOKUP(R302,COSTS_Golem[#All],3),\"/\")","v":0},{"$f":"IF(T$300=\"Error\",\"Error\",IF(S302<>\"/\",Q302*S302,0))","v":0},{"$f":"IF(T$300=\"Error\",\"Error\",IF(T302<>\"/\",Q302*T302,0))","v":0}]
[2,{"$f":"IF(Paramètres!AU7=0,\"\",Paramètres!AU7)","v":""},0,null,null,0,{"$f":"IF(I$300=\"Error\",\"Error\",IF(AND($E$300<>\"/\",$E$300>'Paramètres - Admin'!$A3),'Paramètres - Admin'!$A4,\"/\"))","v":2},{"$f":"IF(G303<>\"/\",VLOOKUP(G303,COSTS_Minion[#All],2),\"/\")","v":10000},{"$f":"IF(G303<>\"/\",VLOOKUP(G303,COSTS_Minion[#All],3),\"/\")","v":120},0,0,2,{"$f":"IF(Paramètres!AX7=0,\"\",Paramètres!AX7)","v":1},{"$f":"IF(N302<>0,N302+IF(AND(M302<>\"\",L302<P$6),M302,0),IF(AND(M302<>\"\",L302<P$6),M302,0))","v":0},null,null,{"$f":"IF(R303<>\"/\",IF(T$300=\"Error\",\"Error\",$U$300+N303),\"/\")","v":0},{"$f":"IF(T$300=\"Error\",\"Error\",IF(AND($P$300<>\"/\",$P$300>'Paramètres - Admin'!$A3),'Paramètres - Admin'!$A4,\"/\"))","v":2},{"$f":"IF(R303<>\"/\",VLOOKUP(R303,COSTS_Golem[#All],2),\"/\")","v":60000},{"$f":"IF(R303<>\"/\",VLOOKUP(R303,COSTS_Golem[#All],3),\"/\")","v":240},{"$f":"IF(T$300=\"Error\",\"Error\",IF(S303<>\"/\",Q303*S303,0))","v":0},{"$f":"IF(T$300=\"Error\",\"Error\",IF(T303<>\"/\",Q303*T303,0))","v":0}]
[3,{"$f":"IF(Paramètres!AU8=0,\"\",Paramètres!AU8)","v":""},0,null,null,0,{"$f":"IF(I$300=\"Error\",\"Error\",IF(AND($E$300<>\"/\",$E$300>'Paramètres - Admin'!$A4),'Paramètres - Admin'!$A5,\"/\"))","v":3},{"$f":"IF(G304<>\"/\",VLOOKUP(G304,COSTS_Minion[#All],2),\"/\")","v":20000},{"$f":"IF(G304<>\"/\",VLOOKUP(G304,COSTS_Minion[#All],3),\"/\")","v":144},0,0,3,{"$f":"IF(Paramètres!AX8=0,\"\",Paramètres!AX8)","v":""},{"$f":"IF(N303<>0,N303+IF(AND(M303<>\"\",L303<P$6),M303,0),IF(AND(M303<>\"\",L303<P$6),M303,0))","v":1},null,null,{"$f":"IF(R304<>\"/\",IF(T$300=\"Error\",\"Error\",$U$300+N304),\"/\")","v":1},{"$f":"IF(T$300=\"Error\",\"Error\",IF(AND($P$300<>\"/\",$P$300>'Paramètres - Admin'!$A4),'Paramètres - Admin'!$A5,\"/\"))","v":3},{"$f":"IF(R304<>\"/\",VLOOKUP(R304,COSTS_Golem[#All],2),\"/\")","v":70000},{"$f":"IF(R304<>\"/\",VLOOKUP(R304,COSTS_Golem[#All],3),\"/\")","v":288},{"$f":"IF(T$300=\"Error\",\"Error\",IF(S304<>\"/\",Q304*S304,0))","v":70000},{"$f":"IF(T$300=\"Error\",\"Error\",IF(T304<>\"/\",Q304*T304,0))","v":288}]
[4,{"$f":"IF(Paramètres!AU9=0,\"\",Paramètres!AU9)","v":""},0,null,null,0,{"$f":"IF(I$300=\"Error\",\"Error\",IF(AND($E$300<>\"/\",$E$300>'Paramètres - Admin'!$A5),'Paramètres - Admin'!$A6,\"/\"))","v":4},{"$f":"IF(G305<>\"/\",VLOOKUP(G305,COSTS_Minion[#All],2),\"/\")","v":30000},{"$f":"IF(G305<>\"/\",VLOOKUP(G305,COSTS_Minion[#All],3),\"/\")","v":168},0,0,4,{"$f":"IF(Paramètres!AX9=0,\"\",Paramètres!AX9)","v":""},{"$f":"IF(N304<>0,N304+IF(AND(M304<>\"\",L304<P$6),M304,0),IF(AND(M304<>\"\",L304<P$6),M304,0))","v":1},null,null,{"$f":"IF(R305<>\"/\",IF(T$300=\"Error\",\"Error\",$U$300+N305),\"/\")","v":1},{"$f":"IF(T$300=\"Error\",\"Error\",IF(AND($P$300<>\"/\",$P$300>'Paramètres - Admin'!$A5),'Paramètres - Admin'!$A6,\"/\"))","v":4},{"$f":"IF(R305<>\"/\",VLOOKUP(R305,COSTS_Golem[#All],2),\"/\")","v":80000},{"$f":"IF(R305<>\"/\",VLOOKUP(R305,COSTS_Golem[#All],3),\"/\")","v":336},{"$f":"IF(T$300=\"Error\",\"Error\",IF(S305<>\"/\",Q305*S305,0))","v":80000},{"$f":"IF(T$300=\"Error\",\"Error\",IF(T305<>\"/\",Q305*T305,0))","v":336}]
[5,{"$f":"IF(Paramètres!AU10=0,\"\",Paramètres!AU10)","v":1},0,null,null,0,{"$f":"IF(I$300=\"Error\",\"Error\",IF(AND($E$300<>\"/\",$E$300>'Paramètres - Admin'!$A6),'Paramètres - Admin'!$A7,\"/\"))","v":5},{"$f":"IF(G306<>\"/\",VLOOKUP(G306,COSTS_Minion[#All],2),\"/\")","v":40000},{"$f":"IF(G306<>\"/\",VLOOKUP(G306,COSTS_Minion[#All],3),\"/\")","v":240},0,0,5,{"$f":"IF(Paramètres!AX10=0,\"\",Paramètres!AX10)","v":""},{"$f":"IF(N305<>0,N305+IF(AND(M305<>\"\",L305<P$6),M305,0),IF(AND(M305<>\"\",L305<P$6),M305,0))","v":1},null,null,{"$f":"IF(R306<>\"/\",IF(T$300=\"Error\",\"Error\",$U$300+N306),\"/\")","v":1},{"$f":"IF(T$300=\"Error\",\"Error\",IF(AND($P$300<>\"/\",$P$300>'Paramètres - Admin'!$A6),'Paramètres - Admin'!$A7,\"/\"))","v":5},{"$f":"IF(R306<>\"/\",VLOOKUP(R306,COSTS_Golem[#All],2),\"/\")","v":90000},{"$f":"IF(R306<>\"/\",VLOOKUP(R306,COSTS_Golem[#All],3),\"/\")","v":336},{"$f":"IF(T$300=\"Error\",\"Error\",IF(S306<>\"/\",Q306*S306,0))","v":90000},{"$f":"IF(T$300=\"Error\",\"Error\",IF(T306<>\"/\",Q306*T306,0))","v":336}]
[6,{"$f":"IF(Paramètres!AU11=0,\"\",Paramètres!AU11)","v":""},1,null,null,1,{"$f":"IF(I$300=\"Error\",\"Error\",IF(AND($E$300<>\"/\",$E$300>'Paramètres - Admin'!$A7),'Paramètres - Admin'!$A8,\"/\"))","v":6},{"$f":"IF(G307<>\"/\",VLOOKUP(G307,COSTS_Minion[#All],2),\"/\")","v":100000},{"$f":"IF(G307<>\"/\",VLOOKUP(G307,COSTS_Minion[#All],3),\"/\")","v":336},100000,336,null,null,null,null,null,null,null,null,"Total",{"$f":"IF(T$300=\"Error\",\"Error\",SUM(U302:U306))","v":240000},{"$f":"IF(T$300=\"Error\",\"Error\",SUM(V302:V306))","v":960}]
[null,null,null,null,null,null,null,null,"Total",{"$f":"IF(I$300=\"Error\",\"Error\",SUM(J302:J307))","v":100000},{"$f":"IF(I$300=\"Error\",\"Error\",SUM(K302:K306))","v":0},"Sorcière",null,null,"Max","Max +",null,null,null,"Actuel","À Faire","Améliorations"]
["Chevaucheur de Cochon",null,null,"Max","Max +",null,null,null,"Actuel","À Faire","Améliorations",null,null,null,{"$f":"VLOOKUP($A$2,AVAILABLE_Upgrades_Dark_Troops[#All],MATCH(L308,AVAILABLE_Upgrades_Dark_Troops[#Headers],0))","v":1},{"$f":"VLOOKUP(IF(ISERROR(LOOKUP(MATCH(1,Paramètres!$K$6:$K$45,0),Paramètres!$A$6:$A$45)),0,LOOKUP(MATCH(1,Paramètres!$K$6:$K$45,0),Paramètres!$A$6:$A$45)),AVAILABLE_Upgrades_Dark_Troops[#All],MATCH(L308,AVAILABLE_Upgrades_Dark_Troops[#Headers],0)+1)","v":2},null,null,null,{"$f":"IF(SUM(M311:M312)>O309,\"Error\",SUM(M311:M312))","v":1},{"$f":"IF(T$309=\"Error\",\"Error\",O309-T309)","v":0},{"$f":"IF(T$309=\"Error\",\"Error\",SUM(Q311:Q312))","v":1}]
[null,null,null,{"$f":"VLOOKUP($A$2,AVAILABLE_Upgrades_Dark_Troops[#All],MATCH(A309,AVAILABLE_Upgrades_Dark_Troops[#Headers],0))","v":1},{"$f":"VLOOKUP(IF(ISERROR(LOOKUP(MATCH(1,Paramètres!$K$6:$K$45,0),Paramètres!$A$6:$A$45)),0,LOOKUP(MATCH(1,Paramètres!$K$6:$K$45,0),Paramètres!$A$6:$A$45)),AVAILABLE_Upgrades_Dark_Troops[#All],MATCH(A309,AVAILABLE_Upgrades_Dark_Troops[#Headers],0)+1)","v":5},null,null,null,{"$f":"IF(SUM(B312:B316)>D310,\"Error\",SUM(B312:B316))","v":1},{"$f":"IF(I$310=\"Error\",\"Error\",D310-I310)","v":0},{"$f":"IF(I$310=\"Error\",\"Error\",SUM(F312:F316))","v":1},"+","NB",null,null,null,"NB","+","Coût","Temps","Coût Total","Temps Total"]
["+","NB",null,null,null,"NB","+","Coût","Temps","Coût Total","Temps Total",1,{"$f":"IF(Paramètres!AY6=0,\"\",Paramètres!AY6)","v":1},{"$f":"IF(N310<>0,N310+IF(AND(M310<>\"\",L310<P$6),M310,0),IF(AND(M310<>\"\",L310<P$6),M310,0))","v":0},null,null,{"$f":"IF(R311<>\"/\",IF(T$309=\"Error\",\"Error\",$U$309+N311),\"/\")","v":0},{"$f":"IF(T$309=\"Error\",\"Error\",IF(AND($P$309<>\"/\",$P$309>'Paramètres - Admin'!$A2),'Paramètres - Admin'!$A3,\"/\"))","v":1},{"$f":"IF(R311<>\"/\",VLOOKUP(R311,COSTS_Witch[#All],2),\"/\")","v":0},{"$f":"IF(R311<>\"/\",VLOOKUP(R311,COSTS_Witch[#All],3),\"/\")","v":0},{"$f":"IF(T$309=\"Error\",\"Error\",IF(S311<>\"/\",Q311*S311,0))","v":0},{"$f":"IF(T$309=\"Error\",\"Error\",IF(T311<>\"/\",Q311*T311,0))","v":0}]
[1,{"$f":"IF(Paramètres!AV6=0,\"\",Paramètres!AV6)","v":""},{"$f":"IF(C311<>0,C311+IF(AND(B311<>\"\",A311<E$6),B311,0),IF(AND(B311<>\"\",A311<E$6),B311,0))","v":0},null,null,{"$f":"IF(G312<>\"/\",IF(I$310=\"Error\",\"Error\",$J$310+C312),\"/\")","v":0},{"$f":"IF(I$310=\"Error\",\"Error\",IF(AND($E$310<>\"/\",$E$310>'Paramètres - Admin'!$A2),'Paramètres - Admin'!$A3,\"/\"))","v":1},{"$f":"IF(G312<>\"/\",VLOOKUP(G312,COSTS_Hog_Rider[#All],2),\"/\")","v":0},{"$f":"IF(G312<>\"/\",VLOOKUP(G312,COSTS_Hog_Rider[#All],3),\"/\")","v":0},{"$f":"IF(I$310=\"Error\",\"Error\",IF(H312<>\"/\",F312*H312,0))","v":0},{"$f":"IF(I$310=\"Error\",\"Error\",IF(I312<>\"/\",F312*I312,0))","v":0},2,{"$f":"IF(Paramètres!AY7=0,\"\",Paramètres!AY7)","v":""},{"$f":"IF(N311<>0,N311+IF(AND(M311<>\"\",L311<P$6),M311,0),IF(AND(M311<>\"\",L311<P$6),M311,0))","v":1},null,null,{"$f":"IF(R312<>\"/\",IF(T$309=\"Error\",\"Error\",$U$309+N312),\"/\")","v":1},{"$f":"IF(T$309=\"Error\",\"Error\",IF(AND($P$309<>\"/\",$P$309>'Paramètres - Admin'!$A3),'Paramètres - Admin'!$A4,\"/\"))","v":2},{"$f":"IF(R312<>\"/\",VLOOKUP(R312,COSTS_Witch[#All],2),\"/\")","v":75000},{"$f":"IF(R312<>\"/\",VLOOKUP(R312,COSTS_Witch[#All],3),\"/\")","v":240},{"$f":"IF(T$309=\"Error\",\"Error\",IF(S312<>\"/\",Q312*S312,0))","v":75000},{"$f":"IF(T$309=\"Error\",\"Error\",IF(T312<>\"/\",Q312*T312,0))","v":240}]
[2,{"$f":"IF(Paramètres!AV7=0,\"\",Paramètres!AV7)","v":""},{"$f":"IF(C312<>0,C312+IF(AND(B312<>\"\",A312<E$6),B312,0),IF(AND(B312<>\"\",A312<E$6),B312,0))","v":0},null,null,{"$f":"IF(G313<>\"/\",IF(I$310=\"Error\",\"Error\",$J$310+C313),\"/\")","v":0},{"$f":"IF(I$310=\"Error\",\"Error\",IF(AND($E$310<>\"/\",$E$310>'Paramètres - Admin'!$A3),'Paramètres - Admin'!$A4,\"/\"))","v":2},{"$f":"IF(G313<>\"/\",VLOOKUP(G313,COSTS_Hog_Rider[#All],2),\"/\")","v":20000},{"$f":"IF(G313<>\"/\",VLOOKUP(G313,COSTS_Hog_Rider[#All],3),\"/\")","v":192},{"$f":"IF(I$310=\"Error\",\"Error\",IF(H313<>\"/\",F313*H313,0))","v":0},{"$f":"IF(I$310=\"Error\",\"Error\",IF(I313<>\"/\",F313*I313,0))","v":0},null,null,null,null,null,null,null,null,"Total",{"$f":"IF(T$309=\"Error\",\"Error\",SUM(U311:U312))","v":75000},{"$f":"IF(T$309=\"Error\",\"Error\",SUM(V311:V312))","v":240}]
[3,{"$f":"IF(Paramètres!AV8=0,\"\",Paramètres!AV8)","v":""},{"$f":"IF(C313<>0,C313+IF(AND(B313<>\"\",A313<E$6),B313,0),IF(AND(B313<>\"\",A313<E$6),B313,0))","v":0},null,null,{"$f":"IF(G314<>\"/\",IF(I$310=\"Error\",\"Error\",$J$310+C314),\"/\")","v":0},{"$f":"IF(I$310=\"Error\",\"Error\",IF(AND($E$310<>\"/\",$E$310>'Paramètres - Admin'!$A4),'Paramètres - Admin'!$A5,\"/\"))","v":3},{"$f":"IF(G314<>\"/\",VLOOKUP(G314,COSTS_Hog_Rider[#All],2),\"/\")","v":30000},{"$f":"IF(G314<>\"/\",VLOOKUP(G314,COSTS_Hog_Rider[#All],3),\"/\")","v":240},{"$f":"IF(I$310=\"Error\",\"Error\",IF(H314<>\"/\",F314*H314,0))","v":0},{"$f":"IF(I$310=\"Error\",\"Error\",IF(I314<>\"/\",F314*I314,0))","v":0},"Molosse de lave",null,null,"Max","Max +",null,null,null,"Actuel","À Faire","Améliorations"]
[4,{"$f":"IF(Paramètres!AV9=0,\"\",Paramètres!AV9)","v":1},{"$f":"IF(C314<>0,C314+IF(AND(B314<>\"\",A314<E$6),B314,0),IF(AND(B314<>\"\",A314<E$6),B314,0))","v":0},null,null,{"$f":"IF(G315<>\"/\",IF(I$310=\"Error\",\"Error\",$J$310+C315),\"/\")","v":0},{"$f":"IF(I$310=\"Error\",\"Error\",IF(AND($E$310<>\"/\",$E$310>'Paramètres - Admin'!$A5),'Paramètres - Admin'!$A6,\"/\"))","v":4},{"$f":"IF(G315<>\"/\",VLOOKUP(G315,COSTS_Hog_Rider[#All],2),\"/\")","v":40000},{"$f":"IF(G315<>\"/\",VLOOKUP(G315,COSTS_Hog_Rider[#All],3),\"/\")","v":288},{"$f":"IF(I$310=\"Error\",\"Error\",IF(H315<>\"/\",F315*H315,0))","v":0},{"$f":"IF(I$310=\"Error\",\"Error\",IF(I315<>\"/\",F315*I315,0))","v":0},null,null,null,{"$f":"VLOOKUP($A$2,AVAILABLE_Upgrades_Dark_Troops[#All],MATCH(L314,AVAILABLE_Upgrades_Dark_Troops[#Headers],0))","v":1},{"$f":"VLOOKUP(IF(ISERROR(LOOKUP(MATCH(1,Paramètres!$K$6:$K$45,0),Paramètres!$A$6:$A$45)),0,LOOKUP(MATCH(1,Paramètres!$K$6:$K$45,0),Paramètres!$A$6:$A$45)),AVAILABLE_Upgrades_Dark_Troops[#All],MATCH(L314,AVAILABLE_Upgrades_Dark_Troops[#Headers],0)+1)","v":3},null,null,null,{"$f":"IF(SUM(M317:M319)>O315,\"Error\",SUM(M317:M319))","v":1},{"$f":"IF(T$309=\"Error\",\"Error\",O315-T315)","v":0},{"$f":"IF(T$309=\"Error\",\"Error\",SUM(Q317:Q319))","v":1}]
[5,{"$f":"IF(Paramètres!AV10=0,\"\",Paramètres!AV10)","v":""},{"$f":"IF(C315<>0,C315+IF(AND(B315<>\"\",A315<E$6),B315,0),IF(AND(B315<>\"\",A315<E$6),B315,0))","v":1},null,null,{"$f":"IF(G316<>\"/\",IF(I$310=\"Error\",\"Error\",$J$310+C316),\"/\")","v":1},{"$f":"IF(I$310=\"Error\",\"Error\",IF(AND($E$310<>\"/\",$E$310>'Paramètres - Admin'!$A6),'Paramètres - Admin'!$A7,\"/\"))","v":5},{"$f":"IF(G316<>\"/\",VLOOKUP(G316,COSTS_Hog_Rider[#All],2),\"/\")","v":50000},{"$f":"IF(G316<>\"/\",VLOOKUP(G316,COSTS_Hog_Rider[#All],3),\"/\")","v":336},{"$f":"IF(I$310=\"Error\",\"Error\",IF(H316<>\"/\",F316*H316,0))","v":50000},{"$f":"IF(I$310=\"Error\",\"Error\",IF(I316<>\"/\",F316*I316,0))","v":336},"+","NB",null,null,null,"NB","+","Coût","Temps","Coût Total","Temps Total"]
[null,null,null,null,null,null,null,null,"Total",{"$f":"IF(I$310=\"Error\",\"Error\",SUM(J312:J316))","v":50000},{"$f":"IF(I$310=\"Error\",\"Error\",SUM(K312:K316))","v":336},1,{"$f":"IF(Paramètres!AZ6=0,\"\",Paramètres!AZ6)","v":""},{"$f":"IF(N316<>0,N316+IF(AND(M316<>\"\",L316<P$6),M316,0),IF(AND(M316<>\"\",L316<P$6),M316,0))","v":0},null,null,{"$f":"IF(R317<>\"/\",IF(T$309=\"Error\",\"Error\",$U$309+N317),\"/\")","v":0},{"$f":"IF($T$315=\"Error\",\"Error\",IF(AND($P$315<>\"/\",$P$315>'Paramètres - Admin'!$A2),'Paramètres - Admin'!$A3,\"/\"))","v":1},{"$f":"IF(R317<>\"/\",VLOOKUP(R317,COSTS_Lava_Hound[#All],2),\"/\")","v":0},{"$f":"IF(R317<>\"/\",VLOOKUP(R317,COSTS_Lava_Hound[#All],3),\"/\")","v":0},{"$f":"IF(T$315=\"Error\",\"Error\",IF(S317<>\"/\",Q317*S317,0))","v":0},{"$f":"IF(T$315=\"Error\",\"Error\",IF(T317<>\"/\",Q317*T317,0))","v":0}]
["Valkyrie",null,null,"Max","Max +",null,null,null,"Actuel","À Faire","Améliorations",2,{"$f":"IF(Paramètres!AZ7=0,\"\",Paramètres!AZ7)","v":1},{"$f":"IF(N317<>0,N317+IF(AND(M317<>\"\",L317<P$6),M317,0),IF(AND(M317<>\"\",L317<P$6),M317,0))","v":0},null,null,{"$f":"IF(R318<>\"/\",IF(T$309=\"Error\",\"Error\",$U$309+N318),\"/\")","v":0},{"$f":"IF($T$315=\"Error\",\"Error\",IF(AND($P$315<>\"/\",$P$315>'Paramètres - Admin'!$A3),'Paramètres - Admin'!$A4,\"/\"))","v":2},{"$f":"IF(R318<>\"/\",VLOOKUP(R318,COSTS_Lava_Hound[#All],2),\"/\")","v":60000},{"$f":"IF(R318<>\"/\",VLOOKUP(R318,COSTS_Lava_Hound[#All],3),\"/\")","v":240},{"$f":"IF(T$315=\"Error\",\"Error\",IF(S318<>\"/\",Q318*S318,0))","v":0},{"$f":"IF(T$315=\"Error\",\"Error\",IF(T318<>\"/\",Q318*T318,0))","v":0}]
[null,null,null,{"$f":"VLOOKUP($A$2,AVAILABLE_Upgrades_Dark_Troops[#All],MATCH(A318,AVAILABLE_Upgrades_Dark_Troops[#Headers],0))","v":1},{"$f":"VLOOKUP(IF(ISERROR(LOOKUP(MATCH(1,Paramètres!$K$6:$K$45,0),Paramètres!$A$6:$A$45)),0,LOOKUP(MATCH(1,Paramètres!$K$6:$K$45,0),Paramètres!$A$6:$A$45)),AVAILABLE_Upgrades_Dark_Troops[#All],MATCH(A318,AVAILABLE_Upgrades_Dark_Troops[#Headers],0)+1)","v":4},null,null,null,{"$f":"IF(SUM(B321:B324)>D319,\"Error\",SUM(B321:B324))","v":1},{"$f":"IF(I$319=\"Error\",\"Error\",D319-I319)","v":0},{"$f":"IF(I$319=\"Error\",\"Error\",SUM(F321:F324))","v":3},3,{"$f":"IF(Paramètres!AZ8=0,\"\",Paramètres!AZ8)","v":""},{"$f":"IF(N318<>0,N318+IF(AND(M318<>\"\",L318<P$6),M318,0),IF(AND(M318<>\"\",L318<P$6),M318,0))","v":1},null,null,{"$f":"IF(R319<>\"/\",IF(T$309=\"Error\",\"Error\",$U$309+N319),\"/\")","v":1},{"$f":"IF($T$315=\"Error\",\"Error\",IF(AND($P$315<>\"/\",$P$315>'Paramètres - Admin'!$A4),'Paramètres - Admin'!$A5,\"/\"))","v":3},{"$f":"IF(R319<>\"/\",VLOOKUP(R319,COSTS_Lava_Hound[#All],2),\"/\")","v":70000},{"$f":"IF(R319<>\"/\",VLOOKUP(R319,COSTS_Lava_Hound[#All],3),\"/\")","v":288},{"$f":"IF(T$315=\"Error\",\"Error\",IF(S319<>\"/\",Q319*S319,0))","v":70000},{"$f":"IF(T$315=\"Error\",\"Error\",IF(T319<>\"/\",Q319*T319,0))","v":288}]
["+","NB",null,null,null,"NB","+","Coût","Temps","Coût Total","Temps Total",null,null,null,null,null,null,null,null,"Total",{"$f":"IF(T$315=\"Error\",\"Error\",SUM(U317:U319))","v":70000},{"$f":"IF(T$315=\"Error\",\"Error\",SUM(V317:V319))","v":288}]
[1,{"$f":"IF(Paramètres!AW6=0,\"\",Paramètres!AW6)","v":1},{"$f":"IF(C320<>0,C320+IF(AND(B320<>\"\",A320<P$6),B320,0),IF(AND(B320<>\"\",A320<P$6),B320,0))","v":0},null,null,{"$f":"IF(G321<>\"/\",IF(I$319=\"Error\",\"Error\",$J$319+C321),\"/\")","v":0},{"$f":"IF(I$319=\"Error\",\"Error\",IF(AND($E$319<>\"/\",$E$319>'Paramètres - Admin'!$A2),'Paramètres - Admin'!$A3,\"/\"))","v":1},{"$f":"IF(G321<>\"/\",VLOOKUP(G321,COSTS_Valkyrie[#All],2),\"/\")","v":0},{"$f":"IF(G321<>\"/\",VLOOKUP(G321,COSTS_Valkyrie[#All],3),\"/\")","v":0},{"$f":"IF(I$319=\"Error\",\"Error\",IF(H321<>\"/\",F321*H321,0))","v":0},{"$f":"IF(I$319=\"Error\",\"Error\",IF(I321<>\"/\",F321*I321,0))","v":0}]
[2,{"$f":"IF(Paramètres!AW7=0,\"\",Paramètres!AW7)","v":""},{"$f":"IF(C321<>0,C321+IF(AND(B321<>\"\",A321<P$6),B321,0),IF(AND(B321<>\"\",A321<P$6),B321,0))","v":1},null,null,{"$f":"IF(G322<>\"/\",IF(I$319=\"Error\",\"Error\",$J$319+C322),\"/\")","v":1},{"$f":"IF(I$319=\"Error\",\"Error\",IF(AND($E$319<>\"/\",$E$319>'Paramètres - Admin'!$A3),'Paramètres - Admin'!$A4,\"/\"))","v":2},{"$f":"IF(G322<>\"/\",VLOOKUP(G322,COSTS_Valkyrie[#All],2),\"/\")","v":50000},{"$f":"IF(G322<>\"/\",VLOOKUP(G322,COSTS_Valkyrie[#All],3),\"/\")","v":240},{"$f":"IF(I$319=\"Error\",\"Error\",IF(H322<>\"/\",F322*H322,0))","v":50000},{"$f":"IF(I$319=\"Error\",\"Error\",IF(I322<>\"/\",F322*I322,0))","v":240}]
[3,{"$f":"IF(Paramètres!AW8=0,\"\",Paramètres!AW8)","v":""},{"$f":"IF(C322<>0,C322+IF(AND(B322<>\"\",A322<P$6),B322,0),IF(AND(B322<>\"\",A322<P$6),B322,0))","v":1},null,null,{"$f":"IF(G323<>\"/\",IF(I$319=\"Error\",\"Error\",$J$319+C323),\"/\")","v":1},{"$f":"IF(I$319=\"Error\",\"Error\",IF(AND($E$319<>\"/\",$E$319>'Paramètres - Admin'!$A4),'Paramètres - Admin'!$A5,\"/\"))","v":3},{"$f":"IF(G323<>\"/\",VLOOKUP(G323,COSTS_Valkyrie[#All],2),\"/\")","v":60000},{"$f":"IF(G323<>\"/\",VLOOKUP(G323,COSTS_Valkyrie[#All],3),\"/\")","v":288},{"$f":"IF(I$319=\"Error\",\"Error\",IF(H323<>\"/\",F323*H323,0))","v":60000},{"$f":"IF(I$319=\"Error\",\"Error\",IF(I323<>\"/\",F323*I323,0))","v":288}]
[4,{"$f":"IF(Paramètres!AW9=0,\"\",Paramètres!AW9)","v":""},{"$f":"IF(C323<>0,C323+IF(AND(B323<>\"\",A323<P$6),B323,0),IF(AND(B323<>\"\",A323<P$6),B323,0))","v":1},null,null,{"$f":"IF(G324<>\"/\",IF(I$319=\"Error\",\"Error\",$J$319+C324),\"/\")","v":1},{"$f":"IF(I$319=\"Error\",\"Error\",IF(AND($E$319<>\"/\",$E$319>'Paramètres - Admin'!$A5),'Paramètres - Admin'!$A6,\"/\"))","v":4},{"$f":"IF(G324<>\"/\",VLOOKUP(G324,COSTS_Valkyrie[#All],2),\"/\")","v":70000},{"$f":"IF(G324<>\"/\",VLOOKUP(G324,COSTS_Valkyrie[#All],3),\"/\")","v":336},{"$f":"IF(I$319=\"Error\",\"Error\",IF(H324<>\"/\",F324*H324,0))","v":70000},{"$f":"IF(I$319=\"Error\",\"Error\",IF(I324<>\"/\",F324*I324,0))","v":336}]
[null,null,null,null,null,null,null,null,"Total",{"$f":"IF(I$319=\"Error\",\"Error\",SUM(J321:J324))","v":180000},{"$f":"IF(I$319=\"Error\",\"Error\",SUM(K321:K324))","v":864}]
[]
[]
["Héros"]
["Élixir Noir"]
["Roi des Barbares",null,null,"Max","Max +",null,null,null,"Actuel","À Faire","Améliorations","Reine des Archers",null,null,"Max","Max +",null,null,null,"Actuel","À Faire","Améliorations"]
[null,null,null,{"$f":"VLOOKUP($A$2,AVAILABLE_Heroes[#All],MATCH(A330,AVAILABLE_Heroes[#Headers],0))","v":1},{"$f":"VLOOKUP($A$2,AVAILABLE_Heroes[#All],MATCH(A330,AVAILABLE_Heroes[#Headers],0)+1)","v":40},null,null,null,{"$f":"IF(SUM(B333:B372)>D331,\"Error\",SUM(B333:B372))","v":1},{"$f":"IF(I$331=\"Error\",\"Error\",D331-I331)","v":0},{"$f":"IF(I$331=\"Error\",\"Error\",SUM(F333:F372))","v":34},null,null,null,{"$f":"VLOOKUP($A$2,AVAILABLE_Heroes[#All],MATCH(L330,AVAILABLE_Heroes[#Headers],0))","v":1},{"$f":"VLOOKUP($A$2,AVAILABLE_Heroes[#All],MATCH(L330,AVAILABLE_Heroes[#Headers],0)+1)","v":40},null,null,null,{"$f":"IF(SUM(M333:M372)>O331,\"Error\",SUM(M333:M372))","v":1},{"$f":"IF(T$331=\"Error\",\"Error\",O331-T331)","v":0},{"$f":"IF(T$331=\"Error\",\"Error\",SUM(Q333:Q372))","v":35}]
["+","NB",null,null,null,"NB","+","Coût","Temps","Coût Total","Temps Total","+","NB",null,null,null,"NB","+","Coût","Temps","Coût Total","Temps Total"]
[1,{"$f":"IF(Paramètres!BB6=0,\"\",Paramètres!BB6)","v":""},{"$f":"IF(C332<>0,C332+IF(AND(B332<>\"\",A332<E$331),B332,0),IF(AND(B332<>\"\",A332<E$331),B332,0))","v":0},null,null,{"$f":"IF(G333<>\"/\",IF(I$331=\"Error\",\"Error\",$J$331+C333),\"/\")","v":0},{"$f":"IF(I$331=\"Error\",\"Error\",IF(AND($E$331<>\"/\",$E$331>'Paramètres - Admin'!$A2),'Paramètres - Admin'!$A3,\"/\"))","v":1},{"$f":"IF(G333<>\"/\",VLOOKUP(G333,COSTS_Barbarian_King[#All],2),\"/\")","v":10000},{"$f":"IF(G333<>\"/\",VLOOKUP(G333,COSTS_Barbarian_King[#All],3),\"/\")","v":0},{"$f":"IF(I$331=\"Error\",\"Error\",IF(H333<>\"/\",F333*H333,0))","v":0},{"$f":"IF(I$331=\"Error\",\"Error\",IF(I333<>\"/\",F333*I333,0))","v":0},1,{"$f":"IF(Paramètres!BC6=0,\"\",Paramètres!BC6)","v":""},{"$f":"IF(N332<>0,N332+IF(AND(M332<>\"\",L332<P$331),M332,0),IF(AND(M332<>\"\",L332<P$331),M332,0))","v":0},null,null,{"$f":"IF(R333<>\"/\",IF(T$331=\"Error\",\"Error\",$U$331+N333),\"/\")","v":0},{"$f":"IF(T$331=\"Error\",\"Error\",IF(AND($P$331<>\"/\",$P$331>'Paramètres - Admin'!$A2),'Paramètres - Admin'!$A3,\"/\"))","v":1},{"$f":"IF(R333<>\"/\",VLOOKUP(R333,COSTS_Archer_Queen[#All],2),\"/\")","v":40000},{"$f":"IF(R333<>\"/\",VLOOKUP(R333,COSTS_Archer_Queen[#All],3),\"/\")","v":0},{"$f":"IF(T$331=\"Error\",\"Error\",IF(S333<>\"/\",Q333*S333,0))","v":0},{"$f":"IF(T$331=\"Error\",\"Error\",IF(T333<>\"/\",Q333*T333,0))","v":0}]
[2,{"$f":"IF(Paramètres!BB7=0,\"\",Paramètres!BB7)","v":""},0,null,null,0,{"$f":"IF(I$331=\"Error\",\"Error\",IF(AND($E$331<>\"/\",$E$331>'Paramètres - Admin'!$A3),'Paramètres - Admin'!$A4,\"/\"))","v":2},{"$f":"IF(G334<>\"/\",VLOOKUP(G334,COSTS_Barbarian_King[#All],2),\"/\")","v":12500},{"$f":"IF(G334<>\"/\",VLOOKUP(G334,COSTS_Barbarian_King[#All],3),\"/\")","v":12},0,0,2,{"$f":"IF(Paramètres!BC7=0,\"\",Paramètres!BC7)","v":""},0,null,null,{"$f":"IF(R334<>\"/\",IF(T$331=\"Error\",\"Error\",$U$331+N334),\"/\")","v":0},{"$f":"IF(T$331=\"Error\",\"Error\",IF(AND($P$331<>\"/\",$P$331>'Paramètres - Admin'!$A3),'Paramètres - Admin'!$A4,\"/\"))","v":2},{"$f":"IF(R334<>\"/\",VLOOKUP(R334,COSTS_Archer_Queen[#All],2),\"/\")","v":22500},{"$f":"IF(R334<>\"/\",VLOOKUP(R334,COSTS_Archer_Queen[#All],3),\"/\")","v":12},0,0]
[3,{"$f":"IF(Paramètres!BB8=0,\"\",Paramètres!BB8)","v":""},0,null,null,0,{"$f":"IF(I$331=\"Error\",\"Error\",IF(AND($E$331<>\"/\",$E$331>'Paramètres - Admin'!$A4),'Paramètres - Admin'!$A5,\"/\"))","v":3},{"$f":"IF(G335<>\"/\",VLOOKUP(G335,COSTS_Barbarian_King[#All],2),\"/\")","v":15000},{"$f":"IF(G335<>\"/\",VLOOKUP(G335,COSTS_Barbarian_King[#All],3),\"/\")","v":24},0,0,3,{"$f":"IF(Paramètres!BC8=0,\"\",Paramètres!BC8)","v":""},0,null,null,0,{"$f":"IF(T$331=\"Error\",\"Error\",IF(AND($P$331<>\"/\",$P$331>'Paramètres - Admin'!$A4),'Paramètres - Admin'!$A5,\"/\"))","v":3},{"$f":"IF(R335<>\"/\",VLOOKUP(R335,COSTS_Archer_Queen[#All],2),\"/\")","v":25000},{"$f":"IF(R335<>\"/\",VLOOKUP(R335,COSTS_Archer_Queen[#All],3),\"/\")","v":24},0,0]
[4,{"$f":"IF(Paramètres!BB9=0,\"\",Paramètres!BB9)","v":""},0,null,null,0,{"$f":"IF(I$331=\"Error\",\"Error\",IF(AND($E$331<>\"/\",$E$331>'Paramètres - Admin'!$A5),'Paramètres - Admin'!$A6,\"/\"))","v":4},{"$f":"IF(G336<>\"/\",VLOOKUP(G336,COSTS_Barbarian_King[#All],2),\"/\")","v":17500},{"$f":"IF(G336<>\"/\",VLOOKUP(G336,COSTS_Barbarian_King[#All],3),\"/\")","v":36},0,0,4,{"$f":"IF(Paramètres!BC9=0,\"\",Paramètres!BC9)","v":""},0,null,null,0,{"$f":"IF(T$331=\"Error\",\"Error\",IF(AND($P$331<>\"/\",$P$331>'Paramètres - Admin'!$A5),'Paramètres - Admin'!$A6,\"/\"))","v":4},{"$f":"IF(R336<>\"/\",VLOOKUP(R336,COSTS_Archer_Queen[#All],2),\"/\")","v":27500},{"$f":"IF(R336<>\"/\",VLOOKUP(R336,COSTS_Archer_Queen[#All],3),\"/\")","v":36},0,0]
[5,{"$f":"IF(Paramètres!BB10=0,\"\",Paramètres!BB10)","v":""},0,null,null,0,{"$f":"IF(I$331=\"Error\",\"Error\",IF(AND($E$331<>\"/\",$E$331>'Paramètres - Admin'!$A6),'Paramètres - Admin'!$A7,\"/\"))","v":5},{"$f":"IF(G337<>\"/\",VLOOKUP(G337,COSTS_Barbarian_King[#All],2),\"/\")","v":20000},{"$f":"IF(G337<>\"/\",VLOOKUP(G337,COSTS_Barbarian_King[#All],3),\"/\")","v":48},0,0,5,{"$f":"IF(Paramètres!BC10=0,\"\",Paramètres!BC10)","v":1},0,null,null,0,{"$f":"IF(T$331=\"Error\",\"Error\",IF(AND($P$331<>\"/\",$P$331>'Paramètres - Admin'!$A6),'Paramètres - Admin'!$A7,\"/\"))","v":5},{"$f":"IF(R337<>\"/\",VLOOKUP(R337,COSTS_Archer_Queen[#All],2),\"/\")","v":30000},{"$f":"IF(R337<>\"/\",VLOOKUP(R337,COSTS_Archer_Queen[#All],3),\"/\")","v":48},0,0]
[6,{"$f":"IF(Paramètres!BB11=0,\"\",Paramètres!BB11)","v":1},0,null,null,0,{"$f":"IF(I$331=\"Error\",\"Error\",IF(AND($E$331<>\"/\",$E$331>'Paramètres - Admin'!$A7),'Paramètres - Admin'!$A8,\"/\"))","v":6},{"$f":"IF(G338<>\"/\",VLOOKUP(G338,COSTS_Barbarian_King[#All],2),\"/\")","v":22500},{"$f":"IF(G338<>\"/\",VLOOKUP(G338,COSTS_Barbarian_King[#All],3),\"/\")","v":60},0,0,6,{"$f":"IF(Paramètres!BC11=0,\"\",Paramètres!BC11)","v":""},1,null,null,1,{"$f":"IF(T$331=\"Error\",\"Error\",IF(AND($P$331<>\"/\",$P$331>'Paramètres - Admin'!$A7),'Paramètres - Admin'!$A8,\"/\"))","v":6},{"$f":"IF(R338<>\"/\",VLOOKUP(R338,COSTS_Archer_Queen[#All],2),\"/\")","v":32500},{"$f":"IF(R338<>\"/\",VLOOKUP(R338,COSTS_Archer_Queen[#All],3),\"/\")","v":60},32500,60]
[7,{"$f":"IF(Paramètres!BB12=0,\"\",Paramètres!BB12)","v":""},1,null,null,1,{"$f":"IF(I$331=\"Error\",\"Error\",IF(AND($E$331<>\"/\",$E$331>'Paramètres - Admin'!$A8),'Paramètres - Admin'!$A9,\"/\"))","v":7},{"$f":"IF(G339<>\"/\",VLOOKUP(G339,COSTS_Barbarian_King[#All],2),\"/\")","v":25000},{"$f":"IF(G339<>\"/\",VLOOKUP(G339,COSTS_Barbarian_King[#All],3),\"/\")","v":72},25000,72,7,{"$f":"IF(Paramètres!BC12=0,\"\",Paramètres!BC12)","v":""},1,null,null,1,{"$f":"IF(T$331=\"Error\",\"Error\",IF(AND($P$331<>\"/\",$P$331>'Paramètres - Admin'!$A8),'Paramètres - Admin'!$A9,\"/\"))","v":7},{"$f":"IF(R339<>\"/\",VLOOKUP(R339,COSTS_Archer_Queen[#All],2),\"/\")","v":35000},{"$f":"IF(R339<>\"/\",VLOOKUP(R339,COSTS_Archer_Queen[#All],3),\"/\")","v":72},35000,72]
[8,{"$f":"IF(Paramètres!BB13=0,\"\",Paramètres!BB13)","v":""},1,null,null,1,{"$f":"IF(I$331=\"Error\",\"Error\",IF(AND($E$331<>\"/\",$E$331>'Paramètres - Admin'!$A9),'Paramètres - Admin'!$A10,\"/\"))","v":8},{"$f":"IF(G340<>\"/\",VLOOKUP(G340,COSTS_Barbarian_King[#All],2),\"/\")","v":30000},{"$f":"IF(G340<>\"/\",VLOOKUP(G340,COSTS_Barbarian_King[#All],3),\"/\")","v":84},30000,84,8,{"$f":"IF(Paramètres!BC13=0,\"\",Paramètres!BC13)","v":""},1,null,null,1,{"$f":"IF(T$331=\"Error\",\"Error\",IF(AND($P$331<>\"/\",$P$331>'Paramètres - Admin'!$A9),'Paramètres - Admin'!$A10,\"/\"))","v":8},{"$f":"IF(R340<>\"/\",VLOOKUP(R340,COSTS_Archer_Queen[#All],2),\"/\")","v":40000},{"$f":"IF(R340<>\"/\",VLOOKUP(R340,COSTS_Archer_Queen[#All],3),\"/\")","v":84},40000,84]
[9,{"$f":"IF(Paramètres!BB14=0,\"\",Paramètres!BB14)","v":""},1,null,null,1,{"$f":"IF(I$331=\"Error\",\"Error\",IF(AND($E$331<>\"/\",$E$331>'Paramètres - Admin'!$A10),'Paramètres - Admin'!$A11,\"/\"))","v":9},{"$f":"IF(G341<>\"/\",VLOOKUP(G341,COSTS_Barbarian_King[#All],2),\"/\")","v":35000},{"$f":"IF(G341<>\"/\",VLOOKUP(G341,COSTS_Barbarian_King[#All],3),\"/\")","v":96},35000,96,9,{"$f":"IF(Paramètres!BC14=0,\"\",Paramètres!BC14)","v":""},1,null,null,1,{"$f":"IF(T$331=\"Error\",\"Error\",IF(AND($P$331<>\"/\",$P$331>'Paramètres - Admin'!$A10),'Paramètres - Admin'!$A11,\"/\"))","v":9},{"$f":"IF(R341<>\"/\",VLOOKUP(R341,COSTS_Archer_Queen[#All],2),\"/\")","v":45000},{"$f":"IF(R341<>\"/\",VLOOKUP(R341,COSTS_Archer_Queen[#All],3),\"/\")","v":96},45000,96]
[10,{"$f":"IF(Paramètres!BB15=0,\"\",Paramètres!BB15)","v":""},1,null,null,1,{"$f":"IF(I$331=\"Error\",\"Error\",IF(AND($E$331<>\"/\",$E$331>'Paramètres - Admin'!$A11),'Paramètres - Admin'!$A12,\"/\"))","v":10},{"$f":"IF(G342<>\"/\",VLOOKUP(G342,COSTS_Barbarian_King[#All],2),\"/\")","v":40000},{"$f":"IF(G342<>\"/\",VLOOKUP(G342,COSTS_Barbarian_King[#All],3),\"/\")","v":108},40000,108,10,{"$f":"IF(Paramètres!BC15=0,\"\",Paramètres!BC15)","v":""},1,null,null,1,{"$f":"IF(T$331=\"Error\",\"Error\",IF(AND($P$331<>\"/\",$P$331>'Paramètres - Admin'!$A11),'Paramètres - Admin'!$A12,\"/\"))","v":10},{"$f":"IF(R342<>\"/\",VLOOKUP(R342,COSTS_Archer_Queen[#All],2),\"/\")","v":50000},{"$f":"IF(R342<>\"/\",VLOOKUP(R342,COSTS_Archer_Queen[#All],3),\"/\")","v":108},50000,108]
[11,{"$f":"IF(Paramètres!BB16=0,\"\",Paramètres!BB16)","v":""},1,null,null,1,{"$f":"IF(I$331=\"Error\",\"Error\",IF(AND($E$331<>\"/\",$E$331>'Paramètres - Admin'!$A12),'Paramètres - Admin'!$A13,\"/\"))","v":11},{"$f":"IF(G343<>\"/\",VLOOKUP(G343,COSTS_Barbarian_King[#All],2),\"/\")","v":45000},{"$f":"IF(G343<>\"/\",VLOOKUP(G343,COSTS_Barbarian_King[#All],3),\"/\")","v":120},45000,120,11,{"$f":"IF(Paramètres!BC16=0,\"\",Paramètres!BC16)","v":""},1,null,null,1,{"$f":"IF(T$331=\"Error\",\"Error\",IF(AND($P$331<>\"/\",$P$331>'Paramètres - Admin'!$A12),'Paramètres - Admin'!$A13,\"/\"))","v":11},{"$f":"IF(R343<>\"/\",VLOOKUP(R343,COSTS_Archer_Queen[#All],2),\"/\")","v":55000},{"$f":"IF(R343<>\"/\",VLOOKUP(R343,COSTS_Archer_Queen[#All],3),\"/\")","v":120},55000,120]
[12,{"$f":"IF(Paramètres!BB17=0,\"\",Paramètres!BB17)","v":""},1,null,null,1,{"$f":"IF(I$331=\"Error\",\"Error\",IF(AND($E$331<>\"/\",$E$331>'Paramètres - Admin'!$A13),'Paramètres - Admin'!$A14,\"/\"))","v":12},{"$f":"IF(G344<>\"/\",VLOOKUP(G344,COSTS_Barbarian_King[#All],2),\"/\")","v":50000},{"$f":"IF(G344<>\"/\",VLOOKUP(G344,COSTS_Barbarian_King[#All],3),\"/\")","v":132},50000,132,12,{"$f":"IF(Paramètres!BC17=0,\"\",Paramètres!BC17)","v":""},1,null,null,1,{"$f":"IF(T$331=\"Error\",\"Error\",IF(AND($P$331<>\"/\",$P$331>'Paramètres - Admin'!$A13),'Paramètres - Admin'!$A14,\"/\"))","v":12},{"$f":"IF(R344<>\"/\",VLOOKUP(R344,COSTS_Archer_Queen[#All],2),\"/\")","v":60000},{"$f":"IF(R344<>\"/\",VLOOKUP(R344,COSTS_Archer_Queen[#All],3),\"/\")","v":132},60000,132]
[13,{"$f":"IF(Paramètres!BB18=0,\"\",Paramètres!BB18)","v":""},1,null,null,1,{"$f":"IF(I$331=\"Error\",\"Error\",IF(AND($E$331<>\"/\",$E$331>'Paramètres - Admin'!$A14),'Paramètres - Admin'!$A15,\"/\"))","v":13},{"$f":"IF(G345<>\"/\",VLOOKUP(G345,COSTS_Barbarian_King[#All],2),\"/\")","v":55000},{"$f":"IF(G345<>\"/\",VLOOKUP(G345,COSTS_Barbarian_King[#All],3),\"/\")","v":144},55000,144,13,{"$f":"IF(Paramètres!BC18=0,\"\",Paramètres!BC18)","v":""},1,null,null,1,{"$f":"IF(T$331=\"Error\",\"Error\",IF(AND($P$331<>\"/\",$P$331>'Paramètres - Admin'!$A14),'Paramètres - Admin'!$A15,\"/\"))","v":13},{"$f":"IF(R345<>\"/\",VLOOKUP(R345,COSTS_Archer_Queen[#All],2),\"/\")","v":65000},{"$f":"IF(R345<>\"/\",VLOOKUP(R345,COSTS_Archer_Queen[#All],3),\"/\")","v":144},65000,144]
[14,{"$f":"IF(Paramètres!BB19=0,\"\",Paramètres!BB19)","v":""},1,null,null,1,{"$f":"IF(I$331=\"Error\",\"Error\",IF(AND($E$331<>\"/\",$E$331>'Paramètres - Admin'!$A15),'Paramètres - Admin'!$A16,\"/\"))","v":14},{"$f":"IF(G346<>\"/\",VLOOKUP(G346,COSTS_Barbarian_King[#All],2),\"/\")","v":60000},{"$f":"IF(G346<>\"/\",VLOOKUP(G346,COSTS_Barbarian_King[#All],3),\"/\")","v":156},60000,156,14,{"$f":"IF(Paramètres!BC19=0,\"\",Paramètres!BC19)","v":""},1,null,null,1,{"$f":"IF(T$331=\"Error\",\"Error\",IF(AND($P$331<>\"/\",$P$331>'Paramètres - Admin'!$A15),'Paramètres - Admin'!$A16,\"/\"))","v":14},{"$f":"IF(R346<>\"/\",VLOOKUP(R346,COSTS_Archer_Queen[#All],2),\"/\")","v":70000},{"$f":"IF(R346<>\"/\",VLOOKUP(R346,COSTS_Archer_Queen[#All],3),\"/\")","v":156},70000,156]
[15,{"$f":"IF(Paramètres!BB20=0,\"\",Paramètres!BB20)","v":""},1,null,null,1,{"$f":"IF(I$331=\"Error\",\"Error\",IF(AND($E$331<>\"/\",$E$331>'Paramètres - Admin'!$A16),'Paramètres - Admin'!$A17,\"/\"))","v":15},{"$f":"IF(G347<>\"/\",VLOOKUP(G347,COSTS_Barbarian_King[#All],2),\"/\")","v":65000},{"$f":"IF(G347<>\"/\",VLOOKUP(G347,COSTS_Barbarian_King[#All],3),\"/\")","v":168},65000,168,15,{"$f":"IF(Paramètres!BC20=0,\"\",Paramètres!BC20)","v":""},1,null,null,1,{"$f":"IF(T$331=\"Error\",\"Error\",IF(AND($P$331<>\"/\",$P$331>'Paramètres - Admin'!$A16),'Paramètres - Admin'!$A17,\"/\"))","v":15},{"$f":"IF(R347<>\"/\",VLOOKUP(R347,COSTS_Archer_Queen[#All],2),\"/\")","v":75000},{"$f":"IF(R347<>\"/\",VLOOKUP(R347,COSTS_Archer_Queen[#All],3),\"/\")","v":168},75000,168]
[16,{"$f":"IF(Paramètres!BB21=0,\"\",Paramètres!BB21)","v":""},1,null,null,1,{"$f":"IF(I$331=\"Error\",\"Error\",IF(AND($E$331<>\"/\",$E$331>'Paramètres - Admin'!$A17),'Paramètres - Admin'!$A18,\"/\"))","v":16},{"$f":"IF(G348<>\"/\",VLOOKUP(G348,COSTS_Barbarian_King[#All],2),\"/\")","v":70000},{"$f":"IF(G348<>\"/\",VLOOKUP(G348,COSTS_Barbarian_King[#All],3),\"/\")","v":168},70000,168,16,{"$f":"IF(Paramètres!BC21=0,\"\",Paramètres!BC21)","v":""},1,null,null,1,{"$f":"IF(T$331=\"Error\",\"Error\",IF(AND($P$331<>\"/\",$P$331>'Paramètres - Admin'!$A17),'Paramètres - Admin'!$A18,\"/\"))","v":16},{"$f":"IF(R348<>\"/\",VLOOKUP(R348,COSTS_Archer_Queen[#All],2),\"/\")","v":80000},{"$f":"IF(R348<>\"/\",VLOOKUP(R348,COSTS_Archer_Queen[#All],3),\"/\")","v":168},80000,168]
[17,{"$f":"IF(Paramètres!BB22=0,\"\",Paramètres!BB22)","v":""},1,null,null,1,{"$f":"IF(I$331=\"Error\",\"Error\",IF(AND($E$331<>\"/\",$E$331>'Paramètres - Admin'!$A18),'Paramètres - Admin'!$A19,\"/\"))","v":17},{"$f":"IF(G349<>\"/\",VLOOKUP(G349,COSTS_Barbarian_King[#All],2),\"/\")","v":75000},{"$f":"IF(G349<>\"/\",VLOOKUP(G349,COSTS_Barbarian_King[#All],3),\"/\")","v":168},75000,168,17,{"$f":"IF(Paramètres!BC22=0,\"\",Paramètres!BC22)","v":""},1,null,null,1,{"$f":"IF(T$331=\"Error\",\"Error\",IF(AND($P$331<>\"/\",$P$331>'Paramètres - Admin'!$A18),'Paramètres - Admin'!$A19,\"/\"))","v":17},{"$f":"IF(R349<>\"/\",VLOOKUP(R349,COSTS_Archer_Queen[#All],2),\"/\")","v":85000},{"$f":"IF(R349<>\"/\",VLOOKUP(R349,COSTS_Archer_Queen[#All],3),\"/\")","v":168},85000,168]
[18,{"$f":"IF(Paramètres!BB23=0,\"\",Paramètres!BB23)","v":""},1,null,null,1,{"$f":"IF(I$331=\"Error\",\"Error\",IF(AND($E$331<>\"/\",$E$331>'Paramètres - Admin'!$A19),'Paramètres - Admin'!$A20,\"/\"))","v":18},{"$f":"IF(G350<>\"/\",VLOOKUP(G350,COSTS_Barbarian_King[#All],2),\"/\")","v":80000},{"$f":"IF(G350<>\"/\",VLOOKUP(G350,COSTS_Barbarian_King[#All],3),\"/\")","v":168},80000,168,18,{"$f":"IF(Paramètres!BC23=0,\"\",Paramètres!BC23)","v":""},1,null,null,1,{"$f":"IF(T$331=\"Error\",\"Error\",IF(AND($P$331<>\"/\",$P$331>'Paramètres - Admin'!$A19),'Paramètres - Admin'!$A20,\"/\"))","v":18},{"$f":"IF(R350<>\"/\",VLOOKUP(R350,COSTS_Archer_Queen[#All],2),\"/\")","v":90000},{"$f":"IF(R350<>\"/\",VLOOKUP(R350,COSTS_Archer_Queen[#All],3),\"/\")","v":168},90000,168]
[19,{"$f":"IF(Paramètres!BB24=0,\"\",Paramètres!BB24)","v":""},1,null,null,1,{"$f":"IF(I$331=\"Error\",\"Error\",IF(AND($E$331<>\"/\",$E$331>'Paramètres - Admin'!$A20),'Paramètres - Admin'!$A21,\"/\"))","v":19},{"$f":"IF(G351<>\"/\",VLOOKUP(G351,COSTS_Barbarian_King[#All],2),\"/\")","v":85000},{"$f":"IF(G351<>\"/\",VLOOKUP(G351,COSTS_Barbarian_King[#All],3),\"/\")","v":168},85000,168,19,{"$f":"IF(Paramètres!BC24=0,\"\",Paramètres!BC24)","v":""},1,null,null,1,{"$f":"IF(T$331=\"Error\",\"Error\",IF(AND($P$331<>\"/\",$P$331>'Paramètres - Admin'!$A20),'Paramètres - Admin'!$A21,\"/\"))","v":19},{"$f":"IF(R351<>\"/\",VLOOKUP(R351,COSTS_Archer_Queen[#All],2),\"/\")","v":95000},{"$f":"IF(R351<>\"/\",VLOOKUP(R351,COSTS_Archer_Queen[#All],3),\"/\")","v":168},95000,168]
[20,{"$f":"IF(Paramètres!BB25=0,\"\",Paramètres!BB25)","v":""},1,null,null,1,{"$f":"IF(I$331=\"Error\",\"Error\",IF(AND($E$331<>\"/\",$E$331>'Paramètres - Admin'!$A21),'Paramètres - Admin'!$A22,\"/\"))","v":20},{"$f":"IF(G352<>\"/\",VLOOKUP(G352,COSTS_Barbarian_King[#All],2),\"/\")","v":90000},{"$f":"IF(G352<>\"/\",VLOOKUP(G352,COSTS_Barbarian_King[#All],3),\"/\")","v":168},90000,168,20,{"$f":"IF(Paramètres!BC25=0,\"\",Paramètres!BC25)","v":""},1,null,null,1,{"$f":"IF(T$331=\"Error\",\"Error\",IF(AND($P$331<>\"/\",$P$331>'Paramètres - Admin'!$A21),'Paramètres - Admin'!$A22,\"/\"))","v":20},{"$f":"IF(R352<>\"/\",VLOOKUP(R352,COSTS_Archer_Queen[#All],2),\"/\")","v":100000},{"$f":"IF(R352<>\"/\",VLOOKUP(R352,COSTS_Archer_Queen[#All],3),\"/\")","v":168},100000,168]
[21,{"$f":"IF(Paramètres!BB26=0,\"\",Paramètres!BB26)","v":""},1,null,null,1,{"$f":"IF(I$331=\"Error\",\"Error\",IF(AND($E$331<>\"/\",$E$331>'Paramètres - Admin'!$A22),'Paramètres - Admin'!$A23,\"/\"))","v":21},{"$f":"IF(G353<>\"/\",VLOOKUP(G353,COSTS_Barbarian_King[#All],2),\"/\")","v":95000},{"$f":"IF(G353<>\"/\",VLOOKUP(G353,COSTS_Barbarian_King[#All],3),\"/\")","v":168},95000,168,21,{"$f":"IF(Paramètres!BC26=0,\"\",Paramètres!BC26)","v":""},1,null,null,1,{"$f":"IF(T$331=\"Error\",\"Error\",IF(AND($P$331<>\"/\",$P$331>'Paramètres - Admin'!$A22),'Paramètres - Admin'!$A23,\"/\"))","v":21},{"$f":"IF(R353<>\"/\",VLOOKUP(R353,COSTS_Archer_Queen[#All],2),\"/\")","v":105000},{"$f":"IF(R353<>\"/\",VLOOKUP(R353,COSTS_Archer_Queen[#All],3),\"/\")","v":168},105000,168]
[22,{"$f":"IF(Paramètres!BB27=0,\"\",Paramètres!BB27)","v":""},1,null,null,1,{"$f":"IF(I$331=\"Error\",\"Error\",IF(AND($E$331<>\"/\",$E$331>'Paramètres - Admin'!$A23),'Paramètres - Admin'!$A24,\"/\"))","v":22},{"$f":"IF(G354<>\"/\",VLOOKUP(G354,COSTS_Barbarian_King[#All],2),\"/\")","v":100000},{"$f":"IF(G354<>\"/\",VLOOKUP(G354,COSTS_Barbarian_King[#All],3),\"/\")","v":168},100000,168,22,{"$f":"IF(Paramètres!BC27=0,\"\",Paramètres!BC27)","v":""},1,null,null,1,{"$f":"IF(T$331=\"Error\",\"Error\",IF(AND($P$331<>\"/\",$P$331>'Paramètres - Admin'!$A23),'Paramètres - Admin'!$A24,\"/\"))","v":22},{"$f":"IF(R354<>\"/\",VLOOKUP(R354,COSTS_Archer_Queen[#All],2),\"/\")","v":110000},{"$f":"IF(R354<>\"/\",VLOOKUP(R354,COSTS_Archer_Queen[#All],3),\"/\")","v":168},110000,168]
[23,{"$f":"IF(Paramètres!BB28=0,\"\",Paramètres!BB28)","v":""},1,null,null,1,{"$f":"IF(I$331=\"Error\",\"Error\",IF(AND($E$331<>\"/\",$E$331>'Paramètres - Admin'!$A24),'Paramètres - Admin'!$A25,\"/\"))","v":23},{"$f":"IF(G355<>\"/\",VLOOKUP(G355,COSTS_Barbarian_King[#All],2),\"/\")","v":105000},{"$f":"IF(G355<>\"/\",VLOOKUP(G355,COSTS_Barbarian_King[#All],3),\"/\")","v":168},105000,168,23,{"$f":"IF(Paramètres!BC28=0,\"\",Paramètres!BC28)","v":""},1,null,null,1,{"$f":"IF(T$331=\"Error\",\"Error\",IF(AND($P$331<>\"/\",$P$331>'Paramètres - Admin'!$A24),'Paramètres - Admin'!$A25,\"/\"))","v":23},{"$f":"IF(R355<>\"/\",VLOOKUP(R355,COSTS_Archer_Queen[#All],2),\"/\")","v":115000},{"$f":"IF(R355<>\"/\",VLOOKUP(R355,COSTS_Archer_Queen[#All],3),\"/\")","v":168},115000,168]
[24,{"$f":"IF(Paramètres!BB29=0,\"\",Paramètres!BB29)","v":""},1,null,null,1,{"$f":"IF(I$331=\"Error\",\"Error\",IF(AND($E$331<>\"/\",$E$331>'Paramètres - Admin'!$A25),'Paramètres - Admin'!$A26,\"/\"))","v":24},{"$f":"IF(G356<>\"/\",VLOOKUP(G356,COSTS_Barbarian_King[#All],2),\"/\")","v":110000},{"$f":"IF(G356<>\"/\",VLOOKUP(G356,COSTS_Barbarian_King[#All],3),\"/\")","v":168},110000,168,24,{"$f":"IF(Paramètres!BC29=0,\"\",Paramètres!BC29)","v":""},1,null,null,1,{"$f":"IF(T$331=\"Error\",\"Error\",IF(AND($P$331<>\"/\",$P$331>'Paramètres - Admin'!$A25),'Paramètres - Admin'!$A26,\"/\"))","v":24},{"$f":"IF(R356<>\"/\",VLOOKUP(R356,COSTS_Archer_Queen[#All],2),\"/\")","v":120000},{"$f":"IF(R356<>\"/\",VLOOKUP(R356,COSTS_Archer_Queen[#All],3),\"/\")","v":168},120000,168]
[25,{"$f":"IF(Paramètres!BB30=0,\"\",Paramètres!BB30)","v":""},1,null,null,1,{"$f":"IF(I$331=\"Error\",\"Error\",IF(AND($E$331<>\"/\",$E$331>'Paramètres - Admin'!$A26),'Paramètres - Admin'!$A27,\"/\"))","v":25},{"$f":"IF(G357<>\"/\",VLOOKUP(G357,COSTS_Barbarian_King[#All],2),\"/\")","v":115000},{"$f":"IF(G357<>\"/\",VLOOKUP(G357,COSTS_Barbarian_King[#All],3),\"/\")","v":168},115000,168,25,{"$f":"IF(Paramètres!BC30=0,\"\",Paramètres!BC30)","v":""},1,null,null,1,{"$f":"IF(T$331=\"Error\",\"Error\",IF(AND($P$331<>\"/\",$P$331>'Paramètres - Admin'!$A26),'Paramètres - Admin'!$A27,\"/\"))","v":25},{"$f":"IF(R357<>\"/\",VLOOKUP(R357,COSTS_Archer_Queen[#All],2),\"/\")","v":125000},{"$f":"IF(R357<>\"/\",VLOOKUP(R357,COSTS_Archer_Queen[#All],3),\"/\")","v":168},125000,168]
[26,{"$f":"IF(Paramètres!BB31=0,\"\",Paramètres!BB31)","v":""},1,null,null,1,{"$f":"IF(I$331=\"Error\",\"Error\",IF(AND($E$331<>\"/\",$E$331>'Paramètres - Admin'!$A27),'Paramètres - Admin'!$A28,\"/\"))","v":26},{"$f":"IF(G358<>\"/\",VLOOKUP(G358,COSTS_Barbarian_King[#All],2),\"/\")","v":120000},{"$f":"IF(G358<>\"/\",VLOOKUP(G358,COSTS_Barbarian_King[#All],3),\"/\")","v":168},120000,168,26,{"$f":"IF(Paramètres!BC31=0,\"\",Paramètres!BC31)","v":""},1,null,null,1,{"$f":"IF(T$331=\"Error\",\"Error\",IF(AND($P$331<>\"/\",$P$331>'Paramètres - Admin'!$A27),'Paramètres - Admin'!$A28,\"/\"))","v":26},{"$f":"IF(R358<>\"/\",VLOOKUP(R358,COSTS_Archer_Queen[#All],2),\"/\")","v":130000},{"$f":"IF(R358<>\"/\",VLOOKUP(R358,COSTS_Archer_Queen[#All],3),\"/\")","v":168},130000,168]
[27,{"$f":"IF(Paramètres!BB32=0,\"\",Paramètres!BB32)","v":""},1,null,null,1,{"$f":"IF(I$331=\"Error\",\"Error\",IF(AND($E$331<>\"/\",$E$331>'Paramètres - Admin'!$A28),'Paramètres - Admin'!$A29,\"/\"))","v":27},{"$f":"IF(G359<>\"/\",VLOOKUP(G359,COSTS_Barbarian_King[#All],2),\"/\")","v":125000},{"$f":"IF(G359<>\"/\",VLOOKUP(G359,COSTS_Barbarian_King[#All],3),\"/\")","v":168},125000,168,27,{"$f":"IF(Paramètres!BC32=0,\"\",Paramètres!BC32)","v":""},1,null,null,1,{"$f":"IF(T$331=\"Error\",\"Error\",IF(AND($P$331<>\"/\",$P$331>'Paramètres - Admin'!$A28),'Paramètres - Admin'!$A29,\"/\"))","v":27},{"$f":"IF(R359<>\"/\",VLOOKUP(R359,COSTS_Archer_Queen[#All],2),\"/\")","v":135000},{"$f":"IF(R359<>\"/\",VLOOKUP(R359,COSTS_Archer_Queen[#All],3),\"/\")","v":168},135000,168]
[28,{"$f":"IF(Paramètres!BB33=0,\"\",Paramètres!BB33)","v":""},1,null,null,1,{"$f":"IF(I$331=\"Error\",\"Error\",IF(AND($E$331<>\"/\",$E$331>'Paramètres - Admin'!$A29),'Paramètres - Admin'!$A30,\"/\"))","v":28},{"$f":"IF(G360<>\"/\",VLOOKUP(G360,COSTS_Barbarian_King[#All],2),\"/\")","v":130000},{"$f":"IF(G360<>\"/\",VLOOKUP(G360,COSTS_Barbarian_King[#All],3),\"/\")","v":168},130000,168,28,{"$f":"IF(Paramètres!BC33=0,\"\",Paramètres!BC33)","v":""},1,null,null,1,{"$f":"IF(T$331=\"Error\",\"Error\",IF(AND($P$331<>\"/\",$P$331>'Paramètres - Admin'!$A29),'Paramètres - Admin'!$A30,\"/\"))","v":28},{"$f":"IF(R360<>\"/\",VLOOKUP(R360,COSTS_Archer_Queen[#All],2),\"/\")","v":140000},{"$f":"IF(R360<>\"/\",VLOOKUP(R360,COSTS_Archer_Queen[#All],3),\"/\")","v":168},140000,168]
[29,{"$f":"IF(Paramètres!BB34=0,\"\",Paramètres!BB34)","v":""},1,null,null,1,{"$f":"IF(I$331=\"Error\",\"Error\",IF(AND($E$331<>\"/\",$E$331>'Paramètres - Admin'!$A30),'Paramètres - Admin'!$A31,\"/\"))","v":29},{"$f":"IF(G361<>\"/\",VLOOKUP(G361,COSTS_Barbarian_King[#All],2),\"/\")","v":135000},{"$f":"IF(G361<>\"/\",VLOOKUP(G361,COSTS_Barbarian_King[#All],3),\"/\")","v":168},135000,168,29,{"$f":"IF(Paramètres!BC34=0,\"\",Paramètres!BC34)","v":""},1,null,null,1,{"$f":"IF(T$331=\"Error\",\"Error\",IF(AND($P$331<>\"/\",$P$331>'Paramètres - Admin'!$A30),'Paramètres - Admin'!$A31,\"/\"))","v":29},{"$f":"IF(R361<>\"/\",VLOOKUP(R361,COSTS_Archer_Queen[#All],2),\"/\")","v":145000},{"$f":"IF(R361<>\"/\",VLOOKUP(R361,COSTS_Archer_Queen[#All],3),\"/\")","v":168},145000,168]
[30,{"$f":"IF(Paramètres!BB35=0,\"\",Paramètres!BB35)","v":""},1,null,null,1,{"$f":"IF(I$331=\"Error\",\"Error\",IF(AND($E$331<>\"/\",$E$331>'Paramètres - Admin'!$A31),'Paramètres - Admin'!$A32,\"/\"))","v":30},{"$f":"IF(G362<>\"/\",VLOOKUP(G362,COSTS_Barbarian_King[#All],2),\"/\")","v":140000},{"$f":"IF(G362<>\"/\",VLOOKUP(G362,COSTS_Barbarian_King[#All],3),\"/\")","v":168},140000,168,30,{"$f":"IF(Paramètres!BC35=0,\"\",Paramètres!BC35)","v":""},1,null,null,1,{"$f":"IF(T$331=\"Error\",\"Error\",IF(AND($P$331<>\"/\",$P$331>'Paramètres - Admin'!$A31),'Paramètres - Admin'!$A32,\"/\"))","v":30},{"$f":"IF(R362<>\"/\",VLOOKUP(R362,COSTS_Archer_Queen[#All],2),\"/\")","v":150000},{"$f":"IF(R362<>\"/\",VLOOKUP(R362,COSTS_Archer_Queen[#All],3),\"/\")","v":168},150000,168]
[31,{"$f":"IF(Paramètres!BB36=0,\"\",Paramètres!BB36)","v":""},1,null,null,1,{"$f":"IF(I$331=\"Error\",\"Error\",IF(AND($E$331<>\"/\",$E$331>'Paramètres - Admin'!$A32),'Paramètres - Admin'!$A33,\"/\"))","v":31},{"$f":"IF(G363<>\"/\",VLOOKUP(G363,COSTS_Barbarian_King[#All],2),\"/\")","v":145000},{"$f":"IF(G363<>\"/\",VLOOKUP(G363,COSTS_Barbarian_King[#All],3),\"/\")","v":168},145000,168,31,{"$f":"IF(Paramètres!BC36=0,\"\",Paramètres!BC36)","v":""},1,null,null,1,{"$f":"IF(T$331=\"Error\",\"Error\",IF(AND($P$331<>\"/\",$P$331>'Paramètres - Admin'!$A32),'Paramètres - Admin'!$A33,\"/\"))","v":31},{"$f":"IF(R363<>\"/\",VLOOKUP(R363,COSTS_Archer_Queen[#All],2),\"/\")","v":155000},{"$f":"IF(R363<>\"/\",VLOOKUP(R363,COSTS_Archer_Queen[#All],3),\"/\")","v":168},155000,168]
[32,{"$f":"IF(Paramètres!BB37=0,\"\",Paramètres!BB37)","v":""},1,null,null,1,{"$f":"IF(I$331=\"Error\",\"Error\",IF(AND($E$331<>\"/\",$E$331>'Paramètres - Admin'!$A33),'Paramètres - Admin'!$A34,\"/\"))","v":32},{"$f":"IF(G364<>\"/\",VLOOKUP(G364,COSTS_Barbarian_King[#All],2),\"/\")","v":150000},{"$f":"IF(G364<>\"/\",VLOOKUP(G364,COSTS_Barbarian_King[#All],3),\"/\")","v":168},150000,168,32,{"$f":"IF(Paramètres!BC37=0,\"\",Paramètres!BC37)","v":""},1,null,null,1,{"$f":"IF(T$331=\"Error\",\"Error\",IF(AND($P$331<>\"/\",$P$331>'Paramètres - Admin'!$A33),'Paramètres - Admin'!$A34,\"/\"))","v":32},{"$f":"IF(R364<>\"/\",VLOOKUP(R364,COSTS_Archer_Queen[#All],2),\"/\")","v":160000},{"$f":"IF(R364<>\"/\",VLOOKUP(R364,COSTS_Archer_Queen[#All],3),\"/\")","v":168},160000,168]
[33,{"$f":"IF(Paramètres!BB38=0,\"\",Paramètres!BB38)","v":""},1,null,null,1,{"$f":"IF(I$331=\"Error\",\"Error\",IF(AND($E$331<>\"/\",$E$331>'Paramètres - Admin'!$A34),'Paramètres - Admin'!$A35,\"/\"))","v":33},{"$f":"IF(G365<>\"/\",VLOOKUP(G365,COSTS_Barbarian_King[#All],2),\"/\")","v":155000},{"$f":"IF(G365<>\"/\",VLOOKUP(G365,COSTS_Barbarian_King[#All],3),\"/\")","v":168},155000,168,33,{"$f":"IF(Paramètres!BC38=0,\"\",Paramètres!BC38)","v":""},1,null,null,1,{"$f":"IF(T$331=\"Error\",\"Error\",IF(AND($P$331<>\"/\",$P$331>'Paramètres - Admin'!$A34),'Paramètres - Admin'!$A35,\"/\"))","v":33},{"$f":"IF(R365<>\"/\",VLOOKUP(R365,COSTS_Archer_Queen[#All],2),\"/\")","v":165000},{"$f":"IF(R365<>\"/\",VLOOKUP(R365,COSTS_Archer_Queen[#All],3),\"/\")","v":168},165000,168]
[34,{"$f":"IF(Paramètres!BB39=0,\"\",Paramètres!BB39)","v":""},1,null,null,1,{"$f":"IF(I$331=\"Error\",\"Error\",IF(AND($E$331<>\"/\",$E$331>'Paramètres - Admin'!$A35),'Paramètres - Admin'!$A36,\"/\"))","v":34},{"$f":"IF(G366<>\"/\",VLOOKUP(G366,COSTS_Barbarian_King[#All],2),\"/\")","v":160000},{"$f":"IF(G366<>\"/\",VLOOKUP(G366,COSTS_Barbarian_King[#All],3),\"/\")","v":168},160000,168,34,{"$f":"IF(Paramètres!BC39=0,\"\",Paramètres!BC39)","v":""},1,null,null,1,{"$f":"IF(T$331=\"Error\",\"Error\",IF(AND($P$331<>\"/\",$P$331>'Paramètres - Admin'!$A35),'Paramètres - Admin'!$A36,\"/\"))","v":34},{"$f":"IF(R366<>\"/\",VLOOKUP(R366,COSTS_Archer_Queen[#All],2),\"/\")","v":170000},{"$f":"IF(R366<>\"/\",VLOOKUP(R366,COSTS_Archer_Queen[#All],3),\"/\")","v":168},170000,168]
[35,{"$f":"IF(Paramètres!BB40=0,\"\",Paramètres!BB40)","v":""},1,null,null,1,{"$f":"IF(I$331=\"Error\",\"Error\",IF(AND($E$331<>\"/\",$E$331>'Paramètres - Admin'!$A36),'Paramètres - Admin'!$A37,\"/\"))","v":35},{"$f":"IF(G367<>\"/\",VLOOKUP(G367,COSTS_Barbarian_King[#All],2),\"/\")","v":165000},{"$f":"IF(G367<>\"/\",VLOOKUP(G367,COSTS_Barbarian_King[#All],3),\"/\")","v":168},165000,168,35,{"$f":"IF(Paramètres!BC40=0,\"\",Paramètres!BC40)","v":""},1,null,null,1,{"$f":"IF(T$331=\"Error\",\"Error\",IF(AND($P$331<>\"/\",$P$331>'Paramètres - Admin'!$A36),'Paramètres - Admin'!$A37,\"/\"))","v":35},{"$f":"IF(R367<>\"/\",VLOOKUP(R367,COSTS_Archer_Queen[#All],2),\"/\")","v":175000},{"$f":"IF(R367<>\"/\",VLOOKUP(R367,COSTS_Archer_Queen[#All],3),\"/\")","v":168},175000,168]
[36,{"$f":"IF(Paramètres!BB41=0,\"\",Paramètres!BB41)","v":""},1,null,null,1,{"$f":"IF(I$331=\"Error\",\"Error\",IF(AND($E$331<>\"/\",$E$331>'Paramètres - Admin'!$A37),'Paramètres - Admin'!$A38,\"/\"))","v":36},{"$f":"IF(G368<>\"/\",VLOOKUP(G368,COSTS_Barbarian_King[#All],2),\"/\")","v":170000},{"$f":"IF(G368<>\"/\",VLOOKUP(G368,COSTS_Barbarian_King[#All],3),\"/\")","v":168},170000,168,36,{"$f":"IF(Paramètres!BC41=0,\"\",Paramètres!BC41)","v":""},1,null,null,1,{"$f":"IF(T$331=\"Error\",\"Error\",IF(AND($P$331<>\"/\",$P$331>'Paramètres - Admin'!$A37),'Paramètres - Admin'!$A38,\"/\"))","v":36},{"$f":"IF(R368<>\"/\",VLOOKUP(R368,COSTS_Archer_Queen[#All],2),\"/\")","v":180000},{"$f":"IF(R368<>\"/\",VLOOKUP(R368,COSTS_Archer_Queen[#All],3),\"/\")","v":168},180000,168]
[37,{"$f":"IF(Paramètres!BB42=0,\"\",Paramètres!BB42)","v":""},1,null,null,1,{"$f":"IF(I$331=\"Error\",\"Error\",IF(AND($E$331<>\"/\",$E$331>'Paramètres - Admin'!$A38),'Paramètres - Admin'!$A39,\"/\"))","v":37},{"$f":"IF(G369<>\"/\",VLOOKUP(G369,COSTS_Barbarian_King[#All],2),\"/\")","v":175000},{"$f":"IF(G369<>\"/\",VLOOKUP(G369,COSTS_Barbarian_King[#All],3),\"/\")","v":168},175000,168,37,{"$f":"IF(Paramètres!BC42=0,\"\",Paramètres!BC42)","v":""},1,null,null,1,{"$f":"IF(T$331=\"Error\",\"Error\",IF(AND($P$331<>\"/\",$P$331>'Paramètres - Admin'!$A38),'Paramètres - Admin'!$A39,\"/\"))","v":37},{"$f":"IF(R369<>\"/\",VLOOKUP(R369,COSTS_Archer_Queen[#All],2),\"/\")","v":185000},{"$f":"IF(R369<>\"/\",VLOOKUP(R369,COSTS_Archer_Queen[#All],3),\"/\")","v":168},185000,168]
[38,{"$f":"IF(Paramètres!BB43=0,\"\",Paramètres!BB43)","v":""},1,null,null,1,{"$f":"IF(I$331=\"Error\",\"Error\",IF(AND($E$331<>\"/\",$E$331>'Paramètres - Admin'!$A39),'Paramètres - Admin'!$A40,\"/\"))","v":38},{"$f":"IF(G370<>\"/\",VLOOKUP(G370,COSTS_Barbarian_King[#All],2),\"/\")","v":180000},{"$f":"IF(G370<>\"/\",VLOOKUP(G370,COSTS_Barbarian_King[#All],3),\"/\")","v":168},180000,168,38,{"$f":"IF(Paramètres!BC43=0,\"\",Paramètres!BC43)","v":""},1,null,null,1,{"$f":"IF(T$331=\"Error\",\"Error\",IF(AND($P$331<>\"/\",$P$331>'Paramètres - Admin'!$A39),'Paramètres - Admin'!$A40,\"/\"))","v":38},{"$f":"IF(R370<>\"/\",VLOOKUP(R370,COSTS_Archer_Queen[#All],2),\"/\")","v":190000},{"$f":"IF(R370<>\"/\",VLOOKUP(R370,COSTS_Archer_Queen[#All],3),\"/\")","v":168},190000,168]
[39,{"$f":"IF(Paramètres!BB44=0,\"\",Paramètres!BB44)","v":""},1,null,null,1,{"$f":"IF(I$331=\"Error\",\"Error\",IF(AND($E$331<>\"/\",$E$331>'Paramètres - Admin'!$A40),'Paramètres - Admin'!$A41,\"/\"))","v":39},{"$f":"IF(G371<>\"/\",VLOOKUP(G371,COSTS_Barbarian_King[#All],2),\"/\")","v":185000},{"$f":"IF(G371<>\"/\",VLOOKUP(G371,COSTS_Barbarian_King[#All],3),\"/\")","v":168},185000,168,39,{"$f":"IF(Paramètres!BC44=0,\"\",Paramètres!BC44)","v":""},1,null,null,1,{"$f":"IF(T$331=\"Error\",\"Error\",IF(AND($P$331<>\"/\",$P$331>'Paramètres - Admin'!$A40),'Paramètres - Admin'!$A41,\"/\"))","v":39},{"$f":"IF(R371<>\"/\",VLOOKUP(R371,COSTS_Archer_Queen[#All],2),\"/\")","v":195000},{"$f":"IF(R371<>\"/\",VLOOKUP(R371,COSTS_Archer_Queen[#All],3),\"/\")","v":168},195000,168]
[40,{"$f":"IF(Paramètres!BB45=0,\"\",Paramètres!BB45)","v":""},1,null,null,1,{"$f":"IF(I$331=\"Error\",\"Error\",IF(AND($E$331<>\"/\",$E$331>'Paramètres - Admin'!$A41),'Paramètres - Admin'!$A42,\"/\"))","v":40},{"$f":"IF(G372<>\"/\",VLOOKUP(G372,COSTS_Barbarian_King[#All],2),\"/\")","v":190000},{"$f":"IF(G372<>\"/\",VLOOKUP(G372,COSTS_Barbarian_King[#All],3),\"/\")","v":168},190000,168,40,{"$f":"IF(Paramètres!BC45=0,\"\",Paramètres!BC45)","v":""},1,null,null,1,{"$f":"IF(T$331=\"Error\",\"Error\",IF(AND($P$331<>\"/\",$P$331>'Paramètres - Admin'!$A41),'Paramètres - Admin'!$A42,\"/\"))","v":40},{"$f":"IF(R372<>\"/\",VLOOKUP(R372,COSTS_Archer_Queen[#All],2),\"/\")","v":200000},{"$f":"IF(R372<>\"/\",VLOOKUP(R372,COSTS_Archer_Queen[#All],3),\"/\")","v":168},200000,168]
[null,null,null,null,null,null,null,null,"Total",{"$f":"IF(I$331=\"Error\",\"Error\",SUM(J333:J372))","v":3655000},{"$f":"IF(I$331=\"Error\",\"Error\",SUM(K333:K372))","v":5280},null,null,null,null,null,null,null,null,"Total",{"$f":"IF(T$331=\"Error\",\"Error\",SUM(U333:U372))","v":4027500},{"$f":"IF(T$331=\"Error\",\"Error\",SUM(V333:V372))","v":5340}]

{"sheet":"Production","index":3,"n_rows":20,"n_cols":5,"rows_kept":20,"cut":false,"hidden":false,"merged":[[2,0,2,3]]}
["LVL HdV","Période","Or Total :","Élixir Total :","Élixir Noir Total :"]
[{"$f":"Paramètres!$BE$2","v":10},"1 jour",{"$f":"'À Faire - Récapitulatif'!D2","v":"2 562 492 000"},{"$f":"'À Faire - Récapitulatif'!G2","v":"163 486 000"},{"$f":"'À Faire - Récapitulatif'!I2","v":"8 397 500"}]
["Production"]
["Type","Mine d'Or","Extracteur d'Élixir","Foreuse d'Élixir Noir"]
["Max +",{"$f":"VLOOKUP($A$2,AVAILABLE_Buildings_Resource[#All],MATCH(B$4,AVAILABLE_Buildings_Resource[#Headers],0)+1)","v":12},{"$f":"VLOOKUP($A$2,AVAILABLE_Buildings_Resource[#All],MATCH(C$4,AVAILABLE_Buildings_Resource[#Headers],0)+1)","v":12},{"$f":"VLOOKUP($A$2,AVAILABLE_Buildings_Resource[#All],MATCH(D$4,AVAILABLE_Buildings_Resource[#Headers],0)+1)","v":6}]
[1,{"$f":"Paramètres!B6","v":0},{"$f":"Paramètres!C6","v":0},{"$f":"Paramètres!D6","v":0}]
[2,{"$f":"Paramètres!B7","v":0},{"$f":"Paramètres!C7","v":0},{"$f":"Paramètres!D7","v":0}]
[3,{"$f":"Paramètres!B8","v":0},{"$f":"Paramètres!C8","v":0},{"$f":"Paramètres!D8","v":0}]
[4,{"$f":"Paramètres!B9","v":0},{"$f":"Paramètres!C9","v":0},{"$f":"Paramètres!D9","v":3}]
[5,{"$f":"Paramètres!B10","v":0},{"$f":"Paramètres!C10","v":0},{"$f":"Paramètres!D10","v":0}]
[6,{"$f":"Paramètres!B11","v":0},{"$f":"Paramètres!C11","v":0},{"$f":"Paramètres!D11","v":0}]
[7,{"$f":"Paramètres!B12","v":0},{"$f":"Paramètres!C12","v":0},{"$f":"Paramètres!D12","v":0}]
[8,{"$f":"Paramètres!B13","v":0},{"$f":"Paramètres!C13","v":0},{"$f":"Paramètres!D13","v":0}]
[9,{"$f":"Paramètres!B14","v":0},{"$f":"Paramètres!C14","v":0},{"$f":"Paramètres!D14","v":0}]
[10,{"$f":"Paramètres!B15","v":0},{"$f":"Paramètres!C15","v":0},{"$f":"Paramètres!D15","v":0}]
[11,{"$f":"Paramètres!B16","v":1},{"$f":"Paramètres!C16","v":7},{"$f":"Paramètres!D16","v":0}]
[12,{"$f":"Paramètres!B17","v":6},{"$f":"Paramètres!C17","v":0},{"$f":"Paramètres!D17","v":0}]
["Production / heure",{"$f":"SUMPRODUCT(B6:B17,EARNINGS_Gold_Mine[Production])","v":24000},{"$f":"SUMPRODUCT(C6:C17,EARNINGS_Elixir_Collector[Production])","v":21000},{"$f":"SUMPRODUCT(D6:D11,EARNINGS_Dark_Elixir_Drill[Production])","v":240}]
["Production / période",{"$f":"IF($B$2='Paramètres - Admin'!$E$2,B18,IF($B$2='Paramètres - Admin'!$E$3,B18*2,IF($B$2='Paramètres - Admin'!$E$4,B18*4,IF($B$2='Paramètres - Admin'!$E$5,B18*8,IF($B$2='Paramètres - Admin'!$E$6,B18*16,IF($B$2='Paramètres - Admin'!$E$7,B18*24,IF($B$2='Paramètres - Admin'!$E$8,B18*48,IF($B$2='Paramètres - Admin'!$E$9,B18*72,IF($B$2='Paramètres - Admin'!$E$10,B18*168,IF($B$2='Paramètres - Admin'!$E$11,B18*720))))))))))","v":576000},{"$f":"IF($B$2='Paramètres - Admin'!$E$2,C18,IF($B$2='Paramètres - Admin'!$E$3,C18*2,IF($B$2='Paramètres - Admin'!$E$4,C18*4,IF($B$2='Paramètres - Admin'!$E$5,C18*8,IF($B$2='Paramètres - Admin'!$E$6,C18*16,IF($B$2='Paramètres - Admin'!$E$7,C18*24,IF($B$2='Paramètres - Admin'!$E$8,C18*48,IF($B$2='Paramètres - Admin'!$E$9,C18*72,IF($B$2='Paramètres - Admin'!$E$10,C18*168,IF($B$2='Paramètres - Admin'!$E$11,C18*720))))))))))","v":504000},{"$f":"IF($B$2='Paramètres - Admin'!$E$2,D18,IF($B$2='Paramètres - Admin'!$E$3,D18*2,IF($B$2='Paramètres - Admin'!$E$4,D18*4,IF($B$2='Paramètres - Admin'!$E$5,D18*8,IF($B$2='Paramètres - Admin'!$E$6,D18*16,IF($B$2='Paramètres - Admin'!$E$7,D18*24,IF($B$2='Paramètres - Admin'!$E$8,D18*48,IF($B$2='Paramètres - Admin'!$E$9,D18*72,IF($B$2='Paramètres - Admin'!$E$10,D18*168,IF($B$2='Paramètres - Admin'!$E$11,D18*720))))))))))","v":5760}]
["Temps pour obtenir besoins",{"$f":"IF(B$18<>0,IF($B$2='Paramètres - Admin'!$B$2,TEXT((('À Faire - Récapitulatif'!D8+'À Faire - Récapitulatif'!D11+'À Faire - Récapitulatif'!P16+'À Faire - Récapitulatif'!V9)/B$18)*60*60,\"# 0\")&\" \" & 'Paramètres - Admin'!$B$2,IF($B$2='Paramètres - Admin'!$B$3,TEXT((('À Faire - Récapitulatif'!D8+'À Faire - Récapitulatif'!D11+'À Faire - Récapitulatif'!P16+'À Faire - Récapitulatif'!V9)/B$18)*60,\"# 0\")&\" \" & 'Paramètres - Admin'!$B$3,IF($B$2='Paramètres - Admin'!$B$4,TEXT((('À Faire - Récapitulatif'!D8+'À Faire - Récapitulatif'!D11+'À Faire - Récapitulatif'!P16+'À Faire - Récapitulatif'!V9)/B$18),\"# 0,00\")&\" \" & 'Paramètres - Admin'!$B$4,IF($B$2='Paramètres - Admin'!$B$5,TEXT((('À Faire - Récapitulatif'!D8+'À Faire - Récapitulatif'!D11+'À Faire - Récapitulatif'!P16+'À Faire - Récapitulatif'!V9)/B$18)/24,\"# 0,00\")&\" \" & 'Paramètres - Admin'!$B$5,IF($B$2='Paramètres - Admin'!$B$6,TEXT(((('À Faire - Récapitulatif'!D8+'À Faire - Récapitulatif'!D11+'À Faire - Récapitulatif'!P16+'À Faire - Récapitulatif'!V9)/B$18)/24)/30,\"# 0,00\")&\" \" & 'Paramètres - Admin'!$B$6,IF((('À Faire - Récapitulatif'!D8+'À Faire - Récapitulatif'!D11+'À Faire - Récapitulatif'!P16+'À Faire - Récapitulatif'!V9)/B$18)/24>=1,INT((('À Faire - Récapitulatif'!D8+'À Faire - Récapitulatif'!D11+'À Faire - Récapitulatif'!P16+'À Faire - Récapitulatif'!V9)/B$18)/24)&\" \" &  'Paramètres - Admin'!$D$4 & \" \" & HOUR((('À Faire - Récapitulatif'!D8+'À Faire - Récapitulatif'!D11+'À Faire - Récapitulatif'!P16+'À Faire - Récapitulatif'!V9)/B$18)/24-INT((('À Faire - Récapitulatif'!D8+'À Faire - Récapitulatif'!D11+'À Faire - Récapitulatif'!P16+'À Faire - Récapitulatif'!V9)/B$18)/24))&\" \" &  'Paramètres - Admin'!$D$3 & \" \" & MINUTE((('À Faire - Récapitulatif'!D8+'À Faire - Récapitulatif'!D11+'À Faire - Récapitulatif'!P16+'À Faire - Récapitulatif'!V9)/B$18)/24-INT((('À Faire - Récapitulatif'!D8+'À Faire - Récapitulatif'!D11+'À Faire - Récapitulatif'!P16+'À Faire - Récapitulatif'!V9)/B$18)/24))&\" \" &  'Paramètres - Admin'!$D$2,HOUR((('À Faire - Récapitulatif'!D8+'À Faire - Récapitulatif'!D11+'À Faire - Récapitulatif'!P16+'À Faire - Récapitulatif'!V9)/B$18)/24-INT((('À Faire - Récapitulatif'!D8+'À Faire - Récapitulatif'!D11+'À Faire - Récapitulatif'!P16+'À Faire - Récapitulatif'!V9)/B$18)/24))&\" \" &  'Paramètres - Admin'!$D$3 & \" \" & MINUTE((('À Faire - Récapitulatif'!D8+'À Faire - Récapitulatif'!D11+'À Faire - Récapitulatif'!P16+'À Faire - Récapitulatif'!V9)/B$18)/24-INT((('À Faire - Récapitulatif'!D8+'À Faire - Récapitulatif'!D11+'À Faire - Récapitulatif'!P16+'À Faire - Récapitulatif'!V9)/B$18)/24))&\" \" &  'Paramètres - Admin'!$D$2)))))),0)","v":"4319 jours 4 hrs 5 mins"},{"$f":"IF(C$18<>0,IF($B$2='Paramètres - Admin'!$B$2,TEXT((('À Faire - Récapitulatif'!D7+'À Faire - Récapitulatif'!D9+'À Faire - Récapitulatif'!D10+'À Faire - Récapitulatif'!D12+'À Faire - Récapitulatif'!J12+'À Faire - Récapitulatif'!D26+'À Faire - Récapitulatif'!J31)/C$18)*60*60,\"# 0\")&\" \" & 'Paramètres - Admin'!$B$2,IF($B$2='Paramètres - Admin'!$B$3,TEXT((('À Faire - Récapitulatif'!D7+'À Faire - Récapitulatif'!D9+'À Faire - Récapitulatif'!D10+'À Faire - Récapitulatif'!D12+'À Faire - Récapitulatif'!J12+'À Faire - Récapitulatif'!D26+'À Faire - Récapitulatif'!J31)/C$18)*60,\"# 0\")&\" \" & 'Paramètres - Admin'!$B$3,IF($B$2='Paramètres - Admin'!$B$4,TEXT((('À Faire - Récapitulatif'!D7+'À Faire - Récapitulatif'!D9+'À Faire - Récapitulatif'!D10+'À Faire - Récapitulatif'!D12+'À Faire - Récapitulatif'!J12+'À Faire - Récapitulatif'!D26+'À Faire - Récapitulatif'!J31)/C$18),\"# 0,00\")&\" \" & 'Paramètres - Admin'!$B$4,IF($B$2='Paramètres - Admin'!$B$5,TEXT((('À Faire - Récapitulatif'!D7+'À Faire - Récapitulatif'!D9+'À Faire - Récapitulatif'!D10+'À Faire - Récapitulatif'!D12+'À Faire - Récapitulatif'!J12+'À Faire - Récapitulatif'!D26+'À Faire - Récapitulatif'!J31)/C$18)/24,\"# 0,00\")&\" \" & 'Paramètres - Admin'!$B$5,IF($B$2='Paramètres - Admin'!$B$6,TEXT(((('À Faire - Récapitulatif'!D7+'À Faire - Récapitulatif'!D9+'À Faire - Récapitulatif'!D10+'À Faire - Récapitulatif'!D12+'À Faire - Récapitulatif'!J12+'À Faire - Récapitulatif'!D26+'À Faire - Récapitulatif'!J31)/C$18)/24)/30,\"# 0,00\")&\" \" & 'Paramètres - Admin'!$B$6,IF((('À Faire - Récapitulatif'!D7+'À Faire - Récapitulatif'!D9+'À Faire - Récapitulatif'!D10+'À Faire - Récapitulatif'!D12+'À Faire - Récapitulatif'!J12+'À Faire - Récapitulatif'!D26+'À Faire - Récapitulatif'!J31)/C$18)/24>=1,INT((('À Faire - Récapitulatif'!D7+'À Faire - Récapitulatif'!D9+'À Faire - Récapitulatif'!D10+'À Faire - Récapitulatif'!D12+'À Faire - Récapitulatif'!J12+'À Faire - Récapitulatif'!D26+'À Faire - Récapitulatif'!J31)/C$18)/24)&\" \" &  'Paramètres - Admin'!$D$4 & \" \" & HOUR((('À Faire - Récapitulatif'!D7+'À Faire - Récapitulatif'!D9+'À Faire - Récapitulatif'!D10+'À Faire - Récapitulatif'!D12+'À Faire - Récapitulatif'!J12+'À Faire - Récapitulatif'!D26+'À Faire - Récapitulatif'!J31)/C$18)/24-INT((('À Faire - Récapitulatif'!D7+'À Faire - Récapitulatif'!D9+'À Faire - Récapitulatif'!D10+'À Faire - Récapitulatif'!D12+'À Faire - Récapitulatif'!J12+'À Faire - Récapitulatif'!D26+'À Faire - Récapitulatif'!J31)/C$18)/24))&\" \" &  'Paramètres - Admin'!$D$3 & \" \" & MINUTE((('À Faire - Récapitulatif'!D7+'À Faire - Récapitulatif'!D9+'À Faire - Récapitulatif'!D10+'À Faire - Récapitulatif'!D12+'À Faire - Récapitulatif'!J12+'À Faire - Récapitulatif'!D26+'À Faire - Récapitulatif'!J31)/C$18)/24-INT((('À Faire - Récapitulatif'!D7+'À Faire - Récapitulatif'!D9+'À Faire - Récapitulatif'!D10+'À Faire - Récapitulatif'!D12+'À Faire - Récapitulatif'!J12+'À Faire - Récapitulatif'!D26+'À Faire - Récapitulatif'!J31)/C$18)/24))&\" \" &  'Paramètres - Admin'!$D$2,HOUR((('À Faire - Récapitulatif'!D7+'À Faire - Récapitulatif'!D9+'À Faire - Récapitulatif'!D10+'À Faire - Récapitulatif'!D12+'À Faire - Récapitulatif'!J12+'À Faire - Récapitulatif'!D26+'À Faire - Récapitulatif'!J31)/C$18)/24-INT((('À Faire - Récapitulatif'!D7+'À Faire - Récapitulatif'!D9+'À Faire - Récapitulatif'!D10+'À Faire - Récapitulatif'!D12+'À Faire - Récapitulatif'!J12+'À Faire - Récapitulatif'!D26+'À Faire - Récapitulatif'!J31)/C$18)/24))&\" \" &  'Paramètres - Admin'!$D$3 & \" \" & MINUTE((('À Faire - Récapitulatif'!D7+'À Faire - Récapitulatif'!D9+'À Faire - Récapitulatif'!D10+'À Faire - Récapitulatif'!D12+'À Faire - Récapitulatif'!J12+'À Faire - Récapitulatif'!D26+'À Faire - Récapitulatif'!J31)/C$18)/24-INT((('À Faire - Récapitulatif'!D7+'À Faire - Récapitulatif'!D9+'À Faire - Récapitulatif'!D10+'À Faire - Récapitulatif'!D12+'À Faire - Récapitulatif'!J12+'À Faire - Récapitulatif'!D26+'À Faire - Récapitulatif'!J31)/C$18)/24))&\" \" &  'Paramètres - Admin'!$D$2)))))),0)","v":"324 jours 9 hrs 2 mins"},{"$f":"IF(D$18<>0,IF($B$2='Paramètres - Admin'!$B$2,TEXT((('À Faire - Récapitulatif'!P27+'À Faire - Récapitulatif'!V23)/D$18)*60*60,\"# 0\")&\" \" & 'Paramètres - Admin'!$B$2,IF($B$2='Paramètres - Admin'!$B$3,TEXT((('À Faire - Récapitulatif'!P27+'À Faire - Récapitulatif'!V23)/D$18)*60,\"# 0\")&\" \" & 'Paramètres - Admin'!$B$3,IF($B$2='Paramètres - Admin'!$B$4,TEXT((('À Faire - Récapitulatif'!P27+'À Faire - Récapitulatif'!V23)/D$18),\"# 0,00\")&\" \" & 'Paramètres - Admin'!$B$4,IF($B$2='Paramètres - Admin'!$B$5,TEXT((('À Faire - Récapitulatif'!P27+'À Faire - Récapitulatif'!V23)/D$18)/24,\"# 0,00\")&\" \" & 'Paramètres - Admin'!$B$5,IF($B$2='Paramètres - Admin'!$B$6,TEXT(((('À Faire - Récapitulatif'!P27+'À Faire - Récapitulatif'!V23)/D$18)/24)/30,\"# 0,00\")&\" \" & 'Paramètres - Admin'!$B$6,IF((('À Faire - Récapitulatif'!P27+'À Faire - Récapitulatif'!V23)/D$18)/24>=1,INT((('À Faire - Récapitulatif'!P27+'À Faire - Récapitulatif'!V23)/D$18)/24)&\" \" &  'Paramètres - Admin'!$D$4 & \" \" & HOUR((('À Faire - Récapitulatif'!P27+'À Faire - Récapitulatif'!V23)/D$18)/24-INT((('À Faire - Récapitulatif'!P27+'À Faire - Récapitulatif'!V23)/D$18)/24))&\" \" &  'Paramètres - Admin'!$D$3 & \" \" & MINUTE((('À Faire - Récapitulatif'!P27+'À Faire - Récapitulatif'!V23)/D$18)/24-INT((('À Faire - Récapitulatif'!P27+'À Faire - Récapitulatif'!V23)/D$18)/24))&\" \" &  'Paramètres - Admin'!$D$2,HOUR((('À Faire - Récapitulatif'!P27+'À Faire - Récapitulatif'!V23)/D$18)/24-INT((('À Faire - Récapitulatif'!P27+'À Faire - Récapitulatif'!V23)/D$18)/24))&\" \" &  'Paramètres - Admin'!$D$3 & \" \" & MINUTE((('À Faire - Récapitulatif'!P27+'À Faire - Récapitulatif'!V23)/D$18)/24-INT((('À Faire - Récapitulatif'!P27+'À Faire - Récapitulatif'!V23)/D$18)/24))&\" \" &  'Paramètres - Admin'!$D$2)))))),0)","v":"1457 jours 21 hrs 35 mins"}]

{"sheet":"Combats - Loots","index":4,"n_rows":35,"n_cols":15,"rows_kept":35,"cut":false,"hidden":true,"merged":[[32,0,32,1],[33,0,33,1],[16,0,16,6],[2,0,2,6],[28,0,28,5],[29,0,29,1],[30,0,30,1],[4,8,5,8],[4,9,5,10],[7,8,8,8],[7,9,8,10],[31,0,31,1]]}
["LVL HdV","Attaque / Défense","LVL HdV Opposant","Différence LVL HdV","Trophées"]
[{"$f":"Paramètres!$BE$2","v":10},"Attaque",1,{"$f":"IF($B$2='Paramètres - Admin'!$F$2,$C$2-$A$2,IF(B2='Paramètres - Admin'!$F$3,$A$2-$C$2))","v":-9},980]
["Combat - Nombre Total de Ressources",null,null,null,null,null,null,null,null,null,null,null,"Type","%","Gain Maximum"]
[null,"Réserve d'Or","Réservoir d'Élixir","Réservoir d'Élixir Noir","Mine d'Or","Extracteur d'Élixir","Foreuse d'Élixir Noir",null,null,null,null,null,"Réserve d'Or",0.1,400000]
["Max",{"$f":"IF($B$2='Paramètres - Admin'!$F$2,VLOOKUP($C$2,AVAILABLE_Buildings_Resource[#All],MATCH(B$4,AVAILABLE_Buildings_Resource[#Headers],0)),IF($B$2='Paramètres - Admin'!$F$3,VLOOKUP($A$2,AVAILABLE_Buildings_Resource[#All],MATCH(B$4,AVAILABLE_Buildings_Resource[#Headers],0))))","v":1},{"$f":"IF($B$2='Paramètres - Admin'!$F$2,VLOOKUP($C$2,AVAILABLE_Buildings_Resource[#All],MATCH(C$4,AVAILABLE_Buildings_Resource[#Headers],0)),IF($B$2='Paramètres - Admin'!$F$3,VLOOKUP($A$2,AVAILABLE_Buildings_Resource[#All],MATCH(C$4,AVAILABLE_Buildings_Resource[#Headers],0))))","v":1},{"$f":"IF($B$2='Paramètres - Admin'!$F$2,VLOOKUP($C$2,AVAILABLE_Buildings_Resource[#All],MATCH(D$4,AVAILABLE_Buildings_Resource[#Headers],0)),IF($B$2='Paramètres - Admin'!$F$3,VLOOKUP($A$2,AVAILABLE_Buildings_Resource[#All],MATCH(D$4,AVAILABLE_Buildings_Resource[#Headers],0))))","v":0},{"$f":"IF($B$2='Paramètres - Admin'!$F$2,VLOOKUP($C$2,AVAILABLE_Buildings_Resource[#All],MATCH(E$4,AVAILABLE_Buildings_Resource[#Headers],0)),IF($B$2='Paramètres - Admin'!$F$3,VLOOKUP($A$2,AVAILABLE_Buildings_Resource[#All],MATCH(E$4,AVAILABLE_Buildings_Resource[#Headers],0))))","v":1},{"$f":"IF($B$2='Paramètres - Admin'!$F$2,VLOOKUP($C$2,AVAILABLE_Buildings_Resource[#All],MATCH(F$4,AVAILABLE_Buildings_Resource[#Headers],0)),IF($B$2='Paramètres - Admin'!$F$3,VLOOKUP($A$2,AVAILABLE_Buildings_Resource[#All],MATCH(F$4,AVAILABLE_Buildings_Resource[#Headers],0))))","v":1},{"$f":"IF($B$2='Paramètres - Admin'!$F$2,VLOOKUP($C$2,AVAILABLE_Buildings_Resource[#All],MATCH(G$4,AVAILABLE_Buildings_Resource[#Headers],0)),IF($B$2='Paramètres - Admin'!$F$3,VLOOKUP($A$2,AVAILABLE_Buildings_Resource[#All],MATCH(G$4,AVAILABLE_Buildings_Resource[#Headers],0))))","v":0},null,"Cellule rouge :","Bâtiment non disponible",null,null,"Réservoir d'Élixir",0.1,400000]
["Stockage Max",{"$f":"IF($B$2='Paramètres - Admin'!$F$2,IF(ISERROR(VLOOKUP(VLOOKUP($C$2,AVAILABLE_Buildings_Resource[#All],MATCH(B$4,AVAILABLE_Buildings_Resource[#Headers],0)+1),EARNINGS_Gold_Storage[#All],2)),0,VLOOKUP(VLOOKUP($C$2,AVAILABLE_Buildings_Resource[#All],MATCH(B$4,AVAILABLE_Buildings_Resource[#Headers],0)+1),EARNINGS_Gold_Storage[#All],2)),IF($B$2='Paramètres - Admin'!$F$3,IF(ISERROR(VLOOKUP(VLOOKUP($A$2,AVAILABLE_Buildings_Resource[#All],MATCH(B$4,AVAILABLE_Buildings_Resource[#Headers],0)+1),EARNINGS_Gold_Storage[#All],2)),0,VLOOKUP(VLOOKUP($A$2,AVAILABLE_Buildings_Resource[#All],MATCH(B$4,AVAILABLE_Buildings_Resource[#Headers],0)+1),EARNINGS_Gold_Storage[#All],2))))","v":1500},{"$f":"IF($B$2='Paramètres - Admin'!$F$2,IF(ISERROR(VLOOKUP(VLOOKUP($C$2,AVAILABLE_Buildings_Resource[#All],MATCH(C$4,AVAILABLE_Buildings_Resource[#Headers],0)+1),EARNINGS_Elixir_Storage[#All],2)),0,VLOOKUP(VLOOKUP($C$2,AVAILABLE_Buildings_Resource[#All],MATCH(C$4,AVAILABLE_Buildings_Resource[#Headers],0)+1),EARNINGS_Elixir_Storage[#All],2)),IF($B$2='Paramètres - Admin'!$F$3,IF(ISERROR(VLOOKUP(VLOOKUP($A$2,AVAILABLE_Buildings_Resource[#All],MATCH(C$4,AVAILABLE_Buildings_Resource[#Headers],0)+1),EARNINGS_Elixir_Storage[#All],2)),0,VLOOKUP(VLOOKUP($A$2,AVAILABLE_Buildings_Resource[#All],MATCH(C$4,AVAILABLE_Buildings_Resource[#Headers],0)+1),EARNINGS_Elixir_Storage[#All],2))))","v":1500},{"$f":"IF($B$2='Paramètres - Admin'!$F$2,IF(ISERROR(VLOOKUP(VLOOKUP($C$2,AVAILABLE_Buildings_Resource[#All],MATCH(D$4,AVAILABLE_Buildings_Resource[#Headers],0)+1),EARNINGS_Dark_Elixir_Storage[#All],2)),0,VLOOKUP(VLOOKUP($C$2,AVAILABLE_Buildings_Resource[#All],MATCH(D$4,AVAILABLE_Buildings_Resource[#Headers],0)+1),EARNINGS_Dark_Elixir_Storage[#All],2)),IF($B$2='Paramètres - Admin'!$F$3,IF(ISERROR(VLOOKUP(VLOOKUP($A$2,AVAILABLE_Buildings_Resource[#All],MATCH(D$4,AVAILABLE_Buildings_Resource[#Headers],0)+1),EARNINGS_Dark_Elixir_Storage[#All],2)),0,VLOOKUP(VLOOKUP($A$2,AVAILABLE_Buildings_Resource[#All],MATCH(D$4,AVAILABLE_Buildings_Resource[#Headers],0)+1),EARNINGS_Dark_Elixir_Storage[#All],2))))","v":0},{"$f":"IF($B$2='Paramètres - Admin'!$F$2,IF(ISERROR(VLOOKUP(VLOOKUP($C$2,AVAILABLE_Buildings_Resource[#All],MATCH(E$4,AVAILABLE_Buildings_Resource[#Headers],0)+1),EARNINGS_Gold_Mine[#All],3)),0,VLOOKUP(VLOOKUP($C$2,AVAILABLE_Buildings_Resource[#All],MATCH(E$4,AVAILABLE_Buildings_Resource[#Headers],0)+1),EARNINGS_Gold_Mine[#All],3)),IF($B$2='Paramètres - Admin'!$F$3,IF(ISERROR(VLOOKUP(VLOOKUP($A$2,AVAILABLE_Buildings_Resource[#All],MATCH(E$4,AVAILABLE_Buildings_Resource[#Headers],0)+1),EARNINGS_Gold_Mine[#All],3)),0,VLOOKUP(VLOOKUP($A$2,AVAILABLE_Buildings_Resource[#All],MATCH(E$4,AVAILABLE_Buildings_Resource[#Headers],0)+1),EARNINGS_Gold_Mine[#All],3))))","v":1000},{"$f":"IF($B$2='Paramètres - Admin'!$F$2,IF(ISERROR(VLOOKUP(VLOOKUP($C$2,AVAILABLE_Buildings_Resource[#All],MATCH(F$4,AVAILABLE_Buildings_Resource[#Headers],0)+1),EARNINGS_Elixir_Collector[#All],3)),0,VLOOKUP(VLOOKUP($C$2,AVAILABLE_Buildings_Resource[#All],MATCH(F$4,AVAILABLE_Buildings_Resource[#Headers],0)+1),EARNINGS_Elixir_Collector[#All],3)),IF($B$2='Paramètres - Admin'!$F$3,IF(ISERROR(VLOOKUP(VLOOKUP($A$2,AVAILABLE_Buildings_Resource[#All],MATCH(F$4,AVAILABLE_Buildings_Resource[#Headers],0)+1),EARNINGS_Elixir_Collector[#All],3)),0,VLOOKUP(VLOOKUP($A$2,AVAILABLE_Buildings_Resource[#All],MATCH(F$4,AVAILABLE_Buildings_Resource[#Headers],0)+1),EARNINGS_Elixir_Collector[#All],3))))","v":1000},{"$f":"IF($B$2='Paramètres - Admin'!$F$2,IF(ISERROR(VLOOKUP(VLOOKUP($C$2,AVAILABLE_Buildings_Resource[#All],MATCH(E$4,AVAILABLE_Buildings_Resource[#Headers],0)+1),EARNINGS_Dark_Elixir_Drill[#All],3)),0,VLOOKUP(VLOOKUP($C$2,AVAILABLE_Buildings_Resource[#All],MATCH(E$4,AVAILABLE_Buildings_Resource[#Headers],0)+1),EARNINGS_Dark_Elixir_Drill[#All],3)),IF($B$2='Paramètres - Admin'!$F$3,IF(ISERROR(VLOOKUP(VLOOKUP($A$2,AVAILABLE_Buildings_Resource[#All],MATCH(E$4,AVAILABLE_Buildings_Resource[#Headers],0)+1),EARNINGS_Dark_Elixir_Drill[#All],3)),0,VLOOKUP(VLOOKUP($A$2,AVAILABLE_Buildings_Resource[#All],MATCH(E$4,AVAILABLE_Buildings_Resource[#Headers],0)+1),EARNINGS_Dark_Elixir_Drill[#All],3))))","v":240},null,null,null,null,null,"Réservoir d'Élixir Noir",0.04,3000]
[1,null,null,null,null,null,null,null,null,null,null,null,"Mine d'Or",0.5,{"$f":"IF($B$2='Paramètres - Admin'!$F$2,IF(ISERROR(VLOOKUP(VLOOKUP($C$2,AVAILABLE_Buildings_Resource[#All],MATCH(E$4,AVAILABLE_Buildings_Resource[#Headers],0)+1),EARNINGS_Gold_Storage[#All],2)),0,VLOOKUP(VLOOKUP($C$2,AVAILABLE_Buildings_Resource[#All],MATCH(E$4,AVAILABLE_Buildings_Resource[#Headers],0)+1),EARNINGS_Gold_Mine[#All],3)),IF($B$2='Paramètres - Admin'!$F$3,IF(ISERROR(VLOOKUP(VLOOKUP($A$2,AVAILABLE_Buildings_Resource[#All],MATCH(E$4,AVAILABLE_Buildings_Resource[#Headers],0)+1),EARNINGS_Gold_Storage[#All],2)),0,VLOOKUP(VLOOKUP($A$2,AVAILABLE_Buildings_Resource[#All],MATCH(E$4,AVAILABLE_Buildings_Resource[#Headers],0)+1),EARNINGS_Gold_Mine[#All],3))))","v":1000}]
[2,null,null,null,null,null,null,null,"Cellule orange :","Erreur - Bâtiment\nMax. total atteint",null,null,"Extracteur d'Élixir",0.5,{"$f":"IF($B$2='Paramètres - Admin'!$F$2,IF(ISERROR(VLOOKUP(VLOOKUP($C$2,AVAILABLE_Buildings_Resource[#All],MATCH(F$4,AVAILABLE_Buildings_Resource[#Headers],0)+1),EARNINGS_Gold_Storage[#All],2)),0,VLOOKUP(VLOOKUP($C$2,AVAILABLE_Buildings_Resource[#All],MATCH(F$4,AVAILABLE_Buildings_Resource[#Headers],0)+1),EARNINGS_Elixir_Collector[#All],3)),IF($B$2='Paramètres - Admin'!$F$3,IF(ISERROR(VLOOKUP(VLOOKUP($A$2,AVAILABLE_Buildings_Resource[#All],MATCH(F$4,AVAILABLE_Buildings_Resource[#Headers],0)+1),EARNINGS_Gold_Storage[#All],2)),0,VLOOKUP(VLOOKUP($A$2,AVAILABLE_Buildings_Resource[#All],MATCH(F$4,AVAILABLE_Buildings_Resource[#Headers],0)+1),EARNINGS_Elixir_Collector[#All],3))))","v":1000}]
[3,null,null,null,null,null,null,null,null,null,null,null,"Foreuse d'Élixir Noir",0.75,1600]
[4,null,null,null,null,null,null,null,null,null,null,null,"Hôtel de Ville - Or",1,1000]
[5,null,null,null,null,null,null,null,null,null,null,null,"Hôtel de Ville - Élixir",1,1000]
[6]
[7]
["Total",{"$f":"SUMIF($A7:$A13,\"<=\"&B$5,B7:B13)","v":0},0,0,0,0,0]
[]
[]
["Combat - Nombre de Ressources Disponibles"]
[null,"Réserve d'Or","Réservoir d'Élixir","Réservoir d'Élixir Noir","Mine d'Or","Extracteur d'Élixir","Foreuse d'Élixir Noir"]
[1,{"$f":"IF($A19>B$5,0,IF((B$7*$N$4)+(B$8*$N$4)+(B$9*$N$4)+(B$10*$N$4)+(B$11*$N$4)+(B$12*$N$4)+(B$13*$N$4)>$O$4,$O$4*(B7/B$14),B7*$N$4))","v":0},{"$f":"IF($A19>C$5,0,IF((C$7*$N$5)+(C$8*$N$5)+(C$9*$N$5)+(C$10*$N$5)+(C$11*$N$5)+(C$12*$N$5)+(C$13*$N$5)>$O$5,$O$5*(C7/C$14),C7*$N$5))","v":0},{"$f":"IF($A19>D$5,0,IF((D$7*$N$6)+(D$8*$N$6)+(D$9*$N$6)+(D$10*$N$6)+(D$11*$N$6)+(D$12*$N$6)+(D$13*$N$6)>$O$6,$O$6*(D7/D$14),D7*$N$6))","v":0},{"$f":"IF($A19>E$5,0,IF(E7>$O$7,$O$7*$N$7,E7*$N$7))","v":0},{"$f":"IF($A19>F$5,0,IF(F7>$O$8,$O$8*$N$8,F7*$N$8))","v":0},{"$f":"IF($A19>G$5,0,IF(G7>$O$9,$O$9*$N$9,G7*$N$9))","v":0}]
[2,{"$f":"IF($A20>B$5,0,IF((B$7*$N$4)+(B$8*$N$4)+(B$9*$N$4)+(B$10*$N$4)+(B$11*$N$4)+(B$12*$N$4)+(B$13*$N$4)>$O$4,$O$4*(B8/B$14),B8*$N$4))","v":0},0,0,0,{"$f":"IF($A20>F$5,0,IF(F8>$O$8,$O$8*$N$8,F8*$N$8))","v":0},0]
[3,0,0,0,0,0,0]
[4,0,0,0,0,0,0]
[5,0,0,0,0,0,0]
[6,0,0,0,0,0,0]
[7,0,0,0,0,0,0]
["Total",{"$f":"SUM(B19:B25)","v":0},0,0,0,0,0]
[]
[]
[{"$f":"IF($B$2='Paramètres - Admin'!$F$2,$G$29 & C2,IF($B$2='Paramètres - Admin'!$F$3,$H$29 & C2))","v":"Loots - Gains Possibles vs HdV LVL 1"},null,null,null,null,null,"Loots - Gains Possibles vs HdV LVL ","Loots - Pertes Possibles vs HdV LVL "]
[null,null,"Multiplicateur de Loot","Or","Élixir","Élixir Noir"]
["Stockages",null,{"$f":"VLOOKUP(1,LEAGUES_Loot_Multiplier[#All],3)","v":0.05},{"$f":"B26*$C31","v":0},{"$f":"C26*$C31","v":0},{"$f":"D26*$C31","v":0}]
["Mines/Extracteurs/Foreuses",null,{"$f":"VLOOKUP(1,LEAGUES_Loot_Multiplier[#All],3)","v":0.05},{"$f":"E26*$C32","v":0},{"$f":"F26*$C32","v":0},{"$f":"G26*$C32","v":0}]
["Hôtel de Ville",null,{"$f":"IF(D2>0,1,VLOOKUP(1,LEAGUES_Loot_Multiplier[#All],3))","v":0.05},{"$f":"$O$10*$C33","v":50},{"$f":"$O$11*$C33","v":50},0]
["Bonus de Ligue",null,"/",{"$f":"IF($B$2='Paramètres - Admin'!$F$2,VLOOKUP(1,LEAGUES_Bonus[#All],3),0)","v":1300},{"$f":"IF($B$2='Paramètres - Admin'!$F$2,VLOOKUP(1,LEAGUES_Bonus[#All],4),0)","v":1300},{"$f":"IF($B$2='Paramètres - Admin'!$F$2,VLOOKUP(1,LEAGUES_Bonus[#All],5),0)","v":0}]
[null,null,"Total",{"$f":"SUM(D31:D34)","v":1350},{"$f":"SUM(E31:E34)","v":1350},{"$f":"SUM(F31:F34)","v":0}]

{"sheet":"Formation de Troupes","index":5,"n_rows":29,"n_cols":29,"rows_kept":29,"cut":false,"hidden":true,"merged":[[27,1,27,2],[28,1,28,2],[25,1,25,2],[21,1,21,2],[22,1,22,2],[2,20,2,27],[19,1,19,2],[24,0,24,2],[26,1,26,2],[11,21,11,22],[12,21,12,22],[13,21,13,22],[25,16,26,16],[25,17,26,17],[19,9,20,9],[14,9,14,10],[15,9,15,10],[16,9,16,10],[17,9,17,10],[25,9,26,9],[22,9,23,9],[0,1,0,2],[1,1,1,2],[9,1,9,2],[2,0,2,6],[2,8,2,17],[25,10,26,14],[12,1,12,2],[11,1,11,2],[10,1,10,2],[10,21,10,22],[19,10,20,14],[19,16,20,16],[19,17,20,17],[18,0,18,2],[20,1,20,2],[22,10,23,14]]}
["LVL HdV","Affichage Temps",null,null,null,null,"LVL Usine de Sorts",null,"NB\nCaserne",null,null,null,null,null,"LVL\nCaserne n°1","LVL\nCaserne n°2","LVL\nCaserne n°3","LVL\nCaserne n°4",null,null,"NB\nCaserne Noire",null,null,null,null,null,"LVL\nCaserne Noire n°1","LVL\nCaserne Noire n°2"]
[{"$f":"Paramètres!$BE$2","v":10},"h/m/s",null,null,null,null,{"$f":"IF(ISERROR(MATCH(1,Paramètres!L$6:L$45,0)),0,MATCH(1,Paramètres!L$6:L$45,0))","v":5},null,{"$f":"Paramètres!H46","v":4},null,null,null,null,null,null,null,null,null,null,null,{"$f":"Paramètres!I46","v":2}]
["Création de Sorts",null,null,null,null,null,null,null,"Formation de Troupes Normales",null,null,null,null,null,null,null,null,null,null,null,"Formation de Troupes Noires"]
[null,"Max +","Actuel +","Espace","Coût","Time (s)","Laboratoire - NB",null,null,"Max +","Actuel +","Espace","Coût","Time (s)","Caserne n°1 - NB","Caserne° 2 - NB","Caserne n°3 - NB","Caserne n°4 - NB","Total",null,null,"Max +","Actuel +","Espace","Coût","Time (s)","Caserne Noire n°1 - NB","Caserne Noire n°2 - NB","Total"]
["Sort de Foudre",{"$f":"VLOOKUP($A$2,AVAILABLE_Upgrades_Spells[#All],MATCH($A5,AVAILABLE_Upgrades_Spells[#Headers],0)+1)","v":6},{"$f":"IF(ISERROR(MATCH(1,Paramètres!AF$6:AF$45,0)),0,MATCH(1,Paramètres!AF$6:AF$45,0))","v":5},{"$f":"IF($C5<>0,VLOOKUP($C5,TRAINING_Spell_Lightning[#All],2),0)","v":1},{"$f":"IF($C5<>0,VLOOKUP($C5,TRAINING_Spell_Lightning[#All],3),0)","v":22000},{"$f":"IF($C5<>0,VLOOKUP($C5,TRAINING_Spell_Lightning[#All],4),0)","v":1800},null,null,"Barbare",{"$f":"VLOOKUP($A$2,AVAILABLE_Upgrades_Normal_Troops[#All],MATCH($I5,AVAILABLE_Upgrades_Normal_Troops[#Headers],0)+1)","v":7},{"$f":"IF(ISERROR(MATCH(1,Paramètres!AK$6:AK$45,0)),0,MATCH(1,Paramètres!AK$6:AK$45,0))","v":5},{"$f":"IF($K5<>0,VLOOKUP($K5,TRAINING_Barbarian[#All],2),0)","v":1},{"$f":"IF($K5<>0,VLOOKUP($K5,TRAINING_Barbarian[#All],3),0)","v":100},{"$f":"IF($K5<>0,VLOOKUP($K5,TRAINING_Barbarian[#All],4),0)","v":20},null,null,null,null,{"$f":"SUM(O5:R5)","v":0},null,"Serviteur",{"$f":"VLOOKUP($A$2,AVAILABLE_Upgrades_Dark_Troops[#All],MATCH($U5,AVAILABLE_Upgrades_Dark_Troops[#Headers],0)+1)","v":6},{"$f":"IF(ISERROR(MATCH(1,Paramètres!AU$6:AU$45,0)),0,MATCH(1,Paramètres!AU$6:AU$45,0))","v":5},{"$f":"IF($W5<>0,VLOOKUP($W5,TRAINING_Minion[#All],2),0)","v":2},{"$f":"IF($W5<>0,VLOOKUP($W5,TRAINING_Minion[#All],3),0)","v":10},{"$f":"IF($W5<>0,VLOOKUP($W5,TRAINING_Minion[#All],4),0)","v":45},null,null,{"$f":"SUM(AA5:AB5)","v":0}]
["Sort de Guérison",{"$f":"VLOOKUP($A$2,AVAILABLE_Upgrades_Spells[#All],MATCH($A6,AVAILABLE_Upgrades_Spells[#Headers],0)+1)","v":6},{"$f":"IF(ISERROR(MATCH(1,Paramètres!AG$6:AG$45,0)),0,MATCH(1,Paramètres!AG$6:AG$45,0))","v":5},{"$f":"IF($C6<>0,VLOOKUP($C6,TRAINING_Spell_Healing[#All],2),0)","v":1},{"$f":"IF($C6<>0,VLOOKUP($C6,TRAINING_Spell_Healing[#All],3),0)","v":22000},{"$f":"IF($C6<>0,VLOOKUP($C6,TRAINING_Spell_Healing[#All],4),0)","v":1800},null,null,"Archer",{"$f":"VLOOKUP($A$2,AVAILABLE_Upgrades_Normal_Troops[#All],MATCH($I6,AVAILABLE_Upgrades_Normal_Troops[#Headers],0)+1)","v":7},{"$f":"IF(ISERROR(MATCH(1,Paramètres!AL$6:AL$45,0)),0,MATCH(1,Paramètres!AL$6:AL$45,0))","v":5},{"$f":"IF($K6<>0,VLOOKUP($K6,TRAINING_Archer[#All],2),0)","v":1},{"$f":"IF($K6<>0,VLOOKUP($K6,TRAINING_Archer[#All],3),0)","v":200},{"$f":"IF($K6<>0,VLOOKUP($K6,TRAINING_Archer[#All],4),0)","v":25},null,null,null,null,{"$f":"SUM(O6:R6)","v":0},null,"Chevaucheur de Cochon",{"$f":"VLOOKUP($A$2,AVAILABLE_Upgrades_Dark_Troops[#All],MATCH($U6,AVAILABLE_Upgrades_Dark_Troops[#Headers],0)+1)","v":5},{"$f":"IF(ISERROR(MATCH(1,Paramètres!AV$6:AV$45,0)),0,MATCH(1,Paramètres!AV$6:AV$45,0))","v":4},{"$f":"IF($W6<>0,VLOOKUP($W6,TRAINING_Hog_Rider[#All],2),0)","v":5},{"$f":"IF($W6<>0,VLOOKUP($W6,TRAINING_Hog_Rider[#All],3),0)","v":58},{"$f":"IF($W6<>0,VLOOKUP($W6,TRAINING_Hog_Rider[#All],4),0)","v":120},null,null,0]
["Sort de Rage",{"$f":"VLOOKUP($A$2,AVAILABLE_Upgrades_Spells[#All],MATCH($A7,AVAILABLE_Upgrades_Spells[#Headers],0)+1)","v":5},{"$f":"IF(ISERROR(MATCH(1,Paramètres!AH$6:AH$45,0)),0,MATCH(1,Paramètres!AH$6:AH$45,0))","v":5},{"$f":"IF($C7<>0,VLOOKUP($C7,TRAINING_Spell_Rage[#All],2),0)","v":1},{"$f":"IF($C7<>0,VLOOKUP($C7,TRAINING_Spell_Rage[#All],3),0)","v":33000},{"$f":"IF($C7<>0,VLOOKUP($C7,TRAINING_Spell_Rage[#All],4),0)","v":2700},null,null,"Gobelin",{"$f":"VLOOKUP($A$2,AVAILABLE_Upgrades_Normal_Troops[#All],MATCH($I7,AVAILABLE_Upgrades_Normal_Troops[#Headers],0)+1)","v":6},{"$f":"IF(ISERROR(MATCH(1,Paramètres!AM$6:AM$45,0)),0,MATCH(1,Paramètres!AM$6:AM$45,0))","v":5},{"$f":"IF($K7<>0,VLOOKUP($K7,TRAINING_Goblin[#All],2),0)","v":1},{"$f":"IF($K7<>0,VLOOKUP($K7,TRAINING_Goblin[#All],3),0)","v":100},{"$f":"IF($K7<>0,VLOOKUP($K7,TRAINING_Goblin[#All],4),0)","v":30},null,null,null,null,0,null,"Valkyrie",{"$f":"VLOOKUP($A$2,AVAILABLE_Upgrades_Dark_Troops[#All],MATCH($U7,AVAILABLE_Upgrades_Dark_Troops[#Headers],0)+1)","v":4},{"$f":"IF(ISERROR(MATCH(1,Paramètres!AW$6:AW$45,0)),0,MATCH(1,Paramètres!AW$6:AW$45,0))","v":1},{"$f":"IF($W7<>0,VLOOKUP($W7,TRAINING_Valkyrie[#All],2),0)","v":8},{"$f":"IF($W7<>0,VLOOKUP($W7,TRAINING_Valkyrie[#All],3),0)","v":70},{"$f":"IF($W7<>0,VLOOKUP($W7,TRAINING_Valkyrie[#All],4),0)","v":900},null,null,0]
["Sort de Saut",{"$f":"VLOOKUP($A$2,AVAILABLE_Upgrades_Spells[#All],MATCH($A8,AVAILABLE_Upgrades_Spells[#Headers],0)+1)","v":3},{"$f":"IF(ISERROR(MATCH(1,Paramètres!AI$6:AI$45,0)),0,MATCH(1,Paramètres!AI$6:AI$45,0))","v":2},{"$f":"IF($C8<>0,VLOOKUP($C8,TRAINING_Spell_Jump[#All],2),0)","v":1},{"$f":"IF($C8<>0,VLOOKUP($C8,TRAINING_Spell_Jump[#All],3),0)","v":29000},{"$f":"IF($C8<>0,VLOOKUP($C8,TRAINING_Spell_Jump[#All],4),0)","v":2700},null,null,"Géant",{"$f":"VLOOKUP($A$2,AVAILABLE_Upgrades_Normal_Troops[#All],MATCH($I8,AVAILABLE_Upgrades_Normal_Troops[#Headers],0)+1)","v":7},{"$f":"IF(ISERROR(MATCH(1,Paramètres!AN$6:AN$45,0)),0,MATCH(1,Paramètres!AN$6:AN$45,0))","v":5},{"$f":"IF($K8<>0,VLOOKUP($K8,TRAINING_Giant[#All],2),0)","v":5},{"$f":"IF($K8<>0,VLOOKUP($K8,TRAINING_Giant[#All],3),0)","v":2500},{"$f":"IF($K8<>0,VLOOKUP($K8,TRAINING_Giant[#All],4),0)","v":120},null,null,null,null,0,null,"Golem",{"$f":"VLOOKUP($A$2,AVAILABLE_Upgrades_Dark_Troops[#All],MATCH($U8,AVAILABLE_Upgrades_Dark_Troops[#Headers],0)+1)","v":5},{"$f":"IF(ISERROR(MATCH(1,Paramètres!AX$6:AX$45,0)),0,MATCH(1,Paramètres!AX$6:AX$45,0))","v":2},{"$f":"IF($W8<>0,VLOOKUP($W8,TRAINING_Golem[#All],2),0)","v":30},{"$f":"IF($W8<>0,VLOOKUP($W8,TRAINING_Golem[#All],3),0)","v":525},{"$f":"IF($W8<>0,VLOOKUP($W8,TRAINING_Golem[#All],4),0)","v":2700},null,null,0]
["Sort de Gel",{"$f":"VLOOKUP($A$2,AVAILABLE_Upgrades_Spells[#All],MATCH($A9,AVAILABLE_Upgrades_Spells[#Headers],0)+1)","v":5},{"$f":"IF(ISERROR(MATCH(1,Paramètres!AJ$6:AJ$45,0)),0,MATCH(1,Paramètres!AJ$6:AJ$45,0))","v":1},{"$f":"IF($C9<>0,VLOOKUP($C9,TRAINING_Spell_Freeze[#All],2),0)","v":1},{"$f":"IF($C9<>0,VLOOKUP($C9,TRAINING_Spell_Freeze[#All],3),0)","v":26000},{"$f":"IF($C9<>0,VLOOKUP($C9,TRAINING_Spell_Freeze[#All],4),0)","v":2700},null,null,"Sapeur",{"$f":"VLOOKUP($A$2,AVAILABLE_Upgrades_Normal_Troops[#All],MATCH($I9,AVAILABLE_Upgrades_Normal_Troops[#Headers],0)+1)","v":6},{"$f":"IF(ISERROR(MATCH(1,Paramètres!AO$6:AO$45,0)),0,MATCH(1,Paramètres!AO$6:AO$45,0))","v":5},{"$f":"IF($K9<>0,VLOOKUP($K9,TRAINING_Wall_Breaker[#All],2),0)","v":2},{"$f":"IF($K9<>0,VLOOKUP($K9,TRAINING_Wall_Breaker[#All],3),0)","v":3000},{"$f":"IF($K9<>0,VLOOKUP($K9,TRAINING_Wall_Breaker[#All],4),0)","v":120},null,null,null,null,0,null,"Sorcière",{"$f":"VLOOKUP($A$2,AVAILABLE_Upgrades_Dark_Troops[#All],MATCH($U9,AVAILABLE_Upgrades_Dark_Troops[#Headers],0)+1)","v":2},{"$f":"IF(ISERROR(MATCH(1,Paramètres!AY$6:AY$45,0)),0,MATCH(1,Paramètres!AY$6:AY$45,0))","v":1},{"$f":"IF($W9<>0,VLOOKUP($W9,TRAINING_Witch[#All],2),0)","v":12},{"$f":"IF($W9<>0,VLOOKUP($W9,TRAINING_Witch[#All],3),0)","v":250},{"$f":"IF($W9<>0,VLOOKUP($W9,TRAINING_Witch[#All],4),0)","v":1200},null,null,0]
[null,"Espace Max",null,null,null,null,{"$f":"VLOOKUP($G$2,TRAINING_Spell_Factory[#All],2)","v":5},null,"Ballon",{"$f":"VLOOKUP($A$2,AVAILABLE_Upgrades_Normal_Troops[#All],MATCH($I10,AVAILABLE_Upgrades_Normal_Troops[#Headers],0)+1)","v":6},{"$f":"IF(ISERROR(MATCH(1,Paramètres!AP$6:AP$45,0)),0,MATCH(1,Paramètres!AP$6:AP$45,0))","v":6},{"$f":"IF($K10<>0,VLOOKUP($K10,TRAINING_Balloon[#All],2),0)","v":5},{"$f":"IF($K10<>0,VLOOKUP($K10,TRAINING_Balloon[#All],3),0)","v":4500},{"$f":"IF($K10<>0,VLOOKUP($K10,TRAINING_Balloon[#All],4),0)","v":480},null,null,null,null,0,null,"Molosse de lave",{"$f":"VLOOKUP($A$2,AVAILABLE_Upgrades_Dark_Troops[#All],MATCH($U10,AVAILABLE_Upgrades_Dark_Troops[#Headers],0)+1)","v":3},{"$f":"IF(ISERROR(MATCH(1,Paramètres!AZ$6:AZ$45,0)),0,MATCH(1,Paramètres!AZ$6:AZ$45,0))","v":2},{"$f":"IF($W10<>0,VLOOKUP($W10,TRAINING_Lava_Hound[#All],2),0)","v":30},{"$f":"IF($W10<>0,VLOOKUP($W10,TRAINING_Lava_Hound[#All],3),0)","v":450},{"$f":"IF($W10<>0,VLOOKUP($W10,TRAINING_Lava_Hound[#All],4),0)","v":2700},null,null,0]
[null,"Espace Total",null,null,null,null,{"$f":"SUMPRODUCT(G$5:G$9,$D$5:$D$9)","v":0},null,"Sorcier",{"$f":"VLOOKUP($A$2,AVAILABLE_Upgrades_Normal_Troops[#All],MATCH($I11,AVAILABLE_Upgrades_Normal_Troops[#Headers],0)+1)","v":6},{"$f":"IF(ISERROR(MATCH(1,Paramètres!AQ$6:AQ$45,0)),0,MATCH(1,Paramètres!AQ$6:AQ$45,0))","v":5},{"$f":"IF($K11<>0,VLOOKUP($K11,TRAINING_Wizard[#All],2),0)","v":4},{"$f":"IF($K11<>0,VLOOKUP($K11,TRAINING_Wizard[#All],3),0)","v":3500},{"$f":"IF($K11<>0,VLOOKUP($K11,TRAINING_Wizard[#All],4),0)","v":480},null,null,null,null,0,null,null,"Espace Max",null,null,null,null,{"$f":"VLOOKUP(AA$2,TRAINING_Dark_Barrack[#All],2)","v":0},{"$f":"VLOOKUP(AB$2,TRAINING_Dark_Barrack[#All],2)","v":0},0]
[null,"Coût Total",null,null,null,null,{"$f":"SUMPRODUCT(G$5:G$9,$E$5:$E$9)","v":0},null,"Guérisseuse",{"$f":"VLOOKUP($A$2,AVAILABLE_Upgrades_Normal_Troops[#All],MATCH($I12,AVAILABLE_Upgrades_Normal_Troops[#Headers],0)+1)","v":4},{"$f":"IF(ISERROR(MATCH(1,Paramètres!AR$6:AR$45,0)),0,MATCH(1,Paramètres!AR$6:AR$45,0))","v":3},{"$f":"IF($K12<>0,VLOOKUP($K12,TRAINING_Healer[#All],2),0)","v":14},{"$f":"IF($K12<>0,VLOOKUP($K12,TRAINING_Healer[#All],3),0)","v":8000},{"$f":"IF($K12<>0,VLOOKUP($K12,TRAINING_Healer[#All],4),0)","v":900},null,null,null,null,0,null,null,"Espace Total",null,null,null,null,{"$f":"SUMPRODUCT(AA$5:AA$10,$X$5:$X$10)","v":0},{"$f":"SUMPRODUCT(AB$5:AB$10,$X$5:$X$10)","v":0},0]
[null,"Temps Total",null,null,null,null,{"$f":"IF($B$2='Paramètres - Admin'!$B$2,TEXT(SUMPRODUCT(G$5:G$9,$F$5:$F$9),\"# 0\")&\" \" & 'Paramètres - Admin'!$B$2,IF($B$2='Paramètres - Admin'!$B$3,TEXT(SUMPRODUCT(G$5:G$9,$F$5:$F$9)/60,\"# 0\")&\" \" & 'Paramètres - Admin'!$B$3,IF($B$2='Paramètres - Admin'!$B$4,TEXT(SUMPRODUCT(G$5:G$9,$F$5:$F$9)/3600,\"# 0,00\")&\" \" & 'Paramètres - Admin'!$B$4,IF(SUMPRODUCT(G$5:G$9,$F$5:$F$9)/3600>=1,INT(SUMPRODUCT(G$5:G$9,$F$5:$F$9)/3600) &\" \" & 'Paramètres - Admin'!$D$3 & \" \" & MINUTE(SUMPRODUCT(G$5:G$9,$F$5:$F$9)/86400-INT(SUMPRODUCT(G$5:G$9,$F$5:$F$9)/86400))  &\" \" & 'Paramètres - Admin'!$D$2 & \" \" & SECOND(SUMPRODUCT(G$5:G$9,$F$5:$F$9)/86400-INT(SUMPRODUCT(G$5:G$9,$F$5:$F$9)/86400)) &\" \" & 'Paramètres - Admin'!$D$5,MINUTE(SUMPRODUCT(G$5:G$9,$F$5:$F$9)/86400-INT(SUMPRODUCT(G$5:G$9,$F$5:$F$9)/86400)) &\" \" & 'Paramètres - Admin'!$D$2 & \" \" & SECOND(SUMPRODUCT(G$5:G$9,$F$5:$F$9)/86400-INT(SUMPRODUCT(G$5:G$9,$F$5:$F$9)/86400)) &\" \" & 'Paramètres - Admin'!$D$5))))","v":"0 mins 0 sec"},null,"Dragon",{"$f":"VLOOKUP($A$2,AVAILABLE_Upgrades_Normal_Troops[#All],MATCH($I13,AVAILABLE_Upgrades_Normal_Troops[#Headers],0)+1)","v":4},{"$f":"IF(ISERROR(MATCH(1,Paramètres!AS$6:AS$45,0)),0,MATCH(1,Paramètres!AS$6:AS$45,0))","v":4},{"$f":"IF($K13<>0,VLOOKUP($K13,TRAINING_Dragon[#All],2),0)","v":20},{"$f":"IF($K13<>0,VLOOKUP($K13,TRAINING_Dragon[#All],3),0)","v":42000},{"$f":"IF($K13<>0,VLOOKUP($K13,TRAINING_Dragon[#All],4),0)","v":1800},null,null,null,null,0,null,null,"Coût Total",null,null,null,null,{"$f":"SUMPRODUCT(AA$5:AA$10,$Y$5:$Y$10)","v":0},{"$f":"SUMPRODUCT(AB$5:AB$10,$Y$5:$Y$10)","v":0},0]
[null,null,null,null,null,null,null,null,"P.E.K.K.A",{"$f":"VLOOKUP($A$2,AVAILABLE_Upgrades_Normal_Troops[#All],MATCH($I14,AVAILABLE_Upgrades_Normal_Troops[#Headers],0)+1)","v":5},{"$f":"IF(ISERROR(MATCH(1,Paramètres!AT$6:AT$45,0)),0,MATCH(1,Paramètres!AT$6:AT$45,0))","v":2},{"$f":"IF($K14<>0,VLOOKUP($K14,TRAINING_PEKKA[#All],2),0)","v":25},{"$f":"IF($K14<>0,VLOOKUP($K14,TRAINING_PEKKA[#All],3),0)","v":35000},{"$f":"IF($K14<>0,VLOOKUP($K14,TRAINING_PEKKA[#All],4),0)","v":2700},null,null,null,null,0,null,null,"Temps Total",null,null,null,null,{"$f":"IF($B$2='Paramètres - Admin'!$B$2,TEXT(SUMPRODUCT(AA$5:AA$10,$Z$5:$Z$10),\"# 0\")&\" \" & 'Paramètres - Admin'!$B$2,IF($B$2='Paramètres - Admin'!$B$3,TEXT(SUMPRODUCT(AA$5:AA$10,$Z$5:$Z$10)/60,\"# 0\")&\" \" & 'Paramètres - Admin'!$B$3,IF($B$2='Paramètres - Admin'!$B$4,TEXT(SUMPRODUCT(AA$5:AA$10,$Z$5:$Z$10)/3600,\"# 0,00\")&\" \" & 'Paramètres - Admin'!$B$4,IF(SUMPRODUCT(AA$5:AA$10,$Z$5:$Z$10)/3600>=1,INT(SUMPRODUCT(AA$5:AA$10,$Z$5:$Z$10)/3600) &\" \" & 'Paramètres - Admin'!$D$3 & \" \" & MINUTE(SUMPRODUCT(AA$5:AA$10,$Z$5:$Z$10)/86400-INT(SUMPRODUCT(AA$5:AA$10,$Z$5:$Z$10)/86400))  &\" \" & 'Paramètres - Admin'!$D$2 & \" \" & SECOND(SUMPRODUCT(AA$5:AA$10,$Z$5:$Z$10)/86400-INT(SUMPRODUCT(AA$5:AA$10,$Z$5:$Z$10)/86400)) &\" \" & 'Paramètres - Admin'!$D$5,MINUTE(SUMPRODUCT(AA$5:AA$10,$Z$5:$Z$10)/86400-INT(SUMPRODUCT(AA$5:AA$10,$Z$5:$Z$10)/86400)) &\" \" & 'Paramètres - Admin'!$D$2 & \" \" & SECOND(SUMPRODUCT(AA$5:AA$10,$Z$5:$Z$10)/86400-INT(SUMPRODUCT(AA$5:AA$10,$Z$5:$Z$10)/86400)) &\" \" & 'Paramètres - Admin'!$D$5))))","v":"0 mins 0 sec"},{"$f":"IF($B$2='Paramètres - Admin'!$B$2,TEXT(SUMPRODUCT(AB$5:AB$10,$Z$5:$Z$10),\"# 0\")&\" \" & 'Paramètres - Admin'!$B$2,IF($B$2='Paramètres - Admin'!$B$3,TEXT(SUMPRODUCT(AB$5:AB$10,$Z$5:$Z$10)/60,\"# 0\")&\" \" & 'Paramètres - Admin'!$B$3,IF($B$2='Paramètres - Admin'!$B$4,TEXT(SUMPRODUCT(AB$5:AB$10,$Z$5:$Z$10)/3600,\"# 0,00\")&\" \" & 'Paramètres - Admin'!$B$4,IF(SUMPRODUCT(AB$5:AB$10,$Z$5:$Z$10)/3600>=1,INT(SUMPRODUCT(AB$5:AB$10,$Z$5:$Z$10)/3600) &\" \" & 'Paramètres - Admin'!$D$3 & \" \" & MINUTE(SUMPRODUCT(AB$5:AB$10,$Z$5:$Z$10)/86400-INT(SUMPRODUCT(AB$5:AB$10,$Z$5:$Z$10)/86400))  &\" \" & 'Paramètres - Admin'!$D$2 & \" \" & SECOND(SUMPRODUCT(AB$5:AB$10,$Z$5:$Z$10)/86400-INT(SUMPRODUCT(AB$5:AB$10,$Z$5:$Z$10)/86400)) &\" \" & 'Paramètres - Admin'!$D$5,MINUTE(SUMPRODUCT(AB$5:AB$10,$Z$5:$Z$10)/86400-INT(SUMPRODUCT(AB$5:AB$10,$Z$5:$Z$10)/86400)) &\" \" & 'Paramètres - Admin'!$D$2 & \" \" & SECOND(SUMPRODUCT(AB$5:AB$10,$Z$5:$Z$10)/86400-INT(SUMPRODUCT(AB$5:AB$10,$Z$5:$Z$10)/86400)) &\" \" & 'Paramètres - Admin'!$D$5))))","v":"0 mins 0 sec"},{"$f":"IF($B$2='Paramètres - Admin'!$B$2,TEXT((SUMPRODUCT(AA$5:AA$10,$Z$5:$Z$10)+SUMPRODUCT(AB$5:AB$10,$Z$5:$Z$10)),\"# 0\")&\" \" & 'Paramètres - Admin'!$B$2,IF($B$2='Paramètres - Admin'!$B$3,TEXT((SUMPRODUCT(AA$5:AA$10,$Z$5:$Z$10)+SUMPRODUCT(AB$5:AB$10,$Z$5:$Z$10))/60,\"# 0\")&\" \" & 'Paramètres - Admin'!$B$3,IF($B$2='Paramètres - Admin'!$B$4,TEXT((SUMPRODUCT(AA$5:AA$10,$Z$5:$Z$10)+SUMPRODUCT(AB$5:AB$10,$Z$5:$Z$10))/3600,\"# 0,00\")&\" \" & 'Paramètres - Admin'!$B$4,IF((SUMPRODUCT(AA$5:AA$10,$Z$5:$Z$10)+SUMPRODUCT(AB$5:AB$10,$Z$5:$Z$10))/3600>=1,INT((SUMPRODUCT(AA$5:AA$10,$Z$5:$Z$10)+SUMPRODUCT(AB$5:AB$10,$Z$5:$Z$10))/3600) &\" \" & 'Paramètres - Admin'!$D$3 & \" \" & MINUTE((SUMPRODUCT(AA$5:AA$10,$Z$5:$Z$10)+SUMPRODUCT(AB$5:AB$10,$Z$5:$Z$10))/86400-INT((SUMPRODUCT(AA$5:AA$10,$Z$5:$Z$10)+SUMPRODUCT(AB$5:AB$10,$Z$5:$Z$10))/86400))  &\" \" & 'Paramètres - Admin'!$D$2 & \" \" & SECOND((SUMPRODUCT(AA$5:AA$10,$Z$5:$Z$10)+SUMPRODUCT(AB$5:AB$10,$Z$5:$Z$10))/86400-INT((SUMPRODUCT(AA$5:AA$10,$Z$5:$Z$10)+SUMPRODUCT(AB$5:AB$10,$Z$5:$Z$10))/86400)) &\" \" & 'Paramètres - Admin'!$D$5,MINUTE((SUMPRODUCT(AA$5:AA$10,$Z$5:$Z$10)+SUMPRODUCT(AB$5:AB$10,$Z$5:$Z$10))/86400-INT((SUMPRODUCT(AA$5:AA$10,$Z$5:$Z$10)+SUMPRODUCT(AB$5:AB$10,$Z$5:$Z$10))/86400)) &\" \" & 'Paramètres - Admin'!$D$2 & \" \" & SECOND((SUMPRODUCT(AA$5:AA$10,$Z$5:$Z$10)+SUMPRODUCT(AB$5:AB$10,$Z$5:$Z$10))/86400-INT((SUMPRODUCT(AA$5:AA$10,$Z$5:$Z$10)+SUMPRODUCT(AB$5:AB$10,$Z$5:$Z$10))/86400)) &\" \" & 'Paramètres - Admin'!$D$5))))","v":"0 mins 0 sec"}]
[null,null,null,null,null,null,null,null,null,"Espace Max",null,null,null,null,{"$f":"VLOOKUP(O$2,TRAINING_Barrack[#All],2)","v":0},{"$f":"VLOOKUP(P$2,TRAINING_Barrack[#All],2)","v":0},{"$f":"VLOOKUP(Q$2,TRAINING_Barrack[#All],2)","v":0},{"$f":"VLOOKUP(R$2,TRAINING_Barrack[#All],2)","v":0},{"$f":"SUM(O15:R15)","v":0}]
[null,null,null,null,null,null,null,null,null,"Espace Total",null,null,null,null,{"$f":"SUMPRODUCT(O$5:O$14,$L$5:$L$14)","v":0},{"$f":"SUMPRODUCT(P$5:P$14,$L$5:$L$14)","v":0},{"$f":"SUMPRODUCT(Q$5:Q$14,$L$5:$L$14)","v":0},{"$f":"SUMPRODUCT(R$5:R$14,$L$5:$L$14)","v":0},{"$f":"SUM(O16:R16)","v":0}]
[null,null,null,null,null,null,null,null,null,"Coût Total",null,null,null,null,{"$f":"SUMPRODUCT(O$5:O$14,$M$5:$M$14)","v":0},{"$f":"SUMPRODUCT(P$5:P$14,$M$5:$M$14)","v":0},{"$f":"SUMPRODUCT(Q$5:Q$14,$M$5:$M$14)","v":0},{"$f":"SUMPRODUCT(R$5:R$14,$M$5:$M$14)","v":0},{"$f":"SUM(O17:R17)","v":0},null,"Coût Total"]
[null,null,null,null,null,null,null,null,null,"Temps Total",null,null,null,null,{"$f":"IF($B$2='Paramètres - Admin'!$B$2,TEXT(SUMPRODUCT(O$5:O$14,$N$5:$N$14),\"# 0\")&\" \" & 'Paramètres - Admin'!$B$2,IF($B$2='Paramètres - Admin'!$B$3,TEXT(SUMPRODUCT(O$5:O$14,$N$5:$N$14)/60,\"# 0\")&\" \" & 'Paramètres - Admin'!$B$3,IF($B$2='Paramètres - Admin'!$B$4,TEXT(SUMPRODUCT(O$5:O$14,$N$5:$N$14)/3600,\"# 0,00\")&\" \" & 'Paramètres - Admin'!$B$4,IF(SUMPRODUCT(O$5:O$14,$N$5:$N$14)/3600>=1,INT(SUMPRODUCT(O$5:O$14,$N$5:$N$14)/3600) &\" \" & 'Paramètres - Admin'!$D$3 & \" \" & MINUTE(SUMPRODUCT(O$5:O$14,$N$5:$N$14)/86400-INT(SUMPRODUCT(O$5:O$14,$N$5:$N$14)/86400))  &\" \" & 'Paramètres - Admin'!$D$2 & \" \" & SECOND(SUMPRODUCT(O$5:O$14,$N$5:$N$14)/86400-INT(SUMPRODUCT(O$5:O$14,$N$5:$N$14)/86400)) &\" \" & 'Paramètres - Admin'!$D$5,MINUTE(SUMPRODUCT(O$5:O$14,$N$5:$N$14)/86400-INT(SUMPRODUCT(O$5:O$14,$N$5:$N$14)/86400)) &\" \" & 'Paramètres - Admin'!$D$2 & \" \" & SECOND(SUMPRODUCT(O$5:O$14,$N$5:$N$14)/86400-INT(SUMPRODUCT(O$5:O$14,$N$5:$N$14)/86400)) &\" \" & 'Paramètres - Admin'!$D$5))))","v":"0 mins 0 sec"},{"$f":"IF($B$2='Paramètres - Admin'!$B$2,TEXT(SUMPRODUCT(P$5:P$14,$N$5:$N$14),\"# 0\")&\" \" & 'Paramètres - Admin'!$B$2,IF($B$2='Paramètres - Admin'!$B$3,TEXT(SUMPRODUCT(P$5:P$14,$N$5:$N$14)/60,\"# 0\")&\" \" & 'Paramètres - Admin'!$B$3,IF($B$2='Paramètres - Admin'!$B$4,TEXT(SUMPRODUCT(P$5:P$14,$N$5:$N$14)/3600,\"# 0,00\")&\" \" & 'Paramètres - Admin'!$B$4,IF(SUMPRODUCT(P$5:P$14,$N$5:$N$14)/3600>=1,INT(SUMPRODUCT(P$5:P$14,$N$5:$N$14)/3600) &\" \" & 'Paramètres - Admin'!$D$3 & \" \" & MINUTE(SUMPRODUCT(P$5:P$14,$N$5:$N$14)/86400-INT(SUMPRODUCT(P$5:P$14,$N$5:$N$14)/86400))  &\" \" & 'Paramètres - Admin'!$D$2 & \" \" & SECOND(SUMPRODUCT(P$5:P$14,$N$5:$N$14)/86400-INT(SUMPRODUCT(P$5:P$14,$N$5:$N$14)/86400)) &\" \" & 'Paramètres - Admin'!$D$5,MINUTE(SUMPRODUCT(P$5:P$14,$N$5:$N$14)/86400-INT(SUMPRODUCT(P$5:P$14,$N$5:$N$14)/86400)) &\" \" & 'Paramètres - Admin'!$D$2 & \" \" & SECOND(SUMPRODUCT(P$5:P$14,$N$5:$N$14)/86400-INT(SUMPRODUCT(P$5:P$14,$N$5:$N$14)/86400)) &\" \" & 'Paramètres - Admin'!$D$5))))","v":"0 mins 0 sec"},{"$f":"IF($B$2='Paramètres - Admin'!$B$2,TEXT(SUMPRODUCT(Q$5:Q$14,$N$5:$N$14),\"# 0\")&\" \" & 'Paramètres - Admin'!$B$2,IF($B$2='Paramètres - Admin'!$B$3,TEXT(SUMPRODUCT(Q$5:Q$14,$N$5:$N$14)/60,\"# 0\")&\" \" & 'Paramètres - Admin'!$B$3,IF($B$2='Paramètres - Admin'!$B$4,TEXT(SUMPRODUCT(Q$5:Q$14,$N$5:$N$14)/3600,\"# 0,00\")&\" \" & 'Paramètres - Admin'!$B$4,IF(SUMPRODUCT(Q$5:Q$14,$N$5:$N$14)/3600>=1,INT(SUMPRODUCT(Q$5:Q$14,$N$5:$N$14)/3600) &\" \" & 'Paramètres - Admin'!$D$3 & \" \" & MINUTE(SUMPRODUCT(Q$5:Q$14,$N$5:$N$14)/86400-INT(SUMPRODUCT(Q$5:Q$14,$N$5:$N$14)/86400))  &\" \" & 'Paramètres - Admin'!$D$2 & \" \" & SECOND(SUMPRODUCT(Q$5:Q$14,$N$5:$N$14)/86400-INT(SUMPRODUCT(Q$5:Q$14,$N$5:$N$14)/86400)) &\" \" & 'Paramètres - Admin'!$D$5,MINUTE(SUMPRODUCT(Q$5:Q$14,$N$5:$N$14)/86400-INT(SUMPRODUCT(Q$5:Q$14,$N$5:$N$14)/86400)) &\" \" & 'Paramètres - Admin'!$D$2 & \" \" & SECOND(SUMPRODUCT(Q$5:Q$14,$N$5:$N$14)/86400-INT(SUMPRODUCT(Q$5:Q$14,$N$5:$N$14)/86400)) &\" \" & 'Paramètres - Admin'!$D$5))))","v":"0 mins 0 sec"},{"$f":"IF($B$2='Paramètres - Admin'!$B$2,TEXT(SUMPRODUCT(R$5:R$14,$N$5:$N$14),\"# 0\")&\" \" & 'Paramètres - Admin'!$B$2,IF($B$2='Paramètres - Admin'!$B$3,TEXT(SUMPRODUCT(R$5:R$14,$N$5:$N$14)/60,\"# 0\")&\" \" & 'Paramètres - Admin'!$B$3,IF($B$2='Paramètres - Admin'!$B$4,TEXT(SUMPRODUCT(R$5:R$14,$N$5:$N$14)/3600,\"# 0,00\")&\" \" & 'Paramètres - Admin'!$B$4,IF(SUMPRODUCT(R$5:R$14,$N$5:$N$14)/3600>=1,INT(SUMPRODUCT(R$5:R$14,$N$5:$N$14)/3600) &\" \" & 'Paramètres - Admin'!$D$3 & \" \" & MINUTE(SUMPRODUCT(R$5:R$14,$N$5:$N$14)/86400-INT(SUMPRODUCT(R$5:R$14,$N$5:$N$14)/86400))  &\" \" & 'Paramètres - Admin'!$D$2 & \" \" & SECOND(SUMPRODUCT(R$5:R$14,$N$5:$N$14)/86400-INT(SUMPRODUCT(R$5:R$14,$N$5:$N$14)/86400)) &\" \" & 'Paramètres - Admin'!$D$5,MINUTE(SUMPRODUCT(R$5:R$14,$N$5:$N$14)/86400-INT(SUMPRODUCT(R$5:R$14,$N$5:$N$14)/86400)) &\" \" & 'Paramètres - Admin'!$D$2 & \" \" & SECOND(SUMPRODUCT(R$5:R$14,$N$5:$N$14)/86400-INT(SUMPRODUCT(R$5:R$14,$N$5:$N$14)/86400)) &\" \" & 'Paramètres - Admin'!$D$5))))","v":"0 mins 0 sec"},{"$f":"IF($B$2='Paramètres - Admin'!$B$2,TEXT((SUMPRODUCT(O$5:O$14,$N$5:$N$14)+SUMPRODUCT(P$5:P$14,$N$5:$N$14)+SUMPRODUCT(Q$5:Q$14,$N$5:$N$14)+SUMPRODUCT(R$5:R$14,$N$5:$N$14)),\"# 0\")&\" \" & 'Paramètres - Admin'!$B$2,IF($B$2='Paramètres - Admin'!$B$3,TEXT((SUMPRODUCT(O$5:O$14,$N$5:$N$14)+SUMPRODUCT(P$5:P$14,$N$5:$N$14)+SUMPRODUCT(Q$5:Q$14,$N$5:$N$14)+SUMPRODUCT(R$5:R$14,$N$5:$N$14))/60,\"# 0\")&\" \" & 'Paramètres - Admin'!$B$3,IF($B$2='Paramètres - Admin'!$B$4,TEXT((SUMPRODUCT(O$5:O$14,$N$5:$N$14)+SUMPRODUCT(P$5:P$14,$N$5:$N$14)+SUMPRODUCT(Q$5:Q$14,$N$5:$N$14)+SUMPRODUCT(R$5:R$14,$N$5:$N$14))/3600,\"# 0,00\")&\" \" & 'Paramètres - Admin'!$B$4,IF((SUMPRODUCT(O$5:O$14,$N$5:$N$14)+SUMPRODUCT(P$5:P$14,$N$5:$N$14)+SUMPRODUCT(Q$5:Q$14,$N$5:$N$14)+SUMPRODUCT(R$5:R$14,$N$5:$N$14))/3600>=1,INT((SUMPRODUCT(O$5:O$14,$N$5:$N$14)+SUMPRODUCT(P$5:P$14,$N$5:$N$14)+SUMPRODUCT(Q$5:Q$14,$N$5:$N$14)+SUMPRODUCT(R$5:R$14,$N$5:$N$14))/3600) &\" \" & 'Paramètres - Admin'!$D$3 & \" \" & MINUTE((SUMPRODUCT(O$5:O$14,$N$5:$N$14)+SUMPRODUCT(P$5:P$14,$N$5:$N$14)+SUMPRODUCT(Q$5:Q$14,$N$5:$N$14)+SUMPRODUCT(R$5:R$14,$N$5:$N$14))/86400-INT((SUMPRODUCT(O$5:O$14,$N$5:$N$14)+SUMPRODUCT(P$5:P$14,$N$5:$N$14)+SUMPRODUCT(Q$5:Q$14,$N$5:$N$14)+SUMPRODUCT(R$5:R$14,$N$5:$N$14))/86400))  &\" \" & 'Paramètres - Admin'!$D$2 & \" \" & SECOND((SUMPRODUCT(O$5:O$14,$N$5:$N$14)+SUMPRODUCT(P$5:P$14,$N$5:$N$14)+SUMPRODUCT(Q$5:Q$14,$N$5:$N$14)+SUMPRODUCT(R$5:R$14,$N$5:$N$14))/86400-INT((SUMPRODUCT(O$5:O$14,$N$5:$N$14)+SUMPRODUCT(P$5:P$14,$N$5:$N$14)+SUMPRODUCT(Q$5:Q$14,$N$5:$N$14)+SUMPRODUCT(R$5:R$14,$N$5:$N$14))/86400)) &\" \" & 'Paramètres - Admin'!$D$5,MINUTE((SUMPRODUCT(O$5:O$14,$N$5:$N$14)+SUMPRODUCT(P$5:P$14,$N$5:$N$14)+SUMPRODUCT(Q$5:Q$14,$N$5:$N$14)+SUMPRODUCT(R$5:R$14,$N$5:$N$14))/86400-INT((SUMPRODUCT(O$5:O$14,$N$5:$N$14)+SUMPRODUCT(P$5:P$14,$N$5:$N$14)+SUMPRODUCT(Q$5:Q$14,$N$5:$N$14)+SUMPRODUCT(R$5:R$14,$N$5:$N$14))/86400)) &\" \" & 'Paramètres - Admin'!$D$2 & \" \" & SECOND((SUMPRODUCT(O$5:O$14,$N$5:$N$14)+SUMPRODUCT(P$5:P$14,$N$5:$N$14)+SUMPRODUCT(Q$5:Q$14,$N$5:$N$14)+SUMPRODUCT(R$5:R$14,$N$5:$N$14))/86400-INT((SUMPRODUCT(O$5:O$14,$N$5:$N$14)+SUMPRODUCT(P$5:P$14,$N$5:$N$14)+SUMPRODUCT(Q$5:Q$14,$N$5:$N$14)+SUMPRODUCT(R$5:R$14,$N$5:$N$14))/86400)) &\" \" & 'Paramètres - Admin'!$D$5))))","v":"0 mins 0 sec"},null,{"$f":"S17+G12","v":0}]
["Combat - Gains"]
["Type","Montant",null,null,null,null,null,null,null,"Cellule rouge :","Troupe/Sort non disponible",null,null,null,null,null,"Camp Militaire\nCapacité Totale",{"$f":"SUMPRODUCT(Paramètres!J6:J13,'Coûts de Formation'!AF31:AF38)","v":240}]
["Or"]
["Élixir"]
["Élixir Noir",null,null,null,null,null,null,null,null,"Colonne orange :","Erreur - Caserne\nMax. total atteint"]
[]
["Combat - Profits"]
["Type","Montant",null,null,null,null,null,null,null,"Cellule marron :","Caserne non disponible\n(ou pas de Laboratoire)",null,null,null,null,null,"Ligne jaune :","Erreur - Camp Militaire\nMax. total atteint"]
["Or",{"$f":"B21","v":0}]
["Élixir",{"$f":"B22-S17-G12","v":0}]
["Élixir Noir",{"$f":"B23-AC13","v":0}]

{"sheet":"Bâtiments","index":6,"n_rows":58,"n_cols":70,"rows_kept":58,"cut":false,"hidden":true,"merged":[[30,55,30,67],[0,0,0,12],[0,14,0,26],[30,36,30,54],[45,6,45,10],[45,0,45,4],[15,0,15,10],[15,12,15,22],[30,21,30,33],[30,0,30,20]]}
["Bâtiments de Ressources (Disponibles et LVL Max)",null,null,null,null,null,null,null,null,null,null,null,null,null,"Bâtiments de Ressources (Changements)"]
["LVL HdV","Mine d'Or","LVL Max","Extracteur d'Élixir","LVL Max2","Foreuse d'Élixir Noir","LVL Max3","Réserve d'Or","LVL Max4","Réservoir d'Élixir","LVL Max5","Réservoir d'Élixir Noir","LVL Max6",null,"LVL HdV","Mine d'Or","LVL Max","Extracteur d'Élixir","LVL Max2","Foreuse d'Élixir Noir","LVL Max3","Réserve d'Or","LVL Max4","Réservoir d'Élixir","LVL Max5","Réservoir d'Élixir Noir","LVL Max6"]
[0,0,0,0,0,0,0,0,0,0,0,0,0,null,0,{"$f":"B3","v":0},0,0,0,0,0,0,0,0,0,0,0]
[1,1,2,1,2,0,0,1,1,1,1,0,0,null,1,{"$f":"B4-B3","v":1},{"$f":"C4-C3","v":2},{"$f":"D4-D3","v":1},{"$f":"E4-E3","v":2},{"$f":"F4-F3","v":0},{"$f":"G4-G3","v":0},{"$f":"H4-H3","v":1},{"$f":"I4-I3","v":1},{"$f":"J4-J3","v":1},{"$f":"K4-K3","v":1},{"$f":"L4-L3","v":0},{"$f":"M4-M3","v":0}]
[2,2,4,2,4,0,0,1,3,1,3,0,0,null,2,1,2,1,2,0,0,0,2,0,2,0,0]
[3,3,6,3,6,0,0,2,6,2,6,0,0,null,3,1,2,1,2,0,0,1,3,1,3,0,0]
[4,4,8,4,8,0,0,2,8,2,8,0,0,null,4,1,2,1,2,0,0,0,2,0,2,0,0]
[5,5,10,5,10,0,0,2,9,2,9,0,0,null,5,1,2,1,{"$f":"E8-E7","v":2},0,0,0,1,0,1,0,0]
[6,6,10,6,10,0,0,2,10,2,10,0,0,null,6,1,0,1,0,0,0,0,1,0,1,0,0]
[7,6,11,6,11,1,3,2,11,2,11,1,2,null,7,0,1,0,1,1,3,0,1,0,1,1,2]
[8,6,12,6,12,2,3,3,11,3,11,1,4,null,8,0,1,0,1,1,0,1,0,1,0,0,2]
[9,6,12,6,12,2,6,4,11,4,11,1,6,null,9,0,0,0,0,0,3,1,0,1,0,0,2]
[10,7,12,7,12,3,6,4,11,4,11,1,6,null,10,1,0,1,0,1,0,0,0,0,0,0,0]
[]
[]
["Bâtiments d'Armée (Disponibles et LVL Max)",null,null,null,null,null,null,null,null,null,null,null,"Bâtiments d'Armée (Changements)"]
["LVL HdV","Caserne","LVL Max","Caserne Noire","LVL Max2","Camp Militaire","LVL Max3","Laboratoire","LVL Max4","Usine de Sorts","LVL Max5",null,"LVL HdV","Caserne","LVL Max","Caserne Noire","LVL Max2","Camp Militaire","LVL Max3","Laboratoire","LVL Max4","Usine de Sorts","LVL Max5"]
[0,0,0,0,0,0,0,0,0,0,0,null,0,{"$f":"B18","v":0},0,0,0,0,0,0,0,0,0]
[1,1,3,0,0,1,1,0,0,0,0,null,1,{"$f":"B19-B18","v":1},{"$f":"C19-C18","v":3},{"$f":"D19-D18","v":0},{"$f":"E19-E18","v":0},{"$f":"F19-F18","v":1},{"$f":"G19-G18","v":1},{"$f":"H19-H18","v":0},{"$f":"I19-I18","v":0},{"$f":"J19-J18","v":0},{"$f":"K19-K18","v":0}]
[2,2,4,0,0,1,2,0,0,0,0,null,2,1,1,0,0,0,1,0,0,0,0]
[3,2,5,0,0,2,3,1,1,0,0,null,3,0,1,0,0,1,1,1,1,0,0]
[4,3,6,0,0,2,4,1,2,0,0,null,4,1,1,0,0,0,1,0,1,0,0]
[5,3,7,0,0,3,5,1,3,1,1,null,5,0,1,0,0,1,1,0,1,1,1]
[6,3,8,0,0,3,6,1,4,1,2,null,6,0,1,0,0,0,1,0,1,0,1]
[7,4,9,1,2,4,6,1,5,1,3,null,7,1,1,1,2,1,0,0,1,0,1]
[8,4,10,2,4,4,6,1,6,1,3,null,8,0,1,1,2,0,0,0,1,0,0]
[9,4,10,2,6,4,7,1,7,1,4,null,9,0,0,0,2,0,1,0,1,0,1]
[10,4,10,2,6,4,8,1,8,1,5,null,10,0,0,0,0,0,1,0,1,0,1]
[]
[]
["Bâtiments de Défense (Disponibles et LVL Max)",null,null,null,null,null,null,null,null,null,null,null,null,null,null,null,null,null,null,null,null,"Pièges (Disponibles)",null,null,null,null,null,null,null,null,null,null,null,null,null,null,"Bâtiments de Défense (Changements)",null,null,null,null,null,null,null,null,null,null,null,null,null,null,null,null,null,null,"Pièges (Changements)"]
["LVL HdV","Rempart","LVL Max","Canon","LVL Max2","Tour d'Archers","LVL Max3","Mortier","LVL Max4","Défense Antiaérienne","LVL Max5","Tour de Sorciers","LVL Max6","Propulseur d'air","LVL Max62","Tesla Camouflée","LVL Max7","Arc-X","LVL Max8","Tour de l'Enfer","LVL Max9","LVL HdV","Bombe","LVL Max33","Piège à ressort","LVL Max35","Bombe géante","LVL Max37","Bombe aérienne","LVL Max39","Tête chercheuse","LVL Max41","Piège squelettique","LVL Max43",null,null,"LVL HdV","Rempart","LVL Max","Canon","LVL Max2","Tour d'Archers","LVL Max3","Mortier","LVL Max43","Défense Antiaérienne","LVL Max55","Tour de Sorciers","LVL Max6","Propulsion d'air","LVL Max6.","Tesla Camouflée","LVL Max7","Arc-X","LVL Max8","Tour de l'Enfer","LVL Max4","LVL HdV","Bombe","LVL Max","Piège à ressort","LVL Max2","Bombe géante","LVL Max3","Bombe aérienne","LVL Max32","Tête chercheuse","LVL Max4","Piège squelettique","LVL Max5"]
[0,0,0,0,0,0,0,0,0,0,0,0,0,0,0,0,0,0,0,0,0,0,0,0,0,0,0,0,0,0,0,0,0,0,null,null,0,{"$f":"B33","v":0},0,0,0,0,0,{"$f":"P33","v":0},{"$f":"Q33","v":0},{"$f":"R33","v":0},{"$f":"S33","v":0},{"$f":"L33","v":0},{"$f":"M33","v":0},{"$f":"N33","v":0},{"$f":"O33","v":0},{"$f":"P33","v":0},0,0,0,0,0,0,{"$f":"W33","v":0},0,0,0,0,0,{"$f":"AC33","v":0},0,0,0,0,0]
[1,0,0,2,2,0,0,0,0,0,0,0,0,0,0,0,0,0,0,0,0,1,0,0,0,0,0,0,0,0,0,0,0,0,null,null,1,{"$f":"B34-B33","v":0},{"$f":"C34-C33","v":0},{"$f":"D34-D33","v":2},{"$f":"E34-E33","v":2},{"$f":"F34-F33","v":0},{"$f":"G34-G33","v":0},{"$f":"P34-P33","v":0},{"$f":"Q34-Q33","v":0},{"$f":"R34-R33","v":0},{"$f":"S34-S33","v":0},{"$f":"L34-L33","v":0},{"$f":"M34-M33","v":0},{"$f":"N34-N33","v":0},{"$f":"O34-O33","v":0},{"$f":"P34-P33","v":0},{"$f":"Q34-Q33","v":0},{"$f":"R34-R33","v":0},{"$f":"S34-S33","v":0},{"$f":"T34-T33","v":0},{"$f":"U34-U33","v":0},1,{"$f":"W34-W33","v":0},{"$f":"X34-X33","v":0},{"$f":"Y34-Y33","v":0},{"$f":"Z34-Z33","v":0},{"$f":"AA34-AA33","v":0},{"$f":"AB34-AB33","v":0},{"$f":"AC34-AC33","v":0},0,0,0,0,0]
[2,25,2,2,3,1,2,0,0,0,0,0,0,0,0,0,0,0,0,0,0,2,0,0,0,0,0,0,0,0,0,0,0,0,null,null,2,25,2,0,1,1,2,0,0,0,0,0,0,0,0,0,0,0,0,0,0,2,0,0,0,0,0,0,{"$f":"AC35-AC34","v":0},{"$f":"AD35-AD34","v":0},{"$f":"AE35-AE34","v":0},{"$f":"AF35-AF34","v":0},{"$f":"AG35-AG34","v":0},{"$f":"AH35-AH34","v":0}]
[3,50,3,2,4,1,3,1,1,0,0,0,0,0,0,0,0,0,0,0,0,3,2,2,0,0,0,0,0,0,0,0,0,0,null,null,3,25,1,0,1,0,1,0,0,0,0,0,0,0,0,0,0,0,0,0,0,3,2,2,0,0,0,0,0,0,0,0,0,0]
[4,75,4,2,5,2,4,1,2,1,2,0,0,0,0,0,0,0,0,0,0,4,2,2,2,1,0,0,0,0,0,0,0,0,null,null,4,25,1,0,1,1,1,0,0,0,0,0,0,0,0,0,0,0,0,0,0,4,0,0,2,1,0,0,0,0,0,0,0,0]
[5,100,5,3,6,3,6,1,3,1,3,1,2,0,0,0,0,0,0,0,0,5,4,3,2,1,0,0,2,2,0,0,0,0,null,null,5,25,1,1,1,1,2,0,0,0,0,1,2,0,0,0,0,0,0,0,0,5,2,1,0,0,0,0,2,2,0,0,0,0]
[6,125,6,3,7,3,7,2,4,1,4,2,3,1,2,0,0,0,0,0,0,6,4,3,4,1,1,2,2,2,0,0,0,0,null,null,6,25,1,0,1,0,1,0,0,0,0,1,1,1,2,0,0,0,0,0,0,6,0,0,2,0,1,2,0,0,0,0,0,0]
[7,175,7,5,8,4,8,3,5,2,5,2,4,1,3,2,3,0,0,0,0,7,6,4,4,1,2,2,2,3,1,1,0,0,null,null,7,50,1,2,1,1,1,2,3,0,0,0,1,0,1,2,3,0,0,0,0,7,2,1,0,0,1,0,0,1,1,1,0,0]
[8,225,8,5,10,5,10,4,6,3,6,3,6,1,4,3,6,0,0,0,0,8,6,5,6,1,3,3,4,3,2,1,2,2,null,null,8,50,1,0,2,1,2,1,3,0,0,1,2,0,1,1,3,0,0,0,0,8,0,1,2,0,1,1,2,0,1,0,2,2]
[9,250,10,5,11,6,11,4,7,4,7,4,7,1,5,4,7,2,3,0,0,9,6,6,6,1,4,3,4,4,4,2,2,3,null,null,9,25,2,0,1,1,1,1,1,2,3,1,1,0,1,1,1,2,3,0,0,9,0,1,0,0,1,0,0,1,2,1,0,1]
[10,250,11,6,13,7,13,4,8,4,8,4,8,1,6,4,8,3,4,2,3,10,6,6,6,1,5,4,5,4,5,3,3,3,null,null,10,0,1,1,2,1,2,0,1,1,1,0,1,0,1,0,1,1,1,2,3,10,0,0,0,0,1,1,1,0,1,1,1,0]
[]
[]
["Bâtiments Autres (Disponibles et LVL Max)",null,null,null,null,null,"Bâtiments Autres (Changements)"]
["LVL HdV","Château de Clan","LVL Max","Hôtel de Ville","LVL Max2",null,"LVL HdV","Château de Clan","LVL Max","Hôtel de Ville","LVL Max2"]
[0,0,0,0,0,null,0,{"$f":"B48","v":0},{"$f":"C48","v":0},{"$f":"D48","v":0},{"$f":"E48","v":0}]
[1,0,0,1,2,null,1,{"$f":"B49-B48","v":0},{"$f":"C49-C48","v":0},{"$f":"D49-D48","v":1},{"$f":"E49-E48","v":2}]
[2,0,0,1,3,null,2,0,0,0,1]
[3,1,1,1,4,null,3,1,1,0,1]
[4,1,2,1,5,null,4,0,1,0,1]
[5,1,2,1,6,null,5,0,0,0,1]
[6,1,3,1,7,null,6,0,1,0,1]
[7,1,3,1,8,null,7,0,0,0,1]
[8,1,4,1,9,null,8,0,1,0,1]
[9,1,5,1,10,null,9,0,1,0,1]
[10,1,6,1,10,null,10,0,1,0,0]

{"sheet":"Paramètres","index":7,"n_rows":89,"n_cols":59,"rows_kept":89,"cut":false,"hidden":false,"merged":[[0,0,1,0],[0,1,0,6],[0,7,0,11],[0,28,0,29],[0,12,0,21],[0,22,0,27],[25,56,33,57],[0,36,0,45],[0,53,0,54],[17,56,24,57],[0,31,0,35],[13,56,15,56],[13,57,15,57],[5,56,7,56],[5,57,7,57],[9,56,11,56],[9,57,11,57],[0,46,0,51]]}
["+","Bâtiments de Ressources",null,null,null,null,null,"Bâtiments d'Armée",null,null,null,null,"Bâtiments Défensifs",null,null,null,null,null,null,null,null,null,"Pièges Défensifs",null,null,null,null,null,"Bâtiments Autres",null,null,"Améliorations de Sorts",null,null,null,null,"Améliorations de Troupes",null,null,null,null,null,null,null,null,null,"Améliorations de Troupes Noires",null,null,null,null,null,null,"Héros",null,null,"LVL HdV","Ouvriers","Langue"]
[null,"Mine d'Or","Extracteur d'Élixir","Foreuse d'Élixir Noir","Réserve d'Or","Réservoir d'Élixir","Réservoir d'Élixir Noir","Caserne","Caserne Noire","Camp Militaire","Laboratoire","Usine de Sorts","Rempart","Canon","Tour d'Archers","Mortier","Défense Antiaérienne","Tour de Sorciers","Propulseur d'air","Tesla Camouflée","Arc-X","Tour de l'Enfer","Bombe","Piège à ressort","Bombe géante","Bombe aérienne","Tête chercheuse","Piège squelettique","Château de Clan","Hôtel de Ville","a","Sort de Foudre","Sort de Guérison","Sort de Rage","Sort de Saut","Sort de Gel","Barbare","Archer","Gobelin","Géant","Sapeur","Ballon","Sorcier","Guérisseuse","Dragon","P.E.K.K.A","Serviteur","Chevaucheur de Cochon","Valkyrie","Golem","Sorcière","Molosse de lave","a","Roi des Barbares","Reine des Archers",null,10,5,"Français"]
["Max",{"$f":"VLOOKUP($BE$2,AVAILABLE_Buildings_Resource[#All],MATCH(B$2,AVAILABLE_Buildings_Resource[#Headers],0))","v":7},{"$f":"VLOOKUP($BE$2,AVAILABLE_Buildings_Resource[#All],MATCH(C$2,AVAILABLE_Buildings_Resource[#Headers],0))","v":7},{"$f":"VLOOKUP($BE$2,AVAILABLE_Buildings_Resource[#All],MATCH(D$2,AVAILABLE_Buildings_Resource[#Headers],0))","v":3},{"$f":"VLOOKUP($BE$2,AVAILABLE_Buildings_Resource[#All],MATCH(E$2,AVAILABLE_Buildings_Resource[#Headers],0))","v":4},{"$f":"VLOOKUP($BE$2,AVAILABLE_Buildings_Resource[#All],MATCH(F$2,AVAILABLE_Buildings_Resource[#Headers],0))","v":4},{"$f":"VLOOKUP($BE$2,AVAILABLE_Buildings_Resource[#All],MATCH(G$2,AVAILABLE_Buildings_Resource[#Headers],0))","v":1},{"$f":"VLOOKUP($BE$2,AVAILABLE_Buildings_Army[#All],MATCH(H$2,AVAILABLE_Buildings_Army[#Headers],0))","v":4},{"$f":"VLOOKUP($BE$2,AVAILABLE_Buildings_Army[#All],MATCH(I$2,AVAILABLE_Buildings_Army[#Headers],0))","v":2},{"$f":"VLOOKUP($BE$2,AVAILABLE_Buildings_Army[#All],MATCH(J$2,AVAILABLE_Buildings_Army[#Headers],0))","v":4},{"$f":"VLOOKUP($BE$2,AVAILABLE_Buildings_Army[#All],MATCH(K$2,AVAILABLE_Buildings_Army[#Headers],0))","v":1},{"$f":"VLOOKUP($BE$2,AVAILABLE_Buildings_Army[#All],MATCH(L$2,AVAILABLE_Buildings_Army[#Headers],0))","v":1},{"$f":"VLOOKUP($BE$2,AVAILABLE_Buildings_Defensive[#All],MATCH(M$2,AVAILABLE_Buildings_Defensive[#Headers],0))","v":250},{"$f":"VLOOKUP($BE$2,AVAILABLE_Buildings_Defensive[#All],MATCH(N$2,AVAILABLE_Buildings_Defensive[#Headers],0))","v":6},{"$f":"VLOOKUP($BE$2,AVAILABLE_Buildings_Defensive[#All],MATCH(O$2,AVAILABLE_Buildings_Defensive[#Headers],0))","v":7},{"$f":"VLOOKUP($BE$2,AVAILABLE_Buildings_Defensive[#All],MATCH(P$2,AVAILABLE_Buildings_Defensive[#Headers],0))","v":4},{"$f":"VLOOKUP($BE$2,AVAILABLE_Buildings_Defensive[#All],MATCH(Q$2,AVAILABLE_Buildings_Defensive[#Headers],0))","v":4},{"$f":"VLOOKUP($BE$2,AVAILABLE_Buildings_Defensive[#All],MATCH(R$2,AVAILABLE_Buildings_Defensive[#Headers],0))","v":4},{"$f":"VLOOKUP($BE$2,AVAILABLE_Buildings_Defensive[#All],MATCH(S$2,AVAILABLE_Buildings_Defensive[#Headers],0))","v":1},{"$f":"VLOOKUP($BE$2,AVAILABLE_Buildings_Defensive[#All],MATCH(T$2,AVAILABLE_Buildings_Defensive[#Headers],0))","v":4},{"$f":"VLOOKUP($BE$2,AVAILABLE_Buildings_Defensive[#All],MATCH(U$2,AVAILABLE_Buildings_Defensive[#Headers],0))","v":3},{"$f":"VLOOKUP($BE$2,AVAILABLE_Buildings_Defensive[#All],MATCH(V$2,AVAILABLE_Buildings_Defensive[#Headers],0))","v":2},{"$f":"VLOOKUP($BE$2,AVAILABLE_Traps[#All],MATCH(W$2,AVAILABLE_Traps[#Headers],0))","v":6},{"$f":"VLOOKUP($BE$2,AVAILABLE_Traps[#All],MATCH(X$2,AVAILABLE_Traps[#Headers],0))","v":6},{"$f":"VLOOKUP($BE$2,AVAILABLE_Traps[#All],MATCH(Y$2,AVAILABLE_Traps[#Headers],0))","v":5},{"$f":"VLOOKUP($BE$2,AVAILABLE_Traps[#All],MATCH(Z$2,AVAILABLE_Traps[#Headers],0))","v":5},{"$f":"VLOOKUP($BE$2,AVAILABLE_Traps[#All],MATCH(AA$2,AVAILABLE_Traps[#Headers],0))","v":5},{"$f":"VLOOKUP($BE$2,AVAILABLE_Traps[#All],MATCH(AB$2,AVAILABLE_Traps[#Headers],0))","v":3},{"$f":"VLOOKUP($BE$2,AVAILABLE_Buildings_Other[#All],MATCH(AC$2,AVAILABLE_Buildings_Other[#Headers],0))","v":1},{"$f":"VLOOKUP($BE$2,AVAILABLE_Buildings_Other[#All],MATCH(AD$2,AVAILABLE_Buildings_Other[#Headers],0))","v":1},null,{"$f":"IF(IF(ISERROR(LOOKUP(MATCH(4,Paramètres!$L$6:$L$45,1),Paramètres!$A$6:$A$45)),0,LOOKUP(MATCH(4,Paramètres!$L$6:$L$45,1),Paramètres!$A$6:$A$45))>=1,1,0)","v":1},{"$f":"IF(IF(ISERROR(LOOKUP(MATCH(4,Paramètres!$L$6:$L$45,1),Paramètres!$A$6:$A$45)),0,LOOKUP(MATCH(4,Paramètres!$L$6:$L$45,1),Paramètres!$A$6:$A$45))>=2,1,0)","v":1},{"$f":"IF(IF(ISERROR(LOOKUP(MATCH(4,Paramètres!$L$6:$L$45,1),Paramètres!$A$6:$A$45)),0,LOOKUP(MATCH(4,Paramètres!$L$6:$L$45,1),Paramètres!$A$6:$A$45))>=3,1,0)","v":1},{"$f":"IF(IF(ISERROR(LOOKUP(MATCH(4,Paramètres!$L$6:$L$45,1),Paramètres!$A$6:$A$45)),0,LOOKUP(MATCH(4,Paramètres!$L$6:$L$45,1),Paramètres!$A$6:$A$45))>=4,1,0)","v":1},{"$f":"IF(IF(ISERROR(LOOKUP(MATCH(4,Paramètres!$L$6:$L$45,1),Paramètres!$A$6:$A$45)),0,LOOKUP(MATCH(4,Paramètres!$L$6:$L$45,1),Paramètres!$A$6:$A$45))>=5,1,0)","v":1},{"$f":"IF(IF(ISERROR(LOOKUP(MATCH(4,Paramètres!$H$6:$H$45,1),Paramètres!$A$6:$A$45)),0,LOOKUP(MATCH(4,Paramètres!$H$6:$H$45,1),Paramètres!$A$6:$A$45))>=1,1,0)","v":1},{"$f":"IF(IF(ISERROR(LOOKUP(MATCH(4,Paramètres!$H$6:$H$45,1),Paramètres!$A$6:$A$45)),0,LOOKUP(MATCH(4,Paramètres!$H$6:$H$45,1),Paramètres!$A$6:$A$45))>=2,1,0)","v":1},{"$f":"IF(IF(ISERROR(LOOKUP(MATCH(4,Paramètres!$H$6:$H$45,1),Paramètres!$A$6:$A$45)),0,LOOKUP(MATCH(4,Paramètres!$H$6:$H$45,1),Paramètres!$A$6:$A$45))>=3,1,0)","v":1},{"$f":"IF(IF(ISERROR(LOOKUP(MATCH(4,Paramètres!$H$6:$H$45,1),Paramètres!$A$6:$A$45)),0,LOOKUP(MATCH(4,Paramètres!$H$6:$H$45,1),Paramètres!$A$6:$A$45))>=4,1,0)","v":1},{"$f":"IF(IF(ISERROR(LOOKUP(MATCH(4,Paramètres!$H$6:$H$45,1),Paramètres!$A$6:$A$45)),0,LOOKUP(MATCH(4,Paramètres!$H$6:$H$45,1),Paramètres!$A$6:$A$45))>=5,1,0)","v":1},{"$f":"IF(IF(ISERROR(LOOKUP(MATCH(4,Paramètres!$H$6:$H$45,1),Paramètres!$A$6:$A$45)),0,LOOKUP(MATCH(4,Paramètres!$H$6:$H$45,1),Paramètres!$A$6:$A$45))>=6,1,0)","v":1},{"$f":"IF(IF(ISERROR(LOOKUP(MATCH(4,Paramètres!$H$6:$H$45,1),Paramètres!$A$6:$A$45)),0,LOOKUP(MATCH(4,Paramètres!$H$6:$H$45,1),Paramètres!$A$6:$A$45))>=7,1,0)","v":1},{"$f":"IF(IF(ISERROR(LOOKUP(MATCH(4,Paramètres!$H$6:$H$45,1),Paramètres!$A$6:$A$45)),0,LOOKUP(MATCH(4,Paramètres!$H$6:$H$45,1),Paramètres!$A$6:$A$45))>=8,1,0)","v":1},{"$f":"IF(IF(ISERROR(LOOKUP(MATCH(4,Paramètres!$H$6:$H$45,1),Paramètres!$A$6:$A$45)),0,LOOKUP(MATCH(4,Paramètres!$H$6:$H$45,1),Paramètres!$A$6:$A$45))>=9,1,0)","v":1},{"$f":"IF(IF(ISERROR(LOOKUP(MATCH(4,Paramètres!$H$6:$H$45,1),Paramètres!$A$6:$A$45)),0,LOOKUP(MATCH(4,Paramètres!$H$6:$H$45,1),Paramètres!$A$6:$A$45))>=10,1,0)","v":1},{"$f":"IF(IF(ISERROR(LOOKUP(MATCH(4,Paramètres!$I$6:$I$45,1),Paramètres!$A$6:$A$45)),0,LOOKUP(MATCH(4,Paramètres!$I$6:$I$45,1),Paramètres!$A$6:$A$45))>=1,1,0)","v":1},{"$f":"IF(IF(ISERROR(LOOKUP(MATCH(4,Paramètres!$I$6:$I$45,1),Paramètres!$A$6:$A$45)),0,LOOKUP(MATCH(4,Paramètres!$I$6:$I$45,1),Paramètres!$A$6:$A$45))>=2,1,0)","v":1},{"$f":"IF(IF(ISERROR(LOOKUP(MATCH(4,Paramètres!$I$6:$I$45,1),Paramètres!$A$6:$A$45)),0,LOOKUP(MATCH(4,Paramètres!$I$6:$I$45,1),Paramètres!$A$6:$A$45))>=3,1,0)","v":1},{"$f":"IF(IF(ISERROR(LOOKUP(MATCH(4,Paramètres!$I$6:$I$45,1),Paramètres!$A$6:$A$45)),0,LOOKUP(MATCH(4,Paramètres!$I$6:$I$45,1),Paramètres!$A$6:$A$45))>=4,1,0)","v":1},{"$f":"IF(IF(ISERROR(LOOKUP(MATCH(4,Paramètres!$I$6:$I$45,1),Paramètres!$A$6:$A$45)),0,LOOKUP(MATCH(4,Paramètres!$I$6:$I$45,1),Paramètres!$A$6:$A$45))>=5,1,0)","v":1},{"$f":"IF(IF(ISERROR(LOOKUP(MATCH(4,Paramètres!$I$6:$I$45,1),Paramètres!$A$6:$A$45)),0,LOOKUP(MATCH(4,Paramètres!$I$6:$I$45,1),Paramètres!$A$6:$A$45))>=6,1,0)","v":1},null,{"$f":"VLOOKUP($BE$2,AVAILABLE_Heroes[#All],MATCH(BB$2,AVAILABLE_Heroes[#Headers],0))","v":1},{"$f":"VLOOKUP($BE$2,AVAILABLE_Heroes[#All],MATCH(BC$2,AVAILABLE_Heroes[#Headers],0))","v":1}]
["À Faire",{"$f":"B3-B46","v":0},0,0,0,0,0,0,0,0,0,0,0,0,0,{"$f":"P3-P46","v":0},{"$f":"Q3-Q46","v":0},0,{"$f":"S3-S46","v":0},0,0,{"$f":"V3-V46","v":0},0,0,0,0,0,0,0,0,null,{"$f":"AF3-AF46","v":0},0,0,{"$f":"AI3-AI46","v":0},0,0,0,0,0,0,0,0,0,0,{"$f":"AT3-AT46","v":0},0,0,{"$f":"AW3-AW46","v":0},0,0,{"$f":"AZ3-AZ46","v":0},null,{"$f":"BB3-BB46","v":0},{"$f":"BC3-BC46","v":0}]
["Max +",{"$f":"VLOOKUP($BE$2,AVAILABLE_Buildings_Resource[#All],MATCH(B$2,AVAILABLE_Buildings_Resource[#Headers],0)+1)","v":12},{"$f":"VLOOKUP($BE$2,AVAILABLE_Buildings_Resource[#All],MATCH(C$2,AVAILABLE_Buildings_Resource[#Headers],0)+1)","v":12},{"$f":"VLOOKUP($BE$2,AVAILABLE_Buildings_Resource[#All],MATCH(D$2,AVAILABLE_Buildings_Resource[#Headers],0)+1)","v":6},{"$f":"VLOOKUP($BE$2,AVAILABLE_Buildings_Resource[#All],MATCH(E$2,AVAILABLE_Buildings_Resource[#Headers],0)+1)","v":11},{"$f":"VLOOKUP($BE$2,AVAILABLE_Buildings_Resource[#All],MATCH(F$2,AVAILABLE_Buildings_Resource[#Headers],0)+1)","v":11},{"$f":"VLOOKUP($BE$2,AVAILABLE_Buildings_Resource[#All],MATCH(G$2,AVAILABLE_Buildings_Resource[#Headers],0)+1)","v":6},{"$f":"VLOOKUP($BE$2,AVAILABLE_Buildings_Army[#All],MATCH(H$2,AVAILABLE_Buildings_Army[#Headers],0)+1)","v":10},{"$f":"VLOOKUP($BE$2,AVAILABLE_Buildings_Army[#All],MATCH(I$2,AVAILABLE_Buildings_Army[#Headers],0)+1)","v":6},{"$f":"VLOOKUP($BE$2,AVAILABLE_Buildings_Army[#All],MATCH(J$2,AVAILABLE_Buildings_Army[#Headers],0)+1)","v":8},{"$f":"VLOOKUP($BE$2,AVAILABLE_Buildings_Army[#All],MATCH(K$2,AVAILABLE_Buildings_Army[#Headers],0)+1)","v":8},{"$f":"VLOOKUP($BE$2,AVAILABLE_Buildings_Army[#All],MATCH(L$2,AVAILABLE_Buildings_Army[#Headers],0)+1)","v":5},{"$f":"VLOOKUP($BE$2,AVAILABLE_Buildings_Defensive[#All],MATCH(M$2,AVAILABLE_Buildings_Defensive[#Headers],0)+1)","v":11},{"$f":"VLOOKUP($BE$2,AVAILABLE_Buildings_Defensive[#All],MATCH(N$2,AVAILABLE_Buildings_Defensive[#Headers],0)+1)","v":13},{"$f":"VLOOKUP($BE$2,AVAILABLE_Buildings_Defensive[#All],MATCH(O$2,AVAILABLE_Buildings_Defensive[#Headers],0)+1)","v":13},{"$f":"VLOOKUP($BE$2,AVAILABLE_Buildings_Defensive[#All],MATCH(P$2,AVAILABLE_Buildings_Defensive[#Headers],0)+1)","v":8},{"$f":"VLOOKUP($BE$2,AVAILABLE_Buildings_Defensive[#All],MATCH(Q$2,AVAILABLE_Buildings_Defensive[#Headers],0)+1)","v":8},{"$f":"VLOOKUP($BE$2,AVAILABLE_Buildings_Defensive[#All],MATCH(R$2,AVAILABLE_Buildings_Defensive[#Headers],0)+1)","v":8},{"$f":"VLOOKUP($BE$2,AVAILABLE_Buildings_Defensive[#All],MATCH(S$2,AVAILABLE_Buildings_Defensive[#Headers],0)+1)","v":6},{"$f":"VLOOKUP($BE$2,AVAILABLE_Buildings_Defensive[#All],MATCH(T$2,AVAILABLE_Buildings_Defensive[#Headers],0)+1)","v":8},{"$f":"VLOOKUP($BE$2,AVAILABLE_Buildings_Defensive[#All],MATCH(U$2,AVAILABLE_Buildings_Defensive[#Headers],0)+1)","v":4},{"$f":"VLOOKUP($BE$2,AVAILABLE_Buildings_Defensive[#All],MATCH(V$2,AVAILABLE_Buildings_Defensive[#Headers],0)+1)","v":3},{"$f":"VLOOKUP($BE$2,AVAILABLE_Traps[#All],MATCH(W$2,AVAILABLE_Traps[#Headers],0)+1)","v":6},{"$f":"VLOOKUP($BE$2,AVAILABLE_Traps[#All],MATCH(X$2,AVAILABLE_Traps[#Headers],0)+1)","v":1},{"$f":"VLOOKUP($BE$2,AVAILABLE_Traps[#All],MATCH(Y$2,AVAILABLE_Traps[#Headers],0)+1)","v":4},{"$f":"VLOOKUP($BE$2,AVAILABLE_Traps[#All],MATCH(Z$2,AVAILABLE_Traps[#Headers],0)+1)","v":4},{"$f":"VLOOKUP($BE$2,AVAILABLE_Traps[#All],MATCH(AA$2,AVAILABLE_Traps[#Headers],0)+1)","v":3},{"$f":"VLOOKUP($BE$2,AVAILABLE_Traps[#All],MATCH(AB$2,AVAILABLE_Traps[#Headers],0)+1)","v":3},{"$f":"VLOOKUP($BE$2,AVAILABLE_Buildings_Other[#All],MATCH(AC$2,AVAILABLE_Buildings_Other[#Headers],0)+1)","v":6},{"$f":"VLOOKUP($BE$2,AVAILABLE_Buildings_Other[#All],MATCH(AD$2,AVAILABLE_Buildings_Other[#Headers],0)+1)","v":10},null,{"$f":"VLOOKUP(IF(ISERROR(LOOKUP(MATCH(1,Paramètres!$K$6:$K$45,0),Paramètres!$A$6:$A$45)),0,LOOKUP(MATCH(1,Paramètres!$K$6:$K$45,0),Paramètres!$A$6:$A$45)),AVAILABLE_Upgrades_Spells[#All],MATCH(AF$2,AVAILABLE_Upgrades_Spells[#Headers],0)+1)","v":6},{"$f":"VLOOKUP(IF(ISERROR(LOOKUP(MATCH(1,Paramètres!$K$6:$K$45,0),Paramètres!$A$6:$A$45)),0,LOOKUP(MATCH(1,Paramètres!$K$6:$K$45,0),Paramètres!$A$6:$A$45)),AVAILABLE_Upgrades_Spells[#All],MATCH(AG$2,AVAILABLE_Upgrades_Spells[#Headers],0)+1)","v":6},{"$f":"VLOOKUP(IF(ISERROR(LOOKUP(MATCH(1,Paramètres!$K$6:$K$45,0),Paramètres!$A$6:$A$45)),0,LOOKUP(MATCH(1,Paramètres!$K$6:$K$45,0),Paramètres!$A$6:$A$45)),AVAILABLE_Upgrades_Spells[#All],MATCH(AH$2,AVAILABLE_Upgrades_Spells[#Headers],0)+1)","v":5},{"$f":"VLOOKUP(IF(ISERROR(LOOKUP(MATCH(1,Paramètres!$K$6:$K$45,0),Paramètres!$A$6:$A$45)),0,LOOKUP(MATCH(1,Paramètres!$K$6:$K$45,0),Paramètres!$A$6:$A$45)),AVAILABLE_Upgrades_Spells[#All],MATCH(AI$2,AVAILABLE_Upgrades_Spells[#Headers],0)+1)","v":3},{"$f":"VLOOKUP(IF(ISERROR(LOOKUP(MATCH(1,Paramètres!$K$6:$K$45,0),Paramètres!$A$6:$A$45)),0,LOOKUP(MATCH(1,Paramètres!$K$6:$K$45,0),Paramètres!$A$6:$A$45)),AVAILABLE_Upgrades_Spells[#All],MATCH(AJ$2,AVAILABLE_Upgrades_Spells[#Headers],0)+1)","v":5},{"$f":"VLOOKUP(IF(ISERROR(LOOKUP(MATCH(1,Paramètres!$K$6:$K$45,0),Paramètres!$A$6:$A$45)),0,LOOKUP(MATCH(1,Paramètres!$K$6:$K$45,0),Paramètres!$A$6:$A$45)),AVAILABLE_Upgrades_Normal_Troops[#All],MATCH(AK$2,AVAILABLE_Upgrades_Normal_Troops[#Headers],0)+1)","v":7},{"$f":"VLOOKUP(IF(ISERROR(LOOKUP(MATCH(1,Paramètres!$K$6:$K$45,0),Paramètres!$A$6:$A$45)),0,LOOKUP(MATCH(1,Paramètres!$K$6:$K$45,0),Paramètres!$A$6:$A$45)),AVAILABLE_Upgrades_Normal_Troops[#All],MATCH(AL$2,AVAILABLE_Upgrades_Normal_Troops[#Headers],0)+1)","v":7},{"$f":"VLOOKUP(IF(ISERROR(LOOKUP(MATCH(1,Paramètres!$K$6:$K$45,0),Paramètres!$A$6:$A$45)),0,LOOKUP(MATCH(1,Paramètres!$K$6:$K$45,0),Paramètres!$A$6:$A$45)),AVAILABLE_Upgrades_Normal_Troops[#All],MATCH(AM$2,AVAILABLE_Upgrades_Normal_Troops[#Headers],0)+1)","v":6},{"$f":"VLOOKUP(IF(ISERROR(LOOKUP(MATCH(1,Paramètres!$K$6:$K$45,0),Paramètres!$A$6:$A$45)),0,LOOKUP(MATCH(1,Paramètres!$K$6:$K$45,0),Paramètres!$A$6:$A$45)),AVAILABLE_Upgrades_Normal_Troops[#All],MATCH(AN$2,AVAILABLE_Upgrades_Normal_Troops[#Headers],0)+1)","v":7},{"$f":"VLOOKUP(IF(ISERROR(LOOKUP(MATCH(1,Paramètres!$K$6:$K$45,0),Paramètres!$A$6:$A$45)),0,LOOKUP(MATCH(1,Paramètres!$K$6:$K$45,0),Paramètres!$A$6:$A$45)),AVAILABLE_Upgrades_Normal_Troops[#All],MATCH(AO$2,AVAILABLE_Upgrades_Normal_Troops[#Headers],0)+1)","v":6},{"$f":"VLOOKUP(IF(ISERROR(LOOKUP(MATCH(1,Paramètres!$K$6:$K$45,0),Paramètres!$A$6:$A$45)),0,LOOKUP(MATCH(1,Paramètres!$K$6:$K$45,0),Paramètres!$A$6:$A$45)),AVAILABLE_Upgrades_Normal_Troops[#All],MATCH(AP$2,AVAILABLE_Upgrades_Normal_Troops[#Headers],0)+1)","v":6},{"$f":"VLOOKUP(IF(ISERROR(LOOKUP(MATCH(1,Paramètres!$K$6:$K$45,0),Paramètres!$A$6:$A$45)),0,LOOKUP(MATCH(1,Paramètres!$K$6:$K$45,0),Paramètres!$A$6:$A$45)),AVAILABLE_Upgrades_Normal_Troops[#All],MATCH(AQ$2,AVAILABLE_Upgrades_Normal_Troops[#Headers],0)+1)","v":6},{"$f":"VLOOKUP(IF(ISERROR(LOOKUP(MATCH(1,Paramètres!$K$6:$K$45,0),Paramètres!$A$6:$A$45)),0,LOOKUP(MATCH(1,Paramètres!$K$6:$K$45,0),Paramètres!$A$6:$A$45)),AVAILABLE_Upgrades_Normal_Troops[#All],MATCH(AR$2,AVAILABLE_Upgrades_Normal_Troops[#Headers],0)+1)","v":4},{"$f":"VLOOKUP(IF(ISERROR(LOOKUP(MATCH(1,Paramètres!$K$6:$K$45,0),Paramètres!$A$6:$A$45)),0,LOOKUP(MATCH(1,Paramètres!$K$6:$K$45,0),Paramètres!$A$6:$A$45)),AVAILABLE_Upgrades_Normal_Troops[#All],MATCH(AS$2,AVAILABLE_Upgrades_Normal_Troops[#Headers],0)+1)","v":4},{"$f":"VLOOKUP(IF(ISERROR(LOOKUP(MATCH(1,Paramètres!$K$6:$K$45,0),Paramètres!$A$6:$A$45)),0,LOOKUP(MATCH(1,Paramètres!$K$6:$K$45,0),Paramètres!$A$6:$A$45)),AVAILABLE_Upgrades_Normal_Troops[#All],MATCH(AT$2,AVAILABLE_Upgrades_Normal_Troops[#Headers],0)+1)","v":5},{"$f":"VLOOKUP(IF(ISERROR(LOOKUP(MATCH(1,Paramètres!$K$6:$K$45,0),Paramètres!$A$6:$A$45)),0,LOOKUP(MATCH(1,Paramètres!$K$6:$K$45,0),Paramètres!$A$6:$A$45)),AVAILABLE_Upgrades_Dark_Troops[#All],MATCH(AU$2,AVAILABLE_Upgrades_Dark_Troops[#Headers],0)+1)","v":6},{"$f":"VLOOKUP(IF(ISERROR(LOOKUP(MATCH(1,Paramètres!$K$6:$K$45,0),Paramètres!$A$6:$A$45)),0,LOOKUP(MATCH(1,Paramètres!$K$6:$K$45,0),Paramètres!$A$6:$A$45)),AVAILABLE_Upgrades_Dark_Troops[#All],MATCH(AV$2,AVAILABLE_Upgrades_Dark_Troops[#Headers],0)+1)","v":5},{"$f":"VLOOKUP(IF(ISERROR(LOOKUP(MATCH(1,Paramètres!$K$6:$K$45,0),Paramètres!$A$6:$A$45)),0,LOOKUP(MATCH(1,Paramètres!$K$6:$K$45,0),Paramètres!$A$6:$A$45)),AVAILABLE_Upgrades_Dark_Troops[#All],MATCH(AW$2,AVAILABLE_Upgrades_Dark_Troops[#Headers],0)+1)","v":4},{"$f":"VLOOKUP(IF(ISERROR(LOOKUP(MATCH(1,Paramètres!$K$6:$K$45,0),Paramètres!$A$6:$A$45)),0,LOOKUP(MATCH(1,Paramètres!$K$6:$K$45,0),Paramètres!$A$6:$A$45)),AVAILABLE_Upgrades_Dark_Troops[#All],MATCH(AX$2,AVAILABLE_Upgrades_Dark_Troops[#Headers],0)+1)","v":5},{"$f":"VLOOKUP(IF(ISERROR(LOOKUP(MATCH(1,Paramètres!$K$6:$K$45,0),Paramètres!$A$6:$A$45)),0,LOOKUP(MATCH(1,Paramètres!$K$6:$K$45,0),Paramètres!$A$6:$A$45)),AVAILABLE_Upgrades_Dark_Troops[#All],MATCH(AY$2,AVAILABLE_Upgrades_Dark_Troops[#Headers],0)+1)","v":2},{"$f":"VLOOKUP(IF(ISERROR(LOOKUP(MATCH(1,Paramètres!$K$6:$K$45,0),Paramètres!$A$6:$A$45)),0,LOOKUP(MATCH(1,Paramètres!$K$6:$K$45,0),Paramètres!$A$6:$A$45)),AVAILABLE_Upgrades_Dark_Troops[#All],MATCH(AZ$2,AVAILABLE_Upgrades_Dark_Troops[#Headers],0)+1)","v":3},null,{"$f":"VLOOKUP($BE$2,AVAILABLE_Heroes[#All],MATCH(BB$2,AVAILABLE_Heroes[#Headers],0)+1)","v":40},{"$f":"VLOOKUP($BE$2,AVAILABLE_Heroes[#All],MATCH(BC$2,AVAILABLE_Heroes[#Headers],0)+1)","v":40}]
[1,null,null,null,null,null,null,null,null,null,null,null,null,null,null,null,null,null,1,1,3,null,null,6,null,null,5,3,null,{"$f":"IF($BE$2=1,1,0)","v":0},null,null,null,null,null,1,null,null,null,null,null,null,null,null,null,null,null,null,1,null,1,null,null,null,null,null,"Cellule rouge :","Amélioration non disponible"]
[2,null,null,null,null,null,null,null,null,null,null,null,null,null,null,null,null,null,null,null,null,2,null,null,5,1,null,null,null,{"$f":"IF($BE$2=2,1,0)","v":0},null,null,null,null,1,null,null,null,null,null,null,null,null,null,null,1,null,null,null,1,null,1]
[3,null,null,null,null,null,null,null,1,null,null,null,null,null,null,null,null,null,null,null,null,null,null,null,null,4,null,null,null,{"$f":"IF($BE$2=3,1,0)","v":0},null,null,null,null,null,null,null,null,null,null,null,null,null,1]
[4,null,null,3,null,null,null,null,null,null,null,null,null,null,null,null,1,1,null,null,null,null,6,null,null,null,null,null,1,{"$f":"IF($BE$2=4,1,0)","v":0},null,null,null,null,null,null,null,null,null,null,null,null,null,null,1,null,null,1]
[5,null,null,null,null,null,1,null,null,null,null,1,null,null,null,null,null,null,null,null,null,null,null,null,null,null,null,null,null,{"$f":"IF($BE$2=5,1,0)","v":0},null,1,1,1,null,null,1,1,1,1,1,null,1,null,null,null,1,null,null,null,null,null,null,null,1,null,"Cellule verte :","Amélioration max. atteinte"]
[6,null,null,null,null,null,null,null,1,null,null,null,null,null,null,4,3,3,null,3,null,null,null,null,null,null,null,null,null,{"$f":"IF($BE$2=6,1,0)","v":0},null,null,null,null,null,null,null,null,null,null,null,1,null,null,null,null,null,null,null,null,null,null,null,1]
[7,null,null,null,null,null,null,null,null,null,null,null,null,null,null,null,null,null,null,null,null,null,null,null,null,null,null,null,null,{"$f":"IF($BE$2=7,1,0)","v":0}]
[8,null,null,null,null,null,null,null,null,4,1,null,248,null,1,null,null,null,null,null,null,null,null,null,null,null,null,null,null,{"$f":"IF($BE$2=8,1,0)","v":0}]
[9,null,null,null,null,null,null,1,null,null,null,null,2,1,1,null,null,null,null,null,null,null,null,null,null,null,null,null,null,{"$f":"IF($BE$2=9,1,0)","v":0},null,null,null,null,null,null,null,null,null,null,null,null,null,null,null,null,null,null,null,null,null,null,null,null,null,null,"Colonne orange :","Erreur\nMax. total atteint"]
[10,null,null,null,null,null,null,3,null,null,null,null,null,5,5,null,null,null,null,null,null,null,null,null,null,null,null,null,null,{"$f":"IF($BE$2=10,1,0)","v":1}]
[11,1,7,null,4,4]
[12,6]
[13,null,null,null,null,null,null,null,null,null,null,null,null,null,null,null,null,null,null,null,null,null,null,null,null,null,null,null,null,null,null,null,null,null,null,null,null,null,null,null,null,null,null,null,null,null,null,null,null,null,null,null,null,null,null,null,"INSTRUCTIONS:\n1. LVL HdV : Indiquer le level de votre Hôtel de Ville (1-10)\n\n2. Ouvriers : Indiquer le nombre d'ouvriers que vous avez (1-5)"]
[14]
[15]
[16]
[17]
[18]
[19]
[20]
[21,null,null,null,null,null,null,null,null,null,null,null,null,null,null,null,null,null,null,null,null,null,null,null,null,null,null,null,null,null,null,null,null,null,null,null,null,null,null,null,null,null,null,null,null,null,null,null,null,null,null,null,null,null,null,null,"3.a. Saisir le nombre de Bâtiments que vous avez actuellement avec leurs levels correspondants\n3.b. Saisir le level actuel de vos améliorations de Sorts/Troupes Normales/Troupes Noires\n3.c. Saisir le level actuel de vos Héros"]
[22]
[23]
[24]
[25]
[26]
[27]
[28]
[29]
[30]
[31]
[32]
[33]
[34]
[35]
[36]
[37]
[38]
[39]
[40]
["Tot.",{"$f":"SUM(B6:B45)","v":7},7,3,4,4,1,4,2,4,1,1,250,6,7,4,4,4,{"$f":"SUM(S6:S45)","v":1},4,3,2,6,6,5,5,5,3,1,{"$f":"SUM(AD6:AD45)","v":1},null,{"$f":"SUM(AF6:AF45)","v":1},1,1,1,1,1,1,1,1,1,1,1,1,1,1,1,1,1,1,1,{"$f":"SUM(AZ6:AZ45)","v":1},null,{"$f":"SUM(BB6:BB45)","v":1},{"$f":"SUM(BC6:BC45)","v":1}]
[null,null,null,null,null,null,null,{"$f":"MAX(IF(ISBLANK(Paramètres!$H$6:$H$45),0,ROW(Paramètres!$H$6:$H$45)))-5","v":10},{"$f":"MAX(IF(ISBLANK(Paramètres!$I$6:$I$45),0,ROW(Paramètres!$I$6:$I$45)))-5","v":6},null,null,{"$f":"MAX(IF(ISBLANK(Paramètres!$L$6:$L$45),0,ROW(Paramètres!$L$6:$L$45)))-5","v":5}]
["+","NB Upgrades","NB Upgrades","NB Upgrades","NB Upgrades","NB Upgrades","NB Upgrades","NB Upgrades","NB Upgrades","NB Upgrades","NB Upgrades","NB Upgrades","NB Upgrades","NB Upgrades","NB Upgrades","NB Upgrades","NB Upgrades","NB Upgrades","NB Upgrades","NB Upgrades","NB Upgrades","NB Upgrades","NB Upgrades","NB Upgrades","NB Upgrades","NB Upgrades","NB Upgrades","NB Upgrades","NB Upgrades","NB Upgrades",null,"NB Upgrades","NB Upgrades","NB Upgrades","NB Upgrades","NB Upgrades","NB Upgrades","NB Upgrades","NB Upgrades","NB Upgrades","NB Upgrades","NB Upgrades","NB Upgrades","NB Upgrades","NB Upgrades","NB Upgrades","NB Upgrades","NB Upgrades","NB Upgrades","NB Upgrades","NB Upgrades","NB Upgrades",null,"NB Upgrades","NB Upgrades"]
[1,{"$f":"IF($A6-1<B$5,IF(B4>0,B4,IF(B6>0,0,B$4+B6)),0)","v":0},0,0,0,0,0,0,0,0,0,0,0,0,0,0,0,0,{"$f":"IF($A6-1<S$5,IF(S4>0,S4,IF(S6>0,0,S$4+S6)),0)","v":0},0,0,0,0,0,0,0,0,0,0,{"$f":"IF($A6-1<AD$5,IF(AD4>0,AD4,IF(AD6>0,0,AD$4+AD6)),0)","v":0},{"$f":"IF($A6-1<AE$5,IF(AE4>0,AE4,IF(AE6>0,0,AE$4+AE6)),0)","v":0},0,0,0,{"$f":"IF($A6-1<AI$5,IF(AI4>0,AI4,IF(AI6>0,0,AI$4+AI6)),0)","v":0},0,0,0,0,0,0,0,0,0,0,0,0,0,0,0,0,{"$f":"IF($A6-1<AZ$5,IF(AZ4>0,AZ4,IF(AZ6>0,0,AZ$4+AZ6)),0)","v":0},0,0,0]
[2,{"$f":"IF($A6<B$5,IF(B49<>0,B49+B6,B6),0)","v":0},{"$f":"IF($A6<C$5,IF(C49<>0,C49+C6,C6),0)","v":0},{"$f":"IF($A6<D$5,IF(D49<>0,D49+D6,D6),0)","v":0},{"$f":"IF($A6<E$5,IF(E49<>0,E49+E6,E6),0)","v":0},{"$f":"IF($A6<F$5,IF(F49<>0,F49+F6,F6),0)","v":0},{"$f":"IF($A6<G$5,IF(G49<>0,G49+G6,G6),0)","v":0},{"$f":"IF($A6<H$5,IF(H49<>0,H49+H6,H6),0)","v":0},{"$f":"IF($A6<I$5,IF(I49<>0,I49+I6,I6),0)","v":0},{"$f":"IF($A6<J$5,IF(J49<>0,J49+J6,J6),0)","v":0},{"$f":"IF($A6<K$5,IF(K49<>0,K49+K6,K6),0)","v":0},{"$f":"IF($A6<L$5,IF(L49<>0,L49+L6,L6),0)","v":0},{"$f":"IF($A6<M$5,IF(M49<>0,M49+M6,M6),0)","v":0},{"$f":"IF($A6<N$5,IF(N49<>0,N49+N6,N6),0)","v":0},{"$f":"IF($A6<O$5,IF(O49<>0,O49+O6,O6),0)","v":0},{"$f":"IF($A6<P$5,IF(P49<>0,P49+P6,P6),0)","v":0},{"$f":"IF($A6<Q$5,IF(Q49<>0,Q49+Q6,Q6),0)","v":0},{"$f":"IF($A6<R$5,IF(R49<>0,R49+R6,R6),0)","v":0},{"$f":"IF($A6<S$5,IF(S49<>0,S49+S6,S6),0)","v":1},1,{"$f":"IF($A6<U$5,IF(U49<>0,U49+U6,U6),0)","v":3},{"$f":"IF($A6<V$5,IF(V49<>0,V49+V6,V6),0)","v":0},{"$f":"IF($A6<W$5,IF(W49<>0,W49+W6,W6),0)","v":0},{"$f":"IF($A6<X$5,IF(X49<>0,X49+X6,X6),0)","v":0},{"$f":"IF($A6<Y$5,IF(Y49<>0,Y49+Y6,Y6),0)","v":0},{"$f":"IF($A6<Z$5,IF(Z49<>0,Z49+Z6,Z6),0)","v":0},{"$f":"IF($A6<AA$5,IF(AA49<>0,AA49+AA6,AA6),0)","v":5},{"$f":"IF($A6<AB$5,IF(AB49<>0,AB49+AB6,AB6),0)","v":3},{"$f":"IF($A6<AC$5,IF(AC49<>0,AC49+AC6,AC6),0)","v":0},{"$f":"IF($A6<AD$5,IF(AD49<>0,AD49+AD6,AD6),0)","v":0},{"$f":"IF($A6<AE$5,IF(AE49<>0,AE49+AE6,AE6),0)","v":0},{"$f":"IF($A6<AF$5,IF(AF49<>0,AF49+AF6,AF6),0)","v":0},{"$f":"IF($A6<AG$5,IF(AG49<>0,AG49+AG6,AG6),0)","v":0},{"$f":"IF($A6<AH$5,IF(AH49<>0,AH49+AH6,AH6),0)","v":0},{"$f":"IF($A6<AI$5,IF(AI49<>0,AI49+AI6,AI6),0)","v":0},{"$f":"IF($A6<AJ$5,IF(AJ49<>0,AJ49+AJ6,AJ6),0)","v":1},{"$f":"IF($A6<AK$5,IF(AK49<>0,AK49+AK6,AK6),0)","v":0},{"$f":"IF($A6<AL$5,IF(AL49<>0,AL49+AL6,AL6),0)","v":0},{"$f":"IF($A6<AM$5,IF(AM49<>0,AM49+AM6,AM6),0)","v":0},{"$f":"IF($A6<AN$5,IF(AN49<>0,AN49+AN6,AN6),0)","v":0},{"$f":"IF($A6<AO$5,IF(AO49<>0,AO49+AO6,AO6),0)","v":0},{"$f":"IF($A6<AP$5,IF(AP49<>0,AP49+AP6,AP6),0)","v":0},{"$f":"IF($A6<AQ$5,IF(AQ49<>0,AQ49+AQ6,AQ6),0)","v":0},{"$f":"IF($A6<AR$5,IF(AR49<>0,AR49+AR6,AR6),0)","v":0},{"$f":"IF($A6<AS$5,IF(AS49<>0,AS49+AS6,AS6),0)","v":0},{"$f":"IF($A6<AT$5,IF(AT49<>0,AT49+AT6,AT6),0)","v":0},{"$f":"IF($A6<AU$5,IF(AU49<>0,AU49+AU6,AU6),0)","v":0},{"$f":"IF($A6<AV$5,IF(AV49<>0,AV49+AV6,AV6),0)","v":0},{"$f":"IF($A6<AW$5,IF(AW49<>0,AW49+AW6,AW6),0)","v":1},{"$f":"IF($A6<AX$5,IF(AX49<>0,AX49+AX6,AX6),0)","v":0},{"$f":"IF($A6<AY$5,IF(AY49<>0,AY49+AY6,AY6),0)","v":1},{"$f":"IF($A6<AZ$5,IF(AZ49<>0,AZ49+AZ6,AZ6),0)","v":0},{"$f":"IF($A6<BA$5,IF(BA49<>0,BA49+BA6,BA6),0)","v":0},{"$f":"IF($A6<BB$5,IF(BB49<>0,BB49+BB6,BB6),0)","v":0},{"$f":"IF($A6<BC$5,IF(BC49<>0,BC49+BC6,BC6),0)","v":0}]
[3,0,0,0,0,0,0,0,0,0,0,0,0,0,0,0,0,0,1,1,3,2,0,0,5,1,5,3,0,0,0,0,0,0,1,1,0,0,0,0,0,0,0,0,0,1,0,0,1,1,0,1,0,0,0]
[4,0,0,0,0,0,0,0,1,0,0,0,0,0,0,0,0,0,1,1,3,0,0,0,5,5,0,0,0,0,0,0,0,0,0,1,0,0,0,0,0,0,0,1,0,1,0,0,1,1,0,0,0,0,0]
[5,0,0,3,0,0,0,0,1,0,0,0,0,0,0,0,1,1,1,1,0,0,6,0,0,0,0,0,1,0,0,0,0,0,0,1,0,0,0,0,0,0,0,0,0,1,0,1,0,1,0,0,0,0,0]
[6,0,0,3,0,0,1,0,1,0,0,0,0,0,0,0,1,1,1,1,0,0,6,0,0,0,0,0,1,0,0,1,1,0,0,0,1,1,1,1,1,0,1,0,0,0,1,0,0,0,0,0,0,0,1]
[7,0,0,0,0,0,0,0,0,0,0,0,0,0,0,4,4,4,0,4,0,0,0,0,0,0,0,0,0,0,0,0,0,0,0,0,1,1,0,1,0,0,0,0,0,0,0,0,0,0,0,0,0,1,1]
[8,0,0,0,0,0,0,0,0,0,0,0,0,0,0,4,4,4,0,4,0,0,0,0,0,0,0,0,0,0,0,0,0,0,0,0,0,0,0,0,0,0,0,0,0,0,0,0,0,0,0,0,0,1,1]
[9,0,0,0,0,0,0,0,0,0,0,0,248,0,1,0,0,0,0,0,0,0,0,0,0,0,0,0,0,0,0,0,0,0,0,0,0,0,0,0,0,0,0,0,0,0,0,0,0,0,0,0,0,1,1]
[10,0,0,0,0,0,0,1,0,0,0,0,250,1,2,0,0,0,0,0,0,0,0,0,0,0,0,0,0,0,0,0,0,0,0,0,0,0,0,0,0,0,0,0,0,0,0,0,0,0,0,0,0,1,1]
[11,0,0,0,0,0,0,0,0,0,0,0,250,6,7,0,0,0,0,0,0,0,0,0,0,0,0,0,0,0,0,0,0,0,0,0,0,0,0,0,0,0,0,0,0,0,0,0,0,0,0,0,0,1,1]
[12,1,7,0,0,0,0,0,0,0,0,0,0,6,7,0,0,0,0,0,0,0,0,0,0,0,0,0,0,0,0,0,0,0,0,0,0,0,0,0,0,0,0,0,0,0,0,0,0,0,0,0,0,1,1]
[13,0,0,0,0,0,0,0,0,0,0,0,0,6,7,0,0,0,0,0,0,0,0,0,0,0,0,0,0,0,0,0,0,0,0,0,0,0,0,0,0,0,0,0,0,0,0,0,0,0,0,0,0,1,1]
[14,0,0,0,0,0,0,0,0,0,0,0,0,0,0,0,0,0,0,0,0,0,0,0,0,0,0,0,0,0,0,0,0,0,0,0,0,0,0,0,0,0,0,0,0,0,0,0,0,0,0,0,0,1,1]
[15,0,0,0,0,0,0,0,0,0,0,0,0,0,0,0,0,0,0,0,0,0,0,0,0,0,0,0,0,0,0,0,0,0,0,0,0,0,0,0,0,0,0,0,0,0,0,0,0,0,0,0,0,1,1]
[16,0,0,0,0,0,0,0,0,0,0,0,0,0,0,0,0,0,0,0,0,0,0,0,0,0,0,0,0,0,0,0,0,0,0,0,0,0,0,0,0,0,0,0,0,0,0,0,0,0,0,0,0,1,1]
[17,0,0,0,0,0,0,0,0,0,0,0,0,0,0,0,0,0,0,0,0,0,0,0,0,0,0,0,0,0,0,0,0,0,0,0,0,0,0,0,0,0,0,0,0,0,0,0,0,0,0,0,0,1,1]
[18,{"$f":"IF($A22<B$5,IF(B65<>0,B65+B22,B22),0)","v":0},{"$f":"IF($A22<C$5,IF(C65<>0,C65+C22,C22),0)","v":0},{"$f":"IF($A22<D$5,IF(D65<>0,D65+D22,D22),0)","v":0},{"$f":"IF($A22<E$5,IF(E65<>0,E65+E22,E22),0)","v":0},{"$f":"IF($A22<F$5,IF(F65<>0,F65+F22,F22),0)","v":0},{"$f":"IF($A22<G$5,IF(G65<>0,G65+G22,G22),0)","v":0},{"$f":"IF($A22<H$5,IF(H65<>0,H65+H22,H22),0)","v":0},{"$f":"IF($A22<I$5,IF(I65<>0,I65+I22,I22),0)","v":0},{"$f":"IF($A22<J$5,IF(J65<>0,J65+J22,J22),0)","v":0},{"$f":"IF($A22<K$5,IF(K65<>0,K65+K22,K22),0)","v":0},{"$f":"IF($A22<L$5,IF(L65<>0,L65+L22,L22),0)","v":0},{"$f":"IF($A22<M$5,IF(M65<>0,M65+M22,M22),0)","v":0},{"$f":"IF($A22<N$5,IF(N65<>0,N65+N22,N22),0)","v":0},{"$f":"IF($A22<O$5,IF(O65<>0,O65+O22,O22),0)","v":0},{"$f":"IF($A22<P$5,IF(P65<>0,P65+P22,P22),0)","v":0},{"$f":"IF($A22<Q$5,IF(Q65<>0,Q65+Q22,Q22),0)","v":0},{"$f":"IF($A22<R$5,IF(R65<>0,R65+R22,R22),0)","v":0},{"$f":"IF($A22<S$5,IF(S65<>0,S65+S22,S22),0)","v":0},0,{"$f":"IF($A22<U$5,IF(U65<>0,U65+U22,U22),0)","v":0},{"$f":"IF($A22<V$5,IF(V65<>0,V65+V22,V22),0)","v":0},{"$f":"IF($A22<W$5,IF(W65<>0,W65+W22,W22),0)","v":0},{"$f":"IF($A22<X$5,IF(X65<>0,X65+X22,X22),0)","v":0},{"$f":"IF($A22<Y$5,IF(Y65<>0,Y65+Y22,Y22),0)","v":0},{"$f":"IF($A22<Z$5,IF(Z65<>0,Z65+Z22,Z22),0)","v":0},{"$f":"IF($A22<AA$5,IF(AA65<>0,AA65+AA22,AA22),0)","v":0},{"$f":"IF($A22<AB$5,IF(AB65<>0,AB65+AB22,AB22),0)","v":0},{"$f":"IF($A22<AC$5,IF(AC65<>0,AC65+AC22,AC22),0)","v":0},{"$f":"IF($A22<AD$5,IF(AD65<>0,AD65+AD22,AD22),0)","v":0},{"$f":"IF($A22<AE$5,IF(AE65<>0,AE65+AE22,AE22),0)","v":0},{"$f":"IF($A22<AF$5,IF(AF65<>0,AF65+AF22,AF22),0)","v":0},{"$f":"IF($A22<AG$5,IF(AG65<>0,AG65+AG22,AG22),0)","v":0},{"$f":"IF($A22<AH$5,IF(AH65<>0,AH65+AH22,AH22),0)","v":0},{"$f":"IF($A22<AI$5,IF(AI65<>0,AI65+AI22,AI22),0)","v":0},{"$f":"IF($A22<AJ$5,IF(AJ65<>0,AJ65+AJ22,AJ22),0)","v":0},{"$f":"IF($A22<AK$5,IF(AK65<>0,AK65+AK22,AK22),0)","v":0},{"$f":"IF($A22<AL$5,IF(AL65<>0,AL65+AL22,AL22),0)","v":0},{"$f":"IF($A22<AM$5,IF(AM65<>0,AM65+AM22,AM22),0)","v":0},{"$f":"IF($A22<AN$5,IF(AN65<>0,AN65+AN22,AN22),0)","v":0},{"$f":"IF($A22<AO$5,IF(AO65<>0,AO65+AO22,AO22),0)","v":0},{"$f":"IF($A22<AP$5,IF(AP65<>0,AP65+AP22,AP22),0)","v":0},{"$f":"IF($A22<AQ$5,IF(AQ65<>0,AQ65+AQ22,AQ22),0)","v":0},{"$f":"IF($A22<AR$5,IF(AR65<>0,AR65+AR22,AR22),0)","v":0},{"$f":"IF($A22<AS$5,IF(AS65<>0,AS65+AS22,AS22),0)","v":0},{"$f":"IF($A22<AT$5,IF(AT65<>0,AT65+AT22,AT22),0)","v":0},{"$f":"IF($A22<AU$5,IF(AU65<>0,AU65+AU22,AU22),0)","v":0},{"$f":"IF($A22<AV$5,IF(AV65<>0,AV65+AV22,AV22),0)","v":0},0,{"$f":"IF($A22<AX$5,IF(AX65<>0,AX65+AX22,AX22),0)","v":0},0,0,{"$f":"IF($A22<BA$5,IF(BA65<>0,BA65+BA22,BA22),0)","v":0},{"$f":"IF($A22<BB$5,IF(BB65<>0,BB65+BB22,BB22),0)","v":1},{"$f":"IF($A22<BC$5,IF(BC65<>0,BC65+BC22,BC22),0)","v":1}]
[19,0,0,0,0,0,0,0,0,0,0,0,0,0,0,0,0,0,0,0,0,0,0,0,0,0,0,0,0,0,0,0,0,0,0,0,0,0,0,0,0,0,0,0,0,0,0,0,0,0,0,0,0,1,1]
[20,0,0,0,0,0,0,0,0,0,0,0,0,0,0,0,0,0,0,0,0,0,0,0,0,0,0,0,0,0,0,0,0,0,0,0,0,0,0,0,0,0,0,0,0,0,0,0,0,0,0,0,0,1,1]
[21,0,0,0,0,0,0,0,0,0,0,0,0,0,0,0,0,0,0,0,0,0,0,0,0,0,0,0,0,0,0,0,0,0,0,0,0,0,0,0,0,0,0,0,0,0,0,0,0,0,0,0,0,1,1]
[22,0,0,0,0,0,0,0,0,0,0,0,0,0,0,0,0,0,0,0,0,0,0,0,0,0,0,0,0,0,0,0,0,0,0,0,0,0,0,0,0,0,0,0,0,0,0,0,0,0,0,{"$f":"IF($A26<AZ$5,IF(AZ69<>0,AZ69+AZ26,AZ26),0)","v":0},0,1,1]
[23,0,0,0,0,0,0,0,0,0,0,0,0,0,0,0,0,0,0,0,0,0,0,0,0,0,0,0,0,0,0,0,0,0,0,0,0,0,0,0,0,0,0,0,0,0,0,0,0,0,0,0,0,1,1]
[24,0,0,0,0,0,0,0,0,0,0,0,0,0,0,0,0,0,0,0,0,0,0,0,0,0,0,0,0,0,0,0,0,0,0,0,0,0,0,0,0,0,0,0,0,0,0,0,0,0,0,0,0,1,1]
[25,0,0,0,0,0,0,0,0,0,0,0,0,0,0,0,0,0,0,0,0,0,0,0,0,0,0,0,0,0,0,0,0,0,0,0,0,0,0,0,0,0,0,0,0,0,0,0,0,0,0,0,0,1,1]
[26,0,0,0,0,0,0,0,0,0,0,0,0,0,0,0,0,0,0,0,0,0,0,0,0,0,0,0,0,{"$f":"IF($A30<AD$5,IF(AD73<>0,AD73+AD30,AD30),0)","v":0},{"$f":"IF($A30<AE$5,IF(AE73<>0,AE73+AE30,AE30),0)","v":0},0,0,0,0,0,0,0,0,0,0,0,0,0,0,0,0,0,0,0,0,0,0,1,1]
[27,0,0,0,0,0,0,0,0,0,0,0,0,0,0,0,0,0,0,0,0,0,0,0,0,0,0,0,0,0,0,0,0,0,0,0,0,0,0,0,0,0,0,0,0,0,0,0,0,0,0,0,0,1,1]
[28,0,0,0,0,0,0,0,0,0,0,0,0,0,0,0,0,0,0,0,0,0,0,0,0,0,0,0,0,0,0,0,0,0,0,0,0,0,0,0,0,0,0,0,0,0,0,0,0,0,0,0,0,1,1]
[29,0,0,0,0,0,0,0,0,0,0,0,0,0,0,0,0,0,0,0,0,0,0,0,0,0,0,0,0,0,0,0,0,0,0,0,0,0,0,0,0,0,0,0,0,0,0,0,0,0,0,0,0,1,1]
[30,0,0,0,0,0,0,0,0,0,0,0,0,0,0,0,0,0,0,0,0,0,0,0,0,0,0,0,0,0,0,0,0,0,0,0,0,0,0,0,0,0,0,0,0,0,0,0,0,0,0,0,0,1,1]
[31,0,0,0,0,0,0,0,0,0,0,0,0,0,0,0,0,0,0,0,0,0,0,0,0,0,0,0,0,0,0,0,0,0,0,0,0,0,0,0,0,0,0,0,0,0,0,0,0,0,0,0,0,1,1]
[32,0,0,0,0,0,0,0,0,0,0,0,0,0,0,0,0,0,0,0,0,0,0,0,0,0,0,0,0,0,0,0,0,0,0,0,0,0,0,0,0,0,0,0,0,0,0,0,0,0,0,0,0,1,1]
[33,0,0,0,0,0,0,0,0,0,0,0,0,0,0,0,0,0,0,0,0,0,0,0,0,0,0,0,0,0,0,0,0,0,0,0,0,0,0,0,0,0,0,0,0,0,0,0,0,0,0,0,0,1,1]
[34,0,0,0,0,0,0,0,0,0,0,0,0,0,0,0,0,0,0,0,0,0,0,0,0,0,0,0,0,0,0,0,0,0,0,0,0,0,0,0,0,0,0,0,0,0,0,0,0,0,0,0,0,1,1]
[35,0,0,0,0,0,0,0,0,0,0,0,0,0,0,0,0,0,0,0,0,0,0,0,0,0,0,0,0,0,0,0,0,0,0,0,0,0,0,0,0,0,0,0,0,0,0,0,0,0,0,0,0,1,1]
[36,0,0,0,0,0,0,0,0,0,0,0,0,0,0,0,0,0,0,0,0,0,0,0,0,0,0,0,0,0,0,0,0,0,0,0,0,0,0,0,0,0,0,0,0,0,0,0,0,0,0,0,0,1,1]
[37,0,0,0,0,0,0,0,0,0,0,0,0,0,0,0,0,0,0,0,0,0,0,0,0,0,0,0,0,0,0,0,0,0,0,0,0,0,0,0,0,0,0,0,0,0,0,0,0,0,0,0,0,1,1]
[38,0,0,0,0,0,0,0,0,0,0,0,0,0,0,0,0,0,0,0,0,0,0,0,0,0,0,0,0,0,0,0,0,0,0,0,0,0,0,0,0,0,0,0,0,0,0,0,0,0,0,0,0,1,1]
[39,0,0,0,0,0,0,0,0,0,0,0,0,0,0,0,0,0,0,0,0,0,0,0,0,0,0,0,0,0,0,0,0,0,0,0,0,0,0,0,0,0,0,0,0,0,0,0,0,0,0,0,0,1,1]
[40,0,0,0,0,0,0,0,0,0,0,0,0,0,0,0,0,0,0,0,0,0,0,0,0,0,0,0,0,0,0,0,0,0,0,0,0,0,0,0,0,0,0,0,0,0,0,0,0,0,0,0,0,1,1]
["Tot.",{"$f":"SUM(B49:B88)","v":1},{"$f":"SUM(C49:C88)","v":7},6,0,0,1,1,3,0,0,0,748,19,24,{"$f":"SUM(P49:P88)","v":8},{"$f":"SUM(Q49:Q88)","v":10},10,{"$f":"SUM(S49:S88)","v":5},13,9,{"$f":"SUM(V49:V88)","v":2},12,0,10,6,10,6,2,0,0,1,1,0,1,4,2,2,1,2,1,0,1,1,0,3,1,1,{"$f":"SUM(AW49:AW88)","v":3},3,{"$f":"SUM(AY49:AY88)","v":1},{"$f":"SUM(AZ49:AZ88)","v":1},0,34,35]

{"sheet":"Prev","index":8,"n_rows":122,"n_cols":24,"rows_kept":122,"cut":false,"hidden":false,"merged":[[2,23,3,23],[2,0,2,2],[2,3,2,5],[2,6,2,8],[2,20,3,20],[2,21,3,21],[2,22,3,22]]}
[]
[]
["ELIXIR",null,null,"ELIXIR NOIR",null,null,"OR",null,null,null,"Labo","ouvrier1","ouvrier2","ouvrier3","ouvrier4","ouvrier5",null,null,null,null,"Point d'xp acquis","Point xp cumulé","Point xp lvl en cours","LVL"]
["Prod","pillage",3938000,"Prod","pillage",52079,"Prod","pillage",418680,null,null,null,null,null,null,null,"rose","noir","Jaune"]
[270000,null,{"$f":"C4+A5+Q5","v":4208000},700,null,{"$f":"+F4+D5+E5+R5","v":52779},{"$f":"483000+87000+155500","v":725500},null,{"$f":"+I4+G5+H5+S5","v":1044180},"2015-04-03","golem 2","extrac elix 11",null,"rempart 8","Camp 8","Camp 8",null,null,-100000,null,null,null,{"$f":"V5-VLOOKUP(X5,level!A:C,3,0)","v":0},{"$f":"VLOOKUP(V5,level!C:D,2,1)","v":1}]
[{"$f":"504000","v":504000},{"$f":"800000+532000","v":1332000},{"$f":"C5+A6+B6+Q6","v":6044000},{"$f":"2880+2000+2070","v":6950},null,{"$f":"+F5+D6+E6+R6","v":59729},{"$f":"528000+500000+525000","v":1553000},null,{"$f":"+I5+G6+H6+S6","v":1097180},"2015-04-04","golem 2","extrac elix 11",null,"rempart 8","Camp 8","Camp 8",null,null,-1500000,null,null,null,{"$f":"V6-VLOOKUP(X6,level!A:C,3,0)","v":0},{"$f":"VLOOKUP(V6,level!C:D,2,1)","v":1}]
[{"$f":"504000","v":504000},{"$f":"700000+193000","v":893000},{"$f":"C6+A7+B7+Q7","v":691000},{"$f":"2880+2000+3070","v":7950},null,47679,{"$f":"528000+500000+500000","v":1528000},null,2125180,"2015-04-05","serviteur3","extrac elix 11","Camp 8","rempart 8","Camp 8","Camp 8",-6750000,-20000,-500000,null,null,null,{"$f":"V7-VLOOKUP(X7,level!A:C,3,0)","v":0},{"$f":"VLOOKUP(V7,level!C:D,2,1)","v":1}]
[{"$f":"6*(3000*24)","v":432000},{"$f":"500000-450000","v":50000},1173000,{"$f":"2880","v":2880},{"$f":"2000-2950","v":-950},49609,{"$f":"5*(3000*24)+2*(3500*24)","v":528000},{"$f":"500000-975000","v":-475000},{"$f":"+I7+G8+H8+S8","v":178180},"2015-04-06","serviteur3","extrac elix 11","Camp 8","rempart 8","Camp 8","Camp 8",null,null,{"$f":"-4*500000","v":-2000000},null,null,null,{"$f":"V8-VLOOKUP(X8,level!A:C,3,0)","v":0},{"$f":"VLOOKUP(V8,level!C:D,2,1)","v":1}]
[{"$f":"7*(3000*24)","v":504000},{"$f":"500000+220000","v":720000},2397000,{"$f":"2*(45*24)+1*(30*24)","v":2880},{"$f":"2000-150","v":1850},54339,528000,{"$f":"500000+730000","v":1230000},436180,"2015-04-07","serviteur3",null,"Camp 8","rempart 8","Camp 8","Camp 8",null,null,{"$f":"-3*500000","v":-1500000},null,null,null,{"$f":"V9-VLOOKUP(X9,level!A:C,3,0)","v":0},{"$f":"VLOOKUP(V9,level!C:D,2,1)","v":1}]
[{"$f":"7*(3000*24)","v":504000},{"$f":"500000+780000","v":1280000},1431000,{"$f":"2*(45*24)+1*(30*24)","v":2880},{"$f":"2000+760","v":2760},59979,528000,{"$f":"500000+325000","v":825000},289180,"2015-04-08","serviteur3","Cas. Noire 5","Camp 8","rempart 8",null,"Camp 8",-2750000,null,{"$f":"-500000*3","v":-1500000},null,null,null,{"$f":"V10-VLOOKUP(X10,level!A:C,3,0)","v":0},{"$f":"VLOOKUP(V10,level!C:D,2,1)","v":1}]
[504000,{"$f":"500000+450000","v":950000},885000,{"$f":"2*(45*24)+1*(30*24)","v":2880},{"$f":"1700+1030","v":2730},65589,528000,{"$f":"500000+510000","v":1010000},327180,"2015-04-09","serviteur3","Cas. Noire 5","Camp 8","rempart 8","Foreuse 3","Camp 8",-2000000,null,{"$f":"-3*500000","v":-1500000},null,null,null,{"$f":"V11-VLOOKUP(X11,level!A:C,3,0)","v":0},{"$f":"VLOOKUP(V11,level!C:D,2,1)","v":1}]
[504000,{"$f":"500000+540000","v":1040000},2429000,{"$f":"2*(45*24)+0*(30*24)","v":2160},{"$f":"1700+3710","v":5410},43159,528000,{"$f":"500000+735000","v":1235000},90180,"2015-04-10","serviteur4","Cas. Noire 5","Camp 8","rempart 8","Foreuse 3","Camp 8",null,-30000,{"$f":"-4*500000","v":-2000000},null,null,null,{"$f":"V12-VLOOKUP(X12,level!A:C,3,0)","v":0},{"$f":"VLOOKUP(V12,level!C:D,2,1)","v":1}]
[504000,{"$f":"500000+450000+100000+100000+120000+100000+240000","v":1610000},1543000,{"$f":"2*(45*24)+0*(30*24)","v":2160},{"$f":"1700-120","v":1580},46899,528000,{"$f":"500000+85000+345000+90000+150000+120000+140000+135000+115000+325000","v":2005000},623180,"2015-04-11","serviteur4","Cas. Noire 5","Camp 8","rempart 8 + Cuve 5","Foreuse 3","Camp 8",-3000000,null,{"$f":"-4*500000","v":-2000000},null,null,null,{"$f":"V13-VLOOKUP(X13,level!A:C,3,0)","v":0},{"$f":"VLOOKUP(V13,level!C:D,2,1)","v":1}]
[504000,{"$f":"500000+200000","v":700000},2411000,{"$f":"2*(45*24)+0*(30*24)","v":2160},{"$f":"1700","v":1700},50759,{"$f":"4*(3000*24)+2*(3500*24)","v":456000},{"$f":"500000+215000+210000","v":925000},2004180,"2015-04-12","serviteur4","Cas. Noire 5","Camp 8","Cuve 5",null,"Mine 12",-336000,null,null,null,null,null,{"$f":"V14-VLOOKUP(X14,level!A:C,3,0)","v":0},{"$f":"VLOOKUP(V14,level!C:D,2,1)","v":1}]
[504000,{"$f":"500000-325000+775000","v":950000},3865000,{"$f":"3*(45*24)","v":3240},{"$f":"1700-1440+3290","v":3550},57549,{"$f":"4*(3000*24)+2*(3500*24)","v":456000},{"$f":"500000-175000+765000","v":1090000},3550180,"2015-04-13","serviteur4","Cas. Noire 5","Camp 8","Cuve 5",null,"Mine 12",null,null,null,null,null,null,{"$f":"V15-VLOOKUP(X15,level!A:C,3,0)","v":0},{"$f":"VLOOKUP(V15,level!C:D,2,1)","v":1}]
[504000,{"$f":"500000-170000+340000-320000+25000","v":375000},4744000,{"$f":"3*(45*24)","v":3240},{"$f":"1700-1985+1310-2000+120","v":-855},59934,{"$f":"4*(3000*24)+2*(3500*24)","v":456000},{"$f":"500000+465000+105000+50000","v":1120000},126180,"2015-04-14","serviteur4","Cas. Noire 5","Camp 8","Cuve 5","tde 1","Mine 12",null,null,-5000000,null,null,null,{"$f":"V16-VLOOKUP(X16,level!A:C,3,0)","v":0},{"$f":"VLOOKUP(V16,level!C:D,2,1)","v":1}]
[504000,{"$f":"500000-510000+70000+150000+440000+140000+300000","v":1090000},6088000,{"$f":"3*(45*24)","v":3240},{"$f":"1700-3500+80+450+280+2920+280+630","v":2840},66014,{"$f":"4*(3000*24)+2*(3500*24)","v":456000},{"$f":"500000-490000+70000+130000+440000+180000+95000","v":925000},1507180,"2015-04-15","serviteur4","Cas. Noire 5","reserv Or 10","Cuve 5","tde 1","Mine 12",-250000,null,null,null,null,null,{"$f":"V17-VLOOKUP(X17,level!A:C,3,0)","v":0},{"$f":"VLOOKUP(V17,level!C:D,2,1)","v":1}]
[504000,{"$f":"500000-415000+155000+180000+45000+270000+370000+290000","v":1395000},987000,{"$f":"3*(45*24)","v":3240},{"$f":"1700-3340+1110+310+230+830+1020+610","v":2470},71724,{"$f":"4*(3000*24)+2*(3500*24)","v":456000},{"$f":"500000-330000+185000+70000+50000+300000+385000+290000","v":1450000},3413180,"2015-04-16","serviteur4","Cas. Noire 6","reserv Or 11","Foreuse 4","tde 1","Mine 12",{"$f":"-3500000-3000000-500000","v":-7000000},null,null,null,{"$f":"293+657","v":950},{"$f":"204750+28+U18","v":205728},{"$f":"V18-VLOOKUP(X18,level!A:C,3,0)","v":978},{"$f":"VLOOKUP(V18,level!C:D,2,1)","v":91}]
[504000,{"$f":"500000-335000","v":165000},1656000,{"$f":"2*(45*24)","v":2160},{"$f":"1700-2360","v":-660},33224,{"$f":"3*(3000*24)+3*(3500*24)","v":468000},{"$f":"500000-200000","v":300000},4181180,"2015-04-17","serviteur 5","Cas. Noire 6","reserv Or 11","Foreuse 4","tde 1",null,null,-40000,null,null,96,{"$f":"U19+V18","v":205824},{"$f":"V19-VLOOKUP(X19,level!A:C,3,0)","v":1074},{"$f":"VLOOKUP(V19,level!C:D,2,1)","v":91}]
[504000,null,1824000,{"$f":"2*(45*24)","v":2160},null,35384,{"$f":"3*(3000*24)+3*(3500*24)","v":468000},null,4649180,"2015-04-18","serviteur 5","Cas. Noire 6","Mine 12","Foreuse 4","tde 1",null,-336000,null,null,null,415,206239,{"$f":"V20-VLOOKUP(X20,level!A:C,3,0)","v":1489},{"$f":"VLOOKUP(V20,level!C:D,2,1)","v":91}]
[504000,{"$f":"500000-70000","v":430000},2758000,{"$f":"2*(45*24)","v":2160},{"$f":"1700-3400+650","v":-1050},36494,{"$f":"3*(3000*24)+3*(3500*24)","v":468000},{"$f":"500000-410000","v":90000},207180,"2015-04-19","serviteur 5","Cas. Noire 6","Mine 12","Foreuse 4","tde 1","tde 1",null,null,-5000000,null,587,206826,{"$f":"V21-VLOOKUP(X21,level!A:C,3,0)","v":2076},{"$f":"VLOOKUP(V21,level!C:D,2,1)","v":91}]
[504000,{"$f":"500000-230000","v":270000},532000,{"$f":"2*(45*24)","v":2160},{"$f":"1700-790","v":910},39564,{"$f":"3*(3000*24)+3*(3500*24)","v":468000},{"$f":"500000-160000","v":340000},1015180,"2015-04-20","serviteur 5","Cas. Noire 6","Mine 12","Foreuse 4","tde 1","tde 1",-3000000,null,null,null,186,207012,{"$f":"V22-VLOOKUP(X22,level!A:C,3,0)","v":2262},{"$f":"VLOOKUP(V22,level!C:D,2,1)","v":91}]
[504000,{"$f":"500000-740000+110000+240000","v":110000},1146000,{"$f":"1*(45*24)+1*(60*24)","v":2520},{"$f":"1700-2610+730+2270","v":2090},44174,{"$f":"3*(3000*24)+3*(3500*24)","v":468000},{"$f":"500000-600000+160000+650000","v":710000},2193180,"2015-04-21","serviteur 5","Cas. Noire 6","Mine 12","Foreuse 4",null,"tde 1",null,null,null,null,777,207789,{"$f":"V23-VLOOKUP(X23,level!A:C,3,0)","v":3039},{"$f":"VLOOKUP(V23,level!C:D,2,1)","v":91}]
[504000,{"$f":"500000+200000","v":700000},2350000,{"$f":"1*(45*24)+1*(60*24)","v":2520},{"$f":"1700+1240","v":2940},49634,{"$f":"3*(3000*24)+4*(3500*24)","v":552000},{"$f":"500000+805000","v":1305000},1050180,"2015-04-22","serviteur 5","Cas. Noire 6","Mine 12","Foreuse 4","arcX","tde 1",null,null,-3000000,null,587,{"$f":"U24+V23","v":208376},{"$f":"V24-VLOOKUP(X24,level!A:C,3,0)","v":3626},{"$f":"VLOOKUP(V24,level!C:D,2,1)","v":91}]
[504000,{"$f":"500000-575000+413000","v":338000},192000,{"$f":"1*(45*24)+1*(60*24)","v":2520},{"$f":"1700-2880+1600+760","v":1180},53334,{"$f":"2*(3000*24)+4*(3500*24)","v":480000},{"$f":"500000-505000+900000","v":895000},2425180,"2015-04-23","serviteur 5","Cas. Noire 6","Foreuse 4",null,"arcX","tde 1",-3000000,null,null,null,null,{"$f":"U25+V24","v":208376},{"$f":"V25-VLOOKUP(X25,level!A:C,3,0)","v":3626},{"$f":"VLOOKUP(V25,level!C:D,2,1)","v":91}]
[504000,{"$f":"500000+40000+157000+240000","v":937000},1297000,{"$f":"2*(60*24)+0*(45*24)","v":2880},{"$f":"1700+490+1380+1220","v":4790},61004,{"$f":"2*(3000*24)+4*(3500*24)","v":480000},{"$f":"500000+60000+160000+135000+265000","v":1120000},4025180,"2015-04-24","serviteur 5","Cas. Noire 6","Foreuse 4","Mine 12","arcX","tde 1",-336000,null,null,null,null,208376,{"$f":"V26-VLOOKUP(X26,level!A:C,3,0)","v":3626},{"$f":"VLOOKUP(V26,level!C:D,2,1)","v":91}]
[504000,{"$f":"500000-51000","v":449000},1000000,{"$f":"2*(60*24)+0*(45*24)","v":2880},{"$f":"1700-260","v":1440},65324,{"$f":"2*(3000*24)+4*(3500*24)","v":480000},{"$f":"500000-80000","v":420000},4925180,"2015-04-25","serviteur 5","Cas. Noire 2","Foreuse 4","Mine 12","arcX","tde 1",-1250000,null,null,null,881,209257,{"$f":"V27-VLOOKUP(X27,level!A:C,3,0)","v":4507},{"$f":"VLOOKUP(V27,level!C:D,2,1)","v":91}]
[504000,{"$f":"500000+780000+230000","v":1510000},3014000,{"$f":"2*(60*24)+0*(45*24)","v":2880},{"$f":"1700+1280+1270","v":4250},72454,{"$f":"2*(3000*24)+4*(3500*24)","v":480000},{"$f":"500000+685000+250000+250000","v":1685000},590180,"2015-04-26","serviteur 5","Cas. Noire 2","Foreuse 4","Mine 12","arcX","TdE 2",null,null,-6500000,null,{"$f":"777+1369","v":2146},211403,{"$f":"V28-VLOOKUP(X28,level!A:C,3,0)","v":2103},{"$f":"VLOOKUP(V28,level!C:D,2,1)","v":92}]
[504000,{"$f":"500000-260000+80000+30000+120000","v":470000},1988000,{"$f":"2*(60*24)+0*(45*24)","v":2880},{"$f":"1700+200+560","v":2460},17794,{"$f":"2*(3000*24)+4*(3500*24)","v":480000},{"$f":"500000-230000+100000+140000","v":510000},1580180,"2015-04-27","molosse 2","Cas. Noire 2","Caserne 10","Mine 12","arcX","TdE 2",-2000000,-60000,null,null,657,212060,{"$f":"V29-VLOOKUP(X29,level!A:C,3,0)","v":2760},{"$f":"VLOOKUP(V29,level!C:D,2,1)","v":92}]
[504000,{"$f":"500000-90000+100000+250000","v":760000},3252000,{"$f":"3*(60*24)","v":4320},{"$f":"1700-1420+940+620","v":1840},23954,{"$f":"5*(3000*24)+1*(3500*24)","v":444000},{"$f":"500000-90000+140000+360000","v":910000},2934180,"2015-04-28","molosse 2","Cas. Noire 2","Caserne 10","Mine 12","arcX","TdE 2",null,null,null,null,null,212060,{"$f":"V30-VLOOKUP(X30,level!A:C,3,0)","v":2760},{"$f":"VLOOKUP(V30,level!C:D,2,1)","v":92}]
[504000,{"$f":"500000+60000+190000+232000+280000","v":1262000},2682000,{"$f":"3*(60*24)","v":4320},{"$f":"1700+1210+1360","v":4270},32544,{"$f":"5*(3000*24)+1*(3500*24)","v":444000},{"$f":"500000+25000+110000+205000+200000+380000","v":1420000},4798180,"2015-04-29","molosse 2","Cas. Noire 2","Caserne 10","Mine 12","rempart 9","TdE 2",{"$f":"-2000000-336000","v":-2336000},null,null,null,{"$f":"657+777","v":1434},213494,{"$f":"V31-VLOOKUP(X31,level!A:C,3,0)","v":4194},{"$f":"VLOOKUP(V31,level!C:D,2,1)","v":92}]
[504000,{"$f":"500000+200000+47000+320000","v":1067000},2503000,4320,{"$f":"1700+3890","v":5590},42454,{"$f":"1*(3000*24)+5*(3500*24)","v":492000},{"$f":"500000+100000+81000+330000+100000","v":1111000},5901180,"2015-04-30","molosse 2","Cas. Noire 3","Caserne 10","Mine 12","Air sweeper 1","TdE 2",{"$f":"-1750000","v":-1750000},null,-500000,null,850,214344,{"$f":"V32-VLOOKUP(X32,level!A:C,3,0)","v":444},{"$f":"VLOOKUP(V32,level!C:D,2,1)","v":93}]
[504000,{"$f":"500000+115000","v":615000},3622000,4320,{"$f":"1700+3460","v":5160},51934,{"$f":"1*(3000*24)+5*(3500*24)","v":492000},{"$f":"500000+340000","v":840000},733180,"2015-05-01","molosse 2","Cas. Noire 3","Caserne 10","Mine 12","TdE 2","TdE 2",null,null,-6500000,null,{"$f":"293+33","v":326},214670,{"$f":"V33-VLOOKUP(X33,level!A:C,3,0)","v":770},{"$f":"VLOOKUP(V33,level!C:D,2,1)","v":93}]
[504000,{"$f":"500000+90000+140000","v":730000},4856000,4320,{"$f":"1700-1980","v":-280},55974,492000,{"$f":"500000+290000+170000+125000","v":1085000},2310180,"2015-05-02","molosse 2","Cas. Noire 3","Caserne 10","Mine 12","TdE 2","TdE 2",null,null,null,null,657,215327,{"$f":"V34-VLOOKUP(X34,level!A:C,3,0)","v":1427},{"$f":"VLOOKUP(V34,level!C:D,2,1)","v":93}]
[504000,{"$f":"500000-530000","v":-30000},2330000,4320,660,60954,492000,{"$f":"500000-400000","v":100000},2902180,"2015-05-03","molosse 2","Cas. Noire 3","Caserne 10","Mine 12","TdE 2","TdE 2",{"$f":"-2000000-1000000","v":-3000000},null,null,null,null,215327,{"$f":"V35-VLOOKUP(X35,level!A:C,3,0)","v":1427},{"$f":"VLOOKUP(V35,level!C:D,2,1)","v":93}]
[504000,{"$f":"500000-440000","v":60000},2894000,4320,{"$f":"1700-2555","v":-855},64419,{"$f":"6*(3500*24)","v":504000},{"$f":"500000-400000","v":100000},3506180,"2015-05-04","molosse 2","Cas. Noire 3","Caserne 10","Mine 12","TdE 2","TdE 2",null,null,null,-336000,null,215327,{"$f":"V36-VLOOKUP(X36,level!A:C,3,0)","v":1427},{"$f":"VLOOKUP(V36,level!C:D,2,1)","v":93}]
[504000,500000,3898000,4320,1700,70439,{"$f":"6*(3500*24)","v":504000},500000,4510180,"2015-05-05","molosse 2","Cas. Noire 3","Caserne 10","Mine 12","TdE 2","TdE 2",null,null,null,null,720,216047,{"$f":"V37-VLOOKUP(X37,level!A:C,3,0)","v":2147},{"$f":"VLOOKUP(V37,level!C:D,2,1)","v":93}]
[504000,500000,2652000,4320,1700,76459,{"$f":"6*(3500*24)","v":504000},500000,5514180,"2015-05-06","molosse 2","Cas. Noire 4","Caserne 10","Mine 12","TdE 2","TdE 2",-2250000,null,null,null,null,216047,{"$f":"V38-VLOOKUP(X38,level!A:C,3,0)","v":2147},{"$f":"VLOOKUP(V38,level!C:D,2,1)","v":93}]
[504000,500000,3656000,4320,1700,12479,{"$f":"6*(3500*24)","v":504000},500000,6518180,"2015-05-07","molosse 3","Cas. Noire 4","Caserne 10","Mine 12","TdE 2",null,null,-70000,null,null,657,216704,{"$f":"V39-VLOOKUP(X39,level!A:C,3,0)","v":2804},{"$f":"VLOOKUP(V39,level!C:D,2,1)","v":93}]
[504000,500000,660000,{"$f":"2*(60*24)","v":2880},1700,17059,{"$f":"7*(3500*24)","v":588000},500000,7606180,"2015-05-08","molosse 3","Cas. Noire 4","Caserne 10","Mine 12","TdE 2","Foreuse 5",-4000000,null,null,null,{"$f":"929+720","v":1649},218353,{"$f":"V40-VLOOKUP(X40,level!A:C,3,0)","v":4453},{"$f":"VLOOKUP(V40,level!C:D,2,1)","v":93}]
[504000,500000,1664000,{"$f":"2*(60*24)","v":2880},1700,-3361,{"$f":"7*(3500*24)","v":588000},500000,694180,"2015-05-09","molosse 3","Cas. Noire 4","TdE 3","Roi 7","TdE 2","Foreuse 5",null,-25000,-8000000,null,null,218353,{"$f":"V41-VLOOKUP(X41,level!A:C,3,0)","v":4453},{"$f":"VLOOKUP(V41,level!C:D,2,1)","v":93}]
[504000,500000,2668000,{"$f":"2*(60*24)","v":2880},1700,1219,588000,500000,1782180,"2015-05-10","molosse 3","Cas. Noire 4","TdE 3","Roi 7","TdE 2","Foreuse 5",null,null,null,null,null,218353,{"$f":"V42-VLOOKUP(X42,level!A:C,3,0)","v":4453},{"$f":"VLOOKUP(V42,level!C:D,2,1)","v":93}]
[504000,500000,3672000,{"$f":"2*(60*24)","v":2880},1700,5799,588000,500000,2870180,"2015-05-11","molosse 3","Cas. Noire 4","TdE 3","Roi 7",null,"Foreuse 5",null,null,null,null,null,218353,{"$f":"V43-VLOOKUP(X43,level!A:C,3,0)","v":4453},{"$f":"VLOOKUP(V43,level!C:D,2,1)","v":93}]
[504000,500000,676000,{"$f":"1*(60*24)+1*(80*24)","v":3360},1700,10859,588000,500000,3958180,"2015-05-12","molosse 3","Cas. Noire 4","TdE 3",null,"Foreuse 5","Foreuse 5",-4000000,null,null,null,777,219130,{"$f":"V44-VLOOKUP(X44,level!A:C,3,0)","v":580},{"$f":"VLOOKUP(V44,level!C:D,2,1)","v":94}]
[504000,500000,1680000,{"$f":"1*(60*24)+1*(80*24)","v":3360},1700,15919,588000,500000,5046180,"2015-05-13","molosse 3",null,"TdE 3",null,"Foreuse 5",null,null,null,null,null,null,219130,{"$f":"V45-VLOOKUP(X45,level!A:C,3,0)","v":580},{"$f":"VLOOKUP(V45,level!C:D,2,1)","v":94}]
[504000,500000,2684000,3360,1700,20979,588000,500000,6134180,"2015-05-14","molosse 3",null,"TdE 3",null,"Foreuse 5",null,null,null,null,null,null,219130,{"$f":"V46-VLOOKUP(X46,level!A:C,3,0)","v":580},{"$f":"VLOOKUP(V46,level!C:D,2,1)","v":94}]
[504000,500000,3688000,3360,1700,26039,588000,500000,7222180,"2015-05-15","molosse 3",null,"TdE 3",null,"Foreuse 5",null,null,null,null,null,{"$f":"929+720","v":1649},220779,{"$f":"V47-VLOOKUP(X47,level!A:C,3,0)","v":2229},{"$f":"VLOOKUP(V47,level!C:D,2,1)","v":94}]
[504000,500000,4692000,3360,1700,1099,588000,500000,7974180,"2015-05-16","molosse 3","Roi 8","TdE 3",null,"Foreuse 5","Extract. 12",null,-30000,-336000,null,null,220779,{"$f":"V48-VLOOKUP(X48,level!A:C,3,0)","v":2229},{"$f":"VLOOKUP(V48,level!C:D,2,1)","v":94}]
[504000,500000,2946000,3360,1700,6159,588000,500000,9062180,"2015-05-17","molosse 3","Roi 8","TdE 3","Cas. Noire 5","Foreuse 5","Extract. 12",-2750000,null,null,null,null,220779,{"$f":"V49-VLOOKUP(X49,level!A:C,3,0)","v":2229},{"$f":"VLOOKUP(V49,level!C:D,2,1)","v":94}]
[504000,500000,3950000,{"$f":"2*(80*24)+1*(60*24)","v":5280},1700,13139,588000,500000,10150180,"2015-05-18","molosse 3","Roi 8","TdE 3","Cas. Noire 5",null,"Extract. 12",null,null,null,null,null,220779,{"$f":"V50-VLOOKUP(X50,level!A:C,3,0)","v":2229},{"$f":"VLOOKUP(V50,level!C:D,2,1)","v":94}]
[504000,500000,4954000,{"$f":"2*(80*24)+1*(60*24)","v":5280},1700,20119,588000,500000,11238180,"2015-05-19","molosse 3","Roi 8","TdE 3","Cas. Noire 5",null,"Extract. 12",null,null,null,null,null,220779,{"$f":"V51-VLOOKUP(X51,level!A:C,3,0)","v":2229},{"$f":"VLOOKUP(V51,level!C:D,2,1)","v":94}]
[504000,500000,1958000,5280,1700,27099,588000,500000,12326180,"2015-05-20","Sort Gel 2",null,"TdE 3","Cas. Noire 5",null,"Extract. 12",-4000000,null,null,null,null,220779,{"$f":"V52-VLOOKUP(X52,level!A:C,3,0)","v":2229},{"$f":"VLOOKUP(V52,level!C:D,2,1)","v":94}]
[504000,500000,2962000,5280,1700,-921,588000,500000,13414180,"2015-05-21","Sort Gel 2","Roi 9","TdE 3","Cas. Noire 5",null,null,null,-35000,null,null,720,221499,{"$f":"V53-VLOOKUP(X53,level!A:C,3,0)","v":2949},{"$f":"VLOOKUP(V53,level!C:D,2,1)","v":94}]
[504000,500000,3966000,5280,1700,6059,588000,500000,6502180,"2015-05-22","Sort Gel 2","Roi 9","TdE 3","Cas. Noire 5","TdE 3",null,null,null,-8000000,null,null,221499,{"$f":"V54-VLOOKUP(X54,level!A:C,3,0)","v":2949},{"$f":"VLOOKUP(V54,level!C:D,2,1)","v":94}]
[504000,500000,4970000,5280,1700,13039,588000,500000,7254180,"2015-05-23","Sort Gel 2","Roi 9",null,"Cas. Noire 5","TdE 3","Extract. 12",null,null,-336000,null,null,221499,{"$f":"V55-VLOOKUP(X55,level!A:C,3,0)","v":2949},{"$f":"VLOOKUP(V55,level!C:D,2,1)","v":94}]
[504000,500000,5974000,5280,1700,20019,588000,500000,8342180,"2015-05-24","Sort Gel 2","Roi 9",null,"Cas. Noire 5","TdE 3","Extract. 12",null,null,null,null,null,221499,{"$f":"V56-VLOOKUP(X56,level!A:C,3,0)","v":2949},{"$f":"VLOOKUP(V56,level!C:D,2,1)","v":94}]
[504000,500000,1978000,5280,1700,26999,588000,500000,9430180,"2015-05-25","Sort Gel 3",null,null,null,"TdE 3","Extract. 12",-5000000,null,null,null,null,221499,{"$f":"V57-VLOOKUP(X57,level!A:C,3,0)","v":2949},{"$f":"VLOOKUP(V57,level!C:D,2,1)","v":94}]
[504000,500000,-518000,5280,1700,33979,588000,500000,10518180,"2015-05-26","Sort Gel 3",null,null,"Cas. Noire 6","TdE 3","Extract. 12",-3500000,null,null,null,{"$f":"1099","v":1099},222598,{"$f":"V58-VLOOKUP(X58,level!A:C,3,0)","v":4048},{"$f":"VLOOKUP(V58,level!C:D,2,1)","v":94}]
[504000,500000,486000,5280,1700,959,588000,500000,11606180,"2015-05-27","Sort Gel 3","Roi 10",null,"Cas. Noire 6","TdE 3","Extract. 12",null,-40000,null,null,null,222598,{"$f":"V59-VLOOKUP(X59,level!A:C,3,0)","v":4048},{"$f":"VLOOKUP(V59,level!C:D,2,1)","v":94}]
[504000,500000,1490000,5280,1700,7939,588000,500000,12358180,"2015-05-28","Sort Gel 3","Roi 10","Extract. 12","Cas. Noire 6","TdE 3",null,null,null,-336000,null,null,222598,{"$f":"V60-VLOOKUP(X60,level!A:C,3,0)","v":4048},{"$f":"VLOOKUP(V60,level!C:D,2,1)","v":94}]
[504000,500000,2494000,5280,1700,14919,588000,500000,13110180,"2015-05-29","Sort Gel 3","Roi 10","Extract. 12","Cas. Noire 6","TdE 3","Extract. 12",null,null,-336000,null,null,222598,{"$f":"V61-VLOOKUP(X61,level!A:C,3,0)","v":4048},{"$f":"VLOOKUP(V61,level!C:D,2,1)","v":94}]
[504000,500000,3498000,5280,1700,21899,588000,500000,14198180,"2015-05-30","Sort Gel 3","Roi 10","Extract. 12","Cas. Noire 6","TdE 3","Extract. 12",null,null,null,null,null,222598,{"$f":"V62-VLOOKUP(X62,level!A:C,3,0)","v":4048},{"$f":"VLOOKUP(V62,level!C:D,2,1)","v":94}]
[504000,500000,4502000,5280,1700,28879,588000,500000,15286180,"2015-05-31","Sort Gel 3","Roi 10","Extract. 12","Cas. Noire 6","TdE 3","Extract. 12",null,null,null,null,null,222598,{"$f":"V63-VLOOKUP(X63,level!A:C,3,0)","v":4048},{"$f":"VLOOKUP(V63,level!C:D,2,1)","v":94}]
[504000,500000,-994000,5280,1700,3359,588000,500000,16374180,"2015-06-01","Sort Gel 4","Reine 6","Extract. 12","Cas. Noire 6","TdE 3","Extract. 12",-6500000,-32500,null,null,null,222598,{"$f":"V64-VLOOKUP(X64,level!A:C,3,0)","v":4048},{"$f":"VLOOKUP(V64,level!C:D,2,1)","v":94}]
[504000,500000,10000,5280,1700,10339,588000,500000,17462180,"2015-06-02","Sort Gel 4","Reine 6",null,"Cas. Noire 6","TdE 3","Extract. 12",null,null,null,null,null,222598,{"$f":"V65-VLOOKUP(X65,level!A:C,3,0)","v":4048},{"$f":"VLOOKUP(V65,level!C:D,2,1)","v":94}]
[504000,500000,1014000,5280,1700,17319,588000,500000,18214180,"2015-06-03","Sort Gel 4","Reine 6","Extract. 12","Cas. Noire 6","TdE 3",null,null,null,-336000,null,null,222598,{"$f":"V66-VLOOKUP(X66,level!A:C,3,0)","v":4048},{"$f":"VLOOKUP(V66,level!C:D,2,1)","v":94}]
[504000,500000,2018000,5280,1700,24299,588000,500000,19302180,"2015-06-04","Sort Gel 4",null,"Extract. 12",null,"TdE 3",null,null,null,null,null,{"$f":"1099+881","v":1980},224578,{"$f":"V67-VLOOKUP(X67,level!A:C,3,0)","v":1328},{"$f":"VLOOKUP(V67,level!C:D,2,1)","v":95}]
[504000,500000,3022000,5280,1700,31279,588000,500000,20054180,"2015-06-05","Sort Gel 4",null,"Extract. 12","Extract. 12",null,null,null,null,-336000,null,null,224578,{"$f":"V68-VLOOKUP(X68,level!A:C,3,0)","v":1328},{"$f":"VLOOKUP(V68,level!C:D,2,1)","v":95}]
[504000,500000,426000,5280,1700,3259,588000,500000,20806180,"2015-06-06","Sort Gel 4","Reine 7","Extract. 12","Extract. 12","Extract. 12","Cuve 6",-3600000,-35000,-336000,null,null,224578,{"$f":"V69-VLOOKUP(X69,level!A:C,3,0)","v":1328},{"$f":"VLOOKUP(V69,level!C:D,2,1)","v":95}]
[504000,500000,1430000,5280,1700,{"$f":"+F69+D70+E70+R70","v":10239},588000,500000,{"$f":"+I69+G70+H70+S70","v":21894180},"2015-06-07","Sort Gel 4","Reine 7","Extract. 12","Extract. 12","Extract. 12","Cuve 6",null,null,null,null,null,224578,{"$f":"V70-VLOOKUP(X70,level!A:C,3,0)","v":1328},{"$f":"VLOOKUP(V70,level!C:D,2,1)","v":95}]
[504000,500000,{"$f":"C70+A71+B71+Q71","v":2434000},5280,1700,17219,588000,500000,22982180,"2015-06-08","Sort Gel 4","Reine 7",null,"Extract. 12","Extract. 12","Cuve 6",null,null,null,null,null,224578,{"$f":"V71-VLOOKUP(X71,level!A:C,3,0)","v":1328},{"$f":"VLOOKUP(V71,level!C:D,2,1)","v":95}]
[504000,500000,3438000,5280,1700,24199,588000,500000,19070180,"2015-06-09","Sort Gel 4",null,"Arc X 2","Extract. 12","Extract. 12","Cuve 6",null,null,-5000000,null,null,224578,{"$f":"V72-VLOOKUP(X72,level!A:C,3,0)","v":1328},{"$f":"VLOOKUP(V72,level!C:D,2,1)","v":95}]
[504000,500000,4442000,5280,1700,31179,588000,500000,20158180,"2015-06-10","Sort Gel 4",null,"Arc X 2",null,"Extract. 12","Cuve 6",null,null,null,null,null,224578,{"$f":"V73-VLOOKUP(X73,level!A:C,3,0)","v":1328},{"$f":"VLOOKUP(V73,level!C:D,2,1)","v":95}]
[{"$f":"7*(3000*24)","v":504000},500000,-2554000,5280,1700,-1841,588000,500000,21246180,"2015-06-11","Sort Gel 5","Reine 8","Arc X 2",null,null,"Cuve 6",-8000000,-40000,null,null,null,224578,{"$f":"V74-VLOOKUP(X74,level!A:C,3,0)","v":1328},{"$f":"VLOOKUP(V74,level!C:D,2,1)","v":95}]
[504000,500000,-1550000,5280,1700,5139,588000,500000,22334180,"2015-06-12","Sort Gel 5","Reine 8","Arc X 2",null,null,null,null,null,null,null,null,224578,{"$f":"V75-VLOOKUP(X75,level!A:C,3,0)","v":1328},{"$f":"VLOOKUP(V75,level!C:D,2,1)","v":95}]
[504000,500000,-546000,5280,1700,12119,588000,500000,18422180,"2015-06-13","Sort Gel 5","Reine 8","Arc X 2",null,null,"CDC 5",null,null,-5000000,null,null,224578,{"$f":"V76-VLOOKUP(X76,level!A:C,3,0)","v":1328},{"$f":"VLOOKUP(V76,level!C:D,2,1)","v":95}]
[504000,500000,458000,5280,1700,19099,588000,500000,14510180,"2015-06-14","Sort Gel 5","Reine 8","Arc X 2","Arc X 2",null,"CDC 5",null,null,-5000000,null,null,224578,{"$f":"V77-VLOOKUP(X77,level!A:C,3,0)","v":1328},{"$f":"VLOOKUP(V77,level!C:D,2,1)","v":95}]
[504000,500000,1462000,5280,1700,26079,588000,500000,15598180,"2015-06-15","Sort Gel 5","Reine 8","Arc X 2","Arc X 2",null,"CDC 5",null,null,null,null,null,224578,{"$f":"V78-VLOOKUP(X78,level!A:C,3,0)","v":1328},{"$f":"VLOOKUP(V78,level!C:D,2,1)","v":95}]
[504000,500000,2466000,5280,1700,33059,588000,500000,16686180,"2015-06-16","Sort Gel 5",null,"Arc X 2","Arc X 2",null,"CDC 5",null,null,null,null,null,224578,{"$f":"V79-VLOOKUP(X79,level!A:C,3,0)","v":1328},{"$f":"VLOOKUP(V79,level!C:D,2,1)","v":95}]
[504000,500000,-530000,{"$f":"3*(60*24)","v":4320},1700,39079,588000,500000,17774180,"2015-06-17","Sort Gel 5",null,"Arc X 2","Arc X 2","Foreuse 5","CDC 5",-4000000,null,null,null,null,224578,{"$f":"V80-VLOOKUP(X80,level!A:C,3,0)","v":1328},{"$f":"VLOOKUP(V80,level!C:D,2,1)","v":95}]
[504000,500000,474000,4320,1700,99,588000,500000,18862180,"2015-06-18","Sort Gel 5","Reine 9","Arc X 2","Arc X 2","Foreuse 5","CDC 5",null,-45000,null,null,929,225507,{"$f":"V81-VLOOKUP(X81,level!A:C,3,0)","v":2257},{"$f":"VLOOKUP(V81,level!C:D,2,1)","v":95}]
[504000,500000,1478000,4320,1700,6119,588000,500000,19950180,"2015-06-19","Sort Gel 5","Reine 9","Arc X 2","Arc X 2","Foreuse 5","CDC 5",null,null,null,null,null,225507,{"$f":"V82-VLOOKUP(X82,level!A:C,3,0)","v":2257},{"$f":"VLOOKUP(V82,level!C:D,2,1)","v":95}]
[504000,500000,2482000,4320,1700,12139,588000,500000,21038180,"2015-06-20","Sort Gel 5","Reine 9","Arc X 2","Arc X 2","Foreuse 5",null,null,null,null,null,null,{"$f":"U83+V82","v":225507},{"$f":"V83-VLOOKUP(X83,level!A:C,3,0)","v":2257},{"$f":"VLOOKUP(V83,level!C:D,2,1)","v":95}]
[504000,500000,3486000,4320,1700,18159,588000,500000,22126180,"2015-06-21","Sort Gel 5","Reine 9","Arc X 2","Arc X 2","Foreuse 5",null,null,null,null,null,null,225507,{"$f":"V84-VLOOKUP(X84,level!A:C,3,0)","v":2257},{"$f":"VLOOKUP(V84,level!C:D,2,1)","v":95}]
[504000,500000,4490000,4320,1700,24179,588000,500000,23214180,"2015-06-22","Sort Gel 5","Reine 9","Arc X 2","Arc X 2","Foreuse 5",null,null,null,null,null,null,225507,{"$f":"V85-VLOOKUP(X85,level!A:C,3,0)","v":2257},{"$f":"VLOOKUP(V85,level!C:D,2,1)","v":95}]
[504000,500000,5494000,4320,1700,30199,588000,500000,24302180,"2015-06-23","Sort Gel 5","Reine 9","Arc X 2","Arc X 2",null,null,null,null,null,null,929,226436,{"$f":"V86-VLOOKUP(X86,level!A:C,3,0)","v":3186},{"$f":"VLOOKUP(V86,level!C:D,2,1)","v":95}]
[504000,500000,1498000,4320,1700,36219,588000,500000,25390180,"2015-06-24","Sort Gel 5",null,"Arc X 2",null,"Foreuse 6",null,-5000000,null,null,null,null,226436,{"$f":"V87-VLOOKUP(X87,level!A:C,3,0)","v":3186},{"$f":"VLOOKUP(V87,level!C:D,2,1)","v":95}]
[504000,500000,2502000,4320,1700,42239,588000,500001,19478181,"2015-06-25",null,null,"Arc X 2","Arc X 3","Foreuse 6","CDC 6",null,null,-7000000,null,777,227213,{"$f":"V88-VLOOKUP(X88,level!A:C,3,0)","v":3963},{"$f":"VLOOKUP(V88,level!C:D,2,1)","v":95}]
[504000,500000,3506000,4320,1700,48259,588000,500002,20566183,"2015-06-26",null,null,"Arc X 2","Arc X 3","Foreuse 6","CDC 6",null,null,null,null,null,227213,{"$f":"V89-VLOOKUP(X89,level!A:C,3,0)","v":3963},{"$f":"VLOOKUP(V89,level!C:D,2,1)","v":95}]
[504000,500000,-490000,4320,1700,54279,588000,500003,21654186,"2015-06-27",null,"Foreuse 6","Arc X 2","Arc X 3","Foreuse 6","CDC 6",-5000000,null,null,null,null,227213,{"$f":"V90-VLOOKUP(X90,level!A:C,3,0)","v":3963},{"$f":"VLOOKUP(V90,level!C:D,2,1)","v":95}]
[504000,500000,514000,4320,1700,60299,588000,500004,22742190,"2015-06-28",null,"Foreuse 6","Arc X 2","Arc X 3","Foreuse 6","CDC 6",null,null,null,null,929,228142,{"$f":"V91-VLOOKUP(X91,level!A:C,3,0)","v":142},{"$f":"VLOOKUP(V91,level!C:D,2,1)","v":96}]
[504000,500000,1518000,4320,1700,66319,588000,500005,23830195,"2015-06-29",null,"Foreuse 6",null,"Arc X 3","Foreuse 6","CDC 6",null,null,null,null,null,228142,{"$f":"V92-VLOOKUP(X92,level!A:C,3,0)","v":142},{"$f":"VLOOKUP(V92,level!C:D,2,1)","v":96}]
[504000,500000,2522000,4320,1700,72339,588000,500006,24918201,"2015-06-30",null,"Foreuse 6",null,"Arc X 3","Foreuse 6","CDC 6",null,null,null,null,null,228142,{"$f":"V93-VLOOKUP(X93,level!A:C,3,0)","v":142},{"$f":"VLOOKUP(V93,level!C:D,2,1)","v":96}]
[504000,500000,3526000,4320,1700,78359,588000,500007,26006208,"2015-07-01",null,"Foreuse 6",null,"Arc X 3",null,"CDC 6",null,null,null,null,null,228142,{"$f":"V94-VLOOKUP(X94,level!A:C,3,0)","v":142},{"$f":"VLOOKUP(V94,level!C:D,2,1)","v":96}]
[504000,500000,4530000,4320,1700,84379,588000,500008,20094216,"2015-07-02",null,"Foreuse 6",null,"Arc X 3","Arc X 3","CDC 6",null,null,-7000000,null,null,228142,{"$f":"V95-VLOOKUP(X95,level!A:C,3,0)","v":142},{"$f":"VLOOKUP(V95,level!C:D,2,1)","v":96}]
[504000,500000,5534000,4320,1700,90399,588000,500009,21182225,"2015-07-03",null,"Foreuse 6",null,"Arc X 3","Arc X 3","CDC 6",null,null,null,null,null,228142,{"$f":"V96-VLOOKUP(X96,level!A:C,3,0)","v":142},{"$f":"VLOOKUP(V96,level!C:D,2,1)","v":96}]
[504000,500000,6538000,4320,1700,96419,588000,500010,22270235,"2015-07-04",null,null,null,"Arc X 3","Arc X 3","CDC 6",null,null,null,null,null,228142,{"$f":"V97-VLOOKUP(X97,level!A:C,3,0)","v":142},{"$f":"VLOOKUP(V97,level!C:D,2,1)","v":96}]
[504000,500000,2542000,4320,1700,102439,588000,500011,23358246,"2015-07-05",null,"Foreuse 6",null,"Arc X 3","Arc X 3","CDC 6",-5000000,null,null,null,null,228142,{"$f":"V98-VLOOKUP(X98,level!A:C,3,0)","v":142},{"$f":"VLOOKUP(V98,level!C:D,2,1)","v":96}]
[504000,500000,3546000,4320,1700,108459,588000,500012,24446258,"2015-07-06",null,"Foreuse 6",null,"Arc X 3","Arc X 3","CDC 6",null,null,null,null,null,228142,{"$f":"V99-VLOOKUP(X99,level!A:C,3,0)","v":142},{"$f":"VLOOKUP(V99,level!C:D,2,1)","v":96}]
[504000,500000,4550000,4320,1700,114479,588000,500013,25534271,"2015-07-07",null,"Foreuse 6",null,"Arc X 3","Arc X 3","CDC 6",null,null,null,null,null,228142,{"$f":"V100-VLOOKUP(X100,level!A:C,3,0)","v":142},{"$f":"VLOOKUP(V100,level!C:D,2,1)","v":96}]
[504000,500000,5554000,4320,1700,120499,588000,500014,26622285,"2015-07-08",null,"Foreuse 6",null,"Arc X 3","Arc X 3","CDC 6",null,null,null,null,1099,229241,{"$f":"V101-VLOOKUP(X101,level!A:C,3,0)","v":1241},{"$f":"VLOOKUP(V101,level!C:D,2,1)","v":96}]
[504000,500001,558001,4320,1701,126520,588000,500015,20710300,"2015-07-09","Geant 6","Foreuse 6","Arc X 3",null,"Arc X 3","CDC 6",-6000000,null,-7000000,null,1099,230340,{"$f":"V102-VLOOKUP(X102,level!A:C,3,0)","v":2340},{"$f":"VLOOKUP(V102,level!C:D,2,1)","v":96}]
[504000,500002,1562003,4320,1702,132542,588000,500016,21798316,"2015-07-10","Geant 6","Foreuse 6","Arc X 3",null,"Arc X 3",null,null,null,null,null,null,230340,{"$f":"V103-VLOOKUP(X103,level!A:C,3,0)","v":2340},{"$f":"VLOOKUP(V103,level!C:D,2,1)","v":96}]
[504000,500003,2566006,4320,1703,138565,588000,500017,22886333,"2015-07-11","Geant 6","Foreuse 6","Arc X 3",null,"Arc X 3",null,null,null,null,null,null,230340,{"$f":"V104-VLOOKUP(X104,level!A:C,3,0)","v":2340},{"$f":"VLOOKUP(V104,level!C:D,2,1)","v":96}]
[504000,500004,3570010,4320,1704,144589,{"$f":"7*(3500*24)","v":588000},500018,23974351,"2015-07-12","Geant 6",null,"Arc X 3",null,"Arc X 3",null,null,null,null,null,null,230340,{"$f":"V105-VLOOKUP(X105,level!A:C,3,0)","v":2340},{"$f":"VLOOKUP(V105,level!C:D,2,1)","v":96}]
[504000,500005,4574015,4320,1705,150614,588000,500019,25062370,"2015-07-13","Geant 6",null,"Arc X 3",null,"Arc X 3",null,null,null,null,null,null,230340,{"$f":"V106-VLOOKUP(X106,level!A:C,3,0)","v":2340},{"$f":"VLOOKUP(V106,level!C:D,2,1)","v":96}]
[504000,500006,5578021,4320,1706,156640,588000,500020,26150390,"2015-07-14","Geant 6",null,"Arc X 3",null,"Arc X 3",null,null,null,null,null,null,230340,{"$f":"V107-VLOOKUP(X107,level!A:C,3,0)","v":2340},{"$f":"VLOOKUP(V107,level!C:D,2,1)","v":96}]
[504000,500007,6582028,4320,1707,162667,588000,500021,27238411,"2015-07-15","Geant 6",null,"Arc X 3",null,"Arc X 3",null,null,null,null,null,1099,231439,{"$f":"V108-VLOOKUP(X108,level!A:C,3,0)","v":3439},{"$f":"VLOOKUP(V108,level!C:D,2,1)","v":96}]
[504000,500008,7586036,4320,1708,168695,588000,500022,20326433,"2015-07-16","Geant 6",null,"Arc X 3","Arc X 4",null,null,null,null,-8000000,null,null,231439,{"$f":"V109-VLOOKUP(X109,level!A:C,3,0)","v":3439},{"$f":"VLOOKUP(V109,level!C:D,2,1)","v":96}]
[504000,500009,8590045,{"$f":"3*(60*24)","v":4320},1709,174724,588000,500023,21414456,"2015-07-17","Geant 6",null,"Arc X 3","Arc X 4",null,null,null,null,null,null,null,231439,{"$f":"V110-VLOOKUP(X110,level!A:C,3,0)","v":3439},{"$f":"VLOOKUP(V110,level!C:D,2,1)","v":96}]
[504000,500010,9594055,4320,1710,180754,588000,500024,22502480,"2015-07-18","Geant 6",null,"Arc X 3","Arc X 4",null,null,null,null,null,null,null,231439,{"$f":"V111-VLOOKUP(X111,level!A:C,3,0)","v":3439},{"$f":"VLOOKUP(V111,level!C:D,2,1)","v":96}]
[504000,500011,10598066,4320,1711,186785,588000,500025,23590505,"2015-07-19",null,null,"Arc X 3","Arc X 4",null,null,null,null,null,null,null,231439,{"$f":"V112-VLOOKUP(X112,level!A:C,3,0)","v":3439},{"$f":"VLOOKUP(V112,level!C:D,2,1)","v":96}]
[504000,500012,11602078,4320,1712,192817,588000,500026,24678531,"2015-07-20",null,null,"Arc X 3","Arc X 4",null,null,null,null,null,null,null,231439,{"$f":"V113-VLOOKUP(X113,level!A:C,3,0)","v":3439},{"$f":"VLOOKUP(V113,level!C:D,2,1)","v":96}]
[504000,500013,12606091,4320,1713,198850,588000,500027,25766558,"2015-07-21",null,null,"Arc X 3","Arc X 4",null,null,null,null,null,null,null,231439,{"$f":"V114-VLOOKUP(X114,level!A:C,3,0)","v":3439},{"$f":"VLOOKUP(V114,level!C:D,2,1)","v":96}]
[504000,500014,13610105,4320,1714,204884,588000,500028,26854586,"2015-07-22",null,null,"Arc X 3","Arc X 4",null,null,null,null,null,null,1099,232538,{"$f":"V115-VLOOKUP(X115,level!A:C,3,0)","v":4538},{"$f":"VLOOKUP(V115,level!C:D,2,1)","v":96}]
[null,null,null,null,null,null,null,null,null,null,null,null,null,"Arc X 4",null,null,null,null,null,null,null,232538,{"$f":"V116-VLOOKUP(X116,level!A:C,3,0)","v":4538},{"$f":"VLOOKUP(V116,level!C:D,2,1)","v":96}]
[null,null,null,null,null,null,null,null,null,null,null,null,null,"Arc X 4"]
[null,null,null,null,null,null,null,null,null,null,null,null,null,"Arc X 4"]
[null,null,null,null,null,null,null,null,null,null,null,null,null,"Arc X 4"]
[null,null,null,null,null,null,null,null,null,null,null,null,null,"Arc X 4"]
[null,null,null,null,null,null,null,null,null,null,null,null,null,"Arc X 4"]
[null,null,null,null,null,null,null,null,null,null,null,null,null,"Arc X 4"]

{"sheet":"level","index":9,"n_rows":201,"n_cols":4,"rows_kept":201,"cut":false,"hidden":false,"merged":[]}
[null,null,null,"lvl"]
[{"$f":"D2","v":1},0,{"$f":"B2","v":0},1]
[{"$f":"D3","v":2},{"$f":"B2+50","v":50},{"$f":"B3+C2","v":50},2]
[3,{"$f":"B3+50","v":100},{"$f":"B4+C3","v":150},3]
[4,{"$f":"B4+50","v":150},300,4]
[5,200,500,5]
[6,250,750,6]
[7,300,1050,7]
[8,350,1400,8]
[9,400,1800,9]
[10,450,2250,10]
[11,500,2750,11]
[12,550,3300,12]
[13,600,3900,13]
[14,650,4550,14]
[15,700,5250,15]
[16,750,6000,16]
[17,800,6800,17]
[18,850,7650,18]
[19,900,8550,19]
[20,950,9500,20]
[21,1000,10500,21]
[22,1050,11550,22]
[23,1100,12650,23]
[24,1150,13800,24]
[25,1200,15000,25]
[26,1250,16250,26]
[27,1300,17550,27]
[28,1350,18900,28]
[29,1400,20300,29]
[30,1450,21750,30]
[31,1500,23250,31]
[32,1550,24800,32]
[33,1600,26400,33]
[34,1650,28050,34]
[35,1700,29750,35]
[36,1750,31500,36]
[37,1800,33300,37]
[38,1850,35150,38]
[39,1900,37050,39]
[40,1950,39000,40]
[41,2000,41000,41]
[42,2050,43050,42]
[43,2100,45150,43]
[44,2150,47300,44]
[45,2200,49500,45]
[46,2250,51750,46]
[47,2300,54050,47]
[48,2350,56400,48]
[49,2400,58800,49]
[50,2450,61250,50]
[51,2500,63750,51]
[52,2550,66300,52]
[53,2600,68900,53]
[54,2650,71550,54]
[55,2700,74250,55]
[56,2750,77000,56]
[57,2800,79800,57]
[58,2850,82650,58]
[59,2900,85550,59]
[60,2950,88500,60]
[61,3000,91500,61]
[62,3050,94550,62]
[63,3100,97650,63]
[64,3150,100800,64]
[65,3200,104000,65]
[{"$f":"D67","v":66},3250,107250,66]
[67,3300,{"$f":"B68+C67","v":110550},67]
[68,{"$f":"B68+50","v":3350},113900,68]
[69,3400,117300,69]
[70,3450,120750,70]
[71,3500,124250,71]
[72,3550,127800,72]
[73,3600,131400,73]
[74,3650,135050,74]
[75,3700,138750,75]
[76,3750,142500,76]
[77,3800,146300,77]
[78,3850,150150,78]
[79,3900,154050,79]
[80,3950,158000,80]
[81,4000,162000,81]
[82,4050,166050,82]
[83,4100,170150,83]
[84,4150,174300,84]
[85,4200,178500,85]
[86,4250,182750,86]
[87,4300,187050,87]
[88,4350,191400,88]
[89,4400,195800,89]
[90,4450,200250,90]
[91,4500,204750,91]
[92,4550,209300,92]
[93,4600,213900,93]
[94,4650,218550,94]
[95,4700,223250,95]
[96,4750,228000,96]
[97,4800,232800,97]
[98,4850,237650,98]
[99,4900,242550,99]
[100,4950,247500,100]
[101,5000,252500,101]
[102,5050,257550,102]
[103,5100,262650,103]
[104,5150,267800,104]
[105,5200,273000,105]
[106,5250,278250,106]
[107,5300,283550,107]
[108,5350,288900,108]
[109,5400,294300,109]
[110,5450,299750,110]
[111,5500,305250,111]
[112,5550,310800,112]
[113,5600,316400,113]
[114,5650,322050,114]
[115,5700,327750,115]
[116,5750,333500,116]
[117,5800,339300,117]
[118,5850,345150,118]
[119,5900,351050,119]
[120,5950,357000,120]
[121,6000,363000,121]
[122,6050,369050,122]
[123,6100,375150,123]
[124,6150,381300,124]
[125,6200,387500,125]
[126,6250,393750,126]
[127,6300,400050,127]
[128,6350,406400,128]
[129,6400,412800,129]
[{"$f":"D131","v":130},6450,419250,130]
[131,6500,{"$f":"B132+C131","v":425750},131]
[132,{"$f":"B132+50","v":6550},432300,132]
[133,6600,438900,133]
[134,6650,445550,134]
[135,6700,452250,135]
[136,6750,459000,136]
[137,6800,465800,137]
[138,6850,472650,138]
[139,6900,479550,139]
[140,6950,486500,140]
[141,7000,493500,141]
[142,7050,500550,142]
[143,7100,507650,143]
[144,7150,514800,144]
[145,7200,522000,145]
[146,7250,529250,146]
[147,7300,536550,147]
[148,7350,543900,148]
[149,7400,551300,149]
[150,7450,558750,150]
[151,7500,566250,151]
[152,7550,573800,152]
[153,7600,581400,153]
[154,7650,589050,154]
[155,7700,596750,155]
[156,7750,604500,156]
[157,7800,612300,157]
[158,7850,620150,158]
[159,7900,628050,159]
[160,7950,636000,160]
[161,8000,644000,161]
[162,8050,652050,162]
[163,8100,660150,163]
[164,8150,668300,164]
[165,8200,676500,165]
[166,8250,684750,166]
[167,8300,693050,167]
[168,8350,701400,168]
[169,8400,709800,169]
[170,8450,718250,170]
[171,8500,726750,171]
[172,8550,735300,172]
[173,8600,743900,173]
[174,8650,752550,174]
[175,8700,761250,175]
[176,8750,770000,176]
[177,8800,778800,177]
[178,8850,787650,178]
[179,8900,796550,179]
[180,8950,805500,180]
[181,9000,814500,181]
[182,9050,823550,182]
[183,9100,832650,183]
[184,9150,841800,184]
[185,9200,851000,185]
[186,9250,860250,186]
[187,9300,869550,187]
[188,9350,878900,188]
[189,9400,888300,189]
[190,9450,897750,190]
[191,9500,907250,191]
[192,9550,916800,192]
[193,9600,926400,193]
[{"$f":"D195","v":194},9650,936050,194]
[195,9700,{"$f":"B196+C195","v":945750},195]
[196,{"$f":"B196+50","v":9750},955500,196]
[197,{"$f":"B197+50","v":9800},965300,197]
[198,{"$f":"B198+50","v":9850},975150,198]
[199,{"$f":"B199+50","v":9900},985050,199]
[200,{"$f":"B200+50","v":9950},995000,200]

{"sheet":"Améliorations - Sorts & Troupes","index":10,"n_rows":43,"n_cols":67,"rows_kept":43,"cut":false,"hidden":true,"merged":[[30,0,30,12],[0,12,0,22],[0,0,0,10],[15,0,15,20],[15,22,15,42],[0,24,0,29],[0,31,0,36],[15,44,15,54],[15,56,15,66],[30,29,30,35],[30,37,30,43],[30,14,30,26]]}
["Améliorations de Sorts (Disponibles et LVL Max)",null,null,null,null,null,null,null,null,null,null,null,"Améliorations de Sorts (Changements)",null,null,null,null,null,null,null,null,null,null,null,"Usine de Sorts",null,null,null,null,null,null,"Laboratoire"]
["LVL","Sort de Foudre","LVL Max","Sort de Guérison","LVL Max2","Sort de Rage","LVL Max3","Sort de Saut","LVL Max4","Sort de Gel","LVL Max5",null,"LVL","Sort de Foudre","LVL Max","Sort de Guérison","LVL Max2","Sort de Rage","LVL Max3","Sort de Saut","LVL Max4","Sort de Gel","LVL Max5",null,"LVL Spell Factory","Sort de Foudre","Sort de Guérison","Sort de Rage","Sort de Saut","Sort de Gel",null,"LVL Laboratory","Sort de Foudre","Sort de Guérison","Sort de Rage","Sort de Saut","Sort de Gel"]
[0,{"$f":"IF(Paramètres!$L$46=0,0,VLOOKUP(Paramètres!$L$47,SPELLFACTORY_Spells[#All],2))","v":1},{"$f":"IF($B3=0,0,IF(SUM(Paramètres!$K$6:$K$45)<>Paramètres!$K$3,0,VLOOKUP(MATCH(1,Paramètres!$K$6:$K$45,0),LABO_Spells[#All],2)))","v":6},{"$f":"IF(Paramètres!$L$46=0,0,VLOOKUP(Paramètres!$L$47,SPELLFACTORY_Spells[#All],3))","v":1},{"$f":"IF($D3=0,0,IF(SUM(Paramètres!$K$6:$K$45)<>Paramètres!$K$3,0,VLOOKUP(MATCH(1,Paramètres!$K$6:$K$45,0),LABO_Spells[#All],3)))","v":6},{"$f":"IF(Paramètres!$L$46=0,0,VLOOKUP(Paramètres!$L$47,SPELLFACTORY_Spells[#All],4))","v":1},{"$f":"IF($F3=0,0,IF(SUM(Paramètres!$K$6:$K$45)<>Paramètres!$K$3,0,VLOOKUP(MATCH(1,Paramètres!$K$6:$K$45,0),LABO_Spells[#All],4)))","v":5},{"$f":"IF(Paramètres!$L$46=0,0,VLOOKUP(Paramètres!$L$47,SPELLFACTORY_Spells[#All],5))","v":1},{"$f":"IF($H3=0,0,IF(SUM(Paramètres!$K$6:$K$45)<>Paramètres!$K$3,0,VLOOKUP(MATCH(1,Paramètres!$K$6:$K$45,0),LABO_Spells[#All],5)))","v":3},{"$f":"IF(Paramètres!$L$46=0,0,VLOOKUP(Paramètres!$L$47,SPELLFACTORY_Spells[#All],6))","v":1},{"$f":"IF($J3=0,0,IF(SUM(Paramètres!$K$6:$K$45)<>Paramètres!$K$3,0,VLOOKUP(MATCH(1,Paramètres!$K$6:$K$45,0),LABO_Spells[#All],6)))","v":5},null,0,{"$f":"B3","v":1},6,{"$f":"D3","v":1},6,1,5,1,3,1,5,null,0,0,0,0,0,0,null,0,0,0,0,0,0]
[1,{"$f":"IF(Paramètres!$L$46=0,0,VLOOKUP(Paramètres!$L$47,SPELLFACTORY_Spells[#All],2))","v":1},{"$f":"IF($B4=0,0,IF(SUM(Paramètres!$K$6:$K$45)<>Paramètres!$K$3,0,VLOOKUP(MATCH(1,Paramètres!$K$6:$K$45,0),LABO_Spells[#All],2)))","v":6},{"$f":"IF(Paramètres!$L$46=0,0,VLOOKUP(Paramètres!$L$47,SPELLFACTORY_Spells[#All],3))","v":1},{"$f":"IF($D4=0,0,IF(SUM(Paramètres!$K$6:$K$45)<>Paramètres!$K$3,0,VLOOKUP(MATCH(1,Paramètres!$K$6:$K$45,0),LABO_Spells[#All],3)))","v":6},{"$f":"IF(Paramètres!$L$46=0,0,VLOOKUP(Paramètres!$L$47,SPELLFACTORY_Spells[#All],4))","v":1},{"$f":"IF($F4=0,0,IF(SUM(Paramètres!$K$6:$K$45)<>Paramètres!$K$3,0,VLOOKUP(MATCH(1,Paramètres!$K$6:$K$45,0),LABO_Spells[#All],4)))","v":5},{"$f":"IF(Paramètres!$L$46=0,0,VLOOKUP(Paramètres!$L$47,SPELLFACTORY_Spells[#All],5))","v":1},{"$f":"IF($H4=0,0,IF(SUM(Paramètres!$K$6:$K$45)<>Paramètres!$K$3,0,VLOOKUP(MATCH(1,Paramètres!$K$6:$K$45,0),LABO_Spells[#All],5)))","v":3},{"$f":"IF(Paramètres!$L$46=0,0,VLOOKUP(Paramètres!$L$47,SPELLFACTORY_Spells[#All],6))","v":1},{"$f":"IF($J4=0,0,IF(SUM(Paramètres!$K$6:$K$45)<>Paramètres!$K$3,0,VLOOKUP(MATCH(1,Paramètres!$K$6:$K$45,0),LABO_Spells[#All],6)))","v":5},null,1,{"$f":"B4-B3","v":0},0,0,0,0,0,0,0,0,0,null,1,1,0,0,0,0,null,1,2,1,1,1,1]
[2,{"$f":"IF(Paramètres!$L$46=0,0,VLOOKUP(Paramètres!$L$47,SPELLFACTORY_Spells[#All],2))","v":1},{"$f":"IF($B5=0,0,IF(SUM(Paramètres!$K$6:$K$45)<>Paramètres!$K$3,0,VLOOKUP(MATCH(1,Paramètres!$K$6:$K$45,0),LABO_Spells[#All],2)))","v":6},{"$f":"IF(Paramètres!$L$46=0,0,VLOOKUP(Paramètres!$L$47,SPELLFACTORY_Spells[#All],3))","v":1},{"$f":"IF($D5=0,0,IF(SUM(Paramètres!$K$6:$K$45)<>Paramètres!$K$3,0,VLOOKUP(MATCH(1,Paramètres!$K$6:$K$45,0),LABO_Spells[#All],3)))","v":6},{"$f":"IF(Paramètres!$L$46=0,0,VLOOKUP(Paramètres!$L$47,SPELLFACTORY_Spells[#All],4))","v":1},{"$f":"IF($F5=0,0,IF(SUM(Paramètres!$K$6:$K$45)<>Paramètres!$K$3,0,VLOOKUP(MATCH(1,Paramètres!$K$6:$K$45,0),LABO_Spells[#All],4)))","v":5},{"$f":"IF(Paramètres!$L$46=0,0,VLOOKUP(Paramètres!$L$47,SPELLFACTORY_Spells[#All],5))","v":1},{"$f":"IF($H5=0,0,IF(SUM(Paramètres!$K$6:$K$45)<>Paramètres!$K$3,0,VLOOKUP(MATCH(1,Paramètres!$K$6:$K$45,0),LABO_Spells[#All],5)))","v":3},{"$f":"IF(Paramètres!$L$46=0,0,VLOOKUP(Paramètres!$L$47,SPELLFACTORY_Spells[#All],6))","v":1},{"$f":"IF($J5=0,0,IF(SUM(Paramètres!$K$6:$K$45)<>Paramètres!$K$3,0,VLOOKUP(MATCH(1,Paramètres!$K$6:$K$45,0),LABO_Spells[#All],6)))","v":5},null,2,{"$f":"B5-B4","v":0},{"$f":"C5-C4","v":0},{"$f":"D5-D4","v":0},{"$f":"E5-E4","v":0},{"$f":"F5-F4","v":0},{"$f":"G5-G4","v":0},{"$f":"H5-H4","v":0},{"$f":"I5-I4","v":0},{"$f":"J5-J4","v":0},{"$f":"K5-K4","v":0},null,2,1,1,0,0,0,null,2,3,2,1,1,1]
[3,{"$f":"IF(Paramètres!$L$46=0,0,VLOOKUP(Paramètres!$L$47,SPELLFACTORY_Spells[#All],2))","v":1},{"$f":"IF($B6=0,0,IF(SUM(Paramètres!$K$6:$K$45)<>Paramètres!$K$3,0,VLOOKUP(MATCH(1,Paramètres!$K$6:$K$45,0),LABO_Spells[#All],2)))","v":6},{"$f":"IF(Paramètres!$L$46=0,0,VLOOKUP(Paramètres!$L$47,SPELLFACTORY_Spells[#All],3))","v":1},{"$f":"IF($D6=0,0,IF(SUM(Paramètres!$K$6:$K$45)<>Paramètres!$K$3,0,VLOOKUP(MATCH(1,Paramètres!$K$6:$K$45,0),LABO_Spells[#All],3)))","v":6},{"$f":"IF(Paramètres!$L$46=0,0,VLOOKUP(Paramètres!$L$47,SPELLFACTORY_Spells[#All],4))","v":1},{"$f":"IF($F6=0,0,IF(SUM(Paramètres!$K$6:$K$45)<>Paramètres!$K$3,0,VLOOKUP(MATCH(1,Paramètres!$K$6:$K$45,0),LABO_Spells[#All],4)))","v":5},{"$f":"IF(Paramètres!$L$46=0,0,VLOOKUP(Paramètres!$L$47,SPELLFACTORY_Spells[#All],5))","v":1},{"$f":"IF($H6=0,0,IF(SUM(Paramètres!$K$6:$K$45)<>Paramètres!$K$3,0,VLOOKUP(MATCH(1,Paramètres!$K$6:$K$45,0),LABO_Spells[#All],5)))","v":3},{"$f":"IF(Paramètres!$L$46=0,0,VLOOKUP(Paramètres!$L$47,SPELLFACTORY_Spells[#All],6))","v":1},{"$f":"IF($J6=0,0,IF(SUM(Paramètres!$K$6:$K$45)<>Paramètres!$K$3,0,VLOOKUP(MATCH(1,Paramètres!$K$6:$K$45,0),LABO_Spells[#All],6)))","v":5},null,3,0,0,0,0,0,0,0,0,0,0,null,3,1,1,1,0,0,null,3,4,3,2,1,1]
[4,{"$f":"IF(Paramètres!$L$46=0,0,VLOOKUP(Paramètres!$L$47,SPELLFACTORY_Spells[#All],2))","v":1},{"$f":"IF($B7=0,0,IF(SUM(Paramètres!$K$6:$K$45)<>Paramètres!$K$3,0,VLOOKUP(MATCH(1,Paramètres!$K$6:$K$45,0),LABO_Spells[#All],2)))","v":6},{"$f":"IF(Paramètres!$L$46=0,0,VLOOKUP(Paramètres!$L$47,SPELLFACTORY_Spells[#All],3))","v":1},{"$f":"IF($D7=0,0,IF(SUM(Paramètres!$K$6:$K$45)<>Paramètres!$K$3,0,VLOOKUP(MATCH(1,Paramètres!$K$6:$K$45,0),LABO_Spells[#All],3)))","v":6},{"$f":"IF(Paramètres!$L$46=0,0,VLOOKUP(Paramètres!$L$47,SPELLFACTORY_Spells[#All],4))","v":1},{"$f":"IF($F7=0,0,IF(SUM(Paramètres!$K$6:$K$45)<>Paramètres!$K$3,0,VLOOKUP(MATCH(1,Paramètres!$K$6:$K$45,0),LABO_Spells[#All],4)))","v":5},{"$f":"IF(Paramètres!$L$46=0,0,VLOOKUP(Paramètres!$L$47,SPELLFACTORY_Spells[#All],5))","v":1},{"$f":"IF($H7=0,0,IF(SUM(Paramètres!$K$6:$K$45)<>Paramètres!$K$3,0,VLOOKUP(MATCH(1,Paramètres!$K$6:$K$45,0),LABO_Spells[#All],5)))","v":3},{"$f":"IF(Paramètres!$L$46=0,0,VLOOKUP(Paramètres!$L$47,SPELLFACTORY_Spells[#All],6))","v":1},{"$f":"IF($J7=0,0,IF(SUM(Paramètres!$K$6:$K$45)<>Paramètres!$K$3,0,VLOOKUP(MATCH(1,Paramètres!$K$6:$K$45,0),LABO_Spells[#All],6)))","v":5},null,4,0,0,0,0,0,0,0,0,0,0,null,4,1,1,1,1,0,null,4,4,3,3,1,1]
[5,{"$f":"IF(Paramètres!$L$46=0,0,VLOOKUP(Paramètres!$L$47,SPELLFACTORY_Spells[#All],2))","v":1},{"$f":"IF($B8=0,0,IF(SUM(Paramètres!$K$6:$K$45)<>Paramètres!$K$3,0,VLOOKUP(MATCH(1,Paramètres!$K$6:$K$45,0),LABO_Spells[#All],2)))","v":6},{"$f":"IF(Paramètres!$L$46=0,0,VLOOKUP(Paramètres!$L$47,SPELLFACTORY_Spells[#All],3))","v":1},{"$f":"IF($D8=0,0,IF(SUM(Paramètres!$K$6:$K$45)<>Paramètres!$K$3,0,VLOOKUP(MATCH(1,Paramètres!$K$6:$K$45,0),LABO_Spells[#All],3)))","v":6},{"$f":"IF(Paramètres!$L$46=0,0,VLOOKUP(Paramètres!$L$47,SPELLFACTORY_Spells[#All],4))","v":1},{"$f":"IF($F8=0,0,IF(SUM(Paramètres!$K$6:$K$45)<>Paramètres!$K$3,0,VLOOKUP(MATCH(1,Paramètres!$K$6:$K$45,0),LABO_Spells[#All],4)))","v":5},{"$f":"IF(Paramètres!$L$46=0,0,VLOOKUP(Paramètres!$L$47,SPELLFACTORY_Spells[#All],5))","v":1},{"$f":"IF($H8=0,0,IF(SUM(Paramètres!$K$6:$K$45)<>Paramètres!$K$3,0,VLOOKUP(MATCH(1,Paramètres!$K$6:$K$45,0),LABO_Spells[#All],5)))","v":3},{"$f":"IF(Paramètres!$L$46=0,0,VLOOKUP(Paramètres!$L$47,SPELLFACTORY_Spells[#All],6))","v":1},{"$f":"IF($J8=0,0,IF(SUM(Paramètres!$K$6:$K$45)<>Paramètres!$K$3,0,VLOOKUP(MATCH(1,Paramètres!$K$6:$K$45,0),LABO_Spells[#All],6)))","v":5},null,5,0,0,0,0,0,0,0,0,0,0,null,5,1,1,1,1,1,null,5,4,4,4,1,1]
[6,{"$f":"IF(Paramètres!$L$46=0,0,VLOOKUP(Paramètres!$L$47,SPELLFACTORY_Spells[#All],2))","v":1},{"$f":"IF($B9=0,0,IF(SUM(Paramètres!$K$6:$K$45)<>Paramètres!$K$3,0,VLOOKUP(MATCH(1,Paramètres!$K$6:$K$45,0),LABO_Spells[#All],2)))","v":6},{"$f":"IF(Paramètres!$L$46=0,0,VLOOKUP(Paramètres!$L$47,SPELLFACTORY_Spells[#All],3))","v":1},{"$f":"IF($D9=0,0,IF(SUM(Paramètres!$K$6:$K$45)<>Paramètres!$K$3,0,VLOOKUP(MATCH(1,Paramètres!$K$6:$K$45,0),LABO_Spells[#All],3)))","v":6},{"$f":"IF(Paramètres!$L$46=0,0,VLOOKUP(Paramètres!$L$47,SPELLFACTORY_Spells[#All],4))","v":1},{"$f":"IF($F9=0,0,IF(SUM(Paramètres!$K$6:$K$45)<>Paramètres!$K$3,0,VLOOKUP(MATCH(1,Paramètres!$K$6:$K$45,0),LABO_Spells[#All],4)))","v":5},{"$f":"IF(Paramètres!$L$46=0,0,VLOOKUP(Paramètres!$L$47,SPELLFACTORY_Spells[#All],5))","v":1},{"$f":"IF($H9=0,0,IF(SUM(Paramètres!$K$6:$K$45)<>Paramètres!$K$3,0,VLOOKUP(MATCH(1,Paramètres!$K$6:$K$45,0),LABO_Spells[#All],5)))","v":3},{"$f":"IF(Paramètres!$L$46=0,0,VLOOKUP(Paramètres!$L$47,SPELLFACTORY_Spells[#All],6))","v":1},{"$f":"IF($J9=0,0,IF(SUM(Paramètres!$K$6:$K$45)<>Paramètres!$K$3,0,VLOOKUP(MATCH(1,Paramètres!$K$6:$K$45,0),LABO_Spells[#All],6)))","v":5},null,6,0,0,0,0,0,0,0,0,0,0,null,6,1,1,1,1,1,null,6,5,5,5,1,1]
[7,{"$f":"IF(Paramètres!$L$46=0,0,VLOOKUP(Paramètres!$L$47,SPELLFACTORY_Spells[#All],2))","v":1},{"$f":"IF($B10=0,0,IF(SUM(Paramètres!$K$6:$K$45)<>Paramètres!$K$3,0,VLOOKUP(MATCH(1,Paramètres!$K$6:$K$45,0),LABO_Spells[#All],2)))","v":6},{"$f":"IF(Paramètres!$L$46=0,0,VLOOKUP(Paramètres!$L$47,SPELLFACTORY_Spells[#All],3))","v":1},{"$f":"IF($D10=0,0,IF(SUM(Paramètres!$K$6:$K$45)<>Paramètres!$K$3,0,VLOOKUP(MATCH(1,Paramètres!$K$6:$K$45,0),LABO_Spells[#All],3)))","v":6},{"$f":"IF(Paramètres!$L$46=0,0,VLOOKUP(Paramètres!$L$47,SPELLFACTORY_Spells[#All],4))","v":1},{"$f":"IF($F10=0,0,IF(SUM(Paramètres!$K$6:$K$45)<>Paramètres!$K$3,0,VLOOKUP(MATCH(1,Paramètres!$K$6:$K$45,0),LABO_Spells[#All],4)))","v":5},{"$f":"IF(Paramètres!$L$46=0,0,VLOOKUP(Paramètres!$L$47,SPELLFACTORY_Spells[#All],5))","v":1},{"$f":"IF($H10=0,0,IF(SUM(Paramètres!$K$6:$K$45)<>Paramètres!$K$3,0,VLOOKUP(MATCH(1,Paramètres!$K$6:$K$45,0),LABO_Spells[#All],5)))","v":3},{"$f":"IF(Paramètres!$L$46=0,0,VLOOKUP(Paramètres!$L$47,SPELLFACTORY_Spells[#All],6))","v":1},{"$f":"IF($J10=0,0,IF(SUM(Paramètres!$K$6:$K$45)<>Paramètres!$K$3,0,VLOOKUP(MATCH(1,Paramètres!$K$6:$K$45,0),LABO_Spells[#All],6)))","v":5},null,7,0,0,0,0,0,0,0,0,0,0,null,null,null,null,null,null,null,null,7,5,6,5,2,1]
[8,{"$f":"IF(Paramètres!$L$46=0,0,VLOOKUP(Paramètres!$L$47,SPELLFACTORY_Spells[#All],2))","v":1},{"$f":"IF($B11=0,0,IF(SUM(Paramètres!$K$6:$K$45)<>Paramètres!$K$3,0,VLOOKUP(MATCH(1,Paramètres!$K$6:$K$45,0),LABO_Spells[#All],2)))","v":6},{"$f":"IF(Paramètres!$L$46=0,0,VLOOKUP(Paramètres!$L$47,SPELLFACTORY_Spells[#All],3))","v":1},{"$f":"IF($D11=0,0,IF(SUM(Paramètres!$K$6:$K$45)<>Paramètres!$K$3,0,VLOOKUP(MATCH(1,Paramètres!$K$6:$K$45,0),LABO_Spells[#All],3)))","v":6},{"$f":"IF(Paramètres!$L$46=0,0,VLOOKUP(Paramètres!$L$47,SPELLFACTORY_Spells[#All],4))","v":1},{"$f":"IF($F11=0,0,IF(SUM(Paramètres!$K$6:$K$45)<>Paramètres!$K$3,0,VLOOKUP(MATCH(1,Paramètres!$K$6:$K$45,0),LABO_Spells[#All],4)))","v":5},{"$f":"IF(Paramètres!$L$46=0,0,VLOOKUP(Paramètres!$L$47,SPELLFACTORY_Spells[#All],5))","v":1},{"$f":"IF($H11=0,0,IF(SUM(Paramètres!$K$6:$K$45)<>Paramètres!$K$3,0,VLOOKUP(MATCH(1,Paramètres!$K$6:$K$45,0),LABO_Spells[#All],5)))","v":3},{"$f":"IF(Paramètres!$L$46=0,0,VLOOKUP(Paramètres!$L$47,SPELLFACTORY_Spells[#All],6))","v":1},{"$f":"IF($J11=0,0,IF(SUM(Paramètres!$K$6:$K$45)<>Paramètres!$K$3,0,VLOOKUP(MATCH(1,Paramètres!$K$6:$K$45,0),LABO_Spells[#All],6)))","v":5},null,8,0,0,0,0,0,0,0,0,0,0,null,null,null,null,null,null,null,null,8,6,6,5,3,5]
[9,{"$f":"IF(Paramètres!$L$46=0,0,VLOOKUP(Paramètres!$L$47,SPELLFACTORY_Spells[#All],2))","v":1},{"$f":"IF($B12=0,0,IF(SUM(Paramètres!$K$6:$K$45)<>Paramètres!$K$3,0,VLOOKUP(MATCH(1,Paramètres!$K$6:$K$45,0),LABO_Spells[#All],2)))","v":6},{"$f":"IF(Paramètres!$L$46=0,0,VLOOKUP(Paramètres!$L$47,SPELLFACTORY_Spells[#All],3))","v":1},{"$f":"IF($D12=0,0,IF(SUM(Paramètres!$K$6:$K$45)<>Paramètres!$K$3,0,VLOOKUP(MATCH(1,Paramètres!$K$6:$K$45,0),LABO_Spells[#All],3)))","v":6},{"$f":"IF(Paramètres!$L$46=0,0,VLOOKUP(Paramètres!$L$47,SPELLFACTORY_Spells[#All],4))","v":1},{"$f":"IF($F12=0,0,IF(SUM(Paramètres!$K$6:$K$45)<>Paramètres!$K$3,0,VLOOKUP(MATCH(1,Paramètres!$K$6:$K$45,0),LABO_Spells[#All],4)))","v":5},{"$f":"IF(Paramètres!$L$46=0,0,VLOOKUP(Paramètres!$L$47,SPELLFACTORY_Spells[#All],5))","v":1},{"$f":"IF($H12=0,0,IF(SUM(Paramètres!$K$6:$K$45)<>Paramètres!$K$3,0,VLOOKUP(MATCH(1,Paramètres!$K$6:$K$45,0),LABO_Spells[#All],5)))","v":3},{"$f":"IF(Paramètres!$L$46=0,0,VLOOKUP(Paramètres!$L$47,SPELLFACTORY_Spells[#All],6))","v":1},{"$f":"IF($J12=0,0,IF(SUM(Paramètres!$K$6:$K$45)<>Paramètres!$K$3,0,VLOOKUP(MATCH(1,Paramètres!$K$6:$K$45,0),LABO_Spells[#All],6)))","v":5},null,9,0,0,0,0,0,0,0,0,0,0]
[10,{"$f":"IF(Paramètres!$L$46=0,0,VLOOKUP(Paramètres!$L$47,SPELLFACTORY_Spells[#All],2))","v":1},{"$f":"IF($B13=0,0,IF(SUM(Paramètres!$K$6:$K$45)<>Paramètres!$K$3,0,VLOOKUP(MATCH(1,Paramètres!$K$6:$K$45,0),LABO_Spells[#All],2)))","v":6},{"$f":"IF(Paramètres!$L$46=0,0,VLOOKUP(Paramètres!$L$47,SPELLFACTORY_Spells[#All],3))","v":1},{"$f":"IF($D13=0,0,IF(SUM(Paramètres!$K$6:$K$45)<>Paramètres!$K$3,0,VLOOKUP(MATCH(1,Paramètres!$K$6:$K$45,0),LABO_Spells[#All],3)))","v":6},{"$f":"IF(Paramètres!$L$46=0,0,VLOOKUP(Paramètres!$L$47,SPELLFACTORY_Spells[#All],4))","v":1},{"$f":"IF($F13=0,0,IF(SUM(Paramètres!$K$6:$K$45)<>Paramètres!$K$3,0,VLOOKUP(MATCH(1,Paramètres!$K$6:$K$45,0),LABO_Spells[#All],4)))","v":5},{"$f":"IF(Paramètres!$L$46=0,0,VLOOKUP(Paramètres!$L$47,SPELLFACTORY_Spells[#All],5))","v":1},{"$f":"IF($H13=0,0,IF(SUM(Paramètres!$K$6:$K$45)<>Paramètres!$K$3,0,VLOOKUP(MATCH(1,Paramètres!$K$6:$K$45,0),LABO_Spells[#All],5)))","v":3},{"$f":"IF(Paramètres!$L$46=0,0,VLOOKUP(Paramètres!$L$47,SPELLFACTORY_Spells[#All],6))","v":1},{"$f":"IF($J13=0,0,IF(SUM(Paramètres!$K$6:$K$45)<>Paramètres!$K$3,0,VLOOKUP(MATCH(1,Paramètres!$K$6:$K$45,0),LABO_Spells[#All],6)))","v":5},null,10,0,0,0,0,0,0,0,0,0,0]
[]
[]
["Améliorations de Troupes Normales (Disponibles & LVL Max)",null,null,null,null,null,null,null,null,null,null,null,null,null,null,null,null,null,null,null,null,null,"Améliorations de Troupes Normales (Changements)",null,null,null,null,null,null,null,null,null,null,null,null,null,null,null,null,null,null,null,null,null,"Caserne",null,null,null,null,null,null,null,null,null,null,null,"Laboratoire"]
["LVL HdV","Barbare","LVL Max","Archer","LVL Max2","Gobelin","LVL Max3","Géant","LVL Max4","Sapeur","LVL Max5","Ballon","LVL Max6","Sorcier","LVL Max7","Guérisseuse","LVL Max8","Dragon","LVL Max9","P.E.K.K.A","LVL Max10",null,"LVL HdV","Barbare","LVL Max","Archer","LVL Max2","Gobelin","LVL Max3","Géant","LVL Max4","Sapeur","LVL Max5","Ballon","LVL Max6","Sorcier","LVL Max7","Guérisseuse","LVL Max8","Dragon","LVL Max9","P.E.K.K.A","LVL Max10",null,"LVL Barrack","Barbare","Archer","Gobelin","Géant","Sapeur","Ballon","Sorcier","Guérisseuse","Dragon","P.E.K.K.A",null,"LVL Labo","Barbare","Archer","Gobelin","Géant","Sapeur","Ballon","Sorcier","Guérisseuse","Dragon","P.E.K.K.A"]
[0,{"$f":"IF(Paramètres!$H$46=0,0,VLOOKUP(Paramètres!$H$47,BARRACK_Normal_Troops[#All],2))","v":1},{"$f":"IF($B18=0,0,IF(SUM(Paramètres!$K$6:$K$45)<>Paramètres!$K$3,0,VLOOKUP(MATCH(1,Paramètres!$K$6:$K$45,0),LABO_Normal_Troops[#All],2)))","v":7},{"$f":"IF(Paramètres!$H$46=0,0,VLOOKUP(Paramètres!$H$47,BARRACK_Normal_Troops[#All],3))","v":1},{"$f":"IF($D18=0,0,IF(SUM(Paramètres!$K$6:$K$45)<>Paramètres!$K$3,0,VLOOKUP(MATCH(1,Paramètres!$K$6:$K$45,0),LABO_Normal_Troops[#All],3)))","v":7},{"$f":"IF(Paramètres!$H$46=0,0,VLOOKUP(Paramètres!$H$47,BARRACK_Normal_Troops[#All],4))","v":1},{"$f":"IF($F18=0,0,IF(SUM(Paramètres!$K$6:$K$45)<>Paramètres!$K$3,0,VLOOKUP(MATCH(1,Paramètres!$K$6:$K$45,0),LABO_Normal_Troops[#All],4)))","v":6},{"$f":"IF(Paramètres!$H$46=0,0,VLOOKUP(Paramètres!$H$47,BARRACK_Normal_Troops[#All],5))","v":1},{"$f":"IF($H18=0,0,IF(SUM(Paramètres!$K$6:$K$45)<>Paramètres!$K$3,0,VLOOKUP(MATCH(1,Paramètres!$K$6:$K$45,0),LABO_Normal_Troops[#All],5)))","v":7},{"$f":"IF(Paramètres!$H$46=0,0,VLOOKUP(Paramètres!$H$47,BARRACK_Normal_Troops[#All],6))","v":1},{"$f":"IF($J18=0,0,IF(SUM(Paramètres!$K$6:$K$45)<>Paramètres!$K$3,0,VLOOKUP(MATCH(1,Paramètres!$K$6:$K$45,0),LABO_Normal_Troops[#All],6)))","v":6},{"$f":"IF(Paramètres!$H$46=0,0,VLOOKUP(Paramètres!$H$47,BARRACK_Normal_Troops[#All],7))","v":1},{"$f":"IF($L18=0,0,IF(SUM(Paramètres!$K$6:$K$45)<>Paramètres!$K$3,0,VLOOKUP(MATCH(1,Paramètres!$K$6:$K$45,0),LABO_Normal_Troops[#All],7)))","v":6},{"$f":"IF(Paramètres!$H$46=0,0,VLOOKUP(Paramètres!$H$47,BARRACK_Normal_Troops[#All],8))","v":1},{"$f":"IF($N18=0,0,IF(SUM(Paramètres!$K$6:$K$45)<>Paramètres!$K$3,0,VLOOKUP(MATCH(1,Paramètres!$K$6:$K$45,0),LABO_Normal_Troops[#All],8)))","v":6},{"$f":"IF(Paramètres!$H$46=0,0,VLOOKUP(Paramètres!$H$47,BARRACK_Normal_Troops[#All],9))","v":1},{"$f":"IF($P18=0,0,IF(SUM(Paramètres!$K$6:$K$45)<>Paramètres!$K$3,0,VLOOKUP(MATCH(1,Paramètres!$K$6:$K$45,0),LABO_Normal_Troops[#All],9)))","v":4},{"$f":"IF(Paramètres!$H$46=0,0,VLOOKUP(Paramètres!$H$47,BARRACK_Normal_Troops[#All],10))","v":1},{"$f":"IF($R18=0,0,IF(SUM(Paramètres!$K$6:$K$45)<>Paramètres!$K$3,0,VLOOKUP(MATCH(1,Paramètres!$K$6:$K$45,0),LABO_Normal_Troops[#All],10)))","v":4},{"$f":"IF(Paramètres!$H$46=0,0,VLOOKUP(Paramètres!$H$47,BARRACK_Normal_Troops[#All],11))","v":1},{"$f":"IF($T18=0,0,IF(SUM(Paramètres!$K$6:$K$45)<>Paramètres!$K$3,0,VLOOKUP(MATCH(1,Paramètres!$K$6:$K$45,0),LABO_Normal_Troops[#All],11)))","v":5},null,0,{"$f":"'Améliorations - Sorts & Troupes'!B18","v":1},{"$f":"'Améliorations - Sorts & Troupes'!C18","v":7},{"$f":"'Améliorations - Sorts & Troupes'!D18","v":1},{"$f":"'Améliorations - Sorts & Troupes'!E18","v":7},{"$f":"'Améliorations - Sorts & Troupes'!F18","v":1},{"$f":"'Améliorations - Sorts & Troupes'!G18","v":6},{"$f":"'Améliorations - Sorts & Troupes'!H18","v":1},{"$f":"'Améliorations - Sorts & Troupes'!I18","v":7},{"$f":"'Améliorations - Sorts & Troupes'!J18","v":1},{"$f":"'Améliorations - Sorts & Troupes'!K18","v":6},{"$f":"'Améliorations - Sorts & Troupes'!L18","v":1},{"$f":"'Améliorations - Sorts & Troupes'!M18","v":6},{"$f":"'Améliorations - Sorts & Troupes'!N18","v":1},{"$f":"'Améliorations - Sorts & Troupes'!O18","v":6},{"$f":"'Améliorations - Sorts & Troupes'!P18","v":1},{"$f":"'Améliorations - Sorts & Troupes'!Q19","v":4},{"$f":"'Améliorations - Sorts & Troupes'!R18","v":1},{"$f":"'Améliorations - Sorts & Troupes'!S18","v":4},{"$f":"'Améliorations - Sorts & Troupes'!T18","v":1},{"$f":"'Améliorations - Sorts & Troupes'!U18","v":5},null,0,0,0,0,0,0,0,0,0,0,0,null,0,0,0,0,0,0,0,0,0,0,0]
[1,{"$f":"IF(Paramètres!$H$46=0,0,VLOOKUP(Paramètres!$H$47,BARRACK_Normal_Troops[#All],2))","v":1},{"$f":"IF($B19=0,0,IF(SUM(Paramètres!$K$6:$K$45)<>Paramètres!$K$3,0,VLOOKUP(MATCH(1,Paramètres!$K$6:$K$45,0),LABO_Normal_Troops[#All],2)))","v":7},{"$f":"IF(Paramètres!$H$46=0,0,VLOOKUP(Paramètres!$H$47,BARRACK_Normal_Troops[#All],3))","v":1},{"$f":"IF($D19=0,0,IF(SUM(Paramètres!$K$6:$K$45)<>Paramètres!$K$3,0,VLOOKUP(MATCH(1,Paramètres!$K$6:$K$45,0),LABO_Normal_Troops[#All],3)))","v":7},{"$f":"IF(Paramètres!$H$46=0,0,VLOOKUP(Paramètres!$H$47,BARRACK_Normal_Troops[#All],4))","v":1},{"$f":"IF($F19=0,0,IF(SUM(Paramètres!$K$6:$K$45)<>Paramètres!$K$3,0,VLOOKUP(MATCH(1,Paramètres!$K$6:$K$45,0),LABO_Normal_Troops[#All],4)))","v":6},{"$f":"IF(Paramètres!$H$46=0,0,VLOOKUP(Paramètres!$H$47,BARRACK_Normal_Troops[#All],5))","v":1},{"$f":"IF($H19=0,0,IF(SUM(Paramètres!$K$6:$K$45)<>Paramètres!$K$3,0,VLOOKUP(MATCH(1,Paramètres!$K$6:$K$45,0),LABO_Normal_Troops[#All],5)))","v":7},{"$f":"IF(Paramètres!$H$46=0,0,VLOOKUP(Paramètres!$H$47,BARRACK_Normal_Troops[#All],6))","v":1},{"$f":"IF($J19=0,0,IF(SUM(Paramètres!$K$6:$K$45)<>Paramètres!$K$3,0,VLOOKUP(MATCH(1,Paramètres!$K$6:$K$45,0),LABO_Normal_Troops[#All],6)))","v":6},{"$f":"IF(Paramètres!$H$46=0,0,VLOOKUP(Paramètres!$H$47,BARRACK_Normal_Troops[#All],7))","v":1},{"$f":"IF($L19=0,0,IF(SUM(Paramètres!$K$6:$K$45)<>Paramètres!$K$3,0,VLOOKUP(MATCH(1,Paramètres!$K$6:$K$45,0),LABO_Normal_Troops[#All],7)))","v":6},{"$f":"IF(Paramètres!$H$46=0,0,VLOOKUP(Paramètres!$H$47,BARRACK_Normal_Troops[#All],8))","v":1},{"$f":"IF($N19=0,0,IF(SUM(Paramètres!$K$6:$K$45)<>Paramètres!$K$3,0,VLOOKUP(MATCH(1,Paramètres!$K$6:$K$45,0),LABO_Normal_Troops[#All],8)))","v":6},{"$f":"IF(Paramètres!$H$46=0,0,VLOOKUP(Paramètres!$H$47,BARRACK_Normal_Troops[#All],9))","v":1},{"$f":"IF($P19=0,0,IF(SUM(Paramètres!$K$6:$K$45)<>Paramètres!$K$3,0,VLOOKUP(MATCH(1,Paramètres!$K$6:$K$45,0),LABO_Normal_Troops[#All],9)))","v":4},{"$f":"IF(Paramètres!$H$46=0,0,VLOOKUP(Paramètres!$H$47,BARRACK_Normal_Troops[#All],10))","v":1},{"$f":"IF($R19=0,0,IF(SUM(Paramètres!$K$6:$K$45)<>Paramètres!$K$3,0,VLOOKUP(MATCH(1,Paramètres!$K$6:$K$45,0),LABO_Normal_Troops[#All],10)))","v":4},{"$f":"IF(Paramètres!$H$46=0,0,VLOOKUP(Paramètres!$H$47,BARRACK_Normal_Troops[#All],11))","v":1},{"$f":"IF($T19=0,0,IF(SUM(Paramètres!$K$6:$K$45)<>Paramètres!$K$3,0,VLOOKUP(MATCH(1,Paramètres!$K$6:$K$45,0),LABO_Normal_Troops[#All],11)))","v":5},null,1,{"$f":"B19-B18","v":0},{"$f":"C19-C18","v":0},{"$f":"D19-D18","v":0},0,0,0,0,0,0,0,0,0,0,0,0,0,0,0,0,0,null,1,1,0,0,0,0,0,0,0,0,0,null,1,2,2,2,1,1,1,1,1,1,1]
[2,{"$f":"IF(Paramètres!$H$46=0,0,VLOOKUP(Paramètres!$H$47,BARRACK_Normal_Troops[#All],2))","v":1},{"$f":"IF($B20=0,0,IF(SUM(Paramètres!$K$6:$K$45)<>Paramètres!$K$3,0,VLOOKUP(MATCH(1,Paramètres!$K$6:$K$45,0),LABO_Normal_Troops[#All],2)))","v":7},{"$f":"IF(Paramètres!$H$46=0,0,VLOOKUP(Paramètres!$H$47,BARRACK_Normal_Troops[#All],3))","v":1},{"$f":"IF($D20=0,0,IF(SUM(Paramètres!$K$6:$K$45)<>Paramètres!$K$3,0,VLOOKUP(MATCH(1,Paramètres!$K$6:$K$45,0),LABO_Normal_Troops[#All],3)))","v":7},{"$f":"IF(Paramètres!$H$46=0,0,VLOOKUP(Paramètres!$H$47,BARRACK_Normal_Troops[#All],4))","v":1},{"$f":"IF($F20=0,0,IF(SUM(Paramètres!$K$6:$K$45)<>Paramètres!$K$3,0,VLOOKUP(MATCH(1,Paramètres!$K$6:$K$45,0),LABO_Normal_Troops[#All],4)))","v":6},{"$f":"IF(Paramètres!$H$46=0,0,VLOOKUP(Paramètres!$H$47,BARRACK_Normal_Troops[#All],5))","v":1},{"$f":"IF($H20=0,0,IF(SUM(Paramètres!$K$6:$K$45)<>Paramètres!$K$3,0,VLOOKUP(MATCH(1,Paramètres!$K$6:$K$45,0),LABO_Normal_Troops[#All],5)))","v":7},{"$f":"IF(Paramètres!$H$46=0,0,VLOOKUP(Paramètres!$H$47,BARRACK_Normal_Troops[#All],6))","v":1},{"$f":"IF($J20=0,0,IF(SUM(Paramètres!$K$6:$K$45)<>Paramètres!$K$3,0,VLOOKUP(MATCH(1,Paramètres!$K$6:$K$45,0),LABO_Normal_Troops[#All],6)))","v":6},{"$f":"IF(Paramètres!$H$46=0,0,VLOOKUP(Paramètres!$H$47,BARRACK_Normal_Troops[#All],7))","v":1},{"$f":"IF($L20=0,0,IF(SUM(Paramètres!$K$6:$K$45)<>Paramètres!$K$3,0,VLOOKUP(MATCH(1,Paramètres!$K$6:$K$45,0),LABO_Normal_Troops[#All],7)))","v":6},{"$f":"IF(Paramètres!$H$46=0,0,VLOOKUP(Paramètres!$H$47,BARRACK_Normal_Troops[#All],8))","v":1},{"$f":"IF($N20=0,0,IF(SUM(Paramètres!$K$6:$K$45)<>Paramètres!$K$3,0,VLOOKUP(MATCH(1,Paramètres!$K$6:$K$45,0),LABO_Normal_Troops[#All],8)))","v":6},{"$f":"IF(Paramètres!$H$46=0,0,VLOOKUP(Paramètres!$H$47,BARRACK_Normal_Troops[#All],9))","v":1},{"$f":"IF($P20=0,0,IF(SUM(Paramètres!$K$6:$K$45)<>Paramètres!$K$3,0,VLOOKUP(MATCH(1,Paramètres!$K$6:$K$45,0),LABO_Normal_Troops[#All],9)))","v":4},{"$f":"IF(Paramètres!$H$46=0,0,VLOOKUP(Paramètres!$H$47,BARRACK_Normal_Troops[#All],10))","v":1},{"$f":"IF($R20=0,0,IF(SUM(Paramètres!$K$6:$K$45)<>Paramètres!$K$3,0,VLOOKUP(MATCH(1,Paramètres!$K$6:$K$45,0),LABO_Normal_Troops[#All],10)))","v":4},{"$f":"IF(Paramètres!$H$46=0,0,VLOOKUP(Paramètres!$H$47,BARRACK_Normal_Troops[#All],11))","v":1},{"$f":"IF($T20=0,0,IF(SUM(Paramètres!$K$6:$K$45)<>Paramètres!$K$3,0,VLOOKUP(MATCH(1,Paramètres!$K$6:$K$45,0),LABO_Normal_Troops[#All],11)))","v":5},null,2,{"$f":"B20-B19","v":0},0,0,0,0,0,0,0,0,0,0,0,0,0,0,0,0,0,0,0,null,2,1,1,0,0,0,0,0,0,0,0,null,2,2,2,2,2,2,2,1,1,1,1]
[3,{"$f":"IF(Paramètres!$H$46=0,0,VLOOKUP(Paramètres!$H$47,BARRACK_Normal_Troops[#All],2))","v":1},{"$f":"IF($B21=0,0,IF(SUM(Paramètres!$K$6:$K$45)<>Paramètres!$K$3,0,VLOOKUP(MATCH(1,Paramètres!$K$6:$K$45,0),LABO_Normal_Troops[#All],2)))","v":7},{"$f":"IF(Paramètres!$H$46=0,0,VLOOKUP(Paramètres!$H$47,BARRACK_Normal_Troops[#All],3))","v":1},{"$f":"IF($D21=0,0,IF(SUM(Paramètres!$K$6:$K$45)<>Paramètres!$K$3,0,VLOOKUP(MATCH(1,Paramètres!$K$6:$K$45,0),LABO_Normal_Troops[#All],3)))","v":7},{"$f":"IF(Paramètres!$H$46=0,0,VLOOKUP(Paramètres!$H$47,BARRACK_Normal_Troops[#All],4))","v":1},{"$f":"IF($F21=0,0,IF(SUM(Paramètres!$K$6:$K$45)<>Paramètres!$K$3,0,VLOOKUP(MATCH(1,Paramètres!$K$6:$K$45,0),LABO_Normal_Troops[#All],4)))","v":6},{"$f":"IF(Paramètres!$H$46=0,0,VLOOKUP(Paramètres!$H$47,BARRACK_Normal_Troops[#All],5))","v":1},{"$f":"IF($H21=0,0,IF(SUM(Paramètres!$K$6:$K$45)<>Paramètres!$K$3,0,VLOOKUP(MATCH(1,Paramètres!$K$6:$K$45,0),LABO_Normal_Troops[#All],5)))","v":7},{"$f":"IF(Paramètres!$H$46=0,0,VLOOKUP(Paramètres!$H$47,BARRACK_Normal_Troops[#All],6))","v":1},{"$f":"IF($J21=0,0,IF(SUM(Paramètres!$K$6:$K$45)<>Paramètres!$K$3,0,VLOOKUP(MATCH(1,Paramètres!$K$6:$K$45,0),LABO_Normal_Troops[#All],6)))","v":6},{"$f":"IF(Paramètres!$H$46=0,0,VLOOKUP(Paramètres!$H$47,BARRACK_Normal_Troops[#All],7))","v":1},{"$f":"IF($L21=0,0,IF(SUM(Paramètres!$K$6:$K$45)<>Paramètres!$K$3,0,VLOOKUP(MATCH(1,Paramètres!$K$6:$K$45,0),LABO_Normal_Troops[#All],7)))","v":6},{"$f":"IF(Paramètres!$H$46=0,0,VLOOKUP(Paramètres!$H$47,BARRACK_Normal_Troops[#All],8))","v":1},{"$f":"IF($N21=0,0,IF(SUM(Paramètres!$K$6:$K$45)<>Paramètres!$K$3,0,VLOOKUP(MATCH(1,Paramètres!$K$6:$K$45,0),LABO_Normal_Troops[#All],8)))","v":6},{"$f":"IF(Paramètres!$H$46=0,0,VLOOKUP(Paramètres!$H$47,BARRACK_Normal_Troops[#All],9))","v":1},{"$f":"IF($P21=0,0,IF(SUM(Paramètres!$K$6:$K$45)<>Paramètres!$K$3,0,VLOOKUP(MATCH(1,Paramètres!$K$6:$K$45,0),LABO_Normal_Troops[#All],9)))","v":4},{"$f":"IF(Paramètres!$H$46=0,0,VLOOKUP(Paramètres!$H$47,BARRACK_Normal_Troops[#All],10))","v":1},{"$f":"IF($R21=0,0,IF(SUM(Paramètres!$K$6:$K$45)<>Paramètres!$K$3,0,VLOOKUP(MATCH(1,Paramètres!$K$6:$K$45,0),LABO_Normal_Troops[#All],10)))","v":4},{"$f":"IF(Paramètres!$H$46=0,0,VLOOKUP(Paramètres!$H$47,BARRACK_Normal_Troops[#All],11))","v":1},{"$f":"IF($T21=0,0,IF(SUM(Paramètres!$K$6:$K$45)<>Paramètres!$K$3,0,VLOOKUP(MATCH(1,Paramètres!$K$6:$K$45,0),LABO_Normal_Troops[#All],11)))","v":5},null,3,0,0,0,0,0,0,0,0,0,0,0,0,0,0,0,0,0,0,0,0,null,3,1,1,1,0,0,0,0,0,0,0,null,3,3,3,3,2,2,2,2,1,1,1]
[4,{"$f":"IF(Paramètres!$H$46=0,0,VLOOKUP(Paramètres!$H$47,BARRACK_Normal_Troops[#All],2))","v":1},{"$f":"IF($B22=0,0,IF(SUM(Paramètres!$K$6:$K$45)<>Paramètres!$K$3,0,VLOOKUP(MATCH(1,Paramètres!$K$6:$K$45,0),LABO_Normal_Troops[#All],2)))","v":7},{"$f":"IF(Paramètres!$H$46=0,0,VLOOKUP(Paramètres!$H$47,BARRACK_Normal_Troops[#All],3))","v":1},{"$f":"IF($D22=0,0,IF(SUM(Paramètres!$K$6:$K$45)<>Paramètres!$K$3,0,VLOOKUP(MATCH(1,Paramètres!$K$6:$K$45,0),LABO_Normal_Troops[#All],3)))","v":7},{"$f":"IF(Paramètres!$H$46=0,0,VLOOKUP(Paramètres!$H$47,BARRACK_Normal_Troops[#All],4))","v":1},{"$f":"IF($F22=0,0,IF(SUM(Paramètres!$K$6:$K$45)<>Paramètres!$K$3,0,VLOOKUP(MATCH(1,Paramètres!$K$6:$K$45,0),LABO_Normal_Troops[#All],4)))","v":6},{"$f":"IF(Paramètres!$H$46=0,0,VLOOKUP(Paramètres!$H$47,BARRACK_Normal_Troops[#All],5))","v":1},{"$f":"IF($H22=0,0,IF(SUM(Paramètres!$K$6:$K$45)<>Paramètres!$K$3,0,VLOOKUP(MATCH(1,Paramètres!$K$6:$K$45,0),LABO_Normal_Troops[#All],5)))","v":7},{"$f":"IF(Paramètres!$H$46=0,0,VLOOKUP(Paramètres!$H$47,BARRACK_Normal_Troops[#All],6))","v":1},{"$f":"IF($J22=0,0,IF(SUM(Paramètres!$K$6:$K$45)<>Paramètres!$K$3,0,VLOOKUP(MATCH(1,Paramètres!$K$6:$K$45,0),LABO_Normal_Troops[#All],6)))","v":6},{"$f":"IF(Paramètres!$H$46=0,0,VLOOKUP(Paramètres!$H$47,BARRACK_Normal_Troops[#All],7))","v":1},{"$f":"IF($L22=0,0,IF(SUM(Paramètres!$K$6:$K$45)<>Paramètres!$K$3,0,VLOOKUP(MATCH(1,Paramètres!$K$6:$K$45,0),LABO_Normal_Troops[#All],7)))","v":6},{"$f":"IF(Paramètres!$H$46=0,0,VLOOKUP(Paramètres!$H$47,BARRACK_Normal_Troops[#All],8))","v":1},{"$f":"IF($N22=0,0,IF(SUM(Paramètres!$K$6:$K$45)<>Paramètres!$K$3,0,VLOOKUP(MATCH(1,Paramètres!$K$6:$K$45,0),LABO_Normal_Troops[#All],8)))","v":6},{"$f":"IF(Paramètres!$H$46=0,0,VLOOKUP(Paramètres!$H$47,BARRACK_Normal_Troops[#All],9))","v":1},{"$f":"IF($P22=0,0,IF(SUM(Paramètres!$K$6:$K$45)<>Paramètres!$K$3,0,VLOOKUP(MATCH(1,Paramètres!$K$6:$K$45,0),LABO_Normal_Troops[#All],9)))","v":4},{"$f":"IF(Paramètres!$H$46=0,0,VLOOKUP(Paramètres!$H$47,BARRACK_Normal_Troops[#All],10))","v":1},{"$f":"IF($R22=0,0,IF(SUM(Paramètres!$K$6:$K$45)<>Paramètres!$K$3,0,VLOOKUP(MATCH(1,Paramètres!$K$6:$K$45,0),LABO_Normal_Troops[#All],10)))","v":4},{"$f":"IF(Paramètres!$H$46=0,0,VLOOKUP(Paramètres!$H$47,BARRACK_Normal_Troops[#All],11))","v":1},{"$f":"IF($T22=0,0,IF(SUM(Paramètres!$K$6:$K$45)<>Paramètres!$K$3,0,VLOOKUP(MATCH(1,Paramètres!$K$6:$K$45,0),LABO_Normal_Troops[#All],11)))","v":5},null,4,0,0,0,0,0,0,0,0,0,0,0,0,0,0,0,0,0,0,0,0,null,4,1,1,1,1,0,0,0,0,0,0,null,4,3,3,3,3,3,3,3,1,1,1]
[5,{"$f":"IF(Paramètres!$H$46=0,0,VLOOKUP(Paramètres!$H$47,BARRACK_Normal_Troops[#All],2))","v":1},{"$f":"IF($B23=0,0,IF(SUM(Paramètres!$K$6:$K$45)<>Paramètres!$K$3,0,VLOOKUP(MATCH(1,Paramètres!$K$6:$K$45,0),LABO_Normal_Troops[#All],2)))","v":7},{"$f":"IF(Paramètres!$H$46=0,0,VLOOKUP(Paramètres!$H$47,BARRACK_Normal_Troops[#All],3))","v":1},{"$f":"IF($D23=0,0,IF(SUM(Paramètres!$K$6:$K$45)<>Paramètres!$K$3,0,VLOOKUP(MATCH(1,Paramètres!$K$6:$K$45,0),LABO_Normal_Troops[#All],3)))","v":7},{"$f":"IF(Paramètres!$H$46=0,0,VLOOKUP(Paramètres!$H$47,BARRACK_Normal_Troops[#All],4))","v":1},{"$f":"IF($F23=0,0,IF(SUM(Paramètres!$K$6:$K$45)<>Paramètres!$K$3,0,VLOOKUP(MATCH(1,Paramètres!$K$6:$K$45,0),LABO_Normal_Troops[#All],4)))","v":6},{"$f":"IF(Paramètres!$H$46=0,0,VLOOKUP(Paramètres!$H$47,BARRACK_Normal_Troops[#All],5))","v":1},{"$f":"IF($H23=0,0,IF(SUM(Paramètres!$K$6:$K$45)<>Paramètres!$K$3,0,VLOOKUP(MATCH(1,Paramètres!$K$6:$K$45,0),LABO_Normal_Troops[#All],5)))","v":7},{"$f":"IF(Paramètres!$H$46=0,0,VLOOKUP(Paramètres!$H$47,BARRACK_Normal_Troops[#All],6))","v":1},{"$f":"IF($J23=0,0,IF(SUM(Paramètres!$K$6:$K$45)<>Paramètres!$K$3,0,VLOOKUP(MATCH(1,Paramètres!$K$6:$K$45,0),LABO_Normal_Troops[#All],6)))","v":6},{"$f":"IF(Paramètres!$H$46=0,0,VLOOKUP(Paramètres!$H$47,BARRACK_Normal_Troops[#All],7))","v":1},{"$f":"IF($L23=0,0,IF(SUM(Paramètres!$K$6:$K$45)<>Paramètres!$K$3,0,VLOOKUP(MATCH(1,Paramètres!$K$6:$K$45,0),LABO_Normal_Troops[#All],7)))","v":6},{"$f":"IF(Paramètres!$H$46=0,0,VLOOKUP(Paramètres!$H$47,BARRACK_Normal_Troops[#All],8))","v":1},{"$f":"IF($N23=0,0,IF(SUM(Paramètres!$K$6:$K$45)<>Paramètres!$K$3,0,VLOOKUP(MATCH(1,Paramètres!$K$6:$K$45,0),LABO_Normal_Troops[#All],8)))","v":6},{"$f":"IF(Paramètres!$H$46=0,0,VLOOKUP(Paramètres!$H$47,BARRACK_Normal_Troops[#All],9))","v":1},{"$f":"IF($P23=0,0,IF(SUM(Paramètres!$K$6:$K$45)<>Paramètres!$K$3,0,VLOOKUP(MATCH(1,Paramètres!$K$6:$K$45,0),LABO_Normal_Troops[#All],9)))","v":4},{"$f":"IF(Paramètres!$H$46=0,0,VLOOKUP(Paramètres!$H$47,BARRACK_Normal_Troops[#All],10))","v":1},{"$f":"IF($R23=0,0,IF(SUM(Paramètres!$K$6:$K$45)<>Paramètres!$K$3,0,VLOOKUP(MATCH(1,Paramètres!$K$6:$K$45,0),LABO_Normal_Troops[#All],10)))","v":4},{"$f":"IF(Paramètres!$H$46=0,0,VLOOKUP(Paramètres!$H$47,BARRACK_Normal_Troops[#All],11))","v":1},{"$f":"IF($T23=0,0,IF(SUM(Paramètres!$K$6:$K$45)<>Paramètres!$K$3,0,VLOOKUP(MATCH(1,Paramètres!$K$6:$K$45,0),LABO_Normal_Troops[#All],11)))","v":5},null,5,0,0,0,0,0,0,0,0,0,0,0,0,0,0,0,0,0,0,0,0,null,5,1,1,1,1,1,0,0,0,0,0,null,5,4,4,4,4,4,4,4,2,2,1]
[6,{"$f":"IF(Paramètres!$H$46=0,0,VLOOKUP(Paramètres!$H$47,BARRACK_Normal_Troops[#All],2))","v":1},{"$f":"IF($B24=0,0,IF(SUM(Paramètres!$K$6:$K$45)<>Paramètres!$K$3,0,VLOOKUP(MATCH(1,Paramètres!$K$6:$K$45,0),LABO_Normal_Troops[#All],2)))","v":7},{"$f":"IF(Paramètres!$H$46=0,0,VLOOKUP(Paramètres!$H$47,BARRACK_Normal_Troops[#All],3))","v":1},{"$f":"IF($D24=0,0,IF(SUM(Paramètres!$K$6:$K$45)<>Paramètres!$K$3,0,VLOOKUP(MATCH(1,Paramètres!$K$6:$K$45,0),LABO_Normal_Troops[#All],3)))","v":7},{"$f":"IF(Paramètres!$H$46=0,0,VLOOKUP(Paramètres!$H$47,BARRACK_Normal_Troops[#All],4))","v":1},{"$f":"IF($F24=0,0,IF(SUM(Paramètres!$K$6:$K$45)<>Paramètres!$K$3,0,VLOOKUP(MATCH(1,Paramètres!$K$6:$K$45,0),LABO_Normal_Troops[#All],4)))","v":6},{"$f":"IF(Paramètres!$H$46=0,0,VLOOKUP(Paramètres!$H$47,BARRACK_Normal_Troops[#All],5))","v":1},{"$f":"IF($H24=0,0,IF(SUM(Paramètres!$K$6:$K$45)<>Paramètres!$K$3,0,VLOOKUP(MATCH(1,Paramètres!$K$6:$K$45,0),LABO_Normal_Troops[#All],5)))","v":7},{"$f":"IF(Paramètres!$H$46=0,0,VLOOKUP(Paramètres!$H$47,BARRACK_Normal_Troops[#All],6))","v":1},{"$f":"IF($J24=0,0,IF(SUM(Paramètres!$K$6:$K$45)<>Paramètres!$K$3,0,VLOOKUP(MATCH(1,Paramètres!$K$6:$K$45,0),LABO_Normal_Troops[#All],6)))","v":6},{"$f":"IF(Paramètres!$H$46=0,0,VLOOKUP(Paramètres!$H$47,BARRACK_Normal_Troops[#All],7))","v":1},{"$f":"IF($L24=0,0,IF(SUM(Paramètres!$K$6:$K$45)<>Paramètres!$K$3,0,VLOOKUP(MATCH(1,Paramètres!$K$6:$K$45,0),LABO_Normal_Troops[#All],7)))","v":6},{"$f":"IF(Paramètres!$H$46=0,0,VLOOKUP(Paramètres!$H$47,BARRACK_Normal_Troops[#All],8))","v":1},{"$f":"IF($N24=0,0,IF(SUM(Paramètres!$K$6:$K$45)<>Paramètres!$K$3,0,VLOOKUP(MATCH(1,Paramètres!$K$6:$K$45,0),LABO_Normal_Troops[#All],8)))","v":6},{"$f":"IF(Paramètres!$H$46=0,0,VLOOKUP(Paramètres!$H$47,BARRACK_Normal_Troops[#All],9))","v":1},{"$f":"IF($P24=0,0,IF(SUM(Paramètres!$K$6:$K$45)<>Paramètres!$K$3,0,VLOOKUP(MATCH(1,Paramètres!$K$6:$K$45,0),LABO_Normal_Troops[#All],9)))","v":4},{"$f":"IF(Paramètres!$H$46=0,0,VLOOKUP(Paramètres!$H$47,BARRACK_Normal_Troops[#All],10))","v":1},{"$f":"IF($R24=0,0,IF(SUM(Paramètres!$K$6:$K$45)<>Paramètres!$K$3,0,VLOOKUP(MATCH(1,Paramètres!$K$6:$K$45,0),LABO_Normal_Troops[#All],10)))","v":4},{"$f":"IF(Paramètres!$H$46=0,0,VLOOKUP(Paramètres!$H$47,BARRACK_Normal_Troops[#All],11))","v":1},{"$f":"IF($T24=0,0,IF(SUM(Paramètres!$K$6:$K$45)<>Paramètres!$K$3,0,VLOOKUP(MATCH(1,Paramètres!$K$6:$K$45,0),LABO_Normal_Troops[#All],11)))","v":5},null,6,0,0,0,0,0,0,0,0,0,0,0,0,0,0,0,0,0,0,0,0,null,6,1,1,1,1,1,1,0,0,0,0,null,6,5,5,5,5,5,5,5,3,3,3]
[7,{"$f":"IF(Paramètres!$H$46=0,0,VLOOKUP(Paramètres!$H$47,BARRACK_Normal_Troops[#All],2))","v":1},{"$f":"IF($B25=0,0,IF(SUM(Paramètres!$K$6:$K$45)<>Paramètres!$K$3,0,VLOOKUP(MATCH(1,Paramètres!$K$6:$K$45,0),LABO_Normal_Troops[#All],2)))","v":7},{"$f":"IF(Paramètres!$H$46=0,0,VLOOKUP(Paramètres!$H$47,BARRACK_Normal_Troops[#All],3))","v":1},{"$f":"IF($D25=0,0,IF(SUM(Paramètres!$K$6:$K$45)<>Paramètres!$K$3,0,VLOOKUP(MATCH(1,Paramètres!$K$6:$K$45,0),LABO_Normal_Troops[#All],3)))","v":7},{"$f":"IF(Paramètres!$H$46=0,0,VLOOKUP(Paramètres!$H$47,BARRACK_Normal_Troops[#All],4))","v":1},{"$f":"IF($F25=0,0,IF(SUM(Paramètres!$K$6:$K$45)<>Paramètres!$K$3,0,VLOOKUP(MATCH(1,Paramètres!$K$6:$K$45,0),LABO_Normal_Troops[#All],4)))","v":6},{"$f":"IF(Paramètres!$H$46=0,0,VLOOKUP(Paramètres!$H$47,BARRACK_Normal_Troops[#All],5))","v":1},{"$f":"IF($H25=0,0,IF(SUM(Paramètres!$K$6:$K$45)<>Paramètres!$K$3,0,VLOOKUP(MATCH(1,Paramètres!$K$6:$K$45,0),LABO_Normal_Troops[#All],5)))","v":7},{"$f":"IF(Paramètres!$H$46=0,0,VLOOKUP(Paramètres!$H$47,BARRACK_Normal_Troops[#All],6))","v":1},{"$f":"IF($J25=0,0,IF(SUM(Paramètres!$K$6:$K$45)<>Paramètres!$K$3,0,VLOOKUP(MATCH(1,Paramètres!$K$6:$K$45,0),LABO_Normal_Troops[#All],6)))","v":6},{"$f":"IF(Paramètres!$H$46=0,0,VLOOKUP(Paramètres!$H$47,BARRACK_Normal_Troops[#All],7))","v":1},{"$f":"IF($L25=0,0,IF(SUM(Paramètres!$K$6:$K$45)<>Paramètres!$K$3,0,VLOOKUP(MATCH(1,Paramètres!$K$6:$K$45,0),LABO_Normal_Troops[#All],7)))","v":6},{"$f":"IF(Paramètres!$H$46=0,0,VLOOKUP(Paramètres!$H$47,BARRACK_Normal_Troops[#All],8))","v":1},{"$f":"IF($N25=0,0,IF(SUM(Paramètres!$K$6:$K$45)<>Paramètres!$K$3,0,VLOOKUP(MATCH(1,Paramètres!$K$6:$K$45,0),LABO_Normal_Troops[#All],8)))","v":6},{"$f":"IF(Paramètres!$H$46=0,0,VLOOKUP(Paramètres!$H$47,BARRACK_Normal_Troops[#All],9))","v":1},{"$f":"IF($P25=0,0,IF(SUM(Paramètres!$K$6:$K$45)<>Paramètres!$K$3,0,VLOOKUP(MATCH(1,Paramètres!$K$6:$K$45,0),LABO_Normal_Troops[#All],9)))","v":4},{"$f":"IF(Paramètres!$H$46=0,0,VLOOKUP(Paramètres!$H$47,BARRACK_Normal_Troops[#All],10))","v":1},{"$f":"IF($R25=0,0,IF(SUM(Paramètres!$K$6:$K$45)<>Paramètres!$K$3,0,VLOOKUP(MATCH(1,Paramètres!$K$6:$K$45,0),LABO_Normal_Troops[#All],10)))","v":4},{"$f":"IF(Paramètres!$H$46=0,0,VLOOKUP(Paramètres!$H$47,BARRACK_Normal_Troops[#All],11))","v":1},{"$f":"IF($T25=0,0,IF(SUM(Paramètres!$K$6:$K$45)<>Paramètres!$K$3,0,VLOOKUP(MATCH(1,Paramètres!$K$6:$K$45,0),LABO_Normal_Troops[#All],11)))","v":5},null,7,0,0,0,0,0,0,0,0,0,0,0,0,0,0,0,0,0,0,0,0,null,7,1,1,1,1,1,1,1,0,0,0,null,7,6,6,5,6,5,6,5,4,3,3]
[8,{"$f":"IF(Paramètres!$H$46=0,0,VLOOKUP(Paramètres!$H$47,BARRACK_Normal_Troops[#All],2))","v":1},{"$f":"IF($B26=0,0,IF(SUM(Paramètres!$K$6:$K$45)<>Paramètres!$K$3,0,VLOOKUP(MATCH(1,Paramètres!$K$6:$K$45,0),LABO_Normal_Troops[#All],2)))","v":7},{"$f":"IF(Paramètres!$H$46=0,0,VLOOKUP(Paramètres!$H$47,BARRACK_Normal_Troops[#All],3))","v":1},{"$f":"IF($D26=0,0,IF(SUM(Paramètres!$K$6:$K$45)<>Paramètres!$K$3,0,VLOOKUP(MATCH(1,Paramètres!$K$6:$K$45,0),LABO_Normal_Troops[#All],3)))","v":7},{"$f":"IF(Paramètres!$H$46=0,0,VLOOKUP(Paramètres!$H$47,BARRACK_Normal_Troops[#All],4))","v":1},{"$f":"IF($F26=0,0,IF(SUM(Paramètres!$K$6:$K$45)<>Paramètres!$K$3,0,VLOOKUP(MATCH(1,Paramètres!$K$6:$K$45,0),LABO_Normal_Troops[#All],4)))","v":6},{"$f":"IF(Paramètres!$H$46=0,0,VLOOKUP(Paramètres!$H$47,BARRACK_Normal_Troops[#All],5))","v":1},{"$f":"IF($H26=0,0,IF(SUM(Paramètres!$K$6:$K$45)<>Paramètres!$K$3,0,VLOOKUP(MATCH(1,Paramètres!$K$6:$K$45,0),LABO_Normal_Troops[#All],5)))","v":7},{"$f":"IF(Paramètres!$H$46=0,0,VLOOKUP(Paramètres!$H$47,BARRACK_Normal_Troops[#All],6))","v":1},{"$f":"IF($J26=0,0,IF(SUM(Paramètres!$K$6:$K$45)<>Paramètres!$K$3,0,VLOOKUP(MATCH(1,Paramètres!$K$6:$K$45,0),LABO_Normal_Troops[#All],6)))","v":6},{"$f":"IF(Paramètres!$H$46=0,0,VLOOKUP(Paramètres!$H$47,BARRACK_Normal_Troops[#All],7))","v":1},{"$f":"IF($L26=0,0,IF(SUM(Paramètres!$K$6:$K$45)<>Paramètres!$K$3,0,VLOOKUP(MATCH(1,Paramètres!$K$6:$K$45,0),LABO_Normal_Troops[#All],7)))","v":6},{"$f":"IF(Paramètres!$H$46=0,0,VLOOKUP(Paramètres!$H$47,BARRACK_Normal_Troops[#All],8))","v":1},{"$f":"IF($N26=0,0,IF(SUM(Paramètres!$K$6:$K$45)<>Paramètres!$K$3,0,VLOOKUP(MATCH(1,Paramètres!$K$6:$K$45,0),LABO_Normal_Troops[#All],8)))","v":6},{"$f":"IF(Paramètres!$H$46=0,0,VLOOKUP(Paramètres!$H$47,BARRACK_Normal_Troops[#All],9))","v":1},{"$f":"IF($P26=0,0,IF(SUM(Paramètres!$K$6:$K$45)<>Paramètres!$K$3,0,VLOOKUP(MATCH(1,Paramètres!$K$6:$K$45,0),LABO_Normal_Troops[#All],9)))","v":4},{"$f":"IF(Paramètres!$H$46=0,0,VLOOKUP(Paramètres!$H$47,BARRACK_Normal_Troops[#All],10))","v":1},{"$f":"IF($R26=0,0,IF(SUM(Paramètres!$K$6:$K$45)<>Paramètres!$K$3,0,VLOOKUP(MATCH(1,Paramètres!$K$6:$K$45,0),LABO_Normal_Troops[#All],10)))","v":4},{"$f":"IF(Paramètres!$H$46=0,0,VLOOKUP(Paramètres!$H$47,BARRACK_Normal_Troops[#All],11))","v":1},{"$f":"IF($T26=0,0,IF(SUM(Paramètres!$K$6:$K$45)<>Paramètres!$K$3,0,VLOOKUP(MATCH(1,Paramètres!$K$6:$K$45,0),LABO_Normal_Troops[#All],11)))","v":5},null,8,0,0,0,0,0,0,0,0,0,0,0,0,0,0,0,0,0,0,0,0,null,8,1,1,1,1,1,1,1,1,0,0,null,8,7,7,6,7,6,6,6,4,4,5]
[9,{"$f":"IF(Paramètres!$H$46=0,0,VLOOKUP(Paramètres!$H$47,BARRACK_Normal_Troops[#All],2))","v":1},{"$f":"IF($B27=0,0,IF(SUM(Paramètres!$K$6:$K$45)<>Paramètres!$K$3,0,VLOOKUP(MATCH(1,Paramètres!$K$6:$K$45,0),LABO_Normal_Troops[#All],2)))","v":7},{"$f":"IF(Paramètres!$H$46=0,0,VLOOKUP(Paramètres!$H$47,BARRACK_Normal_Troops[#All],3))","v":1},{"$f":"IF($D27=0,0,IF(SUM(Paramètres!$K$6:$K$45)<>Paramètres!$K$3,0,VLOOKUP(MATCH(1,Paramètres!$K$6:$K$45,0),LABO_Normal_Troops[#All],3)))","v":7},{"$f":"IF(Paramètres!$H$46=0,0,VLOOKUP(Paramètres!$H$47,BARRACK_Normal_Troops[#All],4))","v":1},{"$f":"IF($F27=0,0,IF(SUM(Paramètres!$K$6:$K$45)<>Paramètres!$K$3,0,VLOOKUP(MATCH(1,Paramètres!$K$6:$K$45,0),LABO_Normal_Troops[#All],4)))","v":6},{"$f":"IF(Paramètres!$H$46=0,0,VLOOKUP(Paramètres!$H$47,BARRACK_Normal_Troops[#All],5))","v":1},{"$f":"IF($H27=0,0,IF(SUM(Paramètres!$K$6:$K$45)<>Paramètres!$K$3,0,VLOOKUP(MATCH(1,Paramètres!$K$6:$K$45,0),LABO_Normal_Troops[#All],5)))","v":7},{"$f":"IF(Paramètres!$H$46=0,0,VLOOKUP(Paramètres!$H$47,BARRACK_Normal_Troops[#All],6))","v":1},{"$f":"IF($J27=0,0,IF(SUM(Paramètres!$K$6:$K$45)<>Paramètres!$K$3,0,VLOOKUP(MATCH(1,Paramètres!$K$6:$K$45,0),LABO_Normal_Troops[#All],6)))","v":6},{"$f":"IF(Paramètres!$H$46=0,0,VLOOKUP(Paramètres!$H$47,BARRACK_Normal_Troops[#All],7))","v":1},{"$f":"IF($L27=0,0,IF(SUM(Paramètres!$K$6:$K$45)<>Paramètres!$K$3,0,VLOOKUP(MATCH(1,Paramètres!$K$6:$K$45,0),LABO_Normal_Troops[#All],7)))","v":6},{"$f":"IF(Paramètres!$H$46=0,0,VLOOKUP(Paramètres!$H$47,BARRACK_Normal_Troops[#All],8))","v":1},{"$f":"IF($N27=0,0,IF(SUM(Paramètres!$K$6:$K$45)<>Paramètres!$K$3,0,VLOOKUP(MATCH(1,Paramètres!$K$6:$K$45,0),LABO_Normal_Troops[#All],8)))","v":6},{"$f":"IF(Paramètres!$H$46=0,0,VLOOKUP(Paramètres!$H$47,BARRACK_Normal_Troops[#All],9))","v":1},{"$f":"IF($P27=0,0,IF(SUM(Paramètres!$K$6:$K$45)<>Paramètres!$K$3,0,VLOOKUP(MATCH(1,Paramètres!$K$6:$K$45,0),LABO_Normal_Troops[#All],9)))","v":4},{"$f":"IF(Paramètres!$H$46=0,0,VLOOKUP(Paramètres!$H$47,BARRACK_Normal_Troops[#All],10))","v":1},{"$f":"IF($R27=0,0,IF(SUM(Paramètres!$K$6:$K$45)<>Paramètres!$K$3,0,VLOOKUP(MATCH(1,Paramètres!$K$6:$K$45,0),LABO_Normal_Troops[#All],10)))","v":4},{"$f":"IF(Paramètres!$H$46=0,0,VLOOKUP(Paramètres!$H$47,BARRACK_Normal_Troops[#All],11))","v":1},{"$f":"IF($T27=0,0,IF(SUM(Paramètres!$K$6:$K$45)<>Paramètres!$K$3,0,VLOOKUP(MATCH(1,Paramètres!$K$6:$K$45,0),LABO_Normal_Troops[#All],11)))","v":5},null,9,0,0,0,0,0,0,0,0,0,0,0,0,0,0,0,0,0,0,0,0,null,9,1,1,1,1,1,1,1,1,1,0]
[10,{"$f":"IF(Paramètres!$H$46=0,0,VLOOKUP(Paramètres!$H$47,BARRACK_Normal_Troops[#All],2))","v":1},{"$f":"IF($B28=0,0,IF(SUM(Paramètres!$K$6:$K$45)<>Paramètres!$K$3,0,VLOOKUP(MATCH(1,Paramètres!$K$6:$K$45,0),LABO_Normal_Troops[#All],2)))","v":7},{"$f":"IF(Paramètres!$H$46=0,0,VLOOKUP(Paramètres!$H$47,BARRACK_Normal_Troops[#All],3))","v":1},{"$f":"IF($D28=0,0,IF(SUM(Paramètres!$K$6:$K$45)<>Paramètres!$K$3,0,VLOOKUP(MATCH(1,Paramètres!$K$6:$K$45,0),LABO_Normal_Troops[#All],3)))","v":7},{"$f":"IF(Paramètres!$H$46=0,0,VLOOKUP(Paramètres!$H$47,BARRACK_Normal_Troops[#All],4))","v":1},{"$f":"IF($F28=0,0,IF(SUM(Paramètres!$K$6:$K$45)<>Paramètres!$K$3,0,VLOOKUP(MATCH(1,Paramètres!$K$6:$K$45,0),LABO_Normal_Troops[#All],4)))","v":6},{"$f":"IF(Paramètres!$H$46=0,0,VLOOKUP(Paramètres!$H$47,BARRACK_Normal_Troops[#All],5))","v":1},{"$f":"IF($H28=0,0,IF(SUM(Paramètres!$K$6:$K$45)<>Paramètres!$K$3,0,VLOOKUP(MATCH(1,Paramètres!$K$6:$K$45,0),LABO_Normal_Troops[#All],5)))","v":7},{"$f":"IF(Paramètres!$H$46=0,0,VLOOKUP(Paramètres!$H$47,BARRACK_Normal_Troops[#All],6))","v":1},{"$f":"IF($J28=0,0,IF(SUM(Paramètres!$K$6:$K$45)<>Paramètres!$K$3,0,VLOOKUP(MATCH(1,Paramètres!$K$6:$K$45,0),LABO_Normal_Troops[#All],6)))","v":6},{"$f":"IF(Paramètres!$H$46=0,0,VLOOKUP(Paramètres!$H$47,BARRACK_Normal_Troops[#All],7))","v":1},{"$f":"IF($L28=0,0,IF(SUM(Paramètres!$K$6:$K$45)<>Paramètres!$K$3,0,VLOOKUP(MATCH(1,Paramètres!$K$6:$K$45,0),LABO_Normal_Troops[#All],7)))","v":6},{"$f":"IF(Paramètres!$H$46=0,0,VLOOKUP(Paramètres!$H$47,BARRACK_Normal_Troops[#All],8))","v":1},{"$f":"IF($N28=0,0,IF(SUM(Paramètres!$K$6:$K$45)<>Paramètres!$K$3,0,VLOOKUP(MATCH(1,Paramètres!$K$6:$K$45,0),LABO_Normal_Troops[#All],8)))","v":6},{"$f":"IF(Paramètres!$H$46=0,0,VLOOKUP(Paramètres!$H$47,BARRACK_Normal_Troops[#All],9))","v":1},{"$f":"IF($P28=0,0,IF(SUM(Paramètres!$K$6:$K$45)<>Paramètres!$K$3,0,VLOOKUP(MATCH(1,Paramètres!$K$6:$K$45,0),LABO_Normal_Troops[#All],9)))","v":4},{"$f":"IF(Paramètres!$H$46=0,0,VLOOKUP(Paramètres!$H$47,BARRACK_Normal_Troops[#All],10))","v":1},{"$f":"IF($R28=0,0,IF(SUM(Paramètres!$K$6:$K$45)<>Paramètres!$K$3,0,VLOOKUP(MATCH(1,Paramètres!$K$6:$K$45,0),LABO_Normal_Troops[#All],10)))","v":4},{"$f":"IF(Paramètres!$H$46=0,0,VLOOKUP(Paramètres!$H$47,BARRACK_Normal_Troops[#All],11))","v":1},{"$f":"IF($T28=0,0,IF(SUM(Paramètres!$K$6:$K$45)<>Paramètres!$K$3,0,VLOOKUP(MATCH(1,Paramètres!$K$6:$K$45,0),LABO_Normal_Troops[#All],11)))","v":5},null,10,0,0,0,0,0,0,0,0,0,0,0,0,0,0,0,0,0,0,0,0,null,10,1,1,1,1,1,1,1,1,1,1]
[null,null,null,null,null,null,null,null,null,null,null,null,null,null,null,null,null,null,null,null,null,null,null,null,null,null,null,null,null,null,null,null,null,null,null,null,null,null,null,null,null,null,null,null,11,1,1,1,1,1,1,1,1,1,1]
[]
["Améliorations de Troupes Noires (Disponibles et LVL Max)",null,null,null,null,null,null,null,null,null,null,null,null,null,"Améliorations de Troupes Noires (Changements)",null,null,null,null,null,null,null,null,null,null,null,null,null,null,"Caserne Noire",null,null,null,null,null,null,null,"Laboratoire"]
["LVL Labo","Serviteur","LVL Max","Chevaucheur de Cochon","LVL Max2","Valkyrie","LVL Max3","Golem","LVL Max4","Sorcière","LVL Max43","Molosse de lave","LVL Max5",null,"LVL Labo","Serviteur","LVL Max","Chevaucheur de Cochon","LVL Max2","Valkyrie","LVL Max3","Golem","LVL Max4","Sorcière","LVL Max5","Molosse de lave","LVL Max53",null,null,"LVL Dark Barrack","Serviteur","Chevaucheur de Cochon","Valkyrie","Golem","Sorcière","Molosse de lave",null,"LVL Labo","Serviteur","Chevaucheur de Cochon","Valkyrie","Golem","Sorcière","Molosse de lave"]
[0,{"$f":"IF(Paramètres!$I$46=0,0,VLOOKUP(Paramètres!$I$47,BARRACK_DARK_Troops[#All],2))","v":1},{"$f":"IF($B33=0,0,IF(SUM(Paramètres!$K$6:$K$45)<>Paramètres!$K$3,0,VLOOKUP(MATCH(1,Paramètres!$K$6:$K$45,0),LABO_Dark_Troops[#All],2)))","v":6},{"$f":"IF(Paramètres!$I$46=0,0,VLOOKUP(Paramètres!$I$47,BARRACK_DARK_Troops[#All],3))","v":1},{"$f":"IF($D33=0,0,IF(SUM(Paramètres!$K$6:$K$45)<>Paramètres!$K$3,0,VLOOKUP(MATCH(1,Paramètres!$K$6:$K$45,0),LABO_Dark_Troops[#All],3)))","v":5},{"$f":"IF(Paramètres!$I$46=0,0,VLOOKUP(Paramètres!$I$47,BARRACK_DARK_Troops[#All],4))","v":1},{"$f":"IF($F33=0,0,IF(SUM(Paramètres!$K$6:$K$45)<>Paramètres!$K$3,0,VLOOKUP(MATCH(1,Paramètres!$K$6:$K$45,0),LABO_Dark_Troops[#All],4)))","v":4},{"$f":"IF(Paramètres!$I$46=0,0,VLOOKUP(Paramètres!$I$47,BARRACK_DARK_Troops[#All],5))","v":1},{"$f":"IF($H33=0,0,IF(SUM(Paramètres!$K$6:$K$45)<>Paramètres!$K$3,0,VLOOKUP(MATCH(1,Paramètres!$K$6:$K$45,0),LABO_Dark_Troops[#All],5)))","v":5},{"$f":"IF(Paramètres!$I$46=0,0,VLOOKUP(Paramètres!$I$47,BARRACK_DARK_Troops[#All],6))","v":1},{"$f":"IF($J33=0,0,IF(SUM(Paramètres!$K$6:$K$45)<>Paramètres!$K$3,0,VLOOKUP(MATCH(1,Paramètres!$K$6:$K$45,0),LABO_Dark_Troops[#All],6)))","v":2},{"$f":"IF(Paramètres!$I$46=0,0,VLOOKUP(Paramètres!$I$47,BARRACK_DARK_Troops[#All],7))","v":1},{"$f":"IF($L33=0,0,IF(SUM(Paramètres!$K$6:$K$45)<>Paramètres!$K$3,0,VLOOKUP(MATCH(1,Paramètres!$K$6:$K$45,0),LABO_Dark_Troops[#All],7)))","v":3},null,0,{"$f":"B33","v":1},{"$f":"C33","v":6},1,5,1,4,1,5,1,2,1,3,null,null,0,0,0,0,0,0,0,null,0,0,0,0,0,0,0]
[1,{"$f":"IF(Paramètres!$I$46=0,0,VLOOKUP(Paramètres!$I$47,BARRACK_DARK_Troops[#All],2))","v":1},{"$f":"IF($B34=0,0,IF(SUM(Paramètres!$K$6:$K$45)<>Paramètres!$K$3,0,VLOOKUP(MATCH(1,Paramètres!$K$6:$K$45,0),LABO_Dark_Troops[#All],2)))","v":6},{"$f":"IF(Paramètres!$I$46=0,0,VLOOKUP(Paramètres!$I$47,BARRACK_DARK_Troops[#All],3))","v":1},{"$f":"IF($D34=0,0,IF(SUM(Paramètres!$K$6:$K$45)<>Paramètres!$K$3,0,VLOOKUP(MATCH(1,Paramètres!$K$6:$K$45,0),LABO_Dark_Troops[#All],3)))","v":5},{"$f":"IF(Paramètres!$I$46=0,0,VLOOKUP(Paramètres!$I$47,BARRACK_DARK_Troops[#All],4))","v":1},{"$f":"IF($F34=0,0,IF(SUM(Paramètres!$K$6:$K$45)<>Paramètres!$K$3,0,VLOOKUP(MATCH(1,Paramètres!$K$6:$K$45,0),LABO_Dark_Troops[#All],4)))","v":4},{"$f":"IF(Paramètres!$I$46=0,0,VLOOKUP(Paramètres!$I$47,BARRACK_DARK_Troops[#All],5))","v":1},{"$f":"IF($H34=0,0,IF(SUM(Paramètres!$K$6:$K$45)<>Paramètres!$K$3,0,VLOOKUP(MATCH(1,Paramètres!$K$6:$K$45,0),LABO_Dark_Troops[#All],5)))","v":5},{"$f":"IF(Paramètres!$I$46=0,0,VLOOKUP(Paramètres!$I$47,BARRACK_DARK_Troops[#All],6))","v":1},{"$f":"IF($J34=0,0,IF(SUM(Paramètres!$K$6:$K$45)<>Paramètres!$K$3,0,VLOOKUP(MATCH(1,Paramètres!$K$6:$K$45,0),LABO_Dark_Troops[#All],6)))","v":2},{"$f":"IF(Paramètres!$I$46=0,0,VLOOKUP(Paramètres!$I$47,BARRACK_DARK_Troops[#All],7))","v":1},{"$f":"IF($L34=0,0,IF(SUM(Paramètres!$K$6:$K$45)<>Paramètres!$K$3,0,VLOOKUP(MATCH(1,Paramètres!$K$6:$K$45,0),LABO_Dark_Troops[#All],7)))","v":3},null,1,{"$f":"B34-B33","v":0},{"$f":"C34-C33","v":0},0,0,0,0,0,0,0,0,0,0,null,null,1,1,0,0,0,0,0,null,1,1,1,1,1,1,1]
[2,{"$f":"IF(Paramètres!$I$46=0,0,VLOOKUP(Paramètres!$I$47,BARRACK_DARK_Troops[#All],2))","v":1},{"$f":"IF($B35=0,0,IF(SUM(Paramètres!$K$6:$K$45)<>Paramètres!$K$3,0,VLOOKUP(MATCH(1,Paramètres!$K$6:$K$45,0),LABO_Dark_Troops[#All],2)))","v":6},{"$f":"IF(Paramètres!$I$46=0,0,VLOOKUP(Paramètres!$I$47,BARRACK_DARK_Troops[#All],3))","v":1},{"$f":"IF($D35=0,0,IF(SUM(Paramètres!$K$6:$K$45)<>Paramètres!$K$3,0,VLOOKUP(MATCH(1,Paramètres!$K$6:$K$45,0),LABO_Dark_Troops[#All],3)))","v":5},{"$f":"IF(Paramètres!$I$46=0,0,VLOOKUP(Paramètres!$I$47,BARRACK_DARK_Troops[#All],4))","v":1},{"$f":"IF($F35=0,0,IF(SUM(Paramètres!$K$6:$K$45)<>Paramètres!$K$3,0,VLOOKUP(MATCH(1,Paramètres!$K$6:$K$45,0),LABO_Dark_Troops[#All],4)))","v":4},{"$f":"IF(Paramètres!$I$46=0,0,VLOOKUP(Paramètres!$I$47,BARRACK_DARK_Troops[#All],5))","v":1},{"$f":"IF($H35=0,0,IF(SUM(Paramètres!$K$6:$K$45)<>Paramètres!$K$3,0,VLOOKUP(MATCH(1,Paramètres!$K$6:$K$45,0),LABO_Dark_Troops[#All],5)))","v":5},{"$f":"IF(Paramètres!$I$46=0,0,VLOOKUP(Paramètres!$I$47,BARRACK_DARK_Troops[#All],6))","v":1},{"$f":"IF($J35=0,0,IF(SUM(Paramètres!$K$6:$K$45)<>Paramètres!$K$3,0,VLOOKUP(MATCH(1,Paramètres!$K$6:$K$45,0),LABO_Dark_Troops[#All],6)))","v":2},{"$f":"IF(Paramètres!$I$46=0,0,VLOOKUP(Paramètres!$I$47,BARRACK_DARK_Troops[#All],7))","v":1},{"$f":"IF($L35=0,0,IF(SUM(Paramètres!$K$6:$K$45)<>Paramètres!$K$3,0,VLOOKUP(MATCH(1,Paramètres!$K$6:$K$45,0),LABO_Dark_Troops[#All],7)))","v":3},null,2,{"$f":"B35-B34","v":0},0,0,0,0,0,0,0,0,0,0,0,null,null,2,1,1,0,0,0,0,null,2,1,1,1,1,1,1]
[3,{"$f":"IF(Paramètres!$I$46=0,0,VLOOKUP(Paramètres!$I$47,BARRACK_DARK_Troops[#All],2))","v":1},{"$f":"IF($B36=0,0,IF(SUM(Paramètres!$K$6:$K$45)<>Paramètres!$K$3,0,VLOOKUP(MATCH(1,Paramètres!$K$6:$K$45,0),LABO_Dark_Troops[#All],2)))","v":6},{"$f":"IF(Paramètres!$I$46=0,0,VLOOKUP(Paramètres!$I$47,BARRACK_DARK_Troops[#All],3))","v":1},{"$f":"IF($D36=0,0,IF(SUM(Paramètres!$K$6:$K$45)<>Paramètres!$K$3,0,VLOOKUP(MATCH(1,Paramètres!$K$6:$K$45,0),LABO_Dark_Troops[#All],3)))","v":5},{"$f":"IF(Paramètres!$I$46=0,0,VLOOKUP(Paramètres!$I$47,BARRACK_DARK_Troops[#All],4))","v":1},{"$f":"IF($F36=0,0,IF(SUM(Paramètres!$K$6:$K$45)<>Paramètres!$K$3,0,VLOOKUP(MATCH(1,Paramètres!$K$6:$K$45,0),LABO_Dark_Troops[#All],4)))","v":4},{"$f":"IF(Paramètres!$I$46=0,0,VLOOKUP(Paramètres!$I$47,BARRACK_DARK_Troops[#All],5))","v":1},{"$f":"IF($H36=0,0,IF(SUM(Paramètres!$K$6:$K$45)<>Paramètres!$K$3,0,VLOOKUP(MATCH(1,Paramètres!$K$6:$K$45,0),LABO_Dark_Troops[#All],5)))","v":5},{"$f":"IF(Paramètres!$I$46=0,0,VLOOKUP(Paramètres!$I$47,BARRACK_DARK_Troops[#All],6))","v":1},{"$f":"IF($J36=0,0,IF(SUM(Paramètres!$K$6:$K$45)<>Paramètres!$K$3,0,VLOOKUP(MATCH(1,Paramètres!$K$6:$K$45,0),LABO_Dark_Troops[#All],6)))","v":2},{"$f":"IF(Paramètres!$I$46=0,0,VLOOKUP(Paramètres!$I$47,BARRACK_DARK_Troops[#All],7))","v":1},{"$f":"IF($L36=0,0,IF(SUM(Paramètres!$K$6:$K$45)<>Paramètres!$K$3,0,VLOOKUP(MATCH(1,Paramètres!$K$6:$K$45,0),LABO_Dark_Troops[#All],7)))","v":3},null,3,0,0,0,0,0,0,0,0,0,0,0,0,null,null,3,1,1,1,0,0,0,null,3,1,1,1,1,1,1]
[4,{"$f":"IF(Paramètres!$I$46=0,0,VLOOKUP(Paramètres!$I$47,BARRACK_DARK_Troops[#All],2))","v":1},{"$f":"IF($B37=0,0,IF(SUM(Paramètres!$K$6:$K$45)<>Paramètres!$K$3,0,VLOOKUP(MATCH(1,Paramètres!$K$6:$K$45,0),LABO_Dark_Troops[#All],2)))","v":6},{"$f":"IF(Paramètres!$I$46=0,0,VLOOKUP(Paramètres!$I$47,BARRACK_DARK_Troops[#All],3))","v":1},{"$f":"IF($D37=0,0,IF(SUM(Paramètres!$K$6:$K$45)<>Paramètres!$K$3,0,VLOOKUP(MATCH(1,Paramètres!$K$6:$K$45,0),LABO_Dark_Troops[#All],3)))","v":5},{"$f":"IF(Paramètres!$I$46=0,0,VLOOKUP(Paramètres!$I$47,BARRACK_DARK_Troops[#All],4))","v":1},{"$f":"IF($F37=0,0,IF(SUM(Paramètres!$K$6:$K$45)<>Paramètres!$K$3,0,VLOOKUP(MATCH(1,Paramètres!$K$6:$K$45,0),LABO_Dark_Troops[#All],4)))","v":4},{"$f":"IF(Paramètres!$I$46=0,0,VLOOKUP(Paramètres!$I$47,BARRACK_DARK_Troops[#All],5))","v":1},{"$f":"IF($H37=0,0,IF(SUM(Paramètres!$K$6:$K$45)<>Paramètres!$K$3,0,VLOOKUP(MATCH(1,Paramètres!$K$6:$K$45,0),LABO_Dark_Troops[#All],5)))","v":5},{"$f":"IF(Paramètres!$I$46=0,0,VLOOKUP(Paramètres!$I$47,BARRACK_DARK_Troops[#All],6))","v":1},{"$f":"IF($J37=0,0,IF(SUM(Paramètres!$K$6:$K$45)<>Paramètres!$K$3,0,VLOOKUP(MATCH(1,Paramètres!$K$6:$K$45,0),LABO_Dark_Troops[#All],6)))","v":2},{"$f":"IF(Paramètres!$I$46=0,0,VLOOKUP(Paramètres!$I$47,BARRACK_DARK_Troops[#All],7))","v":1},{"$f":"IF($L37=0,0,IF(SUM(Paramètres!$K$6:$K$45)<>Paramètres!$K$3,0,VLOOKUP(MATCH(1,Paramètres!$K$6:$K$45,0),LABO_Dark_Troops[#All],7)))","v":3},null,4,0,0,0,0,0,0,0,0,0,0,0,0,null,null,4,1,1,1,1,0,0,null,4,1,1,1,1,1,1]
[5,{"$f":"IF(Paramètres!$I$46=0,0,VLOOKUP(Paramètres!$I$47,BARRACK_DARK_Troops[#All],2))","v":1},{"$f":"IF($B38=0,0,IF(SUM(Paramètres!$K$6:$K$45)<>Paramètres!$K$3,0,VLOOKUP(MATCH(1,Paramètres!$K$6:$K$45,0),LABO_Dark_Troops[#All],2)))","v":6},{"$f":"IF(Paramètres!$I$46=0,0,VLOOKUP(Paramètres!$I$47,BARRACK_DARK_Troops[#All],3))","v":1},{"$f":"IF($D38=0,0,IF(SUM(Paramètres!$K$6:$K$45)<>Paramètres!$K$3,0,VLOOKUP(MATCH(1,Paramètres!$K$6:$K$45,0),LABO_Dark_Troops[#All],3)))","v":5},{"$f":"IF(Paramètres!$I$46=0,0,VLOOKUP(Paramètres!$I$47,BARRACK_DARK_Troops[#All],4))","v":1},{"$f":"IF($F38=0,0,IF(SUM(Paramètres!$K$6:$K$45)<>Paramètres!$K$3,0,VLOOKUP(MATCH(1,Paramètres!$K$6:$K$45,0),LABO_Dark_Troops[#All],4)))","v":4},{"$f":"IF(Paramètres!$I$46=0,0,VLOOKUP(Paramètres!$I$47,BARRACK_DARK_Troops[#All],5))","v":1},{"$f":"IF($H38=0,0,IF(SUM(Paramètres!$K$6:$K$45)<>Paramètres!$K$3,0,VLOOKUP(MATCH(1,Paramètres!$K$6:$K$45,0),LABO_Dark_Troops[#All],5)))","v":5},{"$f":"IF(Paramètres!$I$46=0,0,VLOOKUP(Paramètres!$I$47,BARRACK_DARK_Troops[#All],6))","v":1},{"$f":"IF($J38=0,0,IF(SUM(Paramètres!$K$6:$K$45)<>Paramètres!$K$3,0,VLOOKUP(MATCH(1,Paramètres!$K$6:$K$45,0),LABO_Dark_Troops[#All],6)))","v":2},{"$f":"IF(Paramètres!$I$46=0,0,VLOOKUP(Paramètres!$I$47,BARRACK_DARK_Troops[#All],7))","v":1},{"$f":"IF($L38=0,0,IF(SUM(Paramètres!$K$6:$K$45)<>Paramètres!$K$3,0,VLOOKUP(MATCH(1,Paramètres!$K$6:$K$45,0),LABO_Dark_Troops[#All],7)))","v":3},null,5,0,0,0,0,0,0,0,0,0,0,0,0,null,null,5,1,1,1,1,1,0,null,5,2,2,1,1,1,1]
[6,{"$f":"IF(Paramètres!$I$46=0,0,VLOOKUP(Paramètres!$I$47,BARRACK_DARK_Troops[#All],2))","v":1},{"$f":"IF($B39=0,0,IF(SUM(Paramètres!$K$6:$K$45)<>Paramètres!$K$3,0,VLOOKUP(MATCH(1,Paramètres!$K$6:$K$45,0),LABO_Dark_Troops[#All],2)))","v":6},{"$f":"IF(Paramètres!$I$46=0,0,VLOOKUP(Paramètres!$I$47,BARRACK_DARK_Troops[#All],3))","v":1},{"$f":"IF($D39=0,0,IF(SUM(Paramètres!$K$6:$K$45)<>Paramètres!$K$3,0,VLOOKUP(MATCH(1,Paramètres!$K$6:$K$45,0),LABO_Dark_Troops[#All],3)))","v":5},{"$f":"IF(Paramètres!$I$46=0,0,VLOOKUP(Paramètres!$I$47,BARRACK_DARK_Troops[#All],4))","v":1},{"$f":"IF($F39=0,0,IF(SUM(Paramètres!$K$6:$K$45)<>Paramètres!$K$3,0,VLOOKUP(MATCH(1,Paramètres!$K$6:$K$45,0),LABO_Dark_Troops[#All],4)))","v":4},{"$f":"IF(Paramètres!$I$46=0,0,VLOOKUP(Paramètres!$I$47,BARRACK_DARK_Troops[#All],5))","v":1},{"$f":"IF($H39=0,0,IF(SUM(Paramètres!$K$6:$K$45)<>Paramètres!$K$3,0,VLOOKUP(MATCH(1,Paramètres!$K$6:$K$45,0),LABO_Dark_Troops[#All],5)))","v":5},{"$f":"IF(Paramètres!$I$46=0,0,VLOOKUP(Paramètres!$I$47,BARRACK_DARK_Troops[#All],6))","v":1},{"$f":"IF($J39=0,0,IF(SUM(Paramètres!$K$6:$K$45)<>Paramètres!$K$3,0,VLOOKUP(MATCH(1,Paramètres!$K$6:$K$45,0),LABO_Dark_Troops[#All],6)))","v":2},{"$f":"IF(Paramètres!$I$46=0,0,VLOOKUP(Paramètres!$I$47,BARRACK_DARK_Troops[#All],7))","v":1},{"$f":"IF($L39=0,0,IF(SUM(Paramètres!$K$6:$K$45)<>Paramètres!$K$3,0,VLOOKUP(MATCH(1,Paramètres!$K$6:$K$45,0),LABO_Dark_Troops[#All],7)))","v":3},null,6,0,0,0,0,0,0,0,0,0,0,0,0,null,null,6,1,1,1,1,1,1,null,6,4,4,2,2,1,1]
[7,{"$f":"IF(Paramètres!$I$46=0,0,VLOOKUP(Paramètres!$I$47,BARRACK_DARK_Troops[#All],2))","v":1},{"$f":"IF($B40=0,0,IF(SUM(Paramètres!$K$6:$K$45)<>Paramètres!$K$3,0,VLOOKUP(MATCH(1,Paramètres!$K$6:$K$45,0),LABO_Dark_Troops[#All],2)))","v":6},{"$f":"IF(Paramètres!$I$46=0,0,VLOOKUP(Paramètres!$I$47,BARRACK_DARK_Troops[#All],3))","v":1},{"$f":"IF($D40=0,0,IF(SUM(Paramètres!$K$6:$K$45)<>Paramètres!$K$3,0,VLOOKUP(MATCH(1,Paramètres!$K$6:$K$45,0),LABO_Dark_Troops[#All],3)))","v":5},{"$f":"IF(Paramètres!$I$46=0,0,VLOOKUP(Paramètres!$I$47,BARRACK_DARK_Troops[#All],4))","v":1},{"$f":"IF($F40=0,0,IF(SUM(Paramètres!$K$6:$K$45)<>Paramètres!$K$3,0,VLOOKUP(MATCH(1,Paramètres!$K$6:$K$45,0),LABO_Dark_Troops[#All],4)))","v":4},{"$f":"IF(Paramètres!$I$46=0,0,VLOOKUP(Paramètres!$I$47,BARRACK_DARK_Troops[#All],5))","v":1},{"$f":"IF($H40=0,0,IF(SUM(Paramètres!$K$6:$K$45)<>Paramètres!$K$3,0,VLOOKUP(MATCH(1,Paramètres!$K$6:$K$45,0),LABO_Dark_Troops[#All],5)))","v":5},{"$f":"IF(Paramètres!$I$46=0,0,VLOOKUP(Paramètres!$I$47,BARRACK_DARK_Troops[#All],6))","v":1},{"$f":"IF($J40=0,0,IF(SUM(Paramètres!$K$6:$K$45)<>Paramètres!$K$3,0,VLOOKUP(MATCH(1,Paramètres!$K$6:$K$45,0),LABO_Dark_Troops[#All],6)))","v":2},{"$f":"IF(Paramètres!$I$46=0,0,VLOOKUP(Paramètres!$I$47,BARRACK_DARK_Troops[#All],7))","v":1},{"$f":"IF($L40=0,0,IF(SUM(Paramètres!$K$6:$K$45)<>Paramètres!$K$3,0,VLOOKUP(MATCH(1,Paramètres!$K$6:$K$45,0),LABO_Dark_Troops[#All],7)))","v":3},null,7,0,0,0,0,0,0,0,0,0,0,0,0,null,null,7,1,1,1,1,1,1,null,7,5,5,4,4,2,2]
[8,{"$f":"IF(Paramètres!$I$46=0,0,VLOOKUP(Paramètres!$I$47,BARRACK_DARK_Troops[#All],2))","v":1},{"$f":"IF($B41=0,0,IF(SUM(Paramètres!$K$6:$K$45)<>Paramètres!$K$3,0,VLOOKUP(MATCH(1,Paramètres!$K$6:$K$45,0),LABO_Dark_Troops[#All],2)))","v":6},{"$f":"IF(Paramètres!$I$46=0,0,VLOOKUP(Paramètres!$I$47,BARRACK_DARK_Troops[#All],3))","v":1},{"$f":"IF($D41=0,0,IF(SUM(Paramètres!$K$6:$K$45)<>Paramètres!$K$3,0,VLOOKUP(MATCH(1,Paramètres!$K$6:$K$45,0),LABO_Dark_Troops[#All],3)))","v":5},{"$f":"IF(Paramètres!$I$46=0,0,VLOOKUP(Paramètres!$I$47,BARRACK_DARK_Troops[#All],4))","v":1},{"$f":"IF($F41=0,0,IF(SUM(Paramètres!$K$6:$K$45)<>Paramètres!$K$3,0,VLOOKUP(MATCH(1,Paramètres!$K$6:$K$45,0),LABO_Dark_Troops[#All],4)))","v":4},{"$f":"IF(Paramètres!$I$46=0,0,VLOOKUP(Paramètres!$I$47,BARRACK_DARK_Troops[#All],5))","v":1},{"$f":"IF($H41=0,0,IF(SUM(Paramètres!$K$6:$K$45)<>Paramètres!$K$3,0,VLOOKUP(MATCH(1,Paramètres!$K$6:$K$45,0),LABO_Dark_Troops[#All],5)))","v":5},{"$f":"IF(Paramètres!$I$46=0,0,VLOOKUP(Paramètres!$I$47,BARRACK_DARK_Troops[#All],6))","v":1},{"$f":"IF($J41=0,0,IF(SUM(Paramètres!$K$6:$K$45)<>Paramètres!$K$3,0,VLOOKUP(MATCH(1,Paramètres!$K$6:$K$45,0),LABO_Dark_Troops[#All],6)))","v":2},{"$f":"IF(Paramètres!$I$46=0,0,VLOOKUP(Paramètres!$I$47,BARRACK_DARK_Troops[#All],7))","v":1},{"$f":"IF($L41=0,0,IF(SUM(Paramètres!$K$6:$K$45)<>Paramètres!$K$3,0,VLOOKUP(MATCH(1,Paramètres!$K$6:$K$45,0),LABO_Dark_Troops[#All],7)))","v":3},null,8,0,0,0,0,0,0,0,0,0,0,0,0,null,null,null,null,null,null,null,null,null,null,8,6,5,4,5,2,3]
[9,{"$f":"IF(Paramètres!$I$46=0,0,VLOOKUP(Paramètres!$I$47,BARRACK_DARK_Troops[#All],2))","v":1},{"$f":"IF($B42=0,0,IF(SUM(Paramètres!$K$6:$K$45)<>Paramètres!$K$3,0,VLOOKUP(MATCH(1,Paramètres!$K$6:$K$45,0),LABO_Dark_Troops[#All],2)))","v":6},{"$f":"IF(Paramètres!$I$46=0,0,VLOOKUP(Paramètres!$I$47,BARRACK_DARK_Troops[#All],3))","v":1},{"$f":"IF($D42=0,0,IF(SUM(Paramètres!$K$6:$K$45)<>Paramètres!$K$3,0,VLOOKUP(MATCH(1,Paramètres!$K$6:$K$45,0),LABO_Dark_Troops[#All],3)))","v":5},{"$f":"IF(Paramètres!$I$46=0,0,VLOOKUP(Paramètres!$I$47,BARRACK_DARK_Troops[#All],4))","v":1},{"$f":"IF($F42=0,0,IF(SUM(Paramètres!$K$6:$K$45)<>Paramètres!$K$3,0,VLOOKUP(MATCH(1,Paramètres!$K$6:$K$45,0),LABO_Dark_Troops[#All],4)))","v":4},{"$f":"IF(Paramètres!$I$46=0,0,VLOOKUP(Paramètres!$I$47,BARRACK_DARK_Troops[#All],5))","v":1},{"$f":"IF($H42=0,0,IF(SUM(Paramètres!$K$6:$K$45)<>Paramètres!$K$3,0,VLOOKUP(MATCH(1,Paramètres!$K$6:$K$45,0),LABO_Dark_Troops[#All],5)))","v":5},{"$f":"IF(Paramètres!$I$46=0,0,VLOOKUP(Paramètres!$I$47,BARRACK_DARK_Troops[#All],6))","v":1},{"$f":"IF($J42=0,0,IF(SUM(Paramètres!$K$6:$K$45)<>Paramètres!$K$3,0,VLOOKUP(MATCH(1,Paramètres!$K$6:$K$45,0),LABO_Dark_Troops[#All],6)))","v":2},{"$f":"IF(Paramètres!$I$46=0,0,VLOOKUP(Paramètres!$I$47,BARRACK_DARK_Troops[#All],7))","v":1},{"$f":"IF($L42=0,0,IF(SUM(Paramètres!$K$6:$K$45)<>Paramètres!$K$3,0,VLOOKUP(MATCH(1,Paramètres!$K$6:$K$45,0),LABO_Dark_Troops[#All],7)))","v":3},null,9,0,0,0,0,0,0,0,0,0,0,0,0]
[10,{"$f":"IF(Paramètres!$I$46=0,0,VLOOKUP(Paramètres!$I$47,BARRACK_DARK_Troops[#All],2))","v":1},{"$f":"IF($B43=0,0,IF(SUM(Paramètres!$K$6:$K$45)<>Paramètres!$K$3,0,VLOOKUP(MATCH(1,Paramètres!$K$6:$K$45,0),LABO_Dark_Troops[#All],2)))","v":6},{"$f":"IF(Paramètres!$I$46=0,0,VLOOKUP(Paramètres!$I$47,BARRACK_DARK_Troops[#All],3))","v":1},{"$f":"IF($D43=0,0,IF(SUM(Paramètres!$K$6:$K$45)<>Paramètres!$K$3,0,VLOOKUP(MATCH(1,Paramètres!$K$6:$K$45,0),LABO_Dark_Troops[#All],3)))","v":5},{"$f":"IF(Paramètres!$I$46=0,0,VLOOKUP(Paramètres!$I$47,BARRACK_DARK_Troops[#All],4))","v":1},{"$f":"IF($F43=0,0,IF(SUM(Paramètres!$K$6:$K$45)<>Paramètres!$K$3,0,VLOOKUP(MATCH(1,Paramètres!$K$6:$K$45,0),LABO_Dark_Troops[#All],4)))","v":4},{"$f":"IF(Paramètres!$I$46=0,0,VLOOKUP(Paramètres!$I$47,BARRACK_DARK_Troops[#All],5))","v":1},{"$f":"IF($H43=0,0,IF(SUM(Paramètres!$K$6:$K$45)<>Paramètres!$K$3,0,VLOOKUP(MATCH(1,Paramètres!$K$6:$K$45,0),LABO_Dark_Troops[#All],5)))","v":5},{"$f":"IF(Paramètres!$I$46=0,0,VLOOKUP(Paramètres!$I$47,BARRACK_DARK_Troops[#All],6))","v":1},{"$f":"IF($J43=0,0,IF(SUM(Paramètres!$K$6:$K$45)<>Paramètres!$K$3,0,VLOOKUP(MATCH(1,Paramètres!$K$6:$K$45,0),LABO_Dark_Troops[#All],6)))","v":2},{"$f":"IF(Paramètres!$I$46=0,0,VLOOKUP(Paramètres!$I$47,BARRACK_DARK_Troops[#All],7))","v":1},{"$f":"IF($L43=0,0,IF(SUM(Paramètres!$K$6:$K$45)<>Paramètres!$K$3,0,VLOOKUP(MATCH(1,Paramètres!$K$6:$K$45,0),LABO_Dark_Troops[#All],7)))","v":3},null,10,0,0,0,0,0,0,0,0,0,0,0,0]

{"sheet":"Héros","index":11,"n_rows":13,"n_cols":11,"rows_kept":13,"cut":false,"hidden":true,"merged":[[0,0,0,4],[0,6,0,10]]}
["Héros (Disponibles & LVL Max)",null,null,null,null,null,"Héros (Changements)"]
["LVL HdV","Roi des Barbares","LVL Max","Reine des Archers","LVL Max2",null,"LVL HdV","Roi des Barbares","LVL Max","Reine des Archers","LVL Max2"]
[0,0,0,0,0,null,0,{"$f":"B3","v":0},{"$f":"C3","v":0},{"$f":"D3","v":0},{"$f":"E3","v":0}]
[1,0,0,0,0,null,1,{"$f":"B4-B3","v":0},{"$f":"C4-C3","v":0},{"$f":"D4-D3","v":0},{"$f":"E4-E3","v":0}]
[2,0,0,0,0,null,2,0,0,0,0]
[3,0,0,0,0,null,3,0,0,0,0]
[4,0,0,0,0,null,4,0,0,0,0]
[5,0,0,0,0,null,5,0,0,0,0]
[6,0,0,0,0,null,6,0,0,0,0]
[7,1,5,0,0,null,7,1,5,0,0]
[8,1,10,0,0,null,8,0,5,0,0]
[9,1,30,1,30,null,9,0,20,1,{"$f":"E12-E11","v":30}]
[10,1,40,1,40,null,10,0,10,0,10]

{"sheet":"Coûts des Améliorations","index":12,"n_rows":161,"n_cols":30,"rows_kept":161,"cut":false,"hidden":true,"merged":[[0,0,0,17],[1,12,1,17],[66,0,66,5],[65,0,65,5],[1,0,1,11],[19,0,19,14],[18,0,18,14],[20,12,20,14],[2,12,2,14],[2,15,2,17],[55,0,55,2],[2,9,2,11],[20,0,20,2],[20,3,20,5],[2,6,2,8],[20,6,20,8],[83,6,83,8],[83,9,83,11],[36,3,36,5],[36,6,36,8],[83,3,83,5],[67,3,67,5],[81,0,81,14],[54,0,54,17],[55,3,55,5],[55,6,55,8],[55,9,55,11],[55,15,55,17],[55,12,55,14],[36,12,36,14],[20,9,20,11],[53,0,53,17],[36,9,36,11],[34,0,34,29],[35,0,35,29],[119,3,119,5],[117,0,117,5],[118,0,118,5],[119,0,119,2],[2,0,2,2],[2,3,2,5],[36,0,36,2],[67,0,67,2],[93,0,93,29],[94,0,94,29],[82,0,82,14],[83,0,83,2],[107,12,107,14],[83,12,83,14],[107,3,107,5],[107,6,107,8],[107,9,107,11],[107,15,107,17],[95,0,95,2],[106,0,106,17],[105,0,105,17],[107,0,107,2],[95,3,95,5],[95,6,95,8],[95,9,95,11],[95,12,95,14],[95,15,95,17],[95,21,95,23],[36,15,36,17],[36,24,36,26],[36,21,36,23],[95,27,95,29],[95,18,95,20],[95,24,95,26],[36,27,36,29],[36,18,36,20]]}
["Coûts - Bâtiments de Ressources"]
["Élixir",null,null,null,null,null,null,null,null,null,null,null,"Or"]
["Mine d'Or",null,null,"Foreuse d'Élixir Noir",null,null,"Réserve d'Or",null,null,"Réservoir d'Élixir Noir",null,null,"Extracteur d'Élixir",null,null,"Réservoir d'Élixir"]
["LVL","Coût","Temps","LVL","Coût","Temps","LVL","Coût","Temps","LVL","Coût","Temps","LVL","Coût","Temps","LVL","Coût","Temps"]
[1,150,{"$f":"1/60","v":1.6666666666666666E-2},1,1000000,24,1,300,{"$f":"15/60","v":0.25},1,600000,24,1,150,{"$f":"1/60","v":1.6666666666666666E-2},1,300,{"$f":"15/60","v":0.25}]
[2,300,{"$f":"5/60","v":8.3333333333333329E-2},2,1500000,48,2,750,{"$f":"30/60","v":0.5},2,1200000,48,2,300,{"$f":"5/60","v":8.3333333333333329E-2},2,750,{"$f":"30/60","v":0.5}]
[3,700,{"$f":"15/60","v":0.25},3,2000000,72,3,1500,1,3,1800000,72,3,700,{"$f":"15/60","v":0.25},3,1500,1]
[4,1400,1,4,3000000,96,4,3000,2,4,2400000,96,4,1400,1,4,3000,2]
[5,3000,2,5,4000000,144,5,6000,3,5,3000000,120,5,3000,2,5,6000,3]
[6,7000,6,6,5000000,192,6,12000,4,6,3600000,144,6,7000,6,6,12000,4]
[7,14000,12,null,null,null,7,25000,6,null,null,null,7,14000,12,7,25000,6]
[8,28000,24,null,null,null,8,50000,8,null,null,null,8,28000,24,8,50000,8]
[9,56000,48,null,null,null,9,100000,12,null,null,null,9,56000,48,9,100000,12]
[10,84000,72,null,null,null,10,250000,24,null,null,null,10,84000,72,10,250000,24]
[11,168000,96,null,null,null,11,500000,48,null,null,null,11,168000,96,11,500000,48]
[12,336000,120,null,null,null,null,null,null,null,null,null,12,336000,120]
[]
[]
["Coûts - Bâtiments d'Armée"]
["Élixir"]
["Caserne Noire",null,null,"Caserne",null,null,"Camp Militaire",null,null,"Laboratoire",null,null,"Usine de Sorts"]
["LVL","Coût","Temps","LVL","Coût","Temps","LVL","Coût","Temps","LVL","Coût","Temps","LVL","Coût","Temps"]
[1,750000,72,1,200,0.02,1,250,{"$f":"5/60","v":8.3333333333333329E-2},1,25000,{"$f":"30/60","v":0.5},1,200000,24]
[2,1250000,120,2,1000,0.25,2,2500,1,2,50000,5,2,400000,48]
[3,1750000,144,3,2500,2,3,10000,3,3,90000,12,3,800000,96]
[4,2250000,168,4,5000,4,4,100000,8,4,270000,24,4,1600000,120]
[5,2750000,192,5,10000,10,5,250000,24,5,500000,48,5,3200000,144]
[6,3500000,216,6,80000,16,6,750000,72,6,1000000,96]
[null,null,null,7,240000,24,7,2250000,120,7,2500000,120]
[null,null,null,8,700000,48,8,6750000,240,8,4000000,144]
[null,null,null,9,1500000,96]
[null,null,null,10,2000000,144]
[]
[]
["Coûts - Bâtiments de Défense"]
["Or"]
["Rempart",null,null,"Canon",null,null,"Tour d'Archers",null,null,"Mortier",null,null,"Défense Antiaérienne",null,null,"Tour de Sorciers",null,null,"Propulseur d'air",null,null,"Tesla Camouflée",null,null,"Arc-X",null,null,"Tour de l'Enfer"]
["LVL","Coût","Temps","LVL","Coût","Temps","LVL","Coût","Temps","LVL","Coût","Temps","LVL","Coût","Temps","LVL","Coût","Temps","LVL","Coût","Temps","LVL","Coût","Temps","LVL","Coût","Temps","LVL","Coût","Temps"]
[1,200,0,1,250,{"$f":"1/60","v":1.6666666666666666E-2},1,1000,{"$f":"15/60","v":0.25},1,8000,8,1,22500,5,1,180000,12,1,500000,24,1,1000000,24,1,3000000,168,1,5000000,168]
[2,1000,0,2,1000,{"$f":"15/60","v":0.25},2,2000,{"$f":"30/60","v":0.5},2,32000,12,2,90000,24,2,360000,24,2,null,null,2,1250000,72,2,5000000,240,2,6500000,240]
[3,5000,0,3,4000,{"$f":"45/60","v":0.75},3,5000,{"$f":"45/60","v":0.75},3,120000,24,3,270000,72,3,720000,48,3,null,null,3,1500000,120,3,7000000,336,3,8000000,336]
[4,10000,0,4,16000,2,4,20000,4,4,400000,48,4,540000,120,4,1280000,72,4,null,null,4,2000000,144,4,8000000,336]
[5,30000,0,5,50000,6,5,80000,12,5,800000,96,5,1080000,144,5,1960000,96,5,null,null,5,2500000,192]
[6,75000,0,6,100000,12,6,180000,24,6,1600000,120,6,2160000,192,6,2680000,120,6,null,null,6,3000000,240]
[7,200000,0,7,200000,24,7,360000,48,7,3200000,168,7,4320000,240,7,5360000,168,null,null,null,7,3500000,288]
[8,500000,0,8,400000,48,8,720000,72,8,6400000,240,8,7560000,288,8,6400000,240,null,null,null,8,5000000,336]
[9,1000000,0,9,800000,72,9,1500000,96]
[10,3000000,0,10,1600000,96,10,2500000,120]
[11,4000000,0,11,3200000,120,11,4500000,144]
[null,null,null,12,6400000,144,12,6500000,168]
[null,null,null,13,7500000,168,13,7500000,192]
[]
[]
["Costs - Traps"]
["Or"]
["Bombe",null,null,"Piège à ressort",null,null,"Bombe géante",null,null,"Bombe aérienne",null,null,"Tête chercheuse",null,null,"Piège squelettique"]
["LVL","Coût","Temps","LVL","Coût","Temps","LVL","Coût","Temps","LVL","Coût","Temps","LVL","Coût","Temps","LVL","Coût","Temps"]
[1,400,0,1,2000,0,1,12500,0,1,4000,0,1,15000,5,1,6000,0]
[2,1000,0.25,null,null,null,2,75000,6,2,20000,4,2,2000000,24,2,600000,6]
[3,10000,2,null,null,null,3,750000,24,3,200000,12,3,4000000,72,3,1300000,24]
[4,100000,8,null,null,null,4,2500000,72,4,1500000,24]
[5,1000000,24]
[6,1500000,48]
[]
[]
["Coûts - Bâtiments Autres"]
["Or"]
["Château de Clan",null,null,"Hôtel de Ville"]
["LVL","Coût","Temps","LVL","Coût","Temps"]
[1,40000,0,1,0,0]
[2,100000,6,2,1000,{"$f":"5/60","v":8.3333333333333329E-2}]
[3,800000,24,3,4000,3]
[4,1800000,48,4,25000,24]
[5,5000000,168,5,150000,48]
[6,7000000,336,6,750000,96]
[null,null,null,7,1200000,144]
[null,null,null,8,2000000,192]
[null,null,null,9,3000000,240]
[null,null,null,10,4000000,336]
[]
[]
["Coûts - Améliorations de Sorts"]
["Élixir"]
["Sort de Foudre",null,null,"Sort de Guérison",null,null,"Sort de Rage",null,null,"Sort de Saut",null,null,"Sort de Gel"]
["LVL","Coût","Temps","LVL","Coût","Temps","LVL","Coût","Temps","LVL","Coût","Temps","LVL","Coût","Temps"]
[1,0,0,1,0,0,1,0,0,1,0,0,1,0,0]
[2,200000,24,2,300000,24,2,450000,48,2,3000000,120,2,4000000,120]
[3,500000,48,3,600000,48,3,900000,72,3,6000000,168,3,5000000,168]
[4,1000000,72,4,1200000,72,4,1800000,120,null,null,null,4,6500000,240]
[5,2000000,96,5,2400000,120,5,3000000,168,null,null,null,5,8000000,336]
[6,8000000,336,6,4800000,168]
[]
[]
["Coûts - Améliroations de Troupes Normales"]
["Élixir"]
["Barbare",null,null,"Archer",null,null,"Gobelin",null,null,"Géant",null,null,"Sapeur",null,null,"Ballon",null,null,"Sorcier",null,null,"Guérisseuse",null,null,"Dragon",null,null,"P.E.K.K.A"]
["LVL","Coût","Temps","LVL","Coût","Temps","LVL","Coût","Temps","LVL","Coût","Temps","LVL","Coût","Temps","LVL","Coût","Temps","LVL","Coût","Temps","LVL","Coût","Temps","LVL","Coût","Temps","LVL","Coût","Temps"]
[1,0,0,1,0,0,1,0,0,1,0,0,1,0,0,1,0,0,1,0,0,1,0,0,1,0,0,1,0,0]
[2,50000,6,2,50000,12,2,50000,12,2,100000,24,2,100000,24,2,150000,24,2,150000,24,2,750000,72,2,2000000,168,2,3000000,240]
[3,150000,24,3,250000,48,3,250000,48,3,250000,48,3,250000,48,3,450000,48,3,450000,48,3,1500000,120,3,3000000,240,3,6000000,288]
[4,500000,72,4,750000,72,4,750000,72,4,750000,72,4,750000,72,4,1350000,72,4,1350000,72,4,3000000,168,4,8000000,288,4,7000000,336]
[5,1500000,120,5,2250000,120,5,2250000,120,5,2250000,120,5,2250000,120,5,2500000,120,5,2500000,120,null,null,null,null,null,null,5,8000000,336]
[6,4500000,240,6,6000000,240,6,4500000,240,6,6000000,240,6,6750000,240,6,6000000,240,6,7500000,336]
[7,6000000,336,7,7500000,336,null,null,null,7,7000000,336]
[]
["Coûts - Améliorations de Troupes Noires"]
["Élixir Noir"]
["Serviteur",null,null,"Chevaucheur de Cochon",null,null,"Valkyrie",null,null,"Golem",null,null,"Sorcière",null,null,"Molosse de lave"]
["LVL","Coût","Temps","LVL","Coût","Temps","LVL","Coût","Temps","LVL","Coût","Temps","LVL","Coût","Temps","LVL","Coût","Temps"]
[1,0,0,1,0,0,1,0,0,1,0,0,1,0,0,1,0,0]
[2,10000,120,2,20000,192,2,50000,240,2,60000,240,2,75000,240,2,60000,240]
[3,20000,144,3,30000,240,3,60000,288,3,70000,288,null,null,null,3,70000,288]
[4,30000,168,4,40000,288,4,70000,336,4,80000,336]
[5,40000,240,5,50000,336,null,null,null,5,90000,336]
[6,100000,336]
[]
[]
["Coûts - Héros"]
["Élixir Noir"]
["Roi des Barbares",null,null,"Reine des Archers"]
["LVL","Coût","Temps","LVL","Coût","Temps"]
[1,10000,0,1,40000,0]
[2,12500,12,2,22500,12]
[3,15000,24,3,25000,24]
[4,17500,36,4,27500,36]
[5,20000,48,5,30000,48]
[6,22500,60,6,32500,60]
[7,25000,72,7,35000,72]
[8,30000,84,8,40000,84]
[9,35000,96,9,45000,96]
[10,40000,108,10,50000,108]
[11,45000,120,11,55000,120]
[12,50000,132,12,60000,132]
[13,55000,144,13,65000,144]
[14,60000,156,14,70000,156]
[15,65000,168,15,75000,168]
[16,70000,168,16,80000,168]
[17,75000,168,17,85000,168]
[18,80000,168,18,90000,168]
[19,85000,168,19,95000,168]
[20,90000,168,20,100000,168]
[21,95000,168,21,105000,168]
[22,100000,168,22,110000,168]
[23,105000,168,23,115000,168]
[24,110000,168,24,120000,168]
[25,115000,168,25,125000,168]
[26,120000,168,26,130000,168]
[27,125000,168,27,135000,168]
[28,130000,168,28,140000,168]
[29,135000,168,29,145000,168]
[30,140000,168,30,150000,168]
[31,145000,168,31,155000,168]
[32,150000,168,32,160000,168]
[33,155000,168,33,165000,168]
[34,160000,168,34,170000,168]
[35,165000,168,35,175000,168]
[36,170000,168,36,180000,168]
[37,175000,168,37,185000,168]
[38,180000,168,38,190000,168]
[39,185000,168,39,195000,168]
[40,190000,168,40,200000,168]

{"sheet":"Gains et Stockage","index":13,"n_rows":16,"n_cols":15,"rows_kept":16,"cut":false,"hidden":true,"merged":[[0,0,0,14],[2,13,2,14],[2,0,2,2],[2,10,2,12],[2,5,2,7],[2,3,2,4],[1,0,1,4],[1,5,1,9],[2,8,2,9],[1,10,1,14]]}
["Gains"]
["Or",null,null,null,null,"Élixir",null,null,null,null,"Élixir Noir"]
["Mine d'Or",null,null,"Réserve d'Or",null,"Extracteur d'Élixir",null,null,"Réservoir d'Élixir",null,"Foreuse d'Élixir Noir",null,null,"Réservoir d'Élixir Noir"]
["LVL","Production","Capacité","LVL","Capacité","LVL","Production","Capacité","LVL","Capacité","LVL","Production","Capacité","LVL","Capacité"]
[1,200,500,1,1500,1,200,500,1,1500,1,20,120,1,10000]
[2,400,1000,2,3000,2,400,1000,2,3000,2,30,240,2,20000]
[3,600,1500,3,6000,3,600,1500,3,6000,3,45,450,3,40000]
[4,800,2500,4,12000,4,800,2500,4,12000,4,80,720,4,80000]
[5,1000,10000,5,25000,5,1000,10000,5,25000,5,80,1120,5,150000]
[6,1300,20000,6,50000,6,1300,20000,6,50000,6,100,1600,6,200000]
[7,1600,30000,7,100000,7,1600,30000,7,100000]
[8,1900,50000,8,250000,8,1900,50000,8,250000]
[9,2200,75000,9,500000,9,2200,75000,9,500000]
[10,2500,100000,10,1000000,10,2500,100000,10,1000000]
[11,3000,150000,11,2000000,11,3000,150000,11,2000000]
[12,3500,200000,null,null,12,3500,200000]

{"sheet":"Trophées","index":14,"n_rows":23,"n_cols":9,"rows_kept":23,"cut":false,"hidden":true,"merged":[[0,0,0,4],[0,6,0,8]]}
["Trophy Bonus",null,null,null,null,null,"Trophy Loot Multiplier"]
["Classement","Trophy","Bonus d'Or","Bonus d'Élixir","Bonus d'Élixir Noir",null,"Classement","Trophy Difference","Multiplicateur de Loot"]
[{"$f":"IF(AND('Combats - Loots'!$E$2>=B3,'Combats - Loots'!$E$2<B4),1,\"\")","v":""},0,0,0,0,null,{"$f":"IF(AND('Combats - Loots'!$D$2>=H3,'Combats - Loots'!$D$2<H4),1,\"\")","v":""},-10,0.05]
[{"$f":"IF(AND('Combats - Loots'!$E$2>=B4,'Combats - Loots'!$E$2<B5),1,\"\")","v":""},400,400,400,0,null,{"$f":"IF(AND('Combats - Loots'!$D$2>=H4,'Combats - Loots'!$D$2<H5),1,\"\")","v":1},-9,0.05]
[{"$f":"IF(AND('Combats - Loots'!$E$2>=B5,'Combats - Loots'!$E$2<B6),1,\"\")","v":""},500,500,500,0,null,{"$f":"IF(AND('Combats - Loots'!$D$2>=H5,'Combats - Loots'!$D$2<H6),1,\"\")","v":""},-8,0.05]
[{"$f":"IF(AND('Combats - Loots'!$E$2>=B6,'Combats - Loots'!$E$2<B7),1,\"\")","v":""},600,800,800,0,null,{"$f":"IF(AND('Combats - Loots'!$D$2>=H6,'Combats - Loots'!$D$2<H7),1,\"\")","v":""},-7,0.05]
[{"$f":"IF(AND('Combats - Loots'!$E$2>=B7,'Combats - Loots'!$E$2<B8),1,\"\")","v":1},800,1300,1300,0,null,{"$f":"IF(AND('Combats - Loots'!$D$2>=H7,'Combats - Loots'!$D$2<H8),1,\"\")","v":""},-6,0.05]
[{"$f":"IF(AND('Combats - Loots'!$E$2>=B8,'Combats - Loots'!$E$2<B9),1,\"\")","v":""},1000,2000,2000,0,null,{"$f":"IF(AND('Combats - Loots'!$D$2>=H8,'Combats - Loots'!$D$2<H9),1,\"\")","v":""},-5,0.05]
[{"$f":"IF(AND('Combats - Loots'!$E$2>=B9,'Combats - Loots'!$E$2<B10),1,\"\")","v":""},1200,3300,3300,0,null,{"$f":"IF(AND('Combats - Loots'!$D$2>=H9,'Combats - Loots'!$D$2<H10),1,\"\")","v":""},-4,0.05]
[{"$f":"IF(AND('Combats - Loots'!$E$2>=B10,'Combats - Loots'!$E$2<B11),1,\"\")","v":""},1400,5200,5200,0,null,{"$f":"IF(AND('Combats - Loots'!$D$2>=H10,'Combats - Loots'!$D$2<H11),1,\"\")","v":""},-3,0.25]
[{"$f":"IF(AND('Combats - Loots'!$E$2>=B11,'Combats - Loots'!$E$2<B12),1,\"\")","v":""},1600,8400,8400,0,null,{"$f":"IF(AND('Combats - Loots'!$D$2>=H11,'Combats - Loots'!$D$2<H12),1,\"\")","v":""},-2,0.5]
[{"$f":"IF(AND('Combats - Loots'!$E$2>=B12,'Combats - Loots'!$E$2<B13),1,\"\")","v":""},1800,13000,13000,0,null,{"$f":"IF(AND('Combats - Loots'!$D$2>=H12,'Combats - Loots'!$D$2<H13),1,\"\")","v":""},-1,0.9]
[{"$f":"IF(AND('Combats - Loots'!$E$2>=B13,'Combats - Loots'!$E$2<B14),1,\"\")","v":""},2000,21000,21000,50,null,{"$f":"IF(AND('Combats - Loots'!$D$2>=H13,'Combats - Loots'!$D$2<H14),1,\"\")","v":""},0,1]
[{"$f":"IF(AND('Combats - Loots'!$E$2>=B14,'Combats - Loots'!$E$2<B15),1,\"\")","v":""},2200,34000,34000,100,null,{"$f":"IF(AND('Combats - Loots'!$D$2>=H14,'Combats - Loots'!$D$2<H15),1,\"\")","v":""},1,1.1000000000000001]
[{"$f":"IF(AND('Combats - Loots'!$E$2>=B15,'Combats - Loots'!$E$2<B16),1,\"\")","v":""},2400,55000,55000,200,null,{"$f":"IF(AND('Combats - Loots'!$D$2>=H15,'Combats - Loots'!$D$2<H16),1,\"\")","v":""},2,1.5]
[{"$f":"IF(AND('Combats - Loots'!$E$2>=B16,'Combats - Loots'!$E$2<B17),1,\"\")","v":""},2600,75000,75000,400,null,{"$f":"IF(AND('Combats - Loots'!$D$2>=H16,'Combats - Loots'!$D$2<H17),1,\"\")","v":""},3,2]
[{"$f":"IF(AND('Combats - Loots'!$E$2>=B17,'Combats - Loots'!$E$2<B18),1,\"\")","v":""},2800,90000,90000,500,null,{"$f":"IF(AND('Combats - Loots'!$D$2>=H17,'Combats - Loots'!$D$2<H18),1,\"\")","v":""},4,2]
[{"$f":"IF(AND('Combats - Loots'!$E$2>=B18,'Combats - Loots'!$E$2<B19),1,\"\")","v":""},3000,100000,100000,600,null,{"$f":"IF(AND('Combats - Loots'!$D$2>=H18,'Combats - Loots'!$D$2<H19),1,\"\")","v":""},5,2]
[{"$f":"IF(AND('Combats - Loots'!$E$2>=B19,'Combats - Loots'!$E$2<B20),1,\"\")","v":""},3200,120000,120000,800,null,{"$f":"IF(AND('Combats - Loots'!$D$2>=H19,'Combats - Loots'!$D$2<H20),1,\"\")","v":""},6,2]
[{"$f":"IF(AND('Combats - Loots'!$E$2>=B20,'Combats - Loots'!$E$2<B21),1,\"\")","v":""},10000,"/","/","/",null,{"$f":"IF(AND('Combats - Loots'!$D$2>=H20,'Combats - Loots'!$D$2<H21),1,\"\")","v":""},7,2]
[null,null,null,null,null,null,{"$f":"IF(AND('Combats - Loots'!$D$2>=H21,'Combats - Loots'!$D$2<H22),1,\"\")","v":""},8,2]
[null,null,null,null,null,null,{"$f":"IF(AND('Combats - Loots'!$D$2>=H22,'Combats - Loots'!$D$2<H23),1,\"\")","v":""},9,2]
[null,null,null,null,null,null,{"$f":"IF(AND('Combats - Loots'!$D$2>=H23,'Combats - Loots'!$D$2<H24),1,\"\")","v":""},10,2]

{"sheet":"Coûts de Formation","index":15,"n_rows":40,"n_cols":40,"rows_kept":40,"cut":false,"hidden":true,"merged":[[27,26,27,27],[14,36,14,39],[12,0,12,39],[13,0,13,39],[14,0,14,3],[14,4,14,7],[14,8,14,11],[14,12,14,15],[14,16,14,19],[14,20,14,23],[14,24,14,27],[27,28,27,29],[14,28,14,31],[14,32,14,35],[27,30,27,31],[25,24,25,31],[27,20,27,23],[25,0,25,23],[26,0,26,31],[2,16,2,19],[0,0,0,19],[27,0,27,3],[27,4,27,7],[27,8,27,11],[27,12,27,15],[1,0,1,19],[2,0,2,3],[2,4,2,7],[2,8,2,11],[2,12,2,15],[27,16,27,19],[27,24,27,25]]}
["Costs - Spells Creation"]
["Élixir"]
["Sort de Foudre",null,null,null,"Sort de Guérison",null,null,null,"Sort de Rage",null,null,null,"Sort de Saut",null,null,null,"Sort de Gel"]
["LVL","Espace","Coût","Temps","LVL","Espace","Coût","Temps","LVL","Espace","Coût","Temps","LVL","Espace","Coût","Temps","LVL","Espace","Coût","Temps"]
[1,1,15000,1800,1,1,15000,1800,1,1,23000,2700,1,1,23000,2700,1,1,26000,2700]
[2,1,16500,1800,2,1,16500,1800,2,1,25000,2700,2,1,29000,2700,2,1,29000,2700]
[3,1,18000,1800,3,1,18000,1800,3,1,27000,2700,3,1,31000,2700,3,1,31000,2700]
[4,1,20000,1800,4,1,20000,1800,4,1,30000,2700,null,null,null,null,4,1,33000,2700]
[5,1,22000,1800,5,1,22000,1800,5,1,33000,2700,null,null,null,null,5,1,35000,2700]
[6,1,24000,1800,6,1,24000,1800]
[]
[]
["Coûts - Formation de Troupes Normales"]
["Élixir"]
["Barbare",null,null,null,"Archer",null,null,null,"Gobelin",null,null,null,"Géant",null,null,null,"Sapeur",null,null,null,"Ballon",null,null,null,"Sorcier",null,null,null,"Guérisseuse",null,null,null,"Dragon",null,null,null,"P.E.K.K.A"]
["LVL","Espace","Coût","Temps","LVL","Espace","Coût","Temps","LVL","Espace","Coût","Temps","LVL","Espace","Coût","Temps","LVL","Espace","Coût","Temps","LVL","Espace","Coût","Temps","LVL","Espace","Coût","Temps","LVL","Espace","Coût","Temps","LVL","Espace","Coût","Temps","LVL","Espace","Coût","Temps"]
[1,1,25,20,1,1,50,25,1,1,25,30,1,5,500,120,1,2,1000,120,1,5,2000,480,1,4,1500,480,1,14,5000,900,1,20,25000,1800,1,25,30000,2700]
[2,1,40,20,2,1,80,25,2,1,40,30,2,5,1000,120,2,2,1500,120,2,5,2500,480,2,4,2000,480,2,14,6000,900,2,20,30000,1800,2,25,35000,2700]
[3,1,60,20,3,1,120,25,3,1,60,30,3,5,1500,120,3,2,2000,120,3,5,3000,480,3,4,2500,480,3,14,8000,900,3,20,36000,1800,3,25,42000,2700]
[4,1,80,20,4,1,160,25,4,1,80,30,4,5,2000,120,4,2,2500,120,4,5,3500,480,4,4,3000,480,4,14,10000,900,4,20,42000,1800,4,25,50000,2700]
[5,1,100,20,5,1,200,25,5,1,100,30,5,5,2500,120,5,2,3000,120,5,5,4000,480,5,4,3500,480]
[6,1,150,20,6,1,300,25,6,1,150,30,6,5,3000,120,6,2,3500,120,6,5,4500,480,6,4,4000,480]
[7,1,200,20,7,1,400,25,null,null,null,null,7,5,3500,120]
[]
[]
["Coûts - Formation de Troupes Noires",null,null,null,null,null,null,null,null,null,null,null,null,null,null,null,null,null,null,null,null,null,null,null,"Capacité - Bâtiments"]
["Élixir Noir"]
["Serviteur",null,null,null,"Chevaucheur de Cochon",null,null,null,"Valkyrie",null,null,null,"Golem",null,null,null,"Sorcière",null,null,null,"Molosse de lave",null,null,null,"Laboratoire",null,"Caserne",null,"Caserne Noire",null,"Camp Militaire"]
["LVL","Espace","Coût","Temps","LVL","Espace","Coût","Temps","LVL","Espace","Coût","Temps","LVL","Espace","Coût","Temps","LVL","Espace","Coût","Temps","LVL","Espace","Coût","Temps","LVL","Capacité","LVL","Capacité","LVL","Capacité","LVL","Capacité"]
[1,2,6,45,1,5,40,120,1,8,70,900,1,30,450,2700,1,12,250,1200,1,30,390,2700,1,1,0,0,0,0,0,0]
[2,2,7,45,2,5,45,120,2,8,100,900,2,30,525,2700,2,12,350,1200,2,30,450,2700,2,2,1,20,1,40,1,20]
[3,2,8,45,3,5,52,120,3,8,130,900,3,30,600,2700,null,null,null,null,3,30,510,2700,3,3,2,25,2,50,2,30]
[4,2,9,45,4,5,58,120,4,8,160,900,4,30,675,2700,null,null,null,null,null,null,null,null,4,4,3,30,3,60,3,35]
[5,2,10,45,5,5,65,120,null,null,null,null,5,30,750,2700,null,null,null,null,null,null,null,null,5,5,4,35,4,70,4,40]
[6,2,11,45,null,null,null,null,null,null,null,null,null,null,null,null,null,null,null,null,null,null,null,null,null,null,5,40,5,80,5,45]
[null,null,null,null,null,null,null,null,null,null,null,null,null,null,null,null,null,null,null,null,null,null,null,null,null,null,6,45,6,90,6,50]
[null,null,null,null,null,null,null,null,null,null,null,null,null,null,null,null,null,null,null,null,null,null,null,null,null,null,7,50,null,null,7,55]
[null,null,null,null,null,null,null,null,null,null,null,null,null,null,null,null,null,null,null,null,null,null,null,null,null,null,8,55,null,null,8,60]
[null,null,null,null,null,null,null,null,null,null,null,null,null,null,null,null,null,null,null,null,null,null,null,null,null,null,9,60]
[null,null,null,null,null,null,null,null,null,null,null,null,null,null,null,null,null,null,null,null,null,null,null,null,null,null,10,75]

{"sheet":"Calendrier","index":16,"n_rows":1000,"n_cols":1,"rows_kept":1000,"cut":false,"hidden":true,"merged":[]}
["Calendrier"]
[{"$f":"Planning!$C$2","v":"2015-04-27"}]
[{"$f":"$A2+Planning!$D$2","v":"2015-04-28"}]
[{"$f":"$A3+Planning!$D$2","v":"2015-04-29"}]
[{"$f":"$A4+Planning!$D$2","v":"2015-04-30"}]
[{"$f":"$A5+Planning!$D$2","v":"2015-05-01"}]
[{"$f":"$A6+Planning!$D$2","v":"2015-05-02"}]
[{"$f":"$A7+Planning!$D$2","v":"2015-05-03"}]
[{"$f":"$A8+Planning!$D$2","v":"2015-05-04"}]
[{"$f":"$A9+Planning!$D$2","v":"2015-05-05"}]
[{"$f":"$A10+Planning!$D$2","v":"2015-05-06"}]
[{"$f":"$A11+Planning!$D$2","v":"2015-05-07"}]
[{"$f":"$A12+Planning!$D$2","v":"2015-05-08"}]
[{"$f":"$A13+Planning!$D$2","v":"2015-05-09"}]
[{"$f":"$A14+Planning!$D$2","v":"2015-05-10"}]
[{"$f":"$A15+Planning!$D$2","v":"2015-05-11"}]
[{"$f":"$A16+Planning!$D$2","v":"2015-05-12"}]
[{"$f":"$A17+Planning!$D$2","v":"2015-05-13"}]
[{"$f":"$A18+Planning!$D$2","v":"2015-05-14"}]
[{"$f":"$A19+Planning!$D$2","v":"2015-05-15"}]
[{"$f":"$A20+Planning!$D$2","v":"2015-05-16"}]
[{"$f":"$A21+Planning!$D$2","v":"2015-05-17"}]
[{"$f":"$A22+Planning!$D$2","v":"2015-05-18"}]
[{"$f":"$A23+Planning!$D$2","v":"2015-05-19"}]
[{"$f":"$A24+Planning!$D$2","v":"2015-05-20"}]
[{"$f":"$A25+Planning!$D$2","v":"2015-05-21"}]
[{"$f":"$A26+Planning!$D$2","v":"2015-05-22"}]
[{"$f":"$A27+Planning!$D$2","v":"2015-05-23"}]
[{"$f":"$A28+Planning!$D$2","v":"2015-05-24"}]
[{"$f":"$A29+Planning!$D$2","v":"2015-05-25"}]
[{"$f":"$A30+Planning!$D$2","v":"2015-05-26"}]
[{"$f":"$A31+Planning!$D$2","v":"2015-05-27"}]
[{"$f":"$A32+Planning!$D$2","v":"2015-05-28"}]
[{"$f":"$A33+Planning!$D$2","v":"2015-05-29"}]
[{"$f":"$A34+Planning!$D$2","v":"2015-05-30"}]
[{"$f":"$A35+Planning!$D$2","v":"2015-05-31"}]
[{"$f":"$A36+Planning!$D$2","v":"2015-06-01"}]
[{"$f":"$A37+Planning!$D$2","v":"2015-06-02"}]
[{"$f":"$A38+Planning!$D$2","v":"2015-06-03"}]
[{"$f":"$A39+Planning!$D$2","v":"2015-06-04"}]
[{"$f":"$A40+Planning!$D$2","v":"2015-06-05"}]
[{"$f":"$A41+Planning!$D$2","v":"2015-06-06"}]
[{"$f":"$A42+Planning!$D$2","v":"2015-06-07"}]
[{"$f":"$A43+Planning!$D$2","v":"2015-06-08"}]
[{"$f":"$A44+Planning!$D$2","v":"2015-06-09"}]
[{"$f":"$A45+Planning!$D$2","v":"2015-06-10"}]
[{"$f":"$A46+Planning!$D$2","v":"2015-06-11"}]
[{"$f":"$A47+Planning!$D$2","v":"2015-06-12"}]
[{"$f":"$A48+Planning!$D$2","v":"2015-06-13"}]
[{"$f":"$A49+Planning!$D$2","v":"2015-06-14"}]
[{"$f":"$A50+Planning!$D$2","v":"2015-06-15"}]
[{"$f":"$A51+Planning!$D$2","v":"2015-06-16"}]
[{"$f":"$A52+Planning!$D$2","v":"2015-06-17"}]
[{"$f":"$A53+Planning!$D$2","v":"2015-06-18"}]
[{"$f":"$A54+Planning!$D$2","v":"2015-06-19"}]
[{"$f":"$A55+Planning!$D$2","v":"2015-06-20"}]
[{"$f":"$A56+Planning!$D$2","v":"2015-06-21"}]
[{"$f":"$A57+Planning!$D$2","v":"2015-06-22"}]
[{"$f":"$A58+Planning!$D$2","v":"2015-06-23"}]
[{"$f":"$A59+Planning!$D$2","v":"2015-06-24"}]
[{"$f":"$A60+Planning!$D$2","v":"2015-06-25"}]
[{"$f":"$A61+Planning!$D$2","v":"2015-06-26"}]
[{"$f":"$A62+Planning!$D$2","v":"2015-06-27"}]
[{"$f":"$A63+Planning!$D$2","v":"2015-06-28"}]
[{"$f":"$A64+Planning!$D$2","v":"2015-06-29"}]
[{"$f":"$A65+Planning!$D$2","v":"2015-06-30"}]
[{"$f":"$A66+Planning!$D$2","v":"2015-07-01"}]
[{"$f":"$A67+Planning!$D$2","v":"2015-07-02"}]
[{"$f":"$A68+Planning!$D$2","v":"2015-07-03"}]
[{"$f":"$A69+Planning!$D$2","v":"2015-07-04"}]
[{"$f":"$A70+Planning!$D$2","v":"2015-07-05"}]
[{"$f":"$A71+Planning!$D$2","v":"2015-07-06"}]
[{"$f":"$A72+Planning!$D$2","v":"2015-07-07"}]
[{"$f":"$A73+Planning!$D$2","v":"2015-07-08"}]
[{"$f":"$A74+Planning!$D$2","v":"2015-07-09"}]
[{"$f":"$A75+Planning!$D$2","v":"2015-07-10"}]
[{"$f":"$A76+Planning!$D$2","v":"2015-07-11"}]
[{"$f":"$A77+Planning!$D$2","v":"2015-07-12"}]
[{"$f":"$A78+Planning!$D$2","v":"2015-07-13"}]
[{"$f":"$A79+Planning!$D$2","v":"2015-07-14"}]
[{"$f":"$A80+Planning!$D$2","v":"2015-07-15"}]
[{"$f":"$A81+Planning!$D$2","v":"2015-07-16"}]
[{"$f":"$A82+Planning!$D$2","v":"2015-07-17"}]
[{"$f":"$A83+Planning!$D$2","v":"2015-07-18"}]
[{"$f":"$A84+Planning!$D$2","v":"2015-07-19"}]
[{"$f":"$A85+Planning!$D$2","v":"2015-07-20"}]
[{"$f":"$A86+Planning!$D$2","v":"2015-07-21"}]
[{"$f":"$A87+Planning!$D$2","v":"2015-07-22"}]
[{"$f":"$A88+Planning!$D$2","v":"2015-07-23"}]
[{"$f":"$A89+Planning!$D$2","v":"2015-07-24"}]
[{"$f":"$A90+Planning!$D$2","v":"2015-07-25"}]
[{"$f":"$A91+Planning!$D$2","v":"2015-07-26"}]
[{"$f":"$A92+Planning!$D$2","v":"2015-07-27"}]
[{"$f":"$A93+Planning!$D$2","v":"2015-07-28"}]
[{"$f":"$A94+Planning!$D$2","v":"2015-07-29"}]
[{"$f":"$A95+Planning!$D$2","v":"2015-07-30"}]
[{"$f":"$A96+Planning!$D$2","v":"2015-07-31"}]
[{"$f":"$A97+Planning!$D$2","v":"2015-08-01"}]
[{"$f":"$A98+Planning!$D$2","v":"2015-08-02"}]
[{"$f":"$A99+Planning!$D$2","v":"2015-08-03"}]
[{"$f":"$A100+Planning!$D$2","v":"2015-08-04"}]
[{"$f":"$A101+Planning!$D$2","v":"2015-08-05"}]
[{"$f":"$A102+Planning!$D$2","v":"2015-08-06"}]
[{"$f":"$A103+Planning!$D$2","v":"2015-08-07"}]
[{"$f":"$A104+Planning!$D$2","v":"2015-08-08"}]
[{"$f":"$A105+Planning!$D$2","v":"2015-08-09"}]
[{"$f":"$A106+Planning!$D$2","v":"2015-08-10"}]
[{"$f":"$A107+Planning!$D$2","v":"2015-08-11"}]
[{"$f":"$A108+Planning!$D$2","v":"2015-08-12"}]
[{"$f":"$A109+Planning!$D$2","v":"2015-08-13"}]
[{"$f":"$A110+Planning!$D$2","v":"2015-08-14"}]
[{"$f":"$A111+Planning!$D$2","v":"2015-08-15"}]
[{"$f":"$A112+Planning!$D$2","v":"2015-08-16"}]
[{"$f":"$A113+Planning!$D$2","v":"2015-08-17"}]
[{"$f":"$A114+Planning!$D$2","v":"2015-08-18"}]
[{"$f":"$A115+Planning!$D$2","v":"2015-08-19"}]
[{"$f":"$A116+Planning!$D$2","v":"2015-08-20"}]
[{"$f":"$A117+Planning!$D$2","v":"2015-08-21"}]
[{"$f":"$A118+Planning!$D$2","v":"2015-08-22"}]
[{"$f":"$A119+Planning!$D$2","v":"2015-08-23"}]
[{"$f":"$A120+Planning!$D$2","v":"2015-08-24"}]
[{"$f":"$A121+Planning!$D$2","v":"2015-08-25"}]
[{"$f":"$A122+Planning!$D$2","v":"2015-08-26"}]
[{"$f":"$A123+Planning!$D$2","v":"2015-08-27"}]
[{"$f":"$A124+Planning!$D$2","v":"2015-08-28"}]
[{"$f":"$A125+Planning!$D$2","v":"2015-08-29"}]
[{"$f":"$A126+Planning!$D$2","v":"2015-08-30"}]
[{"$f":"$A127+Planning!$D$2","v":"2015-08-31"}]
[{"$f":"$A128+Planning!$D$2","v":"2015-09-01"}]
[{"$f":"$A129+Planning!$D$2","v":"2015-09-02"}]
[{"$f":"$A130+Planning!$D$2","v":"2015-09-03"}]
[{"$f":"$A131+Planning!$D$2","v":"2015-09-04"}]
[{"$f":"$A132+Planning!$D$2","v":"2015-09-05"}]
[{"$f":"$A133+Planning!$D$2","v":"2015-09-06"}]
[{"$f":"$A134+Planning!$D$2","v":"2015-09-07"}]
[{"$f":"$A135+Planning!$D$2","v":"2015-09-08"}]
[{"$f":"$A136+Planning!$D$2","v":"2015-09-09"}]
[{"$f":"$A137+Planning!$D$2","v":"2015-09-10"}]
[{"$f":"$A138+Planning!$D$2","v":"2015-09-11"}]
[{"$f":"$A139+Planning!$D$2","v":"2015-09-12"}]
[{"$f":"$A140+Planning!$D$2","v":"2015-09-13"}]
[{"$f":"$A141+Planning!$D$2","v":"2015-09-14"}]
[{"$f":"$A142+Planning!$D$2","v":"2015-09-15"}]
[{"$f":"$A143+Planning!$D$2","v":"2015-09-16"}]
[{"$f":"$A144+Planning!$D$2","v":"2015-09-17"}]
[{"$f":"$A145+Planning!$D$2","v":"2015-09-18"}]
[{"$f":"$A146+Planning!$D$2","v":"2015-09-19"}]
[{"$f":"$A147+Planning!$D$2","v":"2015-09-20"}]
[{"$f":"$A148+Planning!$D$2","v":"2015-09-21"}]
[{"$f":"$A149+Planning!$D$2","v":"2015-09-22"}]
[{"$f":"$A150+Planning!$D$2","v":"2015-09-23"}]
[{"$f":"$A151+Planning!$D$2","v":"2015-09-24"}]
[{"$f":"$A152+Planning!$D$2","v":"2015-09-25"}]
[{"$f":"$A153+Planning!$D$2","v":"2015-09-26"}]
[{"$f":"$A154+Planning!$D$2","v":"2015-09-27"}]
[{"$f":"$A155+Planning!$D$2","v":"2015-09-28"}]
[{"$f":"$A156+Planning!$D$2","v":"2015-09-29"}]
[{"$f":"$A157+Planning!$D$2","v":"2015-09-30"}]
[{"$f":"$A158+Planning!$D$2","v":"2015-10-01"}]
[{"$f":"$A159+Planning!$D$2","v":"2015-10-02"}]
[{"$f":"$A160+Planning!$D$2","v":"2015-10-03"}]
[{"$f":"$A161+Planning!$D$2","v":"2015-10-04"}]
[{"$f":"$A162+Planning!$D$2","v":"2015-10-05"}]
[{"$f":"$A163+Planning!$D$2","v":"2015-10-06"}]
[{"$f":"$A164+Planning!$D$2","v":"2015-10-07"}]
[{"$f":"$A165+Planning!$D$2","v":"2015-10-08"}]
[{"$f":"$A166+Planning!$D$2","v":"2015-10-09"}]
[{"$f":"$A167+Planning!$D$2","v":"2015-10-10"}]
[{"$f":"$A168+Planning!$D$2","v":"2015-10-11"}]
[{"$f":"$A169+Planning!$D$2","v":"2015-10-12"}]
[{"$f":"$A170+Planning!$D$2","v":"2015-10-13"}]
[{"$f":"$A171+Planning!$D$2","v":"2015-10-14"}]
[{"$f":"$A172+Planning!$D$2","v":"2015-10-15"}]
[{"$f":"$A173+Planning!$D$2","v":"2015-10-16"}]
[{"$f":"$A174+Planning!$D$2","v":"2015-10-17"}]
[{"$f":"$A175+Planning!$D$2","v":"2015-10-18"}]
[{"$f":"$A176+Planning!$D$2","v":"2015-10-19"}]
[{"$f":"$A177+Planning!$D$2","v":"2015-10-20"}]
[{"$f":"$A178+Planning!$D$2","v":"2015-10-21"}]
[{"$f":"$A179+Planning!$D$2","v":"2015-10-22"}]
[{"$f":"$A180+Planning!$D$2","v":"2015-10-23"}]
[{"$f":"$A181+Planning!$D$2","v":"2015-10-24"}]
[{"$f":"$A182+Planning!$D$2","v":"2015-10-25"}]
[{"$f":"$A183+Planning!$D$2","v":"2015-10-26"}]
[{"$f":"$A184+Planning!$D$2","v":"2015-10-27"}]
[{"$f":"$A185+Planning!$D$2","v":"2015-10-28"}]
[{"$f":"$A186+Planning!$D$2","v":"2015-10-29"}]
[{"$f":"$A187+Planning!$D$2","v":"2015-10-30"}]
[{"$f":"$A188+Planning!$D$2","v":"2015-10-31"}]
[{"$f":"$A189+Planning!$D$2","v":"2015-11-01"}]
[{"$f":"$A190+Planning!$D$2","v":"2015-11-02"}]
[{"$f":"$A191+Planning!$D$2","v":"2015-11-03"}]
[{"$f":"$A192+Planning!$D$2","v":"2015-11-04"}]
[{"$f":"$A193+Planning!$D$2","v":"2015-11-05"}]
[{"$f":"$A194+Planning!$D$2","v":"2015-11-06"}]
[{"$f":"$A195+Planning!$D$2","v":"2015-11-07"}]
[{"$f":"$A196+Planning!$D$2","v":"2015-11-08"}]
[{"$f":"$A197+Planning!$D$2","v":"2015-11-09"}]
[{"$f":"$A198+Planning!$D$2","v":"2015-11-10"}]
[{"$f":"$A199+Planning!$D$2","v":"2015-11-11"}]
[{"$f":"$A200+Planning!$D$2","v":"2015-11-12"}]
[{"$f":"$A201+Planning!$D$2","v":"2015-11-13"}]
[{"$f":"$A202+Planning!$D$2","v":"2015-11-14"}]
[{"$f":"$A203+Planning!$D$2","v":"2015-11-15"}]
[{"$f":"$A204+Planning!$D$2","v":"2015-11-16"}]
[{"$f":"$A205+Planning!$D$2","v":"2015-11-17"}]
[{"$f":"$A206+Planning!$D$2","v":"2015-11-18"}]
[{"$f":"$A207+Planning!$D$2","v":"2015-11-19"}]
[{"$f":"$A208+Planning!$D$2","v":"2015-11-20"}]
[{"$f":"$A209+Planning!$D$2","v":"2015-11-21"}]
[{"$f":"$A210+Planning!$D$2","v":"2015-11-22"}]
[{"$f":"$A211+Planning!$D$2","v":"2015-11-23"}]
[{"$f":"$A212+Planning!$D$2","v":"2015-11-24"}]
[{"$f":"$A213+Planning!$D$2","v":"2015-11-25"}]
[{"$f":"$A214+Planning!$D$2","v":"2015-11-26"}]
[{"$f":"$A215+Planning!$D$2","v":"2015-11-27"}]
[{"$f":"$A216+Planning!$D$2","v":"2015-11-28"}]
[{"$f":"$A217+Planning!$D$2","v":"2015-11-29"}]
[{"$f":"$A218+Planning!$D$2","v":"2015-11-30"}]
[{"$f":"$A219+Planning!$D$2","v":"2015-12-01"}]
[{"$f":"$A220+Planning!$D$2","v":"2015-12-02"}]
[{"$f":"$A221+Planning!$D$2","v":"2015-12-03"}]
[{"$f":"$A222+Planning!$D$2","v":"2015-12-04"}]
[{"$f":"$A223+Planning!$D$2","v":"2015-12-05"}]
[{"$f":"$A224+Planning!$D$2","v":"2015-12-06"}]
[{"$f":"$A225+Planning!$D$2","v":"2015-12-07"}]
[{"$f":"$A226+Planning!$D$2","v":"2015-12-08"}]
[{"$f":"$A227+Planning!$D$2","v":"2015-12-09"}]
[{"$f":"$A228+Planning!$D$2","v":"2015-12-10"}]
[{"$f":"$A229+Planning!$D$2","v":"2015-12-11"}]
[{"$f":"$A230+Planning!$D$2","v":"2015-12-12"}]
[{"$f":"$A231+Planning!$D$2","v":"2015-12-13"}]
[{"$f":"$A232+Planning!$D$2","v":"2015-12-14"}]
[{"$f":"$A233+Planning!$D$2","v":"2015-12-15"}]
[{"$f":"$A234+Planning!$D$2","v":"2015-12-16"}]
[{"$f":"$A235+Planning!$D$2","v":"2015-12-17"}]
[{"$f":"$A236+Planning!$D$2","v":"2015-12-18"}]
[{"$f":"$A237+Planning!$D$2","v":"2015-12-19"}]
[{"$f":"$A238+Planning!$D$2","v":"2015-12-20"}]
[{"$f":"$A239+Planning!$D$2","v":"2015-12-21"}]
[{"$f":"$A240+Planning!$D$2","v":"2015-12-22"}]
[{"$f":"$A241+Planning!$D$2","v":"2015-12-23"}]
[{"$f":"$A242+Planning!$D$2","v":"2015-12-24"}]
[{"$f":"$A243+Planning!$D$2","v":"2015-12-25"}]
[{"$f":"$A244+Planning!$D$2","v":"2015-12-26"}]
[{"$f":"$A245+Planning!$D$2","v":"2015-12-27"}]
[{"$f":"$A246+Planning!$D$2","v":"2015-12-28"}]
[{"$f":"$A247+Planning!$D$2","v":"2015-12-29"}]
[{"$f":"$A248+Planning!$D$2","v":"2015-12-30"}]
[{"$f":"$A249+Planning!$D$2","v":"2015-12-31"}]
[{"$f":"$A250+Planning!$D$2","v":"2016-01-01"}]
[{"$f":"$A251+Planning!$D$2","v":"2016-01-02"}]
[{"$f":"$A252+Planning!$D$2","v":"2016-01-03"}]
[{"$f":"$A253+Planning!$D$2","v":"2016-01-04"}]
[{"$f":"$A254+Planning!$D$2","v":"2016-01-05"}]
[{"$f":"$A255+Planning!$D$2","v":"2016-01-06"}]
[{"$f":"$A256+Planning!$D$2","v":"2016-01-07"}]
[{"$f":"$A257+Planning!$D$2","v":"2016-01-08"}]
[{"$f":"$A258+Planning!$D$2","v":"2016-01-09"}]
[{"$f":"$A259+Planning!$D$2","v":"2016-01-10"}]
[{"$f":"$A260+Planning!$D$2","v":"2016-01-11"}]
[{"$f":"$A261+Planning!$D$2","v":"2016-01-12"}]
[{"$f":"$A262+Planning!$D$2","v":"2016-01-13"}]
[{"$f":"$A263+Planning!$D$2","v":"2016-01-14"}]
[{"$f":"$A264+Planning!$D$2","v":"2016-01-15"}]
[{"$f":"$A265+Planning!$D$2","v":"2016-01-16"}]
[{"$f":"$A266+Planning!$D$2","v":"2016-01-17"}]
[{"$f":"$A267+Planning!$D$2","v":"2016-01-18"}]
[{"$f":"$A268+Planning!$D$2","v":"2016-01-19"}]
[{"$f":"$A269+Planning!$D$2","v":"2016-01-20"}]
[{"$f":"$A270+Planning!$D$2","v":"2016-01-21"}]
[{"$f":"$A271+Planning!$D$2","v":"2016-01-22"}]
[{"$f":"$A272+Planning!$D$2","v":"2016-01-23"}]
[{"$f":"$A273+Planning!$D$2","v":"2016-01-24"}]
[{"$f":"$A274+Planning!$D$2","v":"2016-01-25"}]
[{"$f":"$A275+Planning!$D$2","v":"2016-01-26"}]
[{"$f":"$A276+Planning!$D$2","v":"2016-01-27"}]
[{"$f":"$A277+Planning!$D$2","v":"2016-01-28"}]
[{"$f":"$A278+Planning!$D$2","v":"2016-01-29"}]
[{"$f":"$A279+Planning!$D$2","v":"2016-01-30"}]
[{"$f":"$A280+Planning!$D$2","v":"2016-01-31"}]
[{"$f":"$A281+Planning!$D$2","v":"2016-02-01"}]
[{"$f":"$A282+Planning!$D$2","v":"2016-02-02"}]
[{"$f":"$A283+Planning!$D$2","v":"2016-02-03"}]
[{"$f":"$A284+Planning!$D$2","v":"2016-02-04"}]
[{"$f":"$A285+Planning!$D$2","v":"2016-02-05"}]
[{"$f":"$A286+Planning!$D$2","v":"2016-02-06"}]
[{"$f":"$A287+Planning!$D$2","v":"2016-02-07"}]
[{"$f":"$A288+Planning!$D$2","v":"2016-02-08"}]
[{"$f":"$A289+Planning!$D$2","v":"2016-02-09"}]
[{"$f":"$A290+Planning!$D$2","v":"2016-02-10"}]
[{"$f":"$A291+Planning!$D$2","v":"2016-02-11"}]
[{"$f":"$A292+Planning!$D$2","v":"2016-02-12"}]
[{"$f":"$A293+Planning!$D$2","v":"2016-02-13"}]
[{"$f":"$A294+Planning!$D$2","v":"2016-02-14"}]
[{"$f":"$A295+Planning!$D$2","v":"2016-02-15"}]
[{"$f":"$A296+Planning!$D$2","v":"2016-02-16"}]
[{"$f":"$A297+Planning!$D$2","v":"2016-02-17"}]
[{"$f":"$A298+Planning!$D$2","v":"2016-02-18"}]
[{"$f":"$A299+Planning!$D$2","v":"2016-02-19"}]
[{"$f":"$A300+Planning!$D$2","v":"2016-02-20"}]
[{"$f":"$A301+Planning!$D$2","v":"2016-02-21"}]
[{"$f":"$A302+Planning!$D$2","v":"2016-02-22"}]
[{"$f":"$A303+Planning!$D$2","v":"2016-02-23"}]
[{"$f":"$A304+Planning!$D$2","v":"2016-02-24"}]
[{"$f":"$A305+Planning!$D$2","v":"2016-02-25"}]
[{"$f":"$A306+Planning!$D$2","v":"2016-02-26"}]
[{"$f":"$A307+Planning!$D$2","v":"2016-02-27"}]
[{"$f":"$A308+Planning!$D$2","v":"2016-02-28"}]
[{"$f":"$A309+Planning!$D$2","v":"2016-02-29"}]
[{"$f":"$A310+Planning!$D$2","v":"2016-03-01"}]
[{"$f":"$A311+Planning!$D$2","v":"2016-03-02"}]
[{"$f":"$A312+Planning!$D$2","v":"2016-03-03"}]
[{"$f":"$A313+Planning!$D$2","v":"2016-03-04"}]
[{"$f":"$A314+Planning!$D$2","v":"2016-03-05"}]
[{"$f":"$A315+Planning!$D$2","v":"2016-03-06"}]
[{"$f":"$A316+Planning!$D$2","v":"2016-03-07"}]
[{"$f":"$A317+Planning!$D$2","v":"2016-03-08"}]
[{"$f":"$A318+Planning!$D$2","v":"2016-03-09"}]
[{"$f":"$A319+Planning!$D$2","v":"2016-03-10"}]
[{"$f":"$A320+Planning!$D$2","v":"2016-03-11"}]
[{"$f":"$A321+Planning!$D$2","v":"2016-03-12"}]
[{"$f":"$A322+Planning!$D$2","v":"2016-03-13"}]
[{"$f":"$A323+Planning!$D$2","v":"2016-03-14"}]
[{"$f":"$A324+Planning!$D$2","v":"2016-03-15"}]
[{"$f":"$A325+Planning!$D$2","v":"2016-03-16"}]
[{"$f":"$A326+Planning!$D$2","v":"2016-03-17"}]
[{"$f":"$A327+Planning!$D$2","v":"2016-03-18"}]
[{"$f":"$A328+Planning!$D$2","v":"2016-03-19"}]
[{"$f":"$A329+Planning!$D$2","v":"2016-03-20"}]
[{"$f":"$A330+Planning!$D$2","v":"2016-03-21"}]
[{"$f":"$A331+Planning!$D$2","v":"2016-03-22"}]
[{"$f":"$A332+Planning!$D$2","v":"2016-03-23"}]
[{"$f":"$A333+Planning!$D$2","v":"2016-03-24"}]
[{"$f":"$A334+Planning!$D$2","v":"2016-03-25"}]
[{"$f":"$A335+Planning!$D$2","v":"2016-03-26"}]
[{"$f":"$A336+Planning!$D$2","v":"2016-03-27"}]
[{"$f":"$A337+Planning!$D$2","v":"2016-03-28"}]
[{"$f":"$A338+Planning!$D$2","v":"2016-03-29"}]
[{"$f":"$A339+Planning!$D$2","v":"2016-03-30"}]
[{"$f":"$A340+Planning!$D$2","v":"2016-03-31"}]
[{"$f":"$A341+Planning!$D$2","v":"2016-04-01"}]
[{"$f":"$A342+Planning!$D$2","v":"2016-04-02"}]
[{"$f":"$A343+Planning!$D$2","v":"2016-04-03"}]
[{"$f":"$A344+Planning!$D$2","v":"2016-04-04"}]
[{"$f":"$A345+Planning!$D$2","v":"2016-04-05"}]
[{"$f":"$A346+Planning!$D$2","v":"2016-04-06"}]
[{"$f":"$A347+Planning!$D$2","v":"2016-04-07"}]
[{"$f":"$A348+Planning!$D$2","v":"2016-04-08"}]
[{"$f":"$A349+Planning!$D$2","v":"2016-04-09"}]
[{"$f":"$A350+Planning!$D$2","v":"2016-04-10"}]
[{"$f":"$A351+Planning!$D$2","v":"2016-04-11"}]
[{"$f":"$A352+Planning!$D$2","v":"2016-04-12"}]
[{"$f":"$A353+Planning!$D$2","v":"2016-04-13"}]
[{"$f":"$A354+Planning!$D$2","v":"2016-04-14"}]
[{"$f":"$A355+Planning!$D$2","v":"2016-04-15"}]
[{"$f":"$A356+Planning!$D$2","v":"2016-04-16"}]
[{"$f":"$A357+Planning!$D$2","v":"2016-04-17"}]
[{"$f":"$A358+Planning!$D$2","v":"2016-04-18"}]
[{"$f":"$A359+Planning!$D$2","v":"2016-04-19"}]
[{"$f":"$A360+Planning!$D$2","v":"2016-04-20"}]
[{"$f":"$A361+Planning!$D$2","v":"2016-04-21"}]
[{"$f":"$A362+Planning!$D$2","v":"2016-04-22"}]
[{"$f":"$A363+Planning!$D$2","v":"2016-04-23"}]
[{"$f":"$A364+Planning!$D$2","v":"2016-04-24"}]
[{"$f":"$A365+Planning!$D$2","v":"2016-04-25"}]
[{"$f":"$A366+Planning!$D$2","v":"2016-04-26"}]
[{"$f":"$A367+Planning!$D$2","v":"2016-04-27"}]
[{"$f":"$A368+Planning!$D$2","v":"2016-04-28"}]
[{"$f":"$A369+Planning!$D$2","v":"2016-04-29"}]
[{"$f":"$A370+Planning!$D$2","v":"2016-04-30"}]
[{"$f":"$A371+Planning!$D$2","v":"2016-05-01"}]
[{"$f":"$A372+Planning!$D$2","v":"2016-05-02"}]
[{"$f":"$A373+Planning!$D$2","v":"2016-05-03"}]
[{"$f":"$A374+Planning!$D$2","v":"2016-05-04"}]
[{"$f":"$A375+Planning!$D$2","v":"2016-05-05"}]
[{"$f":"$A376+Planning!$D$2","v":"2016-05-06"}]
[{"$f":"$A377+Planning!$D$2","v":"2016-05-07"}]
[{"$f":"$A378+Planning!$D$2","v":"2016-05-08"}]
[{"$f":"$A379+Planning!$D$2","v":"2016-05-09"}]
[{"$f":"$A380+Planning!$D$2","v":"2016-05-10"}]
[{"$f":"$A381+Planning!$D$2","v":"2016-05-11"}]
[{"$f":"$A382+Planning!$D$2","v":"2016-05-12"}]
[{"$f":"$A383+Planning!$D$2","v":"2016-05-13"}]
[{"$f":"$A384+Planning!$D$2","v":"2016-05-14"}]
[{"$f":"$A385+Planning!$D$2","v":"2016-05-15"}]
[{"$f":"$A386+Planning!$D$2","v":"2016-05-16"}]
[{"$f":"$A387+Planning!$D$2","v":"2016-05-17"}]
[{"$f":"$A388+Planning!$D$2","v":"2016-05-18"}]
[{"$f":"$A389+Planning!$D$2","v":"2016-05-19"}]
[{"$f":"$A390+Planning!$D$2","v":"2016-05-20"}]
[{"$f":"$A391+Planning!$D$2","v":"2016-05-21"}]
[{"$f":"$A392+Planning!$D$2","v":"2016-05-22"}]
[{"$f":"$A393+Planning!$D$2","v":"2016-05-23"}]
[{"$f":"$A394+Planning!$D$2","v":"2016-05-24"}]
[{"$f":"$A395+Planning!$D$2","v":"2016-05-25"}]
[{"$f":"$A396+Planning!$D$2","v":"2016-05-26"}]
[{"$f":"$A397+Planning!$D$2","v":"2016-05-27"}]
[{"$f":"$A398+Planning!$D$2","v":"2016-05-28"}]
[{"$f":"$A399+Planning!$D$2","v":"2016-05-29"}]
[{"$f":"$A400+Planning!$D$2","v":"2016-05-30"}]
[{"$f":"$A401+Planning!$D$2","v":"2016-05-31"}]
[{"$f":"$A402+Planning!$D$2","v":"2016-06-01"}]
[{"$f":"$A403+Planning!$D$2","v":"2016-06-02"}]
[{"$f":"$A404+Planning!$D$2","v":"2016-06-03"}]
[{"$f":"$A405+Planning!$D$2","v":"2016-06-04"}]
[{"$f":"$A406+Planning!$D$2","v":"2016-06-05"}]
[{"$f":"$A407+Planning!$D$2","v":"2016-06-06"}]
[{"$f":"$A408+Planning!$D$2","v":"2016-06-07"}]
[{"$f":"$A409+Planning!$D$2","v":"2016-06-08"}]
[{"$f":"$A410+Planning!$D$2","v":"2016-06-09"}]
[{"$f":"$A411+Planning!$D$2","v":"2016-06-10"}]
[{"$f":"$A412+Planning!$D$2","v":"2016-06-11"}]
[{"$f":"$A413+Planning!$D$2","v":"2016-06-12"}]
[{"$f":"$A414+Planning!$D$2","v":"2016-06-13"}]
[{"$f":"$A415+Planning!$D$2","v":"2016-06-14"}]
[{"$f":"$A416+Planning!$D$2","v":"2016-06-15"}]
[{"$f":"$A417+Planning!$D$2","v":"2016-06-16"}]
[{"$f":"$A418+Planning!$D$2","v":"2016-06-17"}]
[{"$f":"$A419+Planning!$D$2","v":"2016-06-18"}]
[{"$f":"$A420+Planning!$D$2","v":"2016-06-19"}]
[{"$f":"$A421+Planning!$D$2","v":"2016-06-20"}]
[{"$f":"$A422+Planning!$D$2","v":"2016-06-21"}]
[{"$f":"$A423+Planning!$D$2","v":"2016-06-22"}]
[{"$f":"$A424+Planning!$D$2","v":"2016-06-23"}]
[{"$f":"$A425+Planning!$D$2","v":"2016-06-24"}]
[{"$f":"$A426+Planning!$D$2","v":"2016-06-25"}]
[{"$f":"$A427+Planning!$D$2","v":"2016-06-26"}]
[{"$f":"$A428+Planning!$D$2","v":"2016-06-27"}]
[{"$f":"$A429+Planning!$D$2","v":"2016-06-28"}]
[{"$f":"$A430+Planning!$D$2","v":"2016-06-29"}]
[{"$f":"$A431+Planning!$D$2","v":"2016-06-30"}]
[{"$f":"$A432+Planning!$D$2","v":"2016-07-01"}]
[{"$f":"$A433+Planning!$D$2","v":"2016-07-02"}]
[{"$f":"$A434+Planning!$D$2","v":"2016-07-03"}]
[{"$f":"$A435+Planning!$D$2","v":"2016-07-04"}]
[{"$f":"$A436+Planning!$D$2","v":"2016-07-05"}]
[{"$f":"$A437+Planning!$D$2","v":"2016-07-06"}]
[{"$f":"$A438+Planning!$D$2","v":"2016-07-07"}]
[{"$f":"$A439+Planning!$D$2","v":"2016-07-08"}]
[{"$f":"$A440+Planning!$D$2","v":"2016-07-09"}]
[{"$f":"$A441+Planning!$D$2","v":"2016-07-10"}]
[{"$f":"$A442+Planning!$D$2","v":"2016-07-11"}]
[{"$f":"$A443+Planning!$D$2","v":"2016-07-12"}]
[{"$f":"$A444+Planning!$D$2","v":"2016-07-13"}]
[{"$f":"$A445+Planning!$D$2","v":"2016-07-14"}]
[{"$f":"$A446+Planning!$D$2","v":"2016-07-15"}]
[{"$f":"$A447+Planning!$D$2","v":"2016-07-16"}]
[{"$f":"$A448+Planning!$D$2","v":"2016-07-17"}]
[{"$f":"$A449+Planning!$D$2","v":"2016-07-18"}]
[{"$f":"$A450+Planning!$D$2","v":"2016-07-19"}]
[{"$f":"$A451+Planning!$D$2","v":"2016-07-20"}]
[{"$f":"$A452+Planning!$D$2","v":"2016-07-21"}]
[{"$f":"$A453+Planning!$D$2","v":"2016-07-22"}]
[{"$f":"$A454+Planning!$D$2","v":"2016-07-23"}]
[{"$f":"$A455+Planning!$D$2","v":"2016-07-24"}]
[{"$f":"$A456+Planning!$D$2","v":"2016-07-25"}]
[{"$f":"$A457+Planning!$D$2","v":"2016-07-26"}]
[{"$f":"$A458+Planning!$D$2","v":"2016-07-27"}]
[{"$f":"$A459+Planning!$D$2","v":"2016-07-28"}]
[{"$f":"$A460+Planning!$D$2","v":"2016-07-29"}]
[{"$f":"$A461+Planning!$D$2","v":"2016-07-30"}]
[{"$f":"$A462+Planning!$D$2","v":"2016-07-31"}]
[{"$f":"$A463+Planning!$D$2","v":"2016-08-01"}]
[{"$f":"$A464+Planning!$D$2","v":"2016-08-02"}]
[{"$f":"$A465+Planning!$D$2","v":"2016-08-03"}]
[{"$f":"$A466+Planning!$D$2","v":"2016-08-04"}]
[{"$f":"$A467+Planning!$D$2","v":"2016-08-05"}]
[{"$f":"$A468+Planning!$D$2","v":"2016-08-06"}]
[{"$f":"$A469+Planning!$D$2","v":"2016-08-07"}]
[{"$f":"$A470+Planning!$D$2","v":"2016-08-08"}]
[{"$f":"$A471+Planning!$D$2","v":"2016-08-09"}]
[{"$f":"$A472+Planning!$D$2","v":"2016-08-10"}]
[{"$f":"$A473+Planning!$D$2","v":"2016-08-11"}]
[{"$f":"$A474+Planning!$D$2","v":"2016-08-12"}]
[{"$f":"$A475+Planning!$D$2","v":"2016-08-13"}]
[{"$f":"$A476+Planning!$D$2","v":"2016-08-14"}]
[{"$f":"$A477+Planning!$D$2","v":"2016-08-15"}]
[{"$f":"$A478+Planning!$D$2","v":"2016-08-16"}]
[{"$f":"$A479+Planning!$D$2","v":"2016-08-17"}]
[{"$f":"$A480+Planning!$D$2","v":"2016-08-18"}]
[{"$f":"$A481+Planning!$D$2","v":"2016-08-19"}]
[{"$f":"$A482+Planning!$D$2","v":"2016-08-20"}]
[{"$f":"$A483+Planning!$D$2","v":"2016-08-21"}]
[{"$f":"$A484+Planning!$D$2","v":"2016-08-22"}]
[{"$f":"$A485+Planning!$D$2","v":"2016-08-23"}]
[{"$f":"$A486+Planning!$D$2","v":"2016-08-24"}]
[{"$f":"$A487+Planning!$D$2","v":"2016-08-25"}]
[{"$f":"$A488+Planning!$D$2","v":"2016-08-26"}]
[{"$f":"$A489+Planning!$D$2","v":"2016-08-27"}]
[{"$f":"$A490+Planning!$D$2","v":"2016-08-28"}]
[{"$f":"$A491+Planning!$D$2","v":"2016-08-29"}]
[{"$f":"$A492+Planning!$D$2","v":"2016-08-30"}]
[{"$f":"$A493+Planning!$D$2","v":"2016-08-31"}]
[{"$f":"$A494+Planning!$D$2","v":"2016-09-01"}]
[{"$f":"$A495+Planning!$D$2","v":"2016-09-02"}]
[{"$f":"$A496+Planning!$D$2","v":"2016-09-03"}]
[{"$f":"$A497+Planning!$D$2","v":"2016-09-04"}]
[{"$f":"$A498+Planning!$D$2","v":"2016-09-05"}]
[{"$f":"$A499+Planning!$D$2","v":"2016-09-06"}]
[{"$f":"$A500+Planning!$D$2","v":"2016-09-07"}]
[{"$f":"$A501+Planning!$D$2","v":"2016-09-08"}]
[{"$f":"$A502+Planning!$D$2","v":"2016-09-09"}]
[{"$f":"$A503+Planning!$D$2","v":"2016-09-10"}]
[{"$f":"$A504+Planning!$D$2","v":"2016-09-11"}]
[{"$f":"$A505+Planning!$D$2","v":"2016-09-12"}]
[{"$f":"$A506+Planning!$D$2","v":"2016-09-13"}]
[{"$f":"$A507+Planning!$D$2","v":"2016-09-14"}]
[{"$f":"$A508+Planning!$D$2","v":"2016-09-15"}]
[{"$f":"$A509+Planning!$D$2","v":"2016-09-16"}]
[{"$f":"$A510+Planning!$D$2","v":"2016-09-17"}]
[{"$f":"$A511+Planning!$D$2","v":"2016-09-18"}]
[{"$f":"$A512+Planning!$D$2","v":"2016-09-19"}]
[{"$f":"$A513+Planning!$D$2","v":"2016-09-20"}]
[{"$f":"$A514+Planning!$D$2","v":"2016-09-21"}]
[{"$f":"$A515+Planning!$D$2","v":"2016-09-22"}]
[{"$f":"$A516+Planning!$D$2","v":"2016-09-23"}]
[{"$f":"$A517+Planning!$D$2","v":"2016-09-24"}]
[{"$f":"$A518+Planning!$D$2","v":"2016-09-25"}]
[{"$f":"$A519+Planning!$D$2","v":"2016-09-26"}]
[{"$f":"$A520+Planning!$D$2","v":"2016-09-27"}]
[{"$f":"$A521+Planning!$D$2","v":"2016-09-28"}]
[{"$f":"$A522+Planning!$D$2","v":"2016-09-29"}]
[{"$f":"$A523+Planning!$D$2","v":"2016-09-30"}]
[{"$f":"$A524+Planning!$D$2","v":"2016-10-01"}]
[{"$f":"$A525+Planning!$D$2","v":"2016-10-02"}]
[{"$f":"$A526+Planning!$D$2","v":"2016-10-03"}]
[{"$f":"$A527+Planning!$D$2","v":"2016-10-04"}]
[{"$f":"$A528+Planning!$D$2","v":"2016-10-05"}]
[{"$f":"$A529+Planning!$D$2","v":"2016-10-06"}]
[{"$f":"$A530+Planning!$D$2","v":"2016-10-07"}]
[{"$f":"$A531+Planning!$D$2","v":"2016-10-08"}]
[{"$f":"$A532+Planning!$D$2","v":"2016-10-09"}]
[{"$f":"$A533+Planning!$D$2","v":"2016-10-10"}]
[{"$f":"$A534+Planning!$D$2","v":"2016-10-11"}]
[{"$f":"$A535+Planning!$D$2","v":"2016-10-12"}]
[{"$f":"$A536+Planning!$D$2","v":"2016-10-13"}]
[{"$f":"$A537+Planning!$D$2","v":"2016-10-14"}]
[{"$f":"$A538+Planning!$D$2","v":"2016-10-15"}]
[{"$f":"$A539+Planning!$D$2","v":"2016-10-16"}]
[{"$f":"$A540+Planning!$D$2","v":"2016-10-17"}]
[{"$f":"$A541+Planning!$D$2","v":"2016-10-18"}]
[{"$f":"$A542+Planning!$D$2","v":"2016-10-19"}]
[{"$f":"$A543+Planning!$D$2","v":"2016-10-20"}]
[{"$f":"$A544+Planning!$D$2","v":"2016-10-21"}]
[{"$f":"$A545+Planning!$D$2","v":"2016-10-22"}]
[{"$f":"$A546+Planning!$D$2","v":"2016-10-23"}]
[{"$f":"$A547+Planning!$D$2","v":"2016-10-24"}]
[{"$f":"$A548+Planning!$D$2","v":"2016-10-25"}]
[{"$f":"$A549+Planning!$D$2","v":"2016-10-26"}]
[{"$f":"$A550+Planning!$D$2","v":"2016-10-27"}]
[{"$f":"$A551+Planning!$D$2","v":"2016-10-28"}]
[{"$f":"$A552+Planning!$D$2","v":"2016-10-29"}]
[{"$f":"$A553+Planning!$D$2","v":"2016-10-30"}]
[{"$f":"$A554+Planning!$D$2","v":"2016-10-31"}]
[{"$f":"$A555+Planning!$D$2","v":"2016-11-01"}]
[{"$f":"$A556+Planning!$D$2","v":"2016-11-02"}]
[{"$f":"$A557+Planning!$D$2","v":"2016-11-03"}]
[{"$f":"$A558+Planning!$D$2","v":"2016-11-04"}]
[{"$f":"$A559+Planning!$D$2","v":"2016-11-05"}]
[{"$f":"$A560+Planning!$D$2","v":"2016-11-06"}]
[{"$f":"$A561+Planning!$D$2","v":"2016-11-07"}]
[{"$f":"$A562+Planning!$D$2","v":"2016-11-08"}]
[{"$f":"$A563+Planning!$D$2","v":"2016-11-09"}]
[{"$f":"$A564+Planning!$D$2","v":"2016-11-10"}]
[{"$f":"$A565+Planning!$D$2","v":"2016-11-11"}]
[{"$f":"$A566+Planning!$D$2","v":"2016-11-12"}]
[{"$f":"$A567+Planning!$D$2","v":"2016-11-13"}]
[{"$f":"$A568+Planning!$D$2","v":"2016-11-14"}]
[{"$f":"$A569+Planning!$D$2","v":"2016-11-15"}]
[{"$f":"$A570+Planning!$D$2","v":"2016-11-16"}]
[{"$f":"$A571+Planning!$D$2","v":"2016-11-17"}]
[{"$f":"$A572+Planning!$D$2","v":"2016-11-18"}]
[{"$f":"$A573+Planning!$D$2","v":"2016-11-19"}]
[{"$f":"$A574+Planning!$D$2","v":"2016-11-20"}]
[{"$f":"$A575+Planning!$D$2","v":"2016-11-21"}]
[{"$f":"$A576+Planning!$D$2","v":"2016-11-22"}]
[{"$f":"$A577+Planning!$D$2","v":"2016-11-23"}]
[{"$f":"$A578+Planning!$D$2","v":"2016-11-24"}]
[{"$f":"$A579+Planning!$D$2","v":"2016-11-25"}]
[{"$f":"$A580+Planning!$D$2","v":"2016-11-26"}]
[{"$f":"$A581+Planning!$D$2","v":"2016-11-27"}]
[{"$f":"$A582+Planning!$D$2","v":"2016-11-28"}]
[{"$f":"$A583+Planning!$D$2","v":"2016-11-29"}]
[{"$f":"$A584+Planning!$D$2","v":"2016-11-30"}]
[{"$f":"$A585+Planning!$D$2","v":"2016-12-01"}]
[{"$f":"$A586+Planning!$D$2","v":"2016-12-02"}]
[{"$f":"$A587+Planning!$D$2","v":"2016-12-03"}]
[{"$f":"$A588+Planning!$D$2","v":"2016-12-04"}]
[{"$f":"$A589+Planning!$D$2","v":"2016-12-05"}]
[{"$f":"$A590+Planning!$D$2","v":"2016-12-06"}]
[{"$f":"$A591+Planning!$D$2","v":"2016-12-07"}]
[{"$f":"$A592+Planning!$D$2","v":"2016-12-08"}]
[{"$f":"$A593+Planning!$D$2","v":"2016-12-09"}]
[{"$f":"$A594+Planning!$D$2","v":"2016-12-10"}]
[{"$f":"$A595+Planning!$D$2","v":"2016-12-11"}]
[{"$f":"$A596+Planning!$D$2","v":"2016-12-12"}]
[{"$f":"$A597+Planning!$D$2","v":"2016-12-13"}]
[{"$f":"$A598+Planning!$D$2","v":"2016-12-14"}]
[{"$f":"$A599+Planning!$D$2","v":"2016-12-15"}]
[{"$f":"$A600+Planning!$D$2","v":"2016-12-16"}]
[{"$f":"$A601+Planning!$D$2","v":"2016-12-17"}]
[{"$f":"$A602+Planning!$D$2","v":"2016-12-18"}]
[{"$f":"$A603+Planning!$D$2","v":"2016-12-19"}]
[{"$f":"$A604+Planning!$D$2","v":"2016-12-20"}]
[{"$f":"$A605+Planning!$D$2","v":"2016-12-21"}]
[{"$f":"$A606+Planning!$D$2","v":"2016-12-22"}]
[{"$f":"$A607+Planning!$D$2","v":"2016-12-23"}]
[{"$f":"$A608+Planning!$D$2","v":"2016-12-24"}]
[{"$f":"$A609+Planning!$D$2","v":"2016-12-25"}]
[{"$f":"$A610+Planning!$D$2","v":"2016-12-26"}]
[{"$f":"$A611+Planning!$D$2","v":"2016-12-27"}]
[{"$f":"$A612+Planning!$D$2","v":"2016-12-28"}]
[{"$f":"$A613+Planning!$D$2","v":"2016-12-29"}]
[{"$f":"$A614+Planning!$D$2","v":"2016-12-30"}]
[{"$f":"$A615+Planning!$D$2","v":"2016-12-31"}]
[{"$f":"$A616+Planning!$D$2","v":"2017-01-01"}]
[{"$f":"$A617+Planning!$D$2","v":"2017-01-02"}]
[{"$f":"$A618+Planning!$D$2","v":"2017-01-03"}]
[{"$f":"$A619+Planning!$D$2","v":"2017-01-04"}]
[{"$f":"$A620+Planning!$D$2","v":"2017-01-05"}]
[{"$f":"$A621+Planning!$D$2","v":"2017-01-06"}]
[{"$f":"$A622+Planning!$D$2","v":"2017-01-07"}]
[{"$f":"$A623+Planning!$D$2","v":"2017-01-08"}]
[{"$f":"$A624+Planning!$D$2","v":"2017-01-09"}]
[{"$f":"$A625+Planning!$D$2","v":"2017-01-10"}]
[{"$f":"$A626+Planning!$D$2","v":"2017-01-11"}]
[{"$f":"$A627+Planning!$D$2","v":"2017-01-12"}]
[{"$f":"$A628+Planning!$D$2","v":"2017-01-13"}]
[{"$f":"$A629+Planning!$D$2","v":"2017-01-14"}]
[{"$f":"$A630+Planning!$D$2","v":"2017-01-15"}]
[{"$f":"$A631+Planning!$D$2","v":"2017-01-16"}]
[{"$f":"$A632+Planning!$D$2","v":"2017-01-17"}]
[{"$f":"$A633+Planning!$D$2","v":"2017-01-18"}]
[{"$f":"$A634+Planning!$D$2","v":"2017-01-19"}]
[{"$f":"$A635+Planning!$D$2","v":"2017-01-20"}]
[{"$f":"$A636+Planning!$D$2","v":"2017-01-21"}]
[{"$f":"$A637+Planning!$D$2","v":"2017-01-22"}]
[{"$f":"$A638+Planning!$D$2","v":"2017-01-23"}]
[{"$f":"$A639+Planning!$D$2","v":"2017-01-24"}]
[{"$f":"$A640+Planning!$D$2","v":"2017-01-25"}]
[{"$f":"$A641+Planning!$D$2","v":"2017-01-26"}]
[{"$f":"$A642+Planning!$D$2","v":"2017-01-27"}]
[{"$f":"$A643+Planning!$D$2","v":"2017-01-28"}]
[{"$f":"$A644+Planning!$D$2","v":"2017-01-29"}]
[{"$f":"$A645+Planning!$D$2","v":"2017-01-30"}]
[{"$f":"$A646+Planning!$D$2","v":"2017-01-31"}]
[{"$f":"$A647+Planning!$D$2","v":"2017-02-01"}]
[{"$f":"$A648+Planning!$D$2","v":"2017-02-02"}]
[{"$f":"$A649+Planning!$D$2","v":"2017-02-03"}]
[{"$f":"$A650+Planning!$D$2","v":"2017-02-04"}]
[{"$f":"$A651+Planning!$D$2","v":"2017-02-05"}]
[{"$f":"$A652+Planning!$D$2","v":"2017-02-06"}]
[{"$f":"$A653+Planning!$D$2","v":"2017-02-07"}]
[{"$f":"$A654+Planning!$D$2","v":"2017-02-08"}]
[{"$f":"$A655+Planning!$D$2","v":"2017-02-09"}]
[{"$f":"$A656+Planning!$D$2","v":"2017-02-10"}]
[{"$f":"$A657+Planning!$D$2","v":"2017-02-11"}]
[{"$f":"$A658+Planning!$D$2","v":"2017-02-12"}]
[{"$f":"$A659+Planning!$D$2","v":"2017-02-13"}]
[{"$f":"$A660+Planning!$D$2","v":"2017-02-14"}]
[{"$f":"$A661+Planning!$D$2","v":"2017-02-15"}]
[{"$f":"$A662+Planning!$D$2","v":"2017-02-16"}]
[{"$f":"$A663+Planning!$D$2","v":"2017-02-17"}]
[{"$f":"$A664+Planning!$D$2","v":"2017-02-18"}]
[{"$f":"$A665+Planning!$D$2","v":"2017-02-19"}]
[{"$f":"$A666+Planning!$D$2","v":"2017-02-20"}]
[{"$f":"$A667+Planning!$D$2","v":"2017-02-21"}]
[{"$f":"$A668+Planning!$D$2","v":"2017-02-22"}]
[{"$f":"$A669+Planning!$D$2","v":"2017-02-23"}]
[{"$f":"$A670+Planning!$D$2","v":"2017-02-24"}]
[{"$f":"$A671+Planning!$D$2","v":"2017-02-25"}]
[{"$f":"$A672+Planning!$D$2","v":"2017-02-26"}]
[{"$f":"$A673+Planning!$D$2","v":"2017-02-27"}]
[{"$f":"$A674+Planning!$D$2","v":"2017-02-28"}]
[{"$f":"$A675+Planning!$D$2","v":"2017-03-01"}]
[{"$f":"$A676+Planning!$D$2","v":"2017-03-02"}]
[{"$f":"$A677+Planning!$D$2","v":"2017-03-03"}]
[{"$f":"$A678+Planning!$D$2","v":"2017-03-04"}]
[{"$f":"$A679+Planning!$D$2","v":"2017-03-05"}]
[{"$f":"$A680+Planning!$D$2","v":"2017-03-06"}]
[{"$f":"$A681+Planning!$D$2","v":"2017-03-07"}]
[{"$f":"$A682+Planning!$D$2","v":"2017-03-08"}]
[{"$f":"$A683+Planning!$D$2","v":"2017-03-09"}]
[{"$f":"$A684+Planning!$D$2","v":"2017-03-10"}]
[{"$f":"$A685+Planning!$D$2","v":"2017-03-11"}]
[{"$f":"$A686+Planning!$D$2","v":"2017-03-12"}]
[{"$f":"$A687+Planning!$D$2","v":"2017-03-13"}]
[{"$f":"$A688+Planning!$D$2","v":"2017-03-14"}]
[{"$f":"$A689+Planning!$D$2","v":"2017-03-15"}]
[{"$f":"$A690+Planning!$D$2","v":"2017-03-16"}]
[{"$f":"$A691+Planning!$D$2","v":"2017-03-17"}]
[{"$f":"$A692+Planning!$D$2","v":"2017-03-18"}]
[{"$f":"$A693+Planning!$D$2","v":"2017-03-19"}]
[{"$f":"$A694+Planning!$D$2","v":"2017-03-20"}]
[{"$f":"$A695+Planning!$D$2","v":"2017-03-21"}]
[{"$f":"$A696+Planning!$D$2","v":"2017-03-22"}]
[{"$f":"$A697+Planning!$D$2","v":"2017-03-23"}]
[{"$f":"$A698+Planning!$D$2","v":"2017-03-24"}]
[{"$f":"$A699+Planning!$D$2","v":"2017-03-25"}]
[{"$f":"$A700+Planning!$D$2","v":"2017-03-26"}]
[{"$f":"$A701+Planning!$D$2","v":"2017-03-27"}]
[{"$f":"$A702+Planning!$D$2","v":"2017-03-28"}]
[{"$f":"$A703+Planning!$D$2","v":"2017-03-29"}]
[{"$f":"$A704+Planning!$D$2","v":"2017-03-30"}]
[{"$f":"$A705+Planning!$D$2","v":"2017-03-31"}]
[{"$f":"$A706+Planning!$D$2","v":"2017-04-01"}]
[{"$f":"$A707+Planning!$D$2","v":"2017-04-02"}]
[{"$f":"$A708+Planning!$D$2","v":"2017-04-03"}]
[{"$f":"$A709+Planning!$D$2","v":"2017-04-04"}]
[{"$f":"$A710+Planning!$D$2","v":"2017-04-05"}]
[{"$f":"$A711+Planning!$D$2","v":"2017-04-06"}]
[{"$f":"$A712+Planning!$D$2","v":"2017-04-07"}]
[{"$f":"$A713+Planning!$D$2","v":"2017-04-08"}]
[{"$f":"$A714+Planning!$D$2","v":"2017-04-09"}]
[{"$f":"$A715+Planning!$D$2","v":"2017-04-10"}]
[{"$f":"$A716+Planning!$D$2","v":"2017-04-11"}]
[{"$f":"$A717+Planning!$D$2","v":"2017-04-12"}]
[{"$f":"$A718+Planning!$D$2","v":"2017-04-13"}]
[{"$f":"$A719+Planning!$D$2","v":"2017-04-14"}]
[{"$f":"$A720+Planning!$D$2","v":"2017-04-15"}]
[{"$f":"$A721+Planning!$D$2","v":"2017-04-16"}]
[{"$f":"$A722+Planning!$D$2","v":"2017-04-17"}]
[{"$f":"$A723+Planning!$D$2","v":"2017-04-18"}]
[{"$f":"$A724+Planning!$D$2","v":"2017-04-19"}]
[{"$f":"$A725+Planning!$D$2","v":"2017-04-20"}]
[{"$f":"$A726+Planning!$D$2","v":"2017-04-21"}]
[{"$f":"$A727+Planning!$D$2","v":"2017-04-22"}]
[{"$f":"$A728+Planning!$D$2","v":"2017-04-23"}]
[{"$f":"$A729+Planning!$D$2","v":"2017-04-24"}]
[{"$f":"$A730+Planning!$D$2","v":"2017-04-25"}]
[{"$f":"$A731+Planning!$D$2","v":"2017-04-26"}]
[{"$f":"$A732+Planning!$D$2","v":"2017-04-27"}]
[{"$f":"$A733+Planning!$D$2","v":"2017-04-28"}]
[{"$f":"$A734+Planning!$D$2","v":"2017-04-29"}]
[{"$f":"$A735+Planning!$D$2","v":"2017-04-30"}]
[{"$f":"$A736+Planning!$D$2","v":"2017-05-01"}]
[{"$f":"$A737+Planning!$D$2","v":"2017-05-02"}]
[{"$f":"$A738+Planning!$D$2","v":"2017-05-03"}]
[{"$f":"$A739+Planning!$D$2","v":"2017-05-04"}]
[{"$f":"$A740+Planning!$D$2","v":"2017-05-05"}]
[{"$f":"$A741+Planning!$D$2","v":"2017-05-06"}]
[{"$f":"$A742+Planning!$D$2","v":"2017-05-07"}]
[{"$f":"$A743+Planning!$D$2","v":"2017-05-08"}]
[{"$f":"$A744+Planning!$D$2","v":"2017-05-09"}]
[{"$f":"$A745+Planning!$D$2","v":"2017-05-10"}]
[{"$f":"$A746+Planning!$D$2","v":"2017-05-11"}]
[{"$f":"$A747+Planning!$D$2","v":"2017-05-12"}]
[{"$f":"$A748+Planning!$D$2","v":"2017-05-13"}]
[{"$f":"$A749+Planning!$D$2","v":"2017-05-14"}]
[{"$f":"$A750+Planning!$D$2","v":"2017-05-15"}]
[{"$f":"$A751+Planning!$D$2","v":"2017-05-16"}]
[{"$f":"$A752+Planning!$D$2","v":"2017-05-17"}]
[{"$f":"$A753+Planning!$D$2","v":"2017-05-18"}]
[{"$f":"$A754+Planning!$D$2","v":"2017-05-19"}]
[{"$f":"$A755+Planning!$D$2","v":"2017-05-20"}]
[{"$f":"$A756+Planning!$D$2","v":"2017-05-21"}]
[{"$f":"$A757+Planning!$D$2","v":"2017-05-22"}]
[{"$f":"$A758+Planning!$D$2","v":"2017-05-23"}]
[{"$f":"$A759+Planning!$D$2","v":"2017-05-24"}]
[{"$f":"$A760+Planning!$D$2","v":"2017-05-25"}]
[{"$f":"$A761+Planning!$D$2","v":"2017-05-26"}]
[{"$f":"$A762+Planning!$D$2","v":"2017-05-27"}]
[{"$f":"$A763+Planning!$D$2","v":"2017-05-28"}]
[{"$f":"$A764+Planning!$D$2","v":"2017-05-29"}]
[{"$f":"$A765+Planning!$D$2","v":"2017-05-30"}]
[{"$f":"$A766+Planning!$D$2","v":"2017-05-31"}]
[{"$f":"$A767+Planning!$D$2","v":"2017-06-01"}]
[{"$f":"$A768+Planning!$D$2","v":"2017-06-02"}]
[{"$f":"$A769+Planning!$D$2","v":"2017-06-03"}]
[{"$f":"$A770+Planning!$D$2","v":"2017-06-04"}]
[{"$f":"$A771+Planning!$D$2","v":"2017-06-05"}]
[{"$f":"$A772+Planning!$D$2","v":"2017-06-06"}]
[{"$f":"$A773+Planning!$D$2","v":"2017-06-07"}]
[{"$f":"$A774+Planning!$D$2","v":"2017-06-08"}]
[{"$f":"$A775+Planning!$D$2","v":"2017-06-09"}]
[{"$f":"$A776+Planning!$D$2","v":"2017-06-10"}]
[{"$f":"$A777+Planning!$D$2","v":"2017-06-11"}]
[{"$f":"$A778+Planning!$D$2","v":"2017-06-12"}]
[{"$f":"$A779+Planning!$D$2","v":"2017-06-13"}]
[{"$f":"$A780+Planning!$D$2","v":"2017-06-14"}]
[{"$f":"$A781+Planning!$D$2","v":"2017-06-15"}]
[{"$f":"$A782+Planning!$D$2","v":"2017-06-16"}]
[{"$f":"$A783+Planning!$D$2","v":"2017-06-17"}]
[{"$f":"$A784+Planning!$D$2","v":"2017-06-18"}]
[{"$f":"$A785+Planning!$D$2","v":"2017-06-19"}]
[{"$f":"$A786+Planning!$D$2","v":"2017-06-20"}]
[{"$f":"$A787+Planning!$D$2","v":"2017-06-21"}]
[{"$f":"$A788+Planning!$D$2","v":"2017-06-22"}]
[{"$f":"$A789+Planning!$D$2","v":"2017-06-23"}]
[{"$f":"$A790+Planning!$D$2","v":"2017-06-24"}]
[{"$f":"$A791+Planning!$D$2","v":"2017-06-25"}]
[{"$f":"$A792+Planning!$D$2","v":"2017-06-26"}]
[{"$f":"$A793+Planning!$D$2","v":"2017-06-27"}]
[{"$f":"$A794+Planning!$D$2","v":"2017-06-28"}]
[{"$f":"$A795+Planning!$D$2","v":"2017-06-29"}]
[{"$f":"$A796+Planning!$D$2","v":"2017-06-30"}]
[{"$f":"$A797+Planning!$D$2","v":"2017-07-01"}]
[{"$f":"$A798+Planning!$D$2","v":"2017-07-02"}]
[{"$f":"$A799+Planning!$D$2","v":"2017-07-03"}]
[{"$f":"$A800+Planning!$D$2","v":"2017-07-04"}]
[{"$f":"$A801+Planning!$D$2","v":"2017-07-05"}]
[{"$f":"$A802+Planning!$D$2","v":"2017-07-06"}]
[{"$f":"$A803+Planning!$D$2","v":"2017-07-07"}]
[{"$f":"$A804+Planning!$D$2","v":"2017-07-08"}]
[{"$f":"$A805+Planning!$D$2","v":"2017-07-09"}]
[{"$f":"$A806+Planning!$D$2","v":"2017-07-10"}]
[{"$f":"$A807+Planning!$D$2","v":"2017-07-11"}]
[{"$f":"$A808+Planning!$D$2","v":"2017-07-12"}]
[{"$f":"$A809+Planning!$D$2","v":"2017-07-13"}]
[{"$f":"$A810+Planning!$D$2","v":"2017-07-14"}]
[{"$f":"$A811+Planning!$D$2","v":"2017-07-15"}]
[{"$f":"$A812+Planning!$D$2","v":"2017-07-16"}]
[{"$f":"$A813+Planning!$D$2","v":"2017-07-17"}]
[{"$f":"$A814+Planning!$D$2","v":"2017-07-18"}]
[{"$f":"$A815+Planning!$D$2","v":"2017-07-19"}]
[{"$f":"$A816+Planning!$D$2","v":"2017-07-20"}]
[{"$f":"$A817+Planning!$D$2","v":"2017-07-21"}]
[{"$f":"$A818+Planning!$D$2","v":"2017-07-22"}]
[{"$f":"$A819+Planning!$D$2","v":"2017-07-23"}]
[{"$f":"$A820+Planning!$D$2","v":"2017-07-24"}]
[{"$f":"$A821+Planning!$D$2","v":"2017-07-25"}]
[{"$f":"$A822+Planning!$D$2","v":"2017-07-26"}]
[{"$f":"$A823+Planning!$D$2","v":"2017-07-27"}]
[{"$f":"$A824+Planning!$D$2","v":"2017-07-28"}]
[{"$f":"$A825+Planning!$D$2","v":"2017-07-29"}]
[{"$f":"$A826+Planning!$D$2","v":"2017-07-30"}]
[{"$f":"$A827+Planning!$D$2","v":"2017-07-31"}]
[{"$f":"$A828+Planning!$D$2","v":"2017-08-01"}]
[{"$f":"$A829+Planning!$D$2","v":"2017-08-02"}]
[{"$f":"$A830+Planning!$D$2","v":"2017-08-03"}]
[{"$f":"$A831+Planning!$D$2","v":"2017-08-04"}]
[{"$f":"$A832+Planning!$D$2","v":"2017-08-05"}]
[{"$f":"$A833+Planning!$D$2","v":"2017-08-06"}]
[{"$f":"$A834+Planning!$D$2","v":"2017-08-07"}]
[{"$f":"$A835+Planning!$D$2","v":"2017-08-08"}]
[{"$f":"$A836+Planning!$D$2","v":"2017-08-09"}]
[{"$f":"$A837+Planning!$D$2","v":"2017-08-10"}]
[{"$f":"$A838+Planning!$D$2","v":"2017-08-11"}]
[{"$f":"$A839+Planning!$D$2","v":"2017-08-12"}]
[{"$f":"$A840+Planning!$D$2","v":"2017-08-13"}]
[{"$f":"$A841+Planning!$D$2","v":"2017-08-14"}]
[{"$f":"$A842+Planning!$D$2","v":"2017-08-15"}]
[{"$f":"$A843+Planning!$D$2","v":"2017-08-16"}]
[{"$f":"$A844+Planning!$D$2","v":"2017-08-17"}]
[{"$f":"$A845+Planning!$D$2","v":"2017-08-18"}]
[{"$f":"$A846+Planning!$D$2","v":"2017-08-19"}]
[{"$f":"$A847+Planning!$D$2","v":"2017-08-20"}]
[{"$f":"$A848+Planning!$D$2","v":"2017-08-21"}]
[{"$f":"$A849+Planning!$D$2","v":"2017-08-22"}]
[{"$f":"$A850+Planning!$D$2","v":"2017-08-23"}]
[{"$f":"$A851+Planning!$D$2","v":"2017-08-24"}]
[{"$f":"$A852+Planning!$D$2","v":"2017-08-25"}]
[{"$f":"$A853+Planning!$D$2","v":"2017-08-26"}]
[{"$f":"$A854+Planning!$D$2","v":"2017-08-27"}]
[{"$f":"$A855+Planning!$D$2","v":"2017-08-28"}]
[{"$f":"$A856+Planning!$D$2","v":"2017-08-29"}]
[{"$f":"$A857+Planning!$D$2","v":"2017-08-30"}]
[{"$f":"$A858+Planning!$D$2","v":"2017-08-31"}]
[{"$f":"$A859+Planning!$D$2","v":"2017-09-01"}]
[{"$f":"$A860+Planning!$D$2","v":"2017-09-02"}]
[{"$f":"$A861+Planning!$D$2","v":"2017-09-03"}]
[{"$f":"$A862+Planning!$D$2","v":"2017-09-04"}]
[{"$f":"$A863+Planning!$D$2","v":"2017-09-05"}]
[{"$f":"$A864+Planning!$D$2","v":"2017-09-06"}]
[{"$f":"$A865+Planning!$D$2","v":"2017-09-07"}]
[{"$f":"$A866+Planning!$D$2","v":"2017-09-08"}]
[{"$f":"$A867+Planning!$D$2","v":"2017-09-09"}]
[{"$f":"$A868+Planning!$D$2","v":"2017-09-10"}]
[{"$f":"$A869+Planning!$D$2","v":"2017-09-11"}]
[{"$f":"$A870+Planning!$D$2","v":"2017-09-12"}]
[{"$f":"$A871+Planning!$D$2","v":"2017-09-13"}]
[{"$f":"$A872+Planning!$D$2","v":"2017-09-14"}]
[{"$f":"$A873+Planning!$D$2","v":"2017-09-15"}]
[{"$f":"$A874+Planning!$D$2","v":"2017-09-16"}]
[{"$f":"$A875+Planning!$D$2","v":"2017-09-17"}]
[{"$f":"$A876+Planning!$D$2","v":"2017-09-18"}]
[{"$f":"$A877+Planning!$D$2","v":"2017-09-19"}]
[{"$f":"$A878+Planning!$D$2","v":"2017-09-20"}]
[{"$f":"$A879+Planning!$D$2","v":"2017-09-21"}]
[{"$f":"$A880+Planning!$D$2","v":"2017-09-22"}]
[{"$f":"$A881+Planning!$D$2","v":"2017-09-23"}]
[{"$f":"$A882+Planning!$D$2","v":"2017-09-24"}]
[{"$f":"$A883+Planning!$D$2","v":"2017-09-25"}]
[{"$f":"$A884+Planning!$D$2","v":"2017-09-26"}]
[{"$f":"$A885+Planning!$D$2","v":"2017-09-27"}]
[{"$f":"$A886+Planning!$D$2","v":"2017-09-28"}]
[{"$f":"$A887+Planning!$D$2","v":"2017-09-29"}]
[{"$f":"$A888+Planning!$D$2","v":"2017-09-30"}]
[{"$f":"$A889+Planning!$D$2","v":"2017-10-01"}]
[{"$f":"$A890+Planning!$D$2","v":"2017-10-02"}]
[{"$f":"$A891+Planning!$D$2","v":"2017-10-03"}]
[{"$f":"$A892+Planning!$D$2","v":"2017-10-04"}]
[{"$f":"$A893+Planning!$D$2","v":"2017-10-05"}]
[{"$f":"$A894+Planning!$D$2","v":"2017-10-06"}]
[{"$f":"$A895+Planning!$D$2","v":"2017-10-07"}]
[{"$f":"$A896+Planning!$D$2","v":"2017-10-08"}]
[{"$f":"$A897+Planning!$D$2","v":"2017-10-09"}]
[{"$f":"$A898+Planning!$D$2","v":"2017-10-10"}]
[{"$f":"$A899+Planning!$D$2","v":"2017-10-11"}]
[{"$f":"$A900+Planning!$D$2","v":"2017-10-12"}]
[{"$f":"$A901+Planning!$D$2","v":"2017-10-13"}]
[{"$f":"$A902+Planning!$D$2","v":"2017-10-14"}]
[{"$f":"$A903+Planning!$D$2","v":"2017-10-15"}]
[{"$f":"$A904+Planning!$D$2","v":"2017-10-16"}]
[{"$f":"$A905+Planning!$D$2","v":"2017-10-17"}]
[{"$f":"$A906+Planning!$D$2","v":"2017-10-18"}]
[{"$f":"$A907+Planning!$D$2","v":"2017-10-19"}]
[{"$f":"$A908+Planning!$D$2","v":"2017-10-20"}]
[{"$f":"$A909+Planning!$D$2","v":"2017-10-21"}]
[{"$f":"$A910+Planning!$D$2","v":"2017-10-22"}]
[{"$f":"$A911+Planning!$D$2","v":"2017-10-23"}]
[{"$f":"$A912+Planning!$D$2","v":"2017-10-24"}]
[{"$f":"$A913+Planning!$D$2","v":"2017-10-25"}]
[{"$f":"$A914+Planning!$D$2","v":"2017-10-26"}]
[{"$f":"$A915+Planning!$D$2","v":"2017-10-27"}]
[{"$f":"$A916+Planning!$D$2","v":"2017-10-28"}]
[{"$f":"$A917+Planning!$D$2","v":"2017-10-29"}]
[{"$f":"$A918+Planning!$D$2","v":"2017-10-30"}]
[{"$f":"$A919+Planning!$D$2","v":"2017-10-31"}]
[{"$f":"$A920+Planning!$D$2","v":"2017-11-01"}]
[{"$f":"$A921+Planning!$D$2","v":"2017-11-02"}]
[{"$f":"$A922+Planning!$D$2","v":"2017-11-03"}]
[{"$f":"$A923+Planning!$D$2","v":"2017-11-04"}]
[{"$f":"$A924+Planning!$D$2","v":"2017-11-05"}]
[{"$f":"$A925+Planning!$D$2","v":"2017-11-06"}]
[{"$f":"$A926+Planning!$D$2","v":"2017-11-07"}]
[{"$f":"$A927+Planning!$D$2","v":"2017-11-08"}]
[{"$f":"$A928+Planning!$D$2","v":"2017-11-09"}]
[{"$f":"$A929+Planning!$D$2","v":"2017-11-10"}]
[{"$f":"$A930+Planning!$D$2","v":"2017-11-11"}]
[{"$f":"$A931+Planning!$D$2","v":"2017-11-12"}]
[{"$f":"$A932+Planning!$D$2","v":"2017-11-13"}]
[{"$f":"$A933+Planning!$D$2","v":"2017-11-14"}]
[{"$f":"$A934+Planning!$D$2","v":"2017-11-15"}]
[{"$f":"$A935+Planning!$D$2","v":"2017-11-16"}]
[{"$f":"$A936+Planning!$D$2","v":"2017-11-17"}]
[{"$f":"$A937+Planning!$D$2","v":"2017-11-18"}]
[{"$f":"$A938+Planning!$D$2","v":"2017-11-19"}]
[{"$f":"$A939+Planning!$D$2","v":"2017-11-20"}]
[{"$f":"$A940+Planning!$D$2","v":"2017-11-21"}]
[{"$f":"$A941+Planning!$D$2","v":"2017-11-22"}]
[{"$f":"$A942+Planning!$D$2","v":"2017-11-23"}]
[{"$f":"$A943+Planning!$D$2","v":"2017-11-24"}]
[{"$f":"$A944+Planning!$D$2","v":"2017-11-25"}]
[{"$f":"$A945+Planning!$D$2","v":"2017-11-26"}]
[{"$f":"$A946+Planning!$D$2","v":"2017-11-27"}]
[{"$f":"$A947+Planning!$D$2","v":"2017-11-28"}]
[{"$f":"$A948+Planning!$D$2","v":"2017-11-29"}]
[{"$f":"$A949+Planning!$D$2","v":"2017-11-30"}]
[{"$f":"$A950+Planning!$D$2","v":"2017-12-01"}]
[{"$f":"$A951+Planning!$D$2","v":"2017-12-02"}]
[{"$f":"$A952+Planning!$D$2","v":"2017-12-03"}]
[{"$f":"$A953+Planning!$D$2","v":"2017-12-04"}]
[{"$f":"$A954+Planning!$D$2","v":"2017-12-05"}]
[{"$f":"$A955+Planning!$D$2","v":"2017-12-06"}]
[{"$f":"$A956+Planning!$D$2","v":"2017-12-07"}]
[{"$f":"$A957+Planning!$D$2","v":"2017-12-08"}]
[{"$f":"$A958+Planning!$D$2","v":"2017-12-09"}]
[{"$f":"$A959+Planning!$D$2","v":"2017-12-10"}]
[{"$f":"$A960+Planning!$D$2","v":"2017-12-11"}]
[{"$f":"$A961+Planning!$D$2","v":"2017-12-12"}]
[{"$f":"$A962+Planning!$D$2","v":"2017-12-13"}]
[{"$f":"$A963+Planning!$D$2","v":"2017-12-14"}]
[{"$f":"$A964+Planning!$D$2","v":"2017-12-15"}]
[{"$f":"$A965+Planning!$D$2","v":"2017-12-16"}]
[{"$f":"$A966+Planning!$D$2","v":"2017-12-17"}]
[{"$f":"$A967+Planning!$D$2","v":"2017-12-18"}]
[{"$f":"$A968+Planning!$D$2","v":"2017-12-19"}]
[{"$f":"$A969+Planning!$D$2","v":"2017-12-20"}]
[{"$f":"$A970+Planning!$D$2","v":"2017-12-21"}]
[{"$f":"$A971+Planning!$D$2","v":"2017-12-22"}]
[{"$f":"$A972+Planning!$D$2","v":"2017-12-23"}]
[{"$f":"$A973+Planning!$D$2","v":"2017-12-24"}]
[{"$f":"$A974+Planning!$D$2","v":"2017-12-25"}]
[{"$f":"$A975+Planning!$D$2","v":"2017-12-26"}]
[{"$f":"$A976+Planning!$D$2","v":"2017-12-27"}]
[{"$f":"$A977+Planning!$D$2","v":"2017-12-28"}]
[{"$f":"$A978+Planning!$D$2","v":"2017-12-29"}]
[{"$f":"$A979+Planning!$D$2","v":"2017-12-30"}]
[{"$f":"$A980+Planning!$D$2","v":"2017-12-31"}]
[{"$f":"$A981+Planning!$D$2","v":"2018-01-01"}]
[{"$f":"$A982+Planning!$D$2","v":"2018-01-02"}]
[{"$f":"$A983+Planning!$D$2","v":"2018-01-03"}]
[{"$f":"$A984+Planning!$D$2","v":"2018-01-04"}]
[{"$f":"$A985+Planning!$D$2","v":"2018-01-05"}]
[{"$f":"$A986+Planning!$D$2","v":"2018-01-06"}]
[{"$f":"$A987+Planning!$D$2","v":"2018-01-07"}]
[{"$f":"$A988+Planning!$D$2","v":"2018-01-08"}]
[{"$f":"$A989+Planning!$D$2","v":"2018-01-09"}]
[{"$f":"$A990+Planning!$D$2","v":"2018-01-10"}]
[{"$f":"$A991+Planning!$D$2","v":"2018-01-11"}]
[{"$f":"$A992+Planning!$D$2","v":"2018-01-12"}]
[{"$f":"$A993+Planning!$D$2","v":"2018-01-13"}]
[{"$f":"$A994+Planning!$D$2","v":"2018-01-14"}]
[{"$f":"$A995+Planning!$D$2","v":"2018-01-15"}]
[{"$f":"$A996+Planning!$D$2","v":"2018-01-16"}]
[{"$f":"$A997+Planning!$D$2","v":"2018-01-17"}]
[{"$f":"$A998+Planning!$D$2","v":"2018-01-18"}]
[{"$f":"$A999+Planning!$D$2","v":"2018-01-19"}]

{"sheet":"Traduction","index":17,"n_rows":250,"n_cols":2,"rows_kept":250,"cut":false,"hidden":true,"merged":[[0,0,0,1]]}
["Translation"]
["Français - FR","English - EN"]
["% Réalisé","% Complete"]
["% Réalisé (au-delà du planifié)","% Complete (beyond plan)"]
["=> Temps par Ouvrier :","=> Time per Builder:"]
["1 jour","1 day"]
["1 heure","1 hour"]
["1 mois","1 month"]
["1 semaine","1 week"]
["16 heures","16 hours"]
["2 jours","2 days"]
["2 heures","2 hours"]
["3 jours","3 days"]
["3.a. Saisir le nombre de Bâtiments que vous avez actuellement avec leurs levels correspondants\n3.b. Saisir le level actuel de vos améliorations de Sorts/Troupes Normales/Troupes Noires\n3.c. Saisir le level actuel de vos Héros","3.a. Write down the number of Buildings you currently have with their corresponding levels\n3.b. Write down the current level of your Spells/Normals Troops/Dark Troops upgrades\n3.c. Write down the current level of your Heroes"]
["4 heures","4 hours"]
["8 heures","8 hours"]
["Réel","Actual"]
["Réel (au-delà du planifié)","Actual (beyond plan)"]
["Durée Réelle","Actual Duration"]
["Début Réel","Actual Start"]
["Bombe aérienne","Air Bomb"]
["Défense Antiaérienne","Air Defense"]
["Montant","Amount"]
["Archer","Archer"]
["Reine des Archers","Archer Queen"]
["Tour d'Archers","Archer Tower"]
["Bâtiments d'Armée","Army Buildings"]
["Bâtiments d'Amée (Disponibles et LVL Max)","Army Buildings (Available & Max LVL)"]
["Bâtiments d'Amée (Changements)","Army Buildings (Changes)"]
["Camp Militaire","Army Camp"]
["Camp Militaire - Capacité Totale","Army Camp - Total Capacity"]
["Camp Militaire\nCapacité Totale","Army Camp\nTotal Capacity"]
["Attaque","Attack"]
["Attaque / Défense","Attack / Defense"]
["Ballon","Balloon"]
["Barbare","Barbarian"]
["Roi des Barbares","Barbarian King"]
["Caserne","Barracks"]
["Caserne n°1 - NB","Barracks #1 - NB"]
["LVL\nCaserne n°1","Barracks #1\nLVL"]
["Caserne° 2 - NB","Barracks #2 - NB"]
["LVL\nCaserne n°2","Barracks #2\nLVL"]
["Caserne n°3 - NB","Barracks #3 - NB"]
["LVL\nCaserne n°3","Barracks #3\nLVL"]
["Caserne n°4 - NB","Barracks #4 - NB"]
["LVL\nCaserne n°4","Barracks #4\nLVL"]
["Caserne non disponible\n(ou pas de Laboratoire)","Barracks not available\n(or no Laboratory)"]
["Bombe","Bomb"]
["Colonne marron :","Brown cell:"]
["Ouvriers","Builders"]
["Ouvriers disponibles","Builders available"]
["Bâtiment","Building"]
["Bâtiment non disponible","Building not available"]
["Bâtiments : ","Buildings: "]
["Calendrier","Calendar"]
["Canon","Cannon"]
["Capacité","Capacity"]
["Capacité - Bâtiments","Capacity - Buildings"]
["Journal des Modifications","ChangeLog"]
["Château de Clan","Clan Castle"]
["Construction / Amélioration","Construction / Upgrade"]
["Coût","Cost"]
["Coûts - Bâtiments d'Armée","Costs - Army Buildings"]
["Coûts - Formation de Troupes Noires","Costs - Dark Troops Training"]
["Coûts - Améliorations de Troupes Noires","Costs - Dark Troops Upgrades"]
["Coûts - Bâtiments de Défense","Costs - Defensive Buildings"]
["Coûts - Héros","Costs - Heroes"]
["Coûts - Formation de Troupes Normales","Costs - Normal Troops Training"]
["Coûts - Améliroations de Troupes Normales","Costs - Normal Troops Upgrades"]
["Coûts - Bâtiments Autres","Costs - Other Buildings"]
["Coûts - Bâtiments de Ressources","Costs - Resource Buildings"]
["Coûts - Améliorations de Sorts","Costs - Spells Upgrades"]
["Créer Planning","Create Planning"]
["Actuel","Current"]
["Actuel +","Current +"]
["j/h/m","d/h/m"]
["Caserne Noire","Dark Barracks"]
["Caserne Noire n°1 - NB","Dark Barracks #1 - NB"]
["LVL\nCaserne Noire n°1","Dark Barracks #1\nLVL"]
["Caserne Noire n°2 - NB","Dark Barracks #2 - NB"]
["LVL\nCaserne Noire n°2","Dark Barracks #2\nLVL"]
["Élixir Noir","Dark Elixir"]
["Bonus d'Élixir Noir","Dark Elixir Bonus"]
["Foreuse d'Élixir Noir","Dark Elixir Drill"]
["Besoins d'Elixir Noir","Dark Elixir needs"]
["Réservoir d'Élixir Noir","Dark Elixir Storage"]
["Troupe Noire","Dark Troop"]
["Formation de Troupes Noires","Dark Troops Training"]
["Améliorations de Troupes Noires","Dark Troops Upgrades"]
["Améliorations de Troupes Noires (Disponibles et LVL Max)","Dark Troops Upgrades (Available & Max LVL)"]
["Améliorations de Troupes Noires (Changements)","Dark Troops Upgrades (Changes)"]
["Date","Date"]
["jours","days"]
["Défense","Defense"]
["Bâtiments Défensifs","Defensive Buildings"]
["Bâtiments de Défense (Disponibles et LVL Max)","Defensive Buildings (Available & Max LVL)"]
["Bâtiments de Défense (Changements)","Defensive Buildings (Changes)"]
["Description","Description"]
["Téléchargement","Download"]
["Dragon","Dragon"]
["Gains","Earnings"]
["Élixir","Elixir"]
["Bonus d'Élixir","Elixir Bonus"]
["Extracteur d'Élixir","Elixir Collector"]
["Besoins d'Elixir","Elixir needs"]
["Réservoir d'Élixir","Elixir Storage"]
["Erreur - Camp Militaire\nMax. total atteint","Error - Army Camp\nTotal max. reach"]
["Erreur - Caserne\nMax. total atteint","Error - Barracks\nTotal max. reach"]
["Erreur - Bâtiment\nMax. total atteint","Error - Building\nTotal max. reach"]
["Erreur - Pas suffisament d'Ouvriers","Error - Not enought Builders"]
["Erreur\nMax. total atteint","Error\nTotal max. reach"]
["Champs","Fields"]
["Sort de Gel","Freeze Spell"]
["Géant","Giant"]
["Bombe géante","Giant Bomb"]
["Gobelin","Goblin"]
["Or","Gold"]
["Bonus d'Or","Gold Bonus"]
["Mine d'Or","Gold Mine"]
["Besoins d'Or\n(sans remparts)","Gold needs\n(without walls)"]
["Réserve d'Or","Gold Storage"]
["Golem","Golem"]
["Cellule verte :","Green cell:"]
["h/m/s","h/m/s"]
["Guérisseuse","Healer"]
["Sort de Guérison","Healing Spell"]
["Héros","Hero"]
["Héros","Heroes"]
["Héros (Disponibles & LVL Max)","Heroes (Available & Max LVL)"]
["Héros (Changements)","Heroes (Changes)"]
["Héros : ","Heroes: "]
["Tesla Camouflée","Hidden Tesla"]
["Chevaucheur de Cochon","Hog Rider"]
["heures","hours"]
["hrs","hrs"]
["Tour de l'Enfer","Inferno Tower"]
["INSTRUCTIONS:\n1. LVL HdV : Indiquer le level de votre Hôtel de Ville (1-10)\n\n2. Ouvriers : Indiquer le nombre d'ouvriers que vous avez (1-5)","INSTRUCTIONS:\n1. TH LVL: Indicate the level of your Town Hall (1-10)\n\n2. Builders: Indicate the number of Builders you have (1-5)"]
["Sort de Saut","Jump Spell"]
["Laboratoire","Laboratory"]
["Laboratoire - NB","Laboratory - NB"]
["Langue","Language"]
["Molosse de lave","Lava Hound"]
["Bonus de Ligue","League Bonus"]
["Légende","Legend"]
["Sort de Foudre","Lightning Spell"]
["Multiplicateur de Loot","Loot Multiplier"]
["Loots - Gains Possibles vs HdV LVL ","Loots - Possible Earnings vs TH LVL "]
["Loots - Pertes Possibles vs HdV LVL ","Loots - Possible Losses vs TH LVL "]
["LVL","LVL"]
["LVL Max","Max LVL"]
["Espace Max","Max Space"]
["Stockage Max","Max Stockable"]
["Amélioration max. atteinte","Max. upgrade reached"]
["Gain Maximum","Maximum Gain"]
["Mines/Extracteurs/Foreuses","Mines/Collectors/Drills"]
["Serviteur","Minion"]
["mins","mins"]
["minutes","minutes"]
["mois","months"]
["Mortier","Mortar"]
["Nom de Fichier","Name File"]
["NB\nCaserne","NB\nBarracks"]
["NB\nCaserne Noire","NB\nDark Barracks"]
["Troupe Normale","Normal Troop"]
["Formation de Troupes Normales","Normal Troops Training"]
["Améliorations de Troupes","Normal Troops Upgrades"]
["Améliorations de Troupes Normales (Disponibles & LVL Max)","Normal Troops Upgrades (Available & Max LVL)"]
["Améliorations de Troupes Normales (Changements)","Normal Troops Upgrades (Changes)"]
["LVL HdV Opposant","Opponent TH LVL"]
["Cellule orange :","Orange Cell:"]
["Colonne orange :","Orange column:"]
["Bâtiments Autres","Other Buildings"]
["Bâtiments Autres (Disponibles et LVL Max)","Other Buildings (Available & Max LVL)"]
["Bâtiments Autres (Changements)","Other Buildings (Changes)"]
["P.E.K.K.A","P.E.K.K.A"]
["Période","Period"]
["Période Sélectionnée","Period Highlight"]
["Planifié","Plan"]
["Durée Planifée (jours)","Plan Duration (days)"]
["Début Planifiée","Plan Start"]
["Planning","Planning"]
["Production","Production"]
["Production / heure","Production / hour"]
["Production / période","Production / period"]
["Sort de Rage","Rage Spell"]
["Combat - Nombre de Ressources Disponibles","Raiding - Available Amount of Ressources"]
["Combat - Gains","Raiding - Earnings"]
["Combat - Profits","Raiding - Profits"]
["Combat - Nombre Total de Ressources","Raiding - Total Amount of Ressources"]
["Classement","Rank"]
["Cellule rouge :","Red cell:"]
["Ressources Nécessaires","Required Resources"]
["Réinitialiser","Reset"]
["Bâtiments de Ressources","Resource Buildings"]
["Bâtiments de Ressources (Disponibles et LVL Max)","Resource Buildings (Available & Max LVL)"]
["Bâtiments de Ressources (Changements)","Resource Buildings (Changes)"]
["secondes","seconds"]
["Tête chercheuse","Seeking Air Mine"]
["Piège squelettique","Skeleton Trap"]
["Espace","Space"]
["Sort","Spell"]
["Usine de Sorts","Spell Factory"]
["LVL Usine de Sorts","Spell Factory\nLVL"]
["Création de Sorts","Spells Creation"]
["Améliorations de Sorts","Spells Upgrades"]
["Améliorations de Sorts (Disponibles et LVL Max)","Spells Upgrades (Available & Max LVL)"]
["Améliorations de Sorts (Changements)","Spells Upgrades (Changes)"]
["Piège à ressort","Spring Trap"]
["Date de Départ","Start Date"]
["Pas (jour)","Step (day)"]
["Stockages","Storages"]
["Tableaux récapitulatifs","Summary Tables"]
["LVL HdV","TH LVL"]
["Différence LVL HdV","TH LVL Difference"]
["Temps","Time"]
["Affichage Temps","Time Display"]
["Temps pour obtenir besoins","Time to reach needs"]
["À Faire","TO DO"]
["Total","Total"]
["Coût Total","Total Cost"]
["Élixir Noir Total :","Total Dark Elixir:"]
["Élixir Total :","Total Elixir:"]
["Or Total :","Total Gold:"]
["Espace Total","Total Space"]
["Temps Total","Total Time"]
["Temps Total :","Total Time:"]
["Hôtel de Ville","Town Hall"]
["Hôtel de Ville - Élixir","Town Hall - Elixir"]
["Hôtel de Ville - Or","Town Hall - Gold"]
["Pièges Défensifs","Traps"]
["Pièges (Disponibles)","Traps (Available)"]
["Pièges (Changements)","Traps (Changes)"]
["Troupe/Sort non disponible","Troop/Spell not available"]
["Améliorations de Troupes/Sorts :","Troops/Spells Up.:"]
["Trophées","Trophies"]
["Bonus de Trophées","Trophies Bonus"]
["Différence de Trophées","Trophies Difference"]
["Type","Type"]
["Up.","Up."]
["Amélioration non disponible","Upgrade not available"]
["Améliorations","Upgrades"]
["Valkyrie","Valkyrie"]
["Version","Version"]
["Rempart","Wall"]
["Sapeur","Wall Breaker"]
["Sorcière","Witch"]
["Sorcier","Wizard"]
["Tour de Sorciers","Wizard Tower"]
["Arc-X","X-Bow"]
["Ligne jaune :","Yellow line:"]

{"sheet":"Paramètres - Admin","index":18,"n_rows":42,"n_cols":7,"rows_kept":42,"cut":false,"hidden":true,"merged":[]}
["+","Affichage Temps","Affichage Temps","Champs","Période","Attaque / Défense","Step"]
[0,"secondes","secondes","mins","1 heure","Attaque",0.25]
[{"$f":"A2+1","v":1},"minutes","minutes","hrs","2 heures","Défense",0.5]
[2,"heures","heures","jours","4 heures",null,0.75]
[3,"jours","h/m/s","sec","8 heures",null,1]
[4,"mois",null,"Héros : ","16 heures"]
[5,"j/h/m",null,"Bâtiments : ","1 jour"]
[6,null,null,null,"2 jours"]
[7,null,null,null,"3 jours"]
[8,null,null,null,"1 semaine"]
[9,null,null,null,"1 mois"]
[10]
[11]
[12]
[13]
[14]
[15]
[16]
[17]
[18]
[19]
[20]
[21]
[22]
[23]
[24]
[25]
[26]
[27]
[28]
[29]
[30]
[31]
[32]
[33]
[34]
[35]
[36]
[37]
[38]
[39]
[40]

{"sheet":"Journal des Modifications","index":19,"n_rows":53,"n_cols":6,"rows_kept":53,"cut":false,"hidden":true,"merged":[[0,0,0,5]]}
["Journal des Modifications"]
["Version","Date","Nom de Fichier","Description ","Description","Téléchargement"]
["V4.16.00",41984,{"$f":"\"COC - Cost & Time Calcultator \" & A3 & \".xlsx\"","v":"COC - Cost & Time Calcultator V4.16.00.xlsx"},null,"-Sednanref-\nAjout coût de formation pour :\n- Sort de saut 3\n- Sort de gel 5\n- Guerrier 7\n- Archer 7\n- Gobelin 6\n- Lava Hound 1/2/3\n\n+ Mise à jour suite Update du 11/12/2014"]
["V4.15.00",41977,"COC - Cost & Time Calcultator V4.15.00.xlsx",null,"-Sednanref-\nAjout de piège à ressort et tête chercheuse dans les onglets A Faire - Recap et A Faire - Détails","http://www.cjoint.com/14dc/DLemWiubEMS.htm"]
["V4.14",41974,"COC - Cost & Time Calcultator V4.14.xlsx",null,"-Franck51-\nCorrection dans l'onglet a-faire detail des tableaux pour les unités et les sorts qui avaient un décalage dans les calculs suite au ajout des derniers niveau qui n'étaient pas pris en compte","http://www.cjoint.com/14dc/DLbueZQEM1a.htm"]
["V4.13,09",41974,"COC - Cost & Time Calcultator V4.13,09.xlsx",null,null,"http://www.cjoint.com/14dc/DLbhm0kD27n.htm"]
["V4.13,07",41973,"COC - Cost & Time Calcultator V4.13,07.xlsx",null,"-Franck51-\nCorrection dans l'onglet a-faire detail des tableaux pour les unités et les sorts qui ne prenait en compte que l'amelioration de HDV et non du labo","http://www.cjoint.com/?DKElI4u6x6e"]
["V4.13,06",41972,"COC - Cost & Time Calcultator V4.13,06.xlsx",null,"-Franck51-\nCorrection dans l'onglet a-faire detail des tableaux pour les bombes géantes et les pieges squeletiques","http://www.cjoint.com/14nv/DKDookrMjAO.htm"]
["V4.13,05",41971,"COC - Cost & Time Calcultator V4.13,05.xlsx",null,"-Sednanref-\nModification de la macro de traduction pour recherche automatique de la cellule \"langue ou language\" de traduction","http://www.cjoint.com/14nv/DKCxgek9Xhj.htm"]
["V4.13,04",41969,"COC - Cost & Time Calcultator V4.13,04.xlsx",null,"-Sednanref-\nCorrection de l'onglet a-faire avec le tableau des sorciers qui ne s'activait pas","http://www.cjoint.com/14nv/DKAwsoNQ7zv.htm"]
["V4.13,03",41968,"COC - Cost & Time Calcultator V4.13,03.xlsx",null,"-Franck51-\nCorrection :\n1 - En hdv 10, message d'erreur dans l'onglet A faire pour les pekka niveau 4, idem pour les ballons niv 6 et les sorciers niv 5 .\n2 - Pour les cochons , ilqui au max dans l'onglet parametre devaient être amélioré dans l'onglet A faire,\nModification :\nde la macro, Lors de la création du planning j'ai modifié la macro VBA de création pour que l'on puisses intégrer des nouvelles colonne dans l'onglet parametre (pour de nouvelles unités) et que de façon automatique la macro détecte la derniere cellule non vide.","http://cjoint.com/?DKztFaUbLbM"]
["V4.13,02",41966,"COC - Cost & Time Calcultator V4.13,02.xlsx",null,"-Franck51-\nModification de l'onglet à faire-Détails tableau pour les ballons avec l'affichage du niv 6 et calcul des sommes à avoir","http://cjoint.com/?DKzm5dq4u5X "]
["V4.13,01",41966,"COC - Cost & Time Calcultator V4.13,01.xlsx",null,"-Franck51-\nModification de l'onglet à faire-Détails avec ajout des niveau supplémentaire suite à mise à jour","http://cjoint.com/?DKxuABq8t8u"]
["V4.13",41965,"COC - Cost & Time Calcultator V4.13.xlsx",null,"-Franck51-\nmodification de l'onglet parametre pour la gestion des unités et des sorts par rapport a l'existance des casernes et usine de sort et liaison des niveau par rapport au niveaux du labo","http://www.cjoint.com/?DKwts7awvMs"]
["V4.12",41960,"COC - Cost & Time Calcultator V4.12.xlsx","-Yezazell-\nupgrade spell healing ","-Yezazell-\nMise à jour des sorts de soins  ","http://www.cjoint.com/14nv/DKrvcUFeBdx.htm"]
["V4.11,01",41958,{"$f":"\"COC - Cost & Time Calcultator \" & A16 & \".xlsx\"","v":"COC - Cost & Time Calcultator V4.11,01.xlsx"},"- Franck51 - \nRemise en route du module traduction","- Franck51 - \nRemise en route du module traduction","http://www.cjoint.com/14nv/DKpoFYX51gg.htm"]
["V4.11",41958,"COC - Cost & Time Calcultator V4.11.xlsx","- Franck51 - \nAjout dans l'onglet a faire - détails des molosse de lave\nAjout aussi dans l'onglet a faire recapitulatif\nchangement de l'ordre de la sorciere et molosse de lave dans l'onglet parametre","- Franck51 - \nAjout dans l'onglet a faire - détails des molosse de lave\nAjout aussi dans l'onglet a faire recapitulatif\nchangement de l'ordre de la sorciere et molosse de lave dans l'onglet parametre"]
["V4.09.01",41956,"COC - Cost & Time Calcultator V4.09.01.xlsx","- Yezazell - \nCorrection mineur sur les formules de l'onglet \"Paramètres\", le problème venait de l'onglet batiment ou il manquait une colonne HDV","- Yezazell - \nCorrection mineur sur les formules de l'onglet \"Paramètres\", le problème venait de l'onglet batiment ou il manquait une colonne HDV","http://cjoint.com/?DKnxoLZXojH"]
["V.4.9",41955,"COC - Cost & Time Calcultator V.4.9.xlsx","- Yezazell - \nAjout : \n- Molosse de lave onglet : Formation de troupes\n- Ajout gestion Caserne Noir Lvl 6\n- Modifications mise en forme conditionnelle…","- Yezazell - \nAjout : \n- Molosse de lave onglet : Formation de troupes\n- Ajout gestion Caserne Noir Lvl 6\n- Modifications mise en forme conditionnelle…","http://cjoint.com/?DKnbetRKbfB"]
["V.4.8",41955,"COC - Cost & Time Calcultator V.4.8.xlsx","- Yezazell - \nModification :\n - Séparation des pièges défensifset des batiments défensifs\n - Modification de toutes les formules en respectant l'éxistant","- Yezazell - \nModification :\n - Séparation des pièges défensifset des batiments défensifs\n - Modification de toutes les formules en respectant l'éxistant","http://cjoint.com/?DKmuTmTce8m.htm"]
["V4.07.02",41954,"COC - Cost & Time Calcultator V4.07.02.xlsx","Ajout :\n- Bombe Aérienne \n- Piège Squelletique\nDans les onglets : A faire - Détail & A faire - Récapitulatif \nCorrection divers de formules","Ajout :\n- Bombe Aérienne \n- Piège Squelletique\nDans les onglets : A faire - Détail & A faire - Récapitulatif \nCorrection divers de formules","http://sendbox.fr/pro/qk0trfown6vw/COC_-_Calcultator_v4.07.2-VIERGE.xlsm.zip.html"]
["V4.07.01",41953,{"$f":"\"COC - Calcultator \" & A22 & \".xlsm\"","v":"COC - Calcultator V4.07.01.xlsm"},"Ajout :\n- Ajout dans \"A Faire - Détails \" & \"A Faire - Récupitulatif\" des \"Bombe Géante\"\n- Mofication des formules pour les calcules de temps ","Ajout :\n- Ajout dans \"A Faire - Détails \" & \"A Faire - Récupitulatif\" des \"Bombe Géante\"\n- Mofication des formules pour les calcules de temps ","COC - Calcultator v4.07.1-VIERGE.xlsm.zip"]
["V4.07",41953,{"$f":"\"COC - Calcultator \" & A23 & \".xlsm\"","v":"COC - Calcultator V4.07.xlsm"},"Ajout :\n- Modification des temps de construction des bombes\n- Ajout dans \"A Faire - Détails\" de la gestion des bombes\n- Ajout dans \"A faire - Récapitualitif \" de la gestion des bombes\n- Corrections sur les formules ","Ajout :\n- Modification des temps de construction des bombes\n- Ajout dans \"A Faire - Détails\" de la gestion des bombes\n- Ajout dans \"A faire - Récapitualitif \" de la gestion des bombes\n- Corrections sur les formules ","COC - Calcultator v4.07-VIERGE.xlsm.zip"]
["v4.06",41952,"COC - Calcultator v4.06.xlsm","- Correctif sur :\n- Modification du niveau du sort de guerisson pour aparaitre avec HDV niveau 6\n- et la caserne noire est disponible au niveau 6 dès l'hôtel de ville niveau 9","- Correctif sur :\n- Modification du niveau du sort de guerisson pour aparaitre avec HDV niveau 6\n- et la caserne noire est disponible au niveau 6 dès l'hôtel de ville niveau 9","COC - Calcultator v4.06-VIERGE.zip"]
["v4.05",41950,"COC - Calcultator v4.05.xlsm","- Correctif sur :\n- Onglet planning qui ajoutais un ouvrier pour les amelioration des sort ou des unités noirs","- Correctif sur :\n- Onglet planning qui ajoutais un ouvrier pour les amelioration des sort ou des unités noirs","COC - Calcultator v4.05-VIERGE.zip"]
["v4.04",41949,"COC - Calcultator v4.04.xlsm","- Correctif sur :\n- d'une erreur dans les formules de l'onglet planning inversion entre les golems et les molosse de lave","- Correctif sur :\n- d'une erreur dans les formules de l'onglet planning inversion entre les golems et les molosse de lave","COC - Calcultator v4.04-VIERGE.zip"]
["v4.03",41949,"COC - Calcultator v4.03.xlsm","- Correctif sur :\n- Ajout de la nouvelle untité des molosses de lave\n- Correction dans l'onglet : \"À Faire - Détails\" , la formule de la cellulle B148 est fausse on pointe plus au bonne endroit","- Correctif sur :\n- Ajout de la nouvelle untité des molosses de lave\n- Correction dans l'onglet : \"À Faire - Détails\" , la formule de la cellulle B148 est fausse on pointe plus au bonne endroit","COC - Calcultator v4.03-VIERGE.zip"]
["v4.02",41942,"COC - Calcultator v4.02.xlsm","- Correctif sur :\n- Les TDA n'affichent que 12 lvl alors qu'il y en a maintenant 13\n- Les Barbares et Archers ont maintenant 7 lvl et non plus 6 comme l'indique le tableau\n- Le PEKKA peut maintenant être up au lvl 5 et non plus seulement 4, \n- Les Teslas peuvent etre up jusqu'au lvl 8 et non plus seulement 7, \n- Le sort de saut à maintenant 3 lvl et non plus seulement 2, ","- Correctif sur :\n- Les TDA n'affichent que 12 lvl alors qu'il y en a maintenant 13\n- Les Barbares et Archers ont maintenant 7 lvl et non plus 6 comme l'indique le tableau\n- Le PEKKA peut maintenant être up au lvl 5 et non plus seulement 4, \n- Les Teslas peuvent etre up jusqu'au lvl 8 et non plus seulement 7, \n- Le sort de saut à maintenant 3 lvl et non plus seulement 2, ","COC - Calcultator v4.02-VIERGE.zip"]
["v4.01",41940,"COC - Calcultator v4.01.xlsm","- Correction des niveau des bombes et des bombes géantes","- Correction des niveau des bombes et des bombes géantes","COC - Calcultator v4.01-VIERGE.zip"]
["v4.00",41940,{"$f":"\"COC - Calcultator \" & A30 & \".xlsm\"","v":"COC - Calcultator v4.00.xlsm"},"-Add different Trap in the sheet\nPiège à ressort \nTête chercheuse  \nBombe géante  \nBombe aérienne \npour integration dans l'onglet planning\nPiège squelettique","- Ajout des pièges dans l'onglet paramétre - Batiment - Amélioration et couts des améliorations\nPiège à ressort \nTête chercheuse  \nBombe géante  \nBombe aérienne \npour integration dans l'onglet planning\nPiège squelettique","COC - Calcultator v4-VIERGE.zip"]
["v2.00",41514,{"$f":"\"COC - Calcultator \" & A31 & \".xlsm\"","v":"COC - Calcultator v2.00.xlsm"},"- Updates following the maintenance of 2013-08-28\n- Adding the total of troops in \"Troups training\" tab\n- Fixing the required level for the \"Healing Spell\"\n- Fixing the totals formulas of \"Army Buildings\"  in \"TO DO - Summary\" tab\n- Fixing formulas for \"Wall Breaker\" and \"Dark Barracks\" in \"TO DO - Details\" tab","- Mises à jour suite à la maintenance du 28/08/2013\n- Ajout du total de troupes dans l'onglet \"Formation de Troupes\"\n- Correction du level nécessaire pour le \"Sort de Guérison\"\n- Correction de formules des totaux \"Batiments d'Armée\" dans l'onglet \"À Faire - Récapitulatif\"\n- Correction des formules pour le \"Sapeur\" et les \"Casernes Noires\" dans l'onglet \"À Faire - Détails\""]
["v1.91",41502,{"$f":"\"COC - Calcultator \" & A32 & \".xlsm\"","v":"COC - Calcultator v1.91.xlsm"},"- Small fixes\n    - TH Level was incorrect in \"Planning\" and \"Raiding - Loots\" tabs\n    - Fixed the level of dark barracks in \"Troops Training\" tab\n    - Forgot a formula in the \"Parameters\" tab for the Witch\n- Changing the VBA code - No more checking on the filename","- Petites corrections\n   - Niveau de HdV ne correspondait pas dans les onglets \"Planning\" et \"Combats - Loots\"\n   - Correction du niveau des casernes noires dans l'onglet \"Formation de Troupes\"\n   - Oubli d'une formule dans l'onglet \"Paramètres\" pour la Sorcière\n- Modification du code VBA - Plus de vérification sur le nom du fichier","https://mega.co.nz/#!FIdn1IJB!aj_9snzD_bmDyKGFJM7LITSV1oZh93cGje3MACmIy8g"]
["v1.90",41498,"COC - Calcultator v1.90.xlsm","- Updates following the maintenance of 2013-07-29\n- Switching host file uploader","- Mises à jour suite à la maintenance du 29/07/2013\n- Changement de l'hébergeur des fichiers","https://mega.co.nz/#!ZN0nQQSI!yhwdqieK-qRQOYwET6JULegwM-J1_6MHGVJL42-Bsgw"]
["v1.82",41481,"COC - Calcultator v1.82.xlsm","- Renaming the file so the VBA code can works\n- Fixing the translation for the \"Barracks\"\n- Fixing the calculation for the \"Walls\" in the \"TO DO - Details\" tab. Forgot some formulas","- Modification du nom de fichier pour que les macros VBA fonctionnent\n- Correction de la traduction pour les \"Casernes\"\n- Correction du calcul des \"Remparts\" dans l'onglet \"À Faire - Détails\". Oubli de formules","https://mega.co.nz/#!cM1BUIaI!lMszBD37mV-MvYgirXsdbURHLsyXXoI7uWY99eD6TVU"]
["v1.81",41479,"COC - Calcultator v1.81.xlsm","- Fixing the translation for \"Town Hall\"\n- Automatic refresh when selecting the \"Period Highlight\" on the \"Planning\" tab\n- Freezing panes on the \"Planning\" tab","- Correction de la traduction pour \"Hôtel de Ville\"\n- Rafraichissement automatique lorsqu'on choisit la période sélectionnée dans l'onglet \"Planning\"\n- Figeage des volets dans l'onglet \"Planning\"","https://mega.co.nz/#!FZsFWQ7L!yQ9hvLhxoDopxsb-X2bdvQNM-bjRk5YZYMqoM5P4t5k"]
["v1.80",41479,"COC - Calcultator v1.80.xlsm","Adding the \"Planning\" tab to know the constuctions/upgrades futures","- Ajout de l'onglet \"Planning\" pour prévoir les futures constructions/améliorations.","https://mega.co.nz/#!NRFTCJ6T!WB2X6hvwVfyB_qA8IukqwtbfHo_VJEF6nBYCB0VCr64"]
["v1.71",41471,"COC - Calcultator v1.71.xlsm","- Conditionnal formatting on \"Parameters\" tab to know which ameliorations are left/unavailable\n- Fixing the translation for \"Inferno Tower\"\n- Fixing the representative color for \"Hidden Tesla\" in the \"TO DO - Details\" tab\n- Fixing the total cost with the adding of the \"P.E.K.K.A\" line o=in the \"Trainings Troops\" tab\n- Editing the \"Elixir\" color","- Mise en forme conditionnelle dans l'onglet \"Paramètres\" pour savoir les améliorations restantes/indisponibles\n- Correction de la traduction pour \"Tour de l'Enfer\"\n- Correction de la couleur représentative du coût de \"Tesla Camouflée\" dans l'onglet \"À Faire - Détails\"\n- Correction du calcul total avec l'ajout de la ligne des \"P.E.K.K.A\" dans l'onglet \"Formation de Troupes\" \n- Modification de la couleur de l'Élixir","https://mega.co.nz/#!sYFEVBrZ!Tbxc3gtvFbacWGujmdywBH0MdKjrm87davM7SwzCvGM"]
["v1.70",41467,"COC - Calcultator v1.70.xlsm","- Adding the language selection in the \"Parameters\" tab - French translation\n- Adding the feature which allow to see profits regarding the training costs and the raiding wins on the \"Training Troops\" tab\n- Rights' restriction on the file's sheets - unable to click on the protected cells\n- Values seizure restriction on cells\n- Small graphic changes","- Ajout du choix de la langue dans l'onglet \"Paramètres\" - traduction en français\n- Ajout de la fonctionnalité permettant de voir les profits en fonction des coûts de formation et des gains de combat dans l'onglet \"Formation de Troupes\"\n- Restriction des droits sur les feuilles du fichier - impossibilité de cliquer sur les cellules protégées\n- Restriction des valeurs saisissables dans les cellules\n- Changements graphiques mineurs","https://mega.co.nz/#!tNFTXCID!QEj2DA9Rc2PH-VgCXHHeNIPVaszYyIio2eHE3HU1qZ4"]
["v1.61",41464,{"$f":"\"COC - Calcultator \" & A39 & \".xlsx\"","v":"COC - Calcultator v1.61.xlsx"},"- Adding the Date in the \"ChangeLog\" tab\n- Fixing bug with conditional formatting on \"Troops Training\" tab","- Ajout de la date dans l'onglet \"Journal des Modifications\"\n- Correction d'un bug de formatage conditionnel sur l'onglet \"Formation de Troupes\"","https://mega.co.nz/#!VIFmgIJR!Lui74H0zJ1-kKiZzFw6z2Zo_OuASJRYnFLJ9A_1U7B0"]
["v1.60",41463,{"$f":"\"COC - Calcultator \" & A40 & \".xlsx\"","v":"COC - Calcultator v1.60.xlsx"},"- Adding the \"Troops Training\" tab: It helps to know training possibilities regarding the Barracks/Laboratory level and the total costs\n- Renaming the \"Leagues\" tab to \"Trophies\"\n- Renaming the \"Costs\" tab to \"Upgrades Costs\"\n- Conditional formatting on \"Production\" tab\n- Conditional formatting changes on \"Raidings Loots\" tab\n- Fixing Freeze Spell upgrade Costs/Time\n- Fixing TH LVL required for Spells Upgrades","- Ajout de l'onglet \"Formation de Troupes\" : cela permet de connaître les possibilités de formation par rapport aux levels des Casernes/Laboratoire ainsi que les coûts totaux\n- Renommage de l'onglet \"Ligues\" par \"Trophées\"\n- Renommage de l'onglet \"Coûts\" par \"Coûts des Améliorations\"\n- Formatage conditionnel sur l'onglet \"Production\"\n- Modifications sur le formatage conditionnel sur l'onglet \"Combats - Loots\"\n- Correction des Coûts/Temps des améliorations du Sort de Gel\n- Correction du LVL HdV nécessaire pour les améliorations de Sorts","https://mega.co.nz/#!lEFkDC4C!_jQFpXH_yhWB24wr8vJrXl6Ps7yk-mJsr7KLtH11TKc"]
["v1.50",41457,{"$f":"\"COC - Calcultator \" & A41 & \".xlsx\"","v":"COC - Calcultator v1.50.xlsx"},"- Adding the \"Production\" tab: It helps to know how many resources can be won in a specific time\n- Adding the \"Raiding Loots\" tab: It helps to know the possible earnings or losses in Multiplayer Raiding\n- Small graphic changes\n- Renaming previous file versions\n- Renaming file","- Ajout de l'onglet \"Production\" : cela permet de connaître combien de ressources peuvent être gagnées dans un temps imparti\n- Ajout de l'onglet \"Combats - Loots\" : cela permet de connaître les gains ou pertes possibles dans les combats multi-joueurs\n- Changements graphiques mineurs\n- Renommage des anciennes versions du fichier\n- Renommage du fichier","https://mega.co.nz/#!pQtASDSS!7zo_PCuJcn9f0D2GdkDj6Qo6-jbU6mo334qI-d0Twuk"]
["v1.41 - FR",41452,{"$f":"\"COC - Cost & Time Calcultator \" & A42 & \".xlsx\"","v":"COC - Cost & Time Calcultator v1.41 - FR.xlsx"},"- French version of 1.41 file","- Version française du fichier 1.41","https://mega.co.nz/#!oAlhWDKJ!8Pg611oUQ4Nj-HanEO4Q7deemrpTBsCZ1AXq7clug2E"]
["v1.41",41452,{"$f":"\"COC - Cost & Time Calcultator \" & A43 & \".xlsx\"","v":"COC - Cost & Time Calcultator v1.41.xlsx"},"- Fixing the summary cost view for Golem upgrade\n- Fixing the summary time view for Troops/Spells upgrades\n- Editing the cell format for numbers","- Correction de la vue récapitulative pour l'amélioration de Golem\n- Correction de la vue récapitulative pour les améliorations de Troupes/Sorts\n- Modification du format de cellule pour les nombres","https://mega.co.nz/#!YVUzlDZB!li7LEw-ZCXV_ITiTdAswRzt3YULOpBTQsS92JQv2jW0"]
["v1.40",41452,{"$f":"\"COC - Cost & Time Calcultator \" & A44 & \".xlsx\"","v":"COC - Cost & Time Calcultator v1.40.xlsx"},"- Separation of summary and details sections\n     - Adding the tab \"TO DO - Summary\"\n     - Renaming the tab \"TO DO\" to \"TO DO - Details\"\n- The times can now be displayed by seconds/minutes/hours/days/months/days hours minutes\" by selecting the choice in B2 cell (\"TO DO - Summary\" tab)\n- Hiding the grid in the tabs\n- Allowing permission to change the cell format / use filters / sort even if the tab is locked","- Séparation des sections récapitulatif et détails\n   - Ajout de l'onglet \"À Faire - Récapitulatif\"\n   - Renommage de l'onglet \"À Faire\" par \"À Faire - Détails\"\n- Les temps peuvent désormais être affichés en secondes/minutes/heures/jours/mois/jours heures minutes en sélectionnant le choix dans la cellule B2 (onglet \"À Faire - Récapitulatif\")\n- Masquage du quadrillage dans les onglets\n- Autorisation de modifier le format de cellule / utiliser des filtres / trier même si l'onglet est verrouillé","https://mega.co.nz/#!4NESmRhA!-yy2oUj_G3D5vObaMA3Gn1GJ_0ppr3wnBeQN2R1qIQ8"]
["v1.31",41451,{"$f":"\"COC - Cost & Time Calcultator \" & A45 & \".xlsx\"","v":"COC - Cost & Time Calcultator v1.31.xlsx"},"- Updating available Buildings, following the maintenance of 2013/06/24\n     For TH LVL 10:\n        - 1 more Gold Mine\n        - 1 more Elixir Collector","- Mise à jour des Bâtiments disponibles, suite à la maintenance du 24/06/2013\n    Pour LVL HdV 10 :\n     - 1 Mine d'Or supplémentaire\n     - 1 Extracteur d'Élixir supplémentaire","https://mega.co.nz/#!1BEVGSAQ!IWipCtgU4ynv4utHmMDBmoR5KPqaLzzsjJQZiWTIrak"]
["v1.30",41450,{"$f":"\"COC - Cost & Time Calcultator \" & A46 & \".xlsx\"","v":"COC - Cost & Time Calcultator v1.30.xlsx"},"- Changes on the \"Parameters\" tab. \n     - Summary table of all Buildings and Spells/Normal Troops/Dark Troops Upgrades. \n      - All user data has to be written in this tab and now the \"TO DO\" tab only display results\n     - Adding indications to use the Excel file","- Changements sur l'onglet \"Paramètres\"\n   - Tableau récapitulatif de tous les améliorations de Bâtiments et Sorts/Troupes Normales/Troupes Noires\n    - Toutes les données utilisateurs doivent désormais être saisies dans cet onglet et l'onglet \"À faire\" n'affiche que les résultats\n    - Ajout d'indications pour utiliser le fichier Excel","https://mega.co.nz/#!MNlGgJjZ!ddtKBoUOdL7ifZp_HcxyZ3bfRCzi5OevW2VkYN9omrw"]
["v1.23",41450,{"$f":"\"COC - Cost & Time Calcultator \" & A47 & \".xlsx\"","v":"COC - Cost & Time Calcultator v1.23.xlsx"},"- Adding the \"ChangeLog\" tab","- Ajout de l'onglet \"Journal des Modifications\"","https://mega.co.nz/#!sVsX0AJJ!njkWbVBj3c2Kk7crQ-RKBJYZA_xFfesbGSHCT7Y3ebY"]
["v1.22",41449,"COC - Cost & Time Calcultator v1.22.xlsx","- Fixed Elixir Storage & Gold Storage costs","- Correction des coûts de Réserve d'Or et Réserve d'Élixir","https://mega.co.nz/#!IcFizS4C!tK7U2K6uhrWN-YC69kO76jUT5uJPqmO6CrN5acKinUg"]
["v1.21",41446,"COC - Cost & Time Calcultator v1.21.xlsx","- Summary graphic changes on \"TO DO\" tab\n- Displaying the time remaining in days rather than hours\n- Locking formulas cells","- Changements graphiques sur le récapitulatif sur l'onglet \"À Faire\"\n- Affichage du temps restant en jours plutôt qu'en heures\n- Verrouillage des cellules de formules","https://mega.co.nz/#!kA1CzCxB!k1pmOyQuhFiSIJeJPytTckyuOmkLoRH7jBsT4-ZXtQk"]
["v1.20",41445,"COC - Cost & Time Calcultator v1.20.xlsx","- Removing the tab \"TO DO - By TH LVL\"\n- Renaming the tab \"TO DO - By Current \" to \"TO DO\"\n- Conditional Formatting on \"TO DO\" tab","- Suppression de l'onglet \"À faire - Par LVL HdV\"\n- Renommage de l'onglet \"À faire - Actuellement\" par \"À faire\"\n- Mise en forme conditionnelle sur l'onglet \"À faire\"","https://mega.co.nz/#!xctwgAIZ!663gdZ-Biv9KSEaKV2SdECCoa0kWx21XG-gXq1tjehw"]
["v1.10",41444,"COC - Cost & Time Calcultator v1.10.xlsx","- Displaying buildings by category on one tab\n- Summary graphic changes on \"TO DO - Current\" tab\n- Adding a graphic \"Required Resources\"","- Affichage des Bâtiments par catégorie sur un seul onglet\n- Changements graphiques sur le récapitulatif dans l'onglet \"À faire - Actuellement\"\n- Ajout d'un graphique \"Ressources Nécessaires\"","https://mega.co.nz/#!QENEQJzK!pbKRwx4oPyq7_DNVJ-OZnBppSwQzjP21oy7SAZJLUrg"]
["v1.01",41443,"COC - Cost & Time Calcultator v1.01.xlsx","- Updating Spells Costs/Time","- Mise à jour des Coûts/Temps des Sorts","https://mega.co.nz/#!5A0xAIJb!J1ZVglDXFx1-HOm3nn5Vz2AZHp8wDlaKIWyp9ggxEPM"]
["v1.00",41443,{"$f":"\"COC - Cost & Time Calcultator \" & A53 & \".xlsx\"","v":"COC - Cost & Time Calcultator v1.00.xlsx"},"- Initial version","- Version initiale","https://mega.co.nz/#!IV8WHBRR!GfWrl6n8JwA0P2EulsX4dnx1kVoi6mLCjnKto7DW7cE"]