{"text_format":"1","workbook":"xlsx","n_sheets":9,"sheets":["Menu","1","2","3","4","5","Feuil2","Paramètres","Reporting"],"not_rendered":{"charts":0,"images":0,"macros":1,"external_links":0,"defined_names":8,"comments":0,"pivot_tables":0},"unopened":[],"bounds":{"document_bytes":16777216,"sheet_cells":100000,"rows_first":2000,"rows_last":500,"rows_between":2000,"halvings":0,"cell_chars":16384,"cell_head_chars":4096},"cells_cut":0,"cells_raw":0,"read":"whole","date_system":"1900"}

{"sheet":"Menu","index":0,"n_rows":10,"n_cols":4,"rows_kept":10,"cut":false,"hidden":false,"merged":[]}
[]
[]
[]
[]
[]
[null,null,null,"Instructions :"]
[null,null,null,"1, Remplir les données"]
[null,null,null,"2. Cliquer sur le bouton ci-dessous"]
[null,null,null,"3. Sauvegarder"]
[null,null,null,"4. Publier"]

{"sheet":"1","index":1,"n_rows":15,"n_cols":6,"rows_kept":15,"cut":false,"hidden":false,"merged":[]}
["Joueur","1ere attaque","2eme attaque","étoiles données"]
[]
[]
[]
[]
[]
[]
[]
[]
[]
[]
[null,null,null,null,null,"Date"]
[null,null,null,null,null,"Nous"]
[null,null,null,null,null,"Eux"]
[null,null,null,null,null,"Resultat"]

{"sheet":"2","index":2,"n_rows":15,"n_cols":6,"rows_kept":15,"cut":false,"hidden":false,"merged":[]}
["Joueur","1ere attaque","2eme attaque","étoiles données"]
[]
[]
[]
[]
[]
[]
[]
[]
[]
[]
[null,null,null,null,null,"Date"]
[null,null,null,null,null,"Nous"]
[null,null,null,null,null,"Eux"]
[null,null,null,null,null,"Resultat"]

{"sheet":"3","index":3,"n_rows":15,"n_cols":6,"rows_kept":15,"cut":false,"hidden":false,"merged":[]}
["Joueur","1ere attaque","2eme attaque","étoiles données"]
[]
[]
[]
[]
[]
[]
[]
[]
[]
[]
[null,null,null,null,null,"Date"]
[null,null,null,null,null,"Nous"]
[null,null,null,null,null,"Eux"]
[null,null,null,null,null,"Resultat"]

{"sheet":"4","index":4,"n_rows":15,"n_cols":6,"rows_kept":15,"cut":false,"hidden":false,"merged":[]}
["Joueur","1ere attaque","2eme attaque","étoiles données"]
[]
[]
[]
[]
[]
[]
[]
[]
[]
[]
[null,null,null,null,null,"Date"]
[null,null,null,null,null,"Nous"]
[null,null,null,null,null,"Eux"]
[null,null,null,null,null,"Resultat"]

{"sheet":"5","index":5,"n_rows":15,"n_cols":6,"rows_kept":15,"cut":false,"hidden":false,"merged":[]}
["Joueur","1ere attaque","2eme attaque","étoiles données"]
[]
[]
[]
[]
[]
[]
[]
[]
[]
[]
[null,null,null,null,null,"Date"]
[null,null,null,null,null,"Nous"]
[null,null,null,null,null,"Eux"]
[null,null,null,null,null,"Resultat"]

{"sheet":"Feuil2","index":6,"n_rows":0,"n_cols":0,"rows_kept":0,"cut":false,"hidden":true,"merged":[]}

{"sheet":"Paramètres","index":7,"n_rows":250,"n_cols":16,"rows_kept":250,"cut":false,"hidden":false,"merged":[[0,1,0,3],[0,4,0,6],[0,7,0,9],[0,10,0,12],[0,13,0,15]]}
["Joueurs","1ère GDC",null,null,"2ème GDC",null,null,"3ème GDC",null,null,"4ème GDC",null,null,"5ème GDC"]
["judesforges",{"$f":"IF(ISBLANK(VLOOKUP(A2,reporting1,2,FALSE)),\"\",IF(ISNA(VLOOKUP(A2,reporting1,2,FALSE)),\"\",VLOOKUP(A2,reporting1,2,FALSE)))","v":""},{"$f":"IF(ISBLANK(VLOOKUP(A2,reporting1,3,FALSE)),\"\",IF(ISNA(VLOOKUP(A2,reporting1,3,FALSE)),\"\",VLOOKUP(A2,reporting1,3,FALSE)))","v":""},{"$f":"IF(ISBLANK(VLOOKUP(A2,reporting1,4,FALSE)),\"\",IF(ISNA(VLOOKUP(A2,reporting1,4,FALSE)),\"\",VLOOKUP(A2,reporting1,4,FALSE)))","v":""},{"$f":"IF(ISBLANK(VLOOKUP(A2,reporting2,2,FALSE)),\"\",IF(ISNA(VLOOKUP(A2,reporting2,2,FALSE)),\"\",VLOOKUP(A2,reporting2,2,FALSE)))","v":""},{"$f":"IF(ISBLANK(VLOOKUP(A2,reporting2,3,FALSE)),\"\",IF(ISNA(VLOOKUP(A2,reporting2,3,FALSE)),\"\",VLOOKUP(A2,reporting2,3,FALSE)))","v":""},{"$f":"IF(ISBLANK(VLOOKUP(A2,reporting2,4,FALSE)),\"\",IF(ISNA(VLOOKUP(A2,reporting2,4,FALSE)),\"\",VLOOKUP(A2,reporting2,4,FALSE)))","v":""},{"$f":"IF(ISBLANK(VLOOKUP(A2,reporting3,2,FALSE)),\"\",IF(ISNA(VLOOKUP(A2,reporting3,2,FALSE)),\"\",VLOOKUP(A2,reporting3,2,FALSE)))","v":""},{"$f":"IF(ISBLANK(VLOOKUP(A2,reporting3,3,FALSE)),\"\",IF(ISNA(VLOOKUP(A2,reporting3,3,FALSE)),\"\",VLOOKUP(A2,reporting3,3,FALSE)))","v":""},{"$f":"IF(ISBLANK(VLOOKUP(A2,reporting3,4,FALSE)),\"\",IF(ISNA(VLOOKUP(A2,reporting3,4,FALSE)),\"\",VLOOKUP(A2,reporting3,4,FALSE)))","v":""},{"$f":"IF(ISBLANK(VLOOKUP(A2,reporting4,2,FALSE)),\"\",IF(ISNA(VLOOKUP(A2,reporting4,2,FALSE)),\"\",VLOOKUP(A2,reporting4,2,FALSE)))","v":""},{"$f":"IF(ISBLANK(VLOOKUP(A2,reporting4,3,FALSE)),\"\",IF(ISNA(VLOOKUP(A2,reporting4,3,FALSE)),\"\",VLOOKUP(A2,reporting4,3,FALSE)))","v":""},{"$f":"IF(ISBLANK(VLOOKUP(A2,reporting4,4,FALSE)),\"\",IF(ISNA(VLOOKUP(A2,reporting4,4,FALSE)),\"\",VLOOKUP(A2,reporting4,4,FALSE)))","v":""},{"$f":"IF(ISBLANK(VLOOKUP(A2,reportin5,2,FALSE)),\"\",IF(ISNA(VLOOKUP(A2,reporting5,2,FALSE)),\"\",VLOOKUP(A2,reporting5,2,FALSE)))","v":""},{"$f":"IF(ISBLANK(VLOOKUP(A2,reporting5,3,FALSE)),\"\",IF(ISNA(VLOOKUP(A2,reporting5,3,FALSE)),\"\",VLOOKUP(A2,reporting5,3,FALSE)))","v":""},{"$f":"IF(ISBLANK(VLOOKUP(A2,reporting5,4,FALSE)),\"\",IF(ISNA(VLOOKUP(A2,reporting5,4,FALSE)),\"\",VLOOKUP(A2,reporting5,4,FALSE)))","v":""}]
["lilou47",{"$f":"IF(ISBLANK(VLOOKUP(A3,reporting1,2,FALSE)),\"\",IF(ISNA(VLOOKUP(A3,reporting1,2,FALSE)),\"\",VLOOKUP(A3,reporting1,2,FALSE)))","v":""},{"$f":"IF(ISBLANK(VLOOKUP(A3,reporting1,3,FALSE)),\"\",IF(ISNA(VLOOKUP(A3,reporting1,3,FALSE)),\"\",VLOOKUP(A3,reporting1,3,FALSE)))","v":""},{"$f":"IF(ISBLANK(VLOOKUP(A3,reporting1,4,FALSE)),\"\",IF(ISNA(VLOOKUP(A3,reporting1,4,FALSE)),\"\",VLOOKUP(A3,reporting1,4,FALSE)))","v":""},{"$f":"IF(ISBLANK(VLOOKUP(A3,reporting2,2,FALSE)),\"\",IF(ISNA(VLOOKUP(A3,reporting2,2,FALSE)),\"\",VLOOKUP(A3,reporting2,2,FALSE)))","v":""},{"$f":"IF(ISBLANK(VLOOKUP(A3,reporting2,3,FALSE)),\"\",IF(ISNA(VLOOKUP(A3,reporting2,3,FALSE)),\"\",VLOOKUP(A3,reporting2,3,FALSE)))","v":""},{"$f":"IF(ISBLANK(VLOOKUP(A3,reporting2,4,FALSE)),\"\",IF(ISNA(VLOOKUP(A3,reporting2,4,FALSE)),\"\",VLOOKUP(A3,reporting2,4,FALSE)))","v":""},{"$f":"IF(ISBLANK(VLOOKUP(A3,reporting3,2,FALSE)),\"\",IF(ISNA(VLOOKUP(A3,reporting3,2,FALSE)),\"\",VLOOKUP(A3,reporting3,2,FALSE)))","v":""},{"$f":"IF(ISBLANK(VLOOKUP(A3,reporting3,3,FALSE)),\"\",IF(ISNA(VLOOKUP(A3,reporting3,3,FALSE)),\"\",VLOOKUP(A3,reporting3,3,FALSE)))","v":""},{"$f":"IF(ISBLANK(VLOOKUP(A3,reporting3,4,FALSE)),\"\",IF(ISNA(VLOOKUP(A3,reporting3,4,FALSE)),\"\",VLOOKUP(A3,reporting3,4,FALSE)))","v":""},{"$f":"IF(ISBLANK(VLOOKUP(A3,reporting4,2,FALSE)),\"\",IF(ISNA(VLOOKUP(A3,reporting4,2,FALSE)),\"\",VLOOKUP(A3,reporting4,2,FALSE)))","v":""},{"$f":"IF(ISBLANK(VLOOKUP(A3,reporting4,3,FALSE)),\"\",IF(ISNA(VLOOKUP(A3,reporting4,3,FALSE)),\"\",VLOOKUP(A3,reporting4,3,FALSE)))","v":""},{"$f":"IF(ISBLANK(VLOOKUP(A3,reporting4,4,FALSE)),\"\",IF(ISNA(VLOOKUP(A3,reporting4,4,FALSE)),\"\",VLOOKUP(A3,reporting4,4,FALSE)))","v":""},{"$f":"IF(ISBLANK(VLOOKUP(A3,reportin5,2,FALSE)),\"\",IF(ISNA(VLOOKUP(A3,reporting5,2,FALSE)),\"\",VLOOKUP(A3,reporting5,2,FALSE)))","v":""},{"$f":"IF(ISBLANK(VLOOKUP(A3,reporting5,3,FALSE)),\"\",IF(ISNA(VLOOKUP(A3,reporting5,3,FALSE)),\"\",VLOOKUP(A3,reporting5,3,FALSE)))","v":""},{"$f":"IF(ISBLANK(VLOOKUP(A3,reporting5,4,FALSE)),\"\",IF(ISNA(VLOOKUP(A3,reporting5,4,FALSE)),\"\",VLOOKUP(A3,reporting5,4,FALSE)))","v":""}]
["firstsaint",{"$f":"IF(ISBLANK(VLOOKUP(A4,reporting1,2,FALSE)),\"\",IF(ISNA(VLOOKUP(A4,reporting1,2,FALSE)),\"\",VLOOKUP(A4,reporting1,2,FALSE)))","v":""},{"$f":"IF(ISBLANK(VLOOKUP(A4,reporting1,3,FALSE)),\"\",IF(ISNA(VLOOKUP(A4,reporting1,3,FALSE)),\"\",VLOOKUP(A4,reporting1,3,FALSE)))","v":""},{"$f":"IF(ISBLANK(VLOOKUP(A4,reporting1,4,FALSE)),\"\",IF(ISNA(VLOOKUP(A4,reporting1,4,FALSE)),\"\",VLOOKUP(A4,reporting1,4,FALSE)))","v":""},{"$f":"IF(ISBLANK(VLOOKUP(A4,reporting2,2,FALSE)),\"\",IF(ISNA(VLOOKUP(A4,reporting2,2,FALSE)),\"\",VLOOKUP(A4,reporting2,2,FALSE)))","v":""},{"$f":"IF(ISBLANK(VLOOKUP(A4,reporting2,3,FALSE)),\"\",IF(ISNA(VLOOKUP(A4,reporting2,3,FALSE)),\"\",VLOOKUP(A4,reporting2,3,FALSE)))","v":""},{"$f":"IF(ISBLANK(VLOOKUP(A4,reporting2,4,FALSE)),\"\",IF(ISNA(VLOOKUP(A4,reporting2,4,FALSE)),\"\",VLOOKUP(A4,reporting2,4,FALSE)))","v":""},{"$f":"IF(ISBLANK(VLOOKUP(A4,reporting3,2,FALSE)),\"\",IF(ISNA(VLOOKUP(A4,reporting3,2,FALSE)),\"\",VLOOKUP(A4,reporting3,2,FALSE)))","v":""},{"$f":"IF(ISBLANK(VLOOKUP(A4,reporting3,3,FALSE)),\"\",IF(ISNA(VLOOKUP(A4,reporting3,3,FALSE)),\"\",VLOOKUP(A4,reporting3,3,FALSE)))","v":""},{"$f":"IF(ISBLANK(VLOOKUP(A4,reporting3,4,FALSE)),\"\",IF(ISNA(VLOOKUP(A4,reporting3,4,FALSE)),\"\",VLOOKUP(A4,reporting3,4,FALSE)))","v":""},{"$f":"IF(ISBLANK(VLOOKUP(A4,reporting4,2,FALSE)),\"\",IF(ISNA(VLOOKUP(A4,reporting4,2,FALSE)),\"\",VLOOKUP(A4,reporting4,2,FALSE)))","v":""},{"$f":"IF(ISBLANK(VLOOKUP(A4,reporting4,3,FALSE)),\"\",IF(ISNA(VLOOKUP(A4,reporting4,3,FALSE)),\"\",VLOOKUP(A4,reporting4,3,FALSE)))","v":""},{"$f":"IF(ISBLANK(VLOOKUP(A4,reporting4,4,FALSE)),\"\",IF(ISNA(VLOOKUP(A4,reporting4,4,FALSE)),\"\",VLOOKUP(A4,reporting4,4,FALSE)))","v":""},{"$f":"IF(ISBLANK(VLOOKUP(A4,reportin5,2,FALSE)),\"\",IF(ISNA(VLOOKUP(A4,reporting5,2,FALSE)),\"\",VLOOKUP(A4,reporting5,2,FALSE)))","v":""},{"$f":"IF(ISBLANK(VLOOKUP(A4,reporting5,3,FALSE)),\"\",IF(ISNA(VLOOKUP(A4,reporting5,3,FALSE)),\"\",VLOOKUP(A4,reporting5,3,FALSE)))","v":""},{"$f":"IF(ISBLANK(VLOOKUP(A4,reporting5,4,FALSE)),\"\",IF(ISNA(VLOOKUP(A4,reporting5,4,FALSE)),\"\",VLOOKUP(A4,reporting5,4,FALSE)))","v":""}]
["sterz",{"$f":"IF(ISBLANK(VLOOKUP(A5,reporting1,2,FALSE)),\"\",IF(ISNA(VLOOKUP(A5,reporting1,2,FALSE)),\"\",VLOOKUP(A5,reporting1,2,FALSE)))","v":""},{"$f":"IF(ISBLANK(VLOOKUP(A5,reporting1,3,FALSE)),\"\",IF(ISNA(VLOOKUP(A5,reporting1,3,FALSE)),\"\",VLOOKUP(A5,reporting1,3,FALSE)))","v":""},{"$f":"IF(ISBLANK(VLOOKUP(A5,reporting1,4,FALSE)),\"\",IF(ISNA(VLOOKUP(A5,reporting1,4,FALSE)),\"\",VLOOKUP(A5,reporting1,4,FALSE)))","v":""},{"$f":"IF(ISBLANK(VLOOKUP(A5,reporting2,2,FALSE)),\"\",IF(ISNA(VLOOKUP(A5,reporting2,2,FALSE)),\"\",VLOOKUP(A5,reporting2,2,FALSE)))","v":""},{"$f":"IF(ISBLANK(VLOOKUP(A5,reporting2,3,FALSE)),\"\",IF(ISNA(VLOOKUP(A5,reporting2,3,FALSE)),\"\",VLOOKUP(A5,reporting2,3,FALSE)))","v":""},{"$f":"IF(ISBLANK(VLOOKUP(A5,reporting2,4,FALSE)),\"\",IF(ISNA(VLOOKUP(A5,reporting2,4,FALSE)),\"\",VLOOKUP(A5,reporting2,4,FALSE)))","v":""},{"$f":"IF(ISBLANK(VLOOKUP(A5,reporting3,2,FALSE)),\"\",IF(ISNA(VLOOKUP(A5,reporting3,2,FALSE)),\"\",VLOOKUP(A5,reporting3,2,FALSE)))","v":""},{"$f":"IF(ISBLANK(VLOOKUP(A5,reporting3,3,FALSE)),\"\",IF(ISNA(VLOOKUP(A5,reporting3,3,FALSE)),\"\",VLOOKUP(A5,reporting3,3,FALSE)))","v":""},{"$f":"IF(ISBLANK(VLOOKUP(A5,reporting3,4,FALSE)),\"\",IF(ISNA(VLOOKUP(A5,reporting3,4,FALSE)),\"\",VLOOKUP(A5,reporting3,4,FALSE)))","v":""},{"$f":"IF(ISBLANK(VLOOKUP(A5,reporting4,2,FALSE)),\"\",IF(ISNA(VLOOKUP(A5,reporting4,2,FALSE)),\"\",VLOOKUP(A5,reporting4,2,FALSE)))","v":""},{"$f":"IF(ISBLANK(VLOOKUP(A5,reporting4,3,FALSE)),\"\",IF(ISNA(VLOOKUP(A5,reporting4,3,FALSE)),\"\",VLOOKUP(A5,reporting4,3,FALSE)))","v":""},{"$f":"IF(ISBLANK(VLOOKUP(A5,reporting4,4,FALSE)),\"\",IF(ISNA(VLOOKUP(A5,reporting4,4,FALSE)),\"\",VLOOKUP(A5,reporting4,4,FALSE)))","v":""},{"$f":"IF(ISBLANK(VLOOKUP(A5,reportin5,2,FALSE)),\"\",IF(ISNA(VLOOKUP(A5,reporting5,2,FALSE)),\"\",VLOOKUP(A5,reporting5,2,FALSE)))","v":""},{"$f":"IF(ISBLANK(VLOOKUP(A5,reporting5,3,FALSE)),\"\",IF(ISNA(VLOOKUP(A5,reporting5,3,FALSE)),\"\",VLOOKUP(A5,reporting5,3,FALSE)))","v":""},{"$f":"IF(ISBLANK(VLOOKUP(A5,reporting5,4,FALSE)),\"\",IF(ISNA(VLOOKUP(A5,reporting5,4,FALSE)),\"\",VLOOKUP(A5,reporting5,4,FALSE)))","v":""}]
["nazor",{"$f":"IF(ISBLANK(VLOOKUP(A6,reporting1,2,FALSE)),\"\",IF(ISNA(VLOOKUP(A6,reporting1,2,FALSE)),\"\",VLOOKUP(A6,reporting1,2,FALSE)))","v":""},{"$f":"IF(ISBLANK(VLOOKUP(A6,reporting1,3,FALSE)),\"\",IF(ISNA(VLOOKUP(A6,reporting1,3,FALSE)),\"\",VLOOKUP(A6,reporting1,3,FALSE)))","v":""},{"$f":"IF(ISBLANK(VLOOKUP(A6,reporting1,4,FALSE)),\"\",IF(ISNA(VLOOKUP(A6,reporting1,4,FALSE)),\"\",VLOOKUP(A6,reporting1,4,FALSE)))","v":""},{"$f":"IF(ISBLANK(VLOOKUP(A6,reporting2,2,FALSE)),\"\",IF(ISNA(VLOOKUP(A6,reporting2,2,FALSE)),\"\",VLOOKUP(A6,reporting2,2,FALSE)))","v":""},{"$f":"IF(ISBLANK(VLOOKUP(A6,reporting2,3,FALSE)),\"\",IF(ISNA(VLOOKUP(A6,reporting2,3,FALSE)),\"\",VLOOKUP(A6,reporting2,3,FALSE)))","v":""},{"$f":"IF(ISBLANK(VLOOKUP(A6,reporting2,4,FALSE)),\"\",IF(ISNA(VLOOKUP(A6,reporting2,4,FALSE)),\"\",VLOOKUP(A6,reporting2,4,FALSE)))","v":""},{"$f":"IF(ISBLANK(VLOOKUP(A6,reporting3,2,FALSE)),\"\",IF(ISNA(VLOOKUP(A6,reporting3,2,FALSE)),\"\",VLOOKUP(A6,reporting3,2,FALSE)))","v":""},{"$f":"IF(ISBLANK(VLOOKUP(A6,reporting3,3,FALSE)),\"\",IF(ISNA(VLOOKUP(A6,reporting3,3,FALSE)),\"\",VLOOKUP(A6,reporting3,3,FALSE)))","v":""},{"$f":"IF(ISBLANK(VLOOKUP(A6,reporting3,4,FALSE)),\"\",IF(ISNA(VLOOKUP(A6,reporting3,4,FALSE)),\"\",VLOOKUP(A6,reporting3,4,FALSE)))","v":""},{"$f":"IF(ISBLANK(VLOOKUP(A6,reporting4,2,FALSE)),\"\",IF(ISNA(VLOOKUP(A6,reporting4,2,FALSE)),\"\",VLOOKUP(A6,reporting4,2,FALSE)))","v":""},{"$f":"IF(ISBLANK(VLOOKUP(A6,reporting4,3,FALSE)),\"\",IF(ISNA(VLOOKUP(A6,reporting4,3,FALSE)),\"\",VLOOKUP(A6,reporting4,3,FALSE)))","v":""},{"$f":"IF(ISBLANK(VLOOKUP(A6,reporting4,4,FALSE)),\"\",IF(ISNA(VLOOKUP(A6,reporting4,4,FALSE)),\"\",VLOOKUP(A6,reporting4,4,FALSE)))","v":""},{"$f":"IF(ISBLANK(VLOOKUP(A6,reportin5,2,FALSE)),\"\",IF(ISNA(VLOOKUP(A6,reporting5,2,FALSE)),\"\",VLOOKUP(A6,reporting5,2,FALSE)))","v":""},{"$f":"IF(ISBLANK(VLOOKUP(A6,reporting5,3,FALSE)),\"\",IF(ISNA(VLOOKUP(A6,reporting5,3,FALSE)),\"\",VLOOKUP(A6,reporting5,3,FALSE)))","v":""},{"$f":"IF(ISBLANK(VLOOKUP(A6,reporting5,4,FALSE)),\"\",IF(ISNA(VLOOKUP(A6,reporting5,4,FALSE)),\"\",VLOOKUP(A6,reporting5,4,FALSE)))","v":""}]
["jomoul",{"$f":"IF(ISBLANK(VLOOKUP(A7,reporting1,2,FALSE)),\"\",IF(ISNA(VLOOKUP(A7,reporting1,2,FALSE)),\"\",VLOOKUP(A7,reporting1,2,FALSE)))","v":""},{"$f":"IF(ISBLANK(VLOOKUP(A7,reporting1,3,FALSE)),\"\",IF(ISNA(VLOOKUP(A7,reporting1,3,FALSE)),\"\",VLOOKUP(A7,reporting1,3,FALSE)))","v":""},{"$f":"IF(ISBLANK(VLOOKUP(A7,reporting1,4,FALSE)),\"\",IF(ISNA(VLOOKUP(A7,reporting1,4,FALSE)),\"\",VLOOKUP(A7,reporting1,4,FALSE)))","v":""},{"$f":"IF(ISBLANK(VLOOKUP(A7,reporting2,2,FALSE)),\"\",IF(ISNA(VLOOKUP(A7,reporting2,2,FALSE)),\"\",VLOOKUP(A7,reporting2,2,FALSE)))","v":""},{"$f":"IF(ISBLANK(VLOOKUP(A7,reporting2,3,FALSE)),\"\",IF(ISNA(VLOOKUP(A7,reporting2,3,FALSE)),\"\",VLOOKUP(A7,reporting2,3,FALSE)))","v":""},{"$f":"IF(ISBLANK(VLOOKUP(A7,reporting2,4,FALSE)),\"\",IF(ISNA(VLOOKUP(A7,reporting2,4,FALSE)),\"\",VLOOKUP(A7,reporting2,4,FALSE)))","v":""},{"$f":"IF(ISBLANK(VLOOKUP(A7,reporting3,2,FALSE)),\"\",IF(ISNA(VLOOKUP(A7,reporting3,2,FALSE)),\"\",VLOOKUP(A7,reporting3,2,FALSE)))","v":""},{"$f":"IF(ISBLANK(VLOOKUP(A7,reporting3,3,FALSE)),\"\",IF(ISNA(VLOOKUP(A7,reporting3,3,FALSE)),\"\",VLOOKUP(A7,reporting3,3,FALSE)))","v":""},{"$f":"IF(ISBLANK(VLOOKUP(A7,reporting3,4,FALSE)),\"\",IF(ISNA(VLOOKUP(A7,reporting3,4,FALSE)),\"\",VLOOKUP(A7,reporting3,4,FALSE)))","v":""},{"$f":"IF(ISBLANK(VLOOKUP(A7,reporting4,2,FALSE)),\"\",IF(ISNA(VLOOKUP(A7,reporting4,2,FALSE)),\"\",VLOOKUP(A7,reporting4,2,FALSE)))","v":""},{"$f":"IF(ISBLANK(VLOOKUP(A7,reporting4,3,FALSE)),\"\",IF(ISNA(VLOOKUP(A7,reporting4,3,FALSE)),\"\",VLOOKUP(A7,reporting4,3,FALSE)))","v":""},{"$f":"IF(ISBLANK(VLOOKUP(A7,reporting4,4,FALSE)),\"\",IF(ISNA(VLOOKUP(A7,reporting4,4,FALSE)),\"\",VLOOKUP(A7,reporting4,4,FALSE)))","v":""},{"$f":"IF(ISBLANK(VLOOKUP(A7,reportin5,2,FALSE)),\"\",IF(ISNA(VLOOKUP(A7,reporting5,2,FALSE)),\"\",VLOOKUP(A7,reporting5,2,FALSE)))","v":""},{"$f":"IF(ISBLANK(VLOOKUP(A7,reporting5,3,FALSE)),\"\",IF(ISNA(VLOOKUP(A7,reporting5,3,FALSE)),\"\",VLOOKUP(A7,reporting5,3,FALSE)))","v":""},{"$f":"IF(ISBLANK(VLOOKUP(A7,reporting5,4,FALSE)),\"\",IF(ISNA(VLOOKUP(A7,reporting5,4,FALSE)),\"\",VLOOKUP(A7,reporting5,4,FALSE)))","v":""}]
["spoutnikx",{"$f":"IF(ISBLANK(VLOOKUP(A8,reporting1,2,FALSE)),\"\",IF(ISNA(VLOOKUP(A8,reporting1,2,FALSE)),\"\",VLOOKUP(A8,reporting1,2,FALSE)))","v":""},{"$f":"IF(ISBLANK(VLOOKUP(A8,reporting1,3,FALSE)),\"\",IF(ISNA(VLOOKUP(A8,reporting1,3,FALSE)),\"\",VLOOKUP(A8,reporting1,3,FALSE)))","v":""},{"$f":"IF(ISBLANK(VLOOKUP(A8,reporting1,4,FALSE)),\"\",IF(ISNA(VLOOKUP(A8,reporting1,4,FALSE)),\"\",VLOOKUP(A8,reporting1,4,FALSE)))","v":""},{"$f":"IF(ISBLANK(VLOOKUP(A8,reporting2,2,FALSE)),\"\",IF(ISNA(VLOOKUP(A8,reporting2,2,FALSE)),\"\",VLOOKUP(A8,reporting2,2,FALSE)))","v":""},{"$f":"IF(ISBLANK(VLOOKUP(A8,reporting2,3,FALSE)),\"\",IF(ISNA(VLOOKUP(A8,reporting2,3,FALSE)),\"\",VLOOKUP(A8,reporting2,3,FALSE)))","v":""},{"$f":"IF(ISBLANK(VLOOKUP(A8,reporting2,4,FALSE)),\"\",IF(ISNA(VLOOKUP(A8,reporting2,4,FALSE)),\"\",VLOOKUP(A8,reporting2,4,FALSE)))","v":""},{"$f":"IF(ISBLANK(VLOOKUP(A8,reporting3,2,FALSE)),\"\",IF(ISNA(VLOOKUP(A8,reporting3,2,FALSE)),\"\",VLOOKUP(A8,reporting3,2,FALSE)))","v":""},{"$f":"IF(ISBLANK(VLOOKUP(A8,reporting3,3,FALSE)),\"\",IF(ISNA(VLOOKUP(A8,reporting3,3,FALSE)),\"\",VLOOKUP(A8,reporting3,3,FALSE)))","v":""},{"$f":"IF(ISBLANK(VLOOKUP(A8,reporting3,4,FALSE)),\"\",IF(ISNA(VLOOKUP(A8,reporting3,4,FALSE)),\"\",VLOOKUP(A8,reporting3,4,FALSE)))","v":""},{"$f":"IF(ISBLANK(VLOOKUP(A8,reporting4,2,FALSE)),\"\",IF(ISNA(VLOOKUP(A8,reporting4,2,FALSE)),\"\",VLOOKUP(A8,reporting4,2,FALSE)))","v":""},{"$f":"IF(ISBLANK(VLOOKUP(A8,reporting4,3,FALSE)),\"\",IF(ISNA(VLOOKUP(A8,reporting4,3,FALSE)),\"\",VLOOKUP(A8,reporting4,3,FALSE)))","v":""},{"$f":"IF(ISBLANK(VLOOKUP(A8,reporting4,4,FALSE)),\"\",IF(ISNA(VLOOKUP(A8,reporting4,4,FALSE)),\"\",VLOOKUP(A8,reporting4,4,FALSE)))","v":""},{"$f":"IF(ISBLANK(VLOOKUP(A8,reportin5,2,FALSE)),\"\",IF(ISNA(VLOOKUP(A8,reporting5,2,FALSE)),\"\",VLOOKUP(A8,reporting5,2,FALSE)))","v":""},{"$f":"IF(ISBLANK(VLOOKUP(A8,reporting5,3,FALSE)),\"\",IF(ISNA(VLOOKUP(A8,reporting5,3,FALSE)),\"\",VLOOKUP(A8,reporting5,3,FALSE)))","v":""},{"$f":"IF(ISBLANK(VLOOKUP(A8,reporting5,4,FALSE)),\"\",IF(ISNA(VLOOKUP(A8,reporting5,4,FALSE)),\"\",VLOOKUP(A8,reporting5,4,FALSE)))","v":""}]
["guib's",{"$f":"IF(ISBLANK(VLOOKUP(A9,reporting1,2,FALSE)),\"\",IF(ISNA(VLOOKUP(A9,reporting1,2,FALSE)),\"\",VLOOKUP(A9,reporting1,2,FALSE)))","v":""},{"$f":"IF(ISBLANK(VLOOKUP(A9,reporting1,3,FALSE)),\"\",IF(ISNA(VLOOKUP(A9,reporting1,3,FALSE)),\"\",VLOOKUP(A9,reporting1,3,FALSE)))","v":""},{"$f":"IF(ISBLANK(VLOOKUP(A9,reporting1,4,FALSE)),\"\",IF(ISNA(VLOOKUP(A9,reporting1,4,FALSE)),\"\",VLOOKUP(A9,reporting1,4,FALSE)))","v":""},{"$f":"IF(ISBLANK(VLOOKUP(A9,reporting2,2,FALSE)),\"\",IF(ISNA(VLOOKUP(A9,reporting2,2,FALSE)),\"\",VLOOKUP(A9,reporting2,2,FALSE)))","v":""},{"$f":"IF(ISBLANK(VLOOKUP(A9,reporting2,3,FALSE)),\"\",IF(ISNA(VLOOKUP(A9,reporting2,3,FALSE)),\"\",VLOOKUP(A9,reporting2,3,FALSE)))","v":""},{"$f":"IF(ISBLANK(VLOOKUP(A9,reporting2,4,FALSE)),\"\",IF(ISNA(VLOOKUP(A9,reporting2,4,FALSE)),\"\",VLOOKUP(A9,reporting2,4,FALSE)))","v":""},{"$f":"IF(ISBLANK(VLOOKUP(A9,reporting3,2,FALSE)),\"\",IF(ISNA(VLOOKUP(A9,reporting3,2,FALSE)),\"\",VLOOKUP(A9,reporting3,2,FALSE)))","v":""},{"$f":"IF(ISBLANK(VLOOKUP(A9,reporting3,3,FALSE)),\"\",IF(ISNA(VLOOKUP(A9,reporting3,3,FALSE)),\"\",VLOOKUP(A9,reporting3,3,FALSE)))","v":""},{"$f":"IF(ISBLANK(VLOOKUP(A9,reporting3,4,FALSE)),\"\",IF(ISNA(VLOOKUP(A9,reporting3,4,FALSE)),\"\",VLOOKUP(A9,reporting3,4,FALSE)))","v":""},{"$f":"IF(ISBLANK(VLOOKUP(A9,reporting4,2,FALSE)),\"\",IF(ISNA(VLOOKUP(A9,reporting4,2,FALSE)),\"\",VLOOKUP(A9,reporting4,2,FALSE)))","v":""},{"$f":"IF(ISBLANK(VLOOKUP(A9,reporting4,3,FALSE)),\"\",IF(ISNA(VLOOKUP(A9,reporting4,3,FALSE)),\"\",VLOOKUP(A9,reporting4,3,FALSE)))","v":""},{"$f":"IF(ISBLANK(VLOOKUP(A9,reporting4,4,FALSE)),\"\",IF(ISNA(VLOOKUP(A9,reporting4,4,FALSE)),\"\",VLOOKUP(A9,reporting4,4,FALSE)))","v":""},{"$f":"IF(ISBLANK(VLOOKUP(A9,reportin5,2,FALSE)),\"\",IF(ISNA(VLOOKUP(A9,reporting5,2,FALSE)),\"\",VLOOKUP(A9,reporting5,2,FALSE)))","v":""},{"$f":"IF(ISBLANK(VLOOKUP(A9,reporting5,3,FALSE)),\"\",IF(ISNA(VLOOKUP(A9,reporting5,3,FALSE)),\"\",VLOOKUP(A9,reporting5,3,FALSE)))","v":""},{"$f":"IF(ISBLANK(VLOOKUP(A9,reporting5,4,FALSE)),\"\",IF(ISNA(VLOOKUP(A9,reporting5,4,FALSE)),\"\",VLOOKUP(A9,reporting5,4,FALSE)))","v":""}]
["teuto",{"$f":"IF(ISBLANK(VLOOKUP(A10,reporting1,2,FALSE)),\"\",IF(ISNA(VLOOKUP(A10,reporting1,2,FALSE)),\"\",VLOOKUP(A10,reporting1,2,FALSE)))","v":""},{"$f":"IF(ISBLANK(VLOOKUP(A10,reporting1,3,FALSE)),\"\",IF(ISNA(VLOOKUP(A10,reporting1,3,FALSE)),\"\",VLOOKUP(A10,reporting1,3,FALSE)))","v":""},{"$f":"IF(ISBLANK(VLOOKUP(A10,reporting1,4,FALSE)),\"\",IF(ISNA(VLOOKUP(A10,reporting1,4,FALSE)),\"\",VLOOKUP(A10,reporting1,4,FALSE)))","v":""},{"$f":"IF(ISBLANK(VLOOKUP(A10,reporting2,2,FALSE)),\"\",IF(ISNA(VLOOKUP(A10,reporting2,2,FALSE)),\"\",VLOOKUP(A10,reporting2,2,FALSE)))","v":""},{"$f":"IF(ISBLANK(VLOOKUP(A10,reporting2,3,FALSE)),\"\",IF(ISNA(VLOOKUP(A10,reporting2,3,FALSE)),\"\",VLOOKUP(A10,reporting2,3,FALSE)))","v":""},{"$f":"IF(ISBLANK(VLOOKUP(A10,reporting2,4,FALSE)),\"\",IF(ISNA(VLOOKUP(A10,reporting2,4,FALSE)),\"\",VLOOKUP(A10,reporting2,4,FALSE)))","v":""},{"$f":"IF(ISBLANK(VLOOKUP(A10,reporting3,2,FALSE)),\"\",IF(ISNA(VLOOKUP(A10,reporting3,2,FALSE)),\"\",VLOOKUP(A10,reporting3,2,FALSE)))","v":""},{"$f":"IF(ISBLANK(VLOOKUP(A10,reporting3,3,FALSE)),\"\",IF(ISNA(VLOOKUP(A10,reporting3,3,FALSE)),\"\",VLOOKUP(A10,reporting3,3,FALSE)))","v":""},{"$f":"IF(ISBLANK(VLOOKUP(A10,reporting3,4,FALSE)),\"\",IF(ISNA(VLOOKUP(A10,reporting3,4,FALSE)),\"\",VLOOKUP(A10,reporting3,4,FALSE)))","v":""},{"$f":"IF(ISBLANK(VLOOKUP(A10,reporting4,2,FALSE)),\"\",IF(ISNA(VLOOKUP(A10,reporting4,2,FALSE)),\"\",VLOOKUP(A10,reporting4,2,FALSE)))","v":""},{"$f":"IF(ISBLANK(VLOOKUP(A10,reporting4,3,FALSE)),\"\",IF(ISNA(VLOOKUP(A10,reporting4,3,FALSE)),\"\",VLOOKUP(A10,reporting4,3,FALSE)))","v":""},{"$f":"IF(ISBLANK(VLOOKUP(A10,reporting4,4,FALSE)),\"\",IF(ISNA(VLOOKUP(A10,reporting4,4,FALSE)),\"\",VLOOKUP(A10,reporting4,4,FALSE)))","v":""},{"$f":"IF(ISBLANK(VLOOKUP(A10,reportin5,2,FALSE)),\"\",IF(ISNA(VLOOKUP(A10,reporting5,2,FALSE)),\"\",VLOOKUP(A10,reporting5,2,FALSE)))","v":""},{"$f":"IF(ISBLANK(VLOOKUP(A10,reporting5,3,FALSE)),\"\",IF(ISNA(VLOOKUP(A10,reporting5,3,FALSE)),\"\",VLOOKUP(A10,reporting5,3,FALSE)))","v":""},{"$f":"IF(ISBLANK(VLOOKUP(A10,reporting5,4,FALSE)),\"\",IF(ISNA(VLOOKUP(A10,reporting5,4,FALSE)),\"\",VLOOKUP(A10,reporting5,4,FALSE)))","v":""}]
["aoncire",{"$f":"IF(ISBLANK(VLOOKUP(A11,reporting1,2,FALSE)),\"\",IF(ISNA(VLOOKUP(A11,reporting1,2,FALSE)),\"\",VLOOKUP(A11,reporting1,2,FALSE)))","v":""},{"$f":"IF(ISBLANK(VLOOKUP(A11,reporting1,3,FALSE)),\"\",IF(ISNA(VLOOKUP(A11,reporting1,3,FALSE)),\"\",VLOOKUP(A11,reporting1,3,FALSE)))","v":""},{"$f":"IF(ISBLANK(VLOOKUP(A11,reporting1,4,FALSE)),\"\",IF(ISNA(VLOOKUP(A11,reporting1,4,FALSE)),\"\",VLOOKUP(A11,reporting1,4,FALSE)))","v":""},{"$f":"IF(ISBLANK(VLOOKUP(A11,reporting2,2,FALSE)),\"\",IF(ISNA(VLOOKUP(A11,reporting2,2,FALSE)),\"\",VLOOKUP(A11,reporting2,2,FALSE)))","v":""},{"$f":"IF(ISBLANK(VLOOKUP(A11,reporting2,3,FALSE)),\"\",IF(ISNA(VLOOKUP(A11,reporting2,3,FALSE)),\"\",VLOOKUP(A11,reporting2,3,FALSE)))","v":""},{"$f":"IF(ISBLANK(VLOOKUP(A11,reporting2,4,FALSE)),\"\",IF(ISNA(VLOOKUP(A11,reporting2,4,FALSE)),\"\",VLOOKUP(A11,reporting2,4,FALSE)))","v":""},{"$f":"IF(ISBLANK(VLOOKUP(A11,reporting3,2,FALSE)),\"\",IF(ISNA(VLOOKUP(A11,reporting3,2,FALSE)),\"\",VLOOKUP(A11,reporting3,2,FALSE)))","v":""},{"$f":"IF(ISBLANK(VLOOKUP(A11,reporting3,3,FALSE)),\"\",IF(ISNA(VLOOKUP(A11,reporting3,3,FALSE)),\"\",VLOOKUP(A11,reporting3,3,FALSE)))","v":""},{"$f":"IF(ISBLANK(VLOOKUP(A11,reporting3,4,FALSE)),\"\",IF(ISNA(VLOOKUP(A11,reporting3,4,FALSE)),\"\",VLOOKUP(A11,reporting3,4,FALSE)))","v":""},{"$f":"IF(ISBLANK(VLOOKUP(A11,reporting4,2,FALSE)),\"\",IF(ISNA(VLOOKUP(A11,reporting4,2,FALSE)),\"\",VLOOKUP(A11,reporting4,2,FALSE)))","v":""},{"$f":"IF(ISBLANK(VLOOKUP(A11,reporting4,3,FALSE)),\"\",IF(ISNA(VLOOKUP(A11,reporting4,3,FALSE)),\"\",VLOOKUP(A11,reporting4,3,FALSE)))","v":""},{"$f":"IF(ISBLANK(VLOOKUP(A11,reporting4,4,FALSE)),\"\",IF(ISNA(VLOOKUP(A11,reporting4,4,FALSE)),\"\",VLOOKUP(A11,reporting4,4,FALSE)))","v":""},{"$f":"IF(ISBLANK(VLOOKUP(A11,reportin5,2,FALSE)),\"\",IF(ISNA(VLOOKUP(A11,reporting5,2,FALSE)),\"\",VLOOKUP(A11,reporting5,2,FALSE)))","v":""},{"$f":"IF(ISBLANK(VLOOKUP(A11,reporting5,3,FALSE)),\"\",IF(ISNA(VLOOKUP(A11,reporting5,3,FALSE)),\"\",VLOOKUP(A11,reporting5,3,FALSE)))","v":""},{"$f":"IF(ISBLANK(VLOOKUP(A11,reporting5,4,FALSE)),\"\",IF(ISNA(VLOOKUP(A11,reporting5,4,FALSE)),\"\",VLOOKUP(A11,reporting5,4,FALSE)))","v":""}]
["rem's",{"$f":"IF(ISBLANK(VLOOKUP(A12,reporting1,2,FALSE)),\"\",IF(ISNA(VLOOKUP(A12,reporting1,2,FALSE)),\"\",VLOOKUP(A12,reporting1,2,FALSE)))","v":""},{"$f":"IF(ISBLANK(VLOOKUP(A12,reporting1,3,FALSE)),\"\",IF(ISNA(VLOOKUP(A12,reporting1,3,FALSE)),\"\",VLOOKUP(A12,reporting1,3,FALSE)))","v":""},{"$f":"IF(ISBLANK(VLOOKUP(A12,reporting1,4,FALSE)),\"\",IF(ISNA(VLOOKUP(A12,reporting1,4,FALSE)),\"\",VLOOKUP(A12,reporting1,4,FALSE)))","v":""},{"$f":"IF(ISBLANK(VLOOKUP(A12,reporting2,2,FALSE)),\"\",IF(ISNA(VLOOKUP(A12,reporting2,2,FALSE)),\"\",VLOOKUP(A12,reporting2,2,FALSE)))","v":""},{"$f":"IF(ISBLANK(VLOOKUP(A12,reporting2,3,FALSE)),\"\",IF(ISNA(VLOOKUP(A12,reporting2,3,FALSE)),\"\",VLOOKUP(A12,reporting2,3,FALSE)))","v":""},{"$f":"IF(ISBLANK(VLOOKUP(A12,reporting2,4,FALSE)),\"\",IF(ISNA(VLOOKUP(A12,reporting2,4,FALSE)),\"\",VLOOKUP(A12,reporting2,4,FALSE)))","v":""},{"$f":"IF(ISBLANK(VLOOKUP(A12,reporting3,2,FALSE)),\"\",IF(ISNA(VLOOKUP(A12,reporting3,2,FALSE)),\"\",VLOOKUP(A12,reporting3,2,FALSE)))","v":""},{"$f":"IF(ISBLANK(VLOOKUP(A12,reporting3,3,FALSE)),\"\",IF(ISNA(VLOOKUP(A12,reporting3,3,FALSE)),\"\",VLOOKUP(A12,reporting3,3,FALSE)))","v":""},{"$f":"IF(ISBLANK(VLOOKUP(A12,reporting3,4,FALSE)),\"\",IF(ISNA(VLOOKUP(A12,reporting3,4,FALSE)),\"\",VLOOKUP(A12,reporting3,4,FALSE)))","v":""},{"$f":"IF(ISBLANK(VLOOKUP(A12,reporting4,2,FALSE)),\"\",IF(ISNA(VLOOKUP(A12,reporting4,2,FALSE)),\"\",VLOOKUP(A12,reporting4,2,FALSE)))","v":""},{"$f":"IF(ISBLANK(VLOOKUP(A12,reporting4,3,FALSE)),\"\",IF(ISNA(VLOOKUP(A12,reporting4,3,FALSE)),\"\",VLOOKUP(A12,reporting4,3,FALSE)))","v":""},{"$f":"IF(ISBLANK(VLOOKUP(A12,reporting4,4,FALSE)),\"\",IF(ISNA(VLOOKUP(A12,reporting4,4,FALSE)),\"\",VLOOKUP(A12,reporting4,4,FALSE)))","v":""},{"$f":"IF(ISBLANK(VLOOKUP(A12,reportin5,2,FALSE)),\"\",IF(ISNA(VLOOKUP(A12,reporting5,2,FALSE)),\"\",VLOOKUP(A12,reporting5,2,FALSE)))","v":""},{"$f":"IF(ISBLANK(VLOOKUP(A12,reporting5,3,FALSE)),\"\",IF(ISNA(VLOOKUP(A12,reporting5,3,FALSE)),\"\",VLOOKUP(A12,reporting5,3,FALSE)))","v":""},{"$f":"IF(ISBLANK(VLOOKUP(A12,reporting5,4,FALSE)),\"\",IF(ISNA(VLOOKUP(A12,reporting5,4,FALSE)),\"\",VLOOKUP(A12,reporting5,4,FALSE)))","v":""}]
["konoha gakuren",{"$f":"IF(ISBLANK(VLOOKUP(A13,reporting1,2,FALSE)),\"\",IF(ISNA(VLOOKUP(A13,reporting1,2,FALSE)),\"\",VLOOKUP(A13,reporting1,2,FALSE)))","v":""},{"$f":"IF(ISBLANK(VLOOKUP(A13,reporting1,3,FALSE)),\"\",IF(ISNA(VLOOKUP(A13,reporting1,3,FALSE)),\"\",VLOOKUP(A13,reporting1,3,FALSE)))","v":""},{"$f":"IF(ISBLANK(VLOOKUP(A13,reporting1,4,FALSE)),\"\",IF(ISNA(VLOOKUP(A13,reporting1,4,FALSE)),\"\",VLOOKUP(A13,reporting1,4,FALSE)))","v":""},{"$f":"IF(ISBLANK(VLOOKUP(A13,reporting2,2,FALSE)),\"\",IF(ISNA(VLOOKUP(A13,reporting2,2,FALSE)),\"\",VLOOKUP(A13,reporting2,2,FALSE)))","v":""},{"$f":"IF(ISBLANK(VLOOKUP(A13,reporting2,3,FALSE)),\"\",IF(ISNA(VLOOKUP(A13,reporting2,3,FALSE)),\"\",VLOOKUP(A13,reporting2,3,FALSE)))","v":""},{"$f":"IF(ISBLANK(VLOOKUP(A13,reporting2,4,FALSE)),\"\",IF(ISNA(VLOOKUP(A13,reporting2,4,FALSE)),\"\",VLOOKUP(A13,reporting2,4,FALSE)))","v":""},{"$f":"IF(ISBLANK(VLOOKUP(A13,reporting3,2,FALSE)),\"\",IF(ISNA(VLOOKUP(A13,reporting3,2,FALSE)),\"\",VLOOKUP(A13,reporting3,2,FALSE)))","v":""},{"$f":"IF(ISBLANK(VLOOKUP(A13,reporting3,3,FALSE)),\"\",IF(ISNA(VLOOKUP(A13,reporting3,3,FALSE)),\"\",VLOOKUP(A13,reporting3,3,FALSE)))","v":""},{"$f":"IF(ISBLANK(VLOOKUP(A13,reporting3,4,FALSE)),\"\",IF(ISNA(VLOOKUP(A13,reporting3,4,FALSE)),\"\",VLOOKUP(A13,reporting3,4,FALSE)))","v":""},{"$f":"IF(ISBLANK(VLOOKUP(A13,reporting4,2,FALSE)),\"\",IF(ISNA(VLOOKUP(A13,reporting4,2,FALSE)),\"\",VLOOKUP(A13,reporting4,2,FALSE)))","v":""},{"$f":"IF(ISBLANK(VLOOKUP(A13,reporting4,3,FALSE)),\"\",IF(ISNA(VLOOKUP(A13,reporting4,3,FALSE)),\"\",VLOOKUP(A13,reporting4,3,FALSE)))","v":""},{"$f":"IF(ISBLANK(VLOOKUP(A13,reporting4,4,FALSE)),\"\",IF(ISNA(VLOOKUP(A13,reporting4,4,FALSE)),\"\",VLOOKUP(A13,reporting4,4,FALSE)))","v":""},{"$f":"IF(ISBLANK(VLOOKUP(A13,reportin5,2,FALSE)),\"\",IF(ISNA(VLOOKUP(A13,reporting5,2,FALSE)),\"\",VLOOKUP(A13,reporting5,2,FALSE)))","v":""},{"$f":"IF(ISBLANK(VLOOKUP(A13,reporting5,3,FALSE)),\"\",IF(ISNA(VLOOKUP(A13,reporting5,3,FALSE)),\"\",VLOOKUP(A13,reporting5,3,FALSE)))","v":""},{"$f":"IF(ISBLANK(VLOOKUP(A13,reporting5,4,FALSE)),\"\",IF(ISNA(VLOOKUP(A13,reporting5,4,FALSE)),\"\",VLOOKUP(A13,reporting5,4,FALSE)))","v":""}]
["ben44",{"$f":"IF(ISBLANK(VLOOKUP(A14,reporting1,2,FALSE)),\"\",IF(ISNA(VLOOKUP(A14,reporting1,2,FALSE)),\"\",VLOOKUP(A14,reporting1,2,FALSE)))","v":""},{"$f":"IF(ISBLANK(VLOOKUP(A14,reporting1,3,FALSE)),\"\",IF(ISNA(VLOOKUP(A14,reporting1,3,FALSE)),\"\",VLOOKUP(A14,reporting1,3,FALSE)))","v":""},{"$f":"IF(ISBLANK(VLOOKUP(A14,reporting1,4,FALSE)),\"\",IF(ISNA(VLOOKUP(A14,reporting1,4,FALSE)),\"\",VLOOKUP(A14,reporting1,4,FALSE)))","v":""},{"$f":"IF(ISBLANK(VLOOKUP(A14,reporting2,2,FALSE)),\"\",IF(ISNA(VLOOKUP(A14,reporting2,2,FALSE)),\"\",VLOOKUP(A14,reporting2,2,FALSE)))","v":""},{"$f":"IF(ISBLANK(VLOOKUP(A14,reporting2,3,FALSE)),\"\",IF(ISNA(VLOOKUP(A14,reporting2,3,FALSE)),\"\",VLOOKUP(A14,reporting2,3,FALSE)))","v":""},{"$f":"IF(ISBLANK(VLOOKUP(A14,reporting2,4,FALSE)),\"\",IF(ISNA(VLOOKUP(A14,reporting2,4,FALSE)),\"\",VLOOKUP(A14,reporting2,4,FALSE)))","v":""},{"$f":"IF(ISBLANK(VLOOKUP(A14,reporting3,2,FALSE)),\"\",IF(ISNA(VLOOKUP(A14,reporting3,2,FALSE)),\"\",VLOOKUP(A14,reporting3,2,FALSE)))","v":""},{"$f":"IF(ISBLANK(VLOOKUP(A14,reporting3,3,FALSE)),\"\",IF(ISNA(VLOOKUP(A14,reporting3,3,FALSE)),\"\",VLOOKUP(A14,reporting3,3,FALSE)))","v":""},{"$f":"IF(ISBLANK(VLOOKUP(A14,reporting3,4,FALSE)),\"\",IF(ISNA(VLOOKUP(A14,reporting3,4,FALSE)),\"\",VLOOKUP(A14,reporting3,4,FALSE)))","v":""},{"$f":"IF(ISBLANK(VLOOKUP(A14,reporting4,2,FALSE)),\"\",IF(ISNA(VLOOKUP(A14,reporting4,2,FALSE)),\"\",VLOOKUP(A14,reporting4,2,FALSE)))","v":""},{"$f":"IF(ISBLANK(VLOOKUP(A14,reporting4,3,FALSE)),\"\",IF(ISNA(VLOOKUP(A14,reporting4,3,FALSE)),\"\",VLOOKUP(A14,reporting4,3,FALSE)))","v":""},{"$f":"IF(ISBLANK(VLOOKUP(A14,reporting4,4,FALSE)),\"\",IF(ISNA(VLOOKUP(A14,reporting4,4,FALSE)),\"\",VLOOKUP(A14,reporting4,4,FALSE)))","v":""},{"$f":"IF(ISBLANK(VLOOKUP(A14,reportin5,2,FALSE)),\"\",IF(ISNA(VLOOKUP(A14,reporting5,2,FALSE)),\"\",VLOOKUP(A14,reporting5,2,FALSE)))","v":""},{"$f":"IF(ISBLANK(VLOOKUP(A14,reporting5,3,FALSE)),\"\",IF(ISNA(VLOOKUP(A14,reporting5,3,FALSE)),\"\",VLOOKUP(A14,reporting5,3,FALSE)))","v":""},{"$f":"IF(ISBLANK(VLOOKUP(A14,reporting5,4,FALSE)),\"\",IF(ISNA(VLOOKUP(A14,reporting5,4,FALSE)),\"\",VLOOKUP(A14,reporting5,4,FALSE)))","v":""}]
["duke",{"$f":"IF(ISBLANK(VLOOKUP(A15,reporting1,2,FALSE)),\"\",IF(ISNA(VLOOKUP(A15,reporting1,2,FALSE)),\"\",VLOOKUP(A15,reporting1,2,FALSE)))","v":""},{"$f":"IF(ISBLANK(VLOOKUP(A15,reporting1,3,FALSE)),\"\",IF(ISNA(VLOOKUP(A15,reporting1,3,FALSE)),\"\",VLOOKUP(A15,reporting1,3,FALSE)))","v":""},{"$f":"IF(ISBLANK(VLOOKUP(A15,reporting1,4,FALSE)),\"\",IF(ISNA(VLOOKUP(A15,reporting1,4,FALSE)),\"\",VLOOKUP(A15,reporting1,4,FALSE)))","v":""},{"$f":"IF(ISBLANK(VLOOKUP(A15,reporting2,2,FALSE)),\"\",IF(ISNA(VLOOKUP(A15,reporting2,2,FALSE)),\"\",VLOOKUP(A15,reporting2,2,FALSE)))","v":""},{"$f":"IF(ISBLANK(VLOOKUP(A15,reporting2,3,FALSE)),\"\",IF(ISNA(VLOOKUP(A15,reporting2,3,FALSE)),\"\",VLOOKUP(A15,reporting2,3,FALSE)))","v":""},{"$f":"IF(ISBLANK(VLOOKUP(A15,reporting2,4,FALSE)),\"\",IF(ISNA(VLOOKUP(A15,reporting2,4,FALSE)),\"\",VLOOKUP(A15,reporting2,4,FALSE)))","v":""},{"$f":"IF(ISBLANK(VLOOKUP(A15,reporting3,2,FALSE)),\"\",IF(ISNA(VLOOKUP(A15,reporting3,2,FALSE)),\"\",VLOOKUP(A15,reporting3,2,FALSE)))","v":""},{"$f":"IF(ISBLANK(VLOOKUP(A15,reporting3,3,FALSE)),\"\",IF(ISNA(VLOOKUP(A15,reporting3,3,FALSE)),\"\",VLOOKUP(A15,reporting3,3,FALSE)))","v":""},{"$f":"IF(ISBLANK(VLOOKUP(A15,reporting3,4,FALSE)),\"\",IF(ISNA(VLOOKUP(A15,reporting3,4,FALSE)),\"\",VLOOKUP(A15,reporting3,4,FALSE)))","v":""},{"$f":"IF(ISBLANK(VLOOKUP(A15,reporting4,2,FALSE)),\"\",IF(ISNA(VLOOKUP(A15,reporting4,2,FALSE)),\"\",VLOOKUP(A15,reporting4,2,FALSE)))","v":""},{"$f":"IF(ISBLANK(VLOOKUP(A15,reporting4,3,FALSE)),\"\",IF(ISNA(VLOOKUP(A15,reporting4,3,FALSE)),\"\",VLOOKUP(A15,reporting4,3,FALSE)))","v":""},{"$f":"IF(ISBLANK(VLOOKUP(A15,reporting4,4,FALSE)),\"\",IF(ISNA(VLOOKUP(A15,reporting4,4,FALSE)),\"\",VLOOKUP(A15,reporting4,4,FALSE)))","v":""},{"$f":"IF(ISBLANK(VLOOKUP(A15,reportin5,2,FALSE)),\"\",IF(ISNA(VLOOKUP(A15,reporting5,2,FALSE)),\"\",VLOOKUP(A15,reporting5,2,FALSE)))","v":""},{"$f":"IF(ISBLANK(VLOOKUP(A15,reporting5,3,FALSE)),\"\",IF(ISNA(VLOOKUP(A15,reporting5,3,FALSE)),\"\",VLOOKUP(A15,reporting5,3,FALSE)))","v":""},{"$f":"IF(ISBLANK(VLOOKUP(A15,reporting5,4,FALSE)),\"\",IF(ISNA(VLOOKUP(A15,reporting5,4,FALSE)),\"\",VLOOKUP(A15,reporting5,4,FALSE)))","v":""}]
["adrienvvn",{"$f":"IF(ISBLANK(VLOOKUP(A16,reporting1,2,FALSE)),\"\",IF(ISNA(VLOOKUP(A16,reporting1,2,FALSE)),\"\",VLOOKUP(A16,reporting1,2,FALSE)))","v":""},{"$f":"IF(ISBLANK(VLOOKUP(A16,reporting1,3,FALSE)),\"\",IF(ISNA(VLOOKUP(A16,reporting1,3,FALSE)),\"\",VLOOKUP(A16,reporting1,3,FALSE)))","v":""},{"$f":"IF(ISBLANK(VLOOKUP(A16,reporting1,4,FALSE)),\"\",IF(ISNA(VLOOKUP(A16,reporting1,4,FALSE)),\"\",VLOOKUP(A16,reporting1,4,FALSE)))","v":""},{"$f":"IF(ISBLANK(VLOOKUP(A16,reporting2,2,FALSE)),\"\",IF(ISNA(VLOOKUP(A16,reporting2,2,FALSE)),\"\",VLOOKUP(A16,reporting2,2,FALSE)))","v":""},{"$f":"IF(ISBLANK(VLOOKUP(A16,reporting2,3,FALSE)),\"\",IF(ISNA(VLOOKUP(A16,reporting2,3,FALSE)),\"\",VLOOKUP(A16,reporting2,3,FALSE)))","v":""},{"$f":"IF(ISBLANK(VLOOKUP(A16,reporting2,4,FALSE)),\"\",IF(ISNA(VLOOKUP(A16,reporting2,4,FALSE)),\"\",VLOOKUP(A16,reporting2,4,FALSE)))","v":""},{"$f":"IF(ISBLANK(VLOOKUP(A16,reporting3,2,FALSE)),\"\",IF(ISNA(VLOOKUP(A16,reporting3,2,FALSE)),\"\",VLOOKUP(A16,reporting3,2,FALSE)))","v":""},{"$f":"IF(ISBLANK(VLOOKUP(A16,reporting3,3,FALSE)),\"\",IF(ISNA(VLOOKUP(A16,reporting3,3,FALSE)),\"\",VLOOKUP(A16,reporting3,3,FALSE)))","v":""},{"$f":"IF(ISBLANK(VLOOKUP(A16,reporting3,4,FALSE)),\"\",IF(ISNA(VLOOKUP(A16,reporting3,4,FALSE)),\"\",VLOOKUP(A16,reporting3,4,FALSE)))","v":""},{"$f":"IF(ISBLANK(VLOOKUP(A16,reporting4,2,FALSE)),\"\",IF(ISNA(VLOOKUP(A16,reporting4,2,FALSE)),\"\",VLOOKUP(A16,reporting4,2,FALSE)))","v":""},{"$f":"IF(ISBLANK(VLOOKUP(A16,reporting4,3,FALSE)),\"\",IF(ISNA(VLOOKUP(A16,reporting4,3,FALSE)),\"\",VLOOKUP(A16,reporting4,3,FALSE)))","v":""},{"$f":"IF(ISBLANK(VLOOKUP(A16,reporting4,4,FALSE)),\"\",IF(ISNA(VLOOKUP(A16,reporting4,4,FALSE)),\"\",VLOOKUP(A16,reporting4,4,FALSE)))","v":""},{"$f":"IF(ISBLANK(VLOOKUP(A16,reportin5,2,FALSE)),\"\",IF(ISNA(VLOOKUP(A16,reporting5,2,FALSE)),\"\",VLOOKUP(A16,reporting5,2,FALSE)))","v":""},{"$f":"IF(ISBLANK(VLOOKUP(A16,reporting5,3,FALSE)),\"\",IF(ISNA(VLOOKUP(A16,reporting5,3,FALSE)),\"\",VLOOKUP(A16,reporting5,3,FALSE)))","v":""},{"$f":"IF(ISBLANK(VLOOKUP(A16,reporting5,4,FALSE)),\"\",IF(ISNA(VLOOKUP(A16,reporting5,4,FALSE)),\"\",VLOOKUP(A16,reporting5,4,FALSE)))","v":""}]
["pixx",{"$f":"IF(ISBLANK(VLOOKUP(A17,reporting1,2,FALSE)),\"\",IF(ISNA(VLOOKUP(A17,reporting1,2,FALSE)),\"\",VLOOKUP(A17,reporting1,2,FALSE)))","v":""},{"$f":"IF(ISBLANK(VLOOKUP(A17,reporting1,3,FALSE)),\"\",IF(ISNA(VLOOKUP(A17,reporting1,3,FALSE)),\"\",VLOOKUP(A17,reporting1,3,FALSE)))","v":""},{"$f":"IF(ISBLANK(VLOOKUP(A17,reporting1,4,FALSE)),\"\",IF(ISNA(VLOOKUP(A17,reporting1,4,FALSE)),\"\",VLOOKUP(A17,reporting1,4,FALSE)))","v":""},{"$f":"IF(ISBLANK(VLOOKUP(A17,reporting2,2,FALSE)),\"\",IF(ISNA(VLOOKUP(A17,reporting2,2,FALSE)),\"\",VLOOKUP(A17,reporting2,2,FALSE)))","v":""},{"$f":"IF(ISBLANK(VLOOKUP(A17,reporting2,3,FALSE)),\"\",IF(ISNA(VLOOKUP(A17,reporting2,3,FALSE)),\"\",VLOOKUP(A17,reporting2,3,FALSE)))","v":""},{"$f":"IF(ISBLANK(VLOOKUP(A17,reporting2,4,FALSE)),\"\",IF(ISNA(VLOOKUP(A17,reporting2,4,FALSE)),\"\",VLOOKUP(A17,reporting2,4,FALSE)))","v":""},{"$f":"IF(ISBLANK(VLOOKUP(A17,reporting3,2,FALSE)),\"\",IF(ISNA(VLOOKUP(A17,reporting3,2,FALSE)),\"\",VLOOKUP(A17,reporting3,2,FALSE)))","v":""},{"$f":"IF(ISBLANK(VLOOKUP(A17,reporting3,3,FALSE)),\"\",IF(ISNA(VLOOKUP(A17,reporting3,3,FALSE)),\"\",VLOOKUP(A17,reporting3,3,FALSE)))","v":""},{"$f":"IF(ISBLANK(VLOOKUP(A17,reporting3,4,FALSE)),\"\",IF(ISNA(VLOOKUP(A17,reporting3,4,FALSE)),\"\",VLOOKUP(A17,reporting3,4,FALSE)))","v":""},{"$f":"IF(ISBLANK(VLOOKUP(A17,reporting4,2,FALSE)),\"\",IF(ISNA(VLOOKUP(A17,reporting4,2,FALSE)),\"\",VLOOKUP(A17,reporting4,2,FALSE)))","v":""},{"$f":"IF(ISBLANK(VLOOKUP(A17,reporting4,3,FALSE)),\"\",IF(ISNA(VLOOKUP(A17,reporting4,3,FALSE)),\"\",VLOOKUP(A17,reporting4,3,FALSE)))","v":""},{"$f":"IF(ISBLANK(VLOOKUP(A17,reporting4,4,FALSE)),\"\",IF(ISNA(VLOOKUP(A17,reporting4,4,FALSE)),\"\",VLOOKUP(A17,reporting4,4,FALSE)))","v":""},{"$f":"IF(ISBLANK(VLOOKUP(A17,reportin5,2,FALSE)),\"\",IF(ISNA(VLOOKUP(A17,reporting5,2,FALSE)),\"\",VLOOKUP(A17,reporting5,2,FALSE)))","v":""},{"$f":"IF(ISBLANK(VLOOKUP(A17,reporting5,3,FALSE)),\"\",IF(ISNA(VLOOKUP(A17,reporting5,3,FALSE)),\"\",VLOOKUP(A17,reporting5,3,FALSE)))","v":""},{"$f":"IF(ISBLANK(VLOOKUP(A17,reporting5,4,FALSE)),\"\",IF(ISNA(VLOOKUP(A17,reporting5,4,FALSE)),\"\",VLOOKUP(A17,reporting5,4,FALSE)))","v":""}]
["jj",{"$f":"IF(ISBLANK(VLOOKUP(A18,reporting1,2,FALSE)),\"\",IF(ISNA(VLOOKUP(A18,reporting1,2,FALSE)),\"\",VLOOKUP(A18,reporting1,2,FALSE)))","v":""},{"$f":"IF(ISBLANK(VLOOKUP(A18,reporting1,3,FALSE)),\"\",IF(ISNA(VLOOKUP(A18,reporting1,3,FALSE)),\"\",VLOOKUP(A18,reporting1,3,FALSE)))","v":""},{"$f":"IF(ISBLANK(VLOOKUP(A18,reporting1,4,FALSE)),\"\",IF(ISNA(VLOOKUP(A18,reporting1,4,FALSE)),\"\",VLOOKUP(A18,reporting1,4,FALSE)))","v":""},{"$f":"IF(ISBLANK(VLOOKUP(A18,reporting2,2,FALSE)),\"\",IF(ISNA(VLOOKUP(A18,reporting2,2,FALSE)),\"\",VLOOKUP(A18,reporting2,2,FALSE)))","v":""},{"$f":"IF(ISBLANK(VLOOKUP(A18,reporting2,3,FALSE)),\"\",IF(ISNA(VLOOKUP(A18,reporting2,3,FALSE)),\"\",VLOOKUP(A18,reporting2,3,FALSE)))","v":""},{"$f":"IF(ISBLANK(VLOOKUP(A18,reporting2,4,FALSE)),\"\",IF(ISNA(VLOOKUP(A18,reporting2,4,FALSE)),\"\",VLOOKUP(A18,reporting2,4,FALSE)))","v":""},{"$f":"IF(ISBLANK(VLOOKUP(A18,reporting3,2,FALSE)),\"\",IF(ISNA(VLOOKUP(A18,reporting3,2,FALSE)),\"\",VLOOKUP(A18,reporting3,2,FALSE)))","v":""},{"$f":"IF(ISBLANK(VLOOKUP(A18,reporting3,3,FALSE)),\"\",IF(ISNA(VLOOKUP(A18,reporting3,3,FALSE)),\"\",VLOOKUP(A18,reporting3,3,FALSE)))","v":""},{"$f":"IF(ISBLANK(VLOOKUP(A18,reporting3,4,FALSE)),\"\",IF(ISNA(VLOOKUP(A18,reporting3,4,FALSE)),\"\",VLOOKUP(A18,reporting3,4,FALSE)))","v":""},{"$f":"IF(ISBLANK(VLOOKUP(A18,reporting4,2,FALSE)),\"\",IF(ISNA(VLOOKUP(A18,reporting4,2,FALSE)),\"\",VLOOKUP(A18,reporting4,2,FALSE)))","v":""},{"$f":"IF(ISBLANK(VLOOKUP(A18,reporting4,3,FALSE)),\"\",IF(ISNA(VLOOKUP(A18,reporting4,3,FALSE)),\"\",VLOOKUP(A18,reporting4,3,FALSE)))","v":""},{"$f":"IF(ISBLANK(VLOOKUP(A18,reporting4,4,FALSE)),\"\",IF(ISNA(VLOOKUP(A18,reporting4,4,FALSE)),\"\",VLOOKUP(A18,reporting4,4,FALSE)))","v":""},{"$f":"IF(ISBLANK(VLOOKUP(A18,reportin5,2,FALSE)),\"\",IF(ISNA(VLOOKUP(A18,reporting5,2,FALSE)),\"\",VLOOKUP(A18,reporting5,2,FALSE)))","v":""},{"$f":"IF(ISBLANK(VLOOKUP(A18,reporting5,3,FALSE)),\"\",IF(ISNA(VLOOKUP(A18,reporting5,3,FALSE)),\"\",VLOOKUP(A18,reporting5,3,FALSE)))","v":""},{"$f":"IF(ISBLANK(VLOOKUP(A18,reporting5,4,FALSE)),\"\",IF(ISNA(VLOOKUP(A18,reporting5,4,FALSE)),\"\",VLOOKUP(A18,reporting5,4,FALSE)))","v":""}]
["nicostratos",{"$f":"IF(ISBLANK(VLOOKUP(A19,reporting1,2,FALSE)),\"\",IF(ISNA(VLOOKUP(A19,reporting1,2,FALSE)),\"\",VLOOKUP(A19,reporting1,2,FALSE)))","v":""},{"$f":"IF(ISBLANK(VLOOKUP(A19,reporting1,3,FALSE)),\"\",IF(ISNA(VLOOKUP(A19,reporting1,3,FALSE)),\"\",VLOOKUP(A19,reporting1,3,FALSE)))","v":""},{"$f":"IF(ISBLANK(VLOOKUP(A19,reporting1,4,FALSE)),\"\",IF(ISNA(VLOOKUP(A19,reporting1,4,FALSE)),\"\",VLOOKUP(A19,reporting1,4,FALSE)))","v":""},{"$f":"IF(ISBLANK(VLOOKUP(A19,reporting2,2,FALSE)),\"\",IF(ISNA(VLOOKUP(A19,reporting2,2,FALSE)),\"\",VLOOKUP(A19,reporting2,2,FALSE)))","v":""},{"$f":"IF(ISBLANK(VLOOKUP(A19,reporting2,3,FALSE)),\"\",IF(ISNA(VLOOKUP(A19,reporting2,3,FALSE)),\"\",VLOOKUP(A19,reporting2,3,FALSE)))","v":""},{"$f":"IF(ISBLANK(VLOOKUP(A19,reporting2,4,FALSE)),\"\",IF(ISNA(VLOOKUP(A19,reporting2,4,FALSE)),\"\",VLOOKUP(A19,reporting2,4,FALSE)))","v":""},{"$f":"IF(ISBLANK(VLOOKUP(A19,reporting3,2,FALSE)),\"\",IF(ISNA(VLOOKUP(A19,reporting3,2,FALSE)),\"\",VLOOKUP(A19,reporting3,2,FALSE)))","v":""},{"$f":"IF(ISBLANK(VLOOKUP(A19,reporting3,3,FALSE)),\"\",IF(ISNA(VLOOKUP(A19,reporting3,3,FALSE)),\"\",VLOOKUP(A19,reporting3,3,FALSE)))","v":""},{"$f":"IF(ISBLANK(VLOOKUP(A19,reporting3,4,FALSE)),\"\",IF(ISNA(VLOOKUP(A19,reporting3,4,FALSE)),\"\",VLOOKUP(A19,reporting3,4,FALSE)))","v":""},{"$f":"IF(ISBLANK(VLOOKUP(A19,reporting4,2,FALSE)),\"\",IF(ISNA(VLOOKUP(A19,reporting4,2,FALSE)),\"\",VLOOKUP(A19,reporting4,2,FALSE)))","v":""},{"$f":"IF(ISBLANK(VLOOKUP(A19,reporting4,3,FALSE)),\"\",IF(ISNA(VLOOKUP(A19,reporting4,3,FALSE)),\"\",VLOOKUP(A19,reporting4,3,FALSE)))","v":""},{"$f":"IF(ISBLANK(VLOOKUP(A19,reporting4,4,FALSE)),\"\",IF(ISNA(VLOOKUP(A19,reporting4,4,FALSE)),\"\",VLOOKUP(A19,reporting4,4,FALSE)))","v":""},{"$f":"IF(ISBLANK(VLOOKUP(A19,reportin5,2,FALSE)),\"\",IF(ISNA(VLOOKUP(A19,reporting5,2,FALSE)),\"\",VLOOKUP(A19,reporting5,2,FALSE)))","v":""},{"$f":"IF(ISBLANK(VLOOKUP(A19,reporting5,3,FALSE)),\"\",IF(ISNA(VLOOKUP(A19,reporting5,3,FALSE)),\"\",VLOOKUP(A19,reporting5,3,FALSE)))","v":""},{"$f":"IF(ISBLANK(VLOOKUP(A19,reporting5,4,FALSE)),\"\",IF(ISNA(VLOOKUP(A19,reporting5,4,FALSE)),\"\",VLOOKUP(A19,reporting5,4,FALSE)))","v":""}]
["golum",{"$f":"IF(ISBLANK(VLOOKUP(A20,reporting1,2,FALSE)),\"\",IF(ISNA(VLOOKUP(A20,reporting1,2,FALSE)),\"\",VLOOKUP(A20,reporting1,2,FALSE)))","v":""},{"$f":"IF(ISBLANK(VLOOKUP(A20,reporting1,3,FALSE)),\"\",IF(ISNA(VLOOKUP(A20,reporting1,3,FALSE)),\"\",VLOOKUP(A20,reporting1,3,FALSE)))","v":""},{"$f":"IF(ISBLANK(VLOOKUP(A20,reporting1,4,FALSE)),\"\",IF(ISNA(VLOOKUP(A20,reporting1,4,FALSE)),\"\",VLOOKUP(A20,reporting1,4,FALSE)))","v":""},{"$f":"IF(ISBLANK(VLOOKUP(A20,reporting2,2,FALSE)),\"\",IF(ISNA(VLOOKUP(A20,reporting2,2,FALSE)),\"\",VLOOKUP(A20,reporting2,2,FALSE)))","v":""},{"$f":"IF(ISBLANK(VLOOKUP(A20,reporting2,3,FALSE)),\"\",IF(ISNA(VLOOKUP(A20,reporting2,3,FALSE)),\"\",VLOOKUP(A20,reporting2,3,FALSE)))","v":""},{"$f":"IF(ISBLANK(VLOOKUP(A20,reporting2,4,FALSE)),\"\",IF(ISNA(VLOOKUP(A20,reporting2,4,FALSE)),\"\",VLOOKUP(A20,reporting2,4,FALSE)))","v":""},{"$f":"IF(ISBLANK(VLOOKUP(A20,reporting3,2,FALSE)),\"\",IF(ISNA(VLOOKUP(A20,reporting3,2,FALSE)),\"\",VLOOKUP(A20,reporting3,2,FALSE)))","v":""},{"$f":"IF(ISBLANK(VLOOKUP(A20,reporting3,3,FALSE)),\"\",IF(ISNA(VLOOKUP(A20,reporting3,3,FALSE)),\"\",VLOOKUP(A20,reporting3,3,FALSE)))","v":""},{"$f":"IF(ISBLANK(VLOOKUP(A20,reporting3,4,FALSE)),\"\",IF(ISNA(VLOOKUP(A20,reporting3,4,FALSE)),\"\",VLOOKUP(A20,reporting3,4,FALSE)))","v":""},{"$f":"IF(ISBLANK(VLOOKUP(A20,reporting4,2,FALSE)),\"\",IF(ISNA(VLOOKUP(A20,reporting4,2,FALSE)),\"\",VLOOKUP(A20,reporting4,2,FALSE)))","v":""},{"$f":"IF(ISBLANK(VLOOKUP(A20,reporting4,3,FALSE)),\"\",IF(ISNA(VLOOKUP(A20,reporting4,3,FALSE)),\"\",VLOOKUP(A20,reporting4,3,FALSE)))","v":""},{"$f":"IF(ISBLANK(VLOOKUP(A20,reporting4,4,FALSE)),\"\",IF(ISNA(VLOOKUP(A20,reporting4,4,FALSE)),\"\",VLOOKUP(A20,reporting4,4,FALSE)))","v":""},{"$f":"IF(ISBLANK(VLOOKUP(A20,reportin5,2,FALSE)),\"\",IF(ISNA(VLOOKUP(A20,reporting5,2,FALSE)),\"\",VLOOKUP(A20,reporting5,2,FALSE)))","v":""},{"$f":"IF(ISBLANK(VLOOKUP(A20,reporting5,3,FALSE)),\"\",IF(ISNA(VLOOKUP(A20,reporting5,3,FALSE)),\"\",VLOOKUP(A20,reporting5,3,FALSE)))","v":""},{"$f":"IF(ISBLANK(VLOOKUP(A20,reporting5,4,FALSE)),\"\",IF(ISNA(VLOOKUP(A20,reporting5,4,FALSE)),\"\",VLOOKUP(A20,reporting5,4,FALSE)))","v":""}]
["gael",{"$f":"IF(ISBLANK(VLOOKUP(A21,reporting1,2,FALSE)),\"\",IF(ISNA(VLOOKUP(A21,reporting1,2,FALSE)),\"\",VLOOKUP(A21,reporting1,2,FALSE)))","v":""},{"$f":"IF(ISBLANK(VLOOKUP(A21,reporting1,3,FALSE)),\"\",IF(ISNA(VLOOKUP(A21,reporting1,3,FALSE)),\"\",VLOOKUP(A21,reporting1,3,FALSE)))","v":""},{"$f":"IF(ISBLANK(VLOOKUP(A21,reporting1,4,FALSE)),\"\",IF(ISNA(VLOOKUP(A21,reporting1,4,FALSE)),\"\",VLOOKUP(A21,reporting1,4,FALSE)))","v":""},{"$f":"IF(ISBLANK(VLOOKUP(A21,reporting2,2,FALSE)),\"\",IF(ISNA(VLOOKUP(A21,reporting2,2,FALSE)),\"\",VLOOKUP(A21,reporting2,2,FALSE)))","v":""},{"$f":"IF(ISBLANK(VLOOKUP(A21,reporting2,3,FALSE)),\"\",IF(ISNA(VLOOKUP(A21,reporting2,3,FALSE)),\"\",VLOOKUP(A21,reporting2,3,FALSE)))","v":""},{"$f":"IF(ISBLANK(VLOOKUP(A21,reporting2,4,FALSE)),\"\",IF(ISNA(VLOOKUP(A21,reporting2,4,FALSE)),\"\",VLOOKUP(A21,reporting2,4,FALSE)))","v":""},{"$f":"IF(ISBLANK(VLOOKUP(A21,reporting3,2,FALSE)),\"\",IF(ISNA(VLOOKUP(A21,reporting3,2,FALSE)),\"\",VLOOKUP(A21,reporting3,2,FALSE)))","v":""},{"$f":"IF(ISBLANK(VLOOKUP(A21,reporting3,3,FALSE)),\"\",IF(ISNA(VLOOKUP(A21,reporting3,3,FALSE)),\"\",VLOOKUP(A21,reporting3,3,FALSE)))","v":""},{"$f":"IF(ISBLANK(VLOOKUP(A21,reporting3,4,FALSE)),\"\",IF(ISNA(VLOOKUP(A21,reporting3,4,FALSE)),\"\",VLOOKUP(A21,reporting3,4,FALSE)))","v":""},{"$f":"IF(ISBLANK(VLOOKUP(A21,reporting4,2,FALSE)),\"\",IF(ISNA(VLOOKUP(A21,reporting4,2,FALSE)),\"\",VLOOKUP(A21,reporting4,2,FALSE)))","v":""},{"$f":"IF(ISBLANK(VLOOKUP(A21,reporting4,3,FALSE)),\"\",IF(ISNA(VLOOKUP(A21,reporting4,3,FALSE)),\"\",VLOOKUP(A21,reporting4,3,FALSE)))","v":""},{"$f":"IF(ISBLANK(VLOOKUP(A21,reporting4,4,FALSE)),\"\",IF(ISNA(VLOOKUP(A21,reporting4,4,FALSE)),\"\",VLOOKUP(A21,reporting4,4,FALSE)))","v":""},{"$f":"IF(ISBLANK(VLOOKUP(A21,reportin5,2,FALSE)),\"\",IF(ISNA(VLOOKUP(A21,reporting5,2,FALSE)),\"\",VLOOKUP(A21,reporting5,2,FALSE)))","v":""},{"$f":"IF(ISBLANK(VLOOKUP(A21,reporting5,3,FALSE)),\"\",IF(ISNA(VLOOKUP(A21,reporting5,3,FALSE)),\"\",VLOOKUP(A21,reporting5,3,FALSE)))","v":""},{"$f":"IF(ISBLANK(VLOOKUP(A21,reporting5,4,FALSE)),\"\",IF(ISNA(VLOOKUP(A21,reporting5,4,FALSE)),\"\",VLOOKUP(A21,reporting5,4,FALSE)))","v":""}]
["voul",{"$f":"IF(ISBLANK(VLOOKUP(A22,reporting1,2,FALSE)),\"\",IF(ISNA(VLOOKUP(A22,reporting1,2,FALSE)),\"\",VLOOKUP(A22,reporting1,2,FALSE)))","v":""},{"$f":"IF(ISBLANK(VLOOKUP(A22,reporting1,3,FALSE)),\"\",IF(ISNA(VLOOKUP(A22,reporting1,3,FALSE)),\"\",VLOOKUP(A22,reporting1,3,FALSE)))","v":""},{"$f":"IF(ISBLANK(VLOOKUP(A22,reporting1,4,FALSE)),\"\",IF(ISNA(VLOOKUP(A22,reporting1,4,FALSE)),\"\",VLOOKUP(A22,reporting1,4,FALSE)))","v":""},{"$f":"IF(ISBLANK(VLOOKUP(A22,reporting2,2,FALSE)),\"\",IF(ISNA(VLOOKUP(A22,reporting2,2,FALSE)),\"\",VLOOKUP(A22,reporting2,2,FALSE)))","v":""},{"$f":"IF(ISBLANK(VLOOKUP(A22,reporting2,3,FALSE)),\"\",IF(ISNA(VLOOKUP(A22,reporting2,3,FALSE)),\"\",VLOOKUP(A22,reporting2,3,FALSE)))","v":""},{"$f":"IF(ISBLANK(VLOOKUP(A22,reporting2,4,FALSE)),\"\",IF(ISNA(VLOOKUP(A22,reporting2,4,FALSE)),\"\",VLOOKUP(A22,reporting2,4,FALSE)))","v":""},{"$f":"IF(ISBLANK(VLOOKUP(A22,reporting3,2,FALSE)),\"\",IF(ISNA(VLOOKUP(A22,reporting3,2,FALSE)),\"\",VLOOKUP(A22,reporting3,2,FALSE)))","v":""},{"$f":"IF(ISBLANK(VLOOKUP(A22,reporting3,3,FALSE)),\"\",IF(ISNA(VLOOKUP(A22,reporting3,3,FALSE)),\"\",VLOOKUP(A22,reporting3,3,FALSE)))","v":""},{"$f":"IF(ISBLANK(VLOOKUP(A22,reporting3,4,FALSE)),\"\",IF(ISNA(VLOOKUP(A22,reporting3,4,FALSE)),\"\",VLOOKUP(A22,reporting3,4,FALSE)))","v":""},{"$f":"IF(ISBLANK(VLOOKUP(A22,reporting4,2,FALSE)),\"\",IF(ISNA(VLOOKUP(A22,reporting4,2,FALSE)),\"\",VLOOKUP(A22,reporting4,2,FALSE)))","v":""},{"$f":"IF(ISBLANK(VLOOKUP(A22,reporting4,3,FALSE)),\"\",IF(ISNA(VLOOKUP(A22,reporting4,3,FALSE)),\"\",VLOOKUP(A22,reporting4,3,FALSE)))","v":""},{"$f":"IF(ISBLANK(VLOOKUP(A22,reporting4,4,FALSE)),\"\",IF(ISNA(VLOOKUP(A22,reporting4,4,FALSE)),\"\",VLOOKUP(A22,reporting4,4,FALSE)))","v":""},{"$f":"IF(ISBLANK(VLOOKUP(A22,reportin5,2,FALSE)),\"\",IF(ISNA(VLOOKUP(A22,reporting5,2,FALSE)),\"\",VLOOKUP(A22,reporting5,2,FALSE)))","v":""},{"$f":"IF(ISBLANK(VLOOKUP(A22,reporting5,3,FALSE)),\"\",IF(ISNA(VLOOKUP(A22,reporting5,3,FALSE)),\"\",VLOOKUP(A22,reporting5,3,FALSE)))","v":""},{"$f":"IF(ISBLANK(VLOOKUP(A22,reporting5,4,FALSE)),\"\",IF(ISNA(VLOOKUP(A22,reporting5,4,FALSE)),\"\",VLOOKUP(A22,reporting5,4,FALSE)))","v":""}]
["white wolf",{"$f":"IF(ISBLANK(VLOOKUP(A23,reporting1,2,FALSE)),\"\",IF(ISNA(VLOOKUP(A23,reporting1,2,FALSE)),\"\",VLOOKUP(A23,reporting1,2,FALSE)))","v":""},{"$f":"IF(ISBLANK(VLOOKUP(A23,reporting1,3,FALSE)),\"\",IF(ISNA(VLOOKUP(A23,reporting1,3,FALSE)),\"\",VLOOKUP(A23,reporting1,3,FALSE)))","v":""},{"$f":"IF(ISBLANK(VLOOKUP(A23,reporting1,4,FALSE)),\"\",IF(ISNA(VLOOKUP(A23,reporting1,4,FALSE)),\"\",VLOOKUP(A23,reporting1,4,FALSE)))","v":""},{"$f":"IF(ISBLANK(VLOOKUP(A23,reporting2,2,FALSE)),\"\",IF(ISNA(VLOOKUP(A23,reporting2,2,FALSE)),\"\",VLOOKUP(A23,reporting2,2,FALSE)))","v":""},{"$f":"IF(ISBLANK(VLOOKUP(A23,reporting2,3,FALSE)),\"\",IF(ISNA(VLOOKUP(A23,reporting2,3,FALSE)),\"\",VLOOKUP(A23,reporting2,3,FALSE)))","v":""},{"$f":"IF(ISBLANK(VLOOKUP(A23,reporting2,4,FALSE)),\"\",IF(ISNA(VLOOKUP(A23,reporting2,4,FALSE)),\"\",VLOOKUP(A23,reporting2,4,FALSE)))","v":""},{"$f":"IF(ISBLANK(VLOOKUP(A23,reporting3,2,FALSE)),\"\",IF(ISNA(VLOOKUP(A23,reporting3,2,FALSE)),\"\",VLOOKUP(A23,reporting3,2,FALSE)))","v":""},{"$f":"IF(ISBLANK(VLOOKUP(A23,reporting3,3,FALSE)),\"\",IF(ISNA(VLOOKUP(A23,reporting3,3,FALSE)),\"\",VLOOKUP(A23,reporting3,3,FALSE)))","v":""},{"$f":"IF(ISBLANK(VLOOKUP(A23,reporting3,4,FALSE)),\"\",IF(ISNA(VLOOKUP(A23,reporting3,4,FALSE)),\"\",VLOOKUP(A23,reporting3,4,FALSE)))","v":""},{"$f":"IF(ISBLANK(VLOOKUP(A23,reporting4,2,FALSE)),\"\",IF(ISNA(VLOOKUP(A23,reporting4,2,FALSE)),\"\",VLOOKUP(A23,reporting4,2,FALSE)))","v":""},{"$f":"IF(ISBLANK(VLOOKUP(A23,reporting4,3,FALSE)),\"\",IF(ISNA(VLOOKUP(A23,reporting4,3,FALSE)),\"\",VLOOKUP(A23,reporting4,3,FALSE)))","v":""},{"$f":"IF(ISBLANK(VLOOKUP(A23,reporting4,4,FALSE)),\"\",IF(ISNA(VLOOKUP(A23,reporting4,4,FALSE)),\"\",VLOOKUP(A23,reporting4,4,FALSE)))","v":""},{"$f":"IF(ISBLANK(VLOOKUP(A23,reportin5,2,FALSE)),\"\",IF(ISNA(VLOOKUP(A23,reporting5,2,FALSE)),\"\",VLOOKUP(A23,reporting5,2,FALSE)))","v":""},{"$f":"IF(ISBLANK(VLOOKUP(A23,reporting5,3,FALSE)),\"\",IF(ISNA(VLOOKUP(A23,reporting5,3,FALSE)),\"\",VLOOKUP(A23,reporting5,3,FALSE)))","v":""},{"$f":"IF(ISBLANK(VLOOKUP(A23,reporting5,4,FALSE)),\"\",IF(ISNA(VLOOKUP(A23,reporting5,4,FALSE)),\"\",VLOOKUP(A23,reporting5,4,FALSE)))","v":""}]
["gorka",{"$f":"IF(ISBLANK(VLOOKUP(A24,reporting1,2,FALSE)),\"\",IF(ISNA(VLOOKUP(A24,reporting1,2,FALSE)),\"\",VLOOKUP(A24,reporting1,2,FALSE)))","v":""},{"$f":"IF(ISBLANK(VLOOKUP(A24,reporting1,3,FALSE)),\"\",IF(ISNA(VLOOKUP(A24,reporting1,3,FALSE)),\"\",VLOOKUP(A24,reporting1,3,FALSE)))","v":""},{"$f":"IF(ISBLANK(VLOOKUP(A24,reporting1,4,FALSE)),\"\",IF(ISNA(VLOOKUP(A24,reporting1,4,FALSE)),\"\",VLOOKUP(A24,reporting1,4,FALSE)))","v":""},{"$f":"IF(ISBLANK(VLOOKUP(A24,reporting2,2,FALSE)),\"\",IF(ISNA(VLOOKUP(A24,reporting2,2,FALSE)),\"\",VLOOKUP(A24,reporting2,2,FALSE)))","v":""},{"$f":"IF(ISBLANK(VLOOKUP(A24,reporting2,3,FALSE)),\"\",IF(ISNA(VLOOKUP(A24,reporting2,3,FALSE)),\"\",VLOOKUP(A24,reporting2,3,FALSE)))","v":""},{"$f":"IF(ISBLANK(VLOOKUP(A24,reporting2,4,FALSE)),\"\",IF(ISNA(VLOOKUP(A24,reporting2,4,FALSE)),\"\",VLOOKUP(A24,reporting2,4,FALSE)))","v":""},{"$f":"IF(ISBLANK(VLOOKUP(A24,reporting3,2,FALSE)),\"\",IF(ISNA(VLOOKUP(A24,reporting3,2,FALSE)),\"\",VLOOKUP(A24,reporting3,2,FALSE)))","v":""},{"$f":"IF(ISBLANK(VLOOKUP(A24,reporting3,3,FALSE)),\"\",IF(ISNA(VLOOKUP(A24,reporting3,3,FALSE)),\"\",VLOOKUP(A24,reporting3,3,FALSE)))","v":""},{"$f":"IF(ISBLANK(VLOOKUP(A24,reporting3,4,FALSE)),\"\",IF(ISNA(VLOOKUP(A24,reporting3,4,FALSE)),\"\",VLOOKUP(A24,reporting3,4,FALSE)))","v":""},{"$f":"IF(ISBLANK(VLOOKUP(A24,reporting4,2,FALSE)),\"\",IF(ISNA(VLOOKUP(A24,reporting4,2,FALSE)),\"\",VLOOKUP(A24,reporting4,2,FALSE)))","v":""},{"$f":"IF(ISBLANK(VLOOKUP(A24,reporting4,3,FALSE)),\"\",IF(ISNA(VLOOKUP(A24,reporting4,3,FALSE)),\"\",VLOOKUP(A24,reporting4,3,FALSE)))","v":""},{"$f":"IF(ISBLANK(VLOOKUP(A24,reporting4,4,FALSE)),\"\",IF(ISNA(VLOOKUP(A24,reporting4,4,FALSE)),\"\",VLOOKUP(A24,reporting4,4,FALSE)))","v":""},{"$f":"IF(ISBLANK(VLOOKUP(A24,reportin5,2,FALSE)),\"\",IF(ISNA(VLOOKUP(A24,reporting5,2,FALSE)),\"\",VLOOKUP(A24,reporting5,2,FALSE)))","v":""},{"$f":"IF(ISBLANK(VLOOKUP(A24,reporting5,3,FALSE)),\"\",IF(ISNA(VLOOKUP(A24,reporting5,3,FALSE)),\"\",VLOOKUP(A24,reporting5,3,FALSE)))","v":""},{"$f":"IF(ISBLANK(VLOOKUP(A24,reporting5,4,FALSE)),\"\",IF(ISNA(VLOOKUP(A24,reporting5,4,FALSE)),\"\",VLOOKUP(A24,reporting5,4,FALSE)))","v":""}]
["yoyo13008",{"$f":"IF(ISBLANK(VLOOKUP(A25,reporting1,2,FALSE)),\"\",IF(ISNA(VLOOKUP(A25,reporting1,2,FALSE)),\"\",VLOOKUP(A25,reporting1,2,FALSE)))","v":""},{"$f":"IF(ISBLANK(VLOOKUP(A25,reporting1,3,FALSE)),\"\",IF(ISNA(VLOOKUP(A25,reporting1,3,FALSE)),\"\",VLOOKUP(A25,reporting1,3,FALSE)))","v":""},{"$f":"IF(ISBLANK(VLOOKUP(A25,reporting1,4,FALSE)),\"\",IF(ISNA(VLOOKUP(A25,reporting1,4,FALSE)),\"\",VLOOKUP(A25,reporting1,4,FALSE)))","v":""},{"$f":"IF(ISBLANK(VLOOKUP(A25,reporting2,2,FALSE)),\"\",IF(ISNA(VLOOKUP(A25,reporting2,2,FALSE)),\"\",VLOOKUP(A25,reporting2,2,FALSE)))","v":""},{"$f":"IF(ISBLANK(VLOOKUP(A25,reporting2,3,FALSE)),\"\",IF(ISNA(VLOOKUP(A25,reporting2,3,FALSE)),\"\",VLOOKUP(A25,reporting2,3,FALSE)))","v":""},{"$f":"IF(ISBLANK(VLOOKUP(A25,reporting2,4,FALSE)),\"\",IF(ISNA(VLOOKUP(A25,reporting2,4,FALSE)),\"\",VLOOKUP(A25,reporting2,4,FALSE)))","v":""},{"$f":"IF(ISBLANK(VLOOKUP(A25,reporting3,2,FALSE)),\"\",IF(ISNA(VLOOKUP(A25,reporting3,2,FALSE)),\"\",VLOOKUP(A25,reporting3,2,FALSE)))","v":""},{"$f":"IF(ISBLANK(VLOOKUP(A25,reporting3,3,FALSE)),\"\",IF(ISNA(VLOOKUP(A25,reporting3,3,FALSE)),\"\",VLOOKUP(A25,reporting3,3,FALSE)))","v":""},{"$f":"IF(ISBLANK(VLOOKUP(A25,reporting3,4,FALSE)),\"\",IF(ISNA(VLOOKUP(A25,reporting3,4,FALSE)),\"\",VLOOKUP(A25,reporting3,4,FALSE)))","v":""},{"$f":"IF(ISBLANK(VLOOKUP(A25,reporting4,2,FALSE)),\"\",IF(ISNA(VLOOKUP(A25,reporting4,2,FALSE)),\"\",VLOOKUP(A25,reporting4,2,FALSE)))","v":""},{"$f":"IF(ISBLANK(VLOOKUP(A25,reporting4,3,FALSE)),\"\",IF(ISNA(VLOOKUP(A25,reporting4,3,FALSE)),\"\",VLOOKUP(A25,reporting4,3,FALSE)))","v":""},{"$f":"IF(ISBLANK(VLOOKUP(A25,reporting4,4,FALSE)),\"\",IF(ISNA(VLOOKUP(A25,reporting4,4,FALSE)),\"\",VLOOKUP(A25,reporting4,4,FALSE)))","v":""},{"$f":"IF(ISBLANK(VLOOKUP(A25,reportin5,2,FALSE)),\"\",IF(ISNA(VLOOKUP(A25,reporting5,2,FALSE)),\"\",VLOOKUP(A25,reporting5,2,FALSE)))","v":""},{"$f":"IF(ISBLANK(VLOOKUP(A25,reporting5,3,FALSE)),\"\",IF(ISNA(VLOOKUP(A25,reporting5,3,FALSE)),\"\",VLOOKUP(A25,reporting5,3,FALSE)))","v":""},{"$f":"IF(ISBLANK(VLOOKUP(A25,reporting5,4,FALSE)),\"\",IF(ISNA(VLOOKUP(A25,reporting5,4,FALSE)),\"\",VLOOKUP(A25,reporting5,4,FALSE)))","v":""}]
["mrviko",{"$f":"IF(ISBLANK(VLOOKUP(A26,reporting1,2,FALSE)),\"\",IF(ISNA(VLOOKUP(A26,reporting1,2,FALSE)),\"\",VLOOKUP(A26,reporting1,2,FALSE)))","v":""},{"$f":"IF(ISBLANK(VLOOKUP(A26,reporting1,3,FALSE)),\"\",IF(ISNA(VLOOKUP(A26,reporting1,3,FALSE)),\"\",VLOOKUP(A26,reporting1,3,FALSE)))","v":""},{"$f":"IF(ISBLANK(VLOOKUP(A26,reporting1,4,FALSE)),\"\",IF(ISNA(VLOOKUP(A26,reporting1,4,FALSE)),\"\",VLOOKUP(A26,reporting1,4,FALSE)))","v":""},{"$f":"IF(ISBLANK(VLOOKUP(A26,reporting2,2,FALSE)),\"\",IF(ISNA(VLOOKUP(A26,reporting2,2,FALSE)),\"\",VLOOKUP(A26,reporting2,2,FALSE)))","v":""},{"$f":"IF(ISBLANK(VLOOKUP(A26,reporting2,3,FALSE)),\"\",IF(ISNA(VLOOKUP(A26,reporting2,3,FALSE)),\"\",VLOOKUP(A26,reporting2,3,FALSE)))","v":""},{"$f":"IF(ISBLANK(VLOOKUP(A26,reporting2,4,FALSE)),\"\",IF(ISNA(VLOOKUP(A26,reporting2,4,FALSE)),\"\",VLOOKUP(A26,reporting2,4,FALSE)))","v":""},{"$f":"IF(ISBLANK(VLOOKUP(A26,reporting3,2,FALSE)),\"\",IF(ISNA(VLOOKUP(A26,reporting3,2,FALSE)),\"\",VLOOKUP(A26,reporting3,2,FALSE)))","v":""},{"$f":"IF(ISBLANK(VLOOKUP(A26,reporting3,3,FALSE)),\"\",IF(ISNA(VLOOKUP(A26,reporting3,3,FALSE)),\"\",VLOOKUP(A26,reporting3,3,FALSE)))","v":""},{"$f":"IF(ISBLANK(VLOOKUP(A26,reporting3,4,FALSE)),\"\",IF(ISNA(VLOOKUP(A26,reporting3,4,FALSE)),\"\",VLOOKUP(A26,reporting3,4,FALSE)))","v":""},{"$f":"IF(ISBLANK(VLOOKUP(A26,reporting4,2,FALSE)),\"\",IF(ISNA(VLOOKUP(A26,reporting4,2,FALSE)),\"\",VLOOKUP(A26,reporting4,2,FALSE)))","v":""},{"$f":"IF(ISBLANK(VLOOKUP(A26,reporting4,3,FALSE)),\"\",IF(ISNA(VLOOKUP(A26,reporting4,3,FALSE)),\"\",VLOOKUP(A26,reporting4,3,FALSE)))","v":""},{"$f":"IF(ISBLANK(VLOOKUP(A26,reporting4,4,FALSE)),\"\",IF(ISNA(VLOOKUP(A26,reporting4,4,FALSE)),\"\",VLOOKUP(A26,reporting4,4,FALSE)))","v":""},{"$f":"IF(ISBLANK(VLOOKUP(A26,reportin5,2,FALSE)),\"\",IF(ISNA(VLOOKUP(A26,reporting5,2,FALSE)),\"\",VLOOKUP(A26,reporting5,2,FALSE)))","v":""},{"$f":"IF(ISBLANK(VLOOKUP(A26,reporting5,3,FALSE)),\"\",IF(ISNA(VLOOKUP(A26,reporting5,3,FALSE)),\"\",VLOOKUP(A26,reporting5,3,FALSE)))","v":""},{"$f":"IF(ISBLANK(VLOOKUP(A26,reporting5,4,FALSE)),\"\",IF(ISNA(VLOOKUP(A26,reporting5,4,FALSE)),\"\",VLOOKUP(A26,reporting5,4,FALSE)))","v":""}]
["raphael",{"$f":"IF(ISBLANK(VLOOKUP(A27,reporting1,2,FALSE)),\"\",IF(ISNA(VLOOKUP(A27,reporting1,2,FALSE)),\"\",VLOOKUP(A27,reporting1,2,FALSE)))","v":""},{"$f":"IF(ISBLANK(VLOOKUP(A27,reporting1,3,FALSE)),\"\",IF(ISNA(VLOOKUP(A27,reporting1,3,FALSE)),\"\",VLOOKUP(A27,reporting1,3,FALSE)))","v":""},{"$f":"IF(ISBLANK(VLOOKUP(A27,reporting1,4,FALSE)),\"\",IF(ISNA(VLOOKUP(A27,reporting1,4,FALSE)),\"\",VLOOKUP(A27,reporting1,4,FALSE)))","v":""},{"$f":"IF(ISBLANK(VLOOKUP(A27,reporting2,2,FALSE)),\"\",IF(ISNA(VLOOKUP(A27,reporting2,2,FALSE)),\"\",VLOOKUP(A27,reporting2,2,FALSE)))","v":""},{"$f":"IF(ISBLANK(VLOOKUP(A27,reporting2,3,FALSE)),\"\",IF(ISNA(VLOOKUP(A27,reporting2,3,FALSE)),\"\",VLOOKUP(A27,reporting2,3,FALSE)))","v":""},{"$f":"IF(ISBLANK(VLOOKUP(A27,reporting2,4,FALSE)),\"\",IF(ISNA(VLOOKUP(A27,reporting2,4,FALSE)),\"\",VLOOKUP(A27,reporting2,4,FALSE)))","v":""},{"$f":"IF(ISBLANK(VLOOKUP(A27,reporting3,2,FALSE)),\"\",IF(ISNA(VLOOKUP(A27,reporting3,2,FALSE)),\"\",VLOOKUP(A27,reporting3,2,FALSE)))","v":""},{"$f":"IF(ISBLANK(VLOOKUP(A27,reporting3,3,FALSE)),\"\",IF(ISNA(VLOOKUP(A27,reporting3,3,FALSE)),\"\",VLOOKUP(A27,reporting3,3,FALSE)))","v":""},{"$f":"IF(ISBLANK(VLOOKUP(A27,reporting3,4,FALSE)),\"\",IF(ISNA(VLOOKUP(A27,reporting3,4,FALSE)),\"\",VLOOKUP(A27,reporting3,4,FALSE)))","v":""},{"$f":"IF(ISBLANK(VLOOKUP(A27,reporting4,2,FALSE)),\"\",IF(ISNA(VLOOKUP(A27,reporting4,2,FALSE)),\"\",VLOOKUP(A27,reporting4,2,FALSE)))","v":""},{"$f":"IF(ISBLANK(VLOOKUP(A27,reporting4,3,FALSE)),\"\",IF(ISNA(VLOOKUP(A27,reporting4,3,FALSE)),\"\",VLOOKUP(A27,reporting4,3,FALSE)))","v":""},{"$f":"IF(ISBLANK(VLOOKUP(A27,reporting4,4,FALSE)),\"\",IF(ISNA(VLOOKUP(A27,reporting4,4,FALSE)),\"\",VLOOKUP(A27,reporting4,4,FALSE)))","v":""},{"$f":"IF(ISBLANK(VLOOKUP(A27,reportin5,2,FALSE)),\"\",IF(ISNA(VLOOKUP(A27,reporting5,2,FALSE)),\"\",VLOOKUP(A27,reporting5,2,FALSE)))","v":""},{"$f":"IF(ISBLANK(VLOOKUP(A27,reporting5,3,FALSE)),\"\",IF(ISNA(VLOOKUP(A27,reporting5,3,FALSE)),\"\",VLOOKUP(A27,reporting5,3,FALSE)))","v":""},{"$f":"IF(ISBLANK(VLOOKUP(A27,reporting5,4,FALSE)),\"\",IF(ISNA(VLOOKUP(A27,reporting5,4,FALSE)),\"\",VLOOKUP(A27,reporting5,4,FALSE)))","v":""}]
["gazzouille",{"$f":"IF(ISBLANK(VLOOKUP(A28,reporting1,2,FALSE)),\"\",IF(ISNA(VLOOKUP(A28,reporting1,2,FALSE)),\"\",VLOOKUP(A28,reporting1,2,FALSE)))","v":""},{"$f":"IF(ISBLANK(VLOOKUP(A28,reporting1,3,FALSE)),\"\",IF(ISNA(VLOOKUP(A28,reporting1,3,FALSE)),\"\",VLOOKUP(A28,reporting1,3,FALSE)))","v":""},{"$f":"IF(ISBLANK(VLOOKUP(A28,reporting1,4,FALSE)),\"\",IF(ISNA(VLOOKUP(A28,reporting1,4,FALSE)),\"\",VLOOKUP(A28,reporting1,4,FALSE)))","v":""},{"$f":"IF(ISBLANK(VLOOKUP(A28,reporting2,2,FALSE)),\"\",IF(ISNA(VLOOKUP(A28,reporting2,2,FALSE)),\"\",VLOOKUP(A28,reporting2,2,FALSE)))","v":""},{"$f":"IF(ISBLANK(VLOOKUP(A28,reporting2,3,FALSE)),\"\",IF(ISNA(VLOOKUP(A28,reporting2,3,FALSE)),\"\",VLOOKUP(A28,reporting2,3,FALSE)))","v":""},{"$f":"IF(ISBLANK(VLOOKUP(A28,reporting2,4,FALSE)),\"\",IF(ISNA(VLOOKUP(A28,reporting2,4,FALSE)),\"\",VLOOKUP(A28,reporting2,4,FALSE)))","v":""},{"$f":"IF(ISBLANK(VLOOKUP(A28,reporting3,2,FALSE)),\"\",IF(ISNA(VLOOKUP(A28,reporting3,2,FALSE)),\"\",VLOOKUP(A28,reporting3,2,FALSE)))","v":""},{"$f":"IF(ISBLANK(VLOOKUP(A28,reporting3,3,FALSE)),\"\",IF(ISNA(VLOOKUP(A28,reporting3,3,FALSE)),\"\",VLOOKUP(A28,reporting3,3,FALSE)))","v":""},{"$f":"IF(ISBLANK(VLOOKUP(A28,reporting3,4,FALSE)),\"\",IF(ISNA(VLOOKUP(A28,reporting3,4,FALSE)),\"\",VLOOKUP(A28,reporting3,4,FALSE)))","v":""},{"$f":"IF(ISBLANK(VLOOKUP(A28,reporting4,2,FALSE)),\"\",IF(ISNA(VLOOKUP(A28,reporting4,2,FALSE)),\"\",VLOOKUP(A28,reporting4,2,FALSE)))","v":""},{"$f":"IF(ISBLANK(VLOOKUP(A28,reporting4,3,FALSE)),\"\",IF(ISNA(VLOOKUP(A28,reporting4,3,FALSE)),\"\",VLOOKUP(A28,reporting4,3,FALSE)))","v":""},{"$f":"IF(ISBLANK(VLOOKUP(A28,reporting4,4,FALSE)),\"\",IF(ISNA(VLOOKUP(A28,reporting4,4,FALSE)),\"\",VLOOKUP(A28,reporting4,4,FALSE)))","v":""},{"$f":"IF(ISBLANK(VLOOKUP(A28,reportin5,2,FALSE)),\"\",IF(ISNA(VLOOKUP(A28,reporting5,2,FALSE)),\"\",VLOOKUP(A28,reporting5,2,FALSE)))","v":""},{"$f":"IF(ISBLANK(VLOOKUP(A28,reporting5,3,FALSE)),\"\",IF(ISNA(VLOOKUP(A28,reporting5,3,FALSE)),\"\",VLOOKUP(A28,reporting5,3,FALSE)))","v":""},{"$f":"IF(ISBLANK(VLOOKUP(A28,reporting5,4,FALSE)),\"\",IF(ISNA(VLOOKUP(A28,reporting5,4,FALSE)),\"\",VLOOKUP(A28,reporting5,4,FALSE)))","v":""}]
["keoleblanc",{"$f":"IF(ISBLANK(VLOOKUP(A29,reporting1,2,FALSE)),\"\",IF(ISNA(VLOOKUP(A29,reporting1,2,FALSE)),\"\",VLOOKUP(A29,reporting1,2,FALSE)))","v":""},{"$f":"IF(ISBLANK(VLOOKUP(A29,reporting1,3,FALSE)),\"\",IF(ISNA(VLOOKUP(A29,reporting1,3,FALSE)),\"\",VLOOKUP(A29,reporting1,3,FALSE)))","v":""},{"$f":"IF(ISBLANK(VLOOKUP(A29,reporting1,4,FALSE)),\"\",IF(ISNA(VLOOKUP(A29,reporting1,4,FALSE)),\"\",VLOOKUP(A29,reporting1,4,FALSE)))","v":""},{"$f":"IF(ISBLANK(VLOOKUP(A29,reporting2,2,FALSE)),\"\",IF(ISNA(VLOOKUP(A29,reporting2,2,FALSE)),\"\",VLOOKUP(A29,reporting2,2,FALSE)))","v":""},{"$f":"IF(ISBLANK(VLOOKUP(A29,reporting2,3,FALSE)),\"\",IF(ISNA(VLOOKUP(A29,reporting2,3,FALSE)),\"\",VLOOKUP(A29,reporting2,3,FALSE)))","v":""},{"$f":"IF(ISBLANK(VLOOKUP(A29,reporting2,4,FALSE)),\"\",IF(ISNA(VLOOKUP(A29,reporting2,4,FALSE)),\"\",VLOOKUP(A29,reporting2,4,FALSE)))","v":""},{"$f":"IF(ISBLANK(VLOOKUP(A29,reporting3,2,FALSE)),\"\",IF(ISNA(VLOOKUP(A29,reporting3,2,FALSE)),\"\",VLOOKUP(A29,reporting3,2,FALSE)))","v":""},{"$f":"IF(ISBLANK(VLOOKUP(A29,reporting3,3,FALSE)),\"\",IF(ISNA(VLOOKUP(A29,reporting3,3,FALSE)),\"\",VLOOKUP(A29,reporting3,3,FALSE)))","v":""},{"$f":"IF(ISBLANK(VLOOKUP(A29,reporting3,4,FALSE)),\"\",IF(ISNA(VLOOKUP(A29,reporting3,4,FALSE)),\"\",VLOOKUP(A29,reporting3,4,FALSE)))","v":""},{"$f":"IF(ISBLANK(VLOOKUP(A29,reporting4,2,FALSE)),\"\",IF(ISNA(VLOOKUP(A29,reporting4,2,FALSE)),\"\",VLOOKUP(A29,reporting4,2,FALSE)))","v":""},{"$f":"IF(ISBLANK(VLOOKUP(A29,reporting4,3,FALSE)),\"\",IF(ISNA(VLOOKUP(A29,reporting4,3,FALSE)),\"\",VLOOKUP(A29,reporting4,3,FALSE)))","v":""},{"$f":"IF(ISBLANK(VLOOKUP(A29,reporting4,4,FALSE)),\"\",IF(ISNA(VLOOKUP(A29,reporting4,4,FALSE)),\"\",VLOOKUP(A29,reporting4,4,FALSE)))","v":""},{"$f":"IF(ISBLANK(VLOOKUP(A29,reportin5,2,FALSE)),\"\",IF(ISNA(VLOOKUP(A29,reporting5,2,FALSE)),\"\",VLOOKUP(A29,reporting5,2,FALSE)))","v":""},{"$f":"IF(ISBLANK(VLOOKUP(A29,reporting5,3,FALSE)),\"\",IF(ISNA(VLOOKUP(A29,reporting5,3,FALSE)),\"\",VLOOKUP(A29,reporting5,3,FALSE)))","v":""},{"$f":"IF(ISBLANK(VLOOKUP(A29,reporting5,4,FALSE)),\"\",IF(ISNA(VLOOKUP(A29,reporting5,4,FALSE)),\"\",VLOOKUP(A29,reporting5,4,FALSE)))","v":""}]
["paulette",{"$f":"IF(ISBLANK(VLOOKUP(A30,reporting1,2,FALSE)),\"\",IF(ISNA(VLOOKUP(A30,reporting1,2,FALSE)),\"\",VLOOKUP(A30,reporting1,2,FALSE)))","v":""},{"$f":"IF(ISBLANK(VLOOKUP(A30,reporting1,3,FALSE)),\"\",IF(ISNA(VLOOKUP(A30,reporting1,3,FALSE)),\"\",VLOOKUP(A30,reporting1,3,FALSE)))","v":""},{"$f":"IF(ISBLANK(VLOOKUP(A30,reporting1,4,FALSE)),\"\",IF(ISNA(VLOOKUP(A30,reporting1,4,FALSE)),\"\",VLOOKUP(A30,reporting1,4,FALSE)))","v":""},{"$f":"IF(ISBLANK(VLOOKUP(A30,reporting2,2,FALSE)),\"\",IF(ISNA(VLOOKUP(A30,reporting2,2,FALSE)),\"\",VLOOKUP(A30,reporting2,2,FALSE)))","v":""},{"$f":"IF(ISBLANK(VLOOKUP(A30,reporting2,3,FALSE)),\"\",IF(ISNA(VLOOKUP(A30,reporting2,3,FALSE)),\"\",VLOOKUP(A30,reporting2,3,FALSE)))","v":""},{"$f":"IF(ISBLANK(VLOOKUP(A30,reporting2,4,FALSE)),\"\",IF(ISNA(VLOOKUP(A30,reporting2,4,FALSE)),\"\",VLOOKUP(A30,reporting2,4,FALSE)))","v":""},{"$f":"IF(ISBLANK(VLOOKUP(A30,reporting3,2,FALSE)),\"\",IF(ISNA(VLOOKUP(A30,reporting3,2,FALSE)),\"\",VLOOKUP(A30,reporting3,2,FALSE)))","v":""},{"$f":"IF(ISBLANK(VLOOKUP(A30,reporting3,3,FALSE)),\"\",IF(ISNA(VLOOKUP(A30,reporting3,3,FALSE)),\"\",VLOOKUP(A30,reporting3,3,FALSE)))","v":""},{"$f":"IF(ISBLANK(VLOOKUP(A30,reporting3,4,FALSE)),\"\",IF(ISNA(VLOOKUP(A30,reporting3,4,FALSE)),\"\",VLOOKUP(A30,reporting3,4,FALSE)))","v":""},{"$f":"IF(ISBLANK(VLOOKUP(A30,reporting4,2,FALSE)),\"\",IF(ISNA(VLOOKUP(A30,reporting4,2,FALSE)),\"\",VLOOKUP(A30,reporting4,2,FALSE)))","v":""},{"$f":"IF(ISBLANK(VLOOKUP(A30,reporting4,3,FALSE)),\"\",IF(ISNA(VLOOKUP(A30,reporting4,3,FALSE)),\"\",VLOOKUP(A30,reporting4,3,FALSE)))","v":""},{"$f":"IF(ISBLANK(VLOOKUP(A30,reporting4,4,FALSE)),\"\",IF(ISNA(VLOOKUP(A30,reporting4,4,FALSE)),\"\",VLOOKUP(A30,reporting4,4,FALSE)))","v":""},{"$f":"IF(ISBLANK(VLOOKUP(A30,reportin5,2,FALSE)),\"\",IF(ISNA(VLOOKUP(A30,reporting5,2,FALSE)),\"\",VLOOKUP(A30,reporting5,2,FALSE)))","v":""},{"$f":"IF(ISBLANK(VLOOKUP(A30,reporting5,3,FALSE)),\"\",IF(ISNA(VLOOKUP(A30,reporting5,3,FALSE)),\"\",VLOOKUP(A30,reporting5,3,FALSE)))","v":""},{"$f":"IF(ISBLANK(VLOOKUP(A30,reporting5,4,FALSE)),\"\",IF(ISNA(VLOOKUP(A30,reporting5,4,FALSE)),\"\",VLOOKUP(A30,reporting5,4,FALSE)))","v":""}]
["youpla",{"$f":"IF(ISBLANK(VLOOKUP(A31,reporting1,2,FALSE)),\"\",IF(ISNA(VLOOKUP(A31,reporting1,2,FALSE)),\"\",VLOOKUP(A31,reporting1,2,FALSE)))","v":""},{"$f":"IF(ISBLANK(VLOOKUP(A31,reporting1,3,FALSE)),\"\",IF(ISNA(VLOOKUP(A31,reporting1,3,FALSE)),\"\",VLOOKUP(A31,reporting1,3,FALSE)))","v":""},{"$f":"IF(ISBLANK(VLOOKUP(A31,reporting1,4,FALSE)),\"\",IF(ISNA(VLOOKUP(A31,reporting1,4,FALSE)),\"\",VLOOKUP(A31,reporting1,4,FALSE)))","v":""},{"$f":"IF(ISBLANK(VLOOKUP(A31,reporting2,2,FALSE)),\"\",IF(ISNA(VLOOKUP(A31,reporting2,2,FALSE)),\"\",VLOOKUP(A31,reporting2,2,FALSE)))","v":""},{"$f":"IF(ISBLANK(VLOOKUP(A31,reporting2,3,FALSE)),\"\",IF(ISNA(VLOOKUP(A31,reporting2,3,FALSE)),\"\",VLOOKUP(A31,reporting2,3,FALSE)))","v":""},{"$f":"IF(ISBLANK(VLOOKUP(A31,reporting2,4,FALSE)),\"\",IF(ISNA(VLOOKUP(A31,reporting2,4,FALSE)),\"\",VLOOKUP(A31,reporting2,4,FALSE)))","v":""},{"$f":"IF(ISBLANK(VLOOKUP(A31,reporting3,2,FALSE)),\"\",IF(ISNA(VLOOKUP(A31,reporting3,2,FALSE)),\"\",VLOOKUP(A31,reporting3,2,FALSE)))","v":""},{"$f":"IF(ISBLANK(VLOOKUP(A31,reporting3,3,FALSE)),\"\",IF(ISNA(VLOOKUP(A31,reporting3,3,FALSE)),\"\",VLOOKUP(A31,reporting3,3,FALSE)))","v":""},{"$f":"IF(ISBLANK(VLOOKUP(A31,reporting3,4,FALSE)),\"\",IF(ISNA(VLOOKUP(A31,reporting3,4,FALSE)),\"\",VLOOKUP(A31,reporting3,4,FALSE)))","v":""},{"$f":"IF(ISBLANK(VLOOKUP(A31,reporting4,2,FALSE)),\"\",IF(ISNA(VLOOKUP(A31,reporting4,2,FALSE)),\"\",VLOOKUP(A31,reporting4,2,FALSE)))","v":""},{"$f":"IF(ISBLANK(VLOOKUP(A31,reporting4,3,FALSE)),\"\",IF(ISNA(VLOOKUP(A31,reporting4,3,FALSE)),\"\",VLOOKUP(A31,reporting4,3,FALSE)))","v":""},{"$f":"IF(ISBLANK(VLOOKUP(A31,reporting4,4,FALSE)),\"\",IF(ISNA(VLOOKUP(A31,reporting4,4,FALSE)),\"\",VLOOKUP(A31,reporting4,4,FALSE)))","v":""},{"$f":"IF(ISBLANK(VLOOKUP(A31,reportin5,2,FALSE)),\"\",IF(ISNA(VLOOKUP(A31,reporting5,2,FALSE)),\"\",VLOOKUP(A31,reporting5,2,FALSE)))","v":""},{"$f":"IF(ISBLANK(VLOOKUP(A31,reporting5,3,FALSE)),\"\",IF(ISNA(VLOOKUP(A31,reporting5,3,FALSE)),\"\",VLOOKUP(A31,reporting5,3,FALSE)))","v":""},{"$f":"IF(ISBLANK(VLOOKUP(A31,reporting5,4,FALSE)),\"\",IF(ISNA(VLOOKUP(A31,reporting5,4,FALSE)),\"\",VLOOKUP(A31,reporting5,4,FALSE)))","v":""}]
[null,{"$f":"IF(ISBLANK(VLOOKUP(A32,reporting1,2,FALSE)),\"\",IF(ISNA(VLOOKUP(A32,reporting1,2,FALSE)),\"\",VLOOKUP(A32,reporting1,2,FALSE)))","v":""},{"$f":"IF(ISBLANK(VLOOKUP(A32,reporting1,3,FALSE)),\"\",IF(ISNA(VLOOKUP(A32,reporting1,3,FALSE)),\"\",VLOOKUP(A32,reporting1,3,FALSE)))","v":""},{"$f":"IF(ISBLANK(VLOOKUP(A32,reporting1,4,FALSE)),\"\",IF(ISNA(VLOOKUP(A32,reporting1,4,FALSE)),\"\",VLOOKUP(A32,reporting1,4,FALSE)))","v":""},{"$f":"IF(ISBLANK(VLOOKUP(A32,reporting2,2,FALSE)),\"\",IF(ISNA(VLOOKUP(A32,reporting2,2,FALSE)),\"\",VLOOKUP(A32,reporting2,2,FALSE)))","v":""},{"$f":"IF(ISBLANK(VLOOKUP(A32,reporting2,3,FALSE)),\"\",IF(ISNA(VLOOKUP(A32,reporting2,3,FALSE)),\"\",VLOOKUP(A32,reporting2,3,FALSE)))","v":""},{"$f":"IF(ISBLANK(VLOOKUP(A32,reporting2,4,FALSE)),\"\",IF(ISNA(VLOOKUP(A32,reporting2,4,FALSE)),\"\",VLOOKUP(A32,reporting2,4,FALSE)))","v":""},{"$f":"IF(ISBLANK(VLOOKUP(A32,reporting3,2,FALSE)),\"\",IF(ISNA(VLOOKUP(A32,reporting3,2,FALSE)),\"\",VLOOKUP(A32,reporting3,2,FALSE)))","v":""},{"$f":"IF(ISBLANK(VLOOKUP(A32,reporting3,3,FALSE)),\"\",IF(ISNA(VLOOKUP(A32,reporting3,3,FALSE)),\"\",VLOOKUP(A32,reporting3,3,FALSE)))","v":""},{"$f":"IF(ISBLANK(VLOOKUP(A32,reporting3,4,FALSE)),\"\",IF(ISNA(VLOOKUP(A32,reporting3,4,FALSE)),\"\",VLOOKUP(A32,reporting3,4,FALSE)))","v":""},{"$f":"IF(ISBLANK(VLOOKUP(A32,reporting4,2,FALSE)),\"\",IF(ISNA(VLOOKUP(A32,reporting4,2,FALSE)),\"\",VLOOKUP(A32,reporting4,2,FALSE)))","v":""},{"$f":"IF(ISBLANK(VLOOKUP(A32,reporting4,3,FALSE)),\"\",IF(ISNA(VLOOKUP(A32,reporting4,3,FALSE)),\"\",VLOOKUP(A32,reporting4,3,FALSE)))","v":""},{"$f":"IF(ISBLANK(VLOOKUP(A32,reporting4,4,FALSE)),\"\",IF(ISNA(VLOOKUP(A32,reporting4,4,FALSE)),\"\",VLOOKUP(A32,reporting4,4,FALSE)))","v":""},{"$f":"IF(ISBLANK(VLOOKUP(A32,reportin5,2,FALSE)),\"\",IF(ISNA(VLOOKUP(A32,reporting5,2,FALSE)),\"\",VLOOKUP(A32,reporting5,2,FALSE)))","v":""},{"$f":"IF(ISBLANK(VLOOKUP(A32,reporting5,3,FALSE)),\"\",IF(ISNA(VLOOKUP(A32,reporting5,3,FALSE)),\"\",VLOOKUP(A32,reporting5,3,FALSE)))","v":""},{"$f":"IF(ISBLANK(VLOOKUP(A32,reporting5,4,FALSE)),\"\",IF(ISNA(VLOOKUP(A32,reporting5,4,FALSE)),\"\",VLOOKUP(A32,reporting5,4,FALSE)))","v":""}]
["sterzog",{"$f":"IF(ISBLANK(VLOOKUP(A33,reporting1,2,FALSE)),\"\",IF(ISNA(VLOOKUP(A33,reporting1,2,FALSE)),\"\",VLOOKUP(A33,reporting1,2,FALSE)))","v":""},{"$f":"IF(ISBLANK(VLOOKUP(A33,reporting1,3,FALSE)),\"\",IF(ISNA(VLOOKUP(A33,reporting1,3,FALSE)),\"\",VLOOKUP(A33,reporting1,3,FALSE)))","v":""},{"$f":"IF(ISBLANK(VLOOKUP(A33,reporting1,4,FALSE)),\"\",IF(ISNA(VLOOKUP(A33,reporting1,4,FALSE)),\"\",VLOOKUP(A33,reporting1,4,FALSE)))","v":""},{"$f":"IF(ISBLANK(VLOOKUP(A33,reporting2,2,FALSE)),\"\",IF(ISNA(VLOOKUP(A33,reporting2,2,FALSE)),\"\",VLOOKUP(A33,reporting2,2,FALSE)))","v":""},{"$f":"IF(ISBLANK(VLOOKUP(A33,reporting2,3,FALSE)),\"\",IF(ISNA(VLOOKUP(A33,reporting2,3,FALSE)),\"\",VLOOKUP(A33,reporting2,3,FALSE)))","v":""},{"$f":"IF(ISBLANK(VLOOKUP(A33,reporting2,4,FALSE)),\"\",IF(ISNA(VLOOKUP(A33,reporting2,4,FALSE)),\"\",VLOOKUP(A33,reporting2,4,FALSE)))","v":""},{"$f":"IF(ISBLANK(VLOOKUP(A33,reporting3,2,FALSE)),\"\",IF(ISNA(VLOOKUP(A33,reporting3,2,FALSE)),\"\",VLOOKUP(A33,reporting3,2,FALSE)))","v":""},{"$f":"IF(ISBLANK(VLOOKUP(A33,reporting3,3,FALSE)),\"\",IF(ISNA(VLOOKUP(A33,reporting3,3,FALSE)),\"\",VLOOKUP(A33,reporting3,3,FALSE)))","v":""},{"$f":"IF(ISBLANK(VLOOKUP(A33,reporting3,4,FALSE)),\"\",IF(ISNA(VLOOKUP(A33,reporting3,4,FALSE)),\"\",VLOOKUP(A33,reporting3,4,FALSE)))","v":""},{"$f":"IF(ISBLANK(VLOOKUP(A33,reporting4,2,FALSE)),\"\",IF(ISNA(VLOOKUP(A33,reporting4,2,FALSE)),\"\",VLOOKUP(A33,reporting4,2,FALSE)))","v":""},{"$f":"IF(ISBLANK(VLOOKUP(A33,reporting4,3,FALSE)),\"\",IF(ISNA(VLOOKUP(A33,reporting4,3,FALSE)),\"\",VLOOKUP(A33,reporting4,3,FALSE)))","v":""},{"$f":"IF(ISBLANK(VLOOKUP(A33,reporting4,4,FALSE)),\"\",IF(ISNA(VLOOKUP(A33,reporting4,4,FALSE)),\"\",VLOOKUP(A33,reporting4,4,FALSE)))","v":""},{"$f":"IF(ISBLANK(VLOOKUP(A33,reportin5,2,FALSE)),\"\",IF(ISNA(VLOOKUP(A33,reporting5,2,FALSE)),\"\",VLOOKUP(A33,reporting5,2,FALSE)))","v":""},{"$f":"IF(ISBLANK(VLOOKUP(A33,reporting5,3,FALSE)),\"\",IF(ISNA(VLOOKUP(A33,reporting5,3,FALSE)),\"\",VLOOKUP(A33,reporting5,3,FALSE)))","v":""},{"$f":"IF(ISBLANK(VLOOKUP(A33,reporting5,4,FALSE)),\"\",IF(ISNA(VLOOKUP(A33,reporting5,4,FALSE)),\"\",VLOOKUP(A33,reporting5,4,FALSE)))","v":""}]
["dtc",{"$f":"IF(ISBLANK(VLOOKUP(A34,reporting1,2,FALSE)),\"\",IF(ISNA(VLOOKUP(A34,reporting1,2,FALSE)),\"\",VLOOKUP(A34,reporting1,2,FALSE)))","v":""},{"$f":"IF(ISBLANK(VLOOKUP(A34,reporting1,3,FALSE)),\"\",IF(ISNA(VLOOKUP(A34,reporting1,3,FALSE)),\"\",VLOOKUP(A34,reporting1,3,FALSE)))","v":""},{"$f":"IF(ISBLANK(VLOOKUP(A34,reporting1,4,FALSE)),\"\",IF(ISNA(VLOOKUP(A34,reporting1,4,FALSE)),\"\",VLOOKUP(A34,reporting1,4,FALSE)))","v":""},{"$f":"IF(ISBLANK(VLOOKUP(A34,reporting2,2,FALSE)),\"\",IF(ISNA(VLOOKUP(A34,reporting2,2,FALSE)),\"\",VLOOKUP(A34,reporting2,2,FALSE)))","v":""},{"$f":"IF(ISBLANK(VLOOKUP(A34,reporting2,3,FALSE)),\"\",IF(ISNA(VLOOKUP(A34,reporting2,3,FALSE)),\"\",VLOOKUP(A34,reporting2,3,FALSE)))","v":""},{"$f":"IF(ISBLANK(VLOOKUP(A34,reporting2,4,FALSE)),\"\",IF(ISNA(VLOOKUP(A34,reporting2,4,FALSE)),\"\",VLOOKUP(A34,reporting2,4,FALSE)))","v":""},{"$f":"IF(ISBLANK(VLOOKUP(A34,reporting3,2,FALSE)),\"\",IF(ISNA(VLOOKUP(A34,reporting3,2,FALSE)),\"\",VLOOKUP(A34,reporting3,2,FALSE)))","v":""},{"$f":"IF(ISBLANK(VLOOKUP(A34,reporting3,3,FALSE)),\"\",IF(ISNA(VLOOKUP(A34,reporting3,3,FALSE)),\"\",VLOOKUP(A34,reporting3,3,FALSE)))","v":""},{"$f":"IF(ISBLANK(VLOOKUP(A34,reporting3,4,FALSE)),\"\",IF(ISNA(VLOOKUP(A34,reporting3,4,FALSE)),\"\",VLOOKUP(A34,reporting3,4,FALSE)))","v":""},{"$f":"IF(ISBLANK(VLOOKUP(A34,reporting4,2,FALSE)),\"\",IF(ISNA(VLOOKUP(A34,reporting4,2,FALSE)),\"\",VLOOKUP(A34,reporting4,2,FALSE)))","v":""},{"$f":"IF(ISBLANK(VLOOKUP(A34,reporting4,3,FALSE)),\"\",IF(ISNA(VLOOKUP(A34,reporting4,3,FALSE)),\"\",VLOOKUP(A34,reporting4,3,FALSE)))","v":""},{"$f":"IF(ISBLANK(VLOOKUP(A34,reporting4,4,FALSE)),\"\",IF(ISNA(VLOOKUP(A34,reporting4,4,FALSE)),\"\",VLOOKUP(A34,reporting4,4,FALSE)))","v":""},{"$f":"IF(ISBLANK(VLOOKUP(A34,reportin5,2,FALSE)),\"\",IF(ISNA(VLOOKUP(A34,reporting5,2,FALSE)),\"\",VLOOKUP(A34,reporting5,2,FALSE)))","v":""},{"$f":"IF(ISBLANK(VLOOKUP(A34,reporting5,3,FALSE)),\"\",IF(ISNA(VLOOKUP(A34,reporting5,3,FALSE)),\"\",VLOOKUP(A34,reporting5,3,FALSE)))","v":""},{"$f":"IF(ISBLANK(VLOOKUP(A34,reporting5,4,FALSE)),\"\",IF(ISNA(VLOOKUP(A34,reporting5,4,FALSE)),\"\",VLOOKUP(A34,reporting5,4,FALSE)))","v":""}]
["teutobokhe",{"$f":"IF(ISBLANK(VLOOKUP(A35,reporting1,2,FALSE)),\"\",IF(ISNA(VLOOKUP(A35,reporting1,2,FALSE)),\"\",VLOOKUP(A35,reporting1,2,FALSE)))","v":""},{"$f":"IF(ISBLANK(VLOOKUP(A35,reporting1,3,FALSE)),\"\",IF(ISNA(VLOOKUP(A35,reporting1,3,FALSE)),\"\",VLOOKUP(A35,reporting1,3,FALSE)))","v":""},{"$f":"IF(ISBLANK(VLOOKUP(A35,reporting1,4,FALSE)),\"\",IF(ISNA(VLOOKUP(A35,reporting1,4,FALSE)),\"\",VLOOKUP(A35,reporting1,4,FALSE)))","v":""},{"$f":"IF(ISBLANK(VLOOKUP(A35,reporting2,2,FALSE)),\"\",IF(ISNA(VLOOKUP(A35,reporting2,2,FALSE)),\"\",VLOOKUP(A35,reporting2,2,FALSE)))","v":""},{"$f":"IF(ISBLANK(VLOOKUP(A35,reporting2,3,FALSE)),\"\",IF(ISNA(VLOOKUP(A35,reporting2,3,FALSE)),\"\",VLOOKUP(A35,reporting2,3,FALSE)))","v":""},{"$f":"IF(ISBLANK(VLOOKUP(A35,reporting2,4,FALSE)),\"\",IF(ISNA(VLOOKUP(A35,reporting2,4,FALSE)),\"\",VLOOKUP(A35,reporting2,4,FALSE)))","v":""},{"$f":"IF(ISBLANK(VLOOKUP(A35,reporting3,2,FALSE)),\"\",IF(ISNA(VLOOKUP(A35,reporting3,2,FALSE)),\"\",VLOOKUP(A35,reporting3,2,FALSE)))","v":""},{"$f":"IF(ISBLANK(VLOOKUP(A35,reporting3,3,FALSE)),\"\",IF(ISNA(VLOOKUP(A35,reporting3,3,FALSE)),\"\",VLOOKUP(A35,reporting3,3,FALSE)))","v":""},{"$f":"IF(ISBLANK(VLOOKUP(A35,reporting3,4,FALSE)),\"\",IF(ISNA(VLOOKUP(A35,reporting3,4,FALSE)),\"\",VLOOKUP(A35,reporting3,4,FALSE)))","v":""},{"$f":"IF(ISBLANK(VLOOKUP(A35,reporting4,2,FALSE)),\"\",IF(ISNA(VLOOKUP(A35,reporting4,2,FALSE)),\"\",VLOOKUP(A35,reporting4,2,FALSE)))","v":""},{"$f":"IF(ISBLANK(VLOOKUP(A35,reporting4,3,FALSE)),\"\",IF(ISNA(VLOOKUP(A35,reporting4,3,FALSE)),\"\",VLOOKUP(A35,reporting4,3,FALSE)))","v":""},{"$f":"IF(ISBLANK(VLOOKUP(A35,reporting4,4,FALSE)),\"\",IF(ISNA(VLOOKUP(A35,reporting4,4,FALSE)),\"\",VLOOKUP(A35,reporting4,4,FALSE)))","v":""},{"$f":"IF(ISBLANK(VLOOKUP(A35,reportin5,2,FALSE)),\"\",IF(ISNA(VLOOKUP(A35,reporting5,2,FALSE)),\"\",VLOOKUP(A35,reporting5,2,FALSE)))","v":""},{"$f":"IF(ISBLANK(VLOOKUP(A35,reporting5,3,FALSE)),\"\",IF(ISNA(VLOOKUP(A35,reporting5,3,FALSE)),\"\",VLOOKUP(A35,reporting5,3,FALSE)))","v":""},{"$f":"IF(ISBLANK(VLOOKUP(A35,reporting5,4,FALSE)),\"\",IF(ISNA(VLOOKUP(A35,reporting5,4,FALSE)),\"\",VLOOKUP(A35,reporting5,4,FALSE)))","v":""}]
["konoha",{"$f":"IF(ISBLANK(VLOOKUP(A36,reporting1,2,FALSE)),\"\",IF(ISNA(VLOOKUP(A36,reporting1,2,FALSE)),\"\",VLOOKUP(A36,reporting1,2,FALSE)))","v":""},{"$f":"IF(ISBLANK(VLOOKUP(A36,reporting1,3,FALSE)),\"\",IF(ISNA(VLOOKUP(A36,reporting1,3,FALSE)),\"\",VLOOKUP(A36,reporting1,3,FALSE)))","v":""},{"$f":"IF(ISBLANK(VLOOKUP(A36,reporting1,4,FALSE)),\"\",IF(ISNA(VLOOKUP(A36,reporting1,4,FALSE)),\"\",VLOOKUP(A36,reporting1,4,FALSE)))","v":""},{"$f":"IF(ISBLANK(VLOOKUP(A36,reporting2,2,FALSE)),\"\",IF(ISNA(VLOOKUP(A36,reporting2,2,FALSE)),\"\",VLOOKUP(A36,reporting2,2,FALSE)))","v":""},{"$f":"IF(ISBLANK(VLOOKUP(A36,reporting2,3,FALSE)),\"\",IF(ISNA(VLOOKUP(A36,reporting2,3,FALSE)),\"\",VLOOKUP(A36,reporting2,3,FALSE)))","v":""},{"$f":"IF(ISBLANK(VLOOKUP(A36,reporting2,4,FALSE)),\"\",IF(ISNA(VLOOKUP(A36,reporting2,4,FALSE)),\"\",VLOOKUP(A36,reporting2,4,FALSE)))","v":""},{"$f":"IF(ISBLANK(VLOOKUP(A36,reporting3,2,FALSE)),\"\",IF(ISNA(VLOOKUP(A36,reporting3,2,FALSE)),\"\",VLOOKUP(A36,reporting3,2,FALSE)))","v":""},{"$f":"IF(ISBLANK(VLOOKUP(A36,reporting3,3,FALSE)),\"\",IF(ISNA(VLOOKUP(A36,reporting3,3,FALSE)),\"\",VLOOKUP(A36,reporting3,3,FALSE)))","v":""},{"$f":"IF(ISBLANK(VLOOKUP(A36,reporting3,4,FALSE)),\"\",IF(ISNA(VLOOKUP(A36,reporting3,4,FALSE)),\"\",VLOOKUP(A36,reporting3,4,FALSE)))","v":""},{"$f":"IF(ISBLANK(VLOOKUP(A36,reporting4,2,FALSE)),\"\",IF(ISNA(VLOOKUP(A36,reporting4,2,FALSE)),\"\",VLOOKUP(A36,reporting4,2,FALSE)))","v":""},{"$f":"IF(ISBLANK(VLOOKUP(A36,reporting4,3,FALSE)),\"\",IF(ISNA(VLOOKUP(A36,reporting4,3,FALSE)),\"\",VLOOKUP(A36,reporting4,3,FALSE)))","v":""},{"$f":"IF(ISBLANK(VLOOKUP(A36,reporting4,4,FALSE)),\"\",IF(ISNA(VLOOKUP(A36,reporting4,4,FALSE)),\"\",VLOOKUP(A36,reporting4,4,FALSE)))","v":""},{"$f":"IF(ISBLANK(VLOOKUP(A36,reportin5,2,FALSE)),\"\",IF(ISNA(VLOOKUP(A36,reporting5,2,FALSE)),\"\",VLOOKUP(A36,reporting5,2,FALSE)))","v":""},{"$f":"IF(ISBLANK(VLOOKUP(A36,reporting5,3,FALSE)),\"\",IF(ISNA(VLOOKUP(A36,reporting5,3,FALSE)),\"\",VLOOKUP(A36,reporting5,3,FALSE)))","v":""},{"$f":"IF(ISBLANK(VLOOKUP(A36,reporting5,4,FALSE)),\"\",IF(ISNA(VLOOKUP(A36,reporting5,4,FALSE)),\"\",VLOOKUP(A36,reporting5,4,FALSE)))","v":""}]
["nicostartos",{"$f":"IF(ISBLANK(VLOOKUP(A37,reporting1,2,FALSE)),\"\",IF(ISNA(VLOOKUP(A37,reporting1,2,FALSE)),\"\",VLOOKUP(A37,reporting1,2,FALSE)))","v":""},{"$f":"IF(ISBLANK(VLOOKUP(A37,reporting1,3,FALSE)),\"\",IF(ISNA(VLOOKUP(A37,reporting1,3,FALSE)),\"\",VLOOKUP(A37,reporting1,3,FALSE)))","v":""},{"$f":"IF(ISBLANK(VLOOKUP(A37,reporting1,4,FALSE)),\"\",IF(ISNA(VLOOKUP(A37,reporting1,4,FALSE)),\"\",VLOOKUP(A37,reporting1,4,FALSE)))","v":""},{"$f":"IF(ISBLANK(VLOOKUP(A37,reporting2,2,FALSE)),\"\",IF(ISNA(VLOOKUP(A37,reporting2,2,FALSE)),\"\",VLOOKUP(A37,reporting2,2,FALSE)))","v":""},{"$f":"IF(ISBLANK(VLOOKUP(A37,reporting2,3,FALSE)),\"\",IF(ISNA(VLOOKUP(A37,reporting2,3,FALSE)),\"\",VLOOKUP(A37,reporting2,3,FALSE)))","v":""},{"$f":"IF(ISBLANK(VLOOKUP(A37,reporting2,4,FALSE)),\"\",IF(ISNA(VLOOKUP(A37,reporting2,4,FALSE)),\"\",VLOOKUP(A37,reporting2,4,FALSE)))","v":""},{"$f":"IF(ISBLANK(VLOOKUP(A37,reporting3,2,FALSE)),\"\",IF(ISNA(VLOOKUP(A37,reporting3,2,FALSE)),\"\",VLOOKUP(A37,reporting3,2,FALSE)))","v":""},{"$f":"IF(ISBLANK(VLOOKUP(A37,reporting3,3,FALSE)),\"\",IF(ISNA(VLOOKUP(A37,reporting3,3,FALSE)),\"\",VLOOKUP(A37,reporting3,3,FALSE)))","v":""},{"$f":"IF(ISBLANK(VLOOKUP(A37,reporting3,4,FALSE)),\"\",IF(ISNA(VLOOKUP(A37,reporting3,4,FALSE)),\"\",VLOOKUP(A37,reporting3,4,FALSE)))","v":""},{"$f":"IF(ISBLANK(VLOOKUP(A37,reporting4,2,FALSE)),\"\",IF(ISNA(VLOOKUP(A37,reporting4,2,FALSE)),\"\",VLOOKUP(A37,reporting4,2,FALSE)))","v":""},{"$f":"IF(ISBLANK(VLOOKUP(A37,reporting4,3,FALSE)),\"\",IF(ISNA(VLOOKUP(A37,reporting4,3,FALSE)),\"\",VLOOKUP(A37,reporting4,3,FALSE)))","v":""},{"$f":"IF(ISBLANK(VLOOKUP(A37,reporting4,4,FALSE)),\"\",IF(ISNA(VLOOKUP(A37,reporting4,4,FALSE)),\"\",VLOOKUP(A37,reporting4,4,FALSE)))","v":""},{"$f":"IF(ISBLANK(VLOOKUP(A37,reportin5,2,FALSE)),\"\",IF(ISNA(VLOOKUP(A37,reporting5,2,FALSE)),\"\",VLOOKUP(A37,reporting5,2,FALSE)))","v":""},{"$f":"IF(ISBLANK(VLOOKUP(A37,reporting5,3,FALSE)),\"\",IF(ISNA(VLOOKUP(A37,reporting5,3,FALSE)),\"\",VLOOKUP(A37,reporting5,3,FALSE)))","v":""},{"$f":"IF(ISBLANK(VLOOKUP(A37,reporting5,4,FALSE)),\"\",IF(ISNA(VLOOKUP(A37,reporting5,4,FALSE)),\"\",VLOOKUP(A37,reporting5,4,FALSE)))","v":""}]
["juju",{"$f":"IF(ISBLANK(VLOOKUP(A38,reporting1,2,FALSE)),\"\",IF(ISNA(VLOOKUP(A38,reporting1,2,FALSE)),\"\",VLOOKUP(A38,reporting1,2,FALSE)))","v":""},{"$f":"IF(ISBLANK(VLOOKUP(A38,reporting1,3,FALSE)),\"\",IF(ISNA(VLOOKUP(A38,reporting1,3,FALSE)),\"\",VLOOKUP(A38,reporting1,3,FALSE)))","v":""},{"$f":"IF(ISBLANK(VLOOKUP(A38,reporting1,4,FALSE)),\"\",IF(ISNA(VLOOKUP(A38,reporting1,4,FALSE)),\"\",VLOOKUP(A38,reporting1,4,FALSE)))","v":""},{"$f":"IF(ISBLANK(VLOOKUP(A38,reporting2,2,FALSE)),\"\",IF(ISNA(VLOOKUP(A38,reporting2,2,FALSE)),\"\",VLOOKUP(A38,reporting2,2,FALSE)))","v":""},{"$f":"IF(ISBLANK(VLOOKUP(A38,reporting2,3,FALSE)),\"\",IF(ISNA(VLOOKUP(A38,reporting2,3,FALSE)),\"\",VLOOKUP(A38,reporting2,3,FALSE)))","v":""},{"$f":"IF(ISBLANK(VLOOKUP(A38,reporting2,4,FALSE)),\"\",IF(ISNA(VLOOKUP(A38,reporting2,4,FALSE)),\"\",VLOOKUP(A38,reporting2,4,FALSE)))","v":""},{"$f":"IF(ISBLANK(VLOOKUP(A38,reporting3,2,FALSE)),\"\",IF(ISNA(VLOOKUP(A38,reporting3,2,FALSE)),\"\",VLOOKUP(A38,reporting3,2,FALSE)))","v":""},{"$f":"IF(ISBLANK(VLOOKUP(A38,reporting3,3,FALSE)),\"\",IF(ISNA(VLOOKUP(A38,reporting3,3,FALSE)),\"\",VLOOKUP(A38,reporting3,3,FALSE)))","v":""},{"$f":"IF(ISBLANK(VLOOKUP(A38,reporting3,4,FALSE)),\"\",IF(ISNA(VLOOKUP(A38,reporting3,4,FALSE)),\"\",VLOOKUP(A38,reporting3,4,FALSE)))","v":""},{"$f":"IF(ISBLANK(VLOOKUP(A38,reporting4,2,FALSE)),\"\",IF(ISNA(VLOOKUP(A38,reporting4,2,FALSE)),\"\",VLOOKUP(A38,reporting4,2,FALSE)))","v":""},{"$f":"IF(ISBLANK(VLOOKUP(A38,reporting4,3,FALSE)),\"\",IF(ISNA(VLOOKUP(A38,reporting4,3,FALSE)),\"\",VLOOKUP(A38,reporting4,3,FALSE)))","v":""},{"$f":"IF(ISBLANK(VLOOKUP(A38,reporting4,4,FALSE)),\"\",IF(ISNA(VLOOKUP(A38,reporting4,4,FALSE)),\"\",VLOOKUP(A38,reporting4,4,FALSE)))","v":""},{"$f":"IF(ISBLANK(VLOOKUP(A38,reportin5,2,FALSE)),\"\",IF(ISNA(VLOOKUP(A38,reporting5,2,FALSE)),\"\",VLOOKUP(A38,reporting5,2,FALSE)))","v":""},{"$f":"IF(ISBLANK(VLOOKUP(A38,reporting5,3,FALSE)),\"\",IF(ISNA(VLOOKUP(A38,reporting5,3,FALSE)),\"\",VLOOKUP(A38,reporting5,3,FALSE)))","v":""},{"$f":"IF(ISBLANK(VLOOKUP(A38,reporting5,4,FALSE)),\"\",IF(ISNA(VLOOKUP(A38,reporting5,4,FALSE)),\"\",VLOOKUP(A38,reporting5,4,FALSE)))","v":""}]
["menka",{"$f":"IF(ISBLANK(VLOOKUP(A39,reporting1,2,FALSE)),\"\",IF(ISNA(VLOOKUP(A39,reporting1,2,FALSE)),\"\",VLOOKUP(A39,reporting1,2,FALSE)))","v":""},{"$f":"IF(ISBLANK(VLOOKUP(A39,reporting1,3,FALSE)),\"\",IF(ISNA(VLOOKUP(A39,reporting1,3,FALSE)),\"\",VLOOKUP(A39,reporting1,3,FALSE)))","v":""},{"$f":"IF(ISBLANK(VLOOKUP(A39,reporting1,4,FALSE)),\"\",IF(ISNA(VLOOKUP(A39,reporting1,4,FALSE)),\"\",VLOOKUP(A39,reporting1,4,FALSE)))","v":""},{"$f":"IF(ISBLANK(VLOOKUP(A39,reporting2,2,FALSE)),\"\",IF(ISNA(VLOOKUP(A39,reporting2,2,FALSE)),\"\",VLOOKUP(A39,reporting2,2,FALSE)))","v":""},{"$f":"IF(ISBLANK(VLOOKUP(A39,reporting2,3,FALSE)),\"\",IF(ISNA(VLOOKUP(A39,reporting2,3,FALSE)),\"\",VLOOKUP(A39,reporting2,3,FALSE)))","v":""},{"$f":"IF(ISBLANK(VLOOKUP(A39,reporting2,4,FALSE)),\"\",IF(ISNA(VLOOKUP(A39,reporting2,4,FALSE)),\"\",VLOOKUP(A39,reporting2,4,FALSE)))","v":""},{"$f":"IF(ISBLANK(VLOOKUP(A39,reporting3,2,FALSE)),\"\",IF(ISNA(VLOOKUP(A39,reporting3,2,FALSE)),\"\",VLOOKUP(A39,reporting3,2,FALSE)))","v":""},{"$f":"IF(ISBLANK(VLOOKUP(A39,reporting3,3,FALSE)),\"\",IF(ISNA(VLOOKUP(A39,reporting3,3,FALSE)),\"\",VLOOKUP(A39,reporting3,3,FALSE)))","v":""},{"$f":"IF(ISBLANK(VLOOKUP(A39,reporting3,4,FALSE)),\"\",IF(ISNA(VLOOKUP(A39,reporting3,4,FALSE)),\"\",VLOOKUP(A39,reporting3,4,FALSE)))","v":""},{"$f":"IF(ISBLANK(VLOOKUP(A39,reporting4,2,FALSE)),\"\",IF(ISNA(VLOOKUP(A39,reporting4,2,FALSE)),\"\",VLOOKUP(A39,reporting4,2,FALSE)))","v":""},{"$f":"IF(ISBLANK(VLOOKUP(A39,reporting4,3,FALSE)),\"\",IF(ISNA(VLOOKUP(A39,reporting4,3,FALSE)),\"\",VLOOKUP(A39,reporting4,3,FALSE)))","v":""},{"$f":"IF(ISBLANK(VLOOKUP(A39,reporting4,4,FALSE)),\"\",IF(ISNA(VLOOKUP(A39,reporting4,4,FALSE)),\"\",VLOOKUP(A39,reporting4,4,FALSE)))","v":""},{"$f":"IF(ISBLANK(VLOOKUP(A39,reportin5,2,FALSE)),\"\",IF(ISNA(VLOOKUP(A39,reporting5,2,FALSE)),\"\",VLOOKUP(A39,reporting5,2,FALSE)))","v":""},{"$f":"IF(ISBLANK(VLOOKUP(A39,reporting5,3,FALSE)),\"\",IF(ISNA(VLOOKUP(A39,reporting5,3,FALSE)),\"\",VLOOKUP(A39,reporting5,3,FALSE)))","v":""},{"$f":"IF(ISBLANK(VLOOKUP(A39,reporting5,4,FALSE)),\"\",IF(ISNA(VLOOKUP(A39,reporting5,4,FALSE)),\"\",VLOOKUP(A39,reporting5,4,FALSE)))","v":""}]
["demis",{"$f":"IF(ISBLANK(VLOOKUP(A40,reporting1,2,FALSE)),\"\",IF(ISNA(VLOOKUP(A40,reporting1,2,FALSE)),\"\",VLOOKUP(A40,reporting1,2,FALSE)))","v":""},{"$f":"IF(ISBLANK(VLOOKUP(A40,reporting1,3,FALSE)),\"\",IF(ISNA(VLOOKUP(A40,reporting1,3,FALSE)),\"\",VLOOKUP(A40,reporting1,3,FALSE)))","v":""},{"$f":"IF(ISBLANK(VLOOKUP(A40,reporting1,4,FALSE)),\"\",IF(ISNA(VLOOKUP(A40,reporting1,4,FALSE)),\"\",VLOOKUP(A40,reporting1,4,FALSE)))","v":""},{"$f":"IF(ISBLANK(VLOOKUP(A40,reporting2,2,FALSE)),\"\",IF(ISNA(VLOOKUP(A40,reporting2,2,FALSE)),\"\",VLOOKUP(A40,reporting2,2,FALSE)))","v":""},{"$f":"IF(ISBLANK(VLOOKUP(A40,reporting2,3,FALSE)),\"\",IF(ISNA(VLOOKUP(A40,reporting2,3,FALSE)),\"\",VLOOKUP(A40,reporting2,3,FALSE)))","v":""},{"$f":"IF(ISBLANK(VLOOKUP(A40,reporting2,4,FALSE)),\"\",IF(ISNA(VLOOKUP(A40,reporting2,4,FALSE)),\"\",VLOOKUP(A40,reporting2,4,FALSE)))","v":""},{"$f":"IF(ISBLANK(VLOOKUP(A40,reporting3,2,FALSE)),\"\",IF(ISNA(VLOOKUP(A40,reporting3,2,FALSE)),\"\",VLOOKUP(A40,reporting3,2,FALSE)))","v":""},{"$f":"IF(ISBLANK(VLOOKUP(A40,reporting3,3,FALSE)),\"\",IF(ISNA(VLOOKUP(A40,reporting3,3,FALSE)),\"\",VLOOKUP(A40,reporting3,3,FALSE)))","v":""},{"$f":"IF(ISBLANK(VLOOKUP(A40,reporting3,4,FALSE)),\"\",IF(ISNA(VLOOKUP(A40,reporting3,4,FALSE)),\"\",VLOOKUP(A40,reporting3,4,FALSE)))","v":""},{"$f":"IF(ISBLANK(VLOOKUP(A40,reporting4,2,FALSE)),\"\",IF(ISNA(VLOOKUP(A40,reporting4,2,FALSE)),\"\",VLOOKUP(A40,reporting4,2,FALSE)))","v":""},{"$f":"IF(ISBLANK(VLOOKUP(A40,reporting4,3,FALSE)),\"\",IF(ISNA(VLOOKUP(A40,reporting4,3,FALSE)),\"\",VLOOKUP(A40,reporting4,3,FALSE)))","v":""},{"$f":"IF(ISBLANK(VLOOKUP(A40,reporting4,4,FALSE)),\"\",IF(ISNA(VLOOKUP(A40,reporting4,4,FALSE)),\"\",VLOOKUP(A40,reporting4,4,FALSE)))","v":""},{"$f":"IF(ISBLANK(VLOOKUP(A40,reportin5,2,FALSE)),\"\",IF(ISNA(VLOOKUP(A40,reporting5,2,FALSE)),\"\",VLOOKUP(A40,reporting5,2,FALSE)))","v":""},{"$f":"IF(ISBLANK(VLOOKUP(A40,reporting5,3,FALSE)),\"\",IF(ISNA(VLOOKUP(A40,reporting5,3,FALSE)),\"\",VLOOKUP(A40,reporting5,3,FALSE)))","v":""},{"$f":"IF(ISBLANK(VLOOKUP(A40,reporting5,4,FALSE)),\"\",IF(ISNA(VLOOKUP(A40,reporting5,4,FALSE)),\"\",VLOOKUP(A40,reporting5,4,FALSE)))","v":""}]
["damien",{"$f":"IF(ISBLANK(VLOOKUP(A41,reporting1,2,FALSE)),\"\",IF(ISNA(VLOOKUP(A41,reporting1,2,FALSE)),\"\",VLOOKUP(A41,reporting1,2,FALSE)))","v":""},{"$f":"IF(ISBLANK(VLOOKUP(A41,reporting1,3,FALSE)),\"\",IF(ISNA(VLOOKUP(A41,reporting1,3,FALSE)),\"\",VLOOKUP(A41,reporting1,3,FALSE)))","v":""},{"$f":"IF(ISBLANK(VLOOKUP(A41,reporting1,4,FALSE)),\"\",IF(ISNA(VLOOKUP(A41,reporting1,4,FALSE)),\"\",VLOOKUP(A41,reporting1,4,FALSE)))","v":""},{"$f":"IF(ISBLANK(VLOOKUP(A41,reporting2,2,FALSE)),\"\",IF(ISNA(VLOOKUP(A41,reporting2,2,FALSE)),\"\",VLOOKUP(A41,reporting2,2,FALSE)))","v":""},{"$f":"IF(ISBLANK(VLOOKUP(A41,reporting2,3,FALSE)),\"\",IF(ISNA(VLOOKUP(A41,reporting2,3,FALSE)),\"\",VLOOKUP(A41,reporting2,3,FALSE)))","v":""},{"$f":"IF(ISBLANK(VLOOKUP(A41,reporting2,4,FALSE)),\"\",IF(ISNA(VLOOKUP(A41,reporting2,4,FALSE)),\"\",VLOOKUP(A41,reporting2,4,FALSE)))","v":""},{"$f":"IF(ISBLANK(VLOOKUP(A41,reporting3,2,FALSE)),\"\",IF(ISNA(VLOOKUP(A41,reporting3,2,FALSE)),\"\",VLOOKUP(A41,reporting3,2,FALSE)))","v":""},{"$f":"IF(ISBLANK(VLOOKUP(A41,reporting3,3,FALSE)),\"\",IF(ISNA(VLOOKUP(A41,reporting3,3,FALSE)),\"\",VLOOKUP(A41,reporting3,3,FALSE)))","v":""},{"$f":"IF(ISBLANK(VLOOKUP(A41,reporting3,4,FALSE)),\"\",IF(ISNA(VLOOKUP(A41,reporting3,4,FALSE)),\"\",VLOOKUP(A41,reporting3,4,FALSE)))","v":""},{"$f":"IF(ISBLANK(VLOOKUP(A41,reporting4,2,FALSE)),\"\",IF(ISNA(VLOOKUP(A41,reporting4,2,FALSE)),\"\",VLOOKUP(A41,reporting4,2,FALSE)))","v":""},{"$f":"IF(ISBLANK(VLOOKUP(A41,reporting4,3,FALSE)),\"\",IF(ISNA(VLOOKUP(A41,reporting4,3,FALSE)),\"\",VLOOKUP(A41,reporting4,3,FALSE)))","v":""},{"$f":"IF(ISBLANK(VLOOKUP(A41,reporting4,4,FALSE)),\"\",IF(ISNA(VLOOKUP(A41,reporting4,4,FALSE)),\"\",VLOOKUP(A41,reporting4,4,FALSE)))","v":""},{"$f":"IF(ISBLANK(VLOOKUP(A41,reportin5,2,FALSE)),\"\",IF(ISNA(VLOOKUP(A41,reporting5,2,FALSE)),\"\",VLOOKUP(A41,reporting5,2,FALSE)))","v":""},{"$f":"IF(ISBLANK(VLOOKUP(A41,reporting5,3,FALSE)),\"\",IF(ISNA(VLOOKUP(A41,reporting5,3,FALSE)),\"\",VLOOKUP(A41,reporting5,3,FALSE)))","v":""},{"$f":"IF(ISBLANK(VLOOKUP(A41,reporting5,4,FALSE)),\"\",IF(ISNA(VLOOKUP(A41,reporting5,4,FALSE)),\"\",VLOOKUP(A41,reporting5,4,FALSE)))","v":""}]
[null,{"$f":"IF(ISBLANK(VLOOKUP(A42,reporting1,2,FALSE)),\"\",IF(ISNA(VLOOKUP(A42,reporting1,2,FALSE)),\"\",VLOOKUP(A42,reporting1,2,FALSE)))","v":""},{"$f":"IF(ISBLANK(VLOOKUP(A42,reporting1,3,FALSE)),\"\",IF(ISNA(VLOOKUP(A42,reporting1,3,FALSE)),\"\",VLOOKUP(A42,reporting1,3,FALSE)))","v":""},{"$f":"IF(ISBLANK(VLOOKUP(A42,reporting1,4,FALSE)),\"\",IF(ISNA(VLOOKUP(A42,reporting1,4,FALSE)),\"\",VLOOKUP(A42,reporting1,4,FALSE)))","v":""},{"$f":"IF(ISBLANK(VLOOKUP(A42,reporting2,2,FALSE)),\"\",IF(ISNA(VLOOKUP(A42,reporting2,2,FALSE)),\"\",VLOOKUP(A42,reporting2,2,FALSE)))","v":""},{"$f":"IF(ISBLANK(VLOOKUP(A42,reporting2,3,FALSE)),\"\",IF(ISNA(VLOOKUP(A42,reporting2,3,FALSE)),\"\",VLOOKUP(A42,reporting2,3,FALSE)))","v":""},{"$f":"IF(ISBLANK(VLOOKUP(A42,reporting2,4,FALSE)),\"\",IF(ISNA(VLOOKUP(A42,reporting2,4,FALSE)),\"\",VLOOKUP(A42,reporting2,4,FALSE)))","v":""},{"$f":"IF(ISBLANK(VLOOKUP(A42,reporting3,2,FALSE)),\"\",IF(ISNA(VLOOKUP(A42,reporting3,2,FALSE)),\"\",VLOOKUP(A42,reporting3,2,FALSE)))","v":""},{"$f":"IF(ISBLANK(VLOOKUP(A42,reporting3,3,FALSE)),\"\",IF(ISNA(VLOOKUP(A42,reporting3,3,FALSE)),\"\",VLOOKUP(A42,reporting3,3,FALSE)))","v":""},{"$f":"IF(ISBLANK(VLOOKUP(A42,reporting3,4,FALSE)),\"\",IF(ISNA(VLOOKUP(A42,reporting3,4,FALSE)),\"\",VLOOKUP(A42,reporting3,4,FALSE)))","v":""},{"$f":"IF(ISBLANK(VLOOKUP(A42,reporting4,2,FALSE)),\"\",IF(ISNA(VLOOKUP(A42,reporting4,2,FALSE)),\"\",VLOOKUP(A42,reporting4,2,FALSE)))","v":""},{"$f":"IF(ISBLANK(VLOOKUP(A42,reporting4,3,FALSE)),\"\",IF(ISNA(VLOOKUP(A42,reporting4,3,FALSE)),\"\",VLOOKUP(A42,reporting4,3,FALSE)))","v":""},{"$f":"IF(ISBLANK(VLOOKUP(A42,reporting4,4,FALSE)),\"\",IF(ISNA(VLOOKUP(A42,reporting4,4,FALSE)),\"\",VLOOKUP(A42,reporting4,4,FALSE)))","v":""},{"$f":"IF(ISBLANK(VLOOKUP(A42,reportin5,2,FALSE)),\"\",IF(ISNA(VLOOKUP(A42,reporting5,2,FALSE)),\"\",VLOOKUP(A42,reporting5,2,FALSE)))","v":""},{"$f":"IF(ISBLANK(VLOOKUP(A42,reporting5,3,FALSE)),\"\",IF(ISNA(VLOOKUP(A42,reporting5,3,FALSE)),\"\",VLOOKUP(A42,reporting5,3,FALSE)))","v":""},{"$f":"IF(ISBLANK(VLOOKUP(A42,reporting5,4,FALSE)),\"\",IF(ISNA(VLOOKUP(A42,reporting5,4,FALSE)),\"\",VLOOKUP(A42,reporting5,4,FALSE)))","v":""}]
[null,{"$f":"IF(ISBLANK(VLOOKUP(A43,reporting1,2,FALSE)),\"\",IF(ISNA(VLOOKUP(A43,reporting1,2,FALSE)),\"\",VLOOKUP(A43,reporting1,2,FALSE)))","v":""},{"$f":"IF(ISBLANK(VLOOKUP(A43,reporting1,3,FALSE)),\"\",IF(ISNA(VLOOKUP(A43,reporting1,3,FALSE)),\"\",VLOOKUP(A43,reporting1,3,FALSE)))","v":""},{"$f":"IF(ISBLANK(VLOOKUP(A43,reporting1,4,FALSE)),\"\",IF(ISNA(VLOOKUP(A43,reporting1,4,FALSE)),\"\",VLOOKUP(A43,reporting1,4,FALSE)))","v":""},{"$f":"IF(ISBLANK(VLOOKUP(A43,reporting2,2,FALSE)),\"\",IF(ISNA(VLOOKUP(A43,reporting2,2,FALSE)),\"\",VLOOKUP(A43,reporting2,2,FALSE)))","v":""},{"$f":"IF(ISBLANK(VLOOKUP(A43,reporting2,3,FALSE)),\"\",IF(ISNA(VLOOKUP(A43,reporting2,3,FALSE)),\"\",VLOOKUP(A43,reporting2,3,FALSE)))","v":""},{"$f":"IF(ISBLANK(VLOOKUP(A43,reporting2,4,FALSE)),\"\",IF(ISNA(VLOOKUP(A43,reporting2,4,FALSE)),\"\",VLOOKUP(A43,reporting2,4,FALSE)))","v":""},{"$f":"IF(ISBLANK(VLOOKUP(A43,reporting3,2,FALSE)),\"\",IF(ISNA(VLOOKUP(A43,reporting3,2,FALSE)),\"\",VLOOKUP(A43,reporting3,2,FALSE)))","v":""},{"$f":"IF(ISBLANK(VLOOKUP(A43,reporting3,3,FALSE)),\"\",IF(ISNA(VLOOKUP(A43,reporting3,3,FALSE)),\"\",VLOOKUP(A43,reporting3,3,FALSE)))","v":""},{"$f":"IF(ISBLANK(VLOOKUP(A43,reporting3,4,FALSE)),\"\",IF(ISNA(VLOOKUP(A43,reporting3,4,FALSE)),\"\",VLOOKUP(A43,reporting3,4,FALSE)))","v":""},{"$f":"IF(ISBLANK(VLOOKUP(A43,reporting4,2,FALSE)),\"\",IF(ISNA(VLOOKUP(A43,reporting4,2,FALSE)),\"\",VLOOKUP(A43,reporting4,2,FALSE)))","v":""},{"$f":"IF(ISBLANK(VLOOKUP(A43,reporting4,3,FALSE)),\"\",IF(ISNA(VLOOKUP(A43,reporting4,3,FALSE)),\"\",VLOOKUP(A43,reporting4,3,FALSE)))","v":""},{"$f":"IF(ISBLANK(VLOOKUP(A43,reporting4,4,FALSE)),\"\",IF(ISNA(VLOOKUP(A43,reporting4,4,FALSE)),\"\",VLOOKUP(A43,reporting4,4,FALSE)))","v":""},{"$f":"IF(ISBLANK(VLOOKUP(A43,reportin5,2,FALSE)),\"\",IF(ISNA(VLOOKUP(A43,reporting5,2,FALSE)),\"\",VLOOKUP(A43,reporting5,2,FALSE)))","v":""},{"$f":"IF(ISBLANK(VLOOKUP(A43,reporting5,3,FALSE)),\"\",IF(ISNA(VLOOKUP(A43,reporting5,3,FALSE)),\"\",VLOOKUP(A43,reporting5,3,FALSE)))","v":""},{"$f":"IF(ISBLANK(VLOOKUP(A43,reporting5,4,FALSE)),\"\",IF(ISNA(VLOOKUP(A43,reporting5,4,FALSE)),\"\",VLOOKUP(A43,reporting5,4,FALSE)))","v":""}]
[null,{"$f":"IF(ISBLANK(VLOOKUP(A44,reporting1,2,FALSE)),\"\",IF(ISNA(VLOOKUP(A44,reporting1,2,FALSE)),\"\",VLOOKUP(A44,reporting1,2,FALSE)))","v":""},{"$f":"IF(ISBLANK(VLOOKUP(A44,reporting1,3,FALSE)),\"\",IF(ISNA(VLOOKUP(A44,reporting1,3,FALSE)),\"\",VLOOKUP(A44,reporting1,3,FALSE)))","v":""},{"$f":"IF(ISBLANK(VLOOKUP(A44,reporting1,4,FALSE)),\"\",IF(ISNA(VLOOKUP(A44,reporting1,4,FALSE)),\"\",VLOOKUP(A44,reporting1,4,FALSE)))","v":""},{"$f":"IF(ISBLANK(VLOOKUP(A44,reporting2,2,FALSE)),\"\",IF(ISNA(VLOOKUP(A44,reporting2,2,FALSE)),\"\",VLOOKUP(A44,reporting2,2,FALSE)))","v":""},{"$f":"IF(ISBLANK(VLOOKUP(A44,reporting2,3,FALSE)),\"\",IF(ISNA(VLOOKUP(A44,reporting2,3,FALSE)),\"\",VLOOKUP(A44,reporting2,3,FALSE)))","v":""},{"$f":"IF(ISBLANK(VLOOKUP(A44,reporting2,4,FALSE)),\"\",IF(ISNA(VLOOKUP(A44,reporting2,4,FALSE)),\"\",VLOOKUP(A44,reporting2,4,FALSE)))","v":""},{"$f":"IF(ISBLANK(VLOOKUP(A44,reporting3,2,FALSE)),\"\",IF(ISNA(VLOOKUP(A44,reporting3,2,FALSE)),\"\",VLOOKUP(A44,reporting3,2,FALSE)))","v":""},{"$f":"IF(ISBLANK(VLOOKUP(A44,reporting3,3,FALSE)),\"\",IF(ISNA(VLOOKUP(A44,reporting3,3,FALSE)),\"\",VLOOKUP(A44,reporting3,3,FALSE)))","v":""},{"$f":"IF(ISBLANK(VLOOKUP(A44,reporting3,4,FALSE)),\"\",IF(ISNA(VLOOKUP(A44,reporting3,4,FALSE)),\"\",VLOOKUP(A44,reporting3,4,FALSE)))","v":""},{"$f":"IF(ISBLANK(VLOOKUP(A44,reporting4,2,FALSE)),\"\",IF(ISNA(VLOOKUP(A44,reporting4,2,FALSE)),\"\",VLOOKUP(A44,reporting4,2,FALSE)))","v":""},{"$f":"IF(ISBLANK(VLOOKUP(A44,reporting4,3,FALSE)),\"\",IF(ISNA(VLOOKUP(A44,reporting4,3,FALSE)),\"\",VLOOKUP(A44,reporting4,3,FALSE)))","v":""},{"$f":"IF(ISBLANK(VLOOKUP(A44,reporting4,4,FALSE)),\"\",IF(ISNA(VLOOKUP(A44,reporting4,4,FALSE)),\"\",VLOOKUP(A44,reporting4,4,FALSE)))","v":""},{"$f":"IF(ISBLANK(VLOOKUP(A44,reportin5,2,FALSE)),\"\",IF(ISNA(VLOOKUP(A44,reporting5,2,FALSE)),\"\",VLOOKUP(A44,reporting5,2,FALSE)))","v":""},{"$f":"IF(ISBLANK(VLOOKUP(A44,reporting5,3,FALSE)),\"\",IF(ISNA(VLOOKUP(A44,reporting5,3,FALSE)),\"\",VLOOKUP(A44,reporting5,3,FALSE)))","v":""},{"$f":"IF(ISBLANK(VLOOKUP(A44,reporting5,4,FALSE)),\"\",IF(ISNA(VLOOKUP(A44,reporting5,4,FALSE)),\"\",VLOOKUP(A44,reporting5,4,FALSE)))","v":""}]
[null,{"$f":"IF(ISBLANK(VLOOKUP(A45,reporting1,2,FALSE)),\"\",IF(ISNA(VLOOKUP(A45,reporting1,2,FALSE)),\"\",VLOOKUP(A45,reporting1,2,FALSE)))","v":""},{"$f":"IF(ISBLANK(VLOOKUP(A45,reporting1,3,FALSE)),\"\",IF(ISNA(VLOOKUP(A45,reporting1,3,FALSE)),\"\",VLOOKUP(A45,reporting1,3,FALSE)))","v":""},{"$f":"IF(ISBLANK(VLOOKUP(A45,reporting1,4,FALSE)),\"\",IF(ISNA(VLOOKUP(A45,reporting1,4,FALSE)),\"\",VLOOKUP(A45,reporting1,4,FALSE)))","v":""},{"$f":"IF(ISBLANK(VLOOKUP(A45,reporting2,2,FALSE)),\"\",IF(ISNA(VLOOKUP(A45,reporting2,2,FALSE)),\"\",VLOOKUP(A45,reporting2,2,FALSE)))","v":""},{"$f":"IF(ISBLANK(VLOOKUP(A45,reporting2,3,FALSE)),\"\",IF(ISNA(VLOOKUP(A45,reporting2,3,FALSE)),\"\",VLOOKUP(A45,reporting2,3,FALSE)))","v":""},{"$f":"IF(ISBLANK(VLOOKUP(A45,reporting2,4,FALSE)),\"\",IF(ISNA(VLOOKUP(A45,reporting2,4,FALSE)),\"\",VLOOKUP(A45,reporting2,4,FALSE)))","v":""},{"$f":"IF(ISBLANK(VLOOKUP(A45,reporting3,2,FALSE)),\"\",IF(ISNA(VLOOKUP(A45,reporting3,2,FALSE)),\"\",VLOOKUP(A45,reporting3,2,FALSE)))","v":""},{"$f":"IF(ISBLANK(VLOOKUP(A45,reporting3,3,FALSE)),\"\",IF(ISNA(VLOOKUP(A45,reporting3,3,FALSE)),\"\",VLOOKUP(A45,reporting3,3,FALSE)))","v":""},{"$f":"IF(ISBLANK(VLOOKUP(A45,reporting3,4,FALSE)),\"\",IF(ISNA(VLOOKUP(A45,reporting3,4,FALSE)),\"\",VLOOKUP(A45,reporting3,4,FALSE)))","v":""},{"$f":"IF(ISBLANK(VLOOKUP(A45,reporting4,2,FALSE)),\"\",IF(ISNA(VLOOKUP(A45,reporting4,2,FALSE)),\"\",VLOOKUP(A45,reporting4,2,FALSE)))","v":""},{"$f":"IF(ISBLANK(VLOOKUP(A45,reporting4,3,FALSE)),\"\",IF(ISNA(VLOOKUP(A45,reporting4,3,FALSE)),\"\",VLOOKUP(A45,reporting4,3,FALSE)))","v":""},{"$f":"IF(ISBLANK(VLOOKUP(A45,reporting4,4,FALSE)),\"\",IF(ISNA(VLOOKUP(A45,reporting4,4,FALSE)),\"\",VLOOKUP(A45,reporting4,4,FALSE)))","v":""},{"$f":"IF(ISBLANK(VLOOKUP(A45,reportin5,2,FALSE)),\"\",IF(ISNA(VLOOKUP(A45,reporting5,2,FALSE)),\"\",VLOOKUP(A45,reporting5,2,FALSE)))","v":""},{"$f":"IF(ISBLANK(VLOOKUP(A45,reporting5,3,FALSE)),\"\",IF(ISNA(VLOOKUP(A45,reporting5,3,FALSE)),\"\",VLOOKUP(A45,reporting5,3,FALSE)))","v":""},{"$f":"IF(ISBLANK(VLOOKUP(A45,reporting5,4,FALSE)),\"\",IF(ISNA(VLOOKUP(A45,reporting5,4,FALSE)),\"\",VLOOKUP(A45,reporting5,4,FALSE)))","v":""}]
[null,{"$f":"IF(ISBLANK(VLOOKUP(A46,reporting1,2,FALSE)),\"\",IF(ISNA(VLOOKUP(A46,reporting1,2,FALSE)),\"\",VLOOKUP(A46,reporting1,2,FALSE)))","v":""},{"$f":"IF(ISBLANK(VLOOKUP(A46,reporting1,3,FALSE)),\"\",IF(ISNA(VLOOKUP(A46,reporting1,3,FALSE)),\"\",VLOOKUP(A46,reporting1,3,FALSE)))","v":""},{"$f":"IF(ISBLANK(VLOOKUP(A46,reporting1,4,FALSE)),\"\",IF(ISNA(VLOOKUP(A46,reporting1,4,FALSE)),\"\",VLOOKUP(A46,reporting1,4,FALSE)))","v":""},{"$f":"IF(ISBLANK(VLOOKUP(A46,reporting2,2,FALSE)),\"\",IF(ISNA(VLOOKUP(A46,reporting2,2,FALSE)),\"\",VLOOKUP(A46,reporting2,2,FALSE)))","v":""},{"$f":"IF(ISBLANK(VLOOKUP(A46,reporting2,3,FALSE)),\"\",IF(ISNA(VLOOKUP(A46,reporting2,3,FALSE)),\"\",VLOOKUP(A46,reporting2,3,FALSE)))","v":""},{"$f":"IF(ISBLANK(VLOOKUP(A46,reporting2,4,FALSE)),\"\",IF(ISNA(VLOOKUP(A46,reporting2,4,FALSE)),\"\",VLOOKUP(A46,reporting2,4,FALSE)))","v":""},{"$f":"IF(ISBLANK(VLOOKUP(A46,reporting3,2,FALSE)),\"\",IF(ISNA(VLOOKUP(A46,reporting3,2,FALSE)),\"\",VLOOKUP(A46,reporting3,2,FALSE)))","v":""},{"$f":"IF(ISBLANK(VLOOKUP(A46,reporting3,3,FALSE)),\"\",IF(ISNA(VLOOKUP(A46,reporting3,3,FALSE)),\"\",VLOOKUP(A46,reporting3,3,FALSE)))","v":""},{"$f":"IF(ISBLANK(VLOOKUP(A46,reporting3,4,FALSE)),\"\",IF(ISNA(VLOOKUP(A46,reporting3,4,FALSE)),\"\",VLOOKUP(A46,reporting3,4,FALSE)))","v":""},{"$f":"IF(ISBLANK(VLOOKUP(A46,reporting4,2,FALSE)),\"\",IF(ISNA(VLOOKUP(A46,reporting4,2,FALSE)),\"\",VLOOKUP(A46,reporting4,2,FALSE)))","v":""},{"$f":"IF(ISBLANK(VLOOKUP(A46,reporting4,3,FALSE)),\"\",IF(ISNA(VLOOKUP(A46,reporting4,3,FALSE)),\"\",VLOOKUP(A46,reporting4,3,FALSE)))","v":""},{"$f":"IF(ISBLANK(VLOOKUP(A46,reporting4,4,FALSE)),\"\",IF(ISNA(VLOOKUP(A46,reporting4,4,FALSE)),\"\",VLOOKUP(A46,reporting4,4,FALSE)))","v":""},{"$f":"IF(ISBLANK(VLOOKUP(A46,reportin5,2,FALSE)),\"\",IF(ISNA(VLOOKUP(A46,reporting5,2,FALSE)),\"\",VLOOKUP(A46,reporting5,2,FALSE)))","v":""},{"$f":"IF(ISBLANK(VLOOKUP(A46,reporting5,3,FALSE)),\"\",IF(ISNA(VLOOKUP(A46,reporting5,3,FALSE)),\"\",VLOOKUP(A46,reporting5,3,FALSE)))","v":""},{"$f":"IF(ISBLANK(VLOOKUP(A46,reporting5,4,FALSE)),\"\",IF(ISNA(VLOOKUP(A46,reporting5,4,FALSE)),\"\",VLOOKUP(A46,reporting5,4,FALSE)))","v":""}]
[null,{"$f":"IF(ISBLANK(VLOOKUP(A47,reporting1,2,FALSE)),\"\",IF(ISNA(VLOOKUP(A47,reporting1,2,FALSE)),\"\",VLOOKUP(A47,reporting1,2,FALSE)))","v":""},{"$f":"IF(ISBLANK(VLOOKUP(A47,reporting1,3,FALSE)),\"\",IF(ISNA(VLOOKUP(A47,reporting1,3,FALSE)),\"\",VLOOKUP(A47,reporting1,3,FALSE)))","v":""},{"$f":"IF(ISBLANK(VLOOKUP(A47,reporting1,4,FALSE)),\"\",IF(ISNA(VLOOKUP(A47,reporting1,4,FALSE)),\"\",VLOOKUP(A47,reporting1,4,FALSE)))","v":""},{"$f":"IF(ISBLANK(VLOOKUP(A47,reporting2,2,FALSE)),\"\",IF(ISNA(VLOOKUP(A47,reporting2,2,FALSE)),\"\",VLOOKUP(A47,reporting2,2,FALSE)))","v":""},{"$f":"IF(ISBLANK(VLOOKUP(A47,reporting2,3,FALSE)),\"\",IF(ISNA(VLOOKUP(A47,reporting2,3,FALSE)),\"\",VLOOKUP(A47,reporting2,3,FALSE)))","v":""},{"$f":"IF(ISBLANK(VLOOKUP(A47,reporting2,4,FALSE)),\"\",IF(ISNA(VLOOKUP(A47,reporting2,4,FALSE)),\"\",VLOOKUP(A47,reporting2,4,FALSE)))","v":""},{"$f":"IF(ISBLANK(VLOOKUP(A47,reporting3,2,FALSE)),\"\",IF(ISNA(VLOOKUP(A47,reporting3,2,FALSE)),\"\",VLOOKUP(A47,reporting3,2,FALSE)))","v":""},{"$f":"IF(ISBLANK(VLOOKUP(A47,reporting3,3,FALSE)),\"\",IF(ISNA(VLOOKUP(A47,reporting3,3,FALSE)),\"\",VLOOKUP(A47,reporting3,3,FALSE)))","v":""},{"$f":"IF(ISBLANK(VLOOKUP(A47,reporting3,4,FALSE)),\"\",IF(ISNA(VLOOKUP(A47,reporting3,4,FALSE)),\"\",VLOOKUP(A47,reporting3,4,FALSE)))","v":""},{"$f":"IF(ISBLANK(VLOOKUP(A47,reporting4,2,FALSE)),\"\",IF(ISNA(VLOOKUP(A47,reporting4,2,FALSE)),\"\",VLOOKUP(A47,reporting4,2,FALSE)))","v":""},{"$f":"IF(ISBLANK(VLOOKUP(A47,reporting4,3,FALSE)),\"\",IF(ISNA(VLOOKUP(A47,reporting4,3,FALSE)),\"\",VLOOKUP(A47,reporting4,3,FALSE)))","v":""},{"$f":"IF(ISBLANK(VLOOKUP(A47,reporting4,4,FALSE)),\"\",IF(ISNA(VLOOKUP(A47,reporting4,4,FALSE)),\"\",VLOOKUP(A47,reporting4,4,FALSE)))","v":""},{"$f":"IF(ISBLANK(VLOOKUP(A47,reportin5,2,FALSE)),\"\",IF(ISNA(VLOOKUP(A47,reporting5,2,FALSE)),\"\",VLOOKUP(A47,reporting5,2,FALSE)))","v":""},{"$f":"IF(ISBLANK(VLOOKUP(A47,reporting5,3,FALSE)),\"\",IF(ISNA(VLOOKUP(A47,reporting5,3,FALSE)),\"\",VLOOKUP(A47,reporting5,3,FALSE)))","v":""},{"$f":"IF(ISBLANK(VLOOKUP(A47,reporting5,4,FALSE)),\"\",IF(ISNA(VLOOKUP(A47,reporting5,4,FALSE)),\"\",VLOOKUP(A47,reporting5,4,FALSE)))","v":""}]
[null,{"$f":"IF(ISBLANK(VLOOKUP(A48,reporting1,2,FALSE)),\"\",IF(ISNA(VLOOKUP(A48,reporting1,2,FALSE)),\"\",VLOOKUP(A48,reporting1,2,FALSE)))","v":""},{"$f":"IF(ISBLANK(VLOOKUP(A48,reporting1,3,FALSE)),\"\",IF(ISNA(VLOOKUP(A48,reporting1,3,FALSE)),\"\",VLOOKUP(A48,reporting1,3,FALSE)))","v":""},{"$f":"IF(ISBLANK(VLOOKUP(A48,reporting1,4,FALSE)),\"\",IF(ISNA(VLOOKUP(A48,reporting1,4,FALSE)),\"\",VLOOKUP(A48,reporting1,4,FALSE)))","v":""},{"$f":"IF(ISBLANK(VLOOKUP(A48,reporting2,2,FALSE)),\"\",IF(ISNA(VLOOKUP(A48,reporting2,2,FALSE)),\"\",VLOOKUP(A48,reporting2,2,FALSE)))","v":""},{"$f":"IF(ISBLANK(VLOOKUP(A48,reporting2,3,FALSE)),\"\",IF(ISNA(VLOOKUP(A48,reporting2,3,FALSE)),\"\",VLOOKUP(A48,reporting2,3,FALSE)))","v":""},{"$f":"IF(ISBLANK(VLOOKUP(A48,reporting2,4,FALSE)),\"\",IF(ISNA(VLOOKUP(A48,reporting2,4,FALSE)),\"\",VLOOKUP(A48,reporting2,4,FALSE)))","v":""},{"$f":"IF(ISBLANK(VLOOKUP(A48,reporting3,2,FALSE)),\"\",IF(ISNA(VLOOKUP(A48,reporting3,2,FALSE)),\"\",VLOOKUP(A48,reporting3,2,FALSE)))","v":""},{"$f":"IF(ISBLANK(VLOOKUP(A48,reporting3,3,FALSE)),\"\",IF(ISNA(VLOOKUP(A48,reporting3,3,FALSE)),\"\",VLOOKUP(A48,reporting3,3,FALSE)))","v":""},{"$f":"IF(ISBLANK(VLOOKUP(A48,reporting3,4,FALSE)),\"\",IF(ISNA(VLOOKUP(A48,reporting3,4,FALSE)),\"\",VLOOKUP(A48,reporting3,4,FALSE)))","v":""},{"$f":"IF(ISBLANK(VLOOKUP(A48,reporting4,2,FALSE)),\"\",IF(ISNA(VLOOKUP(A48,reporting4,2,FALSE)),\"\",VLOOKUP(A48,reporting4,2,FALSE)))","v":""},{"$f":"IF(ISBLANK(VLOOKUP(A48,reporting4,3,FALSE)),\"\",IF(ISNA(VLOOKUP(A48,reporting4,3,FALSE)),\"\",VLOOKUP(A48,reporting4,3,FALSE)))","v":""},{"$f":"IF(ISBLANK(VLOOKUP(A48,reporting4,4,FALSE)),\"\",IF(ISNA(VLOOKUP(A48,reporting4,4,FALSE)),\"\",VLOOKUP(A48,reporting4,4,FALSE)))","v":""},{"$f":"IF(ISBLANK(VLOOKUP(A48,reportin5,2,FALSE)),\"\",IF(ISNA(VLOOKUP(A48,reporting5,2,FALSE)),\"\",VLOOKUP(A48,reporting5,2,FALSE)))","v":""},{"$f":"IF(ISBLANK(VLOOKUP(A48,reporting5,3,FALSE)),\"\",IF(ISNA(VLOOKUP(A48,reporting5,3,FALSE)),\"\",VLOOKUP(A48,reporting5,3,FALSE)))","v":""},{"$f":"IF(ISBLANK(VLOOKUP(A48,reporting5,4,FALSE)),\"\",IF(ISNA(VLOOKUP(A48,reporting5,4,FALSE)),\"\",VLOOKUP(A48,reporting5,4,FALSE)))","v":""}]
[null,{"$f":"IF(ISBLANK(VLOOKUP(A49,reporting1,2,FALSE)),\"\",IF(ISNA(VLOOKUP(A49,reporting1,2,FALSE)),\"\",VLOOKUP(A49,reporting1,2,FALSE)))","v":""},{"$f":"IF(ISBLANK(VLOOKUP(A49,reporting1,3,FALSE)),\"\",IF(ISNA(VLOOKUP(A49,reporting1,3,FALSE)),\"\",VLOOKUP(A49,reporting1,3,FALSE)))","v":""},{"$f":"IF(ISBLANK(VLOOKUP(A49,reporting1,4,FALSE)),\"\",IF(ISNA(VLOOKUP(A49,reporting1,4,FALSE)),\"\",VLOOKUP(A49,reporting1,4,FALSE)))","v":""},{"$f":"IF(ISBLANK(VLOOKUP(A49,reporting2,2,FALSE)),\"\",IF(ISNA(VLOOKUP(A49,reporting2,2,FALSE)),\"\",VLOOKUP(A49,reporting2,2,FALSE)))","v":""},{"$f":"IF(ISBLANK(VLOOKUP(A49,reporting2,3,FALSE)),\"\",IF(ISNA(VLOOKUP(A49,reporting2,3,FALSE)),\"\",VLOOKUP(A49,reporting2,3,FALSE)))","v":""},{"$f":"IF(ISBLANK(VLOOKUP(A49,reporting2,4,FALSE)),\"\",IF(ISNA(VLOOKUP(A49,reporting2,4,FALSE)),\"\",VLOOKUP(A49,reporting2,4,FALSE)))","v":""},{"$f":"IF(ISBLANK(VLOOKUP(A49,reporting3,2,FALSE)),\"\",IF(ISNA(VLOOKUP(A49,reporting3,2,FALSE)),\"\",VLOOKUP(A49,reporting3,2,FALSE)))","v":""},{"$f":"IF(ISBLANK(VLOOKUP(A49,reporting3,3,FALSE)),\"\",IF(ISNA(VLOOKUP(A49,reporting3,3,FALSE)),\"\",VLOOKUP(A49,reporting3,3,FALSE)))","v":""},{"$f":"IF(ISBLANK(VLOOKUP(A49,reporting3,4,FALSE)),\"\",IF(ISNA(VLOOKUP(A49,reporting3,4,FALSE)),\"\",VLOOKUP(A49,reporting3,4,FALSE)))","v":""},{"$f":"IF(ISBLANK(VLOOKUP(A49,reporting4,2,FALSE)),\"\",IF(ISNA(VLOOKUP(A49,reporting4,2,FALSE)),\"\",VLOOKUP(A49,reporting4,2,FALSE)))","v":""},{"$f":"IF(ISBLANK(VLOOKUP(A49,reporting4,3,FALSE)),\"\",IF(ISNA(VLOOKUP(A49,reporting4,3,FALSE)),\"\",VLOOKUP(A49,reporting4,3,FALSE)))","v":""},{"$f":"IF(ISBLANK(VLOOKUP(A49,reporting4,4,FALSE)),\"\",IF(ISNA(VLOOKUP(A49,reporting4,4,FALSE)),\"\",VLOOKUP(A49,reporting4,4,FALSE)))","v":""},{"$f":"IF(ISBLANK(VLOOKUP(A49,reportin5,2,FALSE)),\"\",IF(ISNA(VLOOKUP(A49,reporting5,2,FALSE)),\"\",VLOOKUP(A49,reporting5,2,FALSE)))","v":""},{"$f":"IF(ISBLANK(VLOOKUP(A49,reporting5,3,FALSE)),\"\",IF(ISNA(VLOOKUP(A49,reporting5,3,FALSE)),\"\",VLOOKUP(A49,reporting5,3,FALSE)))","v":""},{"$f":"IF(ISBLANK(VLOOKUP(A49,reporting5,4,FALSE)),\"\",IF(ISNA(VLOOKUP(A49,reporting5,4,FALSE)),\"\",VLOOKUP(A49,reporting5,4,FALSE)))","v":""}]
[null,{"$f":"IF(ISBLANK(VLOOKUP(A50,reporting1,2,FALSE)),\"\",IF(ISNA(VLOOKUP(A50,reporting1,2,FALSE)),\"\",VLOOKUP(A50,reporting1,2,FALSE)))","v":""},{"$f":"IF(ISBLANK(VLOOKUP(A50,reporting1,3,FALSE)),\"\",IF(ISNA(VLOOKUP(A50,reporting1,3,FALSE)),\"\",VLOOKUP(A50,reporting1,3,FALSE)))","v":""},{"$f":"IF(ISBLANK(VLOOKUP(A50,reporting1,4,FALSE)),\"\",IF(ISNA(VLOOKUP(A50,reporting1,4,FALSE)),\"\",VLOOKUP(A50,reporting1,4,FALSE)))","v":""},{"$f":"IF(ISBLANK(VLOOKUP(A50,reporting2,2,FALSE)),\"\",IF(ISNA(VLOOKUP(A50,reporting2,2,FALSE)),\"\",VLOOKUP(A50,reporting2,2,FALSE)))","v":""},{"$f":"IF(ISBLANK(VLOOKUP(A50,reporting2,3,FALSE)),\"\",IF(ISNA(VLOOKUP(A50,reporting2,3,FALSE)),\"\",VLOOKUP(A50,reporting2,3,FALSE)))","v":""},{"$f":"IF(ISBLANK(VLOOKUP(A50,reporting2,4,FALSE)),\"\",IF(ISNA(VLOOKUP(A50,reporting2,4,FALSE)),\"\",VLOOKUP(A50,reporting2,4,FALSE)))","v":""},{"$f":"IF(ISBLANK(VLOOKUP(A50,reporting3,2,FALSE)),\"\",IF(ISNA(VLOOKUP(A50,reporting3,2,FALSE)),\"\",VLOOKUP(A50,reporting3,2,FALSE)))","v":""},{"$f":"IF(ISBLANK(VLOOKUP(A50,reporting3,3,FALSE)),\"\",IF(ISNA(VLOOKUP(A50,reporting3,3,FALSE)),\"\",VLOOKUP(A50,reporting3,3,FALSE)))","v":""},{"$f":"IF(ISBLANK(VLOOKUP(A50,reporting3,4,FALSE)),\"\",IF(ISNA(VLOOKUP(A50,reporting3,4,FALSE)),\"\",VLOOKUP(A50,reporting3,4,FALSE)))","v":""},{"$f":"IF(ISBLANK(VLOOKUP(A50,reporting4,2,FALSE)),\"\",IF(ISNA(VLOOKUP(A50,reporting4,2,FALSE)),\"\",VLOOKUP(A50,reporting4,2,FALSE)))","v":""},{"$f":"IF(ISBLANK(VLOOKUP(A50,reporting4,3,FALSE)),\"\",IF(ISNA(VLOOKUP(A50,reporting4,3,FALSE)),\"\",VLOOKUP(A50,reporting4,3,FALSE)))","v":""},{"$f":"IF(ISBLANK(VLOOKUP(A50,reporting4,4,FALSE)),\"\",IF(ISNA(VLOOKUP(A50,reporting4,4,FALSE)),\"\",VLOOKUP(A50,reporting4,4,FALSE)))","v":""},{"$f":"IF(ISBLANK(VLOOKUP(A50,reportin5,2,FALSE)),\"\",IF(ISNA(VLOOKUP(A50,reporting5,2,FALSE)),\"\",VLOOKUP(A50,reporting5,2,FALSE)))","v":""},{"$f":"IF(ISBLANK(VLOOKUP(A50,reporting5,3,FALSE)),\"\",IF(ISNA(VLOOKUP(A50,reporting5,3,FALSE)),\"\",VLOOKUP(A50,reporting5,3,FALSE)))","v":""},{"$f":"IF(ISBLANK(VLOOKUP(A50,reporting5,4,FALSE)),\"\",IF(ISNA(VLOOKUP(A50,reporting5,4,FALSE)),\"\",VLOOKUP(A50,reporting5,4,FALSE)))","v":""}]
[null,{"$f":"IF(ISBLANK(VLOOKUP(A51,reporting1,2,FALSE)),\"\",IF(ISNA(VLOOKUP(A51,reporting1,2,FALSE)),\"\",VLOOKUP(A51,reporting1,2,FALSE)))","v":""},{"$f":"IF(ISBLANK(VLOOKUP(A51,reporting1,3,FALSE)),\"\",IF(ISNA(VLOOKUP(A51,reporting1,3,FALSE)),\"\",VLOOKUP(A51,reporting1,3,FALSE)))","v":""},{"$f":"IF(ISBLANK(VLOOKUP(A51,reporting1,4,FALSE)),\"\",IF(ISNA(VLOOKUP(A51,reporting1,4,FALSE)),\"\",VLOOKUP(A51,reporting1,4,FALSE)))","v":""},{"$f":"IF(ISBLANK(VLOOKUP(A51,reporting2,2,FALSE)),\"\",IF(ISNA(VLOOKUP(A51,reporting2,2,FALSE)),\"\",VLOOKUP(A51,reporting2,2,FALSE)))","v":""},{"$f":"IF(ISBLANK(VLOOKUP(A51,reporting2,3,FALSE)),\"\",IF(ISNA(VLOOKUP(A51,reporting2,3,FALSE)),\"\",VLOOKUP(A51,reporting2,3,FALSE)))","v":""},{"$f":"IF(ISBLANK(VLOOKUP(A51,reporting2,4,FALSE)),\"\",IF(ISNA(VLOOKUP(A51,reporting2,4,FALSE)),\"\",VLOOKUP(A51,reporting2,4,FALSE)))","v":""},{"$f":"IF(ISBLANK(VLOOKUP(A51,reporting3,2,FALSE)),\"\",IF(ISNA(VLOOKUP(A51,reporting3,2,FALSE)),\"\",VLOOKUP(A51,reporting3,2,FALSE)))","v":""},{"$f":"IF(ISBLANK(VLOOKUP(A51,reporting3,3,FALSE)),\"\",IF(ISNA(VLOOKUP(A51,reporting3,3,FALSE)),\"\",VLOOKUP(A51,reporting3,3,FALSE)))","v":""},{"$f":"IF(ISBLANK(VLOOKUP(A51,reporting3,4,FALSE)),\"\",IF(ISNA(VLOOKUP(A51,reporting3,4,FALSE)),\"\",VLOOKUP(A51,reporting3,4,FALSE)))","v":""},{"$f":"IF(ISBLANK(VLOOKUP(A51,reporting4,2,FALSE)),\"\",IF(ISNA(VLOOKUP(A51,reporting4,2,FALSE)),\"\",VLOOKUP(A51,reporting4,2,FALSE)))","v":""},{"$f":"IF(ISBLANK(VLOOKUP(A51,reporting4,3,FALSE)),\"\",IF(ISNA(VLOOKUP(A51,reporting4,3,FALSE)),\"\",VLOOKUP(A51,reporting4,3,FALSE)))","v":""},{"$f":"IF(ISBLANK(VLOOKUP(A51,reporting4,4,FALSE)),\"\",IF(ISNA(VLOOKUP(A51,reporting4,4,FALSE)),\"\",VLOOKUP(A51,reporting4,4,FALSE)))","v":""},{"$f":"IF(ISBLANK(VLOOKUP(A51,reportin5,2,FALSE)),\"\",IF(ISNA(VLOOKUP(A51,reporting5,2,FALSE)),\"\",VLOOKUP(A51,reporting5,2,FALSE)))","v":""},{"$f":"IF(ISBLANK(VLOOKUP(A51,reporting5,3,FALSE)),\"\",IF(ISNA(VLOOKUP(A51,reporting5,3,FALSE)),\"\",VLOOKUP(A51,reporting5,3,FALSE)))","v":""},{"$f":"IF(ISBLANK(VLOOKUP(A51,reporting5,4,FALSE)),\"\",IF(ISNA(VLOOKUP(A51,reporting5,4,FALSE)),\"\",VLOOKUP(A51,reporting5,4,FALSE)))","v":""}]
[null,{"$f":"IF(ISBLANK(VLOOKUP(A52,reporting1,2,FALSE)),\"\",IF(ISNA(VLOOKUP(A52,reporting1,2,FALSE)),\"\",VLOOKUP(A52,reporting1,2,FALSE)))","v":""},{"$f":"IF(ISBLANK(VLOOKUP(A52,reporting1,3,FALSE)),\"\",IF(ISNA(VLOOKUP(A52,reporting1,3,FALSE)),\"\",VLOOKUP(A52,reporting1,3,FALSE)))","v":""},{"$f":"IF(ISBLANK(VLOOKUP(A52,reporting1,4,FALSE)),\"\",IF(ISNA(VLOOKUP(A52,reporting1,4,FALSE)),\"\",VLOOKUP(A52,reporting1,4,FALSE)))","v":""},{"$f":"IF(ISBLANK(VLOOKUP(A52,reporting2,2,FALSE)),\"\",IF(ISNA(VLOOKUP(A52,reporting2,2,FALSE)),\"\",VLOOKUP(A52,reporting2,2,FALSE)))","v":""},{"$f":"IF(ISBLANK(VLOOKUP(A52,reporting2,3,FALSE)),\"\",IF(ISNA(VLOOKUP(A52,reporting2,3,FALSE)),\"\",VLOOKUP(A52,reporting2,3,FALSE)))","v":""},{"$f":"IF(ISBLANK(VLOOKUP(A52,reporting2,4,FALSE)),\"\",IF(ISNA(VLOOKUP(A52,reporting2,4,FALSE)),\"\",VLOOKUP(A52,reporting2,4,FALSE)))","v":""},{"$f":"IF(ISBLANK(VLOOKUP(A52,reporting3,2,FALSE)),\"\",IF(ISNA(VLOOKUP(A52,reporting3,2,FALSE)),\"\",VLOOKUP(A52,reporting3,2,FALSE)))","v":""},{"$f":"IF(ISBLANK(VLOOKUP(A52,reporting3,3,FALSE)),\"\",IF(ISNA(VLOOKUP(A52,reporting3,3,FALSE)),\"\",VLOOKUP(A52,reporting3,3,FALSE)))","v":""},{"$f":"IF(ISBLANK(VLOOKUP(A52,reporting3,4,FALSE)),\"\",IF(ISNA(VLOOKUP(A52,reporting3,4,FALSE)),\"\",VLOOKUP(A52,reporting3,4,FALSE)))","v":""},{"$f":"IF(ISBLANK(VLOOKUP(A52,reporting4,2,FALSE)),\"\",IF(ISNA(VLOOKUP(A52,reporting4,2,FALSE)),\"\",VLOOKUP(A52,reporting4,2,FALSE)))","v":""},{"$f":"IF(ISBLANK(VLOOKUP(A52,reporting4,3,FALSE)),\"\",IF(ISNA(VLOOKUP(A52,reporting4,3,FALSE)),\"\",VLOOKUP(A52,reporting4,3,FALSE)))","v":""},{"$f":"IF(ISBLANK(VLOOKUP(A52,reporting4,4,FALSE)),\"\",IF(ISNA(VLOOKUP(A52,reporting4,4,FALSE)),\"\",VLOOKUP(A52,reporting4,4,FALSE)))","v":""},{"$f":"IF(ISBLANK(VLOOKUP(A52,reportin5,2,FALSE)),\"\",IF(ISNA(VLOOKUP(A52,reporting5,2,FALSE)),\"\",VLOOKUP(A52,reporting5,2,FALSE)))","v":""},{"$f":"IF(ISBLANK(VLOOKUP(A52,reporting5,3,FALSE)),\"\",IF(ISNA(VLOOKUP(A52,reporting5,3,FALSE)),\"\",VLOOKUP(A52,reporting5,3,FALSE)))","v":""},{"$f":"IF(ISBLANK(VLOOKUP(A52,reporting5,4,FALSE)),\"\",IF(ISNA(VLOOKUP(A52,reporting5,4,FALSE)),\"\",VLOOKUP(A52,reporting5,4,FALSE)))","v":""}]
[null,{"$f":"IF(ISBLANK(VLOOKUP(A53,reporting1,2,FALSE)),\"\",IF(ISNA(VLOOKUP(A53,reporting1,2,FALSE)),\"\",VLOOKUP(A53,reporting1,2,FALSE)))","v":""},{"$f":"IF(ISBLANK(VLOOKUP(A53,reporting1,3,FALSE)),\"\",IF(ISNA(VLOOKUP(A53,reporting1,3,FALSE)),\"\",VLOOKUP(A53,reporting1,3,FALSE)))","v":""},{"$f":"IF(ISBLANK(VLOOKUP(A53,reporting1,4,FALSE)),\"\",IF(ISNA(VLOOKUP(A53,reporting1,4,FALSE)),\"\",VLOOKUP(A53,reporting1,4,FALSE)))","v":""},{"$f":"IF(ISBLANK(VLOOKUP(A53,reporting2,2,FALSE)),\"\",IF(ISNA(VLOOKUP(A53,reporting2,2,FALSE)),\"\",VLOOKUP(A53,reporting2,2,FALSE)))","v":""},{"$f":"IF(ISBLANK(VLOOKUP(A53,reporting2,3,FALSE)),\"\",IF(ISNA(VLOOKUP(A53,reporting2,3,FALSE)),\"\",VLOOKUP(A53,reporting2,3,FALSE)))","v":""},{"$f":"IF(ISBLANK(VLOOKUP(A53,reporting2,4,FALSE)),\"\",IF(ISNA(VLOOKUP(A53,reporting2,4,FALSE)),\"\",VLOOKUP(A53,reporting2,4,FALSE)))","v":""},{"$f":"IF(ISBLANK(VLOOKUP(A53,reporting3,2,FALSE)),\"\",IF(ISNA(VLOOKUP(A53,reporting3,2,FALSE)),\"\",VLOOKUP(A53,reporting3,2,FALSE)))","v":""},{"$f":"IF(ISBLANK(VLOOKUP(A53,reporting3,3,FALSE)),\"\",IF(ISNA(VLOOKUP(A53,reporting3,3,FALSE)),\"\",VLOOKUP(A53,reporting3,3,FALSE)))","v":""},{"$f":"IF(ISBLANK(VLOOKUP(A53,reporting3,4,FALSE)),\"\",IF(ISNA(VLOOKUP(A53,reporting3,4,FALSE)),\"\",VLOOKUP(A53,reporting3,4,FALSE)))","v":""},{"$f":"IF(ISBLANK(VLOOKUP(A53,reporting4,2,FALSE)),\"\",IF(ISNA(VLOOKUP(A53,reporting4,2,FALSE)),\"\",VLOOKUP(A53,reporting4,2,FALSE)))","v":""},{"$f":"IF(ISBLANK(VLOOKUP(A53,reporting4,3,FALSE)),\"\",IF(ISNA(VLOOKUP(A53,reporting4,3,FALSE)),\"\",VLOOKUP(A53,reporting4,3,FALSE)))","v":""},{"$f":"IF(ISBLANK(VLOOKUP(A53,reporting4,4,FALSE)),\"\",IF(ISNA(VLOOKUP(A53,reporting4,4,FALSE)),\"\",VLOOKUP(A53,reporting4,4,FALSE)))","v":""},{"$f":"IF(ISBLANK(VLOOKUP(A53,reportin5,2,FALSE)),\"\",IF(ISNA(VLOOKUP(A53,reporting5,2,FALSE)),\"\",VLOOKUP(A53,reporting5,2,FALSE)))","v":""},{"$f":"IF(ISBLANK(VLOOKUP(A53,reporting5,3,FALSE)),\"\",IF(ISNA(VLOOKUP(A53,reporting5,3,FALSE)),\"\",VLOOKUP(A53,reporting5,3,FALSE)))","v":""},{"$f":"IF(ISBLANK(VLOOKUP(A53,reporting5,4,FALSE)),\"\",IF(ISNA(VLOOKUP(A53,reporting5,4,FALSE)),\"\",VLOOKUP(A53,reporting5,4,FALSE)))","v":""}]
[null,{"$f":"IF(ISBLANK(VLOOKUP(A54,reporting1,2,FALSE)),\"\",IF(ISNA(VLOOKUP(A54,reporting1,2,FALSE)),\"\",VLOOKUP(A54,reporting1,2,FALSE)))","v":""},{"$f":"IF(ISBLANK(VLOOKUP(A54,reporting1,3,FALSE)),\"\",IF(ISNA(VLOOKUP(A54,reporting1,3,FALSE)),\"\",VLOOKUP(A54,reporting1,3,FALSE)))","v":""},{"$f":"IF(ISBLANK(VLOOKUP(A54,reporting1,4,FALSE)),\"\",IF(ISNA(VLOOKUP(A54,reporting1,4,FALSE)),\"\",VLOOKUP(A54,reporting1,4,FALSE)))","v":""},{"$f":"IF(ISBLANK(VLOOKUP(A54,reporting2,2,FALSE)),\"\",IF(ISNA(VLOOKUP(A54,reporting2,2,FALSE)),\"\",VLOOKUP(A54,reporting2,2,FALSE)))","v":""},{"$f":"IF(ISBLANK(VLOOKUP(A54,reporting2,3,FALSE)),\"\",IF(ISNA(VLOOKUP(A54,reporting2,3,FALSE)),\"\",VLOOKUP(A54,reporting2,3,FALSE)))","v":""},{"$f":"IF(ISBLANK(VLOOKUP(A54,reporting2,4,FALSE)),\"\",IF(ISNA(VLOOKUP(A54,reporting2,4,FALSE)),\"\",VLOOKUP(A54,reporting2,4,FALSE)))","v":""},{"$f":"IF(ISBLANK(VLOOKUP(A54,reporting3,2,FALSE)),\"\",IF(ISNA(VLOOKUP(A54,reporting3,2,FALSE)),\"\",VLOOKUP(A54,reporting3,2,FALSE)))","v":""},{"$f":"IF(ISBLANK(VLOOKUP(A54,reporting3,3,FALSE)),\"\",IF(ISNA(VLOOKUP(A54,reporting3,3,FALSE)),\"\",VLOOKUP(A54,reporting3,3,FALSE)))","v":""},{"$f":"IF(ISBLANK(VLOOKUP(A54,reporting3,4,FALSE)),\"\",IF(ISNA(VLOOKUP(A54,reporting3,4,FALSE)),\"\",VLOOKUP(A54,reporting3,4,FALSE)))","v":""},{"$f":"IF(ISBLANK(VLOOKUP(A54,reporting4,2,FALSE)),\"\",IF(ISNA(VLOOKUP(A54,reporting4,2,FALSE)),\"\",VLOOKUP(A54,reporting4,2,FALSE)))","v":""},{"$f":"IF(ISBLANK(VLOOKUP(A54,reporting4,3,FALSE)),\"\",IF(ISNA(VLOOKUP(A54,reporting4,3,FALSE)),\"\",VLOOKUP(A54,reporting4,3,FALSE)))","v":""},{"$f":"IF(ISBLANK(VLOOKUP(A54,reporting4,4,FALSE)),\"\",IF(ISNA(VLOOKUP(A54,reporting4,4,FALSE)),\"\",VLOOKUP(A54,reporting4,4,FALSE)))","v":""},{"$f":"IF(ISBLANK(VLOOKUP(A54,reportin5,2,FALSE)),\"\",IF(ISNA(VLOOKUP(A54,reporting5,2,FALSE)),\"\",VLOOKUP(A54,reporting5,2,FALSE)))","v":""},{"$f":"IF(ISBLANK(VLOOKUP(A54,reporting5,3,FALSE)),\"\",IF(ISNA(VLOOKUP(A54,reporting5,3,FALSE)),\"\",VLOOKUP(A54,reporting5,3,FALSE)))","v":""},{"$f":"IF(ISBLANK(VLOOKUP(A54,reporting5,4,FALSE)),\"\",IF(ISNA(VLOOKUP(A54,reporting5,4,FALSE)),\"\",VLOOKUP(A54,reporting5,4,FALSE)))","v":""}]
[null,{"$f":"IF(ISBLANK(VLOOKUP(A55,reporting1,2,FALSE)),\"\",IF(ISNA(VLOOKUP(A55,reporting1,2,FALSE)),\"\",VLOOKUP(A55,reporting1,2,FALSE)))","v":""},{"$f":"IF(ISBLANK(VLOOKUP(A55,reporting1,3,FALSE)),\"\",IF(ISNA(VLOOKUP(A55,reporting1,3,FALSE)),\"\",VLOOKUP(A55,reporting1,3,FALSE)))","v":""},{"$f":"IF(ISBLANK(VLOOKUP(A55,reporting1,4,FALSE)),\"\",IF(ISNA(VLOOKUP(A55,reporting1,4,FALSE)),\"\",VLOOKUP(A55,reporting1,4,FALSE)))","v":""},{"$f":"IF(ISBLANK(VLOOKUP(A55,reporting2,2,FALSE)),\"\",IF(ISNA(VLOOKUP(A55,reporting2,2,FALSE)),\"\",VLOOKUP(A55,reporting2,2,FALSE)))","v":""},{"$f":"IF(ISBLANK(VLOOKUP(A55,reporting2,3,FALSE)),\"\",IF(ISNA(VLOOKUP(A55,reporting2,3,FALSE)),\"\",VLOOKUP(A55,reporting2,3,FALSE)))","v":""},{"$f":"IF(ISBLANK(VLOOKUP(A55,reporting2,4,FALSE)),\"\",IF(ISNA(VLOOKUP(A55,reporting2,4,FALSE)),\"\",VLOOKUP(A55,reporting2,4,FALSE)))","v":""},{"$f":"IF(ISBLANK(VLOOKUP(A55,reporting3,2,FALSE)),\"\",IF(ISNA(VLOOKUP(A55,reporting3,2,FALSE)),\"\",VLOOKUP(A55,reporting3,2,FALSE)))","v":""},{"$f":"IF(ISBLANK(VLOOKUP(A55,reporting3,3,FALSE)),\"\",IF(ISNA(VLOOKUP(A55,reporting3,3,FALSE)),\"\",VLOOKUP(A55,reporting3,3,FALSE)))","v":""},{"$f":"IF(ISBLANK(VLOOKUP(A55,reporting3,4,FALSE)),\"\",IF(ISNA(VLOOKUP(A55,reporting3,4,FALSE)),\"\",VLOOKUP(A55,reporting3,4,FALSE)))","v":""},{"$f":"IF(ISBLANK(VLOOKUP(A55,reporting4,2,FALSE)),\"\",IF(ISNA(VLOOKUP(A55,reporting4,2,FALSE)),\"\",VLOOKUP(A55,reporting4,2,FALSE)))","v":""},{"$f":"IF(ISBLANK(VLOOKUP(A55,reporting4,3,FALSE)),\"\",IF(ISNA(VLOOKUP(A55,reporting4,3,FALSE)),\"\",VLOOKUP(A55,reporting4,3,FALSE)))","v":""},{"$f":"IF(ISBLANK(VLOOKUP(A55,reporting4,4,FALSE)),\"\",IF(ISNA(VLOOKUP(A55,reporting4,4,FALSE)),\"\",VLOOKUP(A55,reporting4,4,FALSE)))","v":""},{"$f":"IF(ISBLANK(VLOOKUP(A55,reportin5,2,FALSE)),\"\",IF(ISNA(VLOOKUP(A55,reporting5,2,FALSE)),\"\",VLOOKUP(A55,reporting5,2,FALSE)))","v":""},{"$f":"IF(ISBLANK(VLOOKUP(A55,reporting5,3,FALSE)),\"\",IF(ISNA(VLOOKUP(A55,reporting5,3,FALSE)),\"\",VLOOKUP(A55,reporting5,3,FALSE)))","v":""},{"$f":"IF(ISBLANK(VLOOKUP(A55,reporting5,4,FALSE)),\"\",IF(ISNA(VLOOKUP(A55,reporting5,4,FALSE)),\"\",VLOOKUP(A55,reporting5,4,FALSE)))","v":""}]
[null,{"$f":"IF(ISBLANK(VLOOKUP(A56,reporting1,2,FALSE)),\"\",IF(ISNA(VLOOKUP(A56,reporting1,2,FALSE)),\"\",VLOOKUP(A56,reporting1,2,FALSE)))","v":""},{"$f":"IF(ISBLANK(VLOOKUP(A56,reporting1,3,FALSE)),\"\",IF(ISNA(VLOOKUP(A56,reporting1,3,FALSE)),\"\",VLOOKUP(A56,reporting1,3,FALSE)))","v":""},{"$f":"IF(ISBLANK(VLOOKUP(A56,reporting1,4,FALSE)),\"\",IF(ISNA(VLOOKUP(A56,reporting1,4,FALSE)),\"\",VLOOKUP(A56,reporting1,4,FALSE)))","v":""},{"$f":"IF(ISBLANK(VLOOKUP(A56,reporting2,2,FALSE)),\"\",IF(ISNA(VLOOKUP(A56,reporting2,2,FALSE)),\"\",VLOOKUP(A56,reporting2,2,FALSE)))","v":""},{"$f":"IF(ISBLANK(VLOOKUP(A56,reporting2,3,FALSE)),\"\",IF(ISNA(VLOOKUP(A56,reporting2,3,FALSE)),\"\",VLOOKUP(A56,reporting2,3,FALSE)))","v":""},{"$f":"IF(ISBLANK(VLOOKUP(A56,reporting2,4,FALSE)),\"\",IF(ISNA(VLOOKUP(A56,reporting2,4,FALSE)),\"\",VLOOKUP(A56,reporting2,4,FALSE)))","v":""},{"$f":"IF(ISBLANK(VLOOKUP(A56,reporting3,2,FALSE)),\"\",IF(ISNA(VLOOKUP(A56,reporting3,2,FALSE)),\"\",VLOOKUP(A56,reporting3,2,FALSE)))","v":""},{"$f":"IF(ISBLANK(VLOOKUP(A56,reporting3,3,FALSE)),\"\",IF(ISNA(VLOOKUP(A56,reporting3,3,FALSE)),\"\",VLOOKUP(A56,reporting3,3,FALSE)))","v":""},{"$f":"IF(ISBLANK(VLOOKUP(A56,reporting3,4,FALSE)),\"\",IF(ISNA(VLOOKUP(A56,reporting3,4,FALSE)),\"\",VLOOKUP(A56,reporting3,4,FALSE)))","v":""},{"$f":"IF(ISBLANK(VLOOKUP(A56,reporting4,2,FALSE)),\"\",IF(ISNA(VLOOKUP(A56,reporting4,2,FALSE)),\"\",VLOOKUP(A56,reporting4,2,FALSE)))","v":""},{"$f":"IF(ISBLANK(VLOOKUP(A56,reporting4,3,FALSE)),\"\",IF(ISNA(VLOOKUP(A56,reporting4,3,FALSE)),\"\",VLOOKUP(A56,reporting4,3,FALSE)))","v":""},{"$f":"IF(ISBLANK(VLOOKUP(A56,reporting4,4,FALSE)),\"\",IF(ISNA(VLOOKUP(A56,reporting4,4,FALSE)),\"\",VLOOKUP(A56,reporting4,4,FALSE)))","v":""},{"$f":"IF(ISBLANK(VLOOKUP(A56,reportin5,2,FALSE)),\"\",IF(ISNA(VLOOKUP(A56,reporting5,2,FALSE)),\"\",VLOOKUP(A56,reporting5,2,FALSE)))","v":""},{"$f":"IF(ISBLANK(VLOOKUP(A56,reporting5,3,FALSE)),\"\",IF(ISNA(VLOOKUP(A56,reporting5,3,FALSE)),\"\",VLOOKUP(A56,reporting5,3,FALSE)))","v":""},{"$f":"IF(ISBLANK(VLOOKUP(A56,reporting5,4,FALSE)),\"\",IF(ISNA(VLOOKUP(A56,reporting5,4,FALSE)),\"\",VLOOKUP(A56,reporting5,4,FALSE)))","v":""}]
[null,{"$f":"IF(ISBLANK(VLOOKUP(A57,reporting1,2,FALSE)),\"\",IF(ISNA(VLOOKUP(A57,reporting1,2,FALSE)),\"\",VLOOKUP(A57,reporting1,2,FALSE)))","v":""},{"$f":"IF(ISBLANK(VLOOKUP(A57,reporting1,3,FALSE)),\"\",IF(ISNA(VLOOKUP(A57,reporting1,3,FALSE)),\"\",VLOOKUP(A57,reporting1,3,FALSE)))","v":""},{"$f":"IF(ISBLANK(VLOOKUP(A57,reporting1,4,FALSE)),\"\",IF(ISNA(VLOOKUP(A57,reporting1,4,FALSE)),\"\",VLOOKUP(A57,reporting1,4,FALSE)))","v":""},{"$f":"IF(ISBLANK(VLOOKUP(A57,reporting2,2,FALSE)),\"\",IF(ISNA(VLOOKUP(A57,reporting2,2,FALSE)),\"\",VLOOKUP(A57,reporting2,2,FALSE)))","v":""},{"$f":"IF(ISBLANK(VLOOKUP(A57,reporting2,3,FALSE)),\"\",IF(ISNA(VLOOKUP(A57,reporting2,3,FALSE)),\"\",VLOOKUP(A57,reporting2,3,FALSE)))","v":""},{"$f":"IF(ISBLANK(VLOOKUP(A57,reporting2,4,FALSE)),\"\",IF(ISNA(VLOOKUP(A57,reporting2,4,FALSE)),\"\",VLOOKUP(A57,reporting2,4,FALSE)))","v":""},{"$f":"IF(ISBLANK(VLOOKUP(A57,reporting3,2,FALSE)),\"\",IF(ISNA(VLOOKUP(A57,reporting3,2,FALSE)),\"\",VLOOKUP(A57,reporting3,2,FALSE)))","v":""},{"$f":"IF(ISBLANK(VLOOKUP(A57,reporting3,3,FALSE)),\"\",IF(ISNA(VLOOKUP(A57,reporting3,3,FALSE)),\"\",VLOOKUP(A57,reporting3,3,FALSE)))","v":""},{"$f":"IF(ISBLANK(VLOOKUP(A57,reporting3,4,FALSE)),\"\",IF(ISNA(VLOOKUP(A57,reporting3,4,FALSE)),\"\",VLOOKUP(A57,reporting3,4,FALSE)))","v":""},{"$f":"IF(ISBLANK(VLOOKUP(A57,reporting4,2,FALSE)),\"\",IF(ISNA(VLOOKUP(A57,reporting4,2,FALSE)),\"\",VLOOKUP(A57,reporting4,2,FALSE)))","v":""},{"$f":"IF(ISBLANK(VLOOKUP(A57,reporting4,3,FALSE)),\"\",IF(ISNA(VLOOKUP(A57,reporting4,3,FALSE)),\"\",VLOOKUP(A57,reporting4,3,FALSE)))","v":""},{"$f":"IF(ISBLANK(VLOOKUP(A57,reporting4,4,FALSE)),\"\",IF(ISNA(VLOOKUP(A57,reporting4,4,FALSE)),\"\",VLOOKUP(A57,reporting4,4,FALSE)))","v":""},{"$f":"IF(ISBLANK(VLOOKUP(A57,reportin5,2,FALSE)),\"\",IF(ISNA(VLOOKUP(A57,reporting5,2,FALSE)),\"\",VLOOKUP(A57,reporting5,2,FALSE)))","v":""},{"$f":"IF(ISBLANK(VLOOKUP(A57,reporting5,3,FALSE)),\"\",IF(ISNA(VLOOKUP(A57,reporting5,3,FALSE)),\"\",VLOOKUP(A57,reporting5,3,FALSE)))","v":""},{"$f":"IF(ISBLANK(VLOOKUP(A57,reporting5,4,FALSE)),\"\",IF(ISNA(VLOOKUP(A57,reporting5,4,FALSE)),\"\",VLOOKUP(A57,reporting5,4,FALSE)))","v":""}]
[null,{"$f":"IF(ISBLANK(VLOOKUP(A58,reporting1,2,FALSE)),\"\",IF(ISNA(VLOOKUP(A58,reporting1,2,FALSE)),\"\",VLOOKUP(A58,reporting1,2,FALSE)))","v":""},{"$f":"IF(ISBLANK(VLOOKUP(A58,reporting1,3,FALSE)),\"\",IF(ISNA(VLOOKUP(A58,reporting1,3,FALSE)),\"\",VLOOKUP(A58,reporting1,3,FALSE)))","v":""},{"$f":"IF(ISBLANK(VLOOKUP(A58,reporting1,4,FALSE)),\"\",IF(ISNA(VLOOKUP(A58,reporting1,4,FALSE)),\"\",VLOOKUP(A58,reporting1,4,FALSE)))","v":""},{"$f":"IF(ISBLANK(VLOOKUP(A58,reporting2,2,FALSE)),\"\",IF(ISNA(VLOOKUP(A58,reporting2,2,FALSE)),\"\",VLOOKUP(A58,reporting2,2,FALSE)))","v":""},{"$f":"IF(ISBLANK(VLOOKUP(A58,reporting2,3,FALSE)),\"\",IF(ISNA(VLOOKUP(A58,reporting2,3,FALSE)),\"\",VLOOKUP(A58,reporting2,3,FALSE)))","v":""},{"$f":"IF(ISBLANK(VLOOKUP(A58,reporting2,4,FALSE)),\"\",IF(ISNA(VLOOKUP(A58,reporting2,4,FALSE)),\"\",VLOOKUP(A58,reporting2,4,FALSE)))","v":""},{"$f":"IF(ISBLANK(VLOOKUP(A58,reporting3,2,FALSE)),\"\",IF(ISNA(VLOOKUP(A58,reporting3,2,FALSE)),\"\",VLOOKUP(A58,reporting3,2,FALSE)))","v":""},{"$f":"IF(ISBLANK(VLOOKUP(A58,reporting3,3,FALSE)),\"\",IF(ISNA(VLOOKUP(A58,reporting3,3,FALSE)),\"\",VLOOKUP(A58,reporting3,3,FALSE)))","v":""},{"$f":"IF(ISBLANK(VLOOKUP(A58,reporting3,4,FALSE)),\"\",IF(ISNA(VLOOKUP(A58,reporting3,4,FALSE)),\"\",VLOOKUP(A58,reporting3,4,FALSE)))","v":""},{"$f":"IF(ISBLANK(VLOOKUP(A58,reporting4,2,FALSE)),\"\",IF(ISNA(VLOOKUP(A58,reporting4,2,FALSE)),\"\",VLOOKUP(A58,reporting4,2,FALSE)))","v":""},{"$f":"IF(ISBLANK(VLOOKUP(A58,reporting4,3,FALSE)),\"\",IF(ISNA(VLOOKUP(A58,reporting4,3,FALSE)),\"\",VLOOKUP(A58,reporting4,3,FALSE)))","v":""},{"$f":"IF(ISBLANK(VLOOKUP(A58,reporting4,4,FALSE)),\"\",IF(ISNA(VLOOKUP(A58,reporting4,4,FALSE)),\"\",VLOOKUP(A58,reporting4,4,FALSE)))","v":""},{"$f":"IF(ISBLANK(VLOOKUP(A58,reportin5,2,FALSE)),\"\",IF(ISNA(VLOOKUP(A58,reporting5,2,FALSE)),\"\",VLOOKUP(A58,reporting5,2,FALSE)))","v":""},{"$f":"IF(ISBLANK(VLOOKUP(A58,reporting5,3,FALSE)),\"\",IF(ISNA(VLOOKUP(A58,reporting5,3,FALSE)),\"\",VLOOKUP(A58,reporting5,3,FALSE)))","v":""},{"$f":"IF(ISBLANK(VLOOKUP(A58,reporting5,4,FALSE)),\"\",IF(ISNA(VLOOKUP(A58,reporting5,4,FALSE)),\"\",VLOOKUP(A58,reporting5,4,FALSE)))","v":""}]
[null,{"$f":"IF(ISBLANK(VLOOKUP(A59,reporting1,2,FALSE)),\"\",IF(ISNA(VLOOKUP(A59,reporting1,2,FALSE)),\"\",VLOOKUP(A59,reporting1,2,FALSE)))","v":""},{"$f":"IF(ISBLANK(VLOOKUP(A59,reporting1,3,FALSE)),\"\",IF(ISNA(VLOOKUP(A59,reporting1,3,FALSE)),\"\",VLOOKUP(A59,reporting1,3,FALSE)))","v":""},{"$f":"IF(ISBLANK(VLOOKUP(A59,reporting1,4,FALSE)),\"\",IF(ISNA(VLOOKUP(A59,reporting1,4,FALSE)),\"\",VLOOKUP(A59,reporting1,4,FALSE)))","v":""},{"$f":"IF(ISBLANK(VLOOKUP(A59,reporting2,2,FALSE)),\"\",IF(ISNA(VLOOKUP(A59,reporting2,2,FALSE)),\"\",VLOOKUP(A59,reporting2,2,FALSE)))","v":""},{"$f":"IF(ISBLANK(VLOOKUP(A59,reporting2,3,FALSE)),\"\",IF(ISNA(VLOOKUP(A59,reporting2,3,FALSE)),\"\",VLOOKUP(A59,reporting2,3,FALSE)))","v":""},{"$f":"IF(ISBLANK(VLOOKUP(A59,reporting2,4,FALSE)),\"\",IF(ISNA(VLOOKUP(A59,reporting2,4,FALSE)),\"\",VLOOKUP(A59,reporting2,4,FALSE)))","v":""},{"$f":"IF(ISBLANK(VLOOKUP(A59,reporting3,2,FALSE)),\"\",IF(ISNA(VLOOKUP(A59,reporting3,2,FALSE)),\"\",VLOOKUP(A59,reporting3,2,FALSE)))","v":""},{"$f":"IF(ISBLANK(VLOOKUP(A59,reporting3,3,FALSE)),\"\",IF(ISNA(VLOOKUP(A59,reporting3,3,FALSE)),\"\",VLOOKUP(A59,reporting3,3,FALSE)))","v":""},{"$f":"IF(ISBLANK(VLOOKUP(A59,reporting3,4,FALSE)),\"\",IF(ISNA(VLOOKUP(A59,reporting3,4,FALSE)),\"\",VLOOKUP(A59,reporting3,4,FALSE)))","v":""},{"$f":"IF(ISBLANK(VLOOKUP(A59,reporting4,2,FALSE)),\"\",IF(ISNA(VLOOKUP(A59,reporting4,2,FALSE)),\"\",VLOOKUP(A59,reporting4,2,FALSE)))","v":""},{"$f":"IF(ISBLANK(VLOOKUP(A59,reporting4,3,FALSE)),\"\",IF(ISNA(VLOOKUP(A59,reporting4,3,FALSE)),\"\",VLOOKUP(A59,reporting4,3,FALSE)))","v":""},{"$f":"IF(ISBLANK(VLOOKUP(A59,reporting4,4,FALSE)),\"\",IF(ISNA(VLOOKUP(A59,reporting4,4,FALSE)),\"\",VLOOKUP(A59,reporting4,4,FALSE)))","v":""},{"$f":"IF(ISBLANK(VLOOKUP(A59,reportin5,2,FALSE)),\"\",IF(ISNA(VLOOKUP(A59,reporting5,2,FALSE)),\"\",VLOOKUP(A59,reporting5,2,FALSE)))","v":""},{"$f":"IF(ISBLANK(VLOOKUP(A59,reporting5,3,FALSE)),\"\",IF(ISNA(VLOOKUP(A59,reporting5,3,FALSE)),\"\",VLOOKUP(A59,reporting5,3,FALSE)))","v":""},{"$f":"IF(ISBLANK(VLOOKUP(A59,reporting5,4,FALSE)),\"\",IF(ISNA(VLOOKUP(A59,reporting5,4,FALSE)),\"\",VLOOKUP(A59,reporting5,4,FALSE)))","v":""}]
[null,{"$f":"IF(ISBLANK(VLOOKUP(A60,reporting1,2,FALSE)),\"\",IF(ISNA(VLOOKUP(A60,reporting1,2,FALSE)),\"\",VLOOKUP(A60,reporting1,2,FALSE)))","v":""},{"$f":"IF(ISBLANK(VLOOKUP(A60,reporting1,3,FALSE)),\"\",IF(ISNA(VLOOKUP(A60,reporting1,3,FALSE)),\"\",VLOOKUP(A60,reporting1,3,FALSE)))","v":""},{"$f":"IF(ISBLANK(VLOOKUP(A60,reporting1,4,FALSE)),\"\",IF(ISNA(VLOOKUP(A60,reporting1,4,FALSE)),\"\",VLOOKUP(A60,reporting1,4,FALSE)))","v":""},{"$f":"IF(ISBLANK(VLOOKUP(A60,reporting2,2,FALSE)),\"\",IF(ISNA(VLOOKUP(A60,reporting2,2,FALSE)),\"\",VLOOKUP(A60,reporting2,2,FALSE)))","v":""},{"$f":"IF(ISBLANK(VLOOKUP(A60,reporting2,3,FALSE)),\"\",IF(ISNA(VLOOKUP(A60,reporting2,3,FALSE)),\"\",VLOOKUP(A60,reporting2,3,FALSE)))","v":""},{"$f":"IF(ISBLANK(VLOOKUP(A60,reporting2,4,FALSE)),\"\",IF(ISNA(VLOOKUP(A60,reporting2,4,FALSE)),\"\",VLOOKUP(A60,reporting2,4,FALSE)))","v":""},{"$f":"IF(ISBLANK(VLOOKUP(A60,reporting3,2,FALSE)),\"\",IF(ISNA(VLOOKUP(A60,reporting3,2,FALSE)),\"\",VLOOKUP(A60,reporting3,2,FALSE)))","v":""},{"$f":"IF(ISBLANK(VLOOKUP(A60,reporting3,3,FALSE)),\"\",IF(ISNA(VLOOKUP(A60,reporting3,3,FALSE)),\"\",VLOOKUP(A60,reporting3,3,FALSE)))","v":""},{"$f":"IF(ISBLANK(VLOOKUP(A60,reporting3,4,FALSE)),\"\",IF(ISNA(VLOOKUP(A60,reporting3,4,FALSE)),\"\",VLOOKUP(A60,reporting3,4,FALSE)))","v":""},{"$f":"IF(ISBLANK(VLOOKUP(A60,reporting4,2,FALSE)),\"\",IF(ISNA(VLOOKUP(A60,reporting4,2,FALSE)),\"\",VLOOKUP(A60,reporting4,2,FALSE)))","v":""},{"$f":"IF(ISBLANK(VLOOKUP(A60,reporting4,3,FALSE)),\"\",IF(ISNA(VLOOKUP(A60,reporting4,3,FALSE)),\"\",VLOOKUP(A60,reporting4,3,FALSE)))","v":""},{"$f":"IF(ISBLANK(VLOOKUP(A60,reporting4,4,FALSE)),\"\",IF(ISNA(VLOOKUP(A60,reporting4,4,FALSE)),\"\",VLOOKUP(A60,reporting4,4,FALSE)))","v":""},{"$f":"IF(ISBLANK(VLOOKUP(A60,reportin5,2,FALSE)),\"\",IF(ISNA(VLOOKUP(A60,reporting5,2,FALSE)),\"\",VLOOKUP(A60,reporting5,2,FALSE)))","v":""},{"$f":"IF(ISBLANK(VLOOKUP(A60,reporting5,3,FALSE)),\"\",IF(ISNA(VLOOKUP(A60,reporting5,3,FALSE)),\"\",VLOOKUP(A60,reporting5,3,FALSE)))","v":""},{"$f":"IF(ISBLANK(VLOOKUP(A60,reporting5,4,FALSE)),\"\",IF(ISNA(VLOOKUP(A60,reporting5,4,FALSE)),\"\",VLOOKUP(A60,reporting5,4,FALSE)))","v":""}]
[null,{"$f":"IF(ISBLANK(VLOOKUP(A61,reporting1,2,FALSE)),\"\",IF(ISNA(VLOOKUP(A61,reporting1,2,FALSE)),\"\",VLOOKUP(A61,reporting1,2,FALSE)))","v":""},{"$f":"IF(ISBLANK(VLOOKUP(A61,reporting1,3,FALSE)),\"\",IF(ISNA(VLOOKUP(A61,reporting1,3,FALSE)),\"\",VLOOKUP(A61,reporting1,3,FALSE)))","v":""},{"$f":"IF(ISBLANK(VLOOKUP(A61,reporting1,4,FALSE)),\"\",IF(ISNA(VLOOKUP(A61,reporting1,4,FALSE)),\"\",VLOOKUP(A61,reporting1,4,FALSE)))","v":""},{"$f":"IF(ISBLANK(VLOOKUP(A61,reporting2,2,FALSE)),\"\",IF(ISNA(VLOOKUP(A61,reporting2,2,FALSE)),\"\",VLOOKUP(A61,reporting2,2,FALSE)))","v":""},{"$f":"IF(ISBLANK(VLOOKUP(A61,reporting2,3,FALSE)),\"\",IF(ISNA(VLOOKUP(A61,reporting2,3,FALSE)),\"\",VLOOKUP(A61,reporting2,3,FALSE)))","v":""},{"$f":"IF(ISBLANK(VLOOKUP(A61,reporting2,4,FALSE)),\"\",IF(ISNA(VLOOKUP(A61,reporting2,4,FALSE)),\"\",VLOOKUP(A61,reporting2,4,FALSE)))","v":""},{"$f":"IF(ISBLANK(VLOOKUP(A61,reporting3,2,FALSE)),\"\",IF(ISNA(VLOOKUP(A61,reporting3,2,FALSE)),\"\",VLOOKUP(A61,reporting3,2,FALSE)))","v":""},{"$f":"IF(ISBLANK(VLOOKUP(A61,reporting3,3,FALSE)),\"\",IF(ISNA(VLOOKUP(A61,reporting3,3,FALSE)),\"\",VLOOKUP(A61,reporting3,3,FALSE)))","v":""},{"$f":"IF(ISBLANK(VLOOKUP(A61,reporting3,4,FALSE)),\"\",IF(ISNA(VLOOKUP(A61,reporting3,4,FALSE)),\"\",VLOOKUP(A61,reporting3,4,FALSE)))","v":""},{"$f":"IF(ISBLANK(VLOOKUP(A61,reporting4,2,FALSE)),\"\",IF(ISNA(VLOOKUP(A61,reporting4,2,FALSE)),\"\",VLOOKUP(A61,reporting4,2,FALSE)))","v":""},{"$f":"IF(ISBLANK(VLOOKUP(A61,reporting4,3,FALSE)),\"\",IF(ISNA(VLOOKUP(A61,reporting4,3,FALSE)),\"\",VLOOKUP(A61,reporting4,3,FALSE)))","v":""},{"$f":"IF(ISBLANK(VLOOKUP(A61,reporting4,4,FALSE)),\"\",IF(ISNA(VLOOKUP(A61,reporting4,4,FALSE)),\"\",VLOOKUP(A61,reporting4,4,FALSE)))","v":""},{"$f":"IF(ISBLANK(VLOOKUP(A61,reportin5,2,FALSE)),\"\",IF(ISNA(VLOOKUP(A61,reporting5,2,FALSE)),\"\",VLOOKUP(A61,reporting5,2,FALSE)))","v":""},{"$f":"IF(ISBLANK(VLOOKUP(A61,reporting5,3,FALSE)),\"\",IF(ISNA(VLOOKUP(A61,reporting5,3,FALSE)),\"\",VLOOKUP(A61,reporting5,3,FALSE)))","v":""},{"$f":"IF(ISBLANK(VLOOKUP(A61,reporting5,4,FALSE)),\"\",IF(ISNA(VLOOKUP(A61,reporting5,4,FALSE)),\"\",VLOOKUP(A61,reporting5,4,FALSE)))","v":""}]
[null,{"$f":"IF(ISBLANK(VLOOKUP(A62,reporting1,2,FALSE)),\"\",IF(ISNA(VLOOKUP(A62,reporting1,2,FALSE)),\"\",VLOOKUP(A62,reporting1,2,FALSE)))","v":""},{"$f":"IF(ISBLANK(VLOOKUP(A62,reporting1,3,FALSE)),\"\",IF(ISNA(VLOOKUP(A62,reporting1,3,FALSE)),\"\",VLOOKUP(A62,reporting1,3,FALSE)))","v":""},{"$f":"IF(ISBLANK(VLOOKUP(A62,reporting1,4,FALSE)),\"\",IF(ISNA(VLOOKUP(A62,reporting1,4,FALSE)),\"\",VLOOKUP(A62,reporting1,4,FALSE)))","v":""},{"$f":"IF(ISBLANK(VLOOKUP(A62,reporting2,2,FALSE)),\"\",IF(ISNA(VLOOKUP(A62,reporting2,2,FALSE)),\"\",VLOOKUP(A62,reporting2,2,FALSE)))","v":""},{"$f":"IF(ISBLANK(VLOOKUP(A62,reporting2,3,FALSE)),\"\",IF(ISNA(VLOOKUP(A62,reporting2,3,FALSE)),\"\",VLOOKUP(A62,reporting2,3,FALSE)))","v":""},{"$f":"IF(ISBLANK(VLOOKUP(A62,reporting2,4,FALSE)),\"\",IF(ISNA(VLOOKUP(A62,reporting2,4,FALSE)),\"\",VLOOKUP(A62,reporting2,4,FALSE)))","v":""},{"$f":"IF(ISBLANK(VLOOKUP(A62,reporting3,2,FALSE)),\"\",IF(ISNA(VLOOKUP(A62,reporting3,2,FALSE)),\"\",VLOOKUP(A62,reporting3,2,FALSE)))","v":""},{"$f":"IF(ISBLANK(VLOOKUP(A62,reporting3,3,FALSE)),\"\",IF(ISNA(VLOOKUP(A62,reporting3,3,FALSE)),\"\",VLOOKUP(A62,reporting3,3,FALSE)))","v":""},{"$f":"IF(ISBLANK(VLOOKUP(A62,reporting3,4,FALSE)),\"\",IF(ISNA(VLOOKUP(A62,reporting3,4,FALSE)),\"\",VLOOKUP(A62,reporting3,4,FALSE)))","v":""},{"$f":"IF(ISBLANK(VLOOKUP(A62,reporting4,2,FALSE)),\"\",IF(ISNA(VLOOKUP(A62,reporting4,2,FALSE)),\"\",VLOOKUP(A62,reporting4,2,FALSE)))","v":""},{"$f":"IF(ISBLANK(VLOOKUP(A62,reporting4,3,FALSE)),\"\",IF(ISNA(VLOOKUP(A62,reporting4,3,FALSE)),\"\",VLOOKUP(A62,reporting4,3,FALSE)))","v":""},{"$f":"IF(ISBLANK(VLOOKUP(A62,reporting4,4,FALSE)),\"\",IF(ISNA(VLOOKUP(A62,reporting4,4,FALSE)),\"\",VLOOKUP(A62,reporting4,4,FALSE)))","v":""},{"$f":"IF(ISBLANK(VLOOKUP(A62,reportin5,2,FALSE)),\"\",IF(ISNA(VLOOKUP(A62,reporting5,2,FALSE)),\"\",VLOOKUP(A62,reporting5,2,FALSE)))","v":""},{"$f":"IF(ISBLANK(VLOOKUP(A62,reporting5,3,FALSE)),\"\",IF(ISNA(VLOOKUP(A62,reporting5,3,FALSE)),\"\",VLOOKUP(A62,reporting5,3,FALSE)))","v":""},{"$f":"IF(ISBLANK(VLOOKUP(A62,reporting5,4,FALSE)),\"\",IF(ISNA(VLOOKUP(A62,reporting5,4,FALSE)),\"\",VLOOKUP(A62,reporting5,4,FALSE)))","v":""}]
[null,{"$f":"IF(ISBLANK(VLOOKUP(A63,reporting1,2,FALSE)),\"\",IF(ISNA(VLOOKUP(A63,reporting1,2,FALSE)),\"\",VLOOKUP(A63,reporting1,2,FALSE)))","v":""},{"$f":"IF(ISBLANK(VLOOKUP(A63,reporting1,3,FALSE)),\"\",IF(ISNA(VLOOKUP(A63,reporting1,3,FALSE)),\"\",VLOOKUP(A63,reporting1,3,FALSE)))","v":""},{"$f":"IF(ISBLANK(VLOOKUP(A63,reporting1,4,FALSE)),\"\",IF(ISNA(VLOOKUP(A63,reporting1,4,FALSE)),\"\",VLOOKUP(A63,reporting1,4,FALSE)))","v":""},{"$f":"IF(ISBLANK(VLOOKUP(A63,reporting2,2,FALSE)),\"\",IF(ISNA(VLOOKUP(A63,reporting2,2,FALSE)),\"\",VLOOKUP(A63,reporting2,2,FALSE)))","v":""},{"$f":"IF(ISBLANK(VLOOKUP(A63,reporting2,3,FALSE)),\"\",IF(ISNA(VLOOKUP(A63,reporting2,3,FALSE)),\"\",VLOOKUP(A63,reporting2,3,FALSE)))","v":""},{"$f":"IF(ISBLANK(VLOOKUP(A63,reporting2,4,FALSE)),\"\",IF(ISNA(VLOOKUP(A63,reporting2,4,FALSE)),\"\",VLOOKUP(A63,reporting2,4,FALSE)))","v":""},{"$f":"IF(ISBLANK(VLOOKUP(A63,reporting3,2,FALSE)),\"\",IF(ISNA(VLOOKUP(A63,reporting3,2,FALSE)),\"\",VLOOKUP(A63,reporting3,2,FALSE)))","v":""},{"$f":"IF(ISBLANK(VLOOKUP(A63,reporting3,3,FALSE)),\"\",IF(ISNA(VLOOKUP(A63,reporting3,3,FALSE)),\"\",VLOOKUP(A63,reporting3,3,FALSE)))","v":""},{"$f":"IF(ISBLANK(VLOOKUP(A63,reporting3,4,FALSE)),\"\",IF(ISNA(VLOOKUP(A63,reporting3,4,FALSE)),\"\",VLOOKUP(A63,reporting3,4,FALSE)))","v":""},{"$f":"IF(ISBLANK(VLOOKUP(A63,reporting4,2,FALSE)),\"\",IF(ISNA(VLOOKUP(A63,reporting4,2,FALSE)),\"\",VLOOKUP(A63,reporting4,2,FALSE)))","v":""},{"$f":"IF(ISBLANK(VLOOKUP(A63,reporting4,3,FALSE)),\"\",IF(ISNA(VLOOKUP(A63,reporting4,3,FALSE)),\"\",VLOOKUP(A63,reporting4,3,FALSE)))","v":""},{"$f":"IF(ISBLANK(VLOOKUP(A63,reporting4,4,FALSE)),\"\",IF(ISNA(VLOOKUP(A63,reporting4,4,FALSE)),\"\",VLOOKUP(A63,reporting4,4,FALSE)))","v":""},{"$f":"IF(ISBLANK(VLOOKUP(A63,reportin5,2,FALSE)),\"\",IF(ISNA(VLOOKUP(A63,reporting5,2,FALSE)),\"\",VLOOKUP(A63,reporting5,2,FALSE)))","v":""},{"$f":"IF(ISBLANK(VLOOKUP(A63,reporting5,3,FALSE)),\"\",IF(ISNA(VLOOKUP(A63,reporting5,3,FALSE)),\"\",VLOOKUP(A63,reporting5,3,FALSE)))","v":""},{"$f":"IF(ISBLANK(VLOOKUP(A63,reporting5,4,FALSE)),\"\",IF(ISNA(VLOOKUP(A63,reporting5,4,FALSE)),\"\",VLOOKUP(A63,reporting5,4,FALSE)))","v":""}]
[null,{"$f":"IF(ISBLANK(VLOOKUP(A64,reporting1,2,FALSE)),\"\",IF(ISNA(VLOOKUP(A64,reporting1,2,FALSE)),\"\",VLOOKUP(A64,reporting1,2,FALSE)))","v":""},{"$f":"IF(ISBLANK(VLOOKUP(A64,reporting1,3,FALSE)),\"\",IF(ISNA(VLOOKUP(A64,reporting1,3,FALSE)),\"\",VLOOKUP(A64,reporting1,3,FALSE)))","v":""},{"$f":"IF(ISBLANK(VLOOKUP(A64,reporting1,4,FALSE)),\"\",IF(ISNA(VLOOKUP(A64,reporting1,4,FALSE)),\"\",VLOOKUP(A64,reporting1,4,FALSE)))","v":""},{"$f":"IF(ISBLANK(VLOOKUP(A64,reporting2,2,FALSE)),\"\",IF(ISNA(VLOOKUP(A64,reporting2,2,FALSE)),\"\",VLOOKUP(A64,reporting2,2,FALSE)))","v":""},{"$f":"IF(ISBLANK(VLOOKUP(A64,reporting2,3,FALSE)),\"\",IF(ISNA(VLOOKUP(A64,reporting2,3,FALSE)),\"\",VLOOKUP(A64,reporting2,3,FALSE)))","v":""},{"$f":"IF(ISBLANK(VLOOKUP(A64,reporting2,4,FALSE)),\"\",IF(ISNA(VLOOKUP(A64,reporting2,4,FALSE)),\"\",VLOOKUP(A64,reporting2,4,FALSE)))","v":""},{"$f":"IF(ISBLANK(VLOOKUP(A64,reporting3,2,FALSE)),\"\",IF(ISNA(VLOOKUP(A64,reporting3,2,FALSE)),\"\",VLOOKUP(A64,reporting3,2,FALSE)))","v":""},{"$f":"IF(ISBLANK(VLOOKUP(A64,reporting3,3,FALSE)),\"\",IF(ISNA(VLOOKUP(A64,reporting3,3,FALSE)),\"\",VLOOKUP(A64,reporting3,3,FALSE)))","v":""},{"$f":"IF(ISBLANK(VLOOKUP(A64,reporting3,4,FALSE)),\"\",IF(ISNA(VLOOKUP(A64,reporting3,4,FALSE)),\"\",VLOOKUP(A64,reporting3,4,FALSE)))","v":""},{"$f":"IF(ISBLANK(VLOOKUP(A64,reporting4,2,FALSE)),\"\",IF(ISNA(VLOOKUP(A64,reporting4,2,FALSE)),\"\",VLOOKUP(A64,reporting4,2,FALSE)))","v":""},{"$f":"IF(ISBLANK(VLOOKUP(A64,reporting4,3,FALSE)),\"\",IF(ISNA(VLOOKUP(A64,reporting4,3,FALSE)),\"\",VLOOKUP(A64,reporting4,3,FALSE)))","v":""},{"$f":"IF(ISBLANK(VLOOKUP(A64,reporting4,4,FALSE)),\"\",IF(ISNA(VLOOKUP(A64,reporting4,4,FALSE)),\"\",VLOOKUP(A64,reporting4,4,FALSE)))","v":""},{"$f":"IF(ISBLANK(VLOOKUP(A64,reportin5,2,FALSE)),\"\",IF(ISNA(VLOOKUP(A64,reporting5,2,FALSE)),\"\",VLOOKUP(A64,reporting5,2,FALSE)))","v":""},{"$f":"IF(ISBLANK(VLOOKUP(A64,reporting5,3,FALSE)),\"\",IF(ISNA(VLOOKUP(A64,reporting5,3,FALSE)),\"\",VLOOKUP(A64,reporting5,3,FALSE)))","v":""},{"$f":"IF(ISBLANK(VLOOKUP(A64,reporting5,4,FALSE)),\"\",IF(ISNA(VLOOKUP(A64,reporting5,4,FALSE)),\"\",VLOOKUP(A64,reporting5,4,FALSE)))","v":""}]
[null,{"$f":"IF(ISBLANK(VLOOKUP(A65,reporting1,2,FALSE)),\"\",IF(ISNA(VLOOKUP(A65,reporting1,2,FALSE)),\"\",VLOOKUP(A65,reporting1,2,FALSE)))","v":""},{"$f":"IF(ISBLANK(VLOOKUP(A65,reporting1,3,FALSE)),\"\",IF(ISNA(VLOOKUP(A65,reporting1,3,FALSE)),\"\",VLOOKUP(A65,reporting1,3,FALSE)))","v":""},{"$f":"IF(ISBLANK(VLOOKUP(A65,reporting1,4,FALSE)),\"\",IF(ISNA(VLOOKUP(A65,reporting1,4,FALSE)),\"\",VLOOKUP(A65,reporting1,4,FALSE)))","v":""},{"$f":"IF(ISBLANK(VLOOKUP(A65,reporting2,2,FALSE)),\"\",IF(ISNA(VLOOKUP(A65,reporting2,2,FALSE)),\"\",VLOOKUP(A65,reporting2,2,FALSE)))","v":""},{"$f":"IF(ISBLANK(VLOOKUP(A65,reporting2,3,FALSE)),\"\",IF(ISNA(VLOOKUP(A65,reporting2,3,FALSE)),\"\",VLOOKUP(A65,reporting2,3,FALSE)))","v":""},{"$f":"IF(ISBLANK(VLOOKUP(A65,reporting2,4,FALSE)),\"\",IF(ISNA(VLOOKUP(A65,reporting2,4,FALSE)),\"\",VLOOKUP(A65,reporting2,4,FALSE)))","v":""},{"$f":"IF(ISBLANK(VLOOKUP(A65,reporting3,2,FALSE)),\"\",IF(ISNA(VLOOKUP(A65,reporting3,2,FALSE)),\"\",VLOOKUP(A65,reporting3,2,FALSE)))","v":""},{"$f":"IF(ISBLANK(VLOOKUP(A65,reporting3,3,FALSE)),\"\",IF(ISNA(VLOOKUP(A65,reporting3,3,FALSE)),\"\",VLOOKUP(A65,reporting3,3,FALSE)))","v":""},{"$f":"IF(ISBLANK(VLOOKUP(A65,reporting3,4,FALSE)),\"\",IF(ISNA(VLOOKUP(A65,reporting3,4,FALSE)),\"\",VLOOKUP(A65,reporting3,4,FALSE)))","v":""},{"$f":"IF(ISBLANK(VLOOKUP(A65,reporting4,2,FALSE)),\"\",IF(ISNA(VLOOKUP(A65,reporting4,2,FALSE)),\"\",VLOOKUP(A65,reporting4,2,FALSE)))","v":""},{"$f":"IF(ISBLANK(VLOOKUP(A65,reporting4,3,FALSE)),\"\",IF(ISNA(VLOOKUP(A65,reporting4,3,FALSE)),\"\",VLOOKUP(A65,reporting4,3,FALSE)))","v":""},{"$f":"IF(ISBLANK(VLOOKUP(A65,reporting4,4,FALSE)),\"\",IF(ISNA(VLOOKUP(A65,reporting4,4,FALSE)),\"\",VLOOKUP(A65,reporting4,4,FALSE)))","v":""},{"$f":"IF(ISBLANK(VLOOKUP(A65,reportin5,2,FALSE)),\"\",IF(ISNA(VLOOKUP(A65,reporting5,2,FALSE)),\"\",VLOOKUP(A65,reporting5,2,FALSE)))","v":""},{"$f":"IF(ISBLANK(VLOOKUP(A65,reporting5,3,FALSE)),\"\",IF(ISNA(VLOOKUP(A65,reporting5,3,FALSE)),\"\",VLOOKUP(A65,reporting5,3,FALSE)))","v":""},{"$f":"IF(ISBLANK(VLOOKUP(A65,reporting5,4,FALSE)),\"\",IF(ISNA(VLOOKUP(A65,reporting5,4,FALSE)),\"\",VLOOKUP(A65,reporting5,4,FALSE)))","v":""}]
[null,{"$f":"IF(ISBLANK(VLOOKUP(A66,reporting1,2,FALSE)),\"\",IF(ISNA(VLOOKUP(A66,reporting1,2,FALSE)),\"\",VLOOKUP(A66,reporting1,2,FALSE)))","v":""},{"$f":"IF(ISBLANK(VLOOKUP(A66,reporting1,3,FALSE)),\"\",IF(ISNA(VLOOKUP(A66,reporting1,3,FALSE)),\"\",VLOOKUP(A66,reporting1,3,FALSE)))","v":""},{"$f":"IF(ISBLANK(VLOOKUP(A66,reporting1,4,FALSE)),\"\",IF(ISNA(VLOOKUP(A66,reporting1,4,FALSE)),\"\",VLOOKUP(A66,reporting1,4,FALSE)))","v":""},{"$f":"IF(ISBLANK(VLOOKUP(A66,reporting2,2,FALSE)),\"\",IF(ISNA(VLOOKUP(A66,reporting2,2,FALSE)),\"\",VLOOKUP(A66,reporting2,2,FALSE)))","v":""},{"$f":"IF(ISBLANK(VLOOKUP(A66,reporting2,3,FALSE)),\"\",IF(ISNA(VLOOKUP(A66,reporting2,3,FALSE)),\"\",VLOOKUP(A66,reporting2,3,FALSE)))","v":""},{"$f":"IF(ISBLANK(VLOOKUP(A66,reporting2,4,FALSE)),\"\",IF(ISNA(VLOOKUP(A66,reporting2,4,FALSE)),\"\",VLOOKUP(A66,reporting2,4,FALSE)))","v":""},{"$f":"IF(ISBLANK(VLOOKUP(A66,reporting3,2,FALSE)),\"\",IF(ISNA(VLOOKUP(A66,reporting3,2,FALSE)),\"\",VLOOKUP(A66,reporting3,2,FALSE)))","v":""},{"$f":"IF(ISBLANK(VLOOKUP(A66,reporting3,3,FALSE)),\"\",IF(ISNA(VLOOKUP(A66,reporting3,3,FALSE)),\"\",VLOOKUP(A66,reporting3,3,FALSE)))","v":""},{"$f":"IF(ISBLANK(VLOOKUP(A66,reporting3,4,FALSE)),\"\",IF(ISNA(VLOOKUP(A66,reporting3,4,FALSE)),\"\",VLOOKUP(A66,reporting3,4,FALSE)))","v":""},{"$f":"IF(ISBLANK(VLOOKUP(A66,reporting4,2,FALSE)),\"\",IF(ISNA(VLOOKUP(A66,reporting4,2,FALSE)),\"\",VLOOKUP(A66,reporting4,2,FALSE)))","v":""},{"$f":"IF(ISBLANK(VLOOKUP(A66,reporting4,3,FALSE)),\"\",IF(ISNA(VLOOKUP(A66,reporting4,3,FALSE)),\"\",VLOOKUP(A66,reporting4,3,FALSE)))","v":""},{"$f":"IF(ISBLANK(VLOOKUP(A66,reporting4,4,FALSE)),\"\",IF(ISNA(VLOOKUP(A66,reporting4,4,FALSE)),\"\",VLOOKUP(A66,reporting4,4,FALSE)))","v":""},{"$f":"IF(ISBLANK(VLOOKUP(A66,reportin5,2,FALSE)),\"\",IF(ISNA(VLOOKUP(A66,reporting5,2,FALSE)),\"\",VLOOKUP(A66,reporting5,2,FALSE)))","v":""},{"$f":"IF(ISBLANK(VLOOKUP(A66,reporting5,3,FALSE)),\"\",IF(ISNA(VLOOKUP(A66,reporting5,3,FALSE)),\"\",VLOOKUP(A66,reporting5,3,FALSE)))","v":""},{"$f":"IF(ISBLANK(VLOOKUP(A66,reporting5,4,FALSE)),\"\",IF(ISNA(VLOOKUP(A66,reporting5,4,FALSE)),\"\",VLOOKUP(A66,reporting5,4,FALSE)))","v":""}]
[null,{"$f":"IF(ISBLANK(VLOOKUP(A67,reporting1,2,FALSE)),\"\",IF(ISNA(VLOOKUP(A67,reporting1,2,FALSE)),\"\",VLOOKUP(A67,reporting1,2,FALSE)))","v":""},{"$f":"IF(ISBLANK(VLOOKUP(A67,reporting1,3,FALSE)),\"\",IF(ISNA(VLOOKUP(A67,reporting1,3,FALSE)),\"\",VLOOKUP(A67,reporting1,3,FALSE)))","v":""},{"$f":"IF(ISBLANK(VLOOKUP(A67,reporting1,4,FALSE)),\"\",IF(ISNA(VLOOKUP(A67,reporting1,4,FALSE)),\"\",VLOOKUP(A67,reporting1,4,FALSE)))","v":""},{"$f":"IF(ISBLANK(VLOOKUP(A67,reporting2,2,FALSE)),\"\",IF(ISNA(VLOOKUP(A67,reporting2,2,FALSE)),\"\",VLOOKUP(A67,reporting2,2,FALSE)))","v":""},{"$f":"IF(ISBLANK(VLOOKUP(A67,reporting2,3,FALSE)),\"\",IF(ISNA(VLOOKUP(A67,reporting2,3,FALSE)),\"\",VLOOKUP(A67,reporting2,3,FALSE)))","v":""},{"$f":"IF(ISBLANK(VLOOKUP(A67,reporting2,4,FALSE)),\"\",IF(ISNA(VLOOKUP(A67,reporting2,4,FALSE)),\"\",VLOOKUP(A67,reporting2,4,FALSE)))","v":""},{"$f":"IF(ISBLANK(VLOOKUP(A67,reporting3,2,FALSE)),\"\",IF(ISNA(VLOOKUP(A67,reporting3,2,FALSE)),\"\",VLOOKUP(A67,reporting3,2,FALSE)))","v":""},{"$f":"IF(ISBLANK(VLOOKUP(A67,reporting3,3,FALSE)),\"\",IF(ISNA(VLOOKUP(A67,reporting3,3,FALSE)),\"\",VLOOKUP(A67,reporting3,3,FALSE)))","v":""},{"$f":"IF(ISBLANK(VLOOKUP(A67,reporting3,4,FALSE)),\"\",IF(ISNA(VLOOKUP(A67,reporting3,4,FALSE)),\"\",VLOOKUP(A67,reporting3,4,FALSE)))","v":""},{"$f":"IF(ISBLANK(VLOOKUP(A67,reporting4,2,FALSE)),\"\",IF(ISNA(VLOOKUP(A67,reporting4,2,FALSE)),\"\",VLOOKUP(A67,reporting4,2,FALSE)))","v":""},{"$f":"IF(ISBLANK(VLOOKUP(A67,reporting4,3,FALSE)),\"\",IF(ISNA(VLOOKUP(A67,reporting4,3,FALSE)),\"\",VLOOKUP(A67,reporting4,3,FALSE)))","v":""},{"$f":"IF(ISBLANK(VLOOKUP(A67,reporting4,4,FALSE)),\"\",IF(ISNA(VLOOKUP(A67,reporting4,4,FALSE)),\"\",VLOOKUP(A67,reporting4,4,FALSE)))","v":""},{"$f":"IF(ISBLANK(VLOOKUP(A67,reportin5,2,FALSE)),\"\",IF(ISNA(VLOOKUP(A67,reporting5,2,FALSE)),\"\",VLOOKUP(A67,reporting5,2,FALSE)))","v":""},{"$f":"IF(ISBLANK(VLOOKUP(A67,reporting5,3,FALSE)),\"\",IF(ISNA(VLOOKUP(A67,reporting5,3,FALSE)),\"\",VLOOKUP(A67,reporting5,3,FALSE)))","v":""},{"$f":"IF(ISBLANK(VLOOKUP(A67,reporting5,4,FALSE)),\"\",IF(ISNA(VLOOKUP(A67,reporting5,4,FALSE)),\"\",VLOOKUP(A67,reporting5,4,FALSE)))","v":""}]
[null,{"$f":"IF(ISBLANK(VLOOKUP(A68,reporting1,2,FALSE)),\"\",IF(ISNA(VLOOKUP(A68,reporting1,2,FALSE)),\"\",VLOOKUP(A68,reporting1,2,FALSE)))","v":""},{"$f":"IF(ISBLANK(VLOOKUP(A68,reporting1,3,FALSE)),\"\",IF(ISNA(VLOOKUP(A68,reporting1,3,FALSE)),\"\",VLOOKUP(A68,reporting1,3,FALSE)))","v":""},{"$f":"IF(ISBLANK(VLOOKUP(A68,reporting1,4,FALSE)),\"\",IF(ISNA(VLOOKUP(A68,reporting1,4,FALSE)),\"\",VLOOKUP(A68,reporting1,4,FALSE)))","v":""},{"$f":"IF(ISBLANK(VLOOKUP(A68,reporting2,2,FALSE)),\"\",IF(ISNA(VLOOKUP(A68,reporting2,2,FALSE)),\"\",VLOOKUP(A68,reporting2,2,FALSE)))","v":""},{"$f":"IF(ISBLANK(VLOOKUP(A68,reporting2,3,FALSE)),\"\",IF(ISNA(VLOOKUP(A68,reporting2,3,FALSE)),\"\",VLOOKUP(A68,reporting2,3,FALSE)))","v":""},{"$f":"IF(ISBLANK(VLOOKUP(A68,reporting2,4,FALSE)),\"\",IF(ISNA(VLOOKUP(A68,reporting2,4,FALSE)),\"\",VLOOKUP(A68,reporting2,4,FALSE)))","v":""},{"$f":"IF(ISBLANK(VLOOKUP(A68,reporting3,2,FALSE)),\"\",IF(ISNA(VLOOKUP(A68,reporting3,2,FALSE)),\"\",VLOOKUP(A68,reporting3,2,FALSE)))","v":""},{"$f":"IF(ISBLANK(VLOOKUP(A68,reporting3,3,FALSE)),\"\",IF(ISNA(VLOOKUP(A68,reporting3,3,FALSE)),\"\",VLOOKUP(A68,reporting3,3,FALSE)))","v":""},{"$f":"IF(ISBLANK(VLOOKUP(A68,reporting3,4,FALSE)),\"\",IF(ISNA(VLOOKUP(A68,reporting3,4,FALSE)),\"\",VLOOKUP(A68,reporting3,4,FALSE)))","v":""},{"$f":"IF(ISBLANK(VLOOKUP(A68,reporting4,2,FALSE)),\"\",IF(ISNA(VLOOKUP(A68,reporting4,2,FALSE)),\"\",VLOOKUP(A68,reporting4,2,FALSE)))","v":""},{"$f":"IF(ISBLANK(VLOOKUP(A68,reporting4,3,FALSE)),\"\",IF(ISNA(VLOOKUP(A68,reporting4,3,FALSE)),\"\",VLOOKUP(A68,reporting4,3,FALSE)))","v":""},{"$f":"IF(ISBLANK(VLOOKUP(A68,reporting4,4,FALSE)),\"\",IF(ISNA(VLOOKUP(A68,reporting4,4,FALSE)),\"\",VLOOKUP(A68,reporting4,4,FALSE)))","v":""},{"$f":"IF(ISBLANK(VLOOKUP(A68,reportin5,2,FALSE)),\"\",IF(ISNA(VLOOKUP(A68,reporting5,2,FALSE)),\"\",VLOOKUP(A68,reporting5,2,FALSE)))","v":""},{"$f":"IF(ISBLANK(VLOOKUP(A68,reporting5,3,FALSE)),\"\",IF(ISNA(VLOOKUP(A68,reporting5,3,FALSE)),\"\",VLOOKUP(A68,reporting5,3,FALSE)))","v":""},{"$f":"IF(ISBLANK(VLOOKUP(A68,reporting5,4,FALSE)),\"\",IF(ISNA(VLOOKUP(A68,reporting5,4,FALSE)),\"\",VLOOKUP(A68,reporting5,4,FALSE)))","v":""}]
[null,{"$f":"IF(ISBLANK(VLOOKUP(A69,reporting1,2,FALSE)),\"\",IF(ISNA(VLOOKUP(A69,reporting1,2,FALSE)),\"\",VLOOKUP(A69,reporting1,2,FALSE)))","v":""},{"$f":"IF(ISBLANK(VLOOKUP(A69,reporting1,3,FALSE)),\"\",IF(ISNA(VLOOKUP(A69,reporting1,3,FALSE)),\"\",VLOOKUP(A69,reporting1,3,FALSE)))","v":""},{"$f":"IF(ISBLANK(VLOOKUP(A69,reporting1,4,FALSE)),\"\",IF(ISNA(VLOOKUP(A69,reporting1,4,FALSE)),\"\",VLOOKUP(A69,reporting1,4,FALSE)))","v":""},{"$f":"IF(ISBLANK(VLOOKUP(A69,reporting2,2,FALSE)),\"\",IF(ISNA(VLOOKUP(A69,reporting2,2,FALSE)),\"\",VLOOKUP(A69,reporting2,2,FALSE)))","v":""},{"$f":"IF(ISBLANK(VLOOKUP(A69,reporting2,3,FALSE)),\"\",IF(ISNA(VLOOKUP(A69,reporting2,3,FALSE)),\"\",VLOOKUP(A69,reporting2,3,FALSE)))","v":""},{"$f":"IF(ISBLANK(VLOOKUP(A69,reporting2,4,FALSE)),\"\",IF(ISNA(VLOOKUP(A69,reporting2,4,FALSE)),\"\",VLOOKUP(A69,reporting2,4,FALSE)))","v":""},{"$f":"IF(ISBLANK(VLOOKUP(A69,reporting3,2,FALSE)),\"\",IF(ISNA(VLOOKUP(A69,reporting3,2,FALSE)),\"\",VLOOKUP(A69,reporting3,2,FALSE)))","v":""},{"$f":"IF(ISBLANK(VLOOKUP(A69,reporting3,3,FALSE)),\"\",IF(ISNA(VLOOKUP(A69,reporting3,3,FALSE)),\"\",VLOOKUP(A69,reporting3,3,FALSE)))","v":""},{"$f":"IF(ISBLANK(VLOOKUP(A69,reporting3,4,FALSE)),\"\",IF(ISNA(VLOOKUP(A69,reporting3,4,FALSE)),\"\",VLOOKUP(A69,reporting3,4,FALSE)))","v":""},{"$f":"IF(ISBLANK(VLOOKUP(A69,reporting4,2,FALSE)),\"\",IF(ISNA(VLOOKUP(A69,reporting4,2,FALSE)),\"\",VLOOKUP(A69,reporting4,2,FALSE)))","v":""},{"$f":"IF(ISBLANK(VLOOKUP(A69,reporting4,3,FALSE)),\"\",IF(ISNA(VLOOKUP(A69,reporting4,3,FALSE)),\"\",VLOOKUP(A69,reporting4,3,FALSE)))","v":""},{"$f":"IF(ISBLANK(VLOOKUP(A69,reporting4,4,FALSE)),\"\",IF(ISNA(VLOOKUP(A69,reporting4,4,FALSE)),\"\",VLOOKUP(A69,reporting4,4,FALSE)))","v":""},{"$f":"IF(ISBLANK(VLOOKUP(A69,reportin5,2,FALSE)),\"\",IF(ISNA(VLOOKUP(A69,reporting5,2,FALSE)),\"\",VLOOKUP(A69,reporting5,2,FALSE)))","v":""},{"$f":"IF(ISBLANK(VLOOKUP(A69,reporting5,3,FALSE)),\"\",IF(ISNA(VLOOKUP(A69,reporting5,3,FALSE)),\"\",VLOOKUP(A69,reporting5,3,FALSE)))","v":""},{"$f":"IF(ISBLANK(VLOOKUP(A69,reporting5,4,FALSE)),\"\",IF(ISNA(VLOOKUP(A69,reporting5,4,FALSE)),\"\",VLOOKUP(A69,reporting5,4,FALSE)))","v":""}]
[null,{"$f":"IF(ISBLANK(VLOOKUP(A70,reporting1,2,FALSE)),\"\",IF(ISNA(VLOOKUP(A70,reporting1,2,FALSE)),\"\",VLOOKUP(A70,reporting1,2,FALSE)))","v":""},{"$f":"IF(ISBLANK(VLOOKUP(A70,reporting1,3,FALSE)),\"\",IF(ISNA(VLOOKUP(A70,reporting1,3,FALSE)),\"\",VLOOKUP(A70,reporting1,3,FALSE)))","v":""},{"$f":"IF(ISBLANK(VLOOKUP(A70,reporting1,4,FALSE)),\"\",IF(ISNA(VLOOKUP(A70,reporting1,4,FALSE)),\"\",VLOOKUP(A70,reporting1,4,FALSE)))","v":""},{"$f":"IF(ISBLANK(VLOOKUP(A70,reporting2,2,FALSE)),\"\",IF(ISNA(VLOOKUP(A70,reporting2,2,FALSE)),\"\",VLOOKUP(A70,reporting2,2,FALSE)))","v":""},{"$f":"IF(ISBLANK(VLOOKUP(A70,reporting2,3,FALSE)),\"\",IF(ISNA(VLOOKUP(A70,reporting2,3,FALSE)),\"\",VLOOKUP(A70,reporting2,3,FALSE)))","v":""},{"$f":"IF(ISBLANK(VLOOKUP(A70,reporting2,4,FALSE)),\"\",IF(ISNA(VLOOKUP(A70,reporting2,4,FALSE)),\"\",VLOOKUP(A70,reporting2,4,FALSE)))","v":""},{"$f":"IF(ISBLANK(VLOOKUP(A70,reporting3,2,FALSE)),\"\",IF(ISNA(VLOOKUP(A70,reporting3,2,FALSE)),\"\",VLOOKUP(A70,reporting3,2,FALSE)))","v":""},{"$f":"IF(ISBLANK(VLOOKUP(A70,reporting3,3,FALSE)),\"\",IF(ISNA(VLOOKUP(A70,reporting3,3,FALSE)),\"\",VLOOKUP(A70,reporting3,3,FALSE)))","v":""},{"$f":"IF(ISBLANK(VLOOKUP(A70,reporting3,4,FALSE)),\"\",IF(ISNA(VLOOKUP(A70,reporting3,4,FALSE)),\"\",VLOOKUP(A70,reporting3,4,FALSE)))","v":""},{"$f":"IF(ISBLANK(VLOOKUP(A70,reporting4,2,FALSE)),\"\",IF(ISNA(VLOOKUP(A70,reporting4,2,FALSE)),\"\",VLOOKUP(A70,reporting4,2,FALSE)))","v":""},{"$f":"IF(ISBLANK(VLOOKUP(A70,reporting4,3,FALSE)),\"\",IF(ISNA(VLOOKUP(A70,reporting4,3,FALSE)),\"\",VLOOKUP(A70,reporting4,3,FALSE)))","v":""},{"$f":"IF(ISBLANK(VLOOKUP(A70,reporting4,4,FALSE)),\"\",IF(ISNA(VLOOKUP(A70,reporting4,4,FALSE)),\"\",VLOOKUP(A70,reporting4,4,FALSE)))","v":""},{"$f":"IF(ISBLANK(VLOOKUP(A70,reportin5,2,FALSE)),\"\",IF(ISNA(VLOOKUP(A70,reporting5,2,FALSE)),\"\",VLOOKUP(A70,reporting5,2,FALSE)))","v":""},{"$f":"IF(ISBLANK(VLOOKUP(A70,reporting5,3,FALSE)),\"\",IF(ISNA(VLOOKUP(A70,reporting5,3,FALSE)),\"\",VLOOKUP(A70,reporting5,3,FALSE)))","v":""},{"$f":"IF(ISBLANK(VLOOKUP(A70,reporting5,4,FALSE)),\"\",IF(ISNA(VLOOKUP(A70,reporting5,4,FALSE)),\"\",VLOOKUP(A70,reporting5,4,FALSE)))","v":""}]
[null,{"$f":"IF(ISBLANK(VLOOKUP(A71,reporting1,2,FALSE)),\"\",IF(ISNA(VLOOKUP(A71,reporting1,2,FALSE)),\"\",VLOOKUP(A71,reporting1,2,FALSE)))","v":""},{"$f":"IF(ISBLANK(VLOOKUP(A71,reporting1,3,FALSE)),\"\",IF(ISNA(VLOOKUP(A71,reporting1,3,FALSE)),\"\",VLOOKUP(A71,reporting1,3,FALSE)))","v":""},{"$f":"IF(ISBLANK(VLOOKUP(A71,reporting1,4,FALSE)),\"\",IF(ISNA(VLOOKUP(A71,reporting1,4,FALSE)),\"\",VLOOKUP(A71,reporting1,4,FALSE)))","v":""},{"$f":"IF(ISBLANK(VLOOKUP(A71,reporting2,2,FALSE)),\"\",IF(ISNA(VLOOKUP(A71,reporting2,2,FALSE)),\"\",VLOOKUP(A71,reporting2,2,FALSE)))","v":""},{"$f":"IF(ISBLANK(VLOOKUP(A71,reporting2,3,FALSE)),\"\",IF(ISNA(VLOOKUP(A71,reporting2,3,FALSE)),\"\",VLOOKUP(A71,reporting2,3,FALSE)))","v":""},{"$f":"IF(ISBLANK(VLOOKUP(A71,reporting2,4,FALSE)),\"\",IF(ISNA(VLOOKUP(A71,reporting2,4,FALSE)),\"\",VLOOKUP(A71,reporting2,4,FALSE)))","v":""},{"$f":"IF(ISBLANK(VLOOKUP(A71,reporting3,2,FALSE)),\"\",IF(ISNA(VLOOKUP(A71,reporting3,2,FALSE)),\"\",VLOOKUP(A71,reporting3,2,FALSE)))","v":""},{"$f":"IF(ISBLANK(VLOOKUP(A71,reporting3,3,FALSE)),\"\",IF(ISNA(VLOOKUP(A71,reporting3,3,FALSE)),\"\",VLOOKUP(A71,reporting3,3,FALSE)))","v":""},{"$f":"IF(ISBLANK(VLOOKUP(A71,reporting3,4,FALSE)),\"\",IF(ISNA(VLOOKUP(A71,reporting3,4,FALSE)),\"\",VLOOKUP(A71,reporting3,4,FALSE)))","v":""},{"$f":"IF(ISBLANK(VLOOKUP(A71,reporting4,2,FALSE)),\"\",IF(ISNA(VLOOKUP(A71,reporting4,2,FALSE)),\"\",VLOOKUP(A71,reporting4,2,FALSE)))","v":""},{"$f":"IF(ISBLANK(VLOOKUP(A71,reporting4,3,FALSE)),\"\",IF(ISNA(VLOOKUP(A71,reporting4,3,FALSE)),\"\",VLOOKUP(A71,reporting4,3,FALSE)))","v":""},{"$f":"IF(ISBLANK(VLOOKUP(A71,reporting4,4,FALSE)),\"\",IF(ISNA(VLOOKUP(A71,reporting4,4,FALSE)),\"\",VLOOKUP(A71,reporting4,4,FALSE)))","v":""},{"$f":"IF(ISBLANK(VLOOKUP(A71,reportin5,2,FALSE)),\"\",IF(ISNA(VLOOKUP(A71,reporting5,2,FALSE)),\"\",VLOOKUP(A71,reporting5,2,FALSE)))","v":""},{"$f":"IF(ISBLANK(VLOOKUP(A71,reporting5,3,FALSE)),\"\",IF(ISNA(VLOOKUP(A71,reporting5,3,FALSE)),\"\",VLOOKUP(A71,reporting5,3,FALSE)))","v":""},{"$f":"IF(ISBLANK(VLOOKUP(A71,reporting5,4,FALSE)),\"\",IF(ISNA(VLOOKUP(A71,reporting5,4,FALSE)),\"\",VLOOKUP(A71,reporting5,4,FALSE)))","v":""}]
[null,{"$f":"IF(ISBLANK(VLOOKUP(A72,reporting1,2,FALSE)),\"\",IF(ISNA(VLOOKUP(A72,reporting1,2,FALSE)),\"\",VLOOKUP(A72,reporting1,2,FALSE)))","v":""},{"$f":"IF(ISBLANK(VLOOKUP(A72,reporting1,3,FALSE)),\"\",IF(ISNA(VLOOKUP(A72,reporting1,3,FALSE)),\"\",VLOOKUP(A72,reporting1,3,FALSE)))","v":""},{"$f":"IF(ISBLANK(VLOOKUP(A72,reporting1,4,FALSE)),\"\",IF(ISNA(VLOOKUP(A72,reporting1,4,FALSE)),\"\",VLOOKUP(A72,reporting1,4,FALSE)))","v":""},{"$f":"IF(ISBLANK(VLOOKUP(A72,reporting2,2,FALSE)),\"\",IF(ISNA(VLOOKUP(A72,reporting2,2,FALSE)),\"\",VLOOKUP(A72,reporting2,2,FALSE)))","v":""},{"$f":"IF(ISBLANK(VLOOKUP(A72,reporting2,3,FALSE)),\"\",IF(ISNA(VLOOKUP(A72,reporting2,3,FALSE)),\"\",VLOOKUP(A72,reporting2,3,FALSE)))","v":""},{"$f":"IF(ISBLANK(VLOOKUP(A72,reporting2,4,FALSE)),\"\",IF(ISNA(VLOOKUP(A72,reporting2,4,FALSE)),\"\",VLOOKUP(A72,reporting2,4,FALSE)))","v":""},{"$f":"IF(ISBLANK(VLOOKUP(A72,reporting3,2,FALSE)),\"\",IF(ISNA(VLOOKUP(A72,reporting3,2,FALSE)),\"\",VLOOKUP(A72,reporting3,2,FALSE)))","v":""},{"$f":"IF(ISBLANK(VLOOKUP(A72,reporting3,3,FALSE)),\"\",IF(ISNA(VLOOKUP(A72,reporting3,3,FALSE)),\"\",VLOOKUP(A72,reporting3,3,FALSE)))","v":""},{"$f":"IF(ISBLANK(VLOOKUP(A72,reporting3,4,FALSE)),\"\",IF(ISNA(VLOOKUP(A72,reporting3,4,FALSE)),\"\",VLOOKUP(A72,reporting3,4,FALSE)))","v":""},{"$f":"IF(ISBLANK(VLOOKUP(A72,reporting4,2,FALSE)),\"\",IF(ISNA(VLOOKUP(A72,reporting4,2,FALSE)),\"\",VLOOKUP(A72,reporting4,2,FALSE)))","v":""},{"$f":"IF(ISBLANK(VLOOKUP(A72,reporting4,3,FALSE)),\"\",IF(ISNA(VLOOKUP(A72,reporting4,3,FALSE)),\"\",VLOOKUP(A72,reporting4,3,FALSE)))","v":""},{"$f":"IF(ISBLANK(VLOOKUP(A72,reporting4,4,FALSE)),\"\",IF(ISNA(VLOOKUP(A72,reporting4,4,FALSE)),\"\",VLOOKUP(A72,reporting4,4,FALSE)))","v":""},{"$f":"IF(ISBLANK(VLOOKUP(A72,reportin5,2,FALSE)),\"\",IF(ISNA(VLOOKUP(A72,reporting5,2,FALSE)),\"\",VLOOKUP(A72,reporting5,2,FALSE)))","v":""},{"$f":"IF(ISBLANK(VLOOKUP(A72,reporting5,3,FALSE)),\"\",IF(ISNA(VLOOKUP(A72,reporting5,3,FALSE)),\"\",VLOOKUP(A72,reporting5,3,FALSE)))","v":""},{"$f":"IF(ISBLANK(VLOOKUP(A72,reporting5,4,FALSE)),\"\",IF(ISNA(VLOOKUP(A72,reporting5,4,FALSE)),\"\",VLOOKUP(A72,reporting5,4,FALSE)))","v":""}]
[null,{"$f":"IF(ISBLANK(VLOOKUP(A73,reporting1,2,FALSE)),\"\",IF(ISNA(VLOOKUP(A73,reporting1,2,FALSE)),\"\",VLOOKUP(A73,reporting1,2,FALSE)))","v":""},{"$f":"IF(ISBLANK(VLOOKUP(A73,reporting1,3,FALSE)),\"\",IF(ISNA(VLOOKUP(A73,reporting1,3,FALSE)),\"\",VLOOKUP(A73,reporting1,3,FALSE)))","v":""},{"$f":"IF(ISBLANK(VLOOKUP(A73,reporting1,4,FALSE)),\"\",IF(ISNA(VLOOKUP(A73,reporting1,4,FALSE)),\"\",VLOOKUP(A73,reporting1,4,FALSE)))","v":""},{"$f":"IF(ISBLANK(VLOOKUP(A73,reporting2,2,FALSE)),\"\",IF(ISNA(VLOOKUP(A73,reporting2,2,FALSE)),\"\",VLOOKUP(A73,reporting2,2,FALSE)))","v":""},{"$f":"IF(ISBLANK(VLOOKUP(A73,reporting2,3,FALSE)),\"\",IF(ISNA(VLOOKUP(A73,reporting2,3,FALSE)),\"\",VLOOKUP(A73,reporting2,3,FALSE)))","v":""},{"$f":"IF(ISBLANK(VLOOKUP(A73,reporting2,4,FALSE)),\"\",IF(ISNA(VLOOKUP(A73,reporting2,4,FALSE)),\"\",VLOOKUP(A73,reporting2,4,FALSE)))","v":""},{"$f":"IF(ISBLANK(VLOOKUP(A73,reporting3,2,FALSE)),\"\",IF(ISNA(VLOOKUP(A73,reporting3,2,FALSE)),\"\",VLOOKUP(A73,reporting3,2,FALSE)))","v":""},{"$f":"IF(ISBLANK(VLOOKUP(A73,reporting3,3,FALSE)),\"\",IF(ISNA(VLOOKUP(A73,reporting3,3,FALSE)),\"\",VLOOKUP(A73,reporting3,3,FALSE)))","v":""},{"$f":"IF(ISBLANK(VLOOKUP(A73,reporting3,4,FALSE)),\"\",IF(ISNA(VLOOKUP(A73,reporting3,4,FALSE)),\"\",VLOOKUP(A73,reporting3,4,FALSE)))","v":""},{"$f":"IF(ISBLANK(VLOOKUP(A73,reporting4,2,FALSE)),\"\",IF(ISNA(VLOOKUP(A73,reporting4,2,FALSE)),\"\",VLOOKUP(A73,reporting4,2,FALSE)))","v":""},{"$f":"IF(ISBLANK(VLOOKUP(A73,reporting4,3,FALSE)),\"\",IF(ISNA(VLOOKUP(A73,reporting4,3,FALSE)),\"\",VLOOKUP(A73,reporting4,3,FALSE)))","v":""},{"$f":"IF(ISBLANK(VLOOKUP(A73,reporting4,4,FALSE)),\"\",IF(ISNA(VLOOKUP(A73,reporting4,4,FALSE)),\"\",VLOOKUP(A73,reporting4,4,FALSE)))","v":""},{"$f":"IF(ISBLANK(VLOOKUP(A73,reportin5,2,FALSE)),\"\",IF(ISNA(VLOOKUP(A73,reporting5,2,FALSE)),\"\",VLOOKUP(A73,reporting5,2,FALSE)))","v":""},{"$f":"IF(ISBLANK(VLOOKUP(A73,reporting5,3,FALSE)),\"\",IF(ISNA(VLOOKUP(A73,reporting5,3,FALSE)),\"\",VLOOKUP(A73,reporting5,3,FALSE)))","v":""},{"$f":"IF(ISBLANK(VLOOKUP(A73,reporting5,4,FALSE)),\"\",IF(ISNA(VLOOKUP(A73,reporting5,4,FALSE)),\"\",VLOOKUP(A73,reporting5,4,FALSE)))","v":""}]
[null,{"$f":"IF(ISBLANK(VLOOKUP(A74,reporting1,2,FALSE)),\"\",IF(ISNA(VLOOKUP(A74,reporting1,2,FALSE)),\"\",VLOOKUP(A74,reporting1,2,FALSE)))","v":""},{"$f":"IF(ISBLANK(VLOOKUP(A74,reporting1,3,FALSE)),\"\",IF(ISNA(VLOOKUP(A74,reporting1,3,FALSE)),\"\",VLOOKUP(A74,reporting1,3,FALSE)))","v":""},{"$f":"IF(ISBLANK(VLOOKUP(A74,reporting1,4,FALSE)),\"\",IF(ISNA(VLOOKUP(A74,reporting1,4,FALSE)),\"\",VLOOKUP(A74,reporting1,4,FALSE)))","v":""},{"$f":"IF(ISBLANK(VLOOKUP(A74,reporting2,2,FALSE)),\"\",IF(ISNA(VLOOKUP(A74,reporting2,2,FALSE)),\"\",VLOOKUP(A74,reporting2,2,FALSE)))","v":""},{"$f":"IF(ISBLANK(VLOOKUP(A74,reporting2,3,FALSE)),\"\",IF(ISNA(VLOOKUP(A74,reporting2,3,FALSE)),\"\",VLOOKUP(A74,reporting2,3,FALSE)))","v":""},{"$f":"IF(ISBLANK(VLOOKUP(A74,reporting2,4,FALSE)),\"\",IF(ISNA(VLOOKUP(A74,reporting2,4,FALSE)),\"\",VLOOKUP(A74,reporting2,4,FALSE)))","v":""},{"$f":"IF(ISBLANK(VLOOKUP(A74,reporting3,2,FALSE)),\"\",IF(ISNA(VLOOKUP(A74,reporting3,2,FALSE)),\"\",VLOOKUP(A74,reporting3,2,FALSE)))","v":""},{"$f":"IF(ISBLANK(VLOOKUP(A74,reporting3,3,FALSE)),\"\",IF(ISNA(VLOOKUP(A74,reporting3,3,FALSE)),\"\",VLOOKUP(A74,reporting3,3,FALSE)))","v":""},{"$f":"IF(ISBLANK(VLOOKUP(A74,reporting3,4,FALSE)),\"\",IF(ISNA(VLOOKUP(A74,reporting3,4,FALSE)),\"\",VLOOKUP(A74,reporting3,4,FALSE)))","v":""},{"$f":"IF(ISBLANK(VLOOKUP(A74,reporting4,2,FALSE)),\"\",IF(ISNA(VLOOKUP(A74,reporting4,2,FALSE)),\"\",VLOOKUP(A74,reporting4,2,FALSE)))","v":""},{"$f":"IF(ISBLANK(VLOOKUP(A74,reporting4,3,FALSE)),\"\",IF(ISNA(VLOOKUP(A74,reporting4,3,FALSE)),\"\",VLOOKUP(A74,reporting4,3,FALSE)))","v":""},{"$f":"IF(ISBLANK(VLOOKUP(A74,reporting4,4,FALSE)),\"\",IF(ISNA(VLOOKUP(A74,reporting4,4,FALSE)),\"\",VLOOKUP(A74,reporting4,4,FALSE)))","v":""},{"$f":"IF(ISBLANK(VLOOKUP(A74,reportin5,2,FALSE)),\"\",IF(ISNA(VLOOKUP(A74,reporting5,2,FALSE)),\"\",VLOOKUP(A74,reporting5,2,FALSE)))","v":""},{"$f":"IF(ISBLANK(VLOOKUP(A74,reporting5,3,FALSE)),\"\",IF(ISNA(VLOOKUP(A74,reporting5,3,FALSE)),\"\",VLOOKUP(A74,reporting5,3,FALSE)))","v":""},{"$f":"IF(ISBLANK(VLOOKUP(A74,reporting5,4,FALSE)),\"\",IF(ISNA(VLOOKUP(A74,reporting5,4,FALSE)),\"\",VLOOKUP(A74,reporting5,4,FALSE)))","v":""}]
[null,{"$f":"IF(ISBLANK(VLOOKUP(A75,reporting1,2,FALSE)),\"\",IF(ISNA(VLOOKUP(A75,reporting1,2,FALSE)),\"\",VLOOKUP(A75,reporting1,2,FALSE)))","v":""},{"$f":"IF(ISBLANK(VLOOKUP(A75,reporting1,3,FALSE)),\"\",IF(ISNA(VLOOKUP(A75,reporting1,3,FALSE)),\"\",VLOOKUP(A75,reporting1,3,FALSE)))","v":""},{"$f":"IF(ISBLANK(VLOOKUP(A75,reporting1,4,FALSE)),\"\",IF(ISNA(VLOOKUP(A75,reporting1,4,FALSE)),\"\",VLOOKUP(A75,reporting1,4,FALSE)))","v":""},{"$f":"IF(ISBLANK(VLOOKUP(A75,reporting2,2,FALSE)),\"\",IF(ISNA(VLOOKUP(A75,reporting2,2,FALSE)),\"\",VLOOKUP(A75,reporting2,2,FALSE)))","v":""},{"$f":"IF(ISBLANK(VLOOKUP(A75,reporting2,3,FALSE)),\"\",IF(ISNA(VLOOKUP(A75,reporting2,3,FALSE)),\"\",VLOOKUP(A75,reporting2,3,FALSE)))","v":""},{"$f":"IF(ISBLANK(VLOOKUP(A75,reporting2,4,FALSE)),\"\",IF(ISNA(VLOOKUP(A75,reporting2,4,FALSE)),\"\",VLOOKUP(A75,reporting2,4,FALSE)))","v":""},{"$f":"IF(ISBLANK(VLOOKUP(A75,reporting3,2,FALSE)),\"\",IF(ISNA(VLOOKUP(A75,reporting3,2,FALSE)),\"\",VLOOKUP(A75,reporting3,2,FALSE)))","v":""},{"$f":"IF(ISBLANK(VLOOKUP(A75,reporting3,3,FALSE)),\"\",IF(ISNA(VLOOKUP(A75,reporting3,3,FALSE)),\"\",VLOOKUP(A75,reporting3,3,FALSE)))","v":""},{"$f":"IF(ISBLANK(VLOOKUP(A75,reporting3,4,FALSE)),\"\",IF(ISNA(VLOOKUP(A75,reporting3,4,FALSE)),\"\",VLOOKUP(A75,reporting3,4,FALSE)))","v":""},{"$f":"IF(ISBLANK(VLOOKUP(A75,reporting4,2,FALSE)),\"\",IF(ISNA(VLOOKUP(A75,reporting4,2,FALSE)),\"\",VLOOKUP(A75,reporting4,2,FALSE)))","v":""},{"$f":"IF(ISBLANK(VLOOKUP(A75,reporting4,3,FALSE)),\"\",IF(ISNA(VLOOKUP(A75,reporting4,3,FALSE)),\"\",VLOOKUP(A75,reporting4,3,FALSE)))","v":""},{"$f":"IF(ISBLANK(VLOOKUP(A75,reporting4,4,FALSE)),\"\",IF(ISNA(VLOOKUP(A75,reporting4,4,FALSE)),\"\",VLOOKUP(A75,reporting4,4,FALSE)))","v":""},{"$f":"IF(ISBLANK(VLOOKUP(A75,reportin5,2,FALSE)),\"\",IF(ISNA(VLOOKUP(A75,reporting5,2,FALSE)),\"\",VLOOKUP(A75,reporting5,2,FALSE)))","v":""},{"$f":"IF(ISBLANK(VLOOKUP(A75,reporting5,3,FALSE)),\"\",IF(ISNA(VLOOKUP(A75,reporting5,3,FALSE)),\"\",VLOOKUP(A75,reporting5,3,FALSE)))","v":""},{"$f":"IF(ISBLANK(VLOOKUP(A75,reporting5,4,FALSE)),\"\",IF(ISNA(VLOOKUP(A75,reporting5,4,FALSE)),\"\",VLOOKUP(A75,reporting5,4,FALSE)))","v":""}]
[null,{"$f":"IF(ISBLANK(VLOOKUP(A76,reporting1,2,FALSE)),\"\",IF(ISNA(VLOOKUP(A76,reporting1,2,FALSE)),\"\",VLOOKUP(A76,reporting1,2,FALSE)))","v":""},{"$f":"IF(ISBLANK(VLOOKUP(A76,reporting1,3,FALSE)),\"\",IF(ISNA(VLOOKUP(A76,reporting1,3,FALSE)),\"\",VLOOKUP(A76,reporting1,3,FALSE)))","v":""},{"$f":"IF(ISBLANK(VLOOKUP(A76,reporting1,4,FALSE)),\"\",IF(ISNA(VLOOKUP(A76,reporting1,4,FALSE)),\"\",VLOOKUP(A76,reporting1,4,FALSE)))","v":""},{"$f":"IF(ISBLANK(VLOOKUP(A76,reporting2,2,FALSE)),\"\",IF(ISNA(VLOOKUP(A76,reporting2,2,FALSE)),\"\",VLOOKUP(A76,reporting2,2,FALSE)))","v":""},{"$f":"IF(ISBLANK(VLOOKUP(A76,reporting2,3,FALSE)),\"\",IF(ISNA(VLOOKUP(A76,reporting2,3,FALSE)),\"\",VLOOKUP(A76,reporting2,3,FALSE)))","v":""},{"$f":"IF(ISBLANK(VLOOKUP(A76,reporting2,4,FALSE)),\"\",IF(ISNA(VLOOKUP(A76,reporting2,4,FALSE)),\"\",VLOOKUP(A76,reporting2,4,FALSE)))","v":""},{"$f":"IF(ISBLANK(VLOOKUP(A76,reporting3,2,FALSE)),\"\",IF(ISNA(VLOOKUP(A76,reporting3,2,FALSE)),\"\",VLOOKUP(A76,reporting3,2,FALSE)))","v":""},{"$f":"IF(ISBLANK(VLOOKUP(A76,reporting3,3,FALSE)),\"\",IF(ISNA(VLOOKUP(A76,reporting3,3,FALSE)),\"\",VLOOKUP(A76,reporting3,3,FALSE)))","v":""},{"$f":"IF(ISBLANK(VLOOKUP(A76,reporting3,4,FALSE)),\"\",IF(ISNA(VLOOKUP(A76,reporting3,4,FALSE)),\"\",VLOOKUP(A76,reporting3,4,FALSE)))","v":""},{"$f":"IF(ISBLANK(VLOOKUP(A76,reporting4,2,FALSE)),\"\",IF(ISNA(VLOOKUP(A76,reporting4,2,FALSE)),\"\",VLOOKUP(A76,reporting4,2,FALSE)))","v":""},{"$f":"IF(ISBLANK(VLOOKUP(A76,reporting4,3,FALSE)),\"\",IF(ISNA(VLOOKUP(A76,reporting4,3,FALSE)),\"\",VLOOKUP(A76,reporting4,3,FALSE)))","v":""},{"$f":"IF(ISBLANK(VLOOKUP(A76,reporting4,4,FALSE)),\"\",IF(ISNA(VLOOKUP(A76,reporting4,4,FALSE)),\"\",VLOOKUP(A76,reporting4,4,FALSE)))","v":""},{"$f":"IF(ISBLANK(VLOOKUP(A76,reportin5,2,FALSE)),\"\",IF(ISNA(VLOOKUP(A76,reporting5,2,FALSE)),\"\",VLOOKUP(A76,reporting5,2,FALSE)))","v":""},{"$f":"IF(ISBLANK(VLOOKUP(A76,reporting5,3,FALSE)),\"\",IF(ISNA(VLOOKUP(A76,reporting5,3,FALSE)),\"\",VLOOKUP(A76,reporting5,3,FALSE)))","v":""},{"$f":"IF(ISBLANK(VLOOKUP(A76,reporting5,4,FALSE)),\"\",IF(ISNA(VLOOKUP(A76,reporting5,4,FALSE)),\"\",VLOOKUP(A76,reporting5,4,FALSE)))","v":""}]
[null,{"$f":"IF(ISBLANK(VLOOKUP(A77,reporting1,2,FALSE)),\"\",IF(ISNA(VLOOKUP(A77,reporting1,2,FALSE)),\"\",VLOOKUP(A77,reporting1,2,FALSE)))","v":""},{"$f":"IF(ISBLANK(VLOOKUP(A77,reporting1,3,FALSE)),\"\",IF(ISNA(VLOOKUP(A77,reporting1,3,FALSE)),\"\",VLOOKUP(A77,reporting1,3,FALSE)))","v":""},{"$f":"IF(ISBLANK(VLOOKUP(A77,reporting1,4,FALSE)),\"\",IF(ISNA(VLOOKUP(A77,reporting1,4,FALSE)),\"\",VLOOKUP(A77,reporting1,4,FALSE)))","v":""},{"$f":"IF(ISBLANK(VLOOKUP(A77,reporting2,2,FALSE)),\"\",IF(ISNA(VLOOKUP(A77,reporting2,2,FALSE)),\"\",VLOOKUP(A77,reporting2,2,FALSE)))","v":""},{"$f":"IF(ISBLANK(VLOOKUP(A77,reporting2,3,FALSE)),\"\",IF(ISNA(VLOOKUP(A77,reporting2,3,FALSE)),\"\",VLOOKUP(A77,reporting2,3,FALSE)))","v":""},{"$f":"IF(ISBLANK(VLOOKUP(A77,reporting2,4,FALSE)),\"\",IF(ISNA(VLOOKUP(A77,reporting2,4,FALSE)),\"\",VLOOKUP(A77,reporting2,4,FALSE)))","v":""},{"$f":"IF(ISBLANK(VLOOKUP(A77,reporting3,2,FALSE)),\"\",IF(ISNA(VLOOKUP(A77,reporting3,2,FALSE)),\"\",VLOOKUP(A77,reporting3,2,FALSE)))","v":""},{"$f":"IF(ISBLANK(VLOOKUP(A77,reporting3,3,FALSE)),\"\",IF(ISNA(VLOOKUP(A77,reporting3,3,FALSE)),\"\",VLOOKUP(A77,reporting3,3,FALSE)))","v":""},{"$f":"IF(ISBLANK(VLOOKUP(A77,reporting3,4,FALSE)),\"\",IF(ISNA(VLOOKUP(A77,reporting3,4,FALSE)),\"\",VLOOKUP(A77,reporting3,4,FALSE)))","v":""},{"$f":"IF(ISBLANK(VLOOKUP(A77,reporting4,2,FALSE)),\"\",IF(ISNA(VLOOKUP(A77,reporting4,2,FALSE)),\"\",VLOOKUP(A77,reporting4,2,FALSE)))","v":""},{"$f":"IF(ISBLANK(VLOOKUP(A77,reporting4,3,FALSE)),\"\",IF(ISNA(VLOOKUP(A77,reporting4,3,FALSE)),\"\",VLOOKUP(A77,reporting4,3,FALSE)))","v":""},{"$f":"IF(ISBLANK(VLOOKUP(A77,reporting4,4,FALSE)),\"\",IF(ISNA(VLOOKUP(A77,reporting4,4,FALSE)),\"\",VLOOKUP(A77,reporting4,4,FALSE)))","v":""},{"$f":"IF(ISBLANK(VLOOKUP(A77,reportin5,2,FALSE)),\"\",IF(ISNA(VLOOKUP(A77,reporting5,2,FALSE)),\"\",VLOOKUP(A77,reporting5,2,FALSE)))","v":""},{"$f":"IF(ISBLANK(VLOOKUP(A77,reporting5,3,FALSE)),\"\",IF(ISNA(VLOOKUP(A77,reporting5,3,FALSE)),\"\",VLOOKUP(A77,reporting5,3,FALSE)))","v":""},{"$f":"IF(ISBLANK(VLOOKUP(A77,reporting5,4,FALSE)),\"\",IF(ISNA(VLOOKUP(A77,reporting5,4,FALSE)),\"\",VLOOKUP(A77,reporting5,4,FALSE)))","v":""}]
[null,{"$f":"IF(ISBLANK(VLOOKUP(A78,reporting1,2,FALSE)),\"\",IF(ISNA(VLOOKUP(A78,reporting1,2,FALSE)),\"\",VLOOKUP(A78,reporting1,2,FALSE)))","v":""},{"$f":"IF(ISBLANK(VLOOKUP(A78,reporting1,3,FALSE)),\"\",IF(ISNA(VLOOKUP(A78,reporting1,3,FALSE)),\"\",VLOOKUP(A78,reporting1,3,FALSE)))","v":""},{"$f":"IF(ISBLANK(VLOOKUP(A78,reporting1,4,FALSE)),\"\",IF(ISNA(VLOOKUP(A78,reporting1,4,FALSE)),\"\",VLOOKUP(A78,reporting1,4,FALSE)))","v":""},{"$f":"IF(ISBLANK(VLOOKUP(A78,reporting2,2,FALSE)),\"\",IF(ISNA(VLOOKUP(A78,reporting2,2,FALSE)),\"\",VLOOKUP(A78,reporting2,2,FALSE)))","v":""},{"$f":"IF(ISBLANK(VLOOKUP(A78,reporting2,3,FALSE)),\"\",IF(ISNA(VLOOKUP(A78,reporting2,3,FALSE)),\"\",VLOOKUP(A78,reporting2,3,FALSE)))","v":""},{"$f":"IF(ISBLANK(VLOOKUP(A78,reporting2,4,FALSE)),\"\",IF(ISNA(VLOOKUP(A78,reporting2,4,FALSE)),\"\",VLOOKUP(A78,reporting2,4,FALSE)))","v":""},{"$f":"IF(ISBLANK(VLOOKUP(A78,reporting3,2,FALSE)),\"\",IF(ISNA(VLOOKUP(A78,reporting3,2,FALSE)),\"\",VLOOKUP(A78,reporting3,2,FALSE)))","v":""},{"$f":"IF(ISBLANK(VLOOKUP(A78,reporting3,3,FALSE)),\"\",IF(ISNA(VLOOKUP(A78,reporting3,3,FALSE)),\"\",VLOOKUP(A78,reporting3,3,FALSE)))","v":""},{"$f":"IF(ISBLANK(VLOOKUP(A78,reporting3,4,FALSE)),\"\",IF(ISNA(VLOOKUP(A78,reporting3,4,FALSE)),\"\",VLOOKUP(A78,reporting3,4,FALSE)))","v":""},{"$f":"IF(ISBLANK(VLOOKUP(A78,reporting4,2,FALSE)),\"\",IF(ISNA(VLOOKUP(A78,reporting4,2,FALSE)),\"\",VLOOKUP(A78,reporting4,2,FALSE)))","v":""},{"$f":"IF(ISBLANK(VLOOKUP(A78,reporting4,3,FALSE)),\"\",IF(ISNA(VLOOKUP(A78,reporting4,3,FALSE)),\"\",VLOOKUP(A78,reporting4,3,FALSE)))","v":""},{"$f":"IF(ISBLANK(VLOOKUP(A78,reporting4,4,FALSE)),\"\",IF(ISNA(VLOOKUP(A78,reporting4,4,FALSE)),\"\",VLOOKUP(A78,reporting4,4,FALSE)))","v":""},{"$f":"IF(ISBLANK(VLOOKUP(A78,reportin5,2,FALSE)),\"\",IF(ISNA(VLOOKUP(A78,reporting5,2,FALSE)),\"\",VLOOKUP(A78,reporting5,2,FALSE)))","v":""},{"$f":"IF(ISBLANK(VLOOKUP(A78,reporting5,3,FALSE)),\"\",IF(ISNA(VLOOKUP(A78,reporting5,3,FALSE)),\"\",VLOOKUP(A78,reporting5,3,FALSE)))","v":""},{"$f":"IF(ISBLANK(VLOOKUP(A78,reporting5,4,FALSE)),\"\",IF(ISNA(VLOOKUP(A78,reporting5,4,FALSE)),\"\",VLOOKUP(A78,reporting5,4,FALSE)))","v":""}]
[null,{"$f":"IF(ISBLANK(VLOOKUP(A79,reporting1,2,FALSE)),\"\",IF(ISNA(VLOOKUP(A79,reporting1,2,FALSE)),\"\",VLOOKUP(A79,reporting1,2,FALSE)))","v":""},{"$f":"IF(ISBLANK(VLOOKUP(A79,reporting1,3,FALSE)),\"\",IF(ISNA(VLOOKUP(A79,reporting1,3,FALSE)),\"\",VLOOKUP(A79,reporting1,3,FALSE)))","v":""},{"$f":"IF(ISBLANK(VLOOKUP(A79,reporting1,4,FALSE)),\"\",IF(ISNA(VLOOKUP(A79,reporting1,4,FALSE)),\"\",VLOOKUP(A79,reporting1,4,FALSE)))","v":""},{"$f":"IF(ISBLANK(VLOOKUP(A79,reporting2,2,FALSE)),\"\",IF(ISNA(VLOOKUP(A79,reporting2,2,FALSE)),\"\",VLOOKUP(A79,reporting2,2,FALSE)))","v":""},{"$f":"IF(ISBLANK(VLOOKUP(A79,reporting2,3,FALSE)),\"\",IF(ISNA(VLOOKUP(A79,reporting2,3,FALSE)),\"\",VLOOKUP(A79,reporting2,3,FALSE)))","v":""},{"$f":"IF(ISBLANK(VLOOKUP(A79,reporting2,4,FALSE)),\"\",IF(ISNA(VLOOKUP(A79,reporting2,4,FALSE)),\"\",VLOOKUP(A79,reporting2,4,FALSE)))","v":""},{"$f":"IF(ISBLANK(VLOOKUP(A79,reporting3,2,FALSE)),\"\",IF(ISNA(VLOOKUP(A79,reporting3,2,FALSE)),\"\",VLOOKUP(A79,reporting3,2,FALSE)))","v":""},{"$f":"IF(ISBLANK(VLOOKUP(A79,reporting3,3,FALSE)),\"\",IF(ISNA(VLOOKUP(A79,reporting3,3,FALSE)),\"\",VLOOKUP(A79,reporting3,3,FALSE)))","v":""},{"$f":"IF(ISBLANK(VLOOKUP(A79,reporting3,4,FALSE)),\"\",IF(ISNA(VLOOKUP(A79,reporting3,4,FALSE)),\"\",VLOOKUP(A79,reporting3,4,FALSE)))","v":""},{"$f":"IF(ISBLANK(VLOOKUP(A79,reporting4,2,FALSE)),\"\",IF(ISNA(VLOOKUP(A79,reporting4,2,FALSE)),\"\",VLOOKUP(A79,reporting4,2,FALSE)))","v":""},{"$f":"IF(ISBLANK(VLOOKUP(A79,reporting4,3,FALSE)),\"\",IF(ISNA(VLOOKUP(A79,reporting4,3,FALSE)),\"\",VLOOKUP(A79,reporting4,3,FALSE)))","v":""},{"$f":"IF(ISBLANK(VLOOKUP(A79,reporting4,4,FALSE)),\"\",IF(ISNA(VLOOKUP(A79,reporting4,4,FALSE)),\"\",VLOOKUP(A79,reporting4,4,FALSE)))","v":""},{"$f":"IF(ISBLANK(VLOOKUP(A79,reportin5,2,FALSE)),\"\",IF(ISNA(VLOOKUP(A79,reporting5,2,FALSE)),\"\",VLOOKUP(A79,reporting5,2,FALSE)))","v":""},{"$f":"IF(ISBLANK(VLOOKUP(A79,reporting5,3,FALSE)),\"\",IF(ISNA(VLOOKUP(A79,reporting5,3,FALSE)),\"\",VLOOKUP(A79,reporting5,3,FALSE)))","v":""},{"$f":"IF(ISBLANK(VLOOKUP(A79,reporting5,4,FALSE)),\"\",IF(ISNA(VLOOKUP(A79,reporting5,4,FALSE)),\"\",VLOOKUP(A79,reporting5,4,FALSE)))","v":""}]
[null,{"$f":"IF(ISBLANK(VLOOKUP(A80,reporting1,2,FALSE)),\"\",IF(ISNA(VLOOKUP(A80,reporting1,2,FALSE)),\"\",VLOOKUP(A80,reporting1,2,FALSE)))","v":""},{"$f":"IF(ISBLANK(VLOOKUP(A80,reporting1,3,FALSE)),\"\",IF(ISNA(VLOOKUP(A80,reporting1,3,FALSE)),\"\",VLOOKUP(A80,reporting1,3,FALSE)))","v":""},{"$f":"IF(ISBLANK(VLOOKUP(A80,reporting1,4,FALSE)),\"\",IF(ISNA(VLOOKUP(A80,reporting1,4,FALSE)),\"\",VLOOKUP(A80,reporting1,4,FALSE)))","v":""},{"$f":"IF(ISBLANK(VLOOKUP(A80,reporting2,2,FALSE)),\"\",IF(ISNA(VLOOKUP(A80,reporting2,2,FALSE)),\"\",VLOOKUP(A80,reporting2,2,FALSE)))","v":""},{"$f":"IF(ISBLANK(VLOOKUP(A80,reporting2,3,FALSE)),\"\",IF(ISNA(VLOOKUP(A80,reporting2,3,FALSE)),\"\",VLOOKUP(A80,reporting2,3,FALSE)))","v":""},{"$f":"IF(ISBLANK(VLOOKUP(A80,reporting2,4,FALSE)),\"\",IF(ISNA(VLOOKUP(A80,reporting2,4,FALSE)),\"\",VLOOKUP(A80,reporting2,4,FALSE)))","v":""},{"$f":"IF(ISBLANK(VLOOKUP(A80,reporting3,2,FALSE)),\"\",IF(ISNA(VLOOKUP(A80,reporting3,2,FALSE)),\"\",VLOOKUP(A80,reporting3,2,FALSE)))","v":""},{"$f":"IF(ISBLANK(VLOOKUP(A80,reporting3,3,FALSE)),\"\",IF(ISNA(VLOOKUP(A80,reporting3,3,FALSE)),\"\",VLOOKUP(A80,reporting3,3,FALSE)))","v":""},{"$f":"IF(ISBLANK(VLOOKUP(A80,reporting3,4,FALSE)),\"\",IF(ISNA(VLOOKUP(A80,reporting3,4,FALSE)),\"\",VLOOKUP(A80,reporting3,4,FALSE)))","v":""},{"$f":"IF(ISBLANK(VLOOKUP(A80,reporting4,2,FALSE)),\"\",IF(ISNA(VLOOKUP(A80,reporting4,2,FALSE)),\"\",VLOOKUP(A80,reporting4,2,FALSE)))","v":""},{"$f":"IF(ISBLANK(VLOOKUP(A80,reporting4,3,FALSE)),\"\",IF(ISNA(VLOOKUP(A80,reporting4,3,FALSE)),\"\",VLOOKUP(A80,reporting4,3,FALSE)))","v":""},{"$f":"IF(ISBLANK(VLOOKUP(A80,reporting4,4,FALSE)),\"\",IF(ISNA(VLOOKUP(A80,reporting4,4,FALSE)),\"\",VLOOKUP(A80,reporting4,4,FALSE)))","v":""},{"$f":"IF(ISBLANK(VLOOKUP(A80,reportin5,2,FALSE)),\"\",IF(ISNA(VLOOKUP(A80,reporting5,2,FALSE)),\"\",VLOOKUP(A80,reporting5,2,FALSE)))","v":""},{"$f":"IF(ISBLANK(VLOOKUP(A80,reporting5,3,FALSE)),\"\",IF(ISNA(VLOOKUP(A80,reporting5,3,FALSE)),\"\",VLOOKUP(A80,reporting5,3,FALSE)))","v":""},{"$f":"IF(ISBLANK(VLOOKUP(A80,reporting5,4,FALSE)),\"\",IF(ISNA(VLOOKUP(A80,reporting5,4,FALSE)),\"\",VLOOKUP(A80,reporting5,4,FALSE)))","v":""}]
[null,{"$f":"IF(ISBLANK(VLOOKUP(A81,reporting1,2,FALSE)),\"\",IF(ISNA(VLOOKUP(A81,reporting1,2,FALSE)),\"\",VLOOKUP(A81,reporting1,2,FALSE)))","v":""},{"$f":"IF(ISBLANK(VLOOKUP(A81,reporting1,3,FALSE)),\"\",IF(ISNA(VLOOKUP(A81,reporting1,3,FALSE)),\"\",VLOOKUP(A81,reporting1,3,FALSE)))","v":""},{"$f":"IF(ISBLANK(VLOOKUP(A81,reporting1,4,FALSE)),\"\",IF(ISNA(VLOOKUP(A81,reporting1,4,FALSE)),\"\",VLOOKUP(A81,reporting1,4,FALSE)))","v":""},{"$f":"IF(ISBLANK(VLOOKUP(A81,reporting2,2,FALSE)),\"\",IF(ISNA(VLOOKUP(A81,reporting2,2,FALSE)),\"\",VLOOKUP(A81,reporting2,2,FALSE)))","v":""},{"$f":"IF(ISBLANK(VLOOKUP(A81,reporting2,3,FALSE)),\"\",IF(ISNA(VLOOKUP(A81,reporting2,3,FALSE)),\"\",VLOOKUP(A81,reporting2,3,FALSE)))","v":""},{"$f":"IF(ISBLANK(VLOOKUP(A81,reporting2,4,FALSE)),\"\",IF(ISNA(VLOOKUP(A81,reporting2,4,FALSE)),\"\",VLOOKUP(A81,reporting2,4,FALSE)))","v":""},{"$f":"IF(ISBLANK(VLOOKUP(A81,reporting3,2,FALSE)),\"\",IF(ISNA(VLOOKUP(A81,reporting3,2,FALSE)),\"\",VLOOKUP(A81,reporting3,2,FALSE)))","v":""},{"$f":"IF(ISBLANK(VLOOKUP(A81,reporting3,3,FALSE)),\"\",IF(ISNA(VLOOKUP(A81,reporting3,3,FALSE)),\"\",VLOOKUP(A81,reporting3,3,FALSE)))","v":""},{"$f":"IF(ISBLANK(VLOOKUP(A81,reporting3,4,FALSE)),\"\",IF(ISNA(VLOOKUP(A81,reporting3,4,FALSE)),\"\",VLOOKUP(A81,reporting3,4,FALSE)))","v":""},{"$f":"IF(ISBLANK(VLOOKUP(A81,reporting4,2,FALSE)),\"\",IF(ISNA(VLOOKUP(A81,reporting4,2,FALSE)),\"\",VLOOKUP(A81,reporting4,2,FALSE)))","v":""},{"$f":"IF(ISBLANK(VLOOKUP(A81,reporting4,3,FALSE)),\"\",IF(ISNA(VLOOKUP(A81,reporting4,3,FALSE)),\"\",VLOOKUP(A81,reporting4,3,FALSE)))","v":""},{"$f":"IF(ISBLANK(VLOOKUP(A81,reporting4,4,FALSE)),\"\",IF(ISNA(VLOOKUP(A81,reporting4,4,FALSE)),\"\",VLOOKUP(A81,reporting4,4,FALSE)))","v":""},{"$f":"IF(ISBLANK(VLOOKUP(A81,reportin5,2,FALSE)),\"\",IF(ISNA(VLOOKUP(A81,reporting5,2,FALSE)),\"\",VLOOKUP(A81,reporting5,2,FALSE)))","v":""},{"$f":"IF(ISBLANK(VLOOKUP(A81,reporting5,3,FALSE)),\"\",IF(ISNA(VLOOKUP(A81,reporting5,3,FALSE)),\"\",VLOOKUP(A81,reporting5,3,FALSE)))","v":""},{"$f":"IF(ISBLANK(VLOOKUP(A81,reporting5,4,FALSE)),\"\",IF(ISNA(VLOOKUP(A81,reporting5,4,FALSE)),\"\",VLOOKUP(A81,reporting5,4,FALSE)))","v":""}]
[null,{"$f":"IF(ISBLANK(VLOOKUP(A82,reporting1,2,FALSE)),\"\",IF(ISNA(VLOOKUP(A82,reporting1,2,FALSE)),\"\",VLOOKUP(A82,reporting1,2,FALSE)))","v":""},{"$f":"IF(ISBLANK(VLOOKUP(A82,reporting1,3,FALSE)),\"\",IF(ISNA(VLOOKUP(A82,reporting1,3,FALSE)),\"\",VLOOKUP(A82,reporting1,3,FALSE)))","v":""},{"$f":"IF(ISBLANK(VLOOKUP(A82,reporting1,4,FALSE)),\"\",IF(ISNA(VLOOKUP(A82,reporting1,4,FALSE)),\"\",VLOOKUP(A82,reporting1,4,FALSE)))","v":""},{"$f":"IF(ISBLANK(VLOOKUP(A82,reporting2,2,FALSE)),\"\",IF(ISNA(VLOOKUP(A82,reporting2,2,FALSE)),\"\",VLOOKUP(A82,reporting2,2,FALSE)))","v":""},{"$f":"IF(ISBLANK(VLOOKUP(A82,reporting2,3,FALSE)),\"\",IF(ISNA(VLOOKUP(A82,reporting2,3,FALSE)),\"\",VLOOKUP(A82,reporting2,3,FALSE)))","v":""},{"$f":"IF(ISBLANK(VLOOKUP(A82,reporting2,4,FALSE)),\"\",IF(ISNA(VLOOKUP(A82,reporting2,4,FALSE)),\"\",VLOOKUP(A82,reporting2,4,FALSE)))","v":""},{"$f":"IF(ISBLANK(VLOOKUP(A82,reporting3,2,FALSE)),\"\",IF(ISNA(VLOOKUP(A82,reporting3,2,FALSE)),\"\",VLOOKUP(A82,reporting3,2,FALSE)))","v":""},{"$f":"IF(ISBLANK(VLOOKUP(A82,reporting3,3,FALSE)),\"\",IF(ISNA(VLOOKUP(A82,reporting3,3,FALSE)),\"\",VLOOKUP(A82,reporting3,3,FALSE)))","v":""},{"$f":"IF(ISBLANK(VLOOKUP(A82,reporting3,4,FALSE)),\"\",IF(ISNA(VLOOKUP(A82,reporting3,4,FALSE)),\"\",VLOOKUP(A82,reporting3,4,FALSE)))","v":""},{"$f":"IF(ISBLANK(VLOOKUP(A82,reporting4,2,FALSE)),\"\",IF(ISNA(VLOOKUP(A82,reporting4,2,FALSE)),\"\",VLOOKUP(A82,reporting4,2,FALSE)))","v":""},{"$f":"IF(ISBLANK(VLOOKUP(A82,reporting4,3,FALSE)),\"\",IF(ISNA(VLOOKUP(A82,reporting4,3,FALSE)),\"\",VLOOKUP(A82,reporting4,3,FALSE)))","v":""},{"$f":"IF(ISBLANK(VLOOKUP(A82,reporting4,4,FALSE)),\"\",IF(ISNA(VLOOKUP(A82,reporting4,4,FALSE)),\"\",VLOOKUP(A82,reporting4,4,FALSE)))","v":""},{"$f":"IF(ISBLANK(VLOOKUP(A82,reportin5,2,FALSE)),\"\",IF(ISNA(VLOOKUP(A82,reporting5,2,FALSE)),\"\",VLOOKUP(A82,reporting5,2,FALSE)))","v":""},{"$f":"IF(ISBLANK(VLOOKUP(A82,reporting5,3,FALSE)),\"\",IF(ISNA(VLOOKUP(A82,reporting5,3,FALSE)),\"\",VLOOKUP(A82,reporting5,3,FALSE)))","v":""},{"$f":"IF(ISBLANK(VLOOKUP(A82,reporting5,4,FALSE)),\"\",IF(ISNA(VLOOKUP(A82,reporting5,4,FALSE)),\"\",VLOOKUP(A82,reporting5,4,FALSE)))","v":""}]
[null,{"$f":"IF(ISBLANK(VLOOKUP(A83,reporting1,2,FALSE)),\"\",IF(ISNA(VLOOKUP(A83,reporting1,2,FALSE)),\"\",VLOOKUP(A83,reporting1,2,FALSE)))","v":""},{"$f":"IF(ISBLANK(VLOOKUP(A83,reporting1,3,FALSE)),\"\",IF(ISNA(VLOOKUP(A83,reporting1,3,FALSE)),\"\",VLOOKUP(A83,reporting1,3,FALSE)))","v":""},{"$f":"IF(ISBLANK(VLOOKUP(A83,reporting1,4,FALSE)),\"\",IF(ISNA(VLOOKUP(A83,reporting1,4,FALSE)),\"\",VLOOKUP(A83,reporting1,4,FALSE)))","v":""},{"$f":"IF(ISBLANK(VLOOKUP(A83,reporting2,2,FALSE)),\"\",IF(ISNA(VLOOKUP(A83,reporting2,2,FALSE)),\"\",VLOOKUP(A83,reporting2,2,FALSE)))","v":""},{"$f":"IF(ISBLANK(VLOOKUP(A83,reporting2,3,FALSE)),\"\",IF(ISNA(VLOOKUP(A83,reporting2,3,FALSE)),\"\",VLOOKUP(A83,reporting2,3,FALSE)))","v":""},{"$f":"IF(ISBLANK(VLOOKUP(A83,reporting2,4,FALSE)),\"\",IF(ISNA(VLOOKUP(A83,reporting2,4,FALSE)),\"\",VLOOKUP(A83,reporting2,4,FALSE)))","v":""},{"$f":"IF(ISBLANK(VLOOKUP(A83,reporting3,2,FALSE)),\"\",IF(ISNA(VLOOKUP(A83,reporting3,2,FALSE)),\"\",VLOOKUP(A83,reporting3,2,FALSE)))","v":""},{"$f":"IF(ISBLANK(VLOOKUP(A83,reporting3,3,FALSE)),\"\",IF(ISNA(VLOOKUP(A83,reporting3,3,FALSE)),\"\",VLOOKUP(A83,reporting3,3,FALSE)))","v":""},{"$f":"IF(ISBLANK(VLOOKUP(A83,reporting3,4,FALSE)),\"\",IF(ISNA(VLOOKUP(A83,reporting3,4,FALSE)),\"\",VLOOKUP(A83,reporting3,4,FALSE)))","v":""},{"$f":"IF(ISBLANK(VLOOKUP(A83,reporting4,2,FALSE)),\"\",IF(ISNA(VLOOKUP(A83,reporting4,2,FALSE)),\"\",VLOOKUP(A83,reporting4,2,FALSE)))","v":""},{"$f":"IF(ISBLANK(VLOOKUP(A83,reporting4,3,FALSE)),\"\",IF(ISNA(VLOOKUP(A83,reporting4,3,FALSE)),\"\",VLOOKUP(A83,reporting4,3,FALSE)))","v":""},{"$f":"IF(ISBLANK(VLOOKUP(A83,reporting4,4,FALSE)),\"\",IF(ISNA(VLOOKUP(A83,reporting4,4,FALSE)),\"\",VLOOKUP(A83,reporting4,4,FALSE)))","v":""},{"$f":"IF(ISBLANK(VLOOKUP(A83,reportin5,2,FALSE)),\"\",IF(ISNA(VLOOKUP(A83,reporting5,2,FALSE)),\"\",VLOOKUP(A83,reporting5,2,FALSE)))","v":""},{"$f":"IF(ISBLANK(VLOOKUP(A83,reporting5,3,FALSE)),\"\",IF(ISNA(VLOOKUP(A83,reporting5,3,FALSE)),\"\",VLOOKUP(A83,reporting5,3,FALSE)))","v":""},{"$f":"IF(ISBLANK(VLOOKUP(A83,reporting5,4,FALSE)),\"\",IF(ISNA(VLOOKUP(A83,reporting5,4,FALSE)),\"\",VLOOKUP(A83,reporting5,4,FALSE)))","v":""}]
[null,{"$f":"IF(ISBLANK(VLOOKUP(A84,reporting1,2,FALSE)),\"\",IF(ISNA(VLOOKUP(A84,reporting1,2,FALSE)),\"\",VLOOKUP(A84,reporting1,2,FALSE)))","v":""},{"$f":"IF(ISBLANK(VLOOKUP(A84,reporting1,3,FALSE)),\"\",IF(ISNA(VLOOKUP(A84,reporting1,3,FALSE)),\"\",VLOOKUP(A84,reporting1,3,FALSE)))","v":""},{"$f":"IF(ISBLANK(VLOOKUP(A84,reporting1,4,FALSE)),\"\",IF(ISNA(VLOOKUP(A84,reporting1,4,FALSE)),\"\",VLOOKUP(A84,reporting1,4,FALSE)))","v":""},{"$f":"IF(ISBLANK(VLOOKUP(A84,reporting2,2,FALSE)),\"\",IF(ISNA(VLOOKUP(A84,reporting2,2,FALSE)),\"\",VLOOKUP(A84,reporting2,2,FALSE)))","v":""},{"$f":"IF(ISBLANK(VLOOKUP(A84,reporting2,3,FALSE)),\"\",IF(ISNA(VLOOKUP(A84,reporting2,3,FALSE)),\"\",VLOOKUP(A84,reporting2,3,FALSE)))","v":""},{"$f":"IF(ISBLANK(VLOOKUP(A84,reporting2,4,FALSE)),\"\",IF(ISNA(VLOOKUP(A84,reporting2,4,FALSE)),\"\",VLOOKUP(A84,reporting2,4,FALSE)))","v":""},{"$f":"IF(ISBLANK(VLOOKUP(A84,reporting3,2,FALSE)),\"\",IF(ISNA(VLOOKUP(A84,reporting3,2,FALSE)),\"\",VLOOKUP(A84,reporting3,2,FALSE)))","v":""},{"$f":"IF(ISBLANK(VLOOKUP(A84,reporting3,3,FALSE)),\"\",IF(ISNA(VLOOKUP(A84,reporting3,3,FALSE)),\"\",VLOOKUP(A84,reporting3,3,FALSE)))","v":""},{"$f":"IF(ISBLANK(VLOOKUP(A84,reporting3,4,FALSE)),\"\",IF(ISNA(VLOOKUP(A84,reporting3,4,FALSE)),\"\",VLOOKUP(A84,reporting3,4,FALSE)))","v":""},{"$f":"IF(ISBLANK(VLOOKUP(A84,reporting4,2,FALSE)),\"\",IF(ISNA(VLOOKUP(A84,reporting4,2,FALSE)),\"\",VLOOKUP(A84,reporting4,2,FALSE)))","v":""},{"$f":"IF(ISBLANK(VLOOKUP(A84,reporting4,3,FALSE)),\"\",IF(ISNA(VLOOKUP(A84,reporting4,3,FALSE)),\"\",VLOOKUP(A84,reporting4,3,FALSE)))","v":""},{"$f":"IF(ISBLANK(VLOOKUP(A84,reporting4,4,FALSE)),\"\",IF(ISNA(VLOOKUP(A84,reporting4,4,FALSE)),\"\",VLOOKUP(A84,reporting4,4,FALSE)))","v":""},{"$f":"IF(ISBLANK(VLOOKUP(A84,reportin5,2,FALSE)),\"\",IF(ISNA(VLOOKUP(A84,reporting5,2,FALSE)),\"\",VLOOKUP(A84,reporting5,2,FALSE)))","v":""},{"$f":"IF(ISBLANK(VLOOKUP(A84,reporting5,3,FALSE)),\"\",IF(ISNA(VLOOKUP(A84,reporting5,3,FALSE)),\"\",VLOOKUP(A84,reporting5,3,FALSE)))","v":""},{"$f":"IF(ISBLANK(VLOOKUP(A84,reporting5,4,FALSE)),\"\",IF(ISNA(VLOOKUP(A84,reporting5,4,FALSE)),\"\",VLOOKUP(A84,reporting5,4,FALSE)))","v":""}]
[null,{"$f":"IF(ISBLANK(VLOOKUP(A85,reporting1,2,FALSE)),\"\",IF(ISNA(VLOOKUP(A85,reporting1,2,FALSE)),\"\",VLOOKUP(A85,reporting1,2,FALSE)))","v":""},{"$f":"IF(ISBLANK(VLOOKUP(A85,reporting1,3,FALSE)),\"\",IF(ISNA(VLOOKUP(A85,reporting1,3,FALSE)),\"\",VLOOKUP(A85,reporting1,3,FALSE)))","v":""},{"$f":"IF(ISBLANK(VLOOKUP(A85,reporting1,4,FALSE)),\"\",IF(ISNA(VLOOKUP(A85,reporting1,4,FALSE)),\"\",VLOOKUP(A85,reporting1,4,FALSE)))","v":""},{"$f":"IF(ISBLANK(VLOOKUP(A85,reporting2,2,FALSE)),\"\",IF(ISNA(VLOOKUP(A85,reporting2,2,FALSE)),\"\",VLOOKUP(A85,reporting2,2,FALSE)))","v":""},{"$f":"IF(ISBLANK(VLOOKUP(A85,reporting2,3,FALSE)),\"\",IF(ISNA(VLOOKUP(A85,reporting2,3,FALSE)),\"\",VLOOKUP(A85,reporting2,3,FALSE)))","v":""},{"$f":"IF(ISBLANK(VLOOKUP(A85,reporting2,4,FALSE)),\"\",IF(ISNA(VLOOKUP(A85,reporting2,4,FALSE)),\"\",VLOOKUP(A85,reporting2,4,FALSE)))","v":""},{"$f":"IF(ISBLANK(VLOOKUP(A85,reporting3,2,FALSE)),\"\",IF(ISNA(VLOOKUP(A85,reporting3,2,FALSE)),\"\",VLOOKUP(A85,reporting3,2,FALSE)))","v":""},{"$f":"IF(ISBLANK(VLOOKUP(A85,reporting3,3,FALSE)),\"\",IF(ISNA(VLOOKUP(A85,reporting3,3,FALSE)),\"\",VLOOKUP(A85,reporting3,3,FALSE)))","v":""},{"$f":"IF(ISBLANK(VLOOKUP(A85,reporting3,4,FALSE)),\"\",IF(ISNA(VLOOKUP(A85,reporting3,4,FALSE)),\"\",VLOOKUP(A85,reporting3,4,FALSE)))","v":""},{"$f":"IF(ISBLANK(VLOOKUP(A85,reporting4,2,FALSE)),\"\",IF(ISNA(VLOOKUP(A85,reporting4,2,FALSE)),\"\",VLOOKUP(A85,reporting4,2,FALSE)))","v":""},{"$f":"IF(ISBLANK(VLOOKUP(A85,reporting4,3,FALSE)),\"\",IF(ISNA(VLOOKUP(A85,reporting4,3,FALSE)),\"\",VLOOKUP(A85,reporting4,3,FALSE)))","v":""},{"$f":"IF(ISBLANK(VLOOKUP(A85,reporting4,4,FALSE)),\"\",IF(ISNA(VLOOKUP(A85,reporting4,4,FALSE)),\"\",VLOOKUP(A85,reporting4,4,FALSE)))","v":""},{"$f":"IF(ISBLANK(VLOOKUP(A85,reportin5,2,FALSE)),\"\",IF(ISNA(VLOOKUP(A85,reporting5,2,FALSE)),\"\",VLOOKUP(A85,reporting5,2,FALSE)))","v":""},{"$f":"IF(ISBLANK(VLOOKUP(A85,reporting5,3,FALSE)),\"\",IF(ISNA(VLOOKUP(A85,reporting5,3,FALSE)),\"\",VLOOKUP(A85,reporting5,3,FALSE)))","v":""},{"$f":"IF(ISBLANK(VLOOKUP(A85,reporting5,4,FALSE)),\"\",IF(ISNA(VLOOKUP(A85,reporting5,4,FALSE)),\"\",VLOOKUP(A85,reporting5,4,FALSE)))","v":""}]
[null,{"$f":"IF(ISBLANK(VLOOKUP(A86,reporting1,2,FALSE)),\"\",IF(ISNA(VLOOKUP(A86,reporting1,2,FALSE)),\"\",VLOOKUP(A86,reporting1,2,FALSE)))","v":""},{"$f":"IF(ISBLANK(VLOOKUP(A86,reporting1,3,FALSE)),\"\",IF(ISNA(VLOOKUP(A86,reporting1,3,FALSE)),\"\",VLOOKUP(A86,reporting1,3,FALSE)))","v":""},{"$f":"IF(ISBLANK(VLOOKUP(A86,reporting1,4,FALSE)),\"\",IF(ISNA(VLOOKUP(A86,reporting1,4,FALSE)),\"\",VLOOKUP(A86,reporting1,4,FALSE)))","v":""},{"$f":"IF(ISBLANK(VLOOKUP(A86,reporting2,2,FALSE)),\"\",IF(ISNA(VLOOKUP(A86,reporting2,2,FALSE)),\"\",VLOOKUP(A86,reporting2,2,FALSE)))","v":""},{"$f":"IF(ISBLANK(VLOOKUP(A86,reporting2,3,FALSE)),\"\",IF(ISNA(VLOOKUP(A86,reporting2,3,FALSE)),\"\",VLOOKUP(A86,reporting2,3,FALSE)))","v":""},{"$f":"IF(ISBLANK(VLOOKUP(A86,reporting2,4,FALSE)),\"\",IF(ISNA(VLOOKUP(A86,reporting2,4,FALSE)),\"\",VLOOKUP(A86,reporting2,4,FALSE)))","v":""},{"$f":"IF(ISBLANK(VLOOKUP(A86,reporting3,2,FALSE)),\"\",IF(ISNA(VLOOKUP(A86,reporting3,2,FALSE)),\"\",VLOOKUP(A86,reporting3,2,FALSE)))","v":""},{"$f":"IF(ISBLANK(VLOOKUP(A86,reporting3,3,FALSE)),\"\",IF(ISNA(VLOOKUP(A86,reporting3,3,FALSE)),\"\",VLOOKUP(A86,reporting3,3,FALSE)))","v":""},{"$f":"IF(ISBLANK(VLOOKUP(A86,reporting3,4,FALSE)),\"\",IF(ISNA(VLOOKUP(A86,reporting3,4,FALSE)),\"\",VLOOKUP(A86,reporting3,4,FALSE)))","v":""},{"$f":"IF(ISBLANK(VLOOKUP(A86,reporting4,2,FALSE)),\"\",IF(ISNA(VLOOKUP(A86,reporting4,2,FALSE)),\"\",VLOOKUP(A86,reporting4,2,FALSE)))","v":""},{"$f":"IF(ISBLANK(VLOOKUP(A86,reporting4,3,FALSE)),\"\",IF(ISNA(VLOOKUP(A86,reporting4,3,FALSE)),\"\",VLOOKUP(A86,reporting4,3,FALSE)))","v":""},{"$f":"IF(ISBLANK(VLOOKUP(A86,reporting4,4,FALSE)),\"\",IF(ISNA(VLOOKUP(A86,reporting4,4,FALSE)),\"\",VLOOKUP(A86,reporting4,4,FALSE)))","v":""},{"$f":"IF(ISBLANK(VLOOKUP(A86,reportin5,2,FALSE)),\"\",IF(ISNA(VLOOKUP(A86,reporting5,2,FALSE)),\"\",VLOOKUP(A86,reporting5,2,FALSE)))","v":""},{"$f":"IF(ISBLANK(VLOOKUP(A86,reporting5,3,FALSE)),\"\",IF(ISNA(VLOOKUP(A86,reporting5,3,FALSE)),\"\",VLOOKUP(A86,reporting5,3,FALSE)))","v":""},{"$f":"IF(ISBLANK(VLOOKUP(A86,reporting5,4,FALSE)),\"\",IF(ISNA(VLOOKUP(A86,reporting5,4,FALSE)),\"\",VLOOKUP(A86,reporting5,4,FALSE)))","v":""}]
[null,{"$f":"IF(ISBLANK(VLOOKUP(A87,reporting1,2,FALSE)),\"\",IF(ISNA(VLOOKUP(A87,reporting1,2,FALSE)),\"\",VLOOKUP(A87,reporting1,2,FALSE)))","v":""},{"$f":"IF(ISBLANK(VLOOKUP(A87,reporting1,3,FALSE)),\"\",IF(ISNA(VLOOKUP(A87,reporting1,3,FALSE)),\"\",VLOOKUP(A87,reporting1,3,FALSE)))","v":""},{"$f":"IF(ISBLANK(VLOOKUP(A87,reporting1,4,FALSE)),\"\",IF(ISNA(VLOOKUP(A87,reporting1,4,FALSE)),\"\",VLOOKUP(A87,reporting1,4,FALSE)))","v":""},{"$f":"IF(ISBLANK(VLOOKUP(A87,reporting2,2,FALSE)),\"\",IF(ISNA(VLOOKUP(A87,reporting2,2,FALSE)),\"\",VLOOKUP(A87,reporting2,2,FALSE)))","v":""},{"$f":"IF(ISBLANK(VLOOKUP(A87,reporting2,3,FALSE)),\"\",IF(ISNA(VLOOKUP(A87,reporting2,3,FALSE)),\"\",VLOOKUP(A87,reporting2,3,FALSE)))","v":""},{"$f":"IF(ISBLANK(VLOOKUP(A87,reporting2,4,FALSE)),\"\",IF(ISNA(VLOOKUP(A87,reporting2,4,FALSE)),\"\",VLOOKUP(A87,reporting2,4,FALSE)))","v":""},{"$f":"IF(ISBLANK(VLOOKUP(A87,reporting3,2,FALSE)),\"\",IF(ISNA(VLOOKUP(A87,reporting3,2,FALSE)),\"\",VLOOKUP(A87,reporting3,2,FALSE)))","v":""},{"$f":"IF(ISBLANK(VLOOKUP(A87,reporting3,3,FALSE)),\"\",IF(ISNA(VLOOKUP(A87,reporting3,3,FALSE)),\"\",VLOOKUP(A87,reporting3,3,FALSE)))","v":""},{"$f":"IF(ISBLANK(VLOOKUP(A87,reporting3,4,FALSE)),\"\",IF(ISNA(VLOOKUP(A87,reporting3,4,FALSE)),\"\",VLOOKUP(A87,reporting3,4,FALSE)))","v":""},{"$f":"IF(ISBLANK(VLOOKUP(A87,reporting4,2,FALSE)),\"\",IF(ISNA(VLOOKUP(A87,reporting4,2,FALSE)),\"\",VLOOKUP(A87,reporting4,2,FALSE)))","v":""},{"$f":"IF(ISBLANK(VLOOKUP(A87,reporting4,3,FALSE)),\"\",IF(ISNA(VLOOKUP(A87,reporting4,3,FALSE)),\"\",VLOOKUP(A87,reporting4,3,FALSE)))","v":""},{"$f":"IF(ISBLANK(VLOOKUP(A87,reporting4,4,FALSE)),\"\",IF(ISNA(VLOOKUP(A87,reporting4,4,FALSE)),\"\",VLOOKUP(A87,reporting4,4,FALSE)))","v":""},{"$f":"IF(ISBLANK(VLOOKUP(A87,reportin5,2,FALSE)),\"\",IF(ISNA(VLOOKUP(A87,reporting5,2,FALSE)),\"\",VLOOKUP(A87,reporting5,2,FALSE)))","v":""},{"$f":"IF(ISBLANK(VLOOKUP(A87,reporting5,3,FALSE)),\"\",IF(ISNA(VLOOKUP(A87,reporting5,3,FALSE)),\"\",VLOOKUP(A87,reporting5,3,FALSE)))","v":""},{"$f":"IF(ISBLANK(VLOOKUP(A87,reporting5,4,FALSE)),\"\",IF(ISNA(VLOOKUP(A87,reporting5,4,FALSE)),\"\",VLOOKUP(A87,reporting5,4,FALSE)))","v":""}]
[null,{"$f":"IF(ISBLANK(VLOOKUP(A88,reporting1,2,FALSE)),\"\",IF(ISNA(VLOOKUP(A88,reporting1,2,FALSE)),\"\",VLOOKUP(A88,reporting1,2,FALSE)))","v":""},{"$f":"IF(ISBLANK(VLOOKUP(A88,reporting1,3,FALSE)),\"\",IF(ISNA(VLOOKUP(A88,reporting1,3,FALSE)),\"\",VLOOKUP(A88,reporting1,3,FALSE)))","v":""},{"$f":"IF(ISBLANK(VLOOKUP(A88,reporting1,4,FALSE)),\"\",IF(ISNA(VLOOKUP(A88,reporting1,4,FALSE)),\"\",VLOOKUP(A88,reporting1,4,FALSE)))","v":""},{"$f":"IF(ISBLANK(VLOOKUP(A88,reporting2,2,FALSE)),\"\",IF(ISNA(VLOOKUP(A88,reporting2,2,FALSE)),\"\",VLOOKUP(A88,reporting2,2,FALSE)))","v":""},{"$f":"IF(ISBLANK(VLOOKUP(A88,reporting2,3,FALSE)),\"\",IF(ISNA(VLOOKUP(A88,reporting2,3,FALSE)),\"\",VLOOKUP(A88,reporting2,3,FALSE)))","v":""},{"$f":"IF(ISBLANK(VLOOKUP(A88,reporting2,4,FALSE)),\"\",IF(ISNA(VLOOKUP(A88,reporting2,4,FALSE)),\"\",VLOOKUP(A88,reporting2,4,FALSE)))","v":""},{"$f":"IF(ISBLANK(VLOOKUP(A88,reporting3,2,FALSE)),\"\",IF(ISNA(VLOOKUP(A88,reporting3,2,FALSE)),\"\",VLOOKUP(A88,reporting3,2,FALSE)))","v":""},{"$f":"IF(ISBLANK(VLOOKUP(A88,reporting3,3,FALSE)),\"\",IF(ISNA(VLOOKUP(A88,reporting3,3,FALSE)),\"\",VLOOKUP(A88,reporting3,3,FALSE)))","v":""},{"$f":"IF(ISBLANK(VLOOKUP(A88,reporting3,4,FALSE)),\"\",IF(ISNA(VLOOKUP(A88,reporting3,4,FALSE)),\"\",VLOOKUP(A88,reporting3,4,FALSE)))","v":""},{"$f":"IF(ISBLANK(VLOOKUP(A88,reporting4,2,FALSE)),\"\",IF(ISNA(VLOOKUP(A88,reporting4,2,FALSE)),\"\",VLOOKUP(A88,reporting4,2,FALSE)))","v":""},{"$f":"IF(ISBLANK(VLOOKUP(A88,reporting4,3,FALSE)),\"\",IF(ISNA(VLOOKUP(A88,reporting4,3,FALSE)),\"\",VLOOKUP(A88,reporting4,3,FALSE)))","v":""},{"$f":"IF(ISBLANK(VLOOKUP(A88,reporting4,4,FALSE)),\"\",IF(ISNA(VLOOKUP(A88,reporting4,4,FALSE)),\"\",VLOOKUP(A88,reporting4,4,FALSE)))","v":""},{"$f":"IF(ISBLANK(VLOOKUP(A88,reportin5,2,FALSE)),\"\",IF(ISNA(VLOOKUP(A88,reporting5,2,FALSE)),\"\",VLOOKUP(A88,reporting5,2,FALSE)))","v":""},{"$f":"IF(ISBLANK(VLOOKUP(A88,reporting5,3,FALSE)),\"\",IF(ISNA(VLOOKUP(A88,reporting5,3,FALSE)),\"\",VLOOKUP(A88,reporting5,3,FALSE)))","v":""},{"$f":"IF(ISBLANK(VLOOKUP(A88,reporting5,4,FALSE)),\"\",IF(ISNA(VLOOKUP(A88,reporting5,4,FALSE)),\"\",VLOOKUP(A88,reporting5,4,FALSE)))","v":""}]
[null,{"$f":"IF(ISBLANK(VLOOKUP(A89,reporting1,2,FALSE)),\"\",IF(ISNA(VLOOKUP(A89,reporting1,2,FALSE)),\"\",VLOOKUP(A89,reporting1,2,FALSE)))","v":""},{"$f":"IF(ISBLANK(VLOOKUP(A89,reporting1,3,FALSE)),\"\",IF(ISNA(VLOOKUP(A89,reporting1,3,FALSE)),\"\",VLOOKUP(A89,reporting1,3,FALSE)))","v":""},{"$f":"IF(ISBLANK(VLOOKUP(A89,reporting1,4,FALSE)),\"\",IF(ISNA(VLOOKUP(A89,reporting1,4,FALSE)),\"\",VLOOKUP(A89,reporting1,4,FALSE)))","v":""},{"$f":"IF(ISBLANK(VLOOKUP(A89,reporting2,2,FALSE)),\"\",IF(ISNA(VLOOKUP(A89,reporting2,2,FALSE)),\"\",VLOOKUP(A89,reporting2,2,FALSE)))","v":""},{"$f":"IF(ISBLANK(VLOOKUP(A89,reporting2,3,FALSE)),\"\",IF(ISNA(VLOOKUP(A89,reporting2,3,FALSE)),\"\",VLOOKUP(A89,reporting2,3,FALSE)))","v":""},{"$f":"IF(ISBLANK(VLOOKUP(A89,reporting2,4,FALSE)),\"\",IF(ISNA(VLOOKUP(A89,reporting2,4,FALSE)),\"\",VLOOKUP(A89,reporting2,4,FALSE)))","v":""},{"$f":"IF(ISBLANK(VLOOKUP(A89,reporting3,2,FALSE)),\"\",IF(ISNA(VLOOKUP(A89,reporting3,2,FALSE)),\"\",VLOOKUP(A89,reporting3,2,FALSE)))","v":""},{"$f":"IF(ISBLANK(VLOOKUP(A89,reporting3,3,FALSE)),\"\",IF(ISNA(VLOOKUP(A89,reporting3,3,FALSE)),\"\",VLOOKUP(A89,reporting3,3,FALSE)))","v":""},{"$f":"IF(ISBLANK(VLOOKUP(A89,reporting3,4,FALSE)),\"\",IF(ISNA(VLOOKUP(A89,reporting3,4,FALSE)),\"\",VLOOKUP(A89,reporting3,4,FALSE)))","v":""},{"$f":"IF(ISBLANK(VLOOKUP(A89,reporting4,2,FALSE)),\"\",IF(ISNA(VLOOKUP(A89,reporting4,2,FALSE)),\"\",VLOOKUP(A89,reporting4,2,FALSE)))","v":""},{"$f":"IF(ISBLANK(VLOOKUP(A89,reporting4,3,FALSE)),\"\",IF(ISNA(VLOOKUP(A89,reporting4,3,FALSE)),\"\",VLOOKUP(A89,reporting4,3,FALSE)))","v":""},{"$f":"IF(ISBLANK(VLOOKUP(A89,reporting4,4,FALSE)),\"\",IF(ISNA(VLOOKUP(A89,reporting4,4,FALSE)),\"\",VLOOKUP(A89,reporting4,4,FALSE)))","v":""},{"$f":"IF(ISBLANK(VLOOKUP(A89,reportin5,2,FALSE)),\"\",IF(ISNA(VLOOKUP(A89,reporting5,2,FALSE)),\"\",VLOOKUP(A89,reporting5,2,FALSE)))","v":""},{"$f":"IF(ISBLANK(VLOOKUP(A89,reporting5,3,FALSE)),\"\",IF(ISNA(VLOOKUP(A89,reporting5,3,FALSE)),\"\",VLOOKUP(A89,reporting5,3,FALSE)))","v":""},{"$f":"IF(ISBLANK(VLOOKUP(A89,reporting5,4,FALSE)),\"\",IF(ISNA(VLOOKUP(A89,reporting5,4,FALSE)),\"\",VLOOKUP(A89,reporting5,4,FALSE)))","v":""}]
[null,{"$f":"IF(ISBLANK(VLOOKUP(A90,reporting1,2,FALSE)),\"\",IF(ISNA(VLOOKUP(A90,reporting1,2,FALSE)),\"\",VLOOKUP(A90,reporting1,2,FALSE)))","v":""},{"$f":"IF(ISBLANK(VLOOKUP(A90,reporting1,3,FALSE)),\"\",IF(ISNA(VLOOKUP(A90,reporting1,3,FALSE)),\"\",VLOOKUP(A90,reporting1,3,FALSE)))","v":""},{"$f":"IF(ISBLANK(VLOOKUP(A90,reporting1,4,FALSE)),\"\",IF(ISNA(VLOOKUP(A90,reporting1,4,FALSE)),\"\",VLOOKUP(A90,reporting1,4,FALSE)))","v":""},{"$f":"IF(ISBLANK(VLOOKUP(A90,reporting2,2,FALSE)),\"\",IF(ISNA(VLOOKUP(A90,reporting2,2,FALSE)),\"\",VLOOKUP(A90,reporting2,2,FALSE)))","v":""},{"$f":"IF(ISBLANK(VLOOKUP(A90,reporting2,3,FALSE)),\"\",IF(ISNA(VLOOKUP(A90,reporting2,3,FALSE)),\"\",VLOOKUP(A90,reporting2,3,FALSE)))","v":""},{"$f":"IF(ISBLANK(VLOOKUP(A90,reporting2,4,FALSE)),\"\",IF(ISNA(VLOOKUP(A90,reporting2,4,FALSE)),\"\",VLOOKUP(A90,reporting2,4,FALSE)))","v":""},{"$f":"IF(ISBLANK(VLOOKUP(A90,reporting3,2,FALSE)),\"\",IF(ISNA(VLOOKUP(A90,reporting3,2,FALSE)),\"\",VLOOKUP(A90,reporting3,2,FALSE)))","v":""},{"$f":"IF(ISBLANK(VLOOKUP(A90,reporting3,3,FALSE)),\"\",IF(ISNA(VLOOKUP(A90,reporting3,3,FALSE)),\"\",VLOOKUP(A90,reporting3,3,FALSE)))","v":""},{"$f":"IF(ISBLANK(VLOOKUP(A90,reporting3,4,FALSE)),\"\",IF(ISNA(VLOOKUP(A90,reporting3,4,FALSE)),\"\",VLOOKUP(A90,reporting3,4,FALSE)))","v":""},{"$f":"IF(ISBLANK(VLOOKUP(A90,reporting4,2,FALSE)),\"\",IF(ISNA(VLOOKUP(A90,reporting4,2,FALSE)),\"\",VLOOKUP(A90,reporting4,2,FALSE)))","v":""},{"$f":"IF(ISBLANK(VLOOKUP(A90,reporting4,3,FALSE)),\"\",IF(ISNA(VLOOKUP(A90,reporting4,3,FALSE)),\"\",VLOOKUP(A90,reporting4,3,FALSE)))","v":""},{"$f":"IF(ISBLANK(VLOOKUP(A90,reporting4,4,FALSE)),\"\",IF(ISNA(VLOOKUP(A90,reporting4,4,FALSE)),\"\",VLOOKUP(A90,reporting4,4,FALSE)))","v":""},{"$f":"IF(ISBLANK(VLOOKUP(A90,reportin5,2,FALSE)),\"\",IF(ISNA(VLOOKUP(A90,reporting5,2,FALSE)),\"\",VLOOKUP(A90,reporting5,2,FALSE)))","v":""},{"$f":"IF(ISBLANK(VLOOKUP(A90,reporting5,3,FALSE)),\"\",IF(ISNA(VLOOKUP(A90,reporting5,3,FALSE)),\"\",VLOOKUP(A90,reporting5,3,FALSE)))","v":""},{"$f":"IF(ISBLANK(VLOOKUP(A90,reporting5,4,FALSE)),\"\",IF(ISNA(VLOOKUP(A90,reporting5,4,FALSE)),\"\",VLOOKUP(A90,reporting5,4,FALSE)))","v":""}]
[null,{"$f":"IF(ISBLANK(VLOOKUP(A91,reporting1,2,FALSE)),\"\",IF(ISNA(VLOOKUP(A91,reporting1,2,FALSE)),\"\",VLOOKUP(A91,reporting1,2,FALSE)))","v":""},{"$f":"IF(ISBLANK(VLOOKUP(A91,reporting1,3,FALSE)),\"\",IF(ISNA(VLOOKUP(A91,reporting1,3,FALSE)),\"\",VLOOKUP(A91,reporting1,3,FALSE)))","v":""},{"$f":"IF(ISBLANK(VLOOKUP(A91,reporting1,4,FALSE)),\"\",IF(ISNA(VLOOKUP(A91,reporting1,4,FALSE)),\"\",VLOOKUP(A91,reporting1,4,FALSE)))","v":""},{"$f":"IF(ISBLANK(VLOOKUP(A91,reporting2,2,FALSE)),\"\",IF(ISNA(VLOOKUP(A91,reporting2,2,FALSE)),\"\",VLOOKUP(A91,reporting2,2,FALSE)))","v":""},{"$f":"IF(ISBLANK(VLOOKUP(A91,reporting2,3,FALSE)),\"\",IF(ISNA(VLOOKUP(A91,reporting2,3,FALSE)),\"\",VLOOKUP(A91,reporting2,3,FALSE)))","v":""},{"$f":"IF(ISBLANK(VLOOKUP(A91,reporting2,4,FALSE)),\"\",IF(ISNA(VLOOKUP(A91,reporting2,4,FALSE)),\"\",VLOOKUP(A91,reporting2,4,FALSE)))","v":""},{"$f":"IF(ISBLANK(VLOOKUP(A91,reporting3,2,FALSE)),\"\",IF(ISNA(VLOOKUP(A91,reporting3,2,FALSE)),\"\",VLOOKUP(A91,reporting3,2,FALSE)))","v":""},{"$f":"IF(ISBLANK(VLOOKUP(A91,reporting3,3,FALSE)),\"\",IF(ISNA(VLOOKUP(A91,reporting3,3,FALSE)),\"\",VLOOKUP(A91,reporting3,3,FALSE)))","v":""},{"$f":"IF(ISBLANK(VLOOKUP(A91,reporting3,4,FALSE)),\"\",IF(ISNA(VLOOKUP(A91,reporting3,4,FALSE)),\"\",VLOOKUP(A91,reporting3,4,FALSE)))","v":""},{"$f":"IF(ISBLANK(VLOOKUP(A91,reporting4,2,FALSE)),\"\",IF(ISNA(VLOOKUP(A91,reporting4,2,FALSE)),\"\",VLOOKUP(A91,reporting4,2,FALSE)))","v":""},{"$f":"IF(ISBLANK(VLOOKUP(A91,reporting4,3,FALSE)),\"\",IF(ISNA(VLOOKUP(A91,reporting4,3,FALSE)),\"\",VLOOKUP(A91,reporting4,3,FALSE)))","v":""},{"$f":"IF(ISBLANK(VLOOKUP(A91,reporting4,4,FALSE)),\"\",IF(ISNA(VLOOKUP(A91,reporting4,4,FALSE)),\"\",VLOOKUP(A91,reporting4,4,FALSE)))","v":""},{"$f":"IF(ISBLANK(VLOOKUP(A91,reportin5,2,FALSE)),\"\",IF(ISNA(VLOOKUP(A91,reporting5,2,FALSE)),\"\",VLOOKUP(A91,reporting5,2,FALSE)))","v":""},{"$f":"IF(ISBLANK(VLOOKUP(A91,reporting5,3,FALSE)),\"\",IF(ISNA(VLOOKUP(A91,reporting5,3,FALSE)),\"\",VLOOKUP(A91,reporting5,3,FALSE)))","v":""},{"$f":"IF(ISBLANK(VLOOKUP(A91,reporting5,4,FALSE)),\"\",IF(ISNA(VLOOKUP(A91,reporting5,4,FALSE)),\"\",VLOOKUP(A91,reporting5,4,FALSE)))","v":""}]
[null,{"$f":"IF(ISBLANK(VLOOKUP(A92,reporting1,2,FALSE)),\"\",IF(ISNA(VLOOKUP(A92,reporting1,2,FALSE)),\"\",VLOOKUP(A92,reporting1,2,FALSE)))","v":""},{"$f":"IF(ISBLANK(VLOOKUP(A92,reporting1,3,FALSE)),\"\",IF(ISNA(VLOOKUP(A92,reporting1,3,FALSE)),\"\",VLOOKUP(A92,reporting1,3,FALSE)))","v":""},{"$f":"IF(ISBLANK(VLOOKUP(A92,reporting1,4,FALSE)),\"\",IF(ISNA(VLOOKUP(A92,reporting1,4,FALSE)),\"\",VLOOKUP(A92,reporting1,4,FALSE)))","v":""},{"$f":"IF(ISBLANK(VLOOKUP(A92,reporting2,2,FALSE)),\"\",IF(ISNA(VLOOKUP(A92,reporting2,2,FALSE)),\"\",VLOOKUP(A92,reporting2,2,FALSE)))","v":""},{"$f":"IF(ISBLANK(VLOOKUP(A92,reporting2,3,FALSE)),\"\",IF(ISNA(VLOOKUP(A92,reporting2,3,FALSE)),\"\",VLOOKUP(A92,reporting2,3,FALSE)))","v":""},{"$f":"IF(ISBLANK(VLOOKUP(A92,reporting2,4,FALSE)),\"\",IF(ISNA(VLOOKUP(A92,reporting2,4,FALSE)),\"\",VLOOKUP(A92,reporting2,4,FALSE)))","v":""},{"$f":"IF(ISBLANK(VLOOKUP(A92,reporting3,2,FALSE)),\"\",IF(ISNA(VLOOKUP(A92,reporting3,2,FALSE)),\"\",VLOOKUP(A92,reporting3,2,FALSE)))","v":""},{"$f":"IF(ISBLANK(VLOOKUP(A92,reporting3,3,FALSE)),\"\",IF(ISNA(VLOOKUP(A92,reporting3,3,FALSE)),\"\",VLOOKUP(A92,reporting3,3,FALSE)))","v":""},{"$f":"IF(ISBLANK(VLOOKUP(A92,reporting3,4,FALSE)),\"\",IF(ISNA(VLOOKUP(A92,reporting3,4,FALSE)),\"\",VLOOKUP(A92,reporting3,4,FALSE)))","v":""},{"$f":"IF(ISBLANK(VLOOKUP(A92,reporting4,2,FALSE)),\"\",IF(ISNA(VLOOKUP(A92,reporting4,2,FALSE)),\"\",VLOOKUP(A92,reporting4,2,FALSE)))","v":""},{"$f":"IF(ISBLANK(VLOOKUP(A92,reporting4,3,FALSE)),\"\",IF(ISNA(VLOOKUP(A92,reporting4,3,FALSE)),\"\",VLOOKUP(A92,reporting4,3,FALSE)))","v":""},{"$f":"IF(ISBLANK(VLOOKUP(A92,reporting4,4,FALSE)),\"\",IF(ISNA(VLOOKUP(A92,reporting4,4,FALSE)),\"\",VLOOKUP(A92,reporting4,4,FALSE)))","v":""},{"$f":"IF(ISBLANK(VLOOKUP(A92,reportin5,2,FALSE)),\"\",IF(ISNA(VLOOKUP(A92,reporting5,2,FALSE)),\"\",VLOOKUP(A92,reporting5,2,FALSE)))","v":""},{"$f":"IF(ISBLANK(VLOOKUP(A92,reporting5,3,FALSE)),\"\",IF(ISNA(VLOOKUP(A92,reporting5,3,FALSE)),\"\",VLOOKUP(A92,reporting5,3,FALSE)))","v":""},{"$f":"IF(ISBLANK(VLOOKUP(A92,reporting5,4,FALSE)),\"\",IF(ISNA(VLOOKUP(A92,reporting5,4,FALSE)),\"\",VLOOKUP(A92,reporting5,4,FALSE)))","v":""}]
[null,{"$f":"IF(ISBLANK(VLOOKUP(A93,reporting1,2,FALSE)),\"\",IF(ISNA(VLOOKUP(A93,reporting1,2,FALSE)),\"\",VLOOKUP(A93,reporting1,2,FALSE)))","v":""},{"$f":"IF(ISBLANK(VLOOKUP(A93,reporting1,3,FALSE)),\"\",IF(ISNA(VLOOKUP(A93,reporting1,3,FALSE)),\"\",VLOOKUP(A93,reporting1,3,FALSE)))","v":""},{"$f":"IF(ISBLANK(VLOOKUP(A93,reporting1,4,FALSE)),\"\",IF(ISNA(VLOOKUP(A93,reporting1,4,FALSE)),\"\",VLOOKUP(A93,reporting1,4,FALSE)))","v":""},{"$f":"IF(ISBLANK(VLOOKUP(A93,reporting2,2,FALSE)),\"\",IF(ISNA(VLOOKUP(A93,reporting2,2,FALSE)),\"\",VLOOKUP(A93,reporting2,2,FALSE)))","v":""},{"$f":"IF(ISBLANK(VLOOKUP(A93,reporting2,3,FALSE)),\"\",IF(ISNA(VLOOKUP(A93,reporting2,3,FALSE)),\"\",VLOOKUP(A93,reporting2,3,FALSE)))","v":""},{"$f":"IF(ISBLANK(VLOOKUP(A93,reporting2,4,FALSE)),\"\",IF(ISNA(VLOOKUP(A93,reporting2,4,FALSE)),\"\",VLOOKUP(A93,reporting2,4,FALSE)))","v":""},{"$f":"IF(ISBLANK(VLOOKUP(A93,reporting3,2,FALSE)),\"\",IF(ISNA(VLOOKUP(A93,reporting3,2,FALSE)),\"\",VLOOKUP(A93,reporting3,2,FALSE)))","v":""},{"$f":"IF(ISBLANK(VLOOKUP(A93,reporting3,3,FALSE)),\"\",IF(ISNA(VLOOKUP(A93,reporting3,3,FALSE)),\"\",VLOOKUP(A93,reporting3,3,FALSE)))","v":""},{"$f":"IF(ISBLANK(VLOOKUP(A93,reporting3,4,FALSE)),\"\",IF(ISNA(VLOOKUP(A93,reporting3,4,FALSE)),\"\",VLOOKUP(A93,reporting3,4,FALSE)))","v":""},{"$f":"IF(ISBLANK(VLOOKUP(A93,reporting4,2,FALSE)),\"\",IF(ISNA(VLOOKUP(A93,reporting4,2,FALSE)),\"\",VLOOKUP(A93,reporting4,2,FALSE)))","v":""},{"$f":"IF(ISBLANK(VLOOKUP(A93,reporting4,3,FALSE)),\"\",IF(ISNA(VLOOKUP(A93,reporting4,3,FALSE)),\"\",VLOOKUP(A93,reporting4,3,FALSE)))","v":""},{"$f":"IF(ISBLANK(VLOOKUP(A93,reporting4,4,FALSE)),\"\",IF(ISNA(VLOOKUP(A93,reporting4,4,FALSE)),\"\",VLOOKUP(A93,reporting4,4,FALSE)))","v":""},{"$f":"IF(ISBLANK(VLOOKUP(A93,reportin5,2,FALSE)),\"\",IF(ISNA(VLOOKUP(A93,reporting5,2,FALSE)),\"\",VLOOKUP(A93,reporting5,2,FALSE)))","v":""},{"$f":"IF(ISBLANK(VLOOKUP(A93,reporting5,3,FALSE)),\"\",IF(ISNA(VLOOKUP(A93,reporting5,3,FALSE)),\"\",VLOOKUP(A93,reporting5,3,FALSE)))","v":""},{"$f":"IF(ISBLANK(VLOOKUP(A93,reporting5,4,FALSE)),\"\",IF(ISNA(VLOOKUP(A93,reporting5,4,FALSE)),\"\",VLOOKUP(A93,reporting5,4,FALSE)))","v":""}]
[null,{"$f":"IF(ISBLANK(VLOOKUP(A94,reporting1,2,FALSE)),\"\",IF(ISNA(VLOOKUP(A94,reporting1,2,FALSE)),\"\",VLOOKUP(A94,reporting1,2,FALSE)))","v":""},{"$f":"IF(ISBLANK(VLOOKUP(A94,reporting1,3,FALSE)),\"\",IF(ISNA(VLOOKUP(A94,reporting1,3,FALSE)),\"\",VLOOKUP(A94,reporting1,3,FALSE)))","v":""},{"$f":"IF(ISBLANK(VLOOKUP(A94,reporting1,4,FALSE)),\"\",IF(ISNA(VLOOKUP(A94,reporting1,4,FALSE)),\"\",VLOOKUP(A94,reporting1,4,FALSE)))","v":""},{"$f":"IF(ISBLANK(VLOOKUP(A94,reporting2,2,FALSE)),\"\",IF(ISNA(VLOOKUP(A94,reporting2,2,FALSE)),\"\",VLOOKUP(A94,reporting2,2,FALSE)))","v":""},{"$f":"IF(ISBLANK(VLOOKUP(A94,reporting2,3,FALSE)),\"\",IF(ISNA(VLOOKUP(A94,reporting2,3,FALSE)),\"\",VLOOKUP(A94,reporting2,3,FALSE)))","v":""},{"$f":"IF(ISBLANK(VLOOKUP(A94,reporting2,4,FALSE)),\"\",IF(ISNA(VLOOKUP(A94,reporting2,4,FALSE)),\"\",VLOOKUP(A94,reporting2,4,FALSE)))","v":""},{"$f":"IF(ISBLANK(VLOOKUP(A94,reporting3,2,FALSE)),\"\",IF(ISNA(VLOOKUP(A94,reporting3,2,FALSE)),\"\",VLOOKUP(A94,reporting3,2,FALSE)))","v":""},{"$f":"IF(ISBLANK(VLOOKUP(A94,reporting3,3,FALSE)),\"\",IF(ISNA(VLOOKUP(A94,reporting3,3,FALSE)),\"\",VLOOKUP(A94,reporting3,3,FALSE)))","v":""},{"$f":"IF(ISBLANK(VLOOKUP(A94,reporting3,4,FALSE)),\"\",IF(ISNA(VLOOKUP(A94,reporting3,4,FALSE)),\"\",VLOOKUP(A94,reporting3,4,FALSE)))","v":""},{"$f":"IF(ISBLANK(VLOOKUP(A94,reporting4,2,FALSE)),\"\",IF(ISNA(VLOOKUP(A94,reporting4,2,FALSE)),\"\",VLOOKUP(A94,reporting4,2,FALSE)))","v":""},{"$f":"IF(ISBLANK(VLOOKUP(A94,reporting4,3,FALSE)),\"\",IF(ISNA(VLOOKUP(A94,reporting4,3,FALSE)),\"\",VLOOKUP(A94,reporting4,3,FALSE)))","v":""},{"$f":"IF(ISBLANK(VLOOKUP(A94,reporting4,4,FALSE)),\"\",IF(ISNA(VLOOKUP(A94,reporting4,4,FALSE)),\"\",VLOOKUP(A94,reporting4,4,FALSE)))","v":""},{"$f":"IF(ISBLANK(VLOOKUP(A94,reportin5,2,FALSE)),\"\",IF(ISNA(VLOOKUP(A94,reporting5,2,FALSE)),\"\",VLOOKUP(A94,reporting5,2,FALSE)))","v":""},{"$f":"IF(ISBLANK(VLOOKUP(A94,reporting5,3,FALSE)),\"\",IF(ISNA(VLOOKUP(A94,reporting5,3,FALSE)),\"\",VLOOKUP(A94,reporting5,3,FALSE)))","v":""},{"$f":"IF(ISBLANK(VLOOKUP(A94,reporting5,4,FALSE)),\"\",IF(ISNA(VLOOKUP(A94,reporting5,4,FALSE)),\"\",VLOOKUP(A94,reporting5,4,FALSE)))","v":""}]
[null,{"$f":"IF(ISBLANK(VLOOKUP(A95,reporting1,2,FALSE)),\"\",IF(ISNA(VLOOKUP(A95,reporting1,2,FALSE)),\"\",VLOOKUP(A95,reporting1,2,FALSE)))","v":""},{"$f":"IF(ISBLANK(VLOOKUP(A95,reporting1,3,FALSE)),\"\",IF(ISNA(VLOOKUP(A95,reporting1,3,FALSE)),\"\",VLOOKUP(A95,reporting1,3,FALSE)))","v":""},{"$f":"IF(ISBLANK(VLOOKUP(A95,reporting1,4,FALSE)),\"\",IF(ISNA(VLOOKUP(A95,reporting1,4,FALSE)),\"\",VLOOKUP(A95,reporting1,4,FALSE)))","v":""},{"$f":"IF(ISBLANK(VLOOKUP(A95,reporting2,2,FALSE)),\"\",IF(ISNA(VLOOKUP(A95,reporting2,2,FALSE)),\"\",VLOOKUP(A95,reporting2,2,FALSE)))","v":""},{"$f":"IF(ISBLANK(VLOOKUP(A95,reporting2,3,FALSE)),\"\",IF(ISNA(VLOOKUP(A95,reporting2,3,FALSE)),\"\",VLOOKUP(A95,reporting2,3,FALSE)))","v":""},{"$f":"IF(ISBLANK(VLOOKUP(A95,reporting2,4,FALSE)),\"\",IF(ISNA(VLOOKUP(A95,reporting2,4,FALSE)),\"\",VLOOKUP(A95,reporting2,4,FALSE)))","v":""},{"$f":"IF(ISBLANK(VLOOKUP(A95,reporting3,2,FALSE)),\"\",IF(ISNA(VLOOKUP(A95,reporting3,2,FALSE)),\"\",VLOOKUP(A95,reporting3,2,FALSE)))","v":""},{"$f":"IF(ISBLANK(VLOOKUP(A95,reporting3,3,FALSE)),\"\",IF(ISNA(VLOOKUP(A95,reporting3,3,FALSE)),\"\",VLOOKUP(A95,reporting3,3,FALSE)))","v":""},{"$f":"IF(ISBLANK(VLOOKUP(A95,reporting3,4,FALSE)),\"\",IF(ISNA(VLOOKUP(A95,reporting3,4,FALSE)),\"\",VLOOKUP(A95,reporting3,4,FALSE)))","v":""},{"$f":"IF(ISBLANK(VLOOKUP(A95,reporting4,2,FALSE)),\"\",IF(ISNA(VLOOKUP(A95,reporting4,2,FALSE)),\"\",VLOOKUP(A95,reporting4,2,FALSE)))","v":""},{"$f":"IF(ISBLANK(VLOOKUP(A95,reporting4,3,FALSE)),\"\",IF(ISNA(VLOOKUP(A95,reporting4,3,FALSE)),\"\",VLOOKUP(A95,reporting4,3,FALSE)))","v":""},{"$f":"IF(ISBLANK(VLOOKUP(A95,reporting4,4,FALSE)),\"\",IF(ISNA(VLOOKUP(A95,reporting4,4,FALSE)),\"\",VLOOKUP(A95,reporting4,4,FALSE)))","v":""},{"$f":"IF(ISBLANK(VLOOKUP(A95,reportin5,2,FALSE)),\"\",IF(ISNA(VLOOKUP(A95,reporting5,2,FALSE)),\"\",VLOOKUP(A95,reporting5,2,FALSE)))","v":""},{"$f":"IF(ISBLANK(VLOOKUP(A95,reporting5,3,FALSE)),\"\",IF(ISNA(VLOOKUP(A95,reporting5,3,FALSE)),\"\",VLOOKUP(A95,reporting5,3,FALSE)))","v":""},{"$f":"IF(ISBLANK(VLOOKUP(A95,reporting5,4,FALSE)),\"\",IF(ISNA(VLOOKUP(A95,reporting5,4,FALSE)),\"\",VLOOKUP(A95,reporting5,4,FALSE)))","v":""}]
[null,{"$f":"IF(ISBLANK(VLOOKUP(A96,reporting1,2,FALSE)),\"\",IF(ISNA(VLOOKUP(A96,reporting1,2,FALSE)),\"\",VLOOKUP(A96,reporting1,2,FALSE)))","v":""},{"$f":"IF(ISBLANK(VLOOKUP(A96,reporting1,3,FALSE)),\"\",IF(ISNA(VLOOKUP(A96,reporting1,3,FALSE)),\"\",VLOOKUP(A96,reporting1,3,FALSE)))","v":""},{"$f":"IF(ISBLANK(VLOOKUP(A96,reporting1,4,FALSE)),\"\",IF(ISNA(VLOOKUP(A96,reporting1,4,FALSE)),\"\",VLOOKUP(A96,reporting1,4,FALSE)))","v":""},{"$f":"IF(ISBLANK(VLOOKUP(A96,reporting2,2,FALSE)),\"\",IF(ISNA(VLOOKUP(A96,reporting2,2,FALSE)),\"\",VLOOKUP(A96,reporting2,2,FALSE)))","v":""},{"$f":"IF(ISBLANK(VLOOKUP(A96,reporting2,3,FALSE)),\"\",IF(ISNA(VLOOKUP(A96,reporting2,3,FALSE)),\"\",VLOOKUP(A96,reporting2,3,FALSE)))","v":""},{"$f":"IF(ISBLANK(VLOOKUP(A96,reporting2,4,FALSE)),\"\",IF(ISNA(VLOOKUP(A96,reporting2,4,FALSE)),\"\",VLOOKUP(A96,reporting2,4,FALSE)))","v":""},{"$f":"IF(ISBLANK(VLOOKUP(A96,reporting3,2,FALSE)),\"\",IF(ISNA(VLOOKUP(A96,reporting3,2,FALSE)),\"\",VLOOKUP(A96,reporting3,2,FALSE)))","v":""},{"$f":"IF(ISBLANK(VLOOKUP(A96,reporting3,3,FALSE)),\"\",IF(ISNA(VLOOKUP(A96,reporting3,3,FALSE)),\"\",VLOOKUP(A96,reporting3,3,FALSE)))","v":""},{"$f":"IF(ISBLANK(VLOOKUP(A96,reporting3,4,FALSE)),\"\",IF(ISNA(VLOOKUP(A96,reporting3,4,FALSE)),\"\",VLOOKUP(A96,reporting3,4,FALSE)))","v":""},{"$f":"IF(ISBLANK(VLOOKUP(A96,reporting4,2,FALSE)),\"\",IF(ISNA(VLOOKUP(A96,reporting4,2,FALSE)),\"\",VLOOKUP(A96,reporting4,2,FALSE)))","v":""},{"$f":"IF(ISBLANK(VLOOKUP(A96,reporting4,3,FALSE)),\"\",IF(ISNA(VLOOKUP(A96,reporting4,3,FALSE)),\"\",VLOOKUP(A96,reporting4,3,FALSE)))","v":""},{"$f":"IF(ISBLANK(VLOOKUP(A96,reporting4,4,FALSE)),\"\",IF(ISNA(VLOOKUP(A96,reporting4,4,FALSE)),\"\",VLOOKUP(A96,reporting4,4,FALSE)))","v":""},{"$f":"IF(ISBLANK(VLOOKUP(A96,reportin5,2,FALSE)),\"\",IF(ISNA(VLOOKUP(A96,reporting5,2,FALSE)),\"\",VLOOKUP(A96,reporting5,2,FALSE)))","v":""},{"$f":"IF(ISBLANK(VLOOKUP(A96,reporting5,3,FALSE)),\"\",IF(ISNA(VLOOKUP(A96,reporting5,3,FALSE)),\"\",VLOOKUP(A96,reporting5,3,FALSE)))","v":""},{"$f":"IF(ISBLANK(VLOOKUP(A96,reporting5,4,FALSE)),\"\",IF(ISNA(VLOOKUP(A96,reporting5,4,FALSE)),\"\",VLOOKUP(A96,reporting5,4,FALSE)))","v":""}]
[null,{"$f":"IF(ISBLANK(VLOOKUP(A97,reporting1,2,FALSE)),\"\",IF(ISNA(VLOOKUP(A97,reporting1,2,FALSE)),\"\",VLOOKUP(A97,reporting1,2,FALSE)))","v":""},{"$f":"IF(ISBLANK(VLOOKUP(A97,reporting1,3,FALSE)),\"\",IF(ISNA(VLOOKUP(A97,reporting1,3,FALSE)),\"\",VLOOKUP(A97,reporting1,3,FALSE)))","v":""},{"$f":"IF(ISBLANK(VLOOKUP(A97,reporting1,4,FALSE)),\"\",IF(ISNA(VLOOKUP(A97,reporting1,4,FALSE)),\"\",VLOOKUP(A97,reporting1,4,FALSE)))","v":""},{"$f":"IF(ISBLANK(VLOOKUP(A97,reporting2,2,FALSE)),\"\",IF(ISNA(VLOOKUP(A97,reporting2,2,FALSE)),\"\",VLOOKUP(A97,reporting2,2,FALSE)))","v":""},{"$f":"IF(ISBLANK(VLOOKUP(A97,reporting2,3,FALSE)),\"\",IF(ISNA(VLOOKUP(A97,reporting2,3,FALSE)),\"\",VLOOKUP(A97,reporting2,3,FALSE)))","v":""},{"$f":"IF(ISBLANK(VLOOKUP(A97,reporting2,4,FALSE)),\"\",IF(ISNA(VLOOKUP(A97,reporting2,4,FALSE)),\"\",VLOOKUP(A97,reporting2,4,FALSE)))","v":""},{"$f":"IF(ISBLANK(VLOOKUP(A97,reporting3,2,FALSE)),\"\",IF(ISNA(VLOOKUP(A97,reporting3,2,FALSE)),\"\",VLOOKUP(A97,reporting3,2,FALSE)))","v":""},{"$f":"IF(ISBLANK(VLOOKUP(A97,reporting3,3,FALSE)),\"\",IF(ISNA(VLOOKUP(A97,reporting3,3,FALSE)),\"\",VLOOKUP(A97,reporting3,3,FALSE)))","v":""},{"$f":"IF(ISBLANK(VLOOKUP(A97,reporting3,4,FALSE)),\"\",IF(ISNA(VLOOKUP(A97,reporting3,4,FALSE)),\"\",VLOOKUP(A97,reporting3,4,FALSE)))","v":""},{"$f":"IF(ISBLANK(VLOOKUP(A97,reporting4,2,FALSE)),\"\",IF(ISNA(VLOOKUP(A97,reporting4,2,FALSE)),\"\",VLOOKUP(A97,reporting4,2,FALSE)))","v":""},{"$f":"IF(ISBLANK(VLOOKUP(A97,reporting4,3,FALSE)),\"\",IF(ISNA(VLOOKUP(A97,reporting4,3,FALSE)),\"\",VLOOKUP(A97,reporting4,3,FALSE)))","v":""},{"$f":"IF(ISBLANK(VLOOKUP(A97,reporting4,4,FALSE)),\"\",IF(ISNA(VLOOKUP(A97,reporting4,4,FALSE)),\"\",VLOOKUP(A97,reporting4,4,FALSE)))","v":""},{"$f":"IF(ISBLANK(VLOOKUP(A97,reportin5,2,FALSE)),\"\",IF(ISNA(VLOOKUP(A97,reporting5,2,FALSE)),\"\",VLOOKUP(A97,reporting5,2,FALSE)))","v":""},{"$f":"IF(ISBLANK(VLOOKUP(A97,reporting5,3,FALSE)),\"\",IF(ISNA(VLOOKUP(A97,reporting5,3,FALSE)),\"\",VLOOKUP(A97,reporting5,3,FALSE)))","v":""},{"$f":"IF(ISBLANK(VLOOKUP(A97,reporting5,4,FALSE)),\"\",IF(ISNA(VLOOKUP(A97,reporting5,4,FALSE)),\"\",VLOOKUP(A97,reporting5,4,FALSE)))","v":""}]
[null,{"$f":"IF(ISBLANK(VLOOKUP(A98,reporting1,2,FALSE)),\"\",IF(ISNA(VLOOKUP(A98,reporting1,2,FALSE)),\"\",VLOOKUP(A98,reporting1,2,FALSE)))","v":""},{"$f":"IF(ISBLANK(VLOOKUP(A98,reporting1,3,FALSE)),\"\",IF(ISNA(VLOOKUP(A98,reporting1,3,FALSE)),\"\",VLOOKUP(A98,reporting1,3,FALSE)))","v":""},{"$f":"IF(ISBLANK(VLOOKUP(A98,reporting1,4,FALSE)),\"\",IF(ISNA(VLOOKUP(A98,reporting1,4,FALSE)),\"\",VLOOKUP(A98,reporting1,4,FALSE)))","v":""},{"$f":"IF(ISBLANK(VLOOKUP(A98,reporting2,2,FALSE)),\"\",IF(ISNA(VLOOKUP(A98,reporting2,2,FALSE)),\"\",VLOOKUP(A98,reporting2,2,FALSE)))","v":""},{"$f":"IF(ISBLANK(VLOOKUP(A98,reporting2,3,FALSE)),\"\",IF(ISNA(VLOOKUP(A98,reporting2,3,FALSE)),\"\",VLOOKUP(A98,reporting2,3,FALSE)))","v":""},{"$f":"IF(ISBLANK(VLOOKUP(A98,reporting2,4,FALSE)),\"\",IF(ISNA(VLOOKUP(A98,reporting2,4,FALSE)),\"\",VLOOKUP(A98,reporting2,4,FALSE)))","v":""},{"$f":"IF(ISBLANK(VLOOKUP(A98,reporting3,2,FALSE)),\"\",IF(ISNA(VLOOKUP(A98,reporting3,2,FALSE)),\"\",VLOOKUP(A98,reporting3,2,FALSE)))","v":""},{"$f":"IF(ISBLANK(VLOOKUP(A98,reporting3,3,FALSE)),\"\",IF(ISNA(VLOOKUP(A98,reporting3,3,FALSE)),\"\",VLOOKUP(A98,reporting3,3,FALSE)))","v":""},{"$f":"IF(ISBLANK(VLOOKUP(A98,reporting3,4,FALSE)),\"\",IF(ISNA(VLOOKUP(A98,reporting3,4,FALSE)),\"\",VLOOKUP(A98,reporting3,4,FALSE)))","v":""},{"$f":"IF(ISBLANK(VLOOKUP(A98,reporting4,2,FALSE)),\"\",IF(ISNA(VLOOKUP(A98,reporting4,2,FALSE)),\"\",VLOOKUP(A98,reporting4,2,FALSE)))","v":""},{"$f":"IF(ISBLANK(VLOOKUP(A98,reporting4,3,FALSE)),\"\",IF(ISNA(VLOOKUP(A98,reporting4,3,FALSE)),\"\",VLOOKUP(A98,reporting4,3,FALSE)))","v":""},{"$f":"IF(ISBLANK(VLOOKUP(A98,reporting4,4,FALSE)),\"\",IF(ISNA(VLOOKUP(A98,reporting4,4,FALSE)),\"\",VLOOKUP(A98,reporting4,4,FALSE)))","v":""},{"$f":"IF(ISBLANK(VLOOKUP(A98,reportin5,2,FALSE)),\"\",IF(ISNA(VLOOKUP(A98,reporting5,2,FALSE)),\"\",VLOOKUP(A98,reporting5,2,FALSE)))","v":""},{"$f":"IF(ISBLANK(VLOOKUP(A98,reporting5,3,FALSE)),\"\",IF(ISNA(VLOOKUP(A98,reporting5,3,FALSE)),\"\",VLOOKUP(A98,reporting5,3,FALSE)))","v":""},{"$f":"IF(ISBLANK(VLOOKUP(A98,reporting5,4,FALSE)),\"\",IF(ISNA(VLOOKUP(A98,reporting5,4,FALSE)),\"\",VLOOKUP(A98,reporting5,4,FALSE)))","v":""}]
[null,{"$f":"IF(ISBLANK(VLOOKUP(A99,reporting1,2,FALSE)),\"\",IF(ISNA(VLOOKUP(A99,reporting1,2,FALSE)),\"\",VLOOKUP(A99,reporting1,2,FALSE)))","v":""},{"$f":"IF(ISBLANK(VLOOKUP(A99,reporting1,3,FALSE)),\"\",IF(ISNA(VLOOKUP(A99,reporting1,3,FALSE)),\"\",VLOOKUP(A99,reporting1,3,FALSE)))","v":""},{"$f":"IF(ISBLANK(VLOOKUP(A99,reporting1,4,FALSE)),\"\",IF(ISNA(VLOOKUP(A99,reporting1,4,FALSE)),\"\",VLOOKUP(A99,reporting1,4,FALSE)))","v":""},{"$f":"IF(ISBLANK(VLOOKUP(A99,reporting2,2,FALSE)),\"\",IF(ISNA(VLOOKUP(A99,reporting2,2,FALSE)),\"\",VLOOKUP(A99,reporting2,2,FALSE)))","v":""},{"$f":"IF(ISBLANK(VLOOKUP(A99,reporting2,3,FALSE)),\"\",IF(ISNA(VLOOKUP(A99,reporting2,3,FALSE)),\"\",VLOOKUP(A99,reporting2,3,FALSE)))","v":""},{"$f":"IF(ISBLANK(VLOOKUP(A99,reporting2,4,FALSE)),\"\",IF(ISNA(VLOOKUP(A99,reporting2,4,FALSE)),\"\",VLOOKUP(A99,reporting2,4,FALSE)))","v":""},{"$f":"IF(ISBLANK(VLOOKUP(A99,reporting3,2,FALSE)),\"\",IF(ISNA(VLOOKUP(A99,reporting3,2,FALSE)),\"\",VLOOKUP(A99,reporting3,2,FALSE)))","v":""},{"$f":"IF(ISBLANK(VLOOKUP(A99,reporting3,3,FALSE)),\"\",IF(ISNA(VLOOKUP(A99,reporting3,3,FALSE)),\"\",VLOOKUP(A99,reporting3,3,FALSE)))","v":""},{"$f":"IF(ISBLANK(VLOOKUP(A99,reporting3,4,FALSE)),\"\",IF(ISNA(VLOOKUP(A99,reporting3,4,FALSE)),\"\",VLOOKUP(A99,reporting3,4,FALSE)))","v":""},{"$f":"IF(ISBLANK(VLOOKUP(A99,reporting4,2,FALSE)),\"\",IF(ISNA(VLOOKUP(A99,reporting4,2,FALSE)),\"\",VLOOKUP(A99,reporting4,2,FALSE)))","v":""},{"$f":"IF(ISBLANK(VLOOKUP(A99,reporting4,3,FALSE)),\"\",IF(ISNA(VLOOKUP(A99,reporting4,3,FALSE)),\"\",VLOOKUP(A99,reporting4,3,FALSE)))","v":""},{"$f":"IF(ISBLANK(VLOOKUP(A99,reporting4,4,FALSE)),\"\",IF(ISNA(VLOOKUP(A99,reporting4,4,FALSE)),\"\",VLOOKUP(A99,reporting4,4,FALSE)))","v":""},{"$f":"IF(ISBLANK(VLOOKUP(A99,reportin5,2,FALSE)),\"\",IF(ISNA(VLOOKUP(A99,reporting5,2,FALSE)),\"\",VLOOKUP(A99,reporting5,2,FALSE)))","v":""},{"$f":"IF(ISBLANK(VLOOKUP(A99,reporting5,3,FALSE)),\"\",IF(ISNA(VLOOKUP(A99,reporting5,3,FALSE)),\"\",VLOOKUP(A99,reporting5,3,FALSE)))","v":""},{"$f":"IF(ISBLANK(VLOOKUP(A99,reporting5,4,FALSE)),\"\",IF(ISNA(VLOOKUP(A99,reporting5,4,FALSE)),\"\",VLOOKUP(A99,reporting5,4,FALSE)))","v":""}]
[null,{"$f":"IF(ISBLANK(VLOOKUP(A100,reporting1,2,FALSE)),\"\",IF(ISNA(VLOOKUP(A100,reporting1,2,FALSE)),\"\",VLOOKUP(A100,reporting1,2,FALSE)))","v":""},{"$f":"IF(ISBLANK(VLOOKUP(A100,reporting1,3,FALSE)),\"\",IF(ISNA(VLOOKUP(A100,reporting1,3,FALSE)),\"\",VLOOKUP(A100,reporting1,3,FALSE)))","v":""},{"$f":"IF(ISBLANK(VLOOKUP(A100,reporting1,4,FALSE)),\"\",IF(ISNA(VLOOKUP(A100,reporting1,4,FALSE)),\"\",VLOOKUP(A100,reporting1,4,FALSE)))","v":""},{"$f":"IF(ISBLANK(VLOOKUP(A100,reporting2,2,FALSE)),\"\",IF(ISNA(VLOOKUP(A100,reporting2,2,FALSE)),\"\",VLOOKUP(A100,reporting2,2,FALSE)))","v":""},{"$f":"IF(ISBLANK(VLOOKUP(A100,reporting2,3,FALSE)),\"\",IF(ISNA(VLOOKUP(A100,reporting2,3,FALSE)),\"\",VLOOKUP(A100,reporting2,3,FALSE)))","v":""},{"$f":"IF(ISBLANK(VLOOKUP(A100,reporting2,4,FALSE)),\"\",IF(ISNA(VLOOKUP(A100,reporting2,4,FALSE)),\"\",VLOOKUP(A100,reporting2,4,FALSE)))","v":""},{"$f":"IF(ISBLANK(VLOOKUP(A100,reporting3,2,FALSE)),\"\",IF(ISNA(VLOOKUP(A100,reporting3,2,FALSE)),\"\",VLOOKUP(A100,reporting3,2,FALSE)))","v":""},{"$f":"IF(ISBLANK(VLOOKUP(A100,reporting3,3,FALSE)),\"\",IF(ISNA(VLOOKUP(A100,reporting3,3,FALSE)),\"\",VLOOKUP(A100,reporting3,3,FALSE)))","v":""},{"$f":"IF(ISBLANK(VLOOKUP(A100,reporting3,4,FALSE)),\"\",IF(ISNA(VLOOKUP(A100,reporting3,4,FALSE)),\"\",VLOOKUP(A100,reporting3,4,FALSE)))","v":""},{"$f":"IF(ISBLANK(VLOOKUP(A100,reporting4,2,FALSE)),\"\",IF(ISNA(VLOOKUP(A100,reporting4,2,FALSE)),\"\",VLOOKUP(A100,reporting4,2,FALSE)))","v":""},{"$f":"IF(ISBLANK(VLOOKUP(A100,reporting4,3,FALSE)),\"\",IF(ISNA(VLOOKUP(A100,reporting4,3,FALSE)),\"\",VLOOKUP(A100,reporting4,3,FALSE)))","v":""},{"$f":"IF(ISBLANK(VLOOKUP(A100,reporting4,4,FALSE)),\"\",IF(ISNA(VLOOKUP(A100,reporting4,4,FALSE)),\"\",VLOOKUP(A100,reporting4,4,FALSE)))","v":""},{"$f":"IF(ISBLANK(VLOOKUP(A100,reportin5,2,FALSE)),\"\",IF(ISNA(VLOOKUP(A100,reporting5,2,FALSE)),\"\",VLOOKUP(A100,reporting5,2,FALSE)))","v":""},{"$f":"IF(ISBLANK(VLOOKUP(A100,reporting5,3,FALSE)),\"\",IF(ISNA(VLOOKUP(A100,reporting5,3,FALSE)),\"\",VLOOKUP(A100,reporting5,3,FALSE)))","v":""},{"$f":"IF(ISBLANK(VLOOKUP(A100,reporting5,4,FALSE)),\"\",IF(ISNA(VLOOKUP(A100,reporting5,4,FALSE)),\"\",VLOOKUP(A100,reporting5,4,FALSE)))","v":""}]
[null,{"$f":"IF(ISBLANK(VLOOKUP(A101,reporting1,2,FALSE)),\"\",IF(ISNA(VLOOKUP(A101,reporting1,2,FALSE)),\"\",VLOOKUP(A101,reporting1,2,FALSE)))","v":""},{"$f":"IF(ISBLANK(VLOOKUP(A101,reporting1,3,FALSE)),\"\",IF(ISNA(VLOOKUP(A101,reporting1,3,FALSE)),\"\",VLOOKUP(A101,reporting1,3,FALSE)))","v":""},{"$f":"IF(ISBLANK(VLOOKUP(A101,reporting1,4,FALSE)),\"\",IF(ISNA(VLOOKUP(A101,reporting1,4,FALSE)),\"\",VLOOKUP(A101,reporting1,4,FALSE)))","v":""},{"$f":"IF(ISBLANK(VLOOKUP(A101,reporting2,2,FALSE)),\"\",IF(ISNA(VLOOKUP(A101,reporting2,2,FALSE)),\"\",VLOOKUP(A101,reporting2,2,FALSE)))","v":""},{"$f":"IF(ISBLANK(VLOOKUP(A101,reporting2,3,FALSE)),\"\",IF(ISNA(VLOOKUP(A101,reporting2,3,FALSE)),\"\",VLOOKUP(A101,reporting2,3,FALSE)))","v":""},{"$f":"IF(ISBLANK(VLOOKUP(A101,reporting2,4,FALSE)),\"\",IF(ISNA(VLOOKUP(A101,reporting2,4,FALSE)),\"\",VLOOKUP(A101,reporting2,4,FALSE)))","v":""},{"$f":"IF(ISBLANK(VLOOKUP(A101,reporting3,2,FALSE)),\"\",IF(ISNA(VLOOKUP(A101,reporting3,2,FALSE)),\"\",VLOOKUP(A101,reporting3,2,FALSE)))","v":""},{"$f":"IF(ISBLANK(VLOOKUP(A101,reporting3,3,FALSE)),\"\",IF(ISNA(VLOOKUP(A101,reporting3,3,FALSE)),\"\",VLOOKUP(A101,reporting3,3,FALSE)))","v":""},{"$f":"IF(ISBLANK(VLOOKUP(A101,reporting3,4,FALSE)),\"\",IF(ISNA(VLOOKUP(A101,reporting3,4,FALSE)),\"\",VLOOKUP(A101,reporting3,4,FALSE)))","v":""},{"$f":"IF(ISBLANK(VLOOKUP(A101,reporting4,2,FALSE)),\"\",IF(ISNA(VLOOKUP(A101,reporting4,2,FALSE)),\"\",VLOOKUP(A101,reporting4,2,FALSE)))","v":""},{"$f":"IF(ISBLANK(VLOOKUP(A101,reporting4,3,FALSE)),\"\",IF(ISNA(VLOOKUP(A101,reporting4,3,FALSE)),\"\",VLOOKUP(A101,reporting4,3,FALSE)))","v":""},{"$f":"IF(ISBLANK(VLOOKUP(A101,reporting4,4,FALSE)),\"\",IF(ISNA(VLOOKUP(A101,reporting4,4,FALSE)),\"\",VLOOKUP(A101,reporting4,4,FALSE)))","v":""},{"$f":"IF(ISBLANK(VLOOKUP(A101,reportin5,2,FALSE)),\"\",IF(ISNA(VLOOKUP(A101,reporting5,2,FALSE)),\"\",VLOOKUP(A101,reporting5,2,FALSE)))","v":""},{"$f":"IF(ISBLANK(VLOOKUP(A101,reporting5,3,FALSE)),\"\",IF(ISNA(VLOOKUP(A101,reporting5,3,FALSE)),\"\",VLOOKUP(A101,reporting5,3,FALSE)))","v":""},{"$f":"IF(ISBLANK(VLOOKUP(A101,reporting5,4,FALSE)),\"\",IF(ISNA(VLOOKUP(A101,reporting5,4,FALSE)),\"\",VLOOKUP(A101,reporting5,4,FALSE)))","v":""}]
[null,{"$f":"IF(ISBLANK(VLOOKUP(A102,reporting1,2,FALSE)),\"\",IF(ISNA(VLOOKUP(A102,reporting1,2,FALSE)),\"\",VLOOKUP(A102,reporting1,2,FALSE)))","v":""},{"$f":"IF(ISBLANK(VLOOKUP(A102,reporting1,3,FALSE)),\"\",IF(ISNA(VLOOKUP(A102,reporting1,3,FALSE)),\"\",VLOOKUP(A102,reporting1,3,FALSE)))","v":""},{"$f":"IF(ISBLANK(VLOOKUP(A102,reporting1,4,FALSE)),\"\",IF(ISNA(VLOOKUP(A102,reporting1,4,FALSE)),\"\",VLOOKUP(A102,reporting1,4,FALSE)))","v":""},{"$f":"IF(ISBLANK(VLOOKUP(A102,reporting2,2,FALSE)),\"\",IF(ISNA(VLOOKUP(A102,reporting2,2,FALSE)),\"\",VLOOKUP(A102,reporting2,2,FALSE)))","v":""},{"$f":"IF(ISBLANK(VLOOKUP(A102,reporting2,3,FALSE)),\"\",IF(ISNA(VLOOKUP(A102,reporting2,3,FALSE)),\"\",VLOOKUP(A102,reporting2,3,FALSE)))","v":""},{"$f":"IF(ISBLANK(VLOOKUP(A102,reporting2,4,FALSE)),\"\",IF(ISNA(VLOOKUP(A102,reporting2,4,FALSE)),\"\",VLOOKUP(A102,reporting2,4,FALSE)))","v":""},{"$f":"IF(ISBLANK(VLOOKUP(A102,reporting3,2,FALSE)),\"\",IF(ISNA(VLOOKUP(A102,reporting3,2,FALSE)),\"\",VLOOKUP(A102,reporting3,2,FALSE)))","v":""},{"$f":"IF(ISBLANK(VLOOKUP(A102,reporting3,3,FALSE)),\"\",IF(ISNA(VLOOKUP(A102,reporting3,3,FALSE)),\"\",VLOOKUP(A102,reporting3,3,FALSE)))","v":""},{"$f":"IF(ISBLANK(VLOOKUP(A102,reporting3,4,FALSE)),\"\",IF(ISNA(VLOOKUP(A102,reporting3,4,FALSE)),\"\",VLOOKUP(A102,reporting3,4,FALSE)))","v":""},{"$f":"IF(ISBLANK(VLOOKUP(A102,reporting4,2,FALSE)),\"\",IF(ISNA(VLOOKUP(A102,reporting4,2,FALSE)),\"\",VLOOKUP(A102,reporting4,2,FALSE)))","v":""},{"$f":"IF(ISBLANK(VLOOKUP(A102,reporting4,3,FALSE)),\"\",IF(ISNA(VLOOKUP(A102,reporting4,3,FALSE)),\"\",VLOOKUP(A102,reporting4,3,FALSE)))","v":""},{"$f":"IF(ISBLANK(VLOOKUP(A102,reporting4,4,FALSE)),\"\",IF(ISNA(VLOOKUP(A102,reporting4,4,FALSE)),\"\",VLOOKUP(A102,reporting4,4,FALSE)))","v":""},{"$f":"IF(ISBLANK(VLOOKUP(A102,reportin5,2,FALSE)),\"\",IF(ISNA(VLOOKUP(A102,reporting5,2,FALSE)),\"\",VLOOKUP(A102,reporting5,2,FALSE)))","v":""},{"$f":"IF(ISBLANK(VLOOKUP(A102,reporting5,3,FALSE)),\"\",IF(ISNA(VLOOKUP(A102,reporting5,3,FALSE)),\"\",VLOOKUP(A102,reporting5,3,FALSE)))","v":""},{"$f":"IF(ISBLANK(VLOOKUP(A102,reporting5,4,FALSE)),\"\",IF(ISNA(VLOOKUP(A102,reporting5,4,FALSE)),\"\",VLOOKUP(A102,reporting5,4,FALSE)))","v":""}]
[null,{"$f":"IF(ISBLANK(VLOOKUP(A103,reporting1,2,FALSE)),\"\",IF(ISNA(VLOOKUP(A103,reporting1,2,FALSE)),\"\",VLOOKUP(A103,reporting1,2,FALSE)))","v":""},{"$f":"IF(ISBLANK(VLOOKUP(A103,reporting1,3,FALSE)),\"\",IF(ISNA(VLOOKUP(A103,reporting1,3,FALSE)),\"\",VLOOKUP(A103,reporting1,3,FALSE)))","v":""},{"$f":"IF(ISBLANK(VLOOKUP(A103,reporting1,4,FALSE)),\"\",IF(ISNA(VLOOKUP(A103,reporting1,4,FALSE)),\"\",VLOOKUP(A103,reporting1,4,FALSE)))","v":""},{"$f":"IF(ISBLANK(VLOOKUP(A103,reporting2,2,FALSE)),\"\",IF(ISNA(VLOOKUP(A103,reporting2,2,FALSE)),\"\",VLOOKUP(A103,reporting2,2,FALSE)))","v":""},{"$f":"IF(ISBLANK(VLOOKUP(A103,reporting2,3,FALSE)),\"\",IF(ISNA(VLOOKUP(A103,reporting2,3,FALSE)),\"\",VLOOKUP(A103,reporting2,3,FALSE)))","v":""},{"$f":"IF(ISBLANK(VLOOKUP(A103,reporting2,4,FALSE)),\"\",IF(ISNA(VLOOKUP(A103,reporting2,4,FALSE)),\"\",VLOOKUP(A103,reporting2,4,FALSE)))","v":""},{"$f":"IF(ISBLANK(VLOOKUP(A103,reporting3,2,FALSE)),\"\",IF(ISNA(VLOOKUP(A103,reporting3,2,FALSE)),\"\",VLOOKUP(A103,reporting3,2,FALSE)))","v":""},{"$f":"IF(ISBLANK(VLOOKUP(A103,reporting3,3,FALSE)),\"\",IF(ISNA(VLOOKUP(A103,reporting3,3,FALSE)),\"\",VLOOKUP(A103,reporting3,3,FALSE)))","v":""},{"$f":"IF(ISBLANK(VLOOKUP(A103,reporting3,4,FALSE)),\"\",IF(ISNA(VLOOKUP(A103,reporting3,4,FALSE)),\"\",VLOOKUP(A103,reporting3,4,FALSE)))","v":""},{"$f":"IF(ISBLANK(VLOOKUP(A103,reporting4,2,FALSE)),\"\",IF(ISNA(VLOOKUP(A103,reporting4,2,FALSE)),\"\",VLOOKUP(A103,reporting4,2,FALSE)))","v":""},{"$f":"IF(ISBLANK(VLOOKUP(A103,reporting4,3,FALSE)),\"\",IF(ISNA(VLOOKUP(A103,reporting4,3,FALSE)),\"\",VLOOKUP(A103,reporting4,3,FALSE)))","v":""},{"$f":"IF(ISBLANK(VLOOKUP(A103,reporting4,4,FALSE)),\"\",IF(ISNA(VLOOKUP(A103,reporting4,4,FALSE)),\"\",VLOOKUP(A103,reporting4,4,FALSE)))","v":""},{"$f":"IF(ISBLANK(VLOOKUP(A103,reportin5,2,FALSE)),\"\",IF(ISNA(VLOOKUP(A103,reporting5,2,FALSE)),\"\",VLOOKUP(A103,reporting5,2,FALSE)))","v":""},{"$f":"IF(ISBLANK(VLOOKUP(A103,reporting5,3,FALSE)),\"\",IF(ISNA(VLOOKUP(A103,reporting5,3,FALSE)),\"\",VLOOKUP(A103,reporting5,3,FALSE)))","v":""},{"$f":"IF(ISBLANK(VLOOKUP(A103,reporting5,4,FALSE)),\"\",IF(ISNA(VLOOKUP(A103,reporting5,4,FALSE)),\"\",VLOOKUP(A103,reporting5,4,FALSE)))","v":""}]
[null,{"$f":"IF(ISBLANK(VLOOKUP(A104,reporting1,2,FALSE)),\"\",IF(ISNA(VLOOKUP(A104,reporting1,2,FALSE)),\"\",VLOOKUP(A104,reporting1,2,FALSE)))","v":""},{"$f":"IF(ISBLANK(VLOOKUP(A104,reporting1,3,FALSE)),\"\",IF(ISNA(VLOOKUP(A104,reporting1,3,FALSE)),\"\",VLOOKUP(A104,reporting1,3,FALSE)))","v":""},{"$f":"IF(ISBLANK(VLOOKUP(A104,reporting1,4,FALSE)),\"\",IF(ISNA(VLOOKUP(A104,reporting1,4,FALSE)),\"\",VLOOKUP(A104,reporting1,4,FALSE)))","v":""},{"$f":"IF(ISBLANK(VLOOKUP(A104,reporting2,2,FALSE)),\"\",IF(ISNA(VLOOKUP(A104,reporting2,2,FALSE)),\"\",VLOOKUP(A104,reporting2,2,FALSE)))","v":""},{"$f":"IF(ISBLANK(VLOOKUP(A104,reporting2,3,FALSE)),\"\",IF(ISNA(VLOOKUP(A104,reporting2,3,FALSE)),\"\",VLOOKUP(A104,reporting2,3,FALSE)))","v":""},{"$f":"IF(ISBLANK(VLOOKUP(A104,reporting2,4,FALSE)),\"\",IF(ISNA(VLOOKUP(A104,reporting2,4,FALSE)),\"\",VLOOKUP(A104,reporting2,4,FALSE)))","v":""},{"$f":"IF(ISBLANK(VLOOKUP(A104,reporting3,2,FALSE)),\"\",IF(ISNA(VLOOKUP(A104,reporting3,2,FALSE)),\"\",VLOOKUP(A104,reporting3,2,FALSE)))","v":""},{"$f":"IF(ISBLANK(VLOOKUP(A104,reporting3,3,FALSE)),\"\",IF(ISNA(VLOOKUP(A104,reporting3,3,FALSE)),\"\",VLOOKUP(A104,reporting3,3,FALSE)))","v":""},{"$f":"IF(ISBLANK(VLOOKUP(A104,reporting3,4,FALSE)),\"\",IF(ISNA(VLOOKUP(A104,reporting3,4,FALSE)),\"\",VLOOKUP(A104,reporting3,4,FALSE)))","v":""},{"$f":"IF(ISBLANK(VLOOKUP(A104,reporting4,2,FALSE)),\"\",IF(ISNA(VLOOKUP(A104,reporting4,2,FALSE)),\"\",VLOOKUP(A104,reporting4,2,FALSE)))","v":""},{"$f":"IF(ISBLANK(VLOOKUP(A104,reporting4,3,FALSE)),\"\",IF(ISNA(VLOOKUP(A104,reporting4,3,FALSE)),\"\",VLOOKUP(A104,reporting4,3,FALSE)))","v":""},{"$f":"IF(ISBLANK(VLOOKUP(A104,reporting4,4,FALSE)),\"\",IF(ISNA(VLOOKUP(A104,reporting4,4,FALSE)),\"\",VLOOKUP(A104,reporting4,4,FALSE)))","v":""},{"$f":"IF(ISBLANK(VLOOKUP(A104,reportin5,2,FALSE)),\"\",IF(ISNA(VLOOKUP(A104,reporting5,2,FALSE)),\"\",VLOOKUP(A104,reporting5,2,FALSE)))","v":""},{"$f":"IF(ISBLANK(VLOOKUP(A104,reporting5,3,FALSE)),\"\",IF(ISNA(VLOOKUP(A104,reporting5,3,FALSE)),\"\",VLOOKUP(A104,reporting5,3,FALSE)))","v":""},{"$f":"IF(ISBLANK(VLOOKUP(A104,reporting5,4,FALSE)),\"\",IF(ISNA(VLOOKUP(A104,reporting5,4,FALSE)),\"\",VLOOKUP(A104,reporting5,4,FALSE)))","v":""}]
[null,{"$f":"IF(ISBLANK(VLOOKUP(A105,reporting1,2,FALSE)),\"\",IF(ISNA(VLOOKUP(A105,reporting1,2,FALSE)),\"\",VLOOKUP(A105,reporting1,2,FALSE)))","v":""},{"$f":"IF(ISBLANK(VLOOKUP(A105,reporting1,3,FALSE)),\"\",IF(ISNA(VLOOKUP(A105,reporting1,3,FALSE)),\"\",VLOOKUP(A105,reporting1,3,FALSE)))","v":""},{"$f":"IF(ISBLANK(VLOOKUP(A105,reporting1,4,FALSE)),\"\",IF(ISNA(VLOOKUP(A105,reporting1,4,FALSE)),\"\",VLOOKUP(A105,reporting1,4,FALSE)))","v":""},{"$f":"IF(ISBLANK(VLOOKUP(A105,reporting2,2,FALSE)),\"\",IF(ISNA(VLOOKUP(A105,reporting2,2,FALSE)),\"\",VLOOKUP(A105,reporting2,2,FALSE)))","v":""},{"$f":"IF(ISBLANK(VLOOKUP(A105,reporting2,3,FALSE)),\"\",IF(ISNA(VLOOKUP(A105,reporting2,3,FALSE)),\"\",VLOOKUP(A105,reporting2,3,FALSE)))","v":""},{"$f":"IF(ISBLANK(VLOOKUP(A105,reporting2,4,FALSE)),\"\",IF(ISNA(VLOOKUP(A105,reporting2,4,FALSE)),\"\",VLOOKUP(A105,reporting2,4,FALSE)))","v":""},{"$f":"IF(ISBLANK(VLOOKUP(A105,reporting3,2,FALSE)),\"\",IF(ISNA(VLOOKUP(A105,reporting3,2,FALSE)),\"\",VLOOKUP(A105,reporting3,2,FALSE)))","v":""},{"$f":"IF(ISBLANK(VLOOKUP(A105,reporting3,3,FALSE)),\"\",IF(ISNA(VLOOKUP(A105,reporting3,3,FALSE)),\"\",VLOOKUP(A105,reporting3,3,FALSE)))","v":""},{"$f":"IF(ISBLANK(VLOOKUP(A105,reporting3,4,FALSE)),\"\",IF(ISNA(VLOOKUP(A105,reporting3,4,FALSE)),\"\",VLOOKUP(A105,reporting3,4,FALSE)))","v":""},{"$f":"IF(ISBLANK(VLOOKUP(A105,reporting4,2,FALSE)),\"\",IF(ISNA(VLOOKUP(A105,reporting4,2,FALSE)),\"\",VLOOKUP(A105,reporting4,2,FALSE)))","v":""},{"$f":"IF(ISBLANK(VLOOKUP(A105,reporting4,3,FALSE)),\"\",IF(ISNA(VLOOKUP(A105,reporting4,3,FALSE)),\"\",VLOOKUP(A105,reporting4,3,FALSE)))","v":""},{"$f":"IF(ISBLANK(VLOOKUP(A105,reporting4,4,FALSE)),\"\",IF(ISNA(VLOOKUP(A105,reporting4,4,FALSE)),\"\",VLOOKUP(A105,reporting4,4,FALSE)))","v":""},{"$f":"IF(ISBLANK(VLOOKUP(A105,reportin5,2,FALSE)),\"\",IF(ISNA(VLOOKUP(A105,reporting5,2,FALSE)),\"\",VLOOKUP(A105,reporting5,2,FALSE)))","v":""},{"$f":"IF(ISBLANK(VLOOKUP(A105,reporting5,3,FALSE)),\"\",IF(ISNA(VLOOKUP(A105,reporting5,3,FALSE)),\"\",VLOOKUP(A105,reporting5,3,FALSE)))","v":""},{"$f":"IF(ISBLANK(VLOOKUP(A105,reporting5,4,FALSE)),\"\",IF(ISNA(VLOOKUP(A105,reporting5,4,FALSE)),\"\",VLOOKUP(A105,reporting5,4,FALSE)))","v":""}]
[null,{"$f":"IF(ISBLANK(VLOOKUP(A106,reporting1,2,FALSE)),\"\",IF(ISNA(VLOOKUP(A106,reporting1,2,FALSE)),\"\",VLOOKUP(A106,reporting1,2,FALSE)))","v":""},{"$f":"IF(ISBLANK(VLOOKUP(A106,reporting1,3,FALSE)),\"\",IF(ISNA(VLOOKUP(A106,reporting1,3,FALSE)),\"\",VLOOKUP(A106,reporting1,3,FALSE)))","v":""},{"$f":"IF(ISBLANK(VLOOKUP(A106,reporting1,4,FALSE)),\"\",IF(ISNA(VLOOKUP(A106,reporting1,4,FALSE)),\"\",VLOOKUP(A106,reporting1,4,FALSE)))","v":""},{"$f":"IF(ISBLANK(VLOOKUP(A106,reporting2,2,FALSE)),\"\",IF(ISNA(VLOOKUP(A106,reporting2,2,FALSE)),\"\",VLOOKUP(A106,reporting2,2,FALSE)))","v":""},{"$f":"IF(ISBLANK(VLOOKUP(A106,reporting2,3,FALSE)),\"\",IF(ISNA(VLOOKUP(A106,reporting2,3,FALSE)),\"\",VLOOKUP(A106,reporting2,3,FALSE)))","v":""},{"$f":"IF(ISBLANK(VLOOKUP(A106,reporting2,4,FALSE)),\"\",IF(ISNA(VLOOKUP(A106,reporting2,4,FALSE)),\"\",VLOOKUP(A106,reporting2,4,FALSE)))","v":""},{"$f":"IF(ISBLANK(VLOOKUP(A106,reporting3,2,FALSE)),\"\",IF(ISNA(VLOOKUP(A106,reporting3,2,FALSE)),\"\",VLOOKUP(A106,reporting3,2,FALSE)))","v":""},{"$f":"IF(ISBLANK(VLOOKUP(A106,reporting3,3,FALSE)),\"\",IF(ISNA(VLOOKUP(A106,reporting3,3,FALSE)),\"\",VLOOKUP(A106,reporting3,3,FALSE)))","v":""},{"$f":"IF(ISBLANK(VLOOKUP(A106,reporting3,4,FALSE)),\"\",IF(ISNA(VLOOKUP(A106,reporting3,4,FALSE)),\"\",VLOOKUP(A106,reporting3,4,FALSE)))","v":""},{"$f":"IF(ISBLANK(VLOOKUP(A106,reporting4,2,FALSE)),\"\",IF(ISNA(VLOOKUP(A106,reporting4,2,FALSE)),\"\",VLOOKUP(A106,reporting4,2,FALSE)))","v":""},{"$f":"IF(ISBLANK(VLOOKUP(A106,reporting4,3,FALSE)),\"\",IF(ISNA(VLOOKUP(A106,reporting4,3,FALSE)),\"\",VLOOKUP(A106,reporting4,3,FALSE)))","v":""},{"$f":"IF(ISBLANK(VLOOKUP(A106,reporting4,4,FALSE)),\"\",IF(ISNA(VLOOKUP(A106,reporting4,4,FALSE)),\"\",VLOOKUP(A106,reporting4,4,FALSE)))","v":""},{"$f":"IF(ISBLANK(VLOOKUP(A106,reportin5,2,FALSE)),\"\",IF(ISNA(VLOOKUP(A106,reporting5,2,FALSE)),\"\",VLOOKUP(A106,reporting5,2,FALSE)))","v":""},{"$f":"IF(ISBLANK(VLOOKUP(A106,reporting5,3,FALSE)),\"\",IF(ISNA(VLOOKUP(A106,reporting5,3,FALSE)),\"\",VLOOKUP(A106,reporting5,3,FALSE)))","v":""},{"$f":"IF(ISBLANK(VLOOKUP(A106,reporting5,4,FALSE)),\"\",IF(ISNA(VLOOKUP(A106,reporting5,4,FALSE)),\"\",VLOOKUP(A106,reporting5,4,FALSE)))","v":""}]
[null,{"$f":"IF(ISBLANK(VLOOKUP(A107,reporting1,2,FALSE)),\"\",IF(ISNA(VLOOKUP(A107,reporting1,2,FALSE)),\"\",VLOOKUP(A107,reporting1,2,FALSE)))","v":""},{"$f":"IF(ISBLANK(VLOOKUP(A107,reporting1,3,FALSE)),\"\",IF(ISNA(VLOOKUP(A107,reporting1,3,FALSE)),\"\",VLOOKUP(A107,reporting1,3,FALSE)))","v":""},{"$f":"IF(ISBLANK(VLOOKUP(A107,reporting1,4,FALSE)),\"\",IF(ISNA(VLOOKUP(A107,reporting1,4,FALSE)),\"\",VLOOKUP(A107,reporting1,4,FALSE)))","v":""},{"$f":"IF(ISBLANK(VLOOKUP(A107,reporting2,2,FALSE)),\"\",IF(ISNA(VLOOKUP(A107,reporting2,2,FALSE)),\"\",VLOOKUP(A107,reporting2,2,FALSE)))","v":""},{"$f":"IF(ISBLANK(VLOOKUP(A107,reporting2,3,FALSE)),\"\",IF(ISNA(VLOOKUP(A107,reporting2,3,FALSE)),\"\",VLOOKUP(A107,reporting2,3,FALSE)))","v":""},{"$f":"IF(ISBLANK(VLOOKUP(A107,reporting2,4,FALSE)),\"\",IF(ISNA(VLOOKUP(A107,reporting2,4,FALSE)),\"\",VLOOKUP(A107,reporting2,4,FALSE)))","v":""},{"$f":"IF(ISBLANK(VLOOKUP(A107,reporting3,2,FALSE)),\"\",IF(ISNA(VLOOKUP(A107,reporting3,2,FALSE)),\"\",VLOOKUP(A107,reporting3,2,FALSE)))","v":""},{"$f":"IF(ISBLANK(VLOOKUP(A107,reporting3,3,FALSE)),\"\",IF(ISNA(VLOOKUP(A107,reporting3,3,FALSE)),\"\",VLOOKUP(A107,reporting3,3,FALSE)))","v":""},{"$f":"IF(ISBLANK(VLOOKUP(A107,reporting3,4,FALSE)),\"\",IF(ISNA(VLOOKUP(A107,reporting3,4,FALSE)),\"\",VLOOKUP(A107,reporting3,4,FALSE)))","v":""},{"$f":"IF(ISBLANK(VLOOKUP(A107,reporting4,2,FALSE)),\"\",IF(ISNA(VLOOKUP(A107,reporting4,2,FALSE)),\"\",VLOOKUP(A107,reporting4,2,FALSE)))","v":""},{"$f":"IF(ISBLANK(VLOOKUP(A107,reporting4,3,FALSE)),\"\",IF(ISNA(VLOOKUP(A107,reporting4,3,FALSE)),\"\",VLOOKUP(A107,reporting4,3,FALSE)))","v":""},{"$f":"IF(ISBLANK(VLOOKUP(A107,reporting4,4,FALSE)),\"\",IF(ISNA(VLOOKUP(A107,reporting4,4,FALSE)),\"\",VLOOKUP(A107,reporting4,4,FALSE)))","v":""},{"$f":"IF(ISBLANK(VLOOKUP(A107,reportin5,2,FALSE)),\"\",IF(ISNA(VLOOKUP(A107,reporting5,2,FALSE)),\"\",VLOOKUP(A107,reporting5,2,FALSE)))","v":""},{"$f":"IF(ISBLANK(VLOOKUP(A107,reporting5,3,FALSE)),\"\",IF(ISNA(VLOOKUP(A107,reporting5,3,FALSE)),\"\",VLOOKUP(A107,reporting5,3,FALSE)))","v":""},{"$f":"IF(ISBLANK(VLOOKUP(A107,reporting5,4,FALSE)),\"\",IF(ISNA(VLOOKUP(A107,reporting5,4,FALSE)),\"\",VLOOKUP(A107,reporting5,4,FALSE)))","v":""}]
[null,{"$f":"IF(ISBLANK(VLOOKUP(A108,reporting1,2,FALSE)),\"\",IF(ISNA(VLOOKUP(A108,reporting1,2,FALSE)),\"\",VLOOKUP(A108,reporting1,2,FALSE)))","v":""},{"$f":"IF(ISBLANK(VLOOKUP(A108,reporting1,3,FALSE)),\"\",IF(ISNA(VLOOKUP(A108,reporting1,3,FALSE)),\"\",VLOOKUP(A108,reporting1,3,FALSE)))","v":""},{"$f":"IF(ISBLANK(VLOOKUP(A108,reporting1,4,FALSE)),\"\",IF(ISNA(VLOOKUP(A108,reporting1,4,FALSE)),\"\",VLOOKUP(A108,reporting1,4,FALSE)))","v":""},{"$f":"IF(ISBLANK(VLOOKUP(A108,reporting2,2,FALSE)),\"\",IF(ISNA(VLOOKUP(A108,reporting2,2,FALSE)),\"\",VLOOKUP(A108,reporting2,2,FALSE)))","v":""},{"$f":"IF(ISBLANK(VLOOKUP(A108,reporting2,3,FALSE)),\"\",IF(ISNA(VLOOKUP(A108,reporting2,3,FALSE)),\"\",VLOOKUP(A108,reporting2,3,FALSE)))","v":""},{"$f":"IF(ISBLANK(VLOOKUP(A108,reporting2,4,FALSE)),\"\",IF(ISNA(VLOOKUP(A108,reporting2,4,FALSE)),\"\",VLOOKUP(A108,reporting2,4,FALSE)))","v":""},{"$f":"IF(ISBLANK(VLOOKUP(A108,reporting3,2,FALSE)),\"\",IF(ISNA(VLOOKUP(A108,reporting3,2,FALSE)),\"\",VLOOKUP(A108,reporting3,2,FALSE)))","v":""},{"$f":"IF(ISBLANK(VLOOKUP(A108,reporting3,3,FALSE)),\"\",IF(ISNA(VLOOKUP(A108,reporting3,3,FALSE)),\"\",VLOOKUP(A108,reporting3,3,FALSE)))","v":""},{"$f":"IF(ISBLANK(VLOOKUP(A108,reporting3,4,FALSE)),\"\",IF(ISNA(VLOOKUP(A108,reporting3,4,FALSE)),\"\",VLOOKUP(A108,reporting3,4,FALSE)))","v":""},{"$f":"IF(ISBLANK(VLOOKUP(A108,reporting4,2,FALSE)),\"\",IF(ISNA(VLOOKUP(A108,reporting4,2,FALSE)),\"\",VLOOKUP(A108,reporting4,2,FALSE)))","v":""},{"$f":"IF(ISBLANK(VLOOKUP(A108,reporting4,3,FALSE)),\"\",IF(ISNA(VLOOKUP(A108,reporting4,3,FALSE)),\"\",VLOOKUP(A108,reporting4,3,FALSE)))","v":""},{"$f":"IF(ISBLANK(VLOOKUP(A108,reporting4,4,FALSE)),\"\",IF(ISNA(VLOOKUP(A108,reporting4,4,FALSE)),\"\",VLOOKUP(A108,reporting4,4,FALSE)))","v":""},{"$f":"IF(ISBLANK(VLOOKUP(A108,reportin5,2,FALSE)),\"\",IF(ISNA(VLOOKUP(A108,reporting5,2,FALSE)),\"\",VLOOKUP(A108,reporting5,2,FALSE)))","v":""},{"$f":"IF(ISBLANK(VLOOKUP(A108,reporting5,3,FALSE)),\"\",IF(ISNA(VLOOKUP(A108,reporting5,3,FALSE)),\"\",VLOOKUP(A108,reporting5,3,FALSE)))","v":""},{"$f":"IF(ISBLANK(VLOOKUP(A108,reporting5,4,FALSE)),\"\",IF(ISNA(VLOOKUP(A108,reporting5,4,FALSE)),\"\",VLOOKUP(A108,reporting5,4,FALSE)))","v":""}]
[null,{"$f":"IF(ISBLANK(VLOOKUP(A109,reporting1,2,FALSE)),\"\",IF(ISNA(VLOOKUP(A109,reporting1,2,FALSE)),\"\",VLOOKUP(A109,reporting1,2,FALSE)))","v":""},{"$f":"IF(ISBLANK(VLOOKUP(A109,reporting1,3,FALSE)),\"\",IF(ISNA(VLOOKUP(A109,reporting1,3,FALSE)),\"\",VLOOKUP(A109,reporting1,3,FALSE)))","v":""},{"$f":"IF(ISBLANK(VLOOKUP(A109,reporting1,4,FALSE)),\"\",IF(ISNA(VLOOKUP(A109,reporting1,4,FALSE)),\"\",VLOOKUP(A109,reporting1,4,FALSE)))","v":""},{"$f":"IF(ISBLANK(VLOOKUP(A109,reporting2,2,FALSE)),\"\",IF(ISNA(VLOOKUP(A109,reporting2,2,FALSE)),\"\",VLOOKUP(A109,reporting2,2,FALSE)))","v":""},{"$f":"IF(ISBLANK(VLOOKUP(A109,reporting2,3,FALSE)),\"\",IF(ISNA(VLOOKUP(A109,reporting2,3,FALSE)),\"\",VLOOKUP(A109,reporting2,3,FALSE)))","v":""},{"$f":"IF(ISBLANK(VLOOKUP(A109,reporting2,4,FALSE)),\"\",IF(ISNA(VLOOKUP(A109,reporting2,4,FALSE)),\"\",VLOOKUP(A109,reporting2,4,FALSE)))","v":""},{"$f":"IF(ISBLANK(VLOOKUP(A109,reporting3,2,FALSE)),\"\",IF(ISNA(VLOOKUP(A109,reporting3,2,FALSE)),\"\",VLOOKUP(A109,reporting3,2,FALSE)))","v":""},{"$f":"IF(ISBLANK(VLOOKUP(A109,reporting3,3,FALSE)),\"\",IF(ISNA(VLOOKUP(A109,reporting3,3,FALSE)),\"\",VLOOKUP(A109,reporting3,3,FALSE)))","v":""},{"$f":"IF(ISBLANK(VLOOKUP(A109,reporting3,4,FALSE)),\"\",IF(ISNA(VLOOKUP(A109,reporting3,4,FALSE)),\"\",VLOOKUP(A109,reporting3,4,FALSE)))","v":""},{"$f":"IF(ISBLANK(VLOOKUP(A109,reporting4,2,FALSE)),\"\",IF(ISNA(VLOOKUP(A109,reporting4,2,FALSE)),\"\",VLOOKUP(A109,reporting4,2,FALSE)))","v":""},{"$f":"IF(ISBLANK(VLOOKUP(A109,reporting4,3,FALSE)),\"\",IF(ISNA(VLOOKUP(A109,reporting4,3,FALSE)),\"\",VLOOKUP(A109,reporting4,3,FALSE)))","v":""},{"$f":"IF(ISBLANK(VLOOKUP(A109,reporting4,4,FALSE)),\"\",IF(ISNA(VLOOKUP(A109,reporting4,4,FALSE)),\"\",VLOOKUP(A109,reporting4,4,FALSE)))","v":""},{"$f":"IF(ISBLANK(VLOOKUP(A109,reportin5,2,FALSE)),\"\",IF(ISNA(VLOOKUP(A109,reporting5,2,FALSE)),\"\",VLOOKUP(A109,reporting5,2,FALSE)))","v":""},{"$f":"IF(ISBLANK(VLOOKUP(A109,reporting5,3,FALSE)),\"\",IF(ISNA(VLOOKUP(A109,reporting5,3,FALSE)),\"\",VLOOKUP(A109,reporting5,3,FALSE)))","v":""},{"$f":"IF(ISBLANK(VLOOKUP(A109,reporting5,4,FALSE)),\"\",IF(ISNA(VLOOKUP(A109,reporting5,4,FALSE)),\"\",VLOOKUP(A109,reporting5,4,FALSE)))","v":""}]
[null,{"$f":"IF(ISBLANK(VLOOKUP(A110,reporting1,2,FALSE)),\"\",IF(ISNA(VLOOKUP(A110,reporting1,2,FALSE)),\"\",VLOOKUP(A110,reporting1,2,FALSE)))","v":""},{"$f":"IF(ISBLANK(VLOOKUP(A110,reporting1,3,FALSE)),\"\",IF(ISNA(VLOOKUP(A110,reporting1,3,FALSE)),\"\",VLOOKUP(A110,reporting1,3,FALSE)))","v":""},{"$f":"IF(ISBLANK(VLOOKUP(A110,reporting1,4,FALSE)),\"\",IF(ISNA(VLOOKUP(A110,reporting1,4,FALSE)),\"\",VLOOKUP(A110,reporting1,4,FALSE)))","v":""},{"$f":"IF(ISBLANK(VLOOKUP(A110,reporting2,2,FALSE)),\"\",IF(ISNA(VLOOKUP(A110,reporting2,2,FALSE)),\"\",VLOOKUP(A110,reporting2,2,FALSE)))","v":""},{"$f":"IF(ISBLANK(VLOOKUP(A110,reporting2,3,FALSE)),\"\",IF(ISNA(VLOOKUP(A110,reporting2,3,FALSE)),\"\",VLOOKUP(A110,reporting2,3,FALSE)))","v":""},{"$f":"IF(ISBLANK(VLOOKUP(A110,reporting2,4,FALSE)),\"\",IF(ISNA(VLOOKUP(A110,reporting2,4,FALSE)),\"\",VLOOKUP(A110,reporting2,4,FALSE)))","v":""},{"$f":"IF(ISBLANK(VLOOKUP(A110,reporting3,2,FALSE)),\"\",IF(ISNA(VLOOKUP(A110,reporting3,2,FALSE)),\"\",VLOOKUP(A110,reporting3,2,FALSE)))","v":""},{"$f":"IF(ISBLANK(VLOOKUP(A110,reporting3,3,FALSE)),\"\",IF(ISNA(VLOOKUP(A110,reporting3,3,FALSE)),\"\",VLOOKUP(A110,reporting3,3,FALSE)))","v":""},{"$f":"IF(ISBLANK(VLOOKUP(A110,reporting3,4,FALSE)),\"\",IF(ISNA(VLOOKUP(A110,reporting3,4,FALSE)),\"\",VLOOKUP(A110,reporting3,4,FALSE)))","v":""},{"$f":"IF(ISBLANK(VLOOKUP(A110,reporting4,2,FALSE)),\"\",IF(ISNA(VLOOKUP(A110,reporting4,2,FALSE)),\"\",VLOOKUP(A110,reporting4,2,FALSE)))","v":""},{"$f":"IF(ISBLANK(VLOOKUP(A110,reporting4,3,FALSE)),\"\",IF(ISNA(VLOOKUP(A110,reporting4,3,FALSE)),\"\",VLOOKUP(A110,reporting4,3,FALSE)))","v":""},{"$f":"IF(ISBLANK(VLOOKUP(A110,reporting4,4,FALSE)),\"\",IF(ISNA(VLOOKUP(A110,reporting4,4,FALSE)),\"\",VLOOKUP(A110,reporting4,4,FALSE)))","v":""},{"$f":"IF(ISBLANK(VLOOKUP(A110,reportin5,2,FALSE)),\"\",IF(ISNA(VLOOKUP(A110,reporting5,2,FALSE)),\"\",VLOOKUP(A110,reporting5,2,FALSE)))","v":""},{"$f":"IF(ISBLANK(VLOOKUP(A110,reporting5,3,FALSE)),\"\",IF(ISNA(VLOOKUP(A110,reporting5,3,FALSE)),\"\",VLOOKUP(A110,reporting5,3,FALSE)))","v":""},{"$f":"IF(ISBLANK(VLOOKUP(A110,reporting5,4,FALSE)),\"\",IF(ISNA(VLOOKUP(A110,reporting5,4,FALSE)),\"\",VLOOKUP(A110,reporting5,4,FALSE)))","v":""}]
[null,{"$f":"IF(ISBLANK(VLOOKUP(A111,reporting1,2,FALSE)),\"\",IF(ISNA(VLOOKUP(A111,reporting1,2,FALSE)),\"\",VLOOKUP(A111,reporting1,2,FALSE)))","v":""},{"$f":"IF(ISBLANK(VLOOKUP(A111,reporting1,3,FALSE)),\"\",IF(ISNA(VLOOKUP(A111,reporting1,3,FALSE)),\"\",VLOOKUP(A111,reporting1,3,FALSE)))","v":""},{"$f":"IF(ISBLANK(VLOOKUP(A111,reporting1,4,FALSE)),\"\",IF(ISNA(VLOOKUP(A111,reporting1,4,FALSE)),\"\",VLOOKUP(A111,reporting1,4,FALSE)))","v":""},{"$f":"IF(ISBLANK(VLOOKUP(A111,reporting2,2,FALSE)),\"\",IF(ISNA(VLOOKUP(A111,reporting2,2,FALSE)),\"\",VLOOKUP(A111,reporting2,2,FALSE)))","v":""},{"$f":"IF(ISBLANK(VLOOKUP(A111,reporting2,3,FALSE)),\"\",IF(ISNA(VLOOKUP(A111,reporting2,3,FALSE)),\"\",VLOOKUP(A111,reporting2,3,FALSE)))","v":""},{"$f":"IF(ISBLANK(VLOOKUP(A111,reporting2,4,FALSE)),\"\",IF(ISNA(VLOOKUP(A111,reporting2,4,FALSE)),\"\",VLOOKUP(A111,reporting2,4,FALSE)))","v":""},{"$f":"IF(ISBLANK(VLOOKUP(A111,reporting3,2,FALSE)),\"\",IF(ISNA(VLOOKUP(A111,reporting3,2,FALSE)),\"\",VLOOKUP(A111,reporting3,2,FALSE)))","v":""},{"$f":"IF(ISBLANK(VLOOKUP(A111,reporting3,3,FALSE)),\"\",IF(ISNA(VLOOKUP(A111,reporting3,3,FALSE)),\"\",VLOOKUP(A111,reporting3,3,FALSE)))","v":""},{"$f":"IF(ISBLANK(VLOOKUP(A111,reporting3,4,FALSE)),\"\",IF(ISNA(VLOOKUP(A111,reporting3,4,FALSE)),\"\",VLOOKUP(A111,reporting3,4,FALSE)))","v":""},{"$f":"IF(ISBLANK(VLOOKUP(A111,reporting4,2,FALSE)),\"\",IF(ISNA(VLOOKUP(A111,reporting4,2,FALSE)),\"\",VLOOKUP(A111,reporting4,2,FALSE)))","v":""},{"$f":"IF(ISBLANK(VLOOKUP(A111,reporting4,3,FALSE)),\"\",IF(ISNA(VLOOKUP(A111,reporting4,3,FALSE)),\"\",VLOOKUP(A111,reporting4,3,FALSE)))","v":""},{"$f":"IF(ISBLANK(VLOOKUP(A111,reporting4,4,FALSE)),\"\",IF(ISNA(VLOOKUP(A111,reporting4,4,FALSE)),\"\",VLOOKUP(A111,reporting4,4,FALSE)))","v":""},{"$f":"IF(ISBLANK(VLOOKUP(A111,reportin5,2,FALSE)),\"\",IF(ISNA(VLOOKUP(A111,reporting5,2,FALSE)),\"\",VLOOKUP(A111,reporting5,2,FALSE)))","v":""},{"$f":"IF(ISBLANK(VLOOKUP(A111,reporting5,3,FALSE)),\"\",IF(ISNA(VLOOKUP(A111,reporting5,3,FALSE)),\"\",VLOOKUP(A111,reporting5,3,FALSE)))","v":""},{"$f":"IF(ISBLANK(VLOOKUP(A111,reporting5,4,FALSE)),\"\",IF(ISNA(VLOOKUP(A111,reporting5,4,FALSE)),\"\",VLOOKUP(A111,reporting5,4,FALSE)))","v":""}]
[null,{"$f":"IF(ISBLANK(VLOOKUP(A112,reporting1,2,FALSE)),\"\",IF(ISNA(VLOOKUP(A112,reporting1,2,FALSE)),\"\",VLOOKUP(A112,reporting1,2,FALSE)))","v":""},{"$f":"IF(ISBLANK(VLOOKUP(A112,reporting1,3,FALSE)),\"\",IF(ISNA(VLOOKUP(A112,reporting1,3,FALSE)),\"\",VLOOKUP(A112,reporting1,3,FALSE)))","v":""},{"$f":"IF(ISBLANK(VLOOKUP(A112,reporting1,4,FALSE)),\"\",IF(ISNA(VLOOKUP(A112,reporting1,4,FALSE)),\"\",VLOOKUP(A112,reporting1,4,FALSE)))","v":""},{"$f":"IF(ISBLANK(VLOOKUP(A112,reporting2,2,FALSE)),\"\",IF(ISNA(VLOOKUP(A112,reporting2,2,FALSE)),\"\",VLOOKUP(A112,reporting2,2,FALSE)))","v":""},{"$f":"IF(ISBLANK(VLOOKUP(A112,reporting2,3,FALSE)),\"\",IF(ISNA(VLOOKUP(A112,reporting2,3,FALSE)),\"\",VLOOKUP(A112,reporting2,3,FALSE)))","v":""},{"$f":"IF(ISBLANK(VLOOKUP(A112,reporting2,4,FALSE)),\"\",IF(ISNA(VLOOKUP(A112,reporting2,4,FALSE)),\"\",VLOOKUP(A112,reporting2,4,FALSE)))","v":""},{"$f":"IF(ISBLANK(VLOOKUP(A112,reporting3,2,FALSE)),\"\",IF(ISNA(VLOOKUP(A112,reporting3,2,FALSE)),\"\",VLOOKUP(A112,reporting3,2,FALSE)))","v":""},{"$f":"IF(ISBLANK(VLOOKUP(A112,reporting3,3,FALSE)),\"\",IF(ISNA(VLOOKUP(A112,reporting3,3,FALSE)),\"\",VLOOKUP(A112,reporting3,3,FALSE)))","v":""},{"$f":"IF(ISBLANK(VLOOKUP(A112,reporting3,4,FALSE)),\"\",IF(ISNA(VLOOKUP(A112,reporting3,4,FALSE)),\"\",VLOOKUP(A112,reporting3,4,FALSE)))","v":""},{"$f":"IF(ISBLANK(VLOOKUP(A112,reporting4,2,FALSE)),\"\",IF(ISNA(VLOOKUP(A112,reporting4,2,FALSE)),\"\",VLOOKUP(A112,reporting4,2,FALSE)))","v":""},{"$f":"IF(ISBLANK(VLOOKUP(A112,reporting4,3,FALSE)),\"\",IF(ISNA(VLOOKUP(A112,reporting4,3,FALSE)),\"\",VLOOKUP(A112,reporting4,3,FALSE)))","v":""},{"$f":"IF(ISBLANK(VLOOKUP(A112,reporting4,4,FALSE)),\"\",IF(ISNA(VLOOKUP(A112,reporting4,4,FALSE)),\"\",VLOOKUP(A112,reporting4,4,FALSE)))","v":""},{"$f":"IF(ISBLANK(VLOOKUP(A112,reportin5,2,FALSE)),\"\",IF(ISNA(VLOOKUP(A112,reporting5,2,FALSE)),\"\",VLOOKUP(A112,reporting5,2,FALSE)))","v":""},{"$f":"IF(ISBLANK(VLOOKUP(A112,reporting5,3,FALSE)),\"\",IF(ISNA(VLOOKUP(A112,reporting5,3,FALSE)),\"\",VLOOKUP(A112,reporting5,3,FALSE)))","v":""},{"$f":"IF(ISBLANK(VLOOKUP(A112,reporting5,4,FALSE)),\"\",IF(ISNA(VLOOKUP(A112,reporting5,4,FALSE)),\"\",VLOOKUP(A112,reporting5,4,FALSE)))","v":""}]
[null,{"$f":"IF(ISBLANK(VLOOKUP(A113,reporting1,2,FALSE)),\"\",IF(ISNA(VLOOKUP(A113,reporting1,2,FALSE)),\"\",VLOOKUP(A113,reporting1,2,FALSE)))","v":""},{"$f":"IF(ISBLANK(VLOOKUP(A113,reporting1,3,FALSE)),\"\",IF(ISNA(VLOOKUP(A113,reporting1,3,FALSE)),\"\",VLOOKUP(A113,reporting1,3,FALSE)))","v":""},{"$f":"IF(ISBLANK(VLOOKUP(A113,reporting1,4,FALSE)),\"\",IF(ISNA(VLOOKUP(A113,reporting1,4,FALSE)),\"\",VLOOKUP(A113,reporting1,4,FALSE)))","v":""},{"$f":"IF(ISBLANK(VLOOKUP(A113,reporting2,2,FALSE)),\"\",IF(ISNA(VLOOKUP(A113,reporting2,2,FALSE)),\"\",VLOOKUP(A113,reporting2,2,FALSE)))","v":""},{"$f":"IF(ISBLANK(VLOOKUP(A113,reporting2,3,FALSE)),\"\",IF(ISNA(VLOOKUP(A113,reporting2,3,FALSE)),\"\",VLOOKUP(A113,reporting2,3,FALSE)))","v":""},{"$f":"IF(ISBLANK(VLOOKUP(A113,reporting2,4,FALSE)),\"\",IF(ISNA(VLOOKUP(A113,reporting2,4,FALSE)),\"\",VLOOKUP(A113,reporting2,4,FALSE)))","v":""},{"$f":"IF(ISBLANK(VLOOKUP(A113,reporting3,2,FALSE)),\"\",IF(ISNA(VLOOKUP(A113,reporting3,2,FALSE)),\"\",VLOOKUP(A113,reporting3,2,FALSE)))","v":""},{"$f":"IF(ISBLANK(VLOOKUP(A113,reporting3,3,FALSE)),\"\",IF(ISNA(VLOOKUP(A113,reporting3,3,FALSE)),\"\",VLOOKUP(A113,reporting3,3,FALSE)))","v":""},{"$f":"IF(ISBLANK(VLOOKUP(A113,reporting3,4,FALSE)),\"\",IF(ISNA(VLOOKUP(A113,reporting3,4,FALSE)),\"\",VLOOKUP(A113,reporting3,4,FALSE)))","v":""},{"$f":"IF(ISBLANK(VLOOKUP(A113,reporting4,2,FALSE)),\"\",IF(ISNA(VLOOKUP(A113,reporting4,2,FALSE)),\"\",VLOOKUP(A113,reporting4,2,FALSE)))","v":""},{"$f":"IF(ISBLANK(VLOOKUP(A113,reporting4,3,FALSE)),\"\",IF(ISNA(VLOOKUP(A113,reporting4,3,FALSE)),\"\",VLOOKUP(A113,reporting4,3,FALSE)))","v":""},{"$f":"IF(ISBLANK(VLOOKUP(A113,reporting4,4,FALSE)),\"\",IF(ISNA(VLOOKUP(A113,reporting4,4,FALSE)),\"\",VLOOKUP(A113,reporting4,4,FALSE)))","v":""},{"$f":"IF(ISBLANK(VLOOKUP(A113,reportin5,2,FALSE)),\"\",IF(ISNA(VLOOKUP(A113,reporting5,2,FALSE)),\"\",VLOOKUP(A113,reporting5,2,FALSE)))","v":""},{"$f":"IF(ISBLANK(VLOOKUP(A113,reporting5,3,FALSE)),\"\",IF(ISNA(VLOOKUP(A113,reporting5,3,FALSE)),\"\",VLOOKUP(A113,reporting5,3,FALSE)))","v":""},{"$f":"IF(ISBLANK(VLOOKUP(A113,reporting5,4,FALSE)),\"\",IF(ISNA(VLOOKUP(A113,reporting5,4,FALSE)),\"\",VLOOKUP(A113,reporting5,4,FALSE)))","v":""}]
[null,{"$f":"IF(ISBLANK(VLOOKUP(A114,reporting1,2,FALSE)),\"\",IF(ISNA(VLOOKUP(A114,reporting1,2,FALSE)),\"\",VLOOKUP(A114,reporting1,2,FALSE)))","v":""},{"$f":"IF(ISBLANK(VLOOKUP(A114,reporting1,3,FALSE)),\"\",IF(ISNA(VLOOKUP(A114,reporting1,3,FALSE)),\"\",VLOOKUP(A114,reporting1,3,FALSE)))","v":""},{"$f":"IF(ISBLANK(VLOOKUP(A114,reporting1,4,FALSE)),\"\",IF(ISNA(VLOOKUP(A114,reporting1,4,FALSE)),\"\",VLOOKUP(A114,reporting1,4,FALSE)))","v":""},{"$f":"IF(ISBLANK(VLOOKUP(A114,reporting2,2,FALSE)),\"\",IF(ISNA(VLOOKUP(A114,reporting2,2,FALSE)),\"\",VLOOKUP(A114,reporting2,2,FALSE)))","v":""},{"$f":"IF(ISBLANK(VLOOKUP(A114,reporting2,3,FALSE)),\"\",IF(ISNA(VLOOKUP(A114,reporting2,3,FALSE)),\"\",VLOOKUP(A114,reporting2,3,FALSE)))","v":""},{"$f":"IF(ISBLANK(VLOOKUP(A114,reporting2,4,FALSE)),\"\",IF(ISNA(VLOOKUP(A114,reporting2,4,FALSE)),\"\",VLOOKUP(A114,reporting2,4,FALSE)))","v":""},{"$f":"IF(ISBLANK(VLOOKUP(A114,reporting3,2,FALSE)),\"\",IF(ISNA(VLOOKUP(A114,reporting3,2,FALSE)),\"\",VLOOKUP(A114,reporting3,2,FALSE)))","v":""},{"$f":"IF(ISBLANK(VLOOKUP(A114,reporting3,3,FALSE)),\"\",IF(ISNA(VLOOKUP(A114,reporting3,3,FALSE)),\"\",VLOOKUP(A114,reporting3,3,FALSE)))","v":""},{"$f":"IF(ISBLANK(VLOOKUP(A114,reporting3,4,FALSE)),\"\",IF(ISNA(VLOOKUP(A114,reporting3,4,FALSE)),\"\",VLOOKUP(A114,reporting3,4,FALSE)))","v":""},{"$f":"IF(ISBLANK(VLOOKUP(A114,reporting4,2,FALSE)),\"\",IF(ISNA(VLOOKUP(A114,reporting4,2,FALSE)),\"\",VLOOKUP(A114,reporting4,2,FALSE)))","v":""},{"$f":"IF(ISBLANK(VLOOKUP(A114,reporting4,3,FALSE)),\"\",IF(ISNA(VLOOKUP(A114,reporting4,3,FALSE)),\"\",VLOOKUP(A114,reporting4,3,FALSE)))","v":""},{"$f":"IF(ISBLANK(VLOOKUP(A114,reporting4,4,FALSE)),\"\",IF(ISNA(VLOOKUP(A114,reporting4,4,FALSE)),\"\",VLOOKUP(A114,reporting4,4,FALSE)))","v":""},{"$f":"IF(ISBLANK(VLOOKUP(A114,reportin5,2,FALSE)),\"\",IF(ISNA(VLOOKUP(A114,reporting5,2,FALSE)),\"\",VLOOKUP(A114,reporting5,2,FALSE)))","v":""},{"$f":"IF(ISBLANK(VLOOKUP(A114,reporting5,3,FALSE)),\"\",IF(ISNA(VLOOKUP(A114,reporting5,3,FALSE)),\"\",VLOOKUP(A114,reporting5,3,FALSE)))","v":""},{"$f":"IF(ISBLANK(VLOOKUP(A114,reporting5,4,FALSE)),\"\",IF(ISNA(VLOOKUP(A114,reporting5,4,FALSE)),\"\",VLOOKUP(A114,reporting5,4,FALSE)))","v":""}]
[null,{"$f":"IF(ISBLANK(VLOOKUP(A115,reporting1,2,FALSE)),\"\",IF(ISNA(VLOOKUP(A115,reporting1,2,FALSE)),\"\",VLOOKUP(A115,reporting1,2,FALSE)))","v":""},{"$f":"IF(ISBLANK(VLOOKUP(A115,reporting1,3,FALSE)),\"\",IF(ISNA(VLOOKUP(A115,reporting1,3,FALSE)),\"\",VLOOKUP(A115,reporting1,3,FALSE)))","v":""},{"$f":"IF(ISBLANK(VLOOKUP(A115,reporting1,4,FALSE)),\"\",IF(ISNA(VLOOKUP(A115,reporting1,4,FALSE)),\"\",VLOOKUP(A115,reporting1,4,FALSE)))","v":""},{"$f":"IF(ISBLANK(VLOOKUP(A115,reporting2,2,FALSE)),\"\",IF(ISNA(VLOOKUP(A115,reporting2,2,FALSE)),\"\",VLOOKUP(A115,reporting2,2,FALSE)))","v":""},{"$f":"IF(ISBLANK(VLOOKUP(A115,reporting2,3,FALSE)),\"\",IF(ISNA(VLOOKUP(A115,reporting2,3,FALSE)),\"\",VLOOKUP(A115,reporting2,3,FALSE)))","v":""},{"$f":"IF(ISBLANK(VLOOKUP(A115,reporting2,4,FALSE)),\"\",IF(ISNA(VLOOKUP(A115,reporting2,4,FALSE)),\"\",VLOOKUP(A115,reporting2,4,FALSE)))","v":""},{"$f":"IF(ISBLANK(VLOOKUP(A115,reporting3,2,FALSE)),\"\",IF(ISNA(VLOOKUP(A115,reporting3,2,FALSE)),\"\",VLOOKUP(A115,reporting3,2,FALSE)))","v":""},{"$f":"IF(ISBLANK(VLOOKUP(A115,reporting3,3,FALSE)),\"\",IF(ISNA(VLOOKUP(A115,reporting3,3,FALSE)),\"\",VLOOKUP(A115,reporting3,3,FALSE)))","v":""},{"$f":"IF(ISBLANK(VLOOKUP(A115,reporting3,4,FALSE)),\"\",IF(ISNA(VLOOKUP(A115,reporting3,4,FALSE)),\"\",VLOOKUP(A115,reporting3,4,FALSE)))","v":""},{"$f":"IF(ISBLANK(VLOOKUP(A115,reporting4,2,FALSE)),\"\",IF(ISNA(VLOOKUP(A115,reporting4,2,FALSE)),\"\",VLOOKUP(A115,reporting4,2,FALSE)))","v":""},{"$f":"IF(ISBLANK(VLOOKUP(A115,reporting4,3,FALSE)),\"\",IF(ISNA(VLOOKUP(A115,reporting4,3,FALSE)),\"\",VLOOKUP(A115,reporting4,3,FALSE)))","v":""},{"$f":"IF(ISBLANK(VLOOKUP(A115,reporting4,4,FALSE)),\"\",IF(ISNA(VLOOKUP(A115,reporting4,4,FALSE)),\"\",VLOOKUP(A115,reporting4,4,FALSE)))","v":""},{"$f":"IF(ISBLANK(VLOOKUP(A115,reportin5,2,FALSE)),\"\",IF(ISNA(VLOOKUP(A115,reporting5,2,FALSE)),\"\",VLOOKUP(A115,reporting5,2,FALSE)))","v":""},{"$f":"IF(ISBLANK(VLOOKUP(A115,reporting5,3,FALSE)),\"\",IF(ISNA(VLOOKUP(A115,reporting5,3,FALSE)),\"\",VLOOKUP(A115,reporting5,3,FALSE)))","v":""},{"$f":"IF(ISBLANK(VLOOKUP(A115,reporting5,4,FALSE)),\"\",IF(ISNA(VLOOKUP(A115,reporting5,4,FALSE)),\"\",VLOOKUP(A115,reporting5,4,FALSE)))","v":""}]
[null,{"$f":"IF(ISBLANK(VLOOKUP(A116,reporting1,2,FALSE)),\"\",IF(ISNA(VLOOKUP(A116,reporting1,2,FALSE)),\"\",VLOOKUP(A116,reporting1,2,FALSE)))","v":""},{"$f":"IF(ISBLANK(VLOOKUP(A116,reporting1,3,FALSE)),\"\",IF(ISNA(VLOOKUP(A116,reporting1,3,FALSE)),\"\",VLOOKUP(A116,reporting1,3,FALSE)))","v":""},{"$f":"IF(ISBLANK(VLOOKUP(A116,reporting1,4,FALSE)),\"\",IF(ISNA(VLOOKUP(A116,reporting1,4,FALSE)),\"\",VLOOKUP(A116,reporting1,4,FALSE)))","v":""},{"$f":"IF(ISBLANK(VLOOKUP(A116,reporting2,2,FALSE)),\"\",IF(ISNA(VLOOKUP(A116,reporting2,2,FALSE)),\"\",VLOOKUP(A116,reporting2,2,FALSE)))","v":""},{"$f":"IF(ISBLANK(VLOOKUP(A116,reporting2,3,FALSE)),\"\",IF(ISNA(VLOOKUP(A116,reporting2,3,FALSE)),\"\",VLOOKUP(A116,reporting2,3,FALSE)))","v":""},{"$f":"IF(ISBLANK(VLOOKUP(A116,reporting2,4,FALSE)),\"\",IF(ISNA(VLOOKUP(A116,reporting2,4,FALSE)),\"\",VLOOKUP(A116,reporting2,4,FALSE)))","v":""},{"$f":"IF(ISBLANK(VLOOKUP(A116,reporting3,2,FALSE)),\"\",IF(ISNA(VLOOKUP(A116,reporting3,2,FALSE)),\"\",VLOOKUP(A116,reporting3,2,FALSE)))","v":""},{"$f":"IF(ISBLANK(VLOOKUP(A116,reporting3,3,FALSE)),\"\",IF(ISNA(VLOOKUP(A116,reporting3,3,FALSE)),\"\",VLOOKUP(A116,reporting3,3,FALSE)))","v":""},{"$f":"IF(ISBLANK(VLOOKUP(A116,reporting3,4,FALSE)),\"\",IF(ISNA(VLOOKUP(A116,reporting3,4,FALSE)),\"\",VLOOKUP(A116,reporting3,4,FALSE)))","v":""},{"$f":"IF(ISBLANK(VLOOKUP(A116,reporting4,2,FALSE)),\"\",IF(ISNA(VLOOKUP(A116,reporting4,2,FALSE)),\"\",VLOOKUP(A116,reporting4,2,FALSE)))","v":""},{"$f":"IF(ISBLANK(VLOOKUP(A116,reporting4,3,FALSE)),\"\",IF(ISNA(VLOOKUP(A116,reporting4,3,FALSE)),\"\",VLOOKUP(A116,reporting4,3,FALSE)))","v":""},{"$f":"IF(ISBLANK(VLOOKUP(A116,reporting4,4,FALSE)),\"\",IF(ISNA(VLOOKUP(A116,reporting4,4,FALSE)),\"\",VLOOKUP(A116,reporting4,4,FALSE)))","v":""},{"$f":"IF(ISBLANK(VLOOKUP(A116,reportin5,2,FALSE)),\"\",IF(ISNA(VLOOKUP(A116,reporting5,2,FALSE)),\"\",VLOOKUP(A116,reporting5,2,FALSE)))","v":""},{"$f":"IF(ISBLANK(VLOOKUP(A116,reporting5,3,FALSE)),\"\",IF(ISNA(VLOOKUP(A116,reporting5,3,FALSE)),\"\",VLOOKUP(A116,reporting5,3,FALSE)))","v":""},{"$f":"IF(ISBLANK(VLOOKUP(A116,reporting5,4,FALSE)),\"\",IF(ISNA(VLOOKUP(A116,reporting5,4,FALSE)),\"\",VLOOKUP(A116,reporting5,4,FALSE)))","v":""}]
[null,{"$f":"IF(ISBLANK(VLOOKUP(A117,reporting1,2,FALSE)),\"\",IF(ISNA(VLOOKUP(A117,reporting1,2,FALSE)),\"\",VLOOKUP(A117,reporting1,2,FALSE)))","v":""},{"$f":"IF(ISBLANK(VLOOKUP(A117,reporting1,3,FALSE)),\"\",IF(ISNA(VLOOKUP(A117,reporting1,3,FALSE)),\"\",VLOOKUP(A117,reporting1,3,FALSE)))","v":""},{"$f":"IF(ISBLANK(VLOOKUP(A117,reporting1,4,FALSE)),\"\",IF(ISNA(VLOOKUP(A117,reporting1,4,FALSE)),\"\",VLOOKUP(A117,reporting1,4,FALSE)))","v":""},{"$f":"IF(ISBLANK(VLOOKUP(A117,reporting2,2,FALSE)),\"\",IF(ISNA(VLOOKUP(A117,reporting2,2,FALSE)),\"\",VLOOKUP(A117,reporting2,2,FALSE)))","v":""},{"$f":"IF(ISBLANK(VLOOKUP(A117,reporting2,3,FALSE)),\"\",IF(ISNA(VLOOKUP(A117,reporting2,3,FALSE)),\"\",VLOOKUP(A117,reporting2,3,FALSE)))","v":""},{"$f":"IF(ISBLANK(VLOOKUP(A117,reporting2,4,FALSE)),\"\",IF(ISNA(VLOOKUP(A117,reporting2,4,FALSE)),\"\",VLOOKUP(A117,reporting2,4,FALSE)))","v":""},{"$f":"IF(ISBLANK(VLOOKUP(A117,reporting3,2,FALSE)),\"\",IF(ISNA(VLOOKUP(A117,reporting3,2,FALSE)),\"\",VLOOKUP(A117,reporting3,2,FALSE)))","v":""},{"$f":"IF(ISBLANK(VLOOKUP(A117,reporting3,3,FALSE)),\"\",IF(ISNA(VLOOKUP(A117,reporting3,3,FALSE)),\"\",VLOOKUP(A117,reporting3,3,FALSE)))","v":""},{"$f":"IF(ISBLANK(VLOOKUP(A117,reporting3,4,FALSE)),\"\",IF(ISNA(VLOOKUP(A117,reporting3,4,FALSE)),\"\",VLOOKUP(A117,reporting3,4,FALSE)))","v":""},{"$f":"IF(ISBLANK(VLOOKUP(A117,reporting4,2,FALSE)),\"\",IF(ISNA(VLOOKUP(A117,reporting4,2,FALSE)),\"\",VLOOKUP(A117,reporting4,2,FALSE)))","v":""},{"$f":"IF(ISBLANK(VLOOKUP(A117,reporting4,3,FALSE)),\"\",IF(ISNA(VLOOKUP(A117,reporting4,3,FALSE)),\"\",VLOOKUP(A117,reporting4,3,FALSE)))","v":""},{"$f":"IF(ISBLANK(VLOOKUP(A117,reporting4,4,FALSE)),\"\",IF(ISNA(VLOOKUP(A117,reporting4,4,FALSE)),\"\",VLOOKUP(A117,reporting4,4,FALSE)))","v":""},{"$f":"IF(ISBLANK(VLOOKUP(A117,reportin5,2,FALSE)),\"\",IF(ISNA(VLOOKUP(A117,reporting5,2,FALSE)),\"\",VLOOKUP(A117,reporting5,2,FALSE)))","v":""},{"$f":"IF(ISBLANK(VLOOKUP(A117,reporting5,3,FALSE)),\"\",IF(ISNA(VLOOKUP(A117,reporting5,3,FALSE)),\"\",VLOOKUP(A117,reporting5,3,FALSE)))","v":""},{"$f":"IF(ISBLANK(VLOOKUP(A117,reporting5,4,FALSE)),\"\",IF(ISNA(VLOOKUP(A117,reporting5,4,FALSE)),\"\",VLOOKUP(A117,reporting5,4,FALSE)))","v":""}]
[null,{"$f":"IF(ISBLANK(VLOOKUP(A118,reporting1,2,FALSE)),\"\",IF(ISNA(VLOOKUP(A118,reporting1,2,FALSE)),\"\",VLOOKUP(A118,reporting1,2,FALSE)))","v":""},{"$f":"IF(ISBLANK(VLOOKUP(A118,reporting1,3,FALSE)),\"\",IF(ISNA(VLOOKUP(A118,reporting1,3,FALSE)),\"\",VLOOKUP(A118,reporting1,3,FALSE)))","v":""},{"$f":"IF(ISBLANK(VLOOKUP(A118,reporting1,4,FALSE)),\"\",IF(ISNA(VLOOKUP(A118,reporting1,4,FALSE)),\"\",VLOOKUP(A118,reporting1,4,FALSE)))","v":""},{"$f":"IF(ISBLANK(VLOOKUP(A118,reporting2,2,FALSE)),\"\",IF(ISNA(VLOOKUP(A118,reporting2,2,FALSE)),\"\",VLOOKUP(A118,reporting2,2,FALSE)))","v":""},{"$f":"IF(ISBLANK(VLOOKUP(A118,reporting2,3,FALSE)),\"\",IF(ISNA(VLOOKUP(A118,reporting2,3,FALSE)),\"\",VLOOKUP(A118,reporting2,3,FALSE)))","v":""},{"$f":"IF(ISBLANK(VLOOKUP(A118,reporting2,4,FALSE)),\"\",IF(ISNA(VLOOKUP(A118,reporting2,4,FALSE)),\"\",VLOOKUP(A118,reporting2,4,FALSE)))","v":""},{"$f":"IF(ISBLANK(VLOOKUP(A118,reporting3,2,FALSE)),\"\",IF(ISNA(VLOOKUP(A118,reporting3,2,FALSE)),\"\",VLOOKUP(A118,reporting3,2,FALSE)))","v":""},{"$f":"IF(ISBLANK(VLOOKUP(A118,reporting3,3,FALSE)),\"\",IF(ISNA(VLOOKUP(A118,reporting3,3,FALSE)),\"\",VLOOKUP(A118,reporting3,3,FALSE)))","v":""},{"$f":"IF(ISBLANK(VLOOKUP(A118,reporting3,4,FALSE)),\"\",IF(ISNA(VLOOKUP(A118,reporting3,4,FALSE)),\"\",VLOOKUP(A118,reporting3,4,FALSE)))","v":""},{"$f":"IF(ISBLANK(VLOOKUP(A118,reporting4,2,FALSE)),\"\",IF(ISNA(VLOOKUP(A118,reporting4,2,FALSE)),\"\",VLOOKUP(A118,reporting4,2,FALSE)))","v":""},{"$f":"IF(ISBLANK(VLOOKUP(A118,reporting4,3,FALSE)),\"\",IF(ISNA(VLOOKUP(A118,reporting4,3,FALSE)),\"\",VLOOKUP(A118,reporting4,3,FALSE)))","v":""},{"$f":"IF(ISBLANK(VLOOKUP(A118,reporting4,4,FALSE)),\"\",IF(ISNA(VLOOKUP(A118,reporting4,4,FALSE)),\"\",VLOOKUP(A118,reporting4,4,FALSE)))","v":""},{"$f":"IF(ISBLANK(VLOOKUP(A118,reportin5,2,FALSE)),\"\",IF(ISNA(VLOOKUP(A118,reporting5,2,FALSE)),\"\",VLOOKUP(A118,reporting5,2,FALSE)))","v":""},{"$f":"IF(ISBLANK(VLOOKUP(A118,reporting5,3,FALSE)),\"\",IF(ISNA(VLOOKUP(A118,reporting5,3,FALSE)),\"\",VLOOKUP(A118,reporting5,3,FALSE)))","v":""},{"$f":"IF(ISBLANK(VLOOKUP(A118,reporting5,4,FALSE)),\"\",IF(ISNA(VLOOKUP(A118,reporting5,4,FALSE)),\"\",VLOOKUP(A118,reporting5,4,FALSE)))","v":""}]
[null,{"$f":"IF(ISBLANK(VLOOKUP(A119,reporting1,2,FALSE)),\"\",IF(ISNA(VLOOKUP(A119,reporting1,2,FALSE)),\"\",VLOOKUP(A119,reporting1,2,FALSE)))","v":""},{"$f":"IF(ISBLANK(VLOOKUP(A119,reporting1,3,FALSE)),\"\",IF(ISNA(VLOOKUP(A119,reporting1,3,FALSE)),\"\",VLOOKUP(A119,reporting1,3,FALSE)))","v":""},{"$f":"IF(ISBLANK(VLOOKUP(A119,reporting1,4,FALSE)),\"\",IF(ISNA(VLOOKUP(A119,reporting1,4,FALSE)),\"\",VLOOKUP(A119,reporting1,4,FALSE)))","v":""},{"$f":"IF(ISBLANK(VLOOKUP(A119,reporting2,2,FALSE)),\"\",IF(ISNA(VLOOKUP(A119,reporting2,2,FALSE)),\"\",VLOOKUP(A119,reporting2,2,FALSE)))","v":""},{"$f":"IF(ISBLANK(VLOOKUP(A119,reporting2,3,FALSE)),\"\",IF(ISNA(VLOOKUP(A119,reporting2,3,FALSE)),\"\",VLOOKUP(A119,reporting2,3,FALSE)))","v":""},{"$f":"IF(ISBLANK(VLOOKUP(A119,reporting2,4,FALSE)),\"\",IF(ISNA(VLOOKUP(A119,reporting2,4,FALSE)),\"\",VLOOKUP(A119,reporting2,4,FALSE)))","v":""},{"$f":"IF(ISBLANK(VLOOKUP(A119,reporting3,2,FALSE)),\"\",IF(ISNA(VLOOKUP(A119,reporting3,2,FALSE)),\"\",VLOOKUP(A119,reporting3,2,FALSE)))","v":""},{"$f":"IF(ISBLANK(VLOOKUP(A119,reporting3,3,FALSE)),\"\",IF(ISNA(VLOOKUP(A119,reporting3,3,FALSE)),\"\",VLOOKUP(A119,reporting3,3,FALSE)))","v":""},{"$f":"IF(ISBLANK(VLOOKUP(A119,reporting3,4,FALSE)),\"\",IF(ISNA(VLOOKUP(A119,reporting3,4,FALSE)),\"\",VLOOKUP(A119,reporting3,4,FALSE)))","v":""},{"$f":"IF(ISBLANK(VLOOKUP(A119,reporting4,2,FALSE)),\"\",IF(ISNA(VLOOKUP(A119,reporting4,2,FALSE)),\"\",VLOOKUP(A119,reporting4,2,FALSE)))","v":""},{"$f":"IF(ISBLANK(VLOOKUP(A119,reporting4,3,FALSE)),\"\",IF(ISNA(VLOOKUP(A119,reporting4,3,FALSE)),\"\",VLOOKUP(A119,reporting4,3,FALSE)))","v":""},{"$f":"IF(ISBLANK(VLOOKUP(A119,reporting4,4,FALSE)),\"\",IF(ISNA(VLOOKUP(A119,reporting4,4,FALSE)),\"\",VLOOKUP(A119,reporting4,4,FALSE)))","v":""},{"$f":"IF(ISBLANK(VLOOKUP(A119,reportin5,2,FALSE)),\"\",IF(ISNA(VLOOKUP(A119,reporting5,2,FALSE)),\"\",VLOOKUP(A119,reporting5,2,FALSE)))","v":""},{"$f":"IF(ISBLANK(VLOOKUP(A119,reporting5,3,FALSE)),\"\",IF(ISNA(VLOOKUP(A119,reporting5,3,FALSE)),\"\",VLOOKUP(A119,reporting5,3,FALSE)))","v":""},{"$f":"IF(ISBLANK(VLOOKUP(A119,reporting5,4,FALSE)),\"\",IF(ISNA(VLOOKUP(A119,reporting5,4,FALSE)),\"\",VLOOKUP(A119,reporting5,4,FALSE)))","v":""}]
[null,{"$f":"IF(ISBLANK(VLOOKUP(A120,reporting1,2,FALSE)),\"\",IF(ISNA(VLOOKUP(A120,reporting1,2,FALSE)),\"\",VLOOKUP(A120,reporting1,2,FALSE)))","v":""},{"$f":"IF(ISBLANK(VLOOKUP(A120,reporting1,3,FALSE)),\"\",IF(ISNA(VLOOKUP(A120,reporting1,3,FALSE)),\"\",VLOOKUP(A120,reporting1,3,FALSE)))","v":""},{"$f":"IF(ISBLANK(VLOOKUP(A120,reporting1,4,FALSE)),\"\",IF(ISNA(VLOOKUP(A120,reporting1,4,FALSE)),\"\",VLOOKUP(A120,reporting1,4,FALSE)))","v":""},{"$f":"IF(ISBLANK(VLOOKUP(A120,reporting2,2,FALSE)),\"\",IF(ISNA(VLOOKUP(A120,reporting2,2,FALSE)),\"\",VLOOKUP(A120,reporting2,2,FALSE)))","v":""},{"$f":"IF(ISBLANK(VLOOKUP(A120,reporting2,3,FALSE)),\"\",IF(ISNA(VLOOKUP(A120,reporting2,3,FALSE)),\"\",VLOOKUP(A120,reporting2,3,FALSE)))","v":""},{"$f":"IF(ISBLANK(VLOOKUP(A120,reporting2,4,FALSE)),\"\",IF(ISNA(VLOOKUP(A120,reporting2,4,FALSE)),\"\",VLOOKUP(A120,reporting2,4,FALSE)))","v":""},{"$f":"IF(ISBLANK(VLOOKUP(A120,reporting3,2,FALSE)),\"\",IF(ISNA(VLOOKUP(A120,reporting3,2,FALSE)),\"\",VLOOKUP(A120,reporting3,2,FALSE)))","v":""},{"$f":"IF(ISBLANK(VLOOKUP(A120,reporting3,3,FALSE)),\"\",IF(ISNA(VLOOKUP(A120,reporting3,3,FALSE)),\"\",VLOOKUP(A120,reporting3,3,FALSE)))","v":""},{"$f":"IF(ISBLANK(VLOOKUP(A120,reporting3,4,FALSE)),\"\",IF(ISNA(VLOOKUP(A120,reporting3,4,FALSE)),\"\",VLOOKUP(A120,reporting3,4,FALSE)))","v":""},{"$f":"IF(ISBLANK(VLOOKUP(A120,reporting4,2,FALSE)),\"\",IF(ISNA(VLOOKUP(A120,reporting4,2,FALSE)),\"\",VLOOKUP(A120,reporting4,2,FALSE)))","v":""},{"$f":"IF(ISBLANK(VLOOKUP(A120,reporting4,3,FALSE)),\"\",IF(ISNA(VLOOKUP(A120,reporting4,3,FALSE)),\"\",VLOOKUP(A120,reporting4,3,FALSE)))","v":""},{"$f":"IF(ISBLANK(VLOOKUP(A120,reporting4,4,FALSE)),\"\",IF(ISNA(VLOOKUP(A120,reporting4,4,FALSE)),\"\",VLOOKUP(A120,reporting4,4,FALSE)))","v":""},{"$f":"IF(ISBLANK(VLOOKUP(A120,reportin5,2,FALSE)),\"\",IF(ISNA(VLOOKUP(A120,reporting5,2,FALSE)),\"\",VLOOKUP(A120,reporting5,2,FALSE)))","v":""},{"$f":"IF(ISBLANK(VLOOKUP(A120,reporting5,3,FALSE)),\"\",IF(ISNA(VLOOKUP(A120,reporting5,3,FALSE)),\"\",VLOOKUP(A120,reporting5,3,FALSE)))","v":""},{"$f":"IF(ISBLANK(VLOOKUP(A120,reporting5,4,FALSE)),\"\",IF(ISNA(VLOOKUP(A120,reporting5,4,FALSE)),\"\",VLOOKUP(A120,reporting5,4,FALSE)))","v":""}]
[null,{"$f":"IF(ISBLANK(VLOOKUP(A121,reporting1,2,FALSE)),\"\",IF(ISNA(VLOOKUP(A121,reporting1,2,FALSE)),\"\",VLOOKUP(A121,reporting1,2,FALSE)))","v":""},{"$f":"IF(ISBLANK(VLOOKUP(A121,reporting1,3,FALSE)),\"\",IF(ISNA(VLOOKUP(A121,reporting1,3,FALSE)),\"\",VLOOKUP(A121,reporting1,3,FALSE)))","v":""},{"$f":"IF(ISBLANK(VLOOKUP(A121,reporting1,4,FALSE)),\"\",IF(ISNA(VLOOKUP(A121,reporting1,4,FALSE)),\"\",VLOOKUP(A121,reporting1,4,FALSE)))","v":""},{"$f":"IF(ISBLANK(VLOOKUP(A121,reporting2,2,FALSE)),\"\",IF(ISNA(VLOOKUP(A121,reporting2,2,FALSE)),\"\",VLOOKUP(A121,reporting2,2,FALSE)))","v":""},{"$f":"IF(ISBLANK(VLOOKUP(A121,reporting2,3,FALSE)),\"\",IF(ISNA(VLOOKUP(A121,reporting2,3,FALSE)),\"\",VLOOKUP(A121,reporting2,3,FALSE)))","v":""},{"$f":"IF(ISBLANK(VLOOKUP(A121,reporting2,4,FALSE)),\"\",IF(ISNA(VLOOKUP(A121,reporting2,4,FALSE)),\"\",VLOOKUP(A121,reporting2,4,FALSE)))","v":""},{"$f":"IF(ISBLANK(VLOOKUP(A121,reporting3,2,FALSE)),\"\",IF(ISNA(VLOOKUP(A121,reporting3,2,FALSE)),\"\",VLOOKUP(A121,reporting3,2,FALSE)))","v":""},{"$f":"IF(ISBLANK(VLOOKUP(A121,reporting3,3,FALSE)),\"\",IF(ISNA(VLOOKUP(A121,reporting3,3,FALSE)),\"\",VLOOKUP(A121,reporting3,3,FALSE)))","v":""},{"$f":"IF(ISBLANK(VLOOKUP(A121,reporting3,4,FALSE)),\"\",IF(ISNA(VLOOKUP(A121,reporting3,4,FALSE)),\"\",VLOOKUP(A121,reporting3,4,FALSE)))","v":""},{"$f":"IF(ISBLANK(VLOOKUP(A121,reporting4,2,FALSE)),\"\",IF(ISNA(VLOOKUP(A121,reporting4,2,FALSE)),\"\",VLOOKUP(A121,reporting4,2,FALSE)))","v":""},{"$f":"IF(ISBLANK(VLOOKUP(A121,reporting4,3,FALSE)),\"\",IF(ISNA(VLOOKUP(A121,reporting4,3,FALSE)),\"\",VLOOKUP(A121,reporting4,3,FALSE)))","v":""},{"$f":"IF(ISBLANK(VLOOKUP(A121,reporting4,4,FALSE)),\"\",IF(ISNA(VLOOKUP(A121,reporting4,4,FALSE)),\"\",VLOOKUP(A121,reporting4,4,FALSE)))","v":""},{"$f":"IF(ISBLANK(VLOOKUP(A121,reportin5,2,FALSE)),\"\",IF(ISNA(VLOOKUP(A121,reporting5,2,FALSE)),\"\",VLOOKUP(A121,reporting5,2,FALSE)))","v":""},{"$f":"IF(ISBLANK(VLOOKUP(A121,reporting5,3,FALSE)),\"\",IF(ISNA(VLOOKUP(A121,reporting5,3,FALSE)),\"\",VLOOKUP(A121,reporting5,3,FALSE)))","v":""},{"$f":"IF(ISBLANK(VLOOKUP(A121,reporting5,4,FALSE)),\"\",IF(ISNA(VLOOKUP(A121,reporting5,4,FALSE)),\"\",VLOOKUP(A121,reporting5,4,FALSE)))","v":""}]
[null,{"$f":"IF(ISBLANK(VLOOKUP(A122,reporting1,2,FALSE)),\"\",IF(ISNA(VLOOKUP(A122,reporting1,2,FALSE)),\"\",VLOOKUP(A122,reporting1,2,FALSE)))","v":""},{"$f":"IF(ISBLANK(VLOOKUP(A122,reporting1,3,FALSE)),\"\",IF(ISNA(VLOOKUP(A122,reporting1,3,FALSE)),\"\",VLOOKUP(A122,reporting1,3,FALSE)))","v":""},{"$f":"IF(ISBLANK(VLOOKUP(A122,reporting1,4,FALSE)),\"\",IF(ISNA(VLOOKUP(A122,reporting1,4,FALSE)),\"\",VLOOKUP(A122,reporting1,4,FALSE)))","v":""},{"$f":"IF(ISBLANK(VLOOKUP(A122,reporting2,2,FALSE)),\"\",IF(ISNA(VLOOKUP(A122,reporting2,2,FALSE)),\"\",VLOOKUP(A122,reporting2,2,FALSE)))","v":""},{"$f":"IF(ISBLANK(VLOOKUP(A122,reporting2,3,FALSE)),\"\",IF(ISNA(VLOOKUP(A122,reporting2,3,FALSE)),\"\",VLOOKUP(A122,reporting2,3,FALSE)))","v":""},{"$f":"IF(ISBLANK(VLOOKUP(A122,reporting2,4,FALSE)),\"\",IF(ISNA(VLOOKUP(A122,reporting2,4,FALSE)),\"\",VLOOKUP(A122,reporting2,4,FALSE)))","v":""},{"$f":"IF(ISBLANK(VLOOKUP(A122,reporting3,2,FALSE)),\"\",IF(ISNA(VLOOKUP(A122,reporting3,2,FALSE)),\"\",VLOOKUP(A122,reporting3,2,FALSE)))","v":""},{"$f":"IF(ISBLANK(VLOOKUP(A122,reporting3,3,FALSE)),\"\",IF(ISNA(VLOOKUP(A122,reporting3,3,FALSE)),\"\",VLOOKUP(A122,reporting3,3,FALSE)))","v":""},{"$f":"IF(ISBLANK(VLOOKUP(A122,reporting3,4,FALSE)),\"\",IF(ISNA(VLOOKUP(A122,reporting3,4,FALSE)),\"\",VLOOKUP(A122,reporting3,4,FALSE)))","v":""},{"$f":"IF(ISBLANK(VLOOKUP(A122,reporting4,2,FALSE)),\"\",IF(ISNA(VLOOKUP(A122,reporting4,2,FALSE)),\"\",VLOOKUP(A122,reporting4,2,FALSE)))","v":""},{"$f":"IF(ISBLANK(VLOOKUP(A122,reporting4,3,FALSE)),\"\",IF(ISNA(VLOOKUP(A122,reporting4,3,FALSE)),\"\",VLOOKUP(A122,reporting4,3,FALSE)))","v":""},{"$f":"IF(ISBLANK(VLOOKUP(A122,reporting4,4,FALSE)),\"\",IF(ISNA(VLOOKUP(A122,reporting4,4,FALSE)),\"\",VLOOKUP(A122,reporting4,4,FALSE)))","v":""},{"$f":"IF(ISBLANK(VLOOKUP(A122,reportin5,2,FALSE)),\"\",IF(ISNA(VLOOKUP(A122,reporting5,2,FALSE)),\"\",VLOOKUP(A122,reporting5,2,FALSE)))","v":""},{"$f":"IF(ISBLANK(VLOOKUP(A122,reporting5,3,FALSE)),\"\",IF(ISNA(VLOOKUP(A122,reporting5,3,FALSE)),\"\",VLOOKUP(A122,reporting5,3,FALSE)))","v":""},{"$f":"IF(ISBLANK(VLOOKUP(A122,reporting5,4,FALSE)),\"\",IF(ISNA(VLOOKUP(A122,reporting5,4,FALSE)),\"\",VLOOKUP(A122,reporting5,4,FALSE)))","v":""}]
[null,{"$f":"IF(ISBLANK(VLOOKUP(A123,reporting1,2,FALSE)),\"\",IF(ISNA(VLOOKUP(A123,reporting1,2,FALSE)),\"\",VLOOKUP(A123,reporting1,2,FALSE)))","v":""},{"$f":"IF(ISBLANK(VLOOKUP(A123,reporting1,3,FALSE)),\"\",IF(ISNA(VLOOKUP(A123,reporting1,3,FALSE)),\"\",VLOOKUP(A123,reporting1,3,FALSE)))","v":""},{"$f":"IF(ISBLANK(VLOOKUP(A123,reporting1,4,FALSE)),\"\",IF(ISNA(VLOOKUP(A123,reporting1,4,FALSE)),\"\",VLOOKUP(A123,reporting1,4,FALSE)))","v":""},{"$f":"IF(ISBLANK(VLOOKUP(A123,reporting2,2,FALSE)),\"\",IF(ISNA(VLOOKUP(A123,reporting2,2,FALSE)),\"\",VLOOKUP(A123,reporting2,2,FALSE)))","v":""},{"$f":"IF(ISBLANK(VLOOKUP(A123,reporting2,3,FALSE)),\"\",IF(ISNA(VLOOKUP(A123,reporting2,3,FALSE)),\"\",VLOOKUP(A123,reporting2,3,FALSE)))","v":""},{"$f":"IF(ISBLANK(VLOOKUP(A123,reporting2,4,FALSE)),\"\",IF(ISNA(VLOOKUP(A123,reporting2,4,FALSE)),\"\",VLOOKUP(A123,reporting2,4,FALSE)))","v":""},{"$f":"IF(ISBLANK(VLOOKUP(A123,reporting3,2,FALSE)),\"\",IF(ISNA(VLOOKUP(A123,reporting3,2,FALSE)),\"\",VLOOKUP(A123,reporting3,2,FALSE)))","v":""},{"$f":"IF(ISBLANK(VLOOKUP(A123,reporting3,3,FALSE)),\"\",IF(ISNA(VLOOKUP(A123,reporting3,3,FALSE)),\"\",VLOOKUP(A123,reporting3,3,FALSE)))","v":""},{"$f":"IF(ISBLANK(VLOOKUP(A123,reporting3,4,FALSE)),\"\",IF(ISNA(VLOOKUP(A123,reporting3,4,FALSE)),\"\",VLOOKUP(A123,reporting3,4,FALSE)))","v":""},{"$f":"IF(ISBLANK(VLOOKUP(A123,reporting4,2,FALSE)),\"\",IF(ISNA(VLOOKUP(A123,reporting4,2,FALSE)),\"\",VLOOKUP(A123,reporting4,2,FALSE)))","v":""},{"$f":"IF(ISBLANK(VLOOKUP(A123,reporting4,3,FALSE)),\"\",IF(ISNA(VLOOKUP(A123,reporting4,3,FALSE)),\"\",VLOOKUP(A123,reporting4,3,FALSE)))","v":""},{"$f":"IF(ISBLANK(VLOOKUP(A123,reporting4,4,FALSE)),\"\",IF(ISNA(VLOOKUP(A123,reporting4,4,FALSE)),\"\",VLOOKUP(A123,reporting4,4,FALSE)))","v":""},{"$f":"IF(ISBLANK(VLOOKUP(A123,reportin5,2,FALSE)),\"\",IF(ISNA(VLOOKUP(A123,reporting5,2,FALSE)),\"\",VLOOKUP(A123,reporting5,2,FALSE)))","v":""},{"$f":"IF(ISBLANK(VLOOKUP(A123,reporting5,3,FALSE)),\"\",IF(ISNA(VLOOKUP(A123,reporting5,3,FALSE)),\"\",VLOOKUP(A123,reporting5,3,FALSE)))","v":""},{"$f":"IF(ISBLANK(VLOOKUP(A123,reporting5,4,FALSE)),\"\",IF(ISNA(VLOOKUP(A123,reporting5,4,FALSE)),\"\",VLOOKUP(A123,reporting5,4,FALSE)))","v":""}]
[null,{"$f":"IF(ISBLANK(VLOOKUP(A124,reporting1,2,FALSE)),\"\",IF(ISNA(VLOOKUP(A124,reporting1,2,FALSE)),\"\",VLOOKUP(A124,reporting1,2,FALSE)))","v":""},{"$f":"IF(ISBLANK(VLOOKUP(A124,reporting1,3,FALSE)),\"\",IF(ISNA(VLOOKUP(A124,reporting1,3,FALSE)),\"\",VLOOKUP(A124,reporting1,3,FALSE)))","v":""},{"$f":"IF(ISBLANK(VLOOKUP(A124,reporting1,4,FALSE)),\"\",IF(ISNA(VLOOKUP(A124,reporting1,4,FALSE)),\"\",VLOOKUP(A124,reporting1,4,FALSE)))","v":""},{"$f":"IF(ISBLANK(VLOOKUP(A124,reporting2,2,FALSE)),\"\",IF(ISNA(VLOOKUP(A124,reporting2,2,FALSE)),\"\",VLOOKUP(A124,reporting2,2,FALSE)))","v":""},{"$f":"IF(ISBLANK(VLOOKUP(A124,reporting2,3,FALSE)),\"\",IF(ISNA(VLOOKUP(A124,reporting2,3,FALSE)),\"\",VLOOKUP(A124,reporting2,3,FALSE)))","v":""},{"$f":"IF(ISBLANK(VLOOKUP(A124,reporting2,4,FALSE)),\"\",IF(ISNA(VLOOKUP(A124,reporting2,4,FALSE)),\"\",VLOOKUP(A124,reporting2,4,FALSE)))","v":""},{"$f":"IF(ISBLANK(VLOOKUP(A124,reporting3,2,FALSE)),\"\",IF(ISNA(VLOOKUP(A124,reporting3,2,FALSE)),\"\",VLOOKUP(A124,reporting3,2,FALSE)))","v":""},{"$f":"IF(ISBLANK(VLOOKUP(A124,reporting3,3,FALSE)),\"\",IF(ISNA(VLOOKUP(A124,reporting3,3,FALSE)),\"\",VLOOKUP(A124,reporting3,3,FALSE)))","v":""},{"$f":"IF(ISBLANK(VLOOKUP(A124,reporting3,4,FALSE)),\"\",IF(ISNA(VLOOKUP(A124,reporting3,4,FALSE)),\"\",VLOOKUP(A124,reporting3,4,FALSE)))","v":""},{"$f":"IF(ISBLANK(VLOOKUP(A124,reporting4,2,FALSE)),\"\",IF(ISNA(VLOOKUP(A124,reporting4,2,FALSE)),\"\",VLOOKUP(A124,reporting4,2,FALSE)))","v":""},{"$f":"IF(ISBLANK(VLOOKUP(A124,reporting4,3,FALSE)),\"\",IF(ISNA(VLOOKUP(A124,reporting4,3,FALSE)),\"\",VLOOKUP(A124,reporting4,3,FALSE)))","v":""},{"$f":"IF(ISBLANK(VLOOKUP(A124,reporting4,4,FALSE)),\"\",IF(ISNA(VLOOKUP(A124,reporting4,4,FALSE)),\"\",VLOOKUP(A124,reporting4,4,FALSE)))","v":""},{"$f":"IF(ISBLANK(VLOOKUP(A124,reportin5,2,FALSE)),\"\",IF(ISNA(VLOOKUP(A124,reporting5,2,FALSE)),\"\",VLOOKUP(A124,reporting5,2,FALSE)))","v":""},{"$f":"IF(ISBLANK(VLOOKUP(A124,reporting5,3,FALSE)),\"\",IF(ISNA(VLOOKUP(A124,reporting5,3,FALSE)),\"\",VLOOKUP(A124,reporting5,3,FALSE)))","v":""},{"$f":"IF(ISBLANK(VLOOKUP(A124,reporting5,4,FALSE)),\"\",IF(ISNA(VLOOKUP(A124,reporting5,4,FALSE)),\"\",VLOOKUP(A124,reporting5,4,FALSE)))","v":""}]
[null,{"$f":"IF(ISBLANK(VLOOKUP(A125,reporting1,2,FALSE)),\"\",IF(ISNA(VLOOKUP(A125,reporting1,2,FALSE)),\"\",VLOOKUP(A125,reporting1,2,FALSE)))","v":""},{"$f":"IF(ISBLANK(VLOOKUP(A125,reporting1,3,FALSE)),\"\",IF(ISNA(VLOOKUP(A125,reporting1,3,FALSE)),\"\",VLOOKUP(A125,reporting1,3,FALSE)))","v":""},{"$f":"IF(ISBLANK(VLOOKUP(A125,reporting1,4,FALSE)),\"\",IF(ISNA(VLOOKUP(A125,reporting1,4,FALSE)),\"\",VLOOKUP(A125,reporting1,4,FALSE)))","v":""},{"$f":"IF(ISBLANK(VLOOKUP(A125,reporting2,2,FALSE)),\"\",IF(ISNA(VLOOKUP(A125,reporting2,2,FALSE)),\"\",VLOOKUP(A125,reporting2,2,FALSE)))","v":""},{"$f":"IF(ISBLANK(VLOOKUP(A125,reporting2,3,FALSE)),\"\",IF(ISNA(VLOOKUP(A125,reporting2,3,FALSE)),\"\",VLOOKUP(A125,reporting2,3,FALSE)))","v":""},{"$f":"IF(ISBLANK(VLOOKUP(A125,reporting2,4,FALSE)),\"\",IF(ISNA(VLOOKUP(A125,reporting2,4,FALSE)),\"\",VLOOKUP(A125,reporting2,4,FALSE)))","v":""},{"$f":"IF(ISBLANK(VLOOKUP(A125,reporting3,2,FALSE)),\"\",IF(ISNA(VLOOKUP(A125,reporting3,2,FALSE)),\"\",VLOOKUP(A125,reporting3,2,FALSE)))","v":""},{"$f":"IF(ISBLANK(VLOOKUP(A125,reporting3,3,FALSE)),\"\",IF(ISNA(VLOOKUP(A125,reporting3,3,FALSE)),\"\",VLOOKUP(A125,reporting3,3,FALSE)))","v":""},{"$f":"IF(ISBLANK(VLOOKUP(A125,reporting3,4,FALSE)),\"\",IF(ISNA(VLOOKUP(A125,reporting3,4,FALSE)),\"\",VLOOKUP(A125,reporting3,4,FALSE)))","v":""},{"$f":"IF(ISBLANK(VLOOKUP(A125,reporting4,2,FALSE)),\"\",IF(ISNA(VLOOKUP(A125,reporting4,2,FALSE)),\"\",VLOOKUP(A125,reporting4,2,FALSE)))","v":""},{"$f":"IF(ISBLANK(VLOOKUP(A125,reporting4,3,FALSE)),\"\",IF(ISNA(VLOOKUP(A125,reporting4,3,FALSE)),\"\",VLOOKUP(A125,reporting4,3,FALSE)))","v":""},{"$f":"IF(ISBLANK(VLOOKUP(A125,reporting4,4,FALSE)),\"\",IF(ISNA(VLOOKUP(A125,reporting4,4,FALSE)),\"\",VLOOKUP(A125,reporting4,4,FALSE)))","v":""},{"$f":"IF(ISBLANK(VLOOKUP(A125,reportin5,2,FALSE)),\"\",IF(ISNA(VLOOKUP(A125,reporting5,2,FALSE)),\"\",VLOOKUP(A125,reporting5,2,FALSE)))","v":""},{"$f":"IF(ISBLANK(VLOOKUP(A125,reporting5,3,FALSE)),\"\",IF(ISNA(VLOOKUP(A125,reporting5,3,FALSE)),\"\",VLOOKUP(A125,reporting5,3,FALSE)))","v":""},{"$f":"IF(ISBLANK(VLOOKUP(A125,reporting5,4,FALSE)),\"\",IF(ISNA(VLOOKUP(A125,reporting5,4,FALSE)),\"\",VLOOKUP(A125,reporting5,4,FALSE)))","v":""}]
[null,{"$f":"IF(ISBLANK(VLOOKUP(A126,reporting1,2,FALSE)),\"\",IF(ISNA(VLOOKUP(A126,reporting1,2,FALSE)),\"\",VLOOKUP(A126,reporting1,2,FALSE)))","v":""},{"$f":"IF(ISBLANK(VLOOKUP(A126,reporting1,3,FALSE)),\"\",IF(ISNA(VLOOKUP(A126,reporting1,3,FALSE)),\"\",VLOOKUP(A126,reporting1,3,FALSE)))","v":""},{"$f":"IF(ISBLANK(VLOOKUP(A126,reporting1,4,FALSE)),\"\",IF(ISNA(VLOOKUP(A126,reporting1,4,FALSE)),\"\",VLOOKUP(A126,reporting1,4,FALSE)))","v":""},{"$f":"IF(ISBLANK(VLOOKUP(A126,reporting2,2,FALSE)),\"\",IF(ISNA(VLOOKUP(A126,reporting2,2,FALSE)),\"\",VLOOKUP(A126,reporting2,2,FALSE)))","v":""},{"$f":"IF(ISBLANK(VLOOKUP(A126,reporting2,3,FALSE)),\"\",IF(ISNA(VLOOKUP(A126,reporting2,3,FALSE)),\"\",VLOOKUP(A126,reporting2,3,FALSE)))","v":""},{"$f":"IF(ISBLANK(VLOOKUP(A126,reporting2,4,FALSE)),\"\",IF(ISNA(VLOOKUP(A126,reporting2,4,FALSE)),\"\",VLOOKUP(A126,reporting2,4,FALSE)))","v":""},{"$f":"IF(ISBLANK(VLOOKUP(A126,reporting3,2,FALSE)),\"\",IF(ISNA(VLOOKUP(A126,reporting3,2,FALSE)),\"\",VLOOKUP(A126,reporting3,2,FALSE)))","v":""},{"$f":"IF(ISBLANK(VLOOKUP(A126,reporting3,3,FALSE)),\"\",IF(ISNA(VLOOKUP(A126,reporting3,3,FALSE)),\"\",VLOOKUP(A126,reporting3,3,FALSE)))","v":""},{"$f":"IF(ISBLANK(VLOOKUP(A126,reporting3,4,FALSE)),\"\",IF(ISNA(VLOOKUP(A126,reporting3,4,FALSE)),\"\",VLOOKUP(A126,reporting3,4,FALSE)))","v":""},{"$f":"IF(ISBLANK(VLOOKUP(A126,reporting4,2,FALSE)),\"\",IF(ISNA(VLOOKUP(A126,reporting4,2,FALSE)),\"\",VLOOKUP(A126,reporting4,2,FALSE)))","v":""},{"$f":"IF(ISBLANK(VLOOKUP(A126,reporting4,3,FALSE)),\"\",IF(ISNA(VLOOKUP(A126,reporting4,3,FALSE)),\"\",VLOOKUP(A126,reporting4,3,FALSE)))","v":""},{"$f":"IF(ISBLANK(VLOOKUP(A126,reporting4,4,FALSE)),\"\",IF(ISNA(VLOOKUP(A126,reporting4,4,FALSE)),\"\",VLOOKUP(A126,reporting4,4,FALSE)))","v":""},{"$f":"IF(ISBLANK(VLOOKUP(A126,reportin5,2,FALSE)),\"\",IF(ISNA(VLOOKUP(A126,reporting5,2,FALSE)),\"\",VLOOKUP(A126,reporting5,2,FALSE)))","v":""},{"$f":"IF(ISBLANK(VLOOKUP(A126,reporting5,3,FALSE)),\"\",IF(ISNA(VLOOKUP(A126,reporting5,3,FALSE)),\"\",VLOOKUP(A126,reporting5,3,FALSE)))","v":""},{"$f":"IF(ISBLANK(VLOOKUP(A126,reporting5,4,FALSE)),\"\",IF(ISNA(VLOOKUP(A126,reporting5,4,FALSE)),\"\",VLOOKUP(A126,reporting5,4,FALSE)))","v":""}]
[null,{"$f":"IF(ISBLANK(VLOOKUP(A127,reporting1,2,FALSE)),\"\",IF(ISNA(VLOOKUP(A127,reporting1,2,FALSE)),\"\",VLOOKUP(A127,reporting1,2,FALSE)))","v":""},{"$f":"IF(ISBLANK(VLOOKUP(A127,reporting1,3,FALSE)),\"\",IF(ISNA(VLOOKUP(A127,reporting1,3,FALSE)),\"\",VLOOKUP(A127,reporting1,3,FALSE)))","v":""},{"$f":"IF(ISBLANK(VLOOKUP(A127,reporting1,4,FALSE)),\"\",IF(ISNA(VLOOKUP(A127,reporting1,4,FALSE)),\"\",VLOOKUP(A127,reporting1,4,FALSE)))","v":""},{"$f":"IF(ISBLANK(VLOOKUP(A127,reporting2,2,FALSE)),\"\",IF(ISNA(VLOOKUP(A127,reporting2,2,FALSE)),\"\",VLOOKUP(A127,reporting2,2,FALSE)))","v":""},{"$f":"IF(ISBLANK(VLOOKUP(A127,reporting2,3,FALSE)),\"\",IF(ISNA(VLOOKUP(A127,reporting2,3,FALSE)),\"\",VLOOKUP(A127,reporting2,3,FALSE)))","v":""},{"$f":"IF(ISBLANK(VLOOKUP(A127,reporting2,4,FALSE)),\"\",IF(ISNA(VLOOKUP(A127,reporting2,4,FALSE)),\"\",VLOOKUP(A127,reporting2,4,FALSE)))","v":""},{"$f":"IF(ISBLANK(VLOOKUP(A127,reporting3,2,FALSE)),\"\",IF(ISNA(VLOOKUP(A127,reporting3,2,FALSE)),\"\",VLOOKUP(A127,reporting3,2,FALSE)))","v":""},{"$f":"IF(ISBLANK(VLOOKUP(A127,reporting3,3,FALSE)),\"\",IF(ISNA(VLOOKUP(A127,reporting3,3,FALSE)),\"\",VLOOKUP(A127,reporting3,3,FALSE)))","v":""},{"$f":"IF(ISBLANK(VLOOKUP(A127,reporting3,4,FALSE)),\"\",IF(ISNA(VLOOKUP(A127,reporting3,4,FALSE)),\"\",VLOOKUP(A127,reporting3,4,FALSE)))","v":""},{"$f":"IF(ISBLANK(VLOOKUP(A127,reporting4,2,FALSE)),\"\",IF(ISNA(VLOOKUP(A127,reporting4,2,FALSE)),\"\",VLOOKUP(A127,reporting4,2,FALSE)))","v":""},{"$f":"IF(ISBLANK(VLOOKUP(A127,reporting4,3,FALSE)),\"\",IF(ISNA(VLOOKUP(A127,reporting4,3,FALSE)),\"\",VLOOKUP(A127,reporting4,3,FALSE)))","v":""},{"$f":"IF(ISBLANK(VLOOKUP(A127,reporting4,4,FALSE)),\"\",IF(ISNA(VLOOKUP(A127,reporting4,4,FALSE)),\"\",VLOOKUP(A127,reporting4,4,FALSE)))","v":""},{"$f":"IF(ISBLANK(VLOOKUP(A127,reportin5,2,FALSE)),\"\",IF(ISNA(VLOOKUP(A127,reporting5,2,FALSE)),\"\",VLOOKUP(A127,reporting5,2,FALSE)))","v":""},{"$f":"IF(ISBLANK(VLOOKUP(A127,reporting5,3,FALSE)),\"\",IF(ISNA(VLOOKUP(A127,reporting5,3,FALSE)),\"\",VLOOKUP(A127,reporting5,3,FALSE)))","v":""},{"$f":"IF(ISBLANK(VLOOKUP(A127,reporting5,4,FALSE)),\"\",IF(ISNA(VLOOKUP(A127,reporting5,4,FALSE)),\"\",VLOOKUP(A127,reporting5,4,FALSE)))","v":""}]
[null,{"$f":"IF(ISBLANK(VLOOKUP(A128,reporting1,2,FALSE)),\"\",IF(ISNA(VLOOKUP(A128,reporting1,2,FALSE)),\"\",VLOOKUP(A128,reporting1,2,FALSE)))","v":""},{"$f":"IF(ISBLANK(VLOOKUP(A128,reporting1,3,FALSE)),\"\",IF(ISNA(VLOOKUP(A128,reporting1,3,FALSE)),\"\",VLOOKUP(A128,reporting1,3,FALSE)))","v":""},{"$f":"IF(ISBLANK(VLOOKUP(A128,reporting1,4,FALSE)),\"\",IF(ISNA(VLOOKUP(A128,reporting1,4,FALSE)),\"\",VLOOKUP(A128,reporting1,4,FALSE)))","v":""},{"$f":"IF(ISBLANK(VLOOKUP(A128,reporting2,2,FALSE)),\"\",IF(ISNA(VLOOKUP(A128,reporting2,2,FALSE)),\"\",VLOOKUP(A128,reporting2,2,FALSE)))","v":""},{"$f":"IF(ISBLANK(VLOOKUP(A128,reporting2,3,FALSE)),\"\",IF(ISNA(VLOOKUP(A128,reporting2,3,FALSE)),\"\",VLOOKUP(A128,reporting2,3,FALSE)))","v":""},{"$f":"IF(ISBLANK(VLOOKUP(A128,reporting2,4,FALSE)),\"\",IF(ISNA(VLOOKUP(A128,reporting2,4,FALSE)),\"\",VLOOKUP(A128,reporting2,4,FALSE)))","v":""},{"$f":"IF(ISBLANK(VLOOKUP(A128,reporting3,2,FALSE)),\"\",IF(ISNA(VLOOKUP(A128,reporting3,2,FALSE)),\"\",VLOOKUP(A128,reporting3,2,FALSE)))","v":""},{"$f":"IF(ISBLANK(VLOOKUP(A128,reporting3,3,FALSE)),\"\",IF(ISNA(VLOOKUP(A128,reporting3,3,FALSE)),\"\",VLOOKUP(A128,reporting3,3,FALSE)))","v":""},{"$f":"IF(ISBLANK(VLOOKUP(A128,reporting3,4,FALSE)),\"\",IF(ISNA(VLOOKUP(A128,reporting3,4,FALSE)),\"\",VLOOKUP(A128,reporting3,4,FALSE)))","v":""},{"$f":"IF(ISBLANK(VLOOKUP(A128,reporting4,2,FALSE)),\"\",IF(ISNA(VLOOKUP(A128,reporting4,2,FALSE)),\"\",VLOOKUP(A128,reporting4,2,FALSE)))","v":""},{"$f":"IF(ISBLANK(VLOOKUP(A128,reporting4,3,FALSE)),\"\",IF(ISNA(VLOOKUP(A128,reporting4,3,FALSE)),\"\",VLOOKUP(A128,reporting4,3,FALSE)))","v":""},{"$f":"IF(ISBLANK(VLOOKUP(A128,reporting4,4,FALSE)),\"\",IF(ISNA(VLOOKUP(A128,reporting4,4,FALSE)),\"\",VLOOKUP(A128,reporting4,4,FALSE)))","v":""},{"$f":"IF(ISBLANK(VLOOKUP(A128,reportin5,2,FALSE)),\"\",IF(ISNA(VLOOKUP(A128,reporting5,2,FALSE)),\"\",VLOOKUP(A128,reporting5,2,FALSE)))","v":""},{"$f":"IF(ISBLANK(VLOOKUP(A128,reporting5,3,FALSE)),\"\",IF(ISNA(VLOOKUP(A128,reporting5,3,FALSE)),\"\",VLOOKUP(A128,reporting5,3,FALSE)))","v":""},{"$f":"IF(ISBLANK(VLOOKUP(A128,reporting5,4,FALSE)),\"\",IF(ISNA(VLOOKUP(A128,reporting5,4,FALSE)),\"\",VLOOKUP(A128,reporting5,4,FALSE)))","v":""}]
[null,{"$f":"IF(ISBLANK(VLOOKUP(A129,reporting1,2,FALSE)),\"\",IF(ISNA(VLOOKUP(A129,reporting1,2,FALSE)),\"\",VLOOKUP(A129,reporting1,2,FALSE)))","v":""},{"$f":"IF(ISBLANK(VLOOKUP(A129,reporting1,3,FALSE)),\"\",IF(ISNA(VLOOKUP(A129,reporting1,3,FALSE)),\"\",VLOOKUP(A129,reporting1,3,FALSE)))","v":""},{"$f":"IF(ISBLANK(VLOOKUP(A129,reporting1,4,FALSE)),\"\",IF(ISNA(VLOOKUP(A129,reporting1,4,FALSE)),\"\",VLOOKUP(A129,reporting1,4,FALSE)))","v":""},{"$f":"IF(ISBLANK(VLOOKUP(A129,reporting2,2,FALSE)),\"\",IF(ISNA(VLOOKUP(A129,reporting2,2,FALSE)),\"\",VLOOKUP(A129,reporting2,2,FALSE)))","v":""},{"$f":"IF(ISBLANK(VLOOKUP(A129,reporting2,3,FALSE)),\"\",IF(ISNA(VLOOKUP(A129,reporting2,3,FALSE)),\"\",VLOOKUP(A129,reporting2,3,FALSE)))","v":""},{"$f":"IF(ISBLANK(VLOOKUP(A129,reporting2,4,FALSE)),\"\",IF(ISNA(VLOOKUP(A129,reporting2,4,FALSE)),\"\",VLOOKUP(A129,reporting2,4,FALSE)))","v":""},{"$f":"IF(ISBLANK(VLOOKUP(A129,reporting3,2,FALSE)),\"\",IF(ISNA(VLOOKUP(A129,reporting3,2,FALSE)),\"\",VLOOKUP(A129,reporting3,2,FALSE)))","v":""},{"$f":"IF(ISBLANK(VLOOKUP(A129,reporting3,3,FALSE)),\"\",IF(ISNA(VLOOKUP(A129,reporting3,3,FALSE)),\"\",VLOOKUP(A129,reporting3,3,FALSE)))","v":""},{"$f":"IF(ISBLANK(VLOOKUP(A129,reporting3,4,FALSE)),\"\",IF(ISNA(VLOOKUP(A129,reporting3,4,FALSE)),\"\",VLOOKUP(A129,reporting3,4,FALSE)))","v":""},{"$f":"IF(ISBLANK(VLOOKUP(A129,reporting4,2,FALSE)),\"\",IF(ISNA(VLOOKUP(A129,reporting4,2,FALSE)),\"\",VLOOKUP(A129,reporting4,2,FALSE)))","v":""},{"$f":"IF(ISBLANK(VLOOKUP(A129,reporting4,3,FALSE)),\"\",IF(ISNA(VLOOKUP(A129,reporting4,3,FALSE)),\"\",VLOOKUP(A129,reporting4,3,FALSE)))","v":""},{"$f":"IF(ISBLANK(VLOOKUP(A129,reporting4,4,FALSE)),\"\",IF(ISNA(VLOOKUP(A129,reporting4,4,FALSE)),\"\",VLOOKUP(A129,reporting4,4,FALSE)))","v":""},{"$f":"IF(ISBLANK(VLOOKUP(A129,reportin5,2,FALSE)),\"\",IF(ISNA(VLOOKUP(A129,reporting5,2,FALSE)),\"\",VLOOKUP(A129,reporting5,2,FALSE)))","v":""},{"$f":"IF(ISBLANK(VLOOKUP(A129,reporting5,3,FALSE)),\"\",IF(ISNA(VLOOKUP(A129,reporting5,3,FALSE)),\"\",VLOOKUP(A129,reporting5,3,FALSE)))","v":""},{"$f":"IF(ISBLANK(VLOOKUP(A129,reporting5,4,FALSE)),\"\",IF(ISNA(VLOOKUP(A129,reporting5,4,FALSE)),\"\",VLOOKUP(A129,reporting5,4,FALSE)))","v":""}]
[null,{"$f":"IF(ISBLANK(VLOOKUP(A130,reporting1,2,FALSE)),\"\",IF(ISNA(VLOOKUP(A130,reporting1,2,FALSE)),\"\",VLOOKUP(A130,reporting1,2,FALSE)))","v":""},{"$f":"IF(ISBLANK(VLOOKUP(A130,reporting1,3,FALSE)),\"\",IF(ISNA(VLOOKUP(A130,reporting1,3,FALSE)),\"\",VLOOKUP(A130,reporting1,3,FALSE)))","v":""},{"$f":"IF(ISBLANK(VLOOKUP(A130,reporting1,4,FALSE)),\"\",IF(ISNA(VLOOKUP(A130,reporting1,4,FALSE)),\"\",VLOOKUP(A130,reporting1,4,FALSE)))","v":""},{"$f":"IF(ISBLANK(VLOOKUP(A130,reporting2,2,FALSE)),\"\",IF(ISNA(VLOOKUP(A130,reporting2,2,FALSE)),\"\",VLOOKUP(A130,reporting2,2,FALSE)))","v":""},{"$f":"IF(ISBLANK(VLOOKUP(A130,reporting2,3,FALSE)),\"\",IF(ISNA(VLOOKUP(A130,reporting2,3,FALSE)),\"\",VLOOKUP(A130,reporting2,3,FALSE)))","v":""},{"$f":"IF(ISBLANK(VLOOKUP(A130,reporting2,4,FALSE)),\"\",IF(ISNA(VLOOKUP(A130,reporting2,4,FALSE)),\"\",VLOOKUP(A130,reporting2,4,FALSE)))","v":""},{"$f":"IF(ISBLANK(VLOOKUP(A130,reporting3,2,FALSE)),\"\",IF(ISNA(VLOOKUP(A130,reporting3,2,FALSE)),\"\",VLOOKUP(A130,reporting3,2,FALSE)))","v":""},{"$f":"IF(ISBLANK(VLOOKUP(A130,reporting3,3,FALSE)),\"\",IF(ISNA(VLOOKUP(A130,reporting3,3,FALSE)),\"\",VLOOKUP(A130,reporting3,3,FALSE)))","v":""},{"$f":"IF(ISBLANK(VLOOKUP(A130,reporting3,4,FALSE)),\"\",IF(ISNA(VLOOKUP(A130,reporting3,4,FALSE)),\"\",VLOOKUP(A130,reporting3,4,FALSE)))","v":""},{"$f":"IF(ISBLANK(VLOOKUP(A130,reporting4,2,FALSE)),\"\",IF(ISNA(VLOOKUP(A130,reporting4,2,FALSE)),\"\",VLOOKUP(A130,reporting4,2,FALSE)))","v":""},{"$f":"IF(ISBLANK(VLOOKUP(A130,reporting4,3,FALSE)),\"\",IF(ISNA(VLOOKUP(A130,reporting4,3,FALSE)),\"\",VLOOKUP(A130,reporting4,3,FALSE)))","v":""},{"$f":"IF(ISBLANK(VLOOKUP(A130,reporting4,4,FALSE)),\"\",IF(ISNA(VLOOKUP(A130,reporting4,4,FALSE)),\"\",VLOOKUP(A130,reporting4,4,FALSE)))","v":""},{"$f":"IF(ISBLANK(VLOOKUP(A130,reportin5,2,FALSE)),\"\",IF(ISNA(VLOOKUP(A130,reporting5,2,FALSE)),\"\",VLOOKUP(A130,reporting5,2,FALSE)))","v":""},{"$f":"IF(ISBLANK(VLOOKUP(A130,reporting5,3,FALSE)),\"\",IF(ISNA(VLOOKUP(A130,reporting5,3,FALSE)),\"\",VLOOKUP(A130,reporting5,3,FALSE)))","v":""},{"$f":"IF(ISBLANK(VLOOKUP(A130,reporting5,4,FALSE)),\"\",IF(ISNA(VLOOKUP(A130,reporting5,4,FALSE)),\"\",VLOOKUP(A130,reporting5,4,FALSE)))","v":""}]
[null,{"$f":"IF(ISBLANK(VLOOKUP(A131,reporting1,2,FALSE)),\"\",IF(ISNA(VLOOKUP(A131,reporting1,2,FALSE)),\"\",VLOOKUP(A131,reporting1,2,FALSE)))","v":""},{"$f":"IF(ISBLANK(VLOOKUP(A131,reporting1,3,FALSE)),\"\",IF(ISNA(VLOOKUP(A131,reporting1,3,FALSE)),\"\",VLOOKUP(A131,reporting1,3,FALSE)))","v":""},{"$f":"IF(ISBLANK(VLOOKUP(A131,reporting1,4,FALSE)),\"\",IF(ISNA(VLOOKUP(A131,reporting1,4,FALSE)),\"\",VLOOKUP(A131,reporting1,4,FALSE)))","v":""},{"$f":"IF(ISBLANK(VLOOKUP(A131,reporting2,2,FALSE)),\"\",IF(ISNA(VLOOKUP(A131,reporting2,2,FALSE)),\"\",VLOOKUP(A131,reporting2,2,FALSE)))","v":""},{"$f":"IF(ISBLANK(VLOOKUP(A131,reporting2,3,FALSE)),\"\",IF(ISNA(VLOOKUP(A131,reporting2,3,FALSE)),\"\",VLOOKUP(A131,reporting2,3,FALSE)))","v":""},{"$f":"IF(ISBLANK(VLOOKUP(A131,reporting2,4,FALSE)),\"\",IF(ISNA(VLOOKUP(A131,reporting2,4,FALSE)),\"\",VLOOKUP(A131,reporting2,4,FALSE)))","v":""},{"$f":"IF(ISBLANK(VLOOKUP(A131,reporting3,2,FALSE)),\"\",IF(ISNA(VLOOKUP(A131,reporting3,2,FALSE)),\"\",VLOOKUP(A131,reporting3,2,FALSE)))","v":""},{"$f":"IF(ISBLANK(VLOOKUP(A131,reporting3,3,FALSE)),\"\",IF(ISNA(VLOOKUP(A131,reporting3,3,FALSE)),\"\",VLOOKUP(A131,reporting3,3,FALSE)))","v":""},{"$f":"IF(ISBLANK(VLOOKUP(A131,reporting3,4,FALSE)),\"\",IF(ISNA(VLOOKUP(A131,reporting3,4,FALSE)),\"\",VLOOKUP(A131,reporting3,4,FALSE)))","v":""},{"$f":"IF(ISBLANK(VLOOKUP(A131,reporting4,2,FALSE)),\"\",IF(ISNA(VLOOKUP(A131,reporting4,2,FALSE)),\"\",VLOOKUP(A131,reporting4,2,FALSE)))","v":""},{"$f":"IF(ISBLANK(VLOOKUP(A131,reporting4,3,FALSE)),\"\",IF(ISNA(VLOOKUP(A131,reporting4,3,FALSE)),\"\",VLOOKUP(A131,reporting4,3,FALSE)))","v":""},{"$f":"IF(ISBLANK(VLOOKUP(A131,reporting4,4,FALSE)),\"\",IF(ISNA(VLOOKUP(A131,reporting4,4,FALSE)),\"\",VLOOKUP(A131,reporting4,4,FALSE)))","v":""},{"$f":"IF(ISBLANK(VLOOKUP(A131,reportin5,2,FALSE)),\"\",IF(ISNA(VLOOKUP(A131,reporting5,2,FALSE)),\"\",VLOOKUP(A131,reporting5,2,FALSE)))","v":""},{"$f":"IF(ISBLANK(VLOOKUP(A131,reporting5,3,FALSE)),\"\",IF(ISNA(VLOOKUP(A131,reporting5,3,FALSE)),\"\",VLOOKUP(A131,reporting5,3,FALSE)))","v":""},{"$f":"IF(ISBLANK(VLOOKUP(A131,reporting5,4,FALSE)),\"\",IF(ISNA(VLOOKUP(A131,reporting5,4,FALSE)),\"\",VLOOKUP(A131,reporting5,4,FALSE)))","v":""}]
[null,{"$f":"IF(ISBLANK(VLOOKUP(A132,reporting1,2,FALSE)),\"\",IF(ISNA(VLOOKUP(A132,reporting1,2,FALSE)),\"\",VLOOKUP(A132,reporting1,2,FALSE)))","v":""},{"$f":"IF(ISBLANK(VLOOKUP(A132,reporting1,3,FALSE)),\"\",IF(ISNA(VLOOKUP(A132,reporting1,3,FALSE)),\"\",VLOOKUP(A132,reporting1,3,FALSE)))","v":""},{"$f":"IF(ISBLANK(VLOOKUP(A132,reporting1,4,FALSE)),\"\",IF(ISNA(VLOOKUP(A132,reporting1,4,FALSE)),\"\",VLOOKUP(A132,reporting1,4,FALSE)))","v":""},{"$f":"IF(ISBLANK(VLOOKUP(A132,reporting2,2,FALSE)),\"\",IF(ISNA(VLOOKUP(A132,reporting2,2,FALSE)),\"\",VLOOKUP(A132,reporting2,2,FALSE)))","v":""},{"$f":"IF(ISBLANK(VLOOKUP(A132,reporting2,3,FALSE)),\"\",IF(ISNA(VLOOKUP(A132,reporting2,3,FALSE)),\"\",VLOOKUP(A132,reporting2,3,FALSE)))","v":""},{"$f":"IF(ISBLANK(VLOOKUP(A132,reporting2,4,FALSE)),\"\",IF(ISNA(VLOOKUP(A132,reporting2,4,FALSE)),\"\",VLOOKUP(A132,reporting2,4,FALSE)))","v":""},{"$f":"IF(ISBLANK(VLOOKUP(A132,reporting3,2,FALSE)),\"\",IF(ISNA(VLOOKUP(A132,reporting3,2,FALSE)),\"\",VLOOKUP(A132,reporting3,2,FALSE)))","v":""},{"$f":"IF(ISBLANK(VLOOKUP(A132,reporting3,3,FALSE)),\"\",IF(ISNA(VLOOKUP(A132,reporting3,3,FALSE)),\"\",VLOOKUP(A132,reporting3,3,FALSE)))","v":""},{"$f":"IF(ISBLANK(VLOOKUP(A132,reporting3,4,FALSE)),\"\",IF(ISNA(VLOOKUP(A132,reporting3,4,FALSE)),\"\",VLOOKUP(A132,reporting3,4,FALSE)))","v":""},{"$f":"IF(ISBLANK(VLOOKUP(A132,reporting4,2,FALSE)),\"\",IF(ISNA(VLOOKUP(A132,reporting4,2,FALSE)),\"\",VLOOKUP(A132,reporting4,2,FALSE)))","v":""},{"$f":"IF(ISBLANK(VLOOKUP(A132,reporting4,3,FALSE)),\"\",IF(ISNA(VLOOKUP(A132,reporting4,3,FALSE)),\"\",VLOOKUP(A132,reporting4,3,FALSE)))","v":""},{"$f":"IF(ISBLANK(VLOOKUP(A132,reporting4,4,FALSE)),\"\",IF(ISNA(VLOOKUP(A132,reporting4,4,FALSE)),\"\",VLOOKUP(A132,reporting4,4,FALSE)))","v":""},{"$f":"IF(ISBLANK(VLOOKUP(A132,reportin5,2,FALSE)),\"\",IF(ISNA(VLOOKUP(A132,reporting5,2,FALSE)),\"\",VLOOKUP(A132,reporting5,2,FALSE)))","v":""},{"$f":"IF(ISBLANK(VLOOKUP(A132,reporting5,3,FALSE)),\"\",IF(ISNA(VLOOKUP(A132,reporting5,3,FALSE)),\"\",VLOOKUP(A132,reporting5,3,FALSE)))","v":""},{"$f":"IF(ISBLANK(VLOOKUP(A132,reporting5,4,FALSE)),\"\",IF(ISNA(VLOOKUP(A132,reporting5,4,FALSE)),\"\",VLOOKUP(A132,reporting5,4,FALSE)))","v":""}]
[null,{"$f":"IF(ISBLANK(VLOOKUP(A133,reporting1,2,FALSE)),\"\",IF(ISNA(VLOOKUP(A133,reporting1,2,FALSE)),\"\",VLOOKUP(A133,reporting1,2,FALSE)))","v":""},{"$f":"IF(ISBLANK(VLOOKUP(A133,reporting1,3,FALSE)),\"\",IF(ISNA(VLOOKUP(A133,reporting1,3,FALSE)),\"\",VLOOKUP(A133,reporting1,3,FALSE)))","v":""},{"$f":"IF(ISBLANK(VLOOKUP(A133,reporting1,4,FALSE)),\"\",IF(ISNA(VLOOKUP(A133,reporting1,4,FALSE)),\"\",VLOOKUP(A133,reporting1,4,FALSE)))","v":""},{"$f":"IF(ISBLANK(VLOOKUP(A133,reporting2,2,FALSE)),\"\",IF(ISNA(VLOOKUP(A133,reporting2,2,FALSE)),\"\",VLOOKUP(A133,reporting2,2,FALSE)))","v":""},{"$f":"IF(ISBLANK(VLOOKUP(A133,reporting2,3,FALSE)),\"\",IF(ISNA(VLOOKUP(A133,reporting2,3,FALSE)),\"\",VLOOKUP(A133,reporting2,3,FALSE)))","v":""},{"$f":"IF(ISBLANK(VLOOKUP(A133,reporting2,4,FALSE)),\"\",IF(ISNA(VLOOKUP(A133,reporting2,4,FALSE)),\"\",VLOOKUP(A133,reporting2,4,FALSE)))","v":""},{"$f":"IF(ISBLANK(VLOOKUP(A133,reporting3,2,FALSE)),\"\",IF(ISNA(VLOOKUP(A133,reporting3,2,FALSE)),\"\",VLOOKUP(A133,reporting3,2,FALSE)))","v":""},{"$f":"IF(ISBLANK(VLOOKUP(A133,reporting3,3,FALSE)),\"\",IF(ISNA(VLOOKUP(A133,reporting3,3,FALSE)),\"\",VLOOKUP(A133,reporting3,3,FALSE)))","v":""},{"$f":"IF(ISBLANK(VLOOKUP(A133,reporting3,4,FALSE)),\"\",IF(ISNA(VLOOKUP(A133,reporting3,4,FALSE)),\"\",VLOOKUP(A133,reporting3,4,FALSE)))","v":""},{"$f":"IF(ISBLANK(VLOOKUP(A133,reporting4,2,FALSE)),\"\",IF(ISNA(VLOOKUP(A133,reporting4,2,FALSE)),\"\",VLOOKUP(A133,reporting4,2,FALSE)))","v":""},{"$f":"IF(ISBLANK(VLOOKUP(A133,reporting4,3,FALSE)),\"\",IF(ISNA(VLOOKUP(A133,reporting4,3,FALSE)),\"\",VLOOKUP(A133,reporting4,3,FALSE)))","v":""},{"$f":"IF(ISBLANK(VLOOKUP(A133,reporting4,4,FALSE)),\"\",IF(ISNA(VLOOKUP(A133,reporting4,4,FALSE)),\"\",VLOOKUP(A133,reporting4,4,FALSE)))","v":""},{"$f":"IF(ISBLANK(VLOOKUP(A133,reportin5,2,FALSE)),\"\",IF(ISNA(VLOOKUP(A133,reporting5,2,FALSE)),\"\",VLOOKUP(A133,reporting5,2,FALSE)))","v":""},{"$f":"IF(ISBLANK(VLOOKUP(A133,reporting5,3,FALSE)),\"\",IF(ISNA(VLOOKUP(A133,reporting5,3,FALSE)),\"\",VLOOKUP(A133,reporting5,3,FALSE)))","v":""},{"$f":"IF(ISBLANK(VLOOKUP(A133,reporting5,4,FALSE)),\"\",IF(ISNA(VLOOKUP(A133,reporting5,4,FALSE)),\"\",VLOOKUP(A133,reporting5,4,FALSE)))","v":""}]
[null,{"$f":"IF(ISBLANK(VLOOKUP(A134,reporting1,2,FALSE)),\"\",IF(ISNA(VLOOKUP(A134,reporting1,2,FALSE)),\"\",VLOOKUP(A134,reporting1,2,FALSE)))","v":""},{"$f":"IF(ISBLANK(VLOOKUP(A134,reporting1,3,FALSE)),\"\",IF(ISNA(VLOOKUP(A134,reporting1,3,FALSE)),\"\",VLOOKUP(A134,reporting1,3,FALSE)))","v":""},{"$f":"IF(ISBLANK(VLOOKUP(A134,reporting1,4,FALSE)),\"\",IF(ISNA(VLOOKUP(A134,reporting1,4,FALSE)),\"\",VLOOKUP(A134,reporting1,4,FALSE)))","v":""},{"$f":"IF(ISBLANK(VLOOKUP(A134,reporting2,2,FALSE)),\"\",IF(ISNA(VLOOKUP(A134,reporting2,2,FALSE)),\"\",VLOOKUP(A134,reporting2,2,FALSE)))","v":""},{"$f":"IF(ISBLANK(VLOOKUP(A134,reporting2,3,FALSE)),\"\",IF(ISNA(VLOOKUP(A134,reporting2,3,FALSE)),\"\",VLOOKUP(A134,reporting2,3,FALSE)))","v":""},{"$f":"IF(ISBLANK(VLOOKUP(A134,reporting2,4,FALSE)),\"\",IF(ISNA(VLOOKUP(A134,reporting2,4,FALSE)),\"\",VLOOKUP(A134,reporting2,4,FALSE)))","v":""},{"$f":"IF(ISBLANK(VLOOKUP(A134,reporting3,2,FALSE)),\"\",IF(ISNA(VLOOKUP(A134,reporting3,2,FALSE)),\"\",VLOOKUP(A134,reporting3,2,FALSE)))","v":""},{"$f":"IF(ISBLANK(VLOOKUP(A134,reporting3,3,FALSE)),\"\",IF(ISNA(VLOOKUP(A134,reporting3,3,FALSE)),\"\",VLOOKUP(A134,reporting3,3,FALSE)))","v":""},{"$f":"IF(ISBLANK(VLOOKUP(A134,reporting3,4,FALSE)),\"\",IF(ISNA(VLOOKUP(A134,reporting3,4,FALSE)),\"\",VLOOKUP(A134,reporting3,4,FALSE)))","v":""},{"$f":"IF(ISBLANK(VLOOKUP(A134,reporting4,2,FALSE)),\"\",IF(ISNA(VLOOKUP(A134,reporting4,2,FALSE)),\"\",VLOOKUP(A134,reporting4,2,FALSE)))","v":""},{"$f":"IF(ISBLANK(VLOOKUP(A134,reporting4,3,FALSE)),\"\",IF(ISNA(VLOOKUP(A134,reporting4,3,FALSE)),\"\",VLOOKUP(A134,reporting4,3,FALSE)))","v":""},{"$f":"IF(ISBLANK(VLOOKUP(A134,reporting4,4,FALSE)),\"\",IF(ISNA(VLOOKUP(A134,reporting4,4,FALSE)),\"\",VLOOKUP(A134,reporting4,4,FALSE)))","v":""},{"$f":"IF(ISBLANK(VLOOKUP(A134,reportin5,2,FALSE)),\"\",IF(ISNA(VLOOKUP(A134,reporting5,2,FALSE)),\"\",VLOOKUP(A134,reporting5,2,FALSE)))","v":""},{"$f":"IF(ISBLANK(VLOOKUP(A134,reporting5,3,FALSE)),\"\",IF(ISNA(VLOOKUP(A134,reporting5,3,FALSE)),\"\",VLOOKUP(A134,reporting5,3,FALSE)))","v":""},{"$f":"IF(ISBLANK(VLOOKUP(A134,reporting5,4,FALSE)),\"\",IF(ISNA(VLOOKUP(A134,reporting5,4,FALSE)),\"\",VLOOKUP(A134,reporting5,4,FALSE)))","v":""}]
[null,{"$f":"IF(ISBLANK(VLOOKUP(A135,reporting1,2,FALSE)),\"\",IF(ISNA(VLOOKUP(A135,reporting1,2,FALSE)),\"\",VLOOKUP(A135,reporting1,2,FALSE)))","v":""},{"$f":"IF(ISBLANK(VLOOKUP(A135,reporting1,3,FALSE)),\"\",IF(ISNA(VLOOKUP(A135,reporting1,3,FALSE)),\"\",VLOOKUP(A135,reporting1,3,FALSE)))","v":""},{"$f":"IF(ISBLANK(VLOOKUP(A135,reporting1,4,FALSE)),\"\",IF(ISNA(VLOOKUP(A135,reporting1,4,FALSE)),\"\",VLOOKUP(A135,reporting1,4,FALSE)))","v":""},{"$f":"IF(ISBLANK(VLOOKUP(A135,reporting2,2,FALSE)),\"\",IF(ISNA(VLOOKUP(A135,reporting2,2,FALSE)),\"\",VLOOKUP(A135,reporting2,2,FALSE)))","v":""},{"$f":"IF(ISBLANK(VLOOKUP(A135,reporting2,3,FALSE)),\"\",IF(ISNA(VLOOKUP(A135,reporting2,3,FALSE)),\"\",VLOOKUP(A135,reporting2,3,FALSE)))","v":""},{"$f":"IF(ISBLANK(VLOOKUP(A135,reporting2,4,FALSE)),\"\",IF(ISNA(VLOOKUP(A135,reporting2,4,FALSE)),\"\",VLOOKUP(A135,reporting2,4,FALSE)))","v":""},{"$f":"IF(ISBLANK(VLOOKUP(A135,reporting3,2,FALSE)),\"\",IF(ISNA(VLOOKUP(A135,reporting3,2,FALSE)),\"\",VLOOKUP(A135,reporting3,2,FALSE)))","v":""},{"$f":"IF(ISBLANK(VLOOKUP(A135,reporting3,3,FALSE)),\"\",IF(ISNA(VLOOKUP(A135,reporting3,3,FALSE)),\"\",VLOOKUP(A135,reporting3,3,FALSE)))","v":""},{"$f":"IF(ISBLANK(VLOOKUP(A135,reporting3,4,FALSE)),\"\",IF(ISNA(VLOOKUP(A135,reporting3,4,FALSE)),\"\",VLOOKUP(A135,reporting3,4,FALSE)))","v":""},{"$f":"IF(ISBLANK(VLOOKUP(A135,reporting4,2,FALSE)),\"\",IF(ISNA(VLOOKUP(A135,reporting4,2,FALSE)),\"\",VLOOKUP(A135,reporting4,2,FALSE)))","v":""},{"$f":"IF(ISBLANK(VLOOKUP(A135,reporting4,3,FALSE)),\"\",IF(ISNA(VLOOKUP(A135,reporting4,3,FALSE)),\"\",VLOOKUP(A135,reporting4,3,FALSE)))","v":""},{"$f":"IF(ISBLANK(VLOOKUP(A135,reporting4,4,FALSE)),\"\",IF(ISNA(VLOOKUP(A135,reporting4,4,FALSE)),\"\",VLOOKUP(A135,reporting4,4,FALSE)))","v":""},{"$f":"IF(ISBLANK(VLOOKUP(A135,reportin5,2,FALSE)),\"\",IF(ISNA(VLOOKUP(A135,reporting5,2,FALSE)),\"\",VLOOKUP(A135,reporting5,2,FALSE)))","v":""},{"$f":"IF(ISBLANK(VLOOKUP(A135,reporting5,3,FALSE)),\"\",IF(ISNA(VLOOKUP(A135,reporting5,3,FALSE)),\"\",VLOOKUP(A135,reporting5,3,FALSE)))","v":""},{"$f":"IF(ISBLANK(VLOOKUP(A135,reporting5,4,FALSE)),\"\",IF(ISNA(VLOOKUP(A135,reporting5,4,FALSE)),\"\",VLOOKUP(A135,reporting5,4,FALSE)))","v":""}]
[null,{"$f":"IF(ISBLANK(VLOOKUP(A136,reporting1,2,FALSE)),\"\",IF(ISNA(VLOOKUP(A136,reporting1,2,FALSE)),\"\",VLOOKUP(A136,reporting1,2,FALSE)))","v":""},{"$f":"IF(ISBLANK(VLOOKUP(A136,reporting1,3,FALSE)),\"\",IF(ISNA(VLOOKUP(A136,reporting1,3,FALSE)),\"\",VLOOKUP(A136,reporting1,3,FALSE)))","v":""},{"$f":"IF(ISBLANK(VLOOKUP(A136,reporting1,4,FALSE)),\"\",IF(ISNA(VLOOKUP(A136,reporting1,4,FALSE)),\"\",VLOOKUP(A136,reporting1,4,FALSE)))","v":""},{"$f":"IF(ISBLANK(VLOOKUP(A136,reporting2,2,FALSE)),\"\",IF(ISNA(VLOOKUP(A136,reporting2,2,FALSE)),\"\",VLOOKUP(A136,reporting2,2,FALSE)))","v":""},{"$f":"IF(ISBLANK(VLOOKUP(A136,reporting2,3,FALSE)),\"\",IF(ISNA(VLOOKUP(A136,reporting2,3,FALSE)),\"\",VLOOKUP(A136,reporting2,3,FALSE)))","v":""},{"$f":"IF(ISBLANK(VLOOKUP(A136,reporting2,4,FALSE)),\"\",IF(ISNA(VLOOKUP(A136,reporting2,4,FALSE)),\"\",VLOOKUP(A136,reporting2,4,FALSE)))","v":""},{"$f":"IF(ISBLANK(VLOOKUP(A136,reporting3,2,FALSE)),\"\",IF(ISNA(VLOOKUP(A136,reporting3,2,FALSE)),\"\",VLOOKUP(A136,reporting3,2,FALSE)))","v":""},{"$f":"IF(ISBLANK(VLOOKUP(A136,reporting3,3,FALSE)),\"\",IF(ISNA(VLOOKUP(A136,reporting3,3,FALSE)),\"\",VLOOKUP(A136,reporting3,3,FALSE)))","v":""},{"$f":"IF(ISBLANK(VLOOKUP(A136,reporting3,4,FALSE)),\"\",IF(ISNA(VLOOKUP(A136,reporting3,4,FALSE)),\"\",VLOOKUP(A136,reporting3,4,FALSE)))","v":""},{"$f":"IF(ISBLANK(VLOOKUP(A136,reporting4,2,FALSE)),\"\",IF(ISNA(VLOOKUP(A136,reporting4,2,FALSE)),\"\",VLOOKUP(A136,reporting4,2,FALSE)))","v":""},{"$f":"IF(ISBLANK(VLOOKUP(A136,reporting4,3,FALSE)),\"\",IF(ISNA(VLOOKUP(A136,reporting4,3,FALSE)),\"\",VLOOKUP(A136,reporting4,3,FALSE)))","v":""},{"$f":"IF(ISBLANK(VLOOKUP(A136,reporting4,4,FALSE)),\"\",IF(ISNA(VLOOKUP(A136,reporting4,4,FALSE)),\"\",VLOOKUP(A136,reporting4,4,FALSE)))","v":""},{"$f":"IF(ISBLANK(VLOOKUP(A136,reportin5,2,FALSE)),\"\",IF(ISNA(VLOOKUP(A136,reporting5,2,FALSE)),\"\",VLOOKUP(A136,reporting5,2,FALSE)))","v":""},{"$f":"IF(ISBLANK(VLOOKUP(A136,reporting5,3,FALSE)),\"\",IF(ISNA(VLOOKUP(A136,reporting5,3,FALSE)),\"\",VLOOKUP(A136,reporting5,3,FALSE)))","v":""},{"$f":"IF(ISBLANK(VLOOKUP(A136,reporting5,4,FALSE)),\"\",IF(ISNA(VLOOKUP(A136,reporting5,4,FALSE)),\"\",VLOOKUP(A136,reporting5,4,FALSE)))","v":""}]
[null,{"$f":"IF(ISBLANK(VLOOKUP(A137,reporting1,2,FALSE)),\"\",IF(ISNA(VLOOKUP(A137,reporting1,2,FALSE)),\"\",VLOOKUP(A137,reporting1,2,FALSE)))","v":""},{"$f":"IF(ISBLANK(VLOOKUP(A137,reporting1,3,FALSE)),\"\",IF(ISNA(VLOOKUP(A137,reporting1,3,FALSE)),\"\",VLOOKUP(A137,reporting1,3,FALSE)))","v":""},{"$f":"IF(ISBLANK(VLOOKUP(A137,reporting1,4,FALSE)),\"\",IF(ISNA(VLOOKUP(A137,reporting1,4,FALSE)),\"\",VLOOKUP(A137,reporting1,4,FALSE)))","v":""},{"$f":"IF(ISBLANK(VLOOKUP(A137,reporting2,2,FALSE)),\"\",IF(ISNA(VLOOKUP(A137,reporting2,2,FALSE)),\"\",VLOOKUP(A137,reporting2,2,FALSE)))","v":""},{"$f":"IF(ISBLANK(VLOOKUP(A137,reporting2,3,FALSE)),\"\",IF(ISNA(VLOOKUP(A137,reporting2,3,FALSE)),\"\",VLOOKUP(A137,reporting2,3,FALSE)))","v":""},{"$f":"IF(ISBLANK(VLOOKUP(A137,reporting2,4,FALSE)),\"\",IF(ISNA(VLOOKUP(A137,reporting2,4,FALSE)),\"\",VLOOKUP(A137,reporting2,4,FALSE)))","v":""},{"$f":"IF(ISBLANK(VLOOKUP(A137,reporting3,2,FALSE)),\"\",IF(ISNA(VLOOKUP(A137,reporting3,2,FALSE)),\"\",VLOOKUP(A137,reporting3,2,FALSE)))","v":""},{"$f":"IF(ISBLANK(VLOOKUP(A137,reporting3,3,FALSE)),\"\",IF(ISNA(VLOOKUP(A137,reporting3,3,FALSE)),\"\",VLOOKUP(A137,reporting3,3,FALSE)))","v":""},{"$f":"IF(ISBLANK(VLOOKUP(A137,reporting3,4,FALSE)),\"\",IF(ISNA(VLOOKUP(A137,reporting3,4,FALSE)),\"\",VLOOKUP(A137,reporting3,4,FALSE)))","v":""},{"$f":"IF(ISBLANK(VLOOKUP(A137,reporting4,2,FALSE)),\"\",IF(ISNA(VLOOKUP(A137,reporting4,2,FALSE)),\"\",VLOOKUP(A137,reporting4,2,FALSE)))","v":""},{"$f":"IF(ISBLANK(VLOOKUP(A137,reporting4,3,FALSE)),\"\",IF(ISNA(VLOOKUP(A137,reporting4,3,FALSE)),\"\",VLOOKUP(A137,reporting4,3,FALSE)))","v":""},{"$f":"IF(ISBLANK(VLOOKUP(A137,reporting4,4,FALSE)),\"\",IF(ISNA(VLOOKUP(A137,reporting4,4,FALSE)),\"\",VLOOKUP(A137,reporting4,4,FALSE)))","v":""},{"$f":"IF(ISBLANK(VLOOKUP(A137,reportin5,2,FALSE)),\"\",IF(ISNA(VLOOKUP(A137,reporting5,2,FALSE)),\"\",VLOOKUP(A137,reporting5,2,FALSE)))","v":""},{"$f":"IF(ISBLANK(VLOOKUP(A137,reporting5,3,FALSE)),\"\",IF(ISNA(VLOOKUP(A137,reporting5,3,FALSE)),\"\",VLOOKUP(A137,reporting5,3,FALSE)))","v":""},{"$f":"IF(ISBLANK(VLOOKUP(A137,reporting5,4,FALSE)),\"\",IF(ISNA(VLOOKUP(A137,reporting5,4,FALSE)),\"\",VLOOKUP(A137,reporting5,4,FALSE)))","v":""}]
[null,{"$f":"IF(ISBLANK(VLOOKUP(A138,reporting1,2,FALSE)),\"\",IF(ISNA(VLOOKUP(A138,reporting1,2,FALSE)),\"\",VLOOKUP(A138,reporting1,2,FALSE)))","v":""},{"$f":"IF(ISBLANK(VLOOKUP(A138,reporting1,3,FALSE)),\"\",IF(ISNA(VLOOKUP(A138,reporting1,3,FALSE)),\"\",VLOOKUP(A138,reporting1,3,FALSE)))","v":""},{"$f":"IF(ISBLANK(VLOOKUP(A138,reporting1,4,FALSE)),\"\",IF(ISNA(VLOOKUP(A138,reporting1,4,FALSE)),\"\",VLOOKUP(A138,reporting1,4,FALSE)))","v":""},{"$f":"IF(ISBLANK(VLOOKUP(A138,reporting2,2,FALSE)),\"\",IF(ISNA(VLOOKUP(A138,reporting2,2,FALSE)),\"\",VLOOKUP(A138,reporting2,2,FALSE)))","v":""},{"$f":"IF(ISBLANK(VLOOKUP(A138,reporting2,3,FALSE)),\"\",IF(ISNA(VLOOKUP(A138,reporting2,3,FALSE)),\"\",VLOOKUP(A138,reporting2,3,FALSE)))","v":""},{"$f":"IF(ISBLANK(VLOOKUP(A138,reporting2,4,FALSE)),\"\",IF(ISNA(VLOOKUP(A138,reporting2,4,FALSE)),\"\",VLOOKUP(A138,reporting2,4,FALSE)))","v":""},{"$f":"IF(ISBLANK(VLOOKUP(A138,reporting3,2,FALSE)),\"\",IF(ISNA(VLOOKUP(A138,reporting3,2,FALSE)),\"\",VLOOKUP(A138,reporting3,2,FALSE)))","v":""},{"$f":"IF(ISBLANK(VLOOKUP(A138,reporting3,3,FALSE)),\"\",IF(ISNA(VLOOKUP(A138,reporting3,3,FALSE)),\"\",VLOOKUP(A138,reporting3,3,FALSE)))","v":""},{"$f":"IF(ISBLANK(VLOOKUP(A138,reporting3,4,FALSE)),\"\",IF(ISNA(VLOOKUP(A138,reporting3,4,FALSE)),\"\",VLOOKUP(A138,reporting3,4,FALSE)))","v":""},{"$f":"IF(ISBLANK(VLOOKUP(A138,reporting4,2,FALSE)),\"\",IF(ISNA(VLOOKUP(A138,reporting4,2,FALSE)),\"\",VLOOKUP(A138,reporting4,2,FALSE)))","v":""},{"$f":"IF(ISBLANK(VLOOKUP(A138,reporting4,3,FALSE)),\"\",IF(ISNA(VLOOKUP(A138,reporting4,3,FALSE)),\"\",VLOOKUP(A138,reporting4,3,FALSE)))","v":""},{"$f":"IF(ISBLANK(VLOOKUP(A138,reporting4,4,FALSE)),\"\",IF(ISNA(VLOOKUP(A138,reporting4,4,FALSE)),\"\",VLOOKUP(A138,reporting4,4,FALSE)))","v":""},{"$f":"IF(ISBLANK(VLOOKUP(A138,reportin5,2,FALSE)),\"\",IF(ISNA(VLOOKUP(A138,reporting5,2,FALSE)),\"\",VLOOKUP(A138,reporting5,2,FALSE)))","v":""},{"$f":"IF(ISBLANK(VLOOKUP(A138,reporting5,3,FALSE)),\"\",IF(ISNA(VLOOKUP(A138,reporting5,3,FALSE)),\"\",VLOOKUP(A138,reporting5,3,FALSE)))","v":""},{"$f":"IF(ISBLANK(VLOOKUP(A138,reporting5,4,FALSE)),\"\",IF(ISNA(VLOOKUP(A138,reporting5,4,FALSE)),\"\",VLOOKUP(A138,reporting5,4,FALSE)))","v":""}]
[null,{"$f":"IF(ISBLANK(VLOOKUP(A139,reporting1,2,FALSE)),\"\",IF(ISNA(VLOOKUP(A139,reporting1,2,FALSE)),\"\",VLOOKUP(A139,reporting1,2,FALSE)))","v":""},{"$f":"IF(ISBLANK(VLOOKUP(A139,reporting1,3,FALSE)),\"\",IF(ISNA(VLOOKUP(A139,reporting1,3,FALSE)),\"\",VLOOKUP(A139,reporting1,3,FALSE)))","v":""},{"$f":"IF(ISBLANK(VLOOKUP(A139,reporting1,4,FALSE)),\"\",IF(ISNA(VLOOKUP(A139,reporting1,4,FALSE)),\"\",VLOOKUP(A139,reporting1,4,FALSE)))","v":""},{"$f":"IF(ISBLANK(VLOOKUP(A139,reporting2,2,FALSE)),\"\",IF(ISNA(VLOOKUP(A139,reporting2,2,FALSE)),\"\",VLOOKUP(A139,reporting2,2,FALSE)))","v":""},{"$f":"IF(ISBLANK(VLOOKUP(A139,reporting2,3,FALSE)),\"\",IF(ISNA(VLOOKUP(A139,reporting2,3,FALSE)),\"\",VLOOKUP(A139,reporting2,3,FALSE)))","v":""},{"$f":"IF(ISBLANK(VLOOKUP(A139,reporting2,4,FALSE)),\"\",IF(ISNA(VLOOKUP(A139,reporting2,4,FALSE)),\"\",VLOOKUP(A139,reporting2,4,FALSE)))","v":""},{"$f":"IF(ISBLANK(VLOOKUP(A139,reporting3,2,FALSE)),\"\",IF(ISNA(VLOOKUP(A139,reporting3,2,FALSE)),\"\",VLOOKUP(A139,reporting3,2,FALSE)))","v":""},{"$f":"IF(ISBLANK(VLOOKUP(A139,reporting3,3,FALSE)),\"\",IF(ISNA(VLOOKUP(A139,reporting3,3,FALSE)),\"\",VLOOKUP(A139,reporting3,3,FALSE)))","v":""},{"$f":"IF(ISBLANK(VLOOKUP(A139,reporting3,4,FALSE)),\"\",IF(ISNA(VLOOKUP(A139,reporting3,4,FALSE)),\"\",VLOOKUP(A139,reporting3,4,FALSE)))","v":""},{"$f":"IF(ISBLANK(VLOOKUP(A139,reporting4,2,FALSE)),\"\",IF(ISNA(VLOOKUP(A139,reporting4,2,FALSE)),\"\",VLOOKUP(A139,reporting4,2,FALSE)))","v":""},{"$f":"IF(ISBLANK(VLOOKUP(A139,reporting4,3,FALSE)),\"\",IF(ISNA(VLOOKUP(A139,reporting4,3,FALSE)),\"\",VLOOKUP(A139,reporting4,3,FALSE)))","v":""},{"$f":"IF(ISBLANK(VLOOKUP(A139,reporting4,4,FALSE)),\"\",IF(ISNA(VLOOKUP(A139,reporting4,4,FALSE)),\"\",VLOOKUP(A139,reporting4,4,FALSE)))","v":""},{"$f":"IF(ISBLANK(VLOOKUP(A139,reportin5,2,FALSE)),\"\",IF(ISNA(VLOOKUP(A139,reporting5,2,FALSE)),\"\",VLOOKUP(A139,reporting5,2,FALSE)))","v":""},{"$f":"IF(ISBLANK(VLOOKUP(A139,reporting5,3,FALSE)),\"\",IF(ISNA(VLOOKUP(A139,reporting5,3,FALSE)),\"\",VLOOKUP(A139,reporting5,3,FALSE)))","v":""},{"$f":"IF(ISBLANK(VLOOKUP(A139,reporting5,4,FALSE)),\"\",IF(ISNA(VLOOKUP(A139,reporting5,4,FALSE)),\"\",VLOOKUP(A139,reporting5,4,FALSE)))","v":""}]
[null,{"$f":"IF(ISBLANK(VLOOKUP(A140,reporting1,2,FALSE)),\"\",IF(ISNA(VLOOKUP(A140,reporting1,2,FALSE)),\"\",VLOOKUP(A140,reporting1,2,FALSE)))","v":""},{"$f":"IF(ISBLANK(VLOOKUP(A140,reporting1,3,FALSE)),\"\",IF(ISNA(VLOOKUP(A140,reporting1,3,FALSE)),\"\",VLOOKUP(A140,reporting1,3,FALSE)))","v":""},{"$f":"IF(ISBLANK(VLOOKUP(A140,reporting1,4,FALSE)),\"\",IF(ISNA(VLOOKUP(A140,reporting1,4,FALSE)),\"\",VLOOKUP(A140,reporting1,4,FALSE)))","v":""},{"$f":"IF(ISBLANK(VLOOKUP(A140,reporting2,2,FALSE)),\"\",IF(ISNA(VLOOKUP(A140,reporting2,2,FALSE)),\"\",VLOOKUP(A140,reporting2,2,FALSE)))","v":""},{"$f":"IF(ISBLANK(VLOOKUP(A140,reporting2,3,FALSE)),\"\",IF(ISNA(VLOOKUP(A140,reporting2,3,FALSE)),\"\",VLOOKUP(A140,reporting2,3,FALSE)))","v":""},{"$f":"IF(ISBLANK(VLOOKUP(A140,reporting2,4,FALSE)),\"\",IF(ISNA(VLOOKUP(A140,reporting2,4,FALSE)),\"\",VLOOKUP(A140,reporting2,4,FALSE)))","v":""},{"$f":"IF(ISBLANK(VLOOKUP(A140,reporting3,2,FALSE)),\"\",IF(ISNA(VLOOKUP(A140,reporting3,2,FALSE)),\"\",VLOOKUP(A140,reporting3,2,FALSE)))","v":""},{"$f":"IF(ISBLANK(VLOOKUP(A140,reporting3,3,FALSE)),\"\",IF(ISNA(VLOOKUP(A140,reporting3,3,FALSE)),\"\",VLOOKUP(A140,reporting3,3,FALSE)))","v":""},{"$f":"IF(ISBLANK(VLOOKUP(A140,reporting3,4,FALSE)),\"\",IF(ISNA(VLOOKUP(A140,reporting3,4,FALSE)),\"\",VLOOKUP(A140,reporting3,4,FALSE)))","v":""},{"$f":"IF(ISBLANK(VLOOKUP(A140,reporting4,2,FALSE)),\"\",IF(ISNA(VLOOKUP(A140,reporting4,2,FALSE)),\"\",VLOOKUP(A140,reporting4,2,FALSE)))","v":""},{"$f":"IF(ISBLANK(VLOOKUP(A140,reporting4,3,FALSE)),\"\",IF(ISNA(VLOOKUP(A140,reporting4,3,FALSE)),\"\",VLOOKUP(A140,reporting4,3,FALSE)))","v":""},{"$f":"IF(ISBLANK(VLOOKUP(A140,reporting4,4,FALSE)),\"\",IF(ISNA(VLOOKUP(A140,reporting4,4,FALSE)),\"\",VLOOKUP(A140,reporting4,4,FALSE)))","v":""},{"$f":"IF(ISBLANK(VLOOKUP(A140,reportin5,2,FALSE)),\"\",IF(ISNA(VLOOKUP(A140,reporting5,2,FALSE)),\"\",VLOOKUP(A140,reporting5,2,FALSE)))","v":""},{"$f":"IF(ISBLANK(VLOOKUP(A140,reporting5,3,FALSE)),\"\",IF(ISNA(VLOOKUP(A140,reporting5,3,FALSE)),\"\",VLOOKUP(A140,reporting5,3,FALSE)))","v":""},{"$f":"IF(ISBLANK(VLOOKUP(A140,reporting5,4,FALSE)),\"\",IF(ISNA(VLOOKUP(A140,reporting5,4,FALSE)),\"\",VLOOKUP(A140,reporting5,4,FALSE)))","v":""}]
[null,{"$f":"IF(ISBLANK(VLOOKUP(A141,reporting1,2,FALSE)),\"\",IF(ISNA(VLOOKUP(A141,reporting1,2,FALSE)),\"\",VLOOKUP(A141,reporting1,2,FALSE)))","v":""},{"$f":"IF(ISBLANK(VLOOKUP(A141,reporting1,3,FALSE)),\"\",IF(ISNA(VLOOKUP(A141,reporting1,3,FALSE)),\"\",VLOOKUP(A141,reporting1,3,FALSE)))","v":""},{"$f":"IF(ISBLANK(VLOOKUP(A141,reporting1,4,FALSE)),\"\",IF(ISNA(VLOOKUP(A141,reporting1,4,FALSE)),\"\",VLOOKUP(A141,reporting1,4,FALSE)))","v":""},{"$f":"IF(ISBLANK(VLOOKUP(A141,reporting2,2,FALSE)),\"\",IF(ISNA(VLOOKUP(A141,reporting2,2,FALSE)),\"\",VLOOKUP(A141,reporting2,2,FALSE)))","v":""},{"$f":"IF(ISBLANK(VLOOKUP(A141,reporting2,3,FALSE)),\"\",IF(ISNA(VLOOKUP(A141,reporting2,3,FALSE)),\"\",VLOOKUP(A141,reporting2,3,FALSE)))","v":""},{"$f":"IF(ISBLANK(VLOOKUP(A141,reporting2,4,FALSE)),\"\",IF(ISNA(VLOOKUP(A141,reporting2,4,FALSE)),\"\",VLOOKUP(A141,reporting2,4,FALSE)))","v":""},{"$f":"IF(ISBLANK(VLOOKUP(A141,reporting3,2,FALSE)),\"\",IF(ISNA(VLOOKUP(A141,reporting3,2,FALSE)),\"\",VLOOKUP(A141,reporting3,2,FALSE)))","v":""},{"$f":"IF(ISBLANK(VLOOKUP(A141,reporting3,3,FALSE)),\"\",IF(ISNA(VLOOKUP(A141,reporting3,3,FALSE)),\"\",VLOOKUP(A141,reporting3,3,FALSE)))","v":""},{"$f":"IF(ISBLANK(VLOOKUP(A141,reporting3,4,FALSE)),\"\",IF(ISNA(VLOOKUP(A141,reporting3,4,FALSE)),\"\",VLOOKUP(A141,reporting3,4,FALSE)))","v":""},{"$f":"IF(ISBLANK(VLOOKUP(A141,reporting4,2,FALSE)),\"\",IF(ISNA(VLOOKUP(A141,reporting4,2,FALSE)),\"\",VLOOKUP(A141,reporting4,2,FALSE)))","v":""},{"$f":"IF(ISBLANK(VLOOKUP(A141,reporting4,3,FALSE)),\"\",IF(ISNA(VLOOKUP(A141,reporting4,3,FALSE)),\"\",VLOOKUP(A141,reporting4,3,FALSE)))","v":""},{"$f":"IF(ISBLANK(VLOOKUP(A141,reporting4,4,FALSE)),\"\",IF(ISNA(VLOOKUP(A141,reporting4,4,FALSE)),\"\",VLOOKUP(A141,reporting4,4,FALSE)))","v":""},{"$f":"IF(ISBLANK(VLOOKUP(A141,reportin5,2,FALSE)),\"\",IF(ISNA(VLOOKUP(A141,reporting5,2,FALSE)),\"\",VLOOKUP(A141,reporting5,2,FALSE)))","v":""},{"$f":"IF(ISBLANK(VLOOKUP(A141,reporting5,3,FALSE)),\"\",IF(ISNA(VLOOKUP(A141,reporting5,3,FALSE)),\"\",VLOOKUP(A141,reporting5,3,FALSE)))","v":""},{"$f":"IF(ISBLANK(VLOOKUP(A141,reporting5,4,FALSE)),\"\",IF(ISNA(VLOOKUP(A141,reporting5,4,FALSE)),\"\",VLOOKUP(A141,reporting5,4,FALSE)))","v":""}]
[null,{"$f":"IF(ISBLANK(VLOOKUP(A142,reporting1,2,FALSE)),\"\",IF(ISNA(VLOOKUP(A142,reporting1,2,FALSE)),\"\",VLOOKUP(A142,reporting1,2,FALSE)))","v":""},{"$f":"IF(ISBLANK(VLOOKUP(A142,reporting1,3,FALSE)),\"\",IF(ISNA(VLOOKUP(A142,reporting1,3,FALSE)),\"\",VLOOKUP(A142,reporting1,3,FALSE)))","v":""},{"$f":"IF(ISBLANK(VLOOKUP(A142,reporting1,4,FALSE)),\"\",IF(ISNA(VLOOKUP(A142,reporting1,4,FALSE)),\"\",VLOOKUP(A142,reporting1,4,FALSE)))","v":""},{"$f":"IF(ISBLANK(VLOOKUP(A142,reporting2,2,FALSE)),\"\",IF(ISNA(VLOOKUP(A142,reporting2,2,FALSE)),\"\",VLOOKUP(A142,reporting2,2,FALSE)))","v":""},{"$f":"IF(ISBLANK(VLOOKUP(A142,reporting2,3,FALSE)),\"\",IF(ISNA(VLOOKUP(A142,reporting2,3,FALSE)),\"\",VLOOKUP(A142,reporting2,3,FALSE)))","v":""},{"$f":"IF(ISBLANK(VLOOKUP(A142,reporting2,4,FALSE)),\"\",IF(ISNA(VLOOKUP(A142,reporting2,4,FALSE)),\"\",VLOOKUP(A142,reporting2,4,FALSE)))","v":""},{"$f":"IF(ISBLANK(VLOOKUP(A142,reporting3,2,FALSE)),\"\",IF(ISNA(VLOOKUP(A142,reporting3,2,FALSE)),\"\",VLOOKUP(A142,reporting3,2,FALSE)))","v":""},{"$f":"IF(ISBLANK(VLOOKUP(A142,reporting3,3,FALSE)),\"\",IF(ISNA(VLOOKUP(A142,reporting3,3,FALSE)),\"\",VLOOKUP(A142,reporting3,3,FALSE)))","v":""},{"$f":"IF(ISBLANK(VLOOKUP(A142,reporting3,4,FALSE)),\"\",IF(ISNA(VLOOKUP(A142,reporting3,4,FALSE)),\"\",VLOOKUP(A142,reporting3,4,FALSE)))","v":""},{"$f":"IF(ISBLANK(VLOOKUP(A142,reporting4,2,FALSE)),\"\",IF(ISNA(VLOOKUP(A142,reporting4,2,FALSE)),\"\",VLOOKUP(A142,reporting4,2,FALSE)))","v":""},{"$f":"IF(ISBLANK(VLOOKUP(A142,reporting4,3,FALSE)),\"\",IF(ISNA(VLOOKUP(A142,reporting4,3,FALSE)),\"\",VLOOKUP(A142,reporting4,3,FALSE)))","v":""},{"$f":"IF(ISBLANK(VLOOKUP(A142,reporting4,4,FALSE)),\"\",IF(ISNA(VLOOKUP(A142,reporting4,4,FALSE)),\"\",VLOOKUP(A142,reporting4,4,FALSE)))","v":""},{"$f":"IF(ISBLANK(VLOOKUP(A142,reportin5,2,FALSE)),\"\",IF(ISNA(VLOOKUP(A142,reporting5,2,FALSE)),\"\",VLOOKUP(A142,reporting5,2,FALSE)))","v":""},{"$f":"IF(ISBLANK(VLOOKUP(A142,reporting5,3,FALSE)),\"\",IF(ISNA(VLOOKUP(A142,reporting5,3,FALSE)),\"\",VLOOKUP(A142,reporting5,3,FALSE)))","v":""},{"$f":"IF(ISBLANK(VLOOKUP(A142,reporting5,4,FALSE)),\"\",IF(ISNA(VLOOKUP(A142,reporting5,4,FALSE)),\"\",VLOOKUP(A142,reporting5,4,FALSE)))","v":""}]
[null,{"$f":"IF(ISBLANK(VLOOKUP(A143,reporting1,2,FALSE)),\"\",IF(ISNA(VLOOKUP(A143,reporting1,2,FALSE)),\"\",VLOOKUP(A143,reporting1,2,FALSE)))","v":""},{"$f":"IF(ISBLANK(VLOOKUP(A143,reporting1,3,FALSE)),\"\",IF(ISNA(VLOOKUP(A143,reporting1,3,FALSE)),\"\",VLOOKUP(A143,reporting1,3,FALSE)))","v":""},{"$f":"IF(ISBLANK(VLOOKUP(A143,reporting1,4,FALSE)),\"\",IF(ISNA(VLOOKUP(A143,reporting1,4,FALSE)),\"\",VLOOKUP(A143,reporting1,4,FALSE)))","v":""},{"$f":"IF(ISBLANK(VLOOKUP(A143,reporting2,2,FALSE)),\"\",IF(ISNA(VLOOKUP(A143,reporting2,2,FALSE)),\"\",VLOOKUP(A143,reporting2,2,FALSE)))","v":""},{"$f":"IF(ISBLANK(VLOOKUP(A143,reporting2,3,FALSE)),\"\",IF(ISNA(VLOOKUP(A143,reporting2,3,FALSE)),\"\",VLOOKUP(A143,reporting2,3,FALSE)))","v":""},{"$f":"IF(ISBLANK(VLOOKUP(A143,reporting2,4,FALSE)),\"\",IF(ISNA(VLOOKUP(A143,reporting2,4,FALSE)),\"\",VLOOKUP(A143,reporting2,4,FALSE)))","v":""},{"$f":"IF(ISBLANK(VLOOKUP(A143,reporting3,2,FALSE)),\"\",IF(ISNA(VLOOKUP(A143,reporting3,2,FALSE)),\"\",VLOOKUP(A143,reporting3,2,FALSE)))","v":""},{"$f":"IF(ISBLANK(VLOOKUP(A143,reporting3,3,FALSE)),\"\",IF(ISNA(VLOOKUP(A143,reporting3,3,FALSE)),\"\",VLOOKUP(A143,reporting3,3,FALSE)))","v":""},{"$f":"IF(ISBLANK(VLOOKUP(A143,reporting3,4,FALSE)),\"\",IF(ISNA(VLOOKUP(A143,reporting3,4,FALSE)),\"\",VLOOKUP(A143,reporting3,4,FALSE)))","v":""},{"$f":"IF(ISBLANK(VLOOKUP(A143,reporting4,2,FALSE)),\"\",IF(ISNA(VLOOKUP(A143,reporting4,2,FALSE)),\"\",VLOOKUP(A143,reporting4,2,FALSE)))","v":""},{"$f":"IF(ISBLANK(VLOOKUP(A143,reporting4,3,FALSE)),\"\",IF(ISNA(VLOOKUP(A143,reporting4,3,FALSE)),\"\",VLOOKUP(A143,reporting4,3,FALSE)))","v":""},{"$f":"IF(ISBLANK(VLOOKUP(A143,reporting4,4,FALSE)),\"\",IF(ISNA(VLOOKUP(A143,reporting4,4,FALSE)),\"\",VLOOKUP(A143,reporting4,4,FALSE)))","v":""},{"$f":"IF(ISBLANK(VLOOKUP(A143,reportin5,2,FALSE)),\"\",IF(ISNA(VLOOKUP(A143,reporting5,2,FALSE)),\"\",VLOOKUP(A143,reporting5,2,FALSE)))","v":""},{"$f":"IF(ISBLANK(VLOOKUP(A143,reporting5,3,FALSE)),\"\",IF(ISNA(VLOOKUP(A143,reporting5,3,FALSE)),\"\",VLOOKUP(A143,reporting5,3,FALSE)))","v":""},{"$f":"IF(ISBLANK(VLOOKUP(A143,reporting5,4,FALSE)),\"\",IF(ISNA(VLOOKUP(A143,reporting5,4,FALSE)),\"\",VLOOKUP(A143,reporting5,4,FALSE)))","v":""}]
[null,{"$f":"IF(ISBLANK(VLOOKUP(A144,reporting1,2,FALSE)),\"\",IF(ISNA(VLOOKUP(A144,reporting1,2,FALSE)),\"\",VLOOKUP(A144,reporting1,2,FALSE)))","v":""},{"$f":"IF(ISBLANK(VLOOKUP(A144,reporting1,3,FALSE)),\"\",IF(ISNA(VLOOKUP(A144,reporting1,3,FALSE)),\"\",VLOOKUP(A144,reporting1,3,FALSE)))","v":""},{"$f":"IF(ISBLANK(VLOOKUP(A144,reporting1,4,FALSE)),\"\",IF(ISNA(VLOOKUP(A144,reporting1,4,FALSE)),\"\",VLOOKUP(A144,reporting1,4,FALSE)))","v":""},{"$f":"IF(ISBLANK(VLOOKUP(A144,reporting2,2,FALSE)),\"\",IF(ISNA(VLOOKUP(A144,reporting2,2,FALSE)),\"\",VLOOKUP(A144,reporting2,2,FALSE)))","v":""},{"$f":"IF(ISBLANK(VLOOKUP(A144,reporting2,3,FALSE)),\"\",IF(ISNA(VLOOKUP(A144,reporting2,3,FALSE)),\"\",VLOOKUP(A144,reporting2,3,FALSE)))","v":""},{"$f":"IF(ISBLANK(VLOOKUP(A144,reporting2,4,FALSE)),\"\",IF(ISNA(VLOOKUP(A144,reporting2,4,FALSE)),\"\",VLOOKUP(A144,reporting2,4,FALSE)))","v":""},{"$f":"IF(ISBLANK(VLOOKUP(A144,reporting3,2,FALSE)),\"\",IF(ISNA(VLOOKUP(A144,reporting3,2,FALSE)),\"\",VLOOKUP(A144,reporting3,2,FALSE)))","v":""},{"$f":"IF(ISBLANK(VLOOKUP(A144,reporting3,3,FALSE)),\"\",IF(ISNA(VLOOKUP(A144,reporting3,3,FALSE)),\"\",VLOOKUP(A144,reporting3,3,FALSE)))","v":""},{"$f":"IF(ISBLANK(VLOOKUP(A144,reporting3,4,FALSE)),\"\",IF(ISNA(VLOOKUP(A144,reporting3,4,FALSE)),\"\",VLOOKUP(A144,reporting3,4,FALSE)))","v":""},{"$f":"IF(ISBLANK(VLOOKUP(A144,reporting4,2,FALSE)),\"\",IF(ISNA(VLOOKUP(A144,reporting4,2,FALSE)),\"\",VLOOKUP(A144,reporting4,2,FALSE)))","v":""},{"$f":"IF(ISBLANK(VLOOKUP(A144,reporting4,3,FALSE)),\"\",IF(ISNA(VLOOKUP(A144,reporting4,3,FALSE)),\"\",VLOOKUP(A144,reporting4,3,FALSE)))","v":""},{"$f":"IF(ISBLANK(VLOOKUP(A144,reporting4,4,FALSE)),\"\",IF(ISNA(VLOOKUP(A144,reporting4,4,FALSE)),\"\",VLOOKUP(A144,reporting4,4,FALSE)))","v":""},{"$f":"IF(ISBLANK(VLOOKUP(A144,reportin5,2,FALSE)),\"\",IF(ISNA(VLOOKUP(A144,reporting5,2,FALSE)),\"\",VLOOKUP(A144,reporting5,2,FALSE)))","v":""},{"$f":"IF(ISBLANK(VLOOKUP(A144,reporting5,3,FALSE)),\"\",IF(ISNA(VLOOKUP(A144,reporting5,3,FALSE)),\"\",VLOOKUP(A144,reporting5,3,FALSE)))","v":""},{"$f":"IF(ISBLANK(VLOOKUP(A144,reporting5,4,FALSE)),\"\",IF(ISNA(VLOOKUP(A144,reporting5,4,FALSE)),\"\",VLOOKUP(A144,reporting5,4,FALSE)))","v":""}]
[null,{"$f":"IF(ISBLANK(VLOOKUP(A145,reporting1,2,FALSE)),\"\",IF(ISNA(VLOOKUP(A145,reporting1,2,FALSE)),\"\",VLOOKUP(A145,reporting1,2,FALSE)))","v":""},{"$f":"IF(ISBLANK(VLOOKUP(A145,reporting1,3,FALSE)),\"\",IF(ISNA(VLOOKUP(A145,reporting1,3,FALSE)),\"\",VLOOKUP(A145,reporting1,3,FALSE)))","v":""},{"$f":"IF(ISBLANK(VLOOKUP(A145,reporting1,4,FALSE)),\"\",IF(ISNA(VLOOKUP(A145,reporting1,4,FALSE)),\"\",VLOOKUP(A145,reporting1,4,FALSE)))","v":""},{"$f":"IF(ISBLANK(VLOOKUP(A145,reporting2,2,FALSE)),\"\",IF(ISNA(VLOOKUP(A145,reporting2,2,FALSE)),\"\",VLOOKUP(A145,reporting2,2,FALSE)))","v":""},{"$f":"IF(ISBLANK(VLOOKUP(A145,reporting2,3,FALSE)),\"\",IF(ISNA(VLOOKUP(A145,reporting2,3,FALSE)),\"\",VLOOKUP(A145,reporting2,3,FALSE)))","v":""},{"$f":"IF(ISBLANK(VLOOKUP(A145,reporting2,4,FALSE)),\"\",IF(ISNA(VLOOKUP(A145,reporting2,4,FALSE)),\"\",VLOOKUP(A145,reporting2,4,FALSE)))","v":""},{"$f":"IF(ISBLANK(VLOOKUP(A145,reporting3,2,FALSE)),\"\",IF(ISNA(VLOOKUP(A145,reporting3,2,FALSE)),\"\",VLOOKUP(A145,reporting3,2,FALSE)))","v":""},{"$f":"IF(ISBLANK(VLOOKUP(A145,reporting3,3,FALSE)),\"\",IF(ISNA(VLOOKUP(A145,reporting3,3,FALSE)),\"\",VLOOKUP(A145,reporting3,3,FALSE)))","v":""},{"$f":"IF(ISBLANK(VLOOKUP(A145,reporting3,4,FALSE)),\"\",IF(ISNA(VLOOKUP(A145,reporting3,4,FALSE)),\"\",VLOOKUP(A145,reporting3,4,FALSE)))","v":""},{"$f":"IF(ISBLANK(VLOOKUP(A145,reporting4,2,FALSE)),\"\",IF(ISNA(VLOOKUP(A145,reporting4,2,FALSE)),\"\",VLOOKUP(A145,reporting4,2,FALSE)))","v":""},{"$f":"IF(ISBLANK(VLOOKUP(A145,reporting4,3,FALSE)),\"\",IF(ISNA(VLOOKUP(A145,reporting4,3,FALSE)),\"\",VLOOKUP(A145,reporting4,3,FALSE)))","v":""},{"$f":"IF(ISBLANK(VLOOKUP(A145,reporting4,4,FALSE)),\"\",IF(ISNA(VLOOKUP(A145,reporting4,4,FALSE)),\"\",VLOOKUP(A145,reporting4,4,FALSE)))","v":""},{"$f":"IF(ISBLANK(VLOOKUP(A145,reportin5,2,FALSE)),\"\",IF(ISNA(VLOOKUP(A145,reporting5,2,FALSE)),\"\",VLOOKUP(A145,reporting5,2,FALSE)))","v":""},{"$f":"IF(ISBLANK(VLOOKUP(A145,reporting5,3,FALSE)),\"\",IF(ISNA(VLOOKUP(A145,reporting5,3,FALSE)),\"\",VLOOKUP(A145,reporting5,3,FALSE)))","v":""},{"$f":"IF(ISBLANK(VLOOKUP(A145,reporting5,4,FALSE)),\"\",IF(ISNA(VLOOKUP(A145,reporting5,4,FALSE)),\"\",VLOOKUP(A145,reporting5,4,FALSE)))","v":""}]
[null,{"$f":"IF(ISBLANK(VLOOKUP(A146,reporting1,2,FALSE)),\"\",IF(ISNA(VLOOKUP(A146,reporting1,2,FALSE)),\"\",VLOOKUP(A146,reporting1,2,FALSE)))","v":""},{"$f":"IF(ISBLANK(VLOOKUP(A146,reporting1,3,FALSE)),\"\",IF(ISNA(VLOOKUP(A146,reporting1,3,FALSE)),\"\",VLOOKUP(A146,reporting1,3,FALSE)))","v":""},{"$f":"IF(ISBLANK(VLOOKUP(A146,reporting1,4,FALSE)),\"\",IF(ISNA(VLOOKUP(A146,reporting1,4,FALSE)),\"\",VLOOKUP(A146,reporting1,4,FALSE)))","v":""},{"$f":"IF(ISBLANK(VLOOKUP(A146,reporting2,2,FALSE)),\"\",IF(ISNA(VLOOKUP(A146,reporting2,2,FALSE)),\"\",VLOOKUP(A146,reporting2,2,FALSE)))","v":""},{"$f":"IF(ISBLANK(VLOOKUP(A146,reporting2,3,FALSE)),\"\",IF(ISNA(VLOOKUP(A146,reporting2,3,FALSE)),\"\",VLOOKUP(A146,reporting2,3,FALSE)))","v":""},{"$f":"IF(ISBLANK(VLOOKUP(A146,reporting2,4,FALSE)),\"\",IF(ISNA(VLOOKUP(A146,reporting2,4,FALSE)),\"\",VLOOKUP(A146,reporting2,4,FALSE)))","v":""},{"$f":"IF(ISBLANK(VLOOKUP(A146,reporting3,2,FALSE)),\"\",IF(ISNA(VLOOKUP(A146,reporting3,2,FALSE)),\"\",VLOOKUP(A146,reporting3,2,FALSE)))","v":""},{"$f":"IF(ISBLANK(VLOOKUP(A146,reporting3,3,FALSE)),\"\",IF(ISNA(VLOOKUP(A146,reporting3,3,FALSE)),\"\",VLOOKUP(A146,reporting3,3,FALSE)))","v":""},{"$f":"IF(ISBLANK(VLOOKUP(A146,reporting3,4,FALSE)),\"\",IF(ISNA(VLOOKUP(A146,reporting3,4,FALSE)),\"\",VLOOKUP(A146,reporting3,4,FALSE)))","v":""},{"$f":"IF(ISBLANK(VLOOKUP(A146,reporting4,2,FALSE)),\"\",IF(ISNA(VLOOKUP(A146,reporting4,2,FALSE)),\"\",VLOOKUP(A146,reporting4,2,FALSE)))","v":""},{"$f":"IF(ISBLANK(VLOOKUP(A146,reporting4,3,FALSE)),\"\",IF(ISNA(VLOOKUP(A146,reporting4,3,FALSE)),\"\",VLOOKUP(A146,reporting4,3,FALSE)))","v":""},{"$f":"IF(ISBLANK(VLOOKUP(A146,reporting4,4,FALSE)),\"\",IF(ISNA(VLOOKUP(A146,reporting4,4,FALSE)),\"\",VLOOKUP(A146,reporting4,4,FALSE)))","v":""},{"$f":"IF(ISBLANK(VLOOKUP(A146,reportin5,2,FALSE)),\"\",IF(ISNA(VLOOKUP(A146,reporting5,2,FALSE)),\"\",VLOOKUP(A146,reporting5,2,FALSE)))","v":""},{"$f":"IF(ISBLANK(VLOOKUP(A146,reporting5,3,FALSE)),\"\",IF(ISNA(VLOOKUP(A146,reporting5,3,FALSE)),\"\",VLOOKUP(A146,reporting5,3,FALSE)))","v":""},{"$f":"IF(ISBLANK(VLOOKUP(A146,reporting5,4,FALSE)),\"\",IF(ISNA(VLOOKUP(A146,reporting5,4,FALSE)),\"\",VLOOKUP(A146,reporting5,4,FALSE)))","v":""}]
[null,{"$f":"IF(ISBLANK(VLOOKUP(A147,reporting1,2,FALSE)),\"\",IF(ISNA(VLOOKUP(A147,reporting1,2,FALSE)),\"\",VLOOKUP(A147,reporting1,2,FALSE)))","v":""},{"$f":"IF(ISBLANK(VLOOKUP(A147,reporting1,3,FALSE)),\"\",IF(ISNA(VLOOKUP(A147,reporting1,3,FALSE)),\"\",VLOOKUP(A147,reporting1,3,FALSE)))","v":""},{"$f":"IF(ISBLANK(VLOOKUP(A147,reporting1,4,FALSE)),\"\",IF(ISNA(VLOOKUP(A147,reporting1,4,FALSE)),\"\",VLOOKUP(A147,reporting1,4,FALSE)))","v":""},{"$f":"IF(ISBLANK(VLOOKUP(A147,reporting2,2,FALSE)),\"\",IF(ISNA(VLOOKUP(A147,reporting2,2,FALSE)),\"\",VLOOKUP(A147,reporting2,2,FALSE)))","v":""},{"$f":"IF(ISBLANK(VLOOKUP(A147,reporting2,3,FALSE)),\"\",IF(ISNA(VLOOKUP(A147,reporting2,3,FALSE)),\"\",VLOOKUP(A147,reporting2,3,FALSE)))","v":""},{"$f":"IF(ISBLANK(VLOOKUP(A147,reporting2,4,FALSE)),\"\",IF(ISNA(VLOOKUP(A147,reporting2,4,FALSE)),\"\",VLOOKUP(A147,reporting2,4,FALSE)))","v":""},{"$f":"IF(ISBLANK(VLOOKUP(A147,reporting3,2,FALSE)),\"\",IF(ISNA(VLOOKUP(A147,reporting3,2,FALSE)),\"\",VLOOKUP(A147,reporting3,2,FALSE)))","v":""},{"$f":"IF(ISBLANK(VLOOKUP(A147,reporting3,3,FALSE)),\"\",IF(ISNA(VLOOKUP(A147,reporting3,3,FALSE)),\"\",VLOOKUP(A147,reporting3,3,FALSE)))","v":""},{"$f":"IF(ISBLANK(VLOOKUP(A147,reporting3,4,FALSE)),\"\",IF(ISNA(VLOOKUP(A147,reporting3,4,FALSE)),\"\",VLOOKUP(A147,reporting3,4,FALSE)))","v":""},{"$f":"IF(ISBLANK(VLOOKUP(A147,reporting4,2,FALSE)),\"\",IF(ISNA(VLOOKUP(A147,reporting4,2,FALSE)),\"\",VLOOKUP(A147,reporting4,2,FALSE)))","v":""},{"$f":"IF(ISBLANK(VLOOKUP(A147,reporting4,3,FALSE)),\"\",IF(ISNA(VLOOKUP(A147,reporting4,3,FALSE)),\"\",VLOOKUP(A147,reporting4,3,FALSE)))","v":""},{"$f":"IF(ISBLANK(VLOOKUP(A147,reporting4,4,FALSE)),\"\",IF(ISNA(VLOOKUP(A147,reporting4,4,FALSE)),\"\",VLOOKUP(A147,reporting4,4,FALSE)))","v":""},{"$f":"IF(ISBLANK(VLOOKUP(A147,reportin5,2,FALSE)),\"\",IF(ISNA(VLOOKUP(A147,reporting5,2,FALSE)),\"\",VLOOKUP(A147,reporting5,2,FALSE)))","v":""},{"$f":"IF(ISBLANK(VLOOKUP(A147,reporting5,3,FALSE)),\"\",IF(ISNA(VLOOKUP(A147,reporting5,3,FALSE)),\"\",VLOOKUP(A147,reporting5,3,FALSE)))","v":""},{"$f":"IF(ISBLANK(VLOOKUP(A147,reporting5,4,FALSE)),\"\",IF(ISNA(VLOOKUP(A147,reporting5,4,FALSE)),\"\",VLOOKUP(A147,reporting5,4,FALSE)))","v":""}]
[null,{"$f":"IF(ISBLANK(VLOOKUP(A148,reporting1,2,FALSE)),\"\",IF(ISNA(VLOOKUP(A148,reporting1,2,FALSE)),\"\",VLOOKUP(A148,reporting1,2,FALSE)))","v":""},{"$f":"IF(ISBLANK(VLOOKUP(A148,reporting1,3,FALSE)),\"\",IF(ISNA(VLOOKUP(A148,reporting1,3,FALSE)),\"\",VLOOKUP(A148,reporting1,3,FALSE)))","v":""},{"$f":"IF(ISBLANK(VLOOKUP(A148,reporting1,4,FALSE)),\"\",IF(ISNA(VLOOKUP(A148,reporting1,4,FALSE)),\"\",VLOOKUP(A148,reporting1,4,FALSE)))","v":""},{"$f":"IF(ISBLANK(VLOOKUP(A148,reporting2,2,FALSE)),\"\",IF(ISNA(VLOOKUP(A148,reporting2,2,FALSE)),\"\",VLOOKUP(A148,reporting2,2,FALSE)))","v":""},{"$f":"IF(ISBLANK(VLOOKUP(A148,reporting2,3,FALSE)),\"\",IF(ISNA(VLOOKUP(A148,reporting2,3,FALSE)),\"\",VLOOKUP(A148,reporting2,3,FALSE)))","v":""},{"$f":"IF(ISBLANK(VLOOKUP(A148,reporting2,4,FALSE)),\"\",IF(ISNA(VLOOKUP(A148,reporting2,4,FALSE)),\"\",VLOOKUP(A148,reporting2,4,FALSE)))","v":""},{"$f":"IF(ISBLANK(VLOOKUP(A148,reporting3,2,FALSE)),\"\",IF(ISNA(VLOOKUP(A148,reporting3,2,FALSE)),\"\",VLOOKUP(A148,reporting3,2,FALSE)))","v":""},{"$f":"IF(ISBLANK(VLOOKUP(A148,reporting3,3,FALSE)),\"\",IF(ISNA(VLOOKUP(A148,reporting3,3,FALSE)),\"\",VLOOKUP(A148,reporting3,3,FALSE)))","v":""},{"$f":"IF(ISBLANK(VLOOKUP(A148,reporting3,4,FALSE)),\"\",IF(ISNA(VLOOKUP(A148,reporting3,4,FALSE)),\"\",VLOOKUP(A148,reporting3,4,FALSE)))","v":""},{"$f":"IF(ISBLANK(VLOOKUP(A148,reporting4,2,FALSE)),\"\",IF(ISNA(VLOOKUP(A148,reporting4,2,FALSE)),\"\",VLOOKUP(A148,reporting4,2,FALSE)))","v":""},{"$f":"IF(ISBLANK(VLOOKUP(A148,reporting4,3,FALSE)),\"\",IF(ISNA(VLOOKUP(A148,reporting4,3,FALSE)),\"\",VLOOKUP(A148,reporting4,3,FALSE)))","v":""},{"$f":"IF(ISBLANK(VLOOKUP(A148,reporting4,4,FALSE)),\"\",IF(ISNA(VLOOKUP(A148,reporting4,4,FALSE)),\"\",VLOOKUP(A148,reporting4,4,FALSE)))","v":""},{"$f":"IF(ISBLANK(VLOOKUP(A148,reportin5,2,FALSE)),\"\",IF(ISNA(VLOOKUP(A148,reporting5,2,FALSE)),\"\",VLOOKUP(A148,reporting5,2,FALSE)))","v":""},{"$f":"IF(ISBLANK(VLOOKUP(A148,reporting5,3,FALSE)),\"\",IF(ISNA(VLOOKUP(A148,reporting5,3,FALSE)),\"\",VLOOKUP(A148,reporting5,3,FALSE)))","v":""},{"$f":"IF(ISBLANK(VLOOKUP(A148,reporting5,4,FALSE)),\"\",IF(ISNA(VLOOKUP(A148,reporting5,4,FALSE)),\"\",VLOOKUP(A148,reporting5,4,FALSE)))","v":""}]
[null,{"$f":"IF(ISBLANK(VLOOKUP(A149,reporting1,2,FALSE)),\"\",IF(ISNA(VLOOKUP(A149,reporting1,2,FALSE)),\"\",VLOOKUP(A149,reporting1,2,FALSE)))","v":""},{"$f":"IF(ISBLANK(VLOOKUP(A149,reporting1,3,FALSE)),\"\",IF(ISNA(VLOOKUP(A149,reporting1,3,FALSE)),\"\",VLOOKUP(A149,reporting1,3,FALSE)))","v":""},{"$f":"IF(ISBLANK(VLOOKUP(A149,reporting1,4,FALSE)),\"\",IF(ISNA(VLOOKUP(A149,reporting1,4,FALSE)),\"\",VLOOKUP(A149,reporting1,4,FALSE)))","v":""},{"$f":"IF(ISBLANK(VLOOKUP(A149,reporting2,2,FALSE)),\"\",IF(ISNA(VLOOKUP(A149,reporting2,2,FALSE)),\"\",VLOOKUP(A149,reporting2,2,FALSE)))","v":""},{"$f":"IF(ISBLANK(VLOOKUP(A149,reporting2,3,FALSE)),\"\",IF(ISNA(VLOOKUP(A149,reporting2,3,FALSE)),\"\",VLOOKUP(A149,reporting2,3,FALSE)))","v":""},{"$f":"IF(ISBLANK(VLOOKUP(A149,reporting2,4,FALSE)),\"\",IF(ISNA(VLOOKUP(A149,reporting2,4,FALSE)),\"\",VLOOKUP(A149,reporting2,4,FALSE)))","v":""},{"$f":"IF(ISBLANK(VLOOKUP(A149,reporting3,2,FALSE)),\"\",IF(ISNA(VLOOKUP(A149,reporting3,2,FALSE)),\"\",VLOOKUP(A149,reporting3,2,FALSE)))","v":""},{"$f":"IF(ISBLANK(VLOOKUP(A149,reporting3,3,FALSE)),\"\",IF(ISNA(VLOOKUP(A149,reporting3,3,FALSE)),\"\",VLOOKUP(A149,reporting3,3,FALSE)))","v":""},{"$f":"IF(ISBLANK(VLOOKUP(A149,reporting3,4,FALSE)),\"\",IF(ISNA(VLOOKUP(A149,reporting3,4,FALSE)),\"\",VLOOKUP(A149,reporting3,4,FALSE)))","v":""},{"$f":"IF(ISBLANK(VLOOKUP(A149,reporting4,2,FALSE)),\"\",IF(ISNA(VLOOKUP(A149,reporting4,2,FALSE)),\"\",VLOOKUP(A149,reporting4,2,FALSE)))","v":""},{"$f":"IF(ISBLANK(VLOOKUP(A149,reporting4,3,FALSE)),\"\",IF(ISNA(VLOOKUP(A149,reporting4,3,FALSE)),\"\",VLOOKUP(A149,reporting4,3,FALSE)))","v":""},{"$f":"IF(ISBLANK(VLOOKUP(A149,reporting4,4,FALSE)),\"\",IF(ISNA(VLOOKUP(A149,reporting4,4,FALSE)),\"\",VLOOKUP(A149,reporting4,4,FALSE)))","v":""},{"$f":"IF(ISBLANK(VLOOKUP(A149,reportin5,2,FALSE)),\"\",IF(ISNA(VLOOKUP(A149,reporting5,2,FALSE)),\"\",VLOOKUP(A149,reporting5,2,FALSE)))","v":""},{"$f":"IF(ISBLANK(VLOOKUP(A149,reporting5,3,FALSE)),\"\",IF(ISNA(VLOOKUP(A149,reporting5,3,FALSE)),\"\",VLOOKUP(A149,reporting5,3,FALSE)))","v":""},{"$f":"IF(ISBLANK(VLOOKUP(A149,reporting5,4,FALSE)),\"\",IF(ISNA(VLOOKUP(A149,reporting5,4,FALSE)),\"\",VLOOKUP(A149,reporting5,4,FALSE)))","v":""}]
[null,{"$f":"IF(ISBLANK(VLOOKUP(A150,reporting1,2,FALSE)),\"\",IF(ISNA(VLOOKUP(A150,reporting1,2,FALSE)),\"\",VLOOKUP(A150,reporting1,2,FALSE)))","v":""},{"$f":"IF(ISBLANK(VLOOKUP(A150,reporting1,3,FALSE)),\"\",IF(ISNA(VLOOKUP(A150,reporting1,3,FALSE)),\"\",VLOOKUP(A150,reporting1,3,FALSE)))","v":""},{"$f":"IF(ISBLANK(VLOOKUP(A150,reporting1,4,FALSE)),\"\",IF(ISNA(VLOOKUP(A150,reporting1,4,FALSE)),\"\",VLOOKUP(A150,reporting1,4,FALSE)))","v":""},{"$f":"IF(ISBLANK(VLOOKUP(A150,reporting2,2,FALSE)),\"\",IF(ISNA(VLOOKUP(A150,reporting2,2,FALSE)),\"\",VLOOKUP(A150,reporting2,2,FALSE)))","v":""},{"$f":"IF(ISBLANK(VLOOKUP(A150,reporting2,3,FALSE)),\"\",IF(ISNA(VLOOKUP(A150,reporting2,3,FALSE)),\"\",VLOOKUP(A150,reporting2,3,FALSE)))","v":""},{"$f":"IF(ISBLANK(VLOOKUP(A150,reporting2,4,FALSE)),\"\",IF(ISNA(VLOOKUP(A150,reporting2,4,FALSE)),\"\",VLOOKUP(A150,reporting2,4,FALSE)))","v":""},{"$f":"IF(ISBLANK(VLOOKUP(A150,reporting3,2,FALSE)),\"\",IF(ISNA(VLOOKUP(A150,reporting3,2,FALSE)),\"\",VLOOKUP(A150,reporting3,2,FALSE)))","v":""},{"$f":"IF(ISBLANK(VLOOKUP(A150,reporting3,3,FALSE)),\"\",IF(ISNA(VLOOKUP(A150,reporting3,3,FALSE)),\"\",VLOOKUP(A150,reporting3,3,FALSE)))","v":""},{"$f":"IF(ISBLANK(VLOOKUP(A150,reporting3,4,FALSE)),\"\",IF(ISNA(VLOOKUP(A150,reporting3,4,FALSE)),\"\",VLOOKUP(A150,reporting3,4,FALSE)))","v":""},{"$f":"IF(ISBLANK(VLOOKUP(A150,reporting4,2,FALSE)),\"\",IF(ISNA(VLOOKUP(A150,reporting4,2,FALSE)),\"\",VLOOKUP(A150,reporting4,2,FALSE)))","v":""},{"$f":"IF(ISBLANK(VLOOKUP(A150,reporting4,3,FALSE)),\"\",IF(ISNA(VLOOKUP(A150,reporting4,3,FALSE)),\"\",VLOOKUP(A150,reporting4,3,FALSE)))","v":""},{"$f":"IF(ISBLANK(VLOOKUP(A150,reporting4,4,FALSE)),\"\",IF(ISNA(VLOOKUP(A150,reporting4,4,FALSE)),\"\",VLOOKUP(A150,reporting4,4,FALSE)))","v":""},{"$f":"IF(ISBLANK(VLOOKUP(A150,reportin5,2,FALSE)),\"\",IF(ISNA(VLOOKUP(A150,reporting5,2,FALSE)),\"\",VLOOKUP(A150,reporting5,2,FALSE)))","v":""},{"$f":"IF(ISBLANK(VLOOKUP(A150,reporting5,3,FALSE)),\"\",IF(ISNA(VLOOKUP(A150,reporting5,3,FALSE)),\"\",VLOOKUP(A150,reporting5,3,FALSE)))","v":""},{"$f":"IF(ISBLANK(VLOOKUP(A150,reporting5,4,FALSE)),\"\",IF(ISNA(VLOOKUP(A150,reporting5,4,FALSE)),\"\",VLOOKUP(A150,reporting5,4,FALSE)))","v":""}]
[null,{"$f":"IF(ISBLANK(VLOOKUP(A151,reporting1,2,FALSE)),\"\",IF(ISNA(VLOOKUP(A151,reporting1,2,FALSE)),\"\",VLOOKUP(A151,reporting1,2,FALSE)))","v":""},{"$f":"IF(ISBLANK(VLOOKUP(A151,reporting1,3,FALSE)),\"\",IF(ISNA(VLOOKUP(A151,reporting1,3,FALSE)),\"\",VLOOKUP(A151,reporting1,3,FALSE)))","v":""},{"$f":"IF(ISBLANK(VLOOKUP(A151,reporting1,4,FALSE)),\"\",IF(ISNA(VLOOKUP(A151,reporting1,4,FALSE)),\"\",VLOOKUP(A151,reporting1,4,FALSE)))","v":""},{"$f":"IF(ISBLANK(VLOOKUP(A151,reporting2,2,FALSE)),\"\",IF(ISNA(VLOOKUP(A151,reporting2,2,FALSE)),\"\",VLOOKUP(A151,reporting2,2,FALSE)))","v":""},{"$f":"IF(ISBLANK(VLOOKUP(A151,reporting2,3,FALSE)),\"\",IF(ISNA(VLOOKUP(A151,reporting2,3,FALSE)),\"\",VLOOKUP(A151,reporting2,3,FALSE)))","v":""},{"$f":"IF(ISBLANK(VLOOKUP(A151,reporting2,4,FALSE)),\"\",IF(ISNA(VLOOKUP(A151,reporting2,4,FALSE)),\"\",VLOOKUP(A151,reporting2,4,FALSE)))","v":""},{"$f":"IF(ISBLANK(VLOOKUP(A151,reporting3,2,FALSE)),\"\",IF(ISNA(VLOOKUP(A151,reporting3,2,FALSE)),\"\",VLOOKUP(A151,reporting3,2,FALSE)))","v":""},{"$f":"IF(ISBLANK(VLOOKUP(A151,reporting3,3,FALSE)),\"\",IF(ISNA(VLOOKUP(A151,reporting3,3,FALSE)),\"\",VLOOKUP(A151,reporting3,3,FALSE)))","v":""},{"$f":"IF(ISBLANK(VLOOKUP(A151,reporting3,4,FALSE)),\"\",IF(ISNA(VLOOKUP(A151,reporting3,4,FALSE)),\"\",VLOOKUP(A151,reporting3,4,FALSE)))","v":""},{"$f":"IF(ISBLANK(VLOOKUP(A151,reporting4,2,FALSE)),\"\",IF(ISNA(VLOOKUP(A151,reporting4,2,FALSE)),\"\",VLOOKUP(A151,reporting4,2,FALSE)))","v":""},{"$f":"IF(ISBLANK(VLOOKUP(A151,reporting4,3,FALSE)),\"\",IF(ISNA(VLOOKUP(A151,reporting4,3,FALSE)),\"\",VLOOKUP(A151,reporting4,3,FALSE)))","v":""},{"$f":"IF(ISBLANK(VLOOKUP(A151,reporting4,4,FALSE)),\"\",IF(ISNA(VLOOKUP(A151,reporting4,4,FALSE)),\"\",VLOOKUP(A151,reporting4,4,FALSE)))","v":""},{"$f":"IF(ISBLANK(VLOOKUP(A151,reportin5,2,FALSE)),\"\",IF(ISNA(VLOOKUP(A151,reporting5,2,FALSE)),\"\",VLOOKUP(A151,reporting5,2,FALSE)))","v":""},{"$f":"IF(ISBLANK(VLOOKUP(A151,reporting5,3,FALSE)),\"\",IF(ISNA(VLOOKUP(A151,reporting5,3,FALSE)),\"\",VLOOKUP(A151,reporting5,3,FALSE)))","v":""},{"$f":"IF(ISBLANK(VLOOKUP(A151,reporting5,4,FALSE)),\"\",IF(ISNA(VLOOKUP(A151,reporting5,4,FALSE)),\"\",VLOOKUP(A151,reporting5,4,FALSE)))","v":""}]
[null,{"$f":"IF(ISBLANK(VLOOKUP(A152,reporting1,2,FALSE)),\"\",IF(ISNA(VLOOKUP(A152,reporting1,2,FALSE)),\"\",VLOOKUP(A152,reporting1,2,FALSE)))","v":""},{"$f":"IF(ISBLANK(VLOOKUP(A152,reporting1,3,FALSE)),\"\",IF(ISNA(VLOOKUP(A152,reporting1,3,FALSE)),\"\",VLOOKUP(A152,reporting1,3,FALSE)))","v":""},{"$f":"IF(ISBLANK(VLOOKUP(A152,reporting1,4,FALSE)),\"\",IF(ISNA(VLOOKUP(A152,reporting1,4,FALSE)),\"\",VLOOKUP(A152,reporting1,4,FALSE)))","v":""},{"$f":"IF(ISBLANK(VLOOKUP(A152,reporting2,2,FALSE)),\"\",IF(ISNA(VLOOKUP(A152,reporting2,2,FALSE)),\"\",VLOOKUP(A152,reporting2,2,FALSE)))","v":""},{"$f":"IF(ISBLANK(VLOOKUP(A152,reporting2,3,FALSE)),\"\",IF(ISNA(VLOOKUP(A152,reporting2,3,FALSE)),\"\",VLOOKUP(A152,reporting2,3,FALSE)))","v":""},{"$f":"IF(ISBLANK(VLOOKUP(A152,reporting2,4,FALSE)),\"\",IF(ISNA(VLOOKUP(A152,reporting2,4,FALSE)),\"\",VLOOKUP(A152,reporting2,4,FALSE)))","v":""},{"$f":"IF(ISBLANK(VLOOKUP(A152,reporting3,2,FALSE)),\"\",IF(ISNA(VLOOKUP(A152,reporting3,2,FALSE)),\"\",VLOOKUP(A152,reporting3,2,FALSE)))","v":""},{"$f":"IF(ISBLANK(VLOOKUP(A152,reporting3,3,FALSE)),\"\",IF(ISNA(VLOOKUP(A152,reporting3,3,FALSE)),\"\",VLOOKUP(A152,reporting3,3,FALSE)))","v":""},{"$f":"IF(ISBLANK(VLOOKUP(A152,reporting3,4,FALSE)),\"\",IF(ISNA(VLOOKUP(A152,reporting3,4,FALSE)),\"\",VLOOKUP(A152,reporting3,4,FALSE)))","v":""},{"$f":"IF(ISBLANK(VLOOKUP(A152,reporting4,2,FALSE)),\"\",IF(ISNA(VLOOKUP(A152,reporting4,2,FALSE)),\"\",VLOOKUP(A152,reporting4,2,FALSE)))","v":""},{"$f":"IF(ISBLANK(VLOOKUP(A152,reporting4,3,FALSE)),\"\",IF(ISNA(VLOOKUP(A152,reporting4,3,FALSE)),\"\",VLOOKUP(A152,reporting4,3,FALSE)))","v":""},{"$f":"IF(ISBLANK(VLOOKUP(A152,reporting4,4,FALSE)),\"\",IF(ISNA(VLOOKUP(A152,reporting4,4,FALSE)),\"\",VLOOKUP(A152,reporting4,4,FALSE)))","v":""},{"$f":"IF(ISBLANK(VLOOKUP(A152,reportin5,2,FALSE)),\"\",IF(ISNA(VLOOKUP(A152,reporting5,2,FALSE)),\"\",VLOOKUP(A152,reporting5,2,FALSE)))","v":""},{"$f":"IF(ISBLANK(VLOOKUP(A152,reporting5,3,FALSE)),\"\",IF(ISNA(VLOOKUP(A152,reporting5,3,FALSE)),\"\",VLOOKUP(A152,reporting5,3,FALSE)))","v":""},{"$f":"IF(ISBLANK(VLOOKUP(A152,reporting5,4,FALSE)),\"\",IF(ISNA(VLOOKUP(A152,reporting5,4,FALSE)),\"\",VLOOKUP(A152,reporting5,4,FALSE)))","v":""}]
[null,{"$f":"IF(ISBLANK(VLOOKUP(A153,reporting1,2,FALSE)),\"\",IF(ISNA(VLOOKUP(A153,reporting1,2,FALSE)),\"\",VLOOKUP(A153,reporting1,2,FALSE)))","v":""},{"$f":"IF(ISBLANK(VLOOKUP(A153,reporting1,3,FALSE)),\"\",IF(ISNA(VLOOKUP(A153,reporting1,3,FALSE)),\"\",VLOOKUP(A153,reporting1,3,FALSE)))","v":""},{"$f":"IF(ISBLANK(VLOOKUP(A153,reporting1,4,FALSE)),\"\",IF(ISNA(VLOOKUP(A153,reporting1,4,FALSE)),\"\",VLOOKUP(A153,reporting1,4,FALSE)))","v":""},{"$f":"IF(ISBLANK(VLOOKUP(A153,reporting2,2,FALSE)),\"\",IF(ISNA(VLOOKUP(A153,reporting2,2,FALSE)),\"\",VLOOKUP(A153,reporting2,2,FALSE)))","v":""},{"$f":"IF(ISBLANK(VLOOKUP(A153,reporting2,3,FALSE)),\"\",IF(ISNA(VLOOKUP(A153,reporting2,3,FALSE)),\"\",VLOOKUP(A153,reporting2,3,FALSE)))","v":""},{"$f":"IF(ISBLANK(VLOOKUP(A153,reporting2,4,FALSE)),\"\",IF(ISNA(VLOOKUP(A153,reporting2,4,FALSE)),\"\",VLOOKUP(A153,reporting2,4,FALSE)))","v":""},{"$f":"IF(ISBLANK(VLOOKUP(A153,reporting3,2,FALSE)),\"\",IF(ISNA(VLOOKUP(A153,reporting3,2,FALSE)),\"\",VLOOKUP(A153,reporting3,2,FALSE)))","v":""},{"$f":"IF(ISBLANK(VLOOKUP(A153,reporting3,3,FALSE)),\"\",IF(ISNA(VLOOKUP(A153,reporting3,3,FALSE)),\"\",VLOOKUP(A153,reporting3,3,FALSE)))","v":""},{"$f":"IF(ISBLANK(VLOOKUP(A153,reporting3,4,FALSE)),\"\",IF(ISNA(VLOOKUP(A153,reporting3,4,FALSE)),\"\",VLOOKUP(A153,reporting3,4,FALSE)))","v":""},{"$f":"IF(ISBLANK(VLOOKUP(A153,reporting4,2,FALSE)),\"\",IF(ISNA(VLOOKUP(A153,reporting4,2,FALSE)),\"\",VLOOKUP(A153,reporting4,2,FALSE)))","v":""},{"$f":"IF(ISBLANK(VLOOKUP(A153,reporting4,3,FALSE)),\"\",IF(ISNA(VLOOKUP(A153,reporting4,3,FALSE)),\"\",VLOOKUP(A153,reporting4,3,FALSE)))","v":""},{"$f":"IF(ISBLANK(VLOOKUP(A153,reporting4,4,FALSE)),\"\",IF(ISNA(VLOOKUP(A153,reporting4,4,FALSE)),\"\",VLOOKUP(A153,reporting4,4,FALSE)))","v":""},{"$f":"IF(ISBLANK(VLOOKUP(A153,reportin5,2,FALSE)),\"\",IF(ISNA(VLOOKUP(A153,reporting5,2,FALSE)),\"\",VLOOKUP(A153,reporting5,2,FALSE)))","v":""},{"$f":"IF(ISBLANK(VLOOKUP(A153,reporting5,3,FALSE)),\"\",IF(ISNA(VLOOKUP(A153,reporting5,3,FALSE)),\"\",VLOOKUP(A153,reporting5,3,FALSE)))","v":""},{"$f":"IF(ISBLANK(VLOOKUP(A153,reporting5,4,FALSE)),\"\",IF(ISNA(VLOOKUP(A153,reporting5,4,FALSE)),\"\",VLOOKUP(A153,reporting5,4,FALSE)))","v":""}]
[null,{"$f":"IF(ISBLANK(VLOOKUP(A154,reporting1,2,FALSE)),\"\",IF(ISNA(VLOOKUP(A154,reporting1,2,FALSE)),\"\",VLOOKUP(A154,reporting1,2,FALSE)))","v":""},{"$f":"IF(ISBLANK(VLOOKUP(A154,reporting1,3,FALSE)),\"\",IF(ISNA(VLOOKUP(A154,reporting1,3,FALSE)),\"\",VLOOKUP(A154,reporting1,3,FALSE)))","v":""},{"$f":"IF(ISBLANK(VLOOKUP(A154,reporting1,4,FALSE)),\"\",IF(ISNA(VLOOKUP(A154,reporting1,4,FALSE)),\"\",VLOOKUP(A154,reporting1,4,FALSE)))","v":""},{"$f":"IF(ISBLANK(VLOOKUP(A154,reporting2,2,FALSE)),\"\",IF(ISNA(VLOOKUP(A154,reporting2,2,FALSE)),\"\",VLOOKUP(A154,reporting2,2,FALSE)))","v":""},{"$f":"IF(ISBLANK(VLOOKUP(A154,reporting2,3,FALSE)),\"\",IF(ISNA(VLOOKUP(A154,reporting2,3,FALSE)),\"\",VLOOKUP(A154,reporting2,3,FALSE)))","v":""},{"$f":"IF(ISBLANK(VLOOKUP(A154,reporting2,4,FALSE)),\"\",IF(ISNA(VLOOKUP(A154,reporting2,4,FALSE)),\"\",VLOOKUP(A154,reporting2,4,FALSE)))","v":""},{"$f":"IF(ISBLANK(VLOOKUP(A154,reporting3,2,FALSE)),\"\",IF(ISNA(VLOOKUP(A154,reporting3,2,FALSE)),\"\",VLOOKUP(A154,reporting3,2,FALSE)))","v":""},{"$f":"IF(ISBLANK(VLOOKUP(A154,reporting3,3,FALSE)),\"\",IF(ISNA(VLOOKUP(A154,reporting3,3,FALSE)),\"\",VLOOKUP(A154,reporting3,3,FALSE)))","v":""},{"$f":"IF(ISBLANK(VLOOKUP(A154,reporting3,4,FALSE)),\"\",IF(ISNA(VLOOKUP(A154,reporting3,4,FALSE)),\"\",VLOOKUP(A154,reporting3,4,FALSE)))","v":""},{"$f":"IF(ISBLANK(VLOOKUP(A154,reporting4,2,FALSE)),\"\",IF(ISNA(VLOOKUP(A154,reporting4,2,FALSE)),\"\",VLOOKUP(A154,reporting4,2,FALSE)))","v":""},{"$f":"IF(ISBLANK(VLOOKUP(A154,reporting4,3,FALSE)),\"\",IF(ISNA(VLOOKUP(A154,reporting4,3,FALSE)),\"\",VLOOKUP(A154,reporting4,3,FALSE)))","v":""},{"$f":"IF(ISBLANK(VLOOKUP(A154,reporting4,4,FALSE)),\"\",IF(ISNA(VLOOKUP(A154,reporting4,4,FALSE)),\"\",VLOOKUP(A154,reporting4,4,FALSE)))","v":""},{"$f":"IF(ISBLANK(VLOOKUP(A154,reportin5,2,FALSE)),\"\",IF(ISNA(VLOOKUP(A154,reporting5,2,FALSE)),\"\",VLOOKUP(A154,reporting5,2,FALSE)))","v":""},{"$f":"IF(ISBLANK(VLOOKUP(A154,reporting5,3,FALSE)),\"\",IF(ISNA(VLOOKUP(A154,reporting5,3,FALSE)),\"\",VLOOKUP(A154,reporting5,3,FALSE)))","v":""},{"$f":"IF(ISBLANK(VLOOKUP(A154,reporting5,4,FALSE)),\"\",IF(ISNA(VLOOKUP(A154,reporting5,4,FALSE)),\"\",VLOOKUP(A154,reporting5,4,FALSE)))","v":""}]
[null,{"$f":"IF(ISBLANK(VLOOKUP(A155,reporting1,2,FALSE)),\"\",IF(ISNA(VLOOKUP(A155,reporting1,2,FALSE)),\"\",VLOOKUP(A155,reporting1,2,FALSE)))","v":""},{"$f":"IF(ISBLANK(VLOOKUP(A155,reporting1,3,FALSE)),\"\",IF(ISNA(VLOOKUP(A155,reporting1,3,FALSE)),\"\",VLOOKUP(A155,reporting1,3,FALSE)))","v":""},{"$f":"IF(ISBLANK(VLOOKUP(A155,reporting1,4,FALSE)),\"\",IF(ISNA(VLOOKUP(A155,reporting1,4,FALSE)),\"\",VLOOKUP(A155,reporting1,4,FALSE)))","v":""},{"$f":"IF(ISBLANK(VLOOKUP(A155,reporting2,2,FALSE)),\"\",IF(ISNA(VLOOKUP(A155,reporting2,2,FALSE)),\"\",VLOOKUP(A155,reporting2,2,FALSE)))","v":""},{"$f":"IF(ISBLANK(VLOOKUP(A155,reporting2,3,FALSE)),\"\",IF(ISNA(VLOOKUP(A155,reporting2,3,FALSE)),\"\",VLOOKUP(A155,reporting2,3,FALSE)))","v":""},{"$f":"IF(ISBLANK(VLOOKUP(A155,reporting2,4,FALSE)),\"\",IF(ISNA(VLOOKUP(A155,reporting2,4,FALSE)),\"\",VLOOKUP(A155,reporting2,4,FALSE)))","v":""},{"$f":"IF(ISBLANK(VLOOKUP(A155,reporting3,2,FALSE)),\"\",IF(ISNA(VLOOKUP(A155,reporting3,2,FALSE)),\"\",VLOOKUP(A155,reporting3,2,FALSE)))","v":""},{"$f":"IF(ISBLANK(VLOOKUP(A155,reporting3,3,FALSE)),\"\",IF(ISNA(VLOOKUP(A155,reporting3,3,FALSE)),\"\",VLOOKUP(A155,reporting3,3,FALSE)))","v":""},{"$f":"IF(ISBLANK(VLOOKUP(A155,reporting3,4,FALSE)),\"\",IF(ISNA(VLOOKUP(A155,reporting3,4,FALSE)),\"\",VLOOKUP(A155,reporting3,4,FALSE)))","v":""},{"$f":"IF(ISBLANK(VLOOKUP(A155,reporting4,2,FALSE)),\"\",IF(ISNA(VLOOKUP(A155,reporting4,2,FALSE)),\"\",VLOOKUP(A155,reporting4,2,FALSE)))","v":""},{"$f":"IF(ISBLANK(VLOOKUP(A155,reporting4,3,FALSE)),\"\",IF(ISNA(VLOOKUP(A155,reporting4,3,FALSE)),\"\",VLOOKUP(A155,reporting4,3,FALSE)))","v":""},{"$f":"IF(ISBLANK(VLOOKUP(A155,reporting4,4,FALSE)),\"\",IF(ISNA(VLOOKUP(A155,reporting4,4,FALSE)),\"\",VLOOKUP(A155,reporting4,4,FALSE)))","v":""},{"$f":"IF(ISBLANK(VLOOKUP(A155,reportin5,2,FALSE)),\"\",IF(ISNA(VLOOKUP(A155,reporting5,2,FALSE)),\"\",VLOOKUP(A155,reporting5,2,FALSE)))","v":""},{"$f":"IF(ISBLANK(VLOOKUP(A155,reporting5,3,FALSE)),\"\",IF(ISNA(VLOOKUP(A155,reporting5,3,FALSE)),\"\",VLOOKUP(A155,reporting5,3,FALSE)))","v":""},{"$f":"IF(ISBLANK(VLOOKUP(A155,reporting5,4,FALSE)),\"\",IF(ISNA(VLOOKUP(A155,reporting5,4,FALSE)),\"\",VLOOKUP(A155,reporting5,4,FALSE)))","v":""}]
[null,{"$f":"IF(ISBLANK(VLOOKUP(A156,reporting1,2,FALSE)),\"\",IF(ISNA(VLOOKUP(A156,reporting1,2,FALSE)),\"\",VLOOKUP(A156,reporting1,2,FALSE)))","v":""},{"$f":"IF(ISBLANK(VLOOKUP(A156,reporting1,3,FALSE)),\"\",IF(ISNA(VLOOKUP(A156,reporting1,3,FALSE)),\"\",VLOOKUP(A156,reporting1,3,FALSE)))","v":""},{"$f":"IF(ISBLANK(VLOOKUP(A156,reporting1,4,FALSE)),\"\",IF(ISNA(VLOOKUP(A156,reporting1,4,FALSE)),\"\",VLOOKUP(A156,reporting1,4,FALSE)))","v":""},{"$f":"IF(ISBLANK(VLOOKUP(A156,reporting2,2,FALSE)),\"\",IF(ISNA(VLOOKUP(A156,reporting2,2,FALSE)),\"\",VLOOKUP(A156,reporting2,2,FALSE)))","v":""},{"$f":"IF(ISBLANK(VLOOKUP(A156,reporting2,3,FALSE)),\"\",IF(ISNA(VLOOKUP(A156,reporting2,3,FALSE)),\"\",VLOOKUP(A156,reporting2,3,FALSE)))","v":""},{"$f":"IF(ISBLANK(VLOOKUP(A156,reporting2,4,FALSE)),\"\",IF(ISNA(VLOOKUP(A156,reporting2,4,FALSE)),\"\",VLOOKUP(A156,reporting2,4,FALSE)))","v":""},{"$f":"IF(ISBLANK(VLOOKUP(A156,reporting3,2,FALSE)),\"\",IF(ISNA(VLOOKUP(A156,reporting3,2,FALSE)),\"\",VLOOKUP(A156,reporting3,2,FALSE)))","v":""},{"$f":"IF(ISBLANK(VLOOKUP(A156,reporting3,3,FALSE)),\"\",IF(ISNA(VLOOKUP(A156,reporting3,3,FALSE)),\"\",VLOOKUP(A156,reporting3,3,FALSE)))","v":""},{"$f":"IF(ISBLANK(VLOOKUP(A156,reporting3,4,FALSE)),\"\",IF(ISNA(VLOOKUP(A156,reporting3,4,FALSE)),\"\",VLOOKUP(A156,reporting3,4,FALSE)))","v":""},{"$f":"IF(ISBLANK(VLOOKUP(A156,reporting4,2,FALSE)),\"\",IF(ISNA(VLOOKUP(A156,reporting4,2,FALSE)),\"\",VLOOKUP(A156,reporting4,2,FALSE)))","v":""},{"$f":"IF(ISBLANK(VLOOKUP(A156,reporting4,3,FALSE)),\"\",IF(ISNA(VLOOKUP(A156,reporting4,3,FALSE)),\"\",VLOOKUP(A156,reporting4,3,FALSE)))","v":""},{"$f":"IF(ISBLANK(VLOOKUP(A156,reporting4,4,FALSE)),\"\",IF(ISNA(VLOOKUP(A156,reporting4,4,FALSE)),\"\",VLOOKUP(A156,reporting4,4,FALSE)))","v":""},{"$f":"IF(ISBLANK(VLOOKUP(A156,reportin5,2,FALSE)),\"\",IF(ISNA(VLOOKUP(A156,reporting5,2,FALSE)),\"\",VLOOKUP(A156,reporting5,2,FALSE)))","v":""},{"$f":"IF(ISBLANK(VLOOKUP(A156,reporting5,3,FALSE)),\"\",IF(ISNA(VLOOKUP(A156,reporting5,3,FALSE)),\"\",VLOOKUP(A156,reporting5,3,FALSE)))","v":""},{"$f":"IF(ISBLANK(VLOOKUP(A156,reporting5,4,FALSE)),\"\",IF(ISNA(VLOOKUP(A156,reporting5,4,FALSE)),\"\",VLOOKUP(A156,reporting5,4,FALSE)))","v":""}]
[null,{"$f":"IF(ISBLANK(VLOOKUP(A157,reporting1,2,FALSE)),\"\",IF(ISNA(VLOOKUP(A157,reporting1,2,FALSE)),\"\",VLOOKUP(A157,reporting1,2,FALSE)))","v":""},{"$f":"IF(ISBLANK(VLOOKUP(A157,reporting1,3,FALSE)),\"\",IF(ISNA(VLOOKUP(A157,reporting1,3,FALSE)),\"\",VLOOKUP(A157,reporting1,3,FALSE)))","v":""},{"$f":"IF(ISBLANK(VLOOKUP(A157,reporting1,4,FALSE)),\"\",IF(ISNA(VLOOKUP(A157,reporting1,4,FALSE)),\"\",VLOOKUP(A157,reporting1,4,FALSE)))","v":""},{"$f":"IF(ISBLANK(VLOOKUP(A157,reporting2,2,FALSE)),\"\",IF(ISNA(VLOOKUP(A157,reporting2,2,FALSE)),\"\",VLOOKUP(A157,reporting2,2,FALSE)))","v":""},{"$f":"IF(ISBLANK(VLOOKUP(A157,reporting2,3,FALSE)),\"\",IF(ISNA(VLOOKUP(A157,reporting2,3,FALSE)),\"\",VLOOKUP(A157,reporting2,3,FALSE)))","v":""},{"$f":"IF(ISBLANK(VLOOKUP(A157,reporting2,4,FALSE)),\"\",IF(ISNA(VLOOKUP(A157,reporting2,4,FALSE)),\"\",VLOOKUP(A157,reporting2,4,FALSE)))","v":""},{"$f":"IF(ISBLANK(VLOOKUP(A157,reporting3,2,FALSE)),\"\",IF(ISNA(VLOOKUP(A157,reporting3,2,FALSE)),\"\",VLOOKUP(A157,reporting3,2,FALSE)))","v":""},{"$f":"IF(ISBLANK(VLOOKUP(A157,reporting3,3,FALSE)),\"\",IF(ISNA(VLOOKUP(A157,reporting3,3,FALSE)),\"\",VLOOKUP(A157,reporting3,3,FALSE)))","v":""},{"$f":"IF(ISBLANK(VLOOKUP(A157,reporting3,4,FALSE)),\"\",IF(ISNA(VLOOKUP(A157,reporting3,4,FALSE)),\"\",VLOOKUP(A157,reporting3,4,FALSE)))","v":""},{"$f":"IF(ISBLANK(VLOOKUP(A157,reporting4,2,FALSE)),\"\",IF(ISNA(VLOOKUP(A157,reporting4,2,FALSE)),\"\",VLOOKUP(A157,reporting4,2,FALSE)))","v":""},{"$f":"IF(ISBLANK(VLOOKUP(A157,reporting4,3,FALSE)),\"\",IF(ISNA(VLOOKUP(A157,reporting4,3,FALSE)),\"\",VLOOKUP(A157,reporting4,3,FALSE)))","v":""},{"$f":"IF(ISBLANK(VLOOKUP(A157,reporting4,4,FALSE)),\"\",IF(ISNA(VLOOKUP(A157,reporting4,4,FALSE)),\"\",VLOOKUP(A157,reporting4,4,FALSE)))","v":""},{"$f":"IF(ISBLANK(VLOOKUP(A157,reportin5,2,FALSE)),\"\",IF(ISNA(VLOOKUP(A157,reporting5,2,FALSE)),\"\",VLOOKUP(A157,reporting5,2,FALSE)))","v":""},{"$f":"IF(ISBLANK(VLOOKUP(A157,reporting5,3,FALSE)),\"\",IF(ISNA(VLOOKUP(A157,reporting5,3,FALSE)),\"\",VLOOKUP(A157,reporting5,3,FALSE)))","v":""},{"$f":"IF(ISBLANK(VLOOKUP(A157,reporting5,4,FALSE)),\"\",IF(ISNA(VLOOKUP(A157,reporting5,4,FALSE)),\"\",VLOOKUP(A157,reporting5,4,FALSE)))","v":""}]
[null,{"$f":"IF(ISBLANK(VLOOKUP(A158,reporting1,2,FALSE)),\"\",IF(ISNA(VLOOKUP(A158,reporting1,2,FALSE)),\"\",VLOOKUP(A158,reporting1,2,FALSE)))","v":""},{"$f":"IF(ISBLANK(VLOOKUP(A158,reporting1,3,FALSE)),\"\",IF(ISNA(VLOOKUP(A158,reporting1,3,FALSE)),\"\",VLOOKUP(A158,reporting1,3,FALSE)))","v":""},{"$f":"IF(ISBLANK(VLOOKUP(A158,reporting1,4,FALSE)),\"\",IF(ISNA(VLOOKUP(A158,reporting1,4,FALSE)),\"\",VLOOKUP(A158,reporting1,4,FALSE)))","v":""},{"$f":"IF(ISBLANK(VLOOKUP(A158,reporting2,2,FALSE)),\"\",IF(ISNA(VLOOKUP(A158,reporting2,2,FALSE)),\"\",VLOOKUP(A158,reporting2,2,FALSE)))","v":""},{"$f":"IF(ISBLANK(VLOOKUP(A158,reporting2,3,FALSE)),\"\",IF(ISNA(VLOOKUP(A158,reporting2,3,FALSE)),\"\",VLOOKUP(A158,reporting2,3,FALSE)))","v":""},{"$f":"IF(ISBLANK(VLOOKUP(A158,reporting2,4,FALSE)),\"\",IF(ISNA(VLOOKUP(A158,reporting2,4,FALSE)),\"\",VLOOKUP(A158,reporting2,4,FALSE)))","v":""},{"$f":"IF(ISBLANK(VLOOKUP(A158,reporting3,2,FALSE)),\"\",IF(ISNA(VLOOKUP(A158,reporting3,2,FALSE)),\"\",VLOOKUP(A158,reporting3,2,FALSE)))","v":""},{"$f":"IF(ISBLANK(VLOOKUP(A158,reporting3,3,FALSE)),\"\",IF(ISNA(VLOOKUP(A158,reporting3,3,FALSE)),\"\",VLOOKUP(A158,reporting3,3,FALSE)))","v":""},{"$f":"IF(ISBLANK(VLOOKUP(A158,reporting3,4,FALSE)),\"\",IF(ISNA(VLOOKUP(A158,reporting3,4,FALSE)),\"\",VLOOKUP(A158,reporting3,4,FALSE)))","v":""},{"$f":"IF(ISBLANK(VLOOKUP(A158,reporting4,2,FALSE)),\"\",IF(ISNA(VLOOKUP(A158,reporting4,2,FALSE)),\"\",VLOOKUP(A158,reporting4,2,FALSE)))","v":""},{"$f":"IF(ISBLANK(VLOOKUP(A158,reporting4,3,FALSE)),\"\",IF(ISNA(VLOOKUP(A158,reporting4,3,FALSE)),\"\",VLOOKUP(A158,reporting4,3,FALSE)))","v":""},{"$f":"IF(ISBLANK(VLOOKUP(A158,reporting4,4,FALSE)),\"\",IF(ISNA(VLOOKUP(A158,reporting4,4,FALSE)),\"\",VLOOKUP(A158,reporting4,4,FALSE)))","v":""},{"$f":"IF(ISBLANK(VLOOKUP(A158,reportin5,2,FALSE)),\"\",IF(ISNA(VLOOKUP(A158,reporting5,2,FALSE)),\"\",VLOOKUP(A158,reporting5,2,FALSE)))","v":""},{"$f":"IF(ISBLANK(VLOOKUP(A158,reporting5,3,FALSE)),\"\",IF(ISNA(VLOOKUP(A158,reporting5,3,FALSE)),\"\",VLOOKUP(A158,reporting5,3,FALSE)))","v":""},{"$f":"IF(ISBLANK(VLOOKUP(A158,reporting5,4,FALSE)),\"\",IF(ISNA(VLOOKUP(A158,reporting5,4,FALSE)),\"\",VLOOKUP(A158,reporting5,4,FALSE)))","v":""}]
[null,{"$f":"IF(ISBLANK(VLOOKUP(A159,reporting1,2,FALSE)),\"\",IF(ISNA(VLOOKUP(A159,reporting1,2,FALSE)),\"\",VLOOKUP(A159,reporting1,2,FALSE)))","v":""},{"$f":"IF(ISBLANK(VLOOKUP(A159,reporting1,3,FALSE)),\"\",IF(ISNA(VLOOKUP(A159,reporting1,3,FALSE)),\"\",VLOOKUP(A159,reporting1,3,FALSE)))","v":""},{"$f":"IF(ISBLANK(VLOOKUP(A159,reporting1,4,FALSE)),\"\",IF(ISNA(VLOOKUP(A159,reporting1,4,FALSE)),\"\",VLOOKUP(A159,reporting1,4,FALSE)))","v":""},{"$f":"IF(ISBLANK(VLOOKUP(A159,reporting2,2,FALSE)),\"\",IF(ISNA(VLOOKUP(A159,reporting2,2,FALSE)),\"\",VLOOKUP(A159,reporting2,2,FALSE)))","v":""},{"$f":"IF(ISBLANK(VLOOKUP(A159,reporting2,3,FALSE)),\"\",IF(ISNA(VLOOKUP(A159,reporting2,3,FALSE)),\"\",VLOOKUP(A159,reporting2,3,FALSE)))","v":""},{"$f":"IF(ISBLANK(VLOOKUP(A159,reporting2,4,FALSE)),\"\",IF(ISNA(VLOOKUP(A159,reporting2,4,FALSE)),\"\",VLOOKUP(A159,reporting2,4,FALSE)))","v":""},{"$f":"IF(ISBLANK(VLOOKUP(A159,reporting3,2,FALSE)),\"\",IF(ISNA(VLOOKUP(A159,reporting3,2,FALSE)),\"\",VLOOKUP(A159,reporting3,2,FALSE)))","v":""},{"$f":"IF(ISBLANK(VLOOKUP(A159,reporting3,3,FALSE)),\"\",IF(ISNA(VLOOKUP(A159,reporting3,3,FALSE)),\"\",VLOOKUP(A159,reporting3,3,FALSE)))","v":""},{"$f":"IF(ISBLANK(VLOOKUP(A159,reporting3,4,FALSE)),\"\",IF(ISNA(VLOOKUP(A159,reporting3,4,FALSE)),\"\",VLOOKUP(A159,reporting3,4,FALSE)))","v":""},{"$f":"IF(ISBLANK(VLOOKUP(A159,reporting4,2,FALSE)),\"\",IF(ISNA(VLOOKUP(A159,reporting4,2,FALSE)),\"\",VLOOKUP(A159,reporting4,2,FALSE)))","v":""},{"$f":"IF(ISBLANK(VLOOKUP(A159,reporting4,3,FALSE)),\"\",IF(ISNA(VLOOKUP(A159,reporting4,3,FALSE)),\"\",VLOOKUP(A159,reporting4,3,FALSE)))","v":""},{"$f":"IF(ISBLANK(VLOOKUP(A159,reporting4,4,FALSE)),\"\",IF(ISNA(VLOOKUP(A159,reporting4,4,FALSE)),\"\",VLOOKUP(A159,reporting4,4,FALSE)))","v":""},{"$f":"IF(ISBLANK(VLOOKUP(A159,reportin5,2,FALSE)),\"\",IF(ISNA(VLOOKUP(A159,reporting5,2,FALSE)),\"\",VLOOKUP(A159,reporting5,2,FALSE)))","v":""},{"$f":"IF(ISBLANK(VLOOKUP(A159,reporting5,3,FALSE)),\"\",IF(ISNA(VLOOKUP(A159,reporting5,3,FALSE)),\"\",VLOOKUP(A159,reporting5,3,FALSE)))","v":""},{"$f":"IF(ISBLANK(VLOOKUP(A159,reporting5,4,FALSE)),\"\",IF(ISNA(VLOOKUP(A159,reporting5,4,FALSE)),\"\",VLOOKUP(A159,reporting5,4,FALSE)))","v":""}]
[null,{"$f":"IF(ISBLANK(VLOOKUP(A160,reporting1,2,FALSE)),\"\",IF(ISNA(VLOOKUP(A160,reporting1,2,FALSE)),\"\",VLOOKUP(A160,reporting1,2,FALSE)))","v":""},{"$f":"IF(ISBLANK(VLOOKUP(A160,reporting1,3,FALSE)),\"\",IF(ISNA(VLOOKUP(A160,reporting1,3,FALSE)),\"\",VLOOKUP(A160,reporting1,3,FALSE)))","v":""},{"$f":"IF(ISBLANK(VLOOKUP(A160,reporting1,4,FALSE)),\"\",IF(ISNA(VLOOKUP(A160,reporting1,4,FALSE)),\"\",VLOOKUP(A160,reporting1,4,FALSE)))","v":""},{"$f":"IF(ISBLANK(VLOOKUP(A160,reporting2,2,FALSE)),\"\",IF(ISNA(VLOOKUP(A160,reporting2,2,FALSE)),\"\",VLOOKUP(A160,reporting2,2,FALSE)))","v":""},{"$f":"IF(ISBLANK(VLOOKUP(A160,reporting2,3,FALSE)),\"\",IF(ISNA(VLOOKUP(A160,reporting2,3,FALSE)),\"\",VLOOKUP(A160,reporting2,3,FALSE)))","v":""},{"$f":"IF(ISBLANK(VLOOKUP(A160,reporting2,4,FALSE)),\"\",IF(ISNA(VLOOKUP(A160,reporting2,4,FALSE)),\"\",VLOOKUP(A160,reporting2,4,FALSE)))","v":""},{"$f":"IF(ISBLANK(VLOOKUP(A160,reporting3,2,FALSE)),\"\",IF(ISNA(VLOOKUP(A160,reporting3,2,FALSE)),\"\",VLOOKUP(A160,reporting3,2,FALSE)))","v":""},{"$f":"IF(ISBLANK(VLOOKUP(A160,reporting3,3,FALSE)),\"\",IF(ISNA(VLOOKUP(A160,reporting3,3,FALSE)),\"\",VLOOKUP(A160,reporting3,3,FALSE)))","v":""},{"$f":"IF(ISBLANK(VLOOKUP(A160,reporting3,4,FALSE)),\"\",IF(ISNA(VLOOKUP(A160,reporting3,4,FALSE)),\"\",VLOOKUP(A160,reporting3,4,FALSE)))","v":""},{"$f":"IF(ISBLANK(VLOOKUP(A160,reporting4,2,FALSE)),\"\",IF(ISNA(VLOOKUP(A160,reporting4,2,FALSE)),\"\",VLOOKUP(A160,reporting4,2,FALSE)))","v":""},{"$f":"IF(ISBLANK(VLOOKUP(A160,reporting4,3,FALSE)),\"\",IF(ISNA(VLOOKUP(A160,reporting4,3,FALSE)),\"\",VLOOKUP(A160,reporting4,3,FALSE)))","v":""},{"$f":"IF(ISBLANK(VLOOKUP(A160,reporting4,4,FALSE)),\"\",IF(ISNA(VLOOKUP(A160,reporting4,4,FALSE)),\"\",VLOOKUP(A160,reporting4,4,FALSE)))","v":""},{"$f":"IF(ISBLANK(VLOOKUP(A160,reportin5,2,FALSE)),\"\",IF(ISNA(VLOOKUP(A160,reporting5,2,FALSE)),\"\",VLOOKUP(A160,reporting5,2,FALSE)))","v":""},{"$f":"IF(ISBLANK(VLOOKUP(A160,reporting5,3,FALSE)),\"\",IF(ISNA(VLOOKUP(A160,reporting5,3,FALSE)),\"\",VLOOKUP(A160,reporting5,3,FALSE)))","v":""},{"$f":"IF(ISBLANK(VLOOKUP(A160,reporting5,4,FALSE)),\"\",IF(ISNA(VLOOKUP(A160,reporting5,4,FALSE)),\"\",VLOOKUP(A160,reporting5,4,FALSE)))","v":""}]
[null,{"$f":"IF(ISBLANK(VLOOKUP(A161,reporting1,2,FALSE)),\"\",IF(ISNA(VLOOKUP(A161,reporting1,2,FALSE)),\"\",VLOOKUP(A161,reporting1,2,FALSE)))","v":""},{"$f":"IF(ISBLANK(VLOOKUP(A161,reporting1,3,FALSE)),\"\",IF(ISNA(VLOOKUP(A161,reporting1,3,FALSE)),\"\",VLOOKUP(A161,reporting1,3,FALSE)))","v":""},{"$f":"IF(ISBLANK(VLOOKUP(A161,reporting1,4,FALSE)),\"\",IF(ISNA(VLOOKUP(A161,reporting1,4,FALSE)),\"\",VLOOKUP(A161,reporting1,4,FALSE)))","v":""},{"$f":"IF(ISBLANK(VLOOKUP(A161,reporting2,2,FALSE)),\"\",IF(ISNA(VLOOKUP(A161,reporting2,2,FALSE)),\"\",VLOOKUP(A161,reporting2,2,FALSE)))","v":""},{"$f":"IF(ISBLANK(VLOOKUP(A161,reporting2,3,FALSE)),\"\",IF(ISNA(VLOOKUP(A161,reporting2,3,FALSE)),\"\",VLOOKUP(A161,reporting2,3,FALSE)))","v":""},{"$f":"IF(ISBLANK(VLOOKUP(A161,reporting2,4,FALSE)),\"\",IF(ISNA(VLOOKUP(A161,reporting2,4,FALSE)),\"\",VLOOKUP(A161,reporting2,4,FALSE)))","v":""},{"$f":"IF(ISBLANK(VLOOKUP(A161,reporting3,2,FALSE)),\"\",IF(ISNA(VLOOKUP(A161,reporting3,2,FALSE)),\"\",VLOOKUP(A161,reporting3,2,FALSE)))","v":""},{"$f":"IF(ISBLANK(VLOOKUP(A161,reporting3,3,FALSE)),\"\",IF(ISNA(VLOOKUP(A161,reporting3,3,FALSE)),\"\",VLOOKUP(A161,reporting3,3,FALSE)))","v":""},{"$f":"IF(ISBLANK(VLOOKUP(A161,reporting3,4,FALSE)),\"\",IF(ISNA(VLOOKUP(A161,reporting3,4,FALSE)),\"\",VLOOKUP(A161,reporting3,4,FALSE)))","v":""},{"$f":"IF(ISBLANK(VLOOKUP(A161,reporting4,2,FALSE)),\"\",IF(ISNA(VLOOKUP(A161,reporting4,2,FALSE)),\"\",VLOOKUP(A161,reporting4,2,FALSE)))","v":""},{"$f":"IF(ISBLANK(VLOOKUP(A161,reporting4,3,FALSE)),\"\",IF(ISNA(VLOOKUP(A161,reporting4,3,FALSE)),\"\",VLOOKUP(A161,reporting4,3,FALSE)))","v":""},{"$f":"IF(ISBLANK(VLOOKUP(A161,reporting4,4,FALSE)),\"\",IF(ISNA(VLOOKUP(A161,reporting4,4,FALSE)),\"\",VLOOKUP(A161,reporting4,4,FALSE)))","v":""},{"$f":"IF(ISBLANK(VLOOKUP(A161,reportin5,2,FALSE)),\"\",IF(ISNA(VLOOKUP(A161,reporting5,2,FALSE)),\"\",VLOOKUP(A161,reporting5,2,FALSE)))","v":""},{"$f":"IF(ISBLANK(VLOOKUP(A161,reporting5,3,FALSE)),\"\",IF(ISNA(VLOOKUP(A161,reporting5,3,FALSE)),\"\",VLOOKUP(A161,reporting5,3,FALSE)))","v":""},{"$f":"IF(ISBLANK(VLOOKUP(A161,reporting5,4,FALSE)),\"\",IF(ISNA(VLOOKUP(A161,reporting5,4,FALSE)),\"\",VLOOKUP(A161,reporting5,4,FALSE)))","v":""}]
[null,{"$f":"IF(ISBLANK(VLOOKUP(A162,reporting1,2,FALSE)),\"\",IF(ISNA(VLOOKUP(A162,reporting1,2,FALSE)),\"\",VLOOKUP(A162,reporting1,2,FALSE)))","v":""},{"$f":"IF(ISBLANK(VLOOKUP(A162,reporting1,3,FALSE)),\"\",IF(ISNA(VLOOKUP(A162,reporting1,3,FALSE)),\"\",VLOOKUP(A162,reporting1,3,FALSE)))","v":""},{"$f":"IF(ISBLANK(VLOOKUP(A162,reporting1,4,FALSE)),\"\",IF(ISNA(VLOOKUP(A162,reporting1,4,FALSE)),\"\",VLOOKUP(A162,reporting1,4,FALSE)))","v":""},{"$f":"IF(ISBLANK(VLOOKUP(A162,reporting2,2,FALSE)),\"\",IF(ISNA(VLOOKUP(A162,reporting2,2,FALSE)),\"\",VLOOKUP(A162,reporting2,2,FALSE)))","v":""},{"$f":"IF(ISBLANK(VLOOKUP(A162,reporting2,3,FALSE)),\"\",IF(ISNA(VLOOKUP(A162,reporting2,3,FALSE)),\"\",VLOOKUP(A162,reporting2,3,FALSE)))","v":""},{"$f":"IF(ISBLANK(VLOOKUP(A162,reporting2,4,FALSE)),\"\",IF(ISNA(VLOOKUP(A162,reporting2,4,FALSE)),\"\",VLOOKUP(A162,reporting2,4,FALSE)))","v":""},{"$f":"IF(ISBLANK(VLOOKUP(A162,reporting3,2,FALSE)),\"\",IF(ISNA(VLOOKUP(A162,reporting3,2,FALSE)),\"\",VLOOKUP(A162,reporting3,2,FALSE)))","v":""},{"$f":"IF(ISBLANK(VLOOKUP(A162,reporting3,3,FALSE)),\"\",IF(ISNA(VLOOKUP(A162,reporting3,3,FALSE)),\"\",VLOOKUP(A162,reporting3,3,FALSE)))","v":""},{"$f":"IF(ISBLANK(VLOOKUP(A162,reporting3,4,FALSE)),\"\",IF(ISNA(VLOOKUP(A162,reporting3,4,FALSE)),\"\",VLOOKUP(A162,reporting3,4,FALSE)))","v":""},{"$f":"IF(ISBLANK(VLOOKUP(A162,reporting4,2,FALSE)),\"\",IF(ISNA(VLOOKUP(A162,reporting4,2,FALSE)),\"\",VLOOKUP(A162,reporting4,2,FALSE)))","v":""},{"$f":"IF(ISBLANK(VLOOKUP(A162,reporting4,3,FALSE)),\"\",IF(ISNA(VLOOKUP(A162,reporting4,3,FALSE)),\"\",VLOOKUP(A162,reporting4,3,FALSE)))","v":""},{"$f":"IF(ISBLANK(VLOOKUP(A162,reporting4,4,FALSE)),\"\",IF(ISNA(VLOOKUP(A162,reporting4,4,FALSE)),\"\",VLOOKUP(A162,reporting4,4,FALSE)))","v":""},{"$f":"IF(ISBLANK(VLOOKUP(A162,reportin5,2,FALSE)),\"\",IF(ISNA(VLOOKUP(A162,reporting5,2,FALSE)),\"\",VLOOKUP(A162,reporting5,2,FALSE)))","v":""},{"$f":"IF(ISBLANK(VLOOKUP(A162,reporting5,3,FALSE)),\"\",IF(ISNA(VLOOKUP(A162,reporting5,3,FALSE)),\"\",VLOOKUP(A162,reporting5,3,FALSE)))","v":""},{"$f":"IF(ISBLANK(VLOOKUP(A162,reporting5,4,FALSE)),\"\",IF(ISNA(VLOOKUP(A162,reporting5,4,FALSE)),\"\",VLOOKUP(A162,reporting5,4,FALSE)))","v":""}]
[null,{"$f":"IF(ISBLANK(VLOOKUP(A163,reporting1,2,FALSE)),\"\",IF(ISNA(VLOOKUP(A163,reporting1,2,FALSE)),\"\",VLOOKUP(A163,reporting1,2,FALSE)))","v":""},{"$f":"IF(ISBLANK(VLOOKUP(A163,reporting1,3,FALSE)),\"\",IF(ISNA(VLOOKUP(A163,reporting1,3,FALSE)),\"\",VLOOKUP(A163,reporting1,3,FALSE)))","v":""},{"$f":"IF(ISBLANK(VLOOKUP(A163,reporting1,4,FALSE)),\"\",IF(ISNA(VLOOKUP(A163,reporting1,4,FALSE)),\"\",VLOOKUP(A163,reporting1,4,FALSE)))","v":""},{"$f":"IF(ISBLANK(VLOOKUP(A163,reporting2,2,FALSE)),\"\",IF(ISNA(VLOOKUP(A163,reporting2,2,FALSE)),\"\",VLOOKUP(A163,reporting2,2,FALSE)))","v":""},{"$f":"IF(ISBLANK(VLOOKUP(A163,reporting2,3,FALSE)),\"\",IF(ISNA(VLOOKUP(A163,reporting2,3,FALSE)),\"\",VLOOKUP(A163,reporting2,3,FALSE)))","v":""},{"$f":"IF(ISBLANK(VLOOKUP(A163,reporting2,4,FALSE)),\"\",IF(ISNA(VLOOKUP(A163,reporting2,4,FALSE)),\"\",VLOOKUP(A163,reporting2,4,FALSE)))","v":""},{"$f":"IF(ISBLANK(VLOOKUP(A163,reporting3,2,FALSE)),\"\",IF(ISNA(VLOOKUP(A163,reporting3,2,FALSE)),\"\",VLOOKUP(A163,reporting3,2,FALSE)))","v":""},{"$f":"IF(ISBLANK(VLOOKUP(A163,reporting3,3,FALSE)),\"\",IF(ISNA(VLOOKUP(A163,reporting3,3,FALSE)),\"\",VLOOKUP(A163,reporting3,3,FALSE)))","v":""},{"$f":"IF(ISBLANK(VLOOKUP(A163,reporting3,4,FALSE)),\"\",IF(ISNA(VLOOKUP(A163,reporting3,4,FALSE)),\"\",VLOOKUP(A163,reporting3,4,FALSE)))","v":""},{"$f":"IF(ISBLANK(VLOOKUP(A163,reporting4,2,FALSE)),\"\",IF(ISNA(VLOOKUP(A163,reporting4,2,FALSE)),\"\",VLOOKUP(A163,reporting4,2,FALSE)))","v":""},{"$f":"IF(ISBLANK(VLOOKUP(A163,reporting4,3,FALSE)),\"\",IF(ISNA(VLOOKUP(A163,reporting4,3,FALSE)),\"\",VLOOKUP(A163,reporting4,3,FALSE)))","v":""},{"$f":"IF(ISBLANK(VLOOKUP(A163,reporting4,4,FALSE)),\"\",IF(ISNA(VLOOKUP(A163,reporting4,4,FALSE)),\"\",VLOOKUP(A163,reporting4,4,FALSE)))","v":""},{"$f":"IF(ISBLANK(VLOOKUP(A163,reportin5,2,FALSE)),\"\",IF(ISNA(VLOOKUP(A163,reporting5,2,FALSE)),\"\",VLOOKUP(A163,reporting5,2,FALSE)))","v":""},{"$f":"IF(ISBLANK(VLOOKUP(A163,reporting5,3,FALSE)),\"\",IF(ISNA(VLOOKUP(A163,reporting5,3,FALSE)),\"\",VLOOKUP(A163,reporting5,3,FALSE)))","v":""},{"$f":"IF(ISBLANK(VLOOKUP(A163,reporting5,4,FALSE)),\"\",IF(ISNA(VLOOKUP(A163,reporting5,4,FALSE)),\"\",VLOOKUP(A163,reporting5,4,FALSE)))","v":""}]
[null,{"$f":"IF(ISBLANK(VLOOKUP(A164,reporting1,2,FALSE)),\"\",IF(ISNA(VLOOKUP(A164,reporting1,2,FALSE)),\"\",VLOOKUP(A164,reporting1,2,FALSE)))","v":""},{"$f":"IF(ISBLANK(VLOOKUP(A164,reporting1,3,FALSE)),\"\",IF(ISNA(VLOOKUP(A164,reporting1,3,FALSE)),\"\",VLOOKUP(A164,reporting1,3,FALSE)))","v":""},{"$f":"IF(ISBLANK(VLOOKUP(A164,reporting1,4,FALSE)),\"\",IF(ISNA(VLOOKUP(A164,reporting1,4,FALSE)),\"\",VLOOKUP(A164,reporting1,4,FALSE)))","v":""},{"$f":"IF(ISBLANK(VLOOKUP(A164,reporting2,2,FALSE)),\"\",IF(ISNA(VLOOKUP(A164,reporting2,2,FALSE)),\"\",VLOOKUP(A164,reporting2,2,FALSE)))","v":""},{"$f":"IF(ISBLANK(VLOOKUP(A164,reporting2,3,FALSE)),\"\",IF(ISNA(VLOOKUP(A164,reporting2,3,FALSE)),\"\",VLOOKUP(A164,reporting2,3,FALSE)))","v":""},{"$f":"IF(ISBLANK(VLOOKUP(A164,reporting2,4,FALSE)),\"\",IF(ISNA(VLOOKUP(A164,reporting2,4,FALSE)),\"\",VLOOKUP(A164,reporting2,4,FALSE)))","v":""},{"$f":"IF(ISBLANK(VLOOKUP(A164,reporting3,2,FALSE)),\"\",IF(ISNA(VLOOKUP(A164,reporting3,2,FALSE)),\"\",VLOOKUP(A164,reporting3,2,FALSE)))","v":""},{"$f":"IF(ISBLANK(VLOOKUP(A164,reporting3,3,FALSE)),\"\",IF(ISNA(VLOOKUP(A164,reporting3,3,FALSE)),\"\",VLOOKUP(A164,reporting3,3,FALSE)))","v":""},{"$f":"IF(ISBLANK(VLOOKUP(A164,reporting3,4,FALSE)),\"\",IF(ISNA(VLOOKUP(A164,reporting3,4,FALSE)),\"\",VLOOKUP(A164,reporting3,4,FALSE)))","v":""},{"$f":"IF(ISBLANK(VLOOKUP(A164,reporting4,2,FALSE)),\"\",IF(ISNA(VLOOKUP(A164,reporting4,2,FALSE)),\"\",VLOOKUP(A164,reporting4,2,FALSE)))","v":""},{"$f":"IF(ISBLANK(VLOOKUP(A164,reporting4,3,FALSE)),\"\",IF(ISNA(VLOOKUP(A164,reporting4,3,FALSE)),\"\",VLOOKUP(A164,reporting4,3,FALSE)))","v":""},{"$f":"IF(ISBLANK(VLOOKUP(A164,reporting4,4,FALSE)),\"\",IF(ISNA(VLOOKUP(A164,reporting4,4,FALSE)),\"\",VLOOKUP(A164,reporting4,4,FALSE)))","v":""},{"$f":"IF(ISBLANK(VLOOKUP(A164,reportin5,2,FALSE)),\"\",IF(ISNA(VLOOKUP(A164,reporting5,2,FALSE)),\"\",VLOOKUP(A164,reporting5,2,FALSE)))","v":""},{"$f":"IF(ISBLANK(VLOOKUP(A164,reporting5,3,FALSE)),\"\",IF(ISNA(VLOOKUP(A164,reporting5,3,FALSE)),\"\",VLOOKUP(A164,reporting5,3,FALSE)))","v":""},{"$f":"IF(ISBLANK(VLOOKUP(A164,reporting5,4,FALSE)),\"\",IF(ISNA(VLOOKUP(A164,reporting5,4,FALSE)),\"\",VLOOKUP(A164,reporting5,4,FALSE)))","v":""}]
[null,{"$f":"IF(ISBLANK(VLOOKUP(A165,reporting1,2,FALSE)),\"\",IF(ISNA(VLOOKUP(A165,reporting1,2,FALSE)),\"\",VLOOKUP(A165,reporting1,2,FALSE)))","v":""},{"$f":"IF(ISBLANK(VLOOKUP(A165,reporting1,3,FALSE)),\"\",IF(ISNA(VLOOKUP(A165,reporting1,3,FALSE)),\"\",VLOOKUP(A165,reporting1,3,FALSE)))","v":""},{"$f":"IF(ISBLANK(VLOOKUP(A165,reporting1,4,FALSE)),\"\",IF(ISNA(VLOOKUP(A165,reporting1,4,FALSE)),\"\",VLOOKUP(A165,reporting1,4,FALSE)))","v":""},{"$f":"IF(ISBLANK(VLOOKUP(A165,reporting2,2,FALSE)),\"\",IF(ISNA(VLOOKUP(A165,reporting2,2,FALSE)),\"\",VLOOKUP(A165,reporting2,2,FALSE)))","v":""},{"$f":"IF(ISBLANK(VLOOKUP(A165,reporting2,3,FALSE)),\"\",IF(ISNA(VLOOKUP(A165,reporting2,3,FALSE)),\"\",VLOOKUP(A165,reporting2,3,FALSE)))","v":""},{"$f":"IF(ISBLANK(VLOOKUP(A165,reporting2,4,FALSE)),\"\",IF(ISNA(VLOOKUP(A165,reporting2,4,FALSE)),\"\",VLOOKUP(A165,reporting2,4,FALSE)))","v":""},{"$f":"IF(ISBLANK(VLOOKUP(A165,reporting3,2,FALSE)),\"\",IF(ISNA(VLOOKUP(A165,reporting3,2,FALSE)),\"\",VLOOKUP(A165,reporting3,2,FALSE)))","v":""},{"$f":"IF(ISBLANK(VLOOKUP(A165,reporting3,3,FALSE)),\"\",IF(ISNA(VLOOKUP(A165,reporting3,3,FALSE)),\"\",VLOOKUP(A165,reporting3,3,FALSE)))","v":""},{"$f":"IF(ISBLANK(VLOOKUP(A165,reporting3,4,FALSE)),\"\",IF(ISNA(VLOOKUP(A165,reporting3,4,FALSE)),\"\",VLOOKUP(A165,reporting3,4,FALSE)))","v":""},{"$f":"IF(ISBLANK(VLOOKUP(A165,reporting4,2,FALSE)),\"\",IF(ISNA(VLOOKUP(A165,reporting4,2,FALSE)),\"\",VLOOKUP(A165,reporting4,2,FALSE)))","v":""},{"$f":"IF(ISBLANK(VLOOKUP(A165,reporting4,3,FALSE)),\"\",IF(ISNA(VLOOKUP(A165,reporting4,3,FALSE)),\"\",VLOOKUP(A165,reporting4,3,FALSE)))","v":""},{"$f":"IF(ISBLANK(VLOOKUP(A165,reporting4,4,FALSE)),\"\",IF(ISNA(VLOOKUP(A165,reporting4,4,FALSE)),\"\",VLOOKUP(A165,reporting4,4,FALSE)))","v":""},{"$f":"IF(ISBLANK(VLOOKUP(A165,reportin5,2,FALSE)),\"\",IF(ISNA(VLOOKUP(A165,reporting5,2,FALSE)),\"\",VLOOKUP(A165,reporting5,2,FALSE)))","v":""},{"$f":"IF(ISBLANK(VLOOKUP(A165,reporting5,3,FALSE)),\"\",IF(ISNA(VLOOKUP(A165,reporting5,3,FALSE)),\"\",VLOOKUP(A165,reporting5,3,FALSE)))","v":""},{"$f":"IF(ISBLANK(VLOOKUP(A165,reporting5,4,FALSE)),\"\",IF(ISNA(VLOOKUP(A165,reporting5,4,FALSE)),\"\",VLOOKUP(A165,reporting5,4,FALSE)))","v":""}]
[null,{"$f":"IF(ISBLANK(VLOOKUP(A166,reporting1,2,FALSE)),\"\",IF(ISNA(VLOOKUP(A166,reporting1,2,FALSE)),\"\",VLOOKUP(A166,reporting1,2,FALSE)))","v":""},{"$f":"IF(ISBLANK(VLOOKUP(A166,reporting1,3,FALSE)),\"\",IF(ISNA(VLOOKUP(A166,reporting1,3,FALSE)),\"\",VLOOKUP(A166,reporting1,3,FALSE)))","v":""},{"$f":"IF(ISBLANK(VLOOKUP(A166,reporting1,4,FALSE)),\"\",IF(ISNA(VLOOKUP(A166,reporting1,4,FALSE)),\"\",VLOOKUP(A166,reporting1,4,FALSE)))","v":""},{"$f":"IF(ISBLANK(VLOOKUP(A166,reporting2,2,FALSE)),\"\",IF(ISNA(VLOOKUP(A166,reporting2,2,FALSE)),\"\",VLOOKUP(A166,reporting2,2,FALSE)))","v":""},{"$f":"IF(ISBLANK(VLOOKUP(A166,reporting2,3,FALSE)),\"\",IF(ISNA(VLOOKUP(A166,reporting2,3,FALSE)),\"\",VLOOKUP(A166,reporting2,3,FALSE)))","v":""},{"$f":"IF(ISBLANK(VLOOKUP(A166,reporting2,4,FALSE)),\"\",IF(ISNA(VLOOKUP(A166,reporting2,4,FALSE)),\"\",VLOOKUP(A166,reporting2,4,FALSE)))","v":""},{"$f":"IF(ISBLANK(VLOOKUP(A166,reporting3,2,FALSE)),\"\",IF(ISNA(VLOOKUP(A166,reporting3,2,FALSE)),\"\",VLOOKUP(A166,reporting3,2,FALSE)))","v":""},{"$f":"IF(ISBLANK(VLOOKUP(A166,reporting3,3,FALSE)),\"\",IF(ISNA(VLOOKUP(A166,reporting3,3,FALSE)),\"\",VLOOKUP(A166,reporting3,3,FALSE)))","v":""},{"$f":"IF(ISBLANK(VLOOKUP(A166,reporting3,4,FALSE)),\"\",IF(ISNA(VLOOKUP(A166,reporting3,4,FALSE)),\"\",VLOOKUP(A166,reporting3,4,FALSE)))","v":""},{"$f":"IF(ISBLANK(VLOOKUP(A166,reporting4,2,FALSE)),\"\",IF(ISNA(VLOOKUP(A166,reporting4,2,FALSE)),\"\",VLOOKUP(A166,reporting4,2,FALSE)))","v":""},{"$f":"IF(ISBLANK(VLOOKUP(A166,reporting4,3,FALSE)),\"\",IF(ISNA(VLOOKUP(A166,reporting4,3,FALSE)),\"\",VLOOKUP(A166,reporting4,3,FALSE)))","v":""},{"$f":"IF(ISBLANK(VLOOKUP(A166,reporting4,4,FALSE)),\"\",IF(ISNA(VLOOKUP(A166,reporting4,4,FALSE)),\"\",VLOOKUP(A166,reporting4,4,FALSE)))","v":""},{"$f":"IF(ISBLANK(VLOOKUP(A166,reportin5,2,FALSE)),\"\",IF(ISNA(VLOOKUP(A166,reporting5,2,FALSE)),\"\",VLOOKUP(A166,reporting5,2,FALSE)))","v":""},{"$f":"IF(ISBLANK(VLOOKUP(A166,reporting5,3,FALSE)),\"\",IF(ISNA(VLOOKUP(A166,reporting5,3,FALSE)),\"\",VLOOKUP(A166,reporting5,3,FALSE)))","v":""},{"$f":"IF(ISBLANK(VLOOKUP(A166,reporting5,4,FALSE)),\"\",IF(ISNA(VLOOKUP(A166,reporting5,4,FALSE)),\"\",VLOOKUP(A166,reporting5,4,FALSE)))","v":""}]
[null,{"$f":"IF(ISBLANK(VLOOKUP(A167,reporting1,2,FALSE)),\"\",IF(ISNA(VLOOKUP(A167,reporting1,2,FALSE)),\"\",VLOOKUP(A167,reporting1,2,FALSE)))","v":""},{"$f":"IF(ISBLANK(VLOOKUP(A167,reporting1,3,FALSE)),\"\",IF(ISNA(VLOOKUP(A167,reporting1,3,FALSE)),\"\",VLOOKUP(A167,reporting1,3,FALSE)))","v":""},{"$f":"IF(ISBLANK(VLOOKUP(A167,reporting1,4,FALSE)),\"\",IF(ISNA(VLOOKUP(A167,reporting1,4,FALSE)),\"\",VLOOKUP(A167,reporting1,4,FALSE)))","v":""},{"$f":"IF(ISBLANK(VLOOKUP(A167,reporting2,2,FALSE)),\"\",IF(ISNA(VLOOKUP(A167,reporting2,2,FALSE)),\"\",VLOOKUP(A167,reporting2,2,FALSE)))","v":""},{"$f":"IF(ISBLANK(VLOOKUP(A167,reporting2,3,FALSE)),\"\",IF(ISNA(VLOOKUP(A167,reporting2,3,FALSE)),\"\",VLOOKUP(A167,reporting2,3,FALSE)))","v":""},{"$f":"IF(ISBLANK(VLOOKUP(A167,reporting2,4,FALSE)),\"\",IF(ISNA(VLOOKUP(A167,reporting2,4,FALSE)),\"\",VLOOKUP(A167,reporting2,4,FALSE)))","v":""},{"$f":"IF(ISBLANK(VLOOKUP(A167,reporting3,2,FALSE)),\"\",IF(ISNA(VLOOKUP(A167,reporting3,2,FALSE)),\"\",VLOOKUP(A167,reporting3,2,FALSE)))","v":""},{"$f":"IF(ISBLANK(VLOOKUP(A167,reporting3,3,FALSE)),\"\",IF(ISNA(VLOOKUP(A167,reporting3,3,FALSE)),\"\",VLOOKUP(A167,reporting3,3,FALSE)))","v":""},{"$f":"IF(ISBLANK(VLOOKUP(A167,reporting3,4,FALSE)),\"\",IF(ISNA(VLOOKUP(A167,reporting3,4,FALSE)),\"\",VLOOKUP(A167,reporting3,4,FALSE)))","v":""},{"$f":"IF(ISBLANK(VLOOKUP(A167,reporting4,2,FALSE)),\"\",IF(ISNA(VLOOKUP(A167,reporting4,2,FALSE)),\"\",VLOOKUP(A167,reporting4,2,FALSE)))","v":""},{"$f":"IF(ISBLANK(VLOOKUP(A167,reporting4,3,FALSE)),\"\",IF(ISNA(VLOOKUP(A167,reporting4,3,FALSE)),\"\",VLOOKUP(A167,reporting4,3,FALSE)))","v":""},{"$f":"IF(ISBLANK(VLOOKUP(A167,reporting4,4,FALSE)),\"\",IF(ISNA(VLOOKUP(A167,reporting4,4,FALSE)),\"\",VLOOKUP(A167,reporting4,4,FALSE)))","v":""},{"$f":"IF(ISBLANK(VLOOKUP(A167,reportin5,2,FALSE)),\"\",IF(ISNA(VLOOKUP(A167,reporting5,2,FALSE)),\"\",VLOOKUP(A167,reporting5,2,FALSE)))","v":""},{"$f":"IF(ISBLANK(VLOOKUP(A167,reporting5,3,FALSE)),\"\",IF(ISNA(VLOOKUP(A167,reporting5,3,FALSE)),\"\",VLOOKUP(A167,reporting5,3,FALSE)))","v":""},{"$f":"IF(ISBLANK(VLOOKUP(A167,reporting5,4,FALSE)),\"\",IF(ISNA(VLOOKUP(A167,reporting5,4,FALSE)),\"\",VLOOKUP(A167,reporting5,4,FALSE)))","v":""}]
[null,{"$f":"IF(ISBLANK(VLOOKUP(A168,reporting1,2,FALSE)),\"\",IF(ISNA(VLOOKUP(A168,reporting1,2,FALSE)),\"\",VLOOKUP(A168,reporting1,2,FALSE)))","v":""},{"$f":"IF(ISBLANK(VLOOKUP(A168,reporting1,3,FALSE)),\"\",IF(ISNA(VLOOKUP(A168,reporting1,3,FALSE)),\"\",VLOOKUP(A168,reporting1,3,FALSE)))","v":""},{"$f":"IF(ISBLANK(VLOOKUP(A168,reporting1,4,FALSE)),\"\",IF(ISNA(VLOOKUP(A168,reporting1,4,FALSE)),\"\",VLOOKUP(A168,reporting1,4,FALSE)))","v":""},{"$f":"IF(ISBLANK(VLOOKUP(A168,reporting2,2,FALSE)),\"\",IF(ISNA(VLOOKUP(A168,reporting2,2,FALSE)),\"\",VLOOKUP(A168,reporting2,2,FALSE)))","v":""},{"$f":"IF(ISBLANK(VLOOKUP(A168,reporting2,3,FALSE)),\"\",IF(ISNA(VLOOKUP(A168,reporting2,3,FALSE)),\"\",VLOOKUP(A168,reporting2,3,FALSE)))","v":""},{"$f":"IF(ISBLANK(VLOOKUP(A168,reporting2,4,FALSE)),\"\",IF(ISNA(VLOOKUP(A168,reporting2,4,FALSE)),\"\",VLOOKUP(A168,reporting2,4,FALSE)))","v":""},{"$f":"IF(ISBLANK(VLOOKUP(A168,reporting3,2,FALSE)),\"\",IF(ISNA(VLOOKUP(A168,reporting3,2,FALSE)),\"\",VLOOKUP(A168,reporting3,2,FALSE)))","v":""},{"$f":"IF(ISBLANK(VLOOKUP(A168,reporting3,3,FALSE)),\"\",IF(ISNA(VLOOKUP(A168,reporting3,3,FALSE)),\"\",VLOOKUP(A168,reporting3,3,FALSE)))","v":""},{"$f":"IF(ISBLANK(VLOOKUP(A168,reporting3,4,FALSE)),\"\",IF(ISNA(VLOOKUP(A168,reporting3,4,FALSE)),\"\",VLOOKUP(A168,reporting3,4,FALSE)))","v":""},{"$f":"IF(ISBLANK(VLOOKUP(A168,reporting4,2,FALSE)),\"\",IF(ISNA(VLOOKUP(A168,reporting4,2,FALSE)),\"\",VLOOKUP(A168,reporting4,2,FALSE)))","v":""},{"$f":"IF(ISBLANK(VLOOKUP(A168,reporting4,3,FALSE)),\"\",IF(ISNA(VLOOKUP(A168,reporting4,3,FALSE)),\"\",VLOOKUP(A168,reporting4,3,FALSE)))","v":""},{"$f":"IF(ISBLANK(VLOOKUP(A168,reporting4,4,FALSE)),\"\",IF(ISNA(VLOOKUP(A168,reporting4,4,FALSE)),\"\",VLOOKUP(A168,reporting4,4,FALSE)))","v":""},{"$f":"IF(ISBLANK(VLOOKUP(A168,reportin5,2,FALSE)),\"\",IF(ISNA(VLOOKUP(A168,reporting5,2,FALSE)),\"\",VLOOKUP(A168,reporting5,2,FALSE)))","v":""},{"$f":"IF(ISBLANK(VLOOKUP(A168,reporting5,3,FALSE)),\"\",IF(ISNA(VLOOKUP(A168,reporting5,3,FALSE)),\"\",VLOOKUP(A168,reporting5,3,FALSE)))","v":""},{"$f":"IF(ISBLANK(VLOOKUP(A168,reporting5,4,FALSE)),\"\",IF(ISNA(VLOOKUP(A168,reporting5,4,FALSE)),\"\",VLOOKUP(A168,reporting5,4,FALSE)))","v":""}]
[null,{"$f":"IF(ISBLANK(VLOOKUP(A169,reporting1,2,FALSE)),\"\",IF(ISNA(VLOOKUP(A169,reporting1,2,FALSE)),\"\",VLOOKUP(A169,reporting1,2,FALSE)))","v":""},{"$f":"IF(ISBLANK(VLOOKUP(A169,reporting1,3,FALSE)),\"\",IF(ISNA(VLOOKUP(A169,reporting1,3,FALSE)),\"\",VLOOKUP(A169,reporting1,3,FALSE)))","v":""},{"$f":"IF(ISBLANK(VLOOKUP(A169,reporting1,4,FALSE)),\"\",IF(ISNA(VLOOKUP(A169,reporting1,4,FALSE)),\"\",VLOOKUP(A169,reporting1,4,FALSE)))","v":""},{"$f":"IF(ISBLANK(VLOOKUP(A169,reporting2,2,FALSE)),\"\",IF(ISNA(VLOOKUP(A169,reporting2,2,FALSE)),\"\",VLOOKUP(A169,reporting2,2,FALSE)))","v":""},{"$f":"IF(ISBLANK(VLOOKUP(A169,reporting2,3,FALSE)),\"\",IF(ISNA(VLOOKUP(A169,reporting2,3,FALSE)),\"\",VLOOKUP(A169,reporting2,3,FALSE)))","v":""},{"$f":"IF(ISBLANK(VLOOKUP(A169,reporting2,4,FALSE)),\"\",IF(ISNA(VLOOKUP(A169,reporting2,4,FALSE)),\"\",VLOOKUP(A169,reporting2,4,FALSE)))","v":""},{"$f":"IF(ISBLANK(VLOOKUP(A169,reporting3,2,FALSE)),\"\",IF(ISNA(VLOOKUP(A169,reporting3,2,FALSE)),\"\",VLOOKUP(A169,reporting3,2,FALSE)))","v":""},{"$f":"IF(ISBLANK(VLOOKUP(A169,reporting3,3,FALSE)),\"\",IF(ISNA(VLOOKUP(A169,reporting3,3,FALSE)),\"\",VLOOKUP(A169,reporting3,3,FALSE)))","v":""},{"$f":"IF(ISBLANK(VLOOKUP(A169,reporting3,4,FALSE)),\"\",IF(ISNA(VLOOKUP(A169,reporting3,4,FALSE)),\"\",VLOOKUP(A169,reporting3,4,FALSE)))","v":""},{"$f":"IF(ISBLANK(VLOOKUP(A169,reporting4,2,FALSE)),\"\",IF(ISNA(VLOOKUP(A169,reporting4,2,FALSE)),\"\",VLOOKUP(A169,reporting4,2,FALSE)))","v":""},{"$f":"IF(ISBLANK(VLOOKUP(A169,reporting4,3,FALSE)),\"\",IF(ISNA(VLOOKUP(A169,reporting4,3,FALSE)),\"\",VLOOKUP(A169,reporting4,3,FALSE)))","v":""},{"$f":"IF(ISBLANK(VLOOKUP(A169,reporting4,4,FALSE)),\"\",IF(ISNA(VLOOKUP(A169,reporting4,4,FALSE)),\"\",VLOOKUP(A169,reporting4,4,FALSE)))","v":""},{"$f":"IF(ISBLANK(VLOOKUP(A169,reportin5,2,FALSE)),\"\",IF(ISNA(VLOOKUP(A169,reporting5,2,FALSE)),\"\",VLOOKUP(A169,reporting5,2,FALSE)))","v":""},{"$f":"IF(ISBLANK(VLOOKUP(A169,reporting5,3,FALSE)),\"\",IF(ISNA(VLOOKUP(A169,reporting5,3,FALSE)),\"\",VLOOKUP(A169,reporting5,3,FALSE)))","v":""},{"$f":"IF(ISBLANK(VLOOKUP(A169,reporting5,4,FALSE)),\"\",IF(ISNA(VLOOKUP(A169,reporting5,4,FALSE)),\"\",VLOOKUP(A169,reporting5,4,FALSE)))","v":""}]
[null,{"$f":"IF(ISBLANK(VLOOKUP(A170,reporting1,2,FALSE)),\"\",IF(ISNA(VLOOKUP(A170,reporting1,2,FALSE)),\"\",VLOOKUP(A170,reporting1,2,FALSE)))","v":""},{"$f":"IF(ISBLANK(VLOOKUP(A170,reporting1,3,FALSE)),\"\",IF(ISNA(VLOOKUP(A170,reporting1,3,FALSE)),\"\",VLOOKUP(A170,reporting1,3,FALSE)))","v":""},{"$f":"IF(ISBLANK(VLOOKUP(A170,reporting1,4,FALSE)),\"\",IF(ISNA(VLOOKUP(A170,reporting1,4,FALSE)),\"\",VLOOKUP(A170,reporting1,4,FALSE)))","v":""},{"$f":"IF(ISBLANK(VLOOKUP(A170,reporting2,2,FALSE)),\"\",IF(ISNA(VLOOKUP(A170,reporting2,2,FALSE)),\"\",VLOOKUP(A170,reporting2,2,FALSE)))","v":""},{"$f":"IF(ISBLANK(VLOOKUP(A170,reporting2,3,FALSE)),\"\",IF(ISNA(VLOOKUP(A170,reporting2,3,FALSE)),\"\",VLOOKUP(A170,reporting2,3,FALSE)))","v":""},{"$f":"IF(ISBLANK(VLOOKUP(A170,reporting2,4,FALSE)),\"\",IF(ISNA(VLOOKUP(A170,reporting2,4,FALSE)),\"\",VLOOKUP(A170,reporting2,4,FALSE)))","v":""},{"$f":"IF(ISBLANK(VLOOKUP(A170,reporting3,2,FALSE)),\"\",IF(ISNA(VLOOKUP(A170,reporting3,2,FALSE)),\"\",VLOOKUP(A170,reporting3,2,FALSE)))","v":""},{"$f":"IF(ISBLANK(VLOOKUP(A170,reporting3,3,FALSE)),\"\",IF(ISNA(VLOOKUP(A170,reporting3,3,FALSE)),\"\",VLOOKUP(A170,reporting3,3,FALSE)))","v":""},{"$f":"IF(ISBLANK(VLOOKUP(A170,reporting3,4,FALSE)),\"\",IF(ISNA(VLOOKUP(A170,reporting3,4,FALSE)),\"\",VLOOKUP(A170,reporting3,4,FALSE)))","v":""},{"$f":"IF(ISBLANK(VLOOKUP(A170,reporting4,2,FALSE)),\"\",IF(ISNA(VLOOKUP(A170,reporting4,2,FALSE)),\"\",VLOOKUP(A170,reporting4,2,FALSE)))","v":""},{"$f":"IF(ISBLANK(VLOOKUP(A170,reporting4,3,FALSE)),\"\",IF(ISNA(VLOOKUP(A170,reporting4,3,FALSE)),\"\",VLOOKUP(A170,reporting4,3,FALSE)))","v":""},{"$f":"IF(ISBLANK(VLOOKUP(A170,reporting4,4,FALSE)),\"\",IF(ISNA(VLOOKUP(A170,reporting4,4,FALSE)),\"\",VLOOKUP(A170,reporting4,4,FALSE)))","v":""},{"$f":"IF(ISBLANK(VLOOKUP(A170,reportin5,2,FALSE)),\"\",IF(ISNA(VLOOKUP(A170,reporting5,2,FALSE)),\"\",VLOOKUP(A170,reporting5,2,FALSE)))","v":""},{"$f":"IF(ISBLANK(VLOOKUP(A170,reporting5,3,FALSE)),\"\",IF(ISNA(VLOOKUP(A170,reporting5,3,FALSE)),\"\",VLOOKUP(A170,reporting5,3,FALSE)))","v":""},{"$f":"IF(ISBLANK(VLOOKUP(A170,reporting5,4,FALSE)),\"\",IF(ISNA(VLOOKUP(A170,reporting5,4,FALSE)),\"\",VLOOKUP(A170,reporting5,4,FALSE)))","v":""}]
[null,{"$f":"IF(ISBLANK(VLOOKUP(A171,reporting1,2,FALSE)),\"\",IF(ISNA(VLOOKUP(A171,reporting1,2,FALSE)),\"\",VLOOKUP(A171,reporting1,2,FALSE)))","v":""},{"$f":"IF(ISBLANK(VLOOKUP(A171,reporting1,3,FALSE)),\"\",IF(ISNA(VLOOKUP(A171,reporting1,3,FALSE)),\"\",VLOOKUP(A171,reporting1,3,FALSE)))","v":""},{"$f":"IF(ISBLANK(VLOOKUP(A171,reporting1,4,FALSE)),\"\",IF(ISNA(VLOOKUP(A171,reporting1,4,FALSE)),\"\",VLOOKUP(A171,reporting1,4,FALSE)))","v":""},{"$f":"IF(ISBLANK(VLOOKUP(A171,reporting2,2,FALSE)),\"\",IF(ISNA(VLOOKUP(A171,reporting2,2,FALSE)),\"\",VLOOKUP(A171,reporting2,2,FALSE)))","v":""},{"$f":"IF(ISBLANK(VLOOKUP(A171,reporting2,3,FALSE)),\"\",IF(ISNA(VLOOKUP(A171,reporting2,3,FALSE)),\"\",VLOOKUP(A171,reporting2,3,FALSE)))","v":""},{"$f":"IF(ISBLANK(VLOOKUP(A171,reporting2,4,FALSE)),\"\",IF(ISNA(VLOOKUP(A171,reporting2,4,FALSE)),\"\",VLOOKUP(A171,reporting2,4,FALSE)))","v":""},{"$f":"IF(ISBLANK(VLOOKUP(A171,reporting3,2,FALSE)),\"\",IF(ISNA(VLOOKUP(A171,reporting3,2,FALSE)),\"\",VLOOKUP(A171,reporting3,2,FALSE)))","v":""},{"$f":"IF(ISBLANK(VLOOKUP(A171,reporting3,3,FALSE)),\"\",IF(ISNA(VLOOKUP(A171,reporting3,3,FALSE)),\"\",VLOOKUP(A171,reporting3,3,FALSE)))","v":""},{"$f":"IF(ISBLANK(VLOOKUP(A171,reporting3,4,FALSE)),\"\",IF(ISNA(VLOOKUP(A171,reporting3,4,FALSE)),\"\",VLOOKUP(A171,reporting3,4,FALSE)))","v":""},{"$f":"IF(ISBLANK(VLOOKUP(A171,reporting4,2,FALSE)),\"\",IF(ISNA(VLOOKUP(A171,reporting4,2,FALSE)),\"\",VLOOKUP(A171,reporting4,2,FALSE)))","v":""},{"$f":"IF(ISBLANK(VLOOKUP(A171,reporting4,3,FALSE)),\"\",IF(ISNA(VLOOKUP(A171,reporting4,3,FALSE)),\"\",VLOOKUP(A171,reporting4,3,FALSE)))","v":""},{"$f":"IF(ISBLANK(VLOOKUP(A171,reporting4,4,FALSE)),\"\",IF(ISNA(VLOOKUP(A171,reporting4,4,FALSE)),\"\",VLOOKUP(A171,reporting4,4,FALSE)))","v":""},{"$f":"IF(ISBLANK(VLOOKUP(A171,reportin5,2,FALSE)),\"\",IF(ISNA(VLOOKUP(A171,reporting5,2,FALSE)),\"\",VLOOKUP(A171,reporting5,2,FALSE)))","v":""},{"$f":"IF(ISBLANK(VLOOKUP(A171,reporting5,3,FALSE)),\"\",IF(ISNA(VLOOKUP(A171,reporting5,3,FALSE)),\"\",VLOOKUP(A171,reporting5,3,FALSE)))","v":""},{"$f":"IF(ISBLANK(VLOOKUP(A171,reporting5,4,FALSE)),\"\",IF(ISNA(VLOOKUP(A171,reporting5,4,FALSE)),\"\",VLOOKUP(A171,reporting5,4,FALSE)))","v":""}]
[null,{"$f":"IF(ISBLANK(VLOOKUP(A172,reporting1,2,FALSE)),\"\",IF(ISNA(VLOOKUP(A172,reporting1,2,FALSE)),\"\",VLOOKUP(A172,reporting1,2,FALSE)))","v":""},{"$f":"IF(ISBLANK(VLOOKUP(A172,reporting1,3,FALSE)),\"\",IF(ISNA(VLOOKUP(A172,reporting1,3,FALSE)),\"\",VLOOKUP(A172,reporting1,3,FALSE)))","v":""},{"$f":"IF(ISBLANK(VLOOKUP(A172,reporting1,4,FALSE)),\"\",IF(ISNA(VLOOKUP(A172,reporting1,4,FALSE)),\"\",VLOOKUP(A172,reporting1,4,FALSE)))","v":""},{"$f":"IF(ISBLANK(VLOOKUP(A172,reporting2,2,FALSE)),\"\",IF(ISNA(VLOOKUP(A172,reporting2,2,FALSE)),\"\",VLOOKUP(A172,reporting2,2,FALSE)))","v":""},{"$f":"IF(ISBLANK(VLOOKUP(A172,reporting2,3,FALSE)),\"\",IF(ISNA(VLOOKUP(A172,reporting2,3,FALSE)),\"\",VLOOKUP(A172,reporting2,3,FALSE)))","v":""},{"$f":"IF(ISBLANK(VLOOKUP(A172,reporting2,4,FALSE)),\"\",IF(ISNA(VLOOKUP(A172,reporting2,4,FALSE)),\"\",VLOOKUP(A172,reporting2,4,FALSE)))","v":""},{"$f":"IF(ISBLANK(VLOOKUP(A172,reporting3,2,FALSE)),\"\",IF(ISNA(VLOOKUP(A172,reporting3,2,FALSE)),\"\",VLOOKUP(A172,reporting3,2,FALSE)))","v":""},{"$f":"IF(ISBLANK(VLOOKUP(A172,reporting3,3,FALSE)),\"\",IF(ISNA(VLOOKUP(A172,reporting3,3,FALSE)),\"\",VLOOKUP(A172,reporting3,3,FALSE)))","v":""},{"$f":"IF(ISBLANK(VLOOKUP(A172,reporting3,4,FALSE)),\"\",IF(ISNA(VLOOKUP(A172,reporting3,4,FALSE)),\"\",VLOOKUP(A172,reporting3,4,FALSE)))","v":""},{"$f":"IF(ISBLANK(VLOOKUP(A172,reporting4,2,FALSE)),\"\",IF(ISNA(VLOOKUP(A172,reporting4,2,FALSE)),\"\",VLOOKUP(A172,reporting4,2,FALSE)))","v":""},{"$f":"IF(ISBLANK(VLOOKUP(A172,reporting4,3,FALSE)),\"\",IF(ISNA(VLOOKUP(A172,reporting4,3,FALSE)),\"\",VLOOKUP(A172,reporting4,3,FALSE)))","v":""},{"$f":"IF(ISBLANK(VLOOKUP(A172,reporting4,4,FALSE)),\"\",IF(ISNA(VLOOKUP(A172,reporting4,4,FALSE)),\"\",VLOOKUP(A172,reporting4,4,FALSE)))","v":""},{"$f":"IF(ISBLANK(VLOOKUP(A172,reportin5,2,FALSE)),\"\",IF(ISNA(VLOOKUP(A172,reporting5,2,FALSE)),\"\",VLOOKUP(A172,reporting5,2,FALSE)))","v":""},{"$f":"IF(ISBLANK(VLOOKUP(A172,reporting5,3,FALSE)),\"\",IF(ISNA(VLOOKUP(A172,reporting5,3,FALSE)),\"\",VLOOKUP(A172,reporting5,3,FALSE)))","v":""},{"$f":"IF(ISBLANK(VLOOKUP(A172,reporting5,4,FALSE)),\"\",IF(ISNA(VLOOKUP(A172,reporting5,4,FALSE)),\"\",VLOOKUP(A172,reporting5,4,FALSE)))","v":""}]
[null,{"$f":"IF(ISBLANK(VLOOKUP(A173,reporting1,2,FALSE)),\"\",IF(ISNA(VLOOKUP(A173,reporting1,2,FALSE)),\"\",VLOOKUP(A173,reporting1,2,FALSE)))","v":""},{"$f":"IF(ISBLANK(VLOOKUP(A173,reporting1,3,FALSE)),\"\",IF(ISNA(VLOOKUP(A173,reporting1,3,FALSE)),\"\",VLOOKUP(A173,reporting1,3,FALSE)))","v":""},{"$f":"IF(ISBLANK(VLOOKUP(A173,reporting1,4,FALSE)),\"\",IF(ISNA(VLOOKUP(A173,reporting1,4,FALSE)),\"\",VLOOKUP(A173,reporting1,4,FALSE)))","v":""},{"$f":"IF(ISBLANK(VLOOKUP(A173,reporting2,2,FALSE)),\"\",IF(ISNA(VLOOKUP(A173,reporting2,2,FALSE)),\"\",VLOOKUP(A173,reporting2,2,FALSE)))","v":""},{"$f":"IF(ISBLANK(VLOOKUP(A173,reporting2,3,FALSE)),\"\",IF(ISNA(VLOOKUP(A173,reporting2,3,FALSE)),\"\",VLOOKUP(A173,reporting2,3,FALSE)))","v":""},{"$f":"IF(ISBLANK(VLOOKUP(A173,reporting2,4,FALSE)),\"\",IF(ISNA(VLOOKUP(A173,reporting2,4,FALSE)),\"\",VLOOKUP(A173,reporting2,4,FALSE)))","v":""},{"$f":"IF(ISBLANK(VLOOKUP(A173,reporting3,2,FALSE)),\"\",IF(ISNA(VLOOKUP(A173,reporting3,2,FALSE)),\"\",VLOOKUP(A173,reporting3,2,FALSE)))","v":""},{"$f":"IF(ISBLANK(VLOOKUP(A173,reporting3,3,FALSE)),\"\",IF(ISNA(VLOOKUP(A173,reporting3,3,FALSE)),\"\",VLOOKUP(A173,reporting3,3,FALSE)))","v":""},{"$f":"IF(ISBLANK(VLOOKUP(A173,reporting3,4,FALSE)),\"\",IF(ISNA(VLOOKUP(A173,reporting3,4,FALSE)),\"\",VLOOKUP(A173,reporting3,4,FALSE)))","v":""},{"$f":"IF(ISBLANK(VLOOKUP(A173,reporting4,2,FALSE)),\"\",IF(ISNA(VLOOKUP(A173,reporting4,2,FALSE)),\"\",VLOOKUP(A173,reporting4,2,FALSE)))","v":""},{"$f":"IF(ISBLANK(VLOOKUP(A173,reporting4,3,FALSE)),\"\",IF(ISNA(VLOOKUP(A173,reporting4,3,FALSE)),\"\",VLOOKUP(A173,reporting4,3,FALSE)))","v":""},{"$f":"IF(ISBLANK(VLOOKUP(A173,reporting4,4,FALSE)),\"\",IF(ISNA(VLOOKUP(A173,reporting4,4,FALSE)),\"\",VLOOKUP(A173,reporting4,4,FALSE)))","v":""},{"$f":"IF(ISBLANK(VLOOKUP(A173,reportin5,2,FALSE)),\"\",IF(ISNA(VLOOKUP(A173,reporting5,2,FALSE)),\"\",VLOOKUP(A173,reporting5,2,FALSE)))","v":""},{"$f":"IF(ISBLANK(VLOOKUP(A173,reporting5,3,FALSE)),\"\",IF(ISNA(VLOOKUP(A173,reporting5,3,FALSE)),\"\",VLOOKUP(A173,reporting5,3,FALSE)))","v":""},{"$f":"IF(ISBLANK(VLOOKUP(A173,reporting5,4,FALSE)),\"\",IF(ISNA(VLOOKUP(A173,reporting5,4,FALSE)),\"\",VLOOKUP(A173,reporting5,4,FALSE)))","v":""}]
[null,{"$f":"IF(ISBLANK(VLOOKUP(A174,reporting1,2,FALSE)),\"\",IF(ISNA(VLOOKUP(A174,reporting1,2,FALSE)),\"\",VLOOKUP(A174,reporting1,2,FALSE)))","v":""},{"$f":"IF(ISBLANK(VLOOKUP(A174,reporting1,3,FALSE)),\"\",IF(ISNA(VLOOKUP(A174,reporting1,3,FALSE)),\"\",VLOOKUP(A174,reporting1,3,FALSE)))","v":""},{"$f":"IF(ISBLANK(VLOOKUP(A174,reporting1,4,FALSE)),\"\",IF(ISNA(VLOOKUP(A174,reporting1,4,FALSE)),\"\",VLOOKUP(A174,reporting1,4,FALSE)))","v":""},{"$f":"IF(ISBLANK(VLOOKUP(A174,reporting2,2,FALSE)),\"\",IF(ISNA(VLOOKUP(A174,reporting2,2,FALSE)),\"\",VLOOKUP(A174,reporting2,2,FALSE)))","v":""},{"$f":"IF(ISBLANK(VLOOKUP(A174,reporting2,3,FALSE)),\"\",IF(ISNA(VLOOKUP(A174,reporting2,3,FALSE)),\"\",VLOOKUP(A174,reporting2,3,FALSE)))","v":""},{"$f":"IF(ISBLANK(VLOOKUP(A174,reporting2,4,FALSE)),\"\",IF(ISNA(VLOOKUP(A174,reporting2,4,FALSE)),\"\",VLOOKUP(A174,reporting2,4,FALSE)))","v":""},{"$f":"IF(ISBLANK(VLOOKUP(A174,reporting3,2,FALSE)),\"\",IF(ISNA(VLOOKUP(A174,reporting3,2,FALSE)),\"\",VLOOKUP(A174,reporting3,2,FALSE)))","v":""},{"$f":"IF(ISBLANK(VLOOKUP(A174,reporting3,3,FALSE)),\"\",IF(ISNA(VLOOKUP(A174,reporting3,3,FALSE)),\"\",VLOOKUP(A174,reporting3,3,FALSE)))","v":""},{"$f":"IF(ISBLANK(VLOOKUP(A174,reporting3,4,FALSE)),\"\",IF(ISNA(VLOOKUP(A174,reporting3,4,FALSE)),\"\",VLOOKUP(A174,reporting3,4,FALSE)))","v":""},{"$f":"IF(ISBLANK(VLOOKUP(A174,reporting4,2,FALSE)),\"\",IF(ISNA(VLOOKUP(A174,reporting4,2,FALSE)),\"\",VLOOKUP(A174,reporting4,2,FALSE)))","v":""},{"$f":"IF(ISBLANK(VLOOKUP(A174,reporting4,3,FALSE)),\"\",IF(ISNA(VLOOKUP(A174,reporting4,3,FALSE)),\"\",VLOOKUP(A174,reporting4,3,FALSE)))","v":""},{"$f":"IF(ISBLANK(VLOOKUP(A174,reporting4,4,FALSE)),\"\",IF(ISNA(VLOOKUP(A174,reporting4,4,FALSE)),\"\",VLOOKUP(A174,reporting4,4,FALSE)))","v":""},{"$f":"IF(ISBLANK(VLOOKUP(A174,reportin5,2,FALSE)),\"\",IF(ISNA(VLOOKUP(A174,reporting5,2,FALSE)),\"\",VLOOKUP(A174,reporting5,2,FALSE)))","v":""},{"$f":"IF(ISBLANK(VLOOKUP(A174,reporting5,3,FALSE)),\"\",IF(ISNA(VLOOKUP(A174,reporting5,3,FALSE)),\"\",VLOOKUP(A174,reporting5,3,FALSE)))","v":""},{"$f":"IF(ISBLANK(VLOOKUP(A174,reporting5,4,FALSE)),\"\",IF(ISNA(VLOOKUP(A174,reporting5,4,FALSE)),\"\",VLOOKUP(A174,reporting5,4,FALSE)))","v":""}]
[null,{"$f":"IF(ISBLANK(VLOOKUP(A175,reporting1,2,FALSE)),\"\",IF(ISNA(VLOOKUP(A175,reporting1,2,FALSE)),\"\",VLOOKUP(A175,reporting1,2,FALSE)))","v":""},{"$f":"IF(ISBLANK(VLOOKUP(A175,reporting1,3,FALSE)),\"\",IF(ISNA(VLOOKUP(A175,reporting1,3,FALSE)),\"\",VLOOKUP(A175,reporting1,3,FALSE)))","v":""},{"$f":"IF(ISBLANK(VLOOKUP(A175,reporting1,4,FALSE)),\"\",IF(ISNA(VLOOKUP(A175,reporting1,4,FALSE)),\"\",VLOOKUP(A175,reporting1,4,FALSE)))","v":""},{"$f":"IF(ISBLANK(VLOOKUP(A175,reporting2,2,FALSE)),\"\",IF(ISNA(VLOOKUP(A175,reporting2,2,FALSE)),\"\",VLOOKUP(A175,reporting2,2,FALSE)))","v":""},{"$f":"IF(ISBLANK(VLOOKUP(A175,reporting2,3,FALSE)),\"\",IF(ISNA(VLOOKUP(A175,reporting2,3,FALSE)),\"\",VLOOKUP(A175,reporting2,3,FALSE)))","v":""},{"$f":"IF(ISBLANK(VLOOKUP(A175,reporting2,4,FALSE)),\"\",IF(ISNA(VLOOKUP(A175,reporting2,4,FALSE)),\"\",VLOOKUP(A175,reporting2,4,FALSE)))","v":""},{"$f":"IF(ISBLANK(VLOOKUP(A175,reporting3,2,FALSE)),\"\",IF(ISNA(VLOOKUP(A175,reporting3,2,FALSE)),\"\",VLOOKUP(A175,reporting3,2,FALSE)))","v":""},{"$f":"IF(ISBLANK(VLOOKUP(A175,reporting3,3,FALSE)),\"\",IF(ISNA(VLOOKUP(A175,reporting3,3,FALSE)),\"\",VLOOKUP(A175,reporting3,3,FALSE)))","v":""},{"$f":"IF(ISBLANK(VLOOKUP(A175,reporting3,4,FALSE)),\"\",IF(ISNA(VLOOKUP(A175,reporting3,4,FALSE)),\"\",VLOOKUP(A175,reporting3,4,FALSE)))","v":""},{"$f":"IF(ISBLANK(VLOOKUP(A175,reporting4,2,FALSE)),\"\",IF(ISNA(VLOOKUP(A175,reporting4,2,FALSE)),\"\",VLOOKUP(A175,reporting4,2,FALSE)))","v":""},{"$f":"IF(ISBLANK(VLOOKUP(A175,reporting4,3,FALSE)),\"\",IF(ISNA(VLOOKUP(A175,reporting4,3,FALSE)),\"\",VLOOKUP(A175,reporting4,3,FALSE)))","v":""},{"$f":"IF(ISBLANK(VLOOKUP(A175,reporting4,4,FALSE)),\"\",IF(ISNA(VLOOKUP(A175,reporting4,4,FALSE)),\"\",VLOOKUP(A175,reporting4,4,FALSE)))","v":""},{"$f":"IF(ISBLANK(VLOOKUP(A175,reportin5,2,FALSE)),\"\",IF(ISNA(VLOOKUP(A175,reporting5,2,FALSE)),\"\",VLOOKUP(A175,reporting5,2,FALSE)))","v":""},{"$f":"IF(ISBLANK(VLOOKUP(A175,reporting5,3,FALSE)),\"\",IF(ISNA(VLOOKUP(A175,reporting5,3,FALSE)),\"\",VLOOKUP(A175,reporting5,3,FALSE)))","v":""},{"$f":"IF(ISBLANK(VLOOKUP(A175,reporting5,4,FALSE)),\"\",IF(ISNA(VLOOKUP(A175,reporting5,4,FALSE)),\"\",VLOOKUP(A175,reporting5,4,FALSE)))","v":""}]
[null,{"$f":"IF(ISBLANK(VLOOKUP(A176,reporting1,2,FALSE)),\"\",IF(ISNA(VLOOKUP(A176,reporting1,2,FALSE)),\"\",VLOOKUP(A176,reporting1,2,FALSE)))","v":""},{"$f":"IF(ISBLANK(VLOOKUP(A176,reporting1,3,FALSE)),\"\",IF(ISNA(VLOOKUP(A176,reporting1,3,FALSE)),\"\",VLOOKUP(A176,reporting1,3,FALSE)))","v":""},{"$f":"IF(ISBLANK(VLOOKUP(A176,reporting1,4,FALSE)),\"\",IF(ISNA(VLOOKUP(A176,reporting1,4,FALSE)),\"\",VLOOKUP(A176,reporting1,4,FALSE)))","v":""},{"$f":"IF(ISBLANK(VLOOKUP(A176,reporting2,2,FALSE)),\"\",IF(ISNA(VLOOKUP(A176,reporting2,2,FALSE)),\"\",VLOOKUP(A176,reporting2,2,FALSE)))","v":""},{"$f":"IF(ISBLANK(VLOOKUP(A176,reporting2,3,FALSE)),\"\",IF(ISNA(VLOOKUP(A176,reporting2,3,FALSE)),\"\",VLOOKUP(A176,reporting2,3,FALSE)))","v":""},{"$f":"IF(ISBLANK(VLOOKUP(A176,reporting2,4,FALSE)),\"\",IF(ISNA(VLOOKUP(A176,reporting2,4,FALSE)),\"\",VLOOKUP(A176,reporting2,4,FALSE)))","v":""},{"$f":"IF(ISBLANK(VLOOKUP(A176,reporting3,2,FALSE)),\"\",IF(ISNA(VLOOKUP(A176,reporting3,2,FALSE)),\"\",VLOOKUP(A176,reporting3,2,FALSE)))","v":""},{"$f":"IF(ISBLANK(VLOOKUP(A176,reporting3,3,FALSE)),\"\",IF(ISNA(VLOOKUP(A176,reporting3,3,FALSE)),\"\",VLOOKUP(A176,reporting3,3,FALSE)))","v":""},{"$f":"IF(ISBLANK(VLOOKUP(A176,reporting3,4,FALSE)),\"\",IF(ISNA(VLOOKUP(A176,reporting3,4,FALSE)),\"\",VLOOKUP(A176,reporting3,4,FALSE)))","v":""},{"$f":"IF(ISBLANK(VLOOKUP(A176,reporting4,2,FALSE)),\"\",IF(ISNA(VLOOKUP(A176,reporting4,2,FALSE)),\"\",VLOOKUP(A176,reporting4,2,FALSE)))","v":""},{"$f":"IF(ISBLANK(VLOOKUP(A176,reporting4,3,FALSE)),\"\",IF(ISNA(VLOOKUP(A176,reporting4,3,FALSE)),\"\",VLOOKUP(A176,reporting4,3,FALSE)))","v":""},{"$f":"IF(ISBLANK(VLOOKUP(A176,reporting4,4,FALSE)),\"\",IF(ISNA(VLOOKUP(A176,reporting4,4,FALSE)),\"\",VLOOKUP(A176,reporting4,4,FALSE)))","v":""},{"$f":"IF(ISBLANK(VLOOKUP(A176,reportin5,2,FALSE)),\"\",IF(ISNA(VLOOKUP(A176,reporting5,2,FALSE)),\"\",VLOOKUP(A176,reporting5,2,FALSE)))","v":""},{"$f":"IF(ISBLANK(VLOOKUP(A176,reporting5,3,FALSE)),\"\",IF(ISNA(VLOOKUP(A176,reporting5,3,FALSE)),\"\",VLOOKUP(A176,reporting5,3,FALSE)))","v":""},{"$f":"IF(ISBLANK(VLOOKUP(A176,reporting5,4,FALSE)),\"\",IF(ISNA(VLOOKUP(A176,reporting5,4,FALSE)),\"\",VLOOKUP(A176,reporting5,4,FALSE)))","v":""}]
[null,{"$f":"IF(ISBLANK(VLOOKUP(A177,reporting1,2,FALSE)),\"\",IF(ISNA(VLOOKUP(A177,reporting1,2,FALSE)),\"\",VLOOKUP(A177,reporting1,2,FALSE)))","v":""},{"$f":"IF(ISBLANK(VLOOKUP(A177,reporting1,3,FALSE)),\"\",IF(ISNA(VLOOKUP(A177,reporting1,3,FALSE)),\"\",VLOOKUP(A177,reporting1,3,FALSE)))","v":""},{"$f":"IF(ISBLANK(VLOOKUP(A177,reporting1,4,FALSE)),\"\",IF(ISNA(VLOOKUP(A177,reporting1,4,FALSE)),\"\",VLOOKUP(A177,reporting1,4,FALSE)))","v":""},{"$f":"IF(ISBLANK(VLOOKUP(A177,reporting2,2,FALSE)),\"\",IF(ISNA(VLOOKUP(A177,reporting2,2,FALSE)),\"\",VLOOKUP(A177,reporting2,2,FALSE)))","v":""},{"$f":"IF(ISBLANK(VLOOKUP(A177,reporting2,3,FALSE)),\"\",IF(ISNA(VLOOKUP(A177,reporting2,3,FALSE)),\"\",VLOOKUP(A177,reporting2,3,FALSE)))","v":""},{"$f":"IF(ISBLANK(VLOOKUP(A177,reporting2,4,FALSE)),\"\",IF(ISNA(VLOOKUP(A177,reporting2,4,FALSE)),\"\",VLOOKUP(A177,reporting2,4,FALSE)))","v":""},{"$f":"IF(ISBLANK(VLOOKUP(A177,reporting3,2,FALSE)),\"\",IF(ISNA(VLOOKUP(A177,reporting3,2,FALSE)),\"\",VLOOKUP(A177,reporting3,2,FALSE)))","v":""},{"$f":"IF(ISBLANK(VLOOKUP(A177,reporting3,3,FALSE)),\"\",IF(ISNA(VLOOKUP(A177,reporting3,3,FALSE)),\"\",VLOOKUP(A177,reporting3,3,FALSE)))","v":""},{"$f":"IF(ISBLANK(VLOOKUP(A177,reporting3,4,FALSE)),\"\",IF(ISNA(VLOOKUP(A177,reporting3,4,FALSE)),\"\",VLOOKUP(A177,reporting3,4,FALSE)))","v":""},{"$f":"IF(ISBLANK(VLOOKUP(A177,reporting4,2,FALSE)),\"\",IF(ISNA(VLOOKUP(A177,reporting4,2,FALSE)),\"\",VLOOKUP(A177,reporting4,2,FALSE)))","v":""},{"$f":"IF(ISBLANK(VLOOKUP(A177,reporting4,3,FALSE)),\"\",IF(ISNA(VLOOKUP(A177,reporting4,3,FALSE)),\"\",VLOOKUP(A177,reporting4,3,FALSE)))","v":""},{"$f":"IF(ISBLANK(VLOOKUP(A177,reporting4,4,FALSE)),\"\",IF(ISNA(VLOOKUP(A177,reporting4,4,FALSE)),\"\",VLOOKUP(A177,reporting4,4,FALSE)))","v":""},{"$f":"IF(ISBLANK(VLOOKUP(A177,reportin5,2,FALSE)),\"\",IF(ISNA(VLOOKUP(A177,reporting5,2,FALSE)),\"\",VLOOKUP(A177,reporting5,2,FALSE)))","v":""},{"$f":"IF(ISBLANK(VLOOKUP(A177,reporting5,3,FALSE)),\"\",IF(ISNA(VLOOKUP(A177,reporting5,3,FALSE)),\"\",VLOOKUP(A177,reporting5,3,FALSE)))","v":""},{"$f":"IF(ISBLANK(VLOOKUP(A177,reporting5,4,FALSE)),\"\",IF(ISNA(VLOOKUP(A177,reporting5,4,FALSE)),\"\",VLOOKUP(A177,reporting5,4,FALSE)))","v":""}]
[null,{"$f":"IF(ISBLANK(VLOOKUP(A178,reporting1,2,FALSE)),\"\",IF(ISNA(VLOOKUP(A178,reporting1,2,FALSE)),\"\",VLOOKUP(A178,reporting1,2,FALSE)))","v":""},{"$f":"IF(ISBLANK(VLOOKUP(A178,reporting1,3,FALSE)),\"\",IF(ISNA(VLOOKUP(A178,reporting1,3,FALSE)),\"\",VLOOKUP(A178,reporting1,3,FALSE)))","v":""},{"$f":"IF(ISBLANK(VLOOKUP(A178,reporting1,4,FALSE)),\"\",IF(ISNA(VLOOKUP(A178,reporting1,4,FALSE)),\"\",VLOOKUP(A178,reporting1,4,FALSE)))","v":""},{"$f":"IF(ISBLANK(VLOOKUP(A178,reporting2,2,FALSE)),\"\",IF(ISNA(VLOOKUP(A178,reporting2,2,FALSE)),\"\",VLOOKUP(A178,reporting2,2,FALSE)))","v":""},{"$f":"IF(ISBLANK(VLOOKUP(A178,reporting2,3,FALSE)),\"\",IF(ISNA(VLOOKUP(A178,reporting2,3,FALSE)),\"\",VLOOKUP(A178,reporting2,3,FALSE)))","v":""},{"$f":"IF(ISBLANK(VLOOKUP(A178,reporting2,4,FALSE)),\"\",IF(ISNA(VLOOKUP(A178,reporting2,4,FALSE)),\"\",VLOOKUP(A178,reporting2,4,FALSE)))","v":""},{"$f":"IF(ISBLANK(VLOOKUP(A178,reporting3,2,FALSE)),\"\",IF(ISNA(VLOOKUP(A178,reporting3,2,FALSE)),\"\",VLOOKUP(A178,reporting3,2,FALSE)))","v":""},{"$f":"IF(ISBLANK(VLOOKUP(A178,reporting3,3,FALSE)),\"\",IF(ISNA(VLOOKUP(A178,reporting3,3,FALSE)),\"\",VLOOKUP(A178,reporting3,3,FALSE)))","v":""},{"$f":"IF(ISBLANK(VLOOKUP(A178,reporting3,4,FALSE)),\"\",IF(ISNA(VLOOKUP(A178,reporting3,4,FALSE)),\"\",VLOOKUP(A178,reporting3,4,FALSE)))","v":""},{"$f":"IF(ISBLANK(VLOOKUP(A178,reporting4,2,FALSE)),\"\",IF(ISNA(VLOOKUP(A178,reporting4,2,FALSE)),\"\",VLOOKUP(A178,reporting4,2,FALSE)))","v":""},{"$f":"IF(ISBLANK(VLOOKUP(A178,reporting4,3,FALSE)),\"\",IF(ISNA(VLOOKUP(A178,reporting4,3,FALSE)),\"\",VLOOKUP(A178,reporting4,3,FALSE)))","v":""},{"$f":"IF(ISBLANK(VLOOKUP(A178,reporting4,4,FALSE)),\"\",IF(ISNA(VLOOKUP(A178,reporting4,4,FALSE)),\"\",VLOOKUP(A178,reporting4,4,FALSE)))","v":""},{"$f":"IF(ISBLANK(VLOOKUP(A178,reportin5,2,FALSE)),\"\",IF(ISNA(VLOOKUP(A178,reporting5,2,FALSE)),\"\",VLOOKUP(A178,reporting5,2,FALSE)))","v":""},{"$f":"IF(ISBLANK(VLOOKUP(A178,reporting5,3,FALSE)),\"\",IF(ISNA(VLOOKUP(A178,reporting5,3,FALSE)),\"\",VLOOKUP(A178,reporting5,3,FALSE)))","v":""},{"$f":"IF(ISBLANK(VLOOKUP(A178,reporting5,4,FALSE)),\"\",IF(ISNA(VLOOKUP(A178,reporting5,4,FALSE)),\"\",VLOOKUP(A178,reporting5,4,FALSE)))","v":""}]
[null,{"$f":"IF(ISBLANK(VLOOKUP(A179,reporting1,2,FALSE)),\"\",IF(ISNA(VLOOKUP(A179,reporting1,2,FALSE)),\"\",VLOOKUP(A179,reporting1,2,FALSE)))","v":""},{"$f":"IF(ISBLANK(VLOOKUP(A179,reporting1,3,FALSE)),\"\",IF(ISNA(VLOOKUP(A179,reporting1,3,FALSE)),\"\",VLOOKUP(A179,reporting1,3,FALSE)))","v":""},{"$f":"IF(ISBLANK(VLOOKUP(A179,reporting1,4,FALSE)),\"\",IF(ISNA(VLOOKUP(A179,reporting1,4,FALSE)),\"\",VLOOKUP(A179,reporting1,4,FALSE)))","v":""},{"$f":"IF(ISBLANK(VLOOKUP(A179,reporting2,2,FALSE)),\"\",IF(ISNA(VLOOKUP(A179,reporting2,2,FALSE)),\"\",VLOOKUP(A179,reporting2,2,FALSE)))","v":""},{"$f":"IF(ISBLANK(VLOOKUP(A179,reporting2,3,FALSE)),\"\",IF(ISNA(VLOOKUP(A179,reporting2,3,FALSE)),\"\",VLOOKUP(A179,reporting2,3,FALSE)))","v":""},{"$f":"IF(ISBLANK(VLOOKUP(A179,reporting2,4,FALSE)),\"\",IF(ISNA(VLOOKUP(A179,reporting2,4,FALSE)),\"\",VLOOKUP(A179,reporting2,4,FALSE)))","v":""},{"$f":"IF(ISBLANK(VLOOKUP(A179,reporting3,2,FALSE)),\"\",IF(ISNA(VLOOKUP(A179,reporting3,2,FALSE)),\"\",VLOOKUP(A179,reporting3,2,FALSE)))","v":""},{"$f":"IF(ISBLANK(VLOOKUP(A179,reporting3,3,FALSE)),\"\",IF(ISNA(VLOOKUP(A179,reporting3,3,FALSE)),\"\",VLOOKUP(A179,reporting3,3,FALSE)))","v":""},{"$f":"IF(ISBLANK(VLOOKUP(A179,reporting3,4,FALSE)),\"\",IF(ISNA(VLOOKUP(A179,reporting3,4,FALSE)),\"\",VLOOKUP(A179,reporting3,4,FALSE)))","v":""},{"$f":"IF(ISBLANK(VLOOKUP(A179,reporting4,2,FALSE)),\"\",IF(ISNA(VLOOKUP(A179,reporting4,2,FALSE)),\"\",VLOOKUP(A179,reporting4,2,FALSE)))","v":""},{"$f":"IF(ISBLANK(VLOOKUP(A179,reporting4,3,FALSE)),\"\",IF(ISNA(VLOOKUP(A179,reporting4,3,FALSE)),\"\",VLOOKUP(A179,reporting4,3,FALSE)))","v":""},{"$f":"IF(ISBLANK(VLOOKUP(A179,reporting4,4,FALSE)),\"\",IF(ISNA(VLOOKUP(A179,reporting4,4,FALSE)),\"\",VLOOKUP(A179,reporting4,4,FALSE)))","v":""},{"$f":"IF(ISBLANK(VLOOKUP(A179,reportin5,2,FALSE)),\"\",IF(ISNA(VLOOKUP(A179,reporting5,2,FALSE)),\"\",VLOOKUP(A179,reporting5,2,FALSE)))","v":""},{"$f":"IF(ISBLANK(VLOOKUP(A179,reporting5,3,FALSE)),\"\",IF(ISNA(VLOOKUP(A179,reporting5,3,FALSE)),\"\",VLOOKUP(A179,reporting5,3,FALSE)))","v":""},{"$f":"IF(ISBLANK(VLOOKUP(A179,reporting5,4,FALSE)),\"\",IF(ISNA(VLOOKUP(A179,reporting5,4,FALSE)),\"\",VLOOKUP(A179,reporting5,4,FALSE)))","v":""}]
[null,{"$f":"IF(ISBLANK(VLOOKUP(A180,reporting1,2,FALSE)),\"\",IF(ISNA(VLOOKUP(A180,reporting1,2,FALSE)),\"\",VLOOKUP(A180,reporting1,2,FALSE)))","v":""},{"$f":"IF(ISBLANK(VLOOKUP(A180,reporting1,3,FALSE)),\"\",IF(ISNA(VLOOKUP(A180,reporting1,3,FALSE)),\"\",VLOOKUP(A180,reporting1,3,FALSE)))","v":""},{"$f":"IF(ISBLANK(VLOOKUP(A180,reporting1,4,FALSE)),\"\",IF(ISNA(VLOOKUP(A180,reporting1,4,FALSE)),\"\",VLOOKUP(A180,reporting1,4,FALSE)))","v":""},{"$f":"IF(ISBLANK(VLOOKUP(A180,reporting2,2,FALSE)),\"\",IF(ISNA(VLOOKUP(A180,reporting2,2,FALSE)),\"\",VLOOKUP(A180,reporting2,2,FALSE)))","v":""},{"$f":"IF(ISBLANK(VLOOKUP(A180,reporting2,3,FALSE)),\"\",IF(ISNA(VLOOKUP(A180,reporting2,3,FALSE)),\"\",VLOOKUP(A180,reporting2,3,FALSE)))","v":""},{"$f":"IF(ISBLANK(VLOOKUP(A180,reporting2,4,FALSE)),\"\",IF(ISNA(VLOOKUP(A180,reporting2,4,FALSE)),\"\",VLOOKUP(A180,reporting2,4,FALSE)))","v":""},{"$f":"IF(ISBLANK(VLOOKUP(A180,reporting3,2,FALSE)),\"\",IF(ISNA(VLOOKUP(A180,reporting3,2,FALSE)),\"\",VLOOKUP(A180,reporting3,2,FALSE)))","v":""},{"$f":"IF(ISBLANK(VLOOKUP(A180,reporting3,3,FALSE)),\"\",IF(ISNA(VLOOKUP(A180,reporting3,3,FALSE)),\"\",VLOOKUP(A180,reporting3,3,FALSE)))","v":""},{"$f":"IF(ISBLANK(VLOOKUP(A180,reporting3,4,FALSE)),\"\",IF(ISNA(VLOOKUP(A180,reporting3,4,FALSE)),\"\",VLOOKUP(A180,reporting3,4,FALSE)))","v":""},{"$f":"IF(ISBLANK(VLOOKUP(A180,reporting4,2,FALSE)),\"\",IF(ISNA(VLOOKUP(A180,reporting4,2,FALSE)),\"\",VLOOKUP(A180,reporting4,2,FALSE)))","v":""},{"$f":"IF(ISBLANK(VLOOKUP(A180,reporting4,3,FALSE)),\"\",IF(ISNA(VLOOKUP(A180,reporting4,3,FALSE)),\"\",VLOOKUP(A180,reporting4,3,FALSE)))","v":""},{"$f":"IF(ISBLANK(VLOOKUP(A180,reporting4,4,FALSE)),\"\",IF(ISNA(VLOOKUP(A180,reporting4,4,FALSE)),\"\",VLOOKUP(A180,reporting4,4,FALSE)))","v":""},{"$f":"IF(ISBLANK(VLOOKUP(A180,reportin5,2,FALSE)),\"\",IF(ISNA(VLOOKUP(A180,reporting5,2,FALSE)),\"\",VLOOKUP(A180,reporting5,2,FALSE)))","v":""},{"$f":"IF(ISBLANK(VLOOKUP(A180,reporting5,3,FALSE)),\"\",IF(ISNA(VLOOKUP(A180,reporting5,3,FALSE)),\"\",VLOOKUP(A180,reporting5,3,FALSE)))","v":""},{"$f":"IF(ISBLANK(VLOOKUP(A180,reporting5,4,FALSE)),\"\",IF(ISNA(VLOOKUP(A180,reporting5,4,FALSE)),\"\",VLOOKUP(A180,reporting5,4,FALSE)))","v":""}]
[null,{"$f":"IF(ISBLANK(VLOOKUP(A181,reporting1,2,FALSE)),\"\",IF(ISNA(VLOOKUP(A181,reporting1,2,FALSE)),\"\",VLOOKUP(A181,reporting1,2,FALSE)))","v":""},{"$f":"IF(ISBLANK(VLOOKUP(A181,reporting1,3,FALSE)),\"\",IF(ISNA(VLOOKUP(A181,reporting1,3,FALSE)),\"\",VLOOKUP(A181,reporting1,3,FALSE)))","v":""},{"$f":"IF(ISBLANK(VLOOKUP(A181,reporting1,4,FALSE)),\"\",IF(ISNA(VLOOKUP(A181,reporting1,4,FALSE)),\"\",VLOOKUP(A181,reporting1,4,FALSE)))","v":""},{"$f":"IF(ISBLANK(VLOOKUP(A181,reporting2,2,FALSE)),\"\",IF(ISNA(VLOOKUP(A181,reporting2,2,FALSE)),\"\",VLOOKUP(A181,reporting2,2,FALSE)))","v":""},{"$f":"IF(ISBLANK(VLOOKUP(A181,reporting2,3,FALSE)),\"\",IF(ISNA(VLOOKUP(A181,reporting2,3,FALSE)),\"\",VLOOKUP(A181,reporting2,3,FALSE)))","v":""},{"$f":"IF(ISBLANK(VLOOKUP(A181,reporting2,4,FALSE)),\"\",IF(ISNA(VLOOKUP(A181,reporting2,4,FALSE)),\"\",VLOOKUP(A181,reporting2,4,FALSE)))","v":""},{"$f":"IF(ISBLANK(VLOOKUP(A181,reporting3,2,FALSE)),\"\",IF(ISNA(VLOOKUP(A181,reporting3,2,FALSE)),\"\",VLOOKUP(A181,reporting3,2,FALSE)))","v":""},{"$f":"IF(ISBLANK(VLOOKUP(A181,reporting3,3,FALSE)),\"\",IF(ISNA(VLOOKUP(A181,reporting3,3,FALSE)),\"\",VLOOKUP(A181,reporting3,3,FALSE)))","v":""},{"$f":"IF(ISBLANK(VLOOKUP(A181,reporting3,4,FALSE)),\"\",IF(ISNA(VLOOKUP(A181,reporting3,4,FALSE)),\"\",VLOOKUP(A181,reporting3,4,FALSE)))","v":""},{"$f":"IF(ISBLANK(VLOOKUP(A181,reporting4,2,FALSE)),\"\",IF(ISNA(VLOOKUP(A181,reporting4,2,FALSE)),\"\",VLOOKUP(A181,reporting4,2,FALSE)))","v":""},{"$f":"IF(ISBLANK(VLOOKUP(A181,reporting4,3,FALSE)),\"\",IF(ISNA(VLOOKUP(A181,reporting4,3,FALSE)),\"\",VLOOKUP(A181,reporting4,3,FALSE)))","v":""},{"$f":"IF(ISBLANK(VLOOKUP(A181,reporting4,4,FALSE)),\"\",IF(ISNA(VLOOKUP(A181,reporting4,4,FALSE)),\"\",VLOOKUP(A181,reporting4,4,FALSE)))","v":""},{"$f":"IF(ISBLANK(VLOOKUP(A181,reportin5,2,FALSE)),\"\",IF(ISNA(VLOOKUP(A181,reporting5,2,FALSE)),\"\",VLOOKUP(A181,reporting5,2,FALSE)))","v":""},{"$f":"IF(ISBLANK(VLOOKUP(A181,reporting5,3,FALSE)),\"\",IF(ISNA(VLOOKUP(A181,reporting5,3,FALSE)),\"\",VLOOKUP(A181,reporting5,3,FALSE)))","v":""},{"$f":"IF(ISBLANK(VLOOKUP(A181,reporting5,4,FALSE)),\"\",IF(ISNA(VLOOKUP(A181,reporting5,4,FALSE)),\"\",VLOOKUP(A181,reporting5,4,FALSE)))","v":""}]
[null,{"$f":"IF(ISBLANK(VLOOKUP(A182,reporting1,2,FALSE)),\"\",IF(ISNA(VLOOKUP(A182,reporting1,2,FALSE)),\"\",VLOOKUP(A182,reporting1,2,FALSE)))","v":""},{"$f":"IF(ISBLANK(VLOOKUP(A182,reporting1,3,FALSE)),\"\",IF(ISNA(VLOOKUP(A182,reporting1,3,FALSE)),\"\",VLOOKUP(A182,reporting1,3,FALSE)))","v":""},{"$f":"IF(ISBLANK(VLOOKUP(A182,reporting1,4,FALSE)),\"\",IF(ISNA(VLOOKUP(A182,reporting1,4,FALSE)),\"\",VLOOKUP(A182,reporting1,4,FALSE)))","v":""},{"$f":"IF(ISBLANK(VLOOKUP(A182,reporting2,2,FALSE)),\"\",IF(ISNA(VLOOKUP(A182,reporting2,2,FALSE)),\"\",VLOOKUP(A182,reporting2,2,FALSE)))","v":""},{"$f":"IF(ISBLANK(VLOOKUP(A182,reporting2,3,FALSE)),\"\",IF(ISNA(VLOOKUP(A182,reporting2,3,FALSE)),\"\",VLOOKUP(A182,reporting2,3,FALSE)))","v":""},{"$f":"IF(ISBLANK(VLOOKUP(A182,reporting2,4,FALSE)),\"\",IF(ISNA(VLOOKUP(A182,reporting2,4,FALSE)),\"\",VLOOKUP(A182,reporting2,4,FALSE)))","v":""},{"$f":"IF(ISBLANK(VLOOKUP(A182,reporting3,2,FALSE)),\"\",IF(ISNA(VLOOKUP(A182,reporting3,2,FALSE)),\"\",VLOOKUP(A182,reporting3,2,FALSE)))","v":""},{"$f":"IF(ISBLANK(VLOOKUP(A182,reporting3,3,FALSE)),\"\",IF(ISNA(VLOOKUP(A182,reporting3,3,FALSE)),\"\",VLOOKUP(A182,reporting3,3,FALSE)))","v":""},{"$f":"IF(ISBLANK(VLOOKUP(A182,reporting3,4,FALSE)),\"\",IF(ISNA(VLOOKUP(A182,reporting3,4,FALSE)),\"\",VLOOKUP(A182,reporting3,4,FALSE)))","v":""},{"$f":"IF(ISBLANK(VLOOKUP(A182,reporting4,2,FALSE)),\"\",IF(ISNA(VLOOKUP(A182,reporting4,2,FALSE)),\"\",VLOOKUP(A182,reporting4,2,FALSE)))","v":""},{"$f":"IF(ISBLANK(VLOOKUP(A182,reporting4,3,FALSE)),\"\",IF(ISNA(VLOOKUP(A182,reporting4,3,FALSE)),\"\",VLOOKUP(A182,reporting4,3,FALSE)))","v":""},{"$f":"IF(ISBLANK(VLOOKUP(A182,reporting4,4,FALSE)),\"\",IF(ISNA(VLOOKUP(A182,reporting4,4,FALSE)),\"\",VLOOKUP(A182,reporting4,4,FALSE)))","v":""},{"$f":"IF(ISBLANK(VLOOKUP(A182,reportin5,2,FALSE)),\"\",IF(ISNA(VLOOKUP(A182,reporting5,2,FALSE)),\"\",VLOOKUP(A182,reporting5,2,FALSE)))","v":""},{"$f":"IF(ISBLANK(VLOOKUP(A182,reporting5,3,FALSE)),\"\",IF(ISNA(VLOOKUP(A182,reporting5,3,FALSE)),\"\",VLOOKUP(A182,reporting5,3,FALSE)))","v":""},{"$f":"IF(ISBLANK(VLOOKUP(A182,reporting5,4,FALSE)),\"\",IF(ISNA(VLOOKUP(A182,reporting5,4,FALSE)),\"\",VLOOKUP(A182,reporting5,4,FALSE)))","v":""}]
[null,{"$f":"IF(ISBLANK(VLOOKUP(A183,reporting1,2,FALSE)),\"\",IF(ISNA(VLOOKUP(A183,reporting1,2,FALSE)),\"\",VLOOKUP(A183,reporting1,2,FALSE)))","v":""},{"$f":"IF(ISBLANK(VLOOKUP(A183,reporting1,3,FALSE)),\"\",IF(ISNA(VLOOKUP(A183,reporting1,3,FALSE)),\"\",VLOOKUP(A183,reporting1,3,FALSE)))","v":""},{"$f":"IF(ISBLANK(VLOOKUP(A183,reporting1,4,FALSE)),\"\",IF(ISNA(VLOOKUP(A183,reporting1,4,FALSE)),\"\",VLOOKUP(A183,reporting1,4,FALSE)))","v":""},{"$f":"IF(ISBLANK(VLOOKUP(A183,reporting2,2,FALSE)),\"\",IF(ISNA(VLOOKUP(A183,reporting2,2,FALSE)),\"\",VLOOKUP(A183,reporting2,2,FALSE)))","v":""},{"$f":"IF(ISBLANK(VLOOKUP(A183,reporting2,3,FALSE)),\"\",IF(ISNA(VLOOKUP(A183,reporting2,3,FALSE)),\"\",VLOOKUP(A183,reporting2,3,FALSE)))","v":""},{"$f":"IF(ISBLANK(VLOOKUP(A183,reporting2,4,FALSE)),\"\",IF(ISNA(VLOOKUP(A183,reporting2,4,FALSE)),\"\",VLOOKUP(A183,reporting2,4,FALSE)))","v":""},{"$f":"IF(ISBLANK(VLOOKUP(A183,reporting3,2,FALSE)),\"\",IF(ISNA(VLOOKUP(A183,reporting3,2,FALSE)),\"\",VLOOKUP(A183,reporting3,2,FALSE)))","v":""},{"$f":"IF(ISBLANK(VLOOKUP(A183,reporting3,3,FALSE)),\"\",IF(ISNA(VLOOKUP(A183,reporting3,3,FALSE)),\"\",VLOOKUP(A183,reporting3,3,FALSE)))","v":""},{"$f":"IF(ISBLANK(VLOOKUP(A183,reporting3,4,FALSE)),\"\",IF(ISNA(VLOOKUP(A183,reporting3,4,FALSE)),\"\",VLOOKUP(A183,reporting3,4,FALSE)))","v":""},{"$f":"IF(ISBLANK(VLOOKUP(A183,reporting4,2,FALSE)),\"\",IF(ISNA(VLOOKUP(A183,reporting4,2,FALSE)),\"\",VLOOKUP(A183,reporting4,2,FALSE)))","v":""},{"$f":"IF(ISBLANK(VLOOKUP(A183,reporting4,3,FALSE)),\"\",IF(ISNA(VLOOKUP(A183,reporting4,3,FALSE)),\"\",VLOOKUP(A183,reporting4,3,FALSE)))","v":""},{"$f":"IF(ISBLANK(VLOOKUP(A183,reporting4,4,FALSE)),\"\",IF(ISNA(VLOOKUP(A183,reporting4,4,FALSE)),\"\",VLOOKUP(A183,reporting4,4,FALSE)))","v":""},{"$f":"IF(ISBLANK(VLOOKUP(A183,reportin5,2,FALSE)),\"\",IF(ISNA(VLOOKUP(A183,reporting5,2,FALSE)),\"\",VLOOKUP(A183,reporting5,2,FALSE)))","v":""},{"$f":"IF(ISBLANK(VLOOKUP(A183,reporting5,3,FALSE)),\"\",IF(ISNA(VLOOKUP(A183,reporting5,3,FALSE)),\"\",VLOOKUP(A183,reporting5,3,FALSE)))","v":""},{"$f":"IF(ISBLANK(VLOOKUP(A183,reporting5,4,FALSE)),\"\",IF(ISNA(VLOOKUP(A183,reporting5,4,FALSE)),\"\",VLOOKUP(A183,reporting5,4,FALSE)))","v":""}]
[null,{"$f":"IF(ISBLANK(VLOOKUP(A184,reporting1,2,FALSE)),\"\",IF(ISNA(VLOOKUP(A184,reporting1,2,FALSE)),\"\",VLOOKUP(A184,reporting1,2,FALSE)))","v":""},{"$f":"IF(ISBLANK(VLOOKUP(A184,reporting1,3,FALSE)),\"\",IF(ISNA(VLOOKUP(A184,reporting1,3,FALSE)),\"\",VLOOKUP(A184,reporting1,3,FALSE)))","v":""},{"$f":"IF(ISBLANK(VLOOKUP(A184,reporting1,4,FALSE)),\"\",IF(ISNA(VLOOKUP(A184,reporting1,4,FALSE)),\"\",VLOOKUP(A184,reporting1,4,FALSE)))","v":""},{"$f":"IF(ISBLANK(VLOOKUP(A184,reporting2,2,FALSE)),\"\",IF(ISNA(VLOOKUP(A184,reporting2,2,FALSE)),\"\",VLOOKUP(A184,reporting2,2,FALSE)))","v":""},{"$f":"IF(ISBLANK(VLOOKUP(A184,reporting2,3,FALSE)),\"\",IF(ISNA(VLOOKUP(A184,reporting2,3,FALSE)),\"\",VLOOKUP(A184,reporting2,3,FALSE)))","v":""},{"$f":"IF(ISBLANK(VLOOKUP(A184,reporting2,4,FALSE)),\"\",IF(ISNA(VLOOKUP(A184,reporting2,4,FALSE)),\"\",VLOOKUP(A184,reporting2,4,FALSE)))","v":""},{"$f":"IF(ISBLANK(VLOOKUP(A184,reporting3,2,FALSE)),\"\",IF(ISNA(VLOOKUP(A184,reporting3,2,FALSE)),\"\",VLOOKUP(A184,reporting3,2,FALSE)))","v":""},{"$f":"IF(ISBLANK(VLOOKUP(A184,reporting3,3,FALSE)),\"\",IF(ISNA(VLOOKUP(A184,reporting3,3,FALSE)),\"\",VLOOKUP(A184,reporting3,3,FALSE)))","v":""},{"$f":"IF(ISBLANK(VLOOKUP(A184,reporting3,4,FALSE)),\"\",IF(ISNA(VLOOKUP(A184,reporting3,4,FALSE)),\"\",VLOOKUP(A184,reporting3,4,FALSE)))","v":""},{"$f":"IF(ISBLANK(VLOOKUP(A184,reporting4,2,FALSE)),\"\",IF(ISNA(VLOOKUP(A184,reporting4,2,FALSE)),\"\",VLOOKUP(A184,reporting4,2,FALSE)))","v":""},{"$f":"IF(ISBLANK(VLOOKUP(A184,reporting4,3,FALSE)),\"\",IF(ISNA(VLOOKUP(A184,reporting4,3,FALSE)),\"\",VLOOKUP(A184,reporting4,3,FALSE)))","v":""},{"$f":"IF(ISBLANK(VLOOKUP(A184,reporting4,4,FALSE)),\"\",IF(ISNA(VLOOKUP(A184,reporting4,4,FALSE)),\"\",VLOOKUP(A184,reporting4,4,FALSE)))","v":""},{"$f":"IF(ISBLANK(VLOOKUP(A184,reportin5,2,FALSE)),\"\",IF(ISNA(VLOOKUP(A184,reporting5,2,FALSE)),\"\",VLOOKUP(A184,reporting5,2,FALSE)))","v":""},{"$f":"IF(ISBLANK(VLOOKUP(A184,reporting5,3,FALSE)),\"\",IF(ISNA(VLOOKUP(A184,reporting5,3,FALSE)),\"\",VLOOKUP(A184,reporting5,3,FALSE)))","v":""},{"$f":"IF(ISBLANK(VLOOKUP(A184,reporting5,4,FALSE)),\"\",IF(ISNA(VLOOKUP(A184,reporting5,4,FALSE)),\"\",VLOOKUP(A184,reporting5,4,FALSE)))","v":""}]
[null,{"$f":"IF(ISBLANK(VLOOKUP(A185,reporting1,2,FALSE)),\"\",IF(ISNA(VLOOKUP(A185,reporting1,2,FALSE)),\"\",VLOOKUP(A185,reporting1,2,FALSE)))","v":""},{"$f":"IF(ISBLANK(VLOOKUP(A185,reporting1,3,FALSE)),\"\",IF(ISNA(VLOOKUP(A185,reporting1,3,FALSE)),\"\",VLOOKUP(A185,reporting1,3,FALSE)))","v":""},{"$f":"IF(ISBLANK(VLOOKUP(A185,reporting1,4,FALSE)),\"\",IF(ISNA(VLOOKUP(A185,reporting1,4,FALSE)),\"\",VLOOKUP(A185,reporting1,4,FALSE)))","v":""},{"$f":"IF(ISBLANK(VLOOKUP(A185,reporting2,2,FALSE)),\"\",IF(ISNA(VLOOKUP(A185,reporting2,2,FALSE)),\"\",VLOOKUP(A185,reporting2,2,FALSE)))","v":""},{"$f":"IF(ISBLANK(VLOOKUP(A185,reporting2,3,FALSE)),\"\",IF(ISNA(VLOOKUP(A185,reporting2,3,FALSE)),\"\",VLOOKUP(A185,reporting2,3,FALSE)))","v":""},{"$f":"IF(ISBLANK(VLOOKUP(A185,reporting2,4,FALSE)),\"\",IF(ISNA(VLOOKUP(A185,reporting2,4,FALSE)),\"\",VLOOKUP(A185,reporting2,4,FALSE)))","v":""},{"$f":"IF(ISBLANK(VLOOKUP(A185,reporting3,2,FALSE)),\"\",IF(ISNA(VLOOKUP(A185,reporting3,2,FALSE)),\"\",VLOOKUP(A185,reporting3,2,FALSE)))","v":""},{"$f":"IF(ISBLANK(VLOOKUP(A185,reporting3,3,FALSE)),\"\",IF(ISNA(VLOOKUP(A185,reporting3,3,FALSE)),\"\",VLOOKUP(A185,reporting3,3,FALSE)))","v":""},{"$f":"IF(ISBLANK(VLOOKUP(A185,reporting3,4,FALSE)),\"\",IF(ISNA(VLOOKUP(A185,reporting3,4,FALSE)),\"\",VLOOKUP(A185,reporting3,4,FALSE)))","v":""},{"$f":"IF(ISBLANK(VLOOKUP(A185,reporting4,2,FALSE)),\"\",IF(ISNA(VLOOKUP(A185,reporting4,2,FALSE)),\"\",VLOOKUP(A185,reporting4,2,FALSE)))","v":""},{"$f":"IF(ISBLANK(VLOOKUP(A185,reporting4,3,FALSE)),\"\",IF(ISNA(VLOOKUP(A185,reporting4,3,FALSE)),\"\",VLOOKUP(A185,reporting4,3,FALSE)))","v":""},{"$f":"IF(ISBLANK(VLOOKUP(A185,reporting4,4,FALSE)),\"\",IF(ISNA(VLOOKUP(A185,reporting4,4,FALSE)),\"\",VLOOKUP(A185,reporting4,4,FALSE)))","v":""},{"$f":"IF(ISBLANK(VLOOKUP(A185,reportin5,2,FALSE)),\"\",IF(ISNA(VLOOKUP(A185,reporting5,2,FALSE)),\"\",VLOOKUP(A185,reporting5,2,FALSE)))","v":""},{"$f":"IF(ISBLANK(VLOOKUP(A185,reporting5,3,FALSE)),\"\",IF(ISNA(VLOOKUP(A185,reporting5,3,FALSE)),\"\",VLOOKUP(A185,reporting5,3,FALSE)))","v":""},{"$f":"IF(ISBLANK(VLOOKUP(A185,reporting5,4,FALSE)),\"\",IF(ISNA(VLOOKUP(A185,reporting5,4,FALSE)),\"\",VLOOKUP(A185,reporting5,4,FALSE)))","v":""}]
[null,{"$f":"IF(ISBLANK(VLOOKUP(A186,reporting1,2,FALSE)),\"\",IF(ISNA(VLOOKUP(A186,reporting1,2,FALSE)),\"\",VLOOKUP(A186,reporting1,2,FALSE)))","v":""},{"$f":"IF(ISBLANK(VLOOKUP(A186,reporting1,3,FALSE)),\"\",IF(ISNA(VLOOKUP(A186,reporting1,3,FALSE)),\"\",VLOOKUP(A186,reporting1,3,FALSE)))","v":""},{"$f":"IF(ISBLANK(VLOOKUP(A186,reporting1,4,FALSE)),\"\",IF(ISNA(VLOOKUP(A186,reporting1,4,FALSE)),\"\",VLOOKUP(A186,reporting1,4,FALSE)))","v":""},{"$f":"IF(ISBLANK(VLOOKUP(A186,reporting2,2,FALSE)),\"\",IF(ISNA(VLOOKUP(A186,reporting2,2,FALSE)),\"\",VLOOKUP(A186,reporting2,2,FALSE)))","v":""},{"$f":"IF(ISBLANK(VLOOKUP(A186,reporting2,3,FALSE)),\"\",IF(ISNA(VLOOKUP(A186,reporting2,3,FALSE)),\"\",VLOOKUP(A186,reporting2,3,FALSE)))","v":""},{"$f":"IF(ISBLANK(VLOOKUP(A186,reporting2,4,FALSE)),\"\",IF(ISNA(VLOOKUP(A186,reporting2,4,FALSE)),\"\",VLOOKUP(A186,reporting2,4,FALSE)))","v":""},{"$f":"IF(ISBLANK(VLOOKUP(A186,reporting3,2,FALSE)),\"\",IF(ISNA(VLOOKUP(A186,reporting3,2,FALSE)),\"\",VLOOKUP(A186,reporting3,2,FALSE)))","v":""},{"$f":"IF(ISBLANK(VLOOKUP(A186,reporting3,3,FALSE)),\"\",IF(ISNA(VLOOKUP(A186,reporting3,3,FALSE)),\"\",VLOOKUP(A186,reporting3,3,FALSE)))","v":""},{"$f":"IF(ISBLANK(VLOOKUP(A186,reporting3,4,FALSE)),\"\",IF(ISNA(VLOOKUP(A186,reporting3,4,FALSE)),\"\",VLOOKUP(A186,reporting3,4,FALSE)))","v":""},{"$f":"IF(ISBLANK(VLOOKUP(A186,reporting4,2,FALSE)),\"\",IF(ISNA(VLOOKUP(A186,reporting4,2,FALSE)),\"\",VLOOKUP(A186,reporting4,2,FALSE)))","v":""},{"$f":"IF(ISBLANK(VLOOKUP(A186,reporting4,3,FALSE)),\"\",IF(ISNA(VLOOKUP(A186,reporting4,3,FALSE)),\"\",VLOOKUP(A186,reporting4,3,FALSE)))","v":""},{"$f":"IF(ISBLANK(VLOOKUP(A186,reporting4,4,FALSE)),\"\",IF(ISNA(VLOOKUP(A186,reporting4,4,FALSE)),\"\",VLOOKUP(A186,reporting4,4,FALSE)))","v":""},{"$f":"IF(ISBLANK(VLOOKUP(A186,reportin5,2,FALSE)),\"\",IF(ISNA(VLOOKUP(A186,reporting5,2,FALSE)),\"\",VLOOKUP(A186,reporting5,2,FALSE)))","v":""},{"$f":"IF(ISBLANK(VLOOKUP(A186,reporting5,3,FALSE)),\"\",IF(ISNA(VLOOKUP(A186,reporting5,3,FALSE)),\"\",VLOOKUP(A186,reporting5,3,FALSE)))","v":""},{"$f":"IF(ISBLANK(VLOOKUP(A186,reporting5,4,FALSE)),\"\",IF(ISNA(VLOOKUP(A186,reporting5,4,FALSE)),\"\",VLOOKUP(A186,reporting5,4,FALSE)))","v":""}]
[null,{"$f":"IF(ISBLANK(VLOOKUP(A187,reporting1,2,FALSE)),\"\",IF(ISNA(VLOOKUP(A187,reporting1,2,FALSE)),\"\",VLOOKUP(A187,reporting1,2,FALSE)))","v":""},{"$f":"IF(ISBLANK(VLOOKUP(A187,reporting1,3,FALSE)),\"\",IF(ISNA(VLOOKUP(A187,reporting1,3,FALSE)),\"\",VLOOKUP(A187,reporting1,3,FALSE)))","v":""},{"$f":"IF(ISBLANK(VLOOKUP(A187,reporting1,4,FALSE)),\"\",IF(ISNA(VLOOKUP(A187,reporting1,4,FALSE)),\"\",VLOOKUP(A187,reporting1,4,FALSE)))","v":""},{"$f":"IF(ISBLANK(VLOOKUP(A187,reporting2,2,FALSE)),\"\",IF(ISNA(VLOOKUP(A187,reporting2,2,FALSE)),\"\",VLOOKUP(A187,reporting2,2,FALSE)))","v":""},{"$f":"IF(ISBLANK(VLOOKUP(A187,reporting2,3,FALSE)),\"\",IF(ISNA(VLOOKUP(A187,reporting2,3,FALSE)),\"\",VLOOKUP(A187,reporting2,3,FALSE)))","v":""},{"$f":"IF(ISBLANK(VLOOKUP(A187,reporting2,4,FALSE)),\"\",IF(ISNA(VLOOKUP(A187,reporting2,4,FALSE)),\"\",VLOOKUP(A187,reporting2,4,FALSE)))","v":""},{"$f":"IF(ISBLANK(VLOOKUP(A187,reporting3,2,FALSE)),\"\",IF(ISNA(VLOOKUP(A187,reporting3,2,FALSE)),\"\",VLOOKUP(A187,reporting3,2,FALSE)))","v":""},{"$f":"IF(ISBLANK(VLOOKUP(A187,reporting3,3,FALSE)),\"\",IF(ISNA(VLOOKUP(A187,reporting3,3,FALSE)),\"\",VLOOKUP(A187,reporting3,3,FALSE)))","v":""},{"$f":"IF(ISBLANK(VLOOKUP(A187,reporting3,4,FALSE)),\"\",IF(ISNA(VLOOKUP(A187,reporting3,4,FALSE)),\"\",VLOOKUP(A187,reporting3,4,FALSE)))","v":""},{"$f":"IF(ISBLANK(VLOOKUP(A187,reporting4,2,FALSE)),\"\",IF(ISNA(VLOOKUP(A187,reporting4,2,FALSE)),\"\",VLOOKUP(A187,reporting4,2,FALSE)))","v":""},{"$f":"IF(ISBLANK(VLOOKUP(A187,reporting4,3,FALSE)),\"\",IF(ISNA(VLOOKUP(A187,reporting4,3,FALSE)),\"\",VLOOKUP(A187,reporting4,3,FALSE)))","v":""},{"$f":"IF(ISBLANK(VLOOKUP(A187,reporting4,4,FALSE)),\"\",IF(ISNA(VLOOKUP(A187,reporting4,4,FALSE)),\"\",VLOOKUP(A187,reporting4,4,FALSE)))","v":""},{"$f":"IF(ISBLANK(VLOOKUP(A187,reportin5,2,FALSE)),\"\",IF(ISNA(VLOOKUP(A187,reporting5,2,FALSE)),\"\",VLOOKUP(A187,reporting5,2,FALSE)))","v":""},{"$f":"IF(ISBLANK(VLOOKUP(A187,reporting5,3,FALSE)),\"\",IF(ISNA(VLOOKUP(A187,reporting5,3,FALSE)),\"\",VLOOKUP(A187,reporting5,3,FALSE)))","v":""},{"$f":"IF(ISBLANK(VLOOKUP(A187,reporting5,4,FALSE)),\"\",IF(ISNA(VLOOKUP(A187,reporting5,4,FALSE)),\"\",VLOOKUP(A187,reporting5,4,FALSE)))","v":""}]
[null,{"$f":"IF(ISBLANK(VLOOKUP(A188,reporting1,2,FALSE)),\"\",IF(ISNA(VLOOKUP(A188,reporting1,2,FALSE)),\"\",VLOOKUP(A188,reporting1,2,FALSE)))","v":""},{"$f":"IF(ISBLANK(VLOOKUP(A188,reporting1,3,FALSE)),\"\",IF(ISNA(VLOOKUP(A188,reporting1,3,FALSE)),\"\",VLOOKUP(A188,reporting1,3,FALSE)))","v":""},{"$f":"IF(ISBLANK(VLOOKUP(A188,reporting1,4,FALSE)),\"\",IF(ISNA(VLOOKUP(A188,reporting1,4,FALSE)),\"\",VLOOKUP(A188,reporting1,4,FALSE)))","v":""},{"$f":"IF(ISBLANK(VLOOKUP(A188,reporting2,2,FALSE)),\"\",IF(ISNA(VLOOKUP(A188,reporting2,2,FALSE)),\"\",VLOOKUP(A188,reporting2,2,FALSE)))","v":""},{"$f":"IF(ISBLANK(VLOOKUP(A188,reporting2,3,FALSE)),\"\",IF(ISNA(VLOOKUP(A188,reporting2,3,FALSE)),\"\",VLOOKUP(A188,reporting2,3,FALSE)))","v":""},{"$f":"IF(ISBLANK(VLOOKUP(A188,reporting2,4,FALSE)),\"\",IF(ISNA(VLOOKUP(A188,reporting2,4,FALSE)),\"\",VLOOKUP(A188,reporting2,4,FALSE)))","v":""},{"$f":"IF(ISBLANK(VLOOKUP(A188,reporting3,2,FALSE)),\"\",IF(ISNA(VLOOKUP(A188,reporting3,2,FALSE)),\"\",VLOOKUP(A188,reporting3,2,FALSE)))","v":""},{"$f":"IF(ISBLANK(VLOOKUP(A188,reporting3,3,FALSE)),\"\",IF(ISNA(VLOOKUP(A188,reporting3,3,FALSE)),\"\",VLOOKUP(A188,reporting3,3,FALSE)))","v":""},{"$f":"IF(ISBLANK(VLOOKUP(A188,reporting3,4,FALSE)),\"\",IF(ISNA(VLOOKUP(A188,reporting3,4,FALSE)),\"\",VLOOKUP(A188,reporting3,4,FALSE)))","v":""},{"$f":"IF(ISBLANK(VLOOKUP(A188,reporting4,2,FALSE)),\"\",IF(ISNA(VLOOKUP(A188,reporting4,2,FALSE)),\"\",VLOOKUP(A188,reporting4,2,FALSE)))","v":""},{"$f":"IF(ISBLANK(VLOOKUP(A188,reporting4,3,FALSE)),\"\",IF(ISNA(VLOOKUP(A188,reporting4,3,FALSE)),\"\",VLOOKUP(A188,reporting4,3,FALSE)))","v":""},{"$f":"IF(ISBLANK(VLOOKUP(A188,reporting4,4,FALSE)),\"\",IF(ISNA(VLOOKUP(A188,reporting4,4,FALSE)),\"\",VLOOKUP(A188,reporting4,4,FALSE)))","v":""},{"$f":"IF(ISBLANK(VLOOKUP(A188,reportin5,2,FALSE)),\"\",IF(ISNA(VLOOKUP(A188,reporting5,2,FALSE)),\"\",VLOOKUP(A188,reporting5,2,FALSE)))","v":""},{"$f":"IF(ISBLANK(VLOOKUP(A188,reporting5,3,FALSE)),\"\",IF(ISNA(VLOOKUP(A188,reporting5,3,FALSE)),\"\",VLOOKUP(A188,reporting5,3,FALSE)))","v":""},{"$f":"IF(ISBLANK(VLOOKUP(A188,reporting5,4,FALSE)),\"\",IF(ISNA(VLOOKUP(A188,reporting5,4,FALSE)),\"\",VLOOKUP(A188,reporting5,4,FALSE)))","v":""}]
[null,{"$f":"IF(ISBLANK(VLOOKUP(A189,reporting1,2,FALSE)),\"\",IF(ISNA(VLOOKUP(A189,reporting1,2,FALSE)),\"\",VLOOKUP(A189,reporting1,2,FALSE)))","v":""},{"$f":"IF(ISBLANK(VLOOKUP(A189,reporting1,3,FALSE)),\"\",IF(ISNA(VLOOKUP(A189,reporting1,3,FALSE)),\"\",VLOOKUP(A189,reporting1,3,FALSE)))","v":""},{"$f":"IF(ISBLANK(VLOOKUP(A189,reporting1,4,FALSE)),\"\",IF(ISNA(VLOOKUP(A189,reporting1,4,FALSE)),\"\",VLOOKUP(A189,reporting1,4,FALSE)))","v":""},{"$f":"IF(ISBLANK(VLOOKUP(A189,reporting2,2,FALSE)),\"\",IF(ISNA(VLOOKUP(A189,reporting2,2,FALSE)),\"\",VLOOKUP(A189,reporting2,2,FALSE)))","v":""},{"$f":"IF(ISBLANK(VLOOKUP(A189,reporting2,3,FALSE)),\"\",IF(ISNA(VLOOKUP(A189,reporting2,3,FALSE)),\"\",VLOOKUP(A189,reporting2,3,FALSE)))","v":""},{"$f":"IF(ISBLANK(VLOOKUP(A189,reporting2,4,FALSE)),\"\",IF(ISNA(VLOOKUP(A189,reporting2,4,FALSE)),\"\",VLOOKUP(A189,reporting2,4,FALSE)))","v":""},{"$f":"IF(ISBLANK(VLOOKUP(A189,reporting3,2,FALSE)),\"\",IF(ISNA(VLOOKUP(A189,reporting3,2,FALSE)),\"\",VLOOKUP(A189,reporting3,2,FALSE)))","v":""},{"$f":"IF(ISBLANK(VLOOKUP(A189,reporting3,3,FALSE)),\"\",IF(ISNA(VLOOKUP(A189,reporting3,3,FALSE)),\"\",VLOOKUP(A189,reporting3,3,FALSE)))","v":""},{"$f":"IF(ISBLANK(VLOOKUP(A189,reporting3,4,FALSE)),\"\",IF(ISNA(VLOOKUP(A189,reporting3,4,FALSE)),\"\",VLOOKUP(A189,reporting3,4,FALSE)))","v":""},{"$f":"IF(ISBLANK(VLOOKUP(A189,reporting4,2,FALSE)),\"\",IF(ISNA(VLOOKUP(A189,reporting4,2,FALSE)),\"\",VLOOKUP(A189,reporting4,2,FALSE)))","v":""},{"$f":"IF(ISBLANK(VLOOKUP(A189,reporting4,3,FALSE)),\"\",IF(ISNA(VLOOKUP(A189,reporting4,3,FALSE)),\"\",VLOOKUP(A189,reporting4,3,FALSE)))","v":""},{"$f":"IF(ISBLANK(VLOOKUP(A189,reporting4,4,FALSE)),\"\",IF(ISNA(VLOOKUP(A189,reporting4,4,FALSE)),\"\",VLOOKUP(A189,reporting4,4,FALSE)))","v":""},{"$f":"IF(ISBLANK(VLOOKUP(A189,reportin5,2,FALSE)),\"\",IF(ISNA(VLOOKUP(A189,reporting5,2,FALSE)),\"\",VLOOKUP(A189,reporting5,2,FALSE)))","v":""},{"$f":"IF(ISBLANK(VLOOKUP(A189,reporting5,3,FALSE)),\"\",IF(ISNA(VLOOKUP(A189,reporting5,3,FALSE)),\"\",VLOOKUP(A189,reporting5,3,FALSE)))","v":""},{"$f":"IF(ISBLANK(VLOOKUP(A189,reporting5,4,FALSE)),\"\",IF(ISNA(VLOOKUP(A189,reporting5,4,FALSE)),\"\",VLOOKUP(A189,reporting5,4,FALSE)))","v":""}]
[null,{"$f":"IF(ISBLANK(VLOOKUP(A190,reporting1,2,FALSE)),\"\",IF(ISNA(VLOOKUP(A190,reporting1,2,FALSE)),\"\",VLOOKUP(A190,reporting1,2,FALSE)))","v":""},{"$f":"IF(ISBLANK(VLOOKUP(A190,reporting1,3,FALSE)),\"\",IF(ISNA(VLOOKUP(A190,reporting1,3,FALSE)),\"\",VLOOKUP(A190,reporting1,3,FALSE)))","v":""},{"$f":"IF(ISBLANK(VLOOKUP(A190,reporting1,4,FALSE)),\"\",IF(ISNA(VLOOKUP(A190,reporting1,4,FALSE)),\"\",VLOOKUP(A190,reporting1,4,FALSE)))","v":""},{"$f":"IF(ISBLANK(VLOOKUP(A190,reporting2,2,FALSE)),\"\",IF(ISNA(VLOOKUP(A190,reporting2,2,FALSE)),\"\",VLOOKUP(A190,reporting2,2,FALSE)))","v":""},{"$f":"IF(ISBLANK(VLOOKUP(A190,reporting2,3,FALSE)),\"\",IF(ISNA(VLOOKUP(A190,reporting2,3,FALSE)),\"\",VLOOKUP(A190,reporting2,3,FALSE)))","v":""},{"$f":"IF(ISBLANK(VLOOKUP(A190,reporting2,4,FALSE)),\"\",IF(ISNA(VLOOKUP(A190,reporting2,4,FALSE)),\"\",VLOOKUP(A190,reporting2,4,FALSE)))","v":""},{"$f":"IF(ISBLANK(VLOOKUP(A190,reporting3,2,FALSE)),\"\",IF(ISNA(VLOOKUP(A190,reporting3,2,FALSE)),\"\",VLOOKUP(A190,reporting3,2,FALSE)))","v":""},{"$f":"IF(ISBLANK(VLOOKUP(A190,reporting3,3,FALSE)),\"\",IF(ISNA(VLOOKUP(A190,reporting3,3,FALSE)),\"\",VLOOKUP(A190,reporting3,3,FALSE)))","v":""},{"$f":"IF(ISBLANK(VLOOKUP(A190,reporting3,4,FALSE)),\"\",IF(ISNA(VLOOKUP(A190,reporting3,4,FALSE)),\"\",VLOOKUP(A190,reporting3,4,FALSE)))","v":""},{"$f":"IF(ISBLANK(VLOOKUP(A190,reporting4,2,FALSE)),\"\",IF(ISNA(VLOOKUP(A190,reporting4,2,FALSE)),\"\",VLOOKUP(A190,reporting4,2,FALSE)))","v":""},{"$f":"IF(ISBLANK(VLOOKUP(A190,reporting4,3,FALSE)),\"\",IF(ISNA(VLOOKUP(A190,reporting4,3,FALSE)),\"\",VLOOKUP(A190,reporting4,3,FALSE)))","v":""},{"$f":"IF(ISBLANK(VLOOKUP(A190,reporting4,4,FALSE)),\"\",IF(ISNA(VLOOKUP(A190,reporting4,4,FALSE)),\"\",VLOOKUP(A190,reporting4,4,FALSE)))","v":""},{"$f":"IF(ISBLANK(VLOOKUP(A190,reportin5,2,FALSE)),\"\",IF(ISNA(VLOOKUP(A190,reporting5,2,FALSE)),\"\",VLOOKUP(A190,reporting5,2,FALSE)))","v":""},{"$f":"IF(ISBLANK(VLOOKUP(A190,reporting5,3,FALSE)),\"\",IF(ISNA(VLOOKUP(A190,reporting5,3,FALSE)),\"\",VLOOKUP(A190,reporting5,3,FALSE)))","v":""},{"$f":"IF(ISBLANK(VLOOKUP(A190,reporting5,4,FALSE)),\"\",IF(ISNA(VLOOKUP(A190,reporting5,4,FALSE)),\"\",VLOOKUP(A190,reporting5,4,FALSE)))","v":""}]
[null,{"$f":"IF(ISBLANK(VLOOKUP(A191,reporting1,2,FALSE)),\"\",IF(ISNA(VLOOKUP(A191,reporting1,2,FALSE)),\"\",VLOOKUP(A191,reporting1,2,FALSE)))","v":""},{"$f":"IF(ISBLANK(VLOOKUP(A191,reporting1,3,FALSE)),\"\",IF(ISNA(VLOOKUP(A191,reporting1,3,FALSE)),\"\",VLOOKUP(A191,reporting1,3,FALSE)))","v":""},{"$f":"IF(ISBLANK(VLOOKUP(A191,reporting1,4,FALSE)),\"\",IF(ISNA(VLOOKUP(A191,reporting1,4,FALSE)),\"\",VLOOKUP(A191,reporting1,4,FALSE)))","v":""},{"$f":"IF(ISBLANK(VLOOKUP(A191,reporting2,2,FALSE)),\"\",IF(ISNA(VLOOKUP(A191,reporting2,2,FALSE)),\"\",VLOOKUP(A191,reporting2,2,FALSE)))","v":""},{"$f":"IF(ISBLANK(VLOOKUP(A191,reporting2,3,FALSE)),\"\",IF(ISNA(VLOOKUP(A191,reporting2,3,FALSE)),\"\",VLOOKUP(A191,reporting2,3,FALSE)))","v":""},{"$f":"IF(ISBLANK(VLOOKUP(A191,reporting2,4,FALSE)),\"\",IF(ISNA(VLOOKUP(A191,reporting2,4,FALSE)),\"\",VLOOKUP(A191,reporting2,4,FALSE)))","v":""},{"$f":"IF(ISBLANK(VLOOKUP(A191,reporting3,2,FALSE)),\"\",IF(ISNA(VLOOKUP(A191,reporting3,2,FALSE)),\"\",VLOOKUP(A191,reporting3,2,FALSE)))","v":""},{"$f":"IF(ISBLANK(VLOOKUP(A191,reporting3,3,FALSE)),\"\",IF(ISNA(VLOOKUP(A191,reporting3,3,FALSE)),\"\",VLOOKUP(A191,reporting3,3,FALSE)))","v":""},{"$f":"IF(ISBLANK(VLOOKUP(A191,reporting3,4,FALSE)),\"\",IF(ISNA(VLOOKUP(A191,reporting3,4,FALSE)),\"\",VLOOKUP(A191,reporting3,4,FALSE)))","v":""},{"$f":"IF(ISBLANK(VLOOKUP(A191,reporting4,2,FALSE)),\"\",IF(ISNA(VLOOKUP(A191,reporting4,2,FALSE)),\"\",VLOOKUP(A191,reporting4,2,FALSE)))","v":""},{"$f":"IF(ISBLANK(VLOOKUP(A191,reporting4,3,FALSE)),\"\",IF(ISNA(VLOOKUP(A191,reporting4,3,FALSE)),\"\",VLOOKUP(A191,reporting4,3,FALSE)))","v":""},{"$f":"IF(ISBLANK(VLOOKUP(A191,reporting4,4,FALSE)),\"\",IF(ISNA(VLOOKUP(A191,reporting4,4,FALSE)),\"\",VLOOKUP(A191,reporting4,4,FALSE)))","v":""},{"$f":"IF(ISBLANK(VLOOKUP(A191,reportin5,2,FALSE)),\"\",IF(ISNA(VLOOKUP(A191,reporting5,2,FALSE)),\"\",VLOOKUP(A191,reporting5,2,FALSE)))","v":""},{"$f":"IF(ISBLANK(VLOOKUP(A191,reporting5,3,FALSE)),\"\",IF(ISNA(VLOOKUP(A191,reporting5,3,FALSE)),\"\",VLOOKUP(A191,reporting5,3,FALSE)))","v":""},{"$f":"IF(ISBLANK(VLOOKUP(A191,reporting5,4,FALSE)),\"\",IF(ISNA(VLOOKUP(A191,reporting5,4,FALSE)),\"\",VLOOKUP(A191,reporting5,4,FALSE)))","v":""}]
[null,{"$f":"IF(ISBLANK(VLOOKUP(A192,reporting1,2,FALSE)),\"\",IF(ISNA(VLOOKUP(A192,reporting1,2,FALSE)),\"\",VLOOKUP(A192,reporting1,2,FALSE)))","v":""},{"$f":"IF(ISBLANK(VLOOKUP(A192,reporting1,3,FALSE)),\"\",IF(ISNA(VLOOKUP(A192,reporting1,3,FALSE)),\"\",VLOOKUP(A192,reporting1,3,FALSE)))","v":""},{"$f":"IF(ISBLANK(VLOOKUP(A192,reporting1,4,FALSE)),\"\",IF(ISNA(VLOOKUP(A192,reporting1,4,FALSE)),\"\",VLOOKUP(A192,reporting1,4,FALSE)))","v":""},{"$f":"IF(ISBLANK(VLOOKUP(A192,reporting2,2,FALSE)),\"\",IF(ISNA(VLOOKUP(A192,reporting2,2,FALSE)),\"\",VLOOKUP(A192,reporting2,2,FALSE)))","v":""},{"$f":"IF(ISBLANK(VLOOKUP(A192,reporting2,3,FALSE)),\"\",IF(ISNA(VLOOKUP(A192,reporting2,3,FALSE)),\"\",VLOOKUP(A192,reporting2,3,FALSE)))","v":""},{"$f":"IF(ISBLANK(VLOOKUP(A192,reporting2,4,FALSE)),\"\",IF(ISNA(VLOOKUP(A192,reporting2,4,FALSE)),\"\",VLOOKUP(A192,reporting2,4,FALSE)))","v":""},{"$f":"IF(ISBLANK(VLOOKUP(A192,reporting3,2,FALSE)),\"\",IF(ISNA(VLOOKUP(A192,reporting3,2,FALSE)),\"\",VLOOKUP(A192,reporting3,2,FALSE)))","v":""},{"$f":"IF(ISBLANK(VLOOKUP(A192,reporting3,3,FALSE)),\"\",IF(ISNA(VLOOKUP(A192,reporting3,3,FALSE)),\"\",VLOOKUP(A192,reporting3,3,FALSE)))","v":""},{"$f":"IF(ISBLANK(VLOOKUP(A192,reporting3,4,FALSE)),\"\",IF(ISNA(VLOOKUP(A192,reporting3,4,FALSE)),\"\",VLOOKUP(A192,reporting3,4,FALSE)))","v":""},{"$f":"IF(ISBLANK(VLOOKUP(A192,reporting4,2,FALSE)),\"\",IF(ISNA(VLOOKUP(A192,reporting4,2,FALSE)),\"\",VLOOKUP(A192,reporting4,2,FALSE)))","v":""},{"$f":"IF(ISBLANK(VLOOKUP(A192,reporting4,3,FALSE)),\"\",IF(ISNA(VLOOKUP(A192,reporting4,3,FALSE)),\"\",VLOOKUP(A192,reporting4,3,FALSE)))","v":""},{"$f":"IF(ISBLANK(VLOOKUP(A192,reporting4,4,FALSE)),\"\",IF(ISNA(VLOOKUP(A192,reporting4,4,FALSE)),\"\",VLOOKUP(A192,reporting4,4,FALSE)))","v":""},{"$f":"IF(ISBLANK(VLOOKUP(A192,reportin5,2,FALSE)),\"\",IF(ISNA(VLOOKUP(A192,reporting5,2,FALSE)),\"\",VLOOKUP(A192,reporting5,2,FALSE)))","v":""},{"$f":"IF(ISBLANK(VLOOKUP(A192,reporting5,3,FALSE)),\"\",IF(ISNA(VLOOKUP(A192,reporting5,3,FALSE)),\"\",VLOOKUP(A192,reporting5,3,FALSE)))","v":""},{"$f":"IF(ISBLANK(VLOOKUP(A192,reporting5,4,FALSE)),\"\",IF(ISNA(VLOOKUP(A192,reporting5,4,FALSE)),\"\",VLOOKUP(A192,reporting5,4,FALSE)))","v":""}]
[null,{"$f":"IF(ISBLANK(VLOOKUP(A193,reporting1,2,FALSE)),\"\",IF(ISNA(VLOOKUP(A193,reporting1,2,FALSE)),\"\",VLOOKUP(A193,reporting1,2,FALSE)))","v":""},{"$f":"IF(ISBLANK(VLOOKUP(A193,reporting1,3,FALSE)),\"\",IF(ISNA(VLOOKUP(A193,reporting1,3,FALSE)),\"\",VLOOKUP(A193,reporting1,3,FALSE)))","v":""},{"$f":"IF(ISBLANK(VLOOKUP(A193,reporting1,4,FALSE)),\"\",IF(ISNA(VLOOKUP(A193,reporting1,4,FALSE)),\"\",VLOOKUP(A193,reporting1,4,FALSE)))","v":""},{"$f":"IF(ISBLANK(VLOOKUP(A193,reporting2,2,FALSE)),\"\",IF(ISNA(VLOOKUP(A193,reporting2,2,FALSE)),\"\",VLOOKUP(A193,reporting2,2,FALSE)))","v":""},{"$f":"IF(ISBLANK(VLOOKUP(A193,reporting2,3,FALSE)),\"\",IF(ISNA(VLOOKUP(A193,reporting2,3,FALSE)),\"\",VLOOKUP(A193,reporting2,3,FALSE)))","v":""},{"$f":"IF(ISBLANK(VLOOKUP(A193,reporting2,4,FALSE)),\"\",IF(ISNA(VLOOKUP(A193,reporting2,4,FALSE)),\"\",VLOOKUP(A193,reporting2,4,FALSE)))","v":""},{"$f":"IF(ISBLANK(VLOOKUP(A193,reporting3,2,FALSE)),\"\",IF(ISNA(VLOOKUP(A193,reporting3,2,FALSE)),\"\",VLOOKUP(A193,reporting3,2,FALSE)))","v":""},{"$f":"IF(ISBLANK(VLOOKUP(A193,reporting3,3,FALSE)),\"\",IF(ISNA(VLOOKUP(A193,reporting3,3,FALSE)),\"\",VLOOKUP(A193,reporting3,3,FALSE)))","v":""},{"$f":"IF(ISBLANK(VLOOKUP(A193,reporting3,4,FALSE)),\"\",IF(ISNA(VLOOKUP(A193,reporting3,4,FALSE)),\"\",VLOOKUP(A193,reporting3,4,FALSE)))","v":""},{"$f":"IF(ISBLANK(VLOOKUP(A193,reporting4,2,FALSE)),\"\",IF(ISNA(VLOOKUP(A193,reporting4,2,FALSE)),\"\",VLOOKUP(A193,reporting4,2,FALSE)))","v":""},{"$f":"IF(ISBLANK(VLOOKUP(A193,reporting4,3,FALSE)),\"\",IF(ISNA(VLOOKUP(A193,reporting4,3,FALSE)),\"\",VLOOKUP(A193,reporting4,3,FALSE)))","v":""},{"$f":"IF(ISBLANK(VLOOKUP(A193,reporting4,4,FALSE)),\"\",IF(ISNA(VLOOKUP(A193,reporting4,4,FALSE)),\"\",VLOOKUP(A193,reporting4,4,FALSE)))","v":""},{"$f":"IF(ISBLANK(VLOOKUP(A193,reportin5,2,FALSE)),\"\",IF(ISNA(VLOOKUP(A193,reporting5,2,FALSE)),\"\",VLOOKUP(A193,reporting5,2,FALSE)))","v":""},{"$f":"IF(ISBLANK(VLOOKUP(A193,reporting5,3,FALSE)),\"\",IF(ISNA(VLOOKUP(A193,reporting5,3,FALSE)),\"\",VLOOKUP(A193,reporting5,3,FALSE)))","v":""},{"$f":"IF(ISBLANK(VLOOKUP(A193,reporting5,4,FALSE)),\"\",IF(ISNA(VLOOKUP(A193,reporting5,4,FALSE)),\"\",VLOOKUP(A193,reporting5,4,FALSE)))","v":""}]
[null,{"$f":"IF(ISBLANK(VLOOKUP(A194,reporting1,2,FALSE)),\"\",IF(ISNA(VLOOKUP(A194,reporting1,2,FALSE)),\"\",VLOOKUP(A194,reporting1,2,FALSE)))","v":""},{"$f":"IF(ISBLANK(VLOOKUP(A194,reporting1,3,FALSE)),\"\",IF(ISNA(VLOOKUP(A194,reporting1,3,FALSE)),\"\",VLOOKUP(A194,reporting1,3,FALSE)))","v":""},{"$f":"IF(ISBLANK(VLOOKUP(A194,reporting1,4,FALSE)),\"\",IF(ISNA(VLOOKUP(A194,reporting1,4,FALSE)),\"\",VLOOKUP(A194,reporting1,4,FALSE)))","v":""},{"$f":"IF(ISBLANK(VLOOKUP(A194,reporting2,2,FALSE)),\"\",IF(ISNA(VLOOKUP(A194,reporting2,2,FALSE)),\"\",VLOOKUP(A194,reporting2,2,FALSE)))","v":""},{"$f":"IF(ISBLANK(VLOOKUP(A194,reporting2,3,FALSE)),\"\",IF(ISNA(VLOOKUP(A194,reporting2,3,FALSE)),\"\",VLOOKUP(A194,reporting2,3,FALSE)))","v":""},{"$f":"IF(ISBLANK(VLOOKUP(A194,reporting2,4,FALSE)),\"\",IF(ISNA(VLOOKUP(A194,reporting2,4,FALSE)),\"\",VLOOKUP(A194,reporting2,4,FALSE)))","v":""},{"$f":"IF(ISBLANK(VLOOKUP(A194,reporting3,2,FALSE)),\"\",IF(ISNA(VLOOKUP(A194,reporting3,2,FALSE)),\"\",VLOOKUP(A194,reporting3,2,FALSE)))","v":""},{"$f":"IF(ISBLANK(VLOOKUP(A194,reporting3,3,FALSE)),\"\",IF(ISNA(VLOOKUP(A194,reporting3,3,FALSE)),\"\",VLOOKUP(A194,reporting3,3,FALSE)))","v":""},{"$f":"IF(ISBLANK(VLOOKUP(A194,reporting3,4,FALSE)),\"\",IF(ISNA(VLOOKUP(A194,reporting3,4,FALSE)),\"\",VLOOKUP(A194,reporting3,4,FALSE)))","v":""},{"$f":"IF(ISBLANK(VLOOKUP(A194,reporting4,2,FALSE)),\"\",IF(ISNA(VLOOKUP(A194,reporting4,2,FALSE)),\"\",VLOOKUP(A194,reporting4,2,FALSE)))","v":""},{"$f":"IF(ISBLANK(VLOOKUP(A194,reporting4,3,FALSE)),\"\",IF(ISNA(VLOOKUP(A194,reporting4,3,FALSE)),\"\",VLOOKUP(A194,reporting4,3,FALSE)))","v":""},{"$f":"IF(ISBLANK(VLOOKUP(A194,reporting4,4,FALSE)),\"\",IF(ISNA(VLOOKUP(A194,reporting4,4,FALSE)),\"\",VLOOKUP(A194,reporting4,4,FALSE)))","v":""},{"$f":"IF(ISBLANK(VLOOKUP(A194,reportin5,2,FALSE)),\"\",IF(ISNA(VLOOKUP(A194,reporting5,2,FALSE)),\"\",VLOOKUP(A194,reporting5,2,FALSE)))","v":""},{"$f":"IF(ISBLANK(VLOOKUP(A194,reporting5,3,FALSE)),\"\",IF(ISNA(VLOOKUP(A194,reporting5,3,FALSE)),\"\",VLOOKUP(A194,reporting5,3,FALSE)))","v":""},{"$f":"IF(ISBLANK(VLOOKUP(A194,reporting5,4,FALSE)),\"\",IF(ISNA(VLOOKUP(A194,reporting5,4,FALSE)),\"\",VLOOKUP(A194,reporting5,4,FALSE)))","v":""}]
[null,{"$f":"IF(ISBLANK(VLOOKUP(A195,reporting1,2,FALSE)),\"\",IF(ISNA(VLOOKUP(A195,reporting1,2,FALSE)),\"\",VLOOKUP(A195,reporting1,2,FALSE)))","v":""},{"$f":"IF(ISBLANK(VLOOKUP(A195,reporting1,3,FALSE)),\"\",IF(ISNA(VLOOKUP(A195,reporting1,3,FALSE)),\"\",VLOOKUP(A195,reporting1,3,FALSE)))","v":""},{"$f":"IF(ISBLANK(VLOOKUP(A195,reporting1,4,FALSE)),\"\",IF(ISNA(VLOOKUP(A195,reporting1,4,FALSE)),\"\",VLOOKUP(A195,reporting1,4,FALSE)))","v":""},{"$f":"IF(ISBLANK(VLOOKUP(A195,reporting2,2,FALSE)),\"\",IF(ISNA(VLOOKUP(A195,reporting2,2,FALSE)),\"\",VLOOKUP(A195,reporting2,2,FALSE)))","v":""},{"$f":"IF(ISBLANK(VLOOKUP(A195,reporting2,3,FALSE)),\"\",IF(ISNA(VLOOKUP(A195,reporting2,3,FALSE)),\"\",VLOOKUP(A195,reporting2,3,FALSE)))","v":""},{"$f":"IF(ISBLANK(VLOOKUP(A195,reporting2,4,FALSE)),\"\",IF(ISNA(VLOOKUP(A195,reporting2,4,FALSE)),\"\",VLOOKUP(A195,reporting2,4,FALSE)))","v":""},{"$f":"IF(ISBLANK(VLOOKUP(A195,reporting3,2,FALSE)),\"\",IF(ISNA(VLOOKUP(A195,reporting3,2,FALSE)),\"\",VLOOKUP(A195,reporting3,2,FALSE)))","v":""},{"$f":"IF(ISBLANK(VLOOKUP(A195,reporting3,3,FALSE)),\"\",IF(ISNA(VLOOKUP(A195,reporting3,3,FALSE)),\"\",VLOOKUP(A195,reporting3,3,FALSE)))","v":""},{"$f":"IF(ISBLANK(VLOOKUP(A195,reporting3,4,FALSE)),\"\",IF(ISNA(VLOOKUP(A195,reporting3,4,FALSE)),\"\",VLOOKUP(A195,reporting3,4,FALSE)))","v":""},{"$f":"IF(ISBLANK(VLOOKUP(A195,reporting4,2,FALSE)),\"\",IF(ISNA(VLOOKUP(A195,reporting4,2,FALSE)),\"\",VLOOKUP(A195,reporting4,2,FALSE)))","v":""},{"$f":"IF(ISBLANK(VLOOKUP(A195,reporting4,3,FALSE)),\"\",IF(ISNA(VLOOKUP(A195,reporting4,3,FALSE)),\"\",VLOOKUP(A195,reporting4,3,FALSE)))","v":""},{"$f":"IF(ISBLANK(VLOOKUP(A195,reporting4,4,FALSE)),\"\",IF(ISNA(VLOOKUP(A195,reporting4,4,FALSE)),\"\",VLOOKUP(A195,reporting4,4,FALSE)))","v":""},{"$f":"IF(ISBLANK(VLOOKUP(A195,reportin5,2,FALSE)),\"\",IF(ISNA(VLOOKUP(A195,reporting5,2,FALSE)),\"\",VLOOKUP(A195,reporting5,2,FALSE)))","v":""},{"$f":"IF(ISBLANK(VLOOKUP(A195,reporting5,3,FALSE)),\"\",IF(ISNA(VLOOKUP(A195,reporting5,3,FALSE)),\"\",VLOOKUP(A195,reporting5,3,FALSE)))","v":""},{"$f":"IF(ISBLANK(VLOOKUP(A195,reporting5,4,FALSE)),\"\",IF(ISNA(VLOOKUP(A195,reporting5,4,FALSE)),\"\",VLOOKUP(A195,reporting5,4,FALSE)))","v":""}]
[null,{"$f":"IF(ISBLANK(VLOOKUP(A196,reporting1,2,FALSE)),\"\",IF(ISNA(VLOOKUP(A196,reporting1,2,FALSE)),\"\",VLOOKUP(A196,reporting1,2,FALSE)))","v":""},{"$f":"IF(ISBLANK(VLOOKUP(A196,reporting1,3,FALSE)),\"\",IF(ISNA(VLOOKUP(A196,reporting1,3,FALSE)),\"\",VLOOKUP(A196,reporting1,3,FALSE)))","v":""},{"$f":"IF(ISBLANK(VLOOKUP(A196,reporting1,4,FALSE)),\"\",IF(ISNA(VLOOKUP(A196,reporting1,4,FALSE)),\"\",VLOOKUP(A196,reporting1,4,FALSE)))","v":""},{"$f":"IF(ISBLANK(VLOOKUP(A196,reporting2,2,FALSE)),\"\",IF(ISNA(VLOOKUP(A196,reporting2,2,FALSE)),\"\",VLOOKUP(A196,reporting2,2,FALSE)))","v":""},{"$f":"IF(ISBLANK(VLOOKUP(A196,reporting2,3,FALSE)),\"\",IF(ISNA(VLOOKUP(A196,reporting2,3,FALSE)),\"\",VLOOKUP(A196,reporting2,3,FALSE)))","v":""},{"$f":"IF(ISBLANK(VLOOKUP(A196,reporting2,4,FALSE)),\"\",IF(ISNA(VLOOKUP(A196,reporting2,4,FALSE)),\"\",VLOOKUP(A196,reporting2,4,FALSE)))","v":""},{"$f":"IF(ISBLANK(VLOOKUP(A196,reporting3,2,FALSE)),\"\",IF(ISNA(VLOOKUP(A196,reporting3,2,FALSE)),\"\",VLOOKUP(A196,reporting3,2,FALSE)))","v":""},{"$f":"IF(ISBLANK(VLOOKUP(A196,reporting3,3,FALSE)),\"\",IF(ISNA(VLOOKUP(A196,reporting3,3,FALSE)),\"\",VLOOKUP(A196,reporting3,3,FALSE)))","v":""},{"$f":"IF(ISBLANK(VLOOKUP(A196,reporting3,4,FALSE)),\"\",IF(ISNA(VLOOKUP(A196,reporting3,4,FALSE)),\"\",VLOOKUP(A196,reporting3,4,FALSE)))","v":""},{"$f":"IF(ISBLANK(VLOOKUP(A196,reporting4,2,FALSE)),\"\",IF(ISNA(VLOOKUP(A196,reporting4,2,FALSE)),\"\",VLOOKUP(A196,reporting4,2,FALSE)))","v":""},{"$f":"IF(ISBLANK(VLOOKUP(A196,reporting4,3,FALSE)),\"\",IF(ISNA(VLOOKUP(A196,reporting4,3,FALSE)),\"\",VLOOKUP(A196,reporting4,3,FALSE)))","v":""},{"$f":"IF(ISBLANK(VLOOKUP(A196,reporting4,4,FALSE)),\"\",IF(ISNA(VLOOKUP(A196,reporting4,4,FALSE)),\"\",VLOOKUP(A196,reporting4,4,FALSE)))","v":""},{"$f":"IF(ISBLANK(VLOOKUP(A196,reportin5,2,FALSE)),\"\",IF(ISNA(VLOOKUP(A196,reporting5,2,FALSE)),\"\",VLOOKUP(A196,reporting5,2,FALSE)))","v":""},{"$f":"IF(ISBLANK(VLOOKUP(A196,reporting5,3,FALSE)),\"\",IF(ISNA(VLOOKUP(A196,reporting5,3,FALSE)),\"\",VLOOKUP(A196,reporting5,3,FALSE)))","v":""},{"$f":"IF(ISBLANK(VLOOKUP(A196,reporting5,4,FALSE)),\"\",IF(ISNA(VLOOKUP(A196,reporting5,4,FALSE)),\"\",VLOOKUP(A196,reporting5,4,FALSE)))","v":""}]
[null,{"$f":"IF(ISBLANK(VLOOKUP(A197,reporting1,2,FALSE)),\"\",IF(ISNA(VLOOKUP(A197,reporting1,2,FALSE)),\"\",VLOOKUP(A197,reporting1,2,FALSE)))","v":""},{"$f":"IF(ISBLANK(VLOOKUP(A197,reporting1,3,FALSE)),\"\",IF(ISNA(VLOOKUP(A197,reporting1,3,FALSE)),\"\",VLOOKUP(A197,reporting1,3,FALSE)))","v":""},{"$f":"IF(ISBLANK(VLOOKUP(A197,reporting1,4,FALSE)),\"\",IF(ISNA(VLOOKUP(A197,reporting1,4,FALSE)),\"\",VLOOKUP(A197,reporting1,4,FALSE)))","v":""},{"$f":"IF(ISBLANK(VLOOKUP(A197,reporting2,2,FALSE)),\"\",IF(ISNA(VLOOKUP(A197,reporting2,2,FALSE)),\"\",VLOOKUP(A197,reporting2,2,FALSE)))","v":""},{"$f":"IF(ISBLANK(VLOOKUP(A197,reporting2,3,FALSE)),\"\",IF(ISNA(VLOOKUP(A197,reporting2,3,FALSE)),\"\",VLOOKUP(A197,reporting2,3,FALSE)))","v":""},{"$f":"IF(ISBLANK(VLOOKUP(A197,reporting2,4,FALSE)),\"\",IF(ISNA(VLOOKUP(A197,reporting2,4,FALSE)),\"\",VLOOKUP(A197,reporting2,4,FALSE)))","v":""},{"$f":"IF(ISBLANK(VLOOKUP(A197,reporting3,2,FALSE)),\"\",IF(ISNA(VLOOKUP(A197,reporting3,2,FALSE)),\"\",VLOOKUP(A197,reporting3,2,FALSE)))","v":""},{"$f":"IF(ISBLANK(VLOOKUP(A197,reporting3,3,FALSE)),\"\",IF(ISNA(VLOOKUP(A197,reporting3,3,FALSE)),\"\",VLOOKUP(A197,reporting3,3,FALSE)))","v":""},{"$f":"IF(ISBLANK(VLOOKUP(A197,reporting3,4,FALSE)),\"\",IF(ISNA(VLOOKUP(A197,reporting3,4,FALSE)),\"\",VLOOKUP(A197,reporting3,4,FALSE)))","v":""},{"$f":"IF(ISBLANK(VLOOKUP(A197,reporting4,2,FALSE)),\"\",IF(ISNA(VLOOKUP(A197,reporting4,2,FALSE)),\"\",VLOOKUP(A197,reporting4,2,FALSE)))","v":""},{"$f":"IF(ISBLANK(VLOOKUP(A197,reporting4,3,FALSE)),\"\",IF(ISNA(VLOOKUP(A197,reporting4,3,FALSE)),\"\",VLOOKUP(A197,reporting4,3,FALSE)))","v":""},{"$f":"IF(ISBLANK(VLOOKUP(A197,reporting4,4,FALSE)),\"\",IF(ISNA(VLOOKUP(A197,reporting4,4,FALSE)),\"\",VLOOKUP(A197,reporting4,4,FALSE)))","v":""},{"$f":"IF(ISBLANK(VLOOKUP(A197,reportin5,2,FALSE)),\"\",IF(ISNA(VLOOKUP(A197,reporting5,2,FALSE)),\"\",VLOOKUP(A197,reporting5,2,FALSE)))","v":""},{"$f":"IF(ISBLANK(VLOOKUP(A197,reporting5,3,FALSE)),\"\",IF(ISNA(VLOOKUP(A197,reporting5,3,FALSE)),\"\",VLOOKUP(A197,reporting5,3,FALSE)))","v":""},{"$f":"IF(ISBLANK(VLOOKUP(A197,reporting5,4,FALSE)),\"\",IF(ISNA(VLOOKUP(A197,reporting5,4,FALSE)),\"\",VLOOKUP(A197,reporting5,4,FALSE)))","v":""}]
[null,{"$f":"IF(ISBLANK(VLOOKUP(A198,reporting1,2,FALSE)),\"\",IF(ISNA(VLOOKUP(A198,reporting1,2,FALSE)),\"\",VLOOKUP(A198,reporting1,2,FALSE)))","v":""},{"$f":"IF(ISBLANK(VLOOKUP(A198,reporting1,3,FALSE)),\"\",IF(ISNA(VLOOKUP(A198,reporting1,3,FALSE)),\"\",VLOOKUP(A198,reporting1,3,FALSE)))","v":""},{"$f":"IF(ISBLANK(VLOOKUP(A198,reporting1,4,FALSE)),\"\",IF(ISNA(VLOOKUP(A198,reporting1,4,FALSE)),\"\",VLOOKUP(A198,reporting1,4,FALSE)))","v":""},{"$f":"IF(ISBLANK(VLOOKUP(A198,reporting2,2,FALSE)),\"\",IF(ISNA(VLOOKUP(A198,reporting2,2,FALSE)),\"\",VLOOKUP(A198,reporting2,2,FALSE)))","v":""},{"$f":"IF(ISBLANK(VLOOKUP(A198,reporting2,3,FALSE)),\"\",IF(ISNA(VLOOKUP(A198,reporting2,3,FALSE)),\"\",VLOOKUP(A198,reporting2,3,FALSE)))","v":""},{"$f":"IF(ISBLANK(VLOOKUP(A198,reporting2,4,FALSE)),\"\",IF(ISNA(VLOOKUP(A198,reporting2,4,FALSE)),\"\",VLOOKUP(A198,reporting2,4,FALSE)))","v":""},{"$f":"IF(ISBLANK(VLOOKUP(A198,reporting3,2,FALSE)),\"\",IF(ISNA(VLOOKUP(A198,reporting3,2,FALSE)),\"\",VLOOKUP(A198,reporting3,2,FALSE)))","v":""},{"$f":"IF(ISBLANK(VLOOKUP(A198,reporting3,3,FALSE)),\"\",IF(ISNA(VLOOKUP(A198,reporting3,3,FALSE)),\"\",VLOOKUP(A198,reporting3,3,FALSE)))","v":""},{"$f":"IF(ISBLANK(VLOOKUP(A198,reporting3,4,FALSE)),\"\",IF(ISNA(VLOOKUP(A198,reporting3,4,FALSE)),\"\",VLOOKUP(A198,reporting3,4,FALSE)))","v":""},{"$f":"IF(ISBLANK(VLOOKUP(A198,reporting4,2,FALSE)),\"\",IF(ISNA(VLOOKUP(A198,reporting4,2,FALSE)),\"\",VLOOKUP(A198,reporting4,2,FALSE)))","v":""},{"$f":"IF(ISBLANK(VLOOKUP(A198,reporting4,3,FALSE)),\"\",IF(ISNA(VLOOKUP(A198,reporting4,3,FALSE)),\"\",VLOOKUP(A198,reporting4,3,FALSE)))","v":""},{"$f":"IF(ISBLANK(VLOOKUP(A198,reporting4,4,FALSE)),\"\",IF(ISNA(VLOOKUP(A198,reporting4,4,FALSE)),\"\",VLOOKUP(A198,reporting4,4,FALSE)))","v":""},{"$f":"IF(ISBLANK(VLOOKUP(A198,reportin5,2,FALSE)),\"\",IF(ISNA(VLOOKUP(A198,reporting5,2,FALSE)),\"\",VLOOKUP(A198,reporting5,2,FALSE)))","v":""},{"$f":"IF(ISBLANK(VLOOKUP(A198,reporting5,3,FALSE)),\"\",IF(ISNA(VLOOKUP(A198,reporting5,3,FALSE)),\"\",VLOOKUP(A198,reporting5,3,FALSE)))","v":""},{"$f":"IF(ISBLANK(VLOOKUP(A198,reporting5,4,FALSE)),\"\",IF(ISNA(VLOOKUP(A198,reporting5,4,FALSE)),\"\",VLOOKUP(A198,reporting5,4,FALSE)))","v":""}]
[null,{"$f":"IF(ISBLANK(VLOOKUP(A199,reporting1,2,FALSE)),\"\",IF(ISNA(VLOOKUP(A199,reporting1,2,FALSE)),\"\",VLOOKUP(A199,reporting1,2,FALSE)))","v":""},{"$f":"IF(ISBLANK(VLOOKUP(A199,reporting1,3,FALSE)),\"\",IF(ISNA(VLOOKUP(A199,reporting1,3,FALSE)),\"\",VLOOKUP(A199,reporting1,3,FALSE)))","v":""},{"$f":"IF(ISBLANK(VLOOKUP(A199,reporting1,4,FALSE)),\"\",IF(ISNA(VLOOKUP(A199,reporting1,4,FALSE)),\"\",VLOOKUP(A199,reporting1,4,FALSE)))","v":""},{"$f":"IF(ISBLANK(VLOOKUP(A199,reporting2,2,FALSE)),\"\",IF(ISNA(VLOOKUP(A199,reporting2,2,FALSE)),\"\",VLOOKUP(A199,reporting2,2,FALSE)))","v":""},{"$f":"IF(ISBLANK(VLOOKUP(A199,reporting2,3,FALSE)),\"\",IF(ISNA(VLOOKUP(A199,reporting2,3,FALSE)),\"\",VLOOKUP(A199,reporting2,3,FALSE)))","v":""},{"$f":"IF(ISBLANK(VLOOKUP(A199,reporting2,4,FALSE)),\"\",IF(ISNA(VLOOKUP(A199,reporting2,4,FALSE)),\"\",VLOOKUP(A199,reporting2,4,FALSE)))","v":""},{"$f":"IF(ISBLANK(VLOOKUP(A199,reporting3,2,FALSE)),\"\",IF(ISNA(VLOOKUP(A199,reporting3,2,FALSE)),\"\",VLOOKUP(A199,reporting3,2,FALSE)))","v":""},{"$f":"IF(ISBLANK(VLOOKUP(A199,reporting3,3,FALSE)),\"\",IF(ISNA(VLOOKUP(A199,reporting3,3,FALSE)),\"\",VLOOKUP(A199,reporting3,3,FALSE)))","v":""},{"$f":"IF(ISBLANK(VLOOKUP(A199,reporting3,4,FALSE)),\"\",IF(ISNA(VLOOKUP(A199,reporting3,4,FALSE)),\"\",VLOOKUP(A199,reporting3,4,FALSE)))","v":""},{"$f":"IF(ISBLANK(VLOOKUP(A199,reporting4,2,FALSE)),\"\",IF(ISNA(VLOOKUP(A199,reporting4,2,FALSE)),\"\",VLOOKUP(A199,reporting4,2,FALSE)))","v":""},{"$f":"IF(ISBLANK(VLOOKUP(A199,reporting4,3,FALSE)),\"\",IF(ISNA(VLOOKUP(A199,reporting4,3,FALSE)),\"\",VLOOKUP(A199,reporting4,3,FALSE)))","v":""},{"$f":"IF(ISBLANK(VLOOKUP(A199,reporting4,4,FALSE)),\"\",IF(ISNA(VLOOKUP(A199,reporting4,4,FALSE)),\"\",VLOOKUP(A199,reporting4,4,FALSE)))","v":""},{"$f":"IF(ISBLANK(VLOOKUP(A199,reportin5,2,FALSE)),\"\",IF(ISNA(VLOOKUP(A199,reporting5,2,FALSE)),\"\",VLOOKUP(A199,reporting5,2,FALSE)))","v":""},{"$f":"IF(ISBLANK(VLOOKUP(A199,reporting5,3,FALSE)),\"\",IF(ISNA(VLOOKUP(A199,reporting5,3,FALSE)),\"\",VLOOKUP(A199,reporting5,3,FALSE)))","v":""},{"$f":"IF(ISBLANK(VLOOKUP(A199,reporting5,4,FALSE)),\"\",IF(ISNA(VLOOKUP(A199,reporting5,4,FALSE)),\"\",VLOOKUP(A199,reporting5,4,FALSE)))","v":""}]
[null,{"$f":"IF(ISBLANK(VLOOKUP(A200,reporting1,2,FALSE)),\"\",IF(ISNA(VLOOKUP(A200,reporting1,2,FALSE)),\"\",VLOOKUP(A200,reporting1,2,FALSE)))","v":""},{"$f":"IF(ISBLANK(VLOOKUP(A200,reporting1,3,FALSE)),\"\",IF(ISNA(VLOOKUP(A200,reporting1,3,FALSE)),\"\",VLOOKUP(A200,reporting1,3,FALSE)))","v":""},{"$f":"IF(ISBLANK(VLOOKUP(A200,reporting1,4,FALSE)),\"\",IF(ISNA(VLOOKUP(A200,reporting1,4,FALSE)),\"\",VLOOKUP(A200,reporting1,4,FALSE)))","v":""},{"$f":"IF(ISBLANK(VLOOKUP(A200,reporting2,2,FALSE)),\"\",IF(ISNA(VLOOKUP(A200,reporting2,2,FALSE)),\"\",VLOOKUP(A200,reporting2,2,FALSE)))","v":""},{"$f":"IF(ISBLANK(VLOOKUP(A200,reporting2,3,FALSE)),\"\",IF(ISNA(VLOOKUP(A200,reporting2,3,FALSE)),\"\",VLOOKUP(A200,reporting2,3,FALSE)))","v":""},{"$f":"IF(ISBLANK(VLOOKUP(A200,reporting2,4,FALSE)),\"\",IF(ISNA(VLOOKUP(A200,reporting2,4,FALSE)),\"\",VLOOKUP(A200,reporting2,4,FALSE)))","v":""},{"$f":"IF(ISBLANK(VLOOKUP(A200,reporting3,2,FALSE)),\"\",IF(ISNA(VLOOKUP(A200,reporting3,2,FALSE)),\"\",VLOOKUP(A200,reporting3,2,FALSE)))","v":""},{"$f":"IF(ISBLANK(VLOOKUP(A200,reporting3,3,FALSE)),\"\",IF(ISNA(VLOOKUP(A200,reporting3,3,FALSE)),\"\",VLOOKUP(A200,reporting3,3,FALSE)))","v":""},{"$f":"IF(ISBLANK(VLOOKUP(A200,reporting3,4,FALSE)),\"\",IF(ISNA(VLOOKUP(A200,reporting3,4,FALSE)),\"\",VLOOKUP(A200,reporting3,4,FALSE)))","v":""},{"$f":"IF(ISBLANK(VLOOKUP(A200,reporting4,2,FALSE)),\"\",IF(ISNA(VLOOKUP(A200,reporting4,2,FALSE)),\"\",VLOOKUP(A200,reporting4,2,FALSE)))","v":""},{"$f":"IF(ISBLANK(VLOOKUP(A200,reporting4,3,FALSE)),\"\",IF(ISNA(VLOOKUP(A200,reporting4,3,FALSE)),\"\",VLOOKUP(A200,reporting4,3,FALSE)))","v":""},{"$f":"IF(ISBLANK(VLOOKUP(A200,reporting4,4,FALSE)),\"\",IF(ISNA(VLOOKUP(A200,reporting4,4,FALSE)),\"\",VLOOKUP(A200,reporting4,4,FALSE)))","v":""},{"$f":"IF(ISBLANK(VLOOKUP(A200,reportin5,2,FALSE)),\"\",IF(ISNA(VLOOKUP(A200,reporting5,2,FALSE)),\"\",VLOOKUP(A200,reporting5,2,FALSE)))","v":""},{"$f":"IF(ISBLANK(VLOOKUP(A200,reporting5,3,FALSE)),\"\",IF(ISNA(VLOOKUP(A200,reporting5,3,FALSE)),\"\",VLOOKUP(A200,reporting5,3,FALSE)))","v":""},{"$f":"IF(ISBLANK(VLOOKUP(A200,reporting5,4,FALSE)),\"\",IF(ISNA(VLOOKUP(A200,reporting5,4,FALSE)),\"\",VLOOKUP(A200,reporting5,4,FALSE)))","v":""}]
[null,{"$f":"IF(ISBLANK(VLOOKUP(A201,reporting1,2,FALSE)),\"\",IF(ISNA(VLOOKUP(A201,reporting1,2,FALSE)),\"\",VLOOKUP(A201,reporting1,2,FALSE)))","v":""},{"$f":"IF(ISBLANK(VLOOKUP(A201,reporting1,3,FALSE)),\"\",IF(ISNA(VLOOKUP(A201,reporting1,3,FALSE)),\"\",VLOOKUP(A201,reporting1,3,FALSE)))","v":""},{"$f":"IF(ISBLANK(VLOOKUP(A201,reporting1,4,FALSE)),\"\",IF(ISNA(VLOOKUP(A201,reporting1,4,FALSE)),\"\",VLOOKUP(A201,reporting1,4,FALSE)))","v":""},{"$f":"IF(ISBLANK(VLOOKUP(A201,reporting2,2,FALSE)),\"\",IF(ISNA(VLOOKUP(A201,reporting2,2,FALSE)),\"\",VLOOKUP(A201,reporting2,2,FALSE)))","v":""},{"$f":"IF(ISBLANK(VLOOKUP(A201,reporting2,3,FALSE)),\"\",IF(ISNA(VLOOKUP(A201,reporting2,3,FALSE)),\"\",VLOOKUP(A201,reporting2,3,FALSE)))","v":""},{"$f":"IF(ISBLANK(VLOOKUP(A201,reporting2,4,FALSE)),\"\",IF(ISNA(VLOOKUP(A201,reporting2,4,FALSE)),\"\",VLOOKUP(A201,reporting2,4,FALSE)))","v":""},{"$f":"IF(ISBLANK(VLOOKUP(A201,reporting3,2,FALSE)),\"\",IF(ISNA(VLOOKUP(A201,reporting3,2,FALSE)),\"\",VLOOKUP(A201,reporting3,2,FALSE)))","v":""},{"$f":"IF(ISBLANK(VLOOKUP(A201,reporting3,3,FALSE)),\"\",IF(ISNA(VLOOKUP(A201,reporting3,3,FALSE)),\"\",VLOOKUP(A201,reporting3,3,FALSE)))","v":""},{"$f":"IF(ISBLANK(VLOOKUP(A201,reporting3,4,FALSE)),\"\",IF(ISNA(VLOOKUP(A201,reporting3,4,FALSE)),\"\",VLOOKUP(A201,reporting3,4,FALSE)))","v":""},{"$f":"IF(ISBLANK(VLOOKUP(A201,reporting4,2,FALSE)),\"\",IF(ISNA(VLOOKUP(A201,reporting4,2,FALSE)),\"\",VLOOKUP(A201,reporting4,2,FALSE)))","v":""},{"$f":"IF(ISBLANK(VLOOKUP(A201,reporting4,3,FALSE)),\"\",IF(ISNA(VLOOKUP(A201,reporting4,3,FALSE)),\"\",VLOOKUP(A201,reporting4,3,FALSE)))","v":""},{"$f":"IF(ISBLANK(VLOOKUP(A201,reporting4,4,FALSE)),\"\",IF(ISNA(VLOOKUP(A201,reporting4,4,FALSE)),\"\",VLOOKUP(A201,reporting4,4,FALSE)))","v":""},{"$f":"IF(ISBLANK(VLOOKUP(A201,reportin5,2,FALSE)),\"\",IF(ISNA(VLOOKUP(A201,reporting5,2,FALSE)),\"\",VLOOKUP(A201,reporting5,2,FALSE)))","v":""},{"$f":"IF(ISBLANK(VLOOKUP(A201,reporting5,3,FALSE)),\"\",IF(ISNA(VLOOKUP(A201,reporting5,3,FALSE)),\"\",VLOOKUP(A201,reporting5,3,FALSE)))","v":""},{"$f":"IF(ISBLANK(VLOOKUP(A201,reporting5,4,FALSE)),\"\",IF(ISNA(VLOOKUP(A201,reporting5,4,FALSE)),\"\",VLOOKUP(A201,reporting5,4,FALSE)))","v":""}]
[null,{"$f":"IF(ISBLANK(VLOOKUP(A202,reporting1,2,FALSE)),\"\",IF(ISNA(VLOOKUP(A202,reporting1,2,FALSE)),\"\",VLOOKUP(A202,reporting1,2,FALSE)))","v":""},{"$f":"IF(ISBLANK(VLOOKUP(A202,reporting1,3,FALSE)),\"\",IF(ISNA(VLOOKUP(A202,reporting1,3,FALSE)),\"\",VLOOKUP(A202,reporting1,3,FALSE)))","v":""},{"$f":"IF(ISBLANK(VLOOKUP(A202,reporting1,4,FALSE)),\"\",IF(ISNA(VLOOKUP(A202,reporting1,4,FALSE)),\"\",VLOOKUP(A202,reporting1,4,FALSE)))","v":""},{"$f":"IF(ISBLANK(VLOOKUP(A202,reporting2,2,FALSE)),\"\",IF(ISNA(VLOOKUP(A202,reporting2,2,FALSE)),\"\",VLOOKUP(A202,reporting2,2,FALSE)))","v":""},{"$f":"IF(ISBLANK(VLOOKUP(A202,reporting2,3,FALSE)),\"\",IF(ISNA(VLOOKUP(A202,reporting2,3,FALSE)),\"\",VLOOKUP(A202,reporting2,3,FALSE)))","v":""},{"$f":"IF(ISBLANK(VLOOKUP(A202,reporting2,4,FALSE)),\"\",IF(ISNA(VLOOKUP(A202,reporting2,4,FALSE)),\"\",VLOOKUP(A202,reporting2,4,FALSE)))","v":""},{"$f":"IF(ISBLANK(VLOOKUP(A202,reporting3,2,FALSE)),\"\",IF(ISNA(VLOOKUP(A202,reporting3,2,FALSE)),\"\",VLOOKUP(A202,reporting3,2,FALSE)))","v":""},{"$f":"IF(ISBLANK(VLOOKUP(A202,reporting3,3,FALSE)),\"\",IF(ISNA(VLOOKUP(A202,reporting3,3,FALSE)),\"\",VLOOKUP(A202,reporting3,3,FALSE)))","v":""},{"$f":"IF(ISBLANK(VLOOKUP(A202,reporting3,4,FALSE)),\"\",IF(ISNA(VLOOKUP(A202,reporting3,4,FALSE)),\"\",VLOOKUP(A202,reporting3,4,FALSE)))","v":""},{"$f":"IF(ISBLANK(VLOOKUP(A202,reporting4,2,FALSE)),\"\",IF(ISNA(VLOOKUP(A202,reporting4,2,FALSE)),\"\",VLOOKUP(A202,reporting4,2,FALSE)))","v":""},{"$f":"IF(ISBLANK(VLOOKUP(A202,reporting4,3,FALSE)),\"\",IF(ISNA(VLOOKUP(A202,reporting4,3,FALSE)),\"\",VLOOKUP(A202,reporting4,3,FALSE)))","v":""},{"$f":"IF(ISBLANK(VLOOKUP(A202,reporting4,4,FALSE)),\"\",IF(ISNA(VLOOKUP(A202,reporting4,4,FALSE)),\"\",VLOOKUP(A202,reporting4,4,FALSE)))","v":""},{"$f":"IF(ISBLANK(VLOOKUP(A202,reportin5,2,FALSE)),\"\",IF(ISNA(VLOOKUP(A202,reporting5,2,FALSE)),\"\",VLOOKUP(A202,reporting5,2,FALSE)))","v":""},{"$f":"IF(ISBLANK(VLOOKUP(A202,reporting5,3,FALSE)),\"\",IF(ISNA(VLOOKUP(A202,reporting5,3,FALSE)),\"\",VLOOKUP(A202,reporting5,3,FALSE)))","v":""},{"$f":"IF(ISBLANK(VLOOKUP(A202,reporting5,4,FALSE)),\"\",IF(ISNA(VLOOKUP(A202,reporting5,4,FALSE)),\"\",VLOOKUP(A202,reporting5,4,FALSE)))","v":""}]
[null,{"$f":"IF(ISBLANK(VLOOKUP(A203,reporting1,2,FALSE)),\"\",IF(ISNA(VLOOKUP(A203,reporting1,2,FALSE)),\"\",VLOOKUP(A203,reporting1,2,FALSE)))","v":""},{"$f":"IF(ISBLANK(VLOOKUP(A203,reporting1,3,FALSE)),\"\",IF(ISNA(VLOOKUP(A203,reporting1,3,FALSE)),\"\",VLOOKUP(A203,reporting1,3,FALSE)))","v":""},{"$f":"IF(ISBLANK(VLOOKUP(A203,reporting1,4,FALSE)),\"\",IF(ISNA(VLOOKUP(A203,reporting1,4,FALSE)),\"\",VLOOKUP(A203,reporting1,4,FALSE)))","v":""},{"$f":"IF(ISBLANK(VLOOKUP(A203,reporting2,2,FALSE)),\"\",IF(ISNA(VLOOKUP(A203,reporting2,2,FALSE)),\"\",VLOOKUP(A203,reporting2,2,FALSE)))","v":""},{"$f":"IF(ISBLANK(VLOOKUP(A203,reporting2,3,FALSE)),\"\",IF(ISNA(VLOOKUP(A203,reporting2,3,FALSE)),\"\",VLOOKUP(A203,reporting2,3,FALSE)))","v":""},{"$f":"IF(ISBLANK(VLOOKUP(A203,reporting2,4,FALSE)),\"\",IF(ISNA(VLOOKUP(A203,reporting2,4,FALSE)),\"\",VLOOKUP(A203,reporting2,4,FALSE)))","v":""},{"$f":"IF(ISBLANK(VLOOKUP(A203,reporting3,2,FALSE)),\"\",IF(ISNA(VLOOKUP(A203,reporting3,2,FALSE)),\"\",VLOOKUP(A203,reporting3,2,FALSE)))","v":""},{"$f":"IF(ISBLANK(VLOOKUP(A203,reporting3,3,FALSE)),\"\",IF(ISNA(VLOOKUP(A203,reporting3,3,FALSE)),\"\",VLOOKUP(A203,reporting3,3,FALSE)))","v":""},{"$f":"IF(ISBLANK(VLOOKUP(A203,reporting3,4,FALSE)),\"\",IF(ISNA(VLOOKUP(A203,reporting3,4,FALSE)),\"\",VLOOKUP(A203,reporting3,4,FALSE)))","v":""},{"$f":"IF(ISBLANK(VLOOKUP(A203,reporting4,2,FALSE)),\"\",IF(ISNA(VLOOKUP(A203,reporting4,2,FALSE)),\"\",VLOOKUP(A203,reporting4,2,FALSE)))","v":""},{"$f":"IF(ISBLANK(VLOOKUP(A203,reporting4,3,FALSE)),\"\",IF(ISNA(VLOOKUP(A203,reporting4,3,FALSE)),\"\",VLOOKUP(A203,reporting4,3,FALSE)))","v":""},{"$f":"IF(ISBLANK(VLOOKUP(A203,reporting4,4,FALSE)),\"\",IF(ISNA(VLOOKUP(A203,reporting4,4,FALSE)),\"\",VLOOKUP(A203,reporting4,4,FALSE)))","v":""},{"$f":"IF(ISBLANK(VLOOKUP(A203,reportin5,2,FALSE)),\"\",IF(ISNA(VLOOKUP(A203,reporting5,2,FALSE)),\"\",VLOOKUP(A203,reporting5,2,FALSE)))","v":""},{"$f":"IF(ISBLANK(VLOOKUP(A203,reporting5,3,FALSE)),\"\",IF(ISNA(VLOOKUP(A203,reporting5,3,FALSE)),\"\",VLOOKUP(A203,reporting5,3,FALSE)))","v":""},{"$f":"IF(ISBLANK(VLOOKUP(A203,reporting5,4,FALSE)),\"\",IF(ISNA(VLOOKUP(A203,reporting5,4,FALSE)),\"\",VLOOKUP(A203,reporting5,4,FALSE)))","v":""}]
[null,{"$f":"IF(ISBLANK(VLOOKUP(A204,reporting1,2,FALSE)),\"\",IF(ISNA(VLOOKUP(A204,reporting1,2,FALSE)),\"\",VLOOKUP(A204,reporting1,2,FALSE)))","v":""},{"$f":"IF(ISBLANK(VLOOKUP(A204,reporting1,3,FALSE)),\"\",IF(ISNA(VLOOKUP(A204,reporting1,3,FALSE)),\"\",VLOOKUP(A204,reporting1,3,FALSE)))","v":""},{"$f":"IF(ISBLANK(VLOOKUP(A204,reporting1,4,FALSE)),\"\",IF(ISNA(VLOOKUP(A204,reporting1,4,FALSE)),\"\",VLOOKUP(A204,reporting1,4,FALSE)))","v":""},{"$f":"IF(ISBLANK(VLOOKUP(A204,reporting2,2,FALSE)),\"\",IF(ISNA(VLOOKUP(A204,reporting2,2,FALSE)),\"\",VLOOKUP(A204,reporting2,2,FALSE)))","v":""},{"$f":"IF(ISBLANK(VLOOKUP(A204,reporting2,3,FALSE)),\"\",IF(ISNA(VLOOKUP(A204,reporting2,3,FALSE)),\"\",VLOOKUP(A204,reporting2,3,FALSE)))","v":""},{"$f":"IF(ISBLANK(VLOOKUP(A204,reporting2,4,FALSE)),\"\",IF(ISNA(VLOOKUP(A204,reporting2,4,FALSE)),\"\",VLOOKUP(A204,reporting2,4,FALSE)))","v":""},{"$f":"IF(ISBLANK(VLOOKUP(A204,reporting3,2,FALSE)),\"\",IF(ISNA(VLOOKUP(A204,reporting3,2,FALSE)),\"\",VLOOKUP(A204,reporting3,2,FALSE)))","v":""},{"$f":"IF(ISBLANK(VLOOKUP(A204,reporting3,3,FALSE)),\"\",IF(ISNA(VLOOKUP(A204,reporting3,3,FALSE)),\"\",VLOOKUP(A204,reporting3,3,FALSE)))","v":""},{"$f":"IF(ISBLANK(VLOOKUP(A204,reporting3,4,FALSE)),\"\",IF(ISNA(VLOOKUP(A204,reporting3,4,FALSE)),\"\",VLOOKUP(A204,reporting3,4,FALSE)))","v":""},{"$f":"IF(ISBLANK(VLOOKUP(A204,reporting4,2,FALSE)),\"\",IF(ISNA(VLOOKUP(A204,reporting4,2,FALSE)),\"\",VLOOKUP(A204,reporting4,2,FALSE)))","v":""},{"$f":"IF(ISBLANK(VLOOKUP(A204,reporting4,3,FALSE)),\"\",IF(ISNA(VLOOKUP(A204,reporting4,3,FALSE)),\"\",VLOOKUP(A204,reporting4,3,FALSE)))","v":""},{"$f":"IF(ISBLANK(VLOOKUP(A204,reporting4,4,FALSE)),\"\",IF(ISNA(VLOOKUP(A204,reporting4,4,FALSE)),\"\",VLOOKUP(A204,reporting4,4,FALSE)))","v":""},{"$f":"IF(ISBLANK(VLOOKUP(A204,reportin5,2,FALSE)),\"\",IF(ISNA(VLOOKUP(A204,reporting5,2,FALSE)),\"\",VLOOKUP(A204,reporting5,2,FALSE)))","v":""},{"$f":"IF(ISBLANK(VLOOKUP(A204,reporting5,3,FALSE)),\"\",IF(ISNA(VLOOKUP(A204,reporting5,3,FALSE)),\"\",VLOOKUP(A204,reporting5,3,FALSE)))","v":""},{"$f":"IF(ISBLANK(VLOOKUP(A204,reporting5,4,FALSE)),\"\",IF(ISNA(VLOOKUP(A204,reporting5,4,FALSE)),\"\",VLOOKUP(A204,reporting5,4,FALSE)))","v":""}]
[null,{"$f":"IF(ISBLANK(VLOOKUP(A205,reporting1,2,FALSE)),\"\",IF(ISNA(VLOOKUP(A205,reporting1,2,FALSE)),\"\",VLOOKUP(A205,reporting1,2,FALSE)))","v":""},{"$f":"IF(ISBLANK(VLOOKUP(A205,reporting1,3,FALSE)),\"\",IF(ISNA(VLOOKUP(A205,reporting1,3,FALSE)),\"\",VLOOKUP(A205,reporting1,3,FALSE)))","v":""},{"$f":"IF(ISBLANK(VLOOKUP(A205,reporting1,4,FALSE)),\"\",IF(ISNA(VLOOKUP(A205,reporting1,4,FALSE)),\"\",VLOOKUP(A205,reporting1,4,FALSE)))","v":""},{"$f":"IF(ISBLANK(VLOOKUP(A205,reporting2,2,FALSE)),\"\",IF(ISNA(VLOOKUP(A205,reporting2,2,FALSE)),\"\",VLOOKUP(A205,reporting2,2,FALSE)))","v":""},{"$f":"IF(ISBLANK(VLOOKUP(A205,reporting2,3,FALSE)),\"\",IF(ISNA(VLOOKUP(A205,reporting2,3,FALSE)),\"\",VLOOKUP(A205,reporting2,3,FALSE)))","v":""},{"$f":"IF(ISBLANK(VLOOKUP(A205,reporting2,4,FALSE)),\"\",IF(ISNA(VLOOKUP(A205,reporting2,4,FALSE)),\"\",VLOOKUP(A205,reporting2,4,FALSE)))","v":""},{"$f":"IF(ISBLANK(VLOOKUP(A205,reporting3,2,FALSE)),\"\",IF(ISNA(VLOOKUP(A205,reporting3,2,FALSE)),\"\",VLOOKUP(A205,reporting3,2,FALSE)))","v":""},{"$f":"IF(ISBLANK(VLOOKUP(A205,reporting3,3,FALSE)),\"\",IF(ISNA(VLOOKUP(A205,reporting3,3,FALSE)),\"\",VLOOKUP(A205,reporting3,3,FALSE)))","v":""},{"$f":"IF(ISBLANK(VLOOKUP(A205,reporting3,4,FALSE)),\"\",IF(ISNA(VLOOKUP(A205,reporting3,4,FALSE)),\"\",VLOOKUP(A205,reporting3,4,FALSE)))","v":""},{"$f":"IF(ISBLANK(VLOOKUP(A205,reporting4,2,FALSE)),\"\",IF(ISNA(VLOOKUP(A205,reporting4,2,FALSE)),\"\",VLOOKUP(A205,reporting4,2,FALSE)))","v":""},{"$f":"IF(ISBLANK(VLOOKUP(A205,reporting4,3,FALSE)),\"\",IF(ISNA(VLOOKUP(A205,reporting4,3,FALSE)),\"\",VLOOKUP(A205,reporting4,3,FALSE)))","v":""},{"$f":"IF(ISBLANK(VLOOKUP(A205,reporting4,4,FALSE)),\"\",IF(ISNA(VLOOKUP(A205,reporting4,4,FALSE)),\"\",VLOOKUP(A205,reporting4,4,FALSE)))","v":""},{"$f":"IF(ISBLANK(VLOOKUP(A205,reportin5,2,FALSE)),\"\",IF(ISNA(VLOOKUP(A205,reporting5,2,FALSE)),\"\",VLOOKUP(A205,reporting5,2,FALSE)))","v":""},{"$f":"IF(ISBLANK(VLOOKUP(A205,reporting5,3,FALSE)),\"\",IF(ISNA(VLOOKUP(A205,reporting5,3,FALSE)),\"\",VLOOKUP(A205,reporting5,3,FALSE)))","v":""},{"$f":"IF(ISBLANK(VLOOKUP(A205,reporting5,4,FALSE)),\"\",IF(ISNA(VLOOKUP(A205,reporting5,4,FALSE)),\"\",VLOOKUP(A205,reporting5,4,FALSE)))","v":""}]
[null,{"$f":"IF(ISBLANK(VLOOKUP(A206,reporting1,2,FALSE)),\"\",IF(ISNA(VLOOKUP(A206,reporting1,2,FALSE)),\"\",VLOOKUP(A206,reporting1,2,FALSE)))","v":""},{"$f":"IF(ISBLANK(VLOOKUP(A206,reporting1,3,FALSE)),\"\",IF(ISNA(VLOOKUP(A206,reporting1,3,FALSE)),\"\",VLOOKUP(A206,reporting1,3,FALSE)))","v":""},{"$f":"IF(ISBLANK(VLOOKUP(A206,reporting1,4,FALSE)),\"\",IF(ISNA(VLOOKUP(A206,reporting1,4,FALSE)),\"\",VLOOKUP(A206,reporting1,4,FALSE)))","v":""},{"$f":"IF(ISBLANK(VLOOKUP(A206,reporting2,2,FALSE)),\"\",IF(ISNA(VLOOKUP(A206,reporting2,2,FALSE)),\"\",VLOOKUP(A206,reporting2,2,FALSE)))","v":""},{"$f":"IF(ISBLANK(VLOOKUP(A206,reporting2,3,FALSE)),\"\",IF(ISNA(VLOOKUP(A206,reporting2,3,FALSE)),\"\",VLOOKUP(A206,reporting2,3,FALSE)))","v":""},{"$f":"IF(ISBLANK(VLOOKUP(A206,reporting2,4,FALSE)),\"\",IF(ISNA(VLOOKUP(A206,reporting2,4,FALSE)),\"\",VLOOKUP(A206,reporting2,4,FALSE)))","v":""},{"$f":"IF(ISBLANK(VLOOKUP(A206,reporting3,2,FALSE)),\"\",IF(ISNA(VLOOKUP(A206,reporting3,2,FALSE)),\"\",VLOOKUP(A206,reporting3,2,FALSE)))","v":""},{"$f":"IF(ISBLANK(VLOOKUP(A206,reporting3,3,FALSE)),\"\",IF(ISNA(VLOOKUP(A206,reporting3,3,FALSE)),\"\",VLOOKUP(A206,reporting3,3,FALSE)))","v":""},{"$f":"IF(ISBLANK(VLOOKUP(A206,reporting3,4,FALSE)),\"\",IF(ISNA(VLOOKUP(A206,reporting3,4,FALSE)),\"\",VLOOKUP(A206,reporting3,4,FALSE)))","v":""},{"$f":"IF(ISBLANK(VLOOKUP(A206,reporting4,2,FALSE)),\"\",IF(ISNA(VLOOKUP(A206,reporting4,2,FALSE)),\"\",VLOOKUP(A206,reporting4,2,FALSE)))","v":""},{"$f":"IF(ISBLANK(VLOOKUP(A206,reporting4,3,FALSE)),\"\",IF(ISNA(VLOOKUP(A206,reporting4,3,FALSE)),\"\",VLOOKUP(A206,reporting4,3,FALSE)))","v":""},{"$f":"IF(ISBLANK(VLOOKUP(A206,reporting4,4,FALSE)),\"\",IF(ISNA(VLOOKUP(A206,reporting4,4,FALSE)),\"\",VLOOKUP(A206,reporting4,4,FALSE)))","v":""},{"$f":"IF(ISBLANK(VLOOKUP(A206,reportin5,2,FALSE)),\"\",IF(ISNA(VLOOKUP(A206,reporting5,2,FALSE)),\"\",VLOOKUP(A206,reporting5,2,FALSE)))","v":""},{"$f":"IF(ISBLANK(VLOOKUP(A206,reporting5,3,FALSE)),\"\",IF(ISNA(VLOOKUP(A206,reporting5,3,FALSE)),\"\",VLOOKUP(A206,reporting5,3,FALSE)))","v":""},{"$f":"IF(ISBLANK(VLOOKUP(A206,reporting5,4,FALSE)),\"\",IF(ISNA(VLOOKUP(A206,reporting5,4,FALSE)),\"\",VLOOKUP(A206,reporting5,4,FALSE)))","v":""}]
[null,{"$f":"IF(ISBLANK(VLOOKUP(A207,reporting1,2,FALSE)),\"\",IF(ISNA(VLOOKUP(A207,reporting1,2,FALSE)),\"\",VLOOKUP(A207,reporting1,2,FALSE)))","v":""},{"$f":"IF(ISBLANK(VLOOKUP(A207,reporting1,3,FALSE)),\"\",IF(ISNA(VLOOKUP(A207,reporting1,3,FALSE)),\"\",VLOOKUP(A207,reporting1,3,FALSE)))","v":""},{"$f":"IF(ISBLANK(VLOOKUP(A207,reporting1,4,FALSE)),\"\",IF(ISNA(VLOOKUP(A207,reporting1,4,FALSE)),\"\",VLOOKUP(A207,reporting1,4,FALSE)))","v":""},{"$f":"IF(ISBLANK(VLOOKUP(A207,reporting2,2,FALSE)),\"\",IF(ISNA(VLOOKUP(A207,reporting2,2,FALSE)),\"\",VLOOKUP(A207,reporting2,2,FALSE)))","v":""},{"$f":"IF(ISBLANK(VLOOKUP(A207,reporting2,3,FALSE)),\"\",IF(ISNA(VLOOKUP(A207,reporting2,3,FALSE)),\"\",VLOOKUP(A207,reporting2,3,FALSE)))","v":""},{"$f":"IF(ISBLANK(VLOOKUP(A207,reporting2,4,FALSE)),\"\",IF(ISNA(VLOOKUP(A207,reporting2,4,FALSE)),\"\",VLOOKUP(A207,reporting2,4,FALSE)))","v":""},{"$f":"IF(ISBLANK(VLOOKUP(A207,reporting3,2,FALSE)),\"\",IF(ISNA(VLOOKUP(A207,reporting3,2,FALSE)),\"\",VLOOKUP(A207,reporting3,2,FALSE)))","v":""},{"$f":"IF(ISBLANK(VLOOKUP(A207,reporting3,3,FALSE)),\"\",IF(ISNA(VLOOKUP(A207,reporting3,3,FALSE)),\"\",VLOOKUP(A207,reporting3,3,FALSE)))","v":""},{"$f":"IF(ISBLANK(VLOOKUP(A207,reporting3,4,FALSE)),\"\",IF(ISNA(VLOOKUP(A207,reporting3,4,FALSE)),\"\",VLOOKUP(A207,reporting3,4,FALSE)))","v":""},{"$f":"IF(ISBLANK(VLOOKUP(A207,reporting4,2,FALSE)),\"\",IF(ISNA(VLOOKUP(A207,reporting4,2,FALSE)),\"\",VLOOKUP(A207,reporting4,2,FALSE)))","v":""},{"$f":"IF(ISBLANK(VLOOKUP(A207,reporting4,3,FALSE)),\"\",IF(ISNA(VLOOKUP(A207,reporting4,3,FALSE)),\"\",VLOOKUP(A207,reporting4,3,FALSE)))","v":""},{"$f":"IF(ISBLANK(VLOOKUP(A207,reporting4,4,FALSE)),\"\",IF(ISNA(VLOOKUP(A207,reporting4,4,FALSE)),\"\",VLOOKUP(A207,reporting4,4,FALSE)))","v":""},{"$f":"IF(ISBLANK(VLOOKUP(A207,reportin5,2,FALSE)),\"\",IF(ISNA(VLOOKUP(A207,reporting5,2,FALSE)),\"\",VLOOKUP(A207,reporting5,2,FALSE)))","v":""},{"$f":"IF(ISBLANK(VLOOKUP(A207,reporting5,3,FALSE)),\"\",IF(ISNA(VLOOKUP(A207,reporting5,3,FALSE)),\"\",VLOOKUP(A207,reporting5,3,FALSE)))","v":""},{"$f":"IF(ISBLANK(VLOOKUP(A207,reporting5,4,FALSE)),\"\",IF(ISNA(VLOOKUP(A207,reporting5,4,FALSE)),\"\",VLOOKUP(A207,reporting5,4,FALSE)))","v":""}]
[null,{"$f":"IF(ISBLANK(VLOOKUP(A208,reporting1,2,FALSE)),\"\",IF(ISNA(VLOOKUP(A208,reporting1,2,FALSE)),\"\",VLOOKUP(A208,reporting1,2,FALSE)))","v":""},{"$f":"IF(ISBLANK(VLOOKUP(A208,reporting1,3,FALSE)),\"\",IF(ISNA(VLOOKUP(A208,reporting1,3,FALSE)),\"\",VLOOKUP(A208,reporting1,3,FALSE)))","v":""},{"$f":"IF(ISBLANK(VLOOKUP(A208,reporting1,4,FALSE)),\"\",IF(ISNA(VLOOKUP(A208,reporting1,4,FALSE)),\"\",VLOOKUP(A208,reporting1,4,FALSE)))","v":""},{"$f":"IF(ISBLANK(VLOOKUP(A208,reporting2,2,FALSE)),\"\",IF(ISNA(VLOOKUP(A208,reporting2,2,FALSE)),\"\",VLOOKUP(A208,reporting2,2,FALSE)))","v":""},{"$f":"IF(ISBLANK(VLOOKUP(A208,reporting2,3,FALSE)),\"\",IF(ISNA(VLOOKUP(A208,reporting2,3,FALSE)),\"\",VLOOKUP(A208,reporting2,3,FALSE)))","v":""},{"$f":"IF(ISBLANK(VLOOKUP(A208,reporting2,4,FALSE)),\"\",IF(ISNA(VLOOKUP(A208,reporting2,4,FALSE)),\"\",VLOOKUP(A208,reporting2,4,FALSE)))","v":""},{"$f":"IF(ISBLANK(VLOOKUP(A208,reporting3,2,FALSE)),\"\",IF(ISNA(VLOOKUP(A208,reporting3,2,FALSE)),\"\",VLOOKUP(A208,reporting3,2,FALSE)))","v":""},{"$f":"IF(ISBLANK(VLOOKUP(A208,reporting3,3,FALSE)),\"\",IF(ISNA(VLOOKUP(A208,reporting3,3,FALSE)),\"\",VLOOKUP(A208,reporting3,3,FALSE)))","v":""},{"$f":"IF(ISBLANK(VLOOKUP(A208,reporting3,4,FALSE)),\"\",IF(ISNA(VLOOKUP(A208,reporting3,4,FALSE)),\"\",VLOOKUP(A208,reporting3,4,FALSE)))","v":""},{"$f":"IF(ISBLANK(VLOOKUP(A208,reporting4,2,FALSE)),\"\",IF(ISNA(VLOOKUP(A208,reporting4,2,FALSE)),\"\",VLOOKUP(A208,reporting4,2,FALSE)))","v":""},{"$f":"IF(ISBLANK(VLOOKUP(A208,reporting4,3,FALSE)),\"\",IF(ISNA(VLOOKUP(A208,reporting4,3,FALSE)),\"\",VLOOKUP(A208,reporting4,3,FALSE)))","v":""},{"$f":"IF(ISBLANK(VLOOKUP(A208,reporting4,4,FALSE)),\"\",IF(ISNA(VLOOKUP(A208,reporting4,4,FALSE)),\"\",VLOOKUP(A208,reporting4,4,FALSE)))","v":""},{"$f":"IF(ISBLANK(VLOOKUP(A208,reportin5,2,FALSE)),\"\",IF(ISNA(VLOOKUP(A208,reporting5,2,FALSE)),\"\",VLOOKUP(A208,reporting5,2,FALSE)))","v":""},{"$f":"IF(ISBLANK(VLOOKUP(A208,reporting5,3,FALSE)),\"\",IF(ISNA(VLOOKUP(A208,reporting5,3,FALSE)),\"\",VLOOKUP(A208,reporting5,3,FALSE)))","v":""},{"$f":"IF(ISBLANK(VLOOKUP(A208,reporting5,4,FALSE)),\"\",IF(ISNA(VLOOKUP(A208,reporting5,4,FALSE)),\"\",VLOOKUP(A208,reporting5,4,FALSE)))","v":""}]
[null,{"$f":"IF(ISBLANK(VLOOKUP(A209,reporting1,2,FALSE)),\"\",IF(ISNA(VLOOKUP(A209,reporting1,2,FALSE)),\"\",VLOOKUP(A209,reporting1,2,FALSE)))","v":""},{"$f":"IF(ISBLANK(VLOOKUP(A209,reporting1,3,FALSE)),\"\",IF(ISNA(VLOOKUP(A209,reporting1,3,FALSE)),\"\",VLOOKUP(A209,reporting1,3,FALSE)))","v":""},{"$f":"IF(ISBLANK(VLOOKUP(A209,reporting1,4,FALSE)),\"\",IF(ISNA(VLOOKUP(A209,reporting1,4,FALSE)),\"\",VLOOKUP(A209,reporting1,4,FALSE)))","v":""},{"$f":"IF(ISBLANK(VLOOKUP(A209,reporting2,2,FALSE)),\"\",IF(ISNA(VLOOKUP(A209,reporting2,2,FALSE)),\"\",VLOOKUP(A209,reporting2,2,FALSE)))","v":""},{"$f":"IF(ISBLANK(VLOOKUP(A209,reporting2,3,FALSE)),\"\",IF(ISNA(VLOOKUP(A209,reporting2,3,FALSE)),\"\",VLOOKUP(A209,reporting2,3,FALSE)))","v":""},{"$f":"IF(ISBLANK(VLOOKUP(A209,reporting2,4,FALSE)),\"\",IF(ISNA(VLOOKUP(A209,reporting2,4,FALSE)),\"\",VLOOKUP(A209,reporting2,4,FALSE)))","v":""},{"$f":"IF(ISBLANK(VLOOKUP(A209,reporting3,2,FALSE)),\"\",IF(ISNA(VLOOKUP(A209,reporting3,2,FALSE)),\"\",VLOOKUP(A209,reporting3,2,FALSE)))","v":""},{"$f":"IF(ISBLANK(VLOOKUP(A209,reporting3,3,FALSE)),\"\",IF(ISNA(VLOOKUP(A209,reporting3,3,FALSE)),\"\",VLOOKUP(A209,reporting3,3,FALSE)))","v":""},{"$f":"IF(ISBLANK(VLOOKUP(A209,reporting3,4,FALSE)),\"\",IF(ISNA(VLOOKUP(A209,reporting3,4,FALSE)),\"\",VLOOKUP(A209,reporting3,4,FALSE)))","v":""},{"$f":"IF(ISBLANK(VLOOKUP(A209,reporting4,2,FALSE)),\"\",IF(ISNA(VLOOKUP(A209,reporting4,2,FALSE)),\"\",VLOOKUP(A209,reporting4,2,FALSE)))","v":""},{"$f":"IF(ISBLANK(VLOOKUP(A209,reporting4,3,FALSE)),\"\",IF(ISNA(VLOOKUP(A209,reporting4,3,FALSE)),\"\",VLOOKUP(A209,reporting4,3,FALSE)))","v":""},{"$f":"IF(ISBLANK(VLOOKUP(A209,reporting4,4,FALSE)),\"\",IF(ISNA(VLOOKUP(A209,reporting4,4,FALSE)),\"\",VLOOKUP(A209,reporting4,4,FALSE)))","v":""},{"$f":"IF(ISBLANK(VLOOKUP(A209,reportin5,2,FALSE)),\"\",IF(ISNA(VLOOKUP(A209,reporting5,2,FALSE)),\"\",VLOOKUP(A209,reporting5,2,FALSE)))","v":""},{"$f":"IF(ISBLANK(VLOOKUP(A209,reporting5,3,FALSE)),\"\",IF(ISNA(VLOOKUP(A209,reporting5,3,FALSE)),\"\",VLOOKUP(A209,reporting5,3,FALSE)))","v":""},{"$f":"IF(ISBLANK(VLOOKUP(A209,reporting5,4,FALSE)),\"\",IF(ISNA(VLOOKUP(A209,reporting5,4,FALSE)),\"\",VLOOKUP(A209,reporting5,4,FALSE)))","v":""}]
[null,{"$f":"IF(ISBLANK(VLOOKUP(A210,reporting1,2,FALSE)),\"\",IF(ISNA(VLOOKUP(A210,reporting1,2,FALSE)),\"\",VLOOKUP(A210,reporting1,2,FALSE)))","v":""},{"$f":"IF(ISBLANK(VLOOKUP(A210,reporting1,3,FALSE)),\"\",IF(ISNA(VLOOKUP(A210,reporting1,3,FALSE)),\"\",VLOOKUP(A210,reporting1,3,FALSE)))","v":""},{"$f":"IF(ISBLANK(VLOOKUP(A210,reporting1,4,FALSE)),\"\",IF(ISNA(VLOOKUP(A210,reporting1,4,FALSE)),\"\",VLOOKUP(A210,reporting1,4,FALSE)))","v":""},{"$f":"IF(ISBLANK(VLOOKUP(A210,reporting2,2,FALSE)),\"\",IF(ISNA(VLOOKUP(A210,reporting2,2,FALSE)),\"\",VLOOKUP(A210,reporting2,2,FALSE)))","v":""},{"$f":"IF(ISBLANK(VLOOKUP(A210,reporting2,3,FALSE)),\"\",IF(ISNA(VLOOKUP(A210,reporting2,3,FALSE)),\"\",VLOOKUP(A210,reporting2,3,FALSE)))","v":""},{"$f":"IF(ISBLANK(VLOOKUP(A210,reporting2,4,FALSE)),\"\",IF(ISNA(VLOOKUP(A210,reporting2,4,FALSE)),\"\",VLOOKUP(A210,reporting2,4,FALSE)))","v":""},{"$f":"IF(ISBLANK(VLOOKUP(A210,reporting3,2,FALSE)),\"\",IF(ISNA(VLOOKUP(A210,reporting3,2,FALSE)),\"\",VLOOKUP(A210,reporting3,2,FALSE)))","v":""},{"$f":"IF(ISBLANK(VLOOKUP(A210,reporting3,3,FALSE)),\"\",IF(ISNA(VLOOKUP(A210,reporting3,3,FALSE)),\"\",VLOOKUP(A210,reporting3,3,FALSE)))","v":""},{"$f":"IF(ISBLANK(VLOOKUP(A210,reporting3,4,FALSE)),\"\",IF(ISNA(VLOOKUP(A210,reporting3,4,FALSE)),\"\",VLOOKUP(A210,reporting3,4,FALSE)))","v":""},{"$f":"IF(ISBLANK(VLOOKUP(A210,reporting4,2,FALSE)),\"\",IF(ISNA(VLOOKUP(A210,reporting4,2,FALSE)),\"\",VLOOKUP(A210,reporting4,2,FALSE)))","v":""},{"$f":"IF(ISBLANK(VLOOKUP(A210,reporting4,3,FALSE)),\"\",IF(ISNA(VLOOKUP(A210,reporting4,3,FALSE)),\"\",VLOOKUP(A210,reporting4,3,FALSE)))","v":""},{"$f":"IF(ISBLANK(VLOOKUP(A210,reporting4,4,FALSE)),\"\",IF(ISNA(VLOOKUP(A210,reporting4,4,FALSE)),\"\",VLOOKUP(A210,reporting4,4,FALSE)))","v":""},{"$f":"IF(ISBLANK(VLOOKUP(A210,reportin5,2,FALSE)),\"\",IF(ISNA(VLOOKUP(A210,reporting5,2,FALSE)),\"\",VLOOKUP(A210,reporting5,2,FALSE)))","v":""},{"$f":"IF(ISBLANK(VLOOKUP(A210,reporting5,3,FALSE)),\"\",IF(ISNA(VLOOKUP(A210,reporting5,3,FALSE)),\"\",VLOOKUP(A210,reporting5,3,FALSE)))","v":""},{"$f":"IF(ISBLANK(VLOOKUP(A210,reporting5,4,FALSE)),\"\",IF(ISNA(VLOOKUP(A210,reporting5,4,FALSE)),\"\",VLOOKUP(A210,reporting5,4,FALSE)))","v":""}]
[null,{"$f":"IF(ISBLANK(VLOOKUP(A211,reporting1,2,FALSE)),\"\",IF(ISNA(VLOOKUP(A211,reporting1,2,FALSE)),\"\",VLOOKUP(A211,reporting1,2,FALSE)))","v":""},{"$f":"IF(ISBLANK(VLOOKUP(A211,reporting1,3,FALSE)),\"\",IF(ISNA(VLOOKUP(A211,reporting1,3,FALSE)),\"\",VLOOKUP(A211,reporting1,3,FALSE)))","v":""},{"$f":"IF(ISBLANK(VLOOKUP(A211,reporting1,4,FALSE)),\"\",IF(ISNA(VLOOKUP(A211,reporting1,4,FALSE)),\"\",VLOOKUP(A211,reporting1,4,FALSE)))","v":""},{"$f":"IF(ISBLANK(VLOOKUP(A211,reporting2,2,FALSE)),\"\",IF(ISNA(VLOOKUP(A211,reporting2,2,FALSE)),\"\",VLOOKUP(A211,reporting2,2,FALSE)))","v":""},{"$f":"IF(ISBLANK(VLOOKUP(A211,reporting2,3,FALSE)),\"\",IF(ISNA(VLOOKUP(A211,reporting2,3,FALSE)),\"\",VLOOKUP(A211,reporting2,3,FALSE)))","v":""},{"$f":"IF(ISBLANK(VLOOKUP(A211,reporting2,4,FALSE)),\"\",IF(ISNA(VLOOKUP(A211,reporting2,4,FALSE)),\"\",VLOOKUP(A211,reporting2,4,FALSE)))","v":""},{"$f":"IF(ISBLANK(VLOOKUP(A211,reporting3,2,FALSE)),\"\",IF(ISNA(VLOOKUP(A211,reporting3,2,FALSE)),\"\",VLOOKUP(A211,reporting3,2,FALSE)))","v":""},{"$f":"IF(ISBLANK(VLOOKUP(A211,reporting3,3,FALSE)),\"\",IF(ISNA(VLOOKUP(A211,reporting3,3,FALSE)),\"\",VLOOKUP(A211,reporting3,3,FALSE)))","v":""},{"$f":"IF(ISBLANK(VLOOKUP(A211,reporting3,4,FALSE)),\"\",IF(ISNA(VLOOKUP(A211,reporting3,4,FALSE)),\"\",VLOOKUP(A211,reporting3,4,FALSE)))","v":""},{"$f":"IF(ISBLANK(VLOOKUP(A211,reporting4,2,FALSE)),\"\",IF(ISNA(VLOOKUP(A211,reporting4,2,FALSE)),\"\",VLOOKUP(A211,reporting4,2,FALSE)))","v":""},{"$f":"IF(ISBLANK(VLOOKUP(A211,reporting4,3,FALSE)),\"\",IF(ISNA(VLOOKUP(A211,reporting4,3,FALSE)),\"\",VLOOKUP(A211,reporting4,3,FALSE)))","v":""},{"$f":"IF(ISBLANK(VLOOKUP(A211,reporting4,4,FALSE)),\"\",IF(ISNA(VLOOKUP(A211,reporting4,4,FALSE)),\"\",VLOOKUP(A211,reporting4,4,FALSE)))","v":""},{"$f":"IF(ISBLANK(VLOOKUP(A211,reportin5,2,FALSE)),\"\",IF(ISNA(VLOOKUP(A211,reporting5,2,FALSE)),\"\",VLOOKUP(A211,reporting5,2,FALSE)))","v":""},{"$f":"IF(ISBLANK(VLOOKUP(A211,reporting5,3,FALSE)),\"\",IF(ISNA(VLOOKUP(A211,reporting5,3,FALSE)),\"\",VLOOKUP(A211,reporting5,3,FALSE)))","v":""},{"$f":"IF(ISBLANK(VLOOKUP(A211,reporting5,4,FALSE)),\"\",IF(ISNA(VLOOKUP(A211,reporting5,4,FALSE)),\"\",VLOOKUP(A211,reporting5,4,FALSE)))","v":""}]
[null,{"$f":"IF(ISBLANK(VLOOKUP(A212,reporting1,2,FALSE)),\"\",IF(ISNA(VLOOKUP(A212,reporting1,2,FALSE)),\"\",VLOOKUP(A212,reporting1,2,FALSE)))","v":""},{"$f":"IF(ISBLANK(VLOOKUP(A212,reporting1,3,FALSE)),\"\",IF(ISNA(VLOOKUP(A212,reporting1,3,FALSE)),\"\",VLOOKUP(A212,reporting1,3,FALSE)))","v":""},{"$f":"IF(ISBLANK(VLOOKUP(A212,reporting1,4,FALSE)),\"\",IF(ISNA(VLOOKUP(A212,reporting1,4,FALSE)),\"\",VLOOKUP(A212,reporting1,4,FALSE)))","v":""},{"$f":"IF(ISBLANK(VLOOKUP(A212,reporting2,2,FALSE)),\"\",IF(ISNA(VLOOKUP(A212,reporting2,2,FALSE)),\"\",VLOOKUP(A212,reporting2,2,FALSE)))","v":""},{"$f":"IF(ISBLANK(VLOOKUP(A212,reporting2,3,FALSE)),\"\",IF(ISNA(VLOOKUP(A212,reporting2,3,FALSE)),\"\",VLOOKUP(A212,reporting2,3,FALSE)))","v":""},{"$f":"IF(ISBLANK(VLOOKUP(A212,reporting2,4,FALSE)),\"\",IF(ISNA(VLOOKUP(A212,reporting2,4,FALSE)),\"\",VLOOKUP(A212,reporting2,4,FALSE)))","v":""},{"$f":"IF(ISBLANK(VLOOKUP(A212,reporting3,2,FALSE)),\"\",IF(ISNA(VLOOKUP(A212,reporting3,2,FALSE)),\"\",VLOOKUP(A212,reporting3,2,FALSE)))","v":""},{"$f":"IF(ISBLANK(VLOOKUP(A212,reporting3,3,FALSE)),\"\",IF(ISNA(VLOOKUP(A212,reporting3,3,FALSE)),\"\",VLOOKUP(A212,reporting3,3,FALSE)))","v":""},{"$f":"IF(ISBLANK(VLOOKUP(A212,reporting3,4,FALSE)),\"\",IF(ISNA(VLOOKUP(A212,reporting3,4,FALSE)),\"\",VLOOKUP(A212,reporting3,4,FALSE)))","v":""},{"$f":"IF(ISBLANK(VLOOKUP(A212,reporting4,2,FALSE)),\"\",IF(ISNA(VLOOKUP(A212,reporting4,2,FALSE)),\"\",VLOOKUP(A212,reporting4,2,FALSE)))","v":""},{"$f":"IF(ISBLANK(VLOOKUP(A212,reporting4,3,FALSE)),\"\",IF(ISNA(VLOOKUP(A212,reporting4,3,FALSE)),\"\",VLOOKUP(A212,reporting4,3,FALSE)))","v":""},{"$f":"IF(ISBLANK(VLOOKUP(A212,reporting4,4,FALSE)),\"\",IF(ISNA(VLOOKUP(A212,reporting4,4,FALSE)),\"\",VLOOKUP(A212,reporting4,4,FALSE)))","v":""},{"$f":"IF(ISBLANK(VLOOKUP(A212,reportin5,2,FALSE)),\"\",IF(ISNA(VLOOKUP(A212,reporting5,2,FALSE)),\"\",VLOOKUP(A212,reporting5,2,FALSE)))","v":""},{"$f":"IF(ISBLANK(VLOOKUP(A212,reporting5,3,FALSE)),\"\",IF(ISNA(VLOOKUP(A212,reporting5,3,FALSE)),\"\",VLOOKUP(A212,reporting5,3,FALSE)))","v":""},{"$f":"IF(ISBLANK(VLOOKUP(A212,reporting5,4,FALSE)),\"\",IF(ISNA(VLOOKUP(A212,reporting5,4,FALSE)),\"\",VLOOKUP(A212,reporting5,4,FALSE)))","v":""}]
[null,{"$f":"IF(ISBLANK(VLOOKUP(A213,reporting1,2,FALSE)),\"\",IF(ISNA(VLOOKUP(A213,reporting1,2,FALSE)),\"\",VLOOKUP(A213,reporting1,2,FALSE)))","v":""},{"$f":"IF(ISBLANK(VLOOKUP(A213,reporting1,3,FALSE)),\"\",IF(ISNA(VLOOKUP(A213,reporting1,3,FALSE)),\"\",VLOOKUP(A213,reporting1,3,FALSE)))","v":""},{"$f":"IF(ISBLANK(VLOOKUP(A213,reporting1,4,FALSE)),\"\",IF(ISNA(VLOOKUP(A213,reporting1,4,FALSE)),\"\",VLOOKUP(A213,reporting1,4,FALSE)))","v":""},{"$f":"IF(ISBLANK(VLOOKUP(A213,reporting2,2,FALSE)),\"\",IF(ISNA(VLOOKUP(A213,reporting2,2,FALSE)),\"\",VLOOKUP(A213,reporting2,2,FALSE)))","v":""},{"$f":"IF(ISBLANK(VLOOKUP(A213,reporting2,3,FALSE)),\"\",IF(ISNA(VLOOKUP(A213,reporting2,3,FALSE)),\"\",VLOOKUP(A213,reporting2,3,FALSE)))","v":""},{"$f":"IF(ISBLANK(VLOOKUP(A213,reporting2,4,FALSE)),\"\",IF(ISNA(VLOOKUP(A213,reporting2,4,FALSE)),\"\",VLOOKUP(A213,reporting2,4,FALSE)))","v":""},{"$f":"IF(ISBLANK(VLOOKUP(A213,reporting3,2,FALSE)),\"\",IF(ISNA(VLOOKUP(A213,reporting3,2,FALSE)),\"\",VLOOKUP(A213,reporting3,2,FALSE)))","v":""},{"$f":"IF(ISBLANK(VLOOKUP(A213,reporting3,3,FALSE)),\"\",IF(ISNA(VLOOKUP(A213,reporting3,3,FALSE)),\"\",VLOOKUP(A213,reporting3,3,FALSE)))","v":""},{"$f":"IF(ISBLANK(VLOOKUP(A213,reporting3,4,FALSE)),\"\",IF(ISNA(VLOOKUP(A213,reporting3,4,FALSE)),\"\",VLOOKUP(A213,reporting3,4,FALSE)))","v":""},{"$f":"IF(ISBLANK(VLOOKUP(A213,reporting4,2,FALSE)),\"\",IF(ISNA(VLOOKUP(A213,reporting4,2,FALSE)),\"\",VLOOKUP(A213,reporting4,2,FALSE)))","v":""},{"$f":"IF(ISBLANK(VLOOKUP(A213,reporting4,3,FALSE)),\"\",IF(ISNA(VLOOKUP(A213,reporting4,3,FALSE)),\"\",VLOOKUP(A213,reporting4,3,FALSE)))","v":""},{"$f":"IF(ISBLANK(VLOOKUP(A213,reporting4,4,FALSE)),\"\",IF(ISNA(VLOOKUP(A213,reporting4,4,FALSE)),\"\",VLOOKUP(A213,reporting4,4,FALSE)))","v":""},{"$f":"IF(ISBLANK(VLOOKUP(A213,reportin5,2,FALSE)),\"\",IF(ISNA(VLOOKUP(A213,reporting5,2,FALSE)),\"\",VLOOKUP(A213,reporting5,2,FALSE)))","v":""},{"$f":"IF(ISBLANK(VLOOKUP(A213,reporting5,3,FALSE)),\"\",IF(ISNA(VLOOKUP(A213,reporting5,3,FALSE)),\"\",VLOOKUP(A213,reporting5,3,FALSE)))","v":""},{"$f":"IF(ISBLANK(VLOOKUP(A213,reporting5,4,FALSE)),\"\",IF(ISNA(VLOOKUP(A213,reporting5,4,FALSE)),\"\",VLOOKUP(A213,reporting5,4,FALSE)))","v":""}]
[null,{"$f":"IF(ISBLANK(VLOOKUP(A214,reporting1,2,FALSE)),\"\",IF(ISNA(VLOOKUP(A214,reporting1,2,FALSE)),\"\",VLOOKUP(A214,reporting1,2,FALSE)))","v":""},{"$f":"IF(ISBLANK(VLOOKUP(A214,reporting1,3,FALSE)),\"\",IF(ISNA(VLOOKUP(A214,reporting1,3,FALSE)),\"\",VLOOKUP(A214,reporting1,3,FALSE)))","v":""},{"$f":"IF(ISBLANK(VLOOKUP(A214,reporting1,4,FALSE)),\"\",IF(ISNA(VLOOKUP(A214,reporting1,4,FALSE)),\"\",VLOOKUP(A214,reporting1,4,FALSE)))","v":""},{"$f":"IF(ISBLANK(VLOOKUP(A214,reporting2,2,FALSE)),\"\",IF(ISNA(VLOOKUP(A214,reporting2,2,FALSE)),\"\",VLOOKUP(A214,reporting2,2,FALSE)))","v":""},{"$f":"IF(ISBLANK(VLOOKUP(A214,reporting2,3,FALSE)),\"\",IF(ISNA(VLOOKUP(A214,reporting2,3,FALSE)),\"\",VLOOKUP(A214,reporting2,3,FALSE)))","v":""},{"$f":"IF(ISBLANK(VLOOKUP(A214,reporting2,4,FALSE)),\"\",IF(ISNA(VLOOKUP(A214,reporting2,4,FALSE)),\"\",VLOOKUP(A214,reporting2,4,FALSE)))","v":""},{"$f":"IF(ISBLANK(VLOOKUP(A214,reporting3,2,FALSE)),\"\",IF(ISNA(VLOOKUP(A214,reporting3,2,FALSE)),\"\",VLOOKUP(A214,reporting3,2,FALSE)))","v":""},{"$f":"IF(ISBLANK(VLOOKUP(A214,reporting3,3,FALSE)),\"\",IF(ISNA(VLOOKUP(A214,reporting3,3,FALSE)),\"\",VLOOKUP(A214,reporting3,3,FALSE)))","v":""},{"$f":"IF(ISBLANK(VLOOKUP(A214,reporting3,4,FALSE)),\"\",IF(ISNA(VLOOKUP(A214,reporting3,4,FALSE)),\"\",VLOOKUP(A214,reporting3,4,FALSE)))","v":""},{"$f":"IF(ISBLANK(VLOOKUP(A214,reporting4,2,FALSE)),\"\",IF(ISNA(VLOOKUP(A214,reporting4,2,FALSE)),\"\",VLOOKUP(A214,reporting4,2,FALSE)))","v":""},{"$f":"IF(ISBLANK(VLOOKUP(A214,reporting4,3,FALSE)),\"\",IF(ISNA(VLOOKUP(A214,reporting4,3,FALSE)),\"\",VLOOKUP(A214,reporting4,3,FALSE)))","v":""},{"$f":"IF(ISBLANK(VLOOKUP(A214,reporting4,4,FALSE)),\"\",IF(ISNA(VLOOKUP(A214,reporting4,4,FALSE)),\"\",VLOOKUP(A214,reporting4,4,FALSE)))","v":""},{"$f":"IF(ISBLANK(VLOOKUP(A214,reportin5,2,FALSE)),\"\",IF(ISNA(VLOOKUP(A214,reporting5,2,FALSE)),\"\",VLOOKUP(A214,reporting5,2,FALSE)))","v":""},{"$f":"IF(ISBLANK(VLOOKUP(A214,reporting5,3,FALSE)),\"\",IF(ISNA(VLOOKUP(A214,reporting5,3,FALSE)),\"\",VLOOKUP(A214,reporting5,3,FALSE)))","v":""},{"$f":"IF(ISBLANK(VLOOKUP(A214,reporting5,4,FALSE)),\"\",IF(ISNA(VLOOKUP(A214,reporting5,4,FALSE)),\"\",VLOOKUP(A214,reporting5,4,FALSE)))","v":""}]
[null,{"$f":"IF(ISBLANK(VLOOKUP(A215,reporting1,2,FALSE)),\"\",IF(ISNA(VLOOKUP(A215,reporting1,2,FALSE)),\"\",VLOOKUP(A215,reporting1,2,FALSE)))","v":""},{"$f":"IF(ISBLANK(VLOOKUP(A215,reporting1,3,FALSE)),\"\",IF(ISNA(VLOOKUP(A215,reporting1,3,FALSE)),\"\",VLOOKUP(A215,reporting1,3,FALSE)))","v":""},{"$f":"IF(ISBLANK(VLOOKUP(A215,reporting1,4,FALSE)),\"\",IF(ISNA(VLOOKUP(A215,reporting1,4,FALSE)),\"\",VLOOKUP(A215,reporting1,4,FALSE)))","v":""},{"$f":"IF(ISBLANK(VLOOKUP(A215,reporting2,2,FALSE)),\"\",IF(ISNA(VLOOKUP(A215,reporting2,2,FALSE)),\"\",VLOOKUP(A215,reporting2,2,FALSE)))","v":""},{"$f":"IF(ISBLANK(VLOOKUP(A215,reporting2,3,FALSE)),\"\",IF(ISNA(VLOOKUP(A215,reporting2,3,FALSE)),\"\",VLOOKUP(A215,reporting2,3,FALSE)))","v":""},{"$f":"IF(ISBLANK(VLOOKUP(A215,reporting2,4,FALSE)),\"\",IF(ISNA(VLOOKUP(A215,reporting2,4,FALSE)),\"\",VLOOKUP(A215,reporting2,4,FALSE)))","v":""},{"$f":"IF(ISBLANK(VLOOKUP(A215,reporting3,2,FALSE)),\"\",IF(ISNA(VLOOKUP(A215,reporting3,2,FALSE)),\"\",VLOOKUP(A215,reporting3,2,FALSE)))","v":""},{"$f":"IF(ISBLANK(VLOOKUP(A215,reporting3,3,FALSE)),\"\",IF(ISNA(VLOOKUP(A215,reporting3,3,FALSE)),\"\",VLOOKUP(A215,reporting3,3,FALSE)))","v":""},{"$f":"IF(ISBLANK(VLOOKUP(A215,reporting3,4,FALSE)),\"\",IF(ISNA(VLOOKUP(A215,reporting3,4,FALSE)),\"\",VLOOKUP(A215,reporting3,4,FALSE)))","v":""},{"$f":"IF(ISBLANK(VLOOKUP(A215,reporting4,2,FALSE)),\"\",IF(ISNA(VLOOKUP(A215,reporting4,2,FALSE)),\"\",VLOOKUP(A215,reporting4,2,FALSE)))","v":""},{"$f":"IF(ISBLANK(VLOOKUP(A215,reporting4,3,FALSE)),\"\",IF(ISNA(VLOOKUP(A215,reporting4,3,FALSE)),\"\",VLOOKUP(A215,reporting4,3,FALSE)))","v":""},{"$f":"IF(ISBLANK(VLOOKUP(A215,reporting4,4,FALSE)),\"\",IF(ISNA(VLOOKUP(A215,reporting4,4,FALSE)),\"\",VLOOKUP(A215,reporting4,4,FALSE)))","v":""},{"$f":"IF(ISBLANK(VLOOKUP(A215,reportin5,2,FALSE)),\"\",IF(ISNA(VLOOKUP(A215,reporting5,2,FALSE)),\"\",VLOOKUP(A215,reporting5,2,FALSE)))","v":""},{"$f":"IF(ISBLANK(VLOOKUP(A215,reporting5,3,FALSE)),\"\",IF(ISNA(VLOOKUP(A215,reporting5,3,FALSE)),\"\",VLOOKUP(A215,reporting5,3,FALSE)))","v":""},{"$f":"IF(ISBLANK(VLOOKUP(A215,reporting5,4,FALSE)),\"\",IF(ISNA(VLOOKUP(A215,reporting5,4,FALSE)),\"\",VLOOKUP(A215,reporting5,4,FALSE)))","v":""}]
[null,{"$f":"IF(ISBLANK(VLOOKUP(A216,reporting1,2,FALSE)),\"\",IF(ISNA(VLOOKUP(A216,reporting1,2,FALSE)),\"\",VLOOKUP(A216,reporting1,2,FALSE)))","v":""},{"$f":"IF(ISBLANK(VLOOKUP(A216,reporting1,3,FALSE)),\"\",IF(ISNA(VLOOKUP(A216,reporting1,3,FALSE)),\"\",VLOOKUP(A216,reporting1,3,FALSE)))","v":""},{"$f":"IF(ISBLANK(VLOOKUP(A216,reporting1,4,FALSE)),\"\",IF(ISNA(VLOOKUP(A216,reporting1,4,FALSE)),\"\",VLOOKUP(A216,reporting1,4,FALSE)))","v":""},{"$f":"IF(ISBLANK(VLOOKUP(A216,reporting2,2,FALSE)),\"\",IF(ISNA(VLOOKUP(A216,reporting2,2,FALSE)),\"\",VLOOKUP(A216,reporting2,2,FALSE)))","v":""},{"$f":"IF(ISBLANK(VLOOKUP(A216,reporting2,3,FALSE)),\"\",IF(ISNA(VLOOKUP(A216,reporting2,3,FALSE)),\"\",VLOOKUP(A216,reporting2,3,FALSE)))","v":""},{"$f":"IF(ISBLANK(VLOOKUP(A216,reporting2,4,FALSE)),\"\",IF(ISNA(VLOOKUP(A216,reporting2,4,FALSE)),\"\",VLOOKUP(A216,reporting2,4,FALSE)))","v":""},{"$f":"IF(ISBLANK(VLOOKUP(A216,reporting3,2,FALSE)),\"\",IF(ISNA(VLOOKUP(A216,reporting3,2,FALSE)),\"\",VLOOKUP(A216,reporting3,2,FALSE)))","v":""},{"$f":"IF(ISBLANK(VLOOKUP(A216,reporting3,3,FALSE)),\"\",IF(ISNA(VLOOKUP(A216,reporting3,3,FALSE)),\"\",VLOOKUP(A216,reporting3,3,FALSE)))","v":""},{"$f":"IF(ISBLANK(VLOOKUP(A216,reporting3,4,FALSE)),\"\",IF(ISNA(VLOOKUP(A216,reporting3,4,FALSE)),\"\",VLOOKUP(A216,reporting3,4,FALSE)))","v":""},{"$f":"IF(ISBLANK(VLOOKUP(A216,reporting4,2,FALSE)),\"\",IF(ISNA(VLOOKUP(A216,reporting4,2,FALSE)),\"\",VLOOKUP(A216,reporting4,2,FALSE)))","v":""},{"$f":"IF(ISBLANK(VLOOKUP(A216,reporting4,3,FALSE)),\"\",IF(ISNA(VLOOKUP(A216,reporting4,3,FALSE)),\"\",VLOOKUP(A216,reporting4,3,FALSE)))","v":""},{"$f":"IF(ISBLANK(VLOOKUP(A216,reporting4,4,FALSE)),\"\",IF(ISNA(VLOOKUP(A216,reporting4,4,FALSE)),\"\",VLOOKUP(A216,reporting4,4,FALSE)))","v":""},{"$f":"IF(ISBLANK(VLOOKUP(A216,reportin5,2,FALSE)),\"\",IF(ISNA(VLOOKUP(A216,reporting5,2,FALSE)),\"\",VLOOKUP(A216,reporting5,2,FALSE)))","v":""},{"$f":"IF(ISBLANK(VLOOKUP(A216,reporting5,3,FALSE)),\"\",IF(ISNA(VLOOKUP(A216,reporting5,3,FALSE)),\"\",VLOOKUP(A216,reporting5,3,FALSE)))","v":""},{"$f":"IF(ISBLANK(VLOOKUP(A216,reporting5,4,FALSE)),\"\",IF(ISNA(VLOOKUP(A216,reporting5,4,FALSE)),\"\",VLOOKUP(A216,reporting5,4,FALSE)))","v":""}]
[null,{"$f":"IF(ISBLANK(VLOOKUP(A217,reporting1,2,FALSE)),\"\",IF(ISNA(VLOOKUP(A217,reporting1,2,FALSE)),\"\",VLOOKUP(A217,reporting1,2,FALSE)))","v":""},{"$f":"IF(ISBLANK(VLOOKUP(A217,reporting1,3,FALSE)),\"\",IF(ISNA(VLOOKUP(A217,reporting1,3,FALSE)),\"\",VLOOKUP(A217,reporting1,3,FALSE)))","v":""},{"$f":"IF(ISBLANK(VLOOKUP(A217,reporting1,4,FALSE)),\"\",IF(ISNA(VLOOKUP(A217,reporting1,4,FALSE)),\"\",VLOOKUP(A217,reporting1,4,FALSE)))","v":""},{"$f":"IF(ISBLANK(VLOOKUP(A217,reporting2,2,FALSE)),\"\",IF(ISNA(VLOOKUP(A217,reporting2,2,FALSE)),\"\",VLOOKUP(A217,reporting2,2,FALSE)))","v":""},{"$f":"IF(ISBLANK(VLOOKUP(A217,reporting2,3,FALSE)),\"\",IF(ISNA(VLOOKUP(A217,reporting2,3,FALSE)),\"\",VLOOKUP(A217,reporting2,3,FALSE)))","v":""},{"$f":"IF(ISBLANK(VLOOKUP(A217,reporting2,4,FALSE)),\"\",IF(ISNA(VLOOKUP(A217,reporting2,4,FALSE)),\"\",VLOOKUP(A217,reporting2,4,FALSE)))","v":""},{"$f":"IF(ISBLANK(VLOOKUP(A217,reporting3,2,FALSE)),\"\",IF(ISNA(VLOOKUP(A217,reporting3,2,FALSE)),\"\",VLOOKUP(A217,reporting3,2,FALSE)))","v":""},{"$f":"IF(ISBLANK(VLOOKUP(A217,reporting3,3,FALSE)),\"\",IF(ISNA(VLOOKUP(A217,reporting3,3,FALSE)),\"\",VLOOKUP(A217,reporting3,3,FALSE)))","v":""},{"$f":"IF(ISBLANK(VLOOKUP(A217,reporting3,4,FALSE)),\"\",IF(ISNA(VLOOKUP(A217,reporting3,4,FALSE)),\"\",VLOOKUP(A217,reporting3,4,FALSE)))","v":""},{"$f":"IF(ISBLANK(VLOOKUP(A217,reporting4,2,FALSE)),\"\",IF(ISNA(VLOOKUP(A217,reporting4,2,FALSE)),\"\",VLOOKUP(A217,reporting4,2,FALSE)))","v":""},{"$f":"IF(ISBLANK(VLOOKUP(A217,reporting4,3,FALSE)),\"\",IF(ISNA(VLOOKUP(A217,reporting4,3,FALSE)),\"\",VLOOKUP(A217,reporting4,3,FALSE)))","v":""},{"$f":"IF(ISBLANK(VLOOKUP(A217,reporting4,4,FALSE)),\"\",IF(ISNA(VLOOKUP(A217,reporting4,4,FALSE)),\"\",VLOOKUP(A217,reporting4,4,FALSE)))","v":""},{"$f":"IF(ISBLANK(VLOOKUP(A217,reportin5,2,FALSE)),\"\",IF(ISNA(VLOOKUP(A217,reporting5,2,FALSE)),\"\",VLOOKUP(A217,reporting5,2,FALSE)))","v":""},{"$f":"IF(ISBLANK(VLOOKUP(A217,reporting5,3,FALSE)),\"\",IF(ISNA(VLOOKUP(A217,reporting5,3,FALSE)),\"\",VLOOKUP(A217,reporting5,3,FALSE)))","v":""},{"$f":"IF(ISBLANK(VLOOKUP(A217,reporting5,4,FALSE)),\"\",IF(ISNA(VLOOKUP(A217,reporting5,4,FALSE)),\"\",VLOOKUP(A217,reporting5,4,FALSE)))","v":""}]
[null,{"$f":"IF(ISBLANK(VLOOKUP(A218,reporting1,2,FALSE)),\"\",IF(ISNA(VLOOKUP(A218,reporting1,2,FALSE)),\"\",VLOOKUP(A218,reporting1,2,FALSE)))","v":""},{"$f":"IF(ISBLANK(VLOOKUP(A218,reporting1,3,FALSE)),\"\",IF(ISNA(VLOOKUP(A218,reporting1,3,FALSE)),\"\",VLOOKUP(A218,reporting1,3,FALSE)))","v":""},{"$f":"IF(ISBLANK(VLOOKUP(A218,reporting1,4,FALSE)),\"\",IF(ISNA(VLOOKUP(A218,reporting1,4,FALSE)),\"\",VLOOKUP(A218,reporting1,4,FALSE)))","v":""},{"$f":"IF(ISBLANK(VLOOKUP(A218,reporting2,2,FALSE)),\"\",IF(ISNA(VLOOKUP(A218,reporting2,2,FALSE)),\"\",VLOOKUP(A218,reporting2,2,FALSE)))","v":""},{"$f":"IF(ISBLANK(VLOOKUP(A218,reporting2,3,FALSE)),\"\",IF(ISNA(VLOOKUP(A218,reporting2,3,FALSE)),\"\",VLOOKUP(A218,reporting2,3,FALSE)))","v":""},{"$f":"IF(ISBLANK(VLOOKUP(A218,reporting2,4,FALSE)),\"\",IF(ISNA(VLOOKUP(A218,reporting2,4,FALSE)),\"\",VLOOKUP(A218,reporting2,4,FALSE)))","v":""},{"$f":"IF(ISBLANK(VLOOKUP(A218,reporting3,2,FALSE)),\"\",IF(ISNA(VLOOKUP(A218,reporting3,2,FALSE)),\"\",VLOOKUP(A218,reporting3,2,FALSE)))","v":""},{"$f":"IF(ISBLANK(VLOOKUP(A218,reporting3,3,FALSE)),\"\",IF(ISNA(VLOOKUP(A218,reporting3,3,FALSE)),\"\",VLOOKUP(A218,reporting3,3,FALSE)))","v":""},{"$f":"IF(ISBLANK(VLOOKUP(A218,reporting3,4,FALSE)),\"\",IF(ISNA(VLOOKUP(A218,reporting3,4,FALSE)),\"\",VLOOKUP(A218,reporting3,4,FALSE)))","v":""},{"$f":"IF(ISBLANK(VLOOKUP(A218,reporting4,2,FALSE)),\"\",IF(ISNA(VLOOKUP(A218,reporting4,2,FALSE)),\"\",VLOOKUP(A218,reporting4,2,FALSE)))","v":""},{"$f":"IF(ISBLANK(VLOOKUP(A218,reporting4,3,FALSE)),\"\",IF(ISNA(VLOOKUP(A218,reporting4,3,FALSE)),\"\",VLOOKUP(A218,reporting4,3,FALSE)))","v":""},{"$f":"IF(ISBLANK(VLOOKUP(A218,reporting4,4,FALSE)),\"\",IF(ISNA(VLOOKUP(A218,reporting4,4,FALSE)),\"\",VLOOKUP(A218,reporting4,4,FALSE)))","v":""},{"$f":"IF(ISBLANK(VLOOKUP(A218,reportin5,2,FALSE)),\"\",IF(ISNA(VLOOKUP(A218,reporting5,2,FALSE)),\"\",VLOOKUP(A218,reporting5,2,FALSE)))","v":""},{"$f":"IF(ISBLANK(VLOOKUP(A218,reporting5,3,FALSE)),\"\",IF(ISNA(VLOOKUP(A218,reporting5,3,FALSE)),\"\",VLOOKUP(A218,reporting5,3,FALSE)))","v":""},{"$f":"IF(ISBLANK(VLOOKUP(A218,reporting5,4,FALSE)),\"\",IF(ISNA(VLOOKUP(A218,reporting5,4,FALSE)),\"\",VLOOKUP(A218,reporting5,4,FALSE)))","v":""}]
[null,{"$f":"IF(ISBLANK(VLOOKUP(A219,reporting1,2,FALSE)),\"\",IF(ISNA(VLOOKUP(A219,reporting1,2,FALSE)),\"\",VLOOKUP(A219,reporting1,2,FALSE)))","v":""},{"$f":"IF(ISBLANK(VLOOKUP(A219,reporting1,3,FALSE)),\"\",IF(ISNA(VLOOKUP(A219,reporting1,3,FALSE)),\"\",VLOOKUP(A219,reporting1,3,FALSE)))","v":""},{"$f":"IF(ISBLANK(VLOOKUP(A219,reporting1,4,FALSE)),\"\",IF(ISNA(VLOOKUP(A219,reporting1,4,FALSE)),\"\",VLOOKUP(A219,reporting1,4,FALSE)))","v":""},{"$f":"IF(ISBLANK(VLOOKUP(A219,reporting2,2,FALSE)),\"\",IF(ISNA(VLOOKUP(A219,reporting2,2,FALSE)),\"\",VLOOKUP(A219,reporting2,2,FALSE)))","v":""},{"$f":"IF(ISBLANK(VLOOKUP(A219,reporting2,3,FALSE)),\"\",IF(ISNA(VLOOKUP(A219,reporting2,3,FALSE)),\"\",VLOOKUP(A219,reporting2,3,FALSE)))","v":""},{"$f":"IF(ISBLANK(VLOOKUP(A219,reporting2,4,FALSE)),\"\",IF(ISNA(VLOOKUP(A219,reporting2,4,FALSE)),\"\",VLOOKUP(A219,reporting2,4,FALSE)))","v":""},{"$f":"IF(ISBLANK(VLOOKUP(A219,reporting3,2,FALSE)),\"\",IF(ISNA(VLOOKUP(A219,reporting3,2,FALSE)),\"\",VLOOKUP(A219,reporting3,2,FALSE)))","v":""},{"$f":"IF(ISBLANK(VLOOKUP(A219,reporting3,3,FALSE)),\"\",IF(ISNA(VLOOKUP(A219,reporting3,3,FALSE)),\"\",VLOOKUP(A219,reporting3,3,FALSE)))","v":""},{"$f":"IF(ISBLANK(VLOOKUP(A219,reporting3,4,FALSE)),\"\",IF(ISNA(VLOOKUP(A219,reporting3,4,FALSE)),\"\",VLOOKUP(A219,reporting3,4,FALSE)))","v":""},{"$f":"IF(ISBLANK(VLOOKUP(A219,reporting4,2,FALSE)),\"\",IF(ISNA(VLOOKUP(A219,reporting4,2,FALSE)),\"\",VLOOKUP(A219,reporting4,2,FALSE)))","v":""},{"$f":"IF(ISBLANK(VLOOKUP(A219,reporting4,3,FALSE)),\"\",IF(ISNA(VLOOKUP(A219,reporting4,3,FALSE)),\"\",VLOOKUP(A219,reporting4,3,FALSE)))","v":""},{"$f":"IF(ISBLANK(VLOOKUP(A219,reporting4,4,FALSE)),\"\",IF(ISNA(VLOOKUP(A219,reporting4,4,FALSE)),\"\",VLOOKUP(A219,reporting4,4,FALSE)))","v":""},{"$f":"IF(ISBLANK(VLOOKUP(A219,reportin5,2,FALSE)),\"\",IF(ISNA(VLOOKUP(A219,reporting5,2,FALSE)),\"\",VLOOKUP(A219,reporting5,2,FALSE)))","v":""},{"$f":"IF(ISBLANK(VLOOKUP(A219,reporting5,3,FALSE)),\"\",IF(ISNA(VLOOKUP(A219,reporting5,3,FALSE)),\"\",VLOOKUP(A219,reporting5,3,FALSE)))","v":""},{"$f":"IF(ISBLANK(VLOOKUP(A219,reporting5,4,FALSE)),\"\",IF(ISNA(VLOOKUP(A219,reporting5,4,FALSE)),\"\",VLOOKUP(A219,reporting5,4,FALSE)))","v":""}]
[null,{"$f":"IF(ISBLANK(VLOOKUP(A220,reporting1,2,FALSE)),\"\",IF(ISNA(VLOOKUP(A220,reporting1,2,FALSE)),\"\",VLOOKUP(A220,reporting1,2,FALSE)))","v":""},{"$f":"IF(ISBLANK(VLOOKUP(A220,reporting1,3,FALSE)),\"\",IF(ISNA(VLOOKUP(A220,reporting1,3,FALSE)),\"\",VLOOKUP(A220,reporting1,3,FALSE)))","v":""},{"$f":"IF(ISBLANK(VLOOKUP(A220,reporting1,4,FALSE)),\"\",IF(ISNA(VLOOKUP(A220,reporting1,4,FALSE)),\"\",VLOOKUP(A220,reporting1,4,FALSE)))","v":""},{"$f":"IF(ISBLANK(VLOOKUP(A220,reporting2,2,FALSE)),\"\",IF(ISNA(VLOOKUP(A220,reporting2,2,FALSE)),\"\",VLOOKUP(A220,reporting2,2,FALSE)))","v":""},{"$f":"IF(ISBLANK(VLOOKUP(A220,reporting2,3,FALSE)),\"\",IF(ISNA(VLOOKUP(A220,reporting2,3,FALSE)),\"\",VLOOKUP(A220,reporting2,3,FALSE)))","v":""},{"$f":"IF(ISBLANK(VLOOKUP(A220,reporting2,4,FALSE)),\"\",IF(ISNA(VLOOKUP(A220,reporting2,4,FALSE)),\"\",VLOOKUP(A220,reporting2,4,FALSE)))","v":""},{"$f":"IF(ISBLANK(VLOOKUP(A220,reporting3,2,FALSE)),\"\",IF(ISNA(VLOOKUP(A220,reporting3,2,FALSE)),\"\",VLOOKUP(A220,reporting3,2,FALSE)))","v":""},{"$f":"IF(ISBLANK(VLOOKUP(A220,reporting3,3,FALSE)),\"\",IF(ISNA(VLOOKUP(A220,reporting3,3,FALSE)),\"\",VLOOKUP(A220,reporting3,3,FALSE)))","v":""},{"$f":"IF(ISBLANK(VLOOKUP(A220,reporting3,4,FALSE)),\"\",IF(ISNA(VLOOKUP(A220,reporting3,4,FALSE)),\"\",VLOOKUP(A220,reporting3,4,FALSE)))","v":""},{"$f":"IF(ISBLANK(VLOOKUP(A220,reporting4,2,FALSE)),\"\",IF(ISNA(VLOOKUP(A220,reporting4,2,FALSE)),\"\",VLOOKUP(A220,reporting4,2,FALSE)))","v":""},{"$f":"IF(ISBLANK(VLOOKUP(A220,reporting4,3,FALSE)),\"\",IF(ISNA(VLOOKUP(A220,reporting4,3,FALSE)),\"\",VLOOKUP(A220,reporting4,3,FALSE)))","v":""},{"$f":"IF(ISBLANK(VLOOKUP(A220,reporting4,4,FALSE)),\"\",IF(ISNA(VLOOKUP(A220,reporting4,4,FALSE)),\"\",VLOOKUP(A220,reporting4,4,FALSE)))","v":""},{"$f":"IF(ISBLANK(VLOOKUP(A220,reportin5,2,FALSE)),\"\",IF(ISNA(VLOOKUP(A220,reporting5,2,FALSE)),\"\",VLOOKUP(A220,reporting5,2,FALSE)))","v":""},{"$f":"IF(ISBLANK(VLOOKUP(A220,reporting5,3,FALSE)),\"\",IF(ISNA(VLOOKUP(A220,reporting5,3,FALSE)),\"\",VLOOKUP(A220,reporting5,3,FALSE)))","v":""},{"$f":"IF(ISBLANK(VLOOKUP(A220,reporting5,4,FALSE)),\"\",IF(ISNA(VLOOKUP(A220,reporting5,4,FALSE)),\"\",VLOOKUP(A220,reporting5,4,FALSE)))","v":""}]
[null,{"$f":"IF(ISBLANK(VLOOKUP(A221,reporting1,2,FALSE)),\"\",IF(ISNA(VLOOKUP(A221,reporting1,2,FALSE)),\"\",VLOOKUP(A221,reporting1,2,FALSE)))","v":""},{"$f":"IF(ISBLANK(VLOOKUP(A221,reporting1,3,FALSE)),\"\",IF(ISNA(VLOOKUP(A221,reporting1,3,FALSE)),\"\",VLOOKUP(A221,reporting1,3,FALSE)))","v":""},{"$f":"IF(ISBLANK(VLOOKUP(A221,reporting1,4,FALSE)),\"\",IF(ISNA(VLOOKUP(A221,reporting1,4,FALSE)),\"\",VLOOKUP(A221,reporting1,4,FALSE)))","v":""},{"$f":"IF(ISBLANK(VLOOKUP(A221,reporting2,2,FALSE)),\"\",IF(ISNA(VLOOKUP(A221,reporting2,2,FALSE)),\"\",VLOOKUP(A221,reporting2,2,FALSE)))","v":""},{"$f":"IF(ISBLANK(VLOOKUP(A221,reporting2,3,FALSE)),\"\",IF(ISNA(VLOOKUP(A221,reporting2,3,FALSE)),\"\",VLOOKUP(A221,reporting2,3,FALSE)))","v":""},{"$f":"IF(ISBLANK(VLOOKUP(A221,reporting2,4,FALSE)),\"\",IF(ISNA(VLOOKUP(A221,reporting2,4,FALSE)),\"\",VLOOKUP(A221,reporting2,4,FALSE)))","v":""},{"$f":"IF(ISBLANK(VLOOKUP(A221,reporting3,2,FALSE)),\"\",IF(ISNA(VLOOKUP(A221,reporting3,2,FALSE)),\"\",VLOOKUP(A221,reporting3,2,FALSE)))","v":""},{"$f":"IF(ISBLANK(VLOOKUP(A221,reporting3,3,FALSE)),\"\",IF(ISNA(VLOOKUP(A221,reporting3,3,FALSE)),\"\",VLOOKUP(A221,reporting3,3,FALSE)))","v":""},{"$f":"IF(ISBLANK(VLOOKUP(A221,reporting3,4,FALSE)),\"\",IF(ISNA(VLOOKUP(A221,reporting3,4,FALSE)),\"\",VLOOKUP(A221,reporting3,4,FALSE)))","v":""},{"$f":"IF(ISBLANK(VLOOKUP(A221,reporting4,2,FALSE)),\"\",IF(ISNA(VLOOKUP(A221,reporting4,2,FALSE)),\"\",VLOOKUP(A221,reporting4,2,FALSE)))","v":""},{"$f":"IF(ISBLANK(VLOOKUP(A221,reporting4,3,FALSE)),\"\",IF(ISNA(VLOOKUP(A221,reporting4,3,FALSE)),\"\",VLOOKUP(A221,reporting4,3,FALSE)))","v":""},{"$f":"IF(ISBLANK(VLOOKUP(A221,reporting4,4,FALSE)),\"\",IF(ISNA(VLOOKUP(A221,reporting4,4,FALSE)),\"\",VLOOKUP(A221,reporting4,4,FALSE)))","v":""},{"$f":"IF(ISBLANK(VLOOKUP(A221,reportin5,2,FALSE)),\"\",IF(ISNA(VLOOKUP(A221,reporting5,2,FALSE)),\"\",VLOOKUP(A221,reporting5,2,FALSE)))","v":""},{"$f":"IF(ISBLANK(VLOOKUP(A221,reporting5,3,FALSE)),\"\",IF(ISNA(VLOOKUP(A221,reporting5,3,FALSE)),\"\",VLOOKUP(A221,reporting5,3,FALSE)))","v":""},{"$f":"IF(ISBLANK(VLOOKUP(A221,reporting5,4,FALSE)),\"\",IF(ISNA(VLOOKUP(A221,reporting5,4,FALSE)),\"\",VLOOKUP(A221,reporting5,4,FALSE)))","v":""}]
[null,{"$f":"IF(ISBLANK(VLOOKUP(A222,reporting1,2,FALSE)),\"\",IF(ISNA(VLOOKUP(A222,reporting1,2,FALSE)),\"\",VLOOKUP(A222,reporting1,2,FALSE)))","v":""},{"$f":"IF(ISBLANK(VLOOKUP(A222,reporting1,3,FALSE)),\"\",IF(ISNA(VLOOKUP(A222,reporting1,3,FALSE)),\"\",VLOOKUP(A222,reporting1,3,FALSE)))","v":""},{"$f":"IF(ISBLANK(VLOOKUP(A222,reporting1,4,FALSE)),\"\",IF(ISNA(VLOOKUP(A222,reporting1,4,FALSE)),\"\",VLOOKUP(A222,reporting1,4,FALSE)))","v":""},{"$f":"IF(ISBLANK(VLOOKUP(A222,reporting2,2,FALSE)),\"\",IF(ISNA(VLOOKUP(A222,reporting2,2,FALSE)),\"\",VLOOKUP(A222,reporting2,2,FALSE)))","v":""},{"$f":"IF(ISBLANK(VLOOKUP(A222,reporting2,3,FALSE)),\"\",IF(ISNA(VLOOKUP(A222,reporting2,3,FALSE)),\"\",VLOOKUP(A222,reporting2,3,FALSE)))","v":""},{"$f":"IF(ISBLANK(VLOOKUP(A222,reporting2,4,FALSE)),\"\",IF(ISNA(VLOOKUP(A222,reporting2,4,FALSE)),\"\",VLOOKUP(A222,reporting2,4,FALSE)))","v":""},{"$f":"IF(ISBLANK(VLOOKUP(A222,reporting3,2,FALSE)),\"\",IF(ISNA(VLOOKUP(A222,reporting3,2,FALSE)),\"\",VLOOKUP(A222,reporting3,2,FALSE)))","v":""},{"$f":"IF(ISBLANK(VLOOKUP(A222,reporting3,3,FALSE)),\"\",IF(ISNA(VLOOKUP(A222,reporting3,3,FALSE)),\"\",VLOOKUP(A222,reporting3,3,FALSE)))","v":""},{"$f":"IF(ISBLANK(VLOOKUP(A222,reporting3,4,FALSE)),\"\",IF(ISNA(VLOOKUP(A222,reporting3,4,FALSE)),\"\",VLOOKUP(A222,reporting3,4,FALSE)))","v":""},{"$f":"IF(ISBLANK(VLOOKUP(A222,reporting4,2,FALSE)),\"\",IF(ISNA(VLOOKUP(A222,reporting4,2,FALSE)),\"\",VLOOKUP(A222,reporting4,2,FALSE)))","v":""},{"$f":"IF(ISBLANK(VLOOKUP(A222,reporting4,3,FALSE)),\"\",IF(ISNA(VLOOKUP(A222,reporting4,3,FALSE)),\"\",VLOOKUP(A222,reporting4,3,FALSE)))","v":""},{"$f":"IF(ISBLANK(VLOOKUP(A222,reporting4,4,FALSE)),\"\",IF(ISNA(VLOOKUP(A222,reporting4,4,FALSE)),\"\",VLOOKUP(A222,reporting4,4,FALSE)))","v":""},{"$f":"IF(ISBLANK(VLOOKUP(A222,reportin5,2,FALSE)),\"\",IF(ISNA(VLOOKUP(A222,reporting5,2,FALSE)),\"\",VLOOKUP(A222,reporting5,2,FALSE)))","v":""},{"$f":"IF(ISBLANK(VLOOKUP(A222,reporting5,3,FALSE)),\"\",IF(ISNA(VLOOKUP(A222,reporting5,3,FALSE)),\"\",VLOOKUP(A222,reporting5,3,FALSE)))","v":""},{"$f":"IF(ISBLANK(VLOOKUP(A222,reporting5,4,FALSE)),\"\",IF(ISNA(VLOOKUP(A222,reporting5,4,FALSE)),\"\",VLOOKUP(A222,reporting5,4,FALSE)))","v":""}]
[null,{"$f":"IF(ISBLANK(VLOOKUP(A223,reporting1,2,FALSE)),\"\",IF(ISNA(VLOOKUP(A223,reporting1,2,FALSE)),\"\",VLOOKUP(A223,reporting1,2,FALSE)))","v":""},{"$f":"IF(ISBLANK(VLOOKUP(A223,reporting1,3,FALSE)),\"\",IF(ISNA(VLOOKUP(A223,reporting1,3,FALSE)),\"\",VLOOKUP(A223,reporting1,3,FALSE)))","v":""},{"$f":"IF(ISBLANK(VLOOKUP(A223,reporting1,4,FALSE)),\"\",IF(ISNA(VLOOKUP(A223,reporting1,4,FALSE)),\"\",VLOOKUP(A223,reporting1,4,FALSE)))","v":""},{"$f":"IF(ISBLANK(VLOOKUP(A223,reporting2,2,FALSE)),\"\",IF(ISNA(VLOOKUP(A223,reporting2,2,FALSE)),\"\",VLOOKUP(A223,reporting2,2,FALSE)))","v":""},{"$f":"IF(ISBLANK(VLOOKUP(A223,reporting2,3,FALSE)),\"\",IF(ISNA(VLOOKUP(A223,reporting2,3,FALSE)),\"\",VLOOKUP(A223,reporting2,3,FALSE)))","v":""},{"$f":"IF(ISBLANK(VLOOKUP(A223,reporting2,4,FALSE)),\"\",IF(ISNA(VLOOKUP(A223,reporting2,4,FALSE)),\"\",VLOOKUP(A223,reporting2,4,FALSE)))","v":""},{"$f":"IF(ISBLANK(VLOOKUP(A223,reporting3,2,FALSE)),\"\",IF(ISNA(VLOOKUP(A223,reporting3,2,FALSE)),\"\",VLOOKUP(A223,reporting3,2,FALSE)))","v":""},{"$f":"IF(ISBLANK(VLOOKUP(A223,reporting3,3,FALSE)),\"\",IF(ISNA(VLOOKUP(A223,reporting3,3,FALSE)),\"\",VLOOKUP(A223,reporting3,3,FALSE)))","v":""},{"$f":"IF(ISBLANK(VLOOKUP(A223,reporting3,4,FALSE)),\"\",IF(ISNA(VLOOKUP(A223,reporting3,4,FALSE)),\"\",VLOOKUP(A223,reporting3,4,FALSE)))","v":""},{"$f":"IF(ISBLANK(VLOOKUP(A223,reporting4,2,FALSE)),\"\",IF(ISNA(VLOOKUP(A223,reporting4,2,FALSE)),\"\",VLOOKUP(A223,reporting4,2,FALSE)))","v":""},{"$f":"IF(ISBLANK(VLOOKUP(A223,reporting4,3,FALSE)),\"\",IF(ISNA(VLOOKUP(A223,reporting4,3,FALSE)),\"\",VLOOKUP(A223,reporting4,3,FALSE)))","v":""},{"$f":"IF(ISBLANK(VLOOKUP(A223,reporting4,4,FALSE)),\"\",IF(ISNA(VLOOKUP(A223,reporting4,4,FALSE)),\"\",VLOOKUP(A223,reporting4,4,FALSE)))","v":""},{"$f":"IF(ISBLANK(VLOOKUP(A223,reportin5,2,FALSE)),\"\",IF(ISNA(VLOOKUP(A223,reporting5,2,FALSE)),\"\",VLOOKUP(A223,reporting5,2,FALSE)))","v":""},{"$f":"IF(ISBLANK(VLOOKUP(A223,reporting5,3,FALSE)),\"\",IF(ISNA(VLOOKUP(A223,reporting5,3,FALSE)),\"\",VLOOKUP(A223,reporting5,3,FALSE)))","v":""},{"$f":"IF(ISBLANK(VLOOKUP(A223,reporting5,4,FALSE)),\"\",IF(ISNA(VLOOKUP(A223,reporting5,4,FALSE)),\"\",VLOOKUP(A223,reporting5,4,FALSE)))","v":""}]
[null,{"$f":"IF(ISBLANK(VLOOKUP(A224,reporting1,2,FALSE)),\"\",IF(ISNA(VLOOKUP(A224,reporting1,2,FALSE)),\"\",VLOOKUP(A224,reporting1,2,FALSE)))","v":""},{"$f":"IF(ISBLANK(VLOOKUP(A224,reporting1,3,FALSE)),\"\",IF(ISNA(VLOOKUP(A224,reporting1,3,FALSE)),\"\",VLOOKUP(A224,reporting1,3,FALSE)))","v":""},{"$f":"IF(ISBLANK(VLOOKUP(A224,reporting1,4,FALSE)),\"\",IF(ISNA(VLOOKUP(A224,reporting1,4,FALSE)),\"\",VLOOKUP(A224,reporting1,4,FALSE)))","v":""},{"$f":"IF(ISBLANK(VLOOKUP(A224,reporting2,2,FALSE)),\"\",IF(ISNA(VLOOKUP(A224,reporting2,2,FALSE)),\"\",VLOOKUP(A224,reporting2,2,FALSE)))","v":""},{"$f":"IF(ISBLANK(VLOOKUP(A224,reporting2,3,FALSE)),\"\",IF(ISNA(VLOOKUP(A224,reporting2,3,FALSE)),\"\",VLOOKUP(A224,reporting2,3,FALSE)))","v":""},{"$f":"IF(ISBLANK(VLOOKUP(A224,reporting2,4,FALSE)),\"\",IF(ISNA(VLOOKUP(A224,reporting2,4,FALSE)),\"\",VLOOKUP(A224,reporting2,4,FALSE)))","v":""},{"$f":"IF(ISBLANK(VLOOKUP(A224,reporting3,2,FALSE)),\"\",IF(ISNA(VLOOKUP(A224,reporting3,2,FALSE)),\"\",VLOOKUP(A224,reporting3,2,FALSE)))","v":""},{"$f":"IF(ISBLANK(VLOOKUP(A224,reporting3,3,FALSE)),\"\",IF(ISNA(VLOOKUP(A224,reporting3,3,FALSE)),\"\",VLOOKUP(A224,reporting3,3,FALSE)))","v":""},{"$f":"IF(ISBLANK(VLOOKUP(A224,reporting3,4,FALSE)),\"\",IF(ISNA(VLOOKUP(A224,reporting3,4,FALSE)),\"\",VLOOKUP(A224,reporting3,4,FALSE)))","v":""},{"$f":"IF(ISBLANK(VLOOKUP(A224,reporting4,2,FALSE)),\"\",IF(ISNA(VLOOKUP(A224,reporting4,2,FALSE)),\"\",VLOOKUP(A224,reporting4,2,FALSE)))","v":""},{"$f":"IF(ISBLANK(VLOOKUP(A224,reporting4,3,FALSE)),\"\",IF(ISNA(VLOOKUP(A224,reporting4,3,FALSE)),\"\",VLOOKUP(A224,reporting4,3,FALSE)))","v":""},{"$f":"IF(ISBLANK(VLOOKUP(A224,reporting4,4,FALSE)),\"\",IF(ISNA(VLOOKUP(A224,reporting4,4,FALSE)),\"\",VLOOKUP(A224,reporting4,4,FALSE)))","v":""},{"$f":"IF(ISBLANK(VLOOKUP(A224,reportin5,2,FALSE)),\"\",IF(ISNA(VLOOKUP(A224,reporting5,2,FALSE)),\"\",VLOOKUP(A224,reporting5,2,FALSE)))","v":""},{"$f":"IF(ISBLANK(VLOOKUP(A224,reporting5,3,FALSE)),\"\",IF(ISNA(VLOOKUP(A224,reporting5,3,FALSE)),\"\",VLOOKUP(A224,reporting5,3,FALSE)))","v":""},{"$f":"IF(ISBLANK(VLOOKUP(A224,reporting5,4,FALSE)),\"\",IF(ISNA(VLOOKUP(A224,reporting5,4,FALSE)),\"\",VLOOKUP(A224,reporting5,4,FALSE)))","v":""}]
[null,{"$f":"IF(ISBLANK(VLOOKUP(A225,reporting1,2,FALSE)),\"\",IF(ISNA(VLOOKUP(A225,reporting1,2,FALSE)),\"\",VLOOKUP(A225,reporting1,2,FALSE)))","v":""},{"$f":"IF(ISBLANK(VLOOKUP(A225,reporting1,3,FALSE)),\"\",IF(ISNA(VLOOKUP(A225,reporting1,3,FALSE)),\"\",VLOOKUP(A225,reporting1,3,FALSE)))","v":""},{"$f":"IF(ISBLANK(VLOOKUP(A225,reporting1,4,FALSE)),\"\",IF(ISNA(VLOOKUP(A225,reporting1,4,FALSE)),\"\",VLOOKUP(A225,reporting1,4,FALSE)))","v":""},{"$f":"IF(ISBLANK(VLOOKUP(A225,reporting2,2,FALSE)),\"\",IF(ISNA(VLOOKUP(A225,reporting2,2,FALSE)),\"\",VLOOKUP(A225,reporting2,2,FALSE)))","v":""},{"$f":"IF(ISBLANK(VLOOKUP(A225,reporting2,3,FALSE)),\"\",IF(ISNA(VLOOKUP(A225,reporting2,3,FALSE)),\"\",VLOOKUP(A225,reporting2,3,FALSE)))","v":""},{"$f":"IF(ISBLANK(VLOOKUP(A225,reporting2,4,FALSE)),\"\",IF(ISNA(VLOOKUP(A225,reporting2,4,FALSE)),\"\",VLOOKUP(A225,reporting2,4,FALSE)))","v":""},{"$f":"IF(ISBLANK(VLOOKUP(A225,reporting3,2,FALSE)),\"\",IF(ISNA(VLOOKUP(A225,reporting3,2,FALSE)),\"\",VLOOKUP(A225,reporting3,2,FALSE)))","v":""},{"$f":"IF(ISBLANK(VLOOKUP(A225,reporting3,3,FALSE)),\"\",IF(ISNA(VLOOKUP(A225,reporting3,3,FALSE)),\"\",VLOOKUP(A225,reporting3,3,FALSE)))","v":""},{"$f":"IF(ISBLANK(VLOOKUP(A225,reporting3,4,FALSE)),\"\",IF(ISNA(VLOOKUP(A225,reporting3,4,FALSE)),\"\",VLOOKUP(A225,reporting3,4,FALSE)))","v":""},{"$f":"IF(ISBLANK(VLOOKUP(A225,reporting4,2,FALSE)),\"\",IF(ISNA(VLOOKUP(A225,reporting4,2,FALSE)),\"\",VLOOKUP(A225,reporting4,2,FALSE)))","v":""},{"$f":"IF(ISBLANK(VLOOKUP(A225,reporting4,3,FALSE)),\"\",IF(ISNA(VLOOKUP(A225,reporting4,3,FALSE)),\"\",VLOOKUP(A225,reporting4,3,FALSE)))","v":""},{"$f":"IF(ISBLANK(VLOOKUP(A225,reporting4,4,FALSE)),\"\",IF(ISNA(VLOOKUP(A225,reporting4,4,FALSE)),\"\",VLOOKUP(A225,reporting4,4,FALSE)))","v":""},{"$f":"IF(ISBLANK(VLOOKUP(A225,reportin5,2,FALSE)),\"\",IF(ISNA(VLOOKUP(A225,reporting5,2,FALSE)),\"\",VLOOKUP(A225,reporting5,2,FALSE)))","v":""},{"$f":"IF(ISBLANK(VLOOKUP(A225,reporting5,3,FALSE)),\"\",IF(ISNA(VLOOKUP(A225,reporting5,3,FALSE)),\"\",VLOOKUP(A225,reporting5,3,FALSE)))","v":""},{"$f":"IF(ISBLANK(VLOOKUP(A225,reporting5,4,FALSE)),\"\",IF(ISNA(VLOOKUP(A225,reporting5,4,FALSE)),\"\",VLOOKUP(A225,reporting5,4,FALSE)))","v":""}]
[null,{"$f":"IF(ISBLANK(VLOOKUP(A226,reporting1,2,FALSE)),\"\",IF(ISNA(VLOOKUP(A226,reporting1,2,FALSE)),\"\",VLOOKUP(A226,reporting1,2,FALSE)))","v":""},{"$f":"IF(ISBLANK(VLOOKUP(A226,reporting1,3,FALSE)),\"\",IF(ISNA(VLOOKUP(A226,reporting1,3,FALSE)),\"\",VLOOKUP(A226,reporting1,3,FALSE)))","v":""},{"$f":"IF(ISBLANK(VLOOKUP(A226,reporting1,4,FALSE)),\"\",IF(ISNA(VLOOKUP(A226,reporting1,4,FALSE)),\"\",VLOOKUP(A226,reporting1,4,FALSE)))","v":""},{"$f":"IF(ISBLANK(VLOOKUP(A226,reporting2,2,FALSE)),\"\",IF(ISNA(VLOOKUP(A226,reporting2,2,FALSE)),\"\",VLOOKUP(A226,reporting2,2,FALSE)))","v":""},{"$f":"IF(ISBLANK(VLOOKUP(A226,reporting2,3,FALSE)),\"\",IF(ISNA(VLOOKUP(A226,reporting2,3,FALSE)),\"\",VLOOKUP(A226,reporting2,3,FALSE)))","v":""},{"$f":"IF(ISBLANK(VLOOKUP(A226,reporting2,4,FALSE)),\"\",IF(ISNA(VLOOKUP(A226,reporting2,4,FALSE)),\"\",VLOOKUP(A226,reporting2,4,FALSE)))","v":""},{"$f":"IF(ISBLANK(VLOOKUP(A226,reporting3,2,FALSE)),\"\",IF(ISNA(VLOOKUP(A226,reporting3,2,FALSE)),\"\",VLOOKUP(A226,reporting3,2,FALSE)))","v":""},{"$f":"IF(ISBLANK(VLOOKUP(A226,reporting3,3,FALSE)),\"\",IF(ISNA(VLOOKUP(A226,reporting3,3,FALSE)),\"\",VLOOKUP(A226,reporting3,3,FALSE)))","v":""},{"$f":"IF(ISBLANK(VLOOKUP(A226,reporting3,4,FALSE)),\"\",IF(ISNA(VLOOKUP(A226,reporting3,4,FALSE)),\"\",VLOOKUP(A226,reporting3,4,FALSE)))","v":""},{"$f":"IF(ISBLANK(VLOOKUP(A226,reporting4,2,FALSE)),\"\",IF(ISNA(VLOOKUP(A226,reporting4,2,FALSE)),\"\",VLOOKUP(A226,reporting4,2,FALSE)))","v":""},{"$f":"IF(ISBLANK(VLOOKUP(A226,reporting4,3,FALSE)),\"\",IF(ISNA(VLOOKUP(A226,reporting4,3,FALSE)),\"\",VLOOKUP(A226,reporting4,3,FALSE)))","v":""},{"$f":"IF(ISBLANK(VLOOKUP(A226,reporting4,4,FALSE)),\"\",IF(ISNA(VLOOKUP(A226,reporting4,4,FALSE)),\"\",VLOOKUP(A226,reporting4,4,FALSE)))","v":""},{"$f":"IF(ISBLANK(VLOOKUP(A226,reportin5,2,FALSE)),\"\",IF(ISNA(VLOOKUP(A226,reporting5,2,FALSE)),\"\",VLOOKUP(A226,reporting5,2,FALSE)))","v":""},{"$f":"IF(ISBLANK(VLOOKUP(A226,reporting5,3,FALSE)),\"\",IF(ISNA(VLOOKUP(A226,reporting5,3,FALSE)),\"\",VLOOKUP(A226,reporting5,3,FALSE)))","v":""},{"$f":"IF(ISBLANK(VLOOKUP(A226,reporting5,4,FALSE)),\"\",IF(ISNA(VLOOKUP(A226,reporting5,4,FALSE)),\"\",VLOOKUP(A226,reporting5,4,FALSE)))","v":""}]
[null,{"$f":"IF(ISBLANK(VLOOKUP(A227,reporting1,2,FALSE)),\"\",IF(ISNA(VLOOKUP(A227,reporting1,2,FALSE)),\"\",VLOOKUP(A227,reporting1,2,FALSE)))","v":""},{"$f":"IF(ISBLANK(VLOOKUP(A227,reporting1,3,FALSE)),\"\",IF(ISNA(VLOOKUP(A227,reporting1,3,FALSE)),\"\",VLOOKUP(A227,reporting1,3,FALSE)))","v":""},{"$f":"IF(ISBLANK(VLOOKUP(A227,reporting1,4,FALSE)),\"\",IF(ISNA(VLOOKUP(A227,reporting1,4,FALSE)),\"\",VLOOKUP(A227,reporting1,4,FALSE)))","v":""},{"$f":"IF(ISBLANK(VLOOKUP(A227,reporting2,2,FALSE)),\"\",IF(ISNA(VLOOKUP(A227,reporting2,2,FALSE)),\"\",VLOOKUP(A227,reporting2,2,FALSE)))","v":""},{"$f":"IF(ISBLANK(VLOOKUP(A227,reporting2,3,FALSE)),\"\",IF(ISNA(VLOOKUP(A227,reporting2,3,FALSE)),\"\",VLOOKUP(A227,reporting2,3,FALSE)))","v":""},{"$f":"IF(ISBLANK(VLOOKUP(A227,reporting2,4,FALSE)),\"\",IF(ISNA(VLOOKUP(A227,reporting2,4,FALSE)),\"\",VLOOKUP(A227,reporting2,4,FALSE)))","v":""},{"$f":"IF(ISBLANK(VLOOKUP(A227,reporting3,2,FALSE)),\"\",IF(ISNA(VLOOKUP(A227,reporting3,2,FALSE)),\"\",VLOOKUP(A227,reporting3,2,FALSE)))","v":""},{"$f":"IF(ISBLANK(VLOOKUP(A227,reporting3,3,FALSE)),\"\",IF(ISNA(VLOOKUP(A227,reporting3,3,FALSE)),\"\",VLOOKUP(A227,reporting3,3,FALSE)))","v":""},{"$f":"IF(ISBLANK(VLOOKUP(A227,reporting3,4,FALSE)),\"\",IF(ISNA(VLOOKUP(A227,reporting3,4,FALSE)),\"\",VLOOKUP(A227,reporting3,4,FALSE)))","v":""},{"$f":"IF(ISBLANK(VLOOKUP(A227,reporting4,2,FALSE)),\"\",IF(ISNA(VLOOKUP(A227,reporting4,2,FALSE)),\"\",VLOOKUP(A227,reporting4,2,FALSE)))","v":""},{"$f":"IF(ISBLANK(VLOOKUP(A227,reporting4,3,FALSE)),\"\",IF(ISNA(VLOOKUP(A227,reporting4,3,FALSE)),\"\",VLOOKUP(A227,reporting4,3,FALSE)))","v":""},{"$f":"IF(ISBLANK(VLOOKUP(A227,reporting4,4,FALSE)),\"\",IF(ISNA(VLOOKUP(A227,reporting4,4,FALSE)),\"\",VLOOKUP(A227,reporting4,4,FALSE)))","v":""},{"$f":"IF(ISBLANK(VLOOKUP(A227,reportin5,2,FALSE)),\"\",IF(ISNA(VLOOKUP(A227,reporting5,2,FALSE)),\"\",VLOOKUP(A227,reporting5,2,FALSE)))","v":""},{"$f":"IF(ISBLANK(VLOOKUP(A227,reporting5,3,FALSE)),\"\",IF(ISNA(VLOOKUP(A227,reporting5,3,FALSE)),\"\",VLOOKUP(A227,reporting5,3,FALSE)))","v":""},{"$f":"IF(ISBLANK(VLOOKUP(A227,reporting5,4,FALSE)),\"\",IF(ISNA(VLOOKUP(A227,reporting5,4,FALSE)),\"\",VLOOKUP(A227,reporting5,4,FALSE)))","v":""}]
[null,{"$f":"IF(ISBLANK(VLOOKUP(A228,reporting1,2,FALSE)),\"\",IF(ISNA(VLOOKUP(A228,reporting1,2,FALSE)),\"\",VLOOKUP(A228,reporting1,2,FALSE)))","v":""},{"$f":"IF(ISBLANK(VLOOKUP(A228,reporting1,3,FALSE)),\"\",IF(ISNA(VLOOKUP(A228,reporting1,3,FALSE)),\"\",VLOOKUP(A228,reporting1,3,FALSE)))","v":""},{"$f":"IF(ISBLANK(VLOOKUP(A228,reporting1,4,FALSE)),\"\",IF(ISNA(VLOOKUP(A228,reporting1,4,FALSE)),\"\",VLOOKUP(A228,reporting1,4,FALSE)))","v":""},{"$f":"IF(ISBLANK(VLOOKUP(A228,reporting2,2,FALSE)),\"\",IF(ISNA(VLOOKUP(A228,reporting2,2,FALSE)),\"\",VLOOKUP(A228,reporting2,2,FALSE)))","v":""},{"$f":"IF(ISBLANK(VLOOKUP(A228,reporting2,3,FALSE)),\"\",IF(ISNA(VLOOKUP(A228,reporting2,3,FALSE)),\"\",VLOOKUP(A228,reporting2,3,FALSE)))","v":""},{"$f":"IF(ISBLANK(VLOOKUP(A228,reporting2,4,FALSE)),\"\",IF(ISNA(VLOOKUP(A228,reporting2,4,FALSE)),\"\",VLOOKUP(A228,reporting2,4,FALSE)))","v":""},{"$f":"IF(ISBLANK(VLOOKUP(A228,reporting3,2,FALSE)),\"\",IF(ISNA(VLOOKUP(A228,reporting3,2,FALSE)),\"\",VLOOKUP(A228,reporting3,2,FALSE)))","v":""},{"$f":"IF(ISBLANK(VLOOKUP(A228,reporting3,3,FALSE)),\"\",IF(ISNA(VLOOKUP(A228,reporting3,3,FALSE)),\"\",VLOOKUP(A228,reporting3,3,FALSE)))","v":""},{"$f":"IF(ISBLANK(VLOOKUP(A228,reporting3,4,FALSE)),\"\",IF(ISNA(VLOOKUP(A228,reporting3,4,FALSE)),\"\",VLOOKUP(A228,reporting3,4,FALSE)))","v":""},{"$f":"IF(ISBLANK(VLOOKUP(A228,reporting4,2,FALSE)),\"\",IF(ISNA(VLOOKUP(A228,reporting4,2,FALSE)),\"\",VLOOKUP(A228,reporting4,2,FALSE)))","v":""},{"$f":"IF(ISBLANK(VLOOKUP(A228,reporting4,3,FALSE)),\"\",IF(ISNA(VLOOKUP(A228,reporting4,3,FALSE)),\"\",VLOOKUP(A228,reporting4,3,FALSE)))","v":""},{"$f":"IF(ISBLANK(VLOOKUP(A228,reporting4,4,FALSE)),\"\",IF(ISNA(VLOOKUP(A228,reporting4,4,FALSE)),\"\",VLOOKUP(A228,reporting4,4,FALSE)))","v":""},{"$f":"IF(ISBLANK(VLOOKUP(A228,reportin5,2,FALSE)),\"\",IF(ISNA(VLOOKUP(A228,reporting5,2,FALSE)),\"\",VLOOKUP(A228,reporting5,2,FALSE)))","v":""},{"$f":"IF(ISBLANK(VLOOKUP(A228,reporting5,3,FALSE)),\"\",IF(ISNA(VLOOKUP(A228,reporting5,3,FALSE)),\"\",VLOOKUP(A228,reporting5,3,FALSE)))","v":""},{"$f":"IF(ISBLANK(VLOOKUP(A228,reporting5,4,FALSE)),\"\",IF(ISNA(VLOOKUP(A228,reporting5,4,FALSE)),\"\",VLOOKUP(A228,reporting5,4,FALSE)))","v":""}]
[null,{"$f":"IF(ISBLANK(VLOOKUP(A229,reporting1,2,FALSE)),\"\",IF(ISNA(VLOOKUP(A229,reporting1,2,FALSE)),\"\",VLOOKUP(A229,reporting1,2,FALSE)))","v":""},{"$f":"IF(ISBLANK(VLOOKUP(A229,reporting1,3,FALSE)),\"\",IF(ISNA(VLOOKUP(A229,reporting1,3,FALSE)),\"\",VLOOKUP(A229,reporting1,3,FALSE)))","v":""},{"$f":"IF(ISBLANK(VLOOKUP(A229,reporting1,4,FALSE)),\"\",IF(ISNA(VLOOKUP(A229,reporting1,4,FALSE)),\"\",VLOOKUP(A229,reporting1,4,FALSE)))","v":""},{"$f":"IF(ISBLANK(VLOOKUP(A229,reporting2,2,FALSE)),\"\",IF(ISNA(VLOOKUP(A229,reporting2,2,FALSE)),\"\",VLOOKUP(A229,reporting2,2,FALSE)))","v":""},{"$f":"IF(ISBLANK(VLOOKUP(A229,reporting2,3,FALSE)),\"\",IF(ISNA(VLOOKUP(A229,reporting2,3,FALSE)),\"\",VLOOKUP(A229,reporting2,3,FALSE)))","v":""},{"$f":"IF(ISBLANK(VLOOKUP(A229,reporting2,4,FALSE)),\"\",IF(ISNA(VLOOKUP(A229,reporting2,4,FALSE)),\"\",VLOOKUP(A229,reporting2,4,FALSE)))","v":""},{"$f":"IF(ISBLANK(VLOOKUP(A229,reporting3,2,FALSE)),\"\",IF(ISNA(VLOOKUP(A229,reporting3,2,FALSE)),\"\",VLOOKUP(A229,reporting3,2,FALSE)))","v":""},{"$f":"IF(ISBLANK(VLOOKUP(A229,reporting3,3,FALSE)),\"\",IF(ISNA(VLOOKUP(A229,reporting3,3,FALSE)),\"\",VLOOKUP(A229,reporting3,3,FALSE)))","v":""},{"$f":"IF(ISBLANK(VLOOKUP(A229,reporting3,4,FALSE)),\"\",IF(ISNA(VLOOKUP(A229,reporting3,4,FALSE)),\"\",VLOOKUP(A229,reporting3,4,FALSE)))","v":""},{"$f":"IF(ISBLANK(VLOOKUP(A229,reporting4,2,FALSE)),\"\",IF(ISNA(VLOOKUP(A229,reporting4,2,FALSE)),\"\",VLOOKUP(A229,reporting4,2,FALSE)))","v":""},{"$f":"IF(ISBLANK(VLOOKUP(A229,reporting4,3,FALSE)),\"\",IF(ISNA(VLOOKUP(A229,reporting4,3,FALSE)),\"\",VLOOKUP(A229,reporting4,3,FALSE)))","v":""},{"$f":"IF(ISBLANK(VLOOKUP(A229,reporting4,4,FALSE)),\"\",IF(ISNA(VLOOKUP(A229,reporting4,4,FALSE)),\"\",VLOOKUP(A229,reporting4,4,FALSE)))","v":""},{"$f":"IF(ISBLANK(VLOOKUP(A229,reportin5,2,FALSE)),\"\",IF(ISNA(VLOOKUP(A229,reporting5,2,FALSE)),\"\",VLOOKUP(A229,reporting5,2,FALSE)))","v":""},{"$f":"IF(ISBLANK(VLOOKUP(A229,reporting5,3,FALSE)),\"\",IF(ISNA(VLOOKUP(A229,reporting5,3,FALSE)),\"\",VLOOKUP(A229,reporting5,3,FALSE)))","v":""},{"$f":"IF(ISBLANK(VLOOKUP(A229,reporting5,4,FALSE)),\"\",IF(ISNA(VLOOKUP(A229,reporting5,4,FALSE)),\"\",VLOOKUP(A229,reporting5,4,FALSE)))","v":""}]
[null,{"$f":"IF(ISBLANK(VLOOKUP(A230,reporting1,2,FALSE)),\"\",IF(ISNA(VLOOKUP(A230,reporting1,2,FALSE)),\"\",VLOOKUP(A230,reporting1,2,FALSE)))","v":""},{"$f":"IF(ISBLANK(VLOOKUP(A230,reporting1,3,FALSE)),\"\",IF(ISNA(VLOOKUP(A230,reporting1,3,FALSE)),\"\",VLOOKUP(A230,reporting1,3,FALSE)))","v":""},{"$f":"IF(ISBLANK(VLOOKUP(A230,reporting1,4,FALSE)),\"\",IF(ISNA(VLOOKUP(A230,reporting1,4,FALSE)),\"\",VLOOKUP(A230,reporting1,4,FALSE)))","v":""},{"$f":"IF(ISBLANK(VLOOKUP(A230,reporting2,2,FALSE)),\"\",IF(ISNA(VLOOKUP(A230,reporting2,2,FALSE)),\"\",VLOOKUP(A230,reporting2,2,FALSE)))","v":""},{"$f":"IF(ISBLANK(VLOOKUP(A230,reporting2,3,FALSE)),\"\",IF(ISNA(VLOOKUP(A230,reporting2,3,FALSE)),\"\",VLOOKUP(A230,reporting2,3,FALSE)))","v":""},{"$f":"IF(ISBLANK(VLOOKUP(A230,reporting2,4,FALSE)),\"\",IF(ISNA(VLOOKUP(A230,reporting2,4,FALSE)),\"\",VLOOKUP(A230,reporting2,4,FALSE)))","v":""},{"$f":"IF(ISBLANK(VLOOKUP(A230,reporting3,2,FALSE)),\"\",IF(ISNA(VLOOKUP(A230,reporting3,2,FALSE)),\"\",VLOOKUP(A230,reporting3,2,FALSE)))","v":""},{"$f":"IF(ISBLANK(VLOOKUP(A230,reporting3,3,FALSE)),\"\",IF(ISNA(VLOOKUP(A230,reporting3,3,FALSE)),\"\",VLOOKUP(A230,reporting3,3,FALSE)))","v":""},{"$f":"IF(ISBLANK(VLOOKUP(A230,reporting3,4,FALSE)),\"\",IF(ISNA(VLOOKUP(A230,reporting3,4,FALSE)),\"\",VLOOKUP(A230,reporting3,4,FALSE)))","v":""},{"$f":"IF(ISBLANK(VLOOKUP(A230,reporting4,2,FALSE)),\"\",IF(ISNA(VLOOKUP(A230,reporting4,2,FALSE)),\"\",VLOOKUP(A230,reporting4,2,FALSE)))","v":""},{"$f":"IF(ISBLANK(VLOOKUP(A230,reporting4,3,FALSE)),\"\",IF(ISNA(VLOOKUP(A230,reporting4,3,FALSE)),\"\",VLOOKUP(A230,reporting4,3,FALSE)))","v":""},{"$f":"IF(ISBLANK(VLOOKUP(A230,reporting4,4,FALSE)),\"\",IF(ISNA(VLOOKUP(A230,reporting4,4,FALSE)),\"\",VLOOKUP(A230,reporting4,4,FALSE)))","v":""},{"$f":"IF(ISBLANK(VLOOKUP(A230,reportin5,2,FALSE)),\"\",IF(ISNA(VLOOKUP(A230,reporting5,2,FALSE)),\"\",VLOOKUP(A230,reporting5,2,FALSE)))","v":""},{"$f":"IF(ISBLANK(VLOOKUP(A230,reporting5,3,FALSE)),\"\",IF(ISNA(VLOOKUP(A230,reporting5,3,FALSE)),\"\",VLOOKUP(A230,reporting5,3,FALSE)))","v":""},{"$f":"IF(ISBLANK(VLOOKUP(A230,reporting5,4,FALSE)),\"\",IF(ISNA(VLOOKUP(A230,reporting5,4,FALSE)),\"\",VLOOKUP(A230,reporting5,4,FALSE)))","v":""}]
[null,{"$f":"IF(ISBLANK(VLOOKUP(A231,reporting1,2,FALSE)),\"\",IF(ISNA(VLOOKUP(A231,reporting1,2,FALSE)),\"\",VLOOKUP(A231,reporting1,2,FALSE)))","v":""},{"$f":"IF(ISBLANK(VLOOKUP(A231,reporting1,3,FALSE)),\"\",IF(ISNA(VLOOKUP(A231,reporting1,3,FALSE)),\"\",VLOOKUP(A231,reporting1,3,FALSE)))","v":""},{"$f":"IF(ISBLANK(VLOOKUP(A231,reporting1,4,FALSE)),\"\",IF(ISNA(VLOOKUP(A231,reporting1,4,FALSE)),\"\",VLOOKUP(A231,reporting1,4,FALSE)))","v":""},{"$f":"IF(ISBLANK(VLOOKUP(A231,reporting2,2,FALSE)),\"\",IF(ISNA(VLOOKUP(A231,reporting2,2,FALSE)),\"\",VLOOKUP(A231,reporting2,2,FALSE)))","v":""},{"$f":"IF(ISBLANK(VLOOKUP(A231,reporting2,3,FALSE)),\"\",IF(ISNA(VLOOKUP(A231,reporting2,3,FALSE)),\"\",VLOOKUP(A231,reporting2,3,FALSE)))","v":""},{"$f":"IF(ISBLANK(VLOOKUP(A231,reporting2,4,FALSE)),\"\",IF(ISNA(VLOOKUP(A231,reporting2,4,FALSE)),\"\",VLOOKUP(A231,reporting2,4,FALSE)))","v":""},{"$f":"IF(ISBLANK(VLOOKUP(A231,reporting3,2,FALSE)),\"\",IF(ISNA(VLOOKUP(A231,reporting3,2,FALSE)),\"\",VLOOKUP(A231,reporting3,2,FALSE)))","v":""},{"$f":"IF(ISBLANK(VLOOKUP(A231,reporting3,3,FALSE)),\"\",IF(ISNA(VLOOKUP(A231,reporting3,3,FALSE)),\"\",VLOOKUP(A231,reporting3,3,FALSE)))","v":""},{"$f":"IF(ISBLANK(VLOOKUP(A231,reporting3,4,FALSE)),\"\",IF(ISNA(VLOOKUP(A231,reporting3,4,FALSE)),\"\",VLOOKUP(A231,reporting3,4,FALSE)))","v":""},{"$f":"IF(ISBLANK(VLOOKUP(A231,reporting4,2,FALSE)),\"\",IF(ISNA(VLOOKUP(A231,reporting4,2,FALSE)),\"\",VLOOKUP(A231,reporting4,2,FALSE)))","v":""},{"$f":"IF(ISBLANK(VLOOKUP(A231,reporting4,3,FALSE)),\"\",IF(ISNA(VLOOKUP(A231,reporting4,3,FALSE)),\"\",VLOOKUP(A231,reporting4,3,FALSE)))","v":""},{"$f":"IF(ISBLANK(VLOOKUP(A231,reporting4,4,FALSE)),\"\",IF(ISNA(VLOOKUP(A231,reporting4,4,FALSE)),\"\",VLOOKUP(A231,reporting4,4,FALSE)))","v":""},{"$f":"IF(ISBLANK(VLOOKUP(A231,reportin5,2,FALSE)),\"\",IF(ISNA(VLOOKUP(A231,reporting5,2,FALSE)),\"\",VLOOKUP(A231,reporting5,2,FALSE)))","v":""},{"$f":"IF(ISBLANK(VLOOKUP(A231,reporting5,3,FALSE)),\"\",IF(ISNA(VLOOKUP(A231,reporting5,3,FALSE)),\"\",VLOOKUP(A231,reporting5,3,FALSE)))","v":""},{"$f":"IF(ISBLANK(VLOOKUP(A231,reporting5,4,FALSE)),\"\",IF(ISNA(VLOOKUP(A231,reporting5,4,FALSE)),\"\",VLOOKUP(A231,reporting5,4,FALSE)))","v":""}]
[null,{"$f":"IF(ISBLANK(VLOOKUP(A232,reporting1,2,FALSE)),\"\",IF(ISNA(VLOOKUP(A232,reporting1,2,FALSE)),\"\",VLOOKUP(A232,reporting1,2,FALSE)))","v":""},{"$f":"IF(ISBLANK(VLOOKUP(A232,reporting1,3,FALSE)),\"\",IF(ISNA(VLOOKUP(A232,reporting1,3,FALSE)),\"\",VLOOKUP(A232,reporting1,3,FALSE)))","v":""},{"$f":"IF(ISBLANK(VLOOKUP(A232,reporting1,4,FALSE)),\"\",IF(ISNA(VLOOKUP(A232,reporting1,4,FALSE)),\"\",VLOOKUP(A232,reporting1,4,FALSE)))","v":""},{"$f":"IF(ISBLANK(VLOOKUP(A232,reporting2,2,FALSE)),\"\",IF(ISNA(VLOOKUP(A232,reporting2,2,FALSE)),\"\",VLOOKUP(A232,reporting2,2,FALSE)))","v":""},{"$f":"IF(ISBLANK(VLOOKUP(A232,reporting2,3,FALSE)),\"\",IF(ISNA(VLOOKUP(A232,reporting2,3,FALSE)),\"\",VLOOKUP(A232,reporting2,3,FALSE)))","v":""},{"$f":"IF(ISBLANK(VLOOKUP(A232,reporting2,4,FALSE)),\"\",IF(ISNA(VLOOKUP(A232,reporting2,4,FALSE)),\"\",VLOOKUP(A232,reporting2,4,FALSE)))","v":""},{"$f":"IF(ISBLANK(VLOOKUP(A232,reporting3,2,FALSE)),\"\",IF(ISNA(VLOOKUP(A232,reporting3,2,FALSE)),\"\",VLOOKUP(A232,reporting3,2,FALSE)))","v":""},{"$f":"IF(ISBLANK(VLOOKUP(A232,reporting3,3,FALSE)),\"\",IF(ISNA(VLOOKUP(A232,reporting3,3,FALSE)),\"\",VLOOKUP(A232,reporting3,3,FALSE)))","v":""},{"$f":"IF(ISBLANK(VLOOKUP(A232,reporting3,4,FALSE)),\"\",IF(ISNA(VLOOKUP(A232,reporting3,4,FALSE)),\"\",VLOOKUP(A232,reporting3,4,FALSE)))","v":""},{"$f":"IF(ISBLANK(VLOOKUP(A232,reporting4,2,FALSE)),\"\",IF(ISNA(VLOOKUP(A232,reporting4,2,FALSE)),\"\",VLOOKUP(A232,reporting4,2,FALSE)))","v":""},{"$f":"IF(ISBLANK(VLOOKUP(A232,reporting4,3,FALSE)),\"\",IF(ISNA(VLOOKUP(A232,reporting4,3,FALSE)),\"\",VLOOKUP(A232,reporting4,3,FALSE)))","v":""},{"$f":"IF(ISBLANK(VLOOKUP(A232,reporting4,4,FALSE)),\"\",IF(ISNA(VLOOKUP(A232,reporting4,4,FALSE)),\"\",VLOOKUP(A232,reporting4,4,FALSE)))","v":""},{"$f":"IF(ISBLANK(VLOOKUP(A232,reportin5,2,FALSE)),\"\",IF(ISNA(VLOOKUP(A232,reporting5,2,FALSE)),\"\",VLOOKUP(A232,reporting5,2,FALSE)))","v":""},{"$f":"IF(ISBLANK(VLOOKUP(A232,reporting5,3,FALSE)),\"\",IF(ISNA(VLOOKUP(A232,reporting5,3,FALSE)),\"\",VLOOKUP(A232,reporting5,3,FALSE)))","v":""},{"$f":"IF(ISBLANK(VLOOKUP(A232,reporting5,4,FALSE)),\"\",IF(ISNA(VLOOKUP(A232,reporting5,4,FALSE)),\"\",VLOOKUP(A232,reporting5,4,FALSE)))","v":""}]
[null,{"$f":"IF(ISBLANK(VLOOKUP(A233,reporting1,2,FALSE)),\"\",IF(ISNA(VLOOKUP(A233,reporting1,2,FALSE)),\"\",VLOOKUP(A233,reporting1,2,FALSE)))","v":""},{"$f":"IF(ISBLANK(VLOOKUP(A233,reporting1,3,FALSE)),\"\",IF(ISNA(VLOOKUP(A233,reporting1,3,FALSE)),\"\",VLOOKUP(A233,reporting1,3,FALSE)))","v":""},{"$f":"IF(ISBLANK(VLOOKUP(A233,reporting1,4,FALSE)),\"\",IF(ISNA(VLOOKUP(A233,reporting1,4,FALSE)),\"\",VLOOKUP(A233,reporting1,4,FALSE)))","v":""},{"$f":"IF(ISBLANK(VLOOKUP(A233,reporting2,2,FALSE)),\"\",IF(ISNA(VLOOKUP(A233,reporting2,2,FALSE)),\"\",VLOOKUP(A233,reporting2,2,FALSE)))","v":""},{"$f":"IF(ISBLANK(VLOOKUP(A233,reporting2,3,FALSE)),\"\",IF(ISNA(VLOOKUP(A233,reporting2,3,FALSE)),\"\",VLOOKUP(A233,reporting2,3,FALSE)))","v":""},{"$f":"IF(ISBLANK(VLOOKUP(A233,reporting2,4,FALSE)),\"\",IF(ISNA(VLOOKUP(A233,reporting2,4,FALSE)),\"\",VLOOKUP(A233,reporting2,4,FALSE)))","v":""},{"$f":"IF(ISBLANK(VLOOKUP(A233,reporting3,2,FALSE)),\"\",IF(ISNA(VLOOKUP(A233,reporting3,2,FALSE)),\"\",VLOOKUP(A233,reporting3,2,FALSE)))","v":""},{"$f":"IF(ISBLANK(VLOOKUP(A233,reporting3,3,FALSE)),\"\",IF(ISNA(VLOOKUP(A233,reporting3,3,FALSE)),\"\",VLOOKUP(A233,reporting3,3,FALSE)))","v":""},{"$f":"IF(ISBLANK(VLOOKUP(A233,reporting3,4,FALSE)),\"\",IF(ISNA(VLOOKUP(A233,reporting3,4,FALSE)),\"\",VLOOKUP(A233,reporting3,4,FALSE)))","v":""},{"$f":"IF(ISBLANK(VLOOKUP(A233,reporting4,2,FALSE)),\"\",IF(ISNA(VLOOKUP(A233,reporting4,2,FALSE)),\"\",VLOOKUP(A233,reporting4,2,FALSE)))","v":""},{"$f":"IF(ISBLANK(VLOOKUP(A233,reporting4,3,FALSE)),\"\",IF(ISNA(VLOOKUP(A233,reporting4,3,FALSE)),\"\",VLOOKUP(A233,reporting4,3,FALSE)))","v":""},{"$f":"IF(ISBLANK(VLOOKUP(A233,reporting4,4,FALSE)),\"\",IF(ISNA(VLOOKUP(A233,reporting4,4,FALSE)),\"\",VLOOKUP(A233,reporting4,4,FALSE)))","v":""},{"$f":"IF(ISBLANK(VLOOKUP(A233,reportin5,2,FALSE)),\"\",IF(ISNA(VLOOKUP(A233,reporting5,2,FALSE)),\"\",VLOOKUP(A233,reporting5,2,FALSE)))","v":""},{"$f":"IF(ISBLANK(VLOOKUP(A233,reporting5,3,FALSE)),\"\",IF(ISNA(VLOOKUP(A233,reporting5,3,FALSE)),\"\",VLOOKUP(A233,reporting5,3,FALSE)))","v":""},{"$f":"IF(ISBLANK(VLOOKUP(A233,reporting5,4,FALSE)),\"\",IF(ISNA(VLOOKUP(A233,reporting5,4,FALSE)),\"\",VLOOKUP(A233,reporting5,4,FALSE)))","v":""}]
[null,{"$f":"IF(ISBLANK(VLOOKUP(A234,reporting1,2,FALSE)),\"\",IF(ISNA(VLOOKUP(A234,reporting1,2,FALSE)),\"\",VLOOKUP(A234,reporting1,2,FALSE)))","v":""},{"$f":"IF(ISBLANK(VLOOKUP(A234,reporting1,3,FALSE)),\"\",IF(ISNA(VLOOKUP(A234,reporting1,3,FALSE)),\"\",VLOOKUP(A234,reporting1,3,FALSE)))","v":""},{"$f":"IF(ISBLANK(VLOOKUP(A234,reporting1,4,FALSE)),\"\",IF(ISNA(VLOOKUP(A234,reporting1,4,FALSE)),\"\",VLOOKUP(A234,reporting1,4,FALSE)))","v":""},{"$f":"IF(ISBLANK(VLOOKUP(A234,reporting2,2,FALSE)),\"\",IF(ISNA(VLOOKUP(A234,reporting2,2,FALSE)),\"\",VLOOKUP(A234,reporting2,2,FALSE)))","v":""},{"$f":"IF(ISBLANK(VLOOKUP(A234,reporting2,3,FALSE)),\"\",IF(ISNA(VLOOKUP(A234,reporting2,3,FALSE)),\"\",VLOOKUP(A234,reporting2,3,FALSE)))","v":""},{"$f":"IF(ISBLANK(VLOOKUP(A234,reporting2,4,FALSE)),\"\",IF(ISNA(VLOOKUP(A234,reporting2,4,FALSE)),\"\",VLOOKUP(A234,reporting2,4,FALSE)))","v":""},{"$f":"IF(ISBLANK(VLOOKUP(A234,reporting3,2,FALSE)),\"\",IF(ISNA(VLOOKUP(A234,reporting3,2,FALSE)),\"\",VLOOKUP(A234,reporting3,2,FALSE)))","v":""},{"$f":"IF(ISBLANK(VLOOKUP(A234,reporting3,3,FALSE)),\"\",IF(ISNA(VLOOKUP(A234,reporting3,3,FALSE)),\"\",VLOOKUP(A234,reporting3,3,FALSE)))","v":""},{"$f":"IF(ISBLANK(VLOOKUP(A234,reporting3,4,FALSE)),\"\",IF(ISNA(VLOOKUP(A234,reporting3,4,FALSE)),\"\",VLOOKUP(A234,reporting3,4,FALSE)))","v":""},{"$f":"IF(ISBLANK(VLOOKUP(A234,reporting4,2,FALSE)),\"\",IF(ISNA(VLOOKUP(A234,reporting4,2,FALSE)),\"\",VLOOKUP(A234,reporting4,2,FALSE)))","v":""},{"$f":"IF(ISBLANK(VLOOKUP(A234,reporting4,3,FALSE)),\"\",IF(ISNA(VLOOKUP(A234,reporting4,3,FALSE)),\"\",VLOOKUP(A234,reporting4,3,FALSE)))","v":""},{"$f":"IF(ISBLANK(VLOOKUP(A234,reporting4,4,FALSE)),\"\",IF(ISNA(VLOOKUP(A234,reporting4,4,FALSE)),\"\",VLOOKUP(A234,reporting4,4,FALSE)))","v":""},{"$f":"IF(ISBLANK(VLOOKUP(A234,reportin5,2,FALSE)),\"\",IF(ISNA(VLOOKUP(A234,reporting5,2,FALSE)),\"\",VLOOKUP(A234,reporting5,2,FALSE)))","v":""},{"$f":"IF(ISBLANK(VLOOKUP(A234,reporting5,3,FALSE)),\"\",IF(ISNA(VLOOKUP(A234,reporting5,3,FALSE)),\"\",VLOOKUP(A234,reporting5,3,FALSE)))","v":""},{"$f":"IF(ISBLANK(VLOOKUP(A234,reporting5,4,FALSE)),\"\",IF(ISNA(VLOOKUP(A234,reporting5,4,FALSE)),\"\",VLOOKUP(A234,reporting5,4,FALSE)))","v":""}]
[null,{"$f":"IF(ISBLANK(VLOOKUP(A235,reporting1,2,FALSE)),\"\",IF(ISNA(VLOOKUP(A235,reporting1,2,FALSE)),\"\",VLOOKUP(A235,reporting1,2,FALSE)))","v":""},{"$f":"IF(ISBLANK(VLOOKUP(A235,reporting1,3,FALSE)),\"\",IF(ISNA(VLOOKUP(A235,reporting1,3,FALSE)),\"\",VLOOKUP(A235,reporting1,3,FALSE)))","v":""},{"$f":"IF(ISBLANK(VLOOKUP(A235,reporting1,4,FALSE)),\"\",IF(ISNA(VLOOKUP(A235,reporting1,4,FALSE)),\"\",VLOOKUP(A235,reporting1,4,FALSE)))","v":""},{"$f":"IF(ISBLANK(VLOOKUP(A235,reporting2,2,FALSE)),\"\",IF(ISNA(VLOOKUP(A235,reporting2,2,FALSE)),\"\",VLOOKUP(A235,reporting2,2,FALSE)))","v":""},{"$f":"IF(ISBLANK(VLOOKUP(A235,reporting2,3,FALSE)),\"\",IF(ISNA(VLOOKUP(A235,reporting2,3,FALSE)),\"\",VLOOKUP(A235,reporting2,3,FALSE)))","v":""},{"$f":"IF(ISBLANK(VLOOKUP(A235,reporting2,4,FALSE)),\"\",IF(ISNA(VLOOKUP(A235,reporting2,4,FALSE)),\"\",VLOOKUP(A235,reporting2,4,FALSE)))","v":""},{"$f":"IF(ISBLANK(VLOOKUP(A235,reporting3,2,FALSE)),\"\",IF(ISNA(VLOOKUP(A235,reporting3,2,FALSE)),\"\",VLOOKUP(A235,reporting3,2,FALSE)))","v":""},{"$f":"IF(ISBLANK(VLOOKUP(A235,reporting3,3,FALSE)),\"\",IF(ISNA(VLOOKUP(A235,reporting3,3,FALSE)),\"\",VLOOKUP(A235,reporting3,3,FALSE)))","v":""},{"$f":"IF(ISBLANK(VLOOKUP(A235,reporting3,4,FALSE)),\"\",IF(ISNA(VLOOKUP(A235,reporting3,4,FALSE)),\"\",VLOOKUP(A235,reporting3,4,FALSE)))","v":""},{"$f":"IF(ISBLANK(VLOOKUP(A235,reporting4,2,FALSE)),\"\",IF(ISNA(VLOOKUP(A235,reporting4,2,FALSE)),\"\",VLOOKUP(A235,reporting4,2,FALSE)))","v":""},{"$f":"IF(ISBLANK(VLOOKUP(A235,reporting4,3,FALSE)),\"\",IF(ISNA(VLOOKUP(A235,reporting4,3,FALSE)),\"\",VLOOKUP(A235,reporting4,3,FALSE)))","v":""},{"$f":"IF(ISBLANK(VLOOKUP(A235,reporting4,4,FALSE)),\"\",IF(ISNA(VLOOKUP(A235,reporting4,4,FALSE)),\"\",VLOOKUP(A235,reporting4,4,FALSE)))","v":""},{"$f":"IF(ISBLANK(VLOOKUP(A235,reportin5,2,FALSE)),\"\",IF(ISNA(VLOOKUP(A235,reporting5,2,FALSE)),\"\",VLOOKUP(A235,reporting5,2,FALSE)))","v":""},{"$f":"IF(ISBLANK(VLOOKUP(A235,reporting5,3,FALSE)),\"\",IF(ISNA(VLOOKUP(A235,reporting5,3,FALSE)),\"\",VLOOKUP(A235,reporting5,3,FALSE)))","v":""},{"$f":"IF(ISBLANK(VLOOKUP(A235,reporting5,4,FALSE)),\"\",IF(ISNA(VLOOKUP(A235,reporting5,4,FALSE)),\"\",VLOOKUP(A235,reporting5,4,FALSE)))","v":""}]
[null,{"$f":"IF(ISBLANK(VLOOKUP(A236,reporting1,2,FALSE)),\"\",IF(ISNA(VLOOKUP(A236,reporting1,2,FALSE)),\"\",VLOOKUP(A236,reporting1,2,FALSE)))","v":""},{"$f":"IF(ISBLANK(VLOOKUP(A236,reporting1,3,FALSE)),\"\",IF(ISNA(VLOOKUP(A236,reporting1,3,FALSE)),\"\",VLOOKUP(A236,reporting1,3,FALSE)))","v":""},{"$f":"IF(ISBLANK(VLOOKUP(A236,reporting1,4,FALSE)),\"\",IF(ISNA(VLOOKUP(A236,reporting1,4,FALSE)),\"\",VLOOKUP(A236,reporting1,4,FALSE)))","v":""},{"$f":"IF(ISBLANK(VLOOKUP(A236,reporting2,2,FALSE)),\"\",IF(ISNA(VLOOKUP(A236,reporting2,2,FALSE)),\"\",VLOOKUP(A236,reporting2,2,FALSE)))","v":""},{"$f":"IF(ISBLANK(VLOOKUP(A236,reporting2,3,FALSE)),\"\",IF(ISNA(VLOOKUP(A236,reporting2,3,FALSE)),\"\",VLOOKUP(A236,reporting2,3,FALSE)))","v":""},{"$f":"IF(ISBLANK(VLOOKUP(A236,reporting2,4,FALSE)),\"\",IF(ISNA(VLOOKUP(A236,reporting2,4,FALSE)),\"\",VLOOKUP(A236,reporting2,4,FALSE)))","v":""},{"$f":"IF(ISBLANK(VLOOKUP(A236,reporting3,2,FALSE)),\"\",IF(ISNA(VLOOKUP(A236,reporting3,2,FALSE)),\"\",VLOOKUP(A236,reporting3,2,FALSE)))","v":""},{"$f":"IF(ISBLANK(VLOOKUP(A236,reporting3,3,FALSE)),\"\",IF(ISNA(VLOOKUP(A236,reporting3,3,FALSE)),\"\",VLOOKUP(A236,reporting3,3,FALSE)))","v":""},{"$f":"IF(ISBLANK(VLOOKUP(A236,reporting3,4,FALSE)),\"\",IF(ISNA(VLOOKUP(A236,reporting3,4,FALSE)),\"\",VLOOKUP(A236,reporting3,4,FALSE)))","v":""},{"$f":"IF(ISBLANK(VLOOKUP(A236,reporting4,2,FALSE)),\"\",IF(ISNA(VLOOKUP(A236,reporting4,2,FALSE)),\"\",VLOOKUP(A236,reporting4,2,FALSE)))","v":""},{"$f":"IF(ISBLANK(VLOOKUP(A236,reporting4,3,FALSE)),\"\",IF(ISNA(VLOOKUP(A236,reporting4,3,FALSE)),\"\",VLOOKUP(A236,reporting4,3,FALSE)))","v":""},{"$f":"IF(ISBLANK(VLOOKUP(A236,reporting4,4,FALSE)),\"\",IF(ISNA(VLOOKUP(A236,reporting4,4,FALSE)),\"\",VLOOKUP(A236,reporting4,4,FALSE)))","v":""},{"$f":"IF(ISBLANK(VLOOKUP(A236,reportin5,2,FALSE)),\"\",IF(ISNA(VLOOKUP(A236,reporting5,2,FALSE)),\"\",VLOOKUP(A236,reporting5,2,FALSE)))","v":""},{"$f":"IF(ISBLANK(VLOOKUP(A236,reporting5,3,FALSE)),\"\",IF(ISNA(VLOOKUP(A236,reporting5,3,FALSE)),\"\",VLOOKUP(A236,reporting5,3,FALSE)))","v":""},{"$f":"IF(ISBLANK(VLOOKUP(A236,reporting5,4,FALSE)),\"\",IF(ISNA(VLOOKUP(A236,reporting5,4,FALSE)),\"\",VLOOKUP(A236,reporting5,4,FALSE)))","v":""}]
[null,{"$f":"IF(ISBLANK(VLOOKUP(A237,reporting1,2,FALSE)),\"\",IF(ISNA(VLOOKUP(A237,reporting1,2,FALSE)),\"\",VLOOKUP(A237,reporting1,2,FALSE)))","v":""},{"$f":"IF(ISBLANK(VLOOKUP(A237,reporting1,3,FALSE)),\"\",IF(ISNA(VLOOKUP(A237,reporting1,3,FALSE)),\"\",VLOOKUP(A237,reporting1,3,FALSE)))","v":""},{"$f":"IF(ISBLANK(VLOOKUP(A237,reporting1,4,FALSE)),\"\",IF(ISNA(VLOOKUP(A237,reporting1,4,FALSE)),\"\",VLOOKUP(A237,reporting1,4,FALSE)))","v":""},{"$f":"IF(ISBLANK(VLOOKUP(A237,reporting2,2,FALSE)),\"\",IF(ISNA(VLOOKUP(A237,reporting2,2,FALSE)),\"\",VLOOKUP(A237,reporting2,2,FALSE)))","v":""},{"$f":"IF(ISBLANK(VLOOKUP(A237,reporting2,3,FALSE)),\"\",IF(ISNA(VLOOKUP(A237,reporting2,3,FALSE)),\"\",VLOOKUP(A237,reporting2,3,FALSE)))","v":""},{"$f":"IF(ISBLANK(VLOOKUP(A237,reporting2,4,FALSE)),\"\",IF(ISNA(VLOOKUP(A237,reporting2,4,FALSE)),\"\",VLOOKUP(A237,reporting2,4,FALSE)))","v":""},{"$f":"IF(ISBLANK(VLOOKUP(A237,reporting3,2,FALSE)),\"\",IF(ISNA(VLOOKUP(A237,reporting3,2,FALSE)),\"\",VLOOKUP(A237,reporting3,2,FALSE)))","v":""},{"$f":"IF(ISBLANK(VLOOKUP(A237,reporting3,3,FALSE)),\"\",IF(ISNA(VLOOKUP(A237,reporting3,3,FALSE)),\"\",VLOOKUP(A237,reporting3,3,FALSE)))","v":""},{"$f":"IF(ISBLANK(VLOOKUP(A237,reporting3,4,FALSE)),\"\",IF(ISNA(VLOOKUP(A237,reporting3,4,FALSE)),\"\",VLOOKUP(A237,reporting3,4,FALSE)))","v":""},{"$f":"IF(ISBLANK(VLOOKUP(A237,reporting4,2,FALSE)),\"\",IF(ISNA(VLOOKUP(A237,reporting4,2,FALSE)),\"\",VLOOKUP(A237,reporting4,2,FALSE)))","v":""},{"$f":"IF(ISBLANK(VLOOKUP(A237,reporting4,3,FALSE)),\"\",IF(ISNA(VLOOKUP(A237,reporting4,3,FALSE)),\"\",VLOOKUP(A237,reporting4,3,FALSE)))","v":""},{"$f":"IF(ISBLANK(VLOOKUP(A237,reporting4,4,FALSE)),\"\",IF(ISNA(VLOOKUP(A237,reporting4,4,FALSE)),\"\",VLOOKUP(A237,reporting4,4,FALSE)))","v":""},{"$f":"IF(ISBLANK(VLOOKUP(A237,reportin5,2,FALSE)),\"\",IF(ISNA(VLOOKUP(A237,reporting5,2,FALSE)),\"\",VLOOKUP(A237,reporting5,2,FALSE)))","v":""},{"$f":"IF(ISBLANK(VLOOKUP(A237,reporting5,3,FALSE)),\"\",IF(ISNA(VLOOKUP(A237,reporting5,3,FALSE)),\"\",VLOOKUP(A237,reporting5,3,FALSE)))","v":""},{"$f":"IF(ISBLANK(VLOOKUP(A237,reporting5,4,FALSE)),\"\",IF(ISNA(VLOOKUP(A237,reporting5,4,FALSE)),\"\",VLOOKUP(A237,reporting5,4,FALSE)))","v":""}]
[null,{"$f":"IF(ISBLANK(VLOOKUP(A238,reporting1,2,FALSE)),\"\",IF(ISNA(VLOOKUP(A238,reporting1,2,FALSE)),\"\",VLOOKUP(A238,reporting1,2,FALSE)))","v":""},{"$f":"IF(ISBLANK(VLOOKUP(A238,reporting1,3,FALSE)),\"\",IF(ISNA(VLOOKUP(A238,reporting1,3,FALSE)),\"\",VLOOKUP(A238,reporting1,3,FALSE)))","v":""},{"$f":"IF(ISBLANK(VLOOKUP(A238,reporting1,4,FALSE)),\"\",IF(ISNA(VLOOKUP(A238,reporting1,4,FALSE)),\"\",VLOOKUP(A238,reporting1,4,FALSE)))","v":""},{"$f":"IF(ISBLANK(VLOOKUP(A238,reporting2,2,FALSE)),\"\",IF(ISNA(VLOOKUP(A238,reporting2,2,FALSE)),\"\",VLOOKUP(A238,reporting2,2,FALSE)))","v":""},{"$f":"IF(ISBLANK(VLOOKUP(A238,reporting2,3,FALSE)),\"\",IF(ISNA(VLOOKUP(A238,reporting2,3,FALSE)),\"\",VLOOKUP(A238,reporting2,3,FALSE)))","v":""},{"$f":"IF(ISBLANK(VLOOKUP(A238,reporting2,4,FALSE)),\"\",IF(ISNA(VLOOKUP(A238,reporting2,4,FALSE)),\"\",VLOOKUP(A238,reporting2,4,FALSE)))","v":""},{"$f":"IF(ISBLANK(VLOOKUP(A238,reporting3,2,FALSE)),\"\",IF(ISNA(VLOOKUP(A238,reporting3,2,FALSE)),\"\",VLOOKUP(A238,reporting3,2,FALSE)))","v":""},{"$f":"IF(ISBLANK(VLOOKUP(A238,reporting3,3,FALSE)),\"\",IF(ISNA(VLOOKUP(A238,reporting3,3,FALSE)),\"\",VLOOKUP(A238,reporting3,3,FALSE)))","v":""},{"$f":"IF(ISBLANK(VLOOKUP(A238,reporting3,4,FALSE)),\"\",IF(ISNA(VLOOKUP(A238,reporting3,4,FALSE)),\"\",VLOOKUP(A238,reporting3,4,FALSE)))","v":""},{"$f":"IF(ISBLANK(VLOOKUP(A238,reporting4,2,FALSE)),\"\",IF(ISNA(VLOOKUP(A238,reporting4,2,FALSE)),\"\",VLOOKUP(A238,reporting4,2,FALSE)))","v":""},{"$f":"IF(ISBLANK(VLOOKUP(A238,reporting4,3,FALSE)),\"\",IF(ISNA(VLOOKUP(A238,reporting4,3,FALSE)),\"\",VLOOKUP(A238,reporting4,3,FALSE)))","v":""},{"$f":"IF(ISBLANK(VLOOKUP(A238,reporting4,4,FALSE)),\"\",IF(ISNA(VLOOKUP(A238,reporting4,4,FALSE)),\"\",VLOOKUP(A238,reporting4,4,FALSE)))","v":""},{"$f":"IF(ISBLANK(VLOOKUP(A238,reportin5,2,FALSE)),\"\",IF(ISNA(VLOOKUP(A238,reporting5,2,FALSE)),\"\",VLOOKUP(A238,reporting5,2,FALSE)))","v":""},{"$f":"IF(ISBLANK(VLOOKUP(A238,reporting5,3,FALSE)),\"\",IF(ISNA(VLOOKUP(A238,reporting5,3,FALSE)),\"\",VLOOKUP(A238,reporting5,3,FALSE)))","v":""},{"$f":"IF(ISBLANK(VLOOKUP(A238,reporting5,4,FALSE)),\"\",IF(ISNA(VLOOKUP(A238,reporting5,4,FALSE)),\"\",VLOOKUP(A238,reporting5,4,FALSE)))","v":""}]
[null,{"$f":"IF(ISBLANK(VLOOKUP(A239,reporting1,2,FALSE)),\"\",IF(ISNA(VLOOKUP(A239,reporting1,2,FALSE)),\"\",VLOOKUP(A239,reporting1,2,FALSE)))","v":""},{"$f":"IF(ISBLANK(VLOOKUP(A239,reporting1,3,FALSE)),\"\",IF(ISNA(VLOOKUP(A239,reporting1,3,FALSE)),\"\",VLOOKUP(A239,reporting1,3,FALSE)))","v":""},{"$f":"IF(ISBLANK(VLOOKUP(A239,reporting1,4,FALSE)),\"\",IF(ISNA(VLOOKUP(A239,reporting1,4,FALSE)),\"\",VLOOKUP(A239,reporting1,4,FALSE)))","v":""},{"$f":"IF(ISBLANK(VLOOKUP(A239,reporting2,2,FALSE)),\"\",IF(ISNA(VLOOKUP(A239,reporting2,2,FALSE)),\"\",VLOOKUP(A239,reporting2,2,FALSE)))","v":""},{"$f":"IF(ISBLANK(VLOOKUP(A239,reporting2,3,FALSE)),\"\",IF(ISNA(VLOOKUP(A239,reporting2,3,FALSE)),\"\",VLOOKUP(A239,reporting2,3,FALSE)))","v":""},{"$f":"IF(ISBLANK(VLOOKUP(A239,reporting2,4,FALSE)),\"\",IF(ISNA(VLOOKUP(A239,reporting2,4,FALSE)),\"\",VLOOKUP(A239,reporting2,4,FALSE)))","v":""},{"$f":"IF(ISBLANK(VLOOKUP(A239,reporting3,2,FALSE)),\"\",IF(ISNA(VLOOKUP(A239,reporting3,2,FALSE)),\"\",VLOOKUP(A239,reporting3,2,FALSE)))","v":""},{"$f":"IF(ISBLANK(VLOOKUP(A239,reporting3,3,FALSE)),\"\",IF(ISNA(VLOOKUP(A239,reporting3,3,FALSE)),\"\",VLOOKUP(A239,reporting3,3,FALSE)))","v":""},{"$f":"IF(ISBLANK(VLOOKUP(A239,reporting3,4,FALSE)),\"\",IF(ISNA(VLOOKUP(A239,reporting3,4,FALSE)),\"\",VLOOKUP(A239,reporting3,4,FALSE)))","v":""},{"$f":"IF(ISBLANK(VLOOKUP(A239,reporting4,2,FALSE)),\"\",IF(ISNA(VLOOKUP(A239,reporting4,2,FALSE)),\"\",VLOOKUP(A239,reporting4,2,FALSE)))","v":""},{"$f":"IF(ISBLANK(VLOOKUP(A239,reporting4,3,FALSE)),\"\",IF(ISNA(VLOOKUP(A239,reporting4,3,FALSE)),\"\",VLOOKUP(A239,reporting4,3,FALSE)))","v":""},{"$f":"IF(ISBLANK(VLOOKUP(A239,reporting4,4,FALSE)),\"\",IF(ISNA(VLOOKUP(A239,reporting4,4,FALSE)),\"\",VLOOKUP(A239,reporting4,4,FALSE)))","v":""},{"$f":"IF(ISBLANK(VLOOKUP(A239,reportin5,2,FALSE)),\"\",IF(ISNA(VLOOKUP(A239,reporting5,2,FALSE)),\"\",VLOOKUP(A239,reporting5,2,FALSE)))","v":""},{"$f":"IF(ISBLANK(VLOOKUP(A239,reporting5,3,FALSE)),\"\",IF(ISNA(VLOOKUP(A239,reporting5,3,FALSE)),\"\",VLOOKUP(A239,reporting5,3,FALSE)))","v":""},{"$f":"IF(ISBLANK(VLOOKUP(A239,reporting5,4,FALSE)),\"\",IF(ISNA(VLOOKUP(A239,reporting5,4,FALSE)),\"\",VLOOKUP(A239,reporting5,4,FALSE)))","v":""}]
[null,{"$f":"IF(ISBLANK(VLOOKUP(A240,reporting1,2,FALSE)),\"\",IF(ISNA(VLOOKUP(A240,reporting1,2,FALSE)),\"\",VLOOKUP(A240,reporting1,2,FALSE)))","v":""},{"$f":"IF(ISBLANK(VLOOKUP(A240,reporting1,3,FALSE)),\"\",IF(ISNA(VLOOKUP(A240,reporting1,3,FALSE)),\"\",VLOOKUP(A240,reporting1,3,FALSE)))","v":""},{"$f":"IF(ISBLANK(VLOOKUP(A240,reporting1,4,FALSE)),\"\",IF(ISNA(VLOOKUP(A240,reporting1,4,FALSE)),\"\",VLOOKUP(A240,reporting1,4,FALSE)))","v":""},{"$f":"IF(ISBLANK(VLOOKUP(A240,reporting2,2,FALSE)),\"\",IF(ISNA(VLOOKUP(A240,reporting2,2,FALSE)),\"\",VLOOKUP(A240,reporting2,2,FALSE)))","v":""},{"$f":"IF(ISBLANK(VLOOKUP(A240,reporting2,3,FALSE)),\"\",IF(ISNA(VLOOKUP(A240,reporting2,3,FALSE)),\"\",VLOOKUP(A240,reporting2,3,FALSE)))","v":""},{"$f":"IF(ISBLANK(VLOOKUP(A240,reporting2,4,FALSE)),\"\",IF(ISNA(VLOOKUP(A240,reporting2,4,FALSE)),\"\",VLOOKUP(A240,reporting2,4,FALSE)))","v":""},{"$f":"IF(ISBLANK(VLOOKUP(A240,reporting3,2,FALSE)),\"\",IF(ISNA(VLOOKUP(A240,reporting3,2,FALSE)),\"\",VLOOKUP(A240,reporting3,2,FALSE)))","v":""},{"$f":"IF(ISBLANK(VLOOKUP(A240,reporting3,3,FALSE)),\"\",IF(ISNA(VLOOKUP(A240,reporting3,3,FALSE)),\"\",VLOOKUP(A240,reporting3,3,FALSE)))","v":""},{"$f":"IF(ISBLANK(VLOOKUP(A240,reporting3,4,FALSE)),\"\",IF(ISNA(VLOOKUP(A240,reporting3,4,FALSE)),\"\",VLOOKUP(A240,reporting3,4,FALSE)))","v":""},{"$f":"IF(ISBLANK(VLOOKUP(A240,reporting4,2,FALSE)),\"\",IF(ISNA(VLOOKUP(A240,reporting4,2,FALSE)),\"\",VLOOKUP(A240,reporting4,2,FALSE)))","v":""},{"$f":"IF(ISBLANK(VLOOKUP(A240,reporting4,3,FALSE)),\"\",IF(ISNA(VLOOKUP(A240,reporting4,3,FALSE)),\"\",VLOOKUP(A240,reporting4,3,FALSE)))","v":""},{"$f":"IF(ISBLANK(VLOOKUP(A240,reporting4,4,FALSE)),\"\",IF(ISNA(VLOOKUP(A240,reporting4,4,FALSE)),\"\",VLOOKUP(A240,reporting4,4,FALSE)))","v":""},{"$f":"IF(ISBLANK(VLOOKUP(A240,reportin5,2,FALSE)),\"\",IF(ISNA(VLOOKUP(A240,reporting5,2,FALSE)),\"\",VLOOKUP(A240,reporting5,2,FALSE)))","v":""},{"$f":"IF(ISBLANK(VLOOKUP(A240,reporting5,3,FALSE)),\"\",IF(ISNA(VLOOKUP(A240,reporting5,3,FALSE)),\"\",VLOOKUP(A240,reporting5,3,FALSE)))","v":""},{"$f":"IF(ISBLANK(VLOOKUP(A240,reporting5,4,FALSE)),\"\",IF(ISNA(VLOOKUP(A240,reporting5,4,FALSE)),\"\",VLOOKUP(A240,reporting5,4,FALSE)))","v":""}]
[null,{"$f":"IF(ISBLANK(VLOOKUP(A241,reporting1,2,FALSE)),\"\",IF(ISNA(VLOOKUP(A241,reporting1,2,FALSE)),\"\",VLOOKUP(A241,reporting1,2,FALSE)))","v":""},{"$f":"IF(ISBLANK(VLOOKUP(A241,reporting1,3,FALSE)),\"\",IF(ISNA(VLOOKUP(A241,reporting1,3,FALSE)),\"\",VLOOKUP(A241,reporting1,3,FALSE)))","v":""},{"$f":"IF(ISBLANK(VLOOKUP(A241,reporting1,4,FALSE)),\"\",IF(ISNA(VLOOKUP(A241,reporting1,4,FALSE)),\"\",VLOOKUP(A241,reporting1,4,FALSE)))","v":""},{"$f":"IF(ISBLANK(VLOOKUP(A241,reporting2,2,FALSE)),\"\",IF(ISNA(VLOOKUP(A241,reporting2,2,FALSE)),\"\",VLOOKUP(A241,reporting2,2,FALSE)))","v":""},{"$f":"IF(ISBLANK(VLOOKUP(A241,reporting2,3,FALSE)),\"\",IF(ISNA(VLOOKUP(A241,reporting2,3,FALSE)),\"\",VLOOKUP(A241,reporting2,3,FALSE)))","v":""},{"$f":"IF(ISBLANK(VLOOKUP(A241,reporting2,4,FALSE)),\"\",IF(ISNA(VLOOKUP(A241,reporting2,4,FALSE)),\"\",VLOOKUP(A241,reporting2,4,FALSE)))","v":""},{"$f":"IF(ISBLANK(VLOOKUP(A241,reporting3,2,FALSE)),\"\",IF(ISNA(VLOOKUP(A241,reporting3,2,FALSE)),\"\",VLOOKUP(A241,reporting3,2,FALSE)))","v":""},{"$f":"IF(ISBLANK(VLOOKUP(A241,reporting3,3,FALSE)),\"\",IF(ISNA(VLOOKUP(A241,reporting3,3,FALSE)),\"\",VLOOKUP(A241,reporting3,3,FALSE)))","v":""},{"$f":"IF(ISBLANK(VLOOKUP(A241,reporting3,4,FALSE)),\"\",IF(ISNA(VLOOKUP(A241,reporting3,4,FALSE)),\"\",VLOOKUP(A241,reporting3,4,FALSE)))","v":""},{"$f":"IF(ISBLANK(VLOOKUP(A241,reporting4,2,FALSE)),\"\",IF(ISNA(VLOOKUP(A241,reporting4,2,FALSE)),\"\",VLOOKUP(A241,reporting4,2,FALSE)))","v":""},{"$f":"IF(ISBLANK(VLOOKUP(A241,reporting4,3,FALSE)),\"\",IF(ISNA(VLOOKUP(A241,reporting4,3,FALSE)),\"\",VLOOKUP(A241,reporting4,3,FALSE)))","v":""},{"$f":"IF(ISBLANK(VLOOKUP(A241,reporting4,4,FALSE)),\"\",IF(ISNA(VLOOKUP(A241,reporting4,4,FALSE)),\"\",VLOOKUP(A241,reporting4,4,FALSE)))","v":""},{"$f":"IF(ISBLANK(VLOOKUP(A241,reportin5,2,FALSE)),\"\",IF(ISNA(VLOOKUP(A241,reporting5,2,FALSE)),\"\",VLOOKUP(A241,reporting5,2,FALSE)))","v":""},{"$f":"IF(ISBLANK(VLOOKUP(A241,reporting5,3,FALSE)),\"\",IF(ISNA(VLOOKUP(A241,reporting5,3,FALSE)),\"\",VLOOKUP(A241,reporting5,3,FALSE)))","v":""},{"$f":"IF(ISBLANK(VLOOKUP(A241,reporting5,4,FALSE)),\"\",IF(ISNA(VLOOKUP(A241,reporting5,4,FALSE)),\"\",VLOOKUP(A241,reporting5,4,FALSE)))","v":""}]
[null,{"$f":"IF(ISBLANK(VLOOKUP(A242,reporting1,2,FALSE)),\"\",IF(ISNA(VLOOKUP(A242,reporting1,2,FALSE)),\"\",VLOOKUP(A242,reporting1,2,FALSE)))","v":""},{"$f":"IF(ISBLANK(VLOOKUP(A242,reporting1,3,FALSE)),\"\",IF(ISNA(VLOOKUP(A242,reporting1,3,FALSE)),\"\",VLOOKUP(A242,reporting1,3,FALSE)))","v":""},{"$f":"IF(ISBLANK(VLOOKUP(A242,reporting1,4,FALSE)),\"\",IF(ISNA(VLOOKUP(A242,reporting1,4,FALSE)),\"\",VLOOKUP(A242,reporting1,4,FALSE)))","v":""},{"$f":"IF(ISBLANK(VLOOKUP(A242,reporting2,2,FALSE)),\"\",IF(ISNA(VLOOKUP(A242,reporting2,2,FALSE)),\"\",VLOOKUP(A242,reporting2,2,FALSE)))","v":""},{"$f":"IF(ISBLANK(VLOOKUP(A242,reporting2,3,FALSE)),\"\",IF(ISNA(VLOOKUP(A242,reporting2,3,FALSE)),\"\",VLOOKUP(A242,reporting2,3,FALSE)))","v":""},{"$f":"IF(ISBLANK(VLOOKUP(A242,reporting2,4,FALSE)),\"\",IF(ISNA(VLOOKUP(A242,reporting2,4,FALSE)),\"\",VLOOKUP(A242,reporting2,4,FALSE)))","v":""},{"$f":"IF(ISBLANK(VLOOKUP(A242,reporting3,2,FALSE)),\"\",IF(ISNA(VLOOKUP(A242,reporting3,2,FALSE)),\"\",VLOOKUP(A242,reporting3,2,FALSE)))","v":""},{"$f":"IF(ISBLANK(VLOOKUP(A242,reporting3,3,FALSE)),\"\",IF(ISNA(VLOOKUP(A242,reporting3,3,FALSE)),\"\",VLOOKUP(A242,reporting3,3,FALSE)))","v":""},{"$f":"IF(ISBLANK(VLOOKUP(A242,reporting3,4,FALSE)),\"\",IF(ISNA(VLOOKUP(A242,reporting3,4,FALSE)),\"\",VLOOKUP(A242,reporting3,4,FALSE)))","v":""},{"$f":"IF(ISBLANK(VLOOKUP(A242,reporting4,2,FALSE)),\"\",IF(ISNA(VLOOKUP(A242,reporting4,2,FALSE)),\"\",VLOOKUP(A242,reporting4,2,FALSE)))","v":""},{"$f":"IF(ISBLANK(VLOOKUP(A242,reporting4,3,FALSE)),\"\",IF(ISNA(VLOOKUP(A242,reporting4,3,FALSE)),\"\",VLOOKUP(A242,reporting4,3,FALSE)))","v":""},{"$f":"IF(ISBLANK(VLOOKUP(A242,reporting4,4,FALSE)),\"\",IF(ISNA(VLOOKUP(A242,reporting4,4,FALSE)),\"\",VLOOKUP(A242,reporting4,4,FALSE)))","v":""},{"$f":"IF(ISBLANK(VLOOKUP(A242,reportin5,2,FALSE)),\"\",IF(ISNA(VLOOKUP(A242,reporting5,2,FALSE)),\"\",VLOOKUP(A242,reporting5,2,FALSE)))","v":""},{"$f":"IF(ISBLANK(VLOOKUP(A242,reporting5,3,FALSE)),\"\",IF(ISNA(VLOOKUP(A242,reporting5,3,FALSE)),\"\",VLOOKUP(A242,reporting5,3,FALSE)))","v":""},{"$f":"IF(ISBLANK(VLOOKUP(A242,reporting5,4,FALSE)),\"\",IF(ISNA(VLOOKUP(A242,reporting5,4,FALSE)),\"\",VLOOKUP(A242,reporting5,4,FALSE)))","v":""}]
[null,{"$f":"IF(ISBLANK(VLOOKUP(A243,reporting1,2,FALSE)),\"\",IF(ISNA(VLOOKUP(A243,reporting1,2,FALSE)),\"\",VLOOKUP(A243,reporting1,2,FALSE)))","v":""},{"$f":"IF(ISBLANK(VLOOKUP(A243,reporting1,3,FALSE)),\"\",IF(ISNA(VLOOKUP(A243,reporting1,3,FALSE)),\"\",VLOOKUP(A243,reporting1,3,FALSE)))","v":""},{"$f":"IF(ISBLANK(VLOOKUP(A243,reporting1,4,FALSE)),\"\",IF(ISNA(VLOOKUP(A243,reporting1,4,FALSE)),\"\",VLOOKUP(A243,reporting1,4,FALSE)))","v":""},{"$f":"IF(ISBLANK(VLOOKUP(A243,reporting2,2,FALSE)),\"\",IF(ISNA(VLOOKUP(A243,reporting2,2,FALSE)),\"\",VLOOKUP(A243,reporting2,2,FALSE)))","v":""},{"$f":"IF(ISBLANK(VLOOKUP(A243,reporting2,3,FALSE)),\"\",IF(ISNA(VLOOKUP(A243,reporting2,3,FALSE)),\"\",VLOOKUP(A243,reporting2,3,FALSE)))","v":""},{"$f":"IF(ISBLANK(VLOOKUP(A243,reporting2,4,FALSE)),\"\",IF(ISNA(VLOOKUP(A243,reporting2,4,FALSE)),\"\",VLOOKUP(A243,reporting2,4,FALSE)))","v":""},{"$f":"IF(ISBLANK(VLOOKUP(A243,reporting3,2,FALSE)),\"\",IF(ISNA(VLOOKUP(A243,reporting3,2,FALSE)),\"\",VLOOKUP(A243,reporting3,2,FALSE)))","v":""},{"$f":"IF(ISBLANK(VLOOKUP(A243,reporting3,3,FALSE)),\"\",IF(ISNA(VLOOKUP(A243,reporting3,3,FALSE)),\"\",VLOOKUP(A243,reporting3,3,FALSE)))","v":""},{"$f":"IF(ISBLANK(VLOOKUP(A243,reporting3,4,FALSE)),\"\",IF(ISNA(VLOOKUP(A243,reporting3,4,FALSE)),\"\",VLOOKUP(A243,reporting3,4,FALSE)))","v":""},{"$f":"IF(ISBLANK(VLOOKUP(A243,reporting4,2,FALSE)),\"\",IF(ISNA(VLOOKUP(A243,reporting4,2,FALSE)),\"\",VLOOKUP(A243,reporting4,2,FALSE)))","v":""},{"$f":"IF(ISBLANK(VLOOKUP(A243,reporting4,3,FALSE)),\"\",IF(ISNA(VLOOKUP(A243,reporting4,3,FALSE)),\"\",VLOOKUP(A243,reporting4,3,FALSE)))","v":""},{"$f":"IF(ISBLANK(VLOOKUP(A243,reporting4,4,FALSE)),\"\",IF(ISNA(VLOOKUP(A243,reporting4,4,FALSE)),\"\",VLOOKUP(A243,reporting4,4,FALSE)))","v":""},{"$f":"IF(ISBLANK(VLOOKUP(A243,reportin5,2,FALSE)),\"\",IF(ISNA(VLOOKUP(A243,reporting5,2,FALSE)),\"\",VLOOKUP(A243,reporting5,2,FALSE)))","v":""},{"$f":"IF(ISBLANK(VLOOKUP(A243,reporting5,3,FALSE)),\"\",IF(ISNA(VLOOKUP(A243,reporting5,3,FALSE)),\"\",VLOOKUP(A243,reporting5,3,FALSE)))","v":""},{"$f":"IF(ISBLANK(VLOOKUP(A243,reporting5,4,FALSE)),\"\",IF(ISNA(VLOOKUP(A243,reporting5,4,FALSE)),\"\",VLOOKUP(A243,reporting5,4,FALSE)))","v":""}]
[null,{"$f":"IF(ISBLANK(VLOOKUP(A244,reporting1,2,FALSE)),\"\",IF(ISNA(VLOOKUP(A244,reporting1,2,FALSE)),\"\",VLOOKUP(A244,reporting1,2,FALSE)))","v":""},{"$f":"IF(ISBLANK(VLOOKUP(A244,reporting1,3,FALSE)),\"\",IF(ISNA(VLOOKUP(A244,reporting1,3,FALSE)),\"\",VLOOKUP(A244,reporting1,3,FALSE)))","v":""},{"$f":"IF(ISBLANK(VLOOKUP(A244,reporting1,4,FALSE)),\"\",IF(ISNA(VLOOKUP(A244,reporting1,4,FALSE)),\"\",VLOOKUP(A244,reporting1,4,FALSE)))","v":""},{"$f":"IF(ISBLANK(VLOOKUP(A244,reporting2,2,FALSE)),\"\",IF(ISNA(VLOOKUP(A244,reporting2,2,FALSE)),\"\",VLOOKUP(A244,reporting2,2,FALSE)))","v":""},{"$f":"IF(ISBLANK(VLOOKUP(A244,reporting2,3,FALSE)),\"\",IF(ISNA(VLOOKUP(A244,reporting2,3,FALSE)),\"\",VLOOKUP(A244,reporting2,3,FALSE)))","v":""},{"$f":"IF(ISBLANK(VLOOKUP(A244,reporting2,4,FALSE)),\"\",IF(ISNA(VLOOKUP(A244,reporting2,4,FALSE)),\"\",VLOOKUP(A244,reporting2,4,FALSE)))","v":""},{"$f":"IF(ISBLANK(VLOOKUP(A244,reporting3,2,FALSE)),\"\",IF(ISNA(VLOOKUP(A244,reporting3,2,FALSE)),\"\",VLOOKUP(A244,reporting3,2,FALSE)))","v":""},{"$f":"IF(ISBLANK(VLOOKUP(A244,reporting3,3,FALSE)),\"\",IF(ISNA(VLOOKUP(A244,reporting3,3,FALSE)),\"\",VLOOKUP(A244,reporting3,3,FALSE)))","v":""},{"$f":"IF(ISBLANK(VLOOKUP(A244,reporting3,4,FALSE)),\"\",IF(ISNA(VLOOKUP(A244,reporting3,4,FALSE)),\"\",VLOOKUP(A244,reporting3,4,FALSE)))","v":""},{"$f":"IF(ISBLANK(VLOOKUP(A244,reporting4,2,FALSE)),\"\",IF(ISNA(VLOOKUP(A244,reporting4,2,FALSE)),\"\",VLOOKUP(A244,reporting4,2,FALSE)))","v":""},{"$f":"IF(ISBLANK(VLOOKUP(A244,reporting4,3,FALSE)),\"\",IF(ISNA(VLOOKUP(A244,reporting4,3,FALSE)),\"\",VLOOKUP(A244,reporting4,3,FALSE)))","v":""},{"$f":"IF(ISBLANK(VLOOKUP(A244,reporting4,4,FALSE)),\"\",IF(ISNA(VLOOKUP(A244,reporting4,4,FALSE)),\"\",VLOOKUP(A244,reporting4,4,FALSE)))","v":""},{"$f":"IF(ISBLANK(VLOOKUP(A244,reportin5,2,FALSE)),\"\",IF(ISNA(VLOOKUP(A244,reporting5,2,FALSE)),\"\",VLOOKUP(A244,reporting5,2,FALSE)))","v":""},{"$f":"IF(ISBLANK(VLOOKUP(A244,reporting5,3,FALSE)),\"\",IF(ISNA(VLOOKUP(A244,reporting5,3,FALSE)),\"\",VLOOKUP(A244,reporting5,3,FALSE)))","v":""},{"$f":"IF(ISBLANK(VLOOKUP(A244,reporting5,4,FALSE)),\"\",IF(ISNA(VLOOKUP(A244,reporting5,4,FALSE)),\"\",VLOOKUP(A244,reporting5,4,FALSE)))","v":""}]
[null,{"$f":"IF(ISBLANK(VLOOKUP(A245,reporting1,2,FALSE)),\"\",IF(ISNA(VLOOKUP(A245,reporting1,2,FALSE)),\"\",VLOOKUP(A245,reporting1,2,FALSE)))","v":""},{"$f":"IF(ISBLANK(VLOOKUP(A245,reporting1,3,FALSE)),\"\",IF(ISNA(VLOOKUP(A245,reporting1,3,FALSE)),\"\",VLOOKUP(A245,reporting1,3,FALSE)))","v":""},{"$f":"IF(ISBLANK(VLOOKUP(A245,reporting1,4,FALSE)),\"\",IF(ISNA(VLOOKUP(A245,reporting1,4,FALSE)),\"\",VLOOKUP(A245,reporting1,4,FALSE)))","v":""},{"$f":"IF(ISBLANK(VLOOKUP(A245,reporting2,2,FALSE)),\"\",IF(ISNA(VLOOKUP(A245,reporting2,2,FALSE)),\"\",VLOOKUP(A245,reporting2,2,FALSE)))","v":""},{"$f":"IF(ISBLANK(VLOOKUP(A245,reporting2,3,FALSE)),\"\",IF(ISNA(VLOOKUP(A245,reporting2,3,FALSE)),\"\",VLOOKUP(A245,reporting2,3,FALSE)))","v":""},{"$f":"IF(ISBLANK(VLOOKUP(A245,reporting2,4,FALSE)),\"\",IF(ISNA(VLOOKUP(A245,reporting2,4,FALSE)),\"\",VLOOKUP(A245,reporting2,4,FALSE)))","v":""},{"$f":"IF(ISBLANK(VLOOKUP(A245,reporting3,2,FALSE)),\"\",IF(ISNA(VLOOKUP(A245,reporting3,2,FALSE)),\"\",VLOOKUP(A245,reporting3,2,FALSE)))","v":""},{"$f":"IF(ISBLANK(VLOOKUP(A245,reporting3,3,FALSE)),\"\",IF(ISNA(VLOOKUP(A245,reporting3,3,FALSE)),\"\",VLOOKUP(A245,reporting3,3,FALSE)))","v":""},{"$f":"IF(ISBLANK(VLOOKUP(A245,reporting3,4,FALSE)),\"\",IF(ISNA(VLOOKUP(A245,reporting3,4,FALSE)),\"\",VLOOKUP(A245,reporting3,4,FALSE)))","v":""},{"$f":"IF(ISBLANK(VLOOKUP(A245,reporting4,2,FALSE)),\"\",IF(ISNA(VLOOKUP(A245,reporting4,2,FALSE)),\"\",VLOOKUP(A245,reporting4,2,FALSE)))","v":""},{"$f":"IF(ISBLANK(VLOOKUP(A245,reporting4,3,FALSE)),\"\",IF(ISNA(VLOOKUP(A245,reporting4,3,FALSE)),\"\",VLOOKUP(A245,reporting4,3,FALSE)))","v":""},{"$f":"IF(ISBLANK(VLOOKUP(A245,reporting4,4,FALSE)),\"\",IF(ISNA(VLOOKUP(A245,reporting4,4,FALSE)),\"\",VLOOKUP(A245,reporting4,4,FALSE)))","v":""},{"$f":"IF(ISBLANK(VLOOKUP(A245,reportin5,2,FALSE)),\"\",IF(ISNA(VLOOKUP(A245,reporting5,2,FALSE)),\"\",VLOOKUP(A245,reporting5,2,FALSE)))","v":""},{"$f":"IF(ISBLANK(VLOOKUP(A245,reporting5,3,FALSE)),\"\",IF(ISNA(VLOOKUP(A245,reporting5,3,FALSE)),\"\",VLOOKUP(A245,reporting5,3,FALSE)))","v":""},{"$f":"IF(ISBLANK(VLOOKUP(A245,reporting5,4,FALSE)),\"\",IF(ISNA(VLOOKUP(A245,reporting5,4,FALSE)),\"\",VLOOKUP(A245,reporting5,4,FALSE)))","v":""}]
[null,{"$f":"IF(ISBLANK(VLOOKUP(A246,reporting1,2,FALSE)),\"\",IF(ISNA(VLOOKUP(A246,reporting1,2,FALSE)),\"\",VLOOKUP(A246,reporting1,2,FALSE)))","v":""},{"$f":"IF(ISBLANK(VLOOKUP(A246,reporting1,3,FALSE)),\"\",IF(ISNA(VLOOKUP(A246,reporting1,3,FALSE)),\"\",VLOOKUP(A246,reporting1,3,FALSE)))","v":""},{"$f":"IF(ISBLANK(VLOOKUP(A246,reporting1,4,FALSE)),\"\",IF(ISNA(VLOOKUP(A246,reporting1,4,FALSE)),\"\",VLOOKUP(A246,reporting1,4,FALSE)))","v":""},{"$f":"IF(ISBLANK(VLOOKUP(A246,reporting2,2,FALSE)),\"\",IF(ISNA(VLOOKUP(A246,reporting2,2,FALSE)),\"\",VLOOKUP(A246,reporting2,2,FALSE)))","v":""},{"$f":"IF(ISBLANK(VLOOKUP(A246,reporting2,3,FALSE)),\"\",IF(ISNA(VLOOKUP(A246,reporting2,3,FALSE)),\"\",VLOOKUP(A246,reporting2,3,FALSE)))","v":""},{"$f":"IF(ISBLANK(VLOOKUP(A246,reporting2,4,FALSE)),\"\",IF(ISNA(VLOOKUP(A246,reporting2,4,FALSE)),\"\",VLOOKUP(A246,reporting2,4,FALSE)))","v":""},{"$f":"IF(ISBLANK(VLOOKUP(A246,reporting3,2,FALSE)),\"\",IF(ISNA(VLOOKUP(A246,reporting3,2,FALSE)),\"\",VLOOKUP(A246,reporting3,2,FALSE)))","v":""},{"$f":"IF(ISBLANK(VLOOKUP(A246,reporting3,3,FALSE)),\"\",IF(ISNA(VLOOKUP(A246,reporting3,3,FALSE)),\"\",VLOOKUP(A246,reporting3,3,FALSE)))","v":""},{"$f":"IF(ISBLANK(VLOOKUP(A246,reporting3,4,FALSE)),\"\",IF(ISNA(VLOOKUP(A246,reporting3,4,FALSE)),\"\",VLOOKUP(A246,reporting3,4,FALSE)))","v":""},{"$f":"IF(ISBLANK(VLOOKUP(A246,reporting4,2,FALSE)),\"\",IF(ISNA(VLOOKUP(A246,reporting4,2,FALSE)),\"\",VLOOKUP(A246,reporting4,2,FALSE)))","v":""},{"$f":"IF(ISBLANK(VLOOKUP(A246,reporting4,3,FALSE)),\"\",IF(ISNA(VLOOKUP(A246,reporting4,3,FALSE)),\"\",VLOOKUP(A246,reporting4,3,FALSE)))","v":""},{"$f":"IF(ISBLANK(VLOOKUP(A246,reporting4,4,FALSE)),\"\",IF(ISNA(VLOOKUP(A246,reporting4,4,FALSE)),\"\",VLOOKUP(A246,reporting4,4,FALSE)))","v":""},{"$f":"IF(ISBLANK(VLOOKUP(A246,reportin5,2,FALSE)),\"\",IF(ISNA(VLOOKUP(A246,reporting5,2,FALSE)),\"\",VLOOKUP(A246,reporting5,2,FALSE)))","v":""},{"$f":"IF(ISBLANK(VLOOKUP(A246,reporting5,3,FALSE)),\"\",IF(ISNA(VLOOKUP(A246,reporting5,3,FALSE)),\"\",VLOOKUP(A246,reporting5,3,FALSE)))","v":""},{"$f":"IF(ISBLANK(VLOOKUP(A246,reporting5,4,FALSE)),\"\",IF(ISNA(VLOOKUP(A246,reporting5,4,FALSE)),\"\",VLOOKUP(A246,reporting5,4,FALSE)))","v":""}]
[null,{"$f":"IF(ISBLANK(VLOOKUP(A247,reporting1,2,FALSE)),\"\",IF(ISNA(VLOOKUP(A247,reporting1,2,FALSE)),\"\",VLOOKUP(A247,reporting1,2,FALSE)))","v":""},{"$f":"IF(ISBLANK(VLOOKUP(A247,reporting1,3,FALSE)),\"\",IF(ISNA(VLOOKUP(A247,reporting1,3,FALSE)),\"\",VLOOKUP(A247,reporting1,3,FALSE)))","v":""},{"$f":"IF(ISBLANK(VLOOKUP(A247,reporting1,4,FALSE)),\"\",IF(ISNA(VLOOKUP(A247,reporting1,4,FALSE)),\"\",VLOOKUP(A247,reporting1,4,FALSE)))","v":""},{"$f":"IF(ISBLANK(VLOOKUP(A247,reporting2,2,FALSE)),\"\",IF(ISNA(VLOOKUP(A247,reporting2,2,FALSE)),\"\",VLOOKUP(A247,reporting2,2,FALSE)))","v":""},{"$f":"IF(ISBLANK(VLOOKUP(A247,reporting2,3,FALSE)),\"\",IF(ISNA(VLOOKUP(A247,reporting2,3,FALSE)),\"\",VLOOKUP(A247,reporting2,3,FALSE)))","v":""},{"$f":"IF(ISBLANK(VLOOKUP(A247,reporting2,4,FALSE)),\"\",IF(ISNA(VLOOKUP(A247,reporting2,4,FALSE)),\"\",VLOOKUP(A247,reporting2,4,FALSE)))","v":""},{"$f":"IF(ISBLANK(VLOOKUP(A247,reporting3,2,FALSE)),\"\",IF(ISNA(VLOOKUP(A247,reporting3,2,FALSE)),\"\",VLOOKUP(A247,reporting3,2,FALSE)))","v":""},{"$f":"IF(ISBLANK(VLOOKUP(A247,reporting3,3,FALSE)),\"\",IF(ISNA(VLOOKUP(A247,reporting3,3,FALSE)),\"\",VLOOKUP(A247,reporting3,3,FALSE)))","v":""},{"$f":"IF(ISBLANK(VLOOKUP(A247,reporting3,4,FALSE)),\"\",IF(ISNA(VLOOKUP(A247,reporting3,4,FALSE)),\"\",VLOOKUP(A247,reporting3,4,FALSE)))","v":""},{"$f":"IF(ISBLANK(VLOOKUP(A247,reporting4,2,FALSE)),\"\",IF(ISNA(VLOOKUP(A247,reporting4,2,FALSE)),\"\",VLOOKUP(A247,reporting4,2,FALSE)))","v":""},{"$f":"IF(ISBLANK(VLOOKUP(A247,reporting4,3,FALSE)),\"\",IF(ISNA(VLOOKUP(A247,reporting4,3,FALSE)),\"\",VLOOKUP(A247,reporting4,3,FALSE)))","v":""},{"$f":"IF(ISBLANK(VLOOKUP(A247,reporting4,4,FALSE)),\"\",IF(ISNA(VLOOKUP(A247,reporting4,4,FALSE)),\"\",VLOOKUP(A247,reporting4,4,FALSE)))","v":""},{"$f":"IF(ISBLANK(VLOOKUP(A247,reportin5,2,FALSE)),\"\",IF(ISNA(VLOOKUP(A247,reporting5,2,FALSE)),\"\",VLOOKUP(A247,reporting5,2,FALSE)))","v":""},{"$f":"IF(ISBLANK(VLOOKUP(A247,reporting5,3,FALSE)),\"\",IF(ISNA(VLOOKUP(A247,reporting5,3,FALSE)),\"\",VLOOKUP(A247,reporting5,3,FALSE)))","v":""},{"$f":"IF(ISBLANK(VLOOKUP(A247,reporting5,4,FALSE)),\"\",IF(ISNA(VLOOKUP(A247,reporting5,4,FALSE)),\"\",VLOOKUP(A247,reporting5,4,FALSE)))","v":""}]
[null,{"$f":"IF(ISBLANK(VLOOKUP(A248,reporting1,2,FALSE)),\"\",IF(ISNA(VLOOKUP(A248,reporting1,2,FALSE)),\"\",VLOOKUP(A248,reporting1,2,FALSE)))","v":""},{"$f":"IF(ISBLANK(VLOOKUP(A248,reporting1,3,FALSE)),\"\",IF(ISNA(VLOOKUP(A248,reporting1,3,FALSE)),\"\",VLOOKUP(A248,reporting1,3,FALSE)))","v":""},{"$f":"IF(ISBLANK(VLOOKUP(A248,reporting1,4,FALSE)),\"\",IF(ISNA(VLOOKUP(A248,reporting1,4,FALSE)),\"\",VLOOKUP(A248,reporting1,4,FALSE)))","v":""},{"$f":"IF(ISBLANK(VLOOKUP(A248,reporting2,2,FALSE)),\"\",IF(ISNA(VLOOKUP(A248,reporting2,2,FALSE)),\"\",VLOOKUP(A248,reporting2,2,FALSE)))","v":""},{"$f":"IF(ISBLANK(VLOOKUP(A248,reporting2,3,FALSE)),\"\",IF(ISNA(VLOOKUP(A248,reporting2,3,FALSE)),\"\",VLOOKUP(A248,reporting2,3,FALSE)))","v":""},{"$f":"IF(ISBLANK(VLOOKUP(A248,reporting2,4,FALSE)),\"\",IF(ISNA(VLOOKUP(A248,reporting2,4,FALSE)),\"\",VLOOKUP(A248,reporting2,4,FALSE)))","v":""},{"$f":"IF(ISBLANK(VLOOKUP(A248,reporting3,2,FALSE)),\"\",IF(ISNA(VLOOKUP(A248,reporting3,2,FALSE)),\"\",VLOOKUP(A248,reporting3,2,FALSE)))","v":""},{"$f":"IF(ISBLANK(VLOOKUP(A248,reporting3,3,FALSE)),\"\",IF(ISNA(VLOOKUP(A248,reporting3,3,FALSE)),\"\",VLOOKUP(A248,reporting3,3,FALSE)))","v":""},{"$f":"IF(ISBLANK(VLOOKUP(A248,reporting3,4,FALSE)),\"\",IF(ISNA(VLOOKUP(A248,reporting3,4,FALSE)),\"\",VLOOKUP(A248,reporting3,4,FALSE)))","v":""},{"$f":"IF(ISBLANK(VLOOKUP(A248,reporting4,2,FALSE)),\"\",IF(ISNA(VLOOKUP(A248,reporting4,2,FALSE)),\"\",VLOOKUP(A248,reporting4,2,FALSE)))","v":""},{"$f":"IF(ISBLANK(VLOOKUP(A248,reporting4,3,FALSE)),\"\",IF(ISNA(VLOOKUP(A248,reporting4,3,FALSE)),\"\",VLOOKUP(A248,reporting4,3,FALSE)))","v":""},{"$f":"IF(ISBLANK(VLOOKUP(A248,reporting4,4,FALSE)),\"\",IF(ISNA(VLOOKUP(A248,reporting4,4,FALSE)),\"\",VLOOKUP(A248,reporting4,4,FALSE)))","v":""},{"$f":"IF(ISBLANK(VLOOKUP(A248,reportin5,2,FALSE)),\"\",IF(ISNA(VLOOKUP(A248,reporting5,2,FALSE)),\"\",VLOOKUP(A248,reporting5,2,FALSE)))","v":""},{"$f":"IF(ISBLANK(VLOOKUP(A248,reporting5,3,FALSE)),\"\",IF(ISNA(VLOOKUP(A248,reporting5,3,FALSE)),\"\",VLOOKUP(A248,reporting5,3,FALSE)))","v":""},{"$f":"IF(ISBLANK(VLOOKUP(A248,reporting5,4,FALSE)),\"\",IF(ISNA(VLOOKUP(A248,reporting5,4,FALSE)),\"\",VLOOKUP(A248,reporting5,4,FALSE)))","v":""}]
[null,{"$f":"IF(ISBLANK(VLOOKUP(A249,reporting1,2,FALSE)),\"\",IF(ISNA(VLOOKUP(A249,reporting1,2,FALSE)),\"\",VLOOKUP(A249,reporting1,2,FALSE)))","v":""},{"$f":"IF(ISBLANK(VLOOKUP(A249,reporting1,3,FALSE)),\"\",IF(ISNA(VLOOKUP(A249,reporting1,3,FALSE)),\"\",VLOOKUP(A249,reporting1,3,FALSE)))","v":""},{"$f":"IF(ISBLANK(VLOOKUP(A249,reporting1,4,FALSE)),\"\",IF(ISNA(VLOOKUP(A249,reporting1,4,FALSE)),\"\",VLOOKUP(A249,reporting1,4,FALSE)))","v":""},{"$f":"IF(ISBLANK(VLOOKUP(A249,reporting2,2,FALSE)),\"\",IF(ISNA(VLOOKUP(A249,reporting2,2,FALSE)),\"\",VLOOKUP(A249,reporting2,2,FALSE)))","v":""},{"$f":"IF(ISBLANK(VLOOKUP(A249,reporting2,3,FALSE)),\"\",IF(ISNA(VLOOKUP(A249,reporting2,3,FALSE)),\"\",VLOOKUP(A249,reporting2,3,FALSE)))","v":""},{"$f":"IF(ISBLANK(VLOOKUP(A249,reporting2,4,FALSE)),\"\",IF(ISNA(VLOOKUP(A249,reporting2,4,FALSE)),\"\",VLOOKUP(A249,reporting2,4,FALSE)))","v":""},{"$f":"IF(ISBLANK(VLOOKUP(A249,reporting3,2,FALSE)),\"\",IF(ISNA(VLOOKUP(A249,reporting3,2,FALSE)),\"\",VLOOKUP(A249,reporting3,2,FALSE)))","v":""},{"$f":"IF(ISBLANK(VLOOKUP(A249,reporting3,3,FALSE)),\"\",IF(ISNA(VLOOKUP(A249,reporting3,3,FALSE)),\"\",VLOOKUP(A249,reporting3,3,FALSE)))","v":""},{"$f":"IF(ISBLANK(VLOOKUP(A249,reporting3,4,FALSE)),\"\",IF(ISNA(VLOOKUP(A249,reporting3,4,FALSE)),\"\",VLOOKUP(A249,reporting3,4,FALSE)))","v":""},{"$f":"IF(ISBLANK(VLOOKUP(A249,reporting4,2,FALSE)),\"\",IF(ISNA(VLOOKUP(A249,reporting4,2,FALSE)),\"\",VLOOKUP(A249,reporting4,2,FALSE)))","v":""},{"$f":"IF(ISBLANK(VLOOKUP(A249,reporting4,3,FALSE)),\"\",IF(ISNA(VLOOKUP(A249,reporting4,3,FALSE)),\"\",VLOOKUP(A249,reporting4,3,FALSE)))","v":""},{"$f":"IF(ISBLANK(VLOOKUP(A249,reporting4,4,FALSE)),\"\",IF(ISNA(VLOOKUP(A249,reporting4,4,FALSE)),\"\",VLOOKUP(A249,reporting4,4,FALSE)))","v":""},{"$f":"IF(ISBLANK(VLOOKUP(A249,reportin5,2,FALSE)),\"\",IF(ISNA(VLOOKUP(A249,reporting5,2,FALSE)),\"\",VLOOKUP(A249,reporting5,2,FALSE)))","v":""},{"$f":"IF(ISBLANK(VLOOKUP(A249,reporting5,3,FALSE)),\"\",IF(ISNA(VLOOKUP(A249,reporting5,3,FALSE)),\"\",VLOOKUP(A249,reporting5,3,FALSE)))","v":""},{"$f":"IF(ISBLANK(VLOOKUP(A249,reporting5,4,FALSE)),\"\",IF(ISNA(VLOOKUP(A249,reporting5,4,FALSE)),\"\",VLOOKUP(A249,reporting5,4,FALSE)))","v":""}]
[null,{"$f":"IF(ISBLANK(VLOOKUP(A250,reporting1,2,FALSE)),\"\",IF(ISNA(VLOOKUP(A250,reporting1,2,FALSE)),\"\",VLOOKUP(A250,reporting1,2,FALSE)))","v":""},{"$f":"IF(ISBLANK(VLOOKUP(A250,reporting1,3,FALSE)),\"\",IF(ISNA(VLOOKUP(A250,reporting1,3,FALSE)),\"\",VLOOKUP(A250,reporting1,3,FALSE)))","v":""},{"$f":"IF(ISBLANK(VLOOKUP(A250,reporting1,4,FALSE)),\"\",IF(ISNA(VLOOKUP(A250,reporting1,4,FALSE)),\"\",VLOOKUP(A250,reporting1,4,FALSE)))","v":""},{"$f":"IF(ISBLANK(VLOOKUP(A250,reporting2,2,FALSE)),\"\",IF(ISNA(VLOOKUP(A250,reporting2,2,FALSE)),\"\",VLOOKUP(A250,reporting2,2,FALSE)))","v":""},{"$f":"IF(ISBLANK(VLOOKUP(A250,reporting2,3,FALSE)),\"\",IF(ISNA(VLOOKUP(A250,reporting2,3,FALSE)),\"\",VLOOKUP(A250,reporting2,3,FALSE)))","v":""},{"$f":"IF(ISBLANK(VLOOKUP(A250,reporting2,4,FALSE)),\"\",IF(ISNA(VLOOKUP(A250,reporting2,4,FALSE)),\"\",VLOOKUP(A250,reporting2,4,FALSE)))","v":""},{"$f":"IF(ISBLANK(VLOOKUP(A250,reporting3,2,FALSE)),\"\",IF(ISNA(VLOOKUP(A250,reporting3,2,FALSE)),\"\",VLOOKUP(A250,reporting3,2,FALSE)))","v":""},{"$f":"IF(ISBLANK(VLOOKUP(A250,reporting3,3,FALSE)),\"\",IF(ISNA(VLOOKUP(A250,reporting3,3,FALSE)),\"\",VLOOKUP(A250,reporting3,3,FALSE)))","v":""},{"$f":"IF(ISBLANK(VLOOKUP(A250,reporting3,4,FALSE)),\"\",IF(ISNA(VLOOKUP(A250,reporting3,4,FALSE)),\"\",VLOOKUP(A250,reporting3,4,FALSE)))","v":""},{"$f":"IF(ISBLANK(VLOOKUP(A250,reporting4,2,FALSE)),\"\",IF(ISNA(VLOOKUP(A250,reporting4,2,FALSE)),\"\",VLOOKUP(A250,reporting4,2,FALSE)))","v":""},{"$f":"IF(ISBLANK(VLOOKUP(A250,reporting4,3,FALSE)),\"\",IF(ISNA(VLOOKUP(A250,reporting4,3,FALSE)),\"\",VLOOKUP(A250,reporting4,3,FALSE)))","v":""},{"$f":"IF(ISBLANK(VLOOKUP(A250,reporting4,4,FALSE)),\"\",IF(ISNA(VLOOKUP(A250,reporting4,4,FALSE)),\"\",VLOOKUP(A250,reporting4,4,FALSE)))","v":""},{"$f":"IF(ISBLANK(VLOOKUP(A250,reportin5,2,FALSE)),\"\",IF(ISNA(VLOOKUP(A250,reporting5,2,FALSE)),\"\",VLOOKUP(A250,reporting5,2,FALSE)))","v":""},{"$f":"IF(ISBLANK(VLOOKUP(A250,reporting5,3,FALSE)),\"\",IF(ISNA(VLOOKUP(A250,reporting5,3,FALSE)),\"\",VLOOKUP(A250,reporting5,3,FALSE)))","v":""},{"$f":"IF(ISBLANK(VLOOKUP(A250,reporting5,4,FALSE)),\"\",IF(ISNA(VLOOKUP(A250,reporting5,4,FALSE)),\"\",VLOOKUP(A250,reporting5,4,FALSE)))","v":""}]

{"sheet":"Reporting","index":8,"n_rows":250,"n_cols":8,"rows_kept":250,"cut":false,"hidden":false,"merged":[[0,0,0,6]]}
["Reporting "]
["Joueurs","1ère attaque ","2ème attaque ","Etoiles concedées","Oubli","Attaques ratées","Attaques réussies","bilan"]
[{"$f":"IF(ISBLANK(Paramètres!A2),\"\",Paramètres!A2)","v":"judesforges"},{"$f":"IFERROR(AVERAGE(Paramètres!B2,Paramètres!E2,Paramètres!H2,Paramètres!K2,Paramètres!N2),\"\")","v":""},{"$f":"IFERROR(AVERAGE((Paramètres!C2,Paramètres!F2,Paramètres!I2,Paramètres!L2,Paramètres!O2)),\"\")","v":""},{"$f":"IFERROR(AVERAGE((Paramètres!D2,Paramètres!G2,Paramètres!J2,Paramètres!M2,Paramètres!P2)),\"\")","v":""},{"$f":"IF(A3=\"\",\"\",COUNTIF(Paramètres!B2:C2,\"-\")+COUNTIF(Paramètres!E2:F2,\"-\")+COUNTIF(Paramètres!H2:I2,\"-\")+COUNTIF(Paramètres!K2:L2,\"-\")+COUNTIF(Paramètres!N2:O2,\"-\"))","v":0},{"$f":"IF(A3=\"\",\"\",COUNTIF(Paramètres!B2,\"<2\")+COUNTIF(Paramètres!C2,\"<2\")+COUNTIF(Paramètres!E2,\"<2\")+COUNTIF(Paramètres!F2,\"<2\")+COUNTIF(Paramètres!H2,\"<2\")+COUNTIF(Paramètres!I2,\"<2\")+COUNTIF(Paramètres!K2,\"<2\")+COUNTIF(Paramètres!L2,\"<2\")+COUNTIF(Paramètres!N2,\"<2\")+COUNTIF(Paramètres!O2,\"<2\"))","v":0},{"$f":"IF(A3=\"\",\"\",COUNTIF(Paramètres!B2,\">1\")+COUNTIF(Paramètres!C2,\">1\")+COUNTIF(Paramètres!E2,\">1\")+COUNTIF(Paramètres!F2,\">1\")+COUNTIF(Paramètres!H2,\">1\")+COUNTIF(Paramètres!I2,\">1\")+COUNTIF(Paramètres!K2,\">1\")+COUNTIF(Paramètres!L2,\">1\")+COUNTIF(Paramètres!N2,\">1\")+COUNTIF(Paramètres!O2,\">1\"))","v":0},{"$f":"Tableau4[[#This Row],[Attaques réussies]]/(Tableau4[[#This Row],[Oubli]]+Tableau4[[#This Row],[Attaques ratées]]+Tableau4[[#This Row],[Attaques réussies]])","v":{"$error":"#DIV/0!"}}]
[{"$f":"IF(ISBLANK(Paramètres!A3),\"\",Paramètres!A3)","v":"lilou47"},{"$f":"IFERROR(AVERAGE(Paramètres!B3,Paramètres!E3,Paramètres!H3,Paramètres!K3,Paramètres!N3),\"\")","v":""},{"$f":"IFERROR(AVERAGE((Paramètres!C3,Paramètres!F3,Paramètres!I3,Paramètres!L3,Paramètres!O3)),\"\")","v":""},{"$f":"IFERROR(AVERAGE((Paramètres!D3,Paramètres!G3,Paramètres!J3,Paramètres!M3,Paramètres!P3)),\"\")","v":""},{"$f":"IF(A4=\"\",\"\",COUNTIF(Paramètres!B3:C3,\"-\")+COUNTIF(Paramètres!E3:F3,\"-\")+COUNTIF(Paramètres!H3:I3,\"-\")+COUNTIF(Paramètres!K3:L3,\"-\")+COUNTIF(Paramètres!N3:O3,\"-\"))","v":0},{"$f":"IF(A4=\"\",\"\",COUNTIF(Paramètres!B3,\"<2\")+COUNTIF(Paramètres!C3,\"<2\")+COUNTIF(Paramètres!E3,\"<2\")+COUNTIF(Paramètres!F3,\"<2\")+COUNTIF(Paramètres!H3,\"<2\")+COUNTIF(Paramètres!I3,\"<2\")+COUNTIF(Paramètres!K3,\"<2\")+COUNTIF(Paramètres!L3,\"<2\")+COUNTIF(Paramètres!N3,\"<2\")+COUNTIF(Paramètres!O3,\"<2\"))","v":0},{"$f":"IF(A4=\"\",\"\",COUNTIF(Paramètres!B3,\">1\")+COUNTIF(Paramètres!C3,\">1\")+COUNTIF(Paramètres!E3,\">1\")+COUNTIF(Paramètres!F3,\">1\")+COUNTIF(Paramètres!H3,\">1\")+COUNTIF(Paramètres!I3,\">1\")+COUNTIF(Paramètres!K3,\">1\")+COUNTIF(Paramètres!L3,\">1\")+COUNTIF(Paramètres!N3,\">1\")+COUNTIF(Paramètres!O3,\">1\"))","v":0},{"$f":"Tableau4[[#This Row],[Attaques réussies]]/(Tableau4[[#This Row],[Oubli]]+Tableau4[[#This Row],[Attaques ratées]]+Tableau4[[#This Row],[Attaques réussies]])","v":{"$error":"#DIV/0!"}}]
[{"$f":"IF(ISBLANK(Paramètres!A4),\"\",Paramètres!A4)","v":"firstsaint"},{"$f":"IFERROR(AVERAGE(Paramètres!B4,Paramètres!E4,Paramètres!H4,Paramètres!K4,Paramètres!N4),\"\")","v":""},{"$f":"IFERROR(AVERAGE((Paramètres!C4,Paramètres!F4,Paramètres!I4,Paramètres!L4,Paramètres!O4)),\"\")","v":""},{"$f":"IFERROR(AVERAGE((Paramètres!D4,Paramètres!G4,Paramètres!J4,Paramètres!M4,Paramètres!P4)),\"\")","v":""},{"$f":"IF(A5=\"\",\"\",COUNTIF(Paramètres!B4:C4,\"-\")+COUNTIF(Paramètres!E4:F4,\"-\")+COUNTIF(Paramètres!H4:I4,\"-\")+COUNTIF(Paramètres!K4:L4,\"-\")+COUNTIF(Paramètres!N4:O4,\"-\"))","v":0},{"$f":"IF(A5=\"\",\"\",COUNTIF(Paramètres!B4,\"<2\")+COUNTIF(Paramètres!C4,\"<2\")+COUNTIF(Paramètres!E4,\"<2\")+COUNTIF(Paramètres!F4,\"<2\")+COUNTIF(Paramètres!H4,\"<2\")+COUNTIF(Paramètres!I4,\"<2\")+COUNTIF(Paramètres!K4,\"<2\")+COUNTIF(Paramètres!L4,\"<2\")+COUNTIF(Paramètres!N4,\"<2\")+COUNTIF(Paramètres!O4,\"<2\"))","v":0},{"$f":"IF(A5=\"\",\"\",COUNTIF(Paramètres!B4,\">1\")+COUNTIF(Paramètres!C4,\">1\")+COUNTIF(Paramètres!E4,\">1\")+COUNTIF(Paramètres!F4,\">1\")+COUNTIF(Paramètres!H4,\">1\")+COUNTIF(Paramètres!I4,\">1\")+COUNTIF(Paramètres!K4,\">1\")+COUNTIF(Paramètres!L4,\">1\")+COUNTIF(Paramètres!N4,\">1\")+COUNTIF(Paramètres!O4,\">1\"))","v":0},{"$f":"Tableau4[[#This Row],[Attaques réussies]]/(Tableau4[[#This Row],[Oubli]]+Tableau4[[#This Row],[Attaques ratées]]+Tableau4[[#This Row],[Attaques réussies]])","v":{"$error":"#DIV/0!"}}]
[{"$f":"IF(ISBLANK(Paramètres!A5),\"\",Paramètres!A5)","v":"sterz"},{"$f":"IFERROR(AVERAGE(Paramètres!B5,Paramètres!E5,Paramètres!H5,Paramètres!K5,Paramètres!N5),\"\")","v":""},{"$f":"IFERROR(AVERAGE((Paramètres!C5,Paramètres!F5,Paramètres!I5,Paramètres!L5,Paramètres!O5)),\"\")","v":""},{"$f":"IFERROR(AVERAGE((Paramètres!D5,Paramètres!G5,Paramètres!J5,Paramètres!M5,Paramètres!P5)),\"\")","v":""},{"$f":"IF(A6=\"\",\"\",COUNTIF(Paramètres!B5:C5,\"-\")+COUNTIF(Paramètres!E5:F5,\"-\")+COUNTIF(Paramètres!H5:I5,\"-\")+COUNTIF(Paramètres!K5:L5,\"-\")+COUNTIF(Paramètres!N5:O5,\"-\"))","v":0},{"$f":"IF(A6=\"\",\"\",COUNTIF(Paramètres!B5,\"<2\")+COUNTIF(Paramètres!C5,\"<2\")+COUNTIF(Paramètres!E5,\"<2\")+COUNTIF(Paramètres!F5,\"<2\")+COUNTIF(Paramètres!H5,\"<2\")+COUNTIF(Paramètres!I5,\"<2\")+COUNTIF(Paramètres!K5,\"<2\")+COUNTIF(Paramètres!L5,\"<2\")+COUNTIF(Paramètres!N5,\"<2\")+COUNTIF(Paramètres!O5,\"<2\"))","v":0},{"$f":"IF(A6=\"\",\"\",COUNTIF(Paramètres!B5,\">1\")+COUNTIF(Paramètres!C5,\">1\")+COUNTIF(Paramètres!E5,\">1\")+COUNTIF(Paramètres!F5,\">1\")+COUNTIF(Paramètres!H5,\">1\")+COUNTIF(Paramètres!I5,\">1\")+COUNTIF(Paramètres!K5,\">1\")+COUNTIF(Paramètres!L5,\">1\")+COUNTIF(Paramètres!N5,\">1\")+COUNTIF(Paramètres!O5,\">1\"))","v":0},{"$f":"Tableau4[[#This Row],[Attaques réussies]]/(Tableau4[[#This Row],[Oubli]]+Tableau4[[#This Row],[Attaques ratées]]+Tableau4[[#This Row],[Attaques réussies]])","v":{"$error":"#DIV/0!"}}]
[{"$f":"IF(ISBLANK(Paramètres!A6),\"\",Paramètres!A6)","v":"nazor"},{"$f":"IFERROR(AVERAGE(Paramètres!B6,Paramètres!E6,Paramètres!H6,Paramètres!K6,Paramètres!N6),\"\")","v":""},{"$f":"IFERROR(AVERAGE((Paramètres!C6,Paramètres!F6,Paramètres!I6,Paramètres!L6,Paramètres!O6)),\"\")","v":""},{"$f":"IFERROR(AVERAGE((Paramètres!D6,Paramètres!G6,Paramètres!J6,Paramètres!M6,Paramètres!P6)),\"\")","v":""},{"$f":"IF(A7=\"\",\"\",COUNTIF(Paramètres!B6:C6,\"-\")+COUNTIF(Paramètres!E6:F6,\"-\")+COUNTIF(Paramètres!H6:I6,\"-\")+COUNTIF(Paramètres!K6:L6,\"-\")+COUNTIF(Paramètres!N6:O6,\"-\"))","v":0},{"$f":"IF(A7=\"\",\"\",COUNTIF(Paramètres!B6,\"<2\")+COUNTIF(Paramètres!C6,\"<2\")+COUNTIF(Paramètres!E6,\"<2\")+COUNTIF(Paramètres!F6,\"<2\")+COUNTIF(Paramètres!H6,\"<2\")+COUNTIF(Paramètres!I6,\"<2\")+COUNTIF(Paramètres!K6,\"<2\")+COUNTIF(Paramètres!L6,\"<2\")+COUNTIF(Paramètres!N6,\"<2\")+COUNTIF(Paramètres!O6,\"<2\"))","v":0},{"$f":"IF(A7=\"\",\"\",COUNTIF(Paramètres!B6,\">1\")+COUNTIF(Paramètres!C6,\">1\")+COUNTIF(Paramètres!E6,\">1\")+COUNTIF(Paramètres!F6,\">1\")+COUNTIF(Paramètres!H6,\">1\")+COUNTIF(Paramètres!I6,\">1\")+COUNTIF(Paramètres!K6,\">1\")+COUNTIF(Paramètres!L6,\">1\")+COUNTIF(Paramètres!N6,\">1\")+COUNTIF(Paramètres!O6,\">1\"))","v":0},{"$f":"Tableau4[[#This Row],[Attaques réussies]]/(Tableau4[[#This Row],[Oubli]]+Tableau4[[#This Row],[Attaques ratées]]+Tableau4[[#This Row],[Attaques réussies]])","v":{"$error":"#DIV/0!"}}]
[{"$f":"IF(ISBLANK(Paramètres!A7),\"\",Paramètres!A7)","v":"jomoul"},{"$f":"IFERROR(AVERAGE(Paramètres!B7,Paramètres!E7,Paramètres!H7,Paramètres!K7,Paramètres!N7),\"\")","v":""},{"$f":"IFERROR(AVERAGE((Paramètres!C7,Paramètres!F7,Paramètres!I7,Paramètres!L7,Paramètres!O7)),\"\")","v":""},{"$f":"IFERROR(AVERAGE((Paramètres!D7,Paramètres!G7,Paramètres!J7,Paramètres!M7,Paramètres!P7)),\"\")","v":""},{"$f":"IF(A8=\"\",\"\",COUNTIF(Paramètres!B7:C7,\"-\")+COUNTIF(Paramètres!E7:F7,\"-\")+COUNTIF(Paramètres!H7:I7,\"-\")+COUNTIF(Paramètres!K7:L7,\"-\")+COUNTIF(Paramètres!N7:O7,\"-\"))","v":0},{"$f":"IF(A8=\"\",\"\",COUNTIF(Paramètres!B7,\"<2\")+COUNTIF(Paramètres!C7,\"<2\")+COUNTIF(Paramètres!E7,\"<2\")+COUNTIF(Paramètres!F7,\"<2\")+COUNTIF(Paramètres!H7,\"<2\")+COUNTIF(Paramètres!I7,\"<2\")+COUNTIF(Paramètres!K7,\"<2\")+COUNTIF(Paramètres!L7,\"<2\")+COUNTIF(Paramètres!N7,\"<2\")+COUNTIF(Paramètres!O7,\"<2\"))","v":0},{"$f":"IF(A8=\"\",\"\",COUNTIF(Paramètres!B7,\">1\")+COUNTIF(Paramètres!C7,\">1\")+COUNTIF(Paramètres!E7,\">1\")+COUNTIF(Paramètres!F7,\">1\")+COUNTIF(Paramètres!H7,\">1\")+COUNTIF(Paramètres!I7,\">1\")+COUNTIF(Paramètres!K7,\">1\")+COUNTIF(Paramètres!L7,\">1\")+COUNTIF(Paramètres!N7,\">1\")+COUNTIF(Paramètres!O7,\">1\"))","v":0},{"$f":"Tableau4[[#This Row],[Attaques réussies]]/(Tableau4[[#This Row],[Oubli]]+Tableau4[[#This Row],[Attaques ratées]]+Tableau4[[#This Row],[Attaques réussies]])","v":{"$error":"#DIV/0!"}}]
[{"$f":"IF(ISBLANK(Paramètres!A8),\"\",Paramètres!A8)","v":"spoutnikx"},{"$f":"IFERROR(AVERAGE(Paramètres!B8,Paramètres!E8,Paramètres!H8,Paramètres!K8,Paramètres!N8),\"\")","v":""},{"$f":"IFERROR(AVERAGE((Paramètres!C8,Paramètres!F8,Paramètres!I8,Paramètres!L8,Paramètres!O8)),\"\")","v":""},{"$f":"IFERROR(AVERAGE((Paramètres!D8,Paramètres!G8,Paramètres!J8,Paramètres!M8,Paramètres!P8)),\"\")","v":""},{"$f":"IF(A9=\"\",\"\",COUNTIF(Paramètres!B8:C8,\"-\")+COUNTIF(Paramètres!E8:F8,\"-\")+COUNTIF(Paramètres!H8:I8,\"-\")+COUNTIF(Paramètres!K8:L8,\"-\")+COUNTIF(Paramètres!N8:O8,\"-\"))","v":0},{"$f":"IF(A9=\"\",\"\",COUNTIF(Paramètres!B8,\"<2\")+COUNTIF(Paramètres!C8,\"<2\")+COUNTIF(Paramètres!E8,\"<2\")+COUNTIF(Paramètres!F8,\"<2\")+COUNTIF(Paramètres!H8,\"<2\")+COUNTIF(Paramètres!I8,\"<2\")+COUNTIF(Paramètres!K8,\"<2\")+COUNTIF(Paramètres!L8,\"<2\")+COUNTIF(Paramètres!N8,\"<2\")+COUNTIF(Paramètres!O8,\"<2\"))","v":0},{"$f":"IF(A9=\"\",\"\",COUNTIF(Paramètres!B8,\">1\")+COUNTIF(Paramètres!C8,\">1\")+COUNTIF(Paramètres!E8,\">1\")+COUNTIF(Paramètres!F8,\">1\")+COUNTIF(Paramètres!H8,\">1\")+COUNTIF(Paramètres!I8,\">1\")+COUNTIF(Paramètres!K8,\">1\")+COUNTIF(Paramètres!L8,\">1\")+COUNTIF(Paramètres!N8,\">1\")+COUNTIF(Paramètres!O8,\">1\"))","v":0},{"$f":"Tableau4[[#This Row],[Attaques réussies]]/(Tableau4[[#This Row],[Oubli]]+Tableau4[[#This Row],[Attaques ratées]]+Tableau4[[#This Row],[Attaques réussies]])","v":{"$error":"#DIV/0!"}}]
[{"$f":"IF(ISBLANK(Paramètres!A9),\"\",Paramètres!A9)","v":"guib's"},{"$f":"IFERROR(AVERAGE(Paramètres!B9,Paramètres!E9,Paramètres!H9,Paramètres!K9,Paramètres!N9),\"\")","v":""},{"$f":"IFERROR(AVERAGE((Paramètres!C9,Paramètres!F9,Paramètres!I9,Paramètres!L9,Paramètres!O9)),\"\")","v":""},{"$f":"IFERROR(AVERAGE((Paramètres!D9,Paramètres!G9,Paramètres!J9,Paramètres!M9,Paramètres!P9)),\"\")","v":""},{"$f":"IF(A10=\"\",\"\",COUNTIF(Paramètres!B9:C9,\"-\")+COUNTIF(Paramètres!E9:F9,\"-\")+COUNTIF(Paramètres!H9:I9,\"-\")+COUNTIF(Paramètres!K9:L9,\"-\")+COUNTIF(Paramètres!N9:O9,\"-\"))","v":0},{"$f":"IF(A10=\"\",\"\",COUNTIF(Paramètres!B9,\"<2\")+COUNTIF(Paramètres!C9,\"<2\")+COUNTIF(Paramètres!E9,\"<2\")+COUNTIF(Paramètres!F9,\"<2\")+COUNTIF(Paramètres!H9,\"<2\")+COUNTIF(Paramètres!I9,\"<2\")+COUNTIF(Paramètres!K9,\"<2\")+COUNTIF(Paramètres!L9,\"<2\")+COUNTIF(Paramètres!N9,\"<2\")+COUNTIF(Paramètres!O9,\"<2\"))","v":0},{"$f":"IF(A10=\"\",\"\",COUNTIF(Paramètres!B9,\">1\")+COUNTIF(Paramètres!C9,\">1\")+COUNTIF(Paramètres!E9,\">1\")+COUNTIF(Paramètres!F9,\">1\")+COUNTIF(Paramètres!H9,\">1\")+COUNTIF(Paramètres!I9,\">1\")+COUNTIF(Paramètres!K9,\">1\")+COUNTIF(Paramètres!L9,\">1\")+COUNTIF(Paramètres!N9,\">1\")+COUNTIF(Paramètres!O9,\">1\"))","v":0},{"$f":"Tableau4[[#This Row],[Attaques réussies]]/(Tableau4[[#This Row],[Oubli]]+Tableau4[[#This Row],[Attaques ratées]]+Tableau4[[#This Row],[Attaques réussies]])","v":{"$error":"#DIV/0!"}}]
[{"$f":"IF(ISBLANK(Paramètres!A10),\"\",Paramètres!A10)","v":"teuto"},{"$f":"IFERROR(AVERAGE(Paramètres!B10,Paramètres!E10,Paramètres!H10,Paramètres!K10,Paramètres!N10),\"\")","v":""},{"$f":"IFERROR(AVERAGE((Paramètres!C10,Paramètres!F10,Paramètres!I10,Paramètres!L10,Paramètres!O10)),\"\")","v":""},{"$f":"IFERROR(AVERAGE((Paramètres!D10,Paramètres!G10,Paramètres!J10,Paramètres!M10,Paramètres!P10)),\"\")","v":""},{"$f":"IF(A11=\"\",\"\",COUNTIF(Paramètres!B10:C10,\"-\")+COUNTIF(Paramètres!E10:F10,\"-\")+COUNTIF(Paramètres!H10:I10,\"-\")+COUNTIF(Paramètres!K10:L10,\"-\")+COUNTIF(Paramètres!N10:O10,\"-\"))","v":0},{"$f":"IF(A11=\"\",\"\",COUNTIF(Paramètres!B10,\"<2\")+COUNTIF(Paramètres!C10,\"<2\")+COUNTIF(Paramètres!E10,\"<2\")+COUNTIF(Paramètres!F10,\"<2\")+COUNTIF(Paramètres!H10,\"<2\")+COUNTIF(Paramètres!I10,\"<2\")+COUNTIF(Paramètres!K10,\"<2\")+COUNTIF(Paramètres!L10,\"<2\")+COUNTIF(Paramètres!N10,\"<2\")+COUNTIF(Paramètres!O10,\"<2\"))","v":0},{"$f":"IF(A11=\"\",\"\",COUNTIF(Paramètres!B10,\">1\")+COUNTIF(Paramètres!C10,\">1\")+COUNTIF(Paramètres!E10,\">1\")+COUNTIF(Paramètres!F10,\">1\")+COUNTIF(Paramètres!H10,\">1\")+COUNTIF(Paramètres!I10,\">1\")+COUNTIF(Paramètres!K10,\">1\")+COUNTIF(Paramètres!L10,\">1\")+COUNTIF(Paramètres!N10,\">1\")+COUNTIF(Paramètres!O10,\">1\"))","v":0},{"$f":"Tableau4[[#This Row],[Attaques réussies]]/(Tableau4[[#This Row],[Oubli]]+Tableau4[[#This Row],[Attaques ratées]]+Tableau4[[#This Row],[Attaques réussies]])","v":{"$error":"#DIV/0!"}}]
[{"$f":"IF(ISBLANK(Paramètres!A11),\"\",Paramètres!A11)","v":"aoncire"},{"$f":"IFERROR(AVERAGE(Paramètres!B11,Paramètres!E11,Paramètres!H11,Paramètres!K11,Paramètres!N11),\"\")","v":""},{"$f":"IFERROR(AVERAGE((Paramètres!C11,Paramètres!F11,Paramètres!I11,Paramètres!L11,Paramètres!O11)),\"\")","v":""},{"$f":"IFERROR(AVERAGE((Paramètres!D11,Paramètres!G11,Paramètres!J11,Paramètres!M11,Paramètres!P11)),\"\")","v":""},{"$f":"IF(A12=\"\",\"\",COUNTIF(Paramètres!B11:C11,\"-\")+COUNTIF(Paramètres!E11:F11,\"-\")+COUNTIF(Paramètres!H11:I11,\"-\")+COUNTIF(Paramètres!K11:L11,\"-\")+COUNTIF(Paramètres!N11:O11,\"-\"))","v":0},{"$f":"IF(A12=\"\",\"\",COUNTIF(Paramètres!B11,\"<2\")+COUNTIF(Paramètres!C11,\"<2\")+COUNTIF(Paramètres!E11,\"<2\")+COUNTIF(Paramètres!F11,\"<2\")+COUNTIF(Paramètres!H11,\"<2\")+COUNTIF(Paramètres!I11,\"<2\")+COUNTIF(Paramètres!K11,\"<2\")+COUNTIF(Paramètres!L11,\"<2\")+COUNTIF(Paramètres!N11,\"<2\")+COUNTIF(Paramètres!O11,\"<2\"))","v":0},{"$f":"IF(A12=\"\",\"\",COUNTIF(Paramètres!B11,\">1\")+COUNTIF(Paramètres!C11,\">1\")+COUNTIF(Paramètres!E11,\">1\")+COUNTIF(Paramètres!F11,\">1\")+COUNTIF(Paramètres!H11,\">1\")+COUNTIF(Paramètres!I11,\">1\")+COUNTIF(Paramètres!K11,\">1\")+COUNTIF(Paramètres!L11,\">1\")+COUNTIF(Paramètres!N11,\">1\")+COUNTIF(Paramètres!O11,\">1\"))","v":0},{"$f":"Tableau4[[#This Row],[Attaques réussies]]/(Tableau4[[#This Row],[Oubli]]+Tableau4[[#This Row],[Attaques ratées]]+Tableau4[[#This Row],[Attaques réussies]])","v":{"$error":"#DIV/0!"}}]
[{"$f":"IF(ISBLANK(Paramètres!A12),\"\",Paramètres!A12)","v":"rem's"},{"$f":"IFERROR(AVERAGE(Paramètres!B12,Paramètres!E12,Paramètres!H12,Paramètres!K12,Paramètres!N12),\"\")","v":""},{"$f":"IFERROR(AVERAGE((Paramètres!C12,Paramètres!F12,Paramètres!I12,Paramètres!L12,Paramètres!O12)),\"\")","v":""},{"$f":"IFERROR(AVERAGE((Paramètres!D12,Paramètres!G12,Paramètres!J12,Paramètres!M12,Paramètres!P12)),\"\")","v":""},{"$f":"IF(A13=\"\",\"\",COUNTIF(Paramètres!B12:C12,\"-\")+COUNTIF(Paramètres!E12:F12,\"-\")+COUNTIF(Paramètres!H12:I12,\"-\")+COUNTIF(Paramètres!K12:L12,\"-\")+COUNTIF(Paramètres!N12:O12,\"-\"))","v":0},{"$f":"IF(A13=\"\",\"\",COUNTIF(Paramètres!B12,\"<2\")+COUNTIF(Paramètres!C12,\"<2\")+COUNTIF(Paramètres!E12,\"<2\")+COUNTIF(Paramètres!F12,\"<2\")+COUNTIF(Paramètres!H12,\"<2\")+COUNTIF(Paramètres!I12,\"<2\")+COUNTIF(Paramètres!K12,\"<2\")+COUNTIF(Paramètres!L12,\"<2\")+COUNTIF(Paramètres!N12,\"<2\")+COUNTIF(Paramètres!O12,\"<2\"))","v":0},{"$f":"IF(A13=\"\",\"\",COUNTIF(Paramètres!B12,\">1\")+COUNTIF(Paramètres!C12,\">1\")+COUNTIF(Paramètres!E12,\">1\")+COUNTIF(Paramètres!F12,\">1\")+COUNTIF(Paramètres!H12,\">1\")+COUNTIF(Paramètres!I12,\">1\")+COUNTIF(Paramètres!K12,\">1\")+COUNTIF(Paramètres!L12,\">1\")+COUNTIF(Paramètres!N12,\">1\")+COUNTIF(Paramètres!O12,\">1\"))","v":0},{"$f":"Tableau4[[#This Row],[Attaques réussies]]/(Tableau4[[#This Row],[Oubli]]+Tableau4[[#This Row],[Attaques ratées]]+Tableau4[[#This Row],[Attaques réussies]])","v":{"$error":"#DIV/0!"}}]
[{"$f":"IF(ISBLANK(Paramètres!A13),\"\",Paramètres!A13)","v":"konoha gakuren"},{"$f":"IFERROR(AVERAGE(Paramètres!B13,Paramètres!E13,Paramètres!H13,Paramètres!K13,Paramètres!N13),\"\")","v":""},{"$f":"IFERROR(AVERAGE((Paramètres!C13,Paramètres!F13,Paramètres!I13,Paramètres!L13,Paramètres!O13)),\"\")","v":""},{"$f":"IFERROR(AVERAGE((Paramètres!D13,Paramètres!G13,Paramètres!J13,Paramètres!M13,Paramètres!P13)),\"\")","v":""},{"$f":"IF(A14=\"\",\"\",COUNTIF(Paramètres!B13:C13,\"-\")+COUNTIF(Paramètres!E13:F13,\"-\")+COUNTIF(Paramètres!H13:I13,\"-\")+COUNTIF(Paramètres!K13:L13,\"-\")+COUNTIF(Paramètres!N13:O13,\"-\"))","v":0},{"$f":"IF(A14=\"\",\"\",COUNTIF(Paramètres!B13,\"<2\")+COUNTIF(Paramètres!C13,\"<2\")+COUNTIF(Paramètres!E13,\"<2\")+COUNTIF(Paramètres!F13,\"<2\")+COUNTIF(Paramètres!H13,\"<2\")+COUNTIF(Paramètres!I13,\"<2\")+COUNTIF(Paramètres!K13,\"<2\")+COUNTIF(Paramètres!L13,\"<2\")+COUNTIF(Paramètres!N13,\"<2\")+COUNTIF(Paramètres!O13,\"<2\"))","v":0},{"$f":"IF(A14=\"\",\"\",COUNTIF(Paramètres!B13,\">1\")+COUNTIF(Paramètres!C13,\">1\")+COUNTIF(Paramètres!E13,\">1\")+COUNTIF(Paramètres!F13,\">1\")+COUNTIF(Paramètres!H13,\">1\")+COUNTIF(Paramètres!I13,\">1\")+COUNTIF(Paramètres!K13,\">1\")+COUNTIF(Paramètres!L13,\">1\")+COUNTIF(Paramètres!N13,\">1\")+COUNTIF(Paramètres!O13,\">1\"))","v":0},{"$f":"Tableau4[[#This Row],[Attaques réussies]]/(Tableau4[[#This Row],[Oubli]]+Tableau4[[#This Row],[Attaques ratées]]+Tableau4[[#This Row],[Attaques réussies]])","v":{"$error":"#DIV/0!"}}]
[{"$f":"IF(ISBLANK(Paramètres!A14),\"\",Paramètres!A14)","v":"ben44"},{"$f":"IFERROR(AVERAGE(Paramètres!B14,Paramètres!E14,Paramètres!H14,Paramètres!K14,Paramètres!N14),\"\")","v":""},{"$f":"IFERROR(AVERAGE((Paramètres!C14,Paramètres!F14,Paramètres!I14,Paramètres!L14,Paramètres!O14)),\"\")","v":""},{"$f":"IFERROR(AVERAGE((Paramètres!D14,Paramètres!G14,Paramètres!J14,Paramètres!M14,Paramètres!P14)),\"\")","v":""},{"$f":"IF(A15=\"\",\"\",COUNTIF(Paramètres!B14:C14,\"-\")+COUNTIF(Paramètres!E14:F14,\"-\")+COUNTIF(Paramètres!H14:I14,\"-\")+COUNTIF(Paramètres!K14:L14,\"-\")+COUNTIF(Paramètres!N14:O14,\"-\"))","v":0},{"$f":"IF(A15=\"\",\"\",COUNTIF(Paramètres!B14,\"<2\")+COUNTIF(Paramètres!C14,\"<2\")+COUNTIF(Paramètres!E14,\"<2\")+COUNTIF(Paramètres!F14,\"<2\")+COUNTIF(Paramètres!H14,\"<2\")+COUNTIF(Paramètres!I14,\"<2\")+COUNTIF(Paramètres!K14,\"<2\")+COUNTIF(Paramètres!L14,\"<2\")+COUNTIF(Paramètres!N14,\"<2\")+COUNTIF(Paramètres!O14,\"<2\"))","v":0},{"$f":"IF(A15=\"\",\"\",COUNTIF(Paramètres!B14,\">1\")+COUNTIF(Paramètres!C14,\">1\")+COUNTIF(Paramètres!E14,\">1\")+COUNTIF(Paramètres!F14,\">1\")+COUNTIF(Paramètres!H14,\">1\")+COUNTIF(Paramètres!I14,\">1\")+COUNTIF(Paramètres!K14,\">1\")+COUNTIF(Paramètres!L14,\">1\")+COUNTIF(Paramètres!N14,\">1\")+COUNTIF(Paramètres!O14,\">1\"))","v":0},{"$f":"Tableau4[[#This Row],[Attaques réussies]]/(Tableau4[[#This Row],[Oubli]]+Tableau4[[#This Row],[Attaques ratées]]+Tableau4[[#This Row],[Attaques réussies]])","v":{"$error":"#DIV/0!"}}]
[{"$f":"IF(ISBLANK(Paramètres!A15),\"\",Paramètres!A15)","v":"duke"},{"$f":"IFERROR(AVERAGE(Paramètres!B15,Paramètres!E15,Paramètres!H15,Paramètres!K15,Paramètres!N15),\"\")","v":""},{"$f":"IFERROR(AVERAGE((Paramètres!C15,Paramètres!F15,Paramètres!I15,Paramètres!L15,Paramètres!O15)),\"\")","v":""},{"$f":"IFERROR(AVERAGE((Paramètres!D15,Paramètres!G15,Paramètres!J15,Paramètres!M15,Paramètres!P15)),\"\")","v":""},{"$f":"IF(A16=\"\",\"\",COUNTIF(Paramètres!B15:C15,\"-\")+COUNTIF(Paramètres!E15:F15,\"-\")+COUNTIF(Paramètres!H15:I15,\"-\")+COUNTIF(Paramètres!K15:L15,\"-\")+COUNTIF(Paramètres!N15:O15,\"-\"))","v":0},{"$f":"IF(A16=\"\",\"\",COUNTIF(Paramètres!B15,\"<2\")+COUNTIF(Paramètres!C15,\"<2\")+COUNTIF(Paramètres!E15,\"<2\")+COUNTIF(Paramètres!F15,\"<2\")+COUNTIF(Paramètres!H15,\"<2\")+COUNTIF(Paramètres!I15,\"<2\")+COUNTIF(Paramètres!K15,\"<2\")+COUNTIF(Paramètres!L15,\"<2\")+COUNTIF(Paramètres!N15,\"<2\")+COUNTIF(Paramètres!O15,\"<2\"))","v":0},{"$f":"IF(A16=\"\",\"\",COUNTIF(Paramètres!B15,\">1\")+COUNTIF(Paramètres!C15,\">1\")+COUNTIF(Paramètres!E15,\">1\")+COUNTIF(Paramètres!F15,\">1\")+COUNTIF(Paramètres!H15,\">1\")+COUNTIF(Paramètres!I15,\">1\")+COUNTIF(Paramètres!K15,\">1\")+COUNTIF(Paramètres!L15,\">1\")+COUNTIF(Paramètres!N15,\">1\")+COUNTIF(Paramètres!O15,\">1\"))","v":0},{"$f":"Tableau4[[#This Row],[Attaques réussies]]/(Tableau4[[#This Row],[Oubli]]+Tableau4[[#This Row],[Attaques ratées]]+Tableau4[[#This Row],[Attaques réussies]])","v":{"$error":"#DIV/0!"}}]
[{"$f":"IF(ISBLANK(Paramètres!A16),\"\",Paramètres!A16)","v":"adrienvvn"},{"$f":"IFERROR(AVERAGE(Paramètres!B16,Paramètres!E16,Paramètres!H16,Paramètres!K16,Paramètres!N16),\"\")","v":""},{"$f":"IFERROR(AVERAGE((Paramètres!C16,Paramètres!F16,Paramètres!I16,Paramètres!L16,Paramètres!O16)),\"\")","v":""},{"$f":"IFERROR(AVERAGE((Paramètres!D16,Paramètres!G16,Paramètres!J16,Paramètres!M16,Paramètres!P16)),\"\")","v":""},{"$f":"IF(A17=\"\",\"\",COUNTIF(Paramètres!B16:C16,\"-\")+COUNTIF(Paramètres!E16:F16,\"-\")+COUNTIF(Paramètres!H16:I16,\"-\")+COUNTIF(Paramètres!K16:L16,\"-\")+COUNTIF(Paramètres!N16:O16,\"-\"))","v":0},{"$f":"IF(A17=\"\",\"\",COUNTIF(Paramètres!B16,\"<2\")+COUNTIF(Paramètres!C16,\"<2\")+COUNTIF(Paramètres!E16,\"<2\")+COUNTIF(Paramètres!F16,\"<2\")+COUNTIF(Paramètres!H16,\"<2\")+COUNTIF(Paramètres!I16,\"<2\")+COUNTIF(Paramètres!K16,\"<2\")+COUNTIF(Paramètres!L16,\"<2\")+COUNTIF(Paramètres!N16,\"<2\")+COUNTIF(Paramètres!O16,\"<2\"))","v":0},{"$f":"IF(A17=\"\",\"\",COUNTIF(Paramètres!B16,\">1\")+COUNTIF(Paramètres!C16,\">1\")+COUNTIF(Paramètres!E16,\">1\")+COUNTIF(Paramètres!F16,\">1\")+COUNTIF(Paramètres!H16,\">1\")+COUNTIF(Paramètres!I16,\">1\")+COUNTIF(Paramètres!K16,\">1\")+COUNTIF(Paramètres!L16,\">1\")+COUNTIF(Paramètres!N16,\">1\")+COUNTIF(Paramètres!O16,\">1\"))","v":0},{"$f":"Tableau4[[#This Row],[Attaques réussies]]/(Tableau4[[#This Row],[Oubli]]+Tableau4[[#This Row],[Attaques ratées]]+Tableau4[[#This Row],[Attaques réussies]])","v":{"$error":"#DIV/0!"}}]
[{"$f":"IF(ISBLANK(Paramètres!A17),\"\",Paramètres!A17)","v":"pixx"},{"$f":"IFERROR(AVERAGE(Paramètres!B17,Paramètres!E17,Paramètres!H17,Paramètres!K17,Paramètres!N17),\"\")","v":""},{"$f":"IFERROR(AVERAGE((Paramètres!C17,Paramètres!F17,Paramètres!I17,Paramètres!L17,Paramètres!O17)),\"\")","v":""},{"$f":"IFERROR(AVERAGE((Paramètres!D17,Paramètres!G17,Paramètres!J17,Paramètres!M17,Paramètres!P17)),\"\")","v":""},{"$f":"IF(A18=\"\",\"\",COUNTIF(Paramètres!B17:C17,\"-\")+COUNTIF(Paramètres!E17:F17,\"-\")+COUNTIF(Paramètres!H17:I17,\"-\")+COUNTIF(Paramètres!K17:L17,\"-\")+COUNTIF(Paramètres!N17:O17,\"-\"))","v":0},{"$f":"IF(A18=\"\",\"\",COUNTIF(Paramètres!B17,\"<2\")+COUNTIF(Paramètres!C17,\"<2\")+COUNTIF(Paramètres!E17,\"<2\")+COUNTIF(Paramètres!F17,\"<2\")+COUNTIF(Paramètres!H17,\"<2\")+COUNTIF(Paramètres!I17,\"<2\")+COUNTIF(Paramètres!K17,\"<2\")+COUNTIF(Paramètres!L17,\"<2\")+COUNTIF(Paramètres!N17,\"<2\")+COUNTIF(Paramètres!O17,\"<2\"))","v":0},{"$f":"IF(A18=\"\",\"\",COUNTIF(Paramètres!B17,\">1\")+COUNTIF(Paramètres!C17,\">1\")+COUNTIF(Paramètres!E17,\">1\")+COUNTIF(Paramètres!F17,\">1\")+COUNTIF(Paramètres!H17,\">1\")+COUNTIF(Paramètres!I17,\">1\")+COUNTIF(Paramètres!K17,\">1\")+COUNTIF(Paramètres!L17,\">1\")+COUNTIF(Paramètres!N17,\">1\")+COUNTIF(Paramètres!O17,\">1\"))","v":0},{"$f":"Tableau4[[#This Row],[Attaques réussies]]/(Tableau4[[#This Row],[Oubli]]+Tableau4[[#This Row],[Attaques ratées]]+Tableau4[[#This Row],[Attaques réussies]])","v":{"$error":"#DIV/0!"}}]
[{"$f":"IF(ISBLANK(Paramètres!A18),\"\",Paramètres!A18)","v":"jj"},{"$f":"IFERROR(AVERAGE(Paramètres!B18,Paramètres!E18,Paramètres!H18,Paramètres!K18,Paramètres!N18),\"\")","v":""},{"$f":"IFERROR(AVERAGE((Paramètres!C18,Paramètres!F18,Paramètres!I18,Paramètres!L18,Paramètres!O18)),\"\")","v":""},{"$f":"IFERROR(AVERAGE((Paramètres!D18,Paramètres!G18,Paramètres!J18,Paramètres!M18,Paramètres!P18)),\"\")","v":""},{"$f":"IF(A19=\"\",\"\",COUNTIF(Paramètres!B18:C18,\"-\")+COUNTIF(Paramètres!E18:F18,\"-\")+COUNTIF(Paramètres!H18:I18,\"-\")+COUNTIF(Paramètres!K18:L18,\"-\")+COUNTIF(Paramètres!N18:O18,\"-\"))","v":0},{"$f":"IF(A19=\"\",\"\",COUNTIF(Paramètres!B18,\"<2\")+COUNTIF(Paramètres!C18,\"<2\")+COUNTIF(Paramètres!E18,\"<2\")+COUNTIF(Paramètres!F18,\"<2\")+COUNTIF(Paramètres!H18,\"<2\")+COUNTIF(Paramètres!I18,\"<2\")+COUNTIF(Paramètres!K18,\"<2\")+COUNTIF(Paramètres!L18,\"<2\")+COUNTIF(Paramètres!N18,\"<2\")+COUNTIF(Paramètres!O18,\"<2\"))","v":0},{"$f":"IF(A19=\"\",\"\",COUNTIF(Paramètres!B18,\">1\")+COUNTIF(Paramètres!C18,\">1\")+COUNTIF(Paramètres!E18,\">1\")+COUNTIF(Paramètres!F18,\">1\")+COUNTIF(Paramètres!H18,\">1\")+COUNTIF(Paramètres!I18,\">1\")+COUNTIF(Paramètres!K18,\">1\")+COUNTIF(Paramètres!L18,\">1\")+COUNTIF(Paramètres!N18,\">1\")+COUNTIF(Paramètres!O18,\">1\"))","v":0},{"$f":"Tableau4[[#This Row],[Attaques réussies]]/(Tableau4[[#This Row],[Oubli]]+Tableau4[[#This Row],[Attaques ratées]]+Tableau4[[#This Row],[Attaques réussies]])","v":{"$error":"#DIV/0!"}}]
[{"$f":"IF(ISBLANK(Paramètres!A19),\"\",Paramètres!A19)","v":"nicostratos"},{"$f":"IFERROR(AVERAGE(Paramètres!B19,Paramètres!E19,Paramètres!H19,Paramètres!K19,Paramètres!N19),\"\")","v":""},{"$f":"IFERROR(AVERAGE((Paramètres!C19,Paramètres!F19,Paramètres!I19,Paramètres!L19,Paramètres!O19)),\"\")","v":""},{"$f":"IFERROR(AVERAGE((Paramètres!D19,Paramètres!G19,Paramètres!J19,Paramètres!M19,Paramètres!P19)),\"\")","v":""},{"$f":"IF(A20=\"\",\"\",COUNTIF(Paramètres!B19:C19,\"-\")+COUNTIF(Paramètres!E19:F19,\"-\")+COUNTIF(Paramètres!H19:I19,\"-\")+COUNTIF(Paramètres!K19:L19,\"-\")+COUNTIF(Paramètres!N19:O19,\"-\"))","v":0},{"$f":"IF(A20=\"\",\"\",COUNTIF(Paramètres!B19,\"<2\")+COUNTIF(Paramètres!C19,\"<2\")+COUNTIF(Paramètres!E19,\"<2\")+COUNTIF(Paramètres!F19,\"<2\")+COUNTIF(Paramètres!H19,\"<2\")+COUNTIF(Paramètres!I19,\"<2\")+COUNTIF(Paramètres!K19,\"<2\")+COUNTIF(Paramètres!L19,\"<2\")+COUNTIF(Paramètres!N19,\"<2\")+COUNTIF(Paramètres!O19,\"<2\"))","v":0},{"$f":"IF(A20=\"\",\"\",COUNTIF(Paramètres!B19,\">1\")+COUNTIF(Paramètres!C19,\">1\")+COUNTIF(Paramètres!E19,\">1\")+COUNTIF(Paramètres!F19,\">1\")+COUNTIF(Paramètres!H19,\">1\")+COUNTIF(Paramètres!I19,\">1\")+COUNTIF(Paramètres!K19,\">1\")+COUNTIF(Paramètres!L19,\">1\")+COUNTIF(Paramètres!N19,\">1\")+COUNTIF(Paramètres!O19,\">1\"))","v":0},{"$f":"Tableau4[[#This Row],[Attaques réussies]]/(Tableau4[[#This Row],[Oubli]]+Tableau4[[#This Row],[Attaques ratées]]+Tableau4[[#This Row],[Attaques réussies]])","v":{"$error":"#DIV/0!"}}]
[{"$f":"IF(ISBLANK(Paramètres!A20),\"\",Paramètres!A20)","v":"golum"},{"$f":"IFERROR(AVERAGE(Paramètres!B20,Paramètres!E20,Paramètres!H20,Paramètres!K20,Paramètres!N20),\"\")","v":""},{"$f":"IFERROR(AVERAGE((Paramètres!C20,Paramètres!F20,Paramètres!I20,Paramètres!L20,Paramètres!O20)),\"\")","v":""},{"$f":"IFERROR(AVERAGE((Paramètres!D20,Paramètres!G20,Paramètres!J20,Paramètres!M20,Paramètres!P20)),\"\")","v":""},{"$f":"IF(A21=\"\",\"\",COUNTIF(Paramètres!B20:C20,\"-\")+COUNTIF(Paramètres!E20:F20,\"-\")+COUNTIF(Paramètres!H20:I20,\"-\")+COUNTIF(Paramètres!K20:L20,\"-\")+COUNTIF(Paramètres!N20:O20,\"-\"))","v":0},{"$f":"IF(A21=\"\",\"\",COUNTIF(Paramètres!B20,\"<2\")+COUNTIF(Paramètres!C20,\"<2\")+COUNTIF(Paramètres!E20,\"<2\")+COUNTIF(Paramètres!F20,\"<2\")+COUNTIF(Paramètres!H20,\"<2\")+COUNTIF(Paramètres!I20,\"<2\")+COUNTIF(Paramètres!K20,\"<2\")+COUNTIF(Paramètres!L20,\"<2\")+COUNTIF(Paramètres!N20,\"<2\")+COUNTIF(Paramètres!O20,\"<2\"))","v":0},{"$f":"IF(A21=\"\",\"\",COUNTIF(Paramètres!B20,\">1\")+COUNTIF(Paramètres!C20,\">1\")+COUNTIF(Paramètres!E20,\">1\")+COUNTIF(Paramètres!F20,\">1\")+COUNTIF(Paramètres!H20,\">1\")+COUNTIF(Paramètres!I20,\">1\")+COUNTIF(Paramètres!K20,\">1\")+COUNTIF(Paramètres!L20,\">1\")+COUNTIF(Paramètres!N20,\">1\")+COUNTIF(Paramètres!O20,\">1\"))","v":0},{"$f":"Tableau4[[#This Row],[Attaques réussies]]/(Tableau4[[#This Row],[Oubli]]+Tableau4[[#This Row],[Attaques ratées]]+Tableau4[[#This Row],[Attaques réussies]])","v":{"$error":"#DIV/0!"}}]
[{"$f":"IF(ISBLANK(Paramètres!A21),\"\",Paramètres!A21)","v":"gael"},{"$f":"IFERROR(AVERAGE(Paramètres!B21,Paramètres!E21,Paramètres!H21,Paramètres!K21,Paramètres!N21),\"\")","v":""},{"$f":"IFERROR(AVERAGE((Paramètres!C21,Paramètres!F21,Paramètres!I21,Paramètres!L21,Paramètres!O21)),\"\")","v":""},{"$f":"IFERROR(AVERAGE((Paramètres!D21,Paramètres!G21,Paramètres!J21,Paramètres!M21,Paramètres!P21)),\"\")","v":""},{"$f":"IF(A22=\"\",\"\",COUNTIF(Paramètres!B21:C21,\"-\")+COUNTIF(Paramètres!E21:F21,\"-\")+COUNTIF(Paramètres!H21:I21,\"-\")+COUNTIF(Paramètres!K21:L21,\"-\")+COUNTIF(Paramètres!N21:O21,\"-\"))","v":0},{"$f":"IF(A22=\"\",\"\",COUNTIF(Paramètres!B21,\"<2\")+COUNTIF(Paramètres!C21,\"<2\")+COUNTIF(Paramètres!E21,\"<2\")+COUNTIF(Paramètres!F21,\"<2\")+COUNTIF(Paramètres!H21,\"<2\")+COUNTIF(Paramètres!I21,\"<2\")+COUNTIF(Paramètres!K21,\"<2\")+COUNTIF(Paramètres!L21,\"<2\")+COUNTIF(Paramètres!N21,\"<2\")+COUNTIF(Paramètres!O21,\"<2\"))","v":0},{"$f":"IF(A22=\"\",\"\",COUNTIF(Paramètres!B21,\">1\")+COUNTIF(Paramètres!C21,\">1\")+COUNTIF(Paramètres!E21,\">1\")+COUNTIF(Paramètres!F21,\">1\")+COUNTIF(Paramètres!H21,\">1\")+COUNTIF(Paramètres!I21,\">1\")+COUNTIF(Paramètres!K21,\">1\")+COUNTIF(Paramètres!L21,\">1\")+COUNTIF(Paramètres!N21,\">1\")+COUNTIF(Paramètres!O21,\">1\"))","v":0},{"$f":"Tableau4[[#This Row],[Attaques réussies]]/(Tableau4[[#This Row],[Oubli]]+Tableau4[[#This Row],[Attaques ratées]]+Tableau4[[#This Row],[Attaques réussies]])","v":{"$error":"#DIV/0!"}}]
[{"$f":"IF(ISBLANK(Paramètres!A22),\"\",Paramètres!A22)","v":"voul"},{"$f":"IFERROR(AVERAGE(Paramètres!B22,Paramètres!E22,Paramètres!H22,Paramètres!K22,Paramètres!N22),\"\")","v":""},{"$f":"IFERROR(AVERAGE((Paramètres!C22,Paramètres!F22,Paramètres!I22,Paramètres!L22,Paramètres!O22)),\"\")","v":""},{"$f":"IFERROR(AVERAGE((Paramètres!D22,Paramètres!G22,Paramètres!J22,Paramètres!M22,Paramètres!P22)),\"\")","v":""},{"$f":"IF(A23=\"\",\"\",COUNTIF(Paramètres!B22:C22,\"-\")+COUNTIF(Paramètres!E22:F22,\"-\")+COUNTIF(Paramètres!H22:I22,\"-\")+COUNTIF(Paramètres!K22:L22,\"-\")+COUNTIF(Paramètres!N22:O22,\"-\"))","v":0},{"$f":"IF(A23=\"\",\"\",COUNTIF(Paramètres!B22,\"<2\")+COUNTIF(Paramètres!C22,\"<2\")+COUNTIF(Paramètres!E22,\"<2\")+COUNTIF(Paramètres!F22,\"<2\")+COUNTIF(Paramètres!H22,\"<2\")+COUNTIF(Paramètres!I22,\"<2\")+COUNTIF(Paramètres!K22,\"<2\")+COUNTIF(Paramètres!L22,\"<2\")+COUNTIF(Paramètres!N22,\"<2\")+COUNTIF(Paramètres!O22,\"<2\"))","v":0},{"$f":"IF(A23=\"\",\"\",COUNTIF(Paramètres!B22,\">1\")+COUNTIF(Paramètres!C22,\">1\")+COUNTIF(Paramètres!E22,\">1\")+COUNTIF(Paramètres!F22,\">1\")+COUNTIF(Paramètres!H22,\">1\")+COUNTIF(Paramètres!I22,\">1\")+COUNTIF(Paramètres!K22,\">1\")+COUNTIF(Paramètres!L22,\">1\")+COUNTIF(Paramètres!N22,\">1\")+COUNTIF(Paramètres!O22,\">1\"))","v":0},{"$f":"Tableau4[[#This Row],[Attaques réussies]]/(Tableau4[[#This Row],[Oubli]]+Tableau4[[#This Row],[Attaques ratées]]+Tableau4[[#This Row],[Attaques réussies]])","v":{"$error":"#DIV/0!"}}]
[{"$f":"IF(ISBLANK(Paramètres!A23),\"\",Paramètres!A23)","v":"white wolf"},{"$f":"IFERROR(AVERAGE(Paramètres!B23,Paramètres!E23,Paramètres!H23,Paramètres!K23,Paramètres!N23),\"\")","v":""},{"$f":"IFERROR(AVERAGE((Paramètres!C23,Paramètres!F23,Paramètres!I23,Paramètres!L23,Paramètres!O23)),\"\")","v":""},{"$f":"IFERROR(AVERAGE((Paramètres!D23,Paramètres!G23,Paramètres!J23,Paramètres!M23,Paramètres!P23)),\"\")","v":""},{"$f":"IF(A24=\"\",\"\",COUNTIF(Paramètres!B23:C23,\"-\")+COUNTIF(Paramètres!E23:F23,\"-\")+COUNTIF(Paramètres!H23:I23,\"-\")+COUNTIF(Paramètres!K23:L23,\"-\")+COUNTIF(Paramètres!N23:O23,\"-\"))","v":0},{"$f":"IF(A24=\"\",\"\",COUNTIF(Paramètres!B23,\"<2\")+COUNTIF(Paramètres!C23,\"<2\")+COUNTIF(Paramètres!E23,\"<2\")+COUNTIF(Paramètres!F23,\"<2\")+COUNTIF(Paramètres!H23,\"<2\")+COUNTIF(Paramètres!I23,\"<2\")+COUNTIF(Paramètres!K23,\"<2\")+COUNTIF(Paramètres!L23,\"<2\")+COUNTIF(Paramètres!N23,\"<2\")+COUNTIF(Paramètres!O23,\"<2\"))","v":0},{"$f":"IF(A24=\"\",\"\",COUNTIF(Paramètres!B23,\">1\")+COUNTIF(Paramètres!C23,\">1\")+COUNTIF(Paramètres!E23,\">1\")+COUNTIF(Paramètres!F23,\">1\")+COUNTIF(Paramètres!H23,\">1\")+COUNTIF(Paramètres!I23,\">1\")+COUNTIF(Paramètres!K23,\">1\")+COUNTIF(Paramètres!L23,\">1\")+COUNTIF(Paramètres!N23,\">1\")+COUNTIF(Paramètres!O23,\">1\"))","v":0},{"$f":"Tableau4[[#This Row],[Attaques réussies]]/(Tableau4[[#This Row],[Oubli]]+Tableau4[[#This Row],[Attaques ratées]]+Tableau4[[#This Row],[Attaques réussies]])","v":{"$error":"#DIV/0!"}}]
[{"$f":"IF(ISBLANK(Paramètres!A24),\"\",Paramètres!A24)","v":"gorka"},{"$f":"IFERROR(AVERAGE(Paramètres!B24,Paramètres!E24,Paramètres!H24,Paramètres!K24,Paramètres!N24),\"\")","v":""},{"$f":"IFERROR(AVERAGE((Paramètres!C24,Paramètres!F24,Paramètres!I24,Paramètres!L24,Paramètres!O24)),\"\")","v":""},{"$f":"IFERROR(AVERAGE((Paramètres!D24,Paramètres!G24,Paramètres!J24,Paramètres!M24,Paramètres!P24)),\"\")","v":""},{"$f":"IF(A25=\"\",\"\",COUNTIF(Paramètres!B24:C24,\"-\")+COUNTIF(Paramètres!E24:F24,\"-\")+COUNTIF(Paramètres!H24:I24,\"-\")+COUNTIF(Paramètres!K24:L24,\"-\")+COUNTIF(Paramètres!N24:O24,\"-\"))","v":0},{"$f":"IF(A25=\"\",\"\",COUNTIF(Paramètres!B24,\"<2\")+COUNTIF(Paramètres!C24,\"<2\")+COUNTIF(Paramètres!E24,\"<2\")+COUNTIF(Paramètres!F24,\"<2\")+COUNTIF(Paramètres!H24,\"<2\")+COUNTIF(Paramètres!I24,\"<2\")+COUNTIF(Paramètres!K24,\"<2\")+COUNTIF(Paramètres!L24,\"<2\")+COUNTIF(Paramètres!N24,\"<2\")+COUNTIF(Paramètres!O24,\"<2\"))","v":0},{"$f":"IF(A25=\"\",\"\",COUNTIF(Paramètres!B24,\">1\")+COUNTIF(Paramètres!C24,\">1\")+COUNTIF(Paramètres!E24,\">1\")+COUNTIF(Paramètres!F24,\">1\")+COUNTIF(Paramètres!H24,\">1\")+COUNTIF(Paramètres!I24,\">1\")+COUNTIF(Paramètres!K24,\">1\")+COUNTIF(Paramètres!L24,\">1\")+COUNTIF(Paramètres!N24,\">1\")+COUNTIF(Paramètres!O24,\">1\"))","v":0},{"$f":"Tableau4[[#This Row],[Attaques réussies]]/(Tableau4[[#This Row],[Oubli]]+Tableau4[[#This Row],[Attaques ratées]]+Tableau4[[#This Row],[Attaques réussies]])","v":{"$error":"#DIV/0!"}}]
[{"$f":"IF(ISBLANK(Paramètres!A25),\"\",Paramètres!A25)","v":"yoyo13008"},{"$f":"IFERROR(AVERAGE(Paramètres!B25,Paramètres!E25,Paramètres!H25,Paramètres!K25,Paramètres!N25),\"\")","v":""},{"$f":"IFERROR(AVERAGE((Paramètres!C25,Paramètres!F25,Paramètres!I25,Paramètres!L25,Paramètres!O25)),\"\")","v":""},{"$f":"IFERROR(AVERAGE((Paramètres!D25,Paramètres!G25,Paramètres!J25,Paramètres!M25,Paramètres!P25)),\"\")","v":""},{"$f":"IF(A26=\"\",\"\",COUNTIF(Paramètres!B25:C25,\"-\")+COUNTIF(Paramètres!E25:F25,\"-\")+COUNTIF(Paramètres!H25:I25,\"-\")+COUNTIF(Paramètres!K25:L25,\"-\")+COUNTIF(Paramètres!N25:O25,\"-\"))","v":0},{"$f":"IF(A26=\"\",\"\",COUNTIF(Paramètres!B25,\"<2\")+COUNTIF(Paramètres!C25,\"<2\")+COUNTIF(Paramètres!E25,\"<2\")+COUNTIF(Paramètres!F25,\"<2\")+COUNTIF(Paramètres!H25,\"<2\")+COUNTIF(Paramètres!I25,\"<2\")+COUNTIF(Paramètres!K25,\"<2\")+COUNTIF(Paramètres!L25,\"<2\")+COUNTIF(Paramètres!N25,\"<2\")+COUNTIF(Paramètres!O25,\"<2\"))","v":0},{"$f":"IF(A26=\"\",\"\",COUNTIF(Paramètres!B25,\">1\")+COUNTIF(Paramètres!C25,\">1\")+COUNTIF(Paramètres!E25,\">1\")+COUNTIF(Paramètres!F25,\">1\")+COUNTIF(Paramètres!H25,\">1\")+COUNTIF(Paramètres!I25,\">1\")+COUNTIF(Paramètres!K25,\">1\")+COUNTIF(Paramètres!L25,\">1\")+COUNTIF(Paramètres!N25,\">1\")+COUNTIF(Paramètres!O25,\">1\"))","v":0},{"$f":"Tableau4[[#This Row],[Attaques réussies]]/(Tableau4[[#This Row],[Oubli]]+Tableau4[[#This Row],[Attaques ratées]]+Tableau4[[#This Row],[Attaques réussies]])","v":{"$error":"#DIV/0!"}}]
[{"$f":"IF(ISBLANK(Paramètres!A26),\"\",Paramètres!A26)","v":"mrviko"},{"$f":"IFERROR(AVERAGE(Paramètres!B26,Paramètres!E26,Paramètres!H26,Paramètres!K26,Paramètres!N26),\"\")","v":""},{"$f":"IFERROR(AVERAGE((Paramètres!C26,Paramètres!F26,Paramètres!I26,Paramètres!L26,Paramètres!O26)),\"\")","v":""},{"$f":"IFERROR(AVERAGE((Paramètres!D26,Paramètres!G26,Paramètres!J26,Paramètres!M26,Paramètres!P26)),\"\")","v":""},{"$f":"IF(A27=\"\",\"\",COUNTIF(Paramètres!B26:C26,\"-\")+COUNTIF(Paramètres!E26:F26,\"-\")+COUNTIF(Paramètres!H26:I26,\"-\")+COUNTIF(Paramètres!K26:L26,\"-\")+COUNTIF(Paramètres!N26:O26,\"-\"))","v":0},{"$f":"IF(A27=\"\",\"\",COUNTIF(Paramètres!B26,\"<2\")+COUNTIF(Paramètres!C26,\"<2\")+COUNTIF(Paramètres!E26,\"<2\")+COUNTIF(Paramètres!F26,\"<2\")+COUNTIF(Paramètres!H26,\"<2\")+COUNTIF(Paramètres!I26,\"<2\")+COUNTIF(Paramètres!K26,\"<2\")+COUNTIF(Paramètres!L26,\"<2\")+COUNTIF(Paramètres!N26,\"<2\")+COUNTIF(Paramètres!O26,\"<2\"))","v":0},{"$f":"IF(A27=\"\",\"\",COUNTIF(Paramètres!B26,\">1\")+COUNTIF(Paramètres!C26,\">1\")+COUNTIF(Paramètres!E26,\">1\")+COUNTIF(Paramètres!F26,\">1\")+COUNTIF(Paramètres!H26,\">1\")+COUNTIF(Paramètres!I26,\">1\")+COUNTIF(Paramètres!K26,\">1\")+COUNTIF(Paramètres!L26,\">1\")+COUNTIF(Paramètres!N26,\">1\")+COUNTIF(Paramètres!O26,\">1\"))","v":0},{"$f":"Tableau4[[#This Row],[Attaques réussies]]/(Tableau4[[#This Row],[Oubli]]+Tableau4[[#This Row],[Attaques ratées]]+Tableau4[[#This Row],[Attaques réussies]])","v":{"$error":"#DIV/0!"}}]
[{"$f":"IF(ISBLANK(Paramètres!A27),\"\",Paramètres!A27)","v":"raphael"},{"$f":"IFERROR(AVERAGE(Paramètres!B27,Paramètres!E27,Paramètres!H27,Paramètres!K27,Paramètres!N27),\"\")","v":""},{"$f":"IFERROR(AVERAGE((Paramètres!C27,Paramètres!F27,Paramètres!I27,Paramètres!L27,Paramètres!O27)),\"\")","v":""},{"$f":"IFERROR(AVERAGE((Paramètres!D27,Paramètres!G27,Paramètres!J27,Paramètres!M27,Paramètres!P27)),\"\")","v":""},{"$f":"IF(A28=\"\",\"\",COUNTIF(Paramètres!B27:C27,\"-\")+COUNTIF(Paramètres!E27:F27,\"-\")+COUNTIF(Paramètres!H27:I27,\"-\")+COUNTIF(Paramètres!K27:L27,\"-\")+COUNTIF(Paramètres!N27:O27,\"-\"))","v":0},{"$f":"IF(A28=\"\",\"\",COUNTIF(Paramètres!B27,\"<2\")+COUNTIF(Paramètres!C27,\"<2\")+COUNTIF(Paramètres!E27,\"<2\")+COUNTIF(Paramètres!F27,\"<2\")+COUNTIF(Paramètres!H27,\"<2\")+COUNTIF(Paramètres!I27,\"<2\")+COUNTIF(Paramètres!K27,\"<2\")+COUNTIF(Paramètres!L27,\"<2\")+COUNTIF(Paramètres!N27,\"<2\")+COUNTIF(Paramètres!O27,\"<2\"))","v":0},{"$f":"IF(A28=\"\",\"\",COUNTIF(Paramètres!B27,\">1\")+COUNTIF(Paramètres!C27,\">1\")+COUNTIF(Paramètres!E27,\">1\")+COUNTIF(Paramètres!F27,\">1\")+COUNTIF(Paramètres!H27,\">1\")+COUNTIF(Paramètres!I27,\">1\")+COUNTIF(Paramètres!K27,\">1\")+COUNTIF(Paramètres!L27,\">1\")+COUNTIF(Paramètres!N27,\">1\")+COUNTIF(Paramètres!O27,\">1\"))","v":0},{"$f":"Tableau4[[#This Row],[Attaques réussies]]/(Tableau4[[#This Row],[Oubli]]+Tableau4[[#This Row],[Attaques ratées]]+Tableau4[[#This Row],[Attaques réussies]])","v":{"$error":"#DIV/0!"}}]
[{"$f":"IF(ISBLANK(Paramètres!A28),\"\",Paramètres!A28)","v":"gazzouille"},{"$f":"IFERROR(AVERAGE(Paramètres!B28,Paramètres!E28,Paramètres!H28,Paramètres!K28,Paramètres!N28),\"\")","v":""},{"$f":"IFERROR(AVERAGE((Paramètres!C28,Paramètres!F28,Paramètres!I28,Paramètres!L28,Paramètres!O28)),\"\")","v":""},{"$f":"IFERROR(AVERAGE((Paramètres!D28,Paramètres!G28,Paramètres!J28,Paramètres!M28,Paramètres!P28)),\"\")","v":""},{"$f":"IF(A29=\"\",\"\",COUNTIF(Paramètres!B28:C28,\"-\")+COUNTIF(Paramètres!E28:F28,\"-\")+COUNTIF(Paramètres!H28:I28,\"-\")+COUNTIF(Paramètres!K28:L28,\"-\")+COUNTIF(Paramètres!N28:O28,\"-\"))","v":0},{"$f":"IF(A29=\"\",\"\",COUNTIF(Paramètres!B28,\"<2\")+COUNTIF(Paramètres!C28,\"<2\")+COUNTIF(Paramètres!E28,\"<2\")+COUNTIF(Paramètres!F28,\"<2\")+COUNTIF(Paramètres!H28,\"<2\")+COUNTIF(Paramètres!I28,\"<2\")+COUNTIF(Paramètres!K28,\"<2\")+COUNTIF(Paramètres!L28,\"<2\")+COUNTIF(Paramètres!N28,\"<2\")+COUNTIF(Paramètres!O28,\"<2\"))","v":0},{"$f":"IF(A29=\"\",\"\",COUNTIF(Paramètres!B28,\">1\")+COUNTIF(Paramètres!C28,\">1\")+COUNTIF(Paramètres!E28,\">1\")+COUNTIF(Paramètres!F28,\">1\")+COUNTIF(Paramètres!H28,\">1\")+COUNTIF(Paramètres!I28,\">1\")+COUNTIF(Paramètres!K28,\">1\")+COUNTIF(Paramètres!L28,\">1\")+COUNTIF(Paramètres!N28,\">1\")+COUNTIF(Paramètres!O28,\">1\"))","v":0},{"$f":"Tableau4[[#This Row],[Attaques réussies]]/(Tableau4[[#This Row],[Oubli]]+Tableau4[[#This Row],[Attaques ratées]]+Tableau4[[#This Row],[Attaques réussies]])","v":{"$error":"#DIV/0!"}}]
[{"$f":"IF(ISBLANK(Paramètres!A29),\"\",Paramètres!A29)","v":"keoleblanc"},{"$f":"IFERROR(AVERAGE(Paramètres!B29,Paramètres!E29,Paramètres!H29,Paramètres!K29,Paramètres!N29),\"\")","v":""},{"$f":"IFERROR(AVERAGE((Paramètres!C29,Paramètres!F29,Paramètres!I29,Paramètres!L29,Paramètres!O29)),\"\")","v":""},{"$f":"IFERROR(AVERAGE((Paramètres!D29,Paramètres!G29,Paramètres!J29,Paramètres!M29,Paramètres!P29)),\"\")","v":""},{"$f":"IF(A30=\"\",\"\",COUNTIF(Paramètres!B29:C29,\"-\")+COUNTIF(Paramètres!E29:F29,\"-\")+COUNTIF(Paramètres!H29:I29,\"-\")+COUNTIF(Paramètres!K29:L29,\"-\")+COUNTIF(Paramètres!N29:O29,\"-\"))","v":0},{"$f":"IF(A30=\"\",\"\",COUNTIF(Paramètres!B29,\"<2\")+COUNTIF(Paramètres!C29,\"<2\")+COUNTIF(Paramètres!E29,\"<2\")+COUNTIF(Paramètres!F29,\"<2\")+COUNTIF(Paramètres!H29,\"<2\")+COUNTIF(Paramètres!I29,\"<2\")+COUNTIF(Paramètres!K29,\"<2\")+COUNTIF(Paramètres!L29,\"<2\")+COUNTIF(Paramètres!N29,\"<2\")+COUNTIF(Paramètres!O29,\"<2\"))","v":0},{"$f":"IF(A30=\"\",\"\",COUNTIF(Paramètres!B29,\">1\")+COUNTIF(Paramètres!C29,\">1\")+COUNTIF(Paramètres!E29,\">1\")+COUNTIF(Paramètres!F29,\">1\")+COUNTIF(Paramètres!H29,\">1\")+COUNTIF(Paramètres!I29,\">1\")+COUNTIF(Paramètres!K29,\">1\")+COUNTIF(Paramètres!L29,\">1\")+COUNTIF(Paramètres!N29,\">1\")+COUNTIF(Paramètres!O29,\">1\"))","v":0},{"$f":"Tableau4[[#This Row],[Attaques réussies]]/(Tableau4[[#This Row],[Oubli]]+Tableau4[[#This Row],[Attaques ratées]]+Tableau4[[#This Row],[Attaques réussies]])","v":{"$error":"#DIV/0!"}}]
[{"$f":"IF(ISBLANK(Paramètres!A30),\"\",Paramètres!A30)","v":"paulette"},{"$f":"IFERROR(AVERAGE(Paramètres!B30,Paramètres!E30,Paramètres!H30,Paramètres!K30,Paramètres!N30),\"\")","v":""},{"$f":"IFERROR(AVERAGE((Paramètres!C30,Paramètres!F30,Paramètres!I30,Paramètres!L30,Paramètres!O30)),\"\")","v":""},{"$f":"IFERROR(AVERAGE((Paramètres!D30,Paramètres!G30,Paramètres!J30,Paramètres!M30,Paramètres!P30)),\"\")","v":""},{"$f":"IF(A31=\"\",\"\",COUNTIF(Paramètres!B30:C30,\"-\")+COUNTIF(Paramètres!E30:F30,\"-\")+COUNTIF(Paramètres!H30:I30,\"-\")+COUNTIF(Paramètres!K30:L30,\"-\")+COUNTIF(Paramètres!N30:O30,\"-\"))","v":0},{"$f":"IF(A31=\"\",\"\",COUNTIF(Paramètres!B30,\"<2\")+COUNTIF(Paramètres!C30,\"<2\")+COUNTIF(Paramètres!E30,\"<2\")+COUNTIF(Paramètres!F30,\"<2\")+COUNTIF(Paramètres!H30,\"<2\")+COUNTIF(Paramètres!I30,\"<2\")+COUNTIF(Paramètres!K30,\"<2\")+COUNTIF(Paramètres!L30,\"<2\")+COUNTIF(Paramètres!N30,\"<2\")+COUNTIF(Paramètres!O30,\"<2\"))","v":0},{"$f":"IF(A31=\"\",\"\",COUNTIF(Paramètres!B30,\">1\")+COUNTIF(Paramètres!C30,\">1\")+COUNTIF(Paramètres!E30,\">1\")+COUNTIF(Paramètres!F30,\">1\")+COUNTIF(Paramètres!H30,\">1\")+COUNTIF(Paramètres!I30,\">1\")+COUNTIF(Paramètres!K30,\">1\")+COUNTIF(Paramètres!L30,\">1\")+COUNTIF(Paramètres!N30,\">1\")+COUNTIF(Paramètres!O30,\">1\"))","v":0},{"$f":"Tableau4[[#This Row],[Attaques réussies]]/(Tableau4[[#This Row],[Oubli]]+Tableau4[[#This Row],[Attaques ratées]]+Tableau4[[#This Row],[Attaques réussies]])","v":{"$error":"#DIV/0!"}}]
[{"$f":"IF(ISBLANK(Paramètres!A31),\"\",Paramètres!A31)","v":"youpla"},{"$f":"IFERROR(AVERAGE(Paramètres!B31,Paramètres!E31,Paramètres!H31,Paramètres!K31,Paramètres!N31),\"\")","v":""},{"$f":"IFERROR(AVERAGE((Paramètres!C31,Paramètres!F31,Paramètres!I31,Paramètres!L31,Paramètres!O31)),\"\")","v":""},{"$f":"IFERROR(AVERAGE((Paramètres!D31,Paramètres!G31,Paramètres!J31,Paramètres!M31,Paramètres!P31)),\"\")","v":""},{"$f":"IF(A32=\"\",\"\",COUNTIF(Paramètres!B31:C31,\"-\")+COUNTIF(Paramètres!E31:F31,\"-\")+COUNTIF(Paramètres!H31:I31,\"-\")+COUNTIF(Paramètres!K31:L31,\"-\")+COUNTIF(Paramètres!N31:O31,\"-\"))","v":0},{"$f":"IF(A32=\"\",\"\",COUNTIF(Paramètres!B31,\"<2\")+COUNTIF(Paramètres!C31,\"<2\")+COUNTIF(Paramètres!E31,\"<2\")+COUNTIF(Paramètres!F31,\"<2\")+COUNTIF(Paramètres!H31,\"<2\")+COUNTIF(Paramètres!I31,\"<2\")+COUNTIF(Paramètres!K31,\"<2\")+COUNTIF(Paramètres!L31,\"<2\")+COUNTIF(Paramètres!N31,\"<2\")+COUNTIF(Paramètres!O31,\"<2\"))","v":0},{"$f":"IF(A32=\"\",\"\",COUNTIF(Paramètres!B31,\">1\")+COUNTIF(Paramètres!C31,\">1\")+COUNTIF(Paramètres!E31,\">1\")+COUNTIF(Paramètres!F31,\">1\")+COUNTIF(Paramètres!H31,\">1\")+COUNTIF(Paramètres!I31,\">1\")+COUNTIF(Paramètres!K31,\">1\")+COUNTIF(Paramètres!L31,\">1\")+COUNTIF(Paramètres!N31,\">1\")+COUNTIF(Paramètres!O31,\">1\"))","v":0},{"$f":"Tableau4[[#This Row],[Attaques réussies]]/(Tableau4[[#This Row],[Oubli]]+Tableau4[[#This Row],[Attaques ratées]]+Tableau4[[#This Row],[Attaques réussies]])","v":{"$error":"#DIV/0!"}}]
[{"$f":"IF(ISBLANK(Paramètres!A32),\"\",Paramètres!A32)","v":""},{"$f":"IFERROR(AVERAGE(Paramètres!B32,Paramètres!E32,Paramètres!H32,Paramètres!K32,Paramètres!N32),\"\")","v":""},{"$f":"IFERROR(AVERAGE((Paramètres!C32,Paramètres!F32,Paramètres!I32,Paramètres!L32,Paramètres!O32)),\"\")","v":""},{"$f":"IFERROR(AVERAGE((Paramètres!D32,Paramètres!G32,Paramètres!J32,Paramètres!M32,Paramètres!P32)),\"\")","v":""},{"$f":"IF(A33=\"\",\"\",COUNTIF(Paramètres!B32:C32,\"-\")+COUNTIF(Paramètres!E32:F32,\"-\")+COUNTIF(Paramètres!H32:I32,\"-\")+COUNTIF(Paramètres!K32:L32,\"-\")+COUNTIF(Paramètres!N32:O32,\"-\"))","v":""},{"$f":"IF(A33=\"\",\"\",COUNTIF(Paramètres!B32,\"<2\")+COUNTIF(Paramètres!C32,\"<2\")+COUNTIF(Paramètres!E32,\"<2\")+COUNTIF(Paramètres!F32,\"<2\")+COUNTIF(Paramètres!H32,\"<2\")+COUNTIF(Paramètres!I32,\"<2\")+COUNTIF(Paramètres!K32,\"<2\")+COUNTIF(Paramètres!L32,\"<2\")+COUNTIF(Paramètres!N32,\"<2\")+COUNTIF(Paramètres!O32,\"<2\"))","v":""},{"$f":"IF(A33=\"\",\"\",COUNTIF(Paramètres!B32,\">1\")+COUNTIF(Paramètres!C32,\">1\")+COUNTIF(Paramètres!E32,\">1\")+COUNTIF(Paramètres!F32,\">1\")+COUNTIF(Paramètres!H32,\">1\")+COUNTIF(Paramètres!I32,\">1\")+COUNTIF(Paramètres!K32,\">1\")+COUNTIF(Paramètres!L32,\">1\")+COUNTIF(Paramètres!N32,\">1\")+COUNTIF(Paramètres!O32,\">1\"))","v":""},{"$f":"Tableau4[[#This Row],[Attaques réussies]]/(Tableau4[[#This Row],[Oubli]]+Tableau4[[#This Row],[Attaques ratées]]+Tableau4[[#This Row],[Attaques réussies]])","v":{"$error":"#VALUE!"}}]
[{"$f":"IF(ISBLANK(Paramètres!A33),\"\",Paramètres!A33)","v":"sterzog"},{"$f":"IFERROR(AVERAGE(Paramètres!B33,Paramètres!E33,Paramètres!H33,Paramètres!K33,Paramètres!N33),\"\")","v":""},{"$f":"IFERROR(AVERAGE((Paramètres!C33,Paramètres!F33,Paramètres!I33,Paramètres!L33,Paramètres!O33)),\"\")","v":""},{"$f":"IFERROR(AVERAGE((Paramètres!D33,Paramètres!G33,Paramètres!J33,Paramètres!M33,Paramètres!P33)),\"\")","v":""},{"$f":"IF(A34=\"\",\"\",COUNTIF(Paramètres!B33:C33,\"-\")+COUNTIF(Paramètres!E33:F33,\"-\")+COUNTIF(Paramètres!H33:I33,\"-\")+COUNTIF(Paramètres!K33:L33,\"-\")+COUNTIF(Paramètres!N33:O33,\"-\"))","v":0},{"$f":"IF(A34=\"\",\"\",COUNTIF(Paramètres!B33,\"<2\")+COUNTIF(Paramètres!C33,\"<2\")+COUNTIF(Paramètres!E33,\"<2\")+COUNTIF(Paramètres!F33,\"<2\")+COUNTIF(Paramètres!H33,\"<2\")+COUNTIF(Paramètres!I33,\"<2\")+COUNTIF(Paramètres!K33,\"<2\")+COUNTIF(Paramètres!L33,\"<2\")+COUNTIF(Paramètres!N33,\"<2\")+COUNTIF(Paramètres!O33,\"<2\"))","v":0},{"$f":"IF(A34=\"\",\"\",COUNTIF(Paramètres!B33,\">1\")+COUNTIF(Paramètres!C33,\">1\")+COUNTIF(Paramètres!E33,\">1\")+COUNTIF(Paramètres!F33,\">1\")+COUNTIF(Paramètres!H33,\">1\")+COUNTIF(Paramètres!I33,\">1\")+COUNTIF(Paramètres!K33,\">1\")+COUNTIF(Paramètres!L33,\">1\")+COUNTIF(Paramètres!N33,\">1\")+COUNTIF(Paramètres!O33,\">1\"))","v":0},{"$f":"Tableau4[[#This Row],[Attaques réussies]]/(Tableau4[[#This Row],[Oubli]]+Tableau4[[#This Row],[Attaques ratées]]+Tableau4[[#This Row],[Attaques réussies]])","v":{"$error":"#DIV/0!"}}]
[{"$f":"IF(ISBLANK(Paramètres!A34),\"\",Paramètres!A34)","v":"dtc"},{"$f":"IFERROR(AVERAGE(Paramètres!B34,Paramètres!E34,Paramètres!H34,Paramètres!K34,Paramètres!N34),\"\")","v":""},{"$f":"IFERROR(AVERAGE((Paramètres!C34,Paramètres!F34,Paramètres!I34,Paramètres!L34,Paramètres!O34)),\"\")","v":""},{"$f":"IFERROR(AVERAGE((Paramètres!D34,Paramètres!G34,Paramètres!J34,Paramètres!M34,Paramètres!P34)),\"\")","v":""},{"$f":"IF(A35=\"\",\"\",COUNTIF(Paramètres!B34:C34,\"-\")+COUNTIF(Paramètres!E34:F34,\"-\")+COUNTIF(Paramètres!H34:I34,\"-\")+COUNTIF(Paramètres!K34:L34,\"-\")+COUNTIF(Paramètres!N34:O34,\"-\"))","v":0},{"$f":"IF(A35=\"\",\"\",COUNTIF(Paramètres!B34,\"<2\")+COUNTIF(Paramètres!C34,\"<2\")+COUNTIF(Paramètres!E34,\"<2\")+COUNTIF(Paramètres!F34,\"<2\")+COUNTIF(Paramètres!H34,\"<2\")+COUNTIF(Paramètres!I34,\"<2\")+COUNTIF(Paramètres!K34,\"<2\")+COUNTIF(Paramètres!L34,\"<2\")+COUNTIF(Paramètres!N34,\"<2\")+COUNTIF(Paramètres!O34,\"<2\"))","v":0},{"$f":"IF(A35=\"\",\"\",COUNTIF(Paramètres!B34,\">1\")+COUNTIF(Paramètres!C34,\">1\")+COUNTIF(Paramètres!E34,\">1\")+COUNTIF(Paramètres!F34,\">1\")+COUNTIF(Paramètres!H34,\">1\")+COUNTIF(Paramètres!I34,\">1\")+COUNTIF(Paramètres!K34,\">1\")+COUNTIF(Paramètres!L34,\">1\")+COUNTIF(Paramètres!N34,\">1\")+COUNTIF(Paramètres!O34,\">1\"))","v":0},{"$f":"Tableau4[[#This Row],[Attaques réussies]]/(Tableau4[[#This Row],[Oubli]]+Tableau4[[#This Row],[Attaques ratées]]+Tableau4[[#This Row],[Attaques réussies]])","v":{"$error":"#DIV/0!"}}]
[{"$f":"IF(ISBLANK(Paramètres!A35),\"\",Paramètres!A35)","v":"teutobokhe"},{"$f":"IFERROR(AVERAGE(Paramètres!B35,Paramètres!E35,Paramètres!H35,Paramètres!K35,Paramètres!N35),\"\")","v":""},{"$f":"IFERROR(AVERAGE((Paramètres!C35,Paramètres!F35,Paramètres!I35,Paramètres!L35,Paramètres!O35)),\"\")","v":""},{"$f":"IFERROR(AVERAGE((Paramètres!D35,Paramètres!G35,Paramètres!J35,Paramètres!M35,Paramètres!P35)),\"\")","v":""},{"$f":"IF(A36=\"\",\"\",COUNTIF(Paramètres!B35:C35,\"-\")+COUNTIF(Paramètres!E35:F35,\"-\")+COUNTIF(Paramètres!H35:I35,\"-\")+COUNTIF(Paramètres!K35:L35,\"-\")+COUNTIF(Paramètres!N35:O35,\"-\"))","v":0},{"$f":"IF(A36=\"\",\"\",COUNTIF(Paramètres!B35,\"<2\")+COUNTIF(Paramètres!C35,\"<2\")+COUNTIF(Paramètres!E35,\"<2\")+COUNTIF(Paramètres!F35,\"<2\")+COUNTIF(Paramètres!H35,\"<2\")+COUNTIF(Paramètres!I35,\"<2\")+COUNTIF(Paramètres!K35,\"<2\")+COUNTIF(Paramètres!L35,\"<2\")+COUNTIF(Paramètres!N35,\"<2\")+COUNTIF(Paramètres!O35,\"<2\"))","v":0},{"$f":"IF(A36=\"\",\"\",COUNTIF(Paramètres!B35,\">1\")+COUNTIF(Paramètres!C35,\">1\")+COUNTIF(Paramètres!E35,\">1\")+COUNTIF(Paramètres!F35,\">1\")+COUNTIF(Paramètres!H35,\">1\")+COUNTIF(Paramètres!I35,\">1\")+COUNTIF(Paramètres!K35,\">1\")+COUNTIF(Paramètres!L35,\">1\")+COUNTIF(Paramètres!N35,\">1\")+COUNTIF(Paramètres!O35,\">1\"))","v":0},{"$f":"Tableau4[[#This Row],[Attaques réussies]]/(Tableau4[[#This Row],[Oubli]]+Tableau4[[#This Row],[Attaques ratées]]+Tableau4[[#This Row],[Attaques réussies]])","v":{"$error":"#DIV/0!"}}]
[{"$f":"IF(ISBLANK(Paramètres!A36),\"\",Paramètres!A36)","v":"konoha"},{"$f":"IFERROR(AVERAGE(Paramètres!B36,Paramètres!E36,Paramètres!H36,Paramètres!K36,Paramètres!N36),\"\")","v":""},{"$f":"IFERROR(AVERAGE((Paramètres!C36,Paramètres!F36,Paramètres!I36,Paramètres!L36,Paramètres!O36)),\"\")","v":""},{"$f":"IFERROR(AVERAGE((Paramètres!D36,Paramètres!G36,Paramètres!J36,Paramètres!M36,Paramètres!P36)),\"\")","v":""},{"$f":"IF(A37=\"\",\"\",COUNTIF(Paramètres!B36:C36,\"-\")+COUNTIF(Paramètres!E36:F36,\"-\")+COUNTIF(Paramètres!H36:I36,\"-\")+COUNTIF(Paramètres!K36:L36,\"-\")+COUNTIF(Paramètres!N36:O36,\"-\"))","v":0},{"$f":"IF(A37=\"\",\"\",COUNTIF(Paramètres!B36,\"<2\")+COUNTIF(Paramètres!C36,\"<2\")+COUNTIF(Paramètres!E36,\"<2\")+COUNTIF(Paramètres!F36,\"<2\")+COUNTIF(Paramètres!H36,\"<2\")+COUNTIF(Paramètres!I36,\"<2\")+COUNTIF(Paramètres!K36,\"<2\")+COUNTIF(Paramètres!L36,\"<2\")+COUNTIF(Paramètres!N36,\"<2\")+COUNTIF(Paramètres!O36,\"<2\"))","v":0},{"$f":"IF(A37=\"\",\"\",COUNTIF(Paramètres!B36,\">1\")+COUNTIF(Paramètres!C36,\">1\")+COUNTIF(Paramètres!E36,\">1\")+COUNTIF(Paramètres!F36,\">1\")+COUNTIF(Paramètres!H36,\">1\")+COUNTIF(Paramètres!I36,\">1\")+COUNTIF(Paramètres!K36,\">1\")+COUNTIF(Paramètres!L36,\">1\")+COUNTIF(Paramètres!N36,\">1\")+COUNTIF(Paramètres!O36,\">1\"))","v":0},{"$f":"Tableau4[[#This Row],[Attaques réussies]]/(Tableau4[[#This Row],[Oubli]]+Tableau4[[#This Row],[Attaques ratées]]+Tableau4[[#This Row],[Attaques réussies]])","v":{"$error":"#DIV/0!"}}]
[{"$f":"IF(ISBLANK(Paramètres!A37),\"\",Paramètres!A37)","v":"nicostartos"},{"$f":"IFERROR(AVERAGE(Paramètres!B37,Paramètres!E37,Paramètres!H37,Paramètres!K37,Paramètres!N37),\"\")","v":""},{"$f":"IFERROR(AVERAGE((Paramètres!C37,Paramètres!F37,Paramètres!I37,Paramètres!L37,Paramètres!O37)),\"\")","v":""},{"$f":"IFERROR(AVERAGE((Paramètres!D37,Paramètres!G37,Paramètres!J37,Paramètres!M37,Paramètres!P37)),\"\")","v":""},{"$f":"IF(A38=\"\",\"\",COUNTIF(Paramètres!B37:C37,\"-\")+COUNTIF(Paramètres!E37:F37,\"-\")+COUNTIF(Paramètres!H37:I37,\"-\")+COUNTIF(Paramètres!K37:L37,\"-\")+COUNTIF(Paramètres!N37:O37,\"-\"))","v":0},{"$f":"IF(A38=\"\",\"\",COUNTIF(Paramètres!B37,\"<2\")+COUNTIF(Paramètres!C37,\"<2\")+COUNTIF(Paramètres!E37,\"<2\")+COUNTIF(Paramètres!F37,\"<2\")+COUNTIF(Paramètres!H37,\"<2\")+COUNTIF(Paramètres!I37,\"<2\")+COUNTIF(Paramètres!K37,\"<2\")+COUNTIF(Paramètres!L37,\"<2\")+COUNTIF(Paramètres!N37,\"<2\")+COUNTIF(Paramètres!O37,\"<2\"))","v":0},{"$f":"IF(A38=\"\",\"\",COUNTIF(Paramètres!B37,\">1\")+COUNTIF(Paramètres!C37,\">1\")+COUNTIF(Paramètres!E37,\">1\")+COUNTIF(Paramètres!F37,\">1\")+COUNTIF(Paramètres!H37,\">1\")+COUNTIF(Paramètres!I37,\">1\")+COUNTIF(Paramètres!K37,\">1\")+COUNTIF(Paramètres!L37,\">1\")+COUNTIF(Paramètres!N37,\">1\")+COUNTIF(Paramètres!O37,\">1\"))","v":0},{"$f":"Tableau4[[#This Row],[Attaques réussies]]/(Tableau4[[#This Row],[Oubli]]+Tableau4[[#This Row],[Attaques ratées]]+Tableau4[[#This Row],[Attaques réussies]])","v":{"$error":"#DIV/0!"}}]
[{"$f":"IF(ISBLANK(Paramètres!A38),\"\",Paramètres!A38)","v":"juju"},{"$f":"IFERROR(AVERAGE(Paramètres!B38,Paramètres!E38,Paramètres!H38,Paramètres!K38,Paramètres!N38),\"\")","v":""},{"$f":"IFERROR(AVERAGE((Paramètres!C38,Paramètres!F38,Paramètres!I38,Paramètres!L38,Paramètres!O38)),\"\")","v":""},{"$f":"IFERROR(AVERAGE((Paramètres!D38,Paramètres!G38,Paramètres!J38,Paramètres!M38,Paramètres!P38)),\"\")","v":""},{"$f":"IF(A39=\"\",\"\",COUNTIF(Paramètres!B38:C38,\"-\")+COUNTIF(Paramètres!E38:F38,\"-\")+COUNTIF(Paramètres!H38:I38,\"-\")+COUNTIF(Paramètres!K38:L38,\"-\")+COUNTIF(Paramètres!N38:O38,\"-\"))","v":0},{"$f":"IF(A39=\"\",\"\",COUNTIF(Paramètres!B38,\"<2\")+COUNTIF(Paramètres!C38,\"<2\")+COUNTIF(Paramètres!E38,\"<2\")+COUNTIF(Paramètres!F38,\"<2\")+COUNTIF(Paramètres!H38,\"<2\")+COUNTIF(Paramètres!I38,\"<2\")+COUNTIF(Paramètres!K38,\"<2\")+COUNTIF(Paramètres!L38,\"<2\")+COUNTIF(Paramètres!N38,\"<2\")+COUNTIF(Paramètres!O38,\"<2\"))","v":0},{"$f":"IF(A39=\"\",\"\",COUNTIF(Paramètres!B38,\">1\")+COUNTIF(Paramètres!C38,\">1\")+COUNTIF(Paramètres!E38,\">1\")+COUNTIF(Paramètres!F38,\">1\")+COUNTIF(Paramètres!H38,\">1\")+COUNTIF(Paramètres!I38,\">1\")+COUNTIF(Paramètres!K38,\">1\")+COUNTIF(Paramètres!L38,\">1\")+COUNTIF(Paramètres!N38,\">1\")+COUNTIF(Paramètres!O38,\">1\"))","v":0},{"$f":"Tableau4[[#This Row],[Attaques réussies]]/(Tableau4[[#This Row],[Oubli]]+Tableau4[[#This Row],[Attaques ratées]]+Tableau4[[#This Row],[Attaques réussies]])","v":{"$error":"#DIV/0!"}}]
[{"$f":"IF(ISBLANK(Paramètres!A39),\"\",Paramètres!A39)","v":"menka"},{"$f":"IFERROR(AVERAGE(Paramètres!B39,Paramètres!E39,Paramètres!H39,Paramètres!K39,Paramètres!N39),\"\")","v":""},{"$f":"IFERROR(AVERAGE((Paramètres!C39,Paramètres!F39,Paramètres!I39,Paramètres!L39,Paramètres!O39)),\"\")","v":""},{"$f":"IFERROR(AVERAGE((Paramètres!D39,Paramètres!G39,Paramètres!J39,Paramètres!M39,Paramètres!P39)),\"\")","v":""},{"$f":"IF(A40=\"\",\"\",COUNTIF(Paramètres!B39:C39,\"-\")+COUNTIF(Paramètres!E39:F39,\"-\")+COUNTIF(Paramètres!H39:I39,\"-\")+COUNTIF(Paramètres!K39:L39,\"-\")+COUNTIF(Paramètres!N39:O39,\"-\"))","v":0},{"$f":"IF(A40=\"\",\"\",COUNTIF(Paramètres!B39,\"<2\")+COUNTIF(Paramètres!C39,\"<2\")+COUNTIF(Paramètres!E39,\"<2\")+COUNTIF(Paramètres!F39,\"<2\")+COUNTIF(Paramètres!H39,\"<2\")+COUNTIF(Paramètres!I39,\"<2\")+COUNTIF(Paramètres!K39,\"<2\")+COUNTIF(Paramètres!L39,\"<2\")+COUNTIF(Paramètres!N39,\"<2\")+COUNTIF(Paramètres!O39,\"<2\"))","v":0},{"$f":"IF(A40=\"\",\"\",COUNTIF(Paramètres!B39,\">1\")+COUNTIF(Paramètres!C39,\">1\")+COUNTIF(Paramètres!E39,\">1\")+COUNTIF(Paramètres!F39,\">1\")+COUNTIF(Paramètres!H39,\">1\")+COUNTIF(Paramètres!I39,\">1\")+COUNTIF(Paramètres!K39,\">1\")+COUNTIF(Paramètres!L39,\">1\")+COUNTIF(Paramètres!N39,\">1\")+COUNTIF(Paramètres!O39,\">1\"))","v":0},{"$f":"Tableau4[[#This Row],[Attaques réussies]]/(Tableau4[[#This Row],[Oubli]]+Tableau4[[#This Row],[Attaques ratées]]+Tableau4[[#This Row],[Attaques réussies]])","v":{"$error":"#DIV/0!"}}]
[{"$f":"IF(ISBLANK(Paramètres!A40),\"\",Paramètres!A40)","v":"demis"},{"$f":"IFERROR(AVERAGE(Paramètres!B40,Paramètres!E40,Paramètres!H40,Paramètres!K40,Paramètres!N40),\"\")","v":""},{"$f":"IFERROR(AVERAGE((Paramètres!C40,Paramètres!F40,Paramètres!I40,Paramètres!L40,Paramètres!O40)),\"\")","v":""},{"$f":"IFERROR(AVERAGE((Paramètres!D40,Paramètres!G40,Paramètres!J40,Paramètres!M40,Paramètres!P40)),\"\")","v":""},{"$f":"IF(A41=\"\",\"\",COUNTIF(Paramètres!B40:C40,\"-\")+COUNTIF(Paramètres!E40:F40,\"-\")+COUNTIF(Paramètres!H40:I40,\"-\")+COUNTIF(Paramètres!K40:L40,\"-\")+COUNTIF(Paramètres!N40:O40,\"-\"))","v":0},{"$f":"IF(A41=\"\",\"\",COUNTIF(Paramètres!B40,\"<2\")+COUNTIF(Paramètres!C40,\"<2\")+COUNTIF(Paramètres!E40,\"<2\")+COUNTIF(Paramètres!F40,\"<2\")+COUNTIF(Paramètres!H40,\"<2\")+COUNTIF(Paramètres!I40,\"<2\")+COUNTIF(Paramètres!K40,\"<2\")+COUNTIF(Paramètres!L40,\"<2\")+COUNTIF(Paramètres!N40,\"<2\")+COUNTIF(Paramètres!O40,\"<2\"))","v":0},{"$f":"IF(A41=\"\",\"\",COUNTIF(Paramètres!B40,\">1\")+COUNTIF(Paramètres!C40,\">1\")+COUNTIF(Paramètres!E40,\">1\")+COUNTIF(Paramètres!F40,\">1\")+COUNTIF(Paramètres!H40,\">1\")+COUNTIF(Paramètres!I40,\">1\")+COUNTIF(Paramètres!K40,\">1\")+COUNTIF(Paramètres!L40,\">1\")+COUNTIF(Paramètres!N40,\">1\")+COUNTIF(Paramètres!O40,\">1\"))","v":0},{"$f":"Tableau4[[#This Row],[Attaques réussies]]/(Tableau4[[#This Row],[Oubli]]+Tableau4[[#This Row],[Attaques ratées]]+Tableau4[[#This Row],[Attaques réussies]])","v":{"$error":"#DIV/0!"}}]
[{"$f":"IF(ISBLANK(Paramètres!A41),\"\",Paramètres!A41)","v":"damien"},{"$f":"IFERROR(AVERAGE(Paramètres!B41,Paramètres!E41,Paramètres!H41,Paramètres!K41,Paramètres!N41),\"\")","v":""},{"$f":"IFERROR(AVERAGE((Paramètres!C41,Paramètres!F41,Paramètres!I41,Paramètres!L41,Paramètres!O41)),\"\")","v":""},{"$f":"IFERROR(AVERAGE((Paramètres!D41,Paramètres!G41,Paramètres!J41,Paramètres!M41,Paramètres!P41)),\"\")","v":""},{"$f":"IF(A42=\"\",\"\",COUNTIF(Paramètres!B41:C41,\"-\")+COUNTIF(Paramètres!E41:F41,\"-\")+COUNTIF(Paramètres!H41:I41,\"-\")+COUNTIF(Paramètres!K41:L41,\"-\")+COUNTIF(Paramètres!N41:O41,\"-\"))","v":0},{"$f":"IF(A42=\"\",\"\",COUNTIF(Paramètres!B41,\"<2\")+COUNTIF(Paramètres!C41,\"<2\")+COUNTIF(Paramètres!E41,\"<2\")+COUNTIF(Paramètres!F41,\"<2\")+COUNTIF(Paramètres!H41,\"<2\")+COUNTIF(Paramètres!I41,\"<2\")+COUNTIF(Paramètres!K41,\"<2\")+COUNTIF(Paramètres!L41,\"<2\")+COUNTIF(Paramètres!N41,\"<2\")+COUNTIF(Paramètres!O41,\"<2\"))","v":0},{"$f":"IF(A42=\"\",\"\",COUNTIF(Paramètres!B41,\">1\")+COUNTIF(Paramètres!C41,\">1\")+COUNTIF(Paramètres!E41,\">1\")+COUNTIF(Paramètres!F41,\">1\")+COUNTIF(Paramètres!H41,\">1\")+COUNTIF(Paramètres!I41,\">1\")+COUNTIF(Paramètres!K41,\">1\")+COUNTIF(Paramètres!L41,\">1\")+COUNTIF(Paramètres!N41,\">1\")+COUNTIF(Paramètres!O41,\">1\"))","v":0},{"$f":"Tableau4[[#This Row],[Attaques réussies]]/(Tableau4[[#This Row],[Oubli]]+Tableau4[[#This Row],[Attaques ratées]]+Tableau4[[#This Row],[Attaques réussies]])","v":{"$error":"#DIV/0!"}}]
[{"$f":"IF(ISBLANK(Paramètres!A42),\"\",Paramètres!A42)","v":""},{"$f":"IFERROR(AVERAGE(Paramètres!B42,Paramètres!E42,Paramètres!H42,Paramètres!K42,Paramètres!N42),\"\")","v":""},{"$f":"IFERROR(AVERAGE((Paramètres!C42,Paramètres!F42,Paramètres!I42,Paramètres!L42,Paramètres!O42)),\"\")","v":""},{"$f":"IFERROR(AVERAGE((Paramètres!D42,Paramètres!G42,Paramètres!J42,Paramètres!M42,Paramètres!P42)),\"\")","v":""},{"$f":"IF(A43=\"\",\"\",COUNTIF(Paramètres!B42:C42,\"-\")+COUNTIF(Paramètres!E42:F42,\"-\")+COUNTIF(Paramètres!H42:I42,\"-\")+COUNTIF(Paramètres!K42:L42,\"-\")+COUNTIF(Paramètres!N42:O42,\"-\"))","v":""},{"$f":"IF(A43=\"\",\"\",COUNTIF(Paramètres!B42,\"<2\")+COUNTIF(Paramètres!C42,\"<2\")+COUNTIF(Paramètres!E42,\"<2\")+COUNTIF(Paramètres!F42,\"<2\")+COUNTIF(Paramètres!H42,\"<2\")+COUNTIF(Paramètres!I42,\"<2\")+COUNTIF(Paramètres!K42,\"<2\")+COUNTIF(Paramètres!L42,\"<2\")+COUNTIF(Paramètres!N42,\"<2\")+COUNTIF(Paramètres!O42,\"<2\"))","v":""},{"$f":"IF(A43=\"\",\"\",COUNTIF(Paramètres!B42,\">1\")+COUNTIF(Paramètres!C42,\">1\")+COUNTIF(Paramètres!E42,\">1\")+COUNTIF(Paramètres!F42,\">1\")+COUNTIF(Paramètres!H42,\">1\")+COUNTIF(Paramètres!I42,\">1\")+COUNTIF(Paramètres!K42,\">1\")+COUNTIF(Paramètres!L42,\">1\")+COUNTIF(Paramètres!N42,\">1\")+COUNTIF(Paramètres!O42,\">1\"))","v":""},{"$f":"Tableau4[[#This Row],[Attaques réussies]]/(Tableau4[[#This Row],[Oubli]]+Tableau4[[#This Row],[Attaques ratées]]+Tableau4[[#This Row],[Attaques réussies]])","v":{"$error":"#VALUE!"}}]
[{"$f":"IF(ISBLANK(Paramètres!A43),\"\",Paramètres!A43)","v":""},{"$f":"IFERROR(AVERAGE(Paramètres!B43,Paramètres!E43,Paramètres!H43,Paramètres!K43,Paramètres!N43),\"\")","v":""},{"$f":"IFERROR(AVERAGE((Paramètres!C43,Paramètres!F43,Paramètres!I43,Paramètres!L43,Paramètres!O43)),\"\")","v":""},{"$f":"IFERROR(AVERAGE((Paramètres!D43,Paramètres!G43,Paramètres!J43,Paramètres!M43,Paramètres!P43)),\"\")","v":""},{"$f":"IF(A44=\"\",\"\",COUNTIF(Paramètres!B43:C43,\"-\")+COUNTIF(Paramètres!E43:F43,\"-\")+COUNTIF(Paramètres!H43:I43,\"-\")+COUNTIF(Paramètres!K43:L43,\"-\")+COUNTIF(Paramètres!N43:O43,\"-\"))","v":""},{"$f":"IF(A44=\"\",\"\",COUNTIF(Paramètres!B43,\"<2\")+COUNTIF(Paramètres!C43,\"<2\")+COUNTIF(Paramètres!E43,\"<2\")+COUNTIF(Paramètres!F43,\"<2\")+COUNTIF(Paramètres!H43,\"<2\")+COUNTIF(Paramètres!I43,\"<2\")+COUNTIF(Paramètres!K43,\"<2\")+COUNTIF(Paramètres!L43,\"<2\")+COUNTIF(Paramètres!N43,\"<2\")+COUNTIF(Paramètres!O43,\"<2\"))","v":""},{"$f":"IF(A44=\"\",\"\",COUNTIF(Paramètres!B43,\">1\")+COUNTIF(Paramètres!C43,\">1\")+COUNTIF(Paramètres!E43,\">1\")+COUNTIF(Paramètres!F43,\">1\")+COUNTIF(Paramètres!H43,\">1\")+COUNTIF(Paramètres!I43,\">1\")+COUNTIF(Paramètres!K43,\">1\")+COUNTIF(Paramètres!L43,\">1\")+COUNTIF(Paramètres!N43,\">1\")+COUNTIF(Paramètres!O43,\">1\"))","v":""},{"$f":"Tableau4[[#This Row],[Attaques réussies]]/(Tableau4[[#This Row],[Oubli]]+Tableau4[[#This Row],[Attaques ratées]]+Tableau4[[#This Row],[Attaques réussies]])","v":{"$error":"#VALUE!"}}]
[{"$f":"IF(ISBLANK(Paramètres!A44),\"\",Paramètres!A44)","v":""},{"$f":"IFERROR(AVERAGE(Paramètres!B44,Paramètres!E44,Paramètres!H44,Paramètres!K44,Paramètres!N44),\"\")","v":""},{"$f":"IFERROR(AVERAGE((Paramètres!C44,Paramètres!F44,Paramètres!I44,Paramètres!L44,Paramètres!O44)),\"\")","v":""},{"$f":"IFERROR(AVERAGE((Paramètres!D44,Paramètres!G44,Paramètres!J44,Paramètres!M44,Paramètres!P44)),\"\")","v":""},{"$f":"IF(A45=\"\",\"\",COUNTIF(Paramètres!B44:C44,\"-\")+COUNTIF(Paramètres!E44:F44,\"-\")+COUNTIF(Paramètres!H44:I44,\"-\")+COUNTIF(Paramètres!K44:L44,\"-\")+COUNTIF(Paramètres!N44:O44,\"-\"))","v":""},{"$f":"IF(A45=\"\",\"\",COUNTIF(Paramètres!B44,\"<2\")+COUNTIF(Paramètres!C44,\"<2\")+COUNTIF(Paramètres!E44,\"<2\")+COUNTIF(Paramètres!F44,\"<2\")+COUNTIF(Paramètres!H44,\"<2\")+COUNTIF(Paramètres!I44,\"<2\")+COUNTIF(Paramètres!K44,\"<2\")+COUNTIF(Paramètres!L44,\"<2\")+COUNTIF(Paramètres!N44,\"<2\")+COUNTIF(Paramètres!O44,\"<2\"))","v":""},{"$f":"IF(A45=\"\",\"\",COUNTIF(Paramètres!B44,\">1\")+COUNTIF(Paramètres!C44,\">1\")+COUNTIF(Paramètres!E44,\">1\")+COUNTIF(Paramètres!F44,\">1\")+COUNTIF(Paramètres!H44,\">1\")+COUNTIF(Paramètres!I44,\">1\")+COUNTIF(Paramètres!K44,\">1\")+COUNTIF(Paramètres!L44,\">1\")+COUNTIF(Paramètres!N44,\">1\")+COUNTIF(Paramètres!O44,\">1\"))","v":""},{"$f":"Tableau4[[#This Row],[Attaques réussies]]/(Tableau4[[#This Row],[Oubli]]+Tableau4[[#This Row],[Attaques ratées]]+Tableau4[[#This Row],[Attaques réussies]])","v":{"$error":"#VALUE!"}}]
[{"$f":"IF(ISBLANK(Paramètres!A45),\"\",Paramètres!A45)","v":""},{"$f":"IFERROR(AVERAGE(Paramètres!B45,Paramètres!E45,Paramètres!H45,Paramètres!K45,Paramètres!N45),\"\")","v":""},{"$f":"IFERROR(AVERAGE((Paramètres!C45,Paramètres!F45,Paramètres!I45,Paramètres!L45,Paramètres!O45)),\"\")","v":""},{"$f":"IFERROR(AVERAGE((Paramètres!D45,Paramètres!G45,Paramètres!J45,Paramètres!M45,Paramètres!P45)),\"\")","v":""},{"$f":"IF(A46=\"\",\"\",COUNTIF(Paramètres!B45:C45,\"-\")+COUNTIF(Paramètres!E45:F45,\"-\")+COUNTIF(Paramètres!H45:I45,\"-\")+COUNTIF(Paramètres!K45:L45,\"-\")+COUNTIF(Paramètres!N45:O45,\"-\"))","v":""},{"$f":"IF(A46=\"\",\"\",COUNTIF(Paramètres!B45,\"<2\")+COUNTIF(Paramètres!C45,\"<2\")+COUNTIF(Paramètres!E45,\"<2\")+COUNTIF(Paramètres!F45,\"<2\")+COUNTIF(Paramètres!H45,\"<2\")+COUNTIF(Paramètres!I45,\"<2\")+COUNTIF(Paramètres!K45,\"<2\")+COUNTIF(Paramètres!L45,\"<2\")+COUNTIF(Paramètres!N45,\"<2\")+COUNTIF(Paramètres!O45,\"<2\"))","v":""},{"$f":"IF(A46=\"\",\"\",COUNTIF(Paramètres!B45,\">1\")+COUNTIF(Paramètres!C45,\">1\")+COUNTIF(Paramètres!E45,\">1\")+COUNTIF(Paramètres!F45,\">1\")+COUNTIF(Paramètres!H45,\">1\")+COUNTIF(Paramètres!I45,\">1\")+COUNTIF(Paramètres!K45,\">1\")+COUNTIF(Paramètres!L45,\">1\")+COUNTIF(Paramètres!N45,\">1\")+COUNTIF(Paramètres!O45,\">1\"))","v":""},{"$f":"Tableau4[[#This Row],[Attaques réussies]]/(Tableau4[[#This Row],[Oubli]]+Tableau4[[#This Row],[Attaques ratées]]+Tableau4[[#This Row],[Attaques réussies]])","v":{"$error":"#VALUE!"}}]
[{"$f":"IF(ISBLANK(Paramètres!A46),\"\",Paramètres!A46)","v":""},{"$f":"IFERROR(AVERAGE(Paramètres!B46,Paramètres!E46,Paramètres!H46,Paramètres!K46,Paramètres!N46),\"\")","v":""},{"$f":"IFERROR(AVERAGE((Paramètres!C46,Paramètres!F46,Paramètres!I46,Paramètres!L46,Paramètres!O46)),\"\")","v":""},{"$f":"IFERROR(AVERAGE((Paramètres!D46,Paramètres!G46,Paramètres!J46,Paramètres!M46,Paramètres!P46)),\"\")","v":""},{"$f":"IF(A47=\"\",\"\",COUNTIF(Paramètres!B46:C46,\"-\")+COUNTIF(Paramètres!E46:F46,\"-\")+COUNTIF(Paramètres!H46:I46,\"-\")+COUNTIF(Paramètres!K46:L46,\"-\")+COUNTIF(Paramètres!N46:O46,\"-\"))","v":""},{"$f":"IF(A47=\"\",\"\",COUNTIF(Paramètres!B46,\"<2\")+COUNTIF(Paramètres!C46,\"<2\")+COUNTIF(Paramètres!E46,\"<2\")+COUNTIF(Paramètres!F46,\"<2\")+COUNTIF(Paramètres!H46,\"<2\")+COUNTIF(Paramètres!I46,\"<2\")+COUNTIF(Paramètres!K46,\"<2\")+COUNTIF(Paramètres!L46,\"<2\")+COUNTIF(Paramètres!N46,\"<2\")+COUNTIF(Paramètres!O46,\"<2\"))","v":""},{"$f":"IF(A47=\"\",\"\",COUNTIF(Paramètres!B46,\">1\")+COUNTIF(Paramètres!C46,\">1\")+COUNTIF(Paramètres!E46,\">1\")+COUNTIF(Paramètres!F46,\">1\")+COUNTIF(Paramètres!H46,\">1\")+COUNTIF(Paramètres!I46,\">1\")+COUNTIF(Paramètres!K46,\">1\")+COUNTIF(Paramètres!L46,\">1\")+COUNTIF(Paramètres!N46,\">1\")+COUNTIF(Paramètres!O46,\">1\"))","v":""},{"$f":"Tableau4[[#This Row],[Attaques réussies]]/(Tableau4[[#This Row],[Oubli]]+Tableau4[[#This Row],[Attaques ratées]]+Tableau4[[#This Row],[Attaques réussies]])","v":{"$error":"#VALUE!"}}]
[{"$f":"IF(ISBLANK(Paramètres!A47),\"\",Paramètres!A47)","v":""},{"$f":"IFERROR(AVERAGE(Paramètres!B47,Paramètres!E47,Paramètres!H47,Paramètres!K47,Paramètres!N47),\"\")","v":""},{"$f":"IFERROR(AVERAGE((Paramètres!C47,Paramètres!F47,Paramètres!I47,Paramètres!L47,Paramètres!O47)),\"\")","v":""},{"$f":"IFERROR(AVERAGE((Paramètres!D47,Paramètres!G47,Paramètres!J47,Paramètres!M47,Paramètres!P47)),\"\")","v":""},{"$f":"IF(A48=\"\",\"\",COUNTIF(Paramètres!B47:C47,\"-\")+COUNTIF(Paramètres!E47:F47,\"-\")+COUNTIF(Paramètres!H47:I47,\"-\")+COUNTIF(Paramètres!K47:L47,\"-\")+COUNTIF(Paramètres!N47:O47,\"-\"))","v":""},{"$f":"IF(A48=\"\",\"\",COUNTIF(Paramètres!B47,\"<2\")+COUNTIF(Paramètres!C47,\"<2\")+COUNTIF(Paramètres!E47,\"<2\")+COUNTIF(Paramètres!F47,\"<2\")+COUNTIF(Paramètres!H47,\"<2\")+COUNTIF(Paramètres!I47,\"<2\")+COUNTIF(Paramètres!K47,\"<2\")+COUNTIF(Paramètres!L47,\"<2\")+COUNTIF(Paramètres!N47,\"<2\")+COUNTIF(Paramètres!O47,\"<2\"))","v":""},{"$f":"IF(A48=\"\",\"\",COUNTIF(Paramètres!B47,\">1\")+COUNTIF(Paramètres!C47,\">1\")+COUNTIF(Paramètres!E47,\">1\")+COUNTIF(Paramètres!F47,\">1\")+COUNTIF(Paramètres!H47,\">1\")+COUNTIF(Paramètres!I47,\">1\")+COUNTIF(Paramètres!K47,\">1\")+COUNTIF(Paramètres!L47,\">1\")+COUNTIF(Paramètres!N47,\">1\")+COUNTIF(Paramètres!O47,\">1\"))","v":""},{"$f":"Tableau4[[#This Row],[Attaques réussies]]/(Tableau4[[#This Row],[Oubli]]+Tableau4[[#This Row],[Attaques ratées]]+Tableau4[[#This Row],[Attaques réussies]])","v":{"$error":"#VALUE!"}}]
[{"$f":"IF(ISBLANK(Paramètres!A48),\"\",Paramètres!A48)","v":""},{"$f":"IFERROR(AVERAGE(Paramètres!B48,Paramètres!E48,Paramètres!H48,Paramètres!K48,Paramètres!N48),\"\")","v":""},{"$f":"IFERROR(AVERAGE((Paramètres!C48,Paramètres!F48,Paramètres!I48,Paramètres!L48,Paramètres!O48)),\"\")","v":""},{"$f":"IFERROR(AVERAGE((Paramètres!D48,Paramètres!G48,Paramètres!J48,Paramètres!M48,Paramètres!P48)),\"\")","v":""},{"$f":"IF(A49=\"\",\"\",COUNTIF(Paramètres!B48:C48,\"-\")+COUNTIF(Paramètres!E48:F48,\"-\")+COUNTIF(Paramètres!H48:I48,\"-\")+COUNTIF(Paramètres!K48:L48,\"-\")+COUNTIF(Paramètres!N48:O48,\"-\"))","v":""},{"$f":"IF(A49=\"\",\"\",COUNTIF(Paramètres!B48,\"<2\")+COUNTIF(Paramètres!C48,\"<2\")+COUNTIF(Paramètres!E48,\"<2\")+COUNTIF(Paramètres!F48,\"<2\")+COUNTIF(Paramètres!H48,\"<2\")+COUNTIF(Paramètres!I48,\"<2\")+COUNTIF(Paramètres!K48,\"<2\")+COUNTIF(Paramètres!L48,\"<2\")+COUNTIF(Paramètres!N48,\"<2\")+COUNTIF(Paramètres!O48,\"<2\"))","v":""},{"$f":"IF(A49=\"\",\"\",COUNTIF(Paramètres!B48,\">1\")+COUNTIF(Paramètres!C48,\">1\")+COUNTIF(Paramètres!E48,\">1\")+COUNTIF(Paramètres!F48,\">1\")+COUNTIF(Paramètres!H48,\">1\")+COUNTIF(Paramètres!I48,\">1\")+COUNTIF(Paramètres!K48,\">1\")+COUNTIF(Paramètres!L48,\">1\")+COUNTIF(Paramètres!N48,\">1\")+COUNTIF(Paramètres!O48,\">1\"))","v":""},{"$f":"Tableau4[[#This Row],[Attaques réussies]]/(Tableau4[[#This Row],[Oubli]]+Tableau4[[#This Row],[Attaques ratées]]+Tableau4[[#This Row],[Attaques réussies]])","v":{"$error":"#VALUE!"}}]
[{"$f":"IF(ISBLANK(Paramètres!A49),\"\",Paramètres!A49)","v":""},{"$f":"IFERROR(AVERAGE(Paramètres!B49,Paramètres!E49,Paramètres!H49,Paramètres!K49,Paramètres!N49),\"\")","v":""},{"$f":"IFERROR(AVERAGE((Paramètres!C49,Paramètres!F49,Paramètres!I49,Paramètres!L49,Paramètres!O49)),\"\")","v":""},{"$f":"IFERROR(AVERAGE((Paramètres!D49,Paramètres!G49,Paramètres!J49,Paramètres!M49,Paramètres!P49)),\"\")","v":""},{"$f":"IF(A50=\"\",\"\",COUNTIF(Paramètres!B49:C49,\"-\")+COUNTIF(Paramètres!E49:F49,\"-\")+COUNTIF(Paramètres!H49:I49,\"-\")+COUNTIF(Paramètres!K49:L49,\"-\")+COUNTIF(Paramètres!N49:O49,\"-\"))","v":""},{"$f":"IF(A50=\"\",\"\",COUNTIF(Paramètres!B49,\"<2\")+COUNTIF(Paramètres!C49,\"<2\")+COUNTIF(Paramètres!E49,\"<2\")+COUNTIF(Paramètres!F49,\"<2\")+COUNTIF(Paramètres!H49,\"<2\")+COUNTIF(Paramètres!I49,\"<2\")+COUNTIF(Paramètres!K49,\"<2\")+COUNTIF(Paramètres!L49,\"<2\")+COUNTIF(Paramètres!N49,\"<2\")+COUNTIF(Paramètres!O49,\"<2\"))","v":""},{"$f":"IF(A50=\"\",\"\",COUNTIF(Paramètres!B49,\">1\")+COUNTIF(Paramètres!C49,\">1\")+COUNTIF(Paramètres!E49,\">1\")+COUNTIF(Paramètres!F49,\">1\")+COUNTIF(Paramètres!H49,\">1\")+COUNTIF(Paramètres!I49,\">1\")+COUNTIF(Paramètres!K49,\">1\")+COUNTIF(Paramètres!L49,\">1\")+COUNTIF(Paramètres!N49,\">1\")+COUNTIF(Paramètres!O49,\">1\"))","v":""},{"$f":"Tableau4[[#This Row],[Attaques réussies]]/(Tableau4[[#This Row],[Oubli]]+Tableau4[[#This Row],[Attaques ratées]]+Tableau4[[#This Row],[Attaques réussies]])","v":{"$error":"#VALUE!"}}]
[{"$f":"IF(ISBLANK(Paramètres!A50),\"\",Paramètres!A50)","v":""},{"$f":"IFERROR(AVERAGE(Paramètres!B50,Paramètres!E50,Paramètres!H50,Paramètres!K50,Paramètres!N50),\"\")","v":""},{"$f":"IFERROR(AVERAGE((Paramètres!C50,Paramètres!F50,Paramètres!I50,Paramètres!L50,Paramètres!O50)),\"\")","v":""},{"$f":"IFERROR(AVERAGE((Paramètres!D50,Paramètres!G50,Paramètres!J50,Paramètres!M50,Paramètres!P50)),\"\")","v":""},{"$f":"IF(A51=\"\",\"\",COUNTIF(Paramètres!B50:C50,\"-\")+COUNTIF(Paramètres!E50:F50,\"-\")+COUNTIF(Paramètres!H50:I50,\"-\")+COUNTIF(Paramètres!K50:L50,\"-\")+COUNTIF(Paramètres!N50:O50,\"-\"))","v":""},{"$f":"IF(A51=\"\",\"\",COUNTIF(Paramètres!B50,\"<2\")+COUNTIF(Paramètres!C50,\"<2\")+COUNTIF(Paramètres!E50,\"<2\")+COUNTIF(Paramètres!F50,\"<2\")+COUNTIF(Paramètres!H50,\"<2\")+COUNTIF(Paramètres!I50,\"<2\")+COUNTIF(Paramètres!K50,\"<2\")+COUNTIF(Paramètres!L50,\"<2\")+COUNTIF(Paramètres!N50,\"<2\")+COUNTIF(Paramètres!O50,\"<2\"))","v":""},{"$f":"IF(A51=\"\",\"\",COUNTIF(Paramètres!B50,\">1\")+COUNTIF(Paramètres!C50,\">1\")+COUNTIF(Paramètres!E50,\">1\")+COUNTIF(Paramètres!F50,\">1\")+COUNTIF(Paramètres!H50,\">1\")+COUNTIF(Paramètres!I50,\">1\")+COUNTIF(Paramètres!K50,\">1\")+COUNTIF(Paramètres!L50,\">1\")+COUNTIF(Paramètres!N50,\">1\")+COUNTIF(Paramètres!O50,\">1\"))","v":""},{"$f":"Tableau4[[#This Row],[Attaques réussies]]/(Tableau4[[#This Row],[Oubli]]+Tableau4[[#This Row],[Attaques ratées]]+Tableau4[[#This Row],[Attaques réussies]])","v":{"$error":"#VALUE!"}}]
[{"$f":"IF(ISBLANK(Paramètres!A51),\"\",Paramètres!A51)","v":""},{"$f":"IFERROR(AVERAGE(Paramètres!B51,Paramètres!E51,Paramètres!H51,Paramètres!K51,Paramètres!N51),\"\")","v":""},{"$f":"IFERROR(AVERAGE((Paramètres!C51,Paramètres!F51,Paramètres!I51,Paramètres!L51,Paramètres!O51)),\"\")","v":""},{"$f":"IFERROR(AVERAGE((Paramètres!D51,Paramètres!G51,Paramètres!J51,Paramètres!M51,Paramètres!P51)),\"\")","v":""},{"$f":"IF(A52=\"\",\"\",COUNTIF(Paramètres!B51:C51,\"-\")+COUNTIF(Paramètres!E51:F51,\"-\")+COUNTIF(Paramètres!H51:I51,\"-\")+COUNTIF(Paramètres!K51:L51,\"-\")+COUNTIF(Paramètres!N51:O51,\"-\"))","v":""},{"$f":"IF(A52=\"\",\"\",COUNTIF(Paramètres!B51,\"<2\")+COUNTIF(Paramètres!C51,\"<2\")+COUNTIF(Paramètres!E51,\"<2\")+COUNTIF(Paramètres!F51,\"<2\")+COUNTIF(Paramètres!H51,\"<2\")+COUNTIF(Paramètres!I51,\"<2\")+COUNTIF(Paramètres!K51,\"<2\")+COUNTIF(Paramètres!L51,\"<2\")+COUNTIF(Paramètres!N51,\"<2\")+COUNTIF(Paramètres!O51,\"<2\"))","v":""},{"$f":"IF(A52=\"\",\"\",COUNTIF(Paramètres!B51,\">1\")+COUNTIF(Paramètres!C51,\">1\")+COUNTIF(Paramètres!E51,\">1\")+COUNTIF(Paramètres!F51,\">1\")+COUNTIF(Paramètres!H51,\">1\")+COUNTIF(Paramètres!I51,\">1\")+COUNTIF(Paramètres!K51,\">1\")+COUNTIF(Paramètres!L51,\">1\")+COUNTIF(Paramètres!N51,\">1\")+COUNTIF(Paramètres!O51,\">1\"))","v":""},{"$f":"Tableau4[[#This Row],[Attaques réussies]]/(Tableau4[[#This Row],[Oubli]]+Tableau4[[#This Row],[Attaques ratées]]+Tableau4[[#This Row],[Attaques réussies]])","v":{"$error":"#VALUE!"}}]
[{"$f":"IF(ISBLANK(Paramètres!A52),\"\",Paramètres!A52)","v":""},{"$f":"IFERROR(AVERAGE(Paramètres!B52,Paramètres!E52,Paramètres!H52,Paramètres!K52,Paramètres!N52),\"\")","v":""},{"$f":"IFERROR(AVERAGE((Paramètres!C52,Paramètres!F52,Paramètres!I52,Paramètres!L52,Paramètres!O52)),\"\")","v":""},{"$f":"IFERROR(AVERAGE((Paramètres!D52,Paramètres!G52,Paramètres!J52,Paramètres!M52,Paramètres!P52)),\"\")","v":""},{"$f":"IF(A53=\"\",\"\",COUNTIF(Paramètres!B52:C52,\"-\")+COUNTIF(Paramètres!E52:F52,\"-\")+COUNTIF(Paramètres!H52:I52,\"-\")+COUNTIF(Paramètres!K52:L52,\"-\")+COUNTIF(Paramètres!N52:O52,\"-\"))","v":""},{"$f":"IF(A53=\"\",\"\",COUNTIF(Paramètres!B52,\"<2\")+COUNTIF(Paramètres!C52,\"<2\")+COUNTIF(Paramètres!E52,\"<2\")+COUNTIF(Paramètres!F52,\"<2\")+COUNTIF(Paramètres!H52,\"<2\")+COUNTIF(Paramètres!I52,\"<2\")+COUNTIF(Paramètres!K52,\"<2\")+COUNTIF(Paramètres!L52,\"<2\")+COUNTIF(Paramètres!N52,\"<2\")+COUNTIF(Paramètres!O52,\"<2\"))","v":""},{"$f":"IF(A53=\"\",\"\",COUNTIF(Paramètres!B52,\">1\")+COUNTIF(Paramètres!C52,\">1\")+COUNTIF(Paramètres!E52,\">1\")+COUNTIF(Paramètres!F52,\">1\")+COUNTIF(Paramètres!H52,\">1\")+COUNTIF(Paramètres!I52,\">1\")+COUNTIF(Paramètres!K52,\">1\")+COUNTIF(Paramètres!L52,\">1\")+COUNTIF(Paramètres!N52,\">1\")+COUNTIF(Paramètres!O52,\">1\"))","v":""},{"$f":"Tableau4[[#This Row],[Attaques réussies]]/(Tableau4[[#This Row],[Oubli]]+Tableau4[[#This Row],[Attaques ratées]]+Tableau4[[#This Row],[Attaques réussies]])","v":{"$error":"#VALUE!"}}]
[{"$f":"IF(ISBLANK(Paramètres!A53),\"\",Paramètres!A53)","v":""},{"$f":"IFERROR(AVERAGE(Paramètres!B53,Paramètres!E53,Paramètres!H53,Paramètres!K53,Paramètres!N53),\"\")","v":""},{"$f":"IFERROR(AVERAGE((Paramètres!C53,Paramètres!F53,Paramètres!I53,Paramètres!L53,Paramètres!O53)),\"\")","v":""},{"$f":"IFERROR(AVERAGE((Paramètres!D53,Paramètres!G53,Paramètres!J53,Paramètres!M53,Paramètres!P53)),\"\")","v":""},{"$f":"IF(A54=\"\",\"\",COUNTIF(Paramètres!B53:C53,\"-\")+COUNTIF(Paramètres!E53:F53,\"-\")+COUNTIF(Paramètres!H53:I53,\"-\")+COUNTIF(Paramètres!K53:L53,\"-\")+COUNTIF(Paramètres!N53:O53,\"-\"))","v":""},{"$f":"IF(A54=\"\",\"\",COUNTIF(Paramètres!B53,\"<2\")+COUNTIF(Paramètres!C53,\"<2\")+COUNTIF(Paramètres!E53,\"<2\")+COUNTIF(Paramètres!F53,\"<2\")+COUNTIF(Paramètres!H53,\"<2\")+COUNTIF(Paramètres!I53,\"<2\")+COUNTIF(Paramètres!K53,\"<2\")+COUNTIF(Paramètres!L53,\"<2\")+COUNTIF(Paramètres!N53,\"<2\")+COUNTIF(Paramètres!O53,\"<2\"))","v":""},{"$f":"IF(A54=\"\",\"\",COUNTIF(Paramètres!B53,\">1\")+COUNTIF(Paramètres!C53,\">1\")+COUNTIF(Paramètres!E53,\">1\")+COUNTIF(Paramètres!F53,\">1\")+COUNTIF(Paramètres!H53,\">1\")+COUNTIF(Paramètres!I53,\">1\")+COUNTIF(Paramètres!K53,\">1\")+COUNTIF(Paramètres!L53,\">1\")+COUNTIF(Paramètres!N53,\">1\")+COUNTIF(Paramètres!O53,\">1\"))","v":""},{"$f":"Tableau4[[#This Row],[Attaques réussies]]/(Tableau4[[#This Row],[Oubli]]+Tableau4[[#This Row],[Attaques ratées]]+Tableau4[[#This Row],[Attaques réussies]])","v":{"$error":"#VALUE!"}}]
[{"$f":"IF(ISBLANK(Paramètres!A54),\"\",Paramètres!A54)","v":""},{"$f":"IFERROR(AVERAGE(Paramètres!B54,Paramètres!E54,Paramètres!H54,Paramètres!K54,Paramètres!N54),\"\")","v":""},{"$f":"IFERROR(AVERAGE((Paramètres!C54,Paramètres!F54,Paramètres!I54,Paramètres!L54,Paramètres!O54)),\"\")","v":""},{"$f":"IFERROR(AVERAGE((Paramètres!D54,Paramètres!G54,Paramètres!J54,Paramètres!M54,Paramètres!P54)),\"\")","v":""},{"$f":"IF(A55=\"\",\"\",COUNTIF(Paramètres!B54:C54,\"-\")+COUNTIF(Paramètres!E54:F54,\"-\")+COUNTIF(Paramètres!H54:I54,\"-\")+COUNTIF(Paramètres!K54:L54,\"-\")+COUNTIF(Paramètres!N54:O54,\"-\"))","v":""},{"$f":"IF(A55=\"\",\"\",COUNTIF(Paramètres!B54,\"<2\")+COUNTIF(Paramètres!C54,\"<2\")+COUNTIF(Paramètres!E54,\"<2\")+COUNTIF(Paramètres!F54,\"<2\")+COUNTIF(Paramètres!H54,\"<2\")+COUNTIF(Paramètres!I54,\"<2\")+COUNTIF(Paramètres!K54,\"<2\")+COUNTIF(Paramètres!L54,\"<2\")+COUNTIF(Paramètres!N54,\"<2\")+COUNTIF(Paramètres!O54,\"<2\"))","v":""},{"$f":"IF(A55=\"\",\"\",COUNTIF(Paramètres!B54,\">1\")+COUNTIF(Paramètres!C54,\">1\")+COUNTIF(Paramètres!E54,\">1\")+COUNTIF(Paramètres!F54,\">1\")+COUNTIF(Paramètres!H54,\">1\")+COUNTIF(Paramètres!I54,\">1\")+COUNTIF(Paramètres!K54,\">1\")+COUNTIF(Paramètres!L54,\">1\")+COUNTIF(Paramètres!N54,\">1\")+COUNTIF(Paramètres!O54,\">1\"))","v":""},{"$f":"Tableau4[[#This Row],[Attaques réussies]]/(Tableau4[[#This Row],[Oubli]]+Tableau4[[#This Row],[Attaques ratées]]+Tableau4[[#This Row],[Attaques réussies]])","v":{"$error":"#VALUE!"}}]
[{"$f":"IF(ISBLANK(Paramètres!A55),\"\",Paramètres!A55)","v":""},{"$f":"IFERROR(AVERAGE(Paramètres!B55,Paramètres!E55,Paramètres!H55,Paramètres!K55,Paramètres!N55),\"\")","v":""},{"$f":"IFERROR(AVERAGE((Paramètres!C55,Paramètres!F55,Paramètres!I55,Paramètres!L55,Paramètres!O55)),\"\")","v":""},{"$f":"IFERROR(AVERAGE((Paramètres!D55,Paramètres!G55,Paramètres!J55,Paramètres!M55,Paramètres!P55)),\"\")","v":""},{"$f":"IF(A56=\"\",\"\",COUNTIF(Paramètres!B55:C55,\"-\")+COUNTIF(Paramètres!E55:F55,\"-\")+COUNTIF(Paramètres!H55:I55,\"-\")+COUNTIF(Paramètres!K55:L55,\"-\")+COUNTIF(Paramètres!N55:O55,\"-\"))","v":""},{"$f":"IF(A56=\"\",\"\",COUNTIF(Paramètres!B55,\"<2\")+COUNTIF(Paramètres!C55,\"<2\")+COUNTIF(Paramètres!E55,\"<2\")+COUNTIF(Paramètres!F55,\"<2\")+COUNTIF(Paramètres!H55,\"<2\")+COUNTIF(Paramètres!I55,\"<2\")+COUNTIF(Paramètres!K55,\"<2\")+COUNTIF(Paramètres!L55,\"<2\")+COUNTIF(Paramètres!N55,\"<2\")+COUNTIF(Paramètres!O55,\"<2\"))","v":""},{"$f":"IF(A56=\"\",\"\",COUNTIF(Paramètres!B55,\">1\")+COUNTIF(Paramètres!C55,\">1\")+COUNTIF(Paramètres!E55,\">1\")+COUNTIF(Paramètres!F55,\">1\")+COUNTIF(Paramètres!H55,\">1\")+COUNTIF(Paramètres!I55,\">1\")+COUNTIF(Paramètres!K55,\">1\")+COUNTIF(Paramètres!L55,\">1\")+COUNTIF(Paramètres!N55,\">1\")+COUNTIF(Paramètres!O55,\">1\"))","v":""},{"$f":"Tableau4[[#This Row],[Attaques réussies]]/(Tableau4[[#This Row],[Oubli]]+Tableau4[[#This Row],[Attaques ratées]]+Tableau4[[#This Row],[Attaques réussies]])","v":{"$error":"#VALUE!"}}]
[{"$f":"IF(ISBLANK(Paramètres!A56),\"\",Paramètres!A56)","v":""},{"$f":"IFERROR(AVERAGE(Paramètres!B56,Paramètres!E56,Paramètres!H56,Paramètres!K56,Paramètres!N56),\"\")","v":""},{"$f":"IFERROR(AVERAGE((Paramètres!C56,Paramètres!F56,Paramètres!I56,Paramètres!L56,Paramètres!O56)),\"\")","v":""},{"$f":"IFERROR(AVERAGE((Paramètres!D56,Paramètres!G56,Paramètres!J56,Paramètres!M56,Paramètres!P56)),\"\")","v":""},{"$f":"IF(A57=\"\",\"\",COUNTIF(Paramètres!B56:C56,\"-\")+COUNTIF(Paramètres!E56:F56,\"-\")+COUNTIF(Paramètres!H56:I56,\"-\")+COUNTIF(Paramètres!K56:L56,\"-\")+COUNTIF(Paramètres!N56:O56,\"-\"))","v":""},{"$f":"IF(A57=\"\",\"\",COUNTIF(Paramètres!B56,\"<2\")+COUNTIF(Paramètres!C56,\"<2\")+COUNTIF(Paramètres!E56,\"<2\")+COUNTIF(Paramètres!F56,\"<2\")+COUNTIF(Paramètres!H56,\"<2\")+COUNTIF(Paramètres!I56,\"<2\")+COUNTIF(Paramètres!K56,\"<2\")+COUNTIF(Paramètres!L56,\"<2\")+COUNTIF(Paramètres!N56,\"<2\")+COUNTIF(Paramètres!O56,\"<2\"))","v":""},{"$f":"IF(A57=\"\",\"\",COUNTIF(Paramètres!B56,\">1\")+COUNTIF(Paramètres!C56,\">1\")+COUNTIF(Paramètres!E56,\">1\")+COUNTIF(Paramètres!F56,\">1\")+COUNTIF(Paramètres!H56,\">1\")+COUNTIF(Paramètres!I56,\">1\")+COUNTIF(Paramètres!K56,\">1\")+COUNTIF(Paramètres!L56,\">1\")+COUNTIF(Paramètres!N56,\">1\")+COUNTIF(Paramètres!O56,\">1\"))","v":""},{"$f":"Tableau4[[#This Row],[Attaques réussies]]/(Tableau4[[#This Row],[Oubli]]+Tableau4[[#This Row],[Attaques ratées]]+Tableau4[[#This Row],[Attaques réussies]])","v":{"$error":"#VALUE!"}}]
[{"$f":"IF(ISBLANK(Paramètres!A57),\"\",Paramètres!A57)","v":""},{"$f":"IFERROR(AVERAGE(Paramètres!B57,Paramètres!E57,Paramètres!H57,Paramètres!K57,Paramètres!N57),\"\")","v":""},{"$f":"IFERROR(AVERAGE((Paramètres!C57,Paramètres!F57,Paramètres!I57,Paramètres!L57,Paramètres!O57)),\"\")","v":""},{"$f":"IFERROR(AVERAGE((Paramètres!D57,Paramètres!G57,Paramètres!J57,Paramètres!M57,Paramètres!P57)),\"\")","v":""},{"$f":"IF(A58=\"\",\"\",COUNTIF(Paramètres!B57:C57,\"-\")+COUNTIF(Paramètres!E57:F57,\"-\")+COUNTIF(Paramètres!H57:I57,\"-\")+COUNTIF(Paramètres!K57:L57,\"-\")+COUNTIF(Paramètres!N57:O57,\"-\"))","v":""},{"$f":"IF(A58=\"\",\"\",COUNTIF(Paramètres!B57,\"<2\")+COUNTIF(Paramètres!C57,\"<2\")+COUNTIF(Paramètres!E57,\"<2\")+COUNTIF(Paramètres!F57,\"<2\")+COUNTIF(Paramètres!H57,\"<2\")+COUNTIF(Paramètres!I57,\"<2\")+COUNTIF(Paramètres!K57,\"<2\")+COUNTIF(Paramètres!L57,\"<2\")+COUNTIF(Paramètres!N57,\"<2\")+COUNTIF(Paramètres!O57,\"<2\"))","v":""},{"$f":"IF(A58=\"\",\"\",COUNTIF(Paramètres!B57,\">1\")+COUNTIF(Paramètres!C57,\">1\")+COUNTIF(Paramètres!E57,\">1\")+COUNTIF(Paramètres!F57,\">1\")+COUNTIF(Paramètres!H57,\">1\")+COUNTIF(Paramètres!I57,\">1\")+COUNTIF(Paramètres!K57,\">1\")+COUNTIF(Paramètres!L57,\">1\")+COUNTIF(Paramètres!N57,\">1\")+COUNTIF(Paramètres!O57,\">1\"))","v":""},{"$f":"Tableau4[[#This Row],[Attaques réussies]]/(Tableau4[[#This Row],[Oubli]]+Tableau4[[#This Row],[Attaques ratées]]+Tableau4[[#This Row],[Attaques réussies]])","v":{"$error":"#VALUE!"}}]
[{"$f":"IF(ISBLANK(Paramètres!A58),\"\",Paramètres!A58)","v":""},{"$f":"IFERROR(AVERAGE(Paramètres!B58,Paramètres!E58,Paramètres!H58,Paramètres!K58,Paramètres!N58),\"\")","v":""},{"$f":"IFERROR(AVERAGE((Paramètres!C58,Paramètres!F58,Paramètres!I58,Paramètres!L58,Paramètres!O58)),\"\")","v":""},{"$f":"IFERROR(AVERAGE((Paramètres!D58,Paramètres!G58,Paramètres!J58,Paramètres!M58,Paramètres!P58)),\"\")","v":""},{"$f":"IF(A59=\"\",\"\",COUNTIF(Paramètres!B58:C58,\"-\")+COUNTIF(Paramètres!E58:F58,\"-\")+COUNTIF(Paramètres!H58:I58,\"-\")+COUNTIF(Paramètres!K58:L58,\"-\")+COUNTIF(Paramètres!N58:O58,\"-\"))","v":""},{"$f":"IF(A59=\"\",\"\",COUNTIF(Paramètres!B58,\"<2\")+COUNTIF(Paramètres!C58,\"<2\")+COUNTIF(Paramètres!E58,\"<2\")+COUNTIF(Paramètres!F58,\"<2\")+COUNTIF(Paramètres!H58,\"<2\")+COUNTIF(Paramètres!I58,\"<2\")+COUNTIF(Paramètres!K58,\"<2\")+COUNTIF(Paramètres!L58,\"<2\")+COUNTIF(Paramètres!N58,\"<2\")+COUNTIF(Paramètres!O58,\"<2\"))","v":""},{"$f":"IF(A59=\"\",\"\",COUNTIF(Paramètres!B58,\">1\")+COUNTIF(Paramètres!C58,\">1\")+COUNTIF(Paramètres!E58,\">1\")+COUNTIF(Paramètres!F58,\">1\")+COUNTIF(Paramètres!H58,\">1\")+COUNTIF(Paramètres!I58,\">1\")+COUNTIF(Paramètres!K58,\">1\")+COUNTIF(Paramètres!L58,\">1\")+COUNTIF(Paramètres!N58,\">1\")+COUNTIF(Paramètres!O58,\">1\"))","v":""},{"$f":"Tableau4[[#This Row],[Attaques réussies]]/(Tableau4[[#This Row],[Oubli]]+Tableau4[[#This Row],[Attaques ratées]]+Tableau4[[#This Row],[Attaques réussies]])","v":{"$error":"#VALUE!"}}]
[{"$f":"IF(ISBLANK(Paramètres!A59),\"\",Paramètres!A59)","v":""},{"$f":"IFERROR(AVERAGE(Paramètres!B59,Paramètres!E59,Paramètres!H59,Paramètres!K59,Paramètres!N59),\"\")","v":""},{"$f":"IFERROR(AVERAGE((Paramètres!C59,Paramètres!F59,Paramètres!I59,Paramètres!L59,Paramètres!O59)),\"\")","v":""},{"$f":"IFERROR(AVERAGE((Paramètres!D59,Paramètres!G59,Paramètres!J59,Paramètres!M59,Paramètres!P59)),\"\")","v":""},{"$f":"IF(A60=\"\",\"\",COUNTIF(Paramètres!B59:C59,\"-\")+COUNTIF(Paramètres!E59:F59,\"-\")+COUNTIF(Paramètres!H59:I59,\"-\")+COUNTIF(Paramètres!K59:L59,\"-\")+COUNTIF(Paramètres!N59:O59,\"-\"))","v":""},{"$f":"IF(A60=\"\",\"\",COUNTIF(Paramètres!B59,\"<2\")+COUNTIF(Paramètres!C59,\"<2\")+COUNTIF(Paramètres!E59,\"<2\")+COUNTIF(Paramètres!F59,\"<2\")+COUNTIF(Paramètres!H59,\"<2\")+COUNTIF(Paramètres!I59,\"<2\")+COUNTIF(Paramètres!K59,\"<2\")+COUNTIF(Paramètres!L59,\"<2\")+COUNTIF(Paramètres!N59,\"<2\")+COUNTIF(Paramètres!O59,\"<2\"))","v":""},{"$f":"IF(A60=\"\",\"\",COUNTIF(Paramètres!B59,\">1\")+COUNTIF(Paramètres!C59,\">1\")+COUNTIF(Paramètres!E59,\">1\")+COUNTIF(Paramètres!F59,\">1\")+COUNTIF(Paramètres!H59,\">1\")+COUNTIF(Paramètres!I59,\">1\")+COUNTIF(Paramètres!K59,\">1\")+COUNTIF(Paramètres!L59,\">1\")+COUNTIF(Paramètres!N59,\">1\")+COUNTIF(Paramètres!O59,\">1\"))","v":""},{"$f":"Tableau4[[#This Row],[Attaques réussies]]/(Tableau4[[#This Row],[Oubli]]+Tableau4[[#This Row],[Attaques ratées]]+Tableau4[[#This Row],[Attaques réussies]])","v":{"$error":"#VALUE!"}}]
[{"$f":"IF(ISBLANK(Paramètres!A60),\"\",Paramètres!A60)","v":""},{"$f":"IFERROR(AVERAGE(Paramètres!B60,Paramètres!E60,Paramètres!H60,Paramètres!K60,Paramètres!N60),\"\")","v":""},{"$f":"IFERROR(AVERAGE((Paramètres!C60,Paramètres!F60,Paramètres!I60,Paramètres!L60,Paramètres!O60)),\"\")","v":""},{"$f":"IFERROR(AVERAGE((Paramètres!D60,Paramètres!G60,Paramètres!J60,Paramètres!M60,Paramètres!P60)),\"\")","v":""},{"$f":"IF(A61=\"\",\"\",COUNTIF(Paramètres!B60:C60,\"-\")+COUNTIF(Paramètres!E60:F60,\"-\")+COUNTIF(Paramètres!H60:I60,\"-\")+COUNTIF(Paramètres!K60:L60,\"-\")+COUNTIF(Paramètres!N60:O60,\"-\"))","v":""},{"$f":"IF(A61=\"\",\"\",COUNTIF(Paramètres!B60,\"<2\")+COUNTIF(Paramètres!C60,\"<2\")+COUNTIF(Paramètres!E60,\"<2\")+COUNTIF(Paramètres!F60,\"<2\")+COUNTIF(Paramètres!H60,\"<2\")+COUNTIF(Paramètres!I60,\"<2\")+COUNTIF(Paramètres!K60,\"<2\")+COUNTIF(Paramètres!L60,\"<2\")+COUNTIF(Paramètres!N60,\"<2\")+COUNTIF(Paramètres!O60,\"<2\"))","v":""},{"$f":"IF(A61=\"\",\"\",COUNTIF(Paramètres!B60,\">1\")+COUNTIF(Paramètres!C60,\">1\")+COUNTIF(Paramètres!E60,\">1\")+COUNTIF(Paramètres!F60,\">1\")+COUNTIF(Paramètres!H60,\">1\")+COUNTIF(Paramètres!I60,\">1\")+COUNTIF(Paramètres!K60,\">1\")+COUNTIF(Paramètres!L60,\">1\")+COUNTIF(Paramètres!N60,\">1\")+COUNTIF(Paramètres!O60,\">1\"))","v":""},{"$f":"Tableau4[[#This Row],[Attaques réussies]]/(Tableau4[[#This Row],[Oubli]]+Tableau4[[#This Row],[Attaques ratées]]+Tableau4[[#This Row],[Attaques réussies]])","v":{"$error":"#VALUE!"}}]
[{"$f":"IF(ISBLANK(Paramètres!A61),\"\",Paramètres!A61)","v":""},{"$f":"IFERROR(AVERAGE(Paramètres!B61,Paramètres!E61,Paramètres!H61,Paramètres!K61,Paramètres!N61),\"\")","v":""},{"$f":"IFERROR(AVERAGE((Paramètres!C61,Paramètres!F61,Paramètres!I61,Paramètres!L61,Paramètres!O61)),\"\")","v":""},{"$f":"IFERROR(AVERAGE((Paramètres!D61,Paramètres!G61,Paramètres!J61,Paramètres!M61,Paramètres!P61)),\"\")","v":""},{"$f":"IF(A62=\"\",\"\",COUNTIF(Paramètres!B61:C61,\"-\")+COUNTIF(Paramètres!E61:F61,\"-\")+COUNTIF(Paramètres!H61:I61,\"-\")+COUNTIF(Paramètres!K61:L61,\"-\")+COUNTIF(Paramètres!N61:O61,\"-\"))","v":""},{"$f":"IF(A62=\"\",\"\",COUNTIF(Paramètres!B61,\"<2\")+COUNTIF(Paramètres!C61,\"<2\")+COUNTIF(Paramètres!E61,\"<2\")+COUNTIF(Paramètres!F61,\"<2\")+COUNTIF(Paramètres!H61,\"<2\")+COUNTIF(Paramètres!I61,\"<2\")+COUNTIF(Paramètres!K61,\"<2\")+COUNTIF(Paramètres!L61,\"<2\")+COUNTIF(Paramètres!N61,\"<2\")+COUNTIF(Paramètres!O61,\"<2\"))","v":""},{"$f":"IF(A62=\"\",\"\",COUNTIF(Paramètres!B61,\">1\")+COUNTIF(Paramètres!C61,\">1\")+COUNTIF(Paramètres!E61,\">1\")+COUNTIF(Paramètres!F61,\">1\")+COUNTIF(Paramètres!H61,\">1\")+COUNTIF(Paramètres!I61,\">1\")+COUNTIF(Paramètres!K61,\">1\")+COUNTIF(Paramètres!L61,\">1\")+COUNTIF(Paramètres!N61,\">1\")+COUNTIF(Paramètres!O61,\">1\"))","v":""},{"$f":"Tableau4[[#This Row],[Attaques réussies]]/(Tableau4[[#This Row],[Oubli]]+Tableau4[[#This Row],[Attaques ratées]]+Tableau4[[#This Row],[Attaques réussies]])","v":{"$error":"#VALUE!"}}]
[{"$f":"IF(ISBLANK(Paramètres!A62),\"\",Paramètres!A62)","v":""},{"$f":"IFERROR(AVERAGE(Paramètres!B62,Paramètres!E62,Paramètres!H62,Paramètres!K62,Paramètres!N62),\"\")","v":""},{"$f":"IFERROR(AVERAGE((Paramètres!C62,Paramètres!F62,Paramètres!I62,Paramètres!L62,Paramètres!O62)),\"\")","v":""},{"$f":"IFERROR(AVERAGE((Paramètres!D62,Paramètres!G62,Paramètres!J62,Paramètres!M62,Paramètres!P62)),\"\")","v":""},{"$f":"IF(A63=\"\",\"\",COUNTIF(Paramètres!B62:C62,\"-\")+COUNTIF(Paramètres!E62:F62,\"-\")+COUNTIF(Paramètres!H62:I62,\"-\")+COUNTIF(Paramètres!K62:L62,\"-\")+COUNTIF(Paramètres!N62:O62,\"-\"))","v":""},{"$f":"IF(A63=\"\",\"\",COUNTIF(Paramètres!B62,\"<2\")+COUNTIF(Paramètres!C62,\"<2\")+COUNTIF(Paramètres!E62,\"<2\")+COUNTIF(Paramètres!F62,\"<2\")+COUNTIF(Paramètres!H62,\"<2\")+COUNTIF(Paramètres!I62,\"<2\")+COUNTIF(Paramètres!K62,\"<2\")+COUNTIF(Paramètres!L62,\"<2\")+COUNTIF(Paramètres!N62,\"<2\")+COUNTIF(Paramètres!O62,\"<2\"))","v":""},{"$f":"IF(A63=\"\",\"\",COUNTIF(Paramètres!B62,\">1\")+COUNTIF(Paramètres!C62,\">1\")+COUNTIF(Paramètres!E62,\">1\")+COUNTIF(Paramètres!F62,\">1\")+COUNTIF(Paramètres!H62,\">1\")+COUNTIF(Paramètres!I62,\">1\")+COUNTIF(Paramètres!K62,\">1\")+COUNTIF(Paramètres!L62,\">1\")+COUNTIF(Paramètres!N62,\">1\")+COUNTIF(Paramètres!O62,\">1\"))","v":""},{"$f":"Tableau4[[#This Row],[Attaques réussies]]/(Tableau4[[#This Row],[Oubli]]+Tableau4[[#This Row],[Attaques ratées]]+Tableau4[[#This Row],[Attaques réussies]])","v":{"$error":"#VALUE!"}}]
[{"$f":"IF(ISBLANK(Paramètres!A63),\"\",Paramètres!A63)","v":""},{"$f":"IFERROR(AVERAGE(Paramètres!B63,Paramètres!E63,Paramètres!H63,Paramètres!K63,Paramètres!N63),\"\")","v":""},{"$f":"IFERROR(AVERAGE((Paramètres!C63,Paramètres!F63,Paramètres!I63,Paramètres!L63,Paramètres!O63)),\"\")","v":""},{"$f":"IFERROR(AVERAGE((Paramètres!D63,Paramètres!G63,Paramètres!J63,Paramètres!M63,Paramètres!P63)),\"\")","v":""},{"$f":"IF(A64=\"\",\"\",COUNTIF(Paramètres!B63:C63,\"-\")+COUNTIF(Paramètres!E63:F63,\"-\")+COUNTIF(Paramètres!H63:I63,\"-\")+COUNTIF(Paramètres!K63:L63,\"-\")+COUNTIF(Paramètres!N63:O63,\"-\"))","v":""},{"$f":"IF(A64=\"\",\"\",COUNTIF(Paramètres!B63,\"<2\")+COUNTIF(Paramètres!C63,\"<2\")+COUNTIF(Paramètres!E63,\"<2\")+COUNTIF(Paramètres!F63,\"<2\")+COUNTIF(Paramètres!H63,\"<2\")+COUNTIF(Paramètres!I63,\"<2\")+COUNTIF(Paramètres!K63,\"<2\")+COUNTIF(Paramètres!L63,\"<2\")+COUNTIF(Paramètres!N63,\"<2\")+COUNTIF(Paramètres!O63,\"<2\"))","v":""},{"$f":"IF(A64=\"\",\"\",COUNTIF(Paramètres!B63,\">1\")+COUNTIF(Paramètres!C63,\">1\")+COUNTIF(Paramètres!E63,\">1\")+COUNTIF(Paramètres!F63,\">1\")+COUNTIF(Paramètres!H63,\">1\")+COUNTIF(Paramètres!I63,\">1\")+COUNTIF(Paramètres!K63,\">1\")+COUNTIF(Paramètres!L63,\">1\")+COUNTIF(Paramètres!N63,\">1\")+COUNTIF(Paramètres!O63,\">1\"))","v":""},{"$f":"Tableau4[[#This Row],[Attaques réussies]]/(Tableau4[[#This Row],[Oubli]]+Tableau4[[#This Row],[Attaques ratées]]+Tableau4[[#This Row],[Attaques réussies]])","v":{"$error":"#VALUE!"}}]
[{"$f":"IF(ISBLANK(Paramètres!A64),\"\",Paramètres!A64)","v":""},{"$f":"IFERROR(AVERAGE(Paramètres!B64,Paramètres!E64,Paramètres!H64,Paramètres!K64,Paramètres!N64),\"\")","v":""},{"$f":"IFERROR(AVERAGE((Paramètres!C64,Paramètres!F64,Paramètres!I64,Paramètres!L64,Paramètres!O64)),\"\")","v":""},{"$f":"IFERROR(AVERAGE((Paramètres!D64,Paramètres!G64,Paramètres!J64,Paramètres!M64,Paramètres!P64)),\"\")","v":""},{"$f":"IF(A65=\"\",\"\",COUNTIF(Paramètres!B64:C64,\"-\")+COUNTIF(Paramètres!E64:F64,\"-\")+COUNTIF(Paramètres!H64:I64,\"-\")+COUNTIF(Paramètres!K64:L64,\"-\")+COUNTIF(Paramètres!N64:O64,\"-\"))","v":""},{"$f":"IF(A65=\"\",\"\",COUNTIF(Paramètres!B64,\"<2\")+COUNTIF(Paramètres!C64,\"<2\")+COUNTIF(Paramètres!E64,\"<2\")+COUNTIF(Paramètres!F64,\"<2\")+COUNTIF(Paramètres!H64,\"<2\")+COUNTIF(Paramètres!I64,\"<2\")+COUNTIF(Paramètres!K64,\"<2\")+COUNTIF(Paramètres!L64,\"<2\")+COUNTIF(Paramètres!N64,\"<2\")+COUNTIF(Paramètres!O64,\"<2\"))","v":""},{"$f":"IF(A65=\"\",\"\",COUNTIF(Paramètres!B64,\">1\")+COUNTIF(Paramètres!C64,\">1\")+COUNTIF(Paramètres!E64,\">1\")+COUNTIF(Paramètres!F64,\">1\")+COUNTIF(Paramètres!H64,\">1\")+COUNTIF(Paramètres!I64,\">1\")+COUNTIF(Paramètres!K64,\">1\")+COUNTIF(Paramètres!L64,\">1\")+COUNTIF(Paramètres!N64,\">1\")+COUNTIF(Paramètres!O64,\">1\"))","v":""},{"$f":"Tableau4[[#This Row],[Attaques réussies]]/(Tableau4[[#This Row],[Oubli]]+Tableau4[[#This Row],[Attaques ratées]]+Tableau4[[#This Row],[Attaques réussies]])","v":{"$error":"#VALUE!"}}]
[{"$f":"IF(ISBLANK(Paramètres!A65),\"\",Paramètres!A65)","v":""},{"$f":"IFERROR(AVERAGE(Paramètres!B65,Paramètres!E65,Paramètres!H65,Paramètres!K65,Paramètres!N65),\"\")","v":""},{"$f":"IFERROR(AVERAGE((Paramètres!C65,Paramètres!F65,Paramètres!I65,Paramètres!L65,Paramètres!O65)),\"\")","v":""},{"$f":"IFERROR(AVERAGE((Paramètres!D65,Paramètres!G65,Paramètres!J65,Paramètres!M65,Paramètres!P65)),\"\")","v":""},{"$f":"IF(A66=\"\",\"\",COUNTIF(Paramètres!B65:C65,\"-\")+COUNTIF(Paramètres!E65:F65,\"-\")+COUNTIF(Paramètres!H65:I65,\"-\")+COUNTIF(Paramètres!K65:L65,\"-\")+COUNTIF(Paramètres!N65:O65,\"-\"))","v":""},{"$f":"IF(A66=\"\",\"\",COUNTIF(Paramètres!B65,\"<2\")+COUNTIF(Paramètres!C65,\"<2\")+COUNTIF(Paramètres!E65,\"<2\")+COUNTIF(Paramètres!F65,\"<2\")+COUNTIF(Paramètres!H65,\"<2\")+COUNTIF(Paramètres!I65,\"<2\")+COUNTIF(Paramètres!K65,\"<2\")+COUNTIF(Paramètres!L65,\"<2\")+COUNTIF(Paramètres!N65,\"<2\")+COUNTIF(Paramètres!O65,\"<2\"))","v":""},{"$f":"IF(A66=\"\",\"\",COUNTIF(Paramètres!B65,\">1\")+COUNTIF(Paramètres!C65,\">1\")+COUNTIF(Paramètres!E65,\">1\")+COUNTIF(Paramètres!F65,\">1\")+COUNTIF(Paramètres!H65,\">1\")+COUNTIF(Paramètres!I65,\">1\")+COUNTIF(Paramètres!K65,\">1\")+COUNTIF(Paramètres!L65,\">1\")+COUNTIF(Paramètres!N65,\">1\")+COUNTIF(Paramètres!O65,\">1\"))","v":""},{"$f":"Tableau4[[#This Row],[Attaques réussies]]/(Tableau4[[#This Row],[Oubli]]+Tableau4[[#This Row],[Attaques ratées]]+Tableau4[[#This Row],[Attaques réussies]])","v":{"$error":"#VALUE!"}}]
[{"$f":"IF(ISBLANK(Paramètres!A66),\"\",Paramètres!A66)","v":""},{"$f":"IFERROR(AVERAGE(Paramètres!B66,Paramètres!E66,Paramètres!H66,Paramètres!K66,Paramètres!N66),\"\")","v":""},{"$f":"IFERROR(AVERAGE((Paramètres!C66,Paramètres!F66,Paramètres!I66,Paramètres!L66,Paramètres!O66)),\"\")","v":""},{"$f":"IFERROR(AVERAGE((Paramètres!D66,Paramètres!G66,Paramètres!J66,Paramètres!M66,Paramètres!P66)),\"\")","v":""},{"$f":"IF(A67=\"\",\"\",COUNTIF(Paramètres!B66:C66,\"-\")+COUNTIF(Paramètres!E66:F66,\"-\")+COUNTIF(Paramètres!H66:I66,\"-\")+COUNTIF(Paramètres!K66:L66,\"-\")+COUNTIF(Paramètres!N66:O66,\"-\"))","v":""},{"$f":"IF(A67=\"\",\"\",COUNTIF(Paramètres!B66,\"<2\")+COUNTIF(Paramètres!C66,\"<2\")+COUNTIF(Paramètres!E66,\"<2\")+COUNTIF(Paramètres!F66,\"<2\")+COUNTIF(Paramètres!H66,\"<2\")+COUNTIF(Paramètres!I66,\"<2\")+COUNTIF(Paramètres!K66,\"<2\")+COUNTIF(Paramètres!L66,\"<2\")+COUNTIF(Paramètres!N66,\"<2\")+COUNTIF(Paramètres!O66,\"<2\"))","v":""},{"$f":"IF(A67=\"\",\"\",COUNTIF(Paramètres!B66,\">1\")+COUNTIF(Paramètres!C66,\">1\")+COUNTIF(Paramètres!E66,\">1\")+COUNTIF(Paramètres!F66,\">1\")+COUNTIF(Paramètres!H66,\">1\")+COUNTIF(Paramètres!I66,\">1\")+COUNTIF(Paramètres!K66,\">1\")+COUNTIF(Paramètres!L66,\">1\")+COUNTIF(Paramètres!N66,\">1\")+COUNTIF(Paramètres!O66,\">1\"))","v":""},{"$f":"Tableau4[[#This Row],[Attaques réussies]]/(Tableau4[[#This Row],[Oubli]]+Tableau4[[#This Row],[Attaques ratées]]+Tableau4[[#This Row],[Attaques réussies]])","v":{"$error":"#VALUE!"}}]
[{"$f":"IF(ISBLANK(Paramètres!A67),\"\",Paramètres!A67)","v":""},{"$f":"IFERROR(AVERAGE(Paramètres!B67,Paramètres!E67,Paramètres!H67,Paramètres!K67,Paramètres!N67),\"\")","v":""},{"$f":"IFERROR(AVERAGE((Paramètres!C67,Paramètres!F67,Paramètres!I67,Paramètres!L67,Paramètres!O67)),\"\")","v":""},{"$f":"IFERROR(AVERAGE((Paramètres!D67,Paramètres!G67,Paramètres!J67,Paramètres!M67,Paramètres!P67)),\"\")","v":""},{"$f":"IF(A68=\"\",\"\",COUNTIF(Paramètres!B67:C67,\"-\")+COUNTIF(Paramètres!E67:F67,\"-\")+COUNTIF(Paramètres!H67:I67,\"-\")+COUNTIF(Paramètres!K67:L67,\"-\")+COUNTIF(Paramètres!N67:O67,\"-\"))","v":""},{"$f":"IF(A68=\"\",\"\",COUNTIF(Paramètres!B67,\"<2\")+COUNTIF(Paramètres!C67,\"<2\")+COUNTIF(Paramètres!E67,\"<2\")+COUNTIF(Paramètres!F67,\"<2\")+COUNTIF(Paramètres!H67,\"<2\")+COUNTIF(Paramètres!I67,\"<2\")+COUNTIF(Paramètres!K67,\"<2\")+COUNTIF(Paramètres!L67,\"<2\")+COUNTIF(Paramètres!N67,\"<2\")+COUNTIF(Paramètres!O67,\"<2\"))","v":""},{"$f":"IF(A68=\"\",\"\",COUNTIF(Paramètres!B67,\">1\")+COUNTIF(Paramètres!C67,\">1\")+COUNTIF(Paramètres!E67,\">1\")+COUNTIF(Paramètres!F67,\">1\")+COUNTIF(Paramètres!H67,\">1\")+COUNTIF(Paramètres!I67,\">1\")+COUNTIF(Paramètres!K67,\">1\")+COUNTIF(Paramètres!L67,\">1\")+COUNTIF(Paramètres!N67,\">1\")+COUNTIF(Paramètres!O67,\">1\"))","v":""},{"$f":"Tableau4[[#This Row],[Attaques réussies]]/(Tableau4[[#This Row],[Oubli]]+Tableau4[[#This Row],[Attaques ratées]]+Tableau4[[#This Row],[Attaques réussies]])","v":{"$error":"#VALUE!"}}]
[{"$f":"IF(ISBLANK(Paramètres!A68),\"\",Paramètres!A68)","v":""},{"$f":"IFERROR(AVERAGE(Paramètres!B68,Paramètres!E68,Paramètres!H68,Paramètres!K68,Paramètres!N68),\"\")","v":""},{"$f":"IFERROR(AVERAGE((Paramètres!C68,Paramètres!F68,Paramètres!I68,Paramètres!L68,Paramètres!O68)),\"\")","v":""},{"$f":"IFERROR(AVERAGE((Paramètres!D68,Paramètres!G68,Paramètres!J68,Paramètres!M68,Paramètres!P68)),\"\")","v":""},{"$f":"IF(A69=\"\",\"\",COUNTIF(Paramètres!B68:C68,\"-\")+COUNTIF(Paramètres!E68:F68,\"-\")+COUNTIF(Paramètres!H68:I68,\"-\")+COUNTIF(Paramètres!K68:L68,\"-\")+COUNTIF(Paramètres!N68:O68,\"-\"))","v":""},{"$f":"IF(A69=\"\",\"\",COUNTIF(Paramètres!B68,\"<2\")+COUNTIF(Paramètres!C68,\"<2\")+COUNTIF(Paramètres!E68,\"<2\")+COUNTIF(Paramètres!F68,\"<2\")+COUNTIF(Paramètres!H68,\"<2\")+COUNTIF(Paramètres!I68,\"<2\")+COUNTIF(Paramètres!K68,\"<2\")+COUNTIF(Paramètres!L68,\"<2\")+COUNTIF(Paramètres!N68,\"<2\")+COUNTIF(Paramètres!O68,\"<2\"))","v":""},{"$f":"IF(A69=\"\",\"\",COUNTIF(Paramètres!B68,\">1\")+COUNTIF(Paramètres!C68,\">1\")+COUNTIF(Paramètres!E68,\">1\")+COUNTIF(Paramètres!F68,\">1\")+COUNTIF(Paramètres!H68,\">1\")+COUNTIF(Paramètres!I68,\">1\")+COUNTIF(Paramètres!K68,\">1\")+COUNTIF(Paramètres!L68,\">1\")+COUNTIF(Paramètres!N68,\">1\")+COUNTIF(Paramètres!O68,\">1\"))","v":""},{"$f":"Tableau4[[#This Row],[Attaques réussies]]/(Tableau4[[#This Row],[Oubli]]+Tableau4[[#This Row],[Attaques ratées]]+Tableau4[[#This Row],[Attaques réussies]])","v":{"$error":"#VALUE!"}}]
[{"$f":"IF(ISBLANK(Paramètres!A69),\"\",Paramètres!A69)","v":""},{"$f":"IFERROR(AVERAGE(Paramètres!B69,Paramètres!E69,Paramètres!H69,Paramètres!K69,Paramètres!N69),\"\")","v":""},{"$f":"IFERROR(AVERAGE((Paramètres!C69,Paramètres!F69,Paramètres!I69,Paramètres!L69,Paramètres!O69)),\"\")","v":""},{"$f":"IFERROR(AVERAGE((Paramètres!D69,Paramètres!G69,Paramètres!J69,Paramètres!M69,Paramètres!P69)),\"\")","v":""},{"$f":"IF(A70=\"\",\"\",COUNTIF(Paramètres!B69:C69,\"-\")+COUNTIF(Paramètres!E69:F69,\"-\")+COUNTIF(Paramètres!H69:I69,\"-\")+COUNTIF(Paramètres!K69:L69,\"-\")+COUNTIF(Paramètres!N69:O69,\"-\"))","v":""},{"$f":"IF(A70=\"\",\"\",COUNTIF(Paramètres!B69,\"<2\")+COUNTIF(Paramètres!C69,\"<2\")+COUNTIF(Paramètres!E69,\"<2\")+COUNTIF(Paramètres!F69,\"<2\")+COUNTIF(Paramètres!H69,\"<2\")+COUNTIF(Paramètres!I69,\"<2\")+COUNTIF(Paramètres!K69,\"<2\")+COUNTIF(Paramètres!L69,\"<2\")+COUNTIF(Paramètres!N69,\"<2\")+COUNTIF(Paramètres!O69,\"<2\"))","v":""},{"$f":"IF(A70=\"\",\"\",COUNTIF(Paramètres!B69,\">1\")+COUNTIF(Paramètres!C69,\">1\")+COUNTIF(Paramètres!E69,\">1\")+COUNTIF(Paramètres!F69,\">1\")+COUNTIF(Paramètres!H69,\">1\")+COUNTIF(Paramètres!I69,\">1\")+COUNTIF(Paramètres!K69,\">1\")+COUNTIF(Paramètres!L69,\">1\")+COUNTIF(Paramètres!N69,\">1\")+COUNTIF(Paramètres!O69,\">1\"))","v":""},{"$f":"Tableau4[[#This Row],[Attaques réussies]]/(Tableau4[[#This Row],[Oubli]]+Tableau4[[#This Row],[Attaques ratées]]+Tableau4[[#This Row],[Attaques réussies]])","v":{"$error":"#VALUE!"}}]
[{"$f":"IF(ISBLANK(Paramètres!A70),\"\",Paramètres!A70)","v":""},{"$f":"IFERROR(AVERAGE(Paramètres!B70,Paramètres!E70,Paramètres!H70,Paramètres!K70,Paramètres!N70),\"\")","v":""},{"$f":"IFERROR(AVERAGE((Paramètres!C70,Paramètres!F70,Paramètres!I70,Paramètres!L70,Paramètres!O70)),\"\")","v":""},{"$f":"IFERROR(AVERAGE((Paramètres!D70,Paramètres!G70,Paramètres!J70,Paramètres!M70,Paramètres!P70)),\"\")","v":""},{"$f":"IF(A71=\"\",\"\",COUNTIF(Paramètres!B70:C70,\"-\")+COUNTIF(Paramètres!E70:F70,\"-\")+COUNTIF(Paramètres!H70:I70,\"-\")+COUNTIF(Paramètres!K70:L70,\"-\")+COUNTIF(Paramètres!N70:O70,\"-\"))","v":""},{"$f":"IF(A71=\"\",\"\",COUNTIF(Paramètres!B70,\"<2\")+COUNTIF(Paramètres!C70,\"<2\")+COUNTIF(Paramètres!E70,\"<2\")+COUNTIF(Paramètres!F70,\"<2\")+COUNTIF(Paramètres!H70,\"<2\")+COUNTIF(Paramètres!I70,\"<2\")+COUNTIF(Paramètres!K70,\"<2\")+COUNTIF(Paramètres!L70,\"<2\")+COUNTIF(Paramètres!N70,\"<2\")+COUNTIF(Paramètres!O70,\"<2\"))","v":""},{"$f":"IF(A71=\"\",\"\",COUNTIF(Paramètres!B70,\">1\")+COUNTIF(Paramètres!C70,\">1\")+COUNTIF(Paramètres!E70,\">1\")+COUNTIF(Paramètres!F70,\">1\")+COUNTIF(Paramètres!H70,\">1\")+COUNTIF(Paramètres!I70,\">1\")+COUNTIF(Paramètres!K70,\">1\")+COUNTIF(Paramètres!L70,\">1\")+COUNTIF(Paramètres!N70,\">1\")+COUNTIF(Paramètres!O70,\">1\"))","v":""},{"$f":"Tableau4[[#This Row],[Attaques réussies]]/(Tableau4[[#This Row],[Oubli]]+Tableau4[[#This Row],[Attaques ratées]]+Tableau4[[#This Row],[Attaques réussies]])","v":{"$error":"#VALUE!"}}]
[{"$f":"IF(ISBLANK(Paramètres!A71),\"\",Paramètres!A71)","v":""},{"$f":"IFERROR(AVERAGE(Paramètres!B71,Paramètres!E71,Paramètres!H71,Paramètres!K71,Paramètres!N71),\"\")","v":""},{"$f":"IFERROR(AVERAGE((Paramètres!C71,Paramètres!F71,Paramètres!I71,Paramètres!L71,Paramètres!O71)),\"\")","v":""},{"$f":"IFERROR(AVERAGE((Paramètres!D71,Paramètres!G71,Paramètres!J71,Paramètres!M71,Paramètres!P71)),\"\")","v":""},{"$f":"IF(A72=\"\",\"\",COUNTIF(Paramètres!B71:C71,\"-\")+COUNTIF(Paramètres!E71:F71,\"-\")+COUNTIF(Paramètres!H71:I71,\"-\")+COUNTIF(Paramètres!K71:L71,\"-\")+COUNTIF(Paramètres!N71:O71,\"-\"))","v":""},{"$f":"IF(A72=\"\",\"\",COUNTIF(Paramètres!B71,\"<2\")+COUNTIF(Paramètres!C71,\"<2\")+COUNTIF(Paramètres!E71,\"<2\")+COUNTIF(Paramètres!F71,\"<2\")+COUNTIF(Paramètres!H71,\"<2\")+COUNTIF(Paramètres!I71,\"<2\")+COUNTIF(Paramètres!K71,\"<2\")+COUNTIF(Paramètres!L71,\"<2\")+COUNTIF(Paramètres!N71,\"<2\")+COUNTIF(Paramètres!O71,\"<2\"))","v":""},{"$f":"IF(A72=\"\",\"\",COUNTIF(Paramètres!B71,\">1\")+COUNTIF(Paramètres!C71,\">1\")+COUNTIF(Paramètres!E71,\">1\")+COUNTIF(Paramètres!F71,\">1\")+COUNTIF(Paramètres!H71,\">1\")+COUNTIF(Paramètres!I71,\">1\")+COUNTIF(Paramètres!K71,\">1\")+COUNTIF(Paramètres!L71,\">1\")+COUNTIF(Paramètres!N71,\">1\")+COUNTIF(Paramètres!O71,\">1\"))","v":""},{"$f":"Tableau4[[#This Row],[Attaques réussies]]/(Tableau4[[#This Row],[Oubli]]+Tableau4[[#This Row],[Attaques ratées]]+Tableau4[[#This Row],[Attaques réussies]])","v":{"$error":"#VALUE!"}}]
[{"$f":"IF(ISBLANK(Paramètres!A72),\"\",Paramètres!A72)","v":""},{"$f":"IFERROR(AVERAGE(Paramètres!B72,Paramètres!E72,Paramètres!H72,Paramètres!K72,Paramètres!N72),\"\")","v":""},{"$f":"IFERROR(AVERAGE((Paramètres!C72,Paramètres!F72,Paramètres!I72,Paramètres!L72,Paramètres!O72)),\"\")","v":""},{"$f":"IFERROR(AVERAGE((Paramètres!D72,Paramètres!G72,Paramètres!J72,Paramètres!M72,Paramètres!P72)),\"\")","v":""},{"$f":"IF(A73=\"\",\"\",COUNTIF(Paramètres!B72:C72,\"-\")+COUNTIF(Paramètres!E72:F72,\"-\")+COUNTIF(Paramètres!H72:I72,\"-\")+COUNTIF(Paramètres!K72:L72,\"-\")+COUNTIF(Paramètres!N72:O72,\"-\"))","v":""},{"$f":"IF(A73=\"\",\"\",COUNTIF(Paramètres!B72,\"<2\")+COUNTIF(Paramètres!C72,\"<2\")+COUNTIF(Paramètres!E72,\"<2\")+COUNTIF(Paramètres!F72,\"<2\")+COUNTIF(Paramètres!H72,\"<2\")+COUNTIF(Paramètres!I72,\"<2\")+COUNTIF(Paramètres!K72,\"<2\")+COUNTIF(Paramètres!L72,\"<2\")+COUNTIF(Paramètres!N72,\"<2\")+COUNTIF(Paramètres!O72,\"<2\"))","v":""},{"$f":"IF(A73=\"\",\"\",COUNTIF(Paramètres!B72,\">1\")+COUNTIF(Paramètres!C72,\">1\")+COUNTIF(Paramètres!E72,\">1\")+COUNTIF(Paramètres!F72,\">1\")+COUNTIF(Paramètres!H72,\">1\")+COUNTIF(Paramètres!I72,\">1\")+COUNTIF(Paramètres!K72,\">1\")+COUNTIF(Paramètres!L72,\">1\")+COUNTIF(Paramètres!N72,\">1\")+COUNTIF(Paramètres!O72,\">1\"))","v":""},{"$f":"Tableau4[[#This Row],[Attaques réussies]]/(Tableau4[[#This Row],[Oubli]]+Tableau4[[#This Row],[Attaques ratées]]+Tableau4[[#This Row],[Attaques réussies]])","v":{"$error":"#VALUE!"}}]
[{"$f":"IF(ISBLANK(Paramètres!A73),\"\",Paramètres!A73)","v":""},{"$f":"IFERROR(AVERAGE(Paramètres!B73,Paramètres!E73,Paramètres!H73,Paramètres!K73,Paramètres!N73),\"\")","v":""},{"$f":"IFERROR(AVERAGE((Paramètres!C73,Paramètres!F73,Paramètres!I73,Paramètres!L73,Paramètres!O73)),\"\")","v":""},{"$f":"IFERROR(AVERAGE((Paramètres!D73,Paramètres!G73,Paramètres!J73,Paramètres!M73,Paramètres!P73)),\"\")","v":""},{"$f":"IF(A74=\"\",\"\",COUNTIF(Paramètres!B73:C73,\"-\")+COUNTIF(Paramètres!E73:F73,\"-\")+COUNTIF(Paramètres!H73:I73,\"-\")+COUNTIF(Paramètres!K73:L73,\"-\")+COUNTIF(Paramètres!N73:O73,\"-\"))","v":""},{"$f":"IF(A74=\"\",\"\",COUNTIF(Paramètres!B73,\"<2\")+COUNTIF(Paramètres!C73,\"<2\")+COUNTIF(Paramètres!E73,\"<2\")+COUNTIF(Paramètres!F73,\"<2\")+COUNTIF(Paramètres!H73,\"<2\")+COUNTIF(Paramètres!I73,\"<2\")+COUNTIF(Paramètres!K73,\"<2\")+COUNTIF(Paramètres!L73,\"<2\")+COUNTIF(Paramètres!N73,\"<2\")+COUNTIF(Paramètres!O73,\"<2\"))","v":""},{"$f":"IF(A74=\"\",\"\",COUNTIF(Paramètres!B73,\">1\")+COUNTIF(Paramètres!C73,\">1\")+COUNTIF(Paramètres!E73,\">1\")+COUNTIF(Paramètres!F73,\">1\")+COUNTIF(Paramètres!H73,\">1\")+COUNTIF(Paramètres!I73,\">1\")+COUNTIF(Paramètres!K73,\">1\")+COUNTIF(Paramètres!L73,\">1\")+COUNTIF(Paramètres!N73,\">1\")+COUNTIF(Paramètres!O73,\">1\"))","v":""},{"$f":"Tableau4[[#This Row],[Attaques réussies]]/(Tableau4[[#This Row],[Oubli]]+Tableau4[[#This Row],[Attaques ratées]]+Tableau4[[#This Row],[Attaques réussies]])","v":{"$error":"#VALUE!"}}]
[{"$f":"IF(ISBLANK(Paramètres!A74),\"\",Paramètres!A74)","v":""},{"$f":"IFERROR(AVERAGE(Paramètres!B74,Paramètres!E74,Paramètres!H74,Paramètres!K74,Paramètres!N74),\"\")","v":""},{"$f":"IFERROR(AVERAGE((Paramètres!C74,Paramètres!F74,Paramètres!I74,Paramètres!L74,Paramètres!O74)),\"\")","v":""},{"$f":"IFERROR(AVERAGE((Paramètres!D74,Paramètres!G74,Paramètres!J74,Paramètres!M74,Paramètres!P74)),\"\")","v":""},{"$f":"IF(A75=\"\",\"\",COUNTIF(Paramètres!B74:C74,\"-\")+COUNTIF(Paramètres!E74:F74,\"-\")+COUNTIF(Paramètres!H74:I74,\"-\")+COUNTIF(Paramètres!K74:L74,\"-\")+COUNTIF(Paramètres!N74:O74,\"-\"))","v":""},{"$f":"IF(A75=\"\",\"\",COUNTIF(Paramètres!B74,\"<2\")+COUNTIF(Paramètres!C74,\"<2\")+COUNTIF(Paramètres!E74,\"<2\")+COUNTIF(Paramètres!F74,\"<2\")+COUNTIF(Paramètres!H74,\"<2\")+COUNTIF(Paramètres!I74,\"<2\")+COUNTIF(Paramètres!K74,\"<2\")+COUNTIF(Paramètres!L74,\"<2\")+COUNTIF(Paramètres!N74,\"<2\")+COUNTIF(Paramètres!O74,\"<2\"))","v":""},{"$f":"IF(A75=\"\",\"\",COUNTIF(Paramètres!B74,\">1\")+COUNTIF(Paramètres!C74,\">1\")+COUNTIF(Paramètres!E74,\">1\")+COUNTIF(Paramètres!F74,\">1\")+COUNTIF(Paramètres!H74,\">1\")+COUNTIF(Paramètres!I74,\">1\")+COUNTIF(Paramètres!K74,\">1\")+COUNTIF(Paramètres!L74,\">1\")+COUNTIF(Paramètres!N74,\">1\")+COUNTIF(Paramètres!O74,\">1\"))","v":""},{"$f":"Tableau4[[#This Row],[Attaques réussies]]/(Tableau4[[#This Row],[Oubli]]+Tableau4[[#This Row],[Attaques ratées]]+Tableau4[[#This Row],[Attaques réussies]])","v":{"$error":"#VALUE!"}}]
[{"$f":"IF(ISBLANK(Paramètres!A75),\"\",Paramètres!A75)","v":""},{"$f":"IFERROR(AVERAGE(Paramètres!B75,Paramètres!E75,Paramètres!H75,Paramètres!K75,Paramètres!N75),\"\")","v":""},{"$f":"IFERROR(AVERAGE((Paramètres!C75,Paramètres!F75,Paramètres!I75,Paramètres!L75,Paramètres!O75)),\"\")","v":""},{"$f":"IFERROR(AVERAGE((Paramètres!D75,Paramètres!G75,Paramètres!J75,Paramètres!M75,Paramètres!P75)),\"\")","v":""},{"$f":"IF(A76=\"\",\"\",COUNTIF(Paramètres!B75:C75,\"-\")+COUNTIF(Paramètres!E75:F75,\"-\")+COUNTIF(Paramètres!H75:I75,\"-\")+COUNTIF(Paramètres!K75:L75,\"-\")+COUNTIF(Paramètres!N75:O75,\"-\"))","v":""},{"$f":"IF(A76=\"\",\"\",COUNTIF(Paramètres!B75,\"<2\")+COUNTIF(Paramètres!C75,\"<2\")+COUNTIF(Paramètres!E75,\"<2\")+COUNTIF(Paramètres!F75,\"<2\")+COUNTIF(Paramètres!H75,\"<2\")+COUNTIF(Paramètres!I75,\"<2\")+COUNTIF(Paramètres!K75,\"<2\")+COUNTIF(Paramètres!L75,\"<2\")+COUNTIF(Paramètres!N75,\"<2\")+COUNTIF(Paramètres!O75,\"<2\"))","v":""},{"$f":"IF(A76=\"\",\"\",COUNTIF(Paramètres!B75,\">1\")+COUNTIF(Paramètres!C75,\">1\")+COUNTIF(Paramètres!E75,\">1\")+COUNTIF(Paramètres!F75,\">1\")+COUNTIF(Paramètres!H75,\">1\")+COUNTIF(Paramètres!I75,\">1\")+COUNTIF(Paramètres!K75,\">1\")+COUNTIF(Paramètres!L75,\">1\")+COUNTIF(Paramètres!N75,\">1\")+COUNTIF(Paramètres!O75,\">1\"))","v":""},{"$f":"Tableau4[[#This Row],[Attaques réussies]]/(Tableau4[[#This Row],[Oubli]]+Tableau4[[#This Row],[Attaques ratées]]+Tableau4[[#This Row],[Attaques réussies]])","v":{"$error":"#VALUE!"}}]
[{"$f":"IF(ISBLANK(Paramètres!A76),\"\",Paramètres!A76)","v":""},{"$f":"IFERROR(AVERAGE(Paramètres!B76,Paramètres!E76,Paramètres!H76,Paramètres!K76,Paramètres!N76),\"\")","v":""},{"$f":"IFERROR(AVERAGE((Paramètres!C76,Paramètres!F76,Paramètres!I76,Paramètres!L76,Paramètres!O76)),\"\")","v":""},{"$f":"IFERROR(AVERAGE((Paramètres!D76,Paramètres!G76,Paramètres!J76,Paramètres!M76,Paramètres!P76)),\"\")","v":""},{"$f":"IF(A77=\"\",\"\",COUNTIF(Paramètres!B76:C76,\"-\")+COUNTIF(Paramètres!E76:F76,\"-\")+COUNTIF(Paramètres!H76:I76,\"-\")+COUNTIF(Paramètres!K76:L76,\"-\")+COUNTIF(Paramètres!N76:O76,\"-\"))","v":""},{"$f":"IF(A77=\"\",\"\",COUNTIF(Paramètres!B76,\"<2\")+COUNTIF(Paramètres!C76,\"<2\")+COUNTIF(Paramètres!E76,\"<2\")+COUNTIF(Paramètres!F76,\"<2\")+COUNTIF(Paramètres!H76,\"<2\")+COUNTIF(Paramètres!I76,\"<2\")+COUNTIF(Paramètres!K76,\"<2\")+COUNTIF(Paramètres!L76,\"<2\")+COUNTIF(Paramètres!N76,\"<2\")+COUNTIF(Paramètres!O76,\"<2\"))","v":""},{"$f":"IF(A77=\"\",\"\",COUNTIF(Paramètres!B76,\">1\")+COUNTIF(Paramètres!C76,\">1\")+COUNTIF(Paramètres!E76,\">1\")+COUNTIF(Paramètres!F76,\">1\")+COUNTIF(Paramètres!H76,\">1\")+COUNTIF(Paramètres!I76,\">1\")+COUNTIF(Paramètres!K76,\">1\")+COUNTIF(Paramètres!L76,\">1\")+COUNTIF(Paramètres!N76,\">1\")+COUNTIF(Paramètres!O76,\">1\"))","v":""},{"$f":"Tableau4[[#This Row],[Attaques réussies]]/(Tableau4[[#This Row],[Oubli]]+Tableau4[[#This Row],[Attaques ratées]]+Tableau4[[#This Row],[Attaques réussies]])","v":{"$error":"#VALUE!"}}]
[{"$f":"IF(ISBLANK(Paramètres!A77),\"\",Paramètres!A77)","v":""},{"$f":"IFERROR(AVERAGE(Paramètres!B77,Paramètres!E77,Paramètres!H77,Paramètres!K77,Paramètres!N77),\"\")","v":""},{"$f":"IFERROR(AVERAGE((Paramètres!C77,Paramètres!F77,Paramètres!I77,Paramètres!L77,Paramètres!O77)),\"\")","v":""},{"$f":"IFERROR(AVERAGE((Paramètres!D77,Paramètres!G77,Paramètres!J77,Paramètres!M77,Paramètres!P77)),\"\")","v":""},{"$f":"IF(A78=\"\",\"\",COUNTIF(Paramètres!B77:C77,\"-\")+COUNTIF(Paramètres!E77:F77,\"-\")+COUNTIF(Paramètres!H77:I77,\"-\")+COUNTIF(Paramètres!K77:L77,\"-\")+COUNTIF(Paramètres!N77:O77,\"-\"))","v":""},{"$f":"IF(A78=\"\",\"\",COUNTIF(Paramètres!B77,\"<2\")+COUNTIF(Paramètres!C77,\"<2\")+COUNTIF(Paramètres!E77,\"<2\")+COUNTIF(Paramètres!F77,\"<2\")+COUNTIF(Paramètres!H77,\"<2\")+COUNTIF(Paramètres!I77,\"<2\")+COUNTIF(Paramètres!K77,\"<2\")+COUNTIF(Paramètres!L77,\"<2\")+COUNTIF(Paramètres!N77,\"<2\")+COUNTIF(Paramètres!O77,\"<2\"))","v":""},{"$f":"IF(A78=\"\",\"\",COUNTIF(Paramètres!B77,\">1\")+COUNTIF(Paramètres!C77,\">1\")+COUNTIF(Paramètres!E77,\">1\")+COUNTIF(Paramètres!F77,\">1\")+COUNTIF(Paramètres!H77,\">1\")+COUNTIF(Paramètres!I77,\">1\")+COUNTIF(Paramètres!K77,\">1\")+COUNTIF(Paramètres!L77,\">1\")+COUNTIF(Paramètres!N77,\">1\")+COUNTIF(Paramètres!O77,\">1\"))","v":""},{"$f":"Tableau4[[#This Row],[Attaques réussies]]/(Tableau4[[#This Row],[Oubli]]+Tableau4[[#This Row],[Attaques ratées]]+Tableau4[[#This Row],[Attaques réussies]])","v":{"$error":"#VALUE!"}}]
[{"$f":"IF(ISBLANK(Paramètres!A78),\"\",Paramètres!A78)","v":""},{"$f":"IFERROR(AVERAGE(Paramètres!B78,Paramètres!E78,Paramètres!H78,Paramètres!K78,Paramètres!N78),\"\")","v":""},{"$f":"IFERROR(AVERAGE((Paramètres!C78,Paramètres!F78,Paramètres!I78,Paramètres!L78,Paramètres!O78)),\"\")","v":""},{"$f":"IFERROR(AVERAGE((Paramètres!D78,Paramètres!G78,Paramètres!J78,Paramètres!M78,Paramètres!P78)),\"\")","v":""},{"$f":"IF(A79=\"\",\"\",COUNTIF(Paramètres!B78:C78,\"-\")+COUNTIF(Paramètres!E78:F78,\"-\")+COUNTIF(Paramètres!H78:I78,\"-\")+COUNTIF(Paramètres!K78:L78,\"-\")+COUNTIF(Paramètres!N78:O78,\"-\"))","v":""},{"$f":"IF(A79=\"\",\"\",COUNTIF(Paramètres!B78,\"<2\")+COUNTIF(Paramètres!C78,\"<2\")+COUNTIF(Paramètres!E78,\"<2\")+COUNTIF(Paramètres!F78,\"<2\")+COUNTIF(Paramètres!H78,\"<2\")+COUNTIF(Paramètres!I78,\"<2\")+COUNTIF(Paramètres!K78,\"<2\")+COUNTIF(Paramètres!L78,\"<2\")+COUNTIF(Paramètres!N78,\"<2\")+COUNTIF(Paramètres!O78,\"<2\"))","v":""},{"$f":"IF(A79=\"\",\"\",COUNTIF(Paramètres!B78,\">1\")+COUNTIF(Paramètres!C78,\">1\")+COUNTIF(Paramètres!E78,\">1\")+COUNTIF(Paramètres!F78,\">1\")+COUNTIF(Paramètres!H78,\">1\")+COUNTIF(Paramètres!I78,\">1\")+COUNTIF(Paramètres!K78,\">1\")+COUNTIF(Paramètres!L78,\">1\")+COUNTIF(Paramètres!N78,\">1\")+COUNTIF(Paramètres!O78,\">1\"))","v":""},{"$f":"Tableau4[[#This Row],[Attaques réussies]]/(Tableau4[[#This Row],[Oubli]]+Tableau4[[#This Row],[Attaques ratées]]+Tableau4[[#This Row],[Attaques réussies]])","v":{"$error":"#VALUE!"}}]
[{"$f":"IF(ISBLANK(Paramètres!A79),\"\",Paramètres!A79)","v":""},{"$f":"IFERROR(AVERAGE(Paramètres!B79,Paramètres!E79,Paramètres!H79,Paramètres!K79,Paramètres!N79),\"\")","v":""},{"$f":"IFERROR(AVERAGE((Paramètres!C79,Paramètres!F79,Paramètres!I79,Paramètres!L79,Paramètres!O79)),\"\")","v":""},{"$f":"IFERROR(AVERAGE((Paramètres!D79,Paramètres!G79,Paramètres!J79,Paramètres!M79,Paramètres!P79)),\"\")","v":""},{"$f":"IF(A80=\"\",\"\",COUNTIF(Paramètres!B79:C79,\"-\")+COUNTIF(Paramètres!E79:F79,\"-\")+COUNTIF(Paramètres!H79:I79,\"-\")+COUNTIF(Paramètres!K79:L79,\"-\")+COUNTIF(Paramètres!N79:O79,\"-\"))","v":""},{"$f":"IF(A80=\"\",\"\",COUNTIF(Paramètres!B79,\"<2\")+COUNTIF(Paramètres!C79,\"<2\")+COUNTIF(Paramètres!E79,\"<2\")+COUNTIF(Paramètres!F79,\"<2\")+COUNTIF(Paramètres!H79,\"<2\")+COUNTIF(Paramètres!I79,\"<2\")+COUNTIF(Paramètres!K79,\"<2\")+COUNTIF(Paramètres!L79,\"<2\")+COUNTIF(Paramètres!N79,\"<2\")+COUNTIF(Paramètres!O79,\"<2\"))","v":""},{"$f":"IF(A80=\"\",\"\",COUNTIF(Paramètres!B79,\">1\")+COUNTIF(Paramètres!C79,\">1\")+COUNTIF(Paramètres!E79,\">1\")+COUNTIF(Paramètres!F79,\">1\")+COUNTIF(Paramètres!H79,\">1\")+COUNTIF(Paramètres!I79,\">1\")+COUNTIF(Paramètres!K79,\">1\")+COUNTIF(Paramètres!L79,\">1\")+COUNTIF(Paramètres!N79,\">1\")+COUNTIF(Paramètres!O79,\">1\"))","v":""},{"$f":"Tableau4[[#This Row],[Attaques réussies]]/(Tableau4[[#This Row],[Oubli]]+Tableau4[[#This Row],[Attaques ratées]]+Tableau4[[#This Row],[Attaques réussies]])","v":{"$error":"#VALUE!"}}]
[{"$f":"IF(ISBLANK(Paramètres!A80),\"\",Paramètres!A80)","v":""},{"$f":"IFERROR(AVERAGE(Paramètres!B80,Paramètres!E80,Paramètres!H80,Paramètres!K80,Paramètres!N80),\"\")","v":""},{"$f":"IFERROR(AVERAGE((Paramètres!C80,Paramètres!F80,Paramètres!I80,Paramètres!L80,Paramètres!O80)),\"\")","v":""},{"$f":"IFERROR(AVERAGE((Paramètres!D80,Paramètres!G80,Paramètres!J80,Paramètres!M80,Paramètres!P80)),\"\")","v":""},{"$f":"IF(A81=\"\",\"\",COUNTIF(Paramètres!B80:C80,\"-\")+COUNTIF(Paramètres!E80:F80,\"-\")+COUNTIF(Paramètres!H80:I80,\"-\")+COUNTIF(Paramètres!K80:L80,\"-\")+COUNTIF(Paramètres!N80:O80,\"-\"))","v":""},{"$f":"IF(A81=\"\",\"\",COUNTIF(Paramètres!B80,\"<2\")+COUNTIF(Paramètres!C80,\"<2\")+COUNTIF(Paramètres!E80,\"<2\")+COUNTIF(Paramètres!F80,\"<2\")+COUNTIF(Paramètres!H80,\"<2\")+COUNTIF(Paramètres!I80,\"<2\")+COUNTIF(Paramètres!K80,\"<2\")+COUNTIF(Paramètres!L80,\"<2\")+COUNTIF(Paramètres!N80,\"<2\")+COUNTIF(Paramètres!O80,\"<2\"))","v":""},{"$f":"IF(A81=\"\",\"\",COUNTIF(Paramètres!B80,\">1\")+COUNTIF(Paramètres!C80,\">1\")+COUNTIF(Paramètres!E80,\">1\")+COUNTIF(Paramètres!F80,\">1\")+COUNTIF(Paramètres!H80,\">1\")+COUNTIF(Paramètres!I80,\">1\")+COUNTIF(Paramètres!K80,\">1\")+COUNTIF(Paramètres!L80,\">1\")+COUNTIF(Paramètres!N80,\">1\")+COUNTIF(Paramètres!O80,\">1\"))","v":""},{"$f":"Tableau4[[#This Row],[Attaques réussies]]/(Tableau4[[#This Row],[Oubli]]+Tableau4[[#This Row],[Attaques ratées]]+Tableau4[[#This Row],[Attaques réussies]])","v":{"$error":"#VALUE!"}}]
[{"$f":"IF(ISBLANK(Paramètres!A81),\"\",Paramètres!A81)","v":""},{"$f":"IFERROR(AVERAGE(Paramètres!B81,Paramètres!E81,Paramètres!H81,Paramètres!K81,Paramètres!N81),\"\")","v":""},{"$f":"IFERROR(AVERAGE((Paramètres!C81,Paramètres!F81,Paramètres!I81,Paramètres!L81,Paramètres!O81)),\"\")","v":""},{"$f":"IFERROR(AVERAGE((Paramètres!D81,Paramètres!G81,Paramètres!J81,Paramètres!M81,Paramètres!P81)),\"\")","v":""},{"$f":"IF(A82=\"\",\"\",COUNTIF(Paramètres!B81:C81,\"-\")+COUNTIF(Paramètres!E81:F81,\"-\")+COUNTIF(Paramètres!H81:I81,\"-\")+COUNTIF(Paramètres!K81:L81,\"-\")+COUNTIF(Paramètres!N81:O81,\"-\"))","v":""},{"$f":"IF(A82=\"\",\"\",COUNTIF(Paramètres!B81,\"<2\")+COUNTIF(Paramètres!C81,\"<2\")+COUNTIF(Paramètres!E81,\"<2\")+COUNTIF(Paramètres!F81,\"<2\")+COUNTIF(Paramètres!H81,\"<2\")+COUNTIF(Paramètres!I81,\"<2\")+COUNTIF(Paramètres!K81,\"<2\")+COUNTIF(Paramètres!L81,\"<2\")+COUNTIF(Paramètres!N81,\"<2\")+COUNTIF(Paramètres!O81,\"<2\"))","v":""},{"$f":"IF(A82=\"\",\"\",COUNTIF(Paramètres!B81,\">1\")+COUNTIF(Paramètres!C81,\">1\")+COUNTIF(Paramètres!E81,\">1\")+COUNTIF(Paramètres!F81,\">1\")+COUNTIF(Paramètres!H81,\">1\")+COUNTIF(Paramètres!I81,\">1\")+COUNTIF(Paramètres!K81,\">1\")+COUNTIF(Paramètres!L81,\">1\")+COUNTIF(Paramètres!N81,\">1\")+COUNTIF(Paramètres!O81,\">1\"))","v":""},{"$f":"Tableau4[[#This Row],[Attaques réussies]]/(Tableau4[[#This Row],[Oubli]]+Tableau4[[#This Row],[Attaques ratées]]+Tableau4[[#This Row],[Attaques réussies]])","v":{"$error":"#VALUE!"}}]
[{"$f":"IF(ISBLANK(Paramètres!A82),\"\",Paramètres!A82)","v":""},{"$f":"IFERROR(AVERAGE(Paramètres!B82,Paramètres!E82,Paramètres!H82,Paramètres!K82,Paramètres!N82),\"\")","v":""},{"$f":"IFERROR(AVERAGE((Paramètres!C82,Paramètres!F82,Paramètres!I82,Paramètres!L82,Paramètres!O82)),\"\")","v":""},{"$f":"IFERROR(AVERAGE((Paramètres!D82,Paramètres!G82,Paramètres!J82,Paramètres!M82,Paramètres!P82)),\"\")","v":""},{"$f":"IF(A83=\"\",\"\",COUNTIF(Paramètres!B82:C82,\"-\")+COUNTIF(Paramètres!E82:F82,\"-\")+COUNTIF(Paramètres!H82:I82,\"-\")+COUNTIF(Paramètres!K82:L82,\"-\")+COUNTIF(Paramètres!N82:O82,\"-\"))","v":""},{"$f":"IF(A83=\"\",\"\",COUNTIF(Paramètres!B82,\"<2\")+COUNTIF(Paramètres!C82,\"<2\")+COUNTIF(Paramètres!E82,\"<2\")+COUNTIF(Paramètres!F82,\"<2\")+COUNTIF(Paramètres!H82,\"<2\")+COUNTIF(Paramètres!I82,\"<2\")+COUNTIF(Paramètres!K82,\"<2\")+COUNTIF(Paramètres!L82,\"<2\")+COUNTIF(Paramètres!N82,\"<2\")+COUNTIF(Paramètres!O82,\"<2\"))","v":""},{"$f":"IF(A83=\"\",\"\",COUNTIF(Paramètres!B82,\">1\")+COUNTIF(Paramètres!C82,\">1\")+COUNTIF(Paramètres!E82,\">1\")+COUNTIF(Paramètres!F82,\">1\")+COUNTIF(Paramètres!H82,\">1\")+COUNTIF(Paramètres!I82,\">1\")+COUNTIF(Paramètres!K82,\">1\")+COUNTIF(Paramètres!L82,\">1\")+COUNTIF(Paramètres!N82,\">1\")+COUNTIF(Paramètres!O82,\">1\"))","v":""},{"$f":"Tableau4[[#This Row],[Attaques réussies]]/(Tableau4[[#This Row],[Oubli]]+Tableau4[[#This Row],[Attaques ratées]]+Tableau4[[#This Row],[Attaques réussies]])","v":{"$error":"#VALUE!"}}]
[{"$f":"IF(ISBLANK(Paramètres!A83),\"\",Paramètres!A83)","v":""},{"$f":"IFERROR(AVERAGE(Paramètres!B83,Paramètres!E83,Paramètres!H83,Paramètres!K83,Paramètres!N83),\"\")","v":""},{"$f":"IFERROR(AVERAGE((Paramètres!C83,Paramètres!F83,Paramètres!I83,Paramètres!L83,Paramètres!O83)),\"\")","v":""},{"$f":"IFERROR(AVERAGE((Paramètres!D83,Paramètres!G83,Paramètres!J83,Paramètres!M83,Paramètres!P83)),\"\")","v":""},{"$f":"IF(A84=\"\",\"\",COUNTIF(Paramètres!B83:C83,\"-\")+COUNTIF(Paramètres!E83:F83,\"-\")+COUNTIF(Paramètres!H83:I83,\"-\")+COUNTIF(Paramètres!K83:L83,\"-\")+COUNTIF(Paramètres!N83:O83,\"-\"))","v":""},{"$f":"IF(A84=\"\",\"\",COUNTIF(Paramètres!B83,\"<2\")+COUNTIF(Paramètres!C83,\"<2\")+COUNTIF(Paramètres!E83,\"<2\")+COUNTIF(Paramètres!F83,\"<2\")+COUNTIF(Paramètres!H83,\"<2\")+COUNTIF(Paramètres!I83,\"<2\")+COUNTIF(Paramètres!K83,\"<2\")+COUNTIF(Paramètres!L83,\"<2\")+COUNTIF(Paramètres!N83,\"<2\")+COUNTIF(Paramètres!O83,\"<2\"))","v":""},{"$f":"IF(A84=\"\",\"\",COUNTIF(Paramètres!B83,\">1\")+COUNTIF(Paramètres!C83,\">1\")+COUNTIF(Paramètres!E83,\">1\")+COUNTIF(Paramètres!F83,\">1\")+COUNTIF(Paramètres!H83,\">1\")+COUNTIF(Paramètres!I83,\">1\")+COUNTIF(Paramètres!K83,\">1\")+COUNTIF(Paramètres!L83,\">1\")+COUNTIF(Paramètres!N83,\">1\")+COUNTIF(Paramètres!O83,\">1\"))","v":""},{"$f":"Tableau4[[#This Row],[Attaques réussies]]/(Tableau4[[#This Row],[Oubli]]+Tableau4[[#This Row],[Attaques ratées]]+Tableau4[[#This Row],[Attaques réussies]])","v":{"$error":"#VALUE!"}}]
[{"$f":"IF(ISBLANK(Paramètres!A84),\"\",Paramètres!A84)","v":""},{"$f":"IFERROR(AVERAGE(Paramètres!B84,Paramètres!E84,Paramètres!H84,Paramètres!K84,Paramètres!N84),\"\")","v":""},{"$f":"IFERROR(AVERAGE((Paramètres!C84,Paramètres!F84,Paramètres!I84,Paramètres!L84,Paramètres!O84)),\"\")","v":""},{"$f":"IFERROR(AVERAGE((Paramètres!D84,Paramètres!G84,Paramètres!J84,Paramètres!M84,Paramètres!P84)),\"\")","v":""},{"$f":"IF(A85=\"\",\"\",COUNTIF(Paramètres!B84:C84,\"-\")+COUNTIF(Paramètres!E84:F84,\"-\")+COUNTIF(Paramètres!H84:I84,\"-\")+COUNTIF(Paramètres!K84:L84,\"-\")+COUNTIF(Paramètres!N84:O84,\"-\"))","v":""},{"$f":"IF(A85=\"\",\"\",COUNTIF(Paramètres!B84,\"<2\")+COUNTIF(Paramètres!C84,\"<2\")+COUNTIF(Paramètres!E84,\"<2\")+COUNTIF(Paramètres!F84,\"<2\")+COUNTIF(Paramètres!H84,\"<2\")+COUNTIF(Paramètres!I84,\"<2\")+COUNTIF(Paramètres!K84,\"<2\")+COUNTIF(Paramètres!L84,\"<2\")+COUNTIF(Paramètres!N84,\"<2\")+COUNTIF(Paramètres!O84,\"<2\"))","v":""},{"$f":"IF(A85=\"\",\"\",COUNTIF(Paramètres!B84,\">1\")+COUNTIF(Paramètres!C84,\">1\")+COUNTIF(Paramètres!E84,\">1\")+COUNTIF(Paramètres!F84,\">1\")+COUNTIF(Paramètres!H84,\">1\")+COUNTIF(Paramètres!I84,\">1\")+COUNTIF(Paramètres!K84,\">1\")+COUNTIF(Paramètres!L84,\">1\")+COUNTIF(Paramètres!N84,\">1\")+COUNTIF(Paramètres!O84,\">1\"))","v":""},{"$f":"Tableau4[[#This Row],[Attaques réussies]]/(Tableau4[[#This Row],[Oubli]]+Tableau4[[#This Row],[Attaques ratées]]+Tableau4[[#This Row],[Attaques réussies]])","v":{"$error":"#VALUE!"}}]
[{"$f":"IF(ISBLANK(Paramètres!A85),\"\",Paramètres!A85)","v":""},{"$f":"IFERROR(AVERAGE(Paramètres!B85,Paramètres!E85,Paramètres!H85,Paramètres!K85,Paramètres!N85),\"\")","v":""},{"$f":"IFERROR(AVERAGE((Paramètres!C85,Paramètres!F85,Paramètres!I85,Paramètres!L85,Paramètres!O85)),\"\")","v":""},{"$f":"IFERROR(AVERAGE((Paramètres!D85,Paramètres!G85,Paramètres!J85,Paramètres!M85,Paramètres!P85)),\"\")","v":""},{"$f":"IF(A86=\"\",\"\",COUNTIF(Paramètres!B85:C85,\"-\")+COUNTIF(Paramètres!E85:F85,\"-\")+COUNTIF(Paramètres!H85:I85,\"-\")+COUNTIF(Paramètres!K85:L85,\"-\")+COUNTIF(Paramètres!N85:O85,\"-\"))","v":""},{"$f":"IF(A86=\"\",\"\",COUNTIF(Paramètres!B85,\"<2\")+COUNTIF(Paramètres!C85,\"<2\")+COUNTIF(Paramètres!E85,\"<2\")+COUNTIF(Paramètres!F85,\"<2\")+COUNTIF(Paramètres!H85,\"<2\")+COUNTIF(Paramètres!I85,\"<2\")+COUNTIF(Paramètres!K85,\"<2\")+COUNTIF(Paramètres!L85,\"<2\")+COUNTIF(Paramètres!N85,\"<2\")+COUNTIF(Paramètres!O85,\"<2\"))","v":""},{"$f":"IF(A86=\"\",\"\",COUNTIF(Paramètres!B85,\">1\")+COUNTIF(Paramètres!C85,\">1\")+COUNTIF(Paramètres!E85,\">1\")+COUNTIF(Paramètres!F85,\">1\")+COUNTIF(Paramètres!H85,\">1\")+COUNTIF(Paramètres!I85,\">1\")+COUNTIF(Paramètres!K85,\">1\")+COUNTIF(Paramètres!L85,\">1\")+COUNTIF(Paramètres!N85,\">1\")+COUNTIF(Paramètres!O85,\">1\"))","v":""},{"$f":"Tableau4[[#This Row],[Attaques réussies]]/(Tableau4[[#This Row],[Oubli]]+Tableau4[[#This Row],[Attaques ratées]]+Tableau4[[#This Row],[Attaques réussies]])","v":{"$error":"#VALUE!"}}]
[{"$f":"IF(ISBLANK(Paramètres!A86),\"\",Paramètres!A86)","v":""},{"$f":"IFERROR(AVERAGE(Paramètres!B86,Paramètres!E86,Paramètres!H86,Paramètres!K86,Paramètres!N86),\"\")","v":""},{"$f":"IFERROR(AVERAGE((Paramètres!C86,Paramètres!F86,Paramètres!I86,Paramètres!L86,Paramètres!O86)),\"\")","v":""},{"$f":"IFERROR(AVERAGE((Paramètres!D86,Paramètres!G86,Paramètres!J86,Paramètres!M86,Paramètres!P86)),\"\")","v":""},{"$f":"IF(A87=\"\",\"\",COUNTIF(Paramètres!B86:C86,\"-\")+COUNTIF(Paramètres!E86:F86,\"-\")+COUNTIF(Paramètres!H86:I86,\"-\")+COUNTIF(Paramètres!K86:L86,\"-\")+COUNTIF(Paramètres!N86:O86,\"-\"))","v":""},{"$f":"IF(A87=\"\",\"\",COUNTIF(Paramètres!B86,\"<2\")+COUNTIF(Paramètres!C86,\"<2\")+COUNTIF(Paramètres!E86,\"<2\")+COUNTIF(Paramètres!F86,\"<2\")+COUNTIF(Paramètres!H86,\"<2\")+COUNTIF(Paramètres!I86,\"<2\")+COUNTIF(Paramètres!K86,\"<2\")+COUNTIF(Paramètres!L86,\"<2\")+COUNTIF(Paramètres!N86,\"<2\")+COUNTIF(Paramètres!O86,\"<2\"))","v":""},{"$f":"IF(A87=\"\",\"\",COUNTIF(Paramètres!B86,\">1\")+COUNTIF(Paramètres!C86,\">1\")+COUNTIF(Paramètres!E86,\">1\")+COUNTIF(Paramètres!F86,\">1\")+COUNTIF(Paramètres!H86,\">1\")+COUNTIF(Paramètres!I86,\">1\")+COUNTIF(Paramètres!K86,\">1\")+COUNTIF(Paramètres!L86,\">1\")+COUNTIF(Paramètres!N86,\">1\")+COUNTIF(Paramètres!O86,\">1\"))","v":""},{"$f":"Tableau4[[#This Row],[Attaques réussies]]/(Tableau4[[#This Row],[Oubli]]+Tableau4[[#This Row],[Attaques ratées]]+Tableau4[[#This Row],[Attaques réussies]])","v":{"$error":"#VALUE!"}}]
[{"$f":"IF(ISBLANK(Paramètres!A87),\"\",Paramètres!A87)","v":""},{"$f":"IFERROR(AVERAGE(Paramètres!B87,Paramètres!E87,Paramètres!H87,Paramètres!K87,Paramètres!N87),\"\")","v":""},{"$f":"IFERROR(AVERAGE((Paramètres!C87,Paramètres!F87,Paramètres!I87,Paramètres!L87,Paramètres!O87)),\"\")","v":""},{"$f":"IFERROR(AVERAGE((Paramètres!D87,Paramètres!G87,Paramètres!J87,Paramètres!M87,Paramètres!P87)),\"\")","v":""},{"$f":"IF(A88=\"\",\"\",COUNTIF(Paramètres!B87:C87,\"-\")+COUNTIF(Paramètres!E87:F87,\"-\")+COUNTIF(Paramètres!H87:I87,\"-\")+COUNTIF(Paramètres!K87:L87,\"-\")+COUNTIF(Paramètres!N87:O87,\"-\"))","v":""},{"$f":"IF(A88=\"\",\"\",COUNTIF(Paramètres!B87,\"<2\")+COUNTIF(Paramètres!C87,\"<2\")+COUNTIF(Paramètres!E87,\"<2\")+COUNTIF(Paramètres!F87,\"<2\")+COUNTIF(Paramètres!H87,\"<2\")+COUNTIF(Paramètres!I87,\"<2\")+COUNTIF(Paramètres!K87,\"<2\")+COUNTIF(Paramètres!L87,\"<2\")+COUNTIF(Paramètres!N87,\"<2\")+COUNTIF(Paramètres!O87,\"<2\"))","v":""},{"$f":"IF(A88=\"\",\"\",COUNTIF(Paramètres!B87,\">1\")+COUNTIF(Paramètres!C87,\">1\")+COUNTIF(Paramètres!E87,\">1\")+COUNTIF(Paramètres!F87,\">1\")+COUNTIF(Paramètres!H87,\">1\")+COUNTIF(Paramètres!I87,\">1\")+COUNTIF(Paramètres!K87,\">1\")+COUNTIF(Paramètres!L87,\">1\")+COUNTIF(Paramètres!N87,\">1\")+COUNTIF(Paramètres!O87,\">1\"))","v":""},{"$f":"Tableau4[[#This Row],[Attaques réussies]]/(Tableau4[[#This Row],[Oubli]]+Tableau4[[#This Row],[Attaques ratées]]+Tableau4[[#This Row],[Attaques réussies]])","v":{"$error":"#VALUE!"}}]
[{"$f":"IF(ISBLANK(Paramètres!A88),\"\",Paramètres!A88)","v":""},{"$f":"IFERROR(AVERAGE(Paramètres!B88,Paramètres!E88,Paramètres!H88,Paramètres!K88,Paramètres!N88),\"\")","v":""},{"$f":"IFERROR(AVERAGE((Paramètres!C88,Paramètres!F88,Paramètres!I88,Paramètres!L88,Paramètres!O88)),\"\")","v":""},{"$f":"IFERROR(AVERAGE((Paramètres!D88,Paramètres!G88,Paramètres!J88,Paramètres!M88,Paramètres!P88)),\"\")","v":""},{"$f":"IF(A89=\"\",\"\",COUNTIF(Paramètres!B88:C88,\"-\")+COUNTIF(Paramètres!E88:F88,\"-\")+COUNTIF(Paramètres!H88:I88,\"-\")+COUNTIF(Paramètres!K88:L88,\"-\")+COUNTIF(Paramètres!N88:O88,\"-\"))","v":""},{"$f":"IF(A89=\"\",\"\",COUNTIF(Paramètres!B88,\"<2\")+COUNTIF(Paramètres!C88,\"<2\")+COUNTIF(Paramètres!E88,\"<2\")+COUNTIF(Paramètres!F88,\"<2\")+COUNTIF(Paramètres!H88,\"<2\")+COUNTIF(Paramètres!I88,\"<2\")+COUNTIF(Paramètres!K88,\"<2\")+COUNTIF(Paramètres!L88,\"<2\")+COUNTIF(Paramètres!N88,\"<2\")+COUNTIF(Paramètres!O88,\"<2\"))","v":""},{"$f":"IF(A89=\"\",\"\",COUNTIF(Paramètres!B88,\">1\")+COUNTIF(Paramètres!C88,\">1\")+COUNTIF(Paramètres!E88,\">1\")+COUNTIF(Paramètres!F88,\">1\")+COUNTIF(Paramètres!H88,\">1\")+COUNTIF(Paramètres!I88,\">1\")+COUNTIF(Paramètres!K88,\">1\")+COUNTIF(Paramètres!L88,\">1\")+COUNTIF(Paramètres!N88,\">1\")+COUNTIF(Paramètres!O88,\">1\"))","v":""},{"$f":"Tableau4[[#This Row],[Attaques réussies]]/(Tableau4[[#This Row],[Oubli]]+Tableau4[[#This Row],[Attaques ratées]]+Tableau4[[#This Row],[Attaques réussies]])","v":{"$error":"#VALUE!"}}]
[{"$f":"IF(ISBLANK(Paramètres!A89),\"\",Paramètres!A89)","v":""},{"$f":"IFERROR(AVERAGE(Paramètres!B89,Paramètres!E89,Paramètres!H89,Paramètres!K89,Paramètres!N89),\"\")","v":""},{"$f":"IFERROR(AVERAGE((Paramètres!C89,Paramètres!F89,Paramètres!I89,Paramètres!L89,Paramètres!O89)),\"\")","v":""},{"$f":"IFERROR(AVERAGE((Paramètres!D89,Paramètres!G89,Paramètres!J89,Paramètres!M89,Paramètres!P89)),\"\")","v":""},{"$f":"IF(A90=\"\",\"\",COUNTIF(Paramètres!B89:C89,\"-\")+COUNTIF(Paramètres!E89:F89,\"-\")+COUNTIF(Paramètres!H89:I89,\"-\")+COUNTIF(Paramètres!K89:L89,\"-\")+COUNTIF(Paramètres!N89:O89,\"-\"))","v":""},{"$f":"IF(A90=\"\",\"\",COUNTIF(Paramètres!B89,\"<2\")+COUNTIF(Paramètres!C89,\"<2\")+COUNTIF(Paramètres!E89,\"<2\")+COUNTIF(Paramètres!F89,\"<2\")+COUNTIF(Paramètres!H89,\"<2\")+COUNTIF(Paramètres!I89,\"<2\")+COUNTIF(Paramètres!K89,\"<2\")+COUNTIF(Paramètres!L89,\"<2\")+COUNTIF(Paramètres!N89,\"<2\")+COUNTIF(Paramètres!O89,\"<2\"))","v":""},{"$f":"IF(A90=\"\",\"\",COUNTIF(Paramètres!B89,\">1\")+COUNTIF(Paramètres!C89,\">1\")+COUNTIF(Paramètres!E89,\">1\")+COUNTIF(Paramètres!F89,\">1\")+COUNTIF(Paramètres!H89,\">1\")+COUNTIF(Paramètres!I89,\">1\")+COUNTIF(Paramètres!K89,\">1\")+COUNTIF(Paramètres!L89,\">1\")+COUNTIF(Paramètres!N89,\">1\")+COUNTIF(Paramètres!O89,\">1\"))","v":""},{"$f":"Tableau4[[#This Row],[Attaques réussies]]/(Tableau4[[#This Row],[Oubli]]+Tableau4[[#This Row],[Attaques ratées]]+Tableau4[[#This Row],[Attaques réussies]])","v":{"$error":"#VALUE!"}}]
[{"$f":"IF(ISBLANK(Paramètres!A90),\"\",Paramètres!A90)","v":""},{"$f":"IFERROR(AVERAGE(Paramètres!B90,Paramètres!E90,Paramètres!H90,Paramètres!K90,Paramètres!N90),\"\")","v":""},{"$f":"IFERROR(AVERAGE((Paramètres!C90,Paramètres!F90,Paramètres!I90,Paramètres!L90,Paramètres!O90)),\"\")","v":""},{"$f":"IFERROR(AVERAGE((Paramètres!D90,Paramètres!G90,Paramètres!J90,Paramètres!M90,Paramètres!P90)),\"\")","v":""},{"$f":"IF(A91=\"\",\"\",COUNTIF(Paramètres!B90:C90,\"-\")+COUNTIF(Paramètres!E90:F90,\"-\")+COUNTIF(Paramètres!H90:I90,\"-\")+COUNTIF(Paramètres!K90:L90,\"-\")+COUNTIF(Paramètres!N90:O90,\"-\"))","v":""},{"$f":"IF(A91=\"\",\"\",COUNTIF(Paramètres!B90,\"<2\")+COUNTIF(Paramètres!C90,\"<2\")+COUNTIF(Paramètres!E90,\"<2\")+COUNTIF(Paramètres!F90,\"<2\")+COUNTIF(Paramètres!H90,\"<2\")+COUNTIF(Paramètres!I90,\"<2\")+COUNTIF(Paramètres!K90,\"<2\")+COUNTIF(Paramètres!L90,\"<2\")+COUNTIF(Paramètres!N90,\"<2\")+COUNTIF(Paramètres!O90,\"<2\"))","v":""},{"$f":"IF(A91=\"\",\"\",COUNTIF(Paramètres!B90,\">1\")+COUNTIF(Paramètres!C90,\">1\")+COUNTIF(Paramètres!E90,\">1\")+COUNTIF(Paramètres!F90,\">1\")+COUNTIF(Paramètres!H90,\">1\")+COUNTIF(Paramètres!I90,\">1\")+COUNTIF(Paramètres!K90,\">1\")+COUNTIF(Paramètres!L90,\">1\")+COUNTIF(Paramètres!N90,\">1\")+COUNTIF(Paramètres!O90,\">1\"))","v":""},{"$f":"Tableau4[[#This Row],[Attaques réussies]]/(Tableau4[[#This Row],[Oubli]]+Tableau4[[#This Row],[Attaques ratées]]+Tableau4[[#This Row],[Attaques réussies]])","v":{"$error":"#VALUE!"}}]
[{"$f":"IF(ISBLANK(Paramètres!A91),\"\",Paramètres!A91)","v":""},{"$f":"IFERROR(AVERAGE(Paramètres!B91,Paramètres!E91,Paramètres!H91,Paramètres!K91,Paramètres!N91),\"\")","v":""},{"$f":"IFERROR(AVERAGE((Paramètres!C91,Paramètres!F91,Paramètres!I91,Paramètres!L91,Paramètres!O91)),\"\")","v":""},{"$f":"IFERROR(AVERAGE((Paramètres!D91,Paramètres!G91,Paramètres!J91,Paramètres!M91,Paramètres!P91)),\"\")","v":""},{"$f":"IF(A92=\"\",\"\",COUNTIF(Paramètres!B91:C91,\"-\")+COUNTIF(Paramètres!E91:F91,\"-\")+COUNTIF(Paramètres!H91:I91,\"-\")+COUNTIF(Paramètres!K91:L91,\"-\")+COUNTIF(Paramètres!N91:O91,\"-\"))","v":""},{"$f":"IF(A92=\"\",\"\",COUNTIF(Paramètres!B91,\"<2\")+COUNTIF(Paramètres!C91,\"<2\")+COUNTIF(Paramètres!E91,\"<2\")+COUNTIF(Paramètres!F91,\"<2\")+COUNTIF(Paramètres!H91,\"<2\")+COUNTIF(Paramètres!I91,\"<2\")+COUNTIF(Paramètres!K91,\"<2\")+COUNTIF(Paramètres!L91,\"<2\")+COUNTIF(Paramètres!N91,\"<2\")+COUNTIF(Paramètres!O91,\"<2\"))","v":""},{"$f":"IF(A92=\"\",\"\",COUNTIF(Paramètres!B91,\">1\")+COUNTIF(Paramètres!C91,\">1\")+COUNTIF(Paramètres!E91,\">1\")+COUNTIF(Paramètres!F91,\">1\")+COUNTIF(Paramètres!H91,\">1\")+COUNTIF(Paramètres!I91,\">1\")+COUNTIF(Paramètres!K91,\">1\")+COUNTIF(Paramètres!L91,\">1\")+COUNTIF(Paramètres!N91,\">1\")+COUNTIF(Paramètres!O91,\">1\"))","v":""},{"$f":"Tableau4[[#This Row],[Attaques réussies]]/(Tableau4[[#This Row],[Oubli]]+Tableau4[[#This Row],[Attaques ratées]]+Tableau4[[#This Row],[Attaques réussies]])","v":{"$error":"#VALUE!"}}]
[{"$f":"IF(ISBLANK(Paramètres!A92),\"\",Paramètres!A92)","v":""},{"$f":"IFERROR(AVERAGE(Paramètres!B92,Paramètres!E92,Paramètres!H92,Paramètres!K92,Paramètres!N92),\"\")","v":""},{"$f":"IFERROR(AVERAGE((Paramètres!C92,Paramètres!F92,Paramètres!I92,Paramètres!L92,Paramètres!O92)),\"\")","v":""},{"$f":"IFERROR(AVERAGE((Paramètres!D92,Paramètres!G92,Paramètres!J92,Paramètres!M92,Paramètres!P92)),\"\")","v":""},{"$f":"IF(A93=\"\",\"\",COUNTIF(Paramètres!B92:C92,\"-\")+COUNTIF(Paramètres!E92:F92,\"-\")+COUNTIF(Paramètres!H92:I92,\"-\")+COUNTIF(Paramètres!K92:L92,\"-\")+COUNTIF(Paramètres!N92:O92,\"-\"))","v":""},{"$f":"IF(A93=\"\",\"\",COUNTIF(Paramètres!B92,\"<2\")+COUNTIF(Paramètres!C92,\"<2\")+COUNTIF(Paramètres!E92,\"<2\")+COUNTIF(Paramètres!F92,\"<2\")+COUNTIF(Paramètres!H92,\"<2\")+COUNTIF(Paramètres!I92,\"<2\")+COUNTIF(Paramètres!K92,\"<2\")+COUNTIF(Paramètres!L92,\"<2\")+COUNTIF(Paramètres!N92,\"<2\")+COUNTIF(Paramètres!O92,\"<2\"))","v":""},{"$f":"IF(A93=\"\",\"\",COUNTIF(Paramètres!B92,\">1\")+COUNTIF(Paramètres!C92,\">1\")+COUNTIF(Paramètres!E92,\">1\")+COUNTIF(Paramètres!F92,\">1\")+COUNTIF(Paramètres!H92,\">1\")+COUNTIF(Paramètres!I92,\">1\")+COUNTIF(Paramètres!K92,\">1\")+COUNTIF(Paramètres!L92,\">1\")+COUNTIF(Paramètres!N92,\">1\")+COUNTIF(Paramètres!O92,\">1\"))","v":""},{"$f":"Tableau4[[#This Row],[Attaques réussies]]/(Tableau4[[#This Row],[Oubli]]+Tableau4[[#This Row],[Attaques ratées]]+Tableau4[[#This Row],[Attaques réussies]])","v":{"$error":"#VALUE!"}}]
[{"$f":"IF(ISBLANK(Paramètres!A93),\"\",Paramètres!A93)","v":""},{"$f":"IFERROR(AVERAGE(Paramètres!B93,Paramètres!E93,Paramètres!H93,Paramètres!K93,Paramètres!N93),\"\")","v":""},{"$f":"IFERROR(AVERAGE((Paramètres!C93,Paramètres!F93,Paramètres!I93,Paramètres!L93,Paramètres!O93)),\"\")","v":""},{"$f":"IFERROR(AVERAGE((Paramètres!D93,Paramètres!G93,Paramètres!J93,Paramètres!M93,Paramètres!P93)),\"\")","v":""},{"$f":"IF(A94=\"\",\"\",COUNTIF(Paramètres!B93:C93,\"-\")+COUNTIF(Paramètres!E93:F93,\"-\")+COUNTIF(Paramètres!H93:I93,\"-\")+COUNTIF(Paramètres!K93:L93,\"-\")+COUNTIF(Paramètres!N93:O93,\"-\"))","v":""},{"$f":"IF(A94=\"\",\"\",COUNTIF(Paramètres!B93,\"<2\")+COUNTIF(Paramètres!C93,\"<2\")+COUNTIF(Paramètres!E93,\"<2\")+COUNTIF(Paramètres!F93,\"<2\")+COUNTIF(Paramètres!H93,\"<2\")+COUNTIF(Paramètres!I93,\"<2\")+COUNTIF(Paramètres!K93,\"<2\")+COUNTIF(Paramètres!L93,\"<2\")+COUNTIF(Paramètres!N93,\"<2\")+COUNTIF(Paramètres!O93,\"<2\"))","v":""},{"$f":"IF(A94=\"\",\"\",COUNTIF(Paramètres!B93,\">1\")+COUNTIF(Paramètres!C93,\">1\")+COUNTIF(Paramètres!E93,\">1\")+COUNTIF(Paramètres!F93,\">1\")+COUNTIF(Paramètres!H93,\">1\")+COUNTIF(Paramètres!I93,\">1\")+COUNTIF(Paramètres!K93,\">1\")+COUNTIF(Paramètres!L93,\">1\")+COUNTIF(Paramètres!N93,\">1\")+COUNTIF(Paramètres!O93,\">1\"))","v":""},{"$f":"Tableau4[[#This Row],[Attaques réussies]]/(Tableau4[[#This Row],[Oubli]]+Tableau4[[#This Row],[Attaques ratées]]+Tableau4[[#This Row],[Attaques réussies]])","v":{"$error":"#VALUE!"}}]
[{"$f":"IF(ISBLANK(Paramètres!A94),\"\",Paramètres!A94)","v":""},{"$f":"IFERROR(AVERAGE(Paramètres!B94,Paramètres!E94,Paramètres!H94,Paramètres!K94,Paramètres!N94),\"\")","v":""},{"$f":"IFERROR(AVERAGE((Paramètres!C94,Paramètres!F94,Paramètres!I94,Paramètres!L94,Paramètres!O94)),\"\")","v":""},{"$f":"IFERROR(AVERAGE((Paramètres!D94,Paramètres!G94,Paramètres!J94,Paramètres!M94,Paramètres!P94)),\"\")","v":""},{"$f":"IF(A95=\"\",\"\",COUNTIF(Paramètres!B94:C94,\"-\")+COUNTIF(Paramètres!E94:F94,\"-\")+COUNTIF(Paramètres!H94:I94,\"-\")+COUNTIF(Paramètres!K94:L94,\"-\")+COUNTIF(Paramètres!N94:O94,\"-\"))","v":""},{"$f":"IF(A95=\"\",\"\",COUNTIF(Paramètres!B94,\"<2\")+COUNTIF(Paramètres!C94,\"<2\")+COUNTIF(Paramètres!E94,\"<2\")+COUNTIF(Paramètres!F94,\"<2\")+COUNTIF(Paramètres!H94,\"<2\")+COUNTIF(Paramètres!I94,\"<2\")+COUNTIF(Paramètres!K94,\"<2\")+COUNTIF(Paramètres!L94,\"<2\")+COUNTIF(Paramètres!N94,\"<2\")+COUNTIF(Paramètres!O94,\"<2\"))","v":""},{"$f":"IF(A95=\"\",\"\",COUNTIF(Paramètres!B94,\">1\")+COUNTIF(Paramètres!C94,\">1\")+COUNTIF(Paramètres!E94,\">1\")+COUNTIF(Paramètres!F94,\">1\")+COUNTIF(Paramètres!H94,\">1\")+COUNTIF(Paramètres!I94,\">1\")+COUNTIF(Paramètres!K94,\">1\")+COUNTIF(Paramètres!L94,\">1\")+COUNTIF(Paramètres!N94,\">1\")+COUNTIF(Paramètres!O94,\">1\"))","v":""},{"$f":"Tableau4[[#This Row],[Attaques réussies]]/(Tableau4[[#This Row],[Oubli]]+Tableau4[[#This Row],[Attaques ratées]]+Tableau4[[#This Row],[Attaques réussies]])","v":{"$error":"#VALUE!"}}]
[{"$f":"IF(ISBLANK(Paramètres!A95),\"\",Paramètres!A95)","v":""},{"$f":"IFERROR(AVERAGE(Paramètres!B95,Paramètres!E95,Paramètres!H95,Paramètres!K95,Paramètres!N95),\"\")","v":""},{"$f":"IFERROR(AVERAGE((Paramètres!C95,Paramètres!F95,Paramètres!I95,Paramètres!L95,Paramètres!O95)),\"\")","v":""},{"$f":"IFERROR(AVERAGE((Paramètres!D95,Paramètres!G95,Paramètres!J95,Paramètres!M95,Paramètres!P95)),\"\")","v":""},{"$f":"IF(A96=\"\",\"\",COUNTIF(Paramètres!B95:C95,\"-\")+COUNTIF(Paramètres!E95:F95,\"-\")+COUNTIF(Paramètres!H95:I95,\"-\")+COUNTIF(Paramètres!K95:L95,\"-\")+COUNTIF(Paramètres!N95:O95,\"-\"))","v":""},{"$f":"IF(A96=\"\",\"\",COUNTIF(Paramètres!B95,\"<2\")+COUNTIF(Paramètres!C95,\"<2\")+COUNTIF(Paramètres!E95,\"<2\")+COUNTIF(Paramètres!F95,\"<2\")+COUNTIF(Paramètres!H95,\"<2\")+COUNTIF(Paramètres!I95,\"<2\")+COUNTIF(Paramètres!K95,\"<2\")+COUNTIF(Paramètres!L95,\"<2\")+COUNTIF(Paramètres!N95,\"<2\")+COUNTIF(Paramètres!O95,\"<2\"))","v":""},{"$f":"IF(A96=\"\",\"\",COUNTIF(Paramètres!B95,\">1\")+COUNTIF(Paramètres!C95,\">1\")+COUNTIF(Paramètres!E95,\">1\")+COUNTIF(Paramètres!F95,\">1\")+COUNTIF(Paramètres!H95,\">1\")+COUNTIF(Paramètres!I95,\">1\")+COUNTIF(Paramètres!K95,\">1\")+COUNTIF(Paramètres!L95,\">1\")+COUNTIF(Paramètres!N95,\">1\")+COUNTIF(Paramètres!O95,\">1\"))","v":""},{"$f":"Tableau4[[#This Row],[Attaques réussies]]/(Tableau4[[#This Row],[Oubli]]+Tableau4[[#This Row],[Attaques ratées]]+Tableau4[[#This Row],[Attaques réussies]])","v":{"$error":"#VALUE!"}}]
[{"$f":"IF(ISBLANK(Paramètres!A96),\"\",Paramètres!A96)","v":""},{"$f":"IFERROR(AVERAGE(Paramètres!B96,Paramètres!E96,Paramètres!H96,Paramètres!K96,Paramètres!N96),\"\")","v":""},{"$f":"IFERROR(AVERAGE((Paramètres!C96,Paramètres!F96,Paramètres!I96,Paramètres!L96,Paramètres!O96)),\"\")","v":""},{"$f":"IFERROR(AVERAGE((Paramètres!D96,Paramètres!G96,Paramètres!J96,Paramètres!M96,Paramètres!P96)),\"\")","v":""},{"$f":"IF(A97=\"\",\"\",COUNTIF(Paramètres!B96:C96,\"-\")+COUNTIF(Paramètres!E96:F96,\"-\")+COUNTIF(Paramètres!H96:I96,\"-\")+COUNTIF(Paramètres!K96:L96,\"-\")+COUNTIF(Paramètres!N96:O96,\"-\"))","v":""},{"$f":"IF(A97=\"\",\"\",COUNTIF(Paramètres!B96,\"<2\")+COUNTIF(Paramètres!C96,\"<2\")+COUNTIF(Paramètres!E96,\"<2\")+COUNTIF(Paramètres!F96,\"<2\")+COUNTIF(Paramètres!H96,\"<2\")+COUNTIF(Paramètres!I96,\"<2\")+COUNTIF(Paramètres!K96,\"<2\")+COUNTIF(Paramètres!L96,\"<2\")+COUNTIF(Paramètres!N96,\"<2\")+COUNTIF(Paramètres!O96,\"<2\"))","v":""},{"$f":"IF(A97=\"\",\"\",COUNTIF(Paramètres!B96,\">1\")+COUNTIF(Paramètres!C96,\">1\")+COUNTIF(Paramètres!E96,\">1\")+COUNTIF(Paramètres!F96,\">1\")+COUNTIF(Paramètres!H96,\">1\")+COUNTIF(Paramètres!I96,\">1\")+COUNTIF(Paramètres!K96,\">1\")+COUNTIF(Paramètres!L96,\">1\")+COUNTIF(Paramètres!N96,\">1\")+COUNTIF(Paramètres!O96,\">1\"))","v":""},{"$f":"Tableau4[[#This Row],[Attaques réussies]]/(Tableau4[[#This Row],[Oubli]]+Tableau4[[#This Row],[Attaques ratées]]+Tableau4[[#This Row],[Attaques réussies]])","v":{"$error":"#VALUE!"}}]
[{"$f":"IF(ISBLANK(Paramètres!A97),\"\",Paramètres!A97)","v":""},{"$f":"IFERROR(AVERAGE(Paramètres!B97,Paramètres!E97,Paramètres!H97,Paramètres!K97,Paramètres!N97),\"\")","v":""},{"$f":"IFERROR(AVERAGE((Paramètres!C97,Paramètres!F97,Paramètres!I97,Paramètres!L97,Paramètres!O97)),\"\")","v":""},{"$f":"IFERROR(AVERAGE((Paramètres!D97,Paramètres!G97,Paramètres!J97,Paramètres!M97,Paramètres!P97)),\"\")","v":""},{"$f":"IF(A98=\"\",\"\",COUNTIF(Paramètres!B97:C97,\"-\")+COUNTIF(Paramètres!E97:F97,\"-\")+COUNTIF(Paramètres!H97:I97,\"-\")+COUNTIF(Paramètres!K97:L97,\"-\")+COUNTIF(Paramètres!N97:O97,\"-\"))","v":""},{"$f":"IF(A98=\"\",\"\",COUNTIF(Paramètres!B97,\"<2\")+COUNTIF(Paramètres!C97,\"<2\")+COUNTIF(Paramètres!E97,\"<2\")+COUNTIF(Paramètres!F97,\"<2\")+COUNTIF(Paramètres!H97,\"<2\")+COUNTIF(Paramètres!I97,\"<2\")+COUNTIF(Paramètres!K97,\"<2\")+COUNTIF(Paramètres!L97,\"<2\")+COUNTIF(Paramètres!N97,\"<2\")+COUNTIF(Paramètres!O97,\"<2\"))","v":""},{"$f":"IF(A98=\"\",\"\",COUNTIF(Paramètres!B97,\">1\")+COUNTIF(Paramètres!C97,\">1\")+COUNTIF(Paramètres!E97,\">1\")+COUNTIF(Paramètres!F97,\">1\")+COUNTIF(Paramètres!H97,\">1\")+COUNTIF(Paramètres!I97,\">1\")+COUNTIF(Paramètres!K97,\">1\")+COUNTIF(Paramètres!L97,\">1\")+COUNTIF(Paramètres!N97,\">1\")+COUNTIF(Paramètres!O97,\">1\"))","v":""},{"$f":"Tableau4[[#This Row],[Attaques réussies]]/(Tableau4[[#This Row],[Oubli]]+Tableau4[[#This Row],[Attaques ratées]]+Tableau4[[#This Row],[Attaques réussies]])","v":{"$error":"#VALUE!"}}]
[{"$f":"IF(ISBLANK(Paramètres!A98),\"\",Paramètres!A98)","v":""},{"$f":"IFERROR(AVERAGE(Paramètres!B98,Paramètres!E98,Paramètres!H98,Paramètres!K98,Paramètres!N98),\"\")","v":""},{"$f":"IFERROR(AVERAGE((Paramètres!C98,Paramètres!F98,Paramètres!I98,Paramètres!L98,Paramètres!O98)),\"\")","v":""},{"$f":"IFERROR(AVERAGE((Paramètres!D98,Paramètres!G98,Paramètres!J98,Paramètres!M98,Paramètres!P98)),\"\")","v":""},{"$f":"IF(A99=\"\",\"\",COUNTIF(Paramètres!B98:C98,\"-\")+COUNTIF(Paramètres!E98:F98,\"-\")+COUNTIF(Paramètres!H98:I98,\"-\")+COUNTIF(Paramètres!K98:L98,\"-\")+COUNTIF(Paramètres!N98:O98,\"-\"))","v":""},{"$f":"IF(A99=\"\",\"\",COUNTIF(Paramètres!B98,\"<2\")+COUNTIF(Paramètres!C98,\"<2\")+COUNTIF(Paramètres!E98,\"<2\")+COUNTIF(Paramètres!F98,\"<2\")+COUNTIF(Paramètres!H98,\"<2\")+COUNTIF(Paramètres!I98,\"<2\")+COUNTIF(Paramètres!K98,\"<2\")+COUNTIF(Paramètres!L98,\"<2\")+COUNTIF(Paramètres!N98,\"<2\")+COUNTIF(Paramètres!O98,\"<2\"))","v":""},{"$f":"IF(A99=\"\",\"\",COUNTIF(Paramètres!B98,\">1\")+COUNTIF(Paramètres!C98,\">1\")+COUNTIF(Paramètres!E98,\">1\")+COUNTIF(Paramètres!F98,\">1\")+COUNTIF(Paramètres!H98,\">1\")+COUNTIF(Paramètres!I98,\">1\")+COUNTIF(Paramètres!K98,\">1\")+COUNTIF(Paramètres!L98,\">1\")+COUNTIF(Paramètres!N98,\">1\")+COUNTIF(Paramètres!O98,\">1\"))","v":""},{"$f":"Tableau4[[#This Row],[Attaques réussies]]/(Tableau4[[#This Row],[Oubli]]+Tableau4[[#This Row],[Attaques ratées]]+Tableau4[[#This Row],[Attaques réussies]])","v":{"$error":"#VALUE!"}}]
[{"$f":"IF(ISBLANK(Paramètres!A99),\"\",Paramètres!A99)","v":""},{"$f":"IFERROR(AVERAGE(Paramètres!B99,Paramètres!E99,Paramètres!H99,Paramètres!K99,Paramètres!N99),\"\")","v":""},{"$f":"IFERROR(AVERAGE((Paramètres!C99,Paramètres!F99,Paramètres!I99,Paramètres!L99,Paramètres!O99)),\"\")","v":""},{"$f":"IFERROR(AVERAGE((Paramètres!D99,Paramètres!G99,Paramètres!J99,Paramètres!M99,Paramètres!P99)),\"\")","v":""},{"$f":"IF(A100=\"\",\"\",COUNTIF(Paramètres!B99:C99,\"-\")+COUNTIF(Paramètres!E99:F99,\"-\")+COUNTIF(Paramètres!H99:I99,\"-\")+COUNTIF(Paramètres!K99:L99,\"-\")+COUNTIF(Paramètres!N99:O99,\"-\"))","v":""},{"$f":"IF(A100=\"\",\"\",COUNTIF(Paramètres!B99,\"<2\")+COUNTIF(Paramètres!C99,\"<2\")+COUNTIF(Paramètres!E99,\"<2\")+COUNTIF(Paramètres!F99,\"<2\")+COUNTIF(Paramètres!H99,\"<2\")+COUNTIF(Paramètres!I99,\"<2\")+COUNTIF(Paramètres!K99,\"<2\")+COUNTIF(Paramètres!L99,\"<2\")+COUNTIF(Paramètres!N99,\"<2\")+COUNTIF(Paramètres!O99,\"<2\"))","v":""},{"$f":"IF(A100=\"\",\"\",COUNTIF(Paramètres!B99,\">1\")+COUNTIF(Paramètres!C99,\">1\")+COUNTIF(Paramètres!E99,\">1\")+COUNTIF(Paramètres!F99,\">1\")+COUNTIF(Paramètres!H99,\">1\")+COUNTIF(Paramètres!I99,\">1\")+COUNTIF(Paramètres!K99,\">1\")+COUNTIF(Paramètres!L99,\">1\")+COUNTIF(Paramètres!N99,\">1\")+COUNTIF(Paramètres!O99,\">1\"))","v":""},{"$f":"Tableau4[[#This Row],[Attaques réussies]]/(Tableau4[[#This Row],[Oubli]]+Tableau4[[#This Row],[Attaques ratées]]+Tableau4[[#This Row],[Attaques réussies]])","v":{"$error":"#VALUE!"}}]
[{"$f":"IF(ISBLANK(Paramètres!A100),\"\",Paramètres!A100)","v":""},{"$f":"IFERROR(AVERAGE(Paramètres!B100,Paramètres!E100,Paramètres!H100,Paramètres!K100,Paramètres!N100),\"\")","v":""},{"$f":"IFERROR(AVERAGE((Paramètres!C100,Paramètres!F100,Paramètres!I100,Paramètres!L100,Paramètres!O100)),\"\")","v":""},{"$f":"IFERROR(AVERAGE((Paramètres!D100,Paramètres!G100,Paramètres!J100,Paramètres!M100,Paramètres!P100)),\"\")","v":""},{"$f":"IF(A101=\"\",\"\",COUNTIF(Paramètres!B100:C100,\"-\")+COUNTIF(Paramètres!E100:F100,\"-\")+COUNTIF(Paramètres!H100:I100,\"-\")+COUNTIF(Paramètres!K100:L100,\"-\")+COUNTIF(Paramètres!N100:O100,\"-\"))","v":""},{"$f":"IF(A101=\"\",\"\",COUNTIF(Paramètres!B100,\"<2\")+COUNTIF(Paramètres!C100,\"<2\")+COUNTIF(Paramètres!E100,\"<2\")+COUNTIF(Paramètres!F100,\"<2\")+COUNTIF(Paramètres!H100,\"<2\")+COUNTIF(Paramètres!I100,\"<2\")+COUNTIF(Paramètres!K100,\"<2\")+COUNTIF(Paramètres!L100,\"<2\")+COUNTIF(Paramètres!N100,\"<2\")+COUNTIF(Paramètres!O100,\"<2\"))","v":""},{"$f":"IF(A101=\"\",\"\",COUNTIF(Paramètres!B100,\">1\")+COUNTIF(Paramètres!C100,\">1\")+COUNTIF(Paramètres!E100,\">1\")+COUNTIF(Paramètres!F100,\">1\")+COUNTIF(Paramètres!H100,\">1\")+COUNTIF(Paramètres!I100,\">1\")+COUNTIF(Paramètres!K100,\">1\")+COUNTIF(Paramètres!L100,\">1\")+COUNTIF(Paramètres!N100,\">1\")+COUNTIF(Paramètres!O100,\">1\"))","v":""},{"$f":"Tableau4[[#This Row],[Attaques réussies]]/(Tableau4[[#This Row],[Oubli]]+Tableau4[[#This Row],[Attaques ratées]]+Tableau4[[#This Row],[Attaques réussies]])","v":{"$error":"#VALUE!"}}]
[{"$f":"IF(ISBLANK(Paramètres!A101),\"\",Paramètres!A101)","v":""},{"$f":"IFERROR(AVERAGE(Paramètres!B101,Paramètres!E101,Paramètres!H101,Paramètres!K101,Paramètres!N101),\"\")","v":""},{"$f":"IFERROR(AVERAGE((Paramètres!C101,Paramètres!F101,Paramètres!I101,Paramètres!L101,Paramètres!O101)),\"\")","v":""},{"$f":"IFERROR(AVERAGE((Paramètres!D101,Paramètres!G101,Paramètres!J101,Paramètres!M101,Paramètres!P101)),\"\")","v":""},{"$f":"IF(A102=\"\",\"\",COUNTIF(Paramètres!B101:C101,\"-\")+COUNTIF(Paramètres!E101:F101,\"-\")+COUNTIF(Paramètres!H101:I101,\"-\")+COUNTIF(Paramètres!K101:L101,\"-\")+COUNTIF(Paramètres!N101:O101,\"-\"))","v":""},{"$f":"IF(A102=\"\",\"\",COUNTIF(Paramètres!B101,\"<2\")+COUNTIF(Paramètres!C101,\"<2\")+COUNTIF(Paramètres!E101,\"<2\")+COUNTIF(Paramètres!F101,\"<2\")+COUNTIF(Paramètres!H101,\"<2\")+COUNTIF(Paramètres!I101,\"<2\")+COUNTIF(Paramètres!K101,\"<2\")+COUNTIF(Paramètres!L101,\"<2\")+COUNTIF(Paramètres!N101,\"<2\")+COUNTIF(Paramètres!O101,\"<2\"))","v":""},{"$f":"IF(A102=\"\",\"\",COUNTIF(Paramètres!B101,\">1\")+COUNTIF(Paramètres!C101,\">1\")+COUNTIF(Paramètres!E101,\">1\")+COUNTIF(Paramètres!F101,\">1\")+COUNTIF(Paramètres!H101,\">1\")+COUNTIF(Paramètres!I101,\">1\")+COUNTIF(Paramètres!K101,\">1\")+COUNTIF(Paramètres!L101,\">1\")+COUNTIF(Paramètres!N101,\">1\")+COUNTIF(Paramètres!O101,\">1\"))","v":""},{"$f":"Tableau4[[#This Row],[Attaques réussies]]/(Tableau4[[#This Row],[Oubli]]+Tableau4[[#This Row],[Attaques ratées]]+Tableau4[[#This Row],[Attaques réussies]])","v":{"$error":"#VALUE!"}}]
[{"$f":"IF(ISBLANK(Paramètres!A102),\"\",Paramètres!A102)","v":""},{"$f":"IFERROR(AVERAGE(Paramètres!B102,Paramètres!E102,Paramètres!H102,Paramètres!K102,Paramètres!N102),\"\")","v":""},{"$f":"IFERROR(AVERAGE((Paramètres!C102,Paramètres!F102,Paramètres!I102,Paramètres!L102,Paramètres!O102)),\"\")","v":""},{"$f":"IFERROR(AVERAGE((Paramètres!D102,Paramètres!G102,Paramètres!J102,Paramètres!M102,Paramètres!P102)),\"\")","v":""},{"$f":"IF(A103=\"\",\"\",COUNTIF(Paramètres!B102:C102,\"-\")+COUNTIF(Paramètres!E102:F102,\"-\")+COUNTIF(Paramètres!H102:I102,\"-\")+COUNTIF(Paramètres!K102:L102,\"-\")+COUNTIF(Paramètres!N102:O102,\"-\"))","v":""},{"$f":"IF(A103=\"\",\"\",COUNTIF(Paramètres!B102,\"<2\")+COUNTIF(Paramètres!C102,\"<2\")+COUNTIF(Paramètres!E102,\"<2\")+COUNTIF(Paramètres!F102,\"<2\")+COUNTIF(Paramètres!H102,\"<2\")+COUNTIF(Paramètres!I102,\"<2\")+COUNTIF(Paramètres!K102,\"<2\")+COUNTIF(Paramètres!L102,\"<2\")+COUNTIF(Paramètres!N102,\"<2\")+COUNTIF(Paramètres!O102,\"<2\"))","v":""},{"$f":"IF(A103=\"\",\"\",COUNTIF(Paramètres!B102,\">1\")+COUNTIF(Paramètres!C102,\">1\")+COUNTIF(Paramètres!E102,\">1\")+COUNTIF(Paramètres!F102,\">1\")+COUNTIF(Paramètres!H102,\">1\")+COUNTIF(Paramètres!I102,\">1\")+COUNTIF(Paramètres!K102,\">1\")+COUNTIF(Paramètres!L102,\">1\")+COUNTIF(Paramètres!N102,\">1\")+COUNTIF(Paramètres!O102,\">1\"))","v":""},{"$f":"Tableau4[[#This Row],[Attaques réussies]]/(Tableau4[[#This Row],[Oubli]]+Tableau4[[#This Row],[Attaques ratées]]+Tableau4[[#This Row],[Attaques réussies]])","v":{"$error":"#VALUE!"}}]
[{"$f":"IF(ISBLANK(Paramètres!A103),\"\",Paramètres!A103)","v":""},{"$f":"IFERROR(AVERAGE(Paramètres!B103,Paramètres!E103,Paramètres!H103,Paramètres!K103,Paramètres!N103),\"\")","v":""},{"$f":"IFERROR(AVERAGE((Paramètres!C103,Paramètres!F103,Paramètres!I103,Paramètres!L103,Paramètres!O103)),\"\")","v":""},{"$f":"IFERROR(AVERAGE((Paramètres!D103,Paramètres!G103,Paramètres!J103,Paramètres!M103,Paramètres!P103)),\"\")","v":""},{"$f":"IF(A104=\"\",\"\",COUNTIF(Paramètres!B103:C103,\"-\")+COUNTIF(Paramètres!E103:F103,\"-\")+COUNTIF(Paramètres!H103:I103,\"-\")+COUNTIF(Paramètres!K103:L103,\"-\")+COUNTIF(Paramètres!N103:O103,\"-\"))","v":""},{"$f":"IF(A104=\"\",\"\",COUNTIF(Paramètres!B103,\"<2\")+COUNTIF(Paramètres!C103,\"<2\")+COUNTIF(Paramètres!E103,\"<2\")+COUNTIF(Paramètres!F103,\"<2\")+COUNTIF(Paramètres!H103,\"<2\")+COUNTIF(Paramètres!I103,\"<2\")+COUNTIF(Paramètres!K103,\"<2\")+COUNTIF(Paramètres!L103,\"<2\")+COUNTIF(Paramètres!N103,\"<2\")+COUNTIF(Paramètres!O103,\"<2\"))","v":""},{"$f":"IF(A104=\"\",\"\",COUNTIF(Paramètres!B103,\">1\")+COUNTIF(Paramètres!C103,\">1\")+COUNTIF(Paramètres!E103,\">1\")+COUNTIF(Paramètres!F103,\">1\")+COUNTIF(Paramètres!H103,\">1\")+COUNTIF(Paramètres!I103,\">1\")+COUNTIF(Paramètres!K103,\">1\")+COUNTIF(Paramètres!L103,\">1\")+COUNTIF(Paramètres!N103,\">1\")+COUNTIF(Paramètres!O103,\">1\"))","v":""},{"$f":"Tableau4[[#This Row],[Attaques réussies]]/(Tableau4[[#This Row],[Oubli]]+Tableau4[[#This Row],[Attaques ratées]]+Tableau4[[#This Row],[Attaques réussies]])","v":{"$error":"#VALUE!"}}]
[{"$f":"IF(ISBLANK(Paramètres!A104),\"\",Paramètres!A104)","v":""},{"$f":"IFERROR(AVERAGE(Paramètres!B104,Paramètres!E104,Paramètres!H104,Paramètres!K104,Paramètres!N104),\"\")","v":""},{"$f":"IFERROR(AVERAGE((Paramètres!C104,Paramètres!F104,Paramètres!I104,Paramètres!L104,Paramètres!O104)),\"\")","v":""},{"$f":"IFERROR(AVERAGE((Paramètres!D104,Paramètres!G104,Paramètres!J104,Paramètres!M104,Paramètres!P104)),\"\")","v":""},{"$f":"IF(A105=\"\",\"\",COUNTIF(Paramètres!B104:C104,\"-\")+COUNTIF(Paramètres!E104:F104,\"-\")+COUNTIF(Paramètres!H104:I104,\"-\")+COUNTIF(Paramètres!K104:L104,\"-\")+COUNTIF(Paramètres!N104:O104,\"-\"))","v":""},{"$f":"IF(A105=\"\",\"\",COUNTIF(Paramètres!B104,\"<2\")+COUNTIF(Paramètres!C104,\"<2\")+COUNTIF(Paramètres!E104,\"<2\")+COUNTIF(Paramètres!F104,\"<2\")+COUNTIF(Paramètres!H104,\"<2\")+COUNTIF(Paramètres!I104,\"<2\")+COUNTIF(Paramètres!K104,\"<2\")+COUNTIF(Paramètres!L104,\"<2\")+COUNTIF(Paramètres!N104,\"<2\")+COUNTIF(Paramètres!O104,\"<2\"))","v":""},{"$f":"IF(A105=\"\",\"\",COUNTIF(Paramètres!B104,\">1\")+COUNTIF(Paramètres!C104,\">1\")+COUNTIF(Paramètres!E104,\">1\")+COUNTIF(Paramètres!F104,\">1\")+COUNTIF(Paramètres!H104,\">1\")+COUNTIF(Paramètres!I104,\">1\")+COUNTIF(Paramètres!K104,\">1\")+COUNTIF(Paramètres!L104,\">1\")+COUNTIF(Paramètres!N104,\">1\")+COUNTIF(Paramètres!O104,\">1\"))","v":""},{"$f":"Tableau4[[#This Row],[Attaques réussies]]/(Tableau4[[#This Row],[Oubli]]+Tableau4[[#This Row],[Attaques ratées]]+Tableau4[[#This Row],[Attaques réussies]])","v":{"$error":"#VALUE!"}}]
[{"$f":"IF(ISBLANK(Paramètres!A105),\"\",Paramètres!A105)","v":""},{"$f":"IFERROR(AVERAGE(Paramètres!B105,Paramètres!E105,Paramètres!H105,Paramètres!K105,Paramètres!N105),\"\")","v":""},{"$f":"IFERROR(AVERAGE((Paramètres!C105,Paramètres!F105,Paramètres!I105,Paramètres!L105,Paramètres!O105)),\"\")","v":""},{"$f":"IFERROR(AVERAGE((Paramètres!D105,Paramètres!G105,Paramètres!J105,Paramètres!M105,Paramètres!P105)),\"\")","v":""},{"$f":"IF(A106=\"\",\"\",COUNTIF(Paramètres!B105:C105,\"-\")+COUNTIF(Paramètres!E105:F105,\"-\")+COUNTIF(Paramètres!H105:I105,\"-\")+COUNTIF(Paramètres!K105:L105,\"-\")+COUNTIF(Paramètres!N105:O105,\"-\"))","v":""},{"$f":"IF(A106=\"\",\"\",COUNTIF(Paramètres!B105,\"<2\")+COUNTIF(Paramètres!C105,\"<2\")+COUNTIF(Paramètres!E105,\"<2\")+COUNTIF(Paramètres!F105,\"<2\")+COUNTIF(Paramètres!H105,\"<2\")+COUNTIF(Paramètres!I105,\"<2\")+COUNTIF(Paramètres!K105,\"<2\")+COUNTIF(Paramètres!L105,\"<2\")+COUNTIF(Paramètres!N105,\"<2\")+COUNTIF(Paramètres!O105,\"<2\"))","v":""},{"$f":"IF(A106=\"\",\"\",COUNTIF(Paramètres!B105,\">1\")+COUNTIF(Paramètres!C105,\">1\")+COUNTIF(Paramètres!E105,\">1\")+COUNTIF(Paramètres!F105,\">1\")+COUNTIF(Paramètres!H105,\">1\")+COUNTIF(Paramètres!I105,\">1\")+COUNTIF(Paramètres!K105,\">1\")+COUNTIF(Paramètres!L105,\">1\")+COUNTIF(Paramètres!N105,\">1\")+COUNTIF(Paramètres!O105,\">1\"))","v":""},{"$f":"Tableau4[[#This Row],[Attaques réussies]]/(Tableau4[[#This Row],[Oubli]]+Tableau4[[#This Row],[Attaques ratées]]+Tableau4[[#This Row],[Attaques réussies]])","v":{"$error":"#VALUE!"}}]
[{"$f":"IF(ISBLANK(Paramètres!A106),\"\",Paramètres!A106)","v":""},{"$f":"IFERROR(AVERAGE(Paramètres!B106,Paramètres!E106,Paramètres!H106,Paramètres!K106,Paramètres!N106),\"\")","v":""},{"$f":"IFERROR(AVERAGE((Paramètres!C106,Paramètres!F106,Paramètres!I106,Paramètres!L106,Paramètres!O106)),\"\")","v":""},{"$f":"IFERROR(AVERAGE((Paramètres!D106,Paramètres!G106,Paramètres!J106,Paramètres!M106,Paramètres!P106)),\"\")","v":""},{"$f":"IF(A107=\"\",\"\",COUNTIF(Paramètres!B106:C106,\"-\")+COUNTIF(Paramètres!E106:F106,\"-\")+COUNTIF(Paramètres!H106:I106,\"-\")+COUNTIF(Paramètres!K106:L106,\"-\")+COUNTIF(Paramètres!N106:O106,\"-\"))","v":""},{"$f":"IF(A107=\"\",\"\",COUNTIF(Paramètres!B106,\"<2\")+COUNTIF(Paramètres!C106,\"<2\")+COUNTIF(Paramètres!E106,\"<2\")+COUNTIF(Paramètres!F106,\"<2\")+COUNTIF(Paramètres!H106,\"<2\")+COUNTIF(Paramètres!I106,\"<2\")+COUNTIF(Paramètres!K106,\"<2\")+COUNTIF(Paramètres!L106,\"<2\")+COUNTIF(Paramètres!N106,\"<2\")+COUNTIF(Paramètres!O106,\"<2\"))","v":""},{"$f":"IF(A107=\"\",\"\",COUNTIF(Paramètres!B106,\">1\")+COUNTIF(Paramètres!C106,\">1\")+COUNTIF(Paramètres!E106,\">1\")+COUNTIF(Paramètres!F106,\">1\")+COUNTIF(Paramètres!H106,\">1\")+COUNTIF(Paramètres!I106,\">1\")+COUNTIF(Paramètres!K106,\">1\")+COUNTIF(Paramètres!L106,\">1\")+COUNTIF(Paramètres!N106,\">1\")+COUNTIF(Paramètres!O106,\">1\"))","v":""},{"$f":"Tableau4[[#This Row],[Attaques réussies]]/(Tableau4[[#This Row],[Oubli]]+Tableau4[[#This Row],[Attaques ratées]]+Tableau4[[#This Row],[Attaques réussies]])","v":{"$error":"#VALUE!"}}]
[{"$f":"IF(ISBLANK(Paramètres!A107),\"\",Paramètres!A107)","v":""},{"$f":"IFERROR(AVERAGE(Paramètres!B107,Paramètres!E107,Paramètres!H107,Paramètres!K107,Paramètres!N107),\"\")","v":""},{"$f":"IFERROR(AVERAGE((Paramètres!C107,Paramètres!F107,Paramètres!I107,Paramètres!L107,Paramètres!O107)),\"\")","v":""},{"$f":"IFERROR(AVERAGE((Paramètres!D107,Paramètres!G107,Paramètres!J107,Paramètres!M107,Paramètres!P107)),\"\")","v":""},{"$f":"IF(A108=\"\",\"\",COUNTIF(Paramètres!B107:C107,\"-\")+COUNTIF(Paramètres!E107:F107,\"-\")+COUNTIF(Paramètres!H107:I107,\"-\")+COUNTIF(Paramètres!K107:L107,\"-\")+COUNTIF(Paramètres!N107:O107,\"-\"))","v":""},{"$f":"IF(A108=\"\",\"\",COUNTIF(Paramètres!B107,\"<2\")+COUNTIF(Paramètres!C107,\"<2\")+COUNTIF(Paramètres!E107,\"<2\")+COUNTIF(Paramètres!F107,\"<2\")+COUNTIF(Paramètres!H107,\"<2\")+COUNTIF(Paramètres!I107,\"<2\")+COUNTIF(Paramètres!K107,\"<2\")+COUNTIF(Paramètres!L107,\"<2\")+COUNTIF(Paramètres!N107,\"<2\")+COUNTIF(Paramètres!O107,\"<2\"))","v":""},{"$f":"IF(A108=\"\",\"\",COUNTIF(Paramètres!B107,\">1\")+COUNTIF(Paramètres!C107,\">1\")+COUNTIF(Paramètres!E107,\">1\")+COUNTIF(Paramètres!F107,\">1\")+COUNTIF(Paramètres!H107,\">1\")+COUNTIF(Paramètres!I107,\">1\")+COUNTIF(Paramètres!K107,\">1\")+COUNTIF(Paramètres!L107,\">1\")+COUNTIF(Paramètres!N107,\">1\")+COUNTIF(Paramètres!O107,\">1\"))","v":""},{"$f":"Tableau4[[#This Row],[Attaques réussies]]/(Tableau4[[#This Row],[Oubli]]+Tableau4[[#This Row],[Attaques ratées]]+Tableau4[[#This Row],[Attaques réussies]])","v":{"$error":"#VALUE!"}}]
[{"$f":"IF(ISBLANK(Paramètres!A108),\"\",Paramètres!A108)","v":""},{"$f":"IFERROR(AVERAGE(Paramètres!B108,Paramètres!E108,Paramètres!H108,Paramètres!K108,Paramètres!N108),\"\")","v":""},{"$f":"IFERROR(AVERAGE((Paramètres!C108,Paramètres!F108,Paramètres!I108,Paramètres!L108,Paramètres!O108)),\"\")","v":""},{"$f":"IFERROR(AVERAGE((Paramètres!D108,Paramètres!G108,Paramètres!J108,Paramètres!M108,Paramètres!P108)),\"\")","v":""},{"$f":"IF(A109=\"\",\"\",COUNTIF(Paramètres!B108:C108,\"-\")+COUNTIF(Paramètres!E108:F108,\"-\")+COUNTIF(Paramètres!H108:I108,\"-\")+COUNTIF(Paramètres!K108:L108,\"-\")+COUNTIF(Paramètres!N108:O108,\"-\"))","v":""},{"$f":"IF(A109=\"\",\"\",COUNTIF(Paramètres!B108,\"<2\")+COUNTIF(Paramètres!C108,\"<2\")+COUNTIF(Paramètres!E108,\"<2\")+COUNTIF(Paramètres!F108,\"<2\")+COUNTIF(Paramètres!H108,\"<2\")+COUNTIF(Paramètres!I108,\"<2\")+COUNTIF(Paramètres!K108,\"<2\")+COUNTIF(Paramètres!L108,\"<2\")+COUNTIF(Paramètres!N108,\"<2\")+COUNTIF(Paramètres!O108,\"<2\"))","v":""},{"$f":"IF(A109=\"\",\"\",COUNTIF(Paramètres!B108,\">1\")+COUNTIF(Paramètres!C108,\">1\")+COUNTIF(Paramètres!E108,\">1\")+COUNTIF(Paramètres!F108,\">1\")+COUNTIF(Paramètres!H108,\">1\")+COUNTIF(Paramètres!I108,\">1\")+COUNTIF(Paramètres!K108,\">1\")+COUNTIF(Paramètres!L108,\">1\")+COUNTIF(Paramètres!N108,\">1\")+COUNTIF(Paramètres!O108,\">1\"))","v":""},{"$f":"Tableau4[[#This Row],[Attaques réussies]]/(Tableau4[[#This Row],[Oubli]]+Tableau4[[#This Row],[Attaques ratées]]+Tableau4[[#This Row],[Attaques réussies]])","v":{"$error":"#VALUE!"}}]
[{"$f":"IF(ISBLANK(Paramètres!A109),\"\",Paramètres!A109)","v":""},{"$f":"IFERROR(AVERAGE(Paramètres!B109,Paramètres!E109,Paramètres!H109,Paramètres!K109,Paramètres!N109),\"\")","v":""},{"$f":"IFERROR(AVERAGE((Paramètres!C109,Paramètres!F109,Paramètres!I109,Paramètres!L109,Paramètres!O109)),\"\")","v":""},{"$f":"IFERROR(AVERAGE((Paramètres!D109,Paramètres!G109,Paramètres!J109,Paramètres!M109,Paramètres!P109)),\"\")","v":""},{"$f":"IF(A110=\"\",\"\",COUNTIF(Paramètres!B109:C109,\"-\")+COUNTIF(Paramètres!E109:F109,\"-\")+COUNTIF(Paramètres!H109:I109,\"-\")+COUNTIF(Paramètres!K109:L109,\"-\")+COUNTIF(Paramètres!N109:O109,\"-\"))","v":""},{"$f":"IF(A110=\"\",\"\",COUNTIF(Paramètres!B109,\"<2\")+COUNTIF(Paramètres!C109,\"<2\")+COUNTIF(Paramètres!E109,\"<2\")+COUNTIF(Paramètres!F109,\"<2\")+COUNTIF(Paramètres!H109,\"<2\")+COUNTIF(Paramètres!I109,\"<2\")+COUNTIF(Paramètres!K109,\"<2\")+COUNTIF(Paramètres!L109,\"<2\")+COUNTIF(Paramètres!N109,\"<2\")+COUNTIF(Paramètres!O109,\"<2\"))","v":""},{"$f":"IF(A110=\"\",\"\",COUNTIF(Paramètres!B109,\">1\")+COUNTIF(Paramètres!C109,\">1\")+COUNTIF(Paramètres!E109,\">1\")+COUNTIF(Paramètres!F109,\">1\")+COUNTIF(Paramètres!H109,\">1\")+COUNTIF(Paramètres!I109,\">1\")+COUNTIF(Paramètres!K109,\">1\")+COUNTIF(Paramètres!L109,\">1\")+COUNTIF(Paramètres!N109,\">1\")+COUNTIF(Paramètres!O109,\">1\"))","v":""},{"$f":"Tableau4[[#This Row],[Attaques réussies]]/(Tableau4[[#This Row],[Oubli]]+Tableau4[[#This Row],[Attaques ratées]]+Tableau4[[#This Row],[Attaques réussies]])","v":{"$error":"#VALUE!"}}]
[{"$f":"IF(ISBLANK(Paramètres!A110),\"\",Paramètres!A110)","v":""},{"$f":"IFERROR(AVERAGE(Paramètres!B110,Paramètres!E110,Paramètres!H110,Paramètres!K110,Paramètres!N110),\"\")","v":""},{"$f":"IFERROR(AVERAGE((Paramètres!C110,Paramètres!F110,Paramètres!I110,Paramètres!L110,Paramètres!O110)),\"\")","v":""},{"$f":"IFERROR(AVERAGE((Paramètres!D110,Paramètres!G110,Paramètres!J110,Paramètres!M110,Paramètres!P110)),\"\")","v":""},{"$f":"IF(A111=\"\",\"\",COUNTIF(Paramètres!B110:C110,\"-\")+COUNTIF(Paramètres!E110:F110,\"-\")+COUNTIF(Paramètres!H110:I110,\"-\")+COUNTIF(Paramètres!K110:L110,\"-\")+COUNTIF(Paramètres!N110:O110,\"-\"))","v":""},{"$f":"IF(A111=\"\",\"\",COUNTIF(Paramètres!B110,\"<2\")+COUNTIF(Paramètres!C110,\"<2\")+COUNTIF(Paramètres!E110,\"<2\")+COUNTIF(Paramètres!F110,\"<2\")+COUNTIF(Paramètres!H110,\"<2\")+COUNTIF(Paramètres!I110,\"<2\")+COUNTIF(Paramètres!K110,\"<2\")+COUNTIF(Paramètres!L110,\"<2\")+COUNTIF(Paramètres!N110,\"<2\")+COUNTIF(Paramètres!O110,\"<2\"))","v":""},{"$f":"IF(A111=\"\",\"\",COUNTIF(Paramètres!B110,\">1\")+COUNTIF(Paramètres!C110,\">1\")+COUNTIF(Paramètres!E110,\">1\")+COUNTIF(Paramètres!F110,\">1\")+COUNTIF(Paramètres!H110,\">1\")+COUNTIF(Paramètres!I110,\">1\")+COUNTIF(Paramètres!K110,\">1\")+COUNTIF(Paramètres!L110,\">1\")+COUNTIF(Paramètres!N110,\">1\")+COUNTIF(Paramètres!O110,\">1\"))","v":""},{"$f":"Tableau4[[#This Row],[Attaques réussies]]/(Tableau4[[#This Row],[Oubli]]+Tableau4[[#This Row],[Attaques ratées]]+Tableau4[[#This Row],[Attaques réussies]])","v":{"$error":"#VALUE!"}}]
[{"$f":"IF(ISBLANK(Paramètres!A111),\"\",Paramètres!A111)","v":""},{"$f":"IFERROR(AVERAGE(Paramètres!B111,Paramètres!E111,Paramètres!H111,Paramètres!K111,Paramètres!N111),\"\")","v":""},{"$f":"IFERROR(AVERAGE((Paramètres!C111,Paramètres!F111,Paramètres!I111,Paramètres!L111,Paramètres!O111)),\"\")","v":""},{"$f":"IFERROR(AVERAGE((Paramètres!D111,Paramètres!G111,Paramètres!J111,Paramètres!M111,Paramètres!P111)),\"\")","v":""},{"$f":"IF(A112=\"\",\"\",COUNTIF(Paramètres!B111:C111,\"-\")+COUNTIF(Paramètres!E111:F111,\"-\")+COUNTIF(Paramètres!H111:I111,\"-\")+COUNTIF(Paramètres!K111:L111,\"-\")+COUNTIF(Paramètres!N111:O111,\"-\"))","v":""},{"$f":"IF(A112=\"\",\"\",COUNTIF(Paramètres!B111,\"<2\")+COUNTIF(Paramètres!C111,\"<2\")+COUNTIF(Paramètres!E111,\"<2\")+COUNTIF(Paramètres!F111,\"<2\")+COUNTIF(Paramètres!H111,\"<2\")+COUNTIF(Paramètres!I111,\"<2\")+COUNTIF(Paramètres!K111,\"<2\")+COUNTIF(Paramètres!L111,\"<2\")+COUNTIF(Paramètres!N111,\"<2\")+COUNTIF(Paramètres!O111,\"<2\"))","v":""},{"$f":"IF(A112=\"\",\"\",COUNTIF(Paramètres!B111,\">1\")+COUNTIF(Paramètres!C111,\">1\")+COUNTIF(Paramètres!E111,\">1\")+COUNTIF(Paramètres!F111,\">1\")+COUNTIF(Paramètres!H111,\">1\")+COUNTIF(Paramètres!I111,\">1\")+COUNTIF(Paramètres!K111,\">1\")+COUNTIF(Paramètres!L111,\">1\")+COUNTIF(Paramètres!N111,\">1\")+COUNTIF(Paramètres!O111,\">1\"))","v":""},{"$f":"Tableau4[[#This Row],[Attaques réussies]]/(Tableau4[[#This Row],[Oubli]]+Tableau4[[#This Row],[Attaques ratées]]+Tableau4[[#This Row],[Attaques réussies]])","v":{"$error":"#VALUE!"}}]
[{"$f":"IF(ISBLANK(Paramètres!A112),\"\",Paramètres!A112)","v":""},{"$f":"IFERROR(AVERAGE(Paramètres!B112,Paramètres!E112,Paramètres!H112,Paramètres!K112,Paramètres!N112),\"\")","v":""},{"$f":"IFERROR(AVERAGE((Paramètres!C112,Paramètres!F112,Paramètres!I112,Paramètres!L112,Paramètres!O112)),\"\")","v":""},{"$f":"IFERROR(AVERAGE((Paramètres!D112,Paramètres!G112,Paramètres!J112,Paramètres!M112,Paramètres!P112)),\"\")","v":""},{"$f":"IF(A113=\"\",\"\",COUNTIF(Paramètres!B112:C112,\"-\")+COUNTIF(Paramètres!E112:F112,\"-\")+COUNTIF(Paramètres!H112:I112,\"-\")+COUNTIF(Paramètres!K112:L112,\"-\")+COUNTIF(Paramètres!N112:O112,\"-\"))","v":""},{"$f":"IF(A113=\"\",\"\",COUNTIF(Paramètres!B112,\"<2\")+COUNTIF(Paramètres!C112,\"<2\")+COUNTIF(Paramètres!E112,\"<2\")+COUNTIF(Paramètres!F112,\"<2\")+COUNTIF(Paramètres!H112,\"<2\")+COUNTIF(Paramètres!I112,\"<2\")+COUNTIF(Paramètres!K112,\"<2\")+COUNTIF(Paramètres!L112,\"<2\")+COUNTIF(Paramètres!N112,\"<2\")+COUNTIF(Paramètres!O112,\"<2\"))","v":""},{"$f":"IF(A113=\"\",\"\",COUNTIF(Paramètres!B112,\">1\")+COUNTIF(Paramètres!C112,\">1\")+COUNTIF(Paramètres!E112,\">1\")+COUNTIF(Paramètres!F112,\">1\")+COUNTIF(Paramètres!H112,\">1\")+COUNTIF(Paramètres!I112,\">1\")+COUNTIF(Paramètres!K112,\">1\")+COUNTIF(Paramètres!L112,\">1\")+COUNTIF(Paramètres!N112,\">1\")+COUNTIF(Paramètres!O112,\">1\"))","v":""},{"$f":"Tableau4[[#This Row],[Attaques réussies]]/(Tableau4[[#This Row],[Oubli]]+Tableau4[[#This Row],[Attaques ratées]]+Tableau4[[#This Row],[Attaques réussies]])","v":{"$error":"#VALUE!"}}]
[{"$f":"IF(ISBLANK(Paramètres!A113),\"\",Paramètres!A113)","v":""},{"$f":"IFERROR(AVERAGE(Paramètres!B113,Paramètres!E113,Paramètres!H113,Paramètres!K113,Paramètres!N113),\"\")","v":""},{"$f":"IFERROR(AVERAGE((Paramètres!C113,Paramètres!F113,Paramètres!I113,Paramètres!L113,Paramètres!O113)),\"\")","v":""},{"$f":"IFERROR(AVERAGE((Paramètres!D113,Paramètres!G113,Paramètres!J113,Paramètres!M113,Paramètres!P113)),\"\")","v":""},{"$f":"IF(A114=\"\",\"\",COUNTIF(Paramètres!B113:C113,\"-\")+COUNTIF(Paramètres!E113:F113,\"-\")+COUNTIF(Paramètres!H113:I113,\"-\")+COUNTIF(Paramètres!K113:L113,\"-\")+COUNTIF(Paramètres!N113:O113,\"-\"))","v":""},{"$f":"IF(A114=\"\",\"\",COUNTIF(Paramètres!B113,\"<2\")+COUNTIF(Paramètres!C113,\"<2\")+COUNTIF(Paramètres!E113,\"<2\")+COUNTIF(Paramètres!F113,\"<2\")+COUNTIF(Paramètres!H113,\"<2\")+COUNTIF(Paramètres!I113,\"<2\")+COUNTIF(Paramètres!K113,\"<2\")+COUNTIF(Paramètres!L113,\"<2\")+COUNTIF(Paramètres!N113,\"<2\")+COUNTIF(Paramètres!O113,\"<2\"))","v":""},{"$f":"IF(A114=\"\",\"\",COUNTIF(Paramètres!B113,\">1\")+COUNTIF(Paramètres!C113,\">1\")+COUNTIF(Paramètres!E113,\">1\")+COUNTIF(Paramètres!F113,\">1\")+COUNTIF(Paramètres!H113,\">1\")+COUNTIF(Paramètres!I113,\">1\")+COUNTIF(Paramètres!K113,\">1\")+COUNTIF(Paramètres!L113,\">1\")+COUNTIF(Paramètres!N113,\">1\")+COUNTIF(Paramètres!O113,\">1\"))","v":""},{"$f":"Tableau4[[#This Row],[Attaques réussies]]/(Tableau4[[#This Row],[Oubli]]+Tableau4[[#This Row],[Attaques ratées]]+Tableau4[[#This Row],[Attaques réussies]])","v":{"$error":"#VALUE!"}}]
[{"$f":"IF(ISBLANK(Paramètres!A114),\"\",Paramètres!A114)","v":""},{"$f":"IFERROR(AVERAGE(Paramètres!B114,Paramètres!E114,Paramètres!H114,Paramètres!K114,Paramètres!N114),\"\")","v":""},{"$f":"IFERROR(AVERAGE((Paramètres!C114,Paramètres!F114,Paramètres!I114,Paramètres!L114,Paramètres!O114)),\"\")","v":""},{"$f":"IFERROR(AVERAGE((Paramètres!D114,Paramètres!G114,Paramètres!J114,Paramètres!M114,Paramètres!P114)),\"\")","v":""},{"$f":"IF(A115=\"\",\"\",COUNTIF(Paramètres!B114:C114,\"-\")+COUNTIF(Paramètres!E114:F114,\"-\")+COUNTIF(Paramètres!H114:I114,\"-\")+COUNTIF(Paramètres!K114:L114,\"-\")+COUNTIF(Paramètres!N114:O114,\"-\"))","v":""},{"$f":"IF(A115=\"\",\"\",COUNTIF(Paramètres!B114,\"<2\")+COUNTIF(Paramètres!C114,\"<2\")+COUNTIF(Paramètres!E114,\"<2\")+COUNTIF(Paramètres!F114,\"<2\")+COUNTIF(Paramètres!H114,\"<2\")+COUNTIF(Paramètres!I114,\"<2\")+COUNTIF(Paramètres!K114,\"<2\")+COUNTIF(Paramètres!L114,\"<2\")+COUNTIF(Paramètres!N114,\"<2\")+COUNTIF(Paramètres!O114,\"<2\"))","v":""},{"$f":"IF(A115=\"\",\"\",COUNTIF(Paramètres!B114,\">1\")+COUNTIF(Paramètres!C114,\">1\")+COUNTIF(Paramètres!E114,\">1\")+COUNTIF(Paramètres!F114,\">1\")+COUNTIF(Paramètres!H114,\">1\")+COUNTIF(Paramètres!I114,\">1\")+COUNTIF(Paramètres!K114,\">1\")+COUNTIF(Paramètres!L114,\">1\")+COUNTIF(Paramètres!N114,\">1\")+COUNTIF(Paramètres!O114,\">1\"))","v":""},{"$f":"Tableau4[[#This Row],[Attaques réussies]]/(Tableau4[[#This Row],[Oubli]]+Tableau4[[#This Row],[Attaques ratées]]+Tableau4[[#This Row],[Attaques réussies]])","v":{"$error":"#VALUE!"}}]
[{"$f":"IF(ISBLANK(Paramètres!A115),\"\",Paramètres!A115)","v":""},{"$f":"IFERROR(AVERAGE(Paramètres!B115,Paramètres!E115,Paramètres!H115,Paramètres!K115,Paramètres!N115),\"\")","v":""},{"$f":"IFERROR(AVERAGE((Paramètres!C115,Paramètres!F115,Paramètres!I115,Paramètres!L115,Paramètres!O115)),\"\")","v":""},{"$f":"IFERROR(AVERAGE((Paramètres!D115,Paramètres!G115,Paramètres!J115,Paramètres!M115,Paramètres!P115)),\"\")","v":""},{"$f":"IF(A116=\"\",\"\",COUNTIF(Paramètres!B115:C115,\"-\")+COUNTIF(Paramètres!E115:F115,\"-\")+COUNTIF(Paramètres!H115:I115,\"-\")+COUNTIF(Paramètres!K115:L115,\"-\")+COUNTIF(Paramètres!N115:O115,\"-\"))","v":""},{"$f":"IF(A116=\"\",\"\",COUNTIF(Paramètres!B115,\"<2\")+COUNTIF(Paramètres!C115,\"<2\")+COUNTIF(Paramètres!E115,\"<2\")+COUNTIF(Paramètres!F115,\"<2\")+COUNTIF(Paramètres!H115,\"<2\")+COUNTIF(Paramètres!I115,\"<2\")+COUNTIF(Paramètres!K115,\"<2\")+COUNTIF(Paramètres!L115,\"<2\")+COUNTIF(Paramètres!N115,\"<2\")+COUNTIF(Paramètres!O115,\"<2\"))","v":""},{"$f":"IF(A116=\"\",\"\",COUNTIF(Paramètres!B115,\">1\")+COUNTIF(Paramètres!C115,\">1\")+COUNTIF(Paramètres!E115,\">1\")+COUNTIF(Paramètres!F115,\">1\")+COUNTIF(Paramètres!H115,\">1\")+COUNTIF(Paramètres!I115,\">1\")+COUNTIF(Paramètres!K115,\">1\")+COUNTIF(Paramètres!L115,\">1\")+COUNTIF(Paramètres!N115,\">1\")+COUNTIF(Paramètres!O115,\">1\"))","v":""},{"$f":"Tableau4[[#This Row],[Attaques réussies]]/(Tableau4[[#This Row],[Oubli]]+Tableau4[[#This Row],[Attaques ratées]]+Tableau4[[#This Row],[Attaques réussies]])","v":{"$error":"#VALUE!"}}]
[{"$f":"IF(ISBLANK(Paramètres!A116),\"\",Paramètres!A116)","v":""},{"$f":"IFERROR(AVERAGE(Paramètres!B116,Paramètres!E116,Paramètres!H116,Paramètres!K116,Paramètres!N116),\"\")","v":""},{"$f":"IFERROR(AVERAGE((Paramètres!C116,Paramètres!F116,Paramètres!I116,Paramètres!L116,Paramètres!O116)),\"\")","v":""},{"$f":"IFERROR(AVERAGE((Paramètres!D116,Paramètres!G116,Paramètres!J116,Paramètres!M116,Paramètres!P116)),\"\")","v":""},{"$f":"IF(A117=\"\",\"\",COUNTIF(Paramètres!B116:C116,\"-\")+COUNTIF(Paramètres!E116:F116,\"-\")+COUNTIF(Paramètres!H116:I116,\"-\")+COUNTIF(Paramètres!K116:L116,\"-\")+COUNTIF(Paramètres!N116:O116,\"-\"))","v":""},{"$f":"IF(A117=\"\",\"\",COUNTIF(Paramètres!B116,\"<2\")+COUNTIF(Paramètres!C116,\"<2\")+COUNTIF(Paramètres!E116,\"<2\")+COUNTIF(Paramètres!F116,\"<2\")+COUNTIF(Paramètres!H116,\"<2\")+COUNTIF(Paramètres!I116,\"<2\")+COUNTIF(Paramètres!K116,\"<2\")+COUNTIF(Paramètres!L116,\"<2\")+COUNTIF(Paramètres!N116,\"<2\")+COUNTIF(Paramètres!O116,\"<2\"))","v":""},{"$f":"IF(A117=\"\",\"\",COUNTIF(Paramètres!B116,\">1\")+COUNTIF(Paramètres!C116,\">1\")+COUNTIF(Paramètres!E116,\">1\")+COUNTIF(Paramètres!F116,\">1\")+COUNTIF(Paramètres!H116,\">1\")+COUNTIF(Paramètres!I116,\">1\")+COUNTIF(Paramètres!K116,\">1\")+COUNTIF(Paramètres!L116,\">1\")+COUNTIF(Paramètres!N116,\">1\")+COUNTIF(Paramètres!O116,\">1\"))","v":""},{"$f":"Tableau4[[#This Row],[Attaques réussies]]/(Tableau4[[#This Row],[Oubli]]+Tableau4[[#This Row],[Attaques ratées]]+Tableau4[[#This Row],[Attaques réussies]])","v":{"$error":"#VALUE!"}}]
[{"$f":"IF(ISBLANK(Paramètres!A117),\"\",Paramètres!A117)","v":""},{"$f":"IFERROR(AVERAGE(Paramètres!B117,Paramètres!E117,Paramètres!H117,Paramètres!K117,Paramètres!N117),\"\")","v":""},{"$f":"IFERROR(AVERAGE((Paramètres!C117,Paramètres!F117,Paramètres!I117,Paramètres!L117,Paramètres!O117)),\"\")","v":""},{"$f":"IFERROR(AVERAGE((Paramètres!D117,Paramètres!G117,Paramètres!J117,Paramètres!M117,Paramètres!P117)),\"\")","v":""},{"$f":"IF(A118=\"\",\"\",COUNTIF(Paramètres!B117:C117,\"-\")+COUNTIF(Paramètres!E117:F117,\"-\")+COUNTIF(Paramètres!H117:I117,\"-\")+COUNTIF(Paramètres!K117:L117,\"-\")+COUNTIF(Paramètres!N117:O117,\"-\"))","v":""},{"$f":"IF(A118=\"\",\"\",COUNTIF(Paramètres!B117,\"<2\")+COUNTIF(Paramètres!C117,\"<2\")+COUNTIF(Paramètres!E117,\"<2\")+COUNTIF(Paramètres!F117,\"<2\")+COUNTIF(Paramètres!H117,\"<2\")+COUNTIF(Paramètres!I117,\"<2\")+COUNTIF(Paramètres!K117,\"<2\")+COUNTIF(Paramètres!L117,\"<2\")+COUNTIF(Paramètres!N117,\"<2\")+COUNTIF(Paramètres!O117,\"<2\"))","v":""},{"$f":"IF(A118=\"\",\"\",COUNTIF(Paramètres!B117,\">1\")+COUNTIF(Paramètres!C117,\">1\")+COUNTIF(Paramètres!E117,\">1\")+COUNTIF(Paramètres!F117,\">1\")+COUNTIF(Paramètres!H117,\">1\")+COUNTIF(Paramètres!I117,\">1\")+COUNTIF(Paramètres!K117,\">1\")+COUNTIF(Paramètres!L117,\">1\")+COUNTIF(Paramètres!N117,\">1\")+COUNTIF(Paramètres!O117,\">1\"))","v":""},{"$f":"Tableau4[[#This Row],[Attaques réussies]]/(Tableau4[[#This Row],[Oubli]]+Tableau4[[#This Row],[Attaques ratées]]+Tableau4[[#This Row],[Attaques réussies]])","v":{"$error":"#VALUE!"}}]
[{"$f":"IF(ISBLANK(Paramètres!A118),\"\",Paramètres!A118)","v":""},{"$f":"IFERROR(AVERAGE(Paramètres!B118,Paramètres!E118,Paramètres!H118,Paramètres!K118,Paramètres!N118),\"\")","v":""},{"$f":"IFERROR(AVERAGE((Paramètres!C118,Paramètres!F118,Paramètres!I118,Paramètres!L118,Paramètres!O118)),\"\")","v":""},{"$f":"IFERROR(AVERAGE((Paramètres!D118,Paramètres!G118,Paramètres!J118,Paramètres!M118,Paramètres!P118)),\"\")","v":""},{"$f":"IF(A119=\"\",\"\",COUNTIF(Paramètres!B118:C118,\"-\")+COUNTIF(Paramètres!E118:F118,\"-\")+COUNTIF(Paramètres!H118:I118,\"-\")+COUNTIF(Paramètres!K118:L118,\"-\")+COUNTIF(Paramètres!N118:O118,\"-\"))","v":""},{"$f":"IF(A119=\"\",\"\",COUNTIF(Paramètres!B118,\"<2\")+COUNTIF(Paramètres!C118,\"<2\")+COUNTIF(Paramètres!E118,\"<2\")+COUNTIF(Paramètres!F118,\"<2\")+COUNTIF(Paramètres!H118,\"<2\")+COUNTIF(Paramètres!I118,\"<2\")+COUNTIF(Paramètres!K118,\"<2\")+COUNTIF(Paramètres!L118,\"<2\")+COUNTIF(Paramètres!N118,\"<2\")+COUNTIF(Paramètres!O118,\"<2\"))","v":""},{"$f":"IF(A119=\"\",\"\",COUNTIF(Paramètres!B118,\">1\")+COUNTIF(Paramètres!C118,\">1\")+COUNTIF(Paramètres!E118,\">1\")+COUNTIF(Paramètres!F118,\">1\")+COUNTIF(Paramètres!H118,\">1\")+COUNTIF(Paramètres!I118,\">1\")+COUNTIF(Paramètres!K118,\">1\")+COUNTIF(Paramètres!L118,\">1\")+COUNTIF(Paramètres!N118,\">1\")+COUNTIF(Paramètres!O118,\">1\"))","v":""},{"$f":"Tableau4[[#This Row],[Attaques réussies]]/(Tableau4[[#This Row],[Oubli]]+Tableau4[[#This Row],[Attaques ratées]]+Tableau4[[#This Row],[Attaques réussies]])","v":{"$error":"#VALUE!"}}]
[{"$f":"IF(ISBLANK(Paramètres!A119),\"\",Paramètres!A119)","v":""},{"$f":"IFERROR(AVERAGE(Paramètres!B119,Paramètres!E119,Paramètres!H119,Paramètres!K119,Paramètres!N119),\"\")","v":""},{"$f":"IFERROR(AVERAGE((Paramètres!C119,Paramètres!F119,Paramètres!I119,Paramètres!L119,Paramètres!O119)),\"\")","v":""},{"$f":"IFERROR(AVERAGE((Paramètres!D119,Paramètres!G119,Paramètres!J119,Paramètres!M119,Paramètres!P119)),\"\")","v":""},{"$f":"IF(A120=\"\",\"\",COUNTIF(Paramètres!B119:C119,\"-\")+COUNTIF(Paramètres!E119:F119,\"-\")+COUNTIF(Paramètres!H119:I119,\"-\")+COUNTIF(Paramètres!K119:L119,\"-\")+COUNTIF(Paramètres!N119:O119,\"-\"))","v":""},{"$f":"IF(A120=\"\",\"\",COUNTIF(Paramètres!B119,\"<2\")+COUNTIF(Paramètres!C119,\"<2\")+COUNTIF(Paramètres!E119,\"<2\")+COUNTIF(Paramètres!F119,\"<2\")+COUNTIF(Paramètres!H119,\"<2\")+COUNTIF(Paramètres!I119,\"<2\")+COUNTIF(Paramètres!K119,\"<2\")+COUNTIF(Paramètres!L119,\"<2\")+COUNTIF(Paramètres!N119,\"<2\")+COUNTIF(Paramètres!O119,\"<2\"))","v":""},{"$f":"IF(A120=\"\",\"\",COUNTIF(Paramètres!B119,\">1\")+COUNTIF(Paramètres!C119,\">1\")+COUNTIF(Paramètres!E119,\">1\")+COUNTIF(Paramètres!F119,\">1\")+COUNTIF(Paramètres!H119,\">1\")+COUNTIF(Paramètres!I119,\">1\")+COUNTIF(Paramètres!K119,\">1\")+COUNTIF(Paramètres!L119,\">1\")+COUNTIF(Paramètres!N119,\">1\")+COUNTIF(Paramètres!O119,\">1\"))","v":""},{"$f":"Tableau4[[#This Row],[Attaques réussies]]/(Tableau4[[#This Row],[Oubli]]+Tableau4[[#This Row],[Attaques ratées]]+Tableau4[[#This Row],[Attaques réussies]])","v":{"$error":"#VALUE!"}}]
[{"$f":"IF(ISBLANK(Paramètres!A120),\"\",Paramètres!A120)","v":""},{"$f":"IFERROR(AVERAGE(Paramètres!B120,Paramètres!E120,Paramètres!H120,Paramètres!K120,Paramètres!N120),\"\")","v":""},{"$f":"IFERROR(AVERAGE((Paramètres!C120,Paramètres!F120,Paramètres!I120,Paramètres!L120,Paramètres!O120)),\"\")","v":""},{"$f":"IFERROR(AVERAGE((Paramètres!D120,Paramètres!G120,Paramètres!J120,Paramètres!M120,Paramètres!P120)),\"\")","v":""},{"$f":"IF(A121=\"\",\"\",COUNTIF(Paramètres!B120:C120,\"-\")+COUNTIF(Paramètres!E120:F120,\"-\")+COUNTIF(Paramètres!H120:I120,\"-\")+COUNTIF(Paramètres!K120:L120,\"-\")+COUNTIF(Paramètres!N120:O120,\"-\"))","v":""},{"$f":"IF(A121=\"\",\"\",COUNTIF(Paramètres!B120,\"<2\")+COUNTIF(Paramètres!C120,\"<2\")+COUNTIF(Paramètres!E120,\"<2\")+COUNTIF(Paramètres!F120,\"<2\")+COUNTIF(Paramètres!H120,\"<2\")+COUNTIF(Paramètres!I120,\"<2\")+COUNTIF(Paramètres!K120,\"<2\")+COUNTIF(Paramètres!L120,\"<2\")+COUNTIF(Paramètres!N120,\"<2\")+COUNTIF(Paramètres!O120,\"<2\"))","v":""},{"$f":"IF(A121=\"\",\"\",COUNTIF(Paramètres!B120,\">1\")+COUNTIF(Paramètres!C120,\">1\")+COUNTIF(Paramètres!E120,\">1\")+COUNTIF(Paramètres!F120,\">1\")+COUNTIF(Paramètres!H120,\">1\")+COUNTIF(Paramètres!I120,\">1\")+COUNTIF(Paramètres!K120,\">1\")+COUNTIF(Paramètres!L120,\">1\")+COUNTIF(Paramètres!N120,\">1\")+COUNTIF(Paramètres!O120,\">1\"))","v":""},{"$f":"Tableau4[[#This Row],[Attaques réussies]]/(Tableau4[[#This Row],[Oubli]]+Tableau4[[#This Row],[Attaques ratées]]+Tableau4[[#This Row],[Attaques réussies]])","v":{"$error":"#VALUE!"}}]
[{"$f":"IF(ISBLANK(Paramètres!A121),\"\",Paramètres!A121)","v":""},{"$f":"IFERROR(AVERAGE(Paramètres!B121,Paramètres!E121,Paramètres!H121,Paramètres!K121,Paramètres!N121),\"\")","v":""},{"$f":"IFERROR(AVERAGE((Paramètres!C121,Paramètres!F121,Paramètres!I121,Paramètres!L121,Paramètres!O121)),\"\")","v":""},{"$f":"IFERROR(AVERAGE((Paramètres!D121,Paramètres!G121,Paramètres!J121,Paramètres!M121,Paramètres!P121)),\"\")","v":""},{"$f":"IF(A122=\"\",\"\",COUNTIF(Paramètres!B121:C121,\"-\")+COUNTIF(Paramètres!E121:F121,\"-\")+COUNTIF(Paramètres!H121:I121,\"-\")+COUNTIF(Paramètres!K121:L121,\"-\")+COUNTIF(Paramètres!N121:O121,\"-\"))","v":""},{"$f":"IF(A122=\"\",\"\",COUNTIF(Paramètres!B121,\"<2\")+COUNTIF(Paramètres!C121,\"<2\")+COUNTIF(Paramètres!E121,\"<2\")+COUNTIF(Paramètres!F121,\"<2\")+COUNTIF(Paramètres!H121,\"<2\")+COUNTIF(Paramètres!I121,\"<2\")+COUNTIF(Paramètres!K121,\"<2\")+COUNTIF(Paramètres!L121,\"<2\")+COUNTIF(Paramètres!N121,\"<2\")+COUNTIF(Paramètres!O121,\"<2\"))","v":""},{"$f":"IF(A122=\"\",\"\",COUNTIF(Paramètres!B121,\">1\")+COUNTIF(Paramètres!C121,\">1\")+COUNTIF(Paramètres!E121,\">1\")+COUNTIF(Paramètres!F121,\">1\")+COUNTIF(Paramètres!H121,\">1\")+COUNTIF(Paramètres!I121,\">1\")+COUNTIF(Paramètres!K121,\">1\")+COUNTIF(Paramètres!L121,\">1\")+COUNTIF(Paramètres!N121,\">1\")+COUNTIF(Paramètres!O121,\">1\"))","v":""},{"$f":"Tableau4[[#This Row],[Attaques réussies]]/(Tableau4[[#This Row],[Oubli]]+Tableau4[[#This Row],[Attaques ratées]]+Tableau4[[#This Row],[Attaques réussies]])","v":{"$error":"#VALUE!"}}]
[{"$f":"IF(ISBLANK(Paramètres!A122),\"\",Paramètres!A122)","v":""},{"$f":"IFERROR(AVERAGE(Paramètres!B122,Paramètres!E122,Paramètres!H122,Paramètres!K122,Paramètres!N122),\"\")","v":""},{"$f":"IFERROR(AVERAGE((Paramètres!C122,Paramètres!F122,Paramètres!I122,Paramètres!L122,Paramètres!O122)),\"\")","v":""},{"$f":"IFERROR(AVERAGE((Paramètres!D122,Paramètres!G122,Paramètres!J122,Paramètres!M122,Paramètres!P122)),\"\")","v":""},{"$f":"IF(A123=\"\",\"\",COUNTIF(Paramètres!B122:C122,\"-\")+COUNTIF(Paramètres!E122:F122,\"-\")+COUNTIF(Paramètres!H122:I122,\"-\")+COUNTIF(Paramètres!K122:L122,\"-\")+COUNTIF(Paramètres!N122:O122,\"-\"))","v":""},{"$f":"IF(A123=\"\",\"\",COUNTIF(Paramètres!B122,\"<2\")+COUNTIF(Paramètres!C122,\"<2\")+COUNTIF(Paramètres!E122,\"<2\")+COUNTIF(Paramètres!F122,\"<2\")+COUNTIF(Paramètres!H122,\"<2\")+COUNTIF(Paramètres!I122,\"<2\")+COUNTIF(Paramètres!K122,\"<2\")+COUNTIF(Paramètres!L122,\"<2\")+COUNTIF(Paramètres!N122,\"<2\")+COUNTIF(Paramètres!O122,\"<2\"))","v":""},{"$f":"IF(A123=\"\",\"\",COUNTIF(Paramètres!B122,\">1\")+COUNTIF(Paramètres!C122,\">1\")+COUNTIF(Paramètres!E122,\">1\")+COUNTIF(Paramètres!F122,\">1\")+COUNTIF(Paramètres!H122,\">1\")+COUNTIF(Paramètres!I122,\">1\")+COUNTIF(Paramètres!K122,\">1\")+COUNTIF(Paramètres!L122,\">1\")+COUNTIF(Paramètres!N122,\">1\")+COUNTIF(Paramètres!O122,\">1\"))","v":""},{"$f":"Tableau4[[#This Row],[Attaques réussies]]/(Tableau4[[#This Row],[Oubli]]+Tableau4[[#This Row],[Attaques ratées]]+Tableau4[[#This Row],[Attaques réussies]])","v":{"$error":"#VALUE!"}}]
[{"$f":"IF(ISBLANK(Paramètres!A123),\"\",Paramètres!A123)","v":""},{"$f":"IFERROR(AVERAGE(Paramètres!B123,Paramètres!E123,Paramètres!H123,Paramètres!K123,Paramètres!N123),\"\")","v":""},{"$f":"IFERROR(AVERAGE((Paramètres!C123,Paramètres!F123,Paramètres!I123,Paramètres!L123,Paramètres!O123)),\"\")","v":""},{"$f":"IFERROR(AVERAGE((Paramètres!D123,Paramètres!G123,Paramètres!J123,Paramètres!M123,Paramètres!P123)),\"\")","v":""},{"$f":"IF(A124=\"\",\"\",COUNTIF(Paramètres!B123:C123,\"-\")+COUNTIF(Paramètres!E123:F123,\"-\")+COUNTIF(Paramètres!H123:I123,\"-\")+COUNTIF(Paramètres!K123:L123,\"-\")+COUNTIF(Paramètres!N123:O123,\"-\"))","v":""},{"$f":"IF(A124=\"\",\"\",COUNTIF(Paramètres!B123,\"<2\")+COUNTIF(Paramètres!C123,\"<2\")+COUNTIF(Paramètres!E123,\"<2\")+COUNTIF(Paramètres!F123,\"<2\")+COUNTIF(Paramètres!H123,\"<2\")+COUNTIF(Paramètres!I123,\"<2\")+COUNTIF(Paramètres!K123,\"<2\")+COUNTIF(Paramètres!L123,\"<2\")+COUNTIF(Paramètres!N123,\"<2\")+COUNTIF(Paramètres!O123,\"<2\"))","v":""},{"$f":"IF(A124=\"\",\"\",COUNTIF(Paramètres!B123,\">1\")+COUNTIF(Paramètres!C123,\">1\")+COUNTIF(Paramètres!E123,\">1\")+COUNTIF(Paramètres!F123,\">1\")+COUNTIF(Paramètres!H123,\">1\")+COUNTIF(Paramètres!I123,\">1\")+COUNTIF(Paramètres!K123,\">1\")+COUNTIF(Paramètres!L123,\">1\")+COUNTIF(Paramètres!N123,\">1\")+COUNTIF(Paramètres!O123,\">1\"))","v":""},{"$f":"Tableau4[[#This Row],[Attaques réussies]]/(Tableau4[[#This Row],[Oubli]]+Tableau4[[#This Row],[Attaques ratées]]+Tableau4[[#This Row],[Attaques réussies]])","v":{"$error":"#VALUE!"}}]
[{"$f":"IF(ISBLANK(Paramètres!A124),\"\",Paramètres!A124)","v":""},{"$f":"IFERROR(AVERAGE(Paramètres!B124,Paramètres!E124,Paramètres!H124,Paramètres!K124,Paramètres!N124),\"\")","v":""},{"$f":"IFERROR(AVERAGE((Paramètres!C124,Paramètres!F124,Paramètres!I124,Paramètres!L124,Paramètres!O124)),\"\")","v":""},{"$f":"IFERROR(AVERAGE((Paramètres!D124,Paramètres!G124,Paramètres!J124,Paramètres!M124,Paramètres!P124)),\"\")","v":""},{"$f":"IF(A125=\"\",\"\",COUNTIF(Paramètres!B124:C124,\"-\")+COUNTIF(Paramètres!E124:F124,\"-\")+COUNTIF(Paramètres!H124:I124,\"-\")+COUNTIF(Paramètres!K124:L124,\"-\")+COUNTIF(Paramètres!N124:O124,\"-\"))","v":""},{"$f":"IF(A125=\"\",\"\",COUNTIF(Paramètres!B124,\"<2\")+COUNTIF(Paramètres!C124,\"<2\")+COUNTIF(Paramètres!E124,\"<2\")+COUNTIF(Paramètres!F124,\"<2\")+COUNTIF(Paramètres!H124,\"<2\")+COUNTIF(Paramètres!I124,\"<2\")+COUNTIF(Paramètres!K124,\"<2\")+COUNTIF(Paramètres!L124,\"<2\")+COUNTIF(Paramètres!N124,\"<2\")+COUNTIF(Paramètres!O124,\"<2\"))","v":""},{"$f":"IF(A125=\"\",\"\",COUNTIF(Paramètres!B124,\">1\")+COUNTIF(Paramètres!C124,\">1\")+COUNTIF(Paramètres!E124,\">1\")+COUNTIF(Paramètres!F124,\">1\")+COUNTIF(Paramètres!H124,\">1\")+COUNTIF(Paramètres!I124,\">1\")+COUNTIF(Paramètres!K124,\">1\")+COUNTIF(Paramètres!L124,\">1\")+COUNTIF(Paramètres!N124,\">1\")+COUNTIF(Paramètres!O124,\">1\"))","v":""},{"$f":"Tableau4[[#This Row],[Attaques réussies]]/(Tableau4[[#This Row],[Oubli]]+Tableau4[[#This Row],[Attaques ratées]]+Tableau4[[#This Row],[Attaques réussies]])","v":{"$error":"#VALUE!"}}]
[{"$f":"IF(ISBLANK(Paramètres!A125),\"\",Paramètres!A125)","v":""},{"$f":"IFERROR(AVERAGE(Paramètres!B125,Paramètres!E125,Paramètres!H125,Paramètres!K125,Paramètres!N125),\"\")","v":""},{"$f":"IFERROR(AVERAGE((Paramètres!C125,Paramètres!F125,Paramètres!I125,Paramètres!L125,Paramètres!O125)),\"\")","v":""},{"$f":"IFERROR(AVERAGE((Paramètres!D125,Paramètres!G125,Paramètres!J125,Paramètres!M125,Paramètres!P125)),\"\")","v":""},{"$f":"IF(A126=\"\",\"\",COUNTIF(Paramètres!B125:C125,\"-\")+COUNTIF(Paramètres!E125:F125,\"-\")+COUNTIF(Paramètres!H125:I125,\"-\")+COUNTIF(Paramètres!K125:L125,\"-\")+COUNTIF(Paramètres!N125:O125,\"-\"))","v":""},{"$f":"IF(A126=\"\",\"\",COUNTIF(Paramètres!B125,\"<2\")+COUNTIF(Paramètres!C125,\"<2\")+COUNTIF(Paramètres!E125,\"<2\")+COUNTIF(Paramètres!F125,\"<2\")+COUNTIF(Paramètres!H125,\"<2\")+COUNTIF(Paramètres!I125,\"<2\")+COUNTIF(Paramètres!K125,\"<2\")+COUNTIF(Paramètres!L125,\"<2\")+COUNTIF(Paramètres!N125,\"<2\")+COUNTIF(Paramètres!O125,\"<2\"))","v":""},{"$f":"IF(A126=\"\",\"\",COUNTIF(Paramètres!B125,\">1\")+COUNTIF(Paramètres!C125,\">1\")+COUNTIF(Paramètres!E125,\">1\")+COUNTIF(Paramètres!F125,\">1\")+COUNTIF(Paramètres!H125,\">1\")+COUNTIF(Paramètres!I125,\">1\")+COUNTIF(Paramètres!K125,\">1\")+COUNTIF(Paramètres!L125,\">1\")+COUNTIF(Paramètres!N125,\">1\")+COUNTIF(Paramètres!O125,\">1\"))","v":""},{"$f":"Tableau4[[#This Row],[Attaques réussies]]/(Tableau4[[#This Row],[Oubli]]+Tableau4[[#This Row],[Attaques ratées]]+Tableau4[[#This Row],[Attaques réussies]])","v":{"$error":"#VALUE!"}}]
[{"$f":"IF(ISBLANK(Paramètres!A126),\"\",Paramètres!A126)","v":""},{"$f":"IFERROR(AVERAGE(Paramètres!B126,Paramètres!E126,Paramètres!H126,Paramètres!K126,Paramètres!N126),\"\")","v":""},{"$f":"IFERROR(AVERAGE((Paramètres!C126,Paramètres!F126,Paramètres!I126,Paramètres!L126,Paramètres!O126)),\"\")","v":""},{"$f":"IFERROR(AVERAGE((Paramètres!D126,Paramètres!G126,Paramètres!J126,Paramètres!M126,Paramètres!P126)),\"\")","v":""},{"$f":"IF(A127=\"\",\"\",COUNTIF(Paramètres!B126:C126,\"-\")+COUNTIF(Paramètres!E126:F126,\"-\")+COUNTIF(Paramètres!H126:I126,\"-\")+COUNTIF(Paramètres!K126:L126,\"-\")+COUNTIF(Paramètres!N126:O126,\"-\"))","v":""},{"$f":"IF(A127=\"\",\"\",COUNTIF(Paramètres!B126,\"<2\")+COUNTIF(Paramètres!C126,\"<2\")+COUNTIF(Paramètres!E126,\"<2\")+COUNTIF(Paramètres!F126,\"<2\")+COUNTIF(Paramètres!H126,\"<2\")+COUNTIF(Paramètres!I126,\"<2\")+COUNTIF(Paramètres!K126,\"<2\")+COUNTIF(Paramètres!L126,\"<2\")+COUNTIF(Paramètres!N126,\"<2\")+COUNTIF(Paramètres!O126,\"<2\"))","v":""},{"$f":"IF(A127=\"\",\"\",COUNTIF(Paramètres!B126,\">1\")+COUNTIF(Paramètres!C126,\">1\")+COUNTIF(Paramètres!E126,\">1\")+COUNTIF(Paramètres!F126,\">1\")+COUNTIF(Paramètres!H126,\">1\")+COUNTIF(Paramètres!I126,\">1\")+COUNTIF(Paramètres!K126,\">1\")+COUNTIF(Paramètres!L126,\">1\")+COUNTIF(Paramètres!N126,\">1\")+COUNTIF(Paramètres!O126,\">1\"))","v":""},{"$f":"Tableau4[[#This Row],[Attaques réussies]]/(Tableau4[[#This Row],[Oubli]]+Tableau4[[#This Row],[Attaques ratées]]+Tableau4[[#This Row],[Attaques réussies]])","v":{"$error":"#VALUE!"}}]
[{"$f":"IF(ISBLANK(Paramètres!A127),\"\",Paramètres!A127)","v":""},{"$f":"IFERROR(AVERAGE(Paramètres!B127,Paramètres!E127,Paramètres!H127,Paramètres!K127,Paramètres!N127),\"\")","v":""},{"$f":"IFERROR(AVERAGE((Paramètres!C127,Paramètres!F127,Paramètres!I127,Paramètres!L127,Paramètres!O127)),\"\")","v":""},{"$f":"IFERROR(AVERAGE((Paramètres!D127,Paramètres!G127,Paramètres!J127,Paramètres!M127,Paramètres!P127)),\"\")","v":""},{"$f":"IF(A128=\"\",\"\",COUNTIF(Paramètres!B127:C127,\"-\")+COUNTIF(Paramètres!E127:F127,\"-\")+COUNTIF(Paramètres!H127:I127,\"-\")+COUNTIF(Paramètres!K127:L127,\"-\")+COUNTIF(Paramètres!N127:O127,\"-\"))","v":""},{"$f":"IF(A128=\"\",\"\",COUNTIF(Paramètres!B127,\"<2\")+COUNTIF(Paramètres!C127,\"<2\")+COUNTIF(Paramètres!E127,\"<2\")+COUNTIF(Paramètres!F127,\"<2\")+COUNTIF(Paramètres!H127,\"<2\")+COUNTIF(Paramètres!I127,\"<2\")+COUNTIF(Paramètres!K127,\"<2\")+COUNTIF(Paramètres!L127,\"<2\")+COUNTIF(Paramètres!N127,\"<2\")+COUNTIF(Paramètres!O127,\"<2\"))","v":""},{"$f":"IF(A128=\"\",\"\",COUNTIF(Paramètres!B127,\">1\")+COUNTIF(Paramètres!C127,\">1\")+COUNTIF(Paramètres!E127,\">1\")+COUNTIF(Paramètres!F127,\">1\")+COUNTIF(Paramètres!H127,\">1\")+COUNTIF(Paramètres!I127,\">1\")+COUNTIF(Paramètres!K127,\">1\")+COUNTIF(Paramètres!L127,\">1\")+COUNTIF(Paramètres!N127,\">1\")+COUNTIF(Paramètres!O127,\">1\"))","v":""},{"$f":"Tableau4[[#This Row],[Attaques réussies]]/(Tableau4[[#This Row],[Oubli]]+Tableau4[[#This Row],[Attaques ratées]]+Tableau4[[#This Row],[Attaques réussies]])","v":{"$error":"#VALUE!"}}]
[{"$f":"IF(ISBLANK(Paramètres!A128),\"\",Paramètres!A128)","v":""},{"$f":"IFERROR(AVERAGE(Paramètres!B128,Paramètres!E128,Paramètres!H128,Paramètres!K128,Paramètres!N128),\"\")","v":""},{"$f":"IFERROR(AVERAGE((Paramètres!C128,Paramètres!F128,Paramètres!I128,Paramètres!L128,Paramètres!O128)),\"\")","v":""},{"$f":"IFERROR(AVERAGE((Paramètres!D128,Paramètres!G128,Paramètres!J128,Paramètres!M128,Paramètres!P128)),\"\")","v":""},{"$f":"IF(A129=\"\",\"\",COUNTIF(Paramètres!B128:C128,\"-\")+COUNTIF(Paramètres!E128:F128,\"-\")+COUNTIF(Paramètres!H128:I128,\"-\")+COUNTIF(Paramètres!K128:L128,\"-\")+COUNTIF(Paramètres!N128:O128,\"-\"))","v":""},{"$f":"IF(A129=\"\",\"\",COUNTIF(Paramètres!B128,\"<2\")+COUNTIF(Paramètres!C128,\"<2\")+COUNTIF(Paramètres!E128,\"<2\")+COUNTIF(Paramètres!F128,\"<2\")+COUNTIF(Paramètres!H128,\"<2\")+COUNTIF(Paramètres!I128,\"<2\")+COUNTIF(Paramètres!K128,\"<2\")+COUNTIF(Paramètres!L128,\"<2\")+COUNTIF(Paramètres!N128,\"<2\")+COUNTIF(Paramètres!O128,\"<2\"))","v":""},{"$f":"IF(A129=\"\",\"\",COUNTIF(Paramètres!B128,\">1\")+COUNTIF(Paramètres!C128,\">1\")+COUNTIF(Paramètres!E128,\">1\")+COUNTIF(Paramètres!F128,\">1\")+COUNTIF(Paramètres!H128,\">1\")+COUNTIF(Paramètres!I128,\">1\")+COUNTIF(Paramètres!K128,\">1\")+COUNTIF(Paramètres!L128,\">1\")+COUNTIF(Paramètres!N128,\">1\")+COUNTIF(Paramètres!O128,\">1\"))","v":""},{"$f":"Tableau4[[#This Row],[Attaques réussies]]/(Tableau4[[#This Row],[Oubli]]+Tableau4[[#This Row],[Attaques ratées]]+Tableau4[[#This Row],[Attaques réussies]])","v":{"$error":"#VALUE!"}}]
[{"$f":"IF(ISBLANK(Paramètres!A129),\"\",Paramètres!A129)","v":""},{"$f":"IFERROR(AVERAGE(Paramètres!B129,Paramètres!E129,Paramètres!H129,Paramètres!K129,Paramètres!N129),\"\")","v":""},{"$f":"IFERROR(AVERAGE((Paramètres!C129,Paramètres!F129,Paramètres!I129,Paramètres!L129,Paramètres!O129)),\"\")","v":""},{"$f":"IFERROR(AVERAGE((Paramètres!D129,Paramètres!G129,Paramètres!J129,Paramètres!M129,Paramètres!P129)),\"\")","v":""},{"$f":"IF(A130=\"\",\"\",COUNTIF(Paramètres!B129:C129,\"-\")+COUNTIF(Paramètres!E129:F129,\"-\")+COUNTIF(Paramètres!H129:I129,\"-\")+COUNTIF(Paramètres!K129:L129,\"-\")+COUNTIF(Paramètres!N129:O129,\"-\"))","v":""},{"$f":"IF(A130=\"\",\"\",COUNTIF(Paramètres!B129,\"<2\")+COUNTIF(Paramètres!C129,\"<2\")+COUNTIF(Paramètres!E129,\"<2\")+COUNTIF(Paramètres!F129,\"<2\")+COUNTIF(Paramètres!H129,\"<2\")+COUNTIF(Paramètres!I129,\"<2\")+COUNTIF(Paramètres!K129,\"<2\")+COUNTIF(Paramètres!L129,\"<2\")+COUNTIF(Paramètres!N129,\"<2\")+COUNTIF(Paramètres!O129,\"<2\"))","v":""},{"$f":"IF(A130=\"\",\"\",COUNTIF(Paramètres!B129,\">1\")+COUNTIF(Paramètres!C129,\">1\")+COUNTIF(Paramètres!E129,\">1\")+COUNTIF(Paramètres!F129,\">1\")+COUNTIF(Paramètres!H129,\">1\")+COUNTIF(Paramètres!I129,\">1\")+COUNTIF(Paramètres!K129,\">1\")+COUNTIF(Paramètres!L129,\">1\")+COUNTIF(Paramètres!N129,\">1\")+COUNTIF(Paramètres!O129,\">1\"))","v":""},{"$f":"Tableau4[[#This Row],[Attaques réussies]]/(Tableau4[[#This Row],[Oubli]]+Tableau4[[#This Row],[Attaques ratées]]+Tableau4[[#This Row],[Attaques réussies]])","v":{"$error":"#VALUE!"}}]
[{"$f":"IF(ISBLANK(Paramètres!A130),\"\",Paramètres!A130)","v":""},{"$f":"IFERROR(AVERAGE(Paramètres!B130,Paramètres!E130,Paramètres!H130,Paramètres!K130,Paramètres!N130),\"\")","v":""},{"$f":"IFERROR(AVERAGE((Paramètres!C130,Paramètres!F130,Paramètres!I130,Paramètres!L130,Paramètres!O130)),\"\")","v":""},{"$f":"IFERROR(AVERAGE((Paramètres!D130,Paramètres!G130,Paramètres!J130,Paramètres!M130,Paramètres!P130)),\"\")","v":""},{"$f":"IF(A131=\"\",\"\",COUNTIF(Paramètres!B130:C130,\"-\")+COUNTIF(Paramètres!E130:F130,\"-\")+COUNTIF(Paramètres!H130:I130,\"-\")+COUNTIF(Paramètres!K130:L130,\"-\")+COUNTIF(Paramètres!N130:O130,\"-\"))","v":""},{"$f":"IF(A131=\"\",\"\",COUNTIF(Paramètres!B130,\"<2\")+COUNTIF(Paramètres!C130,\"<2\")+COUNTIF(Paramètres!E130,\"<2\")+COUNTIF(Paramètres!F130,\"<2\")+COUNTIF(Paramètres!H130,\"<2\")+COUNTIF(Paramètres!I130,\"<2\")+COUNTIF(Paramètres!K130,\"<2\")+COUNTIF(Paramètres!L130,\"<2\")+COUNTIF(Paramètres!N130,\"<2\")+COUNTIF(Paramètres!O130,\"<2\"))","v":""},{"$f":"IF(A131=\"\",\"\",COUNTIF(Paramètres!B130,\">1\")+COUNTIF(Paramètres!C130,\">1\")+COUNTIF(Paramètres!E130,\">1\")+COUNTIF(Paramètres!F130,\">1\")+COUNTIF(Paramètres!H130,\">1\")+COUNTIF(Paramètres!I130,\">1\")+COUNTIF(Paramètres!K130,\">1\")+COUNTIF(Paramètres!L130,\">1\")+COUNTIF(Paramètres!N130,\">1\")+COUNTIF(Paramètres!O130,\">1\"))","v":""},{"$f":"Tableau4[[#This Row],[Attaques réussies]]/(Tableau4[[#This Row],[Oubli]]+Tableau4[[#This Row],[Attaques ratées]]+Tableau4[[#This Row],[Attaques réussies]])","v":{"$error":"#VALUE!"}}]
[{"$f":"IF(ISBLANK(Paramètres!A131),\"\",Paramètres!A131)","v":""},{"$f":"IFERROR(AVERAGE(Paramètres!B131,Paramètres!E131,Paramètres!H131,Paramètres!K131,Paramètres!N131),\"\")","v":""},{"$f":"IFERROR(AVERAGE((Paramètres!C131,Paramètres!F131,Paramètres!I131,Paramètres!L131,Paramètres!O131)),\"\")","v":""},{"$f":"IFERROR(AVERAGE((Paramètres!D131,Paramètres!G131,Paramètres!J131,Paramètres!M131,Paramètres!P131)),\"\")","v":""},{"$f":"IF(A132=\"\",\"\",COUNTIF(Paramètres!B131:C131,\"-\")+COUNTIF(Paramètres!E131:F131,\"-\")+COUNTIF(Paramètres!H131:I131,\"-\")+COUNTIF(Paramètres!K131:L131,\"-\")+COUNTIF(Paramètres!N131:O131,\"-\"))","v":""},{"$f":"IF(A132=\"\",\"\",COUNTIF(Paramètres!B131,\"<2\")+COUNTIF(Paramètres!C131,\"<2\")+COUNTIF(Paramètres!E131,\"<2\")+COUNTIF(Paramètres!F131,\"<2\")+COUNTIF(Paramètres!H131,\"<2\")+COUNTIF(Paramètres!I131,\"<2\")+COUNTIF(Paramètres!K131,\"<2\")+COUNTIF(Paramètres!L131,\"<2\")+COUNTIF(Paramètres!N131,\"<2\")+COUNTIF(Paramètres!O131,\"<2\"))","v":""},{"$f":"IF(A132=\"\",\"\",COUNTIF(Paramètres!B131,\">1\")+COUNTIF(Paramètres!C131,\">1\")+COUNTIF(Paramètres!E131,\">1\")+COUNTIF(Paramètres!F131,\">1\")+COUNTIF(Paramètres!H131,\">1\")+COUNTIF(Paramètres!I131,\">1\")+COUNTIF(Paramètres!K131,\">1\")+COUNTIF(Paramètres!L131,\">1\")+COUNTIF(Paramètres!N131,\">1\")+COUNTIF(Paramètres!O131,\">1\"))","v":""},{"$f":"Tableau4[[#This Row],[Attaques réussies]]/(Tableau4[[#This Row],[Oubli]]+Tableau4[[#This Row],[Attaques ratées]]+Tableau4[[#This Row],[Attaques réussies]])","v":{"$error":"#VALUE!"}}]
[{"$f":"IF(ISBLANK(Paramètres!A132),\"\",Paramètres!A132)","v":""},{"$f":"IFERROR(AVERAGE(Paramètres!B132,Paramètres!E132,Paramètres!H132,Paramètres!K132,Paramètres!N132),\"\")","v":""},{"$f":"IFERROR(AVERAGE((Paramètres!C132,Paramètres!F132,Paramètres!I132,Paramètres!L132,Paramètres!O132)),\"\")","v":""},{"$f":"IFERROR(AVERAGE((Paramètres!D132,Paramètres!G132,Paramètres!J132,Paramètres!M132,Paramètres!P132)),\"\")","v":""},{"$f":"IF(A133=\"\",\"\",COUNTIF(Paramètres!B132:C132,\"-\")+COUNTIF(Paramètres!E132:F132,\"-\")+COUNTIF(Paramètres!H132:I132,\"-\")+COUNTIF(Paramètres!K132:L132,\"-\")+COUNTIF(Paramètres!N132:O132,\"-\"))","v":""},{"$f":"IF(A133=\"\",\"\",COUNTIF(Paramètres!B132,\"<2\")+COUNTIF(Paramètres!C132,\"<2\")+COUNTIF(Paramètres!E132,\"<2\")+COUNTIF(Paramètres!F132,\"<2\")+COUNTIF(Paramètres!H132,\"<2\")+COUNTIF(Paramètres!I132,\"<2\")+COUNTIF(Paramètres!K132,\"<2\")+COUNTIF(Paramètres!L132,\"<2\")+COUNTIF(Paramètres!N132,\"<2\")+COUNTIF(Paramètres!O132,\"<2\"))","v":""},{"$f":"IF(A133=\"\",\"\",COUNTIF(Paramètres!B132,\">1\")+COUNTIF(Paramètres!C132,\">1\")+COUNTIF(Paramètres!E132,\">1\")+COUNTIF(Paramètres!F132,\">1\")+COUNTIF(Paramètres!H132,\">1\")+COUNTIF(Paramètres!I132,\">1\")+COUNTIF(Paramètres!K132,\">1\")+COUNTIF(Paramètres!L132,\">1\")+COUNTIF(Paramètres!N132,\">1\")+COUNTIF(Paramètres!O132,\">1\"))","v":""},{"$f":"Tableau4[[#This Row],[Attaques réussies]]/(Tableau4[[#This Row],[Oubli]]+Tableau4[[#This Row],[Attaques ratées]]+Tableau4[[#This Row],[Attaques réussies]])","v":{"$error":"#VALUE!"}}]
[{"$f":"IF(ISBLANK(Paramètres!A133),\"\",Paramètres!A133)","v":""},{"$f":"IFERROR(AVERAGE(Paramètres!B133,Paramètres!E133,Paramètres!H133,Paramètres!K133,Paramètres!N133),\"\")","v":""},{"$f":"IFERROR(AVERAGE((Paramètres!C133,Paramètres!F133,Paramètres!I133,Paramètres!L133,Paramètres!O133)),\"\")","v":""},{"$f":"IFERROR(AVERAGE((Paramètres!D133,Paramètres!G133,Paramètres!J133,Paramètres!M133,Paramètres!P133)),\"\")","v":""},{"$f":"IF(A134=\"\",\"\",COUNTIF(Paramètres!B133:C133,\"-\")+COUNTIF(Paramètres!E133:F133,\"-\")+COUNTIF(Paramètres!H133:I133,\"-\")+COUNTIF(Paramètres!K133:L133,\"-\")+COUNTIF(Paramètres!N133:O133,\"-\"))","v":""},{"$f":"IF(A134=\"\",\"\",COUNTIF(Paramètres!B133,\"<2\")+COUNTIF(Paramètres!C133,\"<2\")+COUNTIF(Paramètres!E133,\"<2\")+COUNTIF(Paramètres!F133,\"<2\")+COUNTIF(Paramètres!H133,\"<2\")+COUNTIF(Paramètres!I133,\"<2\")+COUNTIF(Paramètres!K133,\"<2\")+COUNTIF(Paramètres!L133,\"<2\")+COUNTIF(Paramètres!N133,\"<2\")+COUNTIF(Paramètres!O133,\"<2\"))","v":""},{"$f":"IF(A134=\"\",\"\",COUNTIF(Paramètres!B133,\">1\")+COUNTIF(Paramètres!C133,\">1\")+COUNTIF(Paramètres!E133,\">1\")+COUNTIF(Paramètres!F133,\">1\")+COUNTIF(Paramètres!H133,\">1\")+COUNTIF(Paramètres!I133,\">1\")+COUNTIF(Paramètres!K133,\">1\")+COUNTIF(Paramètres!L133,\">1\")+COUNTIF(Paramètres!N133,\">1\")+COUNTIF(Paramètres!O133,\">1\"))","v":""},{"$f":"Tableau4[[#This Row],[Attaques réussies]]/(Tableau4[[#This Row],[Oubli]]+Tableau4[[#This Row],[Attaques ratées]]+Tableau4[[#This Row],[Attaques réussies]])","v":{"$error":"#VALUE!"}}]
[{"$f":"IF(ISBLANK(Paramètres!A134),\"\",Paramètres!A134)","v":""},{"$f":"IFERROR(AVERAGE(Paramètres!B134,Paramètres!E134,Paramètres!H134,Paramètres!K134,Paramètres!N134),\"\")","v":""},{"$f":"IFERROR(AVERAGE((Paramètres!C134,Paramètres!F134,Paramètres!I134,Paramètres!L134,Paramètres!O134)),\"\")","v":""},{"$f":"IFERROR(AVERAGE((Paramètres!D134,Paramètres!G134,Paramètres!J134,Paramètres!M134,Paramètres!P134)),\"\")","v":""},{"$f":"IF(A135=\"\",\"\",COUNTIF(Paramètres!B134:C134,\"-\")+COUNTIF(Paramètres!E134:F134,\"-\")+COUNTIF(Paramètres!H134:I134,\"-\")+COUNTIF(Paramètres!K134:L134,\"-\")+COUNTIF(Paramètres!N134:O134,\"-\"))","v":""},{"$f":"IF(A135=\"\",\"\",COUNTIF(Paramètres!B134,\"<2\")+COUNTIF(Paramètres!C134,\"<2\")+COUNTIF(Paramètres!E134,\"<2\")+COUNTIF(Paramètres!F134,\"<2\")+COUNTIF(Paramètres!H134,\"<2\")+COUNTIF(Paramètres!I134,\"<2\")+COUNTIF(Paramètres!K134,\"<2\")+COUNTIF(Paramètres!L134,\"<2\")+COUNTIF(Paramètres!N134,\"<2\")+COUNTIF(Paramètres!O134,\"<2\"))","v":""},{"$f":"IF(A135=\"\",\"\",COUNTIF(Paramètres!B134,\">1\")+COUNTIF(Paramètres!C134,\">1\")+COUNTIF(Paramètres!E134,\">1\")+COUNTIF(Paramètres!F134,\">1\")+COUNTIF(Paramètres!H134,\">1\")+COUNTIF(Paramètres!I134,\">1\")+COUNTIF(Paramètres!K134,\">1\")+COUNTIF(Paramètres!L134,\">1\")+COUNTIF(Paramètres!N134,\">1\")+COUNTIF(Paramètres!O134,\">1\"))","v":""},{"$f":"Tableau4[[#This Row],[Attaques réussies]]/(Tableau4[[#This Row],[Oubli]]+Tableau4[[#This Row],[Attaques ratées]]+Tableau4[[#This Row],[Attaques réussies]])","v":{"$error":"#VALUE!"}}]
[{"$f":"IF(ISBLANK(Paramètres!A135),\"\",Paramètres!A135)","v":""},{"$f":"IFERROR(AVERAGE(Paramètres!B135,Paramètres!E135,Paramètres!H135,Paramètres!K135,Paramètres!N135),\"\")","v":""},{"$f":"IFERROR(AVERAGE((Paramètres!C135,Paramètres!F135,Paramètres!I135,Paramètres!L135,Paramètres!O135)),\"\")","v":""},{"$f":"IFERROR(AVERAGE((Paramètres!D135,Paramètres!G135,Paramètres!J135,Paramètres!M135,Paramètres!P135)),\"\")","v":""},{"$f":"IF(A136=\"\",\"\",COUNTIF(Paramètres!B135:C135,\"-\")+COUNTIF(Paramètres!E135:F135,\"-\")+COUNTIF(Paramètres!H135:I135,\"-\")+COUNTIF(Paramètres!K135:L135,\"-\")+COUNTIF(Paramètres!N135:O135,\"-\"))","v":""},{"$f":"IF(A136=\"\",\"\",COUNTIF(Paramètres!B135,\"<2\")+COUNTIF(Paramètres!C135,\"<2\")+COUNTIF(Paramètres!E135,\"<2\")+COUNTIF(Paramètres!F135,\"<2\")+COUNTIF(Paramètres!H135,\"<2\")+COUNTIF(Paramètres!I135,\"<2\")+COUNTIF(Paramètres!K135,\"<2\")+COUNTIF(Paramètres!L135,\"<2\")+COUNTIF(Paramètres!N135,\"<2\")+COUNTIF(Paramètres!O135,\"<2\"))","v":""},{"$f":"IF(A136=\"\",\"\",COUNTIF(Paramètres!B135,\">1\")+COUNTIF(Paramètres!C135,\">1\")+COUNTIF(Paramètres!E135,\">1\")+COUNTIF(Paramètres!F135,\">1\")+COUNTIF(Paramètres!H135,\">1\")+COUNTIF(Paramètres!I135,\">1\")+COUNTIF(Paramètres!K135,\">1\")+COUNTIF(Paramètres!L135,\">1\")+COUNTIF(Paramètres!N135,\">1\")+COUNTIF(Paramètres!O135,\">1\"))","v":""},{"$f":"Tableau4[[#This Row],[Attaques réussies]]/(Tableau4[[#This Row],[Oubli]]+Tableau4[[#This Row],[Attaques ratées]]+Tableau4[[#This Row],[Attaques réussies]])","v":{"$error":"#VALUE!"}}]
[{"$f":"IF(ISBLANK(Paramètres!A136),\"\",Paramètres!A136)","v":""},{"$f":"IFERROR(AVERAGE(Paramètres!B136,Paramètres!E136,Paramètres!H136,Paramètres!K136,Paramètres!N136),\"\")","v":""},{"$f":"IFERROR(AVERAGE((Paramètres!C136,Paramètres!F136,Paramètres!I136,Paramètres!L136,Paramètres!O136)),\"\")","v":""},{"$f":"IFERROR(AVERAGE((Paramètres!D136,Paramètres!G136,Paramètres!J136,Paramètres!M136,Paramètres!P136)),\"\")","v":""},{"$f":"IF(A137=\"\",\"\",COUNTIF(Paramètres!B136:C136,\"-\")+COUNTIF(Paramètres!E136:F136,\"-\")+COUNTIF(Paramètres!H136:I136,\"-\")+COUNTIF(Paramètres!K136:L136,\"-\")+COUNTIF(Paramètres!N136:O136,\"-\"))","v":""},{"$f":"IF(A137=\"\",\"\",COUNTIF(Paramètres!B136,\"<2\")+COUNTIF(Paramètres!C136,\"<2\")+COUNTIF(Paramètres!E136,\"<2\")+COUNTIF(Paramètres!F136,\"<2\")+COUNTIF(Paramètres!H136,\"<2\")+COUNTIF(Paramètres!I136,\"<2\")+COUNTIF(Paramètres!K136,\"<2\")+COUNTIF(Paramètres!L136,\"<2\")+COUNTIF(Paramètres!N136,\"<2\")+COUNTIF(Paramètres!O136,\"<2\"))","v":""},{"$f":"IF(A137=\"\",\"\",COUNTIF(Paramètres!B136,\">1\")+COUNTIF(Paramètres!C136,\">1\")+COUNTIF(Paramètres!E136,\">1\")+COUNTIF(Paramètres!F136,\">1\")+COUNTIF(Paramètres!H136,\">1\")+COUNTIF(Paramètres!I136,\">1\")+COUNTIF(Paramètres!K136,\">1\")+COUNTIF(Paramètres!L136,\">1\")+COUNTIF(Paramètres!N136,\">1\")+COUNTIF(Paramètres!O136,\">1\"))","v":""},{"$f":"Tableau4[[#This Row],[Attaques réussies]]/(Tableau4[[#This Row],[Oubli]]+Tableau4[[#This Row],[Attaques ratées]]+Tableau4[[#This Row],[Attaques réussies]])","v":{"$error":"#VALUE!"}}]
[{"$f":"IF(ISBLANK(Paramètres!A137),\"\",Paramètres!A137)","v":""},{"$f":"IFERROR(AVERAGE(Paramètres!B137,Paramètres!E137,Paramètres!H137,Paramètres!K137,Paramètres!N137),\"\")","v":""},{"$f":"IFERROR(AVERAGE((Paramètres!C137,Paramètres!F137,Paramètres!I137,Paramètres!L137,Paramètres!O137)),\"\")","v":""},{"$f":"IFERROR(AVERAGE((Paramètres!D137,Paramètres!G137,Paramètres!J137,Paramètres!M137,Paramètres!P137)),\"\")","v":""},{"$f":"IF(A138=\"\",\"\",COUNTIF(Paramètres!B137:C137,\"-\")+COUNTIF(Paramètres!E137:F137,\"-\")+COUNTIF(Paramètres!H137:I137,\"-\")+COUNTIF(Paramètres!K137:L137,\"-\")+COUNTIF(Paramètres!N137:O137,\"-\"))","v":""},{"$f":"IF(A138=\"\",\"\",COUNTIF(Paramètres!B137,\"<2\")+COUNTIF(Paramètres!C137,\"<2\")+COUNTIF(Paramètres!E137,\"<2\")+COUNTIF(Paramètres!F137,\"<2\")+COUNTIF(Paramètres!H137,\"<2\")+COUNTIF(Paramètres!I137,\"<2\")+COUNTIF(Paramètres!K137,\"<2\")+COUNTIF(Paramètres!L137,\"<2\")+COUNTIF(Paramètres!N137,\"<2\")+COUNTIF(Paramètres!O137,\"<2\"))","v":""},{"$f":"IF(A138=\"\",\"\",COUNTIF(Paramètres!B137,\">1\")+COUNTIF(Paramètres!C137,\">1\")+COUNTIF(Paramètres!E137,\">1\")+COUNTIF(Paramètres!F137,\">1\")+COUNTIF(Paramètres!H137,\">1\")+COUNTIF(Paramètres!I137,\">1\")+COUNTIF(Paramètres!K137,\">1\")+COUNTIF(Paramètres!L137,\">1\")+COUNTIF(Paramètres!N137,\">1\")+COUNTIF(Paramètres!O137,\">1\"))","v":""},{"$f":"Tableau4[[#This Row],[Attaques réussies]]/(Tableau4[[#This Row],[Oubli]]+Tableau4[[#This Row],[Attaques ratées]]+Tableau4[[#This Row],[Attaques réussies]])","v":{"$error":"#VALUE!"}}]
[{"$f":"IF(ISBLANK(Paramètres!A138),\"\",Paramètres!A138)","v":""},{"$f":"IFERROR(AVERAGE(Paramètres!B138,Paramètres!E138,Paramètres!H138,Paramètres!K138,Paramètres!N138),\"\")","v":""},{"$f":"IFERROR(AVERAGE((Paramètres!C138,Paramètres!F138,Paramètres!I138,Paramètres!L138,Paramètres!O138)),\"\")","v":""},{"$f":"IFERROR(AVERAGE((Paramètres!D138,Paramètres!G138,Paramètres!J138,Paramètres!M138,Paramètres!P138)),\"\")","v":""},{"$f":"IF(A139=\"\",\"\",COUNTIF(Paramètres!B138:C138,\"-\")+COUNTIF(Paramètres!E138:F138,\"-\")+COUNTIF(Paramètres!H138:I138,\"-\")+COUNTIF(Paramètres!K138:L138,\"-\")+COUNTIF(Paramètres!N138:O138,\"-\"))","v":""},{"$f":"IF(A139=\"\",\"\",COUNTIF(Paramètres!B138,\"<2\")+COUNTIF(Paramètres!C138,\"<2\")+COUNTIF(Paramètres!E138,\"<2\")+COUNTIF(Paramètres!F138,\"<2\")+COUNTIF(Paramètres!H138,\"<2\")+COUNTIF(Paramètres!I138,\"<2\")+COUNTIF(Paramètres!K138,\"<2\")+COUNTIF(Paramètres!L138,\"<2\")+COUNTIF(Paramètres!N138,\"<2\")+COUNTIF(Paramètres!O138,\"<2\"))","v":""},{"$f":"IF(A139=\"\",\"\",COUNTIF(Paramètres!B138,\">1\")+COUNTIF(Paramètres!C138,\">1\")+COUNTIF(Paramètres!E138,\">1\")+COUNTIF(Paramètres!F138,\">1\")+COUNTIF(Paramètres!H138,\">1\")+COUNTIF(Paramètres!I138,\">1\")+COUNTIF(Paramètres!K138,\">1\")+COUNTIF(Paramètres!L138,\">1\")+COUNTIF(Paramètres!N138,\">1\")+COUNTIF(Paramètres!O138,\">1\"))","v":""},{"$f":"Tableau4[[#This Row],[Attaques réussies]]/(Tableau4[[#This Row],[Oubli]]+Tableau4[[#This Row],[Attaques ratées]]+Tableau4[[#This Row],[Attaques réussies]])","v":{"$error":"#VALUE!"}}]
[{"$f":"IF(ISBLANK(Paramètres!A139),\"\",Paramètres!A139)","v":""},{"$f":"IFERROR(AVERAGE(Paramètres!B139,Paramètres!E139,Paramètres!H139,Paramètres!K139,Paramètres!N139),\"\")","v":""},{"$f":"IFERROR(AVERAGE((Paramètres!C139,Paramètres!F139,Paramètres!I139,Paramètres!L139,Paramètres!O139)),\"\")","v":""},{"$f":"IFERROR(AVERAGE((Paramètres!D139,Paramètres!G139,Paramètres!J139,Paramètres!M139,Paramètres!P139)),\"\")","v":""},{"$f":"IF(A140=\"\",\"\",COUNTIF(Paramètres!B139:C139,\"-\")+COUNTIF(Paramètres!E139:F139,\"-\")+COUNTIF(Paramètres!H139:I139,\"-\")+COUNTIF(Paramètres!K139:L139,\"-\")+COUNTIF(Paramètres!N139:O139,\"-\"))","v":""},{"$f":"IF(A140=\"\",\"\",COUNTIF(Paramètres!B139,\"<2\")+COUNTIF(Paramètres!C139,\"<2\")+COUNTIF(Paramètres!E139,\"<2\")+COUNTIF(Paramètres!F139,\"<2\")+COUNTIF(Paramètres!H139,\"<2\")+COUNTIF(Paramètres!I139,\"<2\")+COUNTIF(Paramètres!K139,\"<2\")+COUNTIF(Paramètres!L139,\"<2\")+COUNTIF(Paramètres!N139,\"<2\")+COUNTIF(Paramètres!O139,\"<2\"))","v":""},{"$f":"IF(A140=\"\",\"\",COUNTIF(Paramètres!B139,\">1\")+COUNTIF(Paramètres!C139,\">1\")+COUNTIF(Paramètres!E139,\">1\")+COUNTIF(Paramètres!F139,\">1\")+COUNTIF(Paramètres!H139,\">1\")+COUNTIF(Paramètres!I139,\">1\")+COUNTIF(Paramètres!K139,\">1\")+COUNTIF(Paramètres!L139,\">1\")+COUNTIF(Paramètres!N139,\">1\")+COUNTIF(Paramètres!O139,\">1\"))","v":""},{"$f":"Tableau4[[#This Row],[Attaques réussies]]/(Tableau4[[#This Row],[Oubli]]+Tableau4[[#This Row],[Attaques ratées]]+Tableau4[[#This Row],[Attaques réussies]])","v":{"$error":"#VALUE!"}}]
[{"$f":"IF(ISBLANK(Paramètres!A140),\"\",Paramètres!A140)","v":""},{"$f":"IFERROR(AVERAGE(Paramètres!B140,Paramètres!E140,Paramètres!H140,Paramètres!K140,Paramètres!N140),\"\")","v":""},{"$f":"IFERROR(AVERAGE((Paramètres!C140,Paramètres!F140,Paramètres!I140,Paramètres!L140,Paramètres!O140)),\"\")","v":""},{"$f":"IFERROR(AVERAGE((Paramètres!D140,Paramètres!G140,Paramètres!J140,Paramètres!M140,Paramètres!P140)),\"\")","v":""},{"$f":"IF(A141=\"\",\"\",COUNTIF(Paramètres!B140:C140,\"-\")+COUNTIF(Paramètres!E140:F140,\"-\")+COUNTIF(Paramètres!H140:I140,\"-\")+COUNTIF(Paramètres!K140:L140,\"-\")+COUNTIF(Paramètres!N140:O140,\"-\"))","v":""},{"$f":"IF(A141=\"\",\"\",COUNTIF(Paramètres!B140,\"<2\")+COUNTIF(Paramètres!C140,\"<2\")+COUNTIF(Paramètres!E140,\"<2\")+COUNTIF(Paramètres!F140,\"<2\")+COUNTIF(Paramètres!H140,\"<2\")+COUNTIF(Paramètres!I140,\"<2\")+COUNTIF(Paramètres!K140,\"<2\")+COUNTIF(Paramètres!L140,\"<2\")+COUNTIF(Paramètres!N140,\"<2\")+COUNTIF(Paramètres!O140,\"<2\"))","v":""},{"$f":"IF(A141=\"\",\"\",COUNTIF(Paramètres!B140,\">1\")+COUNTIF(Paramètres!C140,\">1\")+COUNTIF(Paramètres!E140,\">1\")+COUNTIF(Paramètres!F140,\">1\")+COUNTIF(Paramètres!H140,\">1\")+COUNTIF(Paramètres!I140,\">1\")+COUNTIF(Paramètres!K140,\">1\")+COUNTIF(Paramètres!L140,\">1\")+COUNTIF(Paramètres!N140,\">1\")+COUNTIF(Paramètres!O140,\">1\"))","v":""},{"$f":"Tableau4[[#This Row],[Attaques réussies]]/(Tableau4[[#This Row],[Oubli]]+Tableau4[[#This Row],[Attaques ratées]]+Tableau4[[#This Row],[Attaques réussies]])","v":{"$error":"#VALUE!"}}]
[{"$f":"IF(ISBLANK(Paramètres!A141),\"\",Paramètres!A141)","v":""},{"$f":"IFERROR(AVERAGE(Paramètres!B141,Paramètres!E141,Paramètres!H141,Paramètres!K141,Paramètres!N141),\"\")","v":""},{"$f":"IFERROR(AVERAGE((Paramètres!C141,Paramètres!F141,Paramètres!I141,Paramètres!L141,Paramètres!O141)),\"\")","v":""},{"$f":"IFERROR(AVERAGE((Paramètres!D141,Paramètres!G141,Paramètres!J141,Paramètres!M141,Paramètres!P141)),\"\")","v":""},{"$f":"IF(A142=\"\",\"\",COUNTIF(Paramètres!B141:C141,\"-\")+COUNTIF(Paramètres!E141:F141,\"-\")+COUNTIF(Paramètres!H141:I141,\"-\")+COUNTIF(Paramètres!K141:L141,\"-\")+COUNTIF(Paramètres!N141:O141,\"-\"))","v":""},{"$f":"IF(A142=\"\",\"\",COUNTIF(Paramètres!B141,\"<2\")+COUNTIF(Paramètres!C141,\"<2\")+COUNTIF(Paramètres!E141,\"<2\")+COUNTIF(Paramètres!F141,\"<2\")+COUNTIF(Paramètres!H141,\"<2\")+COUNTIF(Paramètres!I141,\"<2\")+COUNTIF(Paramètres!K141,\"<2\")+COUNTIF(Paramètres!L141,\"<2\")+COUNTIF(Paramètres!N141,\"<2\")+COUNTIF(Paramètres!O141,\"<2\"))","v":""},{"$f":"IF(A142=\"\",\"\",COUNTIF(Paramètres!B141,\">1\")+COUNTIF(Paramètres!C141,\">1\")+COUNTIF(Paramètres!E141,\">1\")+COUNTIF(Paramètres!F141,\">1\")+COUNTIF(Paramètres!H141,\">1\")+COUNTIF(Paramètres!I141,\">1\")+COUNTIF(Paramètres!K141,\">1\")+COUNTIF(Paramètres!L141,\">1\")+COUNTIF(Paramètres!N141,\">1\")+COUNTIF(Paramètres!O141,\">1\"))","v":""},{"$f":"Tableau4[[#This Row],[Attaques réussies]]/(Tableau4[[#This Row],[Oubli]]+Tableau4[[#This Row],[Attaques ratées]]+Tableau4[[#This Row],[Attaques réussies]])","v":{"$error":"#VALUE!"}}]
[{"$f":"IF(ISBLANK(Paramètres!A142),\"\",Paramètres!A142)","v":""},{"$f":"IFERROR(AVERAGE(Paramètres!B142,Paramètres!E142,Paramètres!H142,Paramètres!K142,Paramètres!N142),\"\")","v":""},{"$f":"IFERROR(AVERAGE((Paramètres!C142,Paramètres!F142,Paramètres!I142,Paramètres!L142,Paramètres!O142)),\"\")","v":""},{"$f":"IFERROR(AVERAGE((Paramètres!D142,Paramètres!G142,Paramètres!J142,Paramètres!M142,Paramètres!P142)),\"\")","v":""},{"$f":"IF(A143=\"\",\"\",COUNTIF(Paramètres!B142:C142,\"-\")+COUNTIF(Paramètres!E142:F142,\"-\")+COUNTIF(Paramètres!H142:I142,\"-\")+COUNTIF(Paramètres!K142:L142,\"-\")+COUNTIF(Paramètres!N142:O142,\"-\"))","v":""},{"$f":"IF(A143=\"\",\"\",COUNTIF(Paramètres!B142,\"<2\")+COUNTIF(Paramètres!C142,\"<2\")+COUNTIF(Paramètres!E142,\"<2\")+COUNTIF(Paramètres!F142,\"<2\")+COUNTIF(Paramètres!H142,\"<2\")+COUNTIF(Paramètres!I142,\"<2\")+COUNTIF(Paramètres!K142,\"<2\")+COUNTIF(Paramètres!L142,\"<2\")+COUNTIF(Paramètres!N142,\"<2\")+COUNTIF(Paramètres!O142,\"<2\"))","v":""},{"$f":"IF(A143=\"\",\"\",COUNTIF(Paramètres!B142,\">1\")+COUNTIF(Paramètres!C142,\">1\")+COUNTIF(Paramètres!E142,\">1\")+COUNTIF(Paramètres!F142,\">1\")+COUNTIF(Paramètres!H142,\">1\")+COUNTIF(Paramètres!I142,\">1\")+COUNTIF(Paramètres!K142,\">1\")+COUNTIF(Paramètres!L142,\">1\")+COUNTIF(Paramètres!N142,\">1\")+COUNTIF(Paramètres!O142,\">1\"))","v":""},{"$f":"Tableau4[[#This Row],[Attaques réussies]]/(Tableau4[[#This Row],[Oubli]]+Tableau4[[#This Row],[Attaques ratées]]+Tableau4[[#This Row],[Attaques réussies]])","v":{"$error":"#VALUE!"}}]
[{"$f":"IF(ISBLANK(Paramètres!A143),\"\",Paramètres!A143)","v":""},{"$f":"IFERROR(AVERAGE(Paramètres!B143,Paramètres!E143,Paramètres!H143,Paramètres!K143,Paramètres!N143),\"\")","v":""},{"$f":"IFERROR(AVERAGE((Paramètres!C143,Paramètres!F143,Paramètres!I143,Paramètres!L143,Paramètres!O143)),\"\")","v":""},{"$f":"IFERROR(AVERAGE((Paramètres!D143,Paramètres!G143,Paramètres!J143,Paramètres!M143,Paramètres!P143)),\"\")","v":""},{"$f":"IF(A144=\"\",\"\",COUNTIF(Paramètres!B143:C143,\"-\")+COUNTIF(Paramètres!E143:F143,\"-\")+COUNTIF(Paramètres!H143:I143,\"-\")+COUNTIF(Paramètres!K143:L143,\"-\")+COUNTIF(Paramètres!N143:O143,\"-\"))","v":""},{"$f":"IF(A144=\"\",\"\",COUNTIF(Paramètres!B143,\"<2\")+COUNTIF(Paramètres!C143,\"<2\")+COUNTIF(Paramètres!E143,\"<2\")+COUNTIF(Paramètres!F143,\"<2\")+COUNTIF(Paramètres!H143,\"<2\")+COUNTIF(Paramètres!I143,\"<2\")+COUNTIF(Paramètres!K143,\"<2\")+COUNTIF(Paramètres!L143,\"<2\")+COUNTIF(Paramètres!N143,\"<2\")+COUNTIF(Paramètres!O143,\"<2\"))","v":""},{"$f":"IF(A144=\"\",\"\",COUNTIF(Paramètres!B143,\">1\")+COUNTIF(Paramètres!C143,\">1\")+COUNTIF(Paramètres!E143,\">1\")+COUNTIF(Paramètres!F143,\">1\")+COUNTIF(Paramètres!H143,\">1\")+COUNTIF(Paramètres!I143,\">1\")+COUNTIF(Paramètres!K143,\">1\")+COUNTIF(Paramètres!L143,\">1\")+COUNTIF(Paramètres!N143,\">1\")+COUNTIF(Paramètres!O143,\">1\"))","v":""},{"$f":"Tableau4[[#This Row],[Attaques réussies]]/(Tableau4[[#This Row],[Oubli]]+Tableau4[[#This Row],[Attaques ratées]]+Tableau4[[#This Row],[Attaques réussies]])","v":{"$error":"#VALUE!"}}]
[{"$f":"IF(ISBLANK(Paramètres!A144),\"\",Paramètres!A144)","v":""},{"$f":"IFERROR(AVERAGE(Paramètres!B144,Paramètres!E144,Paramètres!H144,Paramètres!K144,Paramètres!N144),\"\")","v":""},{"$f":"IFERROR(AVERAGE((Paramètres!C144,Paramètres!F144,Paramètres!I144,Paramètres!L144,Paramètres!O144)),\"\")","v":""},{"$f":"IFERROR(AVERAGE((Paramètres!D144,Paramètres!G144,Paramètres!J144,Paramètres!M144,Paramètres!P144)),\"\")","v":""},{"$f":"IF(A145=\"\",\"\",COUNTIF(Paramètres!B144:C144,\"-\")+COUNTIF(Paramètres!E144:F144,\"-\")+COUNTIF(Paramètres!H144:I144,\"-\")+COUNTIF(Paramètres!K144:L144,\"-\")+COUNTIF(Paramètres!N144:O144,\"-\"))","v":""},{"$f":"IF(A145=\"\",\"\",COUNTIF(Paramètres!B144,\"<2\")+COUNTIF(Paramètres!C144,\"<2\")+COUNTIF(Paramètres!E144,\"<2\")+COUNTIF(Paramètres!F144,\"<2\")+COUNTIF(Paramètres!H144,\"<2\")+COUNTIF(Paramètres!I144,\"<2\")+COUNTIF(Paramètres!K144,\"<2\")+COUNTIF(Paramètres!L144,\"<2\")+COUNTIF(Paramètres!N144,\"<2\")+COUNTIF(Paramètres!O144,\"<2\"))","v":""},{"$f":"IF(A145=\"\",\"\",COUNTIF(Paramètres!B144,\">1\")+COUNTIF(Paramètres!C144,\">1\")+COUNTIF(Paramètres!E144,\">1\")+COUNTIF(Paramètres!F144,\">1\")+COUNTIF(Paramètres!H144,\">1\")+COUNTIF(Paramètres!I144,\">1\")+COUNTIF(Paramètres!K144,\">1\")+COUNTIF(Paramètres!L144,\">1\")+COUNTIF(Paramètres!N144,\">1\")+COUNTIF(Paramètres!O144,\">1\"))","v":""},{"$f":"Tableau4[[#This Row],[Attaques réussies]]/(Tableau4[[#This Row],[Oubli]]+Tableau4[[#This Row],[Attaques ratées]]+Tableau4[[#This Row],[Attaques réussies]])","v":{"$error":"#VALUE!"}}]
[{"$f":"IF(ISBLANK(Paramètres!A145),\"\",Paramètres!A145)","v":""},{"$f":"IFERROR(AVERAGE(Paramètres!B145,Paramètres!E145,Paramètres!H145,Paramètres!K145,Paramètres!N145),\"\")","v":""},{"$f":"IFERROR(AVERAGE((Paramètres!C145,Paramètres!F145,Paramètres!I145,Paramètres!L145,Paramètres!O145)),\"\")","v":""},{"$f":"IFERROR(AVERAGE((Paramètres!D145,Paramètres!G145,Paramètres!J145,Paramètres!M145,Paramètres!P145)),\"\")","v":""},{"$f":"IF(A146=\"\",\"\",COUNTIF(Paramètres!B145:C145,\"-\")+COUNTIF(Paramètres!E145:F145,\"-\")+COUNTIF(Paramètres!H145:I145,\"-\")+COUNTIF(Paramètres!K145:L145,\"-\")+COUNTIF(Paramètres!N145:O145,\"-\"))","v":""},{"$f":"IF(A146=\"\",\"\",COUNTIF(Paramètres!B145,\"<2\")+COUNTIF(Paramètres!C145,\"<2\")+COUNTIF(Paramètres!E145,\"<2\")+COUNTIF(Paramètres!F145,\"<2\")+COUNTIF(Paramètres!H145,\"<2\")+COUNTIF(Paramètres!I145,\"<2\")+COUNTIF(Paramètres!K145,\"<2\")+COUNTIF(Paramètres!L145,\"<2\")+COUNTIF(Paramètres!N145,\"<2\")+COUNTIF(Paramètres!O145,\"<2\"))","v":""},{"$f":"IF(A146=\"\",\"\",COUNTIF(Paramètres!B145,\">1\")+COUNTIF(Paramètres!C145,\">1\")+COUNTIF(Paramètres!E145,\">1\")+COUNTIF(Paramètres!F145,\">1\")+COUNTIF(Paramètres!H145,\">1\")+COUNTIF(Paramètres!I145,\">1\")+COUNTIF(Paramètres!K145,\">1\")+COUNTIF(Paramètres!L145,\">1\")+COUNTIF(Paramètres!N145,\">1\")+COUNTIF(Paramètres!O145,\">1\"))","v":""},{"$f":"Tableau4[[#This Row],[Attaques réussies]]/(Tableau4[[#This Row],[Oubli]]+Tableau4[[#This Row],[Attaques ratées]]+Tableau4[[#This Row],[Attaques réussies]])","v":{"$error":"#VALUE!"}}]
[{"$f":"IF(ISBLANK(Paramètres!A146),\"\",Paramètres!A146)","v":""},{"$f":"IFERROR(AVERAGE(Paramètres!B146,Paramètres!E146,Paramètres!H146,Paramètres!K146,Paramètres!N146),\"\")","v":""},{"$f":"IFERROR(AVERAGE((Paramètres!C146,Paramètres!F146,Paramètres!I146,Paramètres!L146,Paramètres!O146)),\"\")","v":""},{"$f":"IFERROR(AVERAGE((Paramètres!D146,Paramètres!G146,Paramètres!J146,Paramètres!M146,Paramètres!P146)),\"\")","v":""},{"$f":"IF(A147=\"\",\"\",COUNTIF(Paramètres!B146:C146,\"-\")+COUNTIF(Paramètres!E146:F146,\"-\")+COUNTIF(Paramètres!H146:I146,\"-\")+COUNTIF(Paramètres!K146:L146,\"-\")+COUNTIF(Paramètres!N146:O146,\"-\"))","v":""},{"$f":"IF(A147=\"\",\"\",COUNTIF(Paramètres!B146,\"<2\")+COUNTIF(Paramètres!C146,\"<2\")+COUNTIF(Paramètres!E146,\"<2\")+COUNTIF(Paramètres!F146,\"<2\")+COUNTIF(Paramètres!H146,\"<2\")+COUNTIF(Paramètres!I146,\"<2\")+COUNTIF(Paramètres!K146,\"<2\")+COUNTIF(Paramètres!L146,\"<2\")+COUNTIF(Paramètres!N146,\"<2\")+COUNTIF(Paramètres!O146,\"<2\"))","v":""},{"$f":"IF(A147=\"\",\"\",COUNTIF(Paramètres!B146,\">1\")+COUNTIF(Paramètres!C146,\">1\")+COUNTIF(Paramètres!E146,\">1\")+COUNTIF(Paramètres!F146,\">1\")+COUNTIF(Paramètres!H146,\">1\")+COUNTIF(Paramètres!I146,\">1\")+COUNTIF(Paramètres!K146,\">1\")+COUNTIF(Paramètres!L146,\">1\")+COUNTIF(Paramètres!N146,\">1\")+COUNTIF(Paramètres!O146,\">1\"))","v":""},{"$f":"Tableau4[[#This Row],[Attaques réussies]]/(Tableau4[[#This Row],[Oubli]]+Tableau4[[#This Row],[Attaques ratées]]+Tableau4[[#This Row],[Attaques réussies]])","v":{"$error":"#VALUE!"}}]
[{"$f":"IF(ISBLANK(Paramètres!A147),\"\",Paramètres!A147)","v":""},{"$f":"IFERROR(AVERAGE(Paramètres!B147,Paramètres!E147,Paramètres!H147,Paramètres!K147,Paramètres!N147),\"\")","v":""},{"$f":"IFERROR(AVERAGE((Paramètres!C147,Paramètres!F147,Paramètres!I147,Paramètres!L147,Paramètres!O147)),\"\")","v":""},{"$f":"IFERROR(AVERAGE((Paramètres!D147,Paramètres!G147,Paramètres!J147,Paramètres!M147,Paramètres!P147)),\"\")","v":""},{"$f":"IF(A148=\"\",\"\",COUNTIF(Paramètres!B147:C147,\"-\")+COUNTIF(Paramètres!E147:F147,\"-\")+COUNTIF(Paramètres!H147:I147,\"-\")+COUNTIF(Paramètres!K147:L147,\"-\")+COUNTIF(Paramètres!N147:O147,\"-\"))","v":""},{"$f":"IF(A148=\"\",\"\",COUNTIF(Paramètres!B147,\"<2\")+COUNTIF(Paramètres!C147,\"<2\")+COUNTIF(Paramètres!E147,\"<2\")+COUNTIF(Paramètres!F147,\"<2\")+COUNTIF(Paramètres!H147,\"<2\")+COUNTIF(Paramètres!I147,\"<2\")+COUNTIF(Paramètres!K147,\"<2\")+COUNTIF(Paramètres!L147,\"<2\")+COUNTIF(Paramètres!N147,\"<2\")+COUNTIF(Paramètres!O147,\"<2\"))","v":""},{"$f":"IF(A148=\"\",\"\",COUNTIF(Paramètres!B147,\">1\")+COUNTIF(Paramètres!C147,\">1\")+COUNTIF(Paramètres!E147,\">1\")+COUNTIF(Paramètres!F147,\">1\")+COUNTIF(Paramètres!H147,\">1\")+COUNTIF(Paramètres!I147,\">1\")+COUNTIF(Paramètres!K147,\">1\")+COUNTIF(Paramètres!L147,\">1\")+COUNTIF(Paramètres!N147,\">1\")+COUNTIF(Paramètres!O147,\">1\"))","v":""},{"$f":"Tableau4[[#This Row],[Attaques réussies]]/(Tableau4[[#This Row],[Oubli]]+Tableau4[[#This Row],[Attaques ratées]]+Tableau4[[#This Row],[Attaques réussies]])","v":{"$error":"#VALUE!"}}]
[{"$f":"IF(ISBLANK(Paramètres!A148),\"\",Paramètres!A148)","v":""},{"$f":"IFERROR(AVERAGE(Paramètres!B148,Paramètres!E148,Paramètres!H148,Paramètres!K148,Paramètres!N148),\"\")","v":""},{"$f":"IFERROR(AVERAGE((Paramètres!C148,Paramètres!F148,Paramètres!I148,Paramètres!L148,Paramètres!O148)),\"\")","v":""},{"$f":"IFERROR(AVERAGE((Paramètres!D148,Paramètres!G148,Paramètres!J148,Paramètres!M148,Paramètres!P148)),\"\")","v":""},{"$f":"IF(A149=\"\",\"\",COUNTIF(Paramètres!B148:C148,\"-\")+COUNTIF(Paramètres!E148:F148,\"-\")+COUNTIF(Paramètres!H148:I148,\"-\")+COUNTIF(Paramètres!K148:L148,\"-\")+COUNTIF(Paramètres!N148:O148,\"-\"))","v":""},{"$f":"IF(A149=\"\",\"\",COUNTIF(Paramètres!B148,\"<2\")+COUNTIF(Paramètres!C148,\"<2\")+COUNTIF(Paramètres!E148,\"<2\")+COUNTIF(Paramètres!F148,\"<2\")+COUNTIF(Paramètres!H148,\"<2\")+COUNTIF(Paramètres!I148,\"<2\")+COUNTIF(Paramètres!K148,\"<2\")+COUNTIF(Paramètres!L148,\"<2\")+COUNTIF(Paramètres!N148,\"<2\")+COUNTIF(Paramètres!O148,\"<2\"))","v":""},{"$f":"IF(A149=\"\",\"\",COUNTIF(Paramètres!B148,\">1\")+COUNTIF(Paramètres!C148,\">1\")+COUNTIF(Paramètres!E148,\">1\")+COUNTIF(Paramètres!F148,\">1\")+COUNTIF(Paramètres!H148,\">1\")+COUNTIF(Paramètres!I148,\">1\")+COUNTIF(Paramètres!K148,\">1\")+COUNTIF(Paramètres!L148,\">1\")+COUNTIF(Paramètres!N148,\">1\")+COUNTIF(Paramètres!O148,\">1\"))","v":""},{"$f":"Tableau4[[#This Row],[Attaques réussies]]/(Tableau4[[#This Row],[Oubli]]+Tableau4[[#This Row],[Attaques ratées]]+Tableau4[[#This Row],[Attaques réussies]])","v":{"$error":"#VALUE!"}}]
[{"$f":"IF(ISBLANK(Paramètres!A149),\"\",Paramètres!A149)","v":""},{"$f":"IFERROR(AVERAGE(Paramètres!B149,Paramètres!E149,Paramètres!H149,Paramètres!K149,Paramètres!N149),\"\")","v":""},{"$f":"IFERROR(AVERAGE((Paramètres!C149,Paramètres!F149,Paramètres!I149,Paramètres!L149,Paramètres!O149)),\"\")","v":""},{"$f":"IFERROR(AVERAGE((Paramètres!D149,Paramètres!G149,Paramètres!J149,Paramètres!M149,Paramètres!P149)),\"\")","v":""},{"$f":"IF(A150=\"\",\"\",COUNTIF(Paramètres!B149:C149,\"-\")+COUNTIF(Paramètres!E149:F149,\"-\")+COUNTIF(Paramètres!H149:I149,\"-\")+COUNTIF(Paramètres!K149:L149,\"-\")+COUNTIF(Paramètres!N149:O149,\"-\"))","v":""},{"$f":"IF(A150=\"\",\"\",COUNTIF(Paramètres!B149,\"<2\")+COUNTIF(Paramètres!C149,\"<2\")+COUNTIF(Paramètres!E149,\"<2\")+COUNTIF(Paramètres!F149,\"<2\")+COUNTIF(Paramètres!H149,\"<2\")+COUNTIF(Paramètres!I149,\"<2\")+COUNTIF(Paramètres!K149,\"<2\")+COUNTIF(Paramètres!L149,\"<2\")+COUNTIF(Paramètres!N149,\"<2\")+COUNTIF(Paramètres!O149,\"<2\"))","v":""},{"$f":"IF(A150=\"\",\"\",COUNTIF(Paramètres!B149,\">1\")+COUNTIF(Paramètres!C149,\">1\")+COUNTIF(Paramètres!E149,\">1\")+COUNTIF(Paramètres!F149,\">1\")+COUNTIF(Paramètres!H149,\">1\")+COUNTIF(Paramètres!I149,\">1\")+COUNTIF(Paramètres!K149,\">1\")+COUNTIF(Paramètres!L149,\">1\")+COUNTIF(Paramètres!N149,\">1\")+COUNTIF(Paramètres!O149,\">1\"))","v":""},{"$f":"Tableau4[[#This Row],[Attaques réussies]]/(Tableau4[[#This Row],[Oubli]]+Tableau4[[#This Row],[Attaques ratées]]+Tableau4[[#This Row],[Attaques réussies]])","v":{"$error":"#VALUE!"}}]
[{"$f":"IF(ISBLANK(Paramètres!A150),\"\",Paramètres!A150)","v":""},{"$f":"IFERROR(AVERAGE(Paramètres!B150,Paramètres!E150,Paramètres!H150,Paramètres!K150,Paramètres!N150),\"\")","v":""},{"$f":"IFERROR(AVERAGE((Paramètres!C150,Paramètres!F150,Paramètres!I150,Paramètres!L150,Paramètres!O150)),\"\")","v":""},{"$f":"IFERROR(AVERAGE((Paramètres!D150,Paramètres!G150,Paramètres!J150,Paramètres!M150,Paramètres!P150)),\"\")","v":""},{"$f":"IF(A151=\"\",\"\",COUNTIF(Paramètres!B150:C150,\"-\")+COUNTIF(Paramètres!E150:F150,\"-\")+COUNTIF(Paramètres!H150:I150,\"-\")+COUNTIF(Paramètres!K150:L150,\"-\")+COUNTIF(Paramètres!N150:O150,\"-\"))","v":""},{"$f":"IF(A151=\"\",\"\",COUNTIF(Paramètres!B150,\"<2\")+COUNTIF(Paramètres!C150,\"<2\")+COUNTIF(Paramètres!E150,\"<2\")+COUNTIF(Paramètres!F150,\"<2\")+COUNTIF(Paramètres!H150,\"<2\")+COUNTIF(Paramètres!I150,\"<2\")+COUNTIF(Paramètres!K150,\"<2\")+COUNTIF(Paramètres!L150,\"<2\")+COUNTIF(Paramètres!N150,\"<2\")+COUNTIF(Paramètres!O150,\"<2\"))","v":""},{"$f":"IF(A151=\"\",\"\",COUNTIF(Paramètres!B150,\">1\")+COUNTIF(Paramètres!C150,\">1\")+COUNTIF(Paramètres!E150,\">1\")+COUNTIF(Paramètres!F150,\">1\")+COUNTIF(Paramètres!H150,\">1\")+COUNTIF(Paramètres!I150,\">1\")+COUNTIF(Paramètres!K150,\">1\")+COUNTIF(Paramètres!L150,\">1\")+COUNTIF(Paramètres!N150,\">1\")+COUNTIF(Paramètres!O150,\">1\"))","v":""},{"$f":"Tableau4[[#This Row],[Attaques réussies]]/(Tableau4[[#This Row],[Oubli]]+Tableau4[[#This Row],[Attaques ratées]]+Tableau4[[#This Row],[Attaques réussies]])","v":{"$error":"#VALUE!"}}]
[{"$f":"IF(ISBLANK(Paramètres!A151),\"\",Paramètres!A151)","v":""},{"$f":"IFERROR(AVERAGE(Paramètres!B151,Paramètres!E151,Paramètres!H151,Paramètres!K151,Paramètres!N151),\"\")","v":""},{"$f":"IFERROR(AVERAGE((Paramètres!C151,Paramètres!F151,Paramètres!I151,Paramètres!L151,Paramètres!O151)),\"\")","v":""},{"$f":"IFERROR(AVERAGE((Paramètres!D151,Paramètres!G151,Paramètres!J151,Paramètres!M151,Paramètres!P151)),\"\")","v":""},{"$f":"IF(A152=\"\",\"\",COUNTIF(Paramètres!B151:C151,\"-\")+COUNTIF(Paramètres!E151:F151,\"-\")+COUNTIF(Paramètres!H151:I151,\"-\")+COUNTIF(Paramètres!K151:L151,\"-\")+COUNTIF(Paramètres!N151:O151,\"-\"))","v":""},{"$f":"IF(A152=\"\",\"\",COUNTIF(Paramètres!B151,\"<2\")+COUNTIF(Paramètres!C151,\"<2\")+COUNTIF(Paramètres!E151,\"<2\")+COUNTIF(Paramètres!F151,\"<2\")+COUNTIF(Paramètres!H151,\"<2\")+COUNTIF(Paramètres!I151,\"<2\")+COUNTIF(Paramètres!K151,\"<2\")+COUNTIF(Paramètres!L151,\"<2\")+COUNTIF(Paramètres!N151,\"<2\")+COUNTIF(Paramètres!O151,\"<2\"))","v":""},{"$f":"IF(A152=\"\",\"\",COUNTIF(Paramètres!B151,\">1\")+COUNTIF(Paramètres!C151,\">1\")+COUNTIF(Paramètres!E151,\">1\")+COUNTIF(Paramètres!F151,\">1\")+COUNTIF(Paramètres!H151,\">1\")+COUNTIF(Paramètres!I151,\">1\")+COUNTIF(Paramètres!K151,\">1\")+COUNTIF(Paramètres!L151,\">1\")+COUNTIF(Paramètres!N151,\">1\")+COUNTIF(Paramètres!O151,\">1\"))","v":""},{"$f":"Tableau4[[#This Row],[Attaques réussies]]/(Tableau4[[#This Row],[Oubli]]+Tableau4[[#This Row],[Attaques ratées]]+Tableau4[[#This Row],[Attaques réussies]])","v":{"$error":"#VALUE!"}}]
[{"$f":"IF(ISBLANK(Paramètres!A152),\"\",Paramètres!A152)","v":""},{"$f":"IFERROR(AVERAGE(Paramètres!B152,Paramètres!E152,Paramètres!H152,Paramètres!K152,Paramètres!N152),\"\")","v":""},{"$f":"IFERROR(AVERAGE((Paramètres!C152,Paramètres!F152,Paramètres!I152,Paramètres!L152,Paramètres!O152)),\"\")","v":""},{"$f":"IFERROR(AVERAGE((Paramètres!D152,Paramètres!G152,Paramètres!J152,Paramètres!M152,Paramètres!P152)),\"\")","v":""},{"$f":"IF(A153=\"\",\"\",COUNTIF(Paramètres!B152:C152,\"-\")+COUNTIF(Paramètres!E152:F152,\"-\")+COUNTIF(Paramètres!H152:I152,\"-\")+COUNTIF(Paramètres!K152:L152,\"-\")+COUNTIF(Paramètres!N152:O152,\"-\"))","v":""},{"$f":"IF(A153=\"\",\"\",COUNTIF(Paramètres!B152,\"<2\")+COUNTIF(Paramètres!C152,\"<2\")+COUNTIF(Paramètres!E152,\"<2\")+COUNTIF(Paramètres!F152,\"<2\")+COUNTIF(Paramètres!H152,\"<2\")+COUNTIF(Paramètres!I152,\"<2\")+COUNTIF(Paramètres!K152,\"<2\")+COUNTIF(Paramètres!L152,\"<2\")+COUNTIF(Paramètres!N152,\"<2\")+COUNTIF(Paramètres!O152,\"<2\"))","v":""},{"$f":"IF(A153=\"\",\"\",COUNTIF(Paramètres!B152,\">1\")+COUNTIF(Paramètres!C152,\">1\")+COUNTIF(Paramètres!E152,\">1\")+COUNTIF(Paramètres!F152,\">1\")+COUNTIF(Paramètres!H152,\">1\")+COUNTIF(Paramètres!I152,\">1\")+COUNTIF(Paramètres!K152,\">1\")+COUNTIF(Paramètres!L152,\">1\")+COUNTIF(Paramètres!N152,\">1\")+COUNTIF(Paramètres!O152,\">1\"))","v":""},{"$f":"Tableau4[[#This Row],[Attaques réussies]]/(Tableau4[[#This Row],[Oubli]]+Tableau4[[#This Row],[Attaques ratées]]+Tableau4[[#This Row],[Attaques réussies]])","v":{"$error":"#VALUE!"}}]
[{"$f":"IF(ISBLANK(Paramètres!A153),\"\",Paramètres!A153)","v":""},{"$f":"IFERROR(AVERAGE(Paramètres!B153,Paramètres!E153,Paramètres!H153,Paramètres!K153,Paramètres!N153),\"\")","v":""},{"$f":"IFERROR(AVERAGE((Paramètres!C153,Paramètres!F153,Paramètres!I153,Paramètres!L153,Paramètres!O153)),\"\")","v":""},{"$f":"IFERROR(AVERAGE((Paramètres!D153,Paramètres!G153,Paramètres!J153,Paramètres!M153,Paramètres!P153)),\"\")","v":""},{"$f":"IF(A154=\"\",\"\",COUNTIF(Paramètres!B153:C153,\"-\")+COUNTIF(Paramètres!E153:F153,\"-\")+COUNTIF(Paramètres!H153:I153,\"-\")+COUNTIF(Paramètres!K153:L153,\"-\")+COUNTIF(Paramètres!N153:O153,\"-\"))","v":""},{"$f":"IF(A154=\"\",\"\",COUNTIF(Paramètres!B153,\"<2\")+COUNTIF(Paramètres!C153,\"<2\")+COUNTIF(Paramètres!E153,\"<2\")+COUNTIF(Paramètres!F153,\"<2\")+COUNTIF(Paramètres!H153,\"<2\")+COUNTIF(Paramètres!I153,\"<2\")+COUNTIF(Paramètres!K153,\"<2\")+COUNTIF(Paramètres!L153,\"<2\")+COUNTIF(Paramètres!N153,\"<2\")+COUNTIF(Paramètres!O153,\"<2\"))","v":""},{"$f":"IF(A154=\"\",\"\",COUNTIF(Paramètres!B153,\">1\")+COUNTIF(Paramètres!C153,\">1\")+COUNTIF(Paramètres!E153,\">1\")+COUNTIF(Paramètres!F153,\">1\")+COUNTIF(Paramètres!H153,\">1\")+COUNTIF(Paramètres!I153,\">1\")+COUNTIF(Paramètres!K153,\">1\")+COUNTIF(Paramètres!L153,\">1\")+COUNTIF(Paramètres!N153,\">1\")+COUNTIF(Paramètres!O153,\">1\"))","v":""},{"$f":"Tableau4[[#This Row],[Attaques réussies]]/(Tableau4[[#This Row],[Oubli]]+Tableau4[[#This Row],[Attaques ratées]]+Tableau4[[#This Row],[Attaques réussies]])","v":{"$error":"#VALUE!"}}]
[{"$f":"IF(ISBLANK(Paramètres!A154),\"\",Paramètres!A154)","v":""},{"$f":"IFERROR(AVERAGE(Paramètres!B154,Paramètres!E154,Paramètres!H154,Paramètres!K154,Paramètres!N154),\"\")","v":""},{"$f":"IFERROR(AVERAGE((Paramètres!C154,Paramètres!F154,Paramètres!I154,Paramètres!L154,Paramètres!O154)),\"\")","v":""},{"$f":"IFERROR(AVERAGE((Paramètres!D154,Paramètres!G154,Paramètres!J154,Paramètres!M154,Paramètres!P154)),\"\")","v":""},{"$f":"IF(A155=\"\",\"\",COUNTIF(Paramètres!B154:C154,\"-\")+COUNTIF(Paramètres!E154:F154,\"-\")+COUNTIF(Paramètres!H154:I154,\"-\")+COUNTIF(Paramètres!K154:L154,\"-\")+COUNTIF(Paramètres!N154:O154,\"-\"))","v":""},{"$f":"IF(A155=\"\",\"\",COUNTIF(Paramètres!B154,\"<2\")+COUNTIF(Paramètres!C154,\"<2\")+COUNTIF(Paramètres!E154,\"<2\")+COUNTIF(Paramètres!F154,\"<2\")+COUNTIF(Paramètres!H154,\"<2\")+COUNTIF(Paramètres!I154,\"<2\")+COUNTIF(Paramètres!K154,\"<2\")+COUNTIF(Paramètres!L154,\"<2\")+COUNTIF(Paramètres!N154,\"<2\")+COUNTIF(Paramètres!O154,\"<2\"))","v":""},{"$f":"IF(A155=\"\",\"\",COUNTIF(Paramètres!B154,\">1\")+COUNTIF(Paramètres!C154,\">1\")+COUNTIF(Paramètres!E154,\">1\")+COUNTIF(Paramètres!F154,\">1\")+COUNTIF(Paramètres!H154,\">1\")+COUNTIF(Paramètres!I154,\">1\")+COUNTIF(Paramètres!K154,\">1\")+COUNTIF(Paramètres!L154,\">1\")+COUNTIF(Paramètres!N154,\">1\")+COUNTIF(Paramètres!O154,\">1\"))","v":""},{"$f":"Tableau4[[#This Row],[Attaques réussies]]/(Tableau4[[#This Row],[Oubli]]+Tableau4[[#This Row],[Attaques ratées]]+Tableau4[[#This Row],[Attaques réussies]])","v":{"$error":"#VALUE!"}}]
[{"$f":"IF(ISBLANK(Paramètres!A155),\"\",Paramètres!A155)","v":""},{"$f":"IFERROR(AVERAGE(Paramètres!B155,Paramètres!E155,Paramètres!H155,Paramètres!K155,Paramètres!N155),\"\")","v":""},{"$f":"IFERROR(AVERAGE((Paramètres!C155,Paramètres!F155,Paramètres!I155,Paramètres!L155,Paramètres!O155)),\"\")","v":""},{"$f":"IFERROR(AVERAGE((Paramètres!D155,Paramètres!G155,Paramètres!J155,Paramètres!M155,Paramètres!P155)),\"\")","v":""},{"$f":"IF(A156=\"\",\"\",COUNTIF(Paramètres!B155:C155,\"-\")+COUNTIF(Paramètres!E155:F155,\"-\")+COUNTIF(Paramètres!H155:I155,\"-\")+COUNTIF(Paramètres!K155:L155,\"-\")+COUNTIF(Paramètres!N155:O155,\"-\"))","v":""},{"$f":"IF(A156=\"\",\"\",COUNTIF(Paramètres!B155,\"<2\")+COUNTIF(Paramètres!C155,\"<2\")+COUNTIF(Paramètres!E155,\"<2\")+COUNTIF(Paramètres!F155,\"<2\")+COUNTIF(Paramètres!H155,\"<2\")+COUNTIF(Paramètres!I155,\"<2\")+COUNTIF(Paramètres!K155,\"<2\")+COUNTIF(Paramètres!L155,\"<2\")+COUNTIF(Paramètres!N155,\"<2\")+COUNTIF(Paramètres!O155,\"<2\"))","v":""},{"$f":"IF(A156=\"\",\"\",COUNTIF(Paramètres!B155,\">1\")+COUNTIF(Paramètres!C155,\">1\")+COUNTIF(Paramètres!E155,\">1\")+COUNTIF(Paramètres!F155,\">1\")+COUNTIF(Paramètres!H155,\">1\")+COUNTIF(Paramètres!I155,\">1\")+COUNTIF(Paramètres!K155,\">1\")+COUNTIF(Paramètres!L155,\">1\")+COUNTIF(Paramètres!N155,\">1\")+COUNTIF(Paramètres!O155,\">1\"))","v":""},{"$f":"Tableau4[[#This Row],[Attaques réussies]]/(Tableau4[[#This Row],[Oubli]]+Tableau4[[#This Row],[Attaques ratées]]+Tableau4[[#This Row],[Attaques réussies]])","v":{"$error":"#VALUE!"}}]
[{"$f":"IF(ISBLANK(Paramètres!A156),\"\",Paramètres!A156)","v":""},{"$f":"IFERROR(AVERAGE(Paramètres!B156,Paramètres!E156,Paramètres!H156,Paramètres!K156,Paramètres!N156),\"\")","v":""},{"$f":"IFERROR(AVERAGE((Paramètres!C156,Paramètres!F156,Paramètres!I156,Paramètres!L156,Paramètres!O156)),\"\")","v":""},{"$f":"IFERROR(AVERAGE((Paramètres!D156,Paramètres!G156,Paramètres!J156,Paramètres!M156,Paramètres!P156)),\"\")","v":""},{"$f":"IF(A157=\"\",\"\",COUNTIF(Paramètres!B156:C156,\"-\")+COUNTIF(Paramètres!E156:F156,\"-\")+COUNTIF(Paramètres!H156:I156,\"-\")+COUNTIF(Paramètres!K156:L156,\"-\")+COUNTIF(Paramètres!N156:O156,\"-\"))","v":""},{"$f":"IF(A157=\"\",\"\",COUNTIF(Paramètres!B156,\"<2\")+COUNTIF(Paramètres!C156,\"<2\")+COUNTIF(Paramètres!E156,\"<2\")+COUNTIF(Paramètres!F156,\"<2\")+COUNTIF(Paramètres!H156,\"<2\")+COUNTIF(Paramètres!I156,\"<2\")+COUNTIF(Paramètres!K156,\"<2\")+COUNTIF(Paramètres!L156,\"<2\")+COUNTIF(Paramètres!N156,\"<2\")+COUNTIF(Paramètres!O156,\"<2\"))","v":""},{"$f":"IF(A157=\"\",\"\",COUNTIF(Paramètres!B156,\">1\")+COUNTIF(Paramètres!C156,\">1\")+COUNTIF(Paramètres!E156,\">1\")+COUNTIF(Paramètres!F156,\">1\")+COUNTIF(Paramètres!H156,\">1\")+COUNTIF(Paramètres!I156,\">1\")+COUNTIF(Paramètres!K156,\">1\")+COUNTIF(Paramètres!L156,\">1\")+COUNTIF(Paramètres!N156,\">1\")+COUNTIF(Paramètres!O156,\">1\"))","v":""},{"$f":"Tableau4[[#This Row],[Attaques réussies]]/(Tableau4[[#This Row],[Oubli]]+Tableau4[[#This Row],[Attaques ratées]]+Tableau4[[#This Row],[Attaques réussies]])","v":{"$error":"#VALUE!"}}]
[{"$f":"IF(ISBLANK(Paramètres!A157),\"\",Paramètres!A157)","v":""},{"$f":"IFERROR(AVERAGE(Paramètres!B157,Paramètres!E157,Paramètres!H157,Paramètres!K157,Paramètres!N157),\"\")","v":""},{"$f":"IFERROR(AVERAGE((Paramètres!C157,Paramètres!F157,Paramètres!I157,Paramètres!L157,Paramètres!O157)),\"\")","v":""},{"$f":"IFERROR(AVERAGE((Paramètres!D157,Paramètres!G157,Paramètres!J157,Paramètres!M157,Paramètres!P157)),\"\")","v":""},{"$f":"IF(A158=\"\",\"\",COUNTIF(Paramètres!B157:C157,\"-\")+COUNTIF(Paramètres!E157:F157,\"-\")+COUNTIF(Paramètres!H157:I157,\"-\")+COUNTIF(Paramètres!K157:L157,\"-\")+COUNTIF(Paramètres!N157:O157,\"-\"))","v":""},{"$f":"IF(A158=\"\",\"\",COUNTIF(Paramètres!B157,\"<2\")+COUNTIF(Paramètres!C157,\"<2\")+COUNTIF(Paramètres!E157,\"<2\")+COUNTIF(Paramètres!F157,\"<2\")+COUNTIF(Paramètres!H157,\"<2\")+COUNTIF(Paramètres!I157,\"<2\")+COUNTIF(Paramètres!K157,\"<2\")+COUNTIF(Paramètres!L157,\"<2\")+COUNTIF(Paramètres!N157,\"<2\")+COUNTIF(Paramètres!O157,\"<2\"))","v":""},{"$f":"IF(A158=\"\",\"\",COUNTIF(Paramètres!B157,\">1\")+COUNTIF(Paramètres!C157,\">1\")+COUNTIF(Paramètres!E157,\">1\")+COUNTIF(Paramètres!F157,\">1\")+COUNTIF(Paramètres!H157,\">1\")+COUNTIF(Paramètres!I157,\">1\")+COUNTIF(Paramètres!K157,\">1\")+COUNTIF(Paramètres!L157,\">1\")+COUNTIF(Paramètres!N157,\">1\")+COUNTIF(Paramètres!O157,\">1\"))","v":""},{"$f":"Tableau4[[#This Row],[Attaques réussies]]/(Tableau4[[#This Row],[Oubli]]+Tableau4[[#This Row],[Attaques ratées]]+Tableau4[[#This Row],[Attaques réussies]])","v":{"$error":"#VALUE!"}}]
[{"$f":"IF(ISBLANK(Paramètres!A158),\"\",Paramètres!A158)","v":""},{"$f":"IFERROR(AVERAGE(Paramètres!B158,Paramètres!E158,Paramètres!H158,Paramètres!K158,Paramètres!N158),\"\")","v":""},{"$f":"IFERROR(AVERAGE((Paramètres!C158,Paramètres!F158,Paramètres!I158,Paramètres!L158,Paramètres!O158)),\"\")","v":""},{"$f":"IFERROR(AVERAGE((Paramètres!D158,Paramètres!G158,Paramètres!J158,Paramètres!M158,Paramètres!P158)),\"\")","v":""},{"$f":"IF(A159=\"\",\"\",COUNTIF(Paramètres!B158:C158,\"-\")+COUNTIF(Paramètres!E158:F158,\"-\")+COUNTIF(Paramètres!H158:I158,\"-\")+COUNTIF(Paramètres!K158:L158,\"-\")+COUNTIF(Paramètres!N158:O158,\"-\"))","v":""},{"$f":"IF(A159=\"\",\"\",COUNTIF(Paramètres!B158,\"<2\")+COUNTIF(Paramètres!C158,\"<2\")+COUNTIF(Paramètres!E158,\"<2\")+COUNTIF(Paramètres!F158,\"<2\")+COUNTIF(Paramètres!H158,\"<2\")+COUNTIF(Paramètres!I158,\"<2\")+COUNTIF(Paramètres!K158,\"<2\")+COUNTIF(Paramètres!L158,\"<2\")+COUNTIF(Paramètres!N158,\"<2\")+COUNTIF(Paramètres!O158,\"<2\"))","v":""},{"$f":"IF(A159=\"\",\"\",COUNTIF(Paramètres!B158,\">1\")+COUNTIF(Paramètres!C158,\">1\")+COUNTIF(Paramètres!E158,\">1\")+COUNTIF(Paramètres!F158,\">1\")+COUNTIF(Paramètres!H158,\">1\")+COUNTIF(Paramètres!I158,\">1\")+COUNTIF(Paramètres!K158,\">1\")+COUNTIF(Paramètres!L158,\">1\")+COUNTIF(Paramètres!N158,\">1\")+COUNTIF(Paramètres!O158,\">1\"))","v":""},{"$f":"Tableau4[[#This Row],[Attaques réussies]]/(Tableau4[[#This Row],[Oubli]]+Tableau4[[#This Row],[Attaques ratées]]+Tableau4[[#This Row],[Attaques réussies]])","v":{"$error":"#VALUE!"}}]
[{"$f":"IF(ISBLANK(Paramètres!A159),\"\",Paramètres!A159)","v":""},{"$f":"IFERROR(AVERAGE(Paramètres!B159,Paramètres!E159,Paramètres!H159,Paramètres!K159,Paramètres!N159),\"\")","v":""},{"$f":"IFERROR(AVERAGE((Paramètres!C159,Paramètres!F159,Paramètres!I159,Paramètres!L159,Paramètres!O159)),\"\")","v":""},{"$f":"IFERROR(AVERAGE((Paramètres!D159,Paramètres!G159,Paramètres!J159,Paramètres!M159,Paramètres!P159)),\"\")","v":""},{"$f":"IF(A160=\"\",\"\",COUNTIF(Paramètres!B159:C159,\"-\")+COUNTIF(Paramètres!E159:F159,\"-\")+COUNTIF(Paramètres!H159:I159,\"-\")+COUNTIF(Paramètres!K159:L159,\"-\")+COUNTIF(Paramètres!N159:O159,\"-\"))","v":""},{"$f":"IF(A160=\"\",\"\",COUNTIF(Paramètres!B159,\"<2\")+COUNTIF(Paramètres!C159,\"<2\")+COUNTIF(Paramètres!E159,\"<2\")+COUNTIF(Paramètres!F159,\"<2\")+COUNTIF(Paramètres!H159,\"<2\")+COUNTIF(Paramètres!I159,\"<2\")+COUNTIF(Paramètres!K159,\"<2\")+COUNTIF(Paramètres!L159,\"<2\")+COUNTIF(Paramètres!N159,\"<2\")+COUNTIF(Paramètres!O159,\"<2\"))","v":""},{"$f":"IF(A160=\"\",\"\",COUNTIF(Paramètres!B159,\">1\")+COUNTIF(Paramètres!C159,\">1\")+COUNTIF(Paramètres!E159,\">1\")+COUNTIF(Paramètres!F159,\">1\")+COUNTIF(Paramètres!H159,\">1\")+COUNTIF(Paramètres!I159,\">1\")+COUNTIF(Paramètres!K159,\">1\")+COUNTIF(Paramètres!L159,\">1\")+COUNTIF(Paramètres!N159,\">1\")+COUNTIF(Paramètres!O159,\">1\"))","v":""},{"$f":"Tableau4[[#This Row],[Attaques réussies]]/(Tableau4[[#This Row],[Oubli]]+Tableau4[[#This Row],[Attaques ratées]]+Tableau4[[#This Row],[Attaques réussies]])","v":{"$error":"#VALUE!"}}]
[{"$f":"IF(ISBLANK(Paramètres!A160),\"\",Paramètres!A160)","v":""},{"$f":"IFERROR(AVERAGE(Paramètres!B160,Paramètres!E160,Paramètres!H160,Paramètres!K160,Paramètres!N160),\"\")","v":""},{"$f":"IFERROR(AVERAGE((Paramètres!C160,Paramètres!F160,Paramètres!I160,Paramètres!L160,Paramètres!O160)),\"\")","v":""},{"$f":"IFERROR(AVERAGE((Paramètres!D160,Paramètres!G160,Paramètres!J160,Paramètres!M160,Paramètres!P160)),\"\")","v":""},{"$f":"IF(A161=\"\",\"\",COUNTIF(Paramètres!B160:C160,\"-\")+COUNTIF(Paramètres!E160:F160,\"-\")+COUNTIF(Paramètres!H160:I160,\"-\")+COUNTIF(Paramètres!K160:L160,\"-\")+COUNTIF(Paramètres!N160:O160,\"-\"))","v":""},{"$f":"IF(A161=\"\",\"\",COUNTIF(Paramètres!B160,\"<2\")+COUNTIF(Paramètres!C160,\"<2\")+COUNTIF(Paramètres!E160,\"<2\")+COUNTIF(Paramètres!F160,\"<2\")+COUNTIF(Paramètres!H160,\"<2\")+COUNTIF(Paramètres!I160,\"<2\")+COUNTIF(Paramètres!K160,\"<2\")+COUNTIF(Paramètres!L160,\"<2\")+COUNTIF(Paramètres!N160,\"<2\")+COUNTIF(Paramètres!O160,\"<2\"))","v":""},{"$f":"IF(A161=\"\",\"\",COUNTIF(Paramètres!B160,\">1\")+COUNTIF(Paramètres!C160,\">1\")+COUNTIF(Paramètres!E160,\">1\")+COUNTIF(Paramètres!F160,\">1\")+COUNTIF(Paramètres!H160,\">1\")+COUNTIF(Paramètres!I160,\">1\")+COUNTIF(Paramètres!K160,\">1\")+COUNTIF(Paramètres!L160,\">1\")+COUNTIF(Paramètres!N160,\">1\")+COUNTIF(Paramètres!O160,\">1\"))","v":""},{"$f":"Tableau4[[#This Row],[Attaques réussies]]/(Tableau4[[#This Row],[Oubli]]+Tableau4[[#This Row],[Attaques ratées]]+Tableau4[[#This Row],[Attaques réussies]])","v":{"$error":"#VALUE!"}}]
[{"$f":"IF(ISBLANK(Paramètres!A161),\"\",Paramètres!A161)","v":""},{"$f":"IFERROR(AVERAGE(Paramètres!B161,Paramètres!E161,Paramètres!H161,Paramètres!K161,Paramètres!N161),\"\")","v":""},{"$f":"IFERROR(AVERAGE((Paramètres!C161,Paramètres!F161,Paramètres!I161,Paramètres!L161,Paramètres!O161)),\"\")","v":""},{"$f":"IFERROR(AVERAGE((Paramètres!D161,Paramètres!G161,Paramètres!J161,Paramètres!M161,Paramètres!P161)),\"\")","v":""},{"$f":"IF(A162=\"\",\"\",COUNTIF(Paramètres!B161:C161,\"-\")+COUNTIF(Paramètres!E161:F161,\"-\")+COUNTIF(Paramètres!H161:I161,\"-\")+COUNTIF(Paramètres!K161:L161,\"-\")+COUNTIF(Paramètres!N161:O161,\"-\"))","v":""},{"$f":"IF(A162=\"\",\"\",COUNTIF(Paramètres!B161,\"<2\")+COUNTIF(Paramètres!C161,\"<2\")+COUNTIF(Paramètres!E161,\"<2\")+COUNTIF(Paramètres!F161,\"<2\")+COUNTIF(Paramètres!H161,\"<2\")+COUNTIF(Paramètres!I161,\"<2\")+COUNTIF(Paramètres!K161,\"<2\")+COUNTIF(Paramètres!L161,\"<2\")+COUNTIF(Paramètres!N161,\"<2\")+COUNTIF(Paramètres!O161,\"<2\"))","v":""},{"$f":"IF(A162=\"\",\"\",COUNTIF(Paramètres!B161,\">1\")+COUNTIF(Paramètres!C161,\">1\")+COUNTIF(Paramètres!E161,\">1\")+COUNTIF(Paramètres!F161,\">1\")+COUNTIF(Paramètres!H161,\">1\")+COUNTIF(Paramètres!I161,\">1\")+COUNTIF(Paramètres!K161,\">1\")+COUNTIF(Paramètres!L161,\">1\")+COUNTIF(Paramètres!N161,\">1\")+COUNTIF(Paramètres!O161,\">1\"))","v":""},{"$f":"Tableau4[[#This Row],[Attaques réussies]]/(Tableau4[[#This Row],[Oubli]]+Tableau4[[#This Row],[Attaques ratées]]+Tableau4[[#This Row],[Attaques réussies]])","v":{"$error":"#VALUE!"}}]
[{"$f":"IF(ISBLANK(Paramètres!A162),\"\",Paramètres!A162)","v":""},{"$f":"IFERROR(AVERAGE(Paramètres!B162,Paramètres!E162,Paramètres!H162,Paramètres!K162,Paramètres!N162),\"\")","v":""},{"$f":"IFERROR(AVERAGE((Paramètres!C162,Paramètres!F162,Paramètres!I162,Paramètres!L162,Paramètres!O162)),\"\")","v":""},{"$f":"IFERROR(AVERAGE((Paramètres!D162,Paramètres!G162,Paramètres!J162,Paramètres!M162,Paramètres!P162)),\"\")","v":""},{"$f":"IF(A163=\"\",\"\",COUNTIF(Paramètres!B162:C162,\"-\")+COUNTIF(Paramètres!E162:F162,\"-\")+COUNTIF(Paramètres!H162:I162,\"-\")+COUNTIF(Paramètres!K162:L162,\"-\")+COUNTIF(Paramètres!N162:O162,\"-\"))","v":""},{"$f":"IF(A163=\"\",\"\",COUNTIF(Paramètres!B162,\"<2\")+COUNTIF(Paramètres!C162,\"<2\")+COUNTIF(Paramètres!E162,\"<2\")+COUNTIF(Paramètres!F162,\"<2\")+COUNTIF(Paramètres!H162,\"<2\")+COUNTIF(Paramètres!I162,\"<2\")+COUNTIF(Paramètres!K162,\"<2\")+COUNTIF(Paramètres!L162,\"<2\")+COUNTIF(Paramètres!N162,\"<2\")+COUNTIF(Paramètres!O162,\"<2\"))","v":""},{"$f":"IF(A163=\"\",\"\",COUNTIF(Paramètres!B162,\">1\")+COUNTIF(Paramètres!C162,\">1\")+COUNTIF(Paramètres!E162,\">1\")+COUNTIF(Paramètres!F162,\">1\")+COUNTIF(Paramètres!H162,\">1\")+COUNTIF(Paramètres!I162,\">1\")+COUNTIF(Paramètres!K162,\">1\")+COUNTIF(Paramètres!L162,\">1\")+COUNTIF(Paramètres!N162,\">1\")+COUNTIF(Paramètres!O162,\">1\"))","v":""},{"$f":"Tableau4[[#This Row],[Attaques réussies]]/(Tableau4[[#This Row],[Oubli]]+Tableau4[[#This Row],[Attaques ratées]]+Tableau4[[#This Row],[Attaques réussies]])","v":{"$error":"#VALUE!"}}]
[{"$f":"IF(ISBLANK(Paramètres!A163),\"\",Paramètres!A163)","v":""},{"$f":"IFERROR(AVERAGE(Paramètres!B163,Paramètres!E163,Paramètres!H163,Paramètres!K163,Paramètres!N163),\"\")","v":""},{"$f":"IFERROR(AVERAGE((Paramètres!C163,Paramètres!F163,Paramètres!I163,Paramètres!L163,Paramètres!O163)),\"\")","v":""},{"$f":"IFERROR(AVERAGE((Paramètres!D163,Paramètres!G163,Paramètres!J163,Paramètres!M163,Paramètres!P163)),\"\")","v":""},{"$f":"IF(A164=\"\",\"\",COUNTIF(Paramètres!B163:C163,\"-\")+COUNTIF(Paramètres!E163:F163,\"-\")+COUNTIF(Paramètres!H163:I163,\"-\")+COUNTIF(Paramètres!K163:L163,\"-\")+COUNTIF(Paramètres!N163:O163,\"-\"))","v":""},{"$f":"IF(A164=\"\",\"\",COUNTIF(Paramètres!B163,\"<2\")+COUNTIF(Paramètres!C163,\"<2\")+COUNTIF(Paramètres!E163,\"<2\")+COUNTIF(Paramètres!F163,\"<2\")+COUNTIF(Paramètres!H163,\"<2\")+COUNTIF(Paramètres!I163,\"<2\")+COUNTIF(Paramètres!K163,\"<2\")+COUNTIF(Paramètres!L163,\"<2\")+COUNTIF(Paramètres!N163,\"<2\")+COUNTIF(Paramètres!O163,\"<2\"))","v":""},{"$f":"IF(A164=\"\",\"\",COUNTIF(Paramètres!B163,\">1\")+COUNTIF(Paramètres!C163,\">1\")+COUNTIF(Paramètres!E163,\">1\")+COUNTIF(Paramètres!F163,\">1\")+COUNTIF(Paramètres!H163,\">1\")+COUNTIF(Paramètres!I163,\">1\")+COUNTIF(Paramètres!K163,\">1\")+COUNTIF(Paramètres!L163,\">1\")+COUNTIF(Paramètres!N163,\">1\")+COUNTIF(Paramètres!O163,\">1\"))","v":""},{"$f":"Tableau4[[#This Row],[Attaques réussies]]/(Tableau4[[#This Row],[Oubli]]+Tableau4[[#This Row],[Attaques ratées]]+Tableau4[[#This Row],[Attaques réussies]])","v":{"$error":"#VALUE!"}}]
[{"$f":"IF(ISBLANK(Paramètres!A164),\"\",Paramètres!A164)","v":""},{"$f":"IFERROR(AVERAGE(Paramètres!B164,Paramètres!E164,Paramètres!H164,Paramètres!K164,Paramètres!N164),\"\")","v":""},{"$f":"IFERROR(AVERAGE((Paramètres!C164,Paramètres!F164,Paramètres!I164,Paramètres!L164,Paramètres!O164)),\"\")","v":""},{"$f":"IFERROR(AVERAGE((Paramètres!D164,Paramètres!G164,Paramètres!J164,Paramètres!M164,Paramètres!P164)),\"\")","v":""},{"$f":"IF(A165=\"\",\"\",COUNTIF(Paramètres!B164:C164,\"-\")+COUNTIF(Paramètres!E164:F164,\"-\")+COUNTIF(Paramètres!H164:I164,\"-\")+COUNTIF(Paramètres!K164:L164,\"-\")+COUNTIF(Paramètres!N164:O164,\"-\"))","v":""},{"$f":"IF(A165=\"\",\"\",COUNTIF(Paramètres!B164,\"<2\")+COUNTIF(Paramètres!C164,\"<2\")+COUNTIF(Paramètres!E164,\"<2\")+COUNTIF(Paramètres!F164,\"<2\")+COUNTIF(Paramètres!H164,\"<2\")+COUNTIF(Paramètres!I164,\"<2\")+COUNTIF(Paramètres!K164,\"<2\")+COUNTIF(Paramètres!L164,\"<2\")+COUNTIF(Paramètres!N164,\"<2\")+COUNTIF(Paramètres!O164,\"<2\"))","v":""},{"$f":"IF(A165=\"\",\"\",COUNTIF(Paramètres!B164,\">1\")+COUNTIF(Paramètres!C164,\">1\")+COUNTIF(Paramètres!E164,\">1\")+COUNTIF(Paramètres!F164,\">1\")+COUNTIF(Paramètres!H164,\">1\")+COUNTIF(Paramètres!I164,\">1\")+COUNTIF(Paramètres!K164,\">1\")+COUNTIF(Paramètres!L164,\">1\")+COUNTIF(Paramètres!N164,\">1\")+COUNTIF(Paramètres!O164,\">1\"))","v":""},{"$f":"Tableau4[[#This Row],[Attaques réussies]]/(Tableau4[[#This Row],[Oubli]]+Tableau4[[#This Row],[Attaques ratées]]+Tableau4[[#This Row],[Attaques réussies]])","v":{"$error":"#VALUE!"}}]
[{"$f":"IF(ISBLANK(Paramètres!A165),\"\",Paramètres!A165)","v":""},{"$f":"IFERROR(AVERAGE(Paramètres!B165,Paramètres!E165,Paramètres!H165,Paramètres!K165,Paramètres!N165),\"\")","v":""},{"$f":"IFERROR(AVERAGE((Paramètres!C165,Paramètres!F165,Paramètres!I165,Paramètres!L165,Paramètres!O165)),\"\")","v":""},{"$f":"IFERROR(AVERAGE((Paramètres!D165,Paramètres!G165,Paramètres!J165,Paramètres!M165,Paramètres!P165)),\"\")","v":""},{"$f":"IF(A166=\"\",\"\",COUNTIF(Paramètres!B165:C165,\"-\")+COUNTIF(Paramètres!E165:F165,\"-\")+COUNTIF(Paramètres!H165:I165,\"-\")+COUNTIF(Paramètres!K165:L165,\"-\")+COUNTIF(Paramètres!N165:O165,\"-\"))","v":""},{"$f":"IF(A166=\"\",\"\",COUNTIF(Paramètres!B165,\"<2\")+COUNTIF(Paramètres!C165,\"<2\")+COUNTIF(Paramètres!E165,\"<2\")+COUNTIF(Paramètres!F165,\"<2\")+COUNTIF(Paramètres!H165,\"<2\")+COUNTIF(Paramètres!I165,\"<2\")+COUNTIF(Paramètres!K165,\"<2\")+COUNTIF(Paramètres!L165,\"<2\")+COUNTIF(Paramètres!N165,\"<2\")+COUNTIF(Paramètres!O165,\"<2\"))","v":""},{"$f":"IF(A166=\"\",\"\",COUNTIF(Paramètres!B165,\">1\")+COUNTIF(Paramètres!C165,\">1\")+COUNTIF(Paramètres!E165,\">1\")+COUNTIF(Paramètres!F165,\">1\")+COUNTIF(Paramètres!H165,\">1\")+COUNTIF(Paramètres!I165,\">1\")+COUNTIF(Paramètres!K165,\">1\")+COUNTIF(Paramètres!L165,\">1\")+COUNTIF(Paramètres!N165,\">1\")+COUNTIF(Paramètres!O165,\">1\"))","v":""},{"$f":"Tableau4[[#This Row],[Attaques réussies]]/(Tableau4[[#This Row],[Oubli]]+Tableau4[[#This Row],[Attaques ratées]]+Tableau4[[#This Row],[Attaques réussies]])","v":{"$error":"#VALUE!"}}]
[{"$f":"IF(ISBLANK(Paramètres!A166),\"\",Paramètres!A166)","v":""},{"$f":"IFERROR(AVERAGE(Paramètres!B166,Paramètres!E166,Paramètres!H166,Paramètres!K166,Paramètres!N166),\"\")","v":""},{"$f":"IFERROR(AVERAGE((Paramètres!C166,Paramètres!F166,Paramètres!I166,Paramètres!L166,Paramètres!O166)),\"\")","v":""},{"$f":"IFERROR(AVERAGE((Paramètres!D166,Paramètres!G166,Paramètres!J166,Paramètres!M166,Paramètres!P166)),\"\")","v":""},{"$f":"IF(A167=\"\",\"\",COUNTIF(Paramètres!B166:C166,\"-\")+COUNTIF(Paramètres!E166:F166,\"-\")+COUNTIF(Paramètres!H166:I166,\"-\")+COUNTIF(Paramètres!K166:L166,\"-\")+COUNTIF(Paramètres!N166:O166,\"-\"))","v":""},{"$f":"IF(A167=\"\",\"\",COUNTIF(Paramètres!B166,\"<2\")+COUNTIF(Paramètres!C166,\"<2\")+COUNTIF(Paramètres!E166,\"<2\")+COUNTIF(Paramètres!F166,\"<2\")+COUNTIF(Paramètres!H166,\"<2\")+COUNTIF(Paramètres!I166,\"<2\")+COUNTIF(Paramètres!K166,\"<2\")+COUNTIF(Paramètres!L166,\"<2\")+COUNTIF(Paramètres!N166,\"<2\")+COUNTIF(Paramètres!O166,\"<2\"))","v":""},{"$f":"IF(A167=\"\",\"\",COUNTIF(Paramètres!B166,\">1\")+COUNTIF(Paramètres!C166,\">1\")+COUNTIF(Paramètres!E166,\">1\")+COUNTIF(Paramètres!F166,\">1\")+COUNTIF(Paramètres!H166,\">1\")+COUNTIF(Paramètres!I166,\">1\")+COUNTIF(Paramètres!K166,\">1\")+COUNTIF(Paramètres!L166,\">1\")+COUNTIF(Paramètres!N166,\">1\")+COUNTIF(Paramètres!O166,\">1\"))","v":""},{"$f":"Tableau4[[#This Row],[Attaques réussies]]/(Tableau4[[#This Row],[Oubli]]+Tableau4[[#This Row],[Attaques ratées]]+Tableau4[[#This Row],[Attaques réussies]])","v":{"$error":"#VALUE!"}}]
[{"$f":"IF(ISBLANK(Paramètres!A167),\"\",Paramètres!A167)","v":""},{"$f":"IFERROR(AVERAGE(Paramètres!B167,Paramètres!E167,Paramètres!H167,Paramètres!K167,Paramètres!N167),\"\")","v":""},{"$f":"IFERROR(AVERAGE((Paramètres!C167,Paramètres!F167,Paramètres!I167,Paramètres!L167,Paramètres!O167)),\"\")","v":""},{"$f":"IFERROR(AVERAGE((Paramètres!D167,Paramètres!G167,Paramètres!J167,Paramètres!M167,Paramètres!P167)),\"\")","v":""},{"$f":"IF(A168=\"\",\"\",COUNTIF(Paramètres!B167:C167,\"-\")+COUNTIF(Paramètres!E167:F167,\"-\")+COUNTIF(Paramètres!H167:I167,\"-\")+COUNTIF(Paramètres!K167:L167,\"-\")+COUNTIF(Paramètres!N167:O167,\"-\"))","v":""},{"$f":"IF(A168=\"\",\"\",COUNTIF(Paramètres!B167,\"<2\")+COUNTIF(Paramètres!C167,\"<2\")+COUNTIF(Paramètres!E167,\"<2\")+COUNTIF(Paramètres!F167,\"<2\")+COUNTIF(Paramètres!H167,\"<2\")+COUNTIF(Paramètres!I167,\"<2\")+COUNTIF(Paramètres!K167,\"<2\")+COUNTIF(Paramètres!L167,\"<2\")+COUNTIF(Paramètres!N167,\"<2\")+COUNTIF(Paramètres!O167,\"<2\"))","v":""},{"$f":"IF(A168=\"\",\"\",COUNTIF(Paramètres!B167,\">1\")+COUNTIF(Paramètres!C167,\">1\")+COUNTIF(Paramètres!E167,\">1\")+COUNTIF(Paramètres!F167,\">1\")+COUNTIF(Paramètres!H167,\">1\")+COUNTIF(Paramètres!I167,\">1\")+COUNTIF(Paramètres!K167,\">1\")+COUNTIF(Paramètres!L167,\">1\")+COUNTIF(Paramètres!N167,\">1\")+COUNTIF(Paramètres!O167,\">1\"))","v":""},{"$f":"Tableau4[[#This Row],[Attaques réussies]]/(Tableau4[[#This Row],[Oubli]]+Tableau4[[#This Row],[Attaques ratées]]+Tableau4[[#This Row],[Attaques réussies]])","v":{"$error":"#VALUE!"}}]
[{"$f":"IF(ISBLANK(Paramètres!A168),\"\",Paramètres!A168)","v":""},{"$f":"IFERROR(AVERAGE(Paramètres!B168,Paramètres!E168,Paramètres!H168,Paramètres!K168,Paramètres!N168),\"\")","v":""},{"$f":"IFERROR(AVERAGE((Paramètres!C168,Paramètres!F168,Paramètres!I168,Paramètres!L168,Paramètres!O168)),\"\")","v":""},{"$f":"IFERROR(AVERAGE((Paramètres!D168,Paramètres!G168,Paramètres!J168,Paramètres!M168,Paramètres!P168)),\"\")","v":""},{"$f":"IF(A169=\"\",\"\",COUNTIF(Paramètres!B168:C168,\"-\")+COUNTIF(Paramètres!E168:F168,\"-\")+COUNTIF(Paramètres!H168:I168,\"-\")+COUNTIF(Paramètres!K168:L168,\"-\")+COUNTIF(Paramètres!N168:O168,\"-\"))","v":""},{"$f":"IF(A169=\"\",\"\",COUNTIF(Paramètres!B168,\"<2\")+COUNTIF(Paramètres!C168,\"<2\")+COUNTIF(Paramètres!E168,\"<2\")+COUNTIF(Paramètres!F168,\"<2\")+COUNTIF(Paramètres!H168,\"<2\")+COUNTIF(Paramètres!I168,\"<2\")+COUNTIF(Paramètres!K168,\"<2\")+COUNTIF(Paramètres!L168,\"<2\")+COUNTIF(Paramètres!N168,\"<2\")+COUNTIF(Paramètres!O168,\"<2\"))","v":""},{"$f":"IF(A169=\"\",\"\",COUNTIF(Paramètres!B168,\">1\")+COUNTIF(Paramètres!C168,\">1\")+COUNTIF(Paramètres!E168,\">1\")+COUNTIF(Paramètres!F168,\">1\")+COUNTIF(Paramètres!H168,\">1\")+COUNTIF(Paramètres!I168,\">1\")+COUNTIF(Paramètres!K168,\">1\")+COUNTIF(Paramètres!L168,\">1\")+COUNTIF(Paramètres!N168,\">1\")+COUNTIF(Paramètres!O168,\">1\"))","v":""},{"$f":"Tableau4[[#This Row],[Attaques réussies]]/(Tableau4[[#This Row],[Oubli]]+Tableau4[[#This Row],[Attaques ratées]]+Tableau4[[#This Row],[Attaques réussies]])","v":{"$error":"#VALUE!"}}]
[{"$f":"IF(ISBLANK(Paramètres!A169),\"\",Paramètres!A169)","v":""},{"$f":"IFERROR(AVERAGE(Paramètres!B169,Paramètres!E169,Paramètres!H169,Paramètres!K169,Paramètres!N169),\"\")","v":""},{"$f":"IFERROR(AVERAGE((Paramètres!C169,Paramètres!F169,Paramètres!I169,Paramètres!L169,Paramètres!O169)),\"\")","v":""},{"$f":"IFERROR(AVERAGE((Paramètres!D169,Paramètres!G169,Paramètres!J169,Paramètres!M169,Paramètres!P169)),\"\")","v":""},{"$f":"IF(A170=\"\",\"\",COUNTIF(Paramètres!B169:C169,\"-\")+COUNTIF(Paramètres!E169:F169,\"-\")+COUNTIF(Paramètres!H169:I169,\"-\")+COUNTIF(Paramètres!K169:L169,\"-\")+COUNTIF(Paramètres!N169:O169,\"-\"))","v":""},{"$f":"IF(A170=\"\",\"\",COUNTIF(Paramètres!B169,\"<2\")+COUNTIF(Paramètres!C169,\"<2\")+COUNTIF(Paramètres!E169,\"<2\")+COUNTIF(Paramètres!F169,\"<2\")+COUNTIF(Paramètres!H169,\"<2\")+COUNTIF(Paramètres!I169,\"<2\")+COUNTIF(Paramètres!K169,\"<2\")+COUNTIF(Paramètres!L169,\"<2\")+COUNTIF(Paramètres!N169,\"<2\")+COUNTIF(Paramètres!O169,\"<2\"))","v":""},{"$f":"IF(A170=\"\",\"\",COUNTIF(Paramètres!B169,\">1\")+COUNTIF(Paramètres!C169,\">1\")+COUNTIF(Paramètres!E169,\">1\")+COUNTIF(Paramètres!F169,\">1\")+COUNTIF(Paramètres!H169,\">1\")+COUNTIF(Paramètres!I169,\">1\")+COUNTIF(Paramètres!K169,\">1\")+COUNTIF(Paramètres!L169,\">1\")+COUNTIF(Paramètres!N169,\">1\")+COUNTIF(Paramètres!O169,\">1\"))","v":""},{"$f":"Tableau4[[#This Row],[Attaques réussies]]/(Tableau4[[#This Row],[Oubli]]+Tableau4[[#This Row],[Attaques ratées]]+Tableau4[[#This Row],[Attaques réussies]])","v":{"$error":"#VALUE!"}}]
[{"$f":"IF(ISBLANK(Paramètres!A170),\"\",Paramètres!A170)","v":""},{"$f":"IFERROR(AVERAGE(Paramètres!B170,Paramètres!E170,Paramètres!H170,Paramètres!K170,Paramètres!N170),\"\")","v":""},{"$f":"IFERROR(AVERAGE((Paramètres!C170,Paramètres!F170,Paramètres!I170,Paramètres!L170,Paramètres!O170)),\"\")","v":""},{"$f":"IFERROR(AVERAGE((Paramètres!D170,Paramètres!G170,Paramètres!J170,Paramètres!M170,Paramètres!P170)),\"\")","v":""},{"$f":"IF(A171=\"\",\"\",COUNTIF(Paramètres!B170:C170,\"-\")+COUNTIF(Paramètres!E170:F170,\"-\")+COUNTIF(Paramètres!H170:I170,\"-\")+COUNTIF(Paramètres!K170:L170,\"-\")+COUNTIF(Paramètres!N170:O170,\"-\"))","v":""},{"$f":"IF(A171=\"\",\"\",COUNTIF(Paramètres!B170,\"<2\")+COUNTIF(Paramètres!C170,\"<2\")+COUNTIF(Paramètres!E170,\"<2\")+COUNTIF(Paramètres!F170,\"<2\")+COUNTIF(Paramètres!H170,\"<2\")+COUNTIF(Paramètres!I170,\"<2\")+COUNTIF(Paramètres!K170,\"<2\")+COUNTIF(Paramètres!L170,\"<2\")+COUNTIF(Paramètres!N170,\"<2\")+COUNTIF(Paramètres!O170,\"<2\"))","v":""},{"$f":"IF(A171=\"\",\"\",COUNTIF(Paramètres!B170,\">1\")+COUNTIF(Paramètres!C170,\">1\")+COUNTIF(Paramètres!E170,\">1\")+COUNTIF(Paramètres!F170,\">1\")+COUNTIF(Paramètres!H170,\">1\")+COUNTIF(Paramètres!I170,\">1\")+COUNTIF(Paramètres!K170,\">1\")+COUNTIF(Paramètres!L170,\">1\")+COUNTIF(Paramètres!N170,\">1\")+COUNTIF(Paramètres!O170,\">1\"))","v":""},{"$f":"Tableau4[[#This Row],[Attaques réussies]]/(Tableau4[[#This Row],[Oubli]]+Tableau4[[#This Row],[Attaques ratées]]+Tableau4[[#This Row],[Attaques réussies]])","v":{"$error":"#VALUE!"}}]
[{"$f":"IF(ISBLANK(Paramètres!A171),\"\",Paramètres!A171)","v":""},{"$f":"IFERROR(AVERAGE(Paramètres!B171,Paramètres!E171,Paramètres!H171,Paramètres!K171,Paramètres!N171),\"\")","v":""},{"$f":"IFERROR(AVERAGE((Paramètres!C171,Paramètres!F171,Paramètres!I171,Paramètres!L171,Paramètres!O171)),\"\")","v":""},{"$f":"IFERROR(AVERAGE((Paramètres!D171,Paramètres!G171,Paramètres!J171,Paramètres!M171,Paramètres!P171)),\"\")","v":""},{"$f":"IF(A172=\"\",\"\",COUNTIF(Paramètres!B171:C171,\"-\")+COUNTIF(Paramètres!E171:F171,\"-\")+COUNTIF(Paramètres!H171:I171,\"-\")+COUNTIF(Paramètres!K171:L171,\"-\")+COUNTIF(Paramètres!N171:O171,\"-\"))","v":""},{"$f":"IF(A172=\"\",\"\",COUNTIF(Paramètres!B171,\"<2\")+COUNTIF(Paramètres!C171,\"<2\")+COUNTIF(Paramètres!E171,\"<2\")+COUNTIF(Paramètres!F171,\"<2\")+COUNTIF(Paramètres!H171,\"<2\")+COUNTIF(Paramètres!I171,\"<2\")+COUNTIF(Paramètres!K171,\"<2\")+COUNTIF(Paramètres!L171,\"<2\")+COUNTIF(Paramètres!N171,\"<2\")+COUNTIF(Paramètres!O171,\"<2\"))","v":""},{"$f":"IF(A172=\"\",\"\",COUNTIF(Paramètres!B171,\">1\")+COUNTIF(Paramètres!C171,\">1\")+COUNTIF(Paramètres!E171,\">1\")+COUNTIF(Paramètres!F171,\">1\")+COUNTIF(Paramètres!H171,\">1\")+COUNTIF(Paramètres!I171,\">1\")+COUNTIF(Paramètres!K171,\">1\")+COUNTIF(Paramètres!L171,\">1\")+COUNTIF(Paramètres!N171,\">1\")+COUNTIF(Paramètres!O171,\">1\"))","v":""},{"$f":"Tableau4[[#This Row],[Attaques réussies]]/(Tableau4[[#This Row],[Oubli]]+Tableau4[[#This Row],[Attaques ratées]]+Tableau4[[#This Row],[Attaques réussies]])","v":{"$error":"#VALUE!"}}]
[{"$f":"IF(ISBLANK(Paramètres!A172),\"\",Paramètres!A172)","v":""},{"$f":"IFERROR(AVERAGE(Paramètres!B172,Paramètres!E172,Paramètres!H172,Paramètres!K172,Paramètres!N172),\"\")","v":""},{"$f":"IFERROR(AVERAGE((Paramètres!C172,Paramètres!F172,Paramètres!I172,Paramètres!L172,Paramètres!O172)),\"\")","v":""},{"$f":"IFERROR(AVERAGE((Paramètres!D172,Paramètres!G172,Paramètres!J172,Paramètres!M172,Paramètres!P172)),\"\")","v":""},{"$f":"IF(A173=\"\",\"\",COUNTIF(Paramètres!B172:C172,\"-\")+COUNTIF(Paramètres!E172:F172,\"-\")+COUNTIF(Paramètres!H172:I172,\"-\")+COUNTIF(Paramètres!K172:L172,\"-\")+COUNTIF(Paramètres!N172:O172,\"-\"))","v":""},{"$f":"IF(A173=\"\",\"\",COUNTIF(Paramètres!B172,\"<2\")+COUNTIF(Paramètres!C172,\"<2\")+COUNTIF(Paramètres!E172,\"<2\")+COUNTIF(Paramètres!F172,\"<2\")+COUNTIF(Paramètres!H172,\"<2\")+COUNTIF(Paramètres!I172,\"<2\")+COUNTIF(Paramètres!K172,\"<2\")+COUNTIF(Paramètres!L172,\"<2\")+COUNTIF(Paramètres!N172,\"<2\")+COUNTIF(Paramètres!O172,\"<2\"))","v":""},{"$f":"IF(A173=\"\",\"\",COUNTIF(Paramètres!B172,\">1\")+COUNTIF(Paramètres!C172,\">1\")+COUNTIF(Paramètres!E172,\">1\")+COUNTIF(Paramètres!F172,\">1\")+COUNTIF(Paramètres!H172,\">1\")+COUNTIF(Paramètres!I172,\">1\")+COUNTIF(Paramètres!K172,\">1\")+COUNTIF(Paramètres!L172,\">1\")+COUNTIF(Paramètres!N172,\">1\")+COUNTIF(Paramètres!O172,\">1\"))","v":""},{"$f":"Tableau4[[#This Row],[Attaques réussies]]/(Tableau4[[#This Row],[Oubli]]+Tableau4[[#This Row],[Attaques ratées]]+Tableau4[[#This Row],[Attaques réussies]])","v":{"$error":"#VALUE!"}}]
[{"$f":"IF(ISBLANK(Paramètres!A173),\"\",Paramètres!A173)","v":""},{"$f":"IFERROR(AVERAGE(Paramètres!B173,Paramètres!E173,Paramètres!H173,Paramètres!K173,Paramètres!N173),\"\")","v":""},{"$f":"IFERROR(AVERAGE((Paramètres!C173,Paramètres!F173,Paramètres!I173,Paramètres!L173,Paramètres!O173)),\"\")","v":""},{"$f":"IFERROR(AVERAGE((Paramètres!D173,Paramètres!G173,Paramètres!J173,Paramètres!M173,Paramètres!P173)),\"\")","v":""},{"$f":"IF(A174=\"\",\"\",COUNTIF(Paramètres!B173:C173,\"-\")+COUNTIF(Paramètres!E173:F173,\"-\")+COUNTIF(Paramètres!H173:I173,\"-\")+COUNTIF(Paramètres!K173:L173,\"-\")+COUNTIF(Paramètres!N173:O173,\"-\"))","v":""},{"$f":"IF(A174=\"\",\"\",COUNTIF(Paramètres!B173,\"<2\")+COUNTIF(Paramètres!C173,\"<2\")+COUNTIF(Paramètres!E173,\"<2\")+COUNTIF(Paramètres!F173,\"<2\")+COUNTIF(Paramètres!H173,\"<2\")+COUNTIF(Paramètres!I173,\"<2\")+COUNTIF(Paramètres!K173,\"<2\")+COUNTIF(Paramètres!L173,\"<2\")+COUNTIF(Paramètres!N173,\"<2\")+COUNTIF(Paramètres!O173,\"<2\"))","v":""},{"$f":"IF(A174=\"\",\"\",COUNTIF(Paramètres!B173,\">1\")+COUNTIF(Paramètres!C173,\">1\")+COUNTIF(Paramètres!E173,\">1\")+COUNTIF(Paramètres!F173,\">1\")+COUNTIF(Paramètres!H173,\">1\")+COUNTIF(Paramètres!I173,\">1\")+COUNTIF(Paramètres!K173,\">1\")+COUNTIF(Paramètres!L173,\">1\")+COUNTIF(Paramètres!N173,\">1\")+COUNTIF(Paramètres!O173,\">1\"))","v":""},{"$f":"Tableau4[[#This Row],[Attaques réussies]]/(Tableau4[[#This Row],[Oubli]]+Tableau4[[#This Row],[Attaques ratées]]+Tableau4[[#This Row],[Attaques réussies]])","v":{"$error":"#VALUE!"}}]
[{"$f":"IF(ISBLANK(Paramètres!A174),\"\",Paramètres!A174)","v":""},{"$f":"IFERROR(AVERAGE(Paramètres!B174,Paramètres!E174,Paramètres!H174,Paramètres!K174,Paramètres!N174),\"\")","v":""},{"$f":"IFERROR(AVERAGE((Paramètres!C174,Paramètres!F174,Paramètres!I174,Paramètres!L174,Paramètres!O174)),\"\")","v":""},{"$f":"IFERROR(AVERAGE((Paramètres!D174,Paramètres!G174,Paramètres!J174,Paramètres!M174,Paramètres!P174)),\"\")","v":""},{"$f":"IF(A175=\"\",\"\",COUNTIF(Paramètres!B174:C174,\"-\")+COUNTIF(Paramètres!E174:F174,\"-\")+COUNTIF(Paramètres!H174:I174,\"-\")+COUNTIF(Paramètres!K174:L174,\"-\")+COUNTIF(Paramètres!N174:O174,\"-\"))","v":""},{"$f":"IF(A175=\"\",\"\",COUNTIF(Paramètres!B174,\"<2\")+COUNTIF(Paramètres!C174,\"<2\")+COUNTIF(Paramètres!E174,\"<2\")+COUNTIF(Paramètres!F174,\"<2\")+COUNTIF(Paramètres!H174,\"<2\")+COUNTIF(Paramètres!I174,\"<2\")+COUNTIF(Paramètres!K174,\"<2\")+COUNTIF(Paramètres!L174,\"<2\")+COUNTIF(Paramètres!N174,\"<2\")+COUNTIF(Paramètres!O174,\"<2\"))","v":""},{"$f":"IF(A175=\"\",\"\",COUNTIF(Paramètres!B174,\">1\")+COUNTIF(Paramètres!C174,\">1\")+COUNTIF(Paramètres!E174,\">1\")+COUNTIF(Paramètres!F174,\">1\")+COUNTIF(Paramètres!H174,\">1\")+COUNTIF(Paramètres!I174,\">1\")+COUNTIF(Paramètres!K174,\">1\")+COUNTIF(Paramètres!L174,\">1\")+COUNTIF(Paramètres!N174,\">1\")+COUNTIF(Paramètres!O174,\">1\"))","v":""},{"$f":"Tableau4[[#This Row],[Attaques réussies]]/(Tableau4[[#This Row],[Oubli]]+Tableau4[[#This Row],[Attaques ratées]]+Tableau4[[#This Row],[Attaques réussies]])","v":{"$error":"#VALUE!"}}]
[{"$f":"IF(ISBLANK(Paramètres!A175),\"\",Paramètres!A175)","v":""},{"$f":"IFERROR(AVERAGE(Paramètres!B175,Paramètres!E175,Paramètres!H175,Paramètres!K175,Paramètres!N175),\"\")","v":""},{"$f":"IFERROR(AVERAGE((Paramètres!C175,Paramètres!F175,Paramètres!I175,Paramètres!L175,Paramètres!O175)),\"\")","v":""},{"$f":"IFERROR(AVERAGE((Paramètres!D175,Paramètres!G175,Paramètres!J175,Paramètres!M175,Paramètres!P175)),\"\")","v":""},{"$f":"IF(A176=\"\",\"\",COUNTIF(Paramètres!B175:C175,\"-\")+COUNTIF(Paramètres!E175:F175,\"-\")+COUNTIF(Paramètres!H175:I175,\"-\")+COUNTIF(Paramètres!K175:L175,\"-\")+COUNTIF(Paramètres!N175:O175,\"-\"))","v":""},{"$f":"IF(A176=\"\",\"\",COUNTIF(Paramètres!B175,\"<2\")+COUNTIF(Paramètres!C175,\"<2\")+COUNTIF(Paramètres!E175,\"<2\")+COUNTIF(Paramètres!F175,\"<2\")+COUNTIF(Paramètres!H175,\"<2\")+COUNTIF(Paramètres!I175,\"<2\")+COUNTIF(Paramètres!K175,\"<2\")+COUNTIF(Paramètres!L175,\"<2\")+COUNTIF(Paramètres!N175,\"<2\")+COUNTIF(Paramètres!O175,\"<2\"))","v":""},{"$f":"IF(A176=\"\",\"\",COUNTIF(Paramètres!B175,\">1\")+COUNTIF(Paramètres!C175,\">1\")+COUNTIF(Paramètres!E175,\">1\")+COUNTIF(Paramètres!F175,\">1\")+COUNTIF(Paramètres!H175,\">1\")+COUNTIF(Paramètres!I175,\">1\")+COUNTIF(Paramètres!K175,\">1\")+COUNTIF(Paramètres!L175,\">1\")+COUNTIF(Paramètres!N175,\">1\")+COUNTIF(Paramètres!O175,\">1\"))","v":""},{"$f":"Tableau4[[#This Row],[Attaques réussies]]/(Tableau4[[#This Row],[Oubli]]+Tableau4[[#This Row],[Attaques ratées]]+Tableau4[[#This Row],[Attaques réussies]])","v":{"$error":"#VALUE!"}}]
[{"$f":"IF(ISBLANK(Paramètres!A176),\"\",Paramètres!A176)","v":""},{"$f":"IFERROR(AVERAGE(Paramètres!B176,Paramètres!E176,Paramètres!H176,Paramètres!K176,Paramètres!N176),\"\")","v":""},{"$f":"IFERROR(AVERAGE((Paramètres!C176,Paramètres!F176,Paramètres!I176,Paramètres!L176,Paramètres!O176)),\"\")","v":""},{"$f":"IFERROR(AVERAGE((Paramètres!D176,Paramètres!G176,Paramètres!J176,Paramètres!M176,Paramètres!P176)),\"\")","v":""},{"$f":"IF(A177=\"\",\"\",COUNTIF(Paramètres!B176:C176,\"-\")+COUNTIF(Paramètres!E176:F176,\"-\")+COUNTIF(Paramètres!H176:I176,\"-\")+COUNTIF(Paramètres!K176:L176,\"-\")+COUNTIF(Paramètres!N176:O176,\"-\"))","v":""},{"$f":"IF(A177=\"\",\"\",COUNTIF(Paramètres!B176,\"<2\")+COUNTIF(Paramètres!C176,\"<2\")+COUNTIF(Paramètres!E176,\"<2\")+COUNTIF(Paramètres!F176,\"<2\")+COUNTIF(Paramètres!H176,\"<2\")+COUNTIF(Paramètres!I176,\"<2\")+COUNTIF(Paramètres!K176,\"<2\")+COUNTIF(Paramètres!L176,\"<2\")+COUNTIF(Paramètres!N176,\"<2\")+COUNTIF(Paramètres!O176,\"<2\"))","v":""},{"$f":"IF(A177=\"\",\"\",COUNTIF(Paramètres!B176,\">1\")+COUNTIF(Paramètres!C176,\">1\")+COUNTIF(Paramètres!E176,\">1\")+COUNTIF(Paramètres!F176,\">1\")+COUNTIF(Paramètres!H176,\">1\")+COUNTIF(Paramètres!I176,\">1\")+COUNTIF(Paramètres!K176,\">1\")+COUNTIF(Paramètres!L176,\">1\")+COUNTIF(Paramètres!N176,\">1\")+COUNTIF(Paramètres!O176,\">1\"))","v":""},{"$f":"Tableau4[[#This Row],[Attaques réussies]]/(Tableau4[[#This Row],[Oubli]]+Tableau4[[#This Row],[Attaques ratées]]+Tableau4[[#This Row],[Attaques réussies]])","v":{"$error":"#VALUE!"}}]
[{"$f":"IF(ISBLANK(Paramètres!A177),\"\",Paramètres!A177)","v":""},{"$f":"IFERROR(AVERAGE(Paramètres!B177,Paramètres!E177,Paramètres!H177,Paramètres!K177,Paramètres!N177),\"\")","v":""},{"$f":"IFERROR(AVERAGE((Paramètres!C177,Paramètres!F177,Paramètres!I177,Paramètres!L177,Paramètres!O177)),\"\")","v":""},{"$f":"IFERROR(AVERAGE((Paramètres!D177,Paramètres!G177,Paramètres!J177,Paramètres!M177,Paramètres!P177)),\"\")","v":""},{"$f":"IF(A178=\"\",\"\",COUNTIF(Paramètres!B177:C177,\"-\")+COUNTIF(Paramètres!E177:F177,\"-\")+COUNTIF(Paramètres!H177:I177,\"-\")+COUNTIF(Paramètres!K177:L177,\"-\")+COUNTIF(Paramètres!N177:O177,\"-\"))","v":""},{"$f":"IF(A178=\"\",\"\",COUNTIF(Paramètres!B177,\"<2\")+COUNTIF(Paramètres!C177,\"<2\")+COUNTIF(Paramètres!E177,\"<2\")+COUNTIF(Paramètres!F177,\"<2\")+COUNTIF(Paramètres!H177,\"<2\")+COUNTIF(Paramètres!I177,\"<2\")+COUNTIF(Paramètres!K177,\"<2\")+COUNTIF(Paramètres!L177,\"<2\")+COUNTIF(Paramètres!N177,\"<2\")+COUNTIF(Paramètres!O177,\"<2\"))","v":""},{"$f":"IF(A178=\"\",\"\",COUNTIF(Paramètres!B177,\">1\")+COUNTIF(Paramètres!C177,\">1\")+COUNTIF(Paramètres!E177,\">1\")+COUNTIF(Paramètres!F177,\">1\")+COUNTIF(Paramètres!H177,\">1\")+COUNTIF(Paramètres!I177,\">1\")+COUNTIF(Paramètres!K177,\">1\")+COUNTIF(Paramètres!L177,\">1\")+COUNTIF(Paramètres!N177,\">1\")+COUNTIF(Paramètres!O177,\">1\"))","v":""},{"$f":"Tableau4[[#This Row],[Attaques réussies]]/(Tableau4[[#This Row],[Oubli]]+Tableau4[[#This Row],[Attaques ratées]]+Tableau4[[#This Row],[Attaques réussies]])","v":{"$error":"#VALUE!"}}]
[{"$f":"IF(ISBLANK(Paramètres!A178),\"\",Paramètres!A178)","v":""},{"$f":"IFERROR(AVERAGE(Paramètres!B178,Paramètres!E178,Paramètres!H178,Paramètres!K178,Paramètres!N178),\"\")","v":""},{"$f":"IFERROR(AVERAGE((Paramètres!C178,Paramètres!F178,Paramètres!I178,Paramètres!L178,Paramètres!O178)),\"\")","v":""},{"$f":"IFERROR(AVERAGE((Paramètres!D178,Paramètres!G178,Paramètres!J178,Paramètres!M178,Paramètres!P178)),\"\")","v":""},{"$f":"IF(A179=\"\",\"\",COUNTIF(Paramètres!B178:C178,\"-\")+COUNTIF(Paramètres!E178:F178,\"-\")+COUNTIF(Paramètres!H178:I178,\"-\")+COUNTIF(Paramètres!K178:L178,\"-\")+COUNTIF(Paramètres!N178:O178,\"-\"))","v":""},{"$f":"IF(A179=\"\",\"\",COUNTIF(Paramètres!B178,\"<2\")+COUNTIF(Paramètres!C178,\"<2\")+COUNTIF(Paramètres!E178,\"<2\")+COUNTIF(Paramètres!F178,\"<2\")+COUNTIF(Paramètres!H178,\"<2\")+COUNTIF(Paramètres!I178,\"<2\")+COUNTIF(Paramètres!K178,\"<2\")+COUNTIF(Paramètres!L178,\"<2\")+COUNTIF(Paramètres!N178,\"<2\")+COUNTIF(Paramètres!O178,\"<2\"))","v":""},{"$f":"IF(A179=\"\",\"\",COUNTIF(Paramètres!B178,\">1\")+COUNTIF(Paramètres!C178,\">1\")+COUNTIF(Paramètres!E178,\">1\")+COUNTIF(Paramètres!F178,\">1\")+COUNTIF(Paramètres!H178,\">1\")+COUNTIF(Paramètres!I178,\">1\")+COUNTIF(Paramètres!K178,\">1\")+COUNTIF(Paramètres!L178,\">1\")+COUNTIF(Paramètres!N178,\">1\")+COUNTIF(Paramètres!O178,\">1\"))","v":""},{"$f":"Tableau4[[#This Row],[Attaques réussies]]/(Tableau4[[#This Row],[Oubli]]+Tableau4[[#This Row],[Attaques ratées]]+Tableau4[[#This Row],[Attaques réussies]])","v":{"$error":"#VALUE!"}}]
[{"$f":"IF(ISBLANK(Paramètres!A179),\"\",Paramètres!A179)","v":""},{"$f":"IFERROR(AVERAGE(Paramètres!B179,Paramètres!E179,Paramètres!H179,Paramètres!K179,Paramètres!N179),\"\")","v":""},{"$f":"IFERROR(AVERAGE((Paramètres!C179,Paramètres!F179,Paramètres!I179,Paramètres!L179,Paramètres!O179)),\"\")","v":""},{"$f":"IFERROR(AVERAGE((Paramètres!D179,Paramètres!G179,Paramètres!J179,Paramètres!M179,Paramètres!P179)),\"\")","v":""},{"$f":"IF(A180=\"\",\"\",COUNTIF(Paramètres!B179:C179,\"-\")+COUNTIF(Paramètres!E179:F179,\"-\")+COUNTIF(Paramètres!H179:I179,\"-\")+COUNTIF(Paramètres!K179:L179,\"-\")+COUNTIF(Paramètres!N179:O179,\"-\"))","v":""},{"$f":"IF(A180=\"\",\"\",COUNTIF(Paramètres!B179,\"<2\")+COUNTIF(Paramètres!C179,\"<2\")+COUNTIF(Paramètres!E179,\"<2\")+COUNTIF(Paramètres!F179,\"<2\")+COUNTIF(Paramètres!H179,\"<2\")+COUNTIF(Paramètres!I179,\"<2\")+COUNTIF(Paramètres!K179,\"<2\")+COUNTIF(Paramètres!L179,\"<2\")+COUNTIF(Paramètres!N179,\"<2\")+COUNTIF(Paramètres!O179,\"<2\"))","v":""},{"$f":"IF(A180=\"\",\"\",COUNTIF(Paramètres!B179,\">1\")+COUNTIF(Paramètres!C179,\">1\")+COUNTIF(Paramètres!E179,\">1\")+COUNTIF(Paramètres!F179,\">1\")+COUNTIF(Paramètres!H179,\">1\")+COUNTIF(Paramètres!I179,\">1\")+COUNTIF(Paramètres!K179,\">1\")+COUNTIF(Paramètres!L179,\">1\")+COUNTIF(Paramètres!N179,\">1\")+COUNTIF(Paramètres!O179,\">1\"))","v":""},{"$f":"Tableau4[[#This Row],[Attaques réussies]]/(Tableau4[[#This Row],[Oubli]]+Tableau4[[#This Row],[Attaques ratées]]+Tableau4[[#This Row],[Attaques réussies]])","v":{"$error":"#VALUE!"}}]
[{"$f":"IF(ISBLANK(Paramètres!A180),\"\",Paramètres!A180)","v":""},{"$f":"IFERROR(AVERAGE(Paramètres!B180,Paramètres!E180,Paramètres!H180,Paramètres!K180,Paramètres!N180),\"\")","v":""},{"$f":"IFERROR(AVERAGE((Paramètres!C180,Paramètres!F180,Paramètres!I180,Paramètres!L180,Paramètres!O180)),\"\")","v":""},{"$f":"IFERROR(AVERAGE((Paramètres!D180,Paramètres!G180,Paramètres!J180,Paramètres!M180,Paramètres!P180)),\"\")","v":""},{"$f":"IF(A181=\"\",\"\",COUNTIF(Paramètres!B180:C180,\"-\")+COUNTIF(Paramètres!E180:F180,\"-\")+COUNTIF(Paramètres!H180:I180,\"-\")+COUNTIF(Paramètres!K180:L180,\"-\")+COUNTIF(Paramètres!N180:O180,\"-\"))","v":""},{"$f":"IF(A181=\"\",\"\",COUNTIF(Paramètres!B180,\"<2\")+COUNTIF(Paramètres!C180,\"<2\")+COUNTIF(Paramètres!E180,\"<2\")+COUNTIF(Paramètres!F180,\"<2\")+COUNTIF(Paramètres!H180,\"<2\")+COUNTIF(Paramètres!I180,\"<2\")+COUNTIF(Paramètres!K180,\"<2\")+COUNTIF(Paramètres!L180,\"<2\")+COUNTIF(Paramètres!N180,\"<2\")+COUNTIF(Paramètres!O180,\"<2\"))","v":""},{"$f":"IF(A181=\"\",\"\",COUNTIF(Paramètres!B180,\">1\")+COUNTIF(Paramètres!C180,\">1\")+COUNTIF(Paramètres!E180,\">1\")+COUNTIF(Paramètres!F180,\">1\")+COUNTIF(Paramètres!H180,\">1\")+COUNTIF(Paramètres!I180,\">1\")+COUNTIF(Paramètres!K180,\">1\")+COUNTIF(Paramètres!L180,\">1\")+COUNTIF(Paramètres!N180,\">1\")+COUNTIF(Paramètres!O180,\">1\"))","v":""},{"$f":"Tableau4[[#This Row],[Attaques réussies]]/(Tableau4[[#This Row],[Oubli]]+Tableau4[[#This Row],[Attaques ratées]]+Tableau4[[#This Row],[Attaques réussies]])","v":{"$error":"#VALUE!"}}]
[{"$f":"IF(ISBLANK(Paramètres!A181),\"\",Paramètres!A181)","v":""},{"$f":"IFERROR(AVERAGE(Paramètres!B181,Paramètres!E181,Paramètres!H181,Paramètres!K181,Paramètres!N181),\"\")","v":""},{"$f":"IFERROR(AVERAGE((Paramètres!C181,Paramètres!F181,Paramètres!I181,Paramètres!L181,Paramètres!O181)),\"\")","v":""},{"$f":"IFERROR(AVERAGE((Paramètres!D181,Paramètres!G181,Paramètres!J181,Paramètres!M181,Paramètres!P181)),\"\")","v":""},{"$f":"IF(A182=\"\",\"\",COUNTIF(Paramètres!B181:C181,\"-\")+COUNTIF(Paramètres!E181:F181,\"-\")+COUNTIF(Paramètres!H181:I181,\"-\")+COUNTIF(Paramètres!K181:L181,\"-\")+COUNTIF(Paramètres!N181:O181,\"-\"))","v":""},{"$f":"IF(A182=\"\",\"\",COUNTIF(Paramètres!B181,\"<2\")+COUNTIF(Paramètres!C181,\"<2\")+COUNTIF(Paramètres!E181,\"<2\")+COUNTIF(Paramètres!F181,\"<2\")+COUNTIF(Paramètres!H181,\"<2\")+COUNTIF(Paramètres!I181,\"<2\")+COUNTIF(Paramètres!K181,\"<2\")+COUNTIF(Paramètres!L181,\"<2\")+COUNTIF(Paramètres!N181,\"<2\")+COUNTIF(Paramètres!O181,\"<2\"))","v":""},{"$f":"IF(A182=\"\",\"\",COUNTIF(Paramètres!B181,\">1\")+COUNTIF(Paramètres!C181,\">1\")+COUNTIF(Paramètres!E181,\">1\")+COUNTIF(Paramètres!F181,\">1\")+COUNTIF(Paramètres!H181,\">1\")+COUNTIF(Paramètres!I181,\">1\")+COUNTIF(Paramètres!K181,\">1\")+COUNTIF(Paramètres!L181,\">1\")+COUNTIF(Paramètres!N181,\">1\")+COUNTIF(Paramètres!O181,\">1\"))","v":""},{"$f":"Tableau4[[#This Row],[Attaques réussies]]/(Tableau4[[#This Row],[Oubli]]+Tableau4[[#This Row],[Attaques ratées]]+Tableau4[[#This Row],[Attaques réussies]])","v":{"$error":"#VALUE!"}}]
[{"$f":"IF(ISBLANK(Paramètres!A182),\"\",Paramètres!A182)","v":""},{"$f":"IFERROR(AVERAGE(Paramètres!B182,Paramètres!E182,Paramètres!H182,Paramètres!K182,Paramètres!N182),\"\")","v":""},{"$f":"IFERROR(AVERAGE((Paramètres!C182,Paramètres!F182,Paramètres!I182,Paramètres!L182,Paramètres!O182)),\"\")","v":""},{"$f":"IFERROR(AVERAGE((Paramètres!D182,Paramètres!G182,Paramètres!J182,Paramètres!M182,Paramètres!P182)),\"\")","v":""},{"$f":"IF(A183=\"\",\"\",COUNTIF(Paramètres!B182:C182,\"-\")+COUNTIF(Paramètres!E182:F182,\"-\")+COUNTIF(Paramètres!H182:I182,\"-\")+COUNTIF(Paramètres!K182:L182,\"-\")+COUNTIF(Paramètres!N182:O182,\"-\"))","v":""},{"$f":"IF(A183=\"\",\"\",COUNTIF(Paramètres!B182,\"<2\")+COUNTIF(Paramètres!C182,\"<2\")+COUNTIF(Paramètres!E182,\"<2\")+COUNTIF(Paramètres!F182,\"<2\")+COUNTIF(Paramètres!H182,\"<2\")+COUNTIF(Paramètres!I182,\"<2\")+COUNTIF(Paramètres!K182,\"<2\")+COUNTIF(Paramètres!L182,\"<2\")+COUNTIF(Paramètres!N182,\"<2\")+COUNTIF(Paramètres!O182,\"<2\"))","v":""},{"$f":"IF(A183=\"\",\"\",COUNTIF(Paramètres!B182,\">1\")+COUNTIF(Paramètres!C182,\">1\")+COUNTIF(Paramètres!E182,\">1\")+COUNTIF(Paramètres!F182,\">1\")+COUNTIF(Paramètres!H182,\">1\")+COUNTIF(Paramètres!I182,\">1\")+COUNTIF(Paramètres!K182,\">1\")+COUNTIF(Paramètres!L182,\">1\")+COUNTIF(Paramètres!N182,\">1\")+COUNTIF(Paramètres!O182,\">1\"))","v":""},{"$f":"Tableau4[[#This Row],[Attaques réussies]]/(Tableau4[[#This Row],[Oubli]]+Tableau4[[#This Row],[Attaques ratées]]+Tableau4[[#This Row],[Attaques réussies]])","v":{"$error":"#VALUE!"}}]
[{"$f":"IF(ISBLANK(Paramètres!A183),\"\",Paramètres!A183)","v":""},{"$f":"IFERROR(AVERAGE(Paramètres!B183,Paramètres!E183,Paramètres!H183,Paramètres!K183,Paramètres!N183),\"\")","v":""},{"$f":"IFERROR(AVERAGE((Paramètres!C183,Paramètres!F183,Paramètres!I183,Paramètres!L183,Paramètres!O183)),\"\")","v":""},{"$f":"IFERROR(AVERAGE((Paramètres!D183,Paramètres!G183,Paramètres!J183,Paramètres!M183,Paramètres!P183)),\"\")","v":""},{"$f":"IF(A184=\"\",\"\",COUNTIF(Paramètres!B183:C183,\"-\")+COUNTIF(Paramètres!E183:F183,\"-\")+COUNTIF(Paramètres!H183:I183,\"-\")+COUNTIF(Paramètres!K183:L183,\"-\")+COUNTIF(Paramètres!N183:O183,\"-\"))","v":""},{"$f":"IF(A184=\"\",\"\",COUNTIF(Paramètres!B183,\"<2\")+COUNTIF(Paramètres!C183,\"<2\")+COUNTIF(Paramètres!E183,\"<2\")+COUNTIF(Paramètres!F183,\"<2\")+COUNTIF(Paramètres!H183,\"<2\")+COUNTIF(Paramètres!I183,\"<2\")+COUNTIF(Paramètres!K183,\"<2\")+COUNTIF(Paramètres!L183,\"<2\")+COUNTIF(Paramètres!N183,\"<2\")+COUNTIF(Paramètres!O183,\"<2\"))","v":""},{"$f":"IF(A184=\"\",\"\",COUNTIF(Paramètres!B183,\">1\")+COUNTIF(Paramètres!C183,\">1\")+COUNTIF(Paramètres!E183,\">1\")+COUNTIF(Paramètres!F183,\">1\")+COUNTIF(Paramètres!H183,\">1\")+COUNTIF(Paramètres!I183,\">1\")+COUNTIF(Paramètres!K183,\">1\")+COUNTIF(Paramètres!L183,\">1\")+COUNTIF(Paramètres!N183,\">1\")+COUNTIF(Paramètres!O183,\">1\"))","v":""},{"$f":"Tableau4[[#This Row],[Attaques réussies]]/(Tableau4[[#This Row],[Oubli]]+Tableau4[[#This Row],[Attaques ratées]]+Tableau4[[#This Row],[Attaques réussies]])","v":{"$error":"#VALUE!"}}]
[{"$f":"IF(ISBLANK(Paramètres!A184),\"\",Paramètres!A184)","v":""},{"$f":"IFERROR(AVERAGE(Paramètres!B184,Paramètres!E184,Paramètres!H184,Paramètres!K184,Paramètres!N184),\"\")","v":""},{"$f":"IFERROR(AVERAGE((Paramètres!C184,Paramètres!F184,Paramètres!I184,Paramètres!L184,Paramètres!O184)),\"\")","v":""},{"$f":"IFERROR(AVERAGE((Paramètres!D184,Paramètres!G184,Paramètres!J184,Paramètres!M184,Paramètres!P184)),\"\")","v":""},{"$f":"IF(A185=\"\",\"\",COUNTIF(Paramètres!B184:C184,\"-\")+COUNTIF(Paramètres!E184:F184,\"-\")+COUNTIF(Paramètres!H184:I184,\"-\")+COUNTIF(Paramètres!K184:L184,\"-\")+COUNTIF(Paramètres!N184:O184,\"-\"))","v":""},{"$f":"IF(A185=\"\",\"\",COUNTIF(Paramètres!B184,\"<2\")+COUNTIF(Paramètres!C184,\"<2\")+COUNTIF(Paramètres!E184,\"<2\")+COUNTIF(Paramètres!F184,\"<2\")+COUNTIF(Paramètres!H184,\"<2\")+COUNTIF(Paramètres!I184,\"<2\")+COUNTIF(Paramètres!K184,\"<2\")+COUNTIF(Paramètres!L184,\"<2\")+COUNTIF(Paramètres!N184,\"<2\")+COUNTIF(Paramètres!O184,\"<2\"))","v":""},{"$f":"IF(A185=\"\",\"\",COUNTIF(Paramètres!B184,\">1\")+COUNTIF(Paramètres!C184,\">1\")+COUNTIF(Paramètres!E184,\">1\")+COUNTIF(Paramètres!F184,\">1\")+COUNTIF(Paramètres!H184,\">1\")+COUNTIF(Paramètres!I184,\">1\")+COUNTIF(Paramètres!K184,\">1\")+COUNTIF(Paramètres!L184,\">1\")+COUNTIF(Paramètres!N184,\">1\")+COUNTIF(Paramètres!O184,\">1\"))","v":""},{"$f":"Tableau4[[#This Row],[Attaques réussies]]/(Tableau4[[#This Row],[Oubli]]+Tableau4[[#This Row],[Attaques ratées]]+Tableau4[[#This Row],[Attaques réussies]])","v":{"$error":"#VALUE!"}}]
[{"$f":"IF(ISBLANK(Paramètres!A185),\"\",Paramètres!A185)","v":""},{"$f":"IFERROR(AVERAGE(Paramètres!B185,Paramètres!E185,Paramètres!H185,Paramètres!K185,Paramètres!N185),\"\")","v":""},{"$f":"IFERROR(AVERAGE((Paramètres!C185,Paramètres!F185,Paramètres!I185,Paramètres!L185,Paramètres!O185)),\"\")","v":""},{"$f":"IFERROR(AVERAGE((Paramètres!D185,Paramètres!G185,Paramètres!J185,Paramètres!M185,Paramètres!P185)),\"\")","v":""},{"$f":"IF(A186=\"\",\"\",COUNTIF(Paramètres!B185:C185,\"-\")+COUNTIF(Paramètres!E185:F185,\"-\")+COUNTIF(Paramètres!H185:I185,\"-\")+COUNTIF(Paramètres!K185:L185,\"-\")+COUNTIF(Paramètres!N185:O185,\"-\"))","v":""},{"$f":"IF(A186=\"\",\"\",COUNTIF(Paramètres!B185,\"<2\")+COUNTIF(Paramètres!C185,\"<2\")+COUNTIF(Paramètres!E185,\"<2\")+COUNTIF(Paramètres!F185,\"<2\")+COUNTIF(Paramètres!H185,\"<2\")+COUNTIF(Paramètres!I185,\"<2\")+COUNTIF(Paramètres!K185,\"<2\")+COUNTIF(Paramètres!L185,\"<2\")+COUNTIF(Paramètres!N185,\"<2\")+COUNTIF(Paramètres!O185,\"<2\"))","v":""},{"$f":"IF(A186=\"\",\"\",COUNTIF(Paramètres!B185,\">1\")+COUNTIF(Paramètres!C185,\">1\")+COUNTIF(Paramètres!E185,\">1\")+COUNTIF(Paramètres!F185,\">1\")+COUNTIF(Paramètres!H185,\">1\")+COUNTIF(Paramètres!I185,\">1\")+COUNTIF(Paramètres!K185,\">1\")+COUNTIF(Paramètres!L185,\">1\")+COUNTIF(Paramètres!N185,\">1\")+COUNTIF(Paramètres!O185,\">1\"))","v":""},{"$f":"Tableau4[[#This Row],[Attaques réussies]]/(Tableau4[[#This Row],[Oubli]]+Tableau4[[#This Row],[Attaques ratées]]+Tableau4[[#This Row],[Attaques réussies]])","v":{"$error":"#VALUE!"}}]
[{"$f":"IF(ISBLANK(Paramètres!A186),\"\",Paramètres!A186)","v":""},{"$f":"IFERROR(AVERAGE(Paramètres!B186,Paramètres!E186,Paramètres!H186,Paramètres!K186,Paramètres!N186),\"\")","v":""},{"$f":"IFERROR(AVERAGE((Paramètres!C186,Paramètres!F186,Paramètres!I186,Paramètres!L186,Paramètres!O186)),\"\")","v":""},{"$f":"IFERROR(AVERAGE((Paramètres!D186,Paramètres!G186,Paramètres!J186,Paramètres!M186,Paramètres!P186)),\"\")","v":""},{"$f":"IF(A187=\"\",\"\",COUNTIF(Paramètres!B186:C186,\"-\")+COUNTIF(Paramètres!E186:F186,\"-\")+COUNTIF(Paramètres!H186:I186,\"-\")+COUNTIF(Paramètres!K186:L186,\"-\")+COUNTIF(Paramètres!N186:O186,\"-\"))","v":""},{"$f":"IF(A187=\"\",\"\",COUNTIF(Paramètres!B186,\"<2\")+COUNTIF(Paramètres!C186,\"<2\")+COUNTIF(Paramètres!E186,\"<2\")+COUNTIF(Paramètres!F186,\"<2\")+COUNTIF(Paramètres!H186,\"<2\")+COUNTIF(Paramètres!I186,\"<2\")+COUNTIF(Paramètres!K186,\"<2\")+COUNTIF(Paramètres!L186,\"<2\")+COUNTIF(Paramètres!N186,\"<2\")+COUNTIF(Paramètres!O186,\"<2\"))","v":""},{"$f":"IF(A187=\"\",\"\",COUNTIF(Paramètres!B186,\">1\")+COUNTIF(Paramètres!C186,\">1\")+COUNTIF(Paramètres!E186,\">1\")+COUNTIF(Paramètres!F186,\">1\")+COUNTIF(Paramètres!H186,\">1\")+COUNTIF(Paramètres!I186,\">1\")+COUNTIF(Paramètres!K186,\">1\")+COUNTIF(Paramètres!L186,\">1\")+COUNTIF(Paramètres!N186,\">1\")+COUNTIF(Paramètres!O186,\">1\"))","v":""},{"$f":"Tableau4[[#This Row],[Attaques réussies]]/(Tableau4[[#This Row],[Oubli]]+Tableau4[[#This Row],[Attaques ratées]]+Tableau4[[#This Row],[Attaques réussies]])","v":{"$error":"#VALUE!"}}]
[{"$f":"IF(ISBLANK(Paramètres!A187),\"\",Paramètres!A187)","v":""},{"$f":"IFERROR(AVERAGE(Paramètres!B187,Paramètres!E187,Paramètres!H187,Paramètres!K187,Paramètres!N187),\"\")","v":""},{"$f":"IFERROR(AVERAGE((Paramètres!C187,Paramètres!F187,Paramètres!I187,Paramètres!L187,Paramètres!O187)),\"\")","v":""},{"$f":"IFERROR(AVERAGE((Paramètres!D187,Paramètres!G187,Paramètres!J187,Paramètres!M187,Paramètres!P187)),\"\")","v":""},{"$f":"IF(A188=\"\",\"\",COUNTIF(Paramètres!B187:C187,\"-\")+COUNTIF(Paramètres!E187:F187,\"-\")+COUNTIF(Paramètres!H187:I187,\"-\")+COUNTIF(Paramètres!K187:L187,\"-\")+COUNTIF(Paramètres!N187:O187,\"-\"))","v":""},{"$f":"IF(A188=\"\",\"\",COUNTIF(Paramètres!B187,\"<2\")+COUNTIF(Paramètres!C187,\"<2\")+COUNTIF(Paramètres!E187,\"<2\")+COUNTIF(Paramètres!F187,\"<2\")+COUNTIF(Paramètres!H187,\"<2\")+COUNTIF(Paramètres!I187,\"<2\")+COUNTIF(Paramètres!K187,\"<2\")+COUNTIF(Paramètres!L187,\"<2\")+COUNTIF(Paramètres!N187,\"<2\")+COUNTIF(Paramètres!O187,\"<2\"))","v":""},{"$f":"IF(A188=\"\",\"\",COUNTIF(Paramètres!B187,\">1\")+COUNTIF(Paramètres!C187,\">1\")+COUNTIF(Paramètres!E187,\">1\")+COUNTIF(Paramètres!F187,\">1\")+COUNTIF(Paramètres!H187,\">1\")+COUNTIF(Paramètres!I187,\">1\")+COUNTIF(Paramètres!K187,\">1\")+COUNTIF(Paramètres!L187,\">1\")+COUNTIF(Paramètres!N187,\">1\")+COUNTIF(Paramètres!O187,\">1\"))","v":""},{"$f":"Tableau4[[#This Row],[Attaques réussies]]/(Tableau4[[#This Row],[Oubli]]+Tableau4[[#This Row],[Attaques ratées]]+Tableau4[[#This Row],[Attaques réussies]])","v":{"$error":"#VALUE!"}}]
[{"$f":"IF(ISBLANK(Paramètres!A188),\"\",Paramètres!A188)","v":""},{"$f":"IFERROR(AVERAGE(Paramètres!B188,Paramètres!E188,Paramètres!H188,Paramètres!K188,Paramètres!N188),\"\")","v":""},{"$f":"IFERROR(AVERAGE((Paramètres!C188,Paramètres!F188,Paramètres!I188,Paramètres!L188,Paramètres!O188)),\"\")","v":""},{"$f":"IFERROR(AVERAGE((Paramètres!D188,Paramètres!G188,Paramètres!J188,Paramètres!M188,Paramètres!P188)),\"\")","v":""},{"$f":"IF(A189=\"\",\"\",COUNTIF(Paramètres!B188:C188,\"-\")+COUNTIF(Paramètres!E188:F188,\"-\")+COUNTIF(Paramètres!H188:I188,\"-\")+COUNTIF(Paramètres!K188:L188,\"-\")+COUNTIF(Paramètres!N188:O188,\"-\"))","v":""},{"$f":"IF(A189=\"\",\"\",COUNTIF(Paramètres!B188,\"<2\")+COUNTIF(Paramètres!C188,\"<2\")+COUNTIF(Paramètres!E188,\"<2\")+COUNTIF(Paramètres!F188,\"<2\")+COUNTIF(Paramètres!H188,\"<2\")+COUNTIF(Paramètres!I188,\"<2\")+COUNTIF(Paramètres!K188,\"<2\")+COUNTIF(Paramètres!L188,\"<2\")+COUNTIF(Paramètres!N188,\"<2\")+COUNTIF(Paramètres!O188,\"<2\"))","v":""},{"$f":"IF(A189=\"\",\"\",COUNTIF(Paramètres!B188,\">1\")+COUNTIF(Paramètres!C188,\">1\")+COUNTIF(Paramètres!E188,\">1\")+COUNTIF(Paramètres!F188,\">1\")+COUNTIF(Paramètres!H188,\">1\")+COUNTIF(Paramètres!I188,\">1\")+COUNTIF(Paramètres!K188,\">1\")+COUNTIF(Paramètres!L188,\">1\")+COUNTIF(Paramètres!N188,\">1\")+COUNTIF(Paramètres!O188,\">1\"))","v":""},{"$f":"Tableau4[[#This Row],[Attaques réussies]]/(Tableau4[[#This Row],[Oubli]]+Tableau4[[#This Row],[Attaques ratées]]+Tableau4[[#This Row],[Attaques réussies]])","v":{"$error":"#VALUE!"}}]
[{"$f":"IF(ISBLANK(Paramètres!A189),\"\",Paramètres!A189)","v":""},{"$f":"IFERROR(AVERAGE(Paramètres!B189,Paramètres!E189,Paramètres!H189,Paramètres!K189,Paramètres!N189),\"\")","v":""},{"$f":"IFERROR(AVERAGE((Paramètres!C189,Paramètres!F189,Paramètres!I189,Paramètres!L189,Paramètres!O189)),\"\")","v":""},{"$f":"IFERROR(AVERAGE((Paramètres!D189,Paramètres!G189,Paramètres!J189,Paramètres!M189,Paramètres!P189)),\"\")","v":""},{"$f":"IF(A190=\"\",\"\",COUNTIF(Paramètres!B189:C189,\"-\")+COUNTIF(Paramètres!E189:F189,\"-\")+COUNTIF(Paramètres!H189:I189,\"-\")+COUNTIF(Paramètres!K189:L189,\"-\")+COUNTIF(Paramètres!N189:O189,\"-\"))","v":""},{"$f":"IF(A190=\"\",\"\",COUNTIF(Paramètres!B189,\"<2\")+COUNTIF(Paramètres!C189,\"<2\")+COUNTIF(Paramètres!E189,\"<2\")+COUNTIF(Paramètres!F189,\"<2\")+COUNTIF(Paramètres!H189,\"<2\")+COUNTIF(Paramètres!I189,\"<2\")+COUNTIF(Paramètres!K189,\"<2\")+COUNTIF(Paramètres!L189,\"<2\")+COUNTIF(Paramètres!N189,\"<2\")+COUNTIF(Paramètres!O189,\"<2\"))","v":""},{"$f":"IF(A190=\"\",\"\",COUNTIF(Paramètres!B189,\">1\")+COUNTIF(Paramètres!C189,\">1\")+COUNTIF(Paramètres!E189,\">1\")+COUNTIF(Paramètres!F189,\">1\")+COUNTIF(Paramètres!H189,\">1\")+COUNTIF(Paramètres!I189,\">1\")+COUNTIF(Paramètres!K189,\">1\")+COUNTIF(Paramètres!L189,\">1\")+COUNTIF(Paramètres!N189,\">1\")+COUNTIF(Paramètres!O189,\">1\"))","v":""},{"$f":"Tableau4[[#This Row],[Attaques réussies]]/(Tableau4[[#This Row],[Oubli]]+Tableau4[[#This Row],[Attaques ratées]]+Tableau4[[#This Row],[Attaques réussies]])","v":{"$error":"#VALUE!"}}]
[{"$f":"IF(ISBLANK(Paramètres!A190),\"\",Paramètres!A190)","v":""},{"$f":"IFERROR(AVERAGE(Paramètres!B190,Paramètres!E190,Paramètres!H190,Paramètres!K190,Paramètres!N190),\"\")","v":""},{"$f":"IFERROR(AVERAGE((Paramètres!C190,Paramètres!F190,Paramètres!I190,Paramètres!L190,Paramètres!O190)),\"\")","v":""},{"$f":"IFERROR(AVERAGE((Paramètres!D190,Paramètres!G190,Paramètres!J190,Paramètres!M190,Paramètres!P190)),\"\")","v":""},{"$f":"IF(A191=\"\",\"\",COUNTIF(Paramètres!B190:C190,\"-\")+COUNTIF(Paramètres!E190:F190,\"-\")+COUNTIF(Paramètres!H190:I190,\"-\")+COUNTIF(Paramètres!K190:L190,\"-\")+COUNTIF(Paramètres!N190:O190,\"-\"))","v":""},{"$f":"IF(A191=\"\",\"\",COUNTIF(Paramètres!B190,\"<2\")+COUNTIF(Paramètres!C190,\"<2\")+COUNTIF(Paramètres!E190,\"<2\")+COUNTIF(Paramètres!F190,\"<2\")+COUNTIF(Paramètres!H190,\"<2\")+COUNTIF(Paramètres!I190,\"<2\")+COUNTIF(Paramètres!K190,\"<2\")+COUNTIF(Paramètres!L190,\"<2\")+COUNTIF(Paramètres!N190,\"<2\")+COUNTIF(Paramètres!O190,\"<2\"))","v":""},{"$f":"IF(A191=\"\",\"\",COUNTIF(Paramètres!B190,\">1\")+COUNTIF(Paramètres!C190,\">1\")+COUNTIF(Paramètres!E190,\">1\")+COUNTIF(Paramètres!F190,\">1\")+COUNTIF(Paramètres!H190,\">1\")+COUNTIF(Paramètres!I190,\">1\")+COUNTIF(Paramètres!K190,\">1\")+COUNTIF(Paramètres!L190,\">1\")+COUNTIF(Paramètres!N190,\">1\")+COUNTIF(Paramètres!O190,\">1\"))","v":""},{"$f":"Tableau4[[#This Row],[Attaques réussies]]/(Tableau4[[#This Row],[Oubli]]+Tableau4[[#This Row],[Attaques ratées]]+Tableau4[[#This Row],[Attaques réussies]])","v":{"$error":"#VALUE!"}}]
[{"$f":"IF(ISBLANK(Paramètres!A191),\"\",Paramètres!A191)","v":""},{"$f":"IFERROR(AVERAGE(Paramètres!B191,Paramètres!E191,Paramètres!H191,Paramètres!K191,Paramètres!N191),\"\")","v":""},{"$f":"IFERROR(AVERAGE((Paramètres!C191,Paramètres!F191,Paramètres!I191,Paramètres!L191,Paramètres!O191)),\"\")","v":""},{"$f":"IFERROR(AVERAGE((Paramètres!D191,Paramètres!G191,Paramètres!J191,Paramètres!M191,Paramètres!P191)),\"\")","v":""},{"$f":"IF(A192=\"\",\"\",COUNTIF(Paramètres!B191:C191,\"-\")+COUNTIF(Paramètres!E191:F191,\"-\")+COUNTIF(Paramètres!H191:I191,\"-\")+COUNTIF(Paramètres!K191:L191,\"-\")+COUNTIF(Paramètres!N191:O191,\"-\"))","v":""},{"$f":"IF(A192=\"\",\"\",COUNTIF(Paramètres!B191,\"<2\")+COUNTIF(Paramètres!C191,\"<2\")+COUNTIF(Paramètres!E191,\"<2\")+COUNTIF(Paramètres!F191,\"<2\")+COUNTIF(Paramètres!H191,\"<2\")+COUNTIF(Paramètres!I191,\"<2\")+COUNTIF(Paramètres!K191,\"<2\")+COUNTIF(Paramètres!L191,\"<2\")+COUNTIF(Paramètres!N191,\"<2\")+COUNTIF(Paramètres!O191,\"<2\"))","v":""},{"$f":"IF(A192=\"\",\"\",COUNTIF(Paramètres!B191,\">1\")+COUNTIF(Paramètres!C191,\">1\")+COUNTIF(Paramètres!E191,\">1\")+COUNTIF(Paramètres!F191,\">1\")+COUNTIF(Paramètres!H191,\">1\")+COUNTIF(Paramètres!I191,\">1\")+COUNTIF(Paramètres!K191,\">1\")+COUNTIF(Paramètres!L191,\">1\")+COUNTIF(Paramètres!N191,\">1\")+COUNTIF(Paramètres!O191,\">1\"))","v":""},{"$f":"Tableau4[[#This Row],[Attaques réussies]]/(Tableau4[[#This Row],[Oubli]]+Tableau4[[#This Row],[Attaques ratées]]+Tableau4[[#This Row],[Attaques réussies]])","v":{"$error":"#VALUE!"}}]
[{"$f":"IF(ISBLANK(Paramètres!A192),\"\",Paramètres!A192)","v":""},{"$f":"IFERROR(AVERAGE(Paramètres!B192,Paramètres!E192,Paramètres!H192,Paramètres!K192,Paramètres!N192),\"\")","v":""},{"$f":"IFERROR(AVERAGE((Paramètres!C192,Paramètres!F192,Paramètres!I192,Paramètres!L192,Paramètres!O192)),\"\")","v":""},{"$f":"IFERROR(AVERAGE((Paramètres!D192,Paramètres!G192,Paramètres!J192,Paramètres!M192,Paramètres!P192)),\"\")","v":""},{"$f":"IF(A193=\"\",\"\",COUNTIF(Paramètres!B192:C192,\"-\")+COUNTIF(Paramètres!E192:F192,\"-\")+COUNTIF(Paramètres!H192:I192,\"-\")+COUNTIF(Paramètres!K192:L192,\"-\")+COUNTIF(Paramètres!N192:O192,\"-\"))","v":""},{"$f":"IF(A193=\"\",\"\",COUNTIF(Paramètres!B192,\"<2\")+COUNTIF(Paramètres!C192,\"<2\")+COUNTIF(Paramètres!E192,\"<2\")+COUNTIF(Paramètres!F192,\"<2\")+COUNTIF(Paramètres!H192,\"<2\")+COUNTIF(Paramètres!I192,\"<2\")+COUNTIF(Paramètres!K192,\"<2\")+COUNTIF(Paramètres!L192,\"<2\")+COUNTIF(Paramètres!N192,\"<2\")+COUNTIF(Paramètres!O192,\"<2\"))","v":""},{"$f":"IF(A193=\"\",\"\",COUNTIF(Paramètres!B192,\">1\")+COUNTIF(Paramètres!C192,\">1\")+COUNTIF(Paramètres!E192,\">1\")+COUNTIF(Paramètres!F192,\">1\")+COUNTIF(Paramètres!H192,\">1\")+COUNTIF(Paramètres!I192,\">1\")+COUNTIF(Paramètres!K192,\">1\")+COUNTIF(Paramètres!L192,\">1\")+COUNTIF(Paramètres!N192,\">1\")+COUNTIF(Paramètres!O192,\">1\"))","v":""},{"$f":"Tableau4[[#This Row],[Attaques réussies]]/(Tableau4[[#This Row],[Oubli]]+Tableau4[[#This Row],[Attaques ratées]]+Tableau4[[#This Row],[Attaques réussies]])","v":{"$error":"#VALUE!"}}]
[{"$f":"IF(ISBLANK(Paramètres!A193),\"\",Paramètres!A193)","v":""},{"$f":"IFERROR(AVERAGE(Paramètres!B193,Paramètres!E193,Paramètres!H193,Paramètres!K193,Paramètres!N193),\"\")","v":""},{"$f":"IFERROR(AVERAGE((Paramètres!C193,Paramètres!F193,Paramètres!I193,Paramètres!L193,Paramètres!O193)),\"\")","v":""},{"$f":"IFERROR(AVERAGE((Paramètres!D193,Paramètres!G193,Paramètres!J193,Paramètres!M193,Paramètres!P193)),\"\")","v":""},{"$f":"IF(A194=\"\",\"\",COUNTIF(Paramètres!B193:C193,\"-\")+COUNTIF(Paramètres!E193:F193,\"-\")+COUNTIF(Paramètres!H193:I193,\"-\")+COUNTIF(Paramètres!K193:L193,\"-\")+COUNTIF(Paramètres!N193:O193,\"-\"))","v":""},{"$f":"IF(A194=\"\",\"\",COUNTIF(Paramètres!B193,\"<2\")+COUNTIF(Paramètres!C193,\"<2\")+COUNTIF(Paramètres!E193,\"<2\")+COUNTIF(Paramètres!F193,\"<2\")+COUNTIF(Paramètres!H193,\"<2\")+COUNTIF(Paramètres!I193,\"<2\")+COUNTIF(Paramètres!K193,\"<2\")+COUNTIF(Paramètres!L193,\"<2\")+COUNTIF(Paramètres!N193,\"<2\")+COUNTIF(Paramètres!O193,\"<2\"))","v":""},{"$f":"IF(A194=\"\",\"\",COUNTIF(Paramètres!B193,\">1\")+COUNTIF(Paramètres!C193,\">1\")+COUNTIF(Paramètres!E193,\">1\")+COUNTIF(Paramètres!F193,\">1\")+COUNTIF(Paramètres!H193,\">1\")+COUNTIF(Paramètres!I193,\">1\")+COUNTIF(Paramètres!K193,\">1\")+COUNTIF(Paramètres!L193,\">1\")+COUNTIF(Paramètres!N193,\">1\")+COUNTIF(Paramètres!O193,\">1\"))","v":""},{"$f":"Tableau4[[#This Row],[Attaques réussies]]/(Tableau4[[#This Row],[Oubli]]+Tableau4[[#This Row],[Attaques ratées]]+Tableau4[[#This Row],[Attaques réussies]])","v":{"$error":"#VALUE!"}}]
[{"$f":"IF(ISBLANK(Paramètres!A194),\"\",Paramètres!A194)","v":""},{"$f":"IFERROR(AVERAGE(Paramètres!B194,Paramètres!E194,Paramètres!H194,Paramètres!K194,Paramètres!N194),\"\")","v":""},{"$f":"IFERROR(AVERAGE((Paramètres!C194,Paramètres!F194,Paramètres!I194,Paramètres!L194,Paramètres!O194)),\"\")","v":""},{"$f":"IFERROR(AVERAGE((Paramètres!D194,Paramètres!G194,Paramètres!J194,Paramètres!M194,Paramètres!P194)),\"\")","v":""},{"$f":"IF(A195=\"\",\"\",COUNTIF(Paramètres!B194:C194,\"-\")+COUNTIF(Paramètres!E194:F194,\"-\")+COUNTIF(Paramètres!H194:I194,\"-\")+COUNTIF(Paramètres!K194:L194,\"-\")+COUNTIF(Paramètres!N194:O194,\"-\"))","v":""},{"$f":"IF(A195=\"\",\"\",COUNTIF(Paramètres!B194,\"<2\")+COUNTIF(Paramètres!C194,\"<2\")+COUNTIF(Paramètres!E194,\"<2\")+COUNTIF(Paramètres!F194,\"<2\")+COUNTIF(Paramètres!H194,\"<2\")+COUNTIF(Paramètres!I194,\"<2\")+COUNTIF(Paramètres!K194,\"<2\")+COUNTIF(Paramètres!L194,\"<2\")+COUNTIF(Paramètres!N194,\"<2\")+COUNTIF(Paramètres!O194,\"<2\"))","v":""},{"$f":"IF(A195=\"\",\"\",COUNTIF(Paramètres!B194,\">1\")+COUNTIF(Paramètres!C194,\">1\")+COUNTIF(Paramètres!E194,\">1\")+COUNTIF(Paramètres!F194,\">1\")+COUNTIF(Paramètres!H194,\">1\")+COUNTIF(Paramètres!I194,\">1\")+COUNTIF(Paramètres!K194,\">1\")+COUNTIF(Paramètres!L194,\">1\")+COUNTIF(Paramètres!N194,\">1\")+COUNTIF(Paramètres!O194,\">1\"))","v":""},{"$f":"Tableau4[[#This Row],[Attaques réussies]]/(Tableau4[[#This Row],[Oubli]]+Tableau4[[#This Row],[Attaques ratées]]+Tableau4[[#This Row],[Attaques réussies]])","v":{"$error":"#VALUE!"}}]
[{"$f":"IF(ISBLANK(Paramètres!A195),\"\",Paramètres!A195)","v":""},{"$f":"IFERROR(AVERAGE(Paramètres!B195,Paramètres!E195,Paramètres!H195,Paramètres!K195,Paramètres!N195),\"\")","v":""},{"$f":"IFERROR(AVERAGE((Paramètres!C195,Paramètres!F195,Paramètres!I195,Paramètres!L195,Paramètres!O195)),\"\")","v":""},{"$f":"IFERROR(AVERAGE((Paramètres!D195,Paramètres!G195,Paramètres!J195,Paramètres!M195,Paramètres!P195)),\"\")","v":""},{"$f":"IF(A196=\"\",\"\",COUNTIF(Paramètres!B195:C195,\"-\")+COUNTIF(Paramètres!E195:F195,\"-\")+COUNTIF(Paramètres!H195:I195,\"-\")+COUNTIF(Paramètres!K195:L195,\"-\")+COUNTIF(Paramètres!N195:O195,\"-\"))","v":""},{"$f":"IF(A196=\"\",\"\",COUNTIF(Paramètres!B195,\"<2\")+COUNTIF(Paramètres!C195,\"<2\")+COUNTIF(Paramètres!E195,\"<2\")+COUNTIF(Paramètres!F195,\"<2\")+COUNTIF(Paramètres!H195,\"<2\")+COUNTIF(Paramètres!I195,\"<2\")+COUNTIF(Paramètres!K195,\"<2\")+COUNTIF(Paramètres!L195,\"<2\")+COUNTIF(Paramètres!N195,\"<2\")+COUNTIF(Paramètres!O195,\"<2\"))","v":""},{"$f":"IF(A196=\"\",\"\",COUNTIF(Paramètres!B195,\">1\")+COUNTIF(Paramètres!C195,\">1\")+COUNTIF(Paramètres!E195,\">1\")+COUNTIF(Paramètres!F195,\">1\")+COUNTIF(Paramètres!H195,\">1\")+COUNTIF(Paramètres!I195,\">1\")+COUNTIF(Paramètres!K195,\">1\")+COUNTIF(Paramètres!L195,\">1\")+COUNTIF(Paramètres!N195,\">1\")+COUNTIF(Paramètres!O195,\">1\"))","v":""},{"$f":"Tableau4[[#This Row],[Attaques réussies]]/(Tableau4[[#This Row],[Oubli]]+Tableau4[[#This Row],[Attaques ratées]]+Tableau4[[#This Row],[Attaques réussies]])","v":{"$error":"#VALUE!"}}]
[{"$f":"IF(ISBLANK(Paramètres!A196),\"\",Paramètres!A196)","v":""},{"$f":"IFERROR(AVERAGE(Paramètres!B196,Paramètres!E196,Paramètres!H196,Paramètres!K196,Paramètres!N196),\"\")","v":""},{"$f":"IFERROR(AVERAGE((Paramètres!C196,Paramètres!F196,Paramètres!I196,Paramètres!L196,Paramètres!O196)),\"\")","v":""},{"$f":"IFERROR(AVERAGE((Paramètres!D196,Paramètres!G196,Paramètres!J196,Paramètres!M196,Paramètres!P196)),\"\")","v":""},{"$f":"IF(A197=\"\",\"\",COUNTIF(Paramètres!B196:C196,\"-\")+COUNTIF(Paramètres!E196:F196,\"-\")+COUNTIF(Paramètres!H196:I196,\"-\")+COUNTIF(Paramètres!K196:L196,\"-\")+COUNTIF(Paramètres!N196:O196,\"-\"))","v":""},{"$f":"IF(A197=\"\",\"\",COUNTIF(Paramètres!B196,\"<2\")+COUNTIF(Paramètres!C196,\"<2\")+COUNTIF(Paramètres!E196,\"<2\")+COUNTIF(Paramètres!F196,\"<2\")+COUNTIF(Paramètres!H196,\"<2\")+COUNTIF(Paramètres!I196,\"<2\")+COUNTIF(Paramètres!K196,\"<2\")+COUNTIF(Paramètres!L196,\"<2\")+COUNTIF(Paramètres!N196,\"<2\")+COUNTIF(Paramètres!O196,\"<2\"))","v":""},{"$f":"IF(A197=\"\",\"\",COUNTIF(Paramètres!B196,\">1\")+COUNTIF(Paramètres!C196,\">1\")+COUNTIF(Paramètres!E196,\">1\")+COUNTIF(Paramètres!F196,\">1\")+COUNTIF(Paramètres!H196,\">1\")+COUNTIF(Paramètres!I196,\">1\")+COUNTIF(Paramètres!K196,\">1\")+COUNTIF(Paramètres!L196,\">1\")+COUNTIF(Paramètres!N196,\">1\")+COUNTIF(Paramètres!O196,\">1\"))","v":""},{"$f":"Tableau4[[#This Row],[Attaques réussies]]/(Tableau4[[#This Row],[Oubli]]+Tableau4[[#This Row],[Attaques ratées]]+Tableau4[[#This Row],[Attaques réussies]])","v":{"$error":"#VALUE!"}}]
[{"$f":"IF(ISBLANK(Paramètres!A197),\"\",Paramètres!A197)","v":""},{"$f":"IFERROR(AVERAGE(Paramètres!B197,Paramètres!E197,Paramètres!H197,Paramètres!K197,Paramètres!N197),\"\")","v":""},{"$f":"IFERROR(AVERAGE((Paramètres!C197,Paramètres!F197,Paramètres!I197,Paramètres!L197,Paramètres!O197)),\"\")","v":""},{"$f":"IFERROR(AVERAGE((Paramètres!D197,Paramètres!G197,Paramètres!J197,Paramètres!M197,Paramètres!P197)),\"\")","v":""},{"$f":"IF(A198=\"\",\"\",COUNTIF(Paramètres!B197:C197,\"-\")+COUNTIF(Paramètres!E197:F197,\"-\")+COUNTIF(Paramètres!H197:I197,\"-\")+COUNTIF(Paramètres!K197:L197,\"-\")+COUNTIF(Paramètres!N197:O197,\"-\"))","v":""},{"$f":"IF(A198=\"\",\"\",COUNTIF(Paramètres!B197,\"<2\")+COUNTIF(Paramètres!C197,\"<2\")+COUNTIF(Paramètres!E197,\"<2\")+COUNTIF(Paramètres!F197,\"<2\")+COUNTIF(Paramètres!H197,\"<2\")+COUNTIF(Paramètres!I197,\"<2\")+COUNTIF(Paramètres!K197,\"<2\")+COUNTIF(Paramètres!L197,\"<2\")+COUNTIF(Paramètres!N197,\"<2\")+COUNTIF(Paramètres!O197,\"<2\"))","v":""},{"$f":"IF(A198=\"\",\"\",COUNTIF(Paramètres!B197,\">1\")+COUNTIF(Paramètres!C197,\">1\")+COUNTIF(Paramètres!E197,\">1\")+COUNTIF(Paramètres!F197,\">1\")+COUNTIF(Paramètres!H197,\">1\")+COUNTIF(Paramètres!I197,\">1\")+COUNTIF(Paramètres!K197,\">1\")+COUNTIF(Paramètres!L197,\">1\")+COUNTIF(Paramètres!N197,\">1\")+COUNTIF(Paramètres!O197,\">1\"))","v":""},{"$f":"Tableau4[[#This Row],[Attaques réussies]]/(Tableau4[[#This Row],[Oubli]]+Tableau4[[#This Row],[Attaques ratées]]+Tableau4[[#This Row],[Attaques réussies]])","v":{"$error":"#VALUE!"}}]
[{"$f":"IF(ISBLANK(Paramètres!A198),\"\",Paramètres!A198)","v":""},{"$f":"IFERROR(AVERAGE(Paramètres!B198,Paramètres!E198,Paramètres!H198,Paramètres!K198,Paramètres!N198),\"\")","v":""},{"$f":"IFERROR(AVERAGE((Paramètres!C198,Paramètres!F198,Paramètres!I198,Paramètres!L198,Paramètres!O198)),\"\")","v":""},{"$f":"IFERROR(AVERAGE((Paramètres!D198,Paramètres!G198,Paramètres!J198,Paramètres!M198,Paramètres!P198)),\"\")","v":""},{"$f":"IF(A199=\"\",\"\",COUNTIF(Paramètres!B198:C198,\"-\")+COUNTIF(Paramètres!E198:F198,\"-\")+COUNTIF(Paramètres!H198:I198,\"-\")+COUNTIF(Paramètres!K198:L198,\"-\")+COUNTIF(Paramètres!N198:O198,\"-\"))","v":""},{"$f":"IF(A199=\"\",\"\",COUNTIF(Paramètres!B198,\"<2\")+COUNTIF(Paramètres!C198,\"<2\")+COUNTIF(Paramètres!E198,\"<2\")+COUNTIF(Paramètres!F198,\"<2\")+COUNTIF(Paramètres!H198,\"<2\")+COUNTIF(Paramètres!I198,\"<2\")+COUNTIF(Paramètres!K198,\"<2\")+COUNTIF(Paramètres!L198,\"<2\")+COUNTIF(Paramètres!N198,\"<2\")+COUNTIF(Paramètres!O198,\"<2\"))","v":""},{"$f":"IF(A199=\"\",\"\",COUNTIF(Paramètres!B198,\">1\")+COUNTIF(Paramètres!C198,\">1\")+COUNTIF(Paramètres!E198,\">1\")+COUNTIF(Paramètres!F198,\">1\")+COUNTIF(Paramètres!H198,\">1\")+COUNTIF(Paramètres!I198,\">1\")+COUNTIF(Paramètres!K198,\">1\")+COUNTIF(Paramètres!L198,\">1\")+COUNTIF(Paramètres!N198,\">1\")+COUNTIF(Paramètres!O198,\">1\"))","v":""},{"$f":"Tableau4[[#This Row],[Attaques réussies]]/(Tableau4[[#This Row],[Oubli]]+Tableau4[[#This Row],[Attaques ratées]]+Tableau4[[#This Row],[Attaques réussies]])","v":{"$error":"#VALUE!"}}]
[{"$f":"IF(ISBLANK(Paramètres!A199),\"\",Paramètres!A199)","v":""},{"$f":"IFERROR(AVERAGE(Paramètres!B199,Paramètres!E199,Paramètres!H199,Paramètres!K199,Paramètres!N199),\"\")","v":""},{"$f":"IFERROR(AVERAGE((Paramètres!C199,Paramètres!F199,Paramètres!I199,Paramètres!L199,Paramètres!O199)),\"\")","v":""},{"$f":"IFERROR(AVERAGE((Paramètres!D199,Paramètres!G199,Paramètres!J199,Paramètres!M199,Paramètres!P199)),\"\")","v":""},{"$f":"IF(A200=\"\",\"\",COUNTIF(Paramètres!B199:C199,\"-\")+COUNTIF(Paramètres!E199:F199,\"-\")+COUNTIF(Paramètres!H199:I199,\"-\")+COUNTIF(Paramètres!K199:L199,\"-\")+COUNTIF(Paramètres!N199:O199,\"-\"))","v":""},{"$f":"IF(A200=\"\",\"\",COUNTIF(Paramètres!B199,\"<2\")+COUNTIF(Paramètres!C199,\"<2\")+COUNTIF(Paramètres!E199,\"<2\")+COUNTIF(Paramètres!F199,\"<2\")+COUNTIF(Paramètres!H199,\"<2\")+COUNTIF(Paramètres!I199,\"<2\")+COUNTIF(Paramètres!K199,\"<2\")+COUNTIF(Paramètres!L199,\"<2\")+COUNTIF(Paramètres!N199,\"<2\")+COUNTIF(Paramètres!O199,\"<2\"))","v":""},{"$f":"IF(A200=\"\",\"\",COUNTIF(Paramètres!B199,\">1\")+COUNTIF(Paramètres!C199,\">1\")+COUNTIF(Paramètres!E199,\">1\")+COUNTIF(Paramètres!F199,\">1\")+COUNTIF(Paramètres!H199,\">1\")+COUNTIF(Paramètres!I199,\">1\")+COUNTIF(Paramètres!K199,\">1\")+COUNTIF(Paramètres!L199,\">1\")+COUNTIF(Paramètres!N199,\">1\")+COUNTIF(Paramètres!O199,\">1\"))","v":""},{"$f":"Tableau4[[#This Row],[Attaques réussies]]/(Tableau4[[#This Row],[Oubli]]+Tableau4[[#This Row],[Attaques ratées]]+Tableau4[[#This Row],[Attaques réussies]])","v":{"$error":"#VALUE!"}}]
[{"$f":"IF(ISBLANK(Paramètres!A200),\"\",Paramètres!A200)","v":""},{"$f":"IFERROR(AVERAGE(Paramètres!B200,Paramètres!E200,Paramètres!H200,Paramètres!K200,Paramètres!N200),\"\")","v":""},{"$f":"IFERROR(AVERAGE((Paramètres!C200,Paramètres!F200,Paramètres!I200,Paramètres!L200,Paramètres!O200)),\"\")","v":""},{"$f":"IFERROR(AVERAGE((Paramètres!D200,Paramètres!G200,Paramètres!J200,Paramètres!M200,Paramètres!P200)),\"\")","v":""},{"$f":"IF(A201=\"\",\"\",COUNTIF(Paramètres!B200:C200,\"-\")+COUNTIF(Paramètres!E200:F200,\"-\")+COUNTIF(Paramètres!H200:I200,\"-\")+COUNTIF(Paramètres!K200:L200,\"-\")+COUNTIF(Paramètres!N200:O200,\"-\"))","v":""},{"$f":"IF(A201=\"\",\"\",COUNTIF(Paramètres!B200,\"<2\")+COUNTIF(Paramètres!C200,\"<2\")+COUNTIF(Paramètres!E200,\"<2\")+COUNTIF(Paramètres!F200,\"<2\")+COUNTIF(Paramètres!H200,\"<2\")+COUNTIF(Paramètres!I200,\"<2\")+COUNTIF(Paramètres!K200,\"<2\")+COUNTIF(Paramètres!L200,\"<2\")+COUNTIF(Paramètres!N200,\"<2\")+COUNTIF(Paramètres!O200,\"<2\"))","v":""},{"$f":"IF(A201=\"\",\"\",COUNTIF(Paramètres!B200,\">1\")+COUNTIF(Paramètres!C200,\">1\")+COUNTIF(Paramètres!E200,\">1\")+COUNTIF(Paramètres!F200,\">1\")+COUNTIF(Paramètres!H200,\">1\")+COUNTIF(Paramètres!I200,\">1\")+COUNTIF(Paramètres!K200,\">1\")+COUNTIF(Paramètres!L200,\">1\")+COUNTIF(Paramètres!N200,\">1\")+COUNTIF(Paramètres!O200,\">1\"))","v":""},{"$f":"Tableau4[[#This Row],[Attaques réussies]]/(Tableau4[[#This Row],[Oubli]]+Tableau4[[#This Row],[Attaques ratées]]+Tableau4[[#This Row],[Attaques réussies]])","v":{"$error":"#VALUE!"}}]
[{"$f":"IF(ISBLANK(Paramètres!A201),\"\",Paramètres!A201)","v":""},{"$f":"IFERROR(AVERAGE(Paramètres!B201,Paramètres!E201,Paramètres!H201,Paramètres!K201,Paramètres!N201),\"\")","v":""},{"$f":"IFERROR(AVERAGE((Paramètres!C201,Paramètres!F201,Paramètres!I201,Paramètres!L201,Paramètres!O201)),\"\")","v":""},{"$f":"IFERROR(AVERAGE((Paramètres!D201,Paramètres!G201,Paramètres!J201,Paramètres!M201,Paramètres!P201)),\"\")","v":""},{"$f":"IF(A202=\"\",\"\",COUNTIF(Paramètres!B201:C201,\"-\")+COUNTIF(Paramètres!E201:F201,\"-\")+COUNTIF(Paramètres!H201:I201,\"-\")+COUNTIF(Paramètres!K201:L201,\"-\")+COUNTIF(Paramètres!N201:O201,\"-\"))","v":""},{"$f":"IF(A202=\"\",\"\",COUNTIF(Paramètres!B201,\"<2\")+COUNTIF(Paramètres!C201,\"<2\")+COUNTIF(Paramètres!E201,\"<2\")+COUNTIF(Paramètres!F201,\"<2\")+COUNTIF(Paramètres!H201,\"<2\")+COUNTIF(Paramètres!I201,\"<2\")+COUNTIF(Paramètres!K201,\"<2\")+COUNTIF(Paramètres!L201,\"<2\")+COUNTIF(Paramètres!N201,\"<2\")+COUNTIF(Paramètres!O201,\"<2\"))","v":""},{"$f":"IF(A202=\"\",\"\",COUNTIF(Paramètres!B201,\">1\")+COUNTIF(Paramètres!C201,\">1\")+COUNTIF(Paramètres!E201,\">1\")+COUNTIF(Paramètres!F201,\">1\")+COUNTIF(Paramètres!H201,\">1\")+COUNTIF(Paramètres!I201,\">1\")+COUNTIF(Paramètres!K201,\">1\")+COUNTIF(Paramètres!L201,\">1\")+COUNTIF(Paramètres!N201,\">1\")+COUNTIF(Paramètres!O201,\">1\"))","v":""},{"$f":"Tableau4[[#This Row],[Attaques réussies]]/(Tableau4[[#This Row],[Oubli]]+Tableau4[[#This Row],[Attaques ratées]]+Tableau4[[#This Row],[Attaques réussies]])","v":{"$error":"#VALUE!"}}]
[{"$f":"IF(ISBLANK(Paramètres!A202),\"\",Paramètres!A202)","v":""},{"$f":"IFERROR(AVERAGE(Paramètres!B202,Paramètres!E202,Paramètres!H202,Paramètres!K202,Paramètres!N202),\"\")","v":""},{"$f":"IFERROR(AVERAGE((Paramètres!C202,Paramètres!F202,Paramètres!I202,Paramètres!L202,Paramètres!O202)),\"\")","v":""},{"$f":"IFERROR(AVERAGE((Paramètres!D202,Paramètres!G202,Paramètres!J202,Paramètres!M202,Paramètres!P202)),\"\")","v":""},{"$f":"IF(A203=\"\",\"\",COUNTIF(Paramètres!B202:C202,\"-\")+COUNTIF(Paramètres!E202:F202,\"-\")+COUNTIF(Paramètres!H202:I202,\"-\")+COUNTIF(Paramètres!K202:L202,\"-\")+COUNTIF(Paramètres!N202:O202,\"-\"))","v":""},{"$f":"IF(A203=\"\",\"\",COUNTIF(Paramètres!B202,\"<2\")+COUNTIF(Paramètres!C202,\"<2\")+COUNTIF(Paramètres!E202,\"<2\")+COUNTIF(Paramètres!F202,\"<2\")+COUNTIF(Paramètres!H202,\"<2\")+COUNTIF(Paramètres!I202,\"<2\")+COUNTIF(Paramètres!K202,\"<2\")+COUNTIF(Paramètres!L202,\"<2\")+COUNTIF(Paramètres!N202,\"<2\")+COUNTIF(Paramètres!O202,\"<2\"))","v":""},{"$f":"IF(A203=\"\",\"\",COUNTIF(Paramètres!B202,\">1\")+COUNTIF(Paramètres!C202,\">1\")+COUNTIF(Paramètres!E202,\">1\")+COUNTIF(Paramètres!F202,\">1\")+COUNTIF(Paramètres!H202,\">1\")+COUNTIF(Paramètres!I202,\">1\")+COUNTIF(Paramètres!K202,\">1\")+COUNTIF(Paramètres!L202,\">1\")+COUNTIF(Paramètres!N202,\">1\")+COUNTIF(Paramètres!O202,\">1\"))","v":""},{"$f":"Tableau4[[#This Row],[Attaques réussies]]/(Tableau4[[#This Row],[Oubli]]+Tableau4[[#This Row],[Attaques ratées]]+Tableau4[[#This Row],[Attaques réussies]])","v":{"$error":"#VALUE!"}}]
[{"$f":"IF(ISBLANK(Paramètres!A203),\"\",Paramètres!A203)","v":""},{"$f":"IFERROR(AVERAGE(Paramètres!B203,Paramètres!E203,Paramètres!H203,Paramètres!K203,Paramètres!N203),\"\")","v":""},{"$f":"IFERROR(AVERAGE((Paramètres!C203,Paramètres!F203,Paramètres!I203,Paramètres!L203,Paramètres!O203)),\"\")","v":""},{"$f":"IFERROR(AVERAGE((Paramètres!D203,Paramètres!G203,Paramètres!J203,Paramètres!M203,Paramètres!P203)),\"\")","v":""},{"$f":"IF(A204=\"\",\"\",COUNTIF(Paramètres!B203:C203,\"-\")+COUNTIF(Paramètres!E203:F203,\"-\")+COUNTIF(Paramètres!H203:I203,\"-\")+COUNTIF(Paramètres!K203:L203,\"-\")+COUNTIF(Paramètres!N203:O203,\"-\"))","v":""},{"$f":"IF(A204=\"\",\"\",COUNTIF(Paramètres!B203,\"<2\")+COUNTIF(Paramètres!C203,\"<2\")+COUNTIF(Paramètres!E203,\"<2\")+COUNTIF(Paramètres!F203,\"<2\")+COUNTIF(Paramètres!H203,\"<2\")+COUNTIF(Paramètres!I203,\"<2\")+COUNTIF(Paramètres!K203,\"<2\")+COUNTIF(Paramètres!L203,\"<2\")+COUNTIF(Paramètres!N203,\"<2\")+COUNTIF(Paramètres!O203,\"<2\"))","v":""},{"$f":"IF(A204=\"\",\"\",COUNTIF(Paramètres!B203,\">1\")+COUNTIF(Paramètres!C203,\">1\")+COUNTIF(Paramètres!E203,\">1\")+COUNTIF(Paramètres!F203,\">1\")+COUNTIF(Paramètres!H203,\">1\")+COUNTIF(Paramètres!I203,\">1\")+COUNTIF(Paramètres!K203,\">1\")+COUNTIF(Paramètres!L203,\">1\")+COUNTIF(Paramètres!N203,\">1\")+COUNTIF(Paramètres!O203,\">1\"))","v":""},{"$f":"Tableau4[[#This Row],[Attaques réussies]]/(Tableau4[[#This Row],[Oubli]]+Tableau4[[#This Row],[Attaques ratées]]+Tableau4[[#This Row],[Attaques réussies]])","v":{"$error":"#VALUE!"}}]
[{"$f":"IF(ISBLANK(Paramètres!A204),\"\",Paramètres!A204)","v":""},{"$f":"IFERROR(AVERAGE(Paramètres!B204,Paramètres!E204,Paramètres!H204,Paramètres!K204,Paramètres!N204),\"\")","v":""},{"$f":"IFERROR(AVERAGE((Paramètres!C204,Paramètres!F204,Paramètres!I204,Paramètres!L204,Paramètres!O204)),\"\")","v":""},{"$f":"IFERROR(AVERAGE((Paramètres!D204,Paramètres!G204,Paramètres!J204,Paramètres!M204,Paramètres!P204)),\"\")","v":""},{"$f":"IF(A205=\"\",\"\",COUNTIF(Paramètres!B204:C204,\"-\")+COUNTIF(Paramètres!E204:F204,\"-\")+COUNTIF(Paramètres!H204:I204,\"-\")+COUNTIF(Paramètres!K204:L204,\"-\")+COUNTIF(Paramètres!N204:O204,\"-\"))","v":""},{"$f":"IF(A205=\"\",\"\",COUNTIF(Paramètres!B204,\"<2\")+COUNTIF(Paramètres!C204,\"<2\")+COUNTIF(Paramètres!E204,\"<2\")+COUNTIF(Paramètres!F204,\"<2\")+COUNTIF(Paramètres!H204,\"<2\")+COUNTIF(Paramètres!I204,\"<2\")+COUNTIF(Paramètres!K204,\"<2\")+COUNTIF(Paramètres!L204,\"<2\")+COUNTIF(Paramètres!N204,\"<2\")+COUNTIF(Paramètres!O204,\"<2\"))","v":""},{"$f":"IF(A205=\"\",\"\",COUNTIF(Paramètres!B204,\">1\")+COUNTIF(Paramètres!C204,\">1\")+COUNTIF(Paramètres!E204,\">1\")+COUNTIF(Paramètres!F204,\">1\")+COUNTIF(Paramètres!H204,\">1\")+COUNTIF(Paramètres!I204,\">1\")+COUNTIF(Paramètres!K204,\">1\")+COUNTIF(Paramètres!L204,\">1\")+COUNTIF(Paramètres!N204,\">1\")+COUNTIF(Paramètres!O204,\">1\"))","v":""},{"$f":"Tableau4[[#This Row],[Attaques réussies]]/(Tableau4[[#This Row],[Oubli]]+Tableau4[[#This Row],[Attaques ratées]]+Tableau4[[#This Row],[Attaques réussies]])","v":{"$error":"#VALUE!"}}]
[{"$f":"IF(ISBLANK(Paramètres!A205),\"\",Paramètres!A205)","v":""},{"$f":"IFERROR(AVERAGE(Paramètres!B205,Paramètres!E205,Paramètres!H205,Paramètres!K205,Paramètres!N205),\"\")","v":""},{"$f":"IFERROR(AVERAGE((Paramètres!C205,Paramètres!F205,Paramètres!I205,Paramètres!L205,Paramètres!O205)),\"\")","v":""},{"$f":"IFERROR(AVERAGE((Paramètres!D205,Paramètres!G205,Paramètres!J205,Paramètres!M205,Paramètres!P205)),\"\")","v":""},{"$f":"IF(A206=\"\",\"\",COUNTIF(Paramètres!B205:C205,\"-\")+COUNTIF(Paramètres!E205:F205,\"-\")+COUNTIF(Paramètres!H205:I205,\"-\")+COUNTIF(Paramètres!K205:L205,\"-\")+COUNTIF(Paramètres!N205:O205,\"-\"))","v":""},{"$f":"IF(A206=\"\",\"\",COUNTIF(Paramètres!B205,\"<2\")+COUNTIF(Paramètres!C205,\"<2\")+COUNTIF(Paramètres!E205,\"<2\")+COUNTIF(Paramètres!F205,\"<2\")+COUNTIF(Paramètres!H205,\"<2\")+COUNTIF(Paramètres!I205,\"<2\")+COUNTIF(Paramètres!K205,\"<2\")+COUNTIF(Paramètres!L205,\"<2\")+COUNTIF(Paramètres!N205,\"<2\")+COUNTIF(Paramètres!O205,\"<2\"))","v":""},{"$f":"IF(A206=\"\",\"\",COUNTIF(Paramètres!B205,\">1\")+COUNTIF(Paramètres!C205,\">1\")+COUNTIF(Paramètres!E205,\">1\")+COUNTIF(Paramètres!F205,\">1\")+COUNTIF(Paramètres!H205,\">1\")+COUNTIF(Paramètres!I205,\">1\")+COUNTIF(Paramètres!K205,\">1\")+COUNTIF(Paramètres!L205,\">1\")+COUNTIF(Paramètres!N205,\">1\")+COUNTIF(Paramètres!O205,\">1\"))","v":""},{"$f":"Tableau4[[#This Row],[Attaques réussies]]/(Tableau4[[#This Row],[Oubli]]+Tableau4[[#This Row],[Attaques ratées]]+Tableau4[[#This Row],[Attaques réussies]])","v":{"$error":"#VALUE!"}}]
[{"$f":"IF(ISBLANK(Paramètres!A206),\"\",Paramètres!A206)","v":""},{"$f":"IFERROR(AVERAGE(Paramètres!B206,Paramètres!E206,Paramètres!H206,Paramètres!K206,Paramètres!N206),\"\")","v":""},{"$f":"IFERROR(AVERAGE((Paramètres!C206,Paramètres!F206,Paramètres!I206,Paramètres!L206,Paramètres!O206)),\"\")","v":""},{"$f":"IFERROR(AVERAGE((Paramètres!D206,Paramètres!G206,Paramètres!J206,Paramètres!M206,Paramètres!P206)),\"\")","v":""},{"$f":"IF(A207=\"\",\"\",COUNTIF(Paramètres!B206:C206,\"-\")+COUNTIF(Paramètres!E206:F206,\"-\")+COUNTIF(Paramètres!H206:I206,\"-\")+COUNTIF(Paramètres!K206:L206,\"-\")+COUNTIF(Paramètres!N206:O206,\"-\"))","v":""},{"$f":"IF(A207=\"\",\"\",COUNTIF(Paramètres!B206,\"<2\")+COUNTIF(Paramètres!C206,\"<2\")+COUNTIF(Paramètres!E206,\"<2\")+COUNTIF(Paramètres!F206,\"<2\")+COUNTIF(Paramètres!H206,\"<2\")+COUNTIF(Paramètres!I206,\"<2\")+COUNTIF(Paramètres!K206,\"<2\")+COUNTIF(Paramètres!L206,\"<2\")+COUNTIF(Paramètres!N206,\"<2\")+COUNTIF(Paramètres!O206,\"<2\"))","v":""},{"$f":"IF(A207=\"\",\"\",COUNTIF(Paramètres!B206,\">1\")+COUNTIF(Paramètres!C206,\">1\")+COUNTIF(Paramètres!E206,\">1\")+COUNTIF(Paramètres!F206,\">1\")+COUNTIF(Paramètres!H206,\">1\")+COUNTIF(Paramètres!I206,\">1\")+COUNTIF(Paramètres!K206,\">1\")+COUNTIF(Paramètres!L206,\">1\")+COUNTIF(Paramètres!N206,\">1\")+COUNTIF(Paramètres!O206,\">1\"))","v":""},{"$f":"Tableau4[[#This Row],[Attaques réussies]]/(Tableau4[[#This Row],[Oubli]]+Tableau4[[#This Row],[Attaques ratées]]+Tableau4[[#This Row],[Attaques réussies]])","v":{"$error":"#VALUE!"}}]
[{"$f":"IF(ISBLANK(Paramètres!A207),\"\",Paramètres!A207)","v":""},{"$f":"IFERROR(AVERAGE(Paramètres!B207,Paramètres!E207,Paramètres!H207,Paramètres!K207,Paramètres!N207),\"\")","v":""},{"$f":"IFERROR(AVERAGE((Paramètres!C207,Paramètres!F207,Paramètres!I207,Paramètres!L207,Paramètres!O207)),\"\")","v":""},{"$f":"IFERROR(AVERAGE((Paramètres!D207,Paramètres!G207,Paramètres!J207,Paramètres!M207,Paramètres!P207)),\"\")","v":""},{"$f":"IF(A208=\"\",\"\",COUNTIF(Paramètres!B207:C207,\"-\")+COUNTIF(Paramètres!E207:F207,\"-\")+COUNTIF(Paramètres!H207:I207,\"-\")+COUNTIF(Paramètres!K207:L207,\"-\")+COUNTIF(Paramètres!N207:O207,\"-\"))","v":""},{"$f":"IF(A208=\"\",\"\",COUNTIF(Paramètres!B207,\"<2\")+COUNTIF(Paramètres!C207,\"<2\")+COUNTIF(Paramètres!E207,\"<2\")+COUNTIF(Paramètres!F207,\"<2\")+COUNTIF(Paramètres!H207,\"<2\")+COUNTIF(Paramètres!I207,\"<2\")+COUNTIF(Paramètres!K207,\"<2\")+COUNTIF(Paramètres!L207,\"<2\")+COUNTIF(Paramètres!N207,\"<2\")+COUNTIF(Paramètres!O207,\"<2\"))","v":""},{"$f":"IF(A208=\"\",\"\",COUNTIF(Paramètres!B207,\">1\")+COUNTIF(Paramètres!C207,\">1\")+COUNTIF(Paramètres!E207,\">1\")+COUNTIF(Paramètres!F207,\">1\")+COUNTIF(Paramètres!H207,\">1\")+COUNTIF(Paramètres!I207,\">1\")+COUNTIF(Paramètres!K207,\">1\")+COUNTIF(Paramètres!L207,\">1\")+COUNTIF(Paramètres!N207,\">1\")+COUNTIF(Paramètres!O207,\">1\"))","v":""},{"$f":"Tableau4[[#This Row],[Attaques réussies]]/(Tableau4[[#This Row],[Oubli]]+Tableau4[[#This Row],[Attaques ratées]]+Tableau4[[#This Row],[Attaques réussies]])","v":{"$error":"#VALUE!"}}]
[{"$f":"IF(ISBLANK(Paramètres!A208),\"\",Paramètres!A208)","v":""},{"$f":"IFERROR(AVERAGE(Paramètres!B208,Paramètres!E208,Paramètres!H208,Paramètres!K208,Paramètres!N208),\"\")","v":""},{"$f":"IFERROR(AVERAGE((Paramètres!C208,Paramètres!F208,Paramètres!I208,Paramètres!L208,Paramètres!O208)),\"\")","v":""},{"$f":"IFERROR(AVERAGE((Paramètres!D208,Paramètres!G208,Paramètres!J208,Paramètres!M208,Paramètres!P208)),\"\")","v":""},{"$f":"IF(A209=\"\",\"\",COUNTIF(Paramètres!B208:C208,\"-\")+COUNTIF(Paramètres!E208:F208,\"-\")+COUNTIF(Paramètres!H208:I208,\"-\")+COUNTIF(Paramètres!K208:L208,\"-\")+COUNTIF(Paramètres!N208:O208,\"-\"))","v":""},{"$f":"IF(A209=\"\",\"\",COUNTIF(Paramètres!B208,\"<2\")+COUNTIF(Paramètres!C208,\"<2\")+COUNTIF(Paramètres!E208,\"<2\")+COUNTIF(Paramètres!F208,\"<2\")+COUNTIF(Paramètres!H208,\"<2\")+COUNTIF(Paramètres!I208,\"<2\")+COUNTIF(Paramètres!K208,\"<2\")+COUNTIF(Paramètres!L208,\"<2\")+COUNTIF(Paramètres!N208,\"<2\")+COUNTIF(Paramètres!O208,\"<2\"))","v":""},{"$f":"IF(A209=\"\",\"\",COUNTIF(Paramètres!B208,\">1\")+COUNTIF(Paramètres!C208,\">1\")+COUNTIF(Paramètres!E208,\">1\")+COUNTIF(Paramètres!F208,\">1\")+COUNTIF(Paramètres!H208,\">1\")+COUNTIF(Paramètres!I208,\">1\")+COUNTIF(Paramètres!K208,\">1\")+COUNTIF(Paramètres!L208,\">1\")+COUNTIF(Paramètres!N208,\">1\")+COUNTIF(Paramètres!O208,\">1\"))","v":""},{"$f":"Tableau4[[#This Row],[Attaques réussies]]/(Tableau4[[#This Row],[Oubli]]+Tableau4[[#This Row],[Attaques ratées]]+Tableau4[[#This Row],[Attaques réussies]])","v":{"$error":"#VALUE!"}}]
[{"$f":"IF(ISBLANK(Paramètres!A209),\"\",Paramètres!A209)","v":""},{"$f":"IFERROR(AVERAGE(Paramètres!B209,Paramètres!E209,Paramètres!H209,Paramètres!K209,Paramètres!N209),\"\")","v":""},{"$f":"IFERROR(AVERAGE((Paramètres!C209,Paramètres!F209,Paramètres!I209,Paramètres!L209,Paramètres!O209)),\"\")","v":""},{"$f":"IFERROR(AVERAGE((Paramètres!D209,Paramètres!G209,Paramètres!J209,Paramètres!M209,Paramètres!P209)),\"\")","v":""},{"$f":"IF(A210=\"\",\"\",COUNTIF(Paramètres!B209:C209,\"-\")+COUNTIF(Paramètres!E209:F209,\"-\")+COUNTIF(Paramètres!H209:I209,\"-\")+COUNTIF(Paramètres!K209:L209,\"-\")+COUNTIF(Paramètres!N209:O209,\"-\"))","v":""},{"$f":"IF(A210=\"\",\"\",COUNTIF(Paramètres!B209,\"<2\")+COUNTIF(Paramètres!C209,\"<2\")+COUNTIF(Paramètres!E209,\"<2\")+COUNTIF(Paramètres!F209,\"<2\")+COUNTIF(Paramètres!H209,\"<2\")+COUNTIF(Paramètres!I209,\"<2\")+COUNTIF(Paramètres!K209,\"<2\")+COUNTIF(Paramètres!L209,\"<2\")+COUNTIF(Paramètres!N209,\"<2\")+COUNTIF(Paramètres!O209,\"<2\"))","v":""},{"$f":"IF(A210=\"\",\"\",COUNTIF(Paramètres!B209,\">1\")+COUNTIF(Paramètres!C209,\">1\")+COUNTIF(Paramètres!E209,\">1\")+COUNTIF(Paramètres!F209,\">1\")+COUNTIF(Paramètres!H209,\">1\")+COUNTIF(Paramètres!I209,\">1\")+COUNTIF(Paramètres!K209,\">1\")+COUNTIF(Paramètres!L209,\">1\")+COUNTIF(Paramètres!N209,\">1\")+COUNTIF(Paramètres!O209,\">1\"))","v":""},{"$f":"Tableau4[[#This Row],[Attaques réussies]]/(Tableau4[[#This Row],[Oubli]]+Tableau4[[#This Row],[Attaques ratées]]+Tableau4[[#This Row],[Attaques réussies]])","v":{"$error":"#VALUE!"}}]
[{"$f":"IF(ISBLANK(Paramètres!A210),\"\",Paramètres!A210)","v":""},{"$f":"IFERROR(AVERAGE(Paramètres!B210,Paramètres!E210,Paramètres!H210,Paramètres!K210,Paramètres!N210),\"\")","v":""},{"$f":"IFERROR(AVERAGE((Paramètres!C210,Paramètres!F210,Paramètres!I210,Paramètres!L210,Paramètres!O210)),\"\")","v":""},{"$f":"IFERROR(AVERAGE((Paramètres!D210,Paramètres!G210,Paramètres!J210,Paramètres!M210,Paramètres!P210)),\"\")","v":""},{"$f":"IF(A211=\"\",\"\",COUNTIF(Paramètres!B210:C210,\"-\")+COUNTIF(Paramètres!E210:F210,\"-\")+COUNTIF(Paramètres!H210:I210,\"-\")+COUNTIF(Paramètres!K210:L210,\"-\")+COUNTIF(Paramètres!N210:O210,\"-\"))","v":""},{"$f":"IF(A211=\"\",\"\",COUNTIF(Paramètres!B210,\"<2\")+COUNTIF(Paramètres!C210,\"<2\")+COUNTIF(Paramètres!E210,\"<2\")+COUNTIF(Paramètres!F210,\"<2\")+COUNTIF(Paramètres!H210,\"<2\")+COUNTIF(Paramètres!I210,\"<2\")+COUNTIF(Paramètres!K210,\"<2\")+COUNTIF(Paramètres!L210,\"<2\")+COUNTIF(Paramètres!N210,\"<2\")+COUNTIF(Paramètres!O210,\"<2\"))","v":""},{"$f":"IF(A211=\"\",\"\",COUNTIF(Paramètres!B210,\">1\")+COUNTIF(Paramètres!C210,\">1\")+COUNTIF(Paramètres!E210,\">1\")+COUNTIF(Paramètres!F210,\">1\")+COUNTIF(Paramètres!H210,\">1\")+COUNTIF(Paramètres!I210,\">1\")+COUNTIF(Paramètres!K210,\">1\")+COUNTIF(Paramètres!L210,\">1\")+COUNTIF(Paramètres!N210,\">1\")+COUNTIF(Paramètres!O210,\">1\"))","v":""},{"$f":"Tableau4[[#This Row],[Attaques réussies]]/(Tableau4[[#This Row],[Oubli]]+Tableau4[[#This Row],[Attaques ratées]]+Tableau4[[#This Row],[Attaques réussies]])","v":{"$error":"#VALUE!"}}]
[{"$f":"IF(ISBLANK(Paramètres!A211),\"\",Paramètres!A211)","v":""},{"$f":"IFERROR(AVERAGE(Paramètres!B211,Paramètres!E211,Paramètres!H211,Paramètres!K211,Paramètres!N211),\"\")","v":""},{"$f":"IFERROR(AVERAGE((Paramètres!C211,Paramètres!F211,Paramètres!I211,Paramètres!L211,Paramètres!O211)),\"\")","v":""},{"$f":"IFERROR(AVERAGE((Paramètres!D211,Paramètres!G211,Paramètres!J211,Paramètres!M211,Paramètres!P211)),\"\")","v":""},{"$f":"IF(A212=\"\",\"\",COUNTIF(Paramètres!B211:C211,\"-\")+COUNTIF(Paramètres!E211:F211,\"-\")+COUNTIF(Paramètres!H211:I211,\"-\")+COUNTIF(Paramètres!K211:L211,\"-\")+COUNTIF(Paramètres!N211:O211,\"-\"))","v":""},{"$f":"IF(A212=\"\",\"\",COUNTIF(Paramètres!B211,\"<2\")+COUNTIF(Paramètres!C211,\"<2\")+COUNTIF(Paramètres!E211,\"<2\")+COUNTIF(Paramètres!F211,\"<2\")+COUNTIF(Paramètres!H211,\"<2\")+COUNTIF(Paramètres!I211,\"<2\")+COUNTIF(Paramètres!K211,\"<2\")+COUNTIF(Paramètres!L211,\"<2\")+COUNTIF(Paramètres!N211,\"<2\")+COUNTIF(Paramètres!O211,\"<2\"))","v":""},{"$f":"IF(A212=\"\",\"\",COUNTIF(Paramètres!B211,\">1\")+COUNTIF(Paramètres!C211,\">1\")+COUNTIF(Paramètres!E211,\">1\")+COUNTIF(Paramètres!F211,\">1\")+COUNTIF(Paramètres!H211,\">1\")+COUNTIF(Paramètres!I211,\">1\")+COUNTIF(Paramètres!K211,\">1\")+COUNTIF(Paramètres!L211,\">1\")+COUNTIF(Paramètres!N211,\">1\")+COUNTIF(Paramètres!O211,\">1\"))","v":""},{"$f":"Tableau4[[#This Row],[Attaques réussies]]/(Tableau4[[#This Row],[Oubli]]+Tableau4[[#This Row],[Attaques ratées]]+Tableau4[[#This Row],[Attaques réussies]])","v":{"$error":"#VALUE!"}}]
[{"$f":"IF(ISBLANK(Paramètres!A212),\"\",Paramètres!A212)","v":""},{"$f":"IFERROR(AVERAGE(Paramètres!B212,Paramètres!E212,Paramètres!H212,Paramètres!K212,Paramètres!N212),\"\")","v":""},{"$f":"IFERROR(AVERAGE((Paramètres!C212,Paramètres!F212,Paramètres!I212,Paramètres!L212,Paramètres!O212)),\"\")","v":""},{"$f":"IFERROR(AVERAGE((Paramètres!D212,Paramètres!G212,Paramètres!J212,Paramètres!M212,Paramètres!P212)),\"\")","v":""},{"$f":"IF(A213=\"\",\"\",COUNTIF(Paramètres!B212:C212,\"-\")+COUNTIF(Paramètres!E212:F212,\"-\")+COUNTIF(Paramètres!H212:I212,\"-\")+COUNTIF(Paramètres!K212:L212,\"-\")+COUNTIF(Paramètres!N212:O212,\"-\"))","v":""},{"$f":"IF(A213=\"\",\"\",COUNTIF(Paramètres!B212,\"<2\")+COUNTIF(Paramètres!C212,\"<2\")+COUNTIF(Paramètres!E212,\"<2\")+COUNTIF(Paramètres!F212,\"<2\")+COUNTIF(Paramètres!H212,\"<2\")+COUNTIF(Paramètres!I212,\"<2\")+COUNTIF(Paramètres!K212,\"<2\")+COUNTIF(Paramètres!L212,\"<2\")+COUNTIF(Paramètres!N212,\"<2\")+COUNTIF(Paramètres!O212,\"<2\"))","v":""},{"$f":"IF(A213=\"\",\"\",COUNTIF(Paramètres!B212,\">1\")+COUNTIF(Paramètres!C212,\">1\")+COUNTIF(Paramètres!E212,\">1\")+COUNTIF(Paramètres!F212,\">1\")+COUNTIF(Paramètres!H212,\">1\")+COUNTIF(Paramètres!I212,\">1\")+COUNTIF(Paramètres!K212,\">1\")+COUNTIF(Paramètres!L212,\">1\")+COUNTIF(Paramètres!N212,\">1\")+COUNTIF(Paramètres!O212,\">1\"))","v":""},{"$f":"Tableau4[[#This Row],[Attaques réussies]]/(Tableau4[[#This Row],[Oubli]]+Tableau4[[#This Row],[Attaques ratées]]+Tableau4[[#This Row],[Attaques réussies]])","v":{"$error":"#VALUE!"}}]
[{"$f":"IF(ISBLANK(Paramètres!A213),\"\",Paramètres!A213)","v":""},{"$f":"IFERROR(AVERAGE(Paramètres!B213,Paramètres!E213,Paramètres!H213,Paramètres!K213,Paramètres!N213),\"\")","v":""},{"$f":"IFERROR(AVERAGE((Paramètres!C213,Paramètres!F213,Paramètres!I213,Paramètres!L213,Paramètres!O213)),\"\")","v":""},{"$f":"IFERROR(AVERAGE((Paramètres!D213,Paramètres!G213,Paramètres!J213,Paramètres!M213,Paramètres!P213)),\"\")","v":""},{"$f":"IF(A214=\"\",\"\",COUNTIF(Paramètres!B213:C213,\"-\")+COUNTIF(Paramètres!E213:F213,\"-\")+COUNTIF(Paramètres!H213:I213,\"-\")+COUNTIF(Paramètres!K213:L213,\"-\")+COUNTIF(Paramètres!N213:O213,\"-\"))","v":""},{"$f":"IF(A214=\"\",\"\",COUNTIF(Paramètres!B213,\"<2\")+COUNTIF(Paramètres!C213,\"<2\")+COUNTIF(Paramètres!E213,\"<2\")+COUNTIF(Paramètres!F213,\"<2\")+COUNTIF(Paramètres!H213,\"<2\")+COUNTIF(Paramètres!I213,\"<2\")+COUNTIF(Paramètres!K213,\"<2\")+COUNTIF(Paramètres!L213,\"<2\")+COUNTIF(Paramètres!N213,\"<2\")+COUNTIF(Paramètres!O213,\"<2\"))","v":""},{"$f":"IF(A214=\"\",\"\",COUNTIF(Paramètres!B213,\">1\")+COUNTIF(Paramètres!C213,\">1\")+COUNTIF(Paramètres!E213,\">1\")+COUNTIF(Paramètres!F213,\">1\")+COUNTIF(Paramètres!H213,\">1\")+COUNTIF(Paramètres!I213,\">1\")+COUNTIF(Paramètres!K213,\">1\")+COUNTIF(Paramètres!L213,\">1\")+COUNTIF(Paramètres!N213,\">1\")+COUNTIF(Paramètres!O213,\">1\"))","v":""},{"$f":"Tableau4[[#This Row],[Attaques réussies]]/(Tableau4[[#This Row],[Oubli]]+Tableau4[[#This Row],[Attaques ratées]]+Tableau4[[#This Row],[Attaques réussies]])","v":{"$error":"#VALUE!"}}]
[{"$f":"IF(ISBLANK(Paramètres!A214),\"\",Paramètres!A214)","v":""},{"$f":"IFERROR(AVERAGE(Paramètres!B214,Paramètres!E214,Paramètres!H214,Paramètres!K214,Paramètres!N214),\"\")","v":""},{"$f":"IFERROR(AVERAGE((Paramètres!C214,Paramètres!F214,Paramètres!I214,Paramètres!L214,Paramètres!O214)),\"\")","v":""},{"$f":"IFERROR(AVERAGE((Paramètres!D214,Paramètres!G214,Paramètres!J214,Paramètres!M214,Paramètres!P214)),\"\")","v":""},{"$f":"IF(A215=\"\",\"\",COUNTIF(Paramètres!B214:C214,\"-\")+COUNTIF(Paramètres!E214:F214,\"-\")+COUNTIF(Paramètres!H214:I214,\"-\")+COUNTIF(Paramètres!K214:L214,\"-\")+COUNTIF(Paramètres!N214:O214,\"-\"))","v":""},{"$f":"IF(A215=\"\",\"\",COUNTIF(Paramètres!B214,\"<2\")+COUNTIF(Paramètres!C214,\"<2\")+COUNTIF(Paramètres!E214,\"<2\")+COUNTIF(Paramètres!F214,\"<2\")+COUNTIF(Paramètres!H214,\"<2\")+COUNTIF(Paramètres!I214,\"<2\")+COUNTIF(Paramètres!K214,\"<2\")+COUNTIF(Paramètres!L214,\"<2\")+COUNTIF(Paramètres!N214,\"<2\")+COUNTIF(Paramètres!O214,\"<2\"))","v":""},{"$f":"IF(A215=\"\",\"\",COUNTIF(Paramètres!B214,\">1\")+COUNTIF(Paramètres!C214,\">1\")+COUNTIF(Paramètres!E214,\">1\")+COUNTIF(Paramètres!F214,\">1\")+COUNTIF(Paramètres!H214,\">1\")+COUNTIF(Paramètres!I214,\">1\")+COUNTIF(Paramètres!K214,\">1\")+COUNTIF(Paramètres!L214,\">1\")+COUNTIF(Paramètres!N214,\">1\")+COUNTIF(Paramètres!O214,\">1\"))","v":""},{"$f":"Tableau4[[#This Row],[Attaques réussies]]/(Tableau4[[#This Row],[Oubli]]+Tableau4[[#This Row],[Attaques ratées]]+Tableau4[[#This Row],[Attaques réussies]])","v":{"$error":"#VALUE!"}}]
[{"$f":"IF(ISBLANK(Paramètres!A215),\"\",Paramètres!A215)","v":""},{"$f":"IFERROR(AVERAGE(Paramètres!B215,Paramètres!E215,Paramètres!H215,Paramètres!K215,Paramètres!N215),\"\")","v":""},{"$f":"IFERROR(AVERAGE((Paramètres!C215,Paramètres!F215,Paramètres!I215,Paramètres!L215,Paramètres!O215)),\"\")","v":""},{"$f":"IFERROR(AVERAGE((Paramètres!D215,Paramètres!G215,Paramètres!J215,Paramètres!M215,Paramètres!P215)),\"\")","v":""},{"$f":"IF(A216=\"\",\"\",COUNTIF(Paramètres!B215:C215,\"-\")+COUNTIF(Paramètres!E215:F215,\"-\")+COUNTIF(Paramètres!H215:I215,\"-\")+COUNTIF(Paramètres!K215:L215,\"-\")+COUNTIF(Paramètres!N215:O215,\"-\"))","v":""},{"$f":"IF(A216=\"\",\"\",COUNTIF(Paramètres!B215,\"<2\")+COUNTIF(Paramètres!C215,\"<2\")+COUNTIF(Paramètres!E215,\"<2\")+COUNTIF(Paramètres!F215,\"<2\")+COUNTIF(Paramètres!H215,\"<2\")+COUNTIF(Paramètres!I215,\"<2\")+COUNTIF(Paramètres!K215,\"<2\")+COUNTIF(Paramètres!L215,\"<2\")+COUNTIF(Paramètres!N215,\"<2\")+COUNTIF(Paramètres!O215,\"<2\"))","v":""},{"$f":"IF(A216=\"\",\"\",COUNTIF(Paramètres!B215,\">1\")+COUNTIF(Paramètres!C215,\">1\")+COUNTIF(Paramètres!E215,\">1\")+COUNTIF(Paramètres!F215,\">1\")+COUNTIF(Paramètres!H215,\">1\")+COUNTIF(Paramètres!I215,\">1\")+COUNTIF(Paramètres!K215,\">1\")+COUNTIF(Paramètres!L215,\">1\")+COUNTIF(Paramètres!N215,\">1\")+COUNTIF(Paramètres!O215,\">1\"))","v":""},{"$f":"Tableau4[[#This Row],[Attaques réussies]]/(Tableau4[[#This Row],[Oubli]]+Tableau4[[#This Row],[Attaques ratées]]+Tableau4[[#This Row],[Attaques réussies]])","v":{"$error":"#VALUE!"}}]
[{"$f":"IF(ISBLANK(Paramètres!A216),\"\",Paramètres!A216)","v":""},{"$f":"IFERROR(AVERAGE(Paramètres!B216,Paramètres!E216,Paramètres!H216,Paramètres!K216,Paramètres!N216),\"\")","v":""},{"$f":"IFERROR(AVERAGE((Paramètres!C216,Paramètres!F216,Paramètres!I216,Paramètres!L216,Paramètres!O216)),\"\")","v":""},{"$f":"IFERROR(AVERAGE((Paramètres!D216,Paramètres!G216,Paramètres!J216,Paramètres!M216,Paramètres!P216)),\"\")","v":""},{"$f":"IF(A217=\"\",\"\",COUNTIF(Paramètres!B216:C216,\"-\")+COUNTIF(Paramètres!E216:F216,\"-\")+COUNTIF(Paramètres!H216:I216,\"-\")+COUNTIF(Paramètres!K216:L216,\"-\")+COUNTIF(Paramètres!N216:O216,\"-\"))","v":""},{"$f":"IF(A217=\"\",\"\",COUNTIF(Paramètres!B216,\"<2\")+COUNTIF(Paramètres!C216,\"<2\")+COUNTIF(Paramètres!E216,\"<2\")+COUNTIF(Paramètres!F216,\"<2\")+COUNTIF(Paramètres!H216,\"<2\")+COUNTIF(Paramètres!I216,\"<2\")+COUNTIF(Paramètres!K216,\"<2\")+COUNTIF(Paramètres!L216,\"<2\")+COUNTIF(Paramètres!N216,\"<2\")+COUNTIF(Paramètres!O216,\"<2\"))","v":""},{"$f":"IF(A217=\"\",\"\",COUNTIF(Paramètres!B216,\">1\")+COUNTIF(Paramètres!C216,\">1\")+COUNTIF(Paramètres!E216,\">1\")+COUNTIF(Paramètres!F216,\">1\")+COUNTIF(Paramètres!H216,\">1\")+COUNTIF(Paramètres!I216,\">1\")+COUNTIF(Paramètres!K216,\">1\")+COUNTIF(Paramètres!L216,\">1\")+COUNTIF(Paramètres!N216,\">1\")+COUNTIF(Paramètres!O216,\">1\"))","v":""},{"$f":"Tableau4[[#This Row],[Attaques réussies]]/(Tableau4[[#This Row],[Oubli]]+Tableau4[[#This Row],[Attaques ratées]]+Tableau4[[#This Row],[Attaques réussies]])","v":{"$error":"#VALUE!"}}]
[{"$f":"IF(ISBLANK(Paramètres!A217),\"\",Paramètres!A217)","v":""},{"$f":"IFERROR(AVERAGE(Paramètres!B217,Paramètres!E217,Paramètres!H217,Paramètres!K217,Paramètres!N217),\"\")","v":""},{"$f":"IFERROR(AVERAGE((Paramètres!C217,Paramètres!F217,Paramètres!I217,Paramètres!L217,Paramètres!O217)),\"\")","v":""},{"$f":"IFERROR(AVERAGE((Paramètres!D217,Paramètres!G217,Paramètres!J217,Paramètres!M217,Paramètres!P217)),\"\")","v":""},{"$f":"IF(A218=\"\",\"\",COUNTIF(Paramètres!B217:C217,\"-\")+COUNTIF(Paramètres!E217:F217,\"-\")+COUNTIF(Paramètres!H217:I217,\"-\")+COUNTIF(Paramètres!K217:L217,\"-\")+COUNTIF(Paramètres!N217:O217,\"-\"))","v":""},{"$f":"IF(A218=\"\",\"\",COUNTIF(Paramètres!B217,\"<2\")+COUNTIF(Paramètres!C217,\"<2\")+COUNTIF(Paramètres!E217,\"<2\")+COUNTIF(Paramètres!F217,\"<2\")+COUNTIF(Paramètres!H217,\"<2\")+COUNTIF(Paramètres!I217,\"<2\")+COUNTIF(Paramètres!K217,\"<2\")+COUNTIF(Paramètres!L217,\"<2\")+COUNTIF(Paramètres!N217,\"<2\")+COUNTIF(Paramètres!O217,\"<2\"))","v":""},{"$f":"IF(A218=\"\",\"\",COUNTIF(Paramètres!B217,\">1\")+COUNTIF(Paramètres!C217,\">1\")+COUNTIF(Paramètres!E217,\">1\")+COUNTIF(Paramètres!F217,\">1\")+COUNTIF(Paramètres!H217,\">1\")+COUNTIF(Paramètres!I217,\">1\")+COUNTIF(Paramètres!K217,\">1\")+COUNTIF(Paramètres!L217,\">1\")+COUNTIF(Paramètres!N217,\">1\")+COUNTIF(Paramètres!O217,\">1\"))","v":""},{"$f":"Tableau4[[#This Row],[Attaques réussies]]/(Tableau4[[#This Row],[Oubli]]+Tableau4[[#This Row],[Attaques ratées]]+Tableau4[[#This Row],[Attaques réussies]])","v":{"$error":"#VALUE!"}}]
[{"$f":"IF(ISBLANK(Paramètres!A218),\"\",Paramètres!A218)","v":""},{"$f":"IFERROR(AVERAGE(Paramètres!B218,Paramètres!E218,Paramètres!H218,Paramètres!K218,Paramètres!N218),\"\")","v":""},{"$f":"IFERROR(AVERAGE((Paramètres!C218,Paramètres!F218,Paramètres!I218,Paramètres!L218,Paramètres!O218)),\"\")","v":""},{"$f":"IFERROR(AVERAGE((Paramètres!D218,Paramètres!G218,Paramètres!J218,Paramètres!M218,Paramètres!P218)),\"\")","v":""},{"$f":"IF(A219=\"\",\"\",COUNTIF(Paramètres!B218:C218,\"-\")+COUNTIF(Paramètres!E218:F218,\"-\")+COUNTIF(Paramètres!H218:I218,\"-\")+COUNTIF(Paramètres!K218:L218,\"-\")+COUNTIF(Paramètres!N218:O218,\"-\"))","v":""},{"$f":"IF(A219=\"\",\"\",COUNTIF(Paramètres!B218,\"<2\")+COUNTIF(Paramètres!C218,\"<2\")+COUNTIF(Paramètres!E218,\"<2\")+COUNTIF(Paramètres!F218,\"<2\")+COUNTIF(Paramètres!H218,\"<2\")+COUNTIF(Paramètres!I218,\"<2\")+COUNTIF(Paramètres!K218,\"<2\")+COUNTIF(Paramètres!L218,\"<2\")+COUNTIF(Paramètres!N218,\"<2\")+COUNTIF(Paramètres!O218,\"<2\"))","v":""},{"$f":"IF(A219=\"\",\"\",COUNTIF(Paramètres!B218,\">1\")+COUNTIF(Paramètres!C218,\">1\")+COUNTIF(Paramètres!E218,\">1\")+COUNTIF(Paramètres!F218,\">1\")+COUNTIF(Paramètres!H218,\">1\")+COUNTIF(Paramètres!I218,\">1\")+COUNTIF(Paramètres!K218,\">1\")+COUNTIF(Paramètres!L218,\">1\")+COUNTIF(Paramètres!N218,\">1\")+COUNTIF(Paramètres!O218,\">1\"))","v":""},{"$f":"Tableau4[[#This Row],[Attaques réussies]]/(Tableau4[[#This Row],[Oubli]]+Tableau4[[#This Row],[Attaques ratées]]+Tableau4[[#This Row],[Attaques réussies]])","v":{"$error":"#VALUE!"}}]
[{"$f":"IF(ISBLANK(Paramètres!A219),\"\",Paramètres!A219)","v":""},{"$f":"IFERROR(AVERAGE(Paramètres!B219,Paramètres!E219,Paramètres!H219,Paramètres!K219,Paramètres!N219),\"\")","v":""},{"$f":"IFERROR(AVERAGE((Paramètres!C219,Paramètres!F219,Paramètres!I219,Paramètres!L219,Paramètres!O219)),\"\")","v":""},{"$f":"IFERROR(AVERAGE((Paramètres!D219,Paramètres!G219,Paramètres!J219,Paramètres!M219,Paramètres!P219)),\"\")","v":""},{"$f":"IF(A220=\"\",\"\",COUNTIF(Paramètres!B219:C219,\"-\")+COUNTIF(Paramètres!E219:F219,\"-\")+COUNTIF(Paramètres!H219:I219,\"-\")+COUNTIF(Paramètres!K219:L219,\"-\")+COUNTIF(Paramètres!N219:O219,\"-\"))","v":""},{"$f":"IF(A220=\"\",\"\",COUNTIF(Paramètres!B219,\"<2\")+COUNTIF(Paramètres!C219,\"<2\")+COUNTIF(Paramètres!E219,\"<2\")+COUNTIF(Paramètres!F219,\"<2\")+COUNTIF(Paramètres!H219,\"<2\")+COUNTIF(Paramètres!I219,\"<2\")+COUNTIF(Paramètres!K219,\"<2\")+COUNTIF(Paramètres!L219,\"<2\")+COUNTIF(Paramètres!N219,\"<2\")+COUNTIF(Paramètres!O219,\"<2\"))","v":""},{"$f":"IF(A220=\"\",\"\",COUNTIF(Paramètres!B219,\">1\")+COUNTIF(Paramètres!C219,\">1\")+COUNTIF(Paramètres!E219,\">1\")+COUNTIF(Paramètres!F219,\">1\")+COUNTIF(Paramètres!H219,\">1\")+COUNTIF(Paramètres!I219,\">1\")+COUNTIF(Paramètres!K219,\">1\")+COUNTIF(Paramètres!L219,\">1\")+COUNTIF(Paramètres!N219,\">1\")+COUNTIF(Paramètres!O219,\">1\"))","v":""},{"$f":"Tableau4[[#This Row],[Attaques réussies]]/(Tableau4[[#This Row],[Oubli]]+Tableau4[[#This Row],[Attaques ratées]]+Tableau4[[#This Row],[Attaques réussies]])","v":{"$error":"#VALUE!"}}]
[{"$f":"IF(ISBLANK(Paramètres!A220),\"\",Paramètres!A220)","v":""},{"$f":"IFERROR(AVERAGE(Paramètres!B220,Paramètres!E220,Paramètres!H220,Paramètres!K220,Paramètres!N220),\"\")","v":""},{"$f":"IFERROR(AVERAGE((Paramètres!C220,Paramètres!F220,Paramètres!I220,Paramètres!L220,Paramètres!O220)),\"\")","v":""},{"$f":"IFERROR(AVERAGE((Paramètres!D220,Paramètres!G220,Paramètres!J220,Paramètres!M220,Paramètres!P220)),\"\")","v":""},{"$f":"IF(A221=\"\",\"\",COUNTIF(Paramètres!B220:C220,\"-\")+COUNTIF(Paramètres!E220:F220,\"-\")+COUNTIF(Paramètres!H220:I220,\"-\")+COUNTIF(Paramètres!K220:L220,\"-\")+COUNTIF(Paramètres!N220:O220,\"-\"))","v":""},{"$f":"IF(A221=\"\",\"\",COUNTIF(Paramètres!B220,\"<2\")+COUNTIF(Paramètres!C220,\"<2\")+COUNTIF(Paramètres!E220,\"<2\")+COUNTIF(Paramètres!F220,\"<2\")+COUNTIF(Paramètres!H220,\"<2\")+COUNTIF(Paramètres!I220,\"<2\")+COUNTIF(Paramètres!K220,\"<2\")+COUNTIF(Paramètres!L220,\"<2\")+COUNTIF(Paramètres!N220,\"<2\")+COUNTIF(Paramètres!O220,\"<2\"))","v":""},{"$f":"IF(A221=\"\",\"\",COUNTIF(Paramètres!B220,\">1\")+COUNTIF(Paramètres!C220,\">1\")+COUNTIF(Paramètres!E220,\">1\")+COUNTIF(Paramètres!F220,\">1\")+COUNTIF(Paramètres!H220,\">1\")+COUNTIF(Paramètres!I220,\">1\")+COUNTIF(Paramètres!K220,\">1\")+COUNTIF(Paramètres!L220,\">1\")+COUNTIF(Paramètres!N220,\">1\")+COUNTIF(Paramètres!O220,\">1\"))","v":""},{"$f":"Tableau4[[#This Row],[Attaques réussies]]/(Tableau4[[#This Row],[Oubli]]+Tableau4[[#This Row],[Attaques ratées]]+Tableau4[[#This Row],[Attaques réussies]])","v":{"$error":"#VALUE!"}}]
[{"$f":"IF(ISBLANK(Paramètres!A221),\"\",Paramètres!A221)","v":""},{"$f":"IFERROR(AVERAGE(Paramètres!B221,Paramètres!E221,Paramètres!H221,Paramètres!K221,Paramètres!N221),\"\")","v":""},{"$f":"IFERROR(AVERAGE((Paramètres!C221,Paramètres!F221,Paramètres!I221,Paramètres!L221,Paramètres!O221)),\"\")","v":""},{"$f":"IFERROR(AVERAGE((Paramètres!D221,Paramètres!G221,Paramètres!J221,Paramètres!M221,Paramètres!P221)),\"\")","v":""},{"$f":"IF(A222=\"\",\"\",COUNTIF(Paramètres!B221:C221,\"-\")+COUNTIF(Paramètres!E221:F221,\"-\")+COUNTIF(Paramètres!H221:I221,\"-\")+COUNTIF(Paramètres!K221:L221,\"-\")+COUNTIF(Paramètres!N221:O221,\"-\"))","v":""},{"$f":"IF(A222=\"\",\"\",COUNTIF(Paramètres!B221,\"<2\")+COUNTIF(Paramètres!C221,\"<2\")+COUNTIF(Paramètres!E221,\"<2\")+COUNTIF(Paramètres!F221,\"<2\")+COUNTIF(Paramètres!H221,\"<2\")+COUNTIF(Paramètres!I221,\"<2\")+COUNTIF(Paramètres!K221,\"<2\")+COUNTIF(Paramètres!L221,\"<2\")+COUNTIF(Paramètres!N221,\"<2\")+COUNTIF(Paramètres!O221,\"<2\"))","v":""},{"$f":"IF(A222=\"\",\"\",COUNTIF(Paramètres!B221,\">1\")+COUNTIF(Paramètres!C221,\">1\")+COUNTIF(Paramètres!E221,\">1\")+COUNTIF(Paramètres!F221,\">1\")+COUNTIF(Paramètres!H221,\">1\")+COUNTIF(Paramètres!I221,\">1\")+COUNTIF(Paramètres!K221,\">1\")+COUNTIF(Paramètres!L221,\">1\")+COUNTIF(Paramètres!N221,\">1\")+COUNTIF(Paramètres!O221,\">1\"))","v":""},{"$f":"Tableau4[[#This Row],[Attaques réussies]]/(Tableau4[[#This Row],[Oubli]]+Tableau4[[#This Row],[Attaques ratées]]+Tableau4[[#This Row],[Attaques réussies]])","v":{"$error":"#VALUE!"}}]
[{"$f":"IF(ISBLANK(Paramètres!A222),\"\",Paramètres!A222)","v":""},{"$f":"IFERROR(AVERAGE(Paramètres!B222,Paramètres!E222,Paramètres!H222,Paramètres!K222,Paramètres!N222),\"\")","v":""},{"$f":"IFERROR(AVERAGE((Paramètres!C222,Paramètres!F222,Paramètres!I222,Paramètres!L222,Paramètres!O222)),\"\")","v":""},{"$f":"IFERROR(AVERAGE((Paramètres!D222,Paramètres!G222,Paramètres!J222,Paramètres!M222,Paramètres!P222)),\"\")","v":""},{"$f":"IF(A223=\"\",\"\",COUNTIF(Paramètres!B222:C222,\"-\")+COUNTIF(Paramètres!E222:F222,\"-\")+COUNTIF(Paramètres!H222:I222,\"-\")+COUNTIF(Paramètres!K222:L222,\"-\")+COUNTIF(Paramètres!N222:O222,\"-\"))","v":""},{"$f":"IF(A223=\"\",\"\",COUNTIF(Paramètres!B222,\"<2\")+COUNTIF(Paramètres!C222,\"<2\")+COUNTIF(Paramètres!E222,\"<2\")+COUNTIF(Paramètres!F222,\"<2\")+COUNTIF(Paramètres!H222,\"<2\")+COUNTIF(Paramètres!I222,\"<2\")+COUNTIF(Paramètres!K222,\"<2\")+COUNTIF(Paramètres!L222,\"<2\")+COUNTIF(Paramètres!N222,\"<2\")+COUNTIF(Paramètres!O222,\"<2\"))","v":""},{"$f":"IF(A223=\"\",\"\",COUNTIF(Paramètres!B222,\">1\")+COUNTIF(Paramètres!C222,\">1\")+COUNTIF(Paramètres!E222,\">1\")+COUNTIF(Paramètres!F222,\">1\")+COUNTIF(Paramètres!H222,\">1\")+COUNTIF(Paramètres!I222,\">1\")+COUNTIF(Paramètres!K222,\">1\")+COUNTIF(Paramètres!L222,\">1\")+COUNTIF(Paramètres!N222,\">1\")+COUNTIF(Paramètres!O222,\">1\"))","v":""},{"$f":"Tableau4[[#This Row],[Attaques réussies]]/(Tableau4[[#This Row],[Oubli]]+Tableau4[[#This Row],[Attaques ratées]]+Tableau4[[#This Row],[Attaques réussies]])","v":{"$error":"#VALUE!"}}]
[{"$f":"IF(ISBLANK(Paramètres!A223),\"\",Paramètres!A223)","v":""},{"$f":"IFERROR(AVERAGE(Paramètres!B223,Paramètres!E223,Paramètres!H223,Paramètres!K223,Paramètres!N223),\"\")","v":""},{"$f":"IFERROR(AVERAGE((Paramètres!C223,Paramètres!F223,Paramètres!I223,Paramètres!L223,Paramètres!O223)),\"\")","v":""},{"$f":"IFERROR(AVERAGE((Paramètres!D223,Paramètres!G223,Paramètres!J223,Paramètres!M223,Paramètres!P223)),\"\")","v":""},{"$f":"IF(A224=\"\",\"\",COUNTIF(Paramètres!B223:C223,\"-\")+COUNTIF(Paramètres!E223:F223,\"-\")+COUNTIF(Paramètres!H223:I223,\"-\")+COUNTIF(Paramètres!K223:L223,\"-\")+COUNTIF(Paramètres!N223:O223,\"-\"))","v":""},{"$f":"IF(A224=\"\",\"\",COUNTIF(Paramètres!B223,\"<2\")+COUNTIF(Paramètres!C223,\"<2\")+COUNTIF(Paramètres!E223,\"<2\")+COUNTIF(Paramètres!F223,\"<2\")+COUNTIF(Paramètres!H223,\"<2\")+COUNTIF(Paramètres!I223,\"<2\")+COUNTIF(Paramètres!K223,\"<2\")+COUNTIF(Paramètres!L223,\"<2\")+COUNTIF(Paramètres!N223,\"<2\")+COUNTIF(Paramètres!O223,\"<2\"))","v":""},{"$f":"IF(A224=\"\",\"\",COUNTIF(Paramètres!B223,\">1\")+COUNTIF(Paramètres!C223,\">1\")+COUNTIF(Paramètres!E223,\">1\")+COUNTIF(Paramètres!F223,\">1\")+COUNTIF(Paramètres!H223,\">1\")+COUNTIF(Paramètres!I223,\">1\")+COUNTIF(Paramètres!K223,\">1\")+COUNTIF(Paramètres!L223,\">1\")+COUNTIF(Paramètres!N223,\">1\")+COUNTIF(Paramètres!O223,\">1\"))","v":""},{"$f":"Tableau4[[#This Row],[Attaques réussies]]/(Tableau4[[#This Row],[Oubli]]+Tableau4[[#This Row],[Attaques ratées]]+Tableau4[[#This Row],[Attaques réussies]])","v":{"$error":"#VALUE!"}}]
[{"$f":"IF(ISBLANK(Paramètres!A224),\"\",Paramètres!A224)","v":""},{"$f":"IFERROR(AVERAGE(Paramètres!B224,Paramètres!E224,Paramètres!H224,Paramètres!K224,Paramètres!N224),\"\")","v":""},{"$f":"IFERROR(AVERAGE((Paramètres!C224,Paramètres!F224,Paramètres!I224,Paramètres!L224,Paramètres!O224)),\"\")","v":""},{"$f":"IFERROR(AVERAGE((Paramètres!D224,Paramètres!G224,Paramètres!J224,Paramètres!M224,Paramètres!P224)),\"\")","v":""},{"$f":"IF(A225=\"\",\"\",COUNTIF(Paramètres!B224:C224,\"-\")+COUNTIF(Paramètres!E224:F224,\"-\")+COUNTIF(Paramètres!H224:I224,\"-\")+COUNTIF(Paramètres!K224:L224,\"-\")+COUNTIF(Paramètres!N224:O224,\"-\"))","v":""},{"$f":"IF(A225=\"\",\"\",COUNTIF(Paramètres!B224,\"<2\")+COUNTIF(Paramètres!C224,\"<2\")+COUNTIF(Paramètres!E224,\"<2\")+COUNTIF(Paramètres!F224,\"<2\")+COUNTIF(Paramètres!H224,\"<2\")+COUNTIF(Paramètres!I224,\"<2\")+COUNTIF(Paramètres!K224,\"<2\")+COUNTIF(Paramètres!L224,\"<2\")+COUNTIF(Paramètres!N224,\"<2\")+COUNTIF(Paramètres!O224,\"<2\"))","v":""},{"$f":"IF(A225=\"\",\"\",COUNTIF(Paramètres!B224,\">1\")+COUNTIF(Paramètres!C224,\">1\")+COUNTIF(Paramètres!E224,\">1\")+COUNTIF(Paramètres!F224,\">1\")+COUNTIF(Paramètres!H224,\">1\")+COUNTIF(Paramètres!I224,\">1\")+COUNTIF(Paramètres!K224,\">1\")+COUNTIF(Paramètres!L224,\">1\")+COUNTIF(Paramètres!N224,\">1\")+COUNTIF(Paramètres!O224,\">1\"))","v":""},{"$f":"Tableau4[[#This Row],[Attaques réussies]]/(Tableau4[[#This Row],[Oubli]]+Tableau4[[#This Row],[Attaques ratées]]+Tableau4[[#This Row],[Attaques réussies]])","v":{"$error":"#VALUE!"}}]
[{"$f":"IF(ISBLANK(Paramètres!A225),\"\",Paramètres!A225)","v":""},{"$f":"IFERROR(AVERAGE(Paramètres!B225,Paramètres!E225,Paramètres!H225,Paramètres!K225,Paramètres!N225),\"\")","v":""},{"$f":"IFERROR(AVERAGE((Paramètres!C225,Paramètres!F225,Paramètres!I225,Paramètres!L225,Paramètres!O225)),\"\")","v":""},{"$f":"IFERROR(AVERAGE((Paramètres!D225,Paramètres!G225,Paramètres!J225,Paramètres!M225,Paramètres!P225)),\"\")","v":""},{"$f":"IF(A226=\"\",\"\",COUNTIF(Paramètres!B225:C225,\"-\")+COUNTIF(Paramètres!E225:F225,\"-\")+COUNTIF(Paramètres!H225:I225,\"-\")+COUNTIF(Paramètres!K225:L225,\"-\")+COUNTIF(Paramètres!N225:O225,\"-\"))","v":""},{"$f":"IF(A226=\"\",\"\",COUNTIF(Paramètres!B225,\"<2\")+COUNTIF(Paramètres!C225,\"<2\")+COUNTIF(Paramètres!E225,\"<2\")+COUNTIF(Paramètres!F225,\"<2\")+COUNTIF(Paramètres!H225,\"<2\")+COUNTIF(Paramètres!I225,\"<2\")+COUNTIF(Paramètres!K225,\"<2\")+COUNTIF(Paramètres!L225,\"<2\")+COUNTIF(Paramètres!N225,\"<2\")+COUNTIF(Paramètres!O225,\"<2\"))","v":""},{"$f":"IF(A226=\"\",\"\",COUNTIF(Paramètres!B225,\">1\")+COUNTIF(Paramètres!C225,\">1\")+COUNTIF(Paramètres!E225,\">1\")+COUNTIF(Paramètres!F225,\">1\")+COUNTIF(Paramètres!H225,\">1\")+COUNTIF(Paramètres!I225,\">1\")+COUNTIF(Paramètres!K225,\">1\")+COUNTIF(Paramètres!L225,\">1\")+COUNTIF(Paramètres!N225,\">1\")+COUNTIF(Paramètres!O225,\">1\"))","v":""},{"$f":"Tableau4[[#This Row],[Attaques réussies]]/(Tableau4[[#This Row],[Oubli]]+Tableau4[[#This Row],[Attaques ratées]]+Tableau4[[#This Row],[Attaques réussies]])","v":{"$error":"#VALUE!"}}]
[{"$f":"IF(ISBLANK(Paramètres!A226),\"\",Paramètres!A226)","v":""},{"$f":"IFERROR(AVERAGE(Paramètres!B226,Paramètres!E226,Paramètres!H226,Paramètres!K226,Paramètres!N226),\"\")","v":""},{"$f":"IFERROR(AVERAGE((Paramètres!C226,Paramètres!F226,Paramètres!I226,Paramètres!L226,Paramètres!O226)),\"\")","v":""},{"$f":"IFERROR(AVERAGE((Paramètres!D226,Paramètres!G226,Paramètres!J226,Paramètres!M226,Paramètres!P226)),\"\")","v":""},{"$f":"IF(A227=\"\",\"\",COUNTIF(Paramètres!B226:C226,\"-\")+COUNTIF(Paramètres!E226:F226,\"-\")+COUNTIF(Paramètres!H226:I226,\"-\")+COUNTIF(Paramètres!K226:L226,\"-\")+COUNTIF(Paramètres!N226:O226,\"-\"))","v":""},{"$f":"IF(A227=\"\",\"\",COUNTIF(Paramètres!B226,\"<2\")+COUNTIF(Paramètres!C226,\"<2\")+COUNTIF(Paramètres!E226,\"<2\")+COUNTIF(Paramètres!F226,\"<2\")+COUNTIF(Paramètres!H226,\"<2\")+COUNTIF(Paramètres!I226,\"<2\")+COUNTIF(Paramètres!K226,\"<2\")+COUNTIF(Paramètres!L226,\"<2\")+COUNTIF(Paramètres!N226,\"<2\")+COUNTIF(Paramètres!O226,\"<2\"))","v":""},{"$f":"IF(A227=\"\",\"\",COUNTIF(Paramètres!B226,\">1\")+COUNTIF(Paramètres!C226,\">1\")+COUNTIF(Paramètres!E226,\">1\")+COUNTIF(Paramètres!F226,\">1\")+COUNTIF(Paramètres!H226,\">1\")+COUNTIF(Paramètres!I226,\">1\")+COUNTIF(Paramètres!K226,\">1\")+COUNTIF(Paramètres!L226,\">1\")+COUNTIF(Paramètres!N226,\">1\")+COUNTIF(Paramètres!O226,\">1\"))","v":""},{"$f":"Tableau4[[#This Row],[Attaques réussies]]/(Tableau4[[#This Row],[Oubli]]+Tableau4[[#This Row],[Attaques ratées]]+Tableau4[[#This Row],[Attaques réussies]])","v":{"$error":"#VALUE!"}}]
[{"$f":"IF(ISBLANK(Paramètres!A227),\"\",Paramètres!A227)","v":""},{"$f":"IFERROR(AVERAGE(Paramètres!B227,Paramètres!E227,Paramètres!H227,Paramètres!K227,Paramètres!N227),\"\")","v":""},{"$f":"IFERROR(AVERAGE((Paramètres!C227,Paramètres!F227,Paramètres!I227,Paramètres!L227,Paramètres!O227)),\"\")","v":""},{"$f":"IFERROR(AVERAGE((Paramètres!D227,Paramètres!G227,Paramètres!J227,Paramètres!M227,Paramètres!P227)),\"\")","v":""},{"$f":"IF(A228=\"\",\"\",COUNTIF(Paramètres!B227:C227,\"-\")+COUNTIF(Paramètres!E227:F227,\"-\")+COUNTIF(Paramètres!H227:I227,\"-\")+COUNTIF(Paramètres!K227:L227,\"-\")+COUNTIF(Paramètres!N227:O227,\"-\"))","v":""},{"$f":"IF(A228=\"\",\"\",COUNTIF(Paramètres!B227,\"<2\")+COUNTIF(Paramètres!C227,\"<2\")+COUNTIF(Paramètres!E227,\"<2\")+COUNTIF(Paramètres!F227,\"<2\")+COUNTIF(Paramètres!H227,\"<2\")+COUNTIF(Paramètres!I227,\"<2\")+COUNTIF(Paramètres!K227,\"<2\")+COUNTIF(Paramètres!L227,\"<2\")+COUNTIF(Paramètres!N227,\"<2\")+COUNTIF(Paramètres!O227,\"<2\"))","v":""},{"$f":"IF(A228=\"\",\"\",COUNTIF(Paramètres!B227,\">1\")+COUNTIF(Paramètres!C227,\">1\")+COUNTIF(Paramètres!E227,\">1\")+COUNTIF(Paramètres!F227,\">1\")+COUNTIF(Paramètres!H227,\">1\")+COUNTIF(Paramètres!I227,\">1\")+COUNTIF(Paramètres!K227,\">1\")+COUNTIF(Paramètres!L227,\">1\")+COUNTIF(Paramètres!N227,\">1\")+COUNTIF(Paramètres!O227,\">1\"))","v":""},{"$f":"Tableau4[[#This Row],[Attaques réussies]]/(Tableau4[[#This Row],[Oubli]]+Tableau4[[#This Row],[Attaques ratées]]+Tableau4[[#This Row],[Attaques réussies]])","v":{"$error":"#VALUE!"}}]
[{"$f":"IF(ISBLANK(Paramètres!A228),\"\",Paramètres!A228)","v":""},{"$f":"IFERROR(AVERAGE(Paramètres!B228,Paramètres!E228,Paramètres!H228,Paramètres!K228,Paramètres!N228),\"\")","v":""},{"$f":"IFERROR(AVERAGE((Paramètres!C228,Paramètres!F228,Paramètres!I228,Paramètres!L228,Paramètres!O228)),\"\")","v":""},{"$f":"IFERROR(AVERAGE((Paramètres!D228,Paramètres!G228,Paramètres!J228,Paramètres!M228,Paramètres!P228)),\"\")","v":""},{"$f":"IF(A229=\"\",\"\",COUNTIF(Paramètres!B228:C228,\"-\")+COUNTIF(Paramètres!E228:F228,\"-\")+COUNTIF(Paramètres!H228:I228,\"-\")+COUNTIF(Paramètres!K228:L228,\"-\")+COUNTIF(Paramètres!N228:O228,\"-\"))","v":""},{"$f":"IF(A229=\"\",\"\",COUNTIF(Paramètres!B228,\"<2\")+COUNTIF(Paramètres!C228,\"<2\")+COUNTIF(Paramètres!E228,\"<2\")+COUNTIF(Paramètres!F228,\"<2\")+COUNTIF(Paramètres!H228,\"<2\")+COUNTIF(Paramètres!I228,\"<2\")+COUNTIF(Paramètres!K228,\"<2\")+COUNTIF(Paramètres!L228,\"<2\")+COUNTIF(Paramètres!N228,\"<2\")+COUNTIF(Paramètres!O228,\"<2\"))","v":""},{"$f":"IF(A229=\"\",\"\",COUNTIF(Paramètres!B228,\">1\")+COUNTIF(Paramètres!C228,\">1\")+COUNTIF(Paramètres!E228,\">1\")+COUNTIF(Paramètres!F228,\">1\")+COUNTIF(Paramètres!H228,\">1\")+COUNTIF(Paramètres!I228,\">1\")+COUNTIF(Paramètres!K228,\">1\")+COUNTIF(Paramètres!L228,\">1\")+COUNTIF(Paramètres!N228,\">1\")+COUNTIF(Paramètres!O228,\">1\"))","v":""},{"$f":"Tableau4[[#This Row],[Attaques réussies]]/(Tableau4[[#This Row],[Oubli]]+Tableau4[[#This Row],[Attaques ratées]]+Tableau4[[#This Row],[Attaques réussies]])","v":{"$error":"#VALUE!"}}]
[{"$f":"IF(ISBLANK(Paramètres!A229),\"\",Paramètres!A229)","v":""},{"$f":"IFERROR(AVERAGE(Paramètres!B229,Paramètres!E229,Paramètres!H229,Paramètres!K229,Paramètres!N229),\"\")","v":""},{"$f":"IFERROR(AVERAGE((Paramètres!C229,Paramètres!F229,Paramètres!I229,Paramètres!L229,Paramètres!O229)),\"\")","v":""},{"$f":"IFERROR(AVERAGE((Paramètres!D229,Paramètres!G229,Paramètres!J229,Paramètres!M229,Paramètres!P229)),\"\")","v":""},{"$f":"IF(A230=\"\",\"\",COUNTIF(Paramètres!B229:C229,\"-\")+COUNTIF(Paramètres!E229:F229,\"-\")+COUNTIF(Paramètres!H229:I229,\"-\")+COUNTIF(Paramètres!K229:L229,\"-\")+COUNTIF(Paramètres!N229:O229,\"-\"))","v":""},{"$f":"IF(A230=\"\",\"\",COUNTIF(Paramètres!B229,\"<2\")+COUNTIF(Paramètres!C229,\"<2\")+COUNTIF(Paramètres!E229,\"<2\")+COUNTIF(Paramètres!F229,\"<2\")+COUNTIF(Paramètres!H229,\"<2\")+COUNTIF(Paramètres!I229,\"<2\")+COUNTIF(Paramètres!K229,\"<2\")+COUNTIF(Paramètres!L229,\"<2\")+COUNTIF(Paramètres!N229,\"<2\")+COUNTIF(Paramètres!O229,\"<2\"))","v":""},{"$f":"IF(A230=\"\",\"\",COUNTIF(Paramètres!B229,\">1\")+COUNTIF(Paramètres!C229,\">1\")+COUNTIF(Paramètres!E229,\">1\")+COUNTIF(Paramètres!F229,\">1\")+COUNTIF(Paramètres!H229,\">1\")+COUNTIF(Paramètres!I229,\">1\")+COUNTIF(Paramètres!K229,\">1\")+COUNTIF(Paramètres!L229,\">1\")+COUNTIF(Paramètres!N229,\">1\")+COUNTIF(Paramètres!O229,\">1\"))","v":""},{"$f":"Tableau4[[#This Row],[Attaques réussies]]/(Tableau4[[#This Row],[Oubli]]+Tableau4[[#This Row],[Attaques ratées]]+Tableau4[[#This Row],[Attaques réussies]])","v":{"$error":"#VALUE!"}}]
[{"$f":"IF(ISBLANK(Paramètres!A230),\"\",Paramètres!A230)","v":""},{"$f":"IFERROR(AVERAGE(Paramètres!B230,Paramètres!E230,Paramètres!H230,Paramètres!K230,Paramètres!N230),\"\")","v":""},{"$f":"IFERROR(AVERAGE((Paramètres!C230,Paramètres!F230,Paramètres!I230,Paramètres!L230,Paramètres!O230)),\"\")","v":""},{"$f":"IFERROR(AVERAGE((Paramètres!D230,Paramètres!G230,Paramètres!J230,Paramètres!M230,Paramètres!P230)),\"\")","v":""},{"$f":"IF(A231=\"\",\"\",COUNTIF(Paramètres!B230:C230,\"-\")+COUNTIF(Paramètres!E230:F230,\"-\")+COUNTIF(Paramètres!H230:I230,\"-\")+COUNTIF(Paramètres!K230:L230,\"-\")+COUNTIF(Paramètres!N230:O230,\"-\"))","v":""},{"$f":"IF(A231=\"\",\"\",COUNTIF(Paramètres!B230,\"<2\")+COUNTIF(Paramètres!C230,\"<2\")+COUNTIF(Paramètres!E230,\"<2\")+COUNTIF(Paramètres!F230,\"<2\")+COUNTIF(Paramètres!H230,\"<2\")+COUNTIF(Paramètres!I230,\"<2\")+COUNTIF(Paramètres!K230,\"<2\")+COUNTIF(Paramètres!L230,\"<2\")+COUNTIF(Paramètres!N230,\"<2\")+COUNTIF(Paramètres!O230,\"<2\"))","v":""},{"$f":"IF(A231=\"\",\"\",COUNTIF(Paramètres!B230,\">1\")+COUNTIF(Paramètres!C230,\">1\")+COUNTIF(Paramètres!E230,\">1\")+COUNTIF(Paramètres!F230,\">1\")+COUNTIF(Paramètres!H230,\">1\")+COUNTIF(Paramètres!I230,\">1\")+COUNTIF(Paramètres!K230,\">1\")+COUNTIF(Paramètres!L230,\">1\")+COUNTIF(Paramètres!N230,\">1\")+COUNTIF(Paramètres!O230,\">1\"))","v":""},{"$f":"Tableau4[[#This Row],[Attaques réussies]]/(Tableau4[[#This Row],[Oubli]]+Tableau4[[#This Row],[Attaques ratées]]+Tableau4[[#This Row],[Attaques réussies]])","v":{"$error":"#VALUE!"}}]
[{"$f":"IF(ISBLANK(Paramètres!A231),\"\",Paramètres!A231)","v":""},{"$f":"IFERROR(AVERAGE(Paramètres!B231,Paramètres!E231,Paramètres!H231,Paramètres!K231,Paramètres!N231),\"\")","v":""},{"$f":"IFERROR(AVERAGE((Paramètres!C231,Paramètres!F231,Paramètres!I231,Paramètres!L231,Paramètres!O231)),\"\")","v":""},{"$f":"IFERROR(AVERAGE((Paramètres!D231,Paramètres!G231,Paramètres!J231,Paramètres!M231,Paramètres!P231)),\"\")","v":""},{"$f":"IF(A232=\"\",\"\",COUNTIF(Paramètres!B231:C231,\"-\")+COUNTIF(Paramètres!E231:F231,\"-\")+COUNTIF(Paramètres!H231:I231,\"-\")+COUNTIF(Paramètres!K231:L231,\"-\")+COUNTIF(Paramètres!N231:O231,\"-\"))","v":""},{"$f":"IF(A232=\"\",\"\",COUNTIF(Paramètres!B231,\"<2\")+COUNTIF(Paramètres!C231,\"<2\")+COUNTIF(Paramètres!E231,\"<2\")+COUNTIF(Paramètres!F231,\"<2\")+COUNTIF(Paramètres!H231,\"<2\")+COUNTIF(Paramètres!I231,\"<2\")+COUNTIF(Paramètres!K231,\"<2\")+COUNTIF(Paramètres!L231,\"<2\")+COUNTIF(Paramètres!N231,\"<2\")+COUNTIF(Paramètres!O231,\"<2\"))","v":""},{"$f":"IF(A232=\"\",\"\",COUNTIF(Paramètres!B231,\">1\")+COUNTIF(Paramètres!C231,\">1\")+COUNTIF(Paramètres!E231,\">1\")+COUNTIF(Paramètres!F231,\">1\")+COUNTIF(Paramètres!H231,\">1\")+COUNTIF(Paramètres!I231,\">1\")+COUNTIF(Paramètres!K231,\">1\")+COUNTIF(Paramètres!L231,\">1\")+COUNTIF(Paramètres!N231,\">1\")+COUNTIF(Paramètres!O231,\">1\"))","v":""},{"$f":"Tableau4[[#This Row],[Attaques réussies]]/(Tableau4[[#This Row],[Oubli]]+Tableau4[[#This Row],[Attaques ratées]]+Tableau4[[#This Row],[Attaques réussies]])","v":{"$error":"#VALUE!"}}]
[{"$f":"IF(ISBLANK(Paramètres!A232),\"\",Paramètres!A232)","v":""},{"$f":"IFERROR(AVERAGE(Paramètres!B232,Paramètres!E232,Paramètres!H232,Paramètres!K232,Paramètres!N232),\"\")","v":""},{"$f":"IFERROR(AVERAGE((Paramètres!C232,Paramètres!F232,Paramètres!I232,Paramètres!L232,Paramètres!O232)),\"\")","v":""},{"$f":"IFERROR(AVERAGE((Paramètres!D232,Paramètres!G232,Paramètres!J232,Paramètres!M232,Paramètres!P232)),\"\")","v":""},{"$f":"IF(A233=\"\",\"\",COUNTIF(Paramètres!B232:C232,\"-\")+COUNTIF(Paramètres!E232:F232,\"-\")+COUNTIF(Paramètres!H232:I232,\"-\")+COUNTIF(Paramètres!K232:L232,\"-\")+COUNTIF(Paramètres!N232:O232,\"-\"))","v":""},{"$f":"IF(A233=\"\",\"\",COUNTIF(Paramètres!B232,\"<2\")+COUNTIF(Paramètres!C232,\"<2\")+COUNTIF(Paramètres!E232,\"<2\")+COUNTIF(Paramètres!F232,\"<2\")+COUNTIF(Paramètres!H232,\"<2\")+COUNTIF(Paramètres!I232,\"<2\")+COUNTIF(Paramètres!K232,\"<2\")+COUNTIF(Paramètres!L232,\"<2\")+COUNTIF(Paramètres!N232,\"<2\")+COUNTIF(Paramètres!O232,\"<2\"))","v":""},{"$f":"IF(A233=\"\",\"\",COUNTIF(Paramètres!B232,\">1\")+COUNTIF(Paramètres!C232,\">1\")+COUNTIF(Paramètres!E232,\">1\")+COUNTIF(Paramètres!F232,\">1\")+COUNTIF(Paramètres!H232,\">1\")+COUNTIF(Paramètres!I232,\">1\")+COUNTIF(Paramètres!K232,\">1\")+COUNTIF(Paramètres!L232,\">1\")+COUNTIF(Paramètres!N232,\">1\")+COUNTIF(Paramètres!O232,\">1\"))","v":""},{"$f":"Tableau4[[#This Row],[Attaques réussies]]/(Tableau4[[#This Row],[Oubli]]+Tableau4[[#This Row],[Attaques ratées]]+Tableau4[[#This Row],[Attaques réussies]])","v":{"$error":"#VALUE!"}}]
[{"$f":"IF(ISBLANK(Paramètres!A233),\"\",Paramètres!A233)","v":""},{"$f":"IFERROR(AVERAGE(Paramètres!B233,Paramètres!E233,Paramètres!H233,Paramètres!K233,Paramètres!N233),\"\")","v":""},{"$f":"IFERROR(AVERAGE((Paramètres!C233,Paramètres!F233,Paramètres!I233,Paramètres!L233,Paramètres!O233)),\"\")","v":""},{"$f":"IFERROR(AVERAGE((Paramètres!D233,Paramètres!G233,Paramètres!J233,Paramètres!M233,Paramètres!P233)),\"\")","v":""},{"$f":"IF(A234=\"\",\"\",COUNTIF(Paramètres!B233:C233,\"-\")+COUNTIF(Paramètres!E233:F233,\"-\")+COUNTIF(Paramètres!H233:I233,\"-\")+COUNTIF(Paramètres!K233:L233,\"-\")+COUNTIF(Paramètres!N233:O233,\"-\"))","v":""},{"$f":"IF(A234=\"\",\"\",COUNTIF(Paramètres!B233,\"<2\")+COUNTIF(Paramètres!C233,\"<2\")+COUNTIF(Paramètres!E233,\"<2\")+COUNTIF(Paramètres!F233,\"<2\")+COUNTIF(Paramètres!H233,\"<2\")+COUNTIF(Paramètres!I233,\"<2\")+COUNTIF(Paramètres!K233,\"<2\")+COUNTIF(Paramètres!L233,\"<2\")+COUNTIF(Paramètres!N233,\"<2\")+COUNTIF(Paramètres!O233,\"<2\"))","v":""},{"$f":"IF(A234=\"\",\"\",COUNTIF(Paramètres!B233,\">1\")+COUNTIF(Paramètres!C233,\">1\")+COUNTIF(Paramètres!E233,\">1\")+COUNTIF(Paramètres!F233,\">1\")+COUNTIF(Paramètres!H233,\">1\")+COUNTIF(Paramètres!I233,\">1\")+COUNTIF(Paramètres!K233,\">1\")+COUNTIF(Paramètres!L233,\">1\")+COUNTIF(Paramètres!N233,\">1\")+COUNTIF(Paramètres!O233,\">1\"))","v":""},{"$f":"Tableau4[[#This Row],[Attaques réussies]]/(Tableau4[[#This Row],[Oubli]]+Tableau4[[#This Row],[Attaques ratées]]+Tableau4[[#This Row],[Attaques réussies]])","v":{"$error":"#VALUE!"}}]
[{"$f":"IF(ISBLANK(Paramètres!A234),\"\",Paramètres!A234)","v":""},{"$f":"IFERROR(AVERAGE(Paramètres!B234,Paramètres!E234,Paramètres!H234,Paramètres!K234,Paramètres!N234),\"\")","v":""},{"$f":"IFERROR(AVERAGE((Paramètres!C234,Paramètres!F234,Paramètres!I234,Paramètres!L234,Paramètres!O234)),\"\")","v":""},{"$f":"IFERROR(AVERAGE((Paramètres!D234,Paramètres!G234,Paramètres!J234,Paramètres!M234,Paramètres!P234)),\"\")","v":""},{"$f":"IF(A235=\"\",\"\",COUNTIF(Paramètres!B234:C234,\"-\")+COUNTIF(Paramètres!E234:F234,\"-\")+COUNTIF(Paramètres!H234:I234,\"-\")+COUNTIF(Paramètres!K234:L234,\"-\")+COUNTIF(Paramètres!N234:O234,\"-\"))","v":""},{"$f":"IF(A235=\"\",\"\",COUNTIF(Paramètres!B234,\"<2\")+COUNTIF(Paramètres!C234,\"<2\")+COUNTIF(Paramètres!E234,\"<2\")+COUNTIF(Paramètres!F234,\"<2\")+COUNTIF(Paramètres!H234,\"<2\")+COUNTIF(Paramètres!I234,\"<2\")+COUNTIF(Paramètres!K234,\"<2\")+COUNTIF(Paramètres!L234,\"<2\")+COUNTIF(Paramètres!N234,\"<2\")+COUNTIF(Paramètres!O234,\"<2\"))","v":""},{"$f":"IF(A235=\"\",\"\",COUNTIF(Paramètres!B234,\">1\")+COUNTIF(Paramètres!C234,\">1\")+COUNTIF(Paramètres!E234,\">1\")+COUNTIF(Paramètres!F234,\">1\")+COUNTIF(Paramètres!H234,\">1\")+COUNTIF(Paramètres!I234,\">1\")+COUNTIF(Paramètres!K234,\">1\")+COUNTIF(Paramètres!L234,\">1\")+COUNTIF(Paramètres!N234,\">1\")+COUNTIF(Paramètres!O234,\">1\"))","v":""},{"$f":"Tableau4[[#This Row],[Attaques réussies]]/(Tableau4[[#This Row],[Oubli]]+Tableau4[[#This Row],[Attaques ratées]]+Tableau4[[#This Row],[Attaques réussies]])","v":{"$error":"#VALUE!"}}]
[{"$f":"IF(ISBLANK(Paramètres!A235),\"\",Paramètres!A235)","v":""},{"$f":"IFERROR(AVERAGE(Paramètres!B235,Paramètres!E235,Paramètres!H235,Paramètres!K235,Paramètres!N235),\"\")","v":""},{"$f":"IFERROR(AVERAGE((Paramètres!C235,Paramètres!F235,Paramètres!I235,Paramètres!L235,Paramètres!O235)),\"\")","v":""},{"$f":"IFERROR(AVERAGE((Paramètres!D235,Paramètres!G235,Paramètres!J235,Paramètres!M235,Paramètres!P235)),\"\")","v":""},{"$f":"IF(A236=\"\",\"\",COUNTIF(Paramètres!B235:C235,\"-\")+COUNTIF(Paramètres!E235:F235,\"-\")+COUNTIF(Paramètres!H235:I235,\"-\")+COUNTIF(Paramètres!K235:L235,\"-\")+COUNTIF(Paramètres!N235:O235,\"-\"))","v":""},{"$f":"IF(A236=\"\",\"\",COUNTIF(Paramètres!B235,\"<2\")+COUNTIF(Paramètres!C235,\"<2\")+COUNTIF(Paramètres!E235,\"<2\")+COUNTIF(Paramètres!F235,\"<2\")+COUNTIF(Paramètres!H235,\"<2\")+COUNTIF(Paramètres!I235,\"<2\")+COUNTIF(Paramètres!K235,\"<2\")+COUNTIF(Paramètres!L235,\"<2\")+COUNTIF(Paramètres!N235,\"<2\")+COUNTIF(Paramètres!O235,\"<2\"))","v":""},{"$f":"IF(A236=\"\",\"\",COUNTIF(Paramètres!B235,\">1\")+COUNTIF(Paramètres!C235,\">1\")+COUNTIF(Paramètres!E235,\">1\")+COUNTIF(Paramètres!F235,\">1\")+COUNTIF(Paramètres!H235,\">1\")+COUNTIF(Paramètres!I235,\">1\")+COUNTIF(Paramètres!K235,\">1\")+COUNTIF(Paramètres!L235,\">1\")+COUNTIF(Paramètres!N235,\">1\")+COUNTIF(Paramètres!O235,\">1\"))","v":""},{"$f":"Tableau4[[#This Row],[Attaques réussies]]/(Tableau4[[#This Row],[Oubli]]+Tableau4[[#This Row],[Attaques ratées]]+Tableau4[[#This Row],[Attaques réussies]])","v":{"$error":"#VALUE!"}}]
[{"$f":"IF(ISBLANK(Paramètres!A236),\"\",Paramètres!A236)","v":""},{"$f":"IFERROR(AVERAGE(Paramètres!B236,Paramètres!E236,Paramètres!H236,Paramètres!K236,Paramètres!N236),\"\")","v":""},{"$f":"IFERROR(AVERAGE((Paramètres!C236,Paramètres!F236,Paramètres!I236,Paramètres!L236,Paramètres!O236)),\"\")","v":""},{"$f":"IFERROR(AVERAGE((Paramètres!D236,Paramètres!G236,Paramètres!J236,Paramètres!M236,Paramètres!P236)),\"\")","v":""},{"$f":"IF(A237=\"\",\"\",COUNTIF(Paramètres!B236:C236,\"-\")+COUNTIF(Paramètres!E236:F236,\"-\")+COUNTIF(Paramètres!H236:I236,\"-\")+COUNTIF(Paramètres!K236:L236,\"-\")+COUNTIF(Paramètres!N236:O236,\"-\"))","v":""},{"$f":"IF(A237=\"\",\"\",COUNTIF(Paramètres!B236,\"<2\")+COUNTIF(Paramètres!C236,\"<2\")+COUNTIF(Paramètres!E236,\"<2\")+COUNTIF(Paramètres!F236,\"<2\")+COUNTIF(Paramètres!H236,\"<2\")+COUNTIF(Paramètres!I236,\"<2\")+COUNTIF(Paramètres!K236,\"<2\")+COUNTIF(Paramètres!L236,\"<2\")+COUNTIF(Paramètres!N236,\"<2\")+COUNTIF(Paramètres!O236,\"<2\"))","v":""},{"$f":"IF(A237=\"\",\"\",COUNTIF(Paramètres!B236,\">1\")+COUNTIF(Paramètres!C236,\">1\")+COUNTIF(Paramètres!E236,\">1\")+COUNTIF(Paramètres!F236,\">1\")+COUNTIF(Paramètres!H236,\">1\")+COUNTIF(Paramètres!I236,\">1\")+COUNTIF(Paramètres!K236,\">1\")+COUNTIF(Paramètres!L236,\">1\")+COUNTIF(Paramètres!N236,\">1\")+COUNTIF(Paramètres!O236,\">1\"))","v":""},{"$f":"Tableau4[[#This Row],[Attaques réussies]]/(Tableau4[[#This Row],[Oubli]]+Tableau4[[#This Row],[Attaques ratées]]+Tableau4[[#This Row],[Attaques réussies]])","v":{"$error":"#VALUE!"}}]
[{"$f":"IF(ISBLANK(Paramètres!A237),\"\",Paramètres!A237)","v":""},{"$f":"IFERROR(AVERAGE(Paramètres!B237,Paramètres!E237,Paramètres!H237,Paramètres!K237,Paramètres!N237),\"\")","v":""},{"$f":"IFERROR(AVERAGE((Paramètres!C237,Paramètres!F237,Paramètres!I237,Paramètres!L237,Paramètres!O237)),\"\")","v":""},{"$f":"IFERROR(AVERAGE((Paramètres!D237,Paramètres!G237,Paramètres!J237,Paramètres!M237,Paramètres!P237)),\"\")","v":""},{"$f":"IF(A238=\"\",\"\",COUNTIF(Paramètres!B237:C237,\"-\")+COUNTIF(Paramètres!E237:F237,\"-\")+COUNTIF(Paramètres!H237:I237,\"-\")+COUNTIF(Paramètres!K237:L237,\"-\")+COUNTIF(Paramètres!N237:O237,\"-\"))","v":""},{"$f":"IF(A238=\"\",\"\",COUNTIF(Paramètres!B237,\"<2\")+COUNTIF(Paramètres!C237,\"<2\")+COUNTIF(Paramètres!E237,\"<2\")+COUNTIF(Paramètres!F237,\"<2\")+COUNTIF(Paramètres!H237,\"<2\")+COUNTIF(Paramètres!I237,\"<2\")+COUNTIF(Paramètres!K237,\"<2\")+COUNTIF(Paramètres!L237,\"<2\")+COUNTIF(Paramètres!N237,\"<2\")+COUNTIF(Paramètres!O237,\"<2\"))","v":""},{"$f":"IF(A238=\"\",\"\",COUNTIF(Paramètres!B237,\">1\")+COUNTIF(Paramètres!C237,\">1\")+COUNTIF(Paramètres!E237,\">1\")+COUNTIF(Paramètres!F237,\">1\")+COUNTIF(Paramètres!H237,\">1\")+COUNTIF(Paramètres!I237,\">1\")+COUNTIF(Paramètres!K237,\">1\")+COUNTIF(Paramètres!L237,\">1\")+COUNTIF(Paramètres!N237,\">1\")+COUNTIF(Paramètres!O237,\">1\"))","v":""},{"$f":"Tableau4[[#This Row],[Attaques réussies]]/(Tableau4[[#This Row],[Oubli]]+Tableau4[[#This Row],[Attaques ratées]]+Tableau4[[#This Row],[Attaques réussies]])","v":{"$error":"#VALUE!"}}]
[{"$f":"IF(ISBLANK(Paramètres!A238),\"\",Paramètres!A238)","v":""},{"$f":"IFERROR(AVERAGE(Paramètres!B238,Paramètres!E238,Paramètres!H238,Paramètres!K238,Paramètres!N238),\"\")","v":""},{"$f":"IFERROR(AVERAGE((Paramètres!C238,Paramètres!F238,Paramètres!I238,Paramètres!L238,Paramètres!O238)),\"\")","v":""},{"$f":"IFERROR(AVERAGE((Paramètres!D238,Paramètres!G238,Paramètres!J238,Paramètres!M238,Paramètres!P238)),\"\")","v":""},{"$f":"IF(A239=\"\",\"\",COUNTIF(Paramètres!B238:C238,\"-\")+COUNTIF(Paramètres!E238:F238,\"-\")+COUNTIF(Paramètres!H238:I238,\"-\")+COUNTIF(Paramètres!K238:L238,\"-\")+COUNTIF(Paramètres!N238:O238,\"-\"))","v":""},{"$f":"IF(A239=\"\",\"\",COUNTIF(Paramètres!B238,\"<2\")+COUNTIF(Paramètres!C238,\"<2\")+COUNTIF(Paramètres!E238,\"<2\")+COUNTIF(Paramètres!F238,\"<2\")+COUNTIF(Paramètres!H238,\"<2\")+COUNTIF(Paramètres!I238,\"<2\")+COUNTIF(Paramètres!K238,\"<2\")+COUNTIF(Paramètres!L238,\"<2\")+COUNTIF(Paramètres!N238,\"<2\")+COUNTIF(Paramètres!O238,\"<2\"))","v":""},{"$f":"IF(A239=\"\",\"\",COUNTIF(Paramètres!B238,\">1\")+COUNTIF(Paramètres!C238,\">1\")+COUNTIF(Paramètres!E238,\">1\")+COUNTIF(Paramètres!F238,\">1\")+COUNTIF(Paramètres!H238,\">1\")+COUNTIF(Paramètres!I238,\">1\")+COUNTIF(Paramètres!K238,\">1\")+COUNTIF(Paramètres!L238,\">1\")+COUNTIF(Paramètres!N238,\">1\")+COUNTIF(Paramètres!O238,\">1\"))","v":""},{"$f":"Tableau4[[#This Row],[Attaques réussies]]/(Tableau4[[#This Row],[Oubli]]+Tableau4[[#This Row],[Attaques ratées]]+Tableau4[[#This Row],[Attaques réussies]])","v":{"$error":"#VALUE!"}}]
[{"$f":"IF(ISBLANK(Paramètres!A239),\"\",Paramètres!A239)","v":""},{"$f":"IFERROR(AVERAGE(Paramètres!B239,Paramètres!E239,Paramètres!H239,Paramètres!K239,Paramètres!N239),\"\")","v":""},{"$f":"IFERROR(AVERAGE((Paramètres!C239,Paramètres!F239,Paramètres!I239,Paramètres!L239,Paramètres!O239)),\"\")","v":""},{"$f":"IFERROR(AVERAGE((Paramètres!D239,Paramètres!G239,Paramètres!J239,Paramètres!M239,Paramètres!P239)),\"\")","v":""},{"$f":"IF(A240=\"\",\"\",COUNTIF(Paramètres!B239:C239,\"-\")+COUNTIF(Paramètres!E239:F239,\"-\")+COUNTIF(Paramètres!H239:I239,\"-\")+COUNTIF(Paramètres!K239:L239,\"-\")+COUNTIF(Paramètres!N239:O239,\"-\"))","v":""},{"$f":"IF(A240=\"\",\"\",COUNTIF(Paramètres!B239,\"<2\")+COUNTIF(Paramètres!C239,\"<2\")+COUNTIF(Paramètres!E239,\"<2\")+COUNTIF(Paramètres!F239,\"<2\")+COUNTIF(Paramètres!H239,\"<2\")+COUNTIF(Paramètres!I239,\"<2\")+COUNTIF(Paramètres!K239,\"<2\")+COUNTIF(Paramètres!L239,\"<2\")+COUNTIF(Paramètres!N239,\"<2\")+COUNTIF(Paramètres!O239,\"<2\"))","v":""},{"$f":"IF(A240=\"\",\"\",COUNTIF(Paramètres!B239,\">1\")+COUNTIF(Paramètres!C239,\">1\")+COUNTIF(Paramètres!E239,\">1\")+COUNTIF(Paramètres!F239,\">1\")+COUNTIF(Paramètres!H239,\">1\")+COUNTIF(Paramètres!I239,\">1\")+COUNTIF(Paramètres!K239,\">1\")+COUNTIF(Paramètres!L239,\">1\")+COUNTIF(Paramètres!N239,\">1\")+COUNTIF(Paramètres!O239,\">1\"))","v":""},{"$f":"Tableau4[[#This Row],[Attaques réussies]]/(Tableau4[[#This Row],[Oubli]]+Tableau4[[#This Row],[Attaques ratées]]+Tableau4[[#This Row],[Attaques réussies]])","v":{"$error":"#VALUE!"}}]
[{"$f":"IF(ISBLANK(Paramètres!A240),\"\",Paramètres!A240)","v":""},{"$f":"IFERROR(AVERAGE(Paramètres!B240,Paramètres!E240,Paramètres!H240,Paramètres!K240,Paramètres!N240),\"\")","v":""},{"$f":"IFERROR(AVERAGE((Paramètres!C240,Paramètres!F240,Paramètres!I240,Paramètres!L240,Paramètres!O240)),\"\")","v":""},{"$f":"IFERROR(AVERAGE((Paramètres!D240,Paramètres!G240,Paramètres!J240,Paramètres!M240,Paramètres!P240)),\"\")","v":""},{"$f":"IF(A241=\"\",\"\",COUNTIF(Paramètres!B240:C240,\"-\")+COUNTIF(Paramètres!E240:F240,\"-\")+COUNTIF(Paramètres!H240:I240,\"-\")+COUNTIF(Paramètres!K240:L240,\"-\")+COUNTIF(Paramètres!N240:O240,\"-\"))","v":""},{"$f":"IF(A241=\"\",\"\",COUNTIF(Paramètres!B240,\"<2\")+COUNTIF(Paramètres!C240,\"<2\")+COUNTIF(Paramètres!E240,\"<2\")+COUNTIF(Paramètres!F240,\"<2\")+COUNTIF(Paramètres!H240,\"<2\")+COUNTIF(Paramètres!I240,\"<2\")+COUNTIF(Paramètres!K240,\"<2\")+COUNTIF(Paramètres!L240,\"<2\")+COUNTIF(Paramètres!N240,\"<2\")+COUNTIF(Paramètres!O240,\"<2\"))","v":""},{"$f":"IF(A241=\"\",\"\",COUNTIF(Paramètres!B240,\">1\")+COUNTIF(Paramètres!C240,\">1\")+COUNTIF(Paramètres!E240,\">1\")+COUNTIF(Paramètres!F240,\">1\")+COUNTIF(Paramètres!H240,\">1\")+COUNTIF(Paramètres!I240,\">1\")+COUNTIF(Paramètres!K240,\">1\")+COUNTIF(Paramètres!L240,\">1\")+COUNTIF(Paramètres!N240,\">1\")+COUNTIF(Paramètres!O240,\">1\"))","v":""},{"$f":"Tableau4[[#This Row],[Attaques réussies]]/(Tableau4[[#This Row],[Oubli]]+Tableau4[[#This Row],[Attaques ratées]]+Tableau4[[#This Row],[Attaques réussies]])","v":{"$error":"#VALUE!"}}]
[{"$f":"IF(ISBLANK(Paramètres!A241),\"\",Paramètres!A241)","v":""},{"$f":"IFERROR(AVERAGE(Paramètres!B241,Paramètres!E241,Paramètres!H241,Paramètres!K241,Paramètres!N241),\"\")","v":""},{"$f":"IFERROR(AVERAGE((Paramètres!C241,Paramètres!F241,Paramètres!I241,Paramètres!L241,Paramètres!O241)),\"\")","v":""},{"$f":"IFERROR(AVERAGE((Paramètres!D241,Paramètres!G241,Paramètres!J241,Paramètres!M241,Paramètres!P241)),\"\")","v":""},{"$f":"IF(A242=\"\",\"\",COUNTIF(Paramètres!B241:C241,\"-\")+COUNTIF(Paramètres!E241:F241,\"-\")+COUNTIF(Paramètres!H241:I241,\"-\")+COUNTIF(Paramètres!K241:L241,\"-\")+COUNTIF(Paramètres!N241:O241,\"-\"))","v":""},{"$f":"IF(A242=\"\",\"\",COUNTIF(Paramètres!B241,\"<2\")+COUNTIF(Paramètres!C241,\"<2\")+COUNTIF(Paramètres!E241,\"<2\")+COUNTIF(Paramètres!F241,\"<2\")+COUNTIF(Paramètres!H241,\"<2\")+COUNTIF(Paramètres!I241,\"<2\")+COUNTIF(Paramètres!K241,\"<2\")+COUNTIF(Paramètres!L241,\"<2\")+COUNTIF(Paramètres!N241,\"<2\")+COUNTIF(Paramètres!O241,\"<2\"))","v":""},{"$f":"IF(A242=\"\",\"\",COUNTIF(Paramètres!B241,\">1\")+COUNTIF(Paramètres!C241,\">1\")+COUNTIF(Paramètres!E241,\">1\")+COUNTIF(Paramètres!F241,\">1\")+COUNTIF(Paramètres!H241,\">1\")+COUNTIF(Paramètres!I241,\">1\")+COUNTIF(Paramètres!K241,\">1\")+COUNTIF(Paramètres!L241,\">1\")+COUNTIF(Paramètres!N241,\">1\")+COUNTIF(Paramètres!O241,\">1\"))","v":""},{"$f":"Tableau4[[#This Row],[Attaques réussies]]/(Tableau4[[#This Row],[Oubli]]+Tableau4[[#This Row],[Attaques ratées]]+Tableau4[[#This Row],[Attaques réussies]])","v":{"$error":"#VALUE!"}}]
[{"$f":"IF(ISBLANK(Paramètres!A242),\"\",Paramètres!A242)","v":""},{"$f":"IFERROR(AVERAGE(Paramètres!B242,Paramètres!E242,Paramètres!H242,Paramètres!K242,Paramètres!N242),\"\")","v":""},{"$f":"IFERROR(AVERAGE((Paramètres!C242,Paramètres!F242,Paramètres!I242,Paramètres!L242,Paramètres!O242)),\"\")","v":""},{"$f":"IFERROR(AVERAGE((Paramètres!D242,Paramètres!G242,Paramètres!J242,Paramètres!M242,Paramètres!P242)),\"\")","v":""},{"$f":"IF(A243=\"\",\"\",COUNTIF(Paramètres!B242:C242,\"-\")+COUNTIF(Paramètres!E242:F242,\"-\")+COUNTIF(Paramètres!H242:I242,\"-\")+COUNTIF(Paramètres!K242:L242,\"-\")+COUNTIF(Paramètres!N242:O242,\"-\"))","v":""},{"$f":"IF(A243=\"\",\"\",COUNTIF(Paramètres!B242,\"<2\")+COUNTIF(Paramètres!C242,\"<2\")+COUNTIF(Paramètres!E242,\"<2\")+COUNTIF(Paramètres!F242,\"<2\")+COUNTIF(Paramètres!H242,\"<2\")+COUNTIF(Paramètres!I242,\"<2\")+COUNTIF(Paramètres!K242,\"<2\")+COUNTIF(Paramètres!L242,\"<2\")+COUNTIF(Paramètres!N242,\"<2\")+COUNTIF(Paramètres!O242,\"<2\"))","v":""},{"$f":"IF(A243=\"\",\"\",COUNTIF(Paramètres!B242,\">1\")+COUNTIF(Paramètres!C242,\">1\")+COUNTIF(Paramètres!E242,\">1\")+COUNTIF(Paramètres!F242,\">1\")+COUNTIF(Paramètres!H242,\">1\")+COUNTIF(Paramètres!I242,\">1\")+COUNTIF(Paramètres!K242,\">1\")+COUNTIF(Paramètres!L242,\">1\")+COUNTIF(Paramètres!N242,\">1\")+COUNTIF(Paramètres!O242,\">1\"))","v":""},{"$f":"Tableau4[[#This Row],[Attaques réussies]]/(Tableau4[[#This Row],[Oubli]]+Tableau4[[#This Row],[Attaques ratées]]+Tableau4[[#This Row],[Attaques réussies]])","v":{"$error":"#VALUE!"}}]
[{"$f":"IF(ISBLANK(Paramètres!A243),\"\",Paramètres!A243)","v":""},{"$f":"IFERROR(AVERAGE(Paramètres!B243,Paramètres!E243,Paramètres!H243,Paramètres!K243,Paramètres!N243),\"\")","v":""},{"$f":"IFERROR(AVERAGE((Paramètres!C243,Paramètres!F243,Paramètres!I243,Paramètres!L243,Paramètres!O243)),\"\")","v":""},{"$f":"IFERROR(AVERAGE((Paramètres!D243,Paramètres!G243,Paramètres!J243,Paramètres!M243,Paramètres!P243)),\"\")","v":""},{"$f":"IF(A244=\"\",\"\",COUNTIF(Paramètres!B243:C243,\"-\")+COUNTIF(Paramètres!E243:F243,\"-\")+COUNTIF(Paramètres!H243:I243,\"-\")+COUNTIF(Paramètres!K243:L243,\"-\")+COUNTIF(Paramètres!N243:O243,\"-\"))","v":""},{"$f":"IF(A244=\"\",\"\",COUNTIF(Paramètres!B243,\"<2\")+COUNTIF(Paramètres!C243,\"<2\")+COUNTIF(Paramètres!E243,\"<2\")+COUNTIF(Paramètres!F243,\"<2\")+COUNTIF(Paramètres!H243,\"<2\")+COUNTIF(Paramètres!I243,\"<2\")+COUNTIF(Paramètres!K243,\"<2\")+COUNTIF(Paramètres!L243,\"<2\")+COUNTIF(Paramètres!N243,\"<2\")+COUNTIF(Paramètres!O243,\"<2\"))","v":""},{"$f":"IF(A244=\"\",\"\",COUNTIF(Paramètres!B243,\">1\")+COUNTIF(Paramètres!C243,\">1\")+COUNTIF(Paramètres!E243,\">1\")+COUNTIF(Paramètres!F243,\">1\")+COUNTIF(Paramètres!H243,\">1\")+COUNTIF(Paramètres!I243,\">1\")+COUNTIF(Paramètres!K243,\">1\")+COUNTIF(Paramètres!L243,\">1\")+COUNTIF(Paramètres!N243,\">1\")+COUNTIF(Paramètres!O243,\">1\"))","v":""},{"$f":"Tableau4[[#This Row],[Attaques réussies]]/(Tableau4[[#This Row],[Oubli]]+Tableau4[[#This Row],[Attaques ratées]]+Tableau4[[#This Row],[Attaques réussies]])","v":{"$error":"#VALUE!"}}]
[{"$f":"IF(ISBLANK(Paramètres!A244),\"\",Paramètres!A244)","v":""},{"$f":"IFERROR(AVERAGE(Paramètres!B244,Paramètres!E244,Paramètres!H244,Paramètres!K244,Paramètres!N244),\"\")","v":""},{"$f":"IFERROR(AVERAGE((Paramètres!C244,Paramètres!F244,Paramètres!I244,Paramètres!L244,Paramètres!O244)),\"\")","v":""},{"$f":"IFERROR(AVERAGE((Paramètres!D244,Paramètres!G244,Paramètres!J244,Paramètres!M244,Paramètres!P244)),\"\")","v":""},{"$f":"IF(A245=\"\",\"\",COUNTIF(Paramètres!B244:C244,\"-\")+COUNTIF(Paramètres!E244:F244,\"-\")+COUNTIF(Paramètres!H244:I244,\"-\")+COUNTIF(Paramètres!K244:L244,\"-\")+COUNTIF(Paramètres!N244:O244,\"-\"))","v":""},{"$f":"IF(A245=\"\",\"\",COUNTIF(Paramètres!B244,\"<2\")+COUNTIF(Paramètres!C244,\"<2\")+COUNTIF(Paramètres!E244,\"<2\")+COUNTIF(Paramètres!F244,\"<2\")+COUNTIF(Paramètres!H244,\"<2\")+COUNTIF(Paramètres!I244,\"<2\")+COUNTIF(Paramètres!K244,\"<2\")+COUNTIF(Paramètres!L244,\"<2\")+COUNTIF(Paramètres!N244,\"<2\")+COUNTIF(Paramètres!O244,\"<2\"))","v":""},{"$f":"IF(A245=\"\",\"\",COUNTIF(Paramètres!B244,\">1\")+COUNTIF(Paramètres!C244,\">1\")+COUNTIF(Paramètres!E244,\">1\")+COUNTIF(Paramètres!F244,\">1\")+COUNTIF(Paramètres!H244,\">1\")+COUNTIF(Paramètres!I244,\">1\")+COUNTIF(Paramètres!K244,\">1\")+COUNTIF(Paramètres!L244,\">1\")+COUNTIF(Paramètres!N244,\">1\")+COUNTIF(Paramètres!O244,\">1\"))","v":""},{"$f":"Tableau4[[#This Row],[Attaques réussies]]/(Tableau4[[#This Row],[Oubli]]+Tableau4[[#This Row],[Attaques ratées]]+Tableau4[[#This Row],[Attaques réussies]])","v":{"$error":"#VALUE!"}}]
[{"$f":"IF(ISBLANK(Paramètres!A245),\"\",Paramètres!A245)","v":""},{"$f":"IFERROR(AVERAGE(Paramètres!B245,Paramètres!E245,Paramètres!H245,Paramètres!K245,Paramètres!N245),\"\")","v":""},{"$f":"IFERROR(AVERAGE((Paramètres!C245,Paramètres!F245,Paramètres!I245,Paramètres!L245,Paramètres!O245)),\"\")","v":""},{"$f":"IFERROR(AVERAGE((Paramètres!D245,Paramètres!G245,Paramètres!J245,Paramètres!M245,Paramètres!P245)),\"\")","v":""},{"$f":"IF(A246=\"\",\"\",COUNTIF(Paramètres!B245:C245,\"-\")+COUNTIF(Paramètres!E245:F245,\"-\")+COUNTIF(Paramètres!H245:I245,\"-\")+COUNTIF(Paramètres!K245:L245,\"-\")+COUNTIF(Paramètres!N245:O245,\"-\"))","v":""},{"$f":"IF(A246=\"\",\"\",COUNTIF(Paramètres!B245,\"<2\")+COUNTIF(Paramètres!C245,\"<2\")+COUNTIF(Paramètres!E245,\"<2\")+COUNTIF(Paramètres!F245,\"<2\")+COUNTIF(Paramètres!H245,\"<2\")+COUNTIF(Paramètres!I245,\"<2\")+COUNTIF(Paramètres!K245,\"<2\")+COUNTIF(Paramètres!L245,\"<2\")+COUNTIF(Paramètres!N245,\"<2\")+COUNTIF(Paramètres!O245,\"<2\"))","v":""},{"$f":"IF(A246=\"\",\"\",COUNTIF(Paramètres!B245,\">1\")+COUNTIF(Paramètres!C245,\">1\")+COUNTIF(Paramètres!E245,\">1\")+COUNTIF(Paramètres!F245,\">1\")+COUNTIF(Paramètres!H245,\">1\")+COUNTIF(Paramètres!I245,\">1\")+COUNTIF(Paramètres!K245,\">1\")+COUNTIF(Paramètres!L245,\">1\")+COUNTIF(Paramètres!N245,\">1\")+COUNTIF(Paramètres!O245,\">1\"))","v":""},{"$f":"Tableau4[[#This Row],[Attaques réussies]]/(Tableau4[[#This Row],[Oubli]]+Tableau4[[#This Row],[Attaques ratées]]+Tableau4[[#This Row],[Attaques réussies]])","v":{"$error":"#VALUE!"}}]
[{"$f":"IF(ISBLANK(Paramètres!A246),\"\",Paramètres!A246)","v":""},{"$f":"IFERROR(AVERAGE(Paramètres!B246,Paramètres!E246,Paramètres!H246,Paramètres!K246,Paramètres!N246),\"\")","v":""},{"$f":"IFERROR(AVERAGE((Paramètres!C246,Paramètres!F246,Paramètres!I246,Paramètres!L246,Paramètres!O246)),\"\")","v":""},{"$f":"IFERROR(AVERAGE((Paramètres!D246,Paramètres!G246,Paramètres!J246,Paramètres!M246,Paramètres!P246)),\"\")","v":""},{"$f":"IF(A247=\"\",\"\",COUNTIF(Paramètres!B246:C246,\"-\")+COUNTIF(Paramètres!E246:F246,\"-\")+COUNTIF(Paramètres!H246:I246,\"-\")+COUNTIF(Paramètres!K246:L246,\"-\")+COUNTIF(Paramètres!N246:O246,\"-\"))","v":""},{"$f":"IF(A247=\"\",\"\",COUNTIF(Paramètres!B246,\"<2\")+COUNTIF(Paramètres!C246,\"<2\")+COUNTIF(Paramètres!E246,\"<2\")+COUNTIF(Paramètres!F246,\"<2\")+COUNTIF(Paramètres!H246,\"<2\")+COUNTIF(Paramètres!I246,\"<2\")+COUNTIF(Paramètres!K246,\"<2\")+COUNTIF(Paramètres!L246,\"<2\")+COUNTIF(Paramètres!N246,\"<2\")+COUNTIF(Paramètres!O246,\"<2\"))","v":""},{"$f":"IF(A247=\"\",\"\",COUNTIF(Paramètres!B246,\">1\")+COUNTIF(Paramètres!C246,\">1\")+COUNTIF(Paramètres!E246,\">1\")+COUNTIF(Paramètres!F246,\">1\")+COUNTIF(Paramètres!H246,\">1\")+COUNTIF(Paramètres!I246,\">1\")+COUNTIF(Paramètres!K246,\">1\")+COUNTIF(Paramètres!L246,\">1\")+COUNTIF(Paramètres!N246,\">1\")+COUNTIF(Paramètres!O246,\">1\"))","v":""},{"$f":"Tableau4[[#This Row],[Attaques réussies]]/(Tableau4[[#This Row],[Oubli]]+Tableau4[[#This Row],[Attaques ratées]]+Tableau4[[#This Row],[Attaques réussies]])","v":{"$error":"#VALUE!"}}]
[{"$f":"IF(ISBLANK(Paramètres!A247),\"\",Paramètres!A247)","v":""},{"$f":"IFERROR(AVERAGE(Paramètres!B247,Paramètres!E247,Paramètres!H247,Paramètres!K247,Paramètres!N247),\"\")","v":""},{"$f":"IFERROR(AVERAGE((Paramètres!C247,Paramètres!F247,Paramètres!I247,Paramètres!L247,Paramètres!O247)),\"\")","v":""},{"$f":"IFERROR(AVERAGE((Paramètres!D247,Paramètres!G247,Paramètres!J247,Paramètres!M247,Paramètres!P247)),\"\")","v":""},{"$f":"IF(A248=\"\",\"\",COUNTIF(Paramètres!B247:C247,\"-\")+COUNTIF(Paramètres!E247:F247,\"-\")+COUNTIF(Paramètres!H247:I247,\"-\")+COUNTIF(Paramètres!K247:L247,\"-\")+COUNTIF(Paramètres!N247:O247,\"-\"))","v":""},{"$f":"IF(A248=\"\",\"\",COUNTIF(Paramètres!B247,\"<2\")+COUNTIF(Paramètres!C247,\"<2\")+COUNTIF(Paramètres!E247,\"<2\")+COUNTIF(Paramètres!F247,\"<2\")+COUNTIF(Paramètres!H247,\"<2\")+COUNTIF(Paramètres!I247,\"<2\")+COUNTIF(Paramètres!K247,\"<2\")+COUNTIF(Paramètres!L247,\"<2\")+COUNTIF(Paramètres!N247,\"<2\")+COUNTIF(Paramètres!O247,\"<2\"))","v":""},{"$f":"IF(A248=\"\",\"\",COUNTIF(Paramètres!B247,\">1\")+COUNTIF(Paramètres!C247,\">1\")+COUNTIF(Paramètres!E247,\">1\")+COUNTIF(Paramètres!F247,\">1\")+COUNTIF(Paramètres!H247,\">1\")+COUNTIF(Paramètres!I247,\">1\")+COUNTIF(Paramètres!K247,\">1\")+COUNTIF(Paramètres!L247,\">1\")+COUNTIF(Paramètres!N247,\">1\")+COUNTIF(Paramètres!O247,\">1\"))","v":""},{"$f":"Tableau4[[#This Row],[Attaques réussies]]/(Tableau4[[#This Row],[Oubli]]+Tableau4[[#This Row],[Attaques ratées]]+Tableau4[[#This Row],[Attaques réussies]])","v":{"$error":"#VALUE!"}}]
[{"$f":"IF(ISBLANK(Paramètres!A248),\"\",Paramètres!A248)","v":""},{"$f":"IFERROR(AVERAGE(Paramètres!B248,Paramètres!E248,Paramètres!H248,Paramètres!K248,Paramètres!N248),\"\")","v":""},{"$f":"IFERROR(AVERAGE((Paramètres!C248,Paramètres!F248,Paramètres!I248,Paramètres!L248,Paramètres!O248)),\"\")","v":""},{"$f":"IFERROR(AVERAGE((Paramètres!D248,Paramètres!G248,Paramètres!J248,Paramètres!M248,Paramètres!P248)),\"\")","v":""},{"$f":"IF(A249=\"\",\"\",COUNTIF(Paramètres!B248:C248,\"-\")+COUNTIF(Paramètres!E248:F248,\"-\")+COUNTIF(Paramètres!H248:I248,\"-\")+COUNTIF(Paramètres!K248:L248,\"-\")+COUNTIF(Paramètres!N248:O248,\"-\"))","v":""},{"$f":"IF(A249=\"\",\"\",COUNTIF(Paramètres!B248,\"<2\")+COUNTIF(Paramètres!C248,\"<2\")+COUNTIF(Paramètres!E248,\"<2\")+COUNTIF(Paramètres!F248,\"<2\")+COUNTIF(Paramètres!H248,\"<2\")+COUNTIF(Paramètres!I248,\"<2\")+COUNTIF(Paramètres!K248,\"<2\")+COUNTIF(Paramètres!L248,\"<2\")+COUNTIF(Paramètres!N248,\"<2\")+COUNTIF(Paramètres!O248,\"<2\"))","v":""},{"$f":"IF(A249=\"\",\"\",COUNTIF(Paramètres!B248,\">1\")+COUNTIF(Paramètres!C248,\">1\")+COUNTIF(Paramètres!E248,\">1\")+COUNTIF(Paramètres!F248,\">1\")+COUNTIF(Paramètres!H248,\">1\")+COUNTIF(Paramètres!I248,\">1\")+COUNTIF(Paramètres!K248,\">1\")+COUNTIF(Paramètres!L248,\">1\")+COUNTIF(Paramètres!N248,\">1\")+COUNTIF(Paramètres!O248,\">1\"))","v":""},{"$f":"Tableau4[[#This Row],[Attaques réussies]]/(Tableau4[[#This Row],[Oubli]]+Tableau4[[#This Row],[Attaques ratées]]+Tableau4[[#This Row],[Attaques réussies]])","v":{"$error":"#VALUE!"}}]
[{"$f":"IF(ISBLANK(Paramètres!A249),\"\",Paramètres!A249)","v":""},{"$f":"IFERROR(AVERAGE(Paramètres!B249,Paramètres!E249,Paramètres!H249,Paramètres!K249,Paramètres!N249),\"\")","v":""},{"$f":"IFERROR(AVERAGE((Paramètres!C249,Paramètres!F249,Paramètres!I249,Paramètres!L249,Paramètres!O249)),\"\")","v":""},{"$f":"IFERROR(AVERAGE((Paramètres!D249,Paramètres!G249,Paramètres!J249,Paramètres!M249,Paramètres!P249)),\"\")","v":""},{"$f":"IF(A250=\"\",\"\",COUNTIF(Paramètres!B249:C249,\"-\")+COUNTIF(Paramètres!E249:F249,\"-\")+COUNTIF(Paramètres!H249:I249,\"-\")+COUNTIF(Paramètres!K249:L249,\"-\")+COUNTIF(Paramètres!N249:O249,\"-\"))","v":""},{"$f":"IF(A250=\"\",\"\",COUNTIF(Paramètres!B249,\"<2\")+COUNTIF(Paramètres!C249,\"<2\")+COUNTIF(Paramètres!E249,\"<2\")+COUNTIF(Paramètres!F249,\"<2\")+COUNTIF(Paramètres!H249,\"<2\")+COUNTIF(Paramètres!I249,\"<2\")+COUNTIF(Paramètres!K249,\"<2\")+COUNTIF(Paramètres!L249,\"<2\")+COUNTIF(Paramètres!N249,\"<2\")+COUNTIF(Paramètres!O249,\"<2\"))","v":""},{"$f":"IF(A250=\"\",\"\",COUNTIF(Paramètres!B249,\">1\")+COUNTIF(Paramètres!C249,\">1\")+COUNTIF(Paramètres!E249,\">1\")+COUNTIF(Paramètres!F249,\">1\")+COUNTIF(Paramètres!H249,\">1\")+COUNTIF(Paramètres!I249,\">1\")+COUNTIF(Paramètres!K249,\">1\")+COUNTIF(Paramètres!L249,\">1\")+COUNTIF(Paramètres!N249,\">1\")+COUNTIF(Paramètres!O249,\">1\"))","v":""},{"$f":"Tableau4[[#This Row],[Attaques réussies]]/(Tableau4[[#This Row],[Oubli]]+Tableau4[[#This Row],[Attaques ratées]]+Tableau4[[#This Row],[Attaques réussies]])","v":{"$error":"#VALUE!"}}]