{"text_format":"1","workbook":"xlsx","n_sheets":18,"sheets":["Planning","À Faire - Récapitulatif","À Faire - Détails","Production","Combats - Loots","Formation de Troupes","Bâtiments","Améliorations - Sorts & Troupes","Héros","Coûts des Améliorations","Gains et Stockage","Trophées","Coûts de Formation","Calendrier","Traduction","Paramètres - Admin","Paramètres","Journal des Modifications"],"not_rendered":{"charts":1,"images":1,"macros":1,"external_links":0,"defined_names":23,"comments":0,"pivot_tables":0},"unopened":[],"bounds":{"document_bytes":16777216,"sheet_cells":100000,"rows_first":2000,"rows_last":500,"rows_between":2000,"halvings":0,"cell_chars":16384,"cell_head_chars":4096},"cells_cut":0,"cells_raw":0,"read":"whole","date_system":"1900"}

{"sheet":"Planning","index":0,"n_rows":59,"n_cols":68,"rows_kept":59,"cut":false,"hidden":false,"merged":[[39,0,39,7],[1,23,1,25],[2,23,2,25],[4,19,4,21],[2,19,2,21],[1,19,1,21],[3,19,3,21],[4,23,4,25],[4,15,4,16],[2,0,6,7],[0,18,0,25],[14,0,14,7],[33,0,33,7],[0,0,0,1],[1,0,1,1],[4,8,4,9],[4,11,4,12],[4,13,4,14],[0,15,0,16],[1,15,1,16],[2,15,2,16],[3,15,3,16],[0,8,0,9],[56,0,56,7],[20,0,20,7],[30,0,30,7],[0,11,0,12],[0,13,0,14],[1,11,1,12],[2,11,2,12],[3,11,3,12],[1,13,1,14],[2,13,2,14],[3,13,3,14],[7,0,7,7],[1,8,1,9],[2,8,2,9],[3,8,3,9],[50,0,50,7]]}
["LVL HdV",null,"Date de Départ","Pas (jour)","Période Sélectionnée","Créer Planning",null,"Réinitialiser","Période",null,"NB","Besoins d'Or\n(sans remparts)",null,"Besoins d'Elixir",null,"Besoins d'Elixir Noir",null,null,"Légende"]
[{"$f":"Paramètres!$BE$2","v":10},null,"2015-06-04",0.25,null,null,null,null,{"$f":"period_selected","v":"00:00:00"},null,0,0,null,0,null,0,null,null,null,"Planifié",null,null,null,"% Réalisé"]
["Planning",null,null,null,null,null,null,null,{"$f":"$I2+$D$2","v":"06:00:00"},null,0,0,null,0,null,0,null,null,null,"Réel",null,null,null,"% Réalisé (au-delà du planifié)"]
[null,null,null,null,null,null,null,null,{"$f":"$I3+$D$2","v":"12:00:00"},null,0,0,null,0,null,0,null,null,null,"Réel (au-delà du planifié)"]
[null,null,null,null,null,null,null,null,{"$f":"$I4+$D$2","v":"18:00:00"},null,0,0,null,0,null,0,null,null,null,"Ouvriers disponibles",null,null,null,"Erreur - Pas suffisament d'Ouvriers"]
[]
[null,null,null,null,null,null,null,null,{"$f":"SUM(I8:I88)+SUM(I89:I129)","v":0},0,0,0,0,0,0,0,0,0,0,0,0,0,0,0,0,0,0,0,0,0,0,0,0,0,0,0,0,0,0,0,{"$f":"SUM(AO8:AO88)+SUM(AO89:AO129)","v":0},0,0,0,0,0,0,0,0,0,0,0,0,0,0,0,0,0,0,0,0,0,0,0,0,0,0,0]
["Bâtiments de Ressources",null,null,null,null,null,null,null,{"$f":"IF(ISERROR(Plan),0,Plan)","v":0},0,0,0,0,0,0,0,0,0,{"$f":"IF(ISERROR(Plan),0,Plan)","v":0},0,0,0,0,0,0,0,0,0,{"$f":"IF(ISERROR(Plan),0,Plan)","v":0},0,0,0,0,0,0,0,0,0,{"$f":"IF(ISERROR(Plan),0,Plan)","v":0},0,0,0,0,0,0,0,0,0,{"$f":"IF(ISERROR(Plan),0,Plan)","v":0},0,0,0,0,0,0,0,0,0,{"$f":"IF(ISERROR(Plan),0,Plan)","v":0},0,0,0,0,0,0,0,0,0]
["Mine d'Or",null,{"$f":"IF($B9<>\"\",VLOOKUP($B9,COSTS_Gold_Mine[#All],2),\"\")","v":""},{"$f":"IF($B9<>\"\",VLOOKUP($B9,COSTS_Gold_Mine[#All],3)/24,\"\")","v":""},null,null,{"$f":"IF($D9<>\"\",$D9,\"\")","v":""},null,0,0,0,0,0,0,0,0,0,0,0,0,0,0,0,0,0,0,0,0,0,0,0,0,0,0,0,0,0,0,0,0,0,0,0,0,0,0,0,0,0,0,0,0,0,0,0,0,0,0,0,0,0,0,0,0,0,0,0,0]
["Extracteur d'Élixir",null,{"$f":"IF($B10<>\"\",VLOOKUP($B10,COSTS_Elixir_Collector[#All],2),\"\")","v":""},{"$f":"IF($B10<>\"\",VLOOKUP($B10,COSTS_Elixir_Collector[#All],3)/24,\"\")","v":""},null,null,null,null,{"$f":"IF(ISERROR(Plan),0,Plan)","v":0},0,0,0,0,0,0,0,0,0,{"$f":"IF(ISERROR(Plan),0,Plan)","v":0},0,0,0,0,0,0,0,0,0,{"$f":"IF(ISERROR(Plan),0,Plan)","v":0},0,0,0,0,0,0,0,0,0,{"$f":"IF(ISERROR(Plan),0,Plan)","v":0},0,0,0,0,0,0,0,0,0,{"$f":"IF(ISERROR(Plan),0,Plan)","v":0},0,0,0,0,0,0,0,0,0,{"$f":"IF(ISERROR(Plan),0,Plan)","v":0},0,0,0,0,0,0,0,0,0]
["Foreuse d'Élixir Noir",null,{"$f":"IF($B11<>\"\",VLOOKUP($B11,COSTS_Dark_Elixir_Drill[#All],2),\"\")","v":""},{"$f":"IF($B11<>\"\",VLOOKUP($B11,COSTS_Dark_Elixir_Drill[#All],3)/24,\"\")","v":""},null,null,null,null,{"$f":"IF(ISERROR(Plan),0,Plan)","v":0},0,0,0,0,0,0,0,0,0,{"$f":"IF(ISERROR(Plan),0,Plan)","v":0},0,0,0,0,0,0,0,0,0,{"$f":"IF(ISERROR(Plan),0,Plan)","v":0},0,0,0,0,0,0,0,0,0,{"$f":"IF(ISERROR(Plan),0,Plan)","v":0},0,0,0,0,0,0,0,0,0,{"$f":"IF(ISERROR(Plan),0,Plan)","v":0},0,0,0,0,0,0,0,0,0,{"$f":"IF(ISERROR(Plan),0,Plan)","v":0},0,0,0,0,0,0,0,0,0]
["Réserve d'Or",null,{"$f":"IF($B12<>\"\",VLOOKUP($B12,COSTS_Gold_Storage[#All],2),\"\")","v":""},{"$f":"IF($B12<>\"\",VLOOKUP($B12,COSTS_Gold_Storage[#All],3)/24,\"\")","v":""},null,null,null,null,{"$f":"IF(ISERROR(Plan),0,Plan)","v":0},0,0,0,0,0,0,0,0,0,{"$f":"IF(ISERROR(Plan),0,Plan)","v":0},0,0,0,0,0,0,0,0,0,{"$f":"IF(ISERROR(Plan),0,Plan)","v":0},0,0,0,0,0,0,0,0,0,{"$f":"IF(ISERROR(Plan),0,Plan)","v":0},0,0,0,0,0,0,0,0,0,{"$f":"IF(ISERROR(Plan),0,Plan)","v":0},0,0,0,0,0,0,0,0,0,{"$f":"IF(ISERROR(Plan),0,Plan)","v":0},0,0,0,0,0,0,0,0,0]
["Réservoir d'Élixir",null,{"$f":"IF($B13<>\"\",VLOOKUP($B13,COSTS_Elixir_Storage[#All],2),\"\")","v":""},{"$f":"IF($B13<>\"\",VLOOKUP($B13,COSTS_Elixir_Storage[#All],3)/24,\"\")","v":""},null,null,null,null,{"$f":"IF(ISERROR(Plan),0,Plan)","v":0},0,0,0,0,0,0,0,0,0,{"$f":"IF(ISERROR(Plan),0,Plan)","v":0},0,0,0,0,0,0,0,0,0,{"$f":"IF(ISERROR(Plan),0,Plan)","v":0},0,0,0,0,0,0,0,0,0,{"$f":"IF(ISERROR(Plan),0,Plan)","v":0},0,0,0,0,0,0,0,0,0,{"$f":"IF(ISERROR(Plan),0,Plan)","v":0},0,0,0,0,0,0,0,0,0,{"$f":"IF(ISERROR(Plan),0,Plan)","v":0},0,0,0,0,0,0,0,0,0]
["Réservoir d'Élixir Noir",null,{"$f":"IF($B14<>\"\",VLOOKUP($B14,COSTS_Dark_Elixir_Storage[#All],2),\"\")","v":""},{"$f":"IF($B14<>\"\",VLOOKUP($B14,COSTS_Dark_Elixir_Storage[#All],3)/24,\"\")","v":""},null,null,null,null,{"$f":"IF(ISERROR(Plan),0,Plan)","v":0},0,0,0,0,0,0,0,0,0,{"$f":"IF(ISERROR(Plan),0,Plan)","v":0},0,0,0,0,0,0,0,0,0,{"$f":"IF(ISERROR(Plan),0,Plan)","v":0},0,0,0,0,0,0,0,0,0,{"$f":"IF(ISERROR(Plan),0,Plan)","v":0},0,0,0,0,0,0,0,0,0,{"$f":"IF(ISERROR(Plan),0,Plan)","v":0},0,0,0,0,0,0,0,0,0,{"$f":"IF(ISERROR(Plan),0,Plan)","v":0},0,0,0,0,0,0,0,0,0]
["Bâtiments d'Armée",null,null,null,null,null,null,null,{"$f":"IF(ISERROR(Plan),0,Plan)","v":0},0,0,0,0,0,0,0,0,0,{"$f":"IF(ISERROR(Plan),0,Plan)","v":0},0,0,0,0,0,0,0,0,0,{"$f":"IF(ISERROR(Plan),0,Plan)","v":0},0,0,0,0,0,0,0,0,0,{"$f":"IF(ISERROR(Plan),0,Plan)","v":0},0,0,0,0,0,0,0,0,0,{"$f":"IF(ISERROR(Plan),0,Plan)","v":0},0,0,0,0,0,0,0,0,0,{"$f":"IF(ISERROR(Plan),0,Plan)","v":0},0,0,0,0,0,0,0,0,0]
["Caserne",null,{"$f":"IF($B16<>\"\",VLOOKUP($B16,COSTS_Barrack[#All],2),\"\")","v":""},{"$f":"IF($B16<>\"\",VLOOKUP($B16,COSTS_Barrack[#All],3)/24,\"\")","v":""},null,null,{"$f":"IF($D16<>\"\",$D16,\"\")","v":""},null,0,0,0,0,0,0,0,0,0,0,0,0,0,0,0,0,0,0,0,0,0,0,0,0,0,0,0,0,0,0,0,0,0,0,0,0,0,0,0,0,0,0,0,0,0,0,0,0,0,0,0,0,0,0,0,0,0,0,0,0]
["Caserne Noire",null,{"$f":"IF($B17<>\"\",VLOOKUP($B17,COSTS_Dark_Barrack[#All],2),\"\")","v":""},{"$f":"IF($B17<>\"\",VLOOKUP($B17,COSTS_Dark_Barrack[#All],3)/24,\"\")","v":""},null,null,null,null,{"$f":"IF(ISERROR(Plan),0,Plan)","v":0},0,0,0,0,0,0,0,0,0,{"$f":"IF(ISERROR(Plan),0,Plan)","v":0},0,0,0,0,0,0,0,0,0,{"$f":"IF(ISERROR(Plan),0,Plan)","v":0},0,0,0,0,0,0,0,0,0,{"$f":"IF(ISERROR(Plan),0,Plan)","v":0},0,0,0,0,0,0,0,0,0,{"$f":"IF(ISERROR(Plan),0,Plan)","v":0},0,0,0,0,0,0,0,0,0,{"$f":"IF(ISERROR(Plan),0,Plan)","v":0},0,0,0,0,0,0,0,0,0]
["Camp Militaire",null,{"$f":"IF($B18<>\"\",VLOOKUP($B18,COSTS_Army_Camp[#All],2),\"\")","v":""},{"$f":"IF($B18<>\"\",VLOOKUP($B18,COSTS_Army_Camp[#All],3)/24,\"\")","v":""},null,null,{"$f":"IF($D18<>\"\",$D18,\"\")","v":""},null,0,0,0,0,0,0,0,0,0,0,0,0,0,0,0,0,0,0,0,0,0,0,0,0,0,0,0,0,0,0,0,0,0,0,0,0,0,0,0,0,0,0,0,0,0,0,0,0,0,0,0,0,0,0,0,0,0,0,0,0]
["Laboratoire",null,{"$f":"IF($B19<>\"\",VLOOKUP($B19,COSTS_Laboratory[#All],2),\"\")","v":""},{"$f":"IF($B19<>\"\",VLOOKUP($B19,COSTS_Laboratory[#All],3)/24,\"\")","v":""},null,null,{"$f":"IF($D19<>\"\",$D19,\"\")","v":""},null,{"$f":"IF(ISERROR(Plan),0,Plan)","v":0},0,0,0,0,0,0,0,0,0,{"$f":"IF(ISERROR(Plan),0,Plan)","v":0},0,0,0,0,0,0,0,0,0,{"$f":"IF(ISERROR(Plan),0,Plan)","v":0},0,0,0,0,0,0,0,0,0,{"$f":"IF(ISERROR(Plan),0,Plan)","v":0},0,0,0,0,0,0,0,0,0,{"$f":"IF(ISERROR(Plan),0,Plan)","v":0},0,0,0,0,0,0,0,0,0,{"$f":"IF(ISERROR(Plan),0,Plan)","v":0},0,0,0,0,0,0,0,0,0]
["Usine de Sorts",null,{"$f":"IF($B20<>\"\",VLOOKUP($B20,COSTS_Spell_Factory[#All],2),\"\")","v":""},{"$f":"IF($B20<>\"\",VLOOKUP($B20,COSTS_Spell_Factory[#All],3)/24,\"\")","v":""},null,null,{"$f":"IF($D20<>\"\",$D20,\"\")","v":""},null,{"$f":"IF(ISERROR(Plan),0,Plan)","v":0},0,0,0,0,0,0,0,0,0,{"$f":"IF(ISERROR(Plan),0,Plan)","v":0},0,0,0,0,0,0,0,0,0,{"$f":"IF(ISERROR(Plan),0,Plan)","v":0},0,0,0,0,0,0,0,0,0,{"$f":"IF(ISERROR(Plan),0,Plan)","v":0},0,0,0,0,0,0,0,0,0,{"$f":"IF(ISERROR(Plan),0,Plan)","v":0},0,0,0,0,0,0,0,0,0,{"$f":"IF(ISERROR(Plan),0,Plan)","v":0},0,0,0,0,0,0,0,0,0]
["Bâtiments Défensifs",null,null,null,null,null,null,null,0,0,0,0,0,0,0,0,0,0,0,0,0,0,0,0,0,0,0,0,0,0,0,0,0,0,0,0,0,0,0,0,0,0,0,0,0,0,0,0,0,0,0,0,0,0,0,0,0,0,0,0,0,0,0,0,0,0,0,0]
["Rempart",null,{"$f":"IF($B22<>\"\",VLOOKUP($B22,COSTS_Wall[#All],2),\"\")","v":""},{"$f":"IF($B22<>\"\",VLOOKUP($B22,COSTS_Wall[#All],3)/24,\"\")","v":""},null,null,{"$f":"IF($D22<>\"\",$D22,\"\")","v":""},null,0,0,0,0,0,0,0,0,0,0,0,0,0,0,0,0,0,0,0,0,0,0,0,0,0,0,0,0,0,0,0,0,0,0,0,0,0,0,0,0,0,0,0,0,0,0,0,0,0,0,0,0,0,0,0,0,0,0,0,0]
["Canon",null,{"$f":"IF($B23<>\"\",VLOOKUP($B23,COSTS_Cannon[#All],2),\"\")","v":""},{"$f":"IF($B23<>\"\",VLOOKUP($B23,COSTS_Cannon[#All],3)/24,\"\")","v":""},null,null,null,null,{"$f":"IF(ISERROR(Plan),0,Plan)","v":0},0,0,0,0,0,0,0,0,0,{"$f":"IF(ISERROR(Plan),0,Plan)","v":0},0,0,0,0,0,0,0,0,0,{"$f":"IF(ISERROR(Plan),0,Plan)","v":0},0,0,0,0,0,0,0,0,0,{"$f":"IF(ISERROR(Plan),0,Plan)","v":0},0,0,0,0,0,0,0,0,0,{"$f":"IF(ISERROR(Plan),0,Plan)","v":0},0,0,0,0,0,0,0,0,0,{"$f":"IF(ISERROR(Plan),0,Plan)","v":0},0,0,0,0,0,0,0,0,0]
["Tour d'Archers",null,{"$f":"IF($B24<>\"\",VLOOKUP($B24,COSTS_Archer_Tower[#All],2),\"\")","v":""},{"$f":"IF($B24<>\"\",VLOOKUP($B24,COSTS_Archer_Tower[#All],3)/24,\"\")","v":""},null,null,null,null,{"$f":"IF(ISERROR(Plan),0,Plan)","v":0},0,0,0,0,0,0,0,0,0,{"$f":"IF(ISERROR(Plan),0,Plan)","v":0},0,0,0,0,0,0,0,0,0,{"$f":"IF(ISERROR(Plan),0,Plan)","v":0},0,0,0,0,0,0,0,0,0,{"$f":"IF(ISERROR(Plan),0,Plan)","v":0},0,0,0,0,0,0,0,0,0,{"$f":"IF(ISERROR(Plan),0,Plan)","v":0},0,0,0,0,0,0,0,0,0,{"$f":"IF(ISERROR(Plan),0,Plan)","v":0},0,0,0,0,0,0,0,0,0]
["Mortier",null,{"$f":"IF($B25<>\"\",VLOOKUP($B25,COSTS_Mortar[#All],2),\"\")","v":""},{"$f":"IF($B25<>\"\",VLOOKUP($B25,COSTS_Mortar[#All],3)/24,\"\")","v":""},null,null,null,null,{"$f":"IF(ISERROR(Plan),0,Plan)","v":0},0,0,0,0,0,0,0,0,0,{"$f":"IF(ISERROR(Plan),0,Plan)","v":0},0,0,0,0,0,0,0,0,0,{"$f":"IF(ISERROR(Plan),0,Plan)","v":0},0,0,0,0,0,0,0,0,0,{"$f":"IF(ISERROR(Plan),0,Plan)","v":0},0,0,0,0,0,0,0,0,0,{"$f":"IF(ISERROR(Plan),0,Plan)","v":0},0,0,0,0,0,0,0,0,0,{"$f":"IF(ISERROR(Plan),0,Plan)","v":0},0,0,0,0,0,0,0,0,0]
["Défense Antiaérienne",null,{"$f":"IF($B26<>\"\",VLOOKUP($B26,COSTS_Air_Defense[#All],2),\"\")","v":""},{"$f":"IF($B26<>\"\",VLOOKUP($B26,COSTS_Air_Defense[#All],3)/24,\"\")","v":""},null,null,null,null,{"$f":"IF(ISERROR(Plan),0,Plan)","v":0},0,0,0,0,0,0,0,0,0,{"$f":"IF(ISERROR(Plan),0,Plan)","v":0},0,0,0,0,0,0,0,0,0,{"$f":"IF(ISERROR(Plan),0,Plan)","v":0},0,0,0,0,0,0,0,0,0,{"$f":"IF(ISERROR(Plan),0,Plan)","v":0},0,0,0,0,0,0,0,0,0,{"$f":"IF(ISERROR(Plan),0,Plan)","v":0},0,0,0,0,0,0,0,0,0,{"$f":"IF(ISERROR(Plan),0,Plan)","v":0},0,0,0,0,0,0,0,0,0]
["Tour de Sorciers",null,{"$f":"IF($B27<>\"\",VLOOKUP($B27,COSTS_Wizard_Tower[#All],2),\"\")","v":""},{"$f":"IF($B27<>\"\",VLOOKUP($B27,COSTS_Wizard_Tower[#All],3)/24,\"\")","v":""},null,null,null,null,{"$f":"IF(ISERROR(Plan),0,Plan)","v":0},0,0,0,0,0,0,0,0,0,{"$f":"IF(ISERROR(Plan),0,Plan)","v":0},0,0,0,0,0,0,0,0,0,{"$f":"IF(ISERROR(Plan),0,Plan)","v":0},0,0,0,0,0,0,0,0,0,{"$f":"IF(ISERROR(Plan),0,Plan)","v":0},0,0,0,0,0,0,0,0,0,{"$f":"IF(ISERROR(Plan),0,Plan)","v":0},0,0,0,0,0,0,0,0,0,{"$f":"IF(ISERROR(Plan),0,Plan)","v":0},0,0,0,0,0,0,0,0,0]
["Tesla Camouflée",null,{"$f":"IF($B28<>\"\",VLOOKUP($B28,COSTS_Hidden_Tesla[#All],2),\"\")","v":""},{"$f":"IF($B28<>\"\",VLOOKUP($B28,COSTS_Hidden_Tesla[#All],3)/24,\"\")","v":""},null,null,null,null,{"$f":"IF(ISERROR(Plan),0,Plan)","v":0},0,0,0,0,0,0,0,0,0,{"$f":"IF(ISERROR(Plan),0,Plan)","v":0},0,0,0,0,0,0,0,0,0,{"$f":"IF(ISERROR(Plan),0,Plan)","v":0},0,0,0,0,0,0,0,0,0,{"$f":"IF(ISERROR(Plan),0,Plan)","v":0},0,0,0,0,0,0,0,0,0,{"$f":"IF(ISERROR(Plan),0,Plan)","v":0},0,0,0,0,0,0,0,0,0,{"$f":"IF(ISERROR(Plan),0,Plan)","v":0},0,0,0,0,0,0,0,0,0]
["Arc-X",null,{"$f":"IF($B29<>\"\",VLOOKUP($B29,COSTS_XBow[#All],2),\"\")","v":""},{"$f":"IF($B29<>\"\",VLOOKUP($B29,COSTS_XBow[#All],3)/24,\"\")","v":""},null,null,{"$f":"IF($D29<>\"\",$D29,\"\")","v":""},null,{"$f":"IF(ISERROR(Plan),0,Plan)","v":0},0,0,0,0,0,0,0,0,0,{"$f":"IF(ISERROR(Plan),0,Plan)","v":0},0,0,0,0,0,0,0,0,0,{"$f":"IF(ISERROR(Plan),0,Plan)","v":0},0,0,0,0,0,0,0,0,0,{"$f":"IF(ISERROR(Plan),0,Plan)","v":0},0,0,0,0,0,0,0,0,0,{"$f":"IF(ISERROR(Plan),0,Plan)","v":0},0,0,0,0,0,0,0,0,0,{"$f":"IF(ISERROR(Plan),0,Plan)","v":0},0,0,0,0,0,0,0,0,0]
["Tour de l'Enfer",null,{"$f":"IF($B30<>\"\",VLOOKUP($B30,COSTS_Inferno_Tower[#All],2),\"\")","v":""},{"$f":"IF($B30<>\"\",VLOOKUP($B30,COSTS_Inferno_Tower[#All],3)/24,\"\")","v":""},null,null,"",null,0,0,0,0,0,0,0,0,0,0,0,0,0,0,0,0,0,0,0,0,0,0,0,0,0,0,0,0,0,0,0,0,0,0,0,0,0,0,0,0,0,0,0,0,0,0,0,0,0,0,0,0,0,0,0,0,0,0,0,0]
["Bâtiments Autres",null,null,null,null,null,null,null,{"$f":"IF(ISERROR(Plan),0,Plan)","v":0},0,0,0,0,0,0,0,0,0,{"$f":"IF(ISERROR(Plan),0,Plan)","v":0},0,0,0,0,0,0,0,0,0,{"$f":"IF(ISERROR(Plan),0,Plan)","v":0},0,0,0,0,0,0,0,0,0,{"$f":"IF(ISERROR(Plan),0,Plan)","v":0},0,0,0,0,0,0,0,0,0,{"$f":"IF(ISERROR(Plan),0,Plan)","v":0},0,0,0,0,0,0,0,0,0,{"$f":"IF(ISERROR(Plan),0,Plan)","v":0},0,0,0,0,0,0,0,0,0]
["Château de Clan",null,{"$f":"IF($B32<>\"\",VLOOKUP($B32,COSTS_Clan_Castle[#All],2),\"\")","v":""},{"$f":"IF($B32<>\"\",VLOOKUP($B32,COSTS_Clan_Castle[#All],3)/24,\"\")","v":""},null,null,{"$f":"IF($D32<>\"\",$D32,\"\")","v":""},null,0,0,0,0,0,0,0,0,0,0,0,0,0,0,0,0,0,0,0,0,0,0,0,0,0,0,0,0,0,0,0,0,0,0,0,0,0,0,0,0,0,0,0,0,0,0,0,0,0,0,0,0,0,0,0,0,0,0,0,0]
["Hôtel de Ville",null,{"$f":"IF($B33<>\"\",VLOOKUP($B33,COSTS_Town_Home[#All],2),\"\")","v":""},{"$f":"IF($B33<>\"\",VLOOKUP($B33,COSTS_Town_Home[#All],3)/24,\"\")","v":""},null,null,{"$f":"IF($D33<>\"\",$D33,\"\")","v":""},null,0,0,0,0,0,0,0,0,0,0,0,0,0,0,0,0,0,0,0,0,0,0,0,0,0,0,0,0,0,0,0,0,0,0,0,0,0,0,0,0,0,0,0,0,0,0,0,0,0,0,0,0,0,0,0,0,0,0,0,0]
["Améliorations de Sorts",null,null,null,null,null,null,null,0,0,0,0,0,0,0,0,0,0,0,0,0,0,0,0,0,0,0,0,0,0,0,0,0,0,0,0,0,0,0,0,0,0,0,0,0,0,0,0,0,0,0,0,0,0,0,0,0,0,0,0,0,0,0,0,0,0,0,0]
["Sort de Foudre",null,{"$f":"IF($B35<>\"\",VLOOKUP($B35,COSTS_Spell_Lightning[#All],2),\"\")","v":""},{"$f":"IF($B35<>\"\",VLOOKUP($B35,COSTS_Spell_Lightning[#All],3)/24,\"\")","v":""},null,null,{"$f":"IF($D35<>\"\",$D35,\"\")","v":""},null,0,0,0,0,0,0,0,0,0,0,0,0,0,0,0,0,0,0,0,0,0,0,0,0,0,0,0,0,0,0,0,0,0,0,0,0,0,0,0,0,0,0,0,0,0,0,0,0,0,0,0,0,0,0,0,0,0,0,0,0]
["Sort de Guérison",null,{"$f":"IF($B36<>\"\",VLOOKUP($B36,COSTS_Spell_Healing[#All],2),\"\")","v":""},{"$f":"IF($B36<>\"\",VLOOKUP($B36,COSTS_Spell_Healing[#All],3)/24,\"\")","v":""},null,null,null,null,{"$f":"IF(ISERROR(Plan),0,Plan)","v":0},0,0,0,0,0,0,0,0,0,{"$f":"IF(ISERROR(Plan),0,Plan)","v":0},0,0,0,0,0,0,0,0,0,{"$f":"IF(ISERROR(Plan),0,Plan)","v":0},0,0,0,0,0,0,0,0,0,{"$f":"IF(ISERROR(Plan),0,Plan)","v":0},0,0,0,0,0,0,0,0,0,{"$f":"IF(ISERROR(Plan),0,Plan)","v":0},0,0,0,0,0,0,0,0,0,{"$f":"IF(ISERROR(Plan),0,Plan)","v":0},0,0,0,0,0,0,0,0,0]
["Sort de Rage",null,{"$f":"IF($B37<>\"\",VLOOKUP($B37,COSTS_Spell_Rage[#All],2),\"\")","v":""},{"$f":"IF($B37<>\"\",VLOOKUP($B37,COSTS_Spell_Rage[#All],3)/24,\"\")","v":""},null,null,{"$f":"IF($D37<>\"\",$D37,\"\")","v":""},null,0,0,0,0,0,0,0,0,0,0,0,0,0,0,0,0,0,0,0,0,0,0,0,0,0,0,0,0,0,0,0,0,0,0,0,0,0,0,0,0,0,0,0,0,0,0,0,0,0,0,0,0,0,0,0,0,0,0,0,0]
["Sort de Saut",null,{"$f":"IF($B38<>\"\",VLOOKUP($B38,COSTS_Spell_Jump[#All],2),\"\")","v":""},{"$f":"IF($B38<>\"\",VLOOKUP($B38,COSTS_Spell_Jump[#All],3)/24,\"\")","v":""},null,null,"",null,{"$f":"IF(ISERROR(Plan),0,Plan)","v":0},0,0,0,0,0,0,0,0,0,{"$f":"IF(ISERROR(Plan),0,Plan)","v":0},0,0,0,0,0,0,0,0,0,{"$f":"IF(ISERROR(Plan),0,Plan)","v":0},0,0,0,0,0,0,0,0,0,{"$f":"IF(ISERROR(Plan),0,Plan)","v":0},0,0,0,0,0,0,0,0,0,{"$f":"IF(ISERROR(Plan),0,Plan)","v":0},0,0,0,0,0,0,0,0,0,{"$f":"IF(ISERROR(Plan),0,Plan)","v":0},0,0,0,0,0,0,0,0,0]
["Sort de Gel",null,{"$f":"IF($B39<>\"\",VLOOKUP($B39,COSTS_Spell_Freeze[#All],2),\"\")","v":""},{"$f":"IF($B39<>\"\",VLOOKUP($B39,COSTS_Spell_Freeze[#All],3)/24,\"\")","v":""},null,null,"",null,0,0,0,0,0,0,0,0,0,0,0,0,0,0,0,0,0,0,0,0,0,0,0,0,0,0,0,0,0,0,0,0,0,0,0,0,0,0,0,0,0,0,0,0,0,0,0,0,0,0,0,0,0,0,0,0,0,0,0,0]
["Améliorations de Troupes",null,null,null,null,null,null,null,0,0,0,0,0,0,0,0,0,0,0,0,0,0,0,0,0,0,0,0,0,0,0,0,0,0,0,0,0,0,0,0,0,0,0,0,0,0,0,0,0,0,0,0,0,0,0,0,0,0,0,0,0,0,0,0,0,0,0,0]
["Barbare",null,{"$f":"IF($B41<>\"\",VLOOKUP($B41,COSTS_Barbarian[#All],2),\"\")","v":""},{"$f":"IF($B41<>\"\",VLOOKUP($B41,COSTS_Barbarian[#All],3)/24,\"\")","v":""},null,null,"",null,0,0,0,0,0,0,0,0,0,0,0,0,0,0,0,0,0,0,0,0,0,0,0,0,0,0,0,0,0,0,0,0,0,0,0,0,0,0,0,0,0,0,0,0,0,0,0,0,0,0,0,0,0,0,0,0,0,0,0,0]
["Archer",null,{"$f":"IF($B42<>\"\",VLOOKUP($B42,COSTS_Archer[#All],2),\"\")","v":""},{"$f":"IF($B42<>\"\",VLOOKUP($B42,COSTS_Archer[#All],3)/24,\"\")","v":""},null,null,"",null,{"$f":"IF(ISERROR(Plan),0,Plan)","v":0},0,0,0,0,0,0,0,0,0,{"$f":"IF(ISERROR(Plan),0,Plan)","v":0},0,0,0,0,0,0,0,0,0,{"$f":"IF(ISERROR(Plan),0,Plan)","v":0},0,0,0,0,0,0,0,0,0,{"$f":"IF(ISERROR(Plan),0,Plan)","v":0},0,0,0,0,0,0,0,0,0,{"$f":"IF(ISERROR(Plan),0,Plan)","v":0},0,0,0,0,0,0,0,0,0,{"$f":"IF(ISERROR(Plan),0,Plan)","v":0},0,0,0,0,0,0,0,0,0]
["Gobelin",null,{"$f":"IF($B43<>\"\",VLOOKUP($B43,COSTS_Goblin[#All],2),\"\")","v":""},{"$f":"IF($B43<>\"\",VLOOKUP($B43,COSTS_Goblin[#All],3)/24,\"\")","v":""},null,null,"",null,{"$f":"IF(ISERROR(Plan),0,Plan)","v":0},0,0,0,0,0,0,0,0,0,{"$f":"IF(ISERROR(Plan),0,Plan)","v":0},0,0,0,0,0,0,0,0,0,{"$f":"IF(ISERROR(Plan),0,Plan)","v":0},0,0,0,0,0,0,0,0,0,{"$f":"IF(ISERROR(Plan),0,Plan)","v":0},0,0,0,0,0,0,0,0,0,{"$f":"IF(ISERROR(Plan),0,Plan)","v":0},0,0,0,0,0,0,0,0,0,{"$f":"IF(ISERROR(Plan),0,Plan)","v":0},0,0,0,0,0,0,0,0,0]
["Géant",null,{"$f":"IF($B44<>\"\",VLOOKUP($B44,COSTS_Giant[#All],2),\"\")","v":""},{"$f":"IF($B44<>\"\",VLOOKUP($B44,COSTS_Giant[#All],3)/24,\"\")","v":""},null,null,null,null,0,0,0,0,0,0,0,0,0,0,0,0,0,0,0,0,0,0,0,0,0,0,0,0,0,0,0,0,0,0,0,0,0,0,0,0,0,0,0,0,0,0,0,0,0,0,0,0,0,0,0,0,0,0,0,0,0,0,0,0]
["Sapeur",null,{"$f":"IF($B45<>\"\",VLOOKUP($B45,COSTS_Wall_Breaker[#All],2),\"\")","v":""},{"$f":"IF($B45<>\"\",VLOOKUP($B45,COSTS_Wall_Breaker[#All],3)/24,\"\")","v":""},null,null,null,null,{"$f":"IF(ISERROR(Plan),0,Plan)","v":0},0,0,0,0,0,0,0,0,0,{"$f":"IF(ISERROR(Plan),0,Plan)","v":0},0,0,0,0,0,0,0,0,0,{"$f":"IF(ISERROR(Plan),0,Plan)","v":0},0,0,0,0,0,0,0,0,0,{"$f":"IF(ISERROR(Plan),0,Plan)","v":0},0,0,0,0,0,0,0,0,0,{"$f":"IF(ISERROR(Plan),0,Plan)","v":0},0,0,0,0,0,0,0,0,0,{"$f":"IF(ISERROR(Plan),0,Plan)","v":0},0,0,0,0,0,0,0,0,0]
["Ballon",null,{"$f":"IF($B46<>\"\",VLOOKUP($B46,COSTS_Balloon[#All],2),\"\")","v":""},{"$f":"IF($B46<>\"\",VLOOKUP($B46,COSTS_Balloon[#All],3)/24,\"\")","v":""},null,null,null,null,0,0,0,0,0,0,0,0,0,0,0,0,0,0,0,0,0,0,0,0,0,0,0,0,0,0,0,0,0,0,0,0,0,0,0,0,0,0,0,0,0,0,0,0,0,0,0,0,0,0,0,0,0,0,0,0,0,0,0,0]
["Sorcier",null,{"$f":"IF($B47<>\"\",VLOOKUP($B47,COSTS_Wizard[#All],2),\"\")","v":""},{"$f":"IF($B47<>\"\",VLOOKUP($B47,COSTS_Wizard[#All],3)/24,\"\")","v":""},null,null,null,null,{"$f":"IF(ISERROR(Plan),0,Plan)","v":0},0,0,0,0,0,0,0,0,0,{"$f":"IF(ISERROR(Plan),0,Plan)","v":0},0,0,0,0,0,0,0,0,0,{"$f":"IF(ISERROR(Plan),0,Plan)","v":0},0,0,0,0,0,0,0,0,0,{"$f":"IF(ISERROR(Plan),0,Plan)","v":0},0,0,0,0,0,0,0,0,0,{"$f":"IF(ISERROR(Plan),0,Plan)","v":0},0,0,0,0,0,0,0,0,0,{"$f":"IF(ISERROR(Plan),0,Plan)","v":0},0,0,0,0,0,0,0,0,0]
["Guérisseuse",null,{"$f":"IF($B48<>\"\",VLOOKUP($B48,COSTS_Healer[#All],2),\"\")","v":""},{"$f":"IF($B48<>\"\",VLOOKUP($B48,COSTS_Healer[#All],3)/24,\"\")","v":""},null,null,null,null,{"$f":"IF(ISERROR(Plan),0,Plan)","v":0},0,0,0,0,0,0,0,0,0,{"$f":"IF(ISERROR(Plan),0,Plan)","v":0},0,0,0,0,0,0,0,0,0,{"$f":"IF(ISERROR(Plan),0,Plan)","v":0},0,0,0,0,0,0,0,0,0,{"$f":"IF(ISERROR(Plan),0,Plan)","v":0},0,0,0,0,0,0,0,0,0,{"$f":"IF(ISERROR(Plan),0,Plan)","v":0},0,0,0,0,0,0,0,0,0,{"$f":"IF(ISERROR(Plan),0,Plan)","v":0},0,0,0,0,0,0,0,0,0]
["Dragon",null,{"$f":"IF($B49<>\"\",VLOOKUP($B49,COSTS_Dragon[#All],2),\"\")","v":""},{"$f":"IF($B49<>\"\",VLOOKUP($B49,COSTS_Dragon[#All],3)/24,\"\")","v":""},null,null,null,null,0,0,0,0,0,0,0,0,0,0,0,0,0,0,0,0,0,0,0,0,0,0,0,0,0,0,0,0,0,0,0,0,0,0,0,0,0,0,0,0,0,0,0,0,0,0,0,0,0,0,0,0,0,0,0,0,0,0,0,0]
["P.E.K.K.A",null,{"$f":"IF($B50<>\"\",VLOOKUP($B50,COSTS_PEKKA[#All],2),\"\")","v":""},{"$f":"IF($B50<>\"\",VLOOKUP($B50,COSTS_PEKKA[#All],3)/24,\"\")","v":""},null,null,null,null,0,0,0,0,0,0,0,0,0,0,0,0,0,0,0,0,0,0,0,0,0,0,0,0,0,0,0,0,0,0,0,0,0,0,0,0,0,0,0,0,0,0,0,0,0,0,0,0,0,0,0,0,0,0,0,0,0,0,0,0]
["Améliorations de Troupes Noires",null,null,null,null,null,null,null,{"$f":"IF(ISERROR(Plan),0,Plan)","v":0},0,0,0,0,0,0,0,0,0,{"$f":"IF(ISERROR(Plan),0,Plan)","v":0},0,0,0,0,0,0,0,0,0,{"$f":"IF(ISERROR(Plan),0,Plan)","v":0},0,0,0,0,0,0,0,0,0,{"$f":"IF(ISERROR(Plan),0,Plan)","v":0},0,0,0,0,0,0,0,0,0,{"$f":"IF(ISERROR(Plan),0,Plan)","v":0},0,0,0,0,0,0,0,0,0,{"$f":"IF(ISERROR(Plan),0,Plan)","v":0},0,0,0,0,0,0,0,0,0]
["Serviteur",null,{"$f":"IF($B52<>\"\",VLOOKUP($B52,COSTS_Minion[#All],2),\"\")","v":""},{"$f":"IF($B52<>\"\",VLOOKUP($B52,COSTS_Minion[#All],3)/24,\"\")","v":""},null,null,"",null,0,0,0,0,0,0,0,0,0,0,0,0,0,0,0,0,0,0,0,0,0,0,0,0,0,0,0,0,0,0,0,0,0,0,0,0,0,0,0,0,0,0,0,0,0,0,0,0,0,0,0,0,0,0,0,0,0,0,0,0]
["Chevaucheur de Cochon",null,{"$f":"IF($B53<>\"\",VLOOKUP($B53,COSTS_Hog_Rider[#All],2),\"\")","v":""},{"$f":"IF($B53<>\"\",VLOOKUP($B53,COSTS_Hog_Rider[#All],3)/24,\"\")","v":""},null,null,null,null,{"$f":"IF(ISERROR(Plan),0,Plan)","v":0},0,0,0,0,0,0,0,0,0,{"$f":"IF(ISERROR(Plan),0,Plan)","v":0},0,0,0,0,0,0,0,0,0,{"$f":"IF(ISERROR(Plan),0,Plan)","v":0},0,0,0,0,0,0,0,0,0,{"$f":"IF(ISERROR(Plan),0,Plan)","v":0},0,0,0,0,0,0,0,0,0,{"$f":"IF(ISERROR(Plan),0,Plan)","v":0},0,0,0,0,0,0,0,0,0,{"$f":"IF(ISERROR(Plan),0,Plan)","v":0},0,0,0,0,0,0,0,0,0]
["Valkyrie",null,{"$f":"IF($B54<>\"\",VLOOKUP($B54,COSTS_Valkyrie[#All],2),\"\")","v":""},{"$f":"IF($B54<>\"\",VLOOKUP($B54,COSTS_Valkyrie[#All],3)/24,\"\")","v":""},null,null,"",null,0,0,0,0,0,0,0,0,0,0,0,0,0,0,0,0,0,0,0,0,0,0,0,0,0,0,0,0,0,0,0,0,0,0,0,0,0,0,0,0,0,0,0,0,0,0,0,0,0,0,0,0,0,0,0,0,0,0,0,0]
["Golem",null,{"$f":"IF($B55<>\"\",VLOOKUP($B55,COSTS_Golem[#All],2),\"\")","v":""},{"$f":"IF($B55<>\"\",VLOOKUP($B55,COSTS_Golem[#All],3)/24,\"\")","v":""},null,null,{"$f":"IF($D55<>\"\",$D55,\"\")","v":""},null,0,0,0,0,0,0,0,0,0,0,0,0,0,0,0,0,0,0,0,0,0,0,0,0,0,0,0,0,0,0,0,0,0,0,0,0,0,0,0,0,0,0,0,0,0,0,0,0,0,0,0,0,0,0,0,0,0,0,0,0]
["Sorcière",null,{"$f":"IF($B56<>\"\",VLOOKUP($B56,COSTS_Witch[#All],2),\"\")","v":""},{"$f":"IF($B56<>\"\",VLOOKUP($B56,COSTS_Golem[#All],3)/24,\"\")","v":""},null,null,{"$f":"IF($D56<>\"\",$D56,\"\")","v":""}]
["Héros",null,null,null,null,null,null,null,{"$f":"IF(ISERROR(Plan),0,Plan)","v":0},{"$f":"IF(ISERROR(Plan),0,Plan)","v":0},0,0,0,0,0,0,0,0,0,0,0,0,0,0,0,{"$f":"IF(ISERROR(Plan),0,Plan)","v":0},0,0,0,0,0,0,0,0,0,0,0,0,0,0,0,0,0,0,0,0,0,0,0,0,0,0,0,0,0,0,0,0,0,0,0,0,0,0,0,0,0,0]
["Roi des Barbares",null,{"$f":"IF($B58<>\"\",VLOOKUP($B58,COSTS_Barbarian_King[#All],2),\"\")","v":""},{"$f":"IF($B58<>\"\",VLOOKUP($B58,COSTS_Barbarian_King[#All],3)/24,\"\")","v":""},null,null,"",null,0,{"$f":"IF(ISERROR(Plan),0,Plan)","v":0},0,0,0,0,0,0,0,0,0,0,0,0,0,0,0,0,0,0,0,0,0,0,0,0,0,0,0,0,0,0,0,0,0,0,0,0,0,0,0,0,0,0,0,0,0,0,0,0,0,0,0,0,0,0,0,0,0,0]
["Reine des Archers",null,{"$f":"IF($B59<>\"\",VLOOKUP($B59,COSTS_Archer_Queen[#All],2),\"\")","v":""},{"$f":"IF($B59<>\"\",VLOOKUP($B59,COSTS_Archer_Queen[#All],3)/24,\"\")","v":""},null,null,"",null,0,0,{"$f":"IF(ISERROR(Plan),0,Plan)","v":0},0,0,0,0,0,0,0,0,0,0,0,0,0,0,0,0,0,0,0,0,0,0,0,0,0,0,0,0,0,0,0,0,0,0,0,0,0,0,0,0,0,0,0,0,0,0,0,0,0,0,0,0,0,0,0,0,0]

{"sheet":"À Faire - Récapitulatif","index":1,"n_rows":30,"n_cols":32,"rows_kept":30,"cut":false,"hidden":false,"merged":[[17,0,17,5],[17,6,17,11],[1,18,1,20],[0,18,0,20],[1,21,1,23],[0,21,0,23],[17,18,17,23],[4,0,4,5],[4,6,4,11],[4,12,4,17],[4,18,4,23],[1,1,1,2],[0,1,0,2],[17,12,17,17],[4,24,4,29],[2,0,3,29],[1,3,1,5],[0,3,0,5],[0,6,0,7],[1,6,1,7],[0,13,0,17],[1,13,1,17],[1,11,1,12],[0,11,0,12],[0,8,0,10],[1,8,1,10]]}
["LVL HdV","Affichage Temps",null,"Or Total :",null,null,"Élixir Total :",null,"Élixir Noir Total :",null,null,"Temps Total :",null,{"$f":"'Paramètres - Admin'!$D$7 & IF($B$2='Paramètres - Admin'!$B$2,TEXT((E13+K12+Q16+W9)*60*60,\"# 0\")&\" \" & 'Paramètres - Admin'!$B$2,IF($B$2='Paramètres - Admin'!$B$3,TEXT((E13+K12+Q16+W9)*60,\"# 0\")&\" \" & 'Paramètres - Admin'!$B$3,IF($B$2='Paramètres - Admin'!$B$4,TEXT((E13+K12+Q16+W9),\"# 0,00\")&\" \" & 'Paramètres - Admin'!$B$4,IF($B$2='Paramètres - Admin'!$B$5,TEXT((E13+K12+Q16+W9)/24,\"# 0,00\")&\" \" & 'Paramètres - Admin'!$B$5,IF($B$2='Paramètres - Admin'!$B$6,TEXT(((E13+K12+Q16+W9)/24)/30,\"# 0,00\")&\" \" & 'Paramètres - Admin'!$B$6,IF((E13+K12+Q16+W9)/24>=1,INT((E13+K12+Q16+W9)/24)&\" \" &  'Paramètres - Admin'!$D$4 & \" \" & HOUR((E13+K12+Q16+W9)/24-INT((E13+K12+Q16+W9)/24))&\" \" &  'Paramètres - Admin'!$D$3 & \" \" & MINUTE((E13+K12+Q16+W9)/24-INT((E13+K12+Q16+W9)/24))&\" \" &  'Paramètres - Admin'!$D$2,HOUR((E13+K12+Q16+W9)/24-INT((E13+K12+Q16+W9)/24))&\" \" &  'Paramètres - Admin'!$D$3 & \" \" & MINUTE((E13+K12+Q16+W9)/24-INT((E13+K12+Q16+W9)/24))&\" \" &  'Paramètres - Admin'!$D$2))))))","v":"Bâtiments : 684 jours 4 hrs 53 mins"},null,null,null,null,"=> Temps par Ouvrier :",null,null,"Améliorations de Troupes/Sorts :"]
[{"$f":"Paramètres!$BE$2","v":10},"j/h/m",null,{"$f":"TEXT(D8+D11+P17+V9+AB13,\"# ##0\")","v":"2 979 352 457"},null,null,{"$f":"TEXT(D7+D9+D10+D12+J12+D25+J30,\"# ##0\")","v":"317 074 850"},null,{"$f":"TEXT(P26+V22,\"# ##0\")","v":"8 950 000"},null,null,{"$f":"IF($B$2='Paramètres - Admin'!$B$2,TEXT((E13+K12+Q17+W9+AC13+E25+K30+Q26+W22)*60*60,\"# 0\")&\" \" & 'Paramètres - Admin'!$B$2,IF($B$2='Paramètres - Admin'!$B$3,TEXT((E13+K12+Q17+W9+AC13+E25+K30+Q26+W22)*60,\"# 0\")&\" \" & 'Paramètres - Admin'!$B$3,IF($B$2='Paramètres - Admin'!$B$4,TEXT((E13+K12+Q17+W9+AC13+E25+K30+Q26+W22),\"# 0,00\")&\" \" & 'Paramètres - Admin'!$B$4,IF($B$2='Paramètres - Admin'!$B$5,TEXT((E13+K12+Q17+W9+AC13+E25+K30+Q26+W22)/24,\"# 0,00\")&\" \" & 'Paramètres - Admin'!$B$5,IF($B$2='Paramètres - Admin'!$B$6,TEXT(((E13+K12+Q17+W9+AC13+E25+K30+Q26+W22)/24)/30,\"# 0,00\")&\" \" & 'Paramètres - Admin'!$B$6,IF((E13+K12+Q17+W9+AC13+E25+K30+Q26+W22)/24>=1,INT((E13+K12+Q17+W9+AC13+E25+K30+Q26+W22)/24)&\" \" &  'Paramètres - Admin'!$D$4 & \" \" & HOUR((E13+K12+Q17+W9+AC13+E25+K30+Q26+W22)/24-INT((E13+K12+Q17+W9+AC13+E25+K30+Q26+W22)/24))&\" \" &  'Paramètres - Admin'!$D$3 & \" \" & MINUTE((E13+K12+Q17+W9+AC13+E25+K30+Q26+W22)/24-INT((E13+K12+Q17+W9+AC13+E25+K30+Q26+W22)/24))&\" \" &  'Paramètres - Admin'!$D$2,HOUR((E13+K12+Q17+W9+AC13+E25+K30+Q26+W22)/24-INT((E13+K12+Q17+W9+AC13+E25+K30+Q26+W22)/24))&\" \" &  'Paramètres - Admin'!$D$3 & \" \" & MINUTE((E13+K12+Q17+W9+AC13+E25+K30+Q26+W22)/24-INT((E13+K12+Q17+W9+AC13+E25+K30+Q26+W22)/24))&\" \" &  'Paramètres - Admin'!$D$2))))))","v":"3174 jours 4 hrs 59 mins"},null,{"$f":"'Paramètres - Admin'!$D$6 & IF($B$2='Paramètres - Admin'!$B$2,TEXT(W22*60*60,\"# 0\")&\" \" & 'Paramètres - Admin'!$B$2,IF($B$2='Paramètres - Admin'!$B$3,TEXT(W22*60,\"# 0\")&\" \" & 'Paramètres - Admin'!$B$3,IF($B$2='Paramètres - Admin'!$B$4,TEXT(W22,\"# 0,00\")&\" \" & 'Paramètres - Admin'!$B$4,IF($B$2='Paramètres - Admin'!$B$5,TEXT(W22/24,\"# 0,00\")&\" \" & 'Paramètres - Admin'!$B$5,IF($B$2='Paramètres - Admin'!$B$6,TEXT((W22/24)/30,\"# 0,00\")&\" \" & 'Paramètres - Admin'!$B$6,IF(W22/24>=1,INT(W22/24)&\" \" &  'Paramètres - Admin'!$D$4 & \" \" & HOUR(W22/24-INT(W22/24))&\" \" &  'Paramètres - Admin'!$D$3 & \" \" & MINUTE(W22/24-INT(W22/24))&\" \" &  'Paramètres - Admin'!$D$2,HOUR(W22/24-INT(W22/24))&\" \" &  'Paramètres - Admin'!$D$3 & \" \" & MINUTE(W22/24-INT(W22/24))&\" \" &  'Paramètres - Admin'!$D$2))))))","v":"Héros : 617 jours 12 hrs 0 mins"},null,null,null,null,{"$f":"IF($B$2='Paramètres - Admin'!$B$2,TEXT((E13+K12+Q16+W9+W22)/Paramètres!$BF$2*60*60,\"# 0\")&\" \" & 'Paramètres - Admin'!$B$2,IF($B$2='Paramètres - Admin'!$B$3,TEXT((E13+K12+Q16+W9+W22)/Paramètres!$BF$2*60,\"# 0\")&\" \" & 'Paramètres - Admin'!$B$3,IF($B$2='Paramètres - Admin'!$B$4,TEXT((E13+K12+Q16+W9+W22)/Paramètres!$BF$2,\"# 0,00\")&\" \" & 'Paramètres - Admin'!$B$4,IF($B$2='Paramètres - Admin'!$B$5,TEXT((E13+K12+Q16+W9+W22)/Paramètres!$BF$2/24,\"# 0,00\")&\" \" & 'Paramètres - Admin'!$B$5,IF($B$2='Paramètres - Admin'!$B$6,TEXT(((E13+K12+Q16+W9+W22)/Paramètres!$BF$2/24)/30,\"# 0,00\")&\" \" & 'Paramètres - Admin'!$B$6,IF((E13+K12+Q16+W9+W22)/Paramètres!$BF$2/24>=1,INT((E13+K12+Q16+W9+W22)/Paramètres!$BF$2/24)&\" \" &  'Paramètres - Admin'!$D$4 & \" \" & HOUR((E13+K12+Q16+W9+W22)/Paramètres!$BF$2/24-INT((E13+K12+Q16+W9+W22)/Paramètres!$BF$2/24))&\" \" &  'Paramètres - Admin'!$D$3 & \" \" & MINUTE((E13+K12+Q16+W9+W22)/Paramètres!$BF$2/24-INT((E13+K12+Q16+W9+W22)/Paramètres!$BF$2/24))&\" \" &  'Paramètres - Admin'!$D$2,HOUR((E13+K12+Q16+W9+W22)/Paramètres!$BF$2/24-INT((E13+K12+Q16+W9+W22)/Paramètres!$BF$2/24))&\" \" &  'Paramètres - Admin'!$D$3 & \" \" & MINUTE((E13+K12+Q16+W9+W22)/Paramètres!$BF$2/24-INT((E13+K12+Q16+W9+W22)/Paramètres!$BF$2/24))&\" \" &  'Paramètres - Admin'!$D$2))))))","v":"325 jours 10 hrs 13 mins"},null,null,{"$f":"IF($B$2='Paramètres - Admin'!$B$2,TEXT((E25+K30+Q26)*60*60,\"# 0\")&\" \" & 'Paramètres - Admin'!$B$2,IF($B$2='Paramètres - Admin'!$B$3,TEXT((E25+K30+Q26)*60,\"# 0\")&\" \" & 'Paramètres - Admin'!$B$3,IF($B$2='Paramètres - Admin'!$B$4,TEXT((E25+K30+Q26),\"# 0,00\")&\" \" & 'Paramètres - Admin'!$B$4,IF($B$2='Paramètres - Admin'!$B$5,TEXT((E25+K30+Q26)/24,\"# 0,00\")&\" \" & 'Paramètres - Admin'!$B$5,IF($B$2='Paramètres - Admin'!$B$6,TEXT(((E25+K30+Q26)/24)/30,\"# 0,00\")&\" \" & 'Paramètres - Admin'!$B$6,IF((E25+K30+Q26)/24>=1,INT((E25+K30+Q26)/24)&\" \" &  'Paramètres - Admin'!$D$4 & \" \" & HOUR((E25+K30+Q26)/24-INT((E25+K30+Q26)/24))&\" \" &  'Paramètres - Admin'!$D$3 & \" \" & MINUTE((E25+K30+Q26)/24-INT((E25+K30+Q26)/24))&\" \" &  'Paramètres - Admin'!$D$2,HOUR((E25+K30+Q26)/24-INT((E25+K30+Q26)/24))&\" \" &  'Paramètres - Admin'!$D$3 & \" \" & MINUTE((E25+K30+Q26)/24-INT((E25+K30+Q26)/24))&\" \" &  'Paramètres - Admin'!$D$2))))))","v":"508 jours 20 hrs 0 mins"}]
["Tableaux récapitulatifs",null,null,null,null,null,null,null,null,null,null,null,null,null,null,null,null,null,null,null,null,null,null,null,null,null,null,null,null,null,"Or",{"$f":"SUM(AB13+V9+P17+D11+D8)","v":2979352457}]
[null,null,null,null,null,null,null,null,null,null,null,null,null,null,null,null,null,null,null,null,null,null,null,null,null,null,null,null,null,null,"Elixir ",{"$f":"SUM(D7+D9+D10+D12+J12+D25+J30)","v":317074850}]
["Bâtiments de Ressources",null,null,null,null,null,"Bâtiments d'Armée",null,null,null,null,null,"Bâtiments Défensifs",null,null,null,null,null,"Bâtiments Autres",null,null,null,null,null,"Pièges",null,null,null,null,null,"Elixir noir",{"$f":"SUM(P26+V22)","v":8950000}]
["Bâtiment","À Faire","Up.","Coût Total","Temps Total","Temps Total","Bâtiment","À Faire","Up.","Coût Total","Temps Total","Temps Total","Bâtiment","À Faire","Up.","Coût Total","Temps Total","Temps Total","Bâtiment","À Faire","Up.","Coût Total","Temps Total","Temps Total","Bâtiment","À Faire","Up.","Coût Total","Temps Total","Temps Total"]
["Mine d'Or",{"$f":"'À Faire - Détails'!J6","v":7},{"$f":"'À Faire - Détails'!K6","v":84},{"$f":"'À Faire - Détails'!J20","v":4889850},{"$f":"'À Faire - Détails'!K20","v":2669.45},{"$f":"IF($B$2='Paramètres - Admin'!$B$2,TEXT(E7*60*60,\"# 0\")&\" \" & 'Paramètres - Admin'!$B$2,IF($B$2='Paramètres - Admin'!$B$3,TEXT(E7*60,\"# 0\")&\" \" & 'Paramètres - Admin'!$B$3,IF($B$2='Paramètres - Admin'!$B$4,TEXT(E7,\"# 0,00\")&\" \" & 'Paramètres - Admin'!$B$4,IF($B$2='Paramètres - Admin'!$B$5,TEXT(E7/24,\"# 0,00\")&\" \" & 'Paramètres - Admin'!$B$5,IF($B$2='Paramètres - Admin'!$B$6,TEXT((E7/24)/30,\"# 0,00\")&\" \" & 'Paramètres - Admin'!$B$6,IF(E7/24>=1,INT(E7/24)&\" \" &  'Paramètres - Admin'!$D$4 & \" \" & HOUR(E7/24-INT(E7/24))&\" \" &  'Paramètres - Admin'!$D$3 & \" \" & MINUTE(E7/24-INT(E7/24))&\" \" &  'Paramètres - Admin'!$D$2,HOUR(E7/24-INT(E7/24))&\" \" &  'Paramètres - Admin'!$D$3 & \" \" & MINUTE(E7/24-INT(E7/24))&\" \" &  'Paramètres - Admin'!$D$2))))))","v":"111 jours 5 hrs 27 mins"},"Caserne",{"$f":"'À Faire - Détails'!J61","v":4},{"$f":"'À Faire - Détails'!K61","v":40},{"$f":"'À Faire - Détails'!J73","v":18154800},{"$f":"'À Faire - Détails'!K73","v":1377.08},{"$f":"IF($B$2='Paramètres - Admin'!$B$2,TEXT(K7*60*60,\"# 0\")&\" \" & 'Paramètres - Admin'!$B$2,IF($B$2='Paramètres - Admin'!$B$3,TEXT(K7*60,\"# 0\")&\" \" & 'Paramètres - Admin'!$B$3,IF($B$2='Paramètres - Admin'!$B$4,TEXT(K7,\"# 0,00\")&\" \" & 'Paramètres - Admin'!$B$4,IF($B$2='Paramètres - Admin'!$B$5,TEXT(K7/24,\"# 0,00\")&\" \" & 'Paramètres - Admin'!$B$5,IF($B$2='Paramètres - Admin'!$B$6,TEXT((K7/24)/30,\"# 0,00\")&\" \" & 'Paramètres - Admin'!$B$6,IF(K7/24>=1,INT(K7/24)&\" \" &  'Paramètres - Admin'!$D$4 & \" \" & HOUR(K7/24-INT(K7/24))&\" \" &  'Paramètres - Admin'!$D$3 & \" \" & MINUTE(K7/24-INT(K7/24))&\" \" &  'Paramètres - Admin'!$D$2,HOUR(K7/24-INT(K7/24))&\" \" &  'Paramètres - Admin'!$D$3 & \" \" & MINUTE(K7/24-INT(K7/24))&\" \" &  'Paramètres - Admin'!$D$2))))))","v":"57 jours 9 hrs 4 mins"},"Rempart",{"$f":"'À Faire - Détails'!J100","v":250},{"$f":"'À Faire - Détails'!K100","v":2750},{"$f":"'À Faire - Détails'!J113","v":2205300000},{"$f":"'À Faire - Détails'!K113","v":0},{"$f":"IF($B$2='Paramètres - Admin'!$B$2,TEXT(Q7*60*60,\"# 0\")&\" \" & 'Paramètres - Admin'!$B$2,IF($B$2='Paramètres - Admin'!$B$3,TEXT(Q7*60,\"# 0\")&\" \" & 'Paramètres - Admin'!$B$3,IF($B$2='Paramètres - Admin'!$B$4,TEXT(Q7,\"# 0,00\")&\" \" & 'Paramètres - Admin'!$B$4,IF($B$2='Paramètres - Admin'!$B$5,TEXT(Q7/24,\"# 0,00\")&\" \" & 'Paramètres - Admin'!$B$5,IF($B$2='Paramètres - Admin'!$B$6,TEXT((Q7/24)/30,\"# 0,00\")&\" \" & 'Paramètres - Admin'!$B$6,IF(Q7/24>=1,INT(Q7/24)&\" \" &  'Paramètres - Admin'!$D$4 & \" \" & HOUR(Q7/24-INT(Q7/24))&\" \" &  'Paramètres - Admin'!$D$3 & \" \" & MINUTE(Q7/24-INT(Q7/24))&\" \" &  'Paramètres - Admin'!$D$2,HOUR(Q7/24-INT(Q7/24))&\" \" &  'Paramètres - Admin'!$D$3 & \" \" & MINUTE(Q7/24-INT(Q7/24))&\" \" &  'Paramètres - Admin'!$D$2))))))","v":"0 hrs 0 mins"},"Château de Clan",{"$f":"'À Faire - Détails'!J164","v":1},{"$f":"'À Faire - Détails'!K164","v":6},{"$f":"'À Faire - Détails'!J172","v":14740000},{"$f":"'À Faire - Détails'!K172","v":582},{"$f":"IF($B$2='Paramètres - Admin'!$B$2,TEXT(W7*60*60,\"# 0\")&\" \" & 'Paramètres - Admin'!$B$2,IF($B$2='Paramètres - Admin'!$B$3,TEXT(W7*60,\"# 0\")&\" \" & 'Paramètres - Admin'!$B$3,IF($B$2='Paramètres - Admin'!$B$4,TEXT(W7,\"# 0,00\")&\" \" & 'Paramètres - Admin'!$B$4,IF($B$2='Paramètres - Admin'!$B$5,TEXT(W7/24,\"# 0,00\")&\" \" & 'Paramètres - Admin'!$B$5,IF($B$2='Paramètres - Admin'!$B$6,TEXT((W7/24)/30,\"# 0,00\")&\" \" & 'Paramètres - Admin'!$B$6,IF(W7/24>=1,INT(W7/24)&\" \" &  'Paramètres - Admin'!$D$4 & \" \" & HOUR(W7/24-INT(W7/24))&\" \" &  'Paramètres - Admin'!$D$3 & \" \" & MINUTE(W7/24-INT(W7/24))&\" \" &  'Paramètres - Admin'!$D$2,HOUR(W7/24-INT(W7/24))&\" \" &  'Paramètres - Admin'!$D$3 & \" \" & MINUTE(W7/24-INT(W7/24))&\" \" &  'Paramètres - Admin'!$D$2))))))","v":"24 jours 6 hrs 0 mins"},"Bombe",{"$f":"'À Faire - Détails'!AF100","v":6},{"$f":"'À Faire - Détails'!AG100","v":36},{"$f":"'À Faire - Détails'!AF108","v":15668406},{"$f":"'À Faire - Détails'!AG108","v":493.5},{"$f":"IF($B$2='Paramètres - Admin'!$B$2,TEXT(AC7*60*60,\"# 0\")&\" \" & 'Paramètres - Admin'!$B$2,IF($B$2='Paramètres - Admin'!$B$3,TEXT(AC7*60,\"# 0\")&\" \" & 'Paramètres - Admin'!$B$3,IF($B$2='Paramètres - Admin'!$B$4,TEXT(AC7,\"# 0,00\")&\" \" & 'Paramètres - Admin'!$B$4,IF($B$2='Paramètres - Admin'!$B$5,TEXT(AC7/24,\"# 0,00\")&\" \" & 'Paramètres - Admin'!$B$5,IF($B$2='Paramètres - Admin'!$B$6,TEXT((AC7/24)/30,\"# 0,00\")&\" \" & 'Paramètres - Admin'!$B$6,IF(AC7/24>=1,INT(AC7/24)&\" \" &  'Paramètres - Admin'!$D$4 & \" \" & HOUR(AC7/24-INT(AC7/24))&\" \" &  'Paramètres - Admin'!$D$3 & \" \" & MINUTE(AC7/24-INT(AC7/24))&\" \" &  'Paramètres - Admin'!$D$2,HOUR(AC7/24-INT(AC7/24))&\" \" &  'Paramètres - Admin'!$D$3 & \" \" & MINUTE(AC7/24-INT(AC7/24))&\" \" &  'Paramètres - Admin'!$D$2))))))","v":"20 jours 13 hrs 30 mins"}]
["Extracteur d'Élixir",{"$f":"'À Faire - Détails'!U6","v":7},{"$f":"'À Faire - Détails'!V6","v":84},{"$f":"'À Faire - Détails'!U20","v":4889850},{"$f":"'À Faire - Détails'!V20","v":2669.45},{"$f":"IF($B$2='Paramètres - Admin'!$B$2,TEXT(E8*60*60,\"# 0\")&\" \" & 'Paramètres - Admin'!$B$2,IF($B$2='Paramètres - Admin'!$B$3,TEXT(E8*60,\"# 0\")&\" \" & 'Paramètres - Admin'!$B$3,IF($B$2='Paramètres - Admin'!$B$4,TEXT(E8,\"# 0,00\")&\" \" & 'Paramètres - Admin'!$B$4,IF($B$2='Paramètres - Admin'!$B$5,TEXT(E8/24,\"# 0,00\")&\" \" & 'Paramètres - Admin'!$B$5,IF($B$2='Paramètres - Admin'!$B$6,TEXT((E8/24)/30,\"# 0,00\")&\" \" & 'Paramètres - Admin'!$B$6,IF(E8/24>=1,INT(E8/24)&\" \" &  'Paramètres - Admin'!$D$4 & \" \" & HOUR(E8/24-INT(E8/24))&\" \" &  'Paramètres - Admin'!$D$3 & \" \" & MINUTE(E8/24-INT(E8/24))&\" \" &  'Paramètres - Admin'!$D$2,HOUR(E8/24-INT(E8/24))&\" \" &  'Paramètres - Admin'!$D$3 & \" \" & MINUTE(E8/24-INT(E8/24))&\" \" &  'Paramètres - Admin'!$D$2))))))","v":"111 jours 5 hrs 27 mins"},"Caserne Noire",{"$f":"'À Faire - Détails'!J75","v":2},{"$f":"'À Faire - Détails'!K75","v":10},{"$f":"'À Faire - Détails'!J82","v":17500000},{"$f":"'À Faire - Détails'!K82","v":1392},{"$f":"IF($B$2='Paramètres - Admin'!$B$2,TEXT(K8*60*60,\"# 0\")&\" \" & 'Paramètres - Admin'!$B$2,IF($B$2='Paramètres - Admin'!$B$3,TEXT(K8*60,\"# 0\")&\" \" & 'Paramètres - Admin'!$B$3,IF($B$2='Paramètres - Admin'!$B$4,TEXT(K8,\"# 0,00\")&\" \" & 'Paramètres - Admin'!$B$4,IF($B$2='Paramètres - Admin'!$B$5,TEXT(K8/24,\"# 0,00\")&\" \" & 'Paramètres - Admin'!$B$5,IF($B$2='Paramètres - Admin'!$B$6,TEXT((K8/24)/30,\"# 0,00\")&\" \" & 'Paramètres - Admin'!$B$6,IF(K8/24>=1,INT(K8/24)&\" \" &  'Paramètres - Admin'!$D$4 & \" \" & HOUR(K8/24-INT(K8/24))&\" \" &  'Paramètres - Admin'!$D$3 & \" \" & MINUTE(K8/24-INT(K8/24))&\" \" &  'Paramètres - Admin'!$D$2,HOUR(K8/24-INT(K8/24))&\" \" &  'Paramètres - Admin'!$D$3 & \" \" & MINUTE(K8/24-INT(K8/24))&\" \" &  'Paramètres - Admin'!$D$2))))))","v":"58 jours 0 hrs 0 mins"},"Canon",{"$f":"'À Faire - Détails'!J115","v":6},{"$f":"'À Faire - Détails'!K115","v":72},{"$f":"'À Faire - Détails'!J130","v":121627500},{"$f":"'À Faire - Détails'!K130","v":4158.1000000000004},{"$f":"IF($B$2='Paramètres - Admin'!$B$2,TEXT(Q8*60*60,\"# 0\")&\" \" & 'Paramètres - Admin'!$B$2,IF($B$2='Paramètres - Admin'!$B$3,TEXT(Q8*60,\"# 0\")&\" \" & 'Paramètres - Admin'!$B$3,IF($B$2='Paramètres - Admin'!$B$4,TEXT(Q8,\"# 0,00\")&\" \" & 'Paramètres - Admin'!$B$4,IF($B$2='Paramètres - Admin'!$B$5,TEXT(Q8/24,\"# 0,00\")&\" \" & 'Paramètres - Admin'!$B$5,IF($B$2='Paramètres - Admin'!$B$6,TEXT((Q8/24)/30,\"# 0,00\")&\" \" & 'Paramètres - Admin'!$B$6,IF(Q8/24>=1,INT(Q8/24)&\" \" &  'Paramètres - Admin'!$D$4 & \" \" & HOUR(Q8/24-INT(Q8/24))&\" \" &  'Paramètres - Admin'!$D$3 & \" \" & MINUTE(Q8/24-INT(Q8/24))&\" \" &  'Paramètres - Admin'!$D$2,HOUR(Q8/24-INT(Q8/24))&\" \" &  'Paramètres - Admin'!$D$3 & \" \" & MINUTE(Q8/24-INT(Q8/24))&\" \" &  'Paramètres - Admin'!$D$2))))))","v":"173 jours 6 hrs 6 mins"},"Hôtel de Ville",{"$f":"'À Faire - Détails'!U164","v":1},{"$f":"'À Faire - Détails'!V164","v":10},{"$f":"'À Faire - Détails'!U176","v":11130000},{"$f":"'À Faire - Détails'!V176","v":1083.0833333333333},{"$f":"IF($B$2='Paramètres - Admin'!$B$2,TEXT(W8*60*60,\"# 0\")&\" \" & 'Paramètres - Admin'!$B$2,IF($B$2='Paramètres - Admin'!$B$3,TEXT(W8*60,\"# 0\")&\" \" & 'Paramètres - Admin'!$B$3,IF($B$2='Paramètres - Admin'!$B$4,TEXT(W8,\"# 0,00\")&\" \" & 'Paramètres - Admin'!$B$4,IF($B$2='Paramètres - Admin'!$B$5,TEXT(W8/24,\"# 0,00\")&\" \" & 'Paramètres - Admin'!$B$5,IF($B$2='Paramètres - Admin'!$B$6,TEXT((W8/24)/30,\"# 0,00\")&\" \" & 'Paramètres - Admin'!$B$6,IF(W8/24>=1,INT(W8/24)&\" \" &  'Paramètres - Admin'!$D$4 & \" \" & HOUR(W8/24-INT(W8/24))&\" \" &  'Paramètres - Admin'!$D$3 & \" \" & MINUTE(W8/24-INT(W8/24))&\" \" &  'Paramètres - Admin'!$D$2,HOUR(W8/24-INT(W8/24))&\" \" &  'Paramètres - Admin'!$D$3 & \" \" & MINUTE(W8/24-INT(W8/24))&\" \" &  'Paramètres - Admin'!$D$2))))))","v":"45 jours 3 hrs 5 mins"},"Mine chercheuse",{"$f":"'À Faire - Détails'!AF100","v":6},{"$f":"'À Faire - Détails'!AG110","v":15},{"$f":"'À Faire - Détails'!AF115","v":30075000},{"$f":"'À Faire - Détails'!AG115","v":480},{"$f":"IF($B$2='Paramètres - Admin'!$B$2,TEXT(AC8*60*60,\"# 0\")&\" \" & 'Paramètres - Admin'!$B$2,IF($B$2='Paramètres - Admin'!$B$3,TEXT(AC8*60,\"# 0\")&\" \" & 'Paramètres - Admin'!$B$3,IF($B$2='Paramètres - Admin'!$B$4,TEXT(AC8,\"# 0,00\")&\" \" & 'Paramètres - Admin'!$B$4,IF($B$2='Paramètres - Admin'!$B$5,TEXT(AC8/24,\"# 0,00\")&\" \" & 'Paramètres - Admin'!$B$5,IF($B$2='Paramètres - Admin'!$B$6,TEXT((AC8/24)/30,\"# 0,00\")&\" \" & 'Paramètres - Admin'!$B$6,IF(AC8/24>=1,INT(AC8/24)&\" \" &  'Paramètres - Admin'!$D$4 & \" \" & HOUR(AC8/24-INT(AC8/24))&\" \" &  'Paramètres - Admin'!$D$3 & \" \" & MINUTE(AC8/24-INT(AC8/24))&\" \" &  'Paramètres - Admin'!$D$2,HOUR(AC8/24-INT(AC8/24))&\" \" &  'Paramètres - Admin'!$D$3 & \" \" & MINUTE(AC8/24-INT(AC8/24))&\" \" &  'Paramètres - Admin'!$D$2))))))","v":"20 jours 0 hrs 0 mins"}]
["Foreuse d'Élixir Noir",{"$f":"'À Faire - Détails'!J22","v":3},{"$f":"'À Faire - Détails'!K22","v":18},{"$f":"'À Faire - Détails'!J30","v":49500000},{"$f":"'À Faire - Détails'!K30","v":1728},{"$f":"IF($B$2='Paramètres - Admin'!$B$2,TEXT(E9*60*60,\"# 0\")&\" \" & 'Paramètres - Admin'!$B$2,IF($B$2='Paramètres - Admin'!$B$3,TEXT(E9*60,\"# 0\")&\" \" & 'Paramètres - Admin'!$B$3,IF($B$2='Paramètres - Admin'!$B$4,TEXT(E9,\"# 0,00\")&\" \" & 'Paramètres - Admin'!$B$4,IF($B$2='Paramètres - Admin'!$B$5,TEXT(E9/24,\"# 0,00\")&\" \" & 'Paramètres - Admin'!$B$5,IF($B$2='Paramètres - Admin'!$B$6,TEXT((E9/24)/30,\"# 0,00\")&\" \" & 'Paramètres - Admin'!$B$6,IF(E9/24>=1,INT(E9/24)&\" \" &  'Paramètres - Admin'!$D$4 & \" \" & HOUR(E9/24-INT(E9/24))&\" \" &  'Paramètres - Admin'!$D$3 & \" \" & MINUTE(E9/24-INT(E9/24))&\" \" &  'Paramètres - Admin'!$D$2,HOUR(E9/24-INT(E9/24))&\" \" &  'Paramètres - Admin'!$D$3 & \" \" & MINUTE(E9/24-INT(E9/24))&\" \" &  'Paramètres - Admin'!$D$2))))))","v":"72 jours 0 hrs 0 mins"},"Camp Militaire",{"$f":"'À Faire - Détails'!J84","v":4},{"$f":"'À Faire - Détails'!K84","v":32},{"$f":"'À Faire - Détails'!J94","v":40451000},{"$f":"'À Faire - Détails'!K94","v":1872.3333333333333},{"$f":"IF($B$2='Paramètres - Admin'!$B$2,TEXT(K9*60*60,\"# 0\")&\" \" & 'Paramètres - Admin'!$B$2,IF($B$2='Paramètres - Admin'!$B$3,TEXT(K9*60,\"# 0\")&\" \" & 'Paramètres - Admin'!$B$3,IF($B$2='Paramètres - Admin'!$B$4,TEXT(K9,\"# 0,00\")&\" \" & 'Paramètres - Admin'!$B$4,IF($B$2='Paramètres - Admin'!$B$5,TEXT(K9/24,\"# 0,00\")&\" \" & 'Paramètres - Admin'!$B$5,IF($B$2='Paramètres - Admin'!$B$6,TEXT((K9/24)/30,\"# 0,00\")&\" \" & 'Paramètres - Admin'!$B$6,IF(K9/24>=1,INT(K9/24)&\" \" &  'Paramètres - Admin'!$D$4 & \" \" & HOUR(K9/24-INT(K9/24))&\" \" &  'Paramètres - Admin'!$D$3 & \" \" & MINUTE(K9/24-INT(K9/24))&\" \" &  'Paramètres - Admin'!$D$2,HOUR(K9/24-INT(K9/24))&\" \" &  'Paramètres - Admin'!$D$3 & \" \" & MINUTE(K9/24-INT(K9/24))&\" \" &  'Paramètres - Admin'!$D$2))))))","v":"78 jours 0 hrs 20 mins"},"Tour d'Archers",{"$f":"'À Faire - Détails'!J132","v":7},{"$f":"'À Faire - Détails'!K132","v":84},{"$f":"'À Faire - Détails'!J147","v":167076000},{"$f":"'À Faire - Détails'!K147","v":6170.5},{"$f":"IF($B$2='Paramètres - Admin'!$B$2,TEXT(Q9*60*60,\"# 0\")&\" \" & 'Paramètres - Admin'!$B$2,IF($B$2='Paramètres - Admin'!$B$3,TEXT(Q9*60,\"# 0\")&\" \" & 'Paramètres - Admin'!$B$3,IF($B$2='Paramètres - Admin'!$B$4,TEXT(Q9,\"# 0,00\")&\" \" & 'Paramètres - Admin'!$B$4,IF($B$2='Paramètres - Admin'!$B$5,TEXT(Q9/24,\"# 0,00\")&\" \" & 'Paramètres - Admin'!$B$5,IF($B$2='Paramètres - Admin'!$B$6,TEXT((Q9/24)/30,\"# 0,00\")&\" \" & 'Paramètres - Admin'!$B$6,IF(Q9/24>=1,INT(Q9/24)&\" \" &  'Paramètres - Admin'!$D$4 & \" \" & HOUR(Q9/24-INT(Q9/24))&\" \" &  'Paramètres - Admin'!$D$3 & \" \" & MINUTE(Q9/24-INT(Q9/24))&\" \" &  'Paramètres - Admin'!$D$2,HOUR(Q9/24-INT(Q9/24))&\" \" &  'Paramètres - Admin'!$D$3 & \" \" & MINUTE(Q9/24-INT(Q9/24))&\" \" &  'Paramètres - Admin'!$D$2))))))","v":"257 jours 2 hrs 30 mins"},"Total",{"$f":"SUM(T7:T8)","v":2},{"$f":"SUM(U7:U8)","v":16},{"$f":"SUM(V7:V8)","v":25870000},{"$f":"SUM(W7:W8)","v":1665.0833333333333},{"$f":"IF($B$2='Paramètres - Admin'!$B$2,TEXT(W9*60*60,\"# 0\")&\" \" & 'Paramètres - Admin'!$B$2,IF($B$2='Paramètres - Admin'!$B$3,TEXT(W9*60,\"# 0\")&\" \" & 'Paramètres - Admin'!$B$3,IF($B$2='Paramètres - Admin'!$B$4,TEXT(W9,\"# 0,00\")&\" \" & 'Paramètres - Admin'!$B$4,IF($B$2='Paramètres - Admin'!$B$5,TEXT(W9/24,\"# 0,00\")&\" \" & 'Paramètres - Admin'!$B$5,IF($B$2='Paramètres - Admin'!$B$6,TEXT((W9/24)/30,\"# 0,00\")&\" \" & 'Paramètres - Admin'!$B$6,IF(W9/24>=1,INT(W9/24)&\" \" &  'Paramètres - Admin'!$D$4 & \" \" & HOUR(W9/24-INT(W9/24))&\" \" &  'Paramètres - Admin'!$D$3 & \" \" & MINUTE(W9/24-INT(W9/24))&\" \" &  'Paramètres - Admin'!$D$2,HOUR(W9/24-INT(W9/24))&\" \" &  'Paramètres - Admin'!$D$3 & \" \" & MINUTE(W9/24-INT(W9/24))&\" \" &  'Paramètres - Admin'!$D$2))))))","v":"69 jours 9 hrs 5 mins"},"Bombe géante",{"$f":"'À Faire - Détails'!AF117","v":5},{"$f":"'À Faire - Détails'!AG117","v":15},{"$f":"'À Faire - Détails'!AF123","v":16687500},{"$f":"'À Faire - Détails'!AG123","v":510},{"$f":"IF($B$2='Paramètres - Admin'!$B$2,TEXT(AC9*60*60,\"# 0\")&\" \" & 'Paramètres - Admin'!$B$2,IF($B$2='Paramètres - Admin'!$B$3,TEXT(AC9*60,\"# 0\")&\" \" & 'Paramètres - Admin'!$B$3,IF($B$2='Paramètres - Admin'!$B$4,TEXT(AC9,\"# 0,00\")&\" \" & 'Paramètres - Admin'!$B$4,IF($B$2='Paramètres - Admin'!$B$5,TEXT(AC9/24,\"# 0,00\")&\" \" & 'Paramètres - Admin'!$B$5,IF($B$2='Paramètres - Admin'!$B$6,TEXT((AC9/24)/30,\"# 0,00\")&\" \" & 'Paramètres - Admin'!$B$6,IF(AC9/24>=1,INT(AC9/24)&\" \" &  'Paramètres - Admin'!$D$4 & \" \" & HOUR(AC9/24-INT(AC9/24))&\" \" &  'Paramètres - Admin'!$D$3 & \" \" & MINUTE(AC9/24-INT(AC9/24))&\" \" &  'Paramètres - Admin'!$D$2,HOUR(AC9/24-INT(AC9/24))&\" \" &  'Paramètres - Admin'!$D$3 & \" \" & MINUTE(AC9/24-INT(AC9/24))&\" \" &  'Paramètres - Admin'!$D$2))))))","v":"21 jours 6 hrs 0 mins"}]
["Réserve d'Or",{"$f":"'À Faire - Détails'!J32","v":4},{"$f":"'À Faire - Détails'!K32","v":44},{"$f":"'À Faire - Détails'!J45","v":3794200},{"$f":"'À Faire - Détails'!K45","v":435},{"$f":"IF($B$2='Paramètres - Admin'!$B$2,TEXT(E10*60*60,\"# 0\")&\" \" & 'Paramètres - Admin'!$B$2,IF($B$2='Paramètres - Admin'!$B$3,TEXT(E10*60,\"# 0\")&\" \" & 'Paramètres - Admin'!$B$3,IF($B$2='Paramètres - Admin'!$B$4,TEXT(E10,\"# 0,00\")&\" \" & 'Paramètres - Admin'!$B$4,IF($B$2='Paramètres - Admin'!$B$5,TEXT(E10/24,\"# 0,00\")&\" \" & 'Paramètres - Admin'!$B$5,IF($B$2='Paramètres - Admin'!$B$6,TEXT((E10/24)/30,\"# 0,00\")&\" \" & 'Paramètres - Admin'!$B$6,IF(E10/24>=1,INT(E10/24)&\" \" &  'Paramètres - Admin'!$D$4 & \" \" & HOUR(E10/24-INT(E10/24))&\" \" &  'Paramètres - Admin'!$D$3 & \" \" & MINUTE(E10/24-INT(E10/24))&\" \" &  'Paramètres - Admin'!$D$2,HOUR(E10/24-INT(E10/24))&\" \" &  'Paramètres - Admin'!$D$3 & \" \" & MINUTE(E10/24-INT(E10/24))&\" \" &  'Paramètres - Admin'!$D$2))))))","v":"18 jours 3 hrs 0 mins"},"Laboratoire",{"$f":"'À Faire - Détails'!U61","v":1},{"$f":"'À Faire - Détails'!V61","v":8},{"$f":"'À Faire - Détails'!U71","v":8435000},{"$f":"'À Faire - Détails'!V71","v":449.5},{"$f":"IF($B$2='Paramètres - Admin'!$B$2,TEXT(K10*60*60,\"# 0\")&\" \" & 'Paramètres - Admin'!$B$2,IF($B$2='Paramètres - Admin'!$B$3,TEXT(K10*60,\"# 0\")&\" \" & 'Paramètres - Admin'!$B$3,IF($B$2='Paramètres - Admin'!$B$4,TEXT(K10,\"# 0,00\")&\" \" & 'Paramètres - Admin'!$B$4,IF($B$2='Paramètres - Admin'!$B$5,TEXT(K10/24,\"# 0,00\")&\" \" & 'Paramètres - Admin'!$B$5,IF($B$2='Paramètres - Admin'!$B$6,TEXT((K10/24)/30,\"# 0,00\")&\" \" & 'Paramètres - Admin'!$B$6,IF(K10/24>=1,INT(K10/24)&\" \" &  'Paramètres - Admin'!$D$4 & \" \" & HOUR(K10/24-INT(K10/24))&\" \" &  'Paramètres - Admin'!$D$3 & \" \" & MINUTE(K10/24-INT(K10/24))&\" \" &  'Paramètres - Admin'!$D$2,HOUR(K10/24-INT(K10/24))&\" \" &  'Paramètres - Admin'!$D$3 & \" \" & MINUTE(K10/24-INT(K10/24))&\" \" &  'Paramètres - Admin'!$D$2))))))","v":"18 jours 17 hrs 30 mins"},"Mortier",{"$f":"'À Faire - Détails'!J149","v":4},{"$f":"'À Faire - Détails'!K149","v":32},{"$f":"'À Faire - Détails'!J159","v":50240000},{"$f":"'À Faire - Détails'!K159","v":2864},{"$f":"IF($B$2='Paramètres - Admin'!$B$2,TEXT(Q10*60*60,\"# 0\")&\" \" & 'Paramètres - Admin'!$B$2,IF($B$2='Paramètres - Admin'!$B$3,TEXT(Q10*60,\"# 0\")&\" \" & 'Paramètres - Admin'!$B$3,IF($B$2='Paramètres - Admin'!$B$4,TEXT(Q10,\"# 0,00\")&\" \" & 'Paramètres - Admin'!$B$4,IF($B$2='Paramètres - Admin'!$B$5,TEXT(Q10/24,\"# 0,00\")&\" \" & 'Paramètres - Admin'!$B$5,IF($B$2='Paramètres - Admin'!$B$6,TEXT((Q10/24)/30,\"# 0,00\")&\" \" & 'Paramètres - Admin'!$B$6,IF(Q10/24>=1,INT(Q10/24)&\" \" &  'Paramètres - Admin'!$D$4 & \" \" & HOUR(Q10/24-INT(Q10/24))&\" \" &  'Paramètres - Admin'!$D$3 & \" \" & MINUTE(Q10/24-INT(Q10/24))&\" \" &  'Paramètres - Admin'!$D$2,HOUR(Q10/24-INT(Q10/24))&\" \" &  'Paramètres - Admin'!$D$3 & \" \" & MINUTE(Q10/24-INT(Q10/24))&\" \" &  'Paramètres - Admin'!$D$2))))))","v":"119 jours 8 hrs 0 mins"},null,null,null,null,null,null,"Bombe aérienne",{"$f":"'À Faire - Détails'!AF125","v":5},{"$f":"'À Faire - Détails'!AG125","v":20},{"$f":"'À Faire - Détails'!AF131","v":8620000},{"$f":"'À Faire - Détails'!AG131","v":200},{"$f":"IF($B$2='Paramètres - Admin'!$B$2,TEXT(AC10*60*60,\"# 0\")&\" \" & 'Paramètres - Admin'!$B$2,IF($B$2='Paramètres - Admin'!$B$3,TEXT(AC10*60,\"# 0\")&\" \" & 'Paramètres - Admin'!$B$3,IF($B$2='Paramètres - Admin'!$B$4,TEXT(AC10,\"# 0,00\")&\" \" & 'Paramètres - Admin'!$B$4,IF($B$2='Paramètres - Admin'!$B$5,TEXT(AC10/24,\"# 0,00\")&\" \" & 'Paramètres - Admin'!$B$5,IF($B$2='Paramètres - Admin'!$B$6,TEXT((AC10/24)/30,\"# 0,00\")&\" \" & 'Paramètres - Admin'!$B$6,IF(AC10/24>=1,INT(AC10/24)&\" \" &  'Paramètres - Admin'!$D$4 & \" \" & HOUR(AC10/24-INT(AC10/24))&\" \" &  'Paramètres - Admin'!$D$3 & \" \" & MINUTE(AC10/24-INT(AC10/24))&\" \" &  'Paramètres - Admin'!$D$2,HOUR(AC10/24-INT(AC10/24))&\" \" &  'Paramètres - Admin'!$D$3 & \" \" & MINUTE(AC10/24-INT(AC10/24))&\" \" &  'Paramètres - Admin'!$D$2))))))","v":"8 jours 8 hrs 0 mins"}]
["Réservoir d'Élixir",{"$f":"'À Faire - Détails'!U22","v":4},{"$f":"'À Faire - Détails'!V22","v":44},{"$f":"'À Faire - Détails'!U35","v":3794200},{"$f":"'À Faire - Détails'!V35","v":435},{"$f":"IF($B$2='Paramètres - Admin'!$B$2,TEXT(E11*60*60,\"# 0\")&\" \" & 'Paramètres - Admin'!$B$2,IF($B$2='Paramètres - Admin'!$B$3,TEXT(E11*60,\"# 0\")&\" \" & 'Paramètres - Admin'!$B$3,IF($B$2='Paramètres - Admin'!$B$4,TEXT(E11,\"# 0,00\")&\" \" & 'Paramètres - Admin'!$B$4,IF($B$2='Paramètres - Admin'!$B$5,TEXT(E11/24,\"# 0,00\")&\" \" & 'Paramètres - Admin'!$B$5,IF($B$2='Paramètres - Admin'!$B$6,TEXT((E11/24)/30,\"# 0,00\")&\" \" & 'Paramètres - Admin'!$B$6,IF(E11/24>=1,INT(E11/24)&\" \" &  'Paramètres - Admin'!$D$4 & \" \" & HOUR(E11/24-INT(E11/24))&\" \" &  'Paramètres - Admin'!$D$3 & \" \" & MINUTE(E11/24-INT(E11/24))&\" \" &  'Paramètres - Admin'!$D$2,HOUR(E11/24-INT(E11/24))&\" \" &  'Paramètres - Admin'!$D$3 & \" \" & MINUTE(E11/24-INT(E11/24))&\" \" &  'Paramètres - Admin'!$D$2))))))","v":"18 jours 3 hrs 0 mins"},"Usine de Sorts",{"$f":"'À Faire - Détails'!U73","v":1},{"$f":"'À Faire - Détails'!V73","v":5},{"$f":"'À Faire - Détails'!U80","v":6200000},{"$f":"'À Faire - Détails'!V80","v":432},{"$f":"IF($B$2='Paramètres - Admin'!$B$2,TEXT(K11*60*60,\"# 0\")&\" \" & 'Paramètres - Admin'!$B$2,IF($B$2='Paramètres - Admin'!$B$3,TEXT(K11*60,\"# 0\")&\" \" & 'Paramètres - Admin'!$B$3,IF($B$2='Paramètres - Admin'!$B$4,TEXT(K11,\"# 0,00\")&\" \" & 'Paramètres - Admin'!$B$4,IF($B$2='Paramètres - Admin'!$B$5,TEXT(K11/24,\"# 0,00\")&\" \" & 'Paramètres - Admin'!$B$5,IF($B$2='Paramètres - Admin'!$B$6,TEXT((K11/24)/30,\"# 0,00\")&\" \" & 'Paramètres - Admin'!$B$6,IF(K11/24>=1,INT(K11/24)&\" \" &  'Paramètres - Admin'!$D$4 & \" \" & HOUR(K11/24-INT(K11/24))&\" \" &  'Paramètres - Admin'!$D$3 & \" \" & MINUTE(K11/24-INT(K11/24))&\" \" &  'Paramètres - Admin'!$D$2,HOUR(K11/24-INT(K11/24))&\" \" &  'Paramètres - Admin'!$D$3 & \" \" & MINUTE(K11/24-INT(K11/24))&\" \" &  'Paramètres - Admin'!$D$2))))))","v":"18 jours 0 hrs 0 mins"},"Défense Antiaérienne",{"$f":"'À Faire - Détails'!U100","v":4},{"$f":"'À Faire - Détails'!V100","v":32},{"$f":"'À Faire - Détails'!U110","v":64170000},{"$f":"'À Faire - Détails'!V110","v":4340},{"$f":"IF($B$2='Paramètres - Admin'!$B$2,TEXT(Q11*60*60,\"# 0\")&\" \" & 'Paramètres - Admin'!$B$2,IF($B$2='Paramètres - Admin'!$B$3,TEXT(Q11*60,\"# 0\")&\" \" & 'Paramètres - Admin'!$B$3,IF($B$2='Paramètres - Admin'!$B$4,TEXT(Q11,\"# 0,00\")&\" \" & 'Paramètres - Admin'!$B$4,IF($B$2='Paramètres - Admin'!$B$5,TEXT(Q11/24,\"# 0,00\")&\" \" & 'Paramètres - Admin'!$B$5,IF($B$2='Paramètres - Admin'!$B$6,TEXT((Q11/24)/30,\"# 0,00\")&\" \" & 'Paramètres - Admin'!$B$6,IF(Q11/24>=1,INT(Q11/24)&\" \" &  'Paramètres - Admin'!$D$4 & \" \" & HOUR(Q11/24-INT(Q11/24))&\" \" &  'Paramètres - Admin'!$D$3 & \" \" & MINUTE(Q11/24-INT(Q11/24))&\" \" &  'Paramètres - Admin'!$D$2,HOUR(Q11/24-INT(Q11/24))&\" \" &  'Paramètres - Admin'!$D$3 & \" \" & MINUTE(Q11/24-INT(Q11/24))&\" \" &  'Paramètres - Admin'!$D$2))))))","v":"180 jours 20 hrs 0 mins"},null,null,null,null,null,null,"Piège squelettique",{"$f":"'À Faire - Détails'!AF133","v":3},{"$f":"'À Faire - Détails'!AG133","v":9},{"$f":"'À Faire - Détails'!AF138","v":5718000},{"$f":"'À Faire - Détails'!AG138","v":288},{"$f":"IF($B$2='Paramètres - Admin'!$B$2,TEXT(AC11*60*60,\"# 0\")&\" \" & 'Paramètres - Admin'!$B$2,IF($B$2='Paramètres - Admin'!$B$3,TEXT(AC11*60,\"# 0\")&\" \" & 'Paramètres - Admin'!$B$3,IF($B$2='Paramètres - Admin'!$B$4,TEXT(AC11,\"# 0,00\")&\" \" & 'Paramètres - Admin'!$B$4,IF($B$2='Paramètres - Admin'!$B$5,TEXT(AC11/24,\"# 0,00\")&\" \" & 'Paramètres - Admin'!$B$5,IF($B$2='Paramètres - Admin'!$B$6,TEXT((AC11/24)/30,\"# 0,00\")&\" \" & 'Paramètres - Admin'!$B$6,IF(AC11/24>=1,INT(AC11/24)&\" \" &  'Paramètres - Admin'!$D$4 & \" \" & HOUR(AC11/24-INT(AC11/24))&\" \" &  'Paramètres - Admin'!$D$3 & \" \" & MINUTE(AC11/24-INT(AC11/24))&\" \" &  'Paramètres - Admin'!$D$2,HOUR(AC11/24-INT(AC11/24))&\" \" &  'Paramètres - Admin'!$D$3 & \" \" & MINUTE(AC11/24-INT(AC11/24))&\" \" &  'Paramètres - Admin'!$D$2))))))","v":"12 jours 0 hrs 0 mins"}]
["Réservoir d'Élixir Noir",{"$f":"'À Faire - Détails'!J47","v":1},{"$f":"'À Faire - Détails'!K47","v":6},{"$f":"'À Faire - Détails'!J55","v":12600000},{"$f":"'À Faire - Détails'!K55","v":504},{"$f":"IF($B$2='Paramètres - Admin'!$B$2,TEXT(E12*60*60,\"# 0\")&\" \" & 'Paramètres - Admin'!$B$2,IF($B$2='Paramètres - Admin'!$B$3,TEXT(E12*60,\"# 0\")&\" \" & 'Paramètres - Admin'!$B$3,IF($B$2='Paramètres - Admin'!$B$4,TEXT(E12,\"# 0,00\")&\" \" & 'Paramètres - Admin'!$B$4,IF($B$2='Paramètres - Admin'!$B$5,TEXT(E12/24,\"# 0,00\")&\" \" & 'Paramètres - Admin'!$B$5,IF($B$2='Paramètres - Admin'!$B$6,TEXT((E12/24)/30,\"# 0,00\")&\" \" & 'Paramètres - Admin'!$B$6,IF(E12/24>=1,INT(E12/24)&\" \" &  'Paramètres - Admin'!$D$4 & \" \" & HOUR(E12/24-INT(E12/24))&\" \" &  'Paramètres - Admin'!$D$3 & \" \" & MINUTE(E12/24-INT(E12/24))&\" \" &  'Paramètres - Admin'!$D$2,HOUR(E12/24-INT(E12/24))&\" \" &  'Paramètres - Admin'!$D$3 & \" \" & MINUTE(E12/24-INT(E12/24))&\" \" &  'Paramètres - Admin'!$D$2))))))","v":"21 jours 0 hrs 0 mins"},"Total",{"$f":"SUM(H8:H11)","v":8},{"$f":"SUM(I7:I11)","v":95},{"$f":"SUM(J7:J11)","v":90740800},{"$f":"SUM(K7:K11)","v":5522.913333333333},{"$f":"IF($B$2='Paramètres - Admin'!$B$2,TEXT(K12*60*60,\"# 0\")&\" \" & 'Paramètres - Admin'!$B$2,IF($B$2='Paramètres - Admin'!$B$3,TEXT(K12*60,\"# 0\")&\" \" & 'Paramètres - Admin'!$B$3,IF($B$2='Paramètres - Admin'!$B$4,TEXT(K12,\"# 0,00\")&\" \" & 'Paramètres - Admin'!$B$4,IF($B$2='Paramètres - Admin'!$B$5,TEXT(K12/24,\"# 0,00\")&\" \" & 'Paramètres - Admin'!$B$5,IF($B$2='Paramètres - Admin'!$B$6,TEXT((K12/24)/30,\"# 0,00\")&\" \" & 'Paramètres - Admin'!$B$6,IF(K12/24>=1,INT(K12/24)&\" \" &  'Paramètres - Admin'!$D$4 & \" \" & HOUR(K12/24-INT(K12/24))&\" \" &  'Paramètres - Admin'!$D$3 & \" \" & MINUTE(K12/24-INT(K12/24))&\" \" &  'Paramètres - Admin'!$D$2,HOUR(K12/24-INT(K12/24))&\" \" &  'Paramètres - Admin'!$D$3 & \" \" & MINUTE(K12/24-INT(K12/24))&\" \" &  'Paramètres - Admin'!$D$2))))))","v":"230 jours 2 hrs 54 mins"},"Tour de Sorciers",{"$f":"'À Faire - Détails'!U112","v":4},{"$f":"'À Faire - Détails'!V112","v":32},{"$f":"'À Faire - Détails'!U122","v":75760000},{"$f":"'À Faire - Détails'!V122","v":3120},{"$f":"IF($B$2='Paramètres - Admin'!$B$2,TEXT(Q12*60*60,\"# 0\")&\" \" & 'Paramètres - Admin'!$B$2,IF($B$2='Paramètres - Admin'!$B$3,TEXT(Q12*60,\"# 0\")&\" \" & 'Paramètres - Admin'!$B$3,IF($B$2='Paramètres - Admin'!$B$4,TEXT(Q12,\"# 0,00\")&\" \" & 'Paramètres - Admin'!$B$4,IF($B$2='Paramètres - Admin'!$B$5,TEXT(Q12/24,\"# 0,00\")&\" \" & 'Paramètres - Admin'!$B$5,IF($B$2='Paramètres - Admin'!$B$6,TEXT((Q12/24)/30,\"# 0,00\")&\" \" & 'Paramètres - Admin'!$B$6,IF(Q12/24>=1,INT(Q12/24)&\" \" &  'Paramètres - Admin'!$D$4 & \" \" & HOUR(Q12/24-INT(Q12/24))&\" \" &  'Paramètres - Admin'!$D$3 & \" \" & MINUTE(Q12/24-INT(Q12/24))&\" \" &  'Paramètres - Admin'!$D$2,HOUR(Q12/24-INT(Q12/24))&\" \" &  'Paramètres - Admin'!$D$3 & \" \" & MINUTE(Q12/24-INT(Q12/24))&\" \" &  'Paramètres - Admin'!$D$2))))))","v":"130 jours 0 hrs 0 mins"},null,null,null,null,null,null,"Piège à ressort",{"$f":"'À Faire - Détails'!AF140","v":6},{"$f":"'À Faire - Détails'!AG140","v":3},{"$f":"'À Faire - Détails'!AF143","v":6000},{"$f":"'À Faire - Détails'!AG143","v":0},{"$f":"IF($B$2='Paramètres - Admin'!$B$2,TEXT(AC12*60*60,\"# 0\")&\" \" & 'Paramètres - Admin'!$B$2,IF($B$2='Paramètres - Admin'!$B$3,TEXT(AC12*60,\"# 0\")&\" \" & 'Paramètres - Admin'!$B$3,IF($B$2='Paramètres - Admin'!$B$4,TEXT(AC12,\"# 0,00\")&\" \" & 'Paramètres - Admin'!$B$4,IF($B$2='Paramètres - Admin'!$B$5,TEXT(AC12/24,\"# 0,00\")&\" \" & 'Paramètres - Admin'!$B$5,IF($B$2='Paramètres - Admin'!$B$6,TEXT((AC12/24)/30,\"# 0,00\")&\" \" & 'Paramètres - Admin'!$B$6,IF(AC12/24>=1,INT(AC12/24)&\" \" &  'Paramètres - Admin'!$D$4 & \" \" & HOUR(AC12/24-INT(AC12/24))&\" \" &  'Paramètres - Admin'!$D$3 & \" \" & MINUTE(AC12/24-INT(AC12/24))&\" \" &  'Paramètres - Admin'!$D$2,HOUR(AC12/24-INT(AC12/24))&\" \" &  'Paramètres - Admin'!$D$3 & \" \" & MINUTE(AC12/24-INT(AC12/24))&\" \" &  'Paramètres - Admin'!$D$2))))))","v":"0 hrs 0 mins"}]
["Total",{"$f":"SUM(B7:B12)","v":26},{"$f":"SUM(C7:C12)","v":280},{"$f":"SUM(D7:D12)","v":79468100},{"$f":"SUM(E7:E12)","v":8440.9},{"$f":"IF($B$2='Paramètres - Admin'!$B$2,TEXT(E13*60*60,\"# 0\")&\" \" & 'Paramètres - Admin'!$B$2,IF($B$2='Paramètres - Admin'!$B$3,TEXT(E13*60,\"# 0\")&\" \" & 'Paramètres - Admin'!$B$3,IF($B$2='Paramètres - Admin'!$B$4,TEXT(E13,\"# 0,00\")&\" \" & 'Paramètres - Admin'!$B$4,IF($B$2='Paramètres - Admin'!$B$5,TEXT(E13/24,\"# 0,00\")&\" \" & 'Paramètres - Admin'!$B$5,IF($B$2='Paramètres - Admin'!$B$6,TEXT((E13/24)/30,\"# 0,00\")&\" \" & 'Paramètres - Admin'!$B$6,IF(E13/24>=1,INT(E13/24)&\" \" &  'Paramètres - Admin'!$D$4 & \" \" & HOUR(E13/24-INT(E13/24))&\" \" &  'Paramètres - Admin'!$D$3 & \" \" & MINUTE(E13/24-INT(E13/24))&\" \" &  'Paramètres - Admin'!$D$2,HOUR(E13/24-INT(E13/24))&\" \" &  'Paramètres - Admin'!$D$3 & \" \" & MINUTE(E13/24-INT(E13/24))&\" \" &  'Paramètres - Admin'!$D$2))))))","v":"351 jours 16 hrs 54 mins"},null,null,null,null,null,null,"Tesla Camouflée",{"$f":"'À Faire - Détails'!U124","v":4},{"$f":"'À Faire - Détails'!V124","v":28},{"$f":"'À Faire - Détails'!U133","v":59000000},{"$f":"'À Faire - Détails'!V133","v":5376},{"$f":"IF($B$2='Paramètres - Admin'!$B$2,TEXT(Q13*60*60,\"# 0\")&\" \" & 'Paramètres - Admin'!$B$2,IF($B$2='Paramètres - Admin'!$B$3,TEXT(Q13*60,\"# 0\")&\" \" & 'Paramètres - Admin'!$B$3,IF($B$2='Paramètres - Admin'!$B$4,TEXT(Q13,\"# 0,00\")&\" \" & 'Paramètres - Admin'!$B$4,IF($B$2='Paramètres - Admin'!$B$5,TEXT(Q13/24,\"# 0,00\")&\" \" & 'Paramètres - Admin'!$B$5,IF($B$2='Paramètres - Admin'!$B$6,TEXT((Q13/24)/30,\"# 0,00\")&\" \" & 'Paramètres - Admin'!$B$6,IF(Q13/24>=1,INT(Q13/24)&\" \" &  'Paramètres - Admin'!$D$4 & \" \" & HOUR(Q13/24-INT(Q13/24))&\" \" &  'Paramètres - Admin'!$D$3 & \" \" & MINUTE(Q13/24-INT(Q13/24))&\" \" &  'Paramètres - Admin'!$D$2,HOUR(Q13/24-INT(Q13/24))&\" \" &  'Paramètres - Admin'!$D$3 & \" \" & MINUTE(Q13/24-INT(Q13/24))&\" \" &  'Paramètres - Admin'!$D$2))))))","v":"224 jours 0 hrs 0 mins"},null,null,null,null,null,null,"Total",{"$f":"SUM(Z7:Z12)","v":31},{"$f":"SUM(AA7:AA12)","v":98},{"$f":"SUM(AB7:AB12)","v":76774906},{"$f":"SUM(AC7:AC12)","v":1971.5},{"$f":"IF($B$2='Paramètres - Admin'!$B$2,TEXT(AC13*60*60,\"# 0\")&\" \" & 'Paramètres - Admin'!$B$2,IF($B$2='Paramètres - Admin'!$B$3,TEXT(AC13*60,\"# 0\")&\" \" & 'Paramètres - Admin'!$B$3,IF($B$2='Paramètres - Admin'!$B$4,TEXT(AC13,\"# 0,00\")&\" \" & 'Paramètres - Admin'!$B$4,IF($B$2='Paramètres - Admin'!$B$5,TEXT(AC13/24,\"# 0,00\")&\" \" & 'Paramètres - Admin'!$B$5,IF($B$2='Paramètres - Admin'!$B$6,TEXT((AC13/24)/30,\"# 0,00\")&\" \" & 'Paramètres - Admin'!$B$6,IF(AC13/24>=1,INT(AC13/24)&\" \" &  'Paramètres - Admin'!$D$4 & \" \" & HOUR(AC13/24-INT(AC13/24))&\" \" &  'Paramètres - Admin'!$D$3 & \" \" & MINUTE(AC13/24-INT(AC13/24))&\" \" &  'Paramètres - Admin'!$D$2,HOUR(AC13/24-INT(AC13/24))&\" \" &  'Paramètres - Admin'!$D$3 & \" \" & MINUTE(AC13/24-INT(AC13/24))&\" \" &  'Paramètres - Admin'!$D$2))))))","v":"82 jours 3 hrs 30 mins"}]
[null,null,null,null,null,null,null,null,null,null,null,null,"Arc-X",{"$f":"'À Faire - Détails'!U135","v":3},{"$f":"'À Faire - Détails'!V135","v":12},{"$f":"'À Faire - Détails'!U141","v":69000000},{"$f":"'À Faire - Détails'!V141","v":3240},{"$f":"IF($B$2='Paramètres - Admin'!$B$2,TEXT(Q14*60*60,\"# 0\")&\" \" & 'Paramètres - Admin'!$B$2,IF($B$2='Paramètres - Admin'!$B$3,TEXT(Q14*60,\"# 0\")&\" \" & 'Paramètres - Admin'!$B$3,IF($B$2='Paramètres - Admin'!$B$4,TEXT(Q14,\"# 0,00\")&\" \" & 'Paramètres - Admin'!$B$4,IF($B$2='Paramètres - Admin'!$B$5,TEXT(Q14/24,\"# 0,00\")&\" \" & 'Paramètres - Admin'!$B$5,IF($B$2='Paramètres - Admin'!$B$6,TEXT((Q14/24)/30,\"# 0,00\")&\" \" & 'Paramètres - Admin'!$B$6,IF(Q14/24>=1,INT(Q14/24)&\" \" &  'Paramètres - Admin'!$D$4 & \" \" & HOUR(Q14/24-INT(Q14/24))&\" \" &  'Paramètres - Admin'!$D$3 & \" \" & MINUTE(Q14/24-INT(Q14/24))&\" \" &  'Paramètres - Admin'!$D$2,HOUR(Q14/24-INT(Q14/24))&\" \" &  'Paramètres - Admin'!$D$3 & \" \" & MINUTE(Q14/24-INT(Q14/24))&\" \" &  'Paramètres - Admin'!$D$2))))))","v":"135 jours 0 hrs 0 mins"}]
[null,null,null,null,null,null,null,null,null,null,null,null,"Inferno Tower\t",{"$f":"'À Faire - Détails'!U143","v":2},{"$f":"'À Faire - Détails'!V143","v":6},{"$f":"'À Faire - Détails'!U148","v":39000000},{"$f":"'À Faire - Détails'!V148","v":1488},{"$f":"IF($B$2='Paramètres - Admin'!$B$2,TEXT(Q15*60*60,\"# 0\")&\" \" & 'Paramètres - Admin'!$B$2,IF($B$2='Paramètres - Admin'!$B$3,TEXT(Q15*60,\"# 0\")&\" \" & 'Paramètres - Admin'!$B$3,IF($B$2='Paramètres - Admin'!$B$4,TEXT(Q15,\"# 0,00\")&\" \" & 'Paramètres - Admin'!$B$4,IF($B$2='Paramètres - Admin'!$B$5,TEXT(Q15/24,\"# 0,00\")&\" \" & 'Paramètres - Admin'!$B$5,IF($B$2='Paramètres - Admin'!$B$6,TEXT((Q15/24)/30,\"# 0,00\")&\" \" & 'Paramètres - Admin'!$B$6,IF(Q15/24>=1,INT(Q15/24)&\" \" &  'Paramètres - Admin'!$D$4 & \" \" & HOUR(Q15/24-INT(Q15/24))&\" \" &  'Paramètres - Admin'!$D$3 & \" \" & MINUTE(Q15/24-INT(Q15/24))&\" \" &  'Paramètres - Admin'!$D$2,HOUR(Q15/24-INT(Q15/24))&\" \" &  'Paramètres - Admin'!$D$3 & \" \" & MINUTE(Q15/24-INT(Q15/24))&\" \" &  'Paramètres - Admin'!$D$2))))))","v":"62 jours 0 hrs 0 mins"}]
[null,null,null,null,null,null,null,null,null,null,null,null,"Propulseur d'air",{"$f":"'À Faire - Détails'!U150","v":1},{"$f":"'À Faire - Détails'!V150","v":6},{"$f":"'À Faire - Détails'!U158","v":16850001},{"$f":"'À Faire - Détails'!V158","v":792},{"$f":"IF($B$2='Paramètres - Admin'!$B$2,TEXT(Q16*60*60,\"# 0\")&\" \" & 'Paramètres - Admin'!$B$2,IF($B$2='Paramètres - Admin'!$B$3,TEXT(Q16*60,\"# 0\")&\" \" & 'Paramètres - Admin'!$B$3,IF($B$2='Paramètres - Admin'!$B$4,TEXT(Q16,\"# 0,00\")&\" \" & 'Paramètres - Admin'!$B$4,IF($B$2='Paramètres - Admin'!$B$5,TEXT(Q16/24,\"# 0,00\")&\" \" & 'Paramètres - Admin'!$B$5,IF($B$2='Paramètres - Admin'!$B$6,TEXT((Q16/24)/30,\"# 0,00\")&\" \" & 'Paramètres - Admin'!$B$6,IF(Q16/24>=1,INT(Q16/24)&\" \" &  'Paramètres - Admin'!$D$4 & \" \" & HOUR(Q16/24-INT(Q16/24))&\" \" &  'Paramètres - Admin'!$D$3 & \" \" & MINUTE(Q16/24-INT(Q16/24))&\" \" &  'Paramètres - Admin'!$D$2,HOUR(Q16/24-INT(Q16/24))&\" \" &  'Paramètres - Admin'!$D$3 & \" \" & MINUTE(Q16/24-INT(Q16/24))&\" \" &  'Paramètres - Admin'!$D$2))))))","v":"33 jours 0 hrs 0 mins"}]
[null,null,null,null,null,null,null,null,null,null,null,null,"Total",{"$f":"SUM(N8:N16)","v":35},{"$f":"SUM(O8:O16)","v":304},{"$f":"SUM(P7:P16)","v":2868023501},{"$f":"SUM(Q8:Q16)","v":31548.6},{"$f":"IF($B$2='Paramètres - Admin'!$B$2,TEXT(Q17*60*60,\"# 0\")&\" \" & 'Paramètres - Admin'!$B$2,IF($B$2='Paramètres - Admin'!$B$3,TEXT(Q17*60,\"# 0\")&\" \" & 'Paramètres - Admin'!$B$3,IF($B$2='Paramètres - Admin'!$B$4,TEXT(Q17,\"# 0,00\")&\" \" & 'Paramètres - Admin'!$B$4,IF($B$2='Paramètres - Admin'!$B$5,TEXT(Q17/24,\"# 0,00\")&\" \" & 'Paramètres - Admin'!$B$5,IF($B$2='Paramètres - Admin'!$B$6,TEXT((Q17/24)/30,\"# 0,00\")&\" \" & 'Paramètres - Admin'!$B$6,IF(Q17/24>=1,INT(Q17/24)&\" \" &  'Paramètres - Admin'!$D$4 & \" \" & HOUR(Q17/24-INT(Q17/24))&\" \" &  'Paramètres - Admin'!$D$3 & \" \" & MINUTE(Q17/24-INT(Q17/24))&\" \" &  'Paramètres - Admin'!$D$2,HOUR(Q17/24-INT(Q17/24))&\" \" &  'Paramètres - Admin'!$D$3 & \" \" & MINUTE(Q17/24-INT(Q17/24))&\" \" &  'Paramètres - Admin'!$D$2))))))","v":"1314 jours 12 hrs 36 mins"}]
["Spell Upgrades",null,null,null,null,null,"Améliorations de Troupes",null,null,null,null,null,"Améliorations de Troupes Noires",null,null,null,null,null,"Héros"]
["Sort","À Faire","Up.","Coût Total","Temps Total","Temps Total","Troupe Normale","À Faire","Up.","Coût Total","Temps Total","Temps Total","Troupe Noire","À Faire","Up.","Coût Total","Temps Total","Temps Total","Héros","À Faire","Up.","Coût Total","Temps Total","Temps Total"]
["Sort de Foudre",{"$f":"'À Faire - Détails'!J182","v":1},{"$f":"'À Faire - Détails'!K182","v":6},{"$f":"'À Faire - Détails'!J190","v":11700000},{"$f":"'À Faire - Détails'!K190","v":576},{"$f":"IF($B$2='Paramètres - Admin'!$B$2,TEXT(E20*60*60,\"# 0\")&\" \" & 'Paramètres - Admin'!$B$2,IF($B$2='Paramètres - Admin'!$B$3,TEXT(E20*60,\"# 0\")&\" \" & 'Paramètres - Admin'!$B$3,IF($B$2='Paramètres - Admin'!$B$4,TEXT(E20,\"# 0,00\")&\" \" & 'Paramètres - Admin'!$B$4,IF($B$2='Paramètres - Admin'!$B$5,TEXT(E20/24,\"# 0,00\")&\" \" & 'Paramètres - Admin'!$B$5,IF($B$2='Paramètres - Admin'!$B$6,TEXT((E20/24)/30,\"# 0,00\")&\" \" & 'Paramètres - Admin'!$B$6,IF(E20/24>=1,INT(E20/24)&\" \" &  'Paramètres - Admin'!$D$4 & \" \" & HOUR(E20/24-INT(E20/24))&\" \" &  'Paramètres - Admin'!$D$3 & \" \" & MINUTE(E20/24-INT(E20/24))&\" \" &  'Paramètres - Admin'!$D$2,HOUR(E20/24-INT(E20/24))&\" \" &  'Paramètres - Admin'!$D$3 & \" \" & MINUTE(E20/24-INT(E20/24))&\" \" &  'Paramètres - Admin'!$D$2))))))","v":"24 jours 0 hrs 0 mins"},"Barbare",{"$f":"'À Faire - Détails'!J215","v":1},{"$f":"'À Faire - Détails'!K215","v":6},{"$f":"'À Faire - Détails'!J223","v":6700000},{"$f":"'À Faire - Détails'!K223","v":462},{"$f":"IF($B$2='Paramètres - Admin'!$B$2,TEXT(K20*60*60,\"# 0\")&\" \" & 'Paramètres - Admin'!$B$2,IF($B$2='Paramètres - Admin'!$B$3,TEXT(K20*60,\"# 0\")&\" \" & 'Paramètres - Admin'!$B$3,IF($B$2='Paramètres - Admin'!$B$4,TEXT(K20,\"# 0,00\")&\" \" & 'Paramètres - Admin'!$B$4,IF($B$2='Paramètres - Admin'!$B$5,TEXT(K20/24,\"# 0,00\")&\" \" & 'Paramètres - Admin'!$B$5,IF($B$2='Paramètres - Admin'!$B$6,TEXT((K20/24)/30,\"# 0,00\")&\" \" & 'Paramètres - Admin'!$B$6,IF(K20/24>=1,INT(K20/24)&\" \" &  'Paramètres - Admin'!$D$4 & \" \" & HOUR(K20/24-INT(K20/24))&\" \" &  'Paramètres - Admin'!$D$3 & \" \" & MINUTE(K20/24-INT(K20/24))&\" \" &  'Paramètres - Admin'!$D$2,HOUR(K20/24-INT(K20/24))&\" \" &  'Paramètres - Admin'!$D$3 & \" \" & MINUTE(K20/24-INT(K20/24))&\" \" &  'Paramètres - Admin'!$D$2))))))","v":"19 jours 6 hrs 0 mins"},"Serviteur",{"$f":"'À Faire - Détails'!J268","v":1},{"$f":"'À Faire - Détails'!K268","v":5},{"$f":"'À Faire - Détails'!J276","v":200000},{"$f":"'À Faire - Détails'!K276","v":672},{"$f":"IF($B$2='Paramètres - Admin'!$B$2,TEXT(Q20*60*60,\"# 0\")&\" \" & 'Paramètres - Admin'!$B$2,IF($B$2='Paramètres - Admin'!$B$3,TEXT(Q20*60,\"# 0\")&\" \" & 'Paramètres - Admin'!$B$3,IF($B$2='Paramètres - Admin'!$B$4,TEXT(Q20,\"# 0,00\")&\" \" & 'Paramètres - Admin'!$B$4,IF($B$2='Paramètres - Admin'!$B$5,TEXT(Q20/24,\"# 0,00\")&\" \" & 'Paramètres - Admin'!$B$5,IF($B$2='Paramètres - Admin'!$B$6,TEXT((Q20/24)/30,\"# 0,00\")&\" \" & 'Paramètres - Admin'!$B$6,IF(Q20/24>=1,INT(Q20/24)&\" \" &  'Paramètres - Admin'!$D$4 & \" \" & HOUR(Q20/24-INT(Q20/24))&\" \" &  'Paramètres - Admin'!$D$3 & \" \" & MINUTE(Q20/24-INT(Q20/24))&\" \" &  'Paramètres - Admin'!$D$2,HOUR(Q20/24-INT(Q20/24))&\" \" &  'Paramètres - Admin'!$D$3 & \" \" & MINUTE(Q20/24-INT(Q20/24))&\" \" &  'Paramètres - Admin'!$D$2))))))","v":"28 jours 0 hrs 0 mins"},"Roi des Barbares",{"$f":"'À Faire - Détails'!J305","v":1},{"$f":"'À Faire - Détails'!K305","v":40},{"$f":"'À Faire - Détails'!J347","v":3752500},{"$f":"'À Faire - Détails'!K347","v":9360},{"$f":"IF($B$2='Paramètres - Admin'!$B$2,TEXT(W20*60*60,\"# 0\")&\" \" & 'Paramètres - Admin'!$B$2,IF($B$2='Paramètres - Admin'!$B$3,TEXT(W20*60,\"# 0\")&\" \" & 'Paramètres - Admin'!$B$3,IF($B$2='Paramètres - Admin'!$B$4,TEXT(W20,\"# 0,00\")&\" \" & 'Paramètres - Admin'!$B$4,IF($B$2='Paramètres - Admin'!$B$5,TEXT(W20/24,\"# 0,00\")&\" \" & 'Paramètres - Admin'!$B$5,IF($B$2='Paramètres - Admin'!$B$6,TEXT((W20/24)/30,\"# 0,00\")&\" \" & 'Paramètres - Admin'!$B$6,IF(W20/24>=1,INT(W20/24)&\" \" &  'Paramètres - Admin'!$D$4 & \" \" & HOUR(W20/24-INT(W20/24))&\" \" &  'Paramètres - Admin'!$D$3 & \" \" & MINUTE(W20/24-INT(W20/24))&\" \" &  'Paramètres - Admin'!$D$2,HOUR(W20/24-INT(W20/24))&\" \" &  'Paramètres - Admin'!$D$3 & \" \" & MINUTE(W20/24-INT(W20/24))&\" \" &  'Paramètres - Admin'!$D$2))))))","v":"390 jours 0 hrs 0 mins"}]
["Sort de Guérison",{"$f":"'À Faire - Détails'!J192","v":1},{"$f":"'À Faire - Détails'!K192","v":6},{"$f":"'À Faire - Détails'!J200","v":9300000},{"$f":"'À Faire - Détails'!K200","v":432},{"$f":"IF($B$2='Paramètres - Admin'!$B$2,TEXT(E21*60*60,\"# 0\")&\" \" & 'Paramètres - Admin'!$B$2,IF($B$2='Paramètres - Admin'!$B$3,TEXT(E21*60,\"# 0\")&\" \" & 'Paramètres - Admin'!$B$3,IF($B$2='Paramètres - Admin'!$B$4,TEXT(E21,\"# 0,00\")&\" \" & 'Paramètres - Admin'!$B$4,IF($B$2='Paramètres - Admin'!$B$5,TEXT(E21/24,\"# 0,00\")&\" \" & 'Paramètres - Admin'!$B$5,IF($B$2='Paramètres - Admin'!$B$6,TEXT((E21/24)/30,\"# 0,00\")&\" \" & 'Paramètres - Admin'!$B$6,IF(E21/24>=1,INT(E21/24)&\" \" &  'Paramètres - Admin'!$D$4 & \" \" & HOUR(E21/24-INT(E21/24))&\" \" &  'Paramètres - Admin'!$D$3 & \" \" & MINUTE(E21/24-INT(E21/24))&\" \" &  'Paramètres - Admin'!$D$2,HOUR(E21/24-INT(E21/24))&\" \" &  'Paramètres - Admin'!$D$3 & \" \" & MINUTE(E21/24-INT(E21/24))&\" \" &  'Paramètres - Admin'!$D$2))))))","v":"18 jours 0 hrs 0 mins"},"Archer",{"$f":"'À Faire - Détails'!J225","v":1},{"$f":"'À Faire - Détails'!K225","v":6},{"$f":"'À Faire - Détails'!J233","v":9300000},{"$f":"'À Faire - Détails'!K233","v":602},{"$f":"IF($B$2='Paramètres - Admin'!$B$2,TEXT(K21*60*60,\"# 0\")&\" \" & 'Paramètres - Admin'!$B$2,IF($B$2='Paramètres - Admin'!$B$3,TEXT(K21*60,\"# 0\")&\" \" & 'Paramètres - Admin'!$B$3,IF($B$2='Paramètres - Admin'!$B$4,TEXT(K21,\"# 0,00\")&\" \" & 'Paramètres - Admin'!$B$4,IF($B$2='Paramètres - Admin'!$B$5,TEXT(K21/24,\"# 0,00\")&\" \" & 'Paramètres - Admin'!$B$5,IF($B$2='Paramètres - Admin'!$B$6,TEXT((K21/24)/30,\"# 0,00\")&\" \" & 'Paramètres - Admin'!$B$6,IF(K21/24>=1,INT(K21/24)&\" \" &  'Paramètres - Admin'!$D$4 & \" \" & HOUR(K21/24-INT(K21/24))&\" \" &  'Paramètres - Admin'!$D$3 & \" \" & MINUTE(K21/24-INT(K21/24))&\" \" &  'Paramètres - Admin'!$D$2,HOUR(K21/24-INT(K21/24))&\" \" &  'Paramètres - Admin'!$D$3 & \" \" & MINUTE(K21/24-INT(K21/24))&\" \" &  'Paramètres - Admin'!$D$2))))))","v":"25 jours 2 hrs 0 mins"},"Chevaucheur de Cochon",{"$f":"'À Faire - Détails'!J278","v":1},{"$f":"'À Faire - Détails'!K278","v":5},{"$f":"'À Faire - Détails'!J285","v":140000},{"$f":"'À Faire - Détails'!K285","v":1056},{"$f":"IF($B$2='Paramètres - Admin'!$B$2,TEXT(Q21*60*60,\"# 0\")&\" \" & 'Paramètres - Admin'!$B$2,IF($B$2='Paramètres - Admin'!$B$3,TEXT(Q21*60,\"# 0\")&\" \" & 'Paramètres - Admin'!$B$3,IF($B$2='Paramètres - Admin'!$B$4,TEXT(Q21,\"# 0,00\")&\" \" & 'Paramètres - Admin'!$B$4,IF($B$2='Paramètres - Admin'!$B$5,TEXT(Q21/24,\"# 0,00\")&\" \" & 'Paramètres - Admin'!$B$5,IF($B$2='Paramètres - Admin'!$B$6,TEXT((Q21/24)/30,\"# 0,00\")&\" \" & 'Paramètres - Admin'!$B$6,IF(Q21/24>=1,INT(Q21/24)&\" \" &  'Paramètres - Admin'!$D$4 & \" \" & HOUR(Q21/24-INT(Q21/24))&\" \" &  'Paramètres - Admin'!$D$3 & \" \" & MINUTE(Q21/24-INT(Q21/24))&\" \" &  'Paramètres - Admin'!$D$2,HOUR(Q21/24-INT(Q21/24))&\" \" &  'Paramètres - Admin'!$D$3 & \" \" & MINUTE(Q21/24-INT(Q21/24))&\" \" &  'Paramètres - Admin'!$D$2))))))","v":"44 jours 0 hrs 0 mins"},"Reine des Archers",{"$f":"'À Faire - Détails'!U305","v":1},{"$f":"'À Faire - Détails'!V305","v":40},{"$f":"'À Faire - Détails'!U347","v":4172500},{"$f":"'À Faire - Détails'!V347","v":5460},{"$f":"IF($B$2='Paramètres - Admin'!$B$2,TEXT(W21*60*60,\"# 0\")&\" \" & 'Paramètres - Admin'!$B$2,IF($B$2='Paramètres - Admin'!$B$3,TEXT(W21*60,\"# 0\")&\" \" & 'Paramètres - Admin'!$B$3,IF($B$2='Paramètres - Admin'!$B$4,TEXT(W21,\"# 0,00\")&\" \" & 'Paramètres - Admin'!$B$4,IF($B$2='Paramètres - Admin'!$B$5,TEXT(W21/24,\"# 0,00\")&\" \" & 'Paramètres - Admin'!$B$5,IF($B$2='Paramètres - Admin'!$B$6,TEXT((W21/24)/30,\"# 0,00\")&\" \" & 'Paramètres - Admin'!$B$6,IF(W21/24>=1,INT(W21/24)&\" \" &  'Paramètres - Admin'!$D$4 & \" \" & HOUR(W21/24-INT(W21/24))&\" \" &  'Paramètres - Admin'!$D$3 & \" \" & MINUTE(W21/24-INT(W21/24))&\" \" &  'Paramètres - Admin'!$D$2,HOUR(W21/24-INT(W21/24))&\" \" &  'Paramètres - Admin'!$D$3 & \" \" & MINUTE(W21/24-INT(W21/24))&\" \" &  'Paramètres - Admin'!$D$2))))))","v":"227 jours 12 hrs 0 mins"}]
["Sort de Rage",{"$f":"'À Faire - Détails'!J202","v":1},{"$f":"'À Faire - Détails'!K202","v":5},{"$f":"'À Faire - Détails'!J209","v":6150000},{"$f":"'À Faire - Détails'!K209","v":408},{"$f":"IF($B$2='Paramètres - Admin'!$B$2,TEXT(E22*60*60,\"# 0\")&\" \" & 'Paramètres - Admin'!$B$2,IF($B$2='Paramètres - Admin'!$B$3,TEXT(E22*60,\"# 0\")&\" \" & 'Paramètres - Admin'!$B$3,IF($B$2='Paramètres - Admin'!$B$4,TEXT(E22,\"# 0,00\")&\" \" & 'Paramètres - Admin'!$B$4,IF($B$2='Paramètres - Admin'!$B$5,TEXT(E22/24,\"# 0,00\")&\" \" & 'Paramètres - Admin'!$B$5,IF($B$2='Paramètres - Admin'!$B$6,TEXT((E22/24)/30,\"# 0,00\")&\" \" & 'Paramètres - Admin'!$B$6,IF(E22/24>=1,INT(E22/24)&\" \" &  'Paramètres - Admin'!$D$4 & \" \" & HOUR(E22/24-INT(E22/24))&\" \" &  'Paramètres - Admin'!$D$3 & \" \" & MINUTE(E22/24-INT(E22/24))&\" \" &  'Paramètres - Admin'!$D$2,HOUR(E22/24-INT(E22/24))&\" \" &  'Paramètres - Admin'!$D$3 & \" \" & MINUTE(E22/24-INT(E22/24))&\" \" &  'Paramètres - Admin'!$D$2))))))","v":"17 jours 0 hrs 0 mins"},"Gobelin",{"$f":"'À Faire - Détails'!J235","v":1},{"$f":"'À Faire - Détails'!K235","v":6},{"$f":"'À Faire - Détails'!J243","v":7800000},{"$f":"'À Faire - Détails'!K243","v":492},{"$f":"IF($B$2='Paramètres - Admin'!$B$2,TEXT(K22*60*60,\"# 0\")&\" \" & 'Paramètres - Admin'!$B$2,IF($B$2='Paramètres - Admin'!$B$3,TEXT(K22*60,\"# 0\")&\" \" & 'Paramètres - Admin'!$B$3,IF($B$2='Paramètres - Admin'!$B$4,TEXT(K22,\"# 0,00\")&\" \" & 'Paramètres - Admin'!$B$4,IF($B$2='Paramètres - Admin'!$B$5,TEXT(K22/24,\"# 0,00\")&\" \" & 'Paramètres - Admin'!$B$5,IF($B$2='Paramètres - Admin'!$B$6,TEXT((K22/24)/30,\"# 0,00\")&\" \" & 'Paramètres - Admin'!$B$6,IF(K22/24>=1,INT(K22/24)&\" \" &  'Paramètres - Admin'!$D$4 & \" \" & HOUR(K22/24-INT(K22/24))&\" \" &  'Paramètres - Admin'!$D$3 & \" \" & MINUTE(K22/24-INT(K22/24))&\" \" &  'Paramètres - Admin'!$D$2,HOUR(K22/24-INT(K22/24))&\" \" &  'Paramètres - Admin'!$D$3 & \" \" & MINUTE(K22/24-INT(K22/24))&\" \" &  'Paramètres - Admin'!$D$2))))))","v":"20 jours 12 hrs 0 mins"},"Valkyrie",{"$f":"'À Faire - Détails'!J287","v":1},{"$f":"'À Faire - Détails'!K287","v":4},{"$f":"'À Faire - Détails'!J293","v":180000},{"$f":"'À Faire - Détails'!K293","v":864},{"$f":"IF($B$2='Paramètres - Admin'!$B$2,TEXT(Q22*60*60,\"# 0\")&\" \" & 'Paramètres - Admin'!$B$2,IF($B$2='Paramètres - Admin'!$B$3,TEXT(Q22*60,\"# 0\")&\" \" & 'Paramètres - Admin'!$B$3,IF($B$2='Paramètres - Admin'!$B$4,TEXT(Q22,\"# 0,00\")&\" \" & 'Paramètres - Admin'!$B$4,IF($B$2='Paramètres - Admin'!$B$5,TEXT(Q22/24,\"# 0,00\")&\" \" & 'Paramètres - Admin'!$B$5,IF($B$2='Paramètres - Admin'!$B$6,TEXT((Q22/24)/30,\"# 0,00\")&\" \" & 'Paramètres - Admin'!$B$6,IF(Q22/24>=1,INT(Q22/24)&\" \" &  'Paramètres - Admin'!$D$4 & \" \" & HOUR(Q22/24-INT(Q22/24))&\" \" &  'Paramètres - Admin'!$D$3 & \" \" & MINUTE(Q22/24-INT(Q22/24))&\" \" &  'Paramètres - Admin'!$D$2,HOUR(Q22/24-INT(Q22/24))&\" \" &  'Paramètres - Admin'!$D$3 & \" \" & MINUTE(Q22/24-INT(Q22/24))&\" \" &  'Paramètres - Admin'!$D$2))))))","v":"36 jours 0 hrs 0 mins"},"Total",{"$f":"SUM(T20:T21)","v":2},{"$f":"SUM(U20:U21)","v":80},{"$f":"SUM(V20:V21)","v":7925000},{"$f":"SUM(W20:W21)","v":14820},{"$f":"IF($B$2='Paramètres - Admin'!$B$2,TEXT(W22*60*60,\"# 0\")&\" \" & 'Paramètres - Admin'!$B$2,IF($B$2='Paramètres - Admin'!$B$3,TEXT(W22*60,\"# 0\")&\" \" & 'Paramètres - Admin'!$B$3,IF($B$2='Paramètres - Admin'!$B$4,TEXT(W22,\"# 0,00\")&\" \" & 'Paramètres - Admin'!$B$4,IF($B$2='Paramètres - Admin'!$B$5,TEXT(W22/24,\"# 0,00\")&\" \" & 'Paramètres - Admin'!$B$5,IF($B$2='Paramètres - Admin'!$B$6,TEXT((W22/24)/30,\"# 0,00\")&\" \" & 'Paramètres - Admin'!$B$6,IF(W22/24>=1,INT(W22/24)&\" \" &  'Paramètres - Admin'!$D$4 & \" \" & HOUR(W22/24-INT(W22/24))&\" \" &  'Paramètres - Admin'!$D$3 & \" \" & MINUTE(W22/24-INT(W22/24))&\" \" &  'Paramètres - Admin'!$D$2,HOUR(W22/24-INT(W22/24))&\" \" &  'Paramètres - Admin'!$D$3 & \" \" & MINUTE(W22/24-INT(W22/24))&\" \" &  'Paramètres - Admin'!$D$2))))))","v":"617 jours 12 hrs 0 mins"}]
["Sort de Saut",{"$f":"'À Faire - Détails'!U182","v":1},{"$f":"'À Faire - Détails'!V182","v":2},{"$f":"'À Faire - Détails'!U186","v":4000000},{"$f":"'À Faire - Détails'!V186","v":120},{"$f":"IF($B$2='Paramètres - Admin'!$B$2,TEXT(E23*60*60,\"# 0\")&\" \" & 'Paramètres - Admin'!$B$2,IF($B$2='Paramètres - Admin'!$B$3,TEXT(E23*60,\"# 0\")&\" \" & 'Paramètres - Admin'!$B$3,IF($B$2='Paramètres - Admin'!$B$4,TEXT(E23,\"# 0,00\")&\" \" & 'Paramètres - Admin'!$B$4,IF($B$2='Paramètres - Admin'!$B$5,TEXT(E23/24,\"# 0,00\")&\" \" & 'Paramètres - Admin'!$B$5,IF($B$2='Paramètres - Admin'!$B$6,TEXT((E23/24)/30,\"# 0,00\")&\" \" & 'Paramètres - Admin'!$B$6,IF(E23/24>=1,INT(E23/24)&\" \" &  'Paramètres - Admin'!$D$4 & \" \" & HOUR(E23/24-INT(E23/24))&\" \" &  'Paramètres - Admin'!$D$3 & \" \" & MINUTE(E23/24-INT(E23/24))&\" \" &  'Paramètres - Admin'!$D$2,HOUR(E23/24-INT(E23/24))&\" \" &  'Paramètres - Admin'!$D$3 & \" \" & MINUTE(E23/24-INT(E23/24))&\" \" &  'Paramètres - Admin'!$D$2))))))","v":"5 jours 0 hrs 0 mins"},"Géant",{"$f":"'À Faire - Détails'!J245","v":1},{"$f":"'À Faire - Détails'!K245","v":6},{"$f":"'À Faire - Détails'!J253","v":9350000},{"$f":"'À Faire - Détails'!K253","v":504},{"$f":"IF($B$2='Paramètres - Admin'!$B$2,TEXT(K23*60*60,\"# 0\")&\" \" & 'Paramètres - Admin'!$B$2,IF($B$2='Paramètres - Admin'!$B$3,TEXT(K23*60,\"# 0\")&\" \" & 'Paramètres - Admin'!$B$3,IF($B$2='Paramètres - Admin'!$B$4,TEXT(K23,\"# 0,00\")&\" \" & 'Paramètres - Admin'!$B$4,IF($B$2='Paramètres - Admin'!$B$5,TEXT(K23/24,\"# 0,00\")&\" \" & 'Paramètres - Admin'!$B$5,IF($B$2='Paramètres - Admin'!$B$6,TEXT((K23/24)/30,\"# 0,00\")&\" \" & 'Paramètres - Admin'!$B$6,IF(K23/24>=1,INT(K23/24)&\" \" &  'Paramètres - Admin'!$D$4 & \" \" & HOUR(K23/24-INT(K23/24))&\" \" &  'Paramètres - Admin'!$D$3 & \" \" & MINUTE(K23/24-INT(K23/24))&\" \" &  'Paramètres - Admin'!$D$2,HOUR(K23/24-INT(K23/24))&\" \" &  'Paramètres - Admin'!$D$3 & \" \" & MINUTE(K23/24-INT(K23/24))&\" \" &  'Paramètres - Admin'!$D$2))))))","v":"21 jours 0 hrs 0 mins"},"Golem",{"$f":"'À Faire - Détails'!U268","v":1},{"$f":"'À Faire - Détails'!V268","v":5},{"$f":"'À Faire - Détails'!U275","v":300000},{"$f":"'À Faire - Détails'!V275","v":1200},{"$f":"IF($B$2='Paramètres - Admin'!$B$2,TEXT(Q23*60*60,\"# 0\")&\" \" & 'Paramètres - Admin'!$B$2,IF($B$2='Paramètres - Admin'!$B$3,TEXT(Q23*60,\"# 0\")&\" \" & 'Paramètres - Admin'!$B$3,IF($B$2='Paramètres - Admin'!$B$4,TEXT(Q23,\"# 0,00\")&\" \" & 'Paramètres - Admin'!$B$4,IF($B$2='Paramètres - Admin'!$B$5,TEXT(Q23/24,\"# 0,00\")&\" \" & 'Paramètres - Admin'!$B$5,IF($B$2='Paramètres - Admin'!$B$6,TEXT((Q23/24)/30,\"# 0,00\")&\" \" & 'Paramètres - Admin'!$B$6,IF(Q23/24>=1,INT(Q23/24)&\" \" &  'Paramètres - Admin'!$D$4 & \" \" & HOUR(Q23/24-INT(Q23/24))&\" \" &  'Paramètres - Admin'!$D$3 & \" \" & MINUTE(Q23/24-INT(Q23/24))&\" \" &  'Paramètres - Admin'!$D$2,HOUR(Q23/24-INT(Q23/24))&\" \" &  'Paramètres - Admin'!$D$3 & \" \" & MINUTE(Q23/24-INT(Q23/24))&\" \" &  'Paramètres - Admin'!$D$2))))))","v":"50 jours 0 hrs 0 mins"}]
["Sort de Gel",{"$f":"'À Faire - Détails'!U188","v":1},{"$f":"'À Faire - Détails'!V188","v":4},{"$f":"'À Faire - Détails'!U195","v":23500000},{"$f":"'À Faire - Détails'!V195","v":528},{"$f":"IF($B$2='Paramètres - Admin'!$B$2,TEXT(E24*60*60,\"# 0\")&\" \" & 'Paramètres - Admin'!$B$2,IF($B$2='Paramètres - Admin'!$B$3,TEXT(E24*60,\"# 0\")&\" \" & 'Paramètres - Admin'!$B$3,IF($B$2='Paramètres - Admin'!$B$4,TEXT(E24,\"# 0,00\")&\" \" & 'Paramètres - Admin'!$B$4,IF($B$2='Paramètres - Admin'!$B$5,TEXT(E24/24,\"# 0,00\")&\" \" & 'Paramètres - Admin'!$B$5,IF($B$2='Paramètres - Admin'!$B$6,TEXT((E24/24)/30,\"# 0,00\")&\" \" & 'Paramètres - Admin'!$B$6,IF(E24/24>=1,INT(E24/24)&\" \" &  'Paramètres - Admin'!$D$4 & \" \" & HOUR(E24/24-INT(E24/24))&\" \" &  'Paramètres - Admin'!$D$3 & \" \" & MINUTE(E24/24-INT(E24/24))&\" \" &  'Paramètres - Admin'!$D$2,HOUR(E24/24-INT(E24/24))&\" \" &  'Paramètres - Admin'!$D$3 & \" \" & MINUTE(E24/24-INT(E24/24))&\" \" &  'Paramètres - Admin'!$D$2))))))","v":"22 jours 0 hrs 0 mins"},"Sapeur",{"$f":"'À Faire - Détails'!J255","v":1},{"$f":"'À Faire - Détails'!K255","v":6},{"$f":"'À Faire - Détails'!J263","v":10100000},{"$f":"'À Faire - Détails'!K263","v":504},{"$f":"IF($B$2='Paramètres - Admin'!$B$2,TEXT(K24*60*60,\"# 0\")&\" \" & 'Paramètres - Admin'!$B$2,IF($B$2='Paramètres - Admin'!$B$3,TEXT(K24*60,\"# 0\")&\" \" & 'Paramètres - Admin'!$B$3,IF($B$2='Paramètres - Admin'!$B$4,TEXT(K24,\"# 0,00\")&\" \" & 'Paramètres - Admin'!$B$4,IF($B$2='Paramètres - Admin'!$B$5,TEXT(K24/24,\"# 0,00\")&\" \" & 'Paramètres - Admin'!$B$5,IF($B$2='Paramètres - Admin'!$B$6,TEXT((K24/24)/30,\"# 0,00\")&\" \" & 'Paramètres - Admin'!$B$6,IF(K24/24>=1,INT(K24/24)&\" \" &  'Paramètres - Admin'!$D$4 & \" \" & HOUR(K24/24-INT(K24/24))&\" \" &  'Paramètres - Admin'!$D$3 & \" \" & MINUTE(K24/24-INT(K24/24))&\" \" &  'Paramètres - Admin'!$D$2,HOUR(K24/24-INT(K24/24))&\" \" &  'Paramètres - Admin'!$D$3 & \" \" & MINUTE(K24/24-INT(K24/24))&\" \" &  'Paramètres - Admin'!$D$2))))))","v":"21 jours 0 hrs 0 mins"},"Sorcière",{"$f":"'À Faire - Détails'!U277","v":1},{"$f":"'À Faire - Détails'!V277","v":2},{"$f":"'À Faire - Détails'!U281","v":75000},{"$f":"'À Faire - Détails'!V281","v":240},{"$f":"IF($B$2='Paramètres - Admin'!$B$2,TEXT(Q24*60*60,\"# 0\")&\" \" & 'Paramètres - Admin'!$B$2,IF($B$2='Paramètres - Admin'!$B$3,TEXT(Q24*60,\"# 0\")&\" \" & 'Paramètres - Admin'!$B$3,IF($B$2='Paramètres - Admin'!$B$4,TEXT(Q24,\"# 0,00\")&\" \" & 'Paramètres - Admin'!$B$4,IF($B$2='Paramètres - Admin'!$B$5,TEXT(Q24/24,\"# 0,00\")&\" \" & 'Paramètres - Admin'!$B$5,IF($B$2='Paramètres - Admin'!$B$6,TEXT((Q24/24)/30,\"# 0,00\")&\" \" & 'Paramètres - Admin'!$B$6,IF(Q24/24>=1,INT(Q24/24)&\" \" &  'Paramètres - Admin'!$D$4 & \" \" & HOUR(Q24/24-INT(Q24/24))&\" \" &  'Paramètres - Admin'!$D$3 & \" \" & MINUTE(Q24/24-INT(Q24/24))&\" \" &  'Paramètres - Admin'!$D$2,HOUR(Q24/24-INT(Q24/24))&\" \" &  'Paramètres - Admin'!$D$3 & \" \" & MINUTE(Q24/24-INT(Q24/24))&\" \" &  'Paramètres - Admin'!$D$2))))))","v":"10 jours 0 hrs 0 mins"}]
["Total",{"$f":"SUM(B20:B24)","v":5},{"$f":"SUM(C20:C24)","v":23},{"$f":"SUM(D20:D24)","v":54650000},{"$f":"SUM(E20:E24)","v":2064},{"$f":"IF($B$2='Paramètres - Admin'!$B$2,TEXT(E25*60*60,\"# 0\")&\" \" & 'Paramètres - Admin'!$B$2,IF($B$2='Paramètres - Admin'!$B$3,TEXT(E25*60,\"# 0\")&\" \" & 'Paramètres - Admin'!$B$3,IF($B$2='Paramètres - Admin'!$B$4,TEXT(E25,\"# 0,00\")&\" \" & 'Paramètres - Admin'!$B$4,IF($B$2='Paramètres - Admin'!$B$5,TEXT(E25/24,\"# 0,00\")&\" \" & 'Paramètres - Admin'!$B$5,IF($B$2='Paramètres - Admin'!$B$6,TEXT((E25/24)/30,\"# 0,00\")&\" \" & 'Paramètres - Admin'!$B$6,IF(E25/24>=1,INT(E25/24)&\" \" &  'Paramètres - Admin'!$D$4 & \" \" & HOUR(E25/24-INT(E25/24))&\" \" &  'Paramètres - Admin'!$D$3 & \" \" & MINUTE(E25/24-INT(E25/24))&\" \" &  'Paramètres - Admin'!$D$2,HOUR(E25/24-INT(E25/24))&\" \" &  'Paramètres - Admin'!$D$3 & \" \" & MINUTE(E25/24-INT(E25/24))&\" \" &  'Paramètres - Admin'!$D$2))))))","v":"86 jours 0 hrs 0 mins"},"Ballon",{"$f":"'À Faire - Détails'!U215","v":1},{"$f":"'À Faire - Détails'!V215","v":6},{"$f":"'À Faire - Détails'!U223","v":10450000},{"$f":"'À Faire - Détails'!V223","v":504},{"$f":"IF($B$2='Paramètres - Admin'!$B$2,TEXT(K25*60*60,\"# 0\")&\" \" & 'Paramètres - Admin'!$B$2,IF($B$2='Paramètres - Admin'!$B$3,TEXT(K25*60,\"# 0\")&\" \" & 'Paramètres - Admin'!$B$3,IF($B$2='Paramètres - Admin'!$B$4,TEXT(K25,\"# 0,00\")&\" \" & 'Paramètres - Admin'!$B$4,IF($B$2='Paramètres - Admin'!$B$5,TEXT(K25/24,\"# 0,00\")&\" \" & 'Paramètres - Admin'!$B$5,IF($B$2='Paramètres - Admin'!$B$6,TEXT((K25/24)/30,\"# 0,00\")&\" \" & 'Paramètres - Admin'!$B$6,IF(K25/24>=1,INT(K25/24)&\" \" &  'Paramètres - Admin'!$D$4 & \" \" & HOUR(K25/24-INT(K25/24))&\" \" &  'Paramètres - Admin'!$D$3 & \" \" & MINUTE(K25/24-INT(K25/24))&\" \" &  'Paramètres - Admin'!$D$2,HOUR(K25/24-INT(K25/24))&\" \" &  'Paramètres - Admin'!$D$3 & \" \" & MINUTE(K25/24-INT(K25/24))&\" \" &  'Paramètres - Admin'!$D$2))))))","v":"21 jours 0 hrs 0 mins"},"Molosse de lave",{"$f":"'À Faire - Détails'!U283","v":1},{"$f":"'À Faire - Détails'!V283","v":3},{"$f":"'À Faire - Détails'!U288","v":130000},{"$f":"'À Faire - Détails'!V288","v":528},{"$f":"IF($B$2='Paramètres - Admin'!$B$2,TEXT(Q25*60*60,\"# 0\")&\" \" & 'Paramètres - Admin'!$B$2,IF($B$2='Paramètres - Admin'!$B$3,TEXT(Q25*60,\"# 0\")&\" \" & 'Paramètres - Admin'!$B$3,IF($B$2='Paramètres - Admin'!$B$4,TEXT(Q25,\"# 0,00\")&\" \" & 'Paramètres - Admin'!$B$4,IF($B$2='Paramètres - Admin'!$B$5,TEXT(Q25/24,\"# 0,00\")&\" \" & 'Paramètres - Admin'!$B$5,IF($B$2='Paramètres - Admin'!$B$6,TEXT((Q25/24)/30,\"# 0,00\")&\" \" & 'Paramètres - Admin'!$B$6,IF(Q25/24>=1,INT(Q25/24)&\" \" &  'Paramètres - Admin'!$D$4 & \" \" & HOUR(Q25/24-INT(Q25/24))&\" \" &  'Paramètres - Admin'!$D$3 & \" \" & MINUTE(Q25/24-INT(Q25/24))&\" \" &  'Paramètres - Admin'!$D$2,HOUR(Q25/24-INT(Q25/24))&\" \" &  'Paramètres - Admin'!$D$3 & \" \" & MINUTE(Q25/24-INT(Q25/24))&\" \" &  'Paramètres - Admin'!$D$2))))))","v":"22 jours 0 hrs 0 mins"}]
[null,null,null,null,null,null,"Sorcier",{"$f":"'À Faire - Détails'!U225","v":1},{"$f":"'À Faire - Détails'!V225","v":6},{"$f":"'À Faire - Détails'!U233","v":11950000},{"$f":"'À Faire - Détails'!V233","v":600},{"$f":"IF($B$2='Paramètres - Admin'!$B$2,TEXT(K26*60*60,\"# 0\")&\" \" & 'Paramètres - Admin'!$B$2,IF($B$2='Paramètres - Admin'!$B$3,TEXT(K26*60,\"# 0\")&\" \" & 'Paramètres - Admin'!$B$3,IF($B$2='Paramètres - Admin'!$B$4,TEXT(K26,\"# 0,00\")&\" \" & 'Paramètres - Admin'!$B$4,IF($B$2='Paramètres - Admin'!$B$5,TEXT(K26/24,\"# 0,00\")&\" \" & 'Paramètres - Admin'!$B$5,IF($B$2='Paramètres - Admin'!$B$6,TEXT((K26/24)/30,\"# 0,00\")&\" \" & 'Paramètres - Admin'!$B$6,IF(K26/24>=1,INT(K26/24)&\" \" &  'Paramètres - Admin'!$D$4 & \" \" & HOUR(K26/24-INT(K26/24))&\" \" &  'Paramètres - Admin'!$D$3 & \" \" & MINUTE(K26/24-INT(K26/24))&\" \" &  'Paramètres - Admin'!$D$2,HOUR(K26/24-INT(K26/24))&\" \" &  'Paramètres - Admin'!$D$3 & \" \" & MINUTE(K26/24-INT(K26/24))&\" \" &  'Paramètres - Admin'!$D$2))))))","v":"25 jours 0 hrs 0 mins"},"Total",{"$f":"SUM(N21:N25)","v":5},{"$f":"SUM(O20:O25)","v":24},{"$f":"SUM(P20:P25)","v":1025000},{"$f":"SUM(Q20:Q25)","v":4560},{"$f":"IF($B$2='Paramètres - Admin'!$B$2,TEXT(Q26*60*60,\"# 0\")&\" \" & 'Paramètres - Admin'!$B$2,IF($B$2='Paramètres - Admin'!$B$3,TEXT(Q26*60,\"# 0\")&\" \" & 'Paramètres - Admin'!$B$3,IF($B$2='Paramètres - Admin'!$B$4,TEXT(Q26,\"# 0,00\")&\" \" & 'Paramètres - Admin'!$B$4,IF($B$2='Paramètres - Admin'!$B$5,TEXT(Q26/24,\"# 0,00\")&\" \" & 'Paramètres - Admin'!$B$5,IF($B$2='Paramètres - Admin'!$B$6,TEXT((Q26/24)/30,\"# 0,00\")&\" \" & 'Paramètres - Admin'!$B$6,IF(Q26/24>=1,INT(Q26/24)&\" \" &  'Paramètres - Admin'!$D$4 & \" \" & HOUR(Q26/24-INT(Q26/24))&\" \" &  'Paramètres - Admin'!$D$3 & \" \" & MINUTE(Q26/24-INT(Q26/24))&\" \" &  'Paramètres - Admin'!$D$2,HOUR(Q26/24-INT(Q26/24))&\" \" &  'Paramètres - Admin'!$D$3 & \" \" & MINUTE(Q26/24-INT(Q26/24))&\" \" &  'Paramètres - Admin'!$D$2))))))","v":"190 jours 0 hrs 0 mins"}]
[null,null,null,null,null,null,"Guérisseuse",{"$f":"'À Faire - Détails'!U235","v":1},{"$f":"'À Faire - Détails'!V235","v":4},{"$f":"'À Faire - Détails'!U241","v":5250000},{"$f":"'À Faire - Détails'!V241","v":360},{"$f":"IF($B$2='Paramètres - Admin'!$B$2,TEXT(K27*60*60,\"# 0\")&\" \" & 'Paramètres - Admin'!$B$2,IF($B$2='Paramètres - Admin'!$B$3,TEXT(K27*60,\"# 0\")&\" \" & 'Paramètres - Admin'!$B$3,IF($B$2='Paramètres - Admin'!$B$4,TEXT(K27,\"# 0,00\")&\" \" & 'Paramètres - Admin'!$B$4,IF($B$2='Paramètres - Admin'!$B$5,TEXT(K27/24,\"# 0,00\")&\" \" & 'Paramètres - Admin'!$B$5,IF($B$2='Paramètres - Admin'!$B$6,TEXT((K27/24)/30,\"# 0,00\")&\" \" & 'Paramètres - Admin'!$B$6,IF(K27/24>=1,INT(K27/24)&\" \" &  'Paramètres - Admin'!$D$4 & \" \" & HOUR(K27/24-INT(K27/24))&\" \" &  'Paramètres - Admin'!$D$3 & \" \" & MINUTE(K27/24-INT(K27/24))&\" \" &  'Paramètres - Admin'!$D$2,HOUR(K27/24-INT(K27/24))&\" \" &  'Paramètres - Admin'!$D$3 & \" \" & MINUTE(K27/24-INT(K27/24))&\" \" &  'Paramètres - Admin'!$D$2))))))","v":"15 jours 0 hrs 0 mins"}]
[null,null,null,null,null,null,"Dragon",{"$f":"'À Faire - Détails'!U243","v":1},{"$f":"'À Faire - Détails'!V243","v":4},{"$f":"'À Faire - Détails'!U249","v":13000000},{"$f":"'À Faire - Détails'!V249","v":696},{"$f":"IF($B$2='Paramètres - Admin'!$B$2,TEXT(K28*60*60,\"# 0\")&\" \" & 'Paramètres - Admin'!$B$2,IF($B$2='Paramètres - Admin'!$B$3,TEXT(K28*60,\"# 0\")&\" \" & 'Paramètres - Admin'!$B$3,IF($B$2='Paramètres - Admin'!$B$4,TEXT(K28,\"# 0,00\")&\" \" & 'Paramètres - Admin'!$B$4,IF($B$2='Paramètres - Admin'!$B$5,TEXT(K28/24,\"# 0,00\")&\" \" & 'Paramètres - Admin'!$B$5,IF($B$2='Paramètres - Admin'!$B$6,TEXT((K28/24)/30,\"# 0,00\")&\" \" & 'Paramètres - Admin'!$B$6,IF(K28/24>=1,INT(K28/24)&\" \" &  'Paramètres - Admin'!$D$4 & \" \" & HOUR(K28/24-INT(K28/24))&\" \" &  'Paramètres - Admin'!$D$3 & \" \" & MINUTE(K28/24-INT(K28/24))&\" \" &  'Paramètres - Admin'!$D$2,HOUR(K28/24-INT(K28/24))&\" \" &  'Paramètres - Admin'!$D$3 & \" \" & MINUTE(K28/24-INT(K28/24))&\" \" &  'Paramètres - Admin'!$D$2))))))","v":"29 jours 0 hrs 0 mins"}]
[null,null,null,null,null,null,"P.E.K.K.A",{"$f":"'À Faire - Détails'!U251","v":1},{"$f":"'À Faire - Détails'!V251","v":4},{"$f":"'À Faire - Détails'!U257","v":17000000},{"$f":"'À Faire - Détails'!V257","v":864},{"$f":"IF($B$2='Paramètres - Admin'!$B$2,TEXT(K29*60*60,\"# 0\")&\" \" & 'Paramètres - Admin'!$B$2,IF($B$2='Paramètres - Admin'!$B$3,TEXT(K29*60,\"# 0\")&\" \" & 'Paramètres - Admin'!$B$3,IF($B$2='Paramètres - Admin'!$B$4,TEXT(K29,\"# 0,00\")&\" \" & 'Paramètres - Admin'!$B$4,IF($B$2='Paramètres - Admin'!$B$5,TEXT(K29/24,\"# 0,00\")&\" \" & 'Paramètres - Admin'!$B$5,IF($B$2='Paramètres - Admin'!$B$6,TEXT((K29/24)/30,\"# 0,00\")&\" \" & 'Paramètres - Admin'!$B$6,IF(K29/24>=1,INT(K29/24)&\" \" &  'Paramètres - Admin'!$D$4 & \" \" & HOUR(K29/24-INT(K29/24))&\" \" &  'Paramètres - Admin'!$D$3 & \" \" & MINUTE(K29/24-INT(K29/24))&\" \" &  'Paramètres - Admin'!$D$2,HOUR(K29/24-INT(K29/24))&\" \" &  'Paramètres - Admin'!$D$3 & \" \" & MINUTE(K29/24-INT(K29/24))&\" \" &  'Paramètres - Admin'!$D$2))))))","v":"36 jours 0 hrs 0 mins"}]
[null,null,null,null,null,null,"Total",{"$f":"SUM(H20:H29)","v":10},{"$f":"SUM(I20:I29)","v":54},{"$f":"SUM(J20:J29)","v":100900000},{"$f":"SUM(K20:K29)","v":5588},{"$f":"IF($B$2='Paramètres - Admin'!$B$2,TEXT(K30*60*60,\"# 0\")&\" \" & 'Paramètres - Admin'!$B$2,IF($B$2='Paramètres - Admin'!$B$3,TEXT(K30*60,\"# 0\")&\" \" & 'Paramètres - Admin'!$B$3,IF($B$2='Paramètres - Admin'!$B$4,TEXT(K30,\"# 0,00\")&\" \" & 'Paramètres - Admin'!$B$4,IF($B$2='Paramètres - Admin'!$B$5,TEXT(K30/24,\"# 0,00\")&\" \" & 'Paramètres - Admin'!$B$5,IF($B$2='Paramètres - Admin'!$B$6,TEXT((K30/24)/30,\"# 0,00\")&\" \" & 'Paramètres - Admin'!$B$6,IF(K30/24>=1,INT(K30/24)&\" \" &  'Paramètres - Admin'!$D$4 & \" \" & HOUR(K30/24-INT(K30/24))&\" \" &  'Paramètres - Admin'!$D$3 & \" \" & MINUTE(K30/24-INT(K30/24))&\" \" &  'Paramètres - Admin'!$D$2,HOUR(K30/24-INT(K30/24))&\" \" &  'Paramètres - Admin'!$D$3 & \" \" & MINUTE(K30/24-INT(K30/24))&\" \" &  'Paramètres - Admin'!$D$2))))))","v":"232 jours 20 hrs 0 mins"}]

{"sheet":"À Faire - Détails","index":2,"n_rows":347,"n_cols":33,"rows_kept":347,"cut":false,"hidden":false,"merged":[[346,0,346,7],[346,11,346,18],[186,11,187,13],[194,11,194,18],[292,0,292,7],[262,0,262,7],[213,11,214,13],[223,11,224,13],[233,11,234,13],[241,11,242,13],[249,11,250,13],[266,11,267,13],[275,11,276,13],[212,0,212,21],[213,0,214,2],[223,0,224,2],[233,0,234,2],[303,0,304,2],[243,0,244,2],[253,0,254,2],[264,0,264,21],[265,0,265,21],[266,0,267,2],[276,0,277,2],[208,0,208,7],[180,11,181,13],[185,11,185,18],[178,0,178,21],[179,0,179,21],[180,0,181,2],[190,0,191,2],[211,0,211,21],[200,0,201,2],[171,0,171,7],[162,11,163,13],[162,0,163,2],[147,11,147,18],[132,11,132,18],[113,0,114,2],[98,11,99,13],[97,0,97,21],[147,0,148,2],[160,0,160,21],[161,0,161,21],[148,11,149,13],[157,11,157,18],[158,0,158,7],[130,0,131,2],[146,0,146,7],[129,0,129,7],[73,0,74,2],[141,11,142,13],[109,11,109,18],[110,11,111,13],[121,11,121,18],[122,11,123,13],[133,11,134,13],[140,11,140,18],[79,11,79,18],[81,0,81,7],[96,0,96,21],[98,0,99,2],[82,0,83,2],[93,0,93,7],[112,0,112,7],[20,11,21,13],[34,11,34,18],[72,0,72,7],[59,0,60,2],[3,0,3,10],[30,0,31,2],[44,0,44,7],[45,0,46,2],[54,0,54,7],[59,11,60,13],[70,11,70,18],[71,11,72,13],[20,0,21,2],[57,0,57,21],[58,0,58,21],[285,0,286,2],[1,20,1,21],[2,0,2,21],[0,2,0,4],[0,5,0,7],[0,17,0,19],[0,8,0,9],[0,10,0,12],[0,20,0,21],[0,13,0,16],[1,13,1,16],[1,0,1,1],[0,0,0,1],[1,2,1,4],[1,5,1,7],[1,8,1,9],[1,10,1,12],[1,17,1,19],[3,11,3,21],[29,0,29,7],[4,0,5,2],[4,11,5,13],[19,0,19,7],[19,11,19,18],[281,11,282,13],[98,22,99,24],[107,22,107,29],[108,22,109,24],[114,22,114,29],[115,22,116,24],[122,22,122,29],[123,22,124,24],[130,22,130,29],[131,22,132,24],[137,22,137,29],[138,22,139,24],[142,22,142,29],[175,11,175,18]]}
["LVL HdV",null,"Or Total :",null,null,"Élixir Total :",null,null,"Élixir Noir Total :",null,"Temps Total :",null,null,{"$f":"'À Faire - Récapitulatif'!N1","v":"Bâtiments : 684 jours 4 hrs 53 mins"},null,null,null,"=> Temps par Ouvrier :",null,null,"Améliorations de Troupes/Sorts :"]
[{"$f":"Paramètres!$BE$2","v":10},null,{"$f":"'À Faire - Récapitulatif'!D2","v":"2 979 352 457"},null,null,{"$f":"'À Faire - Récapitulatif'!G2","v":"317 074 850"},null,null,{"$f":"'À Faire - Récapitulatif'!I2","v":"8 950 000"},null,{"$f":"'À Faire - Récapitulatif'!L2","v":"3174 jours 4 hrs 59 mins"},null,null,{"$f":"'À Faire - Récapitulatif'!N2","v":"Héros : 617 jours 12 hrs 0 mins"},null,null,null,{"$f":"'À Faire - Récapitulatif'!S2","v":"325 jours 10 hrs 13 mins"},null,null,{"$f":"'À Faire - Récapitulatif'!V2","v":"508 jours 20 hrs 0 mins"}]
["Bâtiments de Ressources"]
["Élixir",null,null,null,null,null,null,null,null,null,null,"Or"]
["Mine d'Or",null,null,"Max","Max +",null,null,null,"Actuel","À Faire","Améliorations","Extracteur d'Élixir",null,null,"Max","Max +",null,null,null,"Actuel","À Faire","Améliorations"]
[null,null,null,{"$f":"VLOOKUP($A$2,AVAILABLE_Buildings_Resource[#All],MATCH(A5,AVAILABLE_Buildings_Resource[#Headers],0))","v":7},{"$f":"VLOOKUP($A$2,AVAILABLE_Buildings_Resource[#All],MATCH(A5,AVAILABLE_Buildings_Resource[#Headers],0)+1)","v":12},null,null,null,{"$f":"IF(SUM(B8:B19)>D6,\"Error\",SUM(B8:B19))","v":0},{"$f":"IF(I$6=\"Error\",\"Error\",D6-I6)","v":7},{"$f":"IF(I$6=\"Error\",\"Error\",SUM(F8:F19))","v":84},null,null,null,{"$f":"VLOOKUP($A$2,AVAILABLE_Buildings_Resource[#All],MATCH(L5,AVAILABLE_Buildings_Resource[#Headers],0))","v":7},{"$f":"VLOOKUP($A$2,AVAILABLE_Buildings_Resource[#All],MATCH(L5,AVAILABLE_Buildings_Resource[#Headers],0)+1)","v":12},null,null,null,{"$f":"IF(SUM(M8:M19)>O6,\"Error\",SUM(M8:M19))","v":0},{"$f":"IF(T$6=\"Error\",\"Error\",O6-T6)","v":7},{"$f":"IF(T$6=\"Error\",\"Error\",SUM(Q8:Q19))","v":84}]
["+","NB",null,null,null,"NB","+","Coût","Temps","Coût Total","Temps Total","+","NB",null,null,null,"NB","+","Coût","Temps","Coût Total","Temps Total"]
[1,{"$f":"IF(Paramètres!B6=0,\"\",Paramètres!B6)","v":""},{"$f":"IF(C7<>0,C7+IF(AND(B7<>\"\",A7<E$6),B7,0),IF(AND(B7<>\"\",A7<E$6),B7,0))","v":0},null,null,{"$f":"IF(G8<>\"/\",IF(I$6=\"Error\",\"Error\",$J$6+C8),\"/\")","v":7},{"$f":"IF(I$6=\"Error\",\"Error\",IF(AND($E$6<>\"/\",$E$6>'Paramètres - Admin'!$A2),'Paramètres - Admin'!$A3,\"/\"))","v":1},{"$f":"IF(G8<>\"/\",VLOOKUP(G8,COSTS_Gold_Mine[#All],2),\"/\")","v":150},{"$f":"IF(G8<>\"/\",VLOOKUP(G8,COSTS_Gold_Mine[#All],3),\"/\")","v":1.6666666666666666E-2},{"$f":"IF(I$6=\"Error\",\"Error\",IF(H8<>\"/\",F8*H8,0))","v":1050},{"$f":"IF(I$6=\"Error\",\"Error\",IF(I8<>\"/\",F8*I8,0))","v":0.11666666666666667},1,{"$f":"IF(Paramètres!C6=0,\"\",Paramètres!C6)","v":""},{"$f":"IF(N7<>0,N7+IF(AND(M7<>\"\",L7<P$6),M7,0),IF(AND(M7<>\"\",L7<P$6),M7,0))","v":0},null,null,{"$f":"IF(R8<>\"/\",IF(T$6=\"Error\",\"Error\",$U$6+N8),\"/\")","v":7},{"$f":"IF(T$6=\"Error\",\"Error\",IF(AND($P$6<>\"/\",$P$6>'Paramètres - Admin'!$A2),'Paramètres - Admin'!$A3,\"/\"))","v":1},{"$f":"IF(R8<>\"/\",VLOOKUP(R8,COSTS_Elixir_Collector[#All],2),\"/\")","v":150},{"$f":"IF(R8<>\"/\",VLOOKUP(R8,COSTS_Elixir_Collector[#All],3),\"/\")","v":1.6666666666666666E-2},{"$f":"IF(T$6=\"Error\",\"Error\",IF(S8<>\"/\",Q8*S8,0))","v":1050},{"$f":"IF(T$6=\"Error\",\"Error\",IF(T8<>\"/\",Q8*T8,0))","v":0.11666666666666667}]
[2,{"$f":"IF(Paramètres!B7=0,\"\",Paramètres!B7)","v":""},{"$f":"IF(C8<>0,C8+IF(AND(B8<>\"\",A8<E$6),B8,0),IF(AND(B8<>\"\",A8<E$6),B8,0))","v":0},null,null,7,{"$f":"IF(I$6=\"Error\",\"Error\",IF(AND($E$6<>\"/\",$E$6>'Paramètres - Admin'!$A3),'Paramètres - Admin'!$A4,\"/\"))","v":2},{"$f":"IF(G9<>\"/\",VLOOKUP(G9,COSTS_Gold_Mine[#All],2),\"/\")","v":300},{"$f":"IF(G9<>\"/\",VLOOKUP(G9,COSTS_Gold_Mine[#All],3),\"/\")","v":8.3333333333333329E-2},2100,0.58333333333333326,2,{"$f":"IF(Paramètres!C7=0,\"\",Paramètres!C7)","v":""},0,null,null,7,{"$f":"IF(T$6=\"Error\",\"Error\",IF(AND($P$6<>\"/\",$P$6>'Paramètres - Admin'!$A3),'Paramètres - Admin'!$A4,\"/\"))","v":2},{"$f":"IF(R9<>\"/\",VLOOKUP(R9,COSTS_Elixir_Collector[#All],2),\"/\")","v":300},{"$f":"IF(R9<>\"/\",VLOOKUP(R9,COSTS_Elixir_Collector[#All],3),\"/\")","v":8.3333333333333329E-2},2100,0.58333333333333326]
[3,{"$f":"IF(Paramètres!B8=0,\"\",Paramètres!B8)","v":""},0,null,null,7,{"$f":"IF(I$6=\"Error\",\"Error\",IF(AND($E$6<>\"/\",$E$6>'Paramètres - Admin'!$A4),'Paramètres - Admin'!$A5,\"/\"))","v":3},{"$f":"IF(G10<>\"/\",VLOOKUP(G10,COSTS_Gold_Mine[#All],2),\"/\")","v":700},{"$f":"IF(G10<>\"/\",VLOOKUP(G10,COSTS_Gold_Mine[#All],3),\"/\")","v":0.25},4900,1.75,3,{"$f":"IF(Paramètres!C8=0,\"\",Paramètres!C8)","v":""},0,null,null,7,{"$f":"IF(T$6=\"Error\",\"Error\",IF(AND($P$6<>\"/\",$P$6>'Paramètres - Admin'!$A4),'Paramètres - Admin'!$A5,\"/\"))","v":3},{"$f":"IF(R10<>\"/\",VLOOKUP(R10,COSTS_Elixir_Collector[#All],2),\"/\")","v":700},{"$f":"IF(R10<>\"/\",VLOOKUP(R10,COSTS_Elixir_Collector[#All],3),\"/\")","v":0.25},4900,1.75]
[4,{"$f":"IF(Paramètres!B9=0,\"\",Paramètres!B9)","v":""},0,null,null,7,{"$f":"IF(I$6=\"Error\",\"Error\",IF(AND($E$6<>\"/\",$E$6>'Paramètres - Admin'!$A5),'Paramètres - Admin'!$A6,\"/\"))","v":4},{"$f":"IF(G11<>\"/\",VLOOKUP(G11,COSTS_Gold_Mine[#All],2),\"/\")","v":1400},{"$f":"IF(G11<>\"/\",VLOOKUP(G11,COSTS_Gold_Mine[#All],3),\"/\")","v":1},9800,7,4,{"$f":"IF(Paramètres!C9=0,\"\",Paramètres!C9)","v":""},{"$f":"IF(N10<>0,N10+IF(AND(M10<>\"\",L10<P$6),M10,0),IF(AND(M10<>\"\",L10<P$6),M10,0))","v":0},null,null,7,{"$f":"IF(T$6=\"Error\",\"Error\",IF(AND($P$6<>\"/\",$P$6>'Paramètres - Admin'!$A5),'Paramètres - Admin'!$A6,\"/\"))","v":4},{"$f":"IF(R11<>\"/\",VLOOKUP(R11,COSTS_Elixir_Collector[#All],2),\"/\")","v":1400},{"$f":"IF(R11<>\"/\",VLOOKUP(R11,COSTS_Elixir_Collector[#All],3),\"/\")","v":1},9800,7]
[5,{"$f":"IF(Paramètres!B10=0,\"\",Paramètres!B10)","v":""},0,null,null,7,{"$f":"IF(I$6=\"Error\",\"Error\",IF(AND($E$6<>\"/\",$E$6>'Paramètres - Admin'!$A6),'Paramètres - Admin'!$A7,\"/\"))","v":5},{"$f":"IF(G12<>\"/\",VLOOKUP(G12,COSTS_Gold_Mine[#All],2),\"/\")","v":3000},{"$f":"IF(G12<>\"/\",VLOOKUP(G12,COSTS_Gold_Mine[#All],3),\"/\")","v":2},21000,14,5,{"$f":"IF(Paramètres!C10=0,\"\",Paramètres!C10)","v":""},0,null,null,7,{"$f":"IF(T$6=\"Error\",\"Error\",IF(AND($P$6<>\"/\",$P$6>'Paramètres - Admin'!$A6),'Paramètres - Admin'!$A7,\"/\"))","v":5},{"$f":"IF(R12<>\"/\",VLOOKUP(R12,COSTS_Elixir_Collector[#All],2),\"/\")","v":3000},{"$f":"IF(R12<>\"/\",VLOOKUP(R12,COSTS_Elixir_Collector[#All],3),\"/\")","v":2},21000,14]
[6,{"$f":"IF(Paramètres!B11=0,\"\",Paramètres!B11)","v":""},0,null,null,7,{"$f":"IF(I$6=\"Error\",\"Error\",IF(AND($E$6<>\"/\",$E$6>'Paramètres - Admin'!$A7),'Paramètres - Admin'!$A8,\"/\"))","v":6},{"$f":"IF(G13<>\"/\",VLOOKUP(G13,COSTS_Gold_Mine[#All],2),\"/\")","v":7000},{"$f":"IF(G13<>\"/\",VLOOKUP(G13,COSTS_Gold_Mine[#All],3),\"/\")","v":6},49000,42,6,{"$f":"IF(Paramètres!C11=0,\"\",Paramètres!C11)","v":""},0,null,null,7,{"$f":"IF(T$6=\"Error\",\"Error\",IF(AND($P$6<>\"/\",$P$6>'Paramètres - Admin'!$A7),'Paramètres - Admin'!$A8,\"/\"))","v":6},{"$f":"IF(R13<>\"/\",VLOOKUP(R13,COSTS_Elixir_Collector[#All],2),\"/\")","v":7000},{"$f":"IF(R13<>\"/\",VLOOKUP(R13,COSTS_Elixir_Collector[#All],3),\"/\")","v":6},49000,42]
[7,{"$f":"IF(Paramètres!B12=0,\"\",Paramètres!B12)","v":""},0,null,null,7,{"$f":"IF(I$6=\"Error\",\"Error\",IF(AND($E$6<>\"/\",$E$6>'Paramètres - Admin'!$A8),'Paramètres - Admin'!$A9,\"/\"))","v":7},{"$f":"IF(G14<>\"/\",VLOOKUP(G14,COSTS_Gold_Mine[#All],2),\"/\")","v":14000},{"$f":"IF(G14<>\"/\",VLOOKUP(G14,COSTS_Gold_Mine[#All],3),\"/\")","v":12},98000,84,7,{"$f":"IF(Paramètres!C12=0,\"\",Paramètres!C12)","v":""},0,null,null,7,{"$f":"IF(T$6=\"Error\",\"Error\",IF(AND($P$6<>\"/\",$P$6>'Paramètres - Admin'!$A8),'Paramètres - Admin'!$A9,\"/\"))","v":7},{"$f":"IF(R14<>\"/\",VLOOKUP(R14,COSTS_Elixir_Collector[#All],2),\"/\")","v":14000},{"$f":"IF(R14<>\"/\",VLOOKUP(R14,COSTS_Elixir_Collector[#All],3),\"/\")","v":12},98000,84]
[8,{"$f":"IF(Paramètres!B13=0,\"\",Paramètres!B13)","v":""},0,null,null,7,{"$f":"IF(I$6=\"Error\",\"Error\",IF(AND($E$6<>\"/\",$E$6>'Paramètres - Admin'!$A9),'Paramètres - Admin'!$A10,\"/\"))","v":8},{"$f":"IF(G15<>\"/\",VLOOKUP(G15,COSTS_Gold_Mine[#All],2),\"/\")","v":28000},{"$f":"IF(G15<>\"/\",VLOOKUP(G15,COSTS_Gold_Mine[#All],3),\"/\")","v":24},196000,168,8,{"$f":"IF(Paramètres!C13=0,\"\",Paramètres!C13)","v":""},{"$f":"IF(N14<>0,N14+IF(AND(M14<>\"\",L14<P$6),M14,0),IF(AND(M14<>\"\",L14<P$6),M14,0))","v":0},null,null,7,{"$f":"IF(T$6=\"Error\",\"Error\",IF(AND($P$6<>\"/\",$P$6>'Paramètres - Admin'!$A9),'Paramètres - Admin'!$A10,\"/\"))","v":8},{"$f":"IF(R15<>\"/\",VLOOKUP(R15,COSTS_Elixir_Collector[#All],2),\"/\")","v":28000},{"$f":"IF(R15<>\"/\",VLOOKUP(R15,COSTS_Elixir_Collector[#All],3),\"/\")","v":24},196000,168]
[9,{"$f":"IF(Paramètres!B14=0,\"\",Paramètres!B14)","v":""},0,null,null,7,{"$f":"IF(I$6=\"Error\",\"Error\",IF(AND($E$6<>\"/\",$E$6>'Paramètres - Admin'!$A10),'Paramètres - Admin'!$A11,\"/\"))","v":9},{"$f":"IF(G16<>\"/\",VLOOKUP(G16,COSTS_Gold_Mine[#All],2),\"/\")","v":56000},{"$f":"IF(G16<>\"/\",VLOOKUP(G16,COSTS_Gold_Mine[#All],3),\"/\")","v":48},392000,336,9,{"$f":"IF(Paramètres!C14=0,\"\",Paramètres!C14)","v":""},0,null,null,7,{"$f":"IF(T$6=\"Error\",\"Error\",IF(AND($P$6<>\"/\",$P$6>'Paramètres - Admin'!$A10),'Paramètres - Admin'!$A11,\"/\"))","v":9},{"$f":"IF(R16<>\"/\",VLOOKUP(R16,COSTS_Elixir_Collector[#All],2),\"/\")","v":56000},{"$f":"IF(R16<>\"/\",VLOOKUP(R16,COSTS_Elixir_Collector[#All],3),\"/\")","v":48},392000,336]
[10,{"$f":"IF(Paramètres!B15=0,\"\",Paramètres!B15)","v":""},{"$f":"IF(C16<>0,C16+IF(AND(B16<>\"\",A16<E$6),B16,0),IF(AND(B16<>\"\",A16<E$6),B16,0))","v":0},null,null,7,{"$f":"IF(I$6=\"Error\",\"Error\",IF(AND($E$6<>\"/\",$E$6>'Paramètres - Admin'!$A11),'Paramètres - Admin'!$A12,\"/\"))","v":10},{"$f":"IF(G17<>\"/\",VLOOKUP(G17,COSTS_Gold_Mine[#All],2),\"/\")","v":84000},{"$f":"IF(G17<>\"/\",VLOOKUP(G17,COSTS_Gold_Mine[#All],3),\"/\")","v":72},588000,504,10,{"$f":"IF(Paramètres!C15=0,\"\",Paramètres!C15)","v":""},0,null,null,7,{"$f":"IF(T$6=\"Error\",\"Error\",IF(AND($P$6<>\"/\",$P$6>'Paramètres - Admin'!$A11),'Paramètres - Admin'!$A12,\"/\"))","v":10},{"$f":"IF(R17<>\"/\",VLOOKUP(R17,COSTS_Elixir_Collector[#All],2),\"/\")","v":84000},{"$f":"IF(R17<>\"/\",VLOOKUP(R17,COSTS_Elixir_Collector[#All],3),\"/\")","v":72},588000,504]
[11,{"$f":"IF(Paramètres!B16=0,\"\",Paramètres!B16)","v":""},0,null,null,7,{"$f":"IF(I$6=\"Error\",\"Error\",IF(AND($E$6<>\"/\",$E$6>'Paramètres - Admin'!$A12),'Paramètres - Admin'!$A13,\"/\"))","v":11},{"$f":"IF(G18<>\"/\",VLOOKUP(G18,COSTS_Gold_Mine[#All],2),\"/\")","v":168000},{"$f":"IF(G18<>\"/\",VLOOKUP(G18,COSTS_Gold_Mine[#All],3),\"/\")","v":96},1176000,672,11,{"$f":"IF(Paramètres!C16=0,\"\",Paramètres!C16)","v":""},0,null,null,7,{"$f":"IF(T$6=\"Error\",\"Error\",IF(AND($P$6<>\"/\",$P$6>'Paramètres - Admin'!$A12),'Paramètres - Admin'!$A13,\"/\"))","v":11},{"$f":"IF(R18<>\"/\",VLOOKUP(R18,COSTS_Elixir_Collector[#All],2),\"/\")","v":168000},{"$f":"IF(R18<>\"/\",VLOOKUP(R18,COSTS_Elixir_Collector[#All],3),\"/\")","v":96},1176000,672]
[12,{"$f":"IF(Paramètres!B17=0,\"\",Paramètres!B17)","v":""},0,null,null,7,{"$f":"IF(I$6=\"Error\",\"Error\",IF(AND($E$6<>\"/\",$E$6>'Paramètres - Admin'!$A13),'Paramètres - Admin'!$A14,\"/\"))","v":12},{"$f":"IF(G19<>\"/\",VLOOKUP(G19,COSTS_Gold_Mine[#All],2),\"/\")","v":336000},{"$f":"IF(G19<>\"/\",VLOOKUP(G19,COSTS_Gold_Mine[#All],3),\"/\")","v":120},2352000,840,12,{"$f":"IF(Paramètres!C17=0,\"\",Paramètres!C17)","v":""},0,null,null,7,{"$f":"IF(T$6=\"Error\",\"Error\",IF(AND($P$6<>\"/\",$P$6>'Paramètres - Admin'!$A13),'Paramètres - Admin'!$A14,\"/\"))","v":12},{"$f":"IF(R19<>\"/\",VLOOKUP(R19,COSTS_Elixir_Collector[#All],2),\"/\")","v":336000},{"$f":"IF(R19<>\"/\",VLOOKUP(R19,COSTS_Elixir_Collector[#All],3),\"/\")","v":120},2352000,840]
[null,null,null,null,null,null,null,null,"Total",{"$f":"IF(I$6=\"Error\",\"Error\",SUM(J8:J19))","v":4889850},{"$f":"IF(I$6=\"Error\",\"Error\",SUM(K8:K19))","v":2669.45},null,null,null,null,null,null,null,null,"Total",{"$f":"IF(T$6=\"Error\",\"Error\",SUM(U8:U19))","v":4889850},{"$f":"IF(T$6=\"Error\",\"Error\",SUM(V8:V19))","v":2669.45}]
["Foreuse d'Élixir Noir",null,null,"Max","Max +",null,null,null,"Actuel","À Faire","Améliorations","Réservoir d'Élixir",null,null,"Max","Max +",null,null,null,"Actuel","","Améliorations"]
[null,null,null,{"$f":"VLOOKUP($A$2,AVAILABLE_Buildings_Resource[#All],MATCH(A21,AVAILABLE_Buildings_Resource[#Headers],0))","v":3},{"$f":"VLOOKUP($A$2,AVAILABLE_Buildings_Resource[#All],MATCH(A21,AVAILABLE_Buildings_Resource[#Headers],0)+1)","v":6},null,null,null,{"$f":"IF(SUM(B24:B29)>D22,\"Error\",SUM(B24:B29))","v":0},{"$f":"IF(I$22=\"Error\",\"Error\",D22-I22)","v":3},{"$f":"IF(I$22=\"Error\",\"Error\",SUM(F24:F29))","v":18},null,null,null,{"$f":"VLOOKUP($A$2,AVAILABLE_Buildings_Resource[#All],MATCH(L21,AVAILABLE_Buildings_Resource[#Headers],0))","v":4},{"$f":"VLOOKUP($A$2,AVAILABLE_Buildings_Resource[#All],MATCH(L21,AVAILABLE_Buildings_Resource[#Headers],0)+1)","v":11},null,null,null,{"$f":"IF(SUM(M24:M34)>O22,\"Error\",SUM(M24:M34))","v":0},{"$f":"IF(T$22=\"Error\",\"Error\",O22-T22)","v":4},{"$f":"IF(T$22=\"Error\",\"Error\",SUM(Q24:Q34))","v":44}]
["+","NB",null,null,null,"NB","+","Coût","Temps","Coût Total","Temps Total","+","NB",null,null,null,"NB","+","Coût","Temps","Coût Total","Temps Total"]
[1,{"$f":"IF(Paramètres!D6=0,\"\",Paramètres!D6)","v":""},{"$f":"IF(C23<>0,C23+IF(AND(B23<>\"\",A23<E$6),B23,0),IF(AND(B23<>\"\",A23<E$6),B23,0))","v":0},null,null,{"$f":"IF(G24<>\"/\",IF(I$22=\"Error\",\"Error\",$J$22+C24),\"/\")","v":3},{"$f":"IF(I$22=\"Error\",\"Error\",IF(AND($E$22<>\"/\",$E$22>'Paramètres - Admin'!$A2),'Paramètres - Admin'!$A3,\"/\"))","v":1},{"$f":"IF(G24<>\"/\",VLOOKUP(G24,COSTS_Dark_Elixir_Drill[#All],2),\"/\")","v":1000000},{"$f":"IF(G24<>\"/\",VLOOKUP(G24,COSTS_Dark_Elixir_Drill[#All],3),\"/\")","v":24},{"$f":"IF(I$22=\"Error\",\"Error\",IF(H24<>\"/\",F24*H24,0))","v":3000000},{"$f":"IF(I$22=\"Error\",\"Error\",IF(I24<>\"/\",F24*I24,0))","v":72},1,{"$f":"IF(Paramètres!F6=0,\"\",Paramètres!F6)","v":""},{"$f":"IF(N23<>0,N23+IF(AND(M23<>\"\",L23<P$6),M23,0),IF(AND(M23<>\"\",L23<P$6),M23,0))","v":0},null,null,{"$f":"IF(R24<>\"/\",IF(T$22=\"Error\",\"Error\",$U$22+N24),\"/\")","v":4},{"$f":"IF(T$22=\"Error\",\"Error\",IF(AND($P$22<>\"/\",$P$22>'Paramètres - Admin'!$A2),'Paramètres - Admin'!$A3,\"/\"))","v":1},{"$f":"IF(R24<>\"/\",VLOOKUP(R24,COSTS_Elixir_Storage[#All],2),\"/\")","v":300},{"$f":"IF(R24<>\"/\",VLOOKUP(R24,COSTS_Elixir_Storage[#All],3),\"/\")","v":0.25},{"$f":"IF(T$22=\"Error\",\"Error\",IF(S24<>\"/\",Q24*S24,0))","v":1200},{"$f":"IF(T$22=\"Error\",\"Error\",IF(T24<>\"/\",Q24*T24,0))","v":1}]
[2,{"$f":"IF(Paramètres!D7=0,\"\",Paramètres!D7)","v":""},0,null,null,3,{"$f":"IF(I$22=\"Error\",\"Error\",IF(AND($E$22<>\"/\",$E$22>'Paramètres - Admin'!$A3),'Paramètres - Admin'!$A4,\"/\"))","v":2},{"$f":"IF(G25<>\"/\",VLOOKUP(G25,COSTS_Dark_Elixir_Drill[#All],2),\"/\")","v":1500000},{"$f":"IF(G25<>\"/\",VLOOKUP(G25,COSTS_Dark_Elixir_Drill[#All],3),\"/\")","v":48},4500000,144,2,{"$f":"IF(Paramètres!F7=0,\"\",Paramètres!F7)","v":""},0,null,null,4,{"$f":"IF(T$22=\"Error\",\"Error\",IF(AND($P$22<>\"/\",$P$22>'Paramètres - Admin'!$A3),'Paramètres - Admin'!$A4,\"/\"))","v":2},{"$f":"IF(R25<>\"/\",VLOOKUP(R25,COSTS_Elixir_Storage[#All],2),\"/\")","v":750},{"$f":"IF(R25<>\"/\",VLOOKUP(R25,COSTS_Elixir_Storage[#All],3),\"/\")","v":0.5},3000,2]
[3,{"$f":"IF(Paramètres!D8=0,\"\",Paramètres!D8)","v":""},0,null,null,3,{"$f":"IF(I$22=\"Error\",\"Error\",IF(AND($E$22<>\"/\",$E$22>'Paramètres - Admin'!$A4),'Paramètres - Admin'!$A5,\"/\"))","v":3},{"$f":"IF(G26<>\"/\",VLOOKUP(G26,COSTS_Dark_Elixir_Drill[#All],2),\"/\")","v":2000000},{"$f":"IF(G26<>\"/\",VLOOKUP(G26,COSTS_Dark_Elixir_Drill[#All],3),\"/\")","v":72},6000000,216,3,{"$f":"IF(Paramètres!F8=0,\"\",Paramètres!F8)","v":""},0,null,null,4,{"$f":"IF(T$22=\"Error\",\"Error\",IF(AND($P$22<>\"/\",$P$22>'Paramètres - Admin'!$A4),'Paramètres - Admin'!$A5,\"/\"))","v":3},{"$f":"IF(R26<>\"/\",VLOOKUP(R26,COSTS_Elixir_Storage[#All],2),\"/\")","v":1500},{"$f":"IF(R26<>\"/\",VLOOKUP(R26,COSTS_Elixir_Storage[#All],3),\"/\")","v":1},6000,4]
[4,{"$f":"IF(Paramètres!D9=0,\"\",Paramètres!D9)","v":""},0,null,null,3,{"$f":"IF(I$22=\"Error\",\"Error\",IF(AND($E$22<>\"/\",$E$22>'Paramètres - Admin'!$A5),'Paramètres - Admin'!$A6,\"/\"))","v":4},{"$f":"IF(G27<>\"/\",VLOOKUP(G27,COSTS_Dark_Elixir_Drill[#All],2),\"/\")","v":3000000},{"$f":"IF(G27<>\"/\",VLOOKUP(G27,COSTS_Dark_Elixir_Drill[#All],3),\"/\")","v":96},9000000,288,4,{"$f":"IF(Paramètres!F9=0,\"\",Paramètres!F9)","v":""},0,null,null,4,{"$f":"IF(T$22=\"Error\",\"Error\",IF(AND($P$22<>\"/\",$P$22>'Paramètres - Admin'!$A5),'Paramètres - Admin'!$A6,\"/\"))","v":4},{"$f":"IF(R27<>\"/\",VLOOKUP(R27,COSTS_Elixir_Storage[#All],2),\"/\")","v":3000},{"$f":"IF(R27<>\"/\",VLOOKUP(R27,COSTS_Elixir_Storage[#All],3),\"/\")","v":2},12000,8]
[5,{"$f":"IF(Paramètres!D10=0,\"\",Paramètres!D10)","v":""},0,null,null,3,{"$f":"IF(I$22=\"Error\",\"Error\",IF(AND($E$22<>\"/\",$E$22>'Paramètres - Admin'!$A6),'Paramètres - Admin'!$A7,\"/\"))","v":5},{"$f":"IF(G28<>\"/\",VLOOKUP(G28,COSTS_Dark_Elixir_Drill[#All],2),\"/\")","v":4000000},{"$f":"IF(G28<>\"/\",VLOOKUP(G28,COSTS_Dark_Elixir_Drill[#All],3),\"/\")","v":144},12000000,432,5,{"$f":"IF(Paramètres!F10=0,\"\",Paramètres!F10)","v":""},0,null,null,4,{"$f":"IF(T$22=\"Error\",\"Error\",IF(AND($P$22<>\"/\",$P$22>'Paramètres - Admin'!$A6),'Paramètres - Admin'!$A7,\"/\"))","v":5},{"$f":"IF(R28<>\"/\",VLOOKUP(R28,COSTS_Elixir_Storage[#All],2),\"/\")","v":6000},{"$f":"IF(R28<>\"/\",VLOOKUP(R28,COSTS_Elixir_Storage[#All],3),\"/\")","v":3},24000,12]
[6,{"$f":"IF(Paramètres!D11=0,\"\",Paramètres!D11)","v":""},0,null,null,3,{"$f":"IF(I$22=\"Error\",\"Error\",IF(AND($E$22<>\"/\",$E$22>'Paramètres - Admin'!$A7),'Paramètres - Admin'!$A8,\"/\"))","v":6},{"$f":"IF(G29<>\"/\",VLOOKUP(G29,COSTS_Dark_Elixir_Drill[#All],2),\"/\")","v":5000000},{"$f":"IF(G29<>\"/\",VLOOKUP(G29,COSTS_Dark_Elixir_Drill[#All],3),\"/\")","v":192},15000000,576,6,{"$f":"IF(Paramètres!F11=0,\"\",Paramètres!F11)","v":""},0,null,null,4,{"$f":"IF(T$22=\"Error\",\"Error\",IF(AND($P$22<>\"/\",$P$22>'Paramètres - Admin'!$A7),'Paramètres - Admin'!$A8,\"/\"))","v":6},{"$f":"IF(R29<>\"/\",VLOOKUP(R29,COSTS_Elixir_Storage[#All],2),\"/\")","v":12000},{"$f":"IF(R29<>\"/\",VLOOKUP(R29,COSTS_Elixir_Storage[#All],3),\"/\")","v":4},48000,16]
[null,null,null,null,null,null,null,null,"Total",{"$f":"IF(I$22=\"Error\",\"Error\",SUM(J24:J29))","v":49500000},{"$f":"IF(I$22=\"Error\",\"Error\",SUM(K24:K29))","v":1728},7,{"$f":"IF(Paramètres!F12=0,\"\",Paramètres!F12)","v":""},0,null,null,4,{"$f":"IF(T$22=\"Error\",\"Error\",IF(AND($P$22<>\"/\",$P$22>'Paramètres - Admin'!$A8),'Paramètres - Admin'!$A9,\"/\"))","v":7},{"$f":"IF(R30<>\"/\",VLOOKUP(R30,COSTS_Elixir_Storage[#All],2),\"/\")","v":25000},{"$f":"IF(R30<>\"/\",VLOOKUP(R30,COSTS_Elixir_Storage[#All],3),\"/\")","v":6},100000,24]
["Réserve d'Or",null,null,"Max","Max +",null,null,null,"Actuel","À Faire","Améliorations",8,{"$f":"IF(Paramètres!F13=0,\"\",Paramètres!F13)","v":""},0,null,null,4,{"$f":"IF(T$22=\"Error\",\"Error\",IF(AND($P$22<>\"/\",$P$22>'Paramètres - Admin'!$A9),'Paramètres - Admin'!$A10,\"/\"))","v":8},{"$f":"IF(R31<>\"/\",VLOOKUP(R31,COSTS_Elixir_Storage[#All],2),\"/\")","v":50000},{"$f":"IF(R31<>\"/\",VLOOKUP(R31,COSTS_Elixir_Storage[#All],3),\"/\")","v":8},200000,32]
[null,null,null,{"$f":"VLOOKUP($A$2,AVAILABLE_Buildings_Resource[#All],MATCH(A31,AVAILABLE_Buildings_Resource[#Headers],0))","v":4},{"$f":"VLOOKUP($A$2,AVAILABLE_Buildings_Resource[#All],MATCH(A31,AVAILABLE_Buildings_Resource[#Headers],0)+1)","v":11},null,null,null,{"$f":"IF(SUM(B34:B44)>D32,\"Error\",SUM(B34:B44))","v":0},{"$f":"IF(I$32=\"Error\",\"Error\",D32-I32)","v":4},{"$f":"IF(I$32=\"Error\",\"Error\",SUM(F34:F44))","v":44},9,{"$f":"IF(Paramètres!F14=0,\"\",Paramètres!F14)","v":""},0,null,null,4,{"$f":"IF(T$22=\"Error\",\"Error\",IF(AND($P$22<>\"/\",$P$22>'Paramètres - Admin'!$A10),'Paramètres - Admin'!$A11,\"/\"))","v":9},{"$f":"IF(R32<>\"/\",VLOOKUP(R32,COSTS_Elixir_Storage[#All],2),\"/\")","v":100000},{"$f":"IF(R32<>\"/\",VLOOKUP(R32,COSTS_Elixir_Storage[#All],3),\"/\")","v":12},400000,48]
["+","NB",null,null,null,"NB","+","Coût","Temps","Coût Total","Temps Total",10,{"$f":"IF(Paramètres!F15=0,\"\",Paramètres!F15)","v":""},0,null,null,4,{"$f":"IF(T$22=\"Error\",\"Error\",IF(AND($P$22<>\"/\",$P$22>'Paramètres - Admin'!$A11),'Paramètres - Admin'!$A12,\"/\"))","v":10},{"$f":"IF(R33<>\"/\",VLOOKUP(R33,COSTS_Elixir_Storage[#All],2),\"/\")","v":250000},{"$f":"IF(R33<>\"/\",VLOOKUP(R33,COSTS_Elixir_Storage[#All],3),\"/\")","v":24},1000000,96]
[1,{"$f":"IF(Paramètres!E6=0,\"\",Paramètres!E6)","v":""},{"$f":"IF(C33<>0,C33+IF(AND(B33<>\"\",A33<E$6),B33,0),IF(AND(B33<>\"\",A33<E$6),B33,0))","v":0},null,null,{"$f":"IF(G34<>\"/\",IF(I$32=\"Error\",\"Error\",$J$32+C34),\"/\")","v":4},{"$f":"IF(I$32=\"Error\",\"Error\",IF(AND($E$32<>\"/\",$E$32>'Paramètres - Admin'!$A2),'Paramètres - Admin'!$A3,\"/\"))","v":1},{"$f":"IF(G34<>\"/\",VLOOKUP(G34,COSTS_Gold_Storage[#All],2),\"/\")","v":300},{"$f":"IF(G34<>\"/\",VLOOKUP(G34,COSTS_Gold_Storage[#All],3),\"/\")","v":0.25},{"$f":"IF(I$32=\"Error\",\"Error\",IF(H34<>\"/\",F34*H34,0))","v":1200},{"$f":"IF(I$32=\"Error\",\"Error\",IF(I34<>\"/\",F34*I34,0))","v":1},11,{"$f":"IF(Paramètres!F16=0,\"\",Paramètres!F16)","v":""},0,null,null,4,{"$f":"IF(T$22=\"Error\",\"Error\",IF(AND($P$22<>\"/\",$P$22>'Paramètres - Admin'!$A12),'Paramètres - Admin'!$A13,\"/\"))","v":11},{"$f":"IF(R34<>\"/\",VLOOKUP(R34,COSTS_Elixir_Storage[#All],2),\"/\")","v":500000},{"$f":"IF(R34<>\"/\",VLOOKUP(R34,COSTS_Elixir_Storage[#All],3),\"/\")","v":48},2000000,192]
[2,{"$f":"IF(Paramètres!E7=0,\"\",Paramètres!E7)","v":""},0,null,null,4,{"$f":"IF(I$32=\"Error\",\"Error\",IF(AND($E$32<>\"/\",$E$32>'Paramètres - Admin'!$A3),'Paramètres - Admin'!$A4,\"/\"))","v":2},{"$f":"IF(G35<>\"/\",VLOOKUP(G35,COSTS_Gold_Storage[#All],2),\"/\")","v":750},{"$f":"IF(G35<>\"/\",VLOOKUP(G35,COSTS_Gold_Storage[#All],3),\"/\")","v":0.5},3000,2,null,null,null,null,null,null,null,null,"Total",{"$f":"IF(T$6=\"Error\",\"Error\",SUM(U23:U34))","v":3794200},{"$f":"IF(T$22=\"Error\",\"Error\",SUM(V24:V34))","v":435}]
[3,{"$f":"IF(Paramètres!E8=0,\"\",Paramètres!E8)","v":""},0,null,null,4,{"$f":"IF(I$32=\"Error\",\"Error\",IF(AND($E$32<>\"/\",$E$32>'Paramètres - Admin'!$A4),'Paramètres - Admin'!$A5,\"/\"))","v":3},{"$f":"IF(G36<>\"/\",VLOOKUP(G36,COSTS_Gold_Storage[#All],2),\"/\")","v":1500},{"$f":"IF(G36<>\"/\",VLOOKUP(G36,COSTS_Gold_Storage[#All],3),\"/\")","v":1},6000,4]
[4,{"$f":"IF(Paramètres!E9=0,\"\",Paramètres!E9)","v":""},0,null,null,4,{"$f":"IF(I$32=\"Error\",\"Error\",IF(AND($E$32<>\"/\",$E$32>'Paramètres - Admin'!$A5),'Paramètres - Admin'!$A6,\"/\"))","v":4},{"$f":"IF(G37<>\"/\",VLOOKUP(G37,COSTS_Gold_Storage[#All],2),\"/\")","v":3000},{"$f":"IF(G37<>\"/\",VLOOKUP(G37,COSTS_Gold_Storage[#All],3),\"/\")","v":2},12000,8]
[5,{"$f":"IF(Paramètres!E10=0,\"\",Paramètres!E10)","v":""},0,null,null,4,{"$f":"IF(I$32=\"Error\",\"Error\",IF(AND($E$32<>\"/\",$E$32>'Paramètres - Admin'!$A6),'Paramètres - Admin'!$A7,\"/\"))","v":5},{"$f":"IF(G38<>\"/\",VLOOKUP(G38,COSTS_Gold_Storage[#All],2),\"/\")","v":6000},{"$f":"IF(G38<>\"/\",VLOOKUP(G38,COSTS_Gold_Storage[#All],3),\"/\")","v":3},24000,12]
[6,{"$f":"IF(Paramètres!E11=0,\"\",Paramètres!E11)","v":""},0,null,null,4,{"$f":"IF(I$32=\"Error\",\"Error\",IF(AND($E$32<>\"/\",$E$32>'Paramètres - Admin'!$A7),'Paramètres - Admin'!$A8,\"/\"))","v":6},{"$f":"IF(G39<>\"/\",VLOOKUP(G39,COSTS_Gold_Storage[#All],2),\"/\")","v":12000},{"$f":"IF(G39<>\"/\",VLOOKUP(G39,COSTS_Gold_Storage[#All],3),\"/\")","v":4},48000,16]
[7,{"$f":"IF(Paramètres!E12=0,\"\",Paramètres!E12)","v":""},0,null,null,4,{"$f":"IF(I$32=\"Error\",\"Error\",IF(AND($E$32<>\"/\",$E$32>'Paramètres - Admin'!$A8),'Paramètres - Admin'!$A9,\"/\"))","v":7},{"$f":"IF(G40<>\"/\",VLOOKUP(G40,COSTS_Gold_Storage[#All],2),\"/\")","v":25000},{"$f":"IF(G40<>\"/\",VLOOKUP(G40,COSTS_Gold_Storage[#All],3),\"/\")","v":6},100000,24]
[8,{"$f":"IF(Paramètres!E13=0,\"\",Paramètres!E13)","v":""},0,null,null,4,{"$f":"IF(I$32=\"Error\",\"Error\",IF(AND($E$32<>\"/\",$E$32>'Paramètres - Admin'!$A9),'Paramètres - Admin'!$A10,\"/\"))","v":8},{"$f":"IF(G41<>\"/\",VLOOKUP(G41,COSTS_Gold_Storage[#All],2),\"/\")","v":50000},{"$f":"IF(G41<>\"/\",VLOOKUP(G41,COSTS_Gold_Storage[#All],3),\"/\")","v":8},200000,32]
[9,{"$f":"IF(Paramètres!E14=0,\"\",Paramètres!E14)","v":""},0,null,null,4,{"$f":"IF(I$32=\"Error\",\"Error\",IF(AND($E$32<>\"/\",$E$32>'Paramètres - Admin'!$A10),'Paramètres - Admin'!$A11,\"/\"))","v":9},{"$f":"IF(G42<>\"/\",VLOOKUP(G42,COSTS_Gold_Storage[#All],2),\"/\")","v":100000},{"$f":"IF(G42<>\"/\",VLOOKUP(G42,COSTS_Gold_Storage[#All],3),\"/\")","v":12},400000,48]
[10,{"$f":"IF(Paramètres!E15=0,\"\",Paramètres!E15)","v":""},0,null,null,4,{"$f":"IF(I$32=\"Error\",\"Error\",IF(AND($E$32<>\"/\",$E$32>'Paramètres - Admin'!$A11),'Paramètres - Admin'!$A12,\"/\"))","v":10},{"$f":"IF(G43<>\"/\",VLOOKUP(G43,COSTS_Gold_Storage[#All],2),\"/\")","v":250000},{"$f":"IF(G43<>\"/\",VLOOKUP(G43,COSTS_Gold_Storage[#All],3),\"/\")","v":24},1000000,96]
[11,{"$f":"IF(Paramètres!E16=0,\"\",Paramètres!E16)","v":""},0,null,null,4,{"$f":"IF(I$32=\"Error\",\"Error\",IF(AND($E$32<>\"/\",$E$32>'Paramètres - Admin'!$A12),'Paramètres - Admin'!$A13,\"/\"))","v":11},{"$f":"IF(G44<>\"/\",VLOOKUP(G44,COSTS_Gold_Storage[#All],2),\"/\")","v":500000},{"$f":"IF(G44<>\"/\",VLOOKUP(G44,COSTS_Gold_Storage[#All],3),\"/\")","v":48},2000000,192]
[null,null,null,null,null,null,null,null,"Total",{"$f":"IF(I$32=\"Error\",\"Error\",SUM(J34:J44))","v":3794200},{"$f":"IF(I$32=\"Error\",\"Error\",SUM(K34:K44))","v":435}]
["Réservoir d'Élixir Noir",null,null,"Max","Max +",null,null,null,"Actuel","À Faire","Améliorations"]
[null,null,null,{"$f":"VLOOKUP($A$2,AVAILABLE_Buildings_Resource[#All],MATCH(A46,AVAILABLE_Buildings_Resource[#Headers],0))","v":1},{"$f":"VLOOKUP($A$2,AVAILABLE_Buildings_Resource[#All],MATCH(A46,AVAILABLE_Buildings_Resource[#Headers],0)+1)","v":6},null,null,null,{"$f":"IF(SUM(B49:B54)>D47,\"Error\",SUM(B49:B54))","v":0},{"$f":"IF(I$47=\"Error\",\"Error\",D47-I47)","v":1},{"$f":"IF(I$47=\"Error\",\"Error\",SUM(F49:F54))","v":6}]
["+","NB",null,null,null,"NB","+","Coût","Temps","Coût Total","Temps Total"]
[1,{"$f":"IF(Paramètres!G6=0,\"\",Paramètres!G6)","v":""},{"$f":"IF(C48<>0,C48+IF(AND(B48<>\"\",A48<E$6),B48,0),IF(AND(B48<>\"\",A48<E$6),B48,0))","v":0},null,null,{"$f":"IF(G49<>\"/\",IF(I$47=\"Error\",\"Error\",$J$47+C49),\"/\")","v":1},{"$f":"IF(I$47=\"Error\",\"Error\",IF(AND($E$47<>\"/\",$E$47>'Paramètres - Admin'!$A2),'Paramètres - Admin'!$A3,\"/\"))","v":1},{"$f":"IF(G49<>\"/\",VLOOKUP(G49,COSTS_Dark_Elixir_Storage[#All],2),\"/\")","v":600000},{"$f":"IF(G49<>\"/\",VLOOKUP(G49,COSTS_Dark_Elixir_Storage[#All],3),\"/\")","v":24},{"$f":"IF(I$47=\"Error\",\"Error\",IF(H49<>\"/\",F49*H49,0))","v":600000},{"$f":"IF(I$47=\"Error\",\"Error\",IF(I49<>\"/\",F49*I49,0))","v":24}]
[2,{"$f":"IF(Paramètres!G7=0,\"\",Paramètres!G7)","v":""},0,null,null,1,{"$f":"IF(I$47=\"Error\",\"Error\",IF(AND($E$47<>\"/\",$E$47>'Paramètres - Admin'!$A3),'Paramètres - Admin'!$A4,\"/\"))","v":2},{"$f":"IF(G50<>\"/\",VLOOKUP(G50,COSTS_Dark_Elixir_Storage[#All],2),\"/\")","v":1200000},{"$f":"IF(G50<>\"/\",VLOOKUP(G50,COSTS_Dark_Elixir_Storage[#All],3),\"/\")","v":48},1200000,48]
[3,{"$f":"IF(Paramètres!G8=0,\"\",Paramètres!G8)","v":""},0,null,null,1,{"$f":"IF(I$47=\"Error\",\"Error\",IF(AND($E$47<>\"/\",$E$47>'Paramètres - Admin'!$A4),'Paramètres - Admin'!$A5,\"/\"))","v":3},{"$f":"IF(G51<>\"/\",VLOOKUP(G51,COSTS_Dark_Elixir_Storage[#All],2),\"/\")","v":1800000},{"$f":"IF(G51<>\"/\",VLOOKUP(G51,COSTS_Dark_Elixir_Storage[#All],3),\"/\")","v":72},1800000,72]
[4,{"$f":"IF(Paramètres!G9=0,\"\",Paramètres!G9)","v":""},0,null,null,1,{"$f":"IF(I$47=\"Error\",\"Error\",IF(AND($E$47<>\"/\",$E$47>'Paramètres - Admin'!$A5),'Paramètres - Admin'!$A6,\"/\"))","v":4},{"$f":"IF(G52<>\"/\",VLOOKUP(G52,COSTS_Dark_Elixir_Storage[#All],2),\"/\")","v":2400000},{"$f":"IF(G52<>\"/\",VLOOKUP(G52,COSTS_Dark_Elixir_Storage[#All],3),\"/\")","v":96},2400000,96]
[5,{"$f":"IF(Paramètres!G10=0,\"\",Paramètres!G10)","v":""},0,null,null,1,{"$f":"IF(I$47=\"Error\",\"Error\",IF(AND($E$47<>\"/\",$E$47>'Paramètres - Admin'!$A6),'Paramètres - Admin'!$A7,\"/\"))","v":5},{"$f":"IF(G53<>\"/\",VLOOKUP(G53,COSTS_Dark_Elixir_Storage[#All],2),\"/\")","v":3000000},{"$f":"IF(G53<>\"/\",VLOOKUP(G53,COSTS_Dark_Elixir_Storage[#All],3),\"/\")","v":120},3000000,120]
[6,{"$f":"IF(Paramètres!G11=0,\"\",Paramètres!G11)","v":""},0,null,null,1,{"$f":"IF(I$47=\"Error\",\"Error\",IF(AND($E$47<>\"/\",$E$47>'Paramètres - Admin'!$A7),'Paramètres - Admin'!$A8,\"/\"))","v":6},{"$f":"IF(G54<>\"/\",VLOOKUP(G54,COSTS_Dark_Elixir_Storage[#All],2),\"/\")","v":3600000},{"$f":"IF(G54<>\"/\",VLOOKUP(G54,COSTS_Dark_Elixir_Storage[#All],3),\"/\")","v":144},3600000,144]
[null,null,null,null,null,null,null,null,"Total",{"$f":"IF(I$47=\"Error\",\"Error\",SUM(J49:J54))","v":12600000},{"$f":"IF(I$47=\"Error\",\"Error\",SUM(K49:K54))","v":504}]
[]
[]
["Bâtiments d'Armée"]
["Élixir"]
["Caserne",null,null,"Max","Max +",null,null,null,"Actuel","À Faire","Améliorations","Laboratoire",null,null,"Max","Max +",null,null,null,"Actuel","À Faire","Améliorations"]
[null,null,null,{"$f":"VLOOKUP($A$2,AVAILABLE_Buildings_Army[#All],MATCH(A60,AVAILABLE_Buildings_Army[#Headers],0))","v":4},{"$f":"VLOOKUP($A$2,AVAILABLE_Buildings_Army[#All],MATCH(A60,AVAILABLE_Buildings_Army[#Headers],0)+1)","v":10},null,null,null,{"$f":"IF(SUM(B63:B72)>D61,\"Error\",SUM(B63:B72))","v":0},{"$f":"IF(I$61=\"Error\",\"Error\",D61-I61)","v":4},{"$f":"IF(I$61=\"Error\",\"Error\",SUM(F63:F72))","v":40},null,null,null,{"$f":"VLOOKUP($A$2,AVAILABLE_Buildings_Army[#All],MATCH(L60,AVAILABLE_Buildings_Army[#Headers],0))","v":1},{"$f":"VLOOKUP($A$2,AVAILABLE_Buildings_Army[#All],MATCH(L60,AVAILABLE_Buildings_Army[#Headers],0)+1)","v":8},null,null,null,{"$f":"IF(SUM(M63:M70)>O61,\"Error\",SUM(M63:M70))","v":0},{"$f":"IF(T$61=\"Error\",\"Error\",O61-T61)","v":1},{"$f":"IF(T$61=\"Error\",\"Error\",SUM(Q63:Q70))","v":8}]
["+","NB",null,null,null,"NB","+","Coût","Temps","Coût Total","Temps Total","+","NB",null,null,null,"NB","+","Coût","Temps","Coût Total","Temps Total"]
[1,{"$f":"IF(Paramètres!H6=0,\"\",Paramètres!H6)","v":""},{"$f":"IF(C62<>0,C62+IF(AND(B62<>\"\",A62<E$6),B62,0),IF(AND(B62<>\"\",A62<E$6),B62,0))","v":0},null,null,{"$f":"IF(G63<>\"/\",IF(I$61=\"Error\",\"Error\",$J$61+C63),\"/\")","v":4},{"$f":"IF(I$61=\"Error\",\"Error\",IF(AND($E$61<>\"/\",$E$61>'Paramètres - Admin'!$A2),'Paramètres - Admin'!$A3,\"/\"))","v":1},{"$f":"IF(G63<>\"/\",VLOOKUP(G63,COSTS_Barrack[#All],2),\"/\")","v":200},{"$f":"IF(G63<>\"/\",VLOOKUP(G63,COSTS_Barrack[#All],3),\"/\")","v":0.02},{"$f":"IF(I$61=\"Error\",\"Error\",IF(H63<>\"/\",F63*H63,0))","v":800},{"$f":"IF(I$61=\"Error\",\"Error\",IF(I63<>\"/\",F63*I63,0))","v":0.08},1,{"$f":"IF(Paramètres!K6=0,\"\",Paramètres!K6)","v":""},{"$f":"IF(N62<>0,N62+IF(AND(M62<>\"\",L62<E$6),M62,0),IF(AND(M62<>\"\",L62<E$6),M62,0))","v":0},null,null,{"$f":"IF(R63<>\"/\",IF(T$61=\"Error\",\"Error\",$U$61+N63),\"/\")","v":1},{"$f":"IF(T$61=\"Error\",\"Error\",IF(AND($P$61<>\"/\",$P$61>'Paramètres - Admin'!$A2),'Paramètres - Admin'!$A3,\"/\"))","v":1},{"$f":"IF(R63<>\"/\",VLOOKUP(R63,COSTS_Laboratory[#All],2),\"/\")","v":25000},{"$f":"IF(R63<>\"/\",VLOOKUP(R63,COSTS_Laboratory[#All],3),\"/\")","v":0.5},{"$f":"IF(T$61=\"Error\",\"Error\",IF(S63<>\"/\",Q63*S63,0))","v":25000},{"$f":"IF(T$61=\"Error\",\"Error\",IF(T63<>\"/\",Q63*T63,0))","v":0.5}]
[2,{"$f":"IF(Paramètres!H7=0,\"\",Paramètres!H7)","v":""},0,null,null,4,{"$f":"IF(I$61=\"Error\",\"Error\",IF(AND($E$61<>\"/\",$E$61>'Paramètres - Admin'!$A3),'Paramètres - Admin'!$A4,\"/\"))","v":2},{"$f":"IF(G64<>\"/\",VLOOKUP(G64,COSTS_Barrack[#All],2),\"/\")","v":1000},{"$f":"IF(G64<>\"/\",VLOOKUP(G64,COSTS_Barrack[#All],3),\"/\")","v":0.25},4000,1,2,{"$f":"IF(Paramètres!K7=0,\"\",Paramètres!K7)","v":""},0,null,null,1,{"$f":"IF(T$61=\"Error\",\"Error\",IF(AND($P$61<>\"/\",$P$61>'Paramètres - Admin'!$A3),'Paramètres - Admin'!$A4,\"/\"))","v":2},{"$f":"IF(R64<>\"/\",VLOOKUP(R64,COSTS_Laboratory[#All],2),\"/\")","v":50000},{"$f":"IF(R64<>\"/\",VLOOKUP(R64,COSTS_Laboratory[#All],3),\"/\")","v":5},50000,5]
[3,{"$f":"IF(Paramètres!H8=0,\"\",Paramètres!H8)","v":""},0,null,null,4,{"$f":"IF(I$61=\"Error\",\"Error\",IF(AND($E$61<>\"/\",$E$61>'Paramètres - Admin'!$A4),'Paramètres - Admin'!$A5,\"/\"))","v":3},{"$f":"IF(G65<>\"/\",VLOOKUP(G65,COSTS_Barrack[#All],2),\"/\")","v":2500},{"$f":"IF(G65<>\"/\",VLOOKUP(G65,COSTS_Barrack[#All],3),\"/\")","v":2},10000,8,3,{"$f":"IF(Paramètres!K8=0,\"\",Paramètres!K8)","v":""},0,null,null,1,{"$f":"IF(T$61=\"Error\",\"Error\",IF(AND($P$61<>\"/\",$P$61>'Paramètres - Admin'!$A4),'Paramètres - Admin'!$A5,\"/\"))","v":3},{"$f":"IF(R65<>\"/\",VLOOKUP(R65,COSTS_Laboratory[#All],2),\"/\")","v":90000},{"$f":"IF(R65<>\"/\",VLOOKUP(R65,COSTS_Laboratory[#All],3),\"/\")","v":12},90000,12]
[4,{"$f":"IF(Paramètres!H9=0,\"\",Paramètres!H9)","v":""},0,null,null,4,{"$f":"IF(I$61=\"Error\",\"Error\",IF(AND($E$61<>\"/\",$E$61>'Paramètres - Admin'!$A5),'Paramètres - Admin'!$A6,\"/\"))","v":4},{"$f":"IF(G66<>\"/\",VLOOKUP(G66,COSTS_Barrack[#All],2),\"/\")","v":5000},{"$f":"IF(G66<>\"/\",VLOOKUP(G66,COSTS_Barrack[#All],3),\"/\")","v":4},20000,16,4,{"$f":"IF(Paramètres!K9=0,\"\",Paramètres!K9)","v":""},0,null,null,1,{"$f":"IF(T$61=\"Error\",\"Error\",IF(AND($P$61<>\"/\",$P$61>'Paramètres - Admin'!$A5),'Paramètres - Admin'!$A6,\"/\"))","v":4},{"$f":"IF(R66<>\"/\",VLOOKUP(R66,COSTS_Laboratory[#All],2),\"/\")","v":270000},{"$f":"IF(R66<>\"/\",VLOOKUP(R66,COSTS_Laboratory[#All],3),\"/\")","v":24},270000,24]
[5,{"$f":"IF(Paramètres!H10=0,\"\",Paramètres!H10)","v":""},0,null,null,4,{"$f":"IF(I$61=\"Error\",\"Error\",IF(AND($E$61<>\"/\",$E$61>'Paramètres - Admin'!$A6),'Paramètres - Admin'!$A7,\"/\"))","v":5},{"$f":"IF(G67<>\"/\",VLOOKUP(G67,COSTS_Barrack[#All],2),\"/\")","v":10000},{"$f":"IF(G67<>\"/\",VLOOKUP(G67,COSTS_Barrack[#All],3),\"/\")","v":10},40000,40,5,{"$f":"IF(Paramètres!K10=0,\"\",Paramètres!K10)","v":""},0,null,null,1,{"$f":"IF(T$61=\"Error\",\"Error\",IF(AND($P$61<>\"/\",$P$61>'Paramètres - Admin'!$A6),'Paramètres - Admin'!$A7,\"/\"))","v":5},{"$f":"IF(R67<>\"/\",VLOOKUP(R67,COSTS_Laboratory[#All],2),\"/\")","v":500000},{"$f":"IF(R67<>\"/\",VLOOKUP(R67,COSTS_Laboratory[#All],3),\"/\")","v":48},500000,48]
[6,{"$f":"IF(Paramètres!H11=0,\"\",Paramètres!H11)","v":""},0,null,null,4,{"$f":"IF(I$61=\"Error\",\"Error\",IF(AND($E$61<>\"/\",$E$61>'Paramètres - Admin'!$A7),'Paramètres - Admin'!$A8,\"/\"))","v":6},{"$f":"IF(G68<>\"/\",VLOOKUP(G68,COSTS_Barrack[#All],2),\"/\")","v":80000},{"$f":"IF(G68<>\"/\",VLOOKUP(G68,COSTS_Barrack[#All],3),\"/\")","v":16},320000,64,6,{"$f":"IF(Paramètres!K11=0,\"\",Paramètres!K11)","v":""},0,null,null,1,{"$f":"IF(T$61=\"Error\",\"Error\",IF(AND($P$61<>\"/\",$P$61>'Paramètres - Admin'!$A7),'Paramètres - Admin'!$A8,\"/\"))","v":6},{"$f":"IF(R68<>\"/\",VLOOKUP(R68,COSTS_Laboratory[#All],2),\"/\")","v":1000000},{"$f":"IF(R68<>\"/\",VLOOKUP(R68,COSTS_Laboratory[#All],3),\"/\")","v":96},1000000,96]
[7,{"$f":"IF(Paramètres!H12=0,\"\",Paramètres!H12)","v":""},0,null,null,4,{"$f":"IF(I$61=\"Error\",\"Error\",IF(AND($E$61<>\"/\",$E$61>'Paramètres - Admin'!$A8),'Paramètres - Admin'!$A9,\"/\"))","v":7},{"$f":"IF(G69<>\"/\",VLOOKUP(G69,COSTS_Barrack[#All],2),\"/\")","v":240000},{"$f":"IF(G69<>\"/\",VLOOKUP(G69,COSTS_Barrack[#All],3),\"/\")","v":24},960000,96,7,{"$f":"IF(Paramètres!K12=0,\"\",Paramètres!K12)","v":""},0,null,null,1,{"$f":"IF(T$61=\"Error\",\"Error\",IF(AND($P$61<>\"/\",$P$61>'Paramètres - Admin'!$A8),'Paramètres - Admin'!$A9,\"/\"))","v":7},{"$f":"IF(R69<>\"/\",VLOOKUP(R69,COSTS_Laboratory[#All],2),\"/\")","v":2500000},{"$f":"IF(R69<>\"/\",VLOOKUP(R69,COSTS_Laboratory[#All],3),\"/\")","v":120},2500000,120]
[8,{"$f":"IF(Paramètres!H13=0,\"\",Paramètres!H13)","v":""},0,null,null,4,{"$f":"IF(I$61=\"Error\",\"Error\",IF(AND($E$61<>\"/\",$E$61>'Paramètres - Admin'!$A9),'Paramètres - Admin'!$A10,\"/\"))","v":8},{"$f":"IF(G70<>\"/\",VLOOKUP(G70,COSTS_Barrack[#All],2),\"/\")","v":700000},{"$f":"IF(G70<>\"/\",VLOOKUP(G70,COSTS_Barrack[#All],3),\"/\")","v":48},2800000,192,8,{"$f":"IF(Paramètres!K13=0,\"\",Paramètres!K13)","v":""},0,null,null,1,{"$f":"IF(T$61=\"Error\",\"Error\",IF(AND($P$61<>\"/\",$P$61>'Paramètres - Admin'!$A9),'Paramètres - Admin'!$A10,\"/\"))","v":8},{"$f":"IF(R70<>\"/\",VLOOKUP(R70,COSTS_Laboratory[#All],2),\"/\")","v":4000000},{"$f":"IF(R70<>\"/\",VLOOKUP(R70,COSTS_Laboratory[#All],3),\"/\")","v":144},4000000,144]
[9,{"$f":"IF(Paramètres!H14=0,\"\",Paramètres!H14)","v":""},0,null,null,4,{"$f":"IF(I$61=\"Error\",\"Error\",IF(AND($E$61<>\"/\",$E$61>'Paramètres - Admin'!$A10),'Paramètres - Admin'!$A11,\"/\"))","v":9},{"$f":"IF(G71<>\"/\",VLOOKUP(G71,COSTS_Barrack[#All],2),\"/\")","v":1500000},{"$f":"IF(G71<>\"/\",VLOOKUP(G71,COSTS_Barrack[#All],3),\"/\")","v":96},6000000,384,null,null,null,null,null,null,null,null,"Total",{"$f":"IF(T$61=\"Error\",\"Error\",SUM(U63:U70))","v":8435000},{"$f":"IF(T$61=\"Error\",\"Error\",SUM(V63:V70))","v":449.5}]
[10,{"$f":"IF(Paramètres!H15=0,\"\",Paramètres!H15)","v":""},0,null,null,4,{"$f":"IF(I$61=\"Error\",\"Error\",IF(AND($E$61<>\"/\",$E$61>'Paramètres - Admin'!$A11),'Paramètres - Admin'!$A12,\"/\"))","v":10},{"$f":"IF(G72<>\"/\",VLOOKUP(G72,COSTS_Barrack[#All],2),\"/\")","v":2000000},{"$f":"IF(G72<>\"/\",VLOOKUP(G72,COSTS_Barrack[#All],3),\"/\")","v":144},8000000,576,"Usine de Sorts",null,null,"Max","Max +",null,null,null,"Actuel","À Faire","Améliorations"]
[null,null,null,null,null,null,null,null,"Total",{"$f":"IF(I$61=\"Error\",\"Error\",SUM(J63:J72))","v":18154800},{"$f":"IF(I$61=\"Error\",\"Error\",SUM(K63:K72))","v":1377.08},null,null,null,{"$f":"VLOOKUP($A$2,AVAILABLE_Buildings_Army[#All],MATCH(L72,AVAILABLE_Buildings_Army[#Headers],0))","v":1},{"$f":"VLOOKUP($A$2,AVAILABLE_Buildings_Army[#All],MATCH(L72,AVAILABLE_Buildings_Army[#Headers],0)+1)","v":5},null,null,null,{"$f":"IF(SUM(M75:M79)>O73,\"Error\",SUM(M75:M79))","v":0},{"$f":"IF(T$73=\"Error\",\"Error\",O73-T73)","v":1},{"$f":"IF(T$73=\"Error\",\"Error\",SUM(Q75:Q79))","v":5}]
["Caserne Noire",null,null,"Max","Max +",null,null,null,"Actuel","À Faire","Améliorations","+","NB",null,null,null,"NB","+","Coût","Temps","Coût Total","Temps Total"]
[null,null,null,{"$f":"VLOOKUP($A$2,AVAILABLE_Buildings_Army[#All],MATCH(A74,AVAILABLE_Buildings_Army[#Headers],0))","v":2},{"$f":"VLOOKUP($A$2,AVAILABLE_Buildings_Army[#All],MATCH(A74,AVAILABLE_Buildings_Army[#Headers],0)+1)","v":6},null,null,null,{"$f":"IF(SUM(B77:B81)>D75,\"Error\",SUM(B77:B81))","v":0},{"$f":"IF(I$75=\"Error\",\"Error\",D75-I75)","v":2},{"$f":"IF(I$75=\"Error\",\"Error\",SUM(F77:F81))","v":10},1,{"$f":"IF(Paramètres!L6=0,\"\",Paramètres!L6)","v":""},{"$f":"IF(N74<>0,N74+IF(AND(M74<>\"\",L74<E$6),M74,0),IF(AND(M74<>\"\",L74<E$6),M74,0))","v":0},null,null,{"$f":"IF(R75<>\"/\",IF(T$73=\"Error\",\"Error\",$U$73+N75),\"/\")","v":1},{"$f":"IF(T$73=\"Error\",\"Error\",IF(AND($P$73<>\"/\",$P$73>'Paramètres - Admin'!$A2),'Paramètres - Admin'!$A3,\"/\"))","v":1},{"$f":"IF(R75<>\"/\",VLOOKUP(R75,COSTS_Spell_Factory[#All],2),\"/\")","v":200000},{"$f":"IF(R75<>\"/\",VLOOKUP(R75,COSTS_Spell_Factory[#All],3),\"/\")","v":24},{"$f":"IF(T$73=\"Error\",\"Error\",IF(S75<>\"/\",Q75*S75,0))","v":200000},{"$f":"IF(T$73=\"Error\",\"Error\",IF(T75<>\"/\",Q75*T75,0))","v":24}]
["+","NB",null,null,null,"NB","+","Coût","Temps","Coût Total","Temps Total",2,{"$f":"IF(Paramètres!L7=0,\"\",Paramètres!L7)","v":""},{"$f":"IF(N75<>0,N75+IF(AND(M75<>\"\",L75<E$6),M75,0),IF(AND(M75<>\"\",L75<E$6),M75,0))","v":0},null,null,{"$f":"IF(R76<>\"/\",IF(T$73=\"Error\",\"Error\",$U$73+N76),\"/\")","v":1},{"$f":"IF(T$73=\"Error\",\"Error\",IF(AND($P$73<>\"/\",$P$73>'Paramètres - Admin'!$A3),'Paramètres - Admin'!$A4,\"/\"))","v":2},{"$f":"IF(R76<>\"/\",VLOOKUP(R76,COSTS_Spell_Factory[#All],2),\"/\")","v":400000},{"$f":"IF(R76<>\"/\",VLOOKUP(R76,COSTS_Spell_Factory[#All],3),\"/\")","v":48},{"$f":"IF(T$73=\"Error\",\"Error\",IF(S76<>\"/\",Q76*S76,0))","v":400000},{"$f":"IF(T$73=\"Error\",\"Error\",IF(T76<>\"/\",Q76*T76,0))","v":48}]
[1,{"$f":"IF(Paramètres!I6=0,\"\",Paramètres!I6)","v":""},{"$f":"IF(C76<>0,C76+IF(AND(B76<>\"\",A76<E$6),B76,0),IF(AND(B76<>\"\",A76<E$6),B76,0))","v":0},null,null,{"$f":"IF(G77<>\"/\",IF(I$75=\"Error\",\"Error\",$J$75+C77),\"/\")","v":2},{"$f":"IF(I$75=\"Error\",\"Error\",IF(AND($E$75<>\"/\",$E$75>'Paramètres - Admin'!$A2),'Paramètres - Admin'!$A3,\"/\"))","v":1},{"$f":"IF(G77<>\"/\",VLOOKUP(G77,COSTS_Dark_Barrack[#All],2),\"/\")","v":750000},{"$f":"IF(G77<>\"/\",VLOOKUP(G77,COSTS_Dark_Barrack[#All],3),\"/\")","v":72},{"$f":"IF(I$75=\"Error\",\"Error\",IF(H77<>\"/\",F77*H77,0))","v":1500000},{"$f":"IF(I$75=\"Error\",\"Error\",IF(I77<>\"/\",F77*I77,0))","v":144},3,{"$f":"IF(Paramètres!L8=0,\"\",Paramètres!L8)","v":""},{"$f":"IF(N76<>0,N76+IF(AND(M76<>\"\",L76<E$6),M76,0),IF(AND(M76<>\"\",L76<E$6),M76,0))","v":0},null,null,{"$f":"IF(R77<>\"/\",IF(T$73=\"Error\",\"Error\",$U$73+N77),\"/\")","v":1},{"$f":"IF(T$73=\"Error\",\"Error\",IF(AND($P$73<>\"/\",$P$73>'Paramètres - Admin'!$A4),'Paramètres - Admin'!$A5,\"/\"))","v":3},{"$f":"IF(R77<>\"/\",VLOOKUP(R77,COSTS_Spell_Factory[#All],2),\"/\")","v":800000},{"$f":"IF(R77<>\"/\",VLOOKUP(R77,COSTS_Spell_Factory[#All],3),\"/\")","v":96},{"$f":"IF(T$73=\"Error\",\"Error\",IF(S77<>\"/\",Q77*S77,0))","v":800000},{"$f":"IF(T$73=\"Error\",\"Error\",IF(T77<>\"/\",Q77*T77,0))","v":96}]
[2,{"$f":"IF(Paramètres!I7=0,\"\",Paramètres!I7)","v":""},{"$f":"IF(C77<>0,C77+IF(AND(B77<>\"\",A77<E$6),B77,0),IF(AND(B77<>\"\",A77<E$6),B77,0))","v":0},null,null,{"$f":"IF(G78<>\"/\",IF(I$75=\"Error\",\"Error\",$J$75+C78),\"/\")","v":2},{"$f":"IF(I$75=\"Error\",\"Error\",IF(AND($E$75<>\"/\",$E$75>'Paramètres - Admin'!$A3),'Paramètres - Admin'!$A4,\"/\"))","v":2},{"$f":"IF(G78<>\"/\",VLOOKUP(G78,COSTS_Dark_Barrack[#All],2),\"/\")","v":1250000},{"$f":"IF(G78<>\"/\",VLOOKUP(G78,COSTS_Dark_Barrack[#All],3),\"/\")","v":120},{"$f":"IF(I$75=\"Error\",\"Error\",IF(H78<>\"/\",F78*H78,0))","v":2500000},{"$f":"IF(I$75=\"Error\",\"Error\",IF(I78<>\"/\",F78*I78,0))","v":240},4,{"$f":"IF(Paramètres!L9=0,\"\",Paramètres!L9)","v":""},{"$f":"IF(N77<>0,N77+IF(AND(M77<>\"\",L77<E$6),M77,0),IF(AND(M77<>\"\",L77<E$6),M77,0))","v":0},null,null,{"$f":"IF(R78<>\"/\",IF(T$73=\"Error\",\"Error\",$U$73+N78),\"/\")","v":1},{"$f":"IF(T$73=\"Error\",\"Error\",IF(AND($P$73<>\"/\",$P$73>'Paramètres - Admin'!$A5),'Paramètres - Admin'!$A6,\"/\"))","v":4},{"$f":"IF(R78<>\"/\",VLOOKUP(R78,COSTS_Spell_Factory[#All],2),\"/\")","v":1600000},{"$f":"IF(R78<>\"/\",VLOOKUP(R78,COSTS_Spell_Factory[#All],3),\"/\")","v":120},{"$f":"IF(T$73=\"Error\",\"Error\",IF(S78<>\"/\",Q78*S78,0))","v":1600000},{"$f":"IF(T$73=\"Error\",\"Error\",IF(T78<>\"/\",Q78*T78,0))","v":120}]
[3,{"$f":"IF(Paramètres!I8=0,\"\",Paramètres!I8)","v":""},{"$f":"IF(C78<>0,C78+IF(AND(B78<>\"\",A78<E$6),B78,0),IF(AND(B78<>\"\",A78<E$6),B78,0))","v":0},null,null,{"$f":"IF(G79<>\"/\",IF(I$75=\"Error\",\"Error\",$J$75+C79),\"/\")","v":2},{"$f":"IF(I$75=\"Error\",\"Error\",IF(AND($E$75<>\"/\",$E$75>'Paramètres - Admin'!$A4),'Paramètres - Admin'!$A5,\"/\"))","v":3},{"$f":"IF(G79<>\"/\",VLOOKUP(G79,COSTS_Dark_Barrack[#All],2),\"/\")","v":1750000},{"$f":"IF(G79<>\"/\",VLOOKUP(G79,COSTS_Dark_Barrack[#All],3),\"/\")","v":144},{"$f":"IF(I$75=\"Error\",\"Error\",IF(H79<>\"/\",F79*H79,0))","v":3500000},{"$f":"IF(I$75=\"Error\",\"Error\",IF(I79<>\"/\",F79*I79,0))","v":288},5,{"$f":"IF(Paramètres!L10=0,\"\",Paramètres!L10)","v":""},{"$f":"IF(N78<>0,N78+IF(AND(M78<>\"\",L78<E$6),M78,0),IF(AND(M78<>\"\",L78<E$6),M78,0))","v":0},null,null,{"$f":"IF(R79<>\"/\",IF(T$73=\"Error\",\"Error\",$U$73+N79),\"/\")","v":1},{"$f":"IF(T$73=\"Error\",\"Error\",IF(AND($P$73<>\"/\",$P$73>'Paramètres - Admin'!$A6),'Paramètres - Admin'!$A7,\"/\"))","v":5},{"$f":"IF(R79<>\"/\",VLOOKUP(R79,COSTS_Spell_Factory[#All],2),\"/\")","v":3200000},{"$f":"IF(R79<>\"/\",VLOOKUP(R79,COSTS_Spell_Factory[#All],3),\"/\")","v":144},{"$f":"IF(T$73=\"Error\",\"Error\",IF(S79<>\"/\",Q79*S79,0))","v":3200000},{"$f":"IF(T$73=\"Error\",\"Error\",IF(T79<>\"/\",Q79*T79,0))","v":144}]
[4,{"$f":"IF(Paramètres!I9=0,\"\",Paramètres!I9)","v":""},{"$f":"IF(C79<>0,C79+IF(AND(B79<>\"\",A79<E$6),B79,0),IF(AND(B79<>\"\",A79<E$6),B79,0))","v":0},null,null,{"$f":"IF(G80<>\"/\",IF(I$75=\"Error\",\"Error\",$J$75+C80),\"/\")","v":2},{"$f":"IF(I$75=\"Error\",\"Error\",IF(AND($E$75<>\"/\",$E$75>'Paramètres - Admin'!$A5),'Paramètres - Admin'!$A6,\"/\"))","v":4},{"$f":"IF(G80<>\"/\",VLOOKUP(G80,COSTS_Dark_Barrack[#All],2),\"/\")","v":2250000},{"$f":"IF(G80<>\"/\",VLOOKUP(G80,COSTS_Dark_Barrack[#All],3),\"/\")","v":168},{"$f":"IF(I$75=\"Error\",\"Error\",IF(H80<>\"/\",F80*H80,0))","v":4500000},{"$f":"IF(I$75=\"Error\",\"Error\",IF(I80<>\"/\",F80*I80,0))","v":336},null,null,null,null,null,null,null,null,"Total",{"$f":"IF(T$73=\"Error\",\"Error\",SUM(U75:U79))","v":6200000},{"$f":"IF(T$73=\"Error\",\"Error\",SUM(V75:V79))","v":432}]
[5,{"$f":"IF(Paramètres!I10=0,\"\",Paramètres!I10)","v":""},{"$f":"IF(C80<>0,C80+IF(AND(B80<>\"\",A80<E$6),B80,0),IF(AND(B80<>\"\",A80<E$6),B80,0))","v":0},null,null,{"$f":"IF(G81<>\"/\",IF(I$75=\"Error\",\"Error\",$J$75+C81),\"/\")","v":2},{"$f":"IF(I$75=\"Error\",\"Error\",IF(AND($E$75<>\"/\",$E$75>'Paramètres - Admin'!$A6),'Paramètres - Admin'!$A7,\"/\"))","v":5},{"$f":"IF(G81<>\"/\",VLOOKUP(G81,COSTS_Dark_Barrack[#All],2),\"/\")","v":2750000},{"$f":"IF(G81<>\"/\",VLOOKUP(G81,COSTS_Dark_Barrack[#All],3),\"/\")","v":192},{"$f":"IF(I$75=\"Error\",\"Error\",IF(H81<>\"/\",F81*H81,0))","v":5500000},{"$f":"IF(I$75=\"Error\",\"Error\",IF(I81<>\"/\",F81*I81,0))","v":384}]
[null,null,null,null,null,null,null,null,"Total",{"$f":"IF(I$75=\"Error\",\"Error\",SUM(J77:J81))","v":17500000},{"$f":"IF(I$75=\"Error\",\"Error\",SUM(K77:K81))","v":1392}]
["Camp Militaire",null,null,"Max","Max +",null,null,null,"Actuel","À Faire","Améliorations"]
[null,null,null,{"$f":"VLOOKUP($A$2,AVAILABLE_Buildings_Army[#All],MATCH(A83,AVAILABLE_Buildings_Army[#Headers],0))","v":4},{"$f":"VLOOKUP($A$2,AVAILABLE_Buildings_Army[#All],MATCH(A83,AVAILABLE_Buildings_Army[#Headers],0)+1)","v":8},null,null,null,{"$f":"IF(SUM(B86:B93)>D84,\"Error\",SUM(B86:B93))","v":0},{"$f":"IF(I$84=\"Error\",\"Error\",D84-I84)","v":4},{"$f":"IF(I$84=\"Error\",\"Error\",SUM(F86:F93))","v":32}]
["+","NB",null,null,null,"NB","+","Coût","Temps","Coût Total","Temps Total"]
[1,{"$f":"IF(Paramètres!J6=0,\"\",Paramètres!J6)","v":""},{"$f":"IF(C85<>0,C85+IF(AND(B85<>\"\",A85<E$6),B85,0),IF(AND(B85<>\"\",A85<E$6),B85,0))","v":0},null,null,{"$f":"IF(G86<>\"/\",IF(I$84=\"Error\",\"Error\",$J$84+C86),\"/\")","v":4},{"$f":"IF(I$84=\"Error\",\"Error\",IF(AND($E$84<>\"/\",$E$84>'Paramètres - Admin'!$A2),'Paramètres - Admin'!$A3,\"/\"))","v":1},{"$f":"IF(G86<>\"/\",VLOOKUP(G86,COSTS_Army_Camp[#All],2),\"/\")","v":250},{"$f":"IF(G86<>\"/\",VLOOKUP(G86,COSTS_Army_Camp[#All],3),\"/\")","v":8.3333333333333329E-2},{"$f":"IF(I$84=\"Error\",\"Error\",IF(H86<>\"/\",F86*H86,0))","v":1000},{"$f":"IF(I$84=\"Error\",\"Error\",IF(I86<>\"/\",F86*I86,0))","v":0.33333333333333331}]
[2,{"$f":"IF(Paramètres!J7=0,\"\",Paramètres!J7)","v":""},{"$f":"IF(C86<>0,C86+IF(AND(B86<>\"\",A86<E$6),B86,0),IF(AND(B86<>\"\",A86<E$6),B86,0))","v":0},null,null,{"$f":"IF(G87<>\"/\",IF(I$84=\"Error\",\"Error\",$J$84+C87),\"/\")","v":4},{"$f":"IF(I$84=\"Error\",\"Error\",IF(AND($E$84<>\"/\",$E$84>'Paramètres - Admin'!$A3),'Paramètres - Admin'!$A4,\"/\"))","v":2},{"$f":"IF(G87<>\"/\",VLOOKUP(G87,COSTS_Army_Camp[#All],2),\"/\")","v":2500},{"$f":"IF(G87<>\"/\",VLOOKUP(G87,COSTS_Army_Camp[#All],3),\"/\")","v":1},{"$f":"IF(I$84=\"Error\",\"Error\",IF(H87<>\"/\",F87*H87,0))","v":10000},{"$f":"IF(I$84=\"Error\",\"Error\",IF(I87<>\"/\",F87*I87,0))","v":4}]
[3,{"$f":"IF(Paramètres!J8=0,\"\",Paramètres!J8)","v":""},0,null,null,{"$f":"IF(G88<>\"/\",IF(I$84=\"Error\",\"Error\",$J$84+C88),\"/\")","v":4},{"$f":"IF(I$84=\"Error\",\"Error\",IF(AND($E$84<>\"/\",$E$84>'Paramètres - Admin'!$A4),'Paramètres - Admin'!$A5,\"/\"))","v":3},{"$f":"IF(G88<>\"/\",VLOOKUP(G88,COSTS_Army_Camp[#All],2),\"/\")","v":10000},{"$f":"IF(G88<>\"/\",VLOOKUP(G88,COSTS_Army_Camp[#All],3),\"/\")","v":3},{"$f":"IF(I$84=\"Error\",\"Error\",IF(H88<>\"/\",F88*H88,0))","v":40000},{"$f":"IF(I$84=\"Error\",\"Error\",IF(I88<>\"/\",F88*I88,0))","v":12}]
[4,{"$f":"IF(Paramètres!J9=0,\"\",Paramètres!J9)","v":""},0,null,null,4,{"$f":"IF(I$84=\"Error\",\"Error\",IF(AND($E$84<>\"/\",$E$84>'Paramètres - Admin'!$A5),'Paramètres - Admin'!$A6,\"/\"))","v":4},{"$f":"IF(G89<>\"/\",VLOOKUP(G89,COSTS_Army_Camp[#All],2),\"/\")","v":100000},{"$f":"IF(G89<>\"/\",VLOOKUP(G89,COSTS_Army_Camp[#All],3),\"/\")","v":8},400000,32]
[5,{"$f":"IF(Paramètres!J10=0,\"\",Paramètres!J10)","v":""},0,null,null,4,{"$f":"IF(I$84=\"Error\",\"Error\",IF(AND($E$84<>\"/\",$E$84>'Paramètres - Admin'!$A6),'Paramètres - Admin'!$A7,\"/\"))","v":5},{"$f":"IF(G90<>\"/\",VLOOKUP(G90,COSTS_Army_Camp[#All],2),\"/\")","v":250000},{"$f":"IF(G90<>\"/\",VLOOKUP(G90,COSTS_Army_Camp[#All],3),\"/\")","v":24},1000000,96]
[6,{"$f":"IF(Paramètres!J11=0,\"\",Paramètres!J11)","v":""},0,null,null,4,{"$f":"IF(I$84=\"Error\",\"Error\",IF(AND($E$84<>\"/\",$E$84>'Paramètres - Admin'!$A7),'Paramètres - Admin'!$A8,\"/\"))","v":6},{"$f":"IF(G91<>\"/\",VLOOKUP(G91,COSTS_Army_Camp[#All],2),\"/\")","v":750000},{"$f":"IF(G91<>\"/\",VLOOKUP(G91,COSTS_Army_Camp[#All],3),\"/\")","v":72},3000000,288]
[7,{"$f":"IF(Paramètres!J12=0,\"\",Paramètres!J12)","v":""},0,null,null,4,{"$f":"IF(I$84=\"Error\",\"Error\",IF(AND($E$84<>\"/\",$E$84>'Paramètres - Admin'!$A8),'Paramètres - Admin'!$A9,\"/\"))","v":7},{"$f":"IF(G92<>\"/\",VLOOKUP(G92,COSTS_Army_Camp[#All],2),\"/\")","v":2250000},{"$f":"IF(G92<>\"/\",VLOOKUP(G92,COSTS_Army_Camp[#All],3),\"/\")","v":120},9000000,480]
[8,{"$f":"IF(Paramètres!J13=0,\"\",Paramètres!J13)","v":""},0,null,null,4,{"$f":"IF(I$84=\"Error\",\"Error\",IF(AND($E$84<>\"/\",$E$84>'Paramètres - Admin'!$A9),'Paramètres - Admin'!$A10,\"/\"))","v":8},{"$f":"IF(G93<>\"/\",VLOOKUP(G93,COSTS_Army_Camp[#All],2),\"/\")","v":6750000},{"$f":"IF(G93<>\"/\",VLOOKUP(G93,COSTS_Army_Camp[#All],3),\"/\")","v":240},27000000,960]
[null,null,null,null,null,null,null,null,"Total",{"$f":"IF(I$84=\"Error\",\"Error\",SUM(J86:J93))","v":40451000},{"$f":"IF(I$84=\"Error\",\"Error\",SUM(K86:K93))","v":1872.3333333333333}]
[]
[]
["Bâtiments Défensifs"]
["Or"]
["Rempart",null,null,"Max","Max +",null,null,null,"Actuel","À Faire","Améliorations","Défense Antiaérienne",null,null,"Max","Max +",null,null,null,"Actuel","À Faire","Améliorations","Bombe",null,null,"Max","Max +",null,null,null,"Actuel","À Faire","Améliorations"]
[null,null,null,{"$f":"VLOOKUP($A$2,AVAILABLE_Buildings_Defensive[#All],MATCH(A99,AVAILABLE_Buildings_Defensive[#Headers],0))","v":250},{"$f":"VLOOKUP($A$2,AVAILABLE_Buildings_Defensive[#All],MATCH(A99,AVAILABLE_Buildings_Defensive[#Headers],0)+1)","v":11},null,null,null,{"$f":"IF(SUM(B102:B112)>D100,\"Error\",SUM(B102:B112))","v":0},{"$f":"IF(I$100=\"Error\",\"Error\",D100-I100)","v":250},{"$f":"IF(I$100=\"Error\",\"Error\",SUM(F102:F112))","v":2750},null,null,null,{"$f":"VLOOKUP($A$2,AVAILABLE_Buildings_Defensive[#All],MATCH(L99,AVAILABLE_Buildings_Defensive[#Headers],0))","v":4},{"$f":"VLOOKUP($A$2,AVAILABLE_Buildings_Defensive[#All],MATCH(L99,AVAILABLE_Buildings_Defensive[#Headers],0)+1)","v":8},null,null,null,{"$f":"IF(SUM(M102:M109)>O100,\"Error\",SUM(M102:M109))","v":0},{"$f":"IF(T$100=\"Error\",\"Error\",O100-T100)","v":4},{"$f":"IF(T$100=\"Error\",\"Error\",SUM(Q102:Q109))","v":32},null,null,null,{"$f":"VLOOKUP($A$2,AVAILABLE_Traps[#All],MATCH(W99,AVAILABLE_Traps[#Headers],0))","v":6},{"$f":"VLOOKUP($A$2,AVAILABLE_Traps[#All],MATCH(W99,AVAILABLE_Traps[#Headers],0)+1)","v":6},null,null,null,{"$f":"IF(SUM(X102:X107)>Z100,\"Error\",SUM(X102:X107))","v":0},{"$f":"IF(AE$100=\"Error\",\"Error\",Z100-AE100)","v":6},{"$f":"IF(AE$100=\"Error\",\"Error\",SUM(AB102:AB107))","v":36}]
["+","NB",null,null,null,"NB","+","Coût","Temps","Coût Total","Temps Total","+","NB",null,null,null,"NB","+","Coût","Temps","Coût Total","Temps Total","+","NB",null,null,null,"NB","+","Coût","Temps","Coût Total","Temps Total"]
[1,{"$f":"IF(Paramètres!M6=0,\"\",Paramètres!M6)","v":""},{"$f":"IF(C101<>0,C101+IF(AND(B101<>\"\",A101<E$6),B101,0),IF(AND(B101<>\"\",A101<E$6),B101,0))","v":0},null,null,{"$f":"IF(G102<>\"/\",IF(I$100=\"Error\",\"Error\",$J$100+C102),\"/\")","v":250},{"$f":"IF(I$100=\"Error\",\"Error\",IF(AND($E$100<>\"/\",$E$100>'Paramètres - Admin'!$A2),'Paramètres - Admin'!$A3,\"/\"))","v":1},{"$f":"IF(G102<>\"/\",VLOOKUP(G102,COSTS_Wall[#All],2),\"/\")","v":200},{"$f":"IF(G102<>\"/\",VLOOKUP(G102,COSTS_Wall[#All],3),\"/\")","v":0},{"$f":"IF(I$100=\"Error\",\"Error\",IF(H102<>\"/\",F102*H102,0))","v":50000},{"$f":"IF(I$100=\"Error\",\"Error\",IF(I102<>\"/\",F102*I102,0))","v":0},1,{"$f":"IF(Paramètres!Q6=0,\"\",Paramètres!Q6)","v":""},{"$f":"IF(N101<>0,N101+IF(AND(M101<>\"\",L101<E$6),M101,0),IF(AND(M101<>\"\",L101<E$6),M101,0))","v":0},null,null,{"$f":"IF(R102<>\"/\",IF(T$100=\"Error\",\"Error\",$U$100+N102),\"/\")","v":4},{"$f":"IF(T$100=\"Error\",\"Error\",IF(AND($P$100<>\"/\",$P$100>'Paramètres - Admin'!$A2),'Paramètres - Admin'!$A3,\"/\"))","v":1},{"$f":"IF(R102<>\"/\",VLOOKUP(R102,COSTS_Air_Defense[#All],2),\"/\")","v":22500},{"$f":"IF(R102<>\"/\",VLOOKUP(R102,COSTS_Air_Defense[#All],3),\"/\")","v":5},{"$f":"IF(T$100=\"Error\",\"Error\",IF(S102<>\"/\",Q102*S102,0))","v":90000},{"$f":"IF(T$100=\"Error\",\"Error\",IF(T102<>\"/\",Q102*T102,0))","v":20},1,{"$f":"IF(Paramètres!Y6=0,\"\",Paramètres!Y6)","v":""},{"$f":"IF(Y101<>0,Y101+IF(AND(X101<>\"\",W101<P$6),X101,0),IF(AND(X101<>\"\",W101<P$6),X101,0))","v":0},null,null,{"$f":"IF(AC102<>\"/\",IF(AE$100=\"Error\",\"Error\",$AF$100+Y102),\"/\")","v":6},{"$f":"IF(AE$100=\"Error\",\"Error\",IF(AND($AA$100<>\"/\",$AA$100>'Paramètres - Admin'!$A2),'Paramètres - Admin'!$A3,\"/\"))","v":1},{"$f":"IF(AC102<>\"/\",VLOOKUP(AC102,COSTS_Bombe[#All],2),\"/\")","v":400},{"$f":"IF(AC102<>\"/\",VLOOKUP(AC102,COSTS_Bombe[#All],3),\"/\")","v":0},{"$f":"IF(AE$100=\"Error\",\"Error\",IF(AD102<>\"/\",AB102*AD102,0))","v":2400},{"$f":"IF(AE$100=\"Error\",\"Error\",IF(AE102<>\"/\",AB102*AE102,0))","v":0}]
[2,{"$f":"IF(Paramètres!M7=0,\"\",Paramètres!M7)","v":""},0,null,null,250,{"$f":"IF(I$100=\"Error\",\"Error\",IF(AND($E$100<>\"/\",$E$100>'Paramètres - Admin'!$A3),'Paramètres - Admin'!$A4,\"/\"))","v":2},{"$f":"IF(G103<>\"/\",VLOOKUP(G103,COSTS_Wall[#All],2),\"/\")","v":1000},{"$f":"IF(G103<>\"/\",VLOOKUP(G103,COSTS_Wall[#All],3),\"/\")","v":0},250000,0,2,{"$f":"IF(Paramètres!Q7=0,\"\",Paramètres!Q7)","v":""},0,null,null,4,{"$f":"IF(T$100=\"Error\",\"Error\",IF(AND($P$100<>\"/\",$P$100>'Paramètres - Admin'!$A3),'Paramètres - Admin'!$A4,\"/\"))","v":2},{"$f":"IF(R103<>\"/\",VLOOKUP(R103,COSTS_Air_Defense[#All],2),\"/\")","v":90000},{"$f":"IF(R103<>\"/\",VLOOKUP(R103,COSTS_Air_Defense[#All],3),\"/\")","v":24},360000,96,2,{"$f":"IF(Paramètres!Y7=0,\"\",Paramètres!Y7)","v":""},0,null,null,6,{"$f":"IF(AE$100=\"Error\",\"Error\",IF(AND($AA$100<>\"/\",$AA$100>'Paramètres - Admin'!$A3),'Paramètres - Admin'!$A4,\"/\"))","v":2},{"$f":"IF(AC103<>\"/\",VLOOKUP(AC103,COSTS_Bombe[#All],2),\"/\")","v":1000},{"$f":"IF(AC103<>\"/\",VLOOKUP(AC103,COSTS_Bombe[#All],3),\"/\")","v":0.25},6000,1.5]
[3,{"$f":"IF(Paramètres!M8=0,\"\",Paramètres!M8)","v":""},0,null,null,250,{"$f":"IF(I$100=\"Error\",\"Error\",IF(AND($E$100<>\"/\",$E$100>'Paramètres - Admin'!$A4),'Paramètres - Admin'!$A5,\"/\"))","v":3},{"$f":"IF(G104<>\"/\",VLOOKUP(G104,COSTS_Wall[#All],2),\"/\")","v":5000},{"$f":"IF(G104<>\"/\",VLOOKUP(G104,COSTS_Wall[#All],3),\"/\")","v":0},1250000,0,3,{"$f":"IF(Paramètres!Q8=0,\"\",Paramètres!Q8)","v":""},0,null,null,4,{"$f":"IF(T$100=\"Error\",\"Error\",IF(AND($P$100<>\"/\",$P$100>'Paramètres - Admin'!$A4),'Paramètres - Admin'!$A5,\"/\"))","v":3},{"$f":"IF(R104<>\"/\",VLOOKUP(R104,COSTS_Air_Defense[#All],2),\"/\")","v":270000},{"$f":"IF(R104<>\"/\",VLOOKUP(R104,COSTS_Air_Defense[#All],3),\"/\")","v":72},1080000,288,3,{"$f":"IF(Paramètres!Y8=0,\"\",Paramètres!Y8)","v":""},0,null,null,6,{"$f":"IF(AE$100=\"Error\",\"Error\",IF(AND($AA$100<>\"/\",$AA$100>'Paramètres - Admin'!$A4),'Paramètres - Admin'!$A5,\"/\"))","v":3},{"$f":"IF(AC104<>\"/\",VLOOKUP(AC104,COSTS_Bombe[#All],2),\"/\")","v":10000},{"$f":"IF(AC104<>\"/\",VLOOKUP(AC104,COSTS_Bombe[#All],3),\"/\")","v":2},60000,12]
[4,{"$f":"IF(Paramètres!M9=0,\"\",Paramètres!M9)","v":""},0,null,null,250,{"$f":"IF(I$100=\"Error\",\"Error\",IF(AND($E$100<>\"/\",$E$100>'Paramètres - Admin'!$A5),'Paramètres - Admin'!$A6,\"/\"))","v":4},{"$f":"IF(G105<>\"/\",VLOOKUP(G105,COSTS_Wall[#All],2),\"/\")","v":10000},{"$f":"IF(G105<>\"/\",VLOOKUP(G105,COSTS_Wall[#All],3),\"/\")","v":0},2500000,0,4,{"$f":"IF(Paramètres!Q9=0,\"\",Paramètres!Q9)","v":""},0,null,null,4,{"$f":"IF(T$100=\"Error\",\"Error\",IF(AND($P$100<>\"/\",$P$100>'Paramètres - Admin'!$A5),'Paramètres - Admin'!$A6,\"/\"))","v":4},{"$f":"IF(R105<>\"/\",VLOOKUP(R105,COSTS_Air_Defense[#All],2),\"/\")","v":540000},{"$f":"IF(R105<>\"/\",VLOOKUP(R105,COSTS_Air_Defense[#All],3),\"/\")","v":120},2160000,480,4,{"$f":"IF(Paramètres!Y9=0,\"\",Paramètres!Y9)","v":""},0,null,null,6,{"$f":"IF(AE$100=\"Error\",\"Error\",IF(AND($AA$100<>\"/\",$AA$100>'Paramètres - Admin'!$A5),'Paramètres - Admin'!$A6,\"/\"))","v":4},{"$f":"IF(AC105<>\"/\",VLOOKUP(AC105,COSTS_Bombe[#All],2),\"/\")","v":100000},{"$f":"IF(AC105<>\"/\",VLOOKUP(AC105,COSTS_Bombe[#All],3),\"/\")","v":8},600000,48]
[5,{"$f":"IF(Paramètres!M10=0,\"\",Paramètres!M10)","v":""},0,null,null,250,{"$f":"IF(I$100=\"Error\",\"Error\",IF(AND($E$100<>\"/\",$E$100>'Paramètres - Admin'!$A6),'Paramètres - Admin'!$A7,\"/\"))","v":5},{"$f":"IF(G106<>\"/\",VLOOKUP(G106,COSTS_Wall[#All],2),\"/\")","v":30000},{"$f":"IF(G106<>\"/\",VLOOKUP(G106,COSTS_Wall[#All],3),\"/\")","v":0},7500000,0,5,{"$f":"IF(Paramètres!Q10=0,\"\",Paramètres!Q10)","v":""},0,null,null,4,{"$f":"IF(T$100=\"Error\",\"Error\",IF(AND($P$100<>\"/\",$P$100>'Paramètres - Admin'!$A6),'Paramètres - Admin'!$A7,\"/\"))","v":5},{"$f":"IF(R106<>\"/\",VLOOKUP(R106,COSTS_Air_Defense[#All],2),\"/\")","v":1080000},{"$f":"IF(R106<>\"/\",VLOOKUP(R106,COSTS_Air_Defense[#All],3),\"/\")","v":144},4320000,576,5,{"$f":"IF(Paramètres!Y10=0,\"\",Paramètres!Y10)","v":""},0,null,null,6,{"$f":"IF(AE$100=\"Error\",\"Error\",IF(AND($AA$100<>\"/\",$AA$100>'Paramètres - Admin'!$A6),'Paramètres - Admin'!$A7,\"/\"))","v":5},{"$f":"IF(AC106<>\"/\",VLOOKUP(AC106,COSTS_Bombe[#All],2),\"/\")","v":1000000},{"$f":"IF(AC106<>\"/\",VLOOKUP(AC106,COSTS_Bombe[#All],3),\"/\")","v":24},6000000,144]
[6,{"$f":"IF(Paramètres!M11=0,\"\",Paramètres!M11)","v":""},0,null,null,250,{"$f":"IF(I$100=\"Error\",\"Error\",IF(AND($E$100<>\"/\",$E$100>'Paramètres - Admin'!$A7),'Paramètres - Admin'!$A8,\"/\"))","v":6},{"$f":"IF(G107<>\"/\",VLOOKUP(G107,COSTS_Wall[#All],2),\"/\")","v":75000},{"$f":"IF(G107<>\"/\",VLOOKUP(G107,COSTS_Wall[#All],3),\"/\")","v":0},18750000,0,6,{"$f":"IF(Paramètres!Q11=0,\"\",Paramètres!Q11)","v":""},0,null,null,4,{"$f":"IF(T$100=\"Error\",\"Error\",IF(AND($P$100<>\"/\",$P$100>'Paramètres - Admin'!$A7),'Paramètres - Admin'!$A8,\"/\"))","v":6},{"$f":"IF(R107<>\"/\",VLOOKUP(R107,COSTS_Air_Defense[#All],2),\"/\")","v":2160000},{"$f":"IF(R107<>\"/\",VLOOKUP(R107,COSTS_Air_Defense[#All],3),\"/\")","v":192},8640000,768,6,{"$f":"IF(Paramètres!Y11=0,\"\",Paramètres!Y11)","v":""},0,null,null,{"$f":"IF(AC107<>\"/\",IF(AE$100=\"Error\",\"Error\",$AF$100+Y107),\"/\")","v":6},{"$f":"IF(AE$100=\"Error\",\"Error\",IF(AND($AA$100<>\"/\",$AA$100>'Paramètres - Admin'!$A7),'Paramètres - Admin'!$A8,\"/\"))","v":6},{"$f":"IF(AC107<>\"/\",VLOOKUP(AC107,COSTS_Bombe[#All],2),\"/\")","v":1500000},{"$f":"IF(AC107<>\"/\",VLOOKUP(AC107,COSTS_Bombe[#All],3),\"/\")","v":48},9000000,288]
[7,{"$f":"IF(Paramètres!M12=0,\"\",Paramètres!M12)","v":""},0,null,null,250,{"$f":"IF(I$100=\"Error\",\"Error\",IF(AND($E$100<>\"/\",$E$100>'Paramètres - Admin'!$A8),'Paramètres - Admin'!$A9,\"/\"))","v":7},{"$f":"IF(G108<>\"/\",VLOOKUP(G108,COSTS_Wall[#All],2),\"/\")","v":200000},{"$f":"IF(G108<>\"/\",VLOOKUP(G108,COSTS_Wall[#All],3),\"/\")","v":0},50000000,0,7,{"$f":"IF(Paramètres!Q12=0,\"\",Paramètres!Q12)","v":""},0,null,null,4,{"$f":"IF(T$100=\"Error\",\"Error\",IF(AND($P$100<>\"/\",$P$100>'Paramètres - Admin'!$A8),'Paramètres - Admin'!$A9,\"/\"))","v":7},{"$f":"IF(R108<>\"/\",VLOOKUP(R108,COSTS_Air_Defense[#All],2),\"/\")","v":4320000},{"$f":"IF(R108<>\"/\",VLOOKUP(R108,COSTS_Air_Defense[#All],3),\"/\")","v":240},17280000,960,null,null,null,null,null,null,null,null,"Total",{"$f":"IF(AE$100=\"Error\",\"Error\",SUM(AF100:AF107))","v":15668406},{"$f":"IF(AE$100=\"Error\",\"Error\",SUM(AG102:AG107))","v":493.5}]
[8,{"$f":"IF(Paramètres!M13=0,\"\",Paramètres!M13)","v":""},0,null,null,250,{"$f":"IF(I$100=\"Error\",\"Error\",IF(AND($E$100<>\"/\",$E$100>'Paramètres - Admin'!$A9),'Paramètres - Admin'!$A10,\"/\"))","v":8},{"$f":"IF(G109<>\"/\",VLOOKUP(G109,COSTS_Wall[#All],2),\"/\")","v":500000},{"$f":"IF(G109<>\"/\",VLOOKUP(G109,COSTS_Wall[#All],3),\"/\")","v":0},125000000,0,8,{"$f":"IF(Paramètres!Q13=0,\"\",Paramètres!Q13)","v":""},0,null,null,4,{"$f":"IF(T$100=\"Error\",\"Error\",IF(AND($P$100<>\"/\",$P$100>'Paramètres - Admin'!$A9),'Paramètres - Admin'!$A10,\"/\"))","v":8},{"$f":"IF(R109<>\"/\",VLOOKUP(R109,COSTS_Air_Defense[#All],2),\"/\")","v":7560000},{"$f":"IF(R109<>\"/\",VLOOKUP(R109,COSTS_Air_Defense[#All],3),\"/\")","v":288},30240000,1152,"Mine chercheuse",null,null,"Max","Max +",null,null,null,"Actuel","À Faire","Améliorations"]
[9,{"$f":"IF(Paramètres!M14=0,\"\",Paramètres!M14)","v":""},0,null,null,{"$f":"IF(G110<>\"/\",IF(I$100=\"Error\",\"Error\",$J$100+C110),\"/\")","v":250},{"$f":"IF(I$100=\"Error\",\"Error\",IF(AND($E$100<>\"/\",$E$100>'Paramètres - Admin'!$A10),'Paramètres - Admin'!$A11,\"/\"))","v":9},{"$f":"IF(G110<>\"/\",VLOOKUP(G110,COSTS_Wall[#All],2),\"/\")","v":1000000},{"$f":"IF(G110<>\"/\",VLOOKUP(G110,COSTS_Wall[#All],3),\"/\")","v":0},{"$f":"IF(I$100=\"Error\",\"Error\",IF(H110<>\"/\",F110*H110,0))","v":250000000},{"$f":"IF(I$100=\"Error\",\"Error\",IF(I110<>\"/\",F110*I110,0))","v":0},null,null,null,null,null,null,null,null,"Total",{"$f":"IF(T$100=\"Error\",\"Error\",SUM(U102:U109))","v":64170000},{"$f":"IF(T$100=\"Error\",\"Error\",SUM(V102:V109))","v":4340},null,null,null,{"$f":"VLOOKUP($A$2,AVAILABLE_Traps[#All],MATCH(W109,AVAILABLE_Traps[#Headers],0))","v":5},{"$f":"VLOOKUP($A$2,AVAILABLE_Traps[#All],MATCH(W109,AVAILABLE_Traps[#Headers],0)+1)","v":3},null,null,null,{"$f":"IF(SUM(X112:X114)>Z110,\"Error\",SUM(X112:X114))","v":0},{"$f":"IF(AE$110=\"Error\",\"Error\",Z110-AE110)","v":5},{"$f":"IF(AE$110=\"Error\",\"Error\",SUM(AB112:AB114))","v":15}]
[10,{"$f":"IF(Paramètres!M15=0,\"\",Paramètres!M15)","v":""},0,null,null,{"$f":"IF(G111<>\"/\",IF(I$100=\"Error\",\"Error\",$J$100+C111),\"/\")","v":250},{"$f":"IF(I$100=\"Error\",\"Error\",IF(AND($E$100<>\"/\",$E$100>'Paramètres - Admin'!$A11),'Paramètres - Admin'!$A12,\"/\"))","v":10},{"$f":"IF(G111<>\"/\",VLOOKUP(G111,COSTS_Wall[#All],2),\"/\")","v":3000000},{"$f":"IF(G111<>\"/\",VLOOKUP(G111,COSTS_Wall[#All],3),\"/\")","v":0},{"$f":"IF(I$100=\"Error\",\"Error\",IF(H111<>\"/\",F111*H111,0))","v":750000000},{"$f":"IF(I$100=\"Error\",\"Error\",IF(I111<>\"/\",F111*I111,0))","v":0},"Tour de Sorciers",null,null,"Max","Max +",null,null,null,"Actuel","À Faire","Améliorations","+","NB",null,null,null,"NB","+","Coût","Temps","Coût Total","Temps Total"]
[11,{"$f":"IF(Paramètres!M16=0,\"\",Paramètres!M16)","v":""},0,null,null,{"$f":"IF(G112<>\"/\",IF(I$100=\"Error\",\"Error\",$J$100+C112),\"/\")","v":250},{"$f":"IF(I$100=\"Error\",\"Error\",IF(AND($E$100<>\"/\",$E$100>'Paramètres - Admin'!$A12),'Paramètres - Admin'!$A13,\"/\"))","v":11},{"$f":"IF(G112<>\"/\",VLOOKUP(G112,COSTS_Wall[#All],2),\"/\")","v":4000000},{"$f":"IF(G112<>\"/\",VLOOKUP(G112,COSTS_Wall[#All],3),\"/\")","v":0},{"$f":"IF(I$100=\"Error\",\"Error\",IF(H112<>\"/\",F112*H112,0))","v":1000000000},{"$f":"IF(I$100=\"Error\",\"Error\",IF(I112<>\"/\",F112*I112,0))","v":0},null,null,null,{"$f":"VLOOKUP($A$2,AVAILABLE_Buildings_Defensive[#All],MATCH(L111,AVAILABLE_Buildings_Defensive[#Headers],0))","v":4},{"$f":"VLOOKUP($A$2,AVAILABLE_Buildings_Defensive[#All],MATCH(L111,AVAILABLE_Buildings_Defensive[#Headers],0)+1)","v":8},null,null,null,{"$f":"IF(SUM(M114:M121)>O112,\"Error\",SUM(M114:M121))","v":0},{"$f":"IF(T$112=\"Error\",\"Error\",O112-T112)","v":4},{"$f":"IF(T$112=\"Error\",\"Error\",SUM(Q114:Q121))","v":32},1,{"$f":"IF(Paramètres!Z6=0,\"\",Paramètres!Z6)","v":""},{"$f":"IF(Y111<>0,Y111+IF(AND(X111<>\"\",W111<P$6),X111,0),IF(AND(X111<>\"\",W111<P$6),X111,0))","v":0},null,null,{"$f":"IF(AC112<>\"/\",IF(AE$110=\"Error\",\"Error\",$AF$110+Y112),\"/\")","v":5},{"$f":"IF(AE$110=\"Error\",\"Error\",IF(AND($AA$110<>\"/\",AA$110>'Paramètres - Admin'!$A2),'Paramètres - Admin'!$A3,\"/\"))","v":1},{"$f":"IF(AC112<>\"/\",VLOOKUP(AC112,COSTS_Mine_chercheuse[#All],2),\"/\")","v":15000},{"$f":"IF(AC112<>\"/\",VLOOKUP(AC112,COSTS_Mine_chercheuse[#All],3),\"/\")","v":0},{"$f":"IF(AE$110=\"Error\",\"Error\",IF(AD112<>\"/\",AB112*AD112,0))","v":75000},{"$f":"IF(AE$110=\"Error\",\"Error\",IF(AE112<>\"/\",AB112*AE112,0))","v":0}]
[null,null,null,null,null,null,null,null,"Total",{"$f":"IF(I$100=\"Error\",\"Error\",SUM(J102:J112))","v":2205300000},{"$f":"IF(I$100=\"Error\",\"Error\",SUM(K102:K112))","v":0},"+","NB",null,null,null,"NB","+","Coût","Temps","Coût Total","Temps Total",2,{"$f":"IF(Paramètres!Z7=0,\"\",Paramètres!Z7)","v":""},0,null,null,{"$f":"IF(AC113<>\"/\",IF(AE$110=\"Error\",\"Error\",$AF$110+Y113),\"/\")","v":5},{"$f":"IF(AE$110=\"Error\",\"Error\",IF(AND($AA$110<>\"/\",AA$110>'Paramètres - Admin'!$A3),'Paramètres - Admin'!$A4,\"/\"))","v":2},{"$f":"IF(AC113<>\"/\",VLOOKUP(AC113,COSTS_Mine_chercheuse[#All],2),\"/\")","v":2000000},{"$f":"IF(AC113<>\"/\",VLOOKUP(AC113,COSTS_Mine_chercheuse[#All],3),\"/\")","v":24},{"$f":"IF(AE$110=\"Error\",\"Error\",IF(AD113<>\"/\",AB113*AD113,0))","v":10000000},{"$f":"IF(AE$110=\"Error\",\"Error\",IF(AE113<>\"/\",AB113*AE113,0))","v":120}]
["Canon",null,null,"Max","Max +",null,null,null,"Actuel","À Faire","Améliorations",1,{"$f":"IF(Paramètres!R6=0,\"\",Paramètres!R6)","v":""},{"$f":"IF(N113<>0,N113+IF(AND(M113<>\"\",L113<P$6),M113,0),IF(AND(M113<>\"\",L113<P$6),M113,0))","v":0},null,null,{"$f":"IF(R114<>\"/\",IF(T$112=\"Error\",\"Error\",$U$112+N114),\"/\")","v":4},{"$f":"IF(T$112=\"Error\",\"Error\",IF(AND($P$112<>\"/\",$P$112>'Paramètres - Admin'!$A2),'Paramètres - Admin'!$A3,\"/\"))","v":1},{"$f":"IF(R114<>\"/\",VLOOKUP(R114,COSTS_Wizard_Tower[#All],2),\"/\")","v":180000},{"$f":"IF(R114<>\"/\",VLOOKUP(R114,COSTS_Wizard_Tower[#All],3),\"/\")","v":12},{"$f":"IF(T$112=\"Error\",\"Error\",IF(S114<>\"/\",Q114*S114,0))","v":720000},{"$f":"IF(T$112=\"Error\",\"Error\",IF(T114<>\"/\",Q114*T114,0))","v":48},3,{"$f":"IF(Paramètres!Z8=0,\"\",Paramètres!Z8)","v":""},0,null,null,5,{"$f":"IF(AE$110=\"Error\",\"Error\",IF(AND($AA$110<>\"/\",AA$110>'Paramètres - Admin'!$A4),'Paramètres - Admin'!$A5,\"/\"))","v":3},{"$f":"IF(AC114<>\"/\",VLOOKUP(AC114,COSTS_Mine_chercheuse[#All],2),\"/\")","v":4000000},{"$f":"IF(AC114<>\"/\",VLOOKUP(AC114,COSTS_Mine_chercheuse[#All],3),\"/\")","v":72},20000000,360]
[null,null,null,{"$f":"VLOOKUP($A$2,AVAILABLE_Buildings_Defensive[#All],MATCH(A114,AVAILABLE_Buildings_Defensive[#Headers],0))","v":6},{"$f":"VLOOKUP($A$2,AVAILABLE_Buildings_Defensive[#All],MATCH(A114,AVAILABLE_Buildings_Defensive[#Headers],0)+1)","v":13},null,null,null,{"$f":"IF(SUM(B117:B128)>D115,\"Error\",SUM(B117:B128))","v":0},{"$f":"IF(I$115=\"Error\",\"Error\",D115-I115)","v":6},{"$f":"IF(I$115=\"Error\",\"Error\",SUM(F117:F128))","v":72},2,{"$f":"IF(Paramètres!R7=0,\"\",Paramètres!R7)","v":""},0,null,null,4,{"$f":"IF(T$112=\"Error\",\"Error\",IF(AND($P$112<>\"/\",$P$112>'Paramètres - Admin'!$A3),'Paramètres - Admin'!$A4,\"/\"))","v":2},{"$f":"IF(R115<>\"/\",VLOOKUP(R115,COSTS_Wizard_Tower[#All],2),\"/\")","v":360000},{"$f":"IF(R115<>\"/\",VLOOKUP(R115,COSTS_Wizard_Tower[#All],3),\"/\")","v":24},1440000,96,null,null,null,null,null,null,null,null,"Total",{"$f":"IF(AE$110=\"Error\",\"Error\",SUM(AF112:AF114))","v":30075000},{"$f":"IF(AE$110=\"Error\",\"Error\",SUM(AG112:AG114))","v":480}]
["+","NB",null,null,null,"NB","+","Coût","Temps","Coût Total","Temps Total",3,{"$f":"IF(Paramètres!R8=0,\"\",Paramètres!R8)","v":""},0,null,null,4,{"$f":"IF(T$112=\"Error\",\"Error\",IF(AND($P$112<>\"/\",$P$112>'Paramètres - Admin'!$A4),'Paramètres - Admin'!$A5,\"/\"))","v":3},{"$f":"IF(R116<>\"/\",VLOOKUP(R116,COSTS_Wizard_Tower[#All],2),\"/\")","v":720000},{"$f":"IF(R116<>\"/\",VLOOKUP(R116,COSTS_Wizard_Tower[#All],3),\"/\")","v":48},2880000,192,"Bombe géante",null,null,"Max","Max +",null,null,null,"Actuel","À Faire","Améliorations"]
[1,{"$f":"IF(Paramètres!N6=0,\"\",Paramètres!N6)","v":""},{"$f":"IF(C116<>0,C116+IF(AND(B116<>\"\",A116<E$6),B116,0),IF(AND(B116<>\"\",A116<E$6),B116,0))","v":0},null,null,{"$f":"IF(G117<>\"/\",IF(I$115=\"Error\",\"Error\",$J$115+C117),\"/\")","v":6},{"$f":"IF(I$115=\"Error\",\"Error\",IF(AND($E$115<>\"/\",$E$115>'Paramètres - Admin'!$A2),'Paramètres - Admin'!$A3,\"/\"))","v":1},{"$f":"IF(G117<>\"/\",VLOOKUP(G117,COSTS_Cannon[#All],2),\"/\")","v":250},{"$f":"IF(G117<>\"/\",VLOOKUP(G117,COSTS_Cannon[#All],3),\"/\")","v":1.6666666666666666E-2},{"$f":"IF(I$115=\"Error\",\"Error\",IF(H117<>\"/\",F117*H117,0))","v":1500},{"$f":"IF(I$115=\"Error\",\"Error\",IF(I117<>\"/\",F117*I117,0))","v":0.1},4,{"$f":"IF(Paramètres!R9=0,\"\",Paramètres!R9)","v":""},0,null,null,4,{"$f":"IF(T$112=\"Error\",\"Error\",IF(AND($P$112<>\"/\",$P$112>'Paramètres - Admin'!$A5),'Paramètres - Admin'!$A6,\"/\"))","v":4},{"$f":"IF(R117<>\"/\",VLOOKUP(R117,COSTS_Wizard_Tower[#All],2),\"/\")","v":1280000},{"$f":"IF(R117<>\"/\",VLOOKUP(R117,COSTS_Wizard_Tower[#All],3),\"/\")","v":72},5120000,288,null,null,null,{"$f":"VLOOKUP($A$2,AVAILABLE_Traps[#All],MATCH(W116,AVAILABLE_Traps[#Headers],0))","v":5},{"$f":"VLOOKUP($A$2,AVAILABLE_Traps[#All],MATCH(W116,AVAILABLE_Traps[#Headers],0)+1)","v":4},null,null,null,{"$f":"IF(SUM(X119:X122)>Z117,\"Error\",SUM(X119:X122))","v":0},{"$f":"IF(AE$117=\"Error\",\"Error\",Z117-AE117)","v":5},{"$f":"IF(AE$117=\"Error\",\"Error\",SUM(AB119:AB121))","v":15}]
[2,{"$f":"IF(Paramètres!N7=0,\"\",Paramètres!N7)","v":""},0,null,null,6,{"$f":"IF(I$115=\"Error\",\"Error\",IF(AND($E$115<>\"/\",$E$115>'Paramètres - Admin'!$A3),'Paramètres - Admin'!$A4,\"/\"))","v":2},{"$f":"IF(G118<>\"/\",VLOOKUP(G118,COSTS_Cannon[#All],2),\"/\")","v":1000},{"$f":"IF(G118<>\"/\",VLOOKUP(G118,COSTS_Cannon[#All],3),\"/\")","v":0.25},6000,1.5,5,{"$f":"IF(Paramètres!R10=0,\"\",Paramètres!R10)","v":""},0,null,null,4,{"$f":"IF(T$112=\"Error\",\"Error\",IF(AND($P$112<>\"/\",$P$112>'Paramètres - Admin'!$A6),'Paramètres - Admin'!$A7,\"/\"))","v":5},{"$f":"IF(R118<>\"/\",VLOOKUP(R118,COSTS_Wizard_Tower[#All],2),\"/\")","v":1960000},{"$f":"IF(R118<>\"/\",VLOOKUP(R118,COSTS_Wizard_Tower[#All],3),\"/\")","v":96},7840000,384,"+","NB",null,null,null,"NB","+","Coût","Temps","Coût Total","Temps Total"]
[3,{"$f":"IF(Paramètres!N8=0,\"\",Paramètres!N8)","v":""},0,null,null,6,{"$f":"IF(I$115=\"Error\",\"Error\",IF(AND($E$115<>\"/\",$E$115>'Paramètres - Admin'!$A4),'Paramètres - Admin'!$A5,\"/\"))","v":3},{"$f":"IF(G119<>\"/\",VLOOKUP(G119,COSTS_Cannon[#All],2),\"/\")","v":4000},{"$f":"IF(G119<>\"/\",VLOOKUP(G119,COSTS_Cannon[#All],3),\"/\")","v":0.75},24000,4.5,6,{"$f":"IF(Paramètres!R11=0,\"\",Paramètres!R11)","v":""},0,null,null,4,{"$f":"IF(T$112=\"Error\",\"Error\",IF(AND($P$112<>\"/\",$P$112>'Paramètres - Admin'!$A7),'Paramètres - Admin'!$A8,\"/\"))","v":6},{"$f":"IF(R119<>\"/\",VLOOKUP(R119,COSTS_Wizard_Tower[#All],2),\"/\")","v":2680000},{"$f":"IF(R119<>\"/\",VLOOKUP(R119,COSTS_Wizard_Tower[#All],3),\"/\")","v":120},10720000,480,1,{"$f":"IF(Paramètres!AA6=0,\"\",Paramètres!AA6)","v":""},{"$f":"IF(Y118<>0,Y118+IF(AND(X118<>\"\",W118<P$6),X118,0),IF(AND(X118<>\"\",W118<P$6),X118,0))","v":0},null,null,{"$f":"IF(AC119<>\"/\",IF(AE$117=\"Error\",\"Error\",$AF$117+Y119),\"/\")","v":5},{"$f":"IF(AE$117=\"Error\",\"Error\",IF(AND($AA$117<>\"/\",$AA$117>'Paramètres - Admin'!$A2),'Paramètres - Admin'!$A3,\"/\"))","v":1},{"$f":"IF(AC119<>\"/\",VLOOKUP(AC119,COSTS_Bombe_géante[#All],2),\"/\")","v":12500},{"$f":"IF(AC119<>\"/\",VLOOKUP(AC119,COSTS_Bombe_géante[#All],3),\"/\")","v":0},{"$f":"IF(AE$117=\"Error\",\"Error\",IF(AD119<>\"/\",AB119*AD119,0))","v":62500},{"$f":"IF(AE$117=\"Error\",\"Error\",IF(AE119<>\"/\",AB119*AE119,0))","v":0}]
[4,{"$f":"IF(Paramètres!N9=0,\"\",Paramètres!N9)","v":""},0,null,null,6,{"$f":"IF(I$115=\"Error\",\"Error\",IF(AND($E$115<>\"/\",$E$115>'Paramètres - Admin'!$A5),'Paramètres - Admin'!$A6,\"/\"))","v":4},{"$f":"IF(G120<>\"/\",VLOOKUP(G120,COSTS_Cannon[#All],2),\"/\")","v":16000},{"$f":"IF(G120<>\"/\",VLOOKUP(G120,COSTS_Cannon[#All],3),\"/\")","v":2},96000,12,7,{"$f":"IF(Paramètres!R12=0,\"\",Paramètres!R12)","v":""},{"$f":"IF(N119<>0,N119+IF(AND(M119<>\"\",L119<P$6),M119,0),IF(AND(M119<>\"\",L119<P$6),M119,0))","v":0},null,null,{"$f":"IF(R120<>\"/\",IF(T$112=\"Error\",\"Error\",$U$112+N120),\"/\")","v":4},{"$f":"IF(T$112=\"Error\",\"Error\",IF(AND($P$112<>\"/\",$P$112>'Paramètres - Admin'!$A8),'Paramètres - Admin'!$A9,\"/\"))","v":7},{"$f":"IF(R120<>\"/\",VLOOKUP(R120,COSTS_Wizard_Tower[#All],2),\"/\")","v":5360000},{"$f":"IF(R120<>\"/\",VLOOKUP(R120,COSTS_Wizard_Tower[#All],3),\"/\")","v":168},{"$f":"IF(T$112=\"Error\",\"Error\",IF(S120<>\"/\",Q120*S120,0))","v":21440000},{"$f":"IF(T$112=\"Error\",\"Error\",IF(T120<>\"/\",Q120*T120,0))","v":672},2,{"$f":"IF(Paramètres!AA7=0,\"\",Paramètres!AA7)","v":""},0,null,null,{"$f":"IF(AC120<>\"/\",IF(AE$117=\"Error\",\"Error\",$AF$117+Y120),\"/\")","v":5},{"$f":"IF(AE$117=\"Error\",\"Error\",IF(AND($AA$117<>\"/\",$AA$117>'Paramètres - Admin'!$A3),'Paramètres - Admin'!$A4,\"/\"))","v":2},{"$f":"IF(AC120<>\"/\",VLOOKUP(AC120,COSTS_Bombe_géante[#All],2),\"/\")","v":75000},{"$f":"IF(AC120<>\"/\",VLOOKUP(AC120,COSTS_Bombe_géante[#All],3),\"/\")","v":6},{"$f":"IF(AE$117=\"Error\",\"Error\",IF(AD120<>\"/\",AB120*AD120,0))","v":375000},{"$f":"IF(AE$117=\"Error\",\"Error\",IF(AE120<>\"/\",AB120*AE120,0))","v":30}]
[5,{"$f":"IF(Paramètres!N10=0,\"\",Paramètres!N10)","v":""},0,null,null,6,{"$f":"IF(I$115=\"Error\",\"Error\",IF(AND($E$115<>\"/\",$E$115>'Paramètres - Admin'!$A6),'Paramètres - Admin'!$A7,\"/\"))","v":5},{"$f":"IF(G121<>\"/\",VLOOKUP(G121,COSTS_Cannon[#All],2),\"/\")","v":50000},{"$f":"IF(G121<>\"/\",VLOOKUP(G121,COSTS_Cannon[#All],3),\"/\")","v":6},300000,36,8,{"$f":"IF(Paramètres!R13=0,\"\",Paramètres!R13)","v":""},{"$f":"IF(N120<>0,N120+IF(AND(M120<>\"\",L120<P$6),M120,0),IF(AND(M120<>\"\",L120<P$6),M120,0))","v":0},null,null,{"$f":"IF(R121<>\"/\",IF(T$112=\"Error\",\"Error\",$U$112+N121),\"/\")","v":4},{"$f":"IF(T$112=\"Error\",\"Error\",IF(AND($P$112<>\"/\",$P$112>'Paramètres - Admin'!$A9),'Paramètres - Admin'!$A10,\"/\"))","v":8},{"$f":"IF(R121<>\"/\",VLOOKUP(R121,COSTS_Wizard_Tower[#All],2),\"/\")","v":6400000},{"$f":"IF(R121<>\"/\",VLOOKUP(R121,COSTS_Wizard_Tower[#All],3),\"/\")","v":240},{"$f":"IF(T$112=\"Error\",\"Error\",IF(S121<>\"/\",Q121*S121,0))","v":25600000},{"$f":"IF(T$112=\"Error\",\"Error\",IF(T121<>\"/\",Q121*T121,0))","v":960},3,{"$f":"IF(Paramètres!AA8=0,\"\",Paramètres!AA8)","v":""},0,null,null,5,{"$f":"IF(AE$117=\"Error\",\"Error\",IF(AND($AA$117<>\"/\",$AA$117>'Paramètres - Admin'!$A4),'Paramètres - Admin'!$A5,\"/\"))","v":3},{"$f":"IF(AC121<>\"/\",VLOOKUP(AC121,COSTS_Bombe_géante[#All],2),\"/\")","v":750000},{"$f":"IF(AC121<>\"/\",VLOOKUP(AC121,COSTS_Bombe_géante[#All],3),\"/\")","v":24},3750000,120]
[6,{"$f":"IF(Paramètres!N11=0,\"\",Paramètres!N11)","v":""},0,null,null,6,{"$f":"IF(I$115=\"Error\",\"Error\",IF(AND($E$115<>\"/\",$E$115>'Paramètres - Admin'!$A7),'Paramètres - Admin'!$A8,\"/\"))","v":6},{"$f":"IF(G122<>\"/\",VLOOKUP(G122,COSTS_Cannon[#All],2),\"/\")","v":100000},{"$f":"IF(G122<>\"/\",VLOOKUP(G122,COSTS_Cannon[#All],3),\"/\")","v":12},600000,72,null,null,null,null,null,null,null,null,"Total",{"$f":"IF(T$112=\"Error\",\"Error\",SUM(U114:U121))","v":75760000},{"$f":"IF(T$112=\"Error\",\"Error\",SUM(V114:V121))","v":3120},4,{"$f":"IF(Paramètres!AA9=0,\"\",Paramètres!AA9)","v":""},0,null,null,5,{"$f":"IF(AE$117=\"Error\",\"Error\",IF(AND($AA$117<>\"/\",$AA$117>'Paramètres - Admin'!$A5),'Paramètres - Admin'!$A6,\"/\"))","v":4},{"$f":"IF(AC122<>\"/\",VLOOKUP(AC122,COSTS_Bombe_géante[#All],2),\"/\")","v":2500000},{"$f":"IF(AC122<>\"/\",VLOOKUP(AC122,COSTS_Bombe_géante[#All],3),\"/\")","v":72},12500000,360]
[7,{"$f":"IF(Paramètres!N12=0,\"\",Paramètres!N12)","v":""},0,null,null,6,{"$f":"IF(I$115=\"Error\",\"Error\",IF(AND($E$115<>\"/\",$E$115>'Paramètres - Admin'!$A8),'Paramètres - Admin'!$A9,\"/\"))","v":7},{"$f":"IF(G123<>\"/\",VLOOKUP(G123,COSTS_Cannon[#All],2),\"/\")","v":200000},{"$f":"IF(G123<>\"/\",VLOOKUP(G123,COSTS_Cannon[#All],3),\"/\")","v":24},1200000,144,"Tesla Camouflée",null,null,"Max","Max +",null,null,null,"Actuel","À Faire","Améliorations",null,null,null,null,null,null,null,null,"Total",{"$f":"IF(AE$117=\"Error\",\"Error\",SUM(AF119:AF122))","v":16687500},{"$f":"IF(AE$117=\"Error\",\"Error\",SUM(AG119:AG122))","v":510}]
[8,{"$f":"IF(Paramètres!N13=0,\"\",Paramètres!N13)","v":""},0,null,null,6,{"$f":"IF(I$115=\"Error\",\"Error\",IF(AND($E$115<>\"/\",$E$115>'Paramètres - Admin'!$A9),'Paramètres - Admin'!$A10,\"/\"))","v":8},{"$f":"IF(G124<>\"/\",VLOOKUP(G124,COSTS_Cannon[#All],2),\"/\")","v":400000},{"$f":"IF(G124<>\"/\",VLOOKUP(G124,COSTS_Cannon[#All],3),\"/\")","v":48},2400000,288,null,null,null,{"$f":"VLOOKUP($A$2,AVAILABLE_Buildings_Defensive[#All],MATCH(L123,AVAILABLE_Buildings_Defensive[#Headers],0))","v":4},{"$f":"VLOOKUP($A$2,AVAILABLE_Buildings_Defensive[#All],MATCH(L123,AVAILABLE_Buildings_Defensive[#Headers],0)+1)","v":7},null,null,null,{"$f":"IF(SUM(M126:M132)>O124,\"Error\",SUM(M126:M132))","v":0},{"$f":"IF(T$124=\"Error\",\"Error\",O124-T124)","v":4},{"$f":"IF(T$124=\"Error\",\"Error\",SUM(Q126:Q132))","v":28},"Bombe aérienne",null,null,"Max","Max +",null,null,null,"Actuel","À Faire","Améliorations"]
[9,{"$f":"IF(Paramètres!N14=0,\"\",Paramètres!N14)","v":""},0,null,null,6,{"$f":"IF(I$115=\"Error\",\"Error\",IF(AND($E$115<>\"/\",$E$115>'Paramètres - Admin'!$A10),'Paramètres - Admin'!$A11,\"/\"))","v":9},{"$f":"IF(G125<>\"/\",VLOOKUP(G125,COSTS_Cannon[#All],2),\"/\")","v":800000},{"$f":"IF(G125<>\"/\",VLOOKUP(G125,COSTS_Cannon[#All],3),\"/\")","v":72},4800000,432,"+","NB",null,null,null,"NB","+","Coût","Temps","Coût Total","Temps Total",null,null,null,{"$f":"VLOOKUP($A$2,AVAILABLE_Traps[#All],MATCH(W124,AVAILABLE_Traps[#Headers],0))","v":5},{"$f":"VLOOKUP($A$2,AVAILABLE_Traps[#All],MATCH(W124,AVAILABLE_Traps[#Headers],0)+1)","v":4},null,null,null,{"$f":"IF(SUM(X127:X130)>Z125,\"Error\",SUM(X127:X130))","v":0},{"$f":"IF(AE$125=\"Error\",\"Error\",Z125-AE125)","v":5},{"$f":"IF(AE$125=\"Error\",\"Error\",SUM(AB127:AB130))","v":20}]
[10,{"$f":"IF(Paramètres!N15=0,\"\",Paramètres!N15)","v":""},{"$f":"IF(C125<>0,C125+IF(AND(B125<>\"\",A125<E$6),B125,0),IF(AND(B125<>\"\",A125<E$6),B125,0))","v":0},null,null,6,{"$f":"IF(I$115=\"Error\",\"Error\",IF(AND($E$115<>\"/\",$E$115>'Paramètres - Admin'!$A11),'Paramètres - Admin'!$A12,\"/\"))","v":10},{"$f":"IF(G126<>\"/\",VLOOKUP(G126,COSTS_Cannon[#All],2),\"/\")","v":1600000},{"$f":"IF(G126<>\"/\",VLOOKUP(G126,COSTS_Cannon[#All],3),\"/\")","v":96},9600000,576,1,{"$f":"IF(Paramètres!S6=0,\"\",Paramètres!S6)","v":""},{"$f":"IF(N125<>0,N125+IF(AND(M125<>\"\",L125<P$6),M125,0),IF(AND(M125<>\"\",L125<P$6),M125,0))","v":0},null,null,{"$f":"IF(R126<>\"/\",IF(T$124=\"Error\",\"Error\",$U$124+N126),\"/\")","v":4},{"$f":"IF(T$124=\"Error\",\"Error\",IF(AND($P$124<>\"/\",$P$124>'Paramètres - Admin'!$A2),'Paramètres - Admin'!$A3,\"/\"))","v":1},{"$f":"IF(R126<>\"/\",VLOOKUP(R126,COSTS_Hidden_Tesla[#All],2),\"/\")","v":1000000},{"$f":"IF(R126<>\"/\",VLOOKUP(R126,COSTS_Hidden_Tesla[#All],3),\"/\")","v":48},{"$f":"IF(T$124=\"Error\",\"Error\",IF(S126<>\"/\",Q126*S126,0))","v":4000000},{"$f":"IF(T$124=\"Error\",\"Error\",IF(T126<>\"/\",Q126*T126,0))","v":192},"+","NB",null,null,null,"NB","+","Coût","Temps","Coût Total","Temps Total"]
[11,{"$f":"IF(Paramètres!N16=0,\"\",Paramètres!N16)","v":""},{"$f":"IF(C126<>0,C126+IF(AND(B126<>\"\",A126<E$6),B126,0),IF(AND(B126<>\"\",A126<E$6),B126,0))","v":0},null,null,{"$f":"IF(G127<>\"/\",IF(I$115=\"Error\",\"Error\",$J$115+C127),\"/\")","v":6},{"$f":"IF(I$115=\"Error\",\"Error\",IF(AND($E$115<>\"/\",$E$115>'Paramètres - Admin'!$A12),'Paramètres - Admin'!$A13,\"/\"))","v":11},{"$f":"IF(G127<>\"/\",VLOOKUP(G127,COSTS_Cannon[#All],2),\"/\")","v":3200000},{"$f":"IF(G127<>\"/\",VLOOKUP(G127,COSTS_Cannon[#All],3),\"/\")","v":120},{"$f":"IF(I$115=\"Error\",\"Error\",IF(H127<>\"/\",F127*H127,0))","v":19200000},{"$f":"IF(I$115=\"Error\",\"Error\",IF(I127<>\"/\",F127*I127,0))","v":720},2,{"$f":"IF(Paramètres!S7=0,\"\",Paramètres!S7)","v":""},0,null,null,4,{"$f":"IF(T$124=\"Error\",\"Error\",IF(AND($P$124<>\"/\",$P$124>'Paramètres - Admin'!$A3),'Paramètres - Admin'!$A4,\"/\"))","v":2},{"$f":"IF(R127<>\"/\",VLOOKUP(R127,COSTS_Hidden_Tesla[#All],2),\"/\")","v":1250000},{"$f":"IF(R127<>\"/\",VLOOKUP(R127,COSTS_Hidden_Tesla[#All],3),\"/\")","v":96},5000000,384,1,{"$f":"IF(Paramètres!AB6=0,\"\",Paramètres!AB6)","v":""},{"$f":"IF(Y126<>0,Y126+IF(AND(X126<>\"\",W126<P$6),X126,0),IF(AND(X126<>\"\",W126<P$6),X126,0))","v":0},null,null,{"$f":"IF(AC127<>\"/\",IF(AE$125=\"Error\",\"Error\",$AF$125+Y127),\"/\")","v":5},{"$f":"IF(AE$125=\"Error\",\"Error\",IF(AND($AA$125<>\"/\",$AA$125>'Paramètres - Admin'!$A2),'Paramètres - Admin'!$A3,\"/\"))","v":1},{"$f":"IF(AC127<>\"/\",VLOOKUP(AC127,COSTS_Bombe_aerienne[#All],2),\"/\")","v":4000},{"$f":"IF(AC127<>\"/\",VLOOKUP(AC127,COSTS_Bombe_aerienne[#All],3),\"/\")","v":0},{"$f":"IF(AE$125=\"Error\",\"Error\",IF(AD127<>\"/\",AB127*AD127,0))","v":20000},{"$f":"IF(AE$125=\"Error\",\"Error\",IF(AE127<>\"/\",AB127*AE127,0))","v":0}]
[12,{"$f":"IF(Paramètres!N17=0,\"\",Paramètres!N17)","v":""},{"$f":"IF(C127<>0,C127+IF(AND(B127<>\"\",A127<E$6),B127,0),IF(AND(B127<>\"\",A127<E$6),B127,0))","v":0},null,null,{"$f":"IF(G128<>\"/\",IF(I$115=\"Error\",\"Error\",$J$115+C128),\"/\")","v":6},{"$f":"IF(I$115=\"Error\",\"Error\",IF(AND($E$115<>\"/\",$E$115>'Paramètres - Admin'!$A13),'Paramètres - Admin'!$A14,\"/\"))","v":12},{"$f":"IF(G128<>\"/\",VLOOKUP(G128,COSTS_Cannon[#All],2),\"/\")","v":6400000},{"$f":"IF(G128<>\"/\",VLOOKUP(G128,COSTS_Cannon[#All],3),\"/\")","v":144},{"$f":"IF(I$115=\"Error\",\"Error\",IF(H128<>\"/\",F128*H128,0))","v":38400000},{"$f":"IF(I$115=\"Error\",\"Error\",IF(I128<>\"/\",F128*I128,0))","v":864},3,{"$f":"IF(Paramètres!S8=0,\"\",Paramètres!S8)","v":""},0,null,null,4,{"$f":"IF(T$124=\"Error\",\"Error\",IF(AND($P$124<>\"/\",$P$124>'Paramètres - Admin'!$A4),'Paramètres - Admin'!$A5,\"/\"))","v":3},{"$f":"IF(R128<>\"/\",VLOOKUP(R128,COSTS_Hidden_Tesla[#All],2),\"/\")","v":1500000},{"$f":"IF(R128<>\"/\",VLOOKUP(R128,COSTS_Hidden_Tesla[#All],3),\"/\")","v":144},6000000,576,2,{"$f":"IF(Paramètres!AB7=0,\"\",Paramètres!AB7)","v":""},0,null,null,{"$f":"IF(AC128<>\"/\",IF(AE$125=\"Error\",\"Error\",$AF$125+Y128),\"/\")","v":5},{"$f":"IF(AE$125=\"Error\",\"Error\",IF(AND($AA$125<>\"/\",$AA$125>'Paramètres - Admin'!$A3),'Paramètres - Admin'!$A4,\"/\"))","v":2},{"$f":"IF(AC128<>\"/\",VLOOKUP(AC128,COSTS_Bombe_aerienne[#All],2),\"/\")","v":20000},{"$f":"IF(AC128<>\"/\",VLOOKUP(AC128,COSTS_Bombe_aerienne[#All],3),\"/\")","v":4},{"$f":"IF(AE$125=\"Error\",\"Error\",IF(AD128<>\"/\",AB128*AD128,0))","v":100000},{"$f":"IF(AE$125=\"Error\",\"Error\",IF(AE128<>\"/\",AB128*AE128,0))","v":20}]
[13,{"$f":"IF(Paramètres!N18=0,\"\",Paramètres!N18)","v":""},{"$f":"IF(C128<>0,C128+IF(AND(B128<>\"\",A128<E$6),B128,0),IF(AND(B128<>\"\",A128<E$6),B128,0))","v":0},null,null,{"$f":"IF(G129<>\"/\",IF(I$115=\"Error\",\"Error\",$J$115+C129),\"/\")","v":6},{"$f":"IF(I$115=\"Error\",\"Error\",IF(AND($E$115<>\"/\",$E$115>'Paramètres - Admin'!$A14),'Paramètres - Admin'!$A15,\"/\"))","v":13},{"$f":"IF(G129<>\"/\",VLOOKUP(G129,COSTS_Cannon[#All],2),\"/\")","v":7500000},{"$f":"IF(G129<>\"/\",VLOOKUP(G129,COSTS_Cannon[#All],3),\"/\")","v":168},{"$f":"IF(I$115=\"Error\",\"Error\",IF(H129<>\"/\",F129*H129,0))","v":45000000},{"$f":"IF(I$115=\"Error\",\"Error\",IF(I129<>\"/\",F129*I129,0))","v":1008},4,{"$f":"IF(Paramètres!S9=0,\"\",Paramètres!S9)","v":""},0,null,null,4,{"$f":"IF(T$124=\"Error\",\"Error\",IF(AND($P$124<>\"/\",$P$124>'Paramètres - Admin'!$A5),'Paramètres - Admin'!$A6,\"/\"))","v":4},{"$f":"IF(R129<>\"/\",VLOOKUP(R129,COSTS_Hidden_Tesla[#All],2),\"/\")","v":2000000},{"$f":"IF(R129<>\"/\",VLOOKUP(R129,COSTS_Hidden_Tesla[#All],3),\"/\")","v":192},8000000,768,3,{"$f":"IF(Paramètres!AB8=0,\"\",Paramètres!AB8)","v":""},0,null,null,5,{"$f":"IF(AE$125=\"Error\",\"Error\",IF(AND($AA$125<>\"/\",$AA$125>'Paramètres - Admin'!$A4),'Paramètres - Admin'!$A5,\"/\"))","v":3},{"$f":"IF(AC129<>\"/\",VLOOKUP(AC129,COSTS_Bombe_aerienne[#All],2),\"/\")","v":200000},{"$f":"IF(AC129<>\"/\",VLOOKUP(AC129,COSTS_Bombe_aerienne[#All],3),\"/\")","v":12},1000000,60]
[null,null,null,null,null,null,null,null,"Total",{"$f":"IF(I$115=\"Error\",\"Error\",SUM(J117:J129))","v":121627500},{"$f":"IF(I$115=\"Error\",\"Error\",SUM(K117:K129))","v":4158.1000000000004},5,{"$f":"IF(Paramètres!S10=0,\"\",Paramètres!S10)","v":""},0,null,null,4,{"$f":"IF(T$124=\"Error\",\"Error\",IF(AND($P$124<>\"/\",$P$124>'Paramètres - Admin'!$A6),'Paramètres - Admin'!$A7,\"/\"))","v":5},{"$f":"IF(R130<>\"/\",VLOOKUP(R130,COSTS_Hidden_Tesla[#All],2),\"/\")","v":2500000},{"$f":"IF(R130<>\"/\",VLOOKUP(R130,COSTS_Hidden_Tesla[#All],3),\"/\")","v":240},10000000,960,4,{"$f":"IF(Paramètres!AB9=0,\"\",Paramètres!AB9)","v":""},0,null,null,5,{"$f":"IF(AE$125=\"Error\",\"Error\",IF(AND($AA$125<>\"/\",$AA$125>'Paramètres - Admin'!$A5),'Paramètres - Admin'!$A6,\"/\"))","v":4},{"$f":"IF(AC130<>\"/\",VLOOKUP(AC130,COSTS_Bombe_aerienne[#All],2),\"/\")","v":1500000},{"$f":"IF(AC130<>\"/\",VLOOKUP(AC130,COSTS_Bombe_aerienne[#All],3),\"/\")","v":24},7500000,120]
["Tour d'Archers",null,null,"Max","Max +",null,null,null,"Actuel","À Faire","Améliorations",6,{"$f":"IF(Paramètres!S11=0,\"\",Paramètres!S11)","v":""},0,null,null,4,{"$f":"IF(T$124=\"Error\",\"Error\",IF(AND($P$124<>\"/\",$P$124>'Paramètres - Admin'!$A7),'Paramètres - Admin'!$A8,\"/\"))","v":6},{"$f":"IF(R131<>\"/\",VLOOKUP(R131,COSTS_Hidden_Tesla[#All],2),\"/\")","v":3000000},{"$f":"IF(R131<>\"/\",VLOOKUP(R131,COSTS_Hidden_Tesla[#All],3),\"/\")","v":288},12000000,1152,null,null,null,null,null,null,null,null,"Total",{"$f":"IF(AE$125=\"Error\",\"Error\",SUM(AF127:AF130))","v":8620000},{"$f":"IF(AE$125=\"Error\",\"Error\",SUM(AG127:AG130))","v":200}]
[null,null,null,{"$f":"VLOOKUP($A$2,AVAILABLE_Buildings_Defensive[#All],MATCH(A131,AVAILABLE_Buildings_Defensive[#Headers],0))","v":7},{"$f":"VLOOKUP($A$2,AVAILABLE_Buildings_Defensive[#All],MATCH(A131,AVAILABLE_Buildings_Defensive[#Headers],0)+1)","v":13},null,null,null,{"$f":"IF(SUM(B134:B145)>D132,\"Error\",SUM(B134:B145))","v":0},{"$f":"IF(I$132=\"Error\",\"Error\",D132-I132)","v":7},{"$f":"IF(I$132=\"Error\",\"Error\",SUM(F134:F145))","v":84},7,{"$f":"IF(Paramètres!S12=0,\"\",Paramètres!S12)","v":""},0,null,null,4,{"$f":"IF(T$124=\"Error\",\"Error\",IF(AND($P$124<>\"/\",$P$124>'Paramètres - Admin'!$A8),'Paramètres - Admin'!$A9,\"/\"))","v":7},{"$f":"IF(R132<>\"/\",VLOOKUP(R132,COSTS_Hidden_Tesla[#All],2),\"/\")","v":3500000},{"$f":"IF(R132<>\"/\",VLOOKUP(R132,COSTS_Hidden_Tesla[#All],3),\"/\")","v":336},14000000,1344,"Piège squelettique",null,null,"Max","Max +",null,null,null,"Actuel","À Faire","Améliorations"]
["+","NB",null,null,null,"NB","+","Coût","Temps","Coût Total","Temps Total",null,null,null,null,null,null,null,null,"Total",{"$f":"IF(T$124=\"Error\",\"Error\",SUM(U126:U132))","v":59000000},{"$f":"IF(T$124=\"Error\",\"Error\",SUM(V126:V132))","v":5376},null,null,null,{"$f":"VLOOKUP($A$2,AVAILABLE_Traps[#All],MATCH(W132,AVAILABLE_Traps[#Headers],0))","v":3},{"$f":"VLOOKUP($A$2,AVAILABLE_Traps[#All],MATCH(W132,AVAILABLE_Traps[#Headers],0)+1)","v":3},null,null,null,{"$f":"IF(SUM(X135:X137)>Z133,\"Error\",SUM(X135:X137))","v":0},{"$f":"IF(AE$133=\"Error\",\"Error\",Z133-AE133)","v":3},{"$f":"IF(AE$110=\"Error\",\"Error\",SUM(AB135:AB137))","v":9}]
[1,{"$f":"IF(Paramètres!O6=0,\"\",Paramètres!O6)","v":""},{"$f":"IF(C133<>0,C133+IF(AND(B133<>\"\",A133<E$6),B133,0),IF(AND(B133<>\"\",A133<E$6),B133,0))","v":0},null,null,{"$f":"IF(G134<>\"/\",IF(I$132=\"Error\",\"Error\",$J$132+C134),\"/\")","v":7},{"$f":"IF(I$132=\"Error\",\"Error\",IF(AND($E$132<>\"/\",$E$132>'Paramètres - Admin'!$A2),'Paramètres - Admin'!$A3,\"/\"))","v":1},{"$f":"IF(G134<>\"/\",VLOOKUP(G134,COSTS_Archer_Tower[#All],2),\"/\")","v":1000},{"$f":"IF(G134<>\"/\",VLOOKUP(G134,COSTS_Archer_Tower[#All],3),\"/\")","v":0.25},{"$f":"IF(I$132=\"Error\",\"Error\",IF(H134<>\"/\",F134*H134,0))","v":7000},{"$f":"IF(I$132=\"Error\",\"Error\",IF(I134<>\"/\",F134*I134,0))","v":1.75},"Arc-X",null,null,"Max","Max +",null,null,null,"Actuel","À Faire","Améliorations","+","NB",null,null,null,"NB","+","Coût","Temps","Coût Total","Temps Total"]
[2,{"$f":"IF(Paramètres!O7=0,\"\",Paramètres!O7)","v":""},{"$f":"IF(C134<>0,C134+IF(AND(B134<>\"\",A134<E$6),B134,0),IF(AND(B134<>\"\",A134<E$6),B134,0))","v":0},null,null,{"$f":"IF(G135<>\"/\",IF(I$132=\"Error\",\"Error\",$J$132+C135),\"/\")","v":7},{"$f":"IF(I$132=\"Error\",\"Error\",IF(AND($E$132<>\"/\",$E$132>'Paramètres - Admin'!$A3),'Paramètres - Admin'!$A4,\"/\"))","v":2},{"$f":"IF(G135<>\"/\",VLOOKUP(G135,COSTS_Archer_Tower[#All],2),\"/\")","v":2000},{"$f":"IF(G135<>\"/\",VLOOKUP(G135,COSTS_Archer_Tower[#All],3),\"/\")","v":0.5},{"$f":"IF(I$132=\"Error\",\"Error\",IF(H135<>\"/\",F135*H135,0))","v":14000},{"$f":"IF(I$132=\"Error\",\"Error\",IF(I135<>\"/\",F135*I135,0))","v":3.5},null,null,null,{"$f":"VLOOKUP($A$2,AVAILABLE_Buildings_Defensive[#All],MATCH(L134,AVAILABLE_Buildings_Defensive[#Headers],0))","v":3},{"$f":"VLOOKUP($A$2,AVAILABLE_Buildings_Defensive[#All],MATCH(L134,AVAILABLE_Buildings_Defensive[#Headers],0)+1)","v":4},null,null,null,{"$f":"IF(SUM(M137:M140)>O135,\"Error\",SUM(M137:M140))","v":0},{"$f":"IF(T$135=\"Error\",\"Error\",O135-T135)","v":3},{"$f":"IF(T$135=\"Error\",\"Error\",SUM(Q137:Q140))","v":12},1,{"$f":"IF(Paramètres!AC6=0,\"\",Paramètres!AC6)","v":""},{"$f":"IF(Y134<>0,Y134+IF(AND(X134<>\"\",W134<P$6),X134,0),IF(AND(X134<>\"\",W134<P$6),X134,0))","v":0},null,null,{"$f":"IF(AC135<>\"/\",IF(AE$133=\"Error\",\"Error\",$AF$133+Y135),\"/\")","v":3},{"$f":"IF(AE$133=\"Error\",\"Error\",IF(AND($AA$133<>\"/\",AA$133>'Paramètres - Admin'!$A2),'Paramètres - Admin'!$A3,\"/\"))","v":1},{"$f":"IF(AC135<>\"/\",VLOOKUP(AC135,COSTS_Piège_squeletique[#All],2),\"/\")","v":6000},{"$f":"IF(AC135<>\"/\",VLOOKUP(AC135,COSTS_Piège_squeletique[#All],3),\"/\")","v":0},{"$f":"IF(AE$133=\"Error\",\"Error\",IF(AD135<>\"/\",AB135*AD135,0))","v":18000},{"$f":"IF(AE$133=\"Error\",\"Error\",IF(AE135<>\"/\",AB135*AE135,0))","v":0}]
[3,{"$f":"IF(Paramètres!O8=0,\"\",Paramètres!O8)","v":""},{"$f":"IF(C135<>0,C135+IF(AND(B135<>\"\",A135<E$6),B135,0),IF(AND(B135<>\"\",A135<E$6),B135,0))","v":0},null,null,{"$f":"IF(G136<>\"/\",IF(I$132=\"Error\",\"Error\",$J$132+C136),\"/\")","v":7},{"$f":"IF(I$132=\"Error\",\"Error\",IF(AND($E$132<>\"/\",$E$132>'Paramètres - Admin'!$A4),'Paramètres - Admin'!$A5,\"/\"))","v":3},{"$f":"IF(G136<>\"/\",VLOOKUP(G136,COSTS_Archer_Tower[#All],2),\"/\")","v":5000},{"$f":"IF(G136<>\"/\",VLOOKUP(G136,COSTS_Archer_Tower[#All],3),\"/\")","v":0.75},{"$f":"IF(I$132=\"Error\",\"Error\",IF(H136<>\"/\",F136*H136,0))","v":35000},{"$f":"IF(I$132=\"Error\",\"Error\",IF(I136<>\"/\",F136*I136,0))","v":5.25},"+","NB",null,null,null,"NB","+","Coût","Temps","Coût Total","Temps Total",2,{"$f":"IF(Paramètres!AC7=0,\"\",Paramètres!AC7)","v":""},0,null,null,{"$f":"IF(AC136<>\"/\",IF(AE$133=\"Error\",\"Error\",$AF$133+Y136),\"/\")","v":3},{"$f":"IF(AE$133=\"Error\",\"Error\",IF(AND($AA$133<>\"/\",AA$133>'Paramètres - Admin'!$A3),'Paramètres - Admin'!$A4,\"/\"))","v":2},{"$f":"IF(AC136<>\"/\",VLOOKUP(AC136,COSTS_Piège_squeletique[#All],2),\"/\")","v":600000},{"$f":"IF(AC136<>\"/\",VLOOKUP(AC136,COSTS_Mine_chercheuse[#All],3),\"/\")","v":24},{"$f":"IF(AE$133=\"Error\",\"Error\",IF(AD136<>\"/\",AB136*AD136,0))","v":1800000},{"$f":"IF(AE$133=\"Error\",\"Error\",IF(AE136<>\"/\",AB136*AE136,0))","v":72}]
[4,{"$f":"IF(Paramètres!O9=0,\"\",Paramètres!O9)","v":""},{"$f":"IF(C136<>0,C136+IF(AND(B136<>\"\",A136<E$6),B136,0),IF(AND(B136<>\"\",A136<E$6),B136,0))","v":0},null,null,{"$f":"IF(G137<>\"/\",IF(I$132=\"Error\",\"Error\",$J$132+C137),\"/\")","v":7},{"$f":"IF(I$132=\"Error\",\"Error\",IF(AND($E$132<>\"/\",$E$132>'Paramètres - Admin'!$A5),'Paramètres - Admin'!$A6,\"/\"))","v":4},{"$f":"IF(G137<>\"/\",VLOOKUP(G137,COSTS_Archer_Tower[#All],2),\"/\")","v":20000},{"$f":"IF(G137<>\"/\",VLOOKUP(G137,COSTS_Archer_Tower[#All],3),\"/\")","v":4},{"$f":"IF(I$132=\"Error\",\"Error\",IF(H137<>\"/\",F137*H137,0))","v":140000},{"$f":"IF(I$132=\"Error\",\"Error\",IF(I137<>\"/\",F137*I137,0))","v":28},1,{"$f":"IF(Paramètres!T6=0,\"\",Paramètres!T6)","v":""},{"$f":"IF(N136<>0,N136+IF(AND(M136<>\"\",L136<P$6),M136,0),IF(AND(M136<>\"\",L136<P$6),M136,0))","v":0},null,null,{"$f":"IF(R137<>\"/\",IF(T$135=\"Error\",\"Error\",$U$135+N137),\"/\")","v":3},{"$f":"IF(T$135=\"Error\",\"Error\",IF(AND($P$135<>\"/\",$P$135>'Paramètres - Admin'!$A2),'Paramètres - Admin'!$A3,\"/\"))","v":1},{"$f":"IF(R137<>\"/\",VLOOKUP(R137,COSTS_XBow[#All],2),\"/\")","v":3000000},{"$f":"IF(R137<>\"/\",VLOOKUP(R137,COSTS_XBow[#All],3),\"/\")","v":168},{"$f":"IF(T$135=\"Error\",\"Error\",IF(S137<>\"/\",Q137*S137,0))","v":9000000},{"$f":"IF(T$135=\"Error\",\"Error\",IF(T137<>\"/\",Q137*T137,0))","v":504},3,{"$f":"IF(Paramètres!AC8=0,\"\",Paramètres!AC8)","v":""},0,null,null,3,{"$f":"IF(AE$133=\"Error\",\"Error\",IF(AND($AA$133<>\"/\",AA$133>'Paramètres - Admin'!$A4),'Paramètres - Admin'!$A5,\"/\"))","v":3},{"$f":"IF(AC137<>\"/\",VLOOKUP(AC137,COSTS_Piège_squeletique[#All],2),\"/\")","v":1300000},{"$f":"IF(AC137<>\"/\",VLOOKUP(AC137,COSTS_Mine_chercheuse[#All],3),\"/\")","v":72},3900000,216]
[5,{"$f":"IF(Paramètres!O10=0,\"\",Paramètres!O10)","v":""},{"$f":"IF(C137<>0,C137+IF(AND(B137<>\"\",A137<E$6),B137,0),IF(AND(B137<>\"\",A137<E$6),B137,0))","v":0},null,null,{"$f":"IF(G138<>\"/\",IF(I$132=\"Error\",\"Error\",$J$132+C138),\"/\")","v":7},{"$f":"IF(I$132=\"Error\",\"Error\",IF(AND($E$132<>\"/\",$E$132>'Paramètres - Admin'!$A6),'Paramètres - Admin'!$A7,\"/\"))","v":5},{"$f":"IF(G138<>\"/\",VLOOKUP(G138,COSTS_Archer_Tower[#All],2),\"/\")","v":80000},{"$f":"IF(G138<>\"/\",VLOOKUP(G138,COSTS_Archer_Tower[#All],3),\"/\")","v":12},{"$f":"IF(I$132=\"Error\",\"Error\",IF(H138<>\"/\",F138*H138,0))","v":560000},{"$f":"IF(I$132=\"Error\",\"Error\",IF(I138<>\"/\",F138*I138,0))","v":84},2,{"$f":"IF(Paramètres!T7=0,\"\",Paramètres!T7)","v":""},{"$f":"IF(N137<>0,N137+IF(AND(M137<>\"\",L137<P$6),M137,0),IF(AND(M137<>\"\",L137<P$6),M137,0))","v":0},null,null,{"$f":"IF(R138<>\"/\",IF(T$135=\"Error\",\"Error\",$U$135+N138),\"/\")","v":3},{"$f":"IF(T$135=\"Error\",\"Error\",IF(AND($P$135<>\"/\",$P$135>'Paramètres - Admin'!$A3),'Paramètres - Admin'!$A4,\"/\"))","v":2},{"$f":"IF(R138<>\"/\",VLOOKUP(R138,COSTS_XBow[#All],2),\"/\")","v":5000000},{"$f":"IF(R138<>\"/\",VLOOKUP(R138,COSTS_XBow[#All],3),\"/\")","v":240},{"$f":"IF(T$135=\"Error\",\"Error\",IF(S138<>\"/\",Q138*S138,0))","v":15000000},{"$f":"IF(T$135=\"Error\",\"Error\",IF(T138<>\"/\",Q138*T138,0))","v":720},null,null,null,null,null,null,null,null,"Total",{"$f":"IF(AE$133=\"Error\",\"Error\",SUM(AF135:AF137))","v":5718000},{"$f":"IF(AE$133=\"Error\",\"Error\",SUM(AG135:AG137))","v":288}]
[6,{"$f":"IF(Paramètres!O11=0,\"\",Paramètres!O11)","v":""},{"$f":"IF(C138<>0,C138+IF(AND(B138<>\"\",A138<E$6),B138,0),IF(AND(B138<>\"\",A138<E$6),B138,0))","v":0},null,null,{"$f":"IF(G139<>\"/\",IF(I$132=\"Error\",\"Error\",$J$132+C139),\"/\")","v":7},{"$f":"IF(I$132=\"Error\",\"Error\",IF(AND($E$132<>\"/\",$E$132>'Paramètres - Admin'!$A7),'Paramètres - Admin'!$A8,\"/\"))","v":6},{"$f":"IF(G139<>\"/\",VLOOKUP(G139,COSTS_Archer_Tower[#All],2),\"/\")","v":180000},{"$f":"IF(G139<>\"/\",VLOOKUP(G139,COSTS_Archer_Tower[#All],3),\"/\")","v":24},{"$f":"IF(I$132=\"Error\",\"Error\",IF(H139<>\"/\",F139*H139,0))","v":1260000},{"$f":"IF(I$132=\"Error\",\"Error\",IF(I139<>\"/\",F139*I139,0))","v":168},3,{"$f":"IF(Paramètres!T8=0,\"\",Paramètres!T8)","v":""},{"$f":"IF(N138<>0,N138+IF(AND(M138<>\"\",L138<P$6),M138,0),IF(AND(M138<>\"\",L138<P$6),M138,0))","v":0},null,null,{"$f":"IF(R139<>\"/\",IF(T$135=\"Error\",\"Error\",$U$135+N139),\"/\")","v":3},{"$f":"IF(T$135=\"Error\",\"Error\",IF(AND($P$135<>\"/\",$P$135>'Paramètres - Admin'!$A4),'Paramètres - Admin'!$A5,\"/\"))","v":3},{"$f":"IF(R139<>\"/\",VLOOKUP(R139,COSTS_XBow[#All],2),\"/\")","v":7000000},{"$f":"IF(R139<>\"/\",VLOOKUP(R139,COSTS_XBow[#All],3),\"/\")","v":336},{"$f":"IF(T$135=\"Error\",\"Error\",IF(S139<>\"/\",Q139*S139,0))","v":21000000},{"$f":"IF(T$135=\"Error\",\"Error\",IF(T139<>\"/\",Q139*T139,0))","v":1008},"Piège à ressort",null,null,"Max","Max +",null,null,null,"Actuel","À Faire","Améliorations"]
[7,{"$f":"IF(Paramètres!O12=0,\"\",Paramètres!O12)","v":""},{"$f":"IF(C139<>0,C139+IF(AND(B139<>\"\",A139<E$6),B139,0),IF(AND(B139<>\"\",A139<E$6),B139,0))","v":0},null,null,{"$f":"IF(G140<>\"/\",IF(I$132=\"Error\",\"Error\",$J$132+C140),\"/\")","v":7},{"$f":"IF(I$132=\"Error\",\"Error\",IF(AND($E$132<>\"/\",$E$132>'Paramètres - Admin'!$A8),'Paramètres - Admin'!$A9,\"/\"))","v":7},{"$f":"IF(G140<>\"/\",VLOOKUP(G140,COSTS_Archer_Tower[#All],2),\"/\")","v":360000},{"$f":"IF(G140<>\"/\",VLOOKUP(G140,COSTS_Archer_Tower[#All],3),\"/\")","v":48},{"$f":"IF(I$132=\"Error\",\"Error\",IF(H140<>\"/\",F140*H140,0))","v":2520000},{"$f":"IF(I$132=\"Error\",\"Error\",IF(I140<>\"/\",F140*I140,0))","v":336},4,{"$f":"IF(Paramètres!T9=0,\"\",Paramètres!T9)","v":""},{"$f":"IF(N139<>0,N139+IF(AND(M139<>\"\",L139<P$6),M139,0),IF(AND(M139<>\"\",L139<P$6),M139,0))","v":0},null,null,{"$f":"IF(R140<>\"/\",IF(T$135=\"Error\",\"Error\",$U$135+N140),\"/\")","v":3},{"$f":"IF(T$135=\"Error\",\"Error\",IF(AND($P$135<>\"/\",$P$135>'Paramètres - Admin'!$A5),'Paramètres - Admin'!$A6,\"/\"))","v":4},{"$f":"IF(R140<>\"/\",VLOOKUP(R140,COSTS_XBow[#All],2),\"/\")","v":8000000},{"$f":"IF(R140<>\"/\",VLOOKUP(R140,COSTS_XBow[#All],3),\"/\")","v":336},{"$f":"IF(T$135=\"Error\",\"Error\",IF(S140<>\"/\",Q140*S140,0))","v":24000000},{"$f":"IF(T$135=\"Error\",\"Error\",IF(T140<>\"/\",Q140*T140,0))","v":1008},null,null,null,{"$f":"VLOOKUP($A$2,AVAILABLE_Traps[#All],MATCH(W139,AVAILABLE_Traps[#Headers],0))","v":6},{"$f":"VLOOKUP($A$2,AVAILABLE_Traps[#All],MATCH(W139,AVAILABLE_Traps[#Headers],0)+1)","v":1},null,null,null,{"$f":"IF(SUM(X142:X142)>Z140,\"Error\",SUM(X142:X142))","v":0},{"$f":"IF(AE$140=\"Error\",\"Error\",Z140-AE140)","v":6},{"$f":"IF(AE$140=\"Error\",\"Error\",SUM(AB142:AB142))","v":3}]
[8,{"$f":"IF(Paramètres!O13=0,\"\",Paramètres!O13)","v":""},{"$f":"IF(C140<>0,C140+IF(AND(B140<>\"\",A140<E$6),B140,0),IF(AND(B140<>\"\",A140<E$6),B140,0))","v":0},null,null,{"$f":"IF(G141<>\"/\",IF(I$132=\"Error\",\"Error\",$J$132+C141),\"/\")","v":7},{"$f":"IF(I$132=\"Error\",\"Error\",IF(AND($E$132<>\"/\",$E$132>'Paramètres - Admin'!$A9),'Paramètres - Admin'!$A10,\"/\"))","v":8},{"$f":"IF(G141<>\"/\",VLOOKUP(G141,COSTS_Archer_Tower[#All],2),\"/\")","v":720000},{"$f":"IF(G141<>\"/\",VLOOKUP(G141,COSTS_Archer_Tower[#All],3),\"/\")","v":72},{"$f":"IF(I$132=\"Error\",\"Error\",IF(H141<>\"/\",F141*H141,0))","v":5040000},{"$f":"IF(I$132=\"Error\",\"Error\",IF(I141<>\"/\",F141*I141,0))","v":504},null,null,null,null,null,null,null,null,"Total",{"$f":"IF(T$135=\"Error\",\"Error\",SUM(U137:U140))","v":69000000},{"$f":"IF(T$135=\"Error\",\"Error\",SUM(V137:V140))","v":3240},"+","NB",null,null,null,"NB","+","Coût","Temps","Coût Total","Temps Total"]
[9,{"$f":"IF(Paramètres!O14=0,\"\",Paramètres!O14)","v":""},{"$f":"IF(C141<>0,C141+IF(AND(B141<>\"\",A141<E$6),B141,0),IF(AND(B141<>\"\",A141<E$6),B141,0))","v":0},null,null,{"$f":"IF(G142<>\"/\",IF(I$132=\"Error\",\"Error\",$J$132+C142),\"/\")","v":7},{"$f":"IF(I$132=\"Error\",\"Error\",IF(AND($E$132<>\"/\",$E$132>'Paramètres - Admin'!$A10),'Paramètres - Admin'!$A11,\"/\"))","v":9},{"$f":"IF(G142<>\"/\",VLOOKUP(G142,COSTS_Archer_Tower[#All],2),\"/\")","v":1500000},{"$f":"IF(G142<>\"/\",VLOOKUP(G142,COSTS_Archer_Tower[#All],3),\"/\")","v":96},{"$f":"IF(I$132=\"Error\",\"Error\",IF(H142<>\"/\",F142*H142,0))","v":10500000},{"$f":"IF(I$132=\"Error\",\"Error\",IF(I142<>\"/\",F142*I142,0))","v":672},"Tour de l'Enfer",null,null,"Max","Max +",null,null,null,"Actuel","À Faire","Améliorations",1,{"$f":"IF(Paramètres!AD6=0,\"\",Paramètres!AD6)","v":""},{"$f":"IF(Y141<>0,Y141+IF(AND(X141<>\"\",W141<P$6),X141,0),IF(AND(X141<>\"\",W141<P$6),X141,0))","v":0},null,null,{"$f":"IF(AC142<>\"/\",IF(AE$133=\"Error\",\"Error\",$AF$133+Y142),\"/\")","v":3},{"$f":"IF(AE$140=\"Error\",\"Error\",IF(AND($AA$140<>\"/\",AA$140>'Paramètres - Admin'!$A2),'Paramètres - Admin'!$A3,\"/\"))","v":1},{"$f":"IF(AC142<>\"/\",VLOOKUP(AC142,COSTS_Piege_a_ressort[#All],2),\"/\")","v":2000},{"$f":"IF(AC142<>\"/\",VLOOKUP(AC142,COSTS_Piege_a_ressort[#All],3),\"/\")","v":0},{"$f":"IF(AE$133=\"Error\",\"Error\",IF(AD142<>\"/\",AB142*AD142,0))","v":6000},{"$f":"IF(AE$133=\"Error\",\"Error\",IF(AE142<>\"/\",AB142*AE142,0))","v":0}]
[10,{"$f":"IF(Paramètres!O15=0,\"\",Paramètres!O15)","v":""},{"$f":"IF(C142<>0,C142+IF(AND(B142<>\"\",A142<E$6),B142,0),IF(AND(B142<>\"\",A142<E$6),B142,0))","v":0},null,null,{"$f":"IF(G143<>\"/\",IF(I$132=\"Error\",\"Error\",$J$132+C143),\"/\")","v":7},{"$f":"IF(I$132=\"Error\",\"Error\",IF(AND($E$132<>\"/\",$E$132>'Paramètres - Admin'!$A11),'Paramètres - Admin'!$A12,\"/\"))","v":10},{"$f":"IF(G143<>\"/\",VLOOKUP(G143,COSTS_Archer_Tower[#All],2),\"/\")","v":2500000},{"$f":"IF(G143<>\"/\",VLOOKUP(G143,COSTS_Archer_Tower[#All],3),\"/\")","v":120},{"$f":"IF(I$132=\"Error\",\"Error\",IF(H143<>\"/\",F143*H143,0))","v":17500000},{"$f":"IF(I$132=\"Error\",\"Error\",IF(I143<>\"/\",F143*I143,0))","v":840},null,null,null,{"$f":"VLOOKUP($A$2,AVAILABLE_Buildings_Defensive[#All],MATCH(L142,AVAILABLE_Buildings_Defensive[#Headers],0))","v":2},{"$f":"VLOOKUP($A$2,AVAILABLE_Buildings_Defensive[#All],MATCH(L142,AVAILABLE_Buildings_Defensive[#Headers],0)+1)","v":3},null,null,null,{"$f":"IF(SUM(M145:M147)>O143,\"Error\",SUM(M145:M147))","v":0},{"$f":"IF(T$143=\"Error\",\"Error\",O143-T143)","v":2},{"$f":"IF(T$143=\"Error\",\"Error\",SUM(Q145:Q147))","v":6},null,null,null,null,null,null,null,null,"Total",{"$f":"IF(AE$133=\"Error\",\"Error\",SUM(AF142:AF142))","v":6000},{"$f":"IF(AE$133=\"Error\",\"Error\",SUM(AG142:AG142))","v":0}]
[11,{"$f":"IF(Paramètres!O16=0,\"\",Paramètres!O16)","v":""},{"$f":"IF(C143<>0,C143+IF(AND(B143<>\"\",A143<E$6),B143,0),IF(AND(B143<>\"\",A143<E$6),B143,0))","v":0},null,null,{"$f":"IF(G144<>\"/\",IF(I$132=\"Error\",\"Error\",$J$132+C144),\"/\")","v":7},{"$f":"IF(I$132=\"Error\",\"Error\",IF(AND($E$132<>\"/\",$E$132>'Paramètres - Admin'!$A12),'Paramètres - Admin'!$A13,\"/\"))","v":11},{"$f":"IF(G144<>\"/\",VLOOKUP(G144,COSTS_Archer_Tower[#All],2),\"/\")","v":4500000},{"$f":"IF(G144<>\"/\",VLOOKUP(G144,COSTS_Archer_Tower[#All],3),\"/\")","v":144},{"$f":"IF(I$132=\"Error\",\"Error\",IF(H144<>\"/\",F144*H144,0))","v":31500000},{"$f":"IF(I$132=\"Error\",\"Error\",IF(I144<>\"/\",F144*I144,0))","v":1008},"+","NB",null,null,null,"NB","+","Coût","Temps","Coût Total","Temps Total"]
[12,{"$f":"IF(Paramètres!O17=0,\"\",Paramètres!O17)","v":""},{"$f":"IF(C144<>0,C144+IF(AND(B144<>\"\",A144<E$6),B144,0),IF(AND(B144<>\"\",A144<E$6),B144,0))","v":0},null,null,{"$f":"IF(G145<>\"/\",IF(I$132=\"Error\",\"Error\",$J$132+C145),\"/\")","v":7},{"$f":"IF(I$132=\"Error\",\"Error\",IF(AND($E$132<>\"/\",$E$132>'Paramètres - Admin'!$A13),'Paramètres - Admin'!$A14,\"/\"))","v":12},{"$f":"IF(G145<>\"/\",VLOOKUP(G145,COSTS_Archer_Tower[#All],2),\"/\")","v":6500000},{"$f":"IF(G145<>\"/\",VLOOKUP(G145,COSTS_Archer_Tower[#All],3),\"/\")","v":168},{"$f":"IF(I$132=\"Error\",\"Error\",IF(H145<>\"/\",F145*H145,0))","v":45500000},{"$f":"IF(I$132=\"Error\",\"Error\",IF(I145<>\"/\",F145*I145,0))","v":1176},1,{"$f":"IF(Paramètres!U6=0,\"\",Paramètres!U6)","v":""},{"$f":"IF(N144<>0,N144+IF(AND(M144<>\"\",L144<P$6),M144,0),IF(AND(M144<>\"\",L144<P$6),M144,0))","v":0},null,null,{"$f":"IF(R145<>\"/\",IF(T$143=\"Error\",\"Error\",$U$143+N145),\"/\")","v":2},{"$f":"IF(T$143=\"Error\",\"Error\",IF(AND($P$143<>\"/\",$P$143>'Paramètres - Admin'!$A2),'Paramètres - Admin'!$A3,\"/\"))","v":1},{"$f":"IF(R145<>\"/\",VLOOKUP(R145,COSTS_Inferno_Tower[#All],2),\"/\")","v":5000000},{"$f":"IF(R145<>\"/\",VLOOKUP(R145,COSTS_Inferno_Tower[#All],3),\"/\")","v":168},{"$f":"IF(T$143=\"Error\",\"Error\",IF(S145<>\"/\",Q145*S145,0))","v":10000000},{"$f":"IF(T$143=\"Error\",\"Error\",IF(T145<>\"/\",Q145*T145,0))","v":336}]
[13,{"$f":"IF(Paramètres!O18=0,\"\",Paramètres!O18)","v":""},{"$f":"IF(C145<>0,C145+IF(AND(B145<>\"\",A145<E$6),B145,0),IF(AND(B145<>\"\",A145<E$6),B145,0))","v":0},null,null,{"$f":"IF(G146<>\"/\",IF(I$132=\"Error\",\"Error\",$J$132+C146),\"/\")","v":7},{"$f":"IF(I$132=\"Error\",\"Error\",IF(AND($E$132<>\"/\",$E$132>'Paramètres - Admin'!$A14),'Paramètres - Admin'!$A15,\"/\"))","v":13},{"$f":"IF(G146<>\"/\",VLOOKUP(G146,COSTS_Archer_Tower[#All],2),\"/\")","v":7500000},{"$f":"IF(G146<>\"/\",VLOOKUP(G146,COSTS_Archer_Tower[#All],3),\"/\")","v":192},{"$f":"IF(I$132=\"Error\",\"Error\",IF(H146<>\"/\",F146*H146,0))","v":52500000},{"$f":"IF(I$132=\"Error\",\"Error\",IF(I146<>\"/\",F146*I146,0))","v":1344},2,{"$f":"IF(Paramètres!U7=0,\"\",Paramètres!U7)","v":""},{"$f":"IF(N145<>0,N145+IF(AND(M145<>\"\",L145<P$6),M145,0),IF(AND(M145<>\"\",L145<P$6),M145,0))","v":0},null,null,{"$f":"IF(R146<>\"/\",IF(T$143=\"Error\",\"Error\",$U$143+N146),\"/\")","v":2},{"$f":"IF(T$143=\"Error\",\"Error\",IF(AND($P$143<>\"/\",$P$143>'Paramètres - Admin'!$A3),'Paramètres - Admin'!$A4,\"/\"))","v":2},{"$f":"IF(R146<>\"/\",VLOOKUP(R146,COSTS_Inferno_Tower[#All],2),\"/\")","v":6500000},{"$f":"IF(R146<>\"/\",VLOOKUP(R146,COSTS_Inferno_Tower[#All],3),\"/\")","v":240},{"$f":"IF(T$143=\"Error\",\"Error\",IF(S146<>\"/\",Q146*S146,0))","v":13000000},{"$f":"IF(T$143=\"Error\",\"Error\",IF(T146<>\"/\",Q146*T146,0))","v":480}]
[null,null,null,null,null,null,null,null,"Total",{"$f":"IF(I$132=\"Error\",\"Error\",SUM(J134:J146))","v":167076000},{"$f":"IF(I$132=\"Error\",\"Error\",SUM(K134:K146))","v":6170.5},3,{"$f":"IF(Paramètres!U8=0,\"\",Paramètres!U8)","v":""},{"$f":"IF(N146<>0,N146+IF(AND(M146<>\"\",L146<P$6),M146,0),IF(AND(M146<>\"\",L146<P$6),M146,0))","v":0},null,null,{"$f":"IF(R147<>\"/\",IF(T$143=\"Error\",\"Error\",$U$143+N147),\"/\")","v":2},{"$f":"IF(T$143=\"Error\",\"Error\",IF(AND($P$143<>\"/\",$P$143>'Paramètres - Admin'!$A4),'Paramètres - Admin'!$A5,\"/\"))","v":3},{"$f":"IF(R147<>\"/\",VLOOKUP(R147,COSTS_Inferno_Tower[#All],2),\"/\")","v":8000000},{"$f":"IF(R147<>\"/\",VLOOKUP(R147,COSTS_Inferno_Tower[#All],3),\"/\")","v":336},{"$f":"IF(T$143=\"Error\",\"Error\",IF(S147<>\"/\",Q147*S147,0))","v":16000000},{"$f":"IF(T$143=\"Error\",\"Error\",IF(T147<>\"/\",Q147*T147,0))","v":672}]
["Mortier",null,null,"Max","Max +",null,null,null,"Actuel","À Faire","Améliorations",null,null,null,null,null,null,null,null,"Total",{"$f":"IF(T$135=\"Error\",\"Error\",SUM(U145:U147))","v":39000000},{"$f":"IF(T$135=\"Error\",\"Error\",SUM(V145:V147))","v":1488}]
[null,null,null,{"$f":"VLOOKUP($A$2,AVAILABLE_Buildings_Defensive[#All],MATCH(A148,AVAILABLE_Buildings_Defensive[#Headers],0))","v":4},{"$f":"VLOOKUP($A$2,AVAILABLE_Buildings_Defensive[#All],MATCH(A148,AVAILABLE_Buildings_Defensive[#Headers],0)+1)","v":8},null,null,null,{"$f":"IF(SUM(B151:B158)>D149,\"Error\",SUM(B151:B158))","v":0},{"$f":"IF(I$149=\"Error\",\"Error\",D149-I149)","v":4},{"$f":"IF(I$149=\"Error\",\"Error\",SUM(F151:F158))","v":32},"Propulseur d'air",null,null,"Max","Max +",null,null,null,"Actuel","À Faire","Améliorations"]
["+","NB",null,null,null,"NB","+","Coût","Temps","Coût Total","Temps Total",null,null,null,{"$f":"VLOOKUP($A$2,AVAILABLE_Buildings_Defensive[#All],MATCH(L149,AVAILABLE_Buildings_Defensive[#Headers],0))","v":1},{"$f":"VLOOKUP($A$2,AVAILABLE_Buildings_Defensive[#All],MATCH(L149,AVAILABLE_Buildings_Defensive[#Headers],0)+1)","v":6},null,null,null,{"$f":"IF(SUM(M152:M157)>O150,\"Error\",SUM(M152:M157))","v":0},{"$f":"IF(T$150=\"Error\",\"Error\",O150-T150)","v":1},{"$f":"IF(T$150=\"Error\",\"Error\",SUM(Q152:Q157))","v":6}]
[1,{"$f":"IF(Paramètres!P6=0,\"\",Paramètres!P6)","v":""},{"$f":"IF(C150<>0,C150+IF(AND(B150<>\"\",A150<E$6),B150,0),IF(AND(B150<>\"\",A150<E$6),B150,0))","v":0},null,null,{"$f":"IF(G151<>\"/\",IF(I$149=\"Error\",\"Error\",$J$149+C151),\"/\")","v":4},{"$f":"IF(I$149=\"Error\",\"Error\",IF(AND($E$149<>\"/\",$E$149>'Paramètres - Admin'!$A2),'Paramètres - Admin'!$A3,\"/\"))","v":1},{"$f":"IF(G151<>\"/\",VLOOKUP(G151,COSTS_Mortar[#All],2),\"/\")","v":8000},{"$f":"IF(G151<>\"/\",VLOOKUP(G151,COSTS_Mortar[#All],3),\"/\")","v":8},{"$f":"IF(I$149=\"Error\",\"Error\",IF(H151<>\"/\",F151*H151,0))","v":32000},{"$f":"IF(I$149=\"Error\",\"Error\",IF(I151<>\"/\",F151*I151,0))","v":32},"+","NB",null,null,null,"NB","+","Coût","Temps","Coût Total","Temps Total"]
[2,{"$f":"IF(Paramètres!P7=0,\"\",Paramètres!P7)","v":""},{"$f":"IF(C151<>0,C151+IF(AND(B151<>\"\",A151<E$6),B151,0),IF(AND(B151<>\"\",A151<E$6),B151,0))","v":0},null,null,{"$f":"IF(G152<>\"/\",IF(I$149=\"Error\",\"Error\",$J$149+C152),\"/\")","v":4},{"$f":"IF(I$149=\"Error\",\"Error\",IF(AND($E$149<>\"/\",$E$149>'Paramètres - Admin'!$A3),'Paramètres - Admin'!$A4,\"/\"))","v":2},{"$f":"IF(G152<>\"/\",VLOOKUP(G152,COSTS_Mortar[#All],2),\"/\")","v":32000},{"$f":"IF(G152<>\"/\",VLOOKUP(G152,COSTS_Mortar[#All],3),\"/\")","v":12},{"$f":"IF(I$149=\"Error\",\"Error\",IF(H152<>\"/\",F152*H152,0))","v":128000},{"$f":"IF(I$149=\"Error\",\"Error\",IF(I152<>\"/\",F152*I152,0))","v":48},1,{"$f":"IF(Paramètres!V6=0,\"\",Paramètres!V6)","v":""},{"$f":"IF(N151<>0,N151+IF(AND(M151<>\"\",L151<P$6),M151,0),IF(AND(M151<>\"\",L151<P$6),M151,0))","v":0},null,null,{"$f":"IF(R152<>\"/\",IF(T$150=\"Error\",\"Error\",$U$150+N152),\"/\")","v":1},{"$f":"IF(T$150=\"Error\",\"Error\",IF(AND($P$150<>\"/\",$P$150>'Paramètres - Admin'!$A2),'Paramètres - Admin'!$A3,\"/\"))","v":1},{"$f":"IF(R152<>\"/\",VLOOKUP(R152,COSTS_Propulseur[#All],2),\"/\")","v":500000},{"$f":"IF(R152<>\"/\",VLOOKUP(R152,COSTS_Propulseur[#All],3),\"/\")","v":24},{"$f":"IF(T$150=\"Error\",\"Error\",IF(S152<>\"/\",Q152*S152,0))","v":500000},{"$f":"IF(T$150=\"Error\",\"Error\",IF(T152<>\"/\",Q152*T152,0))","v":24}]
[3,{"$f":"IF(Paramètres!P8=0,\"\",Paramètres!P8)","v":""},{"$f":"IF(C152<>0,C152+IF(AND(B152<>\"\",A152<E$6),B152,0),IF(AND(B152<>\"\",A152<E$6),B152,0))","v":0},null,null,{"$f":"IF(G153<>\"/\",IF(I$149=\"Error\",\"Error\",$J$149+C153),\"/\")","v":4},{"$f":"IF(I$149=\"Error\",\"Error\",IF(AND($E$149<>\"/\",$E$149>'Paramètres - Admin'!$A4),'Paramètres - Admin'!$A5,\"/\"))","v":3},{"$f":"IF(G153<>\"/\",VLOOKUP(G153,COSTS_Mortar[#All],2),\"/\")","v":120000},{"$f":"IF(G153<>\"/\",VLOOKUP(G153,COSTS_Mortar[#All],3),\"/\")","v":24},{"$f":"IF(I$149=\"Error\",\"Error\",IF(H153<>\"/\",F153*H153,0))","v":480000},{"$f":"IF(I$149=\"Error\",\"Error\",IF(I153<>\"/\",F153*I153,0))","v":96},2,{"$f":"IF(Paramètres!V7=0,\"\",Paramètres!V7)","v":""},{"$f":"IF(N152<>0,N152+IF(AND(M152<>\"\",L152<P$6),M152,0),IF(AND(M152<>\"\",L152<P$6),M152,0))","v":0},null,null,{"$f":"IF(R153<>\"/\",IF(T$150=\"Error\",\"Error\",$U$150+N153),\"/\")","v":1},{"$f":"IF(T$150=\"Error\",\"Error\",IF(AND($P$150<>\"/\",$P$150>'Paramètres - Admin'!$A3),'Paramètres - Admin'!$A4,\"/\"))","v":2},{"$f":"IF(R153<>\"/\",VLOOKUP(R153,COSTS_Propulseur[#All],2),\"/\")","v":700000},{"$f":"IF(R153<>\"/\",VLOOKUP(R153,COSTS_Propulseur[#All],3),\"/\")","v":72},{"$f":"IF(T$150=\"Error\",\"Error\",IF(S153<>\"/\",Q153*S153,0))","v":700000},{"$f":"IF(T$150=\"Error\",\"Error\",IF(T153<>\"/\",Q153*T153,0))","v":72}]
[4,{"$f":"IF(Paramètres!P9=0,\"\",Paramètres!P9)","v":""},{"$f":"IF(C153<>0,C153+IF(AND(B153<>\"\",A153<E$6),B153,0),IF(AND(B153<>\"\",A153<E$6),B153,0))","v":0},null,null,{"$f":"IF(G154<>\"/\",IF(I$149=\"Error\",\"Error\",$J$149+C154),\"/\")","v":4},{"$f":"IF(I$149=\"Error\",\"Error\",IF(AND($E$149<>\"/\",$E$149>'Paramètres - Admin'!$A5),'Paramètres - Admin'!$A6,\"/\"))","v":4},{"$f":"IF(G154<>\"/\",VLOOKUP(G154,COSTS_Mortar[#All],2),\"/\")","v":400000},{"$f":"IF(G154<>\"/\",VLOOKUP(G154,COSTS_Mortar[#All],3),\"/\")","v":48},{"$f":"IF(I$149=\"Error\",\"Error\",IF(H154<>\"/\",F154*H154,0))","v":1600000},{"$f":"IF(I$149=\"Error\",\"Error\",IF(I154<>\"/\",F154*I154,0))","v":192},3,{"$f":"IF(Paramètres!V8=0,\"\",Paramètres!V8)","v":""},{"$f":"IF(N153<>0,N153+IF(AND(M153<>\"\",L153<P$6),M153,0),IF(AND(M153<>\"\",L153<P$6),M153,0))","v":0},null,null,1,{"$f":"IF(T$150=\"Error\",\"Error\",IF(AND($P$150<>\"/\",$P$150>'Paramètres - Admin'!$A4),'Paramètres - Admin'!$A5,\"/\"))","v":3},{"$f":"IF(R154<>\"/\",VLOOKUP(R154,COSTS_Propulseur[#All],2),\"/\")","v":1250000},{"$f":"IF(R154<>\"/\",VLOOKUP(R154,COSTS_Propulseur[#All],3),\"/\")","v":120},1250000,120]
[5,{"$f":"IF(Paramètres!P10=0,\"\",Paramètres!P10)","v":""},{"$f":"IF(C154<>0,C154+IF(AND(B154<>\"\",A154<E$6),B154,0),IF(AND(B154<>\"\",A154<E$6),B154,0))","v":0},null,null,{"$f":"IF(G155<>\"/\",IF(I$149=\"Error\",\"Error\",$J$149+C155),\"/\")","v":4},{"$f":"IF(I$149=\"Error\",\"Error\",IF(AND($E$149<>\"/\",$E$149>'Paramètres - Admin'!$A6),'Paramètres - Admin'!$A7,\"/\"))","v":5},{"$f":"IF(G155<>\"/\",VLOOKUP(G155,COSTS_Mortar[#All],2),\"/\")","v":800000},{"$f":"IF(G155<>\"/\",VLOOKUP(G155,COSTS_Mortar[#All],3),\"/\")","v":96},{"$f":"IF(I$149=\"Error\",\"Error\",IF(H155<>\"/\",F155*H155,0))","v":3200000},{"$f":"IF(I$149=\"Error\",\"Error\",IF(I155<>\"/\",F155*I155,0))","v":384},4,{"$f":"IF(Paramètres!V9=0,\"\",Paramètres!V9)","v":""},{"$f":"IF(N154<>0,N154+IF(AND(M154<>\"\",L154<P$6),M154,0),IF(AND(M154<>\"\",L154<P$6),M154,0))","v":0},null,null,1,{"$f":"IF(T$150=\"Error\",\"Error\",IF(AND($P$150<>\"/\",$P$150>'Paramètres - Admin'!$A5),'Paramètres - Admin'!$A6,\"/\"))","v":4},{"$f":"IF(R155<>\"/\",VLOOKUP(R155,COSTS_Propulseur[#All],2),\"/\")","v":2400000},{"$f":"IF(R155<>\"/\",VLOOKUP(R155,COSTS_Propulseur[#All],3),\"/\")","v":168},2400000,168]
[6,{"$f":"IF(Paramètres!P11=0,\"\",Paramètres!P11)","v":""},{"$f":"IF(C155<>0,C155+IF(AND(B155<>\"\",A155<E$6),B155,0),IF(AND(B155<>\"\",A155<E$6),B155,0))","v":0},null,null,{"$f":"IF(G156<>\"/\",IF(I$149=\"Error\",\"Error\",$J$149+C156),\"/\")","v":4},{"$f":"IF(I$149=\"Error\",\"Error\",IF(AND($E$149<>\"/\",$E$149>'Paramètres - Admin'!$A7),'Paramètres - Admin'!$A8,\"/\"))","v":6},{"$f":"IF(G156<>\"/\",VLOOKUP(G156,COSTS_Mortar[#All],2),\"/\")","v":1600000},{"$f":"IF(G156<>\"/\",VLOOKUP(G156,COSTS_Mortar[#All],3),\"/\")","v":120},{"$f":"IF(I$149=\"Error\",\"Error\",IF(H156<>\"/\",F156*H156,0))","v":6400000},{"$f":"IF(I$149=\"Error\",\"Error\",IF(I156<>\"/\",F156*I156,0))","v":480},5,{"$f":"IF(Paramètres!V10=0,\"\",Paramètres!V10)","v":""},0,null,null,1,{"$f":"IF(T$150=\"Error\",\"Error\",IF(AND($P$150<>\"/\",$P$150>'Paramètres - Admin'!$A6),'Paramètres - Admin'!$A7,\"/\"))","v":5},{"$f":"IF(R156<>\"/\",VLOOKUP(R156,COSTS_Propulseur[#All],2),\"/\")","v":4800000},{"$f":"IF(R156<>\"/\",VLOOKUP(R156,COSTS_Propulseur[#All],3),\"/\")","v":192},4800000,192]
[7,{"$f":"IF(Paramètres!P12=0,\"\",Paramètres!P12)","v":""},{"$f":"IF(C156<>0,C156+IF(AND(B156<>\"\",A156<E$6),B156,0),IF(AND(B156<>\"\",A156<E$6),B156,0))","v":0},null,null,{"$f":"IF(G157<>\"/\",IF(I$149=\"Error\",\"Error\",$J$149+C157),\"/\")","v":4},{"$f":"IF(I$149=\"Error\",\"Error\",IF(AND($E$149<>\"/\",$E$149>'Paramètres - Admin'!$A8),'Paramètres - Admin'!$A9,\"/\"))","v":7},{"$f":"IF(G157<>\"/\",VLOOKUP(G157,COSTS_Mortar[#All],2),\"/\")","v":3200000},{"$f":"IF(G157<>\"/\",VLOOKUP(G157,COSTS_Mortar[#All],3),\"/\")","v":168},{"$f":"IF(I$149=\"Error\",\"Error\",IF(H157<>\"/\",F157*H157,0))","v":12800000},{"$f":"IF(I$149=\"Error\",\"Error\",IF(I157<>\"/\",F157*I157,0))","v":672},6,{"$f":"IF(Paramètres!V11=0,\"\",Paramètres!V11)","v":""},0,null,null,1,{"$f":"IF(T$150=\"Error\",\"Error\",IF(AND($P$150<>\"/\",$P$150>'Paramètres - Admin'!$A7),'Paramètres - Admin'!$A8,\"/\"))","v":6},{"$f":"IF(R157<>\"/\",VLOOKUP(R157,COSTS_Propulseur[#All],2),\"/\")","v":7200000},{"$f":"IF(R157<>\"/\",VLOOKUP(R157,COSTS_Propulseur[#All],3),\"/\")","v":216},7200000,216]
[8,{"$f":"IF(Paramètres!P13=0,\"\",Paramètres!P13)","v":""},{"$f":"IF(C157<>0,C157+IF(AND(B157<>\"\",A157<E$6),B157,0),IF(AND(B157<>\"\",A157<E$6),B157,0))","v":0},null,null,{"$f":"IF(G158<>\"/\",IF(I$149=\"Error\",\"Error\",$J$149+C158),\"/\")","v":4},{"$f":"IF(I$149=\"Error\",\"Error\",IF(AND($E$149<>\"/\",$E$149>'Paramètres - Admin'!$A9),'Paramètres - Admin'!$A10,\"/\"))","v":8},{"$f":"IF(G158<>\"/\",VLOOKUP(G158,COSTS_Mortar[#All],2),\"/\")","v":6400000},{"$f":"IF(G158<>\"/\",VLOOKUP(G158,COSTS_Mortar[#All],3),\"/\")","v":240},{"$f":"IF(I$149=\"Error\",\"Error\",IF(H158<>\"/\",F158*H158,0))","v":25600000},{"$f":"IF(I$149=\"Error\",\"Error\",IF(I158<>\"/\",F158*I158,0))","v":960},null,null,null,null,null,null,null,null,"Total",{"$f":"IF(T$147=\"Error\",\"Error\",SUM(U150:U157))","v":16850001},{"$f":"IF(T$147=\"Error\",\"Error\",SUM(V152:V157))","v":792}]
[null,null,null,null,null,null,null,null,"Total",{"$f":"IF(I$149=\"Error\",\"Error\",SUM(J151:J158))","v":50240000},{"$f":"IF(I$149=\"Error\",\"Error\",SUM(K151:K158))","v":2864}]
[]
["Bâtiments Autres"]
["Or"]
["Château de Clan",null,null,"Max","Max +",null,null,null,"Actuel","À Faire","Améliorations","Hôtel de Ville",null,null,"Max","Max +",null,null,null,"Actuel","À Faire","Améliorations"]
[null,null,null,{"$f":"VLOOKUP($A$2,AVAILABLE_Buildings_Other[#All],MATCH(A163,AVAILABLE_Buildings_Other[#Headers],0))","v":1},{"$f":"VLOOKUP($A$2,AVAILABLE_Buildings_Other[#All],MATCH(A163,AVAILABLE_Buildings_Other[#Headers],0)+1)","v":6},null,null,null,{"$f":"IF(SUM(B166:B171)>D164,\"Error\",SUM(B166:B171))","v":0},{"$f":"IF(I$164=\"Error\",\"Error\",D164-I164)","v":1},{"$f":"IF(I$164=\"Error\",\"Error\",SUM(F166:F171))","v":6},null,null,null,{"$f":"VLOOKUP($A$2,AVAILABLE_Buildings_Other[#All],MATCH(L163,AVAILABLE_Buildings_Other[#Headers],0))","v":1},{"$f":"VLOOKUP($A$2,AVAILABLE_Buildings_Other[#All],MATCH(L163,AVAILABLE_Buildings_Other[#Headers],0)+1)","v":10},null,null,null,{"$f":"IF(SUM(M166:M175)>O164,\"Error\",SUM(M166:M175))","v":0},{"$f":"IF(T$164=\"Error\",\"Error\",O164-T164)","v":1},{"$f":"IF(T$164=\"Error\",\"Error\",SUM(Q166:Q175))","v":10}]
["+","NB",null,null,null,"NB","+","Coût","Temps","Coût Total","Temps Total","+","NB",null,null,null,"NB","+","Coût","Temps","Coût Total","Temps Total"]
[1,{"$f":"IF(Paramètres!W6=0,\"\",Paramètres!W6)","v":""},{"$f":"IF(C165<>0,C165+IF(AND(B165<>\"\",A165<P$6),B165,0),IF(AND(B165<>\"\",A165<P$6),B165,0))","v":0},null,null,{"$f":"IF(G166<>\"/\",IF(I$164=\"Error\",\"Error\",$J$164+C166),\"/\")","v":1},{"$f":"IF(I$164=\"Error\",\"Error\",IF(AND($E$164<>\"/\",$E$164>'Paramètres - Admin'!$A2),'Paramètres - Admin'!$A3,\"/\"))","v":1},{"$f":"IF(G166<>\"/\",VLOOKUP(G166,COSTS_Clan_Castle[#All],2),\"/\")","v":40000},{"$f":"IF(G166<>\"/\",VLOOKUP(G166,COSTS_Clan_Castle[#All],3),\"/\")","v":0},{"$f":"IF(I$164=\"Error\",\"Error\",IF(H166<>\"/\",F166*H166,0))","v":40000},{"$f":"IF(I$164=\"Error\",\"Error\",IF(I166<>\"/\",F166*I166,0))","v":0},1,{"$f":"IF(Paramètres!X6=0,\"\",Paramètres!X6)","v":""},{"$f":"IF(N165<>0,N165+IF(AND(M165<>\"\",L165<P$6),M165,0),IF(AND(M165<>\"\",L165<P$6),M165,0))","v":0},null,null,{"$f":"IF(R166<>\"/\",IF(T$164=\"Error\",\"Error\",$U$164+N166),\"/\")","v":1},{"$f":"IF(T$164=\"Error\",\"Error\",IF(AND($P$164<>\"/\",$P$164>'Paramètres - Admin'!$A2),'Paramètres - Admin'!$A3,\"/\"))","v":1},{"$f":"IF(R166<>\"/\",VLOOKUP(R166,COSTS_Town_Home[#All],2),\"/\")","v":0},{"$f":"IF(R166<>\"/\",VLOOKUP(R166,COSTS_Town_Home[#All],3),\"/\")","v":0},{"$f":"IF(T$164=\"Error\",\"Error\",IF(S166<>\"/\",Q166*S166,0))","v":0},{"$f":"IF(T$164=\"Error\",\"Error\",IF(T166<>\"/\",Q166*T166,0))","v":0}]
[2,{"$f":"IF(Paramètres!W7=0,\"\",Paramètres!W7)","v":""},0,null,null,1,{"$f":"IF(I$164=\"Error\",\"Error\",IF(AND($E$164<>\"/\",$E$164>'Paramètres - Admin'!$A3),'Paramètres - Admin'!$A4,\"/\"))","v":2},{"$f":"IF(G167<>\"/\",VLOOKUP(G167,COSTS_Clan_Castle[#All],2),\"/\")","v":100000},{"$f":"IF(G167<>\"/\",VLOOKUP(G167,COSTS_Clan_Castle[#All],3),\"/\")","v":6},100000,6,2,{"$f":"IF(Paramètres!X7=0,\"\",Paramètres!X7)","v":""},0,null,null,1,{"$f":"IF(T$164=\"Error\",\"Error\",IF(AND($P$164<>\"/\",$P$164>'Paramètres - Admin'!$A3),'Paramètres - Admin'!$A4,\"/\"))","v":2},{"$f":"IF(R167<>\"/\",VLOOKUP(R167,COSTS_Town_Home[#All],2),\"/\")","v":1000},{"$f":"IF(R167<>\"/\",VLOOKUP(R167,COSTS_Town_Home[#All],3),\"/\")","v":8.3333333333333329E-2},1000,8.3333333333333329E-2]
[3,{"$f":"IF(Paramètres!W8=0,\"\",Paramètres!W8)","v":""},0,null,null,1,{"$f":"IF(I$164=\"Error\",\"Error\",IF(AND($E$164<>\"/\",$E$164>'Paramètres - Admin'!$A4),'Paramètres - Admin'!$A5,\"/\"))","v":3},{"$f":"IF(G168<>\"/\",VLOOKUP(G168,COSTS_Clan_Castle[#All],2),\"/\")","v":800000},{"$f":"IF(G168<>\"/\",VLOOKUP(G168,COSTS_Clan_Castle[#All],3),\"/\")","v":24},800000,24,3,{"$f":"IF(Paramètres!X8=0,\"\",Paramètres!X8)","v":""},0,null,null,1,{"$f":"IF(T$164=\"Error\",\"Error\",IF(AND($P$164<>\"/\",$P$164>'Paramètres - Admin'!$A4),'Paramètres - Admin'!$A5,\"/\"))","v":3},{"$f":"IF(R168<>\"/\",VLOOKUP(R168,COSTS_Town_Home[#All],2),\"/\")","v":4000},{"$f":"IF(R168<>\"/\",VLOOKUP(R168,COSTS_Town_Home[#All],3),\"/\")","v":3},4000,3]
[4,{"$f":"IF(Paramètres!W9=0,\"\",Paramètres!W9)","v":""},0,null,null,1,{"$f":"IF(I$164=\"Error\",\"Error\",IF(AND($E$164<>\"/\",$E$164>'Paramètres - Admin'!$A5),'Paramètres - Admin'!$A6,\"/\"))","v":4},{"$f":"IF(G169<>\"/\",VLOOKUP(G169,COSTS_Clan_Castle[#All],2),\"/\")","v":1800000},{"$f":"IF(G169<>\"/\",VLOOKUP(G169,COSTS_Clan_Castle[#All],3),\"/\")","v":48},1800000,48,4,{"$f":"IF(Paramètres!X9=0,\"\",Paramètres!X9)","v":""},0,null,null,1,{"$f":"IF(T$164=\"Error\",\"Error\",IF(AND($P$164<>\"/\",$P$164>'Paramètres - Admin'!$A5),'Paramètres - Admin'!$A6,\"/\"))","v":4},{"$f":"IF(R169<>\"/\",VLOOKUP(R169,COSTS_Town_Home[#All],2),\"/\")","v":25000},{"$f":"IF(R169<>\"/\",VLOOKUP(R169,COSTS_Town_Home[#All],3),\"/\")","v":24},25000,24]
[5,{"$f":"IF(Paramètres!W10=0,\"\",Paramètres!W10)","v":""},0,null,null,1,{"$f":"IF(I$164=\"Error\",\"Error\",IF(AND($E$164<>\"/\",$E$164>'Paramètres - Admin'!$A6),'Paramètres - Admin'!$A7,\"/\"))","v":5},{"$f":"IF(G170<>\"/\",VLOOKUP(G170,COSTS_Clan_Castle[#All],2),\"/\")","v":5000000},{"$f":"IF(G170<>\"/\",VLOOKUP(G170,COSTS_Clan_Castle[#All],3),\"/\")","v":168},5000000,168,5,{"$f":"IF(Paramètres!X10=0,\"\",Paramètres!X10)","v":""},0,null,null,1,{"$f":"IF(T$164=\"Error\",\"Error\",IF(AND($P$164<>\"/\",$P$164>'Paramètres - Admin'!$A6),'Paramètres - Admin'!$A7,\"/\"))","v":5},{"$f":"IF(R170<>\"/\",VLOOKUP(R170,COSTS_Town_Home[#All],2),\"/\")","v":150000},{"$f":"IF(R170<>\"/\",VLOOKUP(R170,COSTS_Town_Home[#All],3),\"/\")","v":48},150000,48]
[6,{"$f":"IF(Paramètres!W11=0,\"\",Paramètres!W11)","v":""},0,null,null,1,{"$f":"IF(I$164=\"Error\",\"Error\",IF(AND($E$164<>\"/\",$E$164>'Paramètres - Admin'!$A7),'Paramètres - Admin'!$A8,\"/\"))","v":6},{"$f":"IF(G171<>\"/\",VLOOKUP(G171,COSTS_Clan_Castle[#All],2),\"/\")","v":7000000},{"$f":"IF(G171<>\"/\",VLOOKUP(G171,COSTS_Clan_Castle[#All],3),\"/\")","v":336},7000000,336,6,{"$f":"IF(Paramètres!X11=0,\"\",Paramètres!X11)","v":""},0,null,null,1,{"$f":"IF(T$164=\"Error\",\"Error\",IF(AND($P$164<>\"/\",$P$164>'Paramètres - Admin'!$A7),'Paramètres - Admin'!$A8,\"/\"))","v":6},{"$f":"IF(R171<>\"/\",VLOOKUP(R171,COSTS_Town_Home[#All],2),\"/\")","v":750000},{"$f":"IF(R171<>\"/\",VLOOKUP(R171,COSTS_Town_Home[#All],3),\"/\")","v":96},750000,96]
[null,null,null,null,null,null,null,null,"Total",{"$f":"IF(I$164=\"Error\",\"Error\",SUM(J166:J171))","v":14740000},{"$f":"IF(I$164=\"Error\",\"Error\",SUM(K166:K171))","v":582},7,{"$f":"IF(Paramètres!X12=0,\"\",Paramètres!X12)","v":""},0,null,null,1,{"$f":"IF(T$164=\"Error\",\"Error\",IF(AND($P$164<>\"/\",$P$164>'Paramètres - Admin'!$A8),'Paramètres - Admin'!$A9,\"/\"))","v":7},{"$f":"IF(R172<>\"/\",VLOOKUP(R172,COSTS_Town_Home[#All],2),\"/\")","v":1200000},{"$f":"IF(R172<>\"/\",VLOOKUP(R172,COSTS_Town_Home[#All],3),\"/\")","v":144},1200000,144]
[null,null,null,null,null,null,null,null,null,null,null,8,{"$f":"IF(Paramètres!X13=0,\"\",Paramètres!X13)","v":""},0,null,null,1,{"$f":"IF(T$164=\"Error\",\"Error\",IF(AND($P$164<>\"/\",$P$164>'Paramètres - Admin'!$A9),'Paramètres - Admin'!$A10,\"/\"))","v":8},{"$f":"IF(R173<>\"/\",VLOOKUP(R173,COSTS_Town_Home[#All],2),\"/\")","v":2000000},{"$f":"IF(R173<>\"/\",VLOOKUP(R173,COSTS_Town_Home[#All],3),\"/\")","v":192},2000000,192]
[null,null,null,null,null,null,null,null,null,null,null,9,{"$f":"IF(Paramètres!X14=0,\"\",Paramètres!X14)","v":""},0,null,null,1,{"$f":"IF(T$164=\"Error\",\"Error\",IF(AND($P$164<>\"/\",$P$164>'Paramètres - Admin'!$A10),'Paramètres - Admin'!$A11,\"/\"))","v":9},{"$f":"IF(R174<>\"/\",VLOOKUP(R174,COSTS_Town_Home[#All],2),\"/\")","v":3000000},{"$f":"IF(R174<>\"/\",VLOOKUP(R174,COSTS_Town_Home[#All],3),\"/\")","v":240},3000000,240]
[null,null,null,null,null,null,null,null,null,null,null,10,{"$f":"IF(Paramètres!X15=0,\"\",Paramètres!X15)","v":""},0,null,null,1,{"$f":"IF(T$164=\"Error\",\"Error\",IF(AND($P$164<>\"/\",$P$164>'Paramètres - Admin'!$A11),'Paramètres - Admin'!$A12,\"/\"))","v":10},{"$f":"IF(R175<>\"/\",VLOOKUP(R175,COSTS_Town_Home[#All],2),\"/\")","v":4000000},{"$f":"IF(R175<>\"/\",VLOOKUP(R175,COSTS_Town_Home[#All],3),\"/\")","v":336},4000000,336]
[null,null,null,null,null,null,null,null,null,null,null,null,null,null,null,null,null,null,null,"Total",{"$f":"IF(T$164=\"Error\",\"Error\",SUM(U166:U175))","v":11130000},{"$f":"IF(T$164=\"Error\",\"Error\",SUM(V166:V175))","v":1083.0833333333333}]
[]
[]
["Spell Upgrades"]
["Élixir"]
["Sort de Foudre",null,null,"Max","Max +",null,null,null,"Actuel","À Faire","Améliorations","Sort de Saut",null,null,"Max","Max +",null,null,null,"Actuel","À Faire","Améliorations"]
[null,null,null,{"$f":"VLOOKUP($A$2,AVAILABLE_Upgrades_Spells[#All],MATCH(A181,AVAILABLE_Upgrades_Spells[#Headers],0))","v":1},{"$f":"VLOOKUP($A$2,AVAILABLE_Upgrades_Spells[#All],MATCH(A181,AVAILABLE_Upgrades_Spells[#Headers],0)+1)","v":6},null,null,null,{"$f":"IF(SUM(B184:B189)>D182,\"Error\",SUM(B184:B189))","v":0},{"$f":"IF(I$182=\"Error\",\"Error\",D182-I182)","v":1},{"$f":"IF(I$182=\"Error\",\"Error\",SUM(F184:F189))","v":6},null,null,null,{"$f":"VLOOKUP($A$2,AVAILABLE_Upgrades_Spells[#All],MATCH(L181,AVAILABLE_Upgrades_Spells[#Headers],0))","v":1},{"$f":"VLOOKUP($A$2,AVAILABLE_Upgrades_Spells[#All],MATCH(L181,AVAILABLE_Upgrades_Spells[#Headers],0)+1)","v":2},null,null,null,{"$f":"IF(SUM(M184:M185)>O182,\"Error\",SUM(M184:M185))","v":0},{"$f":"IF(T$182=\"Error\",\"Error\",O182-T182)","v":1},{"$f":"IF(T$182=\"Error\",\"Error\",SUM(Q184:Q185))","v":2}]
["+","NB",null,null,null,"NB","+","Coût","Temps","Coût Total","Temps Total","+","NB",null,null,null,"NB","+","Coût","Temps","Coût Total","Temps Total"]
[1,{"$f":"IF(Paramètres!AF6=0,\"\",Paramètres!AF6)","v":""},{"$f":"IF(C183<>0,C183+IF(AND(B183<>\"\",A183<E$6),B183,0),IF(AND(B183<>\"\",A183<E$6),B183,0))","v":0},null,null,{"$f":"IF(G184<>\"/\",IF(I$182=\"Error\",\"Error\",$J$182+C184),\"/\")","v":1},{"$f":"IF(I$182=\"Error\",\"Error\",IF(AND($E$182<>\"/\",$E$182>'Paramètres - Admin'!$A2),'Paramètres - Admin'!$A3,\"/\"))","v":1},{"$f":"IF(G184<>\"/\",VLOOKUP(G184,COSTS_Spell_Lightning[#All],2),\"/\")","v":0},{"$f":"IF(G184<>\"/\",VLOOKUP(G184,COSTS_Spell_Lightning[#All],3),\"/\")","v":0},{"$f":"IF(I$182=\"Error\",\"Error\",IF(H184<>\"/\",F184*H184,0))","v":0},{"$f":"IF(I$182=\"Error\",\"Error\",IF(I184<>\"/\",F184*I184,0))","v":0},1,{"$f":"IF(Paramètres!AI6=0,\"\",Paramètres!AI6)","v":""},{"$f":"IF(N183<>0,N183+IF(AND(M183<>\"\",L183<P$6),M183,0),IF(AND(M183<>\"\",L183<P$6),M183,0))","v":0},null,null,{"$f":"IF(R184<>\"/\",IF(T$182=\"Error\",\"Error\",$U$182+N184),\"/\")","v":1},{"$f":"IF(T$182=\"Error\",\"Error\",IF(AND($P$182<>\"/\",$P$182>'Paramètres - Admin'!$A2),'Paramètres - Admin'!$A3,\"/\"))","v":1},{"$f":"IF(R184<>\"/\",VLOOKUP(R184,COSTS_Spell_Jump[#All],2),\"/\")","v":0},{"$f":"IF(R184<>\"/\",VLOOKUP(R184,COSTS_Spell_Jump[#All],3),\"/\")","v":0},{"$f":"IF(T$182=\"Error\",\"Error\",IF(S184<>\"/\",Q184*S184,0))","v":0},{"$f":"IF(T$182=\"Error\",\"Error\",IF(T184<>\"/\",Q184*T184,0))","v":0}]
[2,{"$f":"IF(Paramètres!AF7=0,\"\",Paramètres!AF7)","v":""},0,null,null,1,{"$f":"IF(I$182=\"Error\",\"Error\",IF(AND($E$182<>\"/\",$E$182>'Paramètres - Admin'!$A3),'Paramètres - Admin'!$A4,\"/\"))","v":2},{"$f":"IF(G185<>\"/\",VLOOKUP(G185,COSTS_Spell_Lightning[#All],2),\"/\")","v":200000},{"$f":"IF(G185<>\"/\",VLOOKUP(G185,COSTS_Spell_Lightning[#All],3),\"/\")","v":24},200000,24,2,{"$f":"IF(Paramètres!AI7=0,\"\",Paramètres!AI7)","v":""},{"$f":"IF(N184<>0,N184+IF(AND(M184<>\"\",L184<P$6),M184,0),IF(AND(M184<>\"\",L184<P$6),M184,0))","v":0},null,null,{"$f":"IF(R185<>\"/\",IF(T$182=\"Error\",\"Error\",$U$182+N185),\"/\")","v":1},{"$f":"IF(T$182=\"Error\",\"Error\",IF(AND($P$182<>\"/\",$P$182>'Paramètres - Admin'!$A3),'Paramètres - Admin'!$A4,\"/\"))","v":2},{"$f":"IF(R185<>\"/\",VLOOKUP(R185,COSTS_Spell_Jump[#All],2),\"/\")","v":4000000},{"$f":"IF(R185<>\"/\",VLOOKUP(R185,COSTS_Spell_Jump[#All],3),\"/\")","v":120},{"$f":"IF(T$182=\"Error\",\"Error\",IF(S185<>\"/\",Q185*S185,0))","v":4000000},{"$f":"IF(T$182=\"Error\",\"Error\",IF(T185<>\"/\",Q185*T185,0))","v":120}]
[3,{"$f":"IF(Paramètres!AF8=0,\"\",Paramètres!AF8)","v":""},0,null,null,1,{"$f":"IF(I$182=\"Error\",\"Error\",IF(AND($E$182<>\"/\",$E$182>'Paramètres - Admin'!$A4),'Paramètres - Admin'!$A5,\"/\"))","v":3},{"$f":"IF(G186<>\"/\",VLOOKUP(G186,COSTS_Spell_Lightning[#All],2),\"/\")","v":500000},{"$f":"IF(G186<>\"/\",VLOOKUP(G186,COSTS_Spell_Lightning[#All],3),\"/\")","v":48},500000,48,null,null,null,null,null,null,null,null,"Total",{"$f":"IF(T$182=\"Error\",\"Error\",SUM(U184:U185))","v":4000000},{"$f":"IF(T$182=\"Error\",\"Error\",SUM(V184:V185))","v":120}]
[4,{"$f":"IF(Paramètres!AF9=0,\"\",Paramètres!AF9)","v":""},0,null,null,1,{"$f":"IF(I$182=\"Error\",\"Error\",IF(AND($E$182<>\"/\",$E$182>'Paramètres - Admin'!$A5),'Paramètres - Admin'!$A6,\"/\"))","v":4},{"$f":"IF(G187<>\"/\",VLOOKUP(G187,COSTS_Spell_Lightning[#All],2),\"/\")","v":1000000},{"$f":"IF(G187<>\"/\",VLOOKUP(G187,COSTS_Spell_Lightning[#All],3),\"/\")","v":72},1000000,72,"Sort de Gel",null,null,"Max","Max +",null,null,null,"Actuel","À Faire","Améliorations"]
[5,{"$f":"IF(Paramètres!AF10=0,\"\",Paramètres!AF10)","v":""},0,null,null,1,{"$f":"IF(I$182=\"Error\",\"Error\",IF(AND($E$182<>\"/\",$E$182>'Paramètres - Admin'!$A6),'Paramètres - Admin'!$A7,\"/\"))","v":5},{"$f":"IF(G188<>\"/\",VLOOKUP(G188,COSTS_Spell_Lightning[#All],2),\"/\")","v":2000000},{"$f":"IF(G188<>\"/\",VLOOKUP(G188,COSTS_Spell_Lightning[#All],3),\"/\")","v":96},2000000,96,null,null,null,{"$f":"VLOOKUP($A$2,AVAILABLE_Upgrades_Spells[#All],MATCH(L187,AVAILABLE_Upgrades_Spells[#Headers],0))","v":1},{"$f":"VLOOKUP($A$2,AVAILABLE_Upgrades_Spells[#All],MATCH(L187,AVAILABLE_Upgrades_Spells[#Headers],0)+1)","v":5},null,null,null,{"$f":"IF(SUM(M190:M194)>O188,\"Error\",SUM(M190:M194))","v":0},{"$f":"IF(T$188=\"Error\",\"Error\",O188-T188)","v":1},{"$f":"IF(T$188=\"Error\",\"Error\",SUM(Q190:Q193))","v":4}]
[6,{"$f":"IF(Paramètres!AF11=0,\"\",Paramètres!AF11)","v":""},0,null,null,1,{"$f":"IF(I$182=\"Error\",\"Error\",IF(AND($E$182<>\"/\",$E$182>'Paramètres - Admin'!$A7),'Paramètres - Admin'!$A8,\"/\"))","v":6},{"$f":"IF(G189<>\"/\",VLOOKUP(G189,COSTS_Spell_Lightning[#All],2),\"/\")","v":8000000},{"$f":"IF(G189<>\"/\",VLOOKUP(G189,COSTS_Spell_Lightning[#All],3),\"/\")","v":336},8000000,336,"+","NB",null,null,null,"NB","+","Coût","Temps","Coût Total","Temps Total"]
[null,null,null,null,null,null,null,null,"Total",{"$f":"IF(I$182=\"Error\",\"Error\",SUM(J184:J189))","v":11700000},{"$f":"IF(I$182=\"Error\",\"Error\",SUM(K184:K189))","v":576},1,{"$f":"IF(Paramètres!AJ6=0,\"\",Paramètres!AJ6)","v":""},{"$f":"IF(N189<>0,N189+IF(AND(M189<>\"\",L189<P$6),M189,0),IF(AND(M189<>\"\",L189<P$6),M189,0))","v":0},null,null,{"$f":"IF(R190<>\"/\",IF(T$188=\"Error\",\"Error\",$U$188+N190),\"/\")","v":1},{"$f":"IF(T$188=\"Error\",\"Error\",IF(AND($P$188<>\"/\",$P$188>'Paramètres - Admin'!$A2),'Paramètres - Admin'!$A3,\"/\"))","v":1},{"$f":"IF(R190<>\"/\",VLOOKUP(R190,COSTS_Spell_Freeze[#All],2),\"/\")","v":0},{"$f":"IF(R190<>\"/\",VLOOKUP(R190,COSTS_Spell_Freeze[#All],3),\"/\")","v":0},{"$f":"IF(T$188=\"Error\",\"Error\",IF(S190<>\"/\",Q190*S190,0))","v":0},{"$f":"IF(T$188=\"Error\",\"Error\",IF(T190<>\"/\",Q190*T190,0))","v":0}]
["Sort de Guérison",null,null,"Max","Max +",null,null,null,"Actuel","À Faire","Améliorations",2,{"$f":"IF(Paramètres!AJ7=0,\"\",Paramètres!AJ7)","v":""},{"$f":"IF(N190<>0,N190+IF(AND(M190<>\"\",L190<P$6),M190,0),IF(AND(M190<>\"\",L190<P$6),M190,0))","v":0},null,null,{"$f":"IF(R191<>\"/\",IF(T$188=\"Error\",\"Error\",$U$188+N191),\"/\")","v":1},{"$f":"IF(T$188=\"Error\",\"Error\",IF(AND($P$188<>\"/\",$P$188>'Paramètres - Admin'!$A3),'Paramètres - Admin'!$A4,\"/\"))","v":2},{"$f":"IF(R191<>\"/\",VLOOKUP(R191,COSTS_Spell_Freeze[#All],2),\"/\")","v":4000000},{"$f":"IF(R191<>\"/\",VLOOKUP(R191,COSTS_Spell_Freeze[#All],3),\"/\")","v":120},{"$f":"IF(T$188=\"Error\",\"Error\",IF(S191<>\"/\",Q191*S191,0))","v":4000000},{"$f":"IF(T$188=\"Error\",\"Error\",IF(T191<>\"/\",Q191*T191,0))","v":120}]
[null,null,null,{"$f":"VLOOKUP($A$2,AVAILABLE_Upgrades_Spells[#All],MATCH(A191,AVAILABLE_Upgrades_Spells[#Headers],0))","v":1},{"$f":"VLOOKUP($A$2,AVAILABLE_Upgrades_Spells[#All],MATCH(A191,AVAILABLE_Upgrades_Spells[#Headers],0)+1)","v":6},null,null,null,{"$f":"IF(SUM(B194:B199)>D192,\"Error\",SUM(B194:B199))","v":0},{"$f":"IF(I$192=\"Error\",\"Error\",D192-I192)","v":1},{"$f":"IF(I$192=\"Error\",\"Error\",SUM(F194:F199))","v":6},3,{"$f":"IF(Paramètres!AJ8=0,\"\",Paramètres!AJ8)","v":""},{"$f":"IF(N191<>0,N191+IF(AND(M191<>\"\",L191<P$6),M191,0),IF(AND(M191<>\"\",L191<P$6),M191,0))","v":0},null,null,{"$f":"IF(R192<>\"/\",IF(T$188=\"Error\",\"Error\",$U$188+N192),\"/\")","v":1},{"$f":"IF(T$188=\"Error\",\"Error\",IF(AND($P$188<>\"/\",$P$188>'Paramètres - Admin'!$A4),'Paramètres - Admin'!$A5,\"/\"))","v":3},{"$f":"IF(R192<>\"/\",VLOOKUP(R192,COSTS_Spell_Freeze[#All],2),\"/\")","v":5000000},{"$f":"IF(R192<>\"/\",VLOOKUP(R192,COSTS_Spell_Freeze[#All],3),\"/\")","v":168},{"$f":"IF(T$188=\"Error\",\"Error\",IF(S192<>\"/\",Q192*S192,0))","v":5000000},{"$f":"IF(T$188=\"Error\",\"Error\",IF(T192<>\"/\",Q192*T192,0))","v":168}]
["+","NB",null,null,null,"NB","+","Coût","Temps","Coût Total","Temps Total",4,{"$f":"IF(Paramètres!AJ9=0,\"\",Paramètres!AJ9)","v":""},{"$f":"IF(N192<>0,N192+IF(AND(M192<>\"\",L192<P$6),M192,0),IF(AND(M192<>\"\",L192<P$6),M192,0))","v":0},null,null,{"$f":"IF(R193<>\"/\",IF(T$188=\"Error\",\"Error\",$U$188+N193),\"/\")","v":1},{"$f":"IF(T$188=\"Error\",\"Error\",IF(AND($P$188<>\"/\",$P$188>'Paramètres - Admin'!$A5),'Paramètres - Admin'!$A6,\"/\"))","v":4},{"$f":"IF(R193<>\"/\",VLOOKUP(R193,COSTS_Spell_Freeze[#All],2),\"/\")","v":6500000},{"$f":"IF(R193<>\"/\",VLOOKUP(R193,COSTS_Spell_Freeze[#All],3),\"/\")","v":240},{"$f":"IF(T$188=\"Error\",\"Error\",IF(S193<>\"/\",Q193*S193,0))","v":6500000},{"$f":"IF(T$188=\"Error\",\"Error\",IF(T193<>\"/\",Q193*T193,0))","v":240}]
[1,{"$f":"IF(Paramètres!AG6=0,\"\",Paramètres!AG6)","v":""},{"$f":"IF(C193<>0,C193+IF(AND(B193<>\"\",A193<E$6),B193,0),IF(AND(B193<>\"\",A193<E$6),B193,0))","v":0},null,null,{"$f":"IF(G194<>\"/\",IF(I$192=\"Error\",\"Error\",$J$192+C194),\"/\")","v":1},{"$f":"IF(I$192=\"Error\",\"Error\",IF(AND($E$192<>\"/\",$E$192>'Paramètres - Admin'!$A2),'Paramètres - Admin'!$A3,\"/\"))","v":1},{"$f":"IF(G194<>\"/\",VLOOKUP(G194,COSTS_Spell_Healing[#All],2),\"/\")","v":0},{"$f":"IF(G194<>\"/\",VLOOKUP(G194,COSTS_Spell_Healing[#All],3),\"/\")","v":0},{"$f":"IF(I$192=\"Error\",\"Error\",IF(H194<>\"/\",F194*H194,0))","v":0},{"$f":"IF(I$192=\"Error\",\"Error\",IF(I194<>\"/\",F194*I194,0))","v":0},5,{"$f":"IF(Paramètres!AJ10=0,\"\",Paramètres!AJ10)","v":""},{"$f":"IF(N193<>0,N193+IF(AND(M193<>\"\",L193<P$6),M193,0),IF(AND(M193<>\"\",L193<P$6),M193,0))","v":0},null,null,{"$f":"IF(R194<>\"/\",IF(T$188=\"Error\",\"Error\",$U$188+N194),\"/\")","v":1},{"$f":"IF(T$188=\"Error\",\"Error\",IF(AND($P$188<>\"/\",$P$188>'Paramètres - Admin'!$A6),'Paramètres - Admin'!$A7,\"/\"))","v":5},{"$f":"IF(R194<>\"/\",VLOOKUP(R194,COSTS_Spell_Freeze[#All],2),\"/\")","v":8000000},{"$f":"IF(R194<>\"/\",VLOOKUP(R194,COSTS_Spell_Freeze[#All],3),\"/\")","v":336},{"$f":"IF(T$188=\"Error\",\"Error\",IF(S194<>\"/\",Q194*S194,0))","v":8000000},{"$f":"IF(T$188=\"Error\",\"Error\",IF(T194<>\"/\",Q194*T194,0))","v":336}]
[2,{"$f":"IF(Paramètres!AG7=0,\"\",Paramètres!AG7)","v":""},0,null,null,1,{"$f":"IF(I$192=\"Error\",\"Error\",IF(AND($E$192<>\"/\",$E$192>'Paramètres - Admin'!$A3),'Paramètres - Admin'!$A4,\"/\"))","v":2},{"$f":"IF(G195<>\"/\",VLOOKUP(G195,COSTS_Spell_Healing[#All],2),\"/\")","v":300000},{"$f":"IF(G195<>\"/\",VLOOKUP(G195,COSTS_Spell_Healing[#All],3),\"/\")","v":24},300000,24,null,null,null,null,null,null,null,null,"Total",{"$f":"IF(T$188=\"Error\",\"Error\",SUM(U190:U194))","v":23500000},{"$f":"IF(T$188=\"Error\",\"Error\",SUM(V190:V193))","v":528}]
[3,{"$f":"IF(Paramètres!AG8=0,\"\",Paramètres!AG8)","v":""},0,null,null,1,{"$f":"IF(I$192=\"Error\",\"Error\",IF(AND($E$192<>\"/\",$E$192>'Paramètres - Admin'!$A4),'Paramètres - Admin'!$A5,\"/\"))","v":3},{"$f":"IF(G196<>\"/\",VLOOKUP(G196,COSTS_Spell_Healing[#All],2),\"/\")","v":600000},{"$f":"IF(G196<>\"/\",VLOOKUP(G196,COSTS_Spell_Healing[#All],3),\"/\")","v":48},600000,48]
[4,{"$f":"IF(Paramètres!AG9=0,\"\",Paramètres!AG9)","v":""},0,null,null,1,{"$f":"IF(I$192=\"Error\",\"Error\",IF(AND($E$192<>\"/\",$E$192>'Paramètres - Admin'!$A5),'Paramètres - Admin'!$A6,\"/\"))","v":4},{"$f":"IF(G197<>\"/\",VLOOKUP(G197,COSTS_Spell_Healing[#All],2),\"/\")","v":1200000},{"$f":"IF(G197<>\"/\",VLOOKUP(G197,COSTS_Spell_Healing[#All],3),\"/\")","v":72},1200000,72]
[5,{"$f":"IF(Paramètres!AG10=0,\"\",Paramètres!AG10)","v":""},0,null,null,1,{"$f":"IF(I$192=\"Error\",\"Error\",IF(AND($E$192<>\"/\",$E$192>'Paramètres - Admin'!$A6),'Paramètres - Admin'!$A7,\"/\"))","v":5},{"$f":"IF(G198<>\"/\",VLOOKUP(G198,COSTS_Spell_Healing[#All],2),\"/\")","v":2400000},{"$f":"IF(G198<>\"/\",VLOOKUP(G198,COSTS_Spell_Healing[#All],3),\"/\")","v":120},2400000,120]
[6,{"$f":"IF(Paramètres!AG11=0,\"\",Paramètres!AG11)","v":""},0,null,null,1,{"$f":"IF(I$192=\"Error\",\"Error\",IF(AND($E$192<>\"/\",$E$192>'Paramètres - Admin'!$A7),'Paramètres - Admin'!$A8,\"/\"))","v":6},{"$f":"IF(G199<>\"/\",VLOOKUP(G199,COSTS_Spell_Healing[#All],2),\"/\")","v":4800000},{"$f":"IF(G199<>\"/\",VLOOKUP(G199,COSTS_Spell_Healing[#All],3),\"/\")","v":168},4800000,168]
[null,null,null,null,null,null,null,null,"Total",{"$f":"IF(I$192=\"Error\",\"Error\",SUM(J194:J199))","v":9300000},{"$f":"IF(I$192=\"Error\",\"Error\",SUM(K194:K199))","v":432}]
["Sort de Rage",null,null,"Max","Max +",null,null,null,"Actuel","À Faire","Améliorations"]
[null,null,null,{"$f":"VLOOKUP($A$2,AVAILABLE_Upgrades_Spells[#All],MATCH(A201,AVAILABLE_Upgrades_Spells[#Headers],0))","v":1},{"$f":"VLOOKUP($A$2,AVAILABLE_Upgrades_Spells[#All],MATCH(A201,AVAILABLE_Upgrades_Spells[#Headers],0)+1)","v":5},null,null,null,{"$f":"IF(SUM(B204:B208)>D202,\"Error\",SUM(B204:B208))","v":0},{"$f":"IF(I$202=\"Error\",\"Error\",D202-I202)","v":1},{"$f":"IF(I$202=\"Error\",\"Error\",SUM(F204:F208))","v":5}]
["+","NB",null,null,null,"NB","+","Coût","Temps","Coût Total","Temps Total"]
[1,{"$f":"IF(Paramètres!AH6=0,\"\",Paramètres!AH6)","v":""},{"$f":"IF(C203<>0,C203+IF(AND(B203<>\"\",A203<E$6),B203,0),IF(AND(B203<>\"\",A203<E$6),B203,0))","v":0},null,null,{"$f":"IF(G204<>\"/\",IF(I$202=\"Error\",\"Error\",$J$202+C204),\"/\")","v":1},{"$f":"IF(I$202=\"Error\",\"Error\",IF(AND($E$202<>\"/\",$E$202>'Paramètres - Admin'!$A2),'Paramètres - Admin'!$A3,\"/\"))","v":1},{"$f":"IF(G204<>\"/\",VLOOKUP(G204,COSTS_Spell_Rage[#All],2),\"/\")","v":0},{"$f":"IF(G204<>\"/\",VLOOKUP(G204,COSTS_Spell_Rage[#All],3),\"/\")","v":0},{"$f":"IF(I$202=\"Error\",\"Error\",IF(H204<>\"/\",F204*H204,0))","v":0},{"$f":"IF(I$202=\"Error\",\"Error\",IF(I204<>\"/\",F204*I204,0))","v":0}]
[2,{"$f":"IF(Paramètres!AH7=0,\"\",Paramètres!AH7)","v":""},{"$f":"IF(C204<>0,C204+IF(AND(B204<>\"\",A204<E$6),B204,0),IF(AND(B204<>\"\",A204<E$6),B204,0))","v":0},null,null,{"$f":"IF(G205<>\"/\",IF(I$202=\"Error\",\"Error\",$J$202+C205),\"/\")","v":1},{"$f":"IF(I$202=\"Error\",\"Error\",IF(AND($E$202<>\"/\",$E$202>'Paramètres - Admin'!$A3),'Paramètres - Admin'!$A4,\"/\"))","v":2},{"$f":"IF(G205<>\"/\",VLOOKUP(G205,COSTS_Spell_Rage[#All],2),\"/\")","v":450000},{"$f":"IF(G205<>\"/\",VLOOKUP(G205,COSTS_Spell_Rage[#All],3),\"/\")","v":48},{"$f":"IF(I$202=\"Error\",\"Error\",IF(H205<>\"/\",F205*H205,0))","v":450000},{"$f":"IF(I$202=\"Error\",\"Error\",IF(I205<>\"/\",F205*I205,0))","v":48}]
[3,{"$f":"IF(Paramètres!AH8=0,\"\",Paramètres!AH8)","v":""},{"$f":"IF(C205<>0,C205+IF(AND(B205<>\"\",A205<E$6),B205,0),IF(AND(B205<>\"\",A205<E$6),B205,0))","v":0},null,null,{"$f":"IF(G206<>\"/\",IF(I$202=\"Error\",\"Error\",$J$202+C206),\"/\")","v":1},{"$f":"IF(I$202=\"Error\",\"Error\",IF(AND($E$202<>\"/\",$E$202>'Paramètres - Admin'!$A4),'Paramètres - Admin'!$A5,\"/\"))","v":3},{"$f":"IF(G206<>\"/\",VLOOKUP(G206,COSTS_Spell_Rage[#All],2),\"/\")","v":900000},{"$f":"IF(G206<>\"/\",VLOOKUP(G206,COSTS_Spell_Rage[#All],3),\"/\")","v":72},{"$f":"IF(I$202=\"Error\",\"Error\",IF(H206<>\"/\",F206*H206,0))","v":900000},{"$f":"IF(I$202=\"Error\",\"Error\",IF(I206<>\"/\",F206*I206,0))","v":72}]
[4,{"$f":"IF(Paramètres!AH9=0,\"\",Paramètres!AH9)","v":""},{"$f":"IF(C206<>0,C206+IF(AND(B206<>\"\",A206<E$6),B206,0),IF(AND(B206<>\"\",A206<E$6),B206,0))","v":0},null,null,{"$f":"IF(G207<>\"/\",IF(I$202=\"Error\",\"Error\",$J$202+C207),\"/\")","v":1},{"$f":"IF(I$202=\"Error\",\"Error\",IF(AND($E$202<>\"/\",$E$202>'Paramètres - Admin'!$A5),'Paramètres - Admin'!$A6,\"/\"))","v":4},{"$f":"IF(G207<>\"/\",VLOOKUP(G207,COSTS_Spell_Rage[#All],2),\"/\")","v":1800000},{"$f":"IF(G207<>\"/\",VLOOKUP(G207,COSTS_Spell_Rage[#All],3),\"/\")","v":120},{"$f":"IF(I$202=\"Error\",\"Error\",IF(H207<>\"/\",F207*H207,0))","v":1800000},{"$f":"IF(I$202=\"Error\",\"Error\",IF(I207<>\"/\",F207*I207,0))","v":120}]
[5,{"$f":"IF(Paramètres!AH10=0,\"\",Paramètres!AH10)","v":""},{"$f":"IF(C207<>0,C207+IF(AND(B207<>\"\",A207<E$6),B207,0),IF(AND(B207<>\"\",A207<E$6),B207,0))","v":0},null,null,{"$f":"IF(G208<>\"/\",IF(I$202=\"Error\",\"Error\",$J$202+C208),\"/\")","v":1},{"$f":"IF(I$202=\"Error\",\"Error\",IF(AND($E$202<>\"/\",$E$202>'Paramètres - Admin'!$A6),'Paramètres - Admin'!$A7,\"/\"))","v":5},{"$f":"IF(G208<>\"/\",VLOOKUP(G208,COSTS_Spell_Rage[#All],2),\"/\")","v":3000000},{"$f":"IF(G208<>\"/\",VLOOKUP(G208,COSTS_Spell_Rage[#All],3),\"/\")","v":168},{"$f":"IF(I$202=\"Error\",\"Error\",IF(H208<>\"/\",F208*H208,0))","v":3000000},{"$f":"IF(I$202=\"Error\",\"Error\",IF(I208<>\"/\",F208*I208,0))","v":168}]
[null,null,null,null,null,null,null,null,"Total",{"$f":"IF(I$202=\"Error\",\"Error\",SUM(J204:J208))","v":6150000},{"$f":"IF(I$202=\"Error\",\"Error\",SUM(K204:K208))","v":408}]
[]
[]
["Améliorations de Troupes"]
["Élixir"]
["Barbare",null,null,"Max","Max +",null,null,null,"Actuel","À Faire","Améliorations","Ballon",null,null,"Max","Max +",null,null,null,"Actuel","À Faire","Améliorations"]
[null,null,null,{"$f":"VLOOKUP($A$2,AVAILABLE_Upgrades_Normal_Troops[#All],MATCH(A214,AVAILABLE_Upgrades_Normal_Troops[#Headers],0))","v":1},{"$f":"VLOOKUP($A$2,AVAILABLE_Upgrades_Normal_Troops[#All],MATCH(A214,AVAILABLE_Upgrades_Normal_Troops[#Headers],0)+1)","v":7},null,null,null,{"$f":"IF(SUM(B217:B222)>D215,\"Error\",SUM(B217:B222))","v":0},{"$f":"IF(I$215=\"Error\",\"Error\",D215-I215)","v":1},{"$f":"IF(I$215=\"Error\",\"Error\",SUM(F217:F222))","v":6},null,null,null,{"$f":"VLOOKUP($A$2,AVAILABLE_Upgrades_Normal_Troops[#All],MATCH(L214,AVAILABLE_Upgrades_Normal_Troops[#Headers],0))","v":1},{"$f":"VLOOKUP($A$2,AVAILABLE_Upgrades_Normal_Troops[#All],MATCH(L214,AVAILABLE_Upgrades_Normal_Troops[#Headers],0)+1)","v":6},null,null,null,{"$f":"IF(SUM(M217:M222)>O215,\"Error\",SUM(M217:M222))","v":0},{"$f":"IF(T$215=\"Error\",\"Error\",O215-T215)","v":1},{"$f":"IF(T$215=\"Error\",\"Error\",SUM(Q217:Q222))","v":6}]
["+","NB",null,null,null,"NB","+","Coût","Temps","Coût Total","Temps Total","+","NB",null,null,null,"NB","+","Coût","Temps","Coût Total","Temps Total"]
[1,{"$f":"IF(Paramètres!AK6=0,\"\",Paramètres!AK6)","v":""},{"$f":"IF(C216<>0,C216+IF(AND(B216<>\"\",A216<E$6),B216,0),IF(AND(B216<>\"\",A216<E$6),B216,0))","v":0},null,null,{"$f":"IF(G217<>\"/\",IF(I$215=\"Error\",\"Error\",$J$215+C217),\"/\")","v":1},{"$f":"IF(I$215=\"Error\",\"Error\",IF(AND($E$215<>\"/\",$E$215>'Paramètres - Admin'!$A2),'Paramètres - Admin'!$A3,\"/\"))","v":1},{"$f":"IF(G217<>\"/\",VLOOKUP(G217,COSTS_Barbarian[#All],2),\"/\")","v":0},{"$f":"IF(G217<>\"/\",VLOOKUP(G217,COSTS_Barbarian[#All],3),\"/\")","v":0},{"$f":"IF(I$215=\"Error\",\"Error\",IF(H217<>\"/\",F217*H217,0))","v":0},{"$f":"IF(I$215=\"Error\",\"Error\",IF(I217<>\"/\",F217*I217,0))","v":0},1,{"$f":"IF(Paramètres!AP6=0,\"\",Paramètres!AP6)","v":""},{"$f":"IF(N216<>0,N216+IF(AND(M216<>\"\",L216<P$6),M216,0),IF(AND(M216<>\"\",L216<P$6),M216,0))","v":0},null,null,{"$f":"IF(R217<>\"/\",IF(T$215=\"Error\",\"Error\",$U$215+N217),\"/\")","v":1},{"$f":"IF(T$215=\"Error\",\"Error\",IF(AND($P$215<>\"/\",$P$215>'Paramètres - Admin'!$A2),'Paramètres - Admin'!$A3,\"/\"))","v":1},{"$f":"IF(R217<>\"/\",VLOOKUP(R217,COSTS_Balloon[#All],2),\"/\")","v":0},{"$f":"IF(R217<>\"/\",VLOOKUP(R217,COSTS_Balloon[#All],3),\"/\")","v":0},{"$f":"IF(T$215=\"Error\",\"Error\",IF(S217<>\"/\",Q217*S217,0))","v":0},{"$f":"IF(T$215=\"Error\",\"Error\",IF(T217<>\"/\",Q217*T217,0))","v":0}]
[2,{"$f":"IF(Paramètres!AK7=0,\"\",Paramètres!AK7)","v":""},0,null,null,1,{"$f":"IF(I$215=\"Error\",\"Error\",IF(AND($E$215<>\"/\",$E$215>'Paramètres - Admin'!$A3),'Paramètres - Admin'!$A4,\"/\"))","v":2},{"$f":"IF(G218<>\"/\",VLOOKUP(G218,COSTS_Barbarian[#All],2),\"/\")","v":50000},{"$f":"IF(G218<>\"/\",VLOOKUP(G218,COSTS_Barbarian[#All],3),\"/\")","v":6},50000,6,2,{"$f":"IF(Paramètres!AP7=0,\"\",Paramètres!AP7)","v":""},0,null,null,1,{"$f":"IF(T$215=\"Error\",\"Error\",IF(AND($P$215<>\"/\",$P$215>'Paramètres - Admin'!$A3),'Paramètres - Admin'!$A4,\"/\"))","v":2},{"$f":"IF(R218<>\"/\",VLOOKUP(R218,COSTS_Balloon[#All],2),\"/\")","v":150000},{"$f":"IF(R218<>\"/\",VLOOKUP(R218,COSTS_Balloon[#All],3),\"/\")","v":24},150000,24]
[3,{"$f":"IF(Paramètres!AK8=0,\"\",Paramètres!AK8)","v":""},0,null,null,1,{"$f":"IF(I$215=\"Error\",\"Error\",IF(AND($E$215<>\"/\",$E$215>'Paramètres - Admin'!$A4),'Paramètres - Admin'!$A5,\"/\"))","v":3},{"$f":"IF(G219<>\"/\",VLOOKUP(G219,COSTS_Barbarian[#All],2),\"/\")","v":150000},{"$f":"IF(G219<>\"/\",VLOOKUP(G219,COSTS_Barbarian[#All],3),\"/\")","v":24},150000,24,3,{"$f":"IF(Paramètres!AP8=0,\"\",Paramètres!AP8)","v":""},0,null,null,1,{"$f":"IF(T$215=\"Error\",\"Error\",IF(AND($P$215<>\"/\",$P$215>'Paramètres - Admin'!$A4),'Paramètres - Admin'!$A5,\"/\"))","v":3},{"$f":"IF(R219<>\"/\",VLOOKUP(R219,COSTS_Balloon[#All],2),\"/\")","v":450000},{"$f":"IF(R219<>\"/\",VLOOKUP(R219,COSTS_Balloon[#All],3),\"/\")","v":48},450000,48]
[4,{"$f":"IF(Paramètres!AK9=0,\"\",Paramètres!AK9)","v":""},0,null,null,1,{"$f":"IF(I$215=\"Error\",\"Error\",IF(AND($E$215<>\"/\",$E$215>'Paramètres - Admin'!$A5),'Paramètres - Admin'!$A6,\"/\"))","v":4},{"$f":"IF(G220<>\"/\",VLOOKUP(G220,COSTS_Barbarian[#All],2),\"/\")","v":500000},{"$f":"IF(G220<>\"/\",VLOOKUP(G220,COSTS_Barbarian[#All],3),\"/\")","v":72},500000,72,4,{"$f":"IF(Paramètres!AP9=0,\"\",Paramètres!AP9)","v":""},0,null,null,1,{"$f":"IF(T$215=\"Error\",\"Error\",IF(AND($P$215<>\"/\",$P$215>'Paramètres - Admin'!$A5),'Paramètres - Admin'!$A6,\"/\"))","v":4},{"$f":"IF(R220<>\"/\",VLOOKUP(R220,COSTS_Balloon[#All],2),\"/\")","v":1350000},{"$f":"IF(R220<>\"/\",VLOOKUP(R220,COSTS_Balloon[#All],3),\"/\")","v":72},1350000,72]
[5,{"$f":"IF(Paramètres!AK10=0,\"\",Paramètres!AK10)","v":""},0,null,null,1,{"$f":"IF(I$215=\"Error\",\"Error\",IF(AND($E$215<>\"/\",$E$215>'Paramètres - Admin'!$A6),'Paramètres - Admin'!$A7,\"/\"))","v":5},{"$f":"IF(G221<>\"/\",VLOOKUP(G221,COSTS_Barbarian[#All],2),\"/\")","v":1500000},{"$f":"IF(G221<>\"/\",VLOOKUP(G221,COSTS_Barbarian[#All],3),\"/\")","v":120},1500000,120,5,{"$f":"IF(Paramètres!AP10=0,\"\",Paramètres!AP10)","v":""},0,null,null,1,{"$f":"IF(T$215=\"Error\",\"Error\",IF(AND($P$215<>\"/\",$P$215>'Paramètres - Admin'!$A6),'Paramètres - Admin'!$A7,\"/\"))","v":5},{"$f":"IF(R221<>\"/\",VLOOKUP(R221,COSTS_Balloon[#All],2),\"/\")","v":2500000},{"$f":"IF(R221<>\"/\",VLOOKUP(R221,COSTS_Balloon[#All],3),\"/\")","v":120},2500000,120]
[6,{"$f":"IF(Paramètres!AK11=0,\"\",Paramètres!AK11)","v":""},0,null,null,1,{"$f":"IF(I$215=\"Error\",\"Error\",IF(AND($E$215<>\"/\",$E$215>'Paramètres - Admin'!$A7),'Paramètres - Admin'!$A8,\"/\"))","v":6},{"$f":"IF(G222<>\"/\",VLOOKUP(G222,COSTS_Barbarian[#All],2),\"/\")","v":4500000},{"$f":"IF(G222<>\"/\",VLOOKUP(G222,COSTS_Barbarian[#All],3),\"/\")","v":240},4500000,240,6,{"$f":"IF(Paramètres!AP11=0,\"\",Paramètres!AP11)","v":""},0,null,null,1,{"$f":"IF(T$215=\"Error\",\"Error\",IF(AND($P$215<>\"/\",$P$215>'Paramètres - Admin'!$A7),'Paramètres - Admin'!$A8,\"/\"))","v":6},{"$f":"IF(R222<>\"/\",VLOOKUP(R222,COSTS_Balloon[#All],2),\"/\")","v":6000000},{"$f":"IF(R222<>\"/\",VLOOKUP(R222,COSTS_Balloon[#All],3),\"/\")","v":240},6000000,240]
[null,null,null,null,null,null,null,null,"Total",{"$f":"IF(I$215=\"Error\",\"Error\",SUM(J217:J222))","v":6700000},{"$f":"IF(I$215=\"Error\",\"Error\",SUM(K217:K222))","v":462},null,null,null,null,null,null,null,null,"Total",{"$f":"IF(T$215=\"Error\",\"Error\",SUM(U217:U222))","v":10450000},{"$f":"IF(T$215=\"Error\",\"Error\",SUM(V217:V222))","v":504}]
["Archer",null,null,"Max","Max +",null,null,null,"Actuel","À Faire","Améliorations","Sorcier",null,null,"Max","Max +",null,null,null,"Actuel","À Faire","Améliorations"]
[null,null,null,{"$f":"VLOOKUP($A$2,AVAILABLE_Upgrades_Normal_Troops[#All],MATCH(A224,AVAILABLE_Upgrades_Normal_Troops[#Headers],0))","v":1},{"$f":"VLOOKUP($A$2,AVAILABLE_Upgrades_Normal_Troops[#All],MATCH(A224,AVAILABLE_Upgrades_Normal_Troops[#Headers],0)+1)","v":7},null,null,null,{"$f":"IF(SUM(B227:B232)>D225,\"Error\",SUM(B227:B232))","v":0},{"$f":"IF(I$225=\"Error\",\"Error\",D225-I225)","v":1},{"$f":"IF(I$225=\"Error\",\"Error\",SUM(F227:F232))","v":6},null,null,null,{"$f":"VLOOKUP($A$2,AVAILABLE_Upgrades_Normal_Troops[#All],MATCH(L224,AVAILABLE_Upgrades_Normal_Troops[#Headers],0))","v":1},{"$f":"VLOOKUP($A$2,AVAILABLE_Upgrades_Normal_Troops[#All],MATCH(L224,AVAILABLE_Upgrades_Normal_Troops[#Headers],0)+1)","v":6},null,null,null,{"$f":"IF(SUM(M227:M232)>O225,\"Error\",SUM(M227:M232))","v":0},{"$f":"IF(T$225=\"Error\",\"Error\",O225-T225)","v":1},{"$f":"IF(T$225=\"Error\",\"Error\",SUM(Q227:Q232))","v":6}]
["+","NB",null,null,null,"NB","+","Coût","Temps","Coût Total","Temps Total","+","NB",null,null,null,"NB","+","Coût","Temps","Coût Total","Temps Total"]
[1,{"$f":"IF(Paramètres!AL6=0,\"\",Paramètres!AL6)","v":""},{"$f":"IF(C226<>0,C226+IF(AND(B226<>\"\",A226<E$6),B226,0),IF(AND(B226<>\"\",A226<E$6),B226,0))","v":0},null,null,{"$f":"IF(G227<>\"/\",IF(I$225=\"Error\",\"Error\",$J$225+C227),\"/\")","v":1},{"$f":"IF(I$225=\"Error\",\"Error\",IF(AND($E$225<>\"/\",$E$225>'Paramètres - Admin'!$A2),'Paramètres - Admin'!$A3,\"/\"))","v":1},{"$f":"IF(G227<>\"/\",VLOOKUP(G227,COSTS_Archer[#All],2),\"/\")","v":0},{"$f":"IF(G227<>\"/\",VLOOKUP(G227,COSTS_Archer[#All],3),\"/\")","v":0},{"$f":"IF(I$225=\"Error\",\"Error\",IF(H227<>\"/\",F227*H227,0))","v":0},{"$f":"IF(I$225=\"Error\",\"Error\",IF(I227<>\"/\",F227*I227,0))","v":0},1,{"$f":"IF(Paramètres!AQ6=0,\"\",Paramètres!AQ6)","v":""},{"$f":"IF(N226<>0,N226+IF(AND(M226<>\"\",L226<P$6),M226,0),IF(AND(M226<>\"\",L226<P$6),M226,0))","v":0},null,null,{"$f":"IF(R227<>\"/\",IF(T$225=\"Error\",\"Error\",$U$225+N227),\"/\")","v":1},{"$f":"IF(T$225=\"Error\",\"Error\",IF(AND($P$225<>\"/\",$P$225>'Paramètres - Admin'!$A2),'Paramètres - Admin'!$A3,\"/\"))","v":1},{"$f":"IF(R227<>\"/\",VLOOKUP(R227,COSTS_Wizard[#All],2),\"/\")","v":0},{"$f":"IF(R227<>\"/\",VLOOKUP(R227,COSTS_Wizard[#All],3),\"/\")","v":0},{"$f":"IF(T$225=\"Error\",\"Error\",IF(S227<>\"/\",Q227*S227,0))","v":0},{"$f":"IF(T$225=\"Error\",\"Error\",IF(T227<>\"/\",Q227*T227,0))","v":0}]
[2,{"$f":"IF(Paramètres!AL7=0,\"\",Paramètres!AL7)","v":""},0,null,null,1,{"$f":"IF(I$225=\"Error\",\"Error\",IF(AND($E$225<>\"/\",$E$225>'Paramètres - Admin'!$A3),'Paramètres - Admin'!$A4,\"/\"))","v":2},{"$f":"IF(G228<>\"/\",VLOOKUP(G228,COSTS_Archer[#All],2),\"/\")","v":50000},{"$f":"IF(G228<>\"/\",VLOOKUP(G228,COSTS_Archer[#All],3),\"/\")","v":12},50000,12,2,{"$f":"IF(Paramètres!AQ7=0,\"\",Paramètres!AQ7)","v":""},0,null,null,1,{"$f":"IF(T$225=\"Error\",\"Error\",IF(AND($P$225<>\"/\",$P$225>'Paramètres - Admin'!$A3),'Paramètres - Admin'!$A4,\"/\"))","v":2},{"$f":"IF(R228<>\"/\",VLOOKUP(R228,COSTS_Wizard[#All],2),\"/\")","v":150000},{"$f":"IF(R228<>\"/\",VLOOKUP(R228,COSTS_Wizard[#All],3),\"/\")","v":24},150000,24]
[3,{"$f":"IF(Paramètres!AL8=0,\"\",Paramètres!AL8)","v":""},0,null,null,1,{"$f":"IF(I$225=\"Error\",\"Error\",IF(AND($E$225<>\"/\",$E$225>'Paramètres - Admin'!$A4),'Paramètres - Admin'!$A5,\"/\"))","v":3},{"$f":"IF(G229<>\"/\",VLOOKUP(G229,COSTS_Archer[#All],2),\"/\")","v":250000},{"$f":"IF(G229<>\"/\",VLOOKUP(G229,COSTS_Archer[#All],3),\"/\")","v":48},250000,48,3,{"$f":"IF(Paramètres!AQ8=0,\"\",Paramètres!AQ8)","v":""},0,null,null,1,{"$f":"IF(T$225=\"Error\",\"Error\",IF(AND($P$225<>\"/\",$P$225>'Paramètres - Admin'!$A4),'Paramètres - Admin'!$A5,\"/\"))","v":3},{"$f":"IF(R229<>\"/\",VLOOKUP(R229,COSTS_Wizard[#All],2),\"/\")","v":450000},{"$f":"IF(R229<>\"/\",VLOOKUP(R229,COSTS_Wizard[#All],3),\"/\")","v":48},450000,48]
[4,{"$f":"IF(Paramètres!AL9=0,\"\",Paramètres!AL9)","v":""},0,null,null,1,{"$f":"IF(I$225=\"Error\",\"Error\",IF(AND($E$225<>\"/\",$E$225>'Paramètres - Admin'!$A5),'Paramètres - Admin'!$A6,\"/\"))","v":4},{"$f":"IF(G230<>\"/\",VLOOKUP(G230,COSTS_Archer[#All],2),\"/\")","v":750000},{"$f":"IF(G230<>\"/\",VLOOKUP(G230,COSTS_Archer[#All],3),\"/\")","v":72},750000,72,4,{"$f":"IF(Paramètres!AQ9=0,\"\",Paramètres!AQ9)","v":""},0,null,null,1,{"$f":"IF(T$225=\"Error\",\"Error\",IF(AND($P$225<>\"/\",$P$225>'Paramètres - Admin'!$A5),'Paramètres - Admin'!$A6,\"/\"))","v":4},{"$f":"IF(R230<>\"/\",VLOOKUP(R230,COSTS_Wizard[#All],2),\"/\")","v":1350000},{"$f":"IF(R230<>\"/\",VLOOKUP(R230,COSTS_Wizard[#All],3),\"/\")","v":72},1350000,72]
[5,{"$f":"IF(Paramètres!AL10=0,\"\",Paramètres!AL10)","v":""},0,null,null,1,{"$f":"IF(I$225=\"Error\",\"Error\",IF(AND($E$225<>\"/\",$E$225>'Paramètres - Admin'!$A6),'Paramètres - Admin'!$A7,\"/\"))","v":5},{"$f":"IF(G231<>\"/\",VLOOKUP(G231,COSTS_Archer[#All],2),\"/\")","v":2250000},{"$f":"IF(G231<>\"/\",VLOOKUP(G231,COSTS_Archer[#All],3),\"/\")","v":120},2250000,120,5,{"$f":"IF(Paramètres!AQ10=0,\"\",Paramètres!AQ10)","v":""},0,null,null,1,{"$f":"IF(T$225=\"Error\",\"Error\",IF(AND($P$225<>\"/\",$P$225>'Paramètres - Admin'!$A6),'Paramètres - Admin'!$A7,\"/\"))","v":5},{"$f":"IF(R231<>\"/\",VLOOKUP(R231,COSTS_Wizard[#All],2),\"/\")","v":2500000},{"$f":"IF(R231<>\"/\",VLOOKUP(R231,COSTS_Wizard[#All],3),\"/\")","v":120},2500000,120]
[6,{"$f":"IF(Paramètres!AL11=0,\"\",Paramètres!AL11)","v":""},0,null,null,1,{"$f":"IF(I$225=\"Error\",\"Error\",IF(AND($E$225<>\"/\",$E$225>'Paramètres - Admin'!$A7),'Paramètres - Admin'!$A8,\"/\"))","v":6},{"$f":"IF(G232<>\"/\",VLOOKUP(G232,COSTS_Archer[#All],2),\"/\")","v":6000000},{"$f":"IF(G232<>\"/\",VLOOKUP(G232,COSTS_Archer[#All],3),\"/\")","v":350},6000000,350,6,{"$f":"IF(Paramètres!AQ11=0,\"\",Paramètres!AQ11)","v":""},0,null,null,1,{"$f":"IF(T$225=\"Error\",\"Error\",IF(AND($P$225<>\"/\",$P$225>'Paramètres - Admin'!$A7),'Paramètres - Admin'!$A8,\"/\"))","v":6},{"$f":"IF(R232<>\"/\",VLOOKUP(R232,COSTS_Wizard[#All],2),\"/\")","v":7500000},{"$f":"IF(R232<>\"/\",VLOOKUP(R232,COSTS_Wizard[#All],3),\"/\")","v":336},7500000,336]
[null,null,null,null,null,null,null,null,"Total",{"$f":"IF(I$225=\"Error\",\"Error\",SUM(J227:J232))","v":9300000},{"$f":"IF(I$225=\"Error\",\"Error\",SUM(K227:K232))","v":602},null,null,null,null,null,null,null,null,"Total",{"$f":"IF(T$225=\"Error\",\"Error\",SUM(U227:U232))","v":11950000},{"$f":"IF(T$225=\"Error\",\"Error\",SUM(V227:V232))","v":600}]
["Gobelin",null,null,"Max","Max +",null,null,null,"Actuel","À Faire","Améliorations","Guérisseuse",null,null,"Max","Max +",null,null,null,"Actuel","À Faire","Améliorations"]
[null,null,null,{"$f":"VLOOKUP($A$2,AVAILABLE_Upgrades_Normal_Troops[#All],MATCH(A234,AVAILABLE_Upgrades_Normal_Troops[#Headers],0))","v":1},{"$f":"VLOOKUP($A$2,AVAILABLE_Upgrades_Normal_Troops[#All],MATCH(A234,AVAILABLE_Upgrades_Normal_Troops[#Headers],0)+1)","v":6},null,null,null,{"$f":"IF(SUM(B237:B242)>D235,\"Error\",SUM(B237:B242))","v":0},{"$f":"IF(I$235=\"Error\",\"Error\",D235-I235)","v":1},{"$f":"IF(I$235=\"Error\",\"Error\",SUM(F237:F242))","v":6},null,null,null,{"$f":"VLOOKUP($A$2,AVAILABLE_Upgrades_Normal_Troops[#All],MATCH(L234,AVAILABLE_Upgrades_Normal_Troops[#Headers],0))","v":1},{"$f":"VLOOKUP($A$2,AVAILABLE_Upgrades_Normal_Troops[#All],MATCH(L234,AVAILABLE_Upgrades_Normal_Troops[#Headers],0)+1)","v":4},null,null,null,{"$f":"IF(SUM(M237:M240)>O235,\"Error\",SUM(M237:M240))","v":0},{"$f":"IF(T$235=\"Error\",\"Error\",O235-T235)","v":1},{"$f":"IF(T$235=\"Error\",\"Error\",SUM(Q237:Q240))","v":4}]
["+","NB",null,null,null,"NB","+","Coût","Temps","Coût Total","Temps Total","+","NB",null,null,null,"NB","+","Coût","Temps","Coût Total","Temps Total"]
[1,{"$f":"IF(Paramètres!AN6=0,\"\",Paramètres!AN6)","v":""},{"$f":"IF(C236<>0,C236+IF(AND(B236<>\"\",A236<E$6),B236,0),IF(AND(B236<>\"\",A236<E$6),B236,0))","v":0},null,null,{"$f":"IF(G237<>\"/\",IF(I$235=\"Error\",\"Error\",$J$235+C237),\"/\")","v":1},{"$f":"IF(I$235=\"Error\",\"Error\",IF(AND($E$235<>\"/\",$E$235>'Paramètres - Admin'!$A2),'Paramètres - Admin'!$A3,\"/\"))","v":1},{"$f":"IF(G237<>\"/\",VLOOKUP(G237,COSTS_Goblin[#All],2),\"/\")","v":0},{"$f":"IF(G237<>\"/\",VLOOKUP(G237,COSTS_Goblin[#All],3),\"/\")","v":0},{"$f":"IF(I$235=\"Error\",\"Error\",IF(H237<>\"/\",F237*H237,0))","v":0},{"$f":"IF(I$235=\"Error\",\"Error\",IF(I237<>\"/\",F237*I237,0))","v":0},1,{"$f":"IF(Paramètres!AR6=0,\"\",Paramètres!AR6)","v":""},{"$f":"IF(N236<>0,N236+IF(AND(M236<>\"\",L236<P$6),M236,0),IF(AND(M236<>\"\",L236<P$6),M236,0))","v":0},null,null,{"$f":"IF(R237<>\"/\",IF(T$235=\"Error\",\"Error\",$U$235+N237),\"/\")","v":1},{"$f":"IF(T$235=\"Error\",\"Error\",IF(AND($P$235<>\"/\",$P$235>'Paramètres - Admin'!$A2),'Paramètres - Admin'!$A3,\"/\"))","v":1},{"$f":"IF(R237<>\"/\",VLOOKUP(R237,COSTS_Healer[#All],2),\"/\")","v":0},{"$f":"IF(R237<>\"/\",VLOOKUP(R237,COSTS_Healer[#All],3),\"/\")","v":0},{"$f":"IF(T$235=\"Error\",\"Error\",IF(S237<>\"/\",Q237*S237,0))","v":0},{"$f":"IF(T$235=\"Error\",\"Error\",IF(T237<>\"/\",Q237*T237,0))","v":0}]
[2,{"$f":"IF(Paramètres!AN7=0,\"\",Paramètres!AN7)","v":""},0,null,null,1,{"$f":"IF(I$235=\"Error\",\"Error\",IF(AND($E$235<>\"/\",$E$235>'Paramètres - Admin'!$A3),'Paramètres - Admin'!$A4,\"/\"))","v":2},{"$f":"IF(G238<>\"/\",VLOOKUP(G238,COSTS_Goblin[#All],2),\"/\")","v":50000},{"$f":"IF(G238<>\"/\",VLOOKUP(G238,COSTS_Goblin[#All],3),\"/\")","v":12},50000,12,2,{"$f":"IF(Paramètres!AR7=0,\"\",Paramètres!AR7)","v":""},{"$f":"IF(N237<>0,N237+IF(AND(M237<>\"\",L237<P$6),M237,0),IF(AND(M237<>\"\",L237<P$6),M237,0))","v":0},null,null,{"$f":"IF(R238<>\"/\",IF(T$235=\"Error\",\"Error\",$U$235+N238),\"/\")","v":1},{"$f":"IF(T$235=\"Error\",\"Error\",IF(AND($P$235<>\"/\",$P$235>'Paramètres - Admin'!$A3),'Paramètres - Admin'!$A4,\"/\"))","v":2},{"$f":"IF(R238<>\"/\",VLOOKUP(R238,COSTS_Healer[#All],2),\"/\")","v":750000},{"$f":"IF(R238<>\"/\",VLOOKUP(R238,COSTS_Healer[#All],3),\"/\")","v":72},{"$f":"IF(T$235=\"Error\",\"Error\",IF(S238<>\"/\",Q238*S238,0))","v":750000},{"$f":"IF(T$235=\"Error\",\"Error\",IF(T238<>\"/\",Q238*T238,0))","v":72}]
[3,{"$f":"IF(Paramètres!AN8=0,\"\",Paramètres!AN8)","v":""},0,null,null,1,{"$f":"IF(I$235=\"Error\",\"Error\",IF(AND($E$235<>\"/\",$E$235>'Paramètres - Admin'!$A4),'Paramètres - Admin'!$A5,\"/\"))","v":3},{"$f":"IF(G239<>\"/\",VLOOKUP(G239,COSTS_Goblin[#All],2),\"/\")","v":250000},{"$f":"IF(G239<>\"/\",VLOOKUP(G239,COSTS_Goblin[#All],3),\"/\")","v":48},250000,48,3,{"$f":"IF(Paramètres!AR8=0,\"\",Paramètres!AR8)","v":""},{"$f":"IF(N238<>0,N238+IF(AND(M238<>\"\",L238<P$6),M238,0),IF(AND(M238<>\"\",L238<P$6),M238,0))","v":0},null,null,{"$f":"IF(R239<>\"/\",IF(T$235=\"Error\",\"Error\",$U$235+N239),\"/\")","v":1},{"$f":"IF(T$235=\"Error\",\"Error\",IF(AND($P$235<>\"/\",$P$235>'Paramètres - Admin'!$A4),'Paramètres - Admin'!$A5,\"/\"))","v":3},{"$f":"IF(R239<>\"/\",VLOOKUP(R239,COSTS_Healer[#All],2),\"/\")","v":1500000},{"$f":"IF(R239<>\"/\",VLOOKUP(R239,COSTS_Healer[#All],3),\"/\")","v":120},{"$f":"IF(T$235=\"Error\",\"Error\",IF(S239<>\"/\",Q239*S239,0))","v":1500000},{"$f":"IF(T$235=\"Error\",\"Error\",IF(T239<>\"/\",Q239*T239,0))","v":120}]
[4,{"$f":"IF(Paramètres!AN9=0,\"\",Paramètres!AN9)","v":""},0,null,null,1,{"$f":"IF(I$235=\"Error\",\"Error\",IF(AND($E$235<>\"/\",$E$235>'Paramètres - Admin'!$A5),'Paramètres - Admin'!$A6,\"/\"))","v":4},{"$f":"IF(G240<>\"/\",VLOOKUP(G240,COSTS_Goblin[#All],2),\"/\")","v":750000},{"$f":"IF(G240<>\"/\",VLOOKUP(G240,COSTS_Goblin[#All],3),\"/\")","v":72},750000,72,4,{"$f":"IF(Paramètres!AR9=0,\"\",Paramètres!AR9)","v":""},{"$f":"IF(N239<>0,N239+IF(AND(M239<>\"\",L239<P$6),M239,0),IF(AND(M239<>\"\",L239<P$6),M239,0))","v":0},null,null,{"$f":"IF(R240<>\"/\",IF(T$235=\"Error\",\"Error\",$U$235+N240),\"/\")","v":1},{"$f":"IF(T$235=\"Error\",\"Error\",IF(AND($P$235<>\"/\",$P$235>'Paramètres - Admin'!$A5),'Paramètres - Admin'!$A6,\"/\"))","v":4},{"$f":"IF(R240<>\"/\",VLOOKUP(R240,COSTS_Healer[#All],2),\"/\")","v":3000000},{"$f":"IF(R240<>\"/\",VLOOKUP(R240,COSTS_Healer[#All],3),\"/\")","v":168},{"$f":"IF(T$235=\"Error\",\"Error\",IF(S240<>\"/\",Q240*S240,0))","v":3000000},{"$f":"IF(T$235=\"Error\",\"Error\",IF(T240<>\"/\",Q240*T240,0))","v":168}]
[5,{"$f":"IF(Paramètres!AN10=0,\"\",Paramètres!AN10)","v":""},0,null,null,1,{"$f":"IF(I$235=\"Error\",\"Error\",IF(AND($E$235<>\"/\",$E$235>'Paramètres - Admin'!$A6),'Paramètres - Admin'!$A7,\"/\"))","v":5},{"$f":"IF(G241<>\"/\",VLOOKUP(G241,COSTS_Goblin[#All],2),\"/\")","v":2250000},{"$f":"IF(G241<>\"/\",VLOOKUP(G241,COSTS_Goblin[#All],3),\"/\")","v":120},2250000,120,null,null,null,null,null,null,null,null,"Total",{"$f":"IF(T$235=\"Error\",\"Error\",SUM(U237:U240))","v":5250000},{"$f":"IF(T$235=\"Error\",\"Error\",SUM(V237:V240))","v":360}]
[6,{"$f":"IF(Paramètres!AN11=0,\"\",Paramètres!AN11)","v":""},0,null,null,1,{"$f":"IF(I$235=\"Error\",\"Error\",IF(AND($E$235<>\"/\",$E$235>'Paramètres - Admin'!$A7),'Paramètres - Admin'!$A8,\"/\"))","v":6},{"$f":"IF(G242<>\"/\",VLOOKUP(G242,COSTS_Goblin[#All],2),\"/\")","v":4500000},{"$f":"IF(G242<>\"/\",VLOOKUP(G242,COSTS_Goblin[#All],3),\"/\")","v":240},4500000,240,"Dragon",null,null,"Max","Max +",null,null,null,"Actuel","À Faire","Améliorations"]
[null,null,null,null,null,null,null,null,"Total",{"$f":"IF(I$235=\"Error\",\"Error\",SUM(J237:J242))","v":7800000},{"$f":"IF(I$235=\"Error\",\"Error\",SUM(K237:K242))","v":492},null,null,null,{"$f":"VLOOKUP($A$2,AVAILABLE_Upgrades_Normal_Troops[#All],MATCH(L242,AVAILABLE_Upgrades_Normal_Troops[#Headers],0))","v":1},{"$f":"VLOOKUP($A$2,AVAILABLE_Upgrades_Normal_Troops[#All],MATCH(L242,AVAILABLE_Upgrades_Normal_Troops[#Headers],0)+1)","v":4},null,null,null,{"$f":"IF(SUM(M245:M248)>O243,\"Error\",SUM(M245:M248))","v":0},{"$f":"IF(T$243=\"Error\",\"Error\",O243-T243)","v":1},{"$f":"IF(T$243=\"Error\",\"Error\",SUM(Q245:Q248))","v":4}]
["Géant",null,null,"Max","Max +",null,null,null,"Actuel","À Faire","Améliorations","+","NB",null,null,null,"NB","+","Coût","Temps","Coût Total","Temps Total"]
[null,null,null,{"$f":"VLOOKUP($A$2,AVAILABLE_Upgrades_Normal_Troops[#All],MATCH(A244,AVAILABLE_Upgrades_Normal_Troops[#Headers],0))","v":1},{"$f":"VLOOKUP($A$2,AVAILABLE_Upgrades_Normal_Troops[#All],MATCH(A244,AVAILABLE_Upgrades_Normal_Troops[#Headers],0)+1)","v":7},null,null,null,{"$f":"IF(SUM(B247:B252)>D245,\"Error\",SUM(B247:B252))","v":0},{"$f":"IF(I$245=\"Error\",\"Error\",D245-I245)","v":1},{"$f":"IF(I$245=\"Error\",\"Error\",SUM(F247:F252))","v":6},1,{"$f":"IF(Paramètres!AS6=0,\"\",Paramètres!AS6)","v":""},{"$f":"IF(N244<>0,N244+IF(AND(M244<>\"\",L244<P$6),M244,0),IF(AND(M244<>\"\",L244<P$6),M244,0))","v":0},null,null,{"$f":"IF(R245<>\"/\",IF(T$243=\"Error\",\"Error\",$U$243+N245),\"/\")","v":1},{"$f":"IF(T$243=\"Error\",\"Error\",IF(AND($P$243<>\"/\",$P$243>'Paramètres - Admin'!$A2),'Paramètres - Admin'!$A3,\"/\"))","v":1},{"$f":"IF(R245<>\"/\",VLOOKUP(R245,COSTS_Dragon[#All],2),\"/\")","v":0},{"$f":"IF(R245<>\"/\",VLOOKUP(R245,COSTS_Dragon[#All],3),\"/\")","v":0},{"$f":"IF(T$243=\"Error\",\"Error\",IF(S245<>\"/\",Q245*S245,0))","v":0},{"$f":"IF(T$243=\"Error\",\"Error\",IF(T245<>\"/\",Q245*T245,0))","v":0}]
["+","NB",null,null,null,"NB","+","Coût","Temps","Coût Total","Temps Total",2,{"$f":"IF(Paramètres!AS7=0,\"\",Paramètres!AS7)","v":""},{"$f":"IF(N245<>0,N245+IF(AND(M245<>\"\",L245<P$6),M245,0),IF(AND(M245<>\"\",L245<P$6),M245,0))","v":0},null,null,{"$f":"IF(R246<>\"/\",IF(T$243=\"Error\",\"Error\",$U$243+N246),\"/\")","v":1},{"$f":"IF(T$243=\"Error\",\"Error\",IF(AND($P$243<>\"/\",$P$243>'Paramètres - Admin'!$A3),'Paramètres - Admin'!$A4,\"/\"))","v":2},{"$f":"IF(R246<>\"/\",VLOOKUP(R246,COSTS_Dragon[#All],2),\"/\")","v":2000000},{"$f":"IF(R246<>\"/\",VLOOKUP(R246,COSTS_Dragon[#All],3),\"/\")","v":168},{"$f":"IF(T$243=\"Error\",\"Error\",IF(S246<>\"/\",Q246*S246,0))","v":2000000},{"$f":"IF(T$243=\"Error\",\"Error\",IF(T246<>\"/\",Q246*T246,0))","v":168}]
[1,{"$f":"IF(Paramètres!AM6=0,\"\",Paramètres!AM6)","v":""},{"$f":"IF(C246<>0,C246+IF(AND(B246<>\"\",A246<E$6),B246,0),IF(AND(B246<>\"\",A246<E$6),B246,0))","v":0},null,null,{"$f":"IF(G247<>\"/\",IF(I$245=\"Error\",\"Error\",$J$245+C247),\"/\")","v":1},{"$f":"IF(I$245=\"Error\",\"Error\",IF(AND($E$245<>\"/\",$E$245>'Paramètres - Admin'!$A2),'Paramètres - Admin'!$A3,\"/\"))","v":1},{"$f":"IF(G247<>\"/\",VLOOKUP(G247,COSTS_Giant[#All],2),\"/\")","v":0},{"$f":"IF(G247<>\"/\",VLOOKUP(G247,COSTS_Giant[#All],3),\"/\")","v":0},{"$f":"IF(I$245=\"Error\",\"Error\",IF(H247<>\"/\",F247*H247,0))","v":0},{"$f":"IF(I$245=\"Error\",\"Error\",IF(I247<>\"/\",F247*I247,0))","v":0},3,{"$f":"IF(Paramètres!AS8=0,\"\",Paramètres!AS8)","v":""},{"$f":"IF(N246<>0,N246+IF(AND(M246<>\"\",L246<P$6),M246,0),IF(AND(M246<>\"\",L246<P$6),M246,0))","v":0},null,null,{"$f":"IF(R247<>\"/\",IF(T$243=\"Error\",\"Error\",$U$243+N247),\"/\")","v":1},{"$f":"IF(T$243=\"Error\",\"Error\",IF(AND($P$243<>\"/\",$P$243>'Paramètres - Admin'!$A4),'Paramètres - Admin'!$A5,\"/\"))","v":3},{"$f":"IF(R247<>\"/\",VLOOKUP(R247,COSTS_Dragon[#All],2),\"/\")","v":3000000},{"$f":"IF(R247<>\"/\",VLOOKUP(R247,COSTS_Dragon[#All],3),\"/\")","v":240},{"$f":"IF(T$243=\"Error\",\"Error\",IF(S247<>\"/\",Q247*S247,0))","v":3000000},{"$f":"IF(T$243=\"Error\",\"Error\",IF(T247<>\"/\",Q247*T247,0))","v":240}]
[2,{"$f":"IF(Paramètres!AM7=0,\"\",Paramètres!AM7)","v":""},0,null,null,1,{"$f":"IF(I$245=\"Error\",\"Error\",IF(AND($E$245<>\"/\",$E$245>'Paramètres - Admin'!$A3),'Paramètres - Admin'!$A4,\"/\"))","v":2},{"$f":"IF(G248<>\"/\",VLOOKUP(G248,COSTS_Giant[#All],2),\"/\")","v":100000},{"$f":"IF(G248<>\"/\",VLOOKUP(G248,COSTS_Giant[#All],3),\"/\")","v":24},100000,24,4,{"$f":"IF(Paramètres!AS9=0,\"\",Paramètres!AS9)","v":""},{"$f":"IF(N247<>0,N247+IF(AND(M247<>\"\",L247<P$6),M247,0),IF(AND(M247<>\"\",L247<P$6),M247,0))","v":0},null,null,{"$f":"IF(R248<>\"/\",IF(T$243=\"Error\",\"Error\",$U$243+N248),\"/\")","v":1},{"$f":"IF(T$243=\"Error\",\"Error\",IF(AND($P$243<>\"/\",$P$243>'Paramètres - Admin'!$A5),'Paramètres - Admin'!$A6,\"/\"))","v":4},{"$f":"IF(R248<>\"/\",VLOOKUP(R248,COSTS_Dragon[#All],2),\"/\")","v":8000000},{"$f":"IF(R248<>\"/\",VLOOKUP(R248,COSTS_Dragon[#All],3),\"/\")","v":288},{"$f":"IF(T$243=\"Error\",\"Error\",IF(S248<>\"/\",Q248*S248,0))","v":8000000},{"$f":"IF(T$243=\"Error\",\"Error\",IF(T248<>\"/\",Q248*T248,0))","v":288}]
[3,{"$f":"IF(Paramètres!AM8=0,\"\",Paramètres!AM8)","v":""},0,null,null,1,{"$f":"IF(I$245=\"Error\",\"Error\",IF(AND($E$245<>\"/\",$E$245>'Paramètres - Admin'!$A4),'Paramètres - Admin'!$A5,\"/\"))","v":3},{"$f":"IF(G249<>\"/\",VLOOKUP(G249,COSTS_Giant[#All],2),\"/\")","v":250000},{"$f":"IF(G249<>\"/\",VLOOKUP(G249,COSTS_Giant[#All],3),\"/\")","v":48},250000,48,null,null,null,null,null,null,null,null,"Total",{"$f":"IF(T$243=\"Error\",\"Error\",SUM(U245:U248))","v":13000000},{"$f":"IF(T$243=\"Error\",\"Error\",SUM(V245:V248))","v":696}]
[4,{"$f":"IF(Paramètres!AM9=0,\"\",Paramètres!AM9)","v":""},0,null,null,1,{"$f":"IF(I$245=\"Error\",\"Error\",IF(AND($E$245<>\"/\",$E$245>'Paramètres - Admin'!$A5),'Paramètres - Admin'!$A6,\"/\"))","v":4},{"$f":"IF(G250<>\"/\",VLOOKUP(G250,COSTS_Giant[#All],2),\"/\")","v":750000},{"$f":"IF(G250<>\"/\",VLOOKUP(G250,COSTS_Giant[#All],3),\"/\")","v":72},750000,72,"P.E.K.K.A",null,null,"Max","Max +",null,null,null,"Actuel","À Faire","Améliorations"]
[5,{"$f":"IF(Paramètres!AM10=0,\"\",Paramètres!AM10)","v":""},0,null,null,1,{"$f":"IF(I$245=\"Error\",\"Error\",IF(AND($E$245<>\"/\",$E$245>'Paramètres - Admin'!$A6),'Paramètres - Admin'!$A7,\"/\"))","v":5},{"$f":"IF(G251<>\"/\",VLOOKUP(G251,COSTS_Giant[#All],2),\"/\")","v":2250000},{"$f":"IF(G251<>\"/\",VLOOKUP(G251,COSTS_Giant[#All],3),\"/\")","v":120},2250000,120,null,null,null,{"$f":"VLOOKUP($A$2,AVAILABLE_Upgrades_Normal_Troops[#All],MATCH(L250,AVAILABLE_Upgrades_Normal_Troops[#Headers],0))","v":1},{"$f":"VLOOKUP($A$2,AVAILABLE_Upgrades_Normal_Troops[#All],MATCH(L250,AVAILABLE_Upgrades_Normal_Troops[#Headers],0)+1)","v":5},null,null,null,{"$f":"IF(SUM(M253:M256)>O251,\"Error\",SUM(M253:M256))","v":0},{"$f":"IF(T$251=\"Error\",\"Error\",O251-T251)","v":1},{"$f":"IF(T$251=\"Error\",\"Error\",SUM(Q253:Q256))","v":4}]
[6,{"$f":"IF(Paramètres!AM11=0,\"\",Paramètres!AM11)","v":""},0,null,null,1,{"$f":"IF(I$245=\"Error\",\"Error\",IF(AND($E$245<>\"/\",$E$245>'Paramètres - Admin'!$A7),'Paramètres - Admin'!$A8,\"/\"))","v":6},{"$f":"IF(G252<>\"/\",VLOOKUP(G252,COSTS_Giant[#All],2),\"/\")","v":6000000},{"$f":"IF(G252<>\"/\",VLOOKUP(G252,COSTS_Giant[#All],3),\"/\")","v":240},6000000,240,"+","NB",null,null,null,"NB","+","Coût","Temps","Coût Total","Temps Total"]
[null,null,null,null,null,null,null,null,"Total",{"$f":"IF(I$245=\"Error\",\"Error\",SUM(J247:J252))","v":9350000},{"$f":"IF(I$245=\"Error\",\"Error\",SUM(K247:K252))","v":504},1,{"$f":"IF(Paramètres!AT6=0,\"\",Paramètres!AT6)","v":""},{"$f":"IF(N252<>0,N252+IF(AND(M252<>\"\",L252<P$6),M252,0),IF(AND(M252<>\"\",L252<P$6),M252,0))","v":0},null,null,{"$f":"IF(R253<>\"/\",IF(T$251=\"Error\",\"Error\",$U$251+N253),\"/\")","v":1},{"$f":"IF(T$251=\"Error\",\"Error\",IF(AND($P$251<>\"/\",$P$251>'Paramètres - Admin'!$A2),'Paramètres - Admin'!$A3,\"/\"))","v":1},{"$f":"IF(R253<>\"/\",VLOOKUP(R253,COSTS_PEKKA[#All],2),\"/\")","v":0},{"$f":"IF(R253<>\"/\",VLOOKUP(R253,COSTS_PEKKA[#All],3),\"/\")","v":0},{"$f":"IF(T$251=\"Error\",\"Error\",IF(S253<>\"/\",Q253*S253,0))","v":0},{"$f":"IF(T$251=\"Error\",\"Error\",IF(T253<>\"/\",Q253*T253,0))","v":0}]
["Sapeur",null,null,"Max","Max +",null,null,null,"Actuel","À Faire","Améliorations",2,{"$f":"IF(Paramètres!AT7=0,\"\",Paramètres!AT7)","v":""},{"$f":"IF(N253<>0,N253+IF(AND(M253<>\"\",L253<P$6),M253,0),IF(AND(M253<>\"\",L253<P$6),M253,0))","v":0},null,null,{"$f":"IF(R254<>\"/\",IF(T$251=\"Error\",\"Error\",$U$251+N254),\"/\")","v":1},{"$f":"IF(T$251=\"Error\",\"Error\",IF(AND($P$251<>\"/\",$P$251>'Paramètres - Admin'!$A3),'Paramètres - Admin'!$A4,\"/\"))","v":2},{"$f":"IF(R254<>\"/\",VLOOKUP(R254,COSTS_PEKKA[#All],2),\"/\")","v":3000000},{"$f":"IF(R254<>\"/\",VLOOKUP(R254,COSTS_PEKKA[#All],3),\"/\")","v":240},{"$f":"IF(T$251=\"Error\",\"Error\",IF(S254<>\"/\",Q254*S254,0))","v":3000000},{"$f":"IF(T$251=\"Error\",\"Error\",IF(T254<>\"/\",Q254*T254,0))","v":240}]
[null,null,null,{"$f":"VLOOKUP($A$2,AVAILABLE_Upgrades_Normal_Troops[#All],MATCH(A254,AVAILABLE_Upgrades_Normal_Troops[#Headers],0))","v":1},{"$f":"VLOOKUP($A$2,AVAILABLE_Upgrades_Normal_Troops[#All],MATCH(A254,AVAILABLE_Upgrades_Normal_Troops[#Headers],0)+1)","v":6},null,null,null,{"$f":"IF(SUM(B257:B262)>D255,\"Error\",SUM(B257:B262))","v":0},{"$f":"IF(I$255=\"Error\",\"Error\",D255-I255)","v":1},{"$f":"IF(I$255=\"Error\",\"Error\",SUM(F257:F262))","v":6},3,{"$f":"IF(Paramètres!AT8=0,\"\",Paramètres!AT8)","v":""},{"$f":"IF(N254<>0,N254+IF(AND(M254<>\"\",L254<P$6),M254,0),IF(AND(M254<>\"\",L254<P$6),M254,0))","v":0},null,null,{"$f":"IF(R255<>\"/\",IF(T$251=\"Error\",\"Error\",$U$251+N255),\"/\")","v":1},{"$f":"IF(T$251=\"Error\",\"Error\",IF(AND($P$251<>\"/\",$P$251>'Paramètres - Admin'!$A4),'Paramètres - Admin'!$A5,\"/\"))","v":3},{"$f":"IF(R255<>\"/\",VLOOKUP(R255,COSTS_PEKKA[#All],2),\"/\")","v":6000000},{"$f":"IF(R255<>\"/\",VLOOKUP(R255,COSTS_PEKKA[#All],3),\"/\")","v":288},{"$f":"IF(T$251=\"Error\",\"Error\",IF(S255<>\"/\",Q255*S255,0))","v":6000000},{"$f":"IF(T$251=\"Error\",\"Error\",IF(T255<>\"/\",Q255*T255,0))","v":288}]
["+","NB",null,null,null,"NB","+","Coût","Temps","Coût Total","Temps Total",4,{"$f":"IF(Paramètres!AT9=0,\"\",Paramètres!AT9)","v":""},{"$f":"IF(N255<>0,N255+IF(AND(M255<>\"\",L255<P$6),M255,0),IF(AND(M255<>\"\",L255<P$6),M255,0))","v":0},null,null,{"$f":"IF(R256<>\"/\",IF(T$251=\"Error\",\"Error\",$U$251+N256),\"/\")","v":1},{"$f":"IF(T$251=\"Error\",\"Error\",IF(AND($P$251<>\"/\",$P$251>'Paramètres - Admin'!$A5),'Paramètres - Admin'!$A6,\"/\"))","v":4},{"$f":"IF(R256<>\"/\",VLOOKUP(R256,COSTS_PEKKA[#All],2),\"/\")","v":8000000},{"$f":"IF(R256<>\"/\",VLOOKUP(R256,COSTS_PEKKA[#All],3),\"/\")","v":336},{"$f":"IF(T$251=\"Error\",\"Error\",IF(S256<>\"/\",Q256*S256,0))","v":8000000},{"$f":"IF(T$251=\"Error\",\"Error\",IF(T256<>\"/\",Q256*T256,0))","v":336}]
[1,{"$f":"IF(Paramètres!AO6=0,\"\",Paramètres!AO6)","v":""},{"$f":"IF(C256<>0,C256+IF(AND(B256<>\"\",A256<E$6),B256,0),IF(AND(B256<>\"\",A256<E$6),B256,0))","v":0},null,null,{"$f":"IF(G257<>\"/\",IF(I$255=\"Error\",\"Error\",$J$255+C257),\"/\")","v":1},{"$f":"IF(I$255=\"Error\",\"Error\",IF(AND($E$255<>\"/\",$E$255>'Paramètres - Admin'!$A2),'Paramètres - Admin'!$A3,\"/\"))","v":1},{"$f":"IF(G257<>\"/\",VLOOKUP(G257,COSTS_Wall_Breaker[#All],2),\"/\")","v":0},{"$f":"IF(G257<>\"/\",VLOOKUP(G257,COSTS_Wall_Breaker[#All],3),\"/\")","v":0},{"$f":"IF(I$255=\"Error\",\"Error\",IF(H257<>\"/\",F257*H257,0))","v":0},{"$f":"IF(I$255=\"Error\",\"Error\",IF(I257<>\"/\",F257*I257,0))","v":0},null,null,null,null,null,null,null,null,"Total",{"$f":"IF(T$251=\"Error\",\"Error\",SUM(U253:U256))","v":17000000},{"$f":"IF(T$251=\"Error\",\"Error\",SUM(V253:V256))","v":864}]
[2,{"$f":"IF(Paramètres!AO7=0,\"\",Paramètres!AO7)","v":""},0,null,null,1,{"$f":"IF(I$255=\"Error\",\"Error\",IF(AND($E$255<>\"/\",$E$255>'Paramètres - Admin'!$A3),'Paramètres - Admin'!$A4,\"/\"))","v":2},{"$f":"IF(G258<>\"/\",VLOOKUP(G258,COSTS_Wall_Breaker[#All],2),\"/\")","v":100000},{"$f":"IF(G258<>\"/\",VLOOKUP(G258,COSTS_Wall_Breaker[#All],3),\"/\")","v":24},100000,24]
[3,{"$f":"IF(Paramètres!AO8=0,\"\",Paramètres!AO8)","v":""},0,null,null,1,{"$f":"IF(I$255=\"Error\",\"Error\",IF(AND($E$255<>\"/\",$E$255>'Paramètres - Admin'!$A4),'Paramètres - Admin'!$A5,\"/\"))","v":3},{"$f":"IF(G259<>\"/\",VLOOKUP(G259,COSTS_Wall_Breaker[#All],2),\"/\")","v":250000},{"$f":"IF(G259<>\"/\",VLOOKUP(G259,COSTS_Wall_Breaker[#All],3),\"/\")","v":48},250000,48]
[4,{"$f":"IF(Paramètres!AO9=0,\"\",Paramètres!AO9)","v":""},0,null,null,1,{"$f":"IF(I$255=\"Error\",\"Error\",IF(AND($E$255<>\"/\",$E$255>'Paramètres - Admin'!$A5),'Paramètres - Admin'!$A6,\"/\"))","v":4},{"$f":"IF(G260<>\"/\",VLOOKUP(G260,COSTS_Wall_Breaker[#All],2),\"/\")","v":750000},{"$f":"IF(G260<>\"/\",VLOOKUP(G260,COSTS_Wall_Breaker[#All],3),\"/\")","v":72},750000,72]
[5,{"$f":"IF(Paramètres!AO10=0,\"\",Paramètres!AO10)","v":""},0,null,null,1,{"$f":"IF(I$255=\"Error\",\"Error\",IF(AND($E$255<>\"/\",$E$255>'Paramètres - Admin'!$A6),'Paramètres - Admin'!$A7,\"/\"))","v":5},{"$f":"IF(G261<>\"/\",VLOOKUP(G261,COSTS_Wall_Breaker[#All],2),\"/\")","v":2250000},{"$f":"IF(G261<>\"/\",VLOOKUP(G261,COSTS_Wall_Breaker[#All],3),\"/\")","v":120},2250000,120]
[6,{"$f":"IF(Paramètres!AO11=0,\"\",Paramètres!AO11)","v":""},0,null,null,1,{"$f":"IF(I$255=\"Error\",\"Error\",IF(AND($E$255<>\"/\",$E$255>'Paramètres - Admin'!$A7),'Paramètres - Admin'!$A8,\"/\"))","v":6},{"$f":"IF(G262<>\"/\",VLOOKUP(G262,COSTS_Wall_Breaker[#All],2),\"/\")","v":6750000},{"$f":"IF(G262<>\"/\",VLOOKUP(G262,COSTS_Wall_Breaker[#All],3),\"/\")","v":240},6750000,240]
[null,null,null,null,null,null,null,null,"Total",{"$f":"IF(I$255=\"Error\",\"Error\",SUM(J257:J262))","v":10100000},{"$f":"IF(I$255=\"Error\",\"Error\",SUM(K257:K262))","v":504}]
[]
["Améliorations de Troupes Noires"]
["Élixir Noir"]
["Serviteur",null,null,"Max","Max +",null,null,null,"Actuel","À Faire","Améliorations","Golem",null,null,"Max","Max +",null,null,null,"Actuel","À Faire","Améliorations"]
[null,null,null,{"$f":"VLOOKUP($A$2,AVAILABLE_Upgrades_Dark_Troops[#All],MATCH(A267,AVAILABLE_Upgrades_Dark_Troops[#Headers],0))","v":1},{"$f":"VLOOKUP($A$2,AVAILABLE_Upgrades_Dark_Troops[#All],MATCH(A267,AVAILABLE_Upgrades_Dark_Troops[#Headers],0)+1)","v":6},null,null,null,{"$f":"IF(SUM(B270:B275)>D268,\"Error\",SUM(B270:B275))","v":0},{"$f":"IF(I$268=\"Error\",\"Error\",D268-I268)","v":1},{"$f":"IF(I$268=\"Error\",\"Error\",SUM(F270:F274))","v":5},null,null,null,{"$f":"VLOOKUP($A$2,AVAILABLE_Upgrades_Dark_Troops[#All],MATCH(L267,AVAILABLE_Upgrades_Dark_Troops[#Headers],0))","v":1},{"$f":"VLOOKUP($A$2,AVAILABLE_Upgrades_Dark_Troops[#All],MATCH(L267,AVAILABLE_Upgrades_Dark_Troops[#Headers],0)+1)","v":5},null,null,null,{"$f":"IF(SUM(M270:M274)>O268,\"Error\",SUM(M270:M274))","v":0},{"$f":"IF(T$268=\"Error\",\"Error\",O268-T268)","v":1},{"$f":"IF(T$268=\"Error\",\"Error\",SUM(Q270:Q274))","v":5}]
["+","NB",null,null,null,"NB","+","Coût","Temps","Coût Total","Temps Total","+","NB",null,null,null,"NB","+","Coût","Temps","Coût Total","Temps Total"]
[1,{"$f":"IF(Paramètres!AU6=0,\"\",Paramètres!AU6)","v":""},{"$f":"IF(C269<>0,C269+IF(AND(B269<>\"\",A269<E$6),B269,0),IF(AND(B269<>\"\",A269<E$6),B269,0))","v":0},null,null,{"$f":"IF(G270<>\"/\",IF(I$268=\"Error\",\"Error\",$J$268+C270),\"/\")","v":1},{"$f":"IF(I$268=\"Error\",\"Error\",IF(AND($E$268<>\"/\",$E$268>'Paramètres - Admin'!$A2),'Paramètres - Admin'!$A3,\"/\"))","v":1},{"$f":"IF(G270<>\"/\",VLOOKUP(G270,COSTS_Minion[#All],2),\"/\")","v":0},{"$f":"IF(G270<>\"/\",VLOOKUP(G270,COSTS_Minion[#All],3),\"/\")","v":0},{"$f":"IF(I$268=\"Error\",\"Error\",IF(H270<>\"/\",F270*H270,0))","v":0},{"$f":"IF(I$268=\"Error\",\"Error\",IF(I270<>\"/\",F270*I270,0))","v":0},1,{"$f":"IF(Paramètres!AX6=0,\"\",Paramètres!AX6)","v":""},{"$f":"IF(N269<>0,N269+IF(AND(M269<>\"\",L269<P$6),M269,0),IF(AND(M269<>\"\",L269<P$6),M269,0))","v":0},null,null,{"$f":"IF(R270<>\"/\",IF(T$268=\"Error\",\"Error\",$U$268+N270),\"/\")","v":1},{"$f":"IF(T$268=\"Error\",\"Error\",IF(AND($P$268<>\"/\",$P$268>'Paramètres - Admin'!$A2),'Paramètres - Admin'!$A3,\"/\"))","v":1},{"$f":"IF(R270<>\"/\",VLOOKUP(R270,COSTS_Golem[#All],2),\"/\")","v":0},{"$f":"IF(R270<>\"/\",VLOOKUP(R270,COSTS_Golem[#All],3),\"/\")","v":0},{"$f":"IF(T$268=\"Error\",\"Error\",IF(S270<>\"/\",Q270*S270,0))","v":0},{"$f":"IF(T$268=\"Error\",\"Error\",IF(T270<>\"/\",Q270*T270,0))","v":0}]
[2,{"$f":"IF(Paramètres!AU7=0,\"\",Paramètres!AU7)","v":""},0,null,null,1,{"$f":"IF(I$268=\"Error\",\"Error\",IF(AND($E$268<>\"/\",$E$268>'Paramètres - Admin'!$A3),'Paramètres - Admin'!$A4,\"/\"))","v":2},{"$f":"IF(G271<>\"/\",VLOOKUP(G271,COSTS_Minion[#All],2),\"/\")","v":10000},{"$f":"IF(G271<>\"/\",VLOOKUP(G271,COSTS_Minion[#All],3),\"/\")","v":120},10000,120,2,{"$f":"IF(Paramètres!AX7=0,\"\",Paramètres!AX7)","v":""},{"$f":"IF(N270<>0,N270+IF(AND(M270<>\"\",L270<P$6),M270,0),IF(AND(M270<>\"\",L270<P$6),M270,0))","v":0},null,null,{"$f":"IF(R271<>\"/\",IF(T$268=\"Error\",\"Error\",$U$268+N271),\"/\")","v":1},{"$f":"IF(T$268=\"Error\",\"Error\",IF(AND($P$268<>\"/\",$P$268>'Paramètres - Admin'!$A3),'Paramètres - Admin'!$A4,\"/\"))","v":2},{"$f":"IF(R271<>\"/\",VLOOKUP(R271,COSTS_Golem[#All],2),\"/\")","v":60000},{"$f":"IF(R271<>\"/\",VLOOKUP(R271,COSTS_Golem[#All],3),\"/\")","v":240},{"$f":"IF(T$268=\"Error\",\"Error\",IF(S271<>\"/\",Q271*S271,0))","v":60000},{"$f":"IF(T$268=\"Error\",\"Error\",IF(T271<>\"/\",Q271*T271,0))","v":240}]
[3,{"$f":"IF(Paramètres!AU8=0,\"\",Paramètres!AU8)","v":""},0,null,null,1,{"$f":"IF(I$268=\"Error\",\"Error\",IF(AND($E$268<>\"/\",$E$268>'Paramètres - Admin'!$A4),'Paramètres - Admin'!$A5,\"/\"))","v":3},{"$f":"IF(G272<>\"/\",VLOOKUP(G272,COSTS_Minion[#All],2),\"/\")","v":20000},{"$f":"IF(G272<>\"/\",VLOOKUP(G272,COSTS_Minion[#All],3),\"/\")","v":144},20000,144,3,{"$f":"IF(Paramètres!AX8=0,\"\",Paramètres!AX8)","v":""},{"$f":"IF(N271<>0,N271+IF(AND(M271<>\"\",L271<P$6),M271,0),IF(AND(M271<>\"\",L271<P$6),M271,0))","v":0},null,null,{"$f":"IF(R272<>\"/\",IF(T$268=\"Error\",\"Error\",$U$268+N272),\"/\")","v":1},{"$f":"IF(T$268=\"Error\",\"Error\",IF(AND($P$268<>\"/\",$P$268>'Paramètres - Admin'!$A4),'Paramètres - Admin'!$A5,\"/\"))","v":3},{"$f":"IF(R272<>\"/\",VLOOKUP(R272,COSTS_Golem[#All],2),\"/\")","v":70000},{"$f":"IF(R272<>\"/\",VLOOKUP(R272,COSTS_Golem[#All],3),\"/\")","v":288},{"$f":"IF(T$268=\"Error\",\"Error\",IF(S272<>\"/\",Q272*S272,0))","v":70000},{"$f":"IF(T$268=\"Error\",\"Error\",IF(T272<>\"/\",Q272*T272,0))","v":288}]
[4,{"$f":"IF(Paramètres!AU9=0,\"\",Paramètres!AU9)","v":""},0,null,null,1,{"$f":"IF(I$268=\"Error\",\"Error\",IF(AND($E$268<>\"/\",$E$268>'Paramètres - Admin'!$A5),'Paramètres - Admin'!$A6,\"/\"))","v":4},{"$f":"IF(G273<>\"/\",VLOOKUP(G273,COSTS_Minion[#All],2),\"/\")","v":30000},{"$f":"IF(G273<>\"/\",VLOOKUP(G273,COSTS_Minion[#All],3),\"/\")","v":168},30000,168,4,{"$f":"IF(Paramètres!AX9=0,\"\",Paramètres!AX9)","v":""},{"$f":"IF(N272<>0,N272+IF(AND(M272<>\"\",L272<P$6),M272,0),IF(AND(M272<>\"\",L272<P$6),M272,0))","v":0},null,null,{"$f":"IF(R273<>\"/\",IF(T$268=\"Error\",\"Error\",$U$268+N273),\"/\")","v":1},{"$f":"IF(T$268=\"Error\",\"Error\",IF(AND($P$268<>\"/\",$P$268>'Paramètres - Admin'!$A5),'Paramètres - Admin'!$A6,\"/\"))","v":4},{"$f":"IF(R273<>\"/\",VLOOKUP(R273,COSTS_Golem[#All],2),\"/\")","v":80000},{"$f":"IF(R273<>\"/\",VLOOKUP(R273,COSTS_Golem[#All],3),\"/\")","v":336},{"$f":"IF(T$268=\"Error\",\"Error\",IF(S273<>\"/\",Q273*S273,0))","v":80000},{"$f":"IF(T$268=\"Error\",\"Error\",IF(T273<>\"/\",Q273*T273,0))","v":336}]
[5,{"$f":"IF(Paramètres!AU10=0,\"\",Paramètres!AU10)","v":""},0,null,null,1,{"$f":"IF(I$268=\"Error\",\"Error\",IF(AND($E$268<>\"/\",$E$268>'Paramètres - Admin'!$A6),'Paramètres - Admin'!$A7,\"/\"))","v":5},{"$f":"IF(G274<>\"/\",VLOOKUP(G274,COSTS_Minion[#All],2),\"/\")","v":40000},{"$f":"IF(G274<>\"/\",VLOOKUP(G274,COSTS_Minion[#All],3),\"/\")","v":240},40000,240,5,{"$f":"IF(Paramètres!AX10=0,\"\",Paramètres!AX10)","v":""},{"$f":"IF(N273<>0,N273+IF(AND(M273<>\"\",L273<P$6),M273,0),IF(AND(M273<>\"\",L273<P$6),M273,0))","v":0},null,null,{"$f":"IF(R274<>\"/\",IF(T$268=\"Error\",\"Error\",$U$268+N274),\"/\")","v":1},{"$f":"IF(T$268=\"Error\",\"Error\",IF(AND($P$268<>\"/\",$P$268>'Paramètres - Admin'!$A6),'Paramètres - Admin'!$A7,\"/\"))","v":5},{"$f":"IF(R274<>\"/\",VLOOKUP(R274,COSTS_Golem[#All],2),\"/\")","v":90000},{"$f":"IF(R274<>\"/\",VLOOKUP(R274,COSTS_Golem[#All],3),\"/\")","v":336},{"$f":"IF(T$268=\"Error\",\"Error\",IF(S274<>\"/\",Q274*S274,0))","v":90000},{"$f":"IF(T$268=\"Error\",\"Error\",IF(T274<>\"/\",Q274*T274,0))","v":336}]
[6,{"$f":"IF(Paramètres!AU11=0,\"\",Paramètres!AU11)","v":""},0,null,null,1,{"$f":"IF(I$268=\"Error\",\"Error\",IF(AND($E$268<>\"/\",$E$268>'Paramètres - Admin'!$A7),'Paramètres - Admin'!$A8,\"/\"))","v":6},{"$f":"IF(G275<>\"/\",VLOOKUP(G275,COSTS_Minion[#All],2),\"/\")","v":100000},{"$f":"IF(G275<>\"/\",VLOOKUP(G275,COSTS_Minion[#All],3),\"/\")","v":336},100000,336,null,null,null,null,null,null,null,null,"Total",{"$f":"IF(T$268=\"Error\",\"Error\",SUM(U270:U274))","v":300000},{"$f":"IF(T$268=\"Error\",\"Error\",SUM(V270:V274))","v":1200}]
[null,null,null,null,null,null,null,null,"Total",{"$f":"IF(I$268=\"Error\",\"Error\",SUM(J270:J275))","v":200000},{"$f":"IF(I$268=\"Error\",\"Error\",SUM(K270:K274))","v":672},"Sorcière",null,null,"Max","Max +",null,null,null,"Actuel","À Faire","Améliorations"]
["Chevaucheur de Cochon",null,null,"Max","Max +",null,null,null,"Actuel","À Faire","Améliorations",null,null,null,{"$f":"VLOOKUP($A$2,AVAILABLE_Upgrades_Dark_Troops[#All],MATCH(L276,AVAILABLE_Upgrades_Dark_Troops[#Headers],0))","v":1},{"$f":"VLOOKUP($A$2,AVAILABLE_Upgrades_Dark_Troops[#All],MATCH(L276,AVAILABLE_Upgrades_Dark_Troops[#Headers],0)+1)","v":2},null,null,null,{"$f":"IF(SUM(M279:M280)>O277,\"Error\",SUM(M279:M280))","v":0},{"$f":"IF(T$277=\"Error\",\"Error\",O277-T277)","v":1},{"$f":"IF(T$277=\"Error\",\"Error\",SUM(Q279:Q280))","v":2}]
[null,null,null,{"$f":"VLOOKUP($A$2,AVAILABLE_Upgrades_Dark_Troops[#All],MATCH(A277,AVAILABLE_Upgrades_Dark_Troops[#Headers],0))","v":1},{"$f":"VLOOKUP($A$2,AVAILABLE_Upgrades_Dark_Troops[#All],MATCH(A277,AVAILABLE_Upgrades_Dark_Troops[#Headers],0)+1)","v":5},null,null,null,{"$f":"IF(SUM(B280:B284)>D278,\"Error\",SUM(B280:B284))","v":0},{"$f":"IF(I$278=\"Error\",\"Error\",D278-I278)","v":1},{"$f":"IF(I$278=\"Error\",\"Error\",SUM(F280:F284))","v":5},"+","NB",null,null,null,"NB","+","Coût","Temps","Coût Total","Temps Total"]
["+","NB",null,null,null,"NB","+","Coût","Temps","Coût Total","Temps Total",1,{"$f":"IF(Paramètres!AY6=0,\"\",Paramètres!AY6)","v":""},{"$f":"IF(N278<>0,N278+IF(AND(M278<>\"\",L278<P$6),M278,0),IF(AND(M278<>\"\",L278<P$6),M278,0))","v":0},null,null,{"$f":"IF(R279<>\"/\",IF(T$277=\"Error\",\"Error\",$U$277+N279),\"/\")","v":1},{"$f":"IF(T$277=\"Error\",\"Error\",IF(AND($P$277<>\"/\",$P$277>'Paramètres - Admin'!$A2),'Paramètres - Admin'!$A3,\"/\"))","v":1},{"$f":"IF(R279<>\"/\",VLOOKUP(R279,COSTS_Witch[#All],2),\"/\")","v":0},{"$f":"IF(R279<>\"/\",VLOOKUP(R279,COSTS_Witch[#All],3),\"/\")","v":0},{"$f":"IF(T$277=\"Error\",\"Error\",IF(S279<>\"/\",Q279*S279,0))","v":0},{"$f":"IF(T$277=\"Error\",\"Error\",IF(T279<>\"/\",Q279*T279,0))","v":0}]
[1,{"$f":"IF(Paramètres!AV6=0,\"\",Paramètres!AV6)","v":""},{"$f":"IF(C279<>0,C279+IF(AND(B279<>\"\",A279<E$6),B279,0),IF(AND(B279<>\"\",A279<E$6),B279,0))","v":0},null,null,{"$f":"IF(G280<>\"/\",IF(I$278=\"Error\",\"Error\",$J$278+C280),\"/\")","v":1},{"$f":"IF(I$278=\"Error\",\"Error\",IF(AND($E$278<>\"/\",$E$278>'Paramètres - Admin'!$A2),'Paramètres - Admin'!$A3,\"/\"))","v":1},{"$f":"IF(G280<>\"/\",VLOOKUP(G280,COSTS_Hog_Rider[#All],2),\"/\")","v":0},{"$f":"IF(G280<>\"/\",VLOOKUP(G280,COSTS_Hog_Rider[#All],3),\"/\")","v":0},{"$f":"IF(I$278=\"Error\",\"Error\",IF(H280<>\"/\",F280*H280,0))","v":0},{"$f":"IF(I$278=\"Error\",\"Error\",IF(I280<>\"/\",F280*I280,0))","v":0},2,{"$f":"IF(Paramètres!AY7=0,\"\",Paramètres!AY7)","v":""},{"$f":"IF(N279<>0,N279+IF(AND(M279<>\"\",L279<P$6),M279,0),IF(AND(M279<>\"\",L279<P$6),M279,0))","v":0},null,null,{"$f":"IF(R280<>\"/\",IF(T$277=\"Error\",\"Error\",$U$277+N280),\"/\")","v":1},{"$f":"IF(T$277=\"Error\",\"Error\",IF(AND($P$277<>\"/\",$P$277>'Paramètres - Admin'!$A3),'Paramètres - Admin'!$A4,\"/\"))","v":2},{"$f":"IF(R280<>\"/\",VLOOKUP(R280,COSTS_Witch[#All],2),\"/\")","v":75000},{"$f":"IF(R280<>\"/\",VLOOKUP(R280,COSTS_Witch[#All],3),\"/\")","v":240},{"$f":"IF(T$277=\"Error\",\"Error\",IF(S280<>\"/\",Q280*S280,0))","v":75000},{"$f":"IF(T$277=\"Error\",\"Error\",IF(T280<>\"/\",Q280*T280,0))","v":240}]
[2,{"$f":"IF(Paramètres!AV7=0,\"\",Paramètres!AV7)","v":""},{"$f":"IF(C280<>0,C280+IF(AND(B280<>\"\",A280<E$6),B280,0),IF(AND(B280<>\"\",A280<E$6),B280,0))","v":0},null,null,{"$f":"IF(G281<>\"/\",IF(I$278=\"Error\",\"Error\",$J$278+C281),\"/\")","v":1},{"$f":"IF(I$278=\"Error\",\"Error\",IF(AND($E$278<>\"/\",$E$278>'Paramètres - Admin'!$A3),'Paramètres - Admin'!$A4,\"/\"))","v":2},{"$f":"IF(G281<>\"/\",VLOOKUP(G281,COSTS_Hog_Rider[#All],2),\"/\")","v":20000},{"$f":"IF(G281<>\"/\",VLOOKUP(G281,COSTS_Hog_Rider[#All],3),\"/\")","v":192},{"$f":"IF(I$278=\"Error\",\"Error\",IF(H281<>\"/\",F281*H281,0))","v":20000},{"$f":"IF(I$278=\"Error\",\"Error\",IF(I281<>\"/\",F281*I281,0))","v":192},null,null,null,null,null,null,null,null,"Total",{"$f":"IF(T$268=\"Error\",\"Error\",SUM(U279:U280))","v":75000},{"$f":"IF(T$268=\"Error\",\"Error\",SUM(V279:V280))","v":240}]
[3,{"$f":"IF(Paramètres!AV8=0,\"\",Paramètres!AV8)","v":""},{"$f":"IF(C281<>0,C281+IF(AND(B281<>\"\",A281<E$6),B281,0),IF(AND(B281<>\"\",A281<E$6),B281,0))","v":0},null,null,{"$f":"IF(G282<>\"/\",IF(I$278=\"Error\",\"Error\",$J$278+C282),\"/\")","v":1},{"$f":"IF(I$278=\"Error\",\"Error\",IF(AND($E$278<>\"/\",$E$278>'Paramètres - Admin'!$A4),'Paramètres - Admin'!$A5,\"/\"))","v":3},{"$f":"IF(G282<>\"/\",VLOOKUP(G282,COSTS_Hog_Rider[#All],2),\"/\")","v":30000},{"$f":"IF(G282<>\"/\",VLOOKUP(G282,COSTS_Hog_Rider[#All],3),\"/\")","v":240},{"$f":"IF(I$278=\"Error\",\"Error\",IF(H282<>\"/\",F282*H282,0))","v":30000},{"$f":"IF(I$278=\"Error\",\"Error\",IF(I282<>\"/\",F282*I282,0))","v":240},"Molosse de lave",null,null,"Max","Max +",null,null,null,"Actuel","À Faire","Améliorations"]
[4,{"$f":"IF(Paramètres!AV9=0,\"\",Paramètres!AV9)","v":""},{"$f":"IF(C282<>0,C282+IF(AND(B282<>\"\",A282<E$6),B282,0),IF(AND(B282<>\"\",A282<E$6),B282,0))","v":0},null,null,{"$f":"IF(G283<>\"/\",IF(I$278=\"Error\",\"Error\",$J$278+C283),\"/\")","v":1},{"$f":"IF(I$278=\"Error\",\"Error\",IF(AND($E$278<>\"/\",$E$278>'Paramètres - Admin'!$A5),'Paramètres - Admin'!$A6,\"/\"))","v":4},{"$f":"IF(G283<>\"/\",VLOOKUP(G283,COSTS_Hog_Rider[#All],2),\"/\")","v":40000},{"$f":"IF(G283<>\"/\",VLOOKUP(G283,COSTS_Hog_Rider[#All],3),\"/\")","v":288},{"$f":"IF(I$278=\"Error\",\"Error\",IF(H283<>\"/\",F283*H283,0))","v":40000},{"$f":"IF(I$278=\"Error\",\"Error\",IF(I283<>\"/\",F283*I283,0))","v":288},null,null,null,{"$f":"VLOOKUP($A$2,AVAILABLE_Upgrades_Dark_Troops[#All],MATCH(L282,AVAILABLE_Upgrades_Dark_Troops[#Headers],0))","v":1},{"$f":"VLOOKUP($A$2,AVAILABLE_Upgrades_Dark_Troops[#All],MATCH(L282,AVAILABLE_Upgrades_Dark_Troops[#Headers],0)+1)","v":3},null,null,null,{"$f":"IF(SUM(M285:M289)>O283,\"Error\",SUM(M285:M289))","v":0},{"$f":"IF(T$268=\"Error\",\"Error\",O283-T283)","v":1},{"$f":"IF(T$268=\"Error\",\"Error\",SUM(Q285:Q289))","v":3}]
[5,{"$f":"IF(Paramètres!AV10=0,\"\",Paramètres!AV10)","v":""},{"$f":"IF(C283<>0,C283+IF(AND(B283<>\"\",A283<E$6),B283,0),IF(AND(B283<>\"\",A283<E$6),B283,0))","v":0},null,null,{"$f":"IF(G284<>\"/\",IF(I$278=\"Error\",\"Error\",$J$278+C284),\"/\")","v":1},{"$f":"IF(I$278=\"Error\",\"Error\",IF(AND($E$278<>\"/\",$E$278>'Paramètres - Admin'!$A6),'Paramètres - Admin'!$A7,\"/\"))","v":5},{"$f":"IF(G284<>\"/\",VLOOKUP(G284,COSTS_Hog_Rider[#All],2),\"/\")","v":50000},{"$f":"IF(G284<>\"/\",VLOOKUP(G284,COSTS_Hog_Rider[#All],3),\"/\")","v":336},{"$f":"IF(I$278=\"Error\",\"Error\",IF(H284<>\"/\",F284*H284,0))","v":50000},{"$f":"IF(I$278=\"Error\",\"Error\",IF(I284<>\"/\",F284*I284,0))","v":336},"+","NB",null,null,null,"NB","+","Coût","Temps","Coût Total","Temps Total"]
[null,null,null,null,null,null,null,null,"Total",{"$f":"IF(I$278=\"Error\",\"Error\",SUM(J280:J284))","v":140000},{"$f":"IF(I$278=\"Error\",\"Error\",SUM(K280:K284))","v":1056},1,{"$f":"IF(Paramètres!AZ6=0,\"\",Paramètres!AZ6)","v":""},{"$f":"IF(N284<>0,N284+IF(AND(M284<>\"\",L284<P$6),M284,0),IF(AND(M284<>\"\",L284<P$6),M284,0))","v":0},null,null,{"$f":"IF(R285<>\"/\",IF(T$283=\"Error\",\"Error\",$U$283+N285),\"/\")","v":1},{"$f":"IF(T$283=\"Error\",\"Error\",IF(AND($P$283<>\"/\",$P$283>'Paramètres - Admin'!$A2),'Paramètres - Admin'!$A3,\"/\"))","v":1},{"$f":"IF(R285<>\"/\",VLOOKUP(R285,COSTS_Golem[#All],2),\"/\")","v":0},{"$f":"IF(R285<>\"/\",VLOOKUP(R285,COSTS_Molosse_de_lave[#All],3),\"/\")","v":0},{"$f":"IF(T$268=\"Error\",\"Error\",IF(S285<>\"/\",Q285*S285,0))","v":0},{"$f":"IF(T$268=\"Error\",\"Error\",IF(T285<>\"/\",Q285*T285,0))","v":0}]
["Valkyrie",null,null,"Max","Max +",null,null,null,"Actuel","À Faire","Améliorations",2,{"$f":"IF(Paramètres!AZ7=0,\"\",Paramètres!AZ7)","v":""},{"$f":"IF(N285<>0,N285+IF(AND(M285<>\"\",L285<P$6),M285,0),IF(AND(M285<>\"\",L285<P$6),M285,0))","v":0},null,null,{"$f":"IF(R286<>\"/\",IF(T$268=\"Error\",\"Error\",$U$268+N286),\"/\")","v":1},{"$f":"IF(T$283=\"Error\",\"Error\",IF(AND($P$283<>\"/\",$P$283>'Paramètres - Admin'!$A3),'Paramètres - Admin'!$A4,\"/\"))","v":2},{"$f":"IF(R286<>\"/\",VLOOKUP(R286,COSTS_Golem[#All],2),\"/\")","v":60000},{"$f":"IF(R286<>\"/\",VLOOKUP(R286,COSTS_Molosse_de_lave[#All],3),\"/\")","v":240},{"$f":"IF(T$268=\"Error\",\"Error\",IF(S286<>\"/\",Q286*S286,0))","v":60000},{"$f":"IF(T$268=\"Error\",\"Error\",IF(T286<>\"/\",Q286*T286,0))","v":240}]
[null,null,null,{"$f":"VLOOKUP($A$2,AVAILABLE_Upgrades_Dark_Troops[#All],MATCH(A286,AVAILABLE_Upgrades_Dark_Troops[#Headers],0))","v":1},{"$f":"VLOOKUP($A$2,AVAILABLE_Upgrades_Dark_Troops[#All],MATCH(A286,AVAILABLE_Upgrades_Dark_Troops[#Headers],0)+1)","v":4},null,null,null,{"$f":"IF(SUM(B289:B292)>D287,\"Error\",SUM(B289:B292))","v":0},{"$f":"IF(I$287=\"Error\",\"Error\",D287-I287)","v":1},{"$f":"IF(I$287=\"Error\",\"Error\",SUM(F289:F292))","v":4},3,{"$f":"IF(Paramètres!AZ8=0,\"\",Paramètres!AZ8)","v":""},{"$f":"IF(N286<>0,N286+IF(AND(M286<>\"\",L286<P$6),M286,0),IF(AND(M286<>\"\",L286<P$6),M286,0))","v":0},null,null,{"$f":"IF(R287<>\"/\",IF(T$268=\"Error\",\"Error\",$U$268+N287),\"/\")","v":1},{"$f":"IF(T$283=\"Error\",\"Error\",IF(AND($P$283<>\"/\",$P$283>'Paramètres - Admin'!$A4),'Paramètres - Admin'!$A5,\"/\"))","v":3},{"$f":"IF(R287<>\"/\",VLOOKUP(R287,COSTS_Golem[#All],2),\"/\")","v":70000},{"$f":"IF(R287<>\"/\",VLOOKUP(R287,COSTS_Molosse_de_lave[#All],3),\"/\")","v":288},{"$f":"IF(T$268=\"Error\",\"Error\",IF(S287<>\"/\",Q287*S287,0))","v":70000},{"$f":"IF(T$268=\"Error\",\"Error\",IF(T287<>\"/\",Q287*T287,0))","v":288}]
["+","NB",null,null,null,"NB","+","Coût","Temps","Coût Total","Temps Total",null,null,null,null,null,null,null,null,"Total",{"$f":"IF(T$268=\"Error\",\"Error\",SUM(U285:U287))","v":130000},{"$f":"IF(T$268=\"Error\",\"Error\",SUM(V285:V287))","v":528}]
[1,{"$f":"IF(Paramètres!AW6=0,\"\",Paramètres!AW6)","v":""},{"$f":"IF(C288<>0,C288+IF(AND(B288<>\"\",A288<P$6),B288,0),IF(AND(B288<>\"\",A288<P$6),B288,0))","v":0},null,null,{"$f":"IF(G289<>\"/\",IF(I$287=\"Error\",\"Error\",$J$287+C289),\"/\")","v":1},{"$f":"IF(I$287=\"Error\",\"Error\",IF(AND($E$287<>\"/\",$E$287>'Paramètres - Admin'!$A2),'Paramètres - Admin'!$A3,\"/\"))","v":1},{"$f":"IF(G289<>\"/\",VLOOKUP(G289,COSTS_Valkyrie[#All],2),\"/\")","v":0},{"$f":"IF(G289<>\"/\",VLOOKUP(G289,COSTS_Valkyrie[#All],3),\"/\")","v":0},{"$f":"IF(I$287=\"Error\",\"Error\",IF(H289<>\"/\",F289*H289,0))","v":0},{"$f":"IF(I$287=\"Error\",\"Error\",IF(I289<>\"/\",F289*I289,0))","v":0}]
[2,{"$f":"IF(Paramètres!AW7=0,\"\",Paramètres!AW7)","v":""},{"$f":"IF(C289<>0,C289+IF(AND(B289<>\"\",A289<P$6),B289,0),IF(AND(B289<>\"\",A289<P$6),B289,0))","v":0},null,null,{"$f":"IF(G290<>\"/\",IF(I$287=\"Error\",\"Error\",$J$287+C290),\"/\")","v":1},{"$f":"IF(I$287=\"Error\",\"Error\",IF(AND($E$287<>\"/\",$E$287>'Paramètres - Admin'!$A3),'Paramètres - Admin'!$A4,\"/\"))","v":2},{"$f":"IF(G290<>\"/\",VLOOKUP(G290,COSTS_Valkyrie[#All],2),\"/\")","v":50000},{"$f":"IF(G290<>\"/\",VLOOKUP(G290,COSTS_Valkyrie[#All],3),\"/\")","v":240},{"$f":"IF(I$287=\"Error\",\"Error\",IF(H290<>\"/\",F290*H290,0))","v":50000},{"$f":"IF(I$287=\"Error\",\"Error\",IF(I290<>\"/\",F290*I290,0))","v":240}]
[3,{"$f":"IF(Paramètres!AW8=0,\"\",Paramètres!AW8)","v":""},{"$f":"IF(C290<>0,C290+IF(AND(B290<>\"\",A290<P$6),B290,0),IF(AND(B290<>\"\",A290<P$6),B290,0))","v":0},null,null,{"$f":"IF(G291<>\"/\",IF(I$287=\"Error\",\"Error\",$J$287+C291),\"/\")","v":1},{"$f":"IF(I$287=\"Error\",\"Error\",IF(AND($E$287<>\"/\",$E$287>'Paramètres - Admin'!$A4),'Paramètres - Admin'!$A5,\"/\"))","v":3},{"$f":"IF(G291<>\"/\",VLOOKUP(G291,COSTS_Valkyrie[#All],2),\"/\")","v":60000},{"$f":"IF(G291<>\"/\",VLOOKUP(G291,COSTS_Valkyrie[#All],3),\"/\")","v":288},{"$f":"IF(I$287=\"Error\",\"Error\",IF(H291<>\"/\",F291*H291,0))","v":60000},{"$f":"IF(I$287=\"Error\",\"Error\",IF(I291<>\"/\",F291*I291,0))","v":288}]
[4,{"$f":"IF(Paramètres!AW9=0,\"\",Paramètres!AW9)","v":""},{"$f":"IF(C291<>0,C291+IF(AND(B291<>\"\",A291<P$6),B291,0),IF(AND(B291<>\"\",A291<P$6),B291,0))","v":0},null,null,{"$f":"IF(G292<>\"/\",IF(I$287=\"Error\",\"Error\",$J$287+C292),\"/\")","v":1},{"$f":"IF(I$287=\"Error\",\"Error\",IF(AND($E$287<>\"/\",$E$287>'Paramètres - Admin'!$A5),'Paramètres - Admin'!$A6,\"/\"))","v":4},{"$f":"IF(G292<>\"/\",VLOOKUP(G292,COSTS_Valkyrie[#All],2),\"/\")","v":70000},{"$f":"IF(G292<>\"/\",VLOOKUP(G292,COSTS_Valkyrie[#All],3),\"/\")","v":336},{"$f":"IF(I$287=\"Error\",\"Error\",IF(H292<>\"/\",F292*H292,0))","v":70000},{"$f":"IF(I$287=\"Error\",\"Error\",IF(I292<>\"/\",F292*I292,0))","v":336}]
[null,null,null,null,null,null,null,null,"Total",{"$f":"IF(I$287=\"Error\",\"Error\",SUM(J289:J292))","v":180000},{"$f":"IF(I$287=\"Error\",\"Error\",SUM(K289:K292))","v":864}]
[]
[]
[]
[]
[]
[]
[]
[]
["Héros"]
["Élixir Noir"]
["Roi des Barbares",null,null,"Max","Max +",null,null,null,"Actuel","À Faire","Améliorations","Reine des Archers",null,null,"Max","Max +",null,null,null,"Actuel","À Faire","Améliorations"]
[null,null,null,{"$f":"VLOOKUP($A$2,AVAILABLE_Heroes[#All],MATCH(A304,AVAILABLE_Heroes[#Headers],0))","v":1},{"$f":"VLOOKUP($A$2,AVAILABLE_Heroes[#All],MATCH(A304,AVAILABLE_Heroes[#Headers],0)+1)","v":40},null,null,null,{"$f":"IF(SUM(B307:B346)>D305,\"Error\",SUM(B307:B346))","v":0},{"$f":"IF(I$305=\"Error\",\"Error\",D305-I305)","v":1},{"$f":"IF(I$305=\"Error\",\"Error\",SUM(F307:F346))","v":40},null,null,null,{"$f":"VLOOKUP($A$2,AVAILABLE_Heroes[#All],MATCH(L304,AVAILABLE_Heroes[#Headers],0))","v":1},{"$f":"VLOOKUP($A$2,AVAILABLE_Heroes[#All],MATCH(L304,AVAILABLE_Heroes[#Headers],0)+1)","v":40},null,null,null,{"$f":"IF(SUM(M307:M346)>O305,\"Error\",SUM(M307:M346))","v":0},{"$f":"IF(T$305=\"Error\",\"Error\",O305-T305)","v":1},{"$f":"IF(T$305=\"Error\",\"Error\",SUM(Q307:Q346))","v":40}]
["+","NB",null,null,null,"NB","+","Coût","Temps","Coût Total","Temps Total","+","NB",null,null,null,"NB","+","Coût","Temps","Coût Total","Temps Total"]
[1,{"$f":"IF(Paramètres!BB6=0,\"\",Paramètres!BB6)","v":""},{"$f":"IF(C306<>0,C306+IF(AND(B306<>\"\",A306<E$305),B306,0),IF(AND(B306<>\"\",A306<E$305),B306,0))","v":0},null,null,{"$f":"IF(G307<>\"/\",IF(I$305=\"Error\",\"Error\",$J$305+C307),\"/\")","v":1},{"$f":"IF(I$305=\"Error\",\"Error\",IF(AND($E$305<>\"/\",$E$305>'Paramètres - Admin'!$A2),'Paramètres - Admin'!$A3,\"/\"))","v":1},{"$f":"IF(G307<>\"/\",VLOOKUP(G307,COSTS_Barbarian_King[#All],2),\"/\")","v":10000},{"$f":"IF(G307<>\"/\",VLOOKUP(G307,COSTS_Barbarian_King[#All],3),\"/\")","v":0},{"$f":"IF(I$305=\"Error\",\"Error\",IF(H307<>\"/\",F307*H307,0))","v":10000},{"$f":"IF(I$305=\"Error\",\"Error\",IF(I307<>\"/\",F307*I307,0))","v":0},1,{"$f":"IF(Paramètres!BC6=0,\"\",Paramètres!BC6)","v":""},{"$f":"IF(N306<>0,N306+IF(AND(M306<>\"\",L306<P$305),M306,0),IF(AND(M306<>\"\",L306<P$305),M306,0))","v":0},null,null,{"$f":"IF(R307<>\"/\",IF(T$305=\"Error\",\"Error\",$U$305+N307),\"/\")","v":1},{"$f":"IF(T$305=\"Error\",\"Error\",IF(AND($P$305<>\"/\",$P$305>'Paramètres - Admin'!$A2),'Paramètres - Admin'!$A3,\"/\"))","v":1},{"$f":"IF(R307<>\"/\",VLOOKUP(R307,COSTS_Archer_Queen[#All],2),\"/\")","v":40000},{"$f":"IF(R307<>\"/\",VLOOKUP(R307,COSTS_Archer_Queen[#All],3),\"/\")","v":0},{"$f":"IF(T$305=\"Error\",\"Error\",IF(S307<>\"/\",Q307*S307,0))","v":40000},{"$f":"IF(T$305=\"Error\",\"Error\",IF(T307<>\"/\",Q307*T307,0))","v":0}]
[2,{"$f":"IF(Paramètres!BB7=0,\"\",Paramètres!BB7)","v":""},0,null,null,1,{"$f":"IF(I$305=\"Error\",\"Error\",IF(AND($E$305<>\"/\",$E$305>'Paramètres - Admin'!$A3),'Paramètres - Admin'!$A4,\"/\"))","v":2},{"$f":"IF(G308<>\"/\",VLOOKUP(G308,COSTS_Barbarian_King[#All],2),\"/\")","v":12500},{"$f":"IF(G308<>\"/\",VLOOKUP(G308,COSTS_Barbarian_King[#All],3),\"/\")","v":12},12500,12,2,{"$f":"IF(Paramètres!BC7=0,\"\",Paramètres!BC7)","v":""},0,null,null,1,{"$f":"IF(T$305=\"Error\",\"Error\",IF(AND($P$305<>\"/\",$P$305>'Paramètres - Admin'!$A3),'Paramètres - Admin'!$A4,\"/\"))","v":2},{"$f":"IF(R308<>\"/\",VLOOKUP(R308,COSTS_Archer_Queen[#All],2),\"/\")","v":22500},{"$f":"IF(R308<>\"/\",VLOOKUP(R308,COSTS_Archer_Queen[#All],3),\"/\")","v":12},22500,12]
[3,{"$f":"IF(Paramètres!BB8=0,\"\",Paramètres!BB8)","v":""},0,null,null,1,{"$f":"IF(I$305=\"Error\",\"Error\",IF(AND($E$305<>\"/\",$E$305>'Paramètres - Admin'!$A4),'Paramètres - Admin'!$A5,\"/\"))","v":3},{"$f":"IF(G309<>\"/\",VLOOKUP(G309,COSTS_Barbarian_King[#All],2),\"/\")","v":15000},{"$f":"IF(G309<>\"/\",VLOOKUP(G309,COSTS_Barbarian_King[#All],3),\"/\")","v":24},15000,24,3,{"$f":"IF(Paramètres!BC8=0,\"\",Paramètres!BC8)","v":""},0,null,null,1,{"$f":"IF(T$305=\"Error\",\"Error\",IF(AND($P$305<>\"/\",$P$305>'Paramètres - Admin'!$A4),'Paramètres - Admin'!$A5,\"/\"))","v":3},{"$f":"IF(R309<>\"/\",VLOOKUP(R309,COSTS_Archer_Queen[#All],2),\"/\")","v":25000},{"$f":"IF(R309<>\"/\",VLOOKUP(R309,COSTS_Archer_Queen[#All],3),\"/\")","v":24},25000,24]
[4,{"$f":"IF(Paramètres!BB9=0,\"\",Paramètres!BB9)","v":""},0,null,null,1,{"$f":"IF(I$305=\"Error\",\"Error\",IF(AND($E$305<>\"/\",$E$305>'Paramètres - Admin'!$A5),'Paramètres - Admin'!$A6,\"/\"))","v":4},{"$f":"IF(G310<>\"/\",VLOOKUP(G310,COSTS_Barbarian_King[#All],2),\"/\")","v":17500},{"$f":"IF(G310<>\"/\",VLOOKUP(G310,COSTS_Barbarian_King[#All],3),\"/\")","v":36},17500,36,4,{"$f":"IF(Paramètres!BC9=0,\"\",Paramètres!BC9)","v":""},0,null,null,1,{"$f":"IF(T$305=\"Error\",\"Error\",IF(AND($P$305<>\"/\",$P$305>'Paramètres - Admin'!$A5),'Paramètres - Admin'!$A6,\"/\"))","v":4},{"$f":"IF(R310<>\"/\",VLOOKUP(R310,COSTS_Archer_Queen[#All],2),\"/\")","v":27500},{"$f":"IF(R310<>\"/\",VLOOKUP(R310,COSTS_Archer_Queen[#All],3),\"/\")","v":36},27500,36]
[5,{"$f":"IF(Paramètres!BB10=0,\"\",Paramètres!BB10)","v":""},0,null,null,1,{"$f":"IF(I$305=\"Error\",\"Error\",IF(AND($E$305<>\"/\",$E$305>'Paramètres - Admin'!$A6),'Paramètres - Admin'!$A7,\"/\"))","v":5},{"$f":"IF(G311<>\"/\",VLOOKUP(G311,COSTS_Barbarian_King[#All],2),\"/\")","v":20000},{"$f":"IF(G311<>\"/\",VLOOKUP(G311,COSTS_Barbarian_King[#All],3),\"/\")","v":48},20000,48,5,{"$f":"IF(Paramètres!BC10=0,\"\",Paramètres!BC10)","v":""},0,null,null,1,{"$f":"IF(T$305=\"Error\",\"Error\",IF(AND($P$305<>\"/\",$P$305>'Paramètres - Admin'!$A6),'Paramètres - Admin'!$A7,\"/\"))","v":5},{"$f":"IF(R311<>\"/\",VLOOKUP(R311,COSTS_Archer_Queen[#All],2),\"/\")","v":30000},{"$f":"IF(R311<>\"/\",VLOOKUP(R311,COSTS_Archer_Queen[#All],3),\"/\")","v":48},30000,48]
[6,{"$f":"IF(Paramètres!BB11=0,\"\",Paramètres!BB11)","v":""},0,null,null,1,{"$f":"IF(I$305=\"Error\",\"Error\",IF(AND($E$305<>\"/\",$E$305>'Paramètres - Admin'!$A7),'Paramètres - Admin'!$A8,\"/\"))","v":6},{"$f":"IF(G312<>\"/\",VLOOKUP(G312,COSTS_Barbarian_King[#All],2),\"/\")","v":22500},{"$f":"IF(G312<>\"/\",VLOOKUP(G312,COSTS_Barbarian_King[#All],3),\"/\")","v":60},22500,60,6,{"$f":"IF(Paramètres!BC11=0,\"\",Paramètres!BC11)","v":""},0,null,null,1,{"$f":"IF(T$305=\"Error\",\"Error\",IF(AND($P$305<>\"/\",$P$305>'Paramètres - Admin'!$A7),'Paramètres - Admin'!$A8,\"/\"))","v":6},{"$f":"IF(R312<>\"/\",VLOOKUP(R312,COSTS_Archer_Queen[#All],2),\"/\")","v":32500},{"$f":"IF(R312<>\"/\",VLOOKUP(R312,COSTS_Archer_Queen[#All],3),\"/\")","v":60},32500,60]
[7,{"$f":"IF(Paramètres!BB12=0,\"\",Paramètres!BB12)","v":""},0,null,null,1,{"$f":"IF(I$305=\"Error\",\"Error\",IF(AND($E$305<>\"/\",$E$305>'Paramètres - Admin'!$A8),'Paramètres - Admin'!$A9,\"/\"))","v":7},{"$f":"IF(G313<>\"/\",VLOOKUP(G313,COSTS_Barbarian_King[#All],2),\"/\")","v":25000},{"$f":"IF(G313<>\"/\",VLOOKUP(G313,COSTS_Barbarian_King[#All],3),\"/\")","v":72},25000,72,7,{"$f":"IF(Paramètres!BC12=0,\"\",Paramètres!BC12)","v":""},0,null,null,1,{"$f":"IF(T$305=\"Error\",\"Error\",IF(AND($P$305<>\"/\",$P$305>'Paramètres - Admin'!$A8),'Paramètres - Admin'!$A9,\"/\"))","v":7},{"$f":"IF(R313<>\"/\",VLOOKUP(R313,COSTS_Archer_Queen[#All],2),\"/\")","v":35000},{"$f":"IF(R313<>\"/\",VLOOKUP(R313,COSTS_Archer_Queen[#All],3),\"/\")","v":72},35000,72]
[8,{"$f":"IF(Paramètres!BB13=0,\"\",Paramètres!BB13)","v":""},0,null,null,1,{"$f":"IF(I$305=\"Error\",\"Error\",IF(AND($E$305<>\"/\",$E$305>'Paramètres - Admin'!$A9),'Paramètres - Admin'!$A10,\"/\"))","v":8},{"$f":"IF(G314<>\"/\",VLOOKUP(G314,COSTS_Barbarian_King[#All],2),\"/\")","v":30000},{"$f":"IF(G314<>\"/\",VLOOKUP(G314,COSTS_Barbarian_King[#All],3),\"/\")","v":84},30000,84,8,{"$f":"IF(Paramètres!BC13=0,\"\",Paramètres!BC13)","v":""},0,null,null,1,{"$f":"IF(T$305=\"Error\",\"Error\",IF(AND($P$305<>\"/\",$P$305>'Paramètres - Admin'!$A9),'Paramètres - Admin'!$A10,\"/\"))","v":8},{"$f":"IF(R314<>\"/\",VLOOKUP(R314,COSTS_Archer_Queen[#All],2),\"/\")","v":40000},{"$f":"IF(R314<>\"/\",VLOOKUP(R314,COSTS_Archer_Queen[#All],3),\"/\")","v":84},40000,84]
[9,{"$f":"IF(Paramètres!BB14=0,\"\",Paramètres!BB14)","v":""},0,null,null,1,{"$f":"IF(I$305=\"Error\",\"Error\",IF(AND($E$305<>\"/\",$E$305>'Paramètres - Admin'!$A10),'Paramètres - Admin'!$A11,\"/\"))","v":9},{"$f":"IF(G315<>\"/\",VLOOKUP(G315,COSTS_Barbarian_King[#All],2),\"/\")","v":35000},{"$f":"IF(G315<>\"/\",VLOOKUP(G315,COSTS_Barbarian_King[#All],3),\"/\")","v":96},35000,96,9,{"$f":"IF(Paramètres!BC14=0,\"\",Paramètres!BC14)","v":""},0,null,null,1,{"$f":"IF(T$305=\"Error\",\"Error\",IF(AND($P$305<>\"/\",$P$305>'Paramètres - Admin'!$A10),'Paramètres - Admin'!$A11,\"/\"))","v":9},{"$f":"IF(R315<>\"/\",VLOOKUP(R315,COSTS_Archer_Queen[#All],2),\"/\")","v":45000},{"$f":"IF(R315<>\"/\",VLOOKUP(R315,COSTS_Archer_Queen[#All],3),\"/\")","v":96},45000,96]
[10,{"$f":"IF(Paramètres!BB15=0,\"\",Paramètres!BB15)","v":""},0,null,null,1,{"$f":"IF(I$305=\"Error\",\"Error\",IF(AND($E$305<>\"/\",$E$305>'Paramètres - Admin'!$A11),'Paramètres - Admin'!$A12,\"/\"))","v":10},{"$f":"IF(G316<>\"/\",VLOOKUP(G316,COSTS_Barbarian_King[#All],2),\"/\")","v":40000},{"$f":"IF(G316<>\"/\",VLOOKUP(G316,COSTS_Barbarian_King[#All],3),\"/\")","v":108},40000,108,10,{"$f":"IF(Paramètres!BC15=0,\"\",Paramètres!BC15)","v":""},0,null,null,1,{"$f":"IF(T$305=\"Error\",\"Error\",IF(AND($P$305<>\"/\",$P$305>'Paramètres - Admin'!$A11),'Paramètres - Admin'!$A12,\"/\"))","v":10},{"$f":"IF(R316<>\"/\",VLOOKUP(R316,COSTS_Archer_Queen[#All],2),\"/\")","v":50000},{"$f":"IF(R316<>\"/\",VLOOKUP(R316,COSTS_Archer_Queen[#All],3),\"/\")","v":108},50000,108]
[11,{"$f":"IF(Paramètres!BB16=0,\"\",Paramètres!BB16)","v":""},0,null,null,1,{"$f":"IF(I$305=\"Error\",\"Error\",IF(AND($E$305<>\"/\",$E$305>'Paramètres - Admin'!$A12),'Paramètres - Admin'!$A13,\"/\"))","v":11},{"$f":"IF(G317<>\"/\",VLOOKUP(G317,COSTS_Barbarian_King[#All],2),\"/\")","v":45000},{"$f":"IF(G317<>\"/\",VLOOKUP(G317,COSTS_Barbarian_King[#All],3),\"/\")","v":120},45000,120,11,{"$f":"IF(Paramètres!BC16=0,\"\",Paramètres!BC16)","v":""},0,null,null,1,{"$f":"IF(T$305=\"Error\",\"Error\",IF(AND($P$305<>\"/\",$P$305>'Paramètres - Admin'!$A12),'Paramètres - Admin'!$A13,\"/\"))","v":11},{"$f":"IF(R317<>\"/\",VLOOKUP(R317,COSTS_Archer_Queen[#All],2),\"/\")","v":55000},{"$f":"IF(R317<>\"/\",VLOOKUP(R317,COSTS_Archer_Queen[#All],3),\"/\")","v":120},55000,120]
[12,{"$f":"IF(Paramètres!BB17=0,\"\",Paramètres!BB17)","v":""},0,null,null,1,{"$f":"IF(I$305=\"Error\",\"Error\",IF(AND($E$305<>\"/\",$E$305>'Paramètres - Admin'!$A13),'Paramètres - Admin'!$A14,\"/\"))","v":12},{"$f":"IF(G318<>\"/\",VLOOKUP(G318,COSTS_Barbarian_King[#All],2),\"/\")","v":50000},{"$f":"IF(G318<>\"/\",VLOOKUP(G318,COSTS_Barbarian_King[#All],3),\"/\")","v":132},50000,132,12,{"$f":"IF(Paramètres!BC17=0,\"\",Paramètres!BC17)","v":""},0,null,null,1,{"$f":"IF(T$305=\"Error\",\"Error\",IF(AND($P$305<>\"/\",$P$305>'Paramètres - Admin'!$A13),'Paramètres - Admin'!$A14,\"/\"))","v":12},{"$f":"IF(R318<>\"/\",VLOOKUP(R318,COSTS_Archer_Queen[#All],2),\"/\")","v":60000},{"$f":"IF(R318<>\"/\",VLOOKUP(R318,COSTS_Archer_Queen[#All],3),\"/\")","v":132},60000,132]
[13,{"$f":"IF(Paramètres!BB18=0,\"\",Paramètres!BB18)","v":""},0,null,null,1,{"$f":"IF(I$305=\"Error\",\"Error\",IF(AND($E$305<>\"/\",$E$305>'Paramètres - Admin'!$A14),'Paramètres - Admin'!$A15,\"/\"))","v":13},{"$f":"IF(G319<>\"/\",VLOOKUP(G319,COSTS_Barbarian_King[#All],2),\"/\")","v":55000},{"$f":"IF(G319<>\"/\",VLOOKUP(G319,COSTS_Barbarian_King[#All],3),\"/\")","v":144},55000,144,13,{"$f":"IF(Paramètres!BC18=0,\"\",Paramètres!BC18)","v":""},0,null,null,1,{"$f":"IF(T$305=\"Error\",\"Error\",IF(AND($P$305<>\"/\",$P$305>'Paramètres - Admin'!$A14),'Paramètres - Admin'!$A15,\"/\"))","v":13},{"$f":"IF(R319<>\"/\",VLOOKUP(R319,COSTS_Archer_Queen[#All],2),\"/\")","v":65000},{"$f":"IF(R319<>\"/\",VLOOKUP(R319,COSTS_Archer_Queen[#All],3),\"/\")","v":144},65000,144]
[14,{"$f":"IF(Paramètres!BB19=0,\"\",Paramètres!BB19)","v":""},0,null,null,1,{"$f":"IF(I$305=\"Error\",\"Error\",IF(AND($E$305<>\"/\",$E$305>'Paramètres - Admin'!$A15),'Paramètres - Admin'!$A16,\"/\"))","v":14},{"$f":"IF(G320<>\"/\",VLOOKUP(G320,COSTS_Barbarian_King[#All],2),\"/\")","v":60000},{"$f":"IF(G320<>\"/\",VLOOKUP(G320,COSTS_Barbarian_King[#All],3),\"/\")","v":156},60000,156,14,{"$f":"IF(Paramètres!BC19=0,\"\",Paramètres!BC19)","v":""},0,null,null,1,{"$f":"IF(T$305=\"Error\",\"Error\",IF(AND($P$305<>\"/\",$P$305>'Paramètres - Admin'!$A15),'Paramètres - Admin'!$A16,\"/\"))","v":14},{"$f":"IF(R320<>\"/\",VLOOKUP(R320,COSTS_Archer_Queen[#All],2),\"/\")","v":70000},{"$f":"IF(R320<>\"/\",VLOOKUP(R320,COSTS_Archer_Queen[#All],3),\"/\")","v":156},70000,156]
[15,{"$f":"IF(Paramètres!BB20=0,\"\",Paramètres!BB20)","v":""},0,null,null,1,{"$f":"IF(I$305=\"Error\",\"Error\",IF(AND($E$305<>\"/\",$E$305>'Paramètres - Admin'!$A16),'Paramètres - Admin'!$A17,\"/\"))","v":15},{"$f":"IF(G321<>\"/\",VLOOKUP(G321,COSTS_Barbarian_King[#All],2),\"/\")","v":65000},{"$f":"IF(G321<>\"/\",VLOOKUP(G321,COSTS_Barbarian_King[#All],3),\"/\")","v":168},65000,168,15,{"$f":"IF(Paramètres!BC20=0,\"\",Paramètres!BC20)","v":""},0,null,null,1,{"$f":"IF(T$305=\"Error\",\"Error\",IF(AND($P$305<>\"/\",$P$305>'Paramètres - Admin'!$A16),'Paramètres - Admin'!$A17,\"/\"))","v":15},{"$f":"IF(R321<>\"/\",VLOOKUP(R321,COSTS_Archer_Queen[#All],2),\"/\")","v":75000},{"$f":"IF(R321<>\"/\",VLOOKUP(R321,COSTS_Archer_Queen[#All],3),\"/\")","v":168},75000,168]
[16,{"$f":"IF(Paramètres!BB21=0,\"\",Paramètres!BB21)","v":""},0,null,null,1,{"$f":"IF(I$305=\"Error\",\"Error\",IF(AND($E$305<>\"/\",$E$305>'Paramètres - Admin'!$A17),'Paramètres - Admin'!$A18,\"/\"))","v":16},{"$f":"IF(G322<>\"/\",VLOOKUP(G322,COSTS_Barbarian_King[#All],2),\"/\")","v":70000},{"$f":"IF(G322<>\"/\",VLOOKUP(G322,COSTS_Barbarian_King[#All],3),\"/\")","v":180},70000,180,16,{"$f":"IF(Paramètres!BC21=0,\"\",Paramètres!BC21)","v":""},0,null,null,1,{"$f":"IF(T$305=\"Error\",\"Error\",IF(AND($P$305<>\"/\",$P$305>'Paramètres - Admin'!$A17),'Paramètres - Admin'!$A18,\"/\"))","v":16},{"$f":"IF(R322<>\"/\",VLOOKUP(R322,COSTS_Archer_Queen[#All],2),\"/\")","v":80000},{"$f":"IF(R322<>\"/\",VLOOKUP(R322,COSTS_Archer_Queen[#All],3),\"/\")","v":168},80000,168]
[17,{"$f":"IF(Paramètres!BB22=0,\"\",Paramètres!BB22)","v":""},0,null,null,1,{"$f":"IF(I$305=\"Error\",\"Error\",IF(AND($E$305<>\"/\",$E$305>'Paramètres - Admin'!$A18),'Paramètres - Admin'!$A19,\"/\"))","v":17},{"$f":"IF(G323<>\"/\",VLOOKUP(G323,COSTS_Barbarian_King[#All],2),\"/\")","v":75000},{"$f":"IF(G323<>\"/\",VLOOKUP(G323,COSTS_Barbarian_King[#All],3),\"/\")","v":192},75000,192,17,{"$f":"IF(Paramètres!BC22=0,\"\",Paramètres!BC22)","v":""},0,null,null,1,{"$f":"IF(T$305=\"Error\",\"Error\",IF(AND($P$305<>\"/\",$P$305>'Paramètres - Admin'!$A18),'Paramètres - Admin'!$A19,\"/\"))","v":17},{"$f":"IF(R323<>\"/\",VLOOKUP(R323,COSTS_Archer_Queen[#All],2),\"/\")","v":85000},{"$f":"IF(R323<>\"/\",VLOOKUP(R323,COSTS_Archer_Queen[#All],3),\"/\")","v":168},85000,168]
[18,{"$f":"IF(Paramètres!BB23=0,\"\",Paramètres!BB23)","v":""},0,null,null,1,{"$f":"IF(I$305=\"Error\",\"Error\",IF(AND($E$305<>\"/\",$E$305>'Paramètres - Admin'!$A19),'Paramètres - Admin'!$A20,\"/\"))","v":18},{"$f":"IF(G324<>\"/\",VLOOKUP(G324,COSTS_Barbarian_King[#All],2),\"/\")","v":80000},{"$f":"IF(G324<>\"/\",VLOOKUP(G324,COSTS_Barbarian_King[#All],3),\"/\")","v":204},80000,204,18,{"$f":"IF(Paramètres!BC23=0,\"\",Paramètres!BC23)","v":""},0,null,null,1,{"$f":"IF(T$305=\"Error\",\"Error\",IF(AND($P$305<>\"/\",$P$305>'Paramètres - Admin'!$A19),'Paramètres - Admin'!$A20,\"/\"))","v":18},{"$f":"IF(R324<>\"/\",VLOOKUP(R324,COSTS_Archer_Queen[#All],2),\"/\")","v":90000},{"$f":"IF(R324<>\"/\",VLOOKUP(R324,COSTS_Archer_Queen[#All],3),\"/\")","v":168},90000,168]
[19,{"$f":"IF(Paramètres!BB24=0,\"\",Paramètres!BB24)","v":""},0,null,null,1,{"$f":"IF(I$305=\"Error\",\"Error\",IF(AND($E$305<>\"/\",$E$305>'Paramètres - Admin'!$A20),'Paramètres - Admin'!$A21,\"/\"))","v":19},{"$f":"IF(G325<>\"/\",VLOOKUP(G325,COSTS_Barbarian_King[#All],2),\"/\")","v":85000},{"$f":"IF(G325<>\"/\",VLOOKUP(G325,COSTS_Barbarian_King[#All],3),\"/\")","v":216},85000,216,19,{"$f":"IF(Paramètres!BC24=0,\"\",Paramètres!BC24)","v":""},0,null,null,1,{"$f":"IF(T$305=\"Error\",\"Error\",IF(AND($P$305<>\"/\",$P$305>'Paramètres - Admin'!$A20),'Paramètres - Admin'!$A21,\"/\"))","v":19},{"$f":"IF(R325<>\"/\",VLOOKUP(R325,COSTS_Archer_Queen[#All],2),\"/\")","v":95000},{"$f":"IF(R325<>\"/\",VLOOKUP(R325,COSTS_Archer_Queen[#All],3),\"/\")","v":168},95000,168]
[20,{"$f":"IF(Paramètres!BB25=0,\"\",Paramètres!BB25)","v":""},0,null,null,1,{"$f":"IF(I$305=\"Error\",\"Error\",IF(AND($E$305<>\"/\",$E$305>'Paramètres - Admin'!$A21),'Paramètres - Admin'!$A22,\"/\"))","v":20},{"$f":"IF(G326<>\"/\",VLOOKUP(G326,COSTS_Barbarian_King[#All],2),\"/\")","v":90000},{"$f":"IF(G326<>\"/\",VLOOKUP(G326,COSTS_Barbarian_King[#All],3),\"/\")","v":228},90000,228,20,{"$f":"IF(Paramètres!BC25=0,\"\",Paramètres!BC25)","v":""},0,null,null,1,{"$f":"IF(T$305=\"Error\",\"Error\",IF(AND($P$305<>\"/\",$P$305>'Paramètres - Admin'!$A21),'Paramètres - Admin'!$A22,\"/\"))","v":20},{"$f":"IF(R326<>\"/\",VLOOKUP(R326,COSTS_Archer_Queen[#All],2),\"/\")","v":100000},{"$f":"IF(R326<>\"/\",VLOOKUP(R326,COSTS_Archer_Queen[#All],3),\"/\")","v":168},100000,168]
[21,{"$f":"IF(Paramètres!BB26=0,\"\",Paramètres!BB26)","v":""},0,null,null,1,{"$f":"IF(I$305=\"Error\",\"Error\",IF(AND($E$305<>\"/\",$E$305>'Paramètres - Admin'!$A22),'Paramètres - Admin'!$A23,\"/\"))","v":21},{"$f":"IF(G327<>\"/\",VLOOKUP(G327,COSTS_Barbarian_King[#All],2),\"/\")","v":95000},{"$f":"IF(G327<>\"/\",VLOOKUP(G327,COSTS_Barbarian_King[#All],3),\"/\")","v":240},95000,240,21,{"$f":"IF(Paramètres!BC26=0,\"\",Paramètres!BC26)","v":""},0,null,null,1,{"$f":"IF(T$305=\"Error\",\"Error\",IF(AND($P$305<>\"/\",$P$305>'Paramètres - Admin'!$A22),'Paramètres - Admin'!$A23,\"/\"))","v":21},{"$f":"IF(R327<>\"/\",VLOOKUP(R327,COSTS_Archer_Queen[#All],2),\"/\")","v":105000},{"$f":"IF(R327<>\"/\",VLOOKUP(R327,COSTS_Archer_Queen[#All],3),\"/\")","v":168},105000,168]
[22,{"$f":"IF(Paramètres!BB27=0,\"\",Paramètres!BB27)","v":""},0,null,null,1,{"$f":"IF(I$305=\"Error\",\"Error\",IF(AND($E$305<>\"/\",$E$305>'Paramètres - Admin'!$A23),'Paramètres - Admin'!$A24,\"/\"))","v":22},{"$f":"IF(G328<>\"/\",VLOOKUP(G328,COSTS_Barbarian_King[#All],2),\"/\")","v":100000},{"$f":"IF(G328<>\"/\",VLOOKUP(G328,COSTS_Barbarian_King[#All],3),\"/\")","v":252},100000,252,22,{"$f":"IF(Paramètres!BC27=0,\"\",Paramètres!BC27)","v":""},0,null,null,1,{"$f":"IF(T$305=\"Error\",\"Error\",IF(AND($P$305<>\"/\",$P$305>'Paramètres - Admin'!$A23),'Paramètres - Admin'!$A24,\"/\"))","v":22},{"$f":"IF(R328<>\"/\",VLOOKUP(R328,COSTS_Archer_Queen[#All],2),\"/\")","v":110000},{"$f":"IF(R328<>\"/\",VLOOKUP(R328,COSTS_Archer_Queen[#All],3),\"/\")","v":168},110000,168]
[23,{"$f":"IF(Paramètres!BB28=0,\"\",Paramètres!BB28)","v":""},0,null,null,1,{"$f":"IF(I$305=\"Error\",\"Error\",IF(AND($E$305<>\"/\",$E$305>'Paramètres - Admin'!$A24),'Paramètres - Admin'!$A25,\"/\"))","v":23},{"$f":"IF(G329<>\"/\",VLOOKUP(G329,COSTS_Barbarian_King[#All],2),\"/\")","v":105000},{"$f":"IF(G329<>\"/\",VLOOKUP(G329,COSTS_Barbarian_King[#All],3),\"/\")","v":264},105000,264,23,{"$f":"IF(Paramètres!BC28=0,\"\",Paramètres!BC28)","v":""},0,null,null,1,{"$f":"IF(T$305=\"Error\",\"Error\",IF(AND($P$305<>\"/\",$P$305>'Paramètres - Admin'!$A24),'Paramètres - Admin'!$A25,\"/\"))","v":23},{"$f":"IF(R329<>\"/\",VLOOKUP(R329,COSTS_Archer_Queen[#All],2),\"/\")","v":115000},{"$f":"IF(R329<>\"/\",VLOOKUP(R329,COSTS_Archer_Queen[#All],3),\"/\")","v":168},115000,168]
[24,{"$f":"IF(Paramètres!BB29=0,\"\",Paramètres!BB29)","v":""},0,null,null,1,{"$f":"IF(I$305=\"Error\",\"Error\",IF(AND($E$305<>\"/\",$E$305>'Paramètres - Admin'!$A25),'Paramètres - Admin'!$A26,\"/\"))","v":24},{"$f":"IF(G330<>\"/\",VLOOKUP(G330,COSTS_Barbarian_King[#All],2),\"/\")","v":110000},{"$f":"IF(G330<>\"/\",VLOOKUP(G330,COSTS_Barbarian_King[#All],3),\"/\")","v":276},110000,276,24,{"$f":"IF(Paramètres!BC29=0,\"\",Paramètres!BC29)","v":""},0,null,null,1,{"$f":"IF(T$305=\"Error\",\"Error\",IF(AND($P$305<>\"/\",$P$305>'Paramètres - Admin'!$A25),'Paramètres - Admin'!$A26,\"/\"))","v":24},{"$f":"IF(R330<>\"/\",VLOOKUP(R330,COSTS_Archer_Queen[#All],2),\"/\")","v":120000},{"$f":"IF(R330<>\"/\",VLOOKUP(R330,COSTS_Archer_Queen[#All],3),\"/\")","v":168},120000,168]
[25,{"$f":"IF(Paramètres!BB30=0,\"\",Paramètres!BB30)","v":""},0,null,null,1,{"$f":"IF(I$305=\"Error\",\"Error\",IF(AND($E$305<>\"/\",$E$305>'Paramètres - Admin'!$A26),'Paramètres - Admin'!$A27,\"/\"))","v":25},{"$f":"IF(G331<>\"/\",VLOOKUP(G331,COSTS_Barbarian_King[#All],2),\"/\")","v":115000},{"$f":"IF(G331<>\"/\",VLOOKUP(G331,COSTS_Barbarian_King[#All],3),\"/\")","v":288},115000,288,25,{"$f":"IF(Paramètres!BC30=0,\"\",Paramètres!BC30)","v":""},0,null,null,1,{"$f":"IF(T$305=\"Error\",\"Error\",IF(AND($P$305<>\"/\",$P$305>'Paramètres - Admin'!$A26),'Paramètres - Admin'!$A27,\"/\"))","v":25},{"$f":"IF(R331<>\"/\",VLOOKUP(R331,COSTS_Archer_Queen[#All],2),\"/\")","v":125000},{"$f":"IF(R331<>\"/\",VLOOKUP(R331,COSTS_Archer_Queen[#All],3),\"/\")","v":168},125000,168]
[26,{"$f":"IF(Paramètres!BB31=0,\"\",Paramètres!BB31)","v":""},0,null,null,1,{"$f":"IF(I$305=\"Error\",\"Error\",IF(AND($E$305<>\"/\",$E$305>'Paramètres - Admin'!$A27),'Paramètres - Admin'!$A28,\"/\"))","v":26},{"$f":"IF(G332<>\"/\",VLOOKUP(G332,COSTS_Barbarian_King[#All],2),\"/\")","v":120000},{"$f":"IF(G332<>\"/\",VLOOKUP(G332,COSTS_Barbarian_King[#All],3),\"/\")","v":300},120000,300,26,{"$f":"IF(Paramètres!BC31=0,\"\",Paramètres!BC31)","v":""},0,null,null,1,{"$f":"IF(T$305=\"Error\",\"Error\",IF(AND($P$305<>\"/\",$P$305>'Paramètres - Admin'!$A27),'Paramètres - Admin'!$A28,\"/\"))","v":26},{"$f":"IF(R332<>\"/\",VLOOKUP(R332,COSTS_Archer_Queen[#All],2),\"/\")","v":130000},{"$f":"IF(R332<>\"/\",VLOOKUP(R332,COSTS_Archer_Queen[#All],3),\"/\")","v":168},130000,168]
[27,{"$f":"IF(Paramètres!BB32=0,\"\",Paramètres!BB32)","v":""},0,null,null,1,{"$f":"IF(I$305=\"Error\",\"Error\",IF(AND($E$305<>\"/\",$E$305>'Paramètres - Admin'!$A28),'Paramètres - Admin'!$A29,\"/\"))","v":27},{"$f":"IF(G333<>\"/\",VLOOKUP(G333,COSTS_Barbarian_King[#All],2),\"/\")","v":125000},{"$f":"IF(G333<>\"/\",VLOOKUP(G333,COSTS_Barbarian_King[#All],3),\"/\")","v":312},125000,312,27,{"$f":"IF(Paramètres!BC32=0,\"\",Paramètres!BC32)","v":""},0,null,null,1,{"$f":"IF(T$305=\"Error\",\"Error\",IF(AND($P$305<>\"/\",$P$305>'Paramètres - Admin'!$A28),'Paramètres - Admin'!$A29,\"/\"))","v":27},{"$f":"IF(R333<>\"/\",VLOOKUP(R333,COSTS_Archer_Queen[#All],2),\"/\")","v":135000},{"$f":"IF(R333<>\"/\",VLOOKUP(R333,COSTS_Archer_Queen[#All],3),\"/\")","v":168},135000,168]
[28,{"$f":"IF(Paramètres!BB33=0,\"\",Paramètres!BB33)","v":""},0,null,null,1,{"$f":"IF(I$305=\"Error\",\"Error\",IF(AND($E$305<>\"/\",$E$305>'Paramètres - Admin'!$A29),'Paramètres - Admin'!$A30,\"/\"))","v":28},{"$f":"IF(G334<>\"/\",VLOOKUP(G334,COSTS_Barbarian_King[#All],2),\"/\")","v":130000},{"$f":"IF(G334<>\"/\",VLOOKUP(G334,COSTS_Barbarian_King[#All],3),\"/\")","v":324},130000,324,28,{"$f":"IF(Paramètres!BC33=0,\"\",Paramètres!BC33)","v":""},0,null,null,1,{"$f":"IF(T$305=\"Error\",\"Error\",IF(AND($P$305<>\"/\",$P$305>'Paramètres - Admin'!$A29),'Paramètres - Admin'!$A30,\"/\"))","v":28},{"$f":"IF(R334<>\"/\",VLOOKUP(R334,COSTS_Archer_Queen[#All],2),\"/\")","v":140000},{"$f":"IF(R334<>\"/\",VLOOKUP(R334,COSTS_Archer_Queen[#All],3),\"/\")","v":168},140000,168]
[29,{"$f":"IF(Paramètres!BB34=0,\"\",Paramètres!BB34)","v":""},0,null,null,1,{"$f":"IF(I$305=\"Error\",\"Error\",IF(AND($E$305<>\"/\",$E$305>'Paramètres - Admin'!$A30),'Paramètres - Admin'!$A31,\"/\"))","v":29},{"$f":"IF(G335<>\"/\",VLOOKUP(G335,COSTS_Barbarian_King[#All],2),\"/\")","v":135000},{"$f":"IF(G335<>\"/\",VLOOKUP(G335,COSTS_Barbarian_King[#All],3),\"/\")","v":336},135000,336,29,{"$f":"IF(Paramètres!BC34=0,\"\",Paramètres!BC34)","v":""},0,null,null,1,{"$f":"IF(T$305=\"Error\",\"Error\",IF(AND($P$305<>\"/\",$P$305>'Paramètres - Admin'!$A30),'Paramètres - Admin'!$A31,\"/\"))","v":29},{"$f":"IF(R335<>\"/\",VLOOKUP(R335,COSTS_Archer_Queen[#All],2),\"/\")","v":145000},{"$f":"IF(R335<>\"/\",VLOOKUP(R335,COSTS_Archer_Queen[#All],3),\"/\")","v":168},145000,168]
[30,{"$f":"IF(Paramètres!BB35=0,\"\",Paramètres!BB35)","v":""},0,null,null,1,{"$f":"IF(I$305=\"Error\",\"Error\",IF(AND($E$305<>\"/\",$E$305>'Paramètres - Admin'!$A31),'Paramètres - Admin'!$A32,\"/\"))","v":30},{"$f":"IF(G336<>\"/\",VLOOKUP(G336,COSTS_Barbarian_King[#All],2),\"/\")","v":140000},{"$f":"IF(G336<>\"/\",VLOOKUP(G336,COSTS_Barbarian_King[#All],3),\"/\")","v":348},140000,348,30,{"$f":"IF(Paramètres!BC35=0,\"\",Paramètres!BC35)","v":""},0,null,null,1,{"$f":"IF(T$305=\"Error\",\"Error\",IF(AND($P$305<>\"/\",$P$305>'Paramètres - Admin'!$A31),'Paramètres - Admin'!$A32,\"/\"))","v":30},{"$f":"IF(R336<>\"/\",VLOOKUP(R336,COSTS_Archer_Queen[#All],2),\"/\")","v":150000},{"$f":"IF(R336<>\"/\",VLOOKUP(R336,COSTS_Archer_Queen[#All],3),\"/\")","v":168},150000,168]
[31,{"$f":"IF(Paramètres!BB36=0,\"\",Paramètres!BB36)","v":""},0,null,null,1,{"$f":"IF(I$305=\"Error\",\"Error\",IF(AND($E$305<>\"/\",$E$305>'Paramètres - Admin'!$A32),'Paramètres - Admin'!$A33,\"/\"))","v":31},{"$f":"IF(G337<>\"/\",VLOOKUP(G337,COSTS_Barbarian_King[#All],2),\"/\")","v":145000},{"$f":"IF(G337<>\"/\",VLOOKUP(G337,COSTS_Barbarian_King[#All],3),\"/\")","v":360},145000,360,31,{"$f":"IF(Paramètres!BC36=0,\"\",Paramètres!BC36)","v":""},0,null,null,1,{"$f":"IF(T$305=\"Error\",\"Error\",IF(AND($P$305<>\"/\",$P$305>'Paramètres - Admin'!$A32),'Paramètres - Admin'!$A33,\"/\"))","v":31},{"$f":"IF(R337<>\"/\",VLOOKUP(R337,COSTS_Archer_Queen[#All],2),\"/\")","v":155000},{"$f":"IF(R337<>\"/\",VLOOKUP(R337,COSTS_Archer_Queen[#All],3),\"/\")","v":168},155000,168]
[32,{"$f":"IF(Paramètres!BB37=0,\"\",Paramètres!BB37)","v":""},0,null,null,1,{"$f":"IF(I$305=\"Error\",\"Error\",IF(AND($E$305<>\"/\",$E$305>'Paramètres - Admin'!$A33),'Paramètres - Admin'!$A34,\"/\"))","v":32},{"$f":"IF(G338<>\"/\",VLOOKUP(G338,COSTS_Barbarian_King[#All],2),\"/\")","v":150000},{"$f":"IF(G338<>\"/\",VLOOKUP(G338,COSTS_Barbarian_King[#All],3),\"/\")","v":372},150000,372,32,{"$f":"IF(Paramètres!BC37=0,\"\",Paramètres!BC37)","v":""},0,null,null,1,{"$f":"IF(T$305=\"Error\",\"Error\",IF(AND($P$305<>\"/\",$P$305>'Paramètres - Admin'!$A33),'Paramètres - Admin'!$A34,\"/\"))","v":32},{"$f":"IF(R338<>\"/\",VLOOKUP(R338,COSTS_Archer_Queen[#All],2),\"/\")","v":160000},{"$f":"IF(R338<>\"/\",VLOOKUP(R338,COSTS_Archer_Queen[#All],3),\"/\")","v":168},160000,168]
[33,{"$f":"IF(Paramètres!BB38=0,\"\",Paramètres!BB38)","v":""},0,null,null,1,{"$f":"IF(I$305=\"Error\",\"Error\",IF(AND($E$305<>\"/\",$E$305>'Paramètres - Admin'!$A34),'Paramètres - Admin'!$A35,\"/\"))","v":33},{"$f":"IF(G339<>\"/\",VLOOKUP(G339,COSTS_Barbarian_King[#All],2),\"/\")","v":155000},{"$f":"IF(G339<>\"/\",VLOOKUP(G339,COSTS_Barbarian_King[#All],3),\"/\")","v":384},155000,384,33,{"$f":"IF(Paramètres!BC38=0,\"\",Paramètres!BC38)","v":""},0,null,null,1,{"$f":"IF(T$305=\"Error\",\"Error\",IF(AND($P$305<>\"/\",$P$305>'Paramètres - Admin'!$A34),'Paramètres - Admin'!$A35,\"/\"))","v":33},{"$f":"IF(R339<>\"/\",VLOOKUP(R339,COSTS_Archer_Queen[#All],2),\"/\")","v":165000},{"$f":"IF(R339<>\"/\",VLOOKUP(R339,COSTS_Archer_Queen[#All],3),\"/\")","v":168},165000,168]
[34,{"$f":"IF(Paramètres!BB39=0,\"\",Paramètres!BB39)","v":""},0,null,null,1,{"$f":"IF(I$305=\"Error\",\"Error\",IF(AND($E$305<>\"/\",$E$305>'Paramètres - Admin'!$A35),'Paramètres - Admin'!$A36,\"/\"))","v":34},{"$f":"IF(G340<>\"/\",VLOOKUP(G340,COSTS_Barbarian_King[#All],2),\"/\")","v":160000},{"$f":"IF(G340<>\"/\",VLOOKUP(G340,COSTS_Barbarian_King[#All],3),\"/\")","v":396},160000,396,34,{"$f":"IF(Paramètres!BC39=0,\"\",Paramètres!BC39)","v":""},0,null,null,1,{"$f":"IF(T$305=\"Error\",\"Error\",IF(AND($P$305<>\"/\",$P$305>'Paramètres - Admin'!$A35),'Paramètres - Admin'!$A36,\"/\"))","v":34},{"$f":"IF(R340<>\"/\",VLOOKUP(R340,COSTS_Archer_Queen[#All],2),\"/\")","v":170000},{"$f":"IF(R340<>\"/\",VLOOKUP(R340,COSTS_Archer_Queen[#All],3),\"/\")","v":168},170000,168]
[35,{"$f":"IF(Paramètres!BB40=0,\"\",Paramètres!BB40)","v":""},0,null,null,1,{"$f":"IF(I$305=\"Error\",\"Error\",IF(AND($E$305<>\"/\",$E$305>'Paramètres - Admin'!$A36),'Paramètres - Admin'!$A37,\"/\"))","v":35},{"$f":"IF(G341<>\"/\",VLOOKUP(G341,COSTS_Barbarian_King[#All],2),\"/\")","v":165000},{"$f":"IF(G341<>\"/\",VLOOKUP(G341,COSTS_Barbarian_King[#All],3),\"/\")","v":408},165000,408,35,{"$f":"IF(Paramètres!BC40=0,\"\",Paramètres!BC40)","v":""},0,null,null,1,{"$f":"IF(T$305=\"Error\",\"Error\",IF(AND($P$305<>\"/\",$P$305>'Paramètres - Admin'!$A36),'Paramètres - Admin'!$A37,\"/\"))","v":35},{"$f":"IF(R341<>\"/\",VLOOKUP(R341,COSTS_Archer_Queen[#All],2),\"/\")","v":175000},{"$f":"IF(R341<>\"/\",VLOOKUP(R341,COSTS_Archer_Queen[#All],3),\"/\")","v":168},175000,168]
[36,{"$f":"IF(Paramètres!BB41=0,\"\",Paramètres!BB41)","v":""},0,null,null,1,{"$f":"IF(I$305=\"Error\",\"Error\",IF(AND($E$305<>\"/\",$E$305>'Paramètres - Admin'!$A37),'Paramètres - Admin'!$A38,\"/\"))","v":36},{"$f":"IF(G342<>\"/\",VLOOKUP(G342,COSTS_Barbarian_King[#All],2),\"/\")","v":170000},{"$f":"IF(G342<>\"/\",VLOOKUP(G342,COSTS_Barbarian_King[#All],3),\"/\")","v":420},170000,420,36,{"$f":"IF(Paramètres!BC41=0,\"\",Paramètres!BC41)","v":""},0,null,null,1,{"$f":"IF(T$305=\"Error\",\"Error\",IF(AND($P$305<>\"/\",$P$305>'Paramètres - Admin'!$A37),'Paramètres - Admin'!$A38,\"/\"))","v":36},{"$f":"IF(R342<>\"/\",VLOOKUP(R342,COSTS_Archer_Queen[#All],2),\"/\")","v":180000},{"$f":"IF(R342<>\"/\",VLOOKUP(R342,COSTS_Archer_Queen[#All],3),\"/\")","v":168},180000,168]
[37,{"$f":"IF(Paramètres!BB42=0,\"\",Paramètres!BB42)","v":""},0,null,null,1,{"$f":"IF(I$305=\"Error\",\"Error\",IF(AND($E$305<>\"/\",$E$305>'Paramètres - Admin'!$A38),'Paramètres - Admin'!$A39,\"/\"))","v":37},{"$f":"IF(G343<>\"/\",VLOOKUP(G343,COSTS_Barbarian_King[#All],2),\"/\")","v":175000},{"$f":"IF(G343<>\"/\",VLOOKUP(G343,COSTS_Barbarian_King[#All],3),\"/\")","v":432},175000,432,37,{"$f":"IF(Paramètres!BC42=0,\"\",Paramètres!BC42)","v":""},0,null,null,1,{"$f":"IF(T$305=\"Error\",\"Error\",IF(AND($P$305<>\"/\",$P$305>'Paramètres - Admin'!$A38),'Paramètres - Admin'!$A39,\"/\"))","v":37},{"$f":"IF(R343<>\"/\",VLOOKUP(R343,COSTS_Archer_Queen[#All],2),\"/\")","v":185000},{"$f":"IF(R343<>\"/\",VLOOKUP(R343,COSTS_Archer_Queen[#All],3),\"/\")","v":168},185000,168]
[38,{"$f":"IF(Paramètres!BB43=0,\"\",Paramètres!BB43)","v":""},0,null,null,1,{"$f":"IF(I$305=\"Error\",\"Error\",IF(AND($E$305<>\"/\",$E$305>'Paramètres - Admin'!$A39),'Paramètres - Admin'!$A40,\"/\"))","v":38},{"$f":"IF(G344<>\"/\",VLOOKUP(G344,COSTS_Barbarian_King[#All],2),\"/\")","v":180000},{"$f":"IF(G344<>\"/\",VLOOKUP(G344,COSTS_Barbarian_King[#All],3),\"/\")","v":444},180000,444,38,{"$f":"IF(Paramètres!BC43=0,\"\",Paramètres!BC43)","v":""},0,null,null,1,{"$f":"IF(T$305=\"Error\",\"Error\",IF(AND($P$305<>\"/\",$P$305>'Paramètres - Admin'!$A39),'Paramètres - Admin'!$A40,\"/\"))","v":38},{"$f":"IF(R344<>\"/\",VLOOKUP(R344,COSTS_Archer_Queen[#All],2),\"/\")","v":190000},{"$f":"IF(R344<>\"/\",VLOOKUP(R344,COSTS_Archer_Queen[#All],3),\"/\")","v":168},190000,168]
[39,{"$f":"IF(Paramètres!BB44=0,\"\",Paramètres!BB44)","v":""},0,null,null,1,{"$f":"IF(I$305=\"Error\",\"Error\",IF(AND($E$305<>\"/\",$E$305>'Paramètres - Admin'!$A40),'Paramètres - Admin'!$A41,\"/\"))","v":39},{"$f":"IF(G345<>\"/\",VLOOKUP(G345,COSTS_Barbarian_King[#All],2),\"/\")","v":185000},{"$f":"IF(G345<>\"/\",VLOOKUP(G345,COSTS_Barbarian_King[#All],3),\"/\")","v":456},185000,456,39,{"$f":"IF(Paramètres!BC44=0,\"\",Paramètres!BC44)","v":""},0,null,null,1,{"$f":"IF(T$305=\"Error\",\"Error\",IF(AND($P$305<>\"/\",$P$305>'Paramètres - Admin'!$A40),'Paramètres - Admin'!$A41,\"/\"))","v":39},{"$f":"IF(R345<>\"/\",VLOOKUP(R345,COSTS_Archer_Queen[#All],2),\"/\")","v":195000},{"$f":"IF(R345<>\"/\",VLOOKUP(R345,COSTS_Archer_Queen[#All],3),\"/\")","v":168},195000,168]
[40,{"$f":"IF(Paramètres!BB45=0,\"\",Paramètres!BB45)","v":""},0,null,null,1,{"$f":"IF(I$305=\"Error\",\"Error\",IF(AND($E$305<>\"/\",$E$305>'Paramètres - Admin'!$A41),'Paramètres - Admin'!$A42,\"/\"))","v":40},{"$f":"IF(G346<>\"/\",VLOOKUP(G346,COSTS_Barbarian_King[#All],2),\"/\")","v":190000},{"$f":"IF(G346<>\"/\",VLOOKUP(G346,COSTS_Barbarian_King[#All],3),\"/\")","v":468},190000,468,40,{"$f":"IF(Paramètres!BC45=0,\"\",Paramètres!BC45)","v":""},0,null,null,1,{"$f":"IF(T$305=\"Error\",\"Error\",IF(AND($P$305<>\"/\",$P$305>'Paramètres - Admin'!$A41),'Paramètres - Admin'!$A42,\"/\"))","v":40},{"$f":"IF(R346<>\"/\",VLOOKUP(R346,COSTS_Archer_Queen[#All],2),\"/\")","v":200000},{"$f":"IF(R346<>\"/\",VLOOKUP(R346,COSTS_Archer_Queen[#All],3),\"/\")","v":168},200000,168]
[null,null,null,null,null,null,null,null,"Total",{"$f":"IF(I$305=\"Error\",\"Error\",SUM(J307:J346))","v":3752500},{"$f":"IF(I$305=\"Error\",\"Error\",SUM(K307:K346))","v":9360},null,null,null,null,null,null,null,null,"Total",{"$f":"IF(T$305=\"Error\",\"Error\",SUM(U307:U346))","v":4172500},{"$f":"IF(T$305=\"Error\",\"Error\",SUM(V307:V346))","v":5460}]

{"sheet":"Production","index":3,"n_rows":20,"n_cols":5,"rows_kept":20,"cut":false,"hidden":false,"merged":[[2,0,2,3]]}
["LVL HdV","Période","Or Total :","Élixir Total :","Élixir Noir Total :"]
[{"$f":"Paramètres!$BE$2","v":10},"1 jour",{"$f":"'À Faire - Récapitulatif'!D2","v":"2 979 352 457"},{"$f":"'À Faire - Récapitulatif'!G2","v":"317 074 850"},{"$f":"'À Faire - Récapitulatif'!I2","v":"8 950 000"}]
["Production"]
["Type","Mine d'Or","Extracteur d'Élixir","Foreuse d'Élixir Noir"]
["Max +",{"$f":"VLOOKUP($A$2,AVAILABLE_Buildings_Resource[#All],MATCH(B$4,AVAILABLE_Buildings_Resource[#Headers],0)+1)","v":12},{"$f":"VLOOKUP($A$2,AVAILABLE_Buildings_Resource[#All],MATCH(C$4,AVAILABLE_Buildings_Resource[#Headers],0)+1)","v":12},{"$f":"VLOOKUP($A$2,AVAILABLE_Buildings_Resource[#All],MATCH(D$4,AVAILABLE_Buildings_Resource[#Headers],0)+1)","v":6}]
[1,{"$f":"Paramètres!B6","v":0},{"$f":"Paramètres!C6","v":0},{"$f":"Paramètres!D6","v":0}]
[2,{"$f":"Paramètres!B7","v":0},{"$f":"Paramètres!C7","v":0},{"$f":"Paramètres!D7","v":0}]
[3,{"$f":"Paramètres!B8","v":0},{"$f":"Paramètres!C8","v":0},{"$f":"Paramètres!D8","v":0}]
[4,{"$f":"Paramètres!B9","v":0},{"$f":"Paramètres!C9","v":0},{"$f":"Paramètres!D9","v":0}]
[5,{"$f":"Paramètres!B10","v":0},{"$f":"Paramètres!C10","v":0},{"$f":"Paramètres!D10","v":0}]
[6,{"$f":"Paramètres!B11","v":0},{"$f":"Paramètres!C11","v":0},{"$f":"Paramètres!D11","v":0}]
[7,{"$f":"Paramètres!B12","v":0},{"$f":"Paramètres!C12","v":0},{"$f":"Paramètres!D12","v":0}]
[8,{"$f":"Paramètres!B13","v":0},{"$f":"Paramètres!C13","v":0},{"$f":"Paramètres!D13","v":0}]
[9,{"$f":"Paramètres!B14","v":0},{"$f":"Paramètres!C14","v":0},{"$f":"Paramètres!D14","v":0}]
[10,{"$f":"Paramètres!B15","v":0},{"$f":"Paramètres!C15","v":0},{"$f":"Paramètres!D15","v":0}]
[11,{"$f":"Paramètres!B16","v":0},{"$f":"Paramètres!C16","v":0},{"$f":"Paramètres!D16","v":0}]
[11,{"$f":"Paramètres!B17","v":0},{"$f":"Paramètres!C17","v":0}]
["Production / heure",{"$f":"SUMPRODUCT(B6:B17,EARNINGS_Gold_Mine[Production])","v":0},{"$f":"SUMPRODUCT(C6:C17,EARNINGS_Elixir_Collector[Production])","v":0},{"$f":"SUMPRODUCT(D6:D11,EARNINGS_Dark_Elixir_Drill[Production])","v":0}]
["Production / période",{"$f":"IF($B$2='Paramètres - Admin'!$E$2,B18,IF($B$2='Paramètres - Admin'!$E$3,B18*2,IF($B$2='Paramètres - Admin'!$E$4,B18*4,IF($B$2='Paramètres - Admin'!$E$5,B18*8,IF($B$2='Paramètres - Admin'!$E$6,B18*16,IF($B$2='Paramètres - Admin'!$E$7,B18*24,IF($B$2='Paramètres - Admin'!$E$8,B18*48,IF($B$2='Paramètres - Admin'!$E$9,B18*72,IF($B$2='Paramètres - Admin'!$E$10,B18*168,IF($B$2='Paramètres - Admin'!$E$11,B18*720))))))))))","v":0},{"$f":"IF($B$2='Paramètres - Admin'!$E$2,C18,IF($B$2='Paramètres - Admin'!$E$3,C18*2,IF($B$2='Paramètres - Admin'!$E$4,C18*4,IF($B$2='Paramètres - Admin'!$E$5,C18*8,IF($B$2='Paramètres - Admin'!$E$6,C18*16,IF($B$2='Paramètres - Admin'!$E$7,C18*24,IF($B$2='Paramètres - Admin'!$E$8,C18*48,IF($B$2='Paramètres - Admin'!$E$9,C18*72,IF($B$2='Paramètres - Admin'!$E$10,C18*168,IF($B$2='Paramètres - Admin'!$E$11,C18*720))))))))))","v":0},{"$f":"IF($B$2='Paramètres - Admin'!$E$2,D18,IF($B$2='Paramètres - Admin'!$E$3,D18*2,IF($B$2='Paramètres - Admin'!$E$4,D18*4,IF($B$2='Paramètres - Admin'!$E$5,D18*8,IF($B$2='Paramètres - Admin'!$E$6,D18*16,IF($B$2='Paramètres - Admin'!$E$7,D18*24,IF($B$2='Paramètres - Admin'!$E$8,D18*48,IF($B$2='Paramètres - Admin'!$E$9,D18*72,IF($B$2='Paramètres - Admin'!$E$10,D18*168,IF($B$2='Paramètres - Admin'!$E$11,D18*720))))))))))","v":0}]
["Temps pour obtenir besoins",{"$f":"IF(B$18<>0,IF($B$2='Paramètres - Admin'!$B$2,TEXT((('À Faire - Récapitulatif'!D8+'À Faire - Récapitulatif'!D11+'À Faire - Récapitulatif'!P16+'À Faire - Récapitulatif'!V9)/B$18)*60*60,\"# 0\")&\" \" & 'Paramètres - Admin'!$B$2,IF($B$2='Paramètres - Admin'!$B$3,TEXT((('À Faire - Récapitulatif'!D8+'À Faire - Récapitulatif'!D11+'À Faire - Récapitulatif'!P16+'À Faire - Récapitulatif'!V9)/B$18)*60,\"# 0\")&\" \" & 'Paramètres - Admin'!$B$3,IF($B$2='Paramètres - Admin'!$B$4,TEXT((('À Faire - Récapitulatif'!D8+'À Faire - Récapitulatif'!D11+'À Faire - Récapitulatif'!P16+'À Faire - Récapitulatif'!V9)/B$18),\"# 0,00\")&\" \" & 'Paramètres - Admin'!$B$4,IF($B$2='Paramètres - Admin'!$B$5,TEXT((('À Faire - Récapitulatif'!D8+'À Faire - Récapitulatif'!D11+'À Faire - Récapitulatif'!P16+'À Faire - Récapitulatif'!V9)/B$18)/24,\"# 0,00\")&\" \" & 'Paramètres - Admin'!$B$5,IF($B$2='Paramètres - Admin'!$B$6,TEXT(((('À Faire - Récapitulatif'!D8+'À Faire - Récapitulatif'!D11+'À Faire - Récapitulatif'!P16+'À Faire - Récapitulatif'!V9)/B$18)/24)/30,\"# 0,00\")&\" \" & 'Paramètres - Admin'!$B$6,IF((('À Faire - Récapitulatif'!D8+'À Faire - Récapitulatif'!D11+'À Faire - Récapitulatif'!P16+'À Faire - Récapitulatif'!V9)/B$18)/24>=1,INT((('À Faire - Récapitulatif'!D8+'À Faire - Récapitulatif'!D11+'À Faire - Récapitulatif'!P16+'À Faire - Récapitulatif'!V9)/B$18)/24)&\" \" &  'Paramètres - Admin'!$D$4 & \" \" & HOUR((('À Faire - Récapitulatif'!D8+'À Faire - Récapitulatif'!D11+'À Faire - Récapitulatif'!P16+'À Faire - Récapitulatif'!V9)/B$18)/24-INT((('À Faire - Récapitulatif'!D8+'À Faire - Récapitulatif'!D11+'À Faire - Récapitulatif'!P16+'À Faire - Récapitulatif'!V9)/B$18)/24))&\" \" &  'Paramètres - Admin'!$D$3 & \" \" & MINUTE((('À Faire - Récapitulatif'!D8+'À Faire - Récapitulatif'!D11+'À Faire - Récapitulatif'!P16+'À Faire - Récapitulatif'!V9)/B$18)/24-INT((('À Faire - Récapitulatif'!D8+'À Faire - Récapitulatif'!D11+'À Faire - Récapitulatif'!P16+'À Faire - Récapitulatif'!V9)/B$18)/24))&\" \" &  'Paramètres - Admin'!$D$2,HOUR((('À Faire - Récapitulatif'!D8+'À Faire - Récapitulatif'!D11+'À Faire - Récapitulatif'!P16+'À Faire - Récapitulatif'!V9)/B$18)/24-INT((('À Faire - Récapitulatif'!D8+'À Faire - Récapitulatif'!D11+'À Faire - Récapitulatif'!P16+'À Faire - Récapitulatif'!V9)/B$18)/24))&\" \" &  'Paramètres - Admin'!$D$3 & \" \" & MINUTE((('À Faire - Récapitulatif'!D8+'À Faire - Récapitulatif'!D11+'À Faire - Récapitulatif'!P16+'À Faire - Récapitulatif'!V9)/B$18)/24-INT((('À Faire - Récapitulatif'!D8+'À Faire - Récapitulatif'!D11+'À Faire - Récapitulatif'!P16+'À Faire - Récapitulatif'!V9)/B$18)/24))&\" \" &  'Paramètres - Admin'!$D$2)))))),0)","v":0},{"$f":"IF(C$18<>0,IF($B$2='Paramètres - Admin'!$B$2,TEXT((('À Faire - Récapitulatif'!D7+'À Faire - Récapitulatif'!D9+'À Faire - Récapitulatif'!D10+'À Faire - Récapitulatif'!D12+'À Faire - Récapitulatif'!J12+'À Faire - Récapitulatif'!D25+'À Faire - Récapitulatif'!J30)/C$18)*60*60,\"# 0\")&\" \" & 'Paramètres - Admin'!$B$2,IF($B$2='Paramètres - Admin'!$B$3,TEXT((('À Faire - Récapitulatif'!D7+'À Faire - Récapitulatif'!D9+'À Faire - Récapitulatif'!D10+'À Faire - Récapitulatif'!D12+'À Faire - Récapitulatif'!J12+'À Faire - Récapitulatif'!D25+'À Faire - Récapitulatif'!J30)/C$18)*60,\"# 0\")&\" \" & 'Paramètres - Admin'!$B$3,IF($B$2='Paramètres - Admin'!$B$4,TEXT((('À Faire - Récapitulatif'!D7+'À Faire - Récapitulatif'!D9+'À Faire - Récapitulatif'!D10+'À Faire - Récapitulatif'!D12+'À Faire - Récapitulatif'!J12+'À Faire - Récapitulatif'!D25+'À Faire - Récapitulatif'!J30)/C$18),\"# 0,00\")&\" \" & 'Paramètres - Admin'!$B$4,IF($B$2='Paramètres - Admin'!$B$5,TEXT((('À Faire - Récapitulatif'!D7+'À Faire - Récapitulatif'!D9+'À Faire - Récapitulatif'!D10+'À Faire - Récapitulatif'!D12+'À Faire - Récapitulatif'!J12+'À Faire - Récapitulatif'!D25+'À Faire - Récapitulatif'!J30)/C$18)/24,\"# 0,00\")&\" \" & 'Paramètres - Admin'!$B$5,IF($B$2='Paramètres - Admin'!$B$6,TEXT(((('À Faire - Récapitulatif'!D7+'À Faire - Récapitulatif'!D9+'À Faire - Récapitulatif'!D10+'À Faire - Récapitulatif'!D12+'À Faire - Récapitulatif'!J12+'À Faire - Récapitulatif'!D25+'À Faire - Récapitulatif'!J30)/C$18)/24)/30,\"# 0,00\")&\" \" & 'Paramètres - Admin'!$B$6,IF((('À Faire - Récapitulatif'!D7+'À Faire - Récapitulatif'!D9+'À Faire - Récapitulatif'!D10+'À Faire - Récapitulatif'!D12+'À Faire - Récapitulatif'!J12+'À Faire - Récapitulatif'!D25+'À Faire - Récapitulatif'!J30)/C$18)/24>=1,INT((('À Faire - Récapitulatif'!D7+'À Faire - Récapitulatif'!D9+'À Faire - Récapitulatif'!D10+'À Faire - Récapitulatif'!D12+'À Faire - Récapitulatif'!J12+'À Faire - Récapitulatif'!D25+'À Faire - Récapitulatif'!J30)/C$18)/24)&\" \" &  'Paramètres - Admin'!$D$4 & \" \" & HOUR((('À Faire - Récapitulatif'!D7+'À Faire - Récapitulatif'!D9+'À Faire - Récapitulatif'!D10+'À Faire - Récapitulatif'!D12+'À Faire - Récapitulatif'!J12+'À Faire - Récapitulatif'!D25+'À Faire - Récapitulatif'!J30)/C$18)/24-INT((('À Faire - Récapitulatif'!D7+'À Faire - Récapitulatif'!D9+'À Faire - Récapitulatif'!D10+'À Faire - Récapitulatif'!D12+'À Faire - Récapitulatif'!J12+'À Faire - Récapitulatif'!D25+'À Faire - Récapitulatif'!J30)/C$18)/24))&\" \" &  'Paramètres - Admin'!$D$3 & \" \" & MINUTE((('À Faire - Récapitulatif'!D7+'À Faire - Récapitulatif'!D9+'À Faire - Récapitulatif'!D10+'À Faire - Récapitulatif'!D12+'À Faire - Récapitulatif'!J12+'À Faire - Récapitulatif'!D25+'À Faire - Récapitulatif'!J30)/C$18)/24-INT((('À Faire - Récapitulatif'!D7+'À Faire - Récapitulatif'!D9+'À Faire - Récapitulatif'!D10+'À Faire - Récapitulatif'!D12+'À Faire - Récapitulatif'!J12+'À Faire - Récapitulatif'!D25+'À Faire - Récapitulatif'!J30)/C$18)/24))&\" \" &  'Paramètres - Admin'!$D$2,HOUR((('À Faire - Récapitulatif'!D7+'À Faire - Récapitulatif'!D9+'À Faire - Récapitulatif'!D10+'À Faire - Récapitulatif'!D12+'À Faire - Récapitulatif'!J12+'À Faire - Récapitulatif'!D25+'À Faire - Récapitulatif'!J30)/C$18)/24-INT((('À Faire - Récapitulatif'!D7+'À Faire - Récapitulatif'!D9+'À Faire - Récapitulatif'!D10+'À Faire - Récapitulatif'!D12+'À Faire - Récapitulatif'!J12+'À Faire - Récapitulatif'!D25+'À Faire - Récapitulatif'!J30)/C$18)/24))&\" \" &  'Paramètres - Admin'!$D$3 & \" \" & MINUTE((('À Faire - Récapitulatif'!D7+'À Faire - Récapitulatif'!D9+'À Faire - Récapitulatif'!D10+'À Faire - Récapitulatif'!D12+'À Faire - Récapitulatif'!J12+'À Faire - Récapitulatif'!D25+'À Faire - Récapitulatif'!J30)/C$18)/24-INT((('À Faire - Récapitulatif'!D7+'À Faire - Récapitulatif'!D9+'À Faire - Récapitulatif'!D10+'À Faire - Récapitulatif'!D12+'À Faire - Récapitulatif'!J12+'À Faire - Récapitulatif'!D25+'À Faire - Récapitulatif'!J30)/C$18)/24))&\" \" &  'Paramètres - Admin'!$D$2)))))),0)","v":0},{"$f":"IF(D$18<>0,IF($B$2='Paramètres - Admin'!$B$2,TEXT((('À Faire - Récapitulatif'!P26+'À Faire - Récapitulatif'!V22)/D$18)*60*60,\"# 0\")&\" \" & 'Paramètres - Admin'!$B$2,IF($B$2='Paramètres - Admin'!$B$3,TEXT((('À Faire - Récapitulatif'!P26+'À Faire - Récapitulatif'!V22)/D$18)*60,\"# 0\")&\" \" & 'Paramètres - Admin'!$B$3,IF($B$2='Paramètres - Admin'!$B$4,TEXT((('À Faire - Récapitulatif'!P26+'À Faire - Récapitulatif'!V22)/D$18),\"# 0,00\")&\" \" & 'Paramètres - Admin'!$B$4,IF($B$2='Paramètres - Admin'!$B$5,TEXT((('À Faire - Récapitulatif'!P26+'À Faire - Récapitulatif'!V22)/D$18)/24,\"# 0,00\")&\" \" & 'Paramètres - Admin'!$B$5,IF($B$2='Paramètres - Admin'!$B$6,TEXT(((('À Faire - Récapitulatif'!P26+'À Faire - Récapitulatif'!V22)/D$18)/24)/30,\"# 0,00\")&\" \" & 'Paramètres - Admin'!$B$6,IF((('À Faire - Récapitulatif'!P26+'À Faire - Récapitulatif'!V22)/D$18)/24>=1,INT((('À Faire - Récapitulatif'!P26+'À Faire - Récapitulatif'!V22)/D$18)/24)&\" \" &  'Paramètres - Admin'!$D$4 & \" \" & HOUR((('À Faire - Récapitulatif'!P26+'À Faire - Récapitulatif'!V22)/D$18)/24-INT((('À Faire - Récapitulatif'!P26+'À Faire - Récapitulatif'!V22)/D$18)/24))&\" \" &  'Paramètres - Admin'!$D$3 & \" \" & MINUTE((('À Faire - Récapitulatif'!P26+'À Faire - Récapitulatif'!V22)/D$18)/24-INT((('À Faire - Récapitulatif'!P26+'À Faire - Récapitulatif'!V22)/D$18)/24))&\" \" &  'Paramètres - Admin'!$D$2,HOUR((('À Faire - Récapitulatif'!P26+'À Faire - Récapitulatif'!V22)/D$18)/24-INT((('À Faire - Récapitulatif'!P26+'À Faire - Récapitulatif'!V22)/D$18)/24))&\" \" &  'Paramètres - Admin'!$D$3 & \" \" & MINUTE((('À Faire - Récapitulatif'!P26+'À Faire - Récapitulatif'!V22)/D$18)/24-INT((('À Faire - Récapitulatif'!P26+'À Faire - Récapitulatif'!V22)/D$18)/24))&\" \" &  'Paramètres - Admin'!$D$2)))))),0)","v":0}]

{"sheet":"Combats - Loots","index":4,"n_rows":35,"n_cols":15,"rows_kept":35,"cut":false,"hidden":false,"merged":[[4,8,5,8],[4,9,5,10],[7,8,8,8],[7,9,8,10],[31,0,31,1],[32,0,32,1],[33,0,33,1],[16,0,16,6],[2,0,2,6],[28,0,28,5],[29,0,29,1],[30,0,30,1]]}
["LVL HdV","Attaque / Défense","LVL HdV Opposant","Différence LVL HdV","Trophées"]
[{"$f":"Paramètres!$BE$2","v":10},"Défense",10,{"$f":"IF($B$2='Paramètres - Admin'!$F$2,$C$2-$A$2,IF(B2='Paramètres - Admin'!$F$3,$A$2-$C$2))","v":0},1679]
["Combat - Nombre Total de Ressources",null,null,null,null,null,null,null,null,null,null,null,"Type","%","Gain Maximum"]
[null,"Réserve d'Or","Réservoir d'Élixir","Réservoir d'Élixir Noir","Mine d'Or","Extracteur d'Élixir","Foreuse d'Élixir Noir",null,null,null,null,null,"Réserve d'Or",0.1,400000]
["Max",{"$f":"IF($B$2='Paramètres - Admin'!$F$2,VLOOKUP($C$2,AVAILABLE_Buildings_Resource[#All],MATCH(B$4,AVAILABLE_Buildings_Resource[#Headers],0)),IF($B$2='Paramètres - Admin'!$F$3,VLOOKUP($A$2,AVAILABLE_Buildings_Resource[#All],MATCH(B$4,AVAILABLE_Buildings_Resource[#Headers],0))))","v":4},{"$f":"IF($B$2='Paramètres - Admin'!$F$2,VLOOKUP($C$2,AVAILABLE_Buildings_Resource[#All],MATCH(C$4,AVAILABLE_Buildings_Resource[#Headers],0)),IF($B$2='Paramètres - Admin'!$F$3,VLOOKUP($A$2,AVAILABLE_Buildings_Resource[#All],MATCH(C$4,AVAILABLE_Buildings_Resource[#Headers],0))))","v":4},{"$f":"IF($B$2='Paramètres - Admin'!$F$2,VLOOKUP($C$2,AVAILABLE_Buildings_Resource[#All],MATCH(D$4,AVAILABLE_Buildings_Resource[#Headers],0)),IF($B$2='Paramètres - Admin'!$F$3,VLOOKUP($A$2,AVAILABLE_Buildings_Resource[#All],MATCH(D$4,AVAILABLE_Buildings_Resource[#Headers],0))))","v":1},{"$f":"IF($B$2='Paramètres - Admin'!$F$2,VLOOKUP($C$2,AVAILABLE_Buildings_Resource[#All],MATCH(E$4,AVAILABLE_Buildings_Resource[#Headers],0)),IF($B$2='Paramètres - Admin'!$F$3,VLOOKUP($A$2,AVAILABLE_Buildings_Resource[#All],MATCH(E$4,AVAILABLE_Buildings_Resource[#Headers],0))))","v":7},{"$f":"IF($B$2='Paramètres - Admin'!$F$2,VLOOKUP($C$2,AVAILABLE_Buildings_Resource[#All],MATCH(F$4,AVAILABLE_Buildings_Resource[#Headers],0)),IF($B$2='Paramètres - Admin'!$F$3,VLOOKUP($A$2,AVAILABLE_Buildings_Resource[#All],MATCH(F$4,AVAILABLE_Buildings_Resource[#Headers],0))))","v":7},{"$f":"IF($B$2='Paramètres - Admin'!$F$2,VLOOKUP($C$2,AVAILABLE_Buildings_Resource[#All],MATCH(G$4,AVAILABLE_Buildings_Resource[#Headers],0)),IF($B$2='Paramètres - Admin'!$F$3,VLOOKUP($A$2,AVAILABLE_Buildings_Resource[#All],MATCH(G$4,AVAILABLE_Buildings_Resource[#Headers],0))))","v":3},null,"Cellule rouge :","Bâtiment non disponible",null,null,"Réservoir d'Élixir",0.1,400000]
["Stockage Max",{"$f":"IF($B$2='Paramètres - Admin'!$F$2,IF(ISERROR(VLOOKUP(VLOOKUP($C$2,AVAILABLE_Buildings_Resource[#All],MATCH(B$4,AVAILABLE_Buildings_Resource[#Headers],0)+1),EARNINGS_Gold_Storage[#All],2)),0,VLOOKUP(VLOOKUP($C$2,AVAILABLE_Buildings_Resource[#All],MATCH(B$4,AVAILABLE_Buildings_Resource[#Headers],0)+1),EARNINGS_Gold_Storage[#All],2)),IF($B$2='Paramètres - Admin'!$F$3,IF(ISERROR(VLOOKUP(VLOOKUP($A$2,AVAILABLE_Buildings_Resource[#All],MATCH(B$4,AVAILABLE_Buildings_Resource[#Headers],0)+1),EARNINGS_Gold_Storage[#All],2)),0,VLOOKUP(VLOOKUP($A$2,AVAILABLE_Buildings_Resource[#All],MATCH(B$4,AVAILABLE_Buildings_Resource[#Headers],0)+1),EARNINGS_Gold_Storage[#All],2))))","v":2000000},{"$f":"IF($B$2='Paramètres - Admin'!$F$2,IF(ISERROR(VLOOKUP(VLOOKUP($C$2,AVAILABLE_Buildings_Resource[#All],MATCH(C$4,AVAILABLE_Buildings_Resource[#Headers],0)+1),EARNINGS_Elixir_Storage[#All],2)),0,VLOOKUP(VLOOKUP($C$2,AVAILABLE_Buildings_Resource[#All],MATCH(C$4,AVAILABLE_Buildings_Resource[#Headers],0)+1),EARNINGS_Elixir_Storage[#All],2)),IF($B$2='Paramètres - Admin'!$F$3,IF(ISERROR(VLOOKUP(VLOOKUP($A$2,AVAILABLE_Buildings_Resource[#All],MATCH(C$4,AVAILABLE_Buildings_Resource[#Headers],0)+1),EARNINGS_Elixir_Storage[#All],2)),0,VLOOKUP(VLOOKUP($A$2,AVAILABLE_Buildings_Resource[#All],MATCH(C$4,AVAILABLE_Buildings_Resource[#Headers],0)+1),EARNINGS_Elixir_Storage[#All],2))))","v":2000000},{"$f":"IF($B$2='Paramètres - Admin'!$F$2,IF(ISERROR(VLOOKUP(VLOOKUP($C$2,AVAILABLE_Buildings_Resource[#All],MATCH(D$4,AVAILABLE_Buildings_Resource[#Headers],0)+1),EARNINGS_Dark_Elixir_Storage[#All],2)),0,VLOOKUP(VLOOKUP($C$2,AVAILABLE_Buildings_Resource[#All],MATCH(D$4,AVAILABLE_Buildings_Resource[#Headers],0)+1),EARNINGS_Dark_Elixir_Storage[#All],2)),IF($B$2='Paramètres - Admin'!$F$3,IF(ISERROR(VLOOKUP(VLOOKUP($A$2,AVAILABLE_Buildings_Resource[#All],MATCH(D$4,AVAILABLE_Buildings_Resource[#Headers],0)+1),EARNINGS_Dark_Elixir_Storage[#All],2)),0,VLOOKUP(VLOOKUP($A$2,AVAILABLE_Buildings_Resource[#All],MATCH(D$4,AVAILABLE_Buildings_Resource[#Headers],0)+1),EARNINGS_Dark_Elixir_Storage[#All],2))))","v":200000},{"$f":"IF($B$2='Paramètres - Admin'!$F$2,IF(ISERROR(VLOOKUP(VLOOKUP($C$2,AVAILABLE_Buildings_Resource[#All],MATCH(E$4,AVAILABLE_Buildings_Resource[#Headers],0)+1),EARNINGS_Gold_Mine[#All],3)),0,VLOOKUP(VLOOKUP($C$2,AVAILABLE_Buildings_Resource[#All],MATCH(E$4,AVAILABLE_Buildings_Resource[#Headers],0)+1),EARNINGS_Gold_Mine[#All],3)),IF($B$2='Paramètres - Admin'!$F$3,IF(ISERROR(VLOOKUP(VLOOKUP($A$2,AVAILABLE_Buildings_Resource[#All],MATCH(E$4,AVAILABLE_Buildings_Resource[#Headers],0)+1),EARNINGS_Gold_Mine[#All],3)),0,VLOOKUP(VLOOKUP($A$2,AVAILABLE_Buildings_Resource[#All],MATCH(E$4,AVAILABLE_Buildings_Resource[#Headers],0)+1),EARNINGS_Gold_Mine[#All],3))))","v":200000},{"$f":"IF($B$2='Paramètres - Admin'!$F$2,IF(ISERROR(VLOOKUP(VLOOKUP($C$2,AVAILABLE_Buildings_Resource[#All],MATCH(F$4,AVAILABLE_Buildings_Resource[#Headers],0)+1),EARNINGS_Elixir_Collector[#All],3)),0,VLOOKUP(VLOOKUP($C$2,AVAILABLE_Buildings_Resource[#All],MATCH(F$4,AVAILABLE_Buildings_Resource[#Headers],0)+1),EARNINGS_Elixir_Collector[#All],3)),IF($B$2='Paramètres - Admin'!$F$3,IF(ISERROR(VLOOKUP(VLOOKUP($A$2,AVAILABLE_Buildings_Resource[#All],MATCH(F$4,AVAILABLE_Buildings_Resource[#Headers],0)+1),EARNINGS_Elixir_Collector[#All],3)),0,VLOOKUP(VLOOKUP($A$2,AVAILABLE_Buildings_Resource[#All],MATCH(F$4,AVAILABLE_Buildings_Resource[#Headers],0)+1),EARNINGS_Elixir_Collector[#All],3))))","v":200000},{"$f":"IF($B$2='Paramètres - Admin'!$F$2,IF(ISERROR(VLOOKUP(VLOOKUP($C$2,AVAILABLE_Buildings_Resource[#All],MATCH(E$4,AVAILABLE_Buildings_Resource[#Headers],0)+1),EARNINGS_Dark_Elixir_Drill[#All],3)),0,VLOOKUP(VLOOKUP($C$2,AVAILABLE_Buildings_Resource[#All],MATCH(E$4,AVAILABLE_Buildings_Resource[#Headers],0)+1),EARNINGS_Dark_Elixir_Drill[#All],3)),IF($B$2='Paramètres - Admin'!$F$3,IF(ISERROR(VLOOKUP(VLOOKUP($A$2,AVAILABLE_Buildings_Resource[#All],MATCH(E$4,AVAILABLE_Buildings_Resource[#Headers],0)+1),EARNINGS_Dark_Elixir_Drill[#All],3)),0,VLOOKUP(VLOOKUP($A$2,AVAILABLE_Buildings_Resource[#All],MATCH(E$4,AVAILABLE_Buildings_Resource[#Headers],0)+1),EARNINGS_Dark_Elixir_Drill[#All],3))))","v":1600},null,null,null,null,null,"Réservoir d'Élixir Noir",0.04,3000]
[1,2000000,2000000,80000,150000,150000,1600,null,null,null,null,null,"Mine d'Or",0.5,{"$f":"IF($B$2='Paramètres - Admin'!$F$2,IF(ISERROR(VLOOKUP(VLOOKUP($C$2,AVAILABLE_Buildings_Resource[#All],MATCH(E$4,AVAILABLE_Buildings_Resource[#Headers],0)+1),EARNINGS_Gold_Storage[#All],2)),0,VLOOKUP(VLOOKUP($C$2,AVAILABLE_Buildings_Resource[#All],MATCH(E$4,AVAILABLE_Buildings_Resource[#Headers],0)+1),EARNINGS_Gold_Mine[#All],3)),IF($B$2='Paramètres - Admin'!$F$3,IF(ISERROR(VLOOKUP(VLOOKUP($A$2,AVAILABLE_Buildings_Resource[#All],MATCH(E$4,AVAILABLE_Buildings_Resource[#Headers],0)+1),EARNINGS_Gold_Storage[#All],2)),0,VLOOKUP(VLOOKUP($A$2,AVAILABLE_Buildings_Resource[#All],MATCH(E$4,AVAILABLE_Buildings_Resource[#Headers],0)+1),EARNINGS_Gold_Mine[#All],3))))","v":200000}]
[2,2000000,2000000,null,150000,150000,1600,null,"Cellule orange :","Erreur - Bâtiment\nMax. total atteint",null,null,"Extracteur d'Élixir",0.5,{"$f":"IF($B$2='Paramètres - Admin'!$F$2,IF(ISERROR(VLOOKUP(VLOOKUP($C$2,AVAILABLE_Buildings_Resource[#All],MATCH(F$4,AVAILABLE_Buildings_Resource[#Headers],0)+1),EARNINGS_Gold_Storage[#All],2)),0,VLOOKUP(VLOOKUP($C$2,AVAILABLE_Buildings_Resource[#All],MATCH(F$4,AVAILABLE_Buildings_Resource[#Headers],0)+1),EARNINGS_Elixir_Collector[#All],3)),IF($B$2='Paramètres - Admin'!$F$3,IF(ISERROR(VLOOKUP(VLOOKUP($A$2,AVAILABLE_Buildings_Resource[#All],MATCH(F$4,AVAILABLE_Buildings_Resource[#Headers],0)+1),EARNINGS_Gold_Storage[#All],2)),0,VLOOKUP(VLOOKUP($A$2,AVAILABLE_Buildings_Resource[#All],MATCH(F$4,AVAILABLE_Buildings_Resource[#Headers],0)+1),EARNINGS_Elixir_Collector[#All],3))))","v":200000}]
[3,2000000,2000000,null,150000,150000,null,null,null,null,null,null,"Foreuse d'Élixir Noir",0.75,1600]
[4,null,null,null,150000,150000,null,null,null,null,null,null,"Hôtel de Ville - Or",1,1000]
[5,null,null,null,150000,150000,null,null,null,null,null,null,"Hôtel de Ville - Élixir",1,1000]
[6,null,null,null,150000,150000]
[7]
["Total",{"$f":"SUMIF($A7:$A13,\"<=\"&B$5,B7:B13)","v":6000000},6000000,80000,900000,900000,3200]
[]
[]
["Combat - Nombre de Ressources Disponibles"]
[null,"Réserve d'Or","Réservoir d'Élixir","Réservoir d'Élixir Noir","Mine d'Or","Extracteur d'Élixir","Foreuse d'Élixir Noir"]
[1,{"$f":"IF($A19>B$5,0,IF((B$7*$N$4)+(B$8*$N$4)+(B$9*$N$4)+(B$10*$N$4)+(B$11*$N$4)+(B$12*$N$4)+(B$13*$N$4)>$O$4,$O$4*(B7/B$14),B7*$N$4))","v":133333.33333333331},{"$f":"IF($A19>C$5,0,IF((C$7*$N$5)+(C$8*$N$5)+(C$9*$N$5)+(C$10*$N$5)+(C$11*$N$5)+(C$12*$N$5)+(C$13*$N$5)>$O$5,$O$5*(C7/C$14),C7*$N$5))","v":133333.33333333331},{"$f":"IF($A19>D$5,0,IF((D$7*$N$6)+(D$8*$N$6)+(D$9*$N$6)+(D$10*$N$6)+(D$11*$N$6)+(D$12*$N$6)+(D$13*$N$6)>$O$6,$O$6*(D7/D$14),D7*$N$6))","v":3000},{"$f":"IF($A19>E$5,0,IF(E7>$O$7,$O$7*$N$7,E7*$N$7))","v":75000},{"$f":"IF($A19>F$5,0,IF(F7>$O$8,$O$8*$N$8,F7*$N$8))","v":75000},{"$f":"IF($A19>G$5,0,IF(G7>$O$9,$O$9*$N$9,G7*$N$9))","v":1200}]
[2,{"$f":"IF($A20>B$5,0,IF((B$7*$N$4)+(B$8*$N$4)+(B$9*$N$4)+(B$10*$N$4)+(B$11*$N$4)+(B$12*$N$4)+(B$13*$N$4)>$O$4,$O$4*(B8/B$14),B8*$N$4))","v":133333.33333333331},133333.33333333331,0,75000,{"$f":"IF($A20>F$5,0,IF(F8>$O$8,$O$8*$N$8,F8*$N$8))","v":75000},1200]
[3,133333.33333333331,133333.33333333331,0,75000,75000,0]
[4,0,0,0,75000,75000,0]
[5,0,0,0,75000,75000,0]
[6,0,0,0,75000,75000,0]
[7,0,0,0,0,0,0]
["Total",{"$f":"SUM(B19:B25)","v":399999.99999999994},399999.99999999994,3000,450000,450000,2400]
[]
[]
[{"$f":"IF($B$2='Paramètres - Admin'!$F$2,$G$29 & C2,IF($B$2='Paramètres - Admin'!$F$3,$H$29 & C2))","v":"Loots - Pertes Possibles vs HdV LVL 10"},null,null,null,null,null,"Loots - Gains Possibles vs HdV LVL ","Loots - Pertes Possibles vs HdV LVL "]
[null,null,"Multiplicateur de Loot","Or","Élixir","Élixir Noir"]
["Stockages",null,{"$f":"VLOOKUP(1,LEAGUES_Loot_Multiplier[#All],3)","v":1},{"$f":"B26*$C31","v":399999.99999999994},{"$f":"C26*$C31","v":399999.99999999994},{"$f":"D26*$C31","v":3000}]
["Mines/Extracteurs/Foreuses",null,{"$f":"VLOOKUP(1,LEAGUES_Loot_Multiplier[#All],3)","v":1},{"$f":"E26*$C32","v":450000},{"$f":"F26*$C32","v":450000},{"$f":"G26*$C32","v":2400}]
["Hôtel de Ville",null,{"$f":"IF(D2>0,1,VLOOKUP(1,LEAGUES_Loot_Multiplier[#All],3))","v":1},{"$f":"$O$10*$C33","v":1000},{"$f":"$O$11*$C33","v":1000},0]
["Bonus de Ligue",null,"/",{"$f":"IF($B$2='Paramètres - Admin'!$F$2,VLOOKUP(1,LEAGUES_Bonus[#All],3),0)","v":0},{"$f":"IF($B$2='Paramètres - Admin'!$F$2,VLOOKUP(1,LEAGUES_Bonus[#All],4),0)","v":0},{"$f":"IF($B$2='Paramètres - Admin'!$F$2,VLOOKUP(1,LEAGUES_Bonus[#All],5),0)","v":0}]
[null,null,"Total",{"$f":"SUM(D31:D34)","v":851000},{"$f":"SUM(E31:E34)","v":851000},{"$f":"SUM(F31:F34)","v":5400}]

{"sheet":"Formation de Troupes","index":5,"n_rows":29,"n_cols":29,"rows_kept":29,"cut":false,"hidden":false,"merged":[[18,0,18,2],[20,1,20,2],[22,10,23,14],[19,1,19,2],[25,10,26,14],[19,10,20,14],[24,0,24,2],[26,1,26,2],[13,21,13,22],[0,1,0,2],[1,1,1,2],[9,1,9,2],[2,0,2,6],[2,8,2,17],[2,20,2,27],[10,21,10,22],[11,21,11,22],[12,21,12,22],[12,1,12,2],[11,1,11,2],[10,1,10,2],[25,16,26,16],[25,17,26,17],[19,9,20,9],[14,9,14,10],[15,9,15,10],[16,9,16,10],[17,9,17,10],[25,9,26,9],[22,9,23,9],[19,16,20,16],[19,17,20,17],[27,1,27,2],[28,1,28,2],[25,1,25,2],[21,1,21,2],[22,1,22,2]]}
["LVL HdV","Affichage Temps",null,null,null,null,"LVL Usine de Sorts",null,"NB\nCaserne",null,null,null,null,null,"LVL\nCaserne n°1","LVL\nCaserne n°2","LVL\nCaserne n°3","LVL\nCaserne n°4",null,null,"NB\nCaserne Noire",null,null,null,null,null,"LVL\nCaserne Noire n°1","LVL\nCaserne Noire n°2"]
[{"$f":"Paramètres!$BE$2","v":10},"h/m/s",null,null,null,null,{"$f":"IF(ISERROR(MATCH(1,Paramètres!L$6:L$45,0)),0,MATCH(1,Paramètres!L$6:L$45,0))","v":0},null,{"$f":"Paramètres!H46","v":0},null,null,null,null,null,10,9,9,9,null,null,{"$f":"Paramètres!I46","v":0},null,null,null,null,null,4,4]
["Création de Sorts",null,null,null,null,null,null,null,"Formation de Troupes Normales",null,null,null,null,null,null,null,null,null,null,null,"Formation de Troupes Noires"]
[null,"Max +","Actuel +","Espace","Coût","Time (s)","Laboratoire - NB",null,null,"Max +","Actuel +","Espace","Coût","Time (s)","Caserne n°1 - NB","Caserne° 2 - NB","Caserne n°3 - NB","Caserne n°4 - NB","Total",null,null,"Max +","Actuel +","Espace","Coût","Time (s)","Caserne Noire n°1 - NB","Caserne Noire n°2 - NB","Total"]
["Sort de Foudre",{"$f":"VLOOKUP($A$2,AVAILABLE_Upgrades_Spells[#All],MATCH($A5,AVAILABLE_Upgrades_Spells[#Headers],0)+1)","v":6},{"$f":"IF(ISERROR(MATCH(1,Paramètres!AF$6:AF$45,0)),0,MATCH(1,Paramètres!AF$6:AF$45,0))","v":0},{"$f":"IF($C5<>0,VLOOKUP($C5,TRAINING_Spell_Lightning[#All],2),0)","v":0},{"$f":"IF($C5<>0,VLOOKUP($C5,TRAINING_Spell_Lightning[#All],3),0)","v":0},{"$f":"IF($C5<>0,VLOOKUP($C5,TRAINING_Spell_Lightning[#All],4),0)","v":0},null,null,"Barbare",{"$f":"VLOOKUP($A$2,AVAILABLE_Upgrades_Normal_Troops[#All],MATCH($I5,AVAILABLE_Upgrades_Normal_Troops[#Headers],0)+1)","v":7},{"$f":"IF(ISERROR(MATCH(1,Paramètres!AK$6:AK$45,0)),0,MATCH(1,Paramètres!AK$6:AK$45,0))","v":0},{"$f":"IF($K5<>0,VLOOKUP($K5,TRAINING_Barbarian[#All],2),0)","v":0},{"$f":"IF($K5<>0,VLOOKUP($K5,TRAINING_Barbarian[#All],3),0)","v":0},{"$f":"IF($K5<>0,VLOOKUP($K5,TRAINING_Barbarian[#All],4),0)","v":0},20,20,20,20,{"$f":"SUM(O5:R5)","v":80},null,"Serviteur",{"$f":"VLOOKUP($A$2,AVAILABLE_Upgrades_Dark_Troops[#All],MATCH($U5,AVAILABLE_Upgrades_Dark_Troops[#Headers],0)+1)","v":6},{"$f":"IF(ISERROR(MATCH(1,Paramètres!AU$6:AU$45,0)),0,MATCH(1,Paramètres!AU$6:AU$45,0))","v":0},{"$f":"IF($W5<>0,VLOOKUP($W5,TRAINING_Minion[#All],2),0)","v":0},{"$f":"IF($W5<>0,VLOOKUP($W5,TRAINING_Minion[#All],3),0)","v":0},{"$f":"IF($W5<>0,VLOOKUP($W5,TRAINING_Minion[#All],4),0)","v":0},null,null,{"$f":"SUM(AA5:AB5)","v":0}]
["Sort de Guérison",{"$f":"VLOOKUP($A$2,AVAILABLE_Upgrades_Spells[#All],MATCH($A6,AVAILABLE_Upgrades_Spells[#Headers],0)+1)","v":6},{"$f":"IF(ISERROR(MATCH(1,Paramètres!AG$6:AG$45,0)),0,MATCH(1,Paramètres!AG$6:AG$45,0))","v":0},{"$f":"IF($C6<>0,VLOOKUP($C6,TRAINING_Spell_Healing[#All],2),0)","v":0},{"$f":"IF($C6<>0,VLOOKUP($C6,TRAINING_Spell_Healing[#All],3),0)","v":0},{"$f":"IF($C6<>0,VLOOKUP($C6,TRAINING_Spell_Healing[#All],4),0)","v":0},null,null,"Archer",{"$f":"VLOOKUP($A$2,AVAILABLE_Upgrades_Normal_Troops[#All],MATCH($I6,AVAILABLE_Upgrades_Normal_Troops[#Headers],0)+1)","v":7},{"$f":"IF(ISERROR(MATCH(1,Paramètres!AL$6:AL$45,0)),0,MATCH(1,Paramètres!AL$6:AL$45,0))","v":0},{"$f":"IF($K6<>0,VLOOKUP($K6,TRAINING_Archer[#All],2),0)","v":0},{"$f":"IF($K6<>0,VLOOKUP($K6,TRAINING_Archer[#All],3),0)","v":0},{"$f":"IF($K6<>0,VLOOKUP($K6,TRAINING_Archer[#All],4),0)","v":0},20,20,20,20,{"$f":"SUM(O6:R6)","v":80},null,"Chevaucheur de Cochon",{"$f":"VLOOKUP($A$2,AVAILABLE_Upgrades_Dark_Troops[#All],MATCH($U6,AVAILABLE_Upgrades_Dark_Troops[#Headers],0)+1)","v":5},{"$f":"IF(ISERROR(MATCH(1,Paramètres!AV$6:AV$45,0)),0,MATCH(1,Paramètres!AV$6:AV$45,0))","v":0},{"$f":"IF($W6<>0,VLOOKUP($W6,TRAINING_Hog_Rider[#All],2),0)","v":0},{"$f":"IF($W6<>0,VLOOKUP($W6,TRAINING_Hog_Rider[#All],3),0)","v":0},{"$f":"IF($W6<>0,VLOOKUP($W6,TRAINING_Hog_Rider[#All],4),0)","v":0},null,null,0]
["Sort de Rage",{"$f":"VLOOKUP($A$2,AVAILABLE_Upgrades_Spells[#All],MATCH($A7,AVAILABLE_Upgrades_Spells[#Headers],0)+1)","v":5},{"$f":"IF(ISERROR(MATCH(1,Paramètres!AH$6:AH$45,0)),0,MATCH(1,Paramètres!AH$6:AH$45,0))","v":0},{"$f":"IF($C7<>0,VLOOKUP($C7,TRAINING_Spell_Rage[#All],2),0)","v":0},{"$f":"IF($C7<>0,VLOOKUP($C7,TRAINING_Spell_Rage[#All],3),0)","v":0},{"$f":"IF($C7<>0,VLOOKUP($C7,TRAINING_Spell_Rage[#All],4),0)","v":0},null,null,"Géant",{"$f":"VLOOKUP($A$2,AVAILABLE_Upgrades_Normal_Troops[#All],MATCH($I7,AVAILABLE_Upgrades_Normal_Troops[#Headers],0)+1)","v":7},{"$f":"IF(ISERROR(MATCH(1,Paramètres!AM$6:AM$45,0)),0,MATCH(1,Paramètres!AM$6:AM$45,0))","v":0},{"$f":"IF($K8<>0,VLOOKUP($K8,TRAINING_Giant[#All],2),0)","v":0},{"$f":"IF($K8<>0,VLOOKUP($K8,TRAINING_Giant[#All],3),0)","v":0},{"$f":"IF($K8<>0,VLOOKUP($K8,TRAINING_Giant[#All],4),0)","v":0},null,null,null,null,0,null,"Valkyrie",{"$f":"VLOOKUP($A$2,AVAILABLE_Upgrades_Dark_Troops[#All],MATCH($U7,AVAILABLE_Upgrades_Dark_Troops[#Headers],0)+1)","v":4},{"$f":"IF(ISERROR(MATCH(1,Paramètres!AW$6:AW$45,0)),0,MATCH(1,Paramètres!AW$6:AW$45,0))","v":0},{"$f":"IF($W7<>0,VLOOKUP($W7,TRAINING_Valkyrie[#All],2),0)","v":0},{"$f":"IF($W7<>0,VLOOKUP($W7,TRAINING_Valkyrie[#All],3),0)","v":0},{"$f":"IF($W7<>0,VLOOKUP($W7,TRAINING_Valkyrie[#All],4),0)","v":0},null,null,0]
["Sort de Saut",{"$f":"VLOOKUP($A$2,AVAILABLE_Upgrades_Spells[#All],MATCH($A8,AVAILABLE_Upgrades_Spells[#Headers],0)+1)","v":2},{"$f":"IF(ISERROR(MATCH(1,Paramètres!AI$6:AI$45,0)),0,MATCH(1,Paramètres!AI$6:AI$45,0))","v":0},{"$f":"IF($C8<>0,VLOOKUP($C8,TRAINING_Spell_Jump[#All],2),0)","v":0},{"$f":"IF($C8<>0,VLOOKUP($C8,TRAINING_Spell_Jump[#All],3),0)","v":0},{"$f":"IF($C8<>0,VLOOKUP($C8,TRAINING_Spell_Jump[#All],4),0)","v":0},null,null,"Gobelin",{"$f":"VLOOKUP($A$2,AVAILABLE_Upgrades_Normal_Troops[#All],MATCH($I8,AVAILABLE_Upgrades_Normal_Troops[#Headers],0)+1)","v":6},{"$f":"IF(ISERROR(MATCH(1,Paramètres!AN$6:AN$45,0)),0,MATCH(1,Paramètres!AN$6:AN$45,0))","v":0},{"$f":"IF($K7<>0,VLOOKUP($K7,TRAINING_Goblin[#All],2),0)","v":0},{"$f":"IF($K8<>0,VLOOKUP($K8,TRAINING_Goblin[#All],3),0)","v":0},{"$f":"IF($K8<>0,VLOOKUP($K8,TRAINING_Goblin[#All],4),0)","v":0},8,8,8,8,32,null,"Golem",{"$f":"VLOOKUP($A$2,AVAILABLE_Upgrades_Dark_Troops[#All],MATCH($U8,AVAILABLE_Upgrades_Dark_Troops[#Headers],0)+1)","v":5},{"$f":"IF(ISERROR(MATCH(1,Paramètres!AX$6:AX$45,0)),0,MATCH(1,Paramètres!AX$6:AX$45,0))","v":0},{"$f":"IF($W8<>0,VLOOKUP($W8,TRAINING_Golem[#All],2),0)","v":0},{"$f":"IF($W8<>0,VLOOKUP($W8,TRAINING_Golem[#All],3),0)","v":0},{"$f":"IF($W8<>0,VLOOKUP($W8,TRAINING_Golem[#All],4),0)","v":0},null,null,0]
["Sort de Gel",{"$f":"VLOOKUP($A$2,AVAILABLE_Upgrades_Spells[#All],MATCH($A9,AVAILABLE_Upgrades_Spells[#Headers],0)+1)","v":5},{"$f":"IF(ISERROR(MATCH(1,Paramètres!AJ$6:AJ$45,0)),0,MATCH(1,Paramètres!AJ$6:AJ$45,0))","v":0},{"$f":"IF($C9<>0,VLOOKUP($C9,TRAINING_Spell_Freeze[#All],2),0)","v":0},{"$f":"IF($C9<>0,VLOOKUP($C9,TRAINING_Spell_Freeze[#All],3),0)","v":0},{"$f":"IF($C9<>0,VLOOKUP($C9,TRAINING_Spell_Freeze[#All],4),0)","v":0},null,null,"Sapeur",{"$f":"VLOOKUP($A$2,AVAILABLE_Upgrades_Normal_Troops[#All],MATCH($I9,AVAILABLE_Upgrades_Normal_Troops[#Headers],0)+1)","v":6},{"$f":"IF(ISERROR(MATCH(1,Paramètres!AO$6:AO$45,0)),0,MATCH(1,Paramètres!AO$6:AO$45,0))","v":0},{"$f":"IF($K9<>0,VLOOKUP($K9,TRAINING_Wall_Breaker[#All],2),0)","v":0},{"$f":"IF($K9<>0,VLOOKUP($K9,TRAINING_Wall_Breaker[#All],3),0)","v":0},{"$f":"IF($K9<>0,VLOOKUP($K9,TRAINING_Wall_Breaker[#All],4),0)","v":0},1,1,1,1,4,null,"Sorcière",{"$f":"VLOOKUP($A$2,AVAILABLE_Upgrades_Dark_Troops[#All],MATCH($U9,AVAILABLE_Upgrades_Dark_Troops[#Headers],0)+1)","v":2},{"$f":"IF(ISERROR(MATCH(1,Paramètres!AY$6:AY$45,0)),0,MATCH(1,Paramètres!AY$6:AY$45,0))","v":0},{"$f":"IF($W9<>0,VLOOKUP($W9,'Coûts de Formation'!$Q$28:$X$31,2),0)","v":0},{"$f":"IF($W9<>0,VLOOKUP($W9,TRAINING_WITCH2,3),0)","v":0},{"$f":"IF($W9<>0,VLOOKUP($W9,TRAINING_WITCH2,4),0)","v":0},null,null,0]
[null,"Espace Max",null,null,null,null,{"$f":"VLOOKUP($G$2,TRAINING_Spell_Factory[#All],2)","v":{"$error":"#N/A"}},null,"Ballon",{"$f":"VLOOKUP($A$2,AVAILABLE_Upgrades_Normal_Troops[#All],MATCH($I10,AVAILABLE_Upgrades_Normal_Troops[#Headers],0)+1)","v":6},{"$f":"IF(ISERROR(MATCH(1,Paramètres!AP$6:AP$45,0)),0,MATCH(1,Paramètres!AP$6:AP$45,0))","v":0},{"$f":"IF($K10<>0,VLOOKUP($K10,TRAINING_Balloon[#All],2),0)","v":0},{"$f":"IF($K10<>0,VLOOKUP($K10,TRAINING_Balloon[#All],3),0)","v":0},{"$f":"IF($K10<>0,VLOOKUP($K10,TRAINING_Balloon[#All],4),0)","v":0},null,null,null,null,0,null,"Molosse de lave",{"$f":"VLOOKUP($A$2,AVAILABLE_Upgrades_Dark_Troops[#All],MATCH($U10,AVAILABLE_Upgrades_Dark_Troops[#Headers],0)+1)","v":3},{"$f":"IF(ISERROR(MATCH(1,Paramètres!AZ$6:AZ$45,0)),0,MATCH(1,Paramètres!AY$6:AY$45,0))","v":0},{"$f":"IF($W10<>0,VLOOKUP($W10,'Coûts de Formation'!$Q$28:$X$31,2),0)","v":0},{"$f":"IF($W10<>0,VLOOKUP($W10,TRAININTG_MOLOSSLAVE,3),0)","v":0},{"$f":"IF($W10<>0,VLOOKUP($W10,TRAININTG_MOLOSSLAVE,4),0)","v":0},null,null,0]
[null,"Espace Total",null,null,null,null,{"$f":"SUMPRODUCT(G$5:G$9,$D$5:$D$9)","v":0},null,"Sorcier",{"$f":"VLOOKUP($A$2,AVAILABLE_Upgrades_Normal_Troops[#All],MATCH($I11,AVAILABLE_Upgrades_Normal_Troops[#Headers],0)+1)","v":6},{"$f":"IF(ISERROR(MATCH(1,Paramètres!AQ$6:AQ$45,0)),0,MATCH(1,Paramètres!AQ$6:AQ$45,0))","v":0},{"$f":"IF($K11<>0,VLOOKUP($K11,TRAINING_Wizard[#All],2),0)","v":0},{"$f":"IF($K11<>0,VLOOKUP($K11,TRAINING_Wizard[#All],3),0)","v":0},{"$f":"IF($K11<>0,VLOOKUP($K11,TRAINING_Wizard[#All],4),0)","v":0},null,null,null,null,0,null,null,"Espace Max",null,null,null,null,{"$f":"VLOOKUP(AA$2,TRAINING_Dark_Barrack[#All],2)","v":70},{"$f":"VLOOKUP(AB$2,TRAINING_Dark_Barrack[#All],2)","v":70},140]
[null,"Coût Total",null,null,null,null,{"$f":"SUMPRODUCT(G$5:G$9,$E$5:$E$9)","v":0},null,"Guérisseuse",{"$f":"VLOOKUP($A$2,AVAILABLE_Upgrades_Normal_Troops[#All],MATCH($I12,AVAILABLE_Upgrades_Normal_Troops[#Headers],0)+1)","v":4},{"$f":"IF(ISERROR(MATCH(1,Paramètres!AR$6:AR$45,0)),0,MATCH(1,Paramètres!AR$6:AR$45,0))","v":0},{"$f":"IF($K12<>0,VLOOKUP($K12,TRAINING_Healer[#All],2),0)","v":0},{"$f":"IF($K12<>0,VLOOKUP($K12,TRAINING_Healer[#All],3),0)","v":0},{"$f":"IF($K12<>0,VLOOKUP($K12,TRAINING_Healer[#All],4),0)","v":0},null,null,null,null,0,null,null,"Espace Total",null,null,null,null,{"$f":"SUMPRODUCT(AA$5:AA$10,$X$5:$X$10)","v":0},{"$f":"SUMPRODUCT(AB$5:AB$10,$X$5:$X$10)","v":0},{"$f":"SUM(Y19:Y19)","v":0}]
[null,"Temps Total",null,null,null,null,{"$f":"IF($B$2='Paramètres - Admin'!$B$2,TEXT(SUMPRODUCT(G$5:G$9,$F$5:$F$9),\"# 0\")&\" \" & 'Paramètres - Admin'!$B$2,IF($B$2='Paramètres - Admin'!$B$3,TEXT(SUMPRODUCT(G$5:G$9,$F$5:$F$9)/60,\"# 0\")&\" \" & 'Paramètres - Admin'!$B$3,IF($B$2='Paramètres - Admin'!$B$4,TEXT(SUMPRODUCT(G$5:G$9,$F$5:$F$9)/3600,\"# 0,00\")&\" \" & 'Paramètres - Admin'!$B$4,IF(SUMPRODUCT(G$5:G$9,$F$5:$F$9)/3600>=1,INT(SUMPRODUCT(G$5:G$9,$F$5:$F$9)/3600) &\" \" & 'Paramètres - Admin'!$D$3 & \" \" & MINUTE(SUMPRODUCT(G$5:G$9,$F$5:$F$9)/86400-INT(SUMPRODUCT(G$5:G$9,$F$5:$F$9)/86400))  &\" \" & 'Paramètres - Admin'!$D$2 & \" \" & SECOND(SUMPRODUCT(G$5:G$9,$F$5:$F$9)/86400-INT(SUMPRODUCT(G$5:G$9,$F$5:$F$9)/86400)) &\" \" & 'Paramètres - Admin'!$D$5,MINUTE(SUMPRODUCT(G$5:G$9,$F$5:$F$9)/86400-INT(SUMPRODUCT(G$5:G$9,$F$5:$F$9)/86400)) &\" \" & 'Paramètres - Admin'!$D$2 & \" \" & SECOND(SUMPRODUCT(G$5:G$9,$F$5:$F$9)/86400-INT(SUMPRODUCT(G$5:G$9,$F$5:$F$9)/86400)) &\" \" & 'Paramètres - Admin'!$D$5))))","v":"0 mins 0 sec"},null,"Dragon",{"$f":"VLOOKUP($A$2,AVAILABLE_Upgrades_Normal_Troops[#All],MATCH($I13,AVAILABLE_Upgrades_Normal_Troops[#Headers],0)+1)","v":4},{"$f":"IF(ISERROR(MATCH(1,Paramètres!AS$6:AS$45,0)),0,MATCH(1,Paramètres!AS$6:AS$45,0))","v":0},{"$f":"IF($K13<>0,VLOOKUP($K13,TRAINING_Dragon[#All],2),0)","v":0},{"$f":"IF($K13<>0,VLOOKUP($K13,TRAINING_Dragon[#All],3),0)","v":0},{"$f":"IF($K13<>0,VLOOKUP($K13,TRAINING_Dragon[#All],4),0)","v":0},null,null,null,null,0,null,null,"Coût Total",null,null,null,null,{"$f":"SUMPRODUCT(AA$5:AA$10,$Y$5:$Y$10)","v":0},{"$f":"SUMPRODUCT(AB$5:AB$10,$Y$5:$Y$10)","v":0},{"$f":"SUM(Y20:AB20)","v":0}]
[null,null,null,null,null,null,null,null,"P.E.K.K.A",{"$f":"VLOOKUP($A$2,AVAILABLE_Upgrades_Normal_Troops[#All],MATCH($I14,AVAILABLE_Upgrades_Normal_Troops[#Headers],0)+1)","v":5},{"$f":"IF(ISERROR(MATCH(1,Paramètres!AT$6:AT$45,0)),0,MATCH(1,Paramètres!AT$6:AT$45,0))","v":0},{"$f":"IF($K14<>0,VLOOKUP($K14,TRAINING_PEKKA[#All],2),0)","v":0},{"$f":"IF($K14<>0,VLOOKUP($K14,TRAINING_PEKKA[#All],3),0)","v":0},{"$f":"IF($K14<>0,VLOOKUP($K14,TRAINING_PEKKA[#All],4),0)","v":0},null,null,null,null,0,null,null,"Temps Total",null,null,null,null,{"$f":"IF($B$2='Paramètres - Admin'!$B$2,TEXT(SUMPRODUCT(AA$5:AA$10,$Z$5:$Z$10),\"# 0\")&\" \" & 'Paramètres - Admin'!$B$2,IF($B$2='Paramètres - Admin'!$B$3,TEXT(SUMPRODUCT(AA$5:AA$10,$Z$5:$Z$10)/60,\"# 0\")&\" \" & 'Paramètres - Admin'!$B$3,IF($B$2='Paramètres - Admin'!$B$4,TEXT(SUMPRODUCT(AA$5:AA$10,$Z$5:$Z$10)/3600,\"# 0,00\")&\" \" & 'Paramètres - Admin'!$B$4,IF(SUMPRODUCT(AA$5:AA$10,$Z$5:$Z$10)/3600>=1,INT(SUMPRODUCT(AA$5:AA$10,$Z$5:$Z$10)/3600) &\" \" & 'Paramètres - Admin'!$D$3 & \" \" & MINUTE(SUMPRODUCT(AA$5:AA$10,$Z$5:$Z$10)/86400-INT(SUMPRODUCT(AA$5:AA$10,$Z$5:$Z$10)/86400))  &\" \" & 'Paramètres - Admin'!$D$2 & \" \" & SECOND(SUMPRODUCT(AA$5:AA$10,$Z$5:$Z$10)/86400-INT(SUMPRODUCT(AA$5:AA$10,$Z$5:$Z$10)/86400)) &\" \" & 'Paramètres - Admin'!$D$5,MINUTE(SUMPRODUCT(AA$5:AA$10,$Z$5:$Z$10)/86400-INT(SUMPRODUCT(AA$5:AA$10,$Z$5:$Z$10)/86400)) &\" \" & 'Paramètres - Admin'!$D$2 & \" \" & SECOND(SUMPRODUCT(AA$5:AA$10,$Z$5:$Z$10)/86400-INT(SUMPRODUCT(AA$5:AA$10,$Z$5:$Z$10)/86400)) &\" \" & 'Paramètres - Admin'!$D$5))))","v":"0 mins 0 sec"},{"$f":"IF($B$2='Paramètres - Admin'!$B$2,TEXT(SUMPRODUCT(AB$5:AB$10,$Z$5:$Z$10),\"# 0\")&\" \" & 'Paramètres - Admin'!$B$2,IF($B$2='Paramètres - Admin'!$B$3,TEXT(SUMPRODUCT(AB$5:AB$10,$Z$5:$Z$10)/60,\"# 0\")&\" \" & 'Paramètres - Admin'!$B$3,IF($B$2='Paramètres - Admin'!$B$4,TEXT(SUMPRODUCT(AB$5:AB$10,$Z$5:$Z$10)/3600,\"# 0,00\")&\" \" & 'Paramètres - Admin'!$B$4,IF(SUMPRODUCT(AB$5:AB$10,$Z$5:$Z$10)/3600>=1,INT(SUMPRODUCT(AB$5:AB$10,$Z$5:$Z$10)/3600) &\" \" & 'Paramètres - Admin'!$D$3 & \" \" & MINUTE(SUMPRODUCT(AB$5:AB$10,$Z$5:$Z$10)/86400-INT(SUMPRODUCT(AB$5:AB$10,$Z$5:$Z$10)/86400))  &\" \" & 'Paramètres - Admin'!$D$2 & \" \" & SECOND(SUMPRODUCT(AB$5:AB$10,$Z$5:$Z$10)/86400-INT(SUMPRODUCT(AB$5:AB$10,$Z$5:$Z$10)/86400)) &\" \" & 'Paramètres - Admin'!$D$5,MINUTE(SUMPRODUCT(AB$5:AB$10,$Z$5:$Z$10)/86400-INT(SUMPRODUCT(AB$5:AB$10,$Z$5:$Z$10)/86400)) &\" \" & 'Paramètres - Admin'!$D$2 & \" \" & SECOND(SUMPRODUCT(AB$5:AB$10,$Z$5:$Z$10)/86400-INT(SUMPRODUCT(AB$5:AB$10,$Z$5:$Z$10)/86400)) &\" \" & 'Paramètres - Admin'!$D$5))))","v":"0 mins 0 sec"},{"$f":"IF($B$2='Paramètres - Admin'!$B$2,TEXT((SUMPRODUCT(AA$5:AA$14,$Z$5:$Z$14)+SUMPRODUCT(AB$5:AB$14,$Z$5:$Z$14)),\"# 0\")&\" \" & 'Paramètres - Admin'!$B$2,IF($B$2='Paramètres - Admin'!$B$3,TEXT((SUMPRODUCT(AA$5:AA$14,$Z$5:$Z$14)+SUMPRODUCT(AB$5:AB$14,$Z$5:$Z$14))/60,\"# 0\")&\" \" & 'Paramètres - Admin'!$B$3,IF($B$2='Paramètres - Admin'!$B$4,TEXT((SUMPRODUCT(AA$5:AA$14,$Z$5:$Z$14)+SUMPRODUCT(AB$5:AB$14,$Z$5:$Z$14))/3600,\"# 0,00\")&\" \" & 'Paramètres - Admin'!$B$4,IF((SUMPRODUCT(AA$5:AA$14,$Z$5:$Z$14)+SUMPRODUCT(AB$5:AB$14,$Z$5:$Z$14))/3600>=1,INT((SUMPRODUCT(AA$5:AA$14,$Z$5:$Z$14)+SUMPRODUCT(AB$5:AB$14,$Z$5:$Z$14))/3600) &\" \" & 'Paramètres - Admin'!$D$3 & \" \" & MINUTE((SUMPRODUCT(AA$5:AA$14,$Z$5:$Z$14)+SUMPRODUCT(AB$5:AB$14,$Z$5:$Z$14))/86400-INT((SUMPRODUCT(AA$5:AA$14,$Z$5:$Z$14)+SUMPRODUCT(AB$5:AB$14,$Z$5:$Z$14))/86400))  &\" \" & 'Paramètres - Admin'!$D$2 & \" \" & SECOND((SUMPRODUCT(AA$5:AA$14,$Z$5:$Z$14)+SUMPRODUCT(AB$5:AB$14,$Z$5:$Z$14))/86400-INT((SUMPRODUCT(AA$5:AA$14,$Z$5:$Z$14)+SUMPRODUCT(AB$5:AB$14,$Z$5:$Z$14))/86400)) &\" \" & 'Paramètres - Admin'!$D$5,MINUTE((SUMPRODUCT(AA$5:AA$14,$Z$5:$Z$14)+SUMPRODUCT(AB$5:AB$14,$Z$5:$Z$14))/86400-INT((SUMPRODUCT(AA$5:AA$14,$Z$5:$Z$14)+SUMPRODUCT(AB$5:AB$14,$Z$5:$Z$14))/86400)) &\" \" & 'Paramètres - Admin'!$D$2 & \" \" & SECOND((SUMPRODUCT(AA$5:AA$14,$Z$5:$Z$14)+SUMPRODUCT(AB$5:AB$14,$Z$5:$Z$14))/86400-INT((SUMPRODUCT(AA$5:AA$14,$Z$5:$Z$14)+SUMPRODUCT(AB$5:AB$14,$Z$5:$Z$14))/86400)) &\" \" & 'Paramètres - Admin'!$D$5))))","v":"0 mins 0 sec"}]
[null,null,null,null,null,null,null,null,null,"Espace Max",null,null,null,null,{"$f":"VLOOKUP(O$2,TRAINING_Barrack[#All],2)","v":75},{"$f":"VLOOKUP(P$2,TRAINING_Barrack[#All],2)","v":60},{"$f":"VLOOKUP(Q$2,TRAINING_Barrack[#All],2)","v":60},{"$f":"VLOOKUP(R$2,TRAINING_Barrack[#All],2)","v":60},{"$f":"SUM(O15:R15)","v":255}]
[null,null,null,null,null,null,null,null,null,"Espace Total",null,null,null,null,{"$f":"SUMPRODUCT(O$5:O$14,$L$5:$L$14)","v":0},{"$f":"SUMPRODUCT(P$5:P$14,$L$5:$L$14)","v":0},{"$f":"SUMPRODUCT(Q$5:Q$14,$L$5:$L$14)","v":0},{"$f":"SUMPRODUCT(R$5:R$14,$L$5:$L$14)","v":0},{"$f":"SUM(O16:R16)","v":0}]
[null,null,null,null,null,null,null,null,null,"Coût Total",null,null,null,null,{"$f":"SUMPRODUCT(O$5:O$14,$M$5:$M$14)","v":0},{"$f":"SUMPRODUCT(P$5:P$14,$M$5:$M$14)","v":0},{"$f":"SUMPRODUCT(Q$5:Q$14,$M$5:$M$14)","v":0},{"$f":"SUMPRODUCT(R$5:R$14,$M$5:$M$14)","v":0},{"$f":"SUM(O17:R17)","v":0}]
[null,null,null,null,null,null,null,null,null,"Temps Total",null,null,null,null,{"$f":"IF($B$2='Paramètres - Admin'!$B$2,TEXT(SUMPRODUCT(O$5:O$14,$N$5:$N$14),\"# 0\")&\" \" & 'Paramètres - Admin'!$B$2,IF($B$2='Paramètres - Admin'!$B$3,TEXT(SUMPRODUCT(O$5:O$14,$N$5:$N$14)/60,\"# 0\")&\" \" & 'Paramètres - Admin'!$B$3,IF($B$2='Paramètres - Admin'!$B$4,TEXT(SUMPRODUCT(O$5:O$14,$N$5:$N$14)/3600,\"# 0,00\")&\" \" & 'Paramètres - Admin'!$B$4,IF(SUMPRODUCT(O$5:O$14,$N$5:$N$14)/3600>=1,INT(SUMPRODUCT(O$5:O$14,$N$5:$N$14)/3600) &\" \" & 'Paramètres - Admin'!$D$3 & \" \" & MINUTE(SUMPRODUCT(O$5:O$14,$N$5:$N$14)/86400-INT(SUMPRODUCT(O$5:O$14,$N$5:$N$14)/86400))  &\" \" & 'Paramètres - Admin'!$D$2 & \" \" & SECOND(SUMPRODUCT(O$5:O$14,$N$5:$N$14)/86400-INT(SUMPRODUCT(O$5:O$14,$N$5:$N$14)/86400)) &\" \" & 'Paramètres - Admin'!$D$5,MINUTE(SUMPRODUCT(O$5:O$14,$N$5:$N$14)/86400-INT(SUMPRODUCT(O$5:O$14,$N$5:$N$14)/86400)) &\" \" & 'Paramètres - Admin'!$D$2 & \" \" & SECOND(SUMPRODUCT(O$5:O$14,$N$5:$N$14)/86400-INT(SUMPRODUCT(O$5:O$14,$N$5:$N$14)/86400)) &\" \" & 'Paramètres - Admin'!$D$5))))","v":"0 mins 0 sec"},{"$f":"IF($B$2='Paramètres - Admin'!$B$2,TEXT(SUMPRODUCT(P$5:P$14,$N$5:$N$14),\"# 0\")&\" \" & 'Paramètres - Admin'!$B$2,IF($B$2='Paramètres - Admin'!$B$3,TEXT(SUMPRODUCT(P$5:P$14,$N$5:$N$14)/60,\"# 0\")&\" \" & 'Paramètres - Admin'!$B$3,IF($B$2='Paramètres - Admin'!$B$4,TEXT(SUMPRODUCT(P$5:P$14,$N$5:$N$14)/3600,\"# 0,00\")&\" \" & 'Paramètres - Admin'!$B$4,IF(SUMPRODUCT(P$5:P$14,$N$5:$N$14)/3600>=1,INT(SUMPRODUCT(P$5:P$14,$N$5:$N$14)/3600) &\" \" & 'Paramètres - Admin'!$D$3 & \" \" & MINUTE(SUMPRODUCT(P$5:P$14,$N$5:$N$14)/86400-INT(SUMPRODUCT(P$5:P$14,$N$5:$N$14)/86400))  &\" \" & 'Paramètres - Admin'!$D$2 & \" \" & SECOND(SUMPRODUCT(P$5:P$14,$N$5:$N$14)/86400-INT(SUMPRODUCT(P$5:P$14,$N$5:$N$14)/86400)) &\" \" & 'Paramètres - Admin'!$D$5,MINUTE(SUMPRODUCT(P$5:P$14,$N$5:$N$14)/86400-INT(SUMPRODUCT(P$5:P$14,$N$5:$N$14)/86400)) &\" \" & 'Paramètres - Admin'!$D$2 & \" \" & SECOND(SUMPRODUCT(P$5:P$14,$N$5:$N$14)/86400-INT(SUMPRODUCT(P$5:P$14,$N$5:$N$14)/86400)) &\" \" & 'Paramètres - Admin'!$D$5))))","v":"0 mins 0 sec"},{"$f":"IF($B$2='Paramètres - Admin'!$B$2,TEXT(SUMPRODUCT(Q$5:Q$14,$N$5:$N$14),\"# 0\")&\" \" & 'Paramètres - Admin'!$B$2,IF($B$2='Paramètres - Admin'!$B$3,TEXT(SUMPRODUCT(Q$5:Q$14,$N$5:$N$14)/60,\"# 0\")&\" \" & 'Paramètres - Admin'!$B$3,IF($B$2='Paramètres - Admin'!$B$4,TEXT(SUMPRODUCT(Q$5:Q$14,$N$5:$N$14)/3600,\"# 0,00\")&\" \" & 'Paramètres - Admin'!$B$4,IF(SUMPRODUCT(Q$5:Q$14,$N$5:$N$14)/3600>=1,INT(SUMPRODUCT(Q$5:Q$14,$N$5:$N$14)/3600) &\" \" & 'Paramètres - Admin'!$D$3 & \" \" & MINUTE(SUMPRODUCT(Q$5:Q$14,$N$5:$N$14)/86400-INT(SUMPRODUCT(Q$5:Q$14,$N$5:$N$14)/86400))  &\" \" & 'Paramètres - Admin'!$D$2 & \" \" & SECOND(SUMPRODUCT(Q$5:Q$14,$N$5:$N$14)/86400-INT(SUMPRODUCT(Q$5:Q$14,$N$5:$N$14)/86400)) &\" \" & 'Paramètres - Admin'!$D$5,MINUTE(SUMPRODUCT(Q$5:Q$14,$N$5:$N$14)/86400-INT(SUMPRODUCT(Q$5:Q$14,$N$5:$N$14)/86400)) &\" \" & 'Paramètres - Admin'!$D$2 & \" \" & SECOND(SUMPRODUCT(Q$5:Q$14,$N$5:$N$14)/86400-INT(SUMPRODUCT(Q$5:Q$14,$N$5:$N$14)/86400)) &\" \" & 'Paramètres - Admin'!$D$5))))","v":"0 mins 0 sec"},{"$f":"IF($B$2='Paramètres - Admin'!$B$2,TEXT(SUMPRODUCT(R$5:R$14,$N$5:$N$14),\"# 0\")&\" \" & 'Paramètres - Admin'!$B$2,IF($B$2='Paramètres - Admin'!$B$3,TEXT(SUMPRODUCT(R$5:R$14,$N$5:$N$14)/60,\"# 0\")&\" \" & 'Paramètres - Admin'!$B$3,IF($B$2='Paramètres - Admin'!$B$4,TEXT(SUMPRODUCT(R$5:R$14,$N$5:$N$14)/3600,\"# 0,00\")&\" \" & 'Paramètres - Admin'!$B$4,IF(SUMPRODUCT(R$5:R$14,$N$5:$N$14)/3600>=1,INT(SUMPRODUCT(R$5:R$14,$N$5:$N$14)/3600) &\" \" & 'Paramètres - Admin'!$D$3 & \" \" & MINUTE(SUMPRODUCT(R$5:R$14,$N$5:$N$14)/86400-INT(SUMPRODUCT(R$5:R$14,$N$5:$N$14)/86400))  &\" \" & 'Paramètres - Admin'!$D$2 & \" \" & SECOND(SUMPRODUCT(R$5:R$14,$N$5:$N$14)/86400-INT(SUMPRODUCT(R$5:R$14,$N$5:$N$14)/86400)) &\" \" & 'Paramètres - Admin'!$D$5,MINUTE(SUMPRODUCT(R$5:R$14,$N$5:$N$14)/86400-INT(SUMPRODUCT(R$5:R$14,$N$5:$N$14)/86400)) &\" \" & 'Paramètres - Admin'!$D$2 & \" \" & SECOND(SUMPRODUCT(R$5:R$14,$N$5:$N$14)/86400-INT(SUMPRODUCT(R$5:R$14,$N$5:$N$14)/86400)) &\" \" & 'Paramètres - Admin'!$D$5))))","v":"0 mins 0 sec"},{"$f":"IF($B$2='Paramètres - Admin'!$B$2,TEXT((SUMPRODUCT(O$5:O$14,$N$5:$N$14)+SUMPRODUCT(P$5:P$14,$N$5:$N$14)+SUMPRODUCT(Q$5:Q$14,$N$5:$N$14)+SUMPRODUCT(R$5:R$14,$N$5:$N$14)),\"# 0\")&\" \" & 'Paramètres - Admin'!$B$2,IF($B$2='Paramètres - Admin'!$B$3,TEXT((SUMPRODUCT(O$5:O$14,$N$5:$N$14)+SUMPRODUCT(P$5:P$14,$N$5:$N$14)+SUMPRODUCT(Q$5:Q$14,$N$5:$N$14)+SUMPRODUCT(R$5:R$14,$N$5:$N$14))/60,\"# 0\")&\" \" & 'Paramètres - Admin'!$B$3,IF($B$2='Paramètres - Admin'!$B$4,TEXT((SUMPRODUCT(O$5:O$14,$N$5:$N$14)+SUMPRODUCT(P$5:P$14,$N$5:$N$14)+SUMPRODUCT(Q$5:Q$14,$N$5:$N$14)+SUMPRODUCT(R$5:R$14,$N$5:$N$14))/3600,\"# 0,00\")&\" \" & 'Paramètres - Admin'!$B$4,IF((SUMPRODUCT(O$5:O$14,$N$5:$N$14)+SUMPRODUCT(P$5:P$14,$N$5:$N$14)+SUMPRODUCT(Q$5:Q$14,$N$5:$N$14)+SUMPRODUCT(R$5:R$14,$N$5:$N$14))/3600>=1,INT((SUMPRODUCT(O$5:O$14,$N$5:$N$14)+SUMPRODUCT(P$5:P$14,$N$5:$N$14)+SUMPRODUCT(Q$5:Q$14,$N$5:$N$14)+SUMPRODUCT(R$5:R$14,$N$5:$N$14))/3600) &\" \" & 'Paramètres - Admin'!$D$3 & \" \" & MINUTE((SUMPRODUCT(O$5:O$14,$N$5:$N$14)+SUMPRODUCT(P$5:P$14,$N$5:$N$14)+SUMPRODUCT(Q$5:Q$14,$N$5:$N$14)+SUMPRODUCT(R$5:R$14,$N$5:$N$14))/86400-INT((SUMPRODUCT(O$5:O$14,$N$5:$N$14)+SUMPRODUCT(P$5:P$14,$N$5:$N$14)+SUMPRODUCT(Q$5:Q$14,$N$5:$N$14)+SUMPRODUCT(R$5:R$14,$N$5:$N$14))/86400))  &\" \" & 'Paramètres - Admin'!$D$2 & \" \" & SECOND((SUMPRODUCT(O$5:O$14,$N$5:$N$14)+SUMPRODUCT(P$5:P$14,$N$5:$N$14)+SUMPRODUCT(Q$5:Q$14,$N$5:$N$14)+SUMPRODUCT(R$5:R$14,$N$5:$N$14))/86400-INT((SUMPRODUCT(O$5:O$14,$N$5:$N$14)+SUMPRODUCT(P$5:P$14,$N$5:$N$14)+SUMPRODUCT(Q$5:Q$14,$N$5:$N$14)+SUMPRODUCT(R$5:R$14,$N$5:$N$14))/86400)) &\" \" & 'Paramètres - Admin'!$D$5,MINUTE((SUMPRODUCT(O$5:O$14,$N$5:$N$14)+SUMPRODUCT(P$5:P$14,$N$5:$N$14)+SUMPRODUCT(Q$5:Q$14,$N$5:$N$14)+SUMPRODUCT(R$5:R$14,$N$5:$N$14))/86400-INT((SUMPRODUCT(O$5:O$14,$N$5:$N$14)+SUMPRODUCT(P$5:P$14,$N$5:$N$14)+SUMPRODUCT(Q$5:Q$14,$N$5:$N$14)+SUMPRODUCT(R$5:R$14,$N$5:$N$14))/86400)) &\" \" & 'Paramètres - Admin'!$D$2 & \" \" & SECOND((SUMPRODUCT(O$5:O$14,$N$5:$N$14)+SUMPRODUCT(P$5:P$14,$N$5:$N$14)+SUMPRODUCT(Q$5:Q$14,$N$5:$N$14)+SUMPRODUCT(R$5:R$14,$N$5:$N$14))/86400-INT((SUMPRODUCT(O$5:O$14,$N$5:$N$14)+SUMPRODUCT(P$5:P$14,$N$5:$N$14)+SUMPRODUCT(Q$5:Q$14,$N$5:$N$14)+SUMPRODUCT(R$5:R$14,$N$5:$N$14))/86400)) &\" \" & 'Paramètres - Admin'!$D$5))))","v":"0 mins 0 sec"}]
["Combat - Gains"]
["Type","Montant",null,null,null,null,null,null,null,"Cellule rouge :","Troupe/Sort non disponible",null,null,null,null,null,"Camp Militaire\nCapacité Totale",{"$f":"SUMPRODUCT(Paramètres!J6:J13,'Coûts de Formation'!H41:H48)","v":0}]
["Or",100000]
["Élixir",100000]
["Élixir Noir",30,null,null,null,null,null,null,null,"Colonne orange :","Erreur - Caserne\nMax. total atteint"]
[]
["Combat - Profits"]
["Type","Montant",null,null,null,null,null,null,null,"Cellule marron :","Caserne non disponible\n(ou pas de Laboratoire)",null,null,null,null,null,"Ligne jaune :","Erreur - Camp Militaire\nMax. total atteint"]
["Or",{"$f":"B21","v":100000}]
["Élixir",{"$f":"B22-S17-G12","v":100000}]
["Élixir Noir",{"$f":"B23-AC12","v":30}]

{"sheet":"Bâtiments","index":6,"n_rows":76,"n_cols":47,"rows_kept":76,"cut":false,"hidden":true,"merged":[[63,0,63,12],[63,15,63,26],[0,0,0,12],[0,14,0,26],[45,6,45,10],[45,0,45,4],[30,26,30,44],[15,0,15,10],[15,12,15,22],[30,0,30,20]]}
["Bâtiments de Ressources (Disponibles et LVL Max)",null,null,null,null,null,null,null,null,null,null,null,null,null,"Bâtiments de Ressources (Changements)"]
["LVL HdV","Mine d'Or","LVL Max","Extracteur d'Élixir","LVL Max2","Foreuse d'Élixir Noir","LVL Max3","Réserve d'Or","LVL Max4","Réservoir d'Élixir","LVL Max5","Réservoir d'Élixir Noir","LVL Max6",null,"LVL HdV","Mine d'Or","LVL Max","Extracteur d'Élixir","LVL Max2","Foreuse d'Élixir Noir","LVL Max3","Réserve d'Or","LVL Max4","Réservoir d'Élixir","LVL Max5","Réservoir d'Élixir Noir","LVL Max6"]
[0,0,0,0,0,0,0,0,0,0,0,0,0,null,0,{"$f":"B3","v":0},0,0,0,0,0,0,0,0,0,0,0]
[1,1,2,1,2,0,0,1,1,1,1,0,0,null,1,{"$f":"B4-B3","v":1},{"$f":"C4-C3","v":2},{"$f":"D4-D3","v":1},{"$f":"E4-E3","v":2},{"$f":"F4-F3","v":0},{"$f":"G4-G3","v":0},{"$f":"H4-H3","v":1},{"$f":"I4-I3","v":1},{"$f":"J4-J3","v":1},{"$f":"K4-K3","v":1},{"$f":"L4-L3","v":0},{"$f":"M4-M3","v":0}]
[2,2,4,2,4,0,0,1,3,1,3,0,0,null,2,1,2,1,2,0,0,0,2,0,2,0,0]
[3,3,6,3,6,0,0,2,6,2,6,0,0,null,3,1,2,1,2,0,0,1,3,1,3,0,0]
[4,4,8,4,8,0,0,2,8,2,8,0,0,null,4,1,2,1,2,0,0,0,2,0,2,0,0]
[5,5,10,5,10,0,0,2,9,2,9,0,0,null,5,1,2,1,2,0,0,0,1,0,1,0,0]
[6,6,10,6,10,0,0,2,10,2,10,0,0,null,6,1,0,1,0,0,0,0,1,0,1,0,0]
[7,6,11,6,11,1,3,2,11,2,11,1,2,null,7,0,1,0,1,1,3,0,1,0,1,1,2]
[8,6,12,6,12,2,3,3,11,3,11,1,4,null,8,0,1,0,1,1,0,1,0,1,0,0,2]
[9,6,12,6,12,2,6,4,11,4,11,1,6,null,9,0,0,0,0,0,3,1,0,1,0,0,2]
[10,7,12,7,12,3,6,4,11,4,11,1,6,null,10,1,0,1,0,1,0,0,0,0,0,0,0]
[]
[]
["Bâtiments d'Amée (Disponibles et LVL Max)",null,null,null,null,null,null,null,null,null,null,null,"Bâtiments d'Amée (Changements)"]
["LVL HdV","Caserne","LVL Max","Caserne Noire","LVL Max2","Camp Militaire","LVL Max3","Laboratoire","LVL Max4","Usine de Sorts","LVL Max5",null,"LVL HdV","Caserne","LVL Max","Caserne Noire","LVL Max2","Camp Militaire","LVL Max3","Laboratoire","LVL Max4","Usine de Sorts","LVL Max5"]
[0,0,0,0,0,0,0,0,0,0,0,null,0,{"$f":"B18","v":0},0,0,0,0,0,0,0,0,0]
[1,1,3,0,0,1,1,0,0,0,0,null,1,{"$f":"B19-B18","v":1},{"$f":"C19-C18","v":3},{"$f":"D19-D18","v":0},{"$f":"E19-E18","v":0},{"$f":"F19-F18","v":1},{"$f":"G19-G18","v":1},{"$f":"H19-H18","v":0},{"$f":"I19-I18","v":0},{"$f":"J19-J18","v":0},{"$f":"K19-K18","v":0}]
[2,2,4,0,0,1,2,0,0,0,0,null,2,1,1,0,0,0,1,0,0,0,0]
[3,2,5,0,0,2,3,1,1,0,0,null,3,0,1,0,0,1,1,1,1,0,0]
[4,3,6,0,0,2,4,1,2,0,0,null,4,1,1,0,0,0,1,0,1,0,0]
[5,3,7,0,0,3,5,1,3,1,1,null,5,0,1,0,0,1,1,0,1,1,1]
[6,3,8,0,0,3,6,1,4,1,2,null,6,0,1,0,0,0,1,0,1,0,1]
[7,4,9,1,2,4,6,1,5,1,3,null,7,1,1,1,2,1,0,0,1,0,1]
[8,4,10,2,4,4,6,1,6,1,3,null,8,0,1,1,2,0,0,0,1,0,0]
[9,4,10,2,6,4,7,1,7,1,4,null,9,0,0,0,2,0,1,0,1,0,1]
[10,4,10,2,6,4,8,1,8,1,5,null,10,0,0,0,0,0,1,0,1,0,1]
[]
[]
["Bâtiments de Défense (Disponibles et LVL Max)",null,null,null,null,null,null,null,null,null,null,null,null,null,null,null,null,null,null,null,null,null,null,null,null,null,"Bâtiments de Défense (Changements)"]
["LVL HdV","Rempart","LVL Max","Canon","LVL Max2","Tour d'Archers","LVL Max3","Mortier","LVL Max4","Défense Antiaérienne","LVL Max5","Tour de Sorciers","LVL Max6","Tesla Camouflée","LVL Max7","Arc-X","LVL Max8","Tour de l'Enfer","LVL Max9","Propulseur d'air","LVL Max10",null,null,null,null,null,"LVL HdV","Rempart","LVL Max","Canon","LVL Max2","Tour d'Archers","LVL Max3","Mortier","LVL Max4","Défense Antiaérienne","LVL Max5","Tour de Sorciers","LVL Max6","Tesla Camouflée","LVL Max7","Arc-X","LVL Max8","Tour de l'Enfer","LVL Max9","Propulseur d'air","LVL Max10"]
[0,0,0,0,0,0,0,0,0,0,0,0,0,0,0,0,0,0,0,0,0,null,null,null,null,null,0,{"$f":"B33","v":0},0,0,0,0,0,0,0,0,0,0,0,0,0,0,0,0,0,{"$f":"T33","v":0},{"$f":"U33","v":0}]
[1,0,0,2,2,0,0,0,0,0,0,0,0,0,0,0,0,0,0,0,0,null,null,null,null,null,1,{"$f":"B34-B33","v":0},{"$f":"C34-C33","v":0},{"$f":"D34-D33","v":2},{"$f":"E34-E33","v":2},{"$f":"F34-F33","v":0},{"$f":"G34-G33","v":0},{"$f":"H34-H33","v":0},{"$f":"I34-I33","v":0},{"$f":"J34-J33","v":0},{"$f":"K34-K33","v":0},{"$f":"L34-L33","v":0},{"$f":"M34-M33","v":0},{"$f":"N34-N33","v":0},{"$f":"O34-O33","v":0},{"$f":"P34-P33","v":0},{"$f":"Q34-Q33","v":0},{"$f":"R34-R33","v":0},{"$f":"S34-S33","v":0},{"$f":"T34-T33","v":0},{"$f":"U34-U33","v":0}]
[2,25,2,2,3,1,2,0,0,0,0,0,0,0,0,0,0,0,0,0,0,null,null,null,null,null,2,25,2,0,1,1,2,0,0,0,0,0,0,0,0,0,0,0,0,0,0]
[3,50,3,2,4,1,3,1,1,0,0,0,0,0,0,0,0,0,0,0,0,null,null,null,null,null,3,25,1,0,1,0,1,1,1,0,0,0,0,0,0,0,0,0,0,0,0]
[4,75,4,2,5,2,4,1,2,1,2,0,0,0,0,0,0,0,0,0,0,null,null,null,null,null,4,25,1,0,1,1,1,0,1,1,2,0,0,0,0,0,0,0,0,0,0]
[5,100,5,3,6,3,6,1,3,1,3,1,2,0,0,0,0,0,0,0,0,null,null,null,null,null,5,25,1,1,1,1,2,0,1,0,1,1,2,0,0,0,0,0,0,0,0]
[6,125,6,3,7,3,7,2,4,1,4,2,3,0,0,0,0,0,0,1,2,null,null,null,null,null,6,25,1,0,1,0,1,1,1,0,1,1,1,0,0,0,0,0,0,1,2]
[7,175,7,5,8,4,8,3,5,2,5,2,4,2,3,0,0,0,0,1,3,null,null,null,null,null,7,50,1,2,1,1,1,1,1,1,1,0,1,2,3,0,0,0,0,0,1]
[8,225,8,5,10,5,10,4,6,3,6,3,6,3,6,0,0,0,0,1,4,null,null,null,null,null,8,50,1,0,2,1,2,1,1,1,1,1,2,1,3,0,0,0,0,0,1]
[9,250,10,5,11,6,11,4,7,4,7,4,7,4,7,2,3,0,0,1,5,null,null,null,null,null,9,25,2,0,1,1,1,0,1,1,1,1,1,1,1,2,3,0,0,0,1]
[10,250,11,6,13,7,13,4,8,4,8,4,8,4,7,3,4,2,3,1,6,null,null,null,null,null,10,0,1,1,2,1,2,0,1,0,1,0,1,0,0,1,1,2,3,0,1]
[]
[]
["Bâtiments Autres (Disponibles et LVL Max)",null,null,null,null,null,"Bâtiments Autres (Changements)"]
["LVL HdV","Château de Clan","LVL Max","Hôtel de Ville","LVL Max2",null,"LVL HdV","Château de Clan","LVL Max","Hôtel de Ville","LVL Max2"]
[0,0,0,0,0,null,0,{"$f":"B48","v":0},{"$f":"C48","v":0},{"$f":"D48","v":0},{"$f":"E48","v":0}]
[1,0,0,1,2,null,1,{"$f":"B49-B48","v":0},{"$f":"C49-C48","v":0},{"$f":"D49-D48","v":1},{"$f":"E49-E48","v":2}]
[2,0,0,1,3,null,2,0,0,0,1]
[3,1,1,1,4,null,3,1,1,0,1]
[4,1,2,1,5,null,4,0,1,0,1]
[5,1,2,1,6,null,5,0,0,0,1]
[6,1,3,1,7,null,6,0,1,0,1]
[7,1,3,1,8,null,7,0,0,0,1]
[8,1,4,1,9,null,8,0,1,0,1]
[9,1,5,1,9,null,9,0,1,0,0]
[10,1,6,1,10,null,10,0,1,0,1]
[]
[]
[]
[]
[]
["Pièges (Disponibles)",null,null,null,null,null,null,null,null,null,null,null,null,null,null,"Pièges (Changements)"]
["LVL HdV","Bombe","LVL Max ","Mine chercheuse","LVL Max  ","Bombe géante","LVL Max   ","Bombe aérienne","LVL Max    ","Piège squelettique","LVL Max      ","Piège à ressort","LVL Max         ",null,null,"Bombe","LVL Max","Mine chercheuse","LVL Max2","Bombe géante","LVL Max3","Bombe aérienne","LVL Max4","Piège squelettique","LVL Max5","Piège à ressort","LVL Max6"]
[0,0,0,0,0,0,0,0,0,0,0,0,0,null,null,{"$f":"B66","v":0},{"$f":"C66","v":0},0,0,0,0,0,0,0,0,0,0]
[1,0,0,0,0,0,0,0,0,0,0,0,0,null,null,{"$f":"B67","v":0},0,0,0,0,0,0,0,0,0,0,0]
[2,0,1,0,0,0,0,0,0,0,0,0,0,null,null,0,1,0,0,0,0,0,0,0,0,0,0]
[3,2,2,0,0,0,0,0,0,0,0,0,0,null,null,2,2,0,0,0,0,0,0,0,0,0,0]
[4,2,2,0,0,0,0,0,0,0,0,2,1,null,null,2,2,0,0,0,0,0,0,0,0,2,1]
[5,4,3,0,0,0,0,2,2,0,0,2,1,null,null,4,3,0,0,0,0,2,2,0,0,2,1]
[6,4,3,0,0,1,2,2,2,0,0,4,1,null,null,4,3,0,0,1,2,2,2,0,0,4,1]
[7,6,4,1,1,2,2,2,3,0,0,4,1,null,null,6,4,1,1,2,2,2,3,0,0,4,1]
[8,6,5,2,1,3,3,4,3,2,2,6,1,null,null,6,5,2,1,3,3,4,3,2,2,6,1]
[9,6,6,4,2,4,3,4,4,2,3,6,1,null,null,6,6,4,2,4,3,4,4,2,3,6,1]
[10,6,6,5,3,5,4,5,4,3,3,6,1,null,null,6,6,5,3,5,4,5,4,3,3,6,1]

{"sheet":"Améliorations - Sorts & Troupes","index":7,"n_rows":43,"n_cols":43,"rows_kept":43,"cut":false,"hidden":true,"merged":[[0,12,0,22],[0,0,0,10],[15,0,15,20],[15,22,15,42],[30,0,30,12],[30,14,30,26]]}
["Améliorations de Sorts (Disponibles et LVL Max)",null,null,null,null,null,null,null,null,null,null,null,"Améliorations de Sorts (Changements)"]
["LVL HdV","Sort de Foudre","LVL Max","Sort de Guérison","LVL Max2","Sort de Rage","LVL Max3","Sort de Saut","LVL Max4","Sort de Gel","LVL Max5",null,"LVL HdV","Sort de Foudre","LVL Max","Sort de Guérison","LVL Max2","Sort de Rage","LVL Max3","Sort de Saut","LVL Max4","Sort de Gel","LVL Max5"]
[0,0,0,0,0,0,0,0,0,0,0,null,0,{"$f":"B3","v":0},0,0,0,0,0,0,0,0,0]
[1,0,0,0,0,0,0,0,0,0,0,null,1,{"$f":"B4-B3","v":0},{"$f":"C4-C3","v":0},{"$f":"D4-D3","v":0},{"$f":"E4-E3","v":0},{"$f":"F4-F3","v":0},{"$f":"G4-G3","v":0},{"$f":"H4-H3","v":0},{"$f":"I4-I3","v":0},{"$f":"J4-J3","v":0},{"$f":"K4-K3","v":0}]
[2,0,0,0,0,0,0,0,0,0,0,null,2,0,0,0,0,0,0,0,0,0,0]
[3,0,0,0,0,0,0,0,0,0,0,null,3,0,0,0,0,0,0,0,0,0,0]
[4,0,0,0,0,0,0,0,0,0,0,null,4,0,0,0,0,0,0,0,0,0,0]
[5,1,4,0,0,0,0,0,0,0,0,null,5,1,4,0,0,0,0,0,0,0,0]
[6,1,4,1,3,0,0,0,0,0,0,null,6,0,0,1,3,0,0,0,0,0,0]
[7,1,4,1,4,1,4,0,0,0,0,null,7,0,0,0,1,1,4,0,0,0,0]
[8,1,5,1,5,1,5,0,0,0,0,null,8,0,1,0,1,0,1,0,0,0,0]
[9,1,5,1,6,1,5,1,2,0,0,null,9,0,0,0,1,0,0,1,2,0,0]
[10,1,6,1,6,1,5,1,2,1,5,null,10,0,1,0,0,0,0,0,0,1,5]
[]
[]
["Améliorations de Troupes Normales (Disponibles & LVL Max)",null,null,null,null,null,null,null,null,null,null,null,null,null,null,null,null,null,null,null,null,null,"Améliorations de Troupes Normales (Changements)"]
["LVL HdV","Barbare","LVL Max","Archer","LVL Max2","Gobelin","LVL Max3","Géant","LVL Max4","Sapeur","LVL Max5","Ballon","LVL Max6","Sorcier","LVL Max7","Guérisseuse","LVL Max8","Dragon","LVL Max9","P.E.K.K.A","LVL Max10",null,"LVL HdV","Barbare","LVL Max","Archer","LVL Max2","Gobelin","LVL Max3","Géant","LVL Max4","Sapeur","LVL Max5","Ballon","LVL Max6","Sorcier","LVL Max7","Guérisseuse","LVL Max8","Dragon","LVL Max9","P.E.K.K.A","LVL Max10"]
[0,0,0,0,0,0,0,0,0,0,0,0,0,0,0,0,0,0,0,0,0,null,0,{"$f":"'Améliorations - Sorts & Troupes'!B18","v":0},{"$f":"'Améliorations - Sorts & Troupes'!C18","v":0},{"$f":"'Améliorations - Sorts & Troupes'!D18","v":0},{"$f":"'Améliorations - Sorts & Troupes'!E18","v":0},{"$f":"'Améliorations - Sorts & Troupes'!F18","v":0},{"$f":"'Améliorations - Sorts & Troupes'!G18","v":0},{"$f":"'Améliorations - Sorts & Troupes'!H18","v":0},{"$f":"'Améliorations - Sorts & Troupes'!I18","v":0},{"$f":"'Améliorations - Sorts & Troupes'!J18","v":0},{"$f":"'Améliorations - Sorts & Troupes'!K18","v":0},{"$f":"'Améliorations - Sorts & Troupes'!L18","v":0},{"$f":"'Améliorations - Sorts & Troupes'!M18","v":0},{"$f":"'Améliorations - Sorts & Troupes'!N18","v":0},{"$f":"'Améliorations - Sorts & Troupes'!O18","v":0},{"$f":"'Améliorations - Sorts & Troupes'!P18","v":0},{"$f":"'Améliorations - Sorts & Troupes'!Q18","v":0},{"$f":"'Améliorations - Sorts & Troupes'!R18","v":0},{"$f":"'Améliorations - Sorts & Troupes'!S18","v":0},{"$f":"'Améliorations - Sorts & Troupes'!T18","v":0},{"$f":"'Améliorations - Sorts & Troupes'!U18","v":0}]
[1,1,1,1,1,1,1,0,0,0,0,0,0,0,0,0,0,0,0,0,0,null,1,{"$f":"'Améliorations - Sorts & Troupes'!B19-'Améliorations - Sorts & Troupes'!B18","v":1},{"$f":"'Améliorations - Sorts & Troupes'!C19-'Améliorations - Sorts & Troupes'!C18","v":1},{"$f":"'Améliorations - Sorts & Troupes'!D19-'Améliorations - Sorts & Troupes'!D18","v":1},{"$f":"'Améliorations - Sorts & Troupes'!E19-'Améliorations - Sorts & Troupes'!E18","v":1},{"$f":"'Améliorations - Sorts & Troupes'!F19-'Améliorations - Sorts & Troupes'!F18","v":1},{"$f":"'Améliorations - Sorts & Troupes'!G19-'Améliorations - Sorts & Troupes'!G18","v":1},{"$f":"'Améliorations - Sorts & Troupes'!H19-'Améliorations - Sorts & Troupes'!H18","v":0},{"$f":"'Améliorations - Sorts & Troupes'!I19-'Améliorations - Sorts & Troupes'!I18","v":0},{"$f":"'Améliorations - Sorts & Troupes'!J19-'Améliorations - Sorts & Troupes'!J18","v":0},{"$f":"'Améliorations - Sorts & Troupes'!K19-'Améliorations - Sorts & Troupes'!K18","v":0},{"$f":"'Améliorations - Sorts & Troupes'!L19-'Améliorations - Sorts & Troupes'!L18","v":0},{"$f":"'Améliorations - Sorts & Troupes'!M19-'Améliorations - Sorts & Troupes'!M18","v":0},{"$f":"'Améliorations - Sorts & Troupes'!N19-'Améliorations - Sorts & Troupes'!N18","v":0},{"$f":"'Améliorations - Sorts & Troupes'!O19-'Améliorations - Sorts & Troupes'!O18","v":0},{"$f":"'Améliorations - Sorts & Troupes'!P19-'Améliorations - Sorts & Troupes'!P18","v":0},{"$f":"'Améliorations - Sorts & Troupes'!Q19-'Améliorations - Sorts & Troupes'!Q18","v":0},{"$f":"'Améliorations - Sorts & Troupes'!R19-'Améliorations - Sorts & Troupes'!R18","v":0},{"$f":"'Améliorations - Sorts & Troupes'!S19-'Améliorations - Sorts & Troupes'!S18","v":0},{"$f":"'Améliorations - Sorts & Troupes'!T19-'Améliorations - Sorts & Troupes'!T18","v":0},{"$f":"'Améliorations - Sorts & Troupes'!U19-'Améliorations - Sorts & Troupes'!U18","v":0}]
[2,1,1,1,1,1,1,1,1,0,0,0,0,0,0,0,0,0,0,0,0,null,2,{"$f":"'Améliorations - Sorts & Troupes'!B20-'Améliorations - Sorts & Troupes'!B19","v":0},{"$f":"'Améliorations - Sorts & Troupes'!C20-'Améliorations - Sorts & Troupes'!C19","v":0},{"$f":"'Améliorations - Sorts & Troupes'!D20-'Améliorations - Sorts & Troupes'!D19","v":0},{"$f":"'Améliorations - Sorts & Troupes'!E20-'Améliorations - Sorts & Troupes'!E19","v":0},{"$f":"'Améliorations - Sorts & Troupes'!F20-'Améliorations - Sorts & Troupes'!F19","v":0},{"$f":"'Améliorations - Sorts & Troupes'!G20-'Améliorations - Sorts & Troupes'!G19","v":0},{"$f":"'Améliorations - Sorts & Troupes'!H20-'Améliorations - Sorts & Troupes'!H19","v":1},{"$f":"'Améliorations - Sorts & Troupes'!I20-'Améliorations - Sorts & Troupes'!I19","v":1},{"$f":"'Améliorations - Sorts & Troupes'!J20-'Améliorations - Sorts & Troupes'!J19","v":0},{"$f":"'Améliorations - Sorts & Troupes'!K20-'Améliorations - Sorts & Troupes'!K19","v":0},{"$f":"'Améliorations - Sorts & Troupes'!L20-'Améliorations - Sorts & Troupes'!L19","v":0},{"$f":"'Améliorations - Sorts & Troupes'!M20-'Améliorations - Sorts & Troupes'!M19","v":0},{"$f":"'Améliorations - Sorts & Troupes'!N20-'Améliorations - Sorts & Troupes'!N19","v":0},{"$f":"'Améliorations - Sorts & Troupes'!O20-'Améliorations - Sorts & Troupes'!O19","v":0},{"$f":"'Améliorations - Sorts & Troupes'!P20-'Améliorations - Sorts & Troupes'!P19","v":0},{"$f":"'Améliorations - Sorts & Troupes'!Q20-'Améliorations - Sorts & Troupes'!Q19","v":0},{"$f":"'Améliorations - Sorts & Troupes'!R20-'Améliorations - Sorts & Troupes'!R19","v":0},{"$f":"'Améliorations - Sorts & Troupes'!S20-'Améliorations - Sorts & Troupes'!S19","v":0},{"$f":"'Améliorations - Sorts & Troupes'!T20-'Améliorations - Sorts & Troupes'!T19","v":0},{"$f":"'Améliorations - Sorts & Troupes'!U20-'Améliorations - Sorts & Troupes'!U19","v":0}]
[3,1,2,1,2,1,2,1,1,1,1,0,0,0,0,0,0,0,0,0,0,null,3,{"$f":"'Améliorations - Sorts & Troupes'!B21-'Améliorations - Sorts & Troupes'!B20","v":0},{"$f":"'Améliorations - Sorts & Troupes'!C21-'Améliorations - Sorts & Troupes'!C20","v":1},{"$f":"'Améliorations - Sorts & Troupes'!D21-'Améliorations - Sorts & Troupes'!D20","v":0},{"$f":"'Améliorations - Sorts & Troupes'!E21-'Améliorations - Sorts & Troupes'!E20","v":1},{"$f":"'Améliorations - Sorts & Troupes'!F21-'Améliorations - Sorts & Troupes'!F20","v":0},{"$f":"'Améliorations - Sorts & Troupes'!G21-'Améliorations - Sorts & Troupes'!G20","v":1},{"$f":"'Améliorations - Sorts & Troupes'!H21-'Améliorations - Sorts & Troupes'!H20","v":0},{"$f":"'Améliorations - Sorts & Troupes'!I21-'Améliorations - Sorts & Troupes'!I20","v":0},{"$f":"'Améliorations - Sorts & Troupes'!J21-'Améliorations - Sorts & Troupes'!J20","v":1},{"$f":"'Améliorations - Sorts & Troupes'!K21-'Améliorations - Sorts & Troupes'!K20","v":1},{"$f":"'Améliorations - Sorts & Troupes'!L21-'Améliorations - Sorts & Troupes'!L20","v":0},{"$f":"'Améliorations - Sorts & Troupes'!M21-'Améliorations - Sorts & Troupes'!M20","v":0},{"$f":"'Améliorations - Sorts & Troupes'!N21-'Améliorations - Sorts & Troupes'!N20","v":0},{"$f":"'Améliorations - Sorts & Troupes'!O21-'Améliorations - Sorts & Troupes'!O20","v":0},{"$f":"'Améliorations - Sorts & Troupes'!P21-'Améliorations - Sorts & Troupes'!P20","v":0},{"$f":"'Améliorations - Sorts & Troupes'!Q21-'Améliorations - Sorts & Troupes'!Q20","v":0},{"$f":"'Améliorations - Sorts & Troupes'!R21-'Améliorations - Sorts & Troupes'!R20","v":0},{"$f":"'Améliorations - Sorts & Troupes'!S21-'Améliorations - Sorts & Troupes'!S20","v":0},{"$f":"'Améliorations - Sorts & Troupes'!T21-'Améliorations - Sorts & Troupes'!T20","v":0},{"$f":"'Améliorations - Sorts & Troupes'!U21-'Améliorations - Sorts & Troupes'!U20","v":0}]
[4,1,2,1,2,1,2,1,2,1,2,1,2,0,0,0,0,0,0,0,0,null,4,{"$f":"'Améliorations - Sorts & Troupes'!B22-'Améliorations - Sorts & Troupes'!B21","v":0},{"$f":"'Améliorations - Sorts & Troupes'!C22-'Améliorations - Sorts & Troupes'!C21","v":0},{"$f":"'Améliorations - Sorts & Troupes'!D22-'Améliorations - Sorts & Troupes'!D21","v":0},{"$f":"'Améliorations - Sorts & Troupes'!E22-'Améliorations - Sorts & Troupes'!E21","v":0},{"$f":"'Améliorations - Sorts & Troupes'!F22-'Améliorations - Sorts & Troupes'!F21","v":0},{"$f":"'Améliorations - Sorts & Troupes'!G22-'Améliorations - Sorts & Troupes'!G21","v":0},{"$f":"'Améliorations - Sorts & Troupes'!H22-'Améliorations - Sorts & Troupes'!H21","v":0},{"$f":"'Améliorations - Sorts & Troupes'!I22-'Améliorations - Sorts & Troupes'!I21","v":1},{"$f":"'Améliorations - Sorts & Troupes'!J22-'Améliorations - Sorts & Troupes'!J21","v":0},{"$f":"'Améliorations - Sorts & Troupes'!K22-'Améliorations - Sorts & Troupes'!K21","v":1},{"$f":"'Améliorations - Sorts & Troupes'!L22-'Améliorations - Sorts & Troupes'!L21","v":1},{"$f":"'Améliorations - Sorts & Troupes'!M22-'Améliorations - Sorts & Troupes'!M21","v":2},{"$f":"'Améliorations - Sorts & Troupes'!N22-'Améliorations - Sorts & Troupes'!N21","v":0},{"$f":"'Améliorations - Sorts & Troupes'!O22-'Améliorations - Sorts & Troupes'!O21","v":0},{"$f":"'Améliorations - Sorts & Troupes'!P22-'Améliorations - Sorts & Troupes'!P21","v":0},{"$f":"'Améliorations - Sorts & Troupes'!Q22-'Améliorations - Sorts & Troupes'!Q21","v":0},{"$f":"'Améliorations - Sorts & Troupes'!R22-'Améliorations - Sorts & Troupes'!R21","v":0},{"$f":"'Améliorations - Sorts & Troupes'!S22-'Améliorations - Sorts & Troupes'!S21","v":0},{"$f":"'Améliorations - Sorts & Troupes'!T22-'Améliorations - Sorts & Troupes'!T21","v":0},{"$f":"'Améliorations - Sorts & Troupes'!U22-'Améliorations - Sorts & Troupes'!U21","v":0}]
[5,1,3,1,3,1,3,1,2,1,2,1,2,1,2,0,0,0,0,0,0,null,5,{"$f":"'Améliorations - Sorts & Troupes'!B23-'Améliorations - Sorts & Troupes'!B22","v":0},{"$f":"'Améliorations - Sorts & Troupes'!C23-'Améliorations - Sorts & Troupes'!C22","v":1},{"$f":"'Améliorations - Sorts & Troupes'!D23-'Améliorations - Sorts & Troupes'!D22","v":0},{"$f":"'Améliorations - Sorts & Troupes'!E23-'Améliorations - Sorts & Troupes'!E22","v":1},{"$f":"'Améliorations - Sorts & Troupes'!F23-'Améliorations - Sorts & Troupes'!F22","v":0},{"$f":"'Améliorations - Sorts & Troupes'!G23-'Améliorations - Sorts & Troupes'!G22","v":1},{"$f":"'Améliorations - Sorts & Troupes'!H23-'Améliorations - Sorts & Troupes'!H22","v":0},{"$f":"'Améliorations - Sorts & Troupes'!I23-'Améliorations - Sorts & Troupes'!I22","v":0},{"$f":"'Améliorations - Sorts & Troupes'!J23-'Améliorations - Sorts & Troupes'!J22","v":0},{"$f":"'Améliorations - Sorts & Troupes'!K23-'Améliorations - Sorts & Troupes'!K22","v":0},{"$f":"'Améliorations - Sorts & Troupes'!L23-'Améliorations - Sorts & Troupes'!L22","v":0},{"$f":"'Améliorations - Sorts & Troupes'!M23-'Améliorations - Sorts & Troupes'!M22","v":0},{"$f":"'Améliorations - Sorts & Troupes'!N23-'Améliorations - Sorts & Troupes'!N22","v":1},{"$f":"'Améliorations - Sorts & Troupes'!O23-'Améliorations - Sorts & Troupes'!O22","v":2},{"$f":"'Améliorations - Sorts & Troupes'!P23-'Améliorations - Sorts & Troupes'!P22","v":0},{"$f":"'Améliorations - Sorts & Troupes'!Q23-'Améliorations - Sorts & Troupes'!Q22","v":0},{"$f":"'Améliorations - Sorts & Troupes'!R23-'Améliorations - Sorts & Troupes'!R22","v":0},{"$f":"'Améliorations - Sorts & Troupes'!S23-'Améliorations - Sorts & Troupes'!S22","v":0},{"$f":"'Améliorations - Sorts & Troupes'!T23-'Améliorations - Sorts & Troupes'!T22","v":0},{"$f":"'Améliorations - Sorts & Troupes'!U23-'Améliorations - Sorts & Troupes'!U22","v":0}]
[6,1,3,1,3,1,3,1,3,1,3,1,3,1,3,1,1,0,0,0,0,null,6,{"$f":"'Améliorations - Sorts & Troupes'!B24-'Améliorations - Sorts & Troupes'!B23","v":0},{"$f":"'Améliorations - Sorts & Troupes'!C24-'Améliorations - Sorts & Troupes'!C23","v":0},{"$f":"'Améliorations - Sorts & Troupes'!D24-'Améliorations - Sorts & Troupes'!D23","v":0},{"$f":"'Améliorations - Sorts & Troupes'!E24-'Améliorations - Sorts & Troupes'!E23","v":0},{"$f":"'Améliorations - Sorts & Troupes'!F24-'Améliorations - Sorts & Troupes'!F23","v":0},{"$f":"'Améliorations - Sorts & Troupes'!G24-'Améliorations - Sorts & Troupes'!G23","v":0},{"$f":"'Améliorations - Sorts & Troupes'!H24-'Améliorations - Sorts & Troupes'!H23","v":0},{"$f":"'Améliorations - Sorts & Troupes'!I24-'Améliorations - Sorts & Troupes'!I23","v":1},{"$f":"'Améliorations - Sorts & Troupes'!J24-'Améliorations - Sorts & Troupes'!J23","v":0},{"$f":"'Améliorations - Sorts & Troupes'!K24-'Améliorations - Sorts & Troupes'!K23","v":1},{"$f":"'Améliorations - Sorts & Troupes'!L24-'Améliorations - Sorts & Troupes'!L23","v":0},{"$f":"'Améliorations - Sorts & Troupes'!M24-'Améliorations - Sorts & Troupes'!M23","v":1},{"$f":"'Améliorations - Sorts & Troupes'!N24-'Améliorations - Sorts & Troupes'!N23","v":0},{"$f":"'Améliorations - Sorts & Troupes'!O24-'Améliorations - Sorts & Troupes'!O23","v":1},{"$f":"'Améliorations - Sorts & Troupes'!P24-'Améliorations - Sorts & Troupes'!P23","v":1},{"$f":"'Améliorations - Sorts & Troupes'!Q24-'Améliorations - Sorts & Troupes'!Q23","v":1},{"$f":"'Améliorations - Sorts & Troupes'!R24-'Améliorations - Sorts & Troupes'!R23","v":0},{"$f":"'Améliorations - Sorts & Troupes'!S24-'Améliorations - Sorts & Troupes'!S23","v":0},{"$f":"'Améliorations - Sorts & Troupes'!T24-'Améliorations - Sorts & Troupes'!T23","v":0},{"$f":"'Améliorations - Sorts & Troupes'!U24-'Améliorations - Sorts & Troupes'!U23","v":0}]
[7,1,4,1,4,1,4,1,4,1,4,1,4,1,4,1,2,1,2,0,0,null,7,{"$f":"'Améliorations - Sorts & Troupes'!B25-'Améliorations - Sorts & Troupes'!B24","v":0},{"$f":"'Améliorations - Sorts & Troupes'!C25-'Améliorations - Sorts & Troupes'!C24","v":1},{"$f":"'Améliorations - Sorts & Troupes'!D25-'Améliorations - Sorts & Troupes'!D24","v":0},{"$f":"'Améliorations - Sorts & Troupes'!E25-'Améliorations - Sorts & Troupes'!E24","v":1},{"$f":"'Améliorations - Sorts & Troupes'!F25-'Améliorations - Sorts & Troupes'!F24","v":0},{"$f":"'Améliorations - Sorts & Troupes'!G25-'Améliorations - Sorts & Troupes'!G24","v":1},{"$f":"'Améliorations - Sorts & Troupes'!H25-'Améliorations - Sorts & Troupes'!H24","v":0},{"$f":"'Améliorations - Sorts & Troupes'!I25-'Améliorations - Sorts & Troupes'!I24","v":1},{"$f":"'Améliorations - Sorts & Troupes'!J25-'Améliorations - Sorts & Troupes'!J24","v":0},{"$f":"'Améliorations - Sorts & Troupes'!K25-'Améliorations - Sorts & Troupes'!K24","v":1},{"$f":"'Améliorations - Sorts & Troupes'!L25-'Améliorations - Sorts & Troupes'!L24","v":0},{"$f":"'Améliorations - Sorts & Troupes'!M25-'Améliorations - Sorts & Troupes'!M24","v":1},{"$f":"'Améliorations - Sorts & Troupes'!N25-'Améliorations - Sorts & Troupes'!N24","v":0},{"$f":"'Améliorations - Sorts & Troupes'!O25-'Améliorations - Sorts & Troupes'!O24","v":1},{"$f":"'Améliorations - Sorts & Troupes'!P25-'Améliorations - Sorts & Troupes'!P24","v":0},{"$f":"'Améliorations - Sorts & Troupes'!Q25-'Améliorations - Sorts & Troupes'!Q24","v":1},{"$f":"'Améliorations - Sorts & Troupes'!R25-'Améliorations - Sorts & Troupes'!R24","v":1},{"$f":"'Améliorations - Sorts & Troupes'!S25-'Améliorations - Sorts & Troupes'!S24","v":2},{"$f":"'Améliorations - Sorts & Troupes'!T25-'Améliorations - Sorts & Troupes'!T24","v":0},{"$f":"'Améliorations - Sorts & Troupes'!U25-'Améliorations - Sorts & Troupes'!U24","v":0}]
[8,1,5,1,5,1,5,1,5,1,5,1,5,1,5,1,3,1,3,1,3,null,8,{"$f":"'Améliorations - Sorts & Troupes'!B26-'Améliorations - Sorts & Troupes'!B25","v":0},{"$f":"'Améliorations - Sorts & Troupes'!C26-'Améliorations - Sorts & Troupes'!C25","v":1},{"$f":"'Améliorations - Sorts & Troupes'!D26-'Améliorations - Sorts & Troupes'!D25","v":0},{"$f":"'Améliorations - Sorts & Troupes'!E26-'Améliorations - Sorts & Troupes'!E25","v":1},{"$f":"'Améliorations - Sorts & Troupes'!F26-'Améliorations - Sorts & Troupes'!F25","v":0},{"$f":"'Améliorations - Sorts & Troupes'!G26-'Améliorations - Sorts & Troupes'!G25","v":1},{"$f":"'Améliorations - Sorts & Troupes'!H26-'Améliorations - Sorts & Troupes'!H25","v":0},{"$f":"'Améliorations - Sorts & Troupes'!I26-'Améliorations - Sorts & Troupes'!I25","v":1},{"$f":"'Améliorations - Sorts & Troupes'!J26-'Améliorations - Sorts & Troupes'!J25","v":0},{"$f":"'Améliorations - Sorts & Troupes'!K26-'Améliorations - Sorts & Troupes'!K25","v":1},{"$f":"'Améliorations - Sorts & Troupes'!L26-'Améliorations - Sorts & Troupes'!L25","v":0},{"$f":"'Améliorations - Sorts & Troupes'!M26-'Améliorations - Sorts & Troupes'!M25","v":1},{"$f":"'Améliorations - Sorts & Troupes'!N26-'Améliorations - Sorts & Troupes'!N25","v":0},{"$f":"'Améliorations - Sorts & Troupes'!O26-'Améliorations - Sorts & Troupes'!O25","v":1},{"$f":"'Améliorations - Sorts & Troupes'!P26-'Améliorations - Sorts & Troupes'!P25","v":0},{"$f":"'Améliorations - Sorts & Troupes'!Q26-'Améliorations - Sorts & Troupes'!Q25","v":1},{"$f":"'Améliorations - Sorts & Troupes'!R26-'Améliorations - Sorts & Troupes'!R25","v":0},{"$f":"'Améliorations - Sorts & Troupes'!S26-'Améliorations - Sorts & Troupes'!S25","v":1},{"$f":"'Améliorations - Sorts & Troupes'!T26-'Améliorations - Sorts & Troupes'!T25","v":1},{"$f":"'Améliorations - Sorts & Troupes'!U26-'Améliorations - Sorts & Troupes'!U25","v":3}]
[9,1,6,1,6,1,5,1,6,1,5,1,6,1,5,1,4,1,3,1,3,null,9,{"$f":"'Améliorations - Sorts & Troupes'!B27-'Améliorations - Sorts & Troupes'!B26","v":0},{"$f":"'Améliorations - Sorts & Troupes'!C27-'Améliorations - Sorts & Troupes'!C26","v":1},{"$f":"'Améliorations - Sorts & Troupes'!D27-'Améliorations - Sorts & Troupes'!D26","v":0},{"$f":"'Améliorations - Sorts & Troupes'!E27-'Améliorations - Sorts & Troupes'!E26","v":1},{"$f":"'Améliorations - Sorts & Troupes'!F27-'Améliorations - Sorts & Troupes'!F26","v":0},{"$f":"'Améliorations - Sorts & Troupes'!G27-'Améliorations - Sorts & Troupes'!G26","v":0},{"$f":"'Améliorations - Sorts & Troupes'!H27-'Améliorations - Sorts & Troupes'!H26","v":0},{"$f":"'Améliorations - Sorts & Troupes'!I27-'Améliorations - Sorts & Troupes'!I26","v":1},{"$f":"'Améliorations - Sorts & Troupes'!J27-'Améliorations - Sorts & Troupes'!J26","v":0},{"$f":"'Améliorations - Sorts & Troupes'!K27-'Améliorations - Sorts & Troupes'!K26","v":0},{"$f":"'Améliorations - Sorts & Troupes'!L27-'Améliorations - Sorts & Troupes'!L26","v":0},{"$f":"'Améliorations - Sorts & Troupes'!M27-'Améliorations - Sorts & Troupes'!M26","v":1},{"$f":"'Améliorations - Sorts & Troupes'!N27-'Améliorations - Sorts & Troupes'!N26","v":0},{"$f":"'Améliorations - Sorts & Troupes'!O27-'Améliorations - Sorts & Troupes'!O26","v":0},{"$f":"'Améliorations - Sorts & Troupes'!P27-'Améliorations - Sorts & Troupes'!P26","v":0},{"$f":"'Améliorations - Sorts & Troupes'!Q27-'Améliorations - Sorts & Troupes'!Q26","v":1},{"$f":"'Améliorations - Sorts & Troupes'!R27-'Améliorations - Sorts & Troupes'!R26","v":0},{"$f":"'Améliorations - Sorts & Troupes'!S27-'Améliorations - Sorts & Troupes'!S26","v":0},{"$f":"'Améliorations - Sorts & Troupes'!T27-'Améliorations - Sorts & Troupes'!T26","v":0},{"$f":"'Améliorations - Sorts & Troupes'!U27-'Améliorations - Sorts & Troupes'!U26","v":0}]
[10,1,7,1,7,1,6,1,7,1,6,1,6,1,6,1,4,1,4,1,5,null,10,{"$f":"'Améliorations - Sorts & Troupes'!B28-'Améliorations - Sorts & Troupes'!B27","v":0},{"$f":"'Améliorations - Sorts & Troupes'!C28-'Améliorations - Sorts & Troupes'!C27","v":1},{"$f":"'Améliorations - Sorts & Troupes'!D28-'Améliorations - Sorts & Troupes'!D27","v":0},{"$f":"'Améliorations - Sorts & Troupes'!E28-'Améliorations - Sorts & Troupes'!E27","v":1},{"$f":"'Améliorations - Sorts & Troupes'!F28-'Améliorations - Sorts & Troupes'!F27","v":0},{"$f":"'Améliorations - Sorts & Troupes'!G28-'Améliorations - Sorts & Troupes'!G27","v":1},{"$f":"'Améliorations - Sorts & Troupes'!H28-'Améliorations - Sorts & Troupes'!H27","v":0},{"$f":"'Améliorations - Sorts & Troupes'!I28-'Améliorations - Sorts & Troupes'!I27","v":1},{"$f":"'Améliorations - Sorts & Troupes'!J28-'Améliorations - Sorts & Troupes'!J27","v":0},{"$f":"'Améliorations - Sorts & Troupes'!K28-'Améliorations - Sorts & Troupes'!K27","v":1},{"$f":"'Améliorations - Sorts & Troupes'!L28-'Améliorations - Sorts & Troupes'!L27","v":0},{"$f":"'Améliorations - Sorts & Troupes'!M28-'Améliorations - Sorts & Troupes'!M27","v":0},{"$f":"'Améliorations - Sorts & Troupes'!N28-'Améliorations - Sorts & Troupes'!N27","v":0},{"$f":"'Améliorations - Sorts & Troupes'!O28-'Améliorations - Sorts & Troupes'!O27","v":1},{"$f":"'Améliorations - Sorts & Troupes'!P28-'Améliorations - Sorts & Troupes'!P27","v":0},{"$f":"'Améliorations - Sorts & Troupes'!Q28-'Améliorations - Sorts & Troupes'!Q27","v":0},{"$f":"'Améliorations - Sorts & Troupes'!R28-'Améliorations - Sorts & Troupes'!R27","v":0},{"$f":"'Améliorations - Sorts & Troupes'!S28-'Améliorations - Sorts & Troupes'!S27","v":1},{"$f":"'Améliorations - Sorts & Troupes'!T28-'Améliorations - Sorts & Troupes'!T27","v":0},{"$f":"'Améliorations - Sorts & Troupes'!U28-'Améliorations - Sorts & Troupes'!U27","v":2}]
[]
[]
["Améliorations de Troupes Noires (Disponibles et LVL Max)",null,null,null,null,null,null,null,null,null,null,null,null,null,"Améliorations de Troupes Noires (Changements)"]
["LVL HdV","Serviteur","LVL Max","Chevaucheur de Cochon","LVL Max2","Valkyrie","LVL Max3","Golem","LVL Max4","Sorcière","LVL Max5","Molosse de lave","LVL Max 3",null,"LVL HdV","Serviteur","LVL Max","Chevaucheur de Cochon","LVL Max2","Valkyrie","LVL Max3","Golem","LVL Max4","Sorcière","LVL Max5","Molosse de lave","LVL Max 3"]
[0,0,0,0,0,0,0,0,0,0,0,0,0,null,0,{"$f":"'Améliorations - Sorts & Troupes'!B33","v":0},{"$f":"'Améliorations - Sorts & Troupes'!C33","v":0},{"$f":"'Améliorations - Sorts & Troupes'!D33","v":0},{"$f":"'Améliorations - Sorts & Troupes'!E33","v":0},{"$f":"'Améliorations - Sorts & Troupes'!F33","v":0},{"$f":"'Améliorations - Sorts & Troupes'!G33","v":0},{"$f":"'Améliorations - Sorts & Troupes'!H33","v":0},{"$f":"'Améliorations - Sorts & Troupes'!I33","v":0},{"$f":"'Améliorations - Sorts & Troupes'!J33","v":0},{"$f":"'Améliorations - Sorts & Troupes'!K33","v":0},{"$f":"'Améliorations - Sorts & Troupes'!L33","v":0},{"$f":"'Améliorations - Sorts & Troupes'!M33","v":0}]
[1,0,0,0,0,0,0,0,0,0,0,0,0,null,1,{"$f":"'Améliorations - Sorts & Troupes'!B34-'Améliorations - Sorts & Troupes'!B33","v":0},{"$f":"'Améliorations - Sorts & Troupes'!C34-'Améliorations - Sorts & Troupes'!C33","v":0},{"$f":"'Améliorations - Sorts & Troupes'!D34-'Améliorations - Sorts & Troupes'!D33","v":0},{"$f":"'Améliorations - Sorts & Troupes'!E34-'Améliorations - Sorts & Troupes'!E33","v":0},{"$f":"'Améliorations - Sorts & Troupes'!F34-'Améliorations - Sorts & Troupes'!F33","v":0},{"$f":"'Améliorations - Sorts & Troupes'!G34-'Améliorations - Sorts & Troupes'!G33","v":0},{"$f":"'Améliorations - Sorts & Troupes'!H34-'Améliorations - Sorts & Troupes'!H33","v":0},{"$f":"'Améliorations - Sorts & Troupes'!I34-'Améliorations - Sorts & Troupes'!I33","v":0},{"$f":"'Améliorations - Sorts & Troupes'!J34-'Améliorations - Sorts & Troupes'!J33","v":0},{"$f":"'Améliorations - Sorts & Troupes'!K34-'Améliorations - Sorts & Troupes'!K33","v":0},{"$f":"'Améliorations - Sorts & Troupes'!L34-'Améliorations - Sorts & Troupes'!L33","v":0},{"$f":"'Améliorations - Sorts & Troupes'!M34-'Améliorations - Sorts & Troupes'!M33","v":0}]
[2,0,0,0,0,0,0,0,0,0,0,0,0,null,2,{"$f":"'Améliorations - Sorts & Troupes'!B35-'Améliorations - Sorts & Troupes'!B34","v":0},{"$f":"'Améliorations - Sorts & Troupes'!C35-'Améliorations - Sorts & Troupes'!C34","v":0},{"$f":"'Améliorations - Sorts & Troupes'!D35-'Améliorations - Sorts & Troupes'!D34","v":0},{"$f":"'Améliorations - Sorts & Troupes'!E35-'Améliorations - Sorts & Troupes'!E34","v":0},{"$f":"'Améliorations - Sorts & Troupes'!F35-'Améliorations - Sorts & Troupes'!F34","v":0},{"$f":"'Améliorations - Sorts & Troupes'!G35-'Améliorations - Sorts & Troupes'!G34","v":0},{"$f":"'Améliorations - Sorts & Troupes'!H35-'Améliorations - Sorts & Troupes'!H34","v":0},{"$f":"'Améliorations - Sorts & Troupes'!I35-'Améliorations - Sorts & Troupes'!I34","v":0},{"$f":"'Améliorations - Sorts & Troupes'!J35-'Améliorations - Sorts & Troupes'!J34","v":0},{"$f":"'Améliorations - Sorts & Troupes'!K35-'Améliorations - Sorts & Troupes'!K34","v":0},{"$f":"'Améliorations - Sorts & Troupes'!L35-'Améliorations - Sorts & Troupes'!L34","v":0},{"$f":"'Améliorations - Sorts & Troupes'!M35-'Améliorations - Sorts & Troupes'!M34","v":0}]
[3,0,0,0,0,0,0,0,0,0,0,0,0,null,3,{"$f":"'Améliorations - Sorts & Troupes'!B36-'Améliorations - Sorts & Troupes'!B35","v":0},{"$f":"'Améliorations - Sorts & Troupes'!C36-'Améliorations - Sorts & Troupes'!C35","v":0},{"$f":"'Améliorations - Sorts & Troupes'!D36-'Améliorations - Sorts & Troupes'!D35","v":0},{"$f":"'Améliorations - Sorts & Troupes'!E36-'Améliorations - Sorts & Troupes'!E35","v":0},{"$f":"'Améliorations - Sorts & Troupes'!F36-'Améliorations - Sorts & Troupes'!F35","v":0},{"$f":"'Améliorations - Sorts & Troupes'!G36-'Améliorations - Sorts & Troupes'!G35","v":0},{"$f":"'Améliorations - Sorts & Troupes'!H36-'Améliorations - Sorts & Troupes'!H35","v":0},{"$f":"'Améliorations - Sorts & Troupes'!I36-'Améliorations - Sorts & Troupes'!I35","v":0},{"$f":"'Améliorations - Sorts & Troupes'!J36-'Améliorations - Sorts & Troupes'!J35","v":0},{"$f":"'Améliorations - Sorts & Troupes'!K36-'Améliorations - Sorts & Troupes'!K35","v":0},{"$f":"'Améliorations - Sorts & Troupes'!L36-'Améliorations - Sorts & Troupes'!L35","v":0},{"$f":"'Améliorations - Sorts & Troupes'!M36-'Améliorations - Sorts & Troupes'!M35","v":0}]
[4,0,0,0,0,0,0,0,0,0,0,0,0,null,4,{"$f":"'Améliorations - Sorts & Troupes'!B37-'Améliorations - Sorts & Troupes'!B36","v":0},{"$f":"'Améliorations - Sorts & Troupes'!C37-'Améliorations - Sorts & Troupes'!C36","v":0},{"$f":"'Améliorations - Sorts & Troupes'!D37-'Améliorations - Sorts & Troupes'!D36","v":0},{"$f":"'Améliorations - Sorts & Troupes'!E37-'Améliorations - Sorts & Troupes'!E36","v":0},{"$f":"'Améliorations - Sorts & Troupes'!F37-'Améliorations - Sorts & Troupes'!F36","v":0},{"$f":"'Améliorations - Sorts & Troupes'!G37-'Améliorations - Sorts & Troupes'!G36","v":0},{"$f":"'Améliorations - Sorts & Troupes'!H37-'Améliorations - Sorts & Troupes'!H36","v":0},{"$f":"'Améliorations - Sorts & Troupes'!I37-'Améliorations - Sorts & Troupes'!I36","v":0},{"$f":"'Améliorations - Sorts & Troupes'!J37-'Améliorations - Sorts & Troupes'!J36","v":0},{"$f":"'Améliorations - Sorts & Troupes'!K37-'Améliorations - Sorts & Troupes'!K36","v":0},{"$f":"'Améliorations - Sorts & Troupes'!L37-'Améliorations - Sorts & Troupes'!L36","v":0},{"$f":"'Améliorations - Sorts & Troupes'!M37-'Améliorations - Sorts & Troupes'!M36","v":0}]
[5,0,0,0,0,0,0,0,0,0,0,0,0,null,5,{"$f":"'Améliorations - Sorts & Troupes'!B38-'Améliorations - Sorts & Troupes'!B37","v":0},{"$f":"'Améliorations - Sorts & Troupes'!C38-'Améliorations - Sorts & Troupes'!C37","v":0},{"$f":"'Améliorations - Sorts & Troupes'!D38-'Améliorations - Sorts & Troupes'!D37","v":0},{"$f":"'Améliorations - Sorts & Troupes'!E38-'Améliorations - Sorts & Troupes'!E37","v":0},{"$f":"'Améliorations - Sorts & Troupes'!F38-'Améliorations - Sorts & Troupes'!F37","v":0},{"$f":"'Améliorations - Sorts & Troupes'!G38-'Améliorations - Sorts & Troupes'!G37","v":0},{"$f":"'Améliorations - Sorts & Troupes'!H38-'Améliorations - Sorts & Troupes'!H37","v":0},{"$f":"'Améliorations - Sorts & Troupes'!I38-'Améliorations - Sorts & Troupes'!I37","v":0},{"$f":"'Améliorations - Sorts & Troupes'!J38-'Améliorations - Sorts & Troupes'!J37","v":0},{"$f":"'Améliorations - Sorts & Troupes'!K38-'Améliorations - Sorts & Troupes'!K37","v":0},{"$f":"'Améliorations - Sorts & Troupes'!L38-'Améliorations - Sorts & Troupes'!L37","v":0},{"$f":"'Améliorations - Sorts & Troupes'!M38-'Améliorations - Sorts & Troupes'!M37","v":0}]
[6,0,0,0,0,0,0,0,0,0,0,0,0,null,6,{"$f":"'Améliorations - Sorts & Troupes'!B39-'Améliorations - Sorts & Troupes'!B38","v":0},{"$f":"'Améliorations - Sorts & Troupes'!C39-'Améliorations - Sorts & Troupes'!C38","v":0},{"$f":"'Améliorations - Sorts & Troupes'!D39-'Améliorations - Sorts & Troupes'!D38","v":0},{"$f":"'Améliorations - Sorts & Troupes'!E39-'Améliorations - Sorts & Troupes'!E38","v":0},{"$f":"'Améliorations - Sorts & Troupes'!F39-'Améliorations - Sorts & Troupes'!F38","v":0},{"$f":"'Améliorations - Sorts & Troupes'!G39-'Améliorations - Sorts & Troupes'!G38","v":0},{"$f":"'Améliorations - Sorts & Troupes'!H39-'Améliorations - Sorts & Troupes'!H38","v":0},{"$f":"'Améliorations - Sorts & Troupes'!I39-'Améliorations - Sorts & Troupes'!I38","v":0},{"$f":"'Améliorations - Sorts & Troupes'!J39-'Améliorations - Sorts & Troupes'!J38","v":0},{"$f":"'Améliorations - Sorts & Troupes'!K39-'Améliorations - Sorts & Troupes'!K38","v":0},{"$f":"'Améliorations - Sorts & Troupes'!L39-'Améliorations - Sorts & Troupes'!L38","v":0},{"$f":"'Améliorations - Sorts & Troupes'!M39-'Améliorations - Sorts & Troupes'!M38","v":0}]
[7,1,2,1,2,0,0,0,0,0,0,0,0,null,7,{"$f":"'Améliorations - Sorts & Troupes'!B40-'Améliorations - Sorts & Troupes'!B39","v":1},{"$f":"'Améliorations - Sorts & Troupes'!C40-'Améliorations - Sorts & Troupes'!C39","v":2},{"$f":"'Améliorations - Sorts & Troupes'!D40-'Améliorations - Sorts & Troupes'!D39","v":1},{"$f":"'Améliorations - Sorts & Troupes'!E40-'Améliorations - Sorts & Troupes'!E39","v":2},{"$f":"'Améliorations - Sorts & Troupes'!F40-'Améliorations - Sorts & Troupes'!F39","v":0},{"$f":"'Améliorations - Sorts & Troupes'!G40-'Améliorations - Sorts & Troupes'!G39","v":0},{"$f":"'Améliorations - Sorts & Troupes'!H40-'Améliorations - Sorts & Troupes'!H39","v":0},{"$f":"'Améliorations - Sorts & Troupes'!I40-'Améliorations - Sorts & Troupes'!I39","v":0},{"$f":"'Améliorations - Sorts & Troupes'!J40-'Améliorations - Sorts & Troupes'!J39","v":0},{"$f":"'Améliorations - Sorts & Troupes'!K40-'Améliorations - Sorts & Troupes'!K39","v":0},{"$f":"'Améliorations - Sorts & Troupes'!L40-'Améliorations - Sorts & Troupes'!L39","v":0},{"$f":"'Améliorations - Sorts & Troupes'!M40-'Améliorations - Sorts & Troupes'!M39","v":0}]
[8,1,4,1,4,1,2,1,2,0,0,0,0,null,8,{"$f":"'Améliorations - Sorts & Troupes'!B41-'Améliorations - Sorts & Troupes'!B40","v":0},{"$f":"'Améliorations - Sorts & Troupes'!C41-'Améliorations - Sorts & Troupes'!C40","v":2},{"$f":"'Améliorations - Sorts & Troupes'!D41-'Améliorations - Sorts & Troupes'!D40","v":0},{"$f":"'Améliorations - Sorts & Troupes'!E41-'Améliorations - Sorts & Troupes'!E40","v":2},{"$f":"'Améliorations - Sorts & Troupes'!F41-'Améliorations - Sorts & Troupes'!F40","v":1},{"$f":"'Améliorations - Sorts & Troupes'!G41-'Améliorations - Sorts & Troupes'!G40","v":2},{"$f":"'Améliorations - Sorts & Troupes'!H41-'Améliorations - Sorts & Troupes'!H40","v":1},{"$f":"'Améliorations - Sorts & Troupes'!I41-'Améliorations - Sorts & Troupes'!I40","v":2},{"$f":"'Améliorations - Sorts & Troupes'!J41-'Améliorations - Sorts & Troupes'!J40","v":0},{"$f":"'Améliorations - Sorts & Troupes'!K41-'Améliorations - Sorts & Troupes'!K40","v":0},{"$f":"'Améliorations - Sorts & Troupes'!L41-'Améliorations - Sorts & Troupes'!L40","v":0},{"$f":"'Améliorations - Sorts & Troupes'!M41-'Améliorations - Sorts & Troupes'!M40","v":0}]
[9,1,5,1,5,1,4,1,4,1,2,1,2,null,9,{"$f":"'Améliorations - Sorts & Troupes'!B42-'Améliorations - Sorts & Troupes'!B41","v":0},{"$f":"'Améliorations - Sorts & Troupes'!C42-'Améliorations - Sorts & Troupes'!C41","v":1},{"$f":"'Améliorations - Sorts & Troupes'!D42-'Améliorations - Sorts & Troupes'!D41","v":0},{"$f":"'Améliorations - Sorts & Troupes'!E42-'Améliorations - Sorts & Troupes'!E41","v":1},{"$f":"'Améliorations - Sorts & Troupes'!F42-'Améliorations - Sorts & Troupes'!F41","v":0},{"$f":"'Améliorations - Sorts & Troupes'!G42-'Améliorations - Sorts & Troupes'!G41","v":2},{"$f":"'Améliorations - Sorts & Troupes'!H42-'Améliorations - Sorts & Troupes'!H41","v":0},{"$f":"'Améliorations - Sorts & Troupes'!I42-'Améliorations - Sorts & Troupes'!I41","v":2},{"$f":"'Améliorations - Sorts & Troupes'!J42-'Améliorations - Sorts & Troupes'!J41","v":1},{"$f":"'Améliorations - Sorts & Troupes'!K42-'Améliorations - Sorts & Troupes'!K41","v":2},{"$f":"'Améliorations - Sorts & Troupes'!L42-'Améliorations - Sorts & Troupes'!L41","v":1},{"$f":"'Améliorations - Sorts & Troupes'!M42-'Améliorations - Sorts & Troupes'!M41","v":2}]
[10,1,6,1,5,1,4,1,5,1,2,1,3,null,10,{"$f":"'Améliorations - Sorts & Troupes'!B43-'Améliorations - Sorts & Troupes'!B42","v":0},{"$f":"'Améliorations - Sorts & Troupes'!C43-'Améliorations - Sorts & Troupes'!C42","v":1},{"$f":"'Améliorations - Sorts & Troupes'!D43-'Améliorations - Sorts & Troupes'!D42","v":0},{"$f":"'Améliorations - Sorts & Troupes'!E43-'Améliorations - Sorts & Troupes'!E42","v":0},{"$f":"'Améliorations - Sorts & Troupes'!F43-'Améliorations - Sorts & Troupes'!F42","v":0},{"$f":"'Améliorations - Sorts & Troupes'!G43-'Améliorations - Sorts & Troupes'!G42","v":0},{"$f":"'Améliorations - Sorts & Troupes'!H43-'Améliorations - Sorts & Troupes'!H42","v":0},{"$f":"'Améliorations - Sorts & Troupes'!I43-'Améliorations - Sorts & Troupes'!I42","v":1},{"$f":"'Améliorations - Sorts & Troupes'!J43-'Améliorations - Sorts & Troupes'!J42","v":0},{"$f":"'Améliorations - Sorts & Troupes'!K43-'Améliorations - Sorts & Troupes'!K42","v":0},{"$f":"'Améliorations - Sorts & Troupes'!L43-'Améliorations - Sorts & Troupes'!L42","v":0},{"$f":"'Améliorations - Sorts & Troupes'!M43-'Améliorations - Sorts & Troupes'!M42","v":1}]

{"sheet":"Héros","index":8,"n_rows":13,"n_cols":11,"rows_kept":13,"cut":false,"hidden":true,"merged":[[0,0,0,4],[0,6,0,10]]}
["Héros (Disponibles & LVL Max)",null,null,null,null,null,"Héros (Changements)"]
["LVL HdV","Roi des Barbares","LVL Max","Reine des Archers","LVL Max2",null,"LVL HdV","Roi des Barbares","LVL Max","Reine des Archers","LVL Max2"]
[0,0,0,0,0,null,0,{"$f":"B3","v":0},{"$f":"C3","v":0},{"$f":"D3","v":0},{"$f":"E3","v":0}]
[1,0,0,0,0,null,1,{"$f":"B4-B3","v":0},{"$f":"C4-C3","v":0},{"$f":"D4-D3","v":0},{"$f":"E4-E3","v":0}]
[2,0,0,0,0,null,2,0,0,0,0]
[3,0,0,0,0,null,3,0,0,0,0]
[4,0,0,0,0,null,4,0,0,0,0]
[5,0,0,0,0,null,5,0,0,0,0]
[6,0,0,0,0,null,6,0,0,0,0]
[7,1,5,0,0,null,7,1,5,0,0]
[8,1,10,0,0,null,8,0,5,0,0]
[9,1,30,1,30,null,9,0,20,1,{"$f":"E12-E11","v":30}]
[10,1,40,1,40,null,10,0,10,0,10]

{"sheet":"Coûts des Améliorations","index":9,"n_rows":146,"n_cols":30,"rows_kept":146,"cut":false,"hidden":false,"merged":[[35,27,35,29],[33,0,33,29],[34,0,34,29],[81,0,81,2],[93,0,93,2],[35,18,35,20],[35,21,35,23],[35,24,35,26],[67,0,67,14],[79,0,79,29],[80,0,80,29],[68,0,68,14],[69,0,69,2],[69,6,69,8],[69,9,69,11],[69,12,69,14],[104,3,104,5],[93,15,93,17],[92,0,92,17],[91,0,91,17],[102,0,102,5],[103,0,103,5],[104,0,104,2],[93,12,93,14],[93,3,93,5],[93,6,93,8],[93,9,93,11],[69,3,69,5],[53,3,53,5],[2,9,2,11],[19,0,19,2],[19,3,19,5],[19,6,19,8],[19,9,19,11],[53,0,53,2],[2,0,2,2],[2,3,2,5],[2,6,2,8],[35,3,35,5],[35,6,35,8],[35,0,35,2],[53,9,53,11],[51,9,51,26],[81,27,81,29],[81,18,81,20],[81,21,81,23],[81,24,81,26],[81,3,81,5],[81,6,81,8],[81,9,81,11],[81,12,81,14],[81,15,81,17],[0,0,0,17],[1,12,1,17],[52,0,52,5],[51,0,51,5],[1,0,1,11],[18,0,18,14],[17,0,17,14],[19,12,19,14],[2,12,2,14],[2,15,2,17],[35,9,35,11],[35,12,35,14],[35,15,35,17],[52,9,52,26],[53,12,53,14],[53,15,53,17],[53,18,53,20],[53,21,53,23],[53,24,53,26]]}
["Coûts - Bâtiments de Ressources"]
["Élixir",null,null,null,null,null,null,null,null,null,null,null,"Or"]
["Mine d'Or",null,null,"Foreuse d'Élixir Noir",null,null,"Réserve d'Or",null,null,"Réservoir d'Élixir Noir",null,null,"Extracteur d'Élixir",null,null,"Réservoir d'Élixir"]
["LVL","Coût","Temps","LVL","Coût","Temps","LVL","Coût","Temps","LVL","Coût","Temps","LVL","Coût","Temps","LVL","Coût","Temps"]
[1,150,{"$f":"1/60","v":1.6666666666666666E-2},1,1000000,24,1,300,{"$f":"15/60","v":0.25},1,600000,24,1,150,{"$f":"1/60","v":1.6666666666666666E-2},1,300,{"$f":"15/60","v":0.25}]
[2,300,{"$f":"5/60","v":8.3333333333333329E-2},2,1500000,48,2,750,{"$f":"30/60","v":0.5},2,1200000,48,2,300,{"$f":"5/60","v":8.3333333333333329E-2},2,750,{"$f":"30/60","v":0.5}]
[3,700,{"$f":"15/60","v":0.25},3,2000000,72,3,1500,1,3,1800000,72,3,700,{"$f":"15/60","v":0.25},3,1500,1]
[4,1400,1,4,3000000,96,4,3000,2,4,2400000,96,4,1400,1,4,3000,2]
[5,3000,2,5,4000000,144,5,6000,3,5,3000000,120,5,3000,2,5,6000,3]
[6,7000,6,6,5000000,192,6,12000,4,6,3600000,144,6,7000,6,6,12000,4]
[7,14000,12,null,null,null,7,25000,6,null,null,null,7,14000,12,7,25000,6]
[8,28000,24,null,null,null,8,50000,8,null,null,null,8,28000,24,8,50000,8]
[9,56000,48,null,null,null,9,100000,12,null,null,null,9,56000,48,9,100000,12]
[10,84000,72,null,null,null,10,250000,24,null,null,null,10,84000,72,10,250000,24]
[11,168000,96,null,null,null,11,500000,48,null,null,null,11,168000,96,11,500000,48]
[12,336000,120,null,null,null,null,null,null,null,null,null,12,336000,120]
[]
["Coûts - Bâtiments d'Armée"]
["Élixir"]
["Caserne Noire",null,null,"Caserne",null,null,"Camp Militaire",null,null,"Laboratoire",null,null,"Usine de Sorts"]
["LVL","Coût","Temps","LVL","Coût","Temps","LVL","Coût","Temps","LVL","Coût","Temps","LVL","Coût","Temps"]
[1,750000,72,1,200,0.02,1,250,{"$f":"5/60","v":8.3333333333333329E-2},1,25000,{"$f":"30/60","v":0.5},1,200000,24]
[2,1250000,120,2,1000,0.25,2,2500,1,2,50000,5,2,400000,48]
[3,1750000,144,3,2500,2,3,10000,3,3,90000,12,3,800000,96]
[4,2250000,168,4,5000,4,4,100000,8,4,270000,24,4,1600000,120]
[5,2750000,192,5,10000,10,5,250000,24,5,500000,48,5,3200000,144]
[6,3500000,216,6,80000,16,6,750000,72,6,1000000,96]
[null,null,null,7,240000,24,7,2250000,120,7,2500000,120]
[null,null,null,8,700000,48,8,6750000,240,8,4000000,144]
[null,null,null,9,1500000,96]
[null,null,null,10,2000000,144]
[]
[]
["Coûts - Bâtiments de Défense"]
["Or"]
["Rempart",null,null,"Canon",null,null,"Tour d'Archers",null,null,"Mortier",null,null,"Défense Antiaérienne",null,null,"Tour de Sorciers",null,null,"Tesla Camouflée",null,null,"Arc-X",null,null,"Tour de l'Enfer",null,null,"Propulseur d'air"]
["LVL","Coût","Temps","LVL","Coût","Temps","LVL","Coût","Temps","LVL","Coût","Temps","LVL","Coût","Temps","LVL","Coût","Temps","LVL","Coût","Temps","LVL","Coût","Temps","LVL","Coût","Temps","LVL2","Coût ","Temps2"]
[1,200,0,1,250,{"$f":"1/60","v":1.6666666666666666E-2},1,1000,{"$f":"15/60","v":0.25},1,8000,8,1,22500,5,1,180000,12,1,1000000,48,1,3000000,168,1,5000000,168,1,500000,24]
[2,1000,0,2,1000,{"$f":"15/60","v":0.25},2,2000,{"$f":"30/60","v":0.5},2,32000,12,2,90000,24,2,360000,24,2,1250000,96,2,5000000,240,2,6500000,240,2,700000,72]
[3,5000,0,3,4000,{"$f":"45/60","v":0.75},3,5000,{"$f":"45/60","v":0.75},3,120000,24,3,270000,72,3,720000,48,3,1500000,144,3,7000000,336,3,8000000,336,3,1250000,120]
[4,10000,0,4,16000,2,4,20000,4,4,400000,48,4,540000,120,4,1280000,72,4,2000000,192,4,8000000,336,null,null,null,4,2400000,168]
[5,30000,0,5,50000,6,5,80000,12,5,800000,96,5,1080000,144,5,1960000,96,5,2500000,240,null,null,null,null,null,null,5,4800000,192]
[6,75000,0,6,100000,12,6,180000,24,6,1600000,120,6,2160000,192,6,2680000,120,6,3000000,288,null,null,null,null,null,null,6,7200000,216]
[7,200000,0,7,200000,24,7,360000,48,7,3200000,168,7,4320000,240,7,5360000,168,7,3500000,336]
[8,500000,0,8,400000,48,8,720000,72,8,6400000,240,8,7560000,288,8,6400000,240]
[9,1000000,0,9,800000,72,9,1500000,96]
[10,3000000,0,10,1600000,96,10,2500000,120]
[11,4000000,0,11,3200000,120,11,4500000,144]
[null,null,null,12,6400000,144,12,6500000,168]
[null,null,null,13,7500000,168,13,7500000,192]
[]
["Coûts - Bâtiments Autres",null,null,null,null,null,null,null,null,"Coûts - Pièges"]
["Or",null,null,null,null,null,null,null,null,"Or"]
["Château de Clan",null,null,"Hôtel de Ville",null,null,null,null,null,"Bombe",null,null,"Mine chercheuse",null,null,"Bombe géante",null,null,"Bombe aérienne",null,null,"Piège squelettique",null,null,"Piège à ressort"]
["LVL","Coût","Temps","LVL","Coût","Temps",null,null,null,"LVL","Coût","Temps","LVL","Coût","Temps","LVL","Coût","Temps","LVL","Coût","Temps","LVL","Coût","Temps","LVL","Coût","Temps"]
[1,40000,0,1,0,0,null,null,null,1,400,0,1,15000,0,1,12500,0,1,4000,0,1,6000,0,1,2000,0]
[2,100000,6,2,1000,{"$f":"5/60","v":8.3333333333333329E-2},null,null,null,2,1000,0.25,2,2000000,24,2,75000,6,2,20000,4,2,600000,6]
[3,800000,24,3,4000,3,null,null,null,3,10000,2,3,4000000,72,3,750000,24,3,200000,12,3,1300000,24]
[4,1800000,48,4,25000,24,null,null,null,4,100000,8,null,null,null,4,2500000,72,4,1500000,24]
[5,5000000,168,5,150000,48,null,null,null,5,1000000,24]
[6,7000000,336,6,750000,96,null,null,null,6,1500000,48]
[null,null,null,7,1200000,144]
[null,null,null,8,2000000,192]
[null,null,null,9,3000000,240]
[null,null,null,10,4000000,336]
[]
[]
["Coûts - Améliorations de Sorts"]
["Élixir"]
["Sort de Foudre",null,null,"Sort de Guérison",null,null,"Sort de Rage",null,null,"Sort de Saut",null,null,"Sort de Gel"]
["LVL","Coût","Temps","LVL","Coût","Temps","LVL","Coût","Temps","LVL","Coût","Temps","LVL","Coût","Temps"]
[1,0,0,1,0,0,1,0,0,1,0,0,1,0,0]
[2,200000,24,2,300000,24,2,450000,48,2,4000000,120,2,4000000,120]
[3,500000,48,3,600000,48,3,900000,72,null,null,null,3,5000000,168]
[4,1000000,72,4,1200000,72,4,1800000,120,null,null,null,4,6500000,240]
[5,2000000,96,5,2400000,120,5,3000000,168,null,null,null,5,8000000,336]
[6,8000000,336,6,4800000,168]
[]
[]
["Coûts - Améliroations de Troupes Normales"]
["Élixir"]
["Barbare",null,null,"Archer",null,null,"Gobelin",null,null,"Géant",null,null,"Sapeur",null,null,"Ballon",null,null,"Sorcier",null,null,"Guérisseuse",null,null,"Dragon",null,null,"P.E.K.K.A"]
["LVL","Coût","Temps","LVL","Coût","Temps","LVL","Coût","Temps","LVL","Coût","Temps","LVL","Coût","Temps","LVL","Coût","Temps","LVL","Coût","Temps","LVL","Coût","Temps","LVL","Coût","Temps","LVL","Coût","Temps"]
[1,0,0,1,0,0,1,0,0,1,0,0,1,0,0,1,0,0,1,0,0,1,0,0,1,0,0,1,0,0]
[2,50000,6,2,50000,12,2,50000,12,2,100000,24,2,100000,24,2,150000,24,2,150000,24,2,750000,72,2,2000000,168,2,3000000,240]
[3,150000,24,3,250000,48,3,250000,48,3,250000,48,3,250000,48,3,450000,48,3,450000,48,3,1500000,120,3,3000000,240,3,6000000,288]
[4,500000,72,4,750000,72,4,750000,72,4,750000,72,4,750000,72,4,1350000,72,4,1350000,72,4,3000000,168,4,8000000,288,4,8000000,336]
[5,1500000,120,5,2250000,120,5,2250000,120,5,2250000,120,5,2250000,120,5,2500000,120,5,2500000,120]
[6,4500000,240,6,6000000,350,6,4500000,240,6,6000000,240,6,6750000,240,6,6000000,240,6,7500000,336]
[7,7500000,336,7,7500000,336,null,null,null,7,7000000,336]
[]
["Coûts - Améliorations de Troupes Noires"]
["Élixir Noir"]
["Serviteur",null,null,"Chevaucheur de Cochon",null,null,"Valkyrie",null,null,"Golem",null,null,"Sorcière",null,null,"Molosse de lave"]
["LVL","Coût","Temps","LVL","Coût","Temps","LVL","Coût","Temps","LVL","Coût","Temps","LVL","Coût","Temps","LVL ","Coût ","Temps "]
[1,0,0,1,0,0,1,0,0,1,0,0,1,0,0,1,0,0]
[2,10000,120,2,20000,192,2,50000,240,2,60000,240,2,75000,240,2,60000,240]
[3,20000,144,3,30000,240,3,60000,288,3,70000,288,null,null,null,3,70000,288]
[4,30000,168,4,40000,288,4,70000,336,4,80000,336]
[5,40000,240,5,50000,336,null,null,null,5,90000,336]
[6,100000,336]
[]
["Coûts - Héros"]
["Élixir Noir"]
["Roi des Barbares",null,null,"Reine des Archers"]
["LVL","Coût","Temps","LVL","Coût","Temps"]
[1,10000,0,1,40000,0]
[2,12500,12,2,22500,12]
[3,15000,24,3,25000,24]
[4,17500,36,4,27500,36]
[5,20000,48,5,30000,48]
[6,22500,60,6,32500,60]
[7,25000,72,7,35000,72]
[8,30000,84,8,40000,84]
[9,35000,96,9,45000,96]
[10,40000,108,10,50000,108]
[11,45000,120,11,55000,120]
[12,50000,132,12,60000,132]
[13,55000,144,13,65000,144]
[14,60000,156,14,70000,156]
[15,65000,168,15,75000,168]
[16,70000,180,16,80000,168]
[17,75000,192,17,85000,168]
[18,80000,204,18,90000,168]
[19,85000,216,19,95000,168]
[20,90000,228,20,100000,168]
[21,95000,240,21,105000,168]
[22,100000,252,22,110000,168]
[23,105000,264,23,115000,168]
[24,110000,276,24,120000,168]
[25,115000,288,25,125000,168]
[26,120000,300,26,130000,168]
[27,125000,312,27,135000,168]
[28,130000,324,28,140000,168]
[29,135000,336,29,145000,168]
[30,140000,348,30,150000,168]
[31,145000,360,31,155000,168]
[32,150000,372,32,160000,168]
[33,155000,384,33,165000,168]
[34,160000,396,34,170000,168]
[35,165000,408,35,175000,168]
[36,170000,420,36,180000,168]
[37,175000,432,37,185000,168]
[38,180000,444,38,190000,168]
[39,185000,456,39,195000,168]
[40,190000,468,40,200000,168]

{"sheet":"Gains et Stockage","index":10,"n_rows":16,"n_cols":15,"rows_kept":16,"cut":false,"hidden":true,"merged":[[0,0,0,14],[2,13,2,14],[2,0,2,2],[2,10,2,12],[2,5,2,7],[2,3,2,4],[1,0,1,4],[1,5,1,9],[2,8,2,9],[1,10,1,14]]}
["Gains"]
["Or",null,null,null,null,"Élixir",null,null,null,null,"Élixir Noir"]
["Mine d'Or",null,null,"Réserve d'Or",null,"Extracteur d'Élixir",null,null,"Réservoir d'Élixir",null,"Foreuse d'Élixir Noir",null,null,"Réservoir d'Élixir Noir"]
["LVL","Production","Capacité","LVL","Capacité","LVL","Production","Capacité","LVL","Capacité","LVL","Production","Capacité","LVL","Capacité"]
[1,200,500,1,1500,1,200,500,1,1500,1,20,120,1,10000]
[2,400,1000,2,3000,2,400,1000,2,3000,2,30,240,2,20000]
[3,600,1500,3,6000,3,600,1500,3,6000,3,45,450,3,40000]
[4,800,2500,4,12000,4,800,2500,4,12000,4,80,720,4,80000]
[5,1000,10000,5,25000,5,1000,10000,5,25000,5,80,1120,5,150000]
[6,1300,20000,6,50000,6,1300,20000,6,50000,6,100,1600,6,200000]
[7,1600,30000,7,100000,7,1600,30000,7,100000]
[8,1900,50000,8,250000,8,1900,50000,8,250000]
[9,2200,75000,9,500000,9,2200,75000,9,500000]
[10,2500,100000,10,1000000,10,2500,100000,10,1000000]
[11,3000,150000,11,2000000,11,3000,150000,11,2000000]
[12,3500,200000,null,null,12,3500,200000]

{"sheet":"Trophées","index":11,"n_rows":23,"n_cols":9,"rows_kept":23,"cut":false,"hidden":true,"merged":[[0,0,0,4],[0,6,0,8]]}
["Trophy Bonus",null,null,null,null,null,"Trophy Loot Multiplier"]
["Classement","Trophy","Bonus d'Or","Bonus d'Élixir","Bonus d'Élixir Noir",null,"Classement","Trophy Difference","Multiplicateur de Loot"]
[{"$f":"IF(AND('Combats - Loots'!$E$2>=B3,'Combats - Loots'!$E$2<B4),1,\"\")","v":""},0,0,0,0,null,{"$f":"IF(AND('Combats - Loots'!$D$2>=H3,'Combats - Loots'!$D$2<H4),1,\"\")","v":""},-10,0.05]
[{"$f":"IF(AND('Combats - Loots'!$E$2>=B4,'Combats - Loots'!$E$2<B5),1,\"\")","v":""},400,600,6000,0,null,{"$f":"IF(AND('Combats - Loots'!$D$2>=H4,'Combats - Loots'!$D$2<H5),1,\"\")","v":""},-9,0.05]
[{"$f":"IF(AND('Combats - Loots'!$E$2>=B5,'Combats - Loots'!$E$2<B6),1,\"\")","v":""},500,800,8000,0,null,{"$f":"IF(AND('Combats - Loots'!$D$2>=H5,'Combats - Loots'!$D$2<H6),1,\"\")","v":""},-8,0.05]
[{"$f":"IF(AND('Combats - Loots'!$E$2>=B6,'Combats - Loots'!$E$2<B7),1,\"\")","v":""},600,1000,1000,0,null,{"$f":"IF(AND('Combats - Loots'!$D$2>=H6,'Combats - Loots'!$D$2<H7),1,\"\")","v":""},-7,0.05]
[{"$f":"IF(AND('Combats - Loots'!$E$2>=B7,'Combats - Loots'!$E$2<B8),1,\"\")","v":""},800,2000,2000,0,null,{"$f":"IF(AND('Combats - Loots'!$D$2>=H7,'Combats - Loots'!$D$2<H8),1,\"\")","v":""},-6,0.05]
[{"$f":"IF(AND('Combats - Loots'!$E$2>=B8,'Combats - Loots'!$E$2<B9),1,\"\")","v":""},1000,3000,3000,0,null,{"$f":"IF(AND('Combats - Loots'!$D$2>=H8,'Combats - Loots'!$D$2<H9),1,\"\")","v":""},-5,0.05]
[{"$f":"IF(AND('Combats - Loots'!$E$2>=B9,'Combats - Loots'!$E$2<B10),1,\"\")","v":""},1200,4000,4000,0,null,{"$f":"IF(AND('Combats - Loots'!$D$2>=H9,'Combats - Loots'!$D$2<H10),1,\"\")","v":""},-4,0.05]
[null,1400,8000,8000,0,null,{"$f":"IF(AND('Combats - Loots'!$D$2>=H10,'Combats - Loots'!$D$2<H11),1,\"\")","v":""},-3,0.25]
[1,1600,11000,11000,0,null,{"$f":"IF(AND('Combats - Loots'!$D$2>=H11,'Combats - Loots'!$D$2<H12),1,\"\")","v":""},-2,0.5]
[{"$f":"IF(AND('Combats - Loots'!$E$2>=B12,'Combats - Loots'!$E$2<B13),1,\"\")","v":""},1800,14000,14000,0,null,{"$f":"IF(AND('Combats - Loots'!$D$2>=H12,'Combats - Loots'!$D$2<H13),1,\"\")","v":""},-1,0.9]
[{"$f":"IF(AND('Combats - Loots'!$E$2>=B13,'Combats - Loots'!$E$2<B14),1,\"\")","v":""},2000,35000,35000,100,null,1,0,1]
[{"$f":"IF(AND('Combats - Loots'!$E$2>=B14,'Combats - Loots'!$E$2<B15),1,\"\")","v":""},2200,50000,50000,200,null,{"$f":"IF(AND('Combats - Loots'!$D$2>=H14,'Combats - Loots'!$D$2<H15),1,\"\")","v":""},1,1.1000000000000001]
[null,2400,60000,60000,300,null,null,2,1.5]
[{"$f":"IF(AND('Combats - Loots'!$E$2>=B16,'Combats - Loots'!$E$2<B17),1,\"\")","v":""},2600,100000,100000,500,null,{"$f":"IF(AND('Combats - Loots'!$D$2>=H16,'Combats - Loots'!$D$2<H17),1,\"\")","v":""},3,2]
[{"$f":"IF(AND('Combats - Loots'!$E$2>=B17,'Combats - Loots'!$E$2<B18),1,\"\")","v":""},2800,120000,120000,700,null,{"$f":"IF(AND('Combats - Loots'!$D$2>=H17,'Combats - Loots'!$D$2<H18),1,\"\")","v":""},4,2]
[{"$f":"IF(AND('Combats - Loots'!$E$2>=B18,'Combats - Loots'!$E$2<B19),1,\"\")","v":""},3000,140000,140000,900,null,{"$f":"IF(AND('Combats - Loots'!$D$2>=H18,'Combats - Loots'!$D$2<H19),1,\"\")","v":""},5,2]
[{"$f":"IF(AND('Combats - Loots'!$E$2>=B19,'Combats - Loots'!$E$2<B20),1,\"\")","v":""},3200,180000,180000,1200,null,{"$f":"IF(AND('Combats - Loots'!$D$2>=H19,'Combats - Loots'!$D$2<H20),1,\"\")","v":""},6,2]
[{"$f":"IF(AND('Combats - Loots'!$E$2>=B20,'Combats - Loots'!$E$2<B21),1,\"\")","v":""},10000,"/","/","/",null,{"$f":"IF(AND('Combats - Loots'!$D$2>=H20,'Combats - Loots'!$D$2<H21),1,\"\")","v":""},7,2]
[null,null,null,null,null,null,{"$f":"IF(AND('Combats - Loots'!$D$2>=H21,'Combats - Loots'!$D$2<H22),1,\"\")","v":""},8,2]
[null,null,null,null,null,null,{"$f":"IF(AND('Combats - Loots'!$D$2>=H22,'Combats - Loots'!$D$2<H23),1,\"\")","v":""},9,2]
[null,null,null,null,null,null,{"$f":"IF(AND('Combats - Loots'!$D$2>=H23,'Combats - Loots'!$D$2<H24),1,\"\")","v":""},10,2]

{"sheet":"Coûts de Formation","index":12,"n_rows":50,"n_cols":40,"rows_kept":50,"cut":false,"hidden":true,"merged":[[2,16,2,19],[0,0,0,19],[26,0,26,3],[26,4,26,7],[26,8,26,11],[26,12,26,15],[1,0,1,19],[2,0,2,3],[2,4,2,7],[2,8,2,11],[2,12,2,15],[26,16,26,19],[25,0,25,23],[24,0,24,23],[14,36,14,39],[12,0,12,39],[13,0,13,39],[14,0,14,3],[14,4,14,7],[14,8,14,11],[14,12,14,15],[14,16,14,19],[14,20,14,23],[14,24,14,27],[37,0,37,1],[37,2,37,3],[37,4,37,5],[14,28,14,31],[14,32,14,35],[37,6,37,7],[26,20,26,23],[36,0,36,7]]}
["Costs - Spells Creation"]
["Elixir"]
["Sort de Foudre",null,null,null,"Sort de Guérison",null,null,null,"Sort de Rage",null,null,null,"Sort de Saut",null,null,null,"Sort de Gel"]
["LVL","Espace","Coût","Temps","LVL","Espace","Coût","Temps","LVL","Espace","Coût","Temps","LVL","Espace","Coût","Temps","LVL","Espace","Coût","Temps"]
[1,1,15000,1800,1,1,15000,1800,1,1,23000,2700,1,1,23000,2700,1,1,26000,2700]
[2,1,16500,1800,2,1,16500,1800,2,1,25000,2700,2,1,29000,2700,2,1,29000,2700]
[3,1,18000,1800,3,1,18000,1800,3,1,27000,2700,null,null,null,null,3,1,31000,2700]
[4,1,20000,1800,4,1,20000,1800,4,1,30000,2700,null,null,null,null,4,1,33000,2700]
[5,1,22000,1800,5,1,22000,1800,5,1,33000,2700]
[6,1,24000,1800,6,1,24000,1800]
[]
[]
["Coûts - Formation de Troupes Normales"]
["Élixir"]
["Barbare",null,null,null,"Archer",null,null,null,"Gobelin",null,null,null,"Géant",null,null,null,"Sapeur",null,null,null,"Ballon",null,null,null,"Sorcier",null,null,null,"Guérisseuse",null,null,null,"Dragon",null,null,null,"P.E.K.K.A"]
["LVL","Espace","Coût","Temps","LVL","Espace","Coût","Temps","LVL","Espace","Coût","Temps","LVL","Espace","Coût","Temps","LVL","Espace","Coût","Temps","LVL","Espace","Coût","Temps","LVL","Espace","Coût","Temps","LVL","Espace","Coût","Temps","LVL","Espace","Coût","Temps","LVL","Espace","Coût","Temps"]
[1,1,25,20,1,1,50,25,1,1,25,30,1,5,500,120,1,2,1000,120,1,5,2000,480,1,4,1500,480,1,14,5000,900,1,20,25000,1800,1,25,30000,2700]
[2,1,40,20,2,1,80,25,2,1,40,30,2,5,1000,120,2,2,1500,120,2,5,2500,480,2,4,2000,480,2,14,6000,900,2,20,30000,1800,2,25,35000,2700]
[3,1,60,20,3,1,120,25,3,1,60,30,3,5,1500,120,3,2,2000,120,3,5,3000,480,3,4,2500,480,3,14,8000,900,3,20,36000,1800,3,25,42000,2700]
[4,1,80,20,4,1,160,25,4,1,80,30,4,5,2000,120,4,2,2500,120,4,5,3500,480,4,4,3000,480,4,14,10000,900,4,20,42000,1800,4,25,50000,2700]
[5,1,100,20,5,1,200,25,5,1,100,30,5,5,2500,120,5,2,3000,120,5,5,4000,480,5,4,3500,480]
[6,1,150,20,6,1,300,25,6,1,150,30,6,5,3000,120,6,2,3500,120,6,5,4500,480,6,4,4000,480]
[7,1,200,20,7,1,400,25,null,null,null,null,7,5,3500,120]
[]
["Coûts - Formation de Troupes Noires"]
["Élixir Noir"]
["Serviteur",null,null,null,"Chevaucheur de Cochon",null,null,null,"Valkyrie",null,null,null,"Golem",null,null,null,"Sorcière",null,null,null,"Molosse de lave"]
["LVL","Espace","Coût","Temps","LVL","Espace","Coût","Temps","LVL","Espace","Coût","Temps","LVL","Espace","Coût","Temps","LVL","Espace","Coût","Temps","LVL","Espace","Coût","Temps"]
[1,2,6,45,1,5,40,120,1,8,70,900,1,30,450,2700,1,12,250,1200,1,30,390,2700]
[2,2,7,45,2,5,45,120,2,8,100,900,2,30,525,2700,2,12,350,1200,2,30,450,2700]
[3,2,8,45,3,5,52,120,3,8,130,900,3,30,600,2700,null,null,null,null,3,30,510,2700]
[4,2,9,45,4,5,58,120,4,8,160,900,4,30,675,2700]
[5,2,10,45,5,5,65,120,null,null,null,null,5,30,750,2700]
[6,2,11,45]
[]
[]
["Capacité - Bâtiments"]
["Laboratory ",null,"Caserne",null,"Caserne Noire",null,"Camp Militaire"]
["LVL","Capacité","LVL","Capacité","LVL","Capacité","LVL","Capacité"]
[1,1,0,0,0,0,0,0]
[2,2,1,20,1,40,1,20]
[3,3,2,25,2,50,2,30]
[4,4,3,30,3,60,3,35]
[5,5,4,35,4,70,4,40]
[null,null,5,40,5,80,5,45]
[null,null,6,45,6,90,6,50]
[null,null,7,50,null,null,7,55]
[null,null,8,55,null,null,8,60]
[null,null,9,60]
[null,null,10,75]

{"sheet":"Calendrier","index":13,"n_rows":1000,"n_cols":1,"rows_kept":1000,"cut":false,"hidden":true,"merged":[]}
["Calendrier"]
[{"$f":"Planning!$C$2","v":"2015-06-04"}]
[{"$f":"$A2+Planning!$D$2","v":"2015-06-04T06:00:00"}]
[{"$f":"$A3+Planning!$D$2","v":"2015-06-04T12:00:00"}]
[{"$f":"$A4+Planning!$D$2","v":"2015-06-04T18:00:00"}]
[{"$f":"$A5+Planning!$D$2","v":"2015-06-05"}]
[{"$f":"$A6+Planning!$D$2","v":"2015-06-05T06:00:00"}]
[{"$f":"$A7+Planning!$D$2","v":"2015-06-05T12:00:00"}]
[{"$f":"$A8+Planning!$D$2","v":"2015-06-05T18:00:00"}]
[{"$f":"$A9+Planning!$D$2","v":"2015-06-06"}]
[{"$f":"$A10+Planning!$D$2","v":"2015-06-06T06:00:00"}]
[{"$f":"$A11+Planning!$D$2","v":"2015-06-06T12:00:00"}]
[{"$f":"$A12+Planning!$D$2","v":"2015-06-06T18:00:00"}]
[{"$f":"$A13+Planning!$D$2","v":"2015-06-07"}]
[{"$f":"$A14+Planning!$D$2","v":"2015-06-07T06:00:00"}]
[{"$f":"$A15+Planning!$D$2","v":"2015-06-07T12:00:00"}]
[{"$f":"$A16+Planning!$D$2","v":"2015-06-07T18:00:00"}]
[{"$f":"$A17+Planning!$D$2","v":"2015-06-08"}]
[{"$f":"$A18+Planning!$D$2","v":"2015-06-08T06:00:00"}]
[{"$f":"$A19+Planning!$D$2","v":"2015-06-08T12:00:00"}]
[{"$f":"$A20+Planning!$D$2","v":"2015-06-08T18:00:00"}]
[{"$f":"$A21+Planning!$D$2","v":"2015-06-09"}]
[{"$f":"$A22+Planning!$D$2","v":"2015-06-09T06:00:00"}]
[{"$f":"$A23+Planning!$D$2","v":"2015-06-09T12:00:00"}]
[{"$f":"$A24+Planning!$D$2","v":"2015-06-09T18:00:00"}]
[{"$f":"$A25+Planning!$D$2","v":"2015-06-10"}]
[{"$f":"$A26+Planning!$D$2","v":"2015-06-10T06:00:00"}]
[{"$f":"$A27+Planning!$D$2","v":"2015-06-10T12:00:00"}]
[{"$f":"$A28+Planning!$D$2","v":"2015-06-10T18:00:00"}]
[{"$f":"$A29+Planning!$D$2","v":"2015-06-11"}]
[{"$f":"$A30+Planning!$D$2","v":"2015-06-11T06:00:00"}]
[{"$f":"$A31+Planning!$D$2","v":"2015-06-11T12:00:00"}]
[{"$f":"$A32+Planning!$D$2","v":"2015-06-11T18:00:00"}]
[{"$f":"$A33+Planning!$D$2","v":"2015-06-12"}]
[{"$f":"$A34+Planning!$D$2","v":"2015-06-12T06:00:00"}]
[{"$f":"$A35+Planning!$D$2","v":"2015-06-12T12:00:00"}]
[{"$f":"$A36+Planning!$D$2","v":"2015-06-12T18:00:00"}]
[{"$f":"$A37+Planning!$D$2","v":"2015-06-13"}]
[{"$f":"$A38+Planning!$D$2","v":"2015-06-13T06:00:00"}]
[{"$f":"$A39+Planning!$D$2","v":"2015-06-13T12:00:00"}]
[{"$f":"$A40+Planning!$D$2","v":"2015-06-13T18:00:00"}]
[{"$f":"$A41+Planning!$D$2","v":"2015-06-14"}]
[{"$f":"$A42+Planning!$D$2","v":"2015-06-14T06:00:00"}]
[{"$f":"$A43+Planning!$D$2","v":"2015-06-14T12:00:00"}]
[{"$f":"$A44+Planning!$D$2","v":"2015-06-14T18:00:00"}]
[{"$f":"$A45+Planning!$D$2","v":"2015-06-15"}]
[{"$f":"$A46+Planning!$D$2","v":"2015-06-15T06:00:00"}]
[{"$f":"$A47+Planning!$D$2","v":"2015-06-15T12:00:00"}]
[{"$f":"$A48+Planning!$D$2","v":"2015-06-15T18:00:00"}]
[{"$f":"$A49+Planning!$D$2","v":"2015-06-16"}]
[{"$f":"$A50+Planning!$D$2","v":"2015-06-16T06:00:00"}]
[{"$f":"$A51+Planning!$D$2","v":"2015-06-16T12:00:00"}]
[{"$f":"$A52+Planning!$D$2","v":"2015-06-16T18:00:00"}]
[{"$f":"$A53+Planning!$D$2","v":"2015-06-17"}]
[{"$f":"$A54+Planning!$D$2","v":"2015-06-17T06:00:00"}]
[{"$f":"$A55+Planning!$D$2","v":"2015-06-17T12:00:00"}]
[{"$f":"$A56+Planning!$D$2","v":"2015-06-17T18:00:00"}]
[{"$f":"$A57+Planning!$D$2","v":"2015-06-18"}]
[{"$f":"$A58+Planning!$D$2","v":"2015-06-18T06:00:00"}]
[{"$f":"$A59+Planning!$D$2","v":"2015-06-18T12:00:00"}]
[{"$f":"$A60+Planning!$D$2","v":"2015-06-18T18:00:00"}]
[{"$f":"$A61+Planning!$D$2","v":"2015-06-19"}]
[{"$f":"$A62+Planning!$D$2","v":"2015-06-19T06:00:00"}]
[{"$f":"$A63+Planning!$D$2","v":"2015-06-19T12:00:00"}]
[{"$f":"$A64+Planning!$D$2","v":"2015-06-19T18:00:00"}]
[{"$f":"$A65+Planning!$D$2","v":"2015-06-20"}]
[{"$f":"$A66+Planning!$D$2","v":"2015-06-20T06:00:00"}]
[{"$f":"$A67+Planning!$D$2","v":"2015-06-20T12:00:00"}]
[{"$f":"$A68+Planning!$D$2","v":"2015-06-20T18:00:00"}]
[{"$f":"$A69+Planning!$D$2","v":"2015-06-21"}]
[{"$f":"$A70+Planning!$D$2","v":"2015-06-21T06:00:00"}]
[{"$f":"$A71+Planning!$D$2","v":"2015-06-21T12:00:00"}]
[{"$f":"$A72+Planning!$D$2","v":"2015-06-21T18:00:00"}]
[{"$f":"$A73+Planning!$D$2","v":"2015-06-22"}]
[{"$f":"$A74+Planning!$D$2","v":"2015-06-22T06:00:00"}]
[{"$f":"$A75+Planning!$D$2","v":"2015-06-22T12:00:00"}]
[{"$f":"$A76+Planning!$D$2","v":"2015-06-22T18:00:00"}]
[{"$f":"$A77+Planning!$D$2","v":"2015-06-23"}]
[{"$f":"$A78+Planning!$D$2","v":"2015-06-23T06:00:00"}]
[{"$f":"$A79+Planning!$D$2","v":"2015-06-23T12:00:00"}]
[{"$f":"$A80+Planning!$D$2","v":"2015-06-23T18:00:00"}]
[{"$f":"$A81+Planning!$D$2","v":"2015-06-24"}]
[{"$f":"$A82+Planning!$D$2","v":"2015-06-24T06:00:00"}]
[{"$f":"$A83+Planning!$D$2","v":"2015-06-24T12:00:00"}]
[{"$f":"$A84+Planning!$D$2","v":"2015-06-24T18:00:00"}]
[{"$f":"$A85+Planning!$D$2","v":"2015-06-25"}]
[{"$f":"$A86+Planning!$D$2","v":"2015-06-25T06:00:00"}]
[{"$f":"$A87+Planning!$D$2","v":"2015-06-25T12:00:00"}]
[{"$f":"$A88+Planning!$D$2","v":"2015-06-25T18:00:00"}]
[{"$f":"$A89+Planning!$D$2","v":"2015-06-26"}]
[{"$f":"$A90+Planning!$D$2","v":"2015-06-26T06:00:00"}]
[{"$f":"$A91+Planning!$D$2","v":"2015-06-26T12:00:00"}]
[{"$f":"$A92+Planning!$D$2","v":"2015-06-26T18:00:00"}]
[{"$f":"$A93+Planning!$D$2","v":"2015-06-27"}]
[{"$f":"$A94+Planning!$D$2","v":"2015-06-27T06:00:00"}]
[{"$f":"$A95+Planning!$D$2","v":"2015-06-27T12:00:00"}]
[{"$f":"$A96+Planning!$D$2","v":"2015-06-27T18:00:00"}]
[{"$f":"$A97+Planning!$D$2","v":"2015-06-28"}]
[{"$f":"$A98+Planning!$D$2","v":"2015-06-28T06:00:00"}]
[{"$f":"$A99+Planning!$D$2","v":"2015-06-28T12:00:00"}]
[{"$f":"$A100+Planning!$D$2","v":"2015-06-28T18:00:00"}]
[{"$f":"$A101+Planning!$D$2","v":"2015-06-29"}]
[{"$f":"$A102+Planning!$D$2","v":"2015-06-29T06:00:00"}]
[{"$f":"$A103+Planning!$D$2","v":"2015-06-29T12:00:00"}]
[{"$f":"$A104+Planning!$D$2","v":"2015-06-29T18:00:00"}]
[{"$f":"$A105+Planning!$D$2","v":"2015-06-30"}]
[{"$f":"$A106+Planning!$D$2","v":"2015-06-30T06:00:00"}]
[{"$f":"$A107+Planning!$D$2","v":"2015-06-30T12:00:00"}]
[{"$f":"$A108+Planning!$D$2","v":"2015-06-30T18:00:00"}]
[{"$f":"$A109+Planning!$D$2","v":"2015-07-01"}]
[{"$f":"$A110+Planning!$D$2","v":"2015-07-01T06:00:00"}]
[{"$f":"$A111+Planning!$D$2","v":"2015-07-01T12:00:00"}]
[{"$f":"$A112+Planning!$D$2","v":"2015-07-01T18:00:00"}]
[{"$f":"$A113+Planning!$D$2","v":"2015-07-02"}]
[{"$f":"$A114+Planning!$D$2","v":"2015-07-02T06:00:00"}]
[{"$f":"$A115+Planning!$D$2","v":"2015-07-02T12:00:00"}]
[{"$f":"$A116+Planning!$D$2","v":"2015-07-02T18:00:00"}]
[{"$f":"$A117+Planning!$D$2","v":"2015-07-03"}]
[{"$f":"$A118+Planning!$D$2","v":"2015-07-03T06:00:00"}]
[{"$f":"$A119+Planning!$D$2","v":"2015-07-03T12:00:00"}]
[{"$f":"$A120+Planning!$D$2","v":"2015-07-03T18:00:00"}]
[{"$f":"$A121+Planning!$D$2","v":"2015-07-04"}]
[{"$f":"$A122+Planning!$D$2","v":"2015-07-04T06:00:00"}]
[{"$f":"$A123+Planning!$D$2","v":"2015-07-04T12:00:00"}]
[{"$f":"$A124+Planning!$D$2","v":"2015-07-04T18:00:00"}]
[{"$f":"$A125+Planning!$D$2","v":"2015-07-05"}]
[{"$f":"$A126+Planning!$D$2","v":"2015-07-05T06:00:00"}]
[{"$f":"$A127+Planning!$D$2","v":"2015-07-05T12:00:00"}]
[{"$f":"$A128+Planning!$D$2","v":"2015-07-05T18:00:00"}]
[{"$f":"$A129+Planning!$D$2","v":"2015-07-06"}]
[{"$f":"$A130+Planning!$D$2","v":"2015-07-06T06:00:00"}]
[{"$f":"$A131+Planning!$D$2","v":"2015-07-06T12:00:00"}]
[{"$f":"$A132+Planning!$D$2","v":"2015-07-06T18:00:00"}]
[{"$f":"$A133+Planning!$D$2","v":"2015-07-07"}]
[{"$f":"$A134+Planning!$D$2","v":"2015-07-07T06:00:00"}]
[{"$f":"$A135+Planning!$D$2","v":"2015-07-07T12:00:00"}]
[{"$f":"$A136+Planning!$D$2","v":"2015-07-07T18:00:00"}]
[{"$f":"$A137+Planning!$D$2","v":"2015-07-08"}]
[{"$f":"$A138+Planning!$D$2","v":"2015-07-08T06:00:00"}]
[{"$f":"$A139+Planning!$D$2","v":"2015-07-08T12:00:00"}]
[{"$f":"$A140+Planning!$D$2","v":"2015-07-08T18:00:00"}]
[{"$f":"$A141+Planning!$D$2","v":"2015-07-09"}]
[{"$f":"$A142+Planning!$D$2","v":"2015-07-09T06:00:00"}]
[{"$f":"$A143+Planning!$D$2","v":"2015-07-09T12:00:00"}]
[{"$f":"$A144+Planning!$D$2","v":"2015-07-09T18:00:00"}]
[{"$f":"$A145+Planning!$D$2","v":"2015-07-10"}]
[{"$f":"$A146+Planning!$D$2","v":"2015-07-10T06:00:00"}]
[{"$f":"$A147+Planning!$D$2","v":"2015-07-10T12:00:00"}]
[{"$f":"$A148+Planning!$D$2","v":"2015-07-10T18:00:00"}]
[{"$f":"$A149+Planning!$D$2","v":"2015-07-11"}]
[{"$f":"$A150+Planning!$D$2","v":"2015-07-11T06:00:00"}]
[{"$f":"$A151+Planning!$D$2","v":"2015-07-11T12:00:00"}]
[{"$f":"$A152+Planning!$D$2","v":"2015-07-11T18:00:00"}]
[{"$f":"$A153+Planning!$D$2","v":"2015-07-12"}]
[{"$f":"$A154+Planning!$D$2","v":"2015-07-12T06:00:00"}]
[{"$f":"$A155+Planning!$D$2","v":"2015-07-12T12:00:00"}]
[{"$f":"$A156+Planning!$D$2","v":"2015-07-12T18:00:00"}]
[{"$f":"$A157+Planning!$D$2","v":"2015-07-13"}]
[{"$f":"$A158+Planning!$D$2","v":"2015-07-13T06:00:00"}]
[{"$f":"$A159+Planning!$D$2","v":"2015-07-13T12:00:00"}]
[{"$f":"$A160+Planning!$D$2","v":"2015-07-13T18:00:00"}]
[{"$f":"$A161+Planning!$D$2","v":"2015-07-14"}]
[{"$f":"$A162+Planning!$D$2","v":"2015-07-14T06:00:00"}]
[{"$f":"$A163+Planning!$D$2","v":"2015-07-14T12:00:00"}]
[{"$f":"$A164+Planning!$D$2","v":"2015-07-14T18:00:00"}]
[{"$f":"$A165+Planning!$D$2","v":"2015-07-15"}]
[{"$f":"$A166+Planning!$D$2","v":"2015-07-15T06:00:00"}]
[{"$f":"$A167+Planning!$D$2","v":"2015-07-15T12:00:00"}]
[{"$f":"$A168+Planning!$D$2","v":"2015-07-15T18:00:00"}]
[{"$f":"$A169+Planning!$D$2","v":"2015-07-16"}]
[{"$f":"$A170+Planning!$D$2","v":"2015-07-16T06:00:00"}]
[{"$f":"$A171+Planning!$D$2","v":"2015-07-16T12:00:00"}]
[{"$f":"$A172+Planning!$D$2","v":"2015-07-16T18:00:00"}]
[{"$f":"$A173+Planning!$D$2","v":"2015-07-17"}]
[{"$f":"$A174+Planning!$D$2","v":"2015-07-17T06:00:00"}]
[{"$f":"$A175+Planning!$D$2","v":"2015-07-17T12:00:00"}]
[{"$f":"$A176+Planning!$D$2","v":"2015-07-17T18:00:00"}]
[{"$f":"$A177+Planning!$D$2","v":"2015-07-18"}]
[{"$f":"$A178+Planning!$D$2","v":"2015-07-18T06:00:00"}]
[{"$f":"$A179+Planning!$D$2","v":"2015-07-18T12:00:00"}]
[{"$f":"$A180+Planning!$D$2","v":"2015-07-18T18:00:00"}]
[{"$f":"$A181+Planning!$D$2","v":"2015-07-19"}]
[{"$f":"$A182+Planning!$D$2","v":"2015-07-19T06:00:00"}]
[{"$f":"$A183+Planning!$D$2","v":"2015-07-19T12:00:00"}]
[{"$f":"$A184+Planning!$D$2","v":"2015-07-19T18:00:00"}]
[{"$f":"$A185+Planning!$D$2","v":"2015-07-20"}]
[{"$f":"$A186+Planning!$D$2","v":"2015-07-20T06:00:00"}]
[{"$f":"$A187+Planning!$D$2","v":"2015-07-20T12:00:00"}]
[{"$f":"$A188+Planning!$D$2","v":"2015-07-20T18:00:00"}]
[{"$f":"$A189+Planning!$D$2","v":"2015-07-21"}]
[{"$f":"$A190+Planning!$D$2","v":"2015-07-21T06:00:00"}]
[{"$f":"$A191+Planning!$D$2","v":"2015-07-21T12:00:00"}]
[{"$f":"$A192+Planning!$D$2","v":"2015-07-21T18:00:00"}]
[{"$f":"$A193+Planning!$D$2","v":"2015-07-22"}]
[{"$f":"$A194+Planning!$D$2","v":"2015-07-22T06:00:00"}]
[{"$f":"$A195+Planning!$D$2","v":"2015-07-22T12:00:00"}]
[{"$f":"$A196+Planning!$D$2","v":"2015-07-22T18:00:00"}]
[{"$f":"$A197+Planning!$D$2","v":"2015-07-23"}]
[{"$f":"$A198+Planning!$D$2","v":"2015-07-23T06:00:00"}]
[{"$f":"$A199+Planning!$D$2","v":"2015-07-23T12:00:00"}]
[{"$f":"$A200+Planning!$D$2","v":"2015-07-23T18:00:00"}]
[{"$f":"$A201+Planning!$D$2","v":"2015-07-24"}]
[{"$f":"$A202+Planning!$D$2","v":"2015-07-24T06:00:00"}]
[{"$f":"$A203+Planning!$D$2","v":"2015-07-24T12:00:00"}]
[{"$f":"$A204+Planning!$D$2","v":"2015-07-24T18:00:00"}]
[{"$f":"$A205+Planning!$D$2","v":"2015-07-25"}]
[{"$f":"$A206+Planning!$D$2","v":"2015-07-25T06:00:00"}]
[{"$f":"$A207+Planning!$D$2","v":"2015-07-25T12:00:00"}]
[{"$f":"$A208+Planning!$D$2","v":"2015-07-25T18:00:00"}]
[{"$f":"$A209+Planning!$D$2","v":"2015-07-26"}]
[{"$f":"$A210+Planning!$D$2","v":"2015-07-26T06:00:00"}]
[{"$f":"$A211+Planning!$D$2","v":"2015-07-26T12:00:00"}]
[{"$f":"$A212+Planning!$D$2","v":"2015-07-26T18:00:00"}]
[{"$f":"$A213+Planning!$D$2","v":"2015-07-27"}]
[{"$f":"$A214+Planning!$D$2","v":"2015-07-27T06:00:00"}]
[{"$f":"$A215+Planning!$D$2","v":"2015-07-27T12:00:00"}]
[{"$f":"$A216+Planning!$D$2","v":"2015-07-27T18:00:00"}]
[{"$f":"$A217+Planning!$D$2","v":"2015-07-28"}]
[{"$f":"$A218+Planning!$D$2","v":"2015-07-28T06:00:00"}]
[{"$f":"$A219+Planning!$D$2","v":"2015-07-28T12:00:00"}]
[{"$f":"$A220+Planning!$D$2","v":"2015-07-28T18:00:00"}]
[{"$f":"$A221+Planning!$D$2","v":"2015-07-29"}]
[{"$f":"$A222+Planning!$D$2","v":"2015-07-29T06:00:00"}]
[{"$f":"$A223+Planning!$D$2","v":"2015-07-29T12:00:00"}]
[{"$f":"$A224+Planning!$D$2","v":"2015-07-29T18:00:00"}]
[{"$f":"$A225+Planning!$D$2","v":"2015-07-30"}]
[{"$f":"$A226+Planning!$D$2","v":"2015-07-30T06:00:00"}]
[{"$f":"$A227+Planning!$D$2","v":"2015-07-30T12:00:00"}]
[{"$f":"$A228+Planning!$D$2","v":"2015-07-30T18:00:00"}]
[{"$f":"$A229+Planning!$D$2","v":"2015-07-31"}]
[{"$f":"$A230+Planning!$D$2","v":"2015-07-31T06:00:00"}]
[{"$f":"$A231+Planning!$D$2","v":"2015-07-31T12:00:00"}]
[{"$f":"$A232+Planning!$D$2","v":"2015-07-31T18:00:00"}]
[{"$f":"$A233+Planning!$D$2","v":"2015-08-01"}]
[{"$f":"$A234+Planning!$D$2","v":"2015-08-01T06:00:00"}]
[{"$f":"$A235+Planning!$D$2","v":"2015-08-01T12:00:00"}]
[{"$f":"$A236+Planning!$D$2","v":"2015-08-01T18:00:00"}]
[{"$f":"$A237+Planning!$D$2","v":"2015-08-02"}]
[{"$f":"$A238+Planning!$D$2","v":"2015-08-02T06:00:00"}]
[{"$f":"$A239+Planning!$D$2","v":"2015-08-02T12:00:00"}]
[{"$f":"$A240+Planning!$D$2","v":"2015-08-02T18:00:00"}]
[{"$f":"$A241+Planning!$D$2","v":"2015-08-03"}]
[{"$f":"$A242+Planning!$D$2","v":"2015-08-03T06:00:00"}]
[{"$f":"$A243+Planning!$D$2","v":"2015-08-03T12:00:00"}]
[{"$f":"$A244+Planning!$D$2","v":"2015-08-03T18:00:00"}]
[{"$f":"$A245+Planning!$D$2","v":"2015-08-04"}]
[{"$f":"$A246+Planning!$D$2","v":"2015-08-04T06:00:00"}]
[{"$f":"$A247+Planning!$D$2","v":"2015-08-04T12:00:00"}]
[{"$f":"$A248+Planning!$D$2","v":"2015-08-04T18:00:00"}]
[{"$f":"$A249+Planning!$D$2","v":"2015-08-05"}]
[{"$f":"$A250+Planning!$D$2","v":"2015-08-05T06:00:00"}]
[{"$f":"$A251+Planning!$D$2","v":"2015-08-05T12:00:00"}]
[{"$f":"$A252+Planning!$D$2","v":"2015-08-05T18:00:00"}]
[{"$f":"$A253+Planning!$D$2","v":"2015-08-06"}]
[{"$f":"$A254+Planning!$D$2","v":"2015-08-06T06:00:00"}]
[{"$f":"$A255+Planning!$D$2","v":"2015-08-06T12:00:00"}]
[{"$f":"$A256+Planning!$D$2","v":"2015-08-06T18:00:00"}]
[{"$f":"$A257+Planning!$D$2","v":"2015-08-07"}]
[{"$f":"$A258+Planning!$D$2","v":"2015-08-07T06:00:00"}]
[{"$f":"$A259+Planning!$D$2","v":"2015-08-07T12:00:00"}]
[{"$f":"$A260+Planning!$D$2","v":"2015-08-07T18:00:00"}]
[{"$f":"$A261+Planning!$D$2","v":"2015-08-08"}]
[{"$f":"$A262+Planning!$D$2","v":"2015-08-08T06:00:00"}]
[{"$f":"$A263+Planning!$D$2","v":"2015-08-08T12:00:00"}]
[{"$f":"$A264+Planning!$D$2","v":"2015-08-08T18:00:00"}]
[{"$f":"$A265+Planning!$D$2","v":"2015-08-09"}]
[{"$f":"$A266+Planning!$D$2","v":"2015-08-09T06:00:00"}]
[{"$f":"$A267+Planning!$D$2","v":"2015-08-09T12:00:00"}]
[{"$f":"$A268+Planning!$D$2","v":"2015-08-09T18:00:00"}]
[{"$f":"$A269+Planning!$D$2","v":"2015-08-10"}]
[{"$f":"$A270+Planning!$D$2","v":"2015-08-10T06:00:00"}]
[{"$f":"$A271+Planning!$D$2","v":"2015-08-10T12:00:00"}]
[{"$f":"$A272+Planning!$D$2","v":"2015-08-10T18:00:00"}]
[{"$f":"$A273+Planning!$D$2","v":"2015-08-11"}]
[{"$f":"$A274+Planning!$D$2","v":"2015-08-11T06:00:00"}]
[{"$f":"$A275+Planning!$D$2","v":"2015-08-11T12:00:00"}]
[{"$f":"$A276+Planning!$D$2","v":"2015-08-11T18:00:00"}]
[{"$f":"$A277+Planning!$D$2","v":"2015-08-12"}]
[{"$f":"$A278+Planning!$D$2","v":"2015-08-12T06:00:00"}]
[{"$f":"$A279+Planning!$D$2","v":"2015-08-12T12:00:00"}]
[{"$f":"$A280+Planning!$D$2","v":"2015-08-12T18:00:00"}]
[{"$f":"$A281+Planning!$D$2","v":"2015-08-13"}]
[{"$f":"$A282+Planning!$D$2","v":"2015-08-13T06:00:00"}]
[{"$f":"$A283+Planning!$D$2","v":"2015-08-13T12:00:00"}]
[{"$f":"$A284+Planning!$D$2","v":"2015-08-13T18:00:00"}]
[{"$f":"$A285+Planning!$D$2","v":"2015-08-14"}]
[{"$f":"$A286+Planning!$D$2","v":"2015-08-14T06:00:00"}]
[{"$f":"$A287+Planning!$D$2","v":"2015-08-14T12:00:00"}]
[{"$f":"$A288+Planning!$D$2","v":"2015-08-14T18:00:00"}]
[{"$f":"$A289+Planning!$D$2","v":"2015-08-15"}]
[{"$f":"$A290+Planning!$D$2","v":"2015-08-15T06:00:00"}]
[{"$f":"$A291+Planning!$D$2","v":"2015-08-15T12:00:00"}]
[{"$f":"$A292+Planning!$D$2","v":"2015-08-15T18:00:00"}]
[{"$f":"$A293+Planning!$D$2","v":"2015-08-16"}]
[{"$f":"$A294+Planning!$D$2","v":"2015-08-16T06:00:00"}]
[{"$f":"$A295+Planning!$D$2","v":"2015-08-16T12:00:00"}]
[{"$f":"$A296+Planning!$D$2","v":"2015-08-16T18:00:00"}]
[{"$f":"$A297+Planning!$D$2","v":"2015-08-17"}]
[{"$f":"$A298+Planning!$D$2","v":"2015-08-17T06:00:00"}]
[{"$f":"$A299+Planning!$D$2","v":"2015-08-17T12:00:00"}]
[{"$f":"$A300+Planning!$D$2","v":"2015-08-17T18:00:00"}]
[{"$f":"$A301+Planning!$D$2","v":"2015-08-18"}]
[{"$f":"$A302+Planning!$D$2","v":"2015-08-18T06:00:00"}]
[{"$f":"$A303+Planning!$D$2","v":"2015-08-18T12:00:00"}]
[{"$f":"$A304+Planning!$D$2","v":"2015-08-18T18:00:00"}]
[{"$f":"$A305+Planning!$D$2","v":"2015-08-19"}]
[{"$f":"$A306+Planning!$D$2","v":"2015-08-19T06:00:00"}]
[{"$f":"$A307+Planning!$D$2","v":"2015-08-19T12:00:00"}]
[{"$f":"$A308+Planning!$D$2","v":"2015-08-19T18:00:00"}]
[{"$f":"$A309+Planning!$D$2","v":"2015-08-20"}]
[{"$f":"$A310+Planning!$D$2","v":"2015-08-20T06:00:00"}]
[{"$f":"$A311+Planning!$D$2","v":"2015-08-20T12:00:00"}]
[{"$f":"$A312+Planning!$D$2","v":"2015-08-20T18:00:00"}]
[{"$f":"$A313+Planning!$D$2","v":"2015-08-21"}]
[{"$f":"$A314+Planning!$D$2","v":"2015-08-21T06:00:00"}]
[{"$f":"$A315+Planning!$D$2","v":"2015-08-21T12:00:00"}]
[{"$f":"$A316+Planning!$D$2","v":"2015-08-21T18:00:00"}]
[{"$f":"$A317+Planning!$D$2","v":"2015-08-22"}]
[{"$f":"$A318+Planning!$D$2","v":"2015-08-22T06:00:00"}]
[{"$f":"$A319+Planning!$D$2","v":"2015-08-22T12:00:00"}]
[{"$f":"$A320+Planning!$D$2","v":"2015-08-22T18:00:00"}]
[{"$f":"$A321+Planning!$D$2","v":"2015-08-23"}]
[{"$f":"$A322+Planning!$D$2","v":"2015-08-23T06:00:00"}]
[{"$f":"$A323+Planning!$D$2","v":"2015-08-23T12:00:00"}]
[{"$f":"$A324+Planning!$D$2","v":"2015-08-23T18:00:00"}]
[{"$f":"$A325+Planning!$D$2","v":"2015-08-24"}]
[{"$f":"$A326+Planning!$D$2","v":"2015-08-24T06:00:00"}]
[{"$f":"$A327+Planning!$D$2","v":"2015-08-24T12:00:00"}]
[{"$f":"$A328+Planning!$D$2","v":"2015-08-24T18:00:00"}]
[{"$f":"$A329+Planning!$D$2","v":"2015-08-25"}]
[{"$f":"$A330+Planning!$D$2","v":"2015-08-25T06:00:00"}]
[{"$f":"$A331+Planning!$D$2","v":"2015-08-25T12:00:00"}]
[{"$f":"$A332+Planning!$D$2","v":"2015-08-25T18:00:00"}]
[{"$f":"$A333+Planning!$D$2","v":"2015-08-26"}]
[{"$f":"$A334+Planning!$D$2","v":"2015-08-26T06:00:00"}]
[{"$f":"$A335+Planning!$D$2","v":"2015-08-26T12:00:00"}]
[{"$f":"$A336+Planning!$D$2","v":"2015-08-26T18:00:00"}]
[{"$f":"$A337+Planning!$D$2","v":"2015-08-27"}]
[{"$f":"$A338+Planning!$D$2","v":"2015-08-27T06:00:00"}]
[{"$f":"$A339+Planning!$D$2","v":"2015-08-27T12:00:00"}]
[{"$f":"$A340+Planning!$D$2","v":"2015-08-27T18:00:00"}]
[{"$f":"$A341+Planning!$D$2","v":"2015-08-28"}]
[{"$f":"$A342+Planning!$D$2","v":"2015-08-28T06:00:00"}]
[{"$f":"$A343+Planning!$D$2","v":"2015-08-28T12:00:00"}]
[{"$f":"$A344+Planning!$D$2","v":"2015-08-28T18:00:00"}]
[{"$f":"$A345+Planning!$D$2","v":"2015-08-29"}]
[{"$f":"$A346+Planning!$D$2","v":"2015-08-29T06:00:00"}]
[{"$f":"$A347+Planning!$D$2","v":"2015-08-29T12:00:00"}]
[{"$f":"$A348+Planning!$D$2","v":"2015-08-29T18:00:00"}]
[{"$f":"$A349+Planning!$D$2","v":"2015-08-30"}]
[{"$f":"$A350+Planning!$D$2","v":"2015-08-30T06:00:00"}]
[{"$f":"$A351+Planning!$D$2","v":"2015-08-30T12:00:00"}]
[{"$f":"$A352+Planning!$D$2","v":"2015-08-30T18:00:00"}]
[{"$f":"$A353+Planning!$D$2","v":"2015-08-31"}]
[{"$f":"$A354+Planning!$D$2","v":"2015-08-31T06:00:00"}]
[{"$f":"$A355+Planning!$D$2","v":"2015-08-31T12:00:00"}]
[{"$f":"$A356+Planning!$D$2","v":"2015-08-31T18:00:00"}]
[{"$f":"$A357+Planning!$D$2","v":"2015-09-01"}]
[{"$f":"$A358+Planning!$D$2","v":"2015-09-01T06:00:00"}]
[{"$f":"$A359+Planning!$D$2","v":"2015-09-01T12:00:00"}]
[{"$f":"$A360+Planning!$D$2","v":"2015-09-01T18:00:00"}]
[{"$f":"$A361+Planning!$D$2","v":"2015-09-02"}]
[{"$f":"$A362+Planning!$D$2","v":"2015-09-02T06:00:00"}]
[{"$f":"$A363+Planning!$D$2","v":"2015-09-02T12:00:00"}]
[{"$f":"$A364+Planning!$D$2","v":"2015-09-02T18:00:00"}]
[{"$f":"$A365+Planning!$D$2","v":"2015-09-03"}]
[{"$f":"$A366+Planning!$D$2","v":"2015-09-03T06:00:00"}]
[{"$f":"$A367+Planning!$D$2","v":"2015-09-03T12:00:00"}]
[{"$f":"$A368+Planning!$D$2","v":"2015-09-03T18:00:00"}]
[{"$f":"$A369+Planning!$D$2","v":"2015-09-04"}]
[{"$f":"$A370+Planning!$D$2","v":"2015-09-04T06:00:00"}]
[{"$f":"$A371+Planning!$D$2","v":"2015-09-04T12:00:00"}]
[{"$f":"$A372+Planning!$D$2","v":"2015-09-04T18:00:00"}]
[{"$f":"$A373+Planning!$D$2","v":"2015-09-05"}]
[{"$f":"$A374+Planning!$D$2","v":"2015-09-05T06:00:00"}]
[{"$f":"$A375+Planning!$D$2","v":"2015-09-05T12:00:00"}]
[{"$f":"$A376+Planning!$D$2","v":"2015-09-05T18:00:00"}]
[{"$f":"$A377+Planning!$D$2","v":"2015-09-06"}]
[{"$f":"$A378+Planning!$D$2","v":"2015-09-06T06:00:00"}]
[{"$f":"$A379+Planning!$D$2","v":"2015-09-06T12:00:00"}]
[{"$f":"$A380+Planning!$D$2","v":"2015-09-06T18:00:00"}]
[{"$f":"$A381+Planning!$D$2","v":"2015-09-07"}]
[{"$f":"$A382+Planning!$D$2","v":"2015-09-07T06:00:00"}]
[{"$f":"$A383+Planning!$D$2","v":"2015-09-07T12:00:00"}]
[{"$f":"$A384+Planning!$D$2","v":"2015-09-07T18:00:00"}]
[{"$f":"$A385+Planning!$D$2","v":"2015-09-08"}]
[{"$f":"$A386+Planning!$D$2","v":"2015-09-08T06:00:00"}]
[{"$f":"$A387+Planning!$D$2","v":"2015-09-08T12:00:00"}]
[{"$f":"$A388+Planning!$D$2","v":"2015-09-08T18:00:00"}]
[{"$f":"$A389+Planning!$D$2","v":"2015-09-09"}]
[{"$f":"$A390+Planning!$D$2","v":"2015-09-09T06:00:00"}]
[{"$f":"$A391+Planning!$D$2","v":"2015-09-09T12:00:00"}]
[{"$f":"$A392+Planning!$D$2","v":"2015-09-09T18:00:00"}]
[{"$f":"$A393+Planning!$D$2","v":"2015-09-10"}]
[{"$f":"$A394+Planning!$D$2","v":"2015-09-10T06:00:00"}]
[{"$f":"$A395+Planning!$D$2","v":"2015-09-10T12:00:00"}]
[{"$f":"$A396+Planning!$D$2","v":"2015-09-10T18:00:00"}]
[{"$f":"$A397+Planning!$D$2","v":"2015-09-11"}]
[{"$f":"$A398+Planning!$D$2","v":"2015-09-11T06:00:00"}]
[{"$f":"$A399+Planning!$D$2","v":"2015-09-11T12:00:00"}]
[{"$f":"$A400+Planning!$D$2","v":"2015-09-11T18:00:00"}]
[{"$f":"$A401+Planning!$D$2","v":"2015-09-12"}]
[{"$f":"$A402+Planning!$D$2","v":"2015-09-12T06:00:00"}]
[{"$f":"$A403+Planning!$D$2","v":"2015-09-12T12:00:00"}]
[{"$f":"$A404+Planning!$D$2","v":"2015-09-12T18:00:00"}]
[{"$f":"$A405+Planning!$D$2","v":"2015-09-13"}]
[{"$f":"$A406+Planning!$D$2","v":"2015-09-13T06:00:00"}]
[{"$f":"$A407+Planning!$D$2","v":"2015-09-13T12:00:00"}]
[{"$f":"$A408+Planning!$D$2","v":"2015-09-13T18:00:00"}]
[{"$f":"$A409+Planning!$D$2","v":"2015-09-14"}]
[{"$f":"$A410+Planning!$D$2","v":"2015-09-14T06:00:00"}]
[{"$f":"$A411+Planning!$D$2","v":"2015-09-14T12:00:00"}]
[{"$f":"$A412+Planning!$D$2","v":"2015-09-14T18:00:00"}]
[{"$f":"$A413+Planning!$D$2","v":"2015-09-15"}]
[{"$f":"$A414+Planning!$D$2","v":"2015-09-15T06:00:00"}]
[{"$f":"$A415+Planning!$D$2","v":"2015-09-15T12:00:00"}]
[{"$f":"$A416+Planning!$D$2","v":"2015-09-15T18:00:00"}]
[{"$f":"$A417+Planning!$D$2","v":"2015-09-16"}]
[{"$f":"$A418+Planning!$D$2","v":"2015-09-16T06:00:00"}]
[{"$f":"$A419+Planning!$D$2","v":"2015-09-16T12:00:00"}]
[{"$f":"$A420+Planning!$D$2","v":"2015-09-16T18:00:00"}]
[{"$f":"$A421+Planning!$D$2","v":"2015-09-17"}]
[{"$f":"$A422+Planning!$D$2","v":"2015-09-17T06:00:00"}]
[{"$f":"$A423+Planning!$D$2","v":"2015-09-17T12:00:00"}]
[{"$f":"$A424+Planning!$D$2","v":"2015-09-17T18:00:00"}]
[{"$f":"$A425+Planning!$D$2","v":"2015-09-18"}]
[{"$f":"$A426+Planning!$D$2","v":"2015-09-18T06:00:00"}]
[{"$f":"$A427+Planning!$D$2","v":"2015-09-18T12:00:00"}]
[{"$f":"$A428+Planning!$D$2","v":"2015-09-18T18:00:00"}]
[{"$f":"$A429+Planning!$D$2","v":"2015-09-19"}]
[{"$f":"$A430+Planning!$D$2","v":"2015-09-19T06:00:00"}]
[{"$f":"$A431+Planning!$D$2","v":"2015-09-19T12:00:00"}]
[{"$f":"$A432+Planning!$D$2","v":"2015-09-19T18:00:00"}]
[{"$f":"$A433+Planning!$D$2","v":"2015-09-20"}]
[{"$f":"$A434+Planning!$D$2","v":"2015-09-20T06:00:00"}]
[{"$f":"$A435+Planning!$D$2","v":"2015-09-20T12:00:00"}]
[{"$f":"$A436+Planning!$D$2","v":"2015-09-20T18:00:00"}]
[{"$f":"$A437+Planning!$D$2","v":"2015-09-21"}]
[{"$f":"$A438+Planning!$D$2","v":"2015-09-21T06:00:00"}]
[{"$f":"$A439+Planning!$D$2","v":"2015-09-21T12:00:00"}]
[{"$f":"$A440+Planning!$D$2","v":"2015-09-21T18:00:00"}]
[{"$f":"$A441+Planning!$D$2","v":"2015-09-22"}]
[{"$f":"$A442+Planning!$D$2","v":"2015-09-22T06:00:00"}]
[{"$f":"$A443+Planning!$D$2","v":"2015-09-22T12:00:00"}]
[{"$f":"$A444+Planning!$D$2","v":"2015-09-22T18:00:00"}]
[{"$f":"$A445+Planning!$D$2","v":"2015-09-23"}]
[{"$f":"$A446+Planning!$D$2","v":"2015-09-23T06:00:00"}]
[{"$f":"$A447+Planning!$D$2","v":"2015-09-23T12:00:00"}]
[{"$f":"$A448+Planning!$D$2","v":"2015-09-23T18:00:00"}]
[{"$f":"$A449+Planning!$D$2","v":"2015-09-24"}]
[{"$f":"$A450+Planning!$D$2","v":"2015-09-24T06:00:00"}]
[{"$f":"$A451+Planning!$D$2","v":"2015-09-24T12:00:00"}]
[{"$f":"$A452+Planning!$D$2","v":"2015-09-24T18:00:00"}]
[{"$f":"$A453+Planning!$D$2","v":"2015-09-25"}]
[{"$f":"$A454+Planning!$D$2","v":"2015-09-25T06:00:00"}]
[{"$f":"$A455+Planning!$D$2","v":"2015-09-25T12:00:00"}]
[{"$f":"$A456+Planning!$D$2","v":"2015-09-25T18:00:00"}]
[{"$f":"$A457+Planning!$D$2","v":"2015-09-26"}]
[{"$f":"$A458+Planning!$D$2","v":"2015-09-26T06:00:00"}]
[{"$f":"$A459+Planning!$D$2","v":"2015-09-26T12:00:00"}]
[{"$f":"$A460+Planning!$D$2","v":"2015-09-26T18:00:00"}]
[{"$f":"$A461+Planning!$D$2","v":"2015-09-27"}]
[{"$f":"$A462+Planning!$D$2","v":"2015-09-27T06:00:00"}]
[{"$f":"$A463+Planning!$D$2","v":"2015-09-27T12:00:00"}]
[{"$f":"$A464+Planning!$D$2","v":"2015-09-27T18:00:00"}]
[{"$f":"$A465+Planning!$D$2","v":"2015-09-28"}]
[{"$f":"$A466+Planning!$D$2","v":"2015-09-28T06:00:00"}]
[{"$f":"$A467+Planning!$D$2","v":"2015-09-28T12:00:00"}]
[{"$f":"$A468+Planning!$D$2","v":"2015-09-28T18:00:00"}]
[{"$f":"$A469+Planning!$D$2","v":"2015-09-29"}]
[{"$f":"$A470+Planning!$D$2","v":"2015-09-29T06:00:00"}]
[{"$f":"$A471+Planning!$D$2","v":"2015-09-29T12:00:00"}]
[{"$f":"$A472+Planning!$D$2","v":"2015-09-29T18:00:00"}]
[{"$f":"$A473+Planning!$D$2","v":"2015-09-30"}]
[{"$f":"$A474+Planning!$D$2","v":"2015-09-30T06:00:00"}]
[{"$f":"$A475+Planning!$D$2","v":"2015-09-30T12:00:00"}]
[{"$f":"$A476+Planning!$D$2","v":"2015-09-30T18:00:00"}]
[{"$f":"$A477+Planning!$D$2","v":"2015-10-01"}]
[{"$f":"$A478+Planning!$D$2","v":"2015-10-01T06:00:00"}]
[{"$f":"$A479+Planning!$D$2","v":"2015-10-01T12:00:00"}]
[{"$f":"$A480+Planning!$D$2","v":"2015-10-01T18:00:00"}]
[{"$f":"$A481+Planning!$D$2","v":"2015-10-02"}]
[{"$f":"$A482+Planning!$D$2","v":"2015-10-02T06:00:00"}]
[{"$f":"$A483+Planning!$D$2","v":"2015-10-02T12:00:00"}]
[{"$f":"$A484+Planning!$D$2","v":"2015-10-02T18:00:00"}]
[{"$f":"$A485+Planning!$D$2","v":"2015-10-03"}]
[{"$f":"$A486+Planning!$D$2","v":"2015-10-03T06:00:00"}]
[{"$f":"$A487+Planning!$D$2","v":"2015-10-03T12:00:00"}]
[{"$f":"$A488+Planning!$D$2","v":"2015-10-03T18:00:00"}]
[{"$f":"$A489+Planning!$D$2","v":"2015-10-04"}]
[{"$f":"$A490+Planning!$D$2","v":"2015-10-04T06:00:00"}]
[{"$f":"$A491+Planning!$D$2","v":"2015-10-04T12:00:00"}]
[{"$f":"$A492+Planning!$D$2","v":"2015-10-04T18:00:00"}]
[{"$f":"$A493+Planning!$D$2","v":"2015-10-05"}]
[{"$f":"$A494+Planning!$D$2","v":"2015-10-05T06:00:00"}]
[{"$f":"$A495+Planning!$D$2","v":"2015-10-05T12:00:00"}]
[{"$f":"$A496+Planning!$D$2","v":"2015-10-05T18:00:00"}]
[{"$f":"$A497+Planning!$D$2","v":"2015-10-06"}]
[{"$f":"$A498+Planning!$D$2","v":"2015-10-06T06:00:00"}]
[{"$f":"$A499+Planning!$D$2","v":"2015-10-06T12:00:00"}]
[{"$f":"$A500+Planning!$D$2","v":"2015-10-06T18:00:00"}]
[{"$f":"$A501+Planning!$D$2","v":"2015-10-07"}]
[{"$f":"$A502+Planning!$D$2","v":"2015-10-07T06:00:00"}]
[{"$f":"$A503+Planning!$D$2","v":"2015-10-07T12:00:00"}]
[{"$f":"$A504+Planning!$D$2","v":"2015-10-07T18:00:00"}]
[{"$f":"$A505+Planning!$D$2","v":"2015-10-08"}]
[{"$f":"$A506+Planning!$D$2","v":"2015-10-08T06:00:00"}]
[{"$f":"$A507+Planning!$D$2","v":"2015-10-08T12:00:00"}]
[{"$f":"$A508+Planning!$D$2","v":"2015-10-08T18:00:00"}]
[{"$f":"$A509+Planning!$D$2","v":"2015-10-09"}]
[{"$f":"$A510+Planning!$D$2","v":"2015-10-09T06:00:00"}]
[{"$f":"$A511+Planning!$D$2","v":"2015-10-09T12:00:00"}]
[{"$f":"$A512+Planning!$D$2","v":"2015-10-09T18:00:00"}]
[{"$f":"$A513+Planning!$D$2","v":"2015-10-10"}]
[{"$f":"$A514+Planning!$D$2","v":"2015-10-10T06:00:00"}]
[{"$f":"$A515+Planning!$D$2","v":"2015-10-10T12:00:00"}]
[{"$f":"$A516+Planning!$D$2","v":"2015-10-10T18:00:00"}]
[{"$f":"$A517+Planning!$D$2","v":"2015-10-11"}]
[{"$f":"$A518+Planning!$D$2","v":"2015-10-11T06:00:00"}]
[{"$f":"$A519+Planning!$D$2","v":"2015-10-11T12:00:00"}]
[{"$f":"$A520+Planning!$D$2","v":"2015-10-11T18:00:00"}]
[{"$f":"$A521+Planning!$D$2","v":"2015-10-12"}]
[{"$f":"$A522+Planning!$D$2","v":"2015-10-12T06:00:00"}]
[{"$f":"$A523+Planning!$D$2","v":"2015-10-12T12:00:00"}]
[{"$f":"$A524+Planning!$D$2","v":"2015-10-12T18:00:00"}]
[{"$f":"$A525+Planning!$D$2","v":"2015-10-13"}]
[{"$f":"$A526+Planning!$D$2","v":"2015-10-13T06:00:00"}]
[{"$f":"$A527+Planning!$D$2","v":"2015-10-13T12:00:00"}]
[{"$f":"$A528+Planning!$D$2","v":"2015-10-13T18:00:00"}]
[{"$f":"$A529+Planning!$D$2","v":"2015-10-14"}]
[{"$f":"$A530+Planning!$D$2","v":"2015-10-14T06:00:00"}]
[{"$f":"$A531+Planning!$D$2","v":"2015-10-14T12:00:00"}]
[{"$f":"$A532+Planning!$D$2","v":"2015-10-14T18:00:00"}]
[{"$f":"$A533+Planning!$D$2","v":"2015-10-15"}]
[{"$f":"$A534+Planning!$D$2","v":"2015-10-15T06:00:00"}]
[{"$f":"$A535+Planning!$D$2","v":"2015-10-15T12:00:00"}]
[{"$f":"$A536+Planning!$D$2","v":"2015-10-15T18:00:00"}]
[{"$f":"$A537+Planning!$D$2","v":"2015-10-16"}]
[{"$f":"$A538+Planning!$D$2","v":"2015-10-16T06:00:00"}]
[{"$f":"$A539+Planning!$D$2","v":"2015-10-16T12:00:00"}]
[{"$f":"$A540+Planning!$D$2","v":"2015-10-16T18:00:00"}]
[{"$f":"$A541+Planning!$D$2","v":"2015-10-17"}]
[{"$f":"$A542+Planning!$D$2","v":"2015-10-17T06:00:00"}]
[{"$f":"$A543+Planning!$D$2","v":"2015-10-17T12:00:00"}]
[{"$f":"$A544+Planning!$D$2","v":"2015-10-17T18:00:00"}]
[{"$f":"$A545+Planning!$D$2","v":"2015-10-18"}]
[{"$f":"$A546+Planning!$D$2","v":"2015-10-18T06:00:00"}]
[{"$f":"$A547+Planning!$D$2","v":"2015-10-18T12:00:00"}]
[{"$f":"$A548+Planning!$D$2","v":"2015-10-18T18:00:00"}]
[{"$f":"$A549+Planning!$D$2","v":"2015-10-19"}]
[{"$f":"$A550+Planning!$D$2","v":"2015-10-19T06:00:00"}]
[{"$f":"$A551+Planning!$D$2","v":"2015-10-19T12:00:00"}]
[{"$f":"$A552+Planning!$D$2","v":"2015-10-19T18:00:00"}]
[{"$f":"$A553+Planning!$D$2","v":"2015-10-20"}]
[{"$f":"$A554+Planning!$D$2","v":"2015-10-20T06:00:00"}]
[{"$f":"$A555+Planning!$D$2","v":"2015-10-20T12:00:00"}]
[{"$f":"$A556+Planning!$D$2","v":"2015-10-20T18:00:00"}]
[{"$f":"$A557+Planning!$D$2","v":"2015-10-21"}]
[{"$f":"$A558+Planning!$D$2","v":"2015-10-21T06:00:00"}]
[{"$f":"$A559+Planning!$D$2","v":"2015-10-21T12:00:00"}]
[{"$f":"$A560+Planning!$D$2","v":"2015-10-21T18:00:00"}]
[{"$f":"$A561+Planning!$D$2","v":"2015-10-22"}]
[{"$f":"$A562+Planning!$D$2","v":"2015-10-22T06:00:00"}]
[{"$f":"$A563+Planning!$D$2","v":"2015-10-22T12:00:00"}]
[{"$f":"$A564+Planning!$D$2","v":"2015-10-22T18:00:00"}]
[{"$f":"$A565+Planning!$D$2","v":"2015-10-23"}]
[{"$f":"$A566+Planning!$D$2","v":"2015-10-23T06:00:00"}]
[{"$f":"$A567+Planning!$D$2","v":"2015-10-23T12:00:00"}]
[{"$f":"$A568+Planning!$D$2","v":"2015-10-23T18:00:00"}]
[{"$f":"$A569+Planning!$D$2","v":"2015-10-24"}]
[{"$f":"$A570+Planning!$D$2","v":"2015-10-24T06:00:00"}]
[{"$f":"$A571+Planning!$D$2","v":"2015-10-24T12:00:00"}]
[{"$f":"$A572+Planning!$D$2","v":"2015-10-24T18:00:00"}]
[{"$f":"$A573+Planning!$D$2","v":"2015-10-25"}]
[{"$f":"$A574+Planning!$D$2","v":"2015-10-25T06:00:00"}]
[{"$f":"$A575+Planning!$D$2","v":"2015-10-25T12:00:00"}]
[{"$f":"$A576+Planning!$D$2","v":"2015-10-25T18:00:00"}]
[{"$f":"$A577+Planning!$D$2","v":"2015-10-26"}]
[{"$f":"$A578+Planning!$D$2","v":"2015-10-26T06:00:00"}]
[{"$f":"$A579+Planning!$D$2","v":"2015-10-26T12:00:00"}]
[{"$f":"$A580+Planning!$D$2","v":"2015-10-26T18:00:00"}]
[{"$f":"$A581+Planning!$D$2","v":"2015-10-27"}]
[{"$f":"$A582+Planning!$D$2","v":"2015-10-27T06:00:00"}]
[{"$f":"$A583+Planning!$D$2","v":"2015-10-27T12:00:00"}]
[{"$f":"$A584+Planning!$D$2","v":"2015-10-27T18:00:00"}]
[{"$f":"$A585+Planning!$D$2","v":"2015-10-28"}]
[{"$f":"$A586+Planning!$D$2","v":"2015-10-28T06:00:00"}]
[{"$f":"$A587+Planning!$D$2","v":"2015-10-28T12:00:00"}]
[{"$f":"$A588+Planning!$D$2","v":"2015-10-28T18:00:00"}]
[{"$f":"$A589+Planning!$D$2","v":"2015-10-29"}]
[{"$f":"$A590+Planning!$D$2","v":"2015-10-29T06:00:00"}]
[{"$f":"$A591+Planning!$D$2","v":"2015-10-29T12:00:00"}]
[{"$f":"$A592+Planning!$D$2","v":"2015-10-29T18:00:00"}]
[{"$f":"$A593+Planning!$D$2","v":"2015-10-30"}]
[{"$f":"$A594+Planning!$D$2","v":"2015-10-30T06:00:00"}]
[{"$f":"$A595+Planning!$D$2","v":"2015-10-30T12:00:00"}]
[{"$f":"$A596+Planning!$D$2","v":"2015-10-30T18:00:00"}]
[{"$f":"$A597+Planning!$D$2","v":"2015-10-31"}]
[{"$f":"$A598+Planning!$D$2","v":"2015-10-31T06:00:00"}]
[{"$f":"$A599+Planning!$D$2","v":"2015-10-31T12:00:00"}]
[{"$f":"$A600+Planning!$D$2","v":"2015-10-31T18:00:00"}]
[{"$f":"$A601+Planning!$D$2","v":"2015-11-01"}]
[{"$f":"$A602+Planning!$D$2","v":"2015-11-01T06:00:00"}]
[{"$f":"$A603+Planning!$D$2","v":"2015-11-01T12:00:00"}]
[{"$f":"$A604+Planning!$D$2","v":"2015-11-01T18:00:00"}]
[{"$f":"$A605+Planning!$D$2","v":"2015-11-02"}]
[{"$f":"$A606+Planning!$D$2","v":"2015-11-02T06:00:00"}]
[{"$f":"$A607+Planning!$D$2","v":"2015-11-02T12:00:00"}]
[{"$f":"$A608+Planning!$D$2","v":"2015-11-02T18:00:00"}]
[{"$f":"$A609+Planning!$D$2","v":"2015-11-03"}]
[{"$f":"$A610+Planning!$D$2","v":"2015-11-03T06:00:00"}]
[{"$f":"$A611+Planning!$D$2","v":"2015-11-03T12:00:00"}]
[{"$f":"$A612+Planning!$D$2","v":"2015-11-03T18:00:00"}]
[{"$f":"$A613+Planning!$D$2","v":"2015-11-04"}]
[{"$f":"$A614+Planning!$D$2","v":"2015-11-04T06:00:00"}]
[{"$f":"$A615+Planning!$D$2","v":"2015-11-04T12:00:00"}]
[{"$f":"$A616+Planning!$D$2","v":"2015-11-04T18:00:00"}]
[{"$f":"$A617+Planning!$D$2","v":"2015-11-05"}]
[{"$f":"$A618+Planning!$D$2","v":"2015-11-05T06:00:00"}]
[{"$f":"$A619+Planning!$D$2","v":"2015-11-05T12:00:00"}]
[{"$f":"$A620+Planning!$D$2","v":"2015-11-05T18:00:00"}]
[{"$f":"$A621+Planning!$D$2","v":"2015-11-06"}]
[{"$f":"$A622+Planning!$D$2","v":"2015-11-06T06:00:00"}]
[{"$f":"$A623+Planning!$D$2","v":"2015-11-06T12:00:00"}]
[{"$f":"$A624+Planning!$D$2","v":"2015-11-06T18:00:00"}]
[{"$f":"$A625+Planning!$D$2","v":"2015-11-07"}]
[{"$f":"$A626+Planning!$D$2","v":"2015-11-07T06:00:00"}]
[{"$f":"$A627+Planning!$D$2","v":"2015-11-07T12:00:00"}]
[{"$f":"$A628+Planning!$D$2","v":"2015-11-07T18:00:00"}]
[{"$f":"$A629+Planning!$D$2","v":"2015-11-08"}]
[{"$f":"$A630+Planning!$D$2","v":"2015-11-08T06:00:00"}]
[{"$f":"$A631+Planning!$D$2","v":"2015-11-08T12:00:00"}]
[{"$f":"$A632+Planning!$D$2","v":"2015-11-08T18:00:00"}]
[{"$f":"$A633+Planning!$D$2","v":"2015-11-09"}]
[{"$f":"$A634+Planning!$D$2","v":"2015-11-09T06:00:00"}]
[{"$f":"$A635+Planning!$D$2","v":"2015-11-09T12:00:00"}]
[{"$f":"$A636+Planning!$D$2","v":"2015-11-09T18:00:00"}]
[{"$f":"$A637+Planning!$D$2","v":"2015-11-10"}]
[{"$f":"$A638+Planning!$D$2","v":"2015-11-10T06:00:00"}]
[{"$f":"$A639+Planning!$D$2","v":"2015-11-10T12:00:00"}]
[{"$f":"$A640+Planning!$D$2","v":"2015-11-10T18:00:00"}]
[{"$f":"$A641+Planning!$D$2","v":"2015-11-11"}]
[{"$f":"$A642+Planning!$D$2","v":"2015-11-11T06:00:00"}]
[{"$f":"$A643+Planning!$D$2","v":"2015-11-11T12:00:00"}]
[{"$f":"$A644+Planning!$D$2","v":"2015-11-11T18:00:00"}]
[{"$f":"$A645+Planning!$D$2","v":"2015-11-12"}]
[{"$f":"$A646+Planning!$D$2","v":"2015-11-12T06:00:00"}]
[{"$f":"$A647+Planning!$D$2","v":"2015-11-12T12:00:00"}]
[{"$f":"$A648+Planning!$D$2","v":"2015-11-12T18:00:00"}]
[{"$f":"$A649+Planning!$D$2","v":"2015-11-13"}]
[{"$f":"$A650+Planning!$D$2","v":"2015-11-13T06:00:00"}]
[{"$f":"$A651+Planning!$D$2","v":"2015-11-13T12:00:00"}]
[{"$f":"$A652+Planning!$D$2","v":"2015-11-13T18:00:00"}]
[{"$f":"$A653+Planning!$D$2","v":"2015-11-14"}]
[{"$f":"$A654+Planning!$D$2","v":"2015-11-14T06:00:00"}]
[{"$f":"$A655+Planning!$D$2","v":"2015-11-14T12:00:00"}]
[{"$f":"$A656+Planning!$D$2","v":"2015-11-14T18:00:00"}]
[{"$f":"$A657+Planning!$D$2","v":"2015-11-15"}]
[{"$f":"$A658+Planning!$D$2","v":"2015-11-15T06:00:00"}]
[{"$f":"$A659+Planning!$D$2","v":"2015-11-15T12:00:00"}]
[{"$f":"$A660+Planning!$D$2","v":"2015-11-15T18:00:00"}]
[{"$f":"$A661+Planning!$D$2","v":"2015-11-16"}]
[{"$f":"$A662+Planning!$D$2","v":"2015-11-16T06:00:00"}]
[{"$f":"$A663+Planning!$D$2","v":"2015-11-16T12:00:00"}]
[{"$f":"$A664+Planning!$D$2","v":"2015-11-16T18:00:00"}]
[{"$f":"$A665+Planning!$D$2","v":"2015-11-17"}]
[{"$f":"$A666+Planning!$D$2","v":"2015-11-17T06:00:00"}]
[{"$f":"$A667+Planning!$D$2","v":"2015-11-17T12:00:00"}]
[{"$f":"$A668+Planning!$D$2","v":"2015-11-17T18:00:00"}]
[{"$f":"$A669+Planning!$D$2","v":"2015-11-18"}]
[{"$f":"$A670+Planning!$D$2","v":"2015-11-18T06:00:00"}]
[{"$f":"$A671+Planning!$D$2","v":"2015-11-18T12:00:00"}]
[{"$f":"$A672+Planning!$D$2","v":"2015-11-18T18:00:00"}]
[{"$f":"$A673+Planning!$D$2","v":"2015-11-19"}]
[{"$f":"$A674+Planning!$D$2","v":"2015-11-19T06:00:00"}]
[{"$f":"$A675+Planning!$D$2","v":"2015-11-19T12:00:00"}]
[{"$f":"$A676+Planning!$D$2","v":"2015-11-19T18:00:00"}]
[{"$f":"$A677+Planning!$D$2","v":"2015-11-20"}]
[{"$f":"$A678+Planning!$D$2","v":"2015-11-20T06:00:00"}]
[{"$f":"$A679+Planning!$D$2","v":"2015-11-20T12:00:00"}]
[{"$f":"$A680+Planning!$D$2","v":"2015-11-20T18:00:00"}]
[{"$f":"$A681+Planning!$D$2","v":"2015-11-21"}]
[{"$f":"$A682+Planning!$D$2","v":"2015-11-21T06:00:00"}]
[{"$f":"$A683+Planning!$D$2","v":"2015-11-21T12:00:00"}]
[{"$f":"$A684+Planning!$D$2","v":"2015-11-21T18:00:00"}]
[{"$f":"$A685+Planning!$D$2","v":"2015-11-22"}]
[{"$f":"$A686+Planning!$D$2","v":"2015-11-22T06:00:00"}]
[{"$f":"$A687+Planning!$D$2","v":"2015-11-22T12:00:00"}]
[{"$f":"$A688+Planning!$D$2","v":"2015-11-22T18:00:00"}]
[{"$f":"$A689+Planning!$D$2","v":"2015-11-23"}]
[{"$f":"$A690+Planning!$D$2","v":"2015-11-23T06:00:00"}]
[{"$f":"$A691+Planning!$D$2","v":"2015-11-23T12:00:00"}]
[{"$f":"$A692+Planning!$D$2","v":"2015-11-23T18:00:00"}]
[{"$f":"$A693+Planning!$D$2","v":"2015-11-24"}]
[{"$f":"$A694+Planning!$D$2","v":"2015-11-24T06:00:00"}]
[{"$f":"$A695+Planning!$D$2","v":"2015-11-24T12:00:00"}]
[{"$f":"$A696+Planning!$D$2","v":"2015-11-24T18:00:00"}]
[{"$f":"$A697+Planning!$D$2","v":"2015-11-25"}]
[{"$f":"$A698+Planning!$D$2","v":"2015-11-25T06:00:00"}]
[{"$f":"$A699+Planning!$D$2","v":"2015-11-25T12:00:00"}]
[{"$f":"$A700+Planning!$D$2","v":"2015-11-25T18:00:00"}]
[{"$f":"$A701+Planning!$D$2","v":"2015-11-26"}]
[{"$f":"$A702+Planning!$D$2","v":"2015-11-26T06:00:00"}]
[{"$f":"$A703+Planning!$D$2","v":"2015-11-26T12:00:00"}]
[{"$f":"$A704+Planning!$D$2","v":"2015-11-26T18:00:00"}]
[{"$f":"$A705+Planning!$D$2","v":"2015-11-27"}]
[{"$f":"$A706+Planning!$D$2","v":"2015-11-27T06:00:00"}]
[{"$f":"$A707+Planning!$D$2","v":"2015-11-27T12:00:00"}]
[{"$f":"$A708+Planning!$D$2","v":"2015-11-27T18:00:00"}]
[{"$f":"$A709+Planning!$D$2","v":"2015-11-28"}]
[{"$f":"$A710+Planning!$D$2","v":"2015-11-28T06:00:00"}]
[{"$f":"$A711+Planning!$D$2","v":"2015-11-28T12:00:00"}]
[{"$f":"$A712+Planning!$D$2","v":"2015-11-28T18:00:00"}]
[{"$f":"$A713+Planning!$D$2","v":"2015-11-29"}]
[{"$f":"$A714+Planning!$D$2","v":"2015-11-29T06:00:00"}]
[{"$f":"$A715+Planning!$D$2","v":"2015-11-29T12:00:00"}]
[{"$f":"$A716+Planning!$D$2","v":"2015-11-29T18:00:00"}]
[{"$f":"$A717+Planning!$D$2","v":"2015-11-30"}]
[{"$f":"$A718+Planning!$D$2","v":"2015-11-30T06:00:00"}]
[{"$f":"$A719+Planning!$D$2","v":"2015-11-30T12:00:00"}]
[{"$f":"$A720+Planning!$D$2","v":"2015-11-30T18:00:00"}]
[{"$f":"$A721+Planning!$D$2","v":"2015-12-01"}]
[{"$f":"$A722+Planning!$D$2","v":"2015-12-01T06:00:00"}]
[{"$f":"$A723+Planning!$D$2","v":"2015-12-01T12:00:00"}]
[{"$f":"$A724+Planning!$D$2","v":"2015-12-01T18:00:00"}]
[{"$f":"$A725+Planning!$D$2","v":"2015-12-02"}]
[{"$f":"$A726+Planning!$D$2","v":"2015-12-02T06:00:00"}]
[{"$f":"$A727+Planning!$D$2","v":"2015-12-02T12:00:00"}]
[{"$f":"$A728+Planning!$D$2","v":"2015-12-02T18:00:00"}]
[{"$f":"$A729+Planning!$D$2","v":"2015-12-03"}]
[{"$f":"$A730+Planning!$D$2","v":"2015-12-03T06:00:00"}]
[{"$f":"$A731+Planning!$D$2","v":"2015-12-03T12:00:00"}]
[{"$f":"$A732+Planning!$D$2","v":"2015-12-03T18:00:00"}]
[{"$f":"$A733+Planning!$D$2","v":"2015-12-04"}]
[{"$f":"$A734+Planning!$D$2","v":"2015-12-04T06:00:00"}]
[{"$f":"$A735+Planning!$D$2","v":"2015-12-04T12:00:00"}]
[{"$f":"$A736+Planning!$D$2","v":"2015-12-04T18:00:00"}]
[{"$f":"$A737+Planning!$D$2","v":"2015-12-05"}]
[{"$f":"$A738+Planning!$D$2","v":"2015-12-05T06:00:00"}]
[{"$f":"$A739+Planning!$D$2","v":"2015-12-05T12:00:00"}]
[{"$f":"$A740+Planning!$D$2","v":"2015-12-05T18:00:00"}]
[{"$f":"$A741+Planning!$D$2","v":"2015-12-06"}]
[{"$f":"$A742+Planning!$D$2","v":"2015-12-06T06:00:00"}]
[{"$f":"$A743+Planning!$D$2","v":"2015-12-06T12:00:00"}]
[{"$f":"$A744+Planning!$D$2","v":"2015-12-06T18:00:00"}]
[{"$f":"$A745+Planning!$D$2","v":"2015-12-07"}]
[{"$f":"$A746+Planning!$D$2","v":"2015-12-07T06:00:00"}]
[{"$f":"$A747+Planning!$D$2","v":"2015-12-07T12:00:00"}]
[{"$f":"$A748+Planning!$D$2","v":"2015-12-07T18:00:00"}]
[{"$f":"$A749+Planning!$D$2","v":"2015-12-08"}]
[{"$f":"$A750+Planning!$D$2","v":"2015-12-08T06:00:00"}]
[{"$f":"$A751+Planning!$D$2","v":"2015-12-08T12:00:00"}]
[{"$f":"$A752+Planning!$D$2","v":"2015-12-08T18:00:00"}]
[{"$f":"$A753+Planning!$D$2","v":"2015-12-09"}]
[{"$f":"$A754+Planning!$D$2","v":"2015-12-09T06:00:00"}]
[{"$f":"$A755+Planning!$D$2","v":"2015-12-09T12:00:00"}]
[{"$f":"$A756+Planning!$D$2","v":"2015-12-09T18:00:00"}]
[{"$f":"$A757+Planning!$D$2","v":"2015-12-10"}]
[{"$f":"$A758+Planning!$D$2","v":"2015-12-10T06:00:00"}]
[{"$f":"$A759+Planning!$D$2","v":"2015-12-10T12:00:00"}]
[{"$f":"$A760+Planning!$D$2","v":"2015-12-10T18:00:00"}]
[{"$f":"$A761+Planning!$D$2","v":"2015-12-11"}]
[{"$f":"$A762+Planning!$D$2","v":"2015-12-11T06:00:00"}]
[{"$f":"$A763+Planning!$D$2","v":"2015-12-11T12:00:00"}]
[{"$f":"$A764+Planning!$D$2","v":"2015-12-11T18:00:00"}]
[{"$f":"$A765+Planning!$D$2","v":"2015-12-12"}]
[{"$f":"$A766+Planning!$D$2","v":"2015-12-12T06:00:00"}]
[{"$f":"$A767+Planning!$D$2","v":"2015-12-12T12:00:00"}]
[{"$f":"$A768+Planning!$D$2","v":"2015-12-12T18:00:00"}]
[{"$f":"$A769+Planning!$D$2","v":"2015-12-13"}]
[{"$f":"$A770+Planning!$D$2","v":"2015-12-13T06:00:00"}]
[{"$f":"$A771+Planning!$D$2","v":"2015-12-13T12:00:00"}]
[{"$f":"$A772+Planning!$D$2","v":"2015-12-13T18:00:00"}]
[{"$f":"$A773+Planning!$D$2","v":"2015-12-14"}]
[{"$f":"$A774+Planning!$D$2","v":"2015-12-14T06:00:00"}]
[{"$f":"$A775+Planning!$D$2","v":"2015-12-14T12:00:00"}]
[{"$f":"$A776+Planning!$D$2","v":"2015-12-14T18:00:00"}]
[{"$f":"$A777+Planning!$D$2","v":"2015-12-15"}]
[{"$f":"$A778+Planning!$D$2","v":"2015-12-15T06:00:00"}]
[{"$f":"$A779+Planning!$D$2","v":"2015-12-15T12:00:00"}]
[{"$f":"$A780+Planning!$D$2","v":"2015-12-15T18:00:00"}]
[{"$f":"$A781+Planning!$D$2","v":"2015-12-16"}]
[{"$f":"$A782+Planning!$D$2","v":"2015-12-16T06:00:00"}]
[{"$f":"$A783+Planning!$D$2","v":"2015-12-16T12:00:00"}]
[{"$f":"$A784+Planning!$D$2","v":"2015-12-16T18:00:00"}]
[{"$f":"$A785+Planning!$D$2","v":"2015-12-17"}]
[{"$f":"$A786+Planning!$D$2","v":"2015-12-17T06:00:00"}]
[{"$f":"$A787+Planning!$D$2","v":"2015-12-17T12:00:00"}]
[{"$f":"$A788+Planning!$D$2","v":"2015-12-17T18:00:00"}]
[{"$f":"$A789+Planning!$D$2","v":"2015-12-18"}]
[{"$f":"$A790+Planning!$D$2","v":"2015-12-18T06:00:00"}]
[{"$f":"$A791+Planning!$D$2","v":"2015-12-18T12:00:00"}]
[{"$f":"$A792+Planning!$D$2","v":"2015-12-18T18:00:00"}]
[{"$f":"$A793+Planning!$D$2","v":"2015-12-19"}]
[{"$f":"$A794+Planning!$D$2","v":"2015-12-19T06:00:00"}]
[{"$f":"$A795+Planning!$D$2","v":"2015-12-19T12:00:00"}]
[{"$f":"$A796+Planning!$D$2","v":"2015-12-19T18:00:00"}]
[{"$f":"$A797+Planning!$D$2","v":"2015-12-20"}]
[{"$f":"$A798+Planning!$D$2","v":"2015-12-20T06:00:00"}]
[{"$f":"$A799+Planning!$D$2","v":"2015-12-20T12:00:00"}]
[{"$f":"$A800+Planning!$D$2","v":"2015-12-20T18:00:00"}]
[{"$f":"$A801+Planning!$D$2","v":"2015-12-21"}]
[{"$f":"$A802+Planning!$D$2","v":"2015-12-21T06:00:00"}]
[{"$f":"$A803+Planning!$D$2","v":"2015-12-21T12:00:00"}]
[{"$f":"$A804+Planning!$D$2","v":"2015-12-21T18:00:00"}]
[{"$f":"$A805+Planning!$D$2","v":"2015-12-22"}]
[{"$f":"$A806+Planning!$D$2","v":"2015-12-22T06:00:00"}]
[{"$f":"$A807+Planning!$D$2","v":"2015-12-22T12:00:00"}]
[{"$f":"$A808+Planning!$D$2","v":"2015-12-22T18:00:00"}]
[{"$f":"$A809+Planning!$D$2","v":"2015-12-23"}]
[{"$f":"$A810+Planning!$D$2","v":"2015-12-23T06:00:00"}]
[{"$f":"$A811+Planning!$D$2","v":"2015-12-23T12:00:00"}]
[{"$f":"$A812+Planning!$D$2","v":"2015-12-23T18:00:00"}]
[{"$f":"$A813+Planning!$D$2","v":"2015-12-24"}]
[{"$f":"$A814+Planning!$D$2","v":"2015-12-24T06:00:00"}]
[{"$f":"$A815+Planning!$D$2","v":"2015-12-24T12:00:00"}]
[{"$f":"$A816+Planning!$D$2","v":"2015-12-24T18:00:00"}]
[{"$f":"$A817+Planning!$D$2","v":"2015-12-25"}]
[{"$f":"$A818+Planning!$D$2","v":"2015-12-25T06:00:00"}]
[{"$f":"$A819+Planning!$D$2","v":"2015-12-25T12:00:00"}]
[{"$f":"$A820+Planning!$D$2","v":"2015-12-25T18:00:00"}]
[{"$f":"$A821+Planning!$D$2","v":"2015-12-26"}]
[{"$f":"$A822+Planning!$D$2","v":"2015-12-26T06:00:00"}]
[{"$f":"$A823+Planning!$D$2","v":"2015-12-26T12:00:00"}]
[{"$f":"$A824+Planning!$D$2","v":"2015-12-26T18:00:00"}]
[{"$f":"$A825+Planning!$D$2","v":"2015-12-27"}]
[{"$f":"$A826+Planning!$D$2","v":"2015-12-27T06:00:00"}]
[{"$f":"$A827+Planning!$D$2","v":"2015-12-27T12:00:00"}]
[{"$f":"$A828+Planning!$D$2","v":"2015-12-27T18:00:00"}]
[{"$f":"$A829+Planning!$D$2","v":"2015-12-28"}]
[{"$f":"$A830+Planning!$D$2","v":"2015-12-28T06:00:00"}]
[{"$f":"$A831+Planning!$D$2","v":"2015-12-28T12:00:00"}]
[{"$f":"$A832+Planning!$D$2","v":"2015-12-28T18:00:00"}]
[{"$f":"$A833+Planning!$D$2","v":"2015-12-29"}]
[{"$f":"$A834+Planning!$D$2","v":"2015-12-29T06:00:00"}]
[{"$f":"$A835+Planning!$D$2","v":"2015-12-29T12:00:00"}]
[{"$f":"$A836+Planning!$D$2","v":"2015-12-29T18:00:00"}]
[{"$f":"$A837+Planning!$D$2","v":"2015-12-30"}]
[{"$f":"$A838+Planning!$D$2","v":"2015-12-30T06:00:00"}]
[{"$f":"$A839+Planning!$D$2","v":"2015-12-30T12:00:00"}]
[{"$f":"$A840+Planning!$D$2","v":"2015-12-30T18:00:00"}]
[{"$f":"$A841+Planning!$D$2","v":"2015-12-31"}]
[{"$f":"$A842+Planning!$D$2","v":"2015-12-31T06:00:00"}]
[{"$f":"$A843+Planning!$D$2","v":"2015-12-31T12:00:00"}]
[{"$f":"$A844+Planning!$D$2","v":"2015-12-31T18:00:00"}]
[{"$f":"$A845+Planning!$D$2","v":"2016-01-01"}]
[{"$f":"$A846+Planning!$D$2","v":"2016-01-01T06:00:00"}]
[{"$f":"$A847+Planning!$D$2","v":"2016-01-01T12:00:00"}]
[{"$f":"$A848+Planning!$D$2","v":"2016-01-01T18:00:00"}]
[{"$f":"$A849+Planning!$D$2","v":"2016-01-02"}]
[{"$f":"$A850+Planning!$D$2","v":"2016-01-02T06:00:00"}]
[{"$f":"$A851+Planning!$D$2","v":"2016-01-02T12:00:00"}]
[{"$f":"$A852+Planning!$D$2","v":"2016-01-02T18:00:00"}]
[{"$f":"$A853+Planning!$D$2","v":"2016-01-03"}]
[{"$f":"$A854+Planning!$D$2","v":"2016-01-03T06:00:00"}]
[{"$f":"$A855+Planning!$D$2","v":"2016-01-03T12:00:00"}]
[{"$f":"$A856+Planning!$D$2","v":"2016-01-03T18:00:00"}]
[{"$f":"$A857+Planning!$D$2","v":"2016-01-04"}]
[{"$f":"$A858+Planning!$D$2","v":"2016-01-04T06:00:00"}]
[{"$f":"$A859+Planning!$D$2","v":"2016-01-04T12:00:00"}]
[{"$f":"$A860+Planning!$D$2","v":"2016-01-04T18:00:00"}]
[{"$f":"$A861+Planning!$D$2","v":"2016-01-05"}]
[{"$f":"$A862+Planning!$D$2","v":"2016-01-05T06:00:00"}]
[{"$f":"$A863+Planning!$D$2","v":"2016-01-05T12:00:00"}]
[{"$f":"$A864+Planning!$D$2","v":"2016-01-05T18:00:00"}]
[{"$f":"$A865+Planning!$D$2","v":"2016-01-06"}]
[{"$f":"$A866+Planning!$D$2","v":"2016-01-06T06:00:00"}]
[{"$f":"$A867+Planning!$D$2","v":"2016-01-06T12:00:00"}]
[{"$f":"$A868+Planning!$D$2","v":"2016-01-06T18:00:00"}]
[{"$f":"$A869+Planning!$D$2","v":"2016-01-07"}]
[{"$f":"$A870+Planning!$D$2","v":"2016-01-07T06:00:00"}]
[{"$f":"$A871+Planning!$D$2","v":"2016-01-07T12:00:00"}]
[{"$f":"$A872+Planning!$D$2","v":"2016-01-07T18:00:00"}]
[{"$f":"$A873+Planning!$D$2","v":"2016-01-08"}]
[{"$f":"$A874+Planning!$D$2","v":"2016-01-08T06:00:00"}]
[{"$f":"$A875+Planning!$D$2","v":"2016-01-08T12:00:00"}]
[{"$f":"$A876+Planning!$D$2","v":"2016-01-08T18:00:00"}]
[{"$f":"$A877+Planning!$D$2","v":"2016-01-09"}]
[{"$f":"$A878+Planning!$D$2","v":"2016-01-09T06:00:00"}]
[{"$f":"$A879+Planning!$D$2","v":"2016-01-09T12:00:00"}]
[{"$f":"$A880+Planning!$D$2","v":"2016-01-09T18:00:00"}]
[{"$f":"$A881+Planning!$D$2","v":"2016-01-10"}]
[{"$f":"$A882+Planning!$D$2","v":"2016-01-10T06:00:00"}]
[{"$f":"$A883+Planning!$D$2","v":"2016-01-10T12:00:00"}]
[{"$f":"$A884+Planning!$D$2","v":"2016-01-10T18:00:00"}]
[{"$f":"$A885+Planning!$D$2","v":"2016-01-11"}]
[{"$f":"$A886+Planning!$D$2","v":"2016-01-11T06:00:00"}]
[{"$f":"$A887+Planning!$D$2","v":"2016-01-11T12:00:00"}]
[{"$f":"$A888+Planning!$D$2","v":"2016-01-11T18:00:00"}]
[{"$f":"$A889+Planning!$D$2","v":"2016-01-12"}]
[{"$f":"$A890+Planning!$D$2","v":"2016-01-12T06:00:00"}]
[{"$f":"$A891+Planning!$D$2","v":"2016-01-12T12:00:00"}]
[{"$f":"$A892+Planning!$D$2","v":"2016-01-12T18:00:00"}]
[{"$f":"$A893+Planning!$D$2","v":"2016-01-13"}]
[{"$f":"$A894+Planning!$D$2","v":"2016-01-13T06:00:00"}]
[{"$f":"$A895+Planning!$D$2","v":"2016-01-13T12:00:00"}]
[{"$f":"$A896+Planning!$D$2","v":"2016-01-13T18:00:00"}]
[{"$f":"$A897+Planning!$D$2","v":"2016-01-14"}]
[{"$f":"$A898+Planning!$D$2","v":"2016-01-14T06:00:00"}]
[{"$f":"$A899+Planning!$D$2","v":"2016-01-14T12:00:00"}]
[{"$f":"$A900+Planning!$D$2","v":"2016-01-14T18:00:00"}]
[{"$f":"$A901+Planning!$D$2","v":"2016-01-15"}]
[{"$f":"$A902+Planning!$D$2","v":"2016-01-15T06:00:00"}]
[{"$f":"$A903+Planning!$D$2","v":"2016-01-15T12:00:00"}]
[{"$f":"$A904+Planning!$D$2","v":"2016-01-15T18:00:00"}]
[{"$f":"$A905+Planning!$D$2","v":"2016-01-16"}]
[{"$f":"$A906+Planning!$D$2","v":"2016-01-16T06:00:00"}]
[{"$f":"$A907+Planning!$D$2","v":"2016-01-16T12:00:00"}]
[{"$f":"$A908+Planning!$D$2","v":"2016-01-16T18:00:00"}]
[{"$f":"$A909+Planning!$D$2","v":"2016-01-17"}]
[{"$f":"$A910+Planning!$D$2","v":"2016-01-17T06:00:00"}]
[{"$f":"$A911+Planning!$D$2","v":"2016-01-17T12:00:00"}]
[{"$f":"$A912+Planning!$D$2","v":"2016-01-17T18:00:00"}]
[{"$f":"$A913+Planning!$D$2","v":"2016-01-18"}]
[{"$f":"$A914+Planning!$D$2","v":"2016-01-18T06:00:00"}]
[{"$f":"$A915+Planning!$D$2","v":"2016-01-18T12:00:00"}]
[{"$f":"$A916+Planning!$D$2","v":"2016-01-18T18:00:00"}]
[{"$f":"$A917+Planning!$D$2","v":"2016-01-19"}]
[{"$f":"$A918+Planning!$D$2","v":"2016-01-19T06:00:00"}]
[{"$f":"$A919+Planning!$D$2","v":"2016-01-19T12:00:00"}]
[{"$f":"$A920+Planning!$D$2","v":"2016-01-19T18:00:00"}]
[{"$f":"$A921+Planning!$D$2","v":"2016-01-20"}]
[{"$f":"$A922+Planning!$D$2","v":"2016-01-20T06:00:00"}]
[{"$f":"$A923+Planning!$D$2","v":"2016-01-20T12:00:00"}]
[{"$f":"$A924+Planning!$D$2","v":"2016-01-20T18:00:00"}]
[{"$f":"$A925+Planning!$D$2","v":"2016-01-21"}]
[{"$f":"$A926+Planning!$D$2","v":"2016-01-21T06:00:00"}]
[{"$f":"$A927+Planning!$D$2","v":"2016-01-21T12:00:00"}]
[{"$f":"$A928+Planning!$D$2","v":"2016-01-21T18:00:00"}]
[{"$f":"$A929+Planning!$D$2","v":"2016-01-22"}]
[{"$f":"$A930+Planning!$D$2","v":"2016-01-22T06:00:00"}]
[{"$f":"$A931+Planning!$D$2","v":"2016-01-22T12:00:00"}]
[{"$f":"$A932+Planning!$D$2","v":"2016-01-22T18:00:00"}]
[{"$f":"$A933+Planning!$D$2","v":"2016-01-23"}]
[{"$f":"$A934+Planning!$D$2","v":"2016-01-23T06:00:00"}]
[{"$f":"$A935+Planning!$D$2","v":"2016-01-23T12:00:00"}]
[{"$f":"$A936+Planning!$D$2","v":"2016-01-23T18:00:00"}]
[{"$f":"$A937+Planning!$D$2","v":"2016-01-24"}]
[{"$f":"$A938+Planning!$D$2","v":"2016-01-24T06:00:00"}]
[{"$f":"$A939+Planning!$D$2","v":"2016-01-24T12:00:00"}]
[{"$f":"$A940+Planning!$D$2","v":"2016-01-24T18:00:00"}]
[{"$f":"$A941+Planning!$D$2","v":"2016-01-25"}]
[{"$f":"$A942+Planning!$D$2","v":"2016-01-25T06:00:00"}]
[{"$f":"$A943+Planning!$D$2","v":"2016-01-25T12:00:00"}]
[{"$f":"$A944+Planning!$D$2","v":"2016-01-25T18:00:00"}]
[{"$f":"$A945+Planning!$D$2","v":"2016-01-26"}]
[{"$f":"$A946+Planning!$D$2","v":"2016-01-26T06:00:00"}]
[{"$f":"$A947+Planning!$D$2","v":"2016-01-26T12:00:00"}]
[{"$f":"$A948+Planning!$D$2","v":"2016-01-26T18:00:00"}]
[{"$f":"$A949+Planning!$D$2","v":"2016-01-27"}]
[{"$f":"$A950+Planning!$D$2","v":"2016-01-27T06:00:00"}]
[{"$f":"$A951+Planning!$D$2","v":"2016-01-27T12:00:00"}]
[{"$f":"$A952+Planning!$D$2","v":"2016-01-27T18:00:00"}]
[{"$f":"$A953+Planning!$D$2","v":"2016-01-28"}]
[{"$f":"$A954+Planning!$D$2","v":"2016-01-28T06:00:00"}]
[{"$f":"$A955+Planning!$D$2","v":"2016-01-28T12:00:00"}]
[{"$f":"$A956+Planning!$D$2","v":"2016-01-28T18:00:00"}]
[{"$f":"$A957+Planning!$D$2","v":"2016-01-29"}]
[{"$f":"$A958+Planning!$D$2","v":"2016-01-29T06:00:00"}]
[{"$f":"$A959+Planning!$D$2","v":"2016-01-29T12:00:00"}]
[{"$f":"$A960+Planning!$D$2","v":"2016-01-29T18:00:00"}]
[{"$f":"$A961+Planning!$D$2","v":"2016-01-30"}]
[{"$f":"$A962+Planning!$D$2","v":"2016-01-30T06:00:00"}]
[{"$f":"$A963+Planning!$D$2","v":"2016-01-30T12:00:00"}]
[{"$f":"$A964+Planning!$D$2","v":"2016-01-30T18:00:00"}]
[{"$f":"$A965+Planning!$D$2","v":"2016-01-31"}]
[{"$f":"$A966+Planning!$D$2","v":"2016-01-31T06:00:00"}]
[{"$f":"$A967+Planning!$D$2","v":"2016-01-31T12:00:00"}]
[{"$f":"$A968+Planning!$D$2","v":"2016-01-31T18:00:00"}]
[{"$f":"$A969+Planning!$D$2","v":"2016-02-01"}]
[{"$f":"$A970+Planning!$D$2","v":"2016-02-01T06:00:00"}]
[{"$f":"$A971+Planning!$D$2","v":"2016-02-01T12:00:00"}]
[{"$f":"$A972+Planning!$D$2","v":"2016-02-01T18:00:00"}]
[{"$f":"$A973+Planning!$D$2","v":"2016-02-02"}]
[{"$f":"$A974+Planning!$D$2","v":"2016-02-02T06:00:00"}]
[{"$f":"$A975+Planning!$D$2","v":"2016-02-02T12:00:00"}]
[{"$f":"$A976+Planning!$D$2","v":"2016-02-02T18:00:00"}]
[{"$f":"$A977+Planning!$D$2","v":"2016-02-03"}]
[{"$f":"$A978+Planning!$D$2","v":"2016-02-03T06:00:00"}]
[{"$f":"$A979+Planning!$D$2","v":"2016-02-03T12:00:00"}]
[{"$f":"$A980+Planning!$D$2","v":"2016-02-03T18:00:00"}]
[{"$f":"$A981+Planning!$D$2","v":"2016-02-04"}]
[{"$f":"$A982+Planning!$D$2","v":"2016-02-04T06:00:00"}]
[{"$f":"$A983+Planning!$D$2","v":"2016-02-04T12:00:00"}]
[{"$f":"$A984+Planning!$D$2","v":"2016-02-04T18:00:00"}]
[{"$f":"$A985+Planning!$D$2","v":"2016-02-05"}]
[{"$f":"$A986+Planning!$D$2","v":"2016-02-05T06:00:00"}]
[{"$f":"$A987+Planning!$D$2","v":"2016-02-05T12:00:00"}]
[{"$f":"$A988+Planning!$D$2","v":"2016-02-05T18:00:00"}]
[{"$f":"$A989+Planning!$D$2","v":"2016-02-06"}]
[{"$f":"$A990+Planning!$D$2","v":"2016-02-06T06:00:00"}]
[{"$f":"$A991+Planning!$D$2","v":"2016-02-06T12:00:00"}]
[{"$f":"$A992+Planning!$D$2","v":"2016-02-06T18:00:00"}]
[{"$f":"$A993+Planning!$D$2","v":"2016-02-07"}]
[{"$f":"$A994+Planning!$D$2","v":"2016-02-07T06:00:00"}]
[{"$f":"$A995+Planning!$D$2","v":"2016-02-07T12:00:00"}]
[{"$f":"$A996+Planning!$D$2","v":"2016-02-07T18:00:00"}]
[{"$f":"$A997+Planning!$D$2","v":"2016-02-08"}]
[{"$f":"$A998+Planning!$D$2","v":"2016-02-08T06:00:00"}]
[{"$f":"$A999+Planning!$D$2","v":"2016-02-08T12:00:00"}]

{"sheet":"Traduction","index":14,"n_rows":242,"n_cols":2,"rows_kept":242,"cut":false,"hidden":true,"merged":[[0,0,0,1]]}
["Translation"]
["Français - FR","English - EN"]
["% Réalisé","% Complete"]
["% Réalisé (au-delà du planifié)","% Complete (beyond plan)"]
["=> Temps par Ouvrier :","=> Time per Builder:"]
["1 jour","1 day"]
["1 heure","1 hour"]
["1 mois","1 month"]
["1 semaine","1 week"]
["16 heures","16 hours"]
["2 jours","2 days"]
["2 heures","2 hours"]
["3 jours","3 days"]
["3.a. Saisir le nombre de Bâtiments que vous avez actuellement avec leurs levels correspondants\n3.b. Saisir le level actuel de vos améliorations de Sorts/Troupes Normales/Troupes Noires\n3.c. Saisir le level actuel de vos Héros","3.a. Write down the number of Buildings you currently have with their corresponding levels\n3.b. Write down the current level of your Spells/Normals Troops/Dark Troops upgrades\n3.c. Write down the current level of your Heroes"]
["4 heures","4 hours"]
["8 heures","8 hours"]
["Réel","Actual"]
["Réel (au-delà du planifié)","Actual (beyond plan)"]
["Durée Réelle","Actual Duration"]
["Début Réel","Actual Start"]
["Défense Antiaérienne","Air Defense"]
["Montant","Amount"]
["Archer","Archer"]
["Reine des Archers","Archer Queen"]
["Tour d'Archers","Archer Tower"]
["Bâtiments d'Armée","Army Buildings"]
["Bâtiments d'Amée (Disponibles et LVL Max)","Army Buildings (Available & Max LVL)"]
["Bâtiments d'Amée (Changements)","Army Buildings (Changes)"]
["Camp Militaire","Army Camp"]
["Camp Militaire - Capacité Totale","Army Camp - Total Capacity"]
["Camp Militaire\nCapacité Totale","Army Camp\nTotal Capacity"]
["Attaque","Attack"]
["Attaque / Défense","Attack / Defense"]
["Ballon","Balloon"]
["Barbare","Barbarian"]
["Roi des Barbares","Barbarian King"]
["Caserne","Barracks"]
["Caserne n°1 - NB","Barracks #1 - NB"]
["LVL\nCaserne n°1","Barracks #1\nLVL"]
["Caserne° 2 - NB","Barracks #2 - NB"]
["LVL\nCaserne n°2","Barracks #2\nLVL"]
["Caserne n°3 - NB","Barracks #3 - NB"]
["LVL\nCaserne n°3","Barracks #3\nLVL"]
["Caserne n°4 - NB","Barracks #4 - NB"]
["LVL\nCaserne n°4","Barracks #4\nLVL"]
["Caserne non disponible\n(ou pas de Laboratoire)","Barracks not available\n(or no Laboratory)"]
["Colonne marron :","Brown cell:"]
["Ouvriers","Builders"]
["Ouvriers disponibles","Builders available"]
["Bâtiment","Building"]
["Bâtiment non disponible","Building not available"]
["Bâtiments : ","Buildings: "]
["Calendrier","Calendar"]
["Canon","Cannon"]
["Capacité","Capacity"]
["Capacité - Bâtiments","Capacity - Buildings"]
["Journal des Modifications","ChangeLog"]
["Château de Clan","Clan Castle"]
["Construction / Amélioration","Construction / Upgrade"]
["Coût","Cost"]
["Coûts - Bâtiments d'Armée","Costs - Army Buildings"]
["Coûts - Formation de Troupes Noires","Costs - Dark Troops Training"]
["Coûts - Améliorations de Troupes Noires","Costs - Dark Troops Upgrades"]
["Coûts - Bâtiments de Défense","Costs - Defensive Buildings"]
["Coûts - Héros","Costs - Heroes"]
["Coûts - Formation de Troupes Normales","Costs - Normal Troops Training"]
["Coûts - Améliroations de Troupes Normales","Costs - Normal Troops Upgrades"]
["Coûts - Bâtiments Autres","Costs - Other Buildings"]
["Coûts - Bâtiments de Ressources","Costs - Resource Buildings"]
["Coûts - Améliorations de Sorts","Costs - Spells Upgrades"]
["Créer Planning","Create Planning"]
["Actuel","Current"]
["Actuel +","Current +"]
["j/h/m","d/h/m"]
["Caserne Noire","Dark Barracks"]
["Caserne Noire n°1 - NB","Dark Barracks #1 - NB"]
["LVL\nCaserne Noire n°1","Dark Barracks #1\nLVL"]
["Caserne Noire n°2 - NB","Dark Barracks #2 - NB"]
["LVL\nCaserne Noire n°2","Dark Barracks #2\nLVL"]
["Élixir Noir","Dark Elixir"]
["Bonus d'Élixir Noir","Dark Elixir Bonus"]
["Foreuse d'Élixir Noir","Dark Elixir Drill"]
["Besoins d'Elixir Noir","Dark Elixir needs"]
["Réservoir d'Élixir Noir","Dark Elixir Storage"]
["Troupe Noire","Dark Troop"]
["Formation de Troupes Noires","Dark Troops Training"]
["Améliorations de Troupes Noires","Dark Troops Upgrades"]
["Améliorations de Troupes Noires (Disponibles et LVL Max)","Dark Troops Upgrades (Available & Max LVL)"]
["Améliorations de Troupes Noires (Changements)","Dark Troops Upgrades (Changes)"]
["Date","Date"]
["jours","days"]
["Défense","Defense"]
["Bâtiments Défensifs","Defensive Buildings"]
["Bâtiments de Défense (Disponibles et LVL Max)","Defensive Buildings (Available & Max LVL)"]
["Bâtiments de Défense (Changements)","Defensive Buildings (Changes)"]
["Description","Description"]
["Téléchargement","Download"]
["Dragon","Dragon"]
["Gains","Earnings"]
["Élixir","Elixir"]
["Bonus d'Élixir","Elixir Bonus"]
["Extracteur d'Élixir","Elixir Collector"]
["Besoins d'Elixir","Elixir needs"]
["Réservoir d'Élixir","Elixir Storage"]
["Erreur - Camp Militaire\nMax. total atteint","Error - Army Camp\nTotal max. reach"]
["Erreur - Caserne\nMax. total atteint","Error - Barracks\nTotal max. reach"]
["Erreur - Bâtiment\nMax. total atteint","Error - Building\nTotal max. reach"]
["Erreur - Pas suffisament d'Ouvriers","Error - Not enought Builders"]
["Erreur\nMax. total atteint","Error\nTotal max. reach"]
["Champs","Fields"]
["Sort de Gel","Freeze Spell"]
["Géant","Giant"]
["Gobelin","Goblin"]
["Or","Gold"]
["Bonus d'Or","Gold Bonus"]
["Mine d'Or","Gold Mine"]
["Besoins d'Or\n(sans remparts)","Gold needs\n(without walls)"]
["Réserve d'Or","Gold Storage"]
["Golem","Golem"]
["Cellule verte :","Green cell:"]
["h/m/s","h/m/s"]
["Guérisseuse","Healer"]
["Sort de Guérison","Healing Spell"]
["Héros","Hero"]
["Héros","Heroes"]
["Héros (Disponibles & LVL Max)","Heroes (Available & Max LVL)"]
["Héros (Changements)","Heroes (Changes)"]
["Héros : ","Heroes: "]
["Tesla Camouflée","Hidden Tesla"]
["Chevaucheur de Cochon","Hog Rider"]
["heures","hours"]
["hrs","hrs"]
["Tour de l'Enfer","Inferno Tower"]
["INSTRUCTIONS:\n1. LVL HdV : Indiquer le level de votre Hôtel de Ville (1-10)\n\n2. Ouvriers : Indiquer le nombre d'ouvriers que vous avez (1-5)","INSTRUCTIONS:\n1. TH LVL: Indicate the level of your Town Hall (1-10)\n\n2. Builders: Indicate the number of Builders you have (1-5)"]
["Sort de Saut","Jump Spell"]
["Laboratoire","Laboratory"]
["Laboratoire - NB","Laboratory - NB"]
["Langue","Language"]
["Bonus de Ligue","League Bonus"]
["Légende","Legend"]
["Sort de Foudre","Lightning Spell"]
["Multiplicateur de Loot","Loot Multiplier"]
["Loots - Gains Possibles vs HdV LVL ","Loots - Possible Earnings vs TH LVL "]
["Loots - Pertes Possibles vs HdV LVL ","Loots - Possible Losses vs TH LVL "]
["LVL","LVL"]
["LVL Max","Max LVL"]
["Espace Max","Max Space"]
["Stockage Max","Max Stockable"]
["Amélioration max. atteinte","Max. upgrade reached"]
["Gain Maximum","Maximum Gain"]
["Mines/Extracteurs/Foreuses","Mines/Collectors/Drills"]
["Serviteur","Minion"]
["mins","mins"]
["minutes","minutes"]
["mois","months"]
["Mortier","Mortar"]
["Nom de Fichier","Name File"]
["NB\nCaserne","NB\nBarracks"]
["NB\nCaserne Noire","NB\nDark Barracks"]
["Troupe Normale","Normal Troop"]
["Formation de Troupes Normales","Normal Troops Training"]
["Améliorations de Troupes","Normal Troops Upgrades"]
["Améliorations de Troupes Normales (Disponibles & LVL Max)","Normal Troops Upgrades (Available & Max LVL)"]
["Améliorations de Troupes Normales (Changements)","Normal Troops Upgrades (Changes)"]
["LVL HdV Opposant","Opponent TH LVL"]
["Cellule orange :","Orange Cell:"]
["Colonne orange :","Orange column:"]
["Bâtiments Autres","Other Buildings"]
["Bâtiments Autres (Disponibles et LVL Max)","Other Buildings (Available & Max LVL)"]
["Bâtiments Autres (Changements)","Other Buildings (Changes)"]
["P.E.K.K.A","P.E.K.K.A"]
["Période","Period"]
["Période Sélectionnée","Period Highlight"]
["Planifié","Plan"]
["Durée Planifée (jours)","Plan Duration (days)"]
["Début Planifiée","Plan Start"]
["Planning","Planning"]
["Production","Production"]
["Production / heure","Production / hour"]
["Production / période","Production / period"]
["Sort de Rage","Rage Spell"]
["Combat - Nombre de Ressources Disponibles","Raiding - Available Amount of Ressources"]
["Combat - Gains","Raiding - Earnings"]
["Combat - Profits","Raiding - Profits"]
["Combat - Nombre Total de Ressources","Raiding - Total Amount of Ressources"]
["Classement","Rank"]
["Cellule rouge :","Red cell:"]
["Ressources Nécessaires","Required Resources"]
["Réinitialiser","Reset"]
["Bâtiments de Ressources","Resource Buildings"]
["Bâtiments de Ressources (Disponibles et LVL Max)","Resource Buildings (Available & Max LVL)"]
["Bâtiments de Ressources (Changements)","Resource Buildings (Changes)"]
["secondes","seconds"]
["Espace","Space"]
["Sort","Spell"]
["Usine de Sorts","Spell Factory"]
["LVL Usine de Sorts","Spell Factory\nLVL"]
["Création de Sorts","Spells Creation"]
["Améliorations de Sorts","Spells Upgrades"]
["Améliorations de Sorts (Disponibles et LVL Max)","Spells Upgrades (Available & Max LVL)"]
["Améliorations de Sorts (Changements)","Spells Upgrades (Changes)"]
["Date de Départ","Start Date"]
["Pas (jour)","Step (day)"]
["Stockages","Storages"]
["Tableaux récapitulatifs","Summary Tables"]
["LVL HdV","TH LVL"]
["Différence LVL HdV","TH LVL Difference"]
["Temps","Time"]
["Affichage Temps","Time Display"]
["Temps pour obtenir besoins","Time to reach needs"]
["À Faire","TO DO"]
["Total","Total"]
["Coût Total","Total Cost"]
["Élixir Noir Total :","Total Dark Elixir:"]
["Élixir Total :","Total Elixir:"]
["Or Total :","Total Gold:"]
["Espace Total","Total Space"]
["Temps Total","Total Time"]
["Temps Total :","Total Time:"]
["Hôtel de Ville","Town Hall"]
["Hôtel de Ville - Élixir","Town Hall - Elixir"]
["Hôtel de Ville - Or","Town Hall - Gold"]
["Pièges (Disponibles)","Traps (Available)"]
["Pièges (Changements)","Traps (Changes)"]
["Troupe/Sort non disponible","Troop/Spell not available"]
["Améliorations de Troupes/Sorts :","Troops/Spells Up.:"]
["Trophées","Trophies"]
["Bonus de Trophées","Trophies Bonus"]
["Différence de Trophées","Trophies Difference"]
["Type","Type"]
["Up.","Up."]
["Amélioration non disponible","Upgrade not available"]
["Améliorations","Upgrades"]
["Valkyrie","Valkyrie"]
["Version","Version"]
["Rempart","Wall"]
["Sapeur","Wall Breaker"]
["Sorcière","Witch"]
["Sorcier","Wizard"]
["Tour de Sorciers","Wizard Tower"]
["Arc-X","X-Bow"]
["Ligne jaune :","Yellow line:"]

{"sheet":"Paramètres - Admin","index":15,"n_rows":42,"n_cols":7,"rows_kept":42,"cut":false,"hidden":true,"merged":[]}
["+","Affichage Temps","Affichage Temps","Champs","Période","Attaque / Défense","Step"]
[0,"secondes","secondes","mins","1 heure","Attaque",0.25]
[{"$f":"A2+1","v":1},"minutes","minutes","hrs","2 heures","Défense",0.5]
[2,"heures","heures","jours","4 heures",null,0.75]
[3,"jours","h/m/s","sec","8 heures",null,1]
[4,"mois",null,"Héros : ","16 heures"]
[5,"j/h/m",null,"Bâtiments : ","1 jour"]
[6,null,null,null,"2 jours"]
[7,null,null,null,"3 jours"]
[8,null,null,null,"1 semaine"]
[9,null,null,null,"1 mois"]
[10]
[11]
[12]
[13]
[14]
[15]
[16]
[17]
[18]
[19]
[20]
[21]
[22]
[23]
[24]
[25]
[26]
[27]
[28]
[29]
[30]
[31]
[32]
[33]
[34]
[35]
[36]
[37]
[38]
[39]
[40]

{"sheet":"Paramètres","index":16,"n_rows":89,"n_cols":59,"rows_kept":89,"cut":false,"hidden":false,"merged":[[47,1,47,54],[25,56,33,57],[0,36,0,45],[0,53,0,54],[17,56,24,57],[0,31,0,35],[13,56,15,56],[13,57,15,57],[5,56,7,56],[5,57,7,57],[9,56,11,56],[9,57,11,57],[0,46,0,51],[0,12,0,21],[0,0,1,0],[0,1,0,6],[0,7,0,11],[0,22,0,23],[0,24,0,29]]}
["+","Bâtiments de Ressources",null,null,null,null,null,"Bâtiments d'Armée",null,null,null,null,"Bâtiments Défensifs",null,null,null,null,null,null,null,null,null,"Bâtiments Autres",null,"Pièges",null,null,null,null,null,null,"Spell Upgrades",null,null,null,null,"Améliorations de Troupes",null,null,null,null,null,null,null,null,null,"Améliorations de Troupes Noires",null,null,null,null,null,null,"Héros",null,null,"LVL HdV","Ouvriers","Langue"]
[null,"Mine d'Or","Extracteur d'Élixir","Foreuse d'Élixir Noir","Réserve d'Or","Réservoir d'Élixir","Réservoir d'Élixir Noir","Caserne","Caserne Noire","Camp Militaire","Laboratoire","Usine de Sorts","Rempart","Canon","Tour d'Archers","Mortier","Défense Antiaérienne","Tour de Sorciers","Tesla Camouflée","Arc-X","Tour de l'Enfer","Propulseur d'air","Château de Clan","Hôtel de Ville","Bombe","Mine chercheuse","Bombe géante","Bombe aérienne","Piège squelettique","Piège à ressort",null,"Sort de Foudre","Sort de Guérison","Sort de Rage","Sort de Saut","Sort de Gel","Barbare","Archer","Géant","Gobelin","Sapeur","Ballon","Sorcier","Guérisseuse","Dragon","P.E.K.K.A","Serviteur","Chevaucheur de Cochon","Valkyrie","Golem","Sorcière","Molosse de lave",null,"Roi des Barbares","Reine des Archers",null,10,4,"Français"]
["Max",{"$f":"VLOOKUP($BE$2,AVAILABLE_Buildings_Resource[#All],MATCH(B$2,AVAILABLE_Buildings_Resource[#Headers],0))","v":7},{"$f":"VLOOKUP($BE$2,AVAILABLE_Buildings_Resource[#All],MATCH(C$2,AVAILABLE_Buildings_Resource[#Headers],0))","v":7},{"$f":"VLOOKUP($BE$2,AVAILABLE_Buildings_Resource[#All],MATCH(D$2,AVAILABLE_Buildings_Resource[#Headers],0))","v":3},{"$f":"VLOOKUP($BE$2,AVAILABLE_Buildings_Resource[#All],MATCH(E$2,AVAILABLE_Buildings_Resource[#Headers],0))","v":4},{"$f":"VLOOKUP($BE$2,AVAILABLE_Buildings_Resource[#All],MATCH(F$2,AVAILABLE_Buildings_Resource[#Headers],0))","v":4},{"$f":"VLOOKUP($BE$2,AVAILABLE_Buildings_Resource[#All],MATCH(G$2,AVAILABLE_Buildings_Resource[#Headers],0))","v":1},{"$f":"VLOOKUP($BE$2,AVAILABLE_Buildings_Army[#All],MATCH(H$2,AVAILABLE_Buildings_Army[#Headers],0))","v":4},{"$f":"VLOOKUP($BE$2,AVAILABLE_Buildings_Army[#All],MATCH(I$2,AVAILABLE_Buildings_Army[#Headers],0))","v":2},{"$f":"VLOOKUP($BE$2,AVAILABLE_Buildings_Army[#All],MATCH(J$2,AVAILABLE_Buildings_Army[#Headers],0))","v":4},{"$f":"VLOOKUP($BE$2,AVAILABLE_Buildings_Army[#All],MATCH(K$2,AVAILABLE_Buildings_Army[#Headers],0))","v":1},{"$f":"VLOOKUP($BE$2,AVAILABLE_Buildings_Army[#All],MATCH(L$2,AVAILABLE_Buildings_Army[#Headers],0))","v":1},{"$f":"VLOOKUP($BE$2,AVAILABLE_Buildings_Defensive[#All],MATCH(M$2,AVAILABLE_Buildings_Defensive[#Headers],0))","v":250},{"$f":"VLOOKUP($BE$2,AVAILABLE_Buildings_Defensive[#All],MATCH(N$2,AVAILABLE_Buildings_Defensive[#Headers],0))","v":6},{"$f":"VLOOKUP($BE$2,AVAILABLE_Buildings_Defensive[#All],MATCH(O$2,AVAILABLE_Buildings_Defensive[#Headers],0))","v":7},{"$f":"VLOOKUP($BE$2,AVAILABLE_Buildings_Defensive[#All],MATCH(P$2,AVAILABLE_Buildings_Defensive[#Headers],0))","v":4},{"$f":"VLOOKUP($BE$2,AVAILABLE_Buildings_Defensive[#All],MATCH(Q$2,AVAILABLE_Buildings_Defensive[#Headers],0))","v":4},{"$f":"VLOOKUP($BE$2,AVAILABLE_Buildings_Defensive[#All],MATCH(R$2,AVAILABLE_Buildings_Defensive[#Headers],0))","v":4},{"$f":"VLOOKUP($BE$2,AVAILABLE_Buildings_Defensive[#All],MATCH(S$2,AVAILABLE_Buildings_Defensive[#Headers],0))","v":4},{"$f":"VLOOKUP($BE$2,AVAILABLE_Buildings_Defensive[#All],MATCH(T$2,AVAILABLE_Buildings_Defensive[#Headers],0))","v":3},{"$f":"VLOOKUP($BE$2,AVAILABLE_Buildings_Defensive[#All],MATCH(U$2,AVAILABLE_Buildings_Defensive[#Headers],0))","v":2},{"$f":"VLOOKUP($BE$2,AVAILABLE_Buildings_Defensive[#All],MATCH(V$2,AVAILABLE_Buildings_Defensive[#Headers],0))","v":1},{"$f":"VLOOKUP($BE$2,AVAILABLE_Buildings_Other[#All],MATCH(W$2,AVAILABLE_Buildings_Other[#Headers],0))","v":1},{"$f":"VLOOKUP($BE$2,AVAILABLE_Buildings_Other[#All],MATCH(X$2,AVAILABLE_Buildings_Other[#Headers],0))","v":1},{"$f":"VLOOKUP($BE$2,AVAILABLE_Traps[#All],MATCH(Y$2,AVAILABLE_Traps[#Headers],0))","v":6},{"$f":"VLOOKUP($BE$2,AVAILABLE_Traps[#All],MATCH(Z$2,AVAILABLE_Traps[#Headers],0))","v":5},{"$f":"VLOOKUP($BE$2,AVAILABLE_Traps[#All],MATCH(AA$2,AVAILABLE_Traps[#Headers],0))","v":5},{"$f":"VLOOKUP($BE$2,AVAILABLE_Traps[#All],MATCH(AB$2,AVAILABLE_Traps[#Headers],0))","v":5},{"$f":"VLOOKUP($BE$2,AVAILABLE_Traps[#All],MATCH(AC$2,AVAILABLE_Traps[#Headers],0))","v":3},{"$f":"VLOOKUP($BE$2,AVAILABLE_Traps[#All],MATCH(AD$2,AVAILABLE_Traps[#Headers],0))","v":6},null,{"$f":"VLOOKUP($BE$2,AVAILABLE_Upgrades_Spells[#All],MATCH(AF$2,AVAILABLE_Upgrades_Spells[#Headers],0))","v":1},{"$f":"VLOOKUP($BE$2,AVAILABLE_Upgrades_Spells[#All],MATCH(AG$2,AVAILABLE_Upgrades_Spells[#Headers],0))","v":1},{"$f":"VLOOKUP($BE$2,AVAILABLE_Upgrades_Spells[#All],MATCH(AH$2,AVAILABLE_Upgrades_Spells[#Headers],0))","v":1},{"$f":"VLOOKUP($BE$2,AVAILABLE_Upgrades_Spells[#All],MATCH(AI$2,AVAILABLE_Upgrades_Spells[#Headers],0))","v":1},{"$f":"VLOOKUP($BE$2,AVAILABLE_Upgrades_Spells[#All],MATCH(AJ$2,AVAILABLE_Upgrades_Spells[#Headers],0))","v":1},{"$f":"VLOOKUP($BE$2,AVAILABLE_Upgrades_Normal_Troops[#All],MATCH(AK$2,AVAILABLE_Upgrades_Normal_Troops[#Headers],0))","v":1},{"$f":"VLOOKUP($BE$2,AVAILABLE_Upgrades_Normal_Troops[#All],MATCH(AL$2,AVAILABLE_Upgrades_Normal_Troops[#Headers],0))","v":1},{"$f":"VLOOKUP($BE$2,AVAILABLE_Upgrades_Normal_Troops[#All],MATCH(AM$2,AVAILABLE_Upgrades_Normal_Troops[#Headers],0))","v":1},{"$f":"VLOOKUP($BE$2,AVAILABLE_Upgrades_Normal_Troops[#All],MATCH(AN$2,AVAILABLE_Upgrades_Normal_Troops[#Headers],0))","v":1},{"$f":"VLOOKUP($BE$2,AVAILABLE_Upgrades_Normal_Troops[#All],MATCH(AO$2,AVAILABLE_Upgrades_Normal_Troops[#Headers],0))","v":1},{"$f":"VLOOKUP($BE$2,AVAILABLE_Upgrades_Normal_Troops[#All],MATCH(AP$2,AVAILABLE_Upgrades_Normal_Troops[#Headers],0))","v":1},{"$f":"VLOOKUP($BE$2,AVAILABLE_Upgrades_Normal_Troops[#All],MATCH(AQ$2,AVAILABLE_Upgrades_Normal_Troops[#Headers],0))","v":1},{"$f":"VLOOKUP($BE$2,AVAILABLE_Upgrades_Normal_Troops[#All],MATCH(AR$2,AVAILABLE_Upgrades_Normal_Troops[#Headers],0))","v":1},{"$f":"VLOOKUP($BE$2,AVAILABLE_Upgrades_Normal_Troops[#All],MATCH(AS$2,AVAILABLE_Upgrades_Normal_Troops[#Headers],0))","v":1},{"$f":"VLOOKUP($BE$2,AVAILABLE_Upgrades_Normal_Troops[#All],MATCH(AT$2,AVAILABLE_Upgrades_Normal_Troops[#Headers],0))","v":1},{"$f":"VLOOKUP($BE$2,AVAILABLE_Upgrades_Dark_Troops[#All],MATCH(AU$2,AVAILABLE_Upgrades_Dark_Troops[#Headers],0))","v":1},{"$f":"VLOOKUP($BE$2,AVAILABLE_Upgrades_Dark_Troops[#All],MATCH(AV$2,AVAILABLE_Upgrades_Dark_Troops[#Headers],0))","v":1},{"$f":"VLOOKUP($BE$2,AVAILABLE_Upgrades_Dark_Troops[#All],MATCH(AW$2,AVAILABLE_Upgrades_Dark_Troops[#Headers],0))","v":1},{"$f":"VLOOKUP($BE$2,AVAILABLE_Upgrades_Dark_Troops[#All],MATCH(AX$2,AVAILABLE_Upgrades_Dark_Troops[#Headers],0))","v":1},{"$f":"VLOOKUP($BE$2,AVAILABLE_Upgrades_Dark_Troops[#All],MATCH(AY$2,AVAILABLE_Upgrades_Dark_Troops[#Headers],0))","v":1},{"$f":"VLOOKUP($BE$2,AVAILABLE_Upgrades_Dark_Troops[#All],MATCH(AZ$2,AVAILABLE_Upgrades_Dark_Troops[#Headers],0))","v":1},null,{"$f":"VLOOKUP($BE$2,AVAILABLE_Heroes[#All],MATCH(BB$2,AVAILABLE_Heroes[#Headers],0))","v":1},{"$f":"VLOOKUP($BE$2,AVAILABLE_Heroes[#All],MATCH(BC$2,AVAILABLE_Heroes[#Headers],0))","v":1}]
["À Faire",{"$f":"B3-B46","v":7},7,3,4,4,1,4,2,4,1,1,250,6,7,4,4,4,4,3,2,1,1,1,6,5,5,5,3,6,null,{"$f":"AF3-AF46","v":1},1,1,1,1,1,1,1,1,1,1,1,1,1,1,1,1,1,1,1,1,null,{"$f":"BB3-BB46","v":1},{"$f":"BC3-BC46","v":1}]
["Max +",{"$f":"VLOOKUP($BE$2,AVAILABLE_Buildings_Resource[#All],MATCH(B$2,AVAILABLE_Buildings_Resource[#Headers],0)+1)","v":12},{"$f":"VLOOKUP($BE$2,AVAILABLE_Buildings_Resource[#All],MATCH(C$2,AVAILABLE_Buildings_Resource[#Headers],0)+1)","v":12},{"$f":"VLOOKUP($BE$2,AVAILABLE_Buildings_Resource[#All],MATCH(D$2,AVAILABLE_Buildings_Resource[#Headers],0)+1)","v":6},{"$f":"VLOOKUP($BE$2,AVAILABLE_Buildings_Resource[#All],MATCH(E$2,AVAILABLE_Buildings_Resource[#Headers],0)+1)","v":11},{"$f":"VLOOKUP($BE$2,AVAILABLE_Buildings_Resource[#All],MATCH(F$2,AVAILABLE_Buildings_Resource[#Headers],0)+1)","v":11},{"$f":"VLOOKUP($BE$2,AVAILABLE_Buildings_Resource[#All],MATCH(G$2,AVAILABLE_Buildings_Resource[#Headers],0)+1)","v":6},{"$f":"VLOOKUP($BE$2,AVAILABLE_Buildings_Army[#All],MATCH(H$2,AVAILABLE_Buildings_Army[#Headers],0)+1)","v":10},{"$f":"VLOOKUP($BE$2,AVAILABLE_Buildings_Army[#All],MATCH(I$2,AVAILABLE_Buildings_Army[#Headers],0)+1)","v":6},{"$f":"VLOOKUP($BE$2,AVAILABLE_Buildings_Army[#All],MATCH(J$2,AVAILABLE_Buildings_Army[#Headers],0)+1)","v":8},{"$f":"VLOOKUP($BE$2,AVAILABLE_Buildings_Army[#All],MATCH(K$2,AVAILABLE_Buildings_Army[#Headers],0)+1)","v":8},{"$f":"VLOOKUP($BE$2,AVAILABLE_Buildings_Army[#All],MATCH(L$2,AVAILABLE_Buildings_Army[#Headers],0)+1)","v":5},{"$f":"VLOOKUP($BE$2,AVAILABLE_Buildings_Defensive[#All],MATCH(M$2,AVAILABLE_Buildings_Defensive[#Headers],0)+1)","v":11},{"$f":"VLOOKUP($BE$2,AVAILABLE_Buildings_Defensive[#All],MATCH(N$2,AVAILABLE_Buildings_Defensive[#Headers],0)+1)","v":13},{"$f":"VLOOKUP($BE$2,AVAILABLE_Buildings_Defensive[#All],MATCH(O$2,AVAILABLE_Buildings_Defensive[#Headers],0)+1)","v":13},{"$f":"VLOOKUP($BE$2,AVAILABLE_Buildings_Defensive[#All],MATCH(P$2,AVAILABLE_Buildings_Defensive[#Headers],0)+1)","v":8},{"$f":"VLOOKUP($BE$2,AVAILABLE_Buildings_Defensive[#All],MATCH(Q$2,AVAILABLE_Buildings_Defensive[#Headers],0)+1)","v":8},{"$f":"VLOOKUP($BE$2,AVAILABLE_Buildings_Defensive[#All],MATCH(R$2,AVAILABLE_Buildings_Defensive[#Headers],0)+1)","v":8},{"$f":"VLOOKUP($BE$2,AVAILABLE_Buildings_Defensive[#All],MATCH(S$2,AVAILABLE_Buildings_Defensive[#Headers],0)+1)","v":7},{"$f":"VLOOKUP($BE$2,AVAILABLE_Buildings_Defensive[#All],MATCH(T$2,AVAILABLE_Buildings_Defensive[#Headers],0)+1)","v":4},{"$f":"VLOOKUP($BE$2,AVAILABLE_Buildings_Defensive[#All],MATCH(U$2,AVAILABLE_Buildings_Defensive[#Headers],0)+1)","v":3},{"$f":"VLOOKUP($BE$2,AVAILABLE_Buildings_Defensive[#All],MATCH(V$2,AVAILABLE_Buildings_Defensive[#Headers],0)+1)","v":6},{"$f":"VLOOKUP($BE$2,AVAILABLE_Buildings_Other[#All],MATCH(W$2,AVAILABLE_Buildings_Other[#Headers],0)+1)","v":6},{"$f":"VLOOKUP($BE$2,AVAILABLE_Buildings_Other[#All],MATCH(X$2,AVAILABLE_Buildings_Other[#Headers],0)+1)","v":10},{"$f":"VLOOKUP($BE$2,AVAILABLE_Traps[#All],MATCH(Y$2,AVAILABLE_Traps[#Headers],0)+1)","v":6},{"$f":"VLOOKUP($BE$2,AVAILABLE_Traps[#All],MATCH(Z$2,AVAILABLE_Traps[#Headers],0)+1)","v":3},{"$f":"VLOOKUP($BE$2,AVAILABLE_Traps[#All],MATCH(AA$2,AVAILABLE_Traps[#Headers],0)+1)","v":4},{"$f":"VLOOKUP($BE$2,AVAILABLE_Traps[#All],MATCH(AB$2,AVAILABLE_Traps[#Headers],0)+1)","v":4},{"$f":"VLOOKUP($BE$2,AVAILABLE_Traps[#All],MATCH(AC$2,AVAILABLE_Traps[#Headers],0)+1)","v":3},{"$f":"VLOOKUP($BE$2,AVAILABLE_Traps[#All],MATCH(AD$2,AVAILABLE_Traps[#Headers],0)+1)","v":1},null,{"$f":"VLOOKUP($BE$2,AVAILABLE_Upgrades_Spells[#All],MATCH(AF$2,AVAILABLE_Upgrades_Spells[#Headers],0)+1)","v":6},{"$f":"VLOOKUP($BE$2,AVAILABLE_Upgrades_Spells[#All],MATCH(AG$2,AVAILABLE_Upgrades_Spells[#Headers],0)+1)","v":6},{"$f":"VLOOKUP($BE$2,AVAILABLE_Upgrades_Spells[#All],MATCH(AH$2,AVAILABLE_Upgrades_Spells[#Headers],0)+1)","v":5},{"$f":"VLOOKUP($BE$2,AVAILABLE_Upgrades_Spells[#All],MATCH(AI$2,AVAILABLE_Upgrades_Spells[#Headers],0)+1)","v":2},{"$f":"VLOOKUP($BE$2,AVAILABLE_Upgrades_Spells[#All],MATCH(AJ$2,AVAILABLE_Upgrades_Spells[#Headers],0)+1)","v":5},{"$f":"VLOOKUP($BE$2,AVAILABLE_Upgrades_Normal_Troops[#All],MATCH(AK$2,AVAILABLE_Upgrades_Normal_Troops[#Headers],0)+1)","v":7},{"$f":"VLOOKUP($BE$2,AVAILABLE_Upgrades_Normal_Troops[#All],MATCH(AL$2,AVAILABLE_Upgrades_Normal_Troops[#Headers],0)+1)","v":7},{"$f":"VLOOKUP($BE$2,AVAILABLE_Upgrades_Normal_Troops[#All],MATCH(AM$2,AVAILABLE_Upgrades_Normal_Troops[#Headers],0)+1)","v":7},{"$f":"VLOOKUP($BE$2,AVAILABLE_Upgrades_Normal_Troops[#All],MATCH(AN$2,AVAILABLE_Upgrades_Normal_Troops[#Headers],0)+1)","v":6},{"$f":"VLOOKUP($BE$2,AVAILABLE_Upgrades_Normal_Troops[#All],MATCH(AO$2,AVAILABLE_Upgrades_Normal_Troops[#Headers],0)+1)","v":6},{"$f":"VLOOKUP($BE$2,AVAILABLE_Upgrades_Normal_Troops[#All],MATCH(AP$2,AVAILABLE_Upgrades_Normal_Troops[#Headers],0)+1)","v":6},{"$f":"VLOOKUP($BE$2,AVAILABLE_Upgrades_Normal_Troops[#All],MATCH(AQ$2,AVAILABLE_Upgrades_Normal_Troops[#Headers],0)+1)","v":6},{"$f":"VLOOKUP($BE$2,AVAILABLE_Upgrades_Normal_Troops[#All],MATCH(AR$2,AVAILABLE_Upgrades_Normal_Troops[#Headers],0)+1)","v":4},{"$f":"VLOOKUP($BE$2,AVAILABLE_Upgrades_Normal_Troops[#All],MATCH(AS$2,AVAILABLE_Upgrades_Normal_Troops[#Headers],0)+1)","v":4},{"$f":"VLOOKUP($BE$2,AVAILABLE_Upgrades_Normal_Troops[#All],MATCH(AT$2,AVAILABLE_Upgrades_Normal_Troops[#Headers],0)+1)","v":5},{"$f":"VLOOKUP($BE$2,AVAILABLE_Upgrades_Dark_Troops[#All],MATCH(AU$2,AVAILABLE_Upgrades_Dark_Troops[#Headers],0)+1)","v":6},{"$f":"VLOOKUP($BE$2,AVAILABLE_Upgrades_Dark_Troops[#All],MATCH(AV$2,AVAILABLE_Upgrades_Dark_Troops[#Headers],0)+1)","v":5},{"$f":"VLOOKUP($BE$2,AVAILABLE_Upgrades_Dark_Troops[#All],MATCH(AW$2,AVAILABLE_Upgrades_Dark_Troops[#Headers],0)+1)","v":4},{"$f":"VLOOKUP($BE$2,AVAILABLE_Upgrades_Dark_Troops[#All],MATCH(AX$2,AVAILABLE_Upgrades_Dark_Troops[#Headers],0)+1)","v":5},{"$f":"VLOOKUP($BE$2,AVAILABLE_Upgrades_Dark_Troops[#All],MATCH(AY$2,AVAILABLE_Upgrades_Dark_Troops[#Headers],0)+1)","v":2},{"$f":"VLOOKUP($BE$2,AVAILABLE_Upgrades_Dark_Troops[#All],MATCH(AZ$2,AVAILABLE_Upgrades_Dark_Troops[#Headers],0)+1)","v":3},null,{"$f":"VLOOKUP($BE$2,AVAILABLE_Heroes[#All],MATCH(BB$2,AVAILABLE_Heroes[#Headers],0)+1)","v":40},{"$f":"VLOOKUP($BE$2,AVAILABLE_Heroes[#All],MATCH(BC$2,AVAILABLE_Heroes[#Headers],0)+1)","v":40}]
[1,null,null,null,null,null,null,null,null,null,null,null,null,null,null,null,null,null,null,null,null,null,null,null,null,null,null,null,null,null,null,null,null,null,null,null,null,null,null,null,null,null,null,null,null,null,null,null,null,null,null,null,null,null,null,null,"Cellule rouge :","Amélioration non disponible"]
[2]
[3]
[4]
[5,null,null,null,null,null,null,null,null,null,null,null,null,null,null,null,null,null,null,null,null,null,null,null,null,null,null,null,null,null,null,null,null,null,null,null,null,null,null,null,null,null,null,null,null,null,null,null,null,null,null,null,null,null,null,null,"Cellule verte :","Amélioration max. atteinte"]
[6]
[7]
[8]
[9,null,null,null,null,null,null,null,null,null,null,null,null,null,null,null,null,null,null,null,null,null,null,null,null,null,null,null,null,null,null,null,null,null,null,null,null,null,null,null,null,null,null,null,null,null,null,null,null,null,null,null,null,null,null,null,"Colonne orange :","Erreur\nMax. total atteint"]
[10]
[11]
[12]
[13,null,null,null,null,null,null,null,null,null,null,null,null,null,null,null,null,null,null,null,null,null,null,null,null,null,null,null,null,null,null,null,null,null,null,null,null,null,null,null,null,null,null,null,null,null,null,null,null,null,null,null,null,null,null,null,"INSTRUCTIONS:\n1. LVL HdV : Indiquer le level de votre Hôtel de Ville (1-10)\n\n2. Ouvriers : Indiquer le nombre d'ouvriers que vous avez (1-5)"]
[14]
[15]
[16]
[17]
[18]
[19]
[20]
[21,null,null,null,null,null,null,null,null,null,null,null,null,null,null,null,null,null,null,null,null,null,null,null,null,null,null,null,null,null,null,null,null,null,null,null,null,null,null,null,null,null,null,null,null,null,null,null,null,null,null,null,null,null,null,null,"3.a. Saisir le nombre de Bâtiments que vous avez actuellement avec leurs levels correspondants\n3.b. Saisir le level actuel de vos améliorations de Sorts/Troupes Normales/Troupes Noires\n3.c. Saisir le level actuel de vos Héros"]
[22]
[23]
[24]
[25]
[26]
[27]
[28]
[29]
[30]
[31]
[32]
[33]
[34]
[35]
[36]
[37]
[38]
[39]
[40]
["Tot.",{"$f":"SUM(B6:B45)","v":0},0,0,0,0,0,0,0,0,0,0,0,0,0,0,0,0,0,0,0,0,0,0,0,0,0,0,0,0,null,{"$f":"SUM(AF6:AF45)","v":0},0,0,0,0,0,0,0,0,0,0,0,0,0,0,0,0,0,0,0,0,null,{"$f":"SUM(BB6:BB45)","v":0},{"$f":"SUM(BC6:BC45)","v":0}]
[]
["+","NB Upgrades"]
[1,{"$f":"IF($A6-1<B$5,IF(B4>0,B4,IF(B6>0,0,B$4+B6)),0)","v":7},7,3,4,4,1,4,2,4,1,1,250,6,7,4,4,4,4,{"$f":"IF($A6-1<T$5,IF(T4>0,T4,IF(T6>0,0,T$4+T6)),0)","v":3},{"$f":"IF($A6-1<U$5,IF(U4>0,U4,IF(U6>0,0,U$4+U6)),0)","v":2},1,1,1,null,null,null,null,null,null,0,1,1,1,1,1,1,1,1,1,1,1,1,1,1,1,1,1,1,1,{"$f":"IF($A6-1<AY$5,IF(AY4>0,AY4,IF(AY6>0,0,AY$4+AY6)),0)","v":1},{"$f":"IF($A6-1<AZ$5,IF(AZ4>0,AZ4,IF(AZ6>0,0,AZ$4+AZ6)),0)","v":1},0,1,1]
[2,{"$f":"IF($A6<B$5,IF(B49<>0,B49+B6,B6),0)","v":7},{"$f":"IF($A6<C$5,IF(C49<>0,C49+C6,C6),0)","v":7},{"$f":"IF($A6<D$5,IF(D49<>0,D49+D6,D6),0)","v":3},{"$f":"IF($A6<E$5,IF(E49<>0,E49+E6,E6),0)","v":4},{"$f":"IF($A6<F$5,IF(F49<>0,F49+F6,F6),0)","v":4},{"$f":"IF($A6<G$5,IF(G49<>0,G49+G6,G6),0)","v":1},{"$f":"IF($A6<H$5,IF(H49<>0,H49+H6,H6),0)","v":4},{"$f":"IF($A6<I$5,IF(I49<>0,I49+I6,I6),0)","v":2},{"$f":"IF($A6<J$5,IF(J49<>0,J49+J6,J6),0)","v":4},{"$f":"IF($A6<K$5,IF(K49<>0,K49+K6,K6),0)","v":1},{"$f":"IF($A6<L$5,IF(L49<>0,L49+L6,L6),0)","v":1},{"$f":"IF($A6<M$5,IF(M49<>0,M49+M6,M6),0)","v":250},{"$f":"IF($A6<N$5,IF(N49<>0,N49+N6,N6),0)","v":6},{"$f":"IF($A6<O$5,IF(O49<>0,O49+O6,O6),0)","v":7},{"$f":"IF($A6<P$5,IF(P49<>0,P49+P6,P6),0)","v":4},{"$f":"IF($A6<Q$5,IF(Q49<>0,Q49+Q6,Q6),0)","v":4},{"$f":"IF($A6<R$5,IF(R49<>0,R49+R6,R6),0)","v":4},{"$f":"IF($A6<S$5,IF(S49<>0,S49+S6,S6),0)","v":4},{"$f":"IF($A6<T$5,IF(T49<>0,T49+T6,T6),0)","v":3},{"$f":"IF($A6<U$5,IF(U49<>0,U49+U6,U6),0)","v":2},1,{"$f":"IF($A6<W$5,IF(W49<>0,W49+W6,W6),0)","v":1},{"$f":"IF($A6<X$5,IF(X49<>0,X49+X6,X6),0)","v":1},null,null,null,null,null,null,{"$f":"IF($A6<AE$5,IF(AE49<>0,AE49+AE6,AE6),0)","v":0},{"$f":"IF($A6<AF$5,IF(AF49<>0,AF49+AF6,AF6),0)","v":1},{"$f":"IF($A6<AG$5,IF(AG49<>0,AG49+AG6,AG6),0)","v":1},{"$f":"IF($A6<AH$5,IF(AH49<>0,AH49+AH6,AH6),0)","v":1},{"$f":"IF($A6<AI$5,IF(AI49<>0,AI49+AI6,AI6),0)","v":1},{"$f":"IF($A6<AJ$5,IF(AJ49<>0,AJ49+AJ6,AJ6),0)","v":1},{"$f":"IF($A6<AK$5,IF(AK49<>0,AK49+AK6,AK6),0)","v":1},{"$f":"IF($A6<AL$5,IF(AL49<>0,AL49+AL6,AL6),0)","v":1},{"$f":"IF($A6<AM$5,IF(AM49<>0,AM49+AM6,AM6),0)","v":1},{"$f":"IF($A6<AN$5,IF(AN49<>0,AN49+AN6,AN6),0)","v":1},{"$f":"IF($A6<AO$5,IF(AO49<>0,AO49+AO6,AO6),0)","v":1},{"$f":"IF($A6<AP$5,IF(AP49<>0,AP49+AP6,AP6),0)","v":1},{"$f":"IF($A6<AQ$5,IF(AQ49<>0,AQ49+AQ6,AQ6),0)","v":1},{"$f":"IF($A6<AR$5,IF(AR49<>0,AR49+AR6,AR6),0)","v":1},{"$f":"IF($A6<AS$5,IF(AS49<>0,AS49+AS6,AS6),0)","v":1},{"$f":"IF($A6<AT$5,IF(AT49<>0,AT49+AT6,AT6),0)","v":1},{"$f":"IF($A6<AU$5,IF(AU49<>0,AU49+AU6,AU6),0)","v":1},{"$f":"IF($A6<AV$5,IF(AV49<>0,AV49+AV6,AV6),0)","v":1},{"$f":"IF($A6<AW$5,IF(AW49<>0,AW49+AW6,AW6),0)","v":1},{"$f":"IF($A6<AX$5,IF(AX49<>0,AX49+AX6,AX6),0)","v":1},1,1,{"$f":"IF($A6<BA$5,IF(BA49<>0,BA49+BA6,BA6),0)","v":0},{"$f":"IF($A6<BB$5,IF(BB49<>0,BB49+BB6,BB6),0)","v":1},{"$f":"IF($A6<BC$5,IF(BC49<>0,BC49+BC6,BC6),0)","v":1}]
[3,7,7,3,4,4,1,4,2,4,1,1,250,6,7,4,4,4,4,3,2,{"$f":"IF($A7<V$5,IF(V50<>0,V50+V7,V7),0)","v":1},1,1,null,null,null,null,null,null,0,1,1,1,0,1,1,1,1,1,1,1,1,1,1,1,1,1,1,1,0,1,0,1,1]
[4,7,7,3,4,4,1,4,2,4,1,1,250,6,7,4,4,4,4,3,0,{"$f":"IF($A8<V$5,IF(V51<>0,V51+V8,V8),0)","v":1},1,1,null,null,null,null,null,null,0,1,1,1,0,1,1,1,1,1,1,1,1,1,1,1,1,1,1,1,0,0,0,1,1]
[5,7,7,3,4,4,1,4,2,4,1,1,250,6,7,4,4,4,4,0,0,{"$f":"IF($A9<V$5,IF(V52<>0,V52+V9,V9),0)","v":1},1,1,null,null,null,null,null,null,0,1,1,1,0,1,1,1,1,1,1,1,1,0,0,1,1,1,0,1,0,0,0,1,1]
[6,7,7,3,4,4,1,4,2,4,1,0,250,6,7,4,4,4,4,0,0,{"$f":"IF($A10<V$5,IF(V53<>0,V53+V10,V10),0)","v":1},1,1,null,null,null,null,null,null,0,1,1,0,0,0,1,1,1,1,1,1,1,0,0,0,1,0,0,0,0,0,0,1,1]
[7,7,7,0,4,4,0,4,0,4,1,0,250,6,7,4,4,4,4,0,0,{"$f":"IF($A11<V$5,IF(V54<>0,V54+V11,V11),0)","v":0},0,1,null,null,null,null,null,null,0,0,0,0,0,0,1,1,1,0,0,0,0,0,0,0,0,0,0,0,0,0,0,1,1]
[8,7,7,0,4,4,0,4,0,4,1,0,250,6,7,4,4,4,0,0,0,{"$f":"IF($A12<V$5,IF(V55<>0,V55+V12,V12),0)","v":0},0,1,null,null,null,null,null,null,0,0,0,0,0,0,0,0,0,0,0,0,0,0,0,0,0,0,0,0,0,0,0,1,1]
[9,7,7,0,4,4,0,4,0,0,0,0,250,6,7,0,0,0,0,0,0,{"$f":"IF($A13<V$5,IF(V56<>0,V56+V13,V13),0)","v":0},0,1,null,null,null,null,null,null,0,0,0,0,0,0,0,0,0,0,0,0,0,0,0,0,0,0,0,0,0,0,0,1,1]
[10,7,7,0,4,4,0,4,0,0,0,0,250,6,7,0,0,0,0,0,0,{"$f":"IF($A14<V$5,IF(V57<>0,V57+V14,V14),0)","v":0},0,1,null,null,null,null,null,null,0,0,0,0,0,0,0,0,0,0,0,0,0,0,0,0,0,0,0,0,0,0,0,1,1]
[11,7,7,0,4,4,0,0,0,0,0,0,250,6,7,0,0,0,0,0,0,{"$f":"IF($A15<V$5,IF(V58<>0,V58+V15,V15),0)","v":0},0,0,null,null,null,null,null,null,0,0,0,0,0,0,0,0,0,0,0,0,0,0,0,0,0,0,0,0,0,0,0,1,1]
[12,7,7,0,0,0,0,0,0,0,0,0,0,6,7,0,0,0,0,0,0,{"$f":"IF($A16<V$5,IF(V59<>0,V59+V16,V16),0)","v":0},0,0,null,null,null,null,null,null,0,0,0,0,0,0,0,0,0,0,0,0,0,0,0,0,0,0,0,0,0,0,0,1,1]
[13,0,0,0,0,0,0,0,0,0,0,0,0,6,7,0,0,0,0,0,0,{"$f":"IF($A17<V$5,IF(V60<>0,V60+V17,V17),0)","v":0},0,0,null,null,null,null,null,null,0,0,0,0,0,0,0,0,0,0,0,0,0,0,0,0,0,0,0,0,0,0,0,1,1]
[14,0,0,0,0,0,0,0,0,0,0,0,0,0,0,0,0,0,0,0,0,{"$f":"IF($A18<V$5,IF(V61<>0,V61+V18,V18),0)","v":0},0,0,null,null,null,null,null,null,0,0,0,0,0,0,0,0,0,0,0,0,0,0,0,0,0,0,0,0,0,0,0,1,1]
[15,0,0,0,0,0,0,0,0,0,0,0,0,0,0,0,0,0,0,0,0,{"$f":"IF($A19<V$5,IF(V62<>0,V62+V19,V19),0)","v":0},0,0,null,null,null,null,null,null,0,0,0,0,0,0,0,0,0,0,0,0,0,0,0,0,0,0,0,0,0,0,0,1,1]
[16,0,0,0,0,0,0,0,0,0,0,0,0,0,0,0,0,0,0,0,0,{"$f":"IF($A20<V$5,IF(V63<>0,V63+V20,V20),0)","v":0},0,0,null,null,null,null,null,null,0,0,0,0,0,0,0,0,0,0,0,0,0,0,0,0,0,0,0,0,0,0,0,1,1]
[17,0,0,0,0,0,0,0,0,0,0,0,0,0,0,0,0,0,0,0,0,{"$f":"IF($A21<V$5,IF(V64<>0,V64+V21,V21),0)","v":0},0,0,null,null,null,null,null,null,0,0,0,0,0,0,0,0,0,0,0,0,0,0,0,0,0,0,0,0,0,0,0,1,1]
[18,0,0,0,0,0,0,0,0,0,0,0,0,0,0,0,0,0,0,0,0,{"$f":"IF($A22<V$5,IF(V65<>0,V65+V22,V22),0)","v":0},0,0,null,null,null,null,null,null,0,0,0,0,0,0,0,0,0,0,0,0,0,0,0,0,0,0,0,0,0,0,0,1,1]
[19,0,0,0,0,0,0,0,0,0,0,0,0,0,0,0,0,0,0,0,0,{"$f":"IF($A23<V$5,IF(V66<>0,V66+V23,V23),0)","v":0},0,0,null,null,null,null,null,null,0,0,0,0,0,0,0,0,0,0,0,0,0,0,0,0,0,0,0,0,0,0,0,1,1]
[20,0,0,0,0,0,0,0,0,0,0,0,0,0,0,0,0,0,0,0,0,{"$f":"IF($A24<V$5,IF(V67<>0,V67+V24,V24),0)","v":0},0,0,null,null,null,null,null,null,0,0,0,0,0,0,0,0,0,0,0,0,0,0,0,0,0,0,0,0,0,0,0,1,1]
[21,0,0,0,0,0,0,0,0,0,0,0,0,0,0,0,0,0,0,0,0,{"$f":"IF($A25<V$5,IF(V68<>0,V68+V25,V25),0)","v":0},0,0,null,null,null,null,null,null,0,0,0,0,0,0,0,0,0,0,0,0,0,0,0,0,0,0,0,0,0,0,0,1,1]
[22,0,0,0,0,0,0,0,0,0,0,0,0,0,0,0,0,0,0,0,0,{"$f":"IF($A26<V$5,IF(V69<>0,V69+V26,V26),0)","v":0},0,0,null,null,null,null,null,null,0,0,0,0,0,0,0,0,0,0,0,0,0,0,0,0,0,0,0,0,0,0,0,1,1]
[23,0,0,0,0,0,0,0,0,0,0,0,0,0,0,0,0,0,0,0,0,{"$f":"IF($A27<V$5,IF(V70<>0,V70+V27,V27),0)","v":0},0,0,null,null,null,null,null,null,0,0,0,0,0,0,0,0,0,0,0,0,0,0,0,0,0,0,0,0,0,0,0,1,1]
[24,0,0,0,0,0,0,0,0,0,0,0,0,0,0,0,0,0,0,0,0,{"$f":"IF($A28<V$5,IF(V71<>0,V71+V28,V28),0)","v":0},0,0,null,null,null,null,null,null,0,0,0,0,0,0,0,0,0,0,0,0,0,0,0,0,0,0,0,0,0,0,0,1,1]
[25,0,0,0,0,0,0,0,0,0,0,0,0,0,0,0,0,0,0,0,0,{"$f":"IF($A29<V$5,IF(V72<>0,V72+V29,V29),0)","v":0},0,0,null,null,null,null,null,null,0,0,0,0,0,0,0,0,0,0,0,0,0,0,0,0,0,0,0,0,0,0,0,1,1]
[26,0,0,0,0,0,0,0,0,0,0,0,0,0,0,0,0,0,0,0,0,{"$f":"IF($A30<V$5,IF(V73<>0,V73+V30,V30),0)","v":0},0,0,null,null,null,null,null,null,0,0,0,0,0,0,0,0,0,0,0,0,0,0,0,0,0,0,0,0,0,0,0,1,1]
[27,0,0,0,0,0,0,0,0,0,0,0,0,0,0,0,0,0,0,0,0,{"$f":"IF($A31<V$5,IF(V74<>0,V74+V31,V31),0)","v":0},0,0,null,null,null,null,null,null,0,0,0,0,0,0,0,0,0,0,0,0,0,0,0,0,0,0,0,0,0,0,0,1,1]
[28,0,0,0,0,0,0,0,0,0,0,0,0,0,0,0,0,0,0,0,0,{"$f":"IF($A32<V$5,IF(V75<>0,V75+V32,V32),0)","v":0},0,0,null,null,null,null,null,null,0,0,0,0,0,0,0,0,0,0,0,0,0,0,0,0,0,0,0,0,0,0,0,1,1]
[29,0,0,0,0,0,0,0,0,0,0,0,0,0,0,0,0,0,0,0,0,{"$f":"IF($A33<V$5,IF(V76<>0,V76+V33,V33),0)","v":0},0,0,null,null,null,null,null,null,0,0,0,0,0,0,0,0,0,0,0,0,0,0,0,0,0,0,0,0,0,0,0,1,1]
[30,0,0,0,0,0,0,0,0,0,0,0,0,0,0,0,0,0,0,0,0,{"$f":"IF($A34<V$5,IF(V77<>0,V77+V34,V34),0)","v":0},0,0,null,null,null,null,null,null,0,0,0,0,0,0,0,0,0,0,0,0,0,0,0,0,0,0,0,0,0,0,0,1,1]
[31,0,0,0,0,0,0,0,0,0,0,0,0,0,0,0,0,0,0,0,0,{"$f":"IF($A35<V$5,IF(V78<>0,V78+V35,V35),0)","v":0},0,0,null,null,null,null,null,null,0,0,0,0,0,0,0,0,0,0,0,0,0,0,0,0,0,0,0,0,0,0,0,1,1]
[32,0,0,0,0,0,0,0,0,0,0,0,0,0,0,0,0,0,0,0,0,{"$f":"IF($A36<V$5,IF(V79<>0,V79+V36,V36),0)","v":0},0,0,null,null,null,null,null,null,0,0,0,0,0,0,0,0,0,0,0,0,0,0,0,0,0,0,0,0,0,0,0,1,1]
[33,0,0,0,0,0,0,0,0,0,0,0,0,0,0,0,0,0,0,0,0,{"$f":"IF($A37<V$5,IF(V80<>0,V80+V37,V37),0)","v":0},0,0,null,null,null,null,null,null,0,0,0,0,0,0,0,0,0,0,0,0,0,0,0,0,0,0,0,0,0,0,0,1,1]
[34,0,0,0,0,0,0,0,0,0,0,0,0,0,0,0,0,0,0,0,0,{"$f":"IF($A38<V$5,IF(V81<>0,V81+V38,V38),0)","v":0},0,0,null,null,null,null,null,null,0,0,0,0,0,0,0,0,0,0,0,0,0,0,0,0,0,0,0,0,0,0,0,1,1]
[35,0,0,0,0,0,0,0,0,0,0,0,0,0,0,0,0,0,0,0,0,{"$f":"IF($A39<V$5,IF(V82<>0,V82+V39,V39),0)","v":0},0,0,null,null,null,null,null,null,0,0,0,0,0,0,0,0,0,0,0,0,0,0,0,0,0,0,0,0,0,0,0,1,1]
[36,0,0,0,0,0,0,0,0,0,0,0,0,0,0,0,0,0,0,0,0,{"$f":"IF($A40<V$5,IF(V83<>0,V83+V40,V40),0)","v":0},0,0,null,null,null,null,null,null,0,0,0,0,0,0,0,0,0,0,0,0,0,0,0,0,0,0,0,0,0,0,0,1,1]
[37,0,0,0,0,0,0,0,0,0,0,0,0,0,0,0,0,0,0,0,0,{"$f":"IF($A41<V$5,IF(V84<>0,V84+V41,V41),0)","v":0},0,0,null,null,null,null,null,null,0,0,0,0,0,0,0,0,0,0,0,0,0,0,0,0,0,0,0,0,0,0,0,1,1]
[38,0,0,0,0,0,0,0,0,0,0,0,0,0,0,0,0,0,0,0,0,{"$f":"IF($A42<V$5,IF(V85<>0,V85+V42,V42),0)","v":0},0,0,null,null,null,null,null,null,0,0,0,0,0,0,0,0,0,0,0,0,0,0,0,0,0,0,0,0,0,0,0,1,1]
[39,0,0,0,0,0,0,0,0,0,0,0,0,0,0,0,0,0,0,0,0,{"$f":"IF($A43<V$5,IF(V86<>0,V86+V43,V43),0)","v":0},0,0,null,null,null,null,null,null,0,0,0,0,0,0,0,0,0,0,0,0,0,0,0,0,0,0,0,0,0,0,0,1,1]
[40,0,0,0,0,0,0,0,0,0,0,0,0,0,0,0,0,0,0,0,0,{"$f":"IF($A44<V$5,IF(V87<>0,V87+V44,V44),0)","v":0},0,0,null,null,null,null,null,null,0,0,0,0,0,0,0,0,0,0,0,0,0,0,0,0,0,0,0,0,0,0,0,1,1]
["Tot.",{"$f":"SUM(B49:B88)","v":84},{"$f":"SUM(C49:C88)","v":84},18,44,44,6,40,12,32,8,5,2750,78,91,32,32,32,28,12,6,6,6,10,null,null,null,null,null,null,0,6,6,5,2,5,7,7,7,6,6,6,6,4,4,5,6,5,4,5,{"$f":"SUM(AY49:AY88)","v":2},{"$f":"SUM(AZ49:AZ88)","v":3},0,40,40]

{"sheet":"Journal des Modifications","index":17,"n_rows":25,"n_cols":6,"rows_kept":25,"cut":false,"hidden":true,"merged":[[0,0,0,5]]}
["Journal des Modifications"]
["Version","Date","Nom de Fichier","Description ","Description","Téléchargement"]
["v2.00",41514,{"$f":"\"COC - Calcultator \" & A3 & \".xlsm\"","v":"COC - Calcultator v2.00.xlsm"},"- Updates following the maintenance of 2013-08-28\n- Adding the total of troops in \"Troups training\" tab\n- Fixing the required level for the \"Healing Spell\"\n- Fixing the totals formulas of \"Army Buildings\"  in \"TO DO - Summary\" tab\n- Fixing formulas for \"Wall Breaker\" and \"Dark Barracks\" in \"TO DO - Details\" tab","- Mises à jour suite à la maintenance du 28/08/2013\n- Ajout du total de troupes dans l'onglet \"Formation de Troupes\"\n- Correction du level nécessaire pour le \"Sort de Guérison\"\n- Correction de formules des totaux \"Batiments d'Armée\" dans l'onglet \"À Faire - Récapitulatif\"\n- Correction des formules pour le \"Sapeur\" et les \"Casernes Noires\" dans l'onglet \"À Faire - Détails\""]
["v1.91",41502,{"$f":"\"COC - Calcultator \" & A4 & \".xlsm\"","v":"COC - Calcultator v1.91.xlsm"},"- Small fixes\n    - TH Level was incorrect in \"Planning\" and \"Raiding - Loots\" tabs\n    - Fixed the level of dark barracks in \"Troops Training\" tab\n    - Forgot a formula in the \"Parameters\" tab for the Witch\n- Changing the VBA code - No more checking on the filename","- Petites corrections\n   - Niveau de HdV ne correspondait pas dans les onglets \"Planning\" et \"Combats - Loots\"\n   - Correction du niveau des casernes noires dans l'onglet \"Formation de Troupes\"\n   - Oubli d'une formule dans l'onglet \"Paramètres\" pour la Sorcière\n- Modification du code VBA - Plus de vérification sur le nom du fichier","https://mega.co.nz/#!FIdn1IJB!aj_9snzD_bmDyKGFJM7LITSV1oZh93cGje3MACmIy8g"]
["v1.90",41498,"COC - Calcultator v1.90.xlsm","- Updates following the maintenance of 2013-07-29\n- Switching host file uploader","- Mises à jour suite à la maintenance du 29/07/2013\n- Changement de l'hébergeur des fichiers","https://mega.co.nz/#!ZN0nQQSI!yhwdqieK-qRQOYwET6JULegwM-J1_6MHGVJL42-Bsgw"]
["v1.82",41481,"COC - Calcultator v1.82.xlsm","- Renaming the file so the VBA code can works\n- Fixing the translation for the \"Barracks\"\n- Fixing the calculation for the \"Walls\" in the \"TO DO - Details\" tab. Forgot some formulas","- Modification du nom de fichier pour que les macros VBA fonctionnent\n- Correction de la traduction pour les \"Casernes\"\n- Correction du calcul des \"Remparts\" dans l'onglet \"À Faire - Détails\". Oubli de formules","https://mega.co.nz/#!cM1BUIaI!lMszBD37mV-MvYgirXsdbURHLsyXXoI7uWY99eD6TVU"]
["v1.81",41479,"COC - Calcultator v1.81.xlsm","- Fixing the translation for \"Town Hall\"\n- Automatic refresh when selecting the \"Period Highlight\" on the \"Planning\" tab\n- Freezing panes on the \"Planning\" tab","- Correction de la traduction pour \"Hôtel de Ville\"\n- Rafraichissement automatique lorsqu'on choisit la période sélectionnée dans l'onglet \"Planning\"\n- Figeage des volets dans l'onglet \"Planning\"","https://mega.co.nz/#!FZsFWQ7L!yQ9hvLhxoDopxsb-X2bdvQNM-bjRk5YZYMqoM5P4t5k"]
["v1.80",41479,"COC - Calcultator v1.80.xlsm","Adding the \"Planning\" tab to know the constuctions/upgrades futures","- Ajout de l'onglet \"Planning\" pour prévoir les futures constructions/améliorations.","https://mega.co.nz/#!NRFTCJ6T!WB2X6hvwVfyB_qA8IukqwtbfHo_VJEF6nBYCB0VCr64"]
["v1.71",41471,"COC - Calcultator v1.71.xlsm","- Conditionnal formatting on \"Parameters\" tab to know which ameliorations are left/unavailable\n- Fixing the translation for \"Inferno Tower\"\n- Fixing the representative color for \"Hidden Tesla\" in the \"TO DO - Details\" tab\n- Fixing the total cost with the adding of the \"P.E.K.K.A\" line o=in the \"Trainings Troops\" tab\n- Editing the \"Elixir\" color","- Mise en forme conditionnelle dans l'onglet \"Paramètres\" pour savoir les améliorations restantes/indisponibles\n- Correction de la traduction pour \"Tour de l'Enfer\"\n- Correction de la couleur représentative du coût de \"Tesla Camouflée\" dans l'onglet \"À Faire - Détails\"\n- Correction du calcul total avec l'ajout de la ligne des \"P.E.K.K.A\" dans l'onglet \"Formation de Troupes\" \n- Modification de la couleur de l'Élixir","https://mega.co.nz/#!sYFEVBrZ!Tbxc3gtvFbacWGujmdywBH0MdKjrm87davM7SwzCvGM"]
["v1.70",41467,"COC - Calcultator v1.70.xlsm","- Adding the language selection in the \"Parameters\" tab - French translation\n- Adding the feature which allow to see profits regarding the training costs and the raiding wins on the \"Training Troops\" tab\n- Rights' restriction on the file's sheets - unable to click on the protected cells\n- Values seizure restriction on cells\n- Small graphic changes","- Ajout du choix de la langue dans l'onglet \"Paramètres\" - traduction en français\n- Ajout de la fonctionnalité permettant de voir les profits en fonction des coûts de formation et des gains de combat dans l'onglet \"Formation de Troupes\"\n- Restriction des droits sur les feuilles du fichier - impossibilité de cliquer sur les cellules protégées\n- Restriction des valeurs saisissables dans les cellules\n- Changements graphiques mineurs","https://mega.co.nz/#!tNFTXCID!QEj2DA9Rc2PH-VgCXHHeNIPVaszYyIio2eHE3HU1qZ4"]
["v1.61",41464,{"$f":"\"COC - Calcultator \" & A11 & \".xlsx\"","v":"COC - Calcultator v1.61.xlsx"},"- Adding the Date in the \"ChangeLog\" tab\n- Fixing bug with conditional formatting on \"Troops Training\" tab","- Ajout de la date dans l'onglet \"Journal des Modifications\"\n- Correction d'un bug de formatage conditionnel sur l'onglet \"Formation de Troupes\"","https://mega.co.nz/#!VIFmgIJR!Lui74H0zJ1-kKiZzFw6z2Zo_OuASJRYnFLJ9A_1U7B0"]
["v1.60",41463,{"$f":"\"COC - Calcultator \" & A12 & \".xlsx\"","v":"COC - Calcultator v1.60.xlsx"},"- Adding the \"Troops Training\" tab: It helps to know training possibilities regarding the Barracks/Laboratory level and the total costs\n- Renaming the \"Leagues\" tab to \"Trophies\"\n- Renaming the \"Costs\" tab to \"Upgrades Costs\"\n- Conditional formatting on \"Production\" tab\n- Conditional formatting changes on \"Raidings Loots\" tab\n- Fixing Freeze Spell upgrade Costs/Time\n- Fixing TH LVL required for Spells Upgrades","- Ajout de l'onglet \"Formation de Troupes\" : cela permet de connaître les possibilités de formation par rapport aux levels des Casernes/Laboratoire ainsi que les coûts totaux\n- Renommage de l'onglet \"Ligues\" par \"Trophées\"\n- Renommage de l'onglet \"Coûts\" par \"Coûts des Améliorations\"\n- Formatage conditionnel sur l'onglet \"Production\"\n- Modifications sur le formatage conditionnel sur l'onglet \"Combats - Loots\"\n- Correction des Coûts/Temps des améliorations du Sort de Gel\n- Correction du LVL HdV nécessaire pour les améliorations de Sorts","https://mega.co.nz/#!lEFkDC4C!_jQFpXH_yhWB24wr8vJrXl6Ps7yk-mJsr7KLtH11TKc"]
["v1.50",41457,{"$f":"\"COC - Calcultator \" & A13 & \".xlsx\"","v":"COC - Calcultator v1.50.xlsx"},"- Adding the \"Production\" tab: It helps to know how many resources can be won in a specific time\n- Adding the \"Raiding Loots\" tab: It helps to know the possible earnings or losses in Multiplayer Raiding\n- Small graphic changes\n- Renaming previous file versions\n- Renaming file","- Ajout de l'onglet \"Production\" : cela permet de connaître combien de ressources peuvent être gagnées dans un temps imparti\n- Ajout de l'onglet \"Combats - Loots\" : cela permet de connaître les gains ou pertes possibles dans les combats multi-joueurs\n- Changements graphiques mineurs\n- Renommage des anciennes versions du fichier\n- Renommage du fichier","https://mega.co.nz/#!pQtASDSS!7zo_PCuJcn9f0D2GdkDj6Qo6-jbU6mo334qI-d0Twuk"]
["v1.41 - FR",41452,{"$f":"\"COC - Cost & Time Calcultator \" & A14 & \".xlsx\"","v":"COC - Cost & Time Calcultator v1.41 - FR.xlsx"},"- French version of 1.41 file","- Version française du fichier 1.41","https://mega.co.nz/#!oAlhWDKJ!8Pg611oUQ4Nj-HanEO4Q7deemrpTBsCZ1AXq7clug2E"]
["v1.41",41452,{"$f":"\"COC - Cost & Time Calcultator \" & A15 & \".xlsx\"","v":"COC - Cost & Time Calcultator v1.41.xlsx"},"- Fixing the summary cost view for Golem upgrade\n- Fixing the summary time view for Troops/Spells upgrades\n- Editing the cell format for numbers","- Correction de la vue récapitulative pour l'amélioration de Golem\n- Correction de la vue récapitulative pour les améliorations de Troupes/Sorts\n- Modification du format de cellule pour les nombres","https://mega.co.nz/#!YVUzlDZB!li7LEw-ZCXV_ITiTdAswRzt3YULOpBTQsS92JQv2jW0"]
["v1.40",41452,{"$f":"\"COC - Cost & Time Calcultator \" & A16 & \".xlsx\"","v":"COC - Cost & Time Calcultator v1.40.xlsx"},"- Separation of summary and details sections\n     - Adding the tab \"TO DO - Summary\"\n     - Renaming the tab \"TO DO\" to \"TO DO - Details\"\n- The times can now be displayed by seconds/minutes/hours/days/months/days hours minutes\" by selecting the choice in B2 cell (\"TO DO - Summary\" tab)\n- Hiding the grid in the tabs\n- Allowing permission to change the cell format / use filters / sort even if the tab is locked","- Séparation des sections récapitulatif et détails\n   - Ajout de l'onglet \"À Faire - Récapitulatif\"\n   - Renommage de l'onglet \"À Faire\" par \"À Faire - Détails\"\n- Les temps peuvent désormais être affichés en secondes/minutes/heures/jours/mois/jours heures minutes en sélectionnant le choix dans la cellule B2 (onglet \"À Faire - Récapitulatif\")\n- Masquage du quadrillage dans les onglets\n- Autorisation de modifier le format de cellule / utiliser des filtres / trier même si l'onglet est verrouillé","https://mega.co.nz/#!4NESmRhA!-yy2oUj_G3D5vObaMA3Gn1GJ_0ppr3wnBeQN2R1qIQ8"]
["v1.31",41451,{"$f":"\"COC - Cost & Time Calcultator \" & A17 & \".xlsx\"","v":"COC - Cost & Time Calcultator v1.31.xlsx"},"- Updating available Buildings, following the maintenance of 2013/06/24\n     For TH LVL 10:\n        - 1 more Gold Mine\n        - 1 more Elixir Collector","- Mise à jour des Bâtiments disponibles, suite à la maintenance du 24/06/2013\n    Pour LVL HdV 10 :\n     - 1 Mine d'Or supplémentaire\n     - 1 Extracteur d'Élixir supplémentaire","https://mega.co.nz/#!1BEVGSAQ!IWipCtgU4ynv4utHmMDBmoR5KPqaLzzsjJQZiWTIrak"]
["v1.30",41450,{"$f":"\"COC - Cost & Time Calcultator \" & A18 & \".xlsx\"","v":"COC - Cost & Time Calcultator v1.30.xlsx"},"- Changes on the \"Parameters\" tab. \n     - Summary table of all Buildings and Spells/Normal Troops/Dark Troops Upgrades. \n      - All user data has to be written in this tab and now the \"TO DO\" tab only display results\n     - Adding indications to use the Excel file","- Changements sur l'onglet \"Paramètres\"\n   - Tableau récapitulatif de tous les améliorations de Bâtiments et Sorts/Troupes Normales/Troupes Noires\n    - Toutes les données utilisateurs doivent désormais être saisies dans cet onglet et l'onglet \"À faire\" n'affiche que les résultats\n    - Ajout d'indications pour utiliser le fichier Excel","https://mega.co.nz/#!MNlGgJjZ!ddtKBoUOdL7ifZp_HcxyZ3bfRCzi5OevW2VkYN9omrw"]
["v1.23",41450,{"$f":"\"COC - Cost & Time Calcultator \" & A19 & \".xlsx\"","v":"COC - Cost & Time Calcultator v1.23.xlsx"},"- Adding the \"ChangeLog\" tab","- Ajout de l'onglet \"Journal des Modifications\"","https://mega.co.nz/#!sVsX0AJJ!njkWbVBj3c2Kk7crQ-RKBJYZA_xFfesbGSHCT7Y3ebY"]
["v1.22",41449,"COC - Cost & Time Calcultator v1.22.xlsx","- Fixed Elixir Storage & Gold Storage costs","- Correction des coûts de Réserve d'Or et Réserve d'Élixir","https://mega.co.nz/#!IcFizS4C!tK7U2K6uhrWN-YC69kO76jUT5uJPqmO6CrN5acKinUg"]
["v1.21",41446,"COC - Cost & Time Calcultator v1.21.xlsx","- Summary graphic changes on \"TO DO\" tab\n- Displaying the time remaining in days rather than hours\n- Locking formulas cells","- Changements graphiques sur le récapitulatif sur l'onglet \"À Faire\"\n- Affichage du temps restant en jours plutôt qu'en heures\n- Verrouillage des cellules de formules","https://mega.co.nz/#!kA1CzCxB!k1pmOyQuhFiSIJeJPytTckyuOmkLoRH7jBsT4-ZXtQk"]
["v1.20",41445,"COC - Cost & Time Calcultator v1.20.xlsx","- Removing the tab \"TO DO - By TH LVL\"\n- Renaming the tab \"TO DO - By Current \" to \"TO DO\"\n- Conditional Formatting on \"TO DO\" tab","- Suppression de l'onglet \"À faire - Par LVL HdV\"\n- Renommage de l'onglet \"À faire - Actuellement\" par \"À faire\"\n- Mise en forme conditionnelle sur l'onglet \"À faire\"","https://mega.co.nz/#!xctwgAIZ!663gdZ-Biv9KSEaKV2SdECCoa0kWx21XG-gXq1tjehw"]
["v1.10",41444,"COC - Cost & Time Calcultator v1.10.xlsx","- Displaying buildings by category on one tab\n- Summary graphic changes on \"TO DO - Current\" tab\n- Adding a graphic \"Required Resources\"","- Affichage des Bâtiments par catégorie sur un seul onglet\n- Changements graphiques sur le récapitulatif dans l'onglet \"À faire - Actuellement\"\n- Ajout d'un graphique \"Ressources Nécessaires\"","https://mega.co.nz/#!QENEQJzK!pbKRwx4oPyq7_DNVJ-OZnBppSwQzjP21oy7SAZJLUrg"]
["v1.01",41443,"COC - Cost & Time Calcultator v1.01.xlsx","- Updating Spells Costs/Time","- Mise à jour des Coûts/Temps des Sorts","https://mega.co.nz/#!5A0xAIJb!J1ZVglDXFx1-HOm3nn5Vz2AZHp8wDlaKIWyp9ggxEPM"]
["v1.00",41443,{"$f":"\"COC - Cost & Time Calcultator \" & A25 & \".xlsx\"","v":"COC - Cost & Time Calcultator v1.00.xlsx"},"- Initial version","- Version initiale","https://mega.co.nz/#!IV8WHBRR!GfWrl6n8JwA0P2EulsX4dnx1kVoi6mLCjnKto7DW7cE"]