{"text_format":"1","workbook":"xlsx","n_sheets":21,"sheets":["Composition et mode d'emplois","Planning","À Faire - Récapitulatif","À Faire - Détails","Production","Rentabilité","Combats - Loots","Formation de Troupes","Bâtiments","Améliorations - Sorts & Troupes","Héros","Coûts des Améliorations","Gains et Stockage","Trophées","Coûts de Formation","Calendrier","Traduction","Paramètres - Admin","Paramètres","Valeur du Village","Journal des Modifications"],"not_rendered":{"charts":1,"images":1,"macros":1,"external_links":0,"defined_names":16,"comments":1,"pivot_tables":0},"unopened":[],"bounds":{"document_bytes":16777216,"sheet_cells":100000,"rows_first":2000,"rows_last":500,"rows_between":2000,"halvings":0,"cell_chars":16384,"cell_head_chars":4096},"cells_cut":0,"cells_raw":0,"read":"whole","date_system":"1900"}

{"sheet":"Composition et mode d'emplois","index":0,"n_rows":59,"n_cols":2,"rows_kept":59,"cut":false,"hidden":false,"merged":[[22,1,22,11],[46,0,46,6],[53,0,53,6],[23,1,23,11],[25,1,25,11],[31,0,31,6],[40,0,40,6],[17,1,17,11],[18,1,18,11],[19,1,19,11],[20,1,20,11],[21,1,21,11],[2,0,2,7],[14,1,14,11],[8,1,8,11],[9,1,9,11],[10,1,10,11],[11,1,11,11],[13,1,13,11],[12,1,12,11]]}
["Mode d'emploi résumé :"]
[]
["Il faut remplir la page paramètre (rien de compliqué).\nLes cellules à remplir sont grises.\n\nLes autres feuilles se mettent à jour automatiquement.\nLes feuilles à faire (bleues) donnent une idée du travail pour maxer le hdv.\nLa feuille planning permet de se projeter des les travaux à réaliser pour maxer son hdv.\nLes feuilles rouges sont masquées et contiennent les valeurs utiles aux différents calculs.\nD'autres feuilles sont masquées également afin de ne pas avoir trop de feuilles affichées.\nIl y a une macro qui permet d'afficher ces feuilles."]
[]
[]
["Composition du fichier :"]
[]
["Calculs :"]
["À Faire - Récapitulatif","Une vue d'ensemble qui permet de voir de ce qu'il reste à faire en fonction du niveau de l'Hôtel De Ville et de ce qui a déjà été fait. Total des coûts et temps restants par catégorie de bâtiments et par Troupes / Sorts / Héros.\nPossibilité d'afficher le récapitulatif avec/sans les remparts, avec/sans l'hotel de ville, avec/sans héros (dans le camembert)"]
["À Faire - Détails","Une vue détaillée de ce qu'il reste à faire en fonction du niveau de l'Hôtel De Ville et de ce qui a déjà été fait. Tous les coûts et temps restants pour chaque bâtiment et Troupes / Sorts / Héros."]
["Production","Une vue qui indique les gains en ressources en fonction du nombre et du niveau des Mines d'Or / Extracteurs / Foreuses et du temps de production.\nOnglet masqué par défaut."]
["Rentabilité","Un outil qui permet de calculer la rentabilité d'une attaque en fonction des ressources gagnées et des des troupes formées et du bonus de league eventuel (basé sur le nombre de trophés)"]
["Combats - Loots","Un outil qui permet de calculer les gains et pertes possibles en combat en ligne en fonction des quantités stockées / des niveaux d'Hôtel De Ville / du nombre de trophées.\nOnglet masqué par défaut."]
["Troops Training","Un outil qui permet connaître les coûts et temps de formation de troupes en fonction de ce que l'on souhaite former et pouvoir établir sa formation en fonction de ce que l'on peut faire (niveau Laboratoire / niveaux Casernes / niveaux Casernes Noires)\nOnglet masqué par défaut."]
["Valeur du Village"]
[]
["Données : (onglets masqués)"]
["Bâtiments","Créations / améliorations de bâtiments possibles en fonction du niveau de l'Hôtel De Ville"]
["Améliorations - Sorts & Troupes","Améliorations de Sorts / Troupes possibles en fonction du niveau de l'Hôtel De Ville"]
["Héros","Améliorations d'Héros possibles en fonction du niveau de l'Hôtel De Ville"]
["Coûts des Améliorations","Coûts et temps des créations / améliorations des Bâtiments / Sorts / Troupes / Héros."]
["Gains et Stockage","Gains et capacités possibles en fonction du niveau des Réserves et Mines d'Or / Extracteurs / Foreuses."]
["Trophées","Bonus et coefficient multiplicateur pour les combats en fonction du nombre de Trophées"]
["Training Costs","Coûts et temps des formations de Troupes + Capacité de Laboratoire / Casernes / Casernes Noires / Camps d'Armée"]
[]
["Paramètres","Les champs principaux à indiquer pour utiliser le fichier (niveau de l'Hôtel De Ville, nombre d'ouvriers, nombre et niveaux de Bâtiments / Sorts / Troupes / Héros)"]
[]
["Journal des Modifications","Cette vue permet de tracer l'évolution du fichier à travers les modifications apportées par rapport aux versions précédentes."]
[]
["Utilisation du fichier :"]
[]
["Renseigner les informations nécessaires dans l'onglet \"Paramètres\" pour les calculs généraux :"]
[null,"Niveau de l'Hôtel De Ville (Cellule BI2)"]
[null,"Nombre d'ouvriers (Cellule BJ2)"]
[null,"Nombre et niveaux de Bâtiments (Cellules B6:AF45)"]
[null,"Niveaux des Sorts (Cellules AG:AN45)"]
[null,"Niveaux des Troupes Normales (Cellules A06:AX45)"]
[null,"Niveaux des Troupes Noires (Cellules AY6:BD45)"]
[null,"Niveaux des Héros (Cellules BE6:BG45)"]
[]
["Renseigner les informations nécessaires dans l'onglet \"Combats - Loots\" pour la fonctionnalité qui permet de connaître les gains et pertes possibles en combat en ligne :"]
[null,"Attaque ou Défense (Cellule B2)"]
[null,"Niveau de l'Hôtel De Ville de l'opposant (Cellule C2)"]
[null,"Quantité de ressources dans les Réserves (Cellules B7:D13)"]
[null,"Quantité de ressources dans les Mines / Extracteurs / Foreuses (Cellules E7:G13)"]
[]
["Renseigner les informations nécessaires dans l'onglet \"Formation de Troupes\" pour la fonctionnalité qui permet connaître les coûts et temps de formation de troupes en fonction de ce que l'on souhaite former et pouvoir établir sa formation :"]
[null,"Choix et nombre de créations pour les Sorts (Cellules G5:G9)"]
[null,"Niveaux des Casernes (Cellules O2:R2)"]
[null,"Choix et nombre de formations de troupes normales (Cellules O5:R14)"]
[null,"Niveaux des Casernes Noires (Cellules AA2:AB2)"]
[null,"Choix et nombre de formations de Troupes Noires (Cellules AA5:AB8)"]
[]
["Enfin, il est possible de choisir l'affichage du temps dans les onglets \"À Faire - Récapitulatif\" et \"Formation de Troupes\" ou la période de production dans l'onglet \"Production\" :"]
[null,"Affichage Temps (Cellule B2)"]
[null,"Période (Cellule B2)"]
[]
["Pour afficher les onglets masqués lancer la macro \"Masquage_Onglets_OFF\""]
["Pour reccacher les onglets (uniquement les rouges) lancer la macro \"Masquage_Onglets_ON\""]

{"sheet":"Planning","index":1,"n_rows":73,"n_cols":68,"rows_kept":73,"cut":false,"hidden":false,"merged":[[69,0,69,7],[21,0,21,7],[40,0,40,7],[0,11,0,12],[7,0,7,7],[1,8,1,9],[2,8,2,9],[3,8,3,9],[52,0,52,7],[2,0,5,7],[33,0,33,7],[0,13,0,14],[1,11,1,12],[2,11,2,12],[3,11,3,12],[1,13,1,14],[2,13,2,14],[3,13,3,14],[0,18,0,25],[14,0,14,7],[43,0,43,7],[0,0,0,1],[1,0,1,1],[4,8,4,9],[4,11,4,12],[4,13,4,14],[0,15,0,16],[1,15,1,16],[2,15,2,16],[3,15,3,16],[0,8,0,9],[1,23,1,25],[2,23,2,25],[4,19,4,21],[2,19,2,21],[1,19,1,21],[3,19,3,21],[4,23,4,25],[4,15,4,16]]}
["LVL HdV",null,"Date de Départ","Pas (jour)","Période Sélectionnée","Créer Planning",{"$f":"Paramètres!BJ2","v":1},null,"Période",null,"NB","Besoins d'Or\n(sans remparts)",null,"Besoins d'Elixir",null,"Besoins d'Elixir Noir",null,null,"Légende"]
[{"$f":"Paramètres!$BI$2","v":1},null,"2016-01-10T19:24:48",1,"2016-01-10","Réinitialiser",null,null,{"$f":"period_selected","v":"2016-01-10"},null,0,0,null,0,null,0,null,null,null,"Planifié",null,null,null,"% Réalisé"]
["Planning",null,null,null,null,null,null,null,{"$f":"$I2+$D$2","v":"2016-01-11"},null,0,0,null,0,null,0,null,null,null,"Réel",null,null,null,"% Réalisé (au-delà du planifié)"]
[null,null,null,null,null,null,null,null,{"$f":"$I3+$D$2","v":"2016-01-12"},null,0,0,null,0,null,0,null,null,null,"Réel (au-delà du planifié)"]
[null,null,null,null,null,null,null,null,{"$f":"$I4+$D$2","v":"2016-01-13"},null,0,0,null,0,null,0,null,null,null,"Ouvriers disponibles",null,null,null,"Erreur - Pas suffisament d'Ouvriers"]
[null,null,null,null,null,null,null,null,{"$f":"SUM(I8:I44)+SUM(I70:I73)","v":0},0,0,0,0,0,0,0,0,0,0,0,0,0,0,0,0,0,0,0,0,0,0,0,0,0,0,0,0,0,0,0,{"$f":"SUM(AO8:AO44)+SUM(AO70:AO73)","v":0},0,0,0,0,0,0,0,0,0,0,0,0,0,0,0,0,0,0,0,0,0,0,0,0,0,0,0]
["Construction / Amélioration","+","Coût","Durée Planifée (jours)","Début Planifiée","Début Réel","Durée Réelle","% Réalisé",{"$f":"$C$2","v":"2016-01-10T19:24:48"},{"$f":"I$7+$D$2","v":"2016-01-11T19:24:48"},{"$f":"J$7+$D$2","v":"2016-01-12T19:24:48"},"2016-01-13T19:24:48","2016-01-14T19:24:48","2016-01-15T19:24:48","2016-01-16T19:24:48","2016-01-17T19:24:48","2016-01-18T19:24:48","2016-01-19T19:24:48",{"$f":"R$7+$D$2","v":"2016-01-20T19:24:48"},"2016-01-21T19:24:48","2016-01-22T19:24:48",{"$f":"U$7+$D$2","v":"2016-01-23T19:24:48"},"2016-01-24T19:24:48","2016-01-25T19:24:48","2016-01-26T19:24:48","2016-01-27T19:24:48","2016-01-28T19:24:48",{"$f":"AA$7+$D$2","v":"2016-01-29T19:24:48"},"2016-01-30T19:24:48","2016-01-31T19:24:48","2016-02-01T19:24:48","2016-02-02T19:24:48","2016-02-03T19:24:48","2016-02-04T19:24:48","2016-02-05T19:24:48","2016-02-06T19:24:48","2016-02-07T19:24:48","2016-02-08T19:24:48","2016-02-09T19:24:48","2016-02-10T19:24:48","2016-02-11T19:24:48","2016-02-12T19:24:48","2016-02-13T19:24:48","2016-02-14T19:24:48","2016-02-15T19:24:48","2016-02-16T19:24:48","2016-02-17T19:24:48","2016-02-18T19:24:48","2016-02-19T19:24:48","2016-02-20T19:24:48","2016-02-21T19:24:48","2016-02-22T19:24:48","2016-02-23T19:24:48","2016-02-24T19:24:48","2016-02-25T19:24:48","2016-02-26T19:24:48","2016-02-27T19:24:48","2016-02-28T19:24:48","2016-02-29T19:24:48","2016-03-01T19:24:48","2016-03-02T19:24:48","2016-03-03T19:24:48","2016-03-04T19:24:48","2016-03-05T19:24:48","2016-03-06T19:24:48","2016-03-07T19:24:48","2016-03-08T19:24:48","2016-03-09T19:24:48"]
["Bâtiments de Ressources",null,null,null,null,null,null,null,{"$f":"IF(ISERROR(Plan),0,Plan)","v":0},0,0,0,0,0,0,0,0,0,0,0,0,0,0,0,{"$f":"IF(ISERROR(Plan),0,Plan)","v":0},0,0,0,0,0,0,0,0,0,0,0,0,0,0,0,0,0,0,0,0,0,0,0,0,0,0,0,0,0,0,0,0,0,0,0,0,0,0,0,0,0,0,0]
["Mine d'Or",null,{"$f":"IF($B9<>\"\",VLOOKUP($B9,COSTS_Gold_Mine[#All],2),\"\")","v":""},{"$f":"IF($B9<>\"\",VLOOKUP($B9,COSTS_Gold_Mine[#All],3)/24,\"\")","v":""},null,null,{"$f":"IF($D9<>\"\",$D9,\"\")","v":""},null,{"$f":"IF(ISERROR(Plan),0,Plan)","v":0},0,0,0,0,0,0,0,0,0,{"$f":"IF(ISERROR(Plan),0,Plan)","v":0},0,0,0,0,0,0,0,0,0,{"$f":"IF(ISERROR(Plan),0,Plan)","v":0},0,0,0,0,0,0,0,0,0,{"$f":"IF(ISERROR(Plan),0,Plan)","v":0},0,0,0,0,0,0,0,0,0,{"$f":"IF(ISERROR(Plan),0,Plan)","v":0},0,0,0,0,0,0,0,0,0,{"$f":"IF(ISERROR(Plan),0,Plan)","v":0},0,0,0,0,0,0,0,0,0]
["Extracteur d'Élixir",null,{"$f":"IF($B10<>\"\",VLOOKUP($B10,COSTS_Elixir_Collector[#All],2),\"\")","v":""},{"$f":"IF($B10<>\"\",VLOOKUP($B10,COSTS_Elixir_Collector[#All],3)/24,\"\")","v":""},null,null,"",null,0,0,0,0,0,0,0,0,0,0,0,0,0,0,0,0,0,0,0,0,0,0,0,0,0,0,0,0,0,0,0,0,0,0,0,0,0,0,0,0,0,0,0,0,0,0,0,0,0,0,0,0,0,0,0,0,0,0,0,0]
["Foreuse d'Élixir Noir",null,{"$f":"IF($B11<>\"\",VLOOKUP($B11,COSTS_Dark_Elixir_Drill[#All],2),\"\")","v":""},{"$f":"IF($B11<>\"\",VLOOKUP($B11,COSTS_Elixir_Collector[#All],3)/24,\"\")","v":""},null,null,"",null,0,0,0,0,0,0,0,0,0,0,0,0,0,0,0,0,0,0,0,0,0,0,0,0,0,0,0,0,0,0,0,0,0,0,0,0,0,0,0,0,0,0,0,0,0,0,0,0,0,0,0,0,0,0,0,0,0,0,0,0]
["Réserve d'Or",null,{"$f":"IF($B12<>\"\",VLOOKUP($B12,COSTS_Gold_Storage[#All],2),\"\")","v":""},{"$f":"IF($B12<>\"\",VLOOKUP($B12,COSTS_Gold_Storage[#All],3)/24,\"\")","v":""},null,null,"",null,0,0,0,{"$f":"IF(ISERROR(Plan),0,Plan)","v":0},0,0,0,0,0,0,0,0,0,0,0,0,0,0,0,0,0,0,0,0,0,0,0,0,0,0,0,0,0,0,0,0,0,0,0,0,0,0,0,0,0,0,0,0,0,0,0,0,0,0,0,0,0,0,0,0]
["Réservoir d'Élixir",null,{"$f":"IF($B13<>\"\",VLOOKUP($B13,COSTS_Elixir_Storage[#All],2),\"\")","v":""},{"$f":"IF($B13<>\"\",VLOOKUP($B13,COSTS_Elixir_Storage[#All],3)/24,\"\")","v":""},null,null,"",null,0,0,0,0,0,0,0,0,0,0,0,0,0,0,0,0,0,0,0,0,0,0,0,0,0,0,0,0,0,0,0,0,0,0,0,0,0,0,0,0,0,0,0,0,0,0,0,0,0,0,0,0,0,0,0,0,0,0,0,0]
["Réservoir d'Élixir Noir",null,{"$f":"IF($B14<>\"\",VLOOKUP($B14,COSTS_Dark_Elixir_Storage[#All],2),\"\")","v":""},{"$f":"IF($B14<>\"\",VLOOKUP($B14,COSTS_Dark_Elixir_Storage[#All],3)/24,\"\")","v":""},null,null,"",null,0,0,0,0,0,0,0,0,0,0,0,0,0,0,0,0,0,0,0,0,0,0,0,0,0,0,0,0,0,0,0,0,0,0,0,0,0,0,0,0,0,0,0,0,0,0,0,0,0,0,0,0,0,0,0,0,0,0,0,0]
["Bâtiments d'Armée",null,null,null,null,null,null,null,0,0,0,0,0,0,0,0,0,0,0,0,0,0,0,0,0,0,0,0,0,0,0,0,0,0,0,0,0,0,0,0,0,0,0,0,0,0,0,0,0,0,0,0,0,0,0,0,0,0,0,0,0,0,0,0,0,0,0,0]
["Caserne",null,{"$f":"IF($B16<>\"\",VLOOKUP($B16,COSTS_Barrack[#All],2),\"\")","v":""},{"$f":"IF($B16<>\"\",VLOOKUP($B16,COSTS_Barrack[#All],3)/24,\"\")","v":""},null,null,{"$f":"IF($D16<>\"\",$D16,\"\")","v":""},null,0,0,0,0,0,0,0,0,0,0,0,0,0,0,0,0,0,0,0,0,0,0,0,0,0,0,0,0,0,0,0,0,0,0,0,0,0,0,0,0,0,0,0,0,0,0,0,0,0,0,0,0,0,0,0,0,0,0,0,0]
["Caserne Noire",null,{"$f":"IF($B17<>\"\",VLOOKUP($B17,COSTS_Dark_Barrack[#All],2),\"\")","v":""},{"$f":"IF($B17<>\"\",VLOOKUP($B17,COSTS_Dark_Barrack[#All],3)/24,\"\")","v":""},null,null,{"$f":"IF($D17<>\"\",$D17,\"\")","v":""},null,0,0,0,0,0,0,0,0,0,0,0,0,0,0,0,0,0,0,0,0,0,0,0,0,0,0,0,0,0,0,0,0,0,0,0,0,0,0,0,0,0,0,0,0,0,0,0,0,0,0,0,0,0,0,0,0,0,0,0,0]
["Camp Militaire",null,{"$f":"IF($B18<>\"\",VLOOKUP($B18,COSTS_Army_Camp[#All],2),\"\")","v":""},{"$f":"IF($B18<>\"\",VLOOKUP($B18,COSTS_Army_Camp[#All],3)/24,\"\")","v":""},null,null,"",null,0,0,0,0,0,0,0,0,0,0,0,0,0,0,0,0,0,0,0,0,0,0,0,0,0,0,0,0,0,0,0,0,0,0,0,0,0,0,0,0,0,0,0,0,0,0,0,0,0,0,0,0,0,0,0,0,0,0,0,0]
["Laboratoire",null,{"$f":"IF($B19<>\"\",VLOOKUP($B19,COSTS_Laboratory[#All],2),\"\")","v":""},{"$f":"IF($B19<>\"\",VLOOKUP($B19,COSTS_Laboratory[#All],3)/24,\"\")","v":""},null,null,"",null,0,0,0,0,0,0,0,0,0,0,0,0,0,0,0,0,0,0,0,0,0,0,0,0,0,0,0,0,0,0,0,0,0,0,0,0,0,0,0,0,0,0,0,0,0,0,0,0,0,0,0,0,0,0,0,0,0,0,0,0]
["Usine de Sorts",null,{"$f":"IF($B20<>\"\",VLOOKUP($B20,COSTS_Spell_Factory[#All],2),\"\")","v":""},{"$f":"IF($B20<>\"\",VLOOKUP($B20,COSTS_Spell_Factory[#All],3)/24,\"\")","v":""},null,null,"",null,0,0,0,0,0,0,0,0,0,0,0,0,0,0,0,0,0,0,0,0,0,0,0,0,0,0,0,0,0,0,0,0,0,0,0,0,0,0,0,0,0,0,0,0,0,0,0,0,0,0,0,0,0,0,0,0,0,0,0,0]
["Usine de Sorts Noirs",null,{"$f":"IF($B21<>\"\",VLOOKUP($B21,COSTS_Dark_Spell_Factory[#All],2),\"\")","v":""},{"$f":"IF($B21<>\"\",VLOOKUP($B21,COSTS_Dark_Spell_Factory[#All],3)/24,\"\")","v":""},null,null,"",null,{"$f":"IF(ISERROR(Plan),0,Plan)","v":0},0,0,0,0,0,0,0,0,0,0,0,0,0,0,0,0,0,0,0,0,0,0,0,0,0,0,0,0,0,0,0,0,0,0,0,0,0,0,0,0,0,0,0,0,0,0,0,0,0,0,0,0,0,0,0,0,0,0,0]
["Bâtiments Défensifs",null,null,null,null,null,null,null,0,0,0,0,0,0,0,0,0,0,0,0,0,0,0,0,0,0,0,0,0,0,0,0,0,0,0,0,0,0,0,0,0,0,0,0,0,0,0,0,0,0,0,0,0,0,0,0,0,0,0,0,0,0,0,0,0,0,0,0]
["Rempart",null,{"$f":"IF($B23<>\"\",VLOOKUP($B23,COSTS_Wall[#All],2),\"\")","v":""},{"$f":"IF($B23<>\"\",VLOOKUP($B23,COSTS_Wall[#All],3)/24,\"\")","v":""},null,null,{"$f":"IF($D23<>\"\",$D23,\"\")","v":""},null,0,0,0,0,0,0,0,0,0,0,0,0,0,0,0,0,0,0,0,0,0,0,0,0,0,0,0,0,0,0,0,0,0,0,0,0,0,0,0,0,0,0,0,0,0,0,0,0,0,0,0,0,0,0,0,0,0,0,0,0]
["Canon",null,{"$f":"IF($B24<>\"\",VLOOKUP($B24,COSTS_Cannon[#All],2),\"\")","v":""},{"$f":"IF($B24<>\"\",VLOOKUP($B24,COSTS_Cannon[#All],3)/24,\"\")","v":""},null,null,{"$f":"IF($D24<>\"\",$D24,\"\")","v":""},null,0,0,0,0,0,0,0,0,0,0,0,0,0,0,0,0,0,0,0,0,0,0,0,0,0,0,0,0,0,0,0,0,0,0,0,0,0,0,0,0,0,0,0,0,0,0,0,0,0,0,0,0,0,0,0,0,0,0,0,0]
["Tour d'Archers",null,{"$f":"IF($B25<>\"\",VLOOKUP($B25,COSTS_Archer_Tower[#All],2),\"\")","v":""},{"$f":"IF($B25<>\"\",VLOOKUP($B25,COSTS_Cannon[#All],3)/24,\"\")","v":""},null,null,"",null,{"$f":"IF(ISERROR(Plan),0,Plan)","v":0},0,0,0,0,0,0,0,0,0,0,0,0,0,0,0,{"$f":"IF(ISERROR(Plan),0,Plan)","v":0},0,0,0,0,0,0,0,0,0,0,0,0,0,0,0,{"$f":"IF(ISERROR(Plan),0,Plan)","v":0},0,0,0,0,0,0,0,0,0,0,0,0,0,0,0,{"$f":"IF(ISERROR(Plan),0,Plan)","v":0},0,0,0,0,0,0,0,0,0,0,0]
["Mortier",null,{"$f":"IF($B26<>\"\",VLOOKUP($B26,COSTS_Mortar[#All],2),\"\")","v":""},{"$f":"IF($B26<>\"\",VLOOKUP($B26,COSTS_Mortar[#All],3)/24,\"\")","v":""},null,null,"",null,0,0,0,0,0,0,0,0,0,0,0,0,0,0,0,0,{"$f":"IF(ISERROR(Plan),0,Plan)","v":0},0,0,0,0,0,0,0,0,0,0,0,0,0,0,0,{"$f":"IF(ISERROR(Plan),0,Plan)","v":0},0,0,0,0,0,0,0,0,0,0,0,0,0,0,0,{"$f":"IF(ISERROR(Plan),0,Plan)","v":0},0,0,0,0,0,0,0,0,0,0,0]
["Défense Antiaérienne",null,{"$f":"IF($B27<>\"\",VLOOKUP($B27,COSTS_Air_Defense[#All],2),\"\")","v":""},{"$f":"IF($B27<>\"\",VLOOKUP($B27,COSTS_Air_Defense[#All],3)/24,\"\")","v":""},null,null,"",null,0,0,0,0,0,0,0,0,0,0,0,0,0,0,0,0,0,0,0,0,0,0,0,0,0,0,0,0,0,0,0,0,0,0,0,0,0,0,0,0,0,0,0,0,0,0,0,0,0,0,0,0,0,0,0,0,0,0,0,0]
["Tour de Sorciers",null,{"$f":"IF($B28<>\"\",VLOOKUP($B28,COSTS_Wizard_Tower[#All],2),\"\")","v":""},{"$f":"IF($B28<>\"\",VLOOKUP($B28,COSTS_Wizard_Tower[#All],3)/24,\"\")","v":""},null,null,"",null,0,0,0,0,0,0,0,0,0,0,0,0,0,0,0,0,0,0,0,0,0,0,0,0,0,0,0,0,0,0,0,0,0,0,0,0,0,0,0,0,0,0,0,0,0,0,0,0,0,0,0,0,0,0,0,0,0,0,0,0]
["Propulseur d'air",null,{"$f":"IF($B29<>\"\",VLOOKUP($B29,COSTS_Air_Sweeper[#All],2),\"\")","v":""},{"$f":"IF($B29<>\"\",VLOOKUP($B29,COSTS_Air_Sweeper[#All],3)/24,\"\")","v":""},null,null,"",null,0,0,0,0,0,0,0,0,0,0,0,0,0,0,0,0,0,0,0,0,0,0,0,0,0,0,0,0,0,0,0,0,0,0,0,0,0,0,0,0,0,0,0,0,0,0,0,0,0,0,0,0,0,0,0,0,0,0,0,0]
["Tesla Camouflée",null,{"$f":"IF($B30<>\"\",VLOOKUP($B30,COSTS_Hidden_Tesla[#All],2),\"\")","v":""},{"$f":"IF($B30<>\"\",VLOOKUP($B30,COSTS_Hidden_Tesla[#All],3)/24,\"\")","v":""},null,null,"",null,0,0,0,0,0,0,0,0,0,0,0,0,0,0,0,0,0,0,0,0,0,0,0,0,0,0,0,0,0,0,0,0,0,0,0,0,0,0,0,0,0,0,0,0,0,0,0,0,0,0,0,0,0,0,0,0,0,0,0,0]
["Arc-X",null,{"$f":"IF($B31<>\"\",VLOOKUP($B31,COSTS_XBow[#All],2),\"\")","v":""},{"$f":"IF($B31<>\"\",VLOOKUP($B31,COSTS_XBow[#All],3)/24,\"\")","v":""},null,null,"",null,0,0,0,0,0,0,0,0,0,0,0,0,0,0,0,0,0,0,0,0,0,0,0,0,0,0,0,0,0,0,0,0,0,0,0,0,0,0,0,0,0,0,0,0,0,0,0,0,0,0,0,0,0,0,0,0,0,0,0,0]
["Tour de l'Enfer",null,{"$f":"IF($B32<>\"\",VLOOKUP($B32,COSTS_Inferno_Tower[#All],2),\"\")","v":""},{"$f":"IF($B32<>\"\",VLOOKUP($B32,COSTS_Inferno_Tower[#All],3)/24,\"\")","v":""},null,null,"",null,0,0,0,0,0,0,0,0,0,0,0,0,0,0,0,0,0,0,0,0,0,0,0,0,0,0,0,0,0,0,0,0,0,0,0,0,0,0,0,0,0,0,0,0,0,0,0,0,0,0,0,0,0,0,0,0,0,0,0,0]
["Aigle Artilleur",null,{"$f":"IF($B33<>\"\",VLOOKUP($B33,COSTS_Defense_Aigle[#All],2),\"\")","v":""},{"$f":"IF($B33<>\"\",VLOOKUP($B33,COSTS_Defense_Aigle[#All],3)/24,\"\")","v":""},null,null,"",null,0,0,0,0,0,0,0,0,0,0,0,0,0,0,0,0,0,0,0,0,0,0,0,0,0,0,0,0,0,0,0,0,{"$f":"IF(ISERROR(Plan),0,Plan)","v":0},0,0,0,0,0,0,0,0,0,0,0,0,0,0,0,0,0,0,0,0,0,0,0,0,0,0,0]
["Pièges Défensifs",null,null,null,null,null,null,null,0,0,0,0,0,0,0,0,0,0,0,0,0,0,0,0,0,0,0,{"$f":"IF(ISERROR(Plan),0,Plan)","v":0},0,0,0,0,0,0,0,0,0,0,0,0,0,0,0,0,0,0,0,0,0,0,0,0,0,0,0,0,0,0,0,0,0,0,0,0,0,0,0,0]
["Bombe",null,{"$f":"IF($B35<>\"\",VLOOKUP($B35,COSTS_Bomb[#All],2),\"\")","v":""},{"$f":"IF($B35<>\"\",VLOOKUP($B35,COSTS_Bomb[#All],3)/24,\"\")","v":""},null,null,{"$f":"IF($D35<>\"\",$D35,\"\")","v":""},null,0,0,0,0,0,0,0,0,0,0,0,0,0,0,0,0,{"$f":"IF(ISERROR(Plan),0,Plan)","v":0},0,0,0,0,0,0,0,0,0,0,0,0,0,0,0,0,0,0,0,0,0,0,0,0,0,0,0,0,0,0,0,0,0,0,0,0,0,{"$f":"IF(ISERROR(Plan),0,Plan)","v":0},0,0,0,0,0]
["Piège à ressort",null,{"$f":"IF($B36<>\"\",VLOOKUP($B36,COSTS_Spring_Trap[#All],2),\"\")","v":""},{"$f":"IF($B36<>\"\",VLOOKUP($B36,COSTS_Spring_Trap[#All],3)/24,\"\")","v":""},null,null,"",null,0,0,0,0,0,0,0,0,0,{"$f":"IF(ISERROR(Plan),0,Plan)","v":0},0,0,0,0,0,0,0,0,0,0,0,0,0,0,0,0,0,0,0,0,0,0,0,0,0,0,0,0,0,0,0,0,0,0,0,0,0,0,{"$f":"IF(ISERROR(Plan),0,Plan)","v":0},0,0,0,0,0,0,0,0,0,0,0]
["Bombe géante",null,{"$f":"IF($B37<>\"\",VLOOKUP($B37,COSTS_Giant_Bomb[#All],2),\"\")","v":""},{"$f":"IF($B37<>\"\",VLOOKUP($B37,COSTS_Giant_Bomb[#All],3)/24,\"\")","v":""},null,null,"",null,{"$f":"IF(ISERROR(Plan),0,Plan)","v":0},0,0,0,0,0,0,0,0,0,0,0,0,0,0,0,0,0,0,0,0,0,0,0,0,0,0,0,0,0,0,0,0,0,0,0,0,0,0,0,0,0,0,0,0,0,0,0,0,0,0,0,0,0,0,0,0,0,0,0]
["Bombe aérienne",null,{"$f":"IF($B38<>\"\",VLOOKUP($B38,COST_Air_Bomb[#All],2),\"\")","v":""},{"$f":"IF($B38<>\"\",VLOOKUP($B38,COST_Air_Bomb[#All],3)/24,\"\")","v":""},null,null,"",null,0,0,0,0,0,0,0,0,0,0,0,0,0,0,0,0,0,0,0,0,0,0,0,0,0,0,0,0,0,0,0,0,0,0,0,0,0,0,0,0,0,0,0,0,0,0,0,0,0,0,0,0,0,0,0,0,0,0,0,0]
["Tête chercheuse",null,{"$f":"IF($B39<>\"\",VLOOKUP($B39,COST_Seeking_Air_Mine[#All],2),\"\")","v":""},{"$f":"IF($B39<>\"\",VLOOKUP($B39,COST_Seeking_Air_Mine[#All],3)/24,\"\")","v":""},null,null,"",null,0,0,0,0,0,0,0,0,0,0,0,0,0,0,0,0,0,0,0,0,0,0,0,0,0,0,0,0,0,0,0,0,0,0,0,0,0,0,0,0,0,0,0,0,0,0,0,0,0,0,0,0,0,0,0,0,0,0,0,0]
["Piège squelettique",null,{"$f":"IF($B40<>\"\",VLOOKUP($B40,COST_Skeleton_Trap[#All],2),\"\")","v":""},{"$f":"IF($B40<>\"\",VLOOKUP($B40,COST_Skeleton_Trap[#All],3)/24,\"\")","v":""},null,null,"",null,0,0,0,0,0,0,0,0,0,0,0,0,0,0,0,0,0,0,0,0,0,0,0,0,0,0,0,0,0,0,0,0,0,0,0,0,0,0,0,0,0,0,0,0,0,0,0,0,0,0,0,0,0,0,0,0,0,0,0,0]
["Bâtiments Autres",null,null,null,null,null,null,null,0,0,0,0,0,0,0,0,0,0,0,0,0,0,0,0,0,0,0,0,0,0,0,0,0,0,0,0,0,0,0,0,0,0,0,0,0,0,0,0,0,0,0,0,0,0,0,0,0,0,0,0,0,0,0,0,0,0,0,0]
["Château de Clan",null,{"$f":"IF($B42<>\"\",VLOOKUP($B42,COSTS_Clan_Castle[#All],2),\"\")","v":""},{"$f":"IF($B42<>\"\",VLOOKUP($B42,COSTS_Clan_Castle[#All],3)/24,\"\")","v":""},null,null,{"$f":"IF($D42<>\"\",$D42,\"\")","v":""},null,0,0,0,0,0,0,0,0,0,0,0,0,0,0,0,0,0,0,0,0,0,0,0,0,0,0,0,0,0,0,0,0,0,0,0,0,0,0,0,0,0,0,0,0,0,0,0,0,0,0,0,0,0,0,0,0,0,0,0,0]
["Hôtel de Ville",null,{"$f":"IF($B43<>\"\",VLOOKUP($B43,COSTS_Town_Home[#All],2),\"\")","v":""},{"$f":"IF($B43<>\"\",VLOOKUP($B43,COSTS_Town_Home[#All],3)/24,\"\")","v":""},null,null,{"$f":"IF($D43<>\"\",$D43,\"\")","v":""},null,0,0,0,0,0,0,0,0,0,0,0,0,0,0,0,0,0,0,0,0,0,0,0,0,0,0,0,0,0,0,0,0,0,0,0,0,0,0,0,0,0,0,0,0,0,0,0,0,0,0,0,0,0,0,0,0,0,0,0,0]
["Améliorations de Sorts",null,null,null,null,null,null,null,0,0,0,0,0,0,0,0,0,0,0,0,0,0,0,0,0,0,0,0,0,0,0,0,0,0,0,0,0,0,0,0,0,0,0,0,0,0,0,0,0,0,0,0,0,0,0,0,0,0,0,0,0,0,0,0,0,0,0,0]
["Sort de Foudre",null,{"$f":"IF($B45<>\"\",VLOOKUP($B45,COSTS_Spell_Lightning[#All],2),\"\")","v":""},{"$f":"IF($B45<>\"\",VLOOKUP($B45,COSTS_Spell_Lightning[#All],3)/24,\"\")","v":""},null,null,{"$f":"IF($D45<>\"\",$D45,\"\")","v":""},null,0,0,0,0,0,0,0,{"$f":"IF(ISERROR(Plan),0,Plan)","v":0},0,0,0,0,0,0,0,0,0,0,0,0,0,0,0,0,0,0,0,0,0,0,0,0,0,0,0,0,0,0,0,0,0,0,0,0,0,0,0,0,0,0,0,0,0,0,0,0,0,0,0,0]
["Sort de Guérison",null,{"$f":"IF($B46<>\"\",VLOOKUP($B46,COSTS_Spell_Healing[#All],2),\"\")","v":""},{"$f":"IF($B46<>\"\",VLOOKUP($B46,COSTS_Spell_Healing[#All],3)/24,\"\")","v":""},null,null,{"$f":"IF($D46<>\"\",$D46,\"\")","v":""},null,{"$f":"IF(ISERROR(Plan),0,Plan)","v":0},0,0,0,0,0,0,0,0,0,0,0,0,0,0,0,0,0,0,0,0,0,0,0,0,0,0,0,0,0,0,0,0,0,0,0,0,0,0,0,0,0,0,0,0,0,0,0,0,0,0,0,0,0,0,0,0,0,0,0]
["Sort de Rage",null,{"$f":"IF($B47<>\"\",VLOOKUP($B47,COSTS_Spell_Rage[#All],2),\"\")","v":""},{"$f":"IF($B47<>\"\",VLOOKUP($B47,COSTS_Spell_Rage[#All],3)/24,\"\")","v":""},null,null,"",null,0,0,0,0,0,0,0,0,0,0,0,0,0,0,0,0,0,0,0,0,0,0,0,0,0,0,0,0,0,0,0,0,0,0,0,0,0,0,0,0,0,0,0,0,0,0,0,0,0,0,0,0,0,0,0,0,0,0,0,0]
["Sort de Saut",null,{"$f":"IF($B48<>\"\",VLOOKUP($B48,COSTS_Spell_Jump[#All],2),\"\")","v":""},{"$f":"IF($B48<>\"\",VLOOKUP($B48,COSTS_Spell_Jump[#All],3)/24,\"\")","v":""},null,null,"",null,0,0,0,0,0,0,0,0,0,0,0,0,0,0,0,0,0,0,0,0,0,0,0,0,0,0,0,0,0,0,0,0,0,0,0,0,0,0,0,0,0,0,0,0,0,0,0,0,0,0,0,0,0,0,0,0,0,0,0,0]
["Sort de Gel",null,{"$f":"IF($B49<>\"\",VLOOKUP($B49,COSTS_Spell_Freeze[#All],2),\"\")","v":""},{"$f":"IF($B49<>\"\",VLOOKUP($B49,COSTS_Spell_Freeze[#All],3)/24,\"\")","v":""},null,null,"",null,0,0,0,0,0,0,0,0,0,0,0,0,0,0,0,0,0,0,0,0,0,0,0,0,0,0,0,0,0,0,0,0,0,0,0,0,0,0,0,0,0,0,0,0,0,0,0,{"$f":"IF(ISERROR(Plan),0,Plan)","v":0},0,0,0,0,0,0,0,0,0,0,0,0]
["Sort de Poison",null,{"$f":"IF($B50<>\"\",VLOOKUP($B50,COSTS_Spell_Poison[#All],2),\"\")","v":""},{"$f":"IF($B50<>\"\",VLOOKUP($B50,COSTS_Spell_Poison[#All],3)/24,\"\")","v":""},null,null,"",null,{"$f":"IF(ISERROR(Plan),0,Plan)","v":0},0,0,0,0,0,0,0,0,0,0,0,0,0,0,0,0,0,0,0,0,0,0,0,0,0,0,0,0,0,0,0,0,0,0,0,0,0,0,0,0,0,0,0,0,0,0,0,0,0,0,0,0,0,0,0,0,0,0,0]
["Sort de Séisme",null,{"$f":"IF($B51<>\"\",VLOOKUP($B51,COSTS_Spell_Earthquake[#All],2),\"\")","v":""},{"$f":"IF($B51<>\"\",VLOOKUP($B51,COSTS_Spell_Earthquake[#All],3)/24,\"\")","v":""},null,null,"",null,0,0,0,0,0,0,0,0,0,0,0,0,0,0,0,0,0,0,0,0,0,0,0,0,0,0,0,0,0,0,0,0,0,0,0,0,0,0,0,0,0,0,0,0,0,0,0,0,0,0,0,0,0,0,0,0,0,0,0,0]
["Sort de Hâte",null,{"$f":"IF($B52<>\"\",VLOOKUP($B52,COSTS_Spell_Haste[#All],2),\"\")","v":""},{"$f":"IF($B52<>\"\",VLOOKUP($B52,COSTS_Spell_Haste[#All],3)/24,\"\")","v":""},null,null,"",null,0,0,0,0,0,0,0,0,0,0,0,0,0,0,0,0,0,0,0,0,0,0,0,0,0,0,0,0,0,0,0,0,0,0,0,0,0,0,0,0,0,0,0,0,0,0,0,0,0,0,0,0,0,0,0,0,0,0,0,0]
["Améliorations de Troupes",null,null,null,null,null,null,null,0,0,0,0,0,0,0,0,0,0,0,0,0,0,0,0,0,0,0,0,0,0,0,0,0,0,0,0,0,0,0,0,0,0,0,0,0,0,0,0,0,0,0,0,0,0,0,0,0,0,0,0,0,0,0,0,0,0,0,0]
["Barbare",null,{"$f":"IF($B54<>\"\",VLOOKUP($B54,COSTS_Barbarian[#All],2),\"\")","v":""},{"$f":"IF($B54<>\"\",VLOOKUP($B54,COSTS_Barbarian[#All],3)/24,\"\")","v":""},null,null,"",null,0,0,0,0,0,0,0,0,0,0,0,0,0,0,0,{"$f":"IF(ISERROR(Plan),0,Plan)","v":0},0,0,0,0,0,0,0,0,0,0,0,0,0,0,0,{"$f":"IF(ISERROR(Plan),0,Plan)","v":0},0,0,0,0,0,0,0,0,0,0,0,0,0,0,0,{"$f":"IF(ISERROR(Plan),0,Plan)","v":0},0,0,0,0,0,0,0,0,0,0,0,0]
["Archer",null,{"$f":"IF($B55<>\"\",VLOOKUP($B55,COSTS_Archer[#All],2),\"\")","v":""},{"$f":"IF($B55<>\"\",VLOOKUP($B55,COSTS_Archer[#All],3)/24,\"\")","v":""},null,null,"",null,{"$f":"IF(ISERROR(Plan),0,Plan)","v":0},0,0,0,0,0,0,0,0,0,0,0,0,0,0,0,0,0,0,0,0,0,0,0,0,0,0,0,0,0,0,0,0,0,0,0,0,0,0,0,0,0,0,0,0,0,0,0,0,0,0,0,0,0,0,0,0,0,0,0]
["Gobelin",null,{"$f":"IF($B56<>\"\",VLOOKUP($B56,COSTS_Goblin[#All],2),\"\")","v":""},{"$f":"IF($B56<>\"\",VLOOKUP($B56,COSTS_Goblin[#All],3)/24,\"\")","v":""},null,null,"",null,0,0,0,0,0,0,0,0,0,0,0,0,0,0,0,0,0,0,0,0,{"$f":"IF(ISERROR(Plan),0,Plan)","v":0},0,0,0,0,0,0,0,0,0,{"$f":"IF(ISERROR(Plan),0,Plan)","v":0},0,0,0,0,0,0,0,0,0,0,0,0,0,0,0,0,0,0,0,0,0,0,0,0,0,0,0,0,0]
["Géant",null,{"$f":"IF($B57<>\"\",VLOOKUP($B57,COSTS_Giant[#All],2),\"\")","v":""},{"$f":"IF($B57<>\"\",VLOOKUP($B57,COSTS_Giant[#All],3)/24,\"\")","v":""},null,null,"",null,0,0,0,0,0,0,0,0,0,0,0,0,0,0,0,0,0,0,0,0,0,0,0,0,0,0,0,0,0,0,0,0,0,0,0,0,0,0,0,0,0,0,0,0,0,0,0,0,0,0,0,0,0,0,0,0,0,0,0,0]
["Sapeur",null,{"$f":"IF($B58<>\"\",VLOOKUP($B58,COSTS_Wall_Breaker[#All],2),\"\")","v":""},{"$f":"IF($B58<>\"\",VLOOKUP($B58,COSTS_Wall_Breaker[#All],3)/24,\"\")","v":""},null,null,"",null,0,0,0,0,0,0,0,0,0,0,0,0,0,0,0,0,0,0,0,0,0,0,0,0,0,0,0,0,0,0,0,0,0,0,0,0,0,0,0,0,0,0,0,0,0,0,0,0,0,0,0,0,0,0,0,0,0,0,0,0]
["Ballon",null,{"$f":"IF($B59<>\"\",VLOOKUP($B59,COSTS_Balloon[#All],2),\"\")","v":""},{"$f":"IF($B59<>\"\",VLOOKUP($B59,COSTS_Balloon[#All],3)/24,\"\")","v":""},null,null,"",null,0,0,0,0,0,0,0,0,0,0,0,0,0,0,0,0,0,0,0,0,0,0,0,0,0,0,0,0,0,0,0,0,0,0,0,0,0,0,0,0,0,0,0,0,0,0,0,0,0,0,0,0,0,0,0,{"$f":"IF(ISERROR(Plan),0,Plan)","v":0},0,0,0,0]
["Sorcier",null,{"$f":"IF($B60<>\"\",VLOOKUP($B60,COSTS_Wizard[#All],2),\"\")","v":""},{"$f":"IF($B60<>\"\",VLOOKUP($B60,COSTS_Wizard[#All],3)/24,\"\")","v":""},null,null,"",null,0,0,0,0,0,0,0,0,0,0,0,0,0,0,0,0,0,0,0,0,0,0,0,0,0,0,0,0,0,0,0,0,0,0,0,0,0,0,0,0,0,0,0,0,0,0,0,0,0,0,0,0,0,0,0,0,0,0,0,0]
["Guérisseuse",null,{"$f":"IF($B61<>\"\",VLOOKUP($B61,COSTS_Healer[#All],2),\"\")","v":""},{"$f":"IF($B61<>\"\",VLOOKUP($B61,COSTS_Healer[#All],3)/24,\"\")","v":""},null,null,"",null,0,0,0,0,0,0,0,0,0,0,0,0,0,0,0,0,0,0,0,0,0,0,0,0,0,0,0,0,0,0,0,0,0,0,0,0,0,0,0,0,0,0,0,0,0,0,0,0,0,0,0,0,0,0,0,0,0,0,0,0]
["Dragon",null,{"$f":"IF($B62<>\"\",VLOOKUP($B62,COSTS_Dragon[#All],2),\"\")","v":""},{"$f":"IF($B62<>\"\",VLOOKUP($B62,COSTS_Dragon[#All],3)/24,\"\")","v":""},null,null,"",null,0,0,0,0,0,0,0,0,0,0,0,0,0,0,0,0,0,0,0,0,0,0,0,0,0,0,0,0,0,0,0,0,0,0,0,0,0,0,0,0,0,0,0,0,0,0,0,0,0,0,0,0,0,0,0,0,0,0,0,0]
["P.E.K.K.A",null,{"$f":"IF($B63<>\"\",VLOOKUP($B63,COSTS_PEKKA[#All],2),\"\")","v":""},{"$f":"IF($B63<>\"\",VLOOKUP($B63,COSTS_PEKKA[#All],3)/24,\"\")","v":""},null,null,"",null,0,0,0,0,0,0,0,0,0,0,0,0,0,0,0,0,0,0,0,0,0,0,0,0,0,0,0,0,0,0,0,0,0,0,0,0,0,0,0,0,0,0,0,0,0,0,0,0,0,0,0,0,0,0,0,0,0,0,0,0]
["Serviteur",null,{"$f":"IF($B64<>\"\",VLOOKUP($B64,COSTS_Minion[#All],2),\"\")","v":""},{"$f":"IF($B64<>\"\",VLOOKUP($B64,COSTS_Minion[#All],3)/24,\"\")","v":""},null,null,"",null,0,0,0,0,0,0,0,0,0,0,0,0,0,0,0,0,0,0,0,0,0,0,0,0,0,0,0,0,0,0,0,0,0,0,0,0,0,0,0,0,0,0,0,0,0,0,0,0,0,0,0,0,0,0,0,0,0,0,0,0]
["Chevaucheur de Cochon",null,{"$f":"IF($B65<>\"\",VLOOKUP($B65,COSTS_Hog_Rider[#All],2),\"\")","v":""},{"$f":"IF($B65<>\"\",VLOOKUP($B65,COSTS_Hog_Rider[#All],3)/24,\"\")","v":""},null,null,"",null,0,0,0,0,0,0,0,0,0,0,0,0,0,0,0,0,0,0,0,0,0,0,0,0,0,0,0,0,0,0,0,0,0,0,0,0,0,0,0,0,0,0,0,0,0,0,0,0,0,0,0,0,0,0,0,0,0,0,0,0]
["Valkyrie",null,{"$f":"IF($B66<>\"\",VLOOKUP($B66,COSTS_Valkyrie[#All],2),\"\")","v":""},{"$f":"IF($B66<>\"\",VLOOKUP($B66,COSTS_Valkyrie[#All],3)/24,\"\")","v":""},null,null,"",null,0,0,0,0,0,0,0,0,0,0,0,0,0,0,0,0,0,0,0,0,0,0,0,0,0,0,0,0,0,0,0,0,0,0,0,0,0,0,0,0,0,0,0,0,0,0,0,0,0,0,0,0,0,0,0,0,0,0,0,0]
["Golem",null,{"$f":"IF($B67<>\"\",VLOOKUP($B67,COSTS_Golem[#All],2),\"\")","v":""},{"$f":"IF($B67<>\"\",VLOOKUP($B67,COSTS_Golem[#All],3)/24,\"\")","v":""},null,null,{"$f":"IF($D67<>\"\",$D67,\"\")","v":""},null,0,0,0,0,0,0,0,0,0,0,0,0,0,0,0,0,0,0,0,0,0,0,0,0,0,0,0,0,0,0,0,0,0,0,0,0,0,0,0,0,0,0,0,0,0,0,0,0,0,0,0,0,0,0,0,0,0,0,0,0]
["Sorcière",null,{"$f":"IF($B68<>\"\",VLOOKUP($B68,COSTS_Witch[#All],2),\"\")","v":""},{"$f":"IF($B68<>\"\",VLOOKUP($B68,COSTS_Witch[#All],3)/24,\"\")","v":""},null,null,"",null,0,0,0,0,0,0,0,0,0,0,0,0,0,0,0,0,0,0,0,0,0,0,0,0,0,0,0,0,0,0,0,0,0,0,0,0,0,0,0,0,0,0,0,0,0,0,0,0,0,0,0,0,0,0,0,0,0,0,0,0]
["Molosse de lave",null,{"$f":"IF($B69<>\"\",VLOOKUP($B69,COSTS_Lava_Hound[#All],2),\"\")","v":""},{"$f":"IF($B69<>\"\",VLOOKUP($B69,COSTS_Lava_Hound[#All],3)/24,\"\")","v":""},null,null,"",null,0,0,0,0,0,0,0,0,0,0,0,0,0,0,0,0,0,0,0,0,0,0,0,0,0,0,0,0,0,0,0,0,0,0,0,0,0,0,0,0,0,0,0,0,0,0,0,0,0,0,0,0,0,0,0,0,0,0,0,0]
["Héros",null,null,null,null,null,null,null,0,0,0,0,0,0,0,0,0,0,0,0,0,0,0,0,0,0,0,0,0,0,0,0,0,0,0,0,0,0,0,0,0,0,0,0,0,0,0,0,0,0,0,0,0,0,0,0,0,0,0,0,0,0,0,0,0,0,0,0]
["Roi des Barbares",null,{"$f":"IF($B71<>\"\",VLOOKUP($B71,COSTS_Barbarian_King[#All],2),\"\")","v":""},{"$f":"IF($B71<>\"\",VLOOKUP($B71,COSTS_Barbarian_King[#All],3)/24,\"\")","v":""},null,null,"",null,0,0,0,0,0,0,0,0,0,0,0,0,0,0,0,0,0,0,0,0,0,0,0,0,0,0,0,0,0,0,0,0,0,0,0,0,0,0,0,0,0,0,0,0,0,0,0,0,0,0,0,0,0,0,0,0,0,0,0,0]
["Reine des Archers",null,{"$f":"IF($B72<>\"\",VLOOKUP($B72,COSTS_Archer_Queen[#All],2),\"\")","v":""},{"$f":"IF($B72<>\"\",VLOOKUP($B72,COSTS_Archer_Queen[#All],3)/24,\"\")","v":""},null,null,"",null,0,0,0,0,0,0,0,0,0,0,0,0,{"$f":"IF(ISERROR(Plan),0,Plan)","v":0},0,0,0,0,0,0,0,0,0,0,0,0,0,0,0,0,0,0,0,0,0,0,0,0,0,0,0,0,0,0,0,0,0,0,0,0,0,0,0,0,0,0,0,0,0,0,0]
["Grand Gardien",null,{"$f":"IF($B73<>\"\",VLOOKUP($B73,COSTS_Grand_Warden[#All],2),\"\")","v":""},{"$f":"IF($B73<>\"\",VLOOKUP($B73,COSTS_Grand_Warden[#All],3)/24,\"\")","v":""},null,null,{"$f":"IF($D73<>\"\",$D73,\"\")","v":""},null,0,0,0,0,0,0,0,0,0,0,0,0,0,0,0,0,0,0,0,0,0,0,0,0,0,0,0,0,0,0,0,0,0,0,0,0,0,0,0,0,0,0,0,0,0,0,0,0,0,0,0,0,0,0,0,0,0,0,0,0]

{"sheet":"À Faire - Récapitulatif","index":2,"n_rows":28,"n_cols":26,"rows_kept":28,"cut":false,"hidden":false,"merged":[[1,1,1,2],[0,1,0,2],[0,10,0,11],[1,10,1,11],[0,12,0,13],[29,14,29,17],[1,14,1,15],[0,14,0,15],[14,6,14,11],[0,7,0,9],[1,7,1,9],[2,0,3,23],[21,18,21,23],[4,0,4,5],[4,6,4,11],[14,0,14,5],[22,12,22,17],[1,12,1,13],[14,12,14,17],[4,12,4,17],[0,22,0,23],[14,18,14,23],[1,22,1,23],[0,19,0,21],[1,19,1,21],[0,16,0,18],[1,16,1,18],[4,18,4,23]]}
["LVL HdV","Affichage Temps",null,"Mur","HDV","Héros",null,"Or Total :",null,null,"Élixir Total :",null,"Élixir Noir Total :",null,"Temps Total :",null,{"$f":"'Paramètres - Admin'!$D$7 & IF($B$2='Paramètres - Admin'!$B$2,TEXT((E13+K13+E28+Q27+Q13)*60*60,\"# 0\")&\" \" & 'Paramètres - Admin'!$B$2,IF($B$2='Paramètres - Admin'!$B$3,TEXT((E13+K13+E28+Q27+Q13)*60,\"# 0\")&\" \" & 'Paramètres - Admin'!$B$3,IF($B$2='Paramètres - Admin'!$B$4,TEXT((E13+K13+E28+Q27+Q13),\"# 0,00\")&\" \" & 'Paramètres - Admin'!$B$4,IF($B$2='Paramètres - Admin'!$B$5,TEXT((E13+K13+E28+Q27+Q13)/24,\"# 0,00\")&\" \" & 'Paramètres - Admin'!$B$5,IF($B$2='Paramètres - Admin'!$B$6,TEXT(((E13+K13+E28+Q27+Q13)/24)/30,\"# 0,00\")&\" \" & 'Paramètres - Admin'!$B$6,IF((E13+K13+E28+Q27+Q13)/24>=1,INT((E13+K13+E28+Q27+Q13)/24)&\" \" &  'Paramètres - Admin'!$D$4 & \" \" & HOUR((E13+K13+E28+Q27+Q13)/24-INT((E13+K13+E28+Q27+Q13)/24))&\" \" &  'Paramètres - Admin'!$D$3 & \" \" & MINUTE((E13+K13+E28+Q27+Q13)/24-INT((E13+K13+E28+Q27+Q13)/24))&\" \" &  'Paramètres - Admin'!$D$2,HOUR((E13+K13+E28+Q27+Q13)/24-INT((E13+K13+E28+Q27+Q13)/24))&\" \" &  'Paramètres - Admin'!$D$3 & \" \" & MINUTE((E13+K13+E28+Q27+Q13)/24-INT((E13+K13+E28+Q27+Q13)/24))&\" \" &  'Paramètres - Admin'!$D$2))))))","v":"Bâtiments : 0,15 jours"},null,null,"=> Temps par Ouvrier :",null,null,"Améliorations Troupes/Sorts :"]
[{"$f":"Paramètres!$BI$2","v":1},"jours",null,"Oui","Oui","Oui",null,{"$f":"TEXT(D8+D11+D28+P27+P13,\"# ### ### ##0\")","v":"4 250"},null,null,{"$f":"TEXT(D7+D9+D10+D12+J13+P22+J27,\"# ### ### ##0\")","v":"4 700"},null,{"$f":"TEXT(V13+V27,\"# ### ### ##0\")","v":"0"},null,{"$f":"IF($B$2='Paramètres - Admin'!$B$2,TEXT((Z6)*60*60,\"# 0\")&\" \" & 'Paramètres - Admin'!$B$2,IF($B$2='Paramètres - Admin'!$B$3,TEXT(Z6*60,\"# 0\")&\" \" & 'Paramètres - Admin'!$B$3,IF($B$2='Paramètres - Admin'!$B$4,TEXT(Z6,\"# 0,00\")&\" \" & 'Paramètres - Admin'!$B$4,IF($B$2='Paramètres - Admin'!$B$5,TEXT(Z6/24,\"# 0,00\")&\" \" & 'Paramètres - Admin'!$B$5,IF($B$2='Paramètres - Admin'!$B$6,TEXT((Z6/24)/30,\"# 0,00\")&\" \" & 'Paramètres - Admin'!$B$6,IF(Z6/24>=1,INT(Z6/24)&\" \" &  'Paramètres - Admin'!$D$4 & \" \" & HOUR(Z6/24-INT(Z6/24))&\" \" &  'Paramètres - Admin'!$D$3 & \" \" & MINUTE(Z6/24-INT(Z6/24))&\" \" &  'Paramètres - Admin'!$D$2,HOUR(Z6/24-INT(Z6/24))&\" \" &  'Paramètres - Admin'!$D$3 & \" \" & MINUTE(Z6/24-INT(Z6/24))&\" \" &  'Paramètres - Admin'!$D$2))))))","v":"0,15 jours"},null,{"$f":"'Paramètres - Admin'!$D$6 & IF($B$2='Paramètres - Admin'!$B$2,TEXT(W27*60*60,\"# 0\")&\" \" & 'Paramètres - Admin'!$B$2,IF($B$2='Paramètres - Admin'!$B$3,TEXT(W27*60,\"# 0\")&\" \" & 'Paramètres - Admin'!$B$3,IF($B$2='Paramètres - Admin'!$B$4,TEXT(W27,\"# 0,00\")&\" \" & 'Paramètres - Admin'!$B$4,IF($B$2='Paramètres - Admin'!$B$5,TEXT(W27/24,\"# 0,00\")&\" \" & 'Paramètres - Admin'!$B$5,IF($B$2='Paramètres - Admin'!$B$6,TEXT((W27/24)/30,\"# 0,00\")&\" \" & 'Paramètres - Admin'!$B$6,IF(W27/24>=1,INT(W27/24)&\" \" &  'Paramètres - Admin'!$D$4 & \" \" & HOUR(W27/24-INT(W27/24))&\" \" &  'Paramètres - Admin'!$D$3 & \" \" & MINUTE(W27/24-INT(W27/24))&\" \" &  'Paramètres - Admin'!$D$2,HOUR(W27/24-INT(W27/24))&\" \" &  'Paramètres - Admin'!$D$3 & \" \" & MINUTE(W27/24-INT(W27/24))&\" \" &  'Paramètres - Admin'!$D$2))))))","v":"Héros : 0,00 jours"},null,null,{"$f":"IF($B$2='Paramètres - Admin'!$B$2,TEXT((E13+K13+E28+Q27+Q13+W27)/Paramètres!$BJ$2*60*60,\"# 0\")&\" \" & 'Paramètres - Admin'!$B$2,IF($B$2='Paramètres - Admin'!$B$3,TEXT((E13+K13+E28+Q27+Q13+W27)/Paramètres!$BJ$2*60,\"# 0\")&\" \" & 'Paramètres - Admin'!$B$3,IF($B$2='Paramètres - Admin'!$B$4,TEXT((E13+K13+E28+Q27+Q13+W27)/Paramètres!$BJ$2,\"# 0,00\")&\" \" & 'Paramètres - Admin'!$B$4,IF($B$2='Paramètres - Admin'!$B$5,TEXT((E13+K13+E28+Q27+Q13+W27)/Paramètres!$BJ$2/24,\"# 0,00\")&\" \" & 'Paramètres - Admin'!$B$5,IF($B$2='Paramètres - Admin'!$B$6,TEXT(((E13+K13+E28+Q27+Q13+W27)/Paramètres!$BJ$2/24)/30,\"# 0,00\")&\" \" & 'Paramètres - Admin'!$B$6,IF((E13+K13+E28+Q27+Q13+W27)/Paramètres!$BJ$2/24>=1,INT((E13+K13+E28+Q27+Q13+W27)/Paramètres!$BJ$2/24)&\" \" &  'Paramètres - Admin'!$D$4 & \" \" & HOUR((E13+K13+E28+Q27+Q13+W27)/Paramètres!$BJ$2/24-INT((E13+K13+E28+Q27+Q13+W27)/Paramètres!$BJ$2/24))&\" \" &  'Paramètres - Admin'!$D$3 & \" \" & MINUTE((E13+K13+E28+Q27+Q13+W27)/Paramètres!$BJ$2/24-INT((E13+K13+E28+Q27+Q13+W27)/Paramètres!$BJ$2/24))&\" \" &  'Paramètres - Admin'!$D$2,HOUR((E13+K13+E28+Q27+Q13+W27)/Paramètres!$BJ$2/24-INT((E13+K13+E28+Q27+Q13+W27)/Paramètres!$BJ$2/24))&\" \" &  'Paramètres - Admin'!$D$3 & \" \" & MINUTE((E13+K13+E28+Q27+Q13+W27)/Paramètres!$BJ$2/24-INT((E13+K13+E28+Q27+Q13+W27)/Paramètres!$BJ$2/24))&\" \" &  'Paramètres - Admin'!$D$2))))))","v":"0,15 jours"},null,null,{"$f":"IF($B$2='Paramètres - Admin'!$B$2,TEXT((Q22+K27+W13+W20)*60*60,\"# 0\")&\" \" & 'Paramètres - Admin'!$B$2,IF($B$2='Paramètres - Admin'!$B$3,TEXT((Q22+K27+W13+W20)*60,\"# 0\")&\" \" & 'Paramètres - Admin'!$B$3,IF($B$2='Paramètres - Admin'!$B$4,TEXT((Q22+K27+W13+W20),\"# 0,00\")&\" \" & 'Paramètres - Admin'!$B$4,IF($B$2='Paramètres - Admin'!$B$5,TEXT((Q22+K27+W13+W20)/24,\"# 0,00\")&\" \" & 'Paramètres - Admin'!$B$5,IF($B$2='Paramètres - Admin'!$B$6,TEXT(((Q22+K27+W13+W20)/24)/30,\"# 0,00\")&\" \" & 'Paramètres - Admin'!$B$6,IF((Q22+K27+W13+W20)/24>=1,INT((Q22+K27+W13+W20)/24)&\" \" &  'Paramètres - Admin'!$D$4 & \" \" & HOUR((Q22+K27+W13+W20)/24-INT((Q22+K27+W13+W20)/24))&\" \" &  'Paramètres - Admin'!$D$3 & \" \" & MINUTE((Q22+K27+W13+W20)/24-INT((Q22+K27+W13+W20)/24))&\" \" &  'Paramètres - Admin'!$D$2,HOUR((Q22+K27+W13+W20)/24-INT((Q22+K27+W13+W20)/24))&\" \" &  'Paramètres - Admin'!$D$3 & \" \" & MINUTE((Q22+K27+W13+W20)/24-INT((Q22+K27+W13+W20)/24))&\" \" &  'Paramètres - Admin'!$D$2))))))","v":"0,00 jours"}]
["Tableaux récapitulatifs",null,null,null,null,null,null,null,null,null,null,null,null,null,null,null,null,null,null,null,null,null,null,null,"Or",{"$f":"D8+D11+D28+P27+P13-IF(D2=\"Non\",D17,0)-IF(E2=\"Non\",P26,0)","v":4250}]
[null,null,null,null,null,null,null,null,null,null,null,null,null,null,null,null,null,null,null,null,null,null,null,null,"Élixir",{"$f":"D7+D9+D10+D12+J13+P22+J27+IF(F2=\"Non\",0,V26)","v":4700}]
["Bâtiments de Ressources",null,null,null,null,null,"Bâtiments d'Armée",null,null,null,null,null,"Pièges Défensifs",null,null,null,null,null,"Améliorations de Troupes Noires",null,null,null,null,null,"Élixir Noir",{"$f":"V13+V20+IF(F2=\"Non\",0,V27)","v":0}]
["Bâtiment","À Faire","Up.","Coût Total","Temps Total","Temps Total","Bâtiment","À Faire","Up.","Coût Total","Temps Total","Temps Total","Bâtiment","À Faire","Up.","Coût Total","Temps Total","Temps Total","Troupe Noire","À Faire","Up.","Coût Total","Temps Total","Temps Total","Temps",{"$f":"E13+K13+Q13+W13+K27+E28+Q22+Q27+W20+W27","v":3.6700000000000004}]
["Mine d'Or",{"$f":"'À Faire - Détails'!H5","v":1},{"$f":"'À Faire - Détails'!I5","v":2},{"$f":"'À Faire - Détails'!H19","v":450},{"$f":"'À Faire - Détails'!I19","v":9.9999999999999992E-2},{"$f":"IF($B$2='Paramètres - Admin'!$B$2,TEXT(E7*60*60,\"# 0\")&\" \" & 'Paramètres - Admin'!$B$2,IF($B$2='Paramètres - Admin'!$B$3,TEXT(E7*60,\"# 0\")&\" \" & 'Paramètres - Admin'!$B$3,IF($B$2='Paramètres - Admin'!$B$4,TEXT(E7,\"# 0,00\")&\" \" & 'Paramètres - Admin'!$B$4,IF($B$2='Paramètres - Admin'!$B$5,TEXT(E7/24,\"# 0,00\")&\" \" & 'Paramètres - Admin'!$B$5,IF($B$2='Paramètres - Admin'!$B$6,TEXT((E7/24)/30,\"# 0,00\")&\" \" & 'Paramètres - Admin'!$B$6,IF(E7/24>=1,INT(E7/24)&\" \" &  'Paramètres - Admin'!$D$4 & \" \" & HOUR(E7/24-INT(E7/24))&\" \" &  'Paramètres - Admin'!$D$3 & \" \" & MINUTE(E7/24-INT(E7/24))&\" \" &  'Paramètres - Admin'!$D$2,HOUR(E7/24-INT(E7/24))&\" \" &  'Paramètres - Admin'!$D$3 & \" \" & MINUTE(E7/24-INT(E7/24))&\" \" &  'Paramètres - Admin'!$D$2))))))","v":"0,00 jours"},"Caserne",{"$f":"'À Faire - Détails'!H50","v":1},{"$f":"'À Faire - Détails'!I50","v":3},{"$f":"'À Faire - Détails'!H62","v":3700},{"$f":"'À Faire - Détails'!I62","v":2.27},{"$f":"IF($B$2='Paramètres - Admin'!$B$2,TEXT(K7*60*60,\"# 0\")&\" \" & 'Paramètres - Admin'!$B$2,IF($B$2='Paramètres - Admin'!$B$3,TEXT(K7*60,\"# 0\")&\" \" & 'Paramètres - Admin'!$B$3,IF($B$2='Paramètres - Admin'!$B$4,TEXT(K7,\"# 0,00\")&\" \" & 'Paramètres - Admin'!$B$4,IF($B$2='Paramètres - Admin'!$B$5,TEXT(K7/24,\"# 0,00\")&\" \" & 'Paramètres - Admin'!$B$5,IF($B$2='Paramètres - Admin'!$B$6,TEXT((K7/24)/30,\"# 0,00\")&\" \" & 'Paramètres - Admin'!$B$6,IF(K7/24>=1,INT(K7/24)&\" \" &  'Paramètres - Admin'!$D$4 & \" \" & HOUR(K7/24-INT(K7/24))&\" \" &  'Paramètres - Admin'!$D$3 & \" \" & MINUTE(K7/24-INT(K7/24))&\" \" &  'Paramètres - Admin'!$D$2,HOUR(K7/24-INT(K7/24))&\" \" &  'Paramètres - Admin'!$D$3 & \" \" & MINUTE(K7/24-INT(K7/24))&\" \" &  'Paramètres - Admin'!$D$2))))))","v":"0,09 jours"},"Bombe",{"$f":"'À Faire - Détails'!H155","v":0},{"$f":"'À Faire - Détails'!I155","v":0},{"$f":"'À Faire - Détails'!H163","v":0},{"$f":"'À Faire - Détails'!I163","v":0},{"$f":"IF($B$2='Paramètres - Admin'!$B$2,TEXT(Q7*60*60,\"# 0\")&\" \" & 'Paramètres - Admin'!$B$2,IF($B$2='Paramètres - Admin'!$B$3,TEXT(Q7*60,\"# 0\")&\" \" & 'Paramètres - Admin'!$B$3,IF($B$2='Paramètres - Admin'!$B$4,TEXT(Q7,\"# 0,00\")&\" \" & 'Paramètres - Admin'!$B$4,IF($B$2='Paramètres - Admin'!$B$5,TEXT(Q7/24,\"# 0,00\")&\" \" & 'Paramètres - Admin'!$B$5,IF($B$2='Paramètres - Admin'!$B$6,TEXT((Q7/24)/30,\"# 0,00\")&\" \" & 'Paramètres - Admin'!$B$6,IF(Q7/24>=1,INT(Q7/24)&\" \" &  'Paramètres - Admin'!$D$4 & \" \" & HOUR(Q7/24-INT(Q7/24))&\" \" &  'Paramètres - Admin'!$D$3 & \" \" & MINUTE(Q7/24-INT(Q7/24))&\" \" &  'Paramètres - Admin'!$D$2,HOUR(Q7/24-INT(Q7/24))&\" \" &  'Paramètres - Admin'!$D$3 & \" \" & MINUTE(Q7/24-INT(Q7/24))&\" \" &  'Paramètres - Admin'!$D$2))))))","v":"0,00 jours"},"Serviteur",{"$f":"'À Faire - Détails'!H302","v":0},{"$f":"'À Faire - Détails'!I302","v":0},{"$f":"'À Faire - Détails'!H311","v":0},{"$f":"'À Faire - Détails'!I311","v":0},{"$f":"IF($B$2='Paramètres - Admin'!$B$2,TEXT(W7*60*60,\"# 0\")&\" \" & 'Paramètres - Admin'!$B$2,IF($B$2='Paramètres - Admin'!$B$3,TEXT(W7*60,\"# 0\")&\" \" & 'Paramètres - Admin'!$B$3,IF($B$2='Paramètres - Admin'!$B$4,TEXT(W7,\"# 0,00\")&\" \" & 'Paramètres - Admin'!$B$4,IF($B$2='Paramètres - Admin'!$B$5,TEXT(W7/24,\"# 0,00\")&\" \" & 'Paramètres - Admin'!$B$5,IF($B$2='Paramètres - Admin'!$B$6,TEXT((W7/24)/30,\"# 0,00\")&\" \" & 'Paramètres - Admin'!$B$6,IF(W7/24>=1,INT(W7/24)&\" \" &  'Paramètres - Admin'!$D$4 & \" \" & HOUR(W7/24-INT(W7/24))&\" \" &  'Paramètres - Admin'!$D$3 & \" \" & MINUTE(W7/24-INT(W7/24))&\" \" &  'Paramètres - Admin'!$D$2,HOUR(W7/24-INT(W7/24))&\" \" &  'Paramètres - Admin'!$D$3 & \" \" & MINUTE(W7/24-INT(W7/24))&\" \" &  'Paramètres - Admin'!$D$2))))))","v":"0,00 jours"}]
["Extracteur d'Élixir",{"$f":"'À Faire - Détails'!Q5","v":1},{"$f":"'À Faire - Détails'!R5","v":2},{"$f":"'À Faire - Détails'!Q19","v":450},{"$f":"'À Faire - Détails'!R19","v":9.9999999999999992E-2},{"$f":"IF($B$2='Paramètres - Admin'!$B$2,TEXT(E8*60*60,\"# 0\")&\" \" & 'Paramètres - Admin'!$B$2,IF($B$2='Paramètres - Admin'!$B$3,TEXT(E8*60,\"# 0\")&\" \" & 'Paramètres - Admin'!$B$3,IF($B$2='Paramètres - Admin'!$B$4,TEXT(E8,\"# 0,00\")&\" \" & 'Paramètres - Admin'!$B$4,IF($B$2='Paramètres - Admin'!$B$5,TEXT(E8/24,\"# 0,00\")&\" \" & 'Paramètres - Admin'!$B$5,IF($B$2='Paramètres - Admin'!$B$6,TEXT((E8/24)/30,\"# 0,00\")&\" \" & 'Paramètres - Admin'!$B$6,IF(E8/24>=1,INT(E8/24)&\" \" &  'Paramètres - Admin'!$D$4 & \" \" & HOUR(E8/24-INT(E8/24))&\" \" &  'Paramètres - Admin'!$D$3 & \" \" & MINUTE(E8/24-INT(E8/24))&\" \" &  'Paramètres - Admin'!$D$2,HOUR(E8/24-INT(E8/24))&\" \" &  'Paramètres - Admin'!$D$3 & \" \" & MINUTE(E8/24-INT(E8/24))&\" \" &  'Paramètres - Admin'!$D$2))))))","v":"0,00 jours"},"Caserne Noire",{"$f":"'À Faire - Détails'!H64","v":0},{"$f":"'À Faire - Détails'!I64","v":0},{"$f":"'À Faire - Détails'!H72","v":0},{"$f":"'À Faire - Détails'!I72","v":0},{"$f":"IF($B$2='Paramètres - Admin'!$B$2,TEXT(K8*60*60,\"# 0\")&\" \" & 'Paramètres - Admin'!$B$2,IF($B$2='Paramètres - Admin'!$B$3,TEXT(K8*60,\"# 0\")&\" \" & 'Paramètres - Admin'!$B$3,IF($B$2='Paramètres - Admin'!$B$4,TEXT(K8,\"# 0,00\")&\" \" & 'Paramètres - Admin'!$B$4,IF($B$2='Paramètres - Admin'!$B$5,TEXT(K8/24,\"# 0,00\")&\" \" & 'Paramètres - Admin'!$B$5,IF($B$2='Paramètres - Admin'!$B$6,TEXT((K8/24)/30,\"# 0,00\")&\" \" & 'Paramètres - Admin'!$B$6,IF(K8/24>=1,INT(K8/24)&\" \" &  'Paramètres - Admin'!$D$4 & \" \" & HOUR(K8/24-INT(K8/24))&\" \" &  'Paramètres - Admin'!$D$3 & \" \" & MINUTE(K8/24-INT(K8/24))&\" \" &  'Paramètres - Admin'!$D$2,HOUR(K8/24-INT(K8/24))&\" \" &  'Paramètres - Admin'!$D$3 & \" \" & MINUTE(K8/24-INT(K8/24))&\" \" &  'Paramètres - Admin'!$D$2))))))","v":"0,00 jours"},"Piège à ressort",{"$f":"'À Faire - Détails'!H165","v":0},{"$f":"'À Faire - Détails'!I165","v":0},{"$f":"'À Faire - Détails'!H168","v":0},{"$f":"'À Faire - Détails'!I168","v":0},{"$f":"IF($B$2='Paramètres - Admin'!$B$2,TEXT(Q8*60*60,\"# 0\")&\" \" & 'Paramètres - Admin'!$B$2,IF($B$2='Paramètres - Admin'!$B$3,TEXT(Q8*60,\"# 0\")&\" \" & 'Paramètres - Admin'!$B$3,IF($B$2='Paramètres - Admin'!$B$4,TEXT(Q8,\"# 0,00\")&\" \" & 'Paramètres - Admin'!$B$4,IF($B$2='Paramètres - Admin'!$B$5,TEXT(Q8/24,\"# 0,00\")&\" \" & 'Paramètres - Admin'!$B$5,IF($B$2='Paramètres - Admin'!$B$6,TEXT((Q8/24)/30,\"# 0,00\")&\" \" & 'Paramètres - Admin'!$B$6,IF(Q8/24>=1,INT(Q8/24)&\" \" &  'Paramètres - Admin'!$D$4 & \" \" & HOUR(Q8/24-INT(Q8/24))&\" \" &  'Paramètres - Admin'!$D$3 & \" \" & MINUTE(Q8/24-INT(Q8/24))&\" \" &  'Paramètres - Admin'!$D$2,HOUR(Q8/24-INT(Q8/24))&\" \" &  'Paramètres - Admin'!$D$3 & \" \" & MINUTE(Q8/24-INT(Q8/24))&\" \" &  'Paramètres - Admin'!$D$2))))))","v":"0,00 jours"},"Chevaucheur de Cochon",{"$f":"'À Faire - Détails'!Q302","v":0},{"$f":"'À Faire - Détails'!R302","v":0},{"$f":"'À Faire - Détails'!Q309","v":0},{"$f":"'À Faire - Détails'!R309","v":0},{"$f":"IF($B$2='Paramètres - Admin'!$B$2,TEXT(W8*60*60,\"# 0\")&\" \" & 'Paramètres - Admin'!$B$2,IF($B$2='Paramètres - Admin'!$B$3,TEXT(W8*60,\"# 0\")&\" \" & 'Paramètres - Admin'!$B$3,IF($B$2='Paramètres - Admin'!$B$4,TEXT(W8,\"# 0,00\")&\" \" & 'Paramètres - Admin'!$B$4,IF($B$2='Paramètres - Admin'!$B$5,TEXT(W8/24,\"# 0,00\")&\" \" & 'Paramètres - Admin'!$B$5,IF($B$2='Paramètres - Admin'!$B$6,TEXT((W8/24)/30,\"# 0,00\")&\" \" & 'Paramètres - Admin'!$B$6,IF(W8/24>=1,INT(W8/24)&\" \" &  'Paramètres - Admin'!$D$4 & \" \" & HOUR(W8/24-INT(W8/24))&\" \" &  'Paramètres - Admin'!$D$3 & \" \" & MINUTE(W8/24-INT(W8/24))&\" \" &  'Paramètres - Admin'!$D$2,HOUR(W8/24-INT(W8/24))&\" \" &  'Paramètres - Admin'!$D$3 & \" \" & MINUTE(W8/24-INT(W8/24))&\" \" &  'Paramètres - Admin'!$D$2))))))","v":"0,00 jours"}]
["Foreuse d'Élixir Noir",{"$f":"'À Faire - Détails'!H37","v":0},{"$f":"'À Faire - Détails'!I37","v":0},{"$f":"'À Faire - Détails'!H45","v":0},{"$f":"'À Faire - Détails'!I45","v":0},{"$f":"IF($B$2='Paramètres - Admin'!$B$2,TEXT(E9*60*60,\"# 0\")&\" \" & 'Paramètres - Admin'!$B$2,IF($B$2='Paramètres - Admin'!$B$3,TEXT(E9*60,\"# 0\")&\" \" & 'Paramètres - Admin'!$B$3,IF($B$2='Paramètres - Admin'!$B$4,TEXT(E9,\"# 0,00\")&\" \" & 'Paramètres - Admin'!$B$4,IF($B$2='Paramètres - Admin'!$B$5,TEXT(E9/24,\"# 0,00\")&\" \" & 'Paramètres - Admin'!$B$5,IF($B$2='Paramètres - Admin'!$B$6,TEXT((E9/24)/30,\"# 0,00\")&\" \" & 'Paramètres - Admin'!$B$6,IF(E9/24>=1,INT(E9/24)&\" \" &  'Paramètres - Admin'!$D$4 & \" \" & HOUR(E9/24-INT(E9/24))&\" \" &  'Paramètres - Admin'!$D$3 & \" \" & MINUTE(E9/24-INT(E9/24))&\" \" &  'Paramètres - Admin'!$D$2,HOUR(E9/24-INT(E9/24))&\" \" &  'Paramètres - Admin'!$D$3 & \" \" & MINUTE(E9/24-INT(E9/24))&\" \" &  'Paramètres - Admin'!$D$2))))))","v":"0,00 jours"},"Camp Militaire",{"$f":"'À Faire - Détails'!Q63","v":1},{"$f":"'À Faire - Détails'!R63","v":1},{"$f":"'À Faire - Détails'!Q73","v":250},{"$f":"'À Faire - Détails'!R73","v":8.3333333333333329E-2},{"$f":"IF($B$2='Paramètres - Admin'!$B$2,TEXT(K9*60*60,\"# 0\")&\" \" & 'Paramètres - Admin'!$B$2,IF($B$2='Paramètres - Admin'!$B$3,TEXT(K9*60,\"# 0\")&\" \" & 'Paramètres - Admin'!$B$3,IF($B$2='Paramètres - Admin'!$B$4,TEXT(K9,\"# 0,00\")&\" \" & 'Paramètres - Admin'!$B$4,IF($B$2='Paramètres - Admin'!$B$5,TEXT(K9/24,\"# 0,00\")&\" \" & 'Paramètres - Admin'!$B$5,IF($B$2='Paramètres - Admin'!$B$6,TEXT((K9/24)/30,\"# 0,00\")&\" \" & 'Paramètres - Admin'!$B$6,IF(K9/24>=1,INT(K9/24)&\" \" &  'Paramètres - Admin'!$D$4 & \" \" & HOUR(K9/24-INT(K9/24))&\" \" &  'Paramètres - Admin'!$D$3 & \" \" & MINUTE(K9/24-INT(K9/24))&\" \" &  'Paramètres - Admin'!$D$2,HOUR(K9/24-INT(K9/24))&\" \" &  'Paramètres - Admin'!$D$3 & \" \" & MINUTE(K9/24-INT(K9/24))&\" \" &  'Paramètres - Admin'!$D$2))))))","v":"0,00 jours"},"Bombe géante",{"$f":"'À Faire - Détails'!H170","v":0},{"$f":"'À Faire - Détails'!I170","v":0},{"$f":"'À Faire - Détails'!H176","v":0},{"$f":"'À Faire - Détails'!I176","v":0},{"$f":"IF($B$2='Paramètres - Admin'!$B$2,TEXT(Q9*60*60,\"# 0\")&\" \" & 'Paramètres - Admin'!$B$2,IF($B$2='Paramètres - Admin'!$B$3,TEXT(Q9*60,\"# 0\")&\" \" & 'Paramètres - Admin'!$B$3,IF($B$2='Paramètres - Admin'!$B$4,TEXT(Q9,\"# 0,00\")&\" \" & 'Paramètres - Admin'!$B$4,IF($B$2='Paramètres - Admin'!$B$5,TEXT(Q9/24,\"# 0,00\")&\" \" & 'Paramètres - Admin'!$B$5,IF($B$2='Paramètres - Admin'!$B$6,TEXT((Q9/24)/30,\"# 0,00\")&\" \" & 'Paramètres - Admin'!$B$6,IF(Q9/24>=1,INT(Q9/24)&\" \" &  'Paramètres - Admin'!$D$4 & \" \" & HOUR(Q9/24-INT(Q9/24))&\" \" &  'Paramètres - Admin'!$D$3 & \" \" & MINUTE(Q9/24-INT(Q9/24))&\" \" &  'Paramètres - Admin'!$D$2,HOUR(Q9/24-INT(Q9/24))&\" \" &  'Paramètres - Admin'!$D$3 & \" \" & MINUTE(Q9/24-INT(Q9/24))&\" \" &  'Paramètres - Admin'!$D$2))))))","v":"0,00 jours"},"Valkyrie",{"$f":"'À Faire - Détails'!H313","v":0},{"$f":"'À Faire - Détails'!I313","v":0},{"$f":"'À Faire - Détails'!H319","v":0},{"$f":"'À Faire - Détails'!I319","v":0},{"$f":"IF($B$2='Paramètres - Admin'!$B$2,TEXT(W9*60*60,\"# 0\")&\" \" & 'Paramètres - Admin'!$B$2,IF($B$2='Paramètres - Admin'!$B$3,TEXT(W9*60,\"# 0\")&\" \" & 'Paramètres - Admin'!$B$3,IF($B$2='Paramètres - Admin'!$B$4,TEXT(W9,\"# 0,00\")&\" \" & 'Paramètres - Admin'!$B$4,IF($B$2='Paramètres - Admin'!$B$5,TEXT(W9/24,\"# 0,00\")&\" \" & 'Paramètres - Admin'!$B$5,IF($B$2='Paramètres - Admin'!$B$6,TEXT((W9/24)/30,\"# 0,00\")&\" \" & 'Paramètres - Admin'!$B$6,IF(W9/24>=1,INT(W9/24)&\" \" &  'Paramètres - Admin'!$D$4 & \" \" & HOUR(W9/24-INT(W9/24))&\" \" &  'Paramètres - Admin'!$D$3 & \" \" & MINUTE(W9/24-INT(W9/24))&\" \" &  'Paramètres - Admin'!$D$2,HOUR(W9/24-INT(W9/24))&\" \" &  'Paramètres - Admin'!$D$3 & \" \" & MINUTE(W9/24-INT(W9/24))&\" \" &  'Paramètres - Admin'!$D$2))))))","v":"0,00 jours"}]
["Réserve d'Or",{"$f":"'À Faire - Détails'!H21","v":1},{"$f":"'À Faire - Détails'!I21","v":1},{"$f":"'À Faire - Détails'!H35","v":300},{"$f":"'À Faire - Détails'!I35","v":0.25},{"$f":"IF($B$2='Paramètres - Admin'!$B$2,TEXT(E10*60*60,\"# 0\")&\" \" & 'Paramètres - Admin'!$B$2,IF($B$2='Paramètres - Admin'!$B$3,TEXT(E10*60,\"# 0\")&\" \" & 'Paramètres - Admin'!$B$3,IF($B$2='Paramètres - Admin'!$B$4,TEXT(E10,\"# 0,00\")&\" \" & 'Paramètres - Admin'!$B$4,IF($B$2='Paramètres - Admin'!$B$5,TEXT(E10/24,\"# 0,00\")&\" \" & 'Paramètres - Admin'!$B$5,IF($B$2='Paramètres - Admin'!$B$6,TEXT((E10/24)/30,\"# 0,00\")&\" \" & 'Paramètres - Admin'!$B$6,IF(E10/24>=1,INT(E10/24)&\" \" &  'Paramètres - Admin'!$D$4 & \" \" & HOUR(E10/24-INT(E10/24))&\" \" &  'Paramètres - Admin'!$D$3 & \" \" & MINUTE(E10/24-INT(E10/24))&\" \" &  'Paramètres - Admin'!$D$2,HOUR(E10/24-INT(E10/24))&\" \" &  'Paramètres - Admin'!$D$3 & \" \" & MINUTE(E10/24-INT(E10/24))&\" \" &  'Paramètres - Admin'!$D$2))))))","v":"0,01 jours"},"Laboratoire",{"$f":"'À Faire - Détails'!Q50","v":0},{"$f":"'À Faire - Détails'!R50","v":0},{"$f":"'À Faire - Détails'!Q61","v":0},{"$f":"'À Faire - Détails'!R61","v":0},{"$f":"IF($B$2='Paramètres - Admin'!$B$2,TEXT(K10*60*60,\"# 0\")&\" \" & 'Paramètres - Admin'!$B$2,IF($B$2='Paramètres - Admin'!$B$3,TEXT(K10*60,\"# 0\")&\" \" & 'Paramètres - Admin'!$B$3,IF($B$2='Paramètres - Admin'!$B$4,TEXT(K10,\"# 0,00\")&\" \" & 'Paramètres - Admin'!$B$4,IF($B$2='Paramètres - Admin'!$B$5,TEXT(K10/24,\"# 0,00\")&\" \" & 'Paramètres - Admin'!$B$5,IF($B$2='Paramètres - Admin'!$B$6,TEXT((K10/24)/30,\"# 0,00\")&\" \" & 'Paramètres - Admin'!$B$6,IF(K10/24>=1,INT(K10/24)&\" \" &  'Paramètres - Admin'!$D$4 & \" \" & HOUR(K10/24-INT(K10/24))&\" \" &  'Paramètres - Admin'!$D$3 & \" \" & MINUTE(K10/24-INT(K10/24))&\" \" &  'Paramètres - Admin'!$D$2,HOUR(K10/24-INT(K10/24))&\" \" &  'Paramètres - Admin'!$D$3 & \" \" & MINUTE(K10/24-INT(K10/24))&\" \" &  'Paramètres - Admin'!$D$2))))))","v":"0,00 jours"},"Bombe aérienne",{"$f":"'À Faire - Détails'!Q155","v":0},{"$f":"'À Faire - Détails'!R155","v":0},{"$f":"'À Faire - Détails'!Q161","v":0},{"$f":"'À Faire - Détails'!R161","v":0},{"$f":"IF($B$2='Paramètres - Admin'!$B$2,TEXT(Q10*60*60,\"# 0\")&\" \" & 'Paramètres - Admin'!$B$2,IF($B$2='Paramètres - Admin'!$B$3,TEXT(Q10*60,\"# 0\")&\" \" & 'Paramètres - Admin'!$B$3,IF($B$2='Paramètres - Admin'!$B$4,TEXT(Q10,\"# 0,00\")&\" \" & 'Paramètres - Admin'!$B$4,IF($B$2='Paramètres - Admin'!$B$5,TEXT(Q10/24,\"# 0,00\")&\" \" & 'Paramètres - Admin'!$B$5,IF($B$2='Paramètres - Admin'!$B$6,TEXT((Q10/24)/30,\"# 0,00\")&\" \" & 'Paramètres - Admin'!$B$6,IF(Q10/24>=1,INT(Q10/24)&\" \" &  'Paramètres - Admin'!$D$4 & \" \" & HOUR(Q10/24-INT(Q10/24))&\" \" &  'Paramètres - Admin'!$D$3 & \" \" & MINUTE(Q10/24-INT(Q10/24))&\" \" &  'Paramètres - Admin'!$D$2,HOUR(Q10/24-INT(Q10/24))&\" \" &  'Paramètres - Admin'!$D$3 & \" \" & MINUTE(Q10/24-INT(Q10/24))&\" \" &  'Paramètres - Admin'!$D$2))))))","v":"0,00 jours"},"Golem",{"$f":"'À Faire - Détails'!Q311","v":0},{"$f":"'À Faire - Détails'!R311","v":0},{"$f":"'À Faire - Détails'!Q318","v":0},{"$f":"'À Faire - Détails'!R318","v":0},{"$f":"IF($B$2='Paramètres - Admin'!$B$2,TEXT(W10*60*60,\"# 0\")&\" \" & 'Paramètres - Admin'!$B$2,IF($B$2='Paramètres - Admin'!$B$3,TEXT(W10*60,\"# 0\")&\" \" & 'Paramètres - Admin'!$B$3,IF($B$2='Paramètres - Admin'!$B$4,TEXT(W10,\"# 0,00\")&\" \" & 'Paramètres - Admin'!$B$4,IF($B$2='Paramètres - Admin'!$B$5,TEXT(W10/24,\"# 0,00\")&\" \" & 'Paramètres - Admin'!$B$5,IF($B$2='Paramètres - Admin'!$B$6,TEXT((W10/24)/30,\"# 0,00\")&\" \" & 'Paramètres - Admin'!$B$6,IF(W10/24>=1,INT(W10/24)&\" \" &  'Paramètres - Admin'!$D$4 & \" \" & HOUR(W10/24-INT(W10/24))&\" \" &  'Paramètres - Admin'!$D$3 & \" \" & MINUTE(W10/24-INT(W10/24))&\" \" &  'Paramètres - Admin'!$D$2,HOUR(W10/24-INT(W10/24))&\" \" &  'Paramètres - Admin'!$D$3 & \" \" & MINUTE(W10/24-INT(W10/24))&\" \" &  'Paramètres - Admin'!$D$2))))))","v":"0,00 jours"}]
["Réservoir d'Élixir",{"$f":"'À Faire - Détails'!Q21","v":1},{"$f":"'À Faire - Détails'!R21","v":1},{"$f":"'À Faire - Détails'!Q35","v":300},{"$f":"'À Faire - Détails'!R35","v":0.25},{"$f":"IF($B$2='Paramètres - Admin'!$B$2,TEXT(E11*60*60,\"# 0\")&\" \" & 'Paramètres - Admin'!$B$2,IF($B$2='Paramètres - Admin'!$B$3,TEXT(E11*60,\"# 0\")&\" \" & 'Paramètres - Admin'!$B$3,IF($B$2='Paramètres - Admin'!$B$4,TEXT(E11,\"# 0,00\")&\" \" & 'Paramètres - Admin'!$B$4,IF($B$2='Paramètres - Admin'!$B$5,TEXT(E11/24,\"# 0,00\")&\" \" & 'Paramètres - Admin'!$B$5,IF($B$2='Paramètres - Admin'!$B$6,TEXT((E11/24)/30,\"# 0,00\")&\" \" & 'Paramètres - Admin'!$B$6,IF(E11/24>=1,INT(E11/24)&\" \" &  'Paramètres - Admin'!$D$4 & \" \" & HOUR(E11/24-INT(E11/24))&\" \" &  'Paramètres - Admin'!$D$3 & \" \" & MINUTE(E11/24-INT(E11/24))&\" \" &  'Paramètres - Admin'!$D$2,HOUR(E11/24-INT(E11/24))&\" \" &  'Paramètres - Admin'!$D$3 & \" \" & MINUTE(E11/24-INT(E11/24))&\" \" &  'Paramètres - Admin'!$D$2))))))","v":"0,01 jours"},"Usine de Sorts",{"$f":"'À Faire - Détails'!H74","v":0},{"$f":"'À Faire - Détails'!I74","v":0},{"$f":"'À Faire - Détails'!H81","v":0},{"$f":"'À Faire - Détails'!I81","v":0},{"$f":"IF($B$2='Paramètres - Admin'!$B$2,TEXT(K11*60*60,\"# 0\")&\" \" & 'Paramètres - Admin'!$B$2,IF($B$2='Paramètres - Admin'!$B$3,TEXT(K11*60,\"# 0\")&\" \" & 'Paramètres - Admin'!$B$3,IF($B$2='Paramètres - Admin'!$B$4,TEXT(K11,\"# 0,00\")&\" \" & 'Paramètres - Admin'!$B$4,IF($B$2='Paramètres - Admin'!$B$5,TEXT(K11/24,\"# 0,00\")&\" \" & 'Paramètres - Admin'!$B$5,IF($B$2='Paramètres - Admin'!$B$6,TEXT((K11/24)/30,\"# 0,00\")&\" \" & 'Paramètres - Admin'!$B$6,IF(K11/24>=1,INT(K11/24)&\" \" &  'Paramètres - Admin'!$D$4 & \" \" & HOUR(K11/24-INT(K11/24))&\" \" &  'Paramètres - Admin'!$D$3 & \" \" & MINUTE(K11/24-INT(K11/24))&\" \" &  'Paramètres - Admin'!$D$2,HOUR(K11/24-INT(K11/24))&\" \" &  'Paramètres - Admin'!$D$3 & \" \" & MINUTE(K11/24-INT(K11/24))&\" \" &  'Paramètres - Admin'!$D$2))))))","v":"0,00 jours"},"Tête chercheuse",{"$f":"'À Faire - Détails'!Q163","v":0},{"$f":"'À Faire - Détails'!R163","v":0},{"$f":"'À Faire - Détails'!Q168","v":0},{"$f":"'À Faire - Détails'!R168","v":0},{"$f":"IF($B$2='Paramètres - Admin'!$B$2,TEXT(Q11*60*60,\"# 0\")&\" \" & 'Paramètres - Admin'!$B$2,IF($B$2='Paramètres - Admin'!$B$3,TEXT(Q11*60,\"# 0\")&\" \" & 'Paramètres - Admin'!$B$3,IF($B$2='Paramètres - Admin'!$B$4,TEXT(Q11,\"# 0,00\")&\" \" & 'Paramètres - Admin'!$B$4,IF($B$2='Paramètres - Admin'!$B$5,TEXT(Q11/24,\"# 0,00\")&\" \" & 'Paramètres - Admin'!$B$5,IF($B$2='Paramètres - Admin'!$B$6,TEXT((Q11/24)/30,\"# 0,00\")&\" \" & 'Paramètres - Admin'!$B$6,IF(Q11/24>=1,INT(Q11/24)&\" \" &  'Paramètres - Admin'!$D$4 & \" \" & HOUR(Q11/24-INT(Q11/24))&\" \" &  'Paramètres - Admin'!$D$3 & \" \" & MINUTE(Q11/24-INT(Q11/24))&\" \" &  'Paramètres - Admin'!$D$2,HOUR(Q11/24-INT(Q11/24))&\" \" &  'Paramètres - Admin'!$D$3 & \" \" & MINUTE(Q11/24-INT(Q11/24))&\" \" &  'Paramètres - Admin'!$D$2))))))","v":"0,00 jours"},"Sorcière",{"$f":"'À Faire - Détails'!H321","v":0},{"$f":"'À Faire - Détails'!I321","v":0},{"$f":"'À Faire - Détails'!H324","v":0},{"$f":"'À Faire - Détails'!I326","v":0},{"$f":"IF($B$2='Paramètres - Admin'!$B$2,TEXT(W11*60*60,\"# 0\")&\" \" & 'Paramètres - Admin'!$B$2,IF($B$2='Paramètres - Admin'!$B$3,TEXT(W11*60,\"# 0\")&\" \" & 'Paramètres - Admin'!$B$3,IF($B$2='Paramètres - Admin'!$B$4,TEXT(W11,\"# 0,00\")&\" \" & 'Paramètres - Admin'!$B$4,IF($B$2='Paramètres - Admin'!$B$5,TEXT(W11/24,\"# 0,00\")&\" \" & 'Paramètres - Admin'!$B$5,IF($B$2='Paramètres - Admin'!$B$6,TEXT((W11/24)/30,\"# 0,00\")&\" \" & 'Paramètres - Admin'!$B$6,IF(W11/24>=1,INT(W11/24)&\" \" &  'Paramètres - Admin'!$D$4 & \" \" & HOUR(W11/24-INT(W11/24))&\" \" &  'Paramètres - Admin'!$D$3 & \" \" & MINUTE(W11/24-INT(W11/24))&\" \" &  'Paramètres - Admin'!$D$2,HOUR(W11/24-INT(W11/24))&\" \" &  'Paramètres - Admin'!$D$3 & \" \" & MINUTE(W11/24-INT(W11/24))&\" \" &  'Paramètres - Admin'!$D$2))))))","v":"0,00 jours"}]
["Réservoir d'Élixir Noir",{"$f":"'À Faire - Détails'!Q37","v":0},{"$f":"'À Faire - Détails'!R37","v":0},{"$f":"'À Faire - Détails'!Q45","v":0},{"$f":"'À Faire - Détails'!R45","v":0},{"$f":"IF($B$2='Paramètres - Admin'!$B$2,TEXT(E12*60*60,\"# 0\")&\" \" & 'Paramètres - Admin'!$B$2,IF($B$2='Paramètres - Admin'!$B$3,TEXT(E12*60,\"# 0\")&\" \" & 'Paramètres - Admin'!$B$3,IF($B$2='Paramètres - Admin'!$B$4,TEXT(E12,\"# 0,00\")&\" \" & 'Paramètres - Admin'!$B$4,IF($B$2='Paramètres - Admin'!$B$5,TEXT(E12/24,\"# 0,00\")&\" \" & 'Paramètres - Admin'!$B$5,IF($B$2='Paramètres - Admin'!$B$6,TEXT((E12/24)/30,\"# 0,00\")&\" \" & 'Paramètres - Admin'!$B$6,IF(E12/24>=1,INT(E12/24)&\" \" &  'Paramètres - Admin'!$D$4 & \" \" & HOUR(E12/24-INT(E12/24))&\" \" &  'Paramètres - Admin'!$D$3 & \" \" & MINUTE(E12/24-INT(E12/24))&\" \" &  'Paramètres - Admin'!$D$2,HOUR(E12/24-INT(E12/24))&\" \" &  'Paramètres - Admin'!$D$3 & \" \" & MINUTE(E12/24-INT(E12/24))&\" \" &  'Paramètres - Admin'!$D$2))))))","v":"0,00 jours"},"Usine de Sorts Noirs",{"$f":"'À Faire - Détails'!Q75","v":0},{"$f":"'À Faire - Détails'!R75","v":0},{"$f":"'À Faire - Détails'!Q80","v":0},{"$f":"'À Faire - Détails'!R80","v":0},{"$f":"IF($B$2='Paramètres - Admin'!$B$2,TEXT(K12*60*60,\"# 0\")&\" \" & 'Paramètres - Admin'!$B$2,IF($B$2='Paramètres - Admin'!$B$3,TEXT(K12*60,\"# 0\")&\" \" & 'Paramètres - Admin'!$B$3,IF($B$2='Paramètres - Admin'!$B$4,TEXT(K12,\"# 0,00\")&\" \" & 'Paramètres - Admin'!$B$4,IF($B$2='Paramètres - Admin'!$B$5,TEXT(K12/24,\"# 0,00\")&\" \" & 'Paramètres - Admin'!$B$5,IF($B$2='Paramètres - Admin'!$B$6,TEXT((K12/24)/30,\"# 0,00\")&\" \" & 'Paramètres - Admin'!$B$6,IF(K12/24>=1,INT(K12/24)&\" \" &  'Paramètres - Admin'!$D$4 & \" \" & HOUR(K12/24-INT(K12/24))&\" \" &  'Paramètres - Admin'!$D$3 & \" \" & MINUTE(K12/24-INT(K12/24))&\" \" &  'Paramètres - Admin'!$D$2,HOUR(K12/24-INT(K12/24))&\" \" &  'Paramètres - Admin'!$D$3 & \" \" & MINUTE(K12/24-INT(K12/24))&\" \" &  'Paramètres - Admin'!$D$2))))))","v":"0,00 jours"},"Piège squelettique",{"$f":"'À Faire - Détails'!Q170","v":0},{"$f":"'À Faire - Détails'!R170","v":0},{"$f":"'À Faire - Détails'!Q175","v":0},{"$f":"'À Faire - Détails'!R175","v":0},{"$f":"IF($B$2='Paramètres - Admin'!$B$2,TEXT(Q12*60*60,\"# 0\")&\" \" & 'Paramètres - Admin'!$B$2,IF($B$2='Paramètres - Admin'!$B$3,TEXT(Q12*60,\"# 0\")&\" \" & 'Paramètres - Admin'!$B$3,IF($B$2='Paramètres - Admin'!$B$4,TEXT(Q12,\"# 0,00\")&\" \" & 'Paramètres - Admin'!$B$4,IF($B$2='Paramètres - Admin'!$B$5,TEXT(Q12/24,\"# 0,00\")&\" \" & 'Paramètres - Admin'!$B$5,IF($B$2='Paramètres - Admin'!$B$6,TEXT((Q12/24)/30,\"# 0,00\")&\" \" & 'Paramètres - Admin'!$B$6,IF(Q12/24>=1,INT(Q12/24)&\" \" &  'Paramètres - Admin'!$D$4 & \" \" & HOUR(Q12/24-INT(Q12/24))&\" \" &  'Paramètres - Admin'!$D$3 & \" \" & MINUTE(Q12/24-INT(Q12/24))&\" \" &  'Paramètres - Admin'!$D$2,HOUR(Q12/24-INT(Q12/24))&\" \" &  'Paramètres - Admin'!$D$3 & \" \" & MINUTE(Q12/24-INT(Q12/24))&\" \" &  'Paramètres - Admin'!$D$2))))))","v":"0,00 jours"},"Molosse de lave",{"$f":"'À Faire - Détails'!Q320","v":0},{"$f":"'À Faire - Détails'!R320","v":0},{"$f":"'À Faire - Détails'!Q325","v":0},{"$f":"'À Faire - Détails'!R325","v":0},{"$f":"IF($B$2='Paramètres - Admin'!$B$2,TEXT(W12*60*60,\"# 0\")&\" \" & 'Paramètres - Admin'!$B$2,IF($B$2='Paramètres - Admin'!$B$3,TEXT(W12*60,\"# 0\")&\" \" & 'Paramètres - Admin'!$B$3,IF($B$2='Paramètres - Admin'!$B$4,TEXT(W12,\"# 0,00\")&\" \" & 'Paramètres - Admin'!$B$4,IF($B$2='Paramètres - Admin'!$B$5,TEXT(W12/24,\"# 0,00\")&\" \" & 'Paramètres - Admin'!$B$5,IF($B$2='Paramètres - Admin'!$B$6,TEXT((W12/24)/30,\"# 0,00\")&\" \" & 'Paramètres - Admin'!$B$6,IF(W12/24>=1,INT(W12/24)&\" \" &  'Paramètres - Admin'!$D$4 & \" \" & HOUR(W12/24-INT(W12/24))&\" \" &  'Paramètres - Admin'!$D$3 & \" \" & MINUTE(W12/24-INT(W12/24))&\" \" &  'Paramètres - Admin'!$D$2,HOUR(W12/24-INT(W12/24))&\" \" &  'Paramètres - Admin'!$D$3 & \" \" & MINUTE(W12/24-INT(W12/24))&\" \" &  'Paramètres - Admin'!$D$2))))))","v":"0,00 jours"}]
["Total",{"$f":"SUM(B7:B12)","v":4},{"$f":"SUM(C7:C12)","v":6},{"$f":"SUM(D7:D12)","v":1500},{"$f":"SUM(E7:E12)","v":0.7},{"$f":"IF($B$2='Paramètres - Admin'!$B$2,TEXT(E13*60*60,\"# 0\")&\" \" & 'Paramètres - Admin'!$B$2,IF($B$2='Paramètres - Admin'!$B$3,TEXT(E13*60,\"# 0\")&\" \" & 'Paramètres - Admin'!$B$3,IF($B$2='Paramètres - Admin'!$B$4,TEXT(E13,\"# 0,00\")&\" \" & 'Paramètres - Admin'!$B$4,IF($B$2='Paramètres - Admin'!$B$5,TEXT(E13/24,\"# 0,00\")&\" \" & 'Paramètres - Admin'!$B$5,IF($B$2='Paramètres - Admin'!$B$6,TEXT((E13/24)/30,\"# 0,00\")&\" \" & 'Paramètres - Admin'!$B$6,IF(E13/24>=1,INT(E13/24)&\" \" &  'Paramètres - Admin'!$D$4 & \" \" & HOUR(E13/24-INT(E13/24))&\" \" &  'Paramètres - Admin'!$D$3 & \" \" & MINUTE(E13/24-INT(E13/24))&\" \" &  'Paramètres - Admin'!$D$2,HOUR(E13/24-INT(E13/24))&\" \" &  'Paramètres - Admin'!$D$3 & \" \" & MINUTE(E13/24-INT(E13/24))&\" \" &  'Paramètres - Admin'!$D$2))))))","v":"0,03 jours"},"Total",{"$f":"SUM(H7:H12)","v":2},{"$f":"SUM(I7:I12)","v":4},{"$f":"SUM(J7:J12)","v":3950},{"$f":"SUM(K7:K12)","v":2.3533333333333335},{"$f":"IF($B$2='Paramètres - Admin'!$B$2,TEXT(K13*60*60,\"# 0\")&\" \" & 'Paramètres - Admin'!$B$2,IF($B$2='Paramètres - Admin'!$B$3,TEXT(K13*60,\"# 0\")&\" \" & 'Paramètres - Admin'!$B$3,IF($B$2='Paramètres - Admin'!$B$4,TEXT(K13,\"# 0,00\")&\" \" & 'Paramètres - Admin'!$B$4,IF($B$2='Paramètres - Admin'!$B$5,TEXT(K13/24,\"# 0,00\")&\" \" & 'Paramètres - Admin'!$B$5,IF($B$2='Paramètres - Admin'!$B$6,TEXT((K13/24)/30,\"# 0,00\")&\" \" & 'Paramètres - Admin'!$B$6,IF(K13/24>=1,INT(K13/24)&\" \" &  'Paramètres - Admin'!$D$4 & \" \" & HOUR(K13/24-INT(K13/24))&\" \" &  'Paramètres - Admin'!$D$3 & \" \" & MINUTE(K13/24-INT(K13/24))&\" \" &  'Paramètres - Admin'!$D$2,HOUR(K13/24-INT(K13/24))&\" \" &  'Paramètres - Admin'!$D$3 & \" \" & MINUTE(K13/24-INT(K13/24))&\" \" &  'Paramètres - Admin'!$D$2))))))","v":"0,10 jours"},"Total",{"$f":"SUM(N7:N12)","v":0},{"$f":"SUM(O7:O12)","v":0},{"$f":"SUM(P7:P12)","v":0},{"$f":"SUM(Q7:Q12)","v":0},{"$f":"IF($B$2='Paramètres - Admin'!$B$2,TEXT(Q13*60*60,\"# 0\")&\" \" & 'Paramètres - Admin'!$B$2,IF($B$2='Paramètres - Admin'!$B$3,TEXT(Q13*60,\"# 0\")&\" \" & 'Paramètres - Admin'!$B$3,IF($B$2='Paramètres - Admin'!$B$4,TEXT(Q13,\"# 0,00\")&\" \" & 'Paramètres - Admin'!$B$4,IF($B$2='Paramètres - Admin'!$B$5,TEXT(Q13/24,\"# 0,00\")&\" \" & 'Paramètres - Admin'!$B$5,IF($B$2='Paramètres - Admin'!$B$6,TEXT((Q13/24)/30,\"# 0,00\")&\" \" & 'Paramètres - Admin'!$B$6,IF(Q13/24>=1,INT(Q13/24)&\" \" &  'Paramètres - Admin'!$D$4 & \" \" & HOUR(Q13/24-INT(Q13/24))&\" \" &  'Paramètres - Admin'!$D$3 & \" \" & MINUTE(Q13/24-INT(Q13/24))&\" \" &  'Paramètres - Admin'!$D$2,HOUR(Q13/24-INT(Q13/24))&\" \" &  'Paramètres - Admin'!$D$3 & \" \" & MINUTE(Q13/24-INT(Q13/24))&\" \" &  'Paramètres - Admin'!$D$2))))))","v":"0,00 jours"},"Total",{"$f":"SUM(T7:T12)","v":0},{"$f":"SUM(U7:U12)","v":0},{"$f":"SUM(V7:V12)","v":0},{"$f":"SUM(W7:W12)","v":0},{"$f":"IF($B$2='Paramètres - Admin'!$B$2,TEXT(W13*60*60,\"# 0\")&\" \" & 'Paramètres - Admin'!$B$2,IF($B$2='Paramètres - Admin'!$B$3,TEXT(W13*60,\"# 0\")&\" \" & 'Paramètres - Admin'!$B$3,IF($B$2='Paramètres - Admin'!$B$4,TEXT(W13,\"# 0,00\")&\" \" & 'Paramètres - Admin'!$B$4,IF($B$2='Paramètres - Admin'!$B$5,TEXT(W13/24,\"# 0,00\")&\" \" & 'Paramètres - Admin'!$B$5,IF($B$2='Paramètres - Admin'!$B$6,TEXT((W13/24)/30,\"# 0,00\")&\" \" & 'Paramètres - Admin'!$B$6,IF(W13/24>=1,INT(W13/24)&\" \" &  'Paramètres - Admin'!$D$4 & \" \" & HOUR(W13/24-INT(W13/24))&\" \" &  'Paramètres - Admin'!$D$3 & \" \" & MINUTE(W13/24-INT(W13/24))&\" \" &  'Paramètres - Admin'!$D$2,HOUR(W13/24-INT(W13/24))&\" \" &  'Paramètres - Admin'!$D$3 & \" \" & MINUTE(W13/24-INT(W13/24))&\" \" &  'Paramètres - Admin'!$D$2))))))","v":"0,00 jours"}]
[]
["Bâtiments Défensifs",null,null,null,null,null,"Améliorations de Troupes",null,null,null,null,null,"Améliorations de Sorts",null,null,null,null,null,"Améliorations de Sorts Noirs"]
["Bâtiment","À Faire","Up.","Coût Total","Temps Total","Temps Total","Troupe Normale","À Faire","Up.","Coût Total","Temps Total","Temps Total","Sort","À Faire","Up.","Coût Total","Temps Total","Temps Total","Sort","À Faire","Up.","Coût Total","Temps Total","Temps Total"]
["Rempart",{"$f":"'À Faire - Détails'!H86","v":0},{"$f":"'À Faire - Détails'!I86","v":0},{"$f":"'À Faire - Détails'!H99","v":0},{"$f":"'À Faire - Détails'!I99","v":0},{"$f":"IF($B$2='Paramètres - Admin'!$B$2,TEXT(E17*60*60,\"# 0\")&\" \" & 'Paramètres - Admin'!$B$2,IF($B$2='Paramètres - Admin'!$B$3,TEXT(E17*60,\"# 0\")&\" \" & 'Paramètres - Admin'!$B$3,IF($B$2='Paramètres - Admin'!$B$4,TEXT(E17,\"# 0,00\")&\" \" & 'Paramètres - Admin'!$B$4,IF($B$2='Paramètres - Admin'!$B$5,TEXT(E17/24,\"# 0,00\")&\" \" & 'Paramètres - Admin'!$B$5,IF($B$2='Paramètres - Admin'!$B$6,TEXT((E17/24)/30,\"# 0,00\")&\" \" & 'Paramètres - Admin'!$B$6,IF(E17/24>=1,INT(E17/24)&\" \" &  'Paramètres - Admin'!$D$4 & \" \" & HOUR(E17/24-INT(E17/24))&\" \" &  'Paramètres - Admin'!$D$3 & \" \" & MINUTE(E17/24-INT(E17/24))&\" \" &  'Paramètres - Admin'!$D$2,HOUR(E17/24-INT(E17/24))&\" \" &  'Paramètres - Admin'!$D$3 & \" \" & MINUTE(E17/24-INT(E17/24))&\" \" &  'Paramètres - Admin'!$D$2))))))","v":"0,00 jours"},"Barbare",{"$f":"'À Faire - Détails'!H227","v":0},{"$f":"'À Faire - Détails'!I227","v":0},{"$f":"'À Faire - Détails'!H236","v":0},{"$f":"'À Faire - Détails'!I236","v":0},{"$f":"IF($B$2='Paramètres - Admin'!$B$2,TEXT(K17*60*60,\"# 0\")&\" \" & 'Paramètres - Admin'!$B$2,IF($B$2='Paramètres - Admin'!$B$3,TEXT(K17*60,\"# 0\")&\" \" & 'Paramètres - Admin'!$B$3,IF($B$2='Paramètres - Admin'!$B$4,TEXT(K17,\"# 0,00\")&\" \" & 'Paramètres - Admin'!$B$4,IF($B$2='Paramètres - Admin'!$B$5,TEXT(K17/24,\"# 0,00\")&\" \" & 'Paramètres - Admin'!$B$5,IF($B$2='Paramètres - Admin'!$B$6,TEXT((K17/24)/30,\"# 0,00\")&\" \" & 'Paramètres - Admin'!$B$6,IF(K17/24>=1,INT(K17/24)&\" \" &  'Paramètres - Admin'!$D$4 & \" \" & HOUR(K17/24-INT(K17/24))&\" \" &  'Paramètres - Admin'!$D$3 & \" \" & MINUTE(K17/24-INT(K17/24))&\" \" &  'Paramètres - Admin'!$D$2,HOUR(K17/24-INT(K17/24))&\" \" &  'Paramètres - Admin'!$D$3 & \" \" & MINUTE(K17/24-INT(K17/24))&\" \" &  'Paramètres - Admin'!$D$2))))))","v":"0,00 jours"},"Sort de Foudre",{"$f":"'À Faire - Détails'!H197","v":0},{"$f":"'À Faire - Détails'!I197","v":0},{"$f":"'À Faire - Détails'!H206","v":0},{"$f":"'À Faire - Détails'!I206","v":0},{"$f":"IF($B$2='Paramètres - Admin'!$B$2,TEXT(Q17*60*60,\"# 0\")&\" \" & 'Paramètres - Admin'!$B$2,IF($B$2='Paramètres - Admin'!$B$3,TEXT(Q17*60,\"# 0\")&\" \" & 'Paramètres - Admin'!$B$3,IF($B$2='Paramètres - Admin'!$B$4,TEXT(Q17,\"# 0,00\")&\" \" & 'Paramètres - Admin'!$B$4,IF($B$2='Paramètres - Admin'!$B$5,TEXT(Q17/24,\"# 0,00\")&\" \" & 'Paramètres - Admin'!$B$5,IF($B$2='Paramètres - Admin'!$B$6,TEXT((Q17/24)/30,\"# 0,00\")&\" \" & 'Paramètres - Admin'!$B$6,IF(Q17/24>=1,INT(Q17/24)&\" \" &  'Paramètres - Admin'!$D$4 & \" \" & HOUR(Q17/24-INT(Q17/24))&\" \" &  'Paramètres - Admin'!$D$3 & \" \" & MINUTE(Q17/24-INT(Q17/24))&\" \" &  'Paramètres - Admin'!$D$2,HOUR(Q17/24-INT(Q17/24))&\" \" &  'Paramètres - Admin'!$D$3 & \" \" & MINUTE(Q17/24-INT(Q17/24))&\" \" &  'Paramètres - Admin'!$D$2))))))","v":"0,00 jours"},"Sort de Poison",{"$f":"'À Faire - Détails'!H283","v":0},{"$f":"'À Faire - Détails'!I283","v":0},{"$f":"'À Faire - Détails'!H289","v":0},{"$f":"'À Faire - Détails'!I289","v":0},{"$f":"IF($B$2='Paramètres - Admin'!$B$2,TEXT(W17*60*60,\"# 0\")&\" \" & 'Paramètres - Admin'!$B$2,IF($B$2='Paramètres - Admin'!$B$3,TEXT(W17*60,\"# 0\")&\" \" & 'Paramètres - Admin'!$B$3,IF($B$2='Paramètres - Admin'!$B$4,TEXT(W17,\"# 0,00\")&\" \" & 'Paramètres - Admin'!$B$4,IF($B$2='Paramètres - Admin'!$B$5,TEXT(W17/24,\"# 0,00\")&\" \" & 'Paramètres - Admin'!$B$5,IF($B$2='Paramètres - Admin'!$B$6,TEXT((W17/24)/30,\"# 0,00\")&\" \" & 'Paramètres - Admin'!$B$6,IF(W17/24>=1,INT(W17/24)&\" \" &  'Paramètres - Admin'!$D$4 & \" \" & HOUR(W17/24-INT(W17/24))&\" \" &  'Paramètres - Admin'!$D$3 & \" \" & MINUTE(W17/24-INT(W17/24))&\" \" &  'Paramètres - Admin'!$D$2,HOUR(W17/24-INT(W17/24))&\" \" &  'Paramètres - Admin'!$D$3 & \" \" & MINUTE(W17/24-INT(W17/24))&\" \" &  'Paramètres - Admin'!$D$2))))))","v":"0,00 jours"}]
["Canon",{"$f":"'À Faire - Détails'!H101","v":2},{"$f":"'À Faire - Détails'!I101","v":4},{"$f":"'À Faire - Détails'!H116","v":2500},{"$f":"'À Faire - Détails'!I116","v":0.53333333333333333},{"$f":"IF($B$2='Paramètres - Admin'!$B$2,TEXT(E18*60*60,\"# 0\")&\" \" & 'Paramètres - Admin'!$B$2,IF($B$2='Paramètres - Admin'!$B$3,TEXT(E18*60,\"# 0\")&\" \" & 'Paramètres - Admin'!$B$3,IF($B$2='Paramètres - Admin'!$B$4,TEXT(E18,\"# 0,00\")&\" \" & 'Paramètres - Admin'!$B$4,IF($B$2='Paramètres - Admin'!$B$5,TEXT(E18/24,\"# 0,00\")&\" \" & 'Paramètres - Admin'!$B$5,IF($B$2='Paramètres - Admin'!$B$6,TEXT((E18/24)/30,\"# 0,00\")&\" \" & 'Paramètres - Admin'!$B$6,IF(E18/24>=1,INT(E18/24)&\" \" &  'Paramètres - Admin'!$D$4 & \" \" & HOUR(E18/24-INT(E18/24))&\" \" &  'Paramètres - Admin'!$D$3 & \" \" & MINUTE(E18/24-INT(E18/24))&\" \" &  'Paramètres - Admin'!$D$2,HOUR(E18/24-INT(E18/24))&\" \" &  'Paramètres - Admin'!$D$3 & \" \" & MINUTE(E18/24-INT(E18/24))&\" \" &  'Paramètres - Admin'!$D$2))))))","v":"0,02 jours"},"Archer",{"$f":"'À Faire - Détails'!H238","v":0},{"$f":"'À Faire - Détails'!I238","v":0},{"$f":"'À Faire - Détails'!H247","v":0},{"$f":"'À Faire - Détails'!I247","v":0},{"$f":"IF($B$2='Paramètres - Admin'!$B$2,TEXT(K18*60*60,\"# 0\")&\" \" & 'Paramètres - Admin'!$B$2,IF($B$2='Paramètres - Admin'!$B$3,TEXT(K18*60,\"# 0\")&\" \" & 'Paramètres - Admin'!$B$3,IF($B$2='Paramètres - Admin'!$B$4,TEXT(K18,\"# 0,00\")&\" \" & 'Paramètres - Admin'!$B$4,IF($B$2='Paramètres - Admin'!$B$5,TEXT(K18/24,\"# 0,00\")&\" \" & 'Paramètres - Admin'!$B$5,IF($B$2='Paramètres - Admin'!$B$6,TEXT((K18/24)/30,\"# 0,00\")&\" \" & 'Paramètres - Admin'!$B$6,IF(K18/24>=1,INT(K18/24)&\" \" &  'Paramètres - Admin'!$D$4 & \" \" & HOUR(K18/24-INT(K18/24))&\" \" &  'Paramètres - Admin'!$D$3 & \" \" & MINUTE(K18/24-INT(K18/24))&\" \" &  'Paramètres - Admin'!$D$2,HOUR(K18/24-INT(K18/24))&\" \" &  'Paramètres - Admin'!$D$3 & \" \" & MINUTE(K18/24-INT(K18/24))&\" \" &  'Paramètres - Admin'!$D$2))))))","v":"0,00 jours"},"Sort de Guérison",{"$f":"'À Faire - Détails'!Q197","v":0},{"$f":"'À Faire - Détails'!R197","v":0},{"$f":"'À Faire - Détails'!Q205","v":0},{"$f":"'À Faire - Détails'!R205","v":0},{"$f":"IF($B$2='Paramètres - Admin'!$B$2,TEXT(Q18*60*60,\"# 0\")&\" \" & 'Paramètres - Admin'!$B$2,IF($B$2='Paramètres - Admin'!$B$3,TEXT(Q18*60,\"# 0\")&\" \" & 'Paramètres - Admin'!$B$3,IF($B$2='Paramètres - Admin'!$B$4,TEXT(Q18,\"# 0,00\")&\" \" & 'Paramètres - Admin'!$B$4,IF($B$2='Paramètres - Admin'!$B$5,TEXT(Q18/24,\"# 0,00\")&\" \" & 'Paramètres - Admin'!$B$5,IF($B$2='Paramètres - Admin'!$B$6,TEXT((Q18/24)/30,\"# 0,00\")&\" \" & 'Paramètres - Admin'!$B$6,IF(Q18/24>=1,INT(Q18/24)&\" \" &  'Paramètres - Admin'!$D$4 & \" \" & HOUR(Q18/24-INT(Q18/24))&\" \" &  'Paramètres - Admin'!$D$3 & \" \" & MINUTE(Q18/24-INT(Q18/24))&\" \" &  'Paramètres - Admin'!$D$2,HOUR(Q18/24-INT(Q18/24))&\" \" &  'Paramètres - Admin'!$D$3 & \" \" & MINUTE(Q18/24-INT(Q18/24))&\" \" &  'Paramètres - Admin'!$D$2))))))","v":"0,00 jours"},"Sort de Séisme",{"$f":"'À Faire - Détails'!Q283","v":0},{"$f":"'À Faire - Détails'!R283","v":0},{"$f":"'À Faire - Détails'!Q289","v":0},{"$f":"'À Faire - Détails'!R289","v":0},{"$f":"IF($B$2='Paramètres - Admin'!$B$2,TEXT(W18*60*60,\"# 0\")&\" \" & 'Paramètres - Admin'!$B$2,IF($B$2='Paramètres - Admin'!$B$3,TEXT(W18*60,\"# 0\")&\" \" & 'Paramètres - Admin'!$B$3,IF($B$2='Paramètres - Admin'!$B$4,TEXT(W18,\"# 0,00\")&\" \" & 'Paramètres - Admin'!$B$4,IF($B$2='Paramètres - Admin'!$B$5,TEXT(W18/24,\"# 0,00\")&\" \" & 'Paramètres - Admin'!$B$5,IF($B$2='Paramètres - Admin'!$B$6,TEXT((W18/24)/30,\"# 0,00\")&\" \" & 'Paramètres - Admin'!$B$6,IF(W18/24>=1,INT(W18/24)&\" \" &  'Paramètres - Admin'!$D$4 & \" \" & HOUR(W18/24-INT(W18/24))&\" \" &  'Paramètres - Admin'!$D$3 & \" \" & MINUTE(W18/24-INT(W18/24))&\" \" &  'Paramètres - Admin'!$D$2,HOUR(W18/24-INT(W18/24))&\" \" &  'Paramètres - Admin'!$D$3 & \" \" & MINUTE(W18/24-INT(W18/24))&\" \" &  'Paramètres - Admin'!$D$2))))))","v":"0,00 jours"}]
["Tour d'Archers",{"$f":"'À Faire - Détails'!H118","v":0},{"$f":"'À Faire - Détails'!I118","v":0},{"$f":"'À Faire - Détails'!H133","v":0},{"$f":"'À Faire - Détails'!I133","v":0},{"$f":"IF($B$2='Paramètres - Admin'!$B$2,TEXT(E19*60*60,\"# 0\")&\" \" & 'Paramètres - Admin'!$B$2,IF($B$2='Paramètres - Admin'!$B$3,TEXT(E19*60,\"# 0\")&\" \" & 'Paramètres - Admin'!$B$3,IF($B$2='Paramètres - Admin'!$B$4,TEXT(E19,\"# 0,00\")&\" \" & 'Paramètres - Admin'!$B$4,IF($B$2='Paramètres - Admin'!$B$5,TEXT(E19/24,\"# 0,00\")&\" \" & 'Paramètres - Admin'!$B$5,IF($B$2='Paramètres - Admin'!$B$6,TEXT((E19/24)/30,\"# 0,00\")&\" \" & 'Paramètres - Admin'!$B$6,IF(E19/24>=1,INT(E19/24)&\" \" &  'Paramètres - Admin'!$D$4 & \" \" & HOUR(E19/24-INT(E19/24))&\" \" &  'Paramètres - Admin'!$D$3 & \" \" & MINUTE(E19/24-INT(E19/24))&\" \" &  'Paramètres - Admin'!$D$2,HOUR(E19/24-INT(E19/24))&\" \" &  'Paramètres - Admin'!$D$3 & \" \" & MINUTE(E19/24-INT(E19/24))&\" \" &  'Paramètres - Admin'!$D$2))))))","v":"0,00 jours"},"Gobelin",{"$f":"'À Faire - Détails'!H249","v":0},{"$f":"'À Faire - Détails'!I249","v":0},{"$f":"'À Faire - Détails'!H257","v":0},{"$f":"'À Faire - Détails'!I257","v":0},{"$f":"IF($B$2='Paramètres - Admin'!$B$2,TEXT(K19*60*60,\"# 0\")&\" \" & 'Paramètres - Admin'!$B$2,IF($B$2='Paramètres - Admin'!$B$3,TEXT(K19*60,\"# 0\")&\" \" & 'Paramètres - Admin'!$B$3,IF($B$2='Paramètres - Admin'!$B$4,TEXT(K19,\"# 0,00\")&\" \" & 'Paramètres - Admin'!$B$4,IF($B$2='Paramètres - Admin'!$B$5,TEXT(K19/24,\"# 0,00\")&\" \" & 'Paramètres - Admin'!$B$5,IF($B$2='Paramètres - Admin'!$B$6,TEXT((K19/24)/30,\"# 0,00\")&\" \" & 'Paramètres - Admin'!$B$6,IF(K19/24>=1,INT(K19/24)&\" \" &  'Paramètres - Admin'!$D$4 & \" \" & HOUR(K19/24-INT(K19/24))&\" \" &  'Paramètres - Admin'!$D$3 & \" \" & MINUTE(K19/24-INT(K19/24))&\" \" &  'Paramètres - Admin'!$D$2,HOUR(K19/24-INT(K19/24))&\" \" &  'Paramètres - Admin'!$D$3 & \" \" & MINUTE(K19/24-INT(K19/24))&\" \" &  'Paramètres - Admin'!$D$2))))))","v":"0,00 jours"},"Sort de Rage",{"$f":"'À Faire - Détails'!H208","v":0},{"$f":"'À Faire - Détails'!I208","v":0},{"$f":"'À Faire - Détails'!H215","v":0},{"$f":"'À Faire - Détails'!I215","v":0},{"$f":"IF($B$2='Paramètres - Admin'!$B$2,TEXT(Q19*60*60,\"# 0\")&\" \" & 'Paramètres - Admin'!$B$2,IF($B$2='Paramètres - Admin'!$B$3,TEXT(Q19*60,\"# 0\")&\" \" & 'Paramètres - Admin'!$B$3,IF($B$2='Paramètres - Admin'!$B$4,TEXT(Q19,\"# 0,00\")&\" \" & 'Paramètres - Admin'!$B$4,IF($B$2='Paramètres - Admin'!$B$5,TEXT(Q19/24,\"# 0,00\")&\" \" & 'Paramètres - Admin'!$B$5,IF($B$2='Paramètres - Admin'!$B$6,TEXT((Q19/24)/30,\"# 0,00\")&\" \" & 'Paramètres - Admin'!$B$6,IF(Q19/24>=1,INT(Q19/24)&\" \" &  'Paramètres - Admin'!$D$4 & \" \" & HOUR(Q19/24-INT(Q19/24))&\" \" &  'Paramètres - Admin'!$D$3 & \" \" & MINUTE(Q19/24-INT(Q19/24))&\" \" &  'Paramètres - Admin'!$D$2,HOUR(Q19/24-INT(Q19/24))&\" \" &  'Paramètres - Admin'!$D$3 & \" \" & MINUTE(Q19/24-INT(Q19/24))&\" \" &  'Paramètres - Admin'!$D$2))))))","v":"0,00 jours"},"Sort de Hâte",{"$f":"'À Faire - Détails'!H291","v":0},{"$f":"'À Faire - Détails'!I291","v":0},{"$f":"'À Faire - Détails'!H297","v":0},{"$f":"'À Faire - Détails'!I297","v":0},{"$f":"IF($B$2='Paramètres - Admin'!$B$2,TEXT(W19*60*60,\"# 0\")&\" \" & 'Paramètres - Admin'!$B$2,IF($B$2='Paramètres - Admin'!$B$3,TEXT(W19*60,\"# 0\")&\" \" & 'Paramètres - Admin'!$B$3,IF($B$2='Paramètres - Admin'!$B$4,TEXT(W19,\"# 0,00\")&\" \" & 'Paramètres - Admin'!$B$4,IF($B$2='Paramètres - Admin'!$B$5,TEXT(W19/24,\"# 0,00\")&\" \" & 'Paramètres - Admin'!$B$5,IF($B$2='Paramètres - Admin'!$B$6,TEXT((W19/24)/30,\"# 0,00\")&\" \" & 'Paramètres - Admin'!$B$6,IF(W19/24>=1,INT(W19/24)&\" \" &  'Paramètres - Admin'!$D$4 & \" \" & HOUR(W19/24-INT(W19/24))&\" \" &  'Paramètres - Admin'!$D$3 & \" \" & MINUTE(W19/24-INT(W19/24))&\" \" &  'Paramètres - Admin'!$D$2,HOUR(W19/24-INT(W19/24))&\" \" &  'Paramètres - Admin'!$D$3 & \" \" & MINUTE(W19/24-INT(W19/24))&\" \" &  'Paramètres - Admin'!$D$2))))))","v":"0,00 jours"}]
["Mortier",{"$f":"'À Faire - Détails'!H135","v":0},{"$f":"'À Faire - Détails'!I135","v":0},{"$f":"'À Faire - Détails'!H145","v":0},{"$f":"'À Faire - Détails'!I145","v":0},{"$f":"IF($B$2='Paramètres - Admin'!$B$2,TEXT(E20*60*60,\"# 0\")&\" \" & 'Paramètres - Admin'!$B$2,IF($B$2='Paramètres - Admin'!$B$3,TEXT(E20*60,\"# 0\")&\" \" & 'Paramètres - Admin'!$B$3,IF($B$2='Paramètres - Admin'!$B$4,TEXT(E20,\"# 0,00\")&\" \" & 'Paramètres - Admin'!$B$4,IF($B$2='Paramètres - Admin'!$B$5,TEXT(E20/24,\"# 0,00\")&\" \" & 'Paramètres - Admin'!$B$5,IF($B$2='Paramètres - Admin'!$B$6,TEXT((E20/24)/30,\"# 0,00\")&\" \" & 'Paramètres - Admin'!$B$6,IF(E20/24>=1,INT(E20/24)&\" \" &  'Paramètres - Admin'!$D$4 & \" \" & HOUR(E20/24-INT(E20/24))&\" \" &  'Paramètres - Admin'!$D$3 & \" \" & MINUTE(E20/24-INT(E20/24))&\" \" &  'Paramètres - Admin'!$D$2,HOUR(E20/24-INT(E20/24))&\" \" &  'Paramètres - Admin'!$D$3 & \" \" & MINUTE(E20/24-INT(E20/24))&\" \" &  'Paramètres - Admin'!$D$2))))))","v":"0,00 jours"},"Géant",{"$f":"'À Faire - Détails'!H259","v":0},{"$f":"'À Faire - Détails'!I259","v":0},{"$f":"'À Faire - Détails'!H268","v":0},{"$f":"'À Faire - Détails'!I268","v":0},{"$f":"IF($B$2='Paramètres - Admin'!$B$2,TEXT(K20*60*60,\"# 0\")&\" \" & 'Paramètres - Admin'!$B$2,IF($B$2='Paramètres - Admin'!$B$3,TEXT(K20*60,\"# 0\")&\" \" & 'Paramètres - Admin'!$B$3,IF($B$2='Paramètres - Admin'!$B$4,TEXT(K20,\"# 0,00\")&\" \" & 'Paramètres - Admin'!$B$4,IF($B$2='Paramètres - Admin'!$B$5,TEXT(K20/24,\"# 0,00\")&\" \" & 'Paramètres - Admin'!$B$5,IF($B$2='Paramètres - Admin'!$B$6,TEXT((K20/24)/30,\"# 0,00\")&\" \" & 'Paramètres - Admin'!$B$6,IF(K20/24>=1,INT(K20/24)&\" \" &  'Paramètres - Admin'!$D$4 & \" \" & HOUR(K20/24-INT(K20/24))&\" \" &  'Paramètres - Admin'!$D$3 & \" \" & MINUTE(K20/24-INT(K20/24))&\" \" &  'Paramètres - Admin'!$D$2,HOUR(K20/24-INT(K20/24))&\" \" &  'Paramètres - Admin'!$D$3 & \" \" & MINUTE(K20/24-INT(K20/24))&\" \" &  'Paramètres - Admin'!$D$2))))))","v":"0,00 jours"},"Sort de Saut",{"$f":"'À Faire - Détails'!H217","v":0},{"$f":"'À Faire - Détails'!I217","v":0},{"$f":"'À Faire - Détails'!H222","v":0},{"$f":"'À Faire - Détails'!I222","v":0},{"$f":"IF($B$2='Paramètres - Admin'!$B$2,TEXT(Q20*60*60,\"# 0\")&\" \" & 'Paramètres - Admin'!$B$2,IF($B$2='Paramètres - Admin'!$B$3,TEXT(Q20*60,\"# 0\")&\" \" & 'Paramètres - Admin'!$B$3,IF($B$2='Paramètres - Admin'!$B$4,TEXT(Q20,\"# 0,00\")&\" \" & 'Paramètres - Admin'!$B$4,IF($B$2='Paramètres - Admin'!$B$5,TEXT(Q20/24,\"# 0,00\")&\" \" & 'Paramètres - Admin'!$B$5,IF($B$2='Paramètres - Admin'!$B$6,TEXT((Q20/24)/30,\"# 0,00\")&\" \" & 'Paramètres - Admin'!$B$6,IF(Q20/24>=1,INT(Q20/24)&\" \" &  'Paramètres - Admin'!$D$4 & \" \" & HOUR(Q20/24-INT(Q20/24))&\" \" &  'Paramètres - Admin'!$D$3 & \" \" & MINUTE(Q20/24-INT(Q20/24))&\" \" &  'Paramètres - Admin'!$D$2,HOUR(Q20/24-INT(Q20/24))&\" \" &  'Paramètres - Admin'!$D$3 & \" \" & MINUTE(Q20/24-INT(Q20/24))&\" \" &  'Paramètres - Admin'!$D$2))))))","v":"0,00 jours"},"Total",{"$f":"SUM(T17:T19)","v":0},{"$f":"SUM(U17:U19)","v":0},{"$f":"SUM(V17:V19)","v":0},{"$f":"SUM(W17:W19)","v":0},{"$f":"IF($B$2='Paramètres - Admin'!$B$2,TEXT(W20*60*60,\"# 0\")&\" \" & 'Paramètres - Admin'!$B$2,IF($B$2='Paramètres - Admin'!$B$3,TEXT(W20*60,\"# 0\")&\" \" & 'Paramètres - Admin'!$B$3,IF($B$2='Paramètres - Admin'!$B$4,TEXT(W20,\"# 0,00\")&\" \" & 'Paramètres - Admin'!$B$4,IF($B$2='Paramètres - Admin'!$B$5,TEXT(W20/24,\"# 0,00\")&\" \" & 'Paramètres - Admin'!$B$5,IF($B$2='Paramètres - Admin'!$B$6,TEXT((W20/24)/30,\"# 0,00\")&\" \" & 'Paramètres - Admin'!$B$6,IF(W20/24>=1,INT(W20/24)&\" \" &  'Paramètres - Admin'!$D$4 & \" \" & HOUR(W20/24-INT(W20/24))&\" \" &  'Paramètres - Admin'!$D$3 & \" \" & MINUTE(W20/24-INT(W20/24))&\" \" &  'Paramètres - Admin'!$D$2,HOUR(W20/24-INT(W20/24))&\" \" &  'Paramètres - Admin'!$D$3 & \" \" & MINUTE(W20/24-INT(W20/24))&\" \" &  'Paramètres - Admin'!$D$2))))))","v":"0,00 jours"}]
["Défense Antiaérienne",{"$f":"'À Faire - Détails'!Q86","v":0},{"$f":"'À Faire - Détails'!R86","v":0},{"$f":"'À Faire - Détails'!Q96","v":0},{"$f":"'À Faire - Détails'!R96","v":0},{"$f":"IF($B$2='Paramètres - Admin'!$B$2,TEXT(E21*60*60,\"# 0\")&\" \" & 'Paramètres - Admin'!$B$2,IF($B$2='Paramètres - Admin'!$B$3,TEXT(E21*60,\"# 0\")&\" \" & 'Paramètres - Admin'!$B$3,IF($B$2='Paramètres - Admin'!$B$4,TEXT(E21,\"# 0,00\")&\" \" & 'Paramètres - Admin'!$B$4,IF($B$2='Paramètres - Admin'!$B$5,TEXT(E21/24,\"# 0,00\")&\" \" & 'Paramètres - Admin'!$B$5,IF($B$2='Paramètres - Admin'!$B$6,TEXT((E21/24)/30,\"# 0,00\")&\" \" & 'Paramètres - Admin'!$B$6,IF(E21/24>=1,INT(E21/24)&\" \" &  'Paramètres - Admin'!$D$4 & \" \" & HOUR(E21/24-INT(E21/24))&\" \" &  'Paramètres - Admin'!$D$3 & \" \" & MINUTE(E21/24-INT(E21/24))&\" \" &  'Paramètres - Admin'!$D$2,HOUR(E21/24-INT(E21/24))&\" \" &  'Paramètres - Admin'!$D$3 & \" \" & MINUTE(E21/24-INT(E21/24))&\" \" &  'Paramètres - Admin'!$D$2))))))","v":"0,00 jours"},"Sapeur",{"$f":"'À Faire - Détails'!H270","v":0},{"$f":"'À Faire - Détails'!I270","v":0},{"$f":"'À Faire - Détails'!H278","v":0},{"$f":"'À Faire - Détails'!I278","v":0},{"$f":"IF($B$2='Paramètres - Admin'!$B$2,TEXT(K21*60*60,\"# 0\")&\" \" & 'Paramètres - Admin'!$B$2,IF($B$2='Paramètres - Admin'!$B$3,TEXT(K21*60,\"# 0\")&\" \" & 'Paramètres - Admin'!$B$3,IF($B$2='Paramètres - Admin'!$B$4,TEXT(K21,\"# 0,00\")&\" \" & 'Paramètres - Admin'!$B$4,IF($B$2='Paramètres - Admin'!$B$5,TEXT(K21/24,\"# 0,00\")&\" \" & 'Paramètres - Admin'!$B$5,IF($B$2='Paramètres - Admin'!$B$6,TEXT((K21/24)/30,\"# 0,00\")&\" \" & 'Paramètres - Admin'!$B$6,IF(K21/24>=1,INT(K21/24)&\" \" &  'Paramètres - Admin'!$D$4 & \" \" & HOUR(K21/24-INT(K21/24))&\" \" &  'Paramètres - Admin'!$D$3 & \" \" & MINUTE(K21/24-INT(K21/24))&\" \" &  'Paramètres - Admin'!$D$2,HOUR(K21/24-INT(K21/24))&\" \" &  'Paramètres - Admin'!$D$3 & \" \" & MINUTE(K21/24-INT(K21/24))&\" \" &  'Paramètres - Admin'!$D$2))))))","v":"0,00 jours"},"Sort de Gel",{"$f":"'À Faire - Détails'!Q207","v":0},{"$f":"'À Faire - Détails'!R207","v":0},{"$f":"'À Faire - Détails'!Q214","v":0},{"$f":"'À Faire - Détails'!R214","v":0},{"$f":"IF($B$2='Paramètres - Admin'!$B$2,TEXT(Q21*60*60,\"# 0\")&\" \" & 'Paramètres - Admin'!$B$2,IF($B$2='Paramètres - Admin'!$B$3,TEXT(Q21*60,\"# 0\")&\" \" & 'Paramètres - Admin'!$B$3,IF($B$2='Paramètres - Admin'!$B$4,TEXT(Q21,\"# 0,00\")&\" \" & 'Paramètres - Admin'!$B$4,IF($B$2='Paramètres - Admin'!$B$5,TEXT(Q21/24,\"# 0,00\")&\" \" & 'Paramètres - Admin'!$B$5,IF($B$2='Paramètres - Admin'!$B$6,TEXT((Q21/24)/30,\"# 0,00\")&\" \" & 'Paramètres - Admin'!$B$6,IF(Q21/24>=1,INT(Q21/24)&\" \" &  'Paramètres - Admin'!$D$4 & \" \" & HOUR(Q21/24-INT(Q21/24))&\" \" &  'Paramètres - Admin'!$D$3 & \" \" & MINUTE(Q21/24-INT(Q21/24))&\" \" &  'Paramètres - Admin'!$D$2,HOUR(Q21/24-INT(Q21/24))&\" \" &  'Paramètres - Admin'!$D$3 & \" \" & MINUTE(Q21/24-INT(Q21/24))&\" \" &  'Paramètres - Admin'!$D$2))))))","v":"0,00 jours"}]
["Tour de Sorciers",{"$f":"'À Faire - Détails'!Q98","v":0},{"$f":"'À Faire - Détails'!R98","v":0},{"$f":"'À Faire - Détails'!Q109","v":0},{"$f":"'À Faire - Détails'!R109","v":0},{"$f":"IF($B$2='Paramètres - Admin'!$B$2,TEXT(E22*60*60,\"# 0\")&\" \" & 'Paramètres - Admin'!$B$2,IF($B$2='Paramètres - Admin'!$B$3,TEXT(E22*60,\"# 0\")&\" \" & 'Paramètres - Admin'!$B$3,IF($B$2='Paramètres - Admin'!$B$4,TEXT(E22,\"# 0,00\")&\" \" & 'Paramètres - Admin'!$B$4,IF($B$2='Paramètres - Admin'!$B$5,TEXT(E22/24,\"# 0,00\")&\" \" & 'Paramètres - Admin'!$B$5,IF($B$2='Paramètres - Admin'!$B$6,TEXT((E22/24)/30,\"# 0,00\")&\" \" & 'Paramètres - Admin'!$B$6,IF(E22/24>=1,INT(E22/24)&\" \" &  'Paramètres - Admin'!$D$4 & \" \" & HOUR(E22/24-INT(E22/24))&\" \" &  'Paramètres - Admin'!$D$3 & \" \" & MINUTE(E22/24-INT(E22/24))&\" \" &  'Paramètres - Admin'!$D$2,HOUR(E22/24-INT(E22/24))&\" \" &  'Paramètres - Admin'!$D$3 & \" \" & MINUTE(E22/24-INT(E22/24))&\" \" &  'Paramètres - Admin'!$D$2))))))","v":"0,00 jours"},"Ballon",{"$f":"'À Faire - Détails'!Q227","v":0},{"$f":"'À Faire - Détails'!R227","v":0},{"$f":"'À Faire - Détails'!Q235","v":0},{"$f":"'À Faire - Détails'!R235","v":0},{"$f":"IF($B$2='Paramètres - Admin'!$B$2,TEXT(K22*60*60,\"# 0\")&\" \" & 'Paramètres - Admin'!$B$2,IF($B$2='Paramètres - Admin'!$B$3,TEXT(K22*60,\"# 0\")&\" \" & 'Paramètres - Admin'!$B$3,IF($B$2='Paramètres - Admin'!$B$4,TEXT(K22,\"# 0,00\")&\" \" & 'Paramètres - Admin'!$B$4,IF($B$2='Paramètres - Admin'!$B$5,TEXT(K22/24,\"# 0,00\")&\" \" & 'Paramètres - Admin'!$B$5,IF($B$2='Paramètres - Admin'!$B$6,TEXT((K22/24)/30,\"# 0,00\")&\" \" & 'Paramètres - Admin'!$B$6,IF(K22/24>=1,INT(K22/24)&\" \" &  'Paramètres - Admin'!$D$4 & \" \" & HOUR(K22/24-INT(K22/24))&\" \" &  'Paramètres - Admin'!$D$3 & \" \" & MINUTE(K22/24-INT(K22/24))&\" \" &  'Paramètres - Admin'!$D$2,HOUR(K22/24-INT(K22/24))&\" \" &  'Paramètres - Admin'!$D$3 & \" \" & MINUTE(K22/24-INT(K22/24))&\" \" &  'Paramètres - Admin'!$D$2))))))","v":"0,00 jours"},"Total",{"$f":"SUM(N17:N21)","v":0},{"$f":"SUM(O17:O21)","v":0},{"$f":"SUM(P17:P21)","v":0},{"$f":"SUM(Q17:Q21)","v":0},{"$f":"IF($B$2='Paramètres - Admin'!$B$2,TEXT(Q22*60*60,\"# 0\")&\" \" & 'Paramètres - Admin'!$B$2,IF($B$2='Paramètres - Admin'!$B$3,TEXT(Q22*60,\"# 0\")&\" \" & 'Paramètres - Admin'!$B$3,IF($B$2='Paramètres - Admin'!$B$4,TEXT(Q22,\"# 0,00\")&\" \" & 'Paramètres - Admin'!$B$4,IF($B$2='Paramètres - Admin'!$B$5,TEXT(Q22/24,\"# 0,00\")&\" \" & 'Paramètres - Admin'!$B$5,IF($B$2='Paramètres - Admin'!$B$6,TEXT((Q22/24)/30,\"# 0,00\")&\" \" & 'Paramètres - Admin'!$B$6,IF(Q22/24>=1,INT(Q22/24)&\" \" &  'Paramètres - Admin'!$D$4 & \" \" & HOUR(Q22/24-INT(Q22/24))&\" \" &  'Paramètres - Admin'!$D$3 & \" \" & MINUTE(Q22/24-INT(Q22/24))&\" \" &  'Paramètres - Admin'!$D$2,HOUR(Q22/24-INT(Q22/24))&\" \" &  'Paramètres - Admin'!$D$3 & \" \" & MINUTE(Q22/24-INT(Q22/24))&\" \" &  'Paramètres - Admin'!$D$2))))))","v":"0,00 jours"},"Héros"]
["Propulseur d'air",{"$f":"'À Faire - Détails'!Q138","v":0},{"$f":"'À Faire - Détails'!R138","v":0},{"$f":"'À Faire - Détails'!Q146","v":0},{"$f":"'À Faire - Détails'!R146","v":0},{"$f":"IF($B$2='Paramètres - Admin'!$B$2,TEXT(E23*60*60,\"# 0\")&\" \" & 'Paramètres - Admin'!$B$2,IF($B$2='Paramètres - Admin'!$B$3,TEXT(E23*60,\"# 0\")&\" \" & 'Paramètres - Admin'!$B$3,IF($B$2='Paramètres - Admin'!$B$4,TEXT(E23,\"# 0,00\")&\" \" & 'Paramètres - Admin'!$B$4,IF($B$2='Paramètres - Admin'!$B$5,TEXT(E23/24,\"# 0,00\")&\" \" & 'Paramètres - Admin'!$B$5,IF($B$2='Paramètres - Admin'!$B$6,TEXT((E23/24)/30,\"# 0,00\")&\" \" & 'Paramètres - Admin'!$B$6,IF(E23/24>=1,INT(E23/24)&\" \" &  'Paramètres - Admin'!$D$4 & \" \" & HOUR(E23/24-INT(E23/24))&\" \" &  'Paramètres - Admin'!$D$3 & \" \" & MINUTE(E23/24-INT(E23/24))&\" \" &  'Paramètres - Admin'!$D$2,HOUR(E23/24-INT(E23/24))&\" \" &  'Paramètres - Admin'!$D$3 & \" \" & MINUTE(E23/24-INT(E23/24))&\" \" &  'Paramètres - Admin'!$D$2))))))","v":"0,00 jours"},"Sorcier",{"$f":"'À Faire - Détails'!Q237","v":0},{"$f":"'À Faire - Détails'!R237","v":0},{"$f":"'À Faire - Détails'!Q245","v":0},{"$f":"'À Faire - Détails'!R245","v":0},{"$f":"IF($B$2='Paramètres - Admin'!$B$2,TEXT(K23*60*60,\"# 0\")&\" \" & 'Paramètres - Admin'!$B$2,IF($B$2='Paramètres - Admin'!$B$3,TEXT(K23*60,\"# 0\")&\" \" & 'Paramètres - Admin'!$B$3,IF($B$2='Paramètres - Admin'!$B$4,TEXT(K23,\"# 0,00\")&\" \" & 'Paramètres - Admin'!$B$4,IF($B$2='Paramètres - Admin'!$B$5,TEXT(K23/24,\"# 0,00\")&\" \" & 'Paramètres - Admin'!$B$5,IF($B$2='Paramètres - Admin'!$B$6,TEXT((K23/24)/30,\"# 0,00\")&\" \" & 'Paramètres - Admin'!$B$6,IF(K23/24>=1,INT(K23/24)&\" \" &  'Paramètres - Admin'!$D$4 & \" \" & HOUR(K23/24-INT(K23/24))&\" \" &  'Paramètres - Admin'!$D$3 & \" \" & MINUTE(K23/24-INT(K23/24))&\" \" &  'Paramètres - Admin'!$D$2,HOUR(K23/24-INT(K23/24))&\" \" &  'Paramètres - Admin'!$D$3 & \" \" & MINUTE(K23/24-INT(K23/24))&\" \" &  'Paramètres - Admin'!$D$2))))))","v":"0,00 jours"},"Bâtiments Autres",null,null,null,null,null,"Héros","À Faire","Up.","Coût Total","Temps Total","Temps Total"]
["Tesla Camouflée",{"$f":"'À Faire - Détails'!Q111","v":0},{"$f":"'À Faire - Détails'!R111","v":0},{"$f":"'À Faire - Détails'!Q121","v":0},{"$f":"'À Faire - Détails'!R121","v":0},{"$f":"IF($B$2='Paramètres - Admin'!$B$2,TEXT(E24*60*60,\"# 0\")&\" \" & 'Paramètres - Admin'!$B$2,IF($B$2='Paramètres - Admin'!$B$3,TEXT(E24*60,\"# 0\")&\" \" & 'Paramètres - Admin'!$B$3,IF($B$2='Paramètres - Admin'!$B$4,TEXT(E24,\"# 0,00\")&\" \" & 'Paramètres - Admin'!$B$4,IF($B$2='Paramètres - Admin'!$B$5,TEXT(E24/24,\"# 0,00\")&\" \" & 'Paramètres - Admin'!$B$5,IF($B$2='Paramètres - Admin'!$B$6,TEXT((E24/24)/30,\"# 0,00\")&\" \" & 'Paramètres - Admin'!$B$6,IF(E24/24>=1,INT(E24/24)&\" \" &  'Paramètres - Admin'!$D$4 & \" \" & HOUR(E24/24-INT(E24/24))&\" \" &  'Paramètres - Admin'!$D$3 & \" \" & MINUTE(E24/24-INT(E24/24))&\" \" &  'Paramètres - Admin'!$D$2,HOUR(E24/24-INT(E24/24))&\" \" &  'Paramètres - Admin'!$D$3 & \" \" & MINUTE(E24/24-INT(E24/24))&\" \" &  'Paramètres - Admin'!$D$2))))))","v":"0,00 jours"},"Guérisseuse",{"$f":"'À Faire - Détails'!Q247","v":0},{"$f":"'À Faire - Détails'!R247","v":0},{"$f":"'À Faire - Détails'!Q253","v":0},{"$f":"'À Faire - Détails'!R253","v":0},{"$f":"IF($B$2='Paramètres - Admin'!$B$2,TEXT(K24*60*60,\"# 0\")&\" \" & 'Paramètres - Admin'!$B$2,IF($B$2='Paramètres - Admin'!$B$3,TEXT(K24*60,\"# 0\")&\" \" & 'Paramètres - Admin'!$B$3,IF($B$2='Paramètres - Admin'!$B$4,TEXT(K24,\"# 0,00\")&\" \" & 'Paramètres - Admin'!$B$4,IF($B$2='Paramètres - Admin'!$B$5,TEXT(K24/24,\"# 0,00\")&\" \" & 'Paramètres - Admin'!$B$5,IF($B$2='Paramètres - Admin'!$B$6,TEXT((K24/24)/30,\"# 0,00\")&\" \" & 'Paramètres - Admin'!$B$6,IF(K24/24>=1,INT(K24/24)&\" \" &  'Paramètres - Admin'!$D$4 & \" \" & HOUR(K24/24-INT(K24/24))&\" \" &  'Paramètres - Admin'!$D$3 & \" \" & MINUTE(K24/24-INT(K24/24))&\" \" &  'Paramètres - Admin'!$D$2,HOUR(K24/24-INT(K24/24))&\" \" &  'Paramètres - Admin'!$D$3 & \" \" & MINUTE(K24/24-INT(K24/24))&\" \" &  'Paramètres - Admin'!$D$2))))))","v":"0,00 jours"},"Bâtiment","À Faire","Up.","Coût Total","Temps Total","Temps Total","Roi des Barbares",{"$f":"'À Faire - Détails'!H331","v":0},{"$f":"'À Faire - Détails'!I331","v":0},{"$f":"'À Faire - Détails'!H373","v":0},{"$f":"'À Faire - Détails'!I373","v":0},{"$f":"IF($B$2='Paramètres - Admin'!$B$2,TEXT(W24*60*60,\"# 0\")&\" \" & 'Paramètres - Admin'!$B$2,IF($B$2='Paramètres - Admin'!$B$3,TEXT(W24*60,\"# 0\")&\" \" & 'Paramètres - Admin'!$B$3,IF($B$2='Paramètres - Admin'!$B$4,TEXT(W24,\"# 0,00\")&\" \" & 'Paramètres - Admin'!$B$4,IF($B$2='Paramètres - Admin'!$B$5,TEXT(W24/24,\"# 0,00\")&\" \" & 'Paramètres - Admin'!$B$5,IF($B$2='Paramètres - Admin'!$B$6,TEXT((W24/24)/30,\"# 0,00\")&\" \" & 'Paramètres - Admin'!$B$6,IF(W24/24>=1,INT(W24/24)&\" \" &  'Paramètres - Admin'!$D$4 & \" \" & HOUR(W24/24-INT(W24/24))&\" \" &  'Paramètres - Admin'!$D$3 & \" \" & MINUTE(W24/24-INT(W24/24))&\" \" &  'Paramètres - Admin'!$D$2,HOUR(W24/24-INT(W24/24))&\" \" &  'Paramètres - Admin'!$D$3 & \" \" & MINUTE(W24/24-INT(W24/24))&\" \" &  'Paramètres - Admin'!$D$2))))))","v":"0,00 jours"}]
["Arc-X",{"$f":"'À Faire - Détails'!Q123","v":0},{"$f":"'À Faire - Détails'!R123","v":0},{"$f":"'À Faire - Détails'!Q129","v":0},{"$f":"'À Faire - Détails'!R129","v":0},{"$f":"IF($B$2='Paramètres - Admin'!$B$2,TEXT(E25*60*60,\"# 0\")&\" \" & 'Paramètres - Admin'!$B$2,IF($B$2='Paramètres - Admin'!$B$3,TEXT(E25*60,\"# 0\")&\" \" & 'Paramètres - Admin'!$B$3,IF($B$2='Paramètres - Admin'!$B$4,TEXT(E25,\"# 0,00\")&\" \" & 'Paramètres - Admin'!$B$4,IF($B$2='Paramètres - Admin'!$B$5,TEXT(E25/24,\"# 0,00\")&\" \" & 'Paramètres - Admin'!$B$5,IF($B$2='Paramètres - Admin'!$B$6,TEXT((E25/24)/30,\"# 0,00\")&\" \" & 'Paramètres - Admin'!$B$6,IF(E25/24>=1,INT(E25/24)&\" \" &  'Paramètres - Admin'!$D$4 & \" \" & HOUR(E25/24-INT(E25/24))&\" \" &  'Paramètres - Admin'!$D$3 & \" \" & MINUTE(E25/24-INT(E25/24))&\" \" &  'Paramètres - Admin'!$D$2,HOUR(E25/24-INT(E25/24))&\" \" &  'Paramètres - Admin'!$D$3 & \" \" & MINUTE(E25/24-INT(E25/24))&\" \" &  'Paramètres - Admin'!$D$2))))))","v":"0,00 jours"},"Dragon",{"$f":"'À Faire - Détails'!Q255","v":0},{"$f":"'À Faire - Détails'!R255","v":0},{"$f":"'À Faire - Détails'!Q262","v":0},{"$f":"'À Faire - Détails'!R262","v":0},{"$f":"IF($B$2='Paramètres - Admin'!$B$2,TEXT(K25*60*60,\"# 0\")&\" \" & 'Paramètres - Admin'!$B$2,IF($B$2='Paramètres - Admin'!$B$3,TEXT(K25*60,\"# 0\")&\" \" & 'Paramètres - Admin'!$B$3,IF($B$2='Paramètres - Admin'!$B$4,TEXT(K25,\"# 0,00\")&\" \" & 'Paramètres - Admin'!$B$4,IF($B$2='Paramètres - Admin'!$B$5,TEXT(K25/24,\"# 0,00\")&\" \" & 'Paramètres - Admin'!$B$5,IF($B$2='Paramètres - Admin'!$B$6,TEXT((K25/24)/30,\"# 0,00\")&\" \" & 'Paramètres - Admin'!$B$6,IF(K25/24>=1,INT(K25/24)&\" \" &  'Paramètres - Admin'!$D$4 & \" \" & HOUR(K25/24-INT(K25/24))&\" \" &  'Paramètres - Admin'!$D$3 & \" \" & MINUTE(K25/24-INT(K25/24))&\" \" &  'Paramètres - Admin'!$D$2,HOUR(K25/24-INT(K25/24))&\" \" &  'Paramètres - Admin'!$D$3 & \" \" & MINUTE(K25/24-INT(K25/24))&\" \" &  'Paramètres - Admin'!$D$2))))))","v":"0,00 jours"},"Château de Clan",{"$f":"'À Faire - Détails'!H180","v":0},{"$f":"'À Faire - Détails'!I180","v":0},{"$f":"'À Faire - Détails'!H188","v":0},{"$f":"'À Faire - Détails'!I188","v":0},{"$f":"IF($B$2='Paramètres - Admin'!$B$2,TEXT(Q25*60*60,\"# 0\")&\" \" & 'Paramètres - Admin'!$B$2,IF($B$2='Paramètres - Admin'!$B$3,TEXT(Q25*60,\"# 0\")&\" \" & 'Paramètres - Admin'!$B$3,IF($B$2='Paramètres - Admin'!$B$4,TEXT(Q25,\"# 0,00\")&\" \" & 'Paramètres - Admin'!$B$4,IF($B$2='Paramètres - Admin'!$B$5,TEXT(Q25/24,\"# 0,00\")&\" \" & 'Paramètres - Admin'!$B$5,IF($B$2='Paramètres - Admin'!$B$6,TEXT((Q25/24)/30,\"# 0,00\")&\" \" & 'Paramètres - Admin'!$B$6,IF(Q25/24>=1,INT(Q25/24)&\" \" &  'Paramètres - Admin'!$D$4 & \" \" & HOUR(Q25/24-INT(Q25/24))&\" \" &  'Paramètres - Admin'!$D$3 & \" \" & MINUTE(Q25/24-INT(Q25/24))&\" \" &  'Paramètres - Admin'!$D$2,HOUR(Q25/24-INT(Q25/24))&\" \" &  'Paramètres - Admin'!$D$3 & \" \" & MINUTE(Q25/24-INT(Q25/24))&\" \" &  'Paramètres - Admin'!$D$2))))))","v":"0,00 jours"},"Reine des Archers",{"$f":"'À Faire - Détails'!Q331","v":0},{"$f":"'À Faire - Détails'!R331","v":0},{"$f":"'À Faire - Détails'!Q373","v":0},{"$f":"'À Faire - Détails'!R373","v":0},{"$f":"IF($B$2='Paramètres - Admin'!$B$2,TEXT(W25*60*60,\"# 0\")&\" \" & 'Paramètres - Admin'!$B$2,IF($B$2='Paramètres - Admin'!$B$3,TEXT(W25*60,\"# 0\")&\" \" & 'Paramètres - Admin'!$B$3,IF($B$2='Paramètres - Admin'!$B$4,TEXT(W25,\"# 0,00\")&\" \" & 'Paramètres - Admin'!$B$4,IF($B$2='Paramètres - Admin'!$B$5,TEXT(W25/24,\"# 0,00\")&\" \" & 'Paramètres - Admin'!$B$5,IF($B$2='Paramètres - Admin'!$B$6,TEXT((W25/24)/30,\"# 0,00\")&\" \" & 'Paramètres - Admin'!$B$6,IF(W25/24>=1,INT(W25/24)&\" \" &  'Paramètres - Admin'!$D$4 & \" \" & HOUR(W25/24-INT(W25/24))&\" \" &  'Paramètres - Admin'!$D$3 & \" \" & MINUTE(W25/24-INT(W25/24))&\" \" &  'Paramètres - Admin'!$D$2,HOUR(W25/24-INT(W25/24))&\" \" &  'Paramètres - Admin'!$D$3 & \" \" & MINUTE(W25/24-INT(W25/24))&\" \" &  'Paramètres - Admin'!$D$2))))))","v":"0,00 jours"}]
["Tour de l'Enfer",{"$f":"'À Faire - Détails'!Q131","v":0},{"$f":"'À Faire - Détails'!R131","v":0},{"$f":"'À Faire - Détails'!Q136","v":0},{"$f":"'À Faire - Détails'!R136","v":0},{"$f":"IF($B$2='Paramètres - Admin'!$B$2,TEXT(E26*60*60,\"# 0\")&\" \" & 'Paramètres - Admin'!$B$2,IF($B$2='Paramètres - Admin'!$B$3,TEXT(E26*60,\"# 0\")&\" \" & 'Paramètres - Admin'!$B$3,IF($B$2='Paramètres - Admin'!$B$4,TEXT(E26,\"# 0,00\")&\" \" & 'Paramètres - Admin'!$B$4,IF($B$2='Paramètres - Admin'!$B$5,TEXT(E26/24,\"# 0,00\")&\" \" & 'Paramètres - Admin'!$B$5,IF($B$2='Paramètres - Admin'!$B$6,TEXT((E26/24)/30,\"# 0,00\")&\" \" & 'Paramètres - Admin'!$B$6,IF(E26/24>=1,INT(E26/24)&\" \" &  'Paramètres - Admin'!$D$4 & \" \" & HOUR(E26/24-INT(E26/24))&\" \" &  'Paramètres - Admin'!$D$3 & \" \" & MINUTE(E26/24-INT(E26/24))&\" \" &  'Paramètres - Admin'!$D$2,HOUR(E26/24-INT(E26/24))&\" \" &  'Paramètres - Admin'!$D$3 & \" \" & MINUTE(E26/24-INT(E26/24))&\" \" &  'Paramètres - Admin'!$D$2))))))","v":"0,00 jours"},"P.E.K.K.A",{"$f":"'À Faire - Détails'!Q264","v":0},{"$f":"'À Faire - Détails'!R264","v":0},{"$f":"'À Faire - Détails'!Q271","v":0},{"$f":"'À Faire - Détails'!R271","v":0},{"$f":"IF($B$2='Paramètres - Admin'!$B$2,TEXT(K26*60*60,\"# 0\")&\" \" & 'Paramètres - Admin'!$B$2,IF($B$2='Paramètres - Admin'!$B$3,TEXT(K26*60,\"# 0\")&\" \" & 'Paramètres - Admin'!$B$3,IF($B$2='Paramètres - Admin'!$B$4,TEXT(K26,\"# 0,00\")&\" \" & 'Paramètres - Admin'!$B$4,IF($B$2='Paramètres - Admin'!$B$5,TEXT(K26/24,\"# 0,00\")&\" \" & 'Paramètres - Admin'!$B$5,IF($B$2='Paramètres - Admin'!$B$6,TEXT((K26/24)/30,\"# 0,00\")&\" \" & 'Paramètres - Admin'!$B$6,IF(K26/24>=1,INT(K26/24)&\" \" &  'Paramètres - Admin'!$D$4 & \" \" & HOUR(K26/24-INT(K26/24))&\" \" &  'Paramètres - Admin'!$D$3 & \" \" & MINUTE(K26/24-INT(K26/24))&\" \" &  'Paramètres - Admin'!$D$2,HOUR(K26/24-INT(K26/24))&\" \" &  'Paramètres - Admin'!$D$3 & \" \" & MINUTE(K26/24-INT(K26/24))&\" \" &  'Paramètres - Admin'!$D$2))))))","v":"0,00 jours"},"Hôtel de Ville",{"$f":"'À Faire - Détails'!Q180","v":0},{"$f":"'À Faire - Détails'!R180","v":1},{"$f":"'À Faire - Détails'!Q193","v":1000},{"$f":"'À Faire - Détails'!R193","v":8.3333333333333329E-2},{"$f":"IF($B$2='Paramètres - Admin'!$B$2,TEXT(Q26*60*60,\"# 0\")&\" \" & 'Paramètres - Admin'!$B$2,IF($B$2='Paramètres - Admin'!$B$3,TEXT(Q26*60,\"# 0\")&\" \" & 'Paramètres - Admin'!$B$3,IF($B$2='Paramètres - Admin'!$B$4,TEXT(Q26,\"# 0,00\")&\" \" & 'Paramètres - Admin'!$B$4,IF($B$2='Paramètres - Admin'!$B$5,TEXT(Q26/24,\"# 0,00\")&\" \" & 'Paramètres - Admin'!$B$5,IF($B$2='Paramètres - Admin'!$B$6,TEXT((Q26/24)/30,\"# 0,00\")&\" \" & 'Paramètres - Admin'!$B$6,IF(Q26/24>=1,INT(Q26/24)&\" \" &  'Paramètres - Admin'!$D$4 & \" \" & HOUR(Q26/24-INT(Q26/24))&\" \" &  'Paramètres - Admin'!$D$3 & \" \" & MINUTE(Q26/24-INT(Q26/24))&\" \" &  'Paramètres - Admin'!$D$2,HOUR(Q26/24-INT(Q26/24))&\" \" &  'Paramètres - Admin'!$D$3 & \" \" & MINUTE(Q26/24-INT(Q26/24))&\" \" &  'Paramètres - Admin'!$D$2))))))","v":"0,00 jours"},"Grand Gardien",{"$f":"'À Faire - Détails'!Z331","v":0},{"$f":"'À Faire - Détails'!AA331","v":0},{"$f":"'À Faire - Détails'!Z373","v":0},{"$f":"'À Faire - Détails'!AA373","v":0},{"$f":"IF($B$2='Paramètres - Admin'!$B$2,TEXT(W26*60*60,\"# 0\")&\" \" & 'Paramètres - Admin'!$B$2,IF($B$2='Paramètres - Admin'!$B$3,TEXT(W26*60,\"# 0\")&\" \" & 'Paramètres - Admin'!$B$3,IF($B$2='Paramètres - Admin'!$B$4,TEXT(W26,\"# 0,00\")&\" \" & 'Paramètres - Admin'!$B$4,IF($B$2='Paramètres - Admin'!$B$5,TEXT(W26/24,\"# 0,00\")&\" \" & 'Paramètres - Admin'!$B$5,IF($B$2='Paramètres - Admin'!$B$6,TEXT((W26/24)/30,\"# 0,00\")&\" \" & 'Paramètres - Admin'!$B$6,IF(W26/24>=1,INT(W26/24)&\" \" &  'Paramètres - Admin'!$D$4 & \" \" & HOUR(W26/24-INT(W26/24))&\" \" &  'Paramètres - Admin'!$D$3 & \" \" & MINUTE(W26/24-INT(W26/24))&\" \" &  'Paramètres - Admin'!$D$2,HOUR(W26/24-INT(W26/24))&\" \" &  'Paramètres - Admin'!$D$3 & \" \" & MINUTE(W26/24-INT(W26/24))&\" \" &  'Paramètres - Admin'!$D$2))))))","v":"0,00 jours"}]
["Aigle Artilleur",{"$f":"'À Faire - Détails'!H147","v":0},{"$f":"'À Faire - Détails'!I147","v":0},{"$f":"'À Faire - Détails'!H151","v":0},{"$f":"'À Faire - Détails'!I151","v":0},{"$f":"IF($B$2='Paramètres - Admin'!$B$2,TEXT(E27*60*60,\"# 0\")&\" \" & 'Paramètres - Admin'!$B$2,IF($B$2='Paramètres - Admin'!$B$3,TEXT(E27*60,\"# 0\")&\" \" & 'Paramètres - Admin'!$B$3,IF($B$2='Paramètres - Admin'!$B$4,TEXT(E27,\"# 0,00\")&\" \" & 'Paramètres - Admin'!$B$4,IF($B$2='Paramètres - Admin'!$B$5,TEXT(E27/24,\"# 0,00\")&\" \" & 'Paramètres - Admin'!$B$5,IF($B$2='Paramètres - Admin'!$B$6,TEXT((E27/24)/30,\"# 0,00\")&\" \" & 'Paramètres - Admin'!$B$6,IF(E27/24>=1,INT(E27/24)&\" \" &  'Paramètres - Admin'!$D$4 & \" \" & HOUR(E27/24-INT(E27/24))&\" \" &  'Paramètres - Admin'!$D$3 & \" \" & MINUTE(E27/24-INT(E27/24))&\" \" &  'Paramètres - Admin'!$D$2,HOUR(E27/24-INT(E27/24))&\" \" &  'Paramètres - Admin'!$D$3 & \" \" & MINUTE(E27/24-INT(E27/24))&\" \" &  'Paramètres - Admin'!$D$2))))))","v":"0,00 jours"},"Total",{"$f":"SUM(H17:H26)","v":0},{"$f":"SUM(I17:I26)","v":0},{"$f":"SUM(J17:J26)","v":0},{"$f":"SUM(K17:K26)","v":0},{"$f":"IF($B$2='Paramètres - Admin'!$B$2,TEXT(K27*60*60,\"# 0\")&\" \" & 'Paramètres - Admin'!$B$2,IF($B$2='Paramètres - Admin'!$B$3,TEXT(K27*60,\"# 0\")&\" \" & 'Paramètres - Admin'!$B$3,IF($B$2='Paramètres - Admin'!$B$4,TEXT(K27,\"# 0,00\")&\" \" & 'Paramètres - Admin'!$B$4,IF($B$2='Paramètres - Admin'!$B$5,TEXT(K27/24,\"# 0,00\")&\" \" & 'Paramètres - Admin'!$B$5,IF($B$2='Paramètres - Admin'!$B$6,TEXT((K27/24)/30,\"# 0,00\")&\" \" & 'Paramètres - Admin'!$B$6,IF(K27/24>=1,INT(K27/24)&\" \" &  'Paramètres - Admin'!$D$4 & \" \" & HOUR(K27/24-INT(K27/24))&\" \" &  'Paramètres - Admin'!$D$3 & \" \" & MINUTE(K27/24-INT(K27/24))&\" \" &  'Paramètres - Admin'!$D$2,HOUR(K27/24-INT(K27/24))&\" \" &  'Paramètres - Admin'!$D$3 & \" \" & MINUTE(K27/24-INT(K27/24))&\" \" &  'Paramètres - Admin'!$D$2))))))","v":"0,00 jours"},"Total",{"$f":"SUM(N25:N26)","v":0},{"$f":"SUM(O25:O26)","v":1},{"$f":"SUM(P25:P26)","v":1000},{"$f":"SUM(Q25:Q26)","v":8.3333333333333329E-2},{"$f":"IF($B$2='Paramètres - Admin'!$B$2,TEXT(Q27*60*60,\"# 0\")&\" \" & 'Paramètres - Admin'!$B$2,IF($B$2='Paramètres - Admin'!$B$3,TEXT(Q27*60,\"# 0\")&\" \" & 'Paramètres - Admin'!$B$3,IF($B$2='Paramètres - Admin'!$B$4,TEXT(Q27,\"# 0,00\")&\" \" & 'Paramètres - Admin'!$B$4,IF($B$2='Paramètres - Admin'!$B$5,TEXT(Q27/24,\"# 0,00\")&\" \" & 'Paramètres - Admin'!$B$5,IF($B$2='Paramètres - Admin'!$B$6,TEXT((Q27/24)/30,\"# 0,00\")&\" \" & 'Paramètres - Admin'!$B$6,IF(Q27/24>=1,INT(Q27/24)&\" \" &  'Paramètres - Admin'!$D$4 & \" \" & HOUR(Q27/24-INT(Q27/24))&\" \" &  'Paramètres - Admin'!$D$3 & \" \" & MINUTE(Q27/24-INT(Q27/24))&\" \" &  'Paramètres - Admin'!$D$2,HOUR(Q27/24-INT(Q27/24))&\" \" &  'Paramètres - Admin'!$D$3 & \" \" & MINUTE(Q27/24-INT(Q27/24))&\" \" &  'Paramètres - Admin'!$D$2))))))","v":"0,00 jours"},"Total",{"$f":"SUM(T24:T26)","v":0},{"$f":"SUM(U24:U26)","v":0},{"$f":"SUM(V24:V25)","v":0},{"$f":"SUM(W24:W26)","v":0},{"$f":"IF($B$2='Paramètres - Admin'!$B$2,TEXT(W27*60*60,\"# 0\")&\" \" & 'Paramètres - Admin'!$B$2,IF($B$2='Paramètres - Admin'!$B$3,TEXT(W27*60,\"# 0\")&\" \" & 'Paramètres - Admin'!$B$3,IF($B$2='Paramètres - Admin'!$B$4,TEXT(W27,\"# 0,00\")&\" \" & 'Paramètres - Admin'!$B$4,IF($B$2='Paramètres - Admin'!$B$5,TEXT(W27/24,\"# 0,00\")&\" \" & 'Paramètres - Admin'!$B$5,IF($B$2='Paramètres - Admin'!$B$6,TEXT((W27/24)/30,\"# 0,00\")&\" \" & 'Paramètres - Admin'!$B$6,IF(W27/24>=1,INT(W27/24)&\" \" &  'Paramètres - Admin'!$D$4 & \" \" & HOUR(W27/24-INT(W27/24))&\" \" &  'Paramètres - Admin'!$D$3 & \" \" & MINUTE(W27/24-INT(W27/24))&\" \" &  'Paramètres - Admin'!$D$2,HOUR(W27/24-INT(W27/24))&\" \" &  'Paramètres - Admin'!$D$3 & \" \" & MINUTE(W27/24-INT(W27/24))&\" \" &  'Paramètres - Admin'!$D$2))))))","v":"0,00 jours"}]
["Total",{"$f":"SUM(B17:B27)","v":2},{"$f":"SUM(C17:C27)","v":4},{"$f":"SUM(D17:D27)","v":2500},{"$f":"SUM(E17:E27)","v":0.53333333333333333},{"$f":"IF($B$2='Paramètres - Admin'!$B$2,TEXT(E28*60*60,\"# 0\")&\" \" & 'Paramètres - Admin'!$B$2,IF($B$2='Paramètres - Admin'!$B$3,TEXT(E28*60,\"# 0\")&\" \" & 'Paramètres - Admin'!$B$3,IF($B$2='Paramètres - Admin'!$B$4,TEXT(E28,\"# 0,00\")&\" \" & 'Paramètres - Admin'!$B$4,IF($B$2='Paramètres - Admin'!$B$5,TEXT(E28/24,\"# 0,00\")&\" \" & 'Paramètres - Admin'!$B$5,IF($B$2='Paramètres - Admin'!$B$6,TEXT((E28/24)/30,\"# 0,00\")&\" \" & 'Paramètres - Admin'!$B$6,IF(E28/24>=1,INT(E28/24)&\" \" &  'Paramètres - Admin'!$D$4 & \" \" & HOUR(E28/24-INT(E28/24))&\" \" &  'Paramètres - Admin'!$D$3 & \" \" & MINUTE(E28/24-INT(E28/24))&\" \" &  'Paramètres - Admin'!$D$2,HOUR(E28/24-INT(E28/24))&\" \" &  'Paramètres - Admin'!$D$3 & \" \" & MINUTE(E28/24-INT(E28/24))&\" \" &  'Paramètres - Admin'!$D$2))))))","v":"0,02 jours"}]

{"sheet":"À Faire - Détails","index":3,"n_rows":373,"n_cols":27,"rows_kept":373,"cut":false,"hidden":false,"merged":[[116,0,117,2],[129,9,130,11],[329,18,330,20],[2,0,2,17],[48,9,49,11],[48,0,49,2],[72,0,73,2],[73,9,74,11],[62,0,63,2],[47,0,47,17],[61,9,62,11],[328,0,328,26],[83,0,83,17],[152,0,152,17],[177,0,177,17],[194,0,194,17],[1,0,1,1],[0,0,0,1],[1,2,1,4],[1,5,1,7],[1,8,1,9],[1,20,1,21],[0,2,0,4],[0,5,0,7],[0,17,0,19],[0,8,0,9],[0,10,0,12],[0,20,0,21],[0,13,0,16],[1,13,1,16],[1,10,1,12],[1,17,1,19],[96,9,97,11],[109,9,110,11],[3,0,4,2],[3,9,4,11],[19,0,20,2],[19,9,20,11],[35,9,36,11],[35,0,36,2],[99,0,100,2],[84,9,85,11],[84,0,85,2],[300,9,301,11],[311,0,312,2],[215,0,216,2],[195,0,196,2],[195,9,196,11],[206,0,207,2],[205,9,206,11],[225,0,226,2],[299,0,299,17],[281,9,282,11],[289,0,290,2],[280,0,280,17],[224,0,224,17],[281,0,282,2],[318,9,319,11],[168,9,169,11],[329,9,330,11],[329,0,330,2],[236,0,237,2],[247,0,248,2],[257,0,258,2],[268,0,269,2],[300,0,301,2],[262,9,263,11],[309,9,310,11],[319,0,320,2],[235,9,236,11],[245,9,246,11],[253,9,254,11],[225,9,226,11],[153,0,154,2],[121,9,122,11],[178,9,179,11],[178,0,179,2],[133,0,134,2],[153,9,154,11],[161,9,162,11],[163,0,164,2],[168,0,169,2],[145,0,146,2],[136,9,137,11]]}
["LVL HdV",null,"Or Total :",null,null,"Élixir Total :",null,null,"Élixir Noir Total :",null,"Temps Total :",null,null,{"$f":"'À Faire - Récapitulatif'!Q1","v":"Bâtiments : 0,15 jours"},null,null,null,"=> Temps par Ouvrier :",null,null,"Améliorations de Troupes/Sorts :"]
[{"$f":"Paramètres!$BI$2","v":1},null,{"$f":"'À Faire - Récapitulatif'!H2","v":"4 250"},null,null,{"$f":"'À Faire - Récapitulatif'!K2","v":"4 700"},null,null,{"$f":"'À Faire - Récapitulatif'!M2","v":"0"},null,{"$f":"'À Faire - Récapitulatif'!O2","v":"0,15 jours"},null,null,{"$f":"'À Faire - Récapitulatif'!Q2","v":"Héros : 0,00 jours"},null,null,null,{"$f":"'À Faire - Récapitulatif'!T2","v":"0,15 jours"},null,null,{"$f":"'À Faire - Récapitulatif'!W2","v":"0,00 jours"}]
["Bâtiments de Ressources"]
["Mine d'Or",null,null,"Max","Max +",null,"Actuel","À Faire","Améliorations","Extracteur d'Élixir",null,null,"Max","Max +",null,"Actuel","À Faire","Améliorations"]
[null,null,null,{"$f":"VLOOKUP($A$2,AVAILABLE_Buildings_Resource[#All],MATCH(A4,AVAILABLE_Buildings_Resource[#Headers],0))","v":1},{"$f":"VLOOKUP($A$2,AVAILABLE_Buildings_Resource[#All],MATCH(A4,AVAILABLE_Buildings_Resource[#Headers],0)+1)","v":2},null,{"$f":"IF(SUM(B7:B18)>D5,\"Error\",SUM(B7:B18))","v":0},{"$f":"IF(G$5=\"Error\",\"Error\",D5-G5)","v":1},{"$f":"IF(G$5=\"Error\",\"Error\",SUM(D7:D18))","v":2},null,null,null,{"$f":"VLOOKUP($A$2,AVAILABLE_Buildings_Resource[#All],MATCH(J4,AVAILABLE_Buildings_Resource[#Headers],0))","v":1},{"$f":"VLOOKUP($A$2,AVAILABLE_Buildings_Resource[#All],MATCH(J4,AVAILABLE_Buildings_Resource[#Headers],0)+1)","v":2},null,{"$f":"IF(SUM(K7:K18)>M5,\"Error\",SUM(K7:K18))","v":0},{"$f":"IF(P$5=\"Error\",\"Error\",M5-P5)","v":1},{"$f":"IF(P$5=\"Error\",\"Error\",SUM(M7:M18))","v":2}]
["+","NB",null,"NB","+","Coût","Temps","Coût Total","Temps Total","+","NB",null,"NB","+","Coût","Temps","Coût Total","Temps Total"]
[1,{"$f":"IF(Paramètres!B6=0,\"\",Paramètres!B6)","v":""},{"$f":"IF(C6<>0,C6+IF(AND(B6<>\"\",A6<E$5),B6,0),IF(AND(B6<>\"\",A6<E$5),B6,0))","v":0},{"$f":"IF(E7<>\"/\",IF(G$5=\"Error\",\"Error\",$H$5+C7),\"/\")","v":1},{"$f":"IF(G$5=\"Error\",\"Error\",IF(AND($E$5<>\"/\",$E$5>'Paramètres - Admin'!$A2),'Paramètres - Admin'!$A3,\"/\"))","v":1},{"$f":"IF(E7<>\"/\",VLOOKUP(E7,COSTS_Gold_Mine[#All],2),\"/\")","v":150},{"$f":"IF(E7<>\"/\",VLOOKUP(E7,COSTS_Gold_Mine[#All],3),\"/\")","v":1.6666666666666666E-2},{"$f":"IF(G$5=\"Error\",\"Error\",IF(F7<>\"/\",D7*F7,0))","v":150},{"$f":"IF(G$5=\"Error\",\"Error\",IF(G7<>\"/\",D7*G7,0))","v":1.6666666666666666E-2},1,{"$f":"IF(Paramètres!C6=0,\"\",Paramètres!C6)","v":""},{"$f":"IF(L6<>0,L6+IF(AND(K6<>\"\",J6<N$5),K6,0),IF(AND(K6<>\"\",J6<N$5),K6,0))","v":0},{"$f":"IF(N7<>\"/\",IF(P$5=\"Error\",\"Error\",$Q$5+L7),\"/\")","v":1},{"$f":"IF(P$5=\"Error\",\"Error\",IF(AND($N$5<>\"/\",$N$5>'Paramètres - Admin'!$A2),'Paramètres - Admin'!$A3,\"/\"))","v":1},{"$f":"IF(N7<>\"/\",VLOOKUP(N7,COSTS_Elixir_Collector[#All],2),\"/\")","v":150},{"$f":"IF(N7<>\"/\",VLOOKUP(N7,COSTS_Elixir_Collector[#All],3),\"/\")","v":1.6666666666666666E-2},{"$f":"IF(P$5=\"Error\",\"Error\",IF(O7<>\"/\",M7*O7,0))","v":150},{"$f":"IF(P$5=\"Error\",\"Error\",IF(P7<>\"/\",M7*P7,0))","v":1.6666666666666666E-2}]
[2,{"$f":"IF(Paramètres!B7=0,\"\",Paramètres!B7)","v":""},{"$f":"IF(C7<>0,C7+IF(AND(B7<>\"\",A7<E$5),B7,0),IF(AND(B7<>\"\",A7<E$5),B7,0))","v":0},1,{"$f":"IF(G$5=\"Error\",\"Error\",IF(AND($E$5<>\"/\",$E$5>'Paramètres - Admin'!$A3),'Paramètres - Admin'!$A4,\"/\"))","v":2},{"$f":"IF(E8<>\"/\",VLOOKUP(E8,COSTS_Gold_Mine[#All],2),\"/\")","v":300},{"$f":"IF(E8<>\"/\",VLOOKUP(E8,COSTS_Gold_Mine[#All],3),\"/\")","v":8.3333333333333329E-2},300,8.3333333333333329E-2,2,{"$f":"IF(Paramètres!C7=0,\"\",Paramètres!C7)","v":""},{"$f":"IF(L7<>0,L7+IF(AND(K7<>\"\",J7<N$5),K7,0),IF(AND(K7<>\"\",J7<N$5),K7,0))","v":0},1,{"$f":"IF(P$5=\"Error\",\"Error\",IF(AND($N$5<>\"/\",$N$5>'Paramètres - Admin'!$A3),'Paramètres - Admin'!$A4,\"/\"))","v":2},{"$f":"IF(N8<>\"/\",VLOOKUP(N8,COSTS_Elixir_Collector[#All],2),\"/\")","v":300},{"$f":"IF(N8<>\"/\",VLOOKUP(N8,COSTS_Elixir_Collector[#All],3),\"/\")","v":8.3333333333333329E-2},300,8.3333333333333329E-2]
[3,{"$f":"IF(Paramètres!B8=0,\"\",Paramètres!B8)","v":""},0,"/",{"$f":"IF(G$5=\"Error\",\"Error\",IF(AND($E$5<>\"/\",$E$5>'Paramètres - Admin'!$A4),'Paramètres - Admin'!$A5,\"/\"))","v":"/"},{"$f":"IF(E9<>\"/\",VLOOKUP(E9,COSTS_Gold_Mine[#All],2),\"/\")","v":"/"},{"$f":"IF(E9<>\"/\",VLOOKUP(E9,COSTS_Gold_Mine[#All],3),\"/\")","v":"/"},0,0,3,{"$f":"IF(Paramètres!C8=0,\"\",Paramètres!C8)","v":""},0,"/",{"$f":"IF(P$5=\"Error\",\"Error\",IF(AND($N$5<>\"/\",$N$5>'Paramètres - Admin'!$A4),'Paramètres - Admin'!$A5,\"/\"))","v":"/"},{"$f":"IF(N9<>\"/\",VLOOKUP(N9,COSTS_Elixir_Collector[#All],2),\"/\")","v":"/"},{"$f":"IF(N9<>\"/\",VLOOKUP(N9,COSTS_Elixir_Collector[#All],3),\"/\")","v":"/"},0,0]
[4,{"$f":"IF(Paramètres!B9=0,\"\",Paramètres!B9)","v":""},0,"/",{"$f":"IF(G$5=\"Error\",\"Error\",IF(AND($E$5<>\"/\",$E$5>'Paramètres - Admin'!$A5),'Paramètres - Admin'!$A6,\"/\"))","v":"/"},{"$f":"IF(E10<>\"/\",VLOOKUP(E10,COSTS_Gold_Mine[#All],2),\"/\")","v":"/"},{"$f":"IF(E10<>\"/\",VLOOKUP(E10,COSTS_Gold_Mine[#All],3),\"/\")","v":"/"},0,0,4,{"$f":"IF(Paramètres!C9=0,\"\",Paramètres!C9)","v":""},0,"/",{"$f":"IF(P$5=\"Error\",\"Error\",IF(AND($N$5<>\"/\",$N$5>'Paramètres - Admin'!$A5),'Paramètres - Admin'!$A6,\"/\"))","v":"/"},{"$f":"IF(N10<>\"/\",VLOOKUP(N10,COSTS_Elixir_Collector[#All],2),\"/\")","v":"/"},{"$f":"IF(N10<>\"/\",VLOOKUP(N10,COSTS_Elixir_Collector[#All],3),\"/\")","v":"/"},0,0]
[5,{"$f":"IF(Paramètres!B10=0,\"\",Paramètres!B10)","v":""},0,"/",{"$f":"IF(G$5=\"Error\",\"Error\",IF(AND($E$5<>\"/\",$E$5>'Paramètres - Admin'!$A6),'Paramètres - Admin'!$A7,\"/\"))","v":"/"},{"$f":"IF(E11<>\"/\",VLOOKUP(E11,COSTS_Gold_Mine[#All],2),\"/\")","v":"/"},{"$f":"IF(E11<>\"/\",VLOOKUP(E11,COSTS_Gold_Mine[#All],3),\"/\")","v":"/"},0,0,5,{"$f":"IF(Paramètres!C10=0,\"\",Paramètres!C10)","v":""},0,"/",{"$f":"IF(P$5=\"Error\",\"Error\",IF(AND($N$5<>\"/\",$N$5>'Paramètres - Admin'!$A6),'Paramètres - Admin'!$A7,\"/\"))","v":"/"},{"$f":"IF(N11<>\"/\",VLOOKUP(N11,COSTS_Elixir_Collector[#All],2),\"/\")","v":"/"},{"$f":"IF(N11<>\"/\",VLOOKUP(N11,COSTS_Elixir_Collector[#All],3),\"/\")","v":"/"},0,0]
[6,{"$f":"IF(Paramètres!B11=0,\"\",Paramètres!B11)","v":""},0,"/",{"$f":"IF(G$5=\"Error\",\"Error\",IF(AND($E$5<>\"/\",$E$5>'Paramètres - Admin'!$A7),'Paramètres - Admin'!$A8,\"/\"))","v":"/"},{"$f":"IF(E12<>\"/\",VLOOKUP(E12,COSTS_Gold_Mine[#All],2),\"/\")","v":"/"},{"$f":"IF(E12<>\"/\",VLOOKUP(E12,COSTS_Gold_Mine[#All],3),\"/\")","v":"/"},0,0,6,{"$f":"IF(Paramètres!C11=0,\"\",Paramètres!C11)","v":""},0,"/",{"$f":"IF(P$5=\"Error\",\"Error\",IF(AND($N$5<>\"/\",$N$5>'Paramètres - Admin'!$A7),'Paramètres - Admin'!$A8,\"/\"))","v":"/"},{"$f":"IF(N12<>\"/\",VLOOKUP(N12,COSTS_Elixir_Collector[#All],2),\"/\")","v":"/"},{"$f":"IF(N12<>\"/\",VLOOKUP(N12,COSTS_Elixir_Collector[#All],3),\"/\")","v":"/"},0,0]
[7,{"$f":"IF(Paramètres!B12=0,\"\",Paramètres!B12)","v":""},0,"/",{"$f":"IF(G$5=\"Error\",\"Error\",IF(AND($E$5<>\"/\",$E$5>'Paramètres - Admin'!$A8),'Paramètres - Admin'!$A9,\"/\"))","v":"/"},{"$f":"IF(E13<>\"/\",VLOOKUP(E13,COSTS_Gold_Mine[#All],2),\"/\")","v":"/"},{"$f":"IF(E13<>\"/\",VLOOKUP(E13,COSTS_Gold_Mine[#All],3),\"/\")","v":"/"},0,0,7,{"$f":"IF(Paramètres!C12=0,\"\",Paramètres!C12)","v":""},0,"/",{"$f":"IF(P$5=\"Error\",\"Error\",IF(AND($N$5<>\"/\",$N$5>'Paramètres - Admin'!$A8),'Paramètres - Admin'!$A9,\"/\"))","v":"/"},{"$f":"IF(N13<>\"/\",VLOOKUP(N13,COSTS_Elixir_Collector[#All],2),\"/\")","v":"/"},{"$f":"IF(N13<>\"/\",VLOOKUP(N13,COSTS_Elixir_Collector[#All],3),\"/\")","v":"/"},0,0]
[8,{"$f":"IF(Paramètres!B13=0,\"\",Paramètres!B13)","v":""},0,"/",{"$f":"IF(G$5=\"Error\",\"Error\",IF(AND($E$5<>\"/\",$E$5>'Paramètres - Admin'!$A9),'Paramètres - Admin'!$A10,\"/\"))","v":"/"},{"$f":"IF(E14<>\"/\",VLOOKUP(E14,COSTS_Gold_Mine[#All],2),\"/\")","v":"/"},{"$f":"IF(E14<>\"/\",VLOOKUP(E14,COSTS_Gold_Mine[#All],3),\"/\")","v":"/"},0,0,8,{"$f":"IF(Paramètres!C13=0,\"\",Paramètres!C13)","v":""},0,"/",{"$f":"IF(P$5=\"Error\",\"Error\",IF(AND($N$5<>\"/\",$N$5>'Paramètres - Admin'!$A9),'Paramètres - Admin'!$A10,\"/\"))","v":"/"},{"$f":"IF(N14<>\"/\",VLOOKUP(N14,COSTS_Elixir_Collector[#All],2),\"/\")","v":"/"},{"$f":"IF(N14<>\"/\",VLOOKUP(N14,COSTS_Elixir_Collector[#All],3),\"/\")","v":"/"},0,0]
[9,{"$f":"IF(Paramètres!B14=0,\"\",Paramètres!B14)","v":""},0,"/",{"$f":"IF(G$5=\"Error\",\"Error\",IF(AND($E$5<>\"/\",$E$5>'Paramètres - Admin'!$A10),'Paramètres - Admin'!$A11,\"/\"))","v":"/"},{"$f":"IF(E15<>\"/\",VLOOKUP(E15,COSTS_Gold_Mine[#All],2),\"/\")","v":"/"},{"$f":"IF(E15<>\"/\",VLOOKUP(E15,COSTS_Gold_Mine[#All],3),\"/\")","v":"/"},0,0,9,{"$f":"IF(Paramètres!C14=0,\"\",Paramètres!C14)","v":""},0,"/",{"$f":"IF(P$5=\"Error\",\"Error\",IF(AND($N$5<>\"/\",$N$5>'Paramètres - Admin'!$A10),'Paramètres - Admin'!$A11,\"/\"))","v":"/"},{"$f":"IF(N15<>\"/\",VLOOKUP(N15,COSTS_Elixir_Collector[#All],2),\"/\")","v":"/"},{"$f":"IF(N15<>\"/\",VLOOKUP(N15,COSTS_Elixir_Collector[#All],3),\"/\")","v":"/"},0,0]
[10,{"$f":"IF(Paramètres!B15=0,\"\",Paramètres!B15)","v":""},0,"/",{"$f":"IF(G$5=\"Error\",\"Error\",IF(AND($E$5<>\"/\",$E$5>'Paramètres - Admin'!$A11),'Paramètres - Admin'!$A12,\"/\"))","v":"/"},{"$f":"IF(E16<>\"/\",VLOOKUP(E16,COSTS_Gold_Mine[#All],2),\"/\")","v":"/"},{"$f":"IF(E16<>\"/\",VLOOKUP(E16,COSTS_Gold_Mine[#All],3),\"/\")","v":"/"},0,0,10,{"$f":"IF(Paramètres!C15=0,\"\",Paramètres!C15)","v":""},0,"/",{"$f":"IF(P$5=\"Error\",\"Error\",IF(AND($N$5<>\"/\",$N$5>'Paramètres - Admin'!$A11),'Paramètres - Admin'!$A12,\"/\"))","v":"/"},{"$f":"IF(N16<>\"/\",VLOOKUP(N16,COSTS_Elixir_Collector[#All],2),\"/\")","v":"/"},{"$f":"IF(N16<>\"/\",VLOOKUP(N16,COSTS_Elixir_Collector[#All],3),\"/\")","v":"/"},0,0]
[11,{"$f":"IF(Paramètres!B16=0,\"\",Paramètres!B16)","v":""},0,"/",{"$f":"IF(G$5=\"Error\",\"Error\",IF(AND($E$5<>\"/\",$E$5>'Paramètres - Admin'!$A12),'Paramètres - Admin'!$A13,\"/\"))","v":"/"},{"$f":"IF(E17<>\"/\",VLOOKUP(E17,COSTS_Gold_Mine[#All],2),\"/\")","v":"/"},{"$f":"IF(E17<>\"/\",VLOOKUP(E17,COSTS_Gold_Mine[#All],3),\"/\")","v":"/"},0,0,11,{"$f":"IF(Paramètres!C16=0,\"\",Paramètres!C16)","v":""},{"$f":"IF(L16<>0,L16+IF(AND(K16<>\"\",J16<N$5),K16,0),IF(AND(K16<>\"\",J16<N$5),K16,0))","v":0},"/",{"$f":"IF(P$5=\"Error\",\"Error\",IF(AND($N$5<>\"/\",$N$5>'Paramètres - Admin'!$A12),'Paramètres - Admin'!$A13,\"/\"))","v":"/"},{"$f":"IF(N17<>\"/\",VLOOKUP(N17,COSTS_Elixir_Collector[#All],2),\"/\")","v":"/"},{"$f":"IF(N17<>\"/\",VLOOKUP(N17,COSTS_Elixir_Collector[#All],3),\"/\")","v":"/"},0,0]
[12,{"$f":"IF(Paramètres!B17=0,\"\",Paramètres!B17)","v":""},{"$f":"IF(C17<>0,C17+IF(AND(B17<>\"\",A17<E$5),B17,0),IF(AND(B17<>\"\",A17<E$5),B17,0))","v":0},"/",{"$f":"IF(G$5=\"Error\",\"Error\",IF(AND($E$5<>\"/\",$E$5>'Paramètres - Admin'!$A13),'Paramètres - Admin'!$A14,\"/\"))","v":"/"},{"$f":"IF(E18<>\"/\",VLOOKUP(E18,COSTS_Gold_Mine[#All],2),\"/\")","v":"/"},{"$f":"IF(E18<>\"/\",VLOOKUP(E18,COSTS_Gold_Mine[#All],3),\"/\")","v":"/"},0,0,12,{"$f":"IF(Paramètres!C17=0,\"\",Paramètres!C17)","v":""},{"$f":"IF(L17<>0,L17+IF(AND(K17<>\"\",J17<N$5),K17,0),IF(AND(K17<>\"\",J17<N$5),K17,0))","v":0},"/",{"$f":"IF(P$5=\"Error\",\"Error\",IF(AND($N$5<>\"/\",$N$5>'Paramètres - Admin'!$A13),'Paramètres - Admin'!$A14,\"/\"))","v":"/"},{"$f":"IF(N18<>\"/\",VLOOKUP(N18,COSTS_Elixir_Collector[#All],2),\"/\")","v":"/"},{"$f":"IF(N18<>\"/\",VLOOKUP(N18,COSTS_Elixir_Collector[#All],3),\"/\")","v":"/"},0,0]
[null,null,null,null,null,null,"Total",{"$f":"IF(G$5=\"Error\",\"Error\",SUM(H7:H18))","v":450},{"$f":"IF(G$5=\"Error\",\"Error\",SUM(I7:I18))","v":9.9999999999999992E-2},null,null,null,null,null,null,"Total",{"$f":"IF(P$5=\"Error\",\"Error\",SUM(Q7:Q18))","v":450},{"$f":"IF(P$5=\"Error\",\"Error\",SUM(R7:R18))","v":9.9999999999999992E-2}]
["Réserve d'Or",null,null,"Max","Max +",null,"Actuel","À Faire","Améliorations","Réservoir d'Élixir",null,null,"Max","Max +",null,"Actuel","À Faire","Améliorations"]
[null,null,null,{"$f":"VLOOKUP($A$2,AVAILABLE_Buildings_Resource[#All],MATCH(A20,AVAILABLE_Buildings_Resource[#Headers],0))","v":1},{"$f":"VLOOKUP($A$2,AVAILABLE_Buildings_Resource[#All],MATCH(A20,AVAILABLE_Buildings_Resource[#Headers],0)+1)","v":1},null,{"$f":"IF(SUM(B23:B34)>D21,\"Error\",SUM(B23:B34))","v":0},{"$f":"IF(G$21=\"Error\",\"Error\",D21-G21)","v":1},{"$f":"IF(G$21=\"Error\",\"Error\",SUM(D23:D33))","v":1},null,null,null,{"$f":"VLOOKUP($A$2,AVAILABLE_Buildings_Resource[#All],MATCH(J20,AVAILABLE_Buildings_Resource[#Headers],0))","v":1},{"$f":"VLOOKUP($A$2,AVAILABLE_Buildings_Resource[#All],MATCH(J20,AVAILABLE_Buildings_Resource[#Headers],0)+1)","v":1},null,{"$f":"IF(SUM(K23:K34)>M21,\"Error\",SUM(K23:K34))","v":0},{"$f":"IF(P$21=\"Error\",\"Error\",M21-P21)","v":1},{"$f":"IF(P$21=\"Error\",\"Error\",SUM(M23:M33))","v":1}]
["+","NB",null,"NB","+","Coût","Temps","Coût Total","Temps Total","+","NB",null,"NB","+","Coût","Temps","Coût Total","Temps Total"]
[1,{"$f":"IF(Paramètres!E6=0,\"\",Paramètres!E6)","v":""},{"$f":"IF(C22<>0,C22+IF(AND(B22<>\"\",A22<E$21),B22,0),IF(AND(B22<>\"\",A22<E$21),B22,0))","v":0},{"$f":"IF(E23<>\"/\",IF(G$21=\"Error\",\"Error\",$H$21+C23),\"/\")","v":1},{"$f":"IF(G$21=\"Error\",\"Error\",IF(AND($E$21<>\"/\",$E$21>'Paramètres - Admin'!$A2),'Paramètres - Admin'!$A3,\"/\"))","v":1},{"$f":"IF(E23<>\"/\",VLOOKUP(E23,COSTS_Gold_Storage[#All],2),\"/\")","v":300},{"$f":"IF(E23<>\"/\",VLOOKUP(E23,COSTS_Gold_Storage[#All],3),\"/\")","v":0.25},{"$f":"IF(G$21=\"Error\",\"Error\",IF(F23<>\"/\",D23*F23,0))","v":300},{"$f":"IF(G$21=\"Error\",\"Error\",IF(G23<>\"/\",D23*G23,0))","v":0.25},1,{"$f":"IF(Paramètres!F6=0,\"\",Paramètres!F6)","v":""},{"$f":"IF(L22<>0,L22+IF(AND(K22<>\"\",J22<N$21),K22,0),IF(AND(K22<>\"\",J22<N$21),K22,0))","v":0},{"$f":"IF(N23<>\"/\",IF(P$21=\"Error\",\"Error\",$Q$21+L23),\"/\")","v":1},{"$f":"IF(P$21=\"Error\",\"Error\",IF(AND($N$21<>\"/\",$N$21>'Paramètres - Admin'!$A2),'Paramètres - Admin'!$A3,\"/\"))","v":1},{"$f":"IF(N23<>\"/\",VLOOKUP(N23,COSTS_Elixir_Storage[#All],2),\"/\")","v":300},{"$f":"IF(N23<>\"/\",VLOOKUP(N23,COSTS_Elixir_Storage[#All],3),\"/\")","v":0.25},{"$f":"IF(P$21=\"Error\",\"Error\",IF(O23<>\"/\",M23*O23,0))","v":300},{"$f":"IF(P$21=\"Error\",\"Error\",IF(P23<>\"/\",M23*P23,0))","v":0.25}]
[2,{"$f":"IF(Paramètres!E7=0,\"\",Paramètres!E7)","v":""},0,"/",{"$f":"IF(G$21=\"Error\",\"Error\",IF(AND($E$21<>\"/\",$E$21>'Paramètres - Admin'!$A3),'Paramètres - Admin'!$A4,\"/\"))","v":"/"},{"$f":"IF(E24<>\"/\",VLOOKUP(E24,COSTS_Gold_Storage[#All],2),\"/\")","v":"/"},{"$f":"IF(E24<>\"/\",VLOOKUP(E24,COSTS_Gold_Storage[#All],3),\"/\")","v":"/"},0,0,2,{"$f":"IF(Paramètres!F7=0,\"\",Paramètres!F7)","v":""},{"$f":"IF(L23<>0,L23+IF(AND(K23<>\"\",J23<N$21),K23,0),IF(AND(K23<>\"\",J23<N$21),K23,0))","v":0},"/",{"$f":"IF(P$21=\"Error\",\"Error\",IF(AND($N$21<>\"/\",$N$21>'Paramètres - Admin'!$A3),'Paramètres - Admin'!$A4,\"/\"))","v":"/"},{"$f":"IF(N24<>\"/\",VLOOKUP(N24,COSTS_Elixir_Storage[#All],2),\"/\")","v":"/"},{"$f":"IF(N24<>\"/\",VLOOKUP(N24,COSTS_Elixir_Storage[#All],3),\"/\")","v":"/"},0,0]
[3,{"$f":"IF(Paramètres!E8=0,\"\",Paramètres!E8)","v":""},0,"/",{"$f":"IF(G$21=\"Error\",\"Error\",IF(AND($E$21<>\"/\",$E$21>'Paramètres - Admin'!$A4),'Paramètres - Admin'!$A5,\"/\"))","v":"/"},{"$f":"IF(E25<>\"/\",VLOOKUP(E25,COSTS_Gold_Storage[#All],2),\"/\")","v":"/"},{"$f":"IF(E25<>\"/\",VLOOKUP(E25,COSTS_Gold_Storage[#All],3),\"/\")","v":"/"},0,0,3,{"$f":"IF(Paramètres!F8=0,\"\",Paramètres!F8)","v":""},0,"/",{"$f":"IF(P$21=\"Error\",\"Error\",IF(AND($N$21<>\"/\",$N$21>'Paramètres - Admin'!$A4),'Paramètres - Admin'!$A5,\"/\"))","v":"/"},{"$f":"IF(N25<>\"/\",VLOOKUP(N25,COSTS_Elixir_Storage[#All],2),\"/\")","v":"/"},{"$f":"IF(N25<>\"/\",VLOOKUP(N25,COSTS_Elixir_Storage[#All],3),\"/\")","v":"/"},0,0]
[4,{"$f":"IF(Paramètres!E9=0,\"\",Paramètres!E9)","v":""},0,"/",{"$f":"IF(G$21=\"Error\",\"Error\",IF(AND($E$21<>\"/\",$E$21>'Paramètres - Admin'!$A5),'Paramètres - Admin'!$A6,\"/\"))","v":"/"},{"$f":"IF(E26<>\"/\",VLOOKUP(E26,COSTS_Gold_Storage[#All],2),\"/\")","v":"/"},{"$f":"IF(E26<>\"/\",VLOOKUP(E26,COSTS_Gold_Storage[#All],3),\"/\")","v":"/"},0,0,4,{"$f":"IF(Paramètres!F9=0,\"\",Paramètres!F9)","v":""},0,"/",{"$f":"IF(P$21=\"Error\",\"Error\",IF(AND($N$21<>\"/\",$N$21>'Paramètres - Admin'!$A5),'Paramètres - Admin'!$A6,\"/\"))","v":"/"},{"$f":"IF(N26<>\"/\",VLOOKUP(N26,COSTS_Elixir_Storage[#All],2),\"/\")","v":"/"},{"$f":"IF(N26<>\"/\",VLOOKUP(N26,COSTS_Elixir_Storage[#All],3),\"/\")","v":"/"},0,0]
[5,{"$f":"IF(Paramètres!E10=0,\"\",Paramètres!E10)","v":""},0,"/",{"$f":"IF(G$21=\"Error\",\"Error\",IF(AND($E$21<>\"/\",$E$21>'Paramètres - Admin'!$A6),'Paramètres - Admin'!$A7,\"/\"))","v":"/"},{"$f":"IF(E27<>\"/\",VLOOKUP(E27,COSTS_Gold_Storage[#All],2),\"/\")","v":"/"},{"$f":"IF(E27<>\"/\",VLOOKUP(E27,COSTS_Gold_Storage[#All],3),\"/\")","v":"/"},0,0,5,{"$f":"IF(Paramètres!F10=0,\"\",Paramètres!F10)","v":""},0,"/",{"$f":"IF(P$21=\"Error\",\"Error\",IF(AND($N$21<>\"/\",$N$21>'Paramètres - Admin'!$A6),'Paramètres - Admin'!$A7,\"/\"))","v":"/"},{"$f":"IF(N27<>\"/\",VLOOKUP(N27,COSTS_Elixir_Storage[#All],2),\"/\")","v":"/"},{"$f":"IF(N27<>\"/\",VLOOKUP(N27,COSTS_Elixir_Storage[#All],3),\"/\")","v":"/"},0,0]
[6,{"$f":"IF(Paramètres!E11=0,\"\",Paramètres!E11)","v":""},0,"/",{"$f":"IF(G$21=\"Error\",\"Error\",IF(AND($E$21<>\"/\",$E$21>'Paramètres - Admin'!$A7),'Paramètres - Admin'!$A8,\"/\"))","v":"/"},{"$f":"IF(E28<>\"/\",VLOOKUP(E28,COSTS_Gold_Storage[#All],2),\"/\")","v":"/"},{"$f":"IF(E28<>\"/\",VLOOKUP(E28,COSTS_Gold_Storage[#All],3),\"/\")","v":"/"},0,0,6,{"$f":"IF(Paramètres!F11=0,\"\",Paramètres!F11)","v":""},0,"/",{"$f":"IF(P$21=\"Error\",\"Error\",IF(AND($N$21<>\"/\",$N$21>'Paramètres - Admin'!$A7),'Paramètres - Admin'!$A8,\"/\"))","v":"/"},{"$f":"IF(N28<>\"/\",VLOOKUP(N28,COSTS_Elixir_Storage[#All],2),\"/\")","v":"/"},{"$f":"IF(N28<>\"/\",VLOOKUP(N28,COSTS_Elixir_Storage[#All],3),\"/\")","v":"/"},0,0]
[7,{"$f":"IF(Paramètres!E12=0,\"\",Paramètres!E12)","v":""},0,"/",{"$f":"IF(G$21=\"Error\",\"Error\",IF(AND($E$21<>\"/\",$E$21>'Paramètres - Admin'!$A8),'Paramètres - Admin'!$A9,\"/\"))","v":"/"},{"$f":"IF(E29<>\"/\",VLOOKUP(E29,COSTS_Gold_Storage[#All],2),\"/\")","v":"/"},{"$f":"IF(E29<>\"/\",VLOOKUP(E29,COSTS_Gold_Storage[#All],3),\"/\")","v":"/"},0,0,7,{"$f":"IF(Paramètres!F12=0,\"\",Paramètres!F12)","v":""},0,"/",{"$f":"IF(P$21=\"Error\",\"Error\",IF(AND($N$21<>\"/\",$N$21>'Paramètres - Admin'!$A8),'Paramètres - Admin'!$A9,\"/\"))","v":"/"},{"$f":"IF(N29<>\"/\",VLOOKUP(N29,COSTS_Elixir_Storage[#All],2),\"/\")","v":"/"},{"$f":"IF(N29<>\"/\",VLOOKUP(N29,COSTS_Elixir_Storage[#All],3),\"/\")","v":"/"},0,0]
[8,{"$f":"IF(Paramètres!E13=0,\"\",Paramètres!E13)","v":""},0,"/",{"$f":"IF(G$21=\"Error\",\"Error\",IF(AND($E$21<>\"/\",$E$21>'Paramètres - Admin'!$A9),'Paramètres - Admin'!$A10,\"/\"))","v":"/"},{"$f":"IF(E30<>\"/\",VLOOKUP(E30,COSTS_Gold_Storage[#All],2),\"/\")","v":"/"},{"$f":"IF(E30<>\"/\",VLOOKUP(E30,COSTS_Gold_Storage[#All],3),\"/\")","v":"/"},0,0,8,{"$f":"IF(Paramètres!F13=0,\"\",Paramètres!F13)","v":""},0,"/",{"$f":"IF(P$21=\"Error\",\"Error\",IF(AND($N$21<>\"/\",$N$21>'Paramètres - Admin'!$A9),'Paramètres - Admin'!$A10,\"/\"))","v":"/"},{"$f":"IF(N30<>\"/\",VLOOKUP(N30,COSTS_Elixir_Storage[#All],2),\"/\")","v":"/"},{"$f":"IF(N30<>\"/\",VLOOKUP(N30,COSTS_Elixir_Storage[#All],3),\"/\")","v":"/"},0,0]
[9,{"$f":"IF(Paramètres!E14=0,\"\",Paramètres!E14)","v":""},0,"/",{"$f":"IF(G$21=\"Error\",\"Error\",IF(AND($E$21<>\"/\",$E$21>'Paramètres - Admin'!$A10),'Paramètres - Admin'!$A11,\"/\"))","v":"/"},{"$f":"IF(E31<>\"/\",VLOOKUP(E31,COSTS_Gold_Storage[#All],2),\"/\")","v":"/"},{"$f":"IF(E31<>\"/\",VLOOKUP(E31,COSTS_Gold_Storage[#All],3),\"/\")","v":"/"},0,0,9,{"$f":"IF(Paramètres!F14=0,\"\",Paramètres!F14)","v":""},0,"/",{"$f":"IF(P$21=\"Error\",\"Error\",IF(AND($N$21<>\"/\",$N$21>'Paramètres - Admin'!$A10),'Paramètres - Admin'!$A11,\"/\"))","v":"/"},{"$f":"IF(N31<>\"/\",VLOOKUP(N31,COSTS_Elixir_Storage[#All],2),\"/\")","v":"/"},{"$f":"IF(N31<>\"/\",VLOOKUP(N31,COSTS_Elixir_Storage[#All],3),\"/\")","v":"/"},0,0]
[10,{"$f":"IF(Paramètres!E15=0,\"\",Paramètres!E15)","v":""},0,"/",{"$f":"IF(G$21=\"Error\",\"Error\",IF(AND($E$21<>\"/\",$E$21>'Paramètres - Admin'!$A11),'Paramètres - Admin'!$A12,\"/\"))","v":"/"},{"$f":"IF(E32<>\"/\",VLOOKUP(E32,COSTS_Gold_Storage[#All],2),\"/\")","v":"/"},{"$f":"IF(E32<>\"/\",VLOOKUP(E32,COSTS_Gold_Storage[#All],3),\"/\")","v":"/"},0,0,10,{"$f":"IF(Paramètres!F15=0,\"\",Paramètres!F15)","v":""},0,"/",{"$f":"IF(P$21=\"Error\",\"Error\",IF(AND($N$21<>\"/\",$N$21>'Paramètres - Admin'!$A11),'Paramètres - Admin'!$A12,\"/\"))","v":"/"},{"$f":"IF(N32<>\"/\",VLOOKUP(N32,COSTS_Elixir_Storage[#All],2),\"/\")","v":"/"},{"$f":"IF(N32<>\"/\",VLOOKUP(N32,COSTS_Elixir_Storage[#All],3),\"/\")","v":"/"},0,0]
[11,{"$f":"IF(Paramètres!E16=0,\"\",Paramètres!E16)","v":""},0,"/",{"$f":"IF(G$21=\"Error\",\"Error\",IF(AND($E$21<>\"/\",$E$21>'Paramètres - Admin'!$A12),'Paramètres - Admin'!$A13,\"/\"))","v":"/"},{"$f":"IF(E33<>\"/\",VLOOKUP(E33,COSTS_Gold_Storage[#All],2),\"/\")","v":"/"},{"$f":"IF(E33<>\"/\",VLOOKUP(E33,COSTS_Gold_Storage[#All],3),\"/\")","v":"/"},0,0,11,{"$f":"IF(Paramètres!F16=0,\"\",Paramètres!F16)","v":""},0,"/",{"$f":"IF(P$21=\"Error\",\"Error\",IF(AND($N$21<>\"/\",$N$21>'Paramètres - Admin'!$A12),'Paramètres - Admin'!$A13,\"/\"))","v":"/"},{"$f":"IF(N33<>\"/\",VLOOKUP(N33,COSTS_Elixir_Storage[#All],2),\"/\")","v":"/"},{"$f":"IF(N33<>\"/\",VLOOKUP(N33,COSTS_Elixir_Storage[#All],3),\"/\")","v":"/"},0,0]
[12,{"$f":"IF(Paramètres!E17=0,\"\",Paramètres!E17)","v":""},0,"/",{"$f":"IF(G$21=\"Error\",\"Error\",IF(AND($E$21<>\"/\",$E$21>'Paramètres - Admin'!$A13),'Paramètres - Admin'!$A14,\"/\"))","v":"/"},{"$f":"IF(E34<>\"/\",VLOOKUP(E34,COSTS_Gold_Storage[#All],2),\"/\")","v":"/"},{"$f":"IF(E34<>\"/\",VLOOKUP(E34,COSTS_Gold_Storage[#All],3),\"/\")","v":"/"},0,0,12,{"$f":"IF(Paramètres!F17=0,\"\",Paramètres!F17)","v":""},{"$f":"IF(L33<>0,L33+IF(AND(K33<>\"\",J33<N$21),K33,0),IF(AND(K33<>\"\",J33<N$21),K33,0))","v":0},"/",{"$f":"IF(P$21=\"Error\",\"Error\",IF(AND($N$21<>\"/\",$N$21>'Paramètres - Admin'!$A13),'Paramètres - Admin'!$A14,\"/\"))","v":"/"},{"$f":"IF(N34<>\"/\",VLOOKUP(N34,COSTS_Elixir_Storage[#All],2),\"/\")","v":"/"},{"$f":"IF(N34<>\"/\",VLOOKUP(N34,COSTS_Elixir_Storage[#All],3),\"/\")","v":"/"},0,0]
[null,null,null,null,null,null,"Total",{"$f":"IF(G$21=\"Error\",\"Error\",SUM(H23:H33))","v":300},{"$f":"IF(G$21=\"Error\",\"Error\",SUM(I23:I33))","v":0.25},null,null,null,null,null,null,"Total",{"$f":"IF(P$21=\"Error\",\"Error\",SUM(Q23:Q33))","v":300},{"$f":"IF(P$21=\"Error\",\"Error\",SUM(R23:R33))","v":0.25}]
["Foreuse d'Élixir Noir",null,null,"Max","Max +",null,"Actuel","À Faire","Améliorations","Réservoir d'Élixir Noir",null,null,"Max","Max +",null,"Actuel","À Faire","Améliorations"]
[null,null,null,{"$f":"VLOOKUP($A$2,AVAILABLE_Buildings_Resource[#All],MATCH(A36,AVAILABLE_Buildings_Resource[#Headers],0))","v":0},{"$f":"VLOOKUP($A$2,AVAILABLE_Buildings_Resource[#All],MATCH(A36,AVAILABLE_Buildings_Resource[#Headers],0)+1)","v":0},null,{"$f":"IF(SUM(B39:B44)>D37,\"Error\",SUM(B39:B44))","v":0},{"$f":"IF(G$37=\"Error\",\"Error\",D37-G37)","v":0},{"$f":"IF(G$37=\"Error\",\"Error\",SUM(D39:D44))","v":0},null,null,null,{"$f":"VLOOKUP($A$2,AVAILABLE_Buildings_Resource[#All],MATCH(J36,AVAILABLE_Buildings_Resource[#Headers],0))","v":0},{"$f":"VLOOKUP($A$2,AVAILABLE_Buildings_Resource[#All],MATCH(J36,AVAILABLE_Buildings_Resource[#Headers],0)+1)","v":0},null,{"$f":"IF(SUM(K39:K44)>M37,\"Error\",SUM(K39:K44))","v":0},{"$f":"IF(P$37=\"Error\",\"Error\",M37-P37)","v":0},{"$f":"IF(P$37=\"Error\",\"Error\",SUM(M39:M44))","v":0}]
["+","NB",null,"NB","+","Coût","Temps","Coût Total","Temps Total","+","NB",null,"NB","+","Coût","Temps","Coût Total","Temps Total"]
[1,{"$f":"IF(Paramètres!D6=0,\"\",Paramètres!D6)","v":""},{"$f":"IF(C38<>0,C38+IF(AND(B38<>\"\",A38<E$37),B38,0),IF(AND(B38<>\"\",A38<E$37),B38,0))","v":0},{"$f":"IF(E39<>\"/\",IF(G$37=\"Error\",\"Error\",$H$37+C39),\"/\")","v":"/"},{"$f":"IF(G$37=\"Error\",\"Error\",IF(AND($E$37<>\"/\",$E$37>'Paramètres - Admin'!$A2),'Paramètres - Admin'!$A3,\"/\"))","v":"/"},{"$f":"IF(E39<>\"/\",VLOOKUP(E39,COSTS_Dark_Elixir_Drill[#All],2),\"/\")","v":"/"},{"$f":"IF(E39<>\"/\",VLOOKUP(E39,COSTS_Dark_Elixir_Drill[#All],3),\"/\")","v":"/"},{"$f":"IF(G$37=\"Error\",\"Error\",IF(F39<>\"/\",D39*F39,0))","v":0},{"$f":"IF(G$37=\"Error\",\"Error\",IF(G39<>\"/\",D39*G39,0))","v":0},1,{"$f":"IF(Paramètres!G6=0,\"\",Paramètres!G6)","v":""},{"$f":"IF(L38<>0,L38+IF(AND(K38<>\"\",J38<N$37),K38,0),IF(AND(K38<>\"\",J38<N$37),K38,0))","v":0},{"$f":"IF(N39<>\"/\",IF(P$37=\"Error\",\"Error\",$Q$37+L39),\"/\")","v":"/"},{"$f":"IF(P$37=\"Error\",\"Error\",IF(AND($N$37<>\"/\",$N$37>'Paramètres - Admin'!$A2),'Paramètres - Admin'!$A3,\"/\"))","v":"/"},{"$f":"IF(N39<>\"/\",VLOOKUP(N39,COSTS_Dark_Elixir_Storage[#All],2),\"/\")","v":"/"},{"$f":"IF(N39<>\"/\",VLOOKUP(N39,COSTS_Dark_Elixir_Storage[#All],3),\"/\")","v":"/"},{"$f":"IF(P$37=\"Error\",\"Error\",IF(O39<>\"/\",M39*O39,0))","v":0},{"$f":"IF(P$37=\"Error\",\"Error\",IF(P39<>\"/\",M39*P39,0))","v":0}]
[2,{"$f":"IF(Paramètres!D7=0,\"\",Paramètres!D7)","v":""},0,"/",{"$f":"IF(G$37=\"Error\",\"Error\",IF(AND($E$37<>\"/\",$E$37>'Paramètres - Admin'!$A3),'Paramètres - Admin'!$A4,\"/\"))","v":"/"},{"$f":"IF(E40<>\"/\",VLOOKUP(E40,COSTS_Dark_Elixir_Drill[#All],2),\"/\")","v":"/"},{"$f":"IF(E40<>\"/\",VLOOKUP(E40,COSTS_Dark_Elixir_Drill[#All],3),\"/\")","v":"/"},0,0,2,{"$f":"IF(Paramètres!G7=0,\"\",Paramètres!G7)","v":""},0,"/",{"$f":"IF(P$37=\"Error\",\"Error\",IF(AND($N$37<>\"/\",$N$37>'Paramètres - Admin'!$A3),'Paramètres - Admin'!$A4,\"/\"))","v":"/"},{"$f":"IF(N40<>\"/\",VLOOKUP(N40,COSTS_Dark_Elixir_Storage[#All],2),\"/\")","v":"/"},{"$f":"IF(N40<>\"/\",VLOOKUP(N40,COSTS_Dark_Elixir_Storage[#All],3),\"/\")","v":"/"},0,0]
[3,{"$f":"IF(Paramètres!D8=0,\"\",Paramètres!D8)","v":""},0,"/",{"$f":"IF(G$37=\"Error\",\"Error\",IF(AND($E$37<>\"/\",$E$37>'Paramètres - Admin'!$A4),'Paramètres - Admin'!$A5,\"/\"))","v":"/"},{"$f":"IF(E41<>\"/\",VLOOKUP(E41,COSTS_Dark_Elixir_Drill[#All],2),\"/\")","v":"/"},{"$f":"IF(E41<>\"/\",VLOOKUP(E41,COSTS_Dark_Elixir_Drill[#All],3),\"/\")","v":"/"},0,0,3,{"$f":"IF(Paramètres!G8=0,\"\",Paramètres!G8)","v":""},0,"/",{"$f":"IF(P$37=\"Error\",\"Error\",IF(AND($N$37<>\"/\",$N$37>'Paramètres - Admin'!$A4),'Paramètres - Admin'!$A5,\"/\"))","v":"/"},{"$f":"IF(N41<>\"/\",VLOOKUP(N41,COSTS_Dark_Elixir_Storage[#All],2),\"/\")","v":"/"},{"$f":"IF(N41<>\"/\",VLOOKUP(N41,COSTS_Dark_Elixir_Storage[#All],3),\"/\")","v":"/"},0,0]
[4,{"$f":"IF(Paramètres!D9=0,\"\",Paramètres!D9)","v":""},0,"/",{"$f":"IF(G$37=\"Error\",\"Error\",IF(AND($E$37<>\"/\",$E$37>'Paramètres - Admin'!$A5),'Paramètres - Admin'!$A6,\"/\"))","v":"/"},{"$f":"IF(E42<>\"/\",VLOOKUP(E42,COSTS_Dark_Elixir_Drill[#All],2),\"/\")","v":"/"},{"$f":"IF(E42<>\"/\",VLOOKUP(E42,COSTS_Dark_Elixir_Drill[#All],3),\"/\")","v":"/"},0,0,4,{"$f":"IF(Paramètres!G9=0,\"\",Paramètres!G9)","v":""},0,"/",{"$f":"IF(P$37=\"Error\",\"Error\",IF(AND($N$37<>\"/\",$N$37>'Paramètres - Admin'!$A5),'Paramètres - Admin'!$A6,\"/\"))","v":"/"},{"$f":"IF(N42<>\"/\",VLOOKUP(N42,COSTS_Dark_Elixir_Storage[#All],2),\"/\")","v":"/"},{"$f":"IF(N42<>\"/\",VLOOKUP(N42,COSTS_Dark_Elixir_Storage[#All],3),\"/\")","v":"/"},0,0]
[5,{"$f":"IF(Paramètres!D10=0,\"\",Paramètres!D10)","v":""},0,"/",{"$f":"IF(G$37=\"Error\",\"Error\",IF(AND($E$37<>\"/\",$E$37>'Paramètres - Admin'!$A6),'Paramètres - Admin'!$A7,\"/\"))","v":"/"},{"$f":"IF(E43<>\"/\",VLOOKUP(E43,COSTS_Dark_Elixir_Drill[#All],2),\"/\")","v":"/"},{"$f":"IF(E43<>\"/\",VLOOKUP(E43,COSTS_Dark_Elixir_Drill[#All],3),\"/\")","v":"/"},0,0,5,{"$f":"IF(Paramètres!G10=0,\"\",Paramètres!G10)","v":""},0,"/",{"$f":"IF(P$37=\"Error\",\"Error\",IF(AND($N$37<>\"/\",$N$37>'Paramètres - Admin'!$A6),'Paramètres - Admin'!$A7,\"/\"))","v":"/"},{"$f":"IF(N43<>\"/\",VLOOKUP(N43,COSTS_Dark_Elixir_Storage[#All],2),\"/\")","v":"/"},{"$f":"IF(N43<>\"/\",VLOOKUP(N43,COSTS_Dark_Elixir_Storage[#All],3),\"/\")","v":"/"},0,0]
[6,{"$f":"IF(Paramètres!D11=0,\"\",Paramètres!D11)","v":""},0,"/",{"$f":"IF(G$37=\"Error\",\"Error\",IF(AND($E$37<>\"/\",$E$37>'Paramètres - Admin'!$A7),'Paramètres - Admin'!$A8,\"/\"))","v":"/"},{"$f":"IF(E44<>\"/\",VLOOKUP(E44,COSTS_Dark_Elixir_Drill[#All],2),\"/\")","v":"/"},{"$f":"IF(E44<>\"/\",VLOOKUP(E44,COSTS_Dark_Elixir_Drill[#All],3),\"/\")","v":"/"},0,0,6,{"$f":"IF(Paramètres!G11=0,\"\",Paramètres!G11)","v":""},0,"/",{"$f":"IF(P$37=\"Error\",\"Error\",IF(AND($N$37<>\"/\",$N$37>'Paramètres - Admin'!$A7),'Paramètres - Admin'!$A8,\"/\"))","v":"/"},{"$f":"IF(N44<>\"/\",VLOOKUP(N44,COSTS_Dark_Elixir_Storage[#All],2),\"/\")","v":"/"},{"$f":"IF(N44<>\"/\",VLOOKUP(N44,COSTS_Dark_Elixir_Storage[#All],3),\"/\")","v":"/"},0,0]
[null,null,null,null,null,null,"Total",{"$f":"IF(G$37=\"Error\",\"Error\",SUM(H39:H44))","v":0},{"$f":"IF(G$37=\"Error\",\"Error\",SUM(I39:I44))","v":0},null,null,null,null,null,null,"Total",{"$f":"IF(P$37=\"Error\",\"Error\",SUM(Q39:Q44))","v":0},{"$f":"IF(P$37=\"Error\",\"Error\",SUM(R39:R44))","v":0}]
[]
[]
["Bâtiments d'Armée"]
["Caserne",null,null,"Max","Max +",null,"Actuel","À Faire","Améliorations","Laboratoire",null,null,"Max","Max +",null,"Actuel","À Faire","Améliorations"]
[null,null,null,{"$f":"VLOOKUP($A$2,AVAILABLE_Buildings_Army[#All],MATCH(A49,AVAILABLE_Buildings_Army[#Headers],0))","v":1},{"$f":"VLOOKUP($A$2,AVAILABLE_Buildings_Army[#All],MATCH(A49,AVAILABLE_Buildings_Army[#Headers],0)+1)","v":3},null,{"$f":"IF(SUM(B52:B61)>D50,\"Error\",SUM(B52:B61))","v":0},{"$f":"IF(G$50=\"Error\",\"Error\",D50-G50)","v":1},{"$f":"IF(G$50=\"Error\",\"Error\",SUM(D52:D61))","v":3},null,null,null,{"$f":"VLOOKUP($A$2,AVAILABLE_Buildings_Army[#All],MATCH(J49,AVAILABLE_Buildings_Army[#Headers],0))","v":0},{"$f":"VLOOKUP($A$2,AVAILABLE_Buildings_Army[#All],MATCH(J49,AVAILABLE_Buildings_Army[#Headers],0)+1)","v":0},null,{"$f":"IF(SUM(K52:K60)>M50,\"Error\",SUM(K52:K60))","v":0},{"$f":"IF(P$50=\"Error\",\"Error\",M50-P50)","v":0},{"$f":"IF(P$50=\"Error\",\"Error\",SUM(M52:M59))","v":0}]
["+","NB",null,"NB","+","Coût","Temps","Coût Total","Temps Total","+","NB",null,"NB","+","Coût","Temps","Coût Total","Temps Total"]
[1,{"$f":"IF(Paramètres!H6=0,\"\",Paramètres!H6)","v":""},{"$f":"IF(C51<>0,C51+IF(AND(B51<>\"\",A51<E$50),B51,0),IF(AND(B51<>\"\",A51<E$50),B51,0))","v":0},{"$f":"IF(E52<>\"/\",IF(G$50=\"Error\",\"Error\",$H$50+C52),\"/\")","v":1},{"$f":"IF(G$50=\"Error\",\"Error\",IF(AND($E$50<>\"/\",$E$50>'Paramètres - Admin'!$A2),'Paramètres - Admin'!$A3,\"/\"))","v":1},{"$f":"IF(E52<>\"/\",VLOOKUP(E52,COSTS_Barrack[#All],2),\"/\")","v":200},{"$f":"IF(E52<>\"/\",VLOOKUP(E52,COSTS_Barrack[#All],3),\"/\")","v":0.02},{"$f":"IF(G$50=\"Error\",\"Error\",IF(F52<>\"/\",D52*F52,0))","v":200},{"$f":"IF(G$50=\"Error\",\"Error\",IF(G52<>\"/\",D52*G52,0))","v":0.02},1,{"$f":"IF(Paramètres!K6=0,\"\",Paramètres!K6)","v":""},{"$f":"IF(L51<>0,L51+IF(AND(K51<>\"\",J51<N$50),K51,0),IF(AND(K51<>\"\",J51<N$50),K51,0))","v":0},{"$f":"IF(N52<>\"/\",IF(P$50=\"Error\",\"Error\",$Q$50+L52),\"/\")","v":"/"},{"$f":"IF(P$50=\"Error\",\"Error\",IF(AND($N$50<>\"/\",$N$50>'Paramètres - Admin'!$A2),'Paramètres - Admin'!$A3,\"/\"))","v":"/"},{"$f":"IF(N52<>\"/\",VLOOKUP(N52,COSTS_Laboratory[#All],2),\"/\")","v":"/"},{"$f":"IF(N52<>\"/\",VLOOKUP(N52,COSTS_Laboratory[#All],3),\"/\")","v":"/"},{"$f":"IF(P$50=\"Error\",\"Error\",IF(O52<>\"/\",M52*O52,0))","v":0},{"$f":"IF(P$50=\"Error\",\"Error\",IF(P52<>\"/\",M52*P52,0))","v":0}]
[2,{"$f":"IF(Paramètres!H7=0,\"\",Paramètres!H7)","v":""},0,1,{"$f":"IF(G$50=\"Error\",\"Error\",IF(AND($E$50<>\"/\",$E$50>'Paramètres - Admin'!$A3),'Paramètres - Admin'!$A4,\"/\"))","v":2},{"$f":"IF(E53<>\"/\",VLOOKUP(E53,COSTS_Barrack[#All],2),\"/\")","v":1000},{"$f":"IF(E53<>\"/\",VLOOKUP(E53,COSTS_Barrack[#All],3),\"/\")","v":0.25},1000,0.25,2,{"$f":"IF(Paramètres!K7=0,\"\",Paramètres!K7)","v":""},0,"/",{"$f":"IF(P$50=\"Error\",\"Error\",IF(AND($N$50<>\"/\",$N$50>'Paramètres - Admin'!$A3),'Paramètres - Admin'!$A4,\"/\"))","v":"/"},{"$f":"IF(N53<>\"/\",VLOOKUP(N53,COSTS_Laboratory[#All],2),\"/\")","v":"/"},{"$f":"IF(N53<>\"/\",VLOOKUP(N53,COSTS_Laboratory[#All],3),\"/\")","v":"/"},0,0]
[3,{"$f":"IF(Paramètres!H8=0,\"\",Paramètres!H8)","v":""},0,1,{"$f":"IF(G$50=\"Error\",\"Error\",IF(AND($E$50<>\"/\",$E$50>'Paramètres - Admin'!$A4),'Paramètres - Admin'!$A5,\"/\"))","v":3},{"$f":"IF(E54<>\"/\",VLOOKUP(E54,COSTS_Barrack[#All],2),\"/\")","v":2500},{"$f":"IF(E54<>\"/\",VLOOKUP(E54,COSTS_Barrack[#All],3),\"/\")","v":2},2500,2,3,{"$f":"IF(Paramètres!K8=0,\"\",Paramètres!K8)","v":""},0,"/",{"$f":"IF(P$50=\"Error\",\"Error\",IF(AND($N$50<>\"/\",$N$50>'Paramètres - Admin'!$A4),'Paramètres - Admin'!$A5,\"/\"))","v":"/"},{"$f":"IF(N54<>\"/\",VLOOKUP(N54,COSTS_Laboratory[#All],2),\"/\")","v":"/"},{"$f":"IF(N54<>\"/\",VLOOKUP(N54,COSTS_Laboratory[#All],3),\"/\")","v":"/"},0,0]
[4,{"$f":"IF(Paramètres!H9=0,\"\",Paramètres!H9)","v":""},0,"/",{"$f":"IF(G$50=\"Error\",\"Error\",IF(AND($E$50<>\"/\",$E$50>'Paramètres - Admin'!$A5),'Paramètres - Admin'!$A6,\"/\"))","v":"/"},{"$f":"IF(E55<>\"/\",VLOOKUP(E55,COSTS_Barrack[#All],2),\"/\")","v":"/"},{"$f":"IF(E55<>\"/\",VLOOKUP(E55,COSTS_Barrack[#All],3),\"/\")","v":"/"},0,0,4,{"$f":"IF(Paramètres!K9=0,\"\",Paramètres!K9)","v":""},0,"/",{"$f":"IF(P$50=\"Error\",\"Error\",IF(AND($N$50<>\"/\",$N$50>'Paramètres - Admin'!$A5),'Paramètres - Admin'!$A6,\"/\"))","v":"/"},{"$f":"IF(N55<>\"/\",VLOOKUP(N55,COSTS_Laboratory[#All],2),\"/\")","v":"/"},{"$f":"IF(N55<>\"/\",VLOOKUP(N55,COSTS_Laboratory[#All],3),\"/\")","v":"/"},0,0]
[5,{"$f":"IF(Paramètres!H10=0,\"\",Paramètres!H10)","v":""},0,"/",{"$f":"IF(G$50=\"Error\",\"Error\",IF(AND($E$50<>\"/\",$E$50>'Paramètres - Admin'!$A6),'Paramètres - Admin'!$A7,\"/\"))","v":"/"},{"$f":"IF(E56<>\"/\",VLOOKUP(E56,COSTS_Barrack[#All],2),\"/\")","v":"/"},{"$f":"IF(E56<>\"/\",VLOOKUP(E56,COSTS_Barrack[#All],3),\"/\")","v":"/"},0,0,5,{"$f":"IF(Paramètres!K10=0,\"\",Paramètres!K10)","v":""},0,"/",{"$f":"IF(P$50=\"Error\",\"Error\",IF(AND($N$50<>\"/\",$N$50>'Paramètres - Admin'!$A6),'Paramètres - Admin'!$A7,\"/\"))","v":"/"},{"$f":"IF(N56<>\"/\",VLOOKUP(N56,COSTS_Laboratory[#All],2),\"/\")","v":"/"},{"$f":"IF(N56<>\"/\",VLOOKUP(N56,COSTS_Laboratory[#All],3),\"/\")","v":"/"},0,0]
[6,{"$f":"IF(Paramètres!H11=0,\"\",Paramètres!H11)","v":""},0,"/",{"$f":"IF(G$50=\"Error\",\"Error\",IF(AND($E$50<>\"/\",$E$50>'Paramètres - Admin'!$A7),'Paramètres - Admin'!$A8,\"/\"))","v":"/"},{"$f":"IF(E57<>\"/\",VLOOKUP(E57,COSTS_Barrack[#All],2),\"/\")","v":"/"},{"$f":"IF(E57<>\"/\",VLOOKUP(E57,COSTS_Barrack[#All],3),\"/\")","v":"/"},0,0,6,{"$f":"IF(Paramètres!K11=0,\"\",Paramètres!K11)","v":""},0,"/",{"$f":"IF(P$50=\"Error\",\"Error\",IF(AND($N$50<>\"/\",$N$50>'Paramètres - Admin'!$A7),'Paramètres - Admin'!$A8,\"/\"))","v":"/"},{"$f":"IF(N57<>\"/\",VLOOKUP(N57,COSTS_Laboratory[#All],2),\"/\")","v":"/"},{"$f":"IF(N57<>\"/\",VLOOKUP(N57,COSTS_Laboratory[#All],3),\"/\")","v":"/"},0,0]
[7,{"$f":"IF(Paramètres!H12=0,\"\",Paramètres!H12)","v":""},0,"/",{"$f":"IF(G$50=\"Error\",\"Error\",IF(AND($E$50<>\"/\",$E$50>'Paramètres - Admin'!$A8),'Paramètres - Admin'!$A9,\"/\"))","v":"/"},{"$f":"IF(E58<>\"/\",VLOOKUP(E58,COSTS_Barrack[#All],2),\"/\")","v":"/"},{"$f":"IF(E58<>\"/\",VLOOKUP(E58,COSTS_Barrack[#All],3),\"/\")","v":"/"},0,0,7,{"$f":"IF(Paramètres!K12=0,\"\",Paramètres!K12)","v":""},0,"/",{"$f":"IF(P$50=\"Error\",\"Error\",IF(AND($N$50<>\"/\",$N$50>'Paramètres - Admin'!$A8),'Paramètres - Admin'!$A9,\"/\"))","v":"/"},{"$f":"IF(N58<>\"/\",VLOOKUP(N58,COSTS_Laboratory[#All],2),\"/\")","v":"/"},{"$f":"IF(N58<>\"/\",VLOOKUP(N58,COSTS_Laboratory[#All],3),\"/\")","v":"/"},0,0]
[8,{"$f":"IF(Paramètres!H13=0,\"\",Paramètres!H13)","v":""},0,"/",{"$f":"IF(G$50=\"Error\",\"Error\",IF(AND($E$50<>\"/\",$E$50>'Paramètres - Admin'!$A9),'Paramètres - Admin'!$A10,\"/\"))","v":"/"},{"$f":"IF(E59<>\"/\",VLOOKUP(E59,COSTS_Barrack[#All],2),\"/\")","v":"/"},{"$f":"IF(E59<>\"/\",VLOOKUP(E59,COSTS_Barrack[#All],3),\"/\")","v":"/"},0,0,8,{"$f":"IF(Paramètres!K13=0,\"\",Paramètres!K13)","v":""},0,"/",{"$f":"IF(P$50=\"Error\",\"Error\",IF(AND($N$50<>\"/\",$N$50>'Paramètres - Admin'!$A9),'Paramètres - Admin'!$A10,\"/\"))","v":"/"},{"$f":"IF(N59<>\"/\",VLOOKUP(N59,COSTS_Laboratory[#All],2),\"/\")","v":"/"},{"$f":"IF(N59<>\"/\",VLOOKUP(N59,COSTS_Laboratory[#All],3),\"/\")","v":"/"},0,0]
[9,{"$f":"IF(Paramètres!H14=0,\"\",Paramètres!H14)","v":""},0,"/",{"$f":"IF(G$50=\"Error\",\"Error\",IF(AND($E$50<>\"/\",$E$50>'Paramètres - Admin'!$A10),'Paramètres - Admin'!$A11,\"/\"))","v":"/"},{"$f":"IF(E60<>\"/\",VLOOKUP(E60,COSTS_Barrack[#All],2),\"/\")","v":"/"},{"$f":"IF(E60<>\"/\",VLOOKUP(E60,COSTS_Barrack[#All],3),\"/\")","v":"/"},0,0,9,{"$f":"IF(Paramètres!K14=0,\"\",Paramètres!K14)","v":""},0,"/",{"$f":"IF(P$50=\"Error\",\"Error\",IF(AND($N$50<>\"/\",$N$50>'Paramètres - Admin'!$A10),'Paramètres - Admin'!$A11,\"/\"))","v":"/"},{"$f":"IF(N60<>\"/\",VLOOKUP(N60,COSTS_Laboratory[#All],2),\"/\")","v":"/"},{"$f":"IF(N60<>\"/\",VLOOKUP(N60,COSTS_Laboratory[#All],3),\"/\")","v":"/"},0,0]
[10,{"$f":"IF(Paramètres!H15=0,\"\",Paramètres!H15)","v":""},0,"/",{"$f":"IF(G$50=\"Error\",\"Error\",IF(AND($E$50<>\"/\",$E$50>'Paramètres - Admin'!$A11),'Paramètres - Admin'!$A12,\"/\"))","v":"/"},{"$f":"IF(E61<>\"/\",VLOOKUP(E61,COSTS_Barrack[#All],2),\"/\")","v":"/"},{"$f":"IF(E61<>\"/\",VLOOKUP(E61,COSTS_Barrack[#All],3),\"/\")","v":"/"},0,0,null,null,null,null,null,null,"Total",{"$f":"IF(P$50=\"Error\",\"Error\",SUM(Q52:Q59))","v":0},{"$f":"IF(P$50=\"Error\",\"Error\",SUM(R52:R59))","v":0}]
[null,null,null,null,null,null,"Total",{"$f":"IF(G$50=\"Error\",\"Error\",SUM(H52:H61))","v":3700},{"$f":"IF(G$50=\"Error\",\"Error\",SUM(I52:I61))","v":2.27},"Camp Militaire",null,null,"Max","Max +",null,"Actuel","À Faire","Améliorations"]
["Caserne Noire",null,null,"Max","Max +",null,"Actuel","À Faire","Améliorations",null,null,null,{"$f":"VLOOKUP($A$2,AVAILABLE_Buildings_Army[#All],MATCH(J62,AVAILABLE_Buildings_Army[#Headers],0))","v":1},{"$f":"VLOOKUP($A$2,AVAILABLE_Buildings_Army[#All],MATCH(J62,AVAILABLE_Buildings_Army[#Headers],0)+1)","v":1},null,{"$f":"IF(SUM(K65:K72)>M63,\"Error\",SUM(K65:K72))","v":0},{"$f":"IF(P$63=\"Error\",\"Error\",M63-P63)","v":1},{"$f":"IF(P$63=\"Error\",\"Error\",SUM(M65:M72))","v":1}]
[null,null,null,{"$f":"VLOOKUP($A$2,AVAILABLE_Buildings_Army[#All],MATCH(A63,AVAILABLE_Buildings_Army[#Headers],0))","v":0},{"$f":"VLOOKUP($A$2,AVAILABLE_Buildings_Army[#All],MATCH(A63,AVAILABLE_Buildings_Army[#Headers],0)+1)","v":0},null,{"$f":"IF(SUM(B66:B71)>D64,\"Error\",SUM(B66:B71))","v":0},{"$f":"IF(G$64=\"Error\",\"Error\",D64-G64)","v":0},{"$f":"IF(G$64=\"Error\",\"Error\",SUM(D66:D71))","v":0},"+","NB",null,"NB","+","Coût","Temps","Coût Total","Temps Total"]
["+","NB",null,"NB","+","Coût","Temps","Coût Total","Temps Total",1,{"$f":"IF(Paramètres!J6=0,\"\",Paramètres!J6)","v":""},{"$f":"IF(L64<>0,L64+IF(AND(K64<>\"\",J64<N$63),K64,0),IF(AND(K64<>\"\",J64<N$63),K64,0))","v":0},{"$f":"IF(N65<>\"/\",IF(P$63=\"Error\",\"Error\",$Q$63+L65),\"/\")","v":1},{"$f":"IF(P$63=\"Error\",\"Error\",IF(AND($N$63<>\"/\",$N$63>'Paramètres - Admin'!$A2),'Paramètres - Admin'!$A3,\"/\"))","v":1},{"$f":"IF(N65<>\"/\",VLOOKUP(N65,COSTS_Army_Camp[#All],2),\"/\")","v":250},{"$f":"IF(N65<>\"/\",VLOOKUP(N65,COSTS_Army_Camp[#All],3),\"/\")","v":8.3333333333333329E-2},{"$f":"IF(P$63=\"Error\",\"Error\",IF(O65<>\"/\",M65*O65,0))","v":250},{"$f":"IF(P$63=\"Error\",\"Error\",IF(P65<>\"/\",M65*P65,0))","v":8.3333333333333329E-2}]
[1,{"$f":"IF(Paramètres!I6=0,\"\",Paramètres!I6)","v":""},{"$f":"IF(C65<>0,C65+IF(AND(B65<>\"\",A65<E$64),B65,0),IF(AND(B65<>\"\",A65<E$64),B65,0))","v":0},{"$f":"IF(E66<>\"/\",IF(G$64=\"Error\",\"Error\",$H$64+C66),\"/\")","v":"/"},{"$f":"IF(G$64=\"Error\",\"Error\",IF(AND($E$64<>\"/\",$E$64>'Paramètres - Admin'!$A2),'Paramètres - Admin'!$A3,\"/\"))","v":"/"},{"$f":"IF(E66<>\"/\",VLOOKUP(E66,COSTS_Dark_Barrack[#All],2),\"/\")","v":"/"},{"$f":"IF(E66<>\"/\",VLOOKUP(E66,COSTS_Dark_Barrack[#All],3),\"/\")","v":"/"},{"$f":"IF(G$64=\"Error\",\"Error\",IF(F66<>\"/\",D66*F66,0))","v":0},{"$f":"IF(G$64=\"Error\",\"Error\",IF(G66<>\"/\",D66*G66,0))","v":0},2,{"$f":"IF(Paramètres!J7=0,\"\",Paramètres!J7)","v":""},{"$f":"IF(L65<>0,L65+IF(AND(K65<>\"\",J65<E$5),K65,0),IF(AND(K65<>\"\",J65<E$5),K65,0))","v":0},"/",{"$f":"IF(P$63=\"Error\",\"Error\",IF(AND($N$63<>\"/\",$N$63>'Paramètres - Admin'!$A3),'Paramètres - Admin'!$A4,\"/\"))","v":"/"},{"$f":"IF(N66<>\"/\",VLOOKUP(N66,COSTS_Army_Camp[#All],2),\"/\")","v":"/"},{"$f":"IF(N66<>\"/\",VLOOKUP(N66,COSTS_Army_Camp[#All],3),\"/\")","v":"/"},0,0]
[2,{"$f":"IF(Paramètres!I7=0,\"\",Paramètres!I7)","v":""},0,"/",{"$f":"IF(G$64=\"Error\",\"Error\",IF(AND($E$64<>\"/\",$E$64>'Paramètres - Admin'!$A3),'Paramètres - Admin'!$A4,\"/\"))","v":"/"},{"$f":"IF(E67<>\"/\",VLOOKUP(E67,COSTS_Dark_Barrack[#All],2),\"/\")","v":"/"},{"$f":"IF(E67<>\"/\",VLOOKUP(E67,COSTS_Dark_Barrack[#All],3),\"/\")","v":"/"},0,0,3,{"$f":"IF(Paramètres!J8=0,\"\",Paramètres!J8)","v":""},0,"/",{"$f":"IF(P$63=\"Error\",\"Error\",IF(AND($N$63<>\"/\",$N$63>'Paramètres - Admin'!$A4),'Paramètres - Admin'!$A5,\"/\"))","v":"/"},{"$f":"IF(N67<>\"/\",VLOOKUP(N67,COSTS_Army_Camp[#All],2),\"/\")","v":"/"},{"$f":"IF(N67<>\"/\",VLOOKUP(N67,COSTS_Army_Camp[#All],3),\"/\")","v":"/"},0,0]
[3,{"$f":"IF(Paramètres!I8=0,\"\",Paramètres!I8)","v":""},0,"/",{"$f":"IF(G$64=\"Error\",\"Error\",IF(AND($E$64<>\"/\",$E$64>'Paramètres - Admin'!$A4),'Paramètres - Admin'!$A5,\"/\"))","v":"/"},{"$f":"IF(E68<>\"/\",VLOOKUP(E68,COSTS_Dark_Barrack[#All],2),\"/\")","v":"/"},{"$f":"IF(E68<>\"/\",VLOOKUP(E68,COSTS_Dark_Barrack[#All],3),\"/\")","v":"/"},0,0,4,{"$f":"IF(Paramètres!J9=0,\"\",Paramètres!J9)","v":""},0,"/",{"$f":"IF(P$63=\"Error\",\"Error\",IF(AND($N$63<>\"/\",$N$63>'Paramètres - Admin'!$A5),'Paramètres - Admin'!$A6,\"/\"))","v":"/"},{"$f":"IF(N68<>\"/\",VLOOKUP(N68,COSTS_Army_Camp[#All],2),\"/\")","v":"/"},{"$f":"IF(N68<>\"/\",VLOOKUP(N68,COSTS_Army_Camp[#All],3),\"/\")","v":"/"},0,0]
[4,{"$f":"IF(Paramètres!I9=0,\"\",Paramètres!I9)","v":""},0,"/",{"$f":"IF(G$64=\"Error\",\"Error\",IF(AND($E$64<>\"/\",$E$64>'Paramètres - Admin'!$A5),'Paramètres - Admin'!$A6,\"/\"))","v":"/"},{"$f":"IF(E69<>\"/\",VLOOKUP(E69,COSTS_Dark_Barrack[#All],2),\"/\")","v":"/"},{"$f":"IF(E69<>\"/\",VLOOKUP(E69,COSTS_Dark_Barrack[#All],3),\"/\")","v":"/"},0,0,5,{"$f":"IF(Paramètres!J10=0,\"\",Paramètres!J10)","v":""},0,"/",{"$f":"IF(P$63=\"Error\",\"Error\",IF(AND($N$63<>\"/\",$N$63>'Paramètres - Admin'!$A6),'Paramètres - Admin'!$A7,\"/\"))","v":"/"},{"$f":"IF(N69<>\"/\",VLOOKUP(N69,COSTS_Army_Camp[#All],2),\"/\")","v":"/"},{"$f":"IF(N69<>\"/\",VLOOKUP(N69,COSTS_Army_Camp[#All],3),\"/\")","v":"/"},0,0]
[5,{"$f":"IF(Paramètres!I10=0,\"\",Paramètres!I10)","v":""},0,"/",{"$f":"IF(G$64=\"Error\",\"Error\",IF(AND($E$64<>\"/\",$E$64>'Paramètres - Admin'!$A6),'Paramètres - Admin'!$A7,\"/\"))","v":"/"},{"$f":"IF(E70<>\"/\",VLOOKUP(E70,COSTS_Dark_Barrack[#All],2),\"/\")","v":"/"},{"$f":"IF(E70<>\"/\",VLOOKUP(E70,COSTS_Dark_Barrack[#All],3),\"/\")","v":"/"},0,0,6,{"$f":"IF(Paramètres!J11=0,\"\",Paramètres!J11)","v":""},0,"/",{"$f":"IF(P$63=\"Error\",\"Error\",IF(AND($N$63<>\"/\",$N$63>'Paramètres - Admin'!$A7),'Paramètres - Admin'!$A8,\"/\"))","v":"/"},{"$f":"IF(N70<>\"/\",VLOOKUP(N70,COSTS_Army_Camp[#All],2),\"/\")","v":"/"},{"$f":"IF(N70<>\"/\",VLOOKUP(N70,COSTS_Army_Camp[#All],3),\"/\")","v":"/"},0,0]
[6,{"$f":"IF(Paramètres!I11=0,\"\",Paramètres!I11)","v":""},0,"/",{"$f":"IF(G$64=\"Error\",\"Error\",IF(AND($E$64<>\"/\",$E$64>'Paramètres - Admin'!$A7),'Paramètres - Admin'!$A8,\"/\"))","v":"/"},{"$f":"IF(E71<>\"/\",VLOOKUP(E71,COSTS_Dark_Barrack[#All],2),\"/\")","v":"/"},{"$f":"IF(E71<>\"/\",VLOOKUP(E71,COSTS_Dark_Barrack[#All],3),\"/\")","v":"/"},0,0,7,{"$f":"IF(Paramètres!J12=0,\"\",Paramètres!J12)","v":""},0,"/",{"$f":"IF(P$63=\"Error\",\"Error\",IF(AND($N$63<>\"/\",$N$63>'Paramètres - Admin'!$A8),'Paramètres - Admin'!$A9,\"/\"))","v":"/"},{"$f":"IF(N71<>\"/\",VLOOKUP(N71,COSTS_Army_Camp[#All],2),\"/\")","v":"/"},{"$f":"IF(N71<>\"/\",VLOOKUP(N71,COSTS_Army_Camp[#All],3),\"/\")","v":"/"},0,0]
[null,null,null,null,null,null,"Total",{"$f":"IF(G$64=\"Error\",\"Error\",SUM(H66:H71))","v":0},{"$f":"IF(G$64=\"Error\",\"Error\",SUM(I66:I71))","v":0},8,{"$f":"IF(Paramètres!J13=0,\"\",Paramètres!J13)","v":""},0,"/",{"$f":"IF(P$63=\"Error\",\"Error\",IF(AND($N$63<>\"/\",$N$63>'Paramètres - Admin'!$A9),'Paramètres - Admin'!$A10,\"/\"))","v":"/"},{"$f":"IF(N72<>\"/\",VLOOKUP(N72,COSTS_Army_Camp[#All],2),\"/\")","v":"/"},{"$f":"IF(N72<>\"/\",VLOOKUP(N72,COSTS_Army_Camp[#All],3),\"/\")","v":"/"},0,0]
["Usine de Sorts",null,null,"Max","Max +",null,"Actuel","À Faire","Améliorations",null,null,null,null,null,null,"Total",{"$f":"IF(P$63=\"Error\",\"Error\",SUM(Q65:Q72))","v":250},{"$f":"IF(P$63=\"Error\",\"Error\",SUM(R65:R72))","v":8.3333333333333329E-2}]
[null,null,null,{"$f":"VLOOKUP($A$2,AVAILABLE_Buildings_Army[#All],MATCH(A73,AVAILABLE_Buildings_Army[#Headers],0))","v":0},{"$f":"VLOOKUP($A$2,AVAILABLE_Buildings_Army[#All],MATCH(A73,AVAILABLE_Buildings_Army[#Headers],0)+1)","v":0},null,{"$f":"IF(SUM(B76:B80)>D74,\"Error\",SUM(B76:B80))","v":0},{"$f":"IF(G$74=\"Error\",\"Error\",D74-G74)","v":0},{"$f":"IF(G$74=\"Error\",\"Error\",SUM(D76:D80))","v":0},"Usine de Sorts Noirs",null,null,"Max","Max +",null,"Actuel","À Faire","Améliorations"]
["+","NB",null,"NB","+","Coût","Temps","Coût Total","Temps Total",null,null,null,{"$f":"VLOOKUP($A$2,AVAILABLE_Buildings_Army[#All],MATCH(J74,AVAILABLE_Buildings_Army[#Headers],0))","v":0},{"$f":"VLOOKUP($A$2,AVAILABLE_Buildings_Army[#All],MATCH(J74,AVAILABLE_Buildings_Army[#Headers],0)+1)","v":0},null,{"$f":"IF(SUM(K77:K79)>M75,\"Error\",SUM(K77:K79))","v":0},{"$f":"IF(P$75=\"Error\",\"Error\",M75-P75)","v":0},{"$f":"IF(P$75=\"Error\",\"Error\",SUM(M77:M79))","v":0}]
[1,{"$f":"IF(Paramètres!L6=0,\"\",Paramètres!L6)","v":""},{"$f":"IF(C75<>0,C75+IF(AND(B75<>\"\",A75<E$74),B75,0),IF(AND(B75<>\"\",A75<E$74),B75,0))","v":0},{"$f":"IF(E76<>\"/\",IF(G$74=\"Error\",\"Error\",$H$74+C76),\"/\")","v":"/"},{"$f":"IF(G$74=\"Error\",\"Error\",IF(AND($E$74<>\"/\",$E$74>'Paramètres - Admin'!$A2),'Paramètres - Admin'!$A3,\"/\"))","v":"/"},{"$f":"IF(E76<>\"/\",VLOOKUP(E76,COSTS_Spell_Factory[#All],2),\"/\")","v":"/"},{"$f":"IF(E76<>\"/\",VLOOKUP(E76,COSTS_Spell_Factory[#All],3),\"/\")","v":"/"},{"$f":"IF(G$74=\"Error\",\"Error\",IF(F76<>\"/\",D76*F76,0))","v":0},{"$f":"IF(G$74=\"Error\",\"Error\",IF(G76<>\"/\",D76*G76,0))","v":0},"+","NB",null,"NB","+","Coût","Temps","Coût Total","Temps Total"]
[2,{"$f":"IF(Paramètres!L7=0,\"\",Paramètres!L7)","v":""},{"$f":"IF(C76<>0,C76+IF(AND(B76<>\"\",A76<E$74),B76,0),IF(AND(B76<>\"\",A76<E$74),B76,0))","v":0},{"$f":"IF(E77<>\"/\",IF(G$74=\"Error\",\"Error\",$H$74+C77),\"/\")","v":"/"},{"$f":"IF(G$74=\"Error\",\"Error\",IF(AND($E$74<>\"/\",$E$74>'Paramètres - Admin'!$A3),'Paramètres - Admin'!$A4,\"/\"))","v":"/"},{"$f":"IF(E77<>\"/\",VLOOKUP(E77,COSTS_Spell_Factory[#All],2),\"/\")","v":"/"},{"$f":"IF(E77<>\"/\",VLOOKUP(E77,COSTS_Spell_Factory[#All],3),\"/\")","v":"/"},{"$f":"IF(G$74=\"Error\",\"Error\",IF(F77<>\"/\",D77*F77,0))","v":0},{"$f":"IF(G$74=\"Error\",\"Error\",IF(G77<>\"/\",D77*G77,0))","v":0},1,{"$f":"IF(Paramètres!M6=0,\"\",Paramètres!M6)","v":""},{"$f":"IF(L76<>0,L76+IF(AND(K76<>\"\",J76<N$75),K76,0),IF(AND(K76<>\"\",J76<N$75),K76,0))","v":0},{"$f":"IF(N77<>\"/\",IF(P$75=\"Error\",\"Error\",$Q$75+L77),\"/\")","v":"/"},{"$f":"IF(P$75=\"Error\",\"Error\",IF(AND($N$75<>\"/\",$N$75>'Paramètres - Admin'!$A2),'Paramètres - Admin'!$A3,\"/\"))","v":"/"},{"$f":"IF(N77<>\"/\",VLOOKUP(N77,COSTS_Dark_Spell_Factory[#All],2),\"/\")","v":"/"},{"$f":"IF(N77<>\"/\",VLOOKUP(N77,COSTS_Dark_Spell_Factory[#All],3),\"/\")","v":"/"},{"$f":"IF(P$75=\"Error\",\"Error\",IF(O77<>\"/\",M77*O77,0))","v":0},{"$f":"IF(P$75=\"Error\",\"Error\",IF(P77<>\"/\",M77*P77,0))","v":0}]
[3,{"$f":"IF(Paramètres!L8=0,\"\",Paramètres!L8)","v":""},{"$f":"IF(C77<>0,C77+IF(AND(B77<>\"\",A77<E$74),B77,0),IF(AND(B77<>\"\",A77<E$74),B77,0))","v":0},{"$f":"IF(E78<>\"/\",IF(G$74=\"Error\",\"Error\",$H$74+C78),\"/\")","v":"/"},{"$f":"IF(G$74=\"Error\",\"Error\",IF(AND($E$74<>\"/\",$E$74>'Paramètres - Admin'!$A4),'Paramètres - Admin'!$A5,\"/\"))","v":"/"},{"$f":"IF(E78<>\"/\",VLOOKUP(E78,COSTS_Spell_Factory[#All],2),\"/\")","v":"/"},{"$f":"IF(E78<>\"/\",VLOOKUP(E78,COSTS_Spell_Factory[#All],3),\"/\")","v":"/"},{"$f":"IF(G$74=\"Error\",\"Error\",IF(F78<>\"/\",D78*F78,0))","v":0},{"$f":"IF(G$74=\"Error\",\"Error\",IF(G78<>\"/\",D78*G78,0))","v":0},2,{"$f":"IF(Paramètres!M7=0,\"\",Paramètres!M7)","v":""},{"$f":"IF(L77<>0,L77+IF(AND(K77<>\"\",J77<N$75),K77,0),IF(AND(K77<>\"\",J77<N$75),K77,0))","v":0},{"$f":"IF(N78<>\"/\",IF(P$75=\"Error\",\"Error\",$Q$75+L78),\"/\")","v":"/"},{"$f":"IF(P$75=\"Error\",\"Error\",IF(AND($N$75<>\"/\",$N$75>'Paramètres - Admin'!$A3),'Paramètres - Admin'!$A4,\"/\"))","v":"/"},{"$f":"IF(N78<>\"/\",VLOOKUP(N78,COSTS_Dark_Spell_Factory[#All],2),\"/\")","v":"/"},{"$f":"IF(N78<>\"/\",VLOOKUP(N78,COSTS_Dark_Spell_Factory[#All],3),\"/\")","v":"/"},{"$f":"IF(G$74=\"Error\",\"Error\",IF(O78<>\"/\",M78*O78,0))","v":0},{"$f":"IF(G$74=\"Error\",\"Error\",IF(P78<>\"/\",M78*P78,0))","v":0}]
[4,{"$f":"IF(Paramètres!L9=0,\"\",Paramètres!L9)","v":""},{"$f":"IF(C78<>0,C78+IF(AND(B78<>\"\",A78<E$74),B78,0),IF(AND(B78<>\"\",A78<E$74),B78,0))","v":0},{"$f":"IF(E79<>\"/\",IF(G$74=\"Error\",\"Error\",$H$74+C79),\"/\")","v":"/"},{"$f":"IF(G$74=\"Error\",\"Error\",IF(AND($E$74<>\"/\",$E$74>'Paramètres - Admin'!$A5),'Paramètres - Admin'!$A6,\"/\"))","v":"/"},{"$f":"IF(E79<>\"/\",VLOOKUP(E79,COSTS_Spell_Factory[#All],2),\"/\")","v":"/"},{"$f":"IF(E79<>\"/\",VLOOKUP(E79,COSTS_Spell_Factory[#All],3),\"/\")","v":"/"},{"$f":"IF(G$74=\"Error\",\"Error\",IF(F79<>\"/\",D79*F79,0))","v":0},{"$f":"IF(G$74=\"Error\",\"Error\",IF(G79<>\"/\",D79*G79,0))","v":0},3,{"$f":"IF(Paramètres!M8=0,\"\",Paramètres!M8)","v":""},{"$f":"IF(L78<>0,L78+IF(AND(K78<>\"\",J78<N$75),K78,0),IF(AND(K78<>\"\",J78<N$75),K78,0))","v":0},{"$f":"IF(N79<>\"/\",IF(P$75=\"Error\",\"Error\",$Q$75+L79),\"/\")","v":"/"},{"$f":"IF(P$75=\"Error\",\"Error\",IF(AND($N$75<>\"/\",$N$75>'Paramètres - Admin'!$A4),'Paramètres - Admin'!$A5,\"/\"))","v":"/"},{"$f":"IF(N79<>\"/\",VLOOKUP(N79,COSTS_Dark_Spell_Factory[#All],2),\"/\")","v":"/"},{"$f":"IF(N79<>\"/\",VLOOKUP(N79,COSTS_Dark_Spell_Factory[#All],3),\"/\")","v":"/"},{"$f":"IF(G$74=\"Error\",\"Error\",IF(O79<>\"/\",M79*O79,0))","v":0},{"$f":"IF(G$74=\"Error\",\"Error\",IF(P79<>\"/\",M79*P79,0))","v":0}]
[5,{"$f":"IF(Paramètres!L10=0,\"\",Paramètres!L10)","v":""},{"$f":"IF(C79<>0,C79+IF(AND(B79<>\"\",A79<E$74),B79,0),IF(AND(B79<>\"\",A79<E$74),B79,0))","v":0},{"$f":"IF(E80<>\"/\",IF(G$74=\"Error\",\"Error\",$H$74+C80),\"/\")","v":"/"},{"$f":"IF(G$74=\"Error\",\"Error\",IF(AND($E$74<>\"/\",$E$74>'Paramètres - Admin'!$A6),'Paramètres - Admin'!$A7,\"/\"))","v":"/"},{"$f":"IF(E80<>\"/\",VLOOKUP(E80,COSTS_Spell_Factory[#All],2),\"/\")","v":"/"},{"$f":"IF(E80<>\"/\",VLOOKUP(E80,COSTS_Spell_Factory[#All],3),\"/\")","v":"/"},{"$f":"IF(G$74=\"Error\",\"Error\",IF(F80<>\"/\",D80*F80,0))","v":0},{"$f":"IF(G$74=\"Error\",\"Error\",IF(G80<>\"/\",D80*G80,0))","v":0},null,null,null,null,null,null,"Total",{"$f":"IF(G$74=\"Error\",\"Error\",SUM(Q77:Q79))","v":0},{"$f":"IF(G$74=\"Error\",\"Error\",SUM(R77:R79))","v":0}]
[null,null,null,null,null,null,"Total",{"$f":"IF(G$74=\"Error\",\"Error\",SUM(H76:H80))","v":0},{"$f":"IF(G$74=\"Error\",\"Error\",SUM(I76:I80))","v":0}]
[]
[]
["Bâtiments Défensifs"]
["Rempart",null,null,"Max","Max +",null,"Actuel","À Faire","Améliorations","Défense Antiaérienne",null,null,"Max","Max +",null,"Actuel","À Faire","Améliorations"]
[null,null,null,{"$f":"VLOOKUP($A$2,AVAILABLE_Buildings_Defensive[#All],MATCH(A85,AVAILABLE_Buildings_Defensive[#Headers],0))","v":0},{"$f":"VLOOKUP($A$2,AVAILABLE_Buildings_Defensive[#All],MATCH(A85,AVAILABLE_Buildings_Defensive[#Headers],0)+1)","v":0},null,{"$f":"IF(SUM(B88:B98)>D86,\"Error\",SUM(B88:B98))","v":0},{"$f":"IF(G$86=\"Error\",\"Error\",D86-G86)","v":0},{"$f":"IF(G$86=\"Error\",\"Error\",SUM(D88:D98))","v":0},null,null,null,{"$f":"VLOOKUP($A$2,AVAILABLE_Buildings_Defensive[#All],MATCH(J85,AVAILABLE_Buildings_Defensive[#Headers],0))","v":0},{"$f":"VLOOKUP($A$2,AVAILABLE_Buildings_Defensive[#All],MATCH(J85,AVAILABLE_Buildings_Defensive[#Headers],0)+1)","v":0},null,{"$f":"IF(SUM(K88:K95)>M86,\"Error\",SUM(K88:K95))","v":0},{"$f":"IF(P$86=\"Error\",\"Error\",M86-P86)","v":0},{"$f":"IF(P$86=\"Error\",\"Error\",SUM(M88:M95))","v":0}]
["+","NB",null,"NB","+","Coût","Temps","Coût Total","Temps Total","+","NB",null,"NB","+","Coût","Temps","Coût Total","Temps Total"]
[1,{"$f":"IF(Paramètres!N6=0,\"\",Paramètres!N6)","v":""},{"$f":"IF(C87<>0,C87+IF(AND(B87<>\"\",A87<E$86),B87,0),IF(AND(B87<>\"\",A87<E$86),B87,0))","v":0},{"$f":"IF(E88<>\"/\",IF(G$86=\"Error\",\"Error\",$H$86+C88),\"/\")","v":"/"},{"$f":"IF(G$86=\"Error\",\"Error\",IF(AND($E$86<>\"/\",$E$86>'Paramètres - Admin'!$A2),'Paramètres - Admin'!$A3,\"/\"))","v":"/"},{"$f":"IF(E88<>\"/\",VLOOKUP(E88,COSTS_Wall[#All],2),\"/\")","v":"/"},{"$f":"IF(E88<>\"/\",VLOOKUP(E88,COSTS_Wall[#All],3),\"/\")","v":"/"},{"$f":"IF(G$86=\"Error\",\"Error\",IF(F88<>\"/\",D88*F88,0))","v":0},{"$f":"IF(G$86=\"Error\",\"Error\",IF(G88<>\"/\",D88*G88,0))","v":0},1,{"$f":"IF(Paramètres!R6=0,\"\",Paramètres!R6)","v":""},{"$f":"IF(L87<>0,L87+IF(AND(K87<>\"\",J87<N$86),K87,0),IF(AND(K87<>\"\",J87<N$86),K87,0))","v":0},{"$f":"IF(N88<>\"/\",IF(P$86=\"Error\",\"Error\",$Q$86+L88),\"/\")","v":"/"},{"$f":"IF(P$86=\"Error\",\"Error\",IF(AND($N$86<>\"/\",$N$86>'Paramètres - Admin'!$A2),'Paramètres - Admin'!$A3,\"/\"))","v":"/"},{"$f":"IF(N88<>\"/\",VLOOKUP(N88,COSTS_Air_Defense[#All],2),\"/\")","v":"/"},{"$f":"IF(N88<>\"/\",VLOOKUP(N88,COSTS_Air_Defense[#All],3),\"/\")","v":"/"},{"$f":"IF(P$86=\"Error\",\"Error\",IF(O88<>\"/\",M88*O88,0))","v":0},{"$f":"IF(P$86=\"Error\",\"Error\",IF(P88<>\"/\",M88*P88,0))","v":0}]
[2,{"$f":"IF(Paramètres!N7=0,\"\",Paramètres!N7)","v":""},{"$f":"IF(C88<>0,C88+IF(AND(B88<>\"\",A88<E$86),B88,0),IF(AND(B88<>\"\",A88<E$86),B88,0))","v":0},"/",{"$f":"IF(G$86=\"Error\",\"Error\",IF(AND($E$86<>\"/\",$E$86>'Paramètres - Admin'!$A3),'Paramètres - Admin'!$A4,\"/\"))","v":"/"},{"$f":"IF(E89<>\"/\",VLOOKUP(E89,COSTS_Wall[#All],2),\"/\")","v":"/"},{"$f":"IF(E89<>\"/\",VLOOKUP(E89,COSTS_Wall[#All],3),\"/\")","v":"/"},0,0,2,{"$f":"IF(Paramètres!R7=0,\"\",Paramètres!R7)","v":""},0,"/",{"$f":"IF(P$86=\"Error\",\"Error\",IF(AND($N$86<>\"/\",$N$86>'Paramètres - Admin'!$A3),'Paramètres - Admin'!$A4,\"/\"))","v":"/"},{"$f":"IF(N89<>\"/\",VLOOKUP(N89,COSTS_Air_Defense[#All],2),\"/\")","v":"/"},{"$f":"IF(N89<>\"/\",VLOOKUP(N89,COSTS_Air_Defense[#All],3),\"/\")","v":"/"},0,0]
[3,{"$f":"IF(Paramètres!N8=0,\"\",Paramètres!N8)","v":""},0,"/",{"$f":"IF(G$86=\"Error\",\"Error\",IF(AND($E$86<>\"/\",$E$86>'Paramètres - Admin'!$A4),'Paramètres - Admin'!$A5,\"/\"))","v":"/"},{"$f":"IF(E90<>\"/\",VLOOKUP(E90,COSTS_Wall[#All],2),\"/\")","v":"/"},{"$f":"IF(E90<>\"/\",VLOOKUP(E90,COSTS_Wall[#All],3),\"/\")","v":"/"},0,0,3,{"$f":"IF(Paramètres!R8=0,\"\",Paramètres!R8)","v":""},0,"/",{"$f":"IF(P$86=\"Error\",\"Error\",IF(AND($N$86<>\"/\",$N$86>'Paramètres - Admin'!$A4),'Paramètres - Admin'!$A5,\"/\"))","v":"/"},{"$f":"IF(N90<>\"/\",VLOOKUP(N90,COSTS_Air_Defense[#All],2),\"/\")","v":"/"},{"$f":"IF(N90<>\"/\",VLOOKUP(N90,COSTS_Air_Defense[#All],3),\"/\")","v":"/"},0,0]
[4,{"$f":"IF(Paramètres!N9=0,\"\",Paramètres!N9)","v":""},0,"/",{"$f":"IF(G$86=\"Error\",\"Error\",IF(AND($E$86<>\"/\",$E$86>'Paramètres - Admin'!$A5),'Paramètres - Admin'!$A6,\"/\"))","v":"/"},{"$f":"IF(E91<>\"/\",VLOOKUP(E91,COSTS_Wall[#All],2),\"/\")","v":"/"},{"$f":"IF(E91<>\"/\",VLOOKUP(E91,COSTS_Wall[#All],3),\"/\")","v":"/"},0,0,4,{"$f":"IF(Paramètres!R9=0,\"\",Paramètres!R9)","v":""},0,"/",{"$f":"IF(P$86=\"Error\",\"Error\",IF(AND($N$86<>\"/\",$N$86>'Paramètres - Admin'!$A5),'Paramètres - Admin'!$A6,\"/\"))","v":"/"},{"$f":"IF(N91<>\"/\",VLOOKUP(N91,COSTS_Air_Defense[#All],2),\"/\")","v":"/"},{"$f":"IF(N91<>\"/\",VLOOKUP(N91,COSTS_Air_Defense[#All],3),\"/\")","v":"/"},0,0]
[5,{"$f":"IF(Paramètres!N10=0,\"\",Paramètres!N10)","v":""},0,"/",{"$f":"IF(G$86=\"Error\",\"Error\",IF(AND($E$86<>\"/\",$E$86>'Paramètres - Admin'!$A6),'Paramètres - Admin'!$A7,\"/\"))","v":"/"},{"$f":"IF(E92<>\"/\",VLOOKUP(E92,COSTS_Wall[#All],2),\"/\")","v":"/"},{"$f":"IF(E92<>\"/\",VLOOKUP(E92,COSTS_Wall[#All],3),\"/\")","v":"/"},0,0,5,{"$f":"IF(Paramètres!R10=0,\"\",Paramètres!R10)","v":""},0,"/",{"$f":"IF(P$86=\"Error\",\"Error\",IF(AND($N$86<>\"/\",$N$86>'Paramètres - Admin'!$A6),'Paramètres - Admin'!$A7,\"/\"))","v":"/"},{"$f":"IF(N92<>\"/\",VLOOKUP(N92,COSTS_Air_Defense[#All],2),\"/\")","v":"/"},{"$f":"IF(N92<>\"/\",VLOOKUP(N92,COSTS_Air_Defense[#All],3),\"/\")","v":"/"},0,0]
[6,{"$f":"IF(Paramètres!N11=0,\"\",Paramètres!N11)","v":""},0,"/",{"$f":"IF(G$86=\"Error\",\"Error\",IF(AND($E$86<>\"/\",$E$86>'Paramètres - Admin'!$A7),'Paramètres - Admin'!$A8,\"/\"))","v":"/"},{"$f":"IF(E93<>\"/\",VLOOKUP(E93,COSTS_Wall[#All],2),\"/\")","v":"/"},{"$f":"IF(E93<>\"/\",VLOOKUP(E93,COSTS_Wall[#All],3),\"/\")","v":"/"},0,0,6,{"$f":"IF(Paramètres!R11=0,\"\",Paramètres!R11)","v":""},0,"/",{"$f":"IF(P$86=\"Error\",\"Error\",IF(AND($N$86<>\"/\",$N$86>'Paramètres - Admin'!$A7),'Paramètres - Admin'!$A8,\"/\"))","v":"/"},{"$f":"IF(N93<>\"/\",VLOOKUP(N93,COSTS_Air_Defense[#All],2),\"/\")","v":"/"},{"$f":"IF(N93<>\"/\",VLOOKUP(N93,COSTS_Air_Defense[#All],3),\"/\")","v":"/"},0,0]
[7,{"$f":"IF(Paramètres!N12=0,\"\",Paramètres!N12)","v":""},0,"/",{"$f":"IF(G$86=\"Error\",\"Error\",IF(AND($E$86<>\"/\",$E$86>'Paramètres - Admin'!$A8),'Paramètres - Admin'!$A9,\"/\"))","v":"/"},{"$f":"IF(E94<>\"/\",VLOOKUP(E94,COSTS_Wall[#All],2),\"/\")","v":"/"},{"$f":"IF(E94<>\"/\",VLOOKUP(E94,COSTS_Wall[#All],3),\"/\")","v":"/"},0,0,7,{"$f":"IF(Paramètres!R12=0,\"\",Paramètres!R12)","v":""},0,"/",{"$f":"IF(P$86=\"Error\",\"Error\",IF(AND($N$86<>\"/\",$N$86>'Paramètres - Admin'!$A8),'Paramètres - Admin'!$A9,\"/\"))","v":"/"},{"$f":"IF(N94<>\"/\",VLOOKUP(N94,COSTS_Air_Defense[#All],2),\"/\")","v":"/"},{"$f":"IF(N94<>\"/\",VLOOKUP(N94,COSTS_Air_Defense[#All],3),\"/\")","v":"/"},0,0]
[8,{"$f":"IF(Paramètres!N13=0,\"\",Paramètres!N13)","v":""},0,"/",{"$f":"IF(G$86=\"Error\",\"Error\",IF(AND($E$86<>\"/\",$E$86>'Paramètres - Admin'!$A9),'Paramètres - Admin'!$A10,\"/\"))","v":"/"},{"$f":"IF(E95<>\"/\",VLOOKUP(E95,COSTS_Wall[#All],2),\"/\")","v":"/"},{"$f":"IF(E95<>\"/\",VLOOKUP(E95,COSTS_Wall[#All],3),\"/\")","v":"/"},0,0,8,{"$f":"IF(Paramètres!R13=0,\"\",Paramètres!R13)","v":""},0,"/",{"$f":"IF(P$86=\"Error\",\"Error\",IF(AND($N$86<>\"/\",$N$86>'Paramètres - Admin'!$A9),'Paramètres - Admin'!$A10,\"/\"))","v":"/"},{"$f":"IF(N95<>\"/\",VLOOKUP(N95,COSTS_Air_Defense[#All],2),\"/\")","v":"/"},{"$f":"IF(N95<>\"/\",VLOOKUP(N95,COSTS_Air_Defense[#All],3),\"/\")","v":"/"},0,0]
[9,{"$f":"IF(Paramètres!N14=0,\"\",Paramètres!N14)","v":""},0,"/",{"$f":"IF(G$86=\"Error\",\"Error\",IF(AND($E$86<>\"/\",$E$86>'Paramètres - Admin'!$A10),'Paramètres - Admin'!$A11,\"/\"))","v":"/"},{"$f":"IF(E96<>\"/\",VLOOKUP(E96,COSTS_Wall[#All],2),\"/\")","v":"/"},{"$f":"IF(E96<>\"/\",VLOOKUP(E96,COSTS_Wall[#All],3),\"/\")","v":"/"},0,0,null,null,null,null,null,null,"Total",{"$f":"IF(P$86=\"Error\",\"Error\",SUM(Q88:Q95))","v":0},{"$f":"IF(P$86=\"Error\",\"Error\",SUM(R88:R95))","v":0}]
[10,{"$f":"IF(Paramètres!N15=0,\"\",Paramètres!N15)","v":""},0,"/",{"$f":"IF(G$86=\"Error\",\"Error\",IF(AND($E$86<>\"/\",$E$86>'Paramètres - Admin'!$A11),'Paramètres - Admin'!$A12,\"/\"))","v":"/"},{"$f":"IF(E97<>\"/\",VLOOKUP(E97,COSTS_Wall[#All],2),\"/\")","v":"/"},{"$f":"IF(E97<>\"/\",VLOOKUP(E97,COSTS_Wall[#All],3),\"/\")","v":"/"},0,0,"Tour de Sorciers",null,null,"Max","Max +",null,"Actuel","À Faire","Améliorations"]
[11,{"$f":"IF(Paramètres!N16=0,\"\",Paramètres!N16)","v":""},0,"/",{"$f":"IF(G$86=\"Error\",\"Error\",IF(AND($E$86<>\"/\",$E$86>'Paramètres - Admin'!$A12),'Paramètres - Admin'!$A13,\"/\"))","v":"/"},{"$f":"IF(E98<>\"/\",VLOOKUP(E98,COSTS_Wall[#All],2),\"/\")","v":"/"},{"$f":"IF(E98<>\"/\",VLOOKUP(E98,COSTS_Wall[#All],3),\"/\")","v":"/"},0,0,null,null,null,{"$f":"VLOOKUP($A$2,AVAILABLE_Buildings_Defensive[#All],MATCH(J97,AVAILABLE_Buildings_Defensive[#Headers],0))","v":0},{"$f":"VLOOKUP($A$2,AVAILABLE_Buildings_Defensive[#All],MATCH(J97,AVAILABLE_Buildings_Defensive[#Headers],0)+1)","v":0},null,{"$f":"IF(SUM(K100:K108)>M98,\"Error\",SUM(K100:K108))","v":0},{"$f":"IF(P$98=\"Error\",\"Error\",M98-P98)","v":0},{"$f":"IF(P$98=\"Error\",\"Error\",SUM(M100:M107))","v":0}]
[null,null,null,null,null,null,"Total",{"$f":"IF(G$86=\"Error\",\"Error\",SUM(H88:H98))","v":0},{"$f":"IF(G$86=\"Error\",\"Error\",SUM(I88:I98))","v":0},"+","NB",null,"NB","+","Coût","Temps","Coût Total","Temps Total"]
["Canon",null,null,"Max","Max +",null,"Actuel","À Faire","Améliorations",1,{"$f":"IF(Paramètres!S6=0,\"\",Paramètres!S6)","v":""},{"$f":"IF(L99<>0,L99+IF(AND(K99<>\"\",J99<N$98),K99,0),IF(AND(K99<>\"\",J99<N$98),K99,0))","v":0},{"$f":"IF(N100<>\"/\",IF(P$98=\"Error\",\"Error\",$Q$98+L100),\"/\")","v":"/"},{"$f":"IF(P$98=\"Error\",\"Error\",IF(AND($N$98<>\"/\",$N$98>'Paramètres - Admin'!$A2),'Paramètres - Admin'!$A3,\"/\"))","v":"/"},{"$f":"IF(N100<>\"/\",VLOOKUP(N100,COSTS_Wizard_Tower[#All],2),\"/\")","v":"/"},{"$f":"IF(N100<>\"/\",VLOOKUP(N100,COSTS_Wizard_Tower[#All],3),\"/\")","v":"/"},{"$f":"IF(P$98=\"Error\",\"Error\",IF(O100<>\"/\",M100*O100,0))","v":0},{"$f":"IF(P$98=\"Error\",\"Error\",IF(P100<>\"/\",M100*P100,0))","v":0}]
[null,null,null,{"$f":"VLOOKUP($A$2,AVAILABLE_Buildings_Defensive[#All],MATCH(A100,AVAILABLE_Buildings_Defensive[#Headers],0))","v":2},{"$f":"VLOOKUP($A$2,AVAILABLE_Buildings_Defensive[#All],MATCH(A100,AVAILABLE_Buildings_Defensive[#Headers],0)+1)","v":2},null,{"$f":"IF(SUM(B103:B115)>D101,\"Error\",SUM(B103:B115))","v":0},{"$f":"IF(G$101=\"Error\",\"Error\",D101-G101)","v":2},{"$f":"IF(G$101=\"Error\",\"Error\",SUM(D103:D115))","v":4},2,{"$f":"IF(Paramètres!S7=0,\"\",Paramètres!S7)","v":""},0,"/",{"$f":"IF(P$98=\"Error\",\"Error\",IF(AND($N$98<>\"/\",$N$98>'Paramètres - Admin'!$A3),'Paramètres - Admin'!$A4,\"/\"))","v":"/"},{"$f":"IF(N101<>\"/\",VLOOKUP(N101,COSTS_Wizard_Tower[#All],2),\"/\")","v":"/"},{"$f":"IF(N101<>\"/\",VLOOKUP(N101,COSTS_Wizard_Tower[#All],3),\"/\")","v":"/"},0,0]
["+","NB",null,"NB","+","Coût","Temps","Coût Total","Temps Total",3,{"$f":"IF(Paramètres!S8=0,\"\",Paramètres!S8)","v":""},0,"/",{"$f":"IF(P$98=\"Error\",\"Error\",IF(AND($N$98<>\"/\",$N$98>'Paramètres - Admin'!$A4),'Paramètres - Admin'!$A5,\"/\"))","v":"/"},{"$f":"IF(N102<>\"/\",VLOOKUP(N102,COSTS_Wizard_Tower[#All],2),\"/\")","v":"/"},{"$f":"IF(N102<>\"/\",VLOOKUP(N102,COSTS_Wizard_Tower[#All],3),\"/\")","v":"/"},0,0]
[1,{"$f":"IF(Paramètres!O6=0,\"\",Paramètres!O6)","v":""},{"$f":"IF(C102<>0,C102+IF(AND(B102<>\"\",A102<$E$101),B102,0),IF(AND(B102<>\"\",A102<$E$101),B102,0))","v":0},{"$f":"IF(E103<>\"/\",IF(G$101=\"Error\",\"Error\",$H$101+C103),\"/\")","v":2},{"$f":"IF(G$101=\"Error\",\"Error\",IF(AND($E$101<>\"/\",$E$101>'Paramètres - Admin'!$A2),'Paramètres - Admin'!$A3,\"/\"))","v":1},{"$f":"IF(E103<>\"/\",VLOOKUP(E103,COSTS_Cannon[#All],2),\"/\")","v":250},{"$f":"IF(E103<>\"/\",VLOOKUP(E103,COSTS_Cannon[#All],3),\"/\")","v":1.6666666666666666E-2},{"$f":"IF(G$101=\"Error\",\"Error\",IF(F103<>\"/\",D103*F103,0))","v":500},{"$f":"IF(G$101=\"Error\",\"Error\",IF(G103<>\"/\",D103*G103,0))","v":3.3333333333333333E-2},4,{"$f":"IF(Paramètres!S9=0,\"\",Paramètres!S9)","v":""},0,"/",{"$f":"IF(P$98=\"Error\",\"Error\",IF(AND($N$98<>\"/\",$N$98>'Paramètres - Admin'!$A5),'Paramètres - Admin'!$A6,\"/\"))","v":"/"},{"$f":"IF(N103<>\"/\",VLOOKUP(N103,COSTS_Wizard_Tower[#All],2),\"/\")","v":"/"},{"$f":"IF(N103<>\"/\",VLOOKUP(N103,COSTS_Wizard_Tower[#All],3),\"/\")","v":"/"},0,0]
[2,{"$f":"IF(Paramètres!O7=0,\"\",Paramètres!O7)","v":""},{"$f":"IF(C103<>0,C103+IF(AND(B103<>\"\",A103<$E$101),B103,0),IF(AND(B103<>\"\",A103<$E$101),B103,0))","v":0},2,{"$f":"IF(G$101=\"Error\",\"Error\",IF(AND($E$101<>\"/\",$E$101>'Paramètres - Admin'!$A3),'Paramètres - Admin'!$A4,\"/\"))","v":2},{"$f":"IF(E104<>\"/\",VLOOKUP(E104,COSTS_Cannon[#All],2),\"/\")","v":1000},{"$f":"IF(E104<>\"/\",VLOOKUP(E104,COSTS_Cannon[#All],3),\"/\")","v":0.25},2000,0.5,5,{"$f":"IF(Paramètres!S10=0,\"\",Paramètres!S10)","v":""},0,"/",{"$f":"IF(P$98=\"Error\",\"Error\",IF(AND($N$98<>\"/\",$N$98>'Paramètres - Admin'!$A6),'Paramètres - Admin'!$A7,\"/\"))","v":"/"},{"$f":"IF(N104<>\"/\",VLOOKUP(N104,COSTS_Wizard_Tower[#All],2),\"/\")","v":"/"},{"$f":"IF(N104<>\"/\",VLOOKUP(N104,COSTS_Wizard_Tower[#All],3),\"/\")","v":"/"},0,0]
[3,{"$f":"IF(Paramètres!O8=0,\"\",Paramètres!O8)","v":""},0,"/",{"$f":"IF(G$101=\"Error\",\"Error\",IF(AND($E$101<>\"/\",$E$101>'Paramètres - Admin'!$A4),'Paramètres - Admin'!$A5,\"/\"))","v":"/"},{"$f":"IF(E105<>\"/\",VLOOKUP(E105,COSTS_Cannon[#All],2),\"/\")","v":"/"},{"$f":"IF(E105<>\"/\",VLOOKUP(E105,COSTS_Cannon[#All],3),\"/\")","v":"/"},0,0,6,{"$f":"IF(Paramètres!S11=0,\"\",Paramètres!S11)","v":""},0,"/",{"$f":"IF(P$98=\"Error\",\"Error\",IF(AND($N$98<>\"/\",$N$98>'Paramètres - Admin'!$A7),'Paramètres - Admin'!$A8,\"/\"))","v":"/"},{"$f":"IF(N105<>\"/\",VLOOKUP(N105,COSTS_Wizard_Tower[#All],2),\"/\")","v":"/"},{"$f":"IF(N105<>\"/\",VLOOKUP(N105,COSTS_Wizard_Tower[#All],3),\"/\")","v":"/"},0,0]
[4,{"$f":"IF(Paramètres!O9=0,\"\",Paramètres!O9)","v":""},0,"/",{"$f":"IF(G$101=\"Error\",\"Error\",IF(AND($E$101<>\"/\",$E$101>'Paramètres - Admin'!$A5),'Paramètres - Admin'!$A6,\"/\"))","v":"/"},{"$f":"IF(E106<>\"/\",VLOOKUP(E106,COSTS_Cannon[#All],2),\"/\")","v":"/"},{"$f":"IF(E106<>\"/\",VLOOKUP(E106,COSTS_Cannon[#All],3),\"/\")","v":"/"},0,0,7,{"$f":"IF(Paramètres!S12=0,\"\",Paramètres!S12)","v":""},0,"/",{"$f":"IF(P$98=\"Error\",\"Error\",IF(AND($N$98<>\"/\",$N$98>'Paramètres - Admin'!$A8),'Paramètres - Admin'!$A9,\"/\"))","v":"/"},{"$f":"IF(N106<>\"/\",VLOOKUP(N106,COSTS_Wizard_Tower[#All],2),\"/\")","v":"/"},{"$f":"IF(N106<>\"/\",VLOOKUP(N106,COSTS_Wizard_Tower[#All],3),\"/\")","v":"/"},0,0]
[5,{"$f":"IF(Paramètres!O10=0,\"\",Paramètres!O10)","v":""},0,"/",{"$f":"IF(G$101=\"Error\",\"Error\",IF(AND($E$101<>\"/\",$E$101>'Paramètres - Admin'!$A6),'Paramètres - Admin'!$A7,\"/\"))","v":"/"},{"$f":"IF(E107<>\"/\",VLOOKUP(E107,COSTS_Cannon[#All],2),\"/\")","v":"/"},{"$f":"IF(E107<>\"/\",VLOOKUP(E107,COSTS_Cannon[#All],3),\"/\")","v":"/"},0,0,8,{"$f":"IF(Paramètres!S13=0,\"\",Paramètres!S13)","v":""},0,"/",{"$f":"IF(P$98=\"Error\",\"Error\",IF(AND($N$98<>\"/\",$N$98>'Paramètres - Admin'!$A9),'Paramètres - Admin'!$A10,\"/\"))","v":"/"},{"$f":"IF(N107<>\"/\",VLOOKUP(N107,COSTS_Wizard_Tower[#All],2),\"/\")","v":"/"},{"$f":"IF(N107<>\"/\",VLOOKUP(N107,COSTS_Wizard_Tower[#All],3),\"/\")","v":"/"},0,0]
[6,{"$f":"IF(Paramètres!O11=0,\"\",Paramètres!O11)","v":""},0,"/",{"$f":"IF(G$101=\"Error\",\"Error\",IF(AND($E$101<>\"/\",$E$101>'Paramètres - Admin'!$A7),'Paramètres - Admin'!$A8,\"/\"))","v":"/"},{"$f":"IF(E108<>\"/\",VLOOKUP(E108,COSTS_Cannon[#All],2),\"/\")","v":"/"},{"$f":"IF(E108<>\"/\",VLOOKUP(E108,COSTS_Cannon[#All],3),\"/\")","v":"/"},0,0,9,{"$f":"IF(Paramètres!S14=0,\"\",Paramètres!S14)","v":""},0,"/",{"$f":"IF(P$98=\"Error\",\"Error\",IF(AND($N$98<>\"/\",$N$98>'Paramètres - Admin'!$A10),'Paramètres - Admin'!$A11,\"/\"))","v":"/"},{"$f":"IF(N108<>\"/\",VLOOKUP(N108,COSTS_Wizard_Tower[#All],2),\"/\")","v":"/"},{"$f":"IF(N108<>\"/\",VLOOKUP(N108,COSTS_Wizard_Tower[#All],3),\"/\")","v":"/"},0,0]
[7,{"$f":"IF(Paramètres!O12=0,\"\",Paramètres!O12)","v":""},0,"/",{"$f":"IF(G$101=\"Error\",\"Error\",IF(AND($E$101<>\"/\",$E$101>'Paramètres - Admin'!$A8),'Paramètres - Admin'!$A9,\"/\"))","v":"/"},{"$f":"IF(E109<>\"/\",VLOOKUP(E109,COSTS_Cannon[#All],2),\"/\")","v":"/"},{"$f":"IF(E109<>\"/\",VLOOKUP(E109,COSTS_Cannon[#All],3),\"/\")","v":"/"},0,0,null,null,null,null,null,null,"Total",{"$f":"IF(P$98=\"Error\",\"Error\",SUM(Q100:Q108))","v":0},{"$f":"IF(P$98=\"Error\",\"Error\",SUM(R100:R108))","v":0}]
[8,{"$f":"IF(Paramètres!O13=0,\"\",Paramètres!O13)","v":""},0,"/",{"$f":"IF(G$101=\"Error\",\"Error\",IF(AND($E$101<>\"/\",$E$101>'Paramètres - Admin'!$A9),'Paramètres - Admin'!$A10,\"/\"))","v":"/"},{"$f":"IF(E110<>\"/\",VLOOKUP(E110,COSTS_Cannon[#All],2),\"/\")","v":"/"},{"$f":"IF(E110<>\"/\",VLOOKUP(E110,COSTS_Cannon[#All],3),\"/\")","v":"/"},0,0,"Tesla Camouflée",null,null,"Max","Max +",null,"Actuel","À Faire","Améliorations"]
[9,{"$f":"IF(Paramètres!O14=0,\"\",Paramètres!O14)","v":""},0,"/",{"$f":"IF(G$101=\"Error\",\"Error\",IF(AND($E$101<>\"/\",$E$101>'Paramètres - Admin'!$A10),'Paramètres - Admin'!$A11,\"/\"))","v":"/"},{"$f":"IF(E111<>\"/\",VLOOKUP(E111,COSTS_Cannon[#All],2),\"/\")","v":"/"},{"$f":"IF(E111<>\"/\",VLOOKUP(E111,COSTS_Cannon[#All],3),\"/\")","v":"/"},0,0,null,null,null,{"$f":"VLOOKUP($A$2,AVAILABLE_Buildings_Defensive[#All],MATCH(J110,AVAILABLE_Buildings_Defensive[#Headers],0))","v":0},{"$f":"VLOOKUP($A$2,AVAILABLE_Buildings_Defensive[#All],MATCH(J110,AVAILABLE_Buildings_Defensive[#Headers],0)+1)","v":0},null,{"$f":"IF(SUM(K113:K120)>M111,\"Error\",SUM(K113:K120))","v":0},{"$f":"IF(P$111=\"Error\",\"Error\",M111-P111)","v":0},{"$f":"IF(P$111=\"Error\",\"Error\",SUM(M113:M120))","v":0}]
[10,{"$f":"IF(Paramètres!O15=0,\"\",Paramètres!O15)","v":""},0,"/",{"$f":"IF(G$101=\"Error\",\"Error\",IF(AND($E$101<>\"/\",$E$101>'Paramètres - Admin'!$A11),'Paramètres - Admin'!$A12,\"/\"))","v":"/"},{"$f":"IF(E112<>\"/\",VLOOKUP(E112,COSTS_Cannon[#All],2),\"/\")","v":"/"},{"$f":"IF(E112<>\"/\",VLOOKUP(E112,COSTS_Cannon[#All],3),\"/\")","v":"/"},0,0,"+","NB",null,"NB","+","Coût","Temps","Coût Total","Temps Total"]
[11,{"$f":"IF(Paramètres!O16=0,\"\",Paramètres!O16)","v":""},0,"/",{"$f":"IF(G$101=\"Error\",\"Error\",IF(AND($E$101<>\"/\",$E$101>'Paramètres - Admin'!$A12),'Paramètres - Admin'!$A13,\"/\"))","v":"/"},{"$f":"IF(E113<>\"/\",VLOOKUP(E113,COSTS_Cannon[#All],2),\"/\")","v":"/"},{"$f":"IF(E113<>\"/\",VLOOKUP(E113,COSTS_Cannon[#All],3),\"/\")","v":"/"},0,0,1,{"$f":"IF(Paramètres!U6=0,\"\",Paramètres!U6)","v":""},{"$f":"IF(L112<>0,L112+IF(AND(K112<>\"\",J112<N$111),K112,0),IF(AND(K112<>\"\",J112<N$111),K112,0))","v":0},{"$f":"IF(N113<>\"/\",IF(P$111=\"Error\",\"Error\",$Q$111+L113),\"/\")","v":"/"},{"$f":"IF(P$111=\"Error\",\"Error\",IF(AND($N$111<>\"/\",$N$111>'Paramètres - Admin'!$A2),'Paramètres - Admin'!$A3,\"/\"))","v":"/"},{"$f":"IF(N113<>\"/\",VLOOKUP(N113,COSTS_Hidden_Tesla[#All],2),\"/\")","v":"/"},{"$f":"IF(N113<>\"/\",VLOOKUP(N113,COSTS_Hidden_Tesla[#All],3),\"/\")","v":"/"},{"$f":"IF(P$111=\"Error\",\"Error\",IF(O113<>\"/\",M113*O113,0))","v":0},{"$f":"IF(P$111=\"Error\",\"Error\",IF(P113<>\"/\",M113*P113,0))","v":0}]
[12,{"$f":"IF(Paramètres!O17=0,\"\",Paramètres!O17)","v":""},0,"/",{"$f":"IF(G$101=\"Error\",\"Error\",IF(AND($E$101<>\"/\",$E$101>'Paramètres - Admin'!$A13),'Paramètres - Admin'!$A14,\"/\"))","v":"/"},{"$f":"IF(E114<>\"/\",VLOOKUP(E114,COSTS_Cannon[#All],2),\"/\")","v":"/"},{"$f":"IF(E114<>\"/\",VLOOKUP(E114,COSTS_Cannon[#All],3),\"/\")","v":"/"},0,0,2,{"$f":"IF(Paramètres!U7=0,\"\",Paramètres!U7)","v":""},0,"/",{"$f":"IF(P$111=\"Error\",\"Error\",IF(AND($N$111<>\"/\",$N$111>'Paramètres - Admin'!$A3),'Paramètres - Admin'!$A4,\"/\"))","v":"/"},{"$f":"IF(N114<>\"/\",VLOOKUP(N114,COSTS_Hidden_Tesla[#All],2),\"/\")","v":"/"},{"$f":"IF(N114<>\"/\",VLOOKUP(N114,COSTS_Hidden_Tesla[#All],3),\"/\")","v":"/"},0,0]
[13,{"$f":"IF(Paramètres!O18=0,\"\",Paramètres!O18)","v":""},0,"/",{"$f":"IF(G$101=\"Error\",\"Error\",IF(AND($E$101<>\"/\",$E$101>'Paramètres - Admin'!$A14),'Paramètres - Admin'!$A15,\"/\"))","v":"/"},{"$f":"IF(E115<>\"/\",VLOOKUP(E115,COSTS_Cannon[#All],2),\"/\")","v":"/"},{"$f":"IF(E115<>\"/\",VLOOKUP(E115,COSTS_Cannon[#All],3),\"/\")","v":"/"},0,0,3,{"$f":"IF(Paramètres!U8=0,\"\",Paramètres!U8)","v":""},0,"/",{"$f":"IF(P$111=\"Error\",\"Error\",IF(AND($N$111<>\"/\",$N$111>'Paramètres - Admin'!$A4),'Paramètres - Admin'!$A5,\"/\"))","v":"/"},{"$f":"IF(N115<>\"/\",VLOOKUP(N115,COSTS_Hidden_Tesla[#All],2),\"/\")","v":"/"},{"$f":"IF(N115<>\"/\",VLOOKUP(N115,COSTS_Hidden_Tesla[#All],3),\"/\")","v":"/"},0,0]
[null,null,null,null,null,null,"Total",{"$f":"IF(G$101=\"Error\",\"Error\",SUM(H103:H115))","v":2500},{"$f":"IF(G$101=\"Error\",\"Error\",SUM(I103:I115))","v":0.53333333333333333},4,{"$f":"IF(Paramètres!U9=0,\"\",Paramètres!U9)","v":""},0,"/",{"$f":"IF(P$111=\"Error\",\"Error\",IF(AND($N$111<>\"/\",$N$111>'Paramètres - Admin'!$A5),'Paramètres - Admin'!$A6,\"/\"))","v":"/"},{"$f":"IF(N116<>\"/\",VLOOKUP(N116,COSTS_Hidden_Tesla[#All],2),\"/\")","v":"/"},{"$f":"IF(N116<>\"/\",VLOOKUP(N116,COSTS_Hidden_Tesla[#All],3),\"/\")","v":"/"},0,0]
["Tour d'Archers",null,null,"Max","Max +",null,"Actuel","À Faire","Améliorations",5,{"$f":"IF(Paramètres!U10=0,\"\",Paramètres!U10)","v":""},0,"/",{"$f":"IF(P$111=\"Error\",\"Error\",IF(AND($N$111<>\"/\",$N$111>'Paramètres - Admin'!$A6),'Paramètres - Admin'!$A7,\"/\"))","v":"/"},{"$f":"IF(N117<>\"/\",VLOOKUP(N117,COSTS_Hidden_Tesla[#All],2),\"/\")","v":"/"},{"$f":"IF(N117<>\"/\",VLOOKUP(N117,COSTS_Hidden_Tesla[#All],3),\"/\")","v":"/"},0,0]
[null,null,null,{"$f":"VLOOKUP($A$2,AVAILABLE_Buildings_Defensive[#All],MATCH(A117,AVAILABLE_Buildings_Defensive[#Headers],0))","v":0},{"$f":"VLOOKUP($A$2,AVAILABLE_Buildings_Defensive[#All],MATCH(A117,AVAILABLE_Buildings_Defensive[#Headers],0)+1)","v":0},null,{"$f":"IF(SUM(B120:B132)>D118,\"Error\",SUM(B120:B132))","v":0},{"$f":"IF(G$118=\"Error\",\"Error\",D118-G118)","v":0},{"$f":"IF(G$118=\"Error\",\"Error\",SUM(D120:D132))","v":0},6,{"$f":"IF(Paramètres!U11=0,\"\",Paramètres!U11)","v":""},0,"/",{"$f":"IF(P$111=\"Error\",\"Error\",IF(AND($N$111<>\"/\",$N$111>'Paramètres - Admin'!$A7),'Paramètres - Admin'!$A8,\"/\"))","v":"/"},{"$f":"IF(N118<>\"/\",VLOOKUP(N118,COSTS_Hidden_Tesla[#All],2),\"/\")","v":"/"},{"$f":"IF(N118<>\"/\",VLOOKUP(N118,COSTS_Hidden_Tesla[#All],3),\"/\")","v":"/"},0,0]
["+","NB",null,"NB","+","Coût","Temps","Coût Total","Temps Total",7,{"$f":"IF(Paramètres!U12=0,\"\",Paramètres!U12)","v":""},0,"/",{"$f":"IF(P$111=\"Error\",\"Error\",IF(AND($N$111<>\"/\",$N$111>'Paramètres - Admin'!$A8),'Paramètres - Admin'!$A9,\"/\"))","v":"/"},{"$f":"IF(N119<>\"/\",VLOOKUP(N119,COSTS_Hidden_Tesla[#All],2),\"/\")","v":"/"},{"$f":"IF(N119<>\"/\",VLOOKUP(N119,COSTS_Hidden_Tesla[#All],3),\"/\")","v":"/"},0,0]
[1,{"$f":"IF(Paramètres!P6=0,\"\",Paramètres!P6)","v":""},{"$f":"IF(C119<>0,C119+IF(AND(B119<>\"\",A119<$E$118),B119,0),IF(AND(B119<>\"\",A119<$E$118),B119,0))","v":0},{"$f":"IF(E120<>\"/\",IF(G$118=\"Error\",\"Error\",$H$118+C120),\"/\")","v":"/"},{"$f":"IF(G$118=\"Error\",\"Error\",IF(AND($E$118<>\"/\",$E$118>'Paramètres - Admin'!$A2),'Paramètres - Admin'!$A3,\"/\"))","v":"/"},{"$f":"IF(E120<>\"/\",VLOOKUP(E120,COSTS_Archer_Tower[#All],2),\"/\")","v":"/"},{"$f":"IF(E120<>\"/\",VLOOKUP(E120,COSTS_Archer_Tower[#All],3),\"/\")","v":"/"},{"$f":"IF(G$118=\"Error\",\"Error\",IF(F120<>\"/\",D120*F120,0))","v":0},{"$f":"IF(G$118=\"Error\",\"Error\",IF(G120<>\"/\",D120*G120,0))","v":0},8,{"$f":"IF(Paramètres!U13=0,\"\",Paramètres!U13)","v":""},0,"/",{"$f":"IF(P$111=\"Error\",\"Error\",IF(AND($N$111<>\"/\",$N$111>'Paramètres - Admin'!$A9),'Paramètres - Admin'!$A10,\"/\"))","v":"/"},{"$f":"IF(N120<>\"/\",VLOOKUP(N120,COSTS_Hidden_Tesla[#All],2),\"/\")","v":"/"},{"$f":"IF(N120<>\"/\",VLOOKUP(N120,COSTS_Hidden_Tesla[#All],3),\"/\")","v":"/"},0,0]
[2,{"$f":"IF(Paramètres!P7=0,\"\",Paramètres!P7)","v":""},0,"/",{"$f":"IF(G$118=\"Error\",\"Error\",IF(AND($E$118<>\"/\",$E$118>'Paramètres - Admin'!$A3),'Paramètres - Admin'!$A4,\"/\"))","v":"/"},{"$f":"IF(E121<>\"/\",VLOOKUP(E121,COSTS_Archer_Tower[#All],2),\"/\")","v":"/"},{"$f":"IF(E121<>\"/\",VLOOKUP(E121,COSTS_Archer_Tower[#All],3),\"/\")","v":"/"},0,0,null,null,null,null,null,null,"Total",{"$f":"IF(P$111=\"Error\",\"Error\",SUM(Q113:Q120))","v":0},{"$f":"IF(P$111=\"Error\",\"Error\",SUM(R113:R120))","v":0}]
[3,{"$f":"IF(Paramètres!P8=0,\"\",Paramètres!P8)","v":""},0,"/",{"$f":"IF(G$118=\"Error\",\"Error\",IF(AND($E$118<>\"/\",$E$118>'Paramètres - Admin'!$A4),'Paramètres - Admin'!$A5,\"/\"))","v":"/"},{"$f":"IF(E122<>\"/\",VLOOKUP(E122,COSTS_Archer_Tower[#All],2),\"/\")","v":"/"},{"$f":"IF(E122<>\"/\",VLOOKUP(E122,COSTS_Archer_Tower[#All],3),\"/\")","v":"/"},0,0,"Arc-X",null,null,"Max","Max +",null,"Actuel","À Faire","Améliorations"]
[4,{"$f":"IF(Paramètres!P9=0,\"\",Paramètres!P9)","v":""},0,"/",{"$f":"IF(G$118=\"Error\",\"Error\",IF(AND($E$118<>\"/\",$E$118>'Paramètres - Admin'!$A5),'Paramètres - Admin'!$A6,\"/\"))","v":"/"},{"$f":"IF(E123<>\"/\",VLOOKUP(E123,COSTS_Archer_Tower[#All],2),\"/\")","v":"/"},{"$f":"IF(E123<>\"/\",VLOOKUP(E123,COSTS_Archer_Tower[#All],3),\"/\")","v":"/"},0,0,null,null,null,{"$f":"VLOOKUP($A$2,AVAILABLE_Buildings_Defensive[#All],MATCH(J122,AVAILABLE_Buildings_Defensive[#Headers],0))","v":0},{"$f":"VLOOKUP($A$2,AVAILABLE_Buildings_Defensive[#All],MATCH(J122,AVAILABLE_Buildings_Defensive[#Headers],0)+1)","v":0},null,{"$f":"IF(SUM(K125:K128)>M123,\"Error\",SUM(K125:K128))","v":0},{"$f":"IF(P$123=\"Error\",\"Error\",M123-P123)","v":0},{"$f":"IF(P$123=\"Error\",\"Error\",SUM(M125:M128))","v":0}]
[5,{"$f":"IF(Paramètres!P10=0,\"\",Paramètres!P10)","v":""},0,"/",{"$f":"IF(G$118=\"Error\",\"Error\",IF(AND($E$118<>\"/\",$E$118>'Paramètres - Admin'!$A6),'Paramètres - Admin'!$A7,\"/\"))","v":"/"},{"$f":"IF(E124<>\"/\",VLOOKUP(E124,COSTS_Archer_Tower[#All],2),\"/\")","v":"/"},{"$f":"IF(E124<>\"/\",VLOOKUP(E124,COSTS_Archer_Tower[#All],3),\"/\")","v":"/"},0,0,"+","NB",null,"NB","+","Coût","Temps","Coût Total","Temps Total"]
[6,{"$f":"IF(Paramètres!P11=0,\"\",Paramètres!P11)","v":""},0,"/",{"$f":"IF(G$118=\"Error\",\"Error\",IF(AND($E$118<>\"/\",$E$118>'Paramètres - Admin'!$A7),'Paramètres - Admin'!$A8,\"/\"))","v":"/"},{"$f":"IF(E125<>\"/\",VLOOKUP(E125,COSTS_Archer_Tower[#All],2),\"/\")","v":"/"},{"$f":"IF(E125<>\"/\",VLOOKUP(E125,COSTS_Archer_Tower[#All],3),\"/\")","v":"/"},0,0,1,{"$f":"IF(Paramètres!V6=0,\"\",Paramètres!V6)","v":""},{"$f":"IF(L124<>0,L124+IF(AND(K124<>\"\",J124<N$123),K124,0),IF(AND(K124<>\"\",J124<N$123),K124,0))","v":0},{"$f":"IF(N125<>\"/\",IF(P$123=\"Error\",\"Error\",$Q$123+L125),\"/\")","v":"/"},{"$f":"IF(P$123=\"Error\",\"Error\",IF(AND($N$123<>\"/\",$N$123>'Paramètres - Admin'!$A2),'Paramètres - Admin'!$A3,\"/\"))","v":"/"},{"$f":"IF(N125<>\"/\",VLOOKUP(N125,COSTS_XBow[#All],2),\"/\")","v":"/"},{"$f":"IF(N125<>\"/\",VLOOKUP(N125,COSTS_XBow[#All],3),\"/\")","v":"/"},{"$f":"IF(P$123=\"Error\",\"Error\",IF(O125<>\"/\",M125*O125,0))","v":0},{"$f":"IF(P$123=\"Error\",\"Error\",IF(P125<>\"/\",M125*P125,0))","v":0}]
[7,{"$f":"IF(Paramètres!P12=0,\"\",Paramètres!P12)","v":""},0,"/",{"$f":"IF(G$118=\"Error\",\"Error\",IF(AND($E$118<>\"/\",$E$118>'Paramètres - Admin'!$A8),'Paramètres - Admin'!$A9,\"/\"))","v":"/"},{"$f":"IF(E126<>\"/\",VLOOKUP(E126,COSTS_Archer_Tower[#All],2),\"/\")","v":"/"},{"$f":"IF(E126<>\"/\",VLOOKUP(E126,COSTS_Archer_Tower[#All],3),\"/\")","v":"/"},0,0,2,{"$f":"IF(Paramètres!V7=0,\"\",Paramètres!V7)","v":""},{"$f":"IF(L125<>0,L125+IF(AND(K125<>\"\",J125<N$123),K125,0),IF(AND(K125<>\"\",J125<N$123),K125,0))","v":0},{"$f":"IF(N126<>\"/\",IF(P$123=\"Error\",\"Error\",$Q$123+L126),\"/\")","v":"/"},{"$f":"IF(P$123=\"Error\",\"Error\",IF(AND($N$123<>\"/\",$N$123>'Paramètres - Admin'!$A3),'Paramètres - Admin'!$A4,\"/\"))","v":"/"},{"$f":"IF(N126<>\"/\",VLOOKUP(N126,COSTS_XBow[#All],2),\"/\")","v":"/"},{"$f":"IF(N126<>\"/\",VLOOKUP(N126,COSTS_XBow[#All],3),\"/\")","v":"/"},{"$f":"IF(P$123=\"Error\",\"Error\",IF(O126<>\"/\",M126*O126,0))","v":0},{"$f":"IF(P$123=\"Error\",\"Error\",IF(P126<>\"/\",M126*P126,0))","v":0}]
[8,{"$f":"IF(Paramètres!P13=0,\"\",Paramètres!P13)","v":""},0,"/",{"$f":"IF(G$118=\"Error\",\"Error\",IF(AND($E$118<>\"/\",$E$118>'Paramètres - Admin'!$A9),'Paramètres - Admin'!$A10,\"/\"))","v":"/"},{"$f":"IF(E127<>\"/\",VLOOKUP(E127,COSTS_Archer_Tower[#All],2),\"/\")","v":"/"},{"$f":"IF(E127<>\"/\",VLOOKUP(E127,COSTS_Archer_Tower[#All],3),\"/\")","v":"/"},0,0,3,{"$f":"IF(Paramètres!V8=0,\"\",Paramètres!V8)","v":""},{"$f":"IF(L126<>0,L126+IF(AND(K126<>\"\",J126<N$123),K126,0),IF(AND(K126<>\"\",J126<N$123),K126,0))","v":0},{"$f":"IF(N127<>\"/\",IF(P$123=\"Error\",\"Error\",$Q$123+L127),\"/\")","v":"/"},{"$f":"IF(P$123=\"Error\",\"Error\",IF(AND($N$123<>\"/\",$N$123>'Paramètres - Admin'!$A4),'Paramètres - Admin'!$A5,\"/\"))","v":"/"},{"$f":"IF(N127<>\"/\",VLOOKUP(N127,COSTS_XBow[#All],2),\"/\")","v":"/"},{"$f":"IF(N127<>\"/\",VLOOKUP(N127,COSTS_XBow[#All],3),\"/\")","v":"/"},{"$f":"IF(P$123=\"Error\",\"Error\",IF(O127<>\"/\",M127*O127,0))","v":0},{"$f":"IF(P$123=\"Error\",\"Error\",IF(P127<>\"/\",M127*P127,0))","v":0}]
[9,{"$f":"IF(Paramètres!P14=0,\"\",Paramètres!P14)","v":""},0,"/",{"$f":"IF(G$118=\"Error\",\"Error\",IF(AND($E$118<>\"/\",$E$118>'Paramètres - Admin'!$A10),'Paramètres - Admin'!$A11,\"/\"))","v":"/"},{"$f":"IF(E128<>\"/\",VLOOKUP(E128,COSTS_Archer_Tower[#All],2),\"/\")","v":"/"},{"$f":"IF(E128<>\"/\",VLOOKUP(E128,COSTS_Archer_Tower[#All],3),\"/\")","v":"/"},0,0,4,{"$f":"IF(Paramètres!V9=0,\"\",Paramètres!V9)","v":""},{"$f":"IF(L127<>0,L127+IF(AND(K127<>\"\",J127<N$123),K127,0),IF(AND(K127<>\"\",J127<N$123),K127,0))","v":0},{"$f":"IF(N128<>\"/\",IF(P$123=\"Error\",\"Error\",$Q$123+L128),\"/\")","v":"/"},{"$f":"IF(P$123=\"Error\",\"Error\",IF(AND($N$123<>\"/\",$N$123>'Paramètres - Admin'!$A5),'Paramètres - Admin'!$A6,\"/\"))","v":"/"},{"$f":"IF(N128<>\"/\",VLOOKUP(N128,COSTS_XBow[#All],2),\"/\")","v":"/"},{"$f":"IF(N128<>\"/\",VLOOKUP(N128,COSTS_XBow[#All],3),\"/\")","v":"/"},{"$f":"IF(P$123=\"Error\",\"Error\",IF(O128<>\"/\",M128*O128,0))","v":0},{"$f":"IF(P$123=\"Error\",\"Error\",IF(P128<>\"/\",M128*P128,0))","v":0}]
[10,{"$f":"IF(Paramètres!P15=0,\"\",Paramètres!P15)","v":""},0,"/",{"$f":"IF(G$118=\"Error\",\"Error\",IF(AND($E$118<>\"/\",$E$118>'Paramètres - Admin'!$A11),'Paramètres - Admin'!$A12,\"/\"))","v":"/"},{"$f":"IF(E129<>\"/\",VLOOKUP(E129,COSTS_Archer_Tower[#All],2),\"/\")","v":"/"},{"$f":"IF(E129<>\"/\",VLOOKUP(E129,COSTS_Archer_Tower[#All],3),\"/\")","v":"/"},0,0,null,null,null,null,null,null,"Total",{"$f":"IF(P$123=\"Error\",\"Error\",SUM(Q125:Q128))","v":0},{"$f":"IF(P$123=\"Error\",\"Error\",SUM(R125:R128))","v":0}]
[11,{"$f":"IF(Paramètres!P16=0,\"\",Paramètres!P16)","v":""},0,"/",{"$f":"IF(G$118=\"Error\",\"Error\",IF(AND($E$118<>\"/\",$E$118>'Paramètres - Admin'!$A12),'Paramètres - Admin'!$A13,\"/\"))","v":"/"},{"$f":"IF(E130<>\"/\",VLOOKUP(E130,COSTS_Archer_Tower[#All],2),\"/\")","v":"/"},{"$f":"IF(E130<>\"/\",VLOOKUP(E130,COSTS_Archer_Tower[#All],3),\"/\")","v":"/"},0,0,"Tour de l'Enfer",null,null,"Max","Max +",null,"Actuel","À Faire","Améliorations"]
[12,{"$f":"IF(Paramètres!P17=0,\"\",Paramètres!P17)","v":""},0,"/",{"$f":"IF(G$118=\"Error\",\"Error\",IF(AND($E$118<>\"/\",$E$118>'Paramètres - Admin'!$A13),'Paramètres - Admin'!$A14,\"/\"))","v":"/"},{"$f":"IF(E131<>\"/\",VLOOKUP(E131,COSTS_Archer_Tower[#All],2),\"/\")","v":"/"},{"$f":"IF(E131<>\"/\",VLOOKUP(E131,COSTS_Archer_Tower[#All],3),\"/\")","v":"/"},0,0,null,null,null,{"$f":"VLOOKUP($A$2,AVAILABLE_Buildings_Defensive[#All],MATCH(J130,AVAILABLE_Buildings_Defensive[#Headers],0))","v":0},{"$f":"VLOOKUP($A$2,AVAILABLE_Buildings_Defensive[#All],MATCH(J130,AVAILABLE_Buildings_Defensive[#Headers],0)+1)","v":0},null,{"$f":"IF(SUM(K133:K135)>M131,\"Error\",SUM(K133:K135))","v":0},{"$f":"IF(P$131=\"Error\",\"Error\",M131-P131)","v":0},{"$f":"IF(P$131=\"Error\",\"Error\",SUM(M133:M135))","v":0}]
[13,{"$f":"IF(Paramètres!P18=0,\"\",Paramètres!P18)","v":""},0,"/",{"$f":"IF(G$118=\"Error\",\"Error\",IF(AND($E$118<>\"/\",$E$118>'Paramètres - Admin'!$A14),'Paramètres - Admin'!$A15,\"/\"))","v":"/"},{"$f":"IF(E132<>\"/\",VLOOKUP(E132,COSTS_Archer_Tower[#All],2),\"/\")","v":"/"},{"$f":"IF(E132<>\"/\",VLOOKUP(E132,COSTS_Archer_Tower[#All],3),\"/\")","v":"/"},0,0,"+","NB",null,"NB","+","Coût","Temps","Coût Total","Temps Total"]
[null,null,null,null,null,null,"Total",{"$f":"IF(G$118=\"Error\",\"Error\",SUM(H120:H132))","v":0},{"$f":"IF(G$118=\"Error\",\"Error\",SUM(I120:I132))","v":0},1,{"$f":"IF(Paramètres!W6=0,\"\",Paramètres!X6)","v":""},{"$f":"IF(L132<>0,L132+IF(AND(K132<>\"\",J132<N$131),K132,0),IF(AND(K132<>\"\",J132<N$131),K132,0))","v":0},{"$f":"IF(N133<>\"/\",IF(P$131=\"Error\",\"Error\",$Q$131+L133),\"/\")","v":"/"},{"$f":"IF(P$131=\"Error\",\"Error\",IF(AND($N$131<>\"/\",$N$131>'Paramètres - Admin'!$A2),'Paramètres - Admin'!$A3,\"/\"))","v":"/"},{"$f":"IF(N133<>\"/\",VLOOKUP(N133,COSTS_Inferno_Tower[#All],2),\"/\")","v":"/"},{"$f":"IF(N133<>\"/\",VLOOKUP(N133,COSTS_Inferno_Tower[#All],3),\"/\")","v":"/"},{"$f":"IF(P$131=\"Error\",\"Error\",IF(O133<>\"/\",M133*O133,0))","v":0},{"$f":"IF(P$131=\"Error\",\"Error\",IF(P133<>\"/\",M133*P133,0))","v":0}]
["Mortier",null,null,"Max","Max +",null,"Actuel","À Faire","Améliorations",2,{"$f":"IF(Paramètres!W7=0,\"\",Paramètres!X7)","v":""},{"$f":"IF(L133<>0,L133+IF(AND(K133<>\"\",J133<N$131),K133,0),IF(AND(K133<>\"\",J133<N$131),K133,0))","v":0},{"$f":"IF(N134<>\"/\",IF(P$131=\"Error\",\"Error\",$Q$131+L134),\"/\")","v":"/"},{"$f":"IF(P$131=\"Error\",\"Error\",IF(AND($N$131<>\"/\",$N$131>'Paramètres - Admin'!$A3),'Paramètres - Admin'!$A4,\"/\"))","v":"/"},{"$f":"IF(N134<>\"/\",VLOOKUP(N134,COSTS_Inferno_Tower[#All],2),\"/\")","v":"/"},{"$f":"IF(N134<>\"/\",VLOOKUP(N134,COSTS_Inferno_Tower[#All],3),\"/\")","v":"/"},{"$f":"IF(P$131=\"Error\",\"Error\",IF(O134<>\"/\",M134*O134,0))","v":0},{"$f":"IF(P$131=\"Error\",\"Error\",IF(P134<>\"/\",M134*P134,0))","v":0}]
[null,null,null,{"$f":"VLOOKUP($A$2,AVAILABLE_Buildings_Defensive[#All],MATCH(A134,AVAILABLE_Buildings_Defensive[#Headers],0))","v":0},{"$f":"VLOOKUP($A$2,AVAILABLE_Buildings_Defensive[#All],MATCH(A134,AVAILABLE_Buildings_Defensive[#Headers],0)+1)","v":0},null,{"$f":"IF(SUM(B137:B144)>D135,\"Error\",SUM(B137:B144))","v":0},{"$f":"IF(G$135=\"Error\",\"Error\",D135-G135)","v":0},{"$f":"IF(G$135=\"Error\",\"Error\",SUM(D137:D144))","v":0},3,{"$f":"IF(Paramètres!W8=0,\"\",Paramètres!X8)","v":""},{"$f":"IF(L134<>0,L134+IF(AND(K134<>\"\",J134<N$131),K134,0),IF(AND(K134<>\"\",J134<N$131),K134,0))","v":0},{"$f":"IF(N135<>\"/\",IF(P$131=\"Error\",\"Error\",$Q$131+L135),\"/\")","v":"/"},{"$f":"IF(P$131=\"Error\",\"Error\",IF(AND($N$131<>\"/\",$N$131>'Paramètres - Admin'!$A4),'Paramètres - Admin'!$A5,\"/\"))","v":"/"},{"$f":"IF(N135<>\"/\",VLOOKUP(N135,COSTS_Inferno_Tower[#All],2),\"/\")","v":"/"},{"$f":"IF(N135<>\"/\",VLOOKUP(N135,COSTS_Inferno_Tower[#All],3),\"/\")","v":"/"},{"$f":"IF(P$131=\"Error\",\"Error\",IF(O135<>\"/\",M135*O135,0))","v":0},{"$f":"IF(P$131=\"Error\",\"Error\",IF(P135<>\"/\",M135*P135,0))","v":0}]
["+","NB",null,"NB","+","Coût","Temps","Coût Total","Temps Total",null,null,null,null,null,null,"Total",{"$f":"IF(P$131=\"Error\",\"Error\",SUM(Q133:Q135))","v":0},{"$f":"IF(P$131=\"Error\",\"Error\",SUM(R133:R135))","v":0}]
[1,{"$f":"IF(Paramètres!Q6=0,\"\",Paramètres!Q6)","v":""},{"$f":"IF(C136<>0,C136+IF(AND(B136<>\"\",A136<E$135),B136,0),IF(AND(B136<>\"\",A136<E$135),B136,0))","v":0},{"$f":"IF(E137<>\"/\",IF(G$135=\"Error\",\"Error\",$H$135+C137),\"/\")","v":"/"},{"$f":"IF(G$135=\"Error\",\"Error\",IF(AND($E$135<>\"/\",$E$135>'Paramètres - Admin'!$A2),'Paramètres - Admin'!$A3,\"/\"))","v":"/"},{"$f":"IF(E137<>\"/\",VLOOKUP(E137,COSTS_Mortar[#All],2),\"/\")","v":"/"},{"$f":"IF(E137<>\"/\",VLOOKUP(E137,COSTS_Mortar[#All],3),\"/\")","v":"/"},{"$f":"IF(G$135=\"Error\",\"Error\",IF(F137<>\"/\",D137*F137,0))","v":0},{"$f":"IF(G$135=\"Error\",\"Error\",IF(G137<>\"/\",D137*G137,0))","v":0},"Propulseur d'air",null,null,"Max","Max +",null,"Actuel","À Faire","Améliorations"]
[2,{"$f":"IF(Paramètres!Q7=0,\"\",Paramètres!Q7)","v":""},{"$f":"IF(C137<>0,C137+IF(AND(B137<>\"\",A137<E$135),B137,0),IF(AND(B137<>\"\",A137<E$135),B137,0))","v":0},"/",{"$f":"IF(G$135=\"Error\",\"Error\",IF(AND($E$135<>\"/\",$E$135>'Paramètres - Admin'!$A3),'Paramètres - Admin'!$A4,\"/\"))","v":"/"},{"$f":"IF(E138<>\"/\",VLOOKUP(E138,COSTS_Mortar[#All],2),\"/\")","v":"/"},{"$f":"IF(E138<>\"/\",VLOOKUP(E138,COSTS_Mortar[#All],3),\"/\")","v":"/"},0,0,null,null,null,{"$f":"VLOOKUP($A$2,AVAILABLE_Buildings_Defensive[#All],MATCH(J137,AVAILABLE_Buildings_Defensive[#Headers],0))","v":0},{"$f":"VLOOKUP($A$2,AVAILABLE_Buildings_Defensive[#All],MATCH(J137,AVAILABLE_Buildings_Defensive[#Headers],0)+1)","v":0},null,{"$f":"IF(SUM(K140:K145)>M138,\"Error\",SUM(K140:K145))","v":0},{"$f":"IF(P$138=\"Error\",\"Error\",M138-P138)","v":0},{"$f":"IF(P$138=\"Error\",\"Error\",SUM(M140:M145))","v":0}]
[3,{"$f":"IF(Paramètres!Q8=0,\"\",Paramètres!Q8)","v":""},0,"/",{"$f":"IF(G$135=\"Error\",\"Error\",IF(AND($E$135<>\"/\",$E$135>'Paramètres - Admin'!$A4),'Paramètres - Admin'!$A5,\"/\"))","v":"/"},{"$f":"IF(E139<>\"/\",VLOOKUP(E139,COSTS_Mortar[#All],2),\"/\")","v":"/"},{"$f":"IF(E139<>\"/\",VLOOKUP(E139,COSTS_Mortar[#All],3),\"/\")","v":"/"},0,0,"+","NB",null,"NB","+","Coût","Temps","Coût Total","Temps Total"]
[4,{"$f":"IF(Paramètres!Q9=0,\"\",Paramètres!Q9)","v":""},0,"/",{"$f":"IF(G$135=\"Error\",\"Error\",IF(AND($E$135<>\"/\",$E$135>'Paramètres - Admin'!$A5),'Paramètres - Admin'!$A6,\"/\"))","v":"/"},{"$f":"IF(E140<>\"/\",VLOOKUP(E140,COSTS_Mortar[#All],2),\"/\")","v":"/"},{"$f":"IF(E140<>\"/\",VLOOKUP(E140,COSTS_Mortar[#All],3),\"/\")","v":"/"},0,0,1,{"$f":"IF(Paramètres!T6=0,\"\",Paramètres!T6)","v":""},{"$f":"IF(L139<>0,L139+IF(AND(K139<>\"\",J139<N$138),K139,0),IF(AND(K139<>\"\",J139<N$138),K139,0))","v":0},{"$f":"IF(N140<>\"/\",IF(P$138=\"Error\",\"Error\",$Q$138+L140),\"/\")","v":"/"},{"$f":"IF(P$138=\"Error\",\"Error\",IF(AND($N$138<>\"/\",$N$138>'Paramètres - Admin'!$A2),'Paramètres - Admin'!$A3,\"/\"))","v":"/"},{"$f":"IF(N140<>\"/\",VLOOKUP(N140,COSTS_Air_Sweeper[#All],2),\"/\")","v":"/"},{"$f":"IF(N140<>\"/\",VLOOKUP(N140,COSTS_Air_Sweeper[#All],3),\"/\")","v":"/"},{"$f":"IF(P$138=\"Error\",\"Error\",IF(O140<>\"/\",M140*O140,0))","v":0},{"$f":"IF(P$138=\"Error\",\"Error\",IF(P140<>\"/\",M140*P140,0))","v":0}]
[5,{"$f":"IF(Paramètres!Q10=0,\"\",Paramètres!Q10)","v":""},0,"/",{"$f":"IF(G$135=\"Error\",\"Error\",IF(AND($E$135<>\"/\",$E$135>'Paramètres - Admin'!$A6),'Paramètres - Admin'!$A7,\"/\"))","v":"/"},{"$f":"IF(E141<>\"/\",VLOOKUP(E141,COSTS_Mortar[#All],2),\"/\")","v":"/"},{"$f":"IF(E141<>\"/\",VLOOKUP(E141,COSTS_Mortar[#All],3),\"/\")","v":"/"},0,0,2,{"$f":"IF(Paramètres!T7=0,\"\",Paramètres!T7)","v":""},0,"/",{"$f":"IF(P$138=\"Error\",\"Error\",IF(AND($N$138<>\"/\",$N$138>'Paramètres - Admin'!$A3),'Paramètres - Admin'!$A4,\"/\"))","v":"/"},{"$f":"IF(N141<>\"/\",VLOOKUP(N141,COSTS_Air_Sweeper[#All],2),\"/\")","v":"/"},{"$f":"IF(N141<>\"/\",VLOOKUP(N141,COSTS_Air_Sweeper[#All],3),\"/\")","v":"/"},0,0]
[6,{"$f":"IF(Paramètres!Q11=0,\"\",Paramètres!Q11)","v":""},0,"/",{"$f":"IF(G$135=\"Error\",\"Error\",IF(AND($E$135<>\"/\",$E$135>'Paramètres - Admin'!$A7),'Paramètres - Admin'!$A8,\"/\"))","v":"/"},{"$f":"IF(E142<>\"/\",VLOOKUP(E142,COSTS_Mortar[#All],2),\"/\")","v":"/"},{"$f":"IF(E142<>\"/\",VLOOKUP(E142,COSTS_Mortar[#All],3),\"/\")","v":"/"},0,0,3,{"$f":"IF(Paramètres!T8=0,\"\",Paramètres!T8)","v":""},0,"/",{"$f":"IF(P$138=\"Error\",\"Error\",IF(AND($N$138<>\"/\",$N$138>'Paramètres - Admin'!$A4),'Paramètres - Admin'!$A5,\"/\"))","v":"/"},{"$f":"IF(N142<>\"/\",VLOOKUP(N142,COSTS_Air_Sweeper[#All],2),\"/\")","v":"/"},{"$f":"IF(N142<>\"/\",VLOOKUP(N142,COSTS_Air_Sweeper[#All],3),\"/\")","v":"/"},0,0]
[7,{"$f":"IF(Paramètres!Q12=0,\"\",Paramètres!Q12)","v":""},0,"/",{"$f":"IF(G$135=\"Error\",\"Error\",IF(AND($E$135<>\"/\",$E$135>'Paramètres - Admin'!$A8),'Paramètres - Admin'!$A9,\"/\"))","v":"/"},{"$f":"IF(E143<>\"/\",VLOOKUP(E143,COSTS_Mortar[#All],2),\"/\")","v":"/"},{"$f":"IF(E143<>\"/\",VLOOKUP(E143,COSTS_Mortar[#All],3),\"/\")","v":"/"},0,0,4,{"$f":"IF(Paramètres!T9=0,\"\",Paramètres!T9)","v":""},0,"/",{"$f":"IF(P$138=\"Error\",\"Error\",IF(AND($N$138<>\"/\",$N$138>'Paramètres - Admin'!$A5),'Paramètres - Admin'!$A6,\"/\"))","v":"/"},{"$f":"IF(N143<>\"/\",VLOOKUP(N143,COSTS_Air_Sweeper[#All],2),\"/\")","v":"/"},{"$f":"IF(N143<>\"/\",VLOOKUP(N143,COSTS_Air_Sweeper[#All],3),\"/\")","v":"/"},0,0]
[8,{"$f":"IF(Paramètres!Q13=0,\"\",Paramètres!Q13)","v":""},0,"/",{"$f":"IF(G$135=\"Error\",\"Error\",IF(AND($E$135<>\"/\",$E$135>'Paramètres - Admin'!$A9),'Paramètres - Admin'!$A10,\"/\"))","v":"/"},{"$f":"IF(E144<>\"/\",VLOOKUP(E144,COSTS_Mortar[#All],2),\"/\")","v":"/"},{"$f":"IF(E144<>\"/\",VLOOKUP(E144,COSTS_Mortar[#All],3),\"/\")","v":"/"},0,0,5,{"$f":"IF(Paramètres!T10=0,\"\",Paramètres!T10)","v":""},0,"/",{"$f":"IF(P$138=\"Error\",\"Error\",IF(AND($N$138<>\"/\",$N$138>'Paramètres - Admin'!$A6),'Paramètres - Admin'!$A7,\"/\"))","v":"/"},{"$f":"IF(N144<>\"/\",VLOOKUP(N144,COSTS_Air_Sweeper[#All],2),\"/\")","v":"/"},{"$f":"IF(N144<>\"/\",VLOOKUP(N144,COSTS_Air_Sweeper[#All],3),\"/\")","v":"/"},0,0]
[null,null,null,null,null,null,"Total",{"$f":"IF(G$135=\"Error\",\"Error\",SUM(H137:H144))","v":0},{"$f":"IF(G$135=\"Error\",\"Error\",SUM(I137:I144))","v":0},6,{"$f":"IF(Paramètres!T11=0,\"\",Paramètres!T11)","v":""},0,"/",{"$f":"IF(P$138=\"Error\",\"Error\",IF(AND($N$138<>\"/\",$N$138>'Paramètres - Admin'!$A7),'Paramètres - Admin'!$A8,\"/\"))","v":"/"},{"$f":"IF(N145<>\"/\",VLOOKUP(N145,COSTS_Air_Sweeper[#All],2),\"/\")","v":"/"},{"$f":"IF(N145<>\"/\",VLOOKUP(N145,COSTS_Air_Sweeper[#All],3),\"/\")","v":"/"},0,0]
["Aigle Artilleur",null,null,"Max","Max +",null,"Actuel","À Faire","Améliorations",null,null,null,null,null,null,"Total",{"$f":"IF(P$138=\"Error\",\"Error\",SUM(Q140:Q145))","v":0},{"$f":"IF(P$138=\"Error\",\"Error\",SUM(R140:R145))","v":0}]
[null,null,null,{"$f":"VLOOKUP($A$2,AVAILABLE_Buildings_Defensive[#All],MATCH(A146,AVAILABLE_Buildings_Defensive[#Headers],0))","v":0},{"$f":"VLOOKUP($A$2,AVAILABLE_Buildings_Defensive[#All],MATCH(A146,AVAILABLE_Buildings_Defensive[#Headers],0)+1)","v":0},null,{"$f":"IF(SUM(B149:B150)>D147,\"Error\",SUM(B149:B150))","v":0},{"$f":"IF(D$147=\"Error\",\"Error\",D147-G147)","v":0},{"$f":"IF(G$147=\"Error\",\"Error\",SUM(D149:D150))","v":0}]
["+","NB",null,"NB","+","Coût","Temps","Coût Total","Temps Total"]
[1,{"$f":"IF(Paramètres!X6=0,\"\",Paramètres!X6)","v":""},{"$f":"IF(C148<>0,C148+IF(AND(B148<>\"\",A148<E$147),B148,0),IF(AND(B148<>\"\",A148<E$147),B148,0))","v":0},{"$f":"IF(E149<>\"/\",IF(G$147=\"Error\",\"Error\",$H$147+C149),\"/\")","v":"/"},{"$f":"IF(G$147=\"Error\",\"Error\",IF(AND($E$147<>\"/\",$E$147>'Paramètres - Admin'!$A2),'Paramètres - Admin'!$A3,\"/\"))","v":"/"},{"$f":"IF(E149<>\"/\",VLOOKUP(E149,COSTS_Defense_Aigle[#All],2),\"/\")","v":"/"},{"$f":"IF(E149<>\"/\",VLOOKUP(E149,COSTS_Defense_Aigle[#All],3),\"/\")","v":"/"},{"$f":"IF(G$110=\"Error\",\"Error\",IF(F149<>\"/\",D149*F149,0))","v":0},{"$f":"IF(G$110=\"Error\",\"Error\",IF(G149<>\"/\",D149*G149,0))","v":0}]
[2,{"$f":"IF(Paramètres!X7=0,\"\",Paramètres!X7)","v":""},{"$f":"IF(C149<>0,C149+IF(AND(B149<>\"\",A149<E$147),B149,0),IF(AND(B149<>\"\",A149<E$147),B149,0))","v":0},{"$f":"IF(E150<>\"/\",IF(G$147=\"Error\",\"Error\",$H$147+C150),\"/\")","v":"/"},{"$f":"IF(G$147=\"Error\",\"Error\",IF(AND($E$147<>\"/\",$E$147>'Paramètres - Admin'!$A3),'Paramètres - Admin'!$A4,\"/\"))","v":"/"},{"$f":"IF(E150<>\"/\",VLOOKUP(E150,COSTS_Defense_Aigle[#All],2),\"/\")","v":"/"},{"$f":"IF(E150<>\"/\",VLOOKUP(E150,COSTS_Defense_Aigle[#All],3),\"/\")","v":"/"},{"$f":"IF(G$147=\"Error\",\"Error\",IF(F150<>\"/\",D150*F150,0))","v":0},{"$f":"IF(G$147=\"Error\",\"Error\",IF(G150<>\"/\",D150*G150,0))","v":0}]
[null,null,null,null,null,null,"Total",{"$f":"IF(G$130=\"Error\",\"Error\",SUM(H149:H150))","v":0},{"$f":"IF(G$130=\"Error\",\"Error\",SUM(I149:I150))","v":0}]
[]
["Pièges Défensifs"]
["Bombe",null,null,"Max","Max +",null,"Actuel","À Faire","Améliorations","Bombe aérienne",null,null,"Max","Max +",null,"Actuel","À Faire","Améliorations"]
[null,null,null,{"$f":"VLOOKUP($A$2,AVAILABLE_Traps[#All],MATCH(A154,AVAILABLE_Traps[#Headers],0))","v":0},{"$f":"VLOOKUP($A$2,AVAILABLE_Traps[#All],MATCH(A154,AVAILABLE_Traps[#Headers],0)+1)","v":0},null,{"$f":"IF(SUM(B157:B162)>D155,\"Error\",SUM(B157:B162))","v":0},{"$f":"IF(G$155=\"Error\",\"Error\",D155-G155)","v":0},{"$f":"IF(G$155=\"Error\",\"Error\",SUM(D157:D162))","v":0},null,null,null,{"$f":"VLOOKUP($A$2,AVAILABLE_Traps[#All],MATCH(J154,AVAILABLE_Traps[#Headers],0))","v":0},{"$f":"VLOOKUP($A$2,AVAILABLE_Traps[#All],MATCH(J154,AVAILABLE_Traps[#Headers],0)+1)","v":0},null,{"$f":"IF(SUM(K157:K160)>M155,\"Error\",SUM(K157:K160))","v":0},{"$f":"IF(P$155=\"Error\",\"Error\",M155-P155)","v":0},{"$f":"IF(P$155=\"Error\",\"Error\",SUM(M157:M160))","v":0}]
["+","NB",null,"NB","+","Coût","Temps","Coût Total","Temps Total","+","NB",null,"NB","+","Coût","Temps","Coût Total","Temps Total"]
[1,{"$f":"IF(Paramètres!Y6=0,\"\",Paramètres!Y6)","v":""},{"$f":"IF(C156<>0,C156+IF(AND(B156<>\"\",A156<E$155),B156,0),IF(AND(B156<>\"\",A156<E$155),B156,0))","v":0},{"$f":"IF(E157<>\"/\",IF($G$155=\"Error\",\"Error\",$H$155+C157),\"/\")","v":"/"},{"$f":"IF(G$155=\"Error\",\"Error\",IF(AND($E$155<>\"/\",$E$155>'Paramètres - Admin'!$A2),'Paramètres - Admin'!$A3,\"/\"))","v":"/"},{"$f":"IF(E157<>\"/\",VLOOKUP(E157,COSTS_Bomb[#All],2),\"/\")","v":"/"},{"$f":"IF(E157<>\"/\",VLOOKUP(E157,COSTS_Bomb[#All],3),\"/\")","v":"/"},{"$f":"IF(G$155=\"Error\",\"Error\",IF(F157<>\"/\",D157*F157,0))","v":0},{"$f":"IF(G$155=\"Error\",\"Error\",IF(G157<>\"/\",D157*G157,0))","v":0},1,{"$f":"IF(Paramètres!AB6=0,\"\",Paramètres!AB6)","v":""},{"$f":"IF(L156<>0,L156+IF(AND(K156<>\"\",J156<N$155),K156,0),IF(AND(K156<>\"\",J156<N$155),K156,0))","v":0},{"$f":"IF(N157<>\"/\",IF($P$155=\"Error\",\"Error\",$Q$155+L157),\"/\")","v":"/"},{"$f":"IF(P$155=\"Error\",\"Error\",IF(AND($N$155<>\"/\",$N$155>'Paramètres - Admin'!$A2),'Paramètres - Admin'!$A3,\"/\"))","v":"/"},{"$f":"IF(N157<>\"/\",VLOOKUP(N157,COST_Air_Bomb[#All],2),\"/\")","v":"/"},{"$f":"IF(N157<>\"/\",VLOOKUP(N157,COST_Air_Bomb[#All],3),\"/\")","v":"/"},{"$f":"IF(P$155=\"Error\",\"Error\",IF(O157<>\"/\",M157*O157,0))","v":0},{"$f":"IF(P$155=\"Error\",\"Error\",IF(P157<>\"/\",M157*P157,0))","v":0}]
[2,{"$f":"IF(Paramètres!Y7=0,\"\",Paramètres!Y7)","v":""},0,"/",{"$f":"IF(G$155=\"Error\",\"Error\",IF(AND($E$155<>\"/\",$E$155>'Paramètres - Admin'!$A3),'Paramètres - Admin'!$A4,\"/\"))","v":"/"},{"$f":"IF(E158<>\"/\",VLOOKUP(E158,COSTS_Bomb[#All],2),\"/\")","v":"/"},{"$f":"IF(E158<>\"/\",VLOOKUP(E158,COSTS_Bomb[#All],3),\"/\")","v":"/"},0,{"$f":"IF(G$86=\"Error\",\"Error\",IF(G158<>\"/\",D158*G158,0))","v":0},2,{"$f":"IF(Paramètres!AB7=0,\"\",Paramètres!AB7)","v":""},{"$f":"IF(L157<>0,L157+IF(AND(K157<>\"\",J157<N$155),K157,0),IF(AND(K157<>\"\",J157<N$155),K157,0))","v":0},{"$f":"IF(N158<>\"/\",IF($P$155=\"Error\",\"Error\",$Q$155+L158),\"/\")","v":"/"},{"$f":"IF(P$155=\"Error\",\"Error\",IF(AND($N$155<>\"/\",$N$155>'Paramètres - Admin'!$A3),'Paramètres - Admin'!$A4,\"/\"))","v":"/"},{"$f":"IF(N158<>\"/\",VLOOKUP(N158,COST_Air_Bomb[#All],2),\"/\")","v":"/"},{"$f":"IF(N158<>\"/\",VLOOKUP(N158,COST_Air_Bomb[#All],3),\"/\")","v":"/"},{"$f":"IF(P$155=\"Error\",\"Error\",IF(O158<>\"/\",M158*O158,0))","v":0},{"$f":"IF(P$155=\"Error\",\"Error\",IF(P158<>\"/\",M158*P158,0))","v":0}]
[3,{"$f":"IF(Paramètres!Y8=0,\"\",Paramètres!Y8)","v":""},0,"/",{"$f":"IF(G$155=\"Error\",\"Error\",IF(AND($E$155<>\"/\",$E$155>'Paramètres - Admin'!$A4),'Paramètres - Admin'!$A5,\"/\"))","v":"/"},{"$f":"IF(E159<>\"/\",VLOOKUP(E159,COSTS_Bomb[#All],2),\"/\")","v":"/"},{"$f":"IF(E159<>\"/\",VLOOKUP(E159,COSTS_Bomb[#All],3),\"/\")","v":"/"},0,{"$f":"IF(G$86=\"Error\",\"Error\",IF(G159<>\"/\",D159*G159,0))","v":0},3,{"$f":"IF(Paramètres!AB8=0,\"\",Paramètres!AB8)","v":""},{"$f":"IF(L158<>0,L158+IF(AND(K158<>\"\",J158<N$155),K158,0),IF(AND(K158<>\"\",J158<N$155),K158,0))","v":0},{"$f":"IF(N159<>\"/\",IF($P$155=\"Error\",\"Error\",$Q$155+L159),\"/\")","v":"/"},{"$f":"IF(P$155=\"Error\",\"Error\",IF(AND($N$155<>\"/\",$N$155>'Paramètres - Admin'!$A4),'Paramètres - Admin'!$A5,\"/\"))","v":"/"},{"$f":"IF(N159<>\"/\",VLOOKUP(N159,COST_Air_Bomb[#All],2),\"/\")","v":"/"},{"$f":"IF(N159<>\"/\",VLOOKUP(N159,COST_Air_Bomb[#All],3),\"/\")","v":"/"},{"$f":"IF(P$155=\"Error\",\"Error\",IF(O159<>\"/\",M159*O159,0))","v":0},{"$f":"IF(P$155=\"Error\",\"Error\",IF(P159<>\"/\",M159*P159,0))","v":0}]
[4,{"$f":"IF(Paramètres!Y9=0,\"\",Paramètres!Y9)","v":""},0,"/",{"$f":"IF(G$155=\"Error\",\"Error\",IF(AND($E$155<>\"/\",$E$155>'Paramètres - Admin'!$A5),'Paramètres - Admin'!$A6,\"/\"))","v":"/"},{"$f":"IF(E160<>\"/\",VLOOKUP(E160,COSTS_Bomb[#All],2),\"/\")","v":"/"},{"$f":"IF(E160<>\"/\",VLOOKUP(E160,COSTS_Bomb[#All],3),\"/\")","v":"/"},0,{"$f":"IF(G$86=\"Error\",\"Error\",IF(G160<>\"/\",D160*G160,0))","v":0},4,{"$f":"IF(Paramètres!AB9=0,\"\",Paramètres!AB9)","v":""},{"$f":"IF(L159<>0,L159+IF(AND(K159<>\"\",J159<N$155),K159,0),IF(AND(K159<>\"\",J159<N$155),K159,0))","v":0},{"$f":"IF(N160<>\"/\",IF($P$155=\"Error\",\"Error\",$Q$155+L160),\"/\")","v":"/"},{"$f":"IF(P$155=\"Error\",\"Error\",IF(AND($N$155<>\"/\",$N$155>'Paramètres - Admin'!$A5),'Paramètres - Admin'!$A6,\"/\"))","v":"/"},{"$f":"IF(N160<>\"/\",VLOOKUP(N160,COST_Air_Bomb[#All],2),\"/\")","v":"/"},{"$f":"IF(N160<>\"/\",VLOOKUP(N160,COST_Air_Bomb[#All],3),\"/\")","v":"/"},{"$f":"IF(P$155=\"Error\",\"Error\",IF(O160<>\"/\",M160*O160,0))","v":0},{"$f":"IF(P$155=\"Error\",\"Error\",IF(P160<>\"/\",M160*P160,0))","v":0}]
[5,{"$f":"IF(Paramètres!Y10=0,\"\",Paramètres!Y10)","v":""},0,"/",{"$f":"IF(G$155=\"Error\",\"Error\",IF(AND($E$155<>\"/\",$E$155>'Paramètres - Admin'!$A6),'Paramètres - Admin'!$A7,\"/\"))","v":"/"},{"$f":"IF(E161<>\"/\",VLOOKUP(E161,COSTS_Bomb[#All],2),\"/\")","v":"/"},{"$f":"IF(E161<>\"/\",VLOOKUP(E161,COSTS_Bomb[#All],3),\"/\")","v":"/"},0,{"$f":"IF(G$86=\"Error\",\"Error\",IF(G161<>\"/\",D161*G161,0))","v":0},null,null,null,null,null,null,"Total",{"$f":"IF(P$155=\"Error\",\"Error\",SUM(Q157:Q160))","v":0},{"$f":"IF(P$155=\"Error\",\"Error\",SUM(R157:R160))","v":0}]
[6,{"$f":"IF(Paramètres!Y11=0,\"\",Paramètres!Y11)","v":""},0,"/",{"$f":"IF(G$155=\"Error\",\"Error\",IF(AND($E$155<>\"/\",$E$155>'Paramètres - Admin'!$A7),'Paramètres - Admin'!$A8,\"/\"))","v":"/"},{"$f":"IF(E162<>\"/\",VLOOKUP(E162,COSTS_Bomb[#All],2),\"/\")","v":"/"},{"$f":"IF(E162<>\"/\",VLOOKUP(E162,COSTS_Bomb[#All],3),\"/\")","v":"/"},0,{"$f":"IF(G$155=\"Error\",\"Error\",IF(G162<>\"/\",D162*G162,0))","v":0},"Tête chercheuse",null,null,"Max","Max +",null,"Actuel","À Faire","Améliorations"]
[null,null,null,null,null,null,"Total",{"$f":"IF(G$155=\"Error\",\"Error\",SUM(H157:H162))","v":0},{"$f":"IF(G$155=\"Error\",\"Error\",SUM(I157:I162))","v":0},null,null,null,{"$f":"VLOOKUP($A$2,AVAILABLE_Traps[#All],MATCH(J162,AVAILABLE_Traps[#Headers],0))","v":0},{"$f":"VLOOKUP($A$2,AVAILABLE_Traps[#All],MATCH(J162,AVAILABLE_Traps[#Headers],0)+1)","v":0},null,{"$f":"IF(SUM(K165:K167)>M163,\"Error\",SUM(K165:K167))","v":0},{"$f":"IF(P$163=\"Error\",\"Error\",M163-P163)","v":0},{"$f":"IF(P$163=\"Error\",\"Error\",SUM(M165:M167))","v":0}]
["Piège à ressort",null,null,"Max","Max +",null,"Actuel","À Faire","Améliorations","+","NB",null,"NB","+","Coût","Temps","Coût Total","Temps Total"]
[null,null,null,{"$f":"VLOOKUP($A$2,AVAILABLE_Traps[#All],MATCH(A164,AVAILABLE_Traps[#Headers],0))","v":0},{"$f":"VLOOKUP($A$2,AVAILABLE_Traps[#All],MATCH(A164,AVAILABLE_Traps[#Headers],0)+1)","v":0},null,{"$f":"IF(SUM(B167:B167)>D165,\"Error\",SUM(B167:B167))","v":0},{"$f":"IF(G$165=\"Error\",\"Error\",D165-G165)","v":0},{"$f":"IF(G$165=\"Error\",\"Error\",SUM(D167:D167))","v":0},1,{"$f":"IF(Paramètres!AC6=0,\"\",Paramètres!AC6)","v":""},{"$f":"IF(L164<>0,L164+IF(AND(K164<>\"\",J164<N$163),K164,0),IF(AND(K164<>\"\",J164<N$163),K164,0))","v":0},{"$f":"IF(N165<>\"/\",IF($P$163=\"Error\",\"Error\",$Q$163+L165),\"/\")","v":"/"},{"$f":"IF(P$163=\"Error\",\"Error\",IF(AND($N$163<>\"/\",$N$163>'Paramètres - Admin'!$A2),'Paramètres - Admin'!$A3,\"/\"))","v":"/"},{"$f":"IF(N165<>\"/\",VLOOKUP(N165,COST_Seeking_Air_Mine[#All],2),\"/\")","v":"/"},{"$f":"IF(N165<>\"/\",VLOOKUP(N165,COST_Seeking_Air_Mine[#All],3),\"/\")","v":"/"},{"$f":"IF(P$163=\"Error\",\"Error\",IF(O165<>\"/\",M165*O165,0))","v":0},{"$f":"IF(P$163=\"Error\",\"Error\",IF(P165<>\"/\",M165*P165,0))","v":0}]
["+","NB",null,"NB","+","Coût","Temps","Coût Total","Temps Total",2,{"$f":"IF(Paramètres!AC7=0,\"\",Paramètres!AC7)","v":""},{"$f":"IF(L165<>0,L165+IF(AND(K165<>\"\",J165<N$163),K165,0),IF(AND(K165<>\"\",J165<N$163),K165,0))","v":0},{"$f":"IF(N166<>\"/\",IF($P$163=\"Error\",\"Error\",$Q$163+L166),\"/\")","v":"/"},{"$f":"IF(P$163=\"Error\",\"Error\",IF(AND($N$163<>\"/\",$N$163>'Paramètres - Admin'!$A3),'Paramètres - Admin'!$A4,\"/\"))","v":"/"},{"$f":"IF(N166<>\"/\",VLOOKUP(N166,COST_Seeking_Air_Mine[#All],2),\"/\")","v":"/"},{"$f":"IF(N166<>\"/\",VLOOKUP(N166,COST_Seeking_Air_Mine[#All],3),\"/\")","v":"/"},{"$f":"IF(P$163=\"Error\",\"Error\",IF(O166<>\"/\",M166*O166,0))","v":0},{"$f":"IF(P$163=\"Error\",\"Error\",IF(P166<>\"/\",M166*P166,0))","v":0}]
[1,{"$f":"IF(Paramètres!Z6=0,\"\",Paramètres!Z6)","v":""},{"$f":"IF(C166<>0,C166+IF(AND(B166<>\"\",A166<E$165),B166,0),IF(AND(B166<>\"\",A166<E$165),B166,0))","v":0},{"$f":"IF(E167<>\"/\",IF($G$165=\"Error\",\"Error\",$H$165+C167),\"/\")","v":"/"},{"$f":"IF(G$165=\"Error\",\"Error\",IF(AND($E$165<>\"/\",$E$165>'Paramètres - Admin'!$A2),'Paramètres - Admin'!$A3,\"/\"))","v":"/"},{"$f":"IF(E167<>\"/\",VLOOKUP(E167,COSTS_Spring_Trap[#All],2),\"/\")","v":"/"},{"$f":"IF(E167<>\"/\",VLOOKUP(E167,COSTS_Spring_Trap[#All],3),\"/\")","v":"/"},{"$f":"IF(G$165=\"Error\",\"Error\",IF(F167<>\"/\",D167*F167,0))","v":0},{"$f":"IF(G$165=\"Error\",\"Error\",IF(G167<>\"/\",D167*G167,0))","v":0},3,{"$f":"IF(Paramètres!AC8=0,\"\",Paramètres!AC8)","v":""},{"$f":"IF(L166<>0,L166+IF(AND(K166<>\"\",J166<N$163),K166,0),IF(AND(K166<>\"\",J166<N$163),K166,0))","v":0},{"$f":"IF(N167<>\"/\",IF($P$163=\"Error\",\"Error\",$Q$163+L167),\"/\")","v":"/"},{"$f":"IF(P$163=\"Error\",\"Error\",IF(AND($N$163<>\"/\",$N$163>'Paramètres - Admin'!$A4),'Paramètres - Admin'!$A5,\"/\"))","v":"/"},{"$f":"IF(N167<>\"/\",VLOOKUP(N167,COST_Seeking_Air_Mine[#All],2),\"/\")","v":"/"},{"$f":"IF(N167<>\"/\",VLOOKUP(N167,COST_Seeking_Air_Mine[#All],3),\"/\")","v":"/"},{"$f":"IF(P$163=\"Error\",\"Error\",IF(O167<>\"/\",M167*O167,0))","v":0},{"$f":"IF(P$163=\"Error\",\"Error\",IF(P167<>\"/\",M167*P167,0))","v":0}]
[null,null,null,null,null,null,"Total",{"$f":"IF(G$165=\"Error\",\"Error\",SUM(H167:H167))","v":0},{"$f":"IF(G$165=\"Error\",\"Error\",SUM(I167:I167))","v":0},null,null,null,null,null,null,"Total",{"$f":"IF(P$163=\"Error\",\"Error\",SUM(Q165:Q167))","v":0},{"$f":"IF(P$163=\"Error\",\"Error\",SUM(R165:R167))","v":0}]
["Bombe géante",null,null,"Max","Max +",null,"Actuel","À Faire","Améliorations","Piège squelettique",null,null,"Max","Max +",null,"Actuel","À Faire","Améliorations"]
[null,null,null,{"$f":"VLOOKUP($A$2,AVAILABLE_Traps[#All],MATCH(A169,AVAILABLE_Traps[#Headers],0))","v":0},{"$f":"VLOOKUP($A$2,AVAILABLE_Traps[#All],MATCH(A169,AVAILABLE_Traps[#Headers],0)+1)","v":0},null,{"$f":"IF(SUM(B172:B175)>D170,\"Error\",SUM(B172:B175))","v":0},{"$f":"IF(G$170=\"Error\",\"Error\",D170-G170)","v":0},{"$f":"IF(G$170=\"Error\",\"Error\",SUM(D172:D175))","v":0},null,null,null,{"$f":"VLOOKUP($A$2,AVAILABLE_Traps[#All],MATCH(J169,AVAILABLE_Traps[#Headers],0))","v":0},{"$f":"VLOOKUP($A$2,AVAILABLE_Traps[#All],MATCH(J169,AVAILABLE_Traps[#Headers],0)+1)","v":0},null,{"$f":"IF(SUM(K172:K174)>M170,\"Error\",SUM(K172:K174))","v":0},{"$f":"IF(P$170=\"Error\",\"Error\",M170-P170)","v":0},{"$f":"IF(P$170=\"Error\",\"Error\",SUM(M172:M174))","v":0}]
["+","NB",null,"NB","+","Coût","Temps","Coût Total","Temps Total","+","NB",null,"NB","+","Coût","Temps","Coût Total","Temps Total"]
[1,{"$f":"IF(Paramètres!AA6=0,\"\",Paramètres!AA6)","v":""},{"$f":"IF(C171<>0,C171+IF(AND(B171<>\"\",A171<E$170),B171,0),IF(AND(B171<>\"\",A171<E$170),B171,0))","v":0},{"$f":"IF(E172<>\"/\",IF($G$170=\"Error\",\"Error\",$H$170+C172),\"/\")","v":"/"},{"$f":"IF(G$170=\"Error\",\"Error\",IF(AND($E$170<>\"/\",$E$170>'Paramètres - Admin'!$A2),'Paramètres - Admin'!$A3,\"/\"))","v":"/"},{"$f":"IF(E172<>\"/\",VLOOKUP(E172,COSTS_Giant_Bomb[#All],2),\"/\")","v":"/"},{"$f":"IF(E172<>\"/\",VLOOKUP(E172,COSTS_Giant_Bomb[#All],3),\"/\")","v":"/"},{"$f":"IF(G$170=\"Error\",\"Error\",IF(F172<>\"/\",D172*F172,0))","v":0},{"$f":"IF(G$170=\"Error\",\"Error\",IF(G172<>\"/\",D172*G172,0))","v":0},1,{"$f":"IF(Paramètres!AD6=0,\"\",Paramètres!AD6)","v":""},{"$f":"IF(L171<>0,L171+IF(AND(K171<>\"\",J171<N$170),K171,0),IF(AND(K171<>\"\",J171<N$170),K171,0))","v":0},{"$f":"IF(N172<>\"/\",IF($P$170=\"Error\",\"Error\",$Q$170+L172),\"/\")","v":"/"},{"$f":"IF(P$170=\"Error\",\"Error\",IF(AND($N$170<>\"/\",$N$170>'Paramètres - Admin'!$A2),'Paramètres - Admin'!$A3,\"/\"))","v":"/"},{"$f":"IF(N172<>\"/\",VLOOKUP(N172,COST_Skeleton_Trap[#All],2),\"/\")","v":"/"},{"$f":"IF(N172<>\"/\",VLOOKUP(N172,COST_Skeleton_Trap[#All],3),\"/\")","v":"/"},{"$f":"IF(P$170=\"Error\",\"Error\",IF(O172<>\"/\",M172*O172,0))","v":0},{"$f":"IF(P$170=\"Error\",\"Error\",IF(P172<>\"/\",M172*P172,0))","v":0}]
[2,{"$f":"IF(Paramètres!AA7=0,\"\",Paramètres!AA7)","v":""},{"$f":"IF(C172<>0,C172+IF(AND(B172<>\"\",A172<E$170),B172,0),IF(AND(B172<>\"\",A172<E$170),B172,0))","v":0},{"$f":"IF(E173<>\"/\",IF($G$170=\"Error\",\"Error\",$H$170+C173),\"/\")","v":"/"},{"$f":"IF(G$170=\"Error\",\"Error\",IF(AND($E$170<>\"/\",$E$170>'Paramètres - Admin'!$A3),'Paramètres - Admin'!$A4,\"/\"))","v":"/"},{"$f":"IF(E173<>\"/\",VLOOKUP(E173,COSTS_Giant_Bomb[#All],2),\"/\")","v":"/"},{"$f":"IF(E173<>\"/\",VLOOKUP(E173,COSTS_Giant_Bomb[#All],3),\"/\")","v":"/"},{"$f":"IF(G$170=\"Error\",\"Error\",IF(F173<>\"/\",D173*F173,0))","v":0},{"$f":"IF(G$170=\"Error\",\"Error\",IF(G173<>\"/\",D173*G173,0))","v":0},2,{"$f":"IF(Paramètres!AD7=0,\"\",Paramètres!AD7)","v":""},{"$f":"IF(L172<>0,L172+IF(AND(K172<>\"\",J172<N$170),K172,0),IF(AND(K172<>\"\",J172<N$170),K172,0))","v":0},{"$f":"IF(N173<>\"/\",IF($P$170=\"Error\",\"Error\",$Q$170+L173),\"/\")","v":"/"},{"$f":"IF(P$170=\"Error\",\"Error\",IF(AND($N$170<>\"/\",$N$170>'Paramètres - Admin'!$A3),'Paramètres - Admin'!$A4,\"/\"))","v":"/"},{"$f":"IF(N173<>\"/\",VLOOKUP(N173,COST_Skeleton_Trap[#All],2),\"/\")","v":"/"},{"$f":"IF(N173<>\"/\",VLOOKUP(N173,COST_Skeleton_Trap[#All],3),\"/\")","v":"/"},{"$f":"IF(P$170=\"Error\",\"Error\",IF(O173<>\"/\",M173*O173,0))","v":0},{"$f":"IF(P$170=\"Error\",\"Error\",IF(P173<>\"/\",M173*P173,0))","v":0}]
[3,{"$f":"IF(Paramètres!AA8=0,\"\",Paramètres!AA8)","v":""},{"$f":"IF(C173<>0,C173+IF(AND(B173<>\"\",A173<E$170),B173,0),IF(AND(B173<>\"\",A173<E$170),B173,0))","v":0},{"$f":"IF(E174<>\"/\",IF($G$170=\"Error\",\"Error\",$H$170+C174),\"/\")","v":"/"},{"$f":"IF(G$170=\"Error\",\"Error\",IF(AND($E$170<>\"/\",$E$170>'Paramètres - Admin'!$A4),'Paramètres - Admin'!$A5,\"/\"))","v":"/"},{"$f":"IF(E174<>\"/\",VLOOKUP(E174,COSTS_Giant_Bomb[#All],2),\"/\")","v":"/"},{"$f":"IF(E174<>\"/\",VLOOKUP(E174,COSTS_Giant_Bomb[#All],3),\"/\")","v":"/"},{"$f":"IF(G$170=\"Error\",\"Error\",IF(F174<>\"/\",D174*F174,0))","v":0},{"$f":"IF(G$170=\"Error\",\"Error\",IF(G174<>\"/\",D174*G174,0))","v":0},3,{"$f":"IF(Paramètres!AD8=0,\"\",Paramètres!AD8)","v":""},{"$f":"IF(L173<>0,L173+IF(AND(K173<>\"\",J173<N$170),K173,0),IF(AND(K173<>\"\",J173<N$170),K173,0))","v":0},{"$f":"IF(N174<>\"/\",IF($P$170=\"Error\",\"Error\",$Q$170+L174),\"/\")","v":"/"},{"$f":"IF(P$170=\"Error\",\"Error\",IF(AND($N$170<>\"/\",$N$170>'Paramètres - Admin'!$A4),'Paramètres - Admin'!$A5,\"/\"))","v":"/"},{"$f":"IF(N174<>\"/\",VLOOKUP(N174,COST_Skeleton_Trap[#All],2),\"/\")","v":"/"},{"$f":"IF(N174<>\"/\",VLOOKUP(N174,COST_Skeleton_Trap[#All],3),\"/\")","v":"/"},{"$f":"IF(P$170=\"Error\",\"Error\",IF(O174<>\"/\",M174*O174,0))","v":0},{"$f":"IF(P$170=\"Error\",\"Error\",IF(P174<>\"/\",M174*P174,0))","v":0}]
[4,{"$f":"IF(Paramètres!AA9=0,\"\",Paramètres!AA9)","v":""},{"$f":"IF(C174<>0,C174+IF(AND(B174<>\"\",A174<E$170),B174,0),IF(AND(B174<>\"\",A174<E$170),B174,0))","v":0},{"$f":"IF(E175<>\"/\",IF($G$170=\"Error\",\"Error\",$H$170+C175),\"/\")","v":"/"},{"$f":"IF(G$170=\"Error\",\"Error\",IF(AND($E$170<>\"/\",$E$170>'Paramètres - Admin'!$A5),'Paramètres - Admin'!$A6,\"/\"))","v":"/"},{"$f":"IF(E175<>\"/\",VLOOKUP(E175,COSTS_Giant_Bomb[#All],2),\"/\")","v":"/"},{"$f":"IF(E175<>\"/\",VLOOKUP(E175,COSTS_Giant_Bomb[#All],3),\"/\")","v":"/"},{"$f":"IF(G$170=\"Error\",\"Error\",IF(F175<>\"/\",D175*F175,0))","v":0},{"$f":"IF(G$170=\"Error\",\"Error\",IF(G175<>\"/\",D175*G175,0))","v":0},null,null,null,null,null,null,"Total",{"$f":"IF(P$170=\"Error\",\"Error\",SUM(Q172:Q174))","v":0},{"$f":"IF(P$170=\"Error\",\"Error\",SUM(R172:R174))","v":0}]
[null,null,null,null,null,null,"Total",{"$f":"IF(G$170=\"Error\",\"Error\",SUM(H172:H175))","v":0},{"$f":"IF(G$170=\"Error\",\"Error\",SUM(I172:I175))","v":0}]
[]
["Bâtiments Autres"]
["Château de Clan",null,null,"Max","Max +",null,"Actuel","À Faire","Améliorations","Hôtel de Ville",null,null,"Max","Max +",null,"Actuel","À Faire","Améliorations"]
[null,null,null,{"$f":"VLOOKUP($A$2,AVAILABLE_Buildings_Other[#All],MATCH(A179,AVAILABLE_Buildings_Other[#Headers],0))","v":0},{"$f":"VLOOKUP($A$2,AVAILABLE_Buildings_Other[#All],MATCH(A179,AVAILABLE_Buildings_Other[#Headers],0)+1)","v":0},null,{"$f":"IF(SUM(B182:B187)>D180,\"Error\",SUM(B182:B187))","v":0},{"$f":"IF(G$180=\"Error\",\"Error\",D180-G180)","v":0},{"$f":"IF(G$180=\"Error\",\"Error\",SUM(D182:D187))","v":0},null,null,null,{"$f":"VLOOKUP($A$2,AVAILABLE_Buildings_Other[#All],MATCH(J179,AVAILABLE_Buildings_Other[#Headers],0))","v":1},{"$f":"VLOOKUP($A$2,AVAILABLE_Buildings_Other[#All],MATCH(J179,AVAILABLE_Buildings_Other[#Headers],0)+1)","v":2},null,{"$f":"IF(SUM(K182:K192)>M180,\"Error\",SUM(K182:K192))","v":1},{"$f":"IF(P$180=\"Error\",\"Error\",M180-P180)","v":0},{"$f":"IF(P$180=\"Error\",\"Error\",SUM(M182:M191))","v":1}]
["+","NB",null,"NB","+","Coût","Temps","Coût Total","Temps Total","+","NB",null,"NB","+","Coût","Temps","Coût Total","Temps Total"]
[1,{"$f":"IF(Paramètres!AE6=0,\"\",Paramètres!AE6)","v":""},{"$f":"IF(C181<>0,C181+IF(AND(B181<>\"\",A181<E$180),B181,0),IF(AND(B181<>\"\",A181<E$180),B181,0))","v":0},{"$f":"IF(E182<>\"/\",IF(G$180=\"Error\",\"Error\",$H$180+C182),\"/\")","v":"/"},{"$f":"IF(G$180=\"Error\",\"Error\",IF(AND($E$180<>\"/\",$E$180>'Paramètres - Admin'!$A2),'Paramètres - Admin'!$A3,\"/\"))","v":"/"},{"$f":"IF(E182<>\"/\",VLOOKUP(E182,COSTS_Clan_Castle[#All],2),\"/\")","v":"/"},{"$f":"IF(E182<>\"/\",VLOOKUP(E182,COSTS_Clan_Castle[#All],3),\"/\")","v":"/"},{"$f":"IF(G$180=\"Error\",\"Error\",IF(F182<>\"/\",D182*F182,0))","v":0},{"$f":"IF(G$180=\"Error\",\"Error\",IF(G182<>\"/\",D182*G182,0))","v":0},1,{"$f":"IF(Paramètres!AF6=0,\"\",Paramètres!AF6)","v":1},{"$f":"IF(L181<>0,L181+IF(AND(K181<>\"\",J181<N$180),K181,0),IF(AND(K181<>\"\",J181<N$180),K181,0))","v":0},{"$f":"IF(N182<>\"/\",IF(P$180=\"Error\",\"Error\",$Q$180+L182),\"/\")","v":0},{"$f":"IF(P$180=\"Error\",\"Error\",IF(AND($N$180<>\"/\",$N$180>'Paramètres - Admin'!$A2),'Paramètres - Admin'!$A3,\"/\"))","v":1},{"$f":"IF(N182<>\"/\",VLOOKUP(N182,COSTS_Town_Home[#All],2),\"/\")","v":0},{"$f":"IF(N182<>\"/\",VLOOKUP(N182,COSTS_Town_Home[#All],3),\"/\")","v":0},{"$f":"IF(P$180=\"Error\",\"Error\",IF(O182<>\"/\",M182*O182,0))","v":0},{"$f":"IF(P$180=\"Error\",\"Error\",IF(P182<>\"/\",M182*P182,0))","v":0}]
[2,{"$f":"IF(Paramètres!AE7=0,\"\",Paramètres!AE7)","v":""},0,"/",{"$f":"IF(G$180=\"Error\",\"Error\",IF(AND($E$180<>\"/\",$E$180>'Paramètres - Admin'!$A3),'Paramètres - Admin'!$A4,\"/\"))","v":"/"},{"$f":"IF(E183<>\"/\",VLOOKUP(E183,COSTS_Clan_Castle[#All],2),\"/\")","v":"/"},{"$f":"IF(E183<>\"/\",VLOOKUP(E183,COSTS_Clan_Castle[#All],3),\"/\")","v":"/"},0,0,2,{"$f":"IF(Paramètres!AF7=0,\"\",Paramètres!AF7)","v":""},1,1,{"$f":"IF(P$180=\"Error\",\"Error\",IF(AND($N$180<>\"/\",$N$180>'Paramètres - Admin'!$A3),'Paramètres - Admin'!$A4,\"/\"))","v":2},{"$f":"IF(N183<>\"/\",VLOOKUP(N183,COSTS_Town_Home[#All],2),\"/\")","v":1000},{"$f":"IF(N183<>\"/\",VLOOKUP(N183,COSTS_Town_Home[#All],3),\"/\")","v":8.3333333333333329E-2},1000,8.3333333333333329E-2]
[3,{"$f":"IF(Paramètres!AE8=0,\"\",Paramètres!AE8)","v":""},0,"/",{"$f":"IF(G$180=\"Error\",\"Error\",IF(AND($E$180<>\"/\",$E$180>'Paramètres - Admin'!$A4),'Paramètres - Admin'!$A5,\"/\"))","v":"/"},{"$f":"IF(E184<>\"/\",VLOOKUP(E184,COSTS_Clan_Castle[#All],2),\"/\")","v":"/"},{"$f":"IF(E184<>\"/\",VLOOKUP(E184,COSTS_Clan_Castle[#All],3),\"/\")","v":"/"},0,0,3,{"$f":"IF(Paramètres!AF8=0,\"\",Paramètres!AF8)","v":""},1,"/",{"$f":"IF(P$180=\"Error\",\"Error\",IF(AND($N$180<>\"/\",$N$180>'Paramètres - Admin'!$A4),'Paramètres - Admin'!$A5,\"/\"))","v":"/"},{"$f":"IF(N184<>\"/\",VLOOKUP(N184,COSTS_Town_Home[#All],2),\"/\")","v":"/"},{"$f":"IF(N184<>\"/\",VLOOKUP(N184,COSTS_Town_Home[#All],3),\"/\")","v":"/"},0,0]
[4,{"$f":"IF(Paramètres!AE9=0,\"\",Paramètres!AE9)","v":""},0,"/",{"$f":"IF(G$180=\"Error\",\"Error\",IF(AND($E$180<>\"/\",$E$180>'Paramètres - Admin'!$A5),'Paramètres - Admin'!$A6,\"/\"))","v":"/"},{"$f":"IF(E185<>\"/\",VLOOKUP(E185,COSTS_Clan_Castle[#All],2),\"/\")","v":"/"},{"$f":"IF(E185<>\"/\",VLOOKUP(E185,COSTS_Clan_Castle[#All],3),\"/\")","v":"/"},0,0,4,{"$f":"IF(Paramètres!AF9=0,\"\",Paramètres!AF9)","v":""},1,"/",{"$f":"IF(P$180=\"Error\",\"Error\",IF(AND($N$180<>\"/\",$N$180>'Paramètres - Admin'!$A5),'Paramètres - Admin'!$A6,\"/\"))","v":"/"},{"$f":"IF(N185<>\"/\",VLOOKUP(N185,COSTS_Town_Home[#All],2),\"/\")","v":"/"},{"$f":"IF(N185<>\"/\",VLOOKUP(N185,COSTS_Town_Home[#All],3),\"/\")","v":"/"},0,0]
[5,{"$f":"IF(Paramètres!AE10=0,\"\",Paramètres!AE10)","v":""},0,"/",{"$f":"IF(G$180=\"Error\",\"Error\",IF(AND($E$180<>\"/\",$E$180>'Paramètres - Admin'!$A6),'Paramètres - Admin'!$A7,\"/\"))","v":"/"},{"$f":"IF(E186<>\"/\",VLOOKUP(E186,COSTS_Clan_Castle[#All],2),\"/\")","v":"/"},{"$f":"IF(E186<>\"/\",VLOOKUP(E186,COSTS_Clan_Castle[#All],3),\"/\")","v":"/"},0,0,5,{"$f":"IF(Paramètres!AF10=0,\"\",Paramètres!AF10)","v":""},1,"/",{"$f":"IF(P$180=\"Error\",\"Error\",IF(AND($N$180<>\"/\",$N$180>'Paramètres - Admin'!$A6),'Paramètres - Admin'!$A7,\"/\"))","v":"/"},{"$f":"IF(N186<>\"/\",VLOOKUP(N186,COSTS_Town_Home[#All],2),\"/\")","v":"/"},{"$f":"IF(N186<>\"/\",VLOOKUP(N186,COSTS_Town_Home[#All],3),\"/\")","v":"/"},0,0]
[6,{"$f":"IF(Paramètres!AE11=0,\"\",Paramètres!AE11)","v":""},0,"/",{"$f":"IF(G$180=\"Error\",\"Error\",IF(AND($E$180<>\"/\",$E$180>'Paramètres - Admin'!$A7),'Paramètres - Admin'!$A8,\"/\"))","v":"/"},{"$f":"IF(E187<>\"/\",VLOOKUP(E187,COSTS_Clan_Castle[#All],2),\"/\")","v":"/"},{"$f":"IF(E187<>\"/\",VLOOKUP(E187,COSTS_Clan_Castle[#All],3),\"/\")","v":"/"},0,0,6,{"$f":"IF(Paramètres!AF11=0,\"\",Paramètres!AF11)","v":""},1,"/",{"$f":"IF(P$180=\"Error\",\"Error\",IF(AND($N$180<>\"/\",$N$180>'Paramètres - Admin'!$A7),'Paramètres - Admin'!$A8,\"/\"))","v":"/"},{"$f":"IF(N187<>\"/\",VLOOKUP(N187,COSTS_Town_Home[#All],2),\"/\")","v":"/"},{"$f":"IF(N187<>\"/\",VLOOKUP(N187,COSTS_Town_Home[#All],3),\"/\")","v":"/"},0,0]
[null,null,null,null,null,null,"Total",{"$f":"IF(G$180=\"Error\",\"Error\",SUM(H182:H187))","v":0},{"$f":"IF(G$180=\"Error\",\"Error\",SUM(I182:I187))","v":0},7,{"$f":"IF(Paramètres!AF12=0,\"\",Paramètres!AF12)","v":""},1,"/",{"$f":"IF(P$180=\"Error\",\"Error\",IF(AND($N$180<>\"/\",$N$180>'Paramètres - Admin'!$A8),'Paramètres - Admin'!$A9,\"/\"))","v":"/"},{"$f":"IF(N188<>\"/\",VLOOKUP(N188,COSTS_Town_Home[#All],2),\"/\")","v":"/"},{"$f":"IF(N188<>\"/\",VLOOKUP(N188,COSTS_Town_Home[#All],3),\"/\")","v":"/"},0,0]
[null,null,null,null,null,null,null,null,null,8,{"$f":"IF(Paramètres!AF13=0,\"\",Paramètres!AF13)","v":""},1,"/",{"$f":"IF(P$180=\"Error\",\"Error\",IF(AND($N$180<>\"/\",$N$180>'Paramètres - Admin'!$A9),'Paramètres - Admin'!$A10,\"/\"))","v":"/"},{"$f":"IF(N189<>\"/\",VLOOKUP(N189,COSTS_Town_Home[#All],2),\"/\")","v":"/"},{"$f":"IF(N189<>\"/\",VLOOKUP(N189,COSTS_Town_Home[#All],3),\"/\")","v":"/"},0,0]
[null,null,null,null,null,null,null,null,null,9,{"$f":"IF(Paramètres!AF14=0,\"\",Paramètres!AF14)","v":""},1,"/",{"$f":"IF(P$180=\"Error\",\"Error\",IF(AND($N$180<>\"/\",$N$180>'Paramètres - Admin'!$A10),'Paramètres - Admin'!$A11,\"/\"))","v":"/"},{"$f":"IF(N190<>\"/\",VLOOKUP(N190,COSTS_Town_Home[#All],2),\"/\")","v":"/"},{"$f":"IF(N190<>\"/\",VLOOKUP(N190,COSTS_Town_Home[#All],3),\"/\")","v":"/"},0,0]
[null,null,null,null,null,null,null,null,null,10,{"$f":"IF(Paramètres!AF15=0,\"\",Paramètres!AF15)","v":""},1,"/",{"$f":"IF(P$180=\"Error\",\"Error\",IF(AND($N$180<>\"/\",$N$180>'Paramètres - Admin'!$A11),'Paramètres - Admin'!$A12,\"/\"))","v":"/"},{"$f":"IF(N191<>\"/\",VLOOKUP(N191,COSTS_Town_Home[#All],2),\"/\")","v":"/"},{"$f":"IF(N191<>\"/\",VLOOKUP(N191,COSTS_Town_Home[#All],3),\"/\")","v":"/"},0,0]
[null,null,null,null,null,null,null,null,null,11,{"$f":"IF(Paramètres!AF16=0,\"\",Paramètres!AF16)","v":""},1,"/",{"$f":"IF(P$180=\"Error\",\"Error\",IF(AND($N$180<>\"/\",$N$180>'Paramètres - Admin'!$A12),'Paramètres - Admin'!$A13,\"/\"))","v":"/"},{"$f":"IF(N192<>\"/\",VLOOKUP(N192,COSTS_Town_Home[#All],2),\"/\")","v":"/"},{"$f":"IF(N192<>\"/\",VLOOKUP(N192,COSTS_Town_Home[#All],3),\"/\")","v":"/"},0,0]
[null,null,null,null,null,null,null,null,null,null,null,null,null,null,null,"Total",{"$f":"IF(P$180=\"Error\",\"Error\",SUM(Q182:Q192))","v":1000},{"$f":"IF(P$180=\"Error\",\"Error\",SUM(R182:R192))","v":8.3333333333333329E-2}]
[]
["Améliorations de Sorts"]
["Sort de Foudre",null,null,"Max","Max +",null,"Actuel","À Faire","Améliorations","Sort de Guérison",null,null,"Max","Max +",null,"Actuel","À Faire","Améliorations"]
[null,null,null,{"$f":"VLOOKUP($A$2,AVAILABLE_Upgrades_Spells[#All],MATCH(A196,AVAILABLE_Upgrades_Spells[#Headers],0))","v":0},{"$f":"VLOOKUP(IF(ISERROR(LOOKUP(MATCH(1,Paramètres!$K$6:$K$45,0),Paramètres!$A$6:$A$45)),0,LOOKUP(MATCH(1,Paramètres!$K$6:$K$45,0),Paramètres!$A$6:$A$45)),AVAILABLE_Upgrades_Spells[#All],MATCH(A196,AVAILABLE_Upgrades_Spells[#Headers],0)+1)","v":0},null,{"$f":"IF(SUM(B199:B205)>D197,\"Error\",SUM(B199:B205))","v":0},{"$f":"IF(G$197=\"Error\",\"Error\",D197-G197)","v":0},{"$f":"IF(G$197=\"Error\",\"Error\",SUM(D199:D204))","v":0},null,null,null,{"$f":"VLOOKUP($A$2,AVAILABLE_Upgrades_Spells[#All],MATCH(J196,AVAILABLE_Upgrades_Spells[#Headers],0))","v":0},{"$f":"VLOOKUP(IF(ISERROR(LOOKUP(MATCH(1,Paramètres!$K$6:$K$45,0),Paramètres!$A$6:$A$45)),0,LOOKUP(MATCH(1,Paramètres!$K$6:$K$45,0),Paramètres!$A$6:$A$45)),AVAILABLE_Upgrades_Spells[#All],MATCH(J196,AVAILABLE_Upgrades_Spells[#Headers],0)+1)","v":0},null,{"$f":"IF(SUM(K199:K204)>M197,\"Error\",SUM(K199:K204))","v":0},{"$f":"IF(P$197=\"Error\",\"Error\",M197-P197)","v":0},{"$f":"IF(P$197=\"Error\",\"Error\",SUM(M199:M204))","v":0}]
["+","NB",null,"NB","+","Coût","Temps","Coût Total","Temps Total","+","NB",null,"NB","+","Coût","Temps","Coût Total","Temps Total"]
[1,{"$f":"IF(Paramètres!AG6=0,\"\",Paramètres!AG6)","v":""},{"$f":"IF(C198<>0,C198+IF(AND(B198<>\"\",A198<E$197),B198,0),IF(AND(B198<>\"\",A198<E$197),B198,0))","v":0},{"$f":"IF(E199<>\"/\",IF(G$197=\"Error\",\"Error\",$H$197+C199),\"/\")","v":"/"},{"$f":"IF(G$197=\"Error\",\"Error\",IF(AND($E$197<>\"/\",$E$197>'Paramètres - Admin'!$A2),'Paramètres - Admin'!$A3,\"/\"))","v":"/"},{"$f":"IF(E199<>\"/\",VLOOKUP(E199,COSTS_Spell_Lightning[#All],2),\"/\")","v":"/"},{"$f":"IF(E199<>\"/\",VLOOKUP(E199,COSTS_Spell_Lightning[#All],3),\"/\")","v":"/"},{"$f":"IF(G$197=\"Error\",\"Error\",IF(F199<>\"/\",D199*F199,0))","v":0},{"$f":"IF(G$197=\"Error\",\"Error\",IF(G199<>\"/\",D199*G199,0))","v":0},1,{"$f":"IF(Paramètres!AH6=0,\"\",Paramètres!AH6)","v":""},{"$f":"IF(L198<>0,L198+IF(AND(K198<>\"\",J198<N$197),K198,0),IF(AND(K198<>\"\",J198<N$197),K198,0))","v":0},{"$f":"IF(N199<>\"/\",IF(P$197=\"Error\",\"Error\",$Q$197+L199),\"/\")","v":"/"},{"$f":"IF(P$197=\"Error\",\"Error\",IF(AND($N$197<>\"/\",$N$197>'Paramètres - Admin'!$A2),'Paramètres - Admin'!$A3,\"/\"))","v":"/"},{"$f":"IF(N199<>\"/\",VLOOKUP(N199,COSTS_Spell_Healing[#All],2),\"/\")","v":"/"},{"$f":"IF(N199<>\"/\",VLOOKUP(N199,COSTS_Spell_Healing[#All],3),\"/\")","v":"/"},{"$f":"IF(P$197=\"Error\",\"Error\",IF(O199<>\"/\",M199*O199,0))","v":0},{"$f":"IF(P$197=\"Error\",\"Error\",IF(P199<>\"/\",M199*P199,0))","v":0}]
[2,{"$f":"IF(Paramètres!AG7=0,\"\",Paramètres!AG7)","v":""},{"$f":"IF(C199<>0,C199+IF(AND(B199<>\"\",A199<E$197),B199,0),IF(AND(B199<>\"\",A199<E$197),B199,0))","v":0},"/",{"$f":"IF(G$197=\"Error\",\"Error\",IF(AND($E$197<>\"/\",$E$197>'Paramètres - Admin'!$A3),'Paramètres - Admin'!$A4,\"/\"))","v":"/"},{"$f":"IF(E200<>\"/\",VLOOKUP(E200,COSTS_Spell_Lightning[#All],2),\"/\")","v":"/"},{"$f":"IF(E200<>\"/\",VLOOKUP(E200,COSTS_Spell_Lightning[#All],3),\"/\")","v":"/"},0,0,2,{"$f":"IF(Paramètres!AH7=0,\"\",Paramètres!AH7)","v":""},0,"/",{"$f":"IF(P$197=\"Error\",\"Error\",IF(AND($N$197<>\"/\",$N$197>'Paramètres - Admin'!$A3),'Paramètres - Admin'!$A4,\"/\"))","v":"/"},{"$f":"IF(N200<>\"/\",VLOOKUP(N200,COSTS_Spell_Healing[#All],2),\"/\")","v":"/"},{"$f":"IF(N200<>\"/\",VLOOKUP(N200,COSTS_Spell_Healing[#All],3),\"/\")","v":"/"},0,0]
[3,{"$f":"IF(Paramètres!AG8=0,\"\",Paramètres!AG8)","v":""},0,"/",{"$f":"IF(G$197=\"Error\",\"Error\",IF(AND($E$197<>\"/\",$E$197>'Paramètres - Admin'!$A4),'Paramètres - Admin'!$A5,\"/\"))","v":"/"},{"$f":"IF(E201<>\"/\",VLOOKUP(E201,COSTS_Spell_Lightning[#All],2),\"/\")","v":"/"},{"$f":"IF(E201<>\"/\",VLOOKUP(E201,COSTS_Spell_Lightning[#All],3),\"/\")","v":"/"},0,0,3,{"$f":"IF(Paramètres!AH8=0,\"\",Paramètres!AH8)","v":""},0,"/",{"$f":"IF(P$197=\"Error\",\"Error\",IF(AND($N$197<>\"/\",$N$197>'Paramètres - Admin'!$A4),'Paramètres - Admin'!$A5,\"/\"))","v":"/"},{"$f":"IF(N201<>\"/\",VLOOKUP(N201,COSTS_Spell_Healing[#All],2),\"/\")","v":"/"},{"$f":"IF(N201<>\"/\",VLOOKUP(N201,COSTS_Spell_Healing[#All],3),\"/\")","v":"/"},0,0]
[4,{"$f":"IF(Paramètres!AG9=0,\"\",Paramètres!AG9)","v":""},0,"/",{"$f":"IF(G$197=\"Error\",\"Error\",IF(AND($E$197<>\"/\",$E$197>'Paramètres - Admin'!$A5),'Paramètres - Admin'!$A6,\"/\"))","v":"/"},{"$f":"IF(E202<>\"/\",VLOOKUP(E202,COSTS_Spell_Lightning[#All],2),\"/\")","v":"/"},{"$f":"IF(E202<>\"/\",VLOOKUP(E202,COSTS_Spell_Lightning[#All],3),\"/\")","v":"/"},0,0,4,{"$f":"IF(Paramètres!AH9=0,\"\",Paramètres!AH9)","v":""},0,"/",{"$f":"IF(P$197=\"Error\",\"Error\",IF(AND($N$197<>\"/\",$N$197>'Paramètres - Admin'!$A5),'Paramètres - Admin'!$A6,\"/\"))","v":"/"},{"$f":"IF(N202<>\"/\",VLOOKUP(N202,COSTS_Spell_Healing[#All],2),\"/\")","v":"/"},{"$f":"IF(N202<>\"/\",VLOOKUP(N202,COSTS_Spell_Healing[#All],3),\"/\")","v":"/"},0,0]
[5,{"$f":"IF(Paramètres!AG10=0,\"\",Paramètres!AG10)","v":""},0,"/",{"$f":"IF(G$197=\"Error\",\"Error\",IF(AND($E$197<>\"/\",$E$197>'Paramètres - Admin'!$A6),'Paramètres - Admin'!$A7,\"/\"))","v":"/"},{"$f":"IF(E203<>\"/\",VLOOKUP(E203,COSTS_Spell_Lightning[#All],2),\"/\")","v":"/"},{"$f":"IF(E203<>\"/\",VLOOKUP(E203,COSTS_Spell_Lightning[#All],3),\"/\")","v":"/"},0,0,5,{"$f":"IF(Paramètres!AH10=0,\"\",Paramètres!AH10)","v":""},0,"/",{"$f":"IF(P$197=\"Error\",\"Error\",IF(AND($N$197<>\"/\",$N$197>'Paramètres - Admin'!$A6),'Paramètres - Admin'!$A7,\"/\"))","v":"/"},{"$f":"IF(N203<>\"/\",VLOOKUP(N203,COSTS_Spell_Healing[#All],2),\"/\")","v":"/"},{"$f":"IF(N203<>\"/\",VLOOKUP(N203,COSTS_Spell_Healing[#All],3),\"/\")","v":"/"},0,0]
[6,{"$f":"IF(Paramètres!AG11=0,\"\",Paramètres!AG11)","v":""},0,"/",{"$f":"IF(G$197=\"Error\",\"Error\",IF(AND($E$197<>\"/\",$E$197>'Paramètres - Admin'!$A7),'Paramètres - Admin'!$A8,\"/\"))","v":"/"},{"$f":"IF(E204<>\"/\",VLOOKUP(E204,COSTS_Spell_Lightning[#All],2),\"/\")","v":"/"},{"$f":"IF(E204<>\"/\",VLOOKUP(E204,COSTS_Spell_Lightning[#All],3),\"/\")","v":"/"},0,0,6,{"$f":"IF(Paramètres!AH11=0,\"\",Paramètres!AH11)","v":""},0,"/",{"$f":"IF(P$197=\"Error\",\"Error\",IF(AND($N$197<>\"/\",$N$197>'Paramètres - Admin'!$A7),'Paramètres - Admin'!$A8,\"/\"))","v":"/"},{"$f":"IF(N204<>\"/\",VLOOKUP(N204,COSTS_Spell_Healing[#All],2),\"/\")","v":"/"},{"$f":"IF(N204<>\"/\",VLOOKUP(N204,COSTS_Spell_Healing[#All],3),\"/\")","v":"/"},0,0]
[7,{"$f":"IF(Paramètres!AG12=0,\"\",Paramètres!AG12)","v":""},{"$f":"IF(C204<>0,C204+IF(AND(B204<>\"\",A204<E$197),B204,0),IF(AND(B204<>\"\",A204<E$197),B204,0))","v":0},"/",{"$f":"IF(G$197=\"Error\",\"Error\",IF(AND($E$197<>\"/\",$E$197>'Paramètres - Admin'!$A8),'Paramètres - Admin'!$A9,\"/\"))","v":"/"},{"$f":"IF(E205<>\"/\",VLOOKUP(E205,COSTS_Spell_Lightning[#All],2),\"/\")","v":"/"},{"$f":"IF(E205<>\"/\",VLOOKUP(E205,COSTS_Spell_Lightning[#All],3),\"/\")","v":"/"},0,0,null,null,null,null,null,null,"Total",{"$f":"IF(P$197=\"Error\",\"Error\",SUM(Q199:Q204))","v":0},{"$f":"IF(P$197=\"Error\",\"Error\",SUM(R199:R204))","v":0}]
[null,null,null,null,null,null,"Total",{"$f":"IF(G$197=\"Error\",\"Error\",SUM(H199:H205))","v":0},{"$f":"IF(G$197=\"Error\",\"Error\",SUM(I199:I205))","v":0},"Sort de Gel",null,null,"Max","Max +",null,"Actuel","À Faire","Améliorations"]
["Sort de Rage",null,null,"Max","Max +",null,"Actuel","À Faire","Améliorations",null,null,null,{"$f":"VLOOKUP($A$2,AVAILABLE_Upgrades_Spells[#All],MATCH(J206,AVAILABLE_Upgrades_Spells[#Headers],0))","v":0},{"$f":"VLOOKUP(IF(ISERROR(LOOKUP(MATCH(1,Paramètres!$K$6:$K$45,0),Paramètres!$A$6:$A$45)),0,LOOKUP(MATCH(1,Paramètres!$K$6:$K$45,0),Paramètres!$A$6:$A$45)),AVAILABLE_Upgrades_Spells[#All],MATCH(J206,AVAILABLE_Upgrades_Spells[#Headers],0)+1)","v":0},null,{"$f":"IF(SUM(K209:K213)>M207,\"Error\",SUM(K209:K213))","v":0},{"$f":"IF(P$207=\"Error\",\"Error\",M207-P207)","v":0},{"$f":"IF(P$207=\"Error\",\"Error\",SUM(M209:M213))","v":0}]
[null,null,null,{"$f":"VLOOKUP($A$2,AVAILABLE_Upgrades_Spells[#All],MATCH(A207,AVAILABLE_Upgrades_Spells[#Headers],0))","v":0},{"$f":"VLOOKUP(IF(ISERROR(LOOKUP(MATCH(1,Paramètres!$K$6:$K$45,0),Paramètres!$A$6:$A$45)),0,LOOKUP(MATCH(1,Paramètres!$K$6:$K$45,0),Paramètres!$A$6:$A$45)),AVAILABLE_Upgrades_Spells[#All],MATCH(A207,AVAILABLE_Upgrades_Spells[#Headers],0)+1)","v":0},null,{"$f":"IF(SUM(B210:B214)>D208,\"Error\",SUM(B210:B214))","v":0},{"$f":"IF(G$208=\"Error\",\"Error\",D208-G208)","v":0},{"$f":"IF(G$208=\"Error\",\"Error\",SUM(D210:D214))","v":0},"+","NB",null,"NB","+","Coût","Temps","Coût Total","Temps Total"]
["+","NB",null,"NB","+","Coût","Temps","Coût Total","Temps Total",1,{"$f":"IF(Paramètres!AK6=0,\"\",Paramètres!AK6)","v":""},{"$f":"IF(L208<>0,L208+IF(AND(K208<>\"\",J208<N$207),K208,0),IF(AND(K208<>\"\",J208<N$207),K208,0))","v":0},{"$f":"IF(N209<>\"/\",IF(P$207=\"Error\",\"Error\",$Q$207+L209),\"/\")","v":"/"},{"$f":"IF(P$207=\"Error\",\"Error\",IF(AND($N$207<>\"/\",$N$207>'Paramètres - Admin'!$A2),'Paramètres - Admin'!$A3,\"/\"))","v":"/"},{"$f":"IF(N209<>\"/\",VLOOKUP(N209,COSTS_Spell_Freeze[#All],2),\"/\")","v":"/"},{"$f":"IF(N209<>\"/\",VLOOKUP(N209,COSTS_Spell_Freeze[#All],3),\"/\")","v":"/"},{"$f":"IF(P$207=\"Error\",\"Error\",IF(O209<>\"/\",M209*O209,0))","v":0},{"$f":"IF(P$207=\"Error\",\"Error\",IF(P209<>\"/\",M209*P209,0))","v":0}]
[1,{"$f":"IF(Paramètres!AI6=0,\"\",Paramètres!AI6)","v":""},{"$f":"IF(C209<>0,C209+IF(AND(B209<>\"\",A209<E$208),B209,0),IF(AND(B209<>\"\",A209<E$208),B209,0))","v":0},{"$f":"IF(E210<>\"/\",IF(G$208=\"Error\",\"Error\",$H$208+C210),\"/\")","v":"/"},{"$f":"IF(G$208=\"Error\",\"Error\",IF(AND($E$208<>\"/\",$E$208>'Paramètres - Admin'!$A2),'Paramètres - Admin'!$A3,\"/\"))","v":"/"},{"$f":"IF(E210<>\"/\",VLOOKUP(E210,COSTS_Spell_Rage[#All],2),\"/\")","v":"/"},{"$f":"IF(E210<>\"/\",VLOOKUP(E210,COSTS_Spell_Rage[#All],3),\"/\")","v":"/"},{"$f":"IF(G$208=\"Error\",\"Error\",IF(F210<>\"/\",D210*F210,0))","v":0},{"$f":"IF(G$208=\"Error\",\"Error\",IF(G210<>\"/\",D210*G210,0))","v":0},2,{"$f":"IF(Paramètres!AK7=0,\"\",Paramètres!AK7)","v":""},{"$f":"IF(L209<>0,L209+IF(AND(K209<>\"\",J209<N$207),K209,0),IF(AND(K209<>\"\",J209<N$207),K209,0))","v":0},{"$f":"IF(N210<>\"/\",IF(P$207=\"Error\",\"Error\",$Q$207+L210),\"/\")","v":"/"},{"$f":"IF(P$207=\"Error\",\"Error\",IF(AND($N$207<>\"/\",$N$207>'Paramètres - Admin'!$A3),'Paramètres - Admin'!$A4,\"/\"))","v":"/"},{"$f":"IF(N210<>\"/\",VLOOKUP(N210,COSTS_Spell_Freeze[#All],2),\"/\")","v":"/"},{"$f":"IF(N210<>\"/\",VLOOKUP(N210,COSTS_Spell_Freeze[#All],3),\"/\")","v":"/"},{"$f":"IF(P$207=\"Error\",\"Error\",IF(O210<>\"/\",M210*O210,0))","v":0},{"$f":"IF(P$207=\"Error\",\"Error\",IF(P210<>\"/\",M210*P210,0))","v":0}]
[2,{"$f":"IF(Paramètres!AI7=0,\"\",Paramètres!AI7)","v":""},{"$f":"IF(C210<>0,C210+IF(AND(B210<>\"\",A210<E$208),B210,0),IF(AND(B210<>\"\",A210<E$208),B210,0))","v":0},{"$f":"IF(E211<>\"/\",IF(G$208=\"Error\",\"Error\",$H$208+C211),\"/\")","v":"/"},{"$f":"IF(G$208=\"Error\",\"Error\",IF(AND($E$208<>\"/\",$E$208>'Paramètres - Admin'!$A3),'Paramètres - Admin'!$A4,\"/\"))","v":"/"},{"$f":"IF(E211<>\"/\",VLOOKUP(E211,COSTS_Spell_Rage[#All],2),\"/\")","v":"/"},{"$f":"IF(E211<>\"/\",VLOOKUP(E211,COSTS_Spell_Rage[#All],3),\"/\")","v":"/"},{"$f":"IF(G$208=\"Error\",\"Error\",IF(F211<>\"/\",D211*F211,0))","v":0},{"$f":"IF(G$208=\"Error\",\"Error\",IF(G211<>\"/\",D211*G211,0))","v":0},3,{"$f":"IF(Paramètres!AK8=0,\"\",Paramètres!AK8)","v":""},{"$f":"IF(L210<>0,L210+IF(AND(K210<>\"\",J210<N$207),K210,0),IF(AND(K210<>\"\",J210<N$207),K210,0))","v":0},{"$f":"IF(N211<>\"/\",IF(P$207=\"Error\",\"Error\",$Q$207+L211),\"/\")","v":"/"},{"$f":"IF(P$207=\"Error\",\"Error\",IF(AND($N$207<>\"/\",$N$207>'Paramètres - Admin'!$A4),'Paramètres - Admin'!$A5,\"/\"))","v":"/"},{"$f":"IF(N211<>\"/\",VLOOKUP(N211,COSTS_Spell_Freeze[#All],2),\"/\")","v":"/"},{"$f":"IF(N211<>\"/\",VLOOKUP(N211,COSTS_Spell_Freeze[#All],3),\"/\")","v":"/"},{"$f":"IF(P$207=\"Error\",\"Error\",IF(O211<>\"/\",M211*O211,0))","v":0},{"$f":"IF(P$207=\"Error\",\"Error\",IF(P211<>\"/\",M211*P211,0))","v":0}]
[3,{"$f":"IF(Paramètres!AI8=0,\"\",Paramètres!AI8)","v":""},{"$f":"IF(C211<>0,C211+IF(AND(B211<>\"\",A211<E$208),B211,0),IF(AND(B211<>\"\",A211<E$208),B211,0))","v":0},{"$f":"IF(E212<>\"/\",IF(G$208=\"Error\",\"Error\",$H$208+C212),\"/\")","v":"/"},{"$f":"IF(G$208=\"Error\",\"Error\",IF(AND($E$208<>\"/\",$E$208>'Paramètres - Admin'!$A4),'Paramètres - Admin'!$A5,\"/\"))","v":"/"},{"$f":"IF(E212<>\"/\",VLOOKUP(E212,COSTS_Spell_Rage[#All],2),\"/\")","v":"/"},{"$f":"IF(E212<>\"/\",VLOOKUP(E212,COSTS_Spell_Rage[#All],3),\"/\")","v":"/"},{"$f":"IF(G$208=\"Error\",\"Error\",IF(F212<>\"/\",D212*F212,0))","v":0},{"$f":"IF(G$208=\"Error\",\"Error\",IF(G212<>\"/\",D212*G212,0))","v":0},4,{"$f":"IF(Paramètres!AK9=0,\"\",Paramètres!AK9)","v":""},{"$f":"IF(L211<>0,L211+IF(AND(K211<>\"\",J211<N$207),K211,0),IF(AND(K211<>\"\",J211<N$207),K211,0))","v":0},{"$f":"IF(N212<>\"/\",IF(P$207=\"Error\",\"Error\",$Q$207+L212),\"/\")","v":"/"},{"$f":"IF(P$207=\"Error\",\"Error\",IF(AND($N$207<>\"/\",$N$207>'Paramètres - Admin'!$A5),'Paramètres - Admin'!$A6,\"/\"))","v":"/"},{"$f":"IF(N212<>\"/\",VLOOKUP(N212,COSTS_Spell_Freeze[#All],2),\"/\")","v":"/"},{"$f":"IF(N212<>\"/\",VLOOKUP(N212,COSTS_Spell_Freeze[#All],3),\"/\")","v":"/"},{"$f":"IF(P$207=\"Error\",\"Error\",IF(O212<>\"/\",M212*O212,0))","v":0},{"$f":"IF(P$207=\"Error\",\"Error\",IF(P212<>\"/\",M212*P212,0))","v":0}]
[4,{"$f":"IF(Paramètres!AI9=0,\"\",Paramètres!AI9)","v":""},{"$f":"IF(C212<>0,C212+IF(AND(B212<>\"\",A212<E$208),B212,0),IF(AND(B212<>\"\",A212<E$208),B212,0))","v":0},{"$f":"IF(E213<>\"/\",IF(G$208=\"Error\",\"Error\",$H$208+C213),\"/\")","v":"/"},{"$f":"IF(G$208=\"Error\",\"Error\",IF(AND($E$208<>\"/\",$E$208>'Paramètres - Admin'!$A5),'Paramètres - Admin'!$A6,\"/\"))","v":"/"},{"$f":"IF(E213<>\"/\",VLOOKUP(E213,COSTS_Spell_Rage[#All],2),\"/\")","v":"/"},{"$f":"IF(E213<>\"/\",VLOOKUP(E213,COSTS_Spell_Rage[#All],3),\"/\")","v":"/"},{"$f":"IF(G$208=\"Error\",\"Error\",IF(F213<>\"/\",D213*F213,0))","v":0},{"$f":"IF(G$208=\"Error\",\"Error\",IF(G213<>\"/\",D213*G213,0))","v":0},5,{"$f":"IF(Paramètres!AK10=0,\"\",Paramètres!AK10)","v":""},{"$f":"IF(L212<>0,L212+IF(AND(K212<>\"\",J212<N$207),K212,0),IF(AND(K212<>\"\",J212<N$207),K212,0))","v":0},{"$f":"IF(N213<>\"/\",IF(P$207=\"Error\",\"Error\",$Q$207+L213),\"/\")","v":"/"},{"$f":"IF(P$207=\"Error\",\"Error\",IF(AND($N$207<>\"/\",$N$207>'Paramètres - Admin'!$A6),'Paramètres - Admin'!$A7,\"/\"))","v":"/"},{"$f":"IF(N213<>\"/\",VLOOKUP(N213,COSTS_Spell_Freeze[#All],2),\"/\")","v":"/"},{"$f":"IF(N213<>\"/\",VLOOKUP(N213,COSTS_Spell_Freeze[#All],3),\"/\")","v":"/"},{"$f":"IF(P$207=\"Error\",\"Error\",IF(O213<>\"/\",M213*O213,0))","v":0},{"$f":"IF(P$207=\"Error\",\"Error\",IF(P213<>\"/\",M213*P213,0))","v":0}]
[5,{"$f":"IF(Paramètres!AI10=0,\"\",Paramètres!AI10)","v":""},{"$f":"IF(C213<>0,C213+IF(AND(B213<>\"\",A213<E$208),B213,0),IF(AND(B213<>\"\",A213<E$208),B213,0))","v":0},{"$f":"IF(E214<>\"/\",IF(G$208=\"Error\",\"Error\",$H$208+C214),\"/\")","v":"/"},{"$f":"IF(G$208=\"Error\",\"Error\",IF(AND($E$208<>\"/\",$E$208>'Paramètres - Admin'!$A6),'Paramètres - Admin'!$A7,\"/\"))","v":"/"},{"$f":"IF(E214<>\"/\",VLOOKUP(E214,COSTS_Spell_Rage[#All],2),\"/\")","v":"/"},{"$f":"IF(E214<>\"/\",VLOOKUP(E214,COSTS_Spell_Rage[#All],3),\"/\")","v":"/"},{"$f":"IF(G$208=\"Error\",\"Error\",IF(F214<>\"/\",D214*F214,0))","v":0},{"$f":"IF(G$208=\"Error\",\"Error\",IF(G214<>\"/\",D214*G214,0))","v":0},null,null,null,null,null,null,"Total",{"$f":"IF(P$207=\"Error\",\"Error\",SUM(Q209:Q213))","v":0},{"$f":"IF(P$207=\"Error\",\"Error\",SUM(R209:R213))","v":0}]
[null,null,null,null,null,null,"Total",{"$f":"IF(G$208=\"Error\",\"Error\",SUM(H210:H214))","v":0},{"$f":"IF(G$208=\"Error\",\"Error\",SUM(I210:I214))","v":0}]
["Sort de Saut",null,null,"Max","Max +",null,"Actuel","À Faire","Améliorations"]
[null,null,null,{"$f":"VLOOKUP($A$2,AVAILABLE_Upgrades_Spells[#All],MATCH(A216,AVAILABLE_Upgrades_Spells[#Headers],0))","v":0},{"$f":"VLOOKUP(IF(ISERROR(LOOKUP(MATCH(1,Paramètres!$K$6:$K$45,0),Paramètres!$A$6:$A$45)),0,LOOKUP(MATCH(1,Paramètres!$K$6:$K$45,0),Paramètres!$A$6:$A$45)),AVAILABLE_Upgrades_Spells[#All],MATCH(A216,AVAILABLE_Upgrades_Spells[#Headers],0)+1)","v":0},null,{"$f":"IF(SUM(B219:B221)>D217,\"Error\",SUM(B219:B221))","v":0},{"$f":"IF(G$217=\"Error\",\"Error\",D217-G217)","v":0},{"$f":"IF(G$217=\"Error\",\"Error\",SUM(D219:D221))","v":0}]
["+","NB",null,"NB","+","Coût","Temps","Coût Total","Temps Total"]
[1,{"$f":"IF(Paramètres!AJ6=0,\"\",Paramètres!AJ6)","v":""},{"$f":"IF(C218<>0,C218+IF(AND(B218<>\"\",A218<E$217),B218,0),IF(AND(B218<>\"\",A218<E$217),B218,0))","v":0},{"$f":"IF(E219<>\"/\",IF(G$217=\"Error\",\"Error\",$H$217+C219),\"/\")","v":"/"},{"$f":"IF(G$217=\"Error\",\"Error\",IF(AND($E$217<>\"/\",$E$217>'Paramètres - Admin'!$A2),'Paramètres - Admin'!$A3,\"/\"))","v":"/"},{"$f":"IF(E219<>\"/\",VLOOKUP(E219,COSTS_Spell_Jump[#All],2),\"/\")","v":"/"},{"$f":"IF(E219<>\"/\",VLOOKUP(E219,COSTS_Spell_Jump[#All],3),\"/\")","v":"/"},{"$f":"IF(G$217=\"Error\",\"Error\",IF(F219<>\"/\",D219*F219,0))","v":0},{"$f":"IF(G$217=\"Error\",\"Error\",IF(G219<>\"/\",D219*G219,0))","v":0}]
[2,{"$f":"IF(Paramètres!AJ7=0,\"\",Paramètres!AJ7)","v":""},{"$f":"IF(C219<>0,C219+IF(AND(B219<>\"\",A219<E$217),B219,0),IF(AND(B219<>\"\",A219<E$217),B219,0))","v":0},{"$f":"IF(E220<>\"/\",IF(G$217=\"Error\",\"Error\",$H$217+C220),\"/\")","v":"/"},{"$f":"IF(G$217=\"Error\",\"Error\",IF(AND($E$217<>\"/\",$E$217>'Paramètres - Admin'!$A3),'Paramètres - Admin'!$A4,\"/\"))","v":"/"},{"$f":"IF(E220<>\"/\",VLOOKUP(E220,COSTS_Spell_Jump[#All],2),\"/\")","v":"/"},{"$f":"IF(E220<>\"/\",VLOOKUP(E220,COSTS_Spell_Jump[#All],3),\"/\")","v":"/"},{"$f":"IF(G$217=\"Error\",\"Error\",IF(F220<>\"/\",D220*F220,0))","v":0},{"$f":"IF(G$217=\"Error\",\"Error\",IF(G220<>\"/\",D220*G220,0))","v":0}]
[3,{"$f":"IF(Paramètres!AJ8=0,\"\",Paramètres!AJ8)","v":""},{"$f":"IF(C220<>0,C220+IF(AND(B220<>\"\",A220<E$217),B220,0),IF(AND(B220<>\"\",A220<E$217),B220,0))","v":0},{"$f":"IF(E221<>\"/\",IF(G$217=\"Error\",\"Error\",$H$217+C221),\"/\")","v":"/"},{"$f":"IF(G$217=\"Error\",\"Error\",IF(AND($E$217<>\"/\",$E$217>'Paramètres - Admin'!$A4),'Paramètres - Admin'!$A5,\"/\"))","v":"/"},{"$f":"IF(E221<>\"/\",VLOOKUP(E221,COSTS_Spell_Jump[#All],2),\"/\")","v":"/"},{"$f":"IF(E221<>\"/\",VLOOKUP(E221,COSTS_Spell_Jump[#All],3),\"/\")","v":"/"},{"$f":"IF(G$217=\"Error\",\"Error\",IF(F221<>\"/\",D221*F221,0))","v":0},{"$f":"IF(G$217=\"Error\",\"Error\",IF(G221<>\"/\",D221*G221,0))","v":0}]
[null,null,null,null,null,null,"Total",{"$f":"IF(G$217=\"Error\",\"Error\",SUM(H219:H221))","v":0},{"$f":"IF(G$217=\"Error\",\"Error\",SUM(I219:I221))","v":0}]
[]
[]
["Améliorations de Troupes"]
["Barbare",null,null,"Max","Max +",null,"Actuel","À Faire","Améliorations","Ballon",null,null,"Max","Max +",null,"Actuel","À Faire","Améliorations"]
[null,null,null,{"$f":"VLOOKUP($A$2,AVAILABLE_Upgrades_Normal_Troops[#All],MATCH(A226,AVAILABLE_Upgrades_Normal_Troops[#Headers],0))","v":0},{"$f":"VLOOKUP(IF(ISERROR(LOOKUP(MATCH(1,Paramètres!$K$6:$K$45,0),Paramètres!$A$6:$A$45)),0,LOOKUP(MATCH(1,Paramètres!$K$6:$K$45,0),Paramètres!$A$6:$A$45)),AVAILABLE_Upgrades_Normal_Troops[#All],MATCH(A226,AVAILABLE_Upgrades_Normal_Troops[#Headers],0)+1)","v":0},null,{"$f":"IF(SUM(B229:B235)>D227,\"Error\",SUM(B229:B235))","v":0},{"$f":"IF(G$227=\"Error\",\"Error\",D227-G227)","v":0},{"$f":"IF(G$227=\"Error\",\"Error\",SUM(D229:D235))","v":0},null,null,null,{"$f":"VLOOKUP($A$2,AVAILABLE_Upgrades_Normal_Troops[#All],MATCH(J226,AVAILABLE_Upgrades_Normal_Troops[#Headers],0))","v":0},{"$f":"VLOOKUP(IF(ISERROR(LOOKUP(MATCH(1,Paramètres!$K$6:$K$45,0),Paramètres!$A$6:$A$45)),0,LOOKUP(MATCH(1,Paramètres!$K$6:$K$45,0),Paramètres!$A$6:$A$45)),AVAILABLE_Upgrades_Normal_Troops[#All],MATCH(J226,AVAILABLE_Upgrades_Normal_Troops[#Headers],0)+1)","v":0},null,{"$f":"IF(SUM(K229:K234)>M227,\"Error\",SUM(K229:K234))","v":0},{"$f":"IF(P$227=\"Error\",\"Error\",M227-P227)","v":0},{"$f":"IF(P$227=\"Error\",\"Error\",SUM(M229:M234))","v":0}]
["+","NB",null,"NB","+","Coût","Temps","Coût Total","Temps Total","+","NB",null,"NB","+","Coût","Temps","Coût Total","Temps Total"]
[1,{"$f":"IF(Paramètres!AO6=0,\"\",Paramètres!AO6)","v":""},{"$f":"IF(C228<>0,C228+IF(AND(B228<>\"\",A228<E$227),B228,0),IF(AND(B228<>\"\",A228<E$227),B228,0))","v":0},{"$f":"IF(E229<>\"/\",IF(G$227=\"Error\",\"Error\",$H$227+C229),\"/\")","v":"/"},{"$f":"IF(G$227=\"Error\",\"Error\",IF(AND($E$227<>\"/\",$E$227>'Paramètres - Admin'!$A2),'Paramètres - Admin'!$A3,\"/\"))","v":"/"},{"$f":"IF(E229<>\"/\",VLOOKUP(E229,COSTS_Barbarian[#All],2),\"/\")","v":"/"},{"$f":"IF(E229<>\"/\",VLOOKUP(E229,COSTS_Barbarian[#All],3),\"/\")","v":"/"},{"$f":"IF(G$227=\"Error\",\"Error\",IF(F229<>\"/\",D229*F229,0))","v":0},{"$f":"IF(G$227=\"Error\",\"Error\",IF(G229<>\"/\",D229*G229,0))","v":0},1,{"$f":"IF(Paramètres!AT6=0,\"\",Paramètres!AT6)","v":""},{"$f":"IF(L228<>0,L228+IF(AND(K228<>\"\",J228<N$227),K228,0),IF(AND(K228<>\"\",J228<N$227),K228,0))","v":0},{"$f":"IF(N229<>\"/\",IF(P$227=\"Error\",\"Error\",$Q$227+L229),\"/\")","v":"/"},{"$f":"IF(P$227=\"Error\",\"Error\",IF(AND($N$227<>\"/\",$N$227>'Paramètres - Admin'!$A2),'Paramètres - Admin'!$A3,\"/\"))","v":"/"},{"$f":"IF(N229<>\"/\",VLOOKUP(N229,COSTS_Balloon[#All],2),\"/\")","v":"/"},{"$f":"IF(N229<>\"/\",VLOOKUP(N229,COSTS_Balloon[#All],3),\"/\")","v":"/"},{"$f":"IF(P$227=\"Error\",\"Error\",IF(O229<>\"/\",M229*O229,0))","v":0},{"$f":"IF(P$227=\"Error\",\"Error\",IF(P229<>\"/\",M229*P229,0))","v":0}]
[2,{"$f":"IF(Paramètres!AO7=0,\"\",Paramètres!AO7)","v":""},0,"/",{"$f":"IF(G$227=\"Error\",\"Error\",IF(AND($E$227<>\"/\",$E$227>'Paramètres - Admin'!$A3),'Paramètres - Admin'!$A4,\"/\"))","v":"/"},{"$f":"IF(E230<>\"/\",VLOOKUP(E230,COSTS_Barbarian[#All],2),\"/\")","v":"/"},{"$f":"IF(E230<>\"/\",VLOOKUP(E230,COSTS_Barbarian[#All],3),\"/\")","v":"/"},0,0,2,{"$f":"IF(Paramètres!AT7=0,\"\",Paramètres!AT7)","v":""},0,"/",{"$f":"IF(P$227=\"Error\",\"Error\",IF(AND($N$227<>\"/\",$N$227>'Paramètres - Admin'!$A3),'Paramètres - Admin'!$A4,\"/\"))","v":"/"},{"$f":"IF(N230<>\"/\",VLOOKUP(N230,COSTS_Balloon[#All],2),\"/\")","v":"/"},{"$f":"IF(N230<>\"/\",VLOOKUP(N230,COSTS_Balloon[#All],3),\"/\")","v":"/"},0,0]
[3,{"$f":"IF(Paramètres!AO8=0,\"\",Paramètres!AO8)","v":""},0,"/",{"$f":"IF(G$227=\"Error\",\"Error\",IF(AND($E$227<>\"/\",$E$227>'Paramètres - Admin'!$A4),'Paramètres - Admin'!$A5,\"/\"))","v":"/"},{"$f":"IF(E231<>\"/\",VLOOKUP(E231,COSTS_Barbarian[#All],2),\"/\")","v":"/"},{"$f":"IF(E231<>\"/\",VLOOKUP(E231,COSTS_Barbarian[#All],3),\"/\")","v":"/"},0,0,3,{"$f":"IF(Paramètres!AT8=0,\"\",Paramètres!AT8)","v":""},0,"/",{"$f":"IF(P$227=\"Error\",\"Error\",IF(AND($N$227<>\"/\",$N$227>'Paramètres - Admin'!$A4),'Paramètres - Admin'!$A5,\"/\"))","v":"/"},{"$f":"IF(N231<>\"/\",VLOOKUP(N231,COSTS_Balloon[#All],2),\"/\")","v":"/"},{"$f":"IF(N231<>\"/\",VLOOKUP(N231,COSTS_Balloon[#All],3),\"/\")","v":"/"},0,0]
[4,{"$f":"IF(Paramètres!AO9=0,\"\",Paramètres!AO9)","v":""},0,"/",{"$f":"IF(G$227=\"Error\",\"Error\",IF(AND($E$227<>\"/\",$E$227>'Paramètres - Admin'!$A5),'Paramètres - Admin'!$A6,\"/\"))","v":"/"},{"$f":"IF(E232<>\"/\",VLOOKUP(E232,COSTS_Barbarian[#All],2),\"/\")","v":"/"},{"$f":"IF(E232<>\"/\",VLOOKUP(E232,COSTS_Barbarian[#All],3),\"/\")","v":"/"},0,0,4,{"$f":"IF(Paramètres!AT9=0,\"\",Paramètres!AT9)","v":""},0,"/",{"$f":"IF(P$227=\"Error\",\"Error\",IF(AND($N$227<>\"/\",$N$227>'Paramètres - Admin'!$A5),'Paramètres - Admin'!$A6,\"/\"))","v":"/"},{"$f":"IF(N232<>\"/\",VLOOKUP(N232,COSTS_Balloon[#All],2),\"/\")","v":"/"},{"$f":"IF(N232<>\"/\",VLOOKUP(N232,COSTS_Balloon[#All],3),\"/\")","v":"/"},0,0]
[5,{"$f":"IF(Paramètres!AO10=0,\"\",Paramètres!AO10)","v":""},0,"/",{"$f":"IF(G$227=\"Error\",\"Error\",IF(AND($E$227<>\"/\",$E$227>'Paramètres - Admin'!$A6),'Paramètres - Admin'!$A7,\"/\"))","v":"/"},{"$f":"IF(E233<>\"/\",VLOOKUP(E233,COSTS_Barbarian[#All],2),\"/\")","v":"/"},{"$f":"IF(E233<>\"/\",VLOOKUP(E233,COSTS_Barbarian[#All],3),\"/\")","v":"/"},0,0,5,{"$f":"IF(Paramètres!AT10=0,\"\",Paramètres!AT10)","v":""},0,"/",{"$f":"IF(P$227=\"Error\",\"Error\",IF(AND($N$227<>\"/\",$N$227>'Paramètres - Admin'!$A6),'Paramètres - Admin'!$A7,\"/\"))","v":"/"},{"$f":"IF(N233<>\"/\",VLOOKUP(N233,COSTS_Balloon[#All],2),\"/\")","v":"/"},{"$f":"IF(N233<>\"/\",VLOOKUP(N233,COSTS_Balloon[#All],3),\"/\")","v":"/"},0,0]
[6,{"$f":"IF(Paramètres!AO11=0,\"\",Paramètres!AO11)","v":""},0,"/",{"$f":"IF(G$227=\"Error\",\"Error\",IF(AND($E$227<>\"/\",$E$227>'Paramètres - Admin'!$A7),'Paramètres - Admin'!$A8,\"/\"))","v":"/"},{"$f":"IF(E234<>\"/\",VLOOKUP(E234,COSTS_Barbarian[#All],2),\"/\")","v":"/"},{"$f":"IF(E234<>\"/\",VLOOKUP(E234,COSTS_Barbarian[#All],3),\"/\")","v":"/"},0,0,6,{"$f":"IF(Paramètres!AT11=0,\"\",Paramètres!AT11)","v":""},0,"/",{"$f":"IF(P$227=\"Error\",\"Error\",IF(AND($N$227<>\"/\",$N$227>'Paramètres - Admin'!$A7),'Paramètres - Admin'!$A8,\"/\"))","v":"/"},{"$f":"IF(N234<>\"/\",VLOOKUP(N234,COSTS_Balloon[#All],2),\"/\")","v":"/"},{"$f":"IF(N234<>\"/\",VLOOKUP(N234,COSTS_Balloon[#All],3),\"/\")","v":"/"},0,0]
[7,{"$f":"IF(Paramètres!AO12=0,\"\",Paramètres!AO12)","v":""},0,"/",{"$f":"IF(G$227=\"Error\",\"Error\",IF(AND($E$227<>\"/\",$E$227>'Paramètres - Admin'!$A8),'Paramètres - Admin'!$A9,\"/\"))","v":"/"},{"$f":"IF(E235<>\"/\",VLOOKUP(E235,COSTS_Barbarian[#All],2),\"/\")","v":"/"},{"$f":"IF(E235<>\"/\",VLOOKUP(E235,COSTS_Barbarian[#All],3),\"/\")","v":"/"},0,0,null,null,null,null,null,null,"Total",{"$f":"IF(P$227=\"Error\",\"Error\",SUM(Q229:Q234))","v":0},{"$f":"IF(P$227=\"Error\",\"Error\",SUM(R229:R234))","v":0}]
[null,null,null,null,null,null,"Total",{"$f":"IF(G$227=\"Error\",\"Error\",SUM(H229:H235))","v":0},{"$f":"IF(G$227=\"Error\",\"Error\",SUM(I229:I235))","v":0},"Sorcier",null,null,"Max","Max +",null,"Actuel","À Faire","Améliorations"]
["Archer",null,null,"Max","Max +",null,"Actuel","À Faire","Améliorations",null,null,null,{"$f":"VLOOKUP($A$2,AVAILABLE_Upgrades_Normal_Troops[#All],MATCH(J236,AVAILABLE_Upgrades_Normal_Troops[#Headers],0))","v":0},{"$f":"VLOOKUP(IF(ISERROR(LOOKUP(MATCH(1,Paramètres!$K$6:$K$45,0),Paramètres!$A$6:$A$45)),0,LOOKUP(MATCH(1,Paramètres!$K$6:$K$45,0),Paramètres!$A$6:$A$45)),AVAILABLE_Upgrades_Normal_Troops[#All],MATCH(J236,AVAILABLE_Upgrades_Normal_Troops[#Headers],0)+1)","v":0},null,{"$f":"IF(SUM(K239:K244)>M237,\"Error\",SUM(K239:K244))","v":0},{"$f":"IF(P$237=\"Error\",\"Error\",M237-P237)","v":0},{"$f":"IF(P$237=\"Error\",\"Error\",SUM(M239:M244))","v":0}]
[null,null,null,{"$f":"VLOOKUP($A$2,AVAILABLE_Upgrades_Normal_Troops[#All],MATCH(A237,AVAILABLE_Upgrades_Normal_Troops[#Headers],0))","v":0},{"$f":"VLOOKUP(IF(ISERROR(LOOKUP(MATCH(1,Paramètres!$K$6:$K$45,0),Paramètres!$A$6:$A$45)),0,LOOKUP(MATCH(1,Paramètres!$K$6:$K$45,0),Paramètres!$A$6:$A$45)),AVAILABLE_Upgrades_Normal_Troops[#All],MATCH(A237,AVAILABLE_Upgrades_Normal_Troops[#Headers],0)+1)","v":0},null,{"$f":"IF(SUM(B240:B246)>D238,\"Error\",SUM(B240:B246))","v":0},{"$f":"IF(G$238=\"Error\",\"Error\",D238-G238)","v":0},{"$f":"IF(G$238=\"Error\",\"Error\",SUM(D240:D246))","v":0},"+","NB",null,"NB","+","Coût","Temps","Coût Total","Temps Total"]
["+","NB",null,"NB","+","Coût","Temps","Coût Total","Temps Total",1,{"$f":"IF(Paramètres!AU6=0,\"\",Paramètres!AU6)","v":""},{"$f":"IF(L238<>0,L238+IF(AND(K238<>\"\",J238<N$237),K238,0),IF(AND(K238<>\"\",J238<N$237),K238,0))","v":0},{"$f":"IF(N239<>\"/\",IF(P$237=\"Error\",\"Error\",$Q$237+L239),\"/\")","v":"/"},{"$f":"IF(P$237=\"Error\",\"Error\",IF(AND($N$237<>\"/\",$N$237>'Paramètres - Admin'!$A2),'Paramètres - Admin'!$A3,\"/\"))","v":"/"},{"$f":"IF(N239<>\"/\",VLOOKUP(N239,COSTS_Wizard[#All],2),\"/\")","v":"/"},{"$f":"IF(N239<>\"/\",VLOOKUP(N239,COSTS_Wizard[#All],3),\"/\")","v":"/"},{"$f":"IF(P$237=\"Error\",\"Error\",IF(O239<>\"/\",M239*O239,0))","v":0},{"$f":"IF(P$237=\"Error\",\"Error\",IF(P239<>\"/\",M239*P239,0))","v":0}]
[1,{"$f":"IF(Paramètres!AP6=0,\"\",Paramètres!AP6)","v":""},{"$f":"IF(C239<>0,C239+IF(AND(B239<>\"\",A239<E$238),B239,0),IF(AND(B239<>\"\",A239<E$238),B239,0))","v":0},{"$f":"IF(E240<>\"/\",IF(G$238=\"Error\",\"Error\",$H$238+C240),\"/\")","v":"/"},{"$f":"IF(G$238=\"Error\",\"Error\",IF(AND($E$238<>\"/\",$E$238>'Paramètres - Admin'!$A2),'Paramètres - Admin'!$A3,\"/\"))","v":"/"},{"$f":"IF(E240<>\"/\",VLOOKUP(E240,COSTS_Archer[#All],2),\"/\")","v":"/"},{"$f":"IF(E240<>\"/\",VLOOKUP(E240,COSTS_Archer[#All],3),\"/\")","v":"/"},{"$f":"IF(G$238=\"Error\",\"Error\",IF(F240<>\"/\",D240*F240,0))","v":0},{"$f":"IF(G$238=\"Error\",\"Error\",IF(G240<>\"/\",D240*G240,0))","v":0},2,{"$f":"IF(Paramètres!AU7=0,\"\",Paramètres!AU7)","v":""},0,"/",{"$f":"IF(P$237=\"Error\",\"Error\",IF(AND($N$237<>\"/\",$N$237>'Paramètres - Admin'!$A3),'Paramètres - Admin'!$A4,\"/\"))","v":"/"},{"$f":"IF(N240<>\"/\",VLOOKUP(N240,COSTS_Wizard[#All],2),\"/\")","v":"/"},{"$f":"IF(N240<>\"/\",VLOOKUP(N240,COSTS_Wizard[#All],3),\"/\")","v":"/"},0,0]
[2,{"$f":"IF(Paramètres!AP7=0,\"\",Paramètres!AP7)","v":""},0,"/",{"$f":"IF(G$238=\"Error\",\"Error\",IF(AND($E$238<>\"/\",$E$238>'Paramètres - Admin'!$A3),'Paramètres - Admin'!$A4,\"/\"))","v":"/"},{"$f":"IF(E241<>\"/\",VLOOKUP(E241,COSTS_Archer[#All],2),\"/\")","v":"/"},{"$f":"IF(E241<>\"/\",VLOOKUP(E241,COSTS_Archer[#All],3),\"/\")","v":"/"},0,0,3,{"$f":"IF(Paramètres!AU8=0,\"\",Paramètres!AU8)","v":""},0,"/",{"$f":"IF(P$237=\"Error\",\"Error\",IF(AND($N$237<>\"/\",$N$237>'Paramètres - Admin'!$A4),'Paramètres - Admin'!$A5,\"/\"))","v":"/"},{"$f":"IF(N241<>\"/\",VLOOKUP(N241,COSTS_Wizard[#All],2),\"/\")","v":"/"},{"$f":"IF(N241<>\"/\",VLOOKUP(N241,COSTS_Wizard[#All],3),\"/\")","v":"/"},0,0]
[3,{"$f":"IF(Paramètres!AP8=0,\"\",Paramètres!AP8)","v":""},0,"/",{"$f":"IF(G$238=\"Error\",\"Error\",IF(AND($E$238<>\"/\",$E$238>'Paramètres - Admin'!$A4),'Paramètres - Admin'!$A5,\"/\"))","v":"/"},{"$f":"IF(E242<>\"/\",VLOOKUP(E242,COSTS_Archer[#All],2),\"/\")","v":"/"},{"$f":"IF(E242<>\"/\",VLOOKUP(E242,COSTS_Archer[#All],3),\"/\")","v":"/"},0,0,4,{"$f":"IF(Paramètres!AU9=0,\"\",Paramètres!AU9)","v":""},0,"/",{"$f":"IF(P$237=\"Error\",\"Error\",IF(AND($N$237<>\"/\",$N$237>'Paramètres - Admin'!$A5),'Paramètres - Admin'!$A6,\"/\"))","v":"/"},{"$f":"IF(N242<>\"/\",VLOOKUP(N242,COSTS_Wizard[#All],2),\"/\")","v":"/"},{"$f":"IF(N242<>\"/\",VLOOKUP(N242,COSTS_Wizard[#All],3),\"/\")","v":"/"},0,0]
[4,{"$f":"IF(Paramètres!AP9=0,\"\",Paramètres!AP9)","v":""},0,"/",{"$f":"IF(G$238=\"Error\",\"Error\",IF(AND($E$238<>\"/\",$E$238>'Paramètres - Admin'!$A5),'Paramètres - Admin'!$A6,\"/\"))","v":"/"},{"$f":"IF(E243<>\"/\",VLOOKUP(E243,COSTS_Archer[#All],2),\"/\")","v":"/"},{"$f":"IF(E243<>\"/\",VLOOKUP(E243,COSTS_Archer[#All],3),\"/\")","v":"/"},0,0,5,{"$f":"IF(Paramètres!AU10=0,\"\",Paramètres!AU10)","v":""},0,"/",{"$f":"IF(P$237=\"Error\",\"Error\",IF(AND($N$237<>\"/\",$N$237>'Paramètres - Admin'!$A6),'Paramètres - Admin'!$A7,\"/\"))","v":"/"},{"$f":"IF(N243<>\"/\",VLOOKUP(N243,COSTS_Wizard[#All],2),\"/\")","v":"/"},{"$f":"IF(N243<>\"/\",VLOOKUP(N243,COSTS_Wizard[#All],3),\"/\")","v":"/"},0,0]
[5,{"$f":"IF(Paramètres!AP10=0,\"\",Paramètres!AP10)","v":""},0,"/",{"$f":"IF(G$238=\"Error\",\"Error\",IF(AND($E$238<>\"/\",$E$238>'Paramètres - Admin'!$A6),'Paramètres - Admin'!$A7,\"/\"))","v":"/"},{"$f":"IF(E244<>\"/\",VLOOKUP(E244,COSTS_Archer[#All],2),\"/\")","v":"/"},{"$f":"IF(E244<>\"/\",VLOOKUP(E244,COSTS_Archer[#All],3),\"/\")","v":"/"},0,0,6,{"$f":"IF(Paramètres!AU11=0,\"\",Paramètres!AU11)","v":""},0,"/",{"$f":"IF(P$237=\"Error\",\"Error\",IF(AND($N$237<>\"/\",$N$237>'Paramètres - Admin'!$A7),'Paramètres - Admin'!$A8,\"/\"))","v":"/"},{"$f":"IF(N244<>\"/\",VLOOKUP(N244,COSTS_Wizard[#All],2),\"/\")","v":"/"},{"$f":"IF(N244<>\"/\",VLOOKUP(N244,COSTS_Wizard[#All],3),\"/\")","v":"/"},0,0]
[6,{"$f":"IF(Paramètres!AP11=0,\"\",Paramètres!AP11)","v":""},0,"/",{"$f":"IF(G$238=\"Error\",\"Error\",IF(AND($E$238<>\"/\",$E$238>'Paramètres - Admin'!$A7),'Paramètres - Admin'!$A8,\"/\"))","v":"/"},{"$f":"IF(E245<>\"/\",VLOOKUP(E245,COSTS_Archer[#All],2),\"/\")","v":"/"},{"$f":"IF(E245<>\"/\",VLOOKUP(E245,COSTS_Archer[#All],3),\"/\")","v":"/"},0,0,null,null,null,null,null,null,"Total",{"$f":"IF(P$237=\"Error\",\"Error\",SUM(Q239:Q244))","v":0},{"$f":"IF(P$237=\"Error\",\"Error\",SUM(R239:R244))","v":0}]
[7,{"$f":"IF(Paramètres!AP12=0,\"\",Paramètres!AP12)","v":""},0,"/",{"$f":"IF(G$238=\"Error\",\"Error\",IF(AND($E$238<>\"/\",$E$238>'Paramètres - Admin'!$A8),'Paramètres - Admin'!$A9,\"/\"))","v":"/"},{"$f":"IF(E246<>\"/\",VLOOKUP(E246,COSTS_Archer[#All],2),\"/\")","v":"/"},{"$f":"IF(E246<>\"/\",VLOOKUP(E246,COSTS_Archer[#All],3),\"/\")","v":"/"},0,0,"Guérisseuse",null,null,"Max","Max +",null,"Actuel","À Faire","Améliorations"]
[null,null,null,null,null,null,"Total",{"$f":"IF(G$238=\"Error\",\"Error\",SUM(H240:H246))","v":0},{"$f":"IF(G$238=\"Error\",\"Error\",SUM(I240:I246))","v":0},null,null,null,{"$f":"VLOOKUP($A$2,AVAILABLE_Upgrades_Normal_Troops[#All],MATCH(J246,AVAILABLE_Upgrades_Normal_Troops[#Headers],0))","v":0},{"$f":"VLOOKUP(IF(ISERROR(LOOKUP(MATCH(1,Paramètres!$K$6:$K$45,0),Paramètres!$A$6:$A$45)),0,LOOKUP(MATCH(1,Paramètres!$K$6:$K$45,0),Paramètres!$A$6:$A$45)),AVAILABLE_Upgrades_Normal_Troops[#All],MATCH(J246,AVAILABLE_Upgrades_Normal_Troops[#Headers],0)+1)","v":0},null,{"$f":"IF(SUM(K249:K252)>M247,\"Error\",SUM(K249:K252))","v":0},{"$f":"IF(P$247=\"Error\",\"Error\",M247-P247)","v":0},{"$f":"IF(P$247=\"Error\",\"Error\",SUM(M249:M252))","v":0}]
["Gobelin",null,null,"Max","Max +",null,"Actuel","À Faire","Améliorations","+","NB",null,"NB","+","Coût","Temps","Coût Total","Temps Total"]
[null,null,null,{"$f":"VLOOKUP($A$2,AVAILABLE_Upgrades_Normal_Troops[#All],MATCH(A248,AVAILABLE_Upgrades_Normal_Troops[#Headers],0))","v":0},{"$f":"VLOOKUP(IF(ISERROR(LOOKUP(MATCH(1,Paramètres!$K$6:$K$45,0),Paramètres!$A$6:$A$45)),0,LOOKUP(MATCH(1,Paramètres!$K$6:$K$45,0),Paramètres!$A$6:$A$45)),AVAILABLE_Upgrades_Normal_Troops[#All],MATCH(A248,AVAILABLE_Upgrades_Normal_Troops[#Headers],0)+1)","v":0},null,{"$f":"IF(SUM(B251:B256)>D249,\"Error\",SUM(B251:B256))","v":0},{"$f":"IF(G$249=\"Error\",\"Error\",D249-G249)","v":0},{"$f":"IF(G$249=\"Error\",\"Error\",SUM(D251:D256))","v":0},1,{"$f":"IF(Paramètres!AV6=0,\"\",Paramètres!AV6)","v":""},{"$f":"IF(L248<>0,L248+IF(AND(K248<>\"\",J248<N$247),K248,0),IF(AND(K248<>\"\",J248<N$247),K248,0))","v":0},{"$f":"IF(N249<>\"/\",IF(P$247=\"Error\",\"Error\",$Q$247+L249),\"/\")","v":"/"},{"$f":"IF(P$247=\"Error\",\"Error\",IF(AND($N$247<>\"/\",$N$247>'Paramètres - Admin'!$A2),'Paramètres - Admin'!$A3,\"/\"))","v":"/"},{"$f":"IF(N249<>\"/\",VLOOKUP(N249,COSTS_Healer[#All],2),\"/\")","v":"/"},{"$f":"IF(N249<>\"/\",VLOOKUP(N249,COSTS_Healer[#All],3),\"/\")","v":"/"},{"$f":"IF(P$247=\"Error\",\"Error\",IF(O249<>\"/\",M249*O249,0))","v":0},{"$f":"IF(P$247=\"Error\",\"Error\",IF(P249<>\"/\",M249*P249,0))","v":0}]
["+","NB",null,"NB","+","Coût","Temps","Coût Total","Temps Total",2,{"$f":"IF(Paramètres!AV7=0,\"\",Paramètres!AV7)","v":""},{"$f":"IF(L249<>0,L249+IF(AND(K249<>\"\",J249<N$247),K249,0),IF(AND(K249<>\"\",J249<N$247),K249,0))","v":0},{"$f":"IF(N250<>\"/\",IF(P$247=\"Error\",\"Error\",$Q$247+L250),\"/\")","v":"/"},{"$f":"IF(P$247=\"Error\",\"Error\",IF(AND($N$247<>\"/\",$N$247>'Paramètres - Admin'!$A3),'Paramètres - Admin'!$A4,\"/\"))","v":"/"},{"$f":"IF(N250<>\"/\",VLOOKUP(N250,COSTS_Healer[#All],2),\"/\")","v":"/"},{"$f":"IF(N250<>\"/\",VLOOKUP(N250,COSTS_Healer[#All],3),\"/\")","v":"/"},{"$f":"IF(P$247=\"Error\",\"Error\",IF(O250<>\"/\",M250*O250,0))","v":0},{"$f":"IF(P$247=\"Error\",\"Error\",IF(P250<>\"/\",M250*P250,0))","v":0}]
[1,{"$f":"IF(Paramètres!AR6=0,\"\",Paramètres!AR6)","v":""},{"$f":"IF(C250<>0,C250+IF(AND(B250<>\"\",A250<E$249),B250,0),IF(AND(B250<>\"\",A250<E$249),B250,0))","v":0},{"$f":"IF(E251<>\"/\",IF(G$249=\"Error\",\"Error\",$H$249+C251),\"/\")","v":"/"},{"$f":"IF(G$249=\"Error\",\"Error\",IF(AND($E$249<>\"/\",$E$249>'Paramètres - Admin'!$A2),'Paramètres - Admin'!$A3,\"/\"))","v":"/"},{"$f":"IF(E251<>\"/\",VLOOKUP(E251,COSTS_Goblin[#All],2),\"/\")","v":"/"},{"$f":"IF(E251<>\"/\",VLOOKUP(E251,COSTS_Goblin[#All],3),\"/\")","v":"/"},{"$f":"IF(G$249=\"Error\",\"Error\",IF(F251<>\"/\",D251*F251,0))","v":0},{"$f":"IF(G$249=\"Error\",\"Error\",IF(G251<>\"/\",D251*G251,0))","v":0},3,{"$f":"IF(Paramètres!AV8=0,\"\",Paramètres!AV8)","v":""},{"$f":"IF(L250<>0,L250+IF(AND(K250<>\"\",J250<N$247),K250,0),IF(AND(K250<>\"\",J250<N$247),K250,0))","v":0},{"$f":"IF(N251<>\"/\",IF(P$247=\"Error\",\"Error\",$Q$247+L251),\"/\")","v":"/"},{"$f":"IF(P$247=\"Error\",\"Error\",IF(AND($N$247<>\"/\",$N$247>'Paramètres - Admin'!$A4),'Paramètres - Admin'!$A5,\"/\"))","v":"/"},{"$f":"IF(N251<>\"/\",VLOOKUP(N251,COSTS_Healer[#All],2),\"/\")","v":"/"},{"$f":"IF(N251<>\"/\",VLOOKUP(N251,COSTS_Healer[#All],3),\"/\")","v":"/"},{"$f":"IF(P$247=\"Error\",\"Error\",IF(O251<>\"/\",M251*O251,0))","v":0},{"$f":"IF(P$247=\"Error\",\"Error\",IF(P251<>\"/\",M251*P251,0))","v":0}]
[2,{"$f":"IF(Paramètres!AR7=0,\"\",Paramètres!AR7)","v":""},0,"/",{"$f":"IF(G$249=\"Error\",\"Error\",IF(AND($E$249<>\"/\",$E$249>'Paramètres - Admin'!$A3),'Paramètres - Admin'!$A4,\"/\"))","v":"/"},{"$f":"IF(E252<>\"/\",VLOOKUP(E252,COSTS_Goblin[#All],2),\"/\")","v":"/"},{"$f":"IF(E252<>\"/\",VLOOKUP(E252,COSTS_Goblin[#All],3),\"/\")","v":"/"},0,0,4,{"$f":"IF(Paramètres!AV9=0,\"\",Paramètres!AV9)","v":""},{"$f":"IF(L251<>0,L251+IF(AND(K251<>\"\",J251<N$247),K251,0),IF(AND(K251<>\"\",J251<N$247),K251,0))","v":0},{"$f":"IF(N252<>\"/\",IF(P$247=\"Error\",\"Error\",$Q$247+L252),\"/\")","v":"/"},{"$f":"IF(P$247=\"Error\",\"Error\",IF(AND($N$247<>\"/\",$N$247>'Paramètres - Admin'!$A5),'Paramètres - Admin'!$A6,\"/\"))","v":"/"},{"$f":"IF(N252<>\"/\",VLOOKUP(N252,COSTS_Healer[#All],2),\"/\")","v":"/"},{"$f":"IF(N252<>\"/\",VLOOKUP(N252,COSTS_Healer[#All],3),\"/\")","v":"/"},{"$f":"IF(P$247=\"Error\",\"Error\",IF(O252<>\"/\",M252*O252,0))","v":0},{"$f":"IF(P$247=\"Error\",\"Error\",IF(P252<>\"/\",M252*P252,0))","v":0}]
[3,{"$f":"IF(Paramètres!AR8=0,\"\",Paramètres!AR8)","v":""},0,"/",{"$f":"IF(G$249=\"Error\",\"Error\",IF(AND($E$249<>\"/\",$E$249>'Paramètres - Admin'!$A4),'Paramètres - Admin'!$A5,\"/\"))","v":"/"},{"$f":"IF(E253<>\"/\",VLOOKUP(E253,COSTS_Goblin[#All],2),\"/\")","v":"/"},{"$f":"IF(E253<>\"/\",VLOOKUP(E253,COSTS_Goblin[#All],3),\"/\")","v":"/"},0,0,null,null,null,null,null,null,"Total",{"$f":"IF(P$247=\"Error\",\"Error\",SUM(Q249:Q252))","v":0},{"$f":"IF(P$247=\"Error\",\"Error\",SUM(R249:R252))","v":0}]
[4,{"$f":"IF(Paramètres!AR9=0,\"\",Paramètres!AR9)","v":""},0,"/",{"$f":"IF(G$249=\"Error\",\"Error\",IF(AND($E$249<>\"/\",$E$249>'Paramètres - Admin'!$A5),'Paramètres - Admin'!$A6,\"/\"))","v":"/"},{"$f":"IF(E254<>\"/\",VLOOKUP(E254,COSTS_Goblin[#All],2),\"/\")","v":"/"},{"$f":"IF(E254<>\"/\",VLOOKUP(E254,COSTS_Goblin[#All],3),\"/\")","v":"/"},0,0,"Dragon",null,null,"Max","Max +",null,"Actuel","À Faire","Améliorations"]
[5,{"$f":"IF(Paramètres!AR10=0,\"\",Paramètres!AR10)","v":""},0,"/",{"$f":"IF(G$249=\"Error\",\"Error\",IF(AND($E$249<>\"/\",$E$249>'Paramètres - Admin'!$A6),'Paramètres - Admin'!$A7,\"/\"))","v":"/"},{"$f":"IF(E255<>\"/\",VLOOKUP(E255,COSTS_Goblin[#All],2),\"/\")","v":"/"},{"$f":"IF(E255<>\"/\",VLOOKUP(E255,COSTS_Goblin[#All],3),\"/\")","v":"/"},0,0,null,null,null,{"$f":"VLOOKUP($A$2,AVAILABLE_Upgrades_Normal_Troops[#All],MATCH(J254,AVAILABLE_Upgrades_Normal_Troops[#Headers],0))","v":0},{"$f":"VLOOKUP(IF(ISERROR(LOOKUP(MATCH(1,Paramètres!$K$6:$K$45,0),Paramètres!$A$6:$A$45)),0,LOOKUP(MATCH(1,Paramètres!$K$6:$K$45,0),Paramètres!$A$6:$A$45)),AVAILABLE_Upgrades_Normal_Troops[#All],MATCH(J254,AVAILABLE_Upgrades_Normal_Troops[#Headers],0)+1)","v":0},null,{"$f":"IF(SUM(K257:K261)>M255,\"Error\",SUM(K257:K261))","v":0},{"$f":"IF(P$255=\"Error\",\"Error\",M255-P255)","v":0},{"$f":"IF(P$255=\"Error\",\"Error\",SUM(M257:M261))","v":0}]
[6,{"$f":"IF(Paramètres!AR11=0,\"\",Paramètres!AR11)","v":""},0,"/",{"$f":"IF(G$249=\"Error\",\"Error\",IF(AND($E$249<>\"/\",$E$249>'Paramètres - Admin'!$A7),'Paramètres - Admin'!$A8,\"/\"))","v":"/"},{"$f":"IF(E256<>\"/\",VLOOKUP(E256,COSTS_Goblin[#All],2),\"/\")","v":"/"},{"$f":"IF(E256<>\"/\",VLOOKUP(E256,COSTS_Goblin[#All],3),\"/\")","v":"/"},0,0,"+","NB",null,"NB","+","Coût","Temps","Coût Total","Temps Total"]
[null,null,null,null,null,null,"Total",{"$f":"IF(G$249=\"Error\",\"Error\",SUM(H251:H256))","v":0},{"$f":"IF(G$249=\"Error\",\"Error\",SUM(I251:I256))","v":0},1,{"$f":"IF(Paramètres!AW6=0,\"\",Paramètres!AW6)","v":""},{"$f":"IF(L256<>0,L256+IF(AND(K256<>\"\",J256<N$255),K256,0),IF(AND(K256<>\"\",J256<N$255),K256,0))","v":0},{"$f":"IF(N257<>\"/\",IF(P$255=\"Error\",\"Error\",$Q$255+L257),\"/\")","v":"/"},{"$f":"IF(P$255=\"Error\",\"Error\",IF(AND($N$255<>\"/\",$N$255>'Paramètres - Admin'!$A2),'Paramètres - Admin'!$A3,\"/\"))","v":"/"},{"$f":"IF(N257<>\"/\",VLOOKUP(N257,COSTS_Dragon[#All],2),\"/\")","v":"/"},{"$f":"IF(N257<>\"/\",VLOOKUP(N257,COSTS_Dragon[#All],3),\"/\")","v":"/"},{"$f":"IF(P$255=\"Error\",\"Error\",IF(O257<>\"/\",M257*O257,0))","v":0},{"$f":"IF(P$255=\"Error\",\"Error\",IF(P257<>\"/\",M257*P257,0))","v":0}]
["Géant",null,null,"Max","Max +",null,"Actuel","À Faire","Améliorations",2,{"$f":"IF(Paramètres!AW7=0,\"\",Paramètres!AW7)","v":""},{"$f":"IF(L257<>0,L257+IF(AND(K257<>\"\",J257<N$255),K257,0),IF(AND(K257<>\"\",J257<N$255),K257,0))","v":0},{"$f":"IF(N258<>\"/\",IF(P$255=\"Error\",\"Error\",$Q$255+L258),\"/\")","v":"/"},{"$f":"IF(P$255=\"Error\",\"Error\",IF(AND($N$255<>\"/\",$N$255>'Paramètres - Admin'!$A3),'Paramètres - Admin'!$A4,\"/\"))","v":"/"},{"$f":"IF(N258<>\"/\",VLOOKUP(N258,COSTS_Dragon[#All],2),\"/\")","v":"/"},{"$f":"IF(N258<>\"/\",VLOOKUP(N258,COSTS_Dragon[#All],3),\"/\")","v":"/"},{"$f":"IF(P$255=\"Error\",\"Error\",IF(O258<>\"/\",M258*O258,0))","v":0},{"$f":"IF(P$255=\"Error\",\"Error\",IF(P258<>\"/\",M258*P258,0))","v":0}]
[null,null,null,{"$f":"VLOOKUP($A$2,AVAILABLE_Upgrades_Normal_Troops[#All],MATCH(A258,AVAILABLE_Upgrades_Normal_Troops[#Headers],0))","v":0},{"$f":"VLOOKUP(IF(ISERROR(LOOKUP(MATCH(1,Paramètres!$K$6:$K$45,0),Paramètres!$A$6:$A$45)),0,LOOKUP(MATCH(1,Paramètres!$K$6:$K$45,0),Paramètres!$A$6:$A$45)),AVAILABLE_Upgrades_Normal_Troops[#All],MATCH(A258,AVAILABLE_Upgrades_Normal_Troops[#Headers],0)+1)","v":0},null,{"$f":"IF(SUM(B261:B267)>D259,\"Error\",SUM(B261:B267))","v":0},{"$f":"IF(G$259=\"Error\",\"Error\",D259-G259)","v":0},{"$f":"IF(G$259=\"Error\",\"Error\",SUM(D261:D267))","v":0},3,{"$f":"IF(Paramètres!AW8=0,\"\",Paramètres!AW8)","v":""},{"$f":"IF(L258<>0,L258+IF(AND(K258<>\"\",J258<N$255),K258,0),IF(AND(K258<>\"\",J258<N$255),K258,0))","v":0},{"$f":"IF(N259<>\"/\",IF(P$255=\"Error\",\"Error\",$Q$255+L259),\"/\")","v":"/"},{"$f":"IF(P$255=\"Error\",\"Error\",IF(AND($N$255<>\"/\",$N$255>'Paramètres - Admin'!$A4),'Paramètres - Admin'!$A5,\"/\"))","v":"/"},{"$f":"IF(N259<>\"/\",VLOOKUP(N259,COSTS_Dragon[#All],2),\"/\")","v":"/"},{"$f":"IF(N259<>\"/\",VLOOKUP(N259,COSTS_Dragon[#All],3),\"/\")","v":"/"},{"$f":"IF(P$255=\"Error\",\"Error\",IF(O259<>\"/\",M259*O259,0))","v":0},{"$f":"IF(P$255=\"Error\",\"Error\",IF(P259<>\"/\",M259*P259,0))","v":0}]
["+","NB",null,"NB","+","Coût","Temps","Coût Total","Temps Total",3,{"$f":"IF(Paramètres!AW9=0,\"\",Paramètres!AW9)","v":""},{"$f":"IF(L259<>0,L259+IF(AND(K259<>\"\",J259<N$255),K259,0),IF(AND(K259<>\"\",J259<N$255),K259,0))","v":0},{"$f":"IF(N260<>\"/\",IF(P$255=\"Error\",\"Error\",$Q$255+L260),\"/\")","v":"/"},{"$f":"IF(P$255=\"Error\",\"Error\",IF(AND($N$255<>\"/\",$N$255>'Paramètres - Admin'!$A5),'Paramètres - Admin'!$A6,\"/\"))","v":"/"},{"$f":"IF(N260<>\"/\",VLOOKUP(N260,COSTS_Dragon[#All],2),\"/\")","v":"/"},{"$f":"IF(N260<>\"/\",VLOOKUP(N260,COSTS_Dragon[#All],3),\"/\")","v":"/"},{"$f":"IF(P$255=\"Error\",\"Error\",IF(O260<>\"/\",M260*O260,0))","v":0},{"$f":"IF(P$255=\"Error\",\"Error\",IF(P260<>\"/\",M260*P260,0))","v":0}]
[1,{"$f":"IF(Paramètres!AQ6=0,\"\",Paramètres!AQ6)","v":""},{"$f":"IF(C260<>0,C260+IF(AND(B260<>\"\",A260<E$259),B260,0),IF(AND(B260<>\"\",A260<E$259),B260,0))","v":0},{"$f":"IF(E261<>\"/\",IF(G$259=\"Error\",\"Error\",$H$259+C261),\"/\")","v":"/"},{"$f":"IF(G$259=\"Error\",\"Error\",IF(AND($E$259<>\"/\",$E$259>'Paramètres - Admin'!$A2),'Paramètres - Admin'!$A3,\"/\"))","v":"/"},{"$f":"IF(E261<>\"/\",VLOOKUP(E261,COSTS_Giant[#All],2),\"/\")","v":"/"},{"$f":"IF(E261<>\"/\",VLOOKUP(E261,COSTS_Giant[#All],3),\"/\")","v":"/"},{"$f":"IF(G$259=\"Error\",\"Error\",IF(F261<>\"/\",D261*F261,0))","v":0},{"$f":"IF(G$259=\"Error\",\"Error\",IF(G261<>\"/\",D261*G261,0))","v":0},5,{"$f":"IF(Paramètres!AW10=0,\"\",Paramètres!AW10)","v":""},{"$f":"IF(L260<>0,L260+IF(AND(K260<>\"\",J260<N$255),K260,0),IF(AND(K260<>\"\",J260<N$255),K260,0))","v":0},{"$f":"IF(N261<>\"/\",IF(P$255=\"Error\",\"Error\",$Q$255+L261),\"/\")","v":"/"},{"$f":"IF(P$255=\"Error\",\"Error\",IF(AND($N$255<>\"/\",$N$255>'Paramètres - Admin'!$A6),'Paramètres - Admin'!$A7,\"/\"))","v":"/"},{"$f":"IF(N261<>\"/\",VLOOKUP(N261,COSTS_Dragon[#All],2),\"/\")","v":"/"},{"$f":"IF(N261<>\"/\",VLOOKUP(N261,COSTS_Dragon[#All],3),\"/\")","v":"/"},{"$f":"IF(P$255=\"Error\",\"Error\",IF(O261<>\"/\",M261*O261,0))","v":0},{"$f":"IF(P$255=\"Error\",\"Error\",IF(P261<>\"/\",M261*P261,0))","v":0}]
[2,{"$f":"IF(Paramètres!AQ7=0,\"\",Paramètres!AQ7)","v":""},0,"/",{"$f":"IF(G$259=\"Error\",\"Error\",IF(AND($E$259<>\"/\",$E$259>'Paramètres - Admin'!$A3),'Paramètres - Admin'!$A4,\"/\"))","v":"/"},{"$f":"IF(E262<>\"/\",VLOOKUP(E262,COSTS_Giant[#All],2),\"/\")","v":"/"},{"$f":"IF(E262<>\"/\",VLOOKUP(E262,COSTS_Giant[#All],3),\"/\")","v":"/"},0,0,null,null,null,null,null,null,"Total",{"$f":"IF(P$255=\"Error\",\"Error\",SUM(Q257:Q261))","v":0},{"$f":"IF(P$255=\"Error\",\"Error\",SUM(R257:R261))","v":0}]
[3,{"$f":"IF(Paramètres!AQ8=0,\"\",Paramètres!AQ8)","v":""},0,"/",{"$f":"IF(G$259=\"Error\",\"Error\",IF(AND($E$259<>\"/\",$E$259>'Paramètres - Admin'!$A4),'Paramètres - Admin'!$A5,\"/\"))","v":"/"},{"$f":"IF(E263<>\"/\",VLOOKUP(E263,COSTS_Giant[#All],2),\"/\")","v":"/"},{"$f":"IF(E263<>\"/\",VLOOKUP(E263,COSTS_Giant[#All],3),\"/\")","v":"/"},0,0,"P.E.K.K.A",null,null,"Max","Max +",null,"Actuel","À Faire","Améliorations"]
[4,{"$f":"IF(Paramètres!AQ9=0,\"\",Paramètres!AQ9)","v":""},0,"/",{"$f":"IF(G$259=\"Error\",\"Error\",IF(AND($E$259<>\"/\",$E$259>'Paramètres - Admin'!$A5),'Paramètres - Admin'!$A6,\"/\"))","v":"/"},{"$f":"IF(E264<>\"/\",VLOOKUP(E264,COSTS_Giant[#All],2),\"/\")","v":"/"},{"$f":"IF(E264<>\"/\",VLOOKUP(E264,COSTS_Giant[#All],3),\"/\")","v":"/"},0,0,null,null,null,{"$f":"VLOOKUP($A$2,AVAILABLE_Upgrades_Normal_Troops[#All],MATCH(J263,AVAILABLE_Upgrades_Normal_Troops[#Headers],0))","v":0},{"$f":"VLOOKUP(IF(ISERROR(LOOKUP(MATCH(1,Paramètres!$K$6:$K$45,0),Paramètres!$A$6:$A$45)),0,LOOKUP(MATCH(1,Paramètres!$K$6:$K$45,0),Paramètres!$A$6:$A$45)),AVAILABLE_Upgrades_Normal_Troops[#All],MATCH(J263,AVAILABLE_Upgrades_Normal_Troops[#Headers],0)+1)","v":0},null,{"$f":"IF(SUM(K266:K270)>M264,\"Error\",SUM(K266:K270))","v":0},{"$f":"IF(P$264=\"Error\",\"Error\",M264-P264)","v":0},{"$f":"IF(P$264=\"Error\",\"Error\",SUM(M266:M270))","v":0}]
[5,{"$f":"IF(Paramètres!AQ10=0,\"\",Paramètres!AQ10)","v":""},0,"/",{"$f":"IF(G$259=\"Error\",\"Error\",IF(AND($E$259<>\"/\",$E$259>'Paramètres - Admin'!$A6),'Paramètres - Admin'!$A7,\"/\"))","v":"/"},{"$f":"IF(E265<>\"/\",VLOOKUP(E265,COSTS_Giant[#All],2),\"/\")","v":"/"},{"$f":"IF(E265<>\"/\",VLOOKUP(E265,COSTS_Giant[#All],3),\"/\")","v":"/"},0,0,"+","NB",null,"NB","+","Coût","Temps","Coût Total","Temps Total"]
[6,{"$f":"IF(Paramètres!AQ11=0,\"\",Paramètres!AQ11)","v":""},0,"/",{"$f":"IF(G$259=\"Error\",\"Error\",IF(AND($E$259<>\"/\",$E$259>'Paramètres - Admin'!$A7),'Paramètres - Admin'!$A8,\"/\"))","v":"/"},{"$f":"IF(E266<>\"/\",VLOOKUP(E266,COSTS_Giant[#All],2),\"/\")","v":"/"},{"$f":"IF(E266<>\"/\",VLOOKUP(E266,COSTS_Giant[#All],3),\"/\")","v":"/"},0,0,1,{"$f":"IF(Paramètres!AX6=0,\"\",Paramètres!AX6)","v":""},{"$f":"IF(L265<>0,L265+IF(AND(K265<>\"\",J265<N$264),K265,0),IF(AND(K265<>\"\",J265<N$264),K265,0))","v":0},{"$f":"IF(N266<>\"/\",IF(P$264=\"Error\",\"Error\",$Q$264+L266),\"/\")","v":"/"},{"$f":"IF(P$264=\"Error\",\"Error\",IF(AND($N$264<>\"/\",$N$264>'Paramètres - Admin'!$A2),'Paramètres - Admin'!$A3,\"/\"))","v":"/"},{"$f":"IF(N266<>\"/\",VLOOKUP(N266,COSTS_PEKKA[#All],2),\"/\")","v":"/"},{"$f":"IF(N266<>\"/\",VLOOKUP(N266,COSTS_PEKKA[#All],3),\"/\")","v":"/"},{"$f":"IF(P$264=\"Error\",\"Error\",IF(O266<>\"/\",M266*O266,0))","v":0},{"$f":"IF(P$264=\"Error\",\"Error\",IF(P266<>\"/\",M266*P266,0))","v":0}]
[7,{"$f":"IF(Paramètres!AQ12=0,\"\",Paramètres!AQ12)","v":""},0,"/",{"$f":"IF(G$259=\"Error\",\"Error\",IF(AND($E$259<>\"/\",$E$259>'Paramètres - Admin'!$A8),'Paramètres - Admin'!$A9,\"/\"))","v":"/"},{"$f":"IF(E267<>\"/\",VLOOKUP(E267,COSTS_Giant[#All],2),\"/\")","v":"/"},{"$f":"IF(E267<>\"/\",VLOOKUP(E267,COSTS_Giant[#All],3),\"/\")","v":"/"},0,0,2,{"$f":"IF(Paramètres!AX7=0,\"\",Paramètres!AX7)","v":""},{"$f":"IF(L266<>0,L266+IF(AND(K266<>\"\",J266<N$264),K266,0),IF(AND(K266<>\"\",J266<N$264),K266,0))","v":0},{"$f":"IF(N267<>\"/\",IF(P$264=\"Error\",\"Error\",$Q$264+L267),\"/\")","v":"/"},{"$f":"IF(P$264=\"Error\",\"Error\",IF(AND($N$264<>\"/\",$N$264>'Paramètres - Admin'!$A3),'Paramètres - Admin'!$A4,\"/\"))","v":"/"},{"$f":"IF(N267<>\"/\",VLOOKUP(N267,COSTS_PEKKA[#All],2),\"/\")","v":"/"},{"$f":"IF(N267<>\"/\",VLOOKUP(N267,COSTS_PEKKA[#All],3),\"/\")","v":"/"},{"$f":"IF(P$264=\"Error\",\"Error\",IF(O267<>\"/\",M267*O267,0))","v":0},{"$f":"IF(P$264=\"Error\",\"Error\",IF(P267<>\"/\",M267*P267,0))","v":0}]
[null,null,null,null,null,null,"Total",{"$f":"IF(G$259=\"Error\",\"Error\",SUM(H261:H267))","v":0},{"$f":"IF(G$259=\"Error\",\"Error\",SUM(I261:I267))","v":0},3,{"$f":"IF(Paramètres!AX8=0,\"\",Paramètres!AX8)","v":""},{"$f":"IF(L267<>0,L267+IF(AND(K267<>\"\",J267<N$264),K267,0),IF(AND(K267<>\"\",J267<N$264),K267,0))","v":0},{"$f":"IF(N268<>\"/\",IF(P$264=\"Error\",\"Error\",$Q$264+L268),\"/\")","v":"/"},{"$f":"IF(P$264=\"Error\",\"Error\",IF(AND($N$264<>\"/\",$N$264>'Paramètres - Admin'!$A4),'Paramètres - Admin'!$A5,\"/\"))","v":"/"},{"$f":"IF(N268<>\"/\",VLOOKUP(N268,COSTS_PEKKA[#All],2),\"/\")","v":"/"},{"$f":"IF(N268<>\"/\",VLOOKUP(N268,COSTS_PEKKA[#All],3),\"/\")","v":"/"},{"$f":"IF(P$264=\"Error\",\"Error\",IF(O268<>\"/\",M268*O268,0))","v":0},{"$f":"IF(P$264=\"Error\",\"Error\",IF(P268<>\"/\",M268*P268,0))","v":0}]
["Sapeur",null,null,"Max","Max +",null,"Actuel","À Faire","Améliorations",4,{"$f":"IF(Paramètres!AX9=0,\"\",Paramètres!AX9)","v":""},{"$f":"IF(L268<>0,L268+IF(AND(K268<>\"\",J268<N$264),K268,0),IF(AND(K268<>\"\",J268<N$264),K268,0))","v":0},{"$f":"IF(N269<>\"/\",IF(P$264=\"Error\",\"Error\",$Q$264+L269),\"/\")","v":"/"},{"$f":"IF(P$264=\"Error\",\"Error\",IF(AND($N$264<>\"/\",$N$264>'Paramètres - Admin'!$A5),'Paramètres - Admin'!$A6,\"/\"))","v":"/"},{"$f":"IF(N269<>\"/\",VLOOKUP(N269,COSTS_PEKKA[#All],2),\"/\")","v":"/"},{"$f":"IF(N269<>\"/\",VLOOKUP(N269,COSTS_PEKKA[#All],3),\"/\")","v":"/"},{"$f":"IF(P$264=\"Error\",\"Error\",IF(O269<>\"/\",M269*O269,0))","v":0},{"$f":"IF(P$264=\"Error\",\"Error\",IF(P269<>\"/\",M269*P269,0))","v":0}]
[null,null,null,{"$f":"VLOOKUP($A$2,AVAILABLE_Upgrades_Normal_Troops[#All],MATCH(A269,AVAILABLE_Upgrades_Normal_Troops[#Headers],0))","v":0},{"$f":"VLOOKUP(IF(ISERROR(LOOKUP(MATCH(1,Paramètres!$K$6:$K$45,0),Paramètres!$A$6:$A$45)),0,LOOKUP(MATCH(1,Paramètres!$K$6:$K$45,0),Paramètres!$A$6:$A$45)),AVAILABLE_Upgrades_Normal_Troops[#All],MATCH(A269,AVAILABLE_Upgrades_Normal_Troops[#Headers],0)+1)","v":0},null,{"$f":"IF(SUM(B272:B277)>D270,\"Error\",SUM(B272:B277))","v":0},{"$f":"IF(G$270=\"Error\",\"Error\",D270-G270)","v":0},{"$f":"IF(G$270=\"Error\",\"Error\",SUM(D272:D277))","v":0},5,{"$f":"IF(Paramètres!AX10=0,\"\",Paramètres!AX10)","v":""},{"$f":"IF(L269<>0,L269+IF(AND(K269<>\"\",J269<N$264),K269,0),IF(AND(K269<>\"\",J269<N$264),K269,0))","v":0},{"$f":"IF(N270<>\"/\",IF(P$264=\"Error\",\"Error\",$Q$264+L270),\"/\")","v":"/"},{"$f":"IF(P$264=\"Error\",\"Error\",IF(AND($N$264<>\"/\",$N$264>'Paramètres - Admin'!$A6),'Paramètres - Admin'!$A7,\"/\"))","v":"/"},{"$f":"IF(N270<>\"/\",VLOOKUP(N270,COSTS_PEKKA[#All],2),\"/\")","v":"/"},{"$f":"IF(N270<>\"/\",VLOOKUP(N270,COSTS_PEKKA[#All],3),\"/\")","v":"/"},{"$f":"IF(P$264=\"Error\",\"Error\",IF(O270<>\"/\",M270*O270,0))","v":0},{"$f":"IF(P$264=\"Error\",\"Error\",IF(P270<>\"/\",M270*P270,0))","v":0}]
["+","NB",null,"NB","+","Coût","Temps","Coût Total","Temps Total",null,null,null,null,null,null,"Total",{"$f":"IF(P$264=\"Error\",\"Error\",SUM(Q266:Q270))","v":0},{"$f":"IF(P$264=\"Error\",\"Error\",SUM(R266:R270))","v":0}]
[1,{"$f":"IF(Paramètres!AS6=0,\"\",Paramètres!AS6)","v":""},{"$f":"IF(C271<>0,C271+IF(AND(B271<>\"\",A271<E$270),B271,0),IF(AND(B271<>\"\",A271<E$270),B271,0))","v":0},{"$f":"IF(E272<>\"/\",IF(G$270=\"Error\",\"Error\",$H$270+C272),\"/\")","v":"/"},{"$f":"IF(G$270=\"Error\",\"Error\",IF(AND($E$270<>\"/\",$E$270>'Paramètres - Admin'!$A2),'Paramètres - Admin'!$A3,\"/\"))","v":"/"},{"$f":"IF(E272<>\"/\",VLOOKUP(E272,COSTS_Wall_Breaker[#All],2),\"/\")","v":"/"},{"$f":"IF(E272<>\"/\",VLOOKUP(E272,COSTS_Wall_Breaker[#All],3),\"/\")","v":"/"},{"$f":"IF(G$270=\"Error\",\"Error\",IF(F272<>\"/\",D272*F272,0))","v":0},{"$f":"IF(G$270=\"Error\",\"Error\",IF(G272<>\"/\",D272*G272,0))","v":0}]
[2,{"$f":"IF(Paramètres!AS7=0,\"\",Paramètres!AS7)","v":""},0,"/",{"$f":"IF(G$270=\"Error\",\"Error\",IF(AND($E$270<>\"/\",$E$270>'Paramètres - Admin'!$A3),'Paramètres - Admin'!$A4,\"/\"))","v":"/"},{"$f":"IF(E273<>\"/\",VLOOKUP(E273,COSTS_Wall_Breaker[#All],2),\"/\")","v":"/"},{"$f":"IF(E273<>\"/\",VLOOKUP(E273,COSTS_Wall_Breaker[#All],3),\"/\")","v":"/"},0,0]
[3,{"$f":"IF(Paramètres!AS8=0,\"\",Paramètres!AS8)","v":""},0,"/",{"$f":"IF(G$270=\"Error\",\"Error\",IF(AND($E$270<>\"/\",$E$270>'Paramètres - Admin'!$A4),'Paramètres - Admin'!$A5,\"/\"))","v":"/"},{"$f":"IF(E274<>\"/\",VLOOKUP(E274,COSTS_Wall_Breaker[#All],2),\"/\")","v":"/"},{"$f":"IF(E274<>\"/\",VLOOKUP(E274,COSTS_Wall_Breaker[#All],3),\"/\")","v":"/"},0,0]
[4,{"$f":"IF(Paramètres!AS9=0,\"\",Paramètres!AS9)","v":""},0,"/",{"$f":"IF(G$270=\"Error\",\"Error\",IF(AND($E$270<>\"/\",$E$270>'Paramètres - Admin'!$A5),'Paramètres - Admin'!$A6,\"/\"))","v":"/"},{"$f":"IF(E275<>\"/\",VLOOKUP(E275,COSTS_Wall_Breaker[#All],2),\"/\")","v":"/"},{"$f":"IF(E275<>\"/\",VLOOKUP(E275,COSTS_Wall_Breaker[#All],3),\"/\")","v":"/"},0,0]
[5,{"$f":"IF(Paramètres!AS10=0,\"\",Paramètres!AS10)","v":""},0,"/",{"$f":"IF(G$270=\"Error\",\"Error\",IF(AND($E$270<>\"/\",$E$270>'Paramètres - Admin'!$A6),'Paramètres - Admin'!$A7,\"/\"))","v":"/"},{"$f":"IF(E276<>\"/\",VLOOKUP(E276,COSTS_Wall_Breaker[#All],2),\"/\")","v":"/"},{"$f":"IF(E276<>\"/\",VLOOKUP(E276,COSTS_Wall_Breaker[#All],3),\"/\")","v":"/"},0,0]
[6,{"$f":"IF(Paramètres!AS11=0,\"\",Paramètres!AS11)","v":""},0,"/",{"$f":"IF(G$270=\"Error\",\"Error\",IF(AND($E$270<>\"/\",$E$270>'Paramètres - Admin'!$A7),'Paramètres - Admin'!$A8,\"/\"))","v":"/"},{"$f":"IF(E277<>\"/\",VLOOKUP(E277,COSTS_Wall_Breaker[#All],2),\"/\")","v":"/"},{"$f":"IF(E277<>\"/\",VLOOKUP(E277,COSTS_Wall_Breaker[#All],3),\"/\")","v":"/"},0,0]
[null,null,null,null,null,null,"Total",{"$f":"IF(G$270=\"Error\",\"Error\",SUM(H272:H277))","v":0},{"$f":"IF(G$270=\"Error\",\"Error\",SUM(I272:I277))","v":0}]
[]
[]
["Améliorations de Sorts"]
["Sort de Poison",null,null,"Max","Max +",null,"Actuel","À Faire","Améliorations","Sort de Séisme",null,null,"Max","Max +",null,"Actuel","À Faire","Améliorations"]
[null,null,null,{"$f":"VLOOKUP($A$2,AVAILABLE_Upgrades_Dark_Spells[#All],MATCH(A282,AVAILABLE_Upgrades_Dark_Spells[#Headers],0))","v":0},{"$f":"VLOOKUP(IF(ISERROR(LOOKUP(MATCH(1,Paramètres!$K$6:$K$45,0),Paramètres!$A$6:$A$45)),0,LOOKUP(MATCH(1,Paramètres!$K$6:$K$45,0),Paramètres!$A$6:$A$45)),AVAILABLE_Upgrades_Dark_Spells[#All],MATCH(A282,AVAILABLE_Upgrades_Dark_Spells[#Headers],0)+1)","v":0},null,{"$f":"IF(SUM(B285:B288)>D283,\"Error\",SUM(B285:B288))","v":0},{"$f":"IF(G$283=\"Error\",\"Error\",D283-G283)","v":0},{"$f":"IF(G$283=\"Error\",\"Error\",SUM(D285:D288))","v":0},null,null,null,{"$f":"VLOOKUP($A$2,AVAILABLE_Upgrades_Dark_Spells[#All],MATCH(J282,AVAILABLE_Upgrades_Dark_Spells[#Headers],0))","v":0},{"$f":"VLOOKUP(IF(ISERROR(LOOKUP(MATCH(1,Paramètres!$K$6:$K$45,0),Paramètres!$A$6:$A$45)),0,LOOKUP(MATCH(1,Paramètres!$K$6:$K$45,0),Paramètres!$A$6:$A$45)),AVAILABLE_Upgrades_Dark_Spells[#All],MATCH(J282,AVAILABLE_Upgrades_Dark_Spells[#Headers],0)+1)","v":0},null,{"$f":"IF(SUM(K285:K288)>M283,\"Error\",SUM(K285:K288))","v":0},{"$f":"IF(P$283=\"Error\",\"Error\",M283-P283)","v":0},{"$f":"IF(P$283=\"Error\",\"Error\",SUM(M285:M288))","v":0}]
["+","NB",null,"NB","+","Coût","Temps","Coût Total","Temps Total","+","NB",null,"NB","+","Coût","Temps","Coût Total","Temps Total"]
[1,{"$f":"IF(Paramètres!AL6=0,\"\",Paramètres!AL6)","v":""},{"$f":"IF(C284<>0,C284+IF(AND(B284<>\"\",A284<E$283),B284,0),IF(AND(B284<>\"\",A284<E$283),B284,0))","v":0},{"$f":"IF(E285<>\"/\",IF(G$283=\"Error\",\"Error\",$H$283+C285),\"/\")","v":"/"},{"$f":"IF(G$283=\"Error\",\"Error\",IF(AND($E$283<>\"/\",$E$283>'Paramètres - Admin'!$A2),'Paramètres - Admin'!$A3,\"/\"))","v":"/"},{"$f":"IF(E285<>\"/\",VLOOKUP(E285,COSTS_Spell_Poison[#All],2),\"/\")","v":"/"},{"$f":"IF(E285<>\"/\",VLOOKUP(E285,COSTS_Spell_Poison[#All],3),\"/\")","v":"/"},{"$f":"IF(G$283=\"Error\",\"Error\",IF(F285<>\"/\",D285*F285,0))","v":0},{"$f":"IF(G$283=\"Error\",\"Error\",IF(G285<>\"/\",D285*G285,0))","v":0},1,{"$f":"IF(Paramètres!AM6=0,\"\",Paramètres!AM6)","v":""},{"$f":"IF(L284<>0,L284+IF(AND(K284<>\"\",J284<N$283),K284,0),IF(AND(K284<>\"\",J284<N$283),K284,0))","v":0},{"$f":"IF(N285<>\"/\",IF(P$283=\"Error\",\"Error\",$Q$283+L285),\"/\")","v":"/"},{"$f":"IF(P$283=\"Error\",\"Error\",IF(AND($N$283<>\"/\",$N$283>'Paramètres - Admin'!$A2),'Paramètres - Admin'!$A3,\"/\"))","v":"/"},{"$f":"IF(N285<>\"/\",VLOOKUP(N285,COSTS_Spell_Earthquake[#All],2),\"/\")","v":"/"},{"$f":"IF(N285<>\"/\",VLOOKUP(N285,COSTS_Spell_Earthquake[#All],3),\"/\")","v":"/"},{"$f":"IF(P$283=\"Error\",\"Error\",IF(O285<>\"/\",M285*O285,0))","v":0},{"$f":"IF(P$283=\"Error\",\"Error\",IF(P285<>\"/\",M285*P285,0))","v":0}]
[2,{"$f":"IF(Paramètres!AL7=0,\"\",Paramètres!AL7)","v":""},{"$f":"IF(C285<>0,C285+IF(AND(B285<>\"\",A285<E$283),B285,0),IF(AND(B285<>\"\",A285<E$283),B285,0))","v":0},{"$f":"IF(E286<>\"/\",IF(G$283=\"Error\",\"Error\",$H$283+C286),\"/\")","v":"/"},{"$f":"IF(G$283=\"Error\",\"Error\",IF(AND($E$283<>\"/\",$E$283>'Paramètres - Admin'!$A3),'Paramètres - Admin'!$A4,\"/\"))","v":"/"},{"$f":"IF(E286<>\"/\",VLOOKUP(E286,COSTS_Spell_Poison[#All],2),\"/\")","v":"/"},{"$f":"IF(E286<>\"/\",VLOOKUP(E286,COSTS_Spell_Poison[#All],3),\"/\")","v":"/"},{"$f":"IF(G$197=\"Error\",\"Error\",IF(F286<>\"/\",D286*F286,0))","v":0},{"$f":"IF(G$197=\"Error\",\"Error\",IF(G286<>\"/\",D286*G286,0))","v":0},2,{"$f":"IF(Paramètres!AM7=0,\"\",Paramètres!AM7)","v":""},{"$f":"IF(L285<>0,L285+IF(AND(K285<>\"\",J285<N$283),K285,0),IF(AND(K285<>\"\",J285<N$283),K285,0))","v":0},{"$f":"IF(N286<>\"/\",IF(P$283=\"Error\",\"Error\",$Q$283+L286),\"/\")","v":"/"},{"$f":"IF(P$283=\"Error\",\"Error\",IF(AND($N$283<>\"/\",$N$283>'Paramètres - Admin'!$A3),'Paramètres - Admin'!$A4,\"/\"))","v":"/"},{"$f":"IF(N286<>\"/\",VLOOKUP(N286,COSTS_Spell_Earthquake[#All],2),\"/\")","v":"/"},{"$f":"IF(N286<>\"/\",VLOOKUP(N286,COSTS_Spell_Earthquake[#All],3),\"/\")","v":"/"},{"$f":"IF(G$217=\"Error\",\"Error\",IF(O286<>\"/\",M286*O286,0))","v":0},{"$f":"IF(G$217=\"Error\",\"Error\",IF(P286<>\"/\",M286*P286,0))","v":0}]
[3,{"$f":"IF(Paramètres!AL8=0,\"\",Paramètres!AL8)","v":""},0,{"$f":"IF(E287<>\"/\",IF(G$283=\"Error\",\"Error\",$H$283+C287),\"/\")","v":"/"},{"$f":"IF(G$283=\"Error\",\"Error\",IF(AND($E$283<>\"/\",$E$283>'Paramètres - Admin'!$A4),'Paramètres - Admin'!$A5,\"/\"))","v":"/"},{"$f":"IF(E287<>\"/\",VLOOKUP(E287,COSTS_Spell_Poison[#All],2),\"/\")","v":"/"},{"$f":"IF(E287<>\"/\",VLOOKUP(E287,COSTS_Spell_Poison[#All],3),\"/\")","v":"/"},{"$f":"IF(G$197=\"Error\",\"Error\",IF(F287<>\"/\",D287*F287,0))","v":0},{"$f":"IF(G$197=\"Error\",\"Error\",IF(G287<>\"/\",D287*G287,0))","v":0},3,{"$f":"IF(Paramètres!AM8=0,\"\",Paramètres!AM8)","v":""},{"$f":"IF(L286<>0,L286+IF(AND(K286<>\"\",J286<N$283),K286,0),IF(AND(K286<>\"\",J286<N$283),K286,0))","v":0},{"$f":"IF(N287<>\"/\",IF(P$283=\"Error\",\"Error\",$Q$283+L287),\"/\")","v":"/"},{"$f":"IF(P$283=\"Error\",\"Error\",IF(AND($N$283<>\"/\",$N$283>'Paramètres - Admin'!$A4),'Paramètres - Admin'!$A5,\"/\"))","v":"/"},{"$f":"IF(N287<>\"/\",VLOOKUP(N287,COSTS_Spell_Earthquake[#All],2),\"/\")","v":"/"},{"$f":"IF(N287<>\"/\",VLOOKUP(N287,COSTS_Spell_Earthquake[#All],3),\"/\")","v":"/"},{"$f":"IF(G$217=\"Error\",\"Error\",IF(O287<>\"/\",M287*O287,0))","v":0},{"$f":"IF(G$217=\"Error\",\"Error\",IF(P287<>\"/\",M287*P287,0))","v":0}]
[4,{"$f":"IF(Paramètres!AL9=0,\"\",Paramètres!AL9)","v":""},0,{"$f":"IF(E288<>\"/\",IF(G$283=\"Error\",\"Error\",$H$283+C288),\"/\")","v":"/"},{"$f":"IF(G$283=\"Error\",\"Error\",IF(AND($E$283<>\"/\",$E$283>'Paramètres - Admin'!$A5),'Paramètres - Admin'!$A6,\"/\"))","v":"/"},{"$f":"IF(E288<>\"/\",VLOOKUP(E288,COSTS_Spell_Poison[#All],2),\"/\")","v":"/"},{"$f":"IF(E288<>\"/\",VLOOKUP(E288,COSTS_Spell_Poison[#All],3),\"/\")","v":"/"},{"$f":"IF(G$197=\"Error\",\"Error\",IF(F288<>\"/\",D288*F288,0))","v":0},{"$f":"IF(G$197=\"Error\",\"Error\",IF(G288<>\"/\",D288*G288,0))","v":0},4,{"$f":"IF(Paramètres!AM9=0,\"\",Paramètres!AM9)","v":""},{"$f":"IF(L287<>0,L287+IF(AND(K287<>\"\",J287<N$283),K287,0),IF(AND(K287<>\"\",J287<N$283),K287,0))","v":0},{"$f":"IF(N288<>\"/\",IF(P$283=\"Error\",\"Error\",$Q$283+L288),\"/\")","v":"/"},{"$f":"IF(P$283=\"Error\",\"Error\",IF(AND($N$283<>\"/\",$N$283>'Paramètres - Admin'!$A5),'Paramètres - Admin'!$A6,\"/\"))","v":"/"},{"$f":"IF(N288<>\"/\",VLOOKUP(N288,COSTS_Spell_Earthquake[#All],2),\"/\")","v":"/"},{"$f":"IF(N288<>\"/\",VLOOKUP(N288,COSTS_Spell_Earthquake[#All],3),\"/\")","v":"/"},{"$f":"IF(G$217=\"Error\",\"Error\",IF(O288<>\"/\",M288*O288,0))","v":0},{"$f":"IF(G$217=\"Error\",\"Error\",IF(P288<>\"/\",M288*P288,0))","v":0}]
[null,null,null,null,null,null,"Total",{"$f":"IF(G$197=\"Error\",\"Error\",SUM(H285:H288))","v":0},{"$f":"IF(G$197=\"Error\",\"Error\",SUM(I285:I288))","v":0},null,null,null,null,null,null,"Total",{"$f":"IF(G$217=\"Error\",\"Error\",SUM(Q285:Q288))","v":0},{"$f":"IF(G$217=\"Error\",\"Error\",SUM(R285:R288))","v":0}]
["Sort de Hâte",null,null,"Max","Max +",null,"Actuel","À Faire","Améliorations"]
[null,null,null,{"$f":"VLOOKUP($A$2,AVAILABLE_Upgrades_Dark_Spells[#All],MATCH(A290,AVAILABLE_Upgrades_Dark_Spells[#Headers],0))","v":0},{"$f":"VLOOKUP(IF(ISERROR(LOOKUP(MATCH(1,Paramètres!$K$6:$K$45,0),Paramètres!$A$6:$A$45)),0,LOOKUP(MATCH(1,Paramètres!$K$6:$K$45,0),Paramètres!$A$6:$A$45)),AVAILABLE_Upgrades_Dark_Spells[#All],MATCH(A290,AVAILABLE_Upgrades_Dark_Spells[#Headers],0)+1)","v":0},null,{"$f":"IF(SUM(B293:B296)>D291,\"Error\",SUM(B293:B296))","v":0},{"$f":"IF(G$283=\"Error\",\"Error\",D291-G291)","v":0},{"$f":"IF(G$283=\"Error\",\"Error\",SUM(D293:D296))","v":0}]
["+","NB",null,"NB","+","Coût","Temps","Coût Total","Temps Total"]
[1,{"$f":"IF(Paramètres!AN6=0,\"\",Paramètres!AN6)","v":""},{"$f":"IF(C292<>0,C292+IF(AND(B292<>\"\",A292<E$291),B292,0),IF(AND(B292<>\"\",A292<E$291),B292,0))","v":0},{"$f":"IF(E293<>\"/\",IF(G$291=\"Error\",\"Error\",$H$291+C293),\"/\")","v":"/"},{"$f":"IF(G$291=\"Error\",\"Error\",IF(AND($E$291<>\"/\",$E$291>'Paramètres - Admin'!$A2),'Paramètres - Admin'!$A3,\"/\"))","v":"/"},{"$f":"IF(E293<>\"/\",VLOOKUP(E293,COSTS_Spell_Haste[#All],2),\"/\")","v":"/"},{"$f":"IF(E293<>\"/\",VLOOKUP(E293,COSTS_Spell_Haste[#All],3),\"/\")","v":"/"},{"$f":"IF(G$291=\"Error\",\"Error\",IF(F293<>\"/\",D293*F293,0))","v":0},{"$f":"IF(G$291=\"Error\",\"Error\",IF(G293<>\"/\",D293*G293,0))","v":0}]
[2,{"$f":"IF(Paramètres!AN7=0,\"\",Paramètres!AN7)","v":""},{"$f":"IF(C293<>0,C293+IF(AND(B293<>\"\",A293<E$291),B293,0),IF(AND(B293<>\"\",A293<E$291),B293,0))","v":0},{"$f":"IF(E294<>\"/\",IF(G$291=\"Error\",\"Error\",$H$291+C294),\"/\")","v":"/"},{"$f":"IF(G$291=\"Error\",\"Error\",IF(AND($E$291<>\"/\",$E$291>'Paramètres - Admin'!$A3),'Paramètres - Admin'!$A4,\"/\"))","v":"/"},{"$f":"IF(E294<>\"/\",VLOOKUP(E294,COSTS_Spell_Haste[#All],2),\"/\")","v":"/"},{"$f":"IF(E294<>\"/\",VLOOKUP(E294,COSTS_Spell_Haste[#All],3),\"/\")","v":"/"},{"$f":"IF(G$291=\"Error\",\"Error\",IF(F294<>\"/\",D294*F294,0))","v":0},{"$f":"IF(G$291=\"Error\",\"Error\",IF(G294<>\"/\",D294*G294,0))","v":0}]
[3,{"$f":"IF(Paramètres!AN8=0,\"\",Paramètres!AN8)","v":""},0,{"$f":"IF(E295<>\"/\",IF(G$291=\"Error\",\"Error\",$H$291+C295),\"/\")","v":"/"},{"$f":"IF(G$291=\"Error\",\"Error\",IF(AND($E$291<>\"/\",$E$291>'Paramètres - Admin'!$A4),'Paramètres - Admin'!$A5,\"/\"))","v":"/"},{"$f":"IF(E295<>\"/\",VLOOKUP(E295,COSTS_Spell_Haste[#All],2),\"/\")","v":"/"},{"$f":"IF(E295<>\"/\",VLOOKUP(E295,COSTS_Spell_Haste[#All],3),\"/\")","v":"/"},{"$f":"IF(G$291=\"Error\",\"Error\",IF(F295<>\"/\",D295*F295,0))","v":0},{"$f":"IF(G$291=\"Error\",\"Error\",IF(G295<>\"/\",D295*G295,0))","v":0}]
[4,{"$f":"IF(Paramètres!AN9=0,\"\",Paramètres!AN9)","v":""},0,{"$f":"IF(E296<>\"/\",IF(G$291=\"Error\",\"Error\",$H$291+C296),\"/\")","v":"/"},{"$f":"IF(G$291=\"Error\",\"Error\",IF(AND($E$291<>\"/\",$E$291>'Paramètres - Admin'!$A5),'Paramètres - Admin'!$A6,\"/\"))","v":"/"},{"$f":"IF(E296<>\"/\",VLOOKUP(E296,COSTS_Spell_Haste[#All],2),\"/\")","v":"/"},{"$f":"IF(E296<>\"/\",VLOOKUP(E296,COSTS_Spell_Haste[#All],3),\"/\")","v":"/"},{"$f":"IF(G$291=\"Error\",\"Error\",IF(F296<>\"/\",D296*F296,0))","v":0},{"$f":"IF(G$291=\"Error\",\"Error\",IF(G296<>\"/\",D296*G296,0))","v":0}]
[null,null,null,null,null,null,"Total",{"$f":"IF(P$197=\"Error\",\"Error\",SUM(H293:H296))","v":0},{"$f":"IF(P$197=\"Error\",\"Error\",SUM(I293:I296))","v":0}]
[]
[]
["Améliorations de Troupes Noires"]
["Serviteur",null,null,"Max","Max +",null,"Actuel","À Faire","Améliorations","Chevaucheur de Cochon",null,null,"Max","Max +",null,"Actuel","À Faire","Améliorations"]
[null,null,null,{"$f":"VLOOKUP($A$2,AVAILABLE_Upgrades_Dark_Troops[#All],MATCH(A301,AVAILABLE_Upgrades_Dark_Troops[#Headers],0))","v":0},{"$f":"VLOOKUP(IF(ISERROR(LOOKUP(MATCH(1,Paramètres!$K$6:$K$45,0),Paramètres!$A$6:$A$45)),0,LOOKUP(MATCH(1,Paramètres!$K$6:$K$45,0),Paramètres!$A$6:$A$45)),AVAILABLE_Upgrades_Dark_Troops[#All],MATCH(A301,AVAILABLE_Upgrades_Dark_Troops[#Headers],0)+1)","v":0},null,{"$f":"IF(SUM(B304:B310)>D302,\"Error\",SUM(B304:B310))","v":0},{"$f":"IF(G$302=\"Error\",\"Error\",D302-G302)","v":0},{"$f":"IF(G$302=\"Error\",\"Error\",SUM(D304:D309))","v":0},null,null,null,{"$f":"VLOOKUP($A$2,AVAILABLE_Upgrades_Dark_Troops[#All],MATCH(J301,AVAILABLE_Upgrades_Dark_Troops[#Headers],0))","v":0},{"$f":"VLOOKUP(IF(ISERROR(LOOKUP(MATCH(1,Paramètres!$K$6:$K$45,0),Paramètres!$A$6:$A$45)),0,LOOKUP(MATCH(1,Paramètres!$K$6:$K$45,0),Paramètres!$A$6:$A$45)),AVAILABLE_Upgrades_Dark_Troops[#All],MATCH(J301,AVAILABLE_Upgrades_Dark_Troops[#Headers],0)+1)","v":0},null,{"$f":"IF(SUM(K304:K308)>M302,\"Error\",SUM(K304:K308))","v":0},{"$f":"IF(P$302=\"Error\",\"Error\",M302-P302)","v":0},{"$f":"IF(P$302=\"Error\",\"Error\",SUM(M304:M308))","v":0}]
["+","NB",null,"NB","+","Coût","Temps","Coût Total","Temps Total","+","NB",null,"NB","+","Coût","Temps","Coût Total","Temps Total"]
[1,{"$f":"IF(Paramètres!AY6=0,\"\",Paramètres!AY6)","v":""},{"$f":"IF(C303<>0,C303+IF(AND(B303<>\"\",A303<E$302),B303,0),IF(AND(B303<>\"\",A303<E$302),B303,0))","v":0},{"$f":"IF(E304<>\"/\",IF(G$302=\"Error\",\"Error\",$H$302+C304),\"/\")","v":"/"},{"$f":"IF(G$302=\"Error\",\"Error\",IF(AND($E$302<>\"/\",$E$302>'Paramètres - Admin'!$A2),'Paramètres - Admin'!$A3,\"/\"))","v":"/"},{"$f":"IF(E304<>\"/\",VLOOKUP(E304,COSTS_Minion[#All],2),\"/\")","v":"/"},{"$f":"IF(E304<>\"/\",VLOOKUP(E304,COSTS_Minion[#All],3),\"/\")","v":"/"},{"$f":"IF(G$302=\"Error\",\"Error\",IF(F304<>\"/\",D304*F304,0))","v":0},{"$f":"IF(G$302=\"Error\",\"Error\",IF(G304<>\"/\",D304*G304,0))","v":0},1,{"$f":"IF(Paramètres!AZ6=0,\"\",Paramètres!AZ6)","v":""},{"$f":"IF(L303<>0,L303+IF(AND(K303<>\"\",J303<N$302),K303,0),IF(AND(K303<>\"\",J303<N$302),K303,0))","v":0},{"$f":"IF(N304<>\"/\",IF(P$302=\"Error\",\"Error\",$Q$302+L304),\"/\")","v":"/"},{"$f":"IF(P$302=\"Error\",\"Error\",IF(AND($N$302<>\"/\",$N$302>'Paramètres - Admin'!$A2),'Paramètres - Admin'!$A3,\"/\"))","v":"/"},{"$f":"IF(N304<>\"/\",VLOOKUP(N304,COSTS_Hog_Rider[#All],2),\"/\")","v":"/"},{"$f":"IF(N304<>\"/\",VLOOKUP(N304,COSTS_Hog_Rider[#All],3),\"/\")","v":"/"},{"$f":"IF(P$302=\"Error\",\"Error\",IF(O304<>\"/\",M304*O304,0))","v":0},{"$f":"IF(P$302=\"Error\",\"Error\",IF(P304<>\"/\",M304*P304,0))","v":0}]
[2,{"$f":"IF(Paramètres!AY7=0,\"\",Paramètres!AY7)","v":""},{"$f":"IF(C304<>0,C304+IF(AND(B304<>\"\",A304<E$302),B304,0),IF(AND(B304<>\"\",A304<E$302),B304,0))","v":0},"/",{"$f":"IF(G$302=\"Error\",\"Error\",IF(AND($E$302<>\"/\",$E$302>'Paramètres - Admin'!$A3),'Paramètres - Admin'!$A4,\"/\"))","v":"/"},{"$f":"IF(E305<>\"/\",VLOOKUP(E305,COSTS_Minion[#All],2),\"/\")","v":"/"},{"$f":"IF(E305<>\"/\",VLOOKUP(E305,COSTS_Minion[#All],3),\"/\")","v":"/"},0,0,2,{"$f":"IF(Paramètres!AZ7=0,\"\",Paramètres!AZ7)","v":""},{"$f":"IF(L304<>0,L304+IF(AND(K304<>\"\",J304<N$302),K304,0),IF(AND(K304<>\"\",J304<N$302),K304,0))","v":0},{"$f":"IF(N305<>\"/\",IF(P$302=\"Error\",\"Error\",$Q$302+L305),\"/\")","v":"/"},{"$f":"IF(P$302=\"Error\",\"Error\",IF(AND($N$302<>\"/\",$N$302>'Paramètres - Admin'!$A3),'Paramètres - Admin'!$A4,\"/\"))","v":"/"},{"$f":"IF(N305<>\"/\",VLOOKUP(N305,COSTS_Hog_Rider[#All],2),\"/\")","v":"/"},{"$f":"IF(N305<>\"/\",VLOOKUP(N305,COSTS_Hog_Rider[#All],3),\"/\")","v":"/"},{"$f":"IF(P$302=\"Error\",\"Error\",IF(O305<>\"/\",M305*O305,0))","v":0},{"$f":"IF(P$302=\"Error\",\"Error\",IF(P305<>\"/\",M305*P305,0))","v":0}]
[3,{"$f":"IF(Paramètres!AY8=0,\"\",Paramètres!AY8)","v":""},0,"/",{"$f":"IF(G$302=\"Error\",\"Error\",IF(AND($E$302<>\"/\",$E$302>'Paramètres - Admin'!$A4),'Paramètres - Admin'!$A5,\"/\"))","v":"/"},{"$f":"IF(E306<>\"/\",VLOOKUP(E306,COSTS_Minion[#All],2),\"/\")","v":"/"},{"$f":"IF(E306<>\"/\",VLOOKUP(E306,COSTS_Minion[#All],3),\"/\")","v":"/"},0,0,3,{"$f":"IF(Paramètres!AZ8=0,\"\",Paramètres!AZ8)","v":""},{"$f":"IF(L305<>0,L305+IF(AND(K305<>\"\",J305<N$302),K305,0),IF(AND(K305<>\"\",J305<N$302),K305,0))","v":0},{"$f":"IF(N306<>\"/\",IF(P$302=\"Error\",\"Error\",$Q$302+L306),\"/\")","v":"/"},{"$f":"IF(P$302=\"Error\",\"Error\",IF(AND($N$302<>\"/\",$N$302>'Paramètres - Admin'!$A4),'Paramètres - Admin'!$A5,\"/\"))","v":"/"},{"$f":"IF(N306<>\"/\",VLOOKUP(N306,COSTS_Hog_Rider[#All],2),\"/\")","v":"/"},{"$f":"IF(N306<>\"/\",VLOOKUP(N306,COSTS_Hog_Rider[#All],3),\"/\")","v":"/"},{"$f":"IF(P$302=\"Error\",\"Error\",IF(O306<>\"/\",M306*O306,0))","v":0},{"$f":"IF(P$302=\"Error\",\"Error\",IF(P306<>\"/\",M306*P306,0))","v":0}]
[4,{"$f":"IF(Paramètres!AY9=0,\"\",Paramètres!AY9)","v":""},0,"/",{"$f":"IF(G$302=\"Error\",\"Error\",IF(AND($E$302<>\"/\",$E$302>'Paramètres - Admin'!$A5),'Paramètres - Admin'!$A6,\"/\"))","v":"/"},{"$f":"IF(E307<>\"/\",VLOOKUP(E307,COSTS_Minion[#All],2),\"/\")","v":"/"},{"$f":"IF(E307<>\"/\",VLOOKUP(E307,COSTS_Minion[#All],3),\"/\")","v":"/"},0,0,4,{"$f":"IF(Paramètres!AZ9=0,\"\",Paramètres!AZ9)","v":""},{"$f":"IF(L306<>0,L306+IF(AND(K306<>\"\",J306<N$302),K306,0),IF(AND(K306<>\"\",J306<N$302),K306,0))","v":0},{"$f":"IF(N307<>\"/\",IF(P$302=\"Error\",\"Error\",$Q$302+L307),\"/\")","v":"/"},{"$f":"IF(P$302=\"Error\",\"Error\",IF(AND($N$302<>\"/\",$N$302>'Paramètres - Admin'!$A5),'Paramètres - Admin'!$A6,\"/\"))","v":"/"},{"$f":"IF(N307<>\"/\",VLOOKUP(N307,COSTS_Hog_Rider[#All],2),\"/\")","v":"/"},{"$f":"IF(N307<>\"/\",VLOOKUP(N307,COSTS_Hog_Rider[#All],3),\"/\")","v":"/"},{"$f":"IF(P$302=\"Error\",\"Error\",IF(O307<>\"/\",M307*O307,0))","v":0},{"$f":"IF(P$302=\"Error\",\"Error\",IF(P307<>\"/\",M307*P307,0))","v":0}]
[5,{"$f":"IF(Paramètres!AY10=0,\"\",Paramètres!AY10)","v":""},0,"/",{"$f":"IF(G$302=\"Error\",\"Error\",IF(AND($E$302<>\"/\",$E$302>'Paramètres - Admin'!$A6),'Paramètres - Admin'!$A7,\"/\"))","v":"/"},{"$f":"IF(E308<>\"/\",VLOOKUP(E308,COSTS_Minion[#All],2),\"/\")","v":"/"},{"$f":"IF(E308<>\"/\",VLOOKUP(E308,COSTS_Minion[#All],3),\"/\")","v":"/"},0,0,5,{"$f":"IF(Paramètres!AZ10=0,\"\",Paramètres!AZ10)","v":""},{"$f":"IF(L307<>0,L307+IF(AND(K307<>\"\",J307<N$302),K307,0),IF(AND(K307<>\"\",J307<N$302),K307,0))","v":0},{"$f":"IF(N308<>\"/\",IF(P$302=\"Error\",\"Error\",$Q$302+L308),\"/\")","v":"/"},{"$f":"IF(P$302=\"Error\",\"Error\",IF(AND($N$302<>\"/\",$N$302>'Paramètres - Admin'!$A6),'Paramètres - Admin'!$A7,\"/\"))","v":"/"},{"$f":"IF(N308<>\"/\",VLOOKUP(N308,COSTS_Hog_Rider[#All],2),\"/\")","v":"/"},{"$f":"IF(N308<>\"/\",VLOOKUP(N308,COSTS_Hog_Rider[#All],3),\"/\")","v":"/"},{"$f":"IF(P$302=\"Error\",\"Error\",IF(O308<>\"/\",M308*O308,0))","v":0},{"$f":"IF(P$302=\"Error\",\"Error\",IF(P308<>\"/\",M308*P308,0))","v":0}]
[6,{"$f":"IF(Paramètres!AY11=0,\"\",Paramètres!AY11)","v":""},0,"/",{"$f":"IF(G$302=\"Error\",\"Error\",IF(AND($E$302<>\"/\",$E$302>'Paramètres - Admin'!$A7),'Paramètres - Admin'!$A8,\"/\"))","v":"/"},{"$f":"IF(E309<>\"/\",VLOOKUP(E309,COSTS_Minion[#All],2),\"/\")","v":"/"},{"$f":"IF(E309<>\"/\",VLOOKUP(E309,COSTS_Minion[#All],3),\"/\")","v":"/"},0,0,null,null,null,null,null,null,"Total",{"$f":"IF(P$302=\"Error\",\"Error\",SUM(Q304:Q308))","v":0},{"$f":"IF(P$302=\"Error\",\"Error\",SUM(R304:R308))","v":0}]
[7,{"$f":"IF(Paramètres!AY12=0,\"\",Paramètres!AY12)","v":""},{"$f":"IF(C309<>0,C309+IF(AND(B309<>\"\",A309<E$302),B309,0),IF(AND(B309<>\"\",A309<E$302),B309,0))","v":0},"/",{"$f":"IF(G$302=\"Error\",\"Error\",IF(AND($E$302<>\"/\",$E$302>'Paramètres - Admin'!$A8),'Paramètres - Admin'!$A9,\"/\"))","v":"/"},{"$f":"IF(E310<>\"/\",VLOOKUP(E310,COSTS_Minion[#All],2),\"/\")","v":"/"},{"$f":"IF(E310<>\"/\",VLOOKUP(E310,COSTS_Minion[#All],3),\"/\")","v":"/"},0,0,"Golem",null,null,"Max","Max +",null,"Actuel","À Faire","Améliorations"]
[null,null,null,null,null,null,"Total",{"$f":"IF(G$302=\"Error\",\"Error\",SUM(H304:H309))","v":0},{"$f":"IF(G$302=\"Error\",\"Error\",SUM(I304:I308))","v":0},null,null,null,{"$f":"VLOOKUP($A$2,AVAILABLE_Upgrades_Dark_Troops[#All],MATCH(J310,AVAILABLE_Upgrades_Dark_Troops[#Headers],0))","v":0},{"$f":"VLOOKUP(IF(ISERROR(LOOKUP(MATCH(1,Paramètres!$K$6:$K$45,0),Paramètres!$A$6:$A$45)),0,LOOKUP(MATCH(1,Paramètres!$K$6:$K$45,0),Paramètres!$A$6:$A$45)),AVAILABLE_Upgrades_Dark_Troops[#All],MATCH(J310,AVAILABLE_Upgrades_Dark_Troops[#Headers],0)+1)","v":0},null,{"$f":"IF(SUM(K313:K317)>M311,\"Error\",SUM(K313:K317))","v":0},{"$f":"IF(P$311=\"Error\",\"Error\",M311-P311)","v":0},{"$f":"IF(P$311=\"Error\",\"Error\",SUM(M313:M317))","v":0}]
["Valkyrie",null,null,"Max","Max +",null,"Actuel","À Faire","Améliorations","+","NB",null,"NB","+","Coût","Temps","Coût Total","Temps Total"]
[null,null,null,{"$f":"VLOOKUP($A$2,AVAILABLE_Upgrades_Dark_Troops[#All],MATCH(A312,AVAILABLE_Upgrades_Dark_Troops[#Headers],0))","v":0},{"$f":"VLOOKUP(IF(ISERROR(LOOKUP(MATCH(1,Paramètres!$K$6:$K$45,0),Paramètres!$A$6:$A$45)),0,LOOKUP(MATCH(1,Paramètres!$K$6:$K$45,0),Paramètres!$A$6:$A$45)),AVAILABLE_Upgrades_Dark_Troops[#All],MATCH(A312,AVAILABLE_Upgrades_Dark_Troops[#Headers],0)+1)","v":0},null,{"$f":"IF(SUM(B315:B318)>D313,\"Error\",SUM(B315:B318))","v":0},{"$f":"IF(G$313=\"Error\",\"Error\",D313-G313)","v":0},{"$f":"IF(G$313=\"Error\",\"Error\",SUM(D315:D318))","v":0},1,{"$f":"IF(Paramètres!BB6=0,\"\",Paramètres!BB6)","v":""},{"$f":"IF(L312<>0,L312+IF(AND(K312<>\"\",J312<N$311),K312,0),IF(AND(K312<>\"\",J312<N$311),K312,0))","v":0},{"$f":"IF(N313<>\"/\",IF(P$311=\"Error\",\"Error\",$Q$311+L313),\"/\")","v":"/"},{"$f":"IF(P$311=\"Error\",\"Error\",IF(AND($N$311<>\"/\",$N$311>'Paramètres - Admin'!$A2),'Paramètres - Admin'!$A3,\"/\"))","v":"/"},{"$f":"IF(N313<>\"/\",VLOOKUP(N313,COSTS_Golem[#All],2),\"/\")","v":"/"},{"$f":"IF(N313<>\"/\",VLOOKUP(N313,COSTS_Golem[#All],3),\"/\")","v":"/"},{"$f":"IF(P$311=\"Error\",\"Error\",IF(O313<>\"/\",M313*O313,0))","v":0},{"$f":"IF(P$311=\"Error\",\"Error\",IF(P313<>\"/\",M313*P313,0))","v":0}]
["+","NB",null,"NB","+","Coût","Temps","Coût Total","Temps Total",2,{"$f":"IF(Paramètres!BB7=0,\"\",Paramètres!BB7)","v":""},{"$f":"IF(L313<>0,L313+IF(AND(K313<>\"\",J313<N$311),K313,0),IF(AND(K313<>\"\",J313<N$311),K313,0))","v":0},{"$f":"IF(N314<>\"/\",IF(P$311=\"Error\",\"Error\",$Q$311+L314),\"/\")","v":"/"},{"$f":"IF(P$311=\"Error\",\"Error\",IF(AND($N$311<>\"/\",$N$311>'Paramètres - Admin'!$A3),'Paramètres - Admin'!$A4,\"/\"))","v":"/"},{"$f":"IF(N314<>\"/\",VLOOKUP(N314,COSTS_Golem[#All],2),\"/\")","v":"/"},{"$f":"IF(N314<>\"/\",VLOOKUP(N314,COSTS_Golem[#All],3),\"/\")","v":"/"},{"$f":"IF(P$311=\"Error\",\"Error\",IF(O314<>\"/\",M314*O314,0))","v":0},{"$f":"IF(P$311=\"Error\",\"Error\",IF(P314<>\"/\",M314*P314,0))","v":0}]
[1,{"$f":"IF(Paramètres!BA6=0,\"\",Paramètres!BA6)","v":""},{"$f":"IF(C314<>0,C314+IF(AND(B314<>\"\",A314<E$313),B314,0),IF(AND(B314<>\"\",A314<E$313),B314,0))","v":0},{"$f":"IF(E315<>\"/\",IF(G$313=\"Error\",\"Error\",$H$313+C315),\"/\")","v":"/"},{"$f":"IF(G$313=\"Error\",\"Error\",IF(AND($E$313<>\"/\",$E$313>'Paramètres - Admin'!$A2),'Paramètres - Admin'!$A3,\"/\"))","v":"/"},{"$f":"IF(E315<>\"/\",VLOOKUP(E315,COSTS_Valkyrie[#All],2),\"/\")","v":"/"},{"$f":"IF(E315<>\"/\",VLOOKUP(E315,COSTS_Valkyrie[#All],3),\"/\")","v":"/"},{"$f":"IF(G$313=\"Error\",\"Error\",IF(F315<>\"/\",D315*F315,0))","v":0},{"$f":"IF(G$313=\"Error\",\"Error\",IF(G315<>\"/\",D315*G315,0))","v":0},3,{"$f":"IF(Paramètres!BB8=0,\"\",Paramètres!BB8)","v":""},{"$f":"IF(L314<>0,L314+IF(AND(K314<>\"\",J314<N$311),K314,0),IF(AND(K314<>\"\",J314<N$311),K314,0))","v":0},{"$f":"IF(N315<>\"/\",IF(P$311=\"Error\",\"Error\",$Q$311+L315),\"/\")","v":"/"},{"$f":"IF(P$311=\"Error\",\"Error\",IF(AND($N$311<>\"/\",$N$311>'Paramètres - Admin'!$A4),'Paramètres - Admin'!$A5,\"/\"))","v":"/"},{"$f":"IF(N315<>\"/\",VLOOKUP(N315,COSTS_Golem[#All],2),\"/\")","v":"/"},{"$f":"IF(N315<>\"/\",VLOOKUP(N315,COSTS_Golem[#All],3),\"/\")","v":"/"},{"$f":"IF(P$311=\"Error\",\"Error\",IF(O315<>\"/\",M315*O315,0))","v":0},{"$f":"IF(P$311=\"Error\",\"Error\",IF(P315<>\"/\",M315*P315,0))","v":0}]
[2,{"$f":"IF(Paramètres!BA7=0,\"\",Paramètres!BA7)","v":""},{"$f":"IF(C315<>0,C315+IF(AND(B315<>\"\",A315<E$313),B315,0),IF(AND(B315<>\"\",A315<E$313),B315,0))","v":0},{"$f":"IF(E316<>\"/\",IF(G$313=\"Error\",\"Error\",$H$313+C316),\"/\")","v":"/"},{"$f":"IF(G$313=\"Error\",\"Error\",IF(AND($E$313<>\"/\",$E$313>'Paramètres - Admin'!$A3),'Paramètres - Admin'!$A4,\"/\"))","v":"/"},{"$f":"IF(E316<>\"/\",VLOOKUP(E316,COSTS_Valkyrie[#All],2),\"/\")","v":"/"},{"$f":"IF(E316<>\"/\",VLOOKUP(E316,COSTS_Valkyrie[#All],3),\"/\")","v":"/"},{"$f":"IF(G$313=\"Error\",\"Error\",IF(F316<>\"/\",D316*F316,0))","v":0},{"$f":"IF(G$313=\"Error\",\"Error\",IF(G316<>\"/\",D316*G316,0))","v":0},4,{"$f":"IF(Paramètres!BB9=0,\"\",Paramètres!BB9)","v":""},{"$f":"IF(L315<>0,L315+IF(AND(K315<>\"\",J315<N$311),K315,0),IF(AND(K315<>\"\",J315<N$311),K315,0))","v":0},{"$f":"IF(N316<>\"/\",IF(P$311=\"Error\",\"Error\",$Q$311+L316),\"/\")","v":"/"},{"$f":"IF(P$311=\"Error\",\"Error\",IF(AND($N$311<>\"/\",$N$311>'Paramètres - Admin'!$A5),'Paramètres - Admin'!$A6,\"/\"))","v":"/"},{"$f":"IF(N316<>\"/\",VLOOKUP(N316,COSTS_Golem[#All],2),\"/\")","v":"/"},{"$f":"IF(N316<>\"/\",VLOOKUP(N316,COSTS_Golem[#All],3),\"/\")","v":"/"},{"$f":"IF(P$311=\"Error\",\"Error\",IF(O316<>\"/\",M316*O316,0))","v":0},{"$f":"IF(P$311=\"Error\",\"Error\",IF(P316<>\"/\",M316*P316,0))","v":0}]
[3,{"$f":"IF(Paramètres!BA8=0,\"\",Paramètres!BA8)","v":""},{"$f":"IF(C316<>0,C316+IF(AND(B316<>\"\",A316<E$313),B316,0),IF(AND(B316<>\"\",A316<E$313),B316,0))","v":0},{"$f":"IF(E317<>\"/\",IF(G$313=\"Error\",\"Error\",$H$313+C317),\"/\")","v":"/"},{"$f":"IF(G$313=\"Error\",\"Error\",IF(AND($E$313<>\"/\",$E$313>'Paramètres - Admin'!$A4),'Paramètres - Admin'!$A5,\"/\"))","v":"/"},{"$f":"IF(E317<>\"/\",VLOOKUP(E317,COSTS_Valkyrie[#All],2),\"/\")","v":"/"},{"$f":"IF(E317<>\"/\",VLOOKUP(E317,COSTS_Valkyrie[#All],3),\"/\")","v":"/"},{"$f":"IF(G$313=\"Error\",\"Error\",IF(F317<>\"/\",D317*F317,0))","v":0},{"$f":"IF(G$313=\"Error\",\"Error\",IF(G317<>\"/\",D317*G317,0))","v":0},5,{"$f":"IF(Paramètres!BB10=0,\"\",Paramètres!BB10)","v":""},{"$f":"IF(L316<>0,L316+IF(AND(K316<>\"\",J316<N$311),K316,0),IF(AND(K316<>\"\",J316<N$311),K316,0))","v":0},{"$f":"IF(N317<>\"/\",IF(P$311=\"Error\",\"Error\",$Q$311+L317),\"/\")","v":"/"},{"$f":"IF(P$311=\"Error\",\"Error\",IF(AND($N$311<>\"/\",$N$311>'Paramètres - Admin'!$A6),'Paramètres - Admin'!$A7,\"/\"))","v":"/"},{"$f":"IF(N317<>\"/\",VLOOKUP(N317,COSTS_Golem[#All],2),\"/\")","v":"/"},{"$f":"IF(N317<>\"/\",VLOOKUP(N317,COSTS_Golem[#All],3),\"/\")","v":"/"},{"$f":"IF(P$311=\"Error\",\"Error\",IF(O317<>\"/\",M317*O317,0))","v":0},{"$f":"IF(P$311=\"Error\",\"Error\",IF(P317<>\"/\",M317*P317,0))","v":0}]
[4,{"$f":"IF(Paramètres!BA9=0,\"\",Paramètres!BA9)","v":""},{"$f":"IF(C317<>0,C317+IF(AND(B317<>\"\",A317<E$313),B317,0),IF(AND(B317<>\"\",A317<E$313),B317,0))","v":0},{"$f":"IF(E318<>\"/\",IF(G$313=\"Error\",\"Error\",$H$313+C318),\"/\")","v":"/"},{"$f":"IF(G$313=\"Error\",\"Error\",IF(AND($E$313<>\"/\",$E$313>'Paramètres - Admin'!$A5),'Paramètres - Admin'!$A6,\"/\"))","v":"/"},{"$f":"IF(E318<>\"/\",VLOOKUP(E318,COSTS_Valkyrie[#All],2),\"/\")","v":"/"},{"$f":"IF(E318<>\"/\",VLOOKUP(E318,COSTS_Valkyrie[#All],3),\"/\")","v":"/"},{"$f":"IF(G$313=\"Error\",\"Error\",IF(F318<>\"/\",D318*F318,0))","v":0},{"$f":"IF(G$313=\"Error\",\"Error\",IF(G318<>\"/\",D318*G318,0))","v":0},null,null,null,null,null,null,"Total",{"$f":"IF(P$311=\"Error\",\"Error\",SUM(Q313:Q317))","v":0},{"$f":"IF(P$311=\"Error\",\"Error\",SUM(R313:R317))","v":0}]
[null,null,null,null,null,null,"Total",{"$f":"IF(G$313=\"Error\",\"Error\",SUM(H315:H318))","v":0},{"$f":"IF(G$313=\"Error\",\"Error\",SUM(I315:I318))","v":0},"Molosse de lave",null,null,"Max","Max +",null,"Actuel","À Faire","Améliorations"]
["Sorcière",null,null,"Max","Max +",null,"Actuel","À Faire","Améliorations",null,null,null,{"$f":"VLOOKUP($A$2,AVAILABLE_Upgrades_Dark_Troops[#All],MATCH(J319,AVAILABLE_Upgrades_Dark_Troops[#Headers],0))","v":0},{"$f":"VLOOKUP(IF(ISERROR(LOOKUP(MATCH(1,Paramètres!$K$6:$K$45,0),Paramètres!$A$6:$A$45)),0,LOOKUP(MATCH(1,Paramètres!$K$6:$K$45,0),Paramètres!$A$6:$A$45)),AVAILABLE_Upgrades_Dark_Troops[#All],MATCH(J319,AVAILABLE_Upgrades_Dark_Troops[#Headers],0)+1)","v":0},null,{"$f":"IF(SUM(K322:K324)>M320,\"Error\",SUM(K322:K324))","v":0},{"$f":"IF(G$321=\"Error\",\"Error\",M320-P320)","v":0},{"$f":"IF(G$321=\"Error\",\"Error\",SUM(M322:M324))","v":0}]
[null,null,null,{"$f":"VLOOKUP($A$2,AVAILABLE_Upgrades_Dark_Troops[#All],MATCH(A320,AVAILABLE_Upgrades_Dark_Troops[#Headers],0))","v":0},{"$f":"VLOOKUP(IF(ISERROR(LOOKUP(MATCH(1,Paramètres!$K$6:$K$45,0),Paramètres!$A$6:$A$45)),0,LOOKUP(MATCH(1,Paramètres!$K$6:$K$45,0),Paramètres!$A$6:$A$45)),AVAILABLE_Upgrades_Dark_Troops[#All],MATCH(A320,AVAILABLE_Upgrades_Dark_Troops[#Headers],0)+1)","v":0},null,{"$f":"IF(SUM(B323:B325)>D321,\"Error\",SUM(B323:B325))","v":0},{"$f":"IF(G$321=\"Error\",\"Error\",D321-G321)","v":0},{"$f":"IF(G$321=\"Error\",\"Error\",SUM(D323:D324))","v":0},"+","NB",null,"NB","+","Coût","Temps","Coût Total","Temps Total"]
["+","NB",null,"NB","+","Coût","Temps","Coût Total","Temps Total",1,{"$f":"IF(Paramètres!BD6=0,\"\",Paramètres!BD6)","v":""},{"$f":"IF(L321<>0,L321+IF(AND(K321<>\"\",J321<N$320),K321,0),IF(AND(K321<>\"\",J321<N$320),K321,0))","v":0},{"$f":"IF(N322<>\"/\",IF(G$321=\"Error\",\"Error\",$H$321+L322),\"/\")","v":"/"},{"$f":"IF($P$320=\"Error\",\"Error\",IF(AND($N$320<>\"/\",$N$320>'Paramètres - Admin'!$A2),'Paramètres - Admin'!$A3,\"/\"))","v":"/"},{"$f":"IF(N322<>\"/\",VLOOKUP(N322,COSTS_Lava_Hound[#All],2),\"/\")","v":"/"},{"$f":"IF(N322<>\"/\",VLOOKUP(N322,COSTS_Lava_Hound[#All],3),\"/\")","v":"/"},{"$f":"IF(P$320=\"Error\",\"Error\",IF(O322<>\"/\",M322*O322,0))","v":0},{"$f":"IF(P$320=\"Error\",\"Error\",IF(P322<>\"/\",M322*P322,0))","v":0}]
[1,{"$f":"IF(Paramètres!BC6=0,\"\",Paramètres!BC6)","v":""},{"$f":"IF(C322<>0,C322+IF(AND(B322<>\"\",A322<E$321),B322,0),IF(AND(B322<>\"\",A322<E$321),B322,0))","v":0},{"$f":"IF(E323<>\"/\",IF(G$321=\"Error\",\"Error\",$H$321+C323),\"/\")","v":"/"},{"$f":"IF(G$321=\"Error\",\"Error\",IF(AND($E$321<>\"/\",$E$321>'Paramètres - Admin'!$A2),'Paramètres - Admin'!$A3,\"/\"))","v":"/"},{"$f":"IF(E323<>\"/\",VLOOKUP(E323,COSTS_Witch[#All],2),\"/\")","v":"/"},{"$f":"IF(E323<>\"/\",VLOOKUP(E323,COSTS_Witch[#All],3),\"/\")","v":"/"},{"$f":"IF(G$321=\"Error\",\"Error\",IF(F323<>\"/\",D323*F323,0))","v":0},{"$f":"IF(G$321=\"Error\",\"Error\",IF(G323<>\"/\",D323*G323,0))","v":0},2,{"$f":"IF(Paramètres!BD7=0,\"\",Paramètres!BD7)","v":""},{"$f":"IF(L322<>0,L322+IF(AND(K322<>\"\",J322<N$320),K322,0),IF(AND(K322<>\"\",J322<N$320),K322,0))","v":0},{"$f":"IF(N323<>\"/\",IF(G$321=\"Error\",\"Error\",$H$321+L323),\"/\")","v":"/"},{"$f":"IF($P$320=\"Error\",\"Error\",IF(AND($N$320<>\"/\",$N$320>'Paramètres - Admin'!$A3),'Paramètres - Admin'!$A4,\"/\"))","v":"/"},{"$f":"IF(N323<>\"/\",VLOOKUP(N323,COSTS_Lava_Hound[#All],2),\"/\")","v":"/"},{"$f":"IF(N323<>\"/\",VLOOKUP(N323,COSTS_Lava_Hound[#All],3),\"/\")","v":"/"},{"$f":"IF(P$320=\"Error\",\"Error\",IF(O323<>\"/\",M323*O323,0))","v":0},{"$f":"IF(P$320=\"Error\",\"Error\",IF(P323<>\"/\",M323*P323,0))","v":0}]
[2,{"$f":"IF(Paramètres!BC7=0,\"\",Paramètres!BC7)","v":""},{"$f":"IF(C323<>0,C323+IF(AND(B323<>\"\",A323<E$321),B323,0),IF(AND(B323<>\"\",A323<E$321),B323,0))","v":0},{"$f":"IF(E324<>\"/\",IF(G$321=\"Error\",\"Error\",$H$321+C324),\"/\")","v":"/"},{"$f":"IF(G$321=\"Error\",\"Error\",IF(AND($E$321<>\"/\",$E$321>'Paramètres - Admin'!$A3),'Paramètres - Admin'!$A4,\"/\"))","v":"/"},{"$f":"IF(E324<>\"/\",VLOOKUP(E324,COSTS_Witch[#All],2),\"/\")","v":"/"},{"$f":"IF(E324<>\"/\",VLOOKUP(E324,COSTS_Witch[#All],3),\"/\")","v":"/"},{"$f":"IF(G$321=\"Error\",\"Error\",IF(F324<>\"/\",D324*F324,0))","v":0},{"$f":"IF(G$321=\"Error\",\"Error\",IF(G324<>\"/\",D324*G324,0))","v":0},3,{"$f":"IF(Paramètres!BD8=0,\"\",Paramètres!BD8)","v":""},{"$f":"IF(L323<>0,L323+IF(AND(K323<>\"\",J323<N$320),K323,0),IF(AND(K323<>\"\",J323<N$320),K323,0))","v":0},{"$f":"IF(N324<>\"/\",IF(G$321=\"Error\",\"Error\",$H$321+L324),\"/\")","v":"/"},{"$f":"IF($P$320=\"Error\",\"Error\",IF(AND($N$320<>\"/\",$N$320>'Paramètres - Admin'!$A4),'Paramètres - Admin'!$A5,\"/\"))","v":"/"},{"$f":"IF(N324<>\"/\",VLOOKUP(N324,COSTS_Lava_Hound[#All],2),\"/\")","v":"/"},{"$f":"IF(N324<>\"/\",VLOOKUP(N324,COSTS_Lava_Hound[#All],3),\"/\")","v":"/"},{"$f":"IF(P$320=\"Error\",\"Error\",IF(O324<>\"/\",M324*O324,0))","v":0},{"$f":"IF(P$320=\"Error\",\"Error\",IF(P324<>\"/\",M324*P324,0))","v":0}]
[3,{"$f":"IF(Paramètres!BC8=0,\"\",Paramètres!BC8)","v":""},{"$f":"IF(C324<>0,C324+IF(AND(B324<>\"\",A324<E$321),B324,0),IF(AND(B324<>\"\",A324<E$321),B324,0))","v":0},{"$f":"IF(E325<>\"/\",IF(G$321=\"Error\",\"Error\",$H$321+C325),\"/\")","v":"/"},{"$f":"IF(G$321=\"Error\",\"Error\",IF(AND($E$321<>\"/\",$E$321>'Paramètres - Admin'!$A4),'Paramètres - Admin'!$A5,\"/\"))","v":"/"},{"$f":"IF(E325<>\"/\",VLOOKUP(E325,COSTS_Witch[#All],2),\"/\")","v":"/"},{"$f":"IF(E325<>\"/\",VLOOKUP(E325,COSTS_Witch[#All],3),\"/\")","v":"/"},{"$f":"IF(G$321=\"Error\",\"Error\",IF(F325<>\"/\",D325*F325,0))","v":0},{"$f":"IF(G$321=\"Error\",\"Error\",IF(G325<>\"/\",D325*G325,0))","v":0},null,null,null,null,null,null,"Total",{"$f":"IF(P$320=\"Error\",\"Error\",SUM(Q322:Q324))","v":0},{"$f":"IF(P$320=\"Error\",\"Error\",SUM(R322:R324))","v":0}]
[null,null,null,null,null,null,"Total",{"$f":"IF(G$321=\"Error\",\"Error\",SUM(H323:H324))","v":0},{"$f":"IF(G$321=\"Error\",\"Error\",SUM(I323:I324))","v":0}]
[]
[]
["Héros"]
["Roi des Barbares",null,null,"Max","Max +",null,"Actuel","À Faire","Améliorations","Reine des Archers",null,null,"Max","Max +",null,"Actuel","À Faire","Améliorations","Grand Gardien",null,null,"Max","Max +",null,"Actuel","À Faire","Améliorations"]
[null,null,null,{"$f":"VLOOKUP($A$2,AVAILABLE_Heroes[#All],MATCH(A330,AVAILABLE_Heroes[#Headers],0))","v":0},{"$f":"VLOOKUP($A$2,AVAILABLE_Heroes[#All],MATCH(A330,AVAILABLE_Heroes[#Headers],0)+1)","v":0},null,{"$f":"IF(SUM(B333:B372)>D331,\"Error\",SUM(B333:B372))","v":0},{"$f":"IF(G$331=\"Error\",\"Error\",D331-G331)","v":0},{"$f":"IF(G$331=\"Error\",\"Error\",SUM(D333:D372))","v":0},null,null,null,{"$f":"VLOOKUP($A$2,AVAILABLE_Heroes[#All],MATCH(J330,AVAILABLE_Heroes[#Headers],0))","v":0},{"$f":"VLOOKUP($A$2,AVAILABLE_Heroes[#All],MATCH(J330,AVAILABLE_Heroes[#Headers],0)+1)","v":0},null,{"$f":"IF(SUM(K333:K372)>M331,\"Error\",SUM(K333:K372))","v":0},{"$f":"IF(P$331=\"Error\",\"Error\",M331-P331)","v":0},{"$f":"IF(P$331=\"Error\",\"Error\",SUM(M333:M372))","v":0},null,null,null,{"$f":"VLOOKUP($A$2,AVAILABLE_Heroes[#All],MATCH(S330,AVAILABLE_Heroes[#Headers],0))","v":0},{"$f":"VLOOKUP($A$2,AVAILABLE_Heroes[#All],MATCH(S330,AVAILABLE_Heroes[#Headers],0)+1)","v":0},null,{"$f":"IF(SUM(T333:T372)>V331,\"Error\",SUM(T333:T372))","v":0},{"$f":"IF(Y$331=\"Error\",\"Error\",V331-Y331)","v":0},{"$f":"IF(Y$331=\"Error\",\"Error\",SUM(V333:V372))","v":0}]
["+","NB",null,"NB","+","Coût","Temps","Coût Total","Temps Total","+","NB",null,"NB","+","Coût","Temps","Coût Total","Temps Total","+","NB",null,"NB","+","Coût","Temps","Coût Total","Temps Total"]
[1,{"$f":"IF(Paramètres!BE6=0,\"\",Paramètres!BE6)","v":""},{"$f":"IF(C332<>0,C332+IF(AND(B332<>\"\",A332<E$331),B332,0),IF(AND(B332<>\"\",A332<E$331),B332,0))","v":0},{"$f":"IF(E333<>\"/\",IF(G$331=\"Error\",\"Error\",$H$331+C333),\"/\")","v":"/"},{"$f":"IF(G$331=\"Error\",\"Error\",IF(AND($E$331<>\"/\",$E$331>'Paramètres - Admin'!$A2),'Paramètres - Admin'!$A3,\"/\"))","v":"/"},{"$f":"IF(E333<>\"/\",VLOOKUP(E333,COSTS_Barbarian_King[#All],2),\"/\")","v":"/"},{"$f":"IF(E333<>\"/\",VLOOKUP(E333,COSTS_Barbarian_King[#All],3),\"/\")","v":"/"},{"$f":"IF(G$331=\"Error\",\"Error\",IF(F333<>\"/\",D333*F333,0))","v":0},{"$f":"IF(G$331=\"Error\",\"Error\",IF(G333<>\"/\",D333*G333,0))","v":0},1,{"$f":"IF(Paramètres!BF6=0,\"\",Paramètres!BF6)","v":""},{"$f":"IF(L332<>0,L332+IF(AND(K332<>\"\",J332<N$331),K332,0),IF(AND(K332<>\"\",J332<N$331),K332,0))","v":0},{"$f":"IF(N333<>\"/\",IF(P$331=\"Error\",\"Error\",$Q$331+L333),\"/\")","v":"/"},{"$f":"IF(P$331=\"Error\",\"Error\",IF(AND($N$331<>\"/\",$N$331>'Paramètres - Admin'!$A2),'Paramètres - Admin'!$A3,\"/\"))","v":"/"},{"$f":"IF(N333<>\"/\",VLOOKUP(N333,COSTS_Archer_Queen[#All],2),\"/\")","v":"/"},{"$f":"IF(N333<>\"/\",VLOOKUP(N333,COSTS_Archer_Queen[#All],3),\"/\")","v":"/"},{"$f":"IF(P$331=\"Error\",\"Error\",IF(O333<>\"/\",M333*O333,0))","v":0},{"$f":"IF(P$331=\"Error\",\"Error\",IF(P333<>\"/\",M333*P333,0))","v":0},1,{"$f":"IF(Paramètres!BG6=0,\"\",Paramètres!BG6)","v":""},{"$f":"IF(U332<>0,U332+IF(AND(T332<>\"\",S332<W$331),T332,0),IF(AND(T332<>\"\",S332<W$331),T332,0))","v":0},{"$f":"IF(W333<>\"/\",IF(Y$331=\"Error\",\"Error\",$Z$331+U333),\"/\")","v":"/"},{"$f":"IF(Y$331=\"Error\",\"Error\",IF(AND($W$331<>\"/\",$W$331>'Paramètres - Admin'!$A2),'Paramètres - Admin'!$A3,\"/\"))","v":"/"},{"$f":"IF(W333<>\"/\",VLOOKUP(W333,COSTS_Grand_Warden[#All],2),\"/\")","v":"/"},{"$f":"IF(W333<>\"/\",VLOOKUP(W333,COSTS_Grand_Warden[#All],3),\"/\")","v":"/"},{"$f":"IF(Y$331=\"Error\",\"Error\",IF(X333<>\"/\",V333*X333,0))","v":0},{"$f":"IF(Y$331=\"Error\",\"Error\",IF(Y333<>\"/\",V333*Y333,0))","v":0}]
[2,{"$f":"IF(Paramètres!BE7=0,\"\",Paramètres!BE7)","v":""},0,"/",{"$f":"IF(G$331=\"Error\",\"Error\",IF(AND($E$331<>\"/\",$E$331>'Paramètres - Admin'!$A3),'Paramètres - Admin'!$A4,\"/\"))","v":"/"},{"$f":"IF(E334<>\"/\",VLOOKUP(E334,COSTS_Barbarian_King[#All],2),\"/\")","v":"/"},{"$f":"IF(E334<>\"/\",VLOOKUP(E334,COSTS_Barbarian_King[#All],3),\"/\")","v":"/"},0,0,2,{"$f":"IF(Paramètres!BF7=0,\"\",Paramètres!BF7)","v":""},0,"/",{"$f":"IF(P$331=\"Error\",\"Error\",IF(AND($N$331<>\"/\",$N$331>'Paramètres - Admin'!$A3),'Paramètres - Admin'!$A4,\"/\"))","v":"/"},{"$f":"IF(N334<>\"/\",VLOOKUP(N334,COSTS_Archer_Queen[#All],2),\"/\")","v":"/"},{"$f":"IF(N334<>\"/\",VLOOKUP(N334,COSTS_Archer_Queen[#All],3),\"/\")","v":"/"},0,0,2,{"$f":"IF(Paramètres!BG7=0,\"\",Paramètres!BG7)","v":""},0,{"$f":"IF(W334<>\"/\",IF(Y$331=\"Error\",\"Error\",$Z$331+U334),\"/\")","v":"/"},{"$f":"IF(Y$331=\"Error\",\"Error\",IF(AND($W$331<>\"/\",$W$331>'Paramètres - Admin'!$A3),'Paramètres - Admin'!$A4,\"/\"))","v":"/"},{"$f":"IF(W334<>\"/\",VLOOKUP(W334,COSTS_Grand_Warden[#All],2),\"/\")","v":"/"},{"$f":"IF(W334<>\"/\",VLOOKUP(W334,COSTS_Grand_Warden[#All],3),\"/\")","v":"/"},{"$f":"IF(Y$331=\"Error\",\"Error\",IF(X334<>\"/\",V334*X334,0))","v":0},{"$f":"IF(Y$331=\"Error\",\"Error\",IF(Y334<>\"/\",V334*Y334,0))","v":0}]
[3,{"$f":"IF(Paramètres!BE8=0,\"\",Paramètres!BE8)","v":""},0,"/",{"$f":"IF(G$331=\"Error\",\"Error\",IF(AND($E$331<>\"/\",$E$331>'Paramètres - Admin'!$A4),'Paramètres - Admin'!$A5,\"/\"))","v":"/"},{"$f":"IF(E335<>\"/\",VLOOKUP(E335,COSTS_Barbarian_King[#All],2),\"/\")","v":"/"},{"$f":"IF(E335<>\"/\",VLOOKUP(E335,COSTS_Barbarian_King[#All],3),\"/\")","v":"/"},0,0,3,{"$f":"IF(Paramètres!BF8=0,\"\",Paramètres!BF8)","v":""},0,"/",{"$f":"IF(P$331=\"Error\",\"Error\",IF(AND($N$331<>\"/\",$N$331>'Paramètres - Admin'!$A4),'Paramètres - Admin'!$A5,\"/\"))","v":"/"},{"$f":"IF(N335<>\"/\",VLOOKUP(N335,COSTS_Archer_Queen[#All],2),\"/\")","v":"/"},{"$f":"IF(N335<>\"/\",VLOOKUP(N335,COSTS_Archer_Queen[#All],3),\"/\")","v":"/"},0,0,3,{"$f":"IF(Paramètres!BG8=0,\"\",Paramètres!BG8)","v":""},0,"/",{"$f":"IF(Y$331=\"Error\",\"Error\",IF(AND($W$331<>\"/\",$W$331>'Paramètres - Admin'!$A4),'Paramètres - Admin'!$A5,\"/\"))","v":"/"},{"$f":"IF(W335<>\"/\",VLOOKUP(W335,COSTS_Grand_Warden[#All],2),\"/\")","v":"/"},{"$f":"IF(W335<>\"/\",VLOOKUP(W335,COSTS_Grand_Warden[#All],3),\"/\")","v":"/"},0,0]
[4,{"$f":"IF(Paramètres!BE9=0,\"\",Paramètres!BE9)","v":""},0,"/",{"$f":"IF(G$331=\"Error\",\"Error\",IF(AND($E$331<>\"/\",$E$331>'Paramètres - Admin'!$A5),'Paramètres - Admin'!$A6,\"/\"))","v":"/"},{"$f":"IF(E336<>\"/\",VLOOKUP(E336,COSTS_Barbarian_King[#All],2),\"/\")","v":"/"},{"$f":"IF(E336<>\"/\",VLOOKUP(E336,COSTS_Barbarian_King[#All],3),\"/\")","v":"/"},0,0,4,{"$f":"IF(Paramètres!BF9=0,\"\",Paramètres!BF9)","v":""},0,"/",{"$f":"IF(P$331=\"Error\",\"Error\",IF(AND($N$331<>\"/\",$N$331>'Paramètres - Admin'!$A5),'Paramètres - Admin'!$A6,\"/\"))","v":"/"},{"$f":"IF(N336<>\"/\",VLOOKUP(N336,COSTS_Archer_Queen[#All],2),\"/\")","v":"/"},{"$f":"IF(N336<>\"/\",VLOOKUP(N336,COSTS_Archer_Queen[#All],3),\"/\")","v":"/"},0,0,4,{"$f":"IF(Paramètres!BG9=0,\"\",Paramètres!BG9)","v":""},0,"/",{"$f":"IF(Y$331=\"Error\",\"Error\",IF(AND($W$331<>\"/\",$W$331>'Paramètres - Admin'!$A5),'Paramètres - Admin'!$A6,\"/\"))","v":"/"},{"$f":"IF(W336<>\"/\",VLOOKUP(W336,COSTS_Grand_Warden[#All],2),\"/\")","v":"/"},{"$f":"IF(W336<>\"/\",VLOOKUP(W336,COSTS_Grand_Warden[#All],3),\"/\")","v":"/"},0,0]
[5,{"$f":"IF(Paramètres!BE10=0,\"\",Paramètres!BE10)","v":""},0,"/",{"$f":"IF(G$331=\"Error\",\"Error\",IF(AND($E$331<>\"/\",$E$331>'Paramètres - Admin'!$A6),'Paramètres - Admin'!$A7,\"/\"))","v":"/"},{"$f":"IF(E337<>\"/\",VLOOKUP(E337,COSTS_Barbarian_King[#All],2),\"/\")","v":"/"},{"$f":"IF(E337<>\"/\",VLOOKUP(E337,COSTS_Barbarian_King[#All],3),\"/\")","v":"/"},0,0,5,{"$f":"IF(Paramètres!BF10=0,\"\",Paramètres!BF10)","v":""},0,"/",{"$f":"IF(P$331=\"Error\",\"Error\",IF(AND($N$331<>\"/\",$N$331>'Paramètres - Admin'!$A6),'Paramètres - Admin'!$A7,\"/\"))","v":"/"},{"$f":"IF(N337<>\"/\",VLOOKUP(N337,COSTS_Archer_Queen[#All],2),\"/\")","v":"/"},{"$f":"IF(N337<>\"/\",VLOOKUP(N337,COSTS_Archer_Queen[#All],3),\"/\")","v":"/"},0,0,5,{"$f":"IF(Paramètres!BG10=0,\"\",Paramètres!BG10)","v":""},0,"/",{"$f":"IF(Y$331=\"Error\",\"Error\",IF(AND($W$331<>\"/\",$W$331>'Paramètres - Admin'!$A6),'Paramètres - Admin'!$A7,\"/\"))","v":"/"},{"$f":"IF(W337<>\"/\",VLOOKUP(W337,COSTS_Grand_Warden[#All],2),\"/\")","v":"/"},{"$f":"IF(W337<>\"/\",VLOOKUP(W337,COSTS_Grand_Warden[#All],3),\"/\")","v":"/"},0,0]
[6,{"$f":"IF(Paramètres!BE11=0,\"\",Paramètres!BE11)","v":""},0,"/",{"$f":"IF(G$331=\"Error\",\"Error\",IF(AND($E$331<>\"/\",$E$331>'Paramètres - Admin'!$A7),'Paramètres - Admin'!$A8,\"/\"))","v":"/"},{"$f":"IF(E338<>\"/\",VLOOKUP(E338,COSTS_Barbarian_King[#All],2),\"/\")","v":"/"},{"$f":"IF(E338<>\"/\",VLOOKUP(E338,COSTS_Barbarian_King[#All],3),\"/\")","v":"/"},0,0,6,{"$f":"IF(Paramètres!BF11=0,\"\",Paramètres!BF11)","v":""},0,"/",{"$f":"IF(P$331=\"Error\",\"Error\",IF(AND($N$331<>\"/\",$N$331>'Paramètres - Admin'!$A7),'Paramètres - Admin'!$A8,\"/\"))","v":"/"},{"$f":"IF(N338<>\"/\",VLOOKUP(N338,COSTS_Archer_Queen[#All],2),\"/\")","v":"/"},{"$f":"IF(N338<>\"/\",VLOOKUP(N338,COSTS_Archer_Queen[#All],3),\"/\")","v":"/"},0,0,6,{"$f":"IF(Paramètres!BG11=0,\"\",Paramètres!BG11)","v":""},0,"/",{"$f":"IF(Y$331=\"Error\",\"Error\",IF(AND($W$331<>\"/\",$W$331>'Paramètres - Admin'!$A7),'Paramètres - Admin'!$A8,\"/\"))","v":"/"},{"$f":"IF(W338<>\"/\",VLOOKUP(W338,COSTS_Grand_Warden[#All],2),\"/\")","v":"/"},{"$f":"IF(W338<>\"/\",VLOOKUP(W338,COSTS_Grand_Warden[#All],3),\"/\")","v":"/"},0,0]
[7,{"$f":"IF(Paramètres!BE12=0,\"\",Paramètres!BE12)","v":""},0,"/",{"$f":"IF(G$331=\"Error\",\"Error\",IF(AND($E$331<>\"/\",$E$331>'Paramètres - Admin'!$A8),'Paramètres - Admin'!$A9,\"/\"))","v":"/"},{"$f":"IF(E339<>\"/\",VLOOKUP(E339,COSTS_Barbarian_King[#All],2),\"/\")","v":"/"},{"$f":"IF(E339<>\"/\",VLOOKUP(E339,COSTS_Barbarian_King[#All],3),\"/\")","v":"/"},0,0,7,{"$f":"IF(Paramètres!BF12=0,\"\",Paramètres!BF12)","v":""},0,"/",{"$f":"IF(P$331=\"Error\",\"Error\",IF(AND($N$331<>\"/\",$N$331>'Paramètres - Admin'!$A8),'Paramètres - Admin'!$A9,\"/\"))","v":"/"},{"$f":"IF(N339<>\"/\",VLOOKUP(N339,COSTS_Archer_Queen[#All],2),\"/\")","v":"/"},{"$f":"IF(N339<>\"/\",VLOOKUP(N339,COSTS_Archer_Queen[#All],3),\"/\")","v":"/"},0,0,7,{"$f":"IF(Paramètres!BG12=0,\"\",Paramètres!BG12)","v":""},0,"/",{"$f":"IF(Y$331=\"Error\",\"Error\",IF(AND($W$331<>\"/\",$W$331>'Paramètres - Admin'!$A8),'Paramètres - Admin'!$A9,\"/\"))","v":"/"},{"$f":"IF(W339<>\"/\",VLOOKUP(W339,COSTS_Grand_Warden[#All],2),\"/\")","v":"/"},{"$f":"IF(W339<>\"/\",VLOOKUP(W339,COSTS_Grand_Warden[#All],3),\"/\")","v":"/"},0,0]
[8,{"$f":"IF(Paramètres!BE13=0,\"\",Paramètres!BE13)","v":""},0,"/",{"$f":"IF(G$331=\"Error\",\"Error\",IF(AND($E$331<>\"/\",$E$331>'Paramètres - Admin'!$A9),'Paramètres - Admin'!$A10,\"/\"))","v":"/"},{"$f":"IF(E340<>\"/\",VLOOKUP(E340,COSTS_Barbarian_King[#All],2),\"/\")","v":"/"},{"$f":"IF(E340<>\"/\",VLOOKUP(E340,COSTS_Barbarian_King[#All],3),\"/\")","v":"/"},0,0,8,{"$f":"IF(Paramètres!BF13=0,\"\",Paramètres!BF13)","v":""},0,"/",{"$f":"IF(P$331=\"Error\",\"Error\",IF(AND($N$331<>\"/\",$N$331>'Paramètres - Admin'!$A9),'Paramètres - Admin'!$A10,\"/\"))","v":"/"},{"$f":"IF(N340<>\"/\",VLOOKUP(N340,COSTS_Archer_Queen[#All],2),\"/\")","v":"/"},{"$f":"IF(N340<>\"/\",VLOOKUP(N340,COSTS_Archer_Queen[#All],3),\"/\")","v":"/"},0,0,8,{"$f":"IF(Paramètres!BG13=0,\"\",Paramètres!BG13)","v":""},0,"/",{"$f":"IF(Y$331=\"Error\",\"Error\",IF(AND($W$331<>\"/\",$W$331>'Paramètres - Admin'!$A9),'Paramètres - Admin'!$A10,\"/\"))","v":"/"},{"$f":"IF(W340<>\"/\",VLOOKUP(W340,COSTS_Grand_Warden[#All],2),\"/\")","v":"/"},{"$f":"IF(W340<>\"/\",VLOOKUP(W340,COSTS_Grand_Warden[#All],3),\"/\")","v":"/"},0,0]
[9,{"$f":"IF(Paramètres!BE14=0,\"\",Paramètres!BE14)","v":""},0,"/",{"$f":"IF(G$331=\"Error\",\"Error\",IF(AND($E$331<>\"/\",$E$331>'Paramètres - Admin'!$A10),'Paramètres - Admin'!$A11,\"/\"))","v":"/"},{"$f":"IF(E341<>\"/\",VLOOKUP(E341,COSTS_Barbarian_King[#All],2),\"/\")","v":"/"},{"$f":"IF(E341<>\"/\",VLOOKUP(E341,COSTS_Barbarian_King[#All],3),\"/\")","v":"/"},0,0,9,{"$f":"IF(Paramètres!BF14=0,\"\",Paramètres!BF14)","v":""},0,"/",{"$f":"IF(P$331=\"Error\",\"Error\",IF(AND($N$331<>\"/\",$N$331>'Paramètres - Admin'!$A10),'Paramètres - Admin'!$A11,\"/\"))","v":"/"},{"$f":"IF(N341<>\"/\",VLOOKUP(N341,COSTS_Archer_Queen[#All],2),\"/\")","v":"/"},{"$f":"IF(N341<>\"/\",VLOOKUP(N341,COSTS_Archer_Queen[#All],3),\"/\")","v":"/"},0,0,9,{"$f":"IF(Paramètres!BG14=0,\"\",Paramètres!BG14)","v":""},0,"/",{"$f":"IF(Y$331=\"Error\",\"Error\",IF(AND($W$331<>\"/\",$W$331>'Paramètres - Admin'!$A10),'Paramètres - Admin'!$A11,\"/\"))","v":"/"},{"$f":"IF(W341<>\"/\",VLOOKUP(W341,COSTS_Grand_Warden[#All],2),\"/\")","v":"/"},{"$f":"IF(W341<>\"/\",VLOOKUP(W341,COSTS_Grand_Warden[#All],3),\"/\")","v":"/"},0,0]
[10,{"$f":"IF(Paramètres!BE15=0,\"\",Paramètres!BE15)","v":""},0,"/",{"$f":"IF(G$331=\"Error\",\"Error\",IF(AND($E$331<>\"/\",$E$331>'Paramètres - Admin'!$A11),'Paramètres - Admin'!$A12,\"/\"))","v":"/"},{"$f":"IF(E342<>\"/\",VLOOKUP(E342,COSTS_Barbarian_King[#All],2),\"/\")","v":"/"},{"$f":"IF(E342<>\"/\",VLOOKUP(E342,COSTS_Barbarian_King[#All],3),\"/\")","v":"/"},0,0,10,{"$f":"IF(Paramètres!BF15=0,\"\",Paramètres!BF15)","v":""},0,"/",{"$f":"IF(P$331=\"Error\",\"Error\",IF(AND($N$331<>\"/\",$N$331>'Paramètres - Admin'!$A11),'Paramètres - Admin'!$A12,\"/\"))","v":"/"},{"$f":"IF(N342<>\"/\",VLOOKUP(N342,COSTS_Archer_Queen[#All],2),\"/\")","v":"/"},{"$f":"IF(N342<>\"/\",VLOOKUP(N342,COSTS_Archer_Queen[#All],3),\"/\")","v":"/"},0,0,10,{"$f":"IF(Paramètres!BG15=0,\"\",Paramètres!BG15)","v":""},0,"/",{"$f":"IF(Y$331=\"Error\",\"Error\",IF(AND($W$331<>\"/\",$W$331>'Paramètres - Admin'!$A11),'Paramètres - Admin'!$A12,\"/\"))","v":"/"},{"$f":"IF(W342<>\"/\",VLOOKUP(W342,COSTS_Grand_Warden[#All],2),\"/\")","v":"/"},{"$f":"IF(W342<>\"/\",VLOOKUP(W342,COSTS_Grand_Warden[#All],3),\"/\")","v":"/"},0,0]
[11,{"$f":"IF(Paramètres!BE16=0,\"\",Paramètres!BE16)","v":""},0,"/",{"$f":"IF(G$331=\"Error\",\"Error\",IF(AND($E$331<>\"/\",$E$331>'Paramètres - Admin'!$A12),'Paramètres - Admin'!$A13,\"/\"))","v":"/"},{"$f":"IF(E343<>\"/\",VLOOKUP(E343,COSTS_Barbarian_King[#All],2),\"/\")","v":"/"},{"$f":"IF(E343<>\"/\",VLOOKUP(E343,COSTS_Barbarian_King[#All],3),\"/\")","v":"/"},0,0,11,{"$f":"IF(Paramètres!BF16=0,\"\",Paramètres!BF16)","v":""},0,"/",{"$f":"IF(P$331=\"Error\",\"Error\",IF(AND($N$331<>\"/\",$N$331>'Paramètres - Admin'!$A12),'Paramètres - Admin'!$A13,\"/\"))","v":"/"},{"$f":"IF(N343<>\"/\",VLOOKUP(N343,COSTS_Archer_Queen[#All],2),\"/\")","v":"/"},{"$f":"IF(N343<>\"/\",VLOOKUP(N343,COSTS_Archer_Queen[#All],3),\"/\")","v":"/"},0,0,11,{"$f":"IF(Paramètres!BG16=0,\"\",Paramètres!BG16)","v":""},0,"/",{"$f":"IF(Y$331=\"Error\",\"Error\",IF(AND($W$331<>\"/\",$W$331>'Paramètres - Admin'!$A12),'Paramètres - Admin'!$A13,\"/\"))","v":"/"},{"$f":"IF(W343<>\"/\",VLOOKUP(W343,COSTS_Grand_Warden[#All],2),\"/\")","v":"/"},{"$f":"IF(W343<>\"/\",VLOOKUP(W343,COSTS_Grand_Warden[#All],3),\"/\")","v":"/"},0,0]
[12,{"$f":"IF(Paramètres!BE17=0,\"\",Paramètres!BE17)","v":""},0,"/",{"$f":"IF(G$331=\"Error\",\"Error\",IF(AND($E$331<>\"/\",$E$331>'Paramètres - Admin'!$A13),'Paramètres - Admin'!$A14,\"/\"))","v":"/"},{"$f":"IF(E344<>\"/\",VLOOKUP(E344,COSTS_Barbarian_King[#All],2),\"/\")","v":"/"},{"$f":"IF(E344<>\"/\",VLOOKUP(E344,COSTS_Barbarian_King[#All],3),\"/\")","v":"/"},0,0,12,{"$f":"IF(Paramètres!BF17=0,\"\",Paramètres!BF17)","v":""},0,"/",{"$f":"IF(P$331=\"Error\",\"Error\",IF(AND($N$331<>\"/\",$N$331>'Paramètres - Admin'!$A13),'Paramètres - Admin'!$A14,\"/\"))","v":"/"},{"$f":"IF(N344<>\"/\",VLOOKUP(N344,COSTS_Archer_Queen[#All],2),\"/\")","v":"/"},{"$f":"IF(N344<>\"/\",VLOOKUP(N344,COSTS_Archer_Queen[#All],3),\"/\")","v":"/"},0,0,12,{"$f":"IF(Paramètres!BG17=0,\"\",Paramètres!BG17)","v":""},0,"/",{"$f":"IF(Y$331=\"Error\",\"Error\",IF(AND($W$331<>\"/\",$W$331>'Paramètres - Admin'!$A13),'Paramètres - Admin'!$A14,\"/\"))","v":"/"},{"$f":"IF(W344<>\"/\",VLOOKUP(W344,COSTS_Grand_Warden[#All],2),\"/\")","v":"/"},{"$f":"IF(W344<>\"/\",VLOOKUP(W344,COSTS_Grand_Warden[#All],3),\"/\")","v":"/"},0,0]
[13,{"$f":"IF(Paramètres!BE18=0,\"\",Paramètres!BE18)","v":""},0,"/",{"$f":"IF(G$331=\"Error\",\"Error\",IF(AND($E$331<>\"/\",$E$331>'Paramètres - Admin'!$A14),'Paramètres - Admin'!$A15,\"/\"))","v":"/"},{"$f":"IF(E345<>\"/\",VLOOKUP(E345,COSTS_Barbarian_King[#All],2),\"/\")","v":"/"},{"$f":"IF(E345<>\"/\",VLOOKUP(E345,COSTS_Barbarian_King[#All],3),\"/\")","v":"/"},0,0,13,{"$f":"IF(Paramètres!BF18=0,\"\",Paramètres!BF18)","v":""},0,"/",{"$f":"IF(P$331=\"Error\",\"Error\",IF(AND($N$331<>\"/\",$N$331>'Paramètres - Admin'!$A14),'Paramètres - Admin'!$A15,\"/\"))","v":"/"},{"$f":"IF(N345<>\"/\",VLOOKUP(N345,COSTS_Archer_Queen[#All],2),\"/\")","v":"/"},{"$f":"IF(N345<>\"/\",VLOOKUP(N345,COSTS_Archer_Queen[#All],3),\"/\")","v":"/"},0,0,13,{"$f":"IF(Paramètres!BG18=0,\"\",Paramètres!BG18)","v":""},0,"/",{"$f":"IF(Y$331=\"Error\",\"Error\",IF(AND($W$331<>\"/\",$W$331>'Paramètres - Admin'!$A14),'Paramètres - Admin'!$A15,\"/\"))","v":"/"},{"$f":"IF(W345<>\"/\",VLOOKUP(W345,COSTS_Grand_Warden[#All],2),\"/\")","v":"/"},{"$f":"IF(W345<>\"/\",VLOOKUP(W345,COSTS_Grand_Warden[#All],3),\"/\")","v":"/"},0,0]
[14,{"$f":"IF(Paramètres!BE19=0,\"\",Paramètres!BE19)","v":""},0,"/",{"$f":"IF(G$331=\"Error\",\"Error\",IF(AND($E$331<>\"/\",$E$331>'Paramètres - Admin'!$A15),'Paramètres - Admin'!$A16,\"/\"))","v":"/"},{"$f":"IF(E346<>\"/\",VLOOKUP(E346,COSTS_Barbarian_King[#All],2),\"/\")","v":"/"},{"$f":"IF(E346<>\"/\",VLOOKUP(E346,COSTS_Barbarian_King[#All],3),\"/\")","v":"/"},0,0,14,{"$f":"IF(Paramètres!BF19=0,\"\",Paramètres!BF19)","v":""},0,"/",{"$f":"IF(P$331=\"Error\",\"Error\",IF(AND($N$331<>\"/\",$N$331>'Paramètres - Admin'!$A15),'Paramètres - Admin'!$A16,\"/\"))","v":"/"},{"$f":"IF(N346<>\"/\",VLOOKUP(N346,COSTS_Archer_Queen[#All],2),\"/\")","v":"/"},{"$f":"IF(N346<>\"/\",VLOOKUP(N346,COSTS_Archer_Queen[#All],3),\"/\")","v":"/"},0,0,14,{"$f":"IF(Paramètres!BG19=0,\"\",Paramètres!BG19)","v":""},0,"/",{"$f":"IF(Y$331=\"Error\",\"Error\",IF(AND($W$331<>\"/\",$W$331>'Paramètres - Admin'!$A15),'Paramètres - Admin'!$A16,\"/\"))","v":"/"},{"$f":"IF(W346<>\"/\",VLOOKUP(W346,COSTS_Grand_Warden[#All],2),\"/\")","v":"/"},{"$f":"IF(W346<>\"/\",VLOOKUP(W346,COSTS_Grand_Warden[#All],3),\"/\")","v":"/"},0,0]
[15,{"$f":"IF(Paramètres!BE20=0,\"\",Paramètres!BE20)","v":""},0,"/",{"$f":"IF(G$331=\"Error\",\"Error\",IF(AND($E$331<>\"/\",$E$331>'Paramètres - Admin'!$A16),'Paramètres - Admin'!$A17,\"/\"))","v":"/"},{"$f":"IF(E347<>\"/\",VLOOKUP(E347,COSTS_Barbarian_King[#All],2),\"/\")","v":"/"},{"$f":"IF(E347<>\"/\",VLOOKUP(E347,COSTS_Barbarian_King[#All],3),\"/\")","v":"/"},0,0,15,{"$f":"IF(Paramètres!BF20=0,\"\",Paramètres!BF20)","v":""},0,"/",{"$f":"IF(P$331=\"Error\",\"Error\",IF(AND($N$331<>\"/\",$N$331>'Paramètres - Admin'!$A16),'Paramètres - Admin'!$A17,\"/\"))","v":"/"},{"$f":"IF(N347<>\"/\",VLOOKUP(N347,COSTS_Archer_Queen[#All],2),\"/\")","v":"/"},{"$f":"IF(N347<>\"/\",VLOOKUP(N347,COSTS_Archer_Queen[#All],3),\"/\")","v":"/"},0,0,15,{"$f":"IF(Paramètres!BG20=0,\"\",Paramètres!BG20)","v":""},0,"/",{"$f":"IF(Y$331=\"Error\",\"Error\",IF(AND($W$331<>\"/\",$W$331>'Paramètres - Admin'!$A16),'Paramètres - Admin'!$A17,\"/\"))","v":"/"},{"$f":"IF(W347<>\"/\",VLOOKUP(W347,COSTS_Grand_Warden[#All],2),\"/\")","v":"/"},{"$f":"IF(W347<>\"/\",VLOOKUP(W347,COSTS_Grand_Warden[#All],3),\"/\")","v":"/"},0,0]
[16,{"$f":"IF(Paramètres!BE21=0,\"\",Paramètres!BE21)","v":""},0,"/",{"$f":"IF(G$331=\"Error\",\"Error\",IF(AND($E$331<>\"/\",$E$331>'Paramètres - Admin'!$A17),'Paramètres - Admin'!$A18,\"/\"))","v":"/"},{"$f":"IF(E348<>\"/\",VLOOKUP(E348,COSTS_Barbarian_King[#All],2),\"/\")","v":"/"},{"$f":"IF(E348<>\"/\",VLOOKUP(E348,COSTS_Barbarian_King[#All],3),\"/\")","v":"/"},0,0,16,{"$f":"IF(Paramètres!BF21=0,\"\",Paramètres!BF21)","v":""},0,"/",{"$f":"IF(P$331=\"Error\",\"Error\",IF(AND($N$331<>\"/\",$N$331>'Paramètres - Admin'!$A17),'Paramètres - Admin'!$A18,\"/\"))","v":"/"},{"$f":"IF(N348<>\"/\",VLOOKUP(N348,COSTS_Archer_Queen[#All],2),\"/\")","v":"/"},{"$f":"IF(N348<>\"/\",VLOOKUP(N348,COSTS_Archer_Queen[#All],3),\"/\")","v":"/"},0,0,16,{"$f":"IF(Paramètres!BG21=0,\"\",Paramètres!BG21)","v":""},0,"/",{"$f":"IF(Y$331=\"Error\",\"Error\",IF(AND($W$331<>\"/\",$W$331>'Paramètres - Admin'!$A17),'Paramètres - Admin'!$A18,\"/\"))","v":"/"},{"$f":"IF(W348<>\"/\",VLOOKUP(W348,COSTS_Grand_Warden[#All],2),\"/\")","v":"/"},{"$f":"IF(W348<>\"/\",VLOOKUP(W348,COSTS_Grand_Warden[#All],3),\"/\")","v":"/"},0,0]
[17,{"$f":"IF(Paramètres!BE22=0,\"\",Paramètres!BE22)","v":""},0,"/",{"$f":"IF(G$331=\"Error\",\"Error\",IF(AND($E$331<>\"/\",$E$331>'Paramètres - Admin'!$A18),'Paramètres - Admin'!$A19,\"/\"))","v":"/"},{"$f":"IF(E349<>\"/\",VLOOKUP(E349,COSTS_Barbarian_King[#All],2),\"/\")","v":"/"},{"$f":"IF(E349<>\"/\",VLOOKUP(E349,COSTS_Barbarian_King[#All],3),\"/\")","v":"/"},0,0,17,{"$f":"IF(Paramètres!BF22=0,\"\",Paramètres!BF22)","v":""},0,"/",{"$f":"IF(P$331=\"Error\",\"Error\",IF(AND($N$331<>\"/\",$N$331>'Paramètres - Admin'!$A18),'Paramètres - Admin'!$A19,\"/\"))","v":"/"},{"$f":"IF(N349<>\"/\",VLOOKUP(N349,COSTS_Archer_Queen[#All],2),\"/\")","v":"/"},{"$f":"IF(N349<>\"/\",VLOOKUP(N349,COSTS_Archer_Queen[#All],3),\"/\")","v":"/"},0,0,17,{"$f":"IF(Paramètres!BG22=0,\"\",Paramètres!BG22)","v":""},0,"/",{"$f":"IF(Y$331=\"Error\",\"Error\",IF(AND($W$331<>\"/\",$W$331>'Paramètres - Admin'!$A18),'Paramètres - Admin'!$A19,\"/\"))","v":"/"},{"$f":"IF(W349<>\"/\",VLOOKUP(W349,COSTS_Grand_Warden[#All],2),\"/\")","v":"/"},{"$f":"IF(W349<>\"/\",VLOOKUP(W349,COSTS_Grand_Warden[#All],3),\"/\")","v":"/"},0,0]
[18,{"$f":"IF(Paramètres!BE23=0,\"\",Paramètres!BE23)","v":""},0,"/",{"$f":"IF(G$331=\"Error\",\"Error\",IF(AND($E$331<>\"/\",$E$331>'Paramètres - Admin'!$A19),'Paramètres - Admin'!$A20,\"/\"))","v":"/"},{"$f":"IF(E350<>\"/\",VLOOKUP(E350,COSTS_Barbarian_King[#All],2),\"/\")","v":"/"},{"$f":"IF(E350<>\"/\",VLOOKUP(E350,COSTS_Barbarian_King[#All],3),\"/\")","v":"/"},0,0,18,{"$f":"IF(Paramètres!BF23=0,\"\",Paramètres!BF23)","v":""},0,"/",{"$f":"IF(P$331=\"Error\",\"Error\",IF(AND($N$331<>\"/\",$N$331>'Paramètres - Admin'!$A19),'Paramètres - Admin'!$A20,\"/\"))","v":"/"},{"$f":"IF(N350<>\"/\",VLOOKUP(N350,COSTS_Archer_Queen[#All],2),\"/\")","v":"/"},{"$f":"IF(N350<>\"/\",VLOOKUP(N350,COSTS_Archer_Queen[#All],3),\"/\")","v":"/"},0,0,18,{"$f":"IF(Paramètres!BG23=0,\"\",Paramètres!BG23)","v":""},0,"/",{"$f":"IF(Y$331=\"Error\",\"Error\",IF(AND($W$331<>\"/\",$W$331>'Paramètres - Admin'!$A19),'Paramètres - Admin'!$A20,\"/\"))","v":"/"},{"$f":"IF(W350<>\"/\",VLOOKUP(W350,COSTS_Grand_Warden[#All],2),\"/\")","v":"/"},{"$f":"IF(W350<>\"/\",VLOOKUP(W350,COSTS_Grand_Warden[#All],3),\"/\")","v":"/"},0,0]
[19,{"$f":"IF(Paramètres!BE24=0,\"\",Paramètres!BE24)","v":""},0,"/",{"$f":"IF(G$331=\"Error\",\"Error\",IF(AND($E$331<>\"/\",$E$331>'Paramètres - Admin'!$A20),'Paramètres - Admin'!$A21,\"/\"))","v":"/"},{"$f":"IF(E351<>\"/\",VLOOKUP(E351,COSTS_Barbarian_King[#All],2),\"/\")","v":"/"},{"$f":"IF(E351<>\"/\",VLOOKUP(E351,COSTS_Barbarian_King[#All],3),\"/\")","v":"/"},0,0,19,{"$f":"IF(Paramètres!BF24=0,\"\",Paramètres!BF24)","v":""},0,"/",{"$f":"IF(P$331=\"Error\",\"Error\",IF(AND($N$331<>\"/\",$N$331>'Paramètres - Admin'!$A20),'Paramètres - Admin'!$A21,\"/\"))","v":"/"},{"$f":"IF(N351<>\"/\",VLOOKUP(N351,COSTS_Archer_Queen[#All],2),\"/\")","v":"/"},{"$f":"IF(N351<>\"/\",VLOOKUP(N351,COSTS_Archer_Queen[#All],3),\"/\")","v":"/"},0,0,19,{"$f":"IF(Paramètres!BG24=0,\"\",Paramètres!BG24)","v":""},0,"/",{"$f":"IF(Y$331=\"Error\",\"Error\",IF(AND($W$331<>\"/\",$W$331>'Paramètres - Admin'!$A20),'Paramètres - Admin'!$A21,\"/\"))","v":"/"},{"$f":"IF(W351<>\"/\",VLOOKUP(W351,COSTS_Grand_Warden[#All],2),\"/\")","v":"/"},{"$f":"IF(W351<>\"/\",VLOOKUP(W351,COSTS_Grand_Warden[#All],3),\"/\")","v":"/"},0,0]
[20,{"$f":"IF(Paramètres!BE25=0,\"\",Paramètres!BE25)","v":""},0,"/",{"$f":"IF(G$331=\"Error\",\"Error\",IF(AND($E$331<>\"/\",$E$331>'Paramètres - Admin'!$A21),'Paramètres - Admin'!$A22,\"/\"))","v":"/"},{"$f":"IF(E352<>\"/\",VLOOKUP(E352,COSTS_Barbarian_King[#All],2),\"/\")","v":"/"},{"$f":"IF(E352<>\"/\",VLOOKUP(E352,COSTS_Barbarian_King[#All],3),\"/\")","v":"/"},0,0,20,{"$f":"IF(Paramètres!BF25=0,\"\",Paramètres!BF25)","v":""},0,"/",{"$f":"IF(P$331=\"Error\",\"Error\",IF(AND($N$331<>\"/\",$N$331>'Paramètres - Admin'!$A21),'Paramètres - Admin'!$A22,\"/\"))","v":"/"},{"$f":"IF(N352<>\"/\",VLOOKUP(N352,COSTS_Archer_Queen[#All],2),\"/\")","v":"/"},{"$f":"IF(N352<>\"/\",VLOOKUP(N352,COSTS_Archer_Queen[#All],3),\"/\")","v":"/"},0,0,20,{"$f":"IF(Paramètres!BG25=0,\"\",Paramètres!BG25)","v":""},0,"/",{"$f":"IF(Y$331=\"Error\",\"Error\",IF(AND($W$331<>\"/\",$W$331>'Paramètres - Admin'!$A21),'Paramètres - Admin'!$A22,\"/\"))","v":"/"},{"$f":"IF(W352<>\"/\",VLOOKUP(W352,COSTS_Grand_Warden[#All],2),\"/\")","v":"/"},{"$f":"IF(W352<>\"/\",VLOOKUP(W352,COSTS_Grand_Warden[#All],3),\"/\")","v":"/"},0,0]
[21,{"$f":"IF(Paramètres!BE26=0,\"\",Paramètres!BE26)","v":""},0,"/",{"$f":"IF(G$331=\"Error\",\"Error\",IF(AND($E$331<>\"/\",$E$331>'Paramètres - Admin'!$A22),'Paramètres - Admin'!$A23,\"/\"))","v":"/"},{"$f":"IF(E353<>\"/\",VLOOKUP(E353,COSTS_Barbarian_King[#All],2),\"/\")","v":"/"},{"$f":"IF(E353<>\"/\",VLOOKUP(E353,COSTS_Barbarian_King[#All],3),\"/\")","v":"/"},0,0,21,{"$f":"IF(Paramètres!BF26=0,\"\",Paramètres!BF26)","v":""},0,"/",{"$f":"IF(P$331=\"Error\",\"Error\",IF(AND($N$331<>\"/\",$N$331>'Paramètres - Admin'!$A22),'Paramètres - Admin'!$A23,\"/\"))","v":"/"},{"$f":"IF(N353<>\"/\",VLOOKUP(N353,COSTS_Archer_Queen[#All],2),\"/\")","v":"/"},{"$f":"IF(N353<>\"/\",VLOOKUP(N353,COSTS_Archer_Queen[#All],3),\"/\")","v":"/"},0,0,21,{"$f":"IF(Paramètres!BG26=0,\"\",Paramètres!BG26)","v":""},0,"/",{"$f":"IF(Y$331=\"Error\",\"Error\",IF(AND($W$331<>\"/\",$W$331>'Paramètres - Admin'!$A22),'Paramètres - Admin'!$A23,\"/\"))","v":"/"},{"$f":"IF(W353<>\"/\",VLOOKUP(W353,COSTS_Grand_Warden[#All],2),\"/\")","v":"/"},{"$f":"IF(W353<>\"/\",VLOOKUP(W353,COSTS_Grand_Warden[#All],3),\"/\")","v":"/"},0,0]
[22,{"$f":"IF(Paramètres!BE27=0,\"\",Paramètres!BE27)","v":""},0,"/",{"$f":"IF(G$331=\"Error\",\"Error\",IF(AND($E$331<>\"/\",$E$331>'Paramètres - Admin'!$A23),'Paramètres - Admin'!$A24,\"/\"))","v":"/"},{"$f":"IF(E354<>\"/\",VLOOKUP(E354,COSTS_Barbarian_King[#All],2),\"/\")","v":"/"},{"$f":"IF(E354<>\"/\",VLOOKUP(E354,COSTS_Barbarian_King[#All],3),\"/\")","v":"/"},0,0,22,{"$f":"IF(Paramètres!BF27=0,\"\",Paramètres!BF27)","v":""},0,"/",{"$f":"IF(P$331=\"Error\",\"Error\",IF(AND($N$331<>\"/\",$N$331>'Paramètres - Admin'!$A23),'Paramètres - Admin'!$A24,\"/\"))","v":"/"},{"$f":"IF(N354<>\"/\",VLOOKUP(N354,COSTS_Archer_Queen[#All],2),\"/\")","v":"/"},{"$f":"IF(N354<>\"/\",VLOOKUP(N354,COSTS_Archer_Queen[#All],3),\"/\")","v":"/"},0,0,22,{"$f":"IF(Paramètres!BG27=0,\"\",Paramètres!BG27)","v":""},0,"/",{"$f":"IF(Y$331=\"Error\",\"Error\",IF(AND($W$331<>\"/\",$W$331>'Paramètres - Admin'!$A23),'Paramètres - Admin'!$A24,\"/\"))","v":"/"},{"$f":"IF(W354<>\"/\",VLOOKUP(W354,COSTS_Grand_Warden[#All],2),\"/\")","v":"/"},{"$f":"IF(W354<>\"/\",VLOOKUP(W354,COSTS_Grand_Warden[#All],3),\"/\")","v":"/"},0,0]
[23,{"$f":"IF(Paramètres!BE28=0,\"\",Paramètres!BE28)","v":""},0,"/",{"$f":"IF(G$331=\"Error\",\"Error\",IF(AND($E$331<>\"/\",$E$331>'Paramètres - Admin'!$A24),'Paramètres - Admin'!$A25,\"/\"))","v":"/"},{"$f":"IF(E355<>\"/\",VLOOKUP(E355,COSTS_Barbarian_King[#All],2),\"/\")","v":"/"},{"$f":"IF(E355<>\"/\",VLOOKUP(E355,COSTS_Barbarian_King[#All],3),\"/\")","v":"/"},0,0,23,{"$f":"IF(Paramètres!BF28=0,\"\",Paramètres!BF28)","v":""},0,"/",{"$f":"IF(P$331=\"Error\",\"Error\",IF(AND($N$331<>\"/\",$N$331>'Paramètres - Admin'!$A24),'Paramètres - Admin'!$A25,\"/\"))","v":"/"},{"$f":"IF(N355<>\"/\",VLOOKUP(N355,COSTS_Archer_Queen[#All],2),\"/\")","v":"/"},{"$f":"IF(N355<>\"/\",VLOOKUP(N355,COSTS_Archer_Queen[#All],3),\"/\")","v":"/"},0,0,23,{"$f":"IF(Paramètres!BG28=0,\"\",Paramètres!BG28)","v":""},0,"/",{"$f":"IF(Y$331=\"Error\",\"Error\",IF(AND($W$331<>\"/\",$W$331>'Paramètres - Admin'!$A24),'Paramètres - Admin'!$A25,\"/\"))","v":"/"},{"$f":"IF(W355<>\"/\",VLOOKUP(W355,COSTS_Grand_Warden[#All],2),\"/\")","v":"/"},{"$f":"IF(W355<>\"/\",VLOOKUP(W355,COSTS_Grand_Warden[#All],3),\"/\")","v":"/"},0,0]
[24,{"$f":"IF(Paramètres!BE29=0,\"\",Paramètres!BE29)","v":""},0,"/",{"$f":"IF(G$331=\"Error\",\"Error\",IF(AND($E$331<>\"/\",$E$331>'Paramètres - Admin'!$A25),'Paramètres - Admin'!$A26,\"/\"))","v":"/"},{"$f":"IF(E356<>\"/\",VLOOKUP(E356,COSTS_Barbarian_King[#All],2),\"/\")","v":"/"},{"$f":"IF(E356<>\"/\",VLOOKUP(E356,COSTS_Barbarian_King[#All],3),\"/\")","v":"/"},0,0,24,{"$f":"IF(Paramètres!BF29=0,\"\",Paramètres!BF29)","v":""},0,"/",{"$f":"IF(P$331=\"Error\",\"Error\",IF(AND($N$331<>\"/\",$N$331>'Paramètres - Admin'!$A25),'Paramètres - Admin'!$A26,\"/\"))","v":"/"},{"$f":"IF(N356<>\"/\",VLOOKUP(N356,COSTS_Archer_Queen[#All],2),\"/\")","v":"/"},{"$f":"IF(N356<>\"/\",VLOOKUP(N356,COSTS_Archer_Queen[#All],3),\"/\")","v":"/"},0,0,24,{"$f":"IF(Paramètres!BG29=0,\"\",Paramètres!BG29)","v":""},0,"/",{"$f":"IF(Y$331=\"Error\",\"Error\",IF(AND($W$331<>\"/\",$W$331>'Paramètres - Admin'!$A25),'Paramètres - Admin'!$A26,\"/\"))","v":"/"},{"$f":"IF(W356<>\"/\",VLOOKUP(W356,COSTS_Grand_Warden[#All],2),\"/\")","v":"/"},{"$f":"IF(W356<>\"/\",VLOOKUP(W356,COSTS_Grand_Warden[#All],3),\"/\")","v":"/"},0,0]
[25,{"$f":"IF(Paramètres!BE30=0,\"\",Paramètres!BE30)","v":""},0,"/",{"$f":"IF(G$331=\"Error\",\"Error\",IF(AND($E$331<>\"/\",$E$331>'Paramètres - Admin'!$A26),'Paramètres - Admin'!$A27,\"/\"))","v":"/"},{"$f":"IF(E357<>\"/\",VLOOKUP(E357,COSTS_Barbarian_King[#All],2),\"/\")","v":"/"},{"$f":"IF(E357<>\"/\",VLOOKUP(E357,COSTS_Barbarian_King[#All],3),\"/\")","v":"/"},0,0,25,{"$f":"IF(Paramètres!BF30=0,\"\",Paramètres!BF30)","v":""},0,"/",{"$f":"IF(P$331=\"Error\",\"Error\",IF(AND($N$331<>\"/\",$N$331>'Paramètres - Admin'!$A26),'Paramètres - Admin'!$A27,\"/\"))","v":"/"},{"$f":"IF(N357<>\"/\",VLOOKUP(N357,COSTS_Archer_Queen[#All],2),\"/\")","v":"/"},{"$f":"IF(N357<>\"/\",VLOOKUP(N357,COSTS_Archer_Queen[#All],3),\"/\")","v":"/"},0,0,25,{"$f":"IF(Paramètres!BG30=0,\"\",Paramètres!BG30)","v":""},0,"/",{"$f":"IF(Y$331=\"Error\",\"Error\",IF(AND($W$331<>\"/\",$W$331>'Paramètres - Admin'!$A26),'Paramètres - Admin'!$A27,\"/\"))","v":"/"},{"$f":"IF(W357<>\"/\",VLOOKUP(W357,COSTS_Grand_Warden[#All],2),\"/\")","v":"/"},{"$f":"IF(W357<>\"/\",VLOOKUP(W357,COSTS_Grand_Warden[#All],3),\"/\")","v":"/"},0,0]
[26,{"$f":"IF(Paramètres!BE31=0,\"\",Paramètres!BE31)","v":""},0,"/",{"$f":"IF(G$331=\"Error\",\"Error\",IF(AND($E$331<>\"/\",$E$331>'Paramètres - Admin'!$A27),'Paramètres - Admin'!$A28,\"/\"))","v":"/"},{"$f":"IF(E358<>\"/\",VLOOKUP(E358,COSTS_Barbarian_King[#All],2),\"/\")","v":"/"},{"$f":"IF(E358<>\"/\",VLOOKUP(E358,COSTS_Barbarian_King[#All],3),\"/\")","v":"/"},0,0,26,{"$f":"IF(Paramètres!BF31=0,\"\",Paramètres!BF31)","v":""},0,"/",{"$f":"IF(P$331=\"Error\",\"Error\",IF(AND($N$331<>\"/\",$N$331>'Paramètres - Admin'!$A27),'Paramètres - Admin'!$A28,\"/\"))","v":"/"},{"$f":"IF(N358<>\"/\",VLOOKUP(N358,COSTS_Archer_Queen[#All],2),\"/\")","v":"/"},{"$f":"IF(N358<>\"/\",VLOOKUP(N358,COSTS_Archer_Queen[#All],3),\"/\")","v":"/"},0,0,26,{"$f":"IF(Paramètres!BG31=0,\"\",Paramètres!BG31)","v":""},0,"/",{"$f":"IF(Y$331=\"Error\",\"Error\",IF(AND($W$331<>\"/\",$W$331>'Paramètres - Admin'!$A27),'Paramètres - Admin'!$A28,\"/\"))","v":"/"},{"$f":"IF(W358<>\"/\",VLOOKUP(W358,COSTS_Grand_Warden[#All],2),\"/\")","v":"/"},{"$f":"IF(W358<>\"/\",VLOOKUP(W358,COSTS_Grand_Warden[#All],3),\"/\")","v":"/"},0,0]
[27,{"$f":"IF(Paramètres!BE32=0,\"\",Paramètres!BE32)","v":""},0,"/",{"$f":"IF(G$331=\"Error\",\"Error\",IF(AND($E$331<>\"/\",$E$331>'Paramètres - Admin'!$A28),'Paramètres - Admin'!$A29,\"/\"))","v":"/"},{"$f":"IF(E359<>\"/\",VLOOKUP(E359,COSTS_Barbarian_King[#All],2),\"/\")","v":"/"},{"$f":"IF(E359<>\"/\",VLOOKUP(E359,COSTS_Barbarian_King[#All],3),\"/\")","v":"/"},0,0,27,{"$f":"IF(Paramètres!BF32=0,\"\",Paramètres!BF32)","v":""},0,"/",{"$f":"IF(P$331=\"Error\",\"Error\",IF(AND($N$331<>\"/\",$N$331>'Paramètres - Admin'!$A28),'Paramètres - Admin'!$A29,\"/\"))","v":"/"},{"$f":"IF(N359<>\"/\",VLOOKUP(N359,COSTS_Archer_Queen[#All],2),\"/\")","v":"/"},{"$f":"IF(N359<>\"/\",VLOOKUP(N359,COSTS_Archer_Queen[#All],3),\"/\")","v":"/"},0,0,27,{"$f":"IF(Paramètres!BG32=0,\"\",Paramètres!BG32)","v":""},0,"/",{"$f":"IF(Y$331=\"Error\",\"Error\",IF(AND($W$331<>\"/\",$W$331>'Paramètres - Admin'!$A28),'Paramètres - Admin'!$A29,\"/\"))","v":"/"},{"$f":"IF(W359<>\"/\",VLOOKUP(W359,COSTS_Grand_Warden[#All],2),\"/\")","v":"/"},{"$f":"IF(W359<>\"/\",VLOOKUP(W359,COSTS_Grand_Warden[#All],3),\"/\")","v":"/"},0,0]
[28,{"$f":"IF(Paramètres!BE33=0,\"\",Paramètres!BE33)","v":""},0,"/",{"$f":"IF(G$331=\"Error\",\"Error\",IF(AND($E$331<>\"/\",$E$331>'Paramètres - Admin'!$A29),'Paramètres - Admin'!$A30,\"/\"))","v":"/"},{"$f":"IF(E360<>\"/\",VLOOKUP(E360,COSTS_Barbarian_King[#All],2),\"/\")","v":"/"},{"$f":"IF(E360<>\"/\",VLOOKUP(E360,COSTS_Barbarian_King[#All],3),\"/\")","v":"/"},0,0,28,{"$f":"IF(Paramètres!BF33=0,\"\",Paramètres!BF33)","v":""},0,"/",{"$f":"IF(P$331=\"Error\",\"Error\",IF(AND($N$331<>\"/\",$N$331>'Paramètres - Admin'!$A29),'Paramètres - Admin'!$A30,\"/\"))","v":"/"},{"$f":"IF(N360<>\"/\",VLOOKUP(N360,COSTS_Archer_Queen[#All],2),\"/\")","v":"/"},{"$f":"IF(N360<>\"/\",VLOOKUP(N360,COSTS_Archer_Queen[#All],3),\"/\")","v":"/"},0,0,28,{"$f":"IF(Paramètres!BG33=0,\"\",Paramètres!BG33)","v":""},0,"/",{"$f":"IF(Y$331=\"Error\",\"Error\",IF(AND($W$331<>\"/\",$W$331>'Paramètres - Admin'!$A29),'Paramètres - Admin'!$A30,\"/\"))","v":"/"},{"$f":"IF(W360<>\"/\",VLOOKUP(W360,COSTS_Grand_Warden[#All],2),\"/\")","v":"/"},{"$f":"IF(W360<>\"/\",VLOOKUP(W360,COSTS_Grand_Warden[#All],3),\"/\")","v":"/"},0,0]
[29,{"$f":"IF(Paramètres!BE34=0,\"\",Paramètres!BE34)","v":""},0,"/",{"$f":"IF(G$331=\"Error\",\"Error\",IF(AND($E$331<>\"/\",$E$331>'Paramètres - Admin'!$A30),'Paramètres - Admin'!$A31,\"/\"))","v":"/"},{"$f":"IF(E361<>\"/\",VLOOKUP(E361,COSTS_Barbarian_King[#All],2),\"/\")","v":"/"},{"$f":"IF(E361<>\"/\",VLOOKUP(E361,COSTS_Barbarian_King[#All],3),\"/\")","v":"/"},0,0,29,{"$f":"IF(Paramètres!BF34=0,\"\",Paramètres!BF34)","v":""},0,"/",{"$f":"IF(P$331=\"Error\",\"Error\",IF(AND($N$331<>\"/\",$N$331>'Paramètres - Admin'!$A30),'Paramètres - Admin'!$A31,\"/\"))","v":"/"},{"$f":"IF(N361<>\"/\",VLOOKUP(N361,COSTS_Archer_Queen[#All],2),\"/\")","v":"/"},{"$f":"IF(N361<>\"/\",VLOOKUP(N361,COSTS_Archer_Queen[#All],3),\"/\")","v":"/"},0,0,29,{"$f":"IF(Paramètres!BG34=0,\"\",Paramètres!BG34)","v":""},0,"/",{"$f":"IF(Y$331=\"Error\",\"Error\",IF(AND($W$331<>\"/\",$W$331>'Paramètres - Admin'!$A30),'Paramètres - Admin'!$A31,\"/\"))","v":"/"},{"$f":"IF(W361<>\"/\",VLOOKUP(W361,COSTS_Grand_Warden[#All],2),\"/\")","v":"/"},{"$f":"IF(W361<>\"/\",VLOOKUP(W361,COSTS_Grand_Warden[#All],3),\"/\")","v":"/"},0,0]
[30,{"$f":"IF(Paramètres!BE35=0,\"\",Paramètres!BE35)","v":""},0,"/",{"$f":"IF(G$331=\"Error\",\"Error\",IF(AND($E$331<>\"/\",$E$331>'Paramètres - Admin'!$A31),'Paramètres - Admin'!$A32,\"/\"))","v":"/"},{"$f":"IF(E362<>\"/\",VLOOKUP(E362,COSTS_Barbarian_King[#All],2),\"/\")","v":"/"},{"$f":"IF(E362<>\"/\",VLOOKUP(E362,COSTS_Barbarian_King[#All],3),\"/\")","v":"/"},0,0,30,{"$f":"IF(Paramètres!BF35=0,\"\",Paramètres!BF35)","v":""},0,"/",{"$f":"IF(P$331=\"Error\",\"Error\",IF(AND($N$331<>\"/\",$N$331>'Paramètres - Admin'!$A31),'Paramètres - Admin'!$A32,\"/\"))","v":"/"},{"$f":"IF(N362<>\"/\",VLOOKUP(N362,COSTS_Archer_Queen[#All],2),\"/\")","v":"/"},{"$f":"IF(N362<>\"/\",VLOOKUP(N362,COSTS_Archer_Queen[#All],3),\"/\")","v":"/"},0,0,30,{"$f":"IF(Paramètres!BG35=0,\"\",Paramètres!BG35)","v":""},0,"/",{"$f":"IF(Y$331=\"Error\",\"Error\",IF(AND($W$331<>\"/\",$W$331>'Paramètres - Admin'!$A31),'Paramètres - Admin'!$A32,\"/\"))","v":"/"},{"$f":"IF(W362<>\"/\",VLOOKUP(W362,COSTS_Grand_Warden[#All],2),\"/\")","v":"/"},{"$f":"IF(W362<>\"/\",VLOOKUP(W362,COSTS_Grand_Warden[#All],3),\"/\")","v":"/"},0,0]
[31,{"$f":"IF(Paramètres!BE36=0,\"\",Paramètres!BE36)","v":""},0,"/",{"$f":"IF(G$331=\"Error\",\"Error\",IF(AND($E$331<>\"/\",$E$331>'Paramètres - Admin'!$A32),'Paramètres - Admin'!$A33,\"/\"))","v":"/"},{"$f":"IF(E363<>\"/\",VLOOKUP(E363,COSTS_Barbarian_King[#All],2),\"/\")","v":"/"},{"$f":"IF(E363<>\"/\",VLOOKUP(E363,COSTS_Barbarian_King[#All],3),\"/\")","v":"/"},0,0,31,{"$f":"IF(Paramètres!BF36=0,\"\",Paramètres!BF36)","v":""},0,"/",{"$f":"IF(P$331=\"Error\",\"Error\",IF(AND($N$331<>\"/\",$N$331>'Paramètres - Admin'!$A32),'Paramètres - Admin'!$A33,\"/\"))","v":"/"},{"$f":"IF(N363<>\"/\",VLOOKUP(N363,COSTS_Archer_Queen[#All],2),\"/\")","v":"/"},{"$f":"IF(N363<>\"/\",VLOOKUP(N363,COSTS_Archer_Queen[#All],3),\"/\")","v":"/"},0,0,31,{"$f":"IF(Paramètres!BG36=0,\"\",Paramètres!BG36)","v":""},0,"/",{"$f":"IF(Y$331=\"Error\",\"Error\",IF(AND($W$331<>\"/\",$W$331>'Paramètres - Admin'!$A32),'Paramètres - Admin'!$A33,\"/\"))","v":"/"},{"$f":"IF(W363<>\"/\",VLOOKUP(W363,COSTS_Grand_Warden[#All],2),\"/\")","v":"/"},{"$f":"IF(W363<>\"/\",VLOOKUP(W363,COSTS_Grand_Warden[#All],3),\"/\")","v":"/"},0,0]
[32,{"$f":"IF(Paramètres!BE37=0,\"\",Paramètres!BE37)","v":""},0,"/",{"$f":"IF(G$331=\"Error\",\"Error\",IF(AND($E$331<>\"/\",$E$331>'Paramètres - Admin'!$A33),'Paramètres - Admin'!$A34,\"/\"))","v":"/"},{"$f":"IF(E364<>\"/\",VLOOKUP(E364,COSTS_Barbarian_King[#All],2),\"/\")","v":"/"},{"$f":"IF(E364<>\"/\",VLOOKUP(E364,COSTS_Barbarian_King[#All],3),\"/\")","v":"/"},0,0,32,{"$f":"IF(Paramètres!BF37=0,\"\",Paramètres!BF37)","v":""},0,"/",{"$f":"IF(P$331=\"Error\",\"Error\",IF(AND($N$331<>\"/\",$N$331>'Paramètres - Admin'!$A33),'Paramètres - Admin'!$A34,\"/\"))","v":"/"},{"$f":"IF(N364<>\"/\",VLOOKUP(N364,COSTS_Archer_Queen[#All],2),\"/\")","v":"/"},{"$f":"IF(N364<>\"/\",VLOOKUP(N364,COSTS_Archer_Queen[#All],3),\"/\")","v":"/"},0,0,32,{"$f":"IF(Paramètres!BG37=0,\"\",Paramètres!BG37)","v":""},0,"/",{"$f":"IF(Y$331=\"Error\",\"Error\",IF(AND($W$331<>\"/\",$W$331>'Paramètres - Admin'!$A33),'Paramètres - Admin'!$A34,\"/\"))","v":"/"},{"$f":"IF(W364<>\"/\",VLOOKUP(W364,COSTS_Grand_Warden[#All],2),\"/\")","v":"/"},{"$f":"IF(W364<>\"/\",VLOOKUP(W364,COSTS_Grand_Warden[#All],3),\"/\")","v":"/"},0,0]
[33,{"$f":"IF(Paramètres!BE38=0,\"\",Paramètres!BE38)","v":""},0,"/",{"$f":"IF(G$331=\"Error\",\"Error\",IF(AND($E$331<>\"/\",$E$331>'Paramètres - Admin'!$A34),'Paramètres - Admin'!$A35,\"/\"))","v":"/"},{"$f":"IF(E365<>\"/\",VLOOKUP(E365,COSTS_Barbarian_King[#All],2),\"/\")","v":"/"},{"$f":"IF(E365<>\"/\",VLOOKUP(E365,COSTS_Barbarian_King[#All],3),\"/\")","v":"/"},0,0,33,{"$f":"IF(Paramètres!BF38=0,\"\",Paramètres!BF38)","v":""},0,"/",{"$f":"IF(P$331=\"Error\",\"Error\",IF(AND($N$331<>\"/\",$N$331>'Paramètres - Admin'!$A34),'Paramètres - Admin'!$A35,\"/\"))","v":"/"},{"$f":"IF(N365<>\"/\",VLOOKUP(N365,COSTS_Archer_Queen[#All],2),\"/\")","v":"/"},{"$f":"IF(N365<>\"/\",VLOOKUP(N365,COSTS_Archer_Queen[#All],3),\"/\")","v":"/"},0,0,33,{"$f":"IF(Paramètres!BG38=0,\"\",Paramètres!BG38)","v":""},0,"/",{"$f":"IF(Y$331=\"Error\",\"Error\",IF(AND($W$331<>\"/\",$W$331>'Paramètres - Admin'!$A34),'Paramètres - Admin'!$A35,\"/\"))","v":"/"},{"$f":"IF(W365<>\"/\",VLOOKUP(W365,COSTS_Grand_Warden[#All],2),\"/\")","v":"/"},{"$f":"IF(W365<>\"/\",VLOOKUP(W365,COSTS_Grand_Warden[#All],3),\"/\")","v":"/"},0,0]
[34,{"$f":"IF(Paramètres!BE39=0,\"\",Paramètres!BE39)","v":""},0,"/",{"$f":"IF(G$331=\"Error\",\"Error\",IF(AND($E$331<>\"/\",$E$331>'Paramètres - Admin'!$A35),'Paramètres - Admin'!$A36,\"/\"))","v":"/"},{"$f":"IF(E366<>\"/\",VLOOKUP(E366,COSTS_Barbarian_King[#All],2),\"/\")","v":"/"},{"$f":"IF(E366<>\"/\",VLOOKUP(E366,COSTS_Barbarian_King[#All],3),\"/\")","v":"/"},0,0,34,{"$f":"IF(Paramètres!BF39=0,\"\",Paramètres!BF39)","v":""},0,"/",{"$f":"IF(P$331=\"Error\",\"Error\",IF(AND($N$331<>\"/\",$N$331>'Paramètres - Admin'!$A35),'Paramètres - Admin'!$A36,\"/\"))","v":"/"},{"$f":"IF(N366<>\"/\",VLOOKUP(N366,COSTS_Archer_Queen[#All],2),\"/\")","v":"/"},{"$f":"IF(N366<>\"/\",VLOOKUP(N366,COSTS_Archer_Queen[#All],3),\"/\")","v":"/"},0,0,34,{"$f":"IF(Paramètres!BG39=0,\"\",Paramètres!BG39)","v":""},0,"/",{"$f":"IF(Y$331=\"Error\",\"Error\",IF(AND($W$331<>\"/\",$W$331>'Paramètres - Admin'!$A35),'Paramètres - Admin'!$A36,\"/\"))","v":"/"},{"$f":"IF(W366<>\"/\",VLOOKUP(W366,COSTS_Grand_Warden[#All],2),\"/\")","v":"/"},{"$f":"IF(W366<>\"/\",VLOOKUP(W366,COSTS_Grand_Warden[#All],3),\"/\")","v":"/"},0,0]
[35,{"$f":"IF(Paramètres!BE40=0,\"\",Paramètres!BE40)","v":""},0,"/",{"$f":"IF(G$331=\"Error\",\"Error\",IF(AND($E$331<>\"/\",$E$331>'Paramètres - Admin'!$A36),'Paramètres - Admin'!$A37,\"/\"))","v":"/"},{"$f":"IF(E367<>\"/\",VLOOKUP(E367,COSTS_Barbarian_King[#All],2),\"/\")","v":"/"},{"$f":"IF(E367<>\"/\",VLOOKUP(E367,COSTS_Barbarian_King[#All],3),\"/\")","v":"/"},0,0,35,{"$f":"IF(Paramètres!BF40=0,\"\",Paramètres!BF40)","v":""},0,"/",{"$f":"IF(P$331=\"Error\",\"Error\",IF(AND($N$331<>\"/\",$N$331>'Paramètres - Admin'!$A36),'Paramètres - Admin'!$A37,\"/\"))","v":"/"},{"$f":"IF(N367<>\"/\",VLOOKUP(N367,COSTS_Archer_Queen[#All],2),\"/\")","v":"/"},{"$f":"IF(N367<>\"/\",VLOOKUP(N367,COSTS_Archer_Queen[#All],3),\"/\")","v":"/"},0,0,35,{"$f":"IF(Paramètres!BG40=0,\"\",Paramètres!BG40)","v":""},0,"/",{"$f":"IF(Y$331=\"Error\",\"Error\",IF(AND($W$331<>\"/\",$W$331>'Paramètres - Admin'!$A36),'Paramètres - Admin'!$A37,\"/\"))","v":"/"},{"$f":"IF(W367<>\"/\",VLOOKUP(W367,COSTS_Grand_Warden[#All],2),\"/\")","v":"/"},{"$f":"IF(W367<>\"/\",VLOOKUP(W367,COSTS_Grand_Warden[#All],3),\"/\")","v":"/"},0,0]
[36,{"$f":"IF(Paramètres!BE41=0,\"\",Paramètres!BE41)","v":""},0,"/",{"$f":"IF(G$331=\"Error\",\"Error\",IF(AND($E$331<>\"/\",$E$331>'Paramètres - Admin'!$A37),'Paramètres - Admin'!$A38,\"/\"))","v":"/"},{"$f":"IF(E368<>\"/\",VLOOKUP(E368,COSTS_Barbarian_King[#All],2),\"/\")","v":"/"},{"$f":"IF(E368<>\"/\",VLOOKUP(E368,COSTS_Barbarian_King[#All],3),\"/\")","v":"/"},0,0,36,{"$f":"IF(Paramètres!BF41=0,\"\",Paramètres!BF41)","v":""},0,"/",{"$f":"IF(P$331=\"Error\",\"Error\",IF(AND($N$331<>\"/\",$N$331>'Paramètres - Admin'!$A37),'Paramètres - Admin'!$A38,\"/\"))","v":"/"},{"$f":"IF(N368<>\"/\",VLOOKUP(N368,COSTS_Archer_Queen[#All],2),\"/\")","v":"/"},{"$f":"IF(N368<>\"/\",VLOOKUP(N368,COSTS_Archer_Queen[#All],3),\"/\")","v":"/"},0,0,36,{"$f":"IF(Paramètres!BG41=0,\"\",Paramètres!BG41)","v":""},0,"/",{"$f":"IF(Y$331=\"Error\",\"Error\",IF(AND($W$331<>\"/\",$W$331>'Paramètres - Admin'!$A37),'Paramètres - Admin'!$A38,\"/\"))","v":"/"},{"$f":"IF(W368<>\"/\",VLOOKUP(W368,COSTS_Grand_Warden[#All],2),\"/\")","v":"/"},{"$f":"IF(W368<>\"/\",VLOOKUP(W368,COSTS_Grand_Warden[#All],3),\"/\")","v":"/"},0,0]
[37,{"$f":"IF(Paramètres!BE42=0,\"\",Paramètres!BE42)","v":""},0,"/",{"$f":"IF(G$331=\"Error\",\"Error\",IF(AND($E$331<>\"/\",$E$331>'Paramètres - Admin'!$A38),'Paramètres - Admin'!$A39,\"/\"))","v":"/"},{"$f":"IF(E369<>\"/\",VLOOKUP(E369,COSTS_Barbarian_King[#All],2),\"/\")","v":"/"},{"$f":"IF(E369<>\"/\",VLOOKUP(E369,COSTS_Barbarian_King[#All],3),\"/\")","v":"/"},0,0,37,{"$f":"IF(Paramètres!BF42=0,\"\",Paramètres!BF42)","v":""},0,"/",{"$f":"IF(P$331=\"Error\",\"Error\",IF(AND($N$331<>\"/\",$N$331>'Paramètres - Admin'!$A38),'Paramètres - Admin'!$A39,\"/\"))","v":"/"},{"$f":"IF(N369<>\"/\",VLOOKUP(N369,COSTS_Archer_Queen[#All],2),\"/\")","v":"/"},{"$f":"IF(N369<>\"/\",VLOOKUP(N369,COSTS_Archer_Queen[#All],3),\"/\")","v":"/"},0,0,37,{"$f":"IF(Paramètres!BG42=0,\"\",Paramètres!BG42)","v":""},0,"/",{"$f":"IF(Y$331=\"Error\",\"Error\",IF(AND($W$331<>\"/\",$W$331>'Paramètres - Admin'!$A38),'Paramètres - Admin'!$A39,\"/\"))","v":"/"},{"$f":"IF(W369<>\"/\",VLOOKUP(W369,COSTS_Grand_Warden[#All],2),\"/\")","v":"/"},{"$f":"IF(W369<>\"/\",VLOOKUP(W369,COSTS_Grand_Warden[#All],3),\"/\")","v":"/"},0,0]
[38,{"$f":"IF(Paramètres!BE43=0,\"\",Paramètres!BE43)","v":""},0,"/",{"$f":"IF(G$331=\"Error\",\"Error\",IF(AND($E$331<>\"/\",$E$331>'Paramètres - Admin'!$A39),'Paramètres - Admin'!$A40,\"/\"))","v":"/"},{"$f":"IF(E370<>\"/\",VLOOKUP(E370,COSTS_Barbarian_King[#All],2),\"/\")","v":"/"},{"$f":"IF(E370<>\"/\",VLOOKUP(E370,COSTS_Barbarian_King[#All],3),\"/\")","v":"/"},0,0,38,{"$f":"IF(Paramètres!BF43=0,\"\",Paramètres!BF43)","v":""},0,"/",{"$f":"IF(P$331=\"Error\",\"Error\",IF(AND($N$331<>\"/\",$N$331>'Paramètres - Admin'!$A39),'Paramètres - Admin'!$A40,\"/\"))","v":"/"},{"$f":"IF(N370<>\"/\",VLOOKUP(N370,COSTS_Archer_Queen[#All],2),\"/\")","v":"/"},{"$f":"IF(N370<>\"/\",VLOOKUP(N370,COSTS_Archer_Queen[#All],3),\"/\")","v":"/"},0,0,38,{"$f":"IF(Paramètres!BG43=0,\"\",Paramètres!BG43)","v":""},0,"/",{"$f":"IF(Y$331=\"Error\",\"Error\",IF(AND($W$331<>\"/\",$W$331>'Paramètres - Admin'!$A39),'Paramètres - Admin'!$A40,\"/\"))","v":"/"},{"$f":"IF(W370<>\"/\",VLOOKUP(W370,COSTS_Grand_Warden[#All],2),\"/\")","v":"/"},{"$f":"IF(W370<>\"/\",VLOOKUP(W370,COSTS_Grand_Warden[#All],3),\"/\")","v":"/"},0,0]
[39,{"$f":"IF(Paramètres!BE44=0,\"\",Paramètres!BE44)","v":""},0,"/",{"$f":"IF(G$331=\"Error\",\"Error\",IF(AND($E$331<>\"/\",$E$331>'Paramètres - Admin'!$A40),'Paramètres - Admin'!$A41,\"/\"))","v":"/"},{"$f":"IF(E371<>\"/\",VLOOKUP(E371,COSTS_Barbarian_King[#All],2),\"/\")","v":"/"},{"$f":"IF(E371<>\"/\",VLOOKUP(E371,COSTS_Barbarian_King[#All],3),\"/\")","v":"/"},0,0,39,{"$f":"IF(Paramètres!BF44=0,\"\",Paramètres!BF44)","v":""},0,"/",{"$f":"IF(P$331=\"Error\",\"Error\",IF(AND($N$331<>\"/\",$N$331>'Paramètres - Admin'!$A40),'Paramètres - Admin'!$A41,\"/\"))","v":"/"},{"$f":"IF(N371<>\"/\",VLOOKUP(N371,COSTS_Archer_Queen[#All],2),\"/\")","v":"/"},{"$f":"IF(N371<>\"/\",VLOOKUP(N371,COSTS_Archer_Queen[#All],3),\"/\")","v":"/"},0,0,39,{"$f":"IF(Paramètres!BG44=0,\"\",Paramètres!BG44)","v":""},0,"/",{"$f":"IF(Y$331=\"Error\",\"Error\",IF(AND($W$331<>\"/\",$W$331>'Paramètres - Admin'!$A40),'Paramètres - Admin'!$A41,\"/\"))","v":"/"},{"$f":"IF(W371<>\"/\",VLOOKUP(W371,COSTS_Grand_Warden[#All],2),\"/\")","v":"/"},{"$f":"IF(W371<>\"/\",VLOOKUP(W371,COSTS_Grand_Warden[#All],3),\"/\")","v":"/"},0,0]
[40,{"$f":"IF(Paramètres!BE45=0,\"\",Paramètres!BE45)","v":""},0,"/",{"$f":"IF(G$331=\"Error\",\"Error\",IF(AND($E$331<>\"/\",$E$331>'Paramètres - Admin'!$A41),'Paramètres - Admin'!$A42,\"/\"))","v":"/"},{"$f":"IF(E372<>\"/\",VLOOKUP(E372,COSTS_Barbarian_King[#All],2),\"/\")","v":"/"},{"$f":"IF(E372<>\"/\",VLOOKUP(E372,COSTS_Barbarian_King[#All],3),\"/\")","v":"/"},0,0,40,{"$f":"IF(Paramètres!BF45=0,\"\",Paramètres!BF45)","v":""},0,"/",{"$f":"IF(P$331=\"Error\",\"Error\",IF(AND($N$331<>\"/\",$N$331>'Paramètres - Admin'!$A41),'Paramètres - Admin'!$A42,\"/\"))","v":"/"},{"$f":"IF(N372<>\"/\",VLOOKUP(N372,COSTS_Archer_Queen[#All],2),\"/\")","v":"/"},{"$f":"IF(N372<>\"/\",VLOOKUP(N372,COSTS_Archer_Queen[#All],3),\"/\")","v":"/"},0,0,40,{"$f":"IF(Paramètres!BG45=0,\"\",Paramètres!BG45)","v":""},0,"/",{"$f":"IF(Y$331=\"Error\",\"Error\",IF(AND($W$331<>\"/\",$W$331>'Paramètres - Admin'!$A41),'Paramètres - Admin'!$A42,\"/\"))","v":"/"},{"$f":"IF(W372<>\"/\",VLOOKUP(W372,COSTS_Grand_Warden[#All],2),\"/\")","v":"/"},{"$f":"IF(W372<>\"/\",VLOOKUP(W372,COSTS_Grand_Warden[#All],3),\"/\")","v":"/"},0,0]
[null,null,null,null,null,null,"Total",{"$f":"IF(G$331=\"Error\",\"Error\",SUM(H333:H372))","v":0},{"$f":"IF(G$331=\"Error\",\"Error\",SUM(I333:I372))","v":0},null,null,null,null,null,null,"Total",{"$f":"IF(P$331=\"Error\",\"Error\",SUM(Q333:Q372))","v":0},{"$f":"IF(P$331=\"Error\",\"Error\",SUM(R333:R372))","v":0},null,null,null,null,null,null,"Total",{"$f":"IF(Y$331=\"Error\",\"Error\",SUM(Z333:Z372))","v":0},{"$f":"IF(Y$331=\"Error\",\"Error\",SUM(AA333:AA372))","v":0}]

{"sheet":"Production","index":4,"n_rows":20,"n_cols":5,"rows_kept":20,"cut":false,"hidden":true,"merged":[[2,0,2,3]]}
["LVL HdV","Période","Or Total :","Élixir Total :","Élixir Noir Total :"]
[{"$f":"Paramètres!$BI$2","v":1},"2 jours",{"$f":"'À Faire - Récapitulatif'!H2","v":"4 250"},{"$f":"'À Faire - Récapitulatif'!K2","v":"4 700"},{"$f":"'À Faire - Récapitulatif'!M2","v":"0"}]
["Production"]
["Type","Mine d'Or","Extracteur d'Élixir","Foreuse d'Élixir Noir"]
["Max +",{"$f":"VLOOKUP($A$2,AVAILABLE_Buildings_Resource[#All],MATCH(B$4,AVAILABLE_Buildings_Resource[#Headers],0)+1)","v":2},{"$f":"VLOOKUP($A$2,AVAILABLE_Buildings_Resource[#All],MATCH(C$4,AVAILABLE_Buildings_Resource[#Headers],0)+1)","v":2},{"$f":"VLOOKUP($A$2,AVAILABLE_Buildings_Resource[#All],MATCH(D$4,AVAILABLE_Buildings_Resource[#Headers],0)+1)","v":0}]
[1,{"$f":"Paramètres!B6","v":0},{"$f":"Paramètres!C6","v":0},{"$f":"Paramètres!D6","v":0}]
[2,{"$f":"Paramètres!B7","v":0},{"$f":"Paramètres!C7","v":0},{"$f":"Paramètres!D7","v":0}]
[3,{"$f":"Paramètres!B8","v":0},{"$f":"Paramètres!C8","v":0},{"$f":"Paramètres!D8","v":0}]
[4,{"$f":"Paramètres!B9","v":0},{"$f":"Paramètres!C9","v":0},{"$f":"Paramètres!D9","v":0}]
[5,{"$f":"Paramètres!B10","v":0},{"$f":"Paramètres!C10","v":0},{"$f":"Paramètres!D10","v":0}]
[6,{"$f":"Paramètres!B11","v":0},{"$f":"Paramètres!C11","v":0},{"$f":"Paramètres!D11","v":0}]
[7,{"$f":"Paramètres!B12","v":0},{"$f":"Paramètres!C12","v":0},{"$f":"Paramètres!D12","v":0}]
[8,{"$f":"Paramètres!B13","v":0},{"$f":"Paramètres!C13","v":0},{"$f":"Paramètres!D13","v":0}]
[9,{"$f":"Paramètres!B14","v":0},{"$f":"Paramètres!C14","v":0},{"$f":"Paramètres!D14","v":0}]
[10,{"$f":"Paramètres!B15","v":0},{"$f":"Paramètres!C15","v":0},{"$f":"Paramètres!D15","v":0}]
[11,{"$f":"Paramètres!B16","v":0},{"$f":"Paramètres!C16","v":0},{"$f":"Paramètres!D16","v":0}]
[12,{"$f":"Paramètres!B17","v":0},{"$f":"Paramètres!C17","v":0},{"$f":"Paramètres!D17","v":0}]
["Production / heure",{"$f":"SUMPRODUCT(B6:B17,EARNINGS_Gold_Mine[Production])","v":0},{"$f":"SUMPRODUCT(C6:C17,EARNINGS_Elixir_Collector[Production])","v":0},{"$f":"SUMPRODUCT(D6:D11,EARNINGS_Dark_Elixir_Drill[Production])","v":0}]
["Production / période",{"$f":"IF($B$2='Paramètres - Admin'!$E$2,B18,IF($B$2='Paramètres - Admin'!$E$3,B18*2,IF($B$2='Paramètres - Admin'!$E$4,B18*4,IF($B$2='Paramètres - Admin'!$E$5,B18*8,IF($B$2='Paramètres - Admin'!$E$6,B18*12,IF($B$2='Paramètres - Admin'!$E$7,B18*16,IF($B$2='Paramètres - Admin'!$E$8,B18*24,IF($B$2='Paramètres - Admin'!$E$9,B18*48,IF($B$2='Paramètres - Admin'!$E$10,B18*72,IF($B$2='Paramètres - Admin'!$E$11,B18*168,IF($B$2='Paramètres - Admin'!$E$12,B18*720)))))))))))","v":0},{"$f":"IF($B$2='Paramètres - Admin'!$E$2,C18,IF($B$2='Paramètres - Admin'!$E$3,C18*2,IF($B$2='Paramètres - Admin'!$E$4,C18*4,IF($B$2='Paramètres - Admin'!$E$5,C18*8,IF($B$2='Paramètres - Admin'!$E$6,C18*12,IF($B$2='Paramètres - Admin'!$E$7,C18*16,IF($B$2='Paramètres - Admin'!$E$8,C18*24,IF($B$2='Paramètres - Admin'!$E$9,C18*48,IF($B$2='Paramètres - Admin'!$E$10,C18*72,IF($B$2='Paramètres - Admin'!$E$11,C18*168,IF($B$2='Paramètres - Admin'!$E$12,C18*720)))))))))))","v":0},{"$f":"IF($B$2='Paramètres - Admin'!$E$2,D18,IF($B$2='Paramètres - Admin'!$E$3,D18*2,IF($B$2='Paramètres - Admin'!$E$4,D18*4,IF($B$2='Paramètres - Admin'!$E$5,D18*8,IF($B$2='Paramètres - Admin'!$E$6,D18*12,IF($B$2='Paramètres - Admin'!$E$7,D18*16,IF($B$2='Paramètres - Admin'!$E$8,D18*24,IF($B$2='Paramètres - Admin'!$E$9,D18*48,IF($B$2='Paramètres - Admin'!$E$10,D18*72,IF($B$2='Paramètres - Admin'!$E$11,D18*168,IF($B$2='Paramètres - Admin'!$E$12,D18*720)))))))))))","v":0}]
["Temps pour obtenir besoins",{"$f":"IF(B$18<>0,IF($B$2='Paramètres - Admin'!$B$2,TEXT((('À Faire - Récapitulatif'!D8+'À Faire - Récapitulatif'!D11+'À Faire - Récapitulatif'!D28+'À Faire - Récapitulatif'!P27)/B$18)*60*60,\"# 0\")&\" \" & 'Paramètres - Admin'!$B$2,IF($B$2='Paramètres - Admin'!$B$3,TEXT((('À Faire - Récapitulatif'!D8+'À Faire - Récapitulatif'!D11+'À Faire - Récapitulatif'!D28+'À Faire - Récapitulatif'!P27)/B$18)*60,\"# 0\")&\" \" & 'Paramètres - Admin'!$B$3,IF($B$2='Paramètres - Admin'!$B$4,TEXT((('À Faire - Récapitulatif'!D8+'À Faire - Récapitulatif'!D11+'À Faire - Récapitulatif'!D28+'À Faire - Récapitulatif'!P27)/B$18),\"# 0,00\")&\" \" & 'Paramètres - Admin'!$B$4,IF($B$2='Paramètres - Admin'!$B$5,TEXT((('À Faire - Récapitulatif'!D8+'À Faire - Récapitulatif'!D11+'À Faire - Récapitulatif'!D28+'À Faire - Récapitulatif'!P27)/B$18)/24,\"# 0,00\")&\" \" & 'Paramètres - Admin'!$B$5,IF($B$2='Paramètres - Admin'!$B$6,TEXT(((('À Faire - Récapitulatif'!D8+'À Faire - Récapitulatif'!D11+'À Faire - Récapitulatif'!D28+'À Faire - Récapitulatif'!P27)/B$18)/24)/30,\"# 0,00\")&\" \" & 'Paramètres - Admin'!$B$6,IF((('À Faire - Récapitulatif'!D8+'À Faire - Récapitulatif'!D11+'À Faire - Récapitulatif'!D28+'À Faire - Récapitulatif'!P27)/B$18)/24>=1,INT((('À Faire - Récapitulatif'!D8+'À Faire - Récapitulatif'!D11+'À Faire - Récapitulatif'!D28+'À Faire - Récapitulatif'!P27)/B$18)/24)&\" \" &  'Paramètres - Admin'!$D$4 & \" \" & HOUR((('À Faire - Récapitulatif'!D8+'À Faire - Récapitulatif'!D11+'À Faire - Récapitulatif'!D28+'À Faire - Récapitulatif'!P27)/B$18)/24-INT((('À Faire - Récapitulatif'!D8+'À Faire - Récapitulatif'!D11+'À Faire - Récapitulatif'!D28+'À Faire - Récapitulatif'!P27)/B$18)/24))&\" \" &  'Paramètres - Admin'!$D$3 & \" \" & MINUTE((('À Faire - Récapitulatif'!D8+'À Faire - Récapitulatif'!D11+'À Faire - Récapitulatif'!D28+'À Faire - Récapitulatif'!P27)/B$18)/24-INT((('À Faire - Récapitulatif'!D8+'À Faire - Récapitulatif'!D11+'À Faire - Récapitulatif'!D28+'À Faire - Récapitulatif'!P27)/B$18)/24))&\" \" &  'Paramètres - Admin'!$D$2,HOUR((('À Faire - Récapitulatif'!D8+'À Faire - Récapitulatif'!D11+'À Faire - Récapitulatif'!D28+'À Faire - Récapitulatif'!P27)/B$18)/24-INT((('À Faire - Récapitulatif'!D8+'À Faire - Récapitulatif'!D11+'À Faire - Récapitulatif'!D28+'À Faire - Récapitulatif'!P27)/B$18)/24))&\" \" &  'Paramètres - Admin'!$D$3 & \" \" & MINUTE((('À Faire - Récapitulatif'!D8+'À Faire - Récapitulatif'!D11+'À Faire - Récapitulatif'!D28+'À Faire - Récapitulatif'!P27)/B$18)/24-INT((('À Faire - Récapitulatif'!D8+'À Faire - Récapitulatif'!D11+'À Faire - Récapitulatif'!D28+'À Faire - Récapitulatif'!P27)/B$18)/24))&\" \" &  'Paramètres - Admin'!$D$2)))))),0)","v":0},{"$f":"IF(C$18<>0,IF($B$2='Paramètres - Admin'!$B$2,TEXT((('À Faire - Récapitulatif'!D7+'À Faire - Récapitulatif'!D9+'À Faire - Récapitulatif'!D10+'À Faire - Récapitulatif'!D12+'À Faire - Récapitulatif'!J13+'À Faire - Récapitulatif'!P22+'À Faire - Récapitulatif'!J27)/C$18)*60*60,\"# 0\")&\" \" & 'Paramètres - Admin'!$B$2,IF($B$2='Paramètres - Admin'!$B$3,TEXT((('À Faire - Récapitulatif'!D7+'À Faire - Récapitulatif'!D9+'À Faire - Récapitulatif'!D10+'À Faire - Récapitulatif'!D12+'À Faire - Récapitulatif'!J13+'À Faire - Récapitulatif'!P22+'À Faire - Récapitulatif'!J27)/C$18)*60,\"# 0\")&\" \" & 'Paramètres - Admin'!$B$3,IF($B$2='Paramètres - Admin'!$B$4,TEXT((('À Faire - Récapitulatif'!D7+'À Faire - Récapitulatif'!D9+'À Faire - Récapitulatif'!D10+'À Faire - Récapitulatif'!D12+'À Faire - Récapitulatif'!J13+'À Faire - Récapitulatif'!P22+'À Faire - Récapitulatif'!J27)/C$18),\"# 0,00\")&\" \" & 'Paramètres - Admin'!$B$4,IF($B$2='Paramètres - Admin'!$B$5,TEXT((('À Faire - Récapitulatif'!D7+'À Faire - Récapitulatif'!D9+'À Faire - Récapitulatif'!D10+'À Faire - Récapitulatif'!D12+'À Faire - Récapitulatif'!J13+'À Faire - Récapitulatif'!P22+'À Faire - Récapitulatif'!J27)/C$18)/24,\"# 0,00\")&\" \" & 'Paramètres - Admin'!$B$5,IF($B$2='Paramètres - Admin'!$B$6,TEXT(((('À Faire - Récapitulatif'!D7+'À Faire - Récapitulatif'!D9+'À Faire - Récapitulatif'!D10+'À Faire - Récapitulatif'!D12+'À Faire - Récapitulatif'!J13+'À Faire - Récapitulatif'!P22+'À Faire - Récapitulatif'!J27)/C$18)/24)/30,\"# 0,00\")&\" \" & 'Paramètres - Admin'!$B$6,IF((('À Faire - Récapitulatif'!D7+'À Faire - Récapitulatif'!D9+'À Faire - Récapitulatif'!D10+'À Faire - Récapitulatif'!D12+'À Faire - Récapitulatif'!J13+'À Faire - Récapitulatif'!P22+'À Faire - Récapitulatif'!J27)/C$18)/24>=1,INT((('À Faire - Récapitulatif'!D7+'À Faire - Récapitulatif'!D9+'À Faire - Récapitulatif'!D10+'À Faire - Récapitulatif'!D12+'À Faire - Récapitulatif'!J13+'À Faire - Récapitulatif'!P22+'À Faire - Récapitulatif'!J27)/C$18)/24)&\" \" &  'Paramètres - Admin'!$D$4 & \" \" & HOUR((('À Faire - Récapitulatif'!D7+'À Faire - Récapitulatif'!D9+'À Faire - Récapitulatif'!D10+'À Faire - Récapitulatif'!D12+'À Faire - Récapitulatif'!J13+'À Faire - Récapitulatif'!P22+'À Faire - Récapitulatif'!J27)/C$18)/24-INT((('À Faire - Récapitulatif'!D7+'À Faire - Récapitulatif'!D9+'À Faire - Récapitulatif'!D10+'À Faire - Récapitulatif'!D12+'À Faire - Récapitulatif'!J13+'À Faire - Récapitulatif'!P22+'À Faire - Récapitulatif'!J27)/C$18)/24))&\" \" &  'Paramètres - Admin'!$D$3 & \" \" & MINUTE((('À Faire - Récapitulatif'!D7+'À Faire - Récapitulatif'!D9+'À Faire - Récapitulatif'!D10+'À Faire - Récapitulatif'!D12+'À Faire - Récapitulatif'!J13+'À Faire - Récapitulatif'!P22+'À Faire - Récapitulatif'!J27)/C$18)/24-INT((('À Faire - Récapitulatif'!D7+'À Faire - Récapitulatif'!D9+'À Faire - Récapitulatif'!D10+'À Faire - Récapitulatif'!D12+'À Faire - Récapitulatif'!J13+'À Faire - Récapitulatif'!P22+'À Faire - Récapitulatif'!J27)/C$18)/24))&\" \" &  'Paramètres - Admin'!$D$2,HOUR((('À Faire - Récapitulatif'!D7+'À Faire - Récapitulatif'!D9+'À Faire - Récapitulatif'!D10+'À Faire - Récapitulatif'!D12+'À Faire - Récapitulatif'!J13+'À Faire - Récapitulatif'!P22+'À Faire - Récapitulatif'!J27)/C$18)/24-INT((('À Faire - Récapitulatif'!D7+'À Faire - Récapitulatif'!D9+'À Faire - Récapitulatif'!D10+'À Faire - Récapitulatif'!D12+'À Faire - Récapitulatif'!J13+'À Faire - Récapitulatif'!P22+'À Faire - Récapitulatif'!J27)/C$18)/24))&\" \" &  'Paramètres - Admin'!$D$3 & \" \" & MINUTE((('À Faire - Récapitulatif'!D7+'À Faire - Récapitulatif'!D9+'À Faire - Récapitulatif'!D10+'À Faire - Récapitulatif'!D12+'À Faire - Récapitulatif'!J13+'À Faire - Récapitulatif'!P22+'À Faire - Récapitulatif'!J27)/C$18)/24-INT((('À Faire - Récapitulatif'!D7+'À Faire - Récapitulatif'!D9+'À Faire - Récapitulatif'!D10+'À Faire - Récapitulatif'!D12+'À Faire - Récapitulatif'!J13+'À Faire - Récapitulatif'!P22+'À Faire - Récapitulatif'!J27)/C$18)/24))&\" \" &  'Paramètres - Admin'!$D$2)))))),0)","v":0},{"$f":"IF(D$18<>0,IF($B$2='Paramètres - Admin'!$B$2,TEXT((('À Faire - Récapitulatif'!V13+'À Faire - Récapitulatif'!V27)/D$18)*60*60,\"# 0\")&\" \" & 'Paramètres - Admin'!$B$2,IF($B$2='Paramètres - Admin'!$B$3,TEXT((('À Faire - Récapitulatif'!V13+'À Faire - Récapitulatif'!V27)/D$18)*60,\"# 0\")&\" \" & 'Paramètres - Admin'!$B$3,IF($B$2='Paramètres - Admin'!$B$4,TEXT((('À Faire - Récapitulatif'!V13+'À Faire - Récapitulatif'!V27)/D$18),\"# 0,00\")&\" \" & 'Paramètres - Admin'!$B$4,IF($B$2='Paramètres - Admin'!$B$5,TEXT((('À Faire - Récapitulatif'!V13+'À Faire - Récapitulatif'!V27)/D$18)/24,\"# 0,00\")&\" \" & 'Paramètres - Admin'!$B$5,IF($B$2='Paramètres - Admin'!$B$6,TEXT(((('À Faire - Récapitulatif'!V13+'À Faire - Récapitulatif'!V27)/D$18)/24)/30,\"# 0,00\")&\" \" & 'Paramètres - Admin'!$B$6,IF((('À Faire - Récapitulatif'!V13+'À Faire - Récapitulatif'!V27)/D$18)/24>=1,INT((('À Faire - Récapitulatif'!V13+'À Faire - Récapitulatif'!V27)/D$18)/24)&\" \" &  'Paramètres - Admin'!$D$4 & \" \" & HOUR((('À Faire - Récapitulatif'!V13+'À Faire - Récapitulatif'!V27)/D$18)/24-INT((('À Faire - Récapitulatif'!V13+'À Faire - Récapitulatif'!V27)/D$18)/24))&\" \" &  'Paramètres - Admin'!$D$3 & \" \" & MINUTE((('À Faire - Récapitulatif'!V13+'À Faire - Récapitulatif'!V27)/D$18)/24-INT((('À Faire - Récapitulatif'!V13+'À Faire - Récapitulatif'!V27)/D$18)/24))&\" \" &  'Paramètres - Admin'!$D$2,HOUR((('À Faire - Récapitulatif'!V13+'À Faire - Récapitulatif'!V27)/D$18)/24-INT((('À Faire - Récapitulatif'!V13+'À Faire - Récapitulatif'!V27)/D$18)/24))&\" \" &  'Paramètres - Admin'!$D$3 & \" \" & MINUTE((('À Faire - Récapitulatif'!V13+'À Faire - Récapitulatif'!V27)/D$18)/24-INT((('À Faire - Récapitulatif'!V13+'À Faire - Récapitulatif'!V27)/D$18)/24))&\" \" &  'Paramètres - Admin'!$D$2)))))),0)","v":0}]

{"sheet":"Rentabilité","index":5,"n_rows":33,"n_cols":14,"rows_kept":33,"cut":false,"hidden":false,"merged":[[0,1,0,2],[1,1,1,2],[19,0,19,5],[2,8,2,13],[2,0,2,4],[3,1,3,2],[15,1,15,2],[15,3,15,5],[8,0,8,2],[9,1,9,2],[10,1,10,2],[4,1,4,2],[4,3,4,4],[5,1,5,2],[5,3,5,4],[6,1,6,2],[32,1,32,2],[31,1,31,2],[28,9,28,10],[6,3,6,4],[15,9,15,10],[30,1,30,2],[14,1,14,2],[11,1,11,2],[12,1,12,2],[14,3,14,5],[29,9,29,10],[14,9,14,10],[16,9,16,10],[20,8,20,13],[29,1,29,2]]}
["LVL HdV","Trophées",null,null,null,null,null,null,"NB\nCaserne"]
[{"$f":"Paramètres!$BI$2","v":1},{"$f":"Paramètres!BL2","v":100},null,null,null,null,null,null,{"$f":"Paramètres!H46","v":0}]
["Combat - Gains",null,null,null,null,null,null,null,"Formation de Troupes Normales"]
["Type","Montant",null,"Bonus","Non",null,null,null,null,"Max +","Actuel +","Espace","Coût","Caserne"]
["Or",null,null,{"$f":"IF($E$4=\"Oui\",VLOOKUP(1,LEAGUES_Bonus[#All],3),0)-VLOOKUP(1,LEAGUES_Find[#All],2)","v":-10},null,null,null,null,"Barbare",{"$f":"VLOOKUP($A$2,AVAILABLE_Upgrades_Normal_Troops[#All],MATCH($I5,AVAILABLE_Upgrades_Normal_Troops[#Headers],0)+1)","v":0},{"$f":"IF(ISERROR(MATCH(1,Paramètres!AO$6:AO$45,0)),0,MATCH(1,Paramètres!AO$6:AO$45,0))","v":0},{"$f":"IF($K5<>0,VLOOKUP($K5,TRAINING_Barbarian[#All],2),0)","v":0},{"$f":"IF($K5<>0,VLOOKUP($K5,TRAINING_Barbarian[#All],3),0)","v":0},10]
["Élixir",null,null,{"$f":"IF($E$4=\"Oui\",VLOOKUP(1,LEAGUES_Bonus[#All],4),0)","v":0},null,null,null,null,"Archer",{"$f":"VLOOKUP($A$2,AVAILABLE_Upgrades_Normal_Troops[#All],MATCH($I6,AVAILABLE_Upgrades_Normal_Troops[#Headers],0)+1)","v":0},{"$f":"IF(ISERROR(MATCH(1,Paramètres!AP$6:AP$45,0)),0,MATCH(1,Paramètres!AP$6:AP$45,0))","v":0},{"$f":"IF($K6<>0,VLOOKUP($K6,TRAINING_Archer[#All],2),0)","v":0},{"$f":"IF($K6<>0,VLOOKUP($K6,TRAINING_Archer[#All],3),0)","v":0}]
["Élixir Noir",null,null,{"$f":"IF($E$4=\"Oui\",VLOOKUP(1,LEAGUES_Bonus[#All],5),0)","v":0},null,null,null,null,"Gobelin",{"$f":"VLOOKUP($A$2,AVAILABLE_Upgrades_Normal_Troops[#All],MATCH($I7,AVAILABLE_Upgrades_Normal_Troops[#Headers],0)+1)","v":0},{"$f":"IF(ISERROR(MATCH(1,Paramètres!AQ$6:AQ$45,0)),0,MATCH(1,Paramètres!AQ$6:AQ$45,0))","v":0},{"$f":"IF($K7<>0,VLOOKUP($K7,TRAINING_Goblin[#All],2),0)","v":0},{"$f":"IF($K7<>0,VLOOKUP($K7,TRAINING_Goblin[#All],3),0)","v":0}]
[null,null,null,null,null,null,null,null,"Géant",{"$f":"VLOOKUP($A$2,AVAILABLE_Upgrades_Normal_Troops[#All],MATCH($I8,AVAILABLE_Upgrades_Normal_Troops[#Headers],0)+1)","v":0},{"$f":"IF(ISERROR(MATCH(1,Paramètres!AR$6:AR$45,0)),0,MATCH(1,Paramètres!AR$6:AR$45,0))","v":0},{"$f":"IF($K8<>0,VLOOKUP($K8,TRAINING_Giant[#All],2),0)","v":0},{"$f":"IF($K8<>0,VLOOKUP($K8,TRAINING_Giant[#All],3),0)","v":0}]
["Combat - Profits",null,null,null,null,null,null,null,"Sapeur",{"$f":"VLOOKUP($A$2,AVAILABLE_Upgrades_Normal_Troops[#All],MATCH($I9,AVAILABLE_Upgrades_Normal_Troops[#Headers],0)+1)","v":0},{"$f":"IF(ISERROR(MATCH(1,Paramètres!AS$6:AS$45,0)),0,MATCH(1,Paramètres!AS$6:AS$45,0))","v":0},{"$f":"IF($K9<>0,VLOOKUP($K9,TRAINING_Wall_Breaker[#All],2),0)","v":0},{"$f":"IF($K9<>0,VLOOKUP($K9,TRAINING_Wall_Breaker[#All],3),0)","v":0}]
["Type","Montant",null,null,null,null,null,null,"Ballon",{"$f":"VLOOKUP($A$2,AVAILABLE_Upgrades_Normal_Troops[#All],MATCH($I10,AVAILABLE_Upgrades_Normal_Troops[#Headers],0)+1)","v":0},{"$f":"IF(ISERROR(MATCH(1,Paramètres!AT$6:AT$45,0)),0,MATCH(1,Paramètres!AT$6:AT$45,0))","v":0},{"$f":"IF($K10<>0,VLOOKUP($K10,TRAINING_Balloon[#All],2),0)","v":0},{"$f":"IF($K10<>0,VLOOKUP($K10,TRAINING_Balloon[#All],3),0)","v":0}]
["Or",{"$f":"B5+D5","v":-10},null,null,null,null,null,null,"Sorcier",{"$f":"VLOOKUP($A$2,AVAILABLE_Upgrades_Normal_Troops[#All],MATCH($I11,AVAILABLE_Upgrades_Normal_Troops[#Headers],0)+1)","v":0},{"$f":"IF(ISERROR(MATCH(1,Paramètres!AU$6:AU$45,0)),0,MATCH(1,Paramètres!AU$6:AU$45,0))","v":0},{"$f":"IF($K11<>0,VLOOKUP($K11,TRAINING_Wizard[#All],2),0)","v":0},{"$f":"IF($K11<>0,VLOOKUP($K11,TRAINING_Wizard[#All],3),0)","v":0}]
["Élixir",{"$f":"(B6+D6)-(F32+N17)","v":0},null,null,null,null,null,null,"Guérisseuse",{"$f":"VLOOKUP($A$2,AVAILABLE_Upgrades_Normal_Troops[#All],MATCH($I12,AVAILABLE_Upgrades_Normal_Troops[#Headers],0)+1)","v":0},{"$f":"IF(ISERROR(MATCH(1,Paramètres!AV$6:AV$45,0)),0,MATCH(1,Paramètres!AV$6:AV$45,0))","v":0},{"$f":"IF($K12<>0,VLOOKUP($K12,TRAINING_Healer[#All],2),0)","v":0},{"$f":"IF($K12<>0,VLOOKUP($K12,TRAINING_Healer[#All],3),0)","v":0}]
["Élixir Noir",{"$f":"B7+D7-(F33+N30)","v":0},null,null,null,null,null,null,"Dragon",{"$f":"VLOOKUP($A$2,AVAILABLE_Upgrades_Normal_Troops[#All],MATCH($I13,AVAILABLE_Upgrades_Normal_Troops[#Headers],0)+1)","v":0},{"$f":"IF(ISERROR(MATCH(1,Paramètres!AW$6:AW$45,0)),0,MATCH(1,Paramètres!AW$6:AW$45,0))","v":0},{"$f":"IF($K13<>0,VLOOKUP($K13,TRAINING_Dragon[#All],2),0)","v":0},{"$f":"IF($K13<>0,VLOOKUP($K13,TRAINING_Dragon[#All],3),0)","v":0}]
[null,null,null,null,null,null,null,null,"P.E.K.K.A",{"$f":"VLOOKUP($A$2,AVAILABLE_Upgrades_Normal_Troops[#All],MATCH($I14,AVAILABLE_Upgrades_Normal_Troops[#Headers],0)+1)","v":0},{"$f":"IF(ISERROR(MATCH(1,Paramètres!AX$6:AX$45,0)),0,MATCH(1,Paramètres!AX$6:AX$45,0))","v":0},{"$f":"IF($K14<>0,VLOOKUP($K14,TRAINING_PEKKA[#All],2),0)","v":0},{"$f":"IF($K14<>0,VLOOKUP($K14,TRAINING_PEKKA[#All],3),0)","v":0}]
[null,"Cellule rouge :",null,"Troupe/Sort non disponible",null,null,null,null,null,"Espace Total",null,null,null,{"$f":"SUMPRODUCT(N$5:N$14,$L$5:$L$14)","v":0}]
[null,"Ligne jaune :",null,"Max. total atteint - Camp Militaire - Sorts",null,null,null,null,null,"Camp Militaire",null,null,null,{"$f":"SUMPRODUCT(Paramètres!J6:J13,'Coûts de Formation'!AH31:AH38)","v":0}]
[null,null,null,null,null,null,null,null,null,"Coût Total",null,null,null,{"$f":"SUMPRODUCT(N$5:N$14,$M$5:$M$14)","v":0}]
["LVL Usine de Sorts",{"$f":"IF(ISERROR(MATCH(1,Paramètres!L$6:L$45,0)),0,MATCH(1,Paramètres!L$6:L$45,0))","v":0}]
["LVL Usine de Sorts Noirs",{"$f":"IF(ISERROR(MATCH(1,Paramètres!M$6:M$45,0)),0,MATCH(1,Paramètres!M$6:M$45,0))","v":0},null,null,null,null,null,null,"NB\nCaserne Noire"]
["Création de Sorts",null,null,null,null,null,null,null,{"$f":"Paramètres!I46","v":0}]
[null,"Max +","Actuel +","Espace","Coût","Laboratoire",null,null,"Formation de Troupes Noires"]
["Sort de Foudre",{"$f":"VLOOKUP($A$2,AVAILABLE_Upgrades_Spells[#All],MATCH($A22,AVAILABLE_Upgrades_Spells[#Headers],0)+1)","v":0},{"$f":"IF(ISERROR(MATCH(1,Paramètres!AG$6:AG$45,0)),0,MATCH(1,Paramètres!AG$6:AG$45,0))","v":0},{"$f":"IF($C22<>0,VLOOKUP($C22,TRAINING_Spell_Lightning[#All],2),0)","v":0},{"$f":"IF($C22<>0,VLOOKUP($C22,TRAINING_Spell_Lightning[#All],3),0)","v":0},null,null,null,null,"Max +","Actuel +","Espace","Coût","Caserne Noire"]
["Sort de Guérison",{"$f":"VLOOKUP($A$2,AVAILABLE_Upgrades_Spells[#All],MATCH($A23,AVAILABLE_Upgrades_Spells[#Headers],0)+1)","v":0},{"$f":"IF(ISERROR(MATCH(1,Paramètres!AH$6:AH$45,0)),0,MATCH(1,Paramètres!AH$6:AH$45,0))","v":0},{"$f":"IF($C23<>0,VLOOKUP($C23,TRAINING_Spell_Healing[#All],2),0)","v":0},{"$f":"IF($C23<>0,VLOOKUP($C23,TRAINING_Spell_Healing[#All],3),0)","v":0},null,null,null,"Serviteur",{"$f":"VLOOKUP($A$2,AVAILABLE_Upgrades_Dark_Troops[#All],MATCH($I23,AVAILABLE_Upgrades_Dark_Troops[#Headers],0)+1)","v":0},{"$f":"IF(ISERROR(MATCH(1,Paramètres!AY$6:AY$45,0)),0,MATCH(1,Paramètres!AY$6:AY$45,0))","v":0},{"$f":"IF($K23<>0,VLOOKUP($K23,TRAINING_Minion[#All],2),0)","v":0},{"$f":"IF($K23<>0,VLOOKUP($K23,TRAINING_Minion[#All],3),0)","v":0}]
["Sort de Rage",{"$f":"VLOOKUP($A$2,AVAILABLE_Upgrades_Spells[#All],MATCH($A24,AVAILABLE_Upgrades_Spells[#Headers],0)+1)","v":0},{"$f":"IF(ISERROR(MATCH(1,Paramètres!AI$6:AI$45,0)),0,MATCH(1,Paramètres!AI$6:AI$45,0))","v":0},{"$f":"IF($C24<>0,VLOOKUP($C24,TRAINING_Spell_Rage[#All],2),0)","v":0},{"$f":"IF($C24<>0,VLOOKUP($C24,TRAINING_Spell_Rage[#All],3),0)","v":0},null,null,null,"Chevaucheur de Cochon",{"$f":"VLOOKUP($A$2,AVAILABLE_Upgrades_Dark_Troops[#All],MATCH($I24,AVAILABLE_Upgrades_Dark_Troops[#Headers],0)+1)","v":0},{"$f":"IF(ISERROR(MATCH(1,Paramètres!AZ$6:AZ$45,0)),0,MATCH(1,Paramètres!AZ$6:AZ$45,0))","v":0},{"$f":"IF($K24<>0,VLOOKUP($K24,TRAINING_Hog_Rider[#All],2),0)","v":0},{"$f":"IF($K24<>0,VLOOKUP($K24,TRAINING_Hog_Rider[#All],3),0)","v":0}]
["Sort de Saut",{"$f":"VLOOKUP($A$2,AVAILABLE_Upgrades_Spells[#All],MATCH($A25,AVAILABLE_Upgrades_Spells[#Headers],0)+1)","v":0},{"$f":"IF(ISERROR(MATCH(1,Paramètres!AJ$6:AJ$45,0)),0,MATCH(1,Paramètres!AJ$6:AJ$45,0))","v":0},{"$f":"IF($C25<>0,VLOOKUP($C25,TRAINING_Spell_Jump[#All],2),0)","v":0},{"$f":"IF($C25<>0,VLOOKUP($C25,TRAINING_Spell_Jump[#All],3),0)","v":0},null,null,null,"Valkyrie",{"$f":"VLOOKUP($A$2,AVAILABLE_Upgrades_Dark_Troops[#All],MATCH($I25,AVAILABLE_Upgrades_Dark_Troops[#Headers],0)+1)","v":0},{"$f":"IF(ISERROR(MATCH(1,Paramètres!BA$6:BA$45,0)),0,MATCH(1,Paramètres!BA$6:BA$45,0))","v":0},{"$f":"IF($K25<>0,VLOOKUP($K25,TRAINING_Valkyrie[#All],2),0)","v":0},{"$f":"IF($K25<>0,VLOOKUP($K25,TRAINING_Valkyrie[#All],3),0)","v":0}]
["Sort de Gel",{"$f":"VLOOKUP($A$2,AVAILABLE_Upgrades_Spells[#All],MATCH($A26,AVAILABLE_Upgrades_Spells[#Headers],0)+1)","v":0},{"$f":"IF(ISERROR(MATCH(1,Paramètres!AK$6:AK$45,0)),0,MATCH(1,Paramètres!AK$6:AK$45,0))","v":0},{"$f":"IF($C26<>0,VLOOKUP($C26,TRAINING_Spell_Freeze[#All],2),0)","v":0},{"$f":"IF($C26<>0,VLOOKUP($C26,TRAINING_Spell_Freeze[#All],3),0)","v":0},null,null,null,"Golem",{"$f":"VLOOKUP($A$2,AVAILABLE_Upgrades_Dark_Troops[#All],MATCH($I26,AVAILABLE_Upgrades_Dark_Troops[#Headers],0)+1)","v":0},{"$f":"IF(ISERROR(MATCH(1,Paramètres!BB$6:BB$45,0)),0,MATCH(1,Paramètres!BB$6:BB$45,0))","v":0},{"$f":"IF($K26<>0,VLOOKUP($K26,TRAINING_Golem[#All],2),0)","v":0},{"$f":"IF($K26<>0,VLOOKUP($K26,TRAINING_Golem[#All],3),0)","v":0}]
["Sort de Poison",{"$f":"VLOOKUP($A$2,AVAILABLE_Upgrades_Dark_Spells[#All],MATCH($A27,AVAILABLE_Upgrades_Dark_Spells[#Headers],0)+1)","v":0},{"$f":"IF(ISERROR(MATCH(1,Paramètres!AL$6:AL$45,0)),0,MATCH(1,Paramètres!AL$6:AL$45,0))","v":0},{"$f":"IF($C27<>0,VLOOKUP($C27,TRAINING_Spell_Poison[#All],2),0)","v":0},{"$f":"IF($C27<>0,VLOOKUP($C27,TRAINING_Spell_Poison[#All],3),0)","v":0},null,null,null,"Sorcière",{"$f":"VLOOKUP($A$2,AVAILABLE_Upgrades_Dark_Troops[#All],MATCH($I27,AVAILABLE_Upgrades_Dark_Troops[#Headers],0)+1)","v":0},{"$f":"IF(ISERROR(MATCH(1,Paramètres!BC$6:BC$45,0)),0,MATCH(1,Paramètres!BC$6:BC$45,0))","v":0},{"$f":"IF($K27<>0,VLOOKUP($K27,TRAINING_Witch[#All],2),0)","v":0},{"$f":"IF($K27<>0,VLOOKUP($K27,TRAINING_Witch[#All],3),0)","v":0}]
["Sort de Séisme",{"$f":"VLOOKUP($A$2,AVAILABLE_Upgrades_Dark_Spells[#All],MATCH($A28,AVAILABLE_Upgrades_Dark_Spells[#Headers],0)+1)","v":0},{"$f":"IF(ISERROR(MATCH(1,Paramètres!AM$6:AM$45,0)),0,MATCH(1,Paramètres!AM$6:AM$45,0))","v":0},{"$f":"IF($C28<>0,VLOOKUP($C28,TRAINING_Spell_Earthquake[#All],2),0)","v":0},{"$f":"IF($C28<>0,VLOOKUP($C28,TRAINING_Spell_Earthquake[#All],3),0)","v":0},null,null,null,"Molosse de lave",{"$f":"VLOOKUP($A$2,AVAILABLE_Upgrades_Dark_Troops[#All],MATCH($I28,AVAILABLE_Upgrades_Dark_Troops[#Headers],0)+1)","v":0},{"$f":"IF(ISERROR(MATCH(1,Paramètres!BD$6:BD$45,0)),0,MATCH(1,Paramètres!BD$6:BD$45,0))","v":0},{"$f":"IF($K28<>0,VLOOKUP($K28,TRAINING_Lava_Hound[#All],2),0)","v":0},{"$f":"IF($K28<>0,VLOOKUP($K28,TRAINING_Lava_Hound[#All],3),0)","v":0}]
["Sort de Hâte",{"$f":"VLOOKUP($A$2,AVAILABLE_Upgrades_Dark_Spells[#All],MATCH($A29,AVAILABLE_Upgrades_Dark_Spells[#Headers],0)+1)","v":0},{"$f":"IF(ISERROR(MATCH(1,Paramètres!AN$6:AN$45,0)),0,MATCH(1,Paramètres!AN$6:AN$45,0))","v":0},{"$f":"IF($C29<>0,VLOOKUP($C29,TRAINING_Spell_Haste[#All],2),0)","v":0},{"$f":"IF($C29<>0,VLOOKUP($C29,TRAINING_Spell_Haste[#All],3),0)","v":0},null,null,null,null,"Espace Total",null,null,null,{"$f":"SUMPRODUCT(N$23:N$28,$L$23:$L$28)","v":0}]
[null,"Espace Total",null,null,null,{"$f":"SUMPRODUCT(F$22:F$29,$D$22:$D$29)","v":0},null,null,null,"Coût Total",null,null,null,{"$f":"SUMPRODUCT(N$23:N$28,$M$23:$M$28)","v":0}]
[null,"Capacité Totale",null,null,null,{"$f":"VLOOKUP($B$19,TRAINING_Dark_Spell_Factory[#All],2)+VLOOKUP($B$18,TRAINING_Spell_Factory[#All],2)","v":0}]
[null,"Coût Total",null,null,null,{"$f":"SUMPRODUCT(F$22:F$26,$E$22:$E$26)","v":0}]
[null,"Coût Total",null,null,null,{"$f":"SUMPRODUCT(F$27:F$29,$E$27:$E$29)","v":0}]

{"sheet":"Combats - Loots","index":6,"n_rows":29,"n_cols":19,"rows_kept":29,"cut":false,"hidden":true,"merged":[[15,0,15,6],[2,0,2,6],[2,8,2,12],[3,17,4,17],[3,18,4,19],[6,17,7,17],[6,18,7,19]]}
["LVL HdV","Attaque / Défense","LVL HdV Opposant","Différence LVL HdV"]
[{"$f":"Paramètres!$BI$2","v":1},"Attaque",9,{"$f":"IF($B$2='Paramètres - Admin'!$F$2,$C$2-$A$2,IF(B2='Paramètres - Admin'!$F$3,$A$2-$C$2))","v":8}]
["Combat - Nombre Total de Ressources",null,null,null,null,null,null,null,{"$f":"IF($B$2='Paramètres - Admin'!$F$2,$G$29 & C2,IF($B$2='Paramètres - Admin'!$F$3,$H$29 & C2))","v":"Loots - Gains Possibles vs HdV LVL 9"}]
[null,"Réserve d'Or","Réservoir d'Élixir","Réservoir d'Élixir Noir","Mine d'Or","Extracteur d'Élixir","Foreuse d'Élixir Noir",null,null,"Multiplicateur de Loot","Or","Élixir","Élixir Noir",null,null,null,null,"Cellule rouge :","Bâtiment non disponible"]
["Max",{"$f":"IF($B$2='Paramètres - Admin'!$F$2,VLOOKUP($C$2,AVAILABLE_Buildings_Resource[#All],MATCH(B$4,AVAILABLE_Buildings_Resource[#Headers],0)),IF($B$2='Paramètres - Admin'!$F$3,VLOOKUP($A$2,AVAILABLE_Buildings_Resource[#All],MATCH(B$4,AVAILABLE_Buildings_Resource[#Headers],0))))","v":4},{"$f":"IF($B$2='Paramètres - Admin'!$F$2,VLOOKUP($C$2,AVAILABLE_Buildings_Resource[#All],MATCH(C$4,AVAILABLE_Buildings_Resource[#Headers],0)),IF($B$2='Paramètres - Admin'!$F$3,VLOOKUP($A$2,AVAILABLE_Buildings_Resource[#All],MATCH(C$4,AVAILABLE_Buildings_Resource[#Headers],0))))","v":4},{"$f":"IF($B$2='Paramètres - Admin'!$F$2,VLOOKUP($C$2,AVAILABLE_Buildings_Resource[#All],MATCH(D$4,AVAILABLE_Buildings_Resource[#Headers],0)),IF($B$2='Paramètres - Admin'!$F$3,VLOOKUP($A$2,AVAILABLE_Buildings_Resource[#All],MATCH(D$4,AVAILABLE_Buildings_Resource[#Headers],0))))","v":1},{"$f":"IF($B$2='Paramètres - Admin'!$F$2,VLOOKUP($C$2,AVAILABLE_Buildings_Resource[#All],MATCH(E$4,AVAILABLE_Buildings_Resource[#Headers],0)),IF($B$2='Paramètres - Admin'!$F$3,VLOOKUP($A$2,AVAILABLE_Buildings_Resource[#All],MATCH(E$4,AVAILABLE_Buildings_Resource[#Headers],0))))","v":6},{"$f":"IF($B$2='Paramètres - Admin'!$F$2,VLOOKUP($C$2,AVAILABLE_Buildings_Resource[#All],MATCH(F$4,AVAILABLE_Buildings_Resource[#Headers],0)),IF($B$2='Paramètres - Admin'!$F$3,VLOOKUP($A$2,AVAILABLE_Buildings_Resource[#All],MATCH(F$4,AVAILABLE_Buildings_Resource[#Headers],0))))","v":6},{"$f":"IF($B$2='Paramètres - Admin'!$F$2,VLOOKUP($C$2,AVAILABLE_Buildings_Resource[#All],MATCH(G$4,AVAILABLE_Buildings_Resource[#Headers],0)),IF($B$2='Paramètres - Admin'!$F$3,VLOOKUP($A$2,AVAILABLE_Buildings_Resource[#All],MATCH(G$4,AVAILABLE_Buildings_Resource[#Headers],0))))","v":2},null,"Stockages",{"$f":"VLOOKUP(1,LEAGUES_Loot_Multiplier[#All],3)","v":2},{"$f":"B25*$J5","v":0},{"$f":"C25*$J5","v":20000},{"$f":"D25*$J5","v":0}]
["Stockage Max",{"$f":"IF($B$2='Paramètres - Admin'!$F$2,IF(ISERROR(VLOOKUP(VLOOKUP($C$2,AVAILABLE_Buildings_Resource[#All],MATCH(B$4,AVAILABLE_Buildings_Resource[#Headers],0)+1),EARNINGS_Gold_Storage[#All],2)),0,VLOOKUP(VLOOKUP($C$2,AVAILABLE_Buildings_Resource[#All],MATCH(B$4,AVAILABLE_Buildings_Resource[#Headers],0)+1),EARNINGS_Gold_Storage[#All],2)),IF($B$2='Paramètres - Admin'!$F$3,IF(ISERROR(VLOOKUP(VLOOKUP($A$2,AVAILABLE_Buildings_Resource[#All],MATCH(B$4,AVAILABLE_Buildings_Resource[#Headers],0)+1),EARNINGS_Gold_Storage[#All],2)),0,VLOOKUP(VLOOKUP($A$2,AVAILABLE_Buildings_Resource[#All],MATCH(B$4,AVAILABLE_Buildings_Resource[#Headers],0)+1),EARNINGS_Gold_Storage[#All],2))))","v":1750000},{"$f":"IF($B$2='Paramètres - Admin'!$F$2,IF(ISERROR(VLOOKUP(VLOOKUP($C$2,AVAILABLE_Buildings_Resource[#All],MATCH(C$4,AVAILABLE_Buildings_Resource[#Headers],0)+1),EARNINGS_Elixir_Storage[#All],2)),0,VLOOKUP(VLOOKUP($C$2,AVAILABLE_Buildings_Resource[#All],MATCH(C$4,AVAILABLE_Buildings_Resource[#Headers],0)+1),EARNINGS_Elixir_Storage[#All],2)),IF($B$2='Paramètres - Admin'!$F$3,IF(ISERROR(VLOOKUP(VLOOKUP($A$2,AVAILABLE_Buildings_Resource[#All],MATCH(C$4,AVAILABLE_Buildings_Resource[#Headers],0)+1),EARNINGS_Elixir_Storage[#All],2)),0,VLOOKUP(VLOOKUP($A$2,AVAILABLE_Buildings_Resource[#All],MATCH(C$4,AVAILABLE_Buildings_Resource[#Headers],0)+1),EARNINGS_Elixir_Storage[#All],2))))","v":1750000},{"$f":"IF($B$2='Paramètres - Admin'!$F$2,IF(ISERROR(VLOOKUP(VLOOKUP($C$2,AVAILABLE_Buildings_Resource[#All],MATCH(D$4,AVAILABLE_Buildings_Resource[#Headers],0)+1),EARNINGS_Dark_Elixir_Storage[#All],2)),0,VLOOKUP(VLOOKUP($C$2,AVAILABLE_Buildings_Resource[#All],MATCH(D$4,AVAILABLE_Buildings_Resource[#Headers],0)+1),EARNINGS_Dark_Elixir_Storage[#All],2)),IF($B$2='Paramètres - Admin'!$F$3,IF(ISERROR(VLOOKUP(VLOOKUP($A$2,AVAILABLE_Buildings_Resource[#All],MATCH(D$4,AVAILABLE_Buildings_Resource[#Headers],0)+1),EARNINGS_Dark_Elixir_Storage[#All],2)),0,VLOOKUP(VLOOKUP($A$2,AVAILABLE_Buildings_Resource[#All],MATCH(D$4,AVAILABLE_Buildings_Resource[#Headers],0)+1),EARNINGS_Dark_Elixir_Storage[#All],2))))","v":180000},{"$f":"IF($B$2='Paramètres - Admin'!$F$2,IF(ISERROR(VLOOKUP(VLOOKUP($C$2,AVAILABLE_Buildings_Resource[#All],MATCH(E$4,AVAILABLE_Buildings_Resource[#Headers],0)+1),EARNINGS_Gold_Mine[#All],3)),0,VLOOKUP(VLOOKUP($C$2,AVAILABLE_Buildings_Resource[#All],MATCH(E$4,AVAILABLE_Buildings_Resource[#Headers],0)+1),EARNINGS_Gold_Mine[#All],3)),IF($B$2='Paramètres - Admin'!$F$3,IF(ISERROR(VLOOKUP(VLOOKUP($A$2,AVAILABLE_Buildings_Resource[#All],MATCH(E$4,AVAILABLE_Buildings_Resource[#Headers],0)+1),EARNINGS_Gold_Mine[#All],3)),0,VLOOKUP(VLOOKUP($A$2,AVAILABLE_Buildings_Resource[#All],MATCH(E$4,AVAILABLE_Buildings_Resource[#Headers],0)+1),EARNINGS_Gold_Mine[#All],3))))","v":200000},{"$f":"IF($B$2='Paramètres - Admin'!$F$2,IF(ISERROR(VLOOKUP(VLOOKUP($C$2,AVAILABLE_Buildings_Resource[#All],MATCH(F$4,AVAILABLE_Buildings_Resource[#Headers],0)+1),EARNINGS_Elixir_Collector[#All],3)),0,VLOOKUP(VLOOKUP($C$2,AVAILABLE_Buildings_Resource[#All],MATCH(F$4,AVAILABLE_Buildings_Resource[#Headers],0)+1),EARNINGS_Elixir_Collector[#All],3)),IF($B$2='Paramètres - Admin'!$F$3,IF(ISERROR(VLOOKUP(VLOOKUP($A$2,AVAILABLE_Buildings_Resource[#All],MATCH(F$4,AVAILABLE_Buildings_Resource[#Headers],0)+1),EARNINGS_Elixir_Collector[#All],3)),0,VLOOKUP(VLOOKUP($A$2,AVAILABLE_Buildings_Resource[#All],MATCH(F$4,AVAILABLE_Buildings_Resource[#Headers],0)+1),EARNINGS_Elixir_Collector[#All],3))))","v":200000},{"$f":"IF($B$2='Paramètres - Admin'!$F$2,IF(ISERROR(VLOOKUP(VLOOKUP($C$2,AVAILABLE_Buildings_Resource[#All],MATCH(E$4,AVAILABLE_Buildings_Resource[#Headers],0)+1),EARNINGS_Dark_Elixir_Drill[#All],3)),0,VLOOKUP(VLOOKUP($C$2,AVAILABLE_Buildings_Resource[#All],MATCH(E$4,AVAILABLE_Buildings_Resource[#Headers],0)+1),EARNINGS_Dark_Elixir_Drill[#All],3)),IF($B$2='Paramètres - Admin'!$F$3,IF(ISERROR(VLOOKUP(VLOOKUP($A$2,AVAILABLE_Buildings_Resource[#All],MATCH(E$4,AVAILABLE_Buildings_Resource[#Headers],0)+1),EARNINGS_Dark_Elixir_Drill[#All],3)),0,VLOOKUP(VLOOKUP($A$2,AVAILABLE_Buildings_Resource[#All],MATCH(E$4,AVAILABLE_Buildings_Resource[#Headers],0)+1),EARNINGS_Dark_Elixir_Drill[#All],3))))","v":1800},null,"Mines/Extracteurs/Foreuses",{"$f":"VLOOKUP(1,LEAGUES_Loot_Multiplier[#All],3)","v":2},{"$f":"E25*$J6","v":0},{"$f":"F25*$J6","v":0},{"$f":"G25*$J6","v":0}]
[1,null,100000,null,null,null,null,null,"Hôtel de Ville",{"$f":"IF(D2>0,1,VLOOKUP(1,LEAGUES_Loot_Multiplier[#All],3))","v":1},{"$f":"$K$24*$J7","v":1000},{"$f":"$K$25*$J7","v":1000},0,null,null,null,null,"Cellule orange :","Erreur - Bâtiment\nMax. total atteint"]
[2,null,null,null,null,null,null,null,"Bonus de Ligue","/",{"$f":"IF($B$2='Paramètres - Admin'!$F$2,VLOOKUP(1,LEAGUES_Bonus[#All],3),0)","v":0},{"$f":"IF($B$2='Paramètres - Admin'!$F$2,VLOOKUP(1,LEAGUES_Bonus[#All],4),0)","v":0},{"$f":"IF($B$2='Paramètres - Admin'!$F$2,VLOOKUP(1,LEAGUES_Bonus[#All],5),0)","v":0}]
[3,null,null,null,null,null,null,null,null,"Total",{"$f":"SUM(K5:K8)","v":1000},{"$f":"SUM(L5:L8)","v":21000},{"$f":"SUM(M5:M8)","v":0}]
[4]
[5]
[6]
[7]
["Total",{"$f":"SUMIF($A7:$A13,\"<=\"&B$5,B7:B13)","v":0},100000,0,0,0,0]
[]
["Combat - Nombre de Ressources Disponibles"]
[null,"Réserve d'Or","Réservoir d'Élixir","Réservoir d'Élixir Noir","Mine d'Or","Extracteur d'Élixir","Foreuse d'Élixir Noir",null,"Type","%","Gain Maximum"]
[1,{"$f":"IF($A18>B$5,0,IF((B$7*$J$18)+(B$8*$J$18)+(B$9*$J$18)+(B$10*$J$18)+(B$11*$J$18)+(B$12*$J$18)+(B$13*$J$18)>$K$18,$K$18*(B7/B$14),B7*$J$18))","v":0},{"$f":"IF($A18>C$5,0,IF((C$7*$J$19)+(C$8*$J$19)+(C$9*$J$19)+(C$10*$J$19)+(C$11*$J$19)+(C$12*$J$19)+(C$13*$J$19)>$K$19,$K$19*(C7/C$14),C7*$J$19))","v":10000},{"$f":"IF($A18>D$5,0,IF((D$7*$J$20)+(D$8*$J$20)+(D$9*$J$20)+(D$10*$J$20)+(D$11*$J$20)+(D$12*$J$20)+(D$13*$J$20)>$K$20,$K$20*(D7/D$14),D7*$J$20))","v":0},{"$f":"IF($A18>E$5,0,IF(E7>$K$21,$K$21*$J$21,E7*$J$21))","v":0},{"$f":"IF($A18>F$5,0,IF(F7>$K$22,$K$22*$J$22,F7*$J$22))","v":0},{"$f":"IF($A18>G$5,0,IF(G7>$K$23,$K$23*$J$23,G7*$J$23))","v":0},null,"Réserve d'Or",0.1,400000]
[2,0,0,0,0,0,0,null,"Réservoir d'Élixir",0.1,400000]
[3,0,0,0,0,0,0,null,"Réservoir d'Élixir Noir",0.04,3000]
[4,0,0,0,0,0,0,null,"Mine d'Or",0.5,{"$f":"IF($B$2='Paramètres - Admin'!$F$2,IF(ISERROR(VLOOKUP(VLOOKUP($C$2,AVAILABLE_Buildings_Resource[#All],MATCH(E$4,AVAILABLE_Buildings_Resource[#Headers],0)+1),EARNINGS_Gold_Storage[#All],2)),0,VLOOKUP(VLOOKUP($C$2,AVAILABLE_Buildings_Resource[#All],MATCH(E$4,AVAILABLE_Buildings_Resource[#Headers],0)+1),EARNINGS_Gold_Mine[#All],3)),IF($B$2='Paramètres - Admin'!$F$3,IF(ISERROR(VLOOKUP(VLOOKUP($A$2,AVAILABLE_Buildings_Resource[#All],MATCH(E$4,AVAILABLE_Buildings_Resource[#Headers],0)+1),EARNINGS_Gold_Storage[#All],2)),0,VLOOKUP(VLOOKUP($A$2,AVAILABLE_Buildings_Resource[#All],MATCH(E$4,AVAILABLE_Buildings_Resource[#Headers],0)+1),EARNINGS_Gold_Mine[#All],3))))","v":200000}]
[5,0,0,0,0,0,0,null,"Extracteur d'Élixir",0.5,{"$f":"IF($B$2='Paramètres - Admin'!$F$2,IF(ISERROR(VLOOKUP(VLOOKUP($C$2,AVAILABLE_Buildings_Resource[#All],MATCH(F$4,AVAILABLE_Buildings_Resource[#Headers],0)+1),EARNINGS_Gold_Storage[#All],2)),0,VLOOKUP(VLOOKUP($C$2,AVAILABLE_Buildings_Resource[#All],MATCH(F$4,AVAILABLE_Buildings_Resource[#Headers],0)+1),EARNINGS_Elixir_Collector[#All],3)),IF($B$2='Paramètres - Admin'!$F$3,IF(ISERROR(VLOOKUP(VLOOKUP($A$2,AVAILABLE_Buildings_Resource[#All],MATCH(F$4,AVAILABLE_Buildings_Resource[#Headers],0)+1),EARNINGS_Gold_Storage[#All],2)),0,VLOOKUP(VLOOKUP($A$2,AVAILABLE_Buildings_Resource[#All],MATCH(F$4,AVAILABLE_Buildings_Resource[#Headers],0)+1),EARNINGS_Elixir_Collector[#All],3))))","v":200000}]
[6,0,0,0,0,0,0,null,"Foreuse d'Élixir Noir",0.75,1600]
[7,0,0,0,0,0,0,null,"Hôtel de Ville - Or",1,1000]
["Total",{"$f":"SUM(B18:B24)","v":0},10000,0,0,0,0,null,"Hôtel de Ville - Élixir",1,1000]
[]
[]
[]
[null,null,null,null,null,null,"Loots - Gains Possibles vs HdV LVL ","Loots - Pertes Possibles vs HdV LVL "]

{"sheet":"Formation de Troupes","index":7,"n_rows":33,"n_cols":20,"rows_kept":33,"cut":false,"hidden":true,"merged":[[0,3,0,4],[1,3,1,4],[13,1,13,2],[0,1,0,2],[1,1,1,2],[12,1,12,2],[2,0,2,6],[30,9,30,10],[31,9,31,10],[32,9,32,10],[0,5,0,6],[1,5,1,6],[29,9,29,10],[24,5,25,5],[24,6,25,6],[14,9,14,10],[15,9,15,10],[16,9,16,10],[17,9,17,10],[21,8,21,15],[18,0,19,3],[21,0,22,3],[24,0,25,3],[27,0,28,3],[2,8,2,17],[14,1,14,2],[16,1,16,2],[15,1,15,2]]}
["LVL HdV","Affichage Temps",null,"LVL Usine de Sorts",null,"LVL Usine de Sorts Noirs",null,null,"NB\nCaserne",null,null,null,null,null,"LVL\nCaserne n°1","LVL\nCaserne n°2","LVL\nCaserne n°3","LVL\nCaserne n°4"]
[{"$f":"Paramètres!$BI$2","v":1},"heures",null,{"$f":"IF(ISERROR(MATCH(1,Paramètres!L$6:L$45,0)),0,MATCH(1,Paramètres!L$6:L$45,0))","v":0},null,{"$f":"IF(ISERROR(MATCH(1,Paramètres!M$6:M$45,0)),0,MATCH(1,Paramètres!M$6:M$45,0))","v":0},null,null,{"$f":"Paramètres!H46","v":0},null,null,null,null,null,{"$f":"IF(ISERROR(MATCH(2,Paramètres!H6:H45,0)),0,MATCH(2,Paramètres!H6:H45,0))","v":0},9,10,10]
["Création de Sorts",null,null,null,null,null,null,null,"Formation de Troupes Normales"]
[null,"Max +","Actuel +","Espace","Coût","Time (s)","Laboratoire - NB",null,null,"Max +","Actuel +","Espace","Coût","Time (s)","Caserne n°1 - NB","Caserne° 2 - NB","Caserne n°3 - NB","Caserne n°4 - NB","Total",{"$f":"AND(B$5<>\"\",$A6>B$5)","v":true}]
["Sort de Foudre",{"$f":"VLOOKUP($A$2,AVAILABLE_Upgrades_Spells[#All],MATCH($A5,AVAILABLE_Upgrades_Spells[#Headers],0)+1)","v":0},{"$f":"IF(ISERROR(MATCH(1,Paramètres!AG$6:AG$45,0)),0,MATCH(1,Paramètres!AG$6:AG$45,0))","v":0},{"$f":"IF($C5<>0,VLOOKUP($C5,TRAINING_Spell_Lightning[#All],2),0)","v":0},{"$f":"IF($C5<>0,VLOOKUP($C5,TRAINING_Spell_Lightning[#All],3),0)","v":0},{"$f":"IF($C5<>0,VLOOKUP($C5,TRAINING_Spell_Lightning[#All],4),0)","v":0},null,null,"Barbare",{"$f":"VLOOKUP($A$2,AVAILABLE_Upgrades_Normal_Troops[#All],MATCH($I5,AVAILABLE_Upgrades_Normal_Troops[#Headers],0)+1)","v":0},{"$f":"IF(ISERROR(MATCH(1,Paramètres!AO$6:AO$45,0)),0,MATCH(1,Paramètres!AO$6:AO$45,0))","v":0},{"$f":"IF($K5<>0,VLOOKUP($K5,TRAINING_Barbarian[#All],2),0)","v":0},{"$f":"IF($K5<>0,VLOOKUP($K5,TRAINING_Barbarian[#All],3),0)","v":0},{"$f":"IF($K5<>0,VLOOKUP($K5,TRAINING_Barbarian[#All],4),0)","v":0},null,null,null,null,{"$f":"SUM(O5:R5)","v":0}]
["Sort de Guérison",{"$f":"VLOOKUP($A$2,AVAILABLE_Upgrades_Spells[#All],MATCH($A6,AVAILABLE_Upgrades_Spells[#Headers],0)+1)","v":0},{"$f":"IF(ISERROR(MATCH(1,Paramètres!AH$6:AH$45,0)),0,MATCH(1,Paramètres!AH$6:AH$45,0))","v":0},{"$f":"IF($C6<>0,VLOOKUP($C6,TRAINING_Spell_Healing[#All],2),0)","v":0},{"$f":"IF($C6<>0,VLOOKUP($C6,TRAINING_Spell_Healing[#All],3),0)","v":0},{"$f":"IF($C6<>0,VLOOKUP($C6,TRAINING_Spell_Healing[#All],4),0)","v":0},null,null,"Archer",{"$f":"VLOOKUP($A$2,AVAILABLE_Upgrades_Normal_Troops[#All],MATCH($I6,AVAILABLE_Upgrades_Normal_Troops[#Headers],0)+1)","v":0},{"$f":"IF(ISERROR(MATCH(1,Paramètres!AP$6:AP$45,0)),0,MATCH(1,Paramètres!AP$6:AP$45,0))","v":0},{"$f":"IF($K6<>0,VLOOKUP($K6,TRAINING_Archer[#All],2),0)","v":0},{"$f":"IF($K6<>0,VLOOKUP($K6,TRAINING_Archer[#All],3),0)","v":0},{"$f":"IF($K6<>0,VLOOKUP($K6,TRAINING_Archer[#All],4),0)","v":0},null,null,null,null,{"$f":"SUM(O6:R6)","v":0}]
["Sort de Rage",{"$f":"VLOOKUP($A$2,AVAILABLE_Upgrades_Spells[#All],MATCH($A7,AVAILABLE_Upgrades_Spells[#Headers],0)+1)","v":0},{"$f":"IF(ISERROR(MATCH(1,Paramètres!AI$6:AI$45,0)),0,MATCH(1,Paramètres!AI$6:AI$45,0))","v":0},{"$f":"IF($C7<>0,VLOOKUP($C7,TRAINING_Spell_Rage[#All],2),0)","v":0},{"$f":"IF($C7<>0,VLOOKUP($C7,TRAINING_Spell_Rage[#All],3),0)","v":0},{"$f":"IF($C7<>0,VLOOKUP($C7,TRAINING_Spell_Rage[#All],4),0)","v":0},null,null,"Gobelin",{"$f":"VLOOKUP($A$2,AVAILABLE_Upgrades_Normal_Troops[#All],MATCH($I7,AVAILABLE_Upgrades_Normal_Troops[#Headers],0)+1)","v":0},{"$f":"IF(ISERROR(MATCH(1,Paramètres!AQ$6:AQ$45,0)),0,MATCH(1,Paramètres!AQ$6:AQ$45,0))","v":0},{"$f":"IF($K7<>0,VLOOKUP($K7,TRAINING_Goblin[#All],2),0)","v":0},{"$f":"IF($K7<>0,VLOOKUP($K7,TRAINING_Goblin[#All],3),0)","v":0},{"$f":"IF($K7<>0,VLOOKUP($K7,TRAINING_Goblin[#All],4),0)","v":0},null,null,null,null,0]
["Sort de Saut",{"$f":"VLOOKUP($A$2,AVAILABLE_Upgrades_Spells[#All],MATCH($A8,AVAILABLE_Upgrades_Spells[#Headers],0)+1)","v":0},{"$f":"IF(ISERROR(MATCH(1,Paramètres!AJ$6:AJ$45,0)),0,MATCH(1,Paramètres!AJ$6:AJ$45,0))","v":0},{"$f":"IF($C8<>0,VLOOKUP($C8,TRAINING_Spell_Jump[#All],2),0)","v":0},{"$f":"IF($C8<>0,VLOOKUP($C8,TRAINING_Spell_Jump[#All],3),0)","v":0},{"$f":"IF($C8<>0,VLOOKUP($C8,TRAINING_Spell_Jump[#All],4),0)","v":0},null,null,"Géant",{"$f":"VLOOKUP($A$2,AVAILABLE_Upgrades_Normal_Troops[#All],MATCH($I8,AVAILABLE_Upgrades_Normal_Troops[#Headers],0)+1)","v":0},{"$f":"IF(ISERROR(MATCH(1,Paramètres!AR$6:AR$45,0)),0,MATCH(1,Paramètres!AR$6:AR$45,0))","v":0},{"$f":"IF($K8<>0,VLOOKUP($K8,TRAINING_Giant[#All],2),0)","v":0},{"$f":"IF($K8<>0,VLOOKUP($K8,TRAINING_Giant[#All],3),0)","v":0},{"$f":"IF($K8<>0,VLOOKUP($K8,TRAINING_Giant[#All],4),0)","v":0},null,null,null,null,0]
["Sort de Gel",{"$f":"VLOOKUP($A$2,AVAILABLE_Upgrades_Spells[#All],MATCH($A9,AVAILABLE_Upgrades_Spells[#Headers],0)+1)","v":0},{"$f":"IF(ISERROR(MATCH(1,Paramètres!AK$6:AK$45,0)),0,MATCH(1,Paramètres!AK$6:AK$45,0))","v":0},{"$f":"IF($C9<>0,VLOOKUP($C9,TRAINING_Spell_Freeze[#All],2),0)","v":0},{"$f":"IF($C9<>0,VLOOKUP($C9,TRAINING_Spell_Freeze[#All],3),0)","v":0},{"$f":"IF($C9<>0,VLOOKUP($C9,TRAINING_Spell_Freeze[#All],4),0)","v":0},null,null,"Sapeur",{"$f":"VLOOKUP($A$2,AVAILABLE_Upgrades_Normal_Troops[#All],MATCH($I9,AVAILABLE_Upgrades_Normal_Troops[#Headers],0)+1)","v":0},{"$f":"IF(ISERROR(MATCH(1,Paramètres!AS$6:AS$45,0)),0,MATCH(1,Paramètres!AS$6:AS$45,0))","v":0},{"$f":"IF($K9<>0,VLOOKUP($K9,TRAINING_Wall_Breaker[#All],2),0)","v":0},{"$f":"IF($K9<>0,VLOOKUP($K9,TRAINING_Wall_Breaker[#All],3),0)","v":0},{"$f":"IF($K9<>0,VLOOKUP($K9,TRAINING_Wall_Breaker[#All],4),0)","v":0},null,null,null,null,0]
["Sort de Poison",{"$f":"VLOOKUP($A$2,AVAILABLE_Upgrades_Dark_Spells[#All],MATCH($A10,AVAILABLE_Upgrades_Dark_Spells[#Headers],0)+1)","v":0},{"$f":"IF(ISERROR(MATCH(1,Paramètres!AL$6:AL$45,0)),0,MATCH(1,Paramètres!AL$6:AL$45,0))","v":0},{"$f":"IF($C10<>0,VLOOKUP($C10,TRAINING_Spell_Poison[#All],2),0)","v":0},{"$f":"IF($C10<>0,VLOOKUP($C10,TRAINING_Spell_Poison[#All],3),0)","v":0},{"$f":"IF($C10<>0,VLOOKUP($C10,TRAINING_Spell_Poison[#All],4),0)","v":0},null,null,"Ballon",{"$f":"VLOOKUP($A$2,AVAILABLE_Upgrades_Normal_Troops[#All],MATCH($I10,AVAILABLE_Upgrades_Normal_Troops[#Headers],0)+1)","v":0},{"$f":"IF(ISERROR(MATCH(1,Paramètres!AT$6:AT$45,0)),0,MATCH(1,Paramètres!AT$6:AT$45,0))","v":0},{"$f":"IF($K10<>0,VLOOKUP($K10,TRAINING_Balloon[#All],2),0)","v":0},{"$f":"IF($K10<>0,VLOOKUP($K10,TRAINING_Balloon[#All],3),0)","v":0},{"$f":"IF($K10<>0,VLOOKUP($K10,TRAINING_Balloon[#All],4),0)","v":0},null,null,null,null,0]
["Sort de Séisme",{"$f":"VLOOKUP($A$2,AVAILABLE_Upgrades_Dark_Spells[#All],MATCH($A11,AVAILABLE_Upgrades_Dark_Spells[#Headers],0)+1)","v":0},{"$f":"IF(ISERROR(MATCH(1,Paramètres!AM$6:AM$45,0)),0,MATCH(1,Paramètres!AM$6:AM$45,0))","v":0},{"$f":"IF($C11<>0,VLOOKUP($C11,TRAINING_Spell_Earthquake[#All],2),0)","v":0},{"$f":"IF($C11<>0,VLOOKUP($C11,TRAINING_Spell_Earthquake[#All],3),0)","v":0},{"$f":"IF($C11<>0,VLOOKUP($C11,TRAINING_Spell_Earthquake[#All],4),0)","v":0},null,null,"Sorcier",{"$f":"VLOOKUP($A$2,AVAILABLE_Upgrades_Normal_Troops[#All],MATCH($I11,AVAILABLE_Upgrades_Normal_Troops[#Headers],0)+1)","v":0},{"$f":"IF(ISERROR(MATCH(1,Paramètres!AU$6:AU$45,0)),0,MATCH(1,Paramètres!AU$6:AU$45,0))","v":0},{"$f":"IF($K11<>0,VLOOKUP($K11,TRAINING_Wizard[#All],2),0)","v":0},{"$f":"IF($K11<>0,VLOOKUP($K11,TRAINING_Wizard[#All],3),0)","v":0},{"$f":"IF($K11<>0,VLOOKUP($K11,TRAINING_Wizard[#All],4),0)","v":0},null,null,null,null,0]
["Sort de Hâte",{"$f":"VLOOKUP($A$2,AVAILABLE_Upgrades_Dark_Spells[#All],MATCH($A12,AVAILABLE_Upgrades_Dark_Spells[#Headers],0)+1)","v":0},{"$f":"IF(ISERROR(MATCH(1,Paramètres!AN$6:AN$45,0)),0,MATCH(1,Paramètres!AN$6:AN$45,0))","v":0},{"$f":"IF($C12<>0,VLOOKUP($C12,TRAINING_Spell_Haste[#All],2),0)","v":0},{"$f":"IF($C12<>0,VLOOKUP($C12,TRAINING_Spell_Haste[#All],3),0)","v":0},{"$f":"IF($C12<>0,VLOOKUP($C12,TRAINING_Spell_Haste[#All],4),0)","v":0},null,null,"Guérisseuse",{"$f":"VLOOKUP($A$2,AVAILABLE_Upgrades_Normal_Troops[#All],MATCH($I12,AVAILABLE_Upgrades_Normal_Troops[#Headers],0)+1)","v":0},{"$f":"IF(ISERROR(MATCH(1,Paramètres!AV$6:AV$45,0)),0,MATCH(1,Paramètres!AV$6:AV$45,0))","v":0},{"$f":"IF($K12<>0,VLOOKUP($K12,TRAINING_Healer[#All],2),0)","v":0},{"$f":"IF($K12<>0,VLOOKUP($K12,TRAINING_Healer[#All],3),0)","v":0},{"$f":"IF($K12<>0,VLOOKUP($K12,TRAINING_Healer[#All],4),0)","v":0},null,null,null,null,0]
[null,"Espace Max",null,null,null,null,{"$f":"VLOOKUP($F$2,TRAINING_Dark_Spell_Factory[#All],2)+VLOOKUP($D$2,TRAINING_Spell_Factory[#All],2)","v":0},null,"Dragon",{"$f":"VLOOKUP($A$2,AVAILABLE_Upgrades_Normal_Troops[#All],MATCH($I13,AVAILABLE_Upgrades_Normal_Troops[#Headers],0)+1)","v":0},{"$f":"IF(ISERROR(MATCH(1,Paramètres!AW$6:AW$45,0)),0,MATCH(1,Paramètres!AW$6:AW$45,0))","v":0},{"$f":"IF($K13<>0,VLOOKUP($K13,TRAINING_Dragon[#All],2),0)","v":0},{"$f":"IF($K13<>0,VLOOKUP($K13,TRAINING_Dragon[#All],3),0)","v":0},{"$f":"IF($K13<>0,VLOOKUP($K13,TRAINING_Dragon[#All],4),0)","v":0},null,null,null,null,0]
[null,"Espace Total",null,null,null,null,{"$f":"SUMPRODUCT(G$5:G$9,$D$5:$D$9)+SUMPRODUCT(G$10:G$12,$D$10:$D$12)","v":0},null,"P.E.K.K.A",{"$f":"VLOOKUP($A$2,AVAILABLE_Upgrades_Normal_Troops[#All],MATCH($I14,AVAILABLE_Upgrades_Normal_Troops[#Headers],0)+1)","v":0},{"$f":"IF(ISERROR(MATCH(1,Paramètres!AX$6:AX$45,0)),0,MATCH(1,Paramètres!AX$6:AX$45,0))","v":0},{"$f":"IF($K14<>0,VLOOKUP($K14,TRAINING_PEKKA[#All],2),0)","v":0},{"$f":"IF($K14<>0,VLOOKUP($K14,TRAINING_PEKKA[#All],3),0)","v":0},{"$f":"IF($K14<>0,VLOOKUP($K14,TRAINING_PEKKA[#All],4),0)","v":0},null,null,null,null,0]
[null,"Coût Total",null,null,null,null,{"$f":"SUMPRODUCT(G$5:G$9,$E$5:$E$9)","v":0},null,null,"Espace Max",null,null,null,null,{"$f":"VLOOKUP(O$2,TRAINING_Barrack[#All],2)","v":0},{"$f":"VLOOKUP(P$2,TRAINING_Barrack[#All],2)","v":60},{"$f":"VLOOKUP(Q$2,TRAINING_Barrack[#All],2)","v":75},{"$f":"VLOOKUP(R$2,TRAINING_Barrack[#All],2)","v":75},{"$f":"SUM(O15:R15)","v":210}]
[null,"Coût Total",null,null,null,null,{"$f":"SUMPRODUCT(G$10:G$12,$E$10:$E$12)","v":0},null,null,"Espace Total",null,null,null,null,{"$f":"SUMPRODUCT(O$5:O$14,$L$5:$L$14)","v":0},{"$f":"SUMPRODUCT(P$5:P$14,$L$5:$L$14)","v":0},{"$f":"SUMPRODUCT(Q$5:Q$14,$L$5:$L$14)","v":0},{"$f":"SUMPRODUCT(R$5:R$14,$L$5:$L$14)","v":0},{"$f":"SUM(O16:R16)","v":0}]
[null,"Temps Total",null,null,null,null,{"$f":"IF($B$2='Paramètres - Admin'!$B$2,TEXT(SUMPRODUCT(G$5:G$12,$F$5:$F$12),\"# 0\")&\" \" & 'Paramètres - Admin'!$B$2,IF($B$2='Paramètres - Admin'!$B$3,TEXT(SUMPRODUCT(G$5:G$12,$F$5:$F$12)/60,\"# 0\")&\" \" & 'Paramètres - Admin'!$B$3,IF($B$2='Paramètres - Admin'!$B$4,TEXT(SUMPRODUCT(G$5:G$12,$F$5:$F$12)/3600,\"# 0,00\")&\" \" & 'Paramètres - Admin'!$B$4,IF(SUMPRODUCT(G$5:G$12,$F$5:$F$12)/3600>=1,INT(SUMPRODUCT(G$5:G$12,$F$5:$F$12)/3600) &\" \" & 'Paramètres - Admin'!$D$3 & \" \" & MINUTE(SUMPRODUCT(G$5:G$12,$F$5:$F$12)/86400-INT(SUMPRODUCT(G$5:G$12,$F$5:$F$12)/86400))  &\" \" & 'Paramètres - Admin'!$D$2 & \" \" & SECOND(SUMPRODUCT(G$5:G$12,$F$5:$F$12)/86400-INT(SUMPRODUCT(G$5:G$12,$F$5:$F$12)/86400)) &\" \" & 'Paramètres - Admin'!$D$5,MINUTE(SUMPRODUCT(G$5:G$12,$F$5:$F$12)/86400-INT(SUMPRODUCT(G$5:G$12,$F$5:$F$12)/86400)) &\" \" & 'Paramètres - Admin'!$D$2 & \" \" & SECOND(SUMPRODUCT(G$5:G$12,$F$5:$F$12)/86400-INT(SUMPRODUCT(G$5:G$12,$F$5:$F$12)/86400)) &\" \" & 'Paramètres - Admin'!$D$5))))","v":"0,00 heures"},null,null,"Coût Total",null,null,null,null,{"$f":"SUMPRODUCT(O$5:O$14,$M$5:$M$14)","v":0},{"$f":"SUMPRODUCT(P$5:P$14,$M$5:$M$14)","v":0},{"$f":"SUMPRODUCT(Q$5:Q$14,$M$5:$M$14)","v":0},{"$f":"SUMPRODUCT(R$5:R$14,$M$5:$M$14)","v":0},{"$f":"SUM(O17:R17)","v":0}]
[null,null,null,null,null,null,null,null,null,"Temps Total",null,null,null,null,{"$f":"IF($B$2='Paramètres - Admin'!$B$2,TEXT(SUMPRODUCT(O$5:O$14,$N$5:$N$14),\"# 0\")&\" \" & 'Paramètres - Admin'!$B$2,IF($B$2='Paramètres - Admin'!$B$3,TEXT(SUMPRODUCT(O$5:O$14,$N$5:$N$14)/60,\"# 0\")&\" \" & 'Paramètres - Admin'!$B$3,IF($B$2='Paramètres - Admin'!$B$4,TEXT(SUMPRODUCT(O$5:O$14,$N$5:$N$14)/3600,\"# 0,00\")&\" \" & 'Paramètres - Admin'!$B$4,IF(SUMPRODUCT(O$5:O$14,$N$5:$N$14)/3600>=1,INT(SUMPRODUCT(O$5:O$14,$N$5:$N$14)/3600) &\" \" & 'Paramètres - Admin'!$D$3 & \" \" & MINUTE(SUMPRODUCT(O$5:O$14,$N$5:$N$14)/86400-INT(SUMPRODUCT(O$5:O$14,$N$5:$N$14)/86400))  &\" \" & 'Paramètres - Admin'!$D$2 & \" \" & SECOND(SUMPRODUCT(O$5:O$14,$N$5:$N$14)/86400-INT(SUMPRODUCT(O$5:O$14,$N$5:$N$14)/86400)) &\" \" & 'Paramètres - Admin'!$D$5,MINUTE(SUMPRODUCT(O$5:O$14,$N$5:$N$14)/86400-INT(SUMPRODUCT(O$5:O$14,$N$5:$N$14)/86400)) &\" \" & 'Paramètres - Admin'!$D$2 & \" \" & SECOND(SUMPRODUCT(O$5:O$14,$N$5:$N$14)/86400-INT(SUMPRODUCT(O$5:O$14,$N$5:$N$14)/86400)) &\" \" & 'Paramètres - Admin'!$D$5))))","v":"0,00 heures"},{"$f":"IF($B$2='Paramètres - Admin'!$B$2,TEXT(SUMPRODUCT(P$5:P$14,$N$5:$N$14),\"# 0\")&\" \" & 'Paramètres - Admin'!$B$2,IF($B$2='Paramètres - Admin'!$B$3,TEXT(SUMPRODUCT(P$5:P$14,$N$5:$N$14)/60,\"# 0\")&\" \" & 'Paramètres - Admin'!$B$3,IF($B$2='Paramètres - Admin'!$B$4,TEXT(SUMPRODUCT(P$5:P$14,$N$5:$N$14)/3600,\"# 0,00\")&\" \" & 'Paramètres - Admin'!$B$4,IF(SUMPRODUCT(P$5:P$14,$N$5:$N$14)/3600>=1,INT(SUMPRODUCT(P$5:P$14,$N$5:$N$14)/3600) &\" \" & 'Paramètres - Admin'!$D$3 & \" \" & MINUTE(SUMPRODUCT(P$5:P$14,$N$5:$N$14)/86400-INT(SUMPRODUCT(P$5:P$14,$N$5:$N$14)/86400))  &\" \" & 'Paramètres - Admin'!$D$2 & \" \" & SECOND(SUMPRODUCT(P$5:P$14,$N$5:$N$14)/86400-INT(SUMPRODUCT(P$5:P$14,$N$5:$N$14)/86400)) &\" \" & 'Paramètres - Admin'!$D$5,MINUTE(SUMPRODUCT(P$5:P$14,$N$5:$N$14)/86400-INT(SUMPRODUCT(P$5:P$14,$N$5:$N$14)/86400)) &\" \" & 'Paramètres - Admin'!$D$2 & \" \" & SECOND(SUMPRODUCT(P$5:P$14,$N$5:$N$14)/86400-INT(SUMPRODUCT(P$5:P$14,$N$5:$N$14)/86400)) &\" \" & 'Paramètres - Admin'!$D$5))))","v":"0,00 heures"},{"$f":"IF($B$2='Paramètres - Admin'!$B$2,TEXT(SUMPRODUCT(Q$5:Q$14,$N$5:$N$14),\"# 0\")&\" \" & 'Paramètres - Admin'!$B$2,IF($B$2='Paramètres - Admin'!$B$3,TEXT(SUMPRODUCT(Q$5:Q$14,$N$5:$N$14)/60,\"# 0\")&\" \" & 'Paramètres - Admin'!$B$3,IF($B$2='Paramètres - Admin'!$B$4,TEXT(SUMPRODUCT(Q$5:Q$14,$N$5:$N$14)/3600,\"# 0,00\")&\" \" & 'Paramètres - Admin'!$B$4,IF(SUMPRODUCT(Q$5:Q$14,$N$5:$N$14)/3600>=1,INT(SUMPRODUCT(Q$5:Q$14,$N$5:$N$14)/3600) &\" \" & 'Paramètres - Admin'!$D$3 & \" \" & MINUTE(SUMPRODUCT(Q$5:Q$14,$N$5:$N$14)/86400-INT(SUMPRODUCT(Q$5:Q$14,$N$5:$N$14)/86400))  &\" \" & 'Paramètres - Admin'!$D$2 & \" \" & SECOND(SUMPRODUCT(Q$5:Q$14,$N$5:$N$14)/86400-INT(SUMPRODUCT(Q$5:Q$14,$N$5:$N$14)/86400)) &\" \" & 'Paramètres - Admin'!$D$5,MINUTE(SUMPRODUCT(Q$5:Q$14,$N$5:$N$14)/86400-INT(SUMPRODUCT(Q$5:Q$14,$N$5:$N$14)/86400)) &\" \" & 'Paramètres - Admin'!$D$2 & \" \" & SECOND(SUMPRODUCT(Q$5:Q$14,$N$5:$N$14)/86400-INT(SUMPRODUCT(Q$5:Q$14,$N$5:$N$14)/86400)) &\" \" & 'Paramètres - Admin'!$D$5))))","v":"0,00 heures"},{"$f":"IF($B$2='Paramètres - Admin'!$B$2,TEXT(SUMPRODUCT(R$5:R$14,$N$5:$N$14),\"# 0\")&\" \" & 'Paramètres - Admin'!$B$2,IF($B$2='Paramètres - Admin'!$B$3,TEXT(SUMPRODUCT(R$5:R$14,$N$5:$N$14)/60,\"# 0\")&\" \" & 'Paramètres - Admin'!$B$3,IF($B$2='Paramètres - Admin'!$B$4,TEXT(SUMPRODUCT(R$5:R$14,$N$5:$N$14)/3600,\"# 0,00\")&\" \" & 'Paramètres - Admin'!$B$4,IF(SUMPRODUCT(R$5:R$14,$N$5:$N$14)/3600>=1,INT(SUMPRODUCT(R$5:R$14,$N$5:$N$14)/3600) &\" \" & 'Paramètres - Admin'!$D$3 & \" \" & MINUTE(SUMPRODUCT(R$5:R$14,$N$5:$N$14)/86400-INT(SUMPRODUCT(R$5:R$14,$N$5:$N$14)/86400))  &\" \" & 'Paramètres - Admin'!$D$2 & \" \" & SECOND(SUMPRODUCT(R$5:R$14,$N$5:$N$14)/86400-INT(SUMPRODUCT(R$5:R$14,$N$5:$N$14)/86400)) &\" \" & 'Paramètres - Admin'!$D$5,MINUTE(SUMPRODUCT(R$5:R$14,$N$5:$N$14)/86400-INT(SUMPRODUCT(R$5:R$14,$N$5:$N$14)/86400)) &\" \" & 'Paramètres - Admin'!$D$2 & \" \" & SECOND(SUMPRODUCT(R$5:R$14,$N$5:$N$14)/86400-INT(SUMPRODUCT(R$5:R$14,$N$5:$N$14)/86400)) &\" \" & 'Paramètres - Admin'!$D$5))))","v":"0,00 heures"},{"$f":"IF($B$2='Paramètres - Admin'!$B$2,TEXT((SUMPRODUCT(O$5:O$14,$N$5:$N$14)+SUMPRODUCT(P$5:P$14,$N$5:$N$14)+SUMPRODUCT(Q$5:Q$14,$N$5:$N$14)+SUMPRODUCT(R$5:R$14,$N$5:$N$14)),\"# 0\")&\" \" & 'Paramètres - Admin'!$B$2,IF($B$2='Paramètres - Admin'!$B$3,TEXT((SUMPRODUCT(O$5:O$14,$N$5:$N$14)+SUMPRODUCT(P$5:P$14,$N$5:$N$14)+SUMPRODUCT(Q$5:Q$14,$N$5:$N$14)+SUMPRODUCT(R$5:R$14,$N$5:$N$14))/60,\"# 0\")&\" \" & 'Paramètres - Admin'!$B$3,IF($B$2='Paramètres - Admin'!$B$4,TEXT((SUMPRODUCT(O$5:O$14,$N$5:$N$14)+SUMPRODUCT(P$5:P$14,$N$5:$N$14)+SUMPRODUCT(Q$5:Q$14,$N$5:$N$14)+SUMPRODUCT(R$5:R$14,$N$5:$N$14))/3600,\"# 0,00\")&\" \" & 'Paramètres - Admin'!$B$4,IF((SUMPRODUCT(O$5:O$14,$N$5:$N$14)+SUMPRODUCT(P$5:P$14,$N$5:$N$14)+SUMPRODUCT(Q$5:Q$14,$N$5:$N$14)+SUMPRODUCT(R$5:R$14,$N$5:$N$14))/3600>=1,INT((SUMPRODUCT(O$5:O$14,$N$5:$N$14)+SUMPRODUCT(P$5:P$14,$N$5:$N$14)+SUMPRODUCT(Q$5:Q$14,$N$5:$N$14)+SUMPRODUCT(R$5:R$14,$N$5:$N$14))/3600) &\" \" & 'Paramètres - Admin'!$D$3 & \" \" & MINUTE((SUMPRODUCT(O$5:O$14,$N$5:$N$14)+SUMPRODUCT(P$5:P$14,$N$5:$N$14)+SUMPRODUCT(Q$5:Q$14,$N$5:$N$14)+SUMPRODUCT(R$5:R$14,$N$5:$N$14))/86400-INT((SUMPRODUCT(O$5:O$14,$N$5:$N$14)+SUMPRODUCT(P$5:P$14,$N$5:$N$14)+SUMPRODUCT(Q$5:Q$14,$N$5:$N$14)+SUMPRODUCT(R$5:R$14,$N$5:$N$14))/86400))  &\" \" & 'Paramètres - Admin'!$D$2 & \" \" & SECOND((SUMPRODUCT(O$5:O$14,$N$5:$N$14)+SUMPRODUCT(P$5:P$14,$N$5:$N$14)+SUMPRODUCT(Q$5:Q$14,$N$5:$N$14)+SUMPRODUCT(R$5:R$14,$N$5:$N$14))/86400-INT((SUMPRODUCT(O$5:O$14,$N$5:$N$14)+SUMPRODUCT(P$5:P$14,$N$5:$N$14)+SUMPRODUCT(Q$5:Q$14,$N$5:$N$14)+SUMPRODUCT(R$5:R$14,$N$5:$N$14))/86400)) &\" \" & 'Paramètres - Admin'!$D$5,MINUTE((SUMPRODUCT(O$5:O$14,$N$5:$N$14)+SUMPRODUCT(P$5:P$14,$N$5:$N$14)+SUMPRODUCT(Q$5:Q$14,$N$5:$N$14)+SUMPRODUCT(R$5:R$14,$N$5:$N$14))/86400-INT((SUMPRODUCT(O$5:O$14,$N$5:$N$14)+SUMPRODUCT(P$5:P$14,$N$5:$N$14)+SUMPRODUCT(Q$5:Q$14,$N$5:$N$14)+SUMPRODUCT(R$5:R$14,$N$5:$N$14))/86400)) &\" \" & 'Paramètres - Admin'!$D$2 & \" \" & SECOND((SUMPRODUCT(O$5:O$14,$N$5:$N$14)+SUMPRODUCT(P$5:P$14,$N$5:$N$14)+SUMPRODUCT(Q$5:Q$14,$N$5:$N$14)+SUMPRODUCT(R$5:R$14,$N$5:$N$14))/86400-INT((SUMPRODUCT(O$5:O$14,$N$5:$N$14)+SUMPRODUCT(P$5:P$14,$N$5:$N$14)+SUMPRODUCT(Q$5:Q$14,$N$5:$N$14)+SUMPRODUCT(R$5:R$14,$N$5:$N$14))/86400)) &\" \" & 'Paramètres - Admin'!$D$5))))","v":"0,00 heures"}]
["Troupe/Sort non disponible"]
[null,null,null,null,null,null,null,null,"NB\nCaserne Noire",null,null,null,null,null,"LVL\nCaserne Noire n°1","LVL\nCaserne Noire n°2"]
[null,null,null,null,null,null,null,null,{"$f":"Paramètres!I46","v":0},null,null,null,null,null,4,4]
["Erreur - Caserne\nMax. total atteint",null,null,null,null,null,null,null,"Formation de Troupes Noires",null,null,null,null,null,null,null,null,null,"Coût Total"]
[null,null,null,null,null,null,null,null,null,"Max +","Actuel +","Espace","Coût","Time (s)","Caserne Noire n°1 - NB","Caserne Noire n°2 - NB","Total",null,{"$f":"S17+G15","v":0}]
[null,null,null,null,null,null,null,null,"Serviteur",{"$f":"VLOOKUP($A$2,AVAILABLE_Upgrades_Dark_Troops[#All],MATCH($I24,AVAILABLE_Upgrades_Dark_Troops[#Headers],0)+1)","v":0},{"$f":"IF(ISERROR(MATCH(1,Paramètres!AY$6:AY$45,0)),0,MATCH(1,Paramètres!AY$6:AY$45,0))","v":0},{"$f":"IF($K24<>0,VLOOKUP($K24,TRAINING_Minion[#All],2),0)","v":0},{"$f":"IF($K24<>0,VLOOKUP($K24,TRAINING_Minion[#All],3),0)","v":0},{"$f":"IF($K24<>0,VLOOKUP($K24,TRAINING_Minion[#All],4),0)","v":0},null,null,{"$f":"SUM(O24:P24)","v":0},null,{"$f":"G16+Q32","v":0}]
["Caserne non disponible\n(ou pas de Laboratoire)",null,null,null,null,"Camps Militaires",{"$f":"SUMPRODUCT(Paramètres!J6:J13,'Coûts de Formation'!AH31:AH38)","v":0},null,"Chevaucheur de Cochon",{"$f":"VLOOKUP($A$2,AVAILABLE_Upgrades_Dark_Troops[#All],MATCH($I25,AVAILABLE_Upgrades_Dark_Troops[#Headers],0)+1)","v":0},{"$f":"IF(ISERROR(MATCH(1,Paramètres!AZ$6:AZ$45,0)),0,MATCH(1,Paramètres!AZ$6:AZ$45,0))","v":0},{"$f":"IF($K25<>0,VLOOKUP($K25,TRAINING_Hog_Rider[#All],2),0)","v":0},{"$f":"IF($K25<>0,VLOOKUP($K25,TRAINING_Hog_Rider[#All],3),0)","v":0},{"$f":"IF($K25<>0,VLOOKUP($K25,TRAINING_Hog_Rider[#All],4),0)","v":0},5,null,5]
[null,null,null,null,null,null,null,null,"Valkyrie",{"$f":"VLOOKUP($A$2,AVAILABLE_Upgrades_Dark_Troops[#All],MATCH($I26,AVAILABLE_Upgrades_Dark_Troops[#Headers],0)+1)","v":0},{"$f":"IF(ISERROR(MATCH(1,Paramètres!BA$6:BA$45,0)),0,MATCH(1,Paramètres!BA$6:BA$45,0))","v":0},{"$f":"IF($K26<>0,VLOOKUP($K26,TRAINING_Valkyrie[#All],2),0)","v":0},{"$f":"IF($K26<>0,VLOOKUP($K26,TRAINING_Valkyrie[#All],3),0)","v":0},{"$f":"IF($K26<>0,VLOOKUP($K26,TRAINING_Valkyrie[#All],4),0)","v":0},null,null,0]
[null,null,null,null,null,null,null,null,"Golem",{"$f":"VLOOKUP($A$2,AVAILABLE_Upgrades_Dark_Troops[#All],MATCH($I27,AVAILABLE_Upgrades_Dark_Troops[#Headers],0)+1)","v":0},{"$f":"IF(ISERROR(MATCH(1,Paramètres!BB$6:BB$45,0)),0,MATCH(1,Paramètres!BB$6:BB$45,0))","v":0},{"$f":"IF($K27<>0,VLOOKUP($K27,TRAINING_Golem[#All],2),0)","v":0},{"$f":"IF($K27<>0,VLOOKUP($K27,TRAINING_Golem[#All],3),0)","v":0},{"$f":"IF($K27<>0,VLOOKUP($K27,TRAINING_Golem[#All],4),0)","v":0},null,null,0]
["Erreur - Camp Militaire\nMax. total atteint",null,null,null,null,null,null,null,"Sorcière",{"$f":"VLOOKUP($A$2,AVAILABLE_Upgrades_Dark_Troops[#All],MATCH($I28,AVAILABLE_Upgrades_Dark_Troops[#Headers],0)+1)","v":0},{"$f":"IF(ISERROR(MATCH(1,Paramètres!BC$6:BC$45,0)),0,MATCH(1,Paramètres!BC$6:BC$45,0))","v":0},{"$f":"IF($K28<>0,VLOOKUP($K28,TRAINING_Witch[#All],2),0)","v":0},{"$f":"IF($K28<>0,VLOOKUP($K28,TRAINING_Witch[#All],3),0)","v":0},{"$f":"IF($K28<>0,VLOOKUP($K28,TRAINING_Witch[#All],4),0)","v":0},null,null,0]
[null,null,null,null,null,null,null,null,"Molosse de lave",{"$f":"VLOOKUP($A$2,AVAILABLE_Upgrades_Dark_Troops[#All],MATCH($I29,AVAILABLE_Upgrades_Dark_Troops[#Headers],0)+1)","v":0},{"$f":"IF(ISERROR(MATCH(1,Paramètres!BD$6:BD$45,0)),0,MATCH(1,Paramètres!BD$6:BD$45,0))","v":0},{"$f":"IF($K29<>0,VLOOKUP($K29,TRAINING_Lava_Hound[#All],2),0)","v":0},{"$f":"IF($K29<>0,VLOOKUP($K29,TRAINING_Lava_Hound[#All],3),0)","v":0},{"$f":"IF($K29<>0,VLOOKUP($K29,TRAINING_Lava_Hound[#All],4),0)","v":0},null,null,0]
[null,null,null,null,null,null,null,null,null,"Espace Max",null,null,null,null,{"$f":"VLOOKUP(O$21,TRAINING_Dark_Barrack[#All],2)","v":70},{"$f":"VLOOKUP(P$21,TRAINING_Dark_Barrack[#All],2)","v":70},140]
[null,null,null,null,null,null,null,null,null,"Espace Total",null,null,null,null,{"$f":"SUMPRODUCT(O$24:O$29,$L$24:$L$29)","v":0},{"$f":"SUMPRODUCT(P$24:P$29,$L$24:$L$29)","v":0},0]
[null,null,null,null,null,null,null,null,null,"Coût Total",null,null,null,null,{"$f":"SUMPRODUCT(O$24:O$29,$M$24:$M$29)","v":0},{"$f":"SUMPRODUCT(P$24:P$29,$M$24:$M$29)","v":0},0]
[null,null,null,null,null,null,null,null,null,"Temps Total",null,null,null,null,{"$f":"IF($B$2='Paramètres - Admin'!$B$2,TEXT(SUMPRODUCT(O$24:O$29,$N$24:$N$29),\"# 0\")&\" \" & 'Paramètres - Admin'!$B$2,IF($B$2='Paramètres - Admin'!$B$3,TEXT(SUMPRODUCT(O$24:O$29,$N$24:$N$29)/60,\"# 0\")&\" \" & 'Paramètres - Admin'!$B$3,IF($B$2='Paramètres - Admin'!$B$4,TEXT(SUMPRODUCT(O$24:O$29,$N$24:$N$29)/3600,\"# 0,00\")&\" \" & 'Paramètres - Admin'!$B$4,IF(SUMPRODUCT(O$24:O$29,$N$24:$N$29)/3600>=1,INT(SUMPRODUCT(O$24:O$29,$N$24:$N$29)/3600) &\" \" & 'Paramètres - Admin'!$D$3 & \" \" & MINUTE(SUMPRODUCT(O$24:O$29,$N$24:$N$29)/86400-INT(SUMPRODUCT(O$24:O$29,$N$24:$N$29)/86400))  &\" \" & 'Paramètres - Admin'!$D$2 & \" \" & SECOND(SUMPRODUCT(O$24:O$29,$N$24:$N$29)/86400-INT(SUMPRODUCT(O$24:O$29,$N$24:$N$29)/86400)) &\" \" & 'Paramètres - Admin'!$D$5,MINUTE(SUMPRODUCT(O$24:O$29,$N$24:$N$29)/86400-INT(SUMPRODUCT(O$24:O$29,$N$24:$N$29)/86400)) &\" \" & 'Paramètres - Admin'!$D$2 & \" \" & SECOND(SUMPRODUCT(O$24:O$29,$N$24:$N$29)/86400-INT(SUMPRODUCT(O$24:O$29,$N$24:$N$29)/86400)) &\" \" & 'Paramètres - Admin'!$D$5))))","v":"0,00 heures"},{"$f":"IF($B$2='Paramètres - Admin'!$B$2,TEXT(SUMPRODUCT(P$24:P$29,$N$24:$N$29),\"# 0\")&\" \" & 'Paramètres - Admin'!$B$2,IF($B$2='Paramètres - Admin'!$B$3,TEXT(SUMPRODUCT(P$24:P$29,$N$24:$N$29)/60,\"# 0\")&\" \" & 'Paramètres - Admin'!$B$3,IF($B$2='Paramètres - Admin'!$B$4,TEXT(SUMPRODUCT(P$24:P$29,$N$24:$N$29)/3600,\"# 0,00\")&\" \" & 'Paramètres - Admin'!$B$4,IF(SUMPRODUCT(P$24:P$29,$N$24:$N$29)/3600>=1,INT(SUMPRODUCT(P$24:P$29,$N$24:$N$29)/3600) &\" \" & 'Paramètres - Admin'!$D$3 & \" \" & MINUTE(SUMPRODUCT(P$24:P$29,$N$24:$N$29)/86400-INT(SUMPRODUCT(P$24:P$29,$N$24:$N$29)/86400))  &\" \" & 'Paramètres - Admin'!$D$2 & \" \" & SECOND(SUMPRODUCT(P$24:P$29,$N$24:$N$29)/86400-INT(SUMPRODUCT(P$24:P$29,$N$24:$N$29)/86400)) &\" \" & 'Paramètres - Admin'!$D$5,MINUTE(SUMPRODUCT(P$24:P$29,$N$24:$N$29)/86400-INT(SUMPRODUCT(P$24:P$29,$N$24:$N$29)/86400)) &\" \" & 'Paramètres - Admin'!$D$2 & \" \" & SECOND(SUMPRODUCT(P$24:P$29,$N$24:$N$29)/86400-INT(SUMPRODUCT(P$24:P$29,$N$24:$N$29)/86400)) &\" \" & 'Paramètres - Admin'!$D$5))))","v":"0,00 heures"},{"$f":"IF($B$2='Paramètres - Admin'!$B$2,TEXT((SUMPRODUCT(O$24:O$29,$N$24:$N$29)+SUMPRODUCT(P$24:P$29,$N$24:$N$29)),\"# 0\")&\" \" & 'Paramètres - Admin'!$B$2,IF($B$2='Paramètres - Admin'!$B$3,TEXT((SUMPRODUCT(O$24:O$29,$N$24:$N$29)+SUMPRODUCT(P$24:P$29,$N$24:$N$29))/60,\"# 0\")&\" \" & 'Paramètres - Admin'!$B$3,IF($B$2='Paramètres - Admin'!$B$4,TEXT((SUMPRODUCT(O$24:O$29,$N$24:$N$29)+SUMPRODUCT(P$24:P$29,$N$24:$N$29))/3600,\"# 0,00\")&\" \" & 'Paramètres - Admin'!$B$4,IF((SUMPRODUCT(O$24:O$29,$N$24:$N$29)+SUMPRODUCT(P$24:P$29,$N$24:$N$29))/3600>=1,INT((SUMPRODUCT(O$24:O$29,$N$24:$N$29)+SUMPRODUCT(P$24:P$29,$N$24:$N$29))/3600) &\" \" & 'Paramètres - Admin'!$D$3 & \" \" & MINUTE((SUMPRODUCT(O$24:O$29,$N$24:$N$29)+SUMPRODUCT(P$24:P$29,$N$24:$N$29))/86400-INT((SUMPRODUCT(O$24:O$29,$N$24:$N$29)+SUMPRODUCT(P$24:P$29,$N$24:$N$29))/86400))  &\" \" & 'Paramètres - Admin'!$D$2 & \" \" & SECOND((SUMPRODUCT(O$24:O$29,$N$24:$N$29)+SUMPRODUCT(P$24:P$29,$N$24:$N$29))/86400-INT((SUMPRODUCT(O$24:O$29,$N$24:$N$29)+SUMPRODUCT(P$24:P$29,$N$24:$N$29))/86400)) &\" \" & 'Paramètres - Admin'!$D$5,MINUTE((SUMPRODUCT(O$24:O$29,$N$24:$N$29)+SUMPRODUCT(P$24:P$29,$N$24:$N$29))/86400-INT((SUMPRODUCT(O$24:O$29,$N$24:$N$29)+SUMPRODUCT(P$24:P$29,$N$24:$N$29))/86400)) &\" \" & 'Paramètres - Admin'!$D$2 & \" \" & SECOND((SUMPRODUCT(O$24:O$29,$N$24:$N$29)+SUMPRODUCT(P$24:P$29,$N$24:$N$29))/86400-INT((SUMPRODUCT(O$24:O$29,$N$24:$N$29)+SUMPRODUCT(P$24:P$29,$N$24:$N$29))/86400)) &\" \" & 'Paramètres - Admin'!$D$5))))","v":"0,00 heures"}]

{"sheet":"Bâtiments","index":8,"n_rows":74,"n_cols":49,"rows_kept":74,"cut":false,"hidden":true,"merged":[[45,14,45,26],[0,0,0,12],[60,0,60,4],[0,14,0,26],[45,0,45,12],[60,6,60,10],[15,0,15,12],[15,14,15,26],[30,0,30,22],[30,26,30,48]]}
["Bâtiments de Ressources (Disponibles et LVL Max)",null,null,null,null,null,null,null,null,null,null,null,null,null,"Bâtiments de Ressources (Changements)"]
["LVL HdV","Mine d'Or","LVL Max","Extracteur d'Élixir","LVL Max2","Foreuse d'Élixir Noir","LVL Max3","Réserve d'Or","LVL Max4","Réservoir d'Élixir","LVL Max5","Réservoir d'Élixir Noir","LVL Max6",null,"LVL HdV","Mine d'Or","LVL Max","Extracteur d'Élixir","LVL Max2","Foreuse d'Élixir Noir","LVL Max3","Réserve d'Or","LVL Max4","Réservoir d'Élixir","LVL Max5","Réservoir d'Élixir Noir","LVL Max6"]
[0,0,0,0,0,0,0,0,0,0,0,0,0,null,0,{"$f":"B3","v":0},0,0,0,0,0,0,0,0,0,0,0]
[1,1,2,1,2,0,0,1,1,1,1,0,0,null,1,{"$f":"B4-B3","v":1},{"$f":"C4-C3","v":2},{"$f":"D4-D3","v":1},{"$f":"E4-E3","v":2},{"$f":"F4-F3","v":0},{"$f":"G4-G3","v":0},{"$f":"H4-H3","v":1},{"$f":"I4-I3","v":1},{"$f":"J4-J3","v":1},{"$f":"K4-K3","v":1},{"$f":"L4-L3","v":0},{"$f":"M4-M3","v":0}]
[2,2,4,2,4,0,0,1,3,1,3,0,0,null,2,1,2,1,2,0,0,0,2,0,2,0,0]
[3,3,6,3,6,0,0,2,6,2,6,0,0,null,3,1,2,1,2,0,0,1,3,1,3,0,0]
[4,4,8,4,8,0,0,2,8,2,8,0,0,null,4,1,2,1,2,0,0,0,2,0,2,0,0]
[5,5,10,5,10,0,0,2,9,2,9,0,0,null,5,1,2,1,2,0,0,0,1,0,1,0,0]
[6,6,10,6,10,0,0,2,10,2,10,0,0,null,6,1,0,1,0,0,0,0,1,0,1,0,0]
[7,6,11,6,11,1,3,2,11,2,11,1,2,null,7,0,1,0,1,1,3,0,1,0,1,1,2]
[8,6,12,6,12,2,3,3,11,3,11,1,4,null,8,0,1,0,1,1,0,1,0,1,0,0,2]
[9,6,12,6,12,2,6,4,11,4,11,1,6,null,9,0,0,0,0,0,3,1,0,1,0,0,2]
[10,7,12,7,12,3,6,4,11,4,11,1,6,null,10,1,0,1,0,1,0,0,0,0,0,0,0]
[11,7,12,7,12,3,6,4,12,4,12,1,6,null,11,0,0,0,0,0,0,0,1,0,1,0,0]
[]
["Bâtiments d'Armée (Disponibles et LVL Max)",null,null,null,null,null,null,null,null,null,null,null,null,null,"Bâtiments d'Armée (Changements)"]
["LVL HdV","Caserne","LVL Max","Caserne Noire","LVL Max2","Camp Militaire","LVL Max3","Laboratoire","LVL Max4","Usine de Sorts","LVL Max5","Usine de Sorts Noirs","LVL Max7",null,"LVL HdV","Caserne","LVL Max","Caserne Noire","LVL Max2","Camp Militaire","LVL Max3","Laboratoire","LVL Max4","Usine de Sorts","LVL Max5","Usine de Sorts Noirs","LVL Max7"]
[0,0,0,0,0,0,0,0,0,0,0,0,0,null,0,{"$f":"B18","v":0},0,0,0,0,0,0,0,0,0,{"$f":"L18","v":0},{"$f":"M18","v":0}]
[1,1,3,0,0,1,1,0,0,0,0,0,0,null,1,{"$f":"B19-B18","v":1},{"$f":"C19-C18","v":3},{"$f":"D19-D18","v":0},{"$f":"E19-E18","v":0},{"$f":"F19-F18","v":1},{"$f":"G19-G18","v":1},{"$f":"H19-H18","v":0},{"$f":"I19-I18","v":0},{"$f":"J19-J18","v":0},{"$f":"K19-K18","v":0},{"$f":"L19-L18","v":0},{"$f":"M19-M18","v":0}]
[2,2,4,0,0,1,2,0,0,0,0,0,0,null,2,1,1,0,0,0,1,0,0,0,0,0,0]
[3,2,5,0,0,2,3,1,1,0,0,0,0,null,3,0,1,0,0,1,1,1,1,0,0,0,0]
[4,3,6,0,0,2,4,1,2,0,0,0,0,null,4,1,1,0,0,0,1,0,1,0,0,0,0]
[5,3,7,0,0,3,5,1,3,1,1,0,0,null,5,0,1,0,0,1,1,0,1,1,1,0,0]
[6,3,8,0,0,3,6,1,4,1,2,0,0,null,6,0,1,0,0,0,1,0,1,0,1,0,0]
[7,4,9,1,2,4,6,1,5,1,3,0,0,null,7,1,1,1,2,1,0,0,1,0,1,0,0]
[8,4,10,2,4,4,6,1,6,1,3,1,2,null,8,0,1,1,2,0,0,0,1,0,0,1,2]
[9,4,10,2,6,4,7,1,7,1,4,1,3,null,9,0,0,0,2,0,1,0,1,0,1,0,1]
[10,4,10,2,6,4,8,1,8,1,5,1,3,null,10,0,0,0,0,0,1,0,1,0,1,0,0]
[11,4,10,2,6,4,8,1,9,1,5,1,3,null,11,{"$f":"B29-B28","v":0},{"$f":"C29-C28","v":0},{"$f":"D29-D28","v":0},{"$f":"E29-E28","v":0},{"$f":"F29-F28","v":0},{"$f":"G29-G28","v":0},{"$f":"H29-H28","v":0},{"$f":"I29-I28","v":1},{"$f":"J29-J28","v":0},{"$f":"K29-K28","v":0},{"$f":"L29-L28","v":0},{"$f":"M29-M28","v":0}]
[]
["Bâtiments de Défense (Disponibles et LVL Max)",null,null,null,null,null,null,null,null,null,null,null,null,null,null,null,null,null,null,null,null,null,null,null,null,null,"Bâtiments de Défense (Changements)"]
["LVL HdV","Rempart","LVL Max","Canon","LVL Max2","Tour d'Archers","LVL Max3","Mortier","LVL Max4","Défense Antiaérienne","LVL Max5","Tour de Sorciers","LVL Max6","Propulseur d'air","LVL Max62","Tesla Camouflée","LVL Max7","Arc-X","LVL Max8","Tour de l'Enfer","LVL Max9","Aigle Artilleur","LVL Max11",null,null,null,"LVL HdV","Rempart","LVL Max","Canon","LVL Max2","Tour d'Archers","LVL Max3","Mortier","LVL Max43","Défense Antiaérienne","LVL Max55","Tour de Sorciers","LVL Max6","Propulsion d'air","LVL Max6.","Tesla Camouflée","LVL Max7","Arc-X","LVL Max8","Tour de l'Enfer","LVL Max4","Aigle Artilleur","LVL Max5"]
[0,0,0,0,0,0,0,0,0,0,0,0,0,0,0,0,0,0,0,0,0,0,0,null,null,null,0,{"$f":"B33","v":0},0,0,0,0,0,{"$f":"P33","v":0},{"$f":"Q33","v":0},{"$f":"R33","v":0},{"$f":"S33","v":0},{"$f":"L33","v":0},0,0,0,0,0,0,0,0,0,0,0]
[1,0,0,2,2,0,0,0,0,0,0,0,0,0,0,0,0,0,0,0,0,0,0,null,null,null,1,{"$f":"B34-B33","v":0},{"$f":"C34-C33","v":0},{"$f":"D34-D33","v":2},{"$f":"E34-E33","v":2},{"$f":"F34-F33","v":0},{"$f":"G34-G33","v":0},{"$f":"P34-P33","v":0},{"$f":"Q34-Q33","v":0},{"$f":"R34-R33","v":0},{"$f":"S34-S33","v":0},{"$f":"L34-L33","v":0},{"$f":"M34-M33","v":0},{"$f":"N34-N33","v":0},{"$f":"O34-O33","v":0},{"$f":"P34-P33","v":0},{"$f":"Q34-Q33","v":0},{"$f":"R34-R33","v":0},{"$f":"S34-S33","v":0},{"$f":"T34-T33","v":0},{"$f":"U34-U33","v":0},{"$f":"V34-V33","v":0},{"$f":"W34-W33","v":0}]
[2,25,2,2,3,1,2,0,0,0,0,0,0,0,0,0,0,0,0,0,0,0,0,null,null,null,2,25,2,0,1,1,2,0,0,0,0,0,0,0,0,0,0,0,0,0,0,0,0]
[3,50,3,2,4,1,3,1,1,0,0,0,0,0,0,0,0,0,0,0,0,0,0,null,null,null,3,25,1,0,1,0,1,0,0,0,0,0,0,0,0,0,0,0,0,0,0,0,0]
[4,75,4,2,5,2,4,1,2,1,2,0,0,0,0,0,0,0,0,0,0,0,0,null,null,null,4,25,1,0,1,1,1,0,0,0,0,0,0,0,0,0,0,0,0,0,0,0,0]
[5,100,5,3,6,3,6,1,3,1,3,1,2,0,0,0,0,0,0,0,0,0,0,null,null,null,5,25,1,1,1,1,2,0,0,0,0,1,2,0,0,0,0,0,0,0,0,0,0]
[6,125,6,3,7,3,7,2,4,1,4,2,3,1,2,0,0,0,0,0,0,0,0,null,null,null,6,25,1,0,1,0,1,0,0,0,0,1,1,1,2,0,0,0,0,0,0,0,0]
[7,175,7,5,8,4,8,3,5,2,5,2,4,1,3,2,3,0,0,0,0,0,0,null,null,null,7,50,1,2,1,1,1,2,3,0,0,0,1,0,1,2,3,0,0,0,0,0,0]
[8,225,8,5,10,5,10,4,6,3,6,3,6,1,4,3,6,0,0,0,0,0,0,null,null,null,8,50,1,0,2,1,2,1,3,0,0,1,2,0,1,1,3,0,0,0,0,0,0]
[9,250,10,5,11,6,11,4,7,4,7,4,7,2,5,4,7,2,3,0,0,0,0,null,null,null,9,25,2,0,1,1,1,1,1,2,3,1,1,1,1,1,1,2,3,0,0,0,0]
[10,275,11,6,13,7,13,4,8,4,8,4,8,2,6,4,8,3,4,2,3,0,0,null,null,null,10,25,1,1,2,1,2,0,1,1,1,0,1,0,1,0,1,1,1,2,3,0,0]
[11,275,11,7,13,8,13,4,8,4,8,5,9,2,6,4,8,4,4,2,3,1,2,null,null,null,11,0,0,1,0,1,0,0,0,1,0,1,1,0,0,0,0,1,0,0,0,1,2]
[]
["Pièges (Disponibles)",null,null,null,null,null,null,null,null,null,null,null,null,null,"Pièges (Changements)"]
["LVL HdV","Bombe","LVL Max33","Piège à ressort","LVL Max35","Bombe géante","LVL Max37","Bombe aérienne","LVL Max39","Tête chercheuse","LVL Max41","Piège squelettique","LVL Max43",null,"LVL HdV","Bombe","LVL Max","Piège à ressort","LVL Max2","Bombe géante","LVL Max3","Bombe aérienne","LVL Max32","Tête chercheuse","LVL Max4","Piège squelettique","LVL Max5"]
[0,0,0,0,0,0,0,0,0,0,0,0,0,null,0,{"$f":"B48","v":0},0,0,0,0,0,0,0,0,0,0,0]
[1,0,0,0,0,0,0,0,0,0,0,0,0,null,1,{"$f":"B49-B48","v":0},{"$f":"C49-C48","v":0},{"$f":"D49-D48","v":0},{"$f":"E49-E48","v":0},{"$f":"F49-F48","v":0},{"$f":"G49-G48","v":0},{"$f":"H49-H48","v":0},{"$f":"I49-I48","v":0},{"$f":"J49-J48","v":0},{"$f":"K49-K48","v":0},{"$f":"L49-L48","v":0},{"$f":"M49-M48","v":0}]
[2,0,0,0,0,0,0,0,0,0,0,0,0,null,2,0,0,0,0,0,0,0,0,0,0,0,0]
[3,2,2,0,0,0,0,0,0,0,0,0,0,null,3,2,2,0,0,0,0,0,0,0,0,0,0]
[4,2,2,2,1,0,0,0,0,0,0,0,0,null,4,0,0,2,1,0,0,0,0,0,0,0,0]
[5,4,3,2,1,0,0,2,2,0,0,0,0,null,5,2,1,0,0,0,0,2,2,0,0,0,0]
[6,4,3,4,1,1,2,2,2,0,0,0,0,null,6,0,0,2,0,1,2,0,0,0,0,0,0]
[7,6,4,4,1,2,2,2,3,1,1,0,0,null,7,2,1,0,0,1,0,0,1,1,1,0,0]
[8,6,5,6,1,3,3,4,3,2,1,2,2,null,8,0,1,2,0,1,1,2,0,1,0,2,2]
[9,6,6,6,1,4,3,4,4,4,2,2,3,null,9,0,1,0,0,1,0,0,1,2,1,0,1]
[10,6,6,6,1,5,4,5,4,5,3,3,3,null,10,0,0,0,0,1,1,1,0,1,1,1,0]
[11,6,6,6,1,5,4,5,4,5,3,3,3,null,11,{"$f":"B59-B58","v":0},{"$f":"C59-C58","v":0},{"$f":"D59-D58","v":0},{"$f":"E59-E58","v":0},{"$f":"F59-F58","v":0},{"$f":"G59-G58","v":0},{"$f":"H59-H58","v":0},{"$f":"I59-I58","v":0},{"$f":"J59-J58","v":0},{"$f":"K59-K58","v":0},{"$f":"L59-L58","v":0},{"$f":"M59-M58","v":0}]
[]
["Bâtiments Autres (Disponibles et LVL Max)",null,null,null,null,null,"Bâtiments Autres (Changements)"]
["LVL HdV","Château de Clan","LVL Max","Hôtel de Ville","LVL Max2",null,"LVL HdV","Château de Clan","LVL Max","Hôtel de Ville","LVL Max2"]
[0,0,0,0,0,null,0,{"$f":"B63","v":0},{"$f":"C63","v":0},{"$f":"D63","v":0},{"$f":"E63","v":0}]
[1,0,0,1,2,null,1,{"$f":"B64-B63","v":0},{"$f":"C64-C63","v":0},{"$f":"D64-D63","v":1},{"$f":"E64-E63","v":2}]
[2,0,0,1,3,null,2,0,0,0,1]
[3,1,1,1,4,null,3,1,1,0,1]
[4,1,2,1,5,null,4,0,1,0,1]
[5,1,2,1,6,null,5,0,0,0,1]
[6,1,3,1,7,null,6,0,1,0,1]
[7,1,3,1,8,null,7,0,0,0,1]
[8,1,4,1,9,null,8,0,1,0,1]
[9,1,5,1,10,null,9,0,1,0,1]
[10,1,6,1,11,null,10,0,1,0,1]
[11,1,6,1,11,null,11,{"$f":"B74-B73","v":0},{"$f":"C74-C73","v":0},{"$f":"D74-D73","v":0},{"$f":"E74-E73","v":0}]

{"sheet":"Améliorations - Sorts & Troupes","index":9,"n_rows":59,"n_cols":67,"rows_kept":59,"cut":false,"hidden":true,"merged":[[45,0,45,12],[0,12,0,22],[0,0,0,10],[30,0,30,20],[30,22,30,42],[0,24,0,29],[0,31,0,36],[15,0,15,6],[15,8,15,14],[15,16,15,19],[15,21,15,24],[30,44,30,54],[30,56,30,66],[45,29,45,35],[45,37,45,43],[45,14,45,26]]}
["Améliorations de Sorts (Disponibles et LVL Max)",null,null,null,null,null,null,null,null,null,null,null,"Améliorations de Sorts (Changements)",null,null,null,null,null,null,null,null,null,null,null,"Usine de Sorts",null,null,null,null,null,null,"Laboratoire"]
["LVL","Sort de Foudre","LVL Max","Sort de Guérison","LVL Max2","Sort de Rage","LVL Max3","Sort de Saut","LVL Max4","Sort de Gel","LVL Max5",null,"LVL","Sort de Foudre","LVL Max","Sort de Guérison","LVL Max2","Sort de Rage","LVL Max3","Sort de Saut","LVL Max4","Sort de Gel","LVL Max5",null,"LVL Spell Factory","Sort de Foudre","Sort de Guérison","Sort de Rage","Sort de Saut","Sort de Gel",null,"LVL Laboratory","Sort de Foudre","Sort de Guérison","Sort de Rage","Sort de Saut","Sort de Gel"]
[0,{"$f":"IF(Paramètres!$L$46=0,0,VLOOKUP(Paramètres!$L$47,SPELLFACTORY_Spells[#All],2))","v":0},{"$f":"IF($B3=0,0,IF(SUM(Paramètres!$K$6:$K$45)<>Paramètres!$K$3,0,VLOOKUP(MATCH(1,Paramètres!$K$6:$K$45,0),LABO_Spells[#All],2)))","v":0},{"$f":"IF(Paramètres!$L$46=0,0,VLOOKUP(Paramètres!$L$47,SPELLFACTORY_Spells[#All],3))","v":0},{"$f":"IF($D3=0,0,IF(SUM(Paramètres!$K$6:$K$45)<>Paramètres!$K$3,0,VLOOKUP(MATCH(1,Paramètres!$K$6:$K$45,0),LABO_Spells[#All],3)))","v":0},{"$f":"IF(Paramètres!$L$46=0,0,VLOOKUP(Paramètres!$L$47,SPELLFACTORY_Spells[#All],4))","v":0},{"$f":"IF($F3=0,0,IF(SUM(Paramètres!$K$6:$K$45)<>Paramètres!$K$3,0,VLOOKUP(MATCH(1,Paramètres!$K$6:$K$45,0),LABO_Spells[#All],4)))","v":0},{"$f":"IF(Paramètres!$L$46=0,0,VLOOKUP(Paramètres!$L$47,SPELLFACTORY_Spells[#All],5))","v":0},{"$f":"IF($H3=0,0,IF(SUM(Paramètres!$K$6:$K$45)<>Paramètres!$K$3,0,VLOOKUP(MATCH(1,Paramètres!$K$6:$K$45,0),LABO_Spells[#All],5)))","v":0},{"$f":"IF(Paramètres!$L$46=0,0,VLOOKUP(Paramètres!$L$47,SPELLFACTORY_Spells[#All],6))","v":0},{"$f":"IF($J3=0,0,IF(SUM(Paramètres!$K$6:$K$45)<>Paramètres!$K$3,0,VLOOKUP(MATCH(1,Paramètres!$K$6:$K$45,0),LABO_Spells[#All],6)))","v":0},null,0,{"$f":"B3","v":0},0,{"$f":"D3","v":0},0,0,0,0,0,0,0,null,0,0,0,0,0,0,null,0,0,0,0,0,0]
[1,{"$f":"IF(Paramètres!$L$46=0,0,VLOOKUP(Paramètres!$L$47,SPELLFACTORY_Spells[#All],2))","v":0},{"$f":"IF($B4=0,0,IF(SUM(Paramètres!$K$6:$K$45)<>Paramètres!$K$3,0,VLOOKUP(MATCH(1,Paramètres!$K$6:$K$45,0),LABO_Spells[#All],2)))","v":0},{"$f":"IF(Paramètres!$L$46=0,0,VLOOKUP(Paramètres!$L$47,SPELLFACTORY_Spells[#All],3))","v":0},{"$f":"IF($D4=0,0,IF(SUM(Paramètres!$K$6:$K$45)<>Paramètres!$K$3,0,VLOOKUP(MATCH(1,Paramètres!$K$6:$K$45,0),LABO_Spells[#All],3)))","v":0},{"$f":"IF(Paramètres!$L$46=0,0,VLOOKUP(Paramètres!$L$47,SPELLFACTORY_Spells[#All],4))","v":0},{"$f":"IF($F4=0,0,IF(SUM(Paramètres!$K$6:$K$45)<>Paramètres!$K$3,0,VLOOKUP(MATCH(1,Paramètres!$K$6:$K$45,0),LABO_Spells[#All],4)))","v":0},{"$f":"IF(Paramètres!$L$46=0,0,VLOOKUP(Paramètres!$L$47,SPELLFACTORY_Spells[#All],5))","v":0},{"$f":"IF($H4=0,0,IF(SUM(Paramètres!$K$6:$K$45)<>Paramètres!$K$3,0,VLOOKUP(MATCH(1,Paramètres!$K$6:$K$45,0),LABO_Spells[#All],5)))","v":0},{"$f":"IF(Paramètres!$L$46=0,0,VLOOKUP(Paramètres!$L$47,SPELLFACTORY_Spells[#All],6))","v":0},{"$f":"IF($J4=0,0,IF(SUM(Paramètres!$K$6:$K$45)<>Paramètres!$K$3,0,VLOOKUP(MATCH(1,Paramètres!$K$6:$K$45,0),LABO_Spells[#All],6)))","v":0},null,1,{"$f":"B4-B3","v":0},0,0,0,0,0,0,0,0,0,null,1,1,0,0,0,0,null,1,2,1,1,1,1]
[2,{"$f":"IF(Paramètres!$L$46=0,0,VLOOKUP(Paramètres!$L$47,SPELLFACTORY_Spells[#All],2))","v":0},{"$f":"IF($B5=0,0,IF(SUM(Paramètres!$K$6:$K$45)<>Paramètres!$K$3,0,VLOOKUP(MATCH(1,Paramètres!$K$6:$K$45,0),LABO_Spells[#All],2)))","v":0},{"$f":"IF(Paramètres!$L$46=0,0,VLOOKUP(Paramètres!$L$47,SPELLFACTORY_Spells[#All],3))","v":0},{"$f":"IF($D5=0,0,IF(SUM(Paramètres!$K$6:$K$45)<>Paramètres!$K$3,0,VLOOKUP(MATCH(1,Paramètres!$K$6:$K$45,0),LABO_Spells[#All],3)))","v":0},{"$f":"IF(Paramètres!$L$46=0,0,VLOOKUP(Paramètres!$L$47,SPELLFACTORY_Spells[#All],4))","v":0},{"$f":"IF($F5=0,0,IF(SUM(Paramètres!$K$6:$K$45)<>Paramètres!$K$3,0,VLOOKUP(MATCH(1,Paramètres!$K$6:$K$45,0),LABO_Spells[#All],4)))","v":0},{"$f":"IF(Paramètres!$L$46=0,0,VLOOKUP(Paramètres!$L$47,SPELLFACTORY_Spells[#All],5))","v":0},{"$f":"IF($H5=0,0,IF(SUM(Paramètres!$K$6:$K$45)<>Paramètres!$K$3,0,VLOOKUP(MATCH(1,Paramètres!$K$6:$K$45,0),LABO_Spells[#All],5)))","v":0},{"$f":"IF(Paramètres!$L$46=0,0,VLOOKUP(Paramètres!$L$47,SPELLFACTORY_Spells[#All],6))","v":0},{"$f":"IF($J5=0,0,IF(SUM(Paramètres!$K$6:$K$45)<>Paramètres!$K$3,0,VLOOKUP(MATCH(1,Paramètres!$K$6:$K$45,0),LABO_Spells[#All],6)))","v":0},null,2,{"$f":"B5-B4","v":0},{"$f":"C5-C4","v":0},{"$f":"D5-D4","v":0},{"$f":"E5-E4","v":0},{"$f":"F5-F4","v":0},{"$f":"G5-G4","v":0},{"$f":"H5-H4","v":0},{"$f":"I5-I4","v":0},{"$f":"J5-J4","v":0},{"$f":"K5-K4","v":0},null,2,1,1,0,0,0,null,2,3,2,1,1,1]
[3,{"$f":"IF(Paramètres!$L$46=0,0,VLOOKUP(Paramètres!$L$47,SPELLFACTORY_Spells[#All],2))","v":0},{"$f":"IF($B6=0,0,IF(SUM(Paramètres!$K$6:$K$45)<>Paramètres!$K$3,0,VLOOKUP(MATCH(1,Paramètres!$K$6:$K$45,0),LABO_Spells[#All],2)))","v":0},{"$f":"IF(Paramètres!$L$46=0,0,VLOOKUP(Paramètres!$L$47,SPELLFACTORY_Spells[#All],3))","v":0},{"$f":"IF($D6=0,0,IF(SUM(Paramètres!$K$6:$K$45)<>Paramètres!$K$3,0,VLOOKUP(MATCH(1,Paramètres!$K$6:$K$45,0),LABO_Spells[#All],3)))","v":0},{"$f":"IF(Paramètres!$L$46=0,0,VLOOKUP(Paramètres!$L$47,SPELLFACTORY_Spells[#All],4))","v":0},{"$f":"IF($F6=0,0,IF(SUM(Paramètres!$K$6:$K$45)<>Paramètres!$K$3,0,VLOOKUP(MATCH(1,Paramètres!$K$6:$K$45,0),LABO_Spells[#All],4)))","v":0},{"$f":"IF(Paramètres!$L$46=0,0,VLOOKUP(Paramètres!$L$47,SPELLFACTORY_Spells[#All],5))","v":0},{"$f":"IF($H6=0,0,IF(SUM(Paramètres!$K$6:$K$45)<>Paramètres!$K$3,0,VLOOKUP(MATCH(1,Paramètres!$K$6:$K$45,0),LABO_Spells[#All],5)))","v":0},{"$f":"IF(Paramètres!$L$46=0,0,VLOOKUP(Paramètres!$L$47,SPELLFACTORY_Spells[#All],6))","v":0},{"$f":"IF($J6=0,0,IF(SUM(Paramètres!$K$6:$K$45)<>Paramètres!$K$3,0,VLOOKUP(MATCH(1,Paramètres!$K$6:$K$45,0),LABO_Spells[#All],6)))","v":0},null,3,0,0,0,0,0,0,0,0,0,0,null,3,1,1,1,0,0,null,3,4,3,2,1,1]
[4,{"$f":"IF(Paramètres!$L$46=0,0,VLOOKUP(Paramètres!$L$47,SPELLFACTORY_Spells[#All],2))","v":0},{"$f":"IF($B7=0,0,IF(SUM(Paramètres!$K$6:$K$45)<>Paramètres!$K$3,0,VLOOKUP(MATCH(1,Paramètres!$K$6:$K$45,0),LABO_Spells[#All],2)))","v":0},{"$f":"IF(Paramètres!$L$46=0,0,VLOOKUP(Paramètres!$L$47,SPELLFACTORY_Spells[#All],3))","v":0},{"$f":"IF($D7=0,0,IF(SUM(Paramètres!$K$6:$K$45)<>Paramètres!$K$3,0,VLOOKUP(MATCH(1,Paramètres!$K$6:$K$45,0),LABO_Spells[#All],3)))","v":0},{"$f":"IF(Paramètres!$L$46=0,0,VLOOKUP(Paramètres!$L$47,SPELLFACTORY_Spells[#All],4))","v":0},{"$f":"IF($F7=0,0,IF(SUM(Paramètres!$K$6:$K$45)<>Paramètres!$K$3,0,VLOOKUP(MATCH(1,Paramètres!$K$6:$K$45,0),LABO_Spells[#All],4)))","v":0},{"$f":"IF(Paramètres!$L$46=0,0,VLOOKUP(Paramètres!$L$47,SPELLFACTORY_Spells[#All],5))","v":0},{"$f":"IF($H7=0,0,IF(SUM(Paramètres!$K$6:$K$45)<>Paramètres!$K$3,0,VLOOKUP(MATCH(1,Paramètres!$K$6:$K$45,0),LABO_Spells[#All],5)))","v":0},{"$f":"IF(Paramètres!$L$46=0,0,VLOOKUP(Paramètres!$L$47,SPELLFACTORY_Spells[#All],6))","v":0},{"$f":"IF($J7=0,0,IF(SUM(Paramètres!$K$6:$K$45)<>Paramètres!$K$3,0,VLOOKUP(MATCH(1,Paramètres!$K$6:$K$45,0),LABO_Spells[#All],6)))","v":0},null,4,0,0,0,0,0,0,0,0,0,0,null,4,1,1,1,1,1,null,4,4,3,3,1,1]
[5,{"$f":"IF(Paramètres!$L$46=0,0,VLOOKUP(Paramètres!$L$47,SPELLFACTORY_Spells[#All],2))","v":0},{"$f":"IF($B8=0,0,IF(SUM(Paramètres!$K$6:$K$45)<>Paramètres!$K$3,0,VLOOKUP(MATCH(1,Paramètres!$K$6:$K$45,0),LABO_Spells[#All],2)))","v":0},{"$f":"IF(Paramètres!$L$46=0,0,VLOOKUP(Paramètres!$L$47,SPELLFACTORY_Spells[#All],3))","v":0},{"$f":"IF($D8=0,0,IF(SUM(Paramètres!$K$6:$K$45)<>Paramètres!$K$3,0,VLOOKUP(MATCH(1,Paramètres!$K$6:$K$45,0),LABO_Spells[#All],3)))","v":0},{"$f":"IF(Paramètres!$L$46=0,0,VLOOKUP(Paramètres!$L$47,SPELLFACTORY_Spells[#All],4))","v":0},{"$f":"IF($F8=0,0,IF(SUM(Paramètres!$K$6:$K$45)<>Paramètres!$K$3,0,VLOOKUP(MATCH(1,Paramètres!$K$6:$K$45,0),LABO_Spells[#All],4)))","v":0},{"$f":"IF(Paramètres!$L$46=0,0,VLOOKUP(Paramètres!$L$47,SPELLFACTORY_Spells[#All],5))","v":0},{"$f":"IF($H8=0,0,IF(SUM(Paramètres!$K$6:$K$45)<>Paramètres!$K$3,0,VLOOKUP(MATCH(1,Paramètres!$K$6:$K$45,0),LABO_Spells[#All],5)))","v":0},{"$f":"IF(Paramètres!$L$46=0,0,VLOOKUP(Paramètres!$L$47,SPELLFACTORY_Spells[#All],6))","v":0},{"$f":"IF($J8=0,0,IF(SUM(Paramètres!$K$6:$K$45)<>Paramètres!$K$3,0,VLOOKUP(MATCH(1,Paramètres!$K$6:$K$45,0),LABO_Spells[#All],6)))","v":0},null,5,0,0,0,0,0,0,0,0,0,0,null,5,1,1,1,1,1,null,5,4,4,4,1,1]
[6,{"$f":"IF(Paramètres!$L$46=0,0,VLOOKUP(Paramètres!$L$47,SPELLFACTORY_Spells[#All],2))","v":0},{"$f":"IF($B9=0,0,IF(SUM(Paramètres!$K$6:$K$45)<>Paramètres!$K$3,0,VLOOKUP(MATCH(1,Paramètres!$K$6:$K$45,0),LABO_Spells[#All],2)))","v":0},{"$f":"IF(Paramètres!$L$46=0,0,VLOOKUP(Paramètres!$L$47,SPELLFACTORY_Spells[#All],3))","v":0},{"$f":"IF($D9=0,0,IF(SUM(Paramètres!$K$6:$K$45)<>Paramètres!$K$3,0,VLOOKUP(MATCH(1,Paramètres!$K$6:$K$45,0),LABO_Spells[#All],3)))","v":0},{"$f":"IF(Paramètres!$L$46=0,0,VLOOKUP(Paramètres!$L$47,SPELLFACTORY_Spells[#All],4))","v":0},{"$f":"IF($F9=0,0,IF(SUM(Paramètres!$K$6:$K$45)<>Paramètres!$K$3,0,VLOOKUP(MATCH(1,Paramètres!$K$6:$K$45,0),LABO_Spells[#All],4)))","v":0},{"$f":"IF(Paramètres!$L$46=0,0,VLOOKUP(Paramètres!$L$47,SPELLFACTORY_Spells[#All],5))","v":0},{"$f":"IF($H9=0,0,IF(SUM(Paramètres!$K$6:$K$45)<>Paramètres!$K$3,0,VLOOKUP(MATCH(1,Paramètres!$K$6:$K$45,0),LABO_Spells[#All],5)))","v":0},{"$f":"IF(Paramètres!$L$46=0,0,VLOOKUP(Paramètres!$L$47,SPELLFACTORY_Spells[#All],6))","v":0},{"$f":"IF($J9=0,0,IF(SUM(Paramètres!$K$6:$K$45)<>Paramètres!$K$3,0,VLOOKUP(MATCH(1,Paramètres!$K$6:$K$45,0),LABO_Spells[#All],6)))","v":0},null,6,0,0,0,0,0,0,0,0,0,0,null,6,1,1,1,1,1,null,6,5,5,5,2,1]
[7,{"$f":"IF(Paramètres!$L$46=0,0,VLOOKUP(Paramètres!$L$47,SPELLFACTORY_Spells[#All],2))","v":0},{"$f":"IF($B10=0,0,IF(SUM(Paramètres!$K$6:$K$45)<>Paramètres!$K$3,0,VLOOKUP(MATCH(1,Paramètres!$K$6:$K$45,0),LABO_Spells[#All],2)))","v":0},{"$f":"IF(Paramètres!$L$46=0,0,VLOOKUP(Paramètres!$L$47,SPELLFACTORY_Spells[#All],3))","v":0},{"$f":"IF($D10=0,0,IF(SUM(Paramètres!$K$6:$K$45)<>Paramètres!$K$3,0,VLOOKUP(MATCH(1,Paramètres!$K$6:$K$45,0),LABO_Spells[#All],3)))","v":0},{"$f":"IF(Paramètres!$L$46=0,0,VLOOKUP(Paramètres!$L$47,SPELLFACTORY_Spells[#All],4))","v":0},{"$f":"IF($F10=0,0,IF(SUM(Paramètres!$K$6:$K$45)<>Paramètres!$K$3,0,VLOOKUP(MATCH(1,Paramètres!$K$6:$K$45,0),LABO_Spells[#All],4)))","v":0},{"$f":"IF(Paramètres!$L$46=0,0,VLOOKUP(Paramètres!$L$47,SPELLFACTORY_Spells[#All],5))","v":0},{"$f":"IF($H10=0,0,IF(SUM(Paramètres!$K$6:$K$45)<>Paramètres!$K$3,0,VLOOKUP(MATCH(1,Paramètres!$K$6:$K$45,0),LABO_Spells[#All],5)))","v":0},{"$f":"IF(Paramètres!$L$46=0,0,VLOOKUP(Paramètres!$L$47,SPELLFACTORY_Spells[#All],6))","v":0},{"$f":"IF($J10=0,0,IF(SUM(Paramètres!$K$6:$K$45)<>Paramètres!$K$3,0,VLOOKUP(MATCH(1,Paramètres!$K$6:$K$45,0),LABO_Spells[#All],6)))","v":0},null,7,0,0,0,0,0,0,0,0,0,0,null,7,1,1,1,1,1,null,7,6,6,5,2,1]
[8,{"$f":"IF(Paramètres!$L$46=0,0,VLOOKUP(Paramètres!$L$47,SPELLFACTORY_Spells[#All],2))","v":0},{"$f":"IF($B11=0,0,IF(SUM(Paramètres!$K$6:$K$45)<>Paramètres!$K$3,0,VLOOKUP(MATCH(1,Paramètres!$K$6:$K$45,0),LABO_Spells[#All],2)))","v":0},{"$f":"IF(Paramètres!$L$46=0,0,VLOOKUP(Paramètres!$L$47,SPELLFACTORY_Spells[#All],3))","v":0},{"$f":"IF($D11=0,0,IF(SUM(Paramètres!$K$6:$K$45)<>Paramètres!$K$3,0,VLOOKUP(MATCH(1,Paramètres!$K$6:$K$45,0),LABO_Spells[#All],3)))","v":0},{"$f":"IF(Paramètres!$L$46=0,0,VLOOKUP(Paramètres!$L$47,SPELLFACTORY_Spells[#All],4))","v":0},{"$f":"IF($F11=0,0,IF(SUM(Paramètres!$K$6:$K$45)<>Paramètres!$K$3,0,VLOOKUP(MATCH(1,Paramètres!$K$6:$K$45,0),LABO_Spells[#All],4)))","v":0},{"$f":"IF(Paramètres!$L$46=0,0,VLOOKUP(Paramètres!$L$47,SPELLFACTORY_Spells[#All],5))","v":0},{"$f":"IF($H11=0,0,IF(SUM(Paramètres!$K$6:$K$45)<>Paramètres!$K$3,0,VLOOKUP(MATCH(1,Paramètres!$K$6:$K$45,0),LABO_Spells[#All],5)))","v":0},{"$f":"IF(Paramètres!$L$46=0,0,VLOOKUP(Paramètres!$L$47,SPELLFACTORY_Spells[#All],6))","v":0},{"$f":"IF($J11=0,0,IF(SUM(Paramètres!$K$6:$K$45)<>Paramètres!$K$3,0,VLOOKUP(MATCH(1,Paramètres!$K$6:$K$45,0),LABO_Spells[#All],6)))","v":0},null,8,0,0,0,0,0,0,0,0,0,0,null,null,null,null,null,null,null,null,8,7,6,5,3,5]
[9,{"$f":"IF(Paramètres!$L$46=0,0,VLOOKUP(Paramètres!$L$47,SPELLFACTORY_Spells[#All],2))","v":0},{"$f":"IF($B12=0,0,IF(SUM(Paramètres!$K$6:$K$45)<>Paramètres!$K$3,0,VLOOKUP(MATCH(1,Paramètres!$K$6:$K$45,0),LABO_Spells[#All],2)))","v":0},{"$f":"IF(Paramètres!$L$46=0,0,VLOOKUP(Paramètres!$L$47,SPELLFACTORY_Spells[#All],3))","v":0},{"$f":"IF($D12=0,0,IF(SUM(Paramètres!$K$6:$K$45)<>Paramètres!$K$3,0,VLOOKUP(MATCH(1,Paramètres!$K$6:$K$45,0),LABO_Spells[#All],3)))","v":0},{"$f":"IF(Paramètres!$L$46=0,0,VLOOKUP(Paramètres!$L$47,SPELLFACTORY_Spells[#All],4))","v":0},{"$f":"IF($F12=0,0,IF(SUM(Paramètres!$K$6:$K$45)<>Paramètres!$K$3,0,VLOOKUP(MATCH(1,Paramètres!$K$6:$K$45,0),LABO_Spells[#All],4)))","v":0},{"$f":"IF(Paramètres!$L$46=0,0,VLOOKUP(Paramètres!$L$47,SPELLFACTORY_Spells[#All],5))","v":0},{"$f":"IF($H12=0,0,IF(SUM(Paramètres!$K$6:$K$45)<>Paramètres!$K$3,0,VLOOKUP(MATCH(1,Paramètres!$K$6:$K$45,0),LABO_Spells[#All],5)))","v":0},{"$f":"IF(Paramètres!$L$46=0,0,VLOOKUP(Paramètres!$L$47,SPELLFACTORY_Spells[#All],6))","v":0},{"$f":"IF($J12=0,0,IF(SUM(Paramètres!$K$6:$K$45)<>Paramètres!$K$3,0,VLOOKUP(MATCH(1,Paramètres!$K$6:$K$45,0),LABO_Spells[#All],6)))","v":0},null,9,0,0,0,0,0,0,0,0,0,0,null,null,null,null,null,null,null,null,9,7,6,5,3,5]
[10,{"$f":"IF(Paramètres!$L$46=0,0,VLOOKUP(Paramètres!$L$47,SPELLFACTORY_Spells[#All],2))","v":0},{"$f":"IF($B13=0,0,IF(SUM(Paramètres!$K$6:$K$45)<>Paramètres!$K$3,0,VLOOKUP(MATCH(1,Paramètres!$K$6:$K$45,0),LABO_Spells[#All],2)))","v":0},{"$f":"IF(Paramètres!$L$46=0,0,VLOOKUP(Paramètres!$L$47,SPELLFACTORY_Spells[#All],3))","v":0},{"$f":"IF($D13=0,0,IF(SUM(Paramètres!$K$6:$K$45)<>Paramètres!$K$3,0,VLOOKUP(MATCH(1,Paramètres!$K$6:$K$45,0),LABO_Spells[#All],3)))","v":0},{"$f":"IF(Paramètres!$L$46=0,0,VLOOKUP(Paramètres!$L$47,SPELLFACTORY_Spells[#All],4))","v":0},{"$f":"IF($F13=0,0,IF(SUM(Paramètres!$K$6:$K$45)<>Paramètres!$K$3,0,VLOOKUP(MATCH(1,Paramètres!$K$6:$K$45,0),LABO_Spells[#All],4)))","v":0},{"$f":"IF(Paramètres!$L$46=0,0,VLOOKUP(Paramètres!$L$47,SPELLFACTORY_Spells[#All],5))","v":0},{"$f":"IF($H13=0,0,IF(SUM(Paramètres!$K$6:$K$45)<>Paramètres!$K$3,0,VLOOKUP(MATCH(1,Paramètres!$K$6:$K$45,0),LABO_Spells[#All],5)))","v":0},{"$f":"IF(Paramètres!$L$46=0,0,VLOOKUP(Paramètres!$L$47,SPELLFACTORY_Spells[#All],6))","v":0},{"$f":"IF($J13=0,0,IF(SUM(Paramètres!$K$6:$K$45)<>Paramètres!$K$3,0,VLOOKUP(MATCH(1,Paramètres!$K$6:$K$45,0),LABO_Spells[#All],6)))","v":0},null,10,0,0,0,0,0,0,0,0,0,0]
[11,{"$f":"IF(Paramètres!$L$46=0,0,VLOOKUP(Paramètres!$L$47,SPELLFACTORY_Spells[#All],2))","v":0},{"$f":"IF($B14=0,0,IF(SUM(Paramètres!$K$6:$K$45)<>Paramètres!$K$3,0,VLOOKUP(MATCH(1,Paramètres!$K$6:$K$45,0),LABO_Spells[#All],2)))","v":0},{"$f":"IF(Paramètres!$L$46=0,0,VLOOKUP(Paramètres!$L$47,SPELLFACTORY_Spells[#All],3))","v":0},{"$f":"IF($D14=0,0,IF(SUM(Paramètres!$K$6:$K$45)<>Paramètres!$K$3,0,VLOOKUP(MATCH(1,Paramètres!$K$6:$K$45,0),LABO_Spells[#All],3)))","v":0},{"$f":"IF(Paramètres!$L$46=0,0,VLOOKUP(Paramètres!$L$47,SPELLFACTORY_Spells[#All],4))","v":0},{"$f":"IF($F14=0,0,IF(SUM(Paramètres!$K$6:$K$45)<>Paramètres!$K$3,0,VLOOKUP(MATCH(1,Paramètres!$K$6:$K$45,0),LABO_Spells[#All],4)))","v":0},{"$f":"IF(Paramètres!$L$46=0,0,VLOOKUP(Paramètres!$L$47,SPELLFACTORY_Spells[#All],5))","v":0},{"$f":"IF($H14=0,0,IF(SUM(Paramètres!$K$6:$K$45)<>Paramètres!$K$3,0,VLOOKUP(MATCH(1,Paramètres!$K$6:$K$45,0),LABO_Spells[#All],5)))","v":0},{"$f":"IF(Paramètres!$L$46=0,0,VLOOKUP(Paramètres!$L$47,SPELLFACTORY_Spells[#All],6))","v":0},{"$f":"IF($J14=0,0,IF(SUM(Paramètres!$K$6:$K$45)<>Paramètres!$K$3,0,VLOOKUP(MATCH(1,Paramètres!$K$6:$K$45,0),LABO_Spells[#All],6)))","v":0},null,11,{"$f":"B14-B13","v":0},{"$f":"C14-C13","v":0},{"$f":"D14-D13","v":0},{"$f":"E14-E13","v":0},{"$f":"F14-F13","v":0},{"$f":"G14-G13","v":0},{"$f":"H14-H13","v":0},{"$f":"I14-I13","v":0},{"$f":"J14-J13","v":0},{"$f":"K14-K13","v":0}]
[]
["Améliorations de Sorts Noirs (Disponibles et LVL Max)",null,null,null,null,null,null,null,"Améliorations de Sorts Noirs (Changements)",null,null,null,null,null,null,null,"Usine de Sorts Noirs",null,null,null,null,"Laboratoire"]
["LVL","Sort de Poison","LVL Max","Sort de Séisme","LVL Max2","Sort de Hâte","LVL Max3",null,"LVL","Sort de Poison","LVL Max","Sort de Séisme","LVL Max2","Sort de Hâte","LVL Max3",null,"LVL  Dark Spell Factory","Sort de Poison","Sort de Séisme","Sort de Hâte",null,"LVL Laboratory","Sort de Poison","Sort de Séisme","Sort de Hâte"]
[0,{"$f":"IF(Paramètres!$M$46=0,0,VLOOKUP(Paramètres!$M$47,SPELLFACTORY_DarkSpells[#All],2))","v":0},{"$f":"IF($B18=0,0,IF(SUM(Paramètres!$K$6:$K$45)<>Paramètres!$K$3,0,VLOOKUP(MATCH(1,Paramètres!$K$6:$K$45,0),LABO_Dark_Spells[#All],2)))","v":0},{"$f":"IF(Paramètres!$M$46=0,0,VLOOKUP(Paramètres!$M$47,SPELLFACTORY_DarkSpells[#All],3))","v":0},{"$f":"IF($D18=0,0,IF(SUM(Paramètres!$K$6:$K$45)<>Paramètres!$K$3,0,VLOOKUP(MATCH(1,Paramètres!$K$6:$K$45,0),LABO_Dark_Spells[#All],3)))","v":0},{"$f":"IF(Paramètres!$M$46=0,0,VLOOKUP(Paramètres!$M$47,SPELLFACTORY_DarkSpells[#All],4))","v":0},{"$f":"IF($F18=0,0,IF(SUM(Paramètres!$K$6:$K$45)<>Paramètres!$K$3,0,VLOOKUP(MATCH(1,Paramètres!$K$6:$K$45,0),LABO_Dark_Spells[#All],4)))","v":0},null,0,{"$f":"B18","v":0},{"$f":"C18","v":0},{"$f":"D18","v":0},{"$f":"E18","v":0},{"$f":"F18","v":0},{"$f":"G18","v":0},null,0,0,0,0,null,0,0,0,0]
[1,{"$f":"IF(Paramètres!$M$46=0,0,VLOOKUP(Paramètres!$M$47,SPELLFACTORY_DarkSpells[#All],2))","v":0},{"$f":"IF($B19=0,0,IF(SUM(Paramètres!$K$6:$K$45)<>Paramètres!$K$3,0,VLOOKUP(MATCH(1,Paramètres!$K$6:$K$45,0),LABO_Dark_Spells[#All],2)))","v":0},{"$f":"IF(Paramètres!$M$46=0,0,VLOOKUP(Paramètres!$M$47,SPELLFACTORY_DarkSpells[#All],3))","v":0},{"$f":"IF($D19=0,0,IF(SUM(Paramètres!$K$6:$K$45)<>Paramètres!$K$3,0,VLOOKUP(MATCH(1,Paramètres!$K$6:$K$45,0),LABO_Dark_Spells[#All],3)))","v":0},{"$f":"IF(Paramètres!$M$46=0,0,VLOOKUP(Paramètres!$M$47,SPELLFACTORY_DarkSpells[#All],4))","v":0},{"$f":"IF($F19=0,0,IF(SUM(Paramètres!$K$6:$K$45)<>Paramètres!$K$3,0,VLOOKUP(MATCH(1,Paramètres!$K$6:$K$45,0),LABO_Dark_Spells[#All],4)))","v":0},null,1,{"$f":"B19-B18","v":0},{"$f":"C19-C18","v":0},{"$f":"D19-D18","v":0},{"$f":"E19-E18","v":0},{"$f":"F19-F18","v":0},{"$f":"G19-G18","v":0},null,1,1,0,0,null,1,0,0,0]
[2,{"$f":"IF(Paramètres!$M$46=0,0,VLOOKUP(Paramètres!$M$47,SPELLFACTORY_DarkSpells[#All],2))","v":0},{"$f":"IF($B20=0,0,IF(SUM(Paramètres!$K$6:$K$45)<>Paramètres!$K$3,0,VLOOKUP(MATCH(1,Paramètres!$K$6:$K$45,0),LABO_Dark_Spells[#All],2)))","v":0},{"$f":"IF(Paramètres!$M$46=0,0,VLOOKUP(Paramètres!$M$47,SPELLFACTORY_DarkSpells[#All],3))","v":0},{"$f":"IF($D20=0,0,IF(SUM(Paramètres!$K$6:$K$45)<>Paramètres!$K$3,0,VLOOKUP(MATCH(1,Paramètres!$K$6:$K$45,0),LABO_Dark_Spells[#All],3)))","v":0},{"$f":"IF(Paramètres!$M$46=0,0,VLOOKUP(Paramètres!$M$47,SPELLFACTORY_DarkSpells[#All],4))","v":0},{"$f":"IF($F20=0,0,IF(SUM(Paramètres!$K$6:$K$45)<>Paramètres!$K$3,0,VLOOKUP(MATCH(1,Paramètres!$K$6:$K$45,0),LABO_Dark_Spells[#All],4)))","v":0},null,2,0,0,0,0,0,0,null,2,1,1,0,null,2,0,0,0]
[3,{"$f":"IF(Paramètres!$M$46=0,0,VLOOKUP(Paramètres!$M$47,SPELLFACTORY_DarkSpells[#All],2))","v":0},{"$f":"IF($B21=0,0,IF(SUM(Paramètres!$K$6:$K$45)<>Paramètres!$K$3,0,VLOOKUP(MATCH(1,Paramètres!$K$6:$K$45,0),LABO_Dark_Spells[#All],2)))","v":0},{"$f":"IF(Paramètres!$M$46=0,0,VLOOKUP(Paramètres!$M$47,SPELLFACTORY_DarkSpells[#All],3))","v":0},{"$f":"IF($D21=0,0,IF(SUM(Paramètres!$K$6:$K$45)<>Paramètres!$K$3,0,VLOOKUP(MATCH(1,Paramètres!$K$6:$K$45,0),LABO_Dark_Spells[#All],3)))","v":0},{"$f":"IF(Paramètres!$M$46=0,0,VLOOKUP(Paramètres!$M$47,SPELLFACTORY_DarkSpells[#All],4))","v":0},{"$f":"IF($F21=0,0,IF(SUM(Paramètres!$K$6:$K$45)<>Paramètres!$K$3,0,VLOOKUP(MATCH(1,Paramètres!$K$6:$K$45,0),LABO_Dark_Spells[#All],4)))","v":0},null,3,0,0,0,0,0,0,null,3,1,1,1,null,3,0,0,0]
[4,{"$f":"IF(Paramètres!$M$46=0,0,VLOOKUP(Paramètres!$M$47,SPELLFACTORY_DarkSpells[#All],2))","v":0},{"$f":"IF($B22=0,0,IF(SUM(Paramètres!$K$6:$K$45)<>Paramètres!$K$3,0,VLOOKUP(MATCH(1,Paramètres!$K$6:$K$45,0),LABO_Dark_Spells[#All],2)))","v":0},{"$f":"IF(Paramètres!$M$46=0,0,VLOOKUP(Paramètres!$M$47,SPELLFACTORY_DarkSpells[#All],3))","v":0},{"$f":"IF($D22=0,0,IF(SUM(Paramètres!$K$6:$K$45)<>Paramètres!$K$3,0,VLOOKUP(MATCH(1,Paramètres!$K$6:$K$45,0),LABO_Dark_Spells[#All],3)))","v":0},{"$f":"IF(Paramètres!$M$46=0,0,VLOOKUP(Paramètres!$M$47,SPELLFACTORY_DarkSpells[#All],4))","v":0},{"$f":"IF($F22=0,0,IF(SUM(Paramètres!$K$6:$K$45)<>Paramètres!$K$3,0,VLOOKUP(MATCH(1,Paramètres!$K$6:$K$45,0),LABO_Dark_Spells[#All],4)))","v":0},null,4,0,0,0,0,0,0,null,4,1,1,1,null,4,0,0,0]
[5,{"$f":"IF(Paramètres!$M$46=0,0,VLOOKUP(Paramètres!$M$47,SPELLFACTORY_DarkSpells[#All],2))","v":0},{"$f":"IF($B23=0,0,IF(SUM(Paramètres!$K$6:$K$45)<>Paramètres!$K$3,0,VLOOKUP(MATCH(1,Paramètres!$K$6:$K$45,0),LABO_Dark_Spells[#All],2)))","v":0},{"$f":"IF(Paramètres!$M$46=0,0,VLOOKUP(Paramètres!$M$47,SPELLFACTORY_DarkSpells[#All],3))","v":0},{"$f":"IF($D23=0,0,IF(SUM(Paramètres!$K$6:$K$45)<>Paramètres!$K$3,0,VLOOKUP(MATCH(1,Paramètres!$K$6:$K$45,0),LABO_Dark_Spells[#All],3)))","v":0},{"$f":"IF(Paramètres!$M$46=0,0,VLOOKUP(Paramètres!$M$47,SPELLFACTORY_DarkSpells[#All],4))","v":0},{"$f":"IF($F23=0,0,IF(SUM(Paramètres!$K$6:$K$45)<>Paramètres!$K$3,0,VLOOKUP(MATCH(1,Paramètres!$K$6:$K$45,0),LABO_Dark_Spells[#All],4)))","v":0},null,5,0,0,0,0,0,0,null,5,1,1,1,null,5,0,0,0]
[6,{"$f":"IF(Paramètres!$M$46=0,0,VLOOKUP(Paramètres!$M$47,SPELLFACTORY_DarkSpells[#All],2))","v":0},{"$f":"IF($B24=0,0,IF(SUM(Paramètres!$K$6:$K$45)<>Paramètres!$K$3,0,VLOOKUP(MATCH(1,Paramètres!$K$6:$K$45,0),LABO_Dark_Spells[#All],2)))","v":0},{"$f":"IF(Paramètres!$M$46=0,0,VLOOKUP(Paramètres!$M$47,SPELLFACTORY_DarkSpells[#All],3))","v":0},{"$f":"IF($D24=0,0,IF(SUM(Paramètres!$K$6:$K$45)<>Paramètres!$K$3,0,VLOOKUP(MATCH(1,Paramètres!$K$6:$K$45,0),LABO_Dark_Spells[#All],3)))","v":0},{"$f":"IF(Paramètres!$M$46=0,0,VLOOKUP(Paramètres!$M$47,SPELLFACTORY_DarkSpells[#All],4))","v":0},{"$f":"IF($F24=0,0,IF(SUM(Paramètres!$K$6:$K$45)<>Paramètres!$K$3,0,VLOOKUP(MATCH(1,Paramètres!$K$6:$K$45,0),LABO_Dark_Spells[#All],4)))","v":0},null,6,0,0,0,0,0,0,null,6,1,1,1,null,6,2,2,0]
[7,{"$f":"IF(Paramètres!$M$46=0,0,VLOOKUP(Paramètres!$M$47,SPELLFACTORY_DarkSpells[#All],2))","v":0},{"$f":"IF($B25=0,0,IF(SUM(Paramètres!$K$6:$K$45)<>Paramètres!$K$3,0,VLOOKUP(MATCH(1,Paramètres!$K$6:$K$45,0),LABO_Dark_Spells[#All],2)))","v":0},{"$f":"IF(Paramètres!$M$46=0,0,VLOOKUP(Paramètres!$M$47,SPELLFACTORY_DarkSpells[#All],3))","v":0},{"$f":"IF($D25=0,0,IF(SUM(Paramètres!$K$6:$K$45)<>Paramètres!$K$3,0,VLOOKUP(MATCH(1,Paramètres!$K$6:$K$45,0),LABO_Dark_Spells[#All],3)))","v":0},{"$f":"IF(Paramètres!$M$46=0,0,VLOOKUP(Paramètres!$M$47,SPELLFACTORY_DarkSpells[#All],4))","v":0},{"$f":"IF($F25=0,0,IF(SUM(Paramètres!$K$6:$K$45)<>Paramètres!$K$3,0,VLOOKUP(MATCH(1,Paramètres!$K$6:$K$45,0),LABO_Dark_Spells[#All],4)))","v":0},null,7,0,0,0,0,0,0,null,null,null,null,null,null,7,3,3,2]
[8,{"$f":"IF(Paramètres!$M$46=0,0,VLOOKUP(Paramètres!$M$47,SPELLFACTORY_DarkSpells[#All],2))","v":0},{"$f":"IF($B26=0,0,IF(SUM(Paramètres!$K$6:$K$45)<>Paramètres!$K$3,0,VLOOKUP(MATCH(1,Paramètres!$K$6:$K$45,0),LABO_Dark_Spells[#All],2)))","v":0},{"$f":"IF(Paramètres!$M$46=0,0,VLOOKUP(Paramètres!$M$47,SPELLFACTORY_DarkSpells[#All],3))","v":0},{"$f":"IF($D26=0,0,IF(SUM(Paramètres!$K$6:$K$45)<>Paramètres!$K$3,0,VLOOKUP(MATCH(1,Paramètres!$K$6:$K$45,0),LABO_Dark_Spells[#All],3)))","v":0},{"$f":"IF(Paramètres!$M$46=0,0,VLOOKUP(Paramètres!$M$47,SPELLFACTORY_DarkSpells[#All],4))","v":0},{"$f":"IF($F26=0,0,IF(SUM(Paramètres!$K$6:$K$45)<>Paramètres!$K$3,0,VLOOKUP(MATCH(1,Paramètres!$K$6:$K$45,0),LABO_Dark_Spells[#All],4)))","v":0},null,8,0,0,0,0,0,0,null,null,null,null,null,null,8,4,4,4]
[9,{"$f":"IF(Paramètres!$M$46=0,0,VLOOKUP(Paramètres!$M$47,SPELLFACTORY_DarkSpells[#All],2))","v":0},{"$f":"IF($B27=0,0,IF(SUM(Paramètres!$K$6:$K$45)<>Paramètres!$K$3,0,VLOOKUP(MATCH(1,Paramètres!$K$6:$K$45,0),LABO_Dark_Spells[#All],2)))","v":0},{"$f":"IF(Paramètres!$M$46=0,0,VLOOKUP(Paramètres!$M$47,SPELLFACTORY_DarkSpells[#All],3))","v":0},{"$f":"IF($D27=0,0,IF(SUM(Paramètres!$K$6:$K$45)<>Paramètres!$K$3,0,VLOOKUP(MATCH(1,Paramètres!$K$6:$K$45,0),LABO_Dark_Spells[#All],3)))","v":0},{"$f":"IF(Paramètres!$M$46=0,0,VLOOKUP(Paramètres!$M$47,SPELLFACTORY_DarkSpells[#All],4))","v":0},{"$f":"IF($F27=0,0,IF(SUM(Paramètres!$K$6:$K$45)<>Paramètres!$K$3,0,VLOOKUP(MATCH(1,Paramètres!$K$6:$K$45,0),LABO_Dark_Spells[#All],4)))","v":0},null,9,0,0,0,0,0,0,null,null,null,null,null,null,9,4,4,4]
[10,{"$f":"IF(Paramètres!$M$46=0,0,VLOOKUP(Paramètres!$M$47,SPELLFACTORY_DarkSpells[#All],2))","v":0},{"$f":"IF($B28=0,0,IF(SUM(Paramètres!$K$6:$K$45)<>Paramètres!$K$3,0,VLOOKUP(MATCH(1,Paramètres!$K$6:$K$45,0),LABO_Dark_Spells[#All],2)))","v":0},{"$f":"IF(Paramètres!$M$46=0,0,VLOOKUP(Paramètres!$M$47,SPELLFACTORY_DarkSpells[#All],3))","v":0},{"$f":"IF($D28=0,0,IF(SUM(Paramètres!$K$6:$K$45)<>Paramètres!$K$3,0,VLOOKUP(MATCH(1,Paramètres!$K$6:$K$45,0),LABO_Dark_Spells[#All],3)))","v":0},{"$f":"IF(Paramètres!$M$46=0,0,VLOOKUP(Paramètres!$M$47,SPELLFACTORY_DarkSpells[#All],4))","v":0},{"$f":"IF($F28=0,0,IF(SUM(Paramètres!$K$6:$K$45)<>Paramètres!$K$3,0,VLOOKUP(MATCH(1,Paramètres!$K$6:$K$45,0),LABO_Dark_Spells[#All],4)))","v":0},null,10,0,0,0,0,0,0]
[11,{"$f":"IF(Paramètres!$M$46=0,0,VLOOKUP(Paramètres!$M$47,SPELLFACTORY_DarkSpells[#All],2))","v":0},{"$f":"IF($B29=0,0,IF(SUM(Paramètres!$K$6:$K$45)<>Paramètres!$K$3,0,VLOOKUP(MATCH(1,Paramètres!$K$6:$K$45,0),LABO_Dark_Spells[#All],2)))","v":0},{"$f":"IF(Paramètres!$M$46=0,0,VLOOKUP(Paramètres!$M$47,SPELLFACTORY_DarkSpells[#All],3))","v":0},{"$f":"IF($D29=0,0,IF(SUM(Paramètres!$K$6:$K$45)<>Paramètres!$K$3,0,VLOOKUP(MATCH(1,Paramètres!$K$6:$K$45,0),LABO_Dark_Spells[#All],3)))","v":0},{"$f":"IF(Paramètres!$M$46=0,0,VLOOKUP(Paramètres!$M$47,SPELLFACTORY_DarkSpells[#All],4))","v":0},{"$f":"IF($F29=0,0,IF(SUM(Paramètres!$K$6:$K$45)<>Paramètres!$K$3,0,VLOOKUP(MATCH(1,Paramètres!$K$6:$K$45,0),LABO_Dark_Spells[#All],4)))","v":0},null,11,{"$f":"B29-B28","v":0},{"$f":"C29-C28","v":0},{"$f":"D29-D28","v":0},{"$f":"E29-E28","v":0},{"$f":"F29-F28","v":0},{"$f":"G29-G28","v":0}]
[]
["Améliorations de Troupes Normales (Disponibles & LVL Max)",null,null,null,null,null,null,null,null,null,null,null,null,null,null,null,null,null,null,null,null,null,"Améliorations de Troupes Normales (Changements)",null,null,null,null,null,null,null,null,null,null,null,null,null,null,null,null,null,null,null,null,null,"Caserne",null,null,null,null,null,null,null,null,null,null,null,"Laboratoire"]
["LVL HdV","Barbare","LVL Max","Archer","LVL Max2","Géant","LVL Max3","Gobelin","LVL Max4","Sapeur","LVL Max5","Ballon","LVL Max6","Sorcier","LVL Max7","Guérisseuse","LVL Max8","Dragon","LVL Max9","P.E.K.K.A","LVL Max10",null,"LVL HdV","Barbare","LVL Max","Archer","LVL Max2","Géant","LVL Max3","Gobelin","LVL Max4","Sapeur","LVL Max5","Ballon","LVL Max6","Sorcier","LVL Max7","Guérisseuse","LVL Max8","Dragon","LVL Max9","P.E.K.K.A","LVL Max10",null,"LVL Barrack","Barbare","Archer","Géant","Gobelin","Sapeur","Ballon","Sorcier","Guérisseuse","Dragon","P.E.K.K.A",null,"LVL Labo","Barbare","Archer","Géant","Gobelin","Sapeur","Ballon","Sorcier","Guérisseuse","Dragon","P.E.K.K.A"]
[0,{"$f":"IF(Paramètres!$H$46=0,0,VLOOKUP(Paramètres!$H$47,BARRACK_Normal_Troops[#All],2))","v":0},{"$f":"IF($B33=0,0,IF($A33<3,1,IF(SUM(Paramètres!$K$6:$K$45)<>Paramètres!$K$3,0,VLOOKUP(MATCH(1,Paramètres!$K$6:$K$45,0),LABO_Normal_Troops[#All],2))))","v":0},{"$f":"IF(Paramètres!$H$46=0,0,VLOOKUP(Paramètres!$H$47,BARRACK_Normal_Troops[#All],3))","v":0},{"$f":"IF($D33=0,0,IF($A33<3,1,IF(SUM(Paramètres!$K$6:$K$45)<>Paramètres!$K$3,0,VLOOKUP(MATCH(1,Paramètres!$K$6:$K$45,0),LABO_Normal_Troops[#All],3))))","v":0},{"$f":"IF(Paramètres!$H$46=0,0,VLOOKUP(Paramètres!$H$47,BARRACK_Normal_Troops[#All],4))","v":0},{"$f":"IF($F33=0,0,IF($A33<3,1,IF(SUM(Paramètres!$K$6:$K$45)<>Paramètres!$K$3,0,VLOOKUP(MATCH(1,Paramètres!$K$6:$K$45,0),LABO_Normal_Troops[#All],4))))","v":0},{"$f":"IF(Paramètres!$H$46=0,0,VLOOKUP(Paramètres!$H$47,BARRACK_Normal_Troops[#All],5))","v":0},{"$f":"IF($H33=0,0,IF($A33<3,1,IF(SUM(Paramètres!$K$6:$K$45)<>Paramètres!$K$3,0,VLOOKUP(MATCH(1,Paramètres!$K$6:$K$45,0),LABO_Normal_Troops[#All],5))))","v":0},{"$f":"IF(Paramètres!$H$46=0,0,VLOOKUP(Paramètres!$H$47,BARRACK_Normal_Troops[#All],6))","v":0},{"$f":"IF($J33=0,0,IF(SUM(Paramètres!$K$6:$K$45)<>Paramètres!$K$3,0,VLOOKUP(MATCH(1,Paramètres!$K$6:$K$45,0),LABO_Normal_Troops[#All],6)))","v":0},{"$f":"IF(Paramètres!$H$46=0,0,VLOOKUP(Paramètres!$H$47,BARRACK_Normal_Troops[#All],7))","v":0},{"$f":"IF($L33=0,0,IF(SUM(Paramètres!$K$6:$K$45)<>Paramètres!$K$3,0,VLOOKUP(MATCH(1,Paramètres!$K$6:$K$45,0),LABO_Normal_Troops[#All],7)))","v":0},{"$f":"IF(Paramètres!$H$46=0,0,VLOOKUP(Paramètres!$H$47,BARRACK_Normal_Troops[#All],8))","v":0},{"$f":"IF($N33=0,0,IF(SUM(Paramètres!$K$6:$K$45)<>Paramètres!$K$3,0,VLOOKUP(MATCH(1,Paramètres!$K$6:$K$45,0),LABO_Normal_Troops[#All],8)))","v":0},{"$f":"IF(Paramètres!$H$46=0,0,VLOOKUP(Paramètres!$H$47,BARRACK_Normal_Troops[#All],9))","v":0},{"$f":"IF($P33=0,0,IF(SUM(Paramètres!$K$6:$K$45)<>Paramètres!$K$3,0,VLOOKUP(MATCH(1,Paramètres!$K$6:$K$45,0),LABO_Normal_Troops[#All],9)))","v":0},{"$f":"IF(Paramètres!$H$46=0,0,VLOOKUP(Paramètres!$H$47,BARRACK_Normal_Troops[#All],10))","v":0},{"$f":"IF($R33=0,0,IF(SUM(Paramètres!$K$6:$K$45)<>Paramètres!$K$3,0,VLOOKUP(MATCH(1,Paramètres!$K$6:$K$45,0),LABO_Normal_Troops[#All],10)))","v":0},{"$f":"IF(Paramètres!$H$46=0,0,VLOOKUP(Paramètres!$H$47,BARRACK_Normal_Troops[#All],11))","v":0},{"$f":"IF($T33=0,0,IF(SUM(Paramètres!$K$6:$K$45)<>Paramètres!$K$3,0,VLOOKUP(MATCH(1,Paramètres!$K$6:$K$45,0),LABO_Normal_Troops[#All],11)))","v":0},null,0,{"$f":"'Améliorations - Sorts & Troupes'!B33","v":0},{"$f":"'Améliorations - Sorts & Troupes'!C33","v":0},{"$f":"'Améliorations - Sorts & Troupes'!D33","v":0},{"$f":"'Améliorations - Sorts & Troupes'!E33","v":0},{"$f":"'Améliorations - Sorts & Troupes'!F33","v":0},{"$f":"'Améliorations - Sorts & Troupes'!G33","v":0},{"$f":"'Améliorations - Sorts & Troupes'!H33","v":0},{"$f":"'Améliorations - Sorts & Troupes'!I33","v":0},{"$f":"'Améliorations - Sorts & Troupes'!J33","v":0},{"$f":"'Améliorations - Sorts & Troupes'!K33","v":0},{"$f":"'Améliorations - Sorts & Troupes'!L33","v":0},{"$f":"'Améliorations - Sorts & Troupes'!M33","v":0},{"$f":"'Améliorations - Sorts & Troupes'!N33","v":0},{"$f":"'Améliorations - Sorts & Troupes'!O33","v":0},{"$f":"'Améliorations - Sorts & Troupes'!P33","v":0},{"$f":"'Améliorations - Sorts & Troupes'!Q34","v":0},{"$f":"'Améliorations - Sorts & Troupes'!R33","v":0},{"$f":"'Améliorations - Sorts & Troupes'!S33","v":0},{"$f":"'Améliorations - Sorts & Troupes'!T33","v":0},{"$f":"'Améliorations - Sorts & Troupes'!U33","v":0},null,0,0,0,0,0,0,0,0,0,0,0,null,0,0,0,0,0,0,0,0,0,0,0]
[1,{"$f":"IF(Paramètres!$H$46=0,0,VLOOKUP(Paramètres!$H$47,BARRACK_Normal_Troops[#All],2))","v":0},{"$f":"IF($B34=0,0,IF($A34<3,1,IF(SUM(Paramètres!$K$6:$K$45)<>Paramètres!$K$3,0,VLOOKUP(MATCH(1,Paramètres!$K$6:$K$45,0),LABO_Normal_Troops[#All],2))))","v":0},{"$f":"IF(Paramètres!$H$46=0,0,VLOOKUP(Paramètres!$H$47,BARRACK_Normal_Troops[#All],3))","v":0},{"$f":"IF($D34=0,0,IF($A34<3,1,IF(SUM(Paramètres!$K$6:$K$45)<>Paramètres!$K$3,0,VLOOKUP(MATCH(1,Paramètres!$K$6:$K$45,0),LABO_Normal_Troops[#All],3))))","v":0},{"$f":"IF(Paramètres!$H$46=0,0,VLOOKUP(Paramètres!$H$47,BARRACK_Normal_Troops[#All],4))","v":0},{"$f":"IF($F34=0,0,IF($A34<3,1,IF(SUM(Paramètres!$K$6:$K$45)<>Paramètres!$K$3,0,VLOOKUP(MATCH(1,Paramètres!$K$6:$K$45,0),LABO_Normal_Troops[#All],4))))","v":0},{"$f":"IF(Paramètres!$H$46=0,0,VLOOKUP(Paramètres!$H$47,BARRACK_Normal_Troops[#All],5))","v":0},{"$f":"IF($H34=0,0,IF($A34<3,1,IF(SUM(Paramètres!$K$6:$K$45)<>Paramètres!$K$3,0,VLOOKUP(MATCH(1,Paramètres!$K$6:$K$45,0),LABO_Normal_Troops[#All],5))))","v":0},{"$f":"IF(Paramètres!$H$46=0,0,VLOOKUP(Paramètres!$H$47,BARRACK_Normal_Troops[#All],6))","v":0},{"$f":"IF($J34=0,0,IF(SUM(Paramètres!$K$6:$K$45)<>Paramètres!$K$3,0,VLOOKUP(MATCH(1,Paramètres!$K$6:$K$45,0),LABO_Normal_Troops[#All],6)))","v":0},{"$f":"IF(Paramètres!$H$46=0,0,VLOOKUP(Paramètres!$H$47,BARRACK_Normal_Troops[#All],7))","v":0},{"$f":"IF($L34=0,0,IF(SUM(Paramètres!$K$6:$K$45)<>Paramètres!$K$3,0,VLOOKUP(MATCH(1,Paramètres!$K$6:$K$45,0),LABO_Normal_Troops[#All],7)))","v":0},{"$f":"IF(Paramètres!$H$46=0,0,VLOOKUP(Paramètres!$H$47,BARRACK_Normal_Troops[#All],8))","v":0},{"$f":"IF($N34=0,0,IF(SUM(Paramètres!$K$6:$K$45)<>Paramètres!$K$3,0,VLOOKUP(MATCH(1,Paramètres!$K$6:$K$45,0),LABO_Normal_Troops[#All],8)))","v":0},{"$f":"IF(Paramètres!$H$46=0,0,VLOOKUP(Paramètres!$H$47,BARRACK_Normal_Troops[#All],9))","v":0},{"$f":"IF($P34=0,0,IF(SUM(Paramètres!$K$6:$K$45)<>Paramètres!$K$3,0,VLOOKUP(MATCH(1,Paramètres!$K$6:$K$45,0),LABO_Normal_Troops[#All],9)))","v":0},{"$f":"IF(Paramètres!$H$46=0,0,VLOOKUP(Paramètres!$H$47,BARRACK_Normal_Troops[#All],10))","v":0},{"$f":"IF($R34=0,0,IF(SUM(Paramètres!$K$6:$K$45)<>Paramètres!$K$3,0,VLOOKUP(MATCH(1,Paramètres!$K$6:$K$45,0),LABO_Normal_Troops[#All],10)))","v":0},{"$f":"IF(Paramètres!$H$46=0,0,VLOOKUP(Paramètres!$H$47,BARRACK_Normal_Troops[#All],11))","v":0},{"$f":"IF($T34=0,0,IF(SUM(Paramètres!$K$6:$K$45)<>Paramètres!$K$3,0,VLOOKUP(MATCH(1,Paramètres!$K$6:$K$45,0),LABO_Normal_Troops[#All],11)))","v":0},null,1,{"$f":"B34-B33","v":0},{"$f":"C34-C33","v":0},{"$f":"D34-D33","v":0},0,0,0,0,0,0,0,0,0,0,0,0,0,0,0,0,0,null,1,1,0,0,0,0,0,0,0,0,0,null,1,2,2,1,2,1,1,1,1,1,1]
[2,{"$f":"IF(Paramètres!$H$46=0,0,VLOOKUP(Paramètres!$H$47,BARRACK_Normal_Troops[#All],2))","v":0},{"$f":"IF($B35=0,0,IF($A35<3,1,IF(SUM(Paramètres!$K$6:$K$45)<>Paramètres!$K$3,0,VLOOKUP(MATCH(1,Paramètres!$K$6:$K$45,0),LABO_Normal_Troops[#All],2))))","v":0},{"$f":"IF(Paramètres!$H$46=0,0,VLOOKUP(Paramètres!$H$47,BARRACK_Normal_Troops[#All],3))","v":0},{"$f":"IF($D35=0,0,IF($A35<3,1,IF(SUM(Paramètres!$K$6:$K$45)<>Paramètres!$K$3,0,VLOOKUP(MATCH(1,Paramètres!$K$6:$K$45,0),LABO_Normal_Troops[#All],3))))","v":0},{"$f":"IF(Paramètres!$H$46=0,0,VLOOKUP(Paramètres!$H$47,BARRACK_Normal_Troops[#All],4))","v":0},{"$f":"IF($F35=0,0,IF($A35<3,1,IF(SUM(Paramètres!$K$6:$K$45)<>Paramètres!$K$3,0,VLOOKUP(MATCH(1,Paramètres!$K$6:$K$45,0),LABO_Normal_Troops[#All],4))))","v":0},{"$f":"IF(Paramètres!$H$46=0,0,VLOOKUP(Paramètres!$H$47,BARRACK_Normal_Troops[#All],5))","v":0},{"$f":"IF($H35=0,0,IF($A35<3,1,IF(SUM(Paramètres!$K$6:$K$45)<>Paramètres!$K$3,0,VLOOKUP(MATCH(1,Paramètres!$K$6:$K$45,0),LABO_Normal_Troops[#All],5))))","v":0},{"$f":"IF(Paramètres!$H$46=0,0,VLOOKUP(Paramètres!$H$47,BARRACK_Normal_Troops[#All],6))","v":0},{"$f":"IF($J35=0,0,IF(SUM(Paramètres!$K$6:$K$45)<>Paramètres!$K$3,0,VLOOKUP(MATCH(1,Paramètres!$K$6:$K$45,0),LABO_Normal_Troops[#All],6)))","v":0},{"$f":"IF(Paramètres!$H$46=0,0,VLOOKUP(Paramètres!$H$47,BARRACK_Normal_Troops[#All],7))","v":0},{"$f":"IF($L35=0,0,IF(SUM(Paramètres!$K$6:$K$45)<>Paramètres!$K$3,0,VLOOKUP(MATCH(1,Paramètres!$K$6:$K$45,0),LABO_Normal_Troops[#All],7)))","v":0},{"$f":"IF(Paramètres!$H$46=0,0,VLOOKUP(Paramètres!$H$47,BARRACK_Normal_Troops[#All],8))","v":0},{"$f":"IF($N35=0,0,IF(SUM(Paramètres!$K$6:$K$45)<>Paramètres!$K$3,0,VLOOKUP(MATCH(1,Paramètres!$K$6:$K$45,0),LABO_Normal_Troops[#All],8)))","v":0},{"$f":"IF(Paramètres!$H$46=0,0,VLOOKUP(Paramètres!$H$47,BARRACK_Normal_Troops[#All],9))","v":0},{"$f":"IF($P35=0,0,IF(SUM(Paramètres!$K$6:$K$45)<>Paramètres!$K$3,0,VLOOKUP(MATCH(1,Paramètres!$K$6:$K$45,0),LABO_Normal_Troops[#All],9)))","v":0},{"$f":"IF(Paramètres!$H$46=0,0,VLOOKUP(Paramètres!$H$47,BARRACK_Normal_Troops[#All],10))","v":0},{"$f":"IF($R35=0,0,IF(SUM(Paramètres!$K$6:$K$45)<>Paramètres!$K$3,0,VLOOKUP(MATCH(1,Paramètres!$K$6:$K$45,0),LABO_Normal_Troops[#All],10)))","v":0},{"$f":"IF(Paramètres!$H$46=0,0,VLOOKUP(Paramètres!$H$47,BARRACK_Normal_Troops[#All],11))","v":0},{"$f":"IF($T35=0,0,IF(SUM(Paramètres!$K$6:$K$45)<>Paramètres!$K$3,0,VLOOKUP(MATCH(1,Paramètres!$K$6:$K$45,0),LABO_Normal_Troops[#All],11)))","v":0},null,2,{"$f":"B35-B34","v":0},0,0,0,0,0,0,0,0,0,0,0,0,0,0,0,0,0,0,0,null,2,1,1,0,0,0,0,0,0,0,0,null,2,2,2,2,2,2,2,1,1,1,1]
[3,{"$f":"IF(Paramètres!$H$46=0,0,VLOOKUP(Paramètres!$H$47,BARRACK_Normal_Troops[#All],2))","v":0},{"$f":"IF($B36=0,0,IF($A36<3,1,IF(SUM(Paramètres!$K$6:$K$45)<>Paramètres!$K$3,0,VLOOKUP(MATCH(1,Paramètres!$K$6:$K$45,0),LABO_Normal_Troops[#All],2))))","v":0},{"$f":"IF(Paramètres!$H$46=0,0,VLOOKUP(Paramètres!$H$47,BARRACK_Normal_Troops[#All],3))","v":0},{"$f":"IF($D36=0,0,IF($A36<3,1,IF(SUM(Paramètres!$K$6:$K$45)<>Paramètres!$K$3,0,VLOOKUP(MATCH(1,Paramètres!$K$6:$K$45,0),LABO_Normal_Troops[#All],3))))","v":0},{"$f":"IF(Paramètres!$H$46=0,0,VLOOKUP(Paramètres!$H$47,BARRACK_Normal_Troops[#All],4))","v":0},{"$f":"IF($F36=0,0,IF($A36<3,1,IF(SUM(Paramètres!$K$6:$K$45)<>Paramètres!$K$3,0,VLOOKUP(MATCH(1,Paramètres!$K$6:$K$45,0),LABO_Normal_Troops[#All],4))))","v":0},{"$f":"IF(Paramètres!$H$46=0,0,VLOOKUP(Paramètres!$H$47,BARRACK_Normal_Troops[#All],5))","v":0},{"$f":"IF($H36=0,0,IF($A36<3,1,IF(SUM(Paramètres!$K$6:$K$45)<>Paramètres!$K$3,0,VLOOKUP(MATCH(1,Paramètres!$K$6:$K$45,0),LABO_Normal_Troops[#All],5))))","v":0},{"$f":"IF(Paramètres!$H$46=0,0,VLOOKUP(Paramètres!$H$47,BARRACK_Normal_Troops[#All],6))","v":0},{"$f":"IF($J36=0,0,IF(SUM(Paramètres!$K$6:$K$45)<>Paramètres!$K$3,0,VLOOKUP(MATCH(1,Paramètres!$K$6:$K$45,0),LABO_Normal_Troops[#All],6)))","v":0},{"$f":"IF(Paramètres!$H$46=0,0,VLOOKUP(Paramètres!$H$47,BARRACK_Normal_Troops[#All],7))","v":0},{"$f":"IF($L36=0,0,IF(SUM(Paramètres!$K$6:$K$45)<>Paramètres!$K$3,0,VLOOKUP(MATCH(1,Paramètres!$K$6:$K$45,0),LABO_Normal_Troops[#All],7)))","v":0},{"$f":"IF(Paramètres!$H$46=0,0,VLOOKUP(Paramètres!$H$47,BARRACK_Normal_Troops[#All],8))","v":0},{"$f":"IF($N36=0,0,IF(SUM(Paramètres!$K$6:$K$45)<>Paramètres!$K$3,0,VLOOKUP(MATCH(1,Paramètres!$K$6:$K$45,0),LABO_Normal_Troops[#All],8)))","v":0},{"$f":"IF(Paramètres!$H$46=0,0,VLOOKUP(Paramètres!$H$47,BARRACK_Normal_Troops[#All],9))","v":0},{"$f":"IF($P36=0,0,IF(SUM(Paramètres!$K$6:$K$45)<>Paramètres!$K$3,0,VLOOKUP(MATCH(1,Paramètres!$K$6:$K$45,0),LABO_Normal_Troops[#All],9)))","v":0},{"$f":"IF(Paramètres!$H$46=0,0,VLOOKUP(Paramètres!$H$47,BARRACK_Normal_Troops[#All],10))","v":0},{"$f":"IF($R36=0,0,IF(SUM(Paramètres!$K$6:$K$45)<>Paramètres!$K$3,0,VLOOKUP(MATCH(1,Paramètres!$K$6:$K$45,0),LABO_Normal_Troops[#All],10)))","v":0},{"$f":"IF(Paramètres!$H$46=0,0,VLOOKUP(Paramètres!$H$47,BARRACK_Normal_Troops[#All],11))","v":0},{"$f":"IF($T36=0,0,IF(SUM(Paramètres!$K$6:$K$45)<>Paramètres!$K$3,0,VLOOKUP(MATCH(1,Paramètres!$K$6:$K$45,0),LABO_Normal_Troops[#All],11)))","v":0},null,3,0,0,0,0,0,0,0,0,0,0,0,0,0,0,0,0,0,0,0,0,null,3,1,1,1,0,0,0,0,0,0,0,null,3,3,3,2,3,2,2,2,1,1,1]
[4,{"$f":"IF(Paramètres!$H$46=0,0,VLOOKUP(Paramètres!$H$47,BARRACK_Normal_Troops[#All],2))","v":0},{"$f":"IF($B37=0,0,IF($A37<3,1,IF(SUM(Paramètres!$K$6:$K$45)<>Paramètres!$K$3,0,VLOOKUP(MATCH(1,Paramètres!$K$6:$K$45,0),LABO_Normal_Troops[#All],2))))","v":0},{"$f":"IF(Paramètres!$H$46=0,0,VLOOKUP(Paramètres!$H$47,BARRACK_Normal_Troops[#All],3))","v":0},{"$f":"IF($D37=0,0,IF($A37<3,1,IF(SUM(Paramètres!$K$6:$K$45)<>Paramètres!$K$3,0,VLOOKUP(MATCH(1,Paramètres!$K$6:$K$45,0),LABO_Normal_Troops[#All],3))))","v":0},{"$f":"IF(Paramètres!$H$46=0,0,VLOOKUP(Paramètres!$H$47,BARRACK_Normal_Troops[#All],4))","v":0},{"$f":"IF($F37=0,0,IF($A37<3,1,IF(SUM(Paramètres!$K$6:$K$45)<>Paramètres!$K$3,0,VLOOKUP(MATCH(1,Paramètres!$K$6:$K$45,0),LABO_Normal_Troops[#All],4))))","v":0},{"$f":"IF(Paramètres!$H$46=0,0,VLOOKUP(Paramètres!$H$47,BARRACK_Normal_Troops[#All],5))","v":0},{"$f":"IF($H37=0,0,IF($A37<3,1,IF(SUM(Paramètres!$K$6:$K$45)<>Paramètres!$K$3,0,VLOOKUP(MATCH(1,Paramètres!$K$6:$K$45,0),LABO_Normal_Troops[#All],5))))","v":0},{"$f":"IF(Paramètres!$H$46=0,0,VLOOKUP(Paramètres!$H$47,BARRACK_Normal_Troops[#All],6))","v":0},{"$f":"IF($J37=0,0,IF(SUM(Paramètres!$K$6:$K$45)<>Paramètres!$K$3,0,VLOOKUP(MATCH(1,Paramètres!$K$6:$K$45,0),LABO_Normal_Troops[#All],6)))","v":0},{"$f":"IF(Paramètres!$H$46=0,0,VLOOKUP(Paramètres!$H$47,BARRACK_Normal_Troops[#All],7))","v":0},{"$f":"IF($L37=0,0,IF(SUM(Paramètres!$K$6:$K$45)<>Paramètres!$K$3,0,VLOOKUP(MATCH(1,Paramètres!$K$6:$K$45,0),LABO_Normal_Troops[#All],7)))","v":0},{"$f":"IF(Paramètres!$H$46=0,0,VLOOKUP(Paramètres!$H$47,BARRACK_Normal_Troops[#All],8))","v":0},{"$f":"IF($N37=0,0,IF(SUM(Paramètres!$K$6:$K$45)<>Paramètres!$K$3,0,VLOOKUP(MATCH(1,Paramètres!$K$6:$K$45,0),LABO_Normal_Troops[#All],8)))","v":0},{"$f":"IF(Paramètres!$H$46=0,0,VLOOKUP(Paramètres!$H$47,BARRACK_Normal_Troops[#All],9))","v":0},{"$f":"IF($P37=0,0,IF(SUM(Paramètres!$K$6:$K$45)<>Paramètres!$K$3,0,VLOOKUP(MATCH(1,Paramètres!$K$6:$K$45,0),LABO_Normal_Troops[#All],9)))","v":0},{"$f":"IF(Paramètres!$H$46=0,0,VLOOKUP(Paramètres!$H$47,BARRACK_Normal_Troops[#All],10))","v":0},{"$f":"IF($R37=0,0,IF(SUM(Paramètres!$K$6:$K$45)<>Paramètres!$K$3,0,VLOOKUP(MATCH(1,Paramètres!$K$6:$K$45,0),LABO_Normal_Troops[#All],10)))","v":0},{"$f":"IF(Paramètres!$H$46=0,0,VLOOKUP(Paramètres!$H$47,BARRACK_Normal_Troops[#All],11))","v":0},{"$f":"IF($T37=0,0,IF(SUM(Paramètres!$K$6:$K$45)<>Paramètres!$K$3,0,VLOOKUP(MATCH(1,Paramètres!$K$6:$K$45,0),LABO_Normal_Troops[#All],11)))","v":0},null,4,0,0,0,0,0,0,0,0,0,0,0,0,0,0,0,0,0,0,0,0,null,4,1,1,1,1,0,0,0,0,0,0,null,4,3,3,3,3,3,3,3,1,1,1]
[5,{"$f":"IF(Paramètres!$H$46=0,0,VLOOKUP(Paramètres!$H$47,BARRACK_Normal_Troops[#All],2))","v":0},{"$f":"IF($B38=0,0,IF($A38<3,1,IF(SUM(Paramètres!$K$6:$K$45)<>Paramètres!$K$3,0,VLOOKUP(MATCH(1,Paramètres!$K$6:$K$45,0),LABO_Normal_Troops[#All],2))))","v":0},{"$f":"IF(Paramètres!$H$46=0,0,VLOOKUP(Paramètres!$H$47,BARRACK_Normal_Troops[#All],3))","v":0},{"$f":"IF($D38=0,0,IF($A38<3,1,IF(SUM(Paramètres!$K$6:$K$45)<>Paramètres!$K$3,0,VLOOKUP(MATCH(1,Paramètres!$K$6:$K$45,0),LABO_Normal_Troops[#All],3))))","v":0},{"$f":"IF(Paramètres!$H$46=0,0,VLOOKUP(Paramètres!$H$47,BARRACK_Normal_Troops[#All],4))","v":0},{"$f":"IF($F38=0,0,IF($A38<3,1,IF(SUM(Paramètres!$K$6:$K$45)<>Paramètres!$K$3,0,VLOOKUP(MATCH(1,Paramètres!$K$6:$K$45,0),LABO_Normal_Troops[#All],4))))","v":0},{"$f":"IF(Paramètres!$H$46=0,0,VLOOKUP(Paramètres!$H$47,BARRACK_Normal_Troops[#All],5))","v":0},{"$f":"IF($H38=0,0,IF($A38<3,1,IF(SUM(Paramètres!$K$6:$K$45)<>Paramètres!$K$3,0,VLOOKUP(MATCH(1,Paramètres!$K$6:$K$45,0),LABO_Normal_Troops[#All],5))))","v":0},{"$f":"IF(Paramètres!$H$46=0,0,VLOOKUP(Paramètres!$H$47,BARRACK_Normal_Troops[#All],6))","v":0},{"$f":"IF($J38=0,0,IF(SUM(Paramètres!$K$6:$K$45)<>Paramètres!$K$3,0,VLOOKUP(MATCH(1,Paramètres!$K$6:$K$45,0),LABO_Normal_Troops[#All],6)))","v":0},{"$f":"IF(Paramètres!$H$46=0,0,VLOOKUP(Paramètres!$H$47,BARRACK_Normal_Troops[#All],7))","v":0},{"$f":"IF($L38=0,0,IF(SUM(Paramètres!$K$6:$K$45)<>Paramètres!$K$3,0,VLOOKUP(MATCH(1,Paramètres!$K$6:$K$45,0),LABO_Normal_Troops[#All],7)))","v":0},{"$f":"IF(Paramètres!$H$46=0,0,VLOOKUP(Paramètres!$H$47,BARRACK_Normal_Troops[#All],8))","v":0},{"$f":"IF($N38=0,0,IF(SUM(Paramètres!$K$6:$K$45)<>Paramètres!$K$3,0,VLOOKUP(MATCH(1,Paramètres!$K$6:$K$45,0),LABO_Normal_Troops[#All],8)))","v":0},{"$f":"IF(Paramètres!$H$46=0,0,VLOOKUP(Paramètres!$H$47,BARRACK_Normal_Troops[#All],9))","v":0},{"$f":"IF($P38=0,0,IF(SUM(Paramètres!$K$6:$K$45)<>Paramètres!$K$3,0,VLOOKUP(MATCH(1,Paramètres!$K$6:$K$45,0),LABO_Normal_Troops[#All],9)))","v":0},{"$f":"IF(Paramètres!$H$46=0,0,VLOOKUP(Paramètres!$H$47,BARRACK_Normal_Troops[#All],10))","v":0},{"$f":"IF($R38=0,0,IF(SUM(Paramètres!$K$6:$K$45)<>Paramètres!$K$3,0,VLOOKUP(MATCH(1,Paramètres!$K$6:$K$45,0),LABO_Normal_Troops[#All],10)))","v":0},{"$f":"IF(Paramètres!$H$46=0,0,VLOOKUP(Paramètres!$H$47,BARRACK_Normal_Troops[#All],11))","v":0},{"$f":"IF($T38=0,0,IF(SUM(Paramètres!$K$6:$K$45)<>Paramètres!$K$3,0,VLOOKUP(MATCH(1,Paramètres!$K$6:$K$45,0),LABO_Normal_Troops[#All],11)))","v":0},null,5,0,0,0,0,0,0,0,0,0,0,0,0,0,0,0,0,0,0,0,0,null,5,1,1,1,1,1,0,0,0,0,0,null,5,4,4,4,4,4,4,4,2,2,1]
[6,{"$f":"IF(Paramètres!$H$46=0,0,VLOOKUP(Paramètres!$H$47,BARRACK_Normal_Troops[#All],2))","v":0},{"$f":"IF($B39=0,0,IF($A39<3,1,IF(SUM(Paramètres!$K$6:$K$45)<>Paramètres!$K$3,0,VLOOKUP(MATCH(1,Paramètres!$K$6:$K$45,0),LABO_Normal_Troops[#All],2))))","v":0},{"$f":"IF(Paramètres!$H$46=0,0,VLOOKUP(Paramètres!$H$47,BARRACK_Normal_Troops[#All],3))","v":0},{"$f":"IF($D39=0,0,IF($A39<3,1,IF(SUM(Paramètres!$K$6:$K$45)<>Paramètres!$K$3,0,VLOOKUP(MATCH(1,Paramètres!$K$6:$K$45,0),LABO_Normal_Troops[#All],3))))","v":0},{"$f":"IF(Paramètres!$H$46=0,0,VLOOKUP(Paramètres!$H$47,BARRACK_Normal_Troops[#All],4))","v":0},{"$f":"IF($F39=0,0,IF($A39<3,1,IF(SUM(Paramètres!$K$6:$K$45)<>Paramètres!$K$3,0,VLOOKUP(MATCH(1,Paramètres!$K$6:$K$45,0),LABO_Normal_Troops[#All],4))))","v":0},{"$f":"IF(Paramètres!$H$46=0,0,VLOOKUP(Paramètres!$H$47,BARRACK_Normal_Troops[#All],5))","v":0},{"$f":"IF($H39=0,0,IF($A39<3,1,IF(SUM(Paramètres!$K$6:$K$45)<>Paramètres!$K$3,0,VLOOKUP(MATCH(1,Paramètres!$K$6:$K$45,0),LABO_Normal_Troops[#All],5))))","v":0},{"$f":"IF(Paramètres!$H$46=0,0,VLOOKUP(Paramètres!$H$47,BARRACK_Normal_Troops[#All],6))","v":0},{"$f":"IF($J39=0,0,IF(SUM(Paramètres!$K$6:$K$45)<>Paramètres!$K$3,0,VLOOKUP(MATCH(1,Paramètres!$K$6:$K$45,0),LABO_Normal_Troops[#All],6)))","v":0},{"$f":"IF(Paramètres!$H$46=0,0,VLOOKUP(Paramètres!$H$47,BARRACK_Normal_Troops[#All],7))","v":0},{"$f":"IF($L39=0,0,IF(SUM(Paramètres!$K$6:$K$45)<>Paramètres!$K$3,0,VLOOKUP(MATCH(1,Paramètres!$K$6:$K$45,0),LABO_Normal_Troops[#All],7)))","v":0},{"$f":"IF(Paramètres!$H$46=0,0,VLOOKUP(Paramètres!$H$47,BARRACK_Normal_Troops[#All],8))","v":0},{"$f":"IF($N39=0,0,IF(SUM(Paramètres!$K$6:$K$45)<>Paramètres!$K$3,0,VLOOKUP(MATCH(1,Paramètres!$K$6:$K$45,0),LABO_Normal_Troops[#All],8)))","v":0},{"$f":"IF(Paramètres!$H$46=0,0,VLOOKUP(Paramètres!$H$47,BARRACK_Normal_Troops[#All],9))","v":0},{"$f":"IF($P39=0,0,IF(SUM(Paramètres!$K$6:$K$45)<>Paramètres!$K$3,0,VLOOKUP(MATCH(1,Paramètres!$K$6:$K$45,0),LABO_Normal_Troops[#All],9)))","v":0},{"$f":"IF(Paramètres!$H$46=0,0,VLOOKUP(Paramètres!$H$47,BARRACK_Normal_Troops[#All],10))","v":0},{"$f":"IF($R39=0,0,IF(SUM(Paramètres!$K$6:$K$45)<>Paramètres!$K$3,0,VLOOKUP(MATCH(1,Paramètres!$K$6:$K$45,0),LABO_Normal_Troops[#All],10)))","v":0},{"$f":"IF(Paramètres!$H$46=0,0,VLOOKUP(Paramètres!$H$47,BARRACK_Normal_Troops[#All],11))","v":0},{"$f":"IF($T39=0,0,IF(SUM(Paramètres!$K$6:$K$45)<>Paramètres!$K$3,0,VLOOKUP(MATCH(1,Paramètres!$K$6:$K$45,0),LABO_Normal_Troops[#All],11)))","v":0},null,6,0,0,0,0,0,0,0,0,0,0,0,0,0,0,0,0,0,0,0,0,null,6,1,1,1,1,1,1,0,0,0,0,null,6,5,5,5,5,5,5,5,3,3,3]
[7,{"$f":"IF(Paramètres!$H$46=0,0,VLOOKUP(Paramètres!$H$47,BARRACK_Normal_Troops[#All],2))","v":0},{"$f":"IF($B40=0,0,IF($A40<3,1,IF(SUM(Paramètres!$K$6:$K$45)<>Paramètres!$K$3,0,VLOOKUP(MATCH(1,Paramètres!$K$6:$K$45,0),LABO_Normal_Troops[#All],2))))","v":0},{"$f":"IF(Paramètres!$H$46=0,0,VLOOKUP(Paramètres!$H$47,BARRACK_Normal_Troops[#All],3))","v":0},{"$f":"IF($D40=0,0,IF($A40<3,1,IF(SUM(Paramètres!$K$6:$K$45)<>Paramètres!$K$3,0,VLOOKUP(MATCH(1,Paramètres!$K$6:$K$45,0),LABO_Normal_Troops[#All],3))))","v":0},{"$f":"IF(Paramètres!$H$46=0,0,VLOOKUP(Paramètres!$H$47,BARRACK_Normal_Troops[#All],4))","v":0},{"$f":"IF($F40=0,0,IF($A40<3,1,IF(SUM(Paramètres!$K$6:$K$45)<>Paramètres!$K$3,0,VLOOKUP(MATCH(1,Paramètres!$K$6:$K$45,0),LABO_Normal_Troops[#All],4))))","v":0},{"$f":"IF(Paramètres!$H$46=0,0,VLOOKUP(Paramètres!$H$47,BARRACK_Normal_Troops[#All],5))","v":0},{"$f":"IF($H40=0,0,IF($A40<3,1,IF(SUM(Paramètres!$K$6:$K$45)<>Paramètres!$K$3,0,VLOOKUP(MATCH(1,Paramètres!$K$6:$K$45,0),LABO_Normal_Troops[#All],5))))","v":0},{"$f":"IF(Paramètres!$H$46=0,0,VLOOKUP(Paramètres!$H$47,BARRACK_Normal_Troops[#All],6))","v":0},{"$f":"IF($J40=0,0,IF(SUM(Paramètres!$K$6:$K$45)<>Paramètres!$K$3,0,VLOOKUP(MATCH(1,Paramètres!$K$6:$K$45,0),LABO_Normal_Troops[#All],6)))","v":0},{"$f":"IF(Paramètres!$H$46=0,0,VLOOKUP(Paramètres!$H$47,BARRACK_Normal_Troops[#All],7))","v":0},{"$f":"IF($L40=0,0,IF(SUM(Paramètres!$K$6:$K$45)<>Paramètres!$K$3,0,VLOOKUP(MATCH(1,Paramètres!$K$6:$K$45,0),LABO_Normal_Troops[#All],7)))","v":0},{"$f":"IF(Paramètres!$H$46=0,0,VLOOKUP(Paramètres!$H$47,BARRACK_Normal_Troops[#All],8))","v":0},{"$f":"IF($N40=0,0,IF(SUM(Paramètres!$K$6:$K$45)<>Paramètres!$K$3,0,VLOOKUP(MATCH(1,Paramètres!$K$6:$K$45,0),LABO_Normal_Troops[#All],8)))","v":0},{"$f":"IF(Paramètres!$H$46=0,0,VLOOKUP(Paramètres!$H$47,BARRACK_Normal_Troops[#All],9))","v":0},{"$f":"IF($P40=0,0,IF(SUM(Paramètres!$K$6:$K$45)<>Paramètres!$K$3,0,VLOOKUP(MATCH(1,Paramètres!$K$6:$K$45,0),LABO_Normal_Troops[#All],9)))","v":0},{"$f":"IF(Paramètres!$H$46=0,0,VLOOKUP(Paramètres!$H$47,BARRACK_Normal_Troops[#All],10))","v":0},{"$f":"IF($R40=0,0,IF(SUM(Paramètres!$K$6:$K$45)<>Paramètres!$K$3,0,VLOOKUP(MATCH(1,Paramètres!$K$6:$K$45,0),LABO_Normal_Troops[#All],10)))","v":0},{"$f":"IF(Paramètres!$H$46=0,0,VLOOKUP(Paramètres!$H$47,BARRACK_Normal_Troops[#All],11))","v":0},{"$f":"IF($T40=0,0,IF(SUM(Paramètres!$K$6:$K$45)<>Paramètres!$K$3,0,VLOOKUP(MATCH(1,Paramètres!$K$6:$K$45,0),LABO_Normal_Troops[#All],11)))","v":0},null,7,0,0,0,0,0,0,0,0,0,0,0,0,0,0,0,0,0,0,0,0,null,7,1,1,1,1,1,1,1,0,0,0,null,7,6,6,6,5,5,6,5,4,4,3]
[8,{"$f":"IF(Paramètres!$H$46=0,0,VLOOKUP(Paramètres!$H$47,BARRACK_Normal_Troops[#All],2))","v":0},{"$f":"IF($B41=0,0,IF($A41<3,1,IF(SUM(Paramètres!$K$6:$K$45)<>Paramètres!$K$3,0,VLOOKUP(MATCH(1,Paramètres!$K$6:$K$45,0),LABO_Normal_Troops[#All],2))))","v":0},{"$f":"IF(Paramètres!$H$46=0,0,VLOOKUP(Paramètres!$H$47,BARRACK_Normal_Troops[#All],3))","v":0},{"$f":"IF($D41=0,0,IF($A41<3,1,IF(SUM(Paramètres!$K$6:$K$45)<>Paramètres!$K$3,0,VLOOKUP(MATCH(1,Paramètres!$K$6:$K$45,0),LABO_Normal_Troops[#All],3))))","v":0},{"$f":"IF(Paramètres!$H$46=0,0,VLOOKUP(Paramètres!$H$47,BARRACK_Normal_Troops[#All],4))","v":0},{"$f":"IF($F41=0,0,IF($A41<3,1,IF(SUM(Paramètres!$K$6:$K$45)<>Paramètres!$K$3,0,VLOOKUP(MATCH(1,Paramètres!$K$6:$K$45,0),LABO_Normal_Troops[#All],4))))","v":0},{"$f":"IF(Paramètres!$H$46=0,0,VLOOKUP(Paramètres!$H$47,BARRACK_Normal_Troops[#All],5))","v":0},{"$f":"IF($H41=0,0,IF($A41<3,1,IF(SUM(Paramètres!$K$6:$K$45)<>Paramètres!$K$3,0,VLOOKUP(MATCH(1,Paramètres!$K$6:$K$45,0),LABO_Normal_Troops[#All],5))))","v":0},{"$f":"IF(Paramètres!$H$46=0,0,VLOOKUP(Paramètres!$H$47,BARRACK_Normal_Troops[#All],6))","v":0},{"$f":"IF($J41=0,0,IF(SUM(Paramètres!$K$6:$K$45)<>Paramètres!$K$3,0,VLOOKUP(MATCH(1,Paramètres!$K$6:$K$45,0),LABO_Normal_Troops[#All],6)))","v":0},{"$f":"IF(Paramètres!$H$46=0,0,VLOOKUP(Paramètres!$H$47,BARRACK_Normal_Troops[#All],7))","v":0},{"$f":"IF($L41=0,0,IF(SUM(Paramètres!$K$6:$K$45)<>Paramètres!$K$3,0,VLOOKUP(MATCH(1,Paramètres!$K$6:$K$45,0),LABO_Normal_Troops[#All],7)))","v":0},{"$f":"IF(Paramètres!$H$46=0,0,VLOOKUP(Paramètres!$H$47,BARRACK_Normal_Troops[#All],8))","v":0},{"$f":"IF($N41=0,0,IF(SUM(Paramètres!$K$6:$K$45)<>Paramètres!$K$3,0,VLOOKUP(MATCH(1,Paramètres!$K$6:$K$45,0),LABO_Normal_Troops[#All],8)))","v":0},{"$f":"IF(Paramètres!$H$46=0,0,VLOOKUP(Paramètres!$H$47,BARRACK_Normal_Troops[#All],9))","v":0},{"$f":"IF($P41=0,0,IF(SUM(Paramètres!$K$6:$K$45)<>Paramètres!$K$3,0,VLOOKUP(MATCH(1,Paramètres!$K$6:$K$45,0),LABO_Normal_Troops[#All],9)))","v":0},{"$f":"IF(Paramètres!$H$46=0,0,VLOOKUP(Paramètres!$H$47,BARRACK_Normal_Troops[#All],10))","v":0},{"$f":"IF($R41=0,0,IF(SUM(Paramètres!$K$6:$K$45)<>Paramètres!$K$3,0,VLOOKUP(MATCH(1,Paramètres!$K$6:$K$45,0),LABO_Normal_Troops[#All],10)))","v":0},{"$f":"IF(Paramètres!$H$46=0,0,VLOOKUP(Paramètres!$H$47,BARRACK_Normal_Troops[#All],11))","v":0},{"$f":"IF($T41=0,0,IF(SUM(Paramètres!$K$6:$K$45)<>Paramètres!$K$3,0,VLOOKUP(MATCH(1,Paramètres!$K$6:$K$45,0),LABO_Normal_Troops[#All],11)))","v":0},null,8,0,0,0,0,0,0,0,0,0,0,0,0,0,0,0,0,0,0,0,0,null,8,1,1,1,1,1,1,1,1,0,0,null,8,7,7,7,6,6,6,6,4,5,5]
[9,{"$f":"IF(Paramètres!$H$46=0,0,VLOOKUP(Paramètres!$H$47,BARRACK_Normal_Troops[#All],2))","v":0},{"$f":"IF($B42=0,0,IF($A42<3,1,IF(SUM(Paramètres!$K$6:$K$45)<>Paramètres!$K$3,0,VLOOKUP(MATCH(1,Paramètres!$K$6:$K$45,0),LABO_Normal_Troops[#All],2))))","v":0},{"$f":"IF(Paramètres!$H$46=0,0,VLOOKUP(Paramètres!$H$47,BARRACK_Normal_Troops[#All],3))","v":0},{"$f":"IF($D42=0,0,IF($A42<3,1,IF(SUM(Paramètres!$K$6:$K$45)<>Paramètres!$K$3,0,VLOOKUP(MATCH(1,Paramètres!$K$6:$K$45,0),LABO_Normal_Troops[#All],3))))","v":0},{"$f":"IF(Paramètres!$H$46=0,0,VLOOKUP(Paramètres!$H$47,BARRACK_Normal_Troops[#All],4))","v":0},{"$f":"IF($F42=0,0,IF($A42<3,1,IF(SUM(Paramètres!$K$6:$K$45)<>Paramètres!$K$3,0,VLOOKUP(MATCH(1,Paramètres!$K$6:$K$45,0),LABO_Normal_Troops[#All],4))))","v":0},{"$f":"IF(Paramètres!$H$46=0,0,VLOOKUP(Paramètres!$H$47,BARRACK_Normal_Troops[#All],5))","v":0},{"$f":"IF($H42=0,0,IF($A42<3,1,IF(SUM(Paramètres!$K$6:$K$45)<>Paramètres!$K$3,0,VLOOKUP(MATCH(1,Paramètres!$K$6:$K$45,0),LABO_Normal_Troops[#All],5))))","v":0},{"$f":"IF(Paramètres!$H$46=0,0,VLOOKUP(Paramètres!$H$47,BARRACK_Normal_Troops[#All],6))","v":0},{"$f":"IF($J42=0,0,IF(SUM(Paramètres!$K$6:$K$45)<>Paramètres!$K$3,0,VLOOKUP(MATCH(1,Paramètres!$K$6:$K$45,0),LABO_Normal_Troops[#All],6)))","v":0},{"$f":"IF(Paramètres!$H$46=0,0,VLOOKUP(Paramètres!$H$47,BARRACK_Normal_Troops[#All],7))","v":0},{"$f":"IF($L42=0,0,IF(SUM(Paramètres!$K$6:$K$45)<>Paramètres!$K$3,0,VLOOKUP(MATCH(1,Paramètres!$K$6:$K$45,0),LABO_Normal_Troops[#All],7)))","v":0},{"$f":"IF(Paramètres!$H$46=0,0,VLOOKUP(Paramètres!$H$47,BARRACK_Normal_Troops[#All],8))","v":0},{"$f":"IF($N42=0,0,IF(SUM(Paramètres!$K$6:$K$45)<>Paramètres!$K$3,0,VLOOKUP(MATCH(1,Paramètres!$K$6:$K$45,0),LABO_Normal_Troops[#All],8)))","v":0},{"$f":"IF(Paramètres!$H$46=0,0,VLOOKUP(Paramètres!$H$47,BARRACK_Normal_Troops[#All],9))","v":0},{"$f":"IF($P42=0,0,IF(SUM(Paramètres!$K$6:$K$45)<>Paramètres!$K$3,0,VLOOKUP(MATCH(1,Paramètres!$K$6:$K$45,0),LABO_Normal_Troops[#All],9)))","v":0},{"$f":"IF(Paramètres!$H$46=0,0,VLOOKUP(Paramètres!$H$47,BARRACK_Normal_Troops[#All],10))","v":0},{"$f":"IF($R42=0,0,IF(SUM(Paramètres!$K$6:$K$45)<>Paramètres!$K$3,0,VLOOKUP(MATCH(1,Paramètres!$K$6:$K$45,0),LABO_Normal_Troops[#All],10)))","v":0},{"$f":"IF(Paramètres!$H$46=0,0,VLOOKUP(Paramètres!$H$47,BARRACK_Normal_Troops[#All],11))","v":0},{"$f":"IF($T42=0,0,IF(SUM(Paramètres!$K$6:$K$45)<>Paramètres!$K$3,0,VLOOKUP(MATCH(1,Paramètres!$K$6:$K$45,0),LABO_Normal_Troops[#All],11)))","v":0},null,9,0,0,0,0,0,0,0,0,0,0,0,0,0,0,0,0,0,0,0,0,null,9,1,1,1,1,1,1,1,1,1,0,null,9,7,7,7,6,6,6,6,4,5,5]
[10,{"$f":"IF(Paramètres!$H$46=0,0,VLOOKUP(Paramètres!$H$47,BARRACK_Normal_Troops[#All],2))","v":0},{"$f":"IF($B43=0,0,IF($A43<3,1,IF(SUM(Paramètres!$K$6:$K$45)<>Paramètres!$K$3,0,VLOOKUP(MATCH(1,Paramètres!$K$6:$K$45,0),LABO_Normal_Troops[#All],2))))","v":0},{"$f":"IF(Paramètres!$H$46=0,0,VLOOKUP(Paramètres!$H$47,BARRACK_Normal_Troops[#All],3))","v":0},{"$f":"IF($D43=0,0,IF($A43<3,1,IF(SUM(Paramètres!$K$6:$K$45)<>Paramètres!$K$3,0,VLOOKUP(MATCH(1,Paramètres!$K$6:$K$45,0),LABO_Normal_Troops[#All],3))))","v":0},{"$f":"IF(Paramètres!$H$46=0,0,VLOOKUP(Paramètres!$H$47,BARRACK_Normal_Troops[#All],4))","v":0},{"$f":"IF($F43=0,0,IF($A43<3,1,IF(SUM(Paramètres!$K$6:$K$45)<>Paramètres!$K$3,0,VLOOKUP(MATCH(1,Paramètres!$K$6:$K$45,0),LABO_Normal_Troops[#All],4))))","v":0},{"$f":"IF(Paramètres!$H$46=0,0,VLOOKUP(Paramètres!$H$47,BARRACK_Normal_Troops[#All],5))","v":0},{"$f":"IF($H43=0,0,IF($A43<3,1,IF(SUM(Paramètres!$K$6:$K$45)<>Paramètres!$K$3,0,VLOOKUP(MATCH(1,Paramètres!$K$6:$K$45,0),LABO_Normal_Troops[#All],5))))","v":0},{"$f":"IF(Paramètres!$H$46=0,0,VLOOKUP(Paramètres!$H$47,BARRACK_Normal_Troops[#All],6))","v":0},{"$f":"IF($J43=0,0,IF(SUM(Paramètres!$K$6:$K$45)<>Paramètres!$K$3,0,VLOOKUP(MATCH(1,Paramètres!$K$6:$K$45,0),LABO_Normal_Troops[#All],6)))","v":0},{"$f":"IF(Paramètres!$H$46=0,0,VLOOKUP(Paramètres!$H$47,BARRACK_Normal_Troops[#All],7))","v":0},{"$f":"IF($L43=0,0,IF(SUM(Paramètres!$K$6:$K$45)<>Paramètres!$K$3,0,VLOOKUP(MATCH(1,Paramètres!$K$6:$K$45,0),LABO_Normal_Troops[#All],7)))","v":0},{"$f":"IF(Paramètres!$H$46=0,0,VLOOKUP(Paramètres!$H$47,BARRACK_Normal_Troops[#All],8))","v":0},{"$f":"IF($N43=0,0,IF(SUM(Paramètres!$K$6:$K$45)<>Paramètres!$K$3,0,VLOOKUP(MATCH(1,Paramètres!$K$6:$K$45,0),LABO_Normal_Troops[#All],8)))","v":0},{"$f":"IF(Paramètres!$H$46=0,0,VLOOKUP(Paramètres!$H$47,BARRACK_Normal_Troops[#All],9))","v":0},{"$f":"IF($P43=0,0,IF(SUM(Paramètres!$K$6:$K$45)<>Paramètres!$K$3,0,VLOOKUP(MATCH(1,Paramètres!$K$6:$K$45,0),LABO_Normal_Troops[#All],9)))","v":0},{"$f":"IF(Paramètres!$H$46=0,0,VLOOKUP(Paramètres!$H$47,BARRACK_Normal_Troops[#All],10))","v":0},{"$f":"IF($R43=0,0,IF(SUM(Paramètres!$K$6:$K$45)<>Paramètres!$K$3,0,VLOOKUP(MATCH(1,Paramètres!$K$6:$K$45,0),LABO_Normal_Troops[#All],10)))","v":0},{"$f":"IF(Paramètres!$H$46=0,0,VLOOKUP(Paramètres!$H$47,BARRACK_Normal_Troops[#All],11))","v":0},{"$f":"IF($T43=0,0,IF(SUM(Paramètres!$K$6:$K$45)<>Paramètres!$K$3,0,VLOOKUP(MATCH(1,Paramètres!$K$6:$K$45,0),LABO_Normal_Troops[#All],11)))","v":0},null,10,0,0,0,0,0,0,0,0,0,0,0,0,0,0,0,0,0,0,0,0,null,10,1,1,1,1,1,1,1,1,1,1]
[11,{"$f":"IF(Paramètres!$H$46=0,0,VLOOKUP(Paramètres!$H$47,BARRACK_Normal_Troops[#All],2))","v":0},{"$f":"IF($B44=0,0,IF($A44<3,1,IF(SUM(Paramètres!$K$6:$K$45)<>Paramètres!$K$3,0,VLOOKUP(MATCH(1,Paramètres!$K$6:$K$45,0),LABO_Normal_Troops[#All],2))))","v":0},{"$f":"IF(Paramètres!$H$46=0,0,VLOOKUP(Paramètres!$H$47,BARRACK_Normal_Troops[#All],3))","v":0},{"$f":"IF($D44=0,0,IF($A44<3,1,IF(SUM(Paramètres!$K$6:$K$45)<>Paramètres!$K$3,0,VLOOKUP(MATCH(1,Paramètres!$K$6:$K$45,0),LABO_Normal_Troops[#All],3))))","v":0},{"$f":"IF(Paramètres!$H$46=0,0,VLOOKUP(Paramètres!$H$47,BARRACK_Normal_Troops[#All],4))","v":0},{"$f":"IF($F44=0,0,IF($A44<3,1,IF(SUM(Paramètres!$K$6:$K$45)<>Paramètres!$K$3,0,VLOOKUP(MATCH(1,Paramètres!$K$6:$K$45,0),LABO_Normal_Troops[#All],4))))","v":0},{"$f":"IF(Paramètres!$H$46=0,0,VLOOKUP(Paramètres!$H$47,BARRACK_Normal_Troops[#All],5))","v":0},{"$f":"IF($H44=0,0,IF($A44<3,1,IF(SUM(Paramètres!$K$6:$K$45)<>Paramètres!$K$3,0,VLOOKUP(MATCH(1,Paramètres!$K$6:$K$45,0),LABO_Normal_Troops[#All],5))))","v":0},{"$f":"IF(Paramètres!$H$46=0,0,VLOOKUP(Paramètres!$H$47,BARRACK_Normal_Troops[#All],6))","v":0},{"$f":"IF($J44=0,0,IF(SUM(Paramètres!$K$6:$K$45)<>Paramètres!$K$3,0,VLOOKUP(MATCH(1,Paramètres!$K$6:$K$45,0),LABO_Normal_Troops[#All],6)))","v":0},{"$f":"IF(Paramètres!$H$46=0,0,VLOOKUP(Paramètres!$H$47,BARRACK_Normal_Troops[#All],7))","v":0},{"$f":"IF($L44=0,0,IF(SUM(Paramètres!$K$6:$K$45)<>Paramètres!$K$3,0,VLOOKUP(MATCH(1,Paramètres!$K$6:$K$45,0),LABO_Normal_Troops[#All],7)))","v":0},{"$f":"IF(Paramètres!$H$46=0,0,VLOOKUP(Paramètres!$H$47,BARRACK_Normal_Troops[#All],8))","v":0},{"$f":"IF($N44=0,0,IF(SUM(Paramètres!$K$6:$K$45)<>Paramètres!$K$3,0,VLOOKUP(MATCH(1,Paramètres!$K$6:$K$45,0),LABO_Normal_Troops[#All],8)))","v":0},{"$f":"IF(Paramètres!$H$46=0,0,VLOOKUP(Paramètres!$H$47,BARRACK_Normal_Troops[#All],9))","v":0},{"$f":"IF($P44=0,0,IF(SUM(Paramètres!$K$6:$K$45)<>Paramètres!$K$3,0,VLOOKUP(MATCH(1,Paramètres!$K$6:$K$45,0),LABO_Normal_Troops[#All],9)))","v":0},{"$f":"IF(Paramètres!$H$46=0,0,VLOOKUP(Paramètres!$H$47,BARRACK_Normal_Troops[#All],10))","v":0},{"$f":"IF($R44=0,0,IF(SUM(Paramètres!$K$6:$K$45)<>Paramètres!$K$3,0,VLOOKUP(MATCH(1,Paramètres!$K$6:$K$45,0),LABO_Normal_Troops[#All],10)))","v":0},{"$f":"IF(Paramètres!$H$46=0,0,VLOOKUP(Paramètres!$H$47,BARRACK_Normal_Troops[#All],11))","v":0},{"$f":"IF($T44=0,0,IF(SUM(Paramètres!$K$6:$K$45)<>Paramètres!$K$3,0,VLOOKUP(MATCH(1,Paramètres!$K$6:$K$45,0),LABO_Normal_Troops[#All],11)))","v":0},null,11,{"$f":"B44-B43","v":0},{"$f":"C44-C43","v":0},{"$f":"D44-D43","v":0},{"$f":"E44-E43","v":0},{"$f":"F44-F43","v":0},{"$f":"G44-G43","v":0},{"$f":"H44-H43","v":0},{"$f":"I44-I43","v":0},{"$f":"J44-J43","v":0},{"$f":"K44-K43","v":0},{"$f":"L44-L43","v":0},{"$f":"M44-M43","v":0},{"$f":"N44-N43","v":0},{"$f":"O44-O43","v":0},{"$f":"P44-P43","v":0},{"$f":"Q44-Q43","v":0},{"$f":"R44-R43","v":0},{"$f":"S44-S43","v":0},{"$f":"T44-T43","v":0},{"$f":"U44-U43","v":0},null,11,1,1,1,1,1,1,1,1,1,1]
[]
["Améliorations de Troupes Noires (Disponibles et LVL Max)",null,null,null,null,null,null,null,null,null,null,null,null,null,"Améliorations de Troupes Noires (Changements)",null,null,null,null,null,null,null,null,null,null,null,null,null,null,"Caserne Noire",null,null,null,null,null,null,null,"Laboratoire"]
["LVL Labo","Serviteur","LVL Max","Chevaucheur de Cochon","LVL Max2","Valkyrie","LVL Max3","Golem","LVL Max4","Sorcière","LVL Max43","Molosse de lave","LVL Max5",null,"LVL Labo","Serviteur","LVL Max","Chevaucheur de Cochon","LVL Max2","Valkyrie","LVL Max3","Golem","LVL Max4","Sorcière","LVL Max5","Molosse de lave","LVL Max53",null,null,"LVL Dark Barrack","Serviteur","Chevaucheur de Cochon","Valkyrie","Golem","Sorcière","Molosse de lave",null,"LVL Labo","Serviteur","Chevaucheur de Cochon","Valkyrie","Golem","Sorcière","Molosse de lave"]
[0,{"$f":"IF(Paramètres!$I$46=0,0,VLOOKUP(Paramètres!$I$47,BARRACK_DARK_Troops[#All],2))","v":0},{"$f":"IF($B48=0,0,IF(SUM(Paramètres!$K$6:$K$45)<>Paramètres!$K$3,0,VLOOKUP(MATCH(1,Paramètres!$K$6:$K$45,0),LABO_Dark_Troops[#All],2)))","v":0},{"$f":"IF(Paramètres!$I$46=0,0,VLOOKUP(Paramètres!$I$47,BARRACK_DARK_Troops[#All],3))","v":0},{"$f":"IF($D48=0,0,IF(SUM(Paramètres!$K$6:$K$45)<>Paramètres!$K$3,0,VLOOKUP(MATCH(1,Paramètres!$K$6:$K$45,0),LABO_Dark_Troops[#All],3)))","v":0},{"$f":"IF(Paramètres!$I$46=0,0,VLOOKUP(Paramètres!$I$47,BARRACK_DARK_Troops[#All],4))","v":0},{"$f":"IF($F48=0,0,IF(SUM(Paramètres!$K$6:$K$45)<>Paramètres!$K$3,0,VLOOKUP(MATCH(1,Paramètres!$K$6:$K$45,0),LABO_Dark_Troops[#All],4)))","v":0},{"$f":"IF(Paramètres!$I$46=0,0,VLOOKUP(Paramètres!$I$47,BARRACK_DARK_Troops[#All],5))","v":0},{"$f":"IF($H48=0,0,IF(SUM(Paramètres!$K$6:$K$45)<>Paramètres!$K$3,0,VLOOKUP(MATCH(1,Paramètres!$K$6:$K$45,0),LABO_Dark_Troops[#All],5)))","v":0},{"$f":"IF(Paramètres!$I$46=0,0,VLOOKUP(Paramètres!$I$47,BARRACK_DARK_Troops[#All],6))","v":0},{"$f":"IF($J48=0,0,IF(SUM(Paramètres!$K$6:$K$45)<>Paramètres!$K$3,0,VLOOKUP(MATCH(1,Paramètres!$K$6:$K$45,0),LABO_Dark_Troops[#All],6)))","v":0},{"$f":"IF(Paramètres!$I$46=0,0,VLOOKUP(Paramètres!$I$47,BARRACK_DARK_Troops[#All],7))","v":0},{"$f":"IF($L48=0,0,IF(SUM(Paramètres!$K$6:$K$45)<>Paramètres!$K$3,0,VLOOKUP(MATCH(1,Paramètres!$K$6:$K$45,0),LABO_Dark_Troops[#All],7)))","v":0},null,0,{"$f":"B48","v":0},{"$f":"C48","v":0},0,0,0,0,0,0,0,0,0,0,null,null,0,0,0,0,0,0,0,null,0,0,0,0,0,0,0]
[1,{"$f":"IF(Paramètres!$I$46=0,0,VLOOKUP(Paramètres!$I$47,BARRACK_DARK_Troops[#All],2))","v":0},{"$f":"IF($B49=0,0,IF(SUM(Paramètres!$K$6:$K$45)<>Paramètres!$K$3,0,VLOOKUP(MATCH(1,Paramètres!$K$6:$K$45,0),LABO_Dark_Troops[#All],2)))","v":0},{"$f":"IF(Paramètres!$I$46=0,0,VLOOKUP(Paramètres!$I$47,BARRACK_DARK_Troops[#All],3))","v":0},{"$f":"IF($D49=0,0,IF(SUM(Paramètres!$K$6:$K$45)<>Paramètres!$K$3,0,VLOOKUP(MATCH(1,Paramètres!$K$6:$K$45,0),LABO_Dark_Troops[#All],3)))","v":0},{"$f":"IF(Paramètres!$I$46=0,0,VLOOKUP(Paramètres!$I$47,BARRACK_DARK_Troops[#All],4))","v":0},{"$f":"IF($F49=0,0,IF(SUM(Paramètres!$K$6:$K$45)<>Paramètres!$K$3,0,VLOOKUP(MATCH(1,Paramètres!$K$6:$K$45,0),LABO_Dark_Troops[#All],4)))","v":0},{"$f":"IF(Paramètres!$I$46=0,0,VLOOKUP(Paramètres!$I$47,BARRACK_DARK_Troops[#All],5))","v":0},{"$f":"IF($H49=0,0,IF(SUM(Paramètres!$K$6:$K$45)<>Paramètres!$K$3,0,VLOOKUP(MATCH(1,Paramètres!$K$6:$K$45,0),LABO_Dark_Troops[#All],5)))","v":0},{"$f":"IF(Paramètres!$I$46=0,0,VLOOKUP(Paramètres!$I$47,BARRACK_DARK_Troops[#All],6))","v":0},{"$f":"IF($J49=0,0,IF(SUM(Paramètres!$K$6:$K$45)<>Paramètres!$K$3,0,VLOOKUP(MATCH(1,Paramètres!$K$6:$K$45,0),LABO_Dark_Troops[#All],6)))","v":0},{"$f":"IF(Paramètres!$I$46=0,0,VLOOKUP(Paramètres!$I$47,BARRACK_DARK_Troops[#All],7))","v":0},{"$f":"IF($L49=0,0,IF(SUM(Paramètres!$K$6:$K$45)<>Paramètres!$K$3,0,VLOOKUP(MATCH(1,Paramètres!$K$6:$K$45,0),LABO_Dark_Troops[#All],7)))","v":0},null,1,{"$f":"B49-B48","v":0},{"$f":"C49-C48","v":0},0,0,0,0,0,0,0,0,0,0,null,null,1,1,0,0,0,0,0,null,1,1,1,1,1,1,1]
[2,{"$f":"IF(Paramètres!$I$46=0,0,VLOOKUP(Paramètres!$I$47,BARRACK_DARK_Troops[#All],2))","v":0},{"$f":"IF($B50=0,0,IF(SUM(Paramètres!$K$6:$K$45)<>Paramètres!$K$3,0,VLOOKUP(MATCH(1,Paramètres!$K$6:$K$45,0),LABO_Dark_Troops[#All],2)))","v":0},{"$f":"IF(Paramètres!$I$46=0,0,VLOOKUP(Paramètres!$I$47,BARRACK_DARK_Troops[#All],3))","v":0},{"$f":"IF($D50=0,0,IF(SUM(Paramètres!$K$6:$K$45)<>Paramètres!$K$3,0,VLOOKUP(MATCH(1,Paramètres!$K$6:$K$45,0),LABO_Dark_Troops[#All],3)))","v":0},{"$f":"IF(Paramètres!$I$46=0,0,VLOOKUP(Paramètres!$I$47,BARRACK_DARK_Troops[#All],4))","v":0},{"$f":"IF($F50=0,0,IF(SUM(Paramètres!$K$6:$K$45)<>Paramètres!$K$3,0,VLOOKUP(MATCH(1,Paramètres!$K$6:$K$45,0),LABO_Dark_Troops[#All],4)))","v":0},{"$f":"IF(Paramètres!$I$46=0,0,VLOOKUP(Paramètres!$I$47,BARRACK_DARK_Troops[#All],5))","v":0},{"$f":"IF($H50=0,0,IF(SUM(Paramètres!$K$6:$K$45)<>Paramètres!$K$3,0,VLOOKUP(MATCH(1,Paramètres!$K$6:$K$45,0),LABO_Dark_Troops[#All],5)))","v":0},{"$f":"IF(Paramètres!$I$46=0,0,VLOOKUP(Paramètres!$I$47,BARRACK_DARK_Troops[#All],6))","v":0},{"$f":"IF($J50=0,0,IF(SUM(Paramètres!$K$6:$K$45)<>Paramètres!$K$3,0,VLOOKUP(MATCH(1,Paramètres!$K$6:$K$45,0),LABO_Dark_Troops[#All],6)))","v":0},{"$f":"IF(Paramètres!$I$46=0,0,VLOOKUP(Paramètres!$I$47,BARRACK_DARK_Troops[#All],7))","v":0},{"$f":"IF($L50=0,0,IF(SUM(Paramètres!$K$6:$K$45)<>Paramètres!$K$3,0,VLOOKUP(MATCH(1,Paramètres!$K$6:$K$45,0),LABO_Dark_Troops[#All],7)))","v":0},null,2,{"$f":"B50-B49","v":0},0,0,0,0,0,0,0,0,0,0,0,null,null,2,1,1,0,0,0,0,null,2,1,1,1,1,1,1]
[3,{"$f":"IF(Paramètres!$I$46=0,0,VLOOKUP(Paramètres!$I$47,BARRACK_DARK_Troops[#All],2))","v":0},{"$f":"IF($B51=0,0,IF(SUM(Paramètres!$K$6:$K$45)<>Paramètres!$K$3,0,VLOOKUP(MATCH(1,Paramètres!$K$6:$K$45,0),LABO_Dark_Troops[#All],2)))","v":0},{"$f":"IF(Paramètres!$I$46=0,0,VLOOKUP(Paramètres!$I$47,BARRACK_DARK_Troops[#All],3))","v":0},{"$f":"IF($D51=0,0,IF(SUM(Paramètres!$K$6:$K$45)<>Paramètres!$K$3,0,VLOOKUP(MATCH(1,Paramètres!$K$6:$K$45,0),LABO_Dark_Troops[#All],3)))","v":0},{"$f":"IF(Paramètres!$I$46=0,0,VLOOKUP(Paramètres!$I$47,BARRACK_DARK_Troops[#All],4))","v":0},{"$f":"IF($F51=0,0,IF(SUM(Paramètres!$K$6:$K$45)<>Paramètres!$K$3,0,VLOOKUP(MATCH(1,Paramètres!$K$6:$K$45,0),LABO_Dark_Troops[#All],4)))","v":0},{"$f":"IF(Paramètres!$I$46=0,0,VLOOKUP(Paramètres!$I$47,BARRACK_DARK_Troops[#All],5))","v":0},{"$f":"IF($H51=0,0,IF(SUM(Paramètres!$K$6:$K$45)<>Paramètres!$K$3,0,VLOOKUP(MATCH(1,Paramètres!$K$6:$K$45,0),LABO_Dark_Troops[#All],5)))","v":0},{"$f":"IF(Paramètres!$I$46=0,0,VLOOKUP(Paramètres!$I$47,BARRACK_DARK_Troops[#All],6))","v":0},{"$f":"IF($J51=0,0,IF(SUM(Paramètres!$K$6:$K$45)<>Paramètres!$K$3,0,VLOOKUP(MATCH(1,Paramètres!$K$6:$K$45,0),LABO_Dark_Troops[#All],6)))","v":0},{"$f":"IF(Paramètres!$I$46=0,0,VLOOKUP(Paramètres!$I$47,BARRACK_DARK_Troops[#All],7))","v":0},{"$f":"IF($L51=0,0,IF(SUM(Paramètres!$K$6:$K$45)<>Paramètres!$K$3,0,VLOOKUP(MATCH(1,Paramètres!$K$6:$K$45,0),LABO_Dark_Troops[#All],7)))","v":0},null,3,0,0,0,0,0,0,0,0,0,0,0,0,null,null,3,1,1,1,0,0,0,null,3,1,1,1,1,1,1]
[4,{"$f":"IF(Paramètres!$I$46=0,0,VLOOKUP(Paramètres!$I$47,BARRACK_DARK_Troops[#All],2))","v":0},{"$f":"IF($B52=0,0,IF(SUM(Paramètres!$K$6:$K$45)<>Paramètres!$K$3,0,VLOOKUP(MATCH(1,Paramètres!$K$6:$K$45,0),LABO_Dark_Troops[#All],2)))","v":0},{"$f":"IF(Paramètres!$I$46=0,0,VLOOKUP(Paramètres!$I$47,BARRACK_DARK_Troops[#All],3))","v":0},{"$f":"IF($D52=0,0,IF(SUM(Paramètres!$K$6:$K$45)<>Paramètres!$K$3,0,VLOOKUP(MATCH(1,Paramètres!$K$6:$K$45,0),LABO_Dark_Troops[#All],3)))","v":0},{"$f":"IF(Paramètres!$I$46=0,0,VLOOKUP(Paramètres!$I$47,BARRACK_DARK_Troops[#All],4))","v":0},{"$f":"IF($F52=0,0,IF(SUM(Paramètres!$K$6:$K$45)<>Paramètres!$K$3,0,VLOOKUP(MATCH(1,Paramètres!$K$6:$K$45,0),LABO_Dark_Troops[#All],4)))","v":0},{"$f":"IF(Paramètres!$I$46=0,0,VLOOKUP(Paramètres!$I$47,BARRACK_DARK_Troops[#All],5))","v":0},{"$f":"IF($H52=0,0,IF(SUM(Paramètres!$K$6:$K$45)<>Paramètres!$K$3,0,VLOOKUP(MATCH(1,Paramètres!$K$6:$K$45,0),LABO_Dark_Troops[#All],5)))","v":0},{"$f":"IF(Paramètres!$I$46=0,0,VLOOKUP(Paramètres!$I$47,BARRACK_DARK_Troops[#All],6))","v":0},{"$f":"IF($J52=0,0,IF(SUM(Paramètres!$K$6:$K$45)<>Paramètres!$K$3,0,VLOOKUP(MATCH(1,Paramètres!$K$6:$K$45,0),LABO_Dark_Troops[#All],6)))","v":0},{"$f":"IF(Paramètres!$I$46=0,0,VLOOKUP(Paramètres!$I$47,BARRACK_DARK_Troops[#All],7))","v":0},{"$f":"IF($L52=0,0,IF(SUM(Paramètres!$K$6:$K$45)<>Paramètres!$K$3,0,VLOOKUP(MATCH(1,Paramètres!$K$6:$K$45,0),LABO_Dark_Troops[#All],7)))","v":0},null,4,0,0,0,0,0,0,0,0,0,0,0,0,null,null,4,1,1,1,1,0,0,null,4,1,1,1,1,1,1]
[5,{"$f":"IF(Paramètres!$I$46=0,0,VLOOKUP(Paramètres!$I$47,BARRACK_DARK_Troops[#All],2))","v":0},{"$f":"IF($B53=0,0,IF(SUM(Paramètres!$K$6:$K$45)<>Paramètres!$K$3,0,VLOOKUP(MATCH(1,Paramètres!$K$6:$K$45,0),LABO_Dark_Troops[#All],2)))","v":0},{"$f":"IF(Paramètres!$I$46=0,0,VLOOKUP(Paramètres!$I$47,BARRACK_DARK_Troops[#All],3))","v":0},{"$f":"IF($D53=0,0,IF(SUM(Paramètres!$K$6:$K$45)<>Paramètres!$K$3,0,VLOOKUP(MATCH(1,Paramètres!$K$6:$K$45,0),LABO_Dark_Troops[#All],3)))","v":0},{"$f":"IF(Paramètres!$I$46=0,0,VLOOKUP(Paramètres!$I$47,BARRACK_DARK_Troops[#All],4))","v":0},{"$f":"IF($F53=0,0,IF(SUM(Paramètres!$K$6:$K$45)<>Paramètres!$K$3,0,VLOOKUP(MATCH(1,Paramètres!$K$6:$K$45,0),LABO_Dark_Troops[#All],4)))","v":0},{"$f":"IF(Paramètres!$I$46=0,0,VLOOKUP(Paramètres!$I$47,BARRACK_DARK_Troops[#All],5))","v":0},{"$f":"IF($H53=0,0,IF(SUM(Paramètres!$K$6:$K$45)<>Paramètres!$K$3,0,VLOOKUP(MATCH(1,Paramètres!$K$6:$K$45,0),LABO_Dark_Troops[#All],5)))","v":0},{"$f":"IF(Paramètres!$I$46=0,0,VLOOKUP(Paramètres!$I$47,BARRACK_DARK_Troops[#All],6))","v":0},{"$f":"IF($J53=0,0,IF(SUM(Paramètres!$K$6:$K$45)<>Paramètres!$K$3,0,VLOOKUP(MATCH(1,Paramètres!$K$6:$K$45,0),LABO_Dark_Troops[#All],6)))","v":0},{"$f":"IF(Paramètres!$I$46=0,0,VLOOKUP(Paramètres!$I$47,BARRACK_DARK_Troops[#All],7))","v":0},{"$f":"IF($L53=0,0,IF(SUM(Paramètres!$K$6:$K$45)<>Paramètres!$K$3,0,VLOOKUP(MATCH(1,Paramètres!$K$6:$K$45,0),LABO_Dark_Troops[#All],7)))","v":0},null,5,0,0,0,0,0,0,0,0,0,0,0,0,null,null,5,1,1,1,1,1,0,null,5,2,2,1,1,1,1]
[6,{"$f":"IF(Paramètres!$I$46=0,0,VLOOKUP(Paramètres!$I$47,BARRACK_DARK_Troops[#All],2))","v":0},{"$f":"IF($B54=0,0,IF(SUM(Paramètres!$K$6:$K$45)<>Paramètres!$K$3,0,VLOOKUP(MATCH(1,Paramètres!$K$6:$K$45,0),LABO_Dark_Troops[#All],2)))","v":0},{"$f":"IF(Paramètres!$I$46=0,0,VLOOKUP(Paramètres!$I$47,BARRACK_DARK_Troops[#All],3))","v":0},{"$f":"IF($D54=0,0,IF(SUM(Paramètres!$K$6:$K$45)<>Paramètres!$K$3,0,VLOOKUP(MATCH(1,Paramètres!$K$6:$K$45,0),LABO_Dark_Troops[#All],3)))","v":0},{"$f":"IF(Paramètres!$I$46=0,0,VLOOKUP(Paramètres!$I$47,BARRACK_DARK_Troops[#All],4))","v":0},{"$f":"IF($F54=0,0,IF(SUM(Paramètres!$K$6:$K$45)<>Paramètres!$K$3,0,VLOOKUP(MATCH(1,Paramètres!$K$6:$K$45,0),LABO_Dark_Troops[#All],4)))","v":0},{"$f":"IF(Paramètres!$I$46=0,0,VLOOKUP(Paramètres!$I$47,BARRACK_DARK_Troops[#All],5))","v":0},{"$f":"IF($H54=0,0,IF(SUM(Paramètres!$K$6:$K$45)<>Paramètres!$K$3,0,VLOOKUP(MATCH(1,Paramètres!$K$6:$K$45,0),LABO_Dark_Troops[#All],5)))","v":0},{"$f":"IF(Paramètres!$I$46=0,0,VLOOKUP(Paramètres!$I$47,BARRACK_DARK_Troops[#All],6))","v":0},{"$f":"IF($J54=0,0,IF(SUM(Paramètres!$K$6:$K$45)<>Paramètres!$K$3,0,VLOOKUP(MATCH(1,Paramètres!$K$6:$K$45,0),LABO_Dark_Troops[#All],6)))","v":0},{"$f":"IF(Paramètres!$I$46=0,0,VLOOKUP(Paramètres!$I$47,BARRACK_DARK_Troops[#All],7))","v":0},{"$f":"IF($L54=0,0,IF(SUM(Paramètres!$K$6:$K$45)<>Paramètres!$K$3,0,VLOOKUP(MATCH(1,Paramètres!$K$6:$K$45,0),LABO_Dark_Troops[#All],7)))","v":0},null,6,0,0,0,0,0,0,0,0,0,0,0,0,null,null,6,1,1,1,1,1,1,null,6,4,4,2,2,1,1]
[7,{"$f":"IF(Paramètres!$I$46=0,0,VLOOKUP(Paramètres!$I$47,BARRACK_DARK_Troops[#All],2))","v":0},{"$f":"IF($B55=0,0,IF(SUM(Paramètres!$K$6:$K$45)<>Paramètres!$K$3,0,VLOOKUP(MATCH(1,Paramètres!$K$6:$K$45,0),LABO_Dark_Troops[#All],2)))","v":0},{"$f":"IF(Paramètres!$I$46=0,0,VLOOKUP(Paramètres!$I$47,BARRACK_DARK_Troops[#All],3))","v":0},{"$f":"IF($D55=0,0,IF(SUM(Paramètres!$K$6:$K$45)<>Paramètres!$K$3,0,VLOOKUP(MATCH(1,Paramètres!$K$6:$K$45,0),LABO_Dark_Troops[#All],3)))","v":0},{"$f":"IF(Paramètres!$I$46=0,0,VLOOKUP(Paramètres!$I$47,BARRACK_DARK_Troops[#All],4))","v":0},{"$f":"IF($F55=0,0,IF(SUM(Paramètres!$K$6:$K$45)<>Paramètres!$K$3,0,VLOOKUP(MATCH(1,Paramètres!$K$6:$K$45,0),LABO_Dark_Troops[#All],4)))","v":0},{"$f":"IF(Paramètres!$I$46=0,0,VLOOKUP(Paramètres!$I$47,BARRACK_DARK_Troops[#All],5))","v":0},{"$f":"IF($H55=0,0,IF(SUM(Paramètres!$K$6:$K$45)<>Paramètres!$K$3,0,VLOOKUP(MATCH(1,Paramètres!$K$6:$K$45,0),LABO_Dark_Troops[#All],5)))","v":0},{"$f":"IF(Paramètres!$I$46=0,0,VLOOKUP(Paramètres!$I$47,BARRACK_DARK_Troops[#All],6))","v":0},{"$f":"IF($J55=0,0,IF(SUM(Paramètres!$K$6:$K$45)<>Paramètres!$K$3,0,VLOOKUP(MATCH(1,Paramètres!$K$6:$K$45,0),LABO_Dark_Troops[#All],6)))","v":0},{"$f":"IF(Paramètres!$I$46=0,0,VLOOKUP(Paramètres!$I$47,BARRACK_DARK_Troops[#All],7))","v":0},{"$f":"IF($L55=0,0,IF(SUM(Paramètres!$K$6:$K$45)<>Paramètres!$K$3,0,VLOOKUP(MATCH(1,Paramètres!$K$6:$K$45,0),LABO_Dark_Troops[#All],7)))","v":0},null,7,0,0,0,0,0,0,0,0,0,0,0,0,null,null,7,1,1,1,1,1,1,null,7,5,5,4,4,2,2]
[8,{"$f":"IF(Paramètres!$I$46=0,0,VLOOKUP(Paramètres!$I$47,BARRACK_DARK_Troops[#All],2))","v":0},{"$f":"IF($B56=0,0,IF(SUM(Paramètres!$K$6:$K$45)<>Paramètres!$K$3,0,VLOOKUP(MATCH(1,Paramètres!$K$6:$K$45,0),LABO_Dark_Troops[#All],2)))","v":0},{"$f":"IF(Paramètres!$I$46=0,0,VLOOKUP(Paramètres!$I$47,BARRACK_DARK_Troops[#All],3))","v":0},{"$f":"IF($D56=0,0,IF(SUM(Paramètres!$K$6:$K$45)<>Paramètres!$K$3,0,VLOOKUP(MATCH(1,Paramètres!$K$6:$K$45,0),LABO_Dark_Troops[#All],3)))","v":0},{"$f":"IF(Paramètres!$I$46=0,0,VLOOKUP(Paramètres!$I$47,BARRACK_DARK_Troops[#All],4))","v":0},{"$f":"IF($F56=0,0,IF(SUM(Paramètres!$K$6:$K$45)<>Paramètres!$K$3,0,VLOOKUP(MATCH(1,Paramètres!$K$6:$K$45,0),LABO_Dark_Troops[#All],4)))","v":0},{"$f":"IF(Paramètres!$I$46=0,0,VLOOKUP(Paramètres!$I$47,BARRACK_DARK_Troops[#All],5))","v":0},{"$f":"IF($H56=0,0,IF(SUM(Paramètres!$K$6:$K$45)<>Paramètres!$K$3,0,VLOOKUP(MATCH(1,Paramètres!$K$6:$K$45,0),LABO_Dark_Troops[#All],5)))","v":0},{"$f":"IF(Paramètres!$I$46=0,0,VLOOKUP(Paramètres!$I$47,BARRACK_DARK_Troops[#All],6))","v":0},{"$f":"IF($J56=0,0,IF(SUM(Paramètres!$K$6:$K$45)<>Paramètres!$K$3,0,VLOOKUP(MATCH(1,Paramètres!$K$6:$K$45,0),LABO_Dark_Troops[#All],6)))","v":0},{"$f":"IF(Paramètres!$I$46=0,0,VLOOKUP(Paramètres!$I$47,BARRACK_DARK_Troops[#All],7))","v":0},{"$f":"IF($L56=0,0,IF(SUM(Paramètres!$K$6:$K$45)<>Paramètres!$K$3,0,VLOOKUP(MATCH(1,Paramètres!$K$6:$K$45,0),LABO_Dark_Troops[#All],7)))","v":0},null,8,0,0,0,0,0,0,0,0,0,0,0,0,null,null,null,null,null,null,null,null,null,null,8,6,5,4,5,2,3]
[9,{"$f":"IF(Paramètres!$I$46=0,0,VLOOKUP(Paramètres!$I$47,BARRACK_DARK_Troops[#All],2))","v":0},{"$f":"IF($B57=0,0,IF(SUM(Paramètres!$K$6:$K$45)<>Paramètres!$K$3,0,VLOOKUP(MATCH(1,Paramètres!$K$6:$K$45,0),LABO_Dark_Troops[#All],2)))","v":0},{"$f":"IF(Paramètres!$I$46=0,0,VLOOKUP(Paramètres!$I$47,BARRACK_DARK_Troops[#All],3))","v":0},{"$f":"IF($D57=0,0,IF(SUM(Paramètres!$K$6:$K$45)<>Paramètres!$K$3,0,VLOOKUP(MATCH(1,Paramètres!$K$6:$K$45,0),LABO_Dark_Troops[#All],3)))","v":0},{"$f":"IF(Paramètres!$I$46=0,0,VLOOKUP(Paramètres!$I$47,BARRACK_DARK_Troops[#All],4))","v":0},{"$f":"IF($F57=0,0,IF(SUM(Paramètres!$K$6:$K$45)<>Paramètres!$K$3,0,VLOOKUP(MATCH(1,Paramètres!$K$6:$K$45,0),LABO_Dark_Troops[#All],4)))","v":0},{"$f":"IF(Paramètres!$I$46=0,0,VLOOKUP(Paramètres!$I$47,BARRACK_DARK_Troops[#All],5))","v":0},{"$f":"IF($H57=0,0,IF(SUM(Paramètres!$K$6:$K$45)<>Paramètres!$K$3,0,VLOOKUP(MATCH(1,Paramètres!$K$6:$K$45,0),LABO_Dark_Troops[#All],5)))","v":0},{"$f":"IF(Paramètres!$I$46=0,0,VLOOKUP(Paramètres!$I$47,BARRACK_DARK_Troops[#All],6))","v":0},{"$f":"IF($J57=0,0,IF(SUM(Paramètres!$K$6:$K$45)<>Paramètres!$K$3,0,VLOOKUP(MATCH(1,Paramètres!$K$6:$K$45,0),LABO_Dark_Troops[#All],6)))","v":0},{"$f":"IF(Paramètres!$I$46=0,0,VLOOKUP(Paramètres!$I$47,BARRACK_DARK_Troops[#All],7))","v":0},{"$f":"IF($L57=0,0,IF(SUM(Paramètres!$K$6:$K$45)<>Paramètres!$K$3,0,VLOOKUP(MATCH(1,Paramètres!$K$6:$K$45,0),LABO_Dark_Troops[#All],7)))","v":0},null,9,0,0,0,0,0,0,0,0,0,0,0,0,null,null,null,null,null,null,null,null,null,null,9,7,5,4,5,3,3]
[10,{"$f":"IF(Paramètres!$I$46=0,0,VLOOKUP(Paramètres!$I$47,BARRACK_DARK_Troops[#All],2))","v":0},{"$f":"IF($B58=0,0,IF(SUM(Paramètres!$K$6:$K$45)<>Paramètres!$K$3,0,VLOOKUP(MATCH(1,Paramètres!$K$6:$K$45,0),LABO_Dark_Troops[#All],2)))","v":0},{"$f":"IF(Paramètres!$I$46=0,0,VLOOKUP(Paramètres!$I$47,BARRACK_DARK_Troops[#All],3))","v":0},{"$f":"IF($D58=0,0,IF(SUM(Paramètres!$K$6:$K$45)<>Paramètres!$K$3,0,VLOOKUP(MATCH(1,Paramètres!$K$6:$K$45,0),LABO_Dark_Troops[#All],3)))","v":0},{"$f":"IF(Paramètres!$I$46=0,0,VLOOKUP(Paramètres!$I$47,BARRACK_DARK_Troops[#All],4))","v":0},{"$f":"IF($F58=0,0,IF(SUM(Paramètres!$K$6:$K$45)<>Paramètres!$K$3,0,VLOOKUP(MATCH(1,Paramètres!$K$6:$K$45,0),LABO_Dark_Troops[#All],4)))","v":0},{"$f":"IF(Paramètres!$I$46=0,0,VLOOKUP(Paramètres!$I$47,BARRACK_DARK_Troops[#All],5))","v":0},{"$f":"IF($H58=0,0,IF(SUM(Paramètres!$K$6:$K$45)<>Paramètres!$K$3,0,VLOOKUP(MATCH(1,Paramètres!$K$6:$K$45,0),LABO_Dark_Troops[#All],5)))","v":0},{"$f":"IF(Paramètres!$I$46=0,0,VLOOKUP(Paramètres!$I$47,BARRACK_DARK_Troops[#All],6))","v":0},{"$f":"IF($J58=0,0,IF(SUM(Paramètres!$K$6:$K$45)<>Paramètres!$K$3,0,VLOOKUP(MATCH(1,Paramètres!$K$6:$K$45,0),LABO_Dark_Troops[#All],6)))","v":0},{"$f":"IF(Paramètres!$I$46=0,0,VLOOKUP(Paramètres!$I$47,BARRACK_DARK_Troops[#All],7))","v":0},{"$f":"IF($L58=0,0,IF(SUM(Paramètres!$K$6:$K$45)<>Paramètres!$K$3,0,VLOOKUP(MATCH(1,Paramètres!$K$6:$K$45,0),LABO_Dark_Troops[#All],7)))","v":0},null,10,0,0,0,0,0,0,0,0,0,0,0,0]
[11,{"$f":"IF(Paramètres!$I$46=0,0,VLOOKUP(Paramètres!$I$47,BARRACK_DARK_Troops[#All],2))","v":0},{"$f":"IF($B59=0,0,IF(SUM(Paramètres!$K$6:$K$45)<>Paramètres!$K$3,0,VLOOKUP(MATCH(1,Paramètres!$K$6:$K$45,0),LABO_Dark_Troops[#All],2)))","v":0},{"$f":"IF(Paramètres!$I$46=0,0,VLOOKUP(Paramètres!$I$47,BARRACK_DARK_Troops[#All],3))","v":0},{"$f":"IF($D59=0,0,IF(SUM(Paramètres!$K$6:$K$45)<>Paramètres!$K$3,0,VLOOKUP(MATCH(1,Paramètres!$K$6:$K$45,0),LABO_Dark_Troops[#All],3)))","v":0},{"$f":"IF(Paramètres!$I$46=0,0,VLOOKUP(Paramètres!$I$47,BARRACK_DARK_Troops[#All],4))","v":0},{"$f":"IF($F59=0,0,IF(SUM(Paramètres!$K$6:$K$45)<>Paramètres!$K$3,0,VLOOKUP(MATCH(1,Paramètres!$K$6:$K$45,0),LABO_Dark_Troops[#All],4)))","v":0},{"$f":"IF(Paramètres!$I$46=0,0,VLOOKUP(Paramètres!$I$47,BARRACK_DARK_Troops[#All],5))","v":0},{"$f":"IF($H59=0,0,IF(SUM(Paramètres!$K$6:$K$45)<>Paramètres!$K$3,0,VLOOKUP(MATCH(1,Paramètres!$K$6:$K$45,0),LABO_Dark_Troops[#All],5)))","v":0},{"$f":"IF(Paramètres!$I$46=0,0,VLOOKUP(Paramètres!$I$47,BARRACK_DARK_Troops[#All],6))","v":0},{"$f":"IF($J59=0,0,IF(SUM(Paramètres!$K$6:$K$45)<>Paramètres!$K$3,0,VLOOKUP(MATCH(1,Paramètres!$K$6:$K$45,0),LABO_Dark_Troops[#All],6)))","v":0},{"$f":"IF(Paramètres!$I$46=0,0,VLOOKUP(Paramètres!$I$47,BARRACK_DARK_Troops[#All],7))","v":0},{"$f":"IF($L59=0,0,IF(SUM(Paramètres!$K$6:$K$45)<>Paramètres!$K$3,0,VLOOKUP(MATCH(1,Paramètres!$K$6:$K$45,0),LABO_Dark_Troops[#All],7)))","v":0},null,11,{"$f":"B59-B58","v":0},{"$f":"C59-C58","v":0},{"$f":"D59-D58","v":0},{"$f":"E59-E58","v":0},{"$f":"F59-F58","v":0},{"$f":"G59-G58","v":0},{"$f":"H59-H58","v":0},{"$f":"I59-I58","v":0},{"$f":"J59-J58","v":0},{"$f":"K59-K58","v":0},{"$f":"L59-L58","v":0},{"$f":"M59-M58","v":0}]

{"sheet":"Héros","index":10,"n_rows":14,"n_cols":15,"rows_kept":14,"cut":false,"hidden":true,"merged":[[0,8,0,14],[0,0,0,6]]}
["Héros (Disponibles & LVL Max)",null,null,null,null,null,null,null,"Héros (Changements)"]
["LVL HdV","Roi des Barbares","LVL Max","Reine des Archers","LVL Max2","Grand Gardien","LVL Max4",null,"LVL HdV","Roi des Barbares","LVL Max","Reine des Archers","LVL Max2","Grand Gardien","LVL Max4"]
[0,0,0,0,0,0,0,null,0,{"$f":"B3","v":0},0,0,0,0,0]
[1,0,0,0,0,0,0,null,1,{"$f":"B4-B3","v":0},{"$f":"C4-C3","v":0},{"$f":"D4-D3","v":0},{"$f":"E4-E3","v":0},{"$f":"F4-F3","v":0},{"$f":"G4-G3","v":0}]
[2,0,0,0,0,0,0,null,2,0,0,0,0,0,0]
[3,0,0,0,0,0,0,null,3,0,0,0,0,0,0]
[4,0,0,0,0,0,0,null,4,0,0,0,0,0,0]
[5,0,0,0,0,0,0,null,5,0,0,0,0,0,0]
[6,0,0,0,0,0,0,null,6,0,0,0,0,0,0]
[7,1,5,0,0,0,0,null,7,1,5,0,0,0,0]
[8,1,10,0,0,0,0,null,8,0,5,0,0,0,0]
[9,1,30,1,30,0,0,null,9,0,20,1,30,0,0]
[10,1,40,1,40,0,0,null,10,0,10,0,10,0,0]
[11,1,40,1,40,1,20,null,11,0,0,0,0,1,20]

{"sheet":"Coûts des Améliorations","index":11,"n_rows":163,"n_cols":33,"rows_kept":163,"cut":false,"hidden":true,"merged":[[17,0,17,17],[100,0,100,8],[77,6,77,8],[77,9,77,11],[33,3,33,5],[33,6,33,8],[77,3,77,5],[62,3,62,5],[76,0,76,14],[18,9,18,11],[50,0,50,17],[18,6,18,8],[33,12,33,14],[18,15,18,17],[77,0,77,2],[77,12,77,14],[0,0,0,17],[61,0,61,5],[18,12,18,14],[1,12,1,14],[1,15,1,17],[51,0,51,2],[1,9,1,11],[18,0,18,2],[18,3,18,5],[1,0,1,2],[1,3,1,5],[1,6,1,8],[33,9,33,11],[51,12,51,14],[51,3,51,5],[51,15,51,17],[121,6,121,8],[120,0,120,8],[101,0,101,2],[101,3,101,5],[101,6,101,8],[121,3,121,5],[121,0,121,2],[110,15,110,17],[89,0,89,2],[109,0,109,17],[110,0,110,2],[89,3,89,5],[89,6,89,8],[89,9,89,11],[89,12,89,14],[89,15,89,17],[110,12,110,14],[110,6,110,8],[110,9,110,11],[110,3,110,5],[33,30,33,32],[32,0,32,32],[89,21,89,23],[33,15,33,17],[33,24,33,26],[33,21,33,23],[89,27,89,29],[89,18,89,20],[89,24,89,26],[33,27,33,29],[33,18,33,20],[88,0,88,29],[33,0,33,2],[62,0,62,2],[51,6,51,8],[51,9,51,11]]}
["Coûts - Bâtiments de Ressources"]
["Mine d'Or",null,null,"Foreuse d'Élixir Noir",null,null,"Réserve d'Or",null,null,"Réservoir d'Élixir Noir",null,null,"Extracteur d'Élixir",null,null,"Réservoir d'Élixir"]
["LVL","Coût","Temps","LVL","Coût","Temps","LVL","Coût","Temps","LVL","Coût","Temps","LVL","Coût","Temps","LVL","Coût","Temps"]
[1,150,{"$f":"1/60","v":1.6666666666666666E-2},1,1000000,24,1,300,{"$f":"15/60","v":0.25},1,600000,24,1,150,{"$f":"1/60","v":1.6666666666666666E-2},1,300,{"$f":"15/60","v":0.25}]
[2,300,{"$f":"5/60","v":8.3333333333333329E-2},2,1500000,48,2,750,{"$f":"30/60","v":0.5},2,1200000,48,2,300,{"$f":"5/60","v":8.3333333333333329E-2},2,750,{"$f":"30/60","v":0.5}]
[3,700,{"$f":"15/60","v":0.25},3,2000000,72,3,1500,1,3,1800000,72,3,700,{"$f":"15/60","v":0.25},3,1500,1]
[4,1400,1,4,3000000,96,4,3000,2,4,2400000,96,4,1400,1,4,3000,2]
[5,3000,2,5,4000000,144,5,6000,3,5,3000000,120,5,3000,2,5,6000,3]
[6,7000,6,6,5000000,192,6,12000,4,6,3600000,144,6,7000,6,6,12000,4]
[7,14000,12,null,null,null,7,25000,6,null,null,null,7,14000,12,7,25000,6]
[8,28000,24,null,null,null,8,50000,8,null,null,null,8,28000,24,8,50000,8]
[9,56000,48,null,null,null,9,100000,12,null,null,null,9,56000,48,9,100000,12]
[10,84000,72,null,null,null,10,250000,24,null,null,null,10,84000,72,10,250000,24]
[11,168000,96,null,null,null,11,500000,48,null,null,null,11,168000,96,11,500000,48]
[12,336000,120,null,null,null,12,2500000,168,null,null,null,12,336000,120,12,2500000,168]
[]
[]
["Coûts - Bâtiments d'Armée"]
["Caserne Noire",null,null,"Caserne",null,null,"Camp Militaire",null,null,"Laboratoire",null,null,"Usine de Sorts",null,null,"Usine de Sorts Noirs"]
["LVL","Coût","Temps","LVL","Coût","Temps","LVL","Coût","Temps","LVL","Coût","Temps","LVL","Coût","Temps","LVL","Coût","Temps"]
[1,750000,72,1,200,0.02,1,250,{"$f":"5/60","v":8.3333333333333329E-2},1,25000,{"$f":"30/60","v":0.5},1,200000,24,1,1500000,96]
[2,1250000,120,2,1000,0.25,2,2500,1,2,50000,5,2,400000,48,2,2500000,144]
[3,1750000,144,3,2500,2,3,10000,3,3,90000,12,3,800000,96,3,3500000,192]
[4,2250000,168,4,5000,4,4,100000,8,4,270000,24,4,1600000,120]
[5,2750000,192,5,10000,10,5,250000,24,5,500000,48,5,3200000,144]
[6,3500000,216,6,80000,16,6,750000,72,6,1000000,96]
[null,null,null,7,240000,24,7,2250000,120,7,2500000,120]
[null,null,null,8,700000,48,8,6750000,240,8,4000000,144]
[null,null,null,9,1500000,96,null,null,null,9,6000000,240]
[null,null,null,10,2000000,144]
[]
[]
["Coûts - Bâtiments de Défense"]
["Rempart",null,null,"Canon",null,null,"Tour d'Archers",null,null,"Mortier",null,null,"Défense Antiaérienne",null,null,"Tour de Sorciers",null,null,"Propulseur d'air",null,null,"Tesla Camouflée",null,null,"Arc-X",null,null,"Tour de l'Enfer",null,null,"Aigle Artilleur"]
["LVL","Coût","Temps","LVL","Coût","Temps","LVL","Coût","Temps","LVL","Coût","Temps","LVL","Coût","Temps","LVL","Coût","Temps","LVL","Coût","Temps","LVL","Coût","Temps","LVL","Coût","Temps","LVL","Coût","Temps","LVL","Coût","Temps"]
[1,50,0,1,250,{"$f":"1/60","v":1.6666666666666666E-2},1,1000,{"$f":"15/60","v":0.25},1,8000,8,1,22500,5,1,180000,12,1,500000,24,1,1000000,24,1,3000000,168,1,5000000,168,1,8000000,240]
[2,1000,0,2,1000,{"$f":"15/60","v":0.25},2,2000,{"$f":"30/60","v":0.5},2,32000,12,2,90000,24,2,360000,24,2,750000,72,2,1250000,72,2,5000000,240,2,6500000,240,2,10000000,336]
[3,5000,0,3,4000,{"$f":"45/60","v":0.75},3,5000,{"$f":"45/60","v":0.75},3,120000,24,3,270000,72,3,720000,48,3,1250000,120,3,1500000,120,3,7000000,336,3,8000000,336]
[4,10000,0,4,16000,2,4,20000,4,4,400000,48,4,540000,120,4,1280000,72,4,2400000,168,4,2000000,144,4,8000000,336]
[5,30000,0,5,50000,6,5,80000,12,5,800000,96,5,1080000,144,5,1960000,96,5,4800000,192,5,2500000,192]
[6,75000,0,6,100000,12,6,180000,24,6,1600000,120,6,2160000,192,6,2680000,120,6,7200000,216,6,3000000,240]
[7,200000,0,7,200000,24,7,360000,48,7,3200000,168,7,4320000,240,7,5360000,168,null,null,null,7,3500000,288]
[8,500000,0,8,400000,48,8,720000,72,8,6400000,240,8,7560000,288,8,6480000,240,null,null,null,8,5000000,336]
[9,1000000,0,9,800000,72,9,1500000,96,null,null,null,null,null,null,9,8560000,288]
[10,3000000,0,10,1600000,96,10,2500000,{"$f":"5*24","v":120}]
[11,4000000,0,11,3200000,120,11,4500000,144]
[null,null,null,12,6400000,144,12,6500000,168]
[null,null,null,13,7500000,168,13,7500000,{"$f":"8*24","v":192}]
[]
[]
["Coûts - Pièges Défensifs"]
["Bombe",null,null,"Piège à ressort",null,null,"Bombe géante",null,null,"Bombe aérienne",null,null,"Tête chercheuse",null,null,"Piège squelettique"]
["LVL","Coût","Temps","LVL","Coût","Temps","LVL","Coût","Temps","LVL","Coût","Temps","LVL","Coût","Temps","LVL","Coût","Temps"]
[1,400,0,1,2000,0,1,12500,0,1,4000,0,1,15000,5,1,6000,0]
[2,1000,0.25,null,null,null,2,75000,6,2,20000,4,2,2000000,24,2,600000,6]
[3,10000,2,null,null,null,3,750000,24,3,200000,12,3,4000000,72,3,1300000,24]
[4,100000,8,null,null,null,4,2500000,72,4,1500000,24]
[5,1000000,24]
[6,1500000,48]
[]
[]
["Coûts - Bâtiments Autres"]
["Château de Clan",null,null,"Hôtel de Ville"]
["LVL","Coût","Temps","LVL","Coût","Temps"]
[1,40000,0,1,0,0]
[2,100000,6,2,1000,{"$f":"5/60","v":8.3333333333333329E-2}]
[3,800000,24,3,4000,3]
[4,1800000,48,4,25000,24]
[5,5000000,168,5,150000,48]
[6,7000000,336,6,750000,96]
[null,null,null,7,1200000,144]
[null,null,null,8,2000000,192]
[null,null,null,9,3000000,240]
[null,null,null,10,4000000,288]
[null,null,null,11,7000000,336]
[]
["Coûts - Améliorations de Sorts"]
["Sort de Foudre",null,null,"Sort de Guérison",null,null,"Sort de Rage",null,null,"Sort de Saut",null,null,"Sort de Gel"]
["LVL","Coût","Temps","LVL","Coût","Temps","LVL","Coût","Temps","LVL","Coût","Temps","LVL","Coût","Temps"]
[1,0,0,1,0,0,1,0,0,1,0,0,1,0,0]
[2,200000,24,2,300000,24,2,450000,48,2,3000000,120,2,4000000,120]
[3,500000,48,3,600000,48,3,900000,72,3,6000000,168,3,5000000,168]
[4,1000000,72,4,1200000,72,4,1800000,120,null,null,null,4,6500000,240]
[5,2000000,96,5,2400000,120,5,3000000,168,null,null,null,5,8000000,336]
[6,6000000,240,6,4800000,168]
[7,8000000,336]
[]
[]
["Coûts - Améliroations de Troupes Normales"]
["Barbare",null,null,"Archer",null,null,"Gobelin",null,null,"Géant",null,null,"Sapeur",null,null,"Ballon",null,null,"Sorcier",null,null,"Guérisseuse",null,null,"Dragon",null,null,"P.E.K.K.A"]
["LVL","Coût","Temps","LVL","Coût","Temps","LVL","Coût","Temps","LVL","Coût","Temps","LVL","Coût","Temps","LVL","Coût","Temps","LVL","Coût","Temps","LVL","Coût","Temps","LVL","Coût","Temps","LVL","Coût","Temps"]
[1,0,0,1,0,0,1,0,0,1,0,0,1,0,0,1,0,0,1,0,0,1,0,0,1,0,0,1,0,0]
[2,50000,6,2,50000,12,2,50000,12,2,100000,24,2,100000,24,2,150000,24,2,150000,24,2,750000,72,2,2000000,168,2,3000000,240]
[3,150000,24,3,250000,48,3,250000,48,3,250000,48,3,250000,48,3,450000,48,3,450000,48,3,1500000,120,3,3000000,240,3,6000000,288]
[4,500000,72,4,750000,72,4,750000,72,4,750000,72,4,750000,72,4,1350000,72,4,1350000,72,4,3000000,168,4,7000000,336,4,7000000,336]
[5,1500000,120,5,2250000,120,5,2250000,120,5,2250000,120,5,2250000,120,5,2500000,120,5,2500000,120,null,null,null,5,8000000,336,5,8000000,336]
[6,4500000,240,6,6000000,240,6,4500000,240,6,6000000,240,6,6750000,240,6,6000000,240,6,7500000,336]
[7,6000000,336,7,7500000,336,null,null,null,7,7000000,336]
[]
[]
["Coûts - Améliorations de Sorts Noirs"]
["Sort de Poison",null,null,"Sort de Séisme",null,null,"Sort de Hâte"]
["LVL","Coût","Temps","LVL","Coût","Temps","LVL","Coût","Temps"]
[1,0,0,1,0,0,1,0,0]
[2,25000,96,2,30000,144,2,40000,144]
[3,50000,144,3,60000,192,3,80000,192]
[4,75000,240,4,90000,288,4,100000,240]
[]
[]
["Coûts - Améliorations de Troupes Noires"]
["Serviteur",null,null,"Chevaucheur de Cochon",null,null,"Valkyrie",null,null,"Golem",null,null,"Sorcière",null,null,"Molosse de lave"]
["LVL","Coût","Temps","LVL","Coût","Temps","LVL","Coût","Temps","LVL","Coût","Temps","LVL","Coût","Temps","LVL","Coût","Temps"]
[1,0,0,1,0,0,1,0,0,1,0,0,1,0,0,1,0,0]
[2,10000,120,2,20000,192,2,50000,240,2,60000,240,2,75000,240,2,60000,240]
[3,20000,144,3,30000,240,3,60000,288,3,70000,288,3,160000,336,3,70000,288]
[4,30000,168,4,40000,288,4,70000,336,4,80000,336]
[5,40000,240,5,50000,336,null,null,null,5,90000,336]
[6,100000,288]
[7,140000,336]
[]
["Coûts - Héros"]
["Roi des Barbares",null,null,"Reine des Archers",null,null,"Grand Gardien"]
["LVL","Coût","Temps","LVL","Coût","Temps","LVL","Coût","Temps"]
[1,10000,0,1,40000,0,1,6000000,0]
[2,12500,12,2,22500,12,2,2500000,12]
[3,15000,24,3,25000,24,3,3000000,24]
[4,17500,36,4,27500,36,4,3500000,36]
[5,20000,48,5,30000,48,5,4000000,48]
[6,22500,60,6,32500,60,6,4500000,60]
[7,25000,72,7,35000,72,7,5000000,72]
[8,30000,84,8,40000,84,8,5500000,84]
[9,35000,96,9,45000,96,9,6000000,96]
[10,40000,108,10,50000,108,10,6500000,108]
[11,45000,120,11,55000,120,11,7000000,120]
[12,50000,132,12,60000,132,12,7500000,132]
[13,55000,144,13,65000,144,13,8000000,144]
[14,60000,156,14,70000,156,14,8400000,156]
[15,65000,168,15,75000,168,15,8800000,168]
[16,70000,168,16,80000,168,16,9100000,168]
[17,75000,168,17,85000,168,17,9400000,168]
[18,80000,168,18,90000,168,18,9600000,168]
[19,85000,168,19,95000,168,19,9800000,168]
[20,90000,168,20,100000,168,20,10000000,168]
[21,95000,168,21,105000,168]
[22,100000,168,22,110000,168]
[23,105000,168,23,115000,168]
[24,110000,168,24,120000,168]
[25,115000,168,25,125000,168]
[26,120000,168,26,130000,168]
[27,125000,168,27,135000,168]
[28,130000,168,28,140000,168]
[29,135000,168,29,145000,168]
[30,140000,168,30,150000,168]
[31,145000,168,31,155000,168]
[32,150000,168,32,160000,168]
[33,155000,168,33,165000,168]
[34,160000,168,34,170000,168]
[35,165000,168,35,175000,168]
[36,170000,168,36,180000,168]
[37,175000,168,37,185000,168]
[38,180000,168,38,190000,168]
[39,185000,168,39,195000,168]
[40,190000,168,40,200000,168]

{"sheet":"Gains et Stockage","index":12,"n_rows":16,"n_cols":19,"rows_kept":16,"cut":false,"hidden":true,"merged":[[0,0,0,18],[1,0,1,4],[1,5,1,9],[2,8,2,9],[1,10,1,14],[1,15,1,18],[2,13,2,14],[2,0,2,2],[2,10,2,12],[2,5,2,7],[2,3,2,4]]}
["Gains"]
["Or",null,null,null,null,"Élixir",null,null,null,null,"Élixir Noir",null,null,null,null,"Hotel de ville"]
["Mine d'Or",null,null,"Réserve d'Or",null,"Extracteur d'Élixir",null,null,"Réservoir d'Élixir",null,"Foreuse d'Élixir Noir",null,null,"Réservoir d'Élixir Noir",null,"LVL","Or","Elixir rose","Elixir noir"]
["LVL","Production","Capacité","LVL","Capacité","LVL","Production","Capacité","LVL","Capacité","LVL","Production","Capacité","LVL","Capacité",1,0,{"$f":"EARNINGS_HDV[[#This Row],[Or]]","v":0},0]
[1,200,500,1,1500,1,200,500,1,1500,1,20,160,1,10000,2,0,{"$f":"EARNINGS_HDV[[#This Row],[Or]]","v":0},0]
[2,400,1000,2,3000,2,400,1000,2,3000,2,30,300,2,17500,3,10000,{"$f":"EARNINGS_HDV[[#This Row],[Or]]","v":10000},0]
[3,600,1500,3,6000,3,600,1500,3,6000,3,45,540,3,40000,4,50000,{"$f":"EARNINGS_HDV[[#This Row],[Or]]","v":50000},0]
[4,800,2500,4,12000,4,800,2500,4,12000,4,60,840,4,75000,5,100000,{"$f":"EARNINGS_HDV[[#This Row],[Or]]","v":100000},0]
[5,1000,10000,5,25000,5,1000,10000,5,25000,5,80,1280,5,140000,6,300000,{"$f":"EARNINGS_HDV[[#This Row],[Or]]","v":300000},0]
[6,1300,20000,6,50000,6,1300,20000,6,50000,6,100,1800,6,180000,7,500000,{"$f":"EARNINGS_HDV[[#This Row],[Or]]","v":500000},2500]
[7,1600,30000,7,100000,7,1600,30000,7,100000,null,null,null,null,null,8,750000,{"$f":"EARNINGS_HDV[[#This Row],[Or]]","v":750000},5000]
[8,1900,50000,8,225000,8,1900,50000,8,225000,null,null,null,null,null,9,1000000,{"$f":"EARNINGS_HDV[[#This Row],[Or]]","v":1000000},10000]
[9,2200,75000,9,450000,9,2200,75000,9,450000,null,null,null,null,null,10,1500000,{"$f":"EARNINGS_HDV[[#This Row],[Or]]","v":1500000},20000]
[10,2500,100000,10,850000,10,2500,100000,10,850000,null,null,null,null,null,11,2000000,{"$f":"EARNINGS_HDV[[#This Row],[Or]]","v":2000000},20000]
[11,3000,150000,11,1750000,11,3000,150000,11,1750000]
[12,3500,200000,12,2000000,12,3500,200000,12,2000000]

{"sheet":"Trophées","index":13,"n_rows":25,"n_cols":12,"rows_kept":25,"cut":false,"hidden":true,"merged":[[0,0,0,4],[0,6,0,8],[0,10,0,11]]}
["Bonus de Trophées",null,null,null,null,null,"Différence de Trophées",null,null,null,"Coûts - Multijoueur"]
["Classement","Trophy","Bonus d'Or","Bonus d'Élixir","Bonus d'Élixir Noir",null,"Classement","Trophy Difference","Multiplicateur de Loot",null,"HDV","Coût en or"]
[{"$f":"IF(AND(Paramètres!$BL$2>=B3,Paramètres!$BL$2<B4),1,\"\")","v":1},0,0,{"$f":"LEAGUES_Bonus[[#This Row],[Bonus d''Or]]","v":0},0,null,{"$f":"IF(AND('Combats - Loots'!$D$2>=H3,'Combats - Loots'!$D$2<H4),1,\"\")","v":""},-10,0.05,null,{"$f":"IF(Paramètres!$BI$2=1,1,\"\")","v":1},10]
[{"$f":"IF(AND(Paramètres!$BL$2>=B4,Paramètres!$BL$2<B5),1,\"\")","v":""},400,600,{"$f":"LEAGUES_Bonus[[#This Row],[Bonus d''Or]]","v":600},0,null,{"$f":"IF(AND('Combats - Loots'!$D$2>=H4,'Combats - Loots'!$D$2<H5),1,\"\")","v":""},-9,0.05,null,{"$f":"IF(Paramètres!$BI$2=2,1,\"\")","v":""},50]
[{"$f":"IF(AND(Paramètres!$BL$2>=B5,Paramètres!$BL$2<B6),1,\"\")","v":""},500,800,{"$f":"LEAGUES_Bonus[[#This Row],[Bonus d''Or]]","v":800},0,null,{"$f":"IF(AND('Combats - Loots'!$D$2>=H5,'Combats - Loots'!$D$2<H6),1,\"\")","v":""},-8,0.05,null,{"$f":"IF(Paramètres!$BI$2=3,1,\"\")","v":""},75]
[{"$f":"IF(AND(Paramètres!$BL$2>=B6,Paramètres!$BL$2<B7),1,\"\")","v":""},600,1000,{"$f":"LEAGUES_Bonus[[#This Row],[Bonus d''Or]]","v":1000},0,null,{"$f":"IF(AND('Combats - Loots'!$D$2>=H6,'Combats - Loots'!$D$2<H7),1,\"\")","v":""},-7,0.05,null,{"$f":"IF(Paramètres!$BI$2=4,1,\"\")","v":""},110]
[{"$f":"IF(AND(Paramètres!$BL$2>=B7,Paramètres!$BL$2<B8),1,\"\")","v":""},800,2000,{"$f":"LEAGUES_Bonus[[#This Row],[Bonus d''Or]]","v":2000},0,null,{"$f":"IF(AND('Combats - Loots'!$D$2>=H7,'Combats - Loots'!$D$2<H8),1,\"\")","v":""},-6,0.05,null,{"$f":"IF(Paramètres!$BI$2=5,1,\"\")","v":""},170]
[{"$f":"IF(AND(Paramètres!$BL$2>=B8,Paramètres!$BL$2<B9),1,\"\")","v":""},1000,3000,{"$f":"LEAGUES_Bonus[[#This Row],[Bonus d''Or]]","v":3000},0,null,{"$f":"IF(AND('Combats - Loots'!$D$2>=H8,'Combats - Loots'!$D$2<H9),1,\"\")","v":""},-5,0.05,null,{"$f":"IF(Paramètres!$BI$2=6,1,\"\")","v":""},250]
[{"$f":"IF(AND(Paramètres!$BL$2>=B9,Paramètres!$BL$2<B10),1,\"\")","v":""},1200,4000,{"$f":"LEAGUES_Bonus[[#This Row],[Bonus d''Or]]","v":4000},0,null,{"$f":"IF(AND('Combats - Loots'!$D$2>=H9,'Combats - Loots'!$D$2<H10),1,\"\")","v":""},-4,0.05,null,{"$f":"IF(Paramètres!$BI$2=7,1,\"\")","v":""},380]
[{"$f":"IF(AND(Paramètres!$BL$2>=B10,Paramètres!$BL$2<B11),1,\"\")","v":""},1400,8000,{"$f":"LEAGUES_Bonus[[#This Row],[Bonus d''Or]]","v":8000},0,null,{"$f":"IF(AND('Combats - Loots'!$D$2>=H10,'Combats - Loots'!$D$2<H11),1,\"\")","v":""},-3,0.25,null,{"$f":"IF(Paramètres!$BI$2=8,1,\"\")","v":""},580]
[{"$f":"IF(AND(Paramètres!$BL$2>=B11,Paramètres!$BL$2<B12),1,\"\")","v":""},1600,11000,{"$f":"LEAGUES_Bonus[[#This Row],[Bonus d''Or]]","v":11000},0,null,{"$f":"IF(AND('Combats - Loots'!$D$2>=H11,'Combats - Loots'!$D$2<H12),1,\"\")","v":""},-2,0.5,null,{"$f":"IF(Paramètres!$BI$2=9,1,\"\")","v":""},750]
[{"$f":"IF(AND(Paramètres!$BL$2>=B12,Paramètres!$BL$2<B13),1,\"\")","v":""},1800,14000,{"$f":"LEAGUES_Bonus[[#This Row],[Bonus d''Or]]","v":14000},0,null,{"$f":"IF(AND('Combats - Loots'!$D$2>=H12,'Combats - Loots'!$D$2<H13),1,\"\")","v":""},-1,0.9,null,{"$f":"IF(Paramètres!$BI$2=10,1,\"\")","v":""},1000]
[{"$f":"IF(AND(Paramètres!$BL$2>=B13,Paramètres!$BL$2<B14),1,\"\")","v":""},2000,40000,{"$f":"LEAGUES_Bonus[[#This Row],[Bonus d''Or]]","v":40000},120,null,{"$f":"IF(AND('Combats - Loots'!$D$2>=H13,'Combats - Loots'!$D$2<H14),1,\"\")","v":""},0,1,null,{"$f":"IF(Paramètres!$BI$2=11,1,\"\")","v":""},1001]
[{"$f":"IF(AND(Paramètres!$BL$2>=B14,Paramètres!$BL$2<B15),1,\"\")","v":""},2200,55000,{"$f":"LEAGUES_Bonus[[#This Row],[Bonus d''Or]]","v":55000},220,null,{"$f":"IF(AND('Combats - Loots'!$D$2>=H14,'Combats - Loots'!$D$2<H15),1,\"\")","v":""},1,1.1000000000000001]
[{"$f":"IF(AND(Paramètres!$BL$2>=B15,Paramètres!$BL$2<B16),1,\"\")","v":""},2400,65000,{"$f":"LEAGUES_Bonus[[#This Row],[Bonus d''Or]]","v":65000},300,null,{"$f":"IF(AND('Combats - Loots'!$D$2>=H15,'Combats - Loots'!$D$2<H16),1,\"\")","v":""},2,1.5]
[{"$f":"IF(AND(Paramètres!$BL$2>=B16,Paramètres!$BL$2<B17),1,\"\")","v":""},2600,100000,{"$f":"LEAGUES_Bonus[[#This Row],[Bonus d''Or]]","v":100000},500,null,{"$f":"IF(AND('Combats - Loots'!$D$2>=H16,'Combats - Loots'!$D$2<H17),1,\"\")","v":""},3,2]
[{"$f":"IF(AND(Paramètres!$BL$2>=B17,Paramètres!$BL$2<B18),1,\"\")","v":""},2800,120000,{"$f":"LEAGUES_Bonus[[#This Row],[Bonus d''Or]]","v":120000},700,null,{"$f":"IF(AND('Combats - Loots'!$D$2>=H17,'Combats - Loots'!$D$2<H18),1,\"\")","v":""},4,2]
[{"$f":"IF(AND(Paramètres!$BL$2>=B18,Paramètres!$BL$2<B19),1,\"\")","v":""},3000,140000,{"$f":"LEAGUES_Bonus[[#This Row],[Bonus d''Or]]","v":140000},900,null,{"$f":"IF(AND('Combats - Loots'!$D$2>=H18,'Combats - Loots'!$D$2<H19),1,\"\")","v":""},5,2]
[{"$f":"IF(AND(Paramètres!$BL$2>=B19,Paramètres!$BL$2<B20),1,\"\")","v":""},3200,180000,{"$f":"LEAGUES_Bonus[[#This Row],[Bonus d''Or]]","v":180000},1200,null,{"$f":"IF(AND('Combats - Loots'!$D$2>=H19,'Combats - Loots'!$D$2<H20),1,\"\")","v":""},6,2]
[{"$f":"IF(AND(Paramètres!$BL$2>=B20,Paramètres!$BL$2<B26),1,\"\")","v":""},3500,190000,{"$f":"LEAGUES_Bonus[[#This Row],[Bonus d''Or]]","v":190000},1300,null,{"$f":"IF(AND('Combats - Loots'!$D$2>=H20,'Combats - Loots'!$D$2<H21),1,\"\")","v":""},7,2]
[{"$f":"IF(AND(Paramètres!$BL$2>=B21,Paramètres!$BL$2<B26),1,\"\")","v":""},3800,200000,{"$f":"LEAGUES_Bonus[[#This Row],[Bonus d''Or]]","v":200000},1500,null,{"$f":"IF(AND('Combats - Loots'!$D$2>=H21,'Combats - Loots'!$D$2<H22),1,\"\")","v":1},8,2]
[{"$f":"IF(AND(Paramètres!$BL$2>=B22,Paramètres!$BL$2<B26),1,\"\")","v":""},4100,210000,{"$f":"LEAGUES_Bonus[[#This Row],[Bonus d''Or]]","v":210000},1600,null,{"$f":"IF(AND('Combats - Loots'!$D$2>=H22,'Combats - Loots'!$D$2<H23),1,\"\")","v":""},9,2]
[{"$f":"IF(AND(Paramètres!$BL$2>=B23,Paramètres!$BL$2<B24),1,\"\")","v":""},4400,220000,{"$f":"LEAGUES_Bonus[[#This Row],[Bonus d''Or]]","v":220000},1700,null,{"$f":"IF(AND('Combats - Loots'!$D$2>=H23,'Combats - Loots'!$D$2<H24),1,\"\")","v":""},10,2]
[{"$f":"IF(AND(Paramètres!$BL$2>=B24,Paramètres!$BL$2<B25),1,\"\")","v":""},4600,250000,{"$f":"LEAGUES_Bonus[[#This Row],[Bonus d''Or]]","v":250000},1800]
[{"$f":"IF(AND(Paramètres!$BL$2>=B25,Paramètres!$BL$2<B26),1,\"\")","v":""},5000,250000,{"$f":"LEAGUES_Bonus[[#This Row],[Bonus d''Or]]","v":250000},2000]

{"sheet":"Coûts de Formation","index":14,"n_rows":40,"n_cols":40,"rows_kept":40,"cut":false,"hidden":true,"merged":[[0,24,0,35],[1,24,1,35],[27,26,27,27],[25,26,25,35],[26,26,26,35],[2,24,2,27],[2,28,2,31],[27,28,27,29],[27,34,27,35],[27,30,27,31],[27,32,27,33],[2,32,2,35],[14,36,14,39],[12,0,12,39],[13,0,13,39],[14,0,14,3],[14,4,14,7],[14,8,14,11],[14,12,14,15],[14,16,14,19],[14,20,14,23],[14,24,14,27],[14,28,14,31],[14,32,14,35],[0,0,0,19],[27,0,27,3],[27,4,27,7],[27,8,27,11],[27,12,27,15],[1,0,1,19],[2,0,2,3],[2,4,2,7],[2,8,2,11],[2,12,2,15],[27,16,27,19],[26,0,26,23],[27,20,27,23],[25,0,25,23],[2,16,2,19]]}
["Coûts - Formation de Sorts",null,null,null,null,null,null,null,null,null,null,null,null,null,null,null,null,null,null,null,null,null,null,null,"Coûts - Formation de Sorts"]
["Élixir",null,null,null,null,null,null,null,null,null,null,null,null,null,null,null,null,null,null,null,null,null,null,null,"Élixir"]
["Sort de Foudre",null,null,null,"Sort de Guérison",null,null,null,"Sort de Rage",null,null,null,"Sort de Saut",null,null,null,"Sort de Gel",null,null,null,null,null,null,null,{"$f":"Paramètres!AL2","v":"Sort de Poison"},null,null,null,{"$f":"Paramètres!AM2","v":"Sort de Séisme"},null,null,null,{"$f":"Paramètres!AN2","v":"Sort de Hâte"}]
["LVL","Espace","Coût","Temps","LVL","Espace","Coût","Temps","LVL","Espace","Coût","Temps","LVL","Espace","Coût","Temps","LVL","Espace","Coût","Temps",null,null,null,null,"LVL","Espace","Coût","Temps","LVL","Espace","Coût","Temps","LVL","Espace","Coût","Temps"]
[1,2,15000,1200,1,2,15000,1200,1,2,23000,1800,1,2,23000,1800,1,2,26000,1800,null,null,null,null,1,1,95,900,1,1,125,900,1,1,80,900]
[2,2,16500,1200,2,2,16500,1200,2,2,25000,1800,2,2,27000,1800,2,2,29000,1800,null,null,null,null,2,1,110,900,2,1,140,900,2,1,85,900]
[3,2,18000,1200,3,2,18000,1200,3,2,27000,1800,3,2,31000,1800,3,2,31000,1800,null,null,null,null,3,1,145,900,3,1,160,900,3,1,90,900]
[4,2,20000,1200,4,2,20000,1200,4,2,30000,1800,null,null,null,null,4,2,33000,1800,null,null,null,null,4,1,180,900,4,1,180,900,4,1,95,900]
[5,2,22000,1200,5,2,22000,1200,5,2,33000,1800,null,null,null,null,5,2,35000,1800]
[6,2,24000,1200,6,2,24000,1200]
[7,2,26000,1200]
[]
["Coûts - Formation de Troupes Normales"]
["Élixir"]
["Barbare",null,null,null,"Archer",null,null,null,"Gobelin",null,null,null,"Géant",null,null,null,"Sapeur",null,null,null,"Ballon",null,null,null,"Sorcier",null,null,null,"Guérisseuse",null,null,null,"Dragon",null,null,null,"P.E.K.K.A"]
["LVL","Espace","Coût","Temps","LVL","Espace","Coût","Temps","LVL","Espace","Coût","Temps","LVL","Espace","Coût","Temps","LVL","Espace","Coût","Temps","LVL","Espace","Coût","Temps","LVL","Espace","Coût","Temps","LVL","Espace","Coût","Temps","LVL","Espace","Coût","Temps","LVL","Espace","Coût","Temps"]
[1,1,25,20,1,1,50,25,1,1,25,30,1,5,250,120,1,2,1000,120,1,5,2000,480,1,4,1500,480,1,14,5000,900,1,20,25000,1800,1,25,28000,2700]
[2,1,40,20,2,1,80,25,2,1,40,30,2,5,750,120,2,2,1500,120,2,5,2500,480,2,4,2000,480,2,14,6000,900,2,20,29000,1800,2,25,35000,2700]
[3,1,60,20,3,1,120,25,3,1,60,30,3,5,1250,120,3,2,2000,120,3,5,3000,480,3,4,2500,480,3,14,8000,900,3,20,33000,1800,3,25,36000,2700]
[4,1,100,20,4,1,200,25,4,1,80,30,4,5,1750,120,4,2,2500,120,4,5,3500,480,4,4,3000,480,4,14,10000,900,4,20,37000,1800,4,25,40000,2700]
[5,1,150,20,5,1,300,25,5,1,100,30,5,5,2250,120,5,2,3000,120,5,5,4000,480,5,4,3500,480,null,null,null,null,5,20,41000,1800,5,25,45000,2700]
[6,1,200,20,6,1,400,25,6,1,150,30,6,5,3000,120,6,2,3500,120,6,5,4500,480,6,4,4000,480]
[7,1,250,20,7,1,500,25,null,null,null,null,7,5,3500,120]
[]
[]
["Coûts - Formation de Troupes Noires",null,null,null,null,null,null,null,null,null,null,null,null,null,null,null,null,null,null,null,null,null,null,null,null,null,"Capacité - Bâtiments"]
["Élixir Noir"]
["Serviteur",null,null,null,"Chevaucheur de Cochon",null,null,null,"Valkyrie",null,null,null,"Golem",null,null,null,"Sorcière",null,null,null,"Molosse de lave",null,null,null,null,null,"Usine de Sorts Noirs",null,"Usine de Sorts",null,"Caserne Noire",null,"Camp Militaire",null,"Caserne"]
["LVL","Espace","Coût","Temps","LVL","Espace","Coût","Temps","LVL","Espace","Coût","Temps","LVL","Espace","Coût","Temps","LVL","Espace","Coût","Temps","LVL","Espace","Coût","Temps",null,null,"LVL","Capacité","LVL","Capacité","LVL","Capacité","LVL","Capacité","LVL","Capacité"]
[1,2,6,45,1,5,40,120,1,8,70,900,1,30,450,2700,1,12,250,1200,1,30,390,2700,null,null,0,0,0,0,0,0,0,0,0,0]
[2,2,7,45,2,5,45,120,2,8,100,900,2,30,525,2700,2,12,350,1200,2,30,450,2700,null,null,1,1,1,2,1,40,1,20,1,20]
[3,2,8,45,3,5,52,120,3,8,130,900,3,30,600,2700,3,12,450,1200,3,30,510,2700,null,null,2,1,2,4,2,50,2,30,2,25]
[4,2,9,45,4,5,58,120,4,8,160,900,4,30,675,2700,null,null,null,null,null,null,null,null,null,null,3,1,3,6,3,60,3,35,3,30]
[5,2,10,45,5,5,65,120,null,null,null,null,5,30,750,2700,null,null,null,null,null,null,null,null,null,null,null,null,4,8,4,70,4,40,4,35]
[6,2,11,45,null,null,null,null,null,null,null,null,null,null,null,null,null,null,null,null,null,null,null,null,null,null,null,null,5,10,5,80,5,45,5,40]
[7,2,12,45,null,null,null,null,null,null,null,null,null,null,null,null,null,null,null,null,null,null,null,null,null,null,null,null,null,null,6,90,6,50,6,45]
[null,null,null,null,null,null,null,null,null,null,null,null,null,null,null,null,null,null,null,null,null,null,null,null,null,null,null,null,null,null,null,null,7,55,7,50]
[null,null,null,null,null,null,null,null,null,null,null,null,null,null,null,null,null,null,null,null,null,null,null,null,null,null,null,null,null,null,null,null,8,60,8,55]
[null,null,null,null,null,null,null,null,null,null,null,null,null,null,null,null,null,null,null,null,null,null,null,null,null,null,null,null,null,null,null,null,null,null,9,60]
[null,null,null,null,null,null,null,null,null,null,null,null,null,null,null,null,null,null,null,null,null,null,null,null,null,null,null,null,null,null,null,null,null,null,10,75]

{"sheet":"Calendrier","index":15,"n_rows":1000,"n_cols":1,"rows_kept":1000,"cut":false,"hidden":true,"merged":[]}
["Calendrier"]
[{"$f":"Planning!$C$2","v":"2016-01-10T19:24:48"}]
[{"$f":"$A2+Planning!$D$2","v":"2016-01-11T19:24:48"}]
[{"$f":"$A3+Planning!$D$2","v":"2016-01-12T19:24:48"}]
[{"$f":"$A4+Planning!$D$2","v":"2016-01-13T19:24:48"}]
[{"$f":"$A5+Planning!$D$2","v":"2016-01-14T19:24:48"}]
[{"$f":"$A6+Planning!$D$2","v":"2016-01-15T19:24:48"}]
[{"$f":"$A7+Planning!$D$2","v":"2016-01-16T19:24:48"}]
[{"$f":"$A8+Planning!$D$2","v":"2016-01-17T19:24:48"}]
[{"$f":"$A9+Planning!$D$2","v":"2016-01-18T19:24:48"}]
[{"$f":"$A10+Planning!$D$2","v":"2016-01-19T19:24:48"}]
[{"$f":"$A11+Planning!$D$2","v":"2016-01-20T19:24:48"}]
[{"$f":"$A12+Planning!$D$2","v":"2016-01-21T19:24:48"}]
[{"$f":"$A13+Planning!$D$2","v":"2016-01-22T19:24:48"}]
[{"$f":"$A14+Planning!$D$2","v":"2016-01-23T19:24:48"}]
[{"$f":"$A15+Planning!$D$2","v":"2016-01-24T19:24:48"}]
[{"$f":"$A16+Planning!$D$2","v":"2016-01-25T19:24:48"}]
[{"$f":"$A17+Planning!$D$2","v":"2016-01-26T19:24:48"}]
[{"$f":"$A18+Planning!$D$2","v":"2016-01-27T19:24:48"}]
[{"$f":"$A19+Planning!$D$2","v":"2016-01-28T19:24:48"}]
[{"$f":"$A20+Planning!$D$2","v":"2016-01-29T19:24:48"}]
[{"$f":"$A21+Planning!$D$2","v":"2016-01-30T19:24:48"}]
[{"$f":"$A22+Planning!$D$2","v":"2016-01-31T19:24:48"}]
[{"$f":"$A23+Planning!$D$2","v":"2016-02-01T19:24:48"}]
[{"$f":"$A24+Planning!$D$2","v":"2016-02-02T19:24:48"}]
[{"$f":"$A25+Planning!$D$2","v":"2016-02-03T19:24:48"}]
[{"$f":"$A26+Planning!$D$2","v":"2016-02-04T19:24:48"}]
[{"$f":"$A27+Planning!$D$2","v":"2016-02-05T19:24:48"}]
[{"$f":"$A28+Planning!$D$2","v":"2016-02-06T19:24:48"}]
[{"$f":"$A29+Planning!$D$2","v":"2016-02-07T19:24:48"}]
[{"$f":"$A30+Planning!$D$2","v":"2016-02-08T19:24:48"}]
[{"$f":"$A31+Planning!$D$2","v":"2016-02-09T19:24:48"}]
[{"$f":"$A32+Planning!$D$2","v":"2016-02-10T19:24:48"}]
[{"$f":"$A33+Planning!$D$2","v":"2016-02-11T19:24:48"}]
[{"$f":"$A34+Planning!$D$2","v":"2016-02-12T19:24:48"}]
[{"$f":"$A35+Planning!$D$2","v":"2016-02-13T19:24:48"}]
[{"$f":"$A36+Planning!$D$2","v":"2016-02-14T19:24:48"}]
[{"$f":"$A37+Planning!$D$2","v":"2016-02-15T19:24:48"}]
[{"$f":"$A38+Planning!$D$2","v":"2016-02-16T19:24:48"}]
[{"$f":"$A39+Planning!$D$2","v":"2016-02-17T19:24:48"}]
[{"$f":"$A40+Planning!$D$2","v":"2016-02-18T19:24:48"}]
[{"$f":"$A41+Planning!$D$2","v":"2016-02-19T19:24:48"}]
[{"$f":"$A42+Planning!$D$2","v":"2016-02-20T19:24:48"}]
[{"$f":"$A43+Planning!$D$2","v":"2016-02-21T19:24:48"}]
[{"$f":"$A44+Planning!$D$2","v":"2016-02-22T19:24:48"}]
[{"$f":"$A45+Planning!$D$2","v":"2016-02-23T19:24:48"}]
[{"$f":"$A46+Planning!$D$2","v":"2016-02-24T19:24:48"}]
[{"$f":"$A47+Planning!$D$2","v":"2016-02-25T19:24:48"}]
[{"$f":"$A48+Planning!$D$2","v":"2016-02-26T19:24:48"}]
[{"$f":"$A49+Planning!$D$2","v":"2016-02-27T19:24:48"}]
[{"$f":"$A50+Planning!$D$2","v":"2016-02-28T19:24:48"}]
[{"$f":"$A51+Planning!$D$2","v":"2016-02-29T19:24:48"}]
[{"$f":"$A52+Planning!$D$2","v":"2016-03-01T19:24:48"}]
[{"$f":"$A53+Planning!$D$2","v":"2016-03-02T19:24:48"}]
[{"$f":"$A54+Planning!$D$2","v":"2016-03-03T19:24:48"}]
[{"$f":"$A55+Planning!$D$2","v":"2016-03-04T19:24:48"}]
[{"$f":"$A56+Planning!$D$2","v":"2016-03-05T19:24:48"}]
[{"$f":"$A57+Planning!$D$2","v":"2016-03-06T19:24:48"}]
[{"$f":"$A58+Planning!$D$2","v":"2016-03-07T19:24:48"}]
[{"$f":"$A59+Planning!$D$2","v":"2016-03-08T19:24:48"}]
[{"$f":"$A60+Planning!$D$2","v":"2016-03-09T19:24:48"}]
[{"$f":"$A61+Planning!$D$2","v":"2016-03-10T19:24:48"}]
[{"$f":"$A62+Planning!$D$2","v":"2016-03-11T19:24:48"}]
[{"$f":"$A63+Planning!$D$2","v":"2016-03-12T19:24:48"}]
[{"$f":"$A64+Planning!$D$2","v":"2016-03-13T19:24:48"}]
[{"$f":"$A65+Planning!$D$2","v":"2016-03-14T19:24:48"}]
[{"$f":"$A66+Planning!$D$2","v":"2016-03-15T19:24:48"}]
[{"$f":"$A67+Planning!$D$2","v":"2016-03-16T19:24:48"}]
[{"$f":"$A68+Planning!$D$2","v":"2016-03-17T19:24:48"}]
[{"$f":"$A69+Planning!$D$2","v":"2016-03-18T19:24:48"}]
[{"$f":"$A70+Planning!$D$2","v":"2016-03-19T19:24:48"}]
[{"$f":"$A71+Planning!$D$2","v":"2016-03-20T19:24:48"}]
[{"$f":"$A72+Planning!$D$2","v":"2016-03-21T19:24:48"}]
[{"$f":"$A73+Planning!$D$2","v":"2016-03-22T19:24:48"}]
[{"$f":"$A74+Planning!$D$2","v":"2016-03-23T19:24:48"}]
[{"$f":"$A75+Planning!$D$2","v":"2016-03-24T19:24:48"}]
[{"$f":"$A76+Planning!$D$2","v":"2016-03-25T19:24:48"}]
[{"$f":"$A77+Planning!$D$2","v":"2016-03-26T19:24:48"}]
[{"$f":"$A78+Planning!$D$2","v":"2016-03-27T19:24:48"}]
[{"$f":"$A79+Planning!$D$2","v":"2016-03-28T19:24:48"}]
[{"$f":"$A80+Planning!$D$2","v":"2016-03-29T19:24:48"}]
[{"$f":"$A81+Planning!$D$2","v":"2016-03-30T19:24:48"}]
[{"$f":"$A82+Planning!$D$2","v":"2016-03-31T19:24:48"}]
[{"$f":"$A83+Planning!$D$2","v":"2016-04-01T19:24:48"}]
[{"$f":"$A84+Planning!$D$2","v":"2016-04-02T19:24:48"}]
[{"$f":"$A85+Planning!$D$2","v":"2016-04-03T19:24:48"}]
[{"$f":"$A86+Planning!$D$2","v":"2016-04-04T19:24:48"}]
[{"$f":"$A87+Planning!$D$2","v":"2016-04-05T19:24:48"}]
[{"$f":"$A88+Planning!$D$2","v":"2016-04-06T19:24:48"}]
[{"$f":"$A89+Planning!$D$2","v":"2016-04-07T19:24:48"}]
[{"$f":"$A90+Planning!$D$2","v":"2016-04-08T19:24:48"}]
[{"$f":"$A91+Planning!$D$2","v":"2016-04-09T19:24:48"}]
[{"$f":"$A92+Planning!$D$2","v":"2016-04-10T19:24:48"}]
[{"$f":"$A93+Planning!$D$2","v":"2016-04-11T19:24:48"}]
[{"$f":"$A94+Planning!$D$2","v":"2016-04-12T19:24:48"}]
[{"$f":"$A95+Planning!$D$2","v":"2016-04-13T19:24:48"}]
[{"$f":"$A96+Planning!$D$2","v":"2016-04-14T19:24:48"}]
[{"$f":"$A97+Planning!$D$2","v":"2016-04-15T19:24:48"}]
[{"$f":"$A98+Planning!$D$2","v":"2016-04-16T19:24:48"}]
[{"$f":"$A99+Planning!$D$2","v":"2016-04-17T19:24:48"}]
[{"$f":"$A100+Planning!$D$2","v":"2016-04-18T19:24:48"}]
[{"$f":"$A101+Planning!$D$2","v":"2016-04-19T19:24:48"}]
[{"$f":"$A102+Planning!$D$2","v":"2016-04-20T19:24:48"}]
[{"$f":"$A103+Planning!$D$2","v":"2016-04-21T19:24:48"}]
[{"$f":"$A104+Planning!$D$2","v":"2016-04-22T19:24:48"}]
[{"$f":"$A105+Planning!$D$2","v":"2016-04-23T19:24:48"}]
[{"$f":"$A106+Planning!$D$2","v":"2016-04-24T19:24:48"}]
[{"$f":"$A107+Planning!$D$2","v":"2016-04-25T19:24:48"}]
[{"$f":"$A108+Planning!$D$2","v":"2016-04-26T19:24:48"}]
[{"$f":"$A109+Planning!$D$2","v":"2016-04-27T19:24:48"}]
[{"$f":"$A110+Planning!$D$2","v":"2016-04-28T19:24:48"}]
[{"$f":"$A111+Planning!$D$2","v":"2016-04-29T19:24:48"}]
[{"$f":"$A112+Planning!$D$2","v":"2016-04-30T19:24:48"}]
[{"$f":"$A113+Planning!$D$2","v":"2016-05-01T19:24:48"}]
[{"$f":"$A114+Planning!$D$2","v":"2016-05-02T19:24:48"}]
[{"$f":"$A115+Planning!$D$2","v":"2016-05-03T19:24:48"}]
[{"$f":"$A116+Planning!$D$2","v":"2016-05-04T19:24:48"}]
[{"$f":"$A117+Planning!$D$2","v":"2016-05-05T19:24:48"}]
[{"$f":"$A118+Planning!$D$2","v":"2016-05-06T19:24:48"}]
[{"$f":"$A119+Planning!$D$2","v":"2016-05-07T19:24:48"}]
[{"$f":"$A120+Planning!$D$2","v":"2016-05-08T19:24:48"}]
[{"$f":"$A121+Planning!$D$2","v":"2016-05-09T19:24:48"}]
[{"$f":"$A122+Planning!$D$2","v":"2016-05-10T19:24:48"}]
[{"$f":"$A123+Planning!$D$2","v":"2016-05-11T19:24:48"}]
[{"$f":"$A124+Planning!$D$2","v":"2016-05-12T19:24:48"}]
[{"$f":"$A125+Planning!$D$2","v":"2016-05-13T19:24:48"}]
[{"$f":"$A126+Planning!$D$2","v":"2016-05-14T19:24:48"}]
[{"$f":"$A127+Planning!$D$2","v":"2016-05-15T19:24:48"}]
[{"$f":"$A128+Planning!$D$2","v":"2016-05-16T19:24:48"}]
[{"$f":"$A129+Planning!$D$2","v":"2016-05-17T19:24:48"}]
[{"$f":"$A130+Planning!$D$2","v":"2016-05-18T19:24:48"}]
[{"$f":"$A131+Planning!$D$2","v":"2016-05-19T19:24:48"}]
[{"$f":"$A132+Planning!$D$2","v":"2016-05-20T19:24:48"}]
[{"$f":"$A133+Planning!$D$2","v":"2016-05-21T19:24:48"}]
[{"$f":"$A134+Planning!$D$2","v":"2016-05-22T19:24:48"}]
[{"$f":"$A135+Planning!$D$2","v":"2016-05-23T19:24:48"}]
[{"$f":"$A136+Planning!$D$2","v":"2016-05-24T19:24:48"}]
[{"$f":"$A137+Planning!$D$2","v":"2016-05-25T19:24:48"}]
[{"$f":"$A138+Planning!$D$2","v":"2016-05-26T19:24:48"}]
[{"$f":"$A139+Planning!$D$2","v":"2016-05-27T19:24:48"}]
[{"$f":"$A140+Planning!$D$2","v":"2016-05-28T19:24:48"}]
[{"$f":"$A141+Planning!$D$2","v":"2016-05-29T19:24:48"}]
[{"$f":"$A142+Planning!$D$2","v":"2016-05-30T19:24:48"}]
[{"$f":"$A143+Planning!$D$2","v":"2016-05-31T19:24:48"}]
[{"$f":"$A144+Planning!$D$2","v":"2016-06-01T19:24:48"}]
[{"$f":"$A145+Planning!$D$2","v":"2016-06-02T19:24:48"}]
[{"$f":"$A146+Planning!$D$2","v":"2016-06-03T19:24:48"}]
[{"$f":"$A147+Planning!$D$2","v":"2016-06-04T19:24:48"}]
[{"$f":"$A148+Planning!$D$2","v":"2016-06-05T19:24:48"}]
[{"$f":"$A149+Planning!$D$2","v":"2016-06-06T19:24:48"}]
[{"$f":"$A150+Planning!$D$2","v":"2016-06-07T19:24:48"}]
[{"$f":"$A151+Planning!$D$2","v":"2016-06-08T19:24:48"}]
[{"$f":"$A152+Planning!$D$2","v":"2016-06-09T19:24:48"}]
[{"$f":"$A153+Planning!$D$2","v":"2016-06-10T19:24:48"}]
[{"$f":"$A154+Planning!$D$2","v":"2016-06-11T19:24:48"}]
[{"$f":"$A155+Planning!$D$2","v":"2016-06-12T19:24:48"}]
[{"$f":"$A156+Planning!$D$2","v":"2016-06-13T19:24:48"}]
[{"$f":"$A157+Planning!$D$2","v":"2016-06-14T19:24:48"}]
[{"$f":"$A158+Planning!$D$2","v":"2016-06-15T19:24:48"}]
[{"$f":"$A159+Planning!$D$2","v":"2016-06-16T19:24:48"}]
[{"$f":"$A160+Planning!$D$2","v":"2016-06-17T19:24:48"}]
[{"$f":"$A161+Planning!$D$2","v":"2016-06-18T19:24:48"}]
[{"$f":"$A162+Planning!$D$2","v":"2016-06-19T19:24:48"}]
[{"$f":"$A163+Planning!$D$2","v":"2016-06-20T19:24:48"}]
[{"$f":"$A164+Planning!$D$2","v":"2016-06-21T19:24:48"}]
[{"$f":"$A165+Planning!$D$2","v":"2016-06-22T19:24:48"}]
[{"$f":"$A166+Planning!$D$2","v":"2016-06-23T19:24:48"}]
[{"$f":"$A167+Planning!$D$2","v":"2016-06-24T19:24:48"}]
[{"$f":"$A168+Planning!$D$2","v":"2016-06-25T19:24:48"}]
[{"$f":"$A169+Planning!$D$2","v":"2016-06-26T19:24:48"}]
[{"$f":"$A170+Planning!$D$2","v":"2016-06-27T19:24:48"}]
[{"$f":"$A171+Planning!$D$2","v":"2016-06-28T19:24:48"}]
[{"$f":"$A172+Planning!$D$2","v":"2016-06-29T19:24:48"}]
[{"$f":"$A173+Planning!$D$2","v":"2016-06-30T19:24:48"}]
[{"$f":"$A174+Planning!$D$2","v":"2016-07-01T19:24:48"}]
[{"$f":"$A175+Planning!$D$2","v":"2016-07-02T19:24:48"}]
[{"$f":"$A176+Planning!$D$2","v":"2016-07-03T19:24:48"}]
[{"$f":"$A177+Planning!$D$2","v":"2016-07-04T19:24:48"}]
[{"$f":"$A178+Planning!$D$2","v":"2016-07-05T19:24:48"}]
[{"$f":"$A179+Planning!$D$2","v":"2016-07-06T19:24:48"}]
[{"$f":"$A180+Planning!$D$2","v":"2016-07-07T19:24:48"}]
[{"$f":"$A181+Planning!$D$2","v":"2016-07-08T19:24:48"}]
[{"$f":"$A182+Planning!$D$2","v":"2016-07-09T19:24:48"}]
[{"$f":"$A183+Planning!$D$2","v":"2016-07-10T19:24:48"}]
[{"$f":"$A184+Planning!$D$2","v":"2016-07-11T19:24:48"}]
[{"$f":"$A185+Planning!$D$2","v":"2016-07-12T19:24:48"}]
[{"$f":"$A186+Planning!$D$2","v":"2016-07-13T19:24:48"}]
[{"$f":"$A187+Planning!$D$2","v":"2016-07-14T19:24:48"}]
[{"$f":"$A188+Planning!$D$2","v":"2016-07-15T19:24:48"}]
[{"$f":"$A189+Planning!$D$2","v":"2016-07-16T19:24:48"}]
[{"$f":"$A190+Planning!$D$2","v":"2016-07-17T19:24:48"}]
[{"$f":"$A191+Planning!$D$2","v":"2016-07-18T19:24:48"}]
[{"$f":"$A192+Planning!$D$2","v":"2016-07-19T19:24:48"}]
[{"$f":"$A193+Planning!$D$2","v":"2016-07-20T19:24:48"}]
[{"$f":"$A194+Planning!$D$2","v":"2016-07-21T19:24:48"}]
[{"$f":"$A195+Planning!$D$2","v":"2016-07-22T19:24:48"}]
[{"$f":"$A196+Planning!$D$2","v":"2016-07-23T19:24:48"}]
[{"$f":"$A197+Planning!$D$2","v":"2016-07-24T19:24:48"}]
[{"$f":"$A198+Planning!$D$2","v":"2016-07-25T19:24:48"}]
[{"$f":"$A199+Planning!$D$2","v":"2016-07-26T19:24:48"}]
[{"$f":"$A200+Planning!$D$2","v":"2016-07-27T19:24:48"}]
[{"$f":"$A201+Planning!$D$2","v":"2016-07-28T19:24:48"}]
[{"$f":"$A202+Planning!$D$2","v":"2016-07-29T19:24:48"}]
[{"$f":"$A203+Planning!$D$2","v":"2016-07-30T19:24:48"}]
[{"$f":"$A204+Planning!$D$2","v":"2016-07-31T19:24:48"}]
[{"$f":"$A205+Planning!$D$2","v":"2016-08-01T19:24:48"}]
[{"$f":"$A206+Planning!$D$2","v":"2016-08-02T19:24:48"}]
[{"$f":"$A207+Planning!$D$2","v":"2016-08-03T19:24:48"}]
[{"$f":"$A208+Planning!$D$2","v":"2016-08-04T19:24:48"}]
[{"$f":"$A209+Planning!$D$2","v":"2016-08-05T19:24:48"}]
[{"$f":"$A210+Planning!$D$2","v":"2016-08-06T19:24:48"}]
[{"$f":"$A211+Planning!$D$2","v":"2016-08-07T19:24:48"}]
[{"$f":"$A212+Planning!$D$2","v":"2016-08-08T19:24:48"}]
[{"$f":"$A213+Planning!$D$2","v":"2016-08-09T19:24:48"}]
[{"$f":"$A214+Planning!$D$2","v":"2016-08-10T19:24:48"}]
[{"$f":"$A215+Planning!$D$2","v":"2016-08-11T19:24:48"}]
[{"$f":"$A216+Planning!$D$2","v":"2016-08-12T19:24:48"}]
[{"$f":"$A217+Planning!$D$2","v":"2016-08-13T19:24:48"}]
[{"$f":"$A218+Planning!$D$2","v":"2016-08-14T19:24:48"}]
[{"$f":"$A219+Planning!$D$2","v":"2016-08-15T19:24:48"}]
[{"$f":"$A220+Planning!$D$2","v":"2016-08-16T19:24:48"}]
[{"$f":"$A221+Planning!$D$2","v":"2016-08-17T19:24:48"}]
[{"$f":"$A222+Planning!$D$2","v":"2016-08-18T19:24:48"}]
[{"$f":"$A223+Planning!$D$2","v":"2016-08-19T19:24:48"}]
[{"$f":"$A224+Planning!$D$2","v":"2016-08-20T19:24:48"}]
[{"$f":"$A225+Planning!$D$2","v":"2016-08-21T19:24:48"}]
[{"$f":"$A226+Planning!$D$2","v":"2016-08-22T19:24:48"}]
[{"$f":"$A227+Planning!$D$2","v":"2016-08-23T19:24:48"}]
[{"$f":"$A228+Planning!$D$2","v":"2016-08-24T19:24:48"}]
[{"$f":"$A229+Planning!$D$2","v":"2016-08-25T19:24:48"}]
[{"$f":"$A230+Planning!$D$2","v":"2016-08-26T19:24:48"}]
[{"$f":"$A231+Planning!$D$2","v":"2016-08-27T19:24:48"}]
[{"$f":"$A232+Planning!$D$2","v":"2016-08-28T19:24:48"}]
[{"$f":"$A233+Planning!$D$2","v":"2016-08-29T19:24:48"}]
[{"$f":"$A234+Planning!$D$2","v":"2016-08-30T19:24:48"}]
[{"$f":"$A235+Planning!$D$2","v":"2016-08-31T19:24:48"}]
[{"$f":"$A236+Planning!$D$2","v":"2016-09-01T19:24:48"}]
[{"$f":"$A237+Planning!$D$2","v":"2016-09-02T19:24:48"}]
[{"$f":"$A238+Planning!$D$2","v":"2016-09-03T19:24:48"}]
[{"$f":"$A239+Planning!$D$2","v":"2016-09-04T19:24:48"}]
[{"$f":"$A240+Planning!$D$2","v":"2016-09-05T19:24:48"}]
[{"$f":"$A241+Planning!$D$2","v":"2016-09-06T19:24:48"}]
[{"$f":"$A242+Planning!$D$2","v":"2016-09-07T19:24:48"}]
[{"$f":"$A243+Planning!$D$2","v":"2016-09-08T19:24:48"}]
[{"$f":"$A244+Planning!$D$2","v":"2016-09-09T19:24:48"}]
[{"$f":"$A245+Planning!$D$2","v":"2016-09-10T19:24:48"}]
[{"$f":"$A246+Planning!$D$2","v":"2016-09-11T19:24:48"}]
[{"$f":"$A247+Planning!$D$2","v":"2016-09-12T19:24:48"}]
[{"$f":"$A248+Planning!$D$2","v":"2016-09-13T19:24:48"}]
[{"$f":"$A249+Planning!$D$2","v":"2016-09-14T19:24:48"}]
[{"$f":"$A250+Planning!$D$2","v":"2016-09-15T19:24:48"}]
[{"$f":"$A251+Planning!$D$2","v":"2016-09-16T19:24:48"}]
[{"$f":"$A252+Planning!$D$2","v":"2016-09-17T19:24:48"}]
[{"$f":"$A253+Planning!$D$2","v":"2016-09-18T19:24:48"}]
[{"$f":"$A254+Planning!$D$2","v":"2016-09-19T19:24:48"}]
[{"$f":"$A255+Planning!$D$2","v":"2016-09-20T19:24:48"}]
[{"$f":"$A256+Planning!$D$2","v":"2016-09-21T19:24:48"}]
[{"$f":"$A257+Planning!$D$2","v":"2016-09-22T19:24:48"}]
[{"$f":"$A258+Planning!$D$2","v":"2016-09-23T19:24:48"}]
[{"$f":"$A259+Planning!$D$2","v":"2016-09-24T19:24:48"}]
[{"$f":"$A260+Planning!$D$2","v":"2016-09-25T19:24:48"}]
[{"$f":"$A261+Planning!$D$2","v":"2016-09-26T19:24:48"}]
[{"$f":"$A262+Planning!$D$2","v":"2016-09-27T19:24:48"}]
[{"$f":"$A263+Planning!$D$2","v":"2016-09-28T19:24:48"}]
[{"$f":"$A264+Planning!$D$2","v":"2016-09-29T19:24:48"}]
[{"$f":"$A265+Planning!$D$2","v":"2016-09-30T19:24:48"}]
[{"$f":"$A266+Planning!$D$2","v":"2016-10-01T19:24:48"}]
[{"$f":"$A267+Planning!$D$2","v":"2016-10-02T19:24:48"}]
[{"$f":"$A268+Planning!$D$2","v":"2016-10-03T19:24:48"}]
[{"$f":"$A269+Planning!$D$2","v":"2016-10-04T19:24:48"}]
[{"$f":"$A270+Planning!$D$2","v":"2016-10-05T19:24:48"}]
[{"$f":"$A271+Planning!$D$2","v":"2016-10-06T19:24:48"}]
[{"$f":"$A272+Planning!$D$2","v":"2016-10-07T19:24:48"}]
[{"$f":"$A273+Planning!$D$2","v":"2016-10-08T19:24:48"}]
[{"$f":"$A274+Planning!$D$2","v":"2016-10-09T19:24:48"}]
[{"$f":"$A275+Planning!$D$2","v":"2016-10-10T19:24:48"}]
[{"$f":"$A276+Planning!$D$2","v":"2016-10-11T19:24:48"}]
[{"$f":"$A277+Planning!$D$2","v":"2016-10-12T19:24:48"}]
[{"$f":"$A278+Planning!$D$2","v":"2016-10-13T19:24:48"}]
[{"$f":"$A279+Planning!$D$2","v":"2016-10-14T19:24:48"}]
[{"$f":"$A280+Planning!$D$2","v":"2016-10-15T19:24:48"}]
[{"$f":"$A281+Planning!$D$2","v":"2016-10-16T19:24:48"}]
[{"$f":"$A282+Planning!$D$2","v":"2016-10-17T19:24:48"}]
[{"$f":"$A283+Planning!$D$2","v":"2016-10-18T19:24:48"}]
[{"$f":"$A284+Planning!$D$2","v":"2016-10-19T19:24:48"}]
[{"$f":"$A285+Planning!$D$2","v":"2016-10-20T19:24:48"}]
[{"$f":"$A286+Planning!$D$2","v":"2016-10-21T19:24:48"}]
[{"$f":"$A287+Planning!$D$2","v":"2016-10-22T19:24:48"}]
[{"$f":"$A288+Planning!$D$2","v":"2016-10-23T19:24:48"}]
[{"$f":"$A289+Planning!$D$2","v":"2016-10-24T19:24:48"}]
[{"$f":"$A290+Planning!$D$2","v":"2016-10-25T19:24:48"}]
[{"$f":"$A291+Planning!$D$2","v":"2016-10-26T19:24:48"}]
[{"$f":"$A292+Planning!$D$2","v":"2016-10-27T19:24:48"}]
[{"$f":"$A293+Planning!$D$2","v":"2016-10-28T19:24:48"}]
[{"$f":"$A294+Planning!$D$2","v":"2016-10-29T19:24:48"}]
[{"$f":"$A295+Planning!$D$2","v":"2016-10-30T19:24:48"}]
[{"$f":"$A296+Planning!$D$2","v":"2016-10-31T19:24:48"}]
[{"$f":"$A297+Planning!$D$2","v":"2016-11-01T19:24:48"}]
[{"$f":"$A298+Planning!$D$2","v":"2016-11-02T19:24:48"}]
[{"$f":"$A299+Planning!$D$2","v":"2016-11-03T19:24:48"}]
[{"$f":"$A300+Planning!$D$2","v":"2016-11-04T19:24:48"}]
[{"$f":"$A301+Planning!$D$2","v":"2016-11-05T19:24:48"}]
[{"$f":"$A302+Planning!$D$2","v":"2016-11-06T19:24:48"}]
[{"$f":"$A303+Planning!$D$2","v":"2016-11-07T19:24:48"}]
[{"$f":"$A304+Planning!$D$2","v":"2016-11-08T19:24:48"}]
[{"$f":"$A305+Planning!$D$2","v":"2016-11-09T19:24:48"}]
[{"$f":"$A306+Planning!$D$2","v":"2016-11-10T19:24:48"}]
[{"$f":"$A307+Planning!$D$2","v":"2016-11-11T19:24:48"}]
[{"$f":"$A308+Planning!$D$2","v":"2016-11-12T19:24:48"}]
[{"$f":"$A309+Planning!$D$2","v":"2016-11-13T19:24:48"}]
[{"$f":"$A310+Planning!$D$2","v":"2016-11-14T19:24:48"}]
[{"$f":"$A311+Planning!$D$2","v":"2016-11-15T19:24:48"}]
[{"$f":"$A312+Planning!$D$2","v":"2016-11-16T19:24:48"}]
[{"$f":"$A313+Planning!$D$2","v":"2016-11-17T19:24:48"}]
[{"$f":"$A314+Planning!$D$2","v":"2016-11-18T19:24:48"}]
[{"$f":"$A315+Planning!$D$2","v":"2016-11-19T19:24:48"}]
[{"$f":"$A316+Planning!$D$2","v":"2016-11-20T19:24:48"}]
[{"$f":"$A317+Planning!$D$2","v":"2016-11-21T19:24:48"}]
[{"$f":"$A318+Planning!$D$2","v":"2016-11-22T19:24:48"}]
[{"$f":"$A319+Planning!$D$2","v":"2016-11-23T19:24:48"}]
[{"$f":"$A320+Planning!$D$2","v":"2016-11-24T19:24:48"}]
[{"$f":"$A321+Planning!$D$2","v":"2016-11-25T19:24:48"}]
[{"$f":"$A322+Planning!$D$2","v":"2016-11-26T19:24:48"}]
[{"$f":"$A323+Planning!$D$2","v":"2016-11-27T19:24:48"}]
[{"$f":"$A324+Planning!$D$2","v":"2016-11-28T19:24:48"}]
[{"$f":"$A325+Planning!$D$2","v":"2016-11-29T19:24:48"}]
[{"$f":"$A326+Planning!$D$2","v":"2016-11-30T19:24:48"}]
[{"$f":"$A327+Planning!$D$2","v":"2016-12-01T19:24:48"}]
[{"$f":"$A328+Planning!$D$2","v":"2016-12-02T19:24:48"}]
[{"$f":"$A329+Planning!$D$2","v":"2016-12-03T19:24:48"}]
[{"$f":"$A330+Planning!$D$2","v":"2016-12-04T19:24:48"}]
[{"$f":"$A331+Planning!$D$2","v":"2016-12-05T19:24:48"}]
[{"$f":"$A332+Planning!$D$2","v":"2016-12-06T19:24:48"}]
[{"$f":"$A333+Planning!$D$2","v":"2016-12-07T19:24:48"}]
[{"$f":"$A334+Planning!$D$2","v":"2016-12-08T19:24:48"}]
[{"$f":"$A335+Planning!$D$2","v":"2016-12-09T19:24:48"}]
[{"$f":"$A336+Planning!$D$2","v":"2016-12-10T19:24:48"}]
[{"$f":"$A337+Planning!$D$2","v":"2016-12-11T19:24:48"}]
[{"$f":"$A338+Planning!$D$2","v":"2016-12-12T19:24:48"}]
[{"$f":"$A339+Planning!$D$2","v":"2016-12-13T19:24:48"}]
[{"$f":"$A340+Planning!$D$2","v":"2016-12-14T19:24:48"}]
[{"$f":"$A341+Planning!$D$2","v":"2016-12-15T19:24:48"}]
[{"$f":"$A342+Planning!$D$2","v":"2016-12-16T19:24:48"}]
[{"$f":"$A343+Planning!$D$2","v":"2016-12-17T19:24:48"}]
[{"$f":"$A344+Planning!$D$2","v":"2016-12-18T19:24:48"}]
[{"$f":"$A345+Planning!$D$2","v":"2016-12-19T19:24:48"}]
[{"$f":"$A346+Planning!$D$2","v":"2016-12-20T19:24:48"}]
[{"$f":"$A347+Planning!$D$2","v":"2016-12-21T19:24:48"}]
[{"$f":"$A348+Planning!$D$2","v":"2016-12-22T19:24:48"}]
[{"$f":"$A349+Planning!$D$2","v":"2016-12-23T19:24:48"}]
[{"$f":"$A350+Planning!$D$2","v":"2016-12-24T19:24:48"}]
[{"$f":"$A351+Planning!$D$2","v":"2016-12-25T19:24:48"}]
[{"$f":"$A352+Planning!$D$2","v":"2016-12-26T19:24:48"}]
[{"$f":"$A353+Planning!$D$2","v":"2016-12-27T19:24:48"}]
[{"$f":"$A354+Planning!$D$2","v":"2016-12-28T19:24:48"}]
[{"$f":"$A355+Planning!$D$2","v":"2016-12-29T19:24:48"}]
[{"$f":"$A356+Planning!$D$2","v":"2016-12-30T19:24:48"}]
[{"$f":"$A357+Planning!$D$2","v":"2016-12-31T19:24:48"}]
[{"$f":"$A358+Planning!$D$2","v":"2017-01-01T19:24:48"}]
[{"$f":"$A359+Planning!$D$2","v":"2017-01-02T19:24:48"}]
[{"$f":"$A360+Planning!$D$2","v":"2017-01-03T19:24:48"}]
[{"$f":"$A361+Planning!$D$2","v":"2017-01-04T19:24:48"}]
[{"$f":"$A362+Planning!$D$2","v":"2017-01-05T19:24:48"}]
[{"$f":"$A363+Planning!$D$2","v":"2017-01-06T19:24:48"}]
[{"$f":"$A364+Planning!$D$2","v":"2017-01-07T19:24:48"}]
[{"$f":"$A365+Planning!$D$2","v":"2017-01-08T19:24:48"}]
[{"$f":"$A366+Planning!$D$2","v":"2017-01-09T19:24:48"}]
[{"$f":"$A367+Planning!$D$2","v":"2017-01-10T19:24:48"}]
[{"$f":"$A368+Planning!$D$2","v":"2017-01-11T19:24:48"}]
[{"$f":"$A369+Planning!$D$2","v":"2017-01-12T19:24:48"}]
[{"$f":"$A370+Planning!$D$2","v":"2017-01-13T19:24:48"}]
[{"$f":"$A371+Planning!$D$2","v":"2017-01-14T19:24:48"}]
[{"$f":"$A372+Planning!$D$2","v":"2017-01-15T19:24:48"}]
[{"$f":"$A373+Planning!$D$2","v":"2017-01-16T19:24:48"}]
[{"$f":"$A374+Planning!$D$2","v":"2017-01-17T19:24:48"}]
[{"$f":"$A375+Planning!$D$2","v":"2017-01-18T19:24:48"}]
[{"$f":"$A376+Planning!$D$2","v":"2017-01-19T19:24:48"}]
[{"$f":"$A377+Planning!$D$2","v":"2017-01-20T19:24:48"}]
[{"$f":"$A378+Planning!$D$2","v":"2017-01-21T19:24:48"}]
[{"$f":"$A379+Planning!$D$2","v":"2017-01-22T19:24:48"}]
[{"$f":"$A380+Planning!$D$2","v":"2017-01-23T19:24:48"}]
[{"$f":"$A381+Planning!$D$2","v":"2017-01-24T19:24:48"}]
[{"$f":"$A382+Planning!$D$2","v":"2017-01-25T19:24:48"}]
[{"$f":"$A383+Planning!$D$2","v":"2017-01-26T19:24:48"}]
[{"$f":"$A384+Planning!$D$2","v":"2017-01-27T19:24:48"}]
[{"$f":"$A385+Planning!$D$2","v":"2017-01-28T19:24:48"}]
[{"$f":"$A386+Planning!$D$2","v":"2017-01-29T19:24:48"}]
[{"$f":"$A387+Planning!$D$2","v":"2017-01-30T19:24:48"}]
[{"$f":"$A388+Planning!$D$2","v":"2017-01-31T19:24:48"}]
[{"$f":"$A389+Planning!$D$2","v":"2017-02-01T19:24:48"}]
[{"$f":"$A390+Planning!$D$2","v":"2017-02-02T19:24:48"}]
[{"$f":"$A391+Planning!$D$2","v":"2017-02-03T19:24:48"}]
[{"$f":"$A392+Planning!$D$2","v":"2017-02-04T19:24:48"}]
[{"$f":"$A393+Planning!$D$2","v":"2017-02-05T19:24:48"}]
[{"$f":"$A394+Planning!$D$2","v":"2017-02-06T19:24:48"}]
[{"$f":"$A395+Planning!$D$2","v":"2017-02-07T19:24:48"}]
[{"$f":"$A396+Planning!$D$2","v":"2017-02-08T19:24:48"}]
[{"$f":"$A397+Planning!$D$2","v":"2017-02-09T19:24:48"}]
[{"$f":"$A398+Planning!$D$2","v":"2017-02-10T19:24:48"}]
[{"$f":"$A399+Planning!$D$2","v":"2017-02-11T19:24:48"}]
[{"$f":"$A400+Planning!$D$2","v":"2017-02-12T19:24:48"}]
[{"$f":"$A401+Planning!$D$2","v":"2017-02-13T19:24:48"}]
[{"$f":"$A402+Planning!$D$2","v":"2017-02-14T19:24:48"}]
[{"$f":"$A403+Planning!$D$2","v":"2017-02-15T19:24:48"}]
[{"$f":"$A404+Planning!$D$2","v":"2017-02-16T19:24:48"}]
[{"$f":"$A405+Planning!$D$2","v":"2017-02-17T19:24:48"}]
[{"$f":"$A406+Planning!$D$2","v":"2017-02-18T19:24:48"}]
[{"$f":"$A407+Planning!$D$2","v":"2017-02-19T19:24:48"}]
[{"$f":"$A408+Planning!$D$2","v":"2017-02-20T19:24:48"}]
[{"$f":"$A409+Planning!$D$2","v":"2017-02-21T19:24:48"}]
[{"$f":"$A410+Planning!$D$2","v":"2017-02-22T19:24:48"}]
[{"$f":"$A411+Planning!$D$2","v":"2017-02-23T19:24:48"}]
[{"$f":"$A412+Planning!$D$2","v":"2017-02-24T19:24:48"}]
[{"$f":"$A413+Planning!$D$2","v":"2017-02-25T19:24:48"}]
[{"$f":"$A414+Planning!$D$2","v":"2017-02-26T19:24:48"}]
[{"$f":"$A415+Planning!$D$2","v":"2017-02-27T19:24:48"}]
[{"$f":"$A416+Planning!$D$2","v":"2017-02-28T19:24:48"}]
[{"$f":"$A417+Planning!$D$2","v":"2017-03-01T19:24:48"}]
[{"$f":"$A418+Planning!$D$2","v":"2017-03-02T19:24:48"}]
[{"$f":"$A419+Planning!$D$2","v":"2017-03-03T19:24:48"}]
[{"$f":"$A420+Planning!$D$2","v":"2017-03-04T19:24:48"}]
[{"$f":"$A421+Planning!$D$2","v":"2017-03-05T19:24:48"}]
[{"$f":"$A422+Planning!$D$2","v":"2017-03-06T19:24:48"}]
[{"$f":"$A423+Planning!$D$2","v":"2017-03-07T19:24:48"}]
[{"$f":"$A424+Planning!$D$2","v":"2017-03-08T19:24:48"}]
[{"$f":"$A425+Planning!$D$2","v":"2017-03-09T19:24:48"}]
[{"$f":"$A426+Planning!$D$2","v":"2017-03-10T19:24:48"}]
[{"$f":"$A427+Planning!$D$2","v":"2017-03-11T19:24:48"}]
[{"$f":"$A428+Planning!$D$2","v":"2017-03-12T19:24:48"}]
[{"$f":"$A429+Planning!$D$2","v":"2017-03-13T19:24:48"}]
[{"$f":"$A430+Planning!$D$2","v":"2017-03-14T19:24:48"}]
[{"$f":"$A431+Planning!$D$2","v":"2017-03-15T19:24:48"}]
[{"$f":"$A432+Planning!$D$2","v":"2017-03-16T19:24:48"}]
[{"$f":"$A433+Planning!$D$2","v":"2017-03-17T19:24:48"}]
[{"$f":"$A434+Planning!$D$2","v":"2017-03-18T19:24:48"}]
[{"$f":"$A435+Planning!$D$2","v":"2017-03-19T19:24:48"}]
[{"$f":"$A436+Planning!$D$2","v":"2017-03-20T19:24:48"}]
[{"$f":"$A437+Planning!$D$2","v":"2017-03-21T19:24:48"}]
[{"$f":"$A438+Planning!$D$2","v":"2017-03-22T19:24:48"}]
[{"$f":"$A439+Planning!$D$2","v":"2017-03-23T19:24:48"}]
[{"$f":"$A440+Planning!$D$2","v":"2017-03-24T19:24:48"}]
[{"$f":"$A441+Planning!$D$2","v":"2017-03-25T19:24:48"}]
[{"$f":"$A442+Planning!$D$2","v":"2017-03-26T19:24:48"}]
[{"$f":"$A443+Planning!$D$2","v":"2017-03-27T19:24:48"}]
[{"$f":"$A444+Planning!$D$2","v":"2017-03-28T19:24:48"}]
[{"$f":"$A445+Planning!$D$2","v":"2017-03-29T19:24:48"}]
[{"$f":"$A446+Planning!$D$2","v":"2017-03-30T19:24:48"}]
[{"$f":"$A447+Planning!$D$2","v":"2017-03-31T19:24:48"}]
[{"$f":"$A448+Planning!$D$2","v":"2017-04-01T19:24:48"}]
[{"$f":"$A449+Planning!$D$2","v":"2017-04-02T19:24:48"}]
[{"$f":"$A450+Planning!$D$2","v":"2017-04-03T19:24:48"}]
[{"$f":"$A451+Planning!$D$2","v":"2017-04-04T19:24:48"}]
[{"$f":"$A452+Planning!$D$2","v":"2017-04-05T19:24:48"}]
[{"$f":"$A453+Planning!$D$2","v":"2017-04-06T19:24:48"}]
[{"$f":"$A454+Planning!$D$2","v":"2017-04-07T19:24:48"}]
[{"$f":"$A455+Planning!$D$2","v":"2017-04-08T19:24:48"}]
[{"$f":"$A456+Planning!$D$2","v":"2017-04-09T19:24:48"}]
[{"$f":"$A457+Planning!$D$2","v":"2017-04-10T19:24:48"}]
[{"$f":"$A458+Planning!$D$2","v":"2017-04-11T19:24:48"}]
[{"$f":"$A459+Planning!$D$2","v":"2017-04-12T19:24:48"}]
[{"$f":"$A460+Planning!$D$2","v":"2017-04-13T19:24:48"}]
[{"$f":"$A461+Planning!$D$2","v":"2017-04-14T19:24:48"}]
[{"$f":"$A462+Planning!$D$2","v":"2017-04-15T19:24:48"}]
[{"$f":"$A463+Planning!$D$2","v":"2017-04-16T19:24:48"}]
[{"$f":"$A464+Planning!$D$2","v":"2017-04-17T19:24:48"}]
[{"$f":"$A465+Planning!$D$2","v":"2017-04-18T19:24:48"}]
[{"$f":"$A466+Planning!$D$2","v":"2017-04-19T19:24:48"}]
[{"$f":"$A467+Planning!$D$2","v":"2017-04-20T19:24:48"}]
[{"$f":"$A468+Planning!$D$2","v":"2017-04-21T19:24:48"}]
[{"$f":"$A469+Planning!$D$2","v":"2017-04-22T19:24:48"}]
[{"$f":"$A470+Planning!$D$2","v":"2017-04-23T19:24:48"}]
[{"$f":"$A471+Planning!$D$2","v":"2017-04-24T19:24:48"}]
[{"$f":"$A472+Planning!$D$2","v":"2017-04-25T19:24:48"}]
[{"$f":"$A473+Planning!$D$2","v":"2017-04-26T19:24:48"}]
[{"$f":"$A474+Planning!$D$2","v":"2017-04-27T19:24:48"}]
[{"$f":"$A475+Planning!$D$2","v":"2017-04-28T19:24:48"}]
[{"$f":"$A476+Planning!$D$2","v":"2017-04-29T19:24:48"}]
[{"$f":"$A477+Planning!$D$2","v":"2017-04-30T19:24:48"}]
[{"$f":"$A478+Planning!$D$2","v":"2017-05-01T19:24:48"}]
[{"$f":"$A479+Planning!$D$2","v":"2017-05-02T19:24:48"}]
[{"$f":"$A480+Planning!$D$2","v":"2017-05-03T19:24:48"}]
[{"$f":"$A481+Planning!$D$2","v":"2017-05-04T19:24:48"}]
[{"$f":"$A482+Planning!$D$2","v":"2017-05-05T19:24:48"}]
[{"$f":"$A483+Planning!$D$2","v":"2017-05-06T19:24:48"}]
[{"$f":"$A484+Planning!$D$2","v":"2017-05-07T19:24:48"}]
[{"$f":"$A485+Planning!$D$2","v":"2017-05-08T19:24:48"}]
[{"$f":"$A486+Planning!$D$2","v":"2017-05-09T19:24:48"}]
[{"$f":"$A487+Planning!$D$2","v":"2017-05-10T19:24:48"}]
[{"$f":"$A488+Planning!$D$2","v":"2017-05-11T19:24:48"}]
[{"$f":"$A489+Planning!$D$2","v":"2017-05-12T19:24:48"}]
[{"$f":"$A490+Planning!$D$2","v":"2017-05-13T19:24:48"}]
[{"$f":"$A491+Planning!$D$2","v":"2017-05-14T19:24:48"}]
[{"$f":"$A492+Planning!$D$2","v":"2017-05-15T19:24:48"}]
[{"$f":"$A493+Planning!$D$2","v":"2017-05-16T19:24:48"}]
[{"$f":"$A494+Planning!$D$2","v":"2017-05-17T19:24:48"}]
[{"$f":"$A495+Planning!$D$2","v":"2017-05-18T19:24:48"}]
[{"$f":"$A496+Planning!$D$2","v":"2017-05-19T19:24:48"}]
[{"$f":"$A497+Planning!$D$2","v":"2017-05-20T19:24:48"}]
[{"$f":"$A498+Planning!$D$2","v":"2017-05-21T19:24:48"}]
[{"$f":"$A499+Planning!$D$2","v":"2017-05-22T19:24:48"}]
[{"$f":"$A500+Planning!$D$2","v":"2017-05-23T19:24:48"}]
[{"$f":"$A501+Planning!$D$2","v":"2017-05-24T19:24:48"}]
[{"$f":"$A502+Planning!$D$2","v":"2017-05-25T19:24:48"}]
[{"$f":"$A503+Planning!$D$2","v":"2017-05-26T19:24:48"}]
[{"$f":"$A504+Planning!$D$2","v":"2017-05-27T19:24:48"}]
[{"$f":"$A505+Planning!$D$2","v":"2017-05-28T19:24:48"}]
[{"$f":"$A506+Planning!$D$2","v":"2017-05-29T19:24:48"}]
[{"$f":"$A507+Planning!$D$2","v":"2017-05-30T19:24:48"}]
[{"$f":"$A508+Planning!$D$2","v":"2017-05-31T19:24:48"}]
[{"$f":"$A509+Planning!$D$2","v":"2017-06-01T19:24:48"}]
[{"$f":"$A510+Planning!$D$2","v":"2017-06-02T19:24:48"}]
[{"$f":"$A511+Planning!$D$2","v":"2017-06-03T19:24:48"}]
[{"$f":"$A512+Planning!$D$2","v":"2017-06-04T19:24:48"}]
[{"$f":"$A513+Planning!$D$2","v":"2017-06-05T19:24:48"}]
[{"$f":"$A514+Planning!$D$2","v":"2017-06-06T19:24:48"}]
[{"$f":"$A515+Planning!$D$2","v":"2017-06-07T19:24:48"}]
[{"$f":"$A516+Planning!$D$2","v":"2017-06-08T19:24:48"}]
[{"$f":"$A517+Planning!$D$2","v":"2017-06-09T19:24:48"}]
[{"$f":"$A518+Planning!$D$2","v":"2017-06-10T19:24:48"}]
[{"$f":"$A519+Planning!$D$2","v":"2017-06-11T19:24:48"}]
[{"$f":"$A520+Planning!$D$2","v":"2017-06-12T19:24:48"}]
[{"$f":"$A521+Planning!$D$2","v":"2017-06-13T19:24:48"}]
[{"$f":"$A522+Planning!$D$2","v":"2017-06-14T19:24:48"}]
[{"$f":"$A523+Planning!$D$2","v":"2017-06-15T19:24:48"}]
[{"$f":"$A524+Planning!$D$2","v":"2017-06-16T19:24:48"}]
[{"$f":"$A525+Planning!$D$2","v":"2017-06-17T19:24:48"}]
[{"$f":"$A526+Planning!$D$2","v":"2017-06-18T19:24:48"}]
[{"$f":"$A527+Planning!$D$2","v":"2017-06-19T19:24:48"}]
[{"$f":"$A528+Planning!$D$2","v":"2017-06-20T19:24:48"}]
[{"$f":"$A529+Planning!$D$2","v":"2017-06-21T19:24:48"}]
[{"$f":"$A530+Planning!$D$2","v":"2017-06-22T19:24:48"}]
[{"$f":"$A531+Planning!$D$2","v":"2017-06-23T19:24:48"}]
[{"$f":"$A532+Planning!$D$2","v":"2017-06-24T19:24:48"}]
[{"$f":"$A533+Planning!$D$2","v":"2017-06-25T19:24:48"}]
[{"$f":"$A534+Planning!$D$2","v":"2017-06-26T19:24:48"}]
[{"$f":"$A535+Planning!$D$2","v":"2017-06-27T19:24:48"}]
[{"$f":"$A536+Planning!$D$2","v":"2017-06-28T19:24:48"}]
[{"$f":"$A537+Planning!$D$2","v":"2017-06-29T19:24:48"}]
[{"$f":"$A538+Planning!$D$2","v":"2017-06-30T19:24:48"}]
[{"$f":"$A539+Planning!$D$2","v":"2017-07-01T19:24:48"}]
[{"$f":"$A540+Planning!$D$2","v":"2017-07-02T19:24:48"}]
[{"$f":"$A541+Planning!$D$2","v":"2017-07-03T19:24:48"}]
[{"$f":"$A542+Planning!$D$2","v":"2017-07-04T19:24:48"}]
[{"$f":"$A543+Planning!$D$2","v":"2017-07-05T19:24:48"}]
[{"$f":"$A544+Planning!$D$2","v":"2017-07-06T19:24:48"}]
[{"$f":"$A545+Planning!$D$2","v":"2017-07-07T19:24:48"}]
[{"$f":"$A546+Planning!$D$2","v":"2017-07-08T19:24:48"}]
[{"$f":"$A547+Planning!$D$2","v":"2017-07-09T19:24:48"}]
[{"$f":"$A548+Planning!$D$2","v":"2017-07-10T19:24:48"}]
[{"$f":"$A549+Planning!$D$2","v":"2017-07-11T19:24:48"}]
[{"$f":"$A550+Planning!$D$2","v":"2017-07-12T19:24:48"}]
[{"$f":"$A551+Planning!$D$2","v":"2017-07-13T19:24:48"}]
[{"$f":"$A552+Planning!$D$2","v":"2017-07-14T19:24:48"}]
[{"$f":"$A553+Planning!$D$2","v":"2017-07-15T19:24:48"}]
[{"$f":"$A554+Planning!$D$2","v":"2017-07-16T19:24:48"}]
[{"$f":"$A555+Planning!$D$2","v":"2017-07-17T19:24:48"}]
[{"$f":"$A556+Planning!$D$2","v":"2017-07-18T19:24:48"}]
[{"$f":"$A557+Planning!$D$2","v":"2017-07-19T19:24:48"}]
[{"$f":"$A558+Planning!$D$2","v":"2017-07-20T19:24:48"}]
[{"$f":"$A559+Planning!$D$2","v":"2017-07-21T19:24:48"}]
[{"$f":"$A560+Planning!$D$2","v":"2017-07-22T19:24:48"}]
[{"$f":"$A561+Planning!$D$2","v":"2017-07-23T19:24:48"}]
[{"$f":"$A562+Planning!$D$2","v":"2017-07-24T19:24:48"}]
[{"$f":"$A563+Planning!$D$2","v":"2017-07-25T19:24:48"}]
[{"$f":"$A564+Planning!$D$2","v":"2017-07-26T19:24:48"}]
[{"$f":"$A565+Planning!$D$2","v":"2017-07-27T19:24:48"}]
[{"$f":"$A566+Planning!$D$2","v":"2017-07-28T19:24:48"}]
[{"$f":"$A567+Planning!$D$2","v":"2017-07-29T19:24:48"}]
[{"$f":"$A568+Planning!$D$2","v":"2017-07-30T19:24:48"}]
[{"$f":"$A569+Planning!$D$2","v":"2017-07-31T19:24:48"}]
[{"$f":"$A570+Planning!$D$2","v":"2017-08-01T19:24:48"}]
[{"$f":"$A571+Planning!$D$2","v":"2017-08-02T19:24:48"}]
[{"$f":"$A572+Planning!$D$2","v":"2017-08-03T19:24:48"}]
[{"$f":"$A573+Planning!$D$2","v":"2017-08-04T19:24:48"}]
[{"$f":"$A574+Planning!$D$2","v":"2017-08-05T19:24:48"}]
[{"$f":"$A575+Planning!$D$2","v":"2017-08-06T19:24:48"}]
[{"$f":"$A576+Planning!$D$2","v":"2017-08-07T19:24:48"}]
[{"$f":"$A577+Planning!$D$2","v":"2017-08-08T19:24:48"}]
[{"$f":"$A578+Planning!$D$2","v":"2017-08-09T19:24:48"}]
[{"$f":"$A579+Planning!$D$2","v":"2017-08-10T19:24:48"}]
[{"$f":"$A580+Planning!$D$2","v":"2017-08-11T19:24:48"}]
[{"$f":"$A581+Planning!$D$2","v":"2017-08-12T19:24:48"}]
[{"$f":"$A582+Planning!$D$2","v":"2017-08-13T19:24:48"}]
[{"$f":"$A583+Planning!$D$2","v":"2017-08-14T19:24:48"}]
[{"$f":"$A584+Planning!$D$2","v":"2017-08-15T19:24:48"}]
[{"$f":"$A585+Planning!$D$2","v":"2017-08-16T19:24:48"}]
[{"$f":"$A586+Planning!$D$2","v":"2017-08-17T19:24:48"}]
[{"$f":"$A587+Planning!$D$2","v":"2017-08-18T19:24:48"}]
[{"$f":"$A588+Planning!$D$2","v":"2017-08-19T19:24:48"}]
[{"$f":"$A589+Planning!$D$2","v":"2017-08-20T19:24:48"}]
[{"$f":"$A590+Planning!$D$2","v":"2017-08-21T19:24:48"}]
[{"$f":"$A591+Planning!$D$2","v":"2017-08-22T19:24:48"}]
[{"$f":"$A592+Planning!$D$2","v":"2017-08-23T19:24:48"}]
[{"$f":"$A593+Planning!$D$2","v":"2017-08-24T19:24:48"}]
[{"$f":"$A594+Planning!$D$2","v":"2017-08-25T19:24:48"}]
[{"$f":"$A595+Planning!$D$2","v":"2017-08-26T19:24:48"}]
[{"$f":"$A596+Planning!$D$2","v":"2017-08-27T19:24:48"}]
[{"$f":"$A597+Planning!$D$2","v":"2017-08-28T19:24:48"}]
[{"$f":"$A598+Planning!$D$2","v":"2017-08-29T19:24:48"}]
[{"$f":"$A599+Planning!$D$2","v":"2017-08-30T19:24:48"}]
[{"$f":"$A600+Planning!$D$2","v":"2017-08-31T19:24:48"}]
[{"$f":"$A601+Planning!$D$2","v":"2017-09-01T19:24:48"}]
[{"$f":"$A602+Planning!$D$2","v":"2017-09-02T19:24:48"}]
[{"$f":"$A603+Planning!$D$2","v":"2017-09-03T19:24:48"}]
[{"$f":"$A604+Planning!$D$2","v":"2017-09-04T19:24:48"}]
[{"$f":"$A605+Planning!$D$2","v":"2017-09-05T19:24:48"}]
[{"$f":"$A606+Planning!$D$2","v":"2017-09-06T19:24:48"}]
[{"$f":"$A607+Planning!$D$2","v":"2017-09-07T19:24:48"}]
[{"$f":"$A608+Planning!$D$2","v":"2017-09-08T19:24:48"}]
[{"$f":"$A609+Planning!$D$2","v":"2017-09-09T19:24:48"}]
[{"$f":"$A610+Planning!$D$2","v":"2017-09-10T19:24:48"}]
[{"$f":"$A611+Planning!$D$2","v":"2017-09-11T19:24:48"}]
[{"$f":"$A612+Planning!$D$2","v":"2017-09-12T19:24:48"}]
[{"$f":"$A613+Planning!$D$2","v":"2017-09-13T19:24:48"}]
[{"$f":"$A614+Planning!$D$2","v":"2017-09-14T19:24:48"}]
[{"$f":"$A615+Planning!$D$2","v":"2017-09-15T19:24:48"}]
[{"$f":"$A616+Planning!$D$2","v":"2017-09-16T19:24:48"}]
[{"$f":"$A617+Planning!$D$2","v":"2017-09-17T19:24:48"}]
[{"$f":"$A618+Planning!$D$2","v":"2017-09-18T19:24:48"}]
[{"$f":"$A619+Planning!$D$2","v":"2017-09-19T19:24:48"}]
[{"$f":"$A620+Planning!$D$2","v":"2017-09-20T19:24:48"}]
[{"$f":"$A621+Planning!$D$2","v":"2017-09-21T19:24:48"}]
[{"$f":"$A622+Planning!$D$2","v":"2017-09-22T19:24:48"}]
[{"$f":"$A623+Planning!$D$2","v":"2017-09-23T19:24:48"}]
[{"$f":"$A624+Planning!$D$2","v":"2017-09-24T19:24:48"}]
[{"$f":"$A625+Planning!$D$2","v":"2017-09-25T19:24:48"}]
[{"$f":"$A626+Planning!$D$2","v":"2017-09-26T19:24:48"}]
[{"$f":"$A627+Planning!$D$2","v":"2017-09-27T19:24:48"}]
[{"$f":"$A628+Planning!$D$2","v":"2017-09-28T19:24:48"}]
[{"$f":"$A629+Planning!$D$2","v":"2017-09-29T19:24:48"}]
[{"$f":"$A630+Planning!$D$2","v":"2017-09-30T19:24:48"}]
[{"$f":"$A631+Planning!$D$2","v":"2017-10-01T19:24:48"}]
[{"$f":"$A632+Planning!$D$2","v":"2017-10-02T19:24:48"}]
[{"$f":"$A633+Planning!$D$2","v":"2017-10-03T19:24:48"}]
[{"$f":"$A634+Planning!$D$2","v":"2017-10-04T19:24:48"}]
[{"$f":"$A635+Planning!$D$2","v":"2017-10-05T19:24:48"}]
[{"$f":"$A636+Planning!$D$2","v":"2017-10-06T19:24:48"}]
[{"$f":"$A637+Planning!$D$2","v":"2017-10-07T19:24:48"}]
[{"$f":"$A638+Planning!$D$2","v":"2017-10-08T19:24:48"}]
[{"$f":"$A639+Planning!$D$2","v":"2017-10-09T19:24:48"}]
[{"$f":"$A640+Planning!$D$2","v":"2017-10-10T19:24:48"}]
[{"$f":"$A641+Planning!$D$2","v":"2017-10-11T19:24:48"}]
[{"$f":"$A642+Planning!$D$2","v":"2017-10-12T19:24:48"}]
[{"$f":"$A643+Planning!$D$2","v":"2017-10-13T19:24:48"}]
[{"$f":"$A644+Planning!$D$2","v":"2017-10-14T19:24:48"}]
[{"$f":"$A645+Planning!$D$2","v":"2017-10-15T19:24:48"}]
[{"$f":"$A646+Planning!$D$2","v":"2017-10-16T19:24:48"}]
[{"$f":"$A647+Planning!$D$2","v":"2017-10-17T19:24:48"}]
[{"$f":"$A648+Planning!$D$2","v":"2017-10-18T19:24:48"}]
[{"$f":"$A649+Planning!$D$2","v":"2017-10-19T19:24:48"}]
[{"$f":"$A650+Planning!$D$2","v":"2017-10-20T19:24:48"}]
[{"$f":"$A651+Planning!$D$2","v":"2017-10-21T19:24:48"}]
[{"$f":"$A652+Planning!$D$2","v":"2017-10-22T19:24:48"}]
[{"$f":"$A653+Planning!$D$2","v":"2017-10-23T19:24:48"}]
[{"$f":"$A654+Planning!$D$2","v":"2017-10-24T19:24:48"}]
[{"$f":"$A655+Planning!$D$2","v":"2017-10-25T19:24:48"}]
[{"$f":"$A656+Planning!$D$2","v":"2017-10-26T19:24:48"}]
[{"$f":"$A657+Planning!$D$2","v":"2017-10-27T19:24:48"}]
[{"$f":"$A658+Planning!$D$2","v":"2017-10-28T19:24:48"}]
[{"$f":"$A659+Planning!$D$2","v":"2017-10-29T19:24:48"}]
[{"$f":"$A660+Planning!$D$2","v":"2017-10-30T19:24:48"}]
[{"$f":"$A661+Planning!$D$2","v":"2017-10-31T19:24:48"}]
[{"$f":"$A662+Planning!$D$2","v":"2017-11-01T19:24:48"}]
[{"$f":"$A663+Planning!$D$2","v":"2017-11-02T19:24:48"}]
[{"$f":"$A664+Planning!$D$2","v":"2017-11-03T19:24:48"}]
[{"$f":"$A665+Planning!$D$2","v":"2017-11-04T19:24:48"}]
[{"$f":"$A666+Planning!$D$2","v":"2017-11-05T19:24:48"}]
[{"$f":"$A667+Planning!$D$2","v":"2017-11-06T19:24:48"}]
[{"$f":"$A668+Planning!$D$2","v":"2017-11-07T19:24:48"}]
[{"$f":"$A669+Planning!$D$2","v":"2017-11-08T19:24:48"}]
[{"$f":"$A670+Planning!$D$2","v":"2017-11-09T19:24:48"}]
[{"$f":"$A671+Planning!$D$2","v":"2017-11-10T19:24:48"}]
[{"$f":"$A672+Planning!$D$2","v":"2017-11-11T19:24:48"}]
[{"$f":"$A673+Planning!$D$2","v":"2017-11-12T19:24:48"}]
[{"$f":"$A674+Planning!$D$2","v":"2017-11-13T19:24:48"}]
[{"$f":"$A675+Planning!$D$2","v":"2017-11-14T19:24:48"}]
[{"$f":"$A676+Planning!$D$2","v":"2017-11-15T19:24:48"}]
[{"$f":"$A677+Planning!$D$2","v":"2017-11-16T19:24:48"}]
[{"$f":"$A678+Planning!$D$2","v":"2017-11-17T19:24:48"}]
[{"$f":"$A679+Planning!$D$2","v":"2017-11-18T19:24:48"}]
[{"$f":"$A680+Planning!$D$2","v":"2017-11-19T19:24:48"}]
[{"$f":"$A681+Planning!$D$2","v":"2017-11-20T19:24:48"}]
[{"$f":"$A682+Planning!$D$2","v":"2017-11-21T19:24:48"}]
[{"$f":"$A683+Planning!$D$2","v":"2017-11-22T19:24:48"}]
[{"$f":"$A684+Planning!$D$2","v":"2017-11-23T19:24:48"}]
[{"$f":"$A685+Planning!$D$2","v":"2017-11-24T19:24:48"}]
[{"$f":"$A686+Planning!$D$2","v":"2017-11-25T19:24:48"}]
[{"$f":"$A687+Planning!$D$2","v":"2017-11-26T19:24:48"}]
[{"$f":"$A688+Planning!$D$2","v":"2017-11-27T19:24:48"}]
[{"$f":"$A689+Planning!$D$2","v":"2017-11-28T19:24:48"}]
[{"$f":"$A690+Planning!$D$2","v":"2017-11-29T19:24:48"}]
[{"$f":"$A691+Planning!$D$2","v":"2017-11-30T19:24:48"}]
[{"$f":"$A692+Planning!$D$2","v":"2017-12-01T19:24:48"}]
[{"$f":"$A693+Planning!$D$2","v":"2017-12-02T19:24:48"}]
[{"$f":"$A694+Planning!$D$2","v":"2017-12-03T19:24:48"}]
[{"$f":"$A695+Planning!$D$2","v":"2017-12-04T19:24:48"}]
[{"$f":"$A696+Planning!$D$2","v":"2017-12-05T19:24:48"}]
[{"$f":"$A697+Planning!$D$2","v":"2017-12-06T19:24:48"}]
[{"$f":"$A698+Planning!$D$2","v":"2017-12-07T19:24:48"}]
[{"$f":"$A699+Planning!$D$2","v":"2017-12-08T19:24:48"}]
[{"$f":"$A700+Planning!$D$2","v":"2017-12-09T19:24:48"}]
[{"$f":"$A701+Planning!$D$2","v":"2017-12-10T19:24:48"}]
[{"$f":"$A702+Planning!$D$2","v":"2017-12-11T19:24:48"}]
[{"$f":"$A703+Planning!$D$2","v":"2017-12-12T19:24:48"}]
[{"$f":"$A704+Planning!$D$2","v":"2017-12-13T19:24:48"}]
[{"$f":"$A705+Planning!$D$2","v":"2017-12-14T19:24:48"}]
[{"$f":"$A706+Planning!$D$2","v":"2017-12-15T19:24:48"}]
[{"$f":"$A707+Planning!$D$2","v":"2017-12-16T19:24:48"}]
[{"$f":"$A708+Planning!$D$2","v":"2017-12-17T19:24:48"}]
[{"$f":"$A709+Planning!$D$2","v":"2017-12-18T19:24:48"}]
[{"$f":"$A710+Planning!$D$2","v":"2017-12-19T19:24:48"}]
[{"$f":"$A711+Planning!$D$2","v":"2017-12-20T19:24:48"}]
[{"$f":"$A712+Planning!$D$2","v":"2017-12-21T19:24:48"}]
[{"$f":"$A713+Planning!$D$2","v":"2017-12-22T19:24:48"}]
[{"$f":"$A714+Planning!$D$2","v":"2017-12-23T19:24:48"}]
[{"$f":"$A715+Planning!$D$2","v":"2017-12-24T19:24:48"}]
[{"$f":"$A716+Planning!$D$2","v":"2017-12-25T19:24:48"}]
[{"$f":"$A717+Planning!$D$2","v":"2017-12-26T19:24:48"}]
[{"$f":"$A718+Planning!$D$2","v":"2017-12-27T19:24:48"}]
[{"$f":"$A719+Planning!$D$2","v":"2017-12-28T19:24:48"}]
[{"$f":"$A720+Planning!$D$2","v":"2017-12-29T19:24:48"}]
[{"$f":"$A721+Planning!$D$2","v":"2017-12-30T19:24:48"}]
[{"$f":"$A722+Planning!$D$2","v":"2017-12-31T19:24:48"}]
[{"$f":"$A723+Planning!$D$2","v":"2018-01-01T19:24:48"}]
[{"$f":"$A724+Planning!$D$2","v":"2018-01-02T19:24:48"}]
[{"$f":"$A725+Planning!$D$2","v":"2018-01-03T19:24:48"}]
[{"$f":"$A726+Planning!$D$2","v":"2018-01-04T19:24:48"}]
[{"$f":"$A727+Planning!$D$2","v":"2018-01-05T19:24:48"}]
[{"$f":"$A728+Planning!$D$2","v":"2018-01-06T19:24:48"}]
[{"$f":"$A729+Planning!$D$2","v":"2018-01-07T19:24:48"}]
[{"$f":"$A730+Planning!$D$2","v":"2018-01-08T19:24:48"}]
[{"$f":"$A731+Planning!$D$2","v":"2018-01-09T19:24:48"}]
[{"$f":"$A732+Planning!$D$2","v":"2018-01-10T19:24:48"}]
[{"$f":"$A733+Planning!$D$2","v":"2018-01-11T19:24:48"}]
[{"$f":"$A734+Planning!$D$2","v":"2018-01-12T19:24:48"}]
[{"$f":"$A735+Planning!$D$2","v":"2018-01-13T19:24:48"}]
[{"$f":"$A736+Planning!$D$2","v":"2018-01-14T19:24:48"}]
[{"$f":"$A737+Planning!$D$2","v":"2018-01-15T19:24:48"}]
[{"$f":"$A738+Planning!$D$2","v":"2018-01-16T19:24:48"}]
[{"$f":"$A739+Planning!$D$2","v":"2018-01-17T19:24:48"}]
[{"$f":"$A740+Planning!$D$2","v":"2018-01-18T19:24:48"}]
[{"$f":"$A741+Planning!$D$2","v":"2018-01-19T19:24:48"}]
[{"$f":"$A742+Planning!$D$2","v":"2018-01-20T19:24:48"}]
[{"$f":"$A743+Planning!$D$2","v":"2018-01-21T19:24:48"}]
[{"$f":"$A744+Planning!$D$2","v":"2018-01-22T19:24:48"}]
[{"$f":"$A745+Planning!$D$2","v":"2018-01-23T19:24:48"}]
[{"$f":"$A746+Planning!$D$2","v":"2018-01-24T19:24:48"}]
[{"$f":"$A747+Planning!$D$2","v":"2018-01-25T19:24:48"}]
[{"$f":"$A748+Planning!$D$2","v":"2018-01-26T19:24:48"}]
[{"$f":"$A749+Planning!$D$2","v":"2018-01-27T19:24:48"}]
[{"$f":"$A750+Planning!$D$2","v":"2018-01-28T19:24:48"}]
[{"$f":"$A751+Planning!$D$2","v":"2018-01-29T19:24:48"}]
[{"$f":"$A752+Planning!$D$2","v":"2018-01-30T19:24:48"}]
[{"$f":"$A753+Planning!$D$2","v":"2018-01-31T19:24:48"}]
[{"$f":"$A754+Planning!$D$2","v":"2018-02-01T19:24:48"}]
[{"$f":"$A755+Planning!$D$2","v":"2018-02-02T19:24:48"}]
[{"$f":"$A756+Planning!$D$2","v":"2018-02-03T19:24:48"}]
[{"$f":"$A757+Planning!$D$2","v":"2018-02-04T19:24:48"}]
[{"$f":"$A758+Planning!$D$2","v":"2018-02-05T19:24:48"}]
[{"$f":"$A759+Planning!$D$2","v":"2018-02-06T19:24:48"}]
[{"$f":"$A760+Planning!$D$2","v":"2018-02-07T19:24:48"}]
[{"$f":"$A761+Planning!$D$2","v":"2018-02-08T19:24:48"}]
[{"$f":"$A762+Planning!$D$2","v":"2018-02-09T19:24:48"}]
[{"$f":"$A763+Planning!$D$2","v":"2018-02-10T19:24:48"}]
[{"$f":"$A764+Planning!$D$2","v":"2018-02-11T19:24:48"}]
[{"$f":"$A765+Planning!$D$2","v":"2018-02-12T19:24:48"}]
[{"$f":"$A766+Planning!$D$2","v":"2018-02-13T19:24:48"}]
[{"$f":"$A767+Planning!$D$2","v":"2018-02-14T19:24:48"}]
[{"$f":"$A768+Planning!$D$2","v":"2018-02-15T19:24:48"}]
[{"$f":"$A769+Planning!$D$2","v":"2018-02-16T19:24:48"}]
[{"$f":"$A770+Planning!$D$2","v":"2018-02-17T19:24:48"}]
[{"$f":"$A771+Planning!$D$2","v":"2018-02-18T19:24:48"}]
[{"$f":"$A772+Planning!$D$2","v":"2018-02-19T19:24:48"}]
[{"$f":"$A773+Planning!$D$2","v":"2018-02-20T19:24:48"}]
[{"$f":"$A774+Planning!$D$2","v":"2018-02-21T19:24:48"}]
[{"$f":"$A775+Planning!$D$2","v":"2018-02-22T19:24:48"}]
[{"$f":"$A776+Planning!$D$2","v":"2018-02-23T19:24:48"}]
[{"$f":"$A777+Planning!$D$2","v":"2018-02-24T19:24:48"}]
[{"$f":"$A778+Planning!$D$2","v":"2018-02-25T19:24:48"}]
[{"$f":"$A779+Planning!$D$2","v":"2018-02-26T19:24:48"}]
[{"$f":"$A780+Planning!$D$2","v":"2018-02-27T19:24:48"}]
[{"$f":"$A781+Planning!$D$2","v":"2018-02-28T19:24:48"}]
[{"$f":"$A782+Planning!$D$2","v":"2018-03-01T19:24:48"}]
[{"$f":"$A783+Planning!$D$2","v":"2018-03-02T19:24:48"}]
[{"$f":"$A784+Planning!$D$2","v":"2018-03-03T19:24:48"}]
[{"$f":"$A785+Planning!$D$2","v":"2018-03-04T19:24:48"}]
[{"$f":"$A786+Planning!$D$2","v":"2018-03-05T19:24:48"}]
[{"$f":"$A787+Planning!$D$2","v":"2018-03-06T19:24:48"}]
[{"$f":"$A788+Planning!$D$2","v":"2018-03-07T19:24:48"}]
[{"$f":"$A789+Planning!$D$2","v":"2018-03-08T19:24:48"}]
[{"$f":"$A790+Planning!$D$2","v":"2018-03-09T19:24:48"}]
[{"$f":"$A791+Planning!$D$2","v":"2018-03-10T19:24:48"}]
[{"$f":"$A792+Planning!$D$2","v":"2018-03-11T19:24:48"}]
[{"$f":"$A793+Planning!$D$2","v":"2018-03-12T19:24:48"}]
[{"$f":"$A794+Planning!$D$2","v":"2018-03-13T19:24:48"}]
[{"$f":"$A795+Planning!$D$2","v":"2018-03-14T19:24:48"}]
[{"$f":"$A796+Planning!$D$2","v":"2018-03-15T19:24:48"}]
[{"$f":"$A797+Planning!$D$2","v":"2018-03-16T19:24:48"}]
[{"$f":"$A798+Planning!$D$2","v":"2018-03-17T19:24:48"}]
[{"$f":"$A799+Planning!$D$2","v":"2018-03-18T19:24:48"}]
[{"$f":"$A800+Planning!$D$2","v":"2018-03-19T19:24:48"}]
[{"$f":"$A801+Planning!$D$2","v":"2018-03-20T19:24:48"}]
[{"$f":"$A802+Planning!$D$2","v":"2018-03-21T19:24:48"}]
[{"$f":"$A803+Planning!$D$2","v":"2018-03-22T19:24:48"}]
[{"$f":"$A804+Planning!$D$2","v":"2018-03-23T19:24:48"}]
[{"$f":"$A805+Planning!$D$2","v":"2018-03-24T19:24:48"}]
[{"$f":"$A806+Planning!$D$2","v":"2018-03-25T19:24:48"}]
[{"$f":"$A807+Planning!$D$2","v":"2018-03-26T19:24:48"}]
[{"$f":"$A808+Planning!$D$2","v":"2018-03-27T19:24:48"}]
[{"$f":"$A809+Planning!$D$2","v":"2018-03-28T19:24:48"}]
[{"$f":"$A810+Planning!$D$2","v":"2018-03-29T19:24:48"}]
[{"$f":"$A811+Planning!$D$2","v":"2018-03-30T19:24:48"}]
[{"$f":"$A812+Planning!$D$2","v":"2018-03-31T19:24:48"}]
[{"$f":"$A813+Planning!$D$2","v":"2018-04-01T19:24:48"}]
[{"$f":"$A814+Planning!$D$2","v":"2018-04-02T19:24:48"}]
[{"$f":"$A815+Planning!$D$2","v":"2018-04-03T19:24:48"}]
[{"$f":"$A816+Planning!$D$2","v":"2018-04-04T19:24:48"}]
[{"$f":"$A817+Planning!$D$2","v":"2018-04-05T19:24:48"}]
[{"$f":"$A818+Planning!$D$2","v":"2018-04-06T19:24:48"}]
[{"$f":"$A819+Planning!$D$2","v":"2018-04-07T19:24:48"}]
[{"$f":"$A820+Planning!$D$2","v":"2018-04-08T19:24:48"}]
[{"$f":"$A821+Planning!$D$2","v":"2018-04-09T19:24:48"}]
[{"$f":"$A822+Planning!$D$2","v":"2018-04-10T19:24:48"}]
[{"$f":"$A823+Planning!$D$2","v":"2018-04-11T19:24:48"}]
[{"$f":"$A824+Planning!$D$2","v":"2018-04-12T19:24:48"}]
[{"$f":"$A825+Planning!$D$2","v":"2018-04-13T19:24:48"}]
[{"$f":"$A826+Planning!$D$2","v":"2018-04-14T19:24:48"}]
[{"$f":"$A827+Planning!$D$2","v":"2018-04-15T19:24:48"}]
[{"$f":"$A828+Planning!$D$2","v":"2018-04-16T19:24:48"}]
[{"$f":"$A829+Planning!$D$2","v":"2018-04-17T19:24:48"}]
[{"$f":"$A830+Planning!$D$2","v":"2018-04-18T19:24:48"}]
[{"$f":"$A831+Planning!$D$2","v":"2018-04-19T19:24:48"}]
[{"$f":"$A832+Planning!$D$2","v":"2018-04-20T19:24:48"}]
[{"$f":"$A833+Planning!$D$2","v":"2018-04-21T19:24:48"}]
[{"$f":"$A834+Planning!$D$2","v":"2018-04-22T19:24:48"}]
[{"$f":"$A835+Planning!$D$2","v":"2018-04-23T19:24:48"}]
[{"$f":"$A836+Planning!$D$2","v":"2018-04-24T19:24:48"}]
[{"$f":"$A837+Planning!$D$2","v":"2018-04-25T19:24:48"}]
[{"$f":"$A838+Planning!$D$2","v":"2018-04-26T19:24:48"}]
[{"$f":"$A839+Planning!$D$2","v":"2018-04-27T19:24:48"}]
[{"$f":"$A840+Planning!$D$2","v":"2018-04-28T19:24:48"}]
[{"$f":"$A841+Planning!$D$2","v":"2018-04-29T19:24:48"}]
[{"$f":"$A842+Planning!$D$2","v":"2018-04-30T19:24:48"}]
[{"$f":"$A843+Planning!$D$2","v":"2018-05-01T19:24:48"}]
[{"$f":"$A844+Planning!$D$2","v":"2018-05-02T19:24:48"}]
[{"$f":"$A845+Planning!$D$2","v":"2018-05-03T19:24:48"}]
[{"$f":"$A846+Planning!$D$2","v":"2018-05-04T19:24:48"}]
[{"$f":"$A847+Planning!$D$2","v":"2018-05-05T19:24:48"}]
[{"$f":"$A848+Planning!$D$2","v":"2018-05-06T19:24:48"}]
[{"$f":"$A849+Planning!$D$2","v":"2018-05-07T19:24:48"}]
[{"$f":"$A850+Planning!$D$2","v":"2018-05-08T19:24:48"}]
[{"$f":"$A851+Planning!$D$2","v":"2018-05-09T19:24:48"}]
[{"$f":"$A852+Planning!$D$2","v":"2018-05-10T19:24:48"}]
[{"$f":"$A853+Planning!$D$2","v":"2018-05-11T19:24:48"}]
[{"$f":"$A854+Planning!$D$2","v":"2018-05-12T19:24:48"}]
[{"$f":"$A855+Planning!$D$2","v":"2018-05-13T19:24:48"}]
[{"$f":"$A856+Planning!$D$2","v":"2018-05-14T19:24:48"}]
[{"$f":"$A857+Planning!$D$2","v":"2018-05-15T19:24:48"}]
[{"$f":"$A858+Planning!$D$2","v":"2018-05-16T19:24:48"}]
[{"$f":"$A859+Planning!$D$2","v":"2018-05-17T19:24:48"}]
[{"$f":"$A860+Planning!$D$2","v":"2018-05-18T19:24:48"}]
[{"$f":"$A861+Planning!$D$2","v":"2018-05-19T19:24:48"}]
[{"$f":"$A862+Planning!$D$2","v":"2018-05-20T19:24:48"}]
[{"$f":"$A863+Planning!$D$2","v":"2018-05-21T19:24:48"}]
[{"$f":"$A864+Planning!$D$2","v":"2018-05-22T19:24:48"}]
[{"$f":"$A865+Planning!$D$2","v":"2018-05-23T19:24:48"}]
[{"$f":"$A866+Planning!$D$2","v":"2018-05-24T19:24:48"}]
[{"$f":"$A867+Planning!$D$2","v":"2018-05-25T19:24:48"}]
[{"$f":"$A868+Planning!$D$2","v":"2018-05-26T19:24:48"}]
[{"$f":"$A869+Planning!$D$2","v":"2018-05-27T19:24:48"}]
[{"$f":"$A870+Planning!$D$2","v":"2018-05-28T19:24:48"}]
[{"$f":"$A871+Planning!$D$2","v":"2018-05-29T19:24:48"}]
[{"$f":"$A872+Planning!$D$2","v":"2018-05-30T19:24:48"}]
[{"$f":"$A873+Planning!$D$2","v":"2018-05-31T19:24:48"}]
[{"$f":"$A874+Planning!$D$2","v":"2018-06-01T19:24:48"}]
[{"$f":"$A875+Planning!$D$2","v":"2018-06-02T19:24:48"}]
[{"$f":"$A876+Planning!$D$2","v":"2018-06-03T19:24:48"}]
[{"$f":"$A877+Planning!$D$2","v":"2018-06-04T19:24:48"}]
[{"$f":"$A878+Planning!$D$2","v":"2018-06-05T19:24:48"}]
[{"$f":"$A879+Planning!$D$2","v":"2018-06-06T19:24:48"}]
[{"$f":"$A880+Planning!$D$2","v":"2018-06-07T19:24:48"}]
[{"$f":"$A881+Planning!$D$2","v":"2018-06-08T19:24:48"}]
[{"$f":"$A882+Planning!$D$2","v":"2018-06-09T19:24:48"}]
[{"$f":"$A883+Planning!$D$2","v":"2018-06-10T19:24:48"}]
[{"$f":"$A884+Planning!$D$2","v":"2018-06-11T19:24:48"}]
[{"$f":"$A885+Planning!$D$2","v":"2018-06-12T19:24:48"}]
[{"$f":"$A886+Planning!$D$2","v":"2018-06-13T19:24:48"}]
[{"$f":"$A887+Planning!$D$2","v":"2018-06-14T19:24:48"}]
[{"$f":"$A888+Planning!$D$2","v":"2018-06-15T19:24:48"}]
[{"$f":"$A889+Planning!$D$2","v":"2018-06-16T19:24:48"}]
[{"$f":"$A890+Planning!$D$2","v":"2018-06-17T19:24:48"}]
[{"$f":"$A891+Planning!$D$2","v":"2018-06-18T19:24:48"}]
[{"$f":"$A892+Planning!$D$2","v":"2018-06-19T19:24:48"}]
[{"$f":"$A893+Planning!$D$2","v":"2018-06-20T19:24:48"}]
[{"$f":"$A894+Planning!$D$2","v":"2018-06-21T19:24:48"}]
[{"$f":"$A895+Planning!$D$2","v":"2018-06-22T19:24:48"}]
[{"$f":"$A896+Planning!$D$2","v":"2018-06-23T19:24:48"}]
[{"$f":"$A897+Planning!$D$2","v":"2018-06-24T19:24:48"}]
[{"$f":"$A898+Planning!$D$2","v":"2018-06-25T19:24:48"}]
[{"$f":"$A899+Planning!$D$2","v":"2018-06-26T19:24:48"}]
[{"$f":"$A900+Planning!$D$2","v":"2018-06-27T19:24:48"}]
[{"$f":"$A901+Planning!$D$2","v":"2018-06-28T19:24:48"}]
[{"$f":"$A902+Planning!$D$2","v":"2018-06-29T19:24:48"}]
[{"$f":"$A903+Planning!$D$2","v":"2018-06-30T19:24:48"}]
[{"$f":"$A904+Planning!$D$2","v":"2018-07-01T19:24:48"}]
[{"$f":"$A905+Planning!$D$2","v":"2018-07-02T19:24:48"}]
[{"$f":"$A906+Planning!$D$2","v":"2018-07-03T19:24:48"}]
[{"$f":"$A907+Planning!$D$2","v":"2018-07-04T19:24:48"}]
[{"$f":"$A908+Planning!$D$2","v":"2018-07-05T19:24:48"}]
[{"$f":"$A909+Planning!$D$2","v":"2018-07-06T19:24:48"}]
[{"$f":"$A910+Planning!$D$2","v":"2018-07-07T19:24:48"}]
[{"$f":"$A911+Planning!$D$2","v":"2018-07-08T19:24:48"}]
[{"$f":"$A912+Planning!$D$2","v":"2018-07-09T19:24:48"}]
[{"$f":"$A913+Planning!$D$2","v":"2018-07-10T19:24:48"}]
[{"$f":"$A914+Planning!$D$2","v":"2018-07-11T19:24:48"}]
[{"$f":"$A915+Planning!$D$2","v":"2018-07-12T19:24:48"}]
[{"$f":"$A916+Planning!$D$2","v":"2018-07-13T19:24:48"}]
[{"$f":"$A917+Planning!$D$2","v":"2018-07-14T19:24:48"}]
[{"$f":"$A918+Planning!$D$2","v":"2018-07-15T19:24:48"}]
[{"$f":"$A919+Planning!$D$2","v":"2018-07-16T19:24:48"}]
[{"$f":"$A920+Planning!$D$2","v":"2018-07-17T19:24:48"}]
[{"$f":"$A921+Planning!$D$2","v":"2018-07-18T19:24:48"}]
[{"$f":"$A922+Planning!$D$2","v":"2018-07-19T19:24:48"}]
[{"$f":"$A923+Planning!$D$2","v":"2018-07-20T19:24:48"}]
[{"$f":"$A924+Planning!$D$2","v":"2018-07-21T19:24:48"}]
[{"$f":"$A925+Planning!$D$2","v":"2018-07-22T19:24:48"}]
[{"$f":"$A926+Planning!$D$2","v":"2018-07-23T19:24:48"}]
[{"$f":"$A927+Planning!$D$2","v":"2018-07-24T19:24:48"}]
[{"$f":"$A928+Planning!$D$2","v":"2018-07-25T19:24:48"}]
[{"$f":"$A929+Planning!$D$2","v":"2018-07-26T19:24:48"}]
[{"$f":"$A930+Planning!$D$2","v":"2018-07-27T19:24:48"}]
[{"$f":"$A931+Planning!$D$2","v":"2018-07-28T19:24:48"}]
[{"$f":"$A932+Planning!$D$2","v":"2018-07-29T19:24:48"}]
[{"$f":"$A933+Planning!$D$2","v":"2018-07-30T19:24:48"}]
[{"$f":"$A934+Planning!$D$2","v":"2018-07-31T19:24:48"}]
[{"$f":"$A935+Planning!$D$2","v":"2018-08-01T19:24:48"}]
[{"$f":"$A936+Planning!$D$2","v":"2018-08-02T19:24:48"}]
[{"$f":"$A937+Planning!$D$2","v":"2018-08-03T19:24:48"}]
[{"$f":"$A938+Planning!$D$2","v":"2018-08-04T19:24:48"}]
[{"$f":"$A939+Planning!$D$2","v":"2018-08-05T19:24:48"}]
[{"$f":"$A940+Planning!$D$2","v":"2018-08-06T19:24:48"}]
[{"$f":"$A941+Planning!$D$2","v":"2018-08-07T19:24:48"}]
[{"$f":"$A942+Planning!$D$2","v":"2018-08-08T19:24:48"}]
[{"$f":"$A943+Planning!$D$2","v":"2018-08-09T19:24:48"}]
[{"$f":"$A944+Planning!$D$2","v":"2018-08-10T19:24:48"}]
[{"$f":"$A945+Planning!$D$2","v":"2018-08-11T19:24:48"}]
[{"$f":"$A946+Planning!$D$2","v":"2018-08-12T19:24:48"}]
[{"$f":"$A947+Planning!$D$2","v":"2018-08-13T19:24:48"}]
[{"$f":"$A948+Planning!$D$2","v":"2018-08-14T19:24:48"}]
[{"$f":"$A949+Planning!$D$2","v":"2018-08-15T19:24:48"}]
[{"$f":"$A950+Planning!$D$2","v":"2018-08-16T19:24:48"}]
[{"$f":"$A951+Planning!$D$2","v":"2018-08-17T19:24:48"}]
[{"$f":"$A952+Planning!$D$2","v":"2018-08-18T19:24:48"}]
[{"$f":"$A953+Planning!$D$2","v":"2018-08-19T19:24:48"}]
[{"$f":"$A954+Planning!$D$2","v":"2018-08-20T19:24:48"}]
[{"$f":"$A955+Planning!$D$2","v":"2018-08-21T19:24:48"}]
[{"$f":"$A956+Planning!$D$2","v":"2018-08-22T19:24:48"}]
[{"$f":"$A957+Planning!$D$2","v":"2018-08-23T19:24:48"}]
[{"$f":"$A958+Planning!$D$2","v":"2018-08-24T19:24:48"}]
[{"$f":"$A959+Planning!$D$2","v":"2018-08-25T19:24:48"}]
[{"$f":"$A960+Planning!$D$2","v":"2018-08-26T19:24:48"}]
[{"$f":"$A961+Planning!$D$2","v":"2018-08-27T19:24:48"}]
[{"$f":"$A962+Planning!$D$2","v":"2018-08-28T19:24:48"}]
[{"$f":"$A963+Planning!$D$2","v":"2018-08-29T19:24:48"}]
[{"$f":"$A964+Planning!$D$2","v":"2018-08-30T19:24:48"}]
[{"$f":"$A965+Planning!$D$2","v":"2018-08-31T19:24:48"}]
[{"$f":"$A966+Planning!$D$2","v":"2018-09-01T19:24:48"}]
[{"$f":"$A967+Planning!$D$2","v":"2018-09-02T19:24:48"}]
[{"$f":"$A968+Planning!$D$2","v":"2018-09-03T19:24:48"}]
[{"$f":"$A969+Planning!$D$2","v":"2018-09-04T19:24:48"}]
[{"$f":"$A970+Planning!$D$2","v":"2018-09-05T19:24:48"}]
[{"$f":"$A971+Planning!$D$2","v":"2018-09-06T19:24:48"}]
[{"$f":"$A972+Planning!$D$2","v":"2018-09-07T19:24:48"}]
[{"$f":"$A973+Planning!$D$2","v":"2018-09-08T19:24:48"}]
[{"$f":"$A974+Planning!$D$2","v":"2018-09-09T19:24:48"}]
[{"$f":"$A975+Planning!$D$2","v":"2018-09-10T19:24:48"}]
[{"$f":"$A976+Planning!$D$2","v":"2018-09-11T19:24:48"}]
[{"$f":"$A977+Planning!$D$2","v":"2018-09-12T19:24:48"}]
[{"$f":"$A978+Planning!$D$2","v":"2018-09-13T19:24:48"}]
[{"$f":"$A979+Planning!$D$2","v":"2018-09-14T19:24:48"}]
[{"$f":"$A980+Planning!$D$2","v":"2018-09-15T19:24:48"}]
[{"$f":"$A981+Planning!$D$2","v":"2018-09-16T19:24:48"}]
[{"$f":"$A982+Planning!$D$2","v":"2018-09-17T19:24:48"}]
[{"$f":"$A983+Planning!$D$2","v":"2018-09-18T19:24:48"}]
[{"$f":"$A984+Planning!$D$2","v":"2018-09-19T19:24:48"}]
[{"$f":"$A985+Planning!$D$2","v":"2018-09-20T19:24:48"}]
[{"$f":"$A986+Planning!$D$2","v":"2018-09-21T19:24:48"}]
[{"$f":"$A987+Planning!$D$2","v":"2018-09-22T19:24:48"}]
[{"$f":"$A988+Planning!$D$2","v":"2018-09-23T19:24:48"}]
[{"$f":"$A989+Planning!$D$2","v":"2018-09-24T19:24:48"}]
[{"$f":"$A990+Planning!$D$2","v":"2018-09-25T19:24:48"}]
[{"$f":"$A991+Planning!$D$2","v":"2018-09-26T19:24:48"}]
[{"$f":"$A992+Planning!$D$2","v":"2018-09-27T19:24:48"}]
[{"$f":"$A993+Planning!$D$2","v":"2018-09-28T19:24:48"}]
[{"$f":"$A994+Planning!$D$2","v":"2018-09-29T19:24:48"}]
[{"$f":"$A995+Planning!$D$2","v":"2018-09-30T19:24:48"}]
[{"$f":"$A996+Planning!$D$2","v":"2018-10-01T19:24:48"}]
[{"$f":"$A997+Planning!$D$2","v":"2018-10-02T19:24:48"}]
[{"$f":"$A998+Planning!$D$2","v":"2018-10-03T19:24:48"}]
[{"$f":"$A999+Planning!$D$2","v":"2018-10-04T19:24:48"}]

{"sheet":"Traduction","index":16,"n_rows":269,"n_cols":2,"rows_kept":269,"cut":false,"hidden":true,"merged":[[0,0,0,1]]}
["Translation"]
["Français - FR","English - EN"]
["% Réalisé","% Complete"]
["% Réalisé (au-delà du planifié)","% Complete (beyond plan)"]
["=> Temps par Ouvrier :","=> Time per Builder:"]
["1 heure","1 hour"]
["1 jour","1 day"]
["1 mois","1 month"]
["1 semaine","1 week"]
["16 heures","16 hours"]
["2 heures","2 hours"]
["2 jours","2 days"]
["3 jours","3 days"]
["3.a. Saisir le nombre de Bâtiments que vous avez actuellement avec leurs levels correspondants\n3.b. Saisir le level actuel de vos améliorations de Sorts/Troupes Normales/Troupes Noires\n3.c. Saisir le level actuel de vos Héros","3.a. Write down the number of Buildings you currently have with their corresponding levels\n3.b. Write down the current level of your Spells/Normals Troops/Dark Troops upgrades\n3.c. Write down the current level of your Heroes"]
["4 heures","4 hours"]
["8 heures","8 hours"]
["À Faire","TO DO"]
["Actuel","Current"]
["Actuel +","Current +"]
["Affichage Temps","Time Display"]
["Amélioration max. atteinte","Max. upgrade reached"]
["Amélioration non disponible","Upgrade not available"]
["Améliorations","Upgrades"]
["Améliorations de Sorts","Spells Upgrades"]
["Améliorations de Sorts (Changements)","Spells Upgrades (Changes)"]
["Améliorations de Sorts (Disponibles et LVL Max)","Spells Upgrades (Available & Max LVL)"]
["Améliorations de Troupes","Normal Troops Upgrades"]
["Améliorations de Troupes Noires","Dark Troops Upgrades"]
["Améliorations de Troupes Noires (Changements)","Dark Troops Upgrades (Changes)"]
["Améliorations de Troupes Noires (Disponibles et LVL Max)","Dark Troops Upgrades (Available & Max LVL)"]
["Améliorations de Troupes Normales (Changements)","Normal Troops Upgrades (Changes)"]
["Améliorations de Troupes Normales (Disponibles & LVL Max)","Normal Troops Upgrades (Available & Max LVL)"]
["Améliorations de Troupes/Sorts :","Troops/Spells Up.:"]
["Archer","Archer"]
["Arc-X","X-Bow"]
["Attaque","Attack"]
["Attaque / Défense","Attack / Defense"]
["Ballon","Balloon"]
["Barbare","Barbarian"]
["Bâtiment","Building"]
["Bâtiment non disponible","Building not available"]
["Bâtiments : ","Buildings: "]
["Bâtiments Autres","Other Buildings"]
["Bâtiments Autres (Changements)","Other Buildings (Changes)"]
["Bâtiments Autres (Disponibles et LVL Max)","Other Buildings (Available & Max LVL)"]
["Bâtiments d'Amée (Changements)","Army Buildings (Changes)"]
["Bâtiments d'Amée (Disponibles et LVL Max)","Army Buildings (Available & Max LVL)"]
["Bâtiments d'Armée","Army Buildings"]
["Bâtiments de Défense (Changements)","Defensive Buildings (Changes)"]
["Bâtiments de Défense (Disponibles et LVL Max)","Defensive Buildings (Available & Max LVL)"]
["Bâtiments de Ressources","Resource Buildings"]
["Bâtiments de Ressources (Changements)","Resource Buildings (Changes)"]
["Bâtiments de Ressources (Disponibles et LVL Max)","Resource Buildings (Available & Max LVL)"]
["Bâtiments Défensifs","Defensive Buildings"]
["Besoins d'Elixir","Elixir needs"]
["Besoins d'Elixir Noir","Dark Elixir needs"]
["Besoins d'Or\n(sans remparts)","Gold needs\n(without walls)"]
["Bombe","Bomb"]
["Bombe aérienne","Air Bomb"]
["Bombe géante","Giant Bomb"]
["Bonus de Ligue","League Bonus"]
["Bonus de Trophées","Trophies Bonus"]
["Bonus d'Élixir","Elixir Bonus"]
["Bonus d'Élixir Noir","Dark Elixir Bonus"]
["Bonus d'Or","Gold Bonus"]
["Calendrier","Calendar"]
["Camp Militaire","Army Camp"]
["Camp Militaire - Capacité Totale","Army Camp - Total Capacity"]
["Camp Militaire\nCapacité Totale","Army Camp\nTotal Capacity"]
["Canon","Cannon"]
["Capacité","Capacity"]
["Capacité - Bâtiments","Capacity - Buildings"]
["Caserne","Barracks"]
["Caserne n°1 - NB","Barracks #1 - NB"]
["Caserne n°3 - NB","Barracks #3 - NB"]
["Caserne n°4 - NB","Barracks #4 - NB"]
["Caserne Noire","Dark Barracks"]
["Caserne Noire n°1 - NB","Dark Barracks #1 - NB"]
["Caserne Noire n°2 - NB","Dark Barracks #2 - NB"]
["Caserne non disponible\n(ou pas de Laboratoire)","Barracks not available\n(or no Laboratory)"]
["Caserne° 2 - NB","Barracks #2 - NB"]
["Cellule orange :","Orange Cell:"]
["Cellule rouge :","Red cell:"]
["Cellule verte :","Green cell:"]
["Champs","Fields"]
["Château de Clan","Clan Castle"]
["Chevaucheur de Cochon","Hog Rider"]
["Classement","Rank"]
["Colonne marron :","Brown cell:"]
["Colonne orange :","Orange column:"]
["Combat - Gains","Raiding - Earnings"]
["Combat - Nombre de Ressources Disponibles","Raiding - Available Amount of Ressources"]
["Combat - Nombre Total de Ressources","Raiding - Total Amount of Ressources"]
["Combat - Profits","Raiding - Profits"]
["Construction / Amélioration","Construction / Upgrade"]
["Coût","Cost"]
["Coût Total","Total Cost"]
["Coûts - Améliorations de Sorts","Costs - Spells Upgrades"]
["Coûts - Améliorations de Troupes Noires","Costs - Dark Troops Upgrades"]
["Coûts - Améliroations de Troupes Normales","Costs - Normal Troops Upgrades"]
["Coûts - Bâtiments Autres","Costs - Other Buildings"]
["Coûts - Bâtiments d'Armée","Costs - Army Buildings"]
["Coûts - Bâtiments de Défense","Costs - Defensive Buildings"]
["Coûts - Bâtiments de Ressources","Costs - Resource Buildings"]
["Coûts - Formation de Troupes Noires","Costs - Dark Troops Training"]
["Coûts - Formation de Troupes Normales","Costs - Normal Troops Training"]
["Coûts - Héros","Costs - Heroes"]
["Coûts - Multijoueur","Costs - Multiplayer"]
["Coûts - Pièges Défensifs","Costs - Traps"]
["Création de Sorts","Spells Creation"]
["Créer Planning","Create Planning"]
["Date","Date"]
["Date de Départ","Start Date"]
["Début Planifiée","Plan Start"]
["Début Réel","Actual Start"]
["Défense","Defense"]
["Défense Antiaérienne","Air Defense"]
["Description","Description"]
["Différence de Trophées","Trophies Difference"]
["Différence LVL HdV","TH LVL Difference"]
["Dragon","Dragon"]
["Durée Planifée (jours)","Plan Duration (days)"]
["Durée Réelle","Actual Duration"]
["Élixir","Elixir"]
["Élixir Noir","Dark Elixir"]
["Élixir Noir Total :","Total Dark Elixir:"]
["Élixir Total :","Total Elixir:"]
["Erreur - Bâtiment\nMax. total atteint","Error - Building\nTotal max. reach"]
["Erreur - Camp Militaire\nMax. total atteint","Error - Army Camp\nTotal max. reach"]
["Erreur - Caserne\nMax. total atteint","Error - Barracks\nTotal max. reach"]
["Erreur - Pas suffisament d'Ouvriers","Error - Not enought Builders"]
["Erreur\nMax. total atteint","Error\nTotal max. reach"]
["Espace","Space"]
["Espace Max","Max Space"]
["Espace Total","Total Space"]
["Extracteur d'Élixir","Elixir Collector"]
["Foreuse d'Élixir Noir","Dark Elixir Drill"]
["Formation de Troupes Noires","Dark Troops Training"]
["Formation de Troupes Normales","Normal Troops Training"]
["Gain Maximum","Maximum Gain"]
["Gains","Earnings"]
["Géant","Giant"]
["Gobelin","Goblin"]
["Golem","Golem"]
["Guérisseuse","Healer"]
["h/m/s","h/m/s"]
["Héros","Hero"]
["Héros","Heroes"]
["Héros (Changements)","Heroes (Changes)"]
["Héros (Disponibles & LVL Max)","Heroes (Available & Max LVL)"]
["Héros : ","Heroes: "]
["heures","hours"]
["Hôtel de Ville","Town Hall"]
["Hôtel de Ville - Élixir","Town Hall - Elixir"]
["Hôtel de Ville - Or","Town Hall - Gold"]
["hrs","hrs"]
["INSTRUCTIONS:\n1. LVL HdV : Indiquer le level de votre Hôtel de Ville (1-10)\n\n2. Ouvriers : Indiquer le nombre d'ouvriers que vous avez (1-5)","INSTRUCTIONS:\n1. TH LVL: Indicate the level of your Town Hall (1-10)\n\n2. Builders: Indicate the number of Builders you have (1-5)"]
["j/h/m","d/h/m"]
["Journal des Modifications","ChangeLog"]
["jours","days"]
["Laboratoire","Laboratory"]
["Laboratoire - NB","Laboratory - NB"]
["Langue","Language"]
["Légende","Legend"]
["Ligne jaune :","Yellow line:"]
["Loots - Gains Possibles vs HdV LVL ","Loots - Possible Earnings vs TH LVL "]
["Loots - Pertes Possibles vs HdV LVL ","Loots - Possible Losses vs TH LVL "]
["LVL","LVL"]
["LVL HdV","TH LVL"]
["LVL HdV Opposant","Opponent TH LVL"]
["LVL Max","Max LVL"]
["LVL Usine de Sorts","Spell Factory\nLVL"]
["LVL\nCaserne n°1","Barracks #1\nLVL"]
["LVL\nCaserne n°2","Barracks #2\nLVL"]
["LVL\nCaserne n°3","Barracks #3\nLVL"]
["LVL\nCaserne n°4","Barracks #4\nLVL"]
["LVL\nCaserne Noire n°1","Dark Barracks #1\nLVL"]
["LVL\nCaserne Noire n°2","Dark Barracks #2\nLVL"]
["Mine d'Or","Gold Mine"]
["Mines/Extracteurs/Foreuses","Mines/Collectors/Drills"]
["mins","mins"]
["minutes","minutes"]
["mois","months"]
["Molosse de lave","Lava Hound"]
["Montant","Amount"]
["Mortier","Mortar"]
["Multiplicateur de Loot","Loot Multiplier"]
["NB Caserne","NB Barracks"]
["NB Caserne Noire","NB Dark Barracks"]
["Nom de Fichier","Name File"]
["Or","Gold"]
["Or Total :","Total Gold:"]
["Ouvriers","Builders"]
["Ouvriers disponibles","Builders available"]
["P.E.K.K.A","P.E.K.K.A"]
["Pas (jour)","Step (day)"]
["Période","Period"]
["Période Sélectionnée","Period Highlight"]
["Piège à ressort","Spring Trap"]
["Piège squelettique","Skeleton Trap"]
["Pièges (Changements)","Traps (Changes)"]
["Pièges (Disponibles)","Traps (Available)"]
["Pièges Défensifs","Traps"]
["Planifié","Plan"]
["Planning","Planning"]
["Production","Production"]
["Production / heure","Production / hour"]
["Production / période","Production / period"]
["Propulseur d'air","Air Sweeper"]
["Réel","Actual"]
["Réel (au-delà du planifié)","Actual (beyond plan)"]
["Reine des Archers","Archer Queen"]
["Réinitialiser","Reset"]
["Rempart","Wall"]
["Réserve d'Or","Gold Storage"]
["Réservoir d'Élixir","Elixir Storage"]
["Réservoir d'Élixir Noir","Dark Elixir Storage"]
["Ressources Nécessaires","Required Resources"]
["Roi des Barbares","Barbarian King"]
["Sapeur","Wall Breaker"]
["secondes","seconds"]
["Serviteur","Minion"]
["Sorcier","Wizard"]
["Sorcière","Witch"]
["Sort","Spell"]
["Sort de Foudre","Lightning Spell"]
["Sort de Gel","Freeze Spell"]
["Sort de Guérison","Healing Spell"]
["Sort de Hâte","Haste Spell"]
["Sort de Poison","Poison Spell"]
["Sort de Rage","Rage Spell"]
["Sort de Saut","Jump Spell"]
["Sort de Séisme","Earthquake Spell"]
["Stockage Max","Max Stockable"]
["Stockages","Storages"]
["Tableaux récapitulatifs","Summary Tables"]
["Téléchargement","Download"]
["Temps","Time"]
["Temps pour obtenir besoins","Time to reach needs"]
["Temps Total","Total Time"]
["Temps Total :","Total Time:"]
["Tesla Camouflée","Hidden Tesla"]
["Tête chercheuse","Seeking Air Mine"]
["Total","Total"]
["Tour d'Archers","Archer Tower"]
["Tour de l'Enfer","Inferno Tower"]
["Tour de Sorciers","Wizard Tower"]
["Trophées","Trophies"]
["Troupe Noire","Dark Troop"]
["Troupe Normale","Normal Troop"]
["Troupe/Sort non disponible","Troop/Spell not available"]
["Type","Type"]
["Up.","Up."]
["Usine de Sorts","Spell Factory"]
["Usine de Sorts Noirs","  Dark Spell Factory"]
["Valeur du Village","Town Value"]
["Valeurs - Bâtiments Autres","Values - Other Buildings"]
["Valeurs - Bâtiments d'Armée","Values - Army Buildings"]
["Valeurs - Bâtiments de Défense","Values - Defensive Buildings"]
["Valeurs - Bâtiments de Ressources","Values - Resource Buildings"]
["Valeurs - Héros","Values - Heroes"]
["Valeurs - Pièges Défensifs","Values - Traps"]
["Valeurs - Sorts","Values - Spells"]
["Valeurs - Troupes Noires","Values - Dark Troops"]
["Valeurs - Troupes Normales","Values - Normal Troops"]
["Valkyrie","Valkyrie"]
["Version","Version"]
["Aigle Artilleur","Defense Aigle"]
["Grand Gardien","Grand Warden"]

{"sheet":"Paramètres - Admin","index":17,"n_rows":42,"n_cols":7,"rows_kept":42,"cut":false,"hidden":true,"merged":[]}
["+","Affichage Temps","Affichage Temps","Champs","Période","Attaque / Défense","Pas (jour)"]
[0,"secondes","secondes","mins","1 heure","Attaque",0.25]
[{"$f":"A2+1","v":1},"minutes","minutes","hrs","2 heures","Défense",0.5]
[2,"heures","heures","jours","4 heures",null,0.75]
[3,"jours","h/m/s","sec","8 heures",null,1]
[4,"mois",null,"Héros : ","12 heures"]
[5,"j/h/m",null,"Bâtiments : ","16 heures"]
[6,null,null,null,"1 jour"]
[7,null,null,null,"2 jours"]
[8,null,null,null,"3 jours"]
[9,null,null,null,"1 semaine"]
[10,null,null,null,"1 mois"]
[11]
[12]
[13]
[14]
[15]
[16]
[17]
[18]
[19]
[20]
[21]
[22]
[23]
[24]
[25]
[26]
[27]
[28]
[29]
[30]
[31]
[32]
[33]
[34]
[35]
[36]
[37]
[38]
[39]
[40]

{"sheet":"Paramètres","index":18,"n_rows":89,"n_cols":64,"rows_kept":89,"cut":false,"hidden":false,"merged":[[0,0,1,0],[0,1,0,6],[0,30,0,31],[0,13,0,23],[0,24,0,29],[0,7,0,12],[0,32,0,39],[25,60,33,61],[0,40,0,49],[0,56,0,58],[17,60,24,61],[13,60,15,60],[13,61,15,61],[5,60,7,60],[5,61,7,61],[9,60,11,60],[9,61,11,61],[0,50,0,55]]}
["+","Bâtiments de Ressources",null,null,null,null,null,"Bâtiments d'Armée",null,null,null,null,null,"Bâtiments Défensifs",null,null,null,null,null,null,null,null,null,null,"Pièges Défensifs",null,null,null,null,null,"Bâtiments Autres",null,"Améliorations de Sorts",null,null,null,null,null,null,null,"Améliorations de Troupes",null,null,null,null,null,null,null,null,null,"Améliorations de Troupes Noires",null,null,null,null,null,"Héros",null,null,null,"LVL HdV","Ouvriers","Langue","Trophées"]
[null,"Mine d'Or","Extracteur d'Élixir","Foreuse d'Élixir Noir","Réserve d'Or","Réservoir d'Élixir","Réservoir d'Élixir Noir","Caserne","Caserne Noire","Camp Militaire","Laboratoire","Usine de Sorts","Usine de Sorts Noirs","Rempart","Canon","Tour d'Archers","Mortier","Défense Antiaérienne","Tour de Sorciers","Propulseur d'air","Tesla Camouflée","Arc-X","Tour de l'Enfer","Aigle Artilleur","Bombe","Piège à ressort","Bombe géante","Bombe aérienne","Tête chercheuse","Piège squelettique","Château de Clan","Hôtel de Ville","Sort de Foudre","Sort de Guérison","Sort de Rage","Sort de Saut","Sort de Gel","Sort de Poison","Sort de Séisme","Sort de Hâte","Barbare","Archer","Géant","Gobelin","Sapeur","Ballon","Sorcier","Guérisseuse","Dragon","P.E.K.K.A","Serviteur","Chevaucheur de Cochon","Valkyrie","Golem","Sorcière","Molosse de lave","Roi des Barbares","Reine des Archers","Grand Gardien",null,1,1,"Français",100]
["Max",{"$f":"VLOOKUP($BI$2,AVAILABLE_Buildings_Resource[#All],MATCH(B$2,AVAILABLE_Buildings_Resource[#Headers],0))","v":1},{"$f":"VLOOKUP($BI$2,AVAILABLE_Buildings_Resource[#All],MATCH(C$2,AVAILABLE_Buildings_Resource[#Headers],0))","v":1},{"$f":"VLOOKUP($BI$2,AVAILABLE_Buildings_Resource[#All],MATCH(D$2,AVAILABLE_Buildings_Resource[#Headers],0))","v":0},{"$f":"VLOOKUP($BI$2,AVAILABLE_Buildings_Resource[#All],MATCH(E$2,AVAILABLE_Buildings_Resource[#Headers],0))","v":1},{"$f":"VLOOKUP($BI$2,AVAILABLE_Buildings_Resource[#All],MATCH(F$2,AVAILABLE_Buildings_Resource[#Headers],0))","v":1},{"$f":"VLOOKUP($BI$2,AVAILABLE_Buildings_Resource[#All],MATCH(G$2,AVAILABLE_Buildings_Resource[#Headers],0))","v":0},{"$f":"VLOOKUP($BI$2,AVAILABLE_Buildings_Army[#All],MATCH(H$2,AVAILABLE_Buildings_Army[#Headers],0))","v":1},{"$f":"VLOOKUP($BI$2,AVAILABLE_Buildings_Army[#All],MATCH(I$2,AVAILABLE_Buildings_Army[#Headers],0))","v":0},{"$f":"VLOOKUP($BI$2,AVAILABLE_Buildings_Army[#All],MATCH(J$2,AVAILABLE_Buildings_Army[#Headers],0))","v":1},{"$f":"VLOOKUP($BI$2,AVAILABLE_Buildings_Army[#All],MATCH(K$2,AVAILABLE_Buildings_Army[#Headers],0))","v":0},{"$f":"VLOOKUP($BI$2,AVAILABLE_Buildings_Army[#All],MATCH(L$2,AVAILABLE_Buildings_Army[#Headers],0))","v":0},{"$f":"VLOOKUP($BI$2,AVAILABLE_Buildings_Army[#All],MATCH(M$2,AVAILABLE_Buildings_Army[#Headers],0))","v":0},{"$f":"VLOOKUP($BI$2,AVAILABLE_Buildings_Defensive[#All],MATCH(N$2,AVAILABLE_Buildings_Defensive[#Headers],0))","v":0},{"$f":"VLOOKUP($BI$2,AVAILABLE_Buildings_Defensive[#All],MATCH(O$2,AVAILABLE_Buildings_Defensive[#Headers],0))","v":2},{"$f":"VLOOKUP($BI$2,AVAILABLE_Buildings_Defensive[#All],MATCH(P$2,AVAILABLE_Buildings_Defensive[#Headers],0))","v":0},{"$f":"VLOOKUP($BI$2,AVAILABLE_Buildings_Defensive[#All],MATCH(Q$2,AVAILABLE_Buildings_Defensive[#Headers],0))","v":0},{"$f":"VLOOKUP($BI$2,AVAILABLE_Buildings_Defensive[#All],MATCH(R$2,AVAILABLE_Buildings_Defensive[#Headers],0))","v":0},{"$f":"VLOOKUP($BI$2,AVAILABLE_Buildings_Defensive[#All],MATCH(S$2,AVAILABLE_Buildings_Defensive[#Headers],0))","v":0},{"$f":"VLOOKUP($BI$2,AVAILABLE_Buildings_Defensive[#All],MATCH(T$2,AVAILABLE_Buildings_Defensive[#Headers],0))","v":0},{"$f":"VLOOKUP($BI$2,AVAILABLE_Buildings_Defensive[#All],MATCH(U$2,AVAILABLE_Buildings_Defensive[#Headers],0))","v":0},{"$f":"VLOOKUP($BI$2,AVAILABLE_Buildings_Defensive[#All],MATCH(V$2,AVAILABLE_Buildings_Defensive[#Headers],0))","v":0},{"$f":"VLOOKUP($BI$2,AVAILABLE_Buildings_Defensive[#All],MATCH(W$2,AVAILABLE_Buildings_Defensive[#Headers],0))","v":0},{"$f":"VLOOKUP($BI$2,AVAILABLE_Buildings_Defensive[#All],MATCH(X$2,AVAILABLE_Buildings_Defensive[#Headers],0))","v":0},{"$f":"VLOOKUP($BI$2,AVAILABLE_Traps[#All],MATCH(Y$2,AVAILABLE_Traps[#Headers],0))","v":0},{"$f":"VLOOKUP($BI$2,AVAILABLE_Traps[#All],MATCH(Z$2,AVAILABLE_Traps[#Headers],0))","v":0},{"$f":"VLOOKUP($BI$2,AVAILABLE_Traps[#All],MATCH(AA$2,AVAILABLE_Traps[#Headers],0))","v":0},{"$f":"VLOOKUP($BI$2,AVAILABLE_Traps[#All],MATCH(AB$2,AVAILABLE_Traps[#Headers],0))","v":0},{"$f":"VLOOKUP($BI$2,AVAILABLE_Traps[#All],MATCH(AC$2,AVAILABLE_Traps[#Headers],0))","v":0},{"$f":"VLOOKUP($BI$2,AVAILABLE_Traps[#All],MATCH(AD$2,AVAILABLE_Traps[#Headers],0))","v":0},{"$f":"VLOOKUP($BI$2,AVAILABLE_Buildings_Other[#All],MATCH(AE$2,AVAILABLE_Buildings_Other[#Headers],0))","v":0},{"$f":"VLOOKUP($BI$2,AVAILABLE_Buildings_Other[#All],MATCH(AF$2,AVAILABLE_Buildings_Other[#Headers],0))","v":1},{"$f":"IF(IF(ISERROR(LOOKUP(MATCH(4,Paramètres!$L$6:$L$45,1),Paramètres!$A$6:$A$45)),0,LOOKUP(MATCH(4,Paramètres!$L$6:$L$45,1),Paramètres!$A$6:$A$45))>=1,1,0)","v":0},{"$f":"IF(IF(ISERROR(LOOKUP(MATCH(4,Paramètres!$L$6:$L$45,1),Paramètres!$A$6:$A$45)),0,LOOKUP(MATCH(4,Paramètres!$L$6:$L$45,1),Paramètres!$A$6:$A$45))>=2,1,0)","v":0},{"$f":"IF(IF(ISERROR(LOOKUP(MATCH(4,Paramètres!$L$6:$L$45,1),Paramètres!$A$6:$A$45)),0,LOOKUP(MATCH(4,Paramètres!$L$6:$L$45,1),Paramètres!$A$6:$A$45))>=3,1,0)","v":0},{"$f":"IF(IF(ISERROR(LOOKUP(MATCH(4,Paramètres!$L$6:$L$45,1),Paramètres!$A$6:$A$45)),0,LOOKUP(MATCH(4,Paramètres!$L$6:$L$45,1),Paramètres!$A$6:$A$45))>=4,1,0)","v":0},{"$f":"IF(IF(ISERROR(LOOKUP(MATCH(4,Paramètres!$L$6:$L$45,1),Paramètres!$A$6:$A$45)),0,LOOKUP(MATCH(4,Paramètres!$L$6:$L$45,1),Paramètres!$A$6:$A$45))>=4,1,0)","v":0},{"$f":"IF(IF(ISERROR(LOOKUP(MATCH(4,Paramètres!$M$6:$M$45,1),Paramètres!$A$6:$A$45)),0,LOOKUP(MATCH(4,Paramètres!$M$6:$M$45,1),Paramètres!$A$6:$A$45))>=1,1,0)","v":0},{"$f":"IF(IF(ISERROR(LOOKUP(MATCH(4,Paramètres!$M$6:$M$45,1),Paramètres!$A$6:$A$45)),0,LOOKUP(MATCH(4,Paramètres!$M$6:$M$45,1),Paramètres!$A$6:$A$45))>=2,1,0)","v":0},{"$f":"IF(IF(ISERROR(LOOKUP(MATCH(4,Paramètres!$M$6:$M$45,1),Paramètres!$A$6:$A$45)),0,LOOKUP(MATCH(4,Paramètres!$M$6:$M$45,1),Paramètres!$A$6:$A$45))>=3,1,0)","v":0},{"$f":"IF(IF(ISERROR(LOOKUP(MATCH(4,Paramètres!$H$6:$H$45,1),Paramètres!$A$6:$A$45)),0,LOOKUP(MATCH(4,Paramètres!$H$6:$H$45,1),Paramètres!$A$6:$A$45))>=1,1,0)","v":0},{"$f":"IF(IF(ISERROR(LOOKUP(MATCH(4,Paramètres!$H$6:$H$45,1),Paramètres!$A$6:$A$45)),0,LOOKUP(MATCH(4,Paramètres!$H$6:$H$45,1),Paramètres!$A$6:$A$45))>=2,1,0)","v":0},{"$f":"IF(IF(ISERROR(LOOKUP(MATCH(4,Paramètres!$H$6:$H$45,1),Paramètres!$A$6:$A$45)),0,LOOKUP(MATCH(4,Paramètres!$H$6:$H$45,1),Paramètres!$A$6:$A$45))>=3,1,0)","v":0},{"$f":"IF(IF(ISERROR(LOOKUP(MATCH(4,Paramètres!$H$6:$H$45,1),Paramètres!$A$6:$A$45)),0,LOOKUP(MATCH(4,Paramètres!$H$6:$H$45,1),Paramètres!$A$6:$A$45))>=4,1,0)","v":0},{"$f":"IF(IF(ISERROR(LOOKUP(MATCH(4,Paramètres!$H$6:$H$45,1),Paramètres!$A$6:$A$45)),0,LOOKUP(MATCH(4,Paramètres!$H$6:$H$45,1),Paramètres!$A$6:$A$45))>=5,1,0)","v":0},{"$f":"IF(IF(ISERROR(LOOKUP(MATCH(4,Paramètres!$H$6:$H$45,1),Paramètres!$A$6:$A$45)),0,LOOKUP(MATCH(4,Paramètres!$H$6:$H$45,1),Paramètres!$A$6:$A$45))>=6,1,0)","v":0},{"$f":"IF(IF(ISERROR(LOOKUP(MATCH(4,Paramètres!$H$6:$H$45,1),Paramètres!$A$6:$A$45)),0,LOOKUP(MATCH(4,Paramètres!$H$6:$H$45,1),Paramètres!$A$6:$A$45))>=7,1,0)","v":0},{"$f":"IF(IF(ISERROR(LOOKUP(MATCH(4,Paramètres!$H$6:$H$45,1),Paramètres!$A$6:$A$45)),0,LOOKUP(MATCH(4,Paramètres!$H$6:$H$45,1),Paramètres!$A$6:$A$45))>=8,1,0)","v":0},{"$f":"IF(IF(ISERROR(LOOKUP(MATCH(4,Paramètres!$H$6:$H$45,1),Paramètres!$A$6:$A$45)),0,LOOKUP(MATCH(4,Paramètres!$H$6:$H$45,1),Paramètres!$A$6:$A$45))>=9,1,0)","v":0},{"$f":"IF(IF(ISERROR(LOOKUP(MATCH(4,Paramètres!$H$6:$H$45,1),Paramètres!$A$6:$A$45)),0,LOOKUP(MATCH(4,Paramètres!$H$6:$H$45,1),Paramètres!$A$6:$A$45))>=10,1,0)","v":0},{"$f":"IF(IF(ISERROR(LOOKUP(MATCH(4,Paramètres!$I$6:$I$45,1),Paramètres!$A$6:$A$45)),0,LOOKUP(MATCH(4,Paramètres!$I$6:$I$45,1),Paramètres!$A$6:$A$45))>=1,1,0)","v":0},{"$f":"IF(IF(ISERROR(LOOKUP(MATCH(4,Paramètres!$I$6:$I$45,1),Paramètres!$A$6:$A$45)),0,LOOKUP(MATCH(4,Paramètres!$I$6:$I$45,1),Paramètres!$A$6:$A$45))>=2,1,0)","v":0},{"$f":"IF(IF(ISERROR(LOOKUP(MATCH(4,Paramètres!$I$6:$I$45,1),Paramètres!$A$6:$A$45)),0,LOOKUP(MATCH(4,Paramètres!$I$6:$I$45,1),Paramètres!$A$6:$A$45))>=3,1,0)","v":0},{"$f":"IF(IF(ISERROR(LOOKUP(MATCH(4,Paramètres!$I$6:$I$45,1),Paramètres!$A$6:$A$45)),0,LOOKUP(MATCH(4,Paramètres!$I$6:$I$45,1),Paramètres!$A$6:$A$45))>=4,1,0)","v":0},{"$f":"IF(IF(ISERROR(LOOKUP(MATCH(4,Paramètres!$I$6:$I$45,1),Paramètres!$A$6:$A$45)),0,LOOKUP(MATCH(4,Paramètres!$I$6:$I$45,1),Paramètres!$A$6:$A$45))>=5,1,0)","v":0},{"$f":"IF(IF(ISERROR(LOOKUP(MATCH(4,Paramètres!$I$6:$I$45,1),Paramètres!$A$6:$A$45)),0,LOOKUP(MATCH(4,Paramètres!$I$6:$I$45,1),Paramètres!$A$6:$A$45))>=6,1,0)","v":0},{"$f":"VLOOKUP($BI$2,AVAILABLE_Heroes[#All],MATCH(BE$2,AVAILABLE_Heroes[#Headers],0))","v":0},{"$f":"VLOOKUP($BI$2,AVAILABLE_Heroes[#All],MATCH(BF$2,AVAILABLE_Heroes[#Headers],0))","v":0},{"$f":"VLOOKUP($BI$2,AVAILABLE_Heroes[#All],MATCH(BG$2,AVAILABLE_Heroes[#Headers],0))","v":0}]
["À Faire",{"$f":"B3-B46","v":1},1,0,1,1,0,1,0,1,0,0,0,0,2,0,{"$f":"Q3-Q46","v":0},{"$f":"R3-R46","v":0},0,{"$f":"T3-T46","v":0},0,0,0,{"$f":"X3-X46","v":0},0,0,0,0,0,0,0,0,{"$f":"AG3-AG46","v":0},0,0,{"$f":"AJ3-AJ46","v":0},0,0,0,{"$f":"AN3-AN46","v":0},0,0,0,0,0,0,0,0,0,{"$f":"AX3-AX46","v":0},0,0,{"$f":"BA3-BA46","v":0},0,0,{"$f":"BD3-BD46","v":0},{"$f":"BE3-BE46","v":0},{"$f":"BF3-BF46","v":0},{"$f":"BG3-BG46","v":0}]
["Max +",{"$f":"VLOOKUP($BI$2,AVAILABLE_Buildings_Resource[#All],MATCH(B$2,AVAILABLE_Buildings_Resource[#Headers],0)+1)","v":2},{"$f":"VLOOKUP($BI$2,AVAILABLE_Buildings_Resource[#All],MATCH(C$2,AVAILABLE_Buildings_Resource[#Headers],0)+1)","v":2},{"$f":"VLOOKUP($BI$2,AVAILABLE_Buildings_Resource[#All],MATCH(D$2,AVAILABLE_Buildings_Resource[#Headers],0)+1)","v":0},{"$f":"VLOOKUP($BI$2,AVAILABLE_Buildings_Resource[#All],MATCH(E$2,AVAILABLE_Buildings_Resource[#Headers],0)+1)","v":1},{"$f":"VLOOKUP($BI$2,AVAILABLE_Buildings_Resource[#All],MATCH(F$2,AVAILABLE_Buildings_Resource[#Headers],0)+1)","v":1},{"$f":"VLOOKUP($BI$2,AVAILABLE_Buildings_Resource[#All],MATCH(G$2,AVAILABLE_Buildings_Resource[#Headers],0)+1)","v":0},{"$f":"VLOOKUP($BI$2,AVAILABLE_Buildings_Army[#All],MATCH(H$2,AVAILABLE_Buildings_Army[#Headers],0)+1)","v":3},{"$f":"VLOOKUP($BI$2,AVAILABLE_Buildings_Army[#All],MATCH(I$2,AVAILABLE_Buildings_Army[#Headers],0)+1)","v":0},{"$f":"VLOOKUP($BI$2,AVAILABLE_Buildings_Army[#All],MATCH(J$2,AVAILABLE_Buildings_Army[#Headers],0)+1)","v":1},{"$f":"VLOOKUP($BI$2,AVAILABLE_Buildings_Army[#All],MATCH(K$2,AVAILABLE_Buildings_Army[#Headers],0)+1)","v":0},{"$f":"VLOOKUP($BI$2,AVAILABLE_Buildings_Army[#All],MATCH(L$2,AVAILABLE_Buildings_Army[#Headers],0)+1)","v":0},{"$f":"VLOOKUP($BI$2,AVAILABLE_Buildings_Army[#All],MATCH(M$2,AVAILABLE_Buildings_Army[#Headers],0)+1)","v":0},{"$f":"VLOOKUP($BI$2,AVAILABLE_Buildings_Defensive[#All],MATCH(N$2,AVAILABLE_Buildings_Defensive[#Headers],0)+1)","v":0},{"$f":"VLOOKUP($BI$2,AVAILABLE_Buildings_Defensive[#All],MATCH(O$2,AVAILABLE_Buildings_Defensive[#Headers],0)+1)","v":2},{"$f":"VLOOKUP($BI$2,AVAILABLE_Buildings_Defensive[#All],MATCH(P$2,AVAILABLE_Buildings_Defensive[#Headers],0)+1)","v":0},{"$f":"VLOOKUP($BI$2,AVAILABLE_Buildings_Defensive[#All],MATCH(Q$2,AVAILABLE_Buildings_Defensive[#Headers],0)+1)","v":0},{"$f":"VLOOKUP($BI$2,AVAILABLE_Buildings_Defensive[#All],MATCH(R$2,AVAILABLE_Buildings_Defensive[#Headers],0)+1)","v":0},{"$f":"VLOOKUP($BI$2,AVAILABLE_Buildings_Defensive[#All],MATCH(S$2,AVAILABLE_Buildings_Defensive[#Headers],0)+1)","v":0},{"$f":"VLOOKUP($BI$2,AVAILABLE_Buildings_Defensive[#All],MATCH(T$2,AVAILABLE_Buildings_Defensive[#Headers],0)+1)","v":0},{"$f":"VLOOKUP($BI$2,AVAILABLE_Buildings_Defensive[#All],MATCH(U$2,AVAILABLE_Buildings_Defensive[#Headers],0)+1)","v":0},{"$f":"VLOOKUP($BI$2,AVAILABLE_Buildings_Defensive[#All],MATCH(V$2,AVAILABLE_Buildings_Defensive[#Headers],0)+1)","v":0},{"$f":"VLOOKUP($BI$2,AVAILABLE_Buildings_Defensive[#All],MATCH(W$2,AVAILABLE_Buildings_Defensive[#Headers],0)+1)","v":0},{"$f":"VLOOKUP($BI$2,AVAILABLE_Buildings_Defensive[#All],MATCH(X$2,AVAILABLE_Buildings_Defensive[#Headers],0)+1)","v":0},{"$f":"VLOOKUP($BI$2,AVAILABLE_Traps[#All],MATCH(Y$2,AVAILABLE_Traps[#Headers],0)+1)","v":0},{"$f":"VLOOKUP($BI$2,AVAILABLE_Traps[#All],MATCH(Z$2,AVAILABLE_Traps[#Headers],0)+1)","v":0},{"$f":"VLOOKUP($BI$2,AVAILABLE_Traps[#All],MATCH(AA$2,AVAILABLE_Traps[#Headers],0)+1)","v":0},{"$f":"VLOOKUP($BI$2,AVAILABLE_Traps[#All],MATCH(AB$2,AVAILABLE_Traps[#Headers],0)+1)","v":0},{"$f":"VLOOKUP($BI$2,AVAILABLE_Traps[#All],MATCH(AC$2,AVAILABLE_Traps[#Headers],0)+1)","v":0},{"$f":"VLOOKUP($BI$2,AVAILABLE_Traps[#All],MATCH(AD$2,AVAILABLE_Traps[#Headers],0)+1)","v":0},{"$f":"VLOOKUP($BI$2,AVAILABLE_Buildings_Other[#All],MATCH(AE$2,AVAILABLE_Buildings_Other[#Headers],0)+1)","v":0},{"$f":"VLOOKUP($BI$2,AVAILABLE_Buildings_Other[#All],MATCH(AF$2,AVAILABLE_Buildings_Other[#Headers],0)+1)","v":2},{"$f":"VLOOKUP(IF(ISERROR(LOOKUP(MATCH(1,Paramètres!$K$6:$K$45,0),Paramètres!$A$6:$A$45)),0,LOOKUP(MATCH(1,Paramètres!$K$6:$K$45,0),Paramètres!$A$6:$A$45)),AVAILABLE_Upgrades_Spells[#All],MATCH(AG$2,AVAILABLE_Upgrades_Spells[#Headers],0)+1)","v":0},{"$f":"VLOOKUP(IF(ISERROR(LOOKUP(MATCH(1,Paramètres!$K$6:$K$45,0),Paramètres!$A$6:$A$45)),0,LOOKUP(MATCH(1,Paramètres!$K$6:$K$45,0),Paramètres!$A$6:$A$45)),AVAILABLE_Upgrades_Spells[#All],MATCH(AH$2,AVAILABLE_Upgrades_Spells[#Headers],0)+1)","v":0},{"$f":"VLOOKUP(IF(ISERROR(LOOKUP(MATCH(1,Paramètres!$K$6:$K$45,0),Paramètres!$A$6:$A$45)),0,LOOKUP(MATCH(1,Paramètres!$K$6:$K$45,0),Paramètres!$A$6:$A$45)),AVAILABLE_Upgrades_Spells[#All],MATCH(AI$2,AVAILABLE_Upgrades_Spells[#Headers],0)+1)","v":0},{"$f":"VLOOKUP(IF(ISERROR(LOOKUP(MATCH(1,Paramètres!$K$6:$K$45,0),Paramètres!$A$6:$A$45)),0,LOOKUP(MATCH(1,Paramètres!$K$6:$K$45,0),Paramètres!$A$6:$A$45)),AVAILABLE_Upgrades_Spells[#All],MATCH(AJ$2,AVAILABLE_Upgrades_Spells[#Headers],0)+1)","v":0},{"$f":"VLOOKUP(IF(ISERROR(LOOKUP(MATCH(1,Paramètres!$K$6:$K$45,0),Paramètres!$A$6:$A$45)),0,LOOKUP(MATCH(1,Paramètres!$K$6:$K$45,0),Paramètres!$A$6:$A$45)),AVAILABLE_Upgrades_Spells[#All],MATCH(AK$2,AVAILABLE_Upgrades_Spells[#Headers],0)+1)","v":0},{"$f":"VLOOKUP(IF(ISERROR(LOOKUP(MATCH(1,Paramètres!$K$6:$K$45,0),Paramètres!$A$6:$A$45)),0,LOOKUP(MATCH(1,Paramètres!$K$6:$K$45,0),Paramètres!$A$6:$A$45)),AVAILABLE_Upgrades_Dark_Spells[#All],MATCH(AL$2,AVAILABLE_Upgrades_Dark_Spells[#Headers],0)+1)","v":0},{"$f":"VLOOKUP(IF(ISERROR(LOOKUP(MATCH(1,Paramètres!$K$6:$K$45,0),Paramètres!$A$6:$A$45)),0,LOOKUP(MATCH(1,Paramètres!$K$6:$K$45,0),Paramètres!$A$6:$A$45)),AVAILABLE_Upgrades_Dark_Spells[#All],MATCH(AM$2,AVAILABLE_Upgrades_Dark_Spells[#Headers],0)+1)","v":0},{"$f":"VLOOKUP(IF(ISERROR(LOOKUP(MATCH(1,Paramètres!$K$6:$K$45,0),Paramètres!$A$6:$A$45)),0,LOOKUP(MATCH(1,Paramètres!$K$6:$K$45,0),Paramètres!$A$6:$A$45)),AVAILABLE_Upgrades_Dark_Spells[#All],MATCH(AN$2,AVAILABLE_Upgrades_Dark_Spells[#Headers],0)+1)","v":0},{"$f":"VLOOKUP(IF(ISERROR(LOOKUP(MATCH(1,Paramètres!$K$6:$K$45,0),Paramètres!$A$6:$A$45)),0,LOOKUP(MATCH(1,Paramètres!$K$6:$K$45,0),Paramètres!$A$6:$A$45)),AVAILABLE_Upgrades_Normal_Troops[#All],MATCH(AO$2,AVAILABLE_Upgrades_Normal_Troops[#Headers],0)+1)","v":0},{"$f":"VLOOKUP(IF(ISERROR(LOOKUP(MATCH(1,Paramètres!$K$6:$K$45,0),Paramètres!$A$6:$A$45)),0,LOOKUP(MATCH(1,Paramètres!$K$6:$K$45,0),Paramètres!$A$6:$A$45)),AVAILABLE_Upgrades_Normal_Troops[#All],MATCH(AP$2,AVAILABLE_Upgrades_Normal_Troops[#Headers],0)+1)","v":0},{"$f":"VLOOKUP(IF(ISERROR(LOOKUP(MATCH(1,Paramètres!$K$6:$K$45,0),Paramètres!$A$6:$A$45)),0,LOOKUP(MATCH(1,Paramètres!$K$6:$K$45,0),Paramètres!$A$6:$A$45)),AVAILABLE_Upgrades_Normal_Troops[#All],MATCH(AQ$2,AVAILABLE_Upgrades_Normal_Troops[#Headers],0)+1)","v":0},{"$f":"VLOOKUP(IF(ISERROR(LOOKUP(MATCH(1,Paramètres!$K$6:$K$45,0),Paramètres!$A$6:$A$45)),0,LOOKUP(MATCH(1,Paramètres!$K$6:$K$45,0),Paramètres!$A$6:$A$45)),AVAILABLE_Upgrades_Normal_Troops[#All],MATCH(AR$2,AVAILABLE_Upgrades_Normal_Troops[#Headers],0)+1)","v":0},{"$f":"VLOOKUP(IF(ISERROR(LOOKUP(MATCH(1,Paramètres!$K$6:$K$45,0),Paramètres!$A$6:$A$45)),0,LOOKUP(MATCH(1,Paramètres!$K$6:$K$45,0),Paramètres!$A$6:$A$45)),AVAILABLE_Upgrades_Normal_Troops[#All],MATCH(AS$2,AVAILABLE_Upgrades_Normal_Troops[#Headers],0)+1)","v":0},{"$f":"VLOOKUP(IF(ISERROR(LOOKUP(MATCH(1,Paramètres!$K$6:$K$45,0),Paramètres!$A$6:$A$45)),0,LOOKUP(MATCH(1,Paramètres!$K$6:$K$45,0),Paramètres!$A$6:$A$45)),AVAILABLE_Upgrades_Normal_Troops[#All],MATCH(AT$2,AVAILABLE_Upgrades_Normal_Troops[#Headers],0)+1)","v":0},{"$f":"VLOOKUP(IF(ISERROR(LOOKUP(MATCH(1,Paramètres!$K$6:$K$45,0),Paramètres!$A$6:$A$45)),0,LOOKUP(MATCH(1,Paramètres!$K$6:$K$45,0),Paramètres!$A$6:$A$45)),AVAILABLE_Upgrades_Normal_Troops[#All],MATCH(AU$2,AVAILABLE_Upgrades_Normal_Troops[#Headers],0)+1)","v":0},{"$f":"VLOOKUP(IF(ISERROR(LOOKUP(MATCH(1,Paramètres!$K$6:$K$45,0),Paramètres!$A$6:$A$45)),0,LOOKUP(MATCH(1,Paramètres!$K$6:$K$45,0),Paramètres!$A$6:$A$45)),AVAILABLE_Upgrades_Normal_Troops[#All],MATCH(AV$2,AVAILABLE_Upgrades_Normal_Troops[#Headers],0)+1)","v":0},{"$f":"VLOOKUP(IF(ISERROR(LOOKUP(MATCH(1,Paramètres!$K$6:$K$45,0),Paramètres!$A$6:$A$45)),0,LOOKUP(MATCH(1,Paramètres!$K$6:$K$45,0),Paramètres!$A$6:$A$45)),AVAILABLE_Upgrades_Normal_Troops[#All],MATCH(AW$2,AVAILABLE_Upgrades_Normal_Troops[#Headers],0)+1)","v":0},{"$f":"VLOOKUP(IF(ISERROR(LOOKUP(MATCH(1,Paramètres!$K$6:$K$45,0),Paramètres!$A$6:$A$45)),0,LOOKUP(MATCH(1,Paramètres!$K$6:$K$45,0),Paramètres!$A$6:$A$45)),AVAILABLE_Upgrades_Normal_Troops[#All],MATCH(AX$2,AVAILABLE_Upgrades_Normal_Troops[#Headers],0)+1)","v":0},{"$f":"VLOOKUP(IF(ISERROR(LOOKUP(MATCH(1,Paramètres!$K$6:$K$45,0),Paramètres!$A$6:$A$45)),0,LOOKUP(MATCH(1,Paramètres!$K$6:$K$45,0),Paramètres!$A$6:$A$45)),AVAILABLE_Upgrades_Dark_Troops[#All],MATCH(AY$2,AVAILABLE_Upgrades_Dark_Troops[#Headers],0)+1)","v":0},{"$f":"VLOOKUP(IF(ISERROR(LOOKUP(MATCH(1,Paramètres!$K$6:$K$45,0),Paramètres!$A$6:$A$45)),0,LOOKUP(MATCH(1,Paramètres!$K$6:$K$45,0),Paramètres!$A$6:$A$45)),AVAILABLE_Upgrades_Dark_Troops[#All],MATCH(AZ$2,AVAILABLE_Upgrades_Dark_Troops[#Headers],0)+1)","v":0},{"$f":"VLOOKUP(IF(ISERROR(LOOKUP(MATCH(1,Paramètres!$K$6:$K$45,0),Paramètres!$A$6:$A$45)),0,LOOKUP(MATCH(1,Paramètres!$K$6:$K$45,0),Paramètres!$A$6:$A$45)),AVAILABLE_Upgrades_Dark_Troops[#All],MATCH(BA$2,AVAILABLE_Upgrades_Dark_Troops[#Headers],0)+1)","v":0},{"$f":"VLOOKUP(IF(ISERROR(LOOKUP(MATCH(1,Paramètres!$K$6:$K$45,0),Paramètres!$A$6:$A$45)),0,LOOKUP(MATCH(1,Paramètres!$K$6:$K$45,0),Paramètres!$A$6:$A$45)),AVAILABLE_Upgrades_Dark_Troops[#All],MATCH(BB$2,AVAILABLE_Upgrades_Dark_Troops[#Headers],0)+1)","v":0},{"$f":"VLOOKUP(IF(ISERROR(LOOKUP(MATCH(1,Paramètres!$K$6:$K$45,0),Paramètres!$A$6:$A$45)),0,LOOKUP(MATCH(1,Paramètres!$K$6:$K$45,0),Paramètres!$A$6:$A$45)),AVAILABLE_Upgrades_Dark_Troops[#All],MATCH(BC$2,AVAILABLE_Upgrades_Dark_Troops[#Headers],0)+1)","v":0},{"$f":"VLOOKUP(IF(ISERROR(LOOKUP(MATCH(1,Paramètres!$K$6:$K$45,0),Paramètres!$A$6:$A$45)),0,LOOKUP(MATCH(1,Paramètres!$K$6:$K$45,0),Paramètres!$A$6:$A$45)),AVAILABLE_Upgrades_Dark_Troops[#All],MATCH(BD$2,AVAILABLE_Upgrades_Dark_Troops[#Headers],0)+1)","v":0},{"$f":"VLOOKUP($BI$2,AVAILABLE_Heroes[#All],MATCH(BE$2,AVAILABLE_Heroes[#Headers],0)+1)","v":0},{"$f":"VLOOKUP($BI$2,AVAILABLE_Heroes[#All],MATCH(BF$2,AVAILABLE_Heroes[#Headers],0)+1)","v":0},{"$f":"VLOOKUP($BI$2,AVAILABLE_Heroes[#All],MATCH(BG$2,AVAILABLE_Heroes[#Headers],0)+1)","v":0}]
[1,null,null,null,null,null,null,null,null,null,null,null,null,null,null,null,null,null,null,null,null,null,null,null,null,null,null,null,null,null,null,{"$f":"IF($BI$2=1,1,0)","v":1},null,null,null,null,null,null,null,null,null,null,null,null,null,null,null,null,null,null,null,null,null,null,null,null,null,null,null,null,"Cellule rouge :","Amélioration indisponible"]
[2,null,null,null,null,null,null,null,null,null,null,null,null,null,null,null,null,null,null,null,null,null,null,null,null,null,null,null,null,null,null,{"$f":"IF($BI$2=2,1,0)","v":0}]
[3,null,null,null,null,null,null,null,null,null,null,null,null,null,null,null,null,null,null,null,null,null,null,null,null,null,null,null,null,null,null,{"$f":"IF($BI$2=3,1,0)","v":0}]
[4,null,null,null,null,null,null,null,null,null,null,null,null,null,null,null,null,null,null,null,null,null,null,null,null,null,null,null,null,null,null,{"$f":"IF($BI$2=4,1,0)","v":0}]
[5,null,null,null,null,null,null,null,null,null,null,null,null,null,null,null,null,null,null,null,null,null,null,null,null,null,null,null,null,null,null,{"$f":"IF($BI$2=5,1,0)","v":0},null,null,null,null,null,null,null,null,null,null,null,null,null,null,null,null,null,null,null,null,null,null,null,null,null,null,null,null,"Cellule verte :","Amélioration max. atteinte"]
[6,null,null,null,null,null,null,null,null,null,null,null,null,null,null,null,null,null,null,null,null,null,null,null,null,null,null,null,null,null,null,{"$f":"IF($BI$2=6,1,0)","v":0}]
[7,null,null,null,null,null,null,null,null,null,null,null,null,null,null,null,null,null,null,null,null,null,null,null,null,null,null,null,null,null,null,{"$f":"IF($BI$2=7,1,0)","v":0}]
[8,null,null,null,null,null,null,null,null,null,null,null,null,null,null,null,null,null,null,null,null,null,null,null,null,null,null,null,null,null,null,{"$f":"IF($BI$2=8,1,0)","v":0}]
[9,null,null,null,null,null,null,null,null,null,null,null,null,null,null,null,null,null,null,null,null,null,null,null,null,null,null,null,null,null,null,{"$f":"IF($BI$2=9,1,0)","v":0},null,null,null,null,null,null,null,null,null,null,null,null,null,null,null,null,null,null,null,null,null,null,null,null,null,null,null,null,"Colonne orange :","Erreur\nMax. total atteint"]
[10,null,null,null,null,null,null,null,null,null,null,null,null,null,null,null,null,null,null,null,null,null,null,null,null,null,null,null,null,null,null,{"$f":"IF($BI$2=10,1,0)","v":0}]
[11,null,null,null,null,null,null,null,null,null,null,null,null,null,null,null,null,null,null,null,null,null,null,null,null,null,null,null,null,null,null,{"$f":"IF($BI$2=11,1,0)","v":0}]
[12]
[13,null,null,null,null,null,null,null,null,null,null,null,null,null,null,null,null,null,null,null,null,null,null,null,null,null,null,null,null,null,null,null,null,null,null,null,null,null,null,null,null,null,null,null,null,null,null,null,null,null,null,null,null,null,null,null,null,null,null,null,"INSTRUCTIONS:\n1. LVL HdV : Indiquer le level de votre Hôtel de Ville (1-10)\n\n2. Ouvriers : Indiquer le nombre d'ouvriers que vous avez (1-5)"]
[14]
[15]
[16]
[17]
[18]
[19]
[20]
[21,null,null,null,null,null,null,null,null,null,null,null,null,null,null,null,null,null,null,null,null,null,null,null,null,null,null,null,null,null,null,null,null,null,null,null,null,null,null,null,null,null,null,null,null,null,null,null,null,null,null,null,null,null,null,null,null,null,null,null,"3.a. Saisir le nombre de Bâtiments que vous avez actuellement avec leurs levels correspondants\n3.b. Saisir le level actuel de vos améliorations de Sorts/Troupes Normales/Troupes Noires\n3.c. Saisir le level actuel de vos Héros"]
[22]
[23]
[24]
[25]
[26]
[27]
[28]
[29]
[30]
[31]
[32]
[33]
[34]
[35]
[36]
[37]
[38]
[39]
[40]
["Tot.",{"$f":"SUM(B6:B45)","v":0},0,0,0,0,0,0,0,0,0,0,0,0,0,0,0,0,0,{"$f":"SUM(T6:T45)","v":0},0,0,{"$f":"SUM(W6:W45)","v":0},0,0,0,0,0,0,0,0,{"$f":"SUM(AF6:AF45)","v":1},{"$f":"SUM(AG6:AG45)","v":0},0,0,0,{"$f":"SUM(AK6:AK45)","v":0},0,0,0,0,0,0,0,0,0,0,0,0,0,0,0,0,0,0,{"$f":"SUM(BD6:BD45)","v":0},{"$f":"SUM(BE6:BE45)","v":0},{"$f":"SUM(BF6:BF45)","v":0},0]
[null,null,null,null,null,null,null,{"$f":"MAX(IF(ISBLANK(Paramètres!$H$6:$H$45),0,ROW(Paramètres!$H$6:$H$45)))-5","v":-5},{"$f":"MAX(IF(ISBLANK(Paramètres!$I$6:$I$45),0,ROW(Paramètres!$I$6:$I$45)))-5","v":-5},null,null,{"$f":"MAX(IF(ISBLANK(Paramètres!$L$6:$L$45),0,ROW(Paramètres!$L$6:$L$45)))-5","v":-5},{"$f":"MAX(IF(ISBLANK(Paramètres!$M$6:$M$45),0,ROW(Paramètres!$M$6:$M$45)))-5","v":-5},null,null,null,null,null,null,null,null,null,null,null,null,null,null,null,null,null,null,null,{"$f":"VLOOKUP(A45,LABO_Spells[#All],MATCH(AG$2,LABO_Spells[#Headers],0))","v":7},{"$f":"VLOOKUP(A45,LABO_Spells[#All],MATCH(AH$2,LABO_Spells[#Headers],0))","v":6},{"$f":"VLOOKUP(A45,LABO_Spells[#All],MATCH(AI$2,LABO_Spells[#Headers],0))","v":5},{"$f":"VLOOKUP(A45,LABO_Spells[#All],MATCH(AJ$2,LABO_Spells[#Headers],0))","v":3},{"$f":"VLOOKUP(A45,LABO_Spells[#All],MATCH(AK$2,LABO_Spells[#Headers],0))","v":5},{"$f":"VLOOKUP(A45,LABO_Dark_Spells[#All],MATCH(AL$2,LABO_Dark_Spells[#Headers],0))","v":4},{"$f":"VLOOKUP(A45,LABO_Dark_Spells[#All],MATCH(AM$2,LABO_Dark_Spells[#Headers],0))","v":4},{"$f":"VLOOKUP(A45,LABO_Dark_Spells[#All],MATCH(AN$2,LABO_Dark_Spells[#Headers],0))","v":4},{"$f":"VLOOKUP(A45,LABO_Normal_Troops[#All],MATCH(AO$2,LABO_Normal_Troops[#Headers],0))","v":7},{"$f":"VLOOKUP(A45,LABO_Normal_Troops[#All],MATCH(AP$2,LABO_Normal_Troops[#Headers],0))","v":7},{"$f":"VLOOKUP(A45,LABO_Normal_Troops[#All],MATCH(AQ$2,LABO_Normal_Troops[#Headers],0))","v":7},{"$f":"VLOOKUP(A45,LABO_Normal_Troops[#All],MATCH(AR$2,LABO_Normal_Troops[#Headers],0))","v":6},{"$f":"VLOOKUP(A45,LABO_Normal_Troops[#All],MATCH(AS$2,LABO_Normal_Troops[#Headers],0))","v":6},{"$f":"VLOOKUP(A45,LABO_Normal_Troops[#All],MATCH(AT$2,LABO_Normal_Troops[#Headers],0))","v":6},{"$f":"VLOOKUP(A45,LABO_Normal_Troops[#All],MATCH(AU$2,LABO_Normal_Troops[#Headers],0))","v":6},{"$f":"VLOOKUP(A45,LABO_Normal_Troops[#All],MATCH(AV$2,LABO_Normal_Troops[#Headers],0))","v":4},{"$f":"VLOOKUP(A45,LABO_Normal_Troops[#All],MATCH(AW$2,LABO_Normal_Troops[#Headers],0))","v":5},{"$f":"VLOOKUP(A45,LABO_Normal_Troops[#All],MATCH(AX$2,LABO_Normal_Troops[#Headers],0))","v":5},{"$f":"VLOOKUP(A45,LABO_Dark_Troops[#All],MATCH(AY$2,LABO_Dark_Troops[#Headers],0))","v":7},{"$f":"VLOOKUP(A45,LABO_Dark_Troops[#All],MATCH(AZ$2,LABO_Dark_Troops[#Headers],0))","v":5},{"$f":"VLOOKUP(A45,LABO_Dark_Troops[#All],MATCH(BA$2,LABO_Dark_Troops[#Headers],0))","v":4},{"$f":"VLOOKUP(A45,LABO_Dark_Troops[#All],MATCH(BB$2,LABO_Dark_Troops[#Headers],0))","v":5},{"$f":"VLOOKUP(A45,LABO_Dark_Troops[#All],MATCH(BC$2,LABO_Dark_Troops[#Headers],0))","v":3},{"$f":"VLOOKUP(A45,LABO_Dark_Troops[#All],MATCH(BD$2,LABO_Dark_Troops[#Headers],0))","v":3},{"$f":"VLOOKUP(A45,AVAILABLE_Heroes[#All],MATCH(BE$2,AVAILABLE_Heroes[#Headers],0)+1)","v":40},{"$f":"VLOOKUP(A45,AVAILABLE_Heroes[#All],MATCH(BF$2,AVAILABLE_Heroes[#Headers],0)+1)","v":40},{"$f":"VLOOKUP(A45,AVAILABLE_Heroes[#All],MATCH(BG$2,AVAILABLE_Heroes[#Headers],0)+1)","v":20}]
["+","NB Upgrades","NB Upgrades","NB Upgrades","NB Upgrades","NB Upgrades","NB Upgrades","NB Upgrades","NB Upgrades","NB Upgrades","NB Upgrades","NB Upgrades","NB Upgrades","NB Upgrades","NB Upgrades","NB Upgrades","NB Upgrades","NB Upgrades","NB Upgrades","NB Upgrades","NB Upgrades","NB Upgrades","NB Upgrades","NB Upgrades","NB Upgrades","NB Upgrades","NB Upgrades","NB Upgrades","NB Upgrades","NB Upgrades","NB Upgrades","NB Upgrades","NB Upgrades","NB Upgrades","NB Upgrades","NB Upgrades","NB Upgrades","NB Upgrades","NB Upgrades","NB Upgrades","NB Upgrades","NB Upgrades","NB Upgrades","NB Upgrades","NB Upgrades","NB Upgrades","NB Upgrades","NB Upgrades","NB Upgrades","NB Upgrades","NB Upgrades","NB Upgrades","NB Upgrades","NB Upgrades","NB Upgrades","NB Upgrades","NB Upgrades","NB Upgrades","NB Upgrades"]
[1,{"$f":"IF($A6-1<B$5,IF(B4>0,B4,IF(B6>0,0,B$4+B6)),0)","v":1},1,0,1,1,0,1,0,1,{"$f":"IF($A6-1<K$5,IF(K4>0,K4,IF(K6>0,0,K$4+K6)),0)","v":0},{"$f":"IF($A6-1<L$5,IF(L4>0,L4,IF(L6>0,0,L$4+L6)),0)","v":0},{"$f":"IF($A6-1<M$5,IF(M4>0,M4,IF(M6>0,0,M$4+M6)),0)","v":0},0,2,0,0,0,0,{"$f":"IF($A6-1<T$5,IF(T4>0,T4,IF(T6>0,0,T$4+T6)),0)","v":0},0,0,{"$f":"IF($A6-1<W$5,IF(W4>0,W4,IF(W6>0,0,W$4+W6)),0)","v":0},0,0,0,0,0,0,0,0,{"$f":"IF($A6-1<AF$5,IF(AF4>0,AF4,IF(AF6>0,0,AF$4+AF6)),0)","v":0},0,0,0,{"$f":"IF($A6-1<AJ$5,IF(AJ4>0,AJ4,IF(AJ6>0,0,AJ$4+AJ6)),0)","v":0},0,0,0,0,0,0,0,0,0,0,0,0,0,0,0,0,0,0,0,{"$f":"IF($A6-1<BD$5,IF(BD4>0,BD4,IF(BD6>0,0,BD$4+BD6)),0)","v":0},0,{"$f":"IF($A6-1<BF$5,IF(BF4>0,BF4,IF(BF6>0,0,BF$4+BF6)),0)","v":0},{"$f":"IF($A6-1<BG$5,IF(BG4>0,BG4,IF(BG6>0,0,BG$4+BG6)),0)","v":0}]
[2,{"$f":"IF($A6<B$5,IF(B49<>0,B49+B6,B6),0)","v":1},{"$f":"IF($A6<C$5,IF(C49<>0,C49+C6,C6),0)","v":1},{"$f":"IF($A6<D$5,IF(D49<>0,D49+D6,D6),0)","v":0},{"$f":"IF($A6<E$5,IF(E49<>0,E49+E6,E6),0)","v":0},{"$f":"IF($A6<F$5,IF(F49<>0,F49+F6,F6),0)","v":0},{"$f":"IF($A6<G$5,IF(G49<>0,G49+G6,G6),0)","v":0},{"$f":"IF($A6<H$5,IF(H49<>0,H49+H6,H6),0)","v":1},{"$f":"IF($A6<I$5,IF(I49<>0,I49+I6,I6),0)","v":0},{"$f":"IF($A6<J$5,IF(J49<>0,J49+J6,J6),0)","v":0},{"$f":"IF($A6<K$5,IF(K49<>0,K49+K6,K6),0)","v":0},{"$f":"IF($A6<L$5,IF(L49<>0,L49+L6,L6),0)","v":0},{"$f":"IF($A6<M$5,IF(M49<>0,M49+M6,M6),0)","v":0},{"$f":"IF($A6<N$5,IF(N49<>0,N49+N6,N6),0)","v":0},{"$f":"IF($A6<O$5,IF(O49<>0,O49+O6,O6),0)","v":2},{"$f":"IF($A6<P$5,IF(P49<>0,P49+P6,P6),0)","v":0},{"$f":"IF($A6<Q$5,IF(Q49<>0,Q49+Q6,Q6),0)","v":0},{"$f":"IF($A6<R$5,IF(R49<>0,R49+R6,R6),0)","v":0},{"$f":"IF($A6<S$5,IF(S49<>0,S49+S6,S6),0)","v":0},{"$f":"IF($A6<T$5,IF(T49<>0,T49+T6,T6),0)","v":0},0,{"$f":"IF($A6<V$5,IF(V49<>0,V49+V6,V6),0)","v":0},{"$f":"IF($A6<W$5,IF(W49<>0,W49+W6,W6),0)","v":0},0,{"$f":"IF($A6<Y$5,IF(Y49<>0,Y49+Y6,Y6),0)","v":0},{"$f":"IF($A6<Z$5,IF(Z49<>0,Z49+Z6,Z6),0)","v":0},{"$f":"IF($A6<AA$5,IF(AA49<>0,AA49+AA6,AA6),0)","v":0},{"$f":"IF($A6<AB$5,IF(AB49<>0,AB49+AB6,AB6),0)","v":0},{"$f":"IF($A6<AC$5,IF(AC49<>0,AC49+AC6,AC6),0)","v":0},{"$f":"IF($A6<AD$5,IF(AD49<>0,AD49+AD6,AD6),0)","v":0},{"$f":"IF($A6<AE$5,IF(AE49<>0,AE49+AE6,AE6),0)","v":0},1,{"$f":"IF($A6<AG$5,IF(AG49<>0,AG49+AG6,AG6),0)","v":0},{"$f":"IF($A6<AH$5,IF(AH49<>0,AH49+AH6,AH6),0)","v":0},{"$f":"IF($A6<AI$5,IF(AI49<>0,AI49+AI6,AI6),0)","v":0},{"$f":"IF($A6<AJ$5,IF(AJ49<>0,AJ49+AJ6,AJ6),0)","v":0},{"$f":"IF($A6<AK$5,IF(AK49<>0,AK49+AK6,AK6),0)","v":0},0,0,0,{"$f":"IF($A6<AO$5,IF(AO49<>0,AO49+AO6,AO6),0)","v":0},{"$f":"IF($A6<AP$5,IF(AP49<>0,AP49+AP6,AP6),0)","v":0},{"$f":"IF($A6<AQ$5,IF(AQ49<>0,AQ49+AQ6,AQ6),0)","v":0},{"$f":"IF($A6<AR$5,IF(AR49<>0,AR49+AR6,AR6),0)","v":0},{"$f":"IF($A6<AS$5,IF(AS49<>0,AS49+AS6,AS6),0)","v":0},{"$f":"IF($A6<AT$5,IF(AT49<>0,AT49+AT6,AT6),0)","v":0},{"$f":"IF($A6<AU$5,IF(AU49<>0,AU49+AU6,AU6),0)","v":0},{"$f":"IF($A6<AV$5,IF(AV49<>0,AV49+AV6,AV6),0)","v":0},{"$f":"IF($A6<AW$5,IF(AW49<>0,AW49+AW6,AW6),0)","v":0},{"$f":"IF($A6<AX$5,IF(AX49<>0,AX49+AX6,AX6),0)","v":0},{"$f":"IF($A6<AY$5,IF(AY49<>0,AY49+AY6,AY6),0)","v":0},{"$f":"IF($A6<AZ$5,IF(AZ49<>0,AZ49+AZ6,AZ6),0)","v":0},{"$f":"IF($A6<BA$5,IF(BA49<>0,BA49+BA6,BA6),0)","v":0},{"$f":"IF($A6<BB$5,IF(BB49<>0,BB49+BB6,BB6),0)","v":0},{"$f":"IF($A6<BC$5,IF(BC49<>0,BC49+BC6,BC6),0)","v":0},{"$f":"IF($A6<BD$5,IF(BD49<>0,BD49+BD6,BD6),0)","v":0},{"$f":"IF($A6<BE$5,IF(BE49<>0,BE49+BE6,BE6),0)","v":0},{"$f":"IF($A6<BF$5,IF(BF49<>0,BF49+BF6,BF6),0)","v":0},0]
[3,0,0,0,0,0,0,1,0,0,{"$f":"IF($A7<K$5,IF(K50<>0,K50+K7,K7),0)","v":0},{"$f":"IF($A7<L$5,IF(L50<>0,L50+L7,L7),0)","v":0},{"$f":"IF($A7<M$5,IF(M50<>0,M50+M7,M7),0)","v":0},0,0,0,0,0,0,0,0,0,0,0,0,0,0,0,0,0,0,0,0,0,0,0,0,{"$f":"IF($A7<AL$5,IF(AL50<>0,AL50+AL7,AL7),0)","v":0},0,0,0,0,0,0,0,0,0,0,0,0,0,0,0,0,0,0,0,0,0]
[4,0,0,0,0,0,0,0,0,0,0,{"$f":"IF($A8<L$5,IF(L51<>0,L51+L8,L8),0)","v":0},0,0,0,0,0,0,0,0,0,0,0,0,0,0,0,0,0,0,0,0,0,0,0,0,0,{"$f":"IF($A8<AL$5,IF(AL51<>0,AL51+AL8,AL8),0)","v":0},0,0,0,0,0,0,0,0,0,0,0,0,0,0,0,0,0,0,0,0,0]
[5,0,0,0,0,0,0,0,0,0,0,{"$f":"IF($A9<L$5,IF(L52<>0,L52+L9,L9),0)","v":0},0,0,0,0,0,0,0,0,0,0,0,0,0,0,0,0,0,0,0,0,0,0,0,0,0,{"$f":"IF($A9<AL$5,IF(AL52<>0,AL52+AL9,AL9),0)","v":0},0,0,0,0,0,0,0,0,0,0,0,0,0,0,0,0,0,0,0,0,0]
[6,0,0,0,0,0,0,0,0,0,0,0,0,0,0,0,0,0,0,0,0,0,0,0,0,0,0,0,0,0,0,0,0,0,0,0,0,{"$f":"IF($A10<AL$5,IF(AL53<>0,AL53+AL10,AL10),0)","v":0},0,0,0,0,0,0,0,0,0,0,0,0,0,0,0,0,0,0,0,0,0]
[7,0,0,0,0,0,0,0,0,0,0,0,0,0,0,0,0,0,0,0,0,0,0,0,0,0,0,0,0,0,0,0,0,0,0,0,0,{"$f":"IF($A11<AL$5,IF(AL54<>0,AL54+AL11,AL11),0)","v":0},0,0,0,0,0,0,0,0,0,0,0,0,0,0,0,0,0,0,0,0,0]
[8,0,0,0,0,0,0,0,0,0,0,0,0,0,0,0,0,0,0,0,0,0,0,0,0,0,0,0,0,0,0,0,0,0,0,0,0,{"$f":"IF($A12<AL$5,IF(AL55<>0,AL55+AL12,AL12),0)","v":0},0,0,0,0,0,0,0,0,0,0,0,0,0,0,0,0,0,0,0,0,0]
[9,0,0,0,0,0,0,0,0,0,0,0,0,0,0,0,0,0,0,0,0,0,0,0,0,0,0,0,0,0,0,0,0,0,0,0,0,{"$f":"IF($A13<AL$5,IF(AL56<>0,AL56+AL13,AL13),0)","v":0},0,0,0,0,0,0,0,0,0,0,0,0,0,0,0,0,0,0,0,0,0]
[10,0,0,0,0,0,0,0,0,0,0,0,0,0,0,0,0,0,0,0,0,0,0,0,0,0,0,0,0,0,0,0,0,0,0,0,0,{"$f":"IF($A14<AL$5,IF(AL57<>0,AL57+AL14,AL14),0)","v":0},0,0,0,0,0,0,0,0,0,0,0,0,0,0,0,0,0,0,0,0,0]
[11,0,0,0,0,0,0,0,0,0,0,0,0,0,0,0,0,0,0,0,0,0,0,0,0,0,0,0,0,0,0,0,0,0,0,0,0,{"$f":"IF($A15<AL$5,IF(AL58<>0,AL58+AL15,AL15),0)","v":0},0,0,0,0,0,0,0,0,0,0,0,0,0,0,0,0,0,0,0,0,0]
[12,0,0,0,0,0,0,0,0,0,0,0,0,0,0,0,0,0,0,0,0,0,0,0,0,0,0,0,0,0,0,{"$f":"IF($A16<AF$5,IF(AF59<>0,AF59+AF16,AF16),0)","v":0},0,0,0,0,0,{"$f":"IF($A16<AL$5,IF(AL59<>0,AL59+AL16,AL16),0)","v":0},0,0,0,0,0,0,0,0,0,0,0,0,0,0,0,0,0,0,0,0,0]
[13,0,0,0,0,0,0,0,0,0,0,0,0,0,0,0,0,0,0,0,0,0,0,0,0,0,0,0,0,0,0,0,0,0,0,0,0,{"$f":"IF($A17<AL$5,IF(AL60<>0,AL60+AL17,AL17),0)","v":0},0,0,0,0,0,0,0,0,0,0,0,0,0,0,0,0,0,0,0,0,0]
[14,0,0,0,0,0,0,0,0,0,0,0,0,0,0,0,0,0,0,0,0,0,0,0,0,0,0,0,0,0,0,{"$f":"IF($A18<AF$5,IF(AF61<>0,AF61+AF18,AF18),0)","v":0},0,0,0,0,0,{"$f":"IF($A18<AL$5,IF(AL61<>0,AL61+AL18,AL18),0)","v":0},0,0,0,0,0,0,0,0,0,0,0,0,0,0,0,0,0,0,0,0,0]
[15,0,0,0,0,0,0,0,0,0,0,0,0,0,0,0,0,0,0,0,0,0,0,0,0,0,0,0,0,0,0,0,0,0,0,0,0,{"$f":"IF($A19<AL$5,IF(AL62<>0,AL62+AL19,AL19),0)","v":0},0,0,0,0,0,0,0,0,0,0,0,0,0,0,0,0,0,0,0,0,0]
[16,0,0,0,0,0,0,0,0,0,0,0,0,0,0,0,0,0,0,0,0,0,0,0,0,0,0,0,0,0,0,0,0,0,0,0,0,{"$f":"IF($A20<AL$5,IF(AL63<>0,AL63+AL20,AL20),0)","v":0},0,0,0,0,0,0,0,0,0,0,0,0,0,0,0,0,0,0,0,0,0]
[17,0,0,0,0,0,0,0,0,0,0,0,0,0,0,0,0,0,0,0,0,0,0,0,0,0,0,0,0,0,0,0,0,0,0,0,0,{"$f":"IF($A21<AL$5,IF(AL64<>0,AL64+AL21,AL21),0)","v":0},0,0,0,0,0,0,0,0,0,0,0,0,0,0,0,0,0,0,0,0,0]
[18,{"$f":"IF($A22<B$5,IF(B65<>0,B65+B22,B22),0)","v":0},{"$f":"IF($A22<C$5,IF(C65<>0,C65+C22,C22),0)","v":0},{"$f":"IF($A22<D$5,IF(D65<>0,D65+D22,D22),0)","v":0},{"$f":"IF($A22<E$5,IF(E65<>0,E65+E22,E22),0)","v":0},{"$f":"IF($A22<F$5,IF(F65<>0,F65+F22,F22),0)","v":0},{"$f":"IF($A22<G$5,IF(G65<>0,G65+G22,G22),0)","v":0},{"$f":"IF($A22<H$5,IF(H65<>0,H65+H22,H22),0)","v":0},{"$f":"IF($A22<I$5,IF(I65<>0,I65+I22,I22),0)","v":0},{"$f":"IF($A22<J$5,IF(J65<>0,J65+J22,J22),0)","v":0},{"$f":"IF($A22<K$5,IF(K65<>0,K65+K22,K22),0)","v":0},{"$f":"IF($A22<L$5,IF(L65<>0,L65+L22,L22),0)","v":0},0,{"$f":"IF($A22<N$5,IF(N65<>0,N65+N22,N22),0)","v":0},{"$f":"IF($A22<O$5,IF(O65<>0,O65+O22,O22),0)","v":0},{"$f":"IF($A22<P$5,IF(P65<>0,P65+P22,P22),0)","v":0},{"$f":"IF($A22<Q$5,IF(Q65<>0,Q65+Q22,Q22),0)","v":0},{"$f":"IF($A22<R$5,IF(R65<>0,R65+R22,R22),0)","v":0},{"$f":"IF($A22<S$5,IF(S65<>0,S65+S22,S22),0)","v":0},{"$f":"IF($A22<T$5,IF(T65<>0,T65+T22,T22),0)","v":0},0,{"$f":"IF($A22<V$5,IF(V65<>0,V65+V22,V22),0)","v":0},{"$f":"IF($A22<W$5,IF(W65<>0,W65+W22,W22),0)","v":0},0,{"$f":"IF($A22<Y$5,IF(Y65<>0,Y65+Y22,Y22),0)","v":0},{"$f":"IF($A22<Z$5,IF(Z65<>0,Z65+Z22,Z22),0)","v":0},{"$f":"IF($A22<AA$5,IF(AA65<>0,AA65+AA22,AA22),0)","v":0},{"$f":"IF($A22<AB$5,IF(AB65<>0,AB65+AB22,AB22),0)","v":0},{"$f":"IF($A22<AC$5,IF(AC65<>0,AC65+AC22,AC22),0)","v":0},{"$f":"IF($A22<AD$5,IF(AD65<>0,AD65+AD22,AD22),0)","v":0},{"$f":"IF($A22<AE$5,IF(AE65<>0,AE65+AE22,AE22),0)","v":0},0,{"$f":"IF($A22<AG$5,IF(AG65<>0,AG65+AG22,AG22),0)","v":0},{"$f":"IF($A22<AH$5,IF(AH65<>0,AH65+AH22,AH22),0)","v":0},{"$f":"IF($A22<AI$5,IF(AI65<>0,AI65+AI22,AI22),0)","v":0},{"$f":"IF($A22<AJ$5,IF(AJ65<>0,AJ65+AJ22,AJ22),0)","v":0},{"$f":"IF($A22<AK$5,IF(AK65<>0,AK65+AK22,AK22),0)","v":0},0,0,0,{"$f":"IF($A22<AO$5,IF(AO65<>0,AO65+AO22,AO22),0)","v":0},{"$f":"IF($A22<AP$5,IF(AP65<>0,AP65+AP22,AP22),0)","v":0},{"$f":"IF($A22<AQ$5,IF(AQ65<>0,AQ65+AQ22,AQ22),0)","v":0},{"$f":"IF($A22<AR$5,IF(AR65<>0,AR65+AR22,AR22),0)","v":0},{"$f":"IF($A22<AS$5,IF(AS65<>0,AS65+AS22,AS22),0)","v":0},{"$f":"IF($A22<AT$5,IF(AT65<>0,AT65+AT22,AT22),0)","v":0},{"$f":"IF($A22<AU$5,IF(AU65<>0,AU65+AU22,AU22),0)","v":0},{"$f":"IF($A22<AV$5,IF(AV65<>0,AV65+AV22,AV22),0)","v":0},{"$f":"IF($A22<AW$5,IF(AW65<>0,AW65+AW22,AW22),0)","v":0},{"$f":"IF($A22<AX$5,IF(AX65<>0,AX65+AX22,AX22),0)","v":0},{"$f":"IF($A22<AY$5,IF(AY65<>0,AY65+AY22,AY22),0)","v":0},{"$f":"IF($A22<AZ$5,IF(AZ65<>0,AZ65+AZ22,AZ22),0)","v":0},0,{"$f":"IF($A22<BB$5,IF(BB65<>0,BB65+BB22,BB22),0)","v":0},0,0,{"$f":"IF($A22<BE$5,IF(BE65<>0,BE65+BE22,BE22),0)","v":0},{"$f":"IF($A22<BF$5,IF(BF65<>0,BF65+BF22,BF22),0)","v":0},0]
[19,0,0,0,0,0,0,0,0,0,0,0,0,0,0,0,0,0,0,0,0,0,0,0,0,0,0,0,0,0,0,0,0,0,0,0,0,0,0,0,0,0,0,0,0,0,0,0,0,0,0,0,0,0,0,0,0,0,0]
[20,0,0,0,0,0,0,0,0,0,0,0,0,0,0,0,0,0,0,0,0,0,0,0,0,0,0,0,0,0,0,0,0,0,0,0,0,0,0,0,0,0,0,0,0,0,0,0,0,0,0,0,0,0,0,0,0,0,0]
[21,0,0,0,0,0,0,0,0,0,0,0,0,0,0,0,0,0,0,0,0,0,0,0,0,0,0,0,0,0,0,0,0,0,0,0,0,0,0,0,0,0,0,0,0,0,0,0,0,0,0,0,0,0,0,0,0,0,0]
[22,0,0,0,0,0,0,0,0,0,0,0,0,0,0,0,0,0,0,0,0,0,0,0,0,0,0,0,0,0,0,0,0,0,0,0,0,0,0,0,0,0,0,0,0,0,0,0,0,0,0,0,0,0,0,{"$f":"IF($A26<BD$5,IF(BD69<>0,BD69+BD26,BD26),0)","v":0},0,0,0]
[23,0,0,0,0,0,0,0,0,0,0,0,0,0,0,0,0,0,0,0,0,0,0,0,0,0,0,0,0,0,0,0,0,0,0,0,0,0,0,0,0,0,0,0,0,0,0,0,0,0,0,0,0,0,0,0,0,0,0]
[24,0,0,0,0,0,0,0,0,0,0,0,0,0,0,0,0,0,0,0,0,0,0,0,0,0,0,0,0,0,0,0,0,0,0,0,0,0,0,0,0,0,0,0,0,0,0,0,0,0,0,0,0,0,0,0,0,0,0]
[25,0,0,0,0,0,0,0,0,0,0,0,0,0,0,0,0,0,0,0,0,0,0,0,0,0,0,0,0,0,0,0,0,0,0,0,0,0,0,0,0,0,0,0,0,0,0,0,0,0,0,0,0,0,0,0,0,0,0]
[26,0,0,0,0,0,0,0,0,0,0,0,0,0,0,0,0,0,0,0,0,0,0,0,0,0,0,0,0,0,0,0,0,{"$f":"IF($A30<AH$5,IF(AH73<>0,AH73+AH30,AH30),0)","v":0},0,0,0,0,0,0,0,0,0,0,0,0,0,0,0,0,0,0,0,0,0,0,0,0,0]
[27,0,0,0,0,0,0,0,0,0,0,0,0,0,0,0,0,0,0,0,0,0,0,0,0,0,0,0,0,0,0,0,0,{"$f":"IF($A31<AH$5,IF(AH74<>0,AH74+AH31,AH31),0)","v":0},0,0,0,0,0,0,0,0,0,0,0,0,0,0,0,0,0,0,0,0,0,0,0,0,0]
[28,0,0,0,0,0,0,0,0,0,0,0,0,0,0,0,0,0,0,0,0,0,0,0,0,0,0,0,0,0,0,0,0,0,0,0,0,0,0,0,0,0,0,0,0,0,0,0,0,0,0,0,0,0,0,0,0,0,0]
[29,0,0,0,0,0,0,0,0,0,0,0,0,0,0,0,0,0,0,0,0,0,0,0,0,0,0,0,0,0,0,0,0,0,0,0,0,0,0,0,0,0,0,0,0,0,0,0,0,0,0,0,0,0,0,0,0,0,0]
[30,0,0,0,0,0,0,0,0,0,0,0,0,0,0,0,0,0,0,0,0,0,0,0,0,0,0,0,0,0,0,0,0,0,0,0,0,0,0,0,0,0,0,0,0,0,0,0,0,0,0,0,0,0,0,0,0,0,0]
[31,0,0,0,0,0,0,0,0,0,0,0,0,0,0,0,0,0,0,0,0,0,0,0,0,0,0,0,0,0,0,0,0,0,0,0,0,0,0,0,0,0,0,0,0,0,0,0,0,0,0,0,0,0,0,0,0,0,0]
[32,0,0,0,0,0,0,0,0,0,0,0,0,0,0,0,0,0,0,0,0,0,0,0,0,0,0,0,0,0,0,0,0,0,0,0,0,0,0,0,0,0,0,0,0,0,0,0,0,0,0,0,0,0,0,0,0,0,0]
[33,0,0,0,0,0,0,0,0,0,0,0,0,0,0,0,0,0,0,0,0,0,0,0,0,0,0,0,0,0,0,0,0,0,0,0,0,0,0,0,0,0,0,0,0,0,0,0,0,0,0,0,0,0,0,0,0,0,0]
[34,0,0,0,0,0,0,0,0,0,0,0,0,0,0,0,0,0,0,0,0,0,0,0,0,0,0,0,0,0,0,0,0,{"$f":"IF($A38<AH$5,IF(AH81<>0,AH81+AH38,AH38),0)","v":0},0,0,0,0,0,0,0,0,0,0,0,0,0,0,0,0,0,0,0,0,0,0,0,0,0]
[35,0,0,0,0,0,0,0,0,0,0,0,0,0,0,0,0,0,0,0,0,0,0,0,0,0,0,0,0,0,0,0,0,{"$f":"IF($A39<AH$5,IF(AH82<>0,AH82+AH39,AH39),0)","v":0},0,0,0,0,0,0,0,0,0,0,0,0,0,0,0,0,0,0,0,0,0,0,0,0,0]
[36,0,0,0,0,0,0,0,0,0,0,0,0,0,0,0,0,0,0,0,0,0,0,0,0,0,0,0,0,0,0,0,0,0,0,0,0,0,0,0,0,0,0,0,0,0,0,0,0,0,0,0,0,0,0,0,0,0,0]
[37,0,0,0,0,0,0,0,0,0,0,0,0,0,0,0,0,0,0,0,0,0,0,0,0,0,0,0,0,0,0,0,0,0,0,0,0,0,0,0,0,0,0,0,0,0,0,0,0,0,0,0,0,0,0,0,0,0,0]
[38,0,0,0,0,0,0,0,0,0,0,0,0,0,0,0,0,0,0,0,0,0,0,0,0,0,0,0,0,0,0,0,0,0,0,0,0,0,0,0,0,0,0,0,0,0,0,0,0,0,0,0,0,0,0,0,0,0,0]
[39,0,0,0,0,0,0,0,0,0,0,0,0,0,0,0,0,0,0,0,0,0,0,0,0,0,0,0,0,0,0,0,0,0,0,0,0,0,0,0,0,0,0,0,0,0,0,0,0,0,0,0,0,0,0,0,0,0,0]
[40,0,0,0,0,0,0,0,0,0,0,0,0,0,0,0,0,0,0,0,0,0,0,0,0,0,0,0,0,0,0,0,0,0,0,0,0,0,0,0,0,0,0,0,0,0,0,0,0,0,0,0,0,0,0,0,0,0,0]
["Tot.",{"$f":"SUM(B49:B88)","v":2},{"$f":"SUM(C49:C88)","v":2},0,1,1,0,3,0,1,0,0,0,0,4,0,{"$f":"SUM(Q49:Q88)","v":0},{"$f":"SUM(R49:R88)","v":0},0,{"$f":"SUM(T49:T88)","v":0},0,0,0,{"$f":"SUM(X49:X88)","v":0},0,0,0,0,0,0,0,1,0,0,0,0,0,0,0,0,0,0,0,0,0,0,0,0,0,0,0,0,{"$f":"SUM(BA49:BA88)","v":0},0,{"$f":"SUM(BC49:BC88)","v":0},{"$f":"SUM(BD49:BD88)","v":0},0,{"$f":"SUM(BF49:BF88)","v":0},0]

{"sheet":"Valeur du Village","index":19,"n_rows":119,"n_cols":40,"rows_kept":119,"cut":false,"hidden":false,"merged":[[109,12,109,15],[109,16,109,19],[109,20,109,23],[108,12,108,23],[107,32,107,35],[48,24,48,27],[48,28,48,31],[94,24,94,27],[94,28,94,31],[107,28,107,31],[106,28,106,35],[76,12,76,35],[77,28,77,31],[94,32,94,35],[93,12,93,35],[94,12,94,15],[94,16,94,19],[94,20,94,23],[77,16,77,19],[77,20,77,23],[66,16,66,19],[66,0,66,3],[66,4,66,7],[66,8,66,11],[66,12,66,15],[77,12,77,15],[76,0,76,7],[77,4,77,7],[77,0,77,3],[66,20,66,23],[37,12,37,15],[37,16,37,19],[77,32,77,35],[77,24,77,27],[65,0,65,23],[47,0,47,39],[48,0,48,3],[48,4,48,7],[48,32,48,35],[48,36,48,39],[48,8,48,11],[48,12,48,15],[48,16,48,19],[48,20,48,23],[37,20,37,23],[25,32,25,35],[25,36,25,39],[36,0,36,23],[24,0,24,39],[25,0,25,3],[25,4,25,7],[25,8,25,11],[25,12,25,15],[25,16,25,19],[25,20,25,23],[25,24,25,27],[25,28,25,31],[37,0,37,3],[37,4,37,7],[37,8,37,11],[12,0,12,19],[13,0,13,3],[13,4,13,7],[13,8,13,11],[13,12,13,15],[13,16,13,19],[3,10,3,11],[4,10,4,11],[4,3,4,7],[5,3,5,7],[6,3,6,7],[7,3,7,7],[8,3,8,7],[9,3,9,7],[10,3,10,7],[1,3,1,7],[3,3,3,7],[2,3,2,7]]}
[]
[null,null,null,"Valeurs - Sorts",null,null,null,null,{"$f":"SUM(VALUE_Spell_Lightning[Total],VALUE_Spell_Healing[Total],VALUE_Spell_Rage[Total],VALUE_Spell_Jump[Total],VALUE_Spell_Freeze[Total])","v":0}]
[null,null,null,"Valeurs - Sorts Noirs",null,null,null,null,{"$f":"SUM(VALUE_Spell_Poison[Total],VALUE_Spell_Earthquake[Total],VALUE_Spell_Haste[Total])","v":0}]
[null,null,null,"Valeurs - Troupes Normales",null,null,null,null,{"$f":"SUM(VALUE_Barbarian[Total],VALUE_Archer[Total],VALUE_Goblin[Total],VALUE_Giant[Total],VALUE_Wall_Breaker[Total],VALUE_Balloon[Total],VALUE_Wizard[Total],VALUE_Healer[Total],VALUE_Dragon[Total],VALUE_PEKKA[Total])","v":0},null,"Valeur du Village"]
[null,null,null,"Valeurs - Troupes Noires",null,null,null,null,{"$f":"SUM(VALUE_Minion[Total],VALUE_Hog_Rider[Total],VALUE_Valkyrie[Total],VALUE_Golem[Total],VALUE_Witch[Total],VALUE_Lava_Hound[Total])","v":0},null,{"$f":"SUM(I2:I11)","v":0}]
[null,null,null,"Valeurs - Bâtiments de Ressources",null,null,null,null,{"$f":"SUM(VALUE_Gold_Mine[Total],VALUE_Dark_Elixir_Drill[Total],VALUE_Gold_Storage[Total],VALUE_Dark_Elixir_Storage[Total],VALUE_Elixir_Collector[Total],VALUE_Elixir_Storage[Total])","v":0}]
[null,null,null,"Valeurs - Bâtiments d'Armée",null,null,null,null,{"$f":"SUM(VALUE_Dark_Barrack[Total],VALUE_Barrack[Total],VALUE_Army_Camp[Total],VALUE_Laboratory[Total],VALUE_Spell_Factory[Total],VALUE_Dark_Spell_Factory[Total])","v":0}]
[null,null,null,"Valeurs - Bâtiments Autres",null,null,null,null,{"$f":"SUM(VALUE_Clan_Castle[Total],VALUE_Town_Home[Total])","v":0}]
[null,null,null,"Valeurs - Bâtiments de Défense",null,null,null,null,{"$f":"SUM(VALUE_Wall[Total],VALUE_Cannon[Total],VALUE_Archer_Tower[Total],VALUE_Mortar[Total],VALUE_Air_Defense[Total],VALUE_Wizard_Tower[Total],VALUE_Air_Sweeper[Total],VALUE_Hidden_Tesla[Total],VALUE_XBow[Total],VALUE_Inferno_Tower[Total])","v":0}]
[null,null,null,"Valeurs - Pièges Défensifs",null,null,null,null,{"$f":"SUM(VALUE_Bomb[Total],VALUE_Spring_Trap[Total],VALUE_Giant_Bomb[Total],VALUE_Air_Bomb[Total],VALUE_Seeking_Air_Mine[Total],VALUE_Skeleton_Trap[Total])","v":0}]
[null,null,null,"Valeurs - Héros",null,null,null,null,{"$f":"SUM(VALUE_Barbarian_King[Total],VALUE_Archer_Queen[Total])","v":0}]
[]
["Valeurs - Sorts"]
["Sort de Foudre",null,null,null,"Sort de Guérison",null,null,null,"Sort de Rage",null,null,null,"Sort de Saut",null,null,null,"Sort de Gel"]
["LVL","Rang","Valeur","Total","LVL","Rang","Valeur","Total","LVL","Rang","Valeur","Total","LVL","Rang","Valeur","Total","LVL","Rang","Valeur","Total"]
[1,{"$f":"Paramètres!AG6","v":0},100,{"$f":"VALUE_Spell_Lightning[[#This Row],[Valeur]]*VALUE_Spell_Lightning[[#This Row],[Rang]]","v":0},1,{"$f":"Paramètres!AH6","v":0},200,{"$f":"VALUE_Spell_Healing[[#This Row],[Valeur]]*VALUE_Spell_Healing[[#This Row],[Rang]]","v":0},1,{"$f":"Paramètres!AI6","v":0},100,{"$f":"VALUE_Spell_Rage[[#This Row],[Valeur]]*VALUE_Spell_Rage[[#This Row],[Rang]]","v":0},1,{"$f":"Paramètres!AJ6","v":0},100,{"$f":"VALUE_Spell_Jump[[#This Row],[Valeur]]*VALUE_Spell_Jump[[#This Row],[Rang]]","v":0},1,{"$f":"Paramètres!AK6","v":0},1000,{"$f":"VALUE_Spell_Freeze[[#This Row],[Valeur]]*VALUE_Spell_Freeze[[#This Row],[Rang]]","v":0}]
[2,{"$f":"Paramètres!AG7","v":0},200,{"$f":"VALUE_Spell_Lightning[[#This Row],[Valeur]]*VALUE_Spell_Lightning[[#This Row],[Rang]]","v":0},2,{"$f":"Paramètres!AH7","v":0},400,{"$f":"VALUE_Spell_Healing[[#This Row],[Valeur]]*VALUE_Spell_Healing[[#This Row],[Rang]]","v":0},2,{"$f":"Paramètres!AI7","v":0},200,{"$f":"VALUE_Spell_Rage[[#This Row],[Valeur]]*VALUE_Spell_Rage[[#This Row],[Rang]]","v":0},2,{"$f":"Paramètres!AJ7","v":0},200,{"$f":"VALUE_Spell_Jump[[#This Row],[Valeur]]*VALUE_Spell_Jump[[#This Row],[Rang]]","v":0},2,{"$f":"Paramètres!AK7","v":0},2000,{"$f":"VALUE_Spell_Freeze[[#This Row],[Valeur]]*VALUE_Spell_Freeze[[#This Row],[Rang]]","v":0}]
[3,{"$f":"Paramètres!AG8","v":0},300,{"$f":"VALUE_Spell_Lightning[[#This Row],[Valeur]]*VALUE_Spell_Lightning[[#This Row],[Rang]]","v":0},3,{"$f":"Paramètres!AH8","v":0},600,{"$f":"VALUE_Spell_Healing[[#This Row],[Valeur]]*VALUE_Spell_Healing[[#This Row],[Rang]]","v":0},3,{"$f":"Paramètres!AI8","v":0},300,{"$f":"VALUE_Spell_Rage[[#This Row],[Valeur]]*VALUE_Spell_Rage[[#This Row],[Rang]]","v":0},3,{"$f":"Paramètres!AJ8","v":0},300,{"$f":"VALUE_Spell_Jump[[#This Row],[Valeur]]*VALUE_Spell_Jump[[#This Row],[Rang]]","v":0},3,{"$f":"Paramètres!AK8","v":0},3000,{"$f":"VALUE_Spell_Freeze[[#This Row],[Valeur]]*VALUE_Spell_Freeze[[#This Row],[Rang]]","v":0}]
[4,{"$f":"Paramètres!AG9","v":0},400,{"$f":"VALUE_Spell_Lightning[[#This Row],[Valeur]]*VALUE_Spell_Lightning[[#This Row],[Rang]]","v":0},4,{"$f":"Paramètres!AH9","v":0},800,{"$f":"VALUE_Spell_Healing[[#This Row],[Valeur]]*VALUE_Spell_Healing[[#This Row],[Rang]]","v":0},4,{"$f":"Paramètres!AI9","v":0},400,{"$f":"VALUE_Spell_Rage[[#This Row],[Valeur]]*VALUE_Spell_Rage[[#This Row],[Rang]]","v":0},null,null,null,null,4,{"$f":"Paramètres!AK9","v":0},4000,{"$f":"VALUE_Spell_Freeze[[#This Row],[Valeur]]*VALUE_Spell_Freeze[[#This Row],[Rang]]","v":0}]
[5,{"$f":"Paramètres!AG10","v":0},500,{"$f":"VALUE_Spell_Lightning[[#This Row],[Valeur]]*VALUE_Spell_Lightning[[#This Row],[Rang]]","v":0},5,{"$f":"Paramètres!AH10","v":0},1000,{"$f":"VALUE_Spell_Healing[[#This Row],[Valeur]]*VALUE_Spell_Healing[[#This Row],[Rang]]","v":0},5,{"$f":"Paramètres!AI10","v":0},500,{"$f":"VALUE_Spell_Rage[[#This Row],[Valeur]]*VALUE_Spell_Rage[[#This Row],[Rang]]","v":0},null,null,null,null,5,{"$f":"Paramètres!AK10","v":0},5000,{"$f":"VALUE_Spell_Freeze[[#This Row],[Valeur]]*VALUE_Spell_Freeze[[#This Row],[Rang]]","v":0}]
[6,{"$f":"Paramètres!AG11","v":0},600,{"$f":"VALUE_Spell_Lightning[[#This Row],[Valeur]]*VALUE_Spell_Lightning[[#This Row],[Rang]]","v":0},6,{"$f":"Paramètres!AH11","v":0},1200,{"$f":"VALUE_Spell_Healing[[#This Row],[Valeur]]*VALUE_Spell_Healing[[#This Row],[Rang]]","v":0}]
[7,{"$f":"Paramètres!AG12","v":0},700,{"$f":"VALUE_Spell_Lightning[[#This Row],[Valeur]]*VALUE_Spell_Lightning[[#This Row],[Rang]]","v":0}]
[]
[]
["Valeurs - Troupes Normales"]
["Barbare",null,null,null,"Archer",null,null,null,"Gobelin",null,null,null,"Géant",null,null,null,"Sapeur",null,null,null,"Ballon",null,null,null,"Sorcier",null,null,null,"Guérisseuse",null,null,null,"Dragon",null,null,null,"P.E.K.K.A"]
["LVL","Rang","Valeur","Total","LVL","Rang","Valeur","Total","LVL","Rang","Valeur","Total","LVL","Rang","Valeur","Total","LVL","Rang","Valeur","Total","LVL","Rang","Valeur","Total","LVL","Rang","Valeur","Total","LVL","Rang","Valeur","Total","LVL","Rang","Valeur","Total","LVL","Rang","Valeur","Total"]
[1,{"$f":"Paramètres!AO6","v":0},100,{"$f":"VALUE_Barbarian[[#This Row],[Valeur]]*VALUE_Barbarian[[#This Row],[Rang]]","v":0},1,{"$f":"Paramètres!AP6","v":0},150,{"$f":"VALUE_Archer[[#This Row],[Valeur]]*VALUE_Archer[[#This Row],[Rang]]","v":0},1,{"$f":"Paramètres!AQ6","v":0},50,{"$f":"VALUE_Goblin[[#This Row],[Valeur]]*VALUE_Goblin[[#This Row],[Rang]]","v":0},1,{"$f":"Paramètres!AR6","v":0},120,{"$f":"VALUE_Giant[[#This Row],[Valeur]]*VALUE_Giant[[#This Row],[Rang]]","v":0},1,{"$f":"Paramètres!AS6","v":0},100,{"$f":"VALUE_Wall_Breaker[[#This Row],[Valeur]]*VALUE_Wall_Breaker[[#This Row],[Rang]]","v":0},1,{"$f":"Paramètres!AT6","v":0},120,{"$f":"VALUE_Balloon[[#This Row],[Valeur]]*VALUE_Balloon[[#This Row],[Rang]]","v":0},1,{"$f":"Paramètres!AU6","v":0},150,{"$f":"VALUE_Wizard[[#This Row],[Valeur]]*VALUE_Wizard[[#This Row],[Rang]]","v":0},1,{"$f":"Paramètres!AV6","v":0},180,{"$f":"VALUE_Healer[[#This Row],[Valeur]]*VALUE_Healer[[#This Row],[Rang]]","v":0},1,{"$f":"Paramètres!AW6","v":0},150,{"$f":"VALUE_Dragon[[#This Row],[Valeur]]*VALUE_Dragon[[#This Row],[Rang]]","v":0},1,{"$f":"Paramètres!AX6","v":0},120,{"$f":"VALUE_PEKKA[[#This Row],[Valeur]]*VALUE_PEKKA[[#This Row],[Rang]]","v":0}]
[2,{"$f":"Paramètres!AO7","v":0},200,{"$f":"VALUE_Barbarian[[#This Row],[Valeur]]*VALUE_Barbarian[[#This Row],[Rang]]","v":0},2,{"$f":"Paramètres!AP7","v":0},300,{"$f":"VALUE_Archer[[#This Row],[Valeur]]*VALUE_Archer[[#This Row],[Rang]]","v":0},2,{"$f":"Paramètres!AQ7","v":0},100,{"$f":"VALUE_Goblin[[#This Row],[Valeur]]*VALUE_Goblin[[#This Row],[Rang]]","v":0},2,{"$f":"Paramètres!AR7","v":0},240,{"$f":"VALUE_Giant[[#This Row],[Valeur]]*VALUE_Giant[[#This Row],[Rang]]","v":0},2,{"$f":"Paramètres!AS7","v":0},200,{"$f":"VALUE_Wall_Breaker[[#This Row],[Valeur]]*VALUE_Wall_Breaker[[#This Row],[Rang]]","v":0},2,{"$f":"Paramètres!AT7","v":0},240,{"$f":"VALUE_Balloon[[#This Row],[Valeur]]*VALUE_Balloon[[#This Row],[Rang]]","v":0},2,{"$f":"Paramètres!AU7","v":0},300,{"$f":"VALUE_Wizard[[#This Row],[Valeur]]*VALUE_Wizard[[#This Row],[Rang]]","v":0},2,{"$f":"Paramètres!AV7","v":0},360,{"$f":"VALUE_Healer[[#This Row],[Valeur]]*VALUE_Healer[[#This Row],[Rang]]","v":0},2,{"$f":"Paramètres!AW7","v":0},300,{"$f":"VALUE_Dragon[[#This Row],[Valeur]]*VALUE_Dragon[[#This Row],[Rang]]","v":0},2,{"$f":"Paramètres!AX7","v":0},240,{"$f":"VALUE_PEKKA[[#This Row],[Valeur]]*VALUE_PEKKA[[#This Row],[Rang]]","v":0}]
[3,{"$f":"Paramètres!AO8","v":0},300,{"$f":"VALUE_Barbarian[[#This Row],[Valeur]]*VALUE_Barbarian[[#This Row],[Rang]]","v":0},3,{"$f":"Paramètres!AP8","v":0},450,{"$f":"VALUE_Archer[[#This Row],[Valeur]]*VALUE_Archer[[#This Row],[Rang]]","v":0},3,{"$f":"Paramètres!AQ8","v":0},150,{"$f":"VALUE_Goblin[[#This Row],[Valeur]]*VALUE_Goblin[[#This Row],[Rang]]","v":0},3,{"$f":"Paramètres!AR8","v":0},360,{"$f":"VALUE_Giant[[#This Row],[Valeur]]*VALUE_Giant[[#This Row],[Rang]]","v":0},3,{"$f":"Paramètres!AS8","v":0},300,{"$f":"VALUE_Wall_Breaker[[#This Row],[Valeur]]*VALUE_Wall_Breaker[[#This Row],[Rang]]","v":0},3,{"$f":"Paramètres!AT8","v":0},360,{"$f":"VALUE_Balloon[[#This Row],[Valeur]]*VALUE_Balloon[[#This Row],[Rang]]","v":0},3,{"$f":"Paramètres!AU8","v":0},450,{"$f":"VALUE_Wizard[[#This Row],[Valeur]]*VALUE_Wizard[[#This Row],[Rang]]","v":0},3,{"$f":"Paramètres!AV8","v":0},540,{"$f":"VALUE_Healer[[#This Row],[Valeur]]*VALUE_Healer[[#This Row],[Rang]]","v":0},3,{"$f":"Paramètres!AW8","v":0},450,{"$f":"VALUE_Dragon[[#This Row],[Valeur]]*VALUE_Dragon[[#This Row],[Rang]]","v":0},3,{"$f":"Paramètres!AX8","v":0},360,{"$f":"VALUE_PEKKA[[#This Row],[Valeur]]*VALUE_PEKKA[[#This Row],[Rang]]","v":0}]
[4,{"$f":"Paramètres!AO9","v":0},400,{"$f":"VALUE_Barbarian[[#This Row],[Valeur]]*VALUE_Barbarian[[#This Row],[Rang]]","v":0},4,{"$f":"Paramètres!AP9","v":0},600,{"$f":"VALUE_Archer[[#This Row],[Valeur]]*VALUE_Archer[[#This Row],[Rang]]","v":0},4,{"$f":"Paramètres!AQ9","v":0},200,{"$f":"VALUE_Goblin[[#This Row],[Valeur]]*VALUE_Goblin[[#This Row],[Rang]]","v":0},4,{"$f":"Paramètres!AR9","v":0},480,{"$f":"VALUE_Giant[[#This Row],[Valeur]]*VALUE_Giant[[#This Row],[Rang]]","v":0},4,{"$f":"Paramètres!AS9","v":0},400,{"$f":"VALUE_Wall_Breaker[[#This Row],[Valeur]]*VALUE_Wall_Breaker[[#This Row],[Rang]]","v":0},4,{"$f":"Paramètres!AT9","v":0},480,{"$f":"VALUE_Balloon[[#This Row],[Valeur]]*VALUE_Balloon[[#This Row],[Rang]]","v":0},4,{"$f":"Paramètres!AU9","v":0},600,{"$f":"VALUE_Wizard[[#This Row],[Valeur]]*VALUE_Wizard[[#This Row],[Rang]]","v":0},4,{"$f":"Paramètres!AV9","v":0},720,{"$f":"VALUE_Healer[[#This Row],[Valeur]]*VALUE_Healer[[#This Row],[Rang]]","v":0},4,{"$f":"Paramètres!AW9","v":0},600,{"$f":"VALUE_Dragon[[#This Row],[Valeur]]*VALUE_Dragon[[#This Row],[Rang]]","v":0},4,{"$f":"Paramètres!AX9","v":0},480,{"$f":"VALUE_PEKKA[[#This Row],[Valeur]]*VALUE_PEKKA[[#This Row],[Rang]]","v":0}]
[5,{"$f":"Paramètres!AO10","v":0},500,{"$f":"VALUE_Barbarian[[#This Row],[Valeur]]*VALUE_Barbarian[[#This Row],[Rang]]","v":0},5,{"$f":"Paramètres!AP10","v":0},750,{"$f":"VALUE_Archer[[#This Row],[Valeur]]*VALUE_Archer[[#This Row],[Rang]]","v":0},5,{"$f":"Paramètres!AQ10","v":0},250,{"$f":"VALUE_Goblin[[#This Row],[Valeur]]*VALUE_Goblin[[#This Row],[Rang]]","v":0},5,{"$f":"Paramètres!AR10","v":0},600,{"$f":"VALUE_Giant[[#This Row],[Valeur]]*VALUE_Giant[[#This Row],[Rang]]","v":0},5,{"$f":"Paramètres!AS10","v":0},500,{"$f":"VALUE_Wall_Breaker[[#This Row],[Valeur]]*VALUE_Wall_Breaker[[#This Row],[Rang]]","v":0},5,{"$f":"Paramètres!AT10","v":0},600,{"$f":"VALUE_Balloon[[#This Row],[Valeur]]*VALUE_Balloon[[#This Row],[Rang]]","v":0},5,{"$f":"Paramètres!AU10","v":0},750,{"$f":"VALUE_Wizard[[#This Row],[Valeur]]*VALUE_Wizard[[#This Row],[Rang]]","v":0},null,null,null,null,5,{"$f":"Paramètres!AW10","v":0},750,{"$f":"VALUE_Dragon[[#This Row],[Valeur]]*VALUE_Dragon[[#This Row],[Rang]]","v":0},5,{"$f":"Paramètres!AX10","v":0},600,{"$f":"VALUE_PEKKA[[#This Row],[Valeur]]*VALUE_PEKKA[[#This Row],[Rang]]","v":0}]
[6,{"$f":"Paramètres!AO11","v":0},600,{"$f":"VALUE_Barbarian[[#This Row],[Valeur]]*VALUE_Barbarian[[#This Row],[Rang]]","v":0},6,{"$f":"Paramètres!AP11","v":0},900,{"$f":"VALUE_Archer[[#This Row],[Valeur]]*VALUE_Archer[[#This Row],[Rang]]","v":0},6,{"$f":"Paramètres!AQ11","v":0},300,{"$f":"VALUE_Goblin[[#This Row],[Valeur]]*VALUE_Goblin[[#This Row],[Rang]]","v":0},6,{"$f":"Paramètres!AR11","v":0},720,{"$f":"VALUE_Giant[[#This Row],[Valeur]]*VALUE_Giant[[#This Row],[Rang]]","v":0},6,{"$f":"Paramètres!AS11","v":0},600,{"$f":"VALUE_Wall_Breaker[[#This Row],[Valeur]]*VALUE_Wall_Breaker[[#This Row],[Rang]]","v":0},6,{"$f":"Paramètres!AT11","v":0},720,{"$f":"VALUE_Balloon[[#This Row],[Valeur]]*VALUE_Balloon[[#This Row],[Rang]]","v":0},6,{"$f":"Paramètres!AU11","v":0},900,{"$f":"VALUE_Wizard[[#This Row],[Valeur]]*VALUE_Wizard[[#This Row],[Rang]]","v":0}]
[7,{"$f":"Paramètres!AO12","v":0},700,{"$f":"VALUE_Barbarian[[#This Row],[Valeur]]*VALUE_Barbarian[[#This Row],[Rang]]","v":0},7,{"$f":"Paramètres!AP12","v":0},1050,{"$f":"VALUE_Archer[[#This Row],[Valeur]]*VALUE_Archer[[#This Row],[Rang]]","v":0},null,null,null,null,7,{"$f":"Paramètres!AR12","v":0},840,{"$f":"VALUE_Giant[[#This Row],[Valeur]]*VALUE_Giant[[#This Row],[Rang]]","v":0}]
[]
[]
["Valeurs - Troupes Noires"]
["Serviteur",null,null,null,"Chevaucheur de Cochon",null,null,null,"Valkyrie",null,null,null,"Golem",null,null,null,"Sorcière",null,null,null,"Molosse de lave"]
["LVL","Rang","Valeur","Total","LVL","Rang","Valeur","Total","LVL","Rang","Valeur","Total","LVL","Rang","Valeur","Total","LVL","Rang","Valeur","Total","LVL","Rang","Valeur","Total"]
[1,{"$f":"Paramètres!AY6","v":0},120,{"$f":"VALUE_Minion[[#This Row],[Valeur]]*VALUE_Minion[[#This Row],[Rang]]","v":0},1,{"$f":"Paramètres!AZ6","v":0},120,{"$f":"VALUE_Hog_Rider[[#This Row],[Valeur]]*VALUE_Hog_Rider[[#This Row],[Rang]]","v":0},1,{"$f":"Paramètres!BA6","v":0},100,{"$f":"VALUE_Valkyrie[[#This Row],[Valeur]]*VALUE_Valkyrie[[#This Row],[Rang]]","v":0},1,{"$f":"Paramètres!BB6","v":0},120,{"$f":"VALUE_Golem[[#This Row],[Valeur]]*VALUE_Golem[[#This Row],[Rang]]","v":0},1,{"$f":"Paramètres!BC6","v":0},900,{"$f":"VALUE_Witch[[#This Row],[Valeur]]*VALUE_Witch[[#This Row],[Rang]]","v":0},1,{"$f":"Paramètres!BD6","v":0},120,{"$f":"VALUE_Lava_Hound[[#This Row],[Valeur]]*VALUE_Lava_Hound[[#This Row],[Rang]]","v":0}]
[2,{"$f":"Paramètres!AY7","v":0},240,{"$f":"VALUE_Minion[[#This Row],[Valeur]]*VALUE_Minion[[#This Row],[Rang]]","v":0},2,{"$f":"Paramètres!AZ7","v":0},240,{"$f":"VALUE_Hog_Rider[[#This Row],[Valeur]]*VALUE_Hog_Rider[[#This Row],[Rang]]","v":0},2,{"$f":"Paramètres!BA7","v":0},200,{"$f":"VALUE_Valkyrie[[#This Row],[Valeur]]*VALUE_Valkyrie[[#This Row],[Rang]]","v":0},2,{"$f":"Paramètres!BB7","v":0},240,{"$f":"VALUE_Golem[[#This Row],[Valeur]]*VALUE_Golem[[#This Row],[Rang]]","v":0},2,{"$f":"Paramètres!BC7","v":0},2100,{"$f":"VALUE_Witch[[#This Row],[Valeur]]*VALUE_Witch[[#This Row],[Rang]]","v":0},2,{"$f":"Paramètres!BD7","v":0},240,{"$f":"VALUE_Lava_Hound[[#This Row],[Valeur]]*VALUE_Lava_Hound[[#This Row],[Rang]]","v":0}]
[3,{"$f":"Paramètres!AY8","v":0},360,{"$f":"VALUE_Minion[[#This Row],[Valeur]]*VALUE_Minion[[#This Row],[Rang]]","v":0},3,{"$f":"Paramètres!AZ8","v":0},360,{"$f":"VALUE_Hog_Rider[[#This Row],[Valeur]]*VALUE_Hog_Rider[[#This Row],[Rang]]","v":0},3,{"$f":"Paramètres!BA8","v":0},300,{"$f":"VALUE_Valkyrie[[#This Row],[Valeur]]*VALUE_Valkyrie[[#This Row],[Rang]]","v":0},3,{"$f":"Paramètres!BB8","v":0},360,{"$f":"VALUE_Golem[[#This Row],[Valeur]]*VALUE_Golem[[#This Row],[Rang]]","v":0},null,null,null,null,3,{"$f":"Paramètres!BD8","v":0},360,{"$f":"VALUE_Lava_Hound[[#This Row],[Valeur]]*VALUE_Lava_Hound[[#This Row],[Rang]]","v":0}]
[4,{"$f":"Paramètres!AY9","v":0},480,{"$f":"VALUE_Minion[[#This Row],[Valeur]]*VALUE_Minion[[#This Row],[Rang]]","v":0},4,{"$f":"Paramètres!AZ9","v":0},480,{"$f":"VALUE_Hog_Rider[[#This Row],[Valeur]]*VALUE_Hog_Rider[[#This Row],[Rang]]","v":0},4,{"$f":"Paramètres!BA9","v":0},400,{"$f":"VALUE_Valkyrie[[#This Row],[Valeur]]*VALUE_Valkyrie[[#This Row],[Rang]]","v":0},4,{"$f":"Paramètres!BB9","v":0},480,{"$f":"VALUE_Golem[[#This Row],[Valeur]]*VALUE_Golem[[#This Row],[Rang]]","v":0}]
[5,{"$f":"Paramètres!AY10","v":0},600,{"$f":"VALUE_Minion[[#This Row],[Valeur]]*VALUE_Minion[[#This Row],[Rang]]","v":0},5,{"$f":"Paramètres!AZ10","v":0},600,{"$f":"VALUE_Hog_Rider[[#This Row],[Valeur]]*VALUE_Hog_Rider[[#This Row],[Rang]]","v":0},null,null,null,null,5,{"$f":"Paramètres!BB10","v":0},600,{"$f":"VALUE_Golem[[#This Row],[Valeur]]*VALUE_Golem[[#This Row],[Rang]]","v":0}]
[6,{"$f":"Paramètres!AY11","v":0},720,{"$f":"VALUE_Minion[[#This Row],[Valeur]]*VALUE_Minion[[#This Row],[Rang]]","v":0}]
[]
[]
["Valeurs - Bâtiments de Défense"]
["Rempart",null,null,null,"Canon",null,null,null,"Tour d'Archers",null,null,null,"Mortier",null,null,null,"Défense Antiaérienne",null,null,null,"Tour de Sorciers",null,null,null,"Propulseur d'air",null,null,null,"Tesla Camouflée",null,null,null,"Arc-X",null,null,null,"Tour de l'Enfer"]
["LVL","Rang","Valeur","Total","LVL","Rang","Valeur","Total","LVL","Rang","Valeur","Total","LVL","Rang","Valeur","Total","LVL","Rang","Valeur","Total","LVL","Rang","Valeur","Total","LVL","Rang","Valeur","Total","LVL","Rang","Valeur","Total","LVL","Rang","Valeur","Total","LVL","Rang","Valeur","Total"]
[1,{"$f":"Paramètres!N6","v":0},4.2,{"$f":"VALUE_Wall[[#This Row],[Valeur]]*VALUE_Wall[[#This Row],[Rang]]","v":0},1,{"$f":"Paramètres!O6","v":0},100,{"$f":"VALUE_Cannon[[#This Row],[Valeur]]*VALUE_Cannon[[#This Row],[Rang]]","v":0},1,{"$f":"Paramètres!P6","v":0},100,{"$f":"VALUE_Archer_Tower[[#This Row],[Valeur]]*VALUE_Archer_Tower[[#This Row],[Rang]]","v":0},1,{"$f":"Paramètres!Q6","v":0},500,{"$f":"VALUE_Mortar[[#This Row],[Valeur]]*VALUE_Mortar[[#This Row],[Rang]]","v":0},1,{"$f":"Paramètres!R6","v":0},40,{"$f":"VALUE_Air_Defense[[#This Row],[Valeur]]*VALUE_Air_Defense[[#This Row],[Rang]]","v":0},1,{"$f":"Paramètres!S6","v":0},500,{"$f":"VALUE_Wizard_Tower[[#This Row],[Valeur]]*VALUE_Wizard_Tower[[#This Row],[Rang]]","v":0},1,{"$f":"Paramètres!T6","v":0},10,{"$f":"VALUE_Air_Sweeper[[#This Row],[Valeur]]*VALUE_Air_Sweeper[[#This Row],[Rang]]","v":0},1,{"$f":"Paramètres!U6","v":0},100,{"$f":"VALUE_Hidden_Tesla[[#This Row],[Valeur]]*VALUE_Hidden_Tesla[[#This Row],[Rang]]","v":0},1,{"$f":"Paramètres!V6","v":0},400,{"$f":"VALUE_XBow[[#This Row],[Valeur]]*VALUE_XBow[[#This Row],[Rang]]","v":0},1,{"$f":"Paramètres!X6","v":0},1000,{"$f":"VALUE_Inferno_Tower[[#This Row],[Valeur]]*VALUE_Inferno_Tower[[#This Row],[Rang]]","v":0}]
[2,{"$f":"Paramètres!N7","v":0},8.4,{"$f":"VALUE_Wall[[#This Row],[Valeur]]*VALUE_Wall[[#This Row],[Rang]]","v":0},2,{"$f":"Paramètres!O7","v":0},199,{"$f":"VALUE_Cannon[[#This Row],[Valeur]]*VALUE_Cannon[[#This Row],[Rang]]","v":0},2,{"$f":"Paramètres!P7","v":0},199,{"$f":"VALUE_Archer_Tower[[#This Row],[Valeur]]*VALUE_Archer_Tower[[#This Row],[Rang]]","v":0},2,{"$f":"Paramètres!Q7","v":0},990,{"$f":"VALUE_Mortar[[#This Row],[Valeur]]*VALUE_Mortar[[#This Row],[Rang]]","v":0},2,{"$f":"Paramètres!R7","v":0},80,{"$f":"VALUE_Air_Defense[[#This Row],[Valeur]]*VALUE_Air_Defense[[#This Row],[Rang]]","v":0},2,{"$f":"Paramètres!S7","v":0},970,{"$f":"VALUE_Wizard_Tower[[#This Row],[Valeur]]*VALUE_Wizard_Tower[[#This Row],[Rang]]","v":0},2,{"$f":"Paramètres!T7","v":0},20,{"$f":"VALUE_Air_Sweeper[[#This Row],[Valeur]]*VALUE_Air_Sweeper[[#This Row],[Rang]]","v":0},2,{"$f":"Paramètres!U7","v":0},200,{"$f":"VALUE_Hidden_Tesla[[#This Row],[Valeur]]*VALUE_Hidden_Tesla[[#This Row],[Rang]]","v":0},2,{"$f":"Paramètres!V7","v":0},800,{"$f":"VALUE_XBow[[#This Row],[Valeur]]*VALUE_XBow[[#This Row],[Rang]]","v":0},2,{"$f":"Paramètres!X7","v":0},2000,{"$f":"VALUE_Inferno_Tower[[#This Row],[Valeur]]*VALUE_Inferno_Tower[[#This Row],[Rang]]","v":0}]
[3,{"$f":"Paramètres!N8","v":0},12.600000000000001,{"$f":"VALUE_Wall[[#This Row],[Valeur]]*VALUE_Wall[[#This Row],[Rang]]","v":0},3,{"$f":"Paramètres!O8","v":0},297,{"$f":"VALUE_Cannon[[#This Row],[Valeur]]*VALUE_Cannon[[#This Row],[Rang]]","v":0},3,{"$f":"Paramètres!P8","v":0},297,{"$f":"VALUE_Archer_Tower[[#This Row],[Valeur]]*VALUE_Archer_Tower[[#This Row],[Rang]]","v":0},3,{"$f":"Paramètres!Q8","v":0},1470,{"$f":"VALUE_Mortar[[#This Row],[Valeur]]*VALUE_Mortar[[#This Row],[Rang]]","v":0},3,{"$f":"Paramètres!R8","v":0},120,{"$f":"VALUE_Air_Defense[[#This Row],[Valeur]]*VALUE_Air_Defense[[#This Row],[Rang]]","v":0},3,{"$f":"Paramètres!S8","v":0},1410,{"$f":"VALUE_Wizard_Tower[[#This Row],[Valeur]]*VALUE_Wizard_Tower[[#This Row],[Rang]]","v":0},3,{"$f":"Paramètres!T8","v":0},30,{"$f":"VALUE_Air_Sweeper[[#This Row],[Valeur]]*VALUE_Air_Sweeper[[#This Row],[Rang]]","v":0},3,{"$f":"Paramètres!U8","v":0},300,{"$f":"VALUE_Hidden_Tesla[[#This Row],[Valeur]]*VALUE_Hidden_Tesla[[#This Row],[Rang]]","v":0},3,{"$f":"Paramètres!V8","v":0},1200,{"$f":"VALUE_XBow[[#This Row],[Valeur]]*VALUE_XBow[[#This Row],[Rang]]","v":0},3,{"$f":"Paramètres!X8","v":0},3000,{"$f":"VALUE_Inferno_Tower[[#This Row],[Valeur]]*VALUE_Inferno_Tower[[#This Row],[Rang]]","v":0}]
[4,{"$f":"Paramètres!N9","v":0},16.8,{"$f":"VALUE_Wall[[#This Row],[Valeur]]*VALUE_Wall[[#This Row],[Rang]]","v":0},4,{"$f":"Paramètres!O9","v":0},394,{"$f":"VALUE_Cannon[[#This Row],[Valeur]]*VALUE_Cannon[[#This Row],[Rang]]","v":0},4,{"$f":"Paramètres!P9","v":0},394,{"$f":"VALUE_Archer_Tower[[#This Row],[Valeur]]*VALUE_Archer_Tower[[#This Row],[Rang]]","v":0},4,{"$f":"Paramètres!Q9","v":0},1940,{"$f":"VALUE_Mortar[[#This Row],[Valeur]]*VALUE_Mortar[[#This Row],[Rang]]","v":0},4,{"$f":"Paramètres!R9","v":0},160,{"$f":"VALUE_Air_Defense[[#This Row],[Valeur]]*VALUE_Air_Defense[[#This Row],[Rang]]","v":0},4,{"$f":"Paramètres!S9","v":0},1820,{"$f":"VALUE_Wizard_Tower[[#This Row],[Valeur]]*VALUE_Wizard_Tower[[#This Row],[Rang]]","v":0},4,{"$f":"Paramètres!T9","v":0},40,{"$f":"VALUE_Air_Sweeper[[#This Row],[Valeur]]*VALUE_Air_Sweeper[[#This Row],[Rang]]","v":0},4,{"$f":"Paramètres!U9","v":0},400,{"$f":"VALUE_Hidden_Tesla[[#This Row],[Valeur]]*VALUE_Hidden_Tesla[[#This Row],[Rang]]","v":0},4,{"$f":"Paramètres!V9","v":0},1600,{"$f":"VALUE_XBow[[#This Row],[Valeur]]*VALUE_XBow[[#This Row],[Rang]]","v":0}]
[5,{"$f":"Paramètres!N10","v":0},21,{"$f":"VALUE_Wall[[#This Row],[Valeur]]*VALUE_Wall[[#This Row],[Rang]]","v":0},5,{"$f":"Paramètres!O10","v":0},490,{"$f":"VALUE_Cannon[[#This Row],[Valeur]]*VALUE_Cannon[[#This Row],[Rang]]","v":0},5,{"$f":"Paramètres!P10","v":0},490,{"$f":"VALUE_Archer_Tower[[#This Row],[Valeur]]*VALUE_Archer_Tower[[#This Row],[Rang]]","v":0},5,{"$f":"Paramètres!Q10","v":0},2400,{"$f":"VALUE_Mortar[[#This Row],[Valeur]]*VALUE_Mortar[[#This Row],[Rang]]","v":0},5,{"$f":"Paramètres!R10","v":0},200,{"$f":"VALUE_Air_Defense[[#This Row],[Valeur]]*VALUE_Air_Defense[[#This Row],[Rang]]","v":0},5,{"$f":"Paramètres!S10","v":0},2200,{"$f":"VALUE_Wizard_Tower[[#This Row],[Valeur]]*VALUE_Wizard_Tower[[#This Row],[Rang]]","v":0},5,{"$f":"Paramètres!T10","v":0},50,{"$f":"VALUE_Air_Sweeper[[#This Row],[Valeur]]*VALUE_Air_Sweeper[[#This Row],[Rang]]","v":0},5,{"$f":"Paramètres!U10","v":0},500,{"$f":"VALUE_Hidden_Tesla[[#This Row],[Valeur]]*VALUE_Hidden_Tesla[[#This Row],[Rang]]","v":0}]
[6,{"$f":"Paramètres!N11","v":0},25.2,{"$f":"VALUE_Wall[[#This Row],[Valeur]]*VALUE_Wall[[#This Row],[Rang]]","v":0},6,{"$f":"Paramètres!O11","v":0},585,{"$f":"VALUE_Cannon[[#This Row],[Valeur]]*VALUE_Cannon[[#This Row],[Rang]]","v":0},6,{"$f":"Paramètres!P11","v":0},585,{"$f":"VALUE_Archer_Tower[[#This Row],[Valeur]]*VALUE_Archer_Tower[[#This Row],[Rang]]","v":0},6,{"$f":"Paramètres!Q11","v":0},2850,{"$f":"VALUE_Mortar[[#This Row],[Valeur]]*VALUE_Mortar[[#This Row],[Rang]]","v":0},6,{"$f":"Paramètres!R11","v":0},240,{"$f":"VALUE_Air_Defense[[#This Row],[Valeur]]*VALUE_Air_Defense[[#This Row],[Rang]]","v":0},6,{"$f":"Paramètres!S11","v":0},2550,{"$f":"VALUE_Wizard_Tower[[#This Row],[Valeur]]*VALUE_Wizard_Tower[[#This Row],[Rang]]","v":0},6,{"$f":"Paramètres!T11","v":0},60,{"$f":"VALUE_Air_Sweeper[[#This Row],[Valeur]]*VALUE_Air_Sweeper[[#This Row],[Rang]]","v":0},6,{"$f":"Paramètres!U11","v":0},600,{"$f":"VALUE_Hidden_Tesla[[#This Row],[Valeur]]*VALUE_Hidden_Tesla[[#This Row],[Rang]]","v":0}]
[7,{"$f":"Paramètres!N12","v":0},29.4,{"$f":"VALUE_Wall[[#This Row],[Valeur]]*VALUE_Wall[[#This Row],[Rang]]","v":0},7,{"$f":"Paramètres!O12","v":0},679,{"$f":"VALUE_Cannon[[#This Row],[Valeur]]*VALUE_Cannon[[#This Row],[Rang]]","v":0},7,{"$f":"Paramètres!P12","v":0},679,{"$f":"VALUE_Archer_Tower[[#This Row],[Valeur]]*VALUE_Archer_Tower[[#This Row],[Rang]]","v":0},7,{"$f":"Paramètres!Q12","v":0},3290,{"$f":"VALUE_Mortar[[#This Row],[Valeur]]*VALUE_Mortar[[#This Row],[Rang]]","v":0},7,{"$f":"Paramètres!R12","v":0},280,{"$f":"VALUE_Air_Defense[[#This Row],[Valeur]]*VALUE_Air_Defense[[#This Row],[Rang]]","v":0},7,{"$f":"Paramètres!S12","v":0},2870,{"$f":"VALUE_Wizard_Tower[[#This Row],[Valeur]]*VALUE_Wizard_Tower[[#This Row],[Rang]]","v":0},null,null,null,null,7,{"$f":"Paramètres!U12","v":0},700,{"$f":"VALUE_Hidden_Tesla[[#This Row],[Valeur]]*VALUE_Hidden_Tesla[[#This Row],[Rang]]","v":0}]
[8,{"$f":"Paramètres!N13","v":0},33.6,{"$f":"VALUE_Wall[[#This Row],[Valeur]]*VALUE_Wall[[#This Row],[Rang]]","v":0},8,{"$f":"Paramètres!O13","v":0},772,{"$f":"VALUE_Cannon[[#This Row],[Valeur]]*VALUE_Cannon[[#This Row],[Rang]]","v":0},8,{"$f":"Paramètres!P13","v":0},772,{"$f":"VALUE_Archer_Tower[[#This Row],[Valeur]]*VALUE_Archer_Tower[[#This Row],[Rang]]","v":0},8,{"$f":"Paramètres!Q13","v":0},3720,{"$f":"VALUE_Mortar[[#This Row],[Valeur]]*VALUE_Mortar[[#This Row],[Rang]]","v":0},8,{"$f":"Paramètres!R13","v":0},320,{"$f":"VALUE_Air_Defense[[#This Row],[Valeur]]*VALUE_Air_Defense[[#This Row],[Rang]]","v":0},8,{"$f":"Paramètres!S13","v":0},3160,{"$f":"VALUE_Wizard_Tower[[#This Row],[Valeur]]*VALUE_Wizard_Tower[[#This Row],[Rang]]","v":0},null,null,null,null,8,{"$f":"Paramètres!U13","v":0},800,{"$f":"VALUE_Hidden_Tesla[[#This Row],[Valeur]]*VALUE_Hidden_Tesla[[#This Row],[Rang]]","v":0}]
[9,{"$f":"Paramètres!N14","v":0},37.800000000000004,{"$f":"VALUE_Wall[[#This Row],[Valeur]]*VALUE_Wall[[#This Row],[Rang]]","v":0},9,{"$f":"Paramètres!O14","v":0},864,{"$f":"VALUE_Cannon[[#This Row],[Valeur]]*VALUE_Cannon[[#This Row],[Rang]]","v":0},9,{"$f":"Paramètres!P14","v":0},864,{"$f":"VALUE_Archer_Tower[[#This Row],[Valeur]]*VALUE_Archer_Tower[[#This Row],[Rang]]","v":0}]
[10,{"$f":"Paramètres!N15","v":0},42.000000000000007,{"$f":"VALUE_Wall[[#This Row],[Valeur]]*VALUE_Wall[[#This Row],[Rang]]","v":0},10,{"$f":"Paramètres!O15","v":0},955,{"$f":"VALUE_Cannon[[#This Row],[Valeur]]*VALUE_Cannon[[#This Row],[Rang]]","v":0},10,{"$f":"Paramètres!P15","v":0},955,{"$f":"VALUE_Archer_Tower[[#This Row],[Valeur]]*VALUE_Archer_Tower[[#This Row],[Rang]]","v":0}]
[11,{"$f":"Paramètres!N16","v":0},46.20000000000001,{"$f":"VALUE_Wall[[#This Row],[Valeur]]*VALUE_Wall[[#This Row],[Rang]]","v":0},11,{"$f":"Paramètres!O16","v":0},1045,{"$f":"VALUE_Cannon[[#This Row],[Valeur]]*VALUE_Cannon[[#This Row],[Rang]]","v":0},11,{"$f":"Paramètres!P16","v":0},1045,{"$f":"VALUE_Archer_Tower[[#This Row],[Valeur]]*VALUE_Archer_Tower[[#This Row],[Rang]]","v":0}]
[null,null,null,null,12,{"$f":"Paramètres!O17","v":0},1134,{"$f":"VALUE_Cannon[[#This Row],[Valeur]]*VALUE_Cannon[[#This Row],[Rang]]","v":0},12,{"$f":"Paramètres!P17","v":0},1134,{"$f":"VALUE_Archer_Tower[[#This Row],[Valeur]]*VALUE_Archer_Tower[[#This Row],[Rang]]","v":0}]
[null,null,null,null,13,{"$f":"Paramètres!O18","v":0},1222,{"$f":"VALUE_Cannon[[#This Row],[Valeur]]*VALUE_Cannon[[#This Row],[Rang]]","v":0},13,{"$f":"Paramètres!P18","v":0},1222,{"$f":"VALUE_Archer_Tower[[#This Row],[Valeur]]*VALUE_Archer_Tower[[#This Row],[Rang]]","v":0}]
[]
[]
["Valeurs - Pièges Défensifs"]
["Bombe",null,null,null,"Piège à ressort",null,null,null,"Bombe géante",null,null,null,"Bombe aérienne",null,null,null,"Tête chercheuse",null,null,null,"Piège squelettique"]
["LVL","Rang","Valeur","Total","LVL","Rang","Valeur","Total","LVL","Rang","Valeur","Total","LVL","Rang","Valeur","Total","LVL","Rang","Valeur","Total","LVL","Rang","Valeur","Total"]
[1,{"$f":"Paramètres!Y6","v":0},100,{"$f":"VALUE_Bomb[[#This Row],[Valeur]]*VALUE_Bomb[[#This Row],[Rang]]","v":0},1,{"$f":"Paramètres!Z6","v":0},20,{"$f":"[Valeur]*[Rang]","v":0},1,{"$f":"Paramètres!AA6","v":0},100,{"$f":"VALUE_Giant_Bomb[[#This Row],[Valeur]]*VALUE_Giant_Bomb[[#This Row],[Rang]]","v":0},1,{"$f":"Paramètres!AB6","v":0},50,{"$f":"VALUE_Air_Bomb[[#This Row],[Valeur]]*VALUE_Air_Bomb[[#This Row],[Rang]]","v":0},1,{"$f":"Paramètres!AC6","v":0},20,{"$f":"VALUE_Seeking_Air_Mine[[#This Row],[Valeur]]*VALUE_Seeking_Air_Mine[[#This Row],[Rang]]","v":0},1,{"$f":"Paramètres!AD6","v":0},50,{"$f":"VALUE_Skeleton_Trap[[#This Row],[Valeur]]*VALUE_Skeleton_Trap[[#This Row],[Rang]]","v":0}]
[2,{"$f":"Paramètres!Y7","v":0},200,{"$f":"VALUE_Bomb[[#This Row],[Valeur]]*VALUE_Bomb[[#This Row],[Rang]]","v":0},null,null,null,null,2,{"$f":"Paramètres!AA7","v":0},200,{"$f":"VALUE_Giant_Bomb[[#This Row],[Valeur]]*VALUE_Giant_Bomb[[#This Row],[Rang]]","v":0},2,{"$f":"Paramètres!AB7","v":0},100,{"$f":"VALUE_Air_Bomb[[#This Row],[Valeur]]*VALUE_Air_Bomb[[#This Row],[Rang]]","v":0},2,{"$f":"Paramètres!AC7","v":0},40,{"$f":"VALUE_Seeking_Air_Mine[[#This Row],[Valeur]]*VALUE_Seeking_Air_Mine[[#This Row],[Rang]]","v":0},2,{"$f":"Paramètres!AD7","v":0},50,{"$f":"VALUE_Skeleton_Trap[[#This Row],[Valeur]]*VALUE_Skeleton_Trap[[#This Row],[Rang]]","v":0}]
[3,{"$f":"Paramètres!Y8","v":0},300,{"$f":"VALUE_Bomb[[#This Row],[Valeur]]*VALUE_Bomb[[#This Row],[Rang]]","v":0},null,null,null,null,3,{"$f":"Paramètres!AA8","v":0},300,{"$f":"VALUE_Giant_Bomb[[#This Row],[Valeur]]*VALUE_Giant_Bomb[[#This Row],[Rang]]","v":0},3,{"$f":"Paramètres!AB8","v":0},150,{"$f":"VALUE_Air_Bomb[[#This Row],[Valeur]]*VALUE_Air_Bomb[[#This Row],[Rang]]","v":0},3,{"$f":"Paramètres!AC8","v":0},60,{"$f":"VALUE_Seeking_Air_Mine[[#This Row],[Valeur]]*VALUE_Seeking_Air_Mine[[#This Row],[Rang]]","v":0},3,{"$f":"Paramètres!AD8","v":0},50,{"$f":"VALUE_Skeleton_Trap[[#This Row],[Valeur]]*VALUE_Skeleton_Trap[[#This Row],[Rang]]","v":0}]
[4,{"$f":"Paramètres!Y9","v":0},400,{"$f":"VALUE_Bomb[[#This Row],[Valeur]]*VALUE_Bomb[[#This Row],[Rang]]","v":0},null,null,null,null,4,{"$f":"Paramètres!AA9","v":0},400,{"$f":"VALUE_Giant_Bomb[[#This Row],[Valeur]]*VALUE_Giant_Bomb[[#This Row],[Rang]]","v":0},4,{"$f":"Paramètres!AB9","v":0},200,{"$f":"VALUE_Air_Bomb[[#This Row],[Valeur]]*VALUE_Air_Bomb[[#This Row],[Rang]]","v":0}]
[5,{"$f":"Paramètres!Y10","v":0},500,{"$f":"VALUE_Bomb[[#This Row],[Valeur]]*VALUE_Bomb[[#This Row],[Rang]]","v":0}]
[6,{"$f":"Paramètres!Y11","v":0},600,{"$f":"VALUE_Bomb[[#This Row],[Valeur]]*VALUE_Bomb[[#This Row],[Rang]]","v":0}]
[]
[]
["Valeurs - Héros",null,null,null,null,null,null,null,null,null,null,null,"Valeurs - Bâtiments de Ressources"]
["Roi des Barbares",null,null,null,"Reine des Archers",null,null,null,null,null,null,null,"Mine d'Or",null,null,null,"Foreuse d'Élixir Noir",null,null,null,"Réserve d'Or",null,null,null,"Réservoir d'Élixir Noir",null,null,null,"Extracteur d'Élixir",null,null,null,"Réservoir d'Élixir"]
["LVL","Rang","Valeur","Total","LVL","Rang","Valeur","Total",null,null,null,null,"LVL","Rang","Valeur","Total","LVL","Rang","Valeur","Total","LVL","Rang","Valeur","Total","LVL","Rang","Valeur","Total","LVL","Rang","Valeur","Total","LVL","Rang","Valeur","Total"]
[1,{"$f":"Paramètres!BE6","v":0},15,{"$f":"VALUE_Barbarian_King[[#This Row],[Valeur]]*VALUE_Barbarian_King[[#This Row],[Rang]]","v":0},1,{"$f":"Paramètres!BG6","v":0},26,{"$f":"VALUE_Archer_Queen[[#This Row],[Valeur]]*VALUE_Archer_Queen[[#This Row],[Rang]]","v":0},null,null,null,null,1,{"$f":"Paramètres!B6","v":0},0,{"$f":"VALUE_Gold_Mine[[#This Row],[Valeur]]*VALUE_Gold_Mine[[#This Row],[Rang]]","v":0},1,{"$f":"Paramètres!D6","v":0},0,{"$f":"VALUE_Dark_Elixir_Drill[[#This Row],[Valeur]]*VALUE_Dark_Elixir_Drill[[#This Row],[Rang]]","v":0},1,{"$f":"Paramètres!E6","v":0},0,{"$f":"VALUE_Gold_Storage[[#This Row],[Valeur]]*VALUE_Gold_Storage[[#This Row],[Rang]]","v":0},1,{"$f":"Paramètres!G6","v":0},0,{"$f":"VALUE_Dark_Elixir_Storage[[#This Row],[Valeur]]*VALUE_Dark_Elixir_Storage[[#This Row],[Rang]]","v":0},1,{"$f":"Paramètres!C6","v":0},0,{"$f":"VALUE_Elixir_Collector[[#This Row],[Valeur]]*VALUE_Elixir_Collector[[#This Row],[Rang]]","v":0},1,{"$f":"Paramètres!F6","v":0},0,{"$f":"VALUE_Elixir_Storage[[#This Row],[Valeur]]*VALUE_Elixir_Storage[[#This Row],[Rang]]","v":0}]
[2,{"$f":"Paramètres!BE7","v":0},{"$f":"15+C80","v":30},{"$f":"VALUE_Barbarian_King[[#This Row],[Valeur]]*VALUE_Barbarian_King[[#This Row],[Rang]]","v":0},2,{"$f":"Paramètres!BG7","v":0},{"$f":"G80+26","v":52},{"$f":"VALUE_Archer_Queen[[#This Row],[Valeur]]*VALUE_Archer_Queen[[#This Row],[Rang]]","v":0},null,null,null,null,2,{"$f":"Paramètres!B7","v":0},0,{"$f":"VALUE_Gold_Mine[[#This Row],[Valeur]]*VALUE_Gold_Mine[[#This Row],[Rang]]","v":0},2,{"$f":"Paramètres!D7","v":0},0,{"$f":"VALUE_Dark_Elixir_Drill[[#This Row],[Valeur]]*VALUE_Dark_Elixir_Drill[[#This Row],[Rang]]","v":0},2,{"$f":"Paramètres!E7","v":0},0,{"$f":"VALUE_Gold_Storage[[#This Row],[Valeur]]*VALUE_Gold_Storage[[#This Row],[Rang]]","v":0},2,{"$f":"Paramètres!G7","v":0},0,{"$f":"VALUE_Dark_Elixir_Storage[[#This Row],[Valeur]]*VALUE_Dark_Elixir_Storage[[#This Row],[Rang]]","v":0},2,{"$f":"Paramètres!C7","v":0},0,{"$f":"VALUE_Elixir_Collector[[#This Row],[Valeur]]*VALUE_Elixir_Collector[[#This Row],[Rang]]","v":0},2,{"$f":"Paramètres!F7","v":0},0,{"$f":"VALUE_Elixir_Storage[[#This Row],[Valeur]]*VALUE_Elixir_Storage[[#This Row],[Rang]]","v":0}]
[3,{"$f":"Paramètres!BE8","v":0},{"$f":"15+C81","v":45},{"$f":"VALUE_Barbarian_King[[#This Row],[Valeur]]*VALUE_Barbarian_King[[#This Row],[Rang]]","v":0},3,{"$f":"Paramètres!BG8","v":0},{"$f":"G81+26","v":78},{"$f":"VALUE_Archer_Queen[[#This Row],[Valeur]]*VALUE_Archer_Queen[[#This Row],[Rang]]","v":0},null,null,null,null,3,{"$f":"Paramètres!B8","v":0},0,{"$f":"VALUE_Gold_Mine[[#This Row],[Valeur]]*VALUE_Gold_Mine[[#This Row],[Rang]]","v":0},3,{"$f":"Paramètres!D8","v":0},0,{"$f":"VALUE_Dark_Elixir_Drill[[#This Row],[Valeur]]*VALUE_Dark_Elixir_Drill[[#This Row],[Rang]]","v":0},3,{"$f":"Paramètres!E8","v":0},0,{"$f":"VALUE_Gold_Storage[[#This Row],[Valeur]]*VALUE_Gold_Storage[[#This Row],[Rang]]","v":0},3,{"$f":"Paramètres!G8","v":0},0,{"$f":"VALUE_Dark_Elixir_Storage[[#This Row],[Valeur]]*VALUE_Dark_Elixir_Storage[[#This Row],[Rang]]","v":0},3,{"$f":"Paramètres!C8","v":0},0,{"$f":"VALUE_Elixir_Collector[[#This Row],[Valeur]]*VALUE_Elixir_Collector[[#This Row],[Rang]]","v":0},3,{"$f":"Paramètres!F8","v":0},0,{"$f":"VALUE_Elixir_Storage[[#This Row],[Valeur]]*VALUE_Elixir_Storage[[#This Row],[Rang]]","v":0}]
[4,{"$f":"Paramètres!BE9","v":0},60,{"$f":"VALUE_Barbarian_King[[#This Row],[Valeur]]*VALUE_Barbarian_King[[#This Row],[Rang]]","v":0},4,{"$f":"Paramètres!BG9","v":0},104,{"$f":"VALUE_Archer_Queen[[#This Row],[Valeur]]*VALUE_Archer_Queen[[#This Row],[Rang]]","v":0},null,null,null,null,4,{"$f":"Paramètres!B9","v":0},0,{"$f":"VALUE_Gold_Mine[[#This Row],[Valeur]]*VALUE_Gold_Mine[[#This Row],[Rang]]","v":0},4,{"$f":"Paramètres!D9","v":0},0,{"$f":"VALUE_Dark_Elixir_Drill[[#This Row],[Valeur]]*VALUE_Dark_Elixir_Drill[[#This Row],[Rang]]","v":0},4,{"$f":"Paramètres!E9","v":0},0,{"$f":"VALUE_Gold_Storage[[#This Row],[Valeur]]*VALUE_Gold_Storage[[#This Row],[Rang]]","v":0},4,{"$f":"Paramètres!G9","v":0},0,{"$f":"VALUE_Dark_Elixir_Storage[[#This Row],[Valeur]]*VALUE_Dark_Elixir_Storage[[#This Row],[Rang]]","v":0},4,{"$f":"Paramètres!C9","v":0},0,{"$f":"VALUE_Elixir_Collector[[#This Row],[Valeur]]*VALUE_Elixir_Collector[[#This Row],[Rang]]","v":0},4,{"$f":"Paramètres!F9","v":0},0,{"$f":"VALUE_Elixir_Storage[[#This Row],[Valeur]]*VALUE_Elixir_Storage[[#This Row],[Rang]]","v":0}]
[5,{"$f":"Paramètres!BE10","v":0},{"$f":"16+C83","v":76},{"$f":"VALUE_Barbarian_King[[#This Row],[Valeur]]*VALUE_Barbarian_King[[#This Row],[Rang]]","v":0},5,{"$f":"Paramètres!BG10","v":0},{"$f":"G83+27","v":131},{"$f":"VALUE_Archer_Queen[[#This Row],[Valeur]]*VALUE_Archer_Queen[[#This Row],[Rang]]","v":0},null,null,null,null,5,{"$f":"Paramètres!B10","v":0},0,{"$f":"VALUE_Gold_Mine[[#This Row],[Valeur]]*VALUE_Gold_Mine[[#This Row],[Rang]]","v":0},5,{"$f":"Paramètres!D10","v":0},0,{"$f":"VALUE_Dark_Elixir_Drill[[#This Row],[Valeur]]*VALUE_Dark_Elixir_Drill[[#This Row],[Rang]]","v":0},5,{"$f":"Paramètres!E10","v":0},0,{"$f":"VALUE_Gold_Storage[[#This Row],[Valeur]]*VALUE_Gold_Storage[[#This Row],[Rang]]","v":0},5,{"$f":"Paramètres!G10","v":0},0,{"$f":"VALUE_Dark_Elixir_Storage[[#This Row],[Valeur]]*VALUE_Dark_Elixir_Storage[[#This Row],[Rang]]","v":0},5,{"$f":"Paramètres!C10","v":0},0,{"$f":"VALUE_Elixir_Collector[[#This Row],[Valeur]]*VALUE_Elixir_Collector[[#This Row],[Rang]]","v":0},5,{"$f":"Paramètres!F10","v":0},0,{"$f":"VALUE_Elixir_Storage[[#This Row],[Valeur]]*VALUE_Elixir_Storage[[#This Row],[Rang]]","v":0}]
[6,{"$f":"Paramètres!BE11","v":0},{"$f":"16+C84","v":92},{"$f":"VALUE_Barbarian_King[[#This Row],[Valeur]]*VALUE_Barbarian_King[[#This Row],[Rang]]","v":0},6,{"$f":"Paramètres!BG11","v":0},{"$f":"G84+27","v":158},{"$f":"VALUE_Archer_Queen[[#This Row],[Valeur]]*VALUE_Archer_Queen[[#This Row],[Rang]]","v":0},null,null,null,null,6,{"$f":"Paramètres!B11","v":0},0,{"$f":"VALUE_Gold_Mine[[#This Row],[Valeur]]*VALUE_Gold_Mine[[#This Row],[Rang]]","v":0},6,{"$f":"Paramètres!D11","v":0},0,{"$f":"VALUE_Dark_Elixir_Drill[[#This Row],[Valeur]]*VALUE_Dark_Elixir_Drill[[#This Row],[Rang]]","v":0},6,{"$f":"Paramètres!E11","v":0},0,{"$f":"VALUE_Gold_Storage[[#This Row],[Valeur]]*VALUE_Gold_Storage[[#This Row],[Rang]]","v":0},6,{"$f":"Paramètres!G11","v":0},0,{"$f":"VALUE_Dark_Elixir_Storage[[#This Row],[Valeur]]*VALUE_Dark_Elixir_Storage[[#This Row],[Rang]]","v":0},6,{"$f":"Paramètres!C11","v":0},0,{"$f":"VALUE_Elixir_Collector[[#This Row],[Valeur]]*VALUE_Elixir_Collector[[#This Row],[Rang]]","v":0},6,{"$f":"Paramètres!F11","v":0},0,{"$f":"VALUE_Elixir_Storage[[#This Row],[Valeur]]*VALUE_Elixir_Storage[[#This Row],[Rang]]","v":0}]
[7,{"$f":"Paramètres!BE12","v":0},108,{"$f":"VALUE_Barbarian_King[[#This Row],[Valeur]]*VALUE_Barbarian_King[[#This Row],[Rang]]","v":0},7,{"$f":"Paramètres!BG12","v":0},185,{"$f":"VALUE_Archer_Queen[[#This Row],[Valeur]]*VALUE_Archer_Queen[[#This Row],[Rang]]","v":0},null,null,null,null,7,{"$f":"Paramètres!B12","v":0},0,{"$f":"VALUE_Gold_Mine[[#This Row],[Valeur]]*VALUE_Gold_Mine[[#This Row],[Rang]]","v":0},null,null,null,null,7,{"$f":"Paramètres!E12","v":0},0,{"$f":"VALUE_Gold_Storage[[#This Row],[Valeur]]*VALUE_Gold_Storage[[#This Row],[Rang]]","v":0},null,null,null,null,7,{"$f":"Paramètres!C12","v":0},0,{"$f":"VALUE_Elixir_Collector[[#This Row],[Valeur]]*VALUE_Elixir_Collector[[#This Row],[Rang]]","v":0},7,{"$f":"Paramètres!F12","v":0},0,{"$f":"VALUE_Elixir_Storage[[#This Row],[Valeur]]*VALUE_Elixir_Storage[[#This Row],[Rang]]","v":0}]
[8,{"$f":"Paramètres!BE13","v":0},124,{"$f":"VALUE_Barbarian_King[[#This Row],[Valeur]]*VALUE_Barbarian_King[[#This Row],[Rang]]","v":0},8,{"$f":"Paramètres!BG13","v":0},212,{"$f":"VALUE_Archer_Queen[[#This Row],[Valeur]]*VALUE_Archer_Queen[[#This Row],[Rang]]","v":0},null,null,null,null,8,{"$f":"Paramètres!B13","v":0},0,{"$f":"VALUE_Gold_Mine[[#This Row],[Valeur]]*VALUE_Gold_Mine[[#This Row],[Rang]]","v":0},null,null,null,null,8,{"$f":"Paramètres!E13","v":0},0,{"$f":"VALUE_Gold_Storage[[#This Row],[Valeur]]*VALUE_Gold_Storage[[#This Row],[Rang]]","v":0},null,null,null,null,8,{"$f":"Paramètres!C13","v":0},0,{"$f":"VALUE_Elixir_Collector[[#This Row],[Valeur]]*VALUE_Elixir_Collector[[#This Row],[Rang]]","v":0},8,{"$f":"Paramètres!F13","v":0},0,{"$f":"VALUE_Elixir_Storage[[#This Row],[Valeur]]*VALUE_Elixir_Storage[[#This Row],[Rang]]","v":0}]
[9,{"$f":"Paramètres!BE14","v":0},140,{"$f":"VALUE_Barbarian_King[[#This Row],[Valeur]]*VALUE_Barbarian_King[[#This Row],[Rang]]","v":0},9,{"$f":"Paramètres!BG14","v":0},239,{"$f":"VALUE_Archer_Queen[[#This Row],[Valeur]]*VALUE_Archer_Queen[[#This Row],[Rang]]","v":0},null,null,null,null,9,{"$f":"Paramètres!B14","v":0},0,{"$f":"VALUE_Gold_Mine[[#This Row],[Valeur]]*VALUE_Gold_Mine[[#This Row],[Rang]]","v":0},null,null,null,null,9,{"$f":"Paramètres!E14","v":0},0,{"$f":"VALUE_Gold_Storage[[#This Row],[Valeur]]*VALUE_Gold_Storage[[#This Row],[Rang]]","v":0},null,null,null,null,9,{"$f":"Paramètres!C14","v":0},0,{"$f":"VALUE_Elixir_Collector[[#This Row],[Valeur]]*VALUE_Elixir_Collector[[#This Row],[Rang]]","v":0},9,{"$f":"Paramètres!F14","v":0},0,{"$f":"VALUE_Elixir_Storage[[#This Row],[Valeur]]*VALUE_Elixir_Storage[[#This Row],[Rang]]","v":0}]
[10,{"$f":"Paramètres!BE15","v":0},{"$f":"17+C88","v":157},{"$f":"VALUE_Barbarian_King[[#This Row],[Valeur]]*VALUE_Barbarian_King[[#This Row],[Rang]]","v":0},10,{"$f":"Paramètres!BG15","v":0},{"$f":"G88+28","v":267},{"$f":"VALUE_Archer_Queen[[#This Row],[Valeur]]*VALUE_Archer_Queen[[#This Row],[Rang]]","v":0},null,null,null,null,10,{"$f":"Paramètres!B15","v":0},0,{"$f":"VALUE_Gold_Mine[[#This Row],[Valeur]]*VALUE_Gold_Mine[[#This Row],[Rang]]","v":0},null,null,null,null,10,{"$f":"Paramètres!E15","v":0},0,{"$f":"VALUE_Gold_Storage[[#This Row],[Valeur]]*VALUE_Gold_Storage[[#This Row],[Rang]]","v":0},null,null,null,null,10,{"$f":"Paramètres!C15","v":0},0,{"$f":"VALUE_Elixir_Collector[[#This Row],[Valeur]]*VALUE_Elixir_Collector[[#This Row],[Rang]]","v":0},10,{"$f":"Paramètres!F15","v":0},0,{"$f":"VALUE_Elixir_Storage[[#This Row],[Valeur]]*VALUE_Elixir_Storage[[#This Row],[Rang]]","v":0}]
[11,{"$f":"Paramètres!BE16","v":0},{"$f":"17+C89","v":174},{"$f":"VALUE_Barbarian_King[[#This Row],[Valeur]]*VALUE_Barbarian_King[[#This Row],[Rang]]","v":0},11,{"$f":"Paramètres!BG16","v":0},{"$f":"G89+28","v":295},{"$f":"VALUE_Archer_Queen[[#This Row],[Valeur]]*VALUE_Archer_Queen[[#This Row],[Rang]]","v":0},null,null,null,null,11,{"$f":"Paramètres!B16","v":0},0,{"$f":"VALUE_Gold_Mine[[#This Row],[Valeur]]*VALUE_Gold_Mine[[#This Row],[Rang]]","v":0},null,null,null,null,11,{"$f":"Paramètres!E16","v":0},0,{"$f":"VALUE_Gold_Storage[[#This Row],[Valeur]]*VALUE_Gold_Storage[[#This Row],[Rang]]","v":0},null,null,null,null,11,{"$f":"Paramètres!C16","v":0},0,{"$f":"VALUE_Elixir_Collector[[#This Row],[Valeur]]*VALUE_Elixir_Collector[[#This Row],[Rang]]","v":0},11,{"$f":"Paramètres!F16","v":0},0,{"$f":"VALUE_Elixir_Storage[[#This Row],[Valeur]]*VALUE_Elixir_Storage[[#This Row],[Rang]]","v":0}]
[12,{"$f":"Paramètres!BE17","v":0},191,{"$f":"VALUE_Barbarian_King[[#This Row],[Valeur]]*VALUE_Barbarian_King[[#This Row],[Rang]]","v":0},12,{"$f":"Paramètres!BG17","v":0},323,{"$f":"VALUE_Archer_Queen[[#This Row],[Valeur]]*VALUE_Archer_Queen[[#This Row],[Rang]]","v":0},null,null,null,null,12,{"$f":"Paramètres!B17","v":0},0,{"$f":"VALUE_Gold_Mine[[#This Row],[Valeur]]*VALUE_Gold_Mine[[#This Row],[Rang]]","v":0},null,null,null,null,null,null,null,null,null,null,null,null,12,{"$f":"Paramètres!C17","v":0},0,{"$f":"VALUE_Elixir_Collector[[#This Row],[Valeur]]*VALUE_Elixir_Collector[[#This Row],[Rang]]","v":0}]
[13,{"$f":"Paramètres!BE18","v":0},208,{"$f":"VALUE_Barbarian_King[[#This Row],[Valeur]]*VALUE_Barbarian_King[[#This Row],[Rang]]","v":0},13,{"$f":"Paramètres!BG18","v":0},351,{"$f":"VALUE_Archer_Queen[[#This Row],[Valeur]]*VALUE_Archer_Queen[[#This Row],[Rang]]","v":0}]
[14,{"$f":"Paramètres!BE19","v":0},225,{"$f":"VALUE_Barbarian_King[[#This Row],[Valeur]]*VALUE_Barbarian_King[[#This Row],[Rang]]","v":0},14,{"$f":"Paramètres!BG19","v":0},379,{"$f":"VALUE_Archer_Queen[[#This Row],[Valeur]]*VALUE_Archer_Queen[[#This Row],[Rang]]","v":0}]
[15,{"$f":"Paramètres!BE20","v":0},{"$f":"18+C93","v":243},{"$f":"VALUE_Barbarian_King[[#This Row],[Valeur]]*VALUE_Barbarian_King[[#This Row],[Rang]]","v":0},15,{"$f":"Paramètres!BG20","v":0},{"$f":"G93+29","v":408},{"$f":"VALUE_Archer_Queen[[#This Row],[Valeur]]*VALUE_Archer_Queen[[#This Row],[Rang]]","v":0},null,null,null,null,"Valeurs - Bâtiments d'Armée"]
[16,{"$f":"Paramètres!BE21","v":0},{"$f":"18+C94","v":261},{"$f":"VALUE_Barbarian_King[[#This Row],[Valeur]]*VALUE_Barbarian_King[[#This Row],[Rang]]","v":0},16,{"$f":"Paramètres!BG21","v":0},{"$f":"G94+29","v":437},{"$f":"VALUE_Archer_Queen[[#This Row],[Valeur]]*VALUE_Archer_Queen[[#This Row],[Rang]]","v":0},null,null,null,null,"Caserne Noire",null,null,null,"Caserne",null,null,null,"Camp Militaire",null,null,null,"Laboratoire",null,null,null,"Usine de Sorts",null,null,null,"Usine de Sorts Noirs"]
[17,{"$f":"Paramètres!BE22","v":0},279,{"$f":"VALUE_Barbarian_King[[#This Row],[Valeur]]*VALUE_Barbarian_King[[#This Row],[Rang]]","v":0},17,{"$f":"Paramètres!BG22","v":0},466,{"$f":"VALUE_Archer_Queen[[#This Row],[Valeur]]*VALUE_Archer_Queen[[#This Row],[Rang]]","v":0},null,null,null,null,"LVL","Rang","Valeur","Total","LVL","Rang","Valeur","Total","LVL","Rang","Valeur","Total","LVL","Rang","Valeur","Total","LVL","Rang","Valeur","Total","LVL","Rang","Valeur","Total"]
[18,{"$f":"Paramètres!BE23","v":0},297,{"$f":"VALUE_Barbarian_King[[#This Row],[Valeur]]*VALUE_Barbarian_King[[#This Row],[Rang]]","v":0},18,{"$f":"Paramètres!BG23","v":0},495,{"$f":"VALUE_Archer_Queen[[#This Row],[Valeur]]*VALUE_Archer_Queen[[#This Row],[Rang]]","v":0},null,null,null,null,1,{"$f":"Paramètres!I6","v":0},0,{"$f":"VALUE_Dark_Barrack[[#This Row],[Valeur]]*VALUE_Dark_Barrack[[#This Row],[Rang]]","v":0},1,{"$f":"Paramètres!H6","v":0},0,{"$f":"VALUE_Barrack[[#This Row],[Valeur]]*VALUE_Barrack[[#This Row],[Rang]]","v":0},1,{"$f":"Paramètres!J6","v":0},0,{"$f":"VALUE_Army_Camp[[#This Row],[Valeur]]*VALUE_Army_Camp[[#This Row],[Rang]]","v":0},1,{"$f":"Paramètres!K6","v":0},0,{"$f":"VALUE_Laboratory[[#This Row],[Valeur]]*VALUE_Laboratory[[#This Row],[Rang]]","v":0},1,{"$f":"Paramètres!L6","v":0},0,{"$f":"VALUE_Spell_Factory[[#This Row],[Valeur]]*VALUE_Spell_Factory[[#This Row],[Rang]]","v":0},1,{"$f":"Paramètres!M6","v":0},0,{"$f":"VALUE_Dark_Spell_Factory[[#This Row],[Valeur]]*VALUE_Dark_Spell_Factory[[#This Row],[Rang]]","v":0}]
[19,{"$f":"Paramètres!BE24","v":0},315,{"$f":"VALUE_Barbarian_King[[#This Row],[Valeur]]*VALUE_Barbarian_King[[#This Row],[Rang]]","v":0},19,{"$f":"Paramètres!BG24","v":0},524,{"$f":"VALUE_Archer_Queen[[#This Row],[Valeur]]*VALUE_Archer_Queen[[#This Row],[Rang]]","v":0},null,null,null,null,2,{"$f":"Paramètres!I7","v":0},0,{"$f":"VALUE_Dark_Barrack[[#This Row],[Valeur]]*VALUE_Dark_Barrack[[#This Row],[Rang]]","v":0},2,{"$f":"Paramètres!H7","v":0},0,{"$f":"VALUE_Barrack[[#This Row],[Valeur]]*VALUE_Barrack[[#This Row],[Rang]]","v":0},2,{"$f":"Paramètres!J7","v":0},0,{"$f":"VALUE_Army_Camp[[#This Row],[Valeur]]*VALUE_Army_Camp[[#This Row],[Rang]]","v":0},2,{"$f":"Paramètres!K7","v":0},0,{"$f":"VALUE_Laboratory[[#This Row],[Valeur]]*VALUE_Laboratory[[#This Row],[Rang]]","v":0},2,{"$f":"Paramètres!L7","v":0},0,{"$f":"VALUE_Spell_Factory[[#This Row],[Valeur]]*VALUE_Spell_Factory[[#This Row],[Rang]]","v":0},2,{"$f":"Paramètres!M7","v":0},0,{"$f":"VALUE_Dark_Spell_Factory[[#This Row],[Valeur]]*VALUE_Dark_Spell_Factory[[#This Row],[Rang]]","v":0}]
[20,{"$f":"Paramètres!BE25","v":0},{"$f":"19+C98","v":334},{"$f":"VALUE_Barbarian_King[[#This Row],[Valeur]]*VALUE_Barbarian_King[[#This Row],[Rang]]","v":0},20,{"$f":"Paramètres!BG25","v":0},{"$f":"G98+30","v":554},{"$f":"VALUE_Archer_Queen[[#This Row],[Valeur]]*VALUE_Archer_Queen[[#This Row],[Rang]]","v":0},null,null,null,null,3,{"$f":"Paramètres!I8","v":0},0,{"$f":"VALUE_Dark_Barrack[[#This Row],[Valeur]]*VALUE_Dark_Barrack[[#This Row],[Rang]]","v":0},3,{"$f":"Paramètres!H8","v":0},0,{"$f":"VALUE_Barrack[[#This Row],[Valeur]]*VALUE_Barrack[[#This Row],[Rang]]","v":0},3,{"$f":"Paramètres!J8","v":0},0,{"$f":"VALUE_Army_Camp[[#This Row],[Valeur]]*VALUE_Army_Camp[[#This Row],[Rang]]","v":0},3,{"$f":"Paramètres!K8","v":0},0,{"$f":"VALUE_Laboratory[[#This Row],[Valeur]]*VALUE_Laboratory[[#This Row],[Rang]]","v":0},3,{"$f":"Paramètres!L8","v":0},0,{"$f":"VALUE_Spell_Factory[[#This Row],[Valeur]]*VALUE_Spell_Factory[[#This Row],[Rang]]","v":0},3,{"$f":"Paramètres!M8","v":0},0,{"$f":"VALUE_Dark_Spell_Factory[[#This Row],[Valeur]]*VALUE_Dark_Spell_Factory[[#This Row],[Rang]]","v":0}]
[21,{"$f":"Paramètres!BE26","v":0},{"$f":"19+C99","v":353},{"$f":"VALUE_Barbarian_King[[#This Row],[Valeur]]*VALUE_Barbarian_King[[#This Row],[Rang]]","v":0},21,{"$f":"Paramètres!BG26","v":0},{"$f":"G99+30","v":584},{"$f":"VALUE_Archer_Queen[[#This Row],[Valeur]]*VALUE_Archer_Queen[[#This Row],[Rang]]","v":0},null,null,null,null,4,{"$f":"Paramètres!I9","v":0},0,{"$f":"VALUE_Dark_Barrack[[#This Row],[Valeur]]*VALUE_Dark_Barrack[[#This Row],[Rang]]","v":0},4,{"$f":"Paramètres!H9","v":0},0,{"$f":"VALUE_Barrack[[#This Row],[Valeur]]*VALUE_Barrack[[#This Row],[Rang]]","v":0},4,{"$f":"Paramètres!J9","v":0},0,{"$f":"VALUE_Army_Camp[[#This Row],[Valeur]]*VALUE_Army_Camp[[#This Row],[Rang]]","v":0},4,{"$f":"Paramètres!K9","v":0},0,{"$f":"VALUE_Laboratory[[#This Row],[Valeur]]*VALUE_Laboratory[[#This Row],[Rang]]","v":0},4,{"$f":"Paramètres!L9","v":0},0,{"$f":"VALUE_Spell_Factory[[#This Row],[Valeur]]*VALUE_Spell_Factory[[#This Row],[Rang]]","v":0}]
[22,{"$f":"Paramètres!BE27","v":0},{"$f":"19+C100","v":372},{"$f":"VALUE_Barbarian_King[[#This Row],[Valeur]]*VALUE_Barbarian_King[[#This Row],[Rang]]","v":0},22,{"$f":"Paramètres!BG27","v":0},614,{"$f":"VALUE_Archer_Queen[[#This Row],[Valeur]]*VALUE_Archer_Queen[[#This Row],[Rang]]","v":0},null,null,null,null,5,{"$f":"Paramètres!I10","v":0},0,{"$f":"VALUE_Dark_Barrack[[#This Row],[Valeur]]*VALUE_Dark_Barrack[[#This Row],[Rang]]","v":0},5,{"$f":"Paramètres!H10","v":0},0,{"$f":"VALUE_Barrack[[#This Row],[Valeur]]*VALUE_Barrack[[#This Row],[Rang]]","v":0},5,{"$f":"Paramètres!J10","v":0},0,{"$f":"VALUE_Army_Camp[[#This Row],[Valeur]]*VALUE_Army_Camp[[#This Row],[Rang]]","v":0},5,{"$f":"Paramètres!K10","v":0},0,{"$f":"VALUE_Laboratory[[#This Row],[Valeur]]*VALUE_Laboratory[[#This Row],[Rang]]","v":0},5,{"$f":"Paramètres!L10","v":0},0,{"$f":"VALUE_Spell_Factory[[#This Row],[Valeur]]*VALUE_Spell_Factory[[#This Row],[Rang]]","v":0}]
[23,{"$f":"Paramètres!BE28","v":0},391,{"$f":"VALUE_Barbarian_King[[#This Row],[Valeur]]*VALUE_Barbarian_King[[#This Row],[Rang]]","v":0},23,{"$f":"Paramètres!BG28","v":0},644,{"$f":"VALUE_Archer_Queen[[#This Row],[Valeur]]*VALUE_Archer_Queen[[#This Row],[Rang]]","v":0},null,null,null,null,6,{"$f":"Paramètres!I11","v":0},0,{"$f":"VALUE_Dark_Barrack[[#This Row],[Valeur]]*VALUE_Dark_Barrack[[#This Row],[Rang]]","v":0},6,{"$f":"Paramètres!H11","v":0},0,{"$f":"VALUE_Barrack[[#This Row],[Valeur]]*VALUE_Barrack[[#This Row],[Rang]]","v":0},6,{"$f":"Paramètres!J11","v":0},0,{"$f":"VALUE_Army_Camp[[#This Row],[Valeur]]*VALUE_Army_Camp[[#This Row],[Rang]]","v":0},6,{"$f":"Paramètres!K11","v":0},0,{"$f":"VALUE_Laboratory[[#This Row],[Valeur]]*VALUE_Laboratory[[#This Row],[Rang]]","v":0}]
[24,{"$f":"Paramètres!BE29","v":0},410,{"$f":"VALUE_Barbarian_King[[#This Row],[Valeur]]*VALUE_Barbarian_King[[#This Row],[Rang]]","v":0},24,{"$f":"Paramètres!BG29","v":0},674,{"$f":"VALUE_Archer_Queen[[#This Row],[Valeur]]*VALUE_Archer_Queen[[#This Row],[Rang]]","v":0},null,null,null,null,null,null,null,null,7,{"$f":"Paramètres!H12","v":0},0,{"$f":"VALUE_Barrack[[#This Row],[Valeur]]*VALUE_Barrack[[#This Row],[Rang]]","v":0},7,{"$f":"Paramètres!J12","v":0},0,{"$f":"VALUE_Army_Camp[[#This Row],[Valeur]]*VALUE_Army_Camp[[#This Row],[Rang]]","v":0},7,{"$f":"Paramètres!K12","v":0},0,{"$f":"VALUE_Laboratory[[#This Row],[Valeur]]*VALUE_Laboratory[[#This Row],[Rang]]","v":0}]
[25,{"$f":"Paramètres!BE30","v":0},{"$f":"20+C103","v":430},{"$f":"VALUE_Barbarian_King[[#This Row],[Valeur]]*VALUE_Barbarian_King[[#This Row],[Rang]]","v":0},25,{"$f":"Paramètres!BG30","v":0},{"$f":"G103+31","v":705},{"$f":"VALUE_Archer_Queen[[#This Row],[Valeur]]*VALUE_Archer_Queen[[#This Row],[Rang]]","v":0},null,null,null,null,null,null,null,null,8,{"$f":"Paramètres!H13","v":0},0,{"$f":"VALUE_Barrack[[#This Row],[Valeur]]*VALUE_Barrack[[#This Row],[Rang]]","v":0},8,{"$f":"Paramètres!J13","v":0},0,{"$f":"VALUE_Army_Camp[[#This Row],[Valeur]]*VALUE_Army_Camp[[#This Row],[Rang]]","v":0},8,{"$f":"Paramètres!K13","v":0},0,{"$f":"VALUE_Laboratory[[#This Row],[Valeur]]*VALUE_Laboratory[[#This Row],[Rang]]","v":0}]
[26,{"$f":"Paramètres!BE31","v":0},{"$f":"20+C104","v":450},{"$f":"VALUE_Barbarian_King[[#This Row],[Valeur]]*VALUE_Barbarian_King[[#This Row],[Rang]]","v":0},26,{"$f":"Paramètres!BG31","v":0},{"$f":"G104+31","v":736},{"$f":"VALUE_Archer_Queen[[#This Row],[Valeur]]*VALUE_Archer_Queen[[#This Row],[Rang]]","v":0},null,null,null,null,null,null,null,null,9,{"$f":"Paramètres!H14","v":0},0,{"$f":"VALUE_Barrack[[#This Row],[Valeur]]*VALUE_Barrack[[#This Row],[Rang]]","v":0}]
[27,{"$f":"Paramètres!BE32","v":0},470,{"$f":"VALUE_Barbarian_King[[#This Row],[Valeur]]*VALUE_Barbarian_King[[#This Row],[Rang]]","v":0},27,{"$f":"Paramètres!BG32","v":0},767,{"$f":"VALUE_Archer_Queen[[#This Row],[Valeur]]*VALUE_Archer_Queen[[#This Row],[Rang]]","v":0},null,null,null,null,null,null,null,null,10,{"$f":"Paramètres!H15","v":0},0,{"$f":"VALUE_Barrack[[#This Row],[Valeur]]*VALUE_Barrack[[#This Row],[Rang]]","v":0}]
[28,{"$f":"Paramètres!BE33","v":0},490,{"$f":"VALUE_Barbarian_King[[#This Row],[Valeur]]*VALUE_Barbarian_King[[#This Row],[Rang]]","v":0},28,{"$f":"Paramètres!BG33","v":0},798,{"$f":"VALUE_Archer_Queen[[#This Row],[Valeur]]*VALUE_Archer_Queen[[#This Row],[Rang]]","v":0},null,null,null,null,null,null,null,null,null,null,null,null,null,null,null,null,null,null,null,null,"Valeurs - Bâtiments Autres"]
[29,{"$f":"Paramètres!BE34","v":0},510,{"$f":"VALUE_Barbarian_King[[#This Row],[Valeur]]*VALUE_Barbarian_King[[#This Row],[Rang]]","v":0},29,{"$f":"Paramètres!BG34","v":0},829,{"$f":"VALUE_Archer_Queen[[#This Row],[Valeur]]*VALUE_Archer_Queen[[#This Row],[Rang]]","v":0},null,null,null,null,null,null,null,null,null,null,null,null,null,null,null,null,null,null,null,null,"Château de Clan",null,null,null,"Hôtel de Ville"]
[30,{"$f":"Paramètres!BE35","v":0},{"$f":"21+C108","v":531},{"$f":"VALUE_Barbarian_King[[#This Row],[Valeur]]*VALUE_Barbarian_King[[#This Row],[Rang]]","v":0},30,{"$f":"Paramètres!BG35","v":0},{"$f":"G108+32","v":861},{"$f":"VALUE_Archer_Queen[[#This Row],[Valeur]]*VALUE_Archer_Queen[[#This Row],[Rang]]","v":0},null,null,null,null,"Valeurs - Sorts Noirs",null,null,null,null,null,null,null,null,null,null,null,null,null,null,null,"LVL","Rang","Valeur","Total","LVL","Rang","Valeur","Total"]
[31,{"$f":"Paramètres!BE36","v":0},{"$f":"21+C109","v":552},{"$f":"VALUE_Barbarian_King[[#This Row],[Valeur]]*VALUE_Barbarian_King[[#This Row],[Rang]]","v":0},31,{"$f":"Paramètres!BG36","v":0},{"$f":"G109+32","v":893},{"$f":"VALUE_Archer_Queen[[#This Row],[Valeur]]*VALUE_Archer_Queen[[#This Row],[Rang]]","v":0},null,null,null,null,"Sort de Poison",null,null,null,"Sort de Séisme",null,null,null,"Sort de Hâte",null,null,null,null,null,null,null,1,{"$f":"Paramètres!AE6","v":0},0,{"$f":"VALUE_Clan_Castle[[#This Row],[Valeur]]*VALUE_Clan_Castle[[#This Row],[Rang]]","v":0},1,{"$f":"Paramètres!AF6","v":1},0,{"$f":"VALUE_Town_Home[[#This Row],[Valeur]]*VALUE_Town_Home[[#This Row],[Rang]]","v":0}]
[32,{"$f":"Paramètres!BE37","v":0},573,{"$f":"VALUE_Barbarian_King[[#This Row],[Valeur]]*VALUE_Barbarian_King[[#This Row],[Rang]]","v":0},32,{"$f":"Paramètres!BG37","v":0},925,{"$f":"VALUE_Archer_Queen[[#This Row],[Valeur]]*VALUE_Archer_Queen[[#This Row],[Rang]]","v":0},null,null,null,null,"LVL","Rang","Valeur","Total","LVL","Rang","Valeur","Total","LVL","Rang","Valeur","Total",null,null,null,null,2,{"$f":"Paramètres!AE7","v":0},0,{"$f":"VALUE_Clan_Castle[[#This Row],[Valeur]]*VALUE_Clan_Castle[[#This Row],[Rang]]","v":0},2,{"$f":"Paramètres!AF7","v":0},0,{"$f":"VALUE_Town_Home[[#This Row],[Valeur]]*VALUE_Town_Home[[#This Row],[Rang]]","v":0}]
[33,{"$f":"Paramètres!BE38","v":0},594,{"$f":"VALUE_Barbarian_King[[#This Row],[Valeur]]*VALUE_Barbarian_King[[#This Row],[Rang]]","v":0},33,{"$f":"Paramètres!BG38","v":0},957,{"$f":"VALUE_Archer_Queen[[#This Row],[Valeur]]*VALUE_Archer_Queen[[#This Row],[Rang]]","v":0},null,null,null,null,1,{"$f":"Paramètres!AL6","v":0},0,{"$f":"VALUE_Spell_Poison[[#This Row],[Valeur]]*VALUE_Spell_Poison[[#This Row],[Rang]]","v":0},1,{"$f":"Paramètres!AM6","v":0},0,{"$f":"VALUE_Spell_Earthquake[[#This Row],[Valeur]]*VALUE_Spell_Earthquake[[#This Row],[Rang]]","v":0},1,{"$f":"Paramètres!AN6","v":0},0,{"$f":"VALUE_Spell_Haste[[#This Row],[Valeur]]*VALUE_Spell_Haste[[#This Row],[Rang]]","v":0},null,null,null,null,3,{"$f":"Paramètres!AE8","v":0},0,{"$f":"VALUE_Clan_Castle[[#This Row],[Valeur]]*VALUE_Clan_Castle[[#This Row],[Rang]]","v":0},3,{"$f":"Paramètres!AF8","v":0},0,{"$f":"VALUE_Town_Home[[#This Row],[Valeur]]*VALUE_Town_Home[[#This Row],[Rang]]","v":0}]
[34,{"$f":"Paramètres!BE39","v":0},615,{"$f":"VALUE_Barbarian_King[[#This Row],[Valeur]]*VALUE_Barbarian_King[[#This Row],[Rang]]","v":0},34,{"$f":"Paramètres!BG39","v":0},989,{"$f":"VALUE_Archer_Queen[[#This Row],[Valeur]]*VALUE_Archer_Queen[[#This Row],[Rang]]","v":0},null,null,null,null,2,{"$f":"Paramètres!AL7","v":0},0,{"$f":"VALUE_Spell_Poison[[#This Row],[Valeur]]*VALUE_Spell_Poison[[#This Row],[Rang]]","v":0},2,{"$f":"Paramètres!AM7","v":0},0,{"$f":"VALUE_Spell_Earthquake[[#This Row],[Valeur]]*VALUE_Spell_Earthquake[[#This Row],[Rang]]","v":0},2,{"$f":"Paramètres!AN7","v":0},0,{"$f":"VALUE_Spell_Haste[[#This Row],[Valeur]]*VALUE_Spell_Haste[[#This Row],[Rang]]","v":0},null,null,null,null,4,{"$f":"Paramètres!AE9","v":0},0,{"$f":"VALUE_Clan_Castle[[#This Row],[Valeur]]*VALUE_Clan_Castle[[#This Row],[Rang]]","v":0},4,{"$f":"Paramètres!AF9","v":0},0,{"$f":"VALUE_Town_Home[[#This Row],[Valeur]]*VALUE_Town_Home[[#This Row],[Rang]]","v":0}]
[35,{"$f":"Paramètres!BE40","v":0},{"$f":"22+C113","v":637},{"$f":"VALUE_Barbarian_King[[#This Row],[Valeur]]*VALUE_Barbarian_King[[#This Row],[Rang]]","v":0},35,{"$f":"Paramètres!BG40","v":0},{"$f":"G113+33","v":1022},{"$f":"VALUE_Archer_Queen[[#This Row],[Valeur]]*VALUE_Archer_Queen[[#This Row],[Rang]]","v":0},null,null,null,null,3,{"$f":"Paramètres!AL8","v":0},0,{"$f":"VALUE_Spell_Poison[[#This Row],[Valeur]]*VALUE_Spell_Poison[[#This Row],[Rang]]","v":0},3,{"$f":"Paramètres!AM8","v":0},0,{"$f":"VALUE_Spell_Earthquake[[#This Row],[Valeur]]*VALUE_Spell_Earthquake[[#This Row],[Rang]]","v":0},3,{"$f":"Paramètres!AN8","v":0},0,{"$f":"VALUE_Spell_Haste[[#This Row],[Valeur]]*VALUE_Spell_Haste[[#This Row],[Rang]]","v":0},null,null,null,null,5,{"$f":"Paramètres!AE10","v":0},0,{"$f":"VALUE_Clan_Castle[[#This Row],[Valeur]]*VALUE_Clan_Castle[[#This Row],[Rang]]","v":0},5,{"$f":"Paramètres!AF10","v":0},0,{"$f":"VALUE_Town_Home[[#This Row],[Valeur]]*VALUE_Town_Home[[#This Row],[Rang]]","v":0}]
[36,{"$f":"Paramètres!BE41","v":0},{"$f":"22+C114","v":659},{"$f":"VALUE_Barbarian_King[[#This Row],[Valeur]]*VALUE_Barbarian_King[[#This Row],[Rang]]","v":0},36,{"$f":"Paramètres!BG41","v":0},{"$f":"G114+33","v":1055},{"$f":"VALUE_Archer_Queen[[#This Row],[Valeur]]*VALUE_Archer_Queen[[#This Row],[Rang]]","v":0},null,null,null,null,4,{"$f":"Paramètres!AL9","v":0},0,{"$f":"VALUE_Spell_Poison[[#This Row],[Valeur]]*VALUE_Spell_Poison[[#This Row],[Rang]]","v":0},4,{"$f":"Paramètres!AM9","v":0},0,{"$f":"VALUE_Spell_Earthquake[[#This Row],[Valeur]]*VALUE_Spell_Earthquake[[#This Row],[Rang]]","v":0},4,{"$f":"Paramètres!AN9","v":0},0,{"$f":"VALUE_Spell_Haste[[#This Row],[Valeur]]*VALUE_Spell_Haste[[#This Row],[Rang]]","v":0},null,null,null,null,6,{"$f":"Paramètres!AE11","v":0},0,{"$f":"VALUE_Clan_Castle[[#This Row],[Valeur]]*VALUE_Clan_Castle[[#This Row],[Rang]]","v":0},6,{"$f":"Paramètres!AF11","v":0},0,{"$f":"VALUE_Town_Home[[#This Row],[Valeur]]*VALUE_Town_Home[[#This Row],[Rang]]","v":0}]
[37,{"$f":"Paramètres!BE42","v":0},681,{"$f":"VALUE_Barbarian_King[[#This Row],[Valeur]]*VALUE_Barbarian_King[[#This Row],[Rang]]","v":0},37,{"$f":"Paramètres!BG42","v":0},1088,{"$f":"VALUE_Archer_Queen[[#This Row],[Valeur]]*VALUE_Archer_Queen[[#This Row],[Rang]]","v":0},null,null,null,null,null,null,null,null,null,null,null,null,null,null,null,null,null,null,null,null,null,null,null,null,7,{"$f":"Paramètres!AF12","v":0},0,{"$f":"VALUE_Town_Home[[#This Row],[Valeur]]*VALUE_Town_Home[[#This Row],[Rang]]","v":0}]
[38,{"$f":"Paramètres!BE43","v":0},703,{"$f":"VALUE_Barbarian_King[[#This Row],[Valeur]]*VALUE_Barbarian_King[[#This Row],[Rang]]","v":0},38,{"$f":"Paramètres!BG43","v":0},1121,{"$f":"VALUE_Archer_Queen[[#This Row],[Valeur]]*VALUE_Archer_Queen[[#This Row],[Rang]]","v":0},null,null,null,null,null,null,null,null,null,null,null,null,null,null,null,null,null,null,null,null,null,null,null,null,8,{"$f":"Paramètres!AF13","v":0},0,{"$f":"VALUE_Town_Home[[#This Row],[Valeur]]*VALUE_Town_Home[[#This Row],[Rang]]","v":0}]
[39,{"$f":"Paramètres!BE44","v":0},725,{"$f":"VALUE_Barbarian_King[[#This Row],[Valeur]]*VALUE_Barbarian_King[[#This Row],[Rang]]","v":0},39,{"$f":"Paramètres!BG44","v":0},1154,{"$f":"VALUE_Archer_Queen[[#This Row],[Valeur]]*VALUE_Archer_Queen[[#This Row],[Rang]]","v":0},null,null,null,null,null,null,null,null,null,null,null,null,null,null,null,null,null,null,null,null,null,null,null,null,9,{"$f":"Paramètres!AF14","v":0},0,{"$f":"VALUE_Town_Home[[#This Row],[Valeur]]*VALUE_Town_Home[[#This Row],[Rang]]","v":0}]
[40,{"$f":"Paramètres!BE45","v":0},747,{"$f":"VALUE_Barbarian_King[[#This Row],[Valeur]]*VALUE_Barbarian_King[[#This Row],[Rang]]","v":0},40,{"$f":"Paramètres!BG45","v":0},1187,{"$f":"VALUE_Archer_Queen[[#This Row],[Valeur]]*VALUE_Archer_Queen[[#This Row],[Rang]]","v":0},null,null,null,null,null,null,null,null,null,null,null,null,null,null,null,null,null,null,null,null,null,null,null,null,10,{"$f":"Paramètres!AF15","v":0},0,{"$f":"VALUE_Town_Home[[#This Row],[Valeur]]*VALUE_Town_Home[[#This Row],[Rang]]","v":0}]

{"sheet":"Journal des Modifications","index":20,"n_rows":70,"n_cols":6,"rows_kept":70,"cut":false,"hidden":false,"merged":[[0,0,0,5]]}
["Journal des Modifications"]
["Version","Date","Nom de Fichier","Description ","Description","Téléchargement"]
["V6.04",42388,{"$f":"\"COC - Cost & Time Calcultator \" & A3 & \".xlsx\"","v":"COC - Cost & Time Calcultator V6.04.xlsx"},null,"-Souris verte\nCorrections mineures suite a l'augmentation du niveau max de certains batiments et autres"]
["V6.03",42379,{"$f":"\"COC - Cost & Time Calcultator \" & A4 & \".xlsx\"","v":"COC - Cost & Time Calcultator V6.03.xlsx"},null,"-Franck51-\nModification de l'onglet planning\nCertaine données ne pointées pas sur les bon tableaux comme la tour d'archet et la foreuse d'élixir noir.","http://www.cjoint.com/c/FAksLbvTKcE"]
["V6.02",42362,{"$f":"\"COC - Cost & Time Calcultator \" & A5 & \".xlsx\"","v":"COC - Cost & Time Calcultator V6.02.xlsx"},null,"-Souris verte\nMise a jour des valeurs d'amélioration\nModification de la macro de création du planning (rduction d'1/3 du temps d'execution).","http://www.fichier-xls.fr/2015/12/24/coc-calcultator-v6-02-vierge/"]
["V6.01.01",42357,{"$f":"\"COC - Cost & Time Calcultator \" & A6 & \".xlsx\"","v":"COC - Cost & Time Calcultator V6.01.01.xlsx"},null,"-Titounne\nOnglet planning : \n     - Remet le % à 0 en cas de supression de la date de début réel\n     - Prise en compte d'une 2nd teinte de noir dans le calcul du coût de la période pour l'EN\nCorrection de l'affichage des tautaux or,  elixir et  elixir noir de la page \"A faire - Récapitulatif\" pour Google Drive (Merci Akyrish)\nComposition et mode d'emplois (reprise de la 1ere page du sujet + résumé de Souris verte)\nCorrection du niveau max des barbare, archer, géant et gobelin pour HDV < 3","http://www.fichier-xls.fr/2015/12/19/coc-calcultator-v6-01-01-vierge/"]
["V6.01",42350,{"$f":"\"COC - Cost & Time Calcultator \" & A7 & \".xlsx\"","v":"COC - Cost & Time Calcultator V6.01.xlsx"},null,"-Souris verte\nGrosse MAJ: HDV11, nouveau batiment et nouveau hero","http://www.fichier-xls.fr/2015/12/12/coc-calcultator-v6-01-vierge/"]
["V5.04",42342,{"$f":"\"COC - Cost & Time Calcultator \" & A8 & \".xlsx\"","v":"COC - Cost & Time Calcultator V5.04.xlsx"},null,"-Souris verte\nCorrection de bugs divers…\nModification dans l'onglet Planning\nMerci, e1ff3l.","http://www.fichier-xls.fr/2015/12/04/coc-calcultator-v5-04-vierge/"]
["V5.03",42322,"COC - Cost & Time Calcultator V5.03.xlsx",null,"-Souris verte\nCorrection de bugs divers…\nMerci, choumex et e1ff3l.","http://www.fichier-xls.fr/2015/11/14/coc-calcultator-v5-03-vierge/"]
["V5.02",42299,"COC - Cost & Time Calcultator V5.02.xlsx",null,"-Souris verte\nCorrection de bugs divers…","http://www.fichier-xls.fr/2015/10/22/coc-calcultator-v5.02-vierge/"]
["V5.01",42266,"COC - Cost & Time Calcultator V5.01.xlsx",null,"-Souris verte\nEvolution sur à la mise à jour de septembre.\n25 remparts en plus, sort de foudre 7.\nMise a jours des coûts de sorts et developpements.","http://www.fichier-xls.fr/2015/09/19/coc-calcultator-v5.01-vierge/"]
["V5",42189,"COC - Cost & Time Calcultator V5.xlsx",null,"-Souris verte\nEvolution sur à la mise à jour du 01/07/15.Reste l'onget traduction\nquelques formules a la marge…"]
["V4.17.08",42175,"COC - Cost & Time Calcultator V4.17.08.xlsx",null,"-Souris verte\nCorrection de qq formules (Merci Coxwen, franck51, Leynae et krashs)\nCréation d'une nouvelle feuille pour la valeur du village (Proto suite au post de Extrapidou)"]
["V4.17.07",42167,{"$f":"\"COC - Cost & Time Calcultator \" & A14 & \".xlsx\"","v":"COC - Cost & Time Calcultator V4.17.07.xlsx"},null,"-Souris verte :\nPrise en compte du cout de la recherche d'adversaire en attaque multijoueur."]
["V4.17.06",42160,"COC - Cost & Time Calcultator V4.17.06.xlsx",null,"-Souris verte :\nPrise en compte de l'Elixir Noir\nSimplification de la formule concernant la période"]
["V4.17.05",42160,"COC - Cost & Time Calcultator V4.17.05.xlsx",null,"-Souris verte :\nAjout de possibilité d'afficher le récapitulatif sans leshéros.\nCorrections mineure de formule.","http://www.fichier-xls.fr/2015/06/05/coc-calcultator-v4-17-05-vierge/"]
["V4.17.04",42154,"COC - Cost & Time Calcultator V4.17.04.xlsx",null,"-Souris verte :\nAjout de possibilité d'afficher le récapitulatif sans les remparts.\nAjout de possibilité d'afficher le récapitulatif sans l'hotel de ville.\n","http://www.fichier-xls.fr/2015/05/30/coc-calcultator-v4-17-04-vierge/"]
["V4.17.03",42138,"COC - Cost & Time Calcultator V4.17.03.xlsx","-Souris verte :\nupdate formule sheet \"To do…\"\nChange production Dark Elixir\nUse trophee in gains on sheet \"Troops Training\"","-Souris verte :\nModification formule feuilles \"A faire…\"\nCorrection production Elixir noir\nUtilisation des trophées dans le calcul des gains dans la feuille \"Formation des troupes\"\nModification \"Planning\" pour prise en charge expulseur d'air\nSimplification de la mise en forme conditionnelle feuille \"paramètres\"\nCréation d'une feuille \"Rentabilité\"","http://www.fichier-xls.fr/2015/05/22/coc-calcultator-v4-17-03-vierge/"]
["V4.17.00",42124,"COC - Cost & Time Calcultator V4.17.00.xlsx",null,"Mise en place du souffleur d'air"]
["V4.16.00",41984,{"$f":"\"COC - Cost & Time Calcultator \" & A20 & \".xlsx\"","v":"COC - Cost & Time Calcultator V4.16.00.xlsx"},null,"-Sednanref-\nAjout coût de formation pour :\n- Sort de saut 3\n- Sort de gel 5\n- Guerrier 7\n- Archer 7\n- Gobelin 6\n- Lava Hound 1/2/3\n\n+ Mise à jour suite Update du 11/12/2014"]
["V4.15.00",41977,"COC - Cost & Time Calcultator V4.15.00.xlsx",null,"-Sednanref-\nAjout de piège à ressort et tête chercheuse dans les onglets A Faire - Recap et A Faire - Détails"]
["V4.14",41974,"COC - Cost & Time Calcultator V4.14.xlsx",null,"-Franck51-\nCorrection dans l'onglet a-faire detail des tableaux pour les unités et les sorts qui avaient un décalage dans les calculs suite au ajout des derniers niveau qui n'étaient pas pris en compte"]
["V4.13,09",41974,"COC - Cost & Time Calcultator V4.13,09.xlsx"]
["V4.13,07",41973,"COC - Cost & Time Calcultator V4.13,07.xlsx",null,"-Franck51-\nCorrection dans l'onglet a-faire detail des tableaux pour les unités et les sorts qui ne prenait en compte que l'amelioration de HDV et non du labo"]
["V4.13,06",41972,"COC - Cost & Time Calcultator V4.13,06.xlsx",null,"-Franck51-\nCorrection dans l'onglet a-faire detail des tableaux pour les bombes géantes et les pieges squeletiques"]
["V4.13,05",41971,"COC - Cost & Time Calcultator V4.13,05.xlsx",null,"-Sednanref-\nModification de la macro de traduction pour recherche automatique de la cellule \"langue ou language\" de traduction"]
["V4.13,04",41969,"COC - Cost & Time Calcultator V4.13,04.xlsx",null,"-Sednanref-\nCorrection de l'onglet a-faire avec le tableau des sorciers qui ne s'activait pas"]
["V4.13,03",41968,"COC - Cost & Time Calcultator V4.13,03.xlsx",null,"-Franck51-\nCorrection :\n1 - En hdv 10, message d'erreur dans l'onglet A faire pour les pekka niveau 4, idem pour les ballons niv 6 et les sorciers niv 5 .\n2 - Pour les cochons , ilqui au max dans l'onglet parametre devaient être amélioré dans l'onglet A faire,\nModification :\nde la macro, Lors de la création du planning j'ai modifié la macro VBA de création pour que l'on puisses intégrer des nouvelles colonne dans l'onglet parametre (pour de nouvelles unités) et que de façon automatique la macro détecte la derniere cellule non vide."]
["V4.13,02",41966,"COC - Cost & Time Calcultator V4.13,02.xlsx",null,"-Franck51-\nModification de l'onglet à faire-Détails tableau pour les ballons avec l'affichage du niv 6 et calcul des sommes à avoir"]
["V4.13,01",41966,"COC - Cost & Time Calcultator V4.13,01.xlsx",null,"-Franck51-\nModification de l'onglet à faire-Détails avec ajout des niveau supplémentaire suite à mise à jour"]
["V4.13",41965,"COC - Cost & Time Calcultator V4.13.xlsx",null,"-Franck51-\nmodification de l'onglet parametre pour la gestion des unités et des sorts par rapport a l'existance des casernes et usine de sort et liaison des niveau par rapport au niveaux du labo"]
["V4.12",41960,"COC - Cost & Time Calcultator V4.12.xlsx","-Yezazell-\nupgrade spell healing ","-Yezazell-\nMise à jour des sorts de soins  "]
["V4.11,01",41958,{"$f":"\"COC - Cost & Time Calcultator \" & A33 & \".xlsx\"","v":"COC - Cost & Time Calcultator V4.11,01.xlsx"},"- Franck51 - \nRemise en route du module traduction","- Franck51 - \nRemise en route du module traduction"]
["V4.11",41958,"COC - Cost & Time Calcultator V4.11.xlsx","- Franck51 - \nAjout dans l'onglet a faire - détails des molosse de lave\nAjout aussi dans l'onglet a faire recapitulatif\nchangement de l'ordre de la sorciere et molosse de lave dans l'onglet parametre","- Franck51 - \nAjout dans l'onglet a faire - détails des molosse de lave\nAjout aussi dans l'onglet a faire recapitulatif\nchangement de l'ordre de la sorciere et molosse de lave dans l'onglet parametre"]
["V4.09.01",41956,"COC - Cost & Time Calcultator V4.09.01.xlsx","- Yezazell - \nCorrection mineur sur les formules de l'onglet \"Paramètres\", le problème venait de l'onglet batiment ou il manquait une colonne HDV","- Yezazell - \nCorrection mineur sur les formules de l'onglet \"Paramètres\", le problème venait de l'onglet batiment ou il manquait une colonne HDV"]
["V.4.9",41955,"COC - Cost & Time Calcultator V.4.9.xlsx","- Yezazell - \nAjout : \n- Molosse de lave onglet : Formation de troupes\n- Ajout gestion Caserne Noir Lvl 6\n- Modifications mise en forme conditionnelle…","- Yezazell - \nAjout : \n- Molosse de lave onglet : Formation de troupes\n- Ajout gestion Caserne Noir Lvl 6\n- Modifications mise en forme conditionnelle…"]
["V.4.8",41955,"COC - Cost & Time Calcultator V.4.8.xlsx","- Yezazell - \nModification :\n - Séparation des pièges défensifset des batiments défensifs\n - Modification de toutes les formules en respectant l'éxistant","- Yezazell - \nModification :\n - Séparation des pièges défensifset des batiments défensifs\n - Modification de toutes les formules en respectant l'éxistant"]
["V4.07.02",41954,"COC - Cost & Time Calcultator V4.07.02.xlsx","Ajout :\n- Bombe Aérienne \n- Piège Squelletique\nDans les onglets : A faire - Détail & A faire - Récapitulatif \nCorrection divers de formules","Ajout :\n- Bombe Aérienne \n- Piège Squelletique\nDans les onglets : A faire - Détail & A faire - Récapitulatif \nCorrection divers de formules"]
["V4.07.01",41953,{"$f":"\"COC - Calcultator \" & A39 & \".xlsm\"","v":"COC - Calcultator V4.07.01.xlsm"},"Ajout :\n- Ajout dans \"A Faire - Détails \" & \"A Faire - Récupitulatif\" des \"Bombe Géante\"\n- Mofication des formules pour les calcules de temps ","Ajout :\n- Ajout dans \"A Faire - Détails \" & \"A Faire - Récupitulatif\" des \"Bombe Géante\"\n- Mofication des formules pour les calcules de temps "]
["V4.07",41953,{"$f":"\"COC - Calcultator \" & A40 & \".xlsm\"","v":"COC - Calcultator V4.07.xlsm"},"Ajout :\n- Modification des temps de construction des bombes\n- Ajout dans \"A Faire - Détails\" de la gestion des bombes\n- Ajout dans \"A faire - Récapitualitif \" de la gestion des bombes\n- Corrections sur les formules ","Ajout :\n- Modification des temps de construction des bombes\n- Ajout dans \"A Faire - Détails\" de la gestion des bombes\n- Ajout dans \"A faire - Récapitualitif \" de la gestion des bombes\n- Corrections sur les formules "]
["v4.06",41952,"COC - Calcultator v4.06.xlsm","- Correctif sur :\n- Modification du niveau du sort de guerisson pour aparaitre avec HDV niveau 6\n- et la caserne noire est disponible au niveau 6 dès l'hôtel de ville niveau 9","- Correctif sur :\n- Modification du niveau du sort de guerisson pour aparaitre avec HDV niveau 6\n- et la caserne noire est disponible au niveau 6 dès l'hôtel de ville niveau 9"]
["v4.05",41950,"COC - Calcultator v4.05.xlsm","- Correctif sur :\n- Onglet planning qui ajoutais un ouvrier pour les amelioration des sort ou des unités noirs","- Correctif sur :\n- Onglet planning qui ajoutais un ouvrier pour les amelioration des sort ou des unités noirs"]
["v4.04",41949,"COC - Calcultator v4.04.xlsm","- Correctif sur :\n- d'une erreur dans les formules de l'onglet planning inversion entre les golems et les molosse de lave","- Correctif sur :\n- d'une erreur dans les formules de l'onglet planning inversion entre les golems et les molosse de lave"]
["v4.03",41949,"COC - Calcultator v4.03.xlsm","- Correctif sur :\n- Ajout de la nouvelle untité des molosses de lave\n- Correction dans l'onglet : \"À Faire - Détails\" , la formule de la cellulle B148 est fausse on pointe plus au bonne endroit","- Correctif sur :\n- Ajout de la nouvelle untité des molosses de lave\n- Correction dans l'onglet : \"À Faire - Détails\" , la formule de la cellulle B148 est fausse on pointe plus au bonne endroit"]
["v4.02",41942,"COC - Calcultator v4.02.xlsm","- Correctif sur :\n- Les TDA n'affichent que 12 lvl alors qu'il y en a maintenant 13\n- Les Barbares et Archers ont maintenant 7 lvl et non plus 6 comme l'indique le tableau\n- Le PEKKA peut maintenant être up au lvl 5 et non plus seulement 4, \n- Les Teslas peuvent etre up jusqu'au lvl 8 et non plus seulement 7, \n- Le sort de saut à maintenant 3 lvl et non plus seulement 2, ","- Correctif sur :\n- Les TDA n'affichent que 12 lvl alors qu'il y en a maintenant 13\n- Les Barbares et Archers ont maintenant 7 lvl et non plus 6 comme l'indique le tableau\n- Le PEKKA peut maintenant être up au lvl 5 et non plus seulement 4, \n- Les Teslas peuvent etre up jusqu'au lvl 8 et non plus seulement 7, \n- Le sort de saut à maintenant 3 lvl et non plus seulement 2, "]
["v4.01",41940,"COC - Calcultator v4.01.xlsm","- Correction des niveau des bombes et des bombes géantes","- Correction des niveau des bombes et des bombes géantes"]
["v4.00",41940,{"$f":"\"COC - Calcultator \" & A47 & \".xlsm\"","v":"COC - Calcultator v4.00.xlsm"},"-Add different Trap in the sheet\nPiège à ressort \nTête chercheuse  \nBombe géante  \nBombe aérienne \npour integration dans l'onglet planning\nPiège squelettique","- Ajout des pièges dans l'onglet paramétre - Batiment - Amélioration et couts des améliorations\nPiège à ressort \nTête chercheuse  \nBombe géante  \nBombe aérienne \npour integration dans l'onglet planning\nPiège squelettique"]
["v2.00",41514,{"$f":"\"COC - Calcultator \" & A48 & \".xlsm\"","v":"COC - Calcultator v2.00.xlsm"},"- Updates following the maintenance of 2013-08-28\n- Adding the total of troops in \"Troups training\" tab\n- Fixing the required level for the \"Healing Spell\"\n- Fixing the totals formulas of \"Army Buildings\"  in \"TO DO - Summary\" tab\n- Fixing formulas for \"Wall Breaker\" and \"Dark Barracks\" in \"TO DO - Details\" tab","- Mises à jour suite à la maintenance du 28/08/2013\n- Ajout du total de troupes dans l'onglet \"Formation de Troupes\"\n- Correction du level nécessaire pour le \"Sort de Guérison\"\n- Correction de formules des totaux \"Batiments d'Armée\" dans l'onglet \"À Faire - Récapitulatif\"\n- Correction des formules pour le \"Sapeur\" et les \"Casernes Noires\" dans l'onglet \"À Faire - Détails\""]
["v1.91",41502,{"$f":"\"COC - Calcultator \" & A49 & \".xlsm\"","v":"COC - Calcultator v1.91.xlsm"},"- Small fixes\n    - TH Level was incorrect in \"Planning\" and \"Raiding - Loots\" tabs\n    - Fixed the level of dark barracks in \"Troops Training\" tab\n    - Forgot a formula in the \"Parameters\" tab for the Witch\n- Changing the VBA code - No more checking on the filename","- Petites corrections\n   - Niveau de HdV ne correspondait pas dans les onglets \"Planning\" et \"Combats - Loots\"\n   - Correction du niveau des casernes noires dans l'onglet \"Formation de Troupes\"\n   - Oubli d'une formule dans l'onglet \"Paramètres\" pour la Sorcière\n- Modification du code VBA - Plus de vérification sur le nom du fichier"]
["v1.90",41498,"COC - Calcultator v1.90.xlsm","- Updates following the maintenance of 2013-07-29\n- Switching host file uploader","- Mises à jour suite à la maintenance du 29/07/2013\n- Changement de l'hébergeur des fichiers"]
["v1.82",41481,"COC - Calcultator v1.82.xlsm","- Renaming the file so the VBA code can works\n- Fixing the translation for the \"Barracks\"\n- Fixing the calculation for the \"Walls\" in the \"TO DO - Details\" tab. Forgot some formulas","- Modification du nom de fichier pour que les macros VBA fonctionnent\n- Correction de la traduction pour les \"Casernes\"\n- Correction du calcul des \"Remparts\" dans l'onglet \"À Faire - Détails\". Oubli de formules"]
["v1.81",41479,"COC - Calcultator v1.81.xlsm","- Fixing the translation for \"Town Hall\"\n- Automatic refresh when selecting the \"Period Highlight\" on the \"Planning\" tab\n- Freezing panes on the \"Planning\" tab","- Correction de la traduction pour \"Hôtel de Ville\"\n- Rafraichissement automatique lorsqu'on choisit la période sélectionnée dans l'onglet \"Planning\"\n- Figeage des volets dans l'onglet \"Planning\""]
["v1.80",41479,"COC - Calcultator v1.80.xlsm","Adding the \"Planning\" tab to know the constuctions/upgrades futures","- Ajout de l'onglet \"Planning\" pour prévoir les futures constructions/améliorations."]
["v1.71",41471,"COC - Calcultator v1.71.xlsm","- Conditionnal formatting on \"Parameters\" tab to know which ameliorations are left/unavailable\n- Fixing the translation for \"Inferno Tower\"\n- Fixing the representative color for \"Hidden Tesla\" in the \"TO DO - Details\" tab\n- Fixing the total cost with the adding of the \"P.E.K.K.A\" line o=in the \"Trainings Troops\" tab\n- Editing the \"Elixir\" color","- Mise en forme conditionnelle dans l'onglet \"Paramètres\" pour savoir les améliorations restantes/indisponibles\n- Correction de la traduction pour \"Tour de l'Enfer\"\n- Correction de la couleur représentative du coût de \"Tesla Camouflée\" dans l'onglet \"À Faire - Détails\"\n- Correction du calcul total avec l'ajout de la ligne des \"P.E.K.K.A\" dans l'onglet \"Formation de Troupes\" \n- Modification de la couleur de l'Élixir"]
["v1.70",41467,"COC - Calcultator v1.70.xlsm","- Adding the language selection in the \"Parameters\" tab - French translation\n- Adding the feature which allow to see profits regarding the training costs and the raiding wins on the \"Training Troops\" tab\n- Rights' restriction on the file's sheets - unable to click on the protected cells\n- Values seizure restriction on cells\n- Small graphic changes","- Ajout du choix de la langue dans l'onglet \"Paramètres\" - traduction en français\n- Ajout de la fonctionnalité permettant de voir les profits en fonction des coûts de formation et des gains de combat dans l'onglet \"Formation de Troupes\"\n- Restriction des droits sur les feuilles du fichier - impossibilité de cliquer sur les cellules protégées\n- Restriction des valeurs saisissables dans les cellules\n- Changements graphiques mineurs"]
["v1.61",41464,{"$f":"\"COC - Calcultator \" & A56 & \".xlsx\"","v":"COC - Calcultator v1.61.xlsx"},"- Adding the Date in the \"ChangeLog\" tab\n- Fixing bug with conditional formatting on \"Troops Training\" tab","- Ajout de la date dans l'onglet \"Journal des Modifications\"\n- Correction d'un bug de formatage conditionnel sur l'onglet \"Formation de Troupes\""]
["v1.60",41463,{"$f":"\"COC - Calcultator \" & A57 & \".xlsx\"","v":"COC - Calcultator v1.60.xlsx"},"- Adding the \"Troops Training\" tab: It helps to know training possibilities regarding the Barracks/Laboratory level and the total costs\n- Renaming the \"Leagues\" tab to \"Trophies\"\n- Renaming the \"Costs\" tab to \"Upgrades Costs\"\n- Conditional formatting on \"Production\" tab\n- Conditional formatting changes on \"Raidings Loots\" tab\n- Fixing Freeze Spell upgrade Costs/Time\n- Fixing TH LVL required for Spells Upgrades","- Ajout de l'onglet \"Formation de Troupes\" : cela permet de connaître les possibilités de formation par rapport aux levels des Casernes/Laboratoire ainsi que les coûts totaux\n- Renommage de l'onglet \"Ligues\" par \"Trophées\"\n- Renommage de l'onglet \"Coûts\" par \"Coûts des Améliorations\"\n- Formatage conditionnel sur l'onglet \"Production\"\n- Modifications sur le formatage conditionnel sur l'onglet \"Combats - Loots\"\n- Correction des Coûts/Temps des améliorations du Sort de Gel\n- Correction du LVL HdV nécessaire pour les améliorations de Sorts"]
["v1.50",41457,{"$f":"\"COC - Calcultator \" & A58 & \".xlsx\"","v":"COC - Calcultator v1.50.xlsx"},"- Adding the \"Production\" tab: It helps to know how many resources can be won in a specific time\n- Adding the \"Raiding Loots\" tab: It helps to know the possible earnings or losses in Multiplayer Raiding\n- Small graphic changes\n- Renaming previous file versions\n- Renaming file","- Ajout de l'onglet \"Production\" : cela permet de connaître combien de ressources peuvent être gagnées dans un temps imparti\n- Ajout de l'onglet \"Combats - Loots\" : cela permet de connaître les gains ou pertes possibles dans les combats multi-joueurs\n- Changements graphiques mineurs\n- Renommage des anciennes versions du fichier\n- Renommage du fichier"]
["v1.41 - FR",41452,{"$f":"\"COC - Cost & Time Calcultator \" & A59 & \".xlsx\"","v":"COC - Cost & Time Calcultator v1.41 - FR.xlsx"},"- French version of 1.41 file","- Version française du fichier 1.41"]
["v1.41",41452,{"$f":"\"COC - Cost & Time Calcultator \" & A60 & \".xlsx\"","v":"COC - Cost & Time Calcultator v1.41.xlsx"},"- Fixing the summary cost view for Golem upgrade\n- Fixing the summary time view for Troops/Spells upgrades\n- Editing the cell format for numbers","- Correction de la vue récapitulative pour l'amélioration de Golem\n- Correction de la vue récapitulative pour les améliorations de Troupes/Sorts\n- Modification du format de cellule pour les nombres"]
["v1.40",41452,{"$f":"\"COC - Cost & Time Calcultator \" & A61 & \".xlsx\"","v":"COC - Cost & Time Calcultator v1.40.xlsx"},"- Separation of summary and details sections\n     - Adding the tab \"TO DO - Summary\"\n     - Renaming the tab \"TO DO\" to \"TO DO - Details\"\n- The times can now be displayed by seconds/minutes/hours/days/months/days hours minutes\" by selecting the choice in B2 cell (\"TO DO - Summary\" tab)\n- Hiding the grid in the tabs\n- Allowing permission to change the cell format / use filters / sort even if the tab is locked","- Séparation des sections récapitulatif et détails\n   - Ajout de l'onglet \"À Faire - Récapitulatif\"\n   - Renommage de l'onglet \"À Faire\" par \"À Faire - Détails\"\n- Les temps peuvent désormais être affichés en secondes/minutes/heures/jours/mois/jours heures minutes en sélectionnant le choix dans la cellule B2 (onglet \"À Faire - Récapitulatif\")\n- Masquage du quadrillage dans les onglets\n- Autorisation de modifier le format de cellule / utiliser des filtres / trier même si l'onglet est verrouillé"]
["v1.31",41451,{"$f":"\"COC - Cost & Time Calcultator \" & A62 & \".xlsx\"","v":"COC - Cost & Time Calcultator v1.31.xlsx"},"- Updating available Buildings, following the maintenance of 2013/06/24\n     For TH LVL 10:\n        - 1 more Gold Mine\n        - 1 more Elixir Collector","- Mise à jour des Bâtiments disponibles, suite à la maintenance du 24/06/2013\n    Pour LVL HdV 10 :\n     - 1 Mine d'Or supplémentaire\n     - 1 Extracteur d'Élixir supplémentaire"]
["v1.30",41450,{"$f":"\"COC - Cost & Time Calcultator \" & A63 & \".xlsx\"","v":"COC - Cost & Time Calcultator v1.30.xlsx"},"- Changes on the \"Parameters\" tab. \n     - Summary table of all Buildings and Spells/Normal Troops/Dark Troops Upgrades. \n      - All user data has to be written in this tab and now the \"TO DO\" tab only display results\n     - Adding indications to use the Excel file","- Changements sur l'onglet \"Paramètres\"\n   - Tableau récapitulatif de tous les améliorations de Bâtiments et Sorts/Troupes Normales/Troupes Noires\n    - Toutes les données utilisateurs doivent désormais être saisies dans cet onglet et l'onglet \"À faire\" n'affiche que les résultats\n    - Ajout d'indications pour utiliser le fichier Excel"]
["v1.23",41450,{"$f":"\"COC - Cost & Time Calcultator \" & A64 & \".xlsx\"","v":"COC - Cost & Time Calcultator v1.23.xlsx"},"- Adding the \"ChangeLog\" tab","- Ajout de l'onglet \"Journal des Modifications\""]
["v1.22",41449,"COC - Cost & Time Calcultator v1.22.xlsx","- Fixed Elixir Storage & Gold Storage costs","- Correction des coûts de Réserve d'Or et Réserve d'Élixir"]
["v1.21",41446,"COC - Cost & Time Calcultator v1.21.xlsx","- Summary graphic changes on \"TO DO\" tab\n- Displaying the time remaining in days rather than hours\n- Locking formulas cells","- Changements graphiques sur le récapitulatif sur l'onglet \"À Faire\"\n- Affichage du temps restant en jours plutôt qu'en heures\n- Verrouillage des cellules de formules"]
["v1.20",41445,"COC - Cost & Time Calcultator v1.20.xlsx","- Removing the tab \"TO DO - By TH LVL\"\n- Renaming the tab \"TO DO - By Current \" to \"TO DO\"\n- Conditional Formatting on \"TO DO\" tab","- Suppression de l'onglet \"À faire - Par LVL HdV\"\n- Renommage de l'onglet \"À faire - Actuellement\" par \"À faire\"\n- Mise en forme conditionnelle sur l'onglet \"À faire\""]
["v1.10",41444,"COC - Cost & Time Calcultator v1.10.xlsx","- Displaying buildings by category on one tab\n- Summary graphic changes on \"TO DO - Current\" tab\n- Adding a graphic \"Required Resources\"","- Affichage des Bâtiments par catégorie sur un seul onglet\n- Changements graphiques sur le récapitulatif dans l'onglet \"À faire - Actuellement\"\n- Ajout d'un graphique \"Ressources Nécessaires\""]
["v1.01",41443,"COC - Cost & Time Calcultator v1.01.xlsx","- Updating Spells Costs/Time","- Mise à jour des Coûts/Temps des Sorts"]
["v1.00",41443,{"$f":"\"COC - Cost & Time Calcultator \" & A70 & \".xlsx\"","v":"COC - Cost & Time Calcultator v1.00.xlsx"},"- Initial version","- Version initiale"]