{"text_format":"1","workbook":"xlsx","n_sheets":24,"sheets":["Pts P1","Pts P2","Pts P3","Pts P4","Déc CC","Elève (1)","Elève (2)","Elève (3)","Elève (4)","Elève (5)","Elève (6)","Elève (7)","Elève (8)","Elève (9)","Elève (10)","Elève (11)","Elève (12)","Elève (13)","Elève (14)","Elève (15)","Elève (16)","Elève (17)","Elève (18)","Elève (19)"],"not_rendered":{"charts":0,"images":0,"macros":1,"external_links":0,"defined_names":23,"comments":0,"pivot_tables":0},"unopened":[],"bounds":{"document_bytes":16777216,"sheet_cells":100000,"rows_first":2000,"rows_last":500,"rows_between":2000,"halvings":0,"cell_chars":16384,"cell_head_chars":4096},"cells_cut":0,"cells_raw":0,"read":"whole","date_system":"1900"}

{"sheet":"Pts P1","index":0,"n_rows":32,"n_cols":22,"rows_kept":32,"cut":false,"hidden":false,"merged":[[3,20,5,20],[3,21,5,21],[7,4,10,4],[7,5,10,5],[7,6,10,6],[7,7,10,7],[7,8,10,8],[7,9,10,9],[7,10,10,10],[7,11,10,11],[7,12,10,12],[7,13,10,13],[7,14,10,14],[7,15,10,15],[3,15,5,15],[3,16,5,16],[3,17,5,17],[3,18,5,18],[3,19,5,19],[24,0,30,0],[31,0,31,1],[7,0,11,0],[13,0,23,0],[31,2,31,21],[7,21,10,21],[7,16,10,16],[7,17,10,17],[7,18,10,18],[7,19,10,19],[7,20,10,20],[7,2,10,2],[7,3,10,3],[1,0,1,2],[2,0,6,0],[0,0,0,21],[3,2,5,2],[3,3,5,3],[3,4,5,4],[3,5,5,5],[3,6,5,6],[3,7,5,7],[3,8,5,8],[3,9,5,9],[3,10,5,10],[3,11,5,11],[3,12,5,12],[3,13,5,13],[3,14,5,14]]}
["Ecole Maurice Heuse - Bulletins: Année scolaire 2015 - 2016"]
["Période 1",null,null,"ANCIAUX Mathys","GAVAGE Noah","HANZE Kenny","LEJEUNE Vincent","MARÉCHAL Thomas","RENARD Ethan","TAHIRI Sefer"]
["Français"," Savoir lire",20,14,12,16,15,15,15]
[null," Savoir écrire",80,47,60,68.8,60,55,63.4]
[null," Savoir parler"]
[null," Savoir écouter"]
[null,"  TOTAL Français",100,{"$f":"SUM(D3:D6)","v":61},{"$f":"SUM(E3:E6)","v":72},84.8,75,70,78.400000000000006,0,0,0,0,0,0,0,0,0,0,0,0,0]
["Math"," Savoir calculer",100,90,68,78,85,89,80]
[null," Savoir mesurer"]
[null," Savoir résoudre des problèmes"]
[null," Savoir structurer l'espace"]
[null,"  TOTAL Math",100,{"$f":"+SUM(D8:D11)","v":90},{"$f":"+SUM(E8:E11)","v":68},78,85,89,80,0,0,0,0,0,0,0,0,0,0,0,0,0]
["T. Gén,","  TOTAL FR et MATH en %",100,{"$f":"(D7+D12)/2","v":75.5},{"$f":"(E7+E12)/2","v":70},81.400000000000006,80,79.5,79.2,0,0,0,0,0,0,0,0,0,0,0,0,0]
["Autres branches","  Eveil",20,14,16,16,15,17,18]
[null,"  Education physique",10,8,9,8.5,8,9,9]
[null,"  Education esthétique",10,8,8,8,8.5,8.5,8]
[null,"  Religion / Morale / E.P.A",10,8,8,8,8,8,8]
[null,"  Récitations et chants","Ap.","S","B","B","S","B","B"]
[null,"  Ecriture","Ap.","S","S","B","S","S","B"]
[null,"  Ordre","Ap.","S","S","S","S","S","S"]
[null,"  Soin","Ap.","B","B","B","S","S","B"]
[null,"  Travail à Domicile *","Ap.","B","TB","B","B","TB","TB"]
[null,"  ABSENCES (en 1/2 jours)","Nbr","22","3","11","9","0","7"]
[null,"  RETARDS","Nbr","0","0","0","0","0","0"]
["Cartes de conduite"," 1. Carte(s) d’honneur à jaune(s)","Nbr","5","7","6","4","3"]
[null," 2. Carte(s) verte(s) ","Nbr","0","0","0","1","3"]
[null," 3. Carte(s) orange(s) ","Nbr","0","0","0","1","1"]
[null," 4. Carte(s) rouge(s) ","Nbr","0","0","0","0","1"]
[null," 5. Carte(s) rouge(s) « Garderie »","Nbr","0","0","0","0","0"]
[null," 6. Carte(s) rouge(s) « Tr.  scolaire »","Nbr","0","0","0","0","2"]
[null," 7. Carte(s) blanche(s) (retenues)","Nbr","0","0","0","0","1"]
["Décision du Conseil de classe :",null,"  L'élève est admis(e) en classe A (à l'essai)"]

{"sheet":"Pts P2","index":1,"n_rows":32,"n_cols":22,"rows_kept":32,"cut":false,"hidden":false,"merged":[[7,21,10,21],[7,16,10,16],[7,17,10,17],[7,18,10,18],[7,19,10,19],[7,20,10,20],[3,20,5,20],[3,21,5,21],[7,2,10,2],[7,3,10,3],[7,4,10,4],[7,5,10,5],[7,6,10,6],[7,7,10,7],[7,8,10,8],[7,9,10,9],[7,10,10,10],[7,11,10,11],[7,12,10,12],[7,13,10,13],[7,14,10,14],[7,15,10,15],[3,15,5,15],[3,16,5,16],[3,17,5,17],[3,18,5,18],[3,19,5,19],[3,10,5,10],[3,11,5,11],[3,12,5,12],[3,13,5,13],[3,14,5,14],[31,0,31,1],[31,2,31,21],[0,0,0,21],[1,0,1,2],[2,0,6,0],[7,0,11,0],[13,0,23,0],[24,0,30,0],[3,2,5,2],[3,3,5,3],[3,4,5,4],[3,5,5,5],[3,6,5,6],[3,7,5,7],[3,8,5,8],[3,9,5,9]]}
[{"$f":"'Pts P1'!$A$1","v":"Ecole Maurice Heuse - Bulletins: Année scolaire 2015 - 2016"}]
["Période 2",null,null,{"$f":"'Pts P1'!D2","v":"ANCIAUX Mathys"},{"$f":"'Pts P1'!E2","v":"GAVAGE Noah"},{"$f":"'Pts P1'!F2","v":"HANZE Kenny"},{"$f":"'Pts P1'!G2","v":"LEJEUNE Vincent"},{"$f":"'Pts P1'!H2","v":"MARÉCHAL Thomas"},{"$f":"'Pts P1'!I2","v":"RENARD Ethan"},{"$f":"'Pts P1'!J2","v":"TAHIRI Sefer"},{"$f":"'Pts P1'!K2","v":0},{"$f":"'Pts P1'!L2","v":0},{"$f":"'Pts P1'!M2","v":0},{"$f":"'Pts P1'!N2","v":0},{"$f":"'Pts P1'!O2","v":0},{"$f":"'Pts P1'!P2","v":0},{"$f":"'Pts P1'!Q2","v":0},{"$f":"'Pts P1'!R2","v":0},{"$f":"'Pts P1'!S2","v":0},{"$f":"'Pts P1'!T2","v":0},{"$f":"'Pts P1'!U2","v":0},{"$f":"'Pts P1'!V2","v":0}]
["Français"," Savoir lire",20,11.9,11.3,11.9,11,12.8,14.9,13.8]
[null," Savoir écrire",80,66.900000000000006,68.3,64.099999999999994,61.5,65.7,61.8,51.8]
[null," Savoir parler"]
[null," Savoir écouter"]
[null,"  TOTAL Français",100,{"$f":"SUM(D3:D6)","v":78.800000000000011},79.599999999999994,76,72.5,78.5,76.7,65.599999999999994,0,0,0,0,0,0,0,0,0,0,0,0]
["Math"," Savoir calculer",100,90.7,83.5,80.099999999999994,69.2,75.900000000000006,75.599999999999994,87.9]
[null," Savoir mesurer"]
[null," Savoir résoudre des problèmes"]
[null," Savoir structurer l'espace"]
[null,"  TOTAL Math",100,{"$f":"+SUM(D8:D11)","v":90.7},{"$f":"+SUM(E8:E11)","v":83.5},80.099999999999994,69.2,75.900000000000006,{"$f":"+SUM(I8:I11)","v":75.599999999999994},87.9,0,0,0,0,0,{"$f":"+SUM(P8:P11)","v":0},0,{"$f":"+SUM(R8:R11)","v":0},{"$f":"+SUM(S8:S11)","v":0},{"$f":"+SUM(T8:T11)","v":0},{"$f":"+SUM(U8:U11)","v":0},{"$f":"+SUM(V8:V11)","v":0}]
["T. Gén,","  TOTAL FR et MATH en %",100,{"$f":"(D7+D12)/2","v":84.75},81.55,78.05,70.849999999999994,77.2,76.150000000000006,76.75,0,0,0,0,0,0,0,0,0,0,0,0]
["Autres branches","  Eveil",20,14,17,15,13,16,16,16]
[null,"  Education physique",10,8.5,8,6,6.5,9.5,7,7]
[null,"  Education esthétique",10,8,8.5,8,8.5,8,8.5,8.5]
[null,"  Religion / Morale / E.P.A",10,8,8,8,8,7,7,8]
[null,"  Récitations et chants","Ap.","S","S","S","I","B","B","TB"]
[null,"  Ecriture","Ap.","I","S","S","I","S","TB","TB"]
[null,"  Ordre","Ap.","S","S","S","S","I","B","B"]
[null,"  Soin","Ap.","I","S","S","I","S","S","B"]
[null,"  Travail à Domicile *","Ap.","TB","S","S","S","B","B","TB"]
[null,"  ABSENCES (en 1/2 jours)","Nbr","11","0","18","17","3","9","0"]
[null,"  RETARDS","Nbr","0","0","0","1","0","0","0"]
["Cartes de conduite"," 1. Carte(s) d’honneur à jaune(s)","Nbr","6","5","6","6","3","2","4"]
[null," 2. Carte(s) verte(s) ","Nbr","0","1","1","1","2","2","0"]
[null," 3. Carte(s) orange(s) ","Nbr","0","0","0","0","1","2","0"]
[null," 4. Carte(s) rouge(s) ","Nbr","0","0","0","0","1","1","0"]
[null," 5. Carte(s) rouge(s) « Garderie »","Nbr","0","0","0","0","0","0","0"]
[null," 6. Carte(s) rouge(s) « Tr.  scolaire »","Nbr","0","0","0","0","0","0","0"]
[null," 7. Carte(s) blanche(s) (retenues)","Nbr","0","0","0","0","0","1","0"]
["Décision du Conseil de classe :",null,"  L'élève est admis(e) en classe A (à l'essai)"]

{"sheet":"Pts P3","index":2,"n_rows":32,"n_cols":22,"rows_kept":32,"cut":false,"hidden":false,"merged":[[7,21,10,21],[7,16,10,16],[7,17,10,17],[7,18,10,18],[7,19,10,19],[7,20,10,20],[3,20,5,20],[3,21,5,21],[7,2,10,2],[7,3,10,3],[7,4,10,4],[7,5,10,5],[7,6,10,6],[7,7,10,7],[7,8,10,8],[7,9,10,9],[7,10,10,10],[7,11,10,11],[7,12,10,12],[7,13,10,13],[7,14,10,14],[7,15,10,15],[3,15,5,15],[3,16,5,16],[3,17,5,17],[3,18,5,18],[3,19,5,19],[3,10,5,10],[3,11,5,11],[3,12,5,12],[3,13,5,13],[3,14,5,14],[31,0,31,1],[31,2,31,21],[0,0,0,21],[1,0,1,2],[2,0,6,0],[7,0,11,0],[13,0,23,0],[24,0,30,0],[3,2,5,2],[3,3,5,3],[3,4,5,4],[3,5,5,5],[3,6,5,6],[3,7,5,7],[3,8,5,8],[3,9,5,9]]}
[{"$f":"'Pts P1'!$A$1","v":"Ecole Maurice Heuse - Bulletins: Année scolaire 2015 - 2016"}]
["Période 3",null,null,{"$f":"'Pts P1'!D2","v":"ANCIAUX Mathys"},{"$f":"'Pts P1'!E2","v":"GAVAGE Noah"},{"$f":"'Pts P1'!F2","v":"HANZE Kenny"},{"$f":"'Pts P1'!G2","v":"LEJEUNE Vincent"},{"$f":"'Pts P1'!H2","v":"MARÉCHAL Thomas"},{"$f":"'Pts P1'!I2","v":"RENARD Ethan"},{"$f":"'Pts P1'!J2","v":"TAHIRI Sefer"},{"$f":"'Pts P1'!K2","v":0},{"$f":"'Pts P1'!L2","v":0},{"$f":"'Pts P1'!M2","v":0},{"$f":"'Pts P1'!N2","v":0},{"$f":"'Pts P1'!O2","v":0},{"$f":"'Pts P1'!P2","v":0},{"$f":"'Pts P1'!Q2","v":0},{"$f":"'Pts P1'!R2","v":0},{"$f":"'Pts P1'!S2","v":0},{"$f":"'Pts P1'!T2","v":0},{"$f":"'Pts P1'!U2","v":0},{"$f":"'Pts P1'!V2","v":0}]
["Français"," Savoir lire",20]
[null," Savoir écrire",80]
[null," Savoir parler"]
[null," Savoir écouter"]
[null,"  TOTAL Français",100,{"$f":"SUM(D3:D6)","v":0},0,0,0,0,0,0,0,0,0,0,0,0,0,0,0,0,0,0]
["Math"," Savoir calculer",100]
[null," Savoir mesurer"]
[null," Savoir résoudre des problèmes"]
[null," Savoir structurer l'espace"]
[null,"  TOTAL Math",100,{"$f":"+SUM(D8:D11)","v":0},{"$f":"+SUM(E8:E11)","v":0},0,0,0,{"$f":"+SUM(I8:I11)","v":0},0,0,0,0,0,0,{"$f":"+SUM(P8:P11)","v":0},0,{"$f":"+SUM(R8:R11)","v":0},{"$f":"+SUM(S8:S11)","v":0},{"$f":"+SUM(T8:T11)","v":0},{"$f":"+SUM(U8:U11)","v":0},{"$f":"+SUM(V8:V11)","v":0}]
["T. Gén,","  TOTAL FR et MATH en %",100,{"$f":"(D7+D12)/2","v":0},0,0,0,0,0,0,0,0,0,0,0,0,0,0,0,0,0,0]
["Autres branches","  Eveil",20]
[null,"  Education physique",10]
[null,"  Education esthétique",10]
[null,"  Religion / Morale / E.P.A",10]
[null,"  Récitations et chants","Ap."]
[null,"  Ecriture","Ap."]
[null,"  Ordre","Ap."]
[null,"  Soin","Ap."]
[null,"  Travail à Domicile *","Ap."]
[null,"  ABSENCES (en 1/2 jours)","Nbr"]
[null,"  RETARDS","Nbr"]
["Cartes de conduite"," 1. Carte(s) d’honneur à jaune(s)","Nbr"]
[null," 2. Carte(s) verte(s) ","Nbr"]
[null," 3. Carte(s) orange(s) ","Nbr"]
[null," 4. Carte(s) rouge(s) ","Nbr"]
[null," 5. Carte(s) rouge(s) « Garderie »","Nbr"]
[null," 6. Carte(s) rouge(s) « Tr.  scolaire »","Nbr"]
[null," 7. Carte(s) blanche(s) (retenues)","Nbr"]
["Décision du Conseil de classe :",null,"  L'élève est admis(e) en classe A (à l'essai)"]

{"sheet":"Pts P4","index":3,"n_rows":32,"n_cols":22,"rows_kept":32,"cut":false,"hidden":false,"merged":[[7,21,10,21],[7,16,10,16],[7,17,10,17],[7,18,10,18],[7,19,10,19],[7,20,10,20],[3,20,5,20],[3,21,5,21],[7,2,10,2],[7,3,10,3],[7,4,10,4],[7,5,10,5],[7,6,10,6],[7,7,10,7],[7,8,10,8],[7,9,10,9],[7,10,10,10],[7,11,10,11],[7,12,10,12],[7,13,10,13],[7,14,10,14],[7,15,10,15],[3,15,5,15],[3,16,5,16],[3,17,5,17],[3,18,5,18],[3,19,5,19],[3,10,5,10],[3,11,5,11],[3,12,5,12],[3,13,5,13],[3,14,5,14],[31,0,31,1],[31,2,31,21],[0,0,0,21],[1,0,1,2],[2,0,6,0],[7,0,11,0],[13,0,23,0],[24,0,30,0],[3,2,5,2],[3,3,5,3],[3,4,5,4],[3,5,5,5],[3,6,5,6],[3,7,5,7],[3,8,5,8],[3,9,5,9]]}
[{"$f":"'Pts P1'!$A$1","v":"Ecole Maurice Heuse - Bulletins: Année scolaire 2015 - 2016"}]
["Période 4",null,null,{"$f":"'Pts P1'!D2","v":"ANCIAUX Mathys"},{"$f":"'Pts P1'!E2","v":"GAVAGE Noah"},{"$f":"'Pts P1'!F2","v":"HANZE Kenny"},{"$f":"'Pts P1'!G2","v":"LEJEUNE Vincent"},{"$f":"'Pts P1'!H2","v":"MARÉCHAL Thomas"},{"$f":"'Pts P1'!I2","v":"RENARD Ethan"},{"$f":"'Pts P1'!J2","v":"TAHIRI Sefer"},{"$f":"'Pts P1'!K2","v":0},{"$f":"'Pts P1'!L2","v":0},{"$f":"'Pts P1'!M2","v":0},{"$f":"'Pts P1'!N2","v":0},{"$f":"'Pts P1'!O2","v":0},{"$f":"'Pts P1'!P2","v":0},{"$f":"'Pts P1'!Q2","v":0},{"$f":"'Pts P1'!R2","v":0},{"$f":"'Pts P1'!S2","v":0},{"$f":"'Pts P1'!T2","v":0},{"$f":"'Pts P1'!U2","v":0},{"$f":"'Pts P1'!V2","v":0}]
["Français"," Savoir lire",20]
[null," Savoir écrire",80]
[null," Savoir parler"]
[null," Savoir écouter"]
[null,"  TOTAL Français",100,{"$f":"SUM(D3:D6)","v":0},0,0,0,0,0,0,0,0,0,0,0,0,0,0,0,0,0,0]
["Math"," Savoir calculer",100]
[null," Savoir mesurer"]
[null," Savoir résoudre des problèmes"]
[null," Savoir structurer l'espace"]
[null,"  TOTAL Math",100,{"$f":"+SUM(D8:D11)","v":0},{"$f":"+SUM(E8:E11)","v":0},0,0,0,{"$f":"+SUM(I8:I11)","v":0},0,0,0,0,0,0,{"$f":"+SUM(P8:P11)","v":0},0,{"$f":"+SUM(R8:R11)","v":0},{"$f":"+SUM(S8:S11)","v":0},{"$f":"+SUM(T8:T11)","v":0},{"$f":"+SUM(U8:U11)","v":0},{"$f":"+SUM(V8:V11)","v":0}]
["T. Gén,","  TOTAL FR et MATH en %",100,{"$f":"(D7+D12)/2","v":0},0,0,0,0,0,0,0,0,0,0,0,0,0,0,0,0,0,0]
["Autres branches","  Eveil",20]
[null,"  Education physique",10]
[null,"  Education esthétique",10]
[null,"  Religion / Morale / E.P.A",10]
[null,"  Récitations et chants","Ap."]
[null,"  Ecriture","Ap."]
[null,"  Ordre","Ap."]
[null,"  Soin","Ap."]
[null,"  Travail à Domicile *","Ap."]
[null,"  ABSENCES (en 1/2 jours)","Nbr"]
[null,"  RETARDS","Nbr"]
["Cartes de conduite"," 1. Carte(s) d’honneur à jaune(s)","Nbr"]
[null," 2. Carte(s) verte(s) ","Nbr"]
[null," 3. Carte(s) orange(s) ","Nbr"]
[null," 4. Carte(s) rouge(s) ","Nbr"]
[null," 5. Carte(s) rouge(s) « Garderie »","Nbr"]
[null," 6. Carte(s) rouge(s) « Tr.  scolaire »","Nbr"]
[null," 7. Carte(s) blanche(s) (retenues)","Nbr"]
["Décision du Conseil de classe :",null,"  L'élève est admis(e) en classe A (à l'essai)"]

{"sheet":"Déc CC","index":4,"n_rows":29,"n_cols":1,"rows_kept":29,"cut":false,"hidden":false,"merged":[]}
[]
[{"$f":"'Pts P1'!$D$2","v":"ANCIAUX Mathys"}]
[{"$f":"'Pts P1'!$E$2","v":"GAVAGE Noah"}]
[{"$f":"'Pts P1'!$F$2","v":"HANZE Kenny"}]
[{"$f":"'Pts P1'!$G$2","v":"LEJEUNE Vincent"}]
[{"$f":"'Pts P1'!$H$2","v":"MARÉCHAL Thomas"}]
[{"$f":"'Pts P1'!$I$2","v":"RENARD Ethan"}]
[{"$f":"'Pts P1'!$J$2","v":"TAHIRI Sefer"}]
[{"$f":"'Pts P1'!$K$2","v":0}]
[{"$f":"'Pts P1'!L$2","v":0}]
[{"$f":"'Pts P1'!$M$2","v":0}]
[{"$f":"'Pts P1'!$N$2","v":0}]
[{"$f":"'Pts P1'!$O$2","v":0}]
[{"$f":"'Pts P1'!$P$2","v":0}]
[{"$f":"'Pts P1'!$Q$2","v":0}]
[{"$f":"'Pts P1'!$R$2","v":0}]
[{"$f":"'Pts P1'!$S$2","v":0}]
[{"$f":"'Pts P1'!$T$2","v":0}]
[{"$f":"'Pts P1'!$U$2","v":0}]
[{"$f":"'Pts P1'!$V$2","v":0}]
[]
[]
["L'élève est maintenu(e) en classe A"]
["L'élève est maintenu(e) en classe A (à l'essai)"]
["L'élève est admis(e) en classe B"]
["L'élève est admis(e) en classe B (à l'essai)"]
["L'élève est orienté(e) vers une école primaire ordinaire"]
["L'élève est orienté(e) vers une école primaire spécialisée de Type 1"]
["L'élève est orienté(e) vers une école primaire spécialisée de Type 3"]

{"sheet":"Elève (1)","index":5,"n_rows":63,"n_cols":11,"rows_kept":63,"cut":false,"hidden":false,"merged":[[5,4,7,4],[5,5,7,5],[12,1,15,1],[12,2,15,2],[12,3,15,3],[12,4,15,4],[12,5,15,5],[10,4,11,4],[10,5,11,5],[10,3,11,3],[2,7,3,8],[61,0,61,5],[56,0,56,5],[58,0,58,5],[60,0,60,5],[55,0,55,5],[57,0,57,5],[59,0,59,5],[50,0,50,1],[51,0,51,1],[53,0,53,5],[54,0,54,5],[45,0,45,1],[5,1,7,1],[5,2,7,2],[5,3,7,3],[20,4,21,4],[49,0,49,1],[33,7,33,8],[43,0,44,1],[43,2,44,2],[43,3,44,3],[43,4,44,4],[43,5,44,5],[35,0,35,5],[46,0,46,1],[47,0,47,1],[48,0,48,1],[20,2,21,2],[20,3,21,3],[62,0,62,5],[0,1,0,5],[41,1,41,5],[39,0,39,5],[20,5,21,5],[37,0,37,5],[18,0,18,1],[36,0,36,5],[2,0,3,1],[10,0,11,1],[20,0,21,1],[2,2,3,2],[2,3,3,3],[2,4,3,4],[2,5,3,5],[10,2,11,2]]}
["Nom et prénom de l'élève :",{"$f":"'Pts P1'!$D$2","v":"ANCIAUX Mathys"}]
[]
["  FRANCAIS",null,"1ère période","2ème période","3ème période","4ème période",null,"MOYENNE"]
[]
[" Savoir lire",20,{"$f":"'Pts P1'!D3","v":14},{"$f":"'Pts P2'!D3","v":11.9},{"$f":"'Pts P3'!D3","v":0},{"$f":"'Pts P4'!D3","v":0},null,{"$f":"K5/J5","v":12.95},20,{"$f":"COUNTIF(C5:F5,\"<>0\")","v":2},{"$f":"SUM(C5:F5)","v":25.9}]
[" Savoir écrire",80,{"$f":"'Pts P1'!D4","v":47},{"$f":"'Pts P2'!D4","v":66.900000000000006},{"$f":"'Pts P3'!D4","v":0},{"$f":"'Pts P4'!D4","v":0},null,56.95,80,{"$f":"COUNTIF(C6:F6,\"<>0\")","v":2},{"$f":"SUM(C6:F6)","v":113.9}]
[" Savoir parler",null,null,{"$f":"'Pts P2'!D5","v":0},{"$f":"'Pts P3'!D5","v":0},{"$f":"'Pts P4'!D5","v":0},null,null,null,{"$f":"COUNTIF(C7:F7,\"<>0\")","v":1},{"$f":"SUM(C7:F7)","v":0}]
[" Savoir écouter",null,null,{"$f":"'Pts P2'!D6","v":0},{"$f":"'Pts P3'!D6","v":0},{"$f":"'Pts P4'!D6","v":0},null,null,null,{"$f":"COUNTIF(C8:F8,\"<>0\")","v":1},{"$f":"SUM(C8:F8)","v":0}]
["  TOTAL Français",100,{"$f":"'Pts P1'!D7","v":61},{"$f":"'Pts P2'!D7","v":78.800000000000011},{"$f":"'Pts P3'!D7","v":0},{"$f":"'Pts P4'!D7","v":0},null,69.900000000000006,100,{"$f":"COUNTIF(C9:F9,\"<>0\")","v":2},{"$f":"SUM(C9:F9)","v":139.80000000000001}]
[]
["  MATHEMATIQUES",null,"1ère période","2ème période","3ème période","4ème période"]
[]
[" Savoir calculer",100,{"$f":"'Pts P1'!D8","v":90},{"$f":"'Pts P2'!D8","v":90.7},{"$f":"'Pts P3'!D8","v":0},{"$f":"'Pts P4'!D8","v":0},null,{"$f":"K13/J13","v":90.35},100,{"$f":"COUNTIF(C13:F13,\"<>0\")","v":2},{"$f":"SUM(C13:F13)","v":180.7}]
[" Savoir résoudre des problèmes",null,null,{"$f":"'Pts P2'!D9","v":0},{"$f":"'Pts P3'!D9","v":0},{"$f":"'Pts P4'!D9","v":0},null,null,null,{"$f":"COUNTIF(C14:F14,\"<>0\")","v":1},{"$f":"SUM(C14:F14)","v":0}]
[" Savoir mesurer",null,null,{"$f":"'Pts P2'!D10","v":0},{"$f":"'Pts P3'!D10","v":0},{"$f":"'Pts P4'!D10","v":0},null,null,null,{"$f":"COUNTIF(C15:F15,\"<>0\")","v":1},{"$f":"SUM(C15:F15)","v":0}]
[" Savoir structurer l'espace",null,null,{"$f":"'Pts P2'!D11","v":0},{"$f":"'Pts P3'!D11","v":0},{"$f":"'Pts P4'!D11","v":0},null,null,null,{"$f":"COUNTIF(C16:F16,\"<>0\")","v":1},{"$f":"SUM(C16:F16)","v":0}]
["  TOTAL Math",100,{"$f":"'Pts P1'!D12","v":90},{"$f":"'Pts P2'!D12","v":90.7},{"$f":"'Pts P3'!D12","v":0},{"$f":"'Pts P4'!D12","v":0},null,{"$f":"K17/J17","v":90.35},100,{"$f":"COUNTIF(C17:F17,\"<>0\")","v":2},{"$f":"SUM(C17:F17)","v":180.7}]
[]
["  TOTAL GÉNÉRAL                                (Français et Mathématiques) en %",null,{"$f":"'Pts P1'!$D$13","v":75.5},{"$f":"'Pts P2'!$D$13","v":84.75},{"$f":"'Pts P3'!$D$13","v":0},{"$f":"'Pts P4'!$D$13","v":0},null,{"$f":"K19/J19","v":80.125},"sur",{"$f":"COUNTIF(C19:F19,\"<>0\")","v":2},{"$f":"SUM(C19:F19)","v":160.25}]
[]
["  AUTRES BRANCHES",null,"1ère période","2ème période","3ème période","4ème période"]
[]
["  Eveil",20,{"$f":"'Pts P1'!D14","v":14},{"$f":"'Pts P2'!D14","v":14},{"$f":"'Pts P3'!D14","v":0},{"$f":"'Pts P4'!D14","v":0},null,{"$f":"K23/J23","v":14},20,{"$f":"COUNTIF(C23:F23,\"<>0\")","v":2},{"$f":"SUM(C23:F23)","v":28}]
["  Education physiaue",10,{"$f":"'Pts P1'!D15","v":8},{"$f":"'Pts P2'!D15","v":8.5},{"$f":"'Pts P3'!D15","v":0},{"$f":"'Pts P4'!D15","v":0},null,8.25,10,2,16.5]
["  Education esthétique",10,{"$f":"'Pts P1'!D16","v":8},{"$f":"'Pts P2'!D16","v":8},{"$f":"'Pts P3'!D16","v":0},{"$f":"'Pts P4'!D16","v":0},null,8,10,2,16]
["  Religion / Morale / E.P.A",10,{"$f":"'Pts P1'!D17","v":8},{"$f":"'Pts P2'!D17","v":8},{"$f":"'Pts P3'!D17","v":0},{"$f":"'Pts P4'!D17","v":0},null,8,10,2,16]
["  Récitations et chants","Ap. *",{"$f":"'Pts P1'!D18","v":"S"},{"$f":"'Pts P2'!D18","v":"S"},{"$f":"'Pts P3'!D18","v":0},{"$f":"'Pts P4'!D18","v":0},null,null,null,null,0]
["  Ecriture","Ap. *",{"$f":"'Pts P1'!D19","v":"S"},{"$f":"'Pts P2'!D19","v":"I"},{"$f":"'Pts P3'!D19","v":0},{"$f":"'Pts P4'!D19","v":0}]
["  Ordre","Ap. *",{"$f":"'Pts P1'!D20","v":"S"},{"$f":"'Pts P2'!D20","v":"S"},{"$f":"'Pts P3'!D20","v":0},{"$f":"'Pts P4'!D20","v":0},null,null,null,null,0]
["  Soin","Ap. *",{"$f":"'Pts P1'!D21","v":"B"},{"$f":"'Pts P2'!D21","v":"I"},{"$f":"'Pts P3'!D21","v":0},{"$f":"'Pts P4'!D21","v":0},null,null,null,null,0]
["  Travail à Domicile","Ap. *",{"$f":"'Pts P1'!D22","v":"B"},{"$f":"'Pts P2'!D22","v":"TB"},{"$f":"'Pts P3'!D22","v":0},{"$f":"'Pts P4'!D22","v":0}]
["  ABSENCES (en 1/2 jours)","nbr",{"$f":"'Pts P1'!D23","v":"22"},{"$f":"'Pts P2'!D23","v":"11"},{"$f":"'Pts P3'!D23","v":0},{"$f":"'Pts P4'!D23","v":0},null,{"$f":"SUM(C32:F32)","v":0},"Nbr"]
["  RETARDS","nbr",{"$f":"'Pts P1'!D24","v":"0"},{"$f":"'Pts P2'!D24","v":"0"},{"$f":"'Pts P3'!D24","v":0},{"$f":"'Pts P4'!D24","v":0},null,{"$f":"SUM(C33:F33)","v":0},"Nbr"]
["  * TB : Très Bien, B = Bien, S = Satisfaisant, F = Faible, I = Insuffisant."]
[]
[" DECISION DU CONSEIL DE CLASSE :"]
[{"$f":"'Déc CC'!$B$2","v":0}]
["        N.B. Cette décision tient compte du travail journalier et des tests d'orientation"]
["        de fin d'année (voir explication sur le feuillet jaune ci-joint !)"]
["                  TITULAIRE :         DIRECTEUR :         PARENTS :"]
["     SIGNATURES :",null,"Alain Rensonnet"]
["Nom et prénom de l'élève :",{"$f":"'Pts P1'!$D$2","v":"ANCIAUX Mathys"}]
[]
["APPRECIATION DU COMPORTEMENT",null,"1ère période","2ème période","3 ème période","4ème période"]
[]
[" 1. Carte(s) d’honneur : jaune(s)",null,{"$f":"'Pts P1'!D25","v":"5"},{"$f":"'Pts P2'!D25","v":"6"},{"$f":"'Pts P3'!D25","v":0},{"$f":"'Pts P4'!D25","v":0},null,{"$f":"SUM(C46:F46)","v":0}]
[" 2. Carte(s) verte(s) ",null,{"$f":"'Pts P1'!D26","v":"0"},{"$f":"'Pts P2'!D26","v":"0"},{"$f":"'Pts P3'!D26","v":0},{"$f":"'Pts P4'!D26","v":0},null,{"$f":"SUM(C47:F47)","v":0}]
[" 3. Carte(s) orange(s) ",null,{"$f":"'Pts P1'!D27","v":"0"},{"$f":"'Pts P2'!D27","v":"0"},{"$f":"'Pts P3'!D27","v":0},{"$f":"'Pts P4'!D27","v":0},null,0]
[" 4. Carte(s) rouge(s) ",null,{"$f":"'Pts P1'!D28","v":"0"},{"$f":"'Pts P2'!D28","v":"0"},{"$f":"'Pts P3'!D28","v":0},{"$f":"'Pts P4'!D28","v":0},null,0]
[" 5. Carte(s) rouge(s) « Garderie »",null,{"$f":"'Pts P1'!D29","v":"0"},{"$f":"'Pts P2'!D29","v":"0"},{"$f":"'Pts P3'!D29","v":0},{"$f":"'Pts P4'!D29","v":0},null,0]
[" 6. Carte(s) rouge(s) « Tr. scolaire »",null,{"$f":"'Pts P1'!D30","v":"0"},{"$f":"'Pts P2'!D30","v":"0"},{"$f":"'Pts P3'!D30","v":0},{"$f":"'Pts P4'!D30","v":0},null,0]
[" 7. Carte(s) blanche(s) (retenues)",null,{"$f":"'Pts P1'!D31","v":"0"},{"$f":"'Pts P2'!D31","v":"0"},{"$f":"'Pts P3'!D31","v":0},{"$f":"'Pts P4'!D31","v":0},null,0]
[]
[" COMMENTAIRES et CONSEILS :"]
[" 1ère période :"]
[]
[" 2ème période :"]
[]
[" 3ème période :"]
[]
[" 4ème période :"]
[]
["                                                                Signature des parents :"]

{"sheet":"Elève (2)","index":6,"n_rows":63,"n_cols":11,"rows_kept":63,"cut":false,"hidden":false,"merged":[[59,0,59,5],[60,0,60,5],[61,0,61,5],[62,0,62,5],[53,0,53,5],[54,0,54,5],[55,0,55,5],[56,0,56,5],[57,0,57,5],[58,0,58,5],[51,0,51,1],[43,0,44,1],[43,2,44,2],[43,3,44,3],[43,4,44,4],[46,0,46,1],[47,0,47,1],[48,0,48,1],[49,0,49,1],[50,0,50,1],[43,5,44,5],[45,0,45,1],[33,7,33,8],[35,0,35,5],[36,0,36,5],[37,0,37,5],[39,0,39,5],[41,1,41,5],[20,5,21,5],[10,0,11,1],[10,2,11,2],[10,3,11,3],[10,4,11,4],[10,5,11,5],[12,1,15,1],[12,2,15,2],[12,3,15,3],[12,4,15,4],[12,5,15,5],[18,0,18,1],[20,0,21,1],[20,2,21,2],[20,3,21,3],[20,4,21,4],[2,7,3,8],[5,1,7,1],[5,2,7,2],[5,3,7,3],[5,4,7,4],[5,5,7,5],[0,1,0,5],[2,0,3,1],[2,2,3,2],[2,3,3,3],[2,4,3,4],[2,5,3,5]]}
["Nom et prénom de l'élève :",{"$f":"'Pts P1'!$E$2","v":"GAVAGE Noah"}]
[]
["  FRANCAIS",null,"1ère période","2ème période","3ème période","4ème période",null,"MOYENNE"]
[]
[" Savoir lire",20,{"$f":"'Pts P1'!E3","v":12},{"$f":"'Pts P2'!E3","v":11.3},{"$f":"'Pts P3'!E3","v":0},{"$f":"'Pts P4'!E3","v":0},null,{"$f":"K5/J5","v":11.65},20,{"$f":"COUNTIF(C5:F5,\"<>0\")","v":2},{"$f":"SUM(C5:F5)","v":23.3}]
[" Savoir écrire",80,{"$f":"'Pts P1'!E4","v":60},{"$f":"'Pts P2'!E4","v":68.3},{"$f":"'Pts P3'!E4","v":0},{"$f":"'Pts P4'!E4","v":0},null,64.150000000000006,80,{"$f":"COUNTIF(C6:F6,\"<>0\")","v":2},{"$f":"SUM(C6:F6)","v":128.30000000000001}]
[" Savoir parler",null,null,{"$f":"'Pts P2'!D5","v":0},{"$f":"'Pts P3'!D5","v":0},{"$f":"'Pts P4'!D5","v":0},null,null,null,{"$f":"COUNTIF(C7:F7,\"<>0\")","v":1},{"$f":"SUM(C7:F7)","v":0}]
[" Savoir écouter",null,null,{"$f":"'Pts P2'!D6","v":0},{"$f":"'Pts P3'!D6","v":0},{"$f":"'Pts P4'!D6","v":0},null,null,null,{"$f":"COUNTIF(C8:F8,\"<>0\")","v":1},{"$f":"SUM(C8:F8)","v":0}]
["  TOTAL Français",100,{"$f":"'Pts P1'!E7","v":72},{"$f":"'Pts P2'!E7","v":79.599999999999994},{"$f":"'Pts P3'!E7","v":0},{"$f":"'Pts P4'!E7","v":0},null,75.8,100,{"$f":"COUNTIF(C9:F9,\"<>0\")","v":2},{"$f":"SUM(C9:F9)","v":151.6}]
[]
["  MATHEMATIQUES",null,"1ère période","2ème période","3ème période","4ème période"]
[]
[" Savoir calculer",100,{"$f":"'Pts P1'!E8","v":68},{"$f":"'Pts P2'!E8","v":83.5},{"$f":"'Pts P3'!E8","v":0},{"$f":"'Pts P4'!E8","v":0},null,{"$f":"K13/J13","v":75.75},100,{"$f":"COUNTIF(C13:F13,\"<>0\")","v":2},{"$f":"SUM(C13:F13)","v":151.5}]
[" Savoir résoudre des problèmes",null,null,{"$f":"'Pts P2'!D9","v":0},{"$f":"'Pts P3'!D9","v":0},{"$f":"'Pts P4'!D9","v":0},null,null,null,{"$f":"COUNTIF(C14:F14,\"<>0\")","v":1},{"$f":"SUM(C14:F14)","v":0}]
[" Savoir mesurer",null,null,{"$f":"'Pts P2'!D10","v":0},{"$f":"'Pts P3'!D10","v":0},{"$f":"'Pts P4'!D10","v":0},null,null,null,{"$f":"COUNTIF(C15:F15,\"<>0\")","v":1},{"$f":"SUM(C15:F15)","v":0}]
[" Savoir structurer l'espace",null,null,{"$f":"'Pts P2'!D11","v":0},{"$f":"'Pts P3'!D11","v":0},{"$f":"'Pts P4'!D11","v":0},null,null,null,{"$f":"COUNTIF(C16:F16,\"<>0\")","v":1},{"$f":"SUM(C16:F16)","v":0}]
["  TOTAL Math",100,{"$f":"'Pts P1'!E12","v":68},{"$f":"'Pts P2'!E12","v":83.5},{"$f":"'Pts P3'!E12","v":0},{"$f":"'Pts P4'!E12","v":0},null,{"$f":"K17/J17","v":75.75},100,{"$f":"COUNTIF(C17:F17,\"<>0\")","v":2},{"$f":"SUM(C17:F17)","v":151.5}]
[]
["  TOTAL GÉNÉRAL                                (Français et Mathématiques) en %",null,{"$f":"'Pts P1'!$E$13","v":70},{"$f":"'Pts P2'!$E$13","v":81.55},{"$f":"'Pts P3'!$E$13","v":0},{"$f":"'Pts P4'!$E$13","v":0},null,{"$f":"K19/J19","v":75.775000000000006},"sur",{"$f":"COUNTIF(C19:F19,\"<>0\")","v":2},{"$f":"SUM(C19:F19)","v":151.55000000000001}]
[]
["  AUTRES BRANCHES",null,"1ère période","2ème période","3ème période","4ème période"]
[]
["  Eveil",20,{"$f":"'Pts P1'!E14","v":16},{"$f":"'Pts P2'!E14","v":17},{"$f":"'Pts P3'!E14","v":0},{"$f":"'Pts P4'!E14","v":0},null,{"$f":"K23/J23","v":16.5},20,{"$f":"COUNTIF(C23:F23,\"<>0\")","v":2},{"$f":"SUM(C23:F23)","v":33}]
["  Education physiaue",10,{"$f":"'Pts P1'!E15","v":9},{"$f":"'Pts P2'!E15","v":8},{"$f":"'Pts P3'!E15","v":0},{"$f":"'Pts P4'!E15","v":0},null,8.5,10,2,17]
["  Education esthétique",10,{"$f":"'Pts P1'!E16","v":8},{"$f":"'Pts P2'!E16","v":8.5},{"$f":"'Pts P3'!E16","v":0},{"$f":"'Pts P4'!E16","v":0},null,8.25,10,2,16.5]
["  Religion / Morale / E.P.A",10,{"$f":"'Pts P1'!E17","v":8},{"$f":"'Pts P2'!E17","v":8},{"$f":"'Pts P3'!E17","v":0},{"$f":"'Pts P4'!E17","v":0},null,8,10,2,16]
["  Récitations et chants","Ap. *",{"$f":"'Pts P1'!E18","v":"B"},{"$f":"'Pts P2'!E18","v":"S"},{"$f":"'Pts P3'!E18","v":0},{"$f":"'Pts P4'!E18","v":0},null,null,null,null,0]
["  Ecriture","Ap. *",{"$f":"'Pts P1'!E19","v":"S"},{"$f":"'Pts P2'!E19","v":"S"},{"$f":"'Pts P3'!E19","v":0},{"$f":"'Pts P4'!E19","v":0}]
["  Ordre","Ap. *",{"$f":"'Pts P1'!E20","v":"S"},{"$f":"'Pts P2'!E20","v":"S"},{"$f":"'Pts P3'!E20","v":0},{"$f":"'Pts P4'!E20","v":0},null,null,null,null,0]
["  Soin","Ap. *",{"$f":"'Pts P1'!E21","v":"B"},{"$f":"'Pts P2'!E21","v":"S"},{"$f":"'Pts P3'!E21","v":0},{"$f":"'Pts P4'!E21","v":0},null,null,null,null,0]
["  Travail à Domicile","Ap. *",{"$f":"'Pts P1'!E22","v":"TB"},{"$f":"'Pts P2'!E22","v":"S"},{"$f":"'Pts P3'!E22","v":0},{"$f":"'Pts P4'!E22","v":0}]
["  ABSENCES (en 1/2 jours)","nbr",{"$f":"'Pts P1'!E23","v":"3"},{"$f":"'Pts P2'!E23","v":"0"},{"$f":"'Pts P3'!E23","v":0},{"$f":"'Pts P4'!E23","v":0},null,{"$f":"SUM(C32:F32)","v":0},"Nbr"]
["  RETARDS","nbr",{"$f":"'Pts P1'!E24","v":"0"},{"$f":"'Pts P2'!E24","v":"0"},{"$f":"'Pts P3'!E24","v":0},{"$f":"'Pts P4'!E24","v":0},null,{"$f":"SUM(C33:F33)","v":0},"Nbr"]
["  * TB : Très Bien, B = Bien, S = Satisfaisant, F = Faible, I = Insuffisant."]
[]
[" DECISION DU CONSEIL DE CLASSE :"]
[{"$f":"'Déc CC'!$B$2","v":0}]
["        N.B. Cette décision tient compte du travail journalier et des tests d'orientation"]
["        de fin d'année (voir explication sur le feuillet jaune ci-joint !)"]
["                  TITULAIRE :         DIRECTEUR :         PARENTS :"]
["     SIGNATURES :",null,"Alain Rensonnet"]
["Nom et prénom de l'élève :",{"$f":"'Pts P1'!$E$2","v":"GAVAGE Noah"}]
[]
["APPRECIATION DU COMPORTEMENT",null,"1ère période","2ème période","3 ème période","4ème période"]
[]
[" 1. Carte(s) d’honneur : jaune(s)",null,{"$f":"'Pts P1'!E25","v":"7"},{"$f":"'Pts P2'!E25","v":"5"},{"$f":"'Pts P3'!E25","v":0},{"$f":"'Pts P4'!E25","v":0},null,{"$f":"SUM(C46:F46)","v":0}]
[" 2. Carte(s) verte(s) ",null,{"$f":"'Pts P1'!E26","v":"0"},{"$f":"'Pts P2'!E26","v":"1"},{"$f":"'Pts P3'!E26","v":0},{"$f":"'Pts P4'!E26","v":0},null,{"$f":"SUM(C47:F47)","v":0}]
[" 3. Carte(s) orange(s) ",null,{"$f":"'Pts P1'!E27","v":"0"},{"$f":"'Pts P2'!E27","v":"0"},{"$f":"'Pts P3'!E27","v":0},{"$f":"'Pts P4'!E27","v":0},null,0]
[" 4. Carte(s) rouge(s) ",null,{"$f":"'Pts P1'!E28","v":"0"},{"$f":"'Pts P2'!E28","v":"0"},{"$f":"'Pts P3'!E28","v":0},{"$f":"'Pts P4'!E28","v":0},null,0]
[" 5. Carte(s) rouge(s) « Garderie »",null,{"$f":"'Pts P1'!E29","v":"0"},{"$f":"'Pts P2'!E29","v":"0"},{"$f":"'Pts P3'!E29","v":0},{"$f":"'Pts P4'!E29","v":0},null,0]
[" 6. Carte(s) rouge(s) « Tr. scolaire »",null,{"$f":"'Pts P1'!E30","v":"0"},{"$f":"'Pts P2'!E30","v":"0"},{"$f":"'Pts P3'!E30","v":0},{"$f":"'Pts P4'!E30","v":0},null,0]
[" 7. Carte(s) blanche(s) (retenues)",null,{"$f":"'Pts P1'!E31","v":"0"},{"$f":"'Pts P2'!E31","v":"0"},{"$f":"'Pts P3'!E31","v":0},{"$f":"'Pts P4'!E31","v":0},null,0]
[]
[" COMMENTAIRES et CONSEILS :"]
[" 1ère période :"]
[]
[" 2ème période :"]
[]
[" 3ème période :"]
[]
[" 4ème période :"]
[]
["                                                                Signature des parents :"]

{"sheet":"Elève (3)","index":7,"n_rows":63,"n_cols":11,"rows_kept":63,"cut":false,"hidden":false,"merged":[[59,0,59,5],[60,0,60,5],[61,0,61,5],[62,0,62,5],[53,0,53,5],[54,0,54,5],[55,0,55,5],[56,0,56,5],[57,0,57,5],[58,0,58,5],[51,0,51,1],[43,0,44,1],[43,2,44,2],[43,3,44,3],[43,4,44,4],[46,0,46,1],[47,0,47,1],[48,0,48,1],[49,0,49,1],[50,0,50,1],[43,5,44,5],[45,0,45,1],[33,7,33,8],[35,0,35,5],[36,0,36,5],[37,0,37,5],[39,0,39,5],[41,1,41,5],[20,5,21,5],[10,0,11,1],[10,2,11,2],[10,3,11,3],[10,4,11,4],[10,5,11,5],[12,1,15,1],[12,2,15,2],[12,3,15,3],[12,4,15,4],[12,5,15,5],[18,0,18,1],[20,0,21,1],[20,2,21,2],[20,3,21,3],[20,4,21,4],[2,7,3,8],[5,1,7,1],[5,2,7,2],[5,3,7,3],[5,4,7,4],[5,5,7,5],[0,1,0,5],[2,0,3,1],[2,2,3,2],[2,3,3,3],[2,4,3,4],[2,5,3,5]]}
["Nom et prénom de l'élève :",{"$f":"'Pts P1'!$F$2","v":"HANZE Kenny"}]
[]
["  FRANCAIS",null,"1ère période","2ème période","3ème période","4ème période",null,"MOYENNE"]
[]
[" Savoir lire",20,{"$f":"'Pts P1'!F3","v":16},{"$f":"'Pts P2'!F3","v":11.9},{"$f":"'Pts P3'!F3","v":0},{"$f":"'Pts P4'!F3","v":0},null,{"$f":"K5/J5","v":13.95},20,{"$f":"COUNTIF(C5:F5,\"<>0\")","v":2},{"$f":"SUM(C5:F5)","v":27.9}]
[" Savoir écrire",80,{"$f":"'Pts P1'!F4","v":68.8},{"$f":"'Pts P2'!F4","v":64.099999999999994},{"$f":"'Pts P3'!F4","v":0},{"$f":"'Pts P4'!F4","v":0},null,66.449999999999989,80,{"$f":"COUNTIF(C6:F6,\"<>0\")","v":2},{"$f":"SUM(C6:F6)","v":132.89999999999998}]
[" Savoir parler",null,null,{"$f":"'Pts P2'!D5","v":0},{"$f":"'Pts P3'!D5","v":0},{"$f":"'Pts P4'!D5","v":0},null,null,null,{"$f":"COUNTIF(C7:F7,\"<>0\")","v":1},{"$f":"SUM(C7:F7)","v":0}]
[" Savoir écouter",null,null,{"$f":"'Pts P2'!D6","v":0},{"$f":"'Pts P3'!D6","v":0},{"$f":"'Pts P4'!D6","v":0},null,null,null,{"$f":"COUNTIF(C8:F8,\"<>0\")","v":1},{"$f":"SUM(C8:F8)","v":0}]
["  TOTAL Français",100,{"$f":"'Pts P1'!F7","v":84.8},{"$f":"'Pts P2'!F7","v":76},{"$f":"'Pts P3'!F7","v":0},{"$f":"'Pts P4'!F7","v":0},null,80.400000000000006,100,{"$f":"COUNTIF(C9:F9,\"<>0\")","v":2},{"$f":"SUM(C9:F9)","v":160.80000000000001}]
[]
["  MATHEMATIQUES",null,"1ère période","2ème période","3ème période","4ème période"]
[]
[" Savoir calculer",100,{"$f":"'Pts P1'!F8","v":78},{"$f":"'Pts P2'!F8","v":80.099999999999994},{"$f":"'Pts P3'!F8","v":0},{"$f":"'Pts P4'!F8","v":0},null,{"$f":"K13/J13","v":79.05},100,{"$f":"COUNTIF(C13:F13,\"<>0\")","v":2},{"$f":"SUM(C13:F13)","v":158.1}]
[" Savoir résoudre des problèmes",null,null,{"$f":"'Pts P2'!D9","v":0},{"$f":"'Pts P3'!D9","v":0},{"$f":"'Pts P4'!D9","v":0},null,null,null,{"$f":"COUNTIF(C14:F14,\"<>0\")","v":1},{"$f":"SUM(C14:F14)","v":0}]
[" Savoir mesurer",null,null,{"$f":"'Pts P2'!D10","v":0},{"$f":"'Pts P3'!D10","v":0},{"$f":"'Pts P4'!D10","v":0},null,null,null,{"$f":"COUNTIF(C15:F15,\"<>0\")","v":1},{"$f":"SUM(C15:F15)","v":0}]
[" Savoir structurer l'espace",null,null,{"$f":"'Pts P2'!D11","v":0},{"$f":"'Pts P3'!D11","v":0},{"$f":"'Pts P4'!D11","v":0},null,null,null,{"$f":"COUNTIF(C16:F16,\"<>0\")","v":1},{"$f":"SUM(C16:F16)","v":0}]
["  TOTAL Math",100,{"$f":"'Pts P1'!F12","v":78},{"$f":"'Pts P2'!F12","v":80.099999999999994},{"$f":"'Pts P3'!F12","v":0},{"$f":"'Pts P4'!F12","v":0},null,{"$f":"K17/J17","v":79.05},100,{"$f":"COUNTIF(C17:F17,\"<>0\")","v":2},{"$f":"SUM(C17:F17)","v":158.1}]
[]
["  TOTAL GÉNÉRAL                                (Français et Mathématiques) en %",null,{"$f":"'Pts P1'!$F$13","v":81.400000000000006},{"$f":"'Pts P2'!$F$13","v":78.05},{"$f":"'Pts P3'!$F$13","v":0},{"$f":"'Pts P4'!$F$13","v":0},null,{"$f":"K19/J19","v":79.724999999999994},"sur",{"$f":"COUNTIF(C19:F19,\"<>0\")","v":2},{"$f":"SUM(C19:F19)","v":159.44999999999999}]
[]
["  AUTRES BRANCHES",null,"1ère période","2ème période","3ème période","4ème période"]
[]
["  Eveil",20,{"$f":"'Pts P1'!F14","v":16},{"$f":"'Pts P2'!F14","v":15},{"$f":"'Pts P3'!F14","v":0},{"$f":"'Pts P4'!F14","v":0},null,{"$f":"K23/J23","v":15.5},20,{"$f":"COUNTIF(C23:F23,\"<>0\")","v":2},{"$f":"SUM(C23:F23)","v":31}]
["  Education physiaue",10,{"$f":"'Pts P1'!F15","v":8.5},{"$f":"'Pts P2'!F15","v":6},{"$f":"'Pts P3'!F15","v":0},{"$f":"'Pts P4'!F15","v":0},null,7.25,10,2,14.5]
["  Education esthétique",10,{"$f":"'Pts P1'!F16","v":8},{"$f":"'Pts P2'!F16","v":8},{"$f":"'Pts P3'!F16","v":0},{"$f":"'Pts P4'!F16","v":0},null,8,10,2,16]
["  Religion / Morale / E.P.A",10,{"$f":"'Pts P1'!F17","v":8},{"$f":"'Pts P2'!F17","v":8},{"$f":"'Pts P3'!F17","v":0},{"$f":"'Pts P4'!F17","v":0},null,8,10,2,16]
["  Récitations et chants","Ap. *",{"$f":"'Pts P1'!F18","v":"B"},{"$f":"'Pts P2'!F18","v":"S"},{"$f":"'Pts P3'!F18","v":0},{"$f":"'Pts P4'!F18","v":0},null,null,null,null,0]
["  Ecriture","Ap. *",{"$f":"'Pts P1'!F19","v":"B"},{"$f":"'Pts P2'!F19","v":"S"},{"$f":"'Pts P3'!F19","v":0},{"$f":"'Pts P4'!F19","v":0}]
["  Ordre","Ap. *",{"$f":"'Pts P1'!F20","v":"S"},{"$f":"'Pts P2'!F20","v":"S"},{"$f":"'Pts P3'!F20","v":0},{"$f":"'Pts P4'!F20","v":0},null,null,null,null,0]
["  Soin","Ap. *",{"$f":"'Pts P1'!F21","v":"B"},{"$f":"'Pts P2'!F21","v":"S"},{"$f":"'Pts P3'!F21","v":0},{"$f":"'Pts P4'!F21","v":0},null,null,null,null,0]
["  Travail à Domicile","Ap. *",{"$f":"'Pts P1'!F22","v":"B"},{"$f":"'Pts P2'!F22","v":"S"},{"$f":"'Pts P3'!F22","v":0},{"$f":"'Pts P4'!F22","v":0}]
["  ABSENCES (en 1/2 jours)","nbr",{"$f":"'Pts P1'!F23","v":"11"},{"$f":"'Pts P2'!F23","v":"18"},{"$f":"'Pts P3'!F23","v":0},{"$f":"'Pts P4'!F23","v":0},null,{"$f":"SUM(C32:F32)","v":0},"Nbr"]
["  RETARDS","nbr",{"$f":"'Pts P1'!F24","v":"0"},{"$f":"'Pts P2'!F24","v":"0"},{"$f":"'Pts P3'!F24","v":0},{"$f":"'Pts P4'!F24","v":0},null,{"$f":"SUM(C33:F33)","v":0},"Nbr"]
["  * TB : Très Bien, B = Bien, S = Satisfaisant, F = Faible, I = Insuffisant."]
[]
[" DECISION DU CONSEIL DE CLASSE :"]
[{"$f":"'Déc CC'!$B$2","v":0}]
["        N.B. Cette décision tient compte du travail journalier et des tests d'orientation"]
["        de fin d'année (voir explication sur le feuillet jaune ci-joint !)"]
["                  TITULAIRE :         DIRECTEUR :         PARENTS :"]
["     SIGNATURES :",null,"Alain Rensonnet"]
["Nom et prénom de l'élève :",{"$f":"'Pts P1'!$F$2","v":"HANZE Kenny"}]
[]
["APPRECIATION DU COMPORTEMENT",null,"1ère période","2ème période","3 ème période","4ème période"]
[]
[" 1. Carte(s) d’honneur : jaune(s)",null,{"$f":"'Pts P1'!F25","v":"6"},{"$f":"'Pts P2'!F25","v":"6"},{"$f":"'Pts P3'!F25","v":0},{"$f":"'Pts P4'!F25","v":0},null,{"$f":"SUM(C46:F46)","v":0}]
[" 2. Carte(s) verte(s) ",null,{"$f":"'Pts P1'!F26","v":"0"},{"$f":"'Pts P2'!F26","v":"1"},{"$f":"'Pts P3'!F26","v":0},{"$f":"'Pts P4'!F26","v":0},null,{"$f":"SUM(C47:F47)","v":0}]
[" 3. Carte(s) orange(s) ",null,{"$f":"'Pts P1'!F27","v":"0"},{"$f":"'Pts P2'!F27","v":"0"},{"$f":"'Pts P3'!F27","v":0},{"$f":"'Pts P4'!F27","v":0},null,0]
[" 4. Carte(s) rouge(s) ",null,{"$f":"'Pts P1'!F28","v":"0"},{"$f":"'Pts P2'!F28","v":"0"},{"$f":"'Pts P3'!F28","v":0},{"$f":"'Pts P4'!F28","v":0},null,0]
[" 5. Carte(s) rouge(s) « Garderie »",null,{"$f":"'Pts P1'!F29","v":"0"},{"$f":"'Pts P2'!F29","v":"0"},{"$f":"'Pts P3'!F29","v":0},{"$f":"'Pts P4'!F29","v":0},null,0]
[" 6. Carte(s) rouge(s) « Tr. scolaire »",null,{"$f":"'Pts P1'!F30","v":"0"},{"$f":"'Pts P2'!F30","v":"0"},{"$f":"'Pts P3'!F30","v":0},{"$f":"'Pts P4'!F30","v":0},null,0]
[" 7. Carte(s) blanche(s) (retenues)",null,{"$f":"'Pts P1'!F31","v":"0"},{"$f":"'Pts P2'!F31","v":"0"},{"$f":"'Pts P3'!F31","v":0},{"$f":"'Pts P4'!F31","v":0},null,0]
[]
[" COMMENTAIRES et CONSEILS :"]
[" 1ère période :"]
[]
[" 2ème période :"]
[]
[" 3ème période :"]
[]
[" 4ème période :"]
[]
["                                                                Signature des parents :"]

{"sheet":"Elève (4)","index":8,"n_rows":63,"n_cols":11,"rows_kept":63,"cut":false,"hidden":false,"merged":[[59,0,59,5],[60,0,60,5],[61,0,61,5],[62,0,62,5],[53,0,53,5],[54,0,54,5],[55,0,55,5],[56,0,56,5],[57,0,57,5],[58,0,58,5],[51,0,51,1],[43,0,44,1],[43,2,44,2],[43,3,44,3],[43,4,44,4],[46,0,46,1],[47,0,47,1],[48,0,48,1],[49,0,49,1],[50,0,50,1],[43,5,44,5],[45,0,45,1],[33,7,33,8],[35,0,35,5],[36,0,36,5],[37,0,37,5],[39,0,39,5],[41,1,41,5],[20,5,21,5],[10,0,11,1],[10,2,11,2],[10,3,11,3],[10,4,11,4],[10,5,11,5],[12,1,15,1],[12,2,15,2],[12,3,15,3],[12,4,15,4],[12,5,15,5],[18,0,18,1],[20,0,21,1],[20,2,21,2],[20,3,21,3],[20,4,21,4],[2,7,3,8],[5,1,7,1],[5,2,7,2],[5,3,7,3],[5,4,7,4],[5,5,7,5],[0,1,0,5],[2,0,3,1],[2,2,3,2],[2,3,3,3],[2,4,3,4],[2,5,3,5]]}
["Nom et prénom de l'élève :",{"$f":"'Pts P1'!$G$2","v":"LEJEUNE Vincent"}]
[]
["  FRANCAIS",null,"1ère période","2ème période","3ème période","4ème période",null,"MOYENNE"]
[]
[" Savoir lire",20,{"$f":"'Pts P1'!G3","v":15},{"$f":"'Pts P2'!G3","v":11},{"$f":"'Pts P3'!G3","v":0},{"$f":"'Pts P4'!G3","v":0},null,{"$f":"K5/J5","v":13},20,{"$f":"COUNTIF(C5:F5,\"<>0\")","v":2},{"$f":"SUM(C5:F5)","v":26}]
[" Savoir écrire",80,{"$f":"'Pts P1'!G4","v":60},{"$f":"'Pts P2'!G4","v":61.5},{"$f":"'Pts P3'!G4","v":0},{"$f":"'Pts P4'!G4","v":0},null,60.75,80,{"$f":"COUNTIF(C6:F6,\"<>0\")","v":2},{"$f":"SUM(C6:F6)","v":121.5}]
[" Savoir parler",null,null,{"$f":"'Pts P2'!D5","v":0},{"$f":"'Pts P3'!D5","v":0},{"$f":"'Pts P4'!D5","v":0},null,null,null,{"$f":"COUNTIF(C7:F7,\"<>0\")","v":1},{"$f":"SUM(C7:F7)","v":0}]
[" Savoir écouter",null,null,{"$f":"'Pts P2'!D6","v":0},{"$f":"'Pts P3'!D6","v":0},{"$f":"'Pts P4'!D6","v":0},null,null,null,{"$f":"COUNTIF(C8:F8,\"<>0\")","v":1},{"$f":"SUM(C8:F8)","v":0}]
["  TOTAL Français",100,{"$f":"'Pts P1'!G7","v":75},{"$f":"'Pts P2'!G7","v":72.5},{"$f":"'Pts P3'!G7","v":0},{"$f":"'Pts P4'!G7","v":0},null,73.75,100,{"$f":"COUNTIF(C9:F9,\"<>0\")","v":2},{"$f":"SUM(C9:F9)","v":147.5}]
[]
["  MATHEMATIQUES",null,"1ère période","2ème période","3ème période","4ème période"]
[]
[" Savoir calculer",100,{"$f":"'Pts P1'!G8","v":85},{"$f":"'Pts P2'!G8","v":69.2},{"$f":"'Pts P3'!G8","v":0},{"$f":"'Pts P4'!G8","v":0},null,{"$f":"K13/J13","v":77.099999999999994},100,{"$f":"COUNTIF(C13:F13,\"<>0\")","v":2},{"$f":"SUM(C13:F13)","v":154.19999999999999}]
[" Savoir résoudre des problèmes",null,null,{"$f":"'Pts P2'!D9","v":0},{"$f":"'Pts P3'!D9","v":0},{"$f":"'Pts P4'!D9","v":0},null,null,null,{"$f":"COUNTIF(C14:F14,\"<>0\")","v":1},{"$f":"SUM(C14:F14)","v":0}]
[" Savoir mesurer",null,null,{"$f":"'Pts P2'!D10","v":0},{"$f":"'Pts P3'!D10","v":0},{"$f":"'Pts P4'!D10","v":0},null,null,null,{"$f":"COUNTIF(C15:F15,\"<>0\")","v":1},{"$f":"SUM(C15:F15)","v":0}]
[" Savoir structurer l'espace",null,null,{"$f":"'Pts P2'!D11","v":0},{"$f":"'Pts P3'!D11","v":0},{"$f":"'Pts P4'!D11","v":0},null,null,null,{"$f":"COUNTIF(C16:F16,\"<>0\")","v":1},{"$f":"SUM(C16:F16)","v":0}]
["  TOTAL Math",100,{"$f":"'Pts P1'!G12","v":85},{"$f":"'Pts P2'!G12","v":69.2},{"$f":"'Pts P3'!G12","v":0},{"$f":"'Pts P4'!G12","v":0},null,{"$f":"K17/J17","v":77.099999999999994},100,{"$f":"COUNTIF(C17:F17,\"<>0\")","v":2},{"$f":"SUM(C17:F17)","v":154.19999999999999}]
[]
["  TOTAL GÉNÉRAL                                (Français et Mathématiques) en %",null,{"$f":"'Pts P1'!$G$13","v":80},{"$f":"'Pts P2'!$G$13","v":70.849999999999994},{"$f":"'Pts P3'!$G$13","v":0},{"$f":"'Pts P4'!$G$13","v":0},null,{"$f":"K19/J19","v":75.424999999999997},"sur",{"$f":"COUNTIF(C19:F19,\"<>0\")","v":2},{"$f":"SUM(C19:F19)","v":150.85}]
[]
["  AUTRES BRANCHES",null,"1ère période","2ème période","3ème période","4ème période"]
[]
["  Eveil",20,{"$f":"'Pts P1'!G14","v":15},{"$f":"'Pts P2'!G14","v":13},{"$f":"'Pts P3'!G14","v":0},{"$f":"'Pts P4'!G14","v":0},null,{"$f":"K23/J23","v":14},20,{"$f":"COUNTIF(C23:F23,\"<>0\")","v":2},{"$f":"SUM(C23:F23)","v":28}]
["  Education physiaue",10,{"$f":"'Pts P1'!G15","v":8},{"$f":"'Pts P2'!G15","v":6.5},{"$f":"'Pts P3'!G15","v":0},{"$f":"'Pts P4'!G15","v":0},null,7.25,10,2,14.5]
["  Education esthétique",10,{"$f":"'Pts P1'!G16","v":8.5},{"$f":"'Pts P2'!G16","v":8.5},{"$f":"'Pts P3'!G16","v":0},{"$f":"'Pts P4'!G16","v":0},null,8.5,10,2,17]
["  Religion / Morale / E.P.A",10,{"$f":"'Pts P1'!G17","v":8},{"$f":"'Pts P2'!G17","v":8},{"$f":"'Pts P3'!G17","v":0},{"$f":"'Pts P4'!G17","v":0},null,8,10,2,16]
["  Récitations et chants","Ap. *",{"$f":"'Pts P1'!G18","v":"S"},{"$f":"'Pts P2'!G18","v":"I"},{"$f":"'Pts P3'!G18","v":0},{"$f":"'Pts P4'!G18","v":0},null,null,null,null,0]
["  Ecriture","Ap. *",{"$f":"'Pts P1'!G19","v":"S"},{"$f":"'Pts P2'!G19","v":"I"},{"$f":"'Pts P3'!G19","v":0},{"$f":"'Pts P4'!G19","v":0}]
["  Ordre","Ap. *",{"$f":"'Pts P1'!G20","v":"S"},{"$f":"'Pts P2'!G20","v":"S"},{"$f":"'Pts P3'!G20","v":0},{"$f":"'Pts P4'!G20","v":0},null,null,null,null,0]
["  Soin","Ap. *",{"$f":"'Pts P1'!G21","v":"S"},{"$f":"'Pts P2'!G21","v":"I"},{"$f":"'Pts P3'!G21","v":0},{"$f":"'Pts P4'!G21","v":0},null,null,null,null,0]
["  Travail à Domicile","Ap. *",{"$f":"'Pts P1'!G22","v":"B"},{"$f":"'Pts P2'!G22","v":"S"},{"$f":"'Pts P3'!G22","v":0},{"$f":"'Pts P4'!G22","v":0}]
["  ABSENCES (en 1/2 jours)","nbr",{"$f":"'Pts P1'!G23","v":"9"},{"$f":"'Pts P2'!G23","v":"17"},{"$f":"'Pts P3'!G23","v":0},{"$f":"'Pts P4'!G23","v":0},null,{"$f":"SUM(C32:F32)","v":0},"Nbr"]
["  RETARDS","nbr",{"$f":"'Pts P1'!G24","v":"0"},{"$f":"'Pts P2'!G24","v":"1"},{"$f":"'Pts P3'!G24","v":0},{"$f":"'Pts P4'!G24","v":0},null,{"$f":"SUM(C33:F33)","v":0},"Nbr"]
["  * TB : Très Bien, B = Bien, S = Satisfaisant, F = Faible, I = Insuffisant."]
[]
[" DECISION DU CONSEIL DE CLASSE :"]
[{"$f":"'Déc CC'!$B$2","v":0}]
["        N.B. Cette décision tient compte du travail journalier et des tests d'orientation"]
["        de fin d'année (voir explication sur le feuillet jaune ci-joint !)"]
["                  TITULAIRE :         DIRECTEUR :         PARENTS :"]
["     SIGNATURES :",null,"Alain Rensonnet"]
["Nom et prénom de l'élève :",{"$f":"'Pts P1'!$G$2","v":"LEJEUNE Vincent"}]
[]
["APPRECIATION DU COMPORTEMENT",null,"1ère période","2ème période","3 ème période","4ème période"]
[]
[" 1. Carte(s) d’honneur : jaune(s)",null,{"$f":"'Pts P1'!G25","v":"4"},{"$f":"'Pts P2'!G25","v":"6"},{"$f":"'Pts P3'!G25","v":0},{"$f":"'Pts P4'!G25","v":0},null,{"$f":"SUM(C46:F46)","v":0}]
[" 2. Carte(s) verte(s) ",null,{"$f":"'Pts P1'!G26","v":"1"},{"$f":"'Pts P2'!G26","v":"1"},{"$f":"'Pts P3'!G26","v":0},{"$f":"'Pts P4'!G26","v":0},null,{"$f":"SUM(C47:F47)","v":0}]
[" 3. Carte(s) orange(s) ",null,{"$f":"'Pts P1'!G27","v":"1"},{"$f":"'Pts P2'!G27","v":"0"},{"$f":"'Pts P3'!G27","v":0},{"$f":"'Pts P4'!G27","v":0},null,0]
[" 4. Carte(s) rouge(s) ",null,{"$f":"'Pts P1'!G28","v":"0"},{"$f":"'Pts P2'!G28","v":"0"},{"$f":"'Pts P3'!G28","v":0},{"$f":"'Pts P4'!G28","v":0},null,0]
[" 5. Carte(s) rouge(s) « Garderie »",null,{"$f":"'Pts P1'!G29","v":"0"},{"$f":"'Pts P2'!G29","v":"0"},{"$f":"'Pts P3'!G29","v":0},{"$f":"'Pts P4'!G29","v":0},null,0]
[" 6. Carte(s) rouge(s) « Tr. scolaire »",null,{"$f":"'Pts P1'!G30","v":"0"},{"$f":"'Pts P2'!G30","v":"0"},{"$f":"'Pts P3'!G30","v":0},{"$f":"'Pts P4'!G30","v":0},null,0]
[" 7. Carte(s) blanche(s) (retenues)",null,{"$f":"'Pts P1'!G31","v":"0"},{"$f":"'Pts P2'!G31","v":"0"},{"$f":"'Pts P3'!G31","v":0},{"$f":"'Pts P4'!G31","v":0},null,0]
[]
[" COMMENTAIRES et CONSEILS :"]
[" 1ère période :"]
[]
[" 2ème période :"]
[]
[" 3ème période :"]
[]
[" 4ème période :"]
[]
["                                                                Signature des parents :"]

{"sheet":"Elève (5)","index":9,"n_rows":63,"n_cols":11,"rows_kept":63,"cut":false,"hidden":false,"merged":[[59,0,59,5],[60,0,60,5],[61,0,61,5],[62,0,62,5],[53,0,53,5],[54,0,54,5],[55,0,55,5],[56,0,56,5],[57,0,57,5],[58,0,58,5],[51,0,51,1],[43,0,44,1],[43,2,44,2],[43,3,44,3],[43,4,44,4],[46,0,46,1],[47,0,47,1],[48,0,48,1],[49,0,49,1],[50,0,50,1],[43,5,44,5],[45,0,45,1],[33,7,33,8],[35,0,35,5],[36,0,36,5],[37,0,37,5],[39,0,39,5],[41,1,41,5],[20,5,21,5],[10,0,11,1],[10,2,11,2],[10,3,11,3],[10,4,11,4],[10,5,11,5],[12,1,15,1],[12,2,15,2],[12,3,15,3],[12,4,15,4],[12,5,15,5],[18,0,18,1],[20,0,21,1],[20,2,21,2],[20,3,21,3],[20,4,21,4],[2,7,3,8],[5,1,7,1],[5,2,7,2],[5,3,7,3],[5,4,7,4],[5,5,7,5],[0,1,0,5],[2,0,3,1],[2,2,3,2],[2,3,3,3],[2,4,3,4],[2,5,3,5]]}
["Nom et prénom de l'élève :",{"$f":"'Pts P1'!$H$2","v":"MARÉCHAL Thomas"}]
[]
["  FRANCAIS",null,"1ère période","2ème période","3ème période","4ème période",null,"MOYENNE"]
[]
[" Savoir lire",20,{"$f":"'Pts P1'!H3","v":15},{"$f":"'Pts P2'!H3","v":12.8},{"$f":"'Pts P3'!H3","v":0},{"$f":"'Pts P4'!H3","v":0},null,{"$f":"K5/J5","v":13.9},20,{"$f":"COUNTIF(C5:F5,\"<>0\")","v":2},{"$f":"SUM(C5:F5)","v":27.8}]
[" Savoir écrire",80,{"$f":"'Pts P1'!H4","v":55},{"$f":"'Pts P2'!H4","v":65.7},{"$f":"'Pts P3'!H4","v":0},{"$f":"'Pts P4'!H4","v":0},null,60.35,80,{"$f":"COUNTIF(C6:F6,\"<>0\")","v":2},{"$f":"SUM(C6:F6)","v":120.7}]
[" Savoir parler",null,null,{"$f":"'Pts P2'!D5","v":0},{"$f":"'Pts P3'!D5","v":0},{"$f":"'Pts P4'!D5","v":0},null,null,null,{"$f":"COUNTIF(C7:F7,\"<>0\")","v":1},{"$f":"SUM(C7:F7)","v":0}]
[" Savoir écouter",null,null,{"$f":"'Pts P2'!D6","v":0},{"$f":"'Pts P3'!D6","v":0},{"$f":"'Pts P4'!D6","v":0},null,null,null,{"$f":"COUNTIF(C8:F8,\"<>0\")","v":1},{"$f":"SUM(C8:F8)","v":0}]
["  TOTAL Français",100,{"$f":"'Pts P1'!H7","v":70},{"$f":"'Pts P2'!H7","v":78.5},{"$f":"'Pts P3'!H7","v":0},{"$f":"'Pts P4'!H7","v":0},null,74.25,100,{"$f":"COUNTIF(C9:F9,\"<>0\")","v":2},{"$f":"SUM(C9:F9)","v":148.5}]
[]
["  MATHEMATIQUES",null,"1ère période","2ème période","3ème période","4ème période"]
[]
[" Savoir calculer",100,{"$f":"'Pts P1'!H8","v":89},{"$f":"'Pts P2'!H8","v":75.900000000000006},{"$f":"'Pts P3'!H8","v":0},{"$f":"'Pts P4'!H8","v":0},null,{"$f":"K13/J13","v":82.45},100,{"$f":"COUNTIF(C13:F13,\"<>0\")","v":2},{"$f":"SUM(C13:F13)","v":164.9}]
[" Savoir résoudre des problèmes",null,null,{"$f":"'Pts P2'!D9","v":0},{"$f":"'Pts P3'!D9","v":0},{"$f":"'Pts P4'!D9","v":0},null,null,null,{"$f":"COUNTIF(C14:F14,\"<>0\")","v":1},{"$f":"SUM(C14:F14)","v":0}]
[" Savoir mesurer",null,null,{"$f":"'Pts P2'!D10","v":0},{"$f":"'Pts P3'!D10","v":0},{"$f":"'Pts P4'!D10","v":0},null,null,null,{"$f":"COUNTIF(C15:F15,\"<>0\")","v":1},{"$f":"SUM(C15:F15)","v":0}]
[" Savoir structurer l'espace",null,null,{"$f":"'Pts P2'!D11","v":0},{"$f":"'Pts P3'!D11","v":0},{"$f":"'Pts P4'!D11","v":0},null,null,null,{"$f":"COUNTIF(C16:F16,\"<>0\")","v":1},{"$f":"SUM(C16:F16)","v":0}]
["  TOTAL Math",100,{"$f":"'Pts P1'!H12","v":89},{"$f":"'Pts P2'!H12","v":75.900000000000006},{"$f":"'Pts P3'!H12","v":0},{"$f":"'Pts P4'!H12","v":0},null,{"$f":"K17/J17","v":82.45},100,{"$f":"COUNTIF(C17:F17,\"<>0\")","v":2},{"$f":"SUM(C17:F17)","v":164.9}]
[]
["  TOTAL GÉNÉRAL                                (Français et Mathématiques) en %",null,{"$f":"'Pts P1'!$H$13","v":79.5},{"$f":"'Pts P2'!$H$13","v":77.2},{"$f":"'Pts P3'!$H$13","v":0},{"$f":"'Pts P4'!$H$13","v":0},null,{"$f":"K19/J19","v":78.349999999999994},"sur",{"$f":"COUNTIF(C19:F19,\"<>0\")","v":2},{"$f":"SUM(C19:F19)","v":156.69999999999999}]
[]
["  AUTRES BRANCHES",null,"1ère période","2ème période","3ème période","4ème période"]
[]
["  Eveil",20,{"$f":"'Pts P1'!H14","v":17},{"$f":"'Pts P2'!H14","v":16},{"$f":"'Pts P3'!H14","v":0},{"$f":"'Pts P4'!H14","v":0},null,{"$f":"K23/J23","v":16.5},20,{"$f":"COUNTIF(C23:F23,\"<>0\")","v":2},{"$f":"SUM(C23:F23)","v":33}]
["  Education physiaue",10,{"$f":"'Pts P1'!H15","v":9},{"$f":"'Pts P2'!H15","v":9.5},{"$f":"'Pts P3'!H15","v":0},{"$f":"'Pts P4'!H15","v":0},null,9.25,10,2,18.5]
["  Education esthétique",10,{"$f":"'Pts P1'!H16","v":8.5},{"$f":"'Pts P2'!H16","v":8},{"$f":"'Pts P3'!H16","v":0},{"$f":"'Pts P4'!H16","v":0},null,8.25,10,2,16.5]
["  Religion / Morale / E.P.A",10,{"$f":"'Pts P1'!H17","v":8},{"$f":"'Pts P2'!H17","v":7},{"$f":"'Pts P3'!H17","v":0},{"$f":"'Pts P4'!H17","v":0},null,7.5,10,2,15]
["  Récitations et chants","Ap. *",{"$f":"'Pts P1'!H18","v":"B"},{"$f":"'Pts P2'!H18","v":"B"},{"$f":"'Pts P3'!H18","v":0},{"$f":"'Pts P4'!H18","v":0},null,null,null,null,0]
["  Ecriture","Ap. *",{"$f":"'Pts P1'!H19","v":"S"},{"$f":"'Pts P2'!H19","v":"S"},{"$f":"'Pts P3'!H19","v":0},{"$f":"'Pts P4'!H19","v":0}]
["  Ordre","Ap. *",{"$f":"'Pts P1'!H20","v":"S"},{"$f":"'Pts P2'!H20","v":"I"},{"$f":"'Pts P3'!H20","v":0},{"$f":"'Pts P4'!H20","v":0},null,null,null,null,0]
["  Soin","Ap. *",{"$f":"'Pts P1'!H21","v":"S"},{"$f":"'Pts P2'!H21","v":"S"},{"$f":"'Pts P3'!H21","v":0},{"$f":"'Pts P4'!H21","v":0},null,null,null,null,0]
["  Travail à Domicile","Ap. *",{"$f":"'Pts P1'!H22","v":"TB"},{"$f":"'Pts P2'!H22","v":"B"},{"$f":"'Pts P3'!H22","v":0},{"$f":"'Pts P4'!H22","v":0}]
["  ABSENCES (en 1/2 jours)","nbr",{"$f":"'Pts P1'!H23","v":"0"},{"$f":"'Pts P2'!H23","v":"3"},{"$f":"'Pts P3'!H23","v":0},{"$f":"'Pts P4'!H23","v":0},null,{"$f":"SUM(C32:F32)","v":0},"Nbr"]
["  RETARDS","nbr",{"$f":"'Pts P1'!H24","v":"0"},{"$f":"'Pts P2'!H24","v":"0"},{"$f":"'Pts P3'!H24","v":0},{"$f":"'Pts P4'!H24","v":0},null,{"$f":"SUM(C33:F33)","v":0},"Nbr"]
["  * TB : Très Bien, B = Bien, S = Satisfaisant, F = Faible, I = Insuffisant."]
[]
[" DECISION DU CONSEIL DE CLASSE :"]
[{"$f":"'Déc CC'!$B$2","v":0}]
["        N.B. Cette décision tient compte du travail journalier et des tests d'orientation"]
["        de fin d'année (voir explication sur le feuillet jaune ci-joint !)"]
["                  TITULAIRE :         DIRECTEUR :         PARENTS :"]
["     SIGNATURES :",null,"Alain Rensonnet"]
["Nom et prénom de l'élève :",{"$f":"'Pts P1'!$H$2","v":"MARÉCHAL Thomas"}]
[]
["APPRECIATION DU COMPORTEMENT",null,"1ère période","2ème période","3 ème période","4ème période"]
[]
[" 1. Carte(s) d’honneur : jaune(s)",null,{"$f":"'Pts P1'!H25","v":"3"},{"$f":"'Pts P2'!H25","v":"3"},{"$f":"'Pts P3'!H25","v":0},{"$f":"'Pts P4'!H25","v":0},null,{"$f":"SUM(C46:F46)","v":0}]
[" 2. Carte(s) verte(s) ",null,{"$f":"'Pts P1'!H26","v":"3"},{"$f":"'Pts P2'!H26","v":"2"},{"$f":"'Pts P3'!H26","v":0},{"$f":"'Pts P4'!H26","v":0},null,{"$f":"SUM(C47:F47)","v":0}]
[" 3. Carte(s) orange(s) ",null,{"$f":"'Pts P1'!H27","v":"1"},{"$f":"'Pts P2'!H27","v":"1"},{"$f":"'Pts P3'!H27","v":0},{"$f":"'Pts P4'!H27","v":0},null,0]
[" 4. Carte(s) rouge(s) ",null,{"$f":"'Pts P1'!H28","v":"1"},{"$f":"'Pts P2'!H28","v":"1"},{"$f":"'Pts P3'!H28","v":0},{"$f":"'Pts P4'!H28","v":0},null,0]
[" 5. Carte(s) rouge(s) « Garderie »",null,{"$f":"'Pts P1'!H29","v":"0"},{"$f":"'Pts P2'!H29","v":"0"},{"$f":"'Pts P3'!H29","v":0},{"$f":"'Pts P4'!H29","v":0},null,0]
[" 6. Carte(s) rouge(s) « Tr. scolaire »",null,{"$f":"'Pts P1'!H30","v":"2"},{"$f":"'Pts P2'!H30","v":"0"},{"$f":"'Pts P3'!H30","v":0},{"$f":"'Pts P4'!H30","v":0},null,0]
[" 7. Carte(s) blanche(s) (retenues)",null,{"$f":"'Pts P1'!H31","v":"1"},{"$f":"'Pts P2'!H31","v":"0"},{"$f":"'Pts P3'!H31","v":0},{"$f":"'Pts P4'!H31","v":0},null,0]
[]
[" COMMENTAIRES et CONSEILS :"]
[" 1ère période :"]
[]
[" 2ème période :"]
[]
[" 3ème période :"]
[]
[" 4ème période :"]
[]
["                                                                Signature des parents :"]

{"sheet":"Elève (6)","index":10,"n_rows":63,"n_cols":11,"rows_kept":63,"cut":false,"hidden":false,"merged":[[59,0,59,5],[60,0,60,5],[61,0,61,5],[62,0,62,5],[53,0,53,5],[54,0,54,5],[55,0,55,5],[56,0,56,5],[57,0,57,5],[58,0,58,5],[51,0,51,1],[43,0,44,1],[43,2,44,2],[43,3,44,3],[43,4,44,4],[46,0,46,1],[47,0,47,1],[48,0,48,1],[49,0,49,1],[50,0,50,1],[43,5,44,5],[45,0,45,1],[33,7,33,8],[35,0,35,5],[36,0,36,5],[37,0,37,5],[39,0,39,5],[41,1,41,5],[20,5,21,5],[10,0,11,1],[10,2,11,2],[10,3,11,3],[10,4,11,4],[10,5,11,5],[12,1,15,1],[12,2,15,2],[12,3,15,3],[12,4,15,4],[12,5,15,5],[18,0,18,1],[20,0,21,1],[20,2,21,2],[20,3,21,3],[20,4,21,4],[2,7,3,8],[5,1,7,1],[5,2,7,2],[5,3,7,3],[5,4,7,4],[5,5,7,5],[0,1,0,5],[2,0,3,1],[2,2,3,2],[2,3,3,3],[2,4,3,4],[2,5,3,5]]}
["Nom et prénom de l'élève :",{"$f":"'Pts P1'!$I$2","v":"RENARD Ethan"}]
[]
["  FRANCAIS",null,"1ère période","2ème période","3ème période","4ème période",null,"MOYENNE"]
[]
[" Savoir lire",20,{"$f":"'Pts P1'!I3","v":15},{"$f":"'Pts P2'!I3","v":14.9},{"$f":"'Pts P3'!I3","v":0},{"$f":"'Pts P4'!I3","v":0},null,{"$f":"K5/J5","v":14.95},20,{"$f":"COUNTIF(C5:F5,\"<>0\")","v":2},{"$f":"SUM(C5:F5)","v":29.9}]
[" Savoir écrire",80,{"$f":"'Pts P1'!I4","v":63.4},{"$f":"'Pts P2'!I4","v":61.8},{"$f":"'Pts P3'!I4","v":0},{"$f":"'Pts P4'!I4","v":0},null,62.599999999999994,80,{"$f":"COUNTIF(C6:F6,\"<>0\")","v":2},{"$f":"SUM(C6:F6)","v":125.19999999999999}]
[" Savoir parler",null,null,{"$f":"'Pts P2'!D5","v":0},{"$f":"'Pts P3'!D5","v":0},{"$f":"'Pts P4'!D5","v":0},null,null,null,{"$f":"COUNTIF(C7:F7,\"<>0\")","v":1},{"$f":"SUM(C7:F7)","v":0}]
[" Savoir écouter",null,null,{"$f":"'Pts P2'!D6","v":0},{"$f":"'Pts P3'!D6","v":0},{"$f":"'Pts P4'!D6","v":0},null,null,null,{"$f":"COUNTIF(C8:F8,\"<>0\")","v":1},{"$f":"SUM(C8:F8)","v":0}]
["  TOTAL Français",100,{"$f":"'Pts P1'!I7","v":78.400000000000006},{"$f":"'Pts P2'!I7","v":76.7},{"$f":"'Pts P3'!I7","v":0},{"$f":"'Pts P4'!I7","v":0},null,77.550000000000011,100,{"$f":"COUNTIF(C9:F9,\"<>0\")","v":2},{"$f":"SUM(C9:F9)","v":155.10000000000002}]
[]
["  MATHEMATIQUES",null,"1ère période","2ème période","3ème période","4ème période"]
[]
[" Savoir calculer",100,{"$f":"'Pts P1'!I8","v":80},{"$f":"'Pts P2'!I8","v":75.599999999999994},{"$f":"'Pts P3'!I8","v":0},{"$f":"'Pts P4'!I8","v":0},null,{"$f":"K13/J13","v":77.8},100,{"$f":"COUNTIF(C13:F13,\"<>0\")","v":2},{"$f":"SUM(C13:F13)","v":155.6}]
[" Savoir résoudre des problèmes",null,null,{"$f":"'Pts P2'!D9","v":0},{"$f":"'Pts P3'!D9","v":0},{"$f":"'Pts P4'!D9","v":0},null,null,null,{"$f":"COUNTIF(C14:F14,\"<>0\")","v":1},{"$f":"SUM(C14:F14)","v":0}]
[" Savoir mesurer",null,null,{"$f":"'Pts P2'!D10","v":0},{"$f":"'Pts P3'!D10","v":0},{"$f":"'Pts P4'!D10","v":0},null,null,null,{"$f":"COUNTIF(C15:F15,\"<>0\")","v":1},{"$f":"SUM(C15:F15)","v":0}]
[" Savoir structurer l'espace",null,null,{"$f":"'Pts P2'!D11","v":0},{"$f":"'Pts P3'!D11","v":0},{"$f":"'Pts P4'!D11","v":0},null,null,null,{"$f":"COUNTIF(C16:F16,\"<>0\")","v":1},{"$f":"SUM(C16:F16)","v":0}]
["  TOTAL Math",100,{"$f":"'Pts P1'!I12","v":80},{"$f":"'Pts P2'!I12","v":75.599999999999994},{"$f":"'Pts P3'!I12","v":0},{"$f":"'Pts P4'!I12","v":0},null,{"$f":"K17/J17","v":77.8},100,{"$f":"COUNTIF(C17:F17,\"<>0\")","v":2},{"$f":"SUM(C17:F17)","v":155.6}]
[]
["  TOTAL GÉNÉRAL                                (Français et Mathématiques) en %",null,{"$f":"'Pts P1'!$I$13","v":79.2},{"$f":"'Pts P2'!$I$13","v":76.150000000000006},{"$f":"'Pts P3'!$I$13","v":0},{"$f":"'Pts P4'!$I$13","v":0},null,{"$f":"K19/J19","v":77.675000000000011},"sur",{"$f":"COUNTIF(C19:F19,\"<>0\")","v":2},{"$f":"SUM(C19:F19)","v":155.35000000000002}]
[]
["  AUTRES BRANCHES",null,"1ère période","2ème période","3ème période","4ème période"]
[]
["  Eveil",20,{"$f":"'Pts P1'!I14","v":18},{"$f":"'Pts P2'!I14","v":16},{"$f":"'Pts P3'!I14","v":0},{"$f":"'Pts P4'!I14","v":0},null,{"$f":"K23/J23","v":17},20,{"$f":"COUNTIF(C23:F23,\"<>0\")","v":2},{"$f":"SUM(C23:F23)","v":34}]
["  Education physiaue",10,{"$f":"'Pts P1'!I15","v":9},{"$f":"'Pts P2'!I15","v":7},{"$f":"'Pts P3'!I15","v":0},{"$f":"'Pts P4'!I15","v":0},null,8,10,2,16]
["  Education esthétique",10,{"$f":"'Pts P1'!I16","v":8},{"$f":"'Pts P2'!I16","v":8.5},{"$f":"'Pts P3'!I16","v":0},{"$f":"'Pts P4'!I16","v":0},null,8.25,10,2,16.5]
["  Religion / Morale / E.P.A",10,{"$f":"'Pts P1'!I17","v":8},{"$f":"'Pts P2'!I17","v":7},{"$f":"'Pts P3'!I17","v":0},{"$f":"'Pts P4'!I17","v":0},null,7.5,10,2,15]
["  Récitations et chants","Ap. *",{"$f":"'Pts P1'!I18","v":"B"},{"$f":"'Pts P2'!I18","v":"B"},{"$f":"'Pts P3'!I18","v":0},{"$f":"'Pts P4'!I18","v":0},null,null,null,null,0]
["  Ecriture","Ap. *",{"$f":"'Pts P1'!I19","v":"B"},{"$f":"'Pts P2'!I19","v":"TB"},{"$f":"'Pts P3'!I19","v":0},{"$f":"'Pts P4'!I19","v":0}]
["  Ordre","Ap. *",{"$f":"'Pts P1'!I20","v":"S"},{"$f":"'Pts P2'!I20","v":"B"},{"$f":"'Pts P3'!I20","v":0},{"$f":"'Pts P4'!I20","v":0},null,null,null,null,0]
["  Soin","Ap. *",{"$f":"'Pts P1'!I21","v":"B"},{"$f":"'Pts P2'!I21","v":"S"},{"$f":"'Pts P3'!I21","v":0},{"$f":"'Pts P4'!I21","v":0},null,null,null,null,0]
["  Travail à Domicile","Ap. *",{"$f":"'Pts P1'!I22","v":"TB"},{"$f":"'Pts P2'!I22","v":"B"},{"$f":"'Pts P3'!I22","v":0},{"$f":"'Pts P4'!I22","v":0}]
["  ABSENCES (en 1/2 jours)","nbr",{"$f":"'Pts P1'!I23","v":"7"},{"$f":"'Pts P2'!I23","v":"9"},{"$f":"'Pts P3'!I23","v":0},{"$f":"'Pts P4'!I23","v":0},null,{"$f":"SUM(C32:F32)","v":0},"Nbr"]
["  RETARDS","nbr",{"$f":"'Pts P1'!I24","v":"0"},{"$f":"'Pts P2'!I24","v":"0"},{"$f":"'Pts P3'!I24","v":0},{"$f":"'Pts P4'!I24","v":0},null,{"$f":"SUM(C33:F33)","v":0},"Nbr"]
["  * TB : Très Bien, B = Bien, S = Satisfaisant, F = Faible, I = Insuffisant."]
[]
[" DECISION DU CONSEIL DE CLASSE :"]
[{"$f":"'Déc CC'!$B$2","v":0}]
["        N.B. Cette décision tient compte du travail journalier et des tests d'orientation"]
["        de fin d'année (voir explication sur le feuillet jaune ci-joint !)"]
["                  TITULAIRE :         DIRECTEUR :         PARENTS :"]
["     SIGNATURES :",null,"Alain Rensonnet"]
["Nom et prénom de l'élève :",{"$f":"'Pts P1'!$I$2","v":"RENARD Ethan"}]
[]
["APPRECIATION DU COMPORTEMENT",null,"1ère période","2ème période","3 ème période","4ème période"]
[]
[" 1. Carte(s) d’honneur : jaune(s)",null,{"$f":"'Pts P1'!I25","v":0},{"$f":"'Pts P2'!I25","v":"2"},{"$f":"'Pts P3'!I25","v":0},{"$f":"'Pts P4'!I25","v":0},null,{"$f":"SUM(C46:F46)","v":0}]
[" 2. Carte(s) verte(s) ",null,{"$f":"'Pts P1'!I26","v":0},{"$f":"'Pts P2'!I26","v":"2"},{"$f":"'Pts P3'!I26","v":0},{"$f":"'Pts P4'!I26","v":0},null,{"$f":"SUM(C47:F47)","v":0}]
[" 3. Carte(s) orange(s) ",null,{"$f":"'Pts P1'!I27","v":0},{"$f":"'Pts P2'!I27","v":"2"},{"$f":"'Pts P3'!I27","v":0},{"$f":"'Pts P4'!I27","v":0},null,0]
[" 4. Carte(s) rouge(s) ",null,{"$f":"'Pts P1'!I28","v":0},{"$f":"'Pts P2'!I28","v":"1"},{"$f":"'Pts P3'!I28","v":0},{"$f":"'Pts P4'!I28","v":0},null,0]
[" 5. Carte(s) rouge(s) « Garderie »",null,{"$f":"'Pts P1'!I29","v":0},{"$f":"'Pts P2'!I29","v":"0"},{"$f":"'Pts P3'!I29","v":0},{"$f":"'Pts P4'!I29","v":0},null,0]
[" 6. Carte(s) rouge(s) « Tr. scolaire »",null,{"$f":"'Pts P1'!I30","v":0},{"$f":"'Pts P2'!I30","v":"0"},{"$f":"'Pts P3'!I30","v":0},{"$f":"'Pts P4'!I30","v":0},null,0]
[" 7. Carte(s) blanche(s) (retenues)",null,{"$f":"'Pts P1'!I31","v":0},{"$f":"'Pts P2'!I31","v":"1"},{"$f":"'Pts P3'!I31","v":0},{"$f":"'Pts P4'!I31","v":0},null,0]
[]
[" COMMENTAIRES et CONSEILS :"]
[" 1ère période :"]
[]
[" 2ème période :"]
[]
[" 3ème période :"]
[]
[" 4ème période :"]
[]
["                                                                Signature des parents :"]

{"sheet":"Elève (7)","index":11,"n_rows":63,"n_cols":11,"rows_kept":63,"cut":false,"hidden":false,"merged":[[59,0,59,5],[60,0,60,5],[61,0,61,5],[62,0,62,5],[53,0,53,5],[54,0,54,5],[55,0,55,5],[56,0,56,5],[57,0,57,5],[58,0,58,5],[51,0,51,1],[43,0,44,1],[43,2,44,2],[43,3,44,3],[43,4,44,4],[46,0,46,1],[47,0,47,1],[48,0,48,1],[49,0,49,1],[50,0,50,1],[43,5,44,5],[45,0,45,1],[33,7,33,8],[35,0,35,5],[36,0,36,5],[37,0,37,5],[39,0,39,5],[41,1,41,5],[20,5,21,5],[10,0,11,1],[10,2,11,2],[10,3,11,3],[10,4,11,4],[10,5,11,5],[12,1,15,1],[12,2,15,2],[12,3,15,3],[12,4,15,4],[12,5,15,5],[18,0,18,1],[20,0,21,1],[20,2,21,2],[20,3,21,3],[20,4,21,4],[2,7,3,8],[5,1,7,1],[5,2,7,2],[5,3,7,3],[5,4,7,4],[5,5,7,5],[0,1,0,5],[2,0,3,1],[2,2,3,2],[2,3,3,3],[2,4,3,4],[2,5,3,5]]}
["Nom et prénom de l'élève :",{"$f":"'Pts P1'!$J$2","v":"TAHIRI Sefer"}]
[]
["  FRANCAIS",null,"1ère période","2ème période","3ème période","4ème période",null,"MOYENNE"]
[]
[" Savoir lire",20,{"$f":"'Pts P1'!J3","v":0},{"$f":"'Pts P2'!J3","v":13.8},{"$f":"'Pts P3'!J3","v":0},{"$f":"'Pts P4'!J3","v":0},null,{"$f":"K5/J5","v":13.8},20,{"$f":"COUNTIF(C5:F5,\"<>0\")","v":1},{"$f":"SUM(C5:F5)","v":13.8}]
[" Savoir écrire",80,{"$f":"'Pts P1'!J4","v":0},{"$f":"'Pts P2'!J4","v":51.8},{"$f":"'Pts P3'!J4","v":0},{"$f":"'Pts P4'!J4","v":0},null,51.8,80,{"$f":"COUNTIF(C6:F6,\"<>0\")","v":1},{"$f":"SUM(C6:F6)","v":51.8}]
[" Savoir parler",null,null,{"$f":"'Pts P2'!D5","v":0},{"$f":"'Pts P3'!D5","v":0},{"$f":"'Pts P4'!D5","v":0},null,null,null,{"$f":"COUNTIF(C7:F7,\"<>0\")","v":1},{"$f":"SUM(C7:F7)","v":0}]
[" Savoir écouter",null,null,{"$f":"'Pts P2'!D6","v":0},{"$f":"'Pts P3'!D6","v":0},{"$f":"'Pts P4'!D6","v":0},null,null,null,{"$f":"COUNTIF(C8:F8,\"<>0\")","v":1},{"$f":"SUM(C8:F8)","v":0}]
["  TOTAL Français",100,{"$f":"'Pts P1'!J7","v":0},{"$f":"'Pts P2'!J7","v":65.599999999999994},{"$f":"'Pts P3'!J7","v":0},{"$f":"'Pts P4'!J7","v":0},null,65.599999999999994,100,{"$f":"COUNTIF(C9:F9,\"<>0\")","v":1},{"$f":"SUM(C9:F9)","v":65.599999999999994}]
[]
["  MATHEMATIQUES",null,"1ère période","2ème période","3ème période","4ème période"]
[]
[" Savoir calculer",100,{"$f":"'Pts P1'!J8","v":0},{"$f":"'Pts P2'!J8","v":87.9},{"$f":"'Pts P3'!J8","v":0},{"$f":"'Pts P4'!J8","v":0},null,{"$f":"K13/J13","v":87.9},100,{"$f":"COUNTIF(C13:F13,\"<>0\")","v":1},{"$f":"SUM(C13:F13)","v":87.9}]
[" Savoir résoudre des problèmes",null,null,{"$f":"'Pts P2'!D9","v":0},{"$f":"'Pts P3'!D9","v":0},{"$f":"'Pts P4'!D9","v":0},null,null,null,{"$f":"COUNTIF(C14:F14,\"<>0\")","v":1},{"$f":"SUM(C14:F14)","v":0}]
[" Savoir mesurer",null,null,{"$f":"'Pts P2'!D10","v":0},{"$f":"'Pts P3'!D10","v":0},{"$f":"'Pts P4'!D10","v":0},null,null,null,{"$f":"COUNTIF(C15:F15,\"<>0\")","v":1},{"$f":"SUM(C15:F15)","v":0}]
[" Savoir structurer l'espace",null,null,{"$f":"'Pts P2'!D11","v":0},{"$f":"'Pts P3'!D11","v":0},{"$f":"'Pts P4'!D11","v":0},null,null,null,{"$f":"COUNTIF(C16:F16,\"<>0\")","v":1},{"$f":"SUM(C16:F16)","v":0}]
["  TOTAL Math",100,{"$f":"'Pts P1'!J12","v":0},{"$f":"'Pts P2'!J12","v":87.9},{"$f":"'Pts P3'!J12","v":0},{"$f":"'Pts P4'!J12","v":0},null,{"$f":"K17/J17","v":87.9},100,{"$f":"COUNTIF(C17:F17,\"<>0\")","v":1},{"$f":"SUM(C17:F17)","v":87.9}]
[]
["  TOTAL GÉNÉRAL                                (Français et Mathématiques) en %",null,{"$f":"'Pts P1'!$J$13","v":0},{"$f":"'Pts P2'!$J$13","v":76.75},{"$f":"'Pts P3'!$J$13","v":0},{"$f":"'Pts P4'!$J$13","v":0},null,{"$f":"K19/J19","v":76.75},"sur",{"$f":"COUNTIF(C19:F19,\"<>0\")","v":1},{"$f":"SUM(C19:F19)","v":76.75}]
[]
["  AUTRES BRANCHES",null,"1ère période","2ème période","3ème période","4ème période"]
[]
["  Eveil",20,{"$f":"'Pts P1'!J14","v":0},{"$f":"'Pts P2'!J14","v":16},{"$f":"'Pts P3'!J14","v":0},{"$f":"'Pts P4'!J14","v":0},null,{"$f":"K23/J23","v":16},20,{"$f":"COUNTIF(C23:F23,\"<>0\")","v":1},{"$f":"SUM(C23:F23)","v":16}]
["  Education physiaue",10,{"$f":"'Pts P1'!J15","v":0},{"$f":"'Pts P2'!J15","v":7},{"$f":"'Pts P3'!J15","v":0},{"$f":"'Pts P4'!J15","v":0},null,7,10,1,7]
["  Education esthétique",10,{"$f":"'Pts P1'!J16","v":0},{"$f":"'Pts P2'!J16","v":8.5},{"$f":"'Pts P3'!J16","v":0},{"$f":"'Pts P4'!J16","v":0},null,8.5,10,1,8.5]
["  Religion / Morale / E.P.A",10,{"$f":"'Pts P1'!J17","v":0},{"$f":"'Pts P2'!J17","v":8},{"$f":"'Pts P3'!J17","v":0},{"$f":"'Pts P4'!J17","v":0},null,8,10,1,8]
["  Récitations et chants","Ap. *",{"$f":"'Pts P1'!J18","v":0},{"$f":"'Pts P2'!J18","v":"TB"},{"$f":"'Pts P3'!J18","v":0},{"$f":"'Pts P4'!J18","v":0},null,null,null,null,0]
["  Ecriture","Ap. *",{"$f":"'Pts P1'!J19","v":0},{"$f":"'Pts P2'!J19","v":"TB"},{"$f":"'Pts P3'!J19","v":0},{"$f":"'Pts P4'!J19","v":0}]
["  Ordre","Ap. *",{"$f":"'Pts P1'!J20","v":0},{"$f":"'Pts P2'!J20","v":"B"},{"$f":"'Pts P3'!J20","v":0},{"$f":"'Pts P4'!J20","v":0},null,null,null,null,0]
["  Soin","Ap. *",{"$f":"'Pts P1'!J21","v":0},{"$f":"'Pts P2'!J21","v":"B"},{"$f":"'Pts P3'!J21","v":0},{"$f":"'Pts P4'!J21","v":0},null,null,null,null,0]
["  Travail à Domicile","Ap. *",{"$f":"'Pts P1'!J22","v":0},{"$f":"'Pts P2'!J22","v":"TB"},{"$f":"'Pts P3'!J22","v":0},{"$f":"'Pts P4'!J22","v":0}]
["  ABSENCES (en 1/2 jours)","nbr",{"$f":"'Pts P1'!J23","v":0},{"$f":"'Pts P2'!J23","v":"0"},{"$f":"'Pts P3'!J23","v":0},{"$f":"'Pts P4'!J23","v":0},null,{"$f":"SUM(C32:F32)","v":0},"Nbr"]
["  RETARDS","nbr",{"$f":"'Pts P1'!J24","v":0},{"$f":"'Pts P2'!J24","v":"0"},{"$f":"'Pts P3'!J24","v":0},{"$f":"'Pts P4'!J24","v":0},null,{"$f":"SUM(C33:F33)","v":0},"Nbr"]
["  * TB : Très Bien, B = Bien, S = Satisfaisant, F = Faible, I = Insuffisant."]
[]
[" DECISION DU CONSEIL DE CLASSE :"]
[{"$f":"'Déc CC'!$B$2","v":0}]
["        N.B. Cette décision tient compte du travail journalier et des tests d'orientation"]
["        de fin d'année (voir explication sur le feuillet jaune ci-joint !)"]
["                  TITULAIRE :         DIRECTEUR :         PARENTS :"]
["     SIGNATURES :",null,"Alain Rensonnet"]
["Nom et prénom de l'élève :",{"$f":"'Pts P1'!$J$2","v":"TAHIRI Sefer"}]
[]
["APPRECIATION DU COMPORTEMENT",null,"1ère période","2ème période","3 ème période","4ème période"]
[]
[" 1. Carte(s) d’honneur : jaune(s)",null,{"$f":"'Pts P1'!J25","v":0},{"$f":"'Pts P2'!J25","v":"4"},{"$f":"'Pts P3'!J25","v":0},{"$f":"'Pts P4'!J25","v":0},null,{"$f":"SUM(C46:F46)","v":0}]
[" 2. Carte(s) verte(s) ",null,{"$f":"'Pts P1'!J26","v":0},{"$f":"'Pts P2'!J26","v":"0"},{"$f":"'Pts P3'!J26","v":0},{"$f":"'Pts P4'!J26","v":0},null,{"$f":"SUM(C47:F47)","v":0}]
[" 3. Carte(s) orange(s) ",null,{"$f":"'Pts P1'!J27","v":0},{"$f":"'Pts P2'!J27","v":"0"},{"$f":"'Pts P3'!J27","v":0},{"$f":"'Pts P4'!J27","v":0},null,0]
[" 4. Carte(s) rouge(s) ",null,{"$f":"'Pts P1'!J28","v":0},{"$f":"'Pts P2'!J28","v":"0"},{"$f":"'Pts P3'!J28","v":0},{"$f":"'Pts P4'!J28","v":0},null,0]
[" 5. Carte(s) rouge(s) « Garderie »",null,{"$f":"'Pts P1'!J29","v":0},{"$f":"'Pts P2'!J29","v":"0"},{"$f":"'Pts P3'!J29","v":0},{"$f":"'Pts P4'!J29","v":0},null,0]
[" 6. Carte(s) rouge(s) « Tr. scolaire »",null,{"$f":"'Pts P1'!J30","v":0},{"$f":"'Pts P2'!J30","v":"0"},{"$f":"'Pts P3'!J30","v":0},{"$f":"'Pts P4'!J30","v":0},null,0]
[" 7. Carte(s) blanche(s) (retenues)",null,{"$f":"'Pts P1'!J31","v":0},{"$f":"'Pts P2'!J31","v":"0"},{"$f":"'Pts P3'!J31","v":0},{"$f":"'Pts P4'!J31","v":0},null,0]
[]
[" COMMENTAIRES et CONSEILS :"]
[" 1ère période :"]
[]
[" 2ème période :"]
[]
[" 3ème période :"]
[]
[" 4ème période :"]
[]
["                                                                Signature des parents :"]

{"sheet":"Elève (8)","index":12,"n_rows":63,"n_cols":11,"rows_kept":63,"cut":false,"hidden":false,"merged":[[59,0,59,5],[60,0,60,5],[61,0,61,5],[62,0,62,5],[53,0,53,5],[54,0,54,5],[55,0,55,5],[56,0,56,5],[57,0,57,5],[58,0,58,5],[51,0,51,1],[43,0,44,1],[43,2,44,2],[43,3,44,3],[43,4,44,4],[46,0,46,1],[47,0,47,1],[48,0,48,1],[49,0,49,1],[50,0,50,1],[43,5,44,5],[45,0,45,1],[33,7,33,8],[35,0,35,5],[36,0,36,5],[37,0,37,5],[39,0,39,5],[41,1,41,5],[20,5,21,5],[10,0,11,1],[10,2,11,2],[10,3,11,3],[10,4,11,4],[10,5,11,5],[12,1,15,1],[12,2,15,2],[12,3,15,3],[12,4,15,4],[12,5,15,5],[18,0,18,1],[20,0,21,1],[20,2,21,2],[20,3,21,3],[20,4,21,4],[2,7,3,8],[5,1,7,1],[5,2,7,2],[5,3,7,3],[5,4,7,4],[5,5,7,5],[0,1,0,5],[2,0,3,1],[2,2,3,2],[2,3,3,3],[2,4,3,4],[2,5,3,5]]}
["Nom et prénom de l'élève :",{"$f":"'Pts P1'!$K$2","v":0}]
[]
["  FRANCAIS",null,"1ère période","2ème période","3ème période","4ème période",null,"MOYENNE"]
[]
[" Savoir lire",20,{"$f":"'Pts P1'!K3","v":0},{"$f":"'Pts P2'!K3","v":0},{"$f":"'Pts P3'!K3","v":0},{"$f":"'Pts P4'!K3","v":0},null,{"$f":"K5/J5","v":{"$error":"#DIV/0!"}},20,{"$f":"COUNTIF(C5:F5,\"<>0\")","v":0},{"$f":"SUM(C5:F5)","v":0}]
[" Savoir écrire",80,{"$f":"'Pts P1'!K4","v":0},{"$f":"'Pts P2'!K4","v":0},{"$f":"'Pts P3'!K4","v":0},{"$f":"'Pts P4'!K4","v":0},null,{"$error":"#DIV/0!"},80,{"$f":"COUNTIF(C6:F6,\"<>0\")","v":0},{"$f":"SUM(C6:F6)","v":0}]
[" Savoir parler",null,null,{"$f":"'Pts P2'!D5","v":0},{"$f":"'Pts P3'!D5","v":0},{"$f":"'Pts P4'!D5","v":0},null,null,null,{"$f":"COUNTIF(C7:F7,\"<>0\")","v":1},{"$f":"SUM(C7:F7)","v":0}]
[" Savoir écouter",null,null,{"$f":"'Pts P2'!D6","v":0},{"$f":"'Pts P3'!D6","v":0},{"$f":"'Pts P4'!D6","v":0},null,null,null,{"$f":"COUNTIF(C8:F8,\"<>0\")","v":1},{"$f":"SUM(C8:F8)","v":0}]
["  TOTAL Français",100,{"$f":"'Pts P1'!K7","v":0},{"$f":"'Pts P2'!K7","v":0},{"$f":"'Pts P3'!K7","v":0},{"$f":"'Pts P4'!K7","v":0},null,{"$error":"#DIV/0!"},100,{"$f":"COUNTIF(C9:F9,\"<>0\")","v":0},{"$f":"SUM(C9:F9)","v":0}]
[]
["  MATHEMATIQUES",null,"1ère période","2ème période","3ème période","4ème période"]
[]
[" Savoir calculer",100,{"$f":"'Pts P1'!K8","v":0},{"$f":"'Pts P2'!K8","v":0},{"$f":"'Pts P3'!K8","v":0},{"$f":"'Pts P4'!K8","v":0},null,{"$f":"K13/J13","v":{"$error":"#DIV/0!"}},100,{"$f":"COUNTIF(C13:F13,\"<>0\")","v":0},{"$f":"SUM(C13:F13)","v":0}]
[" Savoir résoudre des problèmes",null,null,{"$f":"'Pts P2'!D9","v":0},{"$f":"'Pts P3'!D9","v":0},{"$f":"'Pts P4'!D9","v":0},null,null,null,{"$f":"COUNTIF(C14:F14,\"<>0\")","v":1},{"$f":"SUM(C14:F14)","v":0}]
[" Savoir mesurer",null,null,{"$f":"'Pts P2'!D10","v":0},{"$f":"'Pts P3'!D10","v":0},{"$f":"'Pts P4'!D10","v":0},null,null,null,{"$f":"COUNTIF(C15:F15,\"<>0\")","v":1},{"$f":"SUM(C15:F15)","v":0}]
[" Savoir structurer l'espace",null,null,{"$f":"'Pts P2'!D11","v":0},{"$f":"'Pts P3'!D11","v":0},{"$f":"'Pts P4'!D11","v":0},null,null,null,{"$f":"COUNTIF(C16:F16,\"<>0\")","v":1},{"$f":"SUM(C16:F16)","v":0}]
["  TOTAL Math",100,{"$f":"'Pts P1'!K12","v":0},{"$f":"'Pts P2'!K12","v":0},{"$f":"'Pts P3'!K12","v":0},{"$f":"'Pts P4'!K12","v":0},null,{"$f":"K17/J17","v":{"$error":"#DIV/0!"}},100,{"$f":"COUNTIF(C17:F17,\"<>0\")","v":0},{"$f":"SUM(C17:F17)","v":0}]
[]
["  TOTAL GÉNÉRAL                                (Français et Mathématiques) en %",null,{"$f":"'Pts P1'!$K$13","v":0},{"$f":"'Pts P2'!$K$13","v":0},{"$f":"'Pts P3'!$K$13","v":0},{"$f":"'Pts P4'!$K$13","v":0},null,{"$f":"K19/J19","v":{"$error":"#DIV/0!"}},"sur",{"$f":"COUNTIF(C19:F19,\"<>0\")","v":0},{"$f":"SUM(C19:F19)","v":0}]
[]
["  AUTRES BRANCHES",null,"1ère période","2ème période","3ème période","4ème période"]
[]
["  Eveil",20,{"$f":"'Pts P1'!K14","v":0},{"$f":"'Pts P2'!K14","v":0},{"$f":"'Pts P3'!K14","v":0},{"$f":"'Pts P4'!K14","v":0},null,{"$f":"K23/J23","v":{"$error":"#DIV/0!"}},20,{"$f":"COUNTIF(C23:F23,\"<>0\")","v":0},{"$f":"SUM(C23:F23)","v":0}]
["  Education physiaue",10,{"$f":"'Pts P1'!K15","v":0},{"$f":"'Pts P2'!K15","v":0},{"$f":"'Pts P3'!K15","v":0},{"$f":"'Pts P4'!K15","v":0},null,{"$error":"#DIV/0!"},10,0,0]
["  Education esthétique",10,{"$f":"'Pts P1'!K16","v":0},{"$f":"'Pts P2'!K16","v":0},{"$f":"'Pts P3'!K16","v":0},{"$f":"'Pts P4'!K16","v":0},null,{"$error":"#DIV/0!"},10,0,0]
["  Religion / Morale / E.P.A",10,{"$f":"'Pts P1'!K17","v":0},{"$f":"'Pts P2'!K17","v":0},{"$f":"'Pts P3'!K17","v":0},{"$f":"'Pts P4'!K17","v":0},null,{"$error":"#DIV/0!"},10,0,0]
["  Récitations et chants","Ap. *",{"$f":"'Pts P1'!K18","v":0},{"$f":"'Pts P2'!K18","v":0},{"$f":"'Pts P3'!K18","v":0},{"$f":"'Pts P4'!K18","v":0},null,null,null,null,0]
["  Ecriture","Ap. *",{"$f":"'Pts P1'!K19","v":0},{"$f":"'Pts P2'!K19","v":0},{"$f":"'Pts P3'!K19","v":0},{"$f":"'Pts P4'!K19","v":0}]
["  Ordre","Ap. *",{"$f":"'Pts P1'!K20","v":0},{"$f":"'Pts P2'!K20","v":0},{"$f":"'Pts P3'!K20","v":0},{"$f":"'Pts P4'!K20","v":0},null,null,null,null,0]
["  Soin","Ap. *",{"$f":"'Pts P1'!K21","v":0},{"$f":"'Pts P2'!K21","v":0},{"$f":"'Pts P3'!K21","v":0},{"$f":"'Pts P4'!K21","v":0},null,null,null,null,0]
["  Travail à Domicile","Ap. *",{"$f":"'Pts P1'!K22","v":0},{"$f":"'Pts P2'!K22","v":0},{"$f":"'Pts P3'!K22","v":0},{"$f":"'Pts P4'!K22","v":0}]
["  ABSENCES (en 1/2 jours)","nbr",{"$f":"'Pts P1'!K23","v":0},{"$f":"'Pts P2'!K23","v":0},{"$f":"'Pts P3'!K23","v":0},{"$f":"'Pts P4'!K23","v":0},null,{"$f":"SUM(C32:F32)","v":0},"Nbr"]
["  RETARDS","nbr",{"$f":"'Pts P1'!K24","v":0},{"$f":"'Pts P2'!K24","v":0},{"$f":"'Pts P3'!K24","v":0},{"$f":"'Pts P4'!K24","v":0},null,{"$f":"SUM(C33:F33)","v":0},"Nbr"]
["  * TB : Très Bien, B = Bien, S = Satisfaisant, F = Faible, I = Insuffisant."]
[]
[" DECISION DU CONSEIL DE CLASSE :"]
[{"$f":"'Déc CC'!$B$2","v":0}]
["        N.B. Cette décision tient compte du travail journalier et des tests d'orientation"]
["        de fin d'année (voir explication sur le feuillet jaune ci-joint !)"]
["                  TITULAIRE :         DIRECTEUR :         PARENTS :"]
["     SIGNATURES :",null,"Alain Rensonnet"]
["Nom et prénom de l'élève :",{"$f":"'Pts P1'!$K$2","v":0}]
[]
["APPRECIATION DU COMPORTEMENT",null,"1ère période","2ème période","3 ème période","4ème période"]
[]
[" 1. Carte(s) d’honneur : jaune(s)",null,{"$f":"'Pts P1'!K25","v":0},{"$f":"'Pts P2'!K25","v":0},{"$f":"'Pts P3'!K25","v":0},{"$f":"'Pts P4'!K25","v":0},null,{"$f":"SUM(C46:F46)","v":0}]
[" 2. Carte(s) verte(s) ",null,{"$f":"'Pts P1'!K26","v":0},{"$f":"'Pts P2'!K26","v":0},{"$f":"'Pts P3'!K26","v":0},{"$f":"'Pts P4'!K26","v":0},null,{"$f":"SUM(C47:F47)","v":0}]
[" 3. Carte(s) orange(s) ",null,{"$f":"'Pts P1'!K27","v":0},{"$f":"'Pts P2'!K27","v":0},{"$f":"'Pts P3'!K27","v":0},{"$f":"'Pts P4'!K27","v":0},null,0]
[" 4. Carte(s) rouge(s) ",null,{"$f":"'Pts P1'!K28","v":0},{"$f":"'Pts P2'!K28","v":0},{"$f":"'Pts P3'!K28","v":0},{"$f":"'Pts P4'!K28","v":0},null,0]
[" 5. Carte(s) rouge(s) « Garderie »",null,{"$f":"'Pts P1'!K29","v":0},{"$f":"'Pts P2'!K29","v":0},{"$f":"'Pts P3'!K29","v":0},{"$f":"'Pts P4'!K29","v":0},null,0]
[" 6. Carte(s) rouge(s) « Tr. scolaire »",null,{"$f":"'Pts P1'!K30","v":0},{"$f":"'Pts P2'!K30","v":0},{"$f":"'Pts P3'!K30","v":0},{"$f":"'Pts P4'!K30","v":0},null,0]
[" 7. Carte(s) blanche(s) (retenues)",null,{"$f":"'Pts P1'!K31","v":0},{"$f":"'Pts P2'!K31","v":0},{"$f":"'Pts P3'!K31","v":0},{"$f":"'Pts P4'!K31","v":0},null,0]
[]
[" COMMENTAIRES et CONSEILS :"]
[" 1ère période :"]
[]
[" 2ème période :"]
[]
[" 3ème période :"]
[]
[" 4ème période :"]
[]
["                                                                Signature des parents :"]

{"sheet":"Elève (9)","index":13,"n_rows":63,"n_cols":11,"rows_kept":63,"cut":false,"hidden":false,"merged":[[59,0,59,5],[60,0,60,5],[61,0,61,5],[62,0,62,5],[53,0,53,5],[54,0,54,5],[55,0,55,5],[56,0,56,5],[57,0,57,5],[58,0,58,5],[51,0,51,1],[43,0,44,1],[43,2,44,2],[43,3,44,3],[43,4,44,4],[46,0,46,1],[47,0,47,1],[48,0,48,1],[49,0,49,1],[50,0,50,1],[43,5,44,5],[45,0,45,1],[33,7,33,8],[35,0,35,5],[36,0,36,5],[37,0,37,5],[39,0,39,5],[41,1,41,5],[20,5,21,5],[10,0,11,1],[10,2,11,2],[10,3,11,3],[10,4,11,4],[10,5,11,5],[12,1,15,1],[12,2,15,2],[12,3,15,3],[12,4,15,4],[12,5,15,5],[18,0,18,1],[20,0,21,1],[20,2,21,2],[20,3,21,3],[20,4,21,4],[2,7,3,8],[5,1,7,1],[5,2,7,2],[5,3,7,3],[5,4,7,4],[5,5,7,5],[0,1,0,5],[2,0,3,1],[2,2,3,2],[2,3,3,3],[2,4,3,4],[2,5,3,5]]}
["Nom et prénom de l'élève :",{"$f":"'Pts P1'!$L$2","v":0}]
[]
["  FRANCAIS",null,"1ère période","2ème période","3ème période","4ème période",null,"MOYENNE"]
[]
[" Savoir lire",20,{"$f":"'Pts P1'!L3","v":0},{"$f":"'Pts P2'!L3","v":0},{"$f":"'Pts P3'!L3","v":0},{"$f":"'Pts P4'!L3","v":0},null,{"$f":"K5/J5","v":{"$error":"#DIV/0!"}},20,{"$f":"COUNTIF(C5:F5,\"<>0\")","v":0},{"$f":"SUM(C5:F5)","v":0}]
[" Savoir écrire",80,{"$f":"'Pts P1'!L4","v":0},{"$f":"'Pts P2'!L4","v":0},{"$f":"'Pts P3'!L4","v":0},{"$f":"'Pts P4'!L4","v":0},null,{"$error":"#DIV/0!"},80,{"$f":"COUNTIF(C6:F6,\"<>0\")","v":0},{"$f":"SUM(C6:F6)","v":0}]
[" Savoir parler",null,null,{"$f":"'Pts P2'!D5","v":0},{"$f":"'Pts P3'!D5","v":0},{"$f":"'Pts P4'!D5","v":0},null,null,null,{"$f":"COUNTIF(C7:F7,\"<>0\")","v":1},{"$f":"SUM(C7:F7)","v":0}]
[" Savoir écouter",null,null,{"$f":"'Pts P2'!D6","v":0},{"$f":"'Pts P3'!D6","v":0},{"$f":"'Pts P4'!D6","v":0},null,null,null,{"$f":"COUNTIF(C8:F8,\"<>0\")","v":1},{"$f":"SUM(C8:F8)","v":0}]
["  TOTAL Français",100,{"$f":"'Pts P1'!L7","v":0},{"$f":"'Pts P2'!L7","v":0},{"$f":"'Pts P3'!L7","v":0},{"$f":"'Pts P4'!L7","v":0},null,{"$error":"#DIV/0!"},100,{"$f":"COUNTIF(C9:F9,\"<>0\")","v":0},{"$f":"SUM(C9:F9)","v":0}]
[]
["  MATHEMATIQUES",null,"1ère période","2ème période","3ème période","4ème période"]
[]
[" Savoir calculer",100,{"$f":"'Pts P1'!L8","v":0},{"$f":"'Pts P2'!L8","v":0},{"$f":"'Pts P3'!L8","v":0},{"$f":"'Pts P4'!L8","v":0},null,{"$f":"K13/J13","v":{"$error":"#DIV/0!"}},100,{"$f":"COUNTIF(C13:F13,\"<>0\")","v":0},{"$f":"SUM(C13:F13)","v":0}]
[" Savoir résoudre des problèmes",null,null,{"$f":"'Pts P2'!D9","v":0},{"$f":"'Pts P3'!D9","v":0},{"$f":"'Pts P4'!D9","v":0},null,null,null,{"$f":"COUNTIF(C14:F14,\"<>0\")","v":1},{"$f":"SUM(C14:F14)","v":0}]
[" Savoir mesurer",null,null,{"$f":"'Pts P2'!D10","v":0},{"$f":"'Pts P3'!D10","v":0},{"$f":"'Pts P4'!D10","v":0},null,null,null,{"$f":"COUNTIF(C15:F15,\"<>0\")","v":1},{"$f":"SUM(C15:F15)","v":0}]
[" Savoir structurer l'espace",null,null,{"$f":"'Pts P2'!D11","v":0},{"$f":"'Pts P3'!D11","v":0},{"$f":"'Pts P4'!D11","v":0},null,null,null,{"$f":"COUNTIF(C16:F16,\"<>0\")","v":1},{"$f":"SUM(C16:F16)","v":0}]
["  TOTAL Math",100,{"$f":"'Pts P1'!L12","v":0},{"$f":"'Pts P2'!L12","v":0},{"$f":"'Pts P3'!L12","v":0},{"$f":"'Pts P4'!L12","v":0},null,{"$f":"K17/J17","v":{"$error":"#DIV/0!"}},100,{"$f":"COUNTIF(C17:F17,\"<>0\")","v":0},{"$f":"SUM(C17:F17)","v":0}]
[]
["  TOTAL GÉNÉRAL                                (Français et Mathématiques) en %",null,{"$f":"'Pts P1'!$L$13","v":0},{"$f":"'Pts P2'!$L$13","v":0},{"$f":"'Pts P3'!$L$13","v":0},{"$f":"'Pts P4'!$L$13","v":0},null,{"$f":"K19/J19","v":{"$error":"#DIV/0!"}},"sur",{"$f":"COUNTIF(C19:F19,\"<>0\")","v":0},{"$f":"SUM(C19:F19)","v":0}]
[]
["  AUTRES BRANCHES",null,"1ère période","2ème période","3ème période","4ème période"]
[]
["  Eveil",20,{"$f":"'Pts P1'!L14","v":0},{"$f":"'Pts P2'!L14","v":0},{"$f":"'Pts P3'!L14","v":0},{"$f":"'Pts P4'!L14","v":0},null,{"$f":"K23/J23","v":{"$error":"#DIV/0!"}},20,{"$f":"COUNTIF(C23:F23,\"<>0\")","v":0},{"$f":"SUM(C23:F23)","v":0}]
["  Education physiaue",10,{"$f":"'Pts P1'!L15","v":0},{"$f":"'Pts P2'!L15","v":0},{"$f":"'Pts P3'!L15","v":0},{"$f":"'Pts P4'!L15","v":0},null,{"$error":"#DIV/0!"},10,0,0]
["  Education esthétique",10,{"$f":"'Pts P1'!L16","v":0},{"$f":"'Pts P2'!L16","v":0},{"$f":"'Pts P3'!L16","v":0},{"$f":"'Pts P4'!L16","v":0},null,{"$error":"#DIV/0!"},10,0,0]
["  Religion / Morale / E.P.A",10,{"$f":"'Pts P1'!L17","v":0},{"$f":"'Pts P2'!L17","v":0},{"$f":"'Pts P3'!L17","v":0},{"$f":"'Pts P4'!L17","v":0},null,{"$error":"#DIV/0!"},10,0,0]
["  Récitations et chants","Ap. *",{"$f":"'Pts P1'!L18","v":0},{"$f":"'Pts P2'!L18","v":0},{"$f":"'Pts P3'!L18","v":0},{"$f":"'Pts P4'!L18","v":0},null,null,null,null,0]
["  Ecriture","Ap. *",{"$f":"'Pts P1'!L19","v":0},{"$f":"'Pts P2'!L19","v":0},{"$f":"'Pts P3'!L19","v":0},{"$f":"'Pts P4'!L19","v":0}]
["  Ordre","Ap. *",{"$f":"'Pts P1'!L20","v":0},{"$f":"'Pts P2'!L20","v":0},{"$f":"'Pts P3'!L20","v":0},{"$f":"'Pts P4'!L20","v":0},null,null,null,null,0]
["  Soin","Ap. *",{"$f":"'Pts P1'!L21","v":0},{"$f":"'Pts P2'!L21","v":0},{"$f":"'Pts P3'!L21","v":0},{"$f":"'Pts P4'!L21","v":0},null,null,null,null,0]
["  Travail à Domicile","Ap. *",{"$f":"'Pts P1'!L22","v":0},{"$f":"'Pts P2'!L22","v":0},{"$f":"'Pts P3'!L22","v":0},{"$f":"'Pts P4'!L22","v":0}]
["  ABSENCES (en 1/2 jours)","nbr",{"$f":"'Pts P1'!L23","v":0},{"$f":"'Pts P2'!L23","v":0},{"$f":"'Pts P3'!L23","v":0},{"$f":"'Pts P4'!L23","v":0},null,{"$f":"SUM(C32:F32)","v":0},"Nbr"]
["  RETARDS","nbr",{"$f":"'Pts P1'!L24","v":0},{"$f":"'Pts P2'!L24","v":0},{"$f":"'Pts P3'!L24","v":0},{"$f":"'Pts P4'!L24","v":0},null,{"$f":"SUM(C33:F33)","v":0},"Nbr"]
["  * TB : Très Bien, B = Bien, S = Satisfaisant, F = Faible, I = Insuffisant."]
[]
[" DECISION DU CONSEIL DE CLASSE :"]
[{"$f":"'Déc CC'!$B$2","v":0}]
["        N.B. Cette décision tient compte du travail journalier et des tests d'orientation"]
["        de fin d'année (voir explication sur le feuillet jaune ci-joint !)"]
["                  TITULAIRE :         DIRECTEUR :         PARENTS :"]
["     SIGNATURES :",null,"Alain Rensonnet"]
["Nom et prénom de l'élève :",{"$f":"'Pts P1'!$L$2","v":0}]
[]
["APPRECIATION DU COMPORTEMENT",null,"1ère période","2ème période","3 ème période","4ème période"]
[]
[" 1. Carte(s) d’honneur : jaune(s)",null,{"$f":"'Pts P1'!L25","v":0},{"$f":"'Pts P2'!L25","v":0},{"$f":"'Pts P3'!L25","v":0},{"$f":"'Pts P4'!L25","v":0},null,{"$f":"SUM(C46:F46)","v":0}]
[" 2. Carte(s) verte(s) ",null,{"$f":"'Pts P1'!L26","v":0},{"$f":"'Pts P2'!L26","v":0},{"$f":"'Pts P3'!L26","v":0},{"$f":"'Pts P4'!L26","v":0},null,{"$f":"SUM(C47:F47)","v":0}]
[" 3. Carte(s) orange(s) ",null,{"$f":"'Pts P1'!L27","v":0},{"$f":"'Pts P2'!L27","v":0},{"$f":"'Pts P3'!L27","v":0},{"$f":"'Pts P4'!L27","v":0},null,0]
[" 4. Carte(s) rouge(s) ",null,{"$f":"'Pts P1'!L28","v":0},{"$f":"'Pts P2'!L28","v":0},{"$f":"'Pts P3'!L28","v":0},{"$f":"'Pts P4'!L28","v":0},null,0]
[" 5. Carte(s) rouge(s) « Garderie »",null,{"$f":"'Pts P1'!L29","v":0},{"$f":"'Pts P2'!L29","v":0},{"$f":"'Pts P3'!L29","v":0},{"$f":"'Pts P4'!L29","v":0},null,0]
[" 6. Carte(s) rouge(s) « Tr. scolaire »",null,{"$f":"'Pts P1'!L30","v":0},{"$f":"'Pts P2'!L30","v":0},{"$f":"'Pts P3'!L30","v":0},{"$f":"'Pts P4'!L30","v":0},null,0]
[" 7. Carte(s) blanche(s) (retenues)",null,{"$f":"'Pts P1'!L31","v":0},{"$f":"'Pts P2'!L31","v":0},{"$f":"'Pts P3'!L31","v":0},{"$f":"'Pts P4'!L31","v":0},null,0]
[]
[" COMMENTAIRES et CONSEILS :"]
[" 1ère période :"]
[]
[" 2ème période :"]
[]
[" 3ème période :"]
[]
[" 4ème période :"]
[]
["                                                                Signature des parents :"]

{"sheet":"Elève (10)","index":14,"n_rows":63,"n_cols":11,"rows_kept":63,"cut":false,"hidden":false,"merged":[[59,0,59,5],[60,0,60,5],[61,0,61,5],[62,0,62,5],[53,0,53,5],[54,0,54,5],[55,0,55,5],[56,0,56,5],[57,0,57,5],[58,0,58,5],[51,0,51,1],[43,0,44,1],[43,2,44,2],[43,3,44,3],[43,4,44,4],[46,0,46,1],[47,0,47,1],[48,0,48,1],[49,0,49,1],[50,0,50,1],[43,5,44,5],[45,0,45,1],[33,7,33,8],[35,0,35,5],[36,0,36,5],[37,0,37,5],[39,0,39,5],[41,1,41,5],[20,5,21,5],[10,0,11,1],[10,2,11,2],[10,3,11,3],[10,4,11,4],[10,5,11,5],[12,1,15,1],[12,2,15,2],[12,3,15,3],[12,4,15,4],[12,5,15,5],[18,0,18,1],[20,0,21,1],[20,2,21,2],[20,3,21,3],[20,4,21,4],[2,7,3,8],[5,1,7,1],[5,2,7,2],[5,3,7,3],[5,4,7,4],[5,5,7,5],[0,1,0,5],[2,0,3,1],[2,2,3,2],[2,3,3,3],[2,4,3,4],[2,5,3,5]]}
["Nom et prénom de l'élève :",{"$f":"'Pts P1'!$M$2","v":0}]
[]
["  FRANCAIS",null,"1ère période","2ème période","3ème période","4ème période",null,"MOYENNE"]
[]
[" Savoir lire",20,{"$f":"'Pts P1'!M3","v":0},{"$f":"'Pts P2'!M3","v":0},{"$f":"'Pts P3'!M3","v":0},{"$f":"'Pts P4'!M3","v":0},null,{"$f":"K5/J5","v":{"$error":"#DIV/0!"}},20,{"$f":"COUNTIF(C5:F5,\"<>0\")","v":0},{"$f":"SUM(C5:F5)","v":0}]
[" Savoir écrire",80,{"$f":"'Pts P1'!M4","v":0},{"$f":"'Pts P2'!M4","v":0},{"$f":"'Pts P3'!M4","v":0},{"$f":"'Pts P4'!M4","v":0},null,{"$error":"#DIV/0!"},80,{"$f":"COUNTIF(C6:F6,\"<>0\")","v":0},{"$f":"SUM(C6:F6)","v":0}]
[" Savoir parler",null,null,{"$f":"'Pts P2'!D5","v":0},{"$f":"'Pts P3'!D5","v":0},{"$f":"'Pts P4'!D5","v":0},null,null,null,{"$f":"COUNTIF(C7:F7,\"<>0\")","v":1},{"$f":"SUM(C7:F7)","v":0}]
[" Savoir écouter",null,null,{"$f":"'Pts P2'!D6","v":0},{"$f":"'Pts P3'!D6","v":0},{"$f":"'Pts P4'!D6","v":0},null,null,null,{"$f":"COUNTIF(C8:F8,\"<>0\")","v":1},{"$f":"SUM(C8:F8)","v":0}]
["  TOTAL Français",100,{"$f":"'Pts P1'!M7","v":0},{"$f":"'Pts P2'!M7","v":0},{"$f":"'Pts P3'!M7","v":0},{"$f":"'Pts P4'!M7","v":0},null,{"$error":"#DIV/0!"},100,{"$f":"COUNTIF(C9:F9,\"<>0\")","v":0},{"$f":"SUM(C9:F9)","v":0}]
[]
["  MATHEMATIQUES",null,"1ère période","2ème période","3ème période","4ème période"]
[]
[" Savoir calculer",100,{"$f":"'Pts P1'!M8","v":0},{"$f":"'Pts P2'!M8","v":0},{"$f":"'Pts P3'!M8","v":0},{"$f":"'Pts P4'!M8","v":0},null,{"$f":"K13/J13","v":{"$error":"#DIV/0!"}},100,{"$f":"COUNTIF(C13:F13,\"<>0\")","v":0},{"$f":"SUM(C13:F13)","v":0}]
[" Savoir résoudre des problèmes",null,null,{"$f":"'Pts P2'!D9","v":0},{"$f":"'Pts P3'!D9","v":0},{"$f":"'Pts P4'!D9","v":0},null,null,null,{"$f":"COUNTIF(C14:F14,\"<>0\")","v":1},{"$f":"SUM(C14:F14)","v":0}]
[" Savoir mesurer",null,null,{"$f":"'Pts P2'!D10","v":0},{"$f":"'Pts P3'!D10","v":0},{"$f":"'Pts P4'!D10","v":0},null,null,null,{"$f":"COUNTIF(C15:F15,\"<>0\")","v":1},{"$f":"SUM(C15:F15)","v":0}]
[" Savoir structurer l'espace",null,null,{"$f":"'Pts P2'!D11","v":0},{"$f":"'Pts P3'!D11","v":0},{"$f":"'Pts P4'!D11","v":0},null,null,null,{"$f":"COUNTIF(C16:F16,\"<>0\")","v":1},{"$f":"SUM(C16:F16)","v":0}]
["  TOTAL Math",100,{"$f":"'Pts P1'!M12","v":0},{"$f":"'Pts P2'!M12","v":0},{"$f":"'Pts P3'!M12","v":0},{"$f":"'Pts P4'!M12","v":0},null,{"$f":"K17/J17","v":{"$error":"#DIV/0!"}},100,{"$f":"COUNTIF(C17:F17,\"<>0\")","v":0},{"$f":"SUM(C17:F17)","v":0}]
[]
["  TOTAL GÉNÉRAL                                (Français et Mathématiques) en %",null,{"$f":"'Pts P1'!$M$13","v":0},{"$f":"'Pts P2'!$M$13","v":0},{"$f":"'Pts P3'!$M$13","v":0},{"$f":"'Pts P4'!$M$13","v":0},null,{"$f":"K19/J19","v":{"$error":"#DIV/0!"}},"sur",{"$f":"COUNTIF(C19:F19,\"<>0\")","v":0},{"$f":"SUM(C19:F19)","v":0}]
[]
["  AUTRES BRANCHES",null,"1ère période","2ème période","3ème période","4ème période"]
[]
["  Eveil",20,{"$f":"'Pts P1'!M14","v":0},{"$f":"'Pts P2'!M14","v":0},{"$f":"'Pts P3'!M14","v":0},{"$f":"'Pts P4'!M14","v":0},null,{"$f":"K23/J23","v":{"$error":"#DIV/0!"}},20,{"$f":"COUNTIF(C23:F23,\"<>0\")","v":0},{"$f":"SUM(C23:F23)","v":0}]
["  Education physiaue",10,{"$f":"'Pts P1'!M15","v":0},{"$f":"'Pts P2'!M15","v":0},{"$f":"'Pts P3'!M15","v":0},{"$f":"'Pts P4'!M15","v":0},null,{"$error":"#DIV/0!"},10,0,0]
["  Education esthétique",10,{"$f":"'Pts P1'!M16","v":0},{"$f":"'Pts P2'!M16","v":0},{"$f":"'Pts P3'!M16","v":0},{"$f":"'Pts P4'!M16","v":0},null,{"$error":"#DIV/0!"},10,0,0]
["  Religion / Morale / E.P.A",10,{"$f":"'Pts P1'!M17","v":0},{"$f":"'Pts P2'!M17","v":0},{"$f":"'Pts P3'!M17","v":0},{"$f":"'Pts P4'!M17","v":0},null,{"$error":"#DIV/0!"},10,0,0]
["  Récitations et chants","Ap. *",{"$f":"'Pts P1'!M18","v":0},{"$f":"'Pts P2'!M18","v":0},{"$f":"'Pts P3'!M18","v":0},{"$f":"'Pts P4'!M18","v":0},null,null,null,null,0]
["  Ecriture","Ap. *",{"$f":"'Pts P1'!M19","v":0},{"$f":"'Pts P2'!M19","v":0},{"$f":"'Pts P3'!M19","v":0},{"$f":"'Pts P4'!M19","v":0}]
["  Ordre","Ap. *",{"$f":"'Pts P1'!M20","v":0},{"$f":"'Pts P2'!M20","v":0},{"$f":"'Pts P3'!M20","v":0},{"$f":"'Pts P4'!M20","v":0},null,null,null,null,0]
["  Soin","Ap. *",{"$f":"'Pts P1'!M21","v":0},{"$f":"'Pts P2'!M21","v":0},{"$f":"'Pts P3'!M21","v":0},{"$f":"'Pts P4'!M21","v":0},null,null,null,null,0]
["  Travail à Domicile","Ap. *",{"$f":"'Pts P1'!M22","v":0},{"$f":"'Pts P2'!M22","v":0},{"$f":"'Pts P3'!M22","v":0},{"$f":"'Pts P4'!M22","v":0}]
["  ABSENCES (en 1/2 jours)","nbr",{"$f":"'Pts P1'!M23","v":0},{"$f":"'Pts P2'!M23","v":0},{"$f":"'Pts P3'!M23","v":0},{"$f":"'Pts P4'!M23","v":0},null,{"$f":"SUM(C32:F32)","v":0},"Nbr"]
["  RETARDS","nbr",{"$f":"'Pts P1'!M24","v":0},{"$f":"'Pts P2'!M24","v":0},{"$f":"'Pts P3'!M24","v":0},{"$f":"'Pts P4'!M24","v":0},null,{"$f":"SUM(C33:F33)","v":0},"Nbr"]
["  * TB : Très Bien, B = Bien, S = Satisfaisant, F = Faible, I = Insuffisant."]
[]
[" DECISION DU CONSEIL DE CLASSE :"]
[{"$f":"'Déc CC'!$B$2","v":0}]
["        N.B. Cette décision tient compte du travail journalier et des tests d'orientation"]
["        de fin d'année (voir explication sur le feuillet jaune ci-joint !)"]
["                  TITULAIRE :         DIRECTEUR :         PARENTS :"]
["     SIGNATURES :",null,"Alain Rensonnet"]
["Nom et prénom de l'élève :",{"$f":"'Pts P1'!$M$2","v":0}]
[]
["APPRECIATION DU COMPORTEMENT",null,"1ère période","2ème période","3 ème période","4ème période"]
[]
[" 1. Carte(s) d’honneur : jaune(s)",null,{"$f":"'Pts P1'!M25","v":0},{"$f":"'Pts P2'!M25","v":0},{"$f":"'Pts P3'!M25","v":0},{"$f":"'Pts P4'!M25","v":0},null,{"$f":"SUM(C46:F46)","v":0}]
[" 2. Carte(s) verte(s) ",null,{"$f":"'Pts P1'!M26","v":0},{"$f":"'Pts P2'!M26","v":0},{"$f":"'Pts P3'!M26","v":0},{"$f":"'Pts P4'!M26","v":0},null,{"$f":"SUM(C47:F47)","v":0}]
[" 3. Carte(s) orange(s) ",null,{"$f":"'Pts P1'!M27","v":0},{"$f":"'Pts P2'!M27","v":0},{"$f":"'Pts P3'!M27","v":0},{"$f":"'Pts P4'!M27","v":0},null,0]
[" 4. Carte(s) rouge(s) ",null,{"$f":"'Pts P1'!M28","v":0},{"$f":"'Pts P2'!M28","v":0},{"$f":"'Pts P3'!M28","v":0},{"$f":"'Pts P4'!M28","v":0},null,0]
[" 5. Carte(s) rouge(s) « Garderie »",null,{"$f":"'Pts P1'!M29","v":0},{"$f":"'Pts P2'!M29","v":0},{"$f":"'Pts P3'!M29","v":0},{"$f":"'Pts P4'!M29","v":0},null,0]
[" 6. Carte(s) rouge(s) « Tr. scolaire »",null,{"$f":"'Pts P1'!M30","v":0},{"$f":"'Pts P2'!M30","v":0},{"$f":"'Pts P3'!M30","v":0},{"$f":"'Pts P4'!M30","v":0},null,0]
[" 7. Carte(s) blanche(s) (retenues)",null,{"$f":"'Pts P1'!M31","v":0},{"$f":"'Pts P2'!M31","v":0},{"$f":"'Pts P3'!M31","v":0},{"$f":"'Pts P4'!M31","v":0},null,0]
[]
[" COMMENTAIRES et CONSEILS :"]
[" 1ère période :"]
[]
[" 2ème période :"]
[]
[" 3ème période :"]
[]
[" 4ème période :"]
[]
["                                                                Signature des parents :"]

{"sheet":"Elève (11)","index":15,"n_rows":63,"n_cols":11,"rows_kept":63,"cut":false,"hidden":false,"merged":[[59,0,59,5],[60,0,60,5],[61,0,61,5],[62,0,62,5],[53,0,53,5],[54,0,54,5],[55,0,55,5],[56,0,56,5],[57,0,57,5],[58,0,58,5],[51,0,51,1],[43,0,44,1],[43,2,44,2],[43,3,44,3],[43,4,44,4],[46,0,46,1],[47,0,47,1],[48,0,48,1],[49,0,49,1],[50,0,50,1],[43,5,44,5],[45,0,45,1],[33,7,33,8],[35,0,35,5],[36,0,36,5],[37,0,37,5],[39,0,39,5],[41,1,41,5],[20,5,21,5],[10,0,11,1],[10,2,11,2],[10,3,11,3],[10,4,11,4],[10,5,11,5],[12,1,15,1],[12,2,15,2],[12,3,15,3],[12,4,15,4],[12,5,15,5],[18,0,18,1],[20,0,21,1],[20,2,21,2],[20,3,21,3],[20,4,21,4],[2,7,3,8],[5,1,7,1],[5,2,7,2],[5,3,7,3],[5,4,7,4],[5,5,7,5],[0,1,0,5],[2,0,3,1],[2,2,3,2],[2,3,3,3],[2,4,3,4],[2,5,3,5]]}
["Nom et prénom de l'élève :",{"$f":"'Pts P1'!$N$2","v":0}]
[]
["  FRANCAIS",null,"1ère période","2ème période","3ème période","4ème période",null,"MOYENNE"]
[]
[" Savoir lire",20,{"$f":"'Pts P1'!N3","v":0},{"$f":"'Pts P2'!N3","v":0},{"$f":"'Pts P3'!N3","v":0},{"$f":"'Pts P4'!N3","v":0},null,{"$f":"K5/J5","v":{"$error":"#DIV/0!"}},20,{"$f":"COUNTIF(C5:F5,\"<>0\")","v":0},{"$f":"SUM(C5:F5)","v":0}]
[" Savoir écrire",80,{"$f":"'Pts P1'!N4","v":0},{"$f":"'Pts P2'!N4","v":0},{"$f":"'Pts P3'!N4","v":0},{"$f":"'Pts P4'!N4","v":0},null,{"$error":"#DIV/0!"},80,{"$f":"COUNTIF(C6:F6,\"<>0\")","v":0},{"$f":"SUM(C6:F6)","v":0}]
[" Savoir parler",null,null,{"$f":"'Pts P2'!D5","v":0},{"$f":"'Pts P3'!D5","v":0},{"$f":"'Pts P4'!D5","v":0},null,null,null,{"$f":"COUNTIF(C7:F7,\"<>0\")","v":1},{"$f":"SUM(C7:F7)","v":0}]
[" Savoir écouter",null,null,{"$f":"'Pts P2'!D6","v":0},{"$f":"'Pts P3'!D6","v":0},{"$f":"'Pts P4'!D6","v":0},null,null,null,{"$f":"COUNTIF(C8:F8,\"<>0\")","v":1},{"$f":"SUM(C8:F8)","v":0}]
["  TOTAL Français",100,{"$f":"'Pts P1'!N7","v":0},{"$f":"'Pts P2'!N7","v":0},{"$f":"'Pts P3'!N7","v":0},{"$f":"'Pts P4'!N7","v":0},null,{"$error":"#DIV/0!"},100,{"$f":"COUNTIF(C9:F9,\"<>0\")","v":0},{"$f":"SUM(C9:F9)","v":0}]
[]
["  MATHEMATIQUES",null,"1ère période","2ème période","3ème période","4ème période"]
[]
[" Savoir calculer",100,{"$f":"'Pts P1'!N8","v":0},{"$f":"'Pts P2'!N8","v":0},{"$f":"'Pts P3'!N8","v":0},{"$f":"'Pts P4'!N8","v":0},null,{"$f":"K13/J13","v":{"$error":"#DIV/0!"}},100,{"$f":"COUNTIF(C13:F13,\"<>0\")","v":0},{"$f":"SUM(C13:F13)","v":0}]
[" Savoir résoudre des problèmes",null,null,{"$f":"'Pts P2'!D9","v":0},{"$f":"'Pts P3'!D9","v":0},{"$f":"'Pts P4'!D9","v":0},null,null,null,{"$f":"COUNTIF(C14:F14,\"<>0\")","v":1},{"$f":"SUM(C14:F14)","v":0}]
[" Savoir mesurer",null,null,{"$f":"'Pts P2'!D10","v":0},{"$f":"'Pts P3'!D10","v":0},{"$f":"'Pts P4'!D10","v":0},null,null,null,{"$f":"COUNTIF(C15:F15,\"<>0\")","v":1},{"$f":"SUM(C15:F15)","v":0}]
[" Savoir structurer l'espace",null,null,{"$f":"'Pts P2'!D11","v":0},{"$f":"'Pts P3'!D11","v":0},{"$f":"'Pts P4'!D11","v":0},null,null,null,{"$f":"COUNTIF(C16:F16,\"<>0\")","v":1},{"$f":"SUM(C16:F16)","v":0}]
["  TOTAL Math",100,{"$f":"'Pts P1'!N12","v":0},{"$f":"'Pts P2'!N12","v":0},{"$f":"'Pts P3'!N12","v":0},{"$f":"'Pts P4'!N12","v":0},null,{"$f":"K17/J17","v":{"$error":"#DIV/0!"}},100,{"$f":"COUNTIF(C17:F17,\"<>0\")","v":0},{"$f":"SUM(C17:F17)","v":0}]
[]
["  TOTAL GÉNÉRAL                                (Français et Mathématiques) en %",null,{"$f":"'Pts P1'!$N$13","v":0},{"$f":"'Pts P2'!$N$13","v":0},{"$f":"'Pts P3'!$N$13","v":0},{"$f":"'Pts P4'!$N$13","v":0},null,{"$f":"K19/J19","v":{"$error":"#DIV/0!"}},"sur",{"$f":"COUNTIF(C19:F19,\"<>0\")","v":0},{"$f":"SUM(C19:F19)","v":0}]
[]
["  AUTRES BRANCHES",null,"1ère période","2ème période","3ème période","4ème période"]
[]
["  Eveil",20,{"$f":"'Pts P1'!N14","v":0},{"$f":"'Pts P2'!N14","v":0},{"$f":"'Pts P3'!N14","v":0},{"$f":"'Pts P4'!N14","v":0},null,{"$f":"K23/J23","v":{"$error":"#DIV/0!"}},20,{"$f":"COUNTIF(C23:F23,\"<>0\")","v":0},{"$f":"SUM(C23:F23)","v":0}]
["  Education physiaue",10,{"$f":"'Pts P1'!N15","v":0},{"$f":"'Pts P2'!N15","v":0},{"$f":"'Pts P3'!N15","v":0},{"$f":"'Pts P4'!N15","v":0},null,{"$error":"#DIV/0!"},10,0,0]
["  Education esthétique",10,{"$f":"'Pts P1'!N16","v":0},{"$f":"'Pts P2'!N16","v":0},{"$f":"'Pts P3'!N16","v":0},{"$f":"'Pts P4'!N16","v":0},null,{"$error":"#DIV/0!"},10,0,0]
["  Religion / Morale / E.P.A",10,{"$f":"'Pts P1'!N17","v":0},{"$f":"'Pts P2'!N17","v":0},{"$f":"'Pts P3'!N17","v":0},{"$f":"'Pts P4'!N17","v":0},null,{"$error":"#DIV/0!"},10,0,0]
["  Récitations et chants","Ap. *",{"$f":"'Pts P1'!N18","v":0},{"$f":"'Pts P2'!N18","v":0},{"$f":"'Pts P3'!N18","v":0},{"$f":"'Pts P4'!N18","v":0},null,null,null,null,0]
["  Ecriture","Ap. *",{"$f":"'Pts P1'!N19","v":0},{"$f":"'Pts P2'!N19","v":0},{"$f":"'Pts P3'!N19","v":0},{"$f":"'Pts P4'!N19","v":0}]
["  Ordre","Ap. *",{"$f":"'Pts P1'!N20","v":0},{"$f":"'Pts P2'!N20","v":0},{"$f":"'Pts P3'!N20","v":0},{"$f":"'Pts P4'!N20","v":0},null,null,null,null,0]
["  Soin","Ap. *",{"$f":"'Pts P1'!N21","v":0},{"$f":"'Pts P2'!N21","v":0},{"$f":"'Pts P3'!N21","v":0},{"$f":"'Pts P4'!N21","v":0},null,null,null,null,0]
["  Travail à Domicile","Ap. *",{"$f":"'Pts P1'!N22","v":0},{"$f":"'Pts P2'!N22","v":0},{"$f":"'Pts P3'!N22","v":0},{"$f":"'Pts P4'!N22","v":0}]
["  ABSENCES (en 1/2 jours)","nbr",{"$f":"'Pts P1'!N23","v":0},{"$f":"'Pts P2'!N23","v":0},{"$f":"'Pts P3'!N23","v":0},{"$f":"'Pts P4'!N23","v":0},null,{"$f":"SUM(C32:F32)","v":0},"Nbr"]
["  RETARDS","nbr",{"$f":"'Pts P1'!N24","v":0},{"$f":"'Pts P2'!N24","v":0},{"$f":"'Pts P3'!N24","v":0},{"$f":"'Pts P4'!N24","v":0},null,{"$f":"SUM(C33:F33)","v":0},"Nbr"]
["  * TB : Très Bien, B = Bien, S = Satisfaisant, F = Faible, I = Insuffisant."]
[]
[" DECISION DU CONSEIL DE CLASSE :"]
[{"$f":"'Déc CC'!$B$2","v":0}]
["        N.B. Cette décision tient compte du travail journalier et des tests d'orientation"]
["        de fin d'année (voir explication sur le feuillet jaune ci-joint !)"]
["                  TITULAIRE :         DIRECTEUR :         PARENTS :"]
["     SIGNATURES :",null,"Alain Rensonnet"]
["Nom et prénom de l'élève :",{"$f":"'Pts P1'!$N$2","v":0}]
[]
["APPRECIATION DU COMPORTEMENT",null,"1ère période","2ème période","3 ème période","4ème période"]
[]
[" 1. Carte(s) d’honneur : jaune(s)",null,{"$f":"'Pts P1'!N25","v":0},{"$f":"'Pts P2'!N25","v":0},{"$f":"'Pts P3'!N25","v":0},{"$f":"'Pts P4'!N25","v":0},null,{"$f":"SUM(C46:F46)","v":0}]
[" 2. Carte(s) verte(s) ",null,{"$f":"'Pts P1'!N26","v":0},{"$f":"'Pts P2'!N26","v":0},{"$f":"'Pts P3'!N26","v":0},{"$f":"'Pts P4'!N26","v":0},null,{"$f":"SUM(C47:F47)","v":0}]
[" 3. Carte(s) orange(s) ",null,{"$f":"'Pts P1'!N27","v":0},{"$f":"'Pts P2'!N27","v":0},{"$f":"'Pts P3'!N27","v":0},{"$f":"'Pts P4'!N27","v":0},null,0]
[" 4. Carte(s) rouge(s) ",null,{"$f":"'Pts P1'!N28","v":0},{"$f":"'Pts P2'!N28","v":0},{"$f":"'Pts P3'!N28","v":0},{"$f":"'Pts P4'!N28","v":0},null,0]
[" 5. Carte(s) rouge(s) « Garderie »",null,{"$f":"'Pts P1'!N29","v":0},{"$f":"'Pts P2'!N29","v":0},{"$f":"'Pts P3'!N29","v":0},{"$f":"'Pts P4'!N29","v":0},null,0]
[" 6. Carte(s) rouge(s) « Tr. scolaire »",null,{"$f":"'Pts P1'!N30","v":0},{"$f":"'Pts P2'!N30","v":0},{"$f":"'Pts P3'!N30","v":0},{"$f":"'Pts P4'!N30","v":0},null,0]
[" 7. Carte(s) blanche(s) (retenues)",null,{"$f":"'Pts P1'!N31","v":0},{"$f":"'Pts P2'!N31","v":0},{"$f":"'Pts P3'!N31","v":0},{"$f":"'Pts P4'!N31","v":0},null,0]
[]
[" COMMENTAIRES et CONSEILS :"]
[" 1ère période :"]
[]
[" 2ème période :"]
[]
[" 3ème période :"]
[]
[" 4ème période :"]
[]
["                                                                Signature des parents :"]

{"sheet":"Elève (12)","index":16,"n_rows":63,"n_cols":11,"rows_kept":63,"cut":false,"hidden":false,"merged":[[59,0,59,5],[60,0,60,5],[61,0,61,5],[62,0,62,5],[53,0,53,5],[54,0,54,5],[55,0,55,5],[56,0,56,5],[57,0,57,5],[58,0,58,5],[51,0,51,1],[43,0,44,1],[43,2,44,2],[43,3,44,3],[43,4,44,4],[46,0,46,1],[47,0,47,1],[48,0,48,1],[49,0,49,1],[50,0,50,1],[43,5,44,5],[45,0,45,1],[33,7,33,8],[35,0,35,5],[36,0,36,5],[37,0,37,5],[39,0,39,5],[41,1,41,5],[20,5,21,5],[10,0,11,1],[10,2,11,2],[10,3,11,3],[10,4,11,4],[10,5,11,5],[12,1,15,1],[12,2,15,2],[12,3,15,3],[12,4,15,4],[12,5,15,5],[18,0,18,1],[20,0,21,1],[20,2,21,2],[20,3,21,3],[20,4,21,4],[2,7,3,8],[5,1,7,1],[5,2,7,2],[5,3,7,3],[5,4,7,4],[5,5,7,5],[0,1,0,5],[2,0,3,1],[2,2,3,2],[2,3,3,3],[2,4,3,4],[2,5,3,5]]}
["Nom et prénom de l'élève :",{"$f":"'Pts P1'!$O$2","v":0}]
[]
["  FRANCAIS",null,"1ère période","2ème période","3ème période","4ème période",null,"MOYENNE"]
[]
[" Savoir lire",20,{"$f":"'Pts P1'!O3","v":0},{"$f":"'Pts P2'!O3","v":0},{"$f":"'Pts P3'!O3","v":0},{"$f":"'Pts P4'!O3","v":0},null,{"$f":"K5/J5","v":{"$error":"#DIV/0!"}},20,{"$f":"COUNTIF(C5:F5,\"<>0\")","v":0},{"$f":"SUM(C5:F5)","v":0}]
[" Savoir écrire",80,{"$f":"'Pts P1'!O4","v":0},{"$f":"'Pts P2'!O4","v":0},{"$f":"'Pts P3'!O4","v":0},{"$f":"'Pts P4'!O4","v":0},null,{"$error":"#DIV/0!"},80,{"$f":"COUNTIF(C6:F6,\"<>0\")","v":0},{"$f":"SUM(C6:F6)","v":0}]
[" Savoir parler",null,null,{"$f":"'Pts P2'!D5","v":0},{"$f":"'Pts P3'!D5","v":0},{"$f":"'Pts P4'!D5","v":0},null,null,null,{"$f":"COUNTIF(C7:F7,\"<>0\")","v":1},{"$f":"SUM(C7:F7)","v":0}]
[" Savoir écouter",null,null,{"$f":"'Pts P2'!D6","v":0},{"$f":"'Pts P3'!D6","v":0},{"$f":"'Pts P4'!D6","v":0},null,null,null,{"$f":"COUNTIF(C8:F8,\"<>0\")","v":1},{"$f":"SUM(C8:F8)","v":0}]
["  TOTAL Français",100,{"$f":"'Pts P1'!O7","v":0},{"$f":"'Pts P2'!O7","v":0},{"$f":"'Pts P3'!O7","v":0},{"$f":"'Pts P4'!O7","v":0},null,{"$error":"#DIV/0!"},100,{"$f":"COUNTIF(C9:F9,\"<>0\")","v":0},{"$f":"SUM(C9:F9)","v":0}]
[]
["  MATHEMATIQUES",null,"1ère période","2ème période","3ème période","4ème période"]
[]
[" Savoir calculer",100,{"$f":"'Pts P1'!O8","v":0},{"$f":"'Pts P2'!O8","v":0},{"$f":"'Pts P3'!O8","v":0},{"$f":"'Pts P4'!O8","v":0},null,{"$f":"K13/J13","v":{"$error":"#DIV/0!"}},100,{"$f":"COUNTIF(C13:F13,\"<>0\")","v":0},{"$f":"SUM(C13:F13)","v":0}]
[" Savoir résoudre des problèmes",null,null,{"$f":"'Pts P2'!D9","v":0},{"$f":"'Pts P3'!D9","v":0},{"$f":"'Pts P4'!D9","v":0},null,null,null,{"$f":"COUNTIF(C14:F14,\"<>0\")","v":1},{"$f":"SUM(C14:F14)","v":0}]
[" Savoir mesurer",null,null,{"$f":"'Pts P2'!D10","v":0},{"$f":"'Pts P3'!D10","v":0},{"$f":"'Pts P4'!D10","v":0},null,null,null,{"$f":"COUNTIF(C15:F15,\"<>0\")","v":1},{"$f":"SUM(C15:F15)","v":0}]
[" Savoir structurer l'espace",null,null,{"$f":"'Pts P2'!D11","v":0},{"$f":"'Pts P3'!D11","v":0},{"$f":"'Pts P4'!D11","v":0},null,null,null,{"$f":"COUNTIF(C16:F16,\"<>0\")","v":1},{"$f":"SUM(C16:F16)","v":0}]
["  TOTAL Math",100,{"$f":"'Pts P1'!O12","v":0},{"$f":"'Pts P2'!O12","v":0},{"$f":"'Pts P3'!O12","v":0},{"$f":"'Pts P4'!O12","v":0},null,{"$f":"K17/J17","v":{"$error":"#DIV/0!"}},100,{"$f":"COUNTIF(C17:F17,\"<>0\")","v":0},{"$f":"SUM(C17:F17)","v":0}]
[]
["  TOTAL GÉNÉRAL                                (Français et Mathématiques) en %",null,{"$f":"'Pts P1'!$O$13","v":0},{"$f":"'Pts P2'!$O$13","v":0},{"$f":"'Pts P3'!$O$13","v":0},{"$f":"'Pts P4'!$O$13","v":0},null,{"$f":"K19/J19","v":{"$error":"#DIV/0!"}},"sur",{"$f":"COUNTIF(C19:F19,\"<>0\")","v":0},{"$f":"SUM(C19:F19)","v":0}]
[]
["  AUTRES BRANCHES",null,"1ère période","2ème période","3ème période","4ème période"]
[]
["  Eveil",20,{"$f":"'Pts P1'!O14","v":0},{"$f":"'Pts P2'!O14","v":0},{"$f":"'Pts P3'!O14","v":0},{"$f":"'Pts P4'!O14","v":0},null,{"$f":"K23/J23","v":{"$error":"#DIV/0!"}},20,{"$f":"COUNTIF(C23:F23,\"<>0\")","v":0},{"$f":"SUM(C23:F23)","v":0}]
["  Education physiaue",10,{"$f":"'Pts P1'!O15","v":0},{"$f":"'Pts P2'!O15","v":0},{"$f":"'Pts P3'!O15","v":0},{"$f":"'Pts P4'!O15","v":0},null,{"$error":"#DIV/0!"},10,0,0]
["  Education esthétique",10,{"$f":"'Pts P1'!O16","v":0},{"$f":"'Pts P2'!O16","v":0},{"$f":"'Pts P3'!O16","v":0},{"$f":"'Pts P4'!O16","v":0},null,{"$error":"#DIV/0!"},10,0,0]
["  Religion / Morale / E.P.A",10,{"$f":"'Pts P1'!O17","v":0},{"$f":"'Pts P2'!O17","v":0},{"$f":"'Pts P3'!O17","v":0},{"$f":"'Pts P4'!O17","v":0},null,{"$error":"#DIV/0!"},10,0,0]
["  Récitations et chants","Ap. *",{"$f":"'Pts P1'!O18","v":0},{"$f":"'Pts P2'!O18","v":0},{"$f":"'Pts P3'!O18","v":0},{"$f":"'Pts P4'!O18","v":0},null,null,null,null,0]
["  Ecriture","Ap. *",{"$f":"'Pts P1'!O19","v":0},{"$f":"'Pts P2'!O19","v":0},{"$f":"'Pts P3'!O19","v":0},{"$f":"'Pts P4'!O19","v":0}]
["  Ordre","Ap. *",{"$f":"'Pts P1'!O20","v":0},{"$f":"'Pts P2'!O20","v":0},{"$f":"'Pts P3'!O20","v":0},{"$f":"'Pts P4'!O20","v":0},null,null,null,null,0]
["  Soin","Ap. *",{"$f":"'Pts P1'!O21","v":0},{"$f":"'Pts P2'!O21","v":0},{"$f":"'Pts P3'!O21","v":0},{"$f":"'Pts P4'!O21","v":0},null,null,null,null,0]
["  Travail à Domicile","Ap. *",{"$f":"'Pts P1'!O22","v":0},{"$f":"'Pts P2'!O22","v":0},{"$f":"'Pts P3'!O22","v":0},{"$f":"'Pts P4'!O22","v":0}]
["  ABSENCES (en 1/2 jours)","nbr",{"$f":"'Pts P1'!O23","v":0},{"$f":"'Pts P2'!O23","v":0},{"$f":"'Pts P3'!O23","v":0},{"$f":"'Pts P4'!O23","v":0},null,{"$f":"SUM(C32:F32)","v":0},"Nbr"]
["  RETARDS","nbr",{"$f":"'Pts P1'!O24","v":0},{"$f":"'Pts P2'!O24","v":0},{"$f":"'Pts P3'!O24","v":0},{"$f":"'Pts P4'!O24","v":0},null,{"$f":"SUM(C33:F33)","v":0},"Nbr"]
["  * TB : Très Bien, B = Bien, S = Satisfaisant, F = Faible, I = Insuffisant."]
[]
[" DECISION DU CONSEIL DE CLASSE :"]
[{"$f":"'Déc CC'!$B$2","v":0}]
["        N.B. Cette décision tient compte du travail journalier et des tests d'orientation"]
["        de fin d'année (voir explication sur le feuillet jaune ci-joint !)"]
["                  TITULAIRE :         DIRECTEUR :         PARENTS :"]
["     SIGNATURES :",null,"Alain Rensonnet"]
["Nom et prénom de l'élève :",{"$f":"'Pts P1'!$O$2","v":0}]
[]
["APPRECIATION DU COMPORTEMENT",null,"1ère période","2ème période","3 ème période","4ème période"]
[]
[" 1. Carte(s) d’honneur : jaune(s)",null,{"$f":"'Pts P1'!O25","v":0},{"$f":"'Pts P2'!O25","v":0},{"$f":"'Pts P3'!O25","v":0},{"$f":"'Pts P4'!O25","v":0},null,{"$f":"SUM(C46:F46)","v":0}]
[" 2. Carte(s) verte(s) ",null,{"$f":"'Pts P1'!O26","v":0},{"$f":"'Pts P2'!O26","v":0},{"$f":"'Pts P3'!O26","v":0},{"$f":"'Pts P4'!O26","v":0},null,{"$f":"SUM(C47:F47)","v":0}]
[" 3. Carte(s) orange(s) ",null,{"$f":"'Pts P1'!O27","v":0},{"$f":"'Pts P2'!O27","v":0},{"$f":"'Pts P3'!O27","v":0},{"$f":"'Pts P4'!O27","v":0},null,0]
[" 4. Carte(s) rouge(s) ",null,{"$f":"'Pts P1'!O28","v":0},{"$f":"'Pts P2'!O28","v":0},{"$f":"'Pts P3'!O28","v":0},{"$f":"'Pts P4'!O28","v":0},null,0]
[" 5. Carte(s) rouge(s) « Garderie »",null,{"$f":"'Pts P1'!O29","v":0},{"$f":"'Pts P2'!O29","v":0},{"$f":"'Pts P3'!O29","v":0},{"$f":"'Pts P4'!O29","v":0},null,0]
[" 6. Carte(s) rouge(s) « Tr. scolaire »",null,{"$f":"'Pts P1'!O30","v":0},{"$f":"'Pts P2'!O30","v":0},{"$f":"'Pts P3'!O30","v":0},{"$f":"'Pts P4'!O30","v":0},null,0]
[" 7. Carte(s) blanche(s) (retenues)",null,{"$f":"'Pts P1'!O31","v":0},{"$f":"'Pts P2'!O31","v":0},{"$f":"'Pts P3'!O31","v":0},{"$f":"'Pts P4'!O31","v":0},null,0]
[]
[" COMMENTAIRES et CONSEILS :"]
[" 1ère période :"]
[]
[" 2ème période :"]
[]
[" 3ème période :"]
[]
[" 4ème période :"]
[]
["                                                                Signature des parents :"]

{"sheet":"Elève (13)","index":17,"n_rows":63,"n_cols":11,"rows_kept":63,"cut":false,"hidden":false,"merged":[[59,0,59,5],[60,0,60,5],[61,0,61,5],[62,0,62,5],[53,0,53,5],[54,0,54,5],[55,0,55,5],[56,0,56,5],[57,0,57,5],[58,0,58,5],[51,0,51,1],[43,0,44,1],[43,2,44,2],[43,3,44,3],[43,4,44,4],[46,0,46,1],[47,0,47,1],[48,0,48,1],[49,0,49,1],[50,0,50,1],[43,5,44,5],[45,0,45,1],[33,7,33,8],[35,0,35,5],[36,0,36,5],[37,0,37,5],[39,0,39,5],[41,1,41,5],[20,5,21,5],[10,0,11,1],[10,2,11,2],[10,3,11,3],[10,4,11,4],[10,5,11,5],[12,1,15,1],[12,2,15,2],[12,3,15,3],[12,4,15,4],[12,5,15,5],[18,0,18,1],[20,0,21,1],[20,2,21,2],[20,3,21,3],[20,4,21,4],[2,7,3,8],[5,1,7,1],[5,2,7,2],[5,3,7,3],[5,4,7,4],[5,5,7,5],[0,1,0,5],[2,0,3,1],[2,2,3,2],[2,3,3,3],[2,4,3,4],[2,5,3,5]]}
["Nom et prénom de l'élève :",{"$f":"'Pts P1'!$P$2","v":0}]
[]
["  FRANCAIS",null,"1ère période","2ème période","3ème période","4ème période",null,"MOYENNE"]
[]
[" Savoir lire",20,{"$f":"'Pts P1'!P3","v":0},{"$f":"'Pts P2'!P3","v":0},{"$f":"'Pts P3'!P3","v":0},{"$f":"'Pts P4'!P3","v":0},null,{"$f":"K5/J5","v":{"$error":"#DIV/0!"}},20,{"$f":"COUNTIF(C5:F5,\"<>0\")","v":0},{"$f":"SUM(C5:F5)","v":0}]
[" Savoir écrire",80,{"$f":"'Pts P1'!P4","v":0},{"$f":"'Pts P2'!P4","v":0},{"$f":"'Pts P3'!P4","v":0},{"$f":"'Pts P4'!P4","v":0},null,{"$error":"#DIV/0!"},80,{"$f":"COUNTIF(C6:F6,\"<>0\")","v":0},{"$f":"SUM(C6:F6)","v":0}]
[" Savoir parler",null,null,{"$f":"'Pts P2'!D5","v":0},{"$f":"'Pts P3'!D5","v":0},{"$f":"'Pts P4'!D5","v":0},null,null,null,{"$f":"COUNTIF(C7:F7,\"<>0\")","v":1},{"$f":"SUM(C7:F7)","v":0}]
[" Savoir écouter",null,null,{"$f":"'Pts P2'!D6","v":0},{"$f":"'Pts P3'!D6","v":0},{"$f":"'Pts P4'!D6","v":0},null,null,null,{"$f":"COUNTIF(C8:F8,\"<>0\")","v":1},{"$f":"SUM(C8:F8)","v":0}]
["  TOTAL Français",100,{"$f":"'Pts P1'!P7","v":0},{"$f":"'Pts P2'!P7","v":0},{"$f":"'Pts P3'!P7","v":0},{"$f":"'Pts P4'!P7","v":0},null,{"$error":"#DIV/0!"},100,{"$f":"COUNTIF(C9:F9,\"<>0\")","v":0},{"$f":"SUM(C9:F9)","v":0}]
[]
["  MATHEMATIQUES",null,"1ère période","2ème période","3ème période","4ème période"]
[]
[" Savoir calculer",100,{"$f":"'Pts P1'!P8","v":0},{"$f":"'Pts P2'!P8","v":0},{"$f":"'Pts P3'!P8","v":0},{"$f":"'Pts P4'!P8","v":0},null,{"$f":"K13/J13","v":{"$error":"#DIV/0!"}},100,{"$f":"COUNTIF(C13:F13,\"<>0\")","v":0},{"$f":"SUM(C13:F13)","v":0}]
[" Savoir résoudre des problèmes",null,null,{"$f":"'Pts P2'!D9","v":0},{"$f":"'Pts P3'!D9","v":0},{"$f":"'Pts P4'!D9","v":0},null,null,null,{"$f":"COUNTIF(C14:F14,\"<>0\")","v":1},{"$f":"SUM(C14:F14)","v":0}]
[" Savoir mesurer",null,null,{"$f":"'Pts P2'!D10","v":0},{"$f":"'Pts P3'!D10","v":0},{"$f":"'Pts P4'!D10","v":0},null,null,null,{"$f":"COUNTIF(C15:F15,\"<>0\")","v":1},{"$f":"SUM(C15:F15)","v":0}]
[" Savoir structurer l'espace",null,null,{"$f":"'Pts P2'!D11","v":0},{"$f":"'Pts P3'!D11","v":0},{"$f":"'Pts P4'!D11","v":0},null,null,null,{"$f":"COUNTIF(C16:F16,\"<>0\")","v":1},{"$f":"SUM(C16:F16)","v":0}]
["  TOTAL Math",100,{"$f":"'Pts P1'!P12","v":0},{"$f":"'Pts P2'!P12","v":0},{"$f":"'Pts P3'!P12","v":0},{"$f":"'Pts P4'!P12","v":0},null,{"$f":"K17/J17","v":{"$error":"#DIV/0!"}},100,{"$f":"COUNTIF(C17:F17,\"<>0\")","v":0},{"$f":"SUM(C17:F17)","v":0}]
[]
["  TOTAL GÉNÉRAL                                (Français et Mathématiques) en %",null,{"$f":"'Pts P1'!$P$13","v":0},{"$f":"'Pts P2'!$P$13","v":0},{"$f":"'Pts P3'!$P$13","v":0},{"$f":"'Pts P4'!$P$13","v":0},null,{"$f":"K19/J19","v":{"$error":"#DIV/0!"}},"sur",{"$f":"COUNTIF(C19:F19,\"<>0\")","v":0},{"$f":"SUM(C19:F19)","v":0}]
[]
["  AUTRES BRANCHES",null,"1ère période","2ème période","3ème période","4ème période"]
[]
["  Eveil",20,{"$f":"'Pts P1'!P14","v":0},{"$f":"'Pts P2'!P14","v":0},{"$f":"'Pts P3'!P14","v":0},{"$f":"'Pts P4'!P14","v":0},null,{"$f":"K23/J23","v":{"$error":"#DIV/0!"}},20,{"$f":"COUNTIF(C23:F23,\"<>0\")","v":0},{"$f":"SUM(C23:F23)","v":0}]
["  Education physiaue",10,{"$f":"'Pts P1'!P15","v":0},{"$f":"'Pts P2'!P15","v":0},{"$f":"'Pts P3'!P15","v":0},{"$f":"'Pts P4'!P15","v":0},null,{"$error":"#DIV/0!"},10,0,0]
["  Education esthétique",10,{"$f":"'Pts P1'!P16","v":0},{"$f":"'Pts P2'!P16","v":0},{"$f":"'Pts P3'!P16","v":0},{"$f":"'Pts P4'!P16","v":0},null,{"$error":"#DIV/0!"},10,0,0]
["  Religion / Morale / E.P.A",10,{"$f":"'Pts P1'!P17","v":0},{"$f":"'Pts P2'!P17","v":0},{"$f":"'Pts P3'!P17","v":0},{"$f":"'Pts P4'!P17","v":0},null,{"$error":"#DIV/0!"},10,0,0]
["  Récitations et chants","Ap. *",{"$f":"'Pts P1'!P18","v":0},{"$f":"'Pts P2'!P18","v":0},{"$f":"'Pts P3'!P18","v":0},{"$f":"'Pts P4'!P18","v":0},null,null,null,null,0]
["  Ecriture","Ap. *",{"$f":"'Pts P1'!P19","v":0},{"$f":"'Pts P2'!P19","v":0},{"$f":"'Pts P3'!P19","v":0},{"$f":"'Pts P4'!P19","v":0}]
["  Ordre","Ap. *",{"$f":"'Pts P1'!P20","v":0},{"$f":"'Pts P2'!P20","v":0},{"$f":"'Pts P3'!P20","v":0},{"$f":"'Pts P4'!P20","v":0},null,null,null,null,0]
["  Soin","Ap. *",{"$f":"'Pts P1'!P21","v":0},{"$f":"'Pts P2'!P21","v":0},{"$f":"'Pts P3'!P21","v":0},{"$f":"'Pts P4'!P21","v":0},null,null,null,null,0]
["  Travail à Domicile","Ap. *",{"$f":"'Pts P1'!P22","v":0},{"$f":"'Pts P2'!P22","v":0},{"$f":"'Pts P3'!P22","v":0},{"$f":"'Pts P4'!P22","v":0}]
["  ABSENCES (en 1/2 jours)","nbr",{"$f":"'Pts P1'!P23","v":0},{"$f":"'Pts P2'!P23","v":0},{"$f":"'Pts P3'!P23","v":0},{"$f":"'Pts P4'!P23","v":0},null,{"$f":"SUM(C32:F32)","v":0},"Nbr"]
["  RETARDS","nbr",{"$f":"'Pts P1'!P24","v":0},{"$f":"'Pts P2'!P24","v":0},{"$f":"'Pts P3'!P24","v":0},{"$f":"'Pts P4'!P24","v":0},null,{"$f":"SUM(C33:F33)","v":0},"Nbr"]
["  * TB : Très Bien, B = Bien, S = Satisfaisant, F = Faible, I = Insuffisant."]
[]
[" DECISION DU CONSEIL DE CLASSE :"]
[{"$f":"'Déc CC'!$B$2","v":0}]
["        N.B. Cette décision tient compte du travail journalier et des tests d'orientation"]
["        de fin d'année (voir explication sur le feuillet jaune ci-joint !)"]
["                  TITULAIRE :         DIRECTEUR :         PARENTS :"]
["     SIGNATURES :",null,"Alain Rensonnet"]
["Nom et prénom de l'élève :",{"$f":"'Pts P1'!$P$2","v":0}]
[]
["APPRECIATION DU COMPORTEMENT",null,"1ère période","2ème période","3 ème période","4ème période"]
[]
[" 1. Carte(s) d’honneur : jaune(s)",null,{"$f":"'Pts P1'!P25","v":0},{"$f":"'Pts P2'!P25","v":0},{"$f":"'Pts P3'!P25","v":0},{"$f":"'Pts P4'!P25","v":0},null,{"$f":"SUM(C46:F46)","v":0}]
[" 2. Carte(s) verte(s) ",null,{"$f":"'Pts P1'!P26","v":0},{"$f":"'Pts P2'!P26","v":0},{"$f":"'Pts P3'!P26","v":0},{"$f":"'Pts P4'!P26","v":0},null,{"$f":"SUM(C47:F47)","v":0}]
[" 3. Carte(s) orange(s) ",null,{"$f":"'Pts P1'!P27","v":0},{"$f":"'Pts P2'!P27","v":0},{"$f":"'Pts P3'!P27","v":0},{"$f":"'Pts P4'!P27","v":0},null,0]
[" 4. Carte(s) rouge(s) ",null,{"$f":"'Pts P1'!P28","v":0},{"$f":"'Pts P2'!P28","v":0},{"$f":"'Pts P3'!P28","v":0},{"$f":"'Pts P4'!P28","v":0},null,0]
[" 5. Carte(s) rouge(s) « Garderie »",null,{"$f":"'Pts P1'!P29","v":0},{"$f":"'Pts P2'!P29","v":0},{"$f":"'Pts P3'!P29","v":0},{"$f":"'Pts P4'!P29","v":0},null,0]
[" 6. Carte(s) rouge(s) « Tr. scolaire »",null,{"$f":"'Pts P1'!P30","v":0},{"$f":"'Pts P2'!P30","v":0},{"$f":"'Pts P3'!P30","v":0},{"$f":"'Pts P4'!P30","v":0},null,0]
[" 7. Carte(s) blanche(s) (retenues)",null,{"$f":"'Pts P1'!P31","v":0},{"$f":"'Pts P2'!P31","v":0},{"$f":"'Pts P3'!P31","v":0},{"$f":"'Pts P4'!P31","v":0},null,0]
[]
[" COMMENTAIRES et CONSEILS :"]
[" 1ère période :"]
[]
[" 2ème période :"]
[]
[" 3ème période :"]
[]
[" 4ème période :"]
[]
["                                                                Signature des parents :"]

{"sheet":"Elève (14)","index":18,"n_rows":63,"n_cols":11,"rows_kept":63,"cut":false,"hidden":false,"merged":[[59,0,59,5],[60,0,60,5],[61,0,61,5],[62,0,62,5],[53,0,53,5],[54,0,54,5],[55,0,55,5],[56,0,56,5],[57,0,57,5],[58,0,58,5],[51,0,51,1],[43,0,44,1],[43,2,44,2],[43,3,44,3],[43,4,44,4],[46,0,46,1],[47,0,47,1],[48,0,48,1],[49,0,49,1],[50,0,50,1],[43,5,44,5],[45,0,45,1],[33,7,33,8],[35,0,35,5],[36,0,36,5],[37,0,37,5],[39,0,39,5],[41,1,41,5],[20,5,21,5],[10,0,11,1],[10,2,11,2],[10,3,11,3],[10,4,11,4],[10,5,11,5],[12,1,15,1],[12,2,15,2],[12,3,15,3],[12,4,15,4],[12,5,15,5],[18,0,18,1],[20,0,21,1],[20,2,21,2],[20,3,21,3],[20,4,21,4],[2,7,3,8],[5,1,7,1],[5,2,7,2],[5,3,7,3],[5,4,7,4],[5,5,7,5],[0,1,0,5],[2,0,3,1],[2,2,3,2],[2,3,3,3],[2,4,3,4],[2,5,3,5]]}
["Nom et prénom de l'élève :",{"$f":"'Pts P1'!$Q$2","v":0}]
[]
["  FRANCAIS",null,"1ère période","2ème période","3ème période","4ème période",null,"MOYENNE"]
[]
[" Savoir lire",20,{"$f":"'Pts P1'!Q3","v":0},{"$f":"'Pts P2'!Q3","v":0},{"$f":"'Pts P3'!Q3","v":0},{"$f":"'Pts P4'!Q3","v":0},null,{"$f":"K5/J5","v":{"$error":"#DIV/0!"}},20,{"$f":"COUNTIF(C5:F5,\"<>0\")","v":0},{"$f":"SUM(C5:F5)","v":0}]
[" Savoir écrire",80,{"$f":"'Pts P1'!Q4","v":0},{"$f":"'Pts P2'!Q4","v":0},{"$f":"'Pts P3'!Q4","v":0},{"$f":"'Pts P4'!Q4","v":0},null,{"$error":"#DIV/0!"},80,{"$f":"COUNTIF(C6:F6,\"<>0\")","v":0},{"$f":"SUM(C6:F6)","v":0}]
[" Savoir parler",null,null,{"$f":"'Pts P2'!D5","v":0},{"$f":"'Pts P3'!D5","v":0},{"$f":"'Pts P4'!D5","v":0},null,null,null,{"$f":"COUNTIF(C7:F7,\"<>0\")","v":1},{"$f":"SUM(C7:F7)","v":0}]
[" Savoir écouter",null,null,{"$f":"'Pts P2'!D6","v":0},{"$f":"'Pts P3'!D6","v":0},{"$f":"'Pts P4'!D6","v":0},null,null,null,{"$f":"COUNTIF(C8:F8,\"<>0\")","v":1},{"$f":"SUM(C8:F8)","v":0}]
["  TOTAL Français",100,{"$f":"'Pts P1'!Q7","v":0},{"$f":"'Pts P2'!Q7","v":0},{"$f":"'Pts P3'!Q7","v":0},{"$f":"'Pts P4'!Q7","v":0},null,{"$error":"#DIV/0!"},100,{"$f":"COUNTIF(C9:F9,\"<>0\")","v":0},{"$f":"SUM(C9:F9)","v":0}]
[]
["  MATHEMATIQUES",null,"1ère période","2ème période","3ème période","4ème période"]
[]
[" Savoir calculer",100,{"$f":"'Pts P1'!Q8","v":0},{"$f":"'Pts P2'!Q8","v":0},{"$f":"'Pts P3'!Q8","v":0},{"$f":"'Pts P4'!Q8","v":0},null,{"$f":"K13/J13","v":{"$error":"#DIV/0!"}},100,{"$f":"COUNTIF(C13:F13,\"<>0\")","v":0},{"$f":"SUM(C13:F13)","v":0}]
[" Savoir résoudre des problèmes",null,null,{"$f":"'Pts P2'!D9","v":0},{"$f":"'Pts P3'!D9","v":0},{"$f":"'Pts P4'!D9","v":0},null,null,null,{"$f":"COUNTIF(C14:F14,\"<>0\")","v":1},{"$f":"SUM(C14:F14)","v":0}]
[" Savoir mesurer",null,null,{"$f":"'Pts P2'!D10","v":0},{"$f":"'Pts P3'!D10","v":0},{"$f":"'Pts P4'!D10","v":0},null,null,null,{"$f":"COUNTIF(C15:F15,\"<>0\")","v":1},{"$f":"SUM(C15:F15)","v":0}]
[" Savoir structurer l'espace",null,null,{"$f":"'Pts P2'!D11","v":0},{"$f":"'Pts P3'!D11","v":0},{"$f":"'Pts P4'!D11","v":0},null,null,null,{"$f":"COUNTIF(C16:F16,\"<>0\")","v":1},{"$f":"SUM(C16:F16)","v":0}]
["  TOTAL Math",100,{"$f":"'Pts P1'!Q12","v":0},{"$f":"'Pts P2'!Q12","v":0},{"$f":"'Pts P3'!Q12","v":0},{"$f":"'Pts P4'!Q12","v":0},null,{"$f":"K17/J17","v":{"$error":"#DIV/0!"}},100,{"$f":"COUNTIF(C17:F17,\"<>0\")","v":0},{"$f":"SUM(C17:F17)","v":0}]
[]
["  TOTAL GÉNÉRAL                                (Français et Mathématiques) en %",null,{"$f":"'Pts P1'!$Q$13","v":0},{"$f":"'Pts P2'!$Q$13","v":0},{"$f":"'Pts P3'!$Q$13","v":0},{"$f":"'Pts P4'!$Q$13","v":0},null,{"$f":"K19/J19","v":{"$error":"#DIV/0!"}},"sur",{"$f":"COUNTIF(C19:F19,\"<>0\")","v":0},{"$f":"SUM(C19:F19)","v":0}]
[]
["  AUTRES BRANCHES",null,"1ère période","2ème période","3ème période","4ème période"]
[]
["  Eveil",20,{"$f":"'Pts P1'!Q14","v":0},{"$f":"'Pts P2'!Q14","v":0},{"$f":"'Pts P3'!Q14","v":0},{"$f":"'Pts P4'!Q14","v":0},null,{"$f":"K23/J23","v":{"$error":"#DIV/0!"}},20,{"$f":"COUNTIF(C23:F23,\"<>0\")","v":0},{"$f":"SUM(C23:F23)","v":0}]
["  Education physiaue",10,{"$f":"'Pts P1'!Q15","v":0},{"$f":"'Pts P2'!Q15","v":0},{"$f":"'Pts P3'!Q15","v":0},{"$f":"'Pts P4'!Q15","v":0},null,{"$error":"#DIV/0!"},10,0,0]
["  Education esthétique",10,{"$f":"'Pts P1'!Q16","v":0},{"$f":"'Pts P2'!Q16","v":0},{"$f":"'Pts P3'!Q16","v":0},{"$f":"'Pts P4'!Q16","v":0},null,{"$error":"#DIV/0!"},10,0,0]
["  Religion / Morale / E.P.A",10,{"$f":"'Pts P1'!Q17","v":0},{"$f":"'Pts P2'!Q17","v":0},{"$f":"'Pts P3'!Q17","v":0},{"$f":"'Pts P4'!Q17","v":0},null,{"$error":"#DIV/0!"},10,0,0]
["  Récitations et chants","Ap. *",{"$f":"'Pts P1'!Q18","v":0},{"$f":"'Pts P2'!Q18","v":0},{"$f":"'Pts P3'!Q18","v":0},{"$f":"'Pts P4'!Q18","v":0},null,null,null,null,0]
["  Ecriture","Ap. *",{"$f":"'Pts P1'!Q19","v":0},{"$f":"'Pts P2'!Q19","v":0},{"$f":"'Pts P3'!Q19","v":0},{"$f":"'Pts P4'!Q19","v":0}]
["  Ordre","Ap. *",{"$f":"'Pts P1'!Q20","v":0},{"$f":"'Pts P2'!Q20","v":0},{"$f":"'Pts P3'!Q20","v":0},{"$f":"'Pts P4'!Q20","v":0},null,null,null,null,0]
["  Soin","Ap. *",{"$f":"'Pts P1'!Q21","v":0},{"$f":"'Pts P2'!Q21","v":0},{"$f":"'Pts P3'!Q21","v":0},{"$f":"'Pts P4'!Q21","v":0},null,null,null,null,0]
["  Travail à Domicile","Ap. *",{"$f":"'Pts P1'!Q22","v":0},{"$f":"'Pts P2'!Q22","v":0},{"$f":"'Pts P3'!Q22","v":0},{"$f":"'Pts P4'!Q22","v":0}]
["  ABSENCES (en 1/2 jours)","nbr",{"$f":"'Pts P1'!Q23","v":0},{"$f":"'Pts P2'!Q23","v":0},{"$f":"'Pts P3'!Q23","v":0},{"$f":"'Pts P4'!Q23","v":0},null,{"$f":"SUM(C32:F32)","v":0},"Nbr"]
["  RETARDS","nbr",{"$f":"'Pts P1'!Q24","v":0},{"$f":"'Pts P2'!Q24","v":0},{"$f":"'Pts P3'!Q24","v":0},{"$f":"'Pts P4'!Q24","v":0},null,{"$f":"SUM(C33:F33)","v":0},"Nbr"]
["  * TB : Très Bien, B = Bien, S = Satisfaisant, F = Faible, I = Insuffisant."]
[]
[" DECISION DU CONSEIL DE CLASSE :"]
[{"$f":"'Déc CC'!$B$2","v":0}]
["        N.B. Cette décision tient compte du travail journalier et des tests d'orientation"]
["        de fin d'année (voir explication sur le feuillet jaune ci-joint !)"]
["                  TITULAIRE :         DIRECTEUR :         PARENTS :"]
["     SIGNATURES :",null,"Alain Rensonnet"]
["Nom et prénom de l'élève :",{"$f":"'Pts P1'!$Q$2","v":0}]
[]
["APPRECIATION DU COMPORTEMENT",null,"1ère période","2ème période","3 ème période","4ème période"]
[]
[" 1. Carte(s) d’honneur : jaune(s)",null,{"$f":"'Pts P1'!Q25","v":0},{"$f":"'Pts P2'!Q25","v":0},{"$f":"'Pts P3'!Q25","v":0},{"$f":"'Pts P4'!Q25","v":0},null,{"$f":"SUM(C46:F46)","v":0}]
[" 2. Carte(s) verte(s) ",null,{"$f":"'Pts P1'!Q26","v":0},{"$f":"'Pts P2'!Q26","v":0},{"$f":"'Pts P3'!Q26","v":0},{"$f":"'Pts P4'!Q26","v":0},null,{"$f":"SUM(C47:F47)","v":0}]
[" 3. Carte(s) orange(s) ",null,{"$f":"'Pts P1'!Q27","v":0},{"$f":"'Pts P2'!Q27","v":0},{"$f":"'Pts P3'!Q27","v":0},{"$f":"'Pts P4'!Q27","v":0},null,0]
[" 4. Carte(s) rouge(s) ",null,{"$f":"'Pts P1'!Q28","v":0},{"$f":"'Pts P2'!Q28","v":0},{"$f":"'Pts P3'!Q28","v":0},{"$f":"'Pts P4'!Q28","v":0},null,0]
[" 5. Carte(s) rouge(s) « Garderie »",null,{"$f":"'Pts P1'!Q29","v":0},{"$f":"'Pts P2'!Q29","v":0},{"$f":"'Pts P3'!Q29","v":0},{"$f":"'Pts P4'!Q29","v":0},null,0]
[" 6. Carte(s) rouge(s) « Tr. scolaire »",null,{"$f":"'Pts P1'!Q30","v":0},{"$f":"'Pts P2'!Q30","v":0},{"$f":"'Pts P3'!Q30","v":0},{"$f":"'Pts P4'!Q30","v":0},null,0]
[" 7. Carte(s) blanche(s) (retenues)",null,{"$f":"'Pts P1'!Q31","v":0},{"$f":"'Pts P2'!Q31","v":0},{"$f":"'Pts P3'!Q31","v":0},{"$f":"'Pts P4'!Q31","v":0},null,0]
[]
[" COMMENTAIRES et CONSEILS :"]
[" 1ère période :"]
[]
[" 2ème période :"]
[]
[" 3ème période :"]
[]
[" 4ème période :"]
[]
["                                                                Signature des parents :"]

{"sheet":"Elève (15)","index":19,"n_rows":63,"n_cols":11,"rows_kept":63,"cut":false,"hidden":false,"merged":[[59,0,59,5],[60,0,60,5],[61,0,61,5],[62,0,62,5],[53,0,53,5],[54,0,54,5],[55,0,55,5],[56,0,56,5],[57,0,57,5],[58,0,58,5],[51,0,51,1],[43,0,44,1],[43,2,44,2],[43,3,44,3],[43,4,44,4],[46,0,46,1],[47,0,47,1],[48,0,48,1],[49,0,49,1],[50,0,50,1],[43,5,44,5],[45,0,45,1],[33,7,33,8],[35,0,35,5],[36,0,36,5],[37,0,37,5],[39,0,39,5],[41,1,41,5],[20,5,21,5],[10,0,11,1],[10,2,11,2],[10,3,11,3],[10,4,11,4],[10,5,11,5],[12,1,15,1],[12,2,15,2],[12,3,15,3],[12,4,15,4],[12,5,15,5],[18,0,18,1],[20,0,21,1],[20,2,21,2],[20,3,21,3],[20,4,21,4],[2,7,3,8],[5,1,7,1],[5,2,7,2],[5,3,7,3],[5,4,7,4],[5,5,7,5],[0,1,0,5],[2,0,3,1],[2,2,3,2],[2,3,3,3],[2,4,3,4],[2,5,3,5]]}
["Nom et prénom de l'élève :",{"$f":"'Pts P1'!$R$2","v":0}]
[]
["  FRANCAIS",null,"1ère période","2ème période","3ème période","4ème période",null,"MOYENNE"]
[]
[" Savoir lire",20,{"$f":"'Pts P1'!R3","v":0},{"$f":"'Pts P2'!R3","v":0},{"$f":"'Pts P3'!R3","v":0},{"$f":"'Pts P4'!R3","v":0},null,{"$f":"K5/J5","v":{"$error":"#DIV/0!"}},20,{"$f":"COUNTIF(C5:F5,\"<>0\")","v":0},{"$f":"SUM(C5:F5)","v":0}]
[" Savoir écrire",80,{"$f":"'Pts P1'!R4","v":0},{"$f":"'Pts P2'!R4","v":0},{"$f":"'Pts P3'!R4","v":0},{"$f":"'Pts P4'!R4","v":0},null,{"$error":"#DIV/0!"},80,{"$f":"COUNTIF(C6:F6,\"<>0\")","v":0},{"$f":"SUM(C6:F6)","v":0}]
[" Savoir parler",null,null,{"$f":"'Pts P2'!D5","v":0},{"$f":"'Pts P3'!D5","v":0},{"$f":"'Pts P4'!D5","v":0},null,null,null,{"$f":"COUNTIF(C7:F7,\"<>0\")","v":1},{"$f":"SUM(C7:F7)","v":0}]
[" Savoir écouter",null,null,{"$f":"'Pts P2'!D6","v":0},{"$f":"'Pts P3'!D6","v":0},{"$f":"'Pts P4'!D6","v":0},null,null,null,{"$f":"COUNTIF(C8:F8,\"<>0\")","v":1},{"$f":"SUM(C8:F8)","v":0}]
["  TOTAL Français",100,{"$f":"'Pts P1'!R7","v":0},{"$f":"'Pts P2'!R7","v":0},{"$f":"'Pts P3'!R7","v":0},{"$f":"'Pts P4'!R7","v":0},null,{"$error":"#DIV/0!"},100,{"$f":"COUNTIF(C9:F9,\"<>0\")","v":0},{"$f":"SUM(C9:F9)","v":0}]
[]
["  MATHEMATIQUES",null,"1ère période","2ème période","3ème période","4ème période"]
[]
[" Savoir calculer",100,{"$f":"'Pts P1'!R8","v":0},{"$f":"'Pts P2'!R8","v":0},{"$f":"'Pts P3'!R8","v":0},{"$f":"'Pts P4'!R8","v":0},null,{"$f":"K13/J13","v":{"$error":"#DIV/0!"}},100,{"$f":"COUNTIF(C13:F13,\"<>0\")","v":0},{"$f":"SUM(C13:F13)","v":0}]
[" Savoir résoudre des problèmes",null,null,{"$f":"'Pts P2'!D9","v":0},{"$f":"'Pts P3'!D9","v":0},{"$f":"'Pts P4'!D9","v":0},null,null,null,{"$f":"COUNTIF(C14:F14,\"<>0\")","v":1},{"$f":"SUM(C14:F14)","v":0}]
[" Savoir mesurer",null,null,{"$f":"'Pts P2'!D10","v":0},{"$f":"'Pts P3'!D10","v":0},{"$f":"'Pts P4'!D10","v":0},null,null,null,{"$f":"COUNTIF(C15:F15,\"<>0\")","v":1},{"$f":"SUM(C15:F15)","v":0}]
[" Savoir structurer l'espace",null,null,{"$f":"'Pts P2'!D11","v":0},{"$f":"'Pts P3'!D11","v":0},{"$f":"'Pts P4'!D11","v":0},null,null,null,{"$f":"COUNTIF(C16:F16,\"<>0\")","v":1},{"$f":"SUM(C16:F16)","v":0}]
["  TOTAL Math",100,{"$f":"'Pts P1'!R12","v":0},{"$f":"'Pts P2'!R12","v":0},{"$f":"'Pts P3'!R12","v":0},{"$f":"'Pts P4'!R12","v":0},null,{"$f":"K17/J17","v":{"$error":"#DIV/0!"}},100,{"$f":"COUNTIF(C17:F17,\"<>0\")","v":0},{"$f":"SUM(C17:F17)","v":0}]
[]
["  TOTAL GÉNÉRAL                                (Français et Mathématiques) en %",null,{"$f":"'Pts P1'!$R$13","v":0},{"$f":"'Pts P2'!$R$13","v":0},{"$f":"'Pts P3'!$R$13","v":0},{"$f":"'Pts P4'!$R$13","v":0},null,{"$f":"K19/J19","v":{"$error":"#DIV/0!"}},"sur",{"$f":"COUNTIF(C19:F19,\"<>0\")","v":0},{"$f":"SUM(C19:F19)","v":0}]
[]
["  AUTRES BRANCHES",null,"1ère période","2ème période","3ème période","4ème période"]
[]
["  Eveil",20,{"$f":"'Pts P1'!R14","v":0},{"$f":"'Pts P2'!R14","v":0},{"$f":"'Pts P3'!R14","v":0},{"$f":"'Pts P4'!R14","v":0},null,{"$f":"K23/J23","v":{"$error":"#DIV/0!"}},20,{"$f":"COUNTIF(C23:F23,\"<>0\")","v":0},{"$f":"SUM(C23:F23)","v":0}]
["  Education physiaue",10,{"$f":"'Pts P1'!R15","v":0},{"$f":"'Pts P2'!R15","v":0},{"$f":"'Pts P3'!R15","v":0},{"$f":"'Pts P4'!R15","v":0},null,{"$error":"#DIV/0!"},10,0,0]
["  Education esthétique",10,{"$f":"'Pts P1'!R16","v":0},{"$f":"'Pts P2'!R16","v":0},{"$f":"'Pts P3'!R16","v":0},{"$f":"'Pts P4'!R16","v":0},null,{"$error":"#DIV/0!"},10,0,0]
["  Religion / Morale / E.P.A",10,{"$f":"'Pts P1'!R17","v":0},{"$f":"'Pts P2'!R17","v":0},{"$f":"'Pts P3'!R17","v":0},{"$f":"'Pts P4'!R17","v":0},null,{"$error":"#DIV/0!"},10,0,0]
["  Récitations et chants","Ap. *",{"$f":"'Pts P1'!R18","v":0},{"$f":"'Pts P2'!R18","v":0},{"$f":"'Pts P3'!R18","v":0},{"$f":"'Pts P4'!R18","v":0},null,null,null,null,0]
["  Ecriture","Ap. *",{"$f":"'Pts P1'!R19","v":0},{"$f":"'Pts P2'!R19","v":0},{"$f":"'Pts P3'!R19","v":0},{"$f":"'Pts P4'!R19","v":0}]
["  Ordre","Ap. *",{"$f":"'Pts P1'!R20","v":0},{"$f":"'Pts P2'!R20","v":0},{"$f":"'Pts P3'!R20","v":0},{"$f":"'Pts P4'!R20","v":0},null,null,null,null,0]
["  Soin","Ap. *",{"$f":"'Pts P1'!R21","v":0},{"$f":"'Pts P2'!R21","v":0},{"$f":"'Pts P3'!R21","v":0},{"$f":"'Pts P4'!R21","v":0},null,null,null,null,0]
["  Travail à Domicile","Ap. *",{"$f":"'Pts P1'!R22","v":0},{"$f":"'Pts P2'!R22","v":0},{"$f":"'Pts P3'!R22","v":0},{"$f":"'Pts P4'!R22","v":0}]
["  ABSENCES (en 1/2 jours)","nbr",{"$f":"'Pts P1'!R23","v":0},{"$f":"'Pts P2'!R23","v":0},{"$f":"'Pts P3'!R23","v":0},{"$f":"'Pts P4'!R23","v":0},null,{"$f":"SUM(C32:F32)","v":0},"Nbr"]
["  RETARDS","nbr",{"$f":"'Pts P1'!R24","v":0},{"$f":"'Pts P2'!R24","v":0},{"$f":"'Pts P3'!R24","v":0},{"$f":"'Pts P4'!R24","v":0},null,{"$f":"SUM(C33:F33)","v":0},"Nbr"]
["  * TB : Très Bien, B = Bien, S = Satisfaisant, F = Faible, I = Insuffisant."]
[]
[" DECISION DU CONSEIL DE CLASSE :"]
[{"$f":"'Déc CC'!$B$2","v":0}]
["        N.B. Cette décision tient compte du travail journalier et des tests d'orientation"]
["        de fin d'année (voir explication sur le feuillet jaune ci-joint !)"]
["                  TITULAIRE :         DIRECTEUR :         PARENTS :"]
["     SIGNATURES :",null,"Alain Rensonnet"]
["Nom et prénom de l'élève :",{"$f":"'Pts P1'!$R$2","v":0}]
[]
["APPRECIATION DU COMPORTEMENT",null,"1ère période","2ème période","3 ème période","4ème période"]
[]
[" 1. Carte(s) d’honneur : jaune(s)",null,{"$f":"'Pts P1'!R25","v":0},{"$f":"'Pts P2'!R25","v":0},{"$f":"'Pts P3'!R25","v":0},{"$f":"'Pts P4'!R25","v":0},null,{"$f":"SUM(C46:F46)","v":0}]
[" 2. Carte(s) verte(s) ",null,{"$f":"'Pts P1'!R26","v":0},{"$f":"'Pts P2'!R26","v":0},{"$f":"'Pts P3'!R26","v":0},{"$f":"'Pts P4'!R26","v":0},null,{"$f":"SUM(C47:F47)","v":0}]
[" 3. Carte(s) orange(s) ",null,{"$f":"'Pts P1'!R27","v":0},{"$f":"'Pts P2'!R27","v":0},{"$f":"'Pts P3'!R27","v":0},{"$f":"'Pts P4'!R27","v":0},null,0]
[" 4. Carte(s) rouge(s) ",null,{"$f":"'Pts P1'!R28","v":0},{"$f":"'Pts P2'!R28","v":0},{"$f":"'Pts P3'!R28","v":0},{"$f":"'Pts P4'!R28","v":0},null,0]
[" 5. Carte(s) rouge(s) « Garderie »",null,{"$f":"'Pts P1'!R29","v":0},{"$f":"'Pts P2'!R29","v":0},{"$f":"'Pts P3'!R29","v":0},{"$f":"'Pts P4'!R29","v":0},null,0]
[" 6. Carte(s) rouge(s) « Tr. scolaire »",null,{"$f":"'Pts P1'!R30","v":0},{"$f":"'Pts P2'!R30","v":0},{"$f":"'Pts P3'!R30","v":0},{"$f":"'Pts P4'!R30","v":0},null,0]
[" 7. Carte(s) blanche(s) (retenues)",null,{"$f":"'Pts P1'!R31","v":0},{"$f":"'Pts P2'!R31","v":0},{"$f":"'Pts P3'!R31","v":0},{"$f":"'Pts P4'!R31","v":0},null,0]
[]
[" COMMENTAIRES et CONSEILS :"]
[" 1ère période :"]
[]
[" 2ème période :"]
[]
[" 3ème période :"]
[]
[" 4ème période :"]
[]
["                                                                Signature des parents :"]

{"sheet":"Elève (16)","index":20,"n_rows":63,"n_cols":11,"rows_kept":63,"cut":false,"hidden":false,"merged":[[59,0,59,5],[60,0,60,5],[61,0,61,5],[62,0,62,5],[53,0,53,5],[54,0,54,5],[55,0,55,5],[56,0,56,5],[57,0,57,5],[58,0,58,5],[51,0,51,1],[43,0,44,1],[43,2,44,2],[43,3,44,3],[43,4,44,4],[46,0,46,1],[47,0,47,1],[48,0,48,1],[49,0,49,1],[50,0,50,1],[43,5,44,5],[45,0,45,1],[33,7,33,8],[35,0,35,5],[36,0,36,5],[37,0,37,5],[39,0,39,5],[41,1,41,5],[20,5,21,5],[10,0,11,1],[10,2,11,2],[10,3,11,3],[10,4,11,4],[10,5,11,5],[12,1,15,1],[12,2,15,2],[12,3,15,3],[12,4,15,4],[12,5,15,5],[18,0,18,1],[20,0,21,1],[20,2,21,2],[20,3,21,3],[20,4,21,4],[2,7,3,8],[5,1,7,1],[5,2,7,2],[5,3,7,3],[5,4,7,4],[5,5,7,5],[0,1,0,5],[2,0,3,1],[2,2,3,2],[2,3,3,3],[2,4,3,4],[2,5,3,5]]}
["Nom et prénom de l'élève :",{"$f":"'Pts P1'!$S$2","v":0}]
[]
["  FRANCAIS",null,"1ère période","2ème période","3ème période","4ème période",null,"MOYENNE"]
[]
[" Savoir lire",20,{"$f":"'Pts P1'!S3","v":0},{"$f":"'Pts P2'!S3","v":0},{"$f":"'Pts P3'!S3","v":0},{"$f":"'Pts P4'!S3","v":0},null,{"$f":"K5/J5","v":{"$error":"#DIV/0!"}},20,{"$f":"COUNTIF(C5:F5,\"<>0\")","v":0},{"$f":"SUM(C5:F5)","v":0}]
[" Savoir écrire",80,{"$f":"'Pts P1'!S4","v":0},{"$f":"'Pts P2'!S4","v":0},{"$f":"'Pts P3'!S4","v":0},{"$f":"'Pts P4'!S4","v":0},null,{"$error":"#DIV/0!"},80,{"$f":"COUNTIF(C6:F6,\"<>0\")","v":0},{"$f":"SUM(C6:F6)","v":0}]
[" Savoir parler",null,null,{"$f":"'Pts P2'!D5","v":0},{"$f":"'Pts P3'!D5","v":0},{"$f":"'Pts P4'!D5","v":0},null,null,null,{"$f":"COUNTIF(C7:F7,\"<>0\")","v":1},{"$f":"SUM(C7:F7)","v":0}]
[" Savoir écouter",null,null,{"$f":"'Pts P2'!D6","v":0},{"$f":"'Pts P3'!D6","v":0},{"$f":"'Pts P4'!D6","v":0},null,null,null,{"$f":"COUNTIF(C8:F8,\"<>0\")","v":1},{"$f":"SUM(C8:F8)","v":0}]
["  TOTAL Français",100,{"$f":"'Pts P1'!S7","v":0},{"$f":"'Pts P2'!S7","v":0},{"$f":"'Pts P3'!S7","v":0},{"$f":"'Pts P4'!S7","v":0},null,{"$error":"#DIV/0!"},100,{"$f":"COUNTIF(C9:F9,\"<>0\")","v":0},{"$f":"SUM(C9:F9)","v":0}]
[]
["  MATHEMATIQUES",null,"1ère période","2ème période","3ème période","4ème période"]
[]
[" Savoir calculer",100,{"$f":"'Pts P1'!S8","v":0},{"$f":"'Pts P2'!S8","v":0},{"$f":"'Pts P3'!S8","v":0},{"$f":"'Pts P4'!S8","v":0},null,{"$f":"K13/J13","v":{"$error":"#DIV/0!"}},100,{"$f":"COUNTIF(C13:F13,\"<>0\")","v":0},{"$f":"SUM(C13:F13)","v":0}]
[" Savoir résoudre des problèmes",null,null,{"$f":"'Pts P2'!D9","v":0},{"$f":"'Pts P3'!D9","v":0},{"$f":"'Pts P4'!D9","v":0},null,null,null,{"$f":"COUNTIF(C14:F14,\"<>0\")","v":1},{"$f":"SUM(C14:F14)","v":0}]
[" Savoir mesurer",null,null,{"$f":"'Pts P2'!D10","v":0},{"$f":"'Pts P3'!D10","v":0},{"$f":"'Pts P4'!D10","v":0},null,null,null,{"$f":"COUNTIF(C15:F15,\"<>0\")","v":1},{"$f":"SUM(C15:F15)","v":0}]
[" Savoir structurer l'espace",null,null,{"$f":"'Pts P2'!D11","v":0},{"$f":"'Pts P3'!D11","v":0},{"$f":"'Pts P4'!D11","v":0},null,null,null,{"$f":"COUNTIF(C16:F16,\"<>0\")","v":1},{"$f":"SUM(C16:F16)","v":0}]
["  TOTAL Math",100,{"$f":"'Pts P1'!S12","v":0},{"$f":"'Pts P2'!S12","v":0},{"$f":"'Pts P3'!S12","v":0},{"$f":"'Pts P4'!S12","v":0},null,{"$f":"K17/J17","v":{"$error":"#DIV/0!"}},100,{"$f":"COUNTIF(C17:F17,\"<>0\")","v":0},{"$f":"SUM(C17:F17)","v":0}]
[]
["  TOTAL GÉNÉRAL                                (Français et Mathématiques) en %",null,{"$f":"'Pts P1'!$S$13","v":0},{"$f":"'Pts P2'!$S$13","v":0},{"$f":"'Pts P3'!$S$13","v":0},{"$f":"'Pts P4'!$S$13","v":0},null,{"$f":"K19/J19","v":{"$error":"#DIV/0!"}},"sur",{"$f":"COUNTIF(C19:F19,\"<>0\")","v":0},{"$f":"SUM(C19:F19)","v":0}]
[]
["  AUTRES BRANCHES",null,"1ère période","2ème période","3ème période","4ème période"]
[]
["  Eveil",20,{"$f":"'Pts P1'!S14","v":0},{"$f":"'Pts P2'!S14","v":0},{"$f":"'Pts P3'!S14","v":0},{"$f":"'Pts P4'!S14","v":0},null,{"$f":"K23/J23","v":{"$error":"#DIV/0!"}},20,{"$f":"COUNTIF(C23:F23,\"<>0\")","v":0},{"$f":"SUM(C23:F23)","v":0}]
["  Education physiaue",10,{"$f":"'Pts P1'!S15","v":0},{"$f":"'Pts P2'!S15","v":0},{"$f":"'Pts P3'!S15","v":0},{"$f":"'Pts P4'!S15","v":0},null,{"$error":"#DIV/0!"},10,0,0]
["  Education esthétique",10,{"$f":"'Pts P1'!S16","v":0},{"$f":"'Pts P2'!S16","v":0},{"$f":"'Pts P3'!S16","v":0},{"$f":"'Pts P4'!S16","v":0},null,{"$error":"#DIV/0!"},10,0,0]
["  Religion / Morale / E.P.A",10,{"$f":"'Pts P1'!S17","v":0},{"$f":"'Pts P2'!S17","v":0},{"$f":"'Pts P3'!S17","v":0},{"$f":"'Pts P4'!S17","v":0},null,{"$error":"#DIV/0!"},10,0,0]
["  Récitations et chants","Ap. *",{"$f":"'Pts P1'!S18","v":0},{"$f":"'Pts P2'!S18","v":0},{"$f":"'Pts P3'!S18","v":0},{"$f":"'Pts P4'!S18","v":0},null,null,null,null,0]
["  Ecriture","Ap. *",{"$f":"'Pts P1'!S19","v":0},{"$f":"'Pts P2'!S19","v":0},{"$f":"'Pts P3'!S19","v":0},{"$f":"'Pts P4'!S19","v":0}]
["  Ordre","Ap. *",{"$f":"'Pts P1'!S20","v":0},{"$f":"'Pts P2'!S20","v":0},{"$f":"'Pts P3'!S20","v":0},{"$f":"'Pts P4'!S20","v":0},null,null,null,null,0]
["  Soin","Ap. *",{"$f":"'Pts P1'!S21","v":0},{"$f":"'Pts P2'!S21","v":0},{"$f":"'Pts P3'!S21","v":0},{"$f":"'Pts P4'!S21","v":0},null,null,null,null,0]
["  Travail à Domicile","Ap. *",{"$f":"'Pts P1'!S22","v":0},{"$f":"'Pts P2'!S22","v":0},{"$f":"'Pts P3'!S22","v":0},{"$f":"'Pts P4'!S22","v":0}]
["  ABSENCES (en 1/2 jours)","nbr",{"$f":"'Pts P1'!S23","v":0},{"$f":"'Pts P2'!S23","v":0},{"$f":"'Pts P3'!S23","v":0},{"$f":"'Pts P4'!S23","v":0},null,{"$f":"SUM(C32:F32)","v":0},"Nbr"]
["  RETARDS","nbr",{"$f":"'Pts P1'!S24","v":0},{"$f":"'Pts P2'!S24","v":0},{"$f":"'Pts P3'!S24","v":0},{"$f":"'Pts P4'!S24","v":0},null,{"$f":"SUM(C33:F33)","v":0},"Nbr"]
["  * TB : Très Bien, B = Bien, S = Satisfaisant, F = Faible, I = Insuffisant."]
[]
[" DECISION DU CONSEIL DE CLASSE :"]
[{"$f":"'Déc CC'!$B$2","v":0}]
["        N.B. Cette décision tient compte du travail journalier et des tests d'orientation"]
["        de fin d'année (voir explication sur le feuillet jaune ci-joint !)"]
["                  TITULAIRE :         DIRECTEUR :         PARENTS :"]
["     SIGNATURES :",null,"Alain Rensonnet"]
["Nom et prénom de l'élève :",{"$f":"'Pts P1'!$S$2","v":0}]
[]
["APPRECIATION DU COMPORTEMENT",null,"1ère période","2ème période","3 ème période","4ème période"]
[]
[" 1. Carte(s) d’honneur : jaune(s)",null,{"$f":"'Pts P1'!S25","v":0},{"$f":"'Pts P2'!S25","v":0},{"$f":"'Pts P3'!S25","v":0},{"$f":"'Pts P4'!S25","v":0},null,{"$f":"SUM(C46:F46)","v":0}]
[" 2. Carte(s) verte(s) ",null,{"$f":"'Pts P1'!S26","v":0},{"$f":"'Pts P2'!S26","v":0},{"$f":"'Pts P3'!S26","v":0},{"$f":"'Pts P4'!S26","v":0},null,{"$f":"SUM(C47:F47)","v":0}]
[" 3. Carte(s) orange(s) ",null,{"$f":"'Pts P1'!S27","v":0},{"$f":"'Pts P2'!S27","v":0},{"$f":"'Pts P3'!S27","v":0},{"$f":"'Pts P4'!S27","v":0},null,0]
[" 4. Carte(s) rouge(s) ",null,{"$f":"'Pts P1'!S28","v":0},{"$f":"'Pts P2'!S28","v":0},{"$f":"'Pts P3'!S28","v":0},{"$f":"'Pts P4'!S28","v":0},null,0]
[" 5. Carte(s) rouge(s) « Garderie »",null,{"$f":"'Pts P1'!S29","v":0},{"$f":"'Pts P2'!S29","v":0},{"$f":"'Pts P3'!S29","v":0},{"$f":"'Pts P4'!S29","v":0},null,0]
[" 6. Carte(s) rouge(s) « Tr. scolaire »",null,{"$f":"'Pts P1'!S30","v":0},{"$f":"'Pts P2'!S30","v":0},{"$f":"'Pts P3'!S30","v":0},{"$f":"'Pts P4'!S30","v":0},null,0]
[" 7. Carte(s) blanche(s) (retenues)",null,{"$f":"'Pts P1'!S31","v":0},{"$f":"'Pts P2'!S31","v":0},{"$f":"'Pts P3'!S31","v":0},{"$f":"'Pts P4'!S31","v":0},null,0]
[]
[" COMMENTAIRES et CONSEILS :"]
[" 1ère période :"]
[]
[" 2ème période :"]
[]
[" 3ème période :"]
[]
[" 4ème période :"]
[]
["                                                                Signature des parents :"]

{"sheet":"Elève (17)","index":21,"n_rows":63,"n_cols":11,"rows_kept":63,"cut":false,"hidden":false,"merged":[[59,0,59,5],[60,0,60,5],[61,0,61,5],[62,0,62,5],[53,0,53,5],[54,0,54,5],[55,0,55,5],[56,0,56,5],[57,0,57,5],[58,0,58,5],[51,0,51,1],[43,0,44,1],[43,2,44,2],[43,3,44,3],[43,4,44,4],[46,0,46,1],[47,0,47,1],[48,0,48,1],[49,0,49,1],[50,0,50,1],[43,5,44,5],[45,0,45,1],[33,7,33,8],[35,0,35,5],[36,0,36,5],[37,0,37,5],[39,0,39,5],[41,1,41,5],[20,5,21,5],[10,0,11,1],[10,2,11,2],[10,3,11,3],[10,4,11,4],[10,5,11,5],[12,1,15,1],[12,2,15,2],[12,3,15,3],[12,4,15,4],[12,5,15,5],[18,0,18,1],[20,0,21,1],[20,2,21,2],[20,3,21,3],[20,4,21,4],[2,7,3,8],[5,1,7,1],[5,2,7,2],[5,3,7,3],[5,4,7,4],[5,5,7,5],[0,1,0,5],[2,0,3,1],[2,2,3,2],[2,3,3,3],[2,4,3,4],[2,5,3,5]]}
["Nom et prénom de l'élève :",{"$f":"'Pts P1'!$T$2","v":0}]
[]
["  FRANCAIS",null,"1ère période","2ème période","3ème période","4ème période",null,"MOYENNE"]
[]
[" Savoir lire",20,{"$f":"'Pts P1'!T3","v":0},{"$f":"'Pts P2'!T3","v":0},{"$f":"'Pts P3'!T3","v":0},{"$f":"'Pts P4'!T3","v":0},null,{"$f":"K5/J5","v":{"$error":"#DIV/0!"}},20,{"$f":"COUNTIF(C5:F5,\"<>0\")","v":0},{"$f":"SUM(C5:F5)","v":0}]
[" Savoir écrire",80,{"$f":"'Pts P1'!T4","v":0},{"$f":"'Pts P2'!T4","v":0},{"$f":"'Pts P3'!T4","v":0},{"$f":"'Pts P4'!T4","v":0},null,{"$error":"#DIV/0!"},80,{"$f":"COUNTIF(C6:F6,\"<>0\")","v":0},{"$f":"SUM(C6:F6)","v":0}]
[" Savoir parler",null,null,{"$f":"'Pts P2'!D5","v":0},{"$f":"'Pts P3'!D5","v":0},{"$f":"'Pts P4'!D5","v":0},null,null,null,{"$f":"COUNTIF(C7:F7,\"<>0\")","v":1},{"$f":"SUM(C7:F7)","v":0}]
[" Savoir écouter",null,null,{"$f":"'Pts P2'!D6","v":0},{"$f":"'Pts P3'!D6","v":0},{"$f":"'Pts P4'!D6","v":0},null,null,null,{"$f":"COUNTIF(C8:F8,\"<>0\")","v":1},{"$f":"SUM(C8:F8)","v":0}]
["  TOTAL Français",100,{"$f":"'Pts P1'!T7","v":0},{"$f":"'Pts P2'!T7","v":0},{"$f":"'Pts P3'!T7","v":0},{"$f":"'Pts P4'!T7","v":0},null,{"$error":"#DIV/0!"},100,{"$f":"COUNTIF(C9:F9,\"<>0\")","v":0},{"$f":"SUM(C9:F9)","v":0}]
[]
["  MATHEMATIQUES",null,"1ère période","2ème période","3ème période","4ème période"]
[]
[" Savoir calculer",100,{"$f":"'Pts P1'!T8","v":0},{"$f":"'Pts P2'!T8","v":0},{"$f":"'Pts P3'!T8","v":0},{"$f":"'Pts P4'!T8","v":0},null,{"$f":"K13/J13","v":{"$error":"#DIV/0!"}},100,{"$f":"COUNTIF(C13:F13,\"<>0\")","v":0},{"$f":"SUM(C13:F13)","v":0}]
[" Savoir résoudre des problèmes",null,null,{"$f":"'Pts P2'!D9","v":0},{"$f":"'Pts P3'!D9","v":0},{"$f":"'Pts P4'!D9","v":0},null,null,null,{"$f":"COUNTIF(C14:F14,\"<>0\")","v":1},{"$f":"SUM(C14:F14)","v":0}]
[" Savoir mesurer",null,null,{"$f":"'Pts P2'!D10","v":0},{"$f":"'Pts P3'!D10","v":0},{"$f":"'Pts P4'!D10","v":0},null,null,null,{"$f":"COUNTIF(C15:F15,\"<>0\")","v":1},{"$f":"SUM(C15:F15)","v":0}]
[" Savoir structurer l'espace",null,null,{"$f":"'Pts P2'!D11","v":0},{"$f":"'Pts P3'!D11","v":0},{"$f":"'Pts P4'!D11","v":0},null,null,null,{"$f":"COUNTIF(C16:F16,\"<>0\")","v":1},{"$f":"SUM(C16:F16)","v":0}]
["  TOTAL Math",100,{"$f":"'Pts P1'!T12","v":0},{"$f":"'Pts P2'!T12","v":0},{"$f":"'Pts P3'!T12","v":0},{"$f":"'Pts P4'!T12","v":0},null,{"$f":"K17/J17","v":{"$error":"#DIV/0!"}},100,{"$f":"COUNTIF(C17:F17,\"<>0\")","v":0},{"$f":"SUM(C17:F17)","v":0}]
[]
["  TOTAL GÉNÉRAL                                (Français et Mathématiques) en %",null,{"$f":"'Pts P1'!$T$13","v":0},{"$f":"'Pts P2'!$T$13","v":0},{"$f":"'Pts P3'!$T$13","v":0},{"$f":"'Pts P4'!$T$13","v":0},null,{"$f":"K19/J19","v":{"$error":"#DIV/0!"}},"sur",{"$f":"COUNTIF(C19:F19,\"<>0\")","v":0},{"$f":"SUM(C19:F19)","v":0}]
[]
["  AUTRES BRANCHES",null,"1ère période","2ème période","3ème période","4ème période"]
[]
["  Eveil",20,{"$f":"'Pts P1'!T14","v":0},{"$f":"'Pts P2'!T14","v":0},{"$f":"'Pts P3'!T14","v":0},{"$f":"'Pts P4'!T14","v":0},null,{"$f":"K23/J23","v":{"$error":"#DIV/0!"}},20,{"$f":"COUNTIF(C23:F23,\"<>0\")","v":0},{"$f":"SUM(C23:F23)","v":0}]
["  Education physiaue",10,{"$f":"'Pts P1'!T15","v":0},{"$f":"'Pts P2'!T15","v":0},{"$f":"'Pts P3'!T15","v":0},{"$f":"'Pts P4'!T15","v":0},null,{"$error":"#DIV/0!"},10,0,0]
["  Education esthétique",10,{"$f":"'Pts P1'!T16","v":0},{"$f":"'Pts P2'!T16","v":0},{"$f":"'Pts P3'!T16","v":0},{"$f":"'Pts P4'!T16","v":0},null,{"$error":"#DIV/0!"},10,0,0]
["  Religion / Morale / E.P.A",10,{"$f":"'Pts P1'!T17","v":0},{"$f":"'Pts P2'!T17","v":0},{"$f":"'Pts P3'!T17","v":0},{"$f":"'Pts P4'!T17","v":0},null,{"$error":"#DIV/0!"},10,0,0]
["  Récitations et chants","Ap. *",{"$f":"'Pts P1'!T18","v":0},{"$f":"'Pts P2'!T18","v":0},{"$f":"'Pts P3'!T18","v":0},{"$f":"'Pts P4'!T18","v":0},null,null,null,null,0]
["  Ecriture","Ap. *",{"$f":"'Pts P1'!T19","v":0},{"$f":"'Pts P2'!T19","v":0},{"$f":"'Pts P3'!T19","v":0},{"$f":"'Pts P4'!T19","v":0}]
["  Ordre","Ap. *",{"$f":"'Pts P1'!T20","v":0},{"$f":"'Pts P2'!T20","v":0},{"$f":"'Pts P3'!T20","v":0},{"$f":"'Pts P4'!T20","v":0},null,null,null,null,0]
["  Soin","Ap. *",{"$f":"'Pts P1'!T21","v":0},{"$f":"'Pts P2'!T21","v":0},{"$f":"'Pts P3'!T21","v":0},{"$f":"'Pts P4'!T21","v":0},null,null,null,null,0]
["  Travail à Domicile","Ap. *",{"$f":"'Pts P1'!T22","v":0},{"$f":"'Pts P2'!T22","v":0},{"$f":"'Pts P3'!T22","v":0},{"$f":"'Pts P4'!T22","v":0}]
["  ABSENCES (en 1/2 jours)","nbr",{"$f":"'Pts P1'!T23","v":0},{"$f":"'Pts P2'!T23","v":0},{"$f":"'Pts P3'!T23","v":0},{"$f":"'Pts P4'!T23","v":0},null,{"$f":"SUM(C32:F32)","v":0},"Nbr"]
["  RETARDS","nbr",{"$f":"'Pts P1'!T24","v":0},{"$f":"'Pts P2'!T24","v":0},{"$f":"'Pts P3'!T24","v":0},{"$f":"'Pts P4'!T24","v":0},null,{"$f":"SUM(C33:F33)","v":0},"Nbr"]
["  * TB : Très Bien, B = Bien, S = Satisfaisant, F = Faible, I = Insuffisant."]
[]
[" DECISION DU CONSEIL DE CLASSE :"]
[{"$f":"'Déc CC'!$B$2","v":0}]
["        N.B. Cette décision tient compte du travail journalier et des tests d'orientation"]
["        de fin d'année (voir explication sur le feuillet jaune ci-joint !)"]
["                  TITULAIRE :         DIRECTEUR :         PARENTS :"]
["     SIGNATURES :",null,"Alain Rensonnet"]
["Nom et prénom de l'élève :",{"$f":"'Pts P1'!$T$2","v":0}]
[]
["APPRECIATION DU COMPORTEMENT",null,"1ère période","2ème période","3 ème période","4ème période"]
[]
[" 1. Carte(s) d’honneur : jaune(s)",null,{"$f":"'Pts P1'!T25","v":0},{"$f":"'Pts P2'!T25","v":0},{"$f":"'Pts P3'!T25","v":0},{"$f":"'Pts P4'!T25","v":0},null,{"$f":"SUM(C46:F46)","v":0}]
[" 2. Carte(s) verte(s) ",null,{"$f":"'Pts P1'!T26","v":0},{"$f":"'Pts P2'!T26","v":0},{"$f":"'Pts P3'!T26","v":0},{"$f":"'Pts P4'!T26","v":0},null,{"$f":"SUM(C47:F47)","v":0}]
[" 3. Carte(s) orange(s) ",null,{"$f":"'Pts P1'!T27","v":0},{"$f":"'Pts P2'!T27","v":0},{"$f":"'Pts P3'!T27","v":0},{"$f":"'Pts P4'!T27","v":0},null,0]
[" 4. Carte(s) rouge(s) ",null,{"$f":"'Pts P1'!T28","v":0},{"$f":"'Pts P2'!T28","v":0},{"$f":"'Pts P3'!T28","v":0},{"$f":"'Pts P4'!T28","v":0},null,0]
[" 5. Carte(s) rouge(s) « Garderie »",null,{"$f":"'Pts P1'!T29","v":0},{"$f":"'Pts P2'!T29","v":0},{"$f":"'Pts P3'!T29","v":0},{"$f":"'Pts P4'!T29","v":0},null,0]
[" 6. Carte(s) rouge(s) « Tr. scolaire »",null,{"$f":"'Pts P1'!T30","v":0},{"$f":"'Pts P2'!T30","v":0},{"$f":"'Pts P3'!T30","v":0},{"$f":"'Pts P4'!T30","v":0},null,0]
[" 7. Carte(s) blanche(s) (retenues)",null,{"$f":"'Pts P1'!T31","v":0},{"$f":"'Pts P2'!T31","v":0},{"$f":"'Pts P3'!T31","v":0},{"$f":"'Pts P4'!T31","v":0},null,0]
[]
[" COMMENTAIRES et CONSEILS :"]
[" 1ère période :"]
[]
[" 2ème période :"]
[]
[" 3ème période :"]
[]
[" 4ème période :"]
[]
["                                                                Signature des parents :"]

{"sheet":"Elève (18)","index":22,"n_rows":63,"n_cols":11,"rows_kept":63,"cut":false,"hidden":false,"merged":[[59,0,59,5],[60,0,60,5],[61,0,61,5],[62,0,62,5],[53,0,53,5],[54,0,54,5],[55,0,55,5],[56,0,56,5],[57,0,57,5],[58,0,58,5],[51,0,51,1],[43,0,44,1],[43,2,44,2],[43,3,44,3],[43,4,44,4],[46,0,46,1],[47,0,47,1],[48,0,48,1],[49,0,49,1],[50,0,50,1],[43,5,44,5],[45,0,45,1],[33,7,33,8],[35,0,35,5],[36,0,36,5],[37,0,37,5],[39,0,39,5],[41,1,41,5],[20,5,21,5],[10,0,11,1],[10,2,11,2],[10,3,11,3],[10,4,11,4],[10,5,11,5],[12,1,15,1],[12,2,15,2],[12,3,15,3],[12,4,15,4],[12,5,15,5],[18,0,18,1],[20,0,21,1],[20,2,21,2],[20,3,21,3],[20,4,21,4],[2,7,3,8],[5,1,7,1],[5,2,7,2],[5,3,7,3],[5,4,7,4],[5,5,7,5],[0,1,0,5],[2,0,3,1],[2,2,3,2],[2,3,3,3],[2,4,3,4],[2,5,3,5]]}
["Nom et prénom de l'élève :",{"$f":"'Pts P1'!$U$2","v":0}]
[]
["  FRANCAIS",null,"1ère période","2ème période","3ème période","4ème période",null,"MOYENNE"]
[]
[" Savoir lire",20,{"$f":"'Pts P1'!U3","v":0},{"$f":"'Pts P2'!U3","v":0},{"$f":"'Pts P3'!U3","v":0},{"$f":"'Pts P4'!U3","v":0},null,{"$f":"K5/J5","v":{"$error":"#DIV/0!"}},20,{"$f":"COUNTIF(C5:F5,\"<>0\")","v":0},{"$f":"SUM(C5:F5)","v":0}]
[" Savoir écrire",80,{"$f":"'Pts P1'!U4","v":0},{"$f":"'Pts P2'!U4","v":0},{"$f":"'Pts P3'!U4","v":0},{"$f":"'Pts P4'!U4","v":0},null,{"$error":"#DIV/0!"},80,{"$f":"COUNTIF(C6:F6,\"<>0\")","v":0},{"$f":"SUM(C6:F6)","v":0}]
[" Savoir parler",null,null,{"$f":"'Pts P2'!D5","v":0},{"$f":"'Pts P3'!D5","v":0},{"$f":"'Pts P4'!D5","v":0},null,null,null,{"$f":"COUNTIF(C7:F7,\"<>0\")","v":1},{"$f":"SUM(C7:F7)","v":0}]
[" Savoir écouter",null,null,{"$f":"'Pts P2'!D6","v":0},{"$f":"'Pts P3'!D6","v":0},{"$f":"'Pts P4'!D6","v":0},null,null,null,{"$f":"COUNTIF(C8:F8,\"<>0\")","v":1},{"$f":"SUM(C8:F8)","v":0}]
["  TOTAL Français",100,{"$f":"'Pts P1'!U7","v":0},{"$f":"'Pts P2'!U7","v":0},{"$f":"'Pts P3'!U7","v":0},{"$f":"'Pts P4'!U7","v":0},null,{"$error":"#DIV/0!"},100,{"$f":"COUNTIF(C9:F9,\"<>0\")","v":0},{"$f":"SUM(C9:F9)","v":0}]
[]
["  MATHEMATIQUES",null,"1ère période","2ème période","3ème période","4ème période"]
[]
[" Savoir calculer",100,{"$f":"'Pts P1'!U8","v":0},{"$f":"'Pts P2'!U8","v":0},{"$f":"'Pts P3'!U8","v":0},{"$f":"'Pts P4'!U8","v":0},null,{"$f":"K13/J13","v":{"$error":"#DIV/0!"}},100,{"$f":"COUNTIF(C13:F13,\"<>0\")","v":0},{"$f":"SUM(C13:F13)","v":0}]
[" Savoir résoudre des problèmes",null,null,{"$f":"'Pts P2'!D9","v":0},{"$f":"'Pts P3'!D9","v":0},{"$f":"'Pts P4'!D9","v":0},null,null,null,{"$f":"COUNTIF(C14:F14,\"<>0\")","v":1},{"$f":"SUM(C14:F14)","v":0}]
[" Savoir mesurer",null,null,{"$f":"'Pts P2'!D10","v":0},{"$f":"'Pts P3'!D10","v":0},{"$f":"'Pts P4'!D10","v":0},null,null,null,{"$f":"COUNTIF(C15:F15,\"<>0\")","v":1},{"$f":"SUM(C15:F15)","v":0}]
[" Savoir structurer l'espace",null,null,{"$f":"'Pts P2'!D11","v":0},{"$f":"'Pts P3'!D11","v":0},{"$f":"'Pts P4'!D11","v":0},null,null,null,{"$f":"COUNTIF(C16:F16,\"<>0\")","v":1},{"$f":"SUM(C16:F16)","v":0}]
["  TOTAL Math",100,{"$f":"'Pts P1'!U12","v":0},{"$f":"'Pts P2'!U12","v":0},{"$f":"'Pts P3'!U12","v":0},{"$f":"'Pts P4'!U12","v":0},null,{"$f":"K17/J17","v":{"$error":"#DIV/0!"}},100,{"$f":"COUNTIF(C17:F17,\"<>0\")","v":0},{"$f":"SUM(C17:F17)","v":0}]
[]
["  TOTAL GÉNÉRAL                                (Français et Mathématiques) en %",null,{"$f":"'Pts P1'!$U$13","v":0},{"$f":"'Pts P2'!$U$13","v":0},{"$f":"'Pts P3'!$U$13","v":0},{"$f":"'Pts P4'!$U$13","v":0},null,{"$f":"K19/J19","v":{"$error":"#DIV/0!"}},"sur",{"$f":"COUNTIF(C19:F19,\"<>0\")","v":0},{"$f":"SUM(C19:F19)","v":0}]
[]
["  AUTRES BRANCHES",null,"1ère période","2ème période","3ème période","4ème période"]
[]
["  Eveil",20,{"$f":"'Pts P1'!U14","v":0},{"$f":"'Pts P2'!U14","v":0},{"$f":"'Pts P3'!U14","v":0},{"$f":"'Pts P4'!U14","v":0},null,{"$f":"K23/J23","v":{"$error":"#DIV/0!"}},20,{"$f":"COUNTIF(C23:F23,\"<>0\")","v":0},{"$f":"SUM(C23:F23)","v":0}]
["  Education physiaue",10,{"$f":"'Pts P1'!U15","v":0},{"$f":"'Pts P2'!U15","v":0},{"$f":"'Pts P3'!U15","v":0},{"$f":"'Pts P4'!U15","v":0},null,{"$error":"#DIV/0!"},10,0,0]
["  Education esthétique",10,{"$f":"'Pts P1'!U16","v":0},{"$f":"'Pts P2'!U16","v":0},{"$f":"'Pts P3'!U16","v":0},{"$f":"'Pts P4'!U16","v":0},null,{"$error":"#DIV/0!"},10,0,0]
["  Religion / Morale / E.P.A",10,{"$f":"'Pts P1'!U17","v":0},{"$f":"'Pts P2'!U17","v":0},{"$f":"'Pts P3'!U17","v":0},{"$f":"'Pts P4'!U17","v":0},null,{"$error":"#DIV/0!"},10,0,0]
["  Récitations et chants","Ap. *",{"$f":"'Pts P1'!U18","v":0},{"$f":"'Pts P2'!U18","v":0},{"$f":"'Pts P3'!U18","v":0},{"$f":"'Pts P4'!U18","v":0},null,null,null,null,0]
["  Ecriture","Ap. *",{"$f":"'Pts P1'!U19","v":0},{"$f":"'Pts P2'!U19","v":0},{"$f":"'Pts P3'!U19","v":0},{"$f":"'Pts P4'!U19","v":0}]
["  Ordre","Ap. *",{"$f":"'Pts P1'!U20","v":0},{"$f":"'Pts P2'!U20","v":0},{"$f":"'Pts P3'!U20","v":0},{"$f":"'Pts P4'!U20","v":0},null,null,null,null,0]
["  Soin","Ap. *",{"$f":"'Pts P1'!U21","v":0},{"$f":"'Pts P2'!U21","v":0},{"$f":"'Pts P3'!U21","v":0},{"$f":"'Pts P4'!U21","v":0},null,null,null,null,0]
["  Travail à Domicile","Ap. *",{"$f":"'Pts P1'!U22","v":0},{"$f":"'Pts P2'!U22","v":0},{"$f":"'Pts P3'!U22","v":0},{"$f":"'Pts P4'!U22","v":0}]
["  ABSENCES (en 1/2 jours)","nbr",{"$f":"'Pts P1'!U23","v":0},{"$f":"'Pts P2'!U23","v":0},{"$f":"'Pts P3'!U23","v":0},{"$f":"'Pts P4'!U23","v":0},null,{"$f":"SUM(C32:F32)","v":0},"Nbr"]
["  RETARDS","nbr",{"$f":"'Pts P1'!U24","v":0},{"$f":"'Pts P2'!U24","v":0},{"$f":"'Pts P3'!U24","v":0},{"$f":"'Pts P4'!U24","v":0},null,{"$f":"SUM(C33:F33)","v":0},"Nbr"]
["  * TB : Très Bien, B = Bien, S = Satisfaisant, F = Faible, I = Insuffisant."]
[]
[" DECISION DU CONSEIL DE CLASSE :"]
[{"$f":"'Déc CC'!$B$2","v":0}]
["        N.B. Cette décision tient compte du travail journalier et des tests d'orientation"]
["        de fin d'année (voir explication sur le feuillet jaune ci-joint !)"]
["                  TITULAIRE :         DIRECTEUR :         PARENTS :"]
["     SIGNATURES :",null,"Alain Rensonnet"]
["Nom et prénom de l'élève :",{"$f":"'Pts P1'!$U$2","v":0}]
[]
["APPRECIATION DU COMPORTEMENT",null,"1ère période","2ème période","3 ème période","4ème période"]
[]
[" 1. Carte(s) d’honneur : jaune(s)",null,{"$f":"'Pts P1'!U25","v":0},{"$f":"'Pts P2'!U25","v":0},{"$f":"'Pts P3'!U25","v":0},{"$f":"'Pts P4'!U25","v":0},null,{"$f":"SUM(C46:F46)","v":0}]
[" 2. Carte(s) verte(s) ",null,{"$f":"'Pts P1'!U26","v":0},{"$f":"'Pts P2'!U26","v":0},{"$f":"'Pts P3'!U26","v":0},{"$f":"'Pts P4'!U26","v":0},null,{"$f":"SUM(C47:F47)","v":0}]
[" 3. Carte(s) orange(s) ",null,{"$f":"'Pts P1'!U27","v":0},{"$f":"'Pts P2'!U27","v":0},{"$f":"'Pts P3'!U27","v":0},{"$f":"'Pts P4'!U27","v":0},null,0]
[" 4. Carte(s) rouge(s) ",null,{"$f":"'Pts P1'!U28","v":0},{"$f":"'Pts P2'!U28","v":0},{"$f":"'Pts P3'!U28","v":0},{"$f":"'Pts P4'!U28","v":0},null,0]
[" 5. Carte(s) rouge(s) « Garderie »",null,{"$f":"'Pts P1'!U29","v":0},{"$f":"'Pts P2'!U29","v":0},{"$f":"'Pts P3'!U29","v":0},{"$f":"'Pts P4'!U29","v":0},null,0]
[" 6. Carte(s) rouge(s) « Tr. scolaire »",null,{"$f":"'Pts P1'!U30","v":0},{"$f":"'Pts P2'!U30","v":0},{"$f":"'Pts P3'!U30","v":0},{"$f":"'Pts P4'!U30","v":0},null,0]
[" 7. Carte(s) blanche(s) (retenues)",null,{"$f":"'Pts P1'!U31","v":0},{"$f":"'Pts P2'!U31","v":0},{"$f":"'Pts P3'!U31","v":0},{"$f":"'Pts P4'!U31","v":0},null,0]
[]
[" COMMENTAIRES et CONSEILS :"]
[" 1ère période :"]
[]
[" 2ème période :"]
[]
[" 3ème période :"]
[]
[" 4ème période :"]
[]
["                                                                Signature des parents :"]

{"sheet":"Elève (19)","index":23,"n_rows":63,"n_cols":11,"rows_kept":63,"cut":false,"hidden":false,"merged":[[59,0,59,5],[60,0,60,5],[61,0,61,5],[62,0,62,5],[53,0,53,5],[54,0,54,5],[55,0,55,5],[56,0,56,5],[57,0,57,5],[58,0,58,5],[51,0,51,1],[43,0,44,1],[43,2,44,2],[43,3,44,3],[43,4,44,4],[46,0,46,1],[47,0,47,1],[48,0,48,1],[49,0,49,1],[50,0,50,1],[43,5,44,5],[45,0,45,1],[33,7,33,8],[35,0,35,5],[36,0,36,5],[37,0,37,5],[39,0,39,5],[41,1,41,5],[20,5,21,5],[10,0,11,1],[10,2,11,2],[10,3,11,3],[10,4,11,4],[10,5,11,5],[12,1,15,1],[12,2,15,2],[12,3,15,3],[12,4,15,4],[12,5,15,5],[18,0,18,1],[20,0,21,1],[20,2,21,2],[20,3,21,3],[20,4,21,4],[2,7,3,8],[5,1,7,1],[5,2,7,2],[5,3,7,3],[5,4,7,4],[5,5,7,5],[0,1,0,5],[2,0,3,1],[2,2,3,2],[2,3,3,3],[2,4,3,4],[2,5,3,5]]}
["Nom et prénom de l'élève :",{"$f":"'Pts P1'!$V$2","v":0}]
[]
["  FRANCAIS",null,"1ère période","2ème période","3ème période","4ème période",null,"MOYENNE"]
[]
[" Savoir lire",20,{"$f":"'Pts P1'!V3","v":0},{"$f":"'Pts P2'!V3","v":0},{"$f":"'Pts P3'!V3","v":0},{"$f":"'Pts P4'!V3","v":0},null,{"$f":"K5/J5","v":{"$error":"#DIV/0!"}},20,{"$f":"COUNTIF(C5:F5,\"<>0\")","v":0},{"$f":"SUM(C5:F5)","v":0}]
[" Savoir écrire",80,{"$f":"'Pts P1'!V4","v":0},{"$f":"'Pts P2'!V4","v":0},{"$f":"'Pts P3'!V4","v":0},{"$f":"'Pts P4'!V4","v":0},null,{"$error":"#DIV/0!"},80,{"$f":"COUNTIF(C6:F6,\"<>0\")","v":0},{"$f":"SUM(C6:F6)","v":0}]
[" Savoir parler",null,null,{"$f":"'Pts P2'!D5","v":0},{"$f":"'Pts P3'!D5","v":0},{"$f":"'Pts P4'!D5","v":0},null,null,null,{"$f":"COUNTIF(C7:F7,\"<>0\")","v":1},{"$f":"SUM(C7:F7)","v":0}]
[" Savoir écouter",null,null,{"$f":"'Pts P2'!D6","v":0},{"$f":"'Pts P3'!D6","v":0},{"$f":"'Pts P4'!D6","v":0},null,null,null,{"$f":"COUNTIF(C8:F8,\"<>0\")","v":1},{"$f":"SUM(C8:F8)","v":0}]
["  TOTAL Français",100,{"$f":"'Pts P1'!V7","v":0},{"$f":"'Pts P2'!V7","v":0},{"$f":"'Pts P3'!V7","v":0},{"$f":"'Pts P4'!V7","v":0},null,{"$error":"#DIV/0!"},100,{"$f":"COUNTIF(C9:F9,\"<>0\")","v":0},{"$f":"SUM(C9:F9)","v":0}]
[]
["  MATHEMATIQUES",null,"1ère période","2ème période","3ème période","4ème période"]
[]
[" Savoir calculer",100,{"$f":"'Pts P1'!V8","v":0},{"$f":"'Pts P2'!V8","v":0},{"$f":"'Pts P3'!V8","v":0},{"$f":"'Pts P4'!V8","v":0},null,{"$f":"K13/J13","v":{"$error":"#DIV/0!"}},100,{"$f":"COUNTIF(C13:F13,\"<>0\")","v":0},{"$f":"SUM(C13:F13)","v":0}]
[" Savoir résoudre des problèmes",null,null,{"$f":"'Pts P2'!D9","v":0},{"$f":"'Pts P3'!D9","v":0},{"$f":"'Pts P4'!D9","v":0},null,null,null,{"$f":"COUNTIF(C14:F14,\"<>0\")","v":1},{"$f":"SUM(C14:F14)","v":0}]
[" Savoir mesurer",null,null,{"$f":"'Pts P2'!D10","v":0},{"$f":"'Pts P3'!D10","v":0},{"$f":"'Pts P4'!D10","v":0},null,null,null,{"$f":"COUNTIF(C15:F15,\"<>0\")","v":1},{"$f":"SUM(C15:F15)","v":0}]
[" Savoir structurer l'espace",null,null,{"$f":"'Pts P2'!D11","v":0},{"$f":"'Pts P3'!D11","v":0},{"$f":"'Pts P4'!D11","v":0},null,null,null,{"$f":"COUNTIF(C16:F16,\"<>0\")","v":1},{"$f":"SUM(C16:F16)","v":0}]
["  TOTAL Math",100,{"$f":"'Pts P1'!V12","v":0},{"$f":"'Pts P2'!V12","v":0},{"$f":"'Pts P3'!V12","v":0},{"$f":"'Pts P4'!V12","v":0},null,{"$f":"K17/J17","v":{"$error":"#DIV/0!"}},100,{"$f":"COUNTIF(C17:F17,\"<>0\")","v":0},{"$f":"SUM(C17:F17)","v":0}]
[]
["  TOTAL GÉNÉRAL                                (Français et Mathématiques) en %",null,{"$f":"'Pts P1'!$V$13","v":0},{"$f":"'Pts P2'!$V$13","v":0},{"$f":"'Pts P3'!$V$13","v":0},{"$f":"'Pts P4'!$V$13","v":0},null,{"$f":"K19/J19","v":{"$error":"#DIV/0!"}},"sur",{"$f":"COUNTIF(C19:F19,\"<>0\")","v":0},{"$f":"SUM(C19:F19)","v":0}]
[]
["  AUTRES BRANCHES",null,"1ère période","2ème période","3ème période","4ème période"]
[]
["  Eveil",20,{"$f":"'Pts P1'!V14","v":0},{"$f":"'Pts P2'!V14","v":0},{"$f":"'Pts P3'!V14","v":0},{"$f":"'Pts P4'!V14","v":0},null,{"$f":"K23/J23","v":{"$error":"#DIV/0!"}},20,{"$f":"COUNTIF(C23:F23,\"<>0\")","v":0},{"$f":"SUM(C23:F23)","v":0}]
["  Education physiaue",10,{"$f":"'Pts P1'!V15","v":0},{"$f":"'Pts P2'!V15","v":0},{"$f":"'Pts P3'!V15","v":0},{"$f":"'Pts P4'!V15","v":0},null,{"$error":"#DIV/0!"},10,0,0]
["  Education esthétique",10,{"$f":"'Pts P1'!V16","v":0},{"$f":"'Pts P2'!V16","v":0},{"$f":"'Pts P3'!V16","v":0},{"$f":"'Pts P4'!V16","v":0},null,{"$error":"#DIV/0!"},10,0,0]
["  Religion / Morale / E.P.A",10,{"$f":"'Pts P1'!V17","v":0},{"$f":"'Pts P2'!V17","v":0},{"$f":"'Pts P3'!V17","v":0},{"$f":"'Pts P4'!V17","v":0},null,{"$error":"#DIV/0!"},10,0,0]
["  Récitations et chants","Ap. *",{"$f":"'Pts P1'!V18","v":0},{"$f":"'Pts P2'!V18","v":0},{"$f":"'Pts P3'!V18","v":0},{"$f":"'Pts P4'!V18","v":0},null,null,null,null,0]
["  Ecriture","Ap. *",{"$f":"'Pts P1'!V19","v":0},{"$f":"'Pts P2'!V19","v":0},{"$f":"'Pts P3'!V19","v":0},{"$f":"'Pts P4'!V19","v":0}]
["  Ordre","Ap. *",{"$f":"'Pts P1'!V20","v":0},{"$f":"'Pts P2'!V20","v":0},{"$f":"'Pts P3'!V20","v":0},{"$f":"'Pts P4'!V20","v":0},null,null,null,null,0]
["  Soin","Ap. *",{"$f":"'Pts P1'!V21","v":0},{"$f":"'Pts P2'!V21","v":0},{"$f":"'Pts P3'!V21","v":0},{"$f":"'Pts P4'!V21","v":0},null,null,null,null,0]
["  Travail à Domicile","Ap. *",{"$f":"'Pts P1'!V22","v":0},{"$f":"'Pts P2'!V22","v":0},{"$f":"'Pts P3'!V22","v":0},{"$f":"'Pts P4'!V22","v":0}]
["  ABSENCES (en 1/2 jours)","nbr",{"$f":"'Pts P1'!V23","v":0},{"$f":"'Pts P2'!V23","v":0},{"$f":"'Pts P3'!V23","v":0},{"$f":"'Pts P4'!V23","v":0},null,{"$f":"SUM(C32:F32)","v":0},"Nbr"]
["  RETARDS","nbr",{"$f":"'Pts P1'!V24","v":0},{"$f":"'Pts P2'!V24","v":0},{"$f":"'Pts P3'!V24","v":0},{"$f":"'Pts P4'!V24","v":0},null,{"$f":"SUM(C33:F33)","v":0},"Nbr"]
["  * TB : Très Bien, B = Bien, S = Satisfaisant, F = Faible, I = Insuffisant."]
[]
[" DECISION DU CONSEIL DE CLASSE :"]
[{"$f":"'Déc CC'!$B$2","v":0}]
["        N.B. Cette décision tient compte du travail journalier et des tests d'orientation"]
["        de fin d'année (voir explication sur le feuillet jaune ci-joint !)"]
["                  TITULAIRE :         DIRECTEUR :         PARENTS :"]
["     SIGNATURES :",null,"Alain Rensonnet"]
["Nom et prénom de l'élève :",{"$f":"'Pts P1'!$V$2","v":0}]
[]
["APPRECIATION DU COMPORTEMENT",null,"1ère période","2ème période","3 ème période","4ème période"]
[]
[" 1. Carte(s) d’honneur : jaune(s)",null,{"$f":"'Pts P1'!V25","v":0},{"$f":"'Pts P2'!V25","v":0},{"$f":"'Pts P3'!V25","v":0},{"$f":"'Pts P4'!V25","v":0},null,{"$f":"SUM(C46:F46)","v":0}]
[" 2. Carte(s) verte(s) ",null,{"$f":"'Pts P1'!V26","v":0},{"$f":"'Pts P2'!V26","v":0},{"$f":"'Pts P3'!V26","v":0},{"$f":"'Pts P4'!V26","v":0},null,{"$f":"SUM(C47:F47)","v":0}]
[" 3. Carte(s) orange(s) ",null,{"$f":"'Pts P1'!V27","v":0},{"$f":"'Pts P2'!V27","v":0},{"$f":"'Pts P3'!V27","v":0},{"$f":"'Pts P4'!V27","v":0},null,0]
[" 4. Carte(s) rouge(s) ",null,{"$f":"'Pts P1'!V28","v":0},{"$f":"'Pts P2'!V28","v":0},{"$f":"'Pts P3'!V28","v":0},{"$f":"'Pts P4'!V28","v":0},null,0]
[" 5. Carte(s) rouge(s) « Garderie »",null,{"$f":"'Pts P1'!V29","v":0},{"$f":"'Pts P2'!V29","v":0},{"$f":"'Pts P3'!V29","v":0},{"$f":"'Pts P4'!V29","v":0},null,0]
[" 6. Carte(s) rouge(s) « Tr. scolaire »",null,{"$f":"'Pts P1'!V30","v":0},{"$f":"'Pts P2'!V30","v":0},{"$f":"'Pts P3'!V30","v":0},{"$f":"'Pts P4'!V30","v":0},null,0]
[" 7. Carte(s) blanche(s) (retenues)",null,{"$f":"'Pts P1'!V31","v":0},{"$f":"'Pts P2'!V31","v":0},{"$f":"'Pts P3'!V31","v":0},{"$f":"'Pts P4'!V31","v":0},null,0]
[]
[" COMMENTAIRES et CONSEILS :"]
[" 1ère période :"]
[]
[" 2ème période :"]
[]
[" 3ème période :"]
[]
[" 4ème période :"]
[]
["                                                                Signature des parents :"]