{"text_format":"1","workbook":"xlsx","n_sheets":14,"sheets":["Accueil","Personnel","Janv","Fev","Mars","Avril","Mai","Juin","Juil","Aout","Sept","Oct","Nov","Dec"],"not_rendered":{"charts":0,"images":0,"macros":1,"external_links":0,"defined_names":35,"comments":0,"pivot_tables":0},"unopened":[],"bounds":{"document_bytes":16777216,"sheet_cells":100000,"rows_first":2000,"rows_last":500,"rows_between":2000,"halvings":0,"cell_chars":16384,"cell_head_chars":4096},"cells_cut":0,"cells_raw":0,"read":"whole","date_system":"1900"}

{"sheet":"Accueil","index":0,"n_rows":35,"n_cols":10,"rows_kept":35,"cut":false,"hidden":false,"merged":[[16,9,16,10],[20,9,20,10],[25,9,25,10],[1,9,1,10],[19,9,19,10],[17,9,17,10],[18,9,18,10],[15,9,15,10],[9,9,9,10],[10,9,10,10],[11,9,11,10],[12,9,12,10],[13,9,13,10],[14,9,14,10],[1,0,1,1],[1,5,1,6],[3,3,3,4],[3,5,3,6],[8,9,8,10],[7,9,7,10],[4,4,4,7],[30,4,30,9],[21,9,21,10],[22,9,22,10],[23,9,23,10],[24,9,24,10],[29,4,29,9]]}
[]
["Année :",null,2016,null,"Service :","Maison de l'Ancre",null,null,"Personnel :","Educatif"]
[]
[null,null,null,null,null,"Nécessite un affichage en 1024x768"]
[null,null,"téléchargé sur http://e.brue.free.fr",null,"Planning paramed version 1.0 pour Excel 2000 et versions ulterieures"]
[]
[null,"Les codes",null,null,null,"Quelques horaires",null,null,"Les jours fériés"]
[null,"M1","Horaire continu","#",null,"M 1","08H00 - 16H00",null,{"$f":"DATE(C2,1,1)","v":"2016-01-01"},"Nouvel An"]
[null,"M2","Horaire continu","#",null,"M 2","08H00 - 12H00",null,{"$f":"ROUND(DATE(C2,4,MOD(234-11*MOD(C2,19),30))/7,)*7-6","v":"2016-03-27"},"Dimanche de Pâques"]
[null,"M3","Horaire continu","#",null,"M3","08H00 - 14H00",null,{"$f":"I9+1","v":"2016-03-28"},"Lundi de Pâques"]
[null,"MP","Horaire continu","#",null,"MP","08h00 - 22h00 (coupé 2h)",null,{"$f":"DATE(C2,5,1)","v":"2016-05-01"},"Fête du travail"]
[null,"AP1","Horaire continu","#",null,"AP1","14H00 - 22H00",null,{"$f":"DATE(C3,4,3)","v":"1900-04-03"},"Vendredi Saint"]
[null,"AP2","Horaire continu","#",null,"AP2","16H00 - 22H00",null,{"$f":"I9+39","v":"2016-05-05"},"Ascension"]
[null,"AP3","Horaire continu","#",null,"AP3","14H00 - 18H00",null,{"$f":"I9+50","v":"2016-05-16"},"Lundi de Pentecôte"]
[null,"P1","Horaire continu","#",null,"P1","piquet matin + 14h-22h",null,{"$f":"DATE(C2,8,1)","v":"2016-08-01"},"Fête nationale"]
[null,"Nuit","nuit","#",null,"NUIT","22H00 - 08H00",null,{"$f":"DATE(C2,9,10)","v":"2016-09-10"},"Jeûne Genevois"]
[null,"BI",null,"#",null,"STA","Accompagnement stage"]
[null,"LY",null,"#",null,"LY","Lancy"]
[null,"ST",null,"#",null,null,null,null,{"$f":"DATE(C2,12,25)","v":"2016-12-25"},"Noël"]
[null,"IND","Indisponible",null,null,null,null,null,{"$f":"DATE(C2,12,31)","v":"2016-12-31"},"Restauration de la république"]
[null,null,null,null,null,"Ces 12 horaires apparaitront en bas de page "]
[null,null,null,null,null,"sur le planning imprimé"]
[null,"Vac","congés annuel"]
[null,"Mal","congés maladie",null,null,null,"Choisir l'imprimante avant impression"]
[null,"Mat","congés maternité"]
[null,"CC","Congé compensé"]
[null,"F","Formation"]
[null,"Enf","Enfant malade"]
[null,"CP","Camp"]
[]
[null,null,null,"#",": ces 13 cellules sont additionnées pour le calcul du nombre de jours travaillés"]
[]
[null,null,null,null,"un clic sur ce bouton permet d'appliquer les codes sur la légende des boutons des feuilles de planning"]
[]
[null,null,null,false]

{"sheet":"Personnel","index":1,"n_rows":35,"n_cols":98,"rows_kept":35,"cut":false,"hidden":false,"merged":[[31,0,31,1],[27,0,27,1],[28,0,28,1],[29,0,29,1],[30,0,30,1],[26,0,26,1],[15,0,15,1],[16,0,16,1],[17,0,17,1],[18,0,18,1],[19,0,19,1],[20,0,20,1],[21,0,21,1],[22,0,22,1],[23,0,23,1],[24,0,24,1],[25,0,25,1],[14,0,14,1],[3,0,3,1],[4,0,4,1],[5,0,5,1],[6,0,6,1],[7,0,7,1],[8,0,8,1],[9,0,9,1],[10,0,10,1],[11,0,11,1],[12,0,12,1],[13,0,13,1],[0,91,0,93],[0,95,0,97],[1,0,1,1],[2,0,2,1],[0,0,0,1],[0,83,0,85],[0,87,0,89]]}
[{"$f":"\"Année \" & Accueil!C2","v":"Année 2016"},null,null,null,null,"Congès annuels",null,null,"Jours enfant malade",null,null,"RH aministratifs",null,null,"RH employé",null,null,null,null,null,null,null,null,null,null,null,null,null,null,null,null,null,null,null,null,null,null,null,null,null,null,null,null,null,null,null,null,null,null,null,null,null,null,null,null,null,null,null,null,null,null,null,null,null,null,null,null,null,null,null,null,null,null,null,null,null,null,null,null,null,null,null,null,"Bilan congès annuels",null,null,null,"Bilan Enfant malade",null,null,null,"Bilan RTT aministratif",null,null,null,"Bilan RTT employé"]
[{"$f":"Accueil!J2","v":"Educatif"},null,null,null,40,{"$f":" \"autorisés en \" & Accueil!C2","v":"autorisés en 2016"},null,null,{"$f":" \"autorisés en \" & Accueil!C2","v":"autorisés en 2016"},null,null,{"$f":" \"autorisés en \" & Accueil!C2","v":"autorisés en 2016"},null,null,{"$f":" \"autorisés en \" & Accueil!C2","v":"autorisés en 2016"},null,null,null,null,null,null,null,null,null,null,null,null,null,null,null,null,null,null,null,null,null,null,null,null,null,null,null,null,null,null,null,null,null,null,null,null,null,null,null,null,null,null,null,null,null,null,null,null,null,null,null,null,null,null,null,null,null,null,null,null,null,null,null,null,null,null,null,null,"capital","pris","restant",null,"capital","pris","restant",null,"capital","pris","restant",null,"capital","pris","restant"]
["Anne",null,0.7,{"$f":"C3*$E$2","v":28},null,null,"jours",null,null,"jours",null,null,"jours",null,null,"jours",null,null,null,null,null,null,null,null,null,null,null,null,null,null,null,null,null,null,null,null,null,null,null,null,null,null,null,null,null,null,null,null,null,null,null,null,null,null,null,null,null,null,null,null,null,null,null,null,null,null,null,null,null,null,null,null,null,null,null,null,null,null,null,null,null,null,null,null,{"$f":"0.5*($BU3)+($BV3)","v":0},{"$f":"CF3-CG3","v":0},null,null,{"$f":"$CA3","v":0},{"$f":"CJ3-CK3","v":0},null,null,{"$f":"$CB3","v":0},{"$f":"CN3-CO3","v":0},null,null,{"$f":"$CC3","v":0},{"$f":"CR3-CS3","v":0}]
[null,null,null,{"$f":"C4*$E$2","v":0},null,null,"jours",null,null,"jours",null,null,"jours",null,null,"jours",null,null,null,null,null,null,null,null,null,null,null,null,null,null,null,null,null,null,null,null,null,null,null,null,null,null,null,null,null,null,null,null,null,null,null,null,null,null,null,null,null,null,null,null,null,null,null,null,null,null,null,null,null,null,null,null,null,null,null,null,null,null,null,null,null,null,null,null,0,0,null,null,0,0,null,null,0,0,null,null,0,0]
["Elodie",null,1,40,null,null,"jours",null,null,"jours",null,null,"jours",null,null,"jours",null,null,null,null,null,null,null,null,null,null,null,null,null,null,null,null,null,null,null,null,null,null,null,null,null,null,null,null,null,null,null,null,null,null,null,null,null,null,null,null,null,null,null,null,null,null,null,null,null,null,null,null,null,null,null,null,null,null,null,null,null,null,null,null,null,null,null,null,0,0,null,null,0,0,null,null,0,0,null,null,0,0]
[null,null,null,0,null,null,"jours",null,null,"jours",null,null,"jours",null,null,"jours",null,null,null,null,null,null,null,null,null,null,null,null,null,null,null,null,null,null,null,null,null,null,null,null,null,null,null,null,null,null,null,null,null,null,null,null,null,null,null,null,null,null,null,null,null,null,null,null,null,null,null,null,null,null,null,null,null,null,null,null,null,null,null,null,null,null,null,null,0,0,null,null,0,0,null,null,0,0,null,null,0,0]
["Eve-Marie",null,0.8,32,null,null,"jours",null,null,"jours",null,null,"jours",null,null,"jours",null,null,null,null,null,null,null,null,null,null,null,null,null,null,null,null,null,null,null,null,null,null,null,null,null,null,null,null,null,null,null,null,null,null,null,null,null,null,null,null,null,null,null,null,null,null,null,null,null,null,null,null,null,null,null,null,null,null,null,null,null,null,null,null,null,null,null,null,0,0,null,null,0,0,null,null,0,0,null,null,0,0]
[null,null,null,0,null,null,"jours",null,null,"jours",null,null,"jours",null,null,"jours",null,null,null,null,null,null,null,null,null,null,null,null,null,null,null,null,null,null,null,null,null,null,null,null,null,null,null,null,null,null,null,null,null,null,null,null,null,null,null,null,null,null,null,null,null,null,null,null,null,null,null,null,null,null,null,null,null,null,null,null,null,null,null,null,null,null,null,null,0,0,null,null,0,0,null,null,0,0,null,null,0,0]
["Isabel",null,0.6,24,null,null,"jours",null,null,"jours",null,null,"jours",null,null,"jours",null,null,null,null,null,null,null,null,null,null,null,null,null,null,null,null,null,null,null,null,null,null,null,null,null,null,null,null,null,null,null,null,null,null,null,null,null,null,null,null,null,null,null,null,null,null,null,null,null,null,null,null,null,null,null,null,null,null,null,null,null,null,null,null,null,null,null,null,0,0,null,null,0,0,null,null,0,0,null,null,0,0]
[null,null,null,0,null,null,"jours",null,null,"jours",null,null,"jours",null,null,"jours",null,null,null,null,null,null,null,null,null,null,null,null,null,null,null,null,null,null,null,null,null,null,null,null,null,null,null,null,null,null,null,null,null,null,null,null,null,null,null,null,null,null,null,null,null,null,null,null,null,null,null,null,null,null,null,null,null,null,null,null,null,null,null,null,null,null,null,null,0,0,null,12,0,12,null,null,0,0,null,null,0,0]
["Simon-Pierre",null,1,40,null,null,"jours",null,null,"jours",null,null,"jours",null,null,"jours",null,null,null,null,null,null,null,null,null,null,null,null,null,null,null,null,null,null,null,null,null,null,null,null,null,null,null,null,null,null,null,null,null,null,null,null,null,null,null,null,null,null,null,null,null,null,null,null,null,null,null,null,null,null,null,null,null,null,null,null,null,null,null,null,null,null,null,null,0,0,null,null,0,0,null,null,0,0,null,null,0,0]
[null,null,null,0,null,null,"jours",null,null,"jours",null,null,"jours",null,null,"jours",null,null,null,null,null,null,null,null,null,null,null,null,null,null,null,null,null,null,null,null,null,null,null,null,null,null,null,null,null,null,null,null,null,null,null,null,null,null,null,null,null,null,null,null,null,null,null,null,null,null,null,null,null,null,null,null,null,null,null,null,null,null,null,null,null,null,null,null,0,0,null,null,0,0,null,null,0,0,null,null,0,0]
["Virginie",null,0.8,{"$f":"C13*$E$2","v":32},null,null,"jours",null,null,"jours",null,null,"jours",null,null,"jours",null,null,null,null,null,null,null,null,null,null,null,null,null,null,null,null,null,null,null,null,null,null,null,null,null,null,null,null,null,null,null,null,null,null,null,null,null,null,null,null,null,null,null,null,null,null,null,null,null,null,null,null,null,null,null,null,null,null,null,null,null,null,null,null,null,null,null,null,0,0,null,null,0,0,null,null,0,0,null,null,0,0]
[null,null,null,0,null,null,"jours",null,null,"jours",null,null,"jours",null,null,"jours",null,null,null,null,null,null,null,null,null,null,null,null,null,null,null,null,null,null,null,null,null,null,null,null,null,null,null,null,null,null,null,null,null,null,null,null,null,null,null,null,null,null,null,null,null,null,null,null,null,null,null,null,null,null,null,null,null,null,null,null,null,null,null,null,null,null,null,null,0,0,null,null,0,0,null,null,0,0,null,null,0,0]
["Jacqueline",null,0.8,32,null,null,"jours",null,null,"jours",null,null,"jours",null,null,"jours",null,null,null,null,null,null,null,null,null,null,null,null,null,null,null,null,null,null,null,null,null,null,null,null,null,null,null,null,null,null,null,null,null,null,null,null,null,null,null,null,null,null,null,null,null,null,null,null,null,null,null,null,null,null,null,null,null,null,null,null,null,null,null,null,null,null,null,null,0,0,null,null,0,0,null,null,0,0,null,null,0,0]
[null,null,null,0,null,null,"jours",null,null,"jours",null,null,"jours",null,null,"jours",null,null,null,null,null,null,null,null,null,null,null,null,null,null,null,null,null,null,null,null,null,null,null,null,null,null,null,null,null,null,null,null,null,null,null,null,null,null,null,null,null,null,null,null,null,null,null,null,null,null,null,null,null,null,null,null,null,null,null,null,null,null,null,null,null,null,null,0,0,0,null,null,0,0,null,null,0,0,null,null,0,0]
["Colette",null,0.7,28,null,null,"jours",null,null,"jours",null,null,"jours",null,null,"jours",null,null,null,null,null,null,null,null,null,null,null,null,null,null,null,null,null,null,null,null,null,null,null,null,null,null,null,null,null,null,null,null,null,null,null,null,null,null,null,null,null,null,null,null,null,null,null,null,null,null,null,null,null,null,null,null,null,null,null,null,null,null,null,null,null,null,null,4,0,4,null,null,0,0,null,null,0,0,null,null,0,0]
[null,null,null,0,null,null,"jours",null,null,"jours",null,null,"jours",null,null,"jours",null,null,null,null,null,null,null,null,null,null,null,null,null,null,null,null,null,null,null,null,null,null,null,null,null,null,null,null,null,null,null,null,null,null,null,null,null,null,null,null,null,null,null,null,null,null,null,null,null,null,null,null,null,null,null,null,null,null,null,null,null,null,null,null,null,null,null,null,0,0,null,null,0,0,null,null,0,0,null,null,0,0]
["Lisa",null,0.7,28,null,null,"jours",null,null,"jours",null,null,"jours",null,null,"jours",null,null,null,null,null,null,null,null,null,null,null,null,null,null,null,null,null,null,null,null,null,null,null,null,null,null,null,null,null,null,null,null,null,null,null,null,null,null,null,null,null,null,null,null,null,null,null,null,null,null,null,null,null,null,null,null,null,null,null,null,null,null,null,null,null,null,null,null,0,0,null,null,0,0,null,null,0,0,null,null,0,0]
[null,null,null,0,null,null,"jours",null,null,"jours",null,null,"jours",null,null,"jours",null,null,null,null,null,null,null,null,null,null,null,null,null,null,null,null,null,null,null,null,null,null,null,null,null,null,null,null,null,null,null,null,null,null,null,null,null,null,null,null,null,null,null,null,null,null,null,null,null,null,null,null,null,null,null,null,null,null,null,null,null,null,null,null,null,null,null,null,0,0,null,null,0,0,null,null,0,0,null,null,0,0]
["Philip",null,0.7,28,null,null,"jours",null,null,"jours",null,null,"jours",null,null,"jours",null,null,null,null,null,null,null,null,null,null,null,null,null,null,null,null,null,null,null,null,null,null,null,null,null,null,null,null,null,null,null,null,null,null,null,null,null,null,null,null,null,null,null,null,null,null,null,null,null,null,null,null,null,null,null,null,null,null,null,null,null,null,null,null,null,null,null,null,0,0,null,null,0,0,null,null,0,0,null,null,0,0]
[null,null,null,0,null,null,"jours",null,null,"jours",null,null,"jours",null,null,"jours",null,null,null,null,null,null,null,null,null,null,null,null,null,null,null,null,null,null,null,null,null,null,null,null,null,null,null,null,null,null,null,null,null,null,null,null,null,null,null,null,null,null,null,null,null,null,null,null,null,null,null,null,null,null,null,null,null,null,null,null,null,null,null,null,null,null,null,null,0,0,null,null,0,0,null,null,0,0,null,null,0,0]
["Dania",null,0.3,12,null,null,"jours",null,null,"jours",null,null,"jours",null,null,"jours",null,null,null,null,null,null,null,null,null,null,null,null,null,null,null,null,null,null,null,null,null,null,null,null,null,null,null,null,null,null,null,null,null,null,null,null,null,null,null,null,null,null,null,null,null,null,null,null,null,null,null,null,null,null,null,null,null,null,null,null,null,null,null,null,null,null,null,null,0,0,null,null,0,0,null,null,0,0,null,null,0,0]
[null,null,null,0,null,null,"jours",null,null,"jours",null,null,"jours",null,null,"jours",null,null,null,null,null,null,null,null,null,null,null,null,null,null,null,null,null,null,null,null,null,null,null,null,null,null,null,null,null,null,null,null,null,null,null,null,null,null,null,null,null,null,null,null,null,null,null,null,null,null,null,null,null,null,null,null,null,null,null,null,null,null,null,null,null,null,null,null,0,0,null,null,0,0,null,null,0,0,null,null,0,0]
["Claudia",null,0.6,24,null,null,"jours",null,null,"jours",null,null,"jours",null,null,"jours",null,null,null,null,null,null,null,null,null,null,null,null,null,null,null,null,null,null,null,null,null,null,null,null,null,null,null,null,null,null,null,null,null,null,null,null,null,null,null,null,null,null,null,null,null,null,null,null,null,null,null,null,null,null,null,null,null,null,null,null,null,null,null,null,null,null,null,null,0,0,null,null,0,0,null,null,0,0,null,null,0,0]
["FRPI",null,null,0,null,null,"jours",null,null,"jours",null,null,"jours",null,null,"jours",null,null,null,null,null,null,null,null,null,null,null,null,null,null,null,null,null,null,null,null,null,null,null,null,null,null,null,null,null,null,null,null,null,null,null,null,null,null,null,null,null,null,null,null,null,null,null,null,null,null,null,null,null,null,null,null,null,null,null,null,null,null,null,null,null,null,null,null,0,0,null,null,0,0,null,null,0,0,null,null,0,0]
[null,null,null,0,null,null,"jours",null,null,"jours",null,null,"jours",null,null,"jours",null,null,null,null,null,null,null,null,null,null,null,null,null,null,null,null,null,null,null,null,null,null,null,null,null,null,null,null,null,null,null,null,null,null,null,null,null,null,null,null,null,null,null,null,null,null,null,null,null,null,null,null,null,null,null,null,null,null,null,null,null,null,null,null,null,null,null,null,0,0,null,null,0,0,null,null,0,0,null,null,0,0]
["Frédéric",null,0.3,12,null,null,"jours",null,null,"jours",null,null,"jours",null,null,"jours",null,null,null,null,null,null,null,null,null,null,null,null,null,null,null,null,null,null,null,null,null,null,null,null,null,null,null,null,null,null,null,null,null,null,null,null,null,null,null,null,null,null,null,null,null,null,null,null,null,null,null,null,null,null,null,null,null,null,null,null,null,null,null,null,null,null,null,null,0,0,null,null,0,0,null,null,0,0,null,null,0,0]
["Ibrahim",null,0.9,36,null,null,"jours",null,null,"jours",null,null,"jours",null,null,"jours",null,null,null,null,null,null,null,null,null,null,null,null,null,null,null,null,null,null,null,null,null,null,null,null,null,null,null,null,null,null,null,null,null,null,null,null,null,null,null,null,null,null,null,null,null,null,null,null,null,null,null,null,null,null,null,null,null,null,null,null,null,null,null,null,null,null,null,null,0,0,null,null,0,0,null,null,0,0,null,null,0,0]
["Julien",null,0.4,16,null,null,"jours",null,null,"jours",null,null,"jours",null,null,"jours",null,null,null,null,null,null,null,null,null,null,null,null,null,null,null,null,null,null,null,null,null,null,null,null,null,null,null,null,null,null,null,null,null,null,null,null,null,null,null,null,null,null,null,null,null,null,null,null,null,null,null,null,null,null,null,null,null,null,null,null,null,null,null,null,null,null,null,null,0,0,null,null,0,0,null,null,0,0,null,null,0,0]
["Mario",null,0.5,20,null,null,"jours",null,null,"jours",null,null,"jours",null,null,"jours",null,null,null,null,null,null,null,null,null,null,null,null,null,null,null,null,null,null,null,null,null,null,null,null,null,null,null,null,null,null,null,null,null,null,null,null,null,null,null,null,null,null,null,null,null,null,null,null,null,null,null,null,null,null,null,null,null,null,null,null,null,null,null,null,null,null,null,null,0,0,null,null,0,0,null,null,0,0,null,null,0,0]
["Hamid",null,0.4,16,null,null,"jours",null,null,"jours",null,null,"jours",null,null,"jours",null,null,null,null,null,null,null,null,null,null,null,null,null,null,null,null,null,null,null,null,null,null,null,null,null,null,null,null,null,null,null,null,null,null,null,null,null,null,null,null,null,null,null,null,null,null,null,null,null,null,null,null,null,null,null,null,null,null,null,null,null,null,null,null,null,null,null,null,0,0,null,null,0,0,null,null,0,0,null,null,0,0]
[]
[null,null,null,null,null,"Ces données doivent être saisies dans cette page au mois de janvier. Une modification survenant en cours"]
[null,null,null,null,null,"d'année doit être directement saisie dans la cellule correspondante à la feuille du mois correspondant."]

{"sheet":"Janv","index":2,"n_rows":47,"n_cols":99,"rows_kept":47,"cut":false,"hidden":false,"merged":[[31,0,31,1],[26,0,26,1],[27,0,27,1],[28,0,28,1],[29,0,29,1],[30,0,30,1],[21,0,21,1],[22,0,22,1],[23,0,23,1],[24,0,24,1],[25,0,25,1],[17,0,17,1],[1,0,1,1],[18,0,18,1],[19,0,19,1],[20,0,20,1],[12,0,12,1],[13,0,13,1],[14,0,14,1],[15,0,15,1],[16,0,16,1],[7,0,7,1],[8,0,8,1],[9,0,9,1],[10,0,10,1],[11,0,11,1],[2,0,2,1],[3,0,3,1],[4,0,4,1],[5,0,5,1],[6,0,6,1],[0,96,0,98],[0,0,0,1],[0,84,0,86],[0,88,0,90],[0,92,0,94]]}
[{"$f":"DATE(Accueil!C2,1,1)","v":"2016-01-01"},null,{"$f":"INDEX({\"D\";\"L\";\"M\";\"M\";\"J\";\"V\";\"S\"},WEEKDAY(C2))","v":"V"},{"$f":"INDEX({\"D\";\"L\";\"M\";\"M\";\"J\";\"V\";\"S\"},WEEKDAY(D2))","v":"S"},{"$f":"INDEX({\"D\";\"L\";\"M\";\"M\";\"J\";\"V\";\"S\"},WEEKDAY(E2))","v":"D"},{"$f":"INDEX({\"D\";\"L\";\"M\";\"M\";\"J\";\"V\";\"S\"},WEEKDAY(F2))","v":"L"},{"$f":"INDEX({\"D\";\"L\";\"M\";\"M\";\"J\";\"V\";\"S\"},WEEKDAY(G2))","v":"M"},{"$f":"INDEX({\"D\";\"L\";\"M\";\"M\";\"J\";\"V\";\"S\"},WEEKDAY(H2))","v":"M"},{"$f":"INDEX({\"D\";\"L\";\"M\";\"M\";\"J\";\"V\";\"S\"},WEEKDAY(I2))","v":"J"},{"$f":"INDEX({\"D\";\"L\";\"M\";\"M\";\"J\";\"V\";\"S\"},WEEKDAY(J2))","v":"V"},{"$f":"INDEX({\"D\";\"L\";\"M\";\"M\";\"J\";\"V\";\"S\"},WEEKDAY(K2))","v":"S"},{"$f":"INDEX({\"D\";\"L\";\"M\";\"M\";\"J\";\"V\";\"S\"},WEEKDAY(L2))","v":"D"},{"$f":"INDEX({\"D\";\"L\";\"M\";\"M\";\"J\";\"V\";\"S\"},WEEKDAY(M2))","v":"L"},{"$f":"INDEX({\"D\";\"L\";\"M\";\"M\";\"J\";\"V\";\"S\"},WEEKDAY(N2))","v":"M"},{"$f":"INDEX({\"D\";\"L\";\"M\";\"M\";\"J\";\"V\";\"S\"},WEEKDAY(O2))","v":"M"},{"$f":"INDEX({\"D\";\"L\";\"M\";\"M\";\"J\";\"V\";\"S\"},WEEKDAY(P2))","v":"J"},{"$f":"INDEX({\"D\";\"L\";\"M\";\"M\";\"J\";\"V\";\"S\"},WEEKDAY(Q2))","v":"V"},{"$f":"INDEX({\"D\";\"L\";\"M\";\"M\";\"J\";\"V\";\"S\"},WEEKDAY(R2))","v":"S"},{"$f":"INDEX({\"D\";\"L\";\"M\";\"M\";\"J\";\"V\";\"S\"},WEEKDAY(S2))","v":"D"},{"$f":"INDEX({\"D\";\"L\";\"M\";\"M\";\"J\";\"V\";\"S\"},WEEKDAY(T2))","v":"L"},{"$f":"INDEX({\"D\";\"L\";\"M\";\"M\";\"J\";\"V\";\"S\"},WEEKDAY(U2))","v":"M"},{"$f":"INDEX({\"D\";\"L\";\"M\";\"M\";\"J\";\"V\";\"S\"},WEEKDAY(V2))","v":"M"},{"$f":"INDEX({\"D\";\"L\";\"M\";\"M\";\"J\";\"V\";\"S\"},WEEKDAY(W2))","v":"J"},{"$f":"INDEX({\"D\";\"L\";\"M\";\"M\";\"J\";\"V\";\"S\"},WEEKDAY(X2))","v":"V"},{"$f":"INDEX({\"D\";\"L\";\"M\";\"M\";\"J\";\"V\";\"S\"},WEEKDAY(Y2))","v":"S"},{"$f":"INDEX({\"D\";\"L\";\"M\";\"M\";\"J\";\"V\";\"S\"},WEEKDAY(Z2))","v":"D"},{"$f":"INDEX({\"D\";\"L\";\"M\";\"M\";\"J\";\"V\";\"S\"},WEEKDAY(AA2))","v":"L"},{"$f":"INDEX({\"D\";\"L\";\"M\";\"M\";\"J\";\"V\";\"S\"},WEEKDAY(AB2))","v":"M"},{"$f":"INDEX({\"D\";\"L\";\"M\";\"M\";\"J\";\"V\";\"S\"},WEEKDAY(AC2))","v":"M"},{"$f":"INDEX({\"D\";\"L\";\"M\";\"M\";\"J\";\"V\";\"S\"},WEEKDAY(AD2))","v":"J"},{"$f":"INDEX({\"D\";\"L\";\"M\";\"M\";\"J\";\"V\";\"S\"},WEEKDAY(AE2))","v":"V"},{"$f":"INDEX({\"D\";\"L\";\"M\";\"M\";\"J\";\"V\";\"S\"},WEEKDAY(AF2))","v":"S"},{"$f":"INDEX({\"D\";\"L\";\"M\";\"M\";\"J\";\"V\";\"S\"},WEEKDAY(AG2))","v":"D"},null,"Bilan mensuel",null,null,null,null,null,null,null,null,null,null,null,null,null,null,null,null,null,null,null,null,null,null,"Total jours",null,"Bilan annuel",null,null,null,null,null,null,null,null,null,null,null,null,null,null,null,null,null,null,null,null,null,null,"Total jours",null,"Bilan congès annuels",null,null,null,"Bilan Enfant malade",null,null,null,"Bilan RH aministratif",null,null,null,"Bilan RH employé"]
[{"$f":"Accueil!J2","v":"Educatif"},null,{"$f":"A1","v":"2016-01-01"},{"$f":"C2+1","v":"2016-01-02"},"2016-01-03","2016-01-04","2016-01-05","2016-01-06","2016-01-07","2016-01-08","2016-01-09","2016-01-10","2016-01-11","2016-01-12","2016-01-13","2016-01-14","2016-01-15","2016-01-16","2016-01-17","2016-01-18","2016-01-19","2016-01-20","2016-01-21","2016-01-22","2016-01-23","2016-01-24","2016-01-25","2016-01-26","2016-01-27","2016-01-28","2016-01-29","2016-01-30","2016-01-31",null,{"$f":"Accueil!$B$8","v":"M1"},{"$f":"Accueil!$B$9","v":"M2"},{"$f":"Accueil!B10","v":"M3"},{"$f":"Accueil!$B$11","v":"MP"},{"$f":"Accueil!$B$12","v":"AP1"},{"$f":"Accueil!B13","v":"AP2"},{"$f":"Accueil!B14","v":"AP3"},{"$f":"Accueil!$B$15","v":"P1"},{"$f":"Accueil!$B$16","v":"Nuit"},{"$f":"Accueil!$B$17","v":"BI"},{"$f":"Accueil!$B$18","v":"LY"},{"$f":"Accueil!$B$19","v":"ST"},{"$f":"Accueil!$B$20","v":"IND"},{"$f":"Accueil!$B$21","v":0},{"$f":"Accueil!$B$22","v":0},{"$f":"Accueil!$B$23","v":"Vac"},{"$f":"Accueil!$B$24","v":"Mal"},{"$f":"Accueil!$B$25","v":"Mat"},{"$f":"Accueil!$B$26","v":"CC"},{"$f":"Accueil!$B$27","v":"F"},{"$f":"Accueil!$B$28","v":"Enf"},{"$f":"Accueil!$B$29","v":"CP"},{"$f":"Accueil!$B$30","v":0},"travaillés",null,{"$f":"AI2","v":"M1"},"M2","M3","MP","AP1","AP2","AP3","P1","Nuit","BI","LY","ST","IND",0,0,"Vac","Mal","Mat","CC","F","Enf","CP",0,"travaillés",null,"capital","pris","restant",null,"capital","pris","restant",null,"capital","pris","restant",null,"capital","pris","restant"]
[{"$f":"Personnel!A3","v":"Anne"},null,"MP",null,"MP",null,"MP",null,null,"M1",null,null,null,"MP",null,null,"M1",null,null,null,"MP",null,null,"M1","MP",null,null,"MP",null,null,"M1",null,null,null,{"$f":"COUNTIF(C3:AG3,Accueil!$B$8)","v":4},{"$f":"COUNTIF(C3:AG3,Accueil!$B$9)","v":0},{"$f":"COUNTIF(C3:AG3,Accueil!$B$10)","v":0},{"$f":"COUNTIF(C3:AG3,Accueil!$B$11)","v":7},{"$f":"COUNTIF(C3:AG3,Accueil!$B$12)","v":0},{"$f":"COUNTIF(C3:AG3,Accueil!$B$13)","v":0},{"$f":"COUNTIF(C3:AG3,Accueil!$B$14)","v":0},{"$f":"COUNTIF(C3:AG3,Accueil!$B$15)","v":0},{"$f":"COUNTIF(C3:AG3,Accueil!$B$16)","v":0},{"$f":"COUNTIF(C3:AG3,Accueil!$B$17)","v":0},{"$f":"COUNTIF(C3:AG3,Accueil!$B$18)","v":0},{"$f":"COUNTIF(C3:AG3,Accueil!$B$19)","v":0},{"$f":"COUNTIF(C3:AG3,Accueil!$B$20)","v":0},{"$f":"COUNTIF(C3:AG3,Accueil!$B$21)","v":0},{"$f":"COUNTIF(C3:AG3,Accueil!$B$22)","v":0},{"$f":"COUNTIF(C3:AG3,Accueil!$B$23)","v":0},{"$f":"COUNTIF(C3:AG3,Accueil!$B$24)","v":0},{"$f":"COUNTIF(C3:AG3,Accueil!$B$25)","v":0},{"$f":"COUNTIF(C3:AG3,Accueil!$B$26)","v":0},{"$f":"COUNTIF(C3:AG3,Accueil!$B$27)","v":0},{"$f":"COUNTIF(C3:AG3,Accueil!$B$28)","v":0},{"$f":"COUNTIF(C3:AG3,Accueil!$B$29)","v":0},{"$f":"COUNTIF(C3:AG3,Accueil!$B$30)","v":0},{"$f":"SUM($AI3:$AT3)+($AW3*0.5)","v":11},null,4,0,0,7,0,0,0,0,0,0,0,0,0,0,0,0,0,0,0,0,0,0,0,{"$f":"BF3","v":11},null,{"$f":"Personnel!F3","v":0},{"$f":"0.5*($BV3)+($BW3)","v":0},{"$f":"CG3-CH3","v":0},null,{"$f":"Personnel!I3","v":0},{"$f":"$CB3","v":0},{"$f":"CK3-CL3","v":0},null,{"$f":"Personnel!L3","v":0},{"$f":"$CC3","v":0},{"$f":"CO3-CP3","v":0},null,{"$f":"Personnel!O3","v":0},{"$f":"$CD3","v":0},{"$f":"CS3-CT3","v":0}]
[{"$f":"Personnel!A4","v":0},null,null,null,null,null,null,null,null,null,null,null,null,null,null,null,null,null,null,null,null,null,null,null,null,null,null,null,null,null,null,null,null,null,{"$f":"COUNTIF(C4:AG4,Accueil!$B$8)","v":0},{"$f":"COUNTIF(C4:AG4,Accueil!$B$9)","v":0},{"$f":"COUNTIF(C4:AG4,Accueil!$B$10)","v":0},{"$f":"COUNTIF(C4:AG4,Accueil!$B$11)","v":0},{"$f":"COUNTIF(C4:AG4,Accueil!$B$12)","v":0},{"$f":"COUNTIF(C4:AG4,Accueil!$B$13)","v":0},{"$f":"COUNTIF(C4:AG4,Accueil!$B$14)","v":0},{"$f":"COUNTIF(C4:AG4,Accueil!$B$15)","v":0},{"$f":"COUNTIF(C4:AG4,Accueil!$B$16)","v":0},{"$f":"COUNTIF(C4:AG4,Accueil!$B$17)","v":0},{"$f":"COUNTIF(C4:AG4,Accueil!$B$18)","v":0},{"$f":"COUNTIF(C4:AG4,Accueil!$B$19)","v":0},{"$f":"COUNTIF(C4:AG4,Accueil!$B$20)","v":0},{"$f":"COUNTIF(C4:AG4,Accueil!$B$21)","v":0},{"$f":"COUNTIF(C4:AG4,Accueil!$B$22)","v":0},{"$f":"COUNTIF(C4:AG4,Accueil!$B$23)","v":0},{"$f":"COUNTIF(C4:AG4,Accueil!$B$24)","v":0},{"$f":"COUNTIF(C4:AG4,Accueil!$B$25)","v":0},{"$f":"COUNTIF(C4:AG4,Accueil!$B$26)","v":0},{"$f":"COUNTIF(C4:AG4,Accueil!$B$27)","v":0},{"$f":"COUNTIF(C4:AG4,Accueil!$B$28)","v":0},{"$f":"COUNTIF(C4:AG4,Accueil!$B$29)","v":0},{"$f":"COUNTIF(C4:AG4,Accueil!$B$30)","v":0},{"$f":"SUM($AI4:$AT4)+($AW4*0.5)","v":0},null,0,0,0,0,0,0,0,0,0,0,0,0,0,0,0,0,0,0,0,0,0,0,0,0,null,{"$f":"Personnel!F4","v":0},{"$f":"0.5*($BV4)+($BW4)","v":0},{"$f":"CG4-CH4","v":0},null,{"$f":"Personnel!I4","v":0},{"$f":"$CB4","v":0},{"$f":"CK4-CL4","v":0},null,{"$f":"Personnel!L4","v":0},{"$f":"$CC4","v":0},{"$f":"CO4-CP4","v":0},null,{"$f":"Personnel!O4","v":0},0,{"$f":"CS4-CT4","v":0}]
[{"$f":"Personnel!A5","v":"Elodie"},null,null,"MP",null,"M1","MP","M1","AP1",null,null,null,"M1","M1","M1","AP1","AP2",null,null,null,"M1","M1","AP1",null,null,null,"M1","M1","M1","AP1",null,null,"MP",null,{"$f":"COUNTIF(C5:AG5,Accueil!$B$8)","v":10},{"$f":"COUNTIF(C5:AG5,Accueil!$B$9)","v":0},{"$f":"COUNTIF(C5:AG5,Accueil!$B$10)","v":0},{"$f":"COUNTIF(C5:AG5,Accueil!$B$11)","v":3},{"$f":"COUNTIF(C5:AG5,Accueil!$B$12)","v":4},{"$f":"COUNTIF(C5:AG5,Accueil!$B$13)","v":1},{"$f":"COUNTIF(C5:AG5,Accueil!$B$14)","v":0},{"$f":"COUNTIF(C5:AG5,Accueil!$B$15)","v":0},{"$f":"COUNTIF(C5:AG5,Accueil!$B$16)","v":0},{"$f":"COUNTIF(C5:AG5,Accueil!$B$17)","v":0},{"$f":"COUNTIF(C5:AG5,Accueil!$B$18)","v":0},{"$f":"COUNTIF(C5:AG5,Accueil!$B$19)","v":0},{"$f":"COUNTIF(C5:AG5,Accueil!$B$20)","v":0},{"$f":"COUNTIF(C5:AG5,Accueil!$B$21)","v":0},{"$f":"COUNTIF(C5:AG5,Accueil!$B$22)","v":0},{"$f":"COUNTIF(C5:AG5,Accueil!$B$23)","v":0},{"$f":"COUNTIF(C5:AG5,Accueil!$B$24)","v":0},{"$f":"COUNTIF(C5:AG5,Accueil!$B$25)","v":0},{"$f":"COUNTIF(C5:AG5,Accueil!$B$26)","v":0},{"$f":"COUNTIF(C5:AG5,Accueil!$B$27)","v":0},{"$f":"COUNTIF(C5:AG5,Accueil!$B$28)","v":0},{"$f":"COUNTIF(C5:AG5,Accueil!$B$29)","v":0},{"$f":"COUNTIF(C5:AG5,Accueil!$B$30)","v":0},18,null,10,0,0,3,4,1,0,0,0,0,0,0,0,0,0,0,0,0,0,0,0,0,0,18,null,{"$f":"Personnel!F5","v":0},0,0,null,{"$f":"Personnel!I5","v":0},0,0,null,{"$f":"Personnel!L5","v":0},0,0,null,{"$f":"Personnel!O5","v":0},0,0]
[{"$f":"Personnel!A6","v":0},null,null,null,null,null,null,null,null,null,null,null,null,null,null,null,null,null,null,null,null,null,null,null,null,null,null,null,null,null,null,null,null,null,{"$f":"COUNTIF(C6:AG6,Accueil!$B$8)","v":0},{"$f":"COUNTIF(C6:AG6,Accueil!$B$9)","v":0},{"$f":"COUNTIF(C6:AG6,Accueil!$B$10)","v":0},{"$f":"COUNTIF(C6:AG6,Accueil!$B$11)","v":0},{"$f":"COUNTIF(C6:AG6,Accueil!$B$12)","v":0},{"$f":"COUNTIF(C6:AG6,Accueil!$B$13)","v":0},{"$f":"COUNTIF(C6:AG6,Accueil!$B$14)","v":0},{"$f":"COUNTIF(C6:AG6,Accueil!$B$15)","v":0},{"$f":"COUNTIF(C6:AG6,Accueil!$B$16)","v":0},{"$f":"COUNTIF(C6:AG6,Accueil!$B$17)","v":0},{"$f":"COUNTIF(C6:AG6,Accueil!$B$18)","v":0},{"$f":"COUNTIF(C6:AG6,Accueil!$B$19)","v":0},{"$f":"COUNTIF(C6:AG6,Accueil!$B$20)","v":0},{"$f":"COUNTIF(C6:AG6,Accueil!$B$21)","v":0},{"$f":"COUNTIF(C6:AG6,Accueil!$B$22)","v":0},{"$f":"COUNTIF(C6:AG6,Accueil!$B$23)","v":0},{"$f":"COUNTIF(C6:AG6,Accueil!$B$24)","v":0},{"$f":"COUNTIF(C6:AG6,Accueil!$B$25)","v":0},{"$f":"COUNTIF(C6:AG6,Accueil!$B$26)","v":0},{"$f":"COUNTIF(C6:AG6,Accueil!$B$27)","v":0},{"$f":"COUNTIF(C6:AG6,Accueil!$B$28)","v":0},{"$f":"COUNTIF(C6:AG6,Accueil!$B$29)","v":0},{"$f":"COUNTIF(C6:AG6,Accueil!$B$30)","v":0},0,null,0,0,0,0,0,0,0,0,0,0,0,0,0,0,0,0,0,0,0,0,0,0,0,0,null,{"$f":"Personnel!F6","v":0},0,0,null,{"$f":"Personnel!I6","v":0},0,0,null,{"$f":"Personnel!L6","v":0},0,0,null,{"$f":"Personnel!O6","v":0},0,0]
[{"$f":"Personnel!A7","v":"Eve-Marie"},null,null,null,null,null,"Vac","AP2","MP","AP1",null,null,null,"M1",null,"AP1","M1","MP",null,null,"M1",null,"AP1","M1",null,null,null,"M1",null,"AP1","M1",null,null,null,{"$f":"COUNTIF(C7:AG7,Accueil!$B$8)","v":6},{"$f":"COUNTIF(C7:AG7,Accueil!$B$9)","v":0},{"$f":"COUNTIF(C7:AG7,Accueil!$B$10)","v":0},{"$f":"COUNTIF(C7:AG7,Accueil!$B$11)","v":2},{"$f":"COUNTIF(C7:AG7,Accueil!$B$12)","v":4},{"$f":"COUNTIF(C7:AG7,Accueil!$B$13)","v":1},{"$f":"COUNTIF(C7:AG7,Accueil!$B$14)","v":0},{"$f":"COUNTIF(C7:AG7,Accueil!$B$15)","v":0},{"$f":"COUNTIF(C7:AG7,Accueil!$B$16)","v":0},{"$f":"COUNTIF(C7:AG7,Accueil!$B$17)","v":0},{"$f":"COUNTIF(C7:AG7,Accueil!$B$18)","v":0},{"$f":"COUNTIF(C7:AG7,Accueil!$B$19)","v":0},{"$f":"COUNTIF(C7:AG7,Accueil!$B$20)","v":0},{"$f":"COUNTIF(C7:AG7,Accueil!$B$21)","v":0},{"$f":"COUNTIF(C7:AG7,Accueil!$B$22)","v":0},{"$f":"COUNTIF(C7:AG7,Accueil!$B$23)","v":1},{"$f":"COUNTIF(C7:AG7,Accueil!$B$24)","v":0},{"$f":"COUNTIF(C7:AG7,Accueil!$B$25)","v":0},{"$f":"COUNTIF(C7:AG7,Accueil!$B$26)","v":0},{"$f":"COUNTIF(C7:AG7,Accueil!$B$27)","v":0},{"$f":"COUNTIF(C7:AG7,Accueil!$B$28)","v":0},{"$f":"COUNTIF(C7:AG7,Accueil!$B$29)","v":0},{"$f":"COUNTIF(C7:AG7,Accueil!$B$30)","v":0},13,null,6,0,0,2,4,1,0,0,0,0,0,0,0,0,0,1,0,0,0,0,0,0,0,13,null,{"$f":"Personnel!F7","v":0},1,-1,null,{"$f":"Personnel!I7","v":0},0,0,null,{"$f":"Personnel!L7","v":0},0,0,null,{"$f":"Personnel!O7","v":0},0,0]
[{"$f":"Personnel!A8","v":0},null,null,null,null,null,null,null,null,null,null,null,null,null,null,null,null,null,null,null,null,null,null,null,null,null,null,null,null,null,null,null,null,null,{"$f":"COUNTIF(C8:AG8,Accueil!$B$8)","v":0},{"$f":"COUNTIF(C8:AG8,Accueil!$B$9)","v":0},{"$f":"COUNTIF(C8:AG8,Accueil!$B$10)","v":0},{"$f":"COUNTIF(C8:AG8,Accueil!$B$11)","v":0},{"$f":"COUNTIF(C8:AG8,Accueil!$B$12)","v":0},{"$f":"COUNTIF(C8:AG8,Accueil!$B$13)","v":0},{"$f":"COUNTIF(C8:AG8,Accueil!$B$14)","v":0},{"$f":"COUNTIF(C8:AG8,Accueil!$B$15)","v":0},{"$f":"COUNTIF(C8:AG8,Accueil!$B$16)","v":0},{"$f":"COUNTIF(C8:AG8,Accueil!$B$17)","v":0},{"$f":"COUNTIF(C8:AG8,Accueil!$B$18)","v":0},{"$f":"COUNTIF(C8:AG8,Accueil!$B$19)","v":0},{"$f":"COUNTIF(C8:AG8,Accueil!$B$20)","v":0},{"$f":"COUNTIF(C8:AG8,Accueil!$B$21)","v":0},{"$f":"COUNTIF(C8:AG8,Accueil!$B$22)","v":0},{"$f":"COUNTIF(C8:AG8,Accueil!$B$23)","v":0},{"$f":"COUNTIF(C8:AG8,Accueil!$B$24)","v":0},{"$f":"COUNTIF(C8:AG8,Accueil!$B$25)","v":0},{"$f":"COUNTIF(C8:AG8,Accueil!$B$26)","v":0},{"$f":"COUNTIF(C8:AG8,Accueil!$B$27)","v":0},{"$f":"COUNTIF(C8:AG8,Accueil!$B$28)","v":0},{"$f":"COUNTIF(C8:AG8,Accueil!$B$29)","v":0},{"$f":"COUNTIF(C8:AG8,Accueil!$B$30)","v":0},0,null,0,0,0,0,0,0,0,0,0,0,0,0,0,0,0,0,0,0,0,0,0,0,0,0,null,{"$f":"Personnel!F8","v":0},0,0,null,{"$f":"Personnel!I8","v":0},0,0,null,{"$f":"Personnel!L8","v":0},0,0,null,{"$f":"Personnel!O8","v":0},0,0]
[{"$f":"Personnel!A9","v":"Isabel"},null,"Vac","Vac","Vac","AP2","M1",null,null,null,"MP",null,"AP2","M1",null,null,null,null,null,"AP2","M1",null,null,null,"MP",null,"AP2","M1",null,null,null,null,null,null,{"$f":"COUNTIF(C9:AG9,Accueil!$B$8)","v":4},{"$f":"COUNTIF(C9:AG9,Accueil!$B$9)","v":0},{"$f":"COUNTIF(C9:AG9,Accueil!$B$10)","v":0},{"$f":"COUNTIF(C9:AG9,Accueil!$B$11)","v":2},{"$f":"COUNTIF(C9:AG9,Accueil!$B$12)","v":0},{"$f":"COUNTIF(C9:AG9,Accueil!$B$13)","v":4},{"$f":"COUNTIF(C9:AG9,Accueil!$B$14)","v":0},{"$f":"COUNTIF(C9:AG9,Accueil!$B$15)","v":0},{"$f":"COUNTIF(C9:AG9,Accueil!$B$16)","v":0},{"$f":"COUNTIF(C9:AG9,Accueil!$B$17)","v":0},{"$f":"COUNTIF(C9:AG9,Accueil!$B$18)","v":0},{"$f":"COUNTIF(C9:AG9,Accueil!$B$19)","v":0},{"$f":"COUNTIF(C9:AG9,Accueil!$B$20)","v":0},{"$f":"COUNTIF(C9:AG9,Accueil!$B$21)","v":0},{"$f":"COUNTIF(C9:AG9,Accueil!$B$22)","v":0},{"$f":"COUNTIF(C9:AG9,Accueil!$B$23)","v":3},{"$f":"COUNTIF(C9:AG9,Accueil!$B$24)","v":0},{"$f":"COUNTIF(C9:AG9,Accueil!$B$25)","v":0},{"$f":"COUNTIF(C9:AG9,Accueil!$B$26)","v":0},{"$f":"COUNTIF(C9:AG9,Accueil!$B$27)","v":0},{"$f":"COUNTIF(C9:AG9,Accueil!$B$28)","v":0},{"$f":"COUNTIF(C9:AG9,Accueil!$B$29)","v":0},{"$f":"COUNTIF(C9:AG9,Accueil!$B$30)","v":0},10,null,4,0,0,2,0,4,0,0,0,0,0,0,0,0,0,3,0,0,0,0,0,0,0,10,null,{"$f":"Personnel!F9","v":0},3,-3,null,{"$f":"Personnel!I9","v":0},0,0,null,{"$f":"Personnel!L9","v":0},0,0,null,{"$f":"Personnel!O9","v":0},0,0]
[{"$f":"Personnel!A10","v":0},null,null,null,null,null,null,null,null,"BI",null,null,null,null,null,null,null,null,null,null,null,null,null,null,"LY",null,null,null,null,null,null,null,null,null,{"$f":"COUNTIF(C10:AG10,Accueil!$B$8)","v":0},{"$f":"COUNTIF(C10:AG10,Accueil!$B$9)","v":0},{"$f":"COUNTIF(C10:AG10,Accueil!$B$10)","v":0},{"$f":"COUNTIF(C10:AG10,Accueil!$B$11)","v":0},{"$f":"COUNTIF(C10:AG10,Accueil!$B$12)","v":0},{"$f":"COUNTIF(C10:AG10,Accueil!$B$13)","v":0},{"$f":"COUNTIF(C10:AG10,Accueil!$B$14)","v":0},{"$f":"COUNTIF(C10:AG10,Accueil!$B$15)","v":0},{"$f":"COUNTIF(C10:AG10,Accueil!$B$16)","v":0},{"$f":"COUNTIF(C10:AG10,Accueil!$B$17)","v":1},{"$f":"COUNTIF(C10:AG10,Accueil!$B$18)","v":1},{"$f":"COUNTIF(C10:AG10,Accueil!$B$19)","v":0},{"$f":"COUNTIF(C10:AG10,Accueil!$B$20)","v":0},{"$f":"COUNTIF(C10:AG10,Accueil!$B$21)","v":0},{"$f":"COUNTIF(C10:AG10,Accueil!$B$22)","v":0},{"$f":"COUNTIF(C10:AG10,Accueil!$B$23)","v":0},{"$f":"COUNTIF(C10:AG10,Accueil!$B$24)","v":0},{"$f":"COUNTIF(C10:AG10,Accueil!$B$25)","v":0},{"$f":"COUNTIF(C10:AG10,Accueil!$B$26)","v":0},{"$f":"COUNTIF(C10:AG10,Accueil!$B$27)","v":0},{"$f":"COUNTIF(C10:AG10,Accueil!$B$28)","v":0},{"$f":"COUNTIF(C10:AG10,Accueil!$B$29)","v":0},{"$f":"COUNTIF(C10:AG10,Accueil!$B$30)","v":0},2,null,0,0,0,0,0,0,0,0,0,1,1,0,0,0,0,0,0,0,0,0,0,0,0,2,null,{"$f":"Personnel!F10","v":0},0,0,null,{"$f":"Personnel!I10","v":0},0,0,null,{"$f":"Personnel!L10","v":0},0,0,null,{"$f":"Personnel!O10","v":0},0,0]
[{"$f":"Personnel!A11","v":"Simon-Pierre"},null,"Vac","Vac","Vac","Vac","Vac","Vac","Vac","Vac","Vac","Vac","M1","M2","MP",null,"M1","MP",null,"M1","M2","M1",null,"M1",null,null,"M2","M2","MP",null,"MP",null,null,null,{"$f":"COUNTIF(C11:AG11,Accueil!$B$8)","v":5},{"$f":"COUNTIF(C11:AG11,Accueil!$B$9)","v":4},{"$f":"COUNTIF(C11:AG11,Accueil!$B$10)","v":0},{"$f":"COUNTIF(C11:AG11,Accueil!$B$11)","v":4},{"$f":"COUNTIF(C11:AG11,Accueil!$B$12)","v":0},{"$f":"COUNTIF(C11:AG11,Accueil!$B$13)","v":0},{"$f":"COUNTIF(C11:AG11,Accueil!$B$14)","v":0},{"$f":"COUNTIF(C11:AG11,Accueil!$B$15)","v":0},{"$f":"COUNTIF(C11:AG11,Accueil!$B$16)","v":0},{"$f":"COUNTIF(C11:AG11,Accueil!$B$17)","v":0},{"$f":"COUNTIF(C11:AG11,Accueil!$B$18)","v":0},{"$f":"COUNTIF(C11:AG11,Accueil!$B$19)","v":0},{"$f":"COUNTIF(C11:AG11,Accueil!$B$20)","v":0},{"$f":"COUNTIF(C11:AG11,Accueil!$B$21)","v":0},{"$f":"COUNTIF(C11:AG11,Accueil!$B$22)","v":0},{"$f":"COUNTIF(C11:AG11,Accueil!$B$23)","v":10},{"$f":"COUNTIF(C11:AG11,Accueil!$B$24)","v":0},{"$f":"COUNTIF(C11:AG11,Accueil!$B$25)","v":0},{"$f":"COUNTIF(C11:AG11,Accueil!$B$26)","v":0},{"$f":"COUNTIF(C11:AG11,Accueil!$B$27)","v":0},{"$f":"COUNTIF(C11:AG11,Accueil!$B$28)","v":0},{"$f":"COUNTIF(C11:AG11,Accueil!$B$29)","v":0},{"$f":"COUNTIF(C11:AG11,Accueil!$B$30)","v":0},13,null,5,4,0,4,0,0,0,0,0,0,0,0,0,0,0,10,0,0,0,0,0,0,0,13,null,{"$f":"Personnel!F11","v":0},10,-10,null,{"$f":"Personnel!I11","v":0},0,0,null,{"$f":"Personnel!L11","v":0},0,0,null,{"$f":"Personnel!O11","v":0},0,0]
[{"$f":"Personnel!A12","v":0},null,null,null,null,null,null,null,null,null,null,null,null,null,null,null,null,"LY",null,null,null,"LY",null,"LY",null,null,"LY",null,null,null,null,null,null,null,{"$f":"COUNTIF(C12:AG12,Accueil!$B$8)","v":0},{"$f":"COUNTIF(C12:AG12,Accueil!$B$9)","v":0},{"$f":"COUNTIF(C12:AG12,Accueil!$B$10)","v":0},{"$f":"COUNTIF(C12:AG12,Accueil!$B$11)","v":0},{"$f":"COUNTIF(C12:AG12,Accueil!$B$12)","v":0},{"$f":"COUNTIF(C12:AG12,Accueil!$B$13)","v":0},{"$f":"COUNTIF(C12:AG12,Accueil!$B$14)","v":0},{"$f":"COUNTIF(C12:AG12,Accueil!$B$15)","v":0},{"$f":"COUNTIF(C12:AG12,Accueil!$B$16)","v":0},{"$f":"COUNTIF(C12:AG12,Accueil!$B$17)","v":0},{"$f":"COUNTIF(C12:AG12,Accueil!$B$18)","v":4},{"$f":"COUNTIF(C12:AG12,Accueil!$B$19)","v":0},{"$f":"COUNTIF(C12:AG12,Accueil!$B$20)","v":0},{"$f":"COUNTIF(C12:AG12,Accueil!$B$21)","v":0},{"$f":"COUNTIF(C12:AG12,Accueil!$B$22)","v":0},{"$f":"COUNTIF(C12:AG12,Accueil!$B$23)","v":0},{"$f":"COUNTIF(C12:AG12,Accueil!$B$24)","v":0},{"$f":"COUNTIF(C12:AG12,Accueil!$B$25)","v":0},{"$f":"COUNTIF(C12:AG12,Accueil!$B$26)","v":0},{"$f":"COUNTIF(C12:AG12,Accueil!$B$27)","v":0},{"$f":"COUNTIF(C12:AG12,Accueil!$B$28)","v":0},{"$f":"COUNTIF(C12:AG12,Accueil!$B$29)","v":0},{"$f":"COUNTIF(C12:AG12,Accueil!$B$30)","v":0},4,null,0,0,0,0,0,0,0,0,0,0,4,0,0,0,0,0,0,0,0,0,0,0,0,4,null,{"$f":"Personnel!F12","v":0},0,0,null,{"$f":"Personnel!I12","v":0},0,0,null,{"$f":"Personnel!L12","v":0},0,0,null,{"$f":"Personnel!O12","v":0},0,0]
[{"$f":"Personnel!A13","v":"Virginie"},null,null,null,null,"Vac","Vac","Vac","Vac","Vac","Vac","MP","M1","M2","MP","M2",null,null,null,"M2","M2","MP","M2","AP2",null,null,"M2","M2","MP","M2",null,"MP",null,null,{"$f":"COUNTIF(C13:AG13,Accueil!$B$8)","v":1},{"$f":"COUNTIF(C13:AG13,Accueil!$B$9)","v":8},{"$f":"COUNTIF(C13:AG13,Accueil!$B$10)","v":0},{"$f":"COUNTIF(C13:AG13,Accueil!$B$11)","v":5},{"$f":"COUNTIF(C13:AG13,Accueil!$B$12)","v":0},{"$f":"COUNTIF(C13:AG13,Accueil!$B$13)","v":1},{"$f":"COUNTIF(C13:AG13,Accueil!$B$14)","v":0},{"$f":"COUNTIF(C13:AG13,Accueil!$B$15)","v":0},{"$f":"COUNTIF(C13:AG13,Accueil!$B$16)","v":0},{"$f":"COUNTIF(C13:AG13,Accueil!$B$17)","v":0},{"$f":"COUNTIF(C13:AG13,Accueil!$B$18)","v":0},{"$f":"COUNTIF(C13:AG13,Accueil!$B$19)","v":0},{"$f":"COUNTIF(C13:AG13,Accueil!$B$20)","v":0},{"$f":"COUNTIF(C13:AG13,Accueil!$B$21)","v":0},{"$f":"COUNTIF(C13:AG13,Accueil!$B$22)","v":0},{"$f":"COUNTIF(C13:AG13,Accueil!$B$23)","v":6},{"$f":"COUNTIF(C13:AG13,Accueil!$B$24)","v":0},{"$f":"COUNTIF(C13:AG13,Accueil!$B$25)","v":0},{"$f":"COUNTIF(C13:AG13,Accueil!$B$26)","v":0},{"$f":"COUNTIF(C13:AG13,Accueil!$B$27)","v":0},{"$f":"COUNTIF(C13:AG13,Accueil!$B$28)","v":0},{"$f":"COUNTIF(C13:AG13,Accueil!$B$29)","v":0},{"$f":"COUNTIF(C13:AG13,Accueil!$B$30)","v":0},15,null,1,8,{"$f":"AK13","v":0},5,0,1,0,0,0,0,0,0,0,0,0,6,0,0,{"$f":"BA13","v":0},0,0,0,0,15,null,{"$f":"Personnel!F13","v":0},6,-6,null,{"$f":"Personnel!I13","v":0},0,0,null,{"$f":"Personnel!L13","v":0},0,0,null,{"$f":"Personnel!O13","v":0},0,0]
[{"$f":"Personnel!A14","v":0},null,null,null,null,null,null,null,null,null,null,null,null,null,null,null,null,null,null,null,null,null,null,null,null,null,null,null,null,null,null,"BI",null,null,{"$f":"COUNTIF(C14:AG14,Accueil!$B$8)","v":0},{"$f":"COUNTIF(C14:AG14,Accueil!$B$9)","v":0},{"$f":"COUNTIF(C14:AG14,Accueil!$B$10)","v":0},{"$f":"COUNTIF(C14:AG14,Accueil!$B$11)","v":0},{"$f":"COUNTIF(C14:AG14,Accueil!$B$12)","v":0},{"$f":"COUNTIF(C14:AG14,Accueil!$B$13)","v":0},{"$f":"COUNTIF(C14:AG14,Accueil!$B$14)","v":0},{"$f":"COUNTIF(C14:AG14,Accueil!$B$15)","v":0},{"$f":"COUNTIF(C14:AG14,Accueil!$B$16)","v":0},{"$f":"COUNTIF(C14:AG14,Accueil!$B$17)","v":1},{"$f":"COUNTIF(C14:AG14,Accueil!$B$18)","v":0},{"$f":"COUNTIF(C14:AG14,Accueil!$B$19)","v":0},{"$f":"COUNTIF(C14:AG14,Accueil!$B$20)","v":0},{"$f":"COUNTIF(C14:AG14,Accueil!$B$21)","v":0},{"$f":"COUNTIF(C14:AG14,Accueil!$B$22)","v":0},{"$f":"COUNTIF(C14:AG14,Accueil!$B$23)","v":0},{"$f":"COUNTIF(C14:AG14,Accueil!$B$24)","v":0},{"$f":"COUNTIF(C14:AG14,Accueil!$B$25)","v":0},{"$f":"COUNTIF(C14:AG14,Accueil!$B$26)","v":0},{"$f":"COUNTIF(C14:AG14,Accueil!$B$27)","v":0},{"$f":"COUNTIF(C14:AG14,Accueil!$B$28)","v":0},{"$f":"COUNTIF(C14:AG14,Accueil!$B$29)","v":0},{"$f":"COUNTIF(C14:AG14,Accueil!$B$30)","v":0},1,null,{"$f":"AI14","v":0},{"$f":"AJ14","v":0},0,0,0,0,0,0,0,1,0,0,0,0,0,0,0,0,0,0,0,0,0,1,null,{"$f":"Personnel!F14","v":0},0,0,null,{"$f":"Personnel!I14","v":0},0,0,null,{"$f":"Personnel!L14","v":0},0,0,null,{"$f":"Personnel!O14","v":0},0,0]
[{"$f":"Personnel!A15","v":"Jacqueline"},null,"MP",null,null,"MP","M2",null,null,"M2","MP",null,"M3","MP",null,null,"M2",null,null,"M3","MP",null,null,"M2",null,null,"CC","MP",null,null,"M2","MP",null,null,{"$f":"COUNTIF(C15:AG15,Accueil!$B$8)","v":0},{"$f":"COUNTIF(C15:AG15,Accueil!$B$9)","v":5},{"$f":"COUNTIF(C15:AG15,Accueil!$B$10)","v":2},{"$f":"COUNTIF(C15:AG15,Accueil!$B$11)","v":7},{"$f":"COUNTIF(C15:AG15,Accueil!$B$12)","v":0},{"$f":"COUNTIF(C15:AG15,Accueil!$B$13)","v":0},{"$f":"COUNTIF(C15:AG15,Accueil!$B$14)","v":0},{"$f":"COUNTIF(C15:AG15,Accueil!$B$15)","v":0},{"$f":"COUNTIF(C15:AG15,Accueil!$B$16)","v":0},{"$f":"COUNTIF(C15:AG15,Accueil!$B$17)","v":0},{"$f":"COUNTIF(C15:AG15,Accueil!$B$18)","v":0},{"$f":"COUNTIF(C15:AG15,Accueil!$B$19)","v":0},{"$f":"COUNTIF(C15:AG15,Accueil!$B$20)","v":0},{"$f":"COUNTIF(C15:AG15,Accueil!$B$21)","v":0},{"$f":"COUNTIF(C15:AG15,Accueil!$B$22)","v":0},{"$f":"COUNTIF(C15:AG15,Accueil!$B$23)","v":0},{"$f":"COUNTIF(C15:AG15,Accueil!$B$24)","v":0},{"$f":"COUNTIF(C15:AG15,Accueil!$B$25)","v":0},{"$f":"COUNTIF(C15:AG15,Accueil!$B$26)","v":1},{"$f":"COUNTIF(C15:AG15,Accueil!$B$27)","v":0},{"$f":"COUNTIF(C15:AG15,Accueil!$B$28)","v":0},{"$f":"COUNTIF(C15:AG15,Accueil!$B$29)","v":0},{"$f":"COUNTIF(C15:AG15,Accueil!$B$30)","v":0},14,null,0,5,2,7,0,0,0,0,0,0,0,0,0,0,0,0,0,0,1,0,0,0,0,14,null,{"$f":"Personnel!F15","v":0},0,0,null,{"$f":"Personnel!I15","v":0},0,0,null,{"$f":"Personnel!L15","v":0},0,0,null,{"$f":"Personnel!O15","v":0},0,0]
[{"$f":"Personnel!A16","v":0},null,null,null,null,null,null,null,null,null,"LY",null,null,null,null,null,null,null,null,null,null,null,null,null,null,null,null,null,null,null,null,null,null,null,{"$f":"COUNTIF(C16:AG16,Accueil!$B$8)","v":0},{"$f":"COUNTIF(C16:AG16,Accueil!$B$9)","v":0},{"$f":"COUNTIF(C16:AG16,Accueil!$B$10)","v":0},{"$f":"COUNTIF(C16:AG16,Accueil!$B$11)","v":0},{"$f":"COUNTIF(C16:AG16,Accueil!$B$12)","v":0},{"$f":"COUNTIF(C16:AG16,Accueil!$B$13)","v":0},{"$f":"COUNTIF(C16:AG16,Accueil!$B$14)","v":0},{"$f":"COUNTIF(C16:AG16,Accueil!$B$15)","v":0},{"$f":"COUNTIF(C16:AG16,Accueil!$B$16)","v":0},{"$f":"COUNTIF(C16:AG16,Accueil!$B$17)","v":0},{"$f":"COUNTIF(C16:AG16,Accueil!$B$18)","v":1},{"$f":"COUNTIF(C16:AG16,Accueil!$B$19)","v":0},{"$f":"COUNTIF(C16:AG16,Accueil!$B$20)","v":0},{"$f":"COUNTIF(C16:AG16,Accueil!$B$21)","v":0},{"$f":"COUNTIF(C16:AG16,Accueil!$B$22)","v":0},{"$f":"COUNTIF(C16:AG16,Accueil!$B$23)","v":0},{"$f":"COUNTIF(C16:AG16,Accueil!$B$24)","v":0},{"$f":"COUNTIF(C16:AG16,Accueil!$B$25)","v":0},{"$f":"COUNTIF(C16:AG16,Accueil!$B$26)","v":0},{"$f":"COUNTIF(C16:AG16,Accueil!$B$27)","v":0},{"$f":"COUNTIF(C16:AG16,Accueil!$B$28)","v":0},{"$f":"COUNTIF(C16:AG16,Accueil!$B$29)","v":0},{"$f":"COUNTIF(C16:AG16,Accueil!$B$30)","v":0},1,null,0,0,0,0,0,0,0,0,0,0,1,0,0,0,0,0,0,0,0,0,0,0,0,1,null,{"$f":"Personnel!F16","v":0},0,0,null,{"$f":"Personnel!I16","v":0},0,0,null,{"$f":"Personnel!L16","v":0},0,0,null,{"$f":"Personnel!O16","v":0},0,0]
[{"$f":"Personnel!A17","v":"Colette"},null,null,null,null,null,"M2","MP",null,null,null,"MP","IND","M2",null,null,null,null,null,"IND","M2","AP1",null,null,null,"MP",null,"M2",null,null,null,null,null,null,{"$f":"COUNTIF(C17:AG17,Accueil!$B$8)","v":0},{"$f":"COUNTIF(C17:AG17,Accueil!$B$9)","v":4},{"$f":"COUNTIF(C17:AG17,Accueil!$B$10)","v":0},{"$f":"COUNTIF(C17:AG17,Accueil!$B$11)","v":3},{"$f":"COUNTIF(C17:AG17,Accueil!$B$12)","v":1},{"$f":"COUNTIF(C17:AG17,Accueil!$B$13)","v":0},{"$f":"COUNTIF(C17:AG17,Accueil!$B$14)","v":0},{"$f":"COUNTIF(C17:AG17,Accueil!$B$15)","v":0},{"$f":"COUNTIF(C17:AG17,Accueil!$B$16)","v":0},{"$f":"COUNTIF(C17:AG17,Accueil!$B$17)","v":0},{"$f":"COUNTIF(C17:AG17,Accueil!$B$18)","v":0},{"$f":"COUNTIF(C17:AG17,Accueil!$B$19)","v":0},{"$f":"COUNTIF(C17:AG17,Accueil!$B$20)","v":2},{"$f":"COUNTIF(C17:AG17,Accueil!$B$21)","v":0},{"$f":"COUNTIF(C17:AG17,Accueil!$B$22)","v":0},{"$f":"COUNTIF(C17:AG17,Accueil!$B$23)","v":0},{"$f":"COUNTIF(C17:AG17,Accueil!$B$24)","v":0},{"$f":"COUNTIF(C17:AG17,Accueil!$B$25)","v":0},{"$f":"COUNTIF(C17:AG17,Accueil!$B$26)","v":0},{"$f":"COUNTIF(C17:AG17,Accueil!$B$27)","v":0},{"$f":"COUNTIF(C17:AG17,Accueil!$B$28)","v":0},{"$f":"COUNTIF(C17:AG17,Accueil!$B$29)","v":0},{"$f":"COUNTIF(C17:AG17,Accueil!$B$30)","v":0},8,null,0,4,0,3,1,0,0,0,0,0,0,0,2,0,0,0,0,0,0,0,0,0,0,8,null,{"$f":"Personnel!F17","v":0},0,0,null,{"$f":"Personnel!I17","v":0},0,0,null,{"$f":"Personnel!L17","v":0},0,0,null,{"$f":"Personnel!O17","v":0},0,0]
[{"$f":"Personnel!A18","v":0},null,null,null,null,null,null,null,"LY","LY",null,null,null,"LY","MP","LY","LY",null,"LY",null,"LY",null,"LY",null,null,"LY",null,"LY","LY",null,"LY",null,null,null,{"$f":"COUNTIF(C18:AG18,Accueil!$B$8)","v":0},{"$f":"COUNTIF(C18:AG18,Accueil!$B$9)","v":0},{"$f":"COUNTIF(C18:AG18,Accueil!$B$10)","v":0},{"$f":"COUNTIF(C18:AG18,Accueil!$B$11)","v":1},{"$f":"COUNTIF(C18:AG18,Accueil!$B$12)","v":0},{"$f":"COUNTIF(C18:AG18,Accueil!$B$13)","v":0},{"$f":"COUNTIF(C18:AG18,Accueil!$B$14)","v":0},{"$f":"COUNTIF(C18:AG18,Accueil!$B$15)","v":0},{"$f":"COUNTIF(C18:AG18,Accueil!$B$16)","v":0},{"$f":"COUNTIF(C18:AG18,Accueil!$B$17)","v":0},{"$f":"COUNTIF(C18:AG18,Accueil!$B$18)","v":12},{"$f":"COUNTIF(C18:AG18,Accueil!$B$19)","v":0},{"$f":"COUNTIF(C18:AG18,Accueil!$B$20)","v":0},{"$f":"COUNTIF(C18:AG18,Accueil!$B$21)","v":0},{"$f":"COUNTIF(C18:AG18,Accueil!$B$22)","v":0},{"$f":"COUNTIF(C18:AG18,Accueil!$B$23)","v":0},{"$f":"COUNTIF(C18:AG18,Accueil!$B$24)","v":0},{"$f":"COUNTIF(C18:AG18,Accueil!$B$25)","v":0},{"$f":"COUNTIF(C18:AG18,Accueil!$B$26)","v":0},{"$f":"COUNTIF(C18:AG18,Accueil!$B$27)","v":0},{"$f":"COUNTIF(C18:AG18,Accueil!$B$28)","v":0},{"$f":"COUNTIF(C18:AG18,Accueil!$B$29)","v":0},{"$f":"COUNTIF(C18:AG18,Accueil!$B$30)","v":0},13,null,0,0,0,1,0,0,0,0,0,0,12,0,0,0,0,0,0,0,0,0,0,0,0,13,null,{"$f":"Personnel!F18","v":0},0,0,null,{"$f":"Personnel!I18","v":0},0,0,null,{"$f":"Personnel!L18","v":0},0,0,null,{"$f":"Personnel!O18","v":0},0,0]
[{"$f":"Personnel!A19","v":"Lisa"},null,null,"MP","MP",null,"M2",null,"M3","MP",null,null,null,"M2",null,"M3","AP1",null,"MP",null,"M2",null,"M3","MP",null,"MP",null,"M2",null,"M3","MP",null,null,null,{"$f":"COUNTIF(C19:AG19,Accueil!$B$8)","v":0},{"$f":"COUNTIF(C19:AG19,Accueil!$B$9)","v":4},{"$f":"COUNTIF(C19:AG19,Accueil!$B$10)","v":4},{"$f":"COUNTIF(C19:AG19,Accueil!$B$11)","v":7},{"$f":"COUNTIF(C19:AG19,Accueil!$B$12)","v":1},{"$f":"COUNTIF(C19:AG19,Accueil!$B$13)","v":0},{"$f":"COUNTIF(C19:AG19,Accueil!$B$14)","v":0},{"$f":"COUNTIF(C19:AG19,Accueil!$B$15)","v":0},{"$f":"COUNTIF(C19:AG19,Accueil!$B$16)","v":0},{"$f":"COUNTIF(C19:AG19,Accueil!$B$17)","v":0},{"$f":"COUNTIF(C19:AG19,Accueil!$B$18)","v":0},{"$f":"COUNTIF(C19:AG19,Accueil!$B$19)","v":0},{"$f":"COUNTIF(C19:AG19,Accueil!$B$20)","v":0},{"$f":"COUNTIF(C19:AG19,Accueil!$B$21)","v":0},{"$f":"COUNTIF(C19:AG19,Accueil!$B$22)","v":0},{"$f":"COUNTIF(C19:AG19,Accueil!$B$23)","v":0},{"$f":"COUNTIF(C19:AG19,Accueil!$B$24)","v":0},{"$f":"COUNTIF(C19:AG19,Accueil!$B$25)","v":0},{"$f":"COUNTIF(C19:AG19,Accueil!$B$26)","v":0},{"$f":"COUNTIF(C19:AG19,Accueil!$B$27)","v":0},{"$f":"COUNTIF(C19:AG19,Accueil!$B$28)","v":0},{"$f":"COUNTIF(C19:AG19,Accueil!$B$29)","v":0},{"$f":"COUNTIF(C19:AG19,Accueil!$B$30)","v":0},16,null,0,4,4,7,1,0,0,0,0,0,0,0,0,0,0,0,0,0,0,0,0,0,0,16,null,{"$f":"Personnel!F19","v":0},0,0,null,{"$f":"Personnel!I19","v":0},0,0,null,{"$f":"Personnel!L19","v":0},0,0,null,{"$f":"Personnel!O19","v":0},0,0]
[{"$f":"Personnel!A20","v":0},null,null,null,null,null,null,null,null,null,null,null,null,null,null,null,null,null,null,null,null,null,null,null,null,null,null,null,null,null,null,null,null,null,{"$f":"COUNTIF(C20:AG20,Accueil!$B$8)","v":0},{"$f":"COUNTIF(C20:AG20,Accueil!$B$9)","v":0},{"$f":"COUNTIF(C20:AG20,Accueil!$B$10)","v":0},{"$f":"COUNTIF(C20:AG20,Accueil!$B$11)","v":0},{"$f":"COUNTIF(C20:AG20,Accueil!$B$12)","v":0},{"$f":"COUNTIF(C20:AG20,Accueil!$B$13)","v":0},{"$f":"COUNTIF(C20:AG20,Accueil!$B$14)","v":0},{"$f":"COUNTIF(C20:AG20,Accueil!$B$15)","v":0},{"$f":"COUNTIF(C20:AG20,Accueil!$B$16)","v":0},{"$f":"COUNTIF(C20:AG20,Accueil!$B$17)","v":0},{"$f":"COUNTIF(C20:AG20,Accueil!$B$18)","v":0},{"$f":"COUNTIF(C20:AG20,Accueil!$B$19)","v":0},{"$f":"COUNTIF(C20:AG20,Accueil!$B$20)","v":0},{"$f":"COUNTIF(C20:AG20,Accueil!$B$21)","v":0},{"$f":"COUNTIF(C20:AG20,Accueil!$B$22)","v":0},{"$f":"COUNTIF(C20:AG20,Accueil!$B$23)","v":0},{"$f":"COUNTIF(C20:AG20,Accueil!$B$24)","v":0},{"$f":"COUNTIF(C20:AG20,Accueil!$B$25)","v":0},{"$f":"COUNTIF(C20:AG20,Accueil!$B$26)","v":0},{"$f":"COUNTIF(C20:AG20,Accueil!$B$27)","v":0},{"$f":"COUNTIF(C20:AG20,Accueil!$B$28)","v":0},{"$f":"COUNTIF(C20:AG20,Accueil!$B$29)","v":0},{"$f":"COUNTIF(C20:AG20,Accueil!$B$30)","v":0},0,null,0,0,0,0,0,0,0,0,0,0,0,0,0,0,0,0,0,0,0,0,0,0,0,0,null,{"$f":"Personnel!F20","v":0},0,0,null,{"$f":"Personnel!I20","v":0},0,0,null,{"$f":"Personnel!L20","v":0},0,0,null,{"$f":"Personnel!O20","v":0},0,0]
[{"$f":"Personnel!A21","v":"Philip"},null,null,null,null,"Vac","Vac","Vac","Vac","Vac","Vac","Vac","MP","M1",null,null,null,null,"MP","MP","M1",null,null,null,null,null,"AP1","M1",null,null,null,null,"MP",null,{"$f":"COUNTIF(C21:AG21,Accueil!$B$8)","v":3},{"$f":"COUNTIF(C21:AG21,Accueil!$B$9)","v":0},{"$f":"COUNTIF(C21:AG21,Accueil!$B$10)","v":0},{"$f":"COUNTIF(C21:AG21,Accueil!$B$11)","v":4},{"$f":"COUNTIF(C21:AG21,Accueil!$B$12)","v":1},{"$f":"COUNTIF(C21:AG21,Accueil!$B$13)","v":0},{"$f":"COUNTIF(C21:AG21,Accueil!$B$14)","v":0},{"$f":"COUNTIF(C21:AG21,Accueil!$B$15)","v":0},{"$f":"COUNTIF(C21:AG21,Accueil!$B$16)","v":0},{"$f":"COUNTIF(C21:AG21,Accueil!$B$17)","v":0},{"$f":"COUNTIF(C21:AG21,Accueil!$B$18)","v":0},{"$f":"COUNTIF(C21:AG21,Accueil!$B$19)","v":0},{"$f":"COUNTIF(C21:AG21,Accueil!$B$20)","v":0},{"$f":"COUNTIF(C21:AG21,Accueil!$B$21)","v":0},{"$f":"COUNTIF(C21:AG21,Accueil!$B$22)","v":0},{"$f":"COUNTIF(C21:AG21,Accueil!$B$23)","v":7},{"$f":"COUNTIF(C21:AG21,Accueil!$B$24)","v":0},{"$f":"COUNTIF(C21:AG21,Accueil!$B$25)","v":0},{"$f":"COUNTIF(C21:AG21,Accueil!$B$26)","v":0},{"$f":"COUNTIF(C21:AG21,Accueil!$B$27)","v":0},{"$f":"COUNTIF(C21:AG21,Accueil!$B$28)","v":0},{"$f":"COUNTIF(C21:AG21,Accueil!$B$29)","v":0},{"$f":"COUNTIF(C21:AG21,Accueil!$B$30)","v":0},8,null,3,0,0,4,1,0,0,0,0,0,0,0,0,0,0,7,0,0,0,0,0,0,0,8,null,{"$f":"Personnel!F21","v":0},7,-7,null,{"$f":"Personnel!I21","v":0},0,0,null,{"$f":"Personnel!L21","v":0},0,0,null,{"$f":"Personnel!O21","v":0},0,0]
[{"$f":"Personnel!A22","v":0},null,null,null,null,null,null,null,null,null,null,null,"BI",null,null,null,null,null,null,"BI",null,null,null,null,null,null,"BI",null,null,null,null,null,"LY",null,{"$f":"COUNTIF(C22:AG22,Accueil!$B$8)","v":0},{"$f":"COUNTIF(C22:AG22,Accueil!$B$9)","v":0},{"$f":"COUNTIF(C22:AG22,Accueil!$B$10)","v":0},{"$f":"COUNTIF(C22:AG22,Accueil!$B$11)","v":0},{"$f":"COUNTIF(C22:AG22,Accueil!$B$12)","v":0},{"$f":"COUNTIF(C22:AG22,Accueil!$B$13)","v":0},{"$f":"COUNTIF(C22:AG22,Accueil!$B$14)","v":0},{"$f":"COUNTIF(C22:AG22,Accueil!$B$15)","v":0},{"$f":"COUNTIF(C22:AG22,Accueil!$B$16)","v":0},{"$f":"COUNTIF(C22:AG22,Accueil!$B$17)","v":3},{"$f":"COUNTIF(C22:AG22,Accueil!$B$18)","v":1},{"$f":"COUNTIF(C22:AG22,Accueil!$B$19)","v":0},{"$f":"COUNTIF(C22:AG22,Accueil!$B$20)","v":0},{"$f":"COUNTIF(C22:AG22,Accueil!$B$21)","v":0},{"$f":"COUNTIF(C22:AG22,Accueil!$B$22)","v":0},{"$f":"COUNTIF(C22:AG22,Accueil!$B$23)","v":0},{"$f":"COUNTIF(C22:AG22,Accueil!$B$24)","v":0},{"$f":"COUNTIF(C22:AG22,Accueil!$B$25)","v":0},{"$f":"COUNTIF(C22:AG22,Accueil!$B$26)","v":0},{"$f":"COUNTIF(C22:AG22,Accueil!$B$27)","v":0},{"$f":"COUNTIF(C22:AG22,Accueil!$B$28)","v":0},{"$f":"COUNTIF(C22:AG22,Accueil!$B$29)","v":0},{"$f":"COUNTIF(C22:AG22,Accueil!$B$30)","v":0},4,null,0,0,0,0,0,0,0,0,0,3,1,0,0,0,0,0,0,0,0,0,0,0,0,4,null,{"$f":"Personnel!F22","v":0},0,0,null,{"$f":"Personnel!I22","v":0},0,0,null,{"$f":"Personnel!L22","v":0},0,0,null,{"$f":"Personnel!O22","v":0},0,0]
[{"$f":"Personnel!A23","v":"Dania"},null,null,null,null,null,null,null,null,null,null,null,null,null,null,null,null,null,null,null,null,null,null,null,null,null,null,null,null,null,null,null,null,null,{"$f":"COUNTIF(C23:AG23,Accueil!$B$8)","v":0},{"$f":"COUNTIF(C23:AG23,Accueil!$B$9)","v":0},{"$f":"COUNTIF(C23:AG23,Accueil!$B$10)","v":0},{"$f":"COUNTIF(C23:AG23,Accueil!$B$11)","v":0},{"$f":"COUNTIF(C23:AG23,Accueil!$B$12)","v":0},{"$f":"COUNTIF(C23:AG23,Accueil!$B$13)","v":0},{"$f":"COUNTIF(C23:AG23,Accueil!$B$14)","v":0},{"$f":"COUNTIF(C23:AG23,Accueil!$B$15)","v":0},{"$f":"COUNTIF(C23:AG23,Accueil!$B$16)","v":0},{"$f":"COUNTIF(C23:AG23,Accueil!$B$17)","v":0},{"$f":"COUNTIF(C23:AG23,Accueil!$B$18)","v":0},{"$f":"COUNTIF(C23:AG23,Accueil!$B$19)","v":0},{"$f":"COUNTIF(C23:AG23,Accueil!$B$20)","v":0},{"$f":"COUNTIF(C23:AG23,Accueil!$B$21)","v":0},{"$f":"COUNTIF(C23:AG23,Accueil!$B$22)","v":0},{"$f":"COUNTIF(C23:AG23,Accueil!$B$23)","v":0},{"$f":"COUNTIF(C23:AG23,Accueil!$B$24)","v":0},{"$f":"COUNTIF(C23:AG23,Accueil!$B$25)","v":0},{"$f":"COUNTIF(C23:AG23,Accueil!$B$26)","v":0},{"$f":"COUNTIF(C23:AG23,Accueil!$B$27)","v":0},{"$f":"COUNTIF(C23:AG23,Accueil!$B$28)","v":0},{"$f":"COUNTIF(C23:AG23,Accueil!$B$29)","v":0},{"$f":"COUNTIF(C23:AG23,Accueil!$B$30)","v":0},0,null,0,0,0,0,0,0,0,0,0,0,0,0,0,0,0,0,0,0,0,0,0,0,0,0,null,{"$f":"Personnel!F23","v":0},0,0,null,{"$f":"Personnel!I23","v":0},0,0,null,{"$f":"Personnel!L23","v":0},0,0,null,{"$f":"Personnel!O23","v":0},0,0]
[{"$f":"Personnel!A24","v":0},null,null,null,null,null,null,null,null,null,null,null,null,null,null,null,null,null,null,null,null,null,null,null,null,null,null,null,null,null,null,null,null,null,{"$f":"COUNTIF(C24:AG24,Accueil!$B$8)","v":0},{"$f":"COUNTIF(C24:AG24,Accueil!$B$9)","v":0},{"$f":"COUNTIF(C24:AG24,Accueil!$B$10)","v":0},{"$f":"COUNTIF(C24:AG24,Accueil!$B$11)","v":0},{"$f":"COUNTIF(C24:AG24,Accueil!$B$12)","v":0},{"$f":"COUNTIF(C24:AG24,Accueil!$B$13)","v":0},{"$f":"COUNTIF(C24:AG24,Accueil!$B$14)","v":0},{"$f":"COUNTIF(C24:AG24,Accueil!$B$15)","v":0},{"$f":"COUNTIF(C24:AG24,Accueil!$B$16)","v":0},{"$f":"COUNTIF(C24:AG24,Accueil!$B$17)","v":0},{"$f":"COUNTIF(C24:AG24,Accueil!$B$18)","v":0},{"$f":"COUNTIF(C24:AG24,Accueil!$B$19)","v":0},{"$f":"COUNTIF(C24:AG24,Accueil!$B$20)","v":0},{"$f":"COUNTIF(C24:AG24,Accueil!$B$21)","v":0},{"$f":"COUNTIF(C24:AG24,Accueil!$B$22)","v":0},{"$f":"COUNTIF(C24:AG24,Accueil!$B$23)","v":0},{"$f":"COUNTIF(C24:AG24,Accueil!$B$24)","v":0},{"$f":"COUNTIF(C24:AG24,Accueil!$B$25)","v":0},{"$f":"COUNTIF(C24:AG24,Accueil!$B$26)","v":0},{"$f":"COUNTIF(C24:AG24,Accueil!$B$27)","v":0},{"$f":"COUNTIF(C24:AG24,Accueil!$B$28)","v":0},{"$f":"COUNTIF(C24:AG24,Accueil!$B$29)","v":0},{"$f":"COUNTIF(C24:AG24,Accueil!$B$30)","v":0},0,null,0,0,0,0,0,0,0,0,0,0,0,0,0,0,0,0,0,0,0,0,0,0,0,0,null,{"$f":"Personnel!F24","v":0},0,0,null,{"$f":"Personnel!I24","v":0},0,0,null,{"$f":"Personnel!L24","v":0},0,0,null,{"$f":"Personnel!O24","v":0},0,0]
[{"$f":"Personnel!A25","v":"Claudia"},null,null,null,null,"Vac","Vac","Vac","Vac","Vac","Vac","Vac","Vac","Vac","M1",null,null,null,null,null,null,null,null,null,null,null,null,null,null,null,null,null,null,null,{"$f":"COUNTIF(C25:AG25,Accueil!$B$8)","v":1},{"$f":"COUNTIF(C25:AG25,Accueil!$B$9)","v":0},{"$f":"COUNTIF(C25:AG25,Accueil!$B$10)","v":0},{"$f":"COUNTIF(C25:AG25,Accueil!$B$11)","v":0},{"$f":"COUNTIF(C25:AG25,Accueil!$B$12)","v":0},{"$f":"COUNTIF(C25:AG25,Accueil!$B$13)","v":0},{"$f":"COUNTIF(C25:AG25,Accueil!$B$14)","v":0},{"$f":"COUNTIF(C25:AG25,Accueil!$B$15)","v":0},{"$f":"COUNTIF(C25:AG25,Accueil!$B$16)","v":0},{"$f":"COUNTIF(C25:AG25,Accueil!$B$17)","v":0},{"$f":"COUNTIF(C25:AG25,Accueil!$B$18)","v":0},{"$f":"COUNTIF(C25:AG25,Accueil!$B$19)","v":0},{"$f":"COUNTIF(C25:AG25,Accueil!$B$20)","v":0},{"$f":"COUNTIF(C25:AG25,Accueil!$B$21)","v":0},{"$f":"COUNTIF(C25:AG25,Accueil!$B$22)","v":0},{"$f":"COUNTIF(C25:AG25,Accueil!$B$23)","v":9},{"$f":"COUNTIF(C25:AG25,Accueil!$B$24)","v":0},{"$f":"COUNTIF(C25:AG25,Accueil!$B$25)","v":0},{"$f":"COUNTIF(C25:AG25,Accueil!$B$26)","v":0},{"$f":"COUNTIF(C25:AG25,Accueil!$B$27)","v":0},{"$f":"COUNTIF(C25:AG25,Accueil!$B$28)","v":0},{"$f":"COUNTIF(C25:AG25,Accueil!$B$29)","v":0},{"$f":"COUNTIF(C25:AG25,Accueil!$B$30)","v":0},1,null,1,0,0,0,0,0,0,0,0,0,0,0,0,0,0,9,0,0,0,0,0,0,0,1,null,{"$f":"Personnel!F25","v":0},9,-9,null,{"$f":"Personnel!I25","v":0},0,0,null,{"$f":"Personnel!L25","v":0},0,0,null,{"$f":"Personnel!O25","v":0},0,0]
[{"$f":"Personnel!A26","v":"FRPI"},null,null,null,null,"LY",null,"LY","LY","LY",null,null,"LY",null,null,"BI",null,null,null,"LY",null,null,null,null,null,null,null,null,null,"LY",null,null,null,null,{"$f":"COUNTIF(C26:AG26,Accueil!$B$8)","v":0},{"$f":"COUNTIF(C26:AG26,Accueil!$B$9)","v":0},{"$f":"COUNTIF(C26:AG26,Accueil!$B$10)","v":0},{"$f":"COUNTIF(C26:AG26,Accueil!$B$11)","v":0},{"$f":"COUNTIF(C26:AG26,Accueil!$B$12)","v":0},{"$f":"COUNTIF(C26:AG26,Accueil!$B$13)","v":0},{"$f":"COUNTIF(C26:AG26,Accueil!$B$14)","v":0},{"$f":"COUNTIF(C26:AG26,Accueil!$B$15)","v":0},{"$f":"COUNTIF(C26:AG26,Accueil!$B$16)","v":0},{"$f":"COUNTIF(C26:AG26,Accueil!$B$17)","v":1},{"$f":"COUNTIF(C26:AG26,Accueil!$B$18)","v":7},{"$f":"COUNTIF(C26:AG26,Accueil!$B$19)","v":0},{"$f":"COUNTIF(C26:AG26,Accueil!$B$20)","v":0},{"$f":"COUNTIF(C26:AG26,Accueil!$B$21)","v":0},{"$f":"COUNTIF(C26:AG26,Accueil!$B$22)","v":0},{"$f":"COUNTIF(C26:AG26,Accueil!$B$23)","v":0},{"$f":"COUNTIF(C26:AG26,Accueil!$B$24)","v":0},{"$f":"COUNTIF(C26:AG26,Accueil!$B$25)","v":0},{"$f":"COUNTIF(C26:AG26,Accueil!$B$26)","v":0},{"$f":"COUNTIF(C26:AG26,Accueil!$B$27)","v":0},{"$f":"COUNTIF(C26:AG26,Accueil!$B$28)","v":0},{"$f":"COUNTIF(C26:AG26,Accueil!$B$29)","v":0},{"$f":"COUNTIF(C26:AG26,Accueil!$B$30)","v":0},8,null,0,0,0,0,0,0,0,0,0,1,7,0,0,0,0,0,0,0,0,0,0,0,0,8,null,{"$f":"Personnel!F26","v":0},0,0,null,{"$f":"Personnel!I26","v":0},0,0,null,{"$f":"Personnel!L26","v":0},0,0,null,{"$f":"Personnel!O26","v":0},0,0]
[{"$f":"Personnel!A27","v":0},null,null,null,null,null,null,null,null,null,null,null,null,null,null,null,null,null,null,null,null,null,null,null,null,null,null,null,null,null,null,null,null,null,{"$f":"COUNTIF(C27:AG27,Accueil!$B$8)","v":0},{"$f":"COUNTIF(C27:AG27,Accueil!$B$9)","v":0},{"$f":"COUNTIF(C27:AG27,Accueil!$B$10)","v":0},{"$f":"COUNTIF(C27:AG27,Accueil!$B$11)","v":0},{"$f":"COUNTIF(C27:AG27,Accueil!$B$12)","v":0},{"$f":"COUNTIF(C27:AG27,Accueil!$B$13)","v":0},{"$f":"COUNTIF(C27:AG27,Accueil!$B$14)","v":0},{"$f":"COUNTIF(C27:AG27,Accueil!$B$15)","v":0},{"$f":"COUNTIF(C27:AG27,Accueil!$B$16)","v":0},{"$f":"COUNTIF(C27:AG27,Accueil!$B$17)","v":0},{"$f":"COUNTIF(C27:AG27,Accueil!$B$18)","v":0},{"$f":"COUNTIF(C27:AG27,Accueil!$B$19)","v":0},{"$f":"COUNTIF(C27:AG27,Accueil!$B$20)","v":0},{"$f":"COUNTIF(C27:AG27,Accueil!$B$21)","v":0},{"$f":"COUNTIF(C27:AG27,Accueil!$B$22)","v":0},{"$f":"COUNTIF(C27:AG27,Accueil!$B$23)","v":0},{"$f":"COUNTIF(C27:AG27,Accueil!$B$24)","v":0},{"$f":"COUNTIF(C27:AG27,Accueil!$B$25)","v":0},{"$f":"COUNTIF(C27:AG27,Accueil!$B$26)","v":0},{"$f":"COUNTIF(C27:AG27,Accueil!$B$27)","v":0},{"$f":"COUNTIF(C27:AG27,Accueil!$B$28)","v":0},{"$f":"COUNTIF(C27:AG27,Accueil!$B$29)","v":0},{"$f":"COUNTIF(C27:AG27,Accueil!$B$30)","v":0},0,null,{"$f":"Z28","v":0},0,"Nuit",0,0,0,0,"Nuit",0,0,0,0,0,0,0,0,0,0,0,0,0,0,0,0,null,{"$f":"Personnel!F27","v":0},0,0,null,{"$f":"Personnel!I27","v":0},0,0,null,{"$f":"Personnel!L27","v":0},0,0,null,{"$f":"Personnel!O27","v":0},0,0]
[{"$f":"Personnel!A28","v":"Frédéric"},null,null,null,null,null,"Nuit",null,null,null,null,null,null,"Nuit",null,null,"Nuit",null,null,"Nuit",null,null,null,null,null,null,null,"Nuit",null,null,null,null,"Nuit",null,{"$f":"COUNTIF(C28:AG28,Accueil!$B$8)","v":0},{"$f":"COUNTIF(C28:AG28,Accueil!$B$9)","v":0},{"$f":"COUNTIF(C28:AG28,Accueil!$B$10)","v":0},{"$f":"COUNTIF(C28:AG28,Accueil!$B$11)","v":0},{"$f":"COUNTIF(C28:AG28,Accueil!$B$12)","v":0},{"$f":"COUNTIF(C28:AG28,Accueil!$B$13)","v":0},{"$f":"COUNTIF(C28:AG28,Accueil!$B$14)","v":0},{"$f":"COUNTIF(C28:AG28,Accueil!$B$15)","v":0},{"$f":"COUNTIF(C29:X29,Accueil!$B$16)","v":7},{"$f":"COUNTIF(C29:X29,Accueil!$B$17)","v":0},{"$f":"COUNTIF(C29:X29,Accueil!$B$18)","v":0},{"$f":"COUNTIF(C29:X29,Accueil!$B$19)","v":0},{"$f":"COUNTIF(C29:X29,Accueil!$B$20)","v":0},{"$f":"COUNTIF(C29:X29,Accueil!$B$21)","v":0},{"$f":"COUNTIF(C29:X29,Accueil!$B$22)","v":0},{"$f":"COUNTIF(C29:X29,Accueil!$B$23)","v":0},{"$f":"COUNTIF(C29:X29,Accueil!$B$24)","v":0},{"$f":"COUNTIF(C29:X29,Accueil!$B$25)","v":0},{"$f":"COUNTIF(C29:X29,Accueil!$B$26)","v":0},{"$f":"COUNTIF(C29:X29,Accueil!$B$27)","v":0},{"$f":"COUNTIF(C29:X29,Accueil!$B$28)","v":0},{"$f":"COUNTIF(C29:X29,Accueil!$B$29)","v":0},{"$f":"COUNTIF(C29:X29,Accueil!$B$30)","v":0},7,null,"Nuit","Nuit",0,"Nuit",0,"Nuit","Nuit",0,7,0,0,0,0,0,0,0,0,{"$f":"AZ28","v":0},0,0,0,0,0,7,null,{"$f":"Personnel!F28","v":0},0,0,null,{"$f":"Personnel!I28","v":0},0,0,null,{"$f":"Personnel!L28","v":0},0,0,null,{"$f":"Personnel!O28","v":0},0,0]
[{"$f":"Personnel!A29","v":"Ibrahim"},null,null,null,"Nuit","Nuit",null,null,null,null,null,"Nuit","Nuit",null,"Nuit","Nuit",null,null,null,null,null,"Nuit",null,null,null,"Nuit","Nuit",null,"Nuit",null,"Nuit","Nuit",null,null,{"$f":"COUNTIF(C29:AG29,Accueil!$B$8)","v":0},{"$f":"COUNTIF(C29:AG29,Accueil!$B$9)","v":0},{"$f":"COUNTIF(C29:AG29,Accueil!$B$10)","v":0},{"$f":"COUNTIF(C29:AG29,Accueil!$B$11)","v":0},{"$f":"COUNTIF(C29:AG29,Accueil!$B$12)","v":0},{"$f":"COUNTIF(C29:AG29,Accueil!$B$13)","v":0},{"$f":"COUNTIF(C29:AG29,Accueil!$B$14)","v":0},{"$f":"COUNTIF(C29:AG29,Accueil!$B$15)","v":0},{"$f":"COUNTIF(C30:X30,Accueil!$B$16)","v":4},{"$f":"COUNTIF(C30:X30,Accueil!$B$17)","v":0},{"$f":"COUNTIF(C30:X30,Accueil!$B$18)","v":0},{"$f":"COUNTIF(C30:X30,Accueil!$B$19)","v":0},{"$f":"COUNTIF(C30:X30,Accueil!$B$20)","v":0},{"$f":"COUNTIF(C30:X30,Accueil!$B$21)","v":0},{"$f":"COUNTIF(C30:X30,Accueil!$B$22)","v":0},{"$f":"COUNTIF(C30:X30,Accueil!$B$23)","v":0},{"$f":"COUNTIF(C30:X30,Accueil!$B$24)","v":0},{"$f":"COUNTIF(C30:X30,Accueil!$B$25)","v":0},{"$f":"COUNTIF(C30:X30,Accueil!$B$26)","v":0},{"$f":"COUNTIF(C30:X30,Accueil!$B$27)","v":0},{"$f":"COUNTIF(C30:X30,Accueil!$B$28)","v":0},{"$f":"COUNTIF(C30:X30,Accueil!$B$29)","v":0},{"$f":"COUNTIF(C30:X30,Accueil!$B$30)","v":0},4,null,0,0,0,0,"Nuit",0,0,0,{"$f":"AQ29","v":4},0,0,0,0,0,0,0,0,{"$f":"AZ29","v":0},0,0,0,0,0,4,null,{"$f":"Personnel!F29","v":0},0,0,null,{"$f":"Personnel!I29","v":0},0,0,null,{"$f":"Personnel!L29","v":0},0,0,null,{"$f":"Personnel!O29","v":0},0,0]
[{"$f":"Personnel!A30","v":"Julien"},null,null,null,null,null,null,null,"Nuit","Nuit",null,null,null,null,null,null,null,"Nuit","Nuit",null,null,null,null,null,"Nuit",null,null,null,null,"Nuit",null,null,null,null,{"$f":"COUNTIF(C30:AG30,Accueil!$B$8)","v":0},{"$f":"COUNTIF(C30:AG30,Accueil!$B$9)","v":0},{"$f":"COUNTIF(C30:AG30,Accueil!$B$10)","v":0},{"$f":"COUNTIF(C30:AG30,Accueil!$B$11)","v":0},{"$f":"COUNTIF(C30:AG30,Accueil!$B$12)","v":0},{"$f":"COUNTIF(C30:AG30,Accueil!$B$13)","v":0},{"$f":"COUNTIF(C30:AG30,Accueil!$B$14)","v":0},{"$f":"COUNTIF(C30:AG30,Accueil!$B$15)","v":0},{"$f":"COUNTIF(C31:X31,Accueil!$B$16)","v":3},{"$f":"COUNTIF(C31:X31,Accueil!$B$17)","v":0},{"$f":"COUNTIF(C31:X31,Accueil!$B$18)","v":0},{"$f":"COUNTIF(C31:X31,Accueil!$B$19)","v":0},{"$f":"COUNTIF(C31:X31,Accueil!$B$20)","v":0},{"$f":"COUNTIF(C31:X31,Accueil!$B$21)","v":0},{"$f":"COUNTIF(C31:X31,Accueil!$B$22)","v":0},{"$f":"COUNTIF(C31:X31,Accueil!$B$23)","v":5},{"$f":"COUNTIF(C31:X31,Accueil!$B$24)","v":0},{"$f":"COUNTIF(C31:X31,Accueil!$B$25)","v":0},{"$f":"COUNTIF(C31:X31,Accueil!$B$26)","v":0},{"$f":"COUNTIF(C31:X31,Accueil!$B$27)","v":0},{"$f":"COUNTIF(C31:X31,Accueil!$B$28)","v":0},{"$f":"COUNTIF(C31:X31,Accueil!$B$29)","v":0},{"$f":"COUNTIF(C31:X31,Accueil!$B$30)","v":0},3,null,0,"Vac","Vac","Vac","Vac","Vac",0,0,3,0,0,0,0,0,0,5,0,{"$f":"AZ30","v":0},0,0,0,0,0,3,null,{"$f":"Personnel!F30","v":0},5,-5,null,{"$f":"Personnel!I30","v":0},0,0,null,{"$f":"Personnel!L30","v":0},0,0,null,{"$f":"Personnel!O30","v":0},0,0]
[{"$f":"Personnel!A31","v":"Mario"},null,"Nuit","Nuit",null,null,null,"Nuit",null,null,null,null,null,null,null,null,null,null,null,"Vac","Vac","Vac","Vac","Vac",null,null,"Vac","Vac","Vac","Vac","Vac",null,null,null,{"$f":"COUNTIF(C31:AG31,Accueil!$B$8)","v":0},{"$f":"COUNTIF(C31:AG31,Accueil!$B$9)","v":0},{"$f":"COUNTIF(C31:AG31,Accueil!$B$10)","v":0},{"$f":"COUNTIF(C31:AG31,Accueil!$B$11)","v":0},{"$f":"COUNTIF(C31:AG31,Accueil!$B$12)","v":0},{"$f":"COUNTIF(C31:AG31,Accueil!$B$13)","v":0},{"$f":"COUNTIF(C31:AG31,Accueil!$B$14)","v":0},{"$f":"COUNTIF(C31:AG31,Accueil!$B$15)","v":0},{"$f":"COUNTIF(C32:X32,Accueil!$B$16)","v":4},{"$f":"COUNTIF(C32:X32,Accueil!$B$17)","v":0},{"$f":"COUNTIF(C32:X32,Accueil!$B$18)","v":0},{"$f":"COUNTIF(C32:X32,Accueil!$B$19)","v":0},{"$f":"COUNTIF(C32:X32,Accueil!$B$20)","v":0},{"$f":"COUNTIF(C32:X32,Accueil!$B$21)","v":0},{"$f":"COUNTIF(C32:X32,Accueil!$B$22)","v":0},{"$f":"COUNTIF(C32:X32,Accueil!$B$23)","v":0},{"$f":"COUNTIF(C32:X32,Accueil!$B$24)","v":0},{"$f":"COUNTIF(C32:X32,Accueil!$B$25)","v":0},{"$f":"COUNTIF(C32:X32,Accueil!$B$26)","v":0},{"$f":"COUNTIF(C32:X32,Accueil!$B$27)","v":0},{"$f":"COUNTIF(C32:X32,Accueil!$B$28)","v":0},{"$f":"COUNTIF(C32:X32,Accueil!$B$29)","v":0},{"$f":"COUNTIF(C32:X32,Accueil!$B$30)","v":0},4,null,0,0,0,0,0,0,0,0,4,0,0,0,0,0,0,0,0,{"$f":"AZ31","v":0},0,0,0,0,0,4,null,{"$f":"Personnel!F31","v":0},0,0,null,{"$f":"Personnel!I31","v":0},0,0,null,{"$f":"Personnel!L31","v":0},0,0,null,{"$f":"Personnel!O31","v":0},0,0]
[{"$f":"Personnel!A32","v":"Hamid"},null,null,null,null,null,null,null,null,null,"Nuit",null,null,null,null,null,null,null,null,null,"Nuit",null,"Nuit","Nuit",null,null,null,null,null,null,null,null,null,null,{"$f":"COUNTIF(C32:AG32,Accueil!$B$8)","v":0},{"$f":"COUNTIF(C32:AG32,Accueil!$B$9)","v":0},{"$f":"COUNTIF(C32:AG32,Accueil!$B$10)","v":0},{"$f":"COUNTIF(C32:AG32,Accueil!$B$11)","v":0},{"$f":"COUNTIF(C32:AG32,Accueil!$B$12)","v":0},{"$f":"COUNTIF(C32:AG32,Accueil!$B$13)","v":0},{"$f":"COUNTIF(C32:AG32,Accueil!$B$14)","v":0},{"$f":"COUNTIF(C32:AG32,Accueil!$B$15)","v":0},{"$f":"COUNTIF(C33:X33,Accueil!$B$16)","v":0},{"$f":"COUNTIF(C33:X33,Accueil!$B$17)","v":0},{"$f":"COUNTIF(C33:X33,Accueil!$B$18)","v":0},{"$f":"COUNTIF(C33:X33,Accueil!$B$19)","v":0},{"$f":"COUNTIF(C33:X33,Accueil!$B$20)","v":0},{"$f":"COUNTIF(C33:X33,Accueil!$B$21)","v":10},{"$f":"COUNTIF(C33:X33,Accueil!$B$22)","v":10},{"$f":"COUNTIF(C33:X33,Accueil!$B$23)","v":0},{"$f":"COUNTIF(C33:X33,Accueil!$B$24)","v":0},{"$f":"COUNTIF(C33:X33,Accueil!$B$25)","v":0},{"$f":"COUNTIF(C33:X33,Accueil!$B$26)","v":0},{"$f":"COUNTIF(C33:X33,Accueil!$B$27)","v":0},{"$f":"COUNTIF(C33:X33,Accueil!$B$28)","v":0},{"$f":"COUNTIF(C33:X33,Accueil!$B$29)","v":0},{"$f":"COUNTIF(C33:X33,Accueil!$B$30)","v":10},5,null,0,0,0,0,0,0,0,0,0,0,0,0,0,10,10,0,0,{"$f":"AZ32","v":0},0,0,0,0,10,5,null,{"$f":"Personnel!F32","v":0},5,-5,null,{"$f":"Personnel!I32","v":0},0,0,null,{"$f":"Personnel!L32","v":0},0,0,null,{"$f":"Personnel!O32","v":0},10,-10]
[null,{"$f":" \"Effectif minimum \" & Accueil!$B$8","v":"Effectif minimum M1"},{"$f":"COUNTIF(C3:C32,Accueil!$B$8)","v":0},{"$f":"COUNTIF(D3:D32,Accueil!$B$8)","v":0},{"$f":"COUNTIF(E3:E32,Accueil!$B$8)","v":0},{"$f":"COUNTIF(F3:F32,Accueil!$B$8)","v":1},{"$f":"COUNTIF(G3:G32,Accueil!$B$8)","v":1},{"$f":"COUNTIF(H3:H32,Accueil!$B$8)","v":1},{"$f":"COUNTIF(I3:I32,Accueil!$B$8)","v":0},{"$f":"COUNTIF(J3:J32,Accueil!$B$8)","v":1},{"$f":"COUNTIF(K3:K32,Accueil!$B$8)","v":0},{"$f":"COUNTIF(L3:L32,Accueil!$B$8)","v":0},{"$f":"COUNTIF(M3:M32,Accueil!$B$8)","v":3},{"$f":"COUNTIF(N3:N32,Accueil!$B$8)","v":4},{"$f":"COUNTIF(O3:O32,Accueil!$B$8)","v":2},{"$f":"COUNTIF(P3:P32,Accueil!$B$8)","v":0},{"$f":"COUNTIF(Q3:Q32,Accueil!$B$8)","v":3},{"$f":"COUNTIF(R3:R32,Accueil!$B$8)","v":0},{"$f":"COUNTIF(S3:S32,Accueil!$B$8)","v":0},{"$f":"COUNTIF(T3:T32,Accueil!$B$8)","v":1},{"$f":"COUNTIF(U3:U32,Accueil!$B$8)","v":4},{"$f":"COUNTIF(V3:V32,Accueil!$B$8)","v":2},{"$f":"COUNTIF(W3:W32,Accueil!$B$8)","v":0},{"$f":"COUNTIF(X3:X32,Accueil!$B$8)","v":3},{"$f":"COUNTIF(Y3:Y32,Accueil!$B$8)","v":0},{"$f":"COUNTIF(Z3:Z32,Accueil!$B$8)","v":0},{"$f":"COUNTIF(AA3:AA32,Accueil!$B$8)","v":1},{"$f":"COUNTIF(AB3:AB32,Accueil!$B$8)","v":4},{"$f":"COUNTIF(AC3:AC32,Accueil!$B$8)","v":1},{"$f":"COUNTIF(AD3:AD32,Accueil!$B$8)","v":0},{"$f":"COUNTIF(AE3:AE32,Accueil!$B$8)","v":2},{"$f":"COUNTIF(AF3:AF32,Accueil!$B$8)","v":0},{"$f":"COUNTIF(AG3:AG32,Accueil!$B$8)","v":0},null,"Jours travaillés",null,null,{"$f":"COUNTIF(#REF!,Accueil!$B$11)","v":{"$error":"#REF!"}},null,null,{"$f":"COUNTIF(C33:AG33,Accueil!$B$14)","v":0},null,null,null,null,null,"Jours non travaillés",null,null,null,{"$f":"COUNTIF(C34:X34,Accueil!$B$24)","v":0},null,null,null,null,null,null,null,null,"Jours travaillés",null,null,null,null,null,null,null,null,null,null,null,"Jours non travaillés"]
[null,{"$f":" \"Effectif minimum \" & Accueil!$B$9","v":"Effectif minimum M2"},{"$f":"COUNTIF(C3:C32,Accueil!$B$9)","v":0},{"$f":"COUNTIF(D3:D32,Accueil!$B$9)","v":0},{"$f":"COUNTIF(E3:E32,Accueil!$B$9)","v":0},{"$f":"COUNTIF(F3:F32,Accueil!$B$9)","v":0},{"$f":"COUNTIF(G3:G32,Accueil!$B$9)","v":3},{"$f":"COUNTIF(H3:H32,Accueil!$B$9)","v":0},{"$f":"COUNTIF(I3:I32,Accueil!$B$9)","v":0},{"$f":"COUNTIF(J3:J32,Accueil!$B$9)","v":1},{"$f":"COUNTIF(K3:K32,Accueil!$B$9)","v":0},{"$f":"COUNTIF(L3:L32,Accueil!$B$9)","v":0},{"$f":"COUNTIF(M3:M32,Accueil!$B$9)","v":0},{"$f":"COUNTIF(N3:N32,Accueil!$B$9)","v":4},{"$f":"COUNTIF(O3:O32,Accueil!$B$9)","v":0},{"$f":"COUNTIF(P3:P32,Accueil!$B$9)","v":1},{"$f":"COUNTIF(Q3:Q32,Accueil!$B$9)","v":1},{"$f":"COUNTIF(R3:R32,Accueil!$B$9)","v":0},{"$f":"COUNTIF(S3:S32,Accueil!$B$9)","v":0},{"$f":"COUNTIF(T3:T32,Accueil!$B$9)","v":1},{"$f":"COUNTIF(U3:U32,Accueil!$B$9)","v":4},{"$f":"COUNTIF(V3:V32,Accueil!$B$9)","v":0},{"$f":"COUNTIF(W3:W32,Accueil!$B$9)","v":1},{"$f":"COUNTIF(X3:X32,Accueil!$B$9)","v":1},{"$f":"COUNTIF(Y3:Y32,Accueil!$B$9)","v":0},{"$f":"COUNTIF(Z3:Z32,Accueil!$B$9)","v":0},{"$f":"COUNTIF(AA3:AA32,Accueil!$B$9)","v":2},{"$f":"COUNTIF(AB3:AB32,Accueil!$B$9)","v":4},{"$f":"COUNTIF(AC3:AC32,Accueil!$B$9)","v":0},{"$f":"COUNTIF(AD3:AD32,Accueil!$B$9)","v":1},{"$f":"COUNTIF(AE3:AE32,Accueil!$B$9)","v":1},{"$f":"COUNTIF(AF3:AF32,Accueil!$B$9)","v":0},{"$f":"COUNTIF(AG3:AG32,Accueil!$B$9)","v":0},null,null,null,null,null,null,null,{"$f":"COUNTIF(C34:AG34,Accueil!$B$14)","v":0},null,null,null,null,null,null,null,null,null,{"$f":"COUNTIF(C35:X35,Accueil!$B$24)","v":0}]
[null,{"$f":"\"Effectif minimum \" & Accueil!$B$10","v":"Effectif minimum M3"},{"$f":"COUNTIF(C3:C32,Accueil!$B$10)","v":0},{"$f":"COUNTIF(D3:D32,Accueil!$B$10)","v":0},{"$f":"COUNTIF(E3:E32,Accueil!$B$10)","v":0},{"$f":"COUNTIF(F3:F32,Accueil!$B$10)","v":0},{"$f":"COUNTIF(G3:G32,Accueil!$B$10)","v":0},{"$f":"COUNTIF(H3:H32,Accueil!$B$10)","v":0},{"$f":"COUNTIF(I3:I32,Accueil!$B$10)","v":1},{"$f":"COUNTIF(J3:J32,Accueil!$B$10)","v":0},{"$f":"COUNTIF(K3:K32,Accueil!$B$10)","v":0},{"$f":"COUNTIF(L3:L32,Accueil!$B$10)","v":0},{"$f":"COUNTIF(M3:M32,Accueil!$B$10)","v":1},{"$f":"COUNTIF(N3:N32,Accueil!$B$10)","v":0},{"$f":"COUNTIF(O3:O32,Accueil!$B$10)","v":0},{"$f":"COUNTIF(P3:P32,Accueil!$B$10)","v":1},{"$f":"COUNTIF(Q3:Q32,Accueil!$B$10)","v":0},{"$f":"COUNTIF(R3:R32,Accueil!$B$10)","v":0},{"$f":"COUNTIF(S3:S32,Accueil!$B$10)","v":0},{"$f":"COUNTIF(T3:T32,Accueil!$B$10)","v":1},{"$f":"COUNTIF(U3:U32,Accueil!$B$10)","v":0},{"$f":"COUNTIF(V3:V32,Accueil!$B$10)","v":0},{"$f":"COUNTIF(W3:W32,Accueil!$B$10)","v":1},{"$f":"COUNTIF(X3:X32,Accueil!$B$10)","v":0},{"$f":"COUNTIF(Y3:Y32,Accueil!$B$10)","v":0},{"$f":"COUNTIF(Z3:Z32,Accueil!$B$10)","v":0},{"$f":"COUNTIF(AA3:AA32,Accueil!$B$10)","v":0},{"$f":"COUNTIF(AB3:AB32,Accueil!$B$10)","v":0},{"$f":"COUNTIF(AC3:AC32,Accueil!$B$10)","v":0},{"$f":"COUNTIF(AD3:AD32,Accueil!$B$10)","v":1},{"$f":"COUNTIF(AE3:AE32,Accueil!$B$10)","v":0},{"$f":"COUNTIF(AF3:AF32,Accueil!$B$10)","v":0},{"$f":"COUNTIF(AG3:AG32,Accueil!$B$10)","v":0},null,null,null,null,null,null,null,{"$f":"COUNTIF(C35:AG35,Accueil!$B$14)","v":0},null,null,null,null,null,null,null,null,null,{"$f":"COUNTIF(C36:X36,Accueil!$B$24)","v":0}]
[2,"MATIN",{"$f":"C33+C34+C35+C37","v":2},{"$f":"D33+D34+D35+D37","v":2},2,2,6,2,2,3,2,2,5,10,5,2,4,2,2,4,10,3,2,5,2,2,3,10,3,2,5,2,2]
[null,{"$f":"\"Effectif minimum \" & Accueil!$B$11","v":"Effectif minimum MP"},{"$f":"COUNTIF(C3:C32,Accueil!$B$11)","v":2},{"$f":"COUNTIF(D3:D32,Accueil!$B$11)","v":2},{"$f":"COUNTIF(E3:E32,Accueil!$B$11)","v":2},{"$f":"COUNTIF(F3:F32,Accueil!$B$11)","v":1},{"$f":"COUNTIF(G3:G32,Accueil!$B$11)","v":2},{"$f":"COUNTIF(H3:H32,Accueil!$B$11)","v":1},{"$f":"COUNTIF(I3:I32,Accueil!$B$11)","v":1},{"$f":"COUNTIF(J3:J32,Accueil!$B$11)","v":1},{"$f":"COUNTIF(K3:K32,Accueil!$B$11)","v":2},{"$f":"COUNTIF(L3:L32,Accueil!$B$11)","v":2},{"$f":"COUNTIF(M3:M32,Accueil!$B$11)","v":1},{"$f":"COUNTIF(N3:N32,Accueil!$B$11)","v":2},{"$f":"COUNTIF(O3:O32,Accueil!$B$11)","v":3},{"$f":"COUNTIF(P3:P32,Accueil!$B$11)","v":0},{"$f":"COUNTIF(Q3:Q32,Accueil!$B$11)","v":0},{"$f":"COUNTIF(R3:R32,Accueil!$B$11)","v":2},{"$f":"COUNTIF(S3:S32,Accueil!$B$11)","v":2},{"$f":"COUNTIF(T3:T32,Accueil!$B$11)","v":1},{"$f":"COUNTIF(U3:U32,Accueil!$B$11)","v":2},{"$f":"COUNTIF(V3:V32,Accueil!$B$11)","v":1},{"$f":"COUNTIF(W3:W32,Accueil!$B$11)","v":0},{"$f":"COUNTIF(X3:X32,Accueil!$B$11)","v":1},{"$f":"COUNTIF(Y3:Y32,Accueil!$B$11)","v":2},{"$f":"COUNTIF(Z3:Z32,Accueil!$B$11)","v":2},{"$f":"COUNTIF(AA3:AA32,Accueil!$B$11)","v":0},{"$f":"COUNTIF(AB3:AB32,Accueil!$B$11)","v":2},{"$f":"COUNTIF(AC3:AC32,Accueil!$B$11)","v":2},{"$f":"COUNTIF(AD3:AD32,Accueil!$B$11)","v":0},{"$f":"COUNTIF(AE3:AE32,Accueil!$B$11)","v":2},{"$f":"COUNTIF(AF3:AF32,Accueil!$B$11)","v":2},{"$f":"COUNTIF(AG3:AG32,Accueil!$B$11)","v":2}]
[null,{"$f":"\"Effectif minimum \" & Accueil!$B$12","v":"Effectif minimum AP1"},{"$f":"COUNTIF(C3:C32,Accueil!$B$12)","v":0},{"$f":"COUNTIF(D3:D32,Accueil!$B$12)","v":0},{"$f":"COUNTIF(E3:E32,Accueil!$B$12)","v":0},{"$f":"COUNTIF(F3:F32,Accueil!$B$12)","v":0},{"$f":"COUNTIF(G3:G32,Accueil!$B$12)","v":0},{"$f":"COUNTIF(H3:H32,Accueil!$B$12)","v":0},{"$f":"COUNTIF(I3:I32,Accueil!$B$12)","v":1},{"$f":"COUNTIF(J3:J32,Accueil!$B$12)","v":1},{"$f":"COUNTIF(K3:K32,Accueil!$B$12)","v":0},{"$f":"COUNTIF(L3:L32,Accueil!$B$12)","v":0},{"$f":"COUNTIF(M3:M32,Accueil!$B$12)","v":0},{"$f":"COUNTIF(N3:N32,Accueil!$B$12)","v":0},{"$f":"COUNTIF(O3:O32,Accueil!$B$12)","v":0},{"$f":"COUNTIF(P3:P32,Accueil!$B$12)","v":2},{"$f":"COUNTIF(Q3:Q32,Accueil!$B$12)","v":1},{"$f":"COUNTIF(R3:R32,Accueil!$B$12)","v":0},{"$f":"COUNTIF(S3:S32,Accueil!$B$12)","v":0},{"$f":"COUNTIF(T3:T32,Accueil!$B$12)","v":0},{"$f":"COUNTIF(U3:U32,Accueil!$B$12)","v":0},{"$f":"COUNTIF(V3:V32,Accueil!$B$12)","v":1},{"$f":"COUNTIF(W3:W32,Accueil!$B$12)","v":2},{"$f":"COUNTIF(X3:X32,Accueil!$B$12)","v":0},{"$f":"COUNTIF(Y3:Y32,Accueil!$B$12)","v":0},{"$f":"COUNTIF(Z3:Z32,Accueil!$B$12)","v":0},{"$f":"COUNTIF(AA3:AA32,Accueil!$B$12)","v":1},{"$f":"COUNTIF(AB3:AB32,Accueil!$B$12)","v":0},{"$f":"COUNTIF(AC3:AC32,Accueil!$B$12)","v":0},{"$f":"COUNTIF(AD3:AD32,Accueil!$B$12)","v":2},{"$f":"COUNTIF(AE3:AE32,Accueil!$B$12)","v":0},{"$f":"COUNTIF(AF3:AF32,Accueil!$B$12)","v":0},{"$f":"COUNTIF(AG3:AG32,Accueil!$B$12)","v":0}]
[null,{"$f":"\"Effectif minimum \" & Accueil!$B$13","v":"Effectif minimum AP2"},{"$f":"COUNTIF(C3:C32,Accueil!$B$13)","v":0},{"$f":"COUNTIF(D3:D32,Accueil!$B$13)","v":0},{"$f":"COUNTIF(E3:E32,Accueil!$B$13)","v":0},{"$f":"COUNTIF(F3:F32,Accueil!$B$13)","v":1},{"$f":"COUNTIF(G3:G32,Accueil!$B$13)","v":0},{"$f":"COUNTIF(H3:H32,Accueil!$B$13)","v":1},{"$f":"COUNTIF(I3:I32,Accueil!$B$13)","v":0},{"$f":"COUNTIF(J3:J32,Accueil!$B$13)","v":0},{"$f":"COUNTIF(K3:K32,Accueil!$B$13)","v":0},{"$f":"COUNTIF(L3:L32,Accueil!$B$13)","v":0},{"$f":"COUNTIF(M3:M32,Accueil!$B$13)","v":1},{"$f":"COUNTIF(N3:N32,Accueil!$B$13)","v":0},{"$f":"COUNTIF(O3:O32,Accueil!$B$13)","v":0},{"$f":"COUNTIF(P3:P32,Accueil!$B$13)","v":0},{"$f":"COUNTIF(Q3:Q32,Accueil!$B$13)","v":1},{"$f":"COUNTIF(R3:R32,Accueil!$B$13)","v":0},{"$f":"COUNTIF(S3:S32,Accueil!$B$13)","v":0},{"$f":"COUNTIF(T3:T32,Accueil!$B$13)","v":1},{"$f":"COUNTIF(U3:U32,Accueil!$B$13)","v":0},{"$f":"COUNTIF(V3:V32,Accueil!$B$13)","v":0},{"$f":"COUNTIF(W3:W32,Accueil!$B$13)","v":0},{"$f":"COUNTIF(X3:X32,Accueil!$B$13)","v":1},{"$f":"COUNTIF(Y3:Y32,Accueil!$B$13)","v":0},{"$f":"COUNTIF(Z3:Z32,Accueil!$B$13)","v":0},{"$f":"COUNTIF(AA3:AA32,Accueil!$B$13)","v":1},{"$f":"COUNTIF(AB3:AB32,Accueil!$B$13)","v":0},{"$f":"COUNTIF(AC3:AC32,Accueil!$B$13)","v":0},{"$f":"COUNTIF(AD3:AD32,Accueil!$B$13)","v":0},{"$f":"COUNTIF(AE3:AE32,Accueil!$B$13)","v":0},{"$f":"COUNTIF(AF3:AF32,Accueil!$B$13)","v":0},{"$f":"COUNTIF(AG3:AG32,Accueil!$B$13)","v":0}]
[null,{"$f":"\"Effectif minimum \" & Accueil!$B$14","v":"Effectif minimum AP3"},{"$f":"COUNTIF(C3:C32,Accueil!$B$14)","v":0},{"$f":"COUNTIF(D3:D32,Accueil!$B$14)","v":0},{"$f":"COUNTIF(E3:E32,Accueil!$B$14)","v":0},{"$f":"COUNTIF(F3:F32,Accueil!$B$14)","v":0},{"$f":"COUNTIF(G3:G32,Accueil!$B$14)","v":0},{"$f":"COUNTIF(H3:H32,Accueil!$B$14)","v":0},{"$f":"COUNTIF(I3:I32,Accueil!$B$14)","v":0},{"$f":"COUNTIF(J3:J32,Accueil!$B$14)","v":0},{"$f":"COUNTIF(K3:K32,Accueil!$B$14)","v":0},{"$f":"COUNTIF(L3:L32,Accueil!$B$14)","v":0},{"$f":"COUNTIF(M3:M32,Accueil!$B$14)","v":0},{"$f":"COUNTIF(N3:N32,Accueil!$B$14)","v":0},{"$f":"COUNTIF(O3:O32,Accueil!$B$14)","v":0},{"$f":"COUNTIF(P3:P32,Accueil!$B$14)","v":0},{"$f":"COUNTIF(Q3:Q32,Accueil!$B$14)","v":0},{"$f":"COUNTIF(R3:R32,Accueil!$B$14)","v":0},{"$f":"COUNTIF(S3:S32,Accueil!$B$14)","v":0},{"$f":"COUNTIF(T3:T32,Accueil!$B$14)","v":0},{"$f":"COUNTIF(U3:U32,Accueil!$B$14)","v":0},{"$f":"COUNTIF(V3:V32,Accueil!$B$14)","v":0},{"$f":"COUNTIF(W3:W32,Accueil!$B$14)","v":0},{"$f":"COUNTIF(X3:X32,Accueil!$B$14)","v":0},{"$f":"COUNTIF(Y3:Y32,Accueil!$B$14)","v":0},{"$f":"COUNTIF(Z3:Z32,Accueil!$B$14)","v":0},{"$f":"COUNTIF(AA3:AA32,Accueil!$B$14)","v":0},{"$f":"COUNTIF(AB3:AB32,Accueil!$B$14)","v":0},{"$f":"COUNTIF(AC3:AC32,Accueil!$B$14)","v":0},{"$f":"COUNTIF(AD3:AD32,Accueil!$B$14)","v":0},{"$f":"COUNTIF(AE3:AE32,Accueil!$B$14)","v":0},{"$f":"COUNTIF(AF3:AF32,Accueil!$B$14)","v":0},{"$f":"COUNTIF(AG3:AG32,Accueil!$B$14)","v":0}]
[1,{"$f":"\"Effectif minimum \" & Accueil!$B$15","v":"Effectif minimum P1"},{"$f":"COUNTIF(C3:C32,Accueil!$B$15)","v":0},{"$f":"COUNTIF(D3:D32,Accueil!$B$15)","v":0},{"$f":"COUNTIF(E3:E32,Accueil!$B$15)","v":0},{"$f":"COUNTIF(F3:F32,Accueil!$B$15)","v":0},{"$f":"COUNTIF(G3:G32,Accueil!$B$15)","v":0},{"$f":"COUNTIF(H3:H32,Accueil!$B$15)","v":0},{"$f":"COUNTIF(I3:I32,Accueil!$B$15)","v":0},{"$f":"COUNTIF(J3:J32,Accueil!$B$15)","v":0},{"$f":"COUNTIF(K3:K32,Accueil!$B$15)","v":0},{"$f":"COUNTIF(L3:L32,Accueil!$B$15)","v":0},{"$f":"COUNTIF(M3:M32,Accueil!$B$15)","v":0},{"$f":"COUNTIF(N3:N32,Accueil!$B$15)","v":0},{"$f":"COUNTIF(O3:O32,Accueil!$B$15)","v":0},{"$f":"COUNTIF(P3:P32,Accueil!$B$15)","v":0},{"$f":"COUNTIF(Q3:Q32,Accueil!$B$15)","v":0},{"$f":"COUNTIF(R3:R32,Accueil!$B$15)","v":0},{"$f":"COUNTIF(S3:S32,Accueil!$B$15)","v":0},{"$f":"COUNTIF(T3:T32,Accueil!$B$15)","v":0},{"$f":"COUNTIF(U3:U32,Accueil!$B$15)","v":0},{"$f":"COUNTIF(V3:V32,Accueil!$B$15)","v":0},{"$f":"COUNTIF(W3:W32,Accueil!$B$15)","v":0},{"$f":"COUNTIF(X3:X32,Accueil!$B$15)","v":0},{"$f":"COUNTIF(Y3:Y32,Accueil!$B$15)","v":0},{"$f":"COUNTIF(Z3:Z32,Accueil!$B$15)","v":0},{"$f":"COUNTIF(AA3:AA32,Accueil!$B$15)","v":0},{"$f":"COUNTIF(AB3:AB32,Accueil!$B$15)","v":0},{"$f":"COUNTIF(AC3:AC32,Accueil!$B$15)","v":0},{"$f":"COUNTIF(AD3:AD32,Accueil!$B$15)","v":0},{"$f":"COUNTIF(AE3:AE32,Accueil!$B$15)","v":0},{"$f":"COUNTIF(AF3:AF32,Accueil!$B$15)","v":0},{"$f":"COUNTIF(AG3:AG32,Accueil!$B$15)","v":0}]
[2,"APRES-MIDI",{"$f":"C37+C38+C39+C41","v":2},{"$f":"D37+D38+D39+D41","v":2},{"$f":"E37+E38+E39+E41","v":2},{"$f":"F37+F38+F39+F41","v":2},{"$f":"G37+G38+G39+G41","v":2},2,2,2,2,2,2,2,3,2,2,2,2,2,2,2,2,2,2,2,2,2,2,2,2,2,2]
[2,"SOIREE",{"$f":"C37+C38+C39+C41","v":2},{"$f":"D37+D38+D39+D41","v":2},2,2,2,2,2,2,2,2,2,2,3,2,2,2,2,2,2,2,2,2,2,2,2,2,2,2,2,2,2]
[null,{"$f":" \"Effectif minimum \" & Accueil!$B$17 & \" \"","v":"Effectif minimum BI "},{"$f":"COUNTIF(C3:C32,Accueil!$B$17)","v":0},{"$f":"COUNTIF(D3:D32,Accueil!$B$17)","v":0},{"$f":"COUNTIF(E3:E32,Accueil!$B$17)","v":0},{"$f":"COUNTIF(F3:F32,Accueil!$B$17)","v":0},{"$f":"COUNTIF(G3:G32,Accueil!$B$17)","v":0},{"$f":"COUNTIF(H3:H32,Accueil!$B$17)","v":0},{"$f":"COUNTIF(I3:I32,Accueil!$B$17)","v":0},{"$f":"COUNTIF(J3:J32,Accueil!$B$17)","v":1},{"$f":"COUNTIF(K3:K32,Accueil!$B$17)","v":0},{"$f":"COUNTIF(L3:L32,Accueil!$B$17)","v":0},{"$f":"COUNTIF(M3:M32,Accueil!$B$17)","v":1},{"$f":"COUNTIF(N3:N32,Accueil!$B$17)","v":0},{"$f":"COUNTIF(O3:O32,Accueil!$B$17)","v":0},{"$f":"COUNTIF(P3:P32,Accueil!$B$17)","v":1},{"$f":"COUNTIF(Q3:Q32,Accueil!$B$17)","v":0},{"$f":"COUNTIF(R3:R32,Accueil!$B$17)","v":0},{"$f":"COUNTIF(S3:S32,Accueil!$B$17)","v":0},{"$f":"COUNTIF(T3:T32,Accueil!$B$17)","v":1},{"$f":"COUNTIF(U3:U32,Accueil!$B$17)","v":0},{"$f":"COUNTIF(V3:V32,Accueil!$B$17)","v":0},{"$f":"COUNTIF(W3:W32,Accueil!$B$17)","v":0},{"$f":"COUNTIF(X3:X32,Accueil!$B$17)","v":0},{"$f":"COUNTIF(Y3:Y32,Accueil!$B$17)","v":0},{"$f":"COUNTIF(Z3:Z32,Accueil!$B$17)","v":0},{"$f":"COUNTIF(AA3:AA32,Accueil!$B$17)","v":1},{"$f":"COUNTIF(AB3:AB32,Accueil!$B$17)","v":0},{"$f":"COUNTIF(AC3:AC32,Accueil!$B$17)","v":0},{"$f":"COUNTIF(AD3:AD32,Accueil!$B$17)","v":0},{"$f":"COUNTIF(AE3:AE32,Accueil!$B$17)","v":0},{"$f":"COUNTIF(AF3:AF32,Accueil!$B$17)","v":1},{"$f":"COUNTIF(AG3:AG32,Accueil!$B$17)","v":0}]
[null,{"$f":" \"Effectif minimum \" & Accueil!$B$18 & \" \"","v":"Effectif minimum LY "},{"$f":"COUNTIF(C3:C32,Accueil!$B$18)","v":0},{"$f":"COUNTIF(D3:D32,Accueil!$B$18)","v":0},{"$f":"COUNTIF(E3:E32,Accueil!$B$18)","v":0},{"$f":"COUNTIF(F3:F32,Accueil!$B$18)","v":1},{"$f":"COUNTIF(G3:G32,Accueil!$B$18)","v":0},{"$f":"COUNTIF(H3:H32,Accueil!$B$18)","v":1},{"$f":"COUNTIF(I3:I32,Accueil!$B$18)","v":2},{"$f":"COUNTIF(J3:J32,Accueil!$B$18)","v":2},{"$f":"COUNTIF(K3:K32,Accueil!$B$18)","v":1},{"$f":"COUNTIF(L3:L32,Accueil!$B$18)","v":0},{"$f":"COUNTIF(M3:M32,Accueil!$B$18)","v":1},{"$f":"COUNTIF(N3:N32,Accueil!$B$18)","v":1},{"$f":"COUNTIF(O3:O32,Accueil!$B$18)","v":0},{"$f":"COUNTIF(P3:P32,Accueil!$B$18)","v":1},{"$f":"COUNTIF(Q3:Q32,Accueil!$B$18)","v":1},{"$f":"COUNTIF(R3:R32,Accueil!$B$18)","v":1},{"$f":"COUNTIF(S3:S32,Accueil!$B$18)","v":1},{"$f":"COUNTIF(T3:T32,Accueil!$B$18)","v":1},{"$f":"COUNTIF(U3:U32,Accueil!$B$18)","v":1},{"$f":"COUNTIF(V3:V32,Accueil!$B$18)","v":1},{"$f":"COUNTIF(W3:W32,Accueil!$B$18)","v":1},{"$f":"COUNTIF(X3:X32,Accueil!$B$18)","v":1},{"$f":"COUNTIF(Y3:Y32,Accueil!$B$18)","v":1},{"$f":"COUNTIF(Z3:Z32,Accueil!$B$18)","v":1},{"$f":"COUNTIF(AA3:AA32,Accueil!$B$18)","v":1},{"$f":"COUNTIF(AB3:AB32,Accueil!$B$18)","v":1},{"$f":"COUNTIF(AC3:AC32,Accueil!$B$18)","v":1},{"$f":"COUNTIF(AD3:AD32,Accueil!$B$18)","v":1},{"$f":"COUNTIF(AE3:AE32,Accueil!$B$18)","v":1},{"$f":"COUNTIF(AF3:AF32,Accueil!$B$18)","v":0},{"$f":"COUNTIF(AG3:AG32,Accueil!$B$18)","v":1}]
[null,{"$f":" \"Effectif minimum \" & Accueil!$B$19 & \" \"","v":"Effectif minimum ST "},{"$f":"COUNTIF(C3:C32,Accueil!$B$19)","v":0},{"$f":"COUNTIF(D3:D32,Accueil!$B$19)","v":0},{"$f":"COUNTIF(E3:E32,Accueil!$B$19)","v":0},{"$f":"COUNTIF(F3:F32,Accueil!$B$19)","v":0},{"$f":"COUNTIF(G3:G32,Accueil!$B$19)","v":0},{"$f":"COUNTIF(H3:H32,Accueil!$B$19)","v":0},{"$f":"COUNTIF(I3:I32,Accueil!$B$19)","v":0},{"$f":"COUNTIF(J3:J32,Accueil!$B$19)","v":0},{"$f":"COUNTIF(K3:K32,Accueil!$B$19)","v":0},{"$f":"COUNTIF(L3:L32,Accueil!$B$19)","v":0},{"$f":"COUNTIF(M3:M32,Accueil!$B$19)","v":0},{"$f":"COUNTIF(N3:N32,Accueil!$B$19)","v":0},{"$f":"COUNTIF(O3:O32,Accueil!$B$19)","v":0},{"$f":"COUNTIF(P3:P32,Accueil!$B$19)","v":0},{"$f":"COUNTIF(Q3:Q32,Accueil!$B$19)","v":0},{"$f":"COUNTIF(R3:R32,Accueil!$B$19)","v":0},{"$f":"COUNTIF(S3:S32,Accueil!$B$19)","v":0},{"$f":"COUNTIF(T3:T32,Accueil!$B$19)","v":0},{"$f":"COUNTIF(U3:U32,Accueil!$B$19)","v":0},{"$f":"COUNTIF(V3:V32,Accueil!$B$19)","v":0},{"$f":"COUNTIF(W3:W32,Accueil!$B$19)","v":0},{"$f":"COUNTIF(X3:X32,Accueil!$B$19)","v":0},{"$f":"COUNTIF(Y3:Y32,Accueil!$B$19)","v":0},{"$f":"COUNTIF(Z3:Z32,Accueil!$B$19)","v":0},{"$f":"COUNTIF(AA3:AA32,Accueil!$B$19)","v":0},{"$f":"COUNTIF(AB3:AB32,Accueil!$B$19)","v":0},{"$f":"COUNTIF(AC3:AC32,Accueil!$B$19)","v":0},{"$f":"COUNTIF(AD3:AD32,Accueil!$B$19)","v":0},{"$f":"COUNTIF(AE3:AE32,Accueil!$B$19)","v":0},{"$f":"COUNTIF(AF3:AF32,Accueil!$B$19)","v":0},{"$f":"COUNTIF(AG3:AG32,Accueil!$B$19)","v":0}]
[1,{"$f":"\"Effectif minimum \" & Accueil!$B$16","v":"Effectif minimum Nuit"},{"$f":"COUNTIF(C3:C32,Accueil!$B$16)","v":1},{"$f":"COUNTIF(D3:D32,Accueil!$B$16)","v":1},{"$f":"COUNTIF(E3:E32,Accueil!$B$16)","v":1},{"$f":"COUNTIF(F3:F32,Accueil!$B$16)","v":1},{"$f":"COUNTIF(G3:G32,Accueil!$B$16)","v":1},{"$f":"COUNTIF(H3:H32,Accueil!$B$16)","v":1},{"$f":"COUNTIF(I3:I32,Accueil!$B$16)","v":1},{"$f":"COUNTIF(J3:J32,Accueil!$B$16)","v":1},{"$f":"COUNTIF(K3:K32,Accueil!$B$16)","v":1},{"$f":"COUNTIF(L3:L32,Accueil!$B$16)","v":1},{"$f":"COUNTIF(M3:M32,Accueil!$B$16)","v":1},{"$f":"COUNTIF(N3:N32,Accueil!$B$16)","v":1},{"$f":"COUNTIF(O3:O32,Accueil!$B$16)","v":1},{"$f":"COUNTIF(P3:P32,Accueil!$B$16)","v":1},{"$f":"COUNTIF(Q3:Q32,Accueil!$B$16)","v":1},{"$f":"COUNTIF(R3:R32,Accueil!$B$16)","v":1},{"$f":"COUNTIF(S3:S32,Accueil!$B$16)","v":1},{"$f":"COUNTIF(T3:T32,Accueil!$B$16)","v":1},{"$f":"COUNTIF(U3:U32,Accueil!$B$16)","v":1},{"$f":"COUNTIF(V3:V32,Accueil!$B$16)","v":1},{"$f":"COUNTIF(W3:W32,Accueil!$B$16)","v":1},{"$f":"COUNTIF(X3:X32,Accueil!$B$16)","v":1},{"$f":"COUNTIF(Y3:Y32,Accueil!$B$16)","v":1},{"$f":"COUNTIF(Z3:Z32,Accueil!$B$16)","v":1},{"$f":"COUNTIF(AA3:AA32,Accueil!$B$16)","v":1},{"$f":"COUNTIF(AB3:AB32,Accueil!$B$16)","v":1},{"$f":"COUNTIF(AC3:AC32,Accueil!$B$16)","v":1},{"$f":"COUNTIF(AD3:AD32,Accueil!$B$16)","v":1},{"$f":"COUNTIF(AE3:AE32,Accueil!$B$16)","v":1},{"$f":"COUNTIF(AF3:AF32,Accueil!$B$16)","v":1},{"$f":"COUNTIF(AG3:AG32,Accueil!$B$16)","v":1}]

{"sheet":"Fev","index":3,"n_rows":47,"n_cols":99,"rows_kept":47,"cut":false,"hidden":false,"merged":[[31,0,31,1],[27,0,27,1],[28,0,28,1],[29,0,29,1],[30,0,30,1],[26,0,26,1],[15,0,15,1],[16,0,16,1],[17,0,17,1],[18,0,18,1],[19,0,19,1],[20,0,20,1],[21,0,21,1],[22,0,22,1],[23,0,23,1],[24,0,24,1],[25,0,25,1],[14,0,14,1],[3,0,3,1],[4,0,4,1],[5,0,5,1],[6,0,6,1],[7,0,7,1],[8,0,8,1],[9,0,9,1],[10,0,10,1],[11,0,11,1],[12,0,12,1],[13,0,13,1],[0,92,0,94],[0,96,0,98],[1,0,1,1],[2,0,2,1],[0,0,0,1],[0,84,0,86],[0,88,0,90]]}
[{"$f":"DATE(Accueil!C2,2,1)","v":"2016-02-01"},null,{"$f":"INDEX({\"D\";\"L\";\"M\";\"M\";\"J\";\"V\";\"S\"},WEEKDAY(C2))","v":"L"},{"$f":"INDEX({\"D\";\"L\";\"M\";\"M\";\"J\";\"V\";\"S\"},WEEKDAY(D2))","v":"M"},{"$f":"INDEX({\"D\";\"L\";\"M\";\"M\";\"J\";\"V\";\"S\"},WEEKDAY(E2))","v":"M"},{"$f":"INDEX({\"D\";\"L\";\"M\";\"M\";\"J\";\"V\";\"S\"},WEEKDAY(F2))","v":"J"},{"$f":"INDEX({\"D\";\"L\";\"M\";\"M\";\"J\";\"V\";\"S\"},WEEKDAY(G2))","v":"V"},{"$f":"INDEX({\"D\";\"L\";\"M\";\"M\";\"J\";\"V\";\"S\"},WEEKDAY(H2))","v":"S"},{"$f":"INDEX({\"D\";\"L\";\"M\";\"M\";\"J\";\"V\";\"S\"},WEEKDAY(I2))","v":"D"},{"$f":"INDEX({\"D\";\"L\";\"M\";\"M\";\"J\";\"V\";\"S\"},WEEKDAY(J2))","v":"L"},{"$f":"INDEX({\"D\";\"L\";\"M\";\"M\";\"J\";\"V\";\"S\"},WEEKDAY(K2))","v":"M"},{"$f":"INDEX({\"D\";\"L\";\"M\";\"M\";\"J\";\"V\";\"S\"},WEEKDAY(L2))","v":"M"},{"$f":"INDEX({\"D\";\"L\";\"M\";\"M\";\"J\";\"V\";\"S\"},WEEKDAY(M2))","v":"J"},{"$f":"INDEX({\"D\";\"L\";\"M\";\"M\";\"J\";\"V\";\"S\"},WEEKDAY(N2))","v":"V"},{"$f":"INDEX({\"D\";\"L\";\"M\";\"M\";\"J\";\"V\";\"S\"},WEEKDAY(O2))","v":"S"},{"$f":"INDEX({\"D\";\"L\";\"M\";\"M\";\"J\";\"V\";\"S\"},WEEKDAY(P2))","v":"D"},{"$f":"INDEX({\"D\";\"L\";\"M\";\"M\";\"J\";\"V\";\"S\"},WEEKDAY(Q2))","v":"L"},{"$f":"INDEX({\"D\";\"L\";\"M\";\"M\";\"J\";\"V\";\"S\"},WEEKDAY(R2))","v":"M"},{"$f":"INDEX({\"D\";\"L\";\"M\";\"M\";\"J\";\"V\";\"S\"},WEEKDAY(S2))","v":"M"},{"$f":"INDEX({\"D\";\"L\";\"M\";\"M\";\"J\";\"V\";\"S\"},WEEKDAY(T2))","v":"J"},{"$f":"INDEX({\"D\";\"L\";\"M\";\"M\";\"J\";\"V\";\"S\"},WEEKDAY(U2))","v":"V"},{"$f":"INDEX({\"D\";\"L\";\"M\";\"M\";\"J\";\"V\";\"S\"},WEEKDAY(V2))","v":"S"},{"$f":"INDEX({\"D\";\"L\";\"M\";\"M\";\"J\";\"V\";\"S\"},WEEKDAY(W2))","v":"D"},{"$f":"INDEX({\"D\";\"L\";\"M\";\"M\";\"J\";\"V\";\"S\"},WEEKDAY(X2))","v":"L"},{"$f":"INDEX({\"D\";\"L\";\"M\";\"M\";\"J\";\"V\";\"S\"},WEEKDAY(Y2))","v":"M"},{"$f":"INDEX({\"D\";\"L\";\"M\";\"M\";\"J\";\"V\";\"S\"},WEEKDAY(Z2))","v":"M"},{"$f":"INDEX({\"D\";\"L\";\"M\";\"M\";\"J\";\"V\";\"S\"},WEEKDAY(AA2))","v":"J"},{"$f":"INDEX({\"D\";\"L\";\"M\";\"M\";\"J\";\"V\";\"S\"},WEEKDAY(AB2))","v":"V"},{"$f":"INDEX({\"D\";\"L\";\"M\";\"M\";\"J\";\"V\";\"S\"},WEEKDAY(AC2))","v":"S"},{"$f":"INDEX({\"D\";\"L\";\"M\";\"M\";\"J\";\"V\";\"S\"},WEEKDAY(AD2))","v":"D"},{"$f":"INDEX({\"D\";\"L\";\"M\";\"M\";\"J\";\"V\";\"S\"},WEEKDAY(AE2))","v":"L"},{"$f":"INDEX({\"D\";\"L\";\"M\";\"M\";\"J\";\"V\";\"S\"},WEEKDAY(AF2))","v":"M"},{"$f":"INDEX({\"D\";\"L\";\"M\";\"M\";\"J\";\"V\";\"S\"},WEEKDAY(AG2))","v":"M"},null,"Bilan mensuel",null,null,null,null,null,null,null,null,null,null,null,null,null,null,null,null,null,null,null,null,null,null,"Total jours",null,"Bilan annuel",null,null,null,null,null,null,null,null,null,null,null,null,null,null,null,null,null,null,null,null,null,null,"Total jours",null,"Bilan congès annuels",null,null,null,"Bilan Enfant malade",null,null,null,"Bilan RH aministratif",null,null,null,"Bilan RH employé"]
[{"$f":"Accueil!J2","v":"Educatif"},null,{"$f":"A1","v":"2016-02-01"},{"$f":"C2+1","v":"2016-02-02"},"2016-02-03","2016-02-04","2016-02-05","2016-02-06","2016-02-07","2016-02-08","2016-02-09","2016-02-10","2016-02-11","2016-02-12","2016-02-13","2016-02-14","2016-02-15","2016-02-16","2016-02-17","2016-02-18","2016-02-19","2016-02-20","2016-02-21","2016-02-22","2016-02-23","2016-02-24","2016-02-25","2016-02-26","2016-02-27","2016-02-28","2016-02-29","2016-03-01","2016-03-02",null,{"$f":"Accueil!$B$8","v":"M1"},{"$f":"Accueil!$B$9","v":"M2"},{"$f":"Accueil!B10","v":"M3"},{"$f":"Accueil!$B$11","v":"MP"},{"$f":"Accueil!$B$12","v":"AP1"},{"$f":"Accueil!B13","v":"AP2"},{"$f":"Accueil!B14","v":"AP3"},{"$f":"Accueil!$B$15","v":"P1"},{"$f":"Accueil!$B$16","v":"Nuit"},{"$f":"Accueil!$B$17","v":"BI"},{"$f":"Accueil!$B$18","v":"LY"},{"$f":"Accueil!$B$19","v":"ST"},{"$f":"Accueil!$B$20","v":"IND"},{"$f":"Accueil!$B$21","v":0},{"$f":"Accueil!$B$22","v":0},{"$f":"Accueil!$B$23","v":"Vac"},{"$f":"Accueil!$B$24","v":"Mal"},{"$f":"Accueil!$B$25","v":"Mat"},{"$f":"Accueil!$B$26","v":"CC"},{"$f":"Accueil!$B$27","v":"F"},{"$f":"Accueil!$B$28","v":"Enf"},{"$f":"Accueil!$B$29","v":"CP"},{"$f":"Accueil!$B$30","v":0},"travaillés",null,{"$f":"AI2","v":"M1"},"M2","M3","MP","AP1","AP2","AP3","P1","Nuit","BI","LY","ST","IND",0,0,"Vac","Mal","Mat","CC","F","Enf","CP",0,"travaillés",null,"capital","pris","restant",null,"capital","pris","restant",null,"capital","pris","restant",null,"capital","pris","restant"]
[{"$f":"Janv!A3","v":"Anne"},null,null,"MP",null,null,"M1","MP",null,null,"Mal",null,null,"M1",null,null,null,"MP",null,null,"M1","MP",null,null,"MP",null,null,"AP1",null,null,null,null,null,null,{"$f":"COUNTIF(C3:AG3,Accueil!$B$8)","v":3},{"$f":"COUNTIF(C3:AG3,Accueil!$B$9)","v":0},{"$f":"COUNTIF(C3:AG3,Accueil!$B$10)","v":0},{"$f":"COUNTIF(C3:AG3,Accueil!$B$11)","v":5},{"$f":"COUNTIF(C3:AG3,Accueil!$B$12)","v":1},{"$f":"COUNTIF(C3:AG3,Accueil!$B$13)","v":0},{"$f":"COUNTIF(C3:AG3,Accueil!$B$14)","v":0},{"$f":"COUNTIF(C3:AG3,Accueil!$B$15)","v":0},{"$f":"COUNTIF(C3:AG3,Accueil!$B$16)","v":0},{"$f":"COUNTIF(C3:AG3,Accueil!$B$17)","v":0},{"$f":"COUNTIF(C3:AG3,Accueil!$B$18)","v":0},{"$f":"COUNTIF(C3:AG3,Accueil!$B$19)","v":0},{"$f":"COUNTIF(C3:AG3,Accueil!$B$20)","v":0},{"$f":"COUNTIF(C3:AG3,Accueil!$B$21)","v":0},{"$f":"COUNTIF(C3:AG3,Accueil!$B$22)","v":0},{"$f":"COUNTIF(C3:AG3,Accueil!$B$23)","v":0},{"$f":"COUNTIF(C3:AG3,Accueil!$B$24)","v":1},{"$f":"COUNTIF(C3:AG3,Accueil!$B$25)","v":0},{"$f":"COUNTIF(C3:AG3,Accueil!$B$26)","v":0},{"$f":"COUNTIF(C3:AG3,Accueil!$B$27)","v":0},{"$f":"COUNTIF(C3:AG3,Accueil!$B$28)","v":0},{"$f":"COUNTIF(C3:AG3,Accueil!$B$29)","v":0},{"$f":"COUNTIF(C3:AG3,Accueil!$B$30)","v":0},{"$f":"SUM($AI3:$AT3)+($AW3*0.5)","v":9},null,{"$f":"AI3 +Janv!BH3","v":7},{"$f":"AJ3+Janv!BI3","v":0},{"$f":"AK3+Janv!BJ3","v":0},{"$f":"AL3+Janv!BK3","v":12},{"$f":"AM3+Janv!BL3","v":1},{"$f":"AN3+Janv!BM3","v":0},{"$f":"AO3+Janv!BN3","v":0},{"$f":"AP3+Janv!BO3","v":0},{"$f":"AQ3+Janv!BP3","v":0},{"$f":"AR3+Janv!BQ3","v":0},{"$f":"AS3+Janv!BR3","v":0},{"$f":"AT3+Janv!BS3","v":0},{"$f":"AU3+Janv!BT3","v":0},{"$f":"AV3+Janv!BU3","v":0},{"$f":"AW3+Janv!BV3","v":0},{"$f":"AX3+Janv!BW3","v":0},{"$f":"AY3+Janv!BX3","v":1},{"$f":"AZ3+Janv!BY3","v":0},{"$f":"BA3+Janv!BZ3","v":0},{"$f":"BB3+Janv!CA3","v":0},{"$f":"BC3+Janv!CB3","v":0},{"$f":"BD3+Janv!CC3","v":0},{"$f":"BE3+Janv!CD3","v":0},{"$f":"BF3+Janv!CE3","v":20},null,{"$f":"Janv!CG3","v":0},{"$f":"0.5*($BV3)+($BW3)","v":0},{"$f":"CG3-CH3","v":0},null,{"$f":"Janv!CK3","v":0},{"$f":"$CB3","v":0},{"$f":"CK3-CL3","v":0},null,{"$f":"Janv!CO3","v":0},{"$f":"$CC3","v":0},{"$f":"CO3-CP3","v":0},null,{"$f":"Janv!CS3","v":0},{"$f":"$CD3","v":0},{"$f":"CS3-CT3","v":0}]
[{"$f":"Janv!A4","v":0},null,null,null,null,null,null,null,null,null,null,null,null,null,null,null,null,null,null,null,null,"LY",null,null,null,null,null,null,null,null,null,null,null,null,{"$f":"COUNTIF(C4:AG4,Accueil!$B$8)","v":0},{"$f":"COUNTIF(C4:AG4,Accueil!$B$9)","v":0},{"$f":"COUNTIF(C4:AG4,Accueil!$B$10)","v":0},{"$f":"COUNTIF(C4:AG4,Accueil!$B$11)","v":0},{"$f":"COUNTIF(C4:AG4,Accueil!$B$12)","v":0},{"$f":"COUNTIF(C4:AG4,Accueil!$B$13)","v":0},{"$f":"COUNTIF(C4:AG4,Accueil!$B$14)","v":0},{"$f":"COUNTIF(C4:AG4,Accueil!$B$15)","v":0},{"$f":"COUNTIF(C4:AG4,Accueil!$B$16)","v":0},{"$f":"COUNTIF(C4:AG4,Accueil!$B$17)","v":0},{"$f":"COUNTIF(C4:AG4,Accueil!$B$18)","v":1},{"$f":"COUNTIF(C4:AG4,Accueil!$B$19)","v":0},{"$f":"COUNTIF(C4:AG4,Accueil!$B$20)","v":0},{"$f":"COUNTIF(C4:AG4,Accueil!$B$21)","v":0},{"$f":"COUNTIF(C4:AG4,Accueil!$B$22)","v":0},{"$f":"COUNTIF(C4:AG4,Accueil!$B$23)","v":0},{"$f":"COUNTIF(C4:AG4,Accueil!$B$24)","v":0},{"$f":"COUNTIF(C4:AG4,Accueil!$B$25)","v":0},{"$f":"COUNTIF(C4:AG4,Accueil!$B$26)","v":0},{"$f":"COUNTIF(C4:AG4,Accueil!$B$27)","v":0},{"$f":"COUNTIF(C4:AG4,Accueil!$B$28)","v":0},{"$f":"COUNTIF(C4:AG4,Accueil!$B$29)","v":0},{"$f":"COUNTIF(C4:AG4,Accueil!$B$30)","v":0},1,null,{"$f":"AI4 +Janv!BH4","v":0},{"$f":"AJ4+Janv!BI4","v":0},{"$f":"AK4+Janv!BJ4","v":0},{"$f":"AL4+Janv!BK4","v":0},{"$f":"AM4+Janv!BL4","v":0},{"$f":"AN4+Janv!BM4","v":0},{"$f":"AO4+Janv!BN4","v":0},{"$f":"AP4+Janv!BO4","v":0},{"$f":"AQ4+Janv!BP4","v":0},{"$f":"AR4+Janv!BQ4","v":0},{"$f":"AS4+Janv!BR4","v":1},{"$f":"AT4+Janv!BS4","v":0},{"$f":"AU4+Janv!BT4","v":0},{"$f":"AV4+Janv!BU4","v":0},{"$f":"AW4+Janv!BV4","v":0},{"$f":"AX4+Janv!BW4","v":0},{"$f":"AY4+Janv!BX4","v":0},{"$f":"AZ4+Janv!BY4","v":0},{"$f":"BA4+Janv!BZ4","v":0},{"$f":"BB4+Janv!CA4","v":0},{"$f":"BC4+Janv!CB4","v":0},{"$f":"BD4+Janv!CC4","v":0},{"$f":"BE4+Janv!CD4","v":0},{"$f":"BF4+Janv!CE4","v":1},null,{"$f":"Janv!CG4","v":0},0,0,null,{"$f":"Janv!CK4","v":0},0,0,null,{"$f":"Janv!CO4","v":0},0,0,null,{"$f":"Janv!CS4","v":0},0,0]
[{"$f":"Janv!A5","v":"Elodie"},null,null,"M1","M1","F",null,null,"MP",null,"CC","M1","AP1",null,null,null,"M1","M1","M1","AP1",null,null,"MP",null,"M1","MP","AP1",null,null,null,"M1",null,null,null,{"$f":"COUNTIF(C5:AG5,Accueil!$B$8)","v":8},{"$f":"COUNTIF(C5:AG5,Accueil!$B$9)","v":0},{"$f":"COUNTIF(C5:AG5,Accueil!$B$10)","v":0},{"$f":"COUNTIF(C5:AG5,Accueil!$B$11)","v":3},{"$f":"COUNTIF(C5:AG5,Accueil!$B$12)","v":3},{"$f":"COUNTIF(C5:AG5,Accueil!$B$13)","v":0},{"$f":"COUNTIF(C5:AG5,Accueil!$B$14)","v":0},{"$f":"COUNTIF(C5:AG5,Accueil!$B$15)","v":0},{"$f":"COUNTIF(C5:AG5,Accueil!$B$16)","v":0},{"$f":"COUNTIF(C5:AG5,Accueil!$B$17)","v":0},{"$f":"COUNTIF(C5:AG5,Accueil!$B$18)","v":0},{"$f":"COUNTIF(C5:AG5,Accueil!$B$19)","v":0},{"$f":"COUNTIF(C5:AG5,Accueil!$B$20)","v":0},{"$f":"COUNTIF(C5:AG5,Accueil!$B$21)","v":0},{"$f":"COUNTIF(C5:AG5,Accueil!$B$22)","v":0},{"$f":"COUNTIF(C5:AG5,Accueil!$B$23)","v":0},{"$f":"COUNTIF(C5:AG5,Accueil!$B$24)","v":0},{"$f":"COUNTIF(C5:AG5,Accueil!$B$25)","v":0},{"$f":"COUNTIF(C5:AG5,Accueil!$B$26)","v":1},{"$f":"COUNTIF(C5:AG5,Accueil!$B$27)","v":1},{"$f":"COUNTIF(C5:AG5,Accueil!$B$28)","v":0},{"$f":"COUNTIF(C5:AG5,Accueil!$B$29)","v":0},{"$f":"COUNTIF(C5:AG5,Accueil!$B$30)","v":0},14,null,{"$f":"AI5 +Janv!BH5","v":18},{"$f":"AJ5+Janv!BI5","v":0},{"$f":"AK5+Janv!BJ5","v":0},{"$f":"AL5+Janv!BK5","v":6},{"$f":"AM5+Janv!BL5","v":7},{"$f":"AN5+Janv!BM5","v":1},{"$f":"AO5+Janv!BN5","v":0},{"$f":"AP5+Janv!BO5","v":0},{"$f":"AQ5+Janv!BP5","v":0},{"$f":"AR5+Janv!BQ5","v":0},{"$f":"AS5+Janv!BR5","v":0},{"$f":"AT5+Janv!BS5","v":0},{"$f":"AU5+Janv!BT5","v":0},{"$f":"AV5+Janv!BU5","v":0},{"$f":"AW5+Janv!BV5","v":0},{"$f":"AX5+Janv!BW5","v":0},{"$f":"AY5+Janv!BX5","v":0},{"$f":"AZ5+Janv!BY5","v":0},{"$f":"BA5+Janv!BZ5","v":1},{"$f":"BB5+Janv!CA5","v":1},{"$f":"BC5+Janv!CB5","v":0},{"$f":"BD5+Janv!CC5","v":0},{"$f":"BE5+Janv!CD5","v":0},{"$f":"BF5+Janv!CE5","v":32},null,{"$f":"Janv!CG5","v":0},0,0,null,{"$f":"Janv!CK5","v":0},0,0,null,{"$f":"Janv!CO5","v":0},0,0,null,{"$f":"Janv!CS5","v":0},0,0]
[{"$f":"Janv!A6","v":0},null,null,null,null,"AP2",null,null,null,null,null,null,null,null,null,null,null,null,null,null,null,null,null,null,null,null,null,null,null,null,null,null,null,null,{"$f":"COUNTIF(C6:AG6,Accueil!$B$8)","v":0},{"$f":"COUNTIF(C6:AG6,Accueil!$B$9)","v":0},{"$f":"COUNTIF(C6:AG6,Accueil!$B$10)","v":0},{"$f":"COUNTIF(C6:AG6,Accueil!$B$11)","v":0},{"$f":"COUNTIF(C6:AG6,Accueil!$B$12)","v":0},{"$f":"COUNTIF(C6:AG6,Accueil!$B$13)","v":1},{"$f":"COUNTIF(C6:AG6,Accueil!$B$14)","v":0},{"$f":"COUNTIF(C6:AG6,Accueil!$B$15)","v":0},{"$f":"COUNTIF(C6:AG6,Accueil!$B$16)","v":0},{"$f":"COUNTIF(C6:AG6,Accueil!$B$17)","v":0},{"$f":"COUNTIF(C6:AG6,Accueil!$B$18)","v":0},{"$f":"COUNTIF(C6:AG6,Accueil!$B$19)","v":0},{"$f":"COUNTIF(C6:AG6,Accueil!$B$20)","v":0},{"$f":"COUNTIF(C6:AG6,Accueil!$B$21)","v":0},{"$f":"COUNTIF(C6:AG6,Accueil!$B$22)","v":0},{"$f":"COUNTIF(C6:AG6,Accueil!$B$23)","v":0},{"$f":"COUNTIF(C6:AG6,Accueil!$B$24)","v":0},{"$f":"COUNTIF(C6:AG6,Accueil!$B$25)","v":0},{"$f":"COUNTIF(C6:AG6,Accueil!$B$26)","v":0},{"$f":"COUNTIF(C6:AG6,Accueil!$B$27)","v":0},{"$f":"COUNTIF(C6:AG6,Accueil!$B$28)","v":0},{"$f":"COUNTIF(C6:AG6,Accueil!$B$29)","v":0},{"$f":"COUNTIF(C6:AG6,Accueil!$B$30)","v":0},1,null,{"$f":"AI6 +Janv!BH6","v":0},{"$f":"AJ6+Janv!BI6","v":0},{"$f":"AK6+Janv!BJ6","v":0},{"$f":"AL6+Janv!BK6","v":0},{"$f":"AM6+Janv!BL6","v":0},{"$f":"AN6+Janv!BM6","v":1},{"$f":"AO6+Janv!BN6","v":0},{"$f":"AP6+Janv!BO6","v":0},{"$f":"AQ6+Janv!BP6","v":0},{"$f":"AR6+Janv!BQ6","v":0},{"$f":"AS6+Janv!BR6","v":0},{"$f":"AT6+Janv!BS6","v":0},{"$f":"AU6+Janv!BT6","v":0},{"$f":"AV6+Janv!BU6","v":0},{"$f":"AW6+Janv!BV6","v":0},{"$f":"AX6+Janv!BW6","v":0},{"$f":"AY6+Janv!BX6","v":0},{"$f":"AZ6+Janv!BY6","v":0},{"$f":"BA6+Janv!BZ6","v":0},{"$f":"BB6+Janv!CA6","v":0},{"$f":"BC6+Janv!CB6","v":0},{"$f":"BD6+Janv!CC6","v":0},{"$f":"BE6+Janv!CD6","v":0},{"$f":"BF6+Janv!CE6","v":1},null,{"$f":"Janv!CG6","v":0},0,0,null,{"$f":"Janv!CK6","v":0},0,0,null,{"$f":"Janv!CO6","v":0},0,0,null,{"$f":"Janv!CS6","v":0},0,0]
[{"$f":"Janv!A7","v":"Eve-Marie"},null,null,"M1",null,"AP1","M1","MP",null,null,"MP",null,"AP3","AP1",null,null,null,"M1",null,"AP1","M1",null,null,null,"M1","M2","AP1","M1",null,"MP",null,null,null,null,{"$f":"COUNTIF(C7:AG7,Accueil!$B$8)","v":6},{"$f":"COUNTIF(C7:AG7,Accueil!$B$9)","v":1},{"$f":"COUNTIF(C7:AG7,Accueil!$B$10)","v":0},{"$f":"COUNTIF(C7:AG7,Accueil!$B$11)","v":3},{"$f":"COUNTIF(C7:AG7,Accueil!$B$12)","v":4},{"$f":"COUNTIF(C7:AG7,Accueil!$B$13)","v":0},{"$f":"COUNTIF(C7:AG7,Accueil!$B$14)","v":1},{"$f":"COUNTIF(C7:AG7,Accueil!$B$15)","v":0},{"$f":"COUNTIF(C7:AG7,Accueil!$B$16)","v":0},{"$f":"COUNTIF(C7:AG7,Accueil!$B$17)","v":0},{"$f":"COUNTIF(C7:AG7,Accueil!$B$18)","v":0},{"$f":"COUNTIF(C7:AG7,Accueil!$B$19)","v":0},{"$f":"COUNTIF(C7:AG7,Accueil!$B$20)","v":0},{"$f":"COUNTIF(C7:AG7,Accueil!$B$21)","v":0},{"$f":"COUNTIF(C7:AG7,Accueil!$B$22)","v":0},{"$f":"COUNTIF(C7:AG7,Accueil!$B$23)","v":0},{"$f":"COUNTIF(C7:AG7,Accueil!$B$24)","v":0},{"$f":"COUNTIF(C7:AG7,Accueil!$B$25)","v":0},{"$f":"COUNTIF(C7:AG7,Accueil!$B$26)","v":0},{"$f":"COUNTIF(C7:AG7,Accueil!$B$27)","v":0},{"$f":"COUNTIF(C7:AG7,Accueil!$B$28)","v":0},{"$f":"COUNTIF(C7:AG7,Accueil!$B$29)","v":0},{"$f":"COUNTIF(C7:AG7,Accueil!$B$30)","v":0},15,null,{"$f":"AI7 +Janv!BH7","v":12},{"$f":"AJ7+Janv!BI7","v":1},{"$f":"AK7+Janv!BJ7","v":0},{"$f":"AL7+Janv!BK7","v":5},{"$f":"AM7+Janv!BL7","v":8},{"$f":"AN7+Janv!BM7","v":1},{"$f":"AO7+Janv!BN7","v":1},{"$f":"AP7+Janv!BO7","v":0},{"$f":"AQ7+Janv!BP7","v":0},{"$f":"AR7+Janv!BQ7","v":0},{"$f":"AS7+Janv!BR7","v":0},{"$f":"AT7+Janv!BS7","v":0},{"$f":"AU7+Janv!BT7","v":0},{"$f":"AV7+Janv!BU7","v":0},{"$f":"AW7+Janv!BV7","v":0},{"$f":"AX7+Janv!BW7","v":1},{"$f":"AY7+Janv!BX7","v":0},{"$f":"AZ7+Janv!BY7","v":0},{"$f":"BA7+Janv!BZ7","v":0},{"$f":"BB7+Janv!CA7","v":0},{"$f":"BC7+Janv!CB7","v":0},{"$f":"BD7+Janv!CC7","v":0},{"$f":"BE7+Janv!CD7","v":0},{"$f":"BF7+Janv!CE7","v":28},null,{"$f":"Janv!CG7","v":0},1,-1,null,{"$f":"Janv!CK7","v":0},0,0,null,{"$f":"Janv!CO7","v":0},0,0,null,{"$f":"Janv!CS7","v":0},0,0]
[{"$f":"Janv!A8","v":0},null,null,null,null,null,null,"LY",null,null,null,null,null,null,null,null,null,null,null,null,null,null,null,null,null,null,null,null,null,null,null,null,null,null,{"$f":"COUNTIF(C8:AG8,Accueil!$B$8)","v":0},{"$f":"COUNTIF(C8:AG8,Accueil!$B$9)","v":0},{"$f":"COUNTIF(C8:AG8,Accueil!$B$10)","v":0},{"$f":"COUNTIF(C8:AG8,Accueil!$B$11)","v":0},{"$f":"COUNTIF(C8:AG8,Accueil!$B$12)","v":0},{"$f":"COUNTIF(C8:AG8,Accueil!$B$13)","v":0},{"$f":"COUNTIF(C8:AG8,Accueil!$B$14)","v":0},{"$f":"COUNTIF(C8:AG8,Accueil!$B$15)","v":0},{"$f":"COUNTIF(C8:AG8,Accueil!$B$16)","v":0},{"$f":"COUNTIF(C8:AG8,Accueil!$B$17)","v":0},{"$f":"COUNTIF(C8:AG8,Accueil!$B$18)","v":1},{"$f":"COUNTIF(C8:AG8,Accueil!$B$19)","v":0},{"$f":"COUNTIF(C8:AG8,Accueil!$B$20)","v":0},{"$f":"COUNTIF(C8:AG8,Accueil!$B$21)","v":0},{"$f":"COUNTIF(C8:AG8,Accueil!$B$22)","v":0},{"$f":"COUNTIF(C8:AG8,Accueil!$B$23)","v":0},{"$f":"COUNTIF(C8:AG8,Accueil!$B$24)","v":0},{"$f":"COUNTIF(C8:AG8,Accueil!$B$25)","v":0},{"$f":"COUNTIF(C8:AG8,Accueil!$B$26)","v":0},{"$f":"COUNTIF(C8:AG8,Accueil!$B$27)","v":0},{"$f":"COUNTIF(C8:AG8,Accueil!$B$28)","v":0},{"$f":"COUNTIF(C8:AG8,Accueil!$B$29)","v":0},{"$f":"COUNTIF(C8:AG8,Accueil!$B$30)","v":0},1,null,{"$f":"AI8 +Janv!BH8","v":0},{"$f":"AJ8+Janv!BI8","v":0},{"$f":"AK8+Janv!BJ8","v":0},{"$f":"AL8+Janv!BK8","v":0},{"$f":"AM8+Janv!BL8","v":0},{"$f":"AN8+Janv!BM8","v":0},{"$f":"AO8+Janv!BN8","v":0},{"$f":"AP8+Janv!BO8","v":0},{"$f":"AQ8+Janv!BP8","v":0},{"$f":"AR8+Janv!BQ8","v":0},{"$f":"AS8+Janv!BR8","v":1},{"$f":"AT8+Janv!BS8","v":0},{"$f":"AU8+Janv!BT8","v":0},{"$f":"AV8+Janv!BU8","v":0},{"$f":"AW8+Janv!BV8","v":0},{"$f":"AX8+Janv!BW8","v":0},{"$f":"AY8+Janv!BX8","v":0},{"$f":"AZ8+Janv!BY8","v":0},{"$f":"BA8+Janv!BZ8","v":0},{"$f":"BB8+Janv!CA8","v":0},{"$f":"BC8+Janv!CB8","v":0},{"$f":"BD8+Janv!CC8","v":0},{"$f":"BE8+Janv!CD8","v":0},{"$f":"BF8+Janv!CE8","v":1},null,{"$f":"Janv!CG8","v":0},0,0,null,{"$f":"Janv!CK8","v":0},0,0,null,{"$f":"Janv!CO8","v":0},0,0,null,{"$f":"Janv!CS8","v":0},0,0]
[{"$f":"Janv!A9","v":"Isabel"},null,"AP2","M1",null,"M1",null,null,null,"AP2","M1",null,null,null,"MP",null,"AP2","M1","AP2",null,null,"MP",null,"AP2","M1","AP2",null,null,null,null,"AP2",null,null,null,{"$f":"COUNTIF(C9:AG9,Accueil!$B$8)","v":5},{"$f":"COUNTIF(C9:AG9,Accueil!$B$9)","v":0},{"$f":"COUNTIF(C9:AG9,Accueil!$B$10)","v":0},{"$f":"COUNTIF(C9:AG9,Accueil!$B$11)","v":2},{"$f":"COUNTIF(C9:AG9,Accueil!$B$12)","v":0},{"$f":"COUNTIF(C9:AG9,Accueil!$B$13)","v":7},{"$f":"COUNTIF(C9:AG9,Accueil!$B$14)","v":0},{"$f":"COUNTIF(C9:AG9,Accueil!$B$15)","v":0},{"$f":"COUNTIF(C9:AG9,Accueil!$B$16)","v":0},{"$f":"COUNTIF(C9:AG9,Accueil!$B$17)","v":0},{"$f":"COUNTIF(C9:AG9,Accueil!$B$18)","v":0},{"$f":"COUNTIF(C9:AG9,Accueil!$B$19)","v":0},{"$f":"COUNTIF(C9:AG9,Accueil!$B$20)","v":0},{"$f":"COUNTIF(C9:AG9,Accueil!$B$21)","v":0},{"$f":"COUNTIF(C9:AG9,Accueil!$B$22)","v":0},{"$f":"COUNTIF(C9:AG9,Accueil!$B$23)","v":0},{"$f":"COUNTIF(C9:AG9,Accueil!$B$24)","v":0},{"$f":"COUNTIF(C9:AG9,Accueil!$B$25)","v":0},{"$f":"COUNTIF(C9:AG9,Accueil!$B$26)","v":0},{"$f":"COUNTIF(C9:AG9,Accueil!$B$27)","v":0},{"$f":"COUNTIF(C9:AG9,Accueil!$B$28)","v":0},{"$f":"COUNTIF(C9:AG9,Accueil!$B$29)","v":0},{"$f":"COUNTIF(C9:AG9,Accueil!$B$30)","v":0},14,null,{"$f":"AI9 +Janv!BH9","v":9},{"$f":"AJ9+Janv!BI9","v":0},{"$f":"AK9+Janv!BJ9","v":0},{"$f":"AL9+Janv!BK9","v":4},{"$f":"AM9+Janv!BL9","v":0},{"$f":"AN9+Janv!BM9","v":11},{"$f":"AO9+Janv!BN9","v":0},{"$f":"AP9+Janv!BO9","v":0},{"$f":"AQ9+Janv!BP9","v":0},{"$f":"AR9+Janv!BQ9","v":0},{"$f":"AS9+Janv!BR9","v":0},{"$f":"AT9+Janv!BS9","v":0},{"$f":"AU9+Janv!BT9","v":0},{"$f":"AV9+Janv!BU9","v":0},{"$f":"AW9+Janv!BV9","v":0},{"$f":"AX9+Janv!BW9","v":3},{"$f":"AY9+Janv!BX9","v":0},{"$f":"AZ9+Janv!BY9","v":0},{"$f":"BA9+Janv!BZ9","v":0},{"$f":"BB9+Janv!CA9","v":0},{"$f":"BC9+Janv!CB9","v":0},{"$f":"BD9+Janv!CC9","v":0},{"$f":"BE9+Janv!CD9","v":0},{"$f":"BF9+Janv!CE9","v":24},null,{"$f":"Janv!CG9","v":0},3,-3,null,{"$f":"Janv!CK9","v":0},0,0,null,{"$f":"Janv!CO9","v":0},0,0,null,{"$f":"Janv!CS9","v":0},0,0]
[{"$f":"Janv!A10","v":0},null,null,null,null,null,null,null,null,null,null,null,null,null,null,null,null,null,null,null,null,null,null,null,null,null,null,null,null,null,null,null,null,null,{"$f":"COUNTIF(C10:AG10,Accueil!$B$8)","v":0},{"$f":"COUNTIF(C10:AG10,Accueil!$B$9)","v":0},{"$f":"COUNTIF(C10:AG10,Accueil!$B$10)","v":0},{"$f":"COUNTIF(C10:AG10,Accueil!$B$11)","v":0},{"$f":"COUNTIF(C10:AG10,Accueil!$B$12)","v":0},{"$f":"COUNTIF(C10:AG10,Accueil!$B$13)","v":0},{"$f":"COUNTIF(C10:AG10,Accueil!$B$14)","v":0},{"$f":"COUNTIF(C10:AG10,Accueil!$B$15)","v":0},{"$f":"COUNTIF(C10:AG10,Accueil!$B$16)","v":0},{"$f":"COUNTIF(C10:AG10,Accueil!$B$17)","v":0},{"$f":"COUNTIF(C10:AG10,Accueil!$B$18)","v":0},{"$f":"COUNTIF(C10:AG10,Accueil!$B$19)","v":0},{"$f":"COUNTIF(C10:AG10,Accueil!$B$20)","v":0},{"$f":"COUNTIF(C10:AG10,Accueil!$B$21)","v":0},{"$f":"COUNTIF(C10:AG10,Accueil!$B$22)","v":0},{"$f":"COUNTIF(C10:AG10,Accueil!$B$23)","v":0},{"$f":"COUNTIF(C10:AG10,Accueil!$B$24)","v":0},{"$f":"COUNTIF(C10:AG10,Accueil!$B$25)","v":0},{"$f":"COUNTIF(C10:AG10,Accueil!$B$26)","v":0},{"$f":"COUNTIF(C10:AG10,Accueil!$B$27)","v":0},{"$f":"COUNTIF(C10:AG10,Accueil!$B$28)","v":0},{"$f":"COUNTIF(C10:AG10,Accueil!$B$29)","v":0},{"$f":"COUNTIF(C10:AG10,Accueil!$B$30)","v":0},0,null,{"$f":"AI10 +Janv!BH10","v":0},{"$f":"AJ10+Janv!BI10","v":0},{"$f":"AK10+Janv!BJ10","v":0},{"$f":"AL10+Janv!BK10","v":0},{"$f":"AM10+Janv!BL10","v":0},{"$f":"AN10+Janv!BM10","v":0},{"$f":"AO10+Janv!BN10","v":0},{"$f":"AP10+Janv!BO10","v":0},{"$f":"AQ10+Janv!BP10","v":0},{"$f":"AR10+Janv!BQ10","v":1},{"$f":"AS10+Janv!BR10","v":1},{"$f":"AT10+Janv!BS10","v":0},{"$f":"AU10+Janv!BT10","v":0},{"$f":"AV10+Janv!BU10","v":0},{"$f":"AW10+Janv!BV10","v":0},{"$f":"AX10+Janv!BW10","v":0},{"$f":"AY10+Janv!BX10","v":0},{"$f":"AZ10+Janv!BY10","v":0},{"$f":"BA10+Janv!BZ10","v":0},{"$f":"BB10+Janv!CA10","v":0},{"$f":"BC10+Janv!CB10","v":0},{"$f":"BD10+Janv!CC10","v":0},{"$f":"BE10+Janv!CD10","v":0},{"$f":"BF10+Janv!CE10","v":2},null,{"$f":"Janv!CG10","v":0},0,0,null,{"$f":"Janv!CK10","v":0},0,0,null,{"$f":"Janv!CO10","v":0},0,0,null,{"$f":"Janv!CS10","v":0},0,0]
[{"$f":"Janv!A11","v":"Simon-Pierre"},null,"M1","M2","M1",null,"M1",null,null,"M1","M2","MP",null,null,"Vac","Vac","Vac","Vac","Vac","Vac","Vac","Vac","Vac","Vac","Vac","Vac","Vac","Vac","Vac","Vac","Vac",null,null,null,{"$f":"COUNTIF(C11:AG11,Accueil!$B$8)","v":4},{"$f":"COUNTIF(C11:AG11,Accueil!$B$9)","v":2},{"$f":"COUNTIF(C11:AG11,Accueil!$B$10)","v":0},{"$f":"COUNTIF(C11:AG11,Accueil!$B$11)","v":1},{"$f":"COUNTIF(C11:AG11,Accueil!$B$12)","v":0},{"$f":"COUNTIF(C11:AG11,Accueil!$B$13)","v":0},{"$f":"COUNTIF(C11:AG11,Accueil!$B$14)","v":0},{"$f":"COUNTIF(C11:AG11,Accueil!$B$15)","v":0},{"$f":"COUNTIF(C11:AG11,Accueil!$B$16)","v":0},{"$f":"COUNTIF(C11:AG11,Accueil!$B$17)","v":0},{"$f":"COUNTIF(C11:AG11,Accueil!$B$18)","v":0},{"$f":"COUNTIF(C11:AG11,Accueil!$B$19)","v":0},{"$f":"COUNTIF(C11:AG11,Accueil!$B$20)","v":0},{"$f":"COUNTIF(C11:AG11,Accueil!$B$21)","v":0},{"$f":"COUNTIF(C11:AG11,Accueil!$B$22)","v":0},{"$f":"COUNTIF(C11:AG11,Accueil!$B$23)","v":17},{"$f":"COUNTIF(C11:AG11,Accueil!$B$24)","v":0},{"$f":"COUNTIF(C11:AG11,Accueil!$B$25)","v":0},{"$f":"COUNTIF(C11:AG11,Accueil!$B$26)","v":0},{"$f":"COUNTIF(C11:AG11,Accueil!$B$27)","v":0},{"$f":"COUNTIF(C11:AG11,Accueil!$B$28)","v":0},{"$f":"COUNTIF(C11:AG11,Accueil!$B$29)","v":0},{"$f":"COUNTIF(C11:AG11,Accueil!$B$30)","v":0},7,null,{"$f":"AI11 +Janv!BH11","v":9},{"$f":"AJ11+Janv!BI11","v":6},{"$f":"AK11+Janv!BJ11","v":0},{"$f":"AL11+Janv!BK11","v":5},{"$f":"AM11+Janv!BL11","v":0},{"$f":"AN11+Janv!BM11","v":0},{"$f":"AO11+Janv!BN11","v":0},{"$f":"AP11+Janv!BO11","v":0},{"$f":"AQ11+Janv!BP11","v":0},{"$f":"AR11+Janv!BQ11","v":0},{"$f":"AS11+Janv!BR11","v":0},{"$f":"AT11+Janv!BS11","v":0},{"$f":"AU11+Janv!BT11","v":0},{"$f":"AV11+Janv!BU11","v":0},{"$f":"AW11+Janv!BV11","v":0},{"$f":"AX11+Janv!BW11","v":27},{"$f":"AY11+Janv!BX11","v":0},{"$f":"AZ11+Janv!BY11","v":0},{"$f":"BA11+Janv!BZ11","v":0},{"$f":"BB11+Janv!CA11","v":0},{"$f":"BC11+Janv!CB11","v":0},{"$f":"BD11+Janv!CC11","v":0},{"$f":"BE11+Janv!CD11","v":0},{"$f":"BF11+Janv!CE11","v":20},null,{"$f":"Janv!CG11","v":0},27,-27,null,{"$f":"Janv!CK11","v":0},0,0,null,{"$f":"Janv!CO11","v":0},0,0,null,{"$f":"Janv!CS11","v":0},0,0]
[{"$f":"Janv!A12","v":0},null,null,null,"LY",null,null,null,null,null,null,null,null,"LY",null,null,null,null,null,null,null,null,null,null,null,null,null,null,null,null,null,null,null,null,{"$f":"COUNTIF(C12:AG12,Accueil!$B$8)","v":0},{"$f":"COUNTIF(C12:AG12,Accueil!$B$9)","v":0},{"$f":"COUNTIF(C12:AG12,Accueil!$B$10)","v":0},{"$f":"COUNTIF(C12:AG12,Accueil!$B$11)","v":0},{"$f":"COUNTIF(C12:AG12,Accueil!$B$12)","v":0},{"$f":"COUNTIF(C12:AG12,Accueil!$B$13)","v":0},{"$f":"COUNTIF(C12:AG12,Accueil!$B$14)","v":0},{"$f":"COUNTIF(C12:AG12,Accueil!$B$15)","v":0},{"$f":"COUNTIF(C12:AG12,Accueil!$B$16)","v":0},{"$f":"COUNTIF(C12:AG12,Accueil!$B$17)","v":0},{"$f":"COUNTIF(C12:AG12,Accueil!$B$18)","v":2},{"$f":"COUNTIF(C12:AG12,Accueil!$B$19)","v":0},{"$f":"COUNTIF(C12:AG12,Accueil!$B$20)","v":0},{"$f":"COUNTIF(C12:AG12,Accueil!$B$21)","v":0},{"$f":"COUNTIF(C12:AG12,Accueil!$B$22)","v":0},{"$f":"COUNTIF(C12:AG12,Accueil!$B$23)","v":0},{"$f":"COUNTIF(C12:AG12,Accueil!$B$24)","v":0},{"$f":"COUNTIF(C12:AG12,Accueil!$B$25)","v":0},{"$f":"COUNTIF(C12:AG12,Accueil!$B$26)","v":0},{"$f":"COUNTIF(C12:AG12,Accueil!$B$27)","v":0},{"$f":"COUNTIF(C12:AG12,Accueil!$B$28)","v":0},{"$f":"COUNTIF(C12:AG12,Accueil!$B$29)","v":0},{"$f":"COUNTIF(C12:AG12,Accueil!$B$30)","v":0},2,null,{"$f":"AI12 +Janv!BH12","v":0},{"$f":"AJ12+Janv!BI12","v":0},{"$f":"AK12+Janv!BJ12","v":0},{"$f":"AL12+Janv!BK12","v":0},{"$f":"AM12+Janv!BL12","v":0},{"$f":"AN12+Janv!BM12","v":0},{"$f":"AO12+Janv!BN12","v":0},{"$f":"AP12+Janv!BO12","v":0},{"$f":"AQ12+Janv!BP12","v":0},{"$f":"AR12+Janv!BQ12","v":0},{"$f":"AS12+Janv!BR12","v":6},{"$f":"AT12+Janv!BS12","v":0},{"$f":"AU12+Janv!BT12","v":0},{"$f":"AV12+Janv!BU12","v":0},{"$f":"AW12+Janv!BV12","v":0},{"$f":"AX12+Janv!BW12","v":0},{"$f":"AY12+Janv!BX12","v":0},{"$f":"AZ12+Janv!BY12","v":0},{"$f":"BA12+Janv!BZ12","v":0},{"$f":"BB12+Janv!CA12","v":0},{"$f":"BC12+Janv!CB12","v":0},{"$f":"BD12+Janv!CC12","v":0},{"$f":"BE12+Janv!CD12","v":0},{"$f":"BF12+Janv!CE12","v":6},null,{"$f":"Janv!CG12","v":0},0,0,null,{"$f":"Janv!CK12","v":0},0,0,null,{"$f":"Janv!CO12","v":0},0,0,null,{"$f":"Janv!CS12","v":0},0,0]
[{"$f":"Janv!A13","v":"Virginie"},null,"M1","M2","MP","F","AP2",null,"AP2",null,"M2","MP",null,null,"MP",null,"MP","M2","MP","M3","CC","CC","CC","CC","CC","CC","CC","CC","CC","CC","CC",null,null,null,{"$f":"COUNTIF(C13:AG13,Accueil!$B$8)","v":1},{"$f":"COUNTIF(C13:AG13,Accueil!$B$9)","v":3},{"$f":"COUNTIF(C13:AG13,Accueil!$B$10)","v":1},{"$f":"COUNTIF(C13:AG13,Accueil!$B$11)","v":5},{"$f":"COUNTIF(C13:AG13,Accueil!$B$12)","v":0},{"$f":"COUNTIF(C13:AG13,Accueil!$B$13)","v":2},{"$f":"COUNTIF(C13:AG13,Accueil!$B$14)","v":0},{"$f":"COUNTIF(C13:AG13,Accueil!$B$15)","v":0},{"$f":"COUNTIF(C13:AG13,Accueil!$B$16)","v":0},{"$f":"COUNTIF(C13:AG13,Accueil!$B$17)","v":0},{"$f":"COUNTIF(C13:AG13,Accueil!$B$18)","v":0},{"$f":"COUNTIF(C13:AG13,Accueil!$B$19)","v":0},{"$f":"COUNTIF(C13:AG13,Accueil!$B$20)","v":0},{"$f":"COUNTIF(C13:AG13,Accueil!$B$21)","v":0},{"$f":"COUNTIF(C13:AG13,Accueil!$B$22)","v":0},{"$f":"COUNTIF(C13:AG13,Accueil!$B$23)","v":0},{"$f":"COUNTIF(C13:AG13,Accueil!$B$24)","v":0},{"$f":"COUNTIF(C13:AG13,Accueil!$B$25)","v":0},{"$f":"COUNTIF(C13:AG13,Accueil!$B$26)","v":11},{"$f":"COUNTIF(C13:AG13,Accueil!$B$27)","v":1},{"$f":"COUNTIF(C13:AG13,Accueil!$B$28)","v":0},{"$f":"COUNTIF(C13:AG13,Accueil!$B$29)","v":0},{"$f":"COUNTIF(C13:AG13,Accueil!$B$30)","v":0},12,null,{"$f":"AI13 +Janv!BH13","v":2},{"$f":"AJ13+Janv!BI13","v":11},{"$f":"AK13+Janv!BJ13","v":1},{"$f":"AL13+Janv!BK13","v":10},{"$f":"AM13+Janv!BL13","v":0},{"$f":"AN13+Janv!BM13","v":3},{"$f":"AO13+Janv!BN13","v":0},{"$f":"AP13+Janv!BO13","v":0},{"$f":"AQ13+Janv!BP13","v":0},{"$f":"AR13+Janv!BQ13","v":0},{"$f":"AS13+Janv!BR13","v":0},{"$f":"AT13+Janv!BS13","v":0},{"$f":"AU13+Janv!BT13","v":0},{"$f":"AV13+Janv!BU13","v":0},{"$f":"AW13+Janv!BV13","v":0},{"$f":"AX13+Janv!BW13","v":6},{"$f":"AY13+Janv!BX13","v":0},{"$f":"AZ13+Janv!BY13","v":0},{"$f":"BA13+Janv!BZ13","v":11},{"$f":"BB13+Janv!CA13","v":1},{"$f":"BC13+Janv!CB13","v":0},{"$f":"BD13+Janv!CC13","v":0},{"$f":"BE13+Janv!CD13","v":0},{"$f":"BF13+Janv!CE13","v":27},null,{"$f":"Janv!CG13","v":0},6,-6,null,{"$f":"Janv!CK13","v":0},0,0,null,{"$f":"Janv!CO13","v":0},0,0,null,{"$f":"Janv!CS13","v":0},0,0]
[{"$f":"Janv!A14","v":0},null,null,null,null,null,null,null,null,null,null,null,"LY",null,"BI",null,"BI",null,null,null,null,null,null,null,null,null,null,null,null,null,null,null,null,null,{"$f":"COUNTIF(C14:AG14,Accueil!$B$8)","v":0},{"$f":"COUNTIF(C14:AG14,Accueil!$B$9)","v":0},{"$f":"COUNTIF(C14:AG14,Accueil!$B$10)","v":0},{"$f":"COUNTIF(C14:AG14,Accueil!$B$11)","v":0},{"$f":"COUNTIF(C14:AG14,Accueil!$B$12)","v":0},{"$f":"COUNTIF(C14:AG14,Accueil!$B$13)","v":0},{"$f":"COUNTIF(C14:AG14,Accueil!$B$14)","v":0},{"$f":"COUNTIF(C14:AG14,Accueil!$B$15)","v":0},{"$f":"COUNTIF(C14:AG14,Accueil!$B$16)","v":0},{"$f":"COUNTIF(C14:AG14,Accueil!$B$17)","v":2},{"$f":"COUNTIF(C14:AG14,Accueil!$B$18)","v":1},{"$f":"COUNTIF(C14:AG14,Accueil!$B$19)","v":0},{"$f":"COUNTIF(C14:AG14,Accueil!$B$20)","v":0},{"$f":"COUNTIF(C14:AG14,Accueil!$B$21)","v":0},{"$f":"COUNTIF(C14:AG14,Accueil!$B$22)","v":0},{"$f":"COUNTIF(C14:AG14,Accueil!$B$23)","v":0},{"$f":"COUNTIF(C14:AG14,Accueil!$B$24)","v":0},{"$f":"COUNTIF(C14:AG14,Accueil!$B$25)","v":0},{"$f":"COUNTIF(C14:AG14,Accueil!$B$26)","v":0},{"$f":"COUNTIF(C14:AG14,Accueil!$B$27)","v":0},{"$f":"COUNTIF(C14:AG14,Accueil!$B$28)","v":0},{"$f":"COUNTIF(C14:AG14,Accueil!$B$29)","v":0},{"$f":"COUNTIF(C14:AG14,Accueil!$B$30)","v":0},3,null,{"$f":"AI14 +Janv!BH14","v":0},{"$f":"AJ14+Janv!BI14","v":0},{"$f":"AK14+Janv!BJ14","v":0},{"$f":"AL14+Janv!BK14","v":0},{"$f":"AM14+Janv!BL14","v":0},{"$f":"AN14+Janv!BM14","v":0},{"$f":"AO14+Janv!BN14","v":0},{"$f":"AP14+Janv!BO14","v":0},{"$f":"AQ14+Janv!BP14","v":0},{"$f":"AR14+Janv!BQ14","v":3},{"$f":"AS14+Janv!BR14","v":1},{"$f":"AT14+Janv!BS14","v":0},{"$f":"AU14+Janv!BT14","v":0},{"$f":"AV14+Janv!BU14","v":0},{"$f":"AW14+Janv!BV14","v":0},{"$f":"AX14+Janv!BW14","v":0},{"$f":"AY14+Janv!BX14","v":0},{"$f":"AZ14+Janv!BY14","v":0},{"$f":"BA14+Janv!BZ14","v":0},{"$f":"BB14+Janv!CA14","v":0},{"$f":"BC14+Janv!CB14","v":0},{"$f":"BD14+Janv!CC14","v":0},{"$f":"BE14+Janv!CD14","v":0},{"$f":"BF14+Janv!CE14","v":4},null,{"$f":"Janv!CG14","v":0},0,0,null,{"$f":"Janv!CK14","v":0},0,0,null,{"$f":"Janv!CO14","v":0},0,0,null,{"$f":"Janv!CS14","v":0},0,0]
[{"$f":"Janv!A15","v":"Jacqueline"},null,"M2","MP",null,null,"M2",null,null,"M2","MP",null,null,"CC",null,"MP",null,"MP",null,null,"MP",null,null,"M3","MP",null,null,"M1","MP",null,"M3",null,null,null,{"$f":"COUNTIF(C15:AG15,Accueil!$B$8)","v":1},{"$f":"COUNTIF(C15:AG15,Accueil!$B$9)","v":3},{"$f":"COUNTIF(C15:AG15,Accueil!$B$10)","v":2},{"$f":"COUNTIF(C15:AG15,Accueil!$B$11)","v":7},{"$f":"COUNTIF(C15:AG15,Accueil!$B$12)","v":0},{"$f":"COUNTIF(C15:AG15,Accueil!$B$13)","v":0},{"$f":"COUNTIF(C15:AG15,Accueil!$B$14)","v":0},{"$f":"COUNTIF(C15:AG15,Accueil!$B$15)","v":0},{"$f":"COUNTIF(C15:AG15,Accueil!$B$16)","v":0},{"$f":"COUNTIF(C15:AG15,Accueil!$B$17)","v":0},{"$f":"COUNTIF(C15:AG15,Accueil!$B$18)","v":0},{"$f":"COUNTIF(C15:AG15,Accueil!$B$19)","v":0},{"$f":"COUNTIF(C15:AG15,Accueil!$B$20)","v":0},{"$f":"COUNTIF(C15:AG15,Accueil!$B$21)","v":0},{"$f":"COUNTIF(C15:AG15,Accueil!$B$22)","v":0},{"$f":"COUNTIF(C15:AG15,Accueil!$B$23)","v":0},{"$f":"COUNTIF(C15:AG15,Accueil!$B$24)","v":0},{"$f":"COUNTIF(C15:AG15,Accueil!$B$25)","v":0},{"$f":"COUNTIF(C15:AG15,Accueil!$B$26)","v":1},{"$f":"COUNTIF(C15:AG15,Accueil!$B$27)","v":0},{"$f":"COUNTIF(C15:AG15,Accueil!$B$28)","v":0},{"$f":"COUNTIF(C15:AG15,Accueil!$B$29)","v":0},{"$f":"COUNTIF(C15:AG15,Accueil!$B$30)","v":0},13,null,{"$f":"AI15 +Janv!BH15","v":1},{"$f":"AJ15+Janv!BI15","v":8},{"$f":"AK15+Janv!BJ15","v":4},{"$f":"AL15+Janv!BK15","v":14},{"$f":"AM15+Janv!BL15","v":0},{"$f":"AN15+Janv!BM15","v":0},{"$f":"AO15+Janv!BN15","v":0},{"$f":"AP15+Janv!BO15","v":0},{"$f":"AQ15+Janv!BP15","v":0},{"$f":"AR15+Janv!BQ15","v":0},{"$f":"AS15+Janv!BR15","v":0},{"$f":"AT15+Janv!BS15","v":0},{"$f":"AU15+Janv!BT15","v":0},{"$f":"AV15+Janv!BU15","v":0},{"$f":"AW15+Janv!BV15","v":0},{"$f":"AX15+Janv!BW15","v":0},{"$f":"AY15+Janv!BX15","v":0},{"$f":"AZ15+Janv!BY15","v":0},{"$f":"BA15+Janv!BZ15","v":2},{"$f":"BB15+Janv!CA15","v":0},{"$f":"BC15+Janv!CB15","v":0},{"$f":"BD15+Janv!CC15","v":0},{"$f":"BE15+Janv!CD15","v":0},{"$f":"BF15+Janv!CE15","v":27},null,{"$f":"Janv!CG15","v":0},0,0,null,{"$f":"Janv!CK15","v":0},0,0,null,{"$f":"Janv!CO15","v":0},0,0,null,{"$f":"Janv!CS15","v":0},0,0]
[{"$f":"Janv!A16","v":0},null,"LY",null,null,null,null,null,null,"LY",null,null,null,null,null,"LY",null,null,null,null,null,null,null,null,null,null,null,null,"LY",null,null,null,null,null,{"$f":"COUNTIF(C16:AG16,Accueil!$B$8)","v":0},{"$f":"COUNTIF(C16:AG16,Accueil!$B$9)","v":0},{"$f":"COUNTIF(C16:AG16,Accueil!$B$10)","v":0},{"$f":"COUNTIF(C16:AG16,Accueil!$B$11)","v":0},{"$f":"COUNTIF(C16:AG16,Accueil!$B$12)","v":0},{"$f":"COUNTIF(C16:AG16,Accueil!$B$13)","v":0},{"$f":"COUNTIF(C16:AG16,Accueil!$B$14)","v":0},{"$f":"COUNTIF(C16:AG16,Accueil!$B$15)","v":0},{"$f":"COUNTIF(C16:AG16,Accueil!$B$16)","v":0},{"$f":"COUNTIF(C16:AG16,Accueil!$B$17)","v":0},{"$f":"COUNTIF(C16:AG16,Accueil!$B$18)","v":4},{"$f":"COUNTIF(C16:AG16,Accueil!$B$19)","v":0},{"$f":"COUNTIF(C16:AG16,Accueil!$B$20)","v":0},{"$f":"COUNTIF(C16:AG16,Accueil!$B$21)","v":0},{"$f":"COUNTIF(C16:AG16,Accueil!$B$22)","v":0},{"$f":"COUNTIF(C16:AG16,Accueil!$B$23)","v":0},{"$f":"COUNTIF(C16:AG16,Accueil!$B$24)","v":0},{"$f":"COUNTIF(C16:AG16,Accueil!$B$25)","v":0},{"$f":"COUNTIF(C16:AG16,Accueil!$B$26)","v":0},{"$f":"COUNTIF(C16:AG16,Accueil!$B$27)","v":0},{"$f":"COUNTIF(C16:AG16,Accueil!$B$28)","v":0},{"$f":"COUNTIF(C16:AG16,Accueil!$B$29)","v":0},{"$f":"COUNTIF(C16:AG16,Accueil!$B$30)","v":0},4,null,{"$f":"AI16 +Janv!BH16","v":0},{"$f":"AJ16+Janv!BI16","v":0},{"$f":"AK16+Janv!BJ16","v":0},{"$f":"AL16+Janv!BK16","v":0},{"$f":"AM16+Janv!BL16","v":0},{"$f":"AN16+Janv!BM16","v":0},{"$f":"AO16+Janv!BN16","v":0},{"$f":"AP16+Janv!BO16","v":0},{"$f":"AQ16+Janv!BP16","v":0},{"$f":"AR16+Janv!BQ16","v":0},{"$f":"AS16+Janv!BR16","v":5},{"$f":"AT16+Janv!BS16","v":0},{"$f":"AU16+Janv!BT16","v":0},{"$f":"AV16+Janv!BU16","v":0},{"$f":"AW16+Janv!BV16","v":0},{"$f":"AX16+Janv!BW16","v":0},{"$f":"AY16+Janv!BX16","v":0},{"$f":"AZ16+Janv!BY16","v":0},{"$f":"BA16+Janv!BZ16","v":0},{"$f":"BB16+Janv!CA16","v":0},{"$f":"BC16+Janv!CB16","v":0},{"$f":"BD16+Janv!CC16","v":0},{"$f":"BE16+Janv!CD16","v":0},{"$f":"BF16+Janv!CE16","v":5},null,{"$f":"Janv!CG16","v":0},0,0,null,{"$f":"Janv!CK16","v":0},0,0,null,{"$f":"Janv!CO16","v":0},0,0,null,{"$f":"Janv!CS16","v":0},0,0]
[{"$f":"Janv!A17","v":"Colette"},null,"IND","M2","MP",null,null,null,"MP","IND","M2",null,null,null,null,null,"IND","M2","AP1",null,null,null,"MP",null,"M2","MP",null,null,null,null,"IND",null,null,null,{"$f":"COUNTIF(C17:AG17,Accueil!$B$8)","v":0},{"$f":"COUNTIF(C17:AG17,Accueil!$B$9)","v":4},{"$f":"COUNTIF(C17:AG17,Accueil!$B$10)","v":0},{"$f":"COUNTIF(C17:AG17,Accueil!$B$11)","v":4},{"$f":"COUNTIF(C17:AG17,Accueil!$B$12)","v":1},{"$f":"COUNTIF(C17:AG17,Accueil!$B$13)","v":0},{"$f":"COUNTIF(C17:AG17,Accueil!$B$14)","v":0},{"$f":"COUNTIF(C17:AG17,Accueil!$B$15)","v":0},{"$f":"COUNTIF(C17:AG17,Accueil!$B$16)","v":0},{"$f":"COUNTIF(C17:AG17,Accueil!$B$17)","v":0},{"$f":"COUNTIF(C17:AG17,Accueil!$B$18)","v":0},{"$f":"COUNTIF(C17:AG17,Accueil!$B$19)","v":0},{"$f":"COUNTIF(C17:AG17,Accueil!$B$20)","v":4},{"$f":"COUNTIF(C17:AG17,Accueil!$B$21)","v":0},{"$f":"COUNTIF(C17:AG17,Accueil!$B$22)","v":0},{"$f":"COUNTIF(C17:AG17,Accueil!$B$23)","v":0},{"$f":"COUNTIF(C17:AG17,Accueil!$B$24)","v":0},{"$f":"COUNTIF(C17:AG17,Accueil!$B$25)","v":0},{"$f":"COUNTIF(C17:AG17,Accueil!$B$26)","v":0},{"$f":"COUNTIF(C17:AG17,Accueil!$B$27)","v":0},{"$f":"COUNTIF(C17:AG17,Accueil!$B$28)","v":0},{"$f":"COUNTIF(C17:AG17,Accueil!$B$29)","v":0},{"$f":"COUNTIF(C17:AG17,Accueil!$B$30)","v":0},9,null,{"$f":"AI17 +Janv!BH17","v":0},{"$f":"AJ17+Janv!BI17","v":8},{"$f":"AK17+Janv!BJ17","v":0},{"$f":"AL17+Janv!BK17","v":7},{"$f":"AM17+Janv!BL17","v":2},{"$f":"AN17+Janv!BM17","v":0},{"$f":"AO17+Janv!BN17","v":0},{"$f":"AP17+Janv!BO17","v":0},{"$f":"AQ17+Janv!BP17","v":0},{"$f":"AR17+Janv!BQ17","v":0},{"$f":"AS17+Janv!BR17","v":0},{"$f":"AT17+Janv!BS17","v":0},{"$f":"AU17+Janv!BT17","v":6},{"$f":"AV17+Janv!BU17","v":0},{"$f":"AW17+Janv!BV17","v":0},{"$f":"AX17+Janv!BW17","v":0},{"$f":"AY17+Janv!BX17","v":0},{"$f":"AZ17+Janv!BY17","v":0},{"$f":"BA17+Janv!BZ17","v":0},{"$f":"BB17+Janv!CA17","v":0},{"$f":"BC17+Janv!CB17","v":0},{"$f":"BD17+Janv!CC17","v":0},{"$f":"BE17+Janv!CD17","v":0},{"$f":"BF17+Janv!CE17","v":17},null,{"$f":"Janv!CG17","v":0},0,0,null,{"$f":"Janv!CK17","v":0},0,0,null,{"$f":"Janv!CO17","v":0},0,0,null,{"$f":"Janv!CS17","v":0},0,0]
[{"$f":"Janv!A18","v":0},null,null,"LY",null,"LY",null,null,"LY",null,"LY","LY",null,null,null,null,null,"LY","LY",null,null,null,"LY",null,"LY","LY",null,null,null,null,null,null,null,null,{"$f":"COUNTIF(C18:AG18,Accueil!$B$8)","v":0},{"$f":"COUNTIF(C18:AG18,Accueil!$B$9)","v":0},{"$f":"COUNTIF(C18:AG18,Accueil!$B$10)","v":0},{"$f":"COUNTIF(C18:AG18,Accueil!$B$11)","v":0},{"$f":"COUNTIF(C18:AG18,Accueil!$B$12)","v":0},{"$f":"COUNTIF(C18:AG18,Accueil!$B$13)","v":0},{"$f":"COUNTIF(C18:AG18,Accueil!$B$14)","v":0},{"$f":"COUNTIF(C18:AG18,Accueil!$B$15)","v":0},{"$f":"COUNTIF(C18:AG18,Accueil!$B$16)","v":0},{"$f":"COUNTIF(C18:AG18,Accueil!$B$17)","v":0},{"$f":"COUNTIF(C18:AG18,Accueil!$B$18)","v":10},{"$f":"COUNTIF(C18:AG18,Accueil!$B$19)","v":0},{"$f":"COUNTIF(C18:AG18,Accueil!$B$20)","v":0},{"$f":"COUNTIF(C18:AG18,Accueil!$B$21)","v":0},{"$f":"COUNTIF(C18:AG18,Accueil!$B$22)","v":0},{"$f":"COUNTIF(C18:AG18,Accueil!$B$23)","v":0},{"$f":"COUNTIF(C18:AG18,Accueil!$B$24)","v":0},{"$f":"COUNTIF(C18:AG18,Accueil!$B$25)","v":0},{"$f":"COUNTIF(C18:AG18,Accueil!$B$26)","v":0},{"$f":"COUNTIF(C18:AG18,Accueil!$B$27)","v":0},{"$f":"COUNTIF(C18:AG18,Accueil!$B$28)","v":0},{"$f":"COUNTIF(C18:AG18,Accueil!$B$29)","v":0},{"$f":"COUNTIF(C18:AG18,Accueil!$B$30)","v":0},10,null,{"$f":"AI18 +Janv!BH18","v":0},{"$f":"AJ18+Janv!BI18","v":0},{"$f":"AK18+Janv!BJ18","v":0},{"$f":"AL18+Janv!BK18","v":1},{"$f":"AM18+Janv!BL18","v":0},{"$f":"AN18+Janv!BM18","v":0},{"$f":"AO18+Janv!BN18","v":0},{"$f":"AP18+Janv!BO18","v":0},{"$f":"AQ18+Janv!BP18","v":0},{"$f":"AR18+Janv!BQ18","v":0},{"$f":"AS18+Janv!BR18","v":22},{"$f":"AT18+Janv!BS18","v":0},{"$f":"AU18+Janv!BT18","v":0},{"$f":"AV18+Janv!BU18","v":0},{"$f":"AW18+Janv!BV18","v":0},{"$f":"AX18+Janv!BW18","v":0},{"$f":"AY18+Janv!BX18","v":0},{"$f":"AZ18+Janv!BY18","v":0},{"$f":"BA18+Janv!BZ18","v":0},{"$f":"BB18+Janv!CA18","v":0},{"$f":"BC18+Janv!CB18","v":0},{"$f":"BD18+Janv!CC18","v":0},{"$f":"BE18+Janv!CD18","v":0},{"$f":"BF18+Janv!CE18","v":23},null,{"$f":"Janv!CG18","v":0},0,0,null,{"$f":"Janv!CK18","v":0},0,0,null,{"$f":"Janv!CO18","v":0},0,0,null,{"$f":"Janv!CS18","v":0},0,0]
[{"$f":"Janv!A19","v":"Lisa"},null,null,"M2",null,"M1","AP2",null,null,null,"M2",null,"M1","MP",null,"MP",null,"M2",null,"M1","MP",null,null,null,"M2",null,"M1","AP1","MP",null,null,null,null,null,{"$f":"COUNTIF(C19:AG19,Accueil!$B$8)","v":4},{"$f":"COUNTIF(C19:AG19,Accueil!$B$9)","v":4},{"$f":"COUNTIF(C19:AG19,Accueil!$B$10)","v":0},{"$f":"COUNTIF(C19:AG19,Accueil!$B$11)","v":4},{"$f":"COUNTIF(C19:AG19,Accueil!$B$12)","v":1},{"$f":"COUNTIF(C19:AG19,Accueil!$B$13)","v":1},{"$f":"COUNTIF(C19:AG19,Accueil!$B$14)","v":0},{"$f":"COUNTIF(C19:AG19,Accueil!$B$15)","v":0},{"$f":"COUNTIF(C19:AG19,Accueil!$B$16)","v":0},{"$f":"COUNTIF(C19:AG19,Accueil!$B$17)","v":0},{"$f":"COUNTIF(C19:AG19,Accueil!$B$18)","v":0},{"$f":"COUNTIF(C19:AG19,Accueil!$B$19)","v":0},{"$f":"COUNTIF(C19:AG19,Accueil!$B$20)","v":0},{"$f":"COUNTIF(C19:AG19,Accueil!$B$21)","v":0},{"$f":"COUNTIF(C19:AG19,Accueil!$B$22)","v":0},{"$f":"COUNTIF(C19:AG19,Accueil!$B$23)","v":0},{"$f":"COUNTIF(C19:AG19,Accueil!$B$24)","v":0},{"$f":"COUNTIF(C19:AG19,Accueil!$B$25)","v":0},{"$f":"COUNTIF(C19:AG19,Accueil!$B$26)","v":0},{"$f":"COUNTIF(C19:AG19,Accueil!$B$27)","v":0},{"$f":"COUNTIF(C19:AG19,Accueil!$B$28)","v":0},{"$f":"COUNTIF(C19:AG19,Accueil!$B$29)","v":0},{"$f":"COUNTIF(C19:AG19,Accueil!$B$30)","v":0},14,null,{"$f":"AI19 +Janv!BH19","v":4},{"$f":"AJ19+Janv!BI19","v":8},{"$f":"AK19+Janv!BJ19","v":4},{"$f":"AL19+Janv!BK19","v":11},{"$f":"AM19+Janv!BL19","v":2},{"$f":"AN19+Janv!BM19","v":1},{"$f":"AO19+Janv!BN19","v":0},{"$f":"AP19+Janv!BO19","v":0},{"$f":"AQ19+Janv!BP19","v":0},{"$f":"AR19+Janv!BQ19","v":0},{"$f":"AS19+Janv!BR19","v":0},{"$f":"AT19+Janv!BS19","v":0},{"$f":"AU19+Janv!BT19","v":0},{"$f":"AV19+Janv!BU19","v":0},{"$f":"AW19+Janv!BV19","v":0},{"$f":"AX19+Janv!BW19","v":0},{"$f":"AY19+Janv!BX19","v":0},{"$f":"AZ19+Janv!BY19","v":0},{"$f":"BA19+Janv!BZ19","v":0},{"$f":"BB19+Janv!CA19","v":0},{"$f":"BC19+Janv!CB19","v":0},{"$f":"BD19+Janv!CC19","v":0},{"$f":"BE19+Janv!CD19","v":0},{"$f":"BF19+Janv!CE19","v":30},null,{"$f":"Janv!CG19","v":0},0,0,null,{"$f":"Janv!CK19","v":0},0,0,null,{"$f":"Janv!CO19","v":0},0,0,null,{"$f":"Janv!CS19","v":0},0,0]
[{"$f":"Janv!A20","v":0},null,null,null,null,null,"LY",null,null,null,null,null,null,null,null,null,null,null,null,null,null,null,null,null,null,null,null,null,null,null,null,null,null,null,{"$f":"COUNTIF(C20:AG20,Accueil!$B$8)","v":0},{"$f":"COUNTIF(C20:AG20,Accueil!$B$9)","v":0},{"$f":"COUNTIF(C20:AG20,Accueil!$B$10)","v":0},{"$f":"COUNTIF(C20:AG20,Accueil!$B$11)","v":0},{"$f":"COUNTIF(C20:AG20,Accueil!$B$12)","v":0},{"$f":"COUNTIF(C20:AG20,Accueil!$B$13)","v":0},{"$f":"COUNTIF(C20:AG20,Accueil!$B$14)","v":0},{"$f":"COUNTIF(C20:AG20,Accueil!$B$15)","v":0},{"$f":"COUNTIF(C20:AG20,Accueil!$B$16)","v":0},{"$f":"COUNTIF(C20:AG20,Accueil!$B$17)","v":0},{"$f":"COUNTIF(C20:AG20,Accueil!$B$18)","v":1},{"$f":"COUNTIF(C20:AG20,Accueil!$B$19)","v":0},{"$f":"COUNTIF(C20:AG20,Accueil!$B$20)","v":0},{"$f":"COUNTIF(C20:AG20,Accueil!$B$21)","v":0},{"$f":"COUNTIF(C20:AG20,Accueil!$B$22)","v":0},{"$f":"COUNTIF(C20:AG20,Accueil!$B$23)","v":0},{"$f":"COUNTIF(C20:AG20,Accueil!$B$24)","v":0},{"$f":"COUNTIF(C20:AG20,Accueil!$B$25)","v":0},{"$f":"COUNTIF(C20:AG20,Accueil!$B$26)","v":0},{"$f":"COUNTIF(C20:AG20,Accueil!$B$27)","v":0},{"$f":"COUNTIF(C20:AG20,Accueil!$B$28)","v":0},{"$f":"COUNTIF(C20:AG20,Accueil!$B$29)","v":0},{"$f":"COUNTIF(C20:AG20,Accueil!$B$30)","v":0},1,null,{"$f":"AI20 +Janv!BH20","v":0},{"$f":"AJ20+Janv!BI20","v":0},{"$f":"AK20+Janv!BJ20","v":0},{"$f":"AL20+Janv!BK20","v":0},{"$f":"AM20+Janv!BL20","v":0},{"$f":"AN20+Janv!BM20","v":0},{"$f":"AO20+Janv!BN20","v":0},{"$f":"AP20+Janv!BO20","v":0},{"$f":"AQ20+Janv!BP20","v":0},{"$f":"AR20+Janv!BQ20","v":0},{"$f":"AS20+Janv!BR20","v":1},{"$f":"AT20+Janv!BS20","v":0},{"$f":"AU20+Janv!BT20","v":0},{"$f":"AV20+Janv!BU20","v":0},{"$f":"AW20+Janv!BV20","v":0},{"$f":"AX20+Janv!BW20","v":0},{"$f":"AY20+Janv!BX20","v":0},{"$f":"AZ20+Janv!BY20","v":0},{"$f":"BA20+Janv!BZ20","v":0},{"$f":"BB20+Janv!CA20","v":0},{"$f":"BC20+Janv!CB20","v":0},{"$f":"BD20+Janv!CC20","v":0},{"$f":"BE20+Janv!CD20","v":0},{"$f":"BF20+Janv!CE20","v":1},null,{"$f":"Janv!CG20","v":0},0,0,null,{"$f":"Janv!CK20","v":0},0,0,null,{"$f":"Janv!CO20","v":0},0,0,null,{"$f":"Janv!CS20","v":0},0,0]
[{"$f":"Janv!A21","v":"Philip"},null,"AP1","M1",null,null,null,null,null,"AP1","M1",null,"AP2",null,null,null,"Vac","Vac","Vac","Vac","Vac",null,null,"MP","M1",null,null,null,null,"MP","AP1",null,null,null,{"$f":"COUNTIF(C21:AG21,Accueil!$B$8)","v":3},{"$f":"COUNTIF(C21:AG21,Accueil!$B$9)","v":0},{"$f":"COUNTIF(C21:AG21,Accueil!$B$10)","v":0},{"$f":"COUNTIF(C21:AG21,Accueil!$B$11)","v":2},{"$f":"COUNTIF(C21:AG21,Accueil!$B$12)","v":3},{"$f":"COUNTIF(C21:AG21,Accueil!$B$13)","v":1},{"$f":"COUNTIF(C21:AG21,Accueil!$B$14)","v":0},{"$f":"COUNTIF(C21:AG21,Accueil!$B$15)","v":0},{"$f":"COUNTIF(C21:AG21,Accueil!$B$16)","v":0},{"$f":"COUNTIF(C21:AG21,Accueil!$B$17)","v":0},{"$f":"COUNTIF(C21:AG21,Accueil!$B$18)","v":0},{"$f":"COUNTIF(C21:AG21,Accueil!$B$19)","v":0},{"$f":"COUNTIF(C21:AG21,Accueil!$B$20)","v":0},{"$f":"COUNTIF(C21:AG21,Accueil!$B$21)","v":0},{"$f":"COUNTIF(C21:AG21,Accueil!$B$22)","v":0},{"$f":"COUNTIF(C21:AG21,Accueil!$B$23)","v":5},{"$f":"COUNTIF(C21:AG21,Accueil!$B$24)","v":0},{"$f":"COUNTIF(C21:AG21,Accueil!$B$25)","v":0},{"$f":"COUNTIF(C21:AG21,Accueil!$B$26)","v":0},{"$f":"COUNTIF(C21:AG21,Accueil!$B$27)","v":0},{"$f":"COUNTIF(C21:AG21,Accueil!$B$28)","v":0},{"$f":"COUNTIF(C21:AG21,Accueil!$B$29)","v":0},{"$f":"COUNTIF(C21:AG21,Accueil!$B$30)","v":0},9,null,{"$f":"AI21 +Janv!BH21","v":6},{"$f":"AJ21+Janv!BI21","v":0},{"$f":"AK21+Janv!BJ21","v":0},{"$f":"AL21+Janv!BK21","v":6},{"$f":"AM21+Janv!BL21","v":4},{"$f":"AN21+Janv!BM21","v":1},{"$f":"AO21+Janv!BN21","v":0},{"$f":"AP21+Janv!BO21","v":0},{"$f":"AQ21+Janv!BP21","v":0},{"$f":"AR21+Janv!BQ21","v":0},{"$f":"AS21+Janv!BR21","v":0},{"$f":"AT21+Janv!BS21","v":0},{"$f":"AU21+Janv!BT21","v":0},{"$f":"AV21+Janv!BU21","v":0},{"$f":"AW21+Janv!BV21","v":0},{"$f":"AX21+Janv!BW21","v":12},{"$f":"AY21+Janv!BX21","v":0},{"$f":"AZ21+Janv!BY21","v":0},{"$f":"BA21+Janv!BZ21","v":0},{"$f":"BB21+Janv!CA21","v":0},{"$f":"BC21+Janv!CB21","v":0},{"$f":"BD21+Janv!CC21","v":0},{"$f":"BE21+Janv!CD21","v":0},{"$f":"BF21+Janv!CE21","v":17},null,{"$f":"Janv!CG21","v":0},12,-12,null,{"$f":"Janv!CK21","v":0},0,0,null,{"$f":"Janv!CO21","v":0},0,0,null,{"$f":"Janv!CS21","v":0},0,0]
[{"$f":"Janv!A22","v":0},null,"BI",null,null,null,null,null,null,"BI",null,null,null,null,null,null,null,null,null,null,null,null,null,"BI",null,null,null,null,null,"LY","BI",null,null,null,{"$f":"COUNTIF(C22:AG22,Accueil!$B$8)","v":0},{"$f":"COUNTIF(C22:AG22,Accueil!$B$9)","v":0},{"$f":"COUNTIF(C22:AG22,Accueil!$B$10)","v":0},{"$f":"COUNTIF(C22:AG22,Accueil!$B$11)","v":0},{"$f":"COUNTIF(C22:AG22,Accueil!$B$12)","v":0},{"$f":"COUNTIF(C22:AG22,Accueil!$B$13)","v":0},{"$f":"COUNTIF(C22:AG22,Accueil!$B$14)","v":0},{"$f":"COUNTIF(C22:AG22,Accueil!$B$15)","v":0},{"$f":"COUNTIF(C22:AG22,Accueil!$B$16)","v":0},{"$f":"COUNTIF(C22:AG22,Accueil!$B$17)","v":4},{"$f":"COUNTIF(C22:AG22,Accueil!$B$18)","v":1},{"$f":"COUNTIF(C22:AG22,Accueil!$B$19)","v":0},{"$f":"COUNTIF(C22:AG22,Accueil!$B$20)","v":0},{"$f":"COUNTIF(C22:AG22,Accueil!$B$21)","v":0},{"$f":"COUNTIF(C22:AG22,Accueil!$B$22)","v":0},{"$f":"COUNTIF(C22:AG22,Accueil!$B$23)","v":0},{"$f":"COUNTIF(C22:AG22,Accueil!$B$24)","v":0},{"$f":"COUNTIF(C22:AG22,Accueil!$B$25)","v":0},{"$f":"COUNTIF(C22:AG22,Accueil!$B$26)","v":0},{"$f":"COUNTIF(C22:AG22,Accueil!$B$27)","v":0},{"$f":"COUNTIF(C22:AG22,Accueil!$B$28)","v":0},{"$f":"COUNTIF(C22:AG22,Accueil!$B$29)","v":0},{"$f":"COUNTIF(C22:AG22,Accueil!$B$30)","v":0},5,null,{"$f":"AI22 +Janv!BH22","v":0},{"$f":"AJ22+Janv!BI22","v":0},{"$f":"AK22+Janv!BJ22","v":0},{"$f":"AL22+Janv!BK22","v":0},{"$f":"AM22+Janv!BL22","v":0},{"$f":"AN22+Janv!BM22","v":0},{"$f":"AO22+Janv!BN22","v":0},{"$f":"AP22+Janv!BO22","v":0},{"$f":"AQ22+Janv!BP22","v":0},{"$f":"AR22+Janv!BQ22","v":7},{"$f":"AS22+Janv!BR22","v":2},{"$f":"AT22+Janv!BS22","v":0},{"$f":"AU22+Janv!BT22","v":0},{"$f":"AV22+Janv!BU22","v":0},{"$f":"AW22+Janv!BV22","v":0},{"$f":"AX22+Janv!BW22","v":0},{"$f":"AY22+Janv!BX22","v":0},{"$f":"AZ22+Janv!BY22","v":0},{"$f":"BA22+Janv!BZ22","v":0},{"$f":"BB22+Janv!CA22","v":0},{"$f":"BC22+Janv!CB22","v":0},{"$f":"BD22+Janv!CC22","v":0},{"$f":"BE22+Janv!CD22","v":0},{"$f":"BF22+Janv!CE22","v":9},null,{"$f":"Janv!CG22","v":0},0,0,null,{"$f":"Janv!CK22","v":0},0,0,null,{"$f":"Janv!CO22","v":0},0,0,null,{"$f":"Janv!CS22","v":0},0,0]
[{"$f":"Janv!A23","v":"Dania"},null,null,null,null,"M2",null,null,null,null,null,null,"M2",null,null,null,null,"CC",null,null,null,null,null,null,"M2",null,null,null,null,null,null,null,null,null,{"$f":"COUNTIF(C23:AG23,Accueil!$B$8)","v":0},{"$f":"COUNTIF(C23:AG23,Accueil!$B$9)","v":3},{"$f":"COUNTIF(C23:AG23,Accueil!$B$10)","v":0},{"$f":"COUNTIF(C23:AG23,Accueil!$B$11)","v":0},{"$f":"COUNTIF(C23:AG23,Accueil!$B$12)","v":0},{"$f":"COUNTIF(C23:AG23,Accueil!$B$13)","v":0},{"$f":"COUNTIF(C23:AG23,Accueil!$B$14)","v":0},{"$f":"COUNTIF(C23:AG23,Accueil!$B$15)","v":0},{"$f":"COUNTIF(C23:AG23,Accueil!$B$16)","v":0},{"$f":"COUNTIF(C23:AG23,Accueil!$B$17)","v":0},{"$f":"COUNTIF(C23:AG23,Accueil!$B$18)","v":0},{"$f":"COUNTIF(C23:AG23,Accueil!$B$19)","v":0},{"$f":"COUNTIF(C23:AG23,Accueil!$B$20)","v":0},{"$f":"COUNTIF(C23:AG23,Accueil!$B$21)","v":0},{"$f":"COUNTIF(C23:AG23,Accueil!$B$22)","v":0},{"$f":"COUNTIF(C23:AG23,Accueil!$B$23)","v":0},{"$f":"COUNTIF(C23:AG23,Accueil!$B$24)","v":0},{"$f":"COUNTIF(C23:AG23,Accueil!$B$25)","v":0},{"$f":"COUNTIF(C23:AG23,Accueil!$B$26)","v":1},{"$f":"COUNTIF(C23:AG23,Accueil!$B$27)","v":0},{"$f":"COUNTIF(C23:AG23,Accueil!$B$28)","v":0},{"$f":"COUNTIF(C23:AG23,Accueil!$B$29)","v":0},{"$f":"COUNTIF(C23:AG23,Accueil!$B$30)","v":0},3,null,{"$f":"AI23 +Janv!BH23","v":0},{"$f":"AJ23+Janv!BI23","v":3},{"$f":"AK23+Janv!BJ23","v":0},{"$f":"AL23+Janv!BK23","v":0},{"$f":"AM23+Janv!BL23","v":0},{"$f":"AN23+Janv!BM23","v":0},{"$f":"AO23+Janv!BN23","v":0},{"$f":"AP23+Janv!BO23","v":0},{"$f":"AQ23+Janv!BP23","v":0},{"$f":"AR23+Janv!BQ23","v":0},{"$f":"AS23+Janv!BR23","v":0},{"$f":"AT23+Janv!BS23","v":0},{"$f":"AU23+Janv!BT23","v":0},{"$f":"AV23+Janv!BU23","v":0},{"$f":"AW23+Janv!BV23","v":0},{"$f":"AX23+Janv!BW23","v":0},{"$f":"AY23+Janv!BX23","v":0},{"$f":"AZ23+Janv!BY23","v":0},{"$f":"BA23+Janv!BZ23","v":1},{"$f":"BB23+Janv!CA23","v":0},{"$f":"BC23+Janv!CB23","v":0},{"$f":"BD23+Janv!CC23","v":0},{"$f":"BE23+Janv!CD23","v":0},{"$f":"BF23+Janv!CE23","v":3},null,{"$f":"Janv!CG23","v":0},0,0,null,{"$f":"Janv!CK23","v":0},0,0,null,{"$f":"Janv!CO23","v":0},0,0,null,{"$f":"Janv!CS23","v":0},0,0]
[{"$f":"Janv!A24","v":0},null,null,null,null,null,null,null,null,null,null,null,null,null,null,null,null,null,null,null,null,null,null,null,null,null,null,null,null,null,null,null,null,null,{"$f":"COUNTIF(C24:AG24,Accueil!$B$8)","v":0},{"$f":"COUNTIF(C24:AG24,Accueil!$B$9)","v":0},{"$f":"COUNTIF(C24:AG24,Accueil!$B$10)","v":0},{"$f":"COUNTIF(C24:AG24,Accueil!$B$11)","v":0},{"$f":"COUNTIF(C24:AG24,Accueil!$B$12)","v":0},{"$f":"COUNTIF(C24:AG24,Accueil!$B$13)","v":0},{"$f":"COUNTIF(C24:AG24,Accueil!$B$14)","v":0},{"$f":"COUNTIF(C24:AG24,Accueil!$B$15)","v":0},{"$f":"COUNTIF(C24:AG24,Accueil!$B$16)","v":0},{"$f":"COUNTIF(C24:AG24,Accueil!$B$17)","v":0},{"$f":"COUNTIF(C24:AG24,Accueil!$B$18)","v":0},{"$f":"COUNTIF(C24:AG24,Accueil!$B$19)","v":0},{"$f":"COUNTIF(C24:AG24,Accueil!$B$20)","v":0},{"$f":"COUNTIF(C24:AG24,Accueil!$B$21)","v":0},{"$f":"COUNTIF(C24:AG24,Accueil!$B$22)","v":0},{"$f":"COUNTIF(C24:AG24,Accueil!$B$23)","v":0},{"$f":"COUNTIF(C24:AG24,Accueil!$B$24)","v":0},{"$f":"COUNTIF(C24:AG24,Accueil!$B$25)","v":0},{"$f":"COUNTIF(C24:AG24,Accueil!$B$26)","v":0},{"$f":"COUNTIF(C24:AG24,Accueil!$B$27)","v":0},{"$f":"COUNTIF(C24:AG24,Accueil!$B$28)","v":0},{"$f":"COUNTIF(C24:AG24,Accueil!$B$29)","v":0},{"$f":"COUNTIF(C24:AG24,Accueil!$B$30)","v":0},0,null,{"$f":"AI24 +Janv!BH24","v":0},{"$f":"AJ24+Janv!BI24","v":0},{"$f":"AK24+Janv!BJ24","v":0},{"$f":"AL24+Janv!BK24","v":0},{"$f":"AM24+Janv!BL24","v":0},{"$f":"AN24+Janv!BM24","v":0},{"$f":"AO24+Janv!BN24","v":0},{"$f":"AP24+Janv!BO24","v":0},{"$f":"AQ24+Janv!BP24","v":0},{"$f":"AR24+Janv!BQ24","v":0},{"$f":"AS24+Janv!BR24","v":0},{"$f":"AT24+Janv!BS24","v":0},{"$f":"AU24+Janv!BT24","v":0},{"$f":"AV24+Janv!BU24","v":0},{"$f":"AW24+Janv!BV24","v":0},{"$f":"AX24+Janv!BW24","v":0},{"$f":"AY24+Janv!BX24","v":0},{"$f":"AZ24+Janv!BY24","v":0},{"$f":"BA24+Janv!BZ24","v":0},{"$f":"BB24+Janv!CA24","v":0},{"$f":"BC24+Janv!CB24","v":0},{"$f":"BD24+Janv!CC24","v":0},{"$f":"BE24+Janv!CD24","v":0},{"$f":"BF24+Janv!CE24","v":0},null,{"$f":"Janv!CG24","v":0},0,0,null,{"$f":"Janv!CK24","v":0},0,0,null,{"$f":"Janv!CO24","v":0},0,0,null,{"$f":"Janv!CS24","v":0},0,0]
[{"$f":"Janv!A25","v":"Claudia"},null,null,null,null,null,null,null,null,null,null,null,null,null,null,null,null,null,null,null,null,null,null,null,null,null,"M3",null,null,null,null,null,null,null,{"$f":"COUNTIF(C25:AG25,Accueil!$B$8)","v":0},{"$f":"COUNTIF(C25:AG25,Accueil!$B$9)","v":0},{"$f":"COUNTIF(C25:AG25,Accueil!$B$10)","v":1},{"$f":"COUNTIF(C25:AG25,Accueil!$B$11)","v":0},{"$f":"COUNTIF(C25:AG25,Accueil!$B$12)","v":0},{"$f":"COUNTIF(C25:AG25,Accueil!$B$13)","v":0},{"$f":"COUNTIF(C25:AG25,Accueil!$B$14)","v":0},{"$f":"COUNTIF(C25:AG25,Accueil!$B$15)","v":0},{"$f":"COUNTIF(C25:AG25,Accueil!$B$16)","v":0},{"$f":"COUNTIF(C25:AG25,Accueil!$B$17)","v":0},{"$f":"COUNTIF(C25:AG25,Accueil!$B$18)","v":0},{"$f":"COUNTIF(C25:AG25,Accueil!$B$19)","v":0},{"$f":"COUNTIF(C25:AG25,Accueil!$B$20)","v":0},{"$f":"COUNTIF(C25:AG25,Accueil!$B$21)","v":0},{"$f":"COUNTIF(C25:AG25,Accueil!$B$22)","v":0},{"$f":"COUNTIF(C25:AG25,Accueil!$B$23)","v":0},{"$f":"COUNTIF(C25:AG25,Accueil!$B$24)","v":0},{"$f":"COUNTIF(C25:AG25,Accueil!$B$25)","v":0},{"$f":"COUNTIF(C25:AG25,Accueil!$B$26)","v":0},{"$f":"COUNTIF(C25:AG25,Accueil!$B$27)","v":0},{"$f":"COUNTIF(C25:AG25,Accueil!$B$28)","v":0},{"$f":"COUNTIF(C25:AG25,Accueil!$B$29)","v":0},{"$f":"COUNTIF(C25:AG25,Accueil!$B$30)","v":0},1,null,{"$f":"AI25 +Janv!BH25","v":1},{"$f":"AJ25+Janv!BI25","v":0},{"$f":"AK25+Janv!BJ25","v":1},{"$f":"AL25+Janv!BK25","v":0},{"$f":"AM25+Janv!BL25","v":0},{"$f":"AN25+Janv!BM25","v":0},{"$f":"AO25+Janv!BN25","v":0},{"$f":"AP25+Janv!BO25","v":0},{"$f":"AQ25+Janv!BP25","v":0},{"$f":"AR25+Janv!BQ25","v":0},{"$f":"AS25+Janv!BR25","v":0},{"$f":"AT25+Janv!BS25","v":0},{"$f":"AU25+Janv!BT25","v":0},{"$f":"AV25+Janv!BU25","v":0},{"$f":"AW25+Janv!BV25","v":0},{"$f":"AX25+Janv!BW25","v":9},{"$f":"AY25+Janv!BX25","v":0},{"$f":"AZ25+Janv!BY25","v":0},{"$f":"BA25+Janv!BZ25","v":0},{"$f":"BB25+Janv!CA25","v":0},{"$f":"BC25+Janv!CB25","v":0},{"$f":"BD25+Janv!CC25","v":0},{"$f":"BE25+Janv!CD25","v":0},{"$f":"BF25+Janv!CE25","v":2},null,{"$f":"Janv!CG25","v":0},9,-9,null,{"$f":"Janv!CK25","v":0},0,0,null,{"$f":"Janv!CO25","v":0},0,0,null,{"$f":"Janv!CS25","v":0},0,0]
[{"$f":"Janv!A26","v":"FRPI"},null,null,null,null,null,null,null,null,null,null,null,null,null,null,null,"LY",null,null,null,null,null,null,"Vac","Vac","Vac","Vac","Vac",null,null,"LY",null,null,null,{"$f":"COUNTIF(C26:AG26,Accueil!$B$8)","v":0},{"$f":"COUNTIF(C26:AG26,Accueil!$B$9)","v":0},{"$f":"COUNTIF(C26:AG26,Accueil!$B$10)","v":0},{"$f":"COUNTIF(C26:AG26,Accueil!$B$11)","v":0},{"$f":"COUNTIF(C26:AG26,Accueil!$B$12)","v":0},{"$f":"COUNTIF(C26:AG26,Accueil!$B$13)","v":0},{"$f":"COUNTIF(C26:AG26,Accueil!$B$14)","v":0},{"$f":"COUNTIF(C26:AG26,Accueil!$B$15)","v":0},{"$f":"COUNTIF(C26:AG26,Accueil!$B$16)","v":0},{"$f":"COUNTIF(C26:AG26,Accueil!$B$17)","v":0},{"$f":"COUNTIF(C26:AG26,Accueil!$B$18)","v":2},{"$f":"COUNTIF(C26:AG26,Accueil!$B$19)","v":0},{"$f":"COUNTIF(C26:AG26,Accueil!$B$20)","v":0},{"$f":"COUNTIF(C26:AG26,Accueil!$B$21)","v":0},{"$f":"COUNTIF(C26:AG26,Accueil!$B$22)","v":0},{"$f":"COUNTIF(C26:AG26,Accueil!$B$23)","v":5},{"$f":"COUNTIF(C26:AG26,Accueil!$B$24)","v":0},{"$f":"COUNTIF(C26:AG26,Accueil!$B$25)","v":0},{"$f":"COUNTIF(C26:AG26,Accueil!$B$26)","v":0},{"$f":"COUNTIF(C26:AG26,Accueil!$B$27)","v":0},{"$f":"COUNTIF(C26:AG26,Accueil!$B$28)","v":0},{"$f":"COUNTIF(C26:AG26,Accueil!$B$29)","v":0},{"$f":"COUNTIF(C26:AG26,Accueil!$B$30)","v":0},2,null,{"$f":"AI26 +Janv!BH26","v":0},{"$f":"AJ26+Janv!BI26","v":0},{"$f":"AK26+Janv!BJ26","v":0},{"$f":"AL26+Janv!BK26","v":0},{"$f":"AM26+Janv!BL26","v":0},{"$f":"AN26+Janv!BM26","v":0},{"$f":"AO26+Janv!BN26","v":0},{"$f":"AP26+Janv!BO26","v":0},{"$f":"AQ26+Janv!BP26","v":0},{"$f":"AR26+Janv!BQ26","v":1},{"$f":"AS26+Janv!BR26","v":9},{"$f":"AT26+Janv!BS26","v":0},{"$f":"AU26+Janv!BT26","v":0},{"$f":"AV26+Janv!BU26","v":0},{"$f":"AW26+Janv!BV26","v":0},{"$f":"AX26+Janv!BW26","v":5},{"$f":"AY26+Janv!BX26","v":0},{"$f":"AZ26+Janv!BY26","v":0},{"$f":"BA26+Janv!BZ26","v":0},{"$f":"BB26+Janv!CA26","v":0},{"$f":"BC26+Janv!CB26","v":0},{"$f":"BD26+Janv!CC26","v":0},{"$f":"BE26+Janv!CD26","v":0},{"$f":"BF26+Janv!CE26","v":10},null,{"$f":"Janv!CG26","v":0},5,-5,null,{"$f":"Janv!CK26","v":0},0,0,null,{"$f":"Janv!CO26","v":0},0,0,null,{"$f":"Janv!CS26","v":0},0,0]
[{"$f":"Janv!A27","v":0},null,null,null,null,null,null,null,null,null,null,null,null,null,null,null,null,null,null,null,null,null,null,null,null,null,null,null,null,null,null,null,null,null,{"$f":"COUNTIF(C27:AG27,Accueil!$B$8)","v":0},{"$f":"COUNTIF(C27:AG27,Accueil!$B$9)","v":0},{"$f":"COUNTIF(C27:AG27,Accueil!$B$10)","v":0},{"$f":"COUNTIF(C27:AG27,Accueil!$B$11)","v":0},{"$f":"COUNTIF(C27:AG27,Accueil!$B$12)","v":0},{"$f":"COUNTIF(C27:AG27,Accueil!$B$13)","v":0},{"$f":"COUNTIF(C27:AG27,Accueil!$B$14)","v":0},{"$f":"COUNTIF(C27:AG27,Accueil!$B$15)","v":0},{"$f":"COUNTIF(C27:AG27,Accueil!$B$16)","v":0},{"$f":"COUNTIF(C27:AG27,Accueil!$B$17)","v":0},{"$f":"COUNTIF(C27:AG27,Accueil!$B$18)","v":0},{"$f":"COUNTIF(C27:AG27,Accueil!$B$19)","v":0},{"$f":"COUNTIF(C27:AG27,Accueil!$B$20)","v":0},{"$f":"COUNTIF(C27:AG27,Accueil!$B$21)","v":0},{"$f":"COUNTIF(C27:AG27,Accueil!$B$22)","v":0},{"$f":"COUNTIF(C27:AG27,Accueil!$B$23)","v":0},{"$f":"COUNTIF(C27:AG27,Accueil!$B$24)","v":0},{"$f":"COUNTIF(C27:AG27,Accueil!$B$25)","v":0},{"$f":"COUNTIF(C27:AG27,Accueil!$B$26)","v":0},{"$f":"COUNTIF(C27:AG27,Accueil!$B$27)","v":0},{"$f":"COUNTIF(C27:AG27,Accueil!$B$28)","v":0},{"$f":"COUNTIF(C27:AG27,Accueil!$B$29)","v":0},{"$f":"COUNTIF(C27:AG27,Accueil!$B$30)","v":0},0,null,{"$f":"AI27 +Janv!BH27","v":0},{"$f":"AJ27+Janv!BI27","v":0},{"$f":"AK27+Janv!BJ27","v":{"$error":"#VALUE!"}},{"$f":"AL27+Janv!BK27","v":0},{"$f":"AM27+Janv!BL27","v":0},{"$f":"AN27+Janv!BM27","v":0},{"$f":"AO27+Janv!BN27","v":0},{"$f":"AP27+Janv!BO27","v":{"$error":"#VALUE!"}},{"$f":"AQ27+Janv!BP27","v":0},{"$f":"AR27+Janv!BQ27","v":0},{"$f":"AS27+Janv!BR27","v":0},{"$f":"AT27+Janv!BS27","v":0},{"$f":"AU27+Janv!BT27","v":0},{"$f":"AV27+Janv!BU27","v":0},{"$f":"AW27+Janv!BV27","v":0},{"$f":"AX27+Janv!BW27","v":0},{"$f":"AY27+Janv!BX27","v":0},{"$f":"AZ27+Janv!BY27","v":0},{"$f":"BA27+Janv!BZ27","v":0},{"$f":"BB27+Janv!CA27","v":0},{"$f":"BC27+Janv!CB27","v":0},{"$f":"BD27+Janv!CC27","v":0},{"$f":"BE27+Janv!CD27","v":0},{"$f":"BF27+Janv!CE27","v":0},null,{"$f":"Janv!CG27","v":0},0,0,null,{"$f":"Janv!CK27","v":0},0,0,null,{"$f":"Janv!CO27","v":0},0,0,null,{"$f":"Janv!CS27","v":0},0,0]
[{"$f":"Janv!A28","v":"Frédéric"},null,null,null,null,"Nuit",null,null,null,null,null,"Nuit",null,null,null,null,null,"Nuit",null,null,null,null,"Nuit",null,null,null,null,null,null,null,"Nuit",null,null,null,{"$f":"COUNTIF(C28:AG28,Accueil!$B$8)","v":0},{"$f":"COUNTIF(C28:AG28,Accueil!$B$9)","v":0},{"$f":"COUNTIF(C28:AG28,Accueil!$B$10)","v":0},{"$f":"COUNTIF(C28:AG28,Accueil!$B$11)","v":0},{"$f":"COUNTIF(C28:AG28,Accueil!$B$12)","v":0},{"$f":"COUNTIF(C28:AG28,Accueil!$B$13)","v":0},{"$f":"COUNTIF(C28:AG28,Accueil!$B$14)","v":0},{"$f":"COUNTIF(C28:AG28,Accueil!$B$15)","v":0},{"$f":"COUNTIF(C28:AG28,Accueil!$B$16)","v":5},{"$f":"COUNTIF(C28:AG28,Accueil!$B$17)","v":0},{"$f":"COUNTIF(C28:AG28,Accueil!$B$18)","v":0},{"$f":"COUNTIF(C28:AG28,Accueil!$B$19)","v":0},{"$f":"COUNTIF(C28:AG28,Accueil!$B$20)","v":0},{"$f":"COUNTIF(C28:AG28,Accueil!$B$21)","v":0},{"$f":"COUNTIF(C28:AG28,Accueil!$B$22)","v":0},{"$f":"COUNTIF(C28:AG28,Accueil!$B$23)","v":0},{"$f":"COUNTIF(C28:AG28,Accueil!$B$24)","v":0},{"$f":"COUNTIF(C28:AG28,Accueil!$B$25)","v":0},{"$f":"COUNTIF(C28:AG28,Accueil!$B$26)","v":0},{"$f":"COUNTIF(C28:AG28,Accueil!$B$27)","v":0},{"$f":"COUNTIF(C28:AG28,Accueil!$B$28)","v":0},{"$f":"COUNTIF(C28:AG28,Accueil!$B$29)","v":0},{"$f":"COUNTIF(C28:AG28,Accueil!$B$30)","v":0},5,null,{"$f":"AI28 +Janv!BH28","v":{"$error":"#VALUE!"}},{"$f":"AJ28+Janv!BI28","v":{"$error":"#VALUE!"}},{"$f":"AK28+Janv!BJ28","v":0},{"$f":"AL28+Janv!BK28","v":{"$error":"#VALUE!"}},{"$f":"AM28+Janv!BL28","v":0},{"$f":"AN28+Janv!BM28","v":{"$error":"#VALUE!"}},{"$f":"AO28+Janv!BN28","v":{"$error":"#VALUE!"}},{"$f":"AP28+Janv!BO28","v":0},{"$f":"AQ28+Janv!BP28","v":12},{"$f":"AR28+Janv!BQ28","v":0},{"$f":"AS28+Janv!BR28","v":0},{"$f":"AT28+Janv!BS28","v":0},{"$f":"AU28+Janv!BT28","v":0},{"$f":"AV28+Janv!BU28","v":0},{"$f":"AW28+Janv!BV28","v":0},{"$f":"AX28+Janv!BW28","v":0},{"$f":"AY28+Janv!BX28","v":0},{"$f":"AZ28+Janv!BY28","v":0},{"$f":"BA28+Janv!BZ28","v":0},{"$f":"BB28+Janv!CA28","v":0},{"$f":"BC28+Janv!CB28","v":0},{"$f":"BD28+Janv!CC28","v":0},{"$f":"BE28+Janv!CD28","v":0},{"$f":"BF28+Janv!CE28","v":12},null,{"$f":"Janv!CG28","v":0},0,0,null,{"$f":"Janv!CK28","v":0},0,0,null,{"$f":"Janv!CO28","v":0},0,0,null,{"$f":"Janv!CS28","v":0},0,0]
[{"$f":"Janv!A29","v":"Ibrahim"},null,null,"Nuit","Nuit",null,null,null,null,"Nuit","Nuit",null,"Nuit",null,null,null,"Nuit",null,"Nuit","Nuit",null,null,null,null,"Nuit",null,"Nuit","Nuit",null,null,null,null,null,null,{"$f":"COUNTIF(C29:AG29,Accueil!$B$8)","v":0},{"$f":"COUNTIF(C29:AG29,Accueil!$B$9)","v":0},{"$f":"COUNTIF(C29:AG29,Accueil!$B$10)","v":0},{"$f":"COUNTIF(C29:AG29,Accueil!$B$11)","v":0},{"$f":"COUNTIF(C29:AG29,Accueil!$B$12)","v":0},{"$f":"COUNTIF(C29:AG29,Accueil!$B$13)","v":0},{"$f":"COUNTIF(C29:AG29,Accueil!$B$14)","v":0},{"$f":"COUNTIF(C29:AG29,Accueil!$B$15)","v":0},{"$f":"COUNTIF(C29:AG29,Accueil!$B$16)","v":11},{"$f":"COUNTIF(C29:AG29,Accueil!$B$17)","v":0},{"$f":"COUNTIF(C29:AG29,Accueil!$B$18)","v":0},{"$f":"COUNTIF(C29:AG29,Accueil!$B$19)","v":0},{"$f":"COUNTIF(C29:AG29,Accueil!$B$20)","v":0},{"$f":"COUNTIF(C29:AG29,Accueil!$B$21)","v":0},{"$f":"COUNTIF(C29:AG29,Accueil!$B$22)","v":0},{"$f":"COUNTIF(C29:AG29,Accueil!$B$23)","v":0},{"$f":"COUNTIF(C29:AG29,Accueil!$B$24)","v":0},{"$f":"COUNTIF(C29:AG29,Accueil!$B$25)","v":0},{"$f":"COUNTIF(C29:AG29,Accueil!$B$26)","v":0},{"$f":"COUNTIF(C29:AG29,Accueil!$B$27)","v":0},{"$f":"COUNTIF(C29:AG29,Accueil!$B$28)","v":0},{"$f":"COUNTIF(C29:AG29,Accueil!$B$29)","v":0},{"$f":"COUNTIF(C29:AG29,Accueil!$B$30)","v":0},11,null,{"$f":"AI29 +Janv!BH29","v":0},{"$f":"AJ29+Janv!BI29","v":0},{"$f":"AK29+Janv!BJ29","v":0},{"$f":"AL29+Janv!BK29","v":0},{"$f":"AM29+Janv!BL29","v":{"$error":"#VALUE!"}},{"$f":"AN29+Janv!BM29","v":0},{"$f":"AO29+Janv!BN29","v":0},{"$f":"AP29+Janv!BO29","v":0},{"$f":"AQ29+Janv!BP29","v":15},{"$f":"AR29+Janv!BQ29","v":0},{"$f":"AS29+Janv!BR29","v":0},{"$f":"AT29+Janv!BS29","v":0},{"$f":"AU29+Janv!BT29","v":0},{"$f":"AV29+Janv!BU29","v":0},{"$f":"AW29+Janv!BV29","v":0},{"$f":"AX29+Janv!BW29","v":0},{"$f":"AY29+Janv!BX29","v":0},{"$f":"AZ29+Janv!BY29","v":0},{"$f":"BA29+Janv!BZ29","v":0},{"$f":"BB29+Janv!CA29","v":0},{"$f":"BC29+Janv!CB29","v":0},{"$f":"BD29+Janv!CC29","v":0},{"$f":"BE29+Janv!CD29","v":0},{"$f":"BF29+Janv!CE29","v":15},null,{"$f":"Janv!CG29","v":0},0,0,null,{"$f":"Janv!CK29","v":0},0,0,null,{"$f":"Janv!CO29","v":0},0,0,null,{"$f":"Janv!CS29","v":0},0,0]
[{"$f":"Janv!A30","v":"Julien"},null,"Nuit",null,null,null,null,null,"Nuit",null,null,null,null,null,"Nuit","Nuit",null,null,null,null,null,null,null,"Nuit",null,"Nuit",null,null,null,"Nuit",null,null,null,null,{"$f":"COUNTIF(C30:AG30,Accueil!$B$8)","v":0},{"$f":"COUNTIF(C30:AG30,Accueil!$B$9)","v":0},{"$f":"COUNTIF(C30:AG30,Accueil!$B$10)","v":0},{"$f":"COUNTIF(C30:AG30,Accueil!$B$11)","v":0},{"$f":"COUNTIF(C30:AG30,Accueil!$B$12)","v":0},{"$f":"COUNTIF(C30:AG30,Accueil!$B$13)","v":0},{"$f":"COUNTIF(C30:AG30,Accueil!$B$14)","v":0},{"$f":"COUNTIF(C30:AG30,Accueil!$B$15)","v":0},{"$f":"COUNTIF(C30:AG30,Accueil!$B$16)","v":7},{"$f":"COUNTIF(C30:AG30,Accueil!$B$17)","v":0},{"$f":"COUNTIF(C30:AG30,Accueil!$B$18)","v":0},{"$f":"COUNTIF(C30:AG30,Accueil!$B$19)","v":0},{"$f":"COUNTIF(C30:AG30,Accueil!$B$20)","v":0},{"$f":"COUNTIF(C30:AG30,Accueil!$B$21)","v":0},{"$f":"COUNTIF(C30:AG30,Accueil!$B$22)","v":0},{"$f":"COUNTIF(C30:AG30,Accueil!$B$23)","v":0},{"$f":"COUNTIF(C30:AG30,Accueil!$B$24)","v":0},{"$f":"COUNTIF(C30:AG30,Accueil!$B$25)","v":0},{"$f":"COUNTIF(C30:AG30,Accueil!$B$26)","v":0},{"$f":"COUNTIF(C30:AG30,Accueil!$B$27)","v":0},{"$f":"COUNTIF(C30:AG30,Accueil!$B$28)","v":0},{"$f":"COUNTIF(C30:AG30,Accueil!$B$29)","v":0},{"$f":"COUNTIF(C30:AG30,Accueil!$B$30)","v":0},7,null,{"$f":"AI30 +Janv!BH30","v":0},{"$f":"AJ30+Janv!BI30","v":{"$error":"#VALUE!"}},{"$f":"AK30+Janv!BJ30","v":{"$error":"#VALUE!"}},{"$f":"AL30+Janv!BK30","v":{"$error":"#VALUE!"}},{"$f":"AM30+Janv!BL30","v":{"$error":"#VALUE!"}},{"$f":"AN30+Janv!BM30","v":{"$error":"#VALUE!"}},{"$f":"AO30+Janv!BN30","v":0},{"$f":"AP30+Janv!BO30","v":0},{"$f":"AQ30+Janv!BP30","v":10},{"$f":"AR30+Janv!BQ30","v":0},{"$f":"AS30+Janv!BR30","v":0},{"$f":"AT30+Janv!BS30","v":0},{"$f":"AU30+Janv!BT30","v":0},{"$f":"AV30+Janv!BU30","v":0},{"$f":"AW30+Janv!BV30","v":0},{"$f":"AX30+Janv!BW30","v":5},{"$f":"AY30+Janv!BX30","v":0},{"$f":"AZ30+Janv!BY30","v":0},{"$f":"BA30+Janv!BZ30","v":0},{"$f":"BB30+Janv!CA30","v":0},{"$f":"BC30+Janv!CB30","v":0},{"$f":"BD30+Janv!CC30","v":0},{"$f":"BE30+Janv!CD30","v":0},{"$f":"BF30+Janv!CE30","v":10},null,{"$f":"Janv!CG30","v":0},5,-5,null,{"$f":"Janv!CK30","v":0},0,0,null,{"$f":"Janv!CO30","v":0},0,0,null,{"$f":"Janv!CS30","v":0},0,0]
[{"$f":"Janv!A31","v":"Mario"},null,"Vac","Vac","Vac","Vac","Vac","Vac","Vac","Vac","Vac","Vac","Vac","Vac","Vac","Vac","Vac","Vac","Vac","Vac","Vac","Vac","Vac","Vac","Vac","Vac","Vac","Vac","Vac","Vac","Vac",null,null,null,{"$f":"COUNTIF(C31:AG31,Accueil!$B$8)","v":0},{"$f":"COUNTIF(C31:AG31,Accueil!$B$9)","v":0},{"$f":"COUNTIF(C31:AG31,Accueil!$B$10)","v":0},{"$f":"COUNTIF(C31:AG31,Accueil!$B$11)","v":0},{"$f":"COUNTIF(C31:AG31,Accueil!$B$12)","v":0},{"$f":"COUNTIF(C31:AG31,Accueil!$B$13)","v":0},{"$f":"COUNTIF(C31:AG31,Accueil!$B$14)","v":0},{"$f":"COUNTIF(C31:AG31,Accueil!$B$15)","v":0},{"$f":"COUNTIF(C31:AG31,Accueil!$B$16)","v":0},{"$f":"COUNTIF(C31:AG31,Accueil!$B$17)","v":0},{"$f":"COUNTIF(C31:AG31,Accueil!$B$18)","v":0},{"$f":"COUNTIF(C31:AG31,Accueil!$B$19)","v":0},{"$f":"COUNTIF(C31:AG31,Accueil!$B$20)","v":0},{"$f":"COUNTIF(C31:AG31,Accueil!$B$21)","v":0},{"$f":"COUNTIF(C31:AG31,Accueil!$B$22)","v":0},{"$f":"COUNTIF(C31:AG31,Accueil!$B$23)","v":29},{"$f":"COUNTIF(C31:AG31,Accueil!$B$24)","v":0},{"$f":"COUNTIF(C31:AG31,Accueil!$B$25)","v":0},{"$f":"COUNTIF(C31:AG31,Accueil!$B$26)","v":0},{"$f":"COUNTIF(C31:AG31,Accueil!$B$27)","v":0},{"$f":"COUNTIF(C31:AG31,Accueil!$B$28)","v":0},{"$f":"COUNTIF(C31:AG31,Accueil!$B$29)","v":0},{"$f":"COUNTIF(C31:AG31,Accueil!$B$30)","v":0},0,null,{"$f":"AI31 +Janv!BH31","v":0},{"$f":"AJ31+Janv!BI31","v":0},{"$f":"AK31+Janv!BJ31","v":0},{"$f":"AL31+Janv!BK31","v":0},{"$f":"AM31+Janv!BL31","v":0},{"$f":"AN31+Janv!BM31","v":0},{"$f":"AO31+Janv!BN31","v":0},{"$f":"AP31+Janv!BO31","v":0},{"$f":"AQ31+Janv!BP31","v":4},{"$f":"AR31+Janv!BQ31","v":0},{"$f":"AS31+Janv!BR31","v":0},{"$f":"AT31+Janv!BS31","v":0},{"$f":"AU31+Janv!BT31","v":0},{"$f":"AV31+Janv!BU31","v":0},{"$f":"AW31+Janv!BV31","v":0},{"$f":"AX31+Janv!BW31","v":29},{"$f":"AY31+Janv!BX31","v":0},{"$f":"AZ31+Janv!BY31","v":0},{"$f":"BA31+Janv!BZ31","v":0},{"$f":"BB31+Janv!CA31","v":0},{"$f":"BC31+Janv!CB31","v":0},{"$f":"BD31+Janv!CC31","v":0},{"$f":"BE31+Janv!CD31","v":0},{"$f":"BF31+Janv!CE31","v":4},null,{"$f":"Janv!CG31","v":0},29,-29,null,{"$f":"Janv!CK31","v":0},0,0,null,{"$f":"Janv!CO31","v":0},0,0,null,{"$f":"Janv!CS31","v":0},0,0]
[{"$f":"Janv!A32","v":"Hamid"},null,null,null,null,null,"Nuit","Nuit",null,null,null,null,null,"Nuit",null,null,null,null,null,null,"Nuit","Nuit",null,null,null,null,null,null,"Nuit",null,null,null,null,null,{"$f":"COUNTIF(C32:AG32,Accueil!$B$8)","v":0},{"$f":"COUNTIF(C32:AG32,Accueil!$B$9)","v":0},{"$f":"COUNTIF(C32:AG32,Accueil!$B$10)","v":0},{"$f":"COUNTIF(C32:AG32,Accueil!$B$11)","v":0},{"$f":"COUNTIF(C32:AG32,Accueil!$B$12)","v":0},{"$f":"COUNTIF(C32:AG32,Accueil!$B$13)","v":0},{"$f":"COUNTIF(C32:AG32,Accueil!$B$14)","v":0},{"$f":"COUNTIF(C32:AG32,Accueil!$B$15)","v":0},{"$f":"COUNTIF(C32:AG32,Accueil!$B$16)","v":6},{"$f":"COUNTIF(C32:AG32,Accueil!$B$17)","v":0},{"$f":"COUNTIF(C32:AG32,Accueil!$B$18)","v":0},{"$f":"COUNTIF(C32:AG32,Accueil!$B$19)","v":0},{"$f":"COUNTIF(C32:AG32,Accueil!$B$20)","v":0},{"$f":"COUNTIF(C32:AG32,Accueil!$B$21)","v":0},{"$f":"COUNTIF(C32:AG32,Accueil!$B$22)","v":0},{"$f":"COUNTIF(C32:AG32,Accueil!$B$23)","v":0},{"$f":"COUNTIF(C32:AG32,Accueil!$B$24)","v":0},{"$f":"COUNTIF(C32:AG32,Accueil!$B$25)","v":0},{"$f":"COUNTIF(C32:AG32,Accueil!$B$26)","v":0},{"$f":"COUNTIF(C32:AG32,Accueil!$B$27)","v":0},{"$f":"COUNTIF(C32:AG32,Accueil!$B$28)","v":0},{"$f":"COUNTIF(C32:AG32,Accueil!$B$29)","v":0},{"$f":"COUNTIF(C32:AG32,Accueil!$B$30)","v":0},6,null,{"$f":"AI32 +Janv!BH32","v":0},{"$f":"AJ32+Janv!BI32","v":0},{"$f":"AK32+Janv!BJ32","v":0},{"$f":"AL32+Janv!BK32","v":0},{"$f":"AM32+Janv!BL32","v":0},{"$f":"AN32+Janv!BM32","v":0},{"$f":"AO32+Janv!BN32","v":0},{"$f":"AP32+Janv!BO32","v":0},{"$f":"AQ32+Janv!BP32","v":6},{"$f":"AR32+Janv!BQ32","v":0},{"$f":"AS32+Janv!BR32","v":0},{"$f":"AT32+Janv!BS32","v":0},{"$f":"AU32+Janv!BT32","v":0},{"$f":"AV32+Janv!BU32","v":10},{"$f":"AW32+Janv!BV32","v":10},{"$f":"AX32+Janv!BW32","v":0},{"$f":"AY32+Janv!BX32","v":0},{"$f":"AZ32+Janv!BY32","v":0},{"$f":"BA32+Janv!BZ32","v":0},{"$f":"BB32+Janv!CA32","v":0},{"$f":"BC32+Janv!CB32","v":0},{"$f":"BD32+Janv!CC32","v":0},{"$f":"BE32+Janv!CD32","v":10},{"$f":"BF32+Janv!CE32","v":11},null,{"$f":"Janv!CG32","v":0},5,-5,null,{"$f":"Janv!CK32","v":0},0,0,null,{"$f":"Janv!CO32","v":0},0,0,null,{"$f":"Janv!CS32","v":0},10,-10]
[null,{"$f":" \"Effectif minimum \" & Accueil!$B$8","v":"Effectif minimum M1"},{"$f":"COUNTIF(C3:C32,Accueil!$B$8)","v":2},{"$f":"COUNTIF(D3:D32,Accueil!$B$8)","v":4},{"$f":"COUNTIF(E3:E32,Accueil!$B$8)","v":2},{"$f":"COUNTIF(F3:F32,Accueil!$B$8)","v":2},{"$f":"COUNTIF(G3:G32,Accueil!$B$8)","v":3},{"$f":"COUNTIF(H3:H32,Accueil!$B$8)","v":0},{"$f":"COUNTIF(I3:I32,Accueil!$B$8)","v":0},{"$f":"COUNTIF(J3:J32,Accueil!$B$8)","v":1},{"$f":"COUNTIF(K3:K32,Accueil!$B$8)","v":2},{"$f":"COUNTIF(L3:L32,Accueil!$B$8)","v":1},{"$f":"COUNTIF(M3:M32,Accueil!$B$8)","v":1},{"$f":"COUNTIF(N3:N32,Accueil!$B$8)","v":1},{"$f":"COUNTIF(O3:O32,Accueil!$B$8)","v":0},{"$f":"COUNTIF(P3:P32,Accueil!$B$8)","v":0},{"$f":"COUNTIF(Q3:Q32,Accueil!$B$8)","v":1},{"$f":"COUNTIF(R3:R32,Accueil!$B$8)","v":3},{"$f":"COUNTIF(S3:S32,Accueil!$B$8)","v":1},{"$f":"COUNTIF(T3:T32,Accueil!$B$8)","v":1},{"$f":"COUNTIF(U3:U32,Accueil!$B$8)","v":2},{"$f":"COUNTIF(V3:V32,Accueil!$B$8)","v":0},{"$f":"COUNTIF(W3:W32,Accueil!$B$8)","v":0},{"$f":"COUNTIF(X3:X32,Accueil!$B$8)","v":0},{"$f":"COUNTIF(Y3:Y32,Accueil!$B$8)","v":4},{"$f":"COUNTIF(Z3:Z32,Accueil!$B$8)","v":0},{"$f":"COUNTIF(AA3:AA32,Accueil!$B$8)","v":1},{"$f":"COUNTIF(AB3:AB32,Accueil!$B$8)","v":2},{"$f":"COUNTIF(AC3:AC32,Accueil!$B$8)","v":0},{"$f":"COUNTIF(AD3:AD32,Accueil!$B$8)","v":0},{"$f":"COUNTIF(AE3:AE32,Accueil!$B$8)","v":1},{"$f":"COUNTIF(AF3:AF32,Accueil!$B$8)","v":0},{"$f":"COUNTIF(AG3:AG32,Accueil!$B$8)","v":0},null,"Jours travaillés",null,null,null,null,null,null,null,null,null,null,null,"Jours non travaillés",null,null,null,null,null,null,null,null,null,null,null,null,"Jours travaillés",null,null,null,null,null,null,null,null,null,null,null,"Jours non travaillés"]
[null,{"$f":" \"Effectif minimum \" & Accueil!$B$9","v":"Effectif minimum M2"},{"$f":"COUNTIF(C3:C32,Accueil!$B$9)","v":1},{"$f":"COUNTIF(D3:D32,Accueil!$B$9)","v":4},{"$f":"COUNTIF(E3:E32,Accueil!$B$9)","v":0},{"$f":"COUNTIF(F3:F32,Accueil!$B$9)","v":1},{"$f":"COUNTIF(G3:G32,Accueil!$B$9)","v":1},{"$f":"COUNTIF(H3:H32,Accueil!$B$9)","v":0},{"$f":"COUNTIF(I3:I32,Accueil!$B$9)","v":0},{"$f":"COUNTIF(J3:J32,Accueil!$B$9)","v":1},{"$f":"COUNTIF(K3:K32,Accueil!$B$9)","v":4},{"$f":"COUNTIF(L3:L32,Accueil!$B$9)","v":0},{"$f":"COUNTIF(M3:M32,Accueil!$B$9)","v":1},{"$f":"COUNTIF(N3:N32,Accueil!$B$9)","v":0},{"$f":"COUNTIF(O3:O32,Accueil!$B$9)","v":0},{"$f":"COUNTIF(P3:P32,Accueil!$B$9)","v":0},{"$f":"COUNTIF(Q3:Q32,Accueil!$B$9)","v":0},{"$f":"COUNTIF(R3:R32,Accueil!$B$9)","v":3},{"$f":"COUNTIF(S3:S32,Accueil!$B$9)","v":0},{"$f":"COUNTIF(T3:T32,Accueil!$B$9)","v":0},{"$f":"COUNTIF(U3:U32,Accueil!$B$9)","v":0},{"$f":"COUNTIF(V3:V32,Accueil!$B$9)","v":0},{"$f":"COUNTIF(W3:W32,Accueil!$B$9)","v":0},{"$f":"COUNTIF(X3:X32,Accueil!$B$9)","v":0},{"$f":"COUNTIF(Y3:Y32,Accueil!$B$9)","v":3},{"$f":"COUNTIF(Z3:Z32,Accueil!$B$9)","v":1},{"$f":"COUNTIF(AA3:AA32,Accueil!$B$9)","v":0},{"$f":"COUNTIF(AB3:AB32,Accueil!$B$9)","v":0},{"$f":"COUNTIF(AC3:AC32,Accueil!$B$9)","v":0},{"$f":"COUNTIF(AD3:AD32,Accueil!$B$9)","v":0},{"$f":"COUNTIF(AE3:AE32,Accueil!$B$9)","v":0},{"$f":"COUNTIF(AF3:AF32,Accueil!$B$9)","v":0},{"$f":"COUNTIF(AG3:AG32,Accueil!$B$9)","v":0}]
[null,{"$f":"\"Effectif minimum \" & Accueil!$B$10","v":"Effectif minimum M3"},{"$f":"COUNTIF(C3:C32,Accueil!$B$10)","v":0},{"$f":"COUNTIF(D3:D32,Accueil!$B$10)","v":0},{"$f":"COUNTIF(E3:E32,Accueil!$B$10)","v":0},{"$f":"COUNTIF(F3:F32,Accueil!$B$10)","v":0},{"$f":"COUNTIF(G3:G32,Accueil!$B$10)","v":0},{"$f":"COUNTIF(H3:H32,Accueil!$B$10)","v":0},{"$f":"COUNTIF(I3:I32,Accueil!$B$10)","v":0},{"$f":"COUNTIF(J3:J32,Accueil!$B$10)","v":0},{"$f":"COUNTIF(K3:K32,Accueil!$B$10)","v":0},{"$f":"COUNTIF(L3:L32,Accueil!$B$10)","v":0},{"$f":"COUNTIF(M3:M32,Accueil!$B$10)","v":0},{"$f":"COUNTIF(N3:N32,Accueil!$B$10)","v":0},{"$f":"COUNTIF(O3:O32,Accueil!$B$10)","v":0},{"$f":"COUNTIF(P3:P32,Accueil!$B$10)","v":0},{"$f":"COUNTIF(Q3:Q32,Accueil!$B$10)","v":0},{"$f":"COUNTIF(R3:R32,Accueil!$B$10)","v":0},{"$f":"COUNTIF(S3:S32,Accueil!$B$10)","v":0},{"$f":"COUNTIF(T3:T32,Accueil!$B$10)","v":1},{"$f":"COUNTIF(U3:U32,Accueil!$B$10)","v":0},{"$f":"COUNTIF(V3:V32,Accueil!$B$10)","v":0},{"$f":"COUNTIF(W3:W32,Accueil!$B$10)","v":0},{"$f":"COUNTIF(X3:X32,Accueil!$B$10)","v":1},{"$f":"COUNTIF(Y3:Y32,Accueil!$B$10)","v":0},{"$f":"COUNTIF(Z3:Z32,Accueil!$B$10)","v":0},{"$f":"COUNTIF(AA3:AA32,Accueil!$B$10)","v":1},{"$f":"COUNTIF(AB3:AB32,Accueil!$B$10)","v":0},{"$f":"COUNTIF(AC3:AC32,Accueil!$B$10)","v":0},{"$f":"COUNTIF(AD3:AD32,Accueil!$B$10)","v":0},{"$f":"COUNTIF(AE3:AE32,Accueil!$B$10)","v":1},{"$f":"COUNTIF(AF3:AF32,Accueil!$B$10)","v":0},{"$f":"COUNTIF(AG3:AG32,Accueil!$B$10)","v":0}]
[2,"MATIN",{"$f":"C33+C34+C35+C37","v":3},{"$f":"D33+D34+D35+D37","v":10},4,3,4,2,2,2,8,3,2,2,2,2,2,8,2,2,4,2,2,2,9,3,2,2,2,2,2,0,0]
[null,{"$f":"\"Effectif minimum \" & Accueil!$B$11","v":"Effectif minimum MP"},{"$f":"COUNTIF(C3:C32,Accueil!$B$11)","v":0},{"$f":"COUNTIF(D3:D32,Accueil!$B$11)","v":2},{"$f":"COUNTIF(E3:E32,Accueil!$B$11)","v":2},{"$f":"COUNTIF(F3:F32,Accueil!$B$11)","v":0},{"$f":"COUNTIF(G3:G32,Accueil!$B$11)","v":0},{"$f":"COUNTIF(H3:H32,Accueil!$B$11)","v":2},{"$f":"COUNTIF(I3:I32,Accueil!$B$11)","v":2},{"$f":"COUNTIF(J3:J32,Accueil!$B$11)","v":0},{"$f":"COUNTIF(K3:K32,Accueil!$B$11)","v":2},{"$f":"COUNTIF(L3:L32,Accueil!$B$11)","v":2},{"$f":"COUNTIF(M3:M32,Accueil!$B$11)","v":0},{"$f":"COUNTIF(N3:N32,Accueil!$B$11)","v":1},{"$f":"COUNTIF(O3:O32,Accueil!$B$11)","v":2},{"$f":"COUNTIF(P3:P32,Accueil!$B$11)","v":2},{"$f":"COUNTIF(Q3:Q32,Accueil!$B$11)","v":1},{"$f":"COUNTIF(R3:R32,Accueil!$B$11)","v":2},{"$f":"COUNTIF(S3:S32,Accueil!$B$11)","v":1},{"$f":"COUNTIF(T3:T32,Accueil!$B$11)","v":0},{"$f":"COUNTIF(U3:U32,Accueil!$B$11)","v":2},{"$f":"COUNTIF(V3:V32,Accueil!$B$11)","v":2},{"$f":"COUNTIF(W3:W32,Accueil!$B$11)","v":2},{"$f":"COUNTIF(X3:X32,Accueil!$B$11)","v":1},{"$f":"COUNTIF(Y3:Y32,Accueil!$B$11)","v":2},{"$f":"COUNTIF(Z3:Z32,Accueil!$B$11)","v":2},{"$f":"COUNTIF(AA3:AA32,Accueil!$B$11)","v":0},{"$f":"COUNTIF(AB3:AB32,Accueil!$B$11)","v":0},{"$f":"COUNTIF(AC3:AC32,Accueil!$B$11)","v":2},{"$f":"COUNTIF(AD3:AD32,Accueil!$B$11)","v":2},{"$f":"COUNTIF(AE3:AE32,Accueil!$B$11)","v":0},{"$f":"COUNTIF(AF3:AF32,Accueil!$B$11)","v":0},{"$f":"COUNTIF(AG3:AG32,Accueil!$B$11)","v":0}]
[null,{"$f":"\"Effectif minimum \" & Accueil!$B$12","v":"Effectif minimum AP1"},{"$f":"COUNTIF(C3:C32,Accueil!$B$12)","v":1},{"$f":"COUNTIF(D3:D32,Accueil!$B$12)","v":0},{"$f":"COUNTIF(E3:E32,Accueil!$B$12)","v":0},{"$f":"COUNTIF(F3:F32,Accueil!$B$12)","v":1},{"$f":"COUNTIF(G3:G32,Accueil!$B$12)","v":0},{"$f":"COUNTIF(H3:H32,Accueil!$B$12)","v":0},{"$f":"COUNTIF(I3:I32,Accueil!$B$12)","v":0},{"$f":"COUNTIF(J3:J32,Accueil!$B$12)","v":1},{"$f":"COUNTIF(K3:K32,Accueil!$B$12)","v":0},{"$f":"COUNTIF(L3:L32,Accueil!$B$12)","v":0},{"$f":"COUNTIF(M3:M32,Accueil!$B$12)","v":1},{"$f":"COUNTIF(N3:N32,Accueil!$B$12)","v":1},{"$f":"COUNTIF(O3:O32,Accueil!$B$12)","v":0},{"$f":"COUNTIF(P3:P32,Accueil!$B$12)","v":0},{"$f":"COUNTIF(Q3:Q32,Accueil!$B$12)","v":0},{"$f":"COUNTIF(R3:R32,Accueil!$B$12)","v":0},{"$f":"COUNTIF(S3:S32,Accueil!$B$12)","v":1},{"$f":"COUNTIF(T3:T32,Accueil!$B$12)","v":2},{"$f":"COUNTIF(U3:U32,Accueil!$B$12)","v":0},{"$f":"COUNTIF(V3:V32,Accueil!$B$12)","v":0},{"$f":"COUNTIF(W3:W32,Accueil!$B$12)","v":0},{"$f":"COUNTIF(X3:X32,Accueil!$B$12)","v":0},{"$f":"COUNTIF(Y3:Y32,Accueil!$B$12)","v":0},{"$f":"COUNTIF(Z3:Z32,Accueil!$B$12)","v":0},{"$f":"COUNTIF(AA3:AA32,Accueil!$B$12)","v":2},{"$f":"COUNTIF(AB3:AB32,Accueil!$B$12)","v":2},{"$f":"COUNTIF(AC3:AC32,Accueil!$B$12)","v":0},{"$f":"COUNTIF(AD3:AD32,Accueil!$B$12)","v":0},{"$f":"COUNTIF(AE3:AE32,Accueil!$B$12)","v":1},{"$f":"COUNTIF(AF3:AF32,Accueil!$B$12)","v":0},{"$f":"COUNTIF(AG3:AG32,Accueil!$B$12)","v":0}]
[null,{"$f":"\"Effectif minimum \" & Accueil!$B$13","v":"Effectif minimum AP2"},{"$f":"COUNTIF(C3:C32,Accueil!$B$13)","v":1},{"$f":"COUNTIF(D3:D32,Accueil!$B$13)","v":0},{"$f":"COUNTIF(E3:E32,Accueil!$B$13)","v":0},{"$f":"COUNTIF(F3:F32,Accueil!$B$13)","v":1},{"$f":"COUNTIF(G3:G32,Accueil!$B$13)","v":2},{"$f":"COUNTIF(H3:H32,Accueil!$B$13)","v":0},{"$f":"COUNTIF(I3:I32,Accueil!$B$13)","v":1},{"$f":"COUNTIF(J3:J32,Accueil!$B$13)","v":1},{"$f":"COUNTIF(K3:K32,Accueil!$B$13)","v":0},{"$f":"COUNTIF(L3:L32,Accueil!$B$13)","v":0},{"$f":"COUNTIF(M3:M32,Accueil!$B$13)","v":1},{"$f":"COUNTIF(N3:N32,Accueil!$B$13)","v":0},{"$f":"COUNTIF(O3:O32,Accueil!$B$13)","v":0},{"$f":"COUNTIF(P3:P32,Accueil!$B$13)","v":0},{"$f":"COUNTIF(Q3:Q32,Accueil!$B$13)","v":1},{"$f":"COUNTIF(R3:R32,Accueil!$B$13)","v":0},{"$f":"COUNTIF(S3:S32,Accueil!$B$13)","v":1},{"$f":"COUNTIF(T3:T32,Accueil!$B$13)","v":0},{"$f":"COUNTIF(U3:U32,Accueil!$B$13)","v":0},{"$f":"COUNTIF(V3:V32,Accueil!$B$13)","v":0},{"$f":"COUNTIF(W3:W32,Accueil!$B$13)","v":0},{"$f":"COUNTIF(X3:X32,Accueil!$B$13)","v":1},{"$f":"COUNTIF(Y3:Y32,Accueil!$B$13)","v":0},{"$f":"COUNTIF(Z3:Z32,Accueil!$B$13)","v":1},{"$f":"COUNTIF(AA3:AA32,Accueil!$B$13)","v":0},{"$f":"COUNTIF(AB3:AB32,Accueil!$B$13)","v":0},{"$f":"COUNTIF(AC3:AC32,Accueil!$B$13)","v":0},{"$f":"COUNTIF(AD3:AD32,Accueil!$B$13)","v":0},{"$f":"COUNTIF(AE3:AE32,Accueil!$B$13)","v":1},{"$f":"COUNTIF(AF3:AF32,Accueil!$B$13)","v":0},{"$f":"COUNTIF(AG3:AG32,Accueil!$B$13)","v":0}]
[null,{"$f":"\"Effectif minimum \" & Accueil!$B$14","v":"Effectif minimum AP3"},{"$f":"COUNTIF(C3:C32,Accueil!$B$14)","v":0},{"$f":"COUNTIF(D3:D32,Accueil!$B$14)","v":0},{"$f":"COUNTIF(E3:E32,Accueil!$B$14)","v":0},{"$f":"COUNTIF(F3:F32,Accueil!$B$14)","v":0},{"$f":"COUNTIF(G3:G32,Accueil!$B$14)","v":0},{"$f":"COUNTIF(H3:H32,Accueil!$B$14)","v":0},{"$f":"COUNTIF(I3:I32,Accueil!$B$14)","v":0},{"$f":"COUNTIF(J3:J32,Accueil!$B$14)","v":0},{"$f":"COUNTIF(K3:K32,Accueil!$B$14)","v":0},{"$f":"COUNTIF(L3:L32,Accueil!$B$14)","v":0},{"$f":"COUNTIF(M3:M32,Accueil!$B$14)","v":1},{"$f":"COUNTIF(N3:N32,Accueil!$B$14)","v":0},{"$f":"COUNTIF(O3:O32,Accueil!$B$14)","v":0},{"$f":"COUNTIF(P3:P32,Accueil!$B$14)","v":0},{"$f":"COUNTIF(Q3:Q32,Accueil!$B$14)","v":0},{"$f":"COUNTIF(R3:R32,Accueil!$B$14)","v":0},{"$f":"COUNTIF(S3:S32,Accueil!$B$14)","v":0},{"$f":"COUNTIF(T3:T32,Accueil!$B$14)","v":0},{"$f":"COUNTIF(U3:U32,Accueil!$B$14)","v":0},{"$f":"COUNTIF(V3:V32,Accueil!$B$14)","v":0},{"$f":"COUNTIF(W3:W32,Accueil!$B$14)","v":0},{"$f":"COUNTIF(X3:X32,Accueil!$B$14)","v":0},{"$f":"COUNTIF(Y3:Y32,Accueil!$B$14)","v":0},{"$f":"COUNTIF(Z3:Z32,Accueil!$B$14)","v":0},{"$f":"COUNTIF(AA3:AA32,Accueil!$B$14)","v":0},{"$f":"COUNTIF(AB3:AB32,Accueil!$B$14)","v":0},{"$f":"COUNTIF(AC3:AC32,Accueil!$B$14)","v":0},{"$f":"COUNTIF(AD3:AD32,Accueil!$B$14)","v":0},{"$f":"COUNTIF(AE3:AE32,Accueil!$B$14)","v":0},{"$f":"COUNTIF(AF3:AF32,Accueil!$B$14)","v":0},{"$f":"COUNTIF(AG3:AG32,Accueil!$B$14)","v":0}]
[1,{"$f":"\"Effectif minimum \" & Accueil!$B$15","v":"Effectif minimum P1"},{"$f":"COUNTIF(C3:C32,Accueil!$B$15)","v":0},{"$f":"COUNTIF(D3:D32,Accueil!$B$15)","v":0},{"$f":"COUNTIF(E3:E32,Accueil!$B$15)","v":0},{"$f":"COUNTIF(F3:F32,Accueil!$B$15)","v":0},{"$f":"COUNTIF(G3:G32,Accueil!$B$15)","v":0},{"$f":"COUNTIF(H3:H32,Accueil!$B$15)","v":0},{"$f":"COUNTIF(I3:I32,Accueil!$B$15)","v":0},{"$f":"COUNTIF(J3:J32,Accueil!$B$15)","v":0},{"$f":"COUNTIF(K3:K32,Accueil!$B$15)","v":0},{"$f":"COUNTIF(L3:L32,Accueil!$B$15)","v":0},{"$f":"COUNTIF(M3:M32,Accueil!$B$15)","v":0},{"$f":"COUNTIF(N3:N32,Accueil!$B$15)","v":0},{"$f":"COUNTIF(O3:O32,Accueil!$B$15)","v":0},{"$f":"COUNTIF(P3:P32,Accueil!$B$15)","v":0},{"$f":"COUNTIF(Q3:Q32,Accueil!$B$15)","v":0},{"$f":"COUNTIF(R3:R32,Accueil!$B$15)","v":0},{"$f":"COUNTIF(S3:S32,Accueil!$B$15)","v":0},{"$f":"COUNTIF(T3:T32,Accueil!$B$15)","v":0},{"$f":"COUNTIF(U3:U32,Accueil!$B$15)","v":0},{"$f":"COUNTIF(V3:V32,Accueil!$B$15)","v":0},{"$f":"COUNTIF(W3:W32,Accueil!$B$15)","v":0},{"$f":"COUNTIF(X3:X32,Accueil!$B$15)","v":0},{"$f":"COUNTIF(Y3:Y32,Accueil!$B$15)","v":0},{"$f":"COUNTIF(Z3:Z32,Accueil!$B$15)","v":0},{"$f":"COUNTIF(AA3:AA32,Accueil!$B$15)","v":0},{"$f":"COUNTIF(AB3:AB32,Accueil!$B$15)","v":0},{"$f":"COUNTIF(AC3:AC32,Accueil!$B$15)","v":0},{"$f":"COUNTIF(AD3:AD32,Accueil!$B$15)","v":0},{"$f":"COUNTIF(AE3:AE32,Accueil!$B$15)","v":0},{"$f":"COUNTIF(AF3:AF32,Accueil!$B$15)","v":0},{"$f":"COUNTIF(AG3:AG32,Accueil!$B$15)","v":0}]
[2,"APRES-MIDI",{"$f":"C37+C38+C39+C41","v":2},{"$f":"D37+D38+D39+D41","v":2},{"$f":"E37+E38+E39+E41","v":2},{"$f":"F37+F38+F39+F41","v":2},{"$f":"G37+G38+G39+G41","v":2},2,3,2,2,2,2,2,2,2,2,2,3,2,2,2,2,2,2,3,2,2,2,2,2,0,0]
[2,"SOIREE",{"$f":"C37+C38+C39+C41","v":2},{"$f":"D37+D38+D39+D41","v":2},2,2,2,2,3,2,2,2,2,2,2,2,2,2,3,2,2,2,2,2,2,3,2,2,2,2,2,0,0]
[null,{"$f":" \"Effectif minimum \" & Accueil!$B$17 & \" \"","v":"Effectif minimum BI "},{"$f":"COUNTIF(C3:C32,Accueil!$B$17)","v":1},{"$f":"COUNTIF(D3:D32,Accueil!$B$17)","v":0},{"$f":"COUNTIF(E3:E32,Accueil!$B$17)","v":0},{"$f":"COUNTIF(F3:F32,Accueil!$B$17)","v":0},{"$f":"COUNTIF(G3:G32,Accueil!$B$17)","v":0},{"$f":"COUNTIF(H3:H32,Accueil!$B$17)","v":0},{"$f":"COUNTIF(I3:I32,Accueil!$B$17)","v":0},{"$f":"COUNTIF(J3:J32,Accueil!$B$17)","v":1},{"$f":"COUNTIF(K3:K32,Accueil!$B$17)","v":0},{"$f":"COUNTIF(L3:L32,Accueil!$B$17)","v":0},{"$f":"COUNTIF(M3:M32,Accueil!$B$17)","v":0},{"$f":"COUNTIF(N3:N32,Accueil!$B$17)","v":0},{"$f":"COUNTIF(O3:O32,Accueil!$B$17)","v":1},{"$f":"COUNTIF(P3:P32,Accueil!$B$17)","v":0},{"$f":"COUNTIF(Q3:Q32,Accueil!$B$17)","v":1},{"$f":"COUNTIF(R3:R32,Accueil!$B$17)","v":0},{"$f":"COUNTIF(S3:S32,Accueil!$B$17)","v":0},{"$f":"COUNTIF(T3:T32,Accueil!$B$17)","v":0},{"$f":"COUNTIF(U3:U32,Accueil!$B$17)","v":0},{"$f":"COUNTIF(V3:V32,Accueil!$B$17)","v":0},{"$f":"COUNTIF(W3:W32,Accueil!$B$17)","v":0},{"$f":"COUNTIF(X3:X32,Accueil!$B$17)","v":1},{"$f":"COUNTIF(Y3:Y32,Accueil!$B$17)","v":0},{"$f":"COUNTIF(Z3:Z32,Accueil!$B$17)","v":0},{"$f":"COUNTIF(AA3:AA32,Accueil!$B$17)","v":0},{"$f":"COUNTIF(AB3:AB32,Accueil!$B$17)","v":0},{"$f":"COUNTIF(AC3:AC32,Accueil!$B$17)","v":0},{"$f":"COUNTIF(AD3:AD32,Accueil!$B$17)","v":0},{"$f":"COUNTIF(AE3:AE32,Accueil!$B$17)","v":1},{"$f":"COUNTIF(AF3:AF32,Accueil!$B$17)","v":0},{"$f":"COUNTIF(AG3:AG32,Accueil!$B$17)","v":0}]
[null,{"$f":" \"Effectif minimum \" & Accueil!$B$18 & \" \"","v":"Effectif minimum LY "},{"$f":"COUNTIF(C3:C32,Accueil!$B$18)","v":1},{"$f":"COUNTIF(D3:D32,Accueil!$B$18)","v":1},{"$f":"COUNTIF(E3:E32,Accueil!$B$18)","v":1},{"$f":"COUNTIF(F3:F32,Accueil!$B$18)","v":1},{"$f":"COUNTIF(G3:G32,Accueil!$B$18)","v":1},{"$f":"COUNTIF(H3:H32,Accueil!$B$18)","v":1},{"$f":"COUNTIF(I3:I32,Accueil!$B$18)","v":1},{"$f":"COUNTIF(J3:J32,Accueil!$B$18)","v":1},{"$f":"COUNTIF(K3:K32,Accueil!$B$18)","v":1},{"$f":"COUNTIF(L3:L32,Accueil!$B$18)","v":1},{"$f":"COUNTIF(M3:M32,Accueil!$B$18)","v":1},{"$f":"COUNTIF(N3:N32,Accueil!$B$18)","v":1},{"$f":"COUNTIF(O3:O32,Accueil!$B$18)","v":0},{"$f":"COUNTIF(P3:P32,Accueil!$B$18)","v":1},{"$f":"COUNTIF(Q3:Q32,Accueil!$B$18)","v":1},{"$f":"COUNTIF(R3:R32,Accueil!$B$18)","v":1},{"$f":"COUNTIF(S3:S32,Accueil!$B$18)","v":1},{"$f":"COUNTIF(T3:T32,Accueil!$B$18)","v":0},{"$f":"COUNTIF(U3:U32,Accueil!$B$18)","v":0},{"$f":"COUNTIF(V3:V32,Accueil!$B$18)","v":1},{"$f":"COUNTIF(W3:W32,Accueil!$B$18)","v":1},{"$f":"COUNTIF(X3:X32,Accueil!$B$18)","v":0},{"$f":"COUNTIF(Y3:Y32,Accueil!$B$18)","v":1},{"$f":"COUNTIF(Z3:Z32,Accueil!$B$18)","v":1},{"$f":"COUNTIF(AA3:AA32,Accueil!$B$18)","v":0},{"$f":"COUNTIF(AB3:AB32,Accueil!$B$18)","v":0},{"$f":"COUNTIF(AC3:AC32,Accueil!$B$18)","v":1},{"$f":"COUNTIF(AD3:AD32,Accueil!$B$18)","v":1},{"$f":"COUNTIF(AE3:AE32,Accueil!$B$18)","v":1},{"$f":"COUNTIF(AF3:AF32,Accueil!$B$18)","v":0},{"$f":"COUNTIF(AG3:AG32,Accueil!$B$18)","v":0}]
[{"$f":"Janv!A46","v":0},{"$f":" \"Effectif minimum \" & Accueil!$B$19 & \" \"","v":"Effectif minimum ST "},{"$f":"COUNTIF(C3:C32,Accueil!$B$19)","v":0},{"$f":"COUNTIF(D3:D32,Accueil!$B$19)","v":0},{"$f":"COUNTIF(E3:E32,Accueil!$B$19)","v":0},{"$f":"COUNTIF(F3:F32,Accueil!$B$19)","v":0},{"$f":"COUNTIF(G3:G32,Accueil!$B$19)","v":0},{"$f":"COUNTIF(H3:H32,Accueil!$B$19)","v":0},{"$f":"COUNTIF(I3:I32,Accueil!$B$19)","v":0},{"$f":"COUNTIF(J3:J32,Accueil!$B$19)","v":0},{"$f":"COUNTIF(K3:K32,Accueil!$B$19)","v":0},{"$f":"COUNTIF(L3:L32,Accueil!$B$19)","v":0},{"$f":"COUNTIF(M3:M32,Accueil!$B$19)","v":0},{"$f":"COUNTIF(N3:N32,Accueil!$B$19)","v":0},{"$f":"COUNTIF(O3:O32,Accueil!$B$19)","v":0},{"$f":"COUNTIF(P3:P32,Accueil!$B$19)","v":0},{"$f":"COUNTIF(Q3:Q32,Accueil!$B$19)","v":0},{"$f":"COUNTIF(R3:R32,Accueil!$B$19)","v":0},{"$f":"COUNTIF(S3:S32,Accueil!$B$19)","v":0},{"$f":"COUNTIF(T3:T32,Accueil!$B$19)","v":0},{"$f":"COUNTIF(U3:U32,Accueil!$B$19)","v":0},{"$f":"COUNTIF(V3:V32,Accueil!$B$19)","v":0},{"$f":"COUNTIF(W3:W32,Accueil!$B$19)","v":0},{"$f":"COUNTIF(X3:X32,Accueil!$B$19)","v":0},{"$f":"COUNTIF(Y3:Y32,Accueil!$B$19)","v":0},{"$f":"COUNTIF(Z3:Z32,Accueil!$B$19)","v":0},{"$f":"COUNTIF(AA3:AA32,Accueil!$B$19)","v":0},{"$f":"COUNTIF(AB3:AB32,Accueil!$B$19)","v":0},{"$f":"COUNTIF(AC3:AC32,Accueil!$B$19)","v":0},{"$f":"COUNTIF(AD3:AD32,Accueil!$B$19)","v":0},{"$f":"COUNTIF(AE3:AE32,Accueil!$B$19)","v":0},{"$f":"COUNTIF(AF3:AF32,Accueil!$B$19)","v":0},{"$f":"COUNTIF(AG3:AG32,Accueil!$B$19)","v":0}]
[1,{"$f":"\"Effectif minimum \" & Accueil!$B$16","v":"Effectif minimum Nuit"},{"$f":"COUNTIF(C3:C32,Accueil!$B$16)","v":1},{"$f":"COUNTIF(D3:D32,Accueil!$B$16)","v":1},{"$f":"COUNTIF(E3:E32,Accueil!$B$16)","v":1},{"$f":"COUNTIF(F3:F32,Accueil!$B$16)","v":1},{"$f":"COUNTIF(G3:G32,Accueil!$B$16)","v":1},{"$f":"COUNTIF(H3:H32,Accueil!$B$16)","v":1},{"$f":"COUNTIF(I3:I32,Accueil!$B$16)","v":1},{"$f":"COUNTIF(J3:J32,Accueil!$B$16)","v":1},{"$f":"COUNTIF(K3:K32,Accueil!$B$16)","v":1},{"$f":"COUNTIF(L3:L32,Accueil!$B$16)","v":1},{"$f":"COUNTIF(M3:M32,Accueil!$B$16)","v":1},{"$f":"COUNTIF(N3:N32,Accueil!$B$16)","v":1},{"$f":"COUNTIF(O3:O32,Accueil!$B$16)","v":1},{"$f":"COUNTIF(P3:P32,Accueil!$B$16)","v":1},{"$f":"COUNTIF(Q3:Q32,Accueil!$B$16)","v":1},{"$f":"COUNTIF(R3:R32,Accueil!$B$16)","v":1},{"$f":"COUNTIF(S3:S32,Accueil!$B$16)","v":1},{"$f":"COUNTIF(T3:T32,Accueil!$B$16)","v":1},{"$f":"COUNTIF(U3:U32,Accueil!$B$16)","v":1},{"$f":"COUNTIF(V3:V32,Accueil!$B$16)","v":1},{"$f":"COUNTIF(W3:W32,Accueil!$B$16)","v":1},{"$f":"COUNTIF(X3:X32,Accueil!$B$16)","v":1},{"$f":"COUNTIF(Y3:Y32,Accueil!$B$16)","v":1},{"$f":"COUNTIF(Z3:Z32,Accueil!$B$16)","v":1},{"$f":"COUNTIF(AA3:AA32,Accueil!$B$16)","v":1},{"$f":"COUNTIF(AB3:AB32,Accueil!$B$16)","v":1},{"$f":"COUNTIF(AC3:AC32,Accueil!$B$16)","v":1},{"$f":"COUNTIF(AD3:AD32,Accueil!$B$16)","v":1},{"$f":"COUNTIF(AE3:AE32,Accueil!$B$16)","v":1},{"$f":"COUNTIF(AF3:AF32,Accueil!$B$16)","v":0},{"$f":"COUNTIF(AG3:AG32,Accueil!$B$16)","v":0}]

{"sheet":"Mars","index":4,"n_rows":47,"n_cols":99,"rows_kept":47,"cut":false,"hidden":false,"merged":[[0,92,0,94],[0,96,0,98],[1,0,1,1],[2,0,2,1],[0,0,0,1],[0,84,0,86],[0,88,0,90],[3,0,3,1],[4,0,4,1],[5,0,5,1],[12,0,12,1],[6,0,6,1],[13,0,13,1],[14,0,14,1],[7,0,7,1],[8,0,8,1],[9,0,9,1],[10,0,10,1],[11,0,11,1],[19,0,19,1],[20,0,20,1],[21,0,21,1],[22,0,22,1],[15,0,15,1],[16,0,16,1],[17,0,17,1],[18,0,18,1],[23,0,23,1],[24,0,24,1],[25,0,25,1],[26,0,26,1],[31,0,31,1],[27,0,27,1],[28,0,28,1],[29,0,29,1],[30,0,30,1]]}
[{"$f":"DATE(Accueil!C2,3,1)","v":"2016-03-01"},null,{"$f":"INDEX({\"D\";\"L\";\"M\";\"M\";\"J\";\"V\";\"S\"},WEEKDAY(C2))","v":"M"},{"$f":"INDEX({\"D\";\"L\";\"M\";\"M\";\"J\";\"V\";\"S\"},WEEKDAY(D2))","v":"M"},{"$f":"INDEX({\"D\";\"L\";\"M\";\"M\";\"J\";\"V\";\"S\"},WEEKDAY(E2))","v":"J"},{"$f":"INDEX({\"D\";\"L\";\"M\";\"M\";\"J\";\"V\";\"S\"},WEEKDAY(F2))","v":"V"},{"$f":"INDEX({\"D\";\"L\";\"M\";\"M\";\"J\";\"V\";\"S\"},WEEKDAY(G2))","v":"S"},{"$f":"INDEX({\"D\";\"L\";\"M\";\"M\";\"J\";\"V\";\"S\"},WEEKDAY(H2))","v":"D"},{"$f":"INDEX({\"D\";\"L\";\"M\";\"M\";\"J\";\"V\";\"S\"},WEEKDAY(I2))","v":"L"},{"$f":"INDEX({\"D\";\"L\";\"M\";\"M\";\"J\";\"V\";\"S\"},WEEKDAY(J2))","v":"M"},{"$f":"INDEX({\"D\";\"L\";\"M\";\"M\";\"J\";\"V\";\"S\"},WEEKDAY(K2))","v":"M"},{"$f":"INDEX({\"D\";\"L\";\"M\";\"M\";\"J\";\"V\";\"S\"},WEEKDAY(L2))","v":"J"},{"$f":"INDEX({\"D\";\"L\";\"M\";\"M\";\"J\";\"V\";\"S\"},WEEKDAY(M2))","v":"V"},{"$f":"INDEX({\"D\";\"L\";\"M\";\"M\";\"J\";\"V\";\"S\"},WEEKDAY(N2))","v":"S"},{"$f":"INDEX({\"D\";\"L\";\"M\";\"M\";\"J\";\"V\";\"S\"},WEEKDAY(O2))","v":"D"},{"$f":"INDEX({\"D\";\"L\";\"M\";\"M\";\"J\";\"V\";\"S\"},WEEKDAY(P2))","v":"L"},{"$f":"INDEX({\"D\";\"L\";\"M\";\"M\";\"J\";\"V\";\"S\"},WEEKDAY(Q2))","v":"M"},{"$f":"INDEX({\"D\";\"L\";\"M\";\"M\";\"J\";\"V\";\"S\"},WEEKDAY(R2))","v":"M"},{"$f":"INDEX({\"D\";\"L\";\"M\";\"M\";\"J\";\"V\";\"S\"},WEEKDAY(S2))","v":"J"},{"$f":"INDEX({\"D\";\"L\";\"M\";\"M\";\"J\";\"V\";\"S\"},WEEKDAY(T2))","v":"V"},{"$f":"INDEX({\"D\";\"L\";\"M\";\"M\";\"J\";\"V\";\"S\"},WEEKDAY(U2))","v":"S"},{"$f":"INDEX({\"D\";\"L\";\"M\";\"M\";\"J\";\"V\";\"S\"},WEEKDAY(V2))","v":"D"},{"$f":"INDEX({\"D\";\"L\";\"M\";\"M\";\"J\";\"V\";\"S\"},WEEKDAY(W2))","v":"L"},{"$f":"INDEX({\"D\";\"L\";\"M\";\"M\";\"J\";\"V\";\"S\"},WEEKDAY(X2))","v":"M"},{"$f":"INDEX({\"D\";\"L\";\"M\";\"M\";\"J\";\"V\";\"S\"},WEEKDAY(Y2))","v":"M"},{"$f":"INDEX({\"D\";\"L\";\"M\";\"M\";\"J\";\"V\";\"S\"},WEEKDAY(Z2))","v":"J"},{"$f":"INDEX({\"D\";\"L\";\"M\";\"M\";\"J\";\"V\";\"S\"},WEEKDAY(AA2))","v":"V"},{"$f":"INDEX({\"D\";\"L\";\"M\";\"M\";\"J\";\"V\";\"S\"},WEEKDAY(AB2))","v":"S"},{"$f":"INDEX({\"D\";\"L\";\"M\";\"M\";\"J\";\"V\";\"S\"},WEEKDAY(AC2))","v":"D"},{"$f":"INDEX({\"D\";\"L\";\"M\";\"M\";\"J\";\"V\";\"S\"},WEEKDAY(AD2))","v":"L"},{"$f":"INDEX({\"D\";\"L\";\"M\";\"M\";\"J\";\"V\";\"S\"},WEEKDAY(AE2))","v":"M"},{"$f":"INDEX({\"D\";\"L\";\"M\";\"M\";\"J\";\"V\";\"S\"},WEEKDAY(AF2))","v":"M"},{"$f":"INDEX({\"D\";\"L\";\"M\";\"M\";\"J\";\"V\";\"S\"},WEEKDAY(AG2))","v":"J"},null,"Bilan mensuel",null,null,null,null,null,null,null,null,null,null,null,null,null,null,null,null,null,null,null,null,null,null,"Total jours",null,"Bilan annuel",null,null,null,null,null,null,null,null,null,null,null,null,null,null,null,null,null,null,null,null,null,null,"Total jours",null,"Bilan congès annuels",null,null,null,"Bilan Enfant malade",null,null,null,"Bilan RH aministratif",null,null,null,"Bilan RH employé"]
[{"$f":"Accueil!J2","v":"Educatif"},null,{"$f":"A1","v":"2016-03-01"},{"$f":"C2+1","v":"2016-03-02"},"2016-03-03","2016-03-04","2016-03-05","2016-03-06","2016-03-07","2016-03-08","2016-03-09","2016-03-10","2016-03-11","2016-03-12","2016-03-13","2016-03-14","2016-03-15","2016-03-16","2016-03-17","2016-03-18","2016-03-19","2016-03-20","2016-03-21","2016-03-22","2016-03-23","2016-03-24","2016-03-25","2016-03-26","2016-03-27","2016-03-28","2016-03-29","2016-03-30","2016-03-31",null,{"$f":"Accueil!$B$8","v":"M1"},{"$f":"Accueil!$B$9","v":"M2"},{"$f":"Accueil!B10","v":"M3"},{"$f":"Accueil!$B$11","v":"MP"},{"$f":"Accueil!$B$12","v":"AP1"},{"$f":"Accueil!B13","v":"AP2"},{"$f":"Accueil!B14","v":"AP3"},{"$f":"Accueil!$B$15","v":"P1"},{"$f":"Accueil!$B$16","v":"Nuit"},{"$f":"Accueil!$B$17","v":"BI"},{"$f":"Accueil!$B$18","v":"LY"},{"$f":"Accueil!$B$19","v":"ST"},{"$f":"Accueil!$B$20","v":"IND"},{"$f":"Accueil!$B$21","v":0},{"$f":"Accueil!$B$22","v":0},{"$f":"Accueil!$B$23","v":"Vac"},{"$f":"Accueil!$B$24","v":"Mal"},{"$f":"Accueil!$B$25","v":"Mat"},{"$f":"Accueil!$B$26","v":"CC"},{"$f":"Accueil!$B$27","v":"F"},{"$f":"Accueil!$B$28","v":"Enf"},{"$f":"Accueil!$B$29","v":"CP"},{"$f":"Accueil!$B$30","v":0},"travaillés",null,{"$f":"AI2","v":"M1"},"M2","M3","MP","AP1","AP2","AP3","P1","Nuit","BI","LY","ST","IND",0,0,"Vac","Mal","Mat","CC","F","Enf","CP",0,"travaillés",null,"capital","pris","restant",null,"capital","pris","restant",null,"capital","pris","restant",null,"capital","pris","restant"]
[{"$f":"Fev!A3","v":"Anne"},null,"MP",null,null,"AP1",null,null,null,"MP",null,null,"M1","Vac","Vac","Vac","Vac","Vac","Vac","Vac","Vac","Vac",null,"MP",null,null,null,"MP",null,null,"MP",null,null,null,{"$f":"COUNTIF(C3:AG3,Accueil!$B$8)","v":1},{"$f":"COUNTIF(C3:AG3,Accueil!$B$9)","v":0},{"$f":"COUNTIF(C3:AG3,Accueil!$B$10)","v":0},{"$f":"COUNTIF(C3:AG3,Accueil!$B$11)","v":5},{"$f":"COUNTIF(C3:AG3,Accueil!$B$12)","v":1},{"$f":"COUNTIF(C3:AG3,Accueil!$B$13)","v":0},{"$f":"COUNTIF(C3:AG3,Accueil!$B$14)","v":0},{"$f":"COUNTIF(C3:AG3,Accueil!$B$15)","v":0},{"$f":"COUNTIF(C3:AG3,Accueil!$B$16)","v":0},{"$f":"COUNTIF(C3:AG3,Accueil!$B$17)","v":0},{"$f":"COUNTIF(C3:AG3,Accueil!$B$18)","v":0},{"$f":"COUNTIF(C3:AG3,Accueil!$B$19)","v":0},{"$f":"COUNTIF(C3:AG3,Accueil!$B$20)","v":0},{"$f":"COUNTIF(C3:AG3,Accueil!$B$21)","v":0},{"$f":"COUNTIF(C3:AG3,Accueil!$B$22)","v":0},{"$f":"COUNTIF(C3:AG3,Accueil!$B$23)","v":9},{"$f":"COUNTIF(C3:AG3,Accueil!$B$24)","v":0},{"$f":"COUNTIF(C3:AG3,Accueil!$B$25)","v":0},{"$f":"COUNTIF(C3:AG3,Accueil!$B$26)","v":0},{"$f":"COUNTIF(C3:AG3,Accueil!$B$27)","v":0},{"$f":"COUNTIF(C3:AG3,Accueil!$B$28)","v":0},{"$f":"COUNTIF(C3:AG3,Accueil!$B$29)","v":0},{"$f":"COUNTIF(C3:AG3,Accueil!$B$30)","v":0},{"$f":"SUM($AI3:$AT3)+($AW3*0.5)","v":7},null,{"$f":"AI3 +Fev!BH3","v":8},{"$f":"AJ3+Fev!BI3","v":0},{"$f":"AK3+Fev!BJ3","v":0},{"$f":"AL3+Fev!BK3","v":17},{"$f":"AM3+Fev!BL3","v":2},{"$f":"AN3+Fev!BM3","v":0},{"$f":"AO3+Fev!BN3","v":0},{"$f":"AP3+Fev!BO3","v":0},{"$f":"AQ3+Fev!BP3","v":0},{"$f":"AR3+Fev!BQ3","v":0},{"$f":"AS3+Fev!BR3","v":0},{"$f":"AT3+Fev!BS3","v":0},{"$f":"AU3+Fev!BT3","v":0},{"$f":"AV3+Fev!BU3","v":0},{"$f":"AW3+Fev!BV3","v":0},{"$f":"AX3+Fev!BW3","v":9},{"$f":"AY3+Fev!BX3","v":1},{"$f":"AZ3+Fev!BY3","v":0},{"$f":"BA3+Fev!BZ3","v":0},{"$f":"BB3+Fev!CA3","v":0},{"$f":"BC3+Fev!CB3","v":0},{"$f":"BD3+Fev!CC3","v":0},{"$f":"BE3+Fev!CD3","v":0},{"$f":"BF3+Fev!CE3","v":27},null,{"$f":"Fev!CG3","v":0},{"$f":"0.5*($BV3)+($BW3)","v":9},{"$f":"CG3-CH3","v":-9},null,{"$f":"Fev!CK3","v":0},{"$f":"$CB3","v":0},{"$f":"CK3-CL3","v":0},null,{"$f":"Fev!CO3","v":0},{"$f":"$CC3","v":0},{"$f":"CO3-CP3","v":0},null,{"$f":"Fev!CS3","v":0},{"$f":"$CD3","v":0},{"$f":"CS3-CT3","v":0}]
[{"$f":"Fev!A4","v":0},null,null,null,null,null,null,null,null,null,null,null,null,null,null,null,null,null,null,null,null,null,null,null,null,null,null,null,null,null,null,null,null,null,{"$f":"COUNTIF(C4:AG4,Accueil!$B$8)","v":0},{"$f":"COUNTIF(C4:AG4,Accueil!$B$9)","v":0},{"$f":"COUNTIF(C4:AG4,Accueil!$B$10)","v":0},{"$f":"COUNTIF(C4:AG4,Accueil!$B$11)","v":0},{"$f":"COUNTIF(C4:AG4,Accueil!$B$12)","v":0},{"$f":"COUNTIF(C4:AG4,Accueil!$B$13)","v":0},{"$f":"COUNTIF(C4:AG4,Accueil!$B$14)","v":0},{"$f":"COUNTIF(C4:AG4,Accueil!$B$15)","v":0},{"$f":"COUNTIF(C4:AG4,Accueil!$B$16)","v":0},{"$f":"COUNTIF(C4:AG4,Accueil!$B$17)","v":0},{"$f":"COUNTIF(C4:AG4,Accueil!$B$18)","v":0},{"$f":"COUNTIF(C4:AG4,Accueil!$B$19)","v":0},{"$f":"COUNTIF(C4:AG4,Accueil!$B$20)","v":0},{"$f":"COUNTIF(C4:AG4,Accueil!$B$21)","v":0},{"$f":"COUNTIF(C4:AG4,Accueil!$B$22)","v":0},{"$f":"COUNTIF(C4:AG4,Accueil!$B$23)","v":0},{"$f":"COUNTIF(C4:AG4,Accueil!$B$24)","v":0},{"$f":"COUNTIF(C4:AG4,Accueil!$B$25)","v":0},{"$f":"COUNTIF(C4:AG4,Accueil!$B$26)","v":0},{"$f":"COUNTIF(C4:AG4,Accueil!$B$27)","v":0},{"$f":"COUNTIF(C4:AG4,Accueil!$B$28)","v":0},{"$f":"COUNTIF(C4:AG4,Accueil!$B$29)","v":0},{"$f":"COUNTIF(C4:AG4,Accueil!$B$30)","v":0},0,null,{"$f":"AI4 +Fev!BH4","v":0},{"$f":"AJ4+Fev!BI4","v":0},{"$f":"AK4+Fev!BJ4","v":0},{"$f":"AL4+Fev!BK4","v":0},{"$f":"AM4+Fev!BL4","v":0},{"$f":"AN4+Fev!BM4","v":0},{"$f":"AO4+Fev!BN4","v":0},{"$f":"AP4+Fev!BO4","v":0},{"$f":"AQ4+Fev!BP4","v":0},{"$f":"AR4+Fev!BQ4","v":0},{"$f":"AS4+Fev!BR4","v":1},{"$f":"AT4+Fev!BS4","v":0},{"$f":"AU4+Fev!BT4","v":0},{"$f":"AV4+Fev!BU4","v":0},{"$f":"AW4+Fev!BV4","v":0},{"$f":"AX4+Fev!BW4","v":0},{"$f":"AY4+Fev!BX4","v":0},{"$f":"AZ4+Fev!BY4","v":0},{"$f":"BA4+Fev!BZ4","v":0},{"$f":"BB4+Fev!CA4","v":0},{"$f":"BC4+Fev!CB4","v":0},{"$f":"BD4+Fev!CC4","v":0},{"$f":"BE4+Fev!CD4","v":0},{"$f":"BF4+Fev!CE4","v":1},null,{"$f":"Fev!CG4","v":0},0,0,null,{"$f":"Fev!CK4","v":0},0,0,null,{"$f":"Fev!CO4","v":0},0,0,null,{"$f":"Fev!CS4","v":0},0,0]
[{"$f":"Fev!A5","v":"Elodie"},null,"M1","M1","AP1",null,null,null,"M1","M1","M1","AP1",null,null,"MP",null,"MP","M1","AP1",null,null,"MP",null,"M1","M1","M1","Vac","Vac","Vac","Vac","Vac","MP","AP1",null,{"$f":"COUNTIF(C5:AG5,Accueil!$B$8)","v":9},{"$f":"COUNTIF(C5:AG5,Accueil!$B$9)","v":0},{"$f":"COUNTIF(C5:AG5,Accueil!$B$10)","v":0},{"$f":"COUNTIF(C5:AG5,Accueil!$B$11)","v":4},{"$f":"COUNTIF(C5:AG5,Accueil!$B$12)","v":4},{"$f":"COUNTIF(C5:AG5,Accueil!$B$13)","v":0},{"$f":"COUNTIF(C5:AG5,Accueil!$B$14)","v":0},{"$f":"COUNTIF(C5:AG5,Accueil!$B$15)","v":0},{"$f":"COUNTIF(C5:AG5,Accueil!$B$16)","v":0},{"$f":"COUNTIF(C5:AG5,Accueil!$B$17)","v":0},{"$f":"COUNTIF(C5:AG5,Accueil!$B$18)","v":0},{"$f":"COUNTIF(C5:AG5,Accueil!$B$19)","v":0},{"$f":"COUNTIF(C5:AG5,Accueil!$B$20)","v":0},{"$f":"COUNTIF(C5:AG5,Accueil!$B$21)","v":0},{"$f":"COUNTIF(C5:AG5,Accueil!$B$22)","v":0},{"$f":"COUNTIF(C5:AG5,Accueil!$B$23)","v":5},{"$f":"COUNTIF(C5:AG5,Accueil!$B$24)","v":0},{"$f":"COUNTIF(C5:AG5,Accueil!$B$25)","v":0},{"$f":"COUNTIF(C5:AG5,Accueil!$B$26)","v":0},{"$f":"COUNTIF(C5:AG5,Accueil!$B$27)","v":0},{"$f":"COUNTIF(C5:AG5,Accueil!$B$28)","v":0},{"$f":"COUNTIF(C5:AG5,Accueil!$B$29)","v":0},{"$f":"COUNTIF(C5:AG5,Accueil!$B$30)","v":0},17,null,{"$f":"AI5 +Fev!BH5","v":27},{"$f":"AJ5+Fev!BI5","v":0},{"$f":"AK5+Fev!BJ5","v":0},{"$f":"AL5+Fev!BK5","v":10},{"$f":"AM5+Fev!BL5","v":11},{"$f":"AN5+Fev!BM5","v":1},{"$f":"AO5+Fev!BN5","v":0},{"$f":"AP5+Fev!BO5","v":0},{"$f":"AQ5+Fev!BP5","v":0},{"$f":"AR5+Fev!BQ5","v":0},{"$f":"AS5+Fev!BR5","v":0},{"$f":"AT5+Fev!BS5","v":0},{"$f":"AU5+Fev!BT5","v":0},{"$f":"AV5+Fev!BU5","v":0},{"$f":"AW5+Fev!BV5","v":0},{"$f":"AX5+Fev!BW5","v":5},{"$f":"AY5+Fev!BX5","v":0},{"$f":"AZ5+Fev!BY5","v":0},{"$f":"BA5+Fev!BZ5","v":1},{"$f":"BB5+Fev!CA5","v":1},{"$f":"BC5+Fev!CB5","v":0},{"$f":"BD5+Fev!CC5","v":0},{"$f":"BE5+Fev!CD5","v":0},{"$f":"BF5+Fev!CE5","v":49},null,{"$f":"Fev!CG5","v":0},5,-5,null,{"$f":"Fev!CK5","v":0},0,0,null,{"$f":"Fev!CO5","v":0},0,0,null,{"$f":"Fev!CS5","v":0},0,0]
[{"$f":"Fev!A6","v":0},null,null,null,null,null,null,null,null,null,null,null,null,null,"LY",null,null,null,null,null,null,null,null,null,null,null,null,null,null,null,null,null,null,null,{"$f":"COUNTIF(C6:AG6,Accueil!$B$8)","v":0},{"$f":"COUNTIF(C6:AG6,Accueil!$B$9)","v":0},{"$f":"COUNTIF(C6:AG6,Accueil!$B$10)","v":0},{"$f":"COUNTIF(C6:AG6,Accueil!$B$11)","v":0},{"$f":"COUNTIF(C6:AG6,Accueil!$B$12)","v":0},{"$f":"COUNTIF(C6:AG6,Accueil!$B$13)","v":0},{"$f":"COUNTIF(C6:AG6,Accueil!$B$14)","v":0},{"$f":"COUNTIF(C6:AG6,Accueil!$B$15)","v":0},{"$f":"COUNTIF(C6:AG6,Accueil!$B$16)","v":0},{"$f":"COUNTIF(C6:AG6,Accueil!$B$17)","v":0},{"$f":"COUNTIF(C6:AG6,Accueil!$B$18)","v":1},{"$f":"COUNTIF(C6:AG6,Accueil!$B$19)","v":0},{"$f":"COUNTIF(C6:AG6,Accueil!$B$20)","v":0},{"$f":"COUNTIF(C6:AG6,Accueil!$B$21)","v":0},{"$f":"COUNTIF(C6:AG6,Accueil!$B$22)","v":0},{"$f":"COUNTIF(C6:AG6,Accueil!$B$23)","v":0},{"$f":"COUNTIF(C6:AG6,Accueil!$B$24)","v":0},{"$f":"COUNTIF(C6:AG6,Accueil!$B$25)","v":0},{"$f":"COUNTIF(C6:AG6,Accueil!$B$26)","v":0},{"$f":"COUNTIF(C6:AG6,Accueil!$B$27)","v":0},{"$f":"COUNTIF(C6:AG6,Accueil!$B$28)","v":0},{"$f":"COUNTIF(C6:AG6,Accueil!$B$29)","v":0},{"$f":"COUNTIF(C6:AG6,Accueil!$B$30)","v":0},1,null,{"$f":"AI6 +Fev!BH6","v":0},{"$f":"AJ6+Fev!BI6","v":0},{"$f":"AK6+Fev!BJ6","v":0},{"$f":"AL6+Fev!BK6","v":0},{"$f":"AM6+Fev!BL6","v":0},{"$f":"AN6+Fev!BM6","v":1},{"$f":"AO6+Fev!BN6","v":0},{"$f":"AP6+Fev!BO6","v":0},{"$f":"AQ6+Fev!BP6","v":0},{"$f":"AR6+Fev!BQ6","v":0},{"$f":"AS6+Fev!BR6","v":1},{"$f":"AT6+Fev!BS6","v":0},{"$f":"AU6+Fev!BT6","v":0},{"$f":"AV6+Fev!BU6","v":0},{"$f":"AW6+Fev!BV6","v":0},{"$f":"AX6+Fev!BW6","v":0},{"$f":"AY6+Fev!BX6","v":0},{"$f":"AZ6+Fev!BY6","v":0},{"$f":"BA6+Fev!BZ6","v":0},{"$f":"BB6+Fev!CA6","v":0},{"$f":"BC6+Fev!CB6","v":0},{"$f":"BD6+Fev!CC6","v":0},{"$f":"BE6+Fev!CD6","v":0},{"$f":"BF6+Fev!CE6","v":2},null,{"$f":"Fev!CG6","v":0},0,0,null,{"$f":"Fev!CK6","v":0},0,0,null,{"$f":"Fev!CO6","v":0},0,0,null,{"$f":"Fev!CS6","v":0},0,0]
[{"$f":"Fev!A7","v":"Eve-Marie"},null,"M1",null,"AP1","M1",null,"MP",null,"M1",null,"AP1","M1",null,null,null,"M1",null,"AP1","AP1",null,null,null,"M1",null,"AP1","MP","Vac","Vac","Vac","Vac","Vac","Vac",null,{"$f":"COUNTIF(C7:AG7,Accueil!$B$8)","v":6},{"$f":"COUNTIF(C7:AG7,Accueil!$B$9)","v":0},{"$f":"COUNTIF(C7:AG7,Accueil!$B$10)","v":0},{"$f":"COUNTIF(C7:AG7,Accueil!$B$11)","v":2},{"$f":"COUNTIF(C7:AG7,Accueil!$B$12)","v":5},{"$f":"COUNTIF(C7:AG7,Accueil!$B$13)","v":0},{"$f":"COUNTIF(C7:AG7,Accueil!$B$14)","v":0},{"$f":"COUNTIF(C7:AG7,Accueil!$B$15)","v":0},{"$f":"COUNTIF(C7:AG7,Accueil!$B$16)","v":0},{"$f":"COUNTIF(C7:AG7,Accueil!$B$17)","v":0},{"$f":"COUNTIF(C7:AG7,Accueil!$B$18)","v":0},{"$f":"COUNTIF(C7:AG7,Accueil!$B$19)","v":0},{"$f":"COUNTIF(C7:AG7,Accueil!$B$20)","v":0},{"$f":"COUNTIF(C7:AG7,Accueil!$B$21)","v":0},{"$f":"COUNTIF(C7:AG7,Accueil!$B$22)","v":0},{"$f":"COUNTIF(C7:AG7,Accueil!$B$23)","v":6},{"$f":"COUNTIF(C7:AG7,Accueil!$B$24)","v":0},{"$f":"COUNTIF(C7:AG7,Accueil!$B$25)","v":0},{"$f":"COUNTIF(C7:AG7,Accueil!$B$26)","v":0},{"$f":"COUNTIF(C7:AG7,Accueil!$B$27)","v":0},{"$f":"COUNTIF(C7:AG7,Accueil!$B$28)","v":0},{"$f":"COUNTIF(C7:AG7,Accueil!$B$29)","v":0},{"$f":"COUNTIF(C7:AG7,Accueil!$B$30)","v":0},13,null,{"$f":"AI7 +Fev!BH7","v":18},{"$f":"AJ7+Fev!BI7","v":1},{"$f":"AK7+Fev!BJ7","v":0},{"$f":"AL7+Fev!BK7","v":7},{"$f":"AM7+Fev!BL7","v":13},{"$f":"AN7+Fev!BM7","v":1},{"$f":"AO7+Fev!BN7","v":1},{"$f":"AP7+Fev!BO7","v":0},{"$f":"AQ7+Fev!BP7","v":0},{"$f":"AR7+Fev!BQ7","v":0},{"$f":"AS7+Fev!BR7","v":0},{"$f":"AT7+Fev!BS7","v":0},{"$f":"AU7+Fev!BT7","v":0},{"$f":"AV7+Fev!BU7","v":0},{"$f":"AW7+Fev!BV7","v":0},{"$f":"AX7+Fev!BW7","v":7},{"$f":"AY7+Fev!BX7","v":0},{"$f":"AZ7+Fev!BY7","v":0},{"$f":"BA7+Fev!BZ7","v":0},{"$f":"BB7+Fev!CA7","v":0},{"$f":"BC7+Fev!CB7","v":0},{"$f":"BD7+Fev!CC7","v":0},{"$f":"BE7+Fev!CD7","v":0},{"$f":"BF7+Fev!CE7","v":41},null,{"$f":"Fev!CG7","v":0},7,-7,null,{"$f":"Fev!CK7","v":0},0,0,null,{"$f":"Fev!CO7","v":0},0,0,null,{"$f":"Fev!CS7","v":0},0,0]
[{"$f":"Fev!A8","v":0},null,null,null,null,null,null,null,null,null,null,null,null,null,null,null,null,null,null,null,null,null,null,null,null,null,null,null,null,null,null,null,null,null,{"$f":"COUNTIF(C8:AG8,Accueil!$B$8)","v":0},{"$f":"COUNTIF(C8:AG8,Accueil!$B$9)","v":0},{"$f":"COUNTIF(C8:AG8,Accueil!$B$10)","v":0},{"$f":"COUNTIF(C8:AG8,Accueil!$B$11)","v":0},{"$f":"COUNTIF(C8:AG8,Accueil!$B$12)","v":0},{"$f":"COUNTIF(C8:AG8,Accueil!$B$13)","v":0},{"$f":"COUNTIF(C8:AG8,Accueil!$B$14)","v":0},{"$f":"COUNTIF(C8:AG8,Accueil!$B$15)","v":0},{"$f":"COUNTIF(C8:AG8,Accueil!$B$16)","v":0},{"$f":"COUNTIF(C8:AG8,Accueil!$B$17)","v":0},{"$f":"COUNTIF(C8:AG8,Accueil!$B$18)","v":0},{"$f":"COUNTIF(C8:AG8,Accueil!$B$19)","v":0},{"$f":"COUNTIF(C8:AG8,Accueil!$B$20)","v":0},{"$f":"COUNTIF(C8:AG8,Accueil!$B$21)","v":0},{"$f":"COUNTIF(C8:AG8,Accueil!$B$22)","v":0},{"$f":"COUNTIF(C8:AG8,Accueil!$B$23)","v":0},{"$f":"COUNTIF(C8:AG8,Accueil!$B$24)","v":0},{"$f":"COUNTIF(C8:AG8,Accueil!$B$25)","v":0},{"$f":"COUNTIF(C8:AG8,Accueil!$B$26)","v":0},{"$f":"COUNTIF(C8:AG8,Accueil!$B$27)","v":0},{"$f":"COUNTIF(C8:AG8,Accueil!$B$28)","v":0},{"$f":"COUNTIF(C8:AG8,Accueil!$B$29)","v":0},{"$f":"COUNTIF(C8:AG8,Accueil!$B$30)","v":0},0,null,{"$f":"AI8 +Fev!BH8","v":0},{"$f":"AJ8+Fev!BI8","v":0},{"$f":"AK8+Fev!BJ8","v":0},{"$f":"AL8+Fev!BK8","v":0},{"$f":"AM8+Fev!BL8","v":0},{"$f":"AN8+Fev!BM8","v":0},{"$f":"AO8+Fev!BN8","v":0},{"$f":"AP8+Fev!BO8","v":0},{"$f":"AQ8+Fev!BP8","v":0},{"$f":"AR8+Fev!BQ8","v":0},{"$f":"AS8+Fev!BR8","v":1},{"$f":"AT8+Fev!BS8","v":0},{"$f":"AU8+Fev!BT8","v":0},{"$f":"AV8+Fev!BU8","v":0},{"$f":"AW8+Fev!BV8","v":0},{"$f":"AX8+Fev!BW8","v":0},{"$f":"AY8+Fev!BX8","v":0},{"$f":"AZ8+Fev!BY8","v":0},{"$f":"BA8+Fev!BZ8","v":0},{"$f":"BB8+Fev!CA8","v":0},{"$f":"BC8+Fev!CB8","v":0},{"$f":"BD8+Fev!CC8","v":0},{"$f":"BE8+Fev!CD8","v":0},{"$f":"BF8+Fev!CE8","v":1},null,{"$f":"Fev!CG8","v":0},0,0,null,{"$f":"Fev!CK8","v":0},0,0,null,{"$f":"Fev!CO8","v":0},0,0,null,{"$f":"Fev!CS8","v":0},0,0]
[{"$f":"Fev!A9","v":"Isabel"},null,"M1",null,null,null,"MP",null,"AP2","M1",null,null,null,null,null,"AP2","M1",null,null,null,null,null,"AP2",null,null,null,"MP","Vac","Vac","Vac","Vac","Vac","Vac",null,{"$f":"COUNTIF(C9:AG9,Accueil!$B$8)","v":3},{"$f":"COUNTIF(C9:AG9,Accueil!$B$9)","v":0},{"$f":"COUNTIF(C9:AG9,Accueil!$B$10)","v":0},{"$f":"COUNTIF(C9:AG9,Accueil!$B$11)","v":2},{"$f":"COUNTIF(C9:AG9,Accueil!$B$12)","v":0},{"$f":"COUNTIF(C9:AG9,Accueil!$B$13)","v":3},{"$f":"COUNTIF(C9:AG9,Accueil!$B$14)","v":0},{"$f":"COUNTIF(C9:AG9,Accueil!$B$15)","v":0},{"$f":"COUNTIF(C9:AG9,Accueil!$B$16)","v":0},{"$f":"COUNTIF(C9:AG9,Accueil!$B$17)","v":0},{"$f":"COUNTIF(C9:AG9,Accueil!$B$18)","v":0},{"$f":"COUNTIF(C9:AG9,Accueil!$B$19)","v":0},{"$f":"COUNTIF(C9:AG9,Accueil!$B$20)","v":0},{"$f":"COUNTIF(C9:AG9,Accueil!$B$21)","v":0},{"$f":"COUNTIF(C9:AG9,Accueil!$B$22)","v":0},{"$f":"COUNTIF(C9:AG9,Accueil!$B$23)","v":6},{"$f":"COUNTIF(C9:AG9,Accueil!$B$24)","v":0},{"$f":"COUNTIF(C9:AG9,Accueil!$B$25)","v":0},{"$f":"COUNTIF(C9:AG9,Accueil!$B$26)","v":0},{"$f":"COUNTIF(C9:AG9,Accueil!$B$27)","v":0},{"$f":"COUNTIF(C9:AG9,Accueil!$B$28)","v":0},{"$f":"COUNTIF(C9:AG9,Accueil!$B$29)","v":0},{"$f":"COUNTIF(C9:AG9,Accueil!$B$30)","v":0},8,null,{"$f":"AI9 +Fev!BH9","v":12},{"$f":"AJ9+Fev!BI9","v":0},{"$f":"AK9+Fev!BJ9","v":0},{"$f":"AL9+Fev!BK9","v":6},{"$f":"AM9+Fev!BL9","v":0},{"$f":"AN9+Fev!BM9","v":14},{"$f":"AO9+Fev!BN9","v":0},{"$f":"AP9+Fev!BO9","v":0},{"$f":"AQ9+Fev!BP9","v":0},{"$f":"AR9+Fev!BQ9","v":0},{"$f":"AS9+Fev!BR9","v":0},{"$f":"AT9+Fev!BS9","v":0},{"$f":"AU9+Fev!BT9","v":0},{"$f":"AV9+Fev!BU9","v":0},{"$f":"AW9+Fev!BV9","v":0},{"$f":"AX9+Fev!BW9","v":9},{"$f":"AY9+Fev!BX9","v":0},{"$f":"AZ9+Fev!BY9","v":0},{"$f":"BA9+Fev!BZ9","v":0},{"$f":"BB9+Fev!CA9","v":0},{"$f":"BC9+Fev!CB9","v":0},{"$f":"BD9+Fev!CC9","v":0},{"$f":"BE9+Fev!CD9","v":0},{"$f":"BF9+Fev!CE9","v":32},null,{"$f":"Fev!CG9","v":0},9,-9,null,{"$f":"Fev!CK9","v":0},0,0,null,{"$f":"Fev!CO9","v":0},0,0,null,{"$f":"Fev!CS9","v":0},0,0]
[{"$f":"Fev!A10","v":0},null,null,null,null,null,"LY",null,null,null,null,null,null,null,null,null,null,null,null,null,null,null,null,null,null,null,null,null,null,null,null,null,null,null,{"$f":"COUNTIF(C10:AG10,Accueil!$B$8)","v":0},{"$f":"COUNTIF(C10:AG10,Accueil!$B$9)","v":0},{"$f":"COUNTIF(C10:AG10,Accueil!$B$10)","v":0},{"$f":"COUNTIF(C10:AG10,Accueil!$B$11)","v":0},{"$f":"COUNTIF(C10:AG10,Accueil!$B$12)","v":0},{"$f":"COUNTIF(C10:AG10,Accueil!$B$13)","v":0},{"$f":"COUNTIF(C10:AG10,Accueil!$B$14)","v":0},{"$f":"COUNTIF(C10:AG10,Accueil!$B$15)","v":0},{"$f":"COUNTIF(C10:AG10,Accueil!$B$16)","v":0},{"$f":"COUNTIF(C10:AG10,Accueil!$B$17)","v":0},{"$f":"COUNTIF(C10:AG10,Accueil!$B$18)","v":1},{"$f":"COUNTIF(C10:AG10,Accueil!$B$19)","v":0},{"$f":"COUNTIF(C10:AG10,Accueil!$B$20)","v":0},{"$f":"COUNTIF(C10:AG10,Accueil!$B$21)","v":0},{"$f":"COUNTIF(C10:AG10,Accueil!$B$22)","v":0},{"$f":"COUNTIF(C10:AG10,Accueil!$B$23)","v":0},{"$f":"COUNTIF(C10:AG10,Accueil!$B$24)","v":0},{"$f":"COUNTIF(C10:AG10,Accueil!$B$25)","v":0},{"$f":"COUNTIF(C10:AG10,Accueil!$B$26)","v":0},{"$f":"COUNTIF(C10:AG10,Accueil!$B$27)","v":0},{"$f":"COUNTIF(C10:AG10,Accueil!$B$28)","v":0},{"$f":"COUNTIF(C10:AG10,Accueil!$B$29)","v":0},{"$f":"COUNTIF(C10:AG10,Accueil!$B$30)","v":0},1,null,{"$f":"AI10 +Fev!BH10","v":0},{"$f":"AJ10+Fev!BI10","v":0},{"$f":"AK10+Fev!BJ10","v":0},{"$f":"AL10+Fev!BK10","v":0},{"$f":"AM10+Fev!BL10","v":0},{"$f":"AN10+Fev!BM10","v":0},{"$f":"AO10+Fev!BN10","v":0},{"$f":"AP10+Fev!BO10","v":0},{"$f":"AQ10+Fev!BP10","v":0},{"$f":"AR10+Fev!BQ10","v":1},{"$f":"AS10+Fev!BR10","v":2},{"$f":"AT10+Fev!BS10","v":0},{"$f":"AU10+Fev!BT10","v":0},{"$f":"AV10+Fev!BU10","v":0},{"$f":"AW10+Fev!BV10","v":0},{"$f":"AX10+Fev!BW10","v":0},{"$f":"AY10+Fev!BX10","v":0},{"$f":"AZ10+Fev!BY10","v":0},{"$f":"BA10+Fev!BZ10","v":0},{"$f":"BB10+Fev!CA10","v":0},{"$f":"BC10+Fev!CB10","v":0},{"$f":"BD10+Fev!CC10","v":0},{"$f":"BE10+Fev!CD10","v":0},{"$f":"BF10+Fev!CE10","v":3},null,{"$f":"Fev!CG10","v":0},0,0,null,{"$f":"Fev!CK10","v":0},0,0,null,{"$f":"Fev!CO10","v":0},0,0,null,{"$f":"Fev!CS10","v":0},0,0]
[{"$f":"Fev!A11","v":"Simon-Pierre"},null,"M2","MP",null,"M1",null,null,"M1","M2","MP",null,"M1",null,null,"M1","M2","M3",null,"M1",null,null,"M1","M2",null,null,null,"Vac","Vac","Vac","Vac","Vac","Vac",null,{"$f":"COUNTIF(C11:AG11,Accueil!$B$8)","v":6},{"$f":"COUNTIF(C11:AG11,Accueil!$B$9)","v":4},{"$f":"COUNTIF(C11:AG11,Accueil!$B$10)","v":1},{"$f":"COUNTIF(C11:AG11,Accueil!$B$11)","v":2},{"$f":"COUNTIF(C11:AG11,Accueil!$B$12)","v":0},{"$f":"COUNTIF(C11:AG11,Accueil!$B$13)","v":0},{"$f":"COUNTIF(C11:AG11,Accueil!$B$14)","v":0},{"$f":"COUNTIF(C11:AG11,Accueil!$B$15)","v":0},{"$f":"COUNTIF(C11:AG11,Accueil!$B$16)","v":0},{"$f":"COUNTIF(C11:AG11,Accueil!$B$17)","v":0},{"$f":"COUNTIF(C11:AG11,Accueil!$B$18)","v":0},{"$f":"COUNTIF(C11:AG11,Accueil!$B$19)","v":0},{"$f":"COUNTIF(C11:AG11,Accueil!$B$20)","v":0},{"$f":"COUNTIF(C11:AG11,Accueil!$B$21)","v":0},{"$f":"COUNTIF(C11:AG11,Accueil!$B$22)","v":0},{"$f":"COUNTIF(C11:AG11,Accueil!$B$23)","v":6},{"$f":"COUNTIF(C11:AG11,Accueil!$B$24)","v":0},{"$f":"COUNTIF(C11:AG11,Accueil!$B$25)","v":0},{"$f":"COUNTIF(C11:AG11,Accueil!$B$26)","v":0},{"$f":"COUNTIF(C11:AG11,Accueil!$B$27)","v":0},{"$f":"COUNTIF(C11:AG11,Accueil!$B$28)","v":0},{"$f":"COUNTIF(C11:AG11,Accueil!$B$29)","v":0},{"$f":"COUNTIF(C11:AG11,Accueil!$B$30)","v":0},13,null,{"$f":"AI11 +Fev!BH11","v":15},{"$f":"AJ11+Fev!BI11","v":10},{"$f":"AK11+Fev!BJ11","v":1},{"$f":"AL11+Fev!BK11","v":7},{"$f":"AM11+Fev!BL11","v":0},{"$f":"AN11+Fev!BM11","v":0},{"$f":"AO11+Fev!BN11","v":0},{"$f":"AP11+Fev!BO11","v":0},{"$f":"AQ11+Fev!BP11","v":0},{"$f":"AR11+Fev!BQ11","v":0},{"$f":"AS11+Fev!BR11","v":0},{"$f":"AT11+Fev!BS11","v":0},{"$f":"AU11+Fev!BT11","v":0},{"$f":"AV11+Fev!BU11","v":0},{"$f":"AW11+Fev!BV11","v":0},{"$f":"AX11+Fev!BW11","v":33},{"$f":"AY11+Fev!BX11","v":0},{"$f":"AZ11+Fev!BY11","v":0},{"$f":"BA11+Fev!BZ11","v":0},{"$f":"BB11+Fev!CA11","v":0},{"$f":"BC11+Fev!CB11","v":0},{"$f":"BD11+Fev!CC11","v":0},{"$f":"BE11+Fev!CD11","v":0},{"$f":"BF11+Fev!CE11","v":33},null,{"$f":"Fev!CG11","v":0},33,-33,null,{"$f":"Fev!CK11","v":0},0,0,null,{"$f":"Fev!CO11","v":0},0,0,null,{"$f":"Fev!CS11","v":0},0,0]
[{"$f":"Fev!A12","v":0},null,null,"LY",null,null,null,null,null,null,null,null,null,null,null,null,null,"LY",null,null,null,null,null,null,null,null,"LY",null,null,null,null,null,null,null,{"$f":"COUNTIF(C12:AG12,Accueil!$B$8)","v":0},{"$f":"COUNTIF(C12:AG12,Accueil!$B$9)","v":0},{"$f":"COUNTIF(C12:AG12,Accueil!$B$10)","v":0},{"$f":"COUNTIF(C12:AG12,Accueil!$B$11)","v":0},{"$f":"COUNTIF(C12:AG12,Accueil!$B$12)","v":0},{"$f":"COUNTIF(C12:AG12,Accueil!$B$13)","v":0},{"$f":"COUNTIF(C12:AG12,Accueil!$B$14)","v":0},{"$f":"COUNTIF(C12:AG12,Accueil!$B$15)","v":0},{"$f":"COUNTIF(C12:AG12,Accueil!$B$16)","v":0},{"$f":"COUNTIF(C12:AG12,Accueil!$B$17)","v":0},{"$f":"COUNTIF(C12:AG12,Accueil!$B$18)","v":3},{"$f":"COUNTIF(C12:AG12,Accueil!$B$19)","v":0},{"$f":"COUNTIF(C12:AG12,Accueil!$B$20)","v":0},{"$f":"COUNTIF(C12:AG12,Accueil!$B$21)","v":0},{"$f":"COUNTIF(C12:AG12,Accueil!$B$22)","v":0},{"$f":"COUNTIF(C12:AG12,Accueil!$B$23)","v":0},{"$f":"COUNTIF(C12:AG12,Accueil!$B$24)","v":0},{"$f":"COUNTIF(C12:AG12,Accueil!$B$25)","v":0},{"$f":"COUNTIF(C12:AG12,Accueil!$B$26)","v":0},{"$f":"COUNTIF(C12:AG12,Accueil!$B$27)","v":0},{"$f":"COUNTIF(C12:AG12,Accueil!$B$28)","v":0},{"$f":"COUNTIF(C12:AG12,Accueil!$B$29)","v":0},{"$f":"COUNTIF(C12:AG12,Accueil!$B$30)","v":0},3,null,{"$f":"AI12 +Fev!BH12","v":0},{"$f":"AJ12+Fev!BI12","v":0},{"$f":"AK12+Fev!BJ12","v":0},{"$f":"AL12+Fev!BK12","v":0},{"$f":"AM12+Fev!BL12","v":0},{"$f":"AN12+Fev!BM12","v":0},{"$f":"AO12+Fev!BN12","v":0},{"$f":"AP12+Fev!BO12","v":0},{"$f":"AQ12+Fev!BP12","v":0},{"$f":"AR12+Fev!BQ12","v":0},{"$f":"AS12+Fev!BR12","v":9},{"$f":"AT12+Fev!BS12","v":0},{"$f":"AU12+Fev!BT12","v":0},{"$f":"AV12+Fev!BU12","v":0},{"$f":"AW12+Fev!BV12","v":0},{"$f":"AX12+Fev!BW12","v":0},{"$f":"AY12+Fev!BX12","v":0},{"$f":"AZ12+Fev!BY12","v":0},{"$f":"BA12+Fev!BZ12","v":0},{"$f":"BB12+Fev!CA12","v":0},{"$f":"BC12+Fev!CB12","v":0},{"$f":"BD12+Fev!CC12","v":0},{"$f":"BE12+Fev!CD12","v":0},{"$f":"BF12+Fev!CE12","v":9},null,{"$f":"Fev!CG12","v":0},0,0,null,{"$f":"Fev!CK12","v":0},0,0,null,{"$f":"Fev!CO12","v":0},0,0,null,{"$f":"Fev!CS12","v":0},0,0]
[{"$f":"Fev!A13","v":"Virginie"},null,"CC","CC","CC","CC","CC","CC","M1","M2","MP","M3","AP2","MP",null,"M1","M2","MP","M3",null,"MP",null,"M1","M2","MP",null,null,null,null,"MP","M2","AP1","MP",null,{"$f":"COUNTIF(C13:AG13,Accueil!$B$8)","v":3},{"$f":"COUNTIF(C13:AG13,Accueil!$B$9)","v":4},{"$f":"COUNTIF(C13:AG13,Accueil!$B$10)","v":2},{"$f":"COUNTIF(C13:AG13,Accueil!$B$11)","v":7},{"$f":"COUNTIF(C13:AG13,Accueil!$B$12)","v":1},{"$f":"COUNTIF(C13:AG13,Accueil!$B$13)","v":1},{"$f":"COUNTIF(C13:AG13,Accueil!$B$14)","v":0},{"$f":"COUNTIF(C13:AG13,Accueil!$B$15)","v":0},{"$f":"COUNTIF(C13:AG13,Accueil!$B$16)","v":0},{"$f":"COUNTIF(C13:AG13,Accueil!$B$17)","v":0},{"$f":"COUNTIF(C13:AG13,Accueil!$B$18)","v":0},{"$f":"COUNTIF(C13:AG13,Accueil!$B$19)","v":0},{"$f":"COUNTIF(C13:AG13,Accueil!$B$20)","v":0},{"$f":"COUNTIF(C13:AG13,Accueil!$B$21)","v":0},{"$f":"COUNTIF(C13:AG13,Accueil!$B$22)","v":0},{"$f":"COUNTIF(C13:AG13,Accueil!$B$23)","v":0},{"$f":"COUNTIF(C13:AG13,Accueil!$B$24)","v":0},{"$f":"COUNTIF(C13:AG13,Accueil!$B$25)","v":0},{"$f":"COUNTIF(C13:AG13,Accueil!$B$26)","v":6},{"$f":"COUNTIF(C13:AG13,Accueil!$B$27)","v":0},{"$f":"COUNTIF(C13:AG13,Accueil!$B$28)","v":0},{"$f":"COUNTIF(C13:AG13,Accueil!$B$29)","v":0},{"$f":"COUNTIF(C13:AG13,Accueil!$B$30)","v":0},18,null,{"$f":"AI13 +Fev!BH13","v":5},{"$f":"AJ13+Fev!BI13","v":15},{"$f":"AK13+Fev!BJ13","v":3},{"$f":"AL13+Fev!BK13","v":17},{"$f":"AM13+Fev!BL13","v":1},{"$f":"AN13+Fev!BM13","v":4},{"$f":"AO13+Fev!BN13","v":0},{"$f":"AP13+Fev!BO13","v":0},{"$f":"AQ13+Fev!BP13","v":0},{"$f":"AR13+Fev!BQ13","v":0},{"$f":"AS13+Fev!BR13","v":0},{"$f":"AT13+Fev!BS13","v":0},{"$f":"AU13+Fev!BT13","v":0},{"$f":"AV13+Fev!BU13","v":0},{"$f":"AW13+Fev!BV13","v":0},{"$f":"AX13+Fev!BW13","v":6},{"$f":"AY13+Fev!BX13","v":0},{"$f":"AZ13+Fev!BY13","v":0},{"$f":"BA13+Fev!BZ13","v":17},{"$f":"BB13+Fev!CA13","v":1},{"$f":"BC13+Fev!CB13","v":0},{"$f":"BD13+Fev!CC13","v":0},{"$f":"BE13+Fev!CD13","v":0},{"$f":"BF13+Fev!CE13","v":45},null,{"$f":"Fev!CG13","v":0},6,-6,null,{"$f":"Fev!CK13","v":0},0,0,null,{"$f":"Fev!CO13","v":0},0,0,null,{"$f":"Fev!CS13","v":0},0,0]
[{"$f":"Fev!A14","v":0},null,null,null,null,null,null,null,"BI",null,null,null,null,"BI",null,null,null,null,null,null,null,null,"BI",null,null,null,null,null,null,null,null,null,null,null,{"$f":"COUNTIF(C14:AG14,Accueil!$B$8)","v":0},{"$f":"COUNTIF(C14:AG14,Accueil!$B$9)","v":0},{"$f":"COUNTIF(C14:AG14,Accueil!$B$10)","v":0},{"$f":"COUNTIF(C14:AG14,Accueil!$B$11)","v":0},{"$f":"COUNTIF(C14:AG14,Accueil!$B$12)","v":0},{"$f":"COUNTIF(C14:AG14,Accueil!$B$13)","v":0},{"$f":"COUNTIF(C14:AG14,Accueil!$B$14)","v":0},{"$f":"COUNTIF(C14:AG14,Accueil!$B$15)","v":0},{"$f":"COUNTIF(C14:AG14,Accueil!$B$16)","v":0},{"$f":"COUNTIF(C14:AG14,Accueil!$B$17)","v":3},{"$f":"COUNTIF(C14:AG14,Accueil!$B$18)","v":0},{"$f":"COUNTIF(C14:AG14,Accueil!$B$19)","v":0},{"$f":"COUNTIF(C14:AG14,Accueil!$B$20)","v":0},{"$f":"COUNTIF(C14:AG14,Accueil!$B$21)","v":0},{"$f":"COUNTIF(C14:AG14,Accueil!$B$22)","v":0},{"$f":"COUNTIF(C14:AG14,Accueil!$B$23)","v":0},{"$f":"COUNTIF(C14:AG14,Accueil!$B$24)","v":0},{"$f":"COUNTIF(C14:AG14,Accueil!$B$25)","v":0},{"$f":"COUNTIF(C14:AG14,Accueil!$B$26)","v":0},{"$f":"COUNTIF(C14:AG14,Accueil!$B$27)","v":0},{"$f":"COUNTIF(C14:AG14,Accueil!$B$28)","v":0},{"$f":"COUNTIF(C14:AG14,Accueil!$B$29)","v":0},{"$f":"COUNTIF(C14:AG14,Accueil!$B$30)","v":0},3,null,{"$f":"AI14 +Fev!BH14","v":0},{"$f":"AJ14+Fev!BI14","v":0},{"$f":"AK14+Fev!BJ14","v":0},{"$f":"AL14+Fev!BK14","v":0},{"$f":"AM14+Fev!BL14","v":0},{"$f":"AN14+Fev!BM14","v":0},{"$f":"AO14+Fev!BN14","v":0},{"$f":"AP14+Fev!BO14","v":0},{"$f":"AQ14+Fev!BP14","v":0},{"$f":"AR14+Fev!BQ14","v":6},{"$f":"AS14+Fev!BR14","v":1},{"$f":"AT14+Fev!BS14","v":0},{"$f":"AU14+Fev!BT14","v":0},{"$f":"AV14+Fev!BU14","v":0},{"$f":"AW14+Fev!BV14","v":0},{"$f":"AX14+Fev!BW14","v":0},{"$f":"AY14+Fev!BX14","v":0},{"$f":"AZ14+Fev!BY14","v":0},{"$f":"BA14+Fev!BZ14","v":0},{"$f":"BB14+Fev!CA14","v":0},{"$f":"BC14+Fev!CB14","v":0},{"$f":"BD14+Fev!CC14","v":0},{"$f":"BE14+Fev!CD14","v":0},{"$f":"BF14+Fev!CE14","v":7},null,{"$f":"Fev!CG14","v":0},0,0,null,{"$f":"Fev!CK14","v":0},0,0,null,{"$f":"Fev!CO14","v":0},0,0,null,{"$f":"Fev!CS14","v":0},0,0]
[{"$f":"Fev!A15","v":"Jacqueline"},null,"MP","AP2",null,"M2",null,null,"M3","MP",null,null,"M2",null,null,"M3","MP",null,null,"M2","MP",null,"M3","MP",null,null,null,null,null,"MP","M1",null,null,null,{"$f":"COUNTIF(C15:AG15,Accueil!$B$8)","v":1},{"$f":"COUNTIF(C15:AG15,Accueil!$B$9)","v":3},{"$f":"COUNTIF(C15:AG15,Accueil!$B$10)","v":3},{"$f":"COUNTIF(C15:AG15,Accueil!$B$11)","v":6},{"$f":"COUNTIF(C15:AG15,Accueil!$B$12)","v":0},{"$f":"COUNTIF(C15:AG15,Accueil!$B$13)","v":1},{"$f":"COUNTIF(C15:AG15,Accueil!$B$14)","v":0},{"$f":"COUNTIF(C15:AG15,Accueil!$B$15)","v":0},{"$f":"COUNTIF(C15:AG15,Accueil!$B$16)","v":0},{"$f":"COUNTIF(C15:AG15,Accueil!$B$17)","v":0},{"$f":"COUNTIF(C15:AG15,Accueil!$B$18)","v":0},{"$f":"COUNTIF(C15:AG15,Accueil!$B$19)","v":0},{"$f":"COUNTIF(C15:AG15,Accueil!$B$20)","v":0},{"$f":"COUNTIF(C15:AG15,Accueil!$B$21)","v":0},{"$f":"COUNTIF(C15:AG15,Accueil!$B$22)","v":0},{"$f":"COUNTIF(C15:AG15,Accueil!$B$23)","v":0},{"$f":"COUNTIF(C15:AG15,Accueil!$B$24)","v":0},{"$f":"COUNTIF(C15:AG15,Accueil!$B$25)","v":0},{"$f":"COUNTIF(C15:AG15,Accueil!$B$26)","v":0},{"$f":"COUNTIF(C15:AG15,Accueil!$B$27)","v":0},{"$f":"COUNTIF(C15:AG15,Accueil!$B$28)","v":0},{"$f":"COUNTIF(C15:AG15,Accueil!$B$29)","v":0},{"$f":"COUNTIF(C15:AG15,Accueil!$B$30)","v":0},14,null,{"$f":"AI15 +Fev!BH15","v":2},{"$f":"AJ15+Fev!BI15","v":11},{"$f":"AK15+Fev!BJ15","v":7},{"$f":"AL15+Fev!BK15","v":20},{"$f":"AM15+Fev!BL15","v":0},{"$f":"AN15+Fev!BM15","v":1},{"$f":"AO15+Fev!BN15","v":0},{"$f":"AP15+Fev!BO15","v":0},{"$f":"AQ15+Fev!BP15","v":0},{"$f":"AR15+Fev!BQ15","v":0},{"$f":"AS15+Fev!BR15","v":0},{"$f":"AT15+Fev!BS15","v":0},{"$f":"AU15+Fev!BT15","v":0},{"$f":"AV15+Fev!BU15","v":0},{"$f":"AW15+Fev!BV15","v":0},{"$f":"AX15+Fev!BW15","v":0},{"$f":"AY15+Fev!BX15","v":0},{"$f":"AZ15+Fev!BY15","v":0},{"$f":"BA15+Fev!BZ15","v":2},{"$f":"BB15+Fev!CA15","v":0},{"$f":"BC15+Fev!CB15","v":0},{"$f":"BD15+Fev!CC15","v":0},{"$f":"BE15+Fev!CD15","v":0},{"$f":"BF15+Fev!CE15","v":41},null,{"$f":"Fev!CG15","v":0},0,0,null,{"$f":"Fev!CK15","v":0},0,0,null,{"$f":"Fev!CO15","v":0},0,0,null,{"$f":"Fev!CS15","v":0},0,0]
[{"$f":"Fev!A16","v":0},null,null,null,null,null,null,null,null,null,null,null,null,null,null,null,null,null,null,null,"LY",null,null,null,null,null,null,null,null,null,null,null,null,null,{"$f":"COUNTIF(C16:AG16,Accueil!$B$8)","v":0},{"$f":"COUNTIF(C16:AG16,Accueil!$B$9)","v":0},{"$f":"COUNTIF(C16:AG16,Accueil!$B$10)","v":0},{"$f":"COUNTIF(C16:AG16,Accueil!$B$11)","v":0},{"$f":"COUNTIF(C16:AG16,Accueil!$B$12)","v":0},{"$f":"COUNTIF(C16:AG16,Accueil!$B$13)","v":0},{"$f":"COUNTIF(C16:AG16,Accueil!$B$14)","v":0},{"$f":"COUNTIF(C16:AG16,Accueil!$B$15)","v":0},{"$f":"COUNTIF(C16:AG16,Accueil!$B$16)","v":0},{"$f":"COUNTIF(C16:AG16,Accueil!$B$17)","v":0},{"$f":"COUNTIF(C16:AG16,Accueil!$B$18)","v":1},{"$f":"COUNTIF(C16:AG16,Accueil!$B$19)","v":0},{"$f":"COUNTIF(C16:AG16,Accueil!$B$20)","v":0},{"$f":"COUNTIF(C16:AG16,Accueil!$B$21)","v":0},{"$f":"COUNTIF(C16:AG16,Accueil!$B$22)","v":0},{"$f":"COUNTIF(C16:AG16,Accueil!$B$23)","v":0},{"$f":"COUNTIF(C16:AG16,Accueil!$B$24)","v":0},{"$f":"COUNTIF(C16:AG16,Accueil!$B$25)","v":0},{"$f":"COUNTIF(C16:AG16,Accueil!$B$26)","v":0},{"$f":"COUNTIF(C16:AG16,Accueil!$B$27)","v":0},{"$f":"COUNTIF(C16:AG16,Accueil!$B$28)","v":0},{"$f":"COUNTIF(C16:AG16,Accueil!$B$29)","v":0},{"$f":"COUNTIF(C16:AG16,Accueil!$B$30)","v":0},1,null,{"$f":"AI16 +Fev!BH16","v":0},{"$f":"AJ16+Fev!BI16","v":0},{"$f":"AK16+Fev!BJ16","v":0},{"$f":"AL16+Fev!BK16","v":0},{"$f":"AM16+Fev!BL16","v":0},{"$f":"AN16+Fev!BM16","v":0},{"$f":"AO16+Fev!BN16","v":0},{"$f":"AP16+Fev!BO16","v":0},{"$f":"AQ16+Fev!BP16","v":0},{"$f":"AR16+Fev!BQ16","v":0},{"$f":"AS16+Fev!BR16","v":6},{"$f":"AT16+Fev!BS16","v":0},{"$f":"AU16+Fev!BT16","v":0},{"$f":"AV16+Fev!BU16","v":0},{"$f":"AW16+Fev!BV16","v":0},{"$f":"AX16+Fev!BW16","v":0},{"$f":"AY16+Fev!BX16","v":0},{"$f":"AZ16+Fev!BY16","v":0},{"$f":"BA16+Fev!BZ16","v":0},{"$f":"BB16+Fev!CA16","v":0},{"$f":"BC16+Fev!CB16","v":0},{"$f":"BD16+Fev!CC16","v":0},{"$f":"BE16+Fev!CD16","v":0},{"$f":"BF16+Fev!CE16","v":6},null,{"$f":"Fev!CG16","v":0},0,0,null,{"$f":"Fev!CK16","v":0},0,0,null,{"$f":"Fev!CO16","v":0},0,0,null,{"$f":"Fev!CS16","v":0},0,0]
[{"$f":"Fev!A17","v":"Colette"},null,"M2","MP",null,null,null,"MP",null,"M2","AP1",null,"IND",null,null,null,"M2","MP",null,null,null,"MP",null,"M2","MP","AP1",null,null,"MP",null,"MP","M3",null,null,{"$f":"COUNTIF(C17:AG17,Accueil!$B$8)","v":0},{"$f":"COUNTIF(C17:AG17,Accueil!$B$9)","v":4},{"$f":"COUNTIF(C17:AG17,Accueil!$B$10)","v":1},{"$f":"COUNTIF(C17:AG17,Accueil!$B$11)","v":7},{"$f":"COUNTIF(C17:AG17,Accueil!$B$12)","v":2},{"$f":"COUNTIF(C17:AG17,Accueil!$B$13)","v":0},{"$f":"COUNTIF(C17:AG17,Accueil!$B$14)","v":0},{"$f":"COUNTIF(C17:AG17,Accueil!$B$15)","v":0},{"$f":"COUNTIF(C17:AG17,Accueil!$B$16)","v":0},{"$f":"COUNTIF(C17:AG17,Accueil!$B$17)","v":0},{"$f":"COUNTIF(C17:AG17,Accueil!$B$18)","v":0},{"$f":"COUNTIF(C17:AG17,Accueil!$B$19)","v":0},{"$f":"COUNTIF(C17:AG17,Accueil!$B$20)","v":1},{"$f":"COUNTIF(C17:AG17,Accueil!$B$21)","v":0},{"$f":"COUNTIF(C17:AG17,Accueil!$B$22)","v":0},{"$f":"COUNTIF(C17:AG17,Accueil!$B$23)","v":0},{"$f":"COUNTIF(C17:AG17,Accueil!$B$24)","v":0},{"$f":"COUNTIF(C17:AG17,Accueil!$B$25)","v":0},{"$f":"COUNTIF(C17:AG17,Accueil!$B$26)","v":0},{"$f":"COUNTIF(C17:AG17,Accueil!$B$27)","v":0},{"$f":"COUNTIF(C17:AG17,Accueil!$B$28)","v":0},{"$f":"COUNTIF(C17:AG17,Accueil!$B$29)","v":0},{"$f":"COUNTIF(C17:AG17,Accueil!$B$30)","v":0},14,null,{"$f":"AI17 +Fev!BH17","v":0},{"$f":"AJ17+Fev!BI17","v":12},{"$f":"AK17+Fev!BJ17","v":1},{"$f":"AL17+Fev!BK17","v":14},{"$f":"AM17+Fev!BL17","v":4},{"$f":"AN17+Fev!BM17","v":0},{"$f":"AO17+Fev!BN17","v":0},{"$f":"AP17+Fev!BO17","v":0},{"$f":"AQ17+Fev!BP17","v":0},{"$f":"AR17+Fev!BQ17","v":0},{"$f":"AS17+Fev!BR17","v":0},{"$f":"AT17+Fev!BS17","v":0},{"$f":"AU17+Fev!BT17","v":7},{"$f":"AV17+Fev!BU17","v":0},{"$f":"AW17+Fev!BV17","v":0},{"$f":"AX17+Fev!BW17","v":0},{"$f":"AY17+Fev!BX17","v":0},{"$f":"AZ17+Fev!BY17","v":0},{"$f":"BA17+Fev!BZ17","v":0},{"$f":"BB17+Fev!CA17","v":0},{"$f":"BC17+Fev!CB17","v":0},{"$f":"BD17+Fev!CC17","v":0},{"$f":"BE17+Fev!CD17","v":0},{"$f":"BF17+Fev!CE17","v":31},null,{"$f":"Fev!CG17","v":0},0,0,null,{"$f":"Fev!CK17","v":0},0,0,null,{"$f":"Fev!CO17","v":0},0,0,null,{"$f":"Fev!CS17","v":0},0,0]
[{"$f":"Fev!A18","v":0},null,null,null,null,null,null,"LY",null,"LY","LY",null,null,"LY",null,null,"LY",null,null,null,null,"LY",null,"LY","LY",null,null,null,"LY",null,null,"LY",null,null,{"$f":"COUNTIF(C18:AG18,Accueil!$B$8)","v":0},{"$f":"COUNTIF(C18:AG18,Accueil!$B$9)","v":0},{"$f":"COUNTIF(C18:AG18,Accueil!$B$10)","v":0},{"$f":"COUNTIF(C18:AG18,Accueil!$B$11)","v":0},{"$f":"COUNTIF(C18:AG18,Accueil!$B$12)","v":0},{"$f":"COUNTIF(C18:AG18,Accueil!$B$13)","v":0},{"$f":"COUNTIF(C18:AG18,Accueil!$B$14)","v":0},{"$f":"COUNTIF(C18:AG18,Accueil!$B$15)","v":0},{"$f":"COUNTIF(C18:AG18,Accueil!$B$16)","v":0},{"$f":"COUNTIF(C18:AG18,Accueil!$B$17)","v":0},{"$f":"COUNTIF(C18:AG18,Accueil!$B$18)","v":10},{"$f":"COUNTIF(C18:AG18,Accueil!$B$19)","v":0},{"$f":"COUNTIF(C18:AG18,Accueil!$B$20)","v":0},{"$f":"COUNTIF(C18:AG18,Accueil!$B$21)","v":0},{"$f":"COUNTIF(C18:AG18,Accueil!$B$22)","v":0},{"$f":"COUNTIF(C18:AG18,Accueil!$B$23)","v":0},{"$f":"COUNTIF(C18:AG18,Accueil!$B$24)","v":0},{"$f":"COUNTIF(C18:AG18,Accueil!$B$25)","v":0},{"$f":"COUNTIF(C18:AG18,Accueil!$B$26)","v":0},{"$f":"COUNTIF(C18:AG18,Accueil!$B$27)","v":0},{"$f":"COUNTIF(C18:AG18,Accueil!$B$28)","v":0},{"$f":"COUNTIF(C18:AG18,Accueil!$B$29)","v":0},{"$f":"COUNTIF(C18:AG18,Accueil!$B$30)","v":0},10,null,{"$f":"AI18 +Fev!BH18","v":0},{"$f":"AJ18+Fev!BI18","v":0},{"$f":"AK18+Fev!BJ18","v":0},{"$f":"AL18+Fev!BK18","v":1},{"$f":"AM18+Fev!BL18","v":0},{"$f":"AN18+Fev!BM18","v":0},{"$f":"AO18+Fev!BN18","v":0},{"$f":"AP18+Fev!BO18","v":0},{"$f":"AQ18+Fev!BP18","v":0},{"$f":"AR18+Fev!BQ18","v":0},{"$f":"AS18+Fev!BR18","v":32},{"$f":"AT18+Fev!BS18","v":0},{"$f":"AU18+Fev!BT18","v":0},{"$f":"AV18+Fev!BU18","v":0},{"$f":"AW18+Fev!BV18","v":0},{"$f":"AX18+Fev!BW18","v":0},{"$f":"AY18+Fev!BX18","v":0},{"$f":"AZ18+Fev!BY18","v":0},{"$f":"BA18+Fev!BZ18","v":0},{"$f":"BB18+Fev!CA18","v":0},{"$f":"BC18+Fev!CB18","v":0},{"$f":"BD18+Fev!CC18","v":0},{"$f":"BE18+Fev!CD18","v":0},{"$f":"BF18+Fev!CE18","v":33},null,{"$f":"Fev!CG18","v":0},0,0,null,{"$f":"Fev!CK18","v":0},0,0,null,{"$f":"Fev!CO18","v":0},0,0,null,{"$f":"Fev!CS18","v":0},0,0]
[{"$f":"Fev!A19","v":"Lisa"},null,"M2",null,"M3","AP1","MP",null,null,"M2",null,"M3","AP2","MP",null,null,"M2",null,"M3","MP",null,null,null,"CC","CC","Vac","Vac","Vac","Vac","Vac","Vac","Vac","Vac",null,{"$f":"COUNTIF(C19:AG19,Accueil!$B$8)","v":0},{"$f":"COUNTIF(C19:AG19,Accueil!$B$9)","v":3},{"$f":"COUNTIF(C19:AG19,Accueil!$B$10)","v":3},{"$f":"COUNTIF(C19:AG19,Accueil!$B$11)","v":3},{"$f":"COUNTIF(C19:AG19,Accueil!$B$12)","v":1},{"$f":"COUNTIF(C19:AG19,Accueil!$B$13)","v":1},{"$f":"COUNTIF(C19:AG19,Accueil!$B$14)","v":0},{"$f":"COUNTIF(C19:AG19,Accueil!$B$15)","v":0},{"$f":"COUNTIF(C19:AG19,Accueil!$B$16)","v":0},{"$f":"COUNTIF(C19:AG19,Accueil!$B$17)","v":0},{"$f":"COUNTIF(C19:AG19,Accueil!$B$18)","v":0},{"$f":"COUNTIF(C19:AG19,Accueil!$B$19)","v":0},{"$f":"COUNTIF(C19:AG19,Accueil!$B$20)","v":0},{"$f":"COUNTIF(C19:AG19,Accueil!$B$21)","v":0},{"$f":"COUNTIF(C19:AG19,Accueil!$B$22)","v":0},{"$f":"COUNTIF(C19:AG19,Accueil!$B$23)","v":8},{"$f":"COUNTIF(C19:AG19,Accueil!$B$24)","v":0},{"$f":"COUNTIF(C19:AG19,Accueil!$B$25)","v":0},{"$f":"COUNTIF(C19:AG19,Accueil!$B$26)","v":2},{"$f":"COUNTIF(C19:AG19,Accueil!$B$27)","v":0},{"$f":"COUNTIF(C19:AG19,Accueil!$B$28)","v":0},{"$f":"COUNTIF(C19:AG19,Accueil!$B$29)","v":0},{"$f":"COUNTIF(C19:AG19,Accueil!$B$30)","v":0},11,null,{"$f":"AI19 +Fev!BH19","v":4},{"$f":"AJ19+Fev!BI19","v":11},{"$f":"AK19+Fev!BJ19","v":7},{"$f":"AL19+Fev!BK19","v":14},{"$f":"AM19+Fev!BL19","v":3},{"$f":"AN19+Fev!BM19","v":2},{"$f":"AO19+Fev!BN19","v":0},{"$f":"AP19+Fev!BO19","v":0},{"$f":"AQ19+Fev!BP19","v":0},{"$f":"AR19+Fev!BQ19","v":0},{"$f":"AS19+Fev!BR19","v":0},{"$f":"AT19+Fev!BS19","v":0},{"$f":"AU19+Fev!BT19","v":0},{"$f":"AV19+Fev!BU19","v":0},{"$f":"AW19+Fev!BV19","v":0},{"$f":"AX19+Fev!BW19","v":8},{"$f":"AY19+Fev!BX19","v":0},{"$f":"AZ19+Fev!BY19","v":0},{"$f":"BA19+Fev!BZ19","v":2},{"$f":"BB19+Fev!CA19","v":0},{"$f":"BC19+Fev!CB19","v":0},{"$f":"BD19+Fev!CC19","v":0},{"$f":"BE19+Fev!CD19","v":0},{"$f":"BF19+Fev!CE19","v":41},null,{"$f":"Fev!CG19","v":0},8,-8,null,{"$f":"Fev!CK19","v":0},0,0,null,{"$f":"Fev!CO19","v":0},0,0,null,{"$f":"Fev!CS19","v":0},0,0]
[{"$f":"Fev!A20","v":0},null,null,null,null,null,null,null,null,null,null,null,null,null,null,null,null,null,null,null,null,null,null,null,null,null,null,null,null,null,null,null,null,null,{"$f":"COUNTIF(C20:AG20,Accueil!$B$8)","v":0},{"$f":"COUNTIF(C20:AG20,Accueil!$B$9)","v":0},{"$f":"COUNTIF(C20:AG20,Accueil!$B$10)","v":0},{"$f":"COUNTIF(C20:AG20,Accueil!$B$11)","v":0},{"$f":"COUNTIF(C20:AG20,Accueil!$B$12)","v":0},{"$f":"COUNTIF(C20:AG20,Accueil!$B$13)","v":0},{"$f":"COUNTIF(C20:AG20,Accueil!$B$14)","v":0},{"$f":"COUNTIF(C20:AG20,Accueil!$B$15)","v":0},{"$f":"COUNTIF(C20:AG20,Accueil!$B$16)","v":0},{"$f":"COUNTIF(C20:AG20,Accueil!$B$17)","v":0},{"$f":"COUNTIF(C20:AG20,Accueil!$B$18)","v":0},{"$f":"COUNTIF(C20:AG20,Accueil!$B$19)","v":0},{"$f":"COUNTIF(C20:AG20,Accueil!$B$20)","v":0},{"$f":"COUNTIF(C20:AG20,Accueil!$B$21)","v":0},{"$f":"COUNTIF(C20:AG20,Accueil!$B$22)","v":0},{"$f":"COUNTIF(C20:AG20,Accueil!$B$23)","v":0},{"$f":"COUNTIF(C20:AG20,Accueil!$B$24)","v":0},{"$f":"COUNTIF(C20:AG20,Accueil!$B$25)","v":0},{"$f":"COUNTIF(C20:AG20,Accueil!$B$26)","v":0},{"$f":"COUNTIF(C20:AG20,Accueil!$B$27)","v":0},{"$f":"COUNTIF(C20:AG20,Accueil!$B$28)","v":0},{"$f":"COUNTIF(C20:AG20,Accueil!$B$29)","v":0},{"$f":"COUNTIF(C20:AG20,Accueil!$B$30)","v":0},0,null,{"$f":"AI20 +Fev!BH20","v":0},{"$f":"AJ20+Fev!BI20","v":0},{"$f":"AK20+Fev!BJ20","v":0},{"$f":"AL20+Fev!BK20","v":0},{"$f":"AM20+Fev!BL20","v":0},{"$f":"AN20+Fev!BM20","v":0},{"$f":"AO20+Fev!BN20","v":0},{"$f":"AP20+Fev!BO20","v":0},{"$f":"AQ20+Fev!BP20","v":0},{"$f":"AR20+Fev!BQ20","v":0},{"$f":"AS20+Fev!BR20","v":1},{"$f":"AT20+Fev!BS20","v":0},{"$f":"AU20+Fev!BT20","v":0},{"$f":"AV20+Fev!BU20","v":0},{"$f":"AW20+Fev!BV20","v":0},{"$f":"AX20+Fev!BW20","v":0},{"$f":"AY20+Fev!BX20","v":0},{"$f":"AZ20+Fev!BY20","v":0},{"$f":"BA20+Fev!BZ20","v":0},{"$f":"BB20+Fev!CA20","v":0},{"$f":"BC20+Fev!CB20","v":0},{"$f":"BD20+Fev!CC20","v":0},{"$f":"BE20+Fev!CD20","v":0},{"$f":"BF20+Fev!CE20","v":1},null,{"$f":"Fev!CG20","v":0},0,0,null,{"$f":"Fev!CK20","v":0},0,0,null,{"$f":"Fev!CO20","v":0},0,0,null,{"$f":"Fev!CS20","v":0},0,0]
[{"$f":"Fev!A21","v":"Philip"},null,"M1",null,null,null,null,null,"MP","M1",null,null,null,null,"MP","AP1","M1",null,null,null,null,null,"MP","M1",null,null,null,"MP","MP",null,"M1",null,null,null,{"$f":"COUNTIF(C21:AG21,Accueil!$B$8)","v":5},{"$f":"COUNTIF(C21:AG21,Accueil!$B$9)","v":0},{"$f":"COUNTIF(C21:AG21,Accueil!$B$10)","v":0},{"$f":"COUNTIF(C21:AG21,Accueil!$B$11)","v":5},{"$f":"COUNTIF(C21:AG21,Accueil!$B$12)","v":1},{"$f":"COUNTIF(C21:AG21,Accueil!$B$13)","v":0},{"$f":"COUNTIF(C21:AG21,Accueil!$B$14)","v":0},{"$f":"COUNTIF(C21:AG21,Accueil!$B$15)","v":0},{"$f":"COUNTIF(C21:AG21,Accueil!$B$16)","v":0},{"$f":"COUNTIF(C21:AG21,Accueil!$B$17)","v":0},{"$f":"COUNTIF(C21:AG21,Accueil!$B$18)","v":0},{"$f":"COUNTIF(C21:AG21,Accueil!$B$19)","v":0},{"$f":"COUNTIF(C21:AG21,Accueil!$B$20)","v":0},{"$f":"COUNTIF(C21:AG21,Accueil!$B$21)","v":0},{"$f":"COUNTIF(C21:AG21,Accueil!$B$22)","v":0},{"$f":"COUNTIF(C21:AG21,Accueil!$B$23)","v":0},{"$f":"COUNTIF(C21:AG21,Accueil!$B$24)","v":0},{"$f":"COUNTIF(C21:AG21,Accueil!$B$25)","v":0},{"$f":"COUNTIF(C21:AG21,Accueil!$B$26)","v":0},{"$f":"COUNTIF(C21:AG21,Accueil!$B$27)","v":0},{"$f":"COUNTIF(C21:AG21,Accueil!$B$28)","v":0},{"$f":"COUNTIF(C21:AG21,Accueil!$B$29)","v":0},{"$f":"COUNTIF(C21:AG21,Accueil!$B$30)","v":0},11,null,{"$f":"AI21 +Fev!BH21","v":11},{"$f":"AJ21+Fev!BI21","v":0},{"$f":"AK21+Fev!BJ21","v":0},{"$f":"AL21+Fev!BK21","v":11},{"$f":"AM21+Fev!BL21","v":5},{"$f":"AN21+Fev!BM21","v":1},{"$f":"AO21+Fev!BN21","v":0},{"$f":"AP21+Fev!BO21","v":0},{"$f":"AQ21+Fev!BP21","v":0},{"$f":"AR21+Fev!BQ21","v":0},{"$f":"AS21+Fev!BR21","v":0},{"$f":"AT21+Fev!BS21","v":0},{"$f":"AU21+Fev!BT21","v":0},{"$f":"AV21+Fev!BU21","v":0},{"$f":"AW21+Fev!BV21","v":0},{"$f":"AX21+Fev!BW21","v":12},{"$f":"AY21+Fev!BX21","v":0},{"$f":"AZ21+Fev!BY21","v":0},{"$f":"BA21+Fev!BZ21","v":0},{"$f":"BB21+Fev!CA21","v":0},{"$f":"BC21+Fev!CB21","v":0},{"$f":"BD21+Fev!CC21","v":0},{"$f":"BE21+Fev!CD21","v":0},{"$f":"BF21+Fev!CE21","v":28},null,{"$f":"Fev!CG21","v":0},12,-12,null,{"$f":"Fev!CK21","v":0},0,0,null,{"$f":"Fev!CO21","v":0},0,0,null,{"$f":"Fev!CS21","v":0},0,0]
[{"$f":"Fev!A22","v":0},null,null,null,null,null,null,null,null,null,null,null,null,null,null,"BI",null,null,null,null,null,null,null,null,null,null,null,"LY",null,null,null,null,null,null,{"$f":"COUNTIF(C22:AG22,Accueil!$B$8)","v":0},{"$f":"COUNTIF(C22:AG22,Accueil!$B$9)","v":0},{"$f":"COUNTIF(C22:AG22,Accueil!$B$10)","v":0},{"$f":"COUNTIF(C22:AG22,Accueil!$B$11)","v":0},{"$f":"COUNTIF(C22:AG22,Accueil!$B$12)","v":0},{"$f":"COUNTIF(C22:AG22,Accueil!$B$13)","v":0},{"$f":"COUNTIF(C22:AG22,Accueil!$B$14)","v":0},{"$f":"COUNTIF(C22:AG22,Accueil!$B$15)","v":0},{"$f":"COUNTIF(C22:AG22,Accueil!$B$16)","v":0},{"$f":"COUNTIF(C22:AG22,Accueil!$B$17)","v":1},{"$f":"COUNTIF(C22:AG22,Accueil!$B$18)","v":1},{"$f":"COUNTIF(C22:AG22,Accueil!$B$19)","v":0},{"$f":"COUNTIF(C22:AG22,Accueil!$B$20)","v":0},{"$f":"COUNTIF(C22:AG22,Accueil!$B$21)","v":0},{"$f":"COUNTIF(C22:AG22,Accueil!$B$22)","v":0},{"$f":"COUNTIF(C22:AG22,Accueil!$B$23)","v":0},{"$f":"COUNTIF(C22:AG22,Accueil!$B$24)","v":0},{"$f":"COUNTIF(C22:AG22,Accueil!$B$25)","v":0},{"$f":"COUNTIF(C22:AG22,Accueil!$B$26)","v":0},{"$f":"COUNTIF(C22:AG22,Accueil!$B$27)","v":0},{"$f":"COUNTIF(C22:AG22,Accueil!$B$28)","v":0},{"$f":"COUNTIF(C22:AG22,Accueil!$B$29)","v":0},{"$f":"COUNTIF(C22:AG22,Accueil!$B$30)","v":0},2,null,{"$f":"AI22 +Fev!BH22","v":0},{"$f":"AJ22+Fev!BI22","v":0},{"$f":"AK22+Fev!BJ22","v":0},{"$f":"AL22+Fev!BK22","v":0},{"$f":"AM22+Fev!BL22","v":0},{"$f":"AN22+Fev!BM22","v":0},{"$f":"AO22+Fev!BN22","v":0},{"$f":"AP22+Fev!BO22","v":0},{"$f":"AQ22+Fev!BP22","v":0},{"$f":"AR22+Fev!BQ22","v":8},{"$f":"AS22+Fev!BR22","v":3},{"$f":"AT22+Fev!BS22","v":0},{"$f":"AU22+Fev!BT22","v":0},{"$f":"AV22+Fev!BU22","v":0},{"$f":"AW22+Fev!BV22","v":0},{"$f":"AX22+Fev!BW22","v":0},{"$f":"AY22+Fev!BX22","v":0},{"$f":"AZ22+Fev!BY22","v":0},{"$f":"BA22+Fev!BZ22","v":0},{"$f":"BB22+Fev!CA22","v":0},{"$f":"BC22+Fev!CB22","v":0},{"$f":"BD22+Fev!CC22","v":0},{"$f":"BE22+Fev!CD22","v":0},{"$f":"BF22+Fev!CE22","v":11},null,{"$f":"Fev!CG22","v":0},0,0,null,{"$f":"Fev!CK22","v":0},0,0,null,{"$f":"Fev!CO22","v":0},0,0,null,{"$f":"Fev!CS22","v":0},0,0]
[{"$f":"Fev!A23","v":"Dania"},null,null,null,"M2",null,null,null,null,null,null,"M2",null,null,null,null,null,"M2","CC",null,null,null,null,null,null,"M2",null,null,null,null,null,null,"M3",null,{"$f":"COUNTIF(C23:AG23,Accueil!$B$8)","v":0},{"$f":"COUNTIF(C23:AG23,Accueil!$B$9)","v":4},{"$f":"COUNTIF(C23:AG23,Accueil!$B$10)","v":1},{"$f":"COUNTIF(C23:AG23,Accueil!$B$11)","v":0},{"$f":"COUNTIF(C23:AG23,Accueil!$B$12)","v":0},{"$f":"COUNTIF(C23:AG23,Accueil!$B$13)","v":0},{"$f":"COUNTIF(C23:AG23,Accueil!$B$14)","v":0},{"$f":"COUNTIF(C23:AG23,Accueil!$B$15)","v":0},{"$f":"COUNTIF(C23:AG23,Accueil!$B$16)","v":0},{"$f":"COUNTIF(C23:AG23,Accueil!$B$17)","v":0},{"$f":"COUNTIF(C23:AG23,Accueil!$B$18)","v":0},{"$f":"COUNTIF(C23:AG23,Accueil!$B$19)","v":0},{"$f":"COUNTIF(C23:AG23,Accueil!$B$20)","v":0},{"$f":"COUNTIF(C23:AG23,Accueil!$B$21)","v":0},{"$f":"COUNTIF(C23:AG23,Accueil!$B$22)","v":0},{"$f":"COUNTIF(C23:AG23,Accueil!$B$23)","v":0},{"$f":"COUNTIF(C23:AG23,Accueil!$B$24)","v":0},{"$f":"COUNTIF(C23:AG23,Accueil!$B$25)","v":0},{"$f":"COUNTIF(C23:AG23,Accueil!$B$26)","v":1},{"$f":"COUNTIF(C23:AG23,Accueil!$B$27)","v":0},{"$f":"COUNTIF(C23:AG23,Accueil!$B$28)","v":0},{"$f":"COUNTIF(C23:AG23,Accueil!$B$29)","v":0},{"$f":"COUNTIF(C23:AG23,Accueil!$B$30)","v":0},5,null,{"$f":"AI23 +Fev!BH23","v":0},{"$f":"AJ23+Fev!BI23","v":7},{"$f":"AK23+Fev!BJ23","v":1},{"$f":"AL23+Fev!BK23","v":0},{"$f":"AM23+Fev!BL23","v":0},{"$f":"AN23+Fev!BM23","v":0},{"$f":"AO23+Fev!BN23","v":0},{"$f":"AP23+Fev!BO23","v":0},{"$f":"AQ23+Fev!BP23","v":0},{"$f":"AR23+Fev!BQ23","v":0},{"$f":"AS23+Fev!BR23","v":0},{"$f":"AT23+Fev!BS23","v":0},{"$f":"AU23+Fev!BT23","v":0},{"$f":"AV23+Fev!BU23","v":0},{"$f":"AW23+Fev!BV23","v":0},{"$f":"AX23+Fev!BW23","v":0},{"$f":"AY23+Fev!BX23","v":0},{"$f":"AZ23+Fev!BY23","v":0},{"$f":"BA23+Fev!BZ23","v":2},{"$f":"BB23+Fev!CA23","v":0},{"$f":"BC23+Fev!CB23","v":0},{"$f":"BD23+Fev!CC23","v":0},{"$f":"BE23+Fev!CD23","v":0},{"$f":"BF23+Fev!CE23","v":8},null,{"$f":"Fev!CG23","v":0},0,0,null,{"$f":"Fev!CK23","v":0},0,0,null,{"$f":"Fev!CO23","v":0},0,0,null,{"$f":"Fev!CS23","v":0},0,0]
[{"$f":"Fev!A24","v":0},null,null,null,null,null,null,null,null,null,null,null,null,null,null,null,null,null,null,null,null,null,null,null,null,null,null,null,null,null,null,null,null,null,{"$f":"COUNTIF(C24:AG24,Accueil!$B$8)","v":0},{"$f":"COUNTIF(C24:AG24,Accueil!$B$9)","v":0},{"$f":"COUNTIF(C24:AG24,Accueil!$B$10)","v":0},{"$f":"COUNTIF(C24:AG24,Accueil!$B$11)","v":0},{"$f":"COUNTIF(C24:AG24,Accueil!$B$12)","v":0},{"$f":"COUNTIF(C24:AG24,Accueil!$B$13)","v":0},{"$f":"COUNTIF(C24:AG24,Accueil!$B$14)","v":0},{"$f":"COUNTIF(C24:AG24,Accueil!$B$15)","v":0},{"$f":"COUNTIF(C24:AG24,Accueil!$B$16)","v":0},{"$f":"COUNTIF(C24:AG24,Accueil!$B$17)","v":0},{"$f":"COUNTIF(C24:AG24,Accueil!$B$18)","v":0},{"$f":"COUNTIF(C24:AG24,Accueil!$B$19)","v":0},{"$f":"COUNTIF(C24:AG24,Accueil!$B$20)","v":0},{"$f":"COUNTIF(C24:AG24,Accueil!$B$21)","v":0},{"$f":"COUNTIF(C24:AG24,Accueil!$B$22)","v":0},{"$f":"COUNTIF(C24:AG24,Accueil!$B$23)","v":0},{"$f":"COUNTIF(C24:AG24,Accueil!$B$24)","v":0},{"$f":"COUNTIF(C24:AG24,Accueil!$B$25)","v":0},{"$f":"COUNTIF(C24:AG24,Accueil!$B$26)","v":0},{"$f":"COUNTIF(C24:AG24,Accueil!$B$27)","v":0},{"$f":"COUNTIF(C24:AG24,Accueil!$B$28)","v":0},{"$f":"COUNTIF(C24:AG24,Accueil!$B$29)","v":0},{"$f":"COUNTIF(C24:AG24,Accueil!$B$30)","v":0},0,null,{"$f":"AI24 +Fev!BH24","v":0},{"$f":"AJ24+Fev!BI24","v":0},{"$f":"AK24+Fev!BJ24","v":0},{"$f":"AL24+Fev!BK24","v":0},{"$f":"AM24+Fev!BL24","v":0},{"$f":"AN24+Fev!BM24","v":0},{"$f":"AO24+Fev!BN24","v":0},{"$f":"AP24+Fev!BO24","v":0},{"$f":"AQ24+Fev!BP24","v":0},{"$f":"AR24+Fev!BQ24","v":0},{"$f":"AS24+Fev!BR24","v":0},{"$f":"AT24+Fev!BS24","v":0},{"$f":"AU24+Fev!BT24","v":0},{"$f":"AV24+Fev!BU24","v":0},{"$f":"AW24+Fev!BV24","v":0},{"$f":"AX24+Fev!BW24","v":0},{"$f":"AY24+Fev!BX24","v":0},{"$f":"AZ24+Fev!BY24","v":0},{"$f":"BA24+Fev!BZ24","v":0},{"$f":"BB24+Fev!CA24","v":0},{"$f":"BC24+Fev!CB24","v":0},{"$f":"BD24+Fev!CC24","v":0},{"$f":"BE24+Fev!CD24","v":0},{"$f":"BF24+Fev!CE24","v":0},null,{"$f":"Fev!CG24","v":0},0,0,null,{"$f":"Fev!CK24","v":0},0,0,null,{"$f":"Fev!CO24","v":0},0,0,null,{"$f":"Fev!CS24","v":0},0,0]
[{"$f":"Fev!A25","v":"Claudia"},null,null,null,"M2",null,null,null,null,null,null,null,null,null,null,null,null,null,null,null,null,null,null,null,null,"M2",null,null,null,null,null,null,"M2",null,{"$f":"COUNTIF(C25:AG25,Accueil!$B$8)","v":0},{"$f":"COUNTIF(C25:AG25,Accueil!$B$9)","v":3},{"$f":"COUNTIF(C25:AG25,Accueil!$B$10)","v":0},{"$f":"COUNTIF(C25:AG25,Accueil!$B$11)","v":0},{"$f":"COUNTIF(C25:AG25,Accueil!$B$12)","v":0},{"$f":"COUNTIF(C25:AG25,Accueil!$B$13)","v":0},{"$f":"COUNTIF(C25:AG25,Accueil!$B$14)","v":0},{"$f":"COUNTIF(C25:AG25,Accueil!$B$15)","v":0},{"$f":"COUNTIF(C25:AG25,Accueil!$B$16)","v":0},{"$f":"COUNTIF(C25:AG25,Accueil!$B$17)","v":0},{"$f":"COUNTIF(C25:AG25,Accueil!$B$18)","v":0},{"$f":"COUNTIF(C25:AG25,Accueil!$B$19)","v":0},{"$f":"COUNTIF(C25:AG25,Accueil!$B$20)","v":0},{"$f":"COUNTIF(C25:AG25,Accueil!$B$21)","v":0},{"$f":"COUNTIF(C25:AG25,Accueil!$B$22)","v":0},{"$f":"COUNTIF(C25:AG25,Accueil!$B$23)","v":0},{"$f":"COUNTIF(C25:AG25,Accueil!$B$24)","v":0},{"$f":"COUNTIF(C25:AG25,Accueil!$B$25)","v":0},{"$f":"COUNTIF(C25:AG25,Accueil!$B$26)","v":0},{"$f":"COUNTIF(C25:AG25,Accueil!$B$27)","v":0},{"$f":"COUNTIF(C25:AG25,Accueil!$B$28)","v":0},{"$f":"COUNTIF(C25:AG25,Accueil!$B$29)","v":0},{"$f":"COUNTIF(C25:AG25,Accueil!$B$30)","v":0},3,null,{"$f":"AI25 +Fev!BH25","v":1},{"$f":"AJ25+Fev!BI25","v":3},{"$f":"AK25+Fev!BJ25","v":1},{"$f":"AL25+Fev!BK25","v":0},{"$f":"AM25+Fev!BL25","v":0},{"$f":"AN25+Fev!BM25","v":0},{"$f":"AO25+Fev!BN25","v":0},{"$f":"AP25+Fev!BO25","v":0},{"$f":"AQ25+Fev!BP25","v":0},{"$f":"AR25+Fev!BQ25","v":0},{"$f":"AS25+Fev!BR25","v":0},{"$f":"AT25+Fev!BS25","v":0},{"$f":"AU25+Fev!BT25","v":0},{"$f":"AV25+Fev!BU25","v":0},{"$f":"AW25+Fev!BV25","v":0},{"$f":"AX25+Fev!BW25","v":9},{"$f":"AY25+Fev!BX25","v":0},{"$f":"AZ25+Fev!BY25","v":0},{"$f":"BA25+Fev!BZ25","v":0},{"$f":"BB25+Fev!CA25","v":0},{"$f":"BC25+Fev!CB25","v":0},{"$f":"BD25+Fev!CC25","v":0},{"$f":"BE25+Fev!CD25","v":0},{"$f":"BF25+Fev!CE25","v":5},null,{"$f":"Fev!CG25","v":0},9,-9,null,{"$f":"Fev!CK25","v":0},0,0,null,{"$f":"Fev!CO25","v":0},0,0,null,{"$f":"Fev!CS25","v":0},0,0]
[{"$f":"Fev!A26","v":"FRPI"},null,null,null,null,null,null,null,null,null,null,null,null,null,null,null,null,null,null,null,null,null,null,null,null,null,null,null,null,null,null,null,"BI",null,{"$f":"COUNTIF(C26:AG26,Accueil!$B$8)","v":0},{"$f":"COUNTIF(C26:AG26,Accueil!$B$9)","v":0},{"$f":"COUNTIF(C26:AG26,Accueil!$B$10)","v":0},{"$f":"COUNTIF(C26:AG26,Accueil!$B$11)","v":0},{"$f":"COUNTIF(C26:AG26,Accueil!$B$12)","v":0},{"$f":"COUNTIF(C26:AG26,Accueil!$B$13)","v":0},{"$f":"COUNTIF(C26:AG26,Accueil!$B$14)","v":0},{"$f":"COUNTIF(C26:AG26,Accueil!$B$15)","v":0},{"$f":"COUNTIF(C26:AG26,Accueil!$B$16)","v":0},{"$f":"COUNTIF(C26:AG26,Accueil!$B$17)","v":1},{"$f":"COUNTIF(C26:AG26,Accueil!$B$18)","v":0},{"$f":"COUNTIF(C26:AG26,Accueil!$B$19)","v":0},{"$f":"COUNTIF(C26:AG26,Accueil!$B$20)","v":0},{"$f":"COUNTIF(C26:AG26,Accueil!$B$21)","v":0},{"$f":"COUNTIF(C26:AG26,Accueil!$B$22)","v":0},{"$f":"COUNTIF(C26:AG26,Accueil!$B$23)","v":0},{"$f":"COUNTIF(C26:AG26,Accueil!$B$24)","v":0},{"$f":"COUNTIF(C26:AG26,Accueil!$B$25)","v":0},{"$f":"COUNTIF(C26:AG26,Accueil!$B$26)","v":0},{"$f":"COUNTIF(C26:AG26,Accueil!$B$27)","v":0},{"$f":"COUNTIF(C26:AG26,Accueil!$B$28)","v":0},{"$f":"COUNTIF(C26:AG26,Accueil!$B$29)","v":0},{"$f":"COUNTIF(C26:AG26,Accueil!$B$30)","v":0},1,null,{"$f":"AI26 +Fev!BH26","v":0},{"$f":"AJ26+Fev!BI26","v":0},{"$f":"AK26+Fev!BJ26","v":0},{"$f":"AL26+Fev!BK26","v":0},{"$f":"AM26+Fev!BL26","v":0},{"$f":"AN26+Fev!BM26","v":0},{"$f":"AO26+Fev!BN26","v":0},{"$f":"AP26+Fev!BO26","v":0},{"$f":"AQ26+Fev!BP26","v":0},{"$f":"AR26+Fev!BQ26","v":2},{"$f":"AS26+Fev!BR26","v":9},{"$f":"AT26+Fev!BS26","v":0},{"$f":"AU26+Fev!BT26","v":0},{"$f":"AV26+Fev!BU26","v":0},{"$f":"AW26+Fev!BV26","v":0},{"$f":"AX26+Fev!BW26","v":5},{"$f":"AY26+Fev!BX26","v":0},{"$f":"AZ26+Fev!BY26","v":0},{"$f":"BA26+Fev!BZ26","v":0},{"$f":"BB26+Fev!CA26","v":0},{"$f":"BC26+Fev!CB26","v":0},{"$f":"BD26+Fev!CC26","v":0},{"$f":"BE26+Fev!CD26","v":0},{"$f":"BF26+Fev!CE26","v":11},null,{"$f":"Fev!CG26","v":0},5,-5,null,{"$f":"Fev!CK26","v":0},0,0,null,{"$f":"Fev!CO26","v":0},0,0,null,{"$f":"Fev!CS26","v":0},0,0]
[{"$f":"Fev!A27","v":0},null,null,null,null,null,null,null,null,null,null,null,null,null,null,null,null,null,null,null,null,null,null,null,null,null,null,null,null,null,null,null,null,null,{"$f":"COUNTIF(C27:AG27,Accueil!$B$8)","v":0},{"$f":"COUNTIF(C27:AG27,Accueil!$B$9)","v":0},{"$f":"COUNTIF(C27:AG27,Accueil!$B$10)","v":0},{"$f":"COUNTIF(C27:AG27,Accueil!$B$11)","v":0},{"$f":"COUNTIF(C27:AG27,Accueil!$B$12)","v":0},{"$f":"COUNTIF(C27:AG27,Accueil!$B$13)","v":0},{"$f":"COUNTIF(C27:AG27,Accueil!$B$14)","v":0},{"$f":"COUNTIF(C27:AG27,Accueil!$B$15)","v":0},{"$f":"COUNTIF(C27:AG27,Accueil!$B$16)","v":0},{"$f":"COUNTIF(C27:AG27,Accueil!$B$17)","v":0},{"$f":"COUNTIF(C27:AG27,Accueil!$B$18)","v":0},{"$f":"COUNTIF(C27:AG27,Accueil!$B$19)","v":0},{"$f":"COUNTIF(C27:AG27,Accueil!$B$20)","v":0},{"$f":"COUNTIF(C27:AG27,Accueil!$B$21)","v":0},{"$f":"COUNTIF(C27:AG27,Accueil!$B$22)","v":0},{"$f":"COUNTIF(C27:AG27,Accueil!$B$23)","v":0},{"$f":"COUNTIF(C27:AG27,Accueil!$B$24)","v":0},{"$f":"COUNTIF(C27:AG27,Accueil!$B$25)","v":0},{"$f":"COUNTIF(C27:AG27,Accueil!$B$26)","v":0},{"$f":"COUNTIF(C27:AG27,Accueil!$B$27)","v":0},{"$f":"COUNTIF(C27:AG27,Accueil!$B$28)","v":0},{"$f":"COUNTIF(C27:AG27,Accueil!$B$29)","v":0},{"$f":"COUNTIF(C27:AG27,Accueil!$B$30)","v":0},0,null,{"$f":"AI27 +Fev!BH27","v":0},{"$f":"AJ27+Fev!BI27","v":0},{"$f":"AK27+Fev!BJ27","v":{"$error":"#VALUE!"}},{"$f":"AL27+Fev!BK27","v":0},{"$f":"AM27+Fev!BL27","v":0},{"$f":"AN27+Fev!BM27","v":0},{"$f":"AO27+Fev!BN27","v":0},{"$f":"AP27+Fev!BO27","v":{"$error":"#VALUE!"}},{"$f":"AQ27+Fev!BP27","v":0},{"$f":"AR27+Fev!BQ27","v":0},{"$f":"AS27+Fev!BR27","v":0},{"$f":"AT27+Fev!BS27","v":0},{"$f":"AU27+Fev!BT27","v":0},{"$f":"AV27+Fev!BU27","v":0},{"$f":"AW27+Fev!BV27","v":0},{"$f":"AX27+Fev!BW27","v":0},{"$f":"AY27+Fev!BX27","v":0},{"$f":"AZ27+Fev!BY27","v":0},{"$f":"BA27+Fev!BZ27","v":0},{"$f":"BB27+Fev!CA27","v":0},{"$f":"BC27+Fev!CB27","v":0},{"$f":"BD27+Fev!CC27","v":0},{"$f":"BE27+Fev!CD27","v":0},{"$f":"BF27+Fev!CE27","v":0},null,{"$f":"Fev!CG27","v":0},0,0,null,{"$f":"Fev!CK27","v":0},0,0,null,{"$f":"Fev!CO27","v":0},0,0,null,{"$f":"Fev!CS27","v":0},0,0]
[{"$f":"Fev!A28","v":"Frédéric"},null,null,null,null,null,null,null,null,"Nuit",null,null,null,null,null,null,null,"Nuit",null,null,null,null,null,null,"Nuit",null,null,null,null,null,null,"Nuit",null,null,{"$f":"COUNTIF(C28:AG28,Accueil!$B$8)","v":0},{"$f":"COUNTIF(C28:AG28,Accueil!$B$9)","v":0},{"$f":"COUNTIF(C28:AG28,Accueil!$B$10)","v":0},{"$f":"COUNTIF(C28:AG28,Accueil!$B$11)","v":0},{"$f":"COUNTIF(C28:AG28,Accueil!$B$12)","v":0},{"$f":"COUNTIF(C28:AG28,Accueil!$B$13)","v":0},{"$f":"COUNTIF(C28:AG28,Accueil!$B$14)","v":0},{"$f":"COUNTIF(C28:AG28,Accueil!$B$15)","v":0},{"$f":"COUNTIF(C28:AG28,Accueil!$B$16)","v":4},{"$f":"COUNTIF(C28:AG28,Accueil!$B$17)","v":0},{"$f":"COUNTIF(C28:AG28,Accueil!$B$18)","v":0},{"$f":"COUNTIF(C28:AG28,Accueil!$B$19)","v":0},{"$f":"COUNTIF(C28:AG28,Accueil!$B$20)","v":0},{"$f":"COUNTIF(C28:AG28,Accueil!$B$21)","v":0},{"$f":"COUNTIF(C28:AG28,Accueil!$B$22)","v":0},{"$f":"COUNTIF(C28:AG28,Accueil!$B$23)","v":0},{"$f":"COUNTIF(C28:AG28,Accueil!$B$24)","v":0},{"$f":"COUNTIF(C28:AG28,Accueil!$B$25)","v":0},{"$f":"COUNTIF(C28:AG28,Accueil!$B$26)","v":0},{"$f":"COUNTIF(C28:AG28,Accueil!$B$27)","v":0},{"$f":"COUNTIF(C28:AG28,Accueil!$B$28)","v":0},{"$f":"COUNTIF(C28:AG28,Accueil!$B$29)","v":0},{"$f":"COUNTIF(C28:AG28,Accueil!$B$30)","v":0},4,null,{"$f":"AI28 +Fev!BH28","v":{"$error":"#VALUE!"}},{"$f":"AJ28+Fev!BI28","v":{"$error":"#VALUE!"}},{"$f":"AK28+Fev!BJ28","v":0},{"$f":"AL28+Fev!BK28","v":{"$error":"#VALUE!"}},{"$f":"AM28+Fev!BL28","v":0},{"$f":"AN28+Fev!BM28","v":{"$error":"#VALUE!"}},{"$f":"AO28+Fev!BN28","v":{"$error":"#VALUE!"}},{"$f":"AP28+Fev!BO28","v":0},{"$f":"AQ28+Fev!BP28","v":16},{"$f":"AR28+Fev!BQ28","v":0},{"$f":"AS28+Fev!BR28","v":0},{"$f":"AT28+Fev!BS28","v":0},{"$f":"AU28+Fev!BT28","v":0},{"$f":"AV28+Fev!BU28","v":0},{"$f":"AW28+Fev!BV28","v":0},{"$f":"AX28+Fev!BW28","v":0},{"$f":"AY28+Fev!BX28","v":0},{"$f":"AZ28+Fev!BY28","v":0},{"$f":"BA28+Fev!BZ28","v":0},{"$f":"BB28+Fev!CA28","v":0},{"$f":"BC28+Fev!CB28","v":0},{"$f":"BD28+Fev!CC28","v":0},{"$f":"BE28+Fev!CD28","v":0},{"$f":"BF28+Fev!CE28","v":16},null,{"$f":"Fev!CG28","v":0},0,0,null,{"$f":"Fev!CK28","v":0},0,0,null,{"$f":"Fev!CO28","v":0},0,0,null,{"$f":"Fev!CS28","v":0},0,0]
[{"$f":"Fev!A29","v":"Ibrahim"},null,null,null,"Nuit",null,null,"Nuit","Nuit",null,null,null,"Nuit","Nuit","Nuit",null,null,null,"Nuit","Nuit",null,"Nuit",null,null,null,null,"Nuit",null,"Nuit","Nuit",null,null,"Nuit",null,{"$f":"COUNTIF(C29:AG29,Accueil!$B$8)","v":0},{"$f":"COUNTIF(C29:AG29,Accueil!$B$9)","v":0},{"$f":"COUNTIF(C29:AG29,Accueil!$B$10)","v":0},{"$f":"COUNTIF(C29:AG29,Accueil!$B$11)","v":0},{"$f":"COUNTIF(C29:AG29,Accueil!$B$12)","v":0},{"$f":"COUNTIF(C29:AG29,Accueil!$B$13)","v":0},{"$f":"COUNTIF(C29:AG29,Accueil!$B$14)","v":0},{"$f":"COUNTIF(C29:AG29,Accueil!$B$15)","v":0},{"$f":"COUNTIF(C29:AG29,Accueil!$B$16)","v":13},{"$f":"COUNTIF(C29:AG29,Accueil!$B$17)","v":0},{"$f":"COUNTIF(C29:AG29,Accueil!$B$18)","v":0},{"$f":"COUNTIF(C29:AG29,Accueil!$B$19)","v":0},{"$f":"COUNTIF(C29:AG29,Accueil!$B$20)","v":0},{"$f":"COUNTIF(C29:AG29,Accueil!$B$21)","v":0},{"$f":"COUNTIF(C29:AG29,Accueil!$B$22)","v":0},{"$f":"COUNTIF(C29:AG29,Accueil!$B$23)","v":0},{"$f":"COUNTIF(C29:AG29,Accueil!$B$24)","v":0},{"$f":"COUNTIF(C29:AG29,Accueil!$B$25)","v":0},{"$f":"COUNTIF(C29:AG29,Accueil!$B$26)","v":0},{"$f":"COUNTIF(C29:AG29,Accueil!$B$27)","v":0},{"$f":"COUNTIF(C29:AG29,Accueil!$B$28)","v":0},{"$f":"COUNTIF(C29:AG29,Accueil!$B$29)","v":0},{"$f":"COUNTIF(C29:AG29,Accueil!$B$30)","v":0},13,null,{"$f":"AI29 +Fev!BH29","v":0},{"$f":"AJ29+Fev!BI29","v":0},{"$f":"AK29+Fev!BJ29","v":0},{"$f":"AL29+Fev!BK29","v":0},{"$f":"AM29+Fev!BL29","v":{"$error":"#VALUE!"}},{"$f":"AN29+Fev!BM29","v":0},{"$f":"AO29+Fev!BN29","v":0},{"$f":"AP29+Fev!BO29","v":0},{"$f":"AQ29+Fev!BP29","v":28},{"$f":"AR29+Fev!BQ29","v":0},{"$f":"AS29+Fev!BR29","v":0},{"$f":"AT29+Fev!BS29","v":0},{"$f":"AU29+Fev!BT29","v":0},{"$f":"AV29+Fev!BU29","v":0},{"$f":"AW29+Fev!BV29","v":0},{"$f":"AX29+Fev!BW29","v":0},{"$f":"AY29+Fev!BX29","v":0},{"$f":"AZ29+Fev!BY29","v":0},{"$f":"BA29+Fev!BZ29","v":0},{"$f":"BB29+Fev!CA29","v":0},{"$f":"BC29+Fev!CB29","v":0},{"$f":"BD29+Fev!CC29","v":0},{"$f":"BE29+Fev!CD29","v":0},{"$f":"BF29+Fev!CE29","v":28},null,{"$f":"Fev!CG29","v":0},0,0,null,{"$f":"Fev!CK29","v":0},0,0,null,{"$f":"Fev!CO29","v":0},0,0,null,{"$f":"Fev!CS29","v":0},0,0]
[{"$f":"Fev!A30","v":"Julien"},null,null,null,null,"Nuit","Nuit",null,null,null,null,null,null,null,null,"Nuit",null,null,null,null,"Nuit",null,null,null,null,null,null,null,null,null,null,null,null,null,{"$f":"COUNTIF(C30:AG30,Accueil!$B$8)","v":0},{"$f":"COUNTIF(C30:AG30,Accueil!$B$9)","v":0},{"$f":"COUNTIF(C30:AG30,Accueil!$B$10)","v":0},{"$f":"COUNTIF(C30:AG30,Accueil!$B$11)","v":0},{"$f":"COUNTIF(C30:AG30,Accueil!$B$12)","v":0},{"$f":"COUNTIF(C30:AG30,Accueil!$B$13)","v":0},{"$f":"COUNTIF(C30:AG30,Accueil!$B$14)","v":0},{"$f":"COUNTIF(C30:AG30,Accueil!$B$15)","v":0},{"$f":"COUNTIF(C30:AG30,Accueil!$B$16)","v":4},{"$f":"COUNTIF(C30:AG30,Accueil!$B$17)","v":0},{"$f":"COUNTIF(C30:AG30,Accueil!$B$18)","v":0},{"$f":"COUNTIF(C30:AG30,Accueil!$B$19)","v":0},{"$f":"COUNTIF(C30:AG30,Accueil!$B$20)","v":0},{"$f":"COUNTIF(C30:AG30,Accueil!$B$21)","v":0},{"$f":"COUNTIF(C30:AG30,Accueil!$B$22)","v":0},{"$f":"COUNTIF(C30:AG30,Accueil!$B$23)","v":0},{"$f":"COUNTIF(C30:AG30,Accueil!$B$24)","v":0},{"$f":"COUNTIF(C30:AG30,Accueil!$B$25)","v":0},{"$f":"COUNTIF(C30:AG30,Accueil!$B$26)","v":0},{"$f":"COUNTIF(C30:AG30,Accueil!$B$27)","v":0},{"$f":"COUNTIF(C30:AG30,Accueil!$B$28)","v":0},{"$f":"COUNTIF(C30:AG30,Accueil!$B$29)","v":0},{"$f":"COUNTIF(C30:AG30,Accueil!$B$30)","v":0},4,null,{"$f":"AI30 +Fev!BH30","v":0},{"$f":"AJ30+Fev!BI30","v":{"$error":"#VALUE!"}},{"$f":"AK30+Fev!BJ30","v":{"$error":"#VALUE!"}},{"$f":"AL30+Fev!BK30","v":{"$error":"#VALUE!"}},{"$f":"AM30+Fev!BL30","v":{"$error":"#VALUE!"}},{"$f":"AN30+Fev!BM30","v":{"$error":"#VALUE!"}},{"$f":"AO30+Fev!BN30","v":0},{"$f":"AP30+Fev!BO30","v":0},{"$f":"AQ30+Fev!BP30","v":14},{"$f":"AR30+Fev!BQ30","v":0},{"$f":"AS30+Fev!BR30","v":0},{"$f":"AT30+Fev!BS30","v":0},{"$f":"AU30+Fev!BT30","v":0},{"$f":"AV30+Fev!BU30","v":0},{"$f":"AW30+Fev!BV30","v":0},{"$f":"AX30+Fev!BW30","v":5},{"$f":"AY30+Fev!BX30","v":0},{"$f":"AZ30+Fev!BY30","v":0},{"$f":"BA30+Fev!BZ30","v":0},{"$f":"BB30+Fev!CA30","v":0},{"$f":"BC30+Fev!CB30","v":0},{"$f":"BD30+Fev!CC30","v":0},{"$f":"BE30+Fev!CD30","v":0},{"$f":"BF30+Fev!CE30","v":14},null,{"$f":"Fev!CG30","v":0},5,-5,null,{"$f":"Fev!CK30","v":0},0,0,null,{"$f":"Fev!CO30","v":0},0,0,null,{"$f":"Fev!CS30","v":0},0,0]
[{"$f":"Fev!A31","v":"Mario"},null,"IND","Nuit","IND","IND","IND","IND","IND","IND","IND","IND","IND","IND","IND","IND","IND","IND","IND","IND","IND","IND","IND","Nuit","IND","Nuit","IND","Nuit","IND","IND","Nuit","IND","IND",null,{"$f":"COUNTIF(C31:AG31,Accueil!$B$8)","v":0},{"$f":"COUNTIF(C31:AG31,Accueil!$B$9)","v":0},{"$f":"COUNTIF(C31:AG31,Accueil!$B$10)","v":0},{"$f":"COUNTIF(C31:AG31,Accueil!$B$11)","v":0},{"$f":"COUNTIF(C31:AG31,Accueil!$B$12)","v":0},{"$f":"COUNTIF(C31:AG31,Accueil!$B$13)","v":0},{"$f":"COUNTIF(C31:AG31,Accueil!$B$14)","v":0},{"$f":"COUNTIF(C31:AG31,Accueil!$B$15)","v":0},{"$f":"COUNTIF(C31:AG31,Accueil!$B$16)","v":5},{"$f":"COUNTIF(C31:AG31,Accueil!$B$17)","v":0},{"$f":"COUNTIF(C31:AG31,Accueil!$B$18)","v":0},{"$f":"COUNTIF(C31:AG31,Accueil!$B$19)","v":0},{"$f":"COUNTIF(C31:AG31,Accueil!$B$20)","v":26},{"$f":"COUNTIF(C31:AG31,Accueil!$B$21)","v":0},{"$f":"COUNTIF(C31:AG31,Accueil!$B$22)","v":0},{"$f":"COUNTIF(C31:AG31,Accueil!$B$23)","v":0},{"$f":"COUNTIF(C31:AG31,Accueil!$B$24)","v":0},{"$f":"COUNTIF(C31:AG31,Accueil!$B$25)","v":0},{"$f":"COUNTIF(C31:AG31,Accueil!$B$26)","v":0},{"$f":"COUNTIF(C31:AG31,Accueil!$B$27)","v":0},{"$f":"COUNTIF(C31:AG31,Accueil!$B$28)","v":0},{"$f":"COUNTIF(C31:AG31,Accueil!$B$29)","v":0},{"$f":"COUNTIF(C31:AG31,Accueil!$B$30)","v":0},5,null,{"$f":"AI31 +Fev!BH31","v":0},{"$f":"AJ31+Fev!BI31","v":0},{"$f":"AK31+Fev!BJ31","v":0},{"$f":"AL31+Fev!BK31","v":0},{"$f":"AM31+Fev!BL31","v":0},{"$f":"AN31+Fev!BM31","v":0},{"$f":"AO31+Fev!BN31","v":0},{"$f":"AP31+Fev!BO31","v":0},{"$f":"AQ31+Fev!BP31","v":9},{"$f":"AR31+Fev!BQ31","v":0},{"$f":"AS31+Fev!BR31","v":0},{"$f":"AT31+Fev!BS31","v":0},{"$f":"AU31+Fev!BT31","v":26},{"$f":"AV31+Fev!BU31","v":0},{"$f":"AW31+Fev!BV31","v":0},{"$f":"AX31+Fev!BW31","v":29},{"$f":"AY31+Fev!BX31","v":0},{"$f":"AZ31+Fev!BY31","v":0},{"$f":"BA31+Fev!BZ31","v":0},{"$f":"BB31+Fev!CA31","v":0},{"$f":"BC31+Fev!CB31","v":0},{"$f":"BD31+Fev!CC31","v":0},{"$f":"BE31+Fev!CD31","v":0},{"$f":"BF31+Fev!CE31","v":9},null,{"$f":"Fev!CG31","v":0},29,-29,null,{"$f":"Fev!CK31","v":0},0,0,null,{"$f":"Fev!CO31","v":0},0,0,null,{"$f":"Fev!CS31","v":0},0,0]
[{"$f":"Fev!A32","v":"Hamid"},null,"Nuit",null,null,null,null,null,null,null,"Nuit","Nuit",null,null,null,null,"Nuit",null,null,null,null,null,"Nuit","Nuit",null,"Nuit",null,"Nuit",null,null,"Nuit",null,null,null,{"$f":"COUNTIF(C32:AG32,Accueil!$B$8)","v":0},{"$f":"COUNTIF(C32:AG32,Accueil!$B$9)","v":0},{"$f":"COUNTIF(C32:AG32,Accueil!$B$10)","v":0},{"$f":"COUNTIF(C32:AG32,Accueil!$B$11)","v":0},{"$f":"COUNTIF(C32:AG32,Accueil!$B$12)","v":0},{"$f":"COUNTIF(C32:AG32,Accueil!$B$13)","v":0},{"$f":"COUNTIF(C32:AG32,Accueil!$B$14)","v":0},{"$f":"COUNTIF(C32:AG32,Accueil!$B$15)","v":0},{"$f":"COUNTIF(C32:AG32,Accueil!$B$16)","v":9},{"$f":"COUNTIF(C32:AG32,Accueil!$B$17)","v":0},{"$f":"COUNTIF(C32:AG32,Accueil!$B$18)","v":0},{"$f":"COUNTIF(C32:AG32,Accueil!$B$19)","v":0},{"$f":"COUNTIF(C32:AG32,Accueil!$B$20)","v":0},{"$f":"COUNTIF(C32:AG32,Accueil!$B$21)","v":0},{"$f":"COUNTIF(C32:AG32,Accueil!$B$22)","v":0},{"$f":"COUNTIF(C32:AG32,Accueil!$B$23)","v":0},{"$f":"COUNTIF(C32:AG32,Accueil!$B$24)","v":0},{"$f":"COUNTIF(C32:AG32,Accueil!$B$25)","v":0},{"$f":"COUNTIF(C32:AG32,Accueil!$B$26)","v":0},{"$f":"COUNTIF(C32:AG32,Accueil!$B$27)","v":0},{"$f":"COUNTIF(C32:AG32,Accueil!$B$28)","v":0},{"$f":"COUNTIF(C32:AG32,Accueil!$B$29)","v":0},{"$f":"COUNTIF(C32:AG32,Accueil!$B$30)","v":0},9,null,{"$f":"AI32 +Fev!BH32","v":0},{"$f":"AJ32+Fev!BI32","v":0},{"$f":"AK32+Fev!BJ32","v":0},{"$f":"AL32+Fev!BK32","v":0},{"$f":"AM32+Fev!BL32","v":0},{"$f":"AN32+Fev!BM32","v":0},{"$f":"AO32+Fev!BN32","v":0},{"$f":"AP32+Fev!BO32","v":0},{"$f":"AQ32+Fev!BP32","v":15},{"$f":"AR32+Fev!BQ32","v":0},{"$f":"AS32+Fev!BR32","v":0},{"$f":"AT32+Fev!BS32","v":0},{"$f":"AU32+Fev!BT32","v":0},{"$f":"AV32+Fev!BU32","v":10},{"$f":"AW32+Fev!BV32","v":10},{"$f":"AX32+Fev!BW32","v":0},{"$f":"AY32+Fev!BX32","v":0},{"$f":"AZ32+Fev!BY32","v":0},{"$f":"BA32+Fev!BZ32","v":0},{"$f":"BB32+Fev!CA32","v":0},{"$f":"BC32+Fev!CB32","v":0},{"$f":"BD32+Fev!CC32","v":0},{"$f":"BE32+Fev!CD32","v":10},{"$f":"BF32+Fev!CE32","v":20},null,{"$f":"Fev!CG32","v":0},5,-5,null,{"$f":"Fev!CK32","v":0},0,0,null,{"$f":"Fev!CO32","v":0},0,0,null,{"$f":"Fev!CS32","v":0},10,-10]
[null,{"$f":" \"Effectif minimum \" & Accueil!$B$8","v":"Effectif minimum M1"},{"$f":"COUNTIF(C3:C32,Accueil!$B$8)","v":4},{"$f":"COUNTIF(D3:D32,Accueil!$B$8)","v":1},{"$f":"COUNTIF(E3:E32,Accueil!$B$8)","v":0},{"$f":"COUNTIF(F3:F32,Accueil!$B$8)","v":2},{"$f":"COUNTIF(G3:G32,Accueil!$B$8)","v":0},{"$f":"COUNTIF(H3:H32,Accueil!$B$8)","v":0},{"$f":"COUNTIF(I3:I32,Accueil!$B$8)","v":3},{"$f":"COUNTIF(J3:J32,Accueil!$B$8)","v":4},{"$f":"COUNTIF(K3:K32,Accueil!$B$8)","v":1},{"$f":"COUNTIF(L3:L32,Accueil!$B$8)","v":0},{"$f":"COUNTIF(M3:M32,Accueil!$B$8)","v":3},{"$f":"COUNTIF(N3:N32,Accueil!$B$8)","v":0},{"$f":"COUNTIF(O3:O32,Accueil!$B$8)","v":0},{"$f":"COUNTIF(P3:P32,Accueil!$B$8)","v":2},{"$f":"COUNTIF(Q3:Q32,Accueil!$B$8)","v":3},{"$f":"COUNTIF(R3:R32,Accueil!$B$8)","v":1},{"$f":"COUNTIF(S3:S32,Accueil!$B$8)","v":0},{"$f":"COUNTIF(T3:T32,Accueil!$B$8)","v":1},{"$f":"COUNTIF(U3:U32,Accueil!$B$8)","v":0},{"$f":"COUNTIF(V3:V32,Accueil!$B$8)","v":0},{"$f":"COUNTIF(W3:W32,Accueil!$B$8)","v":2},{"$f":"COUNTIF(X3:X32,Accueil!$B$8)","v":3},{"$f":"COUNTIF(Y3:Y32,Accueil!$B$8)","v":1},{"$f":"COUNTIF(Z3:Z32,Accueil!$B$8)","v":1},{"$f":"COUNTIF(AA3:AA32,Accueil!$B$8)","v":0},{"$f":"COUNTIF(AB3:AB32,Accueil!$B$8)","v":0},{"$f":"COUNTIF(AC3:AC32,Accueil!$B$8)","v":0},{"$f":"COUNTIF(AD3:AD32,Accueil!$B$8)","v":0},{"$f":"COUNTIF(AE3:AE32,Accueil!$B$8)","v":2},{"$f":"COUNTIF(AF3:AF32,Accueil!$B$8)","v":0},{"$f":"COUNTIF(AG3:AG32,Accueil!$B$8)","v":0},null,"Jours travaillés",null,null,null,null,null,null,null,null,null,null,null,"Jours non travaillés",null,null,null,null,null,null,null,null,null,null,null,null,"Jours travaillés",null,null,null,null,null,null,null,null,null,null,null,"Jours non travaillés"]
[null,{"$f":" \"Effectif minimum \" & Accueil!$B$9","v":"Effectif minimum M2"},{"$f":"COUNTIF(C3:C32,Accueil!$B$9)","v":3},{"$f":"COUNTIF(D3:D32,Accueil!$B$9)","v":0},{"$f":"COUNTIF(E3:E32,Accueil!$B$9)","v":2},{"$f":"COUNTIF(F3:F32,Accueil!$B$9)","v":1},{"$f":"COUNTIF(G3:G32,Accueil!$B$9)","v":0},{"$f":"COUNTIF(H3:H32,Accueil!$B$9)","v":0},{"$f":"COUNTIF(I3:I32,Accueil!$B$9)","v":0},{"$f":"COUNTIF(J3:J32,Accueil!$B$9)","v":4},{"$f":"COUNTIF(K3:K32,Accueil!$B$9)","v":0},{"$f":"COUNTIF(L3:L32,Accueil!$B$9)","v":1},{"$f":"COUNTIF(M3:M32,Accueil!$B$9)","v":1},{"$f":"COUNTIF(N3:N32,Accueil!$B$9)","v":0},{"$f":"COUNTIF(O3:O32,Accueil!$B$9)","v":0},{"$f":"COUNTIF(P3:P32,Accueil!$B$9)","v":0},{"$f":"COUNTIF(Q3:Q32,Accueil!$B$9)","v":4},{"$f":"COUNTIF(R3:R32,Accueil!$B$9)","v":1},{"$f":"COUNTIF(S3:S32,Accueil!$B$9)","v":0},{"$f":"COUNTIF(T3:T32,Accueil!$B$9)","v":1},{"$f":"COUNTIF(U3:U32,Accueil!$B$9)","v":0},{"$f":"COUNTIF(V3:V32,Accueil!$B$9)","v":0},{"$f":"COUNTIF(W3:W32,Accueil!$B$9)","v":0},{"$f":"COUNTIF(X3:X32,Accueil!$B$9)","v":3},{"$f":"COUNTIF(Y3:Y32,Accueil!$B$9)","v":0},{"$f":"COUNTIF(Z3:Z32,Accueil!$B$9)","v":2},{"$f":"COUNTIF(AA3:AA32,Accueil!$B$9)","v":0},{"$f":"COUNTIF(AB3:AB32,Accueil!$B$9)","v":0},{"$f":"COUNTIF(AC3:AC32,Accueil!$B$9)","v":0},{"$f":"COUNTIF(AD3:AD32,Accueil!$B$9)","v":0},{"$f":"COUNTIF(AE3:AE32,Accueil!$B$9)","v":1},{"$f":"COUNTIF(AF3:AF32,Accueil!$B$9)","v":0},{"$f":"COUNTIF(AG3:AG32,Accueil!$B$9)","v":1}]
[null,{"$f":"\"Effectif minimum \" & Accueil!$B$10","v":"Effectif minimum M3"},{"$f":"COUNTIF(C3:C32,Accueil!$B$10)","v":0},{"$f":"COUNTIF(D3:D32,Accueil!$B$10)","v":0},{"$f":"COUNTIF(E3:E32,Accueil!$B$10)","v":1},{"$f":"COUNTIF(F3:F32,Accueil!$B$10)","v":0},{"$f":"COUNTIF(G3:G32,Accueil!$B$10)","v":0},{"$f":"COUNTIF(H3:H32,Accueil!$B$10)","v":0},{"$f":"COUNTIF(I3:I32,Accueil!$B$10)","v":1},{"$f":"COUNTIF(J3:J32,Accueil!$B$10)","v":0},{"$f":"COUNTIF(K3:K32,Accueil!$B$10)","v":0},{"$f":"COUNTIF(L3:L32,Accueil!$B$10)","v":2},{"$f":"COUNTIF(M3:M32,Accueil!$B$10)","v":0},{"$f":"COUNTIF(N3:N32,Accueil!$B$10)","v":0},{"$f":"COUNTIF(O3:O32,Accueil!$B$10)","v":0},{"$f":"COUNTIF(P3:P32,Accueil!$B$10)","v":1},{"$f":"COUNTIF(Q3:Q32,Accueil!$B$10)","v":0},{"$f":"COUNTIF(R3:R32,Accueil!$B$10)","v":1},{"$f":"COUNTIF(S3:S32,Accueil!$B$10)","v":2},{"$f":"COUNTIF(T3:T32,Accueil!$B$10)","v":0},{"$f":"COUNTIF(U3:U32,Accueil!$B$10)","v":0},{"$f":"COUNTIF(V3:V32,Accueil!$B$10)","v":0},{"$f":"COUNTIF(W3:W32,Accueil!$B$10)","v":1},{"$f":"COUNTIF(X3:X32,Accueil!$B$10)","v":0},{"$f":"COUNTIF(Y3:Y32,Accueil!$B$10)","v":0},{"$f":"COUNTIF(Z3:Z32,Accueil!$B$10)","v":0},{"$f":"COUNTIF(AA3:AA32,Accueil!$B$10)","v":0},{"$f":"COUNTIF(AB3:AB32,Accueil!$B$10)","v":0},{"$f":"COUNTIF(AC3:AC32,Accueil!$B$10)","v":0},{"$f":"COUNTIF(AD3:AD32,Accueil!$B$10)","v":0},{"$f":"COUNTIF(AE3:AE32,Accueil!$B$10)","v":0},{"$f":"COUNTIF(AF3:AF32,Accueil!$B$10)","v":1},{"$f":"COUNTIF(AG3:AG32,Accueil!$B$10)","v":1}]
[2,"MATIN",{"$f":"C33+C34+C35+C37","v":9},{"$f":"D33+D34+D35+D37","v":3},3,3,2,2,5,10,3,3,4,2,2,3,9,5,2,3,2,2,4,8,3,3,2,2,2,2,5,2,3]
[null,{"$f":"\"Effectif minimum \" & Accueil!$B$11","v":"Effectif minimum MP"},{"$f":"COUNTIF(C3:C32,Accueil!$B$11)","v":2},{"$f":"COUNTIF(D3:D32,Accueil!$B$11)","v":2},{"$f":"COUNTIF(E3:E32,Accueil!$B$11)","v":0},{"$f":"COUNTIF(F3:F32,Accueil!$B$11)","v":0},{"$f":"COUNTIF(G3:G32,Accueil!$B$11)","v":2},{"$f":"COUNTIF(H3:H32,Accueil!$B$11)","v":2},{"$f":"COUNTIF(I3:I32,Accueil!$B$11)","v":1},{"$f":"COUNTIF(J3:J32,Accueil!$B$11)","v":2},{"$f":"COUNTIF(K3:K32,Accueil!$B$11)","v":2},{"$f":"COUNTIF(L3:L32,Accueil!$B$11)","v":0},{"$f":"COUNTIF(M3:M32,Accueil!$B$11)","v":0},{"$f":"COUNTIF(N3:N32,Accueil!$B$11)","v":2},{"$f":"COUNTIF(O3:O32,Accueil!$B$11)","v":2},{"$f":"COUNTIF(P3:P32,Accueil!$B$11)","v":0},{"$f":"COUNTIF(Q3:Q32,Accueil!$B$11)","v":2},{"$f":"COUNTIF(R3:R32,Accueil!$B$11)","v":2},{"$f":"COUNTIF(S3:S32,Accueil!$B$11)","v":0},{"$f":"COUNTIF(T3:T32,Accueil!$B$11)","v":1},{"$f":"COUNTIF(U3:U32,Accueil!$B$11)","v":2},{"$f":"COUNTIF(V3:V32,Accueil!$B$11)","v":2},{"$f":"COUNTIF(W3:W32,Accueil!$B$11)","v":1},{"$f":"COUNTIF(X3:X32,Accueil!$B$11)","v":2},{"$f":"COUNTIF(Y3:Y32,Accueil!$B$11)","v":2},{"$f":"COUNTIF(Z3:Z32,Accueil!$B$11)","v":0},{"$f":"COUNTIF(AA3:AA32,Accueil!$B$11)","v":2},{"$f":"COUNTIF(AB3:AB32,Accueil!$B$11)","v":2},{"$f":"COUNTIF(AC3:AC32,Accueil!$B$11)","v":2},{"$f":"COUNTIF(AD3:AD32,Accueil!$B$11)","v":2},{"$f":"COUNTIF(AE3:AE32,Accueil!$B$11)","v":2},{"$f":"COUNTIF(AF3:AF32,Accueil!$B$11)","v":1},{"$f":"COUNTIF(AG3:AG32,Accueil!$B$11)","v":1}]
[null,{"$f":"\"Effectif minimum \" & Accueil!$B$12","v":"Effectif minimum AP1"},{"$f":"COUNTIF(C3:C32,Accueil!$B$12)","v":0},{"$f":"COUNTIF(D3:D32,Accueil!$B$12)","v":0},{"$f":"COUNTIF(E3:E32,Accueil!$B$12)","v":2},{"$f":"COUNTIF(F3:F32,Accueil!$B$12)","v":2},{"$f":"COUNTIF(G3:G32,Accueil!$B$12)","v":0},{"$f":"COUNTIF(H3:H32,Accueil!$B$12)","v":0},{"$f":"COUNTIF(I3:I32,Accueil!$B$12)","v":0},{"$f":"COUNTIF(J3:J32,Accueil!$B$12)","v":0},{"$f":"COUNTIF(K3:K32,Accueil!$B$12)","v":1},{"$f":"COUNTIF(L3:L32,Accueil!$B$12)","v":2},{"$f":"COUNTIF(M3:M32,Accueil!$B$12)","v":0},{"$f":"COUNTIF(N3:N32,Accueil!$B$12)","v":0},{"$f":"COUNTIF(O3:O32,Accueil!$B$12)","v":0},{"$f":"COUNTIF(P3:P32,Accueil!$B$12)","v":1},{"$f":"COUNTIF(Q3:Q32,Accueil!$B$12)","v":0},{"$f":"COUNTIF(R3:R32,Accueil!$B$12)","v":0},{"$f":"COUNTIF(S3:S32,Accueil!$B$12)","v":2},{"$f":"COUNTIF(T3:T32,Accueil!$B$12)","v":1},{"$f":"COUNTIF(U3:U32,Accueil!$B$12)","v":0},{"$f":"COUNTIF(V3:V32,Accueil!$B$12)","v":0},{"$f":"COUNTIF(W3:W32,Accueil!$B$12)","v":0},{"$f":"COUNTIF(X3:X32,Accueil!$B$12)","v":0},{"$f":"COUNTIF(Y3:Y32,Accueil!$B$12)","v":0},{"$f":"COUNTIF(Z3:Z32,Accueil!$B$12)","v":2},{"$f":"COUNTIF(AA3:AA32,Accueil!$B$12)","v":0},{"$f":"COUNTIF(AB3:AB32,Accueil!$B$12)","v":0},{"$f":"COUNTIF(AC3:AC32,Accueil!$B$12)","v":0},{"$f":"COUNTIF(AD3:AD32,Accueil!$B$12)","v":0},{"$f":"COUNTIF(AE3:AE32,Accueil!$B$12)","v":0},{"$f":"COUNTIF(AF3:AF32,Accueil!$B$12)","v":1},{"$f":"COUNTIF(AG3:AG32,Accueil!$B$12)","v":1}]
[null,{"$f":"\"Effectif minimum \" & Accueil!$B$13","v":"Effectif minimum AP2"},{"$f":"COUNTIF(C3:C32,Accueil!$B$13)","v":0},{"$f":"COUNTIF(D3:D32,Accueil!$B$13)","v":1},{"$f":"COUNTIF(E3:E32,Accueil!$B$13)","v":0},{"$f":"COUNTIF(F3:F32,Accueil!$B$13)","v":0},{"$f":"COUNTIF(G3:G32,Accueil!$B$13)","v":0},{"$f":"COUNTIF(H3:H32,Accueil!$B$13)","v":0},{"$f":"COUNTIF(I3:I32,Accueil!$B$13)","v":1},{"$f":"COUNTIF(J3:J32,Accueil!$B$13)","v":0},{"$f":"COUNTIF(K3:K32,Accueil!$B$13)","v":0},{"$f":"COUNTIF(L3:L32,Accueil!$B$13)","v":0},{"$f":"COUNTIF(M3:M32,Accueil!$B$13)","v":2},{"$f":"COUNTIF(N3:N32,Accueil!$B$13)","v":0},{"$f":"COUNTIF(O3:O32,Accueil!$B$13)","v":0},{"$f":"COUNTIF(P3:P32,Accueil!$B$13)","v":1},{"$f":"COUNTIF(Q3:Q32,Accueil!$B$13)","v":0},{"$f":"COUNTIF(R3:R32,Accueil!$B$13)","v":0},{"$f":"COUNTIF(S3:S32,Accueil!$B$13)","v":0},{"$f":"COUNTIF(T3:T32,Accueil!$B$13)","v":0},{"$f":"COUNTIF(U3:U32,Accueil!$B$13)","v":0},{"$f":"COUNTIF(V3:V32,Accueil!$B$13)","v":0},{"$f":"COUNTIF(W3:W32,Accueil!$B$13)","v":1},{"$f":"COUNTIF(X3:X32,Accueil!$B$13)","v":0},{"$f":"COUNTIF(Y3:Y32,Accueil!$B$13)","v":0},{"$f":"COUNTIF(Z3:Z32,Accueil!$B$13)","v":0},{"$f":"COUNTIF(AA3:AA32,Accueil!$B$13)","v":0},{"$f":"COUNTIF(AB3:AB32,Accueil!$B$13)","v":0},{"$f":"COUNTIF(AC3:AC32,Accueil!$B$13)","v":0},{"$f":"COUNTIF(AD3:AD32,Accueil!$B$13)","v":0},{"$f":"COUNTIF(AE3:AE32,Accueil!$B$13)","v":0},{"$f":"COUNTIF(AF3:AF32,Accueil!$B$13)","v":0},{"$f":"COUNTIF(AG3:AG32,Accueil!$B$13)","v":0}]
[null,{"$f":"\"Effectif minimum \" & Accueil!$B$14","v":"Effectif minimum AP3"},{"$f":"COUNTIF(C3:C32,Accueil!$B$14)","v":0},{"$f":"COUNTIF(D3:D32,Accueil!$B$14)","v":0},{"$f":"COUNTIF(E3:E32,Accueil!$B$14)","v":0},{"$f":"COUNTIF(F3:F32,Accueil!$B$14)","v":0},{"$f":"COUNTIF(G3:G32,Accueil!$B$14)","v":0},{"$f":"COUNTIF(H3:H32,Accueil!$B$14)","v":0},{"$f":"COUNTIF(I3:I32,Accueil!$B$14)","v":0},{"$f":"COUNTIF(J3:J32,Accueil!$B$14)","v":0},{"$f":"COUNTIF(K3:K32,Accueil!$B$14)","v":0},{"$f":"COUNTIF(L3:L32,Accueil!$B$14)","v":0},{"$f":"COUNTIF(M3:M32,Accueil!$B$14)","v":0},{"$f":"COUNTIF(N3:N32,Accueil!$B$14)","v":0},{"$f":"COUNTIF(O3:O32,Accueil!$B$14)","v":0},{"$f":"COUNTIF(P3:P32,Accueil!$B$14)","v":0},{"$f":"COUNTIF(Q3:Q32,Accueil!$B$14)","v":0},{"$f":"COUNTIF(R3:R32,Accueil!$B$14)","v":0},{"$f":"COUNTIF(S3:S32,Accueil!$B$14)","v":0},{"$f":"COUNTIF(T3:T32,Accueil!$B$14)","v":0},{"$f":"COUNTIF(U3:U32,Accueil!$B$14)","v":0},{"$f":"COUNTIF(V3:V32,Accueil!$B$14)","v":0},{"$f":"COUNTIF(W3:W32,Accueil!$B$14)","v":0},{"$f":"COUNTIF(X3:X32,Accueil!$B$14)","v":0},{"$f":"COUNTIF(Y3:Y32,Accueil!$B$14)","v":0},{"$f":"COUNTIF(Z3:Z32,Accueil!$B$14)","v":0},{"$f":"COUNTIF(AA3:AA32,Accueil!$B$14)","v":0},{"$f":"COUNTIF(AB3:AB32,Accueil!$B$14)","v":0},{"$f":"COUNTIF(AC3:AC32,Accueil!$B$14)","v":0},{"$f":"COUNTIF(AD3:AD32,Accueil!$B$14)","v":0},{"$f":"COUNTIF(AE3:AE32,Accueil!$B$14)","v":0},{"$f":"COUNTIF(AF3:AF32,Accueil!$B$14)","v":0},{"$f":"COUNTIF(AG3:AG32,Accueil!$B$14)","v":0}]
[1,{"$f":"\"Effectif minimum \" & Accueil!$B$15","v":"Effectif minimum P1"},{"$f":"COUNTIF(C3:C32,Accueil!$B$15)","v":0},{"$f":"COUNTIF(D3:D32,Accueil!$B$15)","v":0},{"$f":"COUNTIF(E3:E32,Accueil!$B$15)","v":0},{"$f":"COUNTIF(F3:F32,Accueil!$B$15)","v":0},{"$f":"COUNTIF(G3:G32,Accueil!$B$15)","v":0},{"$f":"COUNTIF(H3:H32,Accueil!$B$15)","v":0},{"$f":"COUNTIF(I3:I32,Accueil!$B$15)","v":0},{"$f":"COUNTIF(J3:J32,Accueil!$B$15)","v":0},{"$f":"COUNTIF(K3:K32,Accueil!$B$15)","v":0},{"$f":"COUNTIF(L3:L32,Accueil!$B$15)","v":0},{"$f":"COUNTIF(M3:M32,Accueil!$B$15)","v":0},{"$f":"COUNTIF(N3:N32,Accueil!$B$15)","v":0},{"$f":"COUNTIF(O3:O32,Accueil!$B$15)","v":0},{"$f":"COUNTIF(P3:P32,Accueil!$B$15)","v":0},{"$f":"COUNTIF(Q3:Q32,Accueil!$B$15)","v":0},{"$f":"COUNTIF(R3:R32,Accueil!$B$15)","v":0},{"$f":"COUNTIF(S3:S32,Accueil!$B$15)","v":0},{"$f":"COUNTIF(T3:T32,Accueil!$B$15)","v":0},{"$f":"COUNTIF(U3:U32,Accueil!$B$15)","v":0},{"$f":"COUNTIF(V3:V32,Accueil!$B$15)","v":0},{"$f":"COUNTIF(W3:W32,Accueil!$B$15)","v":0},{"$f":"COUNTIF(X3:X32,Accueil!$B$15)","v":0},{"$f":"COUNTIF(Y3:Y32,Accueil!$B$15)","v":0},{"$f":"COUNTIF(Z3:Z32,Accueil!$B$15)","v":0},{"$f":"COUNTIF(AA3:AA32,Accueil!$B$15)","v":0},{"$f":"COUNTIF(AB3:AB32,Accueil!$B$15)","v":0},{"$f":"COUNTIF(AC3:AC32,Accueil!$B$15)","v":0},{"$f":"COUNTIF(AD3:AD32,Accueil!$B$15)","v":0},{"$f":"COUNTIF(AE3:AE32,Accueil!$B$15)","v":0},{"$f":"COUNTIF(AF3:AF32,Accueil!$B$15)","v":0},{"$f":"COUNTIF(AG3:AG32,Accueil!$B$15)","v":0}]
[2,"APRES-MIDI",{"$f":"C37+C38+C39+C41","v":2},{"$f":"D37+D38+D39+D41","v":3},{"$f":"E37+E38+E39+E41","v":2},{"$f":"F37+F38+F39+F41","v":2},{"$f":"G37+G38+G39+G41","v":2},2,2,2,3,2,2,2,2,2,2,2,2,2,2,2,2,2,2,2,2,2,2,2,2,2,2]
[2,"SOIREE",{"$f":"C37+C38+C39+C41","v":2},{"$f":"D37+D38+D39+D41","v":3},2,2,2,2,2,2,3,2,2,2,2,2,2,2,2,2,2,2,2,2,2,2,2,2,2,2,2,2,2]
[null,{"$f":" \"Effectif minimum \" & Accueil!$B$17 & \" \"","v":"Effectif minimum BI "},{"$f":"COUNTIF(C3:C32,Accueil!$B$17)","v":0},{"$f":"COUNTIF(D3:D32,Accueil!$B$17)","v":0},{"$f":"COUNTIF(E3:E32,Accueil!$B$17)","v":0},{"$f":"COUNTIF(F3:F32,Accueil!$B$17)","v":0},{"$f":"COUNTIF(G3:G32,Accueil!$B$17)","v":0},{"$f":"COUNTIF(H3:H32,Accueil!$B$17)","v":0},{"$f":"COUNTIF(I3:I32,Accueil!$B$17)","v":1},{"$f":"COUNTIF(J3:J32,Accueil!$B$17)","v":0},{"$f":"COUNTIF(K3:K32,Accueil!$B$17)","v":0},{"$f":"COUNTIF(L3:L32,Accueil!$B$17)","v":0},{"$f":"COUNTIF(M3:M32,Accueil!$B$17)","v":0},{"$f":"COUNTIF(N3:N32,Accueil!$B$17)","v":1},{"$f":"COUNTIF(O3:O32,Accueil!$B$17)","v":0},{"$f":"COUNTIF(P3:P32,Accueil!$B$17)","v":1},{"$f":"COUNTIF(Q3:Q32,Accueil!$B$17)","v":0},{"$f":"COUNTIF(R3:R32,Accueil!$B$17)","v":0},{"$f":"COUNTIF(S3:S32,Accueil!$B$17)","v":0},{"$f":"COUNTIF(T3:T32,Accueil!$B$17)","v":0},{"$f":"COUNTIF(U3:U32,Accueil!$B$17)","v":0},{"$f":"COUNTIF(V3:V32,Accueil!$B$17)","v":0},{"$f":"COUNTIF(W3:W32,Accueil!$B$17)","v":1},{"$f":"COUNTIF(X3:X32,Accueil!$B$17)","v":0},{"$f":"COUNTIF(Y3:Y32,Accueil!$B$17)","v":0},{"$f":"COUNTIF(Z3:Z32,Accueil!$B$17)","v":0},{"$f":"COUNTIF(AA3:AA32,Accueil!$B$17)","v":0},{"$f":"COUNTIF(AB3:AB32,Accueil!$B$17)","v":0},{"$f":"COUNTIF(AC3:AC32,Accueil!$B$17)","v":0},{"$f":"COUNTIF(AD3:AD32,Accueil!$B$17)","v":0},{"$f":"COUNTIF(AE3:AE32,Accueil!$B$17)","v":0},{"$f":"COUNTIF(AF3:AF32,Accueil!$B$17)","v":0},{"$f":"COUNTIF(AG3:AG32,Accueil!$B$17)","v":1}]
[null,{"$f":" \"Effectif minimum \" & Accueil!$B$18 & \" \"","v":"Effectif minimum LY "},{"$f":"COUNTIF(C3:C32,Accueil!$B$18)","v":0},{"$f":"COUNTIF(D3:D32,Accueil!$B$18)","v":1},{"$f":"COUNTIF(E3:E32,Accueil!$B$18)","v":0},{"$f":"COUNTIF(F3:F32,Accueil!$B$18)","v":0},{"$f":"COUNTIF(G3:G32,Accueil!$B$18)","v":1},{"$f":"COUNTIF(H3:H32,Accueil!$B$18)","v":1},{"$f":"COUNTIF(I3:I32,Accueil!$B$18)","v":0},{"$f":"COUNTIF(J3:J32,Accueil!$B$18)","v":1},{"$f":"COUNTIF(K3:K32,Accueil!$B$18)","v":1},{"$f":"COUNTIF(L3:L32,Accueil!$B$18)","v":0},{"$f":"COUNTIF(M3:M32,Accueil!$B$18)","v":0},{"$f":"COUNTIF(N3:N32,Accueil!$B$18)","v":1},{"$f":"COUNTIF(O3:O32,Accueil!$B$18)","v":1},{"$f":"COUNTIF(P3:P32,Accueil!$B$18)","v":0},{"$f":"COUNTIF(Q3:Q32,Accueil!$B$18)","v":1},{"$f":"COUNTIF(R3:R32,Accueil!$B$18)","v":1},{"$f":"COUNTIF(S3:S32,Accueil!$B$18)","v":0},{"$f":"COUNTIF(T3:T32,Accueil!$B$18)","v":0},{"$f":"COUNTIF(U3:U32,Accueil!$B$18)","v":1},{"$f":"COUNTIF(V3:V32,Accueil!$B$18)","v":1},{"$f":"COUNTIF(W3:W32,Accueil!$B$18)","v":0},{"$f":"COUNTIF(X3:X32,Accueil!$B$18)","v":1},{"$f":"COUNTIF(Y3:Y32,Accueil!$B$18)","v":1},{"$f":"COUNTIF(Z3:Z32,Accueil!$B$18)","v":0},{"$f":"COUNTIF(AA3:AA32,Accueil!$B$18)","v":1},{"$f":"COUNTIF(AB3:AB32,Accueil!$B$18)","v":1},{"$f":"COUNTIF(AC3:AC32,Accueil!$B$18)","v":1},{"$f":"COUNTIF(AD3:AD32,Accueil!$B$18)","v":0},{"$f":"COUNTIF(AE3:AE32,Accueil!$B$18)","v":0},{"$f":"COUNTIF(AF3:AF32,Accueil!$B$18)","v":1},{"$f":"COUNTIF(AG3:AG32,Accueil!$B$18)","v":0}]
[{"$f":"Fev!A46","v":0},{"$f":" \"Effectif minimum \" & Accueil!$B$19 & \" \"","v":"Effectif minimum ST "},{"$f":"COUNTIF(C3:C32,Accueil!$B$19)","v":0},{"$f":"COUNTIF(D3:D32,Accueil!$B$19)","v":0},{"$f":"COUNTIF(E3:E32,Accueil!$B$19)","v":0},{"$f":"COUNTIF(F3:F32,Accueil!$B$19)","v":0},{"$f":"COUNTIF(G3:G32,Accueil!$B$19)","v":0},{"$f":"COUNTIF(H3:H32,Accueil!$B$19)","v":0},{"$f":"COUNTIF(I3:I32,Accueil!$B$19)","v":0},{"$f":"COUNTIF(J3:J32,Accueil!$B$19)","v":0},{"$f":"COUNTIF(K3:K32,Accueil!$B$19)","v":0},{"$f":"COUNTIF(L3:L32,Accueil!$B$19)","v":0},{"$f":"COUNTIF(M3:M32,Accueil!$B$19)","v":0},{"$f":"COUNTIF(N3:N32,Accueil!$B$19)","v":0},{"$f":"COUNTIF(O3:O32,Accueil!$B$19)","v":0},{"$f":"COUNTIF(P3:P32,Accueil!$B$19)","v":0},{"$f":"COUNTIF(Q3:Q32,Accueil!$B$19)","v":0},{"$f":"COUNTIF(R3:R32,Accueil!$B$19)","v":0},{"$f":"COUNTIF(S3:S32,Accueil!$B$19)","v":0},{"$f":"COUNTIF(T3:T32,Accueil!$B$19)","v":0},{"$f":"COUNTIF(U3:U32,Accueil!$B$19)","v":0},{"$f":"COUNTIF(V3:V32,Accueil!$B$19)","v":0},{"$f":"COUNTIF(W3:W32,Accueil!$B$19)","v":0},{"$f":"COUNTIF(X3:X32,Accueil!$B$19)","v":0},{"$f":"COUNTIF(Y3:Y32,Accueil!$B$19)","v":0},{"$f":"COUNTIF(Z3:Z32,Accueil!$B$19)","v":0},{"$f":"COUNTIF(AA3:AA32,Accueil!$B$19)","v":0},{"$f":"COUNTIF(AB3:AB32,Accueil!$B$19)","v":0},{"$f":"COUNTIF(AC3:AC32,Accueil!$B$19)","v":0},{"$f":"COUNTIF(AD3:AD32,Accueil!$B$19)","v":0},{"$f":"COUNTIF(AE3:AE32,Accueil!$B$19)","v":0},{"$f":"COUNTIF(AF3:AF32,Accueil!$B$19)","v":0},{"$f":"COUNTIF(AG3:AG32,Accueil!$B$19)","v":0}]
[1,{"$f":"\"Effectif minimum \" & Accueil!$B$16","v":"Effectif minimum Nuit"},{"$f":"COUNTIF(C3:C32,Accueil!$B$16)","v":1},{"$f":"COUNTIF(D3:D32,Accueil!$B$16)","v":1},{"$f":"COUNTIF(E3:E32,Accueil!$B$16)","v":1},{"$f":"COUNTIF(F3:F32,Accueil!$B$16)","v":1},{"$f":"COUNTIF(G3:G32,Accueil!$B$16)","v":1},{"$f":"COUNTIF(H3:H32,Accueil!$B$16)","v":1},{"$f":"COUNTIF(I3:I32,Accueil!$B$16)","v":1},{"$f":"COUNTIF(J3:J32,Accueil!$B$16)","v":1},{"$f":"COUNTIF(K3:K32,Accueil!$B$16)","v":1},{"$f":"COUNTIF(L3:L32,Accueil!$B$16)","v":1},{"$f":"COUNTIF(M3:M32,Accueil!$B$16)","v":1},{"$f":"COUNTIF(N3:N32,Accueil!$B$16)","v":1},{"$f":"COUNTIF(O3:O32,Accueil!$B$16)","v":1},{"$f":"COUNTIF(P3:P32,Accueil!$B$16)","v":1},{"$f":"COUNTIF(Q3:Q32,Accueil!$B$16)","v":1},{"$f":"COUNTIF(R3:R32,Accueil!$B$16)","v":1},{"$f":"COUNTIF(S3:S32,Accueil!$B$16)","v":1},{"$f":"COUNTIF(T3:T32,Accueil!$B$16)","v":1},{"$f":"COUNTIF(U3:U32,Accueil!$B$16)","v":1},{"$f":"COUNTIF(V3:V32,Accueil!$B$16)","v":1},{"$f":"COUNTIF(W3:W32,Accueil!$B$16)","v":1},{"$f":"COUNTIF(X3:X32,Accueil!$B$16)","v":2},{"$f":"COUNTIF(Y3:Y32,Accueil!$B$16)","v":1},{"$f":"COUNTIF(Z3:Z32,Accueil!$B$16)","v":2},{"$f":"COUNTIF(AA3:AA32,Accueil!$B$16)","v":1},{"$f":"COUNTIF(AB3:AB32,Accueil!$B$16)","v":2},{"$f":"COUNTIF(AC3:AC32,Accueil!$B$16)","v":1},{"$f":"COUNTIF(AD3:AD32,Accueil!$B$16)","v":1},{"$f":"COUNTIF(AE3:AE32,Accueil!$B$16)","v":2},{"$f":"COUNTIF(AF3:AF32,Accueil!$B$16)","v":1},{"$f":"COUNTIF(AG3:AG32,Accueil!$B$16)","v":1}]

{"sheet":"Avril","index":5,"n_rows":47,"n_cols":99,"rows_kept":47,"cut":false,"hidden":false,"merged":[[0,92,0,94],[0,96,0,98],[1,0,1,1],[2,0,2,1],[0,0,0,1],[0,84,0,86],[0,88,0,90],[3,0,3,1],[4,0,4,1],[5,0,5,1],[12,0,12,1],[6,0,6,1],[13,0,13,1],[14,0,14,1],[7,0,7,1],[8,0,8,1],[9,0,9,1],[10,0,10,1],[11,0,11,1],[19,0,19,1],[20,0,20,1],[21,0,21,1],[22,0,22,1],[15,0,15,1],[16,0,16,1],[17,0,17,1],[18,0,18,1],[23,0,23,1],[24,0,24,1],[25,0,25,1],[26,0,26,1],[31,0,31,1],[27,0,27,1],[28,0,28,1],[29,0,29,1],[30,0,30,1]]}
[{"$f":"DATE(Accueil!C2,4,1)","v":"2016-04-01"},null,{"$f":"INDEX({\"D\";\"L\";\"M\";\"M\";\"J\";\"V\";\"S\"},WEEKDAY(C2))","v":"V"},{"$f":"INDEX({\"D\";\"L\";\"M\";\"M\";\"J\";\"V\";\"S\"},WEEKDAY(D2))","v":"S"},{"$f":"INDEX({\"D\";\"L\";\"M\";\"M\";\"J\";\"V\";\"S\"},WEEKDAY(E2))","v":"D"},{"$f":"INDEX({\"D\";\"L\";\"M\";\"M\";\"J\";\"V\";\"S\"},WEEKDAY(F2))","v":"L"},{"$f":"INDEX({\"D\";\"L\";\"M\";\"M\";\"J\";\"V\";\"S\"},WEEKDAY(G2))","v":"M"},{"$f":"INDEX({\"D\";\"L\";\"M\";\"M\";\"J\";\"V\";\"S\"},WEEKDAY(H2))","v":"M"},{"$f":"INDEX({\"D\";\"L\";\"M\";\"M\";\"J\";\"V\";\"S\"},WEEKDAY(I2))","v":"J"},{"$f":"INDEX({\"D\";\"L\";\"M\";\"M\";\"J\";\"V\";\"S\"},WEEKDAY(J2))","v":"V"},{"$f":"INDEX({\"D\";\"L\";\"M\";\"M\";\"J\";\"V\";\"S\"},WEEKDAY(K2))","v":"S"},{"$f":"INDEX({\"D\";\"L\";\"M\";\"M\";\"J\";\"V\";\"S\"},WEEKDAY(L2))","v":"D"},{"$f":"INDEX({\"D\";\"L\";\"M\";\"M\";\"J\";\"V\";\"S\"},WEEKDAY(M2))","v":"L"},{"$f":"INDEX({\"D\";\"L\";\"M\";\"M\";\"J\";\"V\";\"S\"},WEEKDAY(N2))","v":"M"},{"$f":"INDEX({\"D\";\"L\";\"M\";\"M\";\"J\";\"V\";\"S\"},WEEKDAY(O2))","v":"M"},{"$f":"INDEX({\"D\";\"L\";\"M\";\"M\";\"J\";\"V\";\"S\"},WEEKDAY(P2))","v":"J"},{"$f":"INDEX({\"D\";\"L\";\"M\";\"M\";\"J\";\"V\";\"S\"},WEEKDAY(Q2))","v":"V"},{"$f":"INDEX({\"D\";\"L\";\"M\";\"M\";\"J\";\"V\";\"S\"},WEEKDAY(R2))","v":"S"},{"$f":"INDEX({\"D\";\"L\";\"M\";\"M\";\"J\";\"V\";\"S\"},WEEKDAY(S2))","v":"D"},{"$f":"INDEX({\"D\";\"L\";\"M\";\"M\";\"J\";\"V\";\"S\"},WEEKDAY(T2))","v":"L"},{"$f":"INDEX({\"D\";\"L\";\"M\";\"M\";\"J\";\"V\";\"S\"},WEEKDAY(U2))","v":"M"},{"$f":"INDEX({\"D\";\"L\";\"M\";\"M\";\"J\";\"V\";\"S\"},WEEKDAY(V2))","v":"M"},{"$f":"INDEX({\"D\";\"L\";\"M\";\"M\";\"J\";\"V\";\"S\"},WEEKDAY(W2))","v":"J"},{"$f":"INDEX({\"D\";\"L\";\"M\";\"M\";\"J\";\"V\";\"S\"},WEEKDAY(X2))","v":"V"},{"$f":"INDEX({\"D\";\"L\";\"M\";\"M\";\"J\";\"V\";\"S\"},WEEKDAY(Y2))","v":"S"},{"$f":"INDEX({\"D\";\"L\";\"M\";\"M\";\"J\";\"V\";\"S\"},WEEKDAY(Z2))","v":"D"},{"$f":"INDEX({\"D\";\"L\";\"M\";\"M\";\"J\";\"V\";\"S\"},WEEKDAY(AA2))","v":"L"},{"$f":"INDEX({\"D\";\"L\";\"M\";\"M\";\"J\";\"V\";\"S\"},WEEKDAY(AB2))","v":"M"},{"$f":"INDEX({\"D\";\"L\";\"M\";\"M\";\"J\";\"V\";\"S\"},WEEKDAY(AC2))","v":"M"},{"$f":"INDEX({\"D\";\"L\";\"M\";\"M\";\"J\";\"V\";\"S\"},WEEKDAY(AD2))","v":"J"},{"$f":"INDEX({\"D\";\"L\";\"M\";\"M\";\"J\";\"V\";\"S\"},WEEKDAY(AE2))","v":"V"},{"$f":"INDEX({\"D\";\"L\";\"M\";\"M\";\"J\";\"V\";\"S\"},WEEKDAY(AF2))","v":"S"},{"$f":"INDEX({\"D\";\"L\";\"M\";\"M\";\"J\";\"V\";\"S\"},WEEKDAY(AG2))","v":"D"},null,"Bilan mensuel",null,null,null,null,null,null,null,null,null,null,null,null,null,null,null,null,null,null,null,null,null,null,"Total jours",null,"Bilan annuel",null,null,null,null,null,null,null,null,null,null,null,null,null,null,null,null,null,null,null,null,null,null,"Total jours",null,"Bilan congès annuels",null,null,null,"Bilan Enfant malade",null,null,null,"Bilan RH aministratif",null,null,null,"Bilan RH employé"]
[{"$f":"Accueil!J2","v":"Educatif"},null,{"$f":"A1","v":"2016-04-01"},{"$f":"C2+1","v":"2016-04-02"},"2016-04-03","2016-04-04","2016-04-05","2016-04-06","2016-04-07","2016-04-08","2016-04-09","2016-04-10","2016-04-11","2016-04-12","2016-04-13","2016-04-14","2016-04-15","2016-04-16","2016-04-17","2016-04-18","2016-04-19","2016-04-20","2016-04-21","2016-04-22","2016-04-23","2016-04-24","2016-04-25","2016-04-26","2016-04-27","2016-04-28","2016-04-29","2016-04-30","2016-05-01",null,{"$f":"Accueil!$B$8","v":"M1"},{"$f":"Accueil!$B$9","v":"M2"},{"$f":"Accueil!B10","v":"M3"},{"$f":"Accueil!$B$11","v":"MP"},{"$f":"Accueil!$B$12","v":"AP1"},{"$f":"Accueil!B13","v":"AP2"},{"$f":"Accueil!B14","v":"AP3"},{"$f":"Accueil!$B$15","v":"P1"},{"$f":"Accueil!$B$16","v":"Nuit"},{"$f":"Accueil!$B$17","v":"BI"},{"$f":"Accueil!$B$18","v":"LY"},{"$f":"Accueil!$B$19","v":"ST"},{"$f":"Accueil!$B$20","v":"IND"},{"$f":"Accueil!$B$21","v":0},{"$f":"Accueil!$B$22","v":0},{"$f":"Accueil!$B$23","v":"Vac"},{"$f":"Accueil!$B$24","v":"Mal"},{"$f":"Accueil!$B$25","v":"Mat"},{"$f":"Accueil!$B$26","v":"CC"},{"$f":"Accueil!$B$27","v":"F"},{"$f":"Accueil!$B$28","v":"Enf"},{"$f":"Accueil!$B$29","v":"CP"},{"$f":"Accueil!$B$30","v":0},"travaillés",null,{"$f":"AI2","v":"M1"},"M2","M3","MP","AP1","AP2","AP3","P1","Nuit","BI","LY","ST","IND",0,0,"Vac","Mal","Mat","CC","F","Enf","CP",0,"travaillés",null,"capital","pris","restant",null,"capital","pris","restant",null,"capital","pris","restant",null,"capital","pris","restant"]
[{"$f":"Mars!A3","v":"Anne"},null,"MP",null,null,null,"MP",null,null,"M1",null,null,null,"MP",null,null,"M1",null,"MP",null,"MP",null,null,"M1",null,null,null,"MP",null,null,"M1","MP",null,null,{"$f":"COUNTIF(C3:AG3,Accueil!$B$8)","v":4},{"$f":"COUNTIF(C3:AG3,Accueil!$B$9)","v":0},{"$f":"COUNTIF(C3:AG3,Accueil!$B$10)","v":0},{"$f":"COUNTIF(C3:AG3,Accueil!$B$11)","v":7},{"$f":"COUNTIF(C3:AG3,Accueil!$B$12)","v":0},{"$f":"COUNTIF(C3:AG3,Accueil!$B$13)","v":0},{"$f":"COUNTIF(C3:AG3,Accueil!$B$14)","v":0},{"$f":"COUNTIF(C3:AG3,Accueil!$B$15)","v":0},{"$f":"COUNTIF(C3:AG3,Accueil!$B$16)","v":0},{"$f":"COUNTIF(C3:AG3,Accueil!$B$17)","v":0},{"$f":"COUNTIF(C3:AG3,Accueil!$B$18)","v":0},{"$f":"COUNTIF(C3:AG3,Accueil!$B$19)","v":0},{"$f":"COUNTIF(C3:AG3,Accueil!$B$20)","v":0},{"$f":"COUNTIF(C3:AG3,Accueil!$B$21)","v":0},{"$f":"COUNTIF(C3:AG3,Accueil!$B$22)","v":0},{"$f":"COUNTIF(C3:AG3,Accueil!$B$23)","v":0},{"$f":"COUNTIF(C3:AG3,Accueil!$B$24)","v":0},{"$f":"COUNTIF(C3:AG3,Accueil!$B$25)","v":0},{"$f":"COUNTIF(C3:AG3,Accueil!$B$26)","v":0},{"$f":"COUNTIF(C3:AG3,Accueil!$B$27)","v":0},{"$f":"COUNTIF(C3:AG3,Accueil!$B$28)","v":0},{"$f":"COUNTIF(C3:AG3,Accueil!$B$29)","v":0},{"$f":"COUNTIF(C3:AG3,Accueil!$B$30)","v":0},{"$f":"SUM($AI3:$AT3)+($AW3*0.5)","v":11},null,{"$f":"AI3 +Mars!BH3","v":12},{"$f":"AJ3+Mars!BI3","v":0},{"$f":"AK3+Mars!BJ3","v":0},{"$f":"AL3+Mars!BK3","v":24},{"$f":"AM3+Mars!BL3","v":2},{"$f":"AN3+Mars!BM3","v":0},{"$f":"AO3+Mars!BN3","v":0},{"$f":"AP3+Mars!BO3","v":0},{"$f":"AQ3+Mars!BP3","v":0},{"$f":"AR3+Mars!BQ3","v":0},{"$f":"AS3+Mars!BR3","v":0},{"$f":"AT3+Mars!BS3","v":0},{"$f":"AU3+Mars!BT3","v":0},{"$f":"AV3+Mars!BU3","v":0},{"$f":"AW3+Mars!BV3","v":0},{"$f":"AX3+Mars!BW3","v":9},{"$f":"AY3+Mars!BX3","v":1},{"$f":"AZ3+Mars!BY3","v":0},{"$f":"BA3+Mars!BZ3","v":0},{"$f":"BB3+Mars!CA3","v":0},{"$f":"BC3+Mars!CB3","v":0},{"$f":"BD3+Mars!CC3","v":0},{"$f":"BE3+Mars!CD3","v":0},{"$f":"BF3+Mars!CE3","v":38},null,{"$f":"Mars!CG3","v":0},{"$f":"0.5*($BV3)+($BW3)","v":9},{"$f":"CG3-CH3","v":-9},null,{"$f":"Mars!CK3","v":0},{"$f":"$CB3","v":0},{"$f":"CK3-CL3","v":0},null,{"$f":"Mars!CO3","v":0},{"$f":"$CC3","v":0},{"$f":"CO3-CP3","v":0},null,{"$f":"Mars!CS3","v":0},{"$f":"$CD3","v":0},{"$f":"CS3-CT3","v":0}]
[{"$f":"Mars!A4","v":0},null,null,null,null,null,null,null,null,null,null,null,null,null,null,null,null,null,null,null,null,null,null,null,null,null,null,null,null,null,null,null,null,null,{"$f":"COUNTIF(C4:AG4,Accueil!$B$8)","v":0},{"$f":"COUNTIF(C4:AG4,Accueil!$B$9)","v":0},{"$f":"COUNTIF(C4:AG4,Accueil!$B$10)","v":0},{"$f":"COUNTIF(C4:AG4,Accueil!$B$11)","v":0},{"$f":"COUNTIF(C4:AG4,Accueil!$B$12)","v":0},{"$f":"COUNTIF(C4:AG4,Accueil!$B$13)","v":0},{"$f":"COUNTIF(C4:AG4,Accueil!$B$14)","v":0},{"$f":"COUNTIF(C4:AG4,Accueil!$B$15)","v":0},{"$f":"COUNTIF(C4:AG4,Accueil!$B$16)","v":0},{"$f":"COUNTIF(C4:AG4,Accueil!$B$17)","v":0},{"$f":"COUNTIF(C4:AG4,Accueil!$B$18)","v":0},{"$f":"COUNTIF(C4:AG4,Accueil!$B$19)","v":0},{"$f":"COUNTIF(C4:AG4,Accueil!$B$20)","v":0},{"$f":"COUNTIF(C4:AG4,Accueil!$B$21)","v":0},{"$f":"COUNTIF(C4:AG4,Accueil!$B$22)","v":0},{"$f":"COUNTIF(C4:AG4,Accueil!$B$23)","v":0},{"$f":"COUNTIF(C4:AG4,Accueil!$B$24)","v":0},{"$f":"COUNTIF(C4:AG4,Accueil!$B$25)","v":0},{"$f":"COUNTIF(C4:AG4,Accueil!$B$26)","v":0},{"$f":"COUNTIF(C4:AG4,Accueil!$B$27)","v":0},{"$f":"COUNTIF(C4:AG4,Accueil!$B$28)","v":0},{"$f":"COUNTIF(C4:AG4,Accueil!$B$29)","v":0},{"$f":"COUNTIF(C4:AG4,Accueil!$B$30)","v":0},0,null,{"$f":"AI4 +Mars!BH4","v":0},{"$f":"AJ4+Mars!BI4","v":0},{"$f":"AK4+Mars!BJ4","v":0},{"$f":"AL4+Mars!BK4","v":0},{"$f":"AM4+Mars!BL4","v":0},{"$f":"AN4+Mars!BM4","v":0},{"$f":"AO4+Mars!BN4","v":0},{"$f":"AP4+Mars!BO4","v":0},{"$f":"AQ4+Mars!BP4","v":0},{"$f":"AR4+Mars!BQ4","v":0},{"$f":"AS4+Mars!BR4","v":1},{"$f":"AT4+Mars!BS4","v":0},{"$f":"AU4+Mars!BT4","v":0},{"$f":"AV4+Mars!BU4","v":0},{"$f":"AW4+Mars!BV4","v":0},{"$f":"AX4+Mars!BW4","v":0},{"$f":"AY4+Mars!BX4","v":0},{"$f":"AZ4+Mars!BY4","v":0},{"$f":"BA4+Mars!BZ4","v":0},{"$f":"BB4+Mars!CA4","v":0},{"$f":"BC4+Mars!CB4","v":0},{"$f":"BD4+Mars!CC4","v":0},{"$f":"BE4+Mars!CD4","v":0},{"$f":"BF4+Mars!CE4","v":1},null,{"$f":"Mars!CG4","v":0},0,0,null,{"$f":"Mars!CK4","v":0},0,0,null,{"$f":"Mars!CO4","v":0},0,0,null,{"$f":"Mars!CS4","v":0},0,0]
[{"$f":"Mars!A5","v":"Elodie"},null,null,null,"MP",null,"M1","M1","AP1","AP2",null,null,"M1","M1","M1","AP1",null,null,"MP",null,"M1","M1","AP1",null,null,null,"M1","M1","M1","AP1",null,null,null,null,{"$f":"COUNTIF(C5:AG5,Accueil!$B$8)","v":10},{"$f":"COUNTIF(C5:AG5,Accueil!$B$9)","v":0},{"$f":"COUNTIF(C5:AG5,Accueil!$B$10)","v":0},{"$f":"COUNTIF(C5:AG5,Accueil!$B$11)","v":2},{"$f":"COUNTIF(C5:AG5,Accueil!$B$12)","v":4},{"$f":"COUNTIF(C5:AG5,Accueil!$B$13)","v":1},{"$f":"COUNTIF(C5:AG5,Accueil!$B$14)","v":0},{"$f":"COUNTIF(C5:AG5,Accueil!$B$15)","v":0},{"$f":"COUNTIF(C5:AG5,Accueil!$B$16)","v":0},{"$f":"COUNTIF(C5:AG5,Accueil!$B$17)","v":0},{"$f":"COUNTIF(C5:AG5,Accueil!$B$18)","v":0},{"$f":"COUNTIF(C5:AG5,Accueil!$B$19)","v":0},{"$f":"COUNTIF(C5:AG5,Accueil!$B$20)","v":0},{"$f":"COUNTIF(C5:AG5,Accueil!$B$21)","v":0},{"$f":"COUNTIF(C5:AG5,Accueil!$B$22)","v":0},{"$f":"COUNTIF(C5:AG5,Accueil!$B$23)","v":0},{"$f":"COUNTIF(C5:AG5,Accueil!$B$24)","v":0},{"$f":"COUNTIF(C5:AG5,Accueil!$B$25)","v":0},{"$f":"COUNTIF(C5:AG5,Accueil!$B$26)","v":0},{"$f":"COUNTIF(C5:AG5,Accueil!$B$27)","v":0},{"$f":"COUNTIF(C5:AG5,Accueil!$B$28)","v":0},{"$f":"COUNTIF(C5:AG5,Accueil!$B$29)","v":0},{"$f":"COUNTIF(C5:AG5,Accueil!$B$30)","v":0},17,null,{"$f":"AI5 +Mars!BH5","v":37},{"$f":"AJ5+Mars!BI5","v":0},{"$f":"AK5+Mars!BJ5","v":0},{"$f":"AL5+Mars!BK5","v":12},{"$f":"AM5+Mars!BL5","v":15},{"$f":"AN5+Mars!BM5","v":2},{"$f":"AO5+Mars!BN5","v":0},{"$f":"AP5+Mars!BO5","v":0},{"$f":"AQ5+Mars!BP5","v":0},{"$f":"AR5+Mars!BQ5","v":0},{"$f":"AS5+Mars!BR5","v":0},{"$f":"AT5+Mars!BS5","v":0},{"$f":"AU5+Mars!BT5","v":0},{"$f":"AV5+Mars!BU5","v":0},{"$f":"AW5+Mars!BV5","v":0},{"$f":"AX5+Mars!BW5","v":5},{"$f":"AY5+Mars!BX5","v":0},{"$f":"AZ5+Mars!BY5","v":0},{"$f":"BA5+Mars!BZ5","v":1},{"$f":"BB5+Mars!CA5","v":1},{"$f":"BC5+Mars!CB5","v":0},{"$f":"BD5+Mars!CC5","v":0},{"$f":"BE5+Mars!CD5","v":0},{"$f":"BF5+Mars!CE5","v":66},null,{"$f":"Mars!CG5","v":0},5,-5,null,{"$f":"Mars!CK5","v":0},0,0,null,{"$f":"Mars!CO5","v":0},0,0,null,{"$f":"Mars!CS5","v":0},0,0]
[{"$f":"Mars!A6","v":0},null,null,null,null,null,null,null,null,null,null,null,null,null,null,null,null,null,null,null,null,null,null,null,null,null,null,null,null,null,null,null,null,null,{"$f":"COUNTIF(C6:AG6,Accueil!$B$8)","v":0},{"$f":"COUNTIF(C6:AG6,Accueil!$B$9)","v":0},{"$f":"COUNTIF(C6:AG6,Accueil!$B$10)","v":0},{"$f":"COUNTIF(C6:AG6,Accueil!$B$11)","v":0},{"$f":"COUNTIF(C6:AG6,Accueil!$B$12)","v":0},{"$f":"COUNTIF(C6:AG6,Accueil!$B$13)","v":0},{"$f":"COUNTIF(C6:AG6,Accueil!$B$14)","v":0},{"$f":"COUNTIF(C6:AG6,Accueil!$B$15)","v":0},{"$f":"COUNTIF(C6:AG6,Accueil!$B$16)","v":0},{"$f":"COUNTIF(C6:AG6,Accueil!$B$17)","v":0},{"$f":"COUNTIF(C6:AG6,Accueil!$B$18)","v":0},{"$f":"COUNTIF(C6:AG6,Accueil!$B$19)","v":0},{"$f":"COUNTIF(C6:AG6,Accueil!$B$20)","v":0},{"$f":"COUNTIF(C6:AG6,Accueil!$B$21)","v":0},{"$f":"COUNTIF(C6:AG6,Accueil!$B$22)","v":0},{"$f":"COUNTIF(C6:AG6,Accueil!$B$23)","v":0},{"$f":"COUNTIF(C6:AG6,Accueil!$B$24)","v":0},{"$f":"COUNTIF(C6:AG6,Accueil!$B$25)","v":0},{"$f":"COUNTIF(C6:AG6,Accueil!$B$26)","v":0},{"$f":"COUNTIF(C6:AG6,Accueil!$B$27)","v":0},{"$f":"COUNTIF(C6:AG6,Accueil!$B$28)","v":0},{"$f":"COUNTIF(C6:AG6,Accueil!$B$29)","v":0},{"$f":"COUNTIF(C6:AG6,Accueil!$B$30)","v":0},0,null,{"$f":"AI6 +Mars!BH6","v":0},{"$f":"AJ6+Mars!BI6","v":0},{"$f":"AK6+Mars!BJ6","v":0},{"$f":"AL6+Mars!BK6","v":0},{"$f":"AM6+Mars!BL6","v":0},{"$f":"AN6+Mars!BM6","v":1},{"$f":"AO6+Mars!BN6","v":0},{"$f":"AP6+Mars!BO6","v":0},{"$f":"AQ6+Mars!BP6","v":0},{"$f":"AR6+Mars!BQ6","v":0},{"$f":"AS6+Mars!BR6","v":1},{"$f":"AT6+Mars!BS6","v":0},{"$f":"AU6+Mars!BT6","v":0},{"$f":"AV6+Mars!BU6","v":0},{"$f":"AW6+Mars!BV6","v":0},{"$f":"AX6+Mars!BW6","v":0},{"$f":"AY6+Mars!BX6","v":0},{"$f":"AZ6+Mars!BY6","v":0},{"$f":"BA6+Mars!BZ6","v":0},{"$f":"BB6+Mars!CA6","v":0},{"$f":"BC6+Mars!CB6","v":0},{"$f":"BD6+Mars!CC6","v":0},{"$f":"BE6+Mars!CD6","v":0},{"$f":"BF6+Mars!CE6","v":2},null,{"$f":"Mars!CG6","v":0},0,0,null,{"$f":"Mars!CK6","v":0},0,0,null,{"$f":"Mars!CO6","v":0},0,0,null,{"$f":"Mars!CS6","v":0},0,0]
[{"$f":"Mars!A7","v":"Eve-Marie"},null,"Vac",null,null,"AP2","M1",null,"AP1","M1",null,"MP",null,"M1",null,"AP1","AP1",null,null,null,"M1",null,"AP1","M1","MP",null,null,"M1",null,"AP1","M1",null,null,null,{"$f":"COUNTIF(C7:AG7,Accueil!$B$8)","v":7},{"$f":"COUNTIF(C7:AG7,Accueil!$B$9)","v":0},{"$f":"COUNTIF(C7:AG7,Accueil!$B$10)","v":0},{"$f":"COUNTIF(C7:AG7,Accueil!$B$11)","v":2},{"$f":"COUNTIF(C7:AG7,Accueil!$B$12)","v":5},{"$f":"COUNTIF(C7:AG7,Accueil!$B$13)","v":1},{"$f":"COUNTIF(C7:AG7,Accueil!$B$14)","v":0},{"$f":"COUNTIF(C7:AG7,Accueil!$B$15)","v":0},{"$f":"COUNTIF(C7:AG7,Accueil!$B$16)","v":0},{"$f":"COUNTIF(C7:AG7,Accueil!$B$17)","v":0},{"$f":"COUNTIF(C7:AG7,Accueil!$B$18)","v":0},{"$f":"COUNTIF(C7:AG7,Accueil!$B$19)","v":0},{"$f":"COUNTIF(C7:AG7,Accueil!$B$20)","v":0},{"$f":"COUNTIF(C7:AG7,Accueil!$B$21)","v":0},{"$f":"COUNTIF(C7:AG7,Accueil!$B$22)","v":0},{"$f":"COUNTIF(C7:AG7,Accueil!$B$23)","v":1},{"$f":"COUNTIF(C7:AG7,Accueil!$B$24)","v":0},{"$f":"COUNTIF(C7:AG7,Accueil!$B$25)","v":0},{"$f":"COUNTIF(C7:AG7,Accueil!$B$26)","v":0},{"$f":"COUNTIF(C7:AG7,Accueil!$B$27)","v":0},{"$f":"COUNTIF(C7:AG7,Accueil!$B$28)","v":0},{"$f":"COUNTIF(C7:AG7,Accueil!$B$29)","v":0},{"$f":"COUNTIF(C7:AG7,Accueil!$B$30)","v":0},15,null,{"$f":"AI7 +Mars!BH7","v":25},{"$f":"AJ7+Mars!BI7","v":1},{"$f":"AK7+Mars!BJ7","v":0},{"$f":"AL7+Mars!BK7","v":9},{"$f":"AM7+Mars!BL7","v":18},{"$f":"AN7+Mars!BM7","v":2},{"$f":"AO7+Mars!BN7","v":1},{"$f":"AP7+Mars!BO7","v":0},{"$f":"AQ7+Mars!BP7","v":0},{"$f":"AR7+Mars!BQ7","v":0},{"$f":"AS7+Mars!BR7","v":0},{"$f":"AT7+Mars!BS7","v":0},{"$f":"AU7+Mars!BT7","v":0},{"$f":"AV7+Mars!BU7","v":0},{"$f":"AW7+Mars!BV7","v":0},{"$f":"AX7+Mars!BW7","v":8},{"$f":"AY7+Mars!BX7","v":0},{"$f":"AZ7+Mars!BY7","v":0},{"$f":"BA7+Mars!BZ7","v":0},{"$f":"BB7+Mars!CA7","v":0},{"$f":"BC7+Mars!CB7","v":0},{"$f":"BD7+Mars!CC7","v":0},{"$f":"BE7+Mars!CD7","v":0},{"$f":"BF7+Mars!CE7","v":56},null,{"$f":"Mars!CG7","v":0},8,-8,null,{"$f":"Mars!CK7","v":0},0,0,null,{"$f":"Mars!CO7","v":0},0,0,null,{"$f":"Mars!CS7","v":0},0,0]
[{"$f":"Mars!A8","v":0},null,null,null,null,null,null,null,null,null,null,null,null,null,null,null,null,null,null,null,null,null,null,null,null,null,null,null,null,null,null,null,null,null,{"$f":"COUNTIF(C8:AG8,Accueil!$B$8)","v":0},{"$f":"COUNTIF(C8:AG8,Accueil!$B$9)","v":0},{"$f":"COUNTIF(C8:AG8,Accueil!$B$10)","v":0},{"$f":"COUNTIF(C8:AG8,Accueil!$B$11)","v":0},{"$f":"COUNTIF(C8:AG8,Accueil!$B$12)","v":0},{"$f":"COUNTIF(C8:AG8,Accueil!$B$13)","v":0},{"$f":"COUNTIF(C8:AG8,Accueil!$B$14)","v":0},{"$f":"COUNTIF(C8:AG8,Accueil!$B$15)","v":0},{"$f":"COUNTIF(C8:AG8,Accueil!$B$16)","v":0},{"$f":"COUNTIF(C8:AG8,Accueil!$B$17)","v":0},{"$f":"COUNTIF(C8:AG8,Accueil!$B$18)","v":0},{"$f":"COUNTIF(C8:AG8,Accueil!$B$19)","v":0},{"$f":"COUNTIF(C8:AG8,Accueil!$B$20)","v":0},{"$f":"COUNTIF(C8:AG8,Accueil!$B$21)","v":0},{"$f":"COUNTIF(C8:AG8,Accueil!$B$22)","v":0},{"$f":"COUNTIF(C8:AG8,Accueil!$B$23)","v":0},{"$f":"COUNTIF(C8:AG8,Accueil!$B$24)","v":0},{"$f":"COUNTIF(C8:AG8,Accueil!$B$25)","v":0},{"$f":"COUNTIF(C8:AG8,Accueil!$B$26)","v":0},{"$f":"COUNTIF(C8:AG8,Accueil!$B$27)","v":0},{"$f":"COUNTIF(C8:AG8,Accueil!$B$28)","v":0},{"$f":"COUNTIF(C8:AG8,Accueil!$B$29)","v":0},{"$f":"COUNTIF(C8:AG8,Accueil!$B$30)","v":0},0,null,{"$f":"AI8 +Mars!BH8","v":0},{"$f":"AJ8+Mars!BI8","v":0},{"$f":"AK8+Mars!BJ8","v":0},{"$f":"AL8+Mars!BK8","v":0},{"$f":"AM8+Mars!BL8","v":0},{"$f":"AN8+Mars!BM8","v":0},{"$f":"AO8+Mars!BN8","v":0},{"$f":"AP8+Mars!BO8","v":0},{"$f":"AQ8+Mars!BP8","v":0},{"$f":"AR8+Mars!BQ8","v":0},{"$f":"AS8+Mars!BR8","v":1},{"$f":"AT8+Mars!BS8","v":0},{"$f":"AU8+Mars!BT8","v":0},{"$f":"AV8+Mars!BU8","v":0},{"$f":"AW8+Mars!BV8","v":0},{"$f":"AX8+Mars!BW8","v":0},{"$f":"AY8+Mars!BX8","v":0},{"$f":"AZ8+Mars!BY8","v":0},{"$f":"BA8+Mars!BZ8","v":0},{"$f":"BB8+Mars!CA8","v":0},{"$f":"BC8+Mars!CB8","v":0},{"$f":"BD8+Mars!CC8","v":0},{"$f":"BE8+Mars!CD8","v":0},{"$f":"BF8+Mars!CE8","v":1},null,{"$f":"Mars!CG8","v":0},0,0,null,{"$f":"Mars!CK8","v":0},0,0,null,{"$f":"Mars!CO8","v":0},0,0,null,{"$f":"Mars!CS8","v":0},0,0]
[{"$f":"Mars!A9","v":"Isabel"},null,"Vac","Vac","Vac","Vac","Vac","Vac","Vac","Vac","Vac","Vac","Vac","Vac",null,null,null,null,null,"AP2","M1",null,null,"AP2","MP",null,"AP2","M1",null,null,null,null,null,null,{"$f":"COUNTIF(C9:AG9,Accueil!$B$8)","v":2},{"$f":"COUNTIF(C9:AG9,Accueil!$B$9)","v":0},{"$f":"COUNTIF(C9:AG9,Accueil!$B$10)","v":0},{"$f":"COUNTIF(C9:AG9,Accueil!$B$11)","v":1},{"$f":"COUNTIF(C9:AG9,Accueil!$B$12)","v":0},{"$f":"COUNTIF(C9:AG9,Accueil!$B$13)","v":3},{"$f":"COUNTIF(C9:AG9,Accueil!$B$14)","v":0},{"$f":"COUNTIF(C9:AG9,Accueil!$B$15)","v":0},{"$f":"COUNTIF(C9:AG9,Accueil!$B$16)","v":0},{"$f":"COUNTIF(C9:AG9,Accueil!$B$17)","v":0},{"$f":"COUNTIF(C9:AG9,Accueil!$B$18)","v":0},{"$f":"COUNTIF(C9:AG9,Accueil!$B$19)","v":0},{"$f":"COUNTIF(C9:AG9,Accueil!$B$20)","v":0},{"$f":"COUNTIF(C9:AG9,Accueil!$B$21)","v":0},{"$f":"COUNTIF(C9:AG9,Accueil!$B$22)","v":0},{"$f":"COUNTIF(C9:AG9,Accueil!$B$23)","v":12},{"$f":"COUNTIF(C9:AG9,Accueil!$B$24)","v":0},{"$f":"COUNTIF(C9:AG9,Accueil!$B$25)","v":0},{"$f":"COUNTIF(C9:AG9,Accueil!$B$26)","v":0},{"$f":"COUNTIF(C9:AG9,Accueil!$B$27)","v":0},{"$f":"COUNTIF(C9:AG9,Accueil!$B$28)","v":0},{"$f":"COUNTIF(C9:AG9,Accueil!$B$29)","v":0},{"$f":"COUNTIF(C9:AG9,Accueil!$B$30)","v":0},6,null,{"$f":"AI9 +Mars!BH9","v":14},{"$f":"AJ9+Mars!BI9","v":0},{"$f":"AK9+Mars!BJ9","v":0},{"$f":"AL9+Mars!BK9","v":7},{"$f":"AM9+Mars!BL9","v":0},{"$f":"AN9+Mars!BM9","v":17},{"$f":"AO9+Mars!BN9","v":0},{"$f":"AP9+Mars!BO9","v":0},{"$f":"AQ9+Mars!BP9","v":0},{"$f":"AR9+Mars!BQ9","v":0},{"$f":"AS9+Mars!BR9","v":0},{"$f":"AT9+Mars!BS9","v":0},{"$f":"AU9+Mars!BT9","v":0},{"$f":"AV9+Mars!BU9","v":0},{"$f":"AW9+Mars!BV9","v":0},{"$f":"AX9+Mars!BW9","v":21},{"$f":"AY9+Mars!BX9","v":0},{"$f":"AZ9+Mars!BY9","v":0},{"$f":"BA9+Mars!BZ9","v":0},{"$f":"BB9+Mars!CA9","v":0},{"$f":"BC9+Mars!CB9","v":0},{"$f":"BD9+Mars!CC9","v":0},{"$f":"BE9+Mars!CD9","v":0},{"$f":"BF9+Mars!CE9","v":38},null,{"$f":"Mars!CG9","v":0},21,-21,null,{"$f":"Mars!CK9","v":0},0,0,null,{"$f":"Mars!CO9","v":0},0,0,null,{"$f":"Mars!CS9","v":0},0,0]
[{"$f":"Mars!A10","v":0},null,null,null,null,null,null,null,null,null,null,null,null,null,null,null,null,null,null,null,null,null,null,null,null,null,null,null,null,null,null,null,null,null,{"$f":"COUNTIF(C10:AG10,Accueil!$B$8)","v":0},{"$f":"COUNTIF(C10:AG10,Accueil!$B$9)","v":0},{"$f":"COUNTIF(C10:AG10,Accueil!$B$10)","v":0},{"$f":"COUNTIF(C10:AG10,Accueil!$B$11)","v":0},{"$f":"COUNTIF(C10:AG10,Accueil!$B$12)","v":0},{"$f":"COUNTIF(C10:AG10,Accueil!$B$13)","v":0},{"$f":"COUNTIF(C10:AG10,Accueil!$B$14)","v":0},{"$f":"COUNTIF(C10:AG10,Accueil!$B$15)","v":0},{"$f":"COUNTIF(C10:AG10,Accueil!$B$16)","v":0},{"$f":"COUNTIF(C10:AG10,Accueil!$B$17)","v":0},{"$f":"COUNTIF(C10:AG10,Accueil!$B$18)","v":0},{"$f":"COUNTIF(C10:AG10,Accueil!$B$19)","v":0},{"$f":"COUNTIF(C10:AG10,Accueil!$B$20)","v":0},{"$f":"COUNTIF(C10:AG10,Accueil!$B$21)","v":0},{"$f":"COUNTIF(C10:AG10,Accueil!$B$22)","v":0},{"$f":"COUNTIF(C10:AG10,Accueil!$B$23)","v":0},{"$f":"COUNTIF(C10:AG10,Accueil!$B$24)","v":0},{"$f":"COUNTIF(C10:AG10,Accueil!$B$25)","v":0},{"$f":"COUNTIF(C10:AG10,Accueil!$B$26)","v":0},{"$f":"COUNTIF(C10:AG10,Accueil!$B$27)","v":0},{"$f":"COUNTIF(C10:AG10,Accueil!$B$28)","v":0},{"$f":"COUNTIF(C10:AG10,Accueil!$B$29)","v":0},{"$f":"COUNTIF(C10:AG10,Accueil!$B$30)","v":0},0,null,{"$f":"AI10 +Mars!BH10","v":0},{"$f":"AJ10+Mars!BI10","v":0},{"$f":"AK10+Mars!BJ10","v":0},{"$f":"AL10+Mars!BK10","v":0},{"$f":"AM10+Mars!BL10","v":0},{"$f":"AN10+Mars!BM10","v":0},{"$f":"AO10+Mars!BN10","v":0},{"$f":"AP10+Mars!BO10","v":0},{"$f":"AQ10+Mars!BP10","v":0},{"$f":"AR10+Mars!BQ10","v":1},{"$f":"AS10+Mars!BR10","v":2},{"$f":"AT10+Mars!BS10","v":0},{"$f":"AU10+Mars!BT10","v":0},{"$f":"AV10+Mars!BU10","v":0},{"$f":"AW10+Mars!BV10","v":0},{"$f":"AX10+Mars!BW10","v":0},{"$f":"AY10+Mars!BX10","v":0},{"$f":"AZ10+Mars!BY10","v":0},{"$f":"BA10+Mars!BZ10","v":0},{"$f":"BB10+Mars!CA10","v":0},{"$f":"BC10+Mars!CB10","v":0},{"$f":"BD10+Mars!CC10","v":0},{"$f":"BE10+Mars!CD10","v":0},{"$f":"BF10+Mars!CE10","v":3},null,{"$f":"Mars!CG10","v":0},0,0,null,{"$f":"Mars!CK10","v":0},0,0,null,{"$f":"Mars!CO10","v":0},0,0,null,{"$f":"Mars!CS10","v":0},0,0]
[{"$f":"Mars!A11","v":"Simon-Pierre"},null,"Vac","Vac","Vac","M1","M2","M3",null,"M1","MP",null,"M1","M2","MP",null,"M1",null,null,"M1","M2","MP",null,"M1",null,"MP","M1","M2","MP",null,"M1",null,null,null,{"$f":"COUNTIF(C11:AG11,Accueil!$B$8)","v":8},{"$f":"COUNTIF(C11:AG11,Accueil!$B$9)","v":4},{"$f":"COUNTIF(C11:AG11,Accueil!$B$10)","v":1},{"$f":"COUNTIF(C11:AG11,Accueil!$B$11)","v":5},{"$f":"COUNTIF(C11:AG11,Accueil!$B$12)","v":0},{"$f":"COUNTIF(C11:AG11,Accueil!$B$13)","v":0},{"$f":"COUNTIF(C11:AG11,Accueil!$B$14)","v":0},{"$f":"COUNTIF(C11:AG11,Accueil!$B$15)","v":0},{"$f":"COUNTIF(C11:AG11,Accueil!$B$16)","v":0},{"$f":"COUNTIF(C11:AG11,Accueil!$B$17)","v":0},{"$f":"COUNTIF(C11:AG11,Accueil!$B$18)","v":0},{"$f":"COUNTIF(C11:AG11,Accueil!$B$19)","v":0},{"$f":"COUNTIF(C11:AG11,Accueil!$B$20)","v":0},{"$f":"COUNTIF(C11:AG11,Accueil!$B$21)","v":0},{"$f":"COUNTIF(C11:AG11,Accueil!$B$22)","v":0},{"$f":"COUNTIF(C11:AG11,Accueil!$B$23)","v":3},{"$f":"COUNTIF(C11:AG11,Accueil!$B$24)","v":0},{"$f":"COUNTIF(C11:AG11,Accueil!$B$25)","v":0},{"$f":"COUNTIF(C11:AG11,Accueil!$B$26)","v":0},{"$f":"COUNTIF(C11:AG11,Accueil!$B$27)","v":0},{"$f":"COUNTIF(C11:AG11,Accueil!$B$28)","v":0},{"$f":"COUNTIF(C11:AG11,Accueil!$B$29)","v":0},{"$f":"COUNTIF(C11:AG11,Accueil!$B$30)","v":0},18,null,{"$f":"AI11 +Mars!BH11","v":23},{"$f":"AJ11+Mars!BI11","v":14},{"$f":"AK11+Mars!BJ11","v":2},{"$f":"AL11+Mars!BK11","v":12},{"$f":"AM11+Mars!BL11","v":0},{"$f":"AN11+Mars!BM11","v":0},{"$f":"AO11+Mars!BN11","v":0},{"$f":"AP11+Mars!BO11","v":0},{"$f":"AQ11+Mars!BP11","v":0},{"$f":"AR11+Mars!BQ11","v":0},{"$f":"AS11+Mars!BR11","v":0},{"$f":"AT11+Mars!BS11","v":0},{"$f":"AU11+Mars!BT11","v":0},{"$f":"AV11+Mars!BU11","v":0},{"$f":"AW11+Mars!BV11","v":0},{"$f":"AX11+Mars!BW11","v":36},{"$f":"AY11+Mars!BX11","v":0},{"$f":"AZ11+Mars!BY11","v":0},{"$f":"BA11+Mars!BZ11","v":0},{"$f":"BB11+Mars!CA11","v":0},{"$f":"BC11+Mars!CB11","v":0},{"$f":"BD11+Mars!CC11","v":0},{"$f":"BE11+Mars!CD11","v":0},{"$f":"BF11+Mars!CE11","v":51},null,{"$f":"Mars!CG11","v":0},36,-36,null,{"$f":"Mars!CK11","v":0},0,0,null,{"$f":"Mars!CO11","v":0},0,0,null,{"$f":"Mars!CS11","v":0},0,0]
[{"$f":"Mars!A12","v":0},null,null,null,null,null,null,"LY",null,null,null,null,null,null,null,null,null,null,null,null,null,"LY",null,null,null,null,null,null,null,null,null,null,null,null,{"$f":"COUNTIF(C12:AG12,Accueil!$B$8)","v":0},{"$f":"COUNTIF(C12:AG12,Accueil!$B$9)","v":0},{"$f":"COUNTIF(C12:AG12,Accueil!$B$10)","v":0},{"$f":"COUNTIF(C12:AG12,Accueil!$B$11)","v":0},{"$f":"COUNTIF(C12:AG12,Accueil!$B$12)","v":0},{"$f":"COUNTIF(C12:AG12,Accueil!$B$13)","v":0},{"$f":"COUNTIF(C12:AG12,Accueil!$B$14)","v":0},{"$f":"COUNTIF(C12:AG12,Accueil!$B$15)","v":0},{"$f":"COUNTIF(C12:AG12,Accueil!$B$16)","v":0},{"$f":"COUNTIF(C12:AG12,Accueil!$B$17)","v":0},{"$f":"COUNTIF(C12:AG12,Accueil!$B$18)","v":2},{"$f":"COUNTIF(C12:AG12,Accueil!$B$19)","v":0},{"$f":"COUNTIF(C12:AG12,Accueil!$B$20)","v":0},{"$f":"COUNTIF(C12:AG12,Accueil!$B$21)","v":0},{"$f":"COUNTIF(C12:AG12,Accueil!$B$22)","v":0},{"$f":"COUNTIF(C12:AG12,Accueil!$B$23)","v":0},{"$f":"COUNTIF(C12:AG12,Accueil!$B$24)","v":0},{"$f":"COUNTIF(C12:AG12,Accueil!$B$25)","v":0},{"$f":"COUNTIF(C12:AG12,Accueil!$B$26)","v":0},{"$f":"COUNTIF(C12:AG12,Accueil!$B$27)","v":0},{"$f":"COUNTIF(C12:AG12,Accueil!$B$28)","v":0},{"$f":"COUNTIF(C12:AG12,Accueil!$B$29)","v":0},{"$f":"COUNTIF(C12:AG12,Accueil!$B$30)","v":0},2,null,{"$f":"AI12 +Mars!BH12","v":0},{"$f":"AJ12+Mars!BI12","v":0},{"$f":"AK12+Mars!BJ12","v":0},{"$f":"AL12+Mars!BK12","v":0},{"$f":"AM12+Mars!BL12","v":0},{"$f":"AN12+Mars!BM12","v":0},{"$f":"AO12+Mars!BN12","v":0},{"$f":"AP12+Mars!BO12","v":0},{"$f":"AQ12+Mars!BP12","v":0},{"$f":"AR12+Mars!BQ12","v":0},{"$f":"AS12+Mars!BR12","v":11},{"$f":"AT12+Mars!BS12","v":0},{"$f":"AU12+Mars!BT12","v":0},{"$f":"AV12+Mars!BU12","v":0},{"$f":"AW12+Mars!BV12","v":0},{"$f":"AX12+Mars!BW12","v":0},{"$f":"AY12+Mars!BX12","v":0},{"$f":"AZ12+Mars!BY12","v":0},{"$f":"BA12+Mars!BZ12","v":0},{"$f":"BB12+Mars!CA12","v":0},{"$f":"BC12+Mars!CB12","v":0},{"$f":"BD12+Mars!CC12","v":0},{"$f":"BE12+Mars!CD12","v":0},{"$f":"BF12+Mars!CE12","v":11},null,{"$f":"Mars!CG12","v":0},0,0,null,{"$f":"Mars!CK12","v":0},0,0,null,{"$f":"Mars!CO12","v":0},0,0,null,{"$f":"Mars!CS12","v":0},0,0]
[{"$f":"Mars!A13","v":"Virginie"},null,null,"MP",null,"M1","M2","MP","M3",null,null,null,"MP","M2","MP","M3",null,"MP",null,"M1","M2","MP","M3",null,null,null,"M1","M2","MP","M3",null,null,null,null,{"$f":"COUNTIF(C13:AG13,Accueil!$B$8)","v":3},{"$f":"COUNTIF(C13:AG13,Accueil!$B$9)","v":4},{"$f":"COUNTIF(C13:AG13,Accueil!$B$10)","v":4},{"$f":"COUNTIF(C13:AG13,Accueil!$B$11)","v":7},{"$f":"COUNTIF(C13:AG13,Accueil!$B$12)","v":0},{"$f":"COUNTIF(C13:AG13,Accueil!$B$13)","v":0},{"$f":"COUNTIF(C13:AG13,Accueil!$B$14)","v":0},{"$f":"COUNTIF(C13:AG13,Accueil!$B$15)","v":0},{"$f":"COUNTIF(C13:AG13,Accueil!$B$16)","v":0},{"$f":"COUNTIF(C13:AG13,Accueil!$B$17)","v":0},{"$f":"COUNTIF(C13:AG13,Accueil!$B$18)","v":0},{"$f":"COUNTIF(C13:AG13,Accueil!$B$19)","v":0},{"$f":"COUNTIF(C13:AG13,Accueil!$B$20)","v":0},{"$f":"COUNTIF(C13:AG13,Accueil!$B$21)","v":0},{"$f":"COUNTIF(C13:AG13,Accueil!$B$22)","v":0},{"$f":"COUNTIF(C13:AG13,Accueil!$B$23)","v":0},{"$f":"COUNTIF(C13:AG13,Accueil!$B$24)","v":0},{"$f":"COUNTIF(C13:AG13,Accueil!$B$25)","v":0},{"$f":"COUNTIF(C13:AG13,Accueil!$B$26)","v":0},{"$f":"COUNTIF(C13:AG13,Accueil!$B$27)","v":0},{"$f":"COUNTIF(C13:AG13,Accueil!$B$28)","v":0},{"$f":"COUNTIF(C13:AG13,Accueil!$B$29)","v":0},{"$f":"COUNTIF(C13:AG13,Accueil!$B$30)","v":0},18,null,{"$f":"AI13 +Mars!BH13","v":8},{"$f":"AJ13+Mars!BI13","v":19},{"$f":"AK13+Mars!BJ13","v":7},{"$f":"AL13+Mars!BK13","v":24},{"$f":"AM13+Mars!BL13","v":1},{"$f":"AN13+Mars!BM13","v":4},{"$f":"AO13+Mars!BN13","v":0},{"$f":"AP13+Mars!BO13","v":0},{"$f":"AQ13+Mars!BP13","v":0},{"$f":"AR13+Mars!BQ13","v":0},{"$f":"AS13+Mars!BR13","v":0},{"$f":"AT13+Mars!BS13","v":0},{"$f":"AU13+Mars!BT13","v":0},{"$f":"AV13+Mars!BU13","v":0},{"$f":"AW13+Mars!BV13","v":0},{"$f":"AX13+Mars!BW13","v":6},{"$f":"AY13+Mars!BX13","v":0},{"$f":"AZ13+Mars!BY13","v":0},{"$f":"BA13+Mars!BZ13","v":17},{"$f":"BB13+Mars!CA13","v":1},{"$f":"BC13+Mars!CB13","v":0},{"$f":"BD13+Mars!CC13","v":0},{"$f":"BE13+Mars!CD13","v":0},{"$f":"BF13+Mars!CE13","v":63},null,{"$f":"Mars!CG13","v":0},6,-6,null,{"$f":"Mars!CK13","v":0},0,0,null,{"$f":"Mars!CO13","v":0},0,0,null,{"$f":"Mars!CS13","v":0},0,0]
[{"$f":"Mars!A14","v":0},null,null,null,null,null,null,null,null,null,null,null,null,null,null,null,null,null,null,null,null,null,null,null,null,null,null,null,null,null,null,null,null,null,{"$f":"COUNTIF(C14:AG14,Accueil!$B$8)","v":0},{"$f":"COUNTIF(C14:AG14,Accueil!$B$9)","v":0},{"$f":"COUNTIF(C14:AG14,Accueil!$B$10)","v":0},{"$f":"COUNTIF(C14:AG14,Accueil!$B$11)","v":0},{"$f":"COUNTIF(C14:AG14,Accueil!$B$12)","v":0},{"$f":"COUNTIF(C14:AG14,Accueil!$B$13)","v":0},{"$f":"COUNTIF(C14:AG14,Accueil!$B$14)","v":0},{"$f":"COUNTIF(C14:AG14,Accueil!$B$15)","v":0},{"$f":"COUNTIF(C14:AG14,Accueil!$B$16)","v":0},{"$f":"COUNTIF(C14:AG14,Accueil!$B$17)","v":0},{"$f":"COUNTIF(C14:AG14,Accueil!$B$18)","v":0},{"$f":"COUNTIF(C14:AG14,Accueil!$B$19)","v":0},{"$f":"COUNTIF(C14:AG14,Accueil!$B$20)","v":0},{"$f":"COUNTIF(C14:AG14,Accueil!$B$21)","v":0},{"$f":"COUNTIF(C14:AG14,Accueil!$B$22)","v":0},{"$f":"COUNTIF(C14:AG14,Accueil!$B$23)","v":0},{"$f":"COUNTIF(C14:AG14,Accueil!$B$24)","v":0},{"$f":"COUNTIF(C14:AG14,Accueil!$B$25)","v":0},{"$f":"COUNTIF(C14:AG14,Accueil!$B$26)","v":0},{"$f":"COUNTIF(C14:AG14,Accueil!$B$27)","v":0},{"$f":"COUNTIF(C14:AG14,Accueil!$B$28)","v":0},{"$f":"COUNTIF(C14:AG14,Accueil!$B$29)","v":0},{"$f":"COUNTIF(C14:AG14,Accueil!$B$30)","v":0},0,null,{"$f":"AI14 +Mars!BH14","v":0},{"$f":"AJ14+Mars!BI14","v":0},{"$f":"AK14+Mars!BJ14","v":0},{"$f":"AL14+Mars!BK14","v":0},{"$f":"AM14+Mars!BL14","v":0},{"$f":"AN14+Mars!BM14","v":0},{"$f":"AO14+Mars!BN14","v":0},{"$f":"AP14+Mars!BO14","v":0},{"$f":"AQ14+Mars!BP14","v":0},{"$f":"AR14+Mars!BQ14","v":6},{"$f":"AS14+Mars!BR14","v":1},{"$f":"AT14+Mars!BS14","v":0},{"$f":"AU14+Mars!BT14","v":0},{"$f":"AV14+Mars!BU14","v":0},{"$f":"AW14+Mars!BV14","v":0},{"$f":"AX14+Mars!BW14","v":0},{"$f":"AY14+Mars!BX14","v":0},{"$f":"AZ14+Mars!BY14","v":0},{"$f":"BA14+Mars!BZ14","v":0},{"$f":"BB14+Mars!CA14","v":0},{"$f":"BC14+Mars!CB14","v":0},{"$f":"BD14+Mars!CC14","v":0},{"$f":"BE14+Mars!CD14","v":0},{"$f":"BF14+Mars!CE14","v":7},null,{"$f":"Mars!CG14","v":0},0,0,null,{"$f":"Mars!CK14","v":0},0,0,null,{"$f":"Mars!CO14","v":0},0,0,null,{"$f":"Mars!CS14","v":0},0,0]
[{"$f":"Mars!A15","v":"Jacqueline"},null,"M1","MP","Vac","M3","MP","Vac","Vac","Vac","Vac","Vac","Vac","Vac","Vac","Vac","Vac","Vac","Vac","M3","MP",null,null,"M2",null,null,"M3","MP",null,null,"M2","MP",null,null,{"$f":"COUNTIF(C15:AG15,Accueil!$B$8)","v":1},{"$f":"COUNTIF(C15:AG15,Accueil!$B$9)","v":2},{"$f":"COUNTIF(C15:AG15,Accueil!$B$10)","v":3},{"$f":"COUNTIF(C15:AG15,Accueil!$B$11)","v":5},{"$f":"COUNTIF(C15:AG15,Accueil!$B$12)","v":0},{"$f":"COUNTIF(C15:AG15,Accueil!$B$13)","v":0},{"$f":"COUNTIF(C15:AG15,Accueil!$B$14)","v":0},{"$f":"COUNTIF(C15:AG15,Accueil!$B$15)","v":0},{"$f":"COUNTIF(C15:AG15,Accueil!$B$16)","v":0},{"$f":"COUNTIF(C15:AG15,Accueil!$B$17)","v":0},{"$f":"COUNTIF(C15:AG15,Accueil!$B$18)","v":0},{"$f":"COUNTIF(C15:AG15,Accueil!$B$19)","v":0},{"$f":"COUNTIF(C15:AG15,Accueil!$B$20)","v":0},{"$f":"COUNTIF(C15:AG15,Accueil!$B$21)","v":0},{"$f":"COUNTIF(C15:AG15,Accueil!$B$22)","v":0},{"$f":"COUNTIF(C15:AG15,Accueil!$B$23)","v":13},{"$f":"COUNTIF(C15:AG15,Accueil!$B$24)","v":0},{"$f":"COUNTIF(C15:AG15,Accueil!$B$25)","v":0},{"$f":"COUNTIF(C15:AG15,Accueil!$B$26)","v":0},{"$f":"COUNTIF(C15:AG15,Accueil!$B$27)","v":0},{"$f":"COUNTIF(C15:AG15,Accueil!$B$28)","v":0},{"$f":"COUNTIF(C15:AG15,Accueil!$B$29)","v":0},{"$f":"COUNTIF(C15:AG15,Accueil!$B$30)","v":0},11,null,{"$f":"AI15 +Mars!BH15","v":3},{"$f":"AJ15+Mars!BI15","v":13},{"$f":"AK15+Mars!BJ15","v":10},{"$f":"AL15+Mars!BK15","v":25},{"$f":"AM15+Mars!BL15","v":0},{"$f":"AN15+Mars!BM15","v":1},{"$f":"AO15+Mars!BN15","v":0},{"$f":"AP15+Mars!BO15","v":0},{"$f":"AQ15+Mars!BP15","v":0},{"$f":"AR15+Mars!BQ15","v":0},{"$f":"AS15+Mars!BR15","v":0},{"$f":"AT15+Mars!BS15","v":0},{"$f":"AU15+Mars!BT15","v":0},{"$f":"AV15+Mars!BU15","v":0},{"$f":"AW15+Mars!BV15","v":0},{"$f":"AX15+Mars!BW15","v":13},{"$f":"AY15+Mars!BX15","v":0},{"$f":"AZ15+Mars!BY15","v":0},{"$f":"BA15+Mars!BZ15","v":2},{"$f":"BB15+Mars!CA15","v":0},{"$f":"BC15+Mars!CB15","v":0},{"$f":"BD15+Mars!CC15","v":0},{"$f":"BE15+Mars!CD15","v":0},{"$f":"BF15+Mars!CE15","v":52},null,{"$f":"Mars!CG15","v":0},13,-13,null,{"$f":"Mars!CK15","v":0},0,0,null,{"$f":"Mars!CO15","v":0},0,0,null,{"$f":"Mars!CS15","v":0},0,0]
[{"$f":"Mars!A16","v":0},null,null,null,null,null,null,null,null,null,null,null,null,null,null,null,null,null,null,null,null,null,null,null,null,null,null,null,null,null,null,null,null,null,{"$f":"COUNTIF(C16:AG16,Accueil!$B$8)","v":0},{"$f":"COUNTIF(C16:AG16,Accueil!$B$9)","v":0},{"$f":"COUNTIF(C16:AG16,Accueil!$B$10)","v":0},{"$f":"COUNTIF(C16:AG16,Accueil!$B$11)","v":0},{"$f":"COUNTIF(C16:AG16,Accueil!$B$12)","v":0},{"$f":"COUNTIF(C16:AG16,Accueil!$B$13)","v":0},{"$f":"COUNTIF(C16:AG16,Accueil!$B$14)","v":0},{"$f":"COUNTIF(C16:AG16,Accueil!$B$15)","v":0},{"$f":"COUNTIF(C16:AG16,Accueil!$B$16)","v":0},{"$f":"COUNTIF(C16:AG16,Accueil!$B$17)","v":0},{"$f":"COUNTIF(C16:AG16,Accueil!$B$18)","v":0},{"$f":"COUNTIF(C16:AG16,Accueil!$B$19)","v":0},{"$f":"COUNTIF(C16:AG16,Accueil!$B$20)","v":0},{"$f":"COUNTIF(C16:AG16,Accueil!$B$21)","v":0},{"$f":"COUNTIF(C16:AG16,Accueil!$B$22)","v":0},{"$f":"COUNTIF(C16:AG16,Accueil!$B$23)","v":0},{"$f":"COUNTIF(C16:AG16,Accueil!$B$24)","v":0},{"$f":"COUNTIF(C16:AG16,Accueil!$B$25)","v":0},{"$f":"COUNTIF(C16:AG16,Accueil!$B$26)","v":0},{"$f":"COUNTIF(C16:AG16,Accueil!$B$27)","v":0},{"$f":"COUNTIF(C16:AG16,Accueil!$B$28)","v":0},{"$f":"COUNTIF(C16:AG16,Accueil!$B$29)","v":0},{"$f":"COUNTIF(C16:AG16,Accueil!$B$30)","v":0},0,null,{"$f":"AI16 +Mars!BH16","v":0},{"$f":"AJ16+Mars!BI16","v":0},{"$f":"AK16+Mars!BJ16","v":0},{"$f":"AL16+Mars!BK16","v":0},{"$f":"AM16+Mars!BL16","v":0},{"$f":"AN16+Mars!BM16","v":0},{"$f":"AO16+Mars!BN16","v":0},{"$f":"AP16+Mars!BO16","v":0},{"$f":"AQ16+Mars!BP16","v":0},{"$f":"AR16+Mars!BQ16","v":0},{"$f":"AS16+Mars!BR16","v":6},{"$f":"AT16+Mars!BS16","v":0},{"$f":"AU16+Mars!BT16","v":0},{"$f":"AV16+Mars!BU16","v":0},{"$f":"AW16+Mars!BV16","v":0},{"$f":"AX16+Mars!BW16","v":0},{"$f":"AY16+Mars!BX16","v":0},{"$f":"AZ16+Mars!BY16","v":0},{"$f":"BA16+Mars!BZ16","v":0},{"$f":"BB16+Mars!CA16","v":0},{"$f":"BC16+Mars!CB16","v":0},{"$f":"BD16+Mars!CC16","v":0},{"$f":"BE16+Mars!CD16","v":0},{"$f":"BF16+Mars!CE16","v":6},null,{"$f":"Mars!CG16","v":0},0,0,null,{"$f":"Mars!CK16","v":0},0,0,null,{"$f":"Mars!CO16","v":0},0,0,null,{"$f":"Mars!CS16","v":0},0,0]
[{"$f":"Mars!A17","v":"Colette"},null,"AP2",null,"MP","IND","M2","MP","IND","IND","IND","IND","IND","MP","MP",null,null,"IND","IND","Vac","Vac","Vac","Vac","Vac","IND","IND",null,"M2","MP",null,"AP2",null,null,null,{"$f":"COUNTIF(C17:AG17,Accueil!$B$8)","v":0},{"$f":"COUNTIF(C17:AG17,Accueil!$B$9)","v":2},{"$f":"COUNTIF(C17:AG17,Accueil!$B$10)","v":0},{"$f":"COUNTIF(C17:AG17,Accueil!$B$11)","v":5},{"$f":"COUNTIF(C17:AG17,Accueil!$B$12)","v":0},{"$f":"COUNTIF(C17:AG17,Accueil!$B$13)","v":2},{"$f":"COUNTIF(C17:AG17,Accueil!$B$14)","v":0},{"$f":"COUNTIF(C17:AG17,Accueil!$B$15)","v":0},{"$f":"COUNTIF(C17:AG17,Accueil!$B$16)","v":0},{"$f":"COUNTIF(C17:AG17,Accueil!$B$17)","v":0},{"$f":"COUNTIF(C17:AG17,Accueil!$B$18)","v":0},{"$f":"COUNTIF(C17:AG17,Accueil!$B$19)","v":0},{"$f":"COUNTIF(C17:AG17,Accueil!$B$20)","v":10},{"$f":"COUNTIF(C17:AG17,Accueil!$B$21)","v":0},{"$f":"COUNTIF(C17:AG17,Accueil!$B$22)","v":0},{"$f":"COUNTIF(C17:AG17,Accueil!$B$23)","v":5},{"$f":"COUNTIF(C17:AG17,Accueil!$B$24)","v":0},{"$f":"COUNTIF(C17:AG17,Accueil!$B$25)","v":0},{"$f":"COUNTIF(C17:AG17,Accueil!$B$26)","v":0},{"$f":"COUNTIF(C17:AG17,Accueil!$B$27)","v":0},{"$f":"COUNTIF(C17:AG17,Accueil!$B$28)","v":0},{"$f":"COUNTIF(C17:AG17,Accueil!$B$29)","v":0},{"$f":"COUNTIF(C17:AG17,Accueil!$B$30)","v":0},9,null,{"$f":"AI17 +Mars!BH17","v":0},{"$f":"AJ17+Mars!BI17","v":14},{"$f":"AK17+Mars!BJ17","v":1},{"$f":"AL17+Mars!BK17","v":19},{"$f":"AM17+Mars!BL17","v":4},{"$f":"AN17+Mars!BM17","v":2},{"$f":"AO17+Mars!BN17","v":0},{"$f":"AP17+Mars!BO17","v":0},{"$f":"AQ17+Mars!BP17","v":0},{"$f":"AR17+Mars!BQ17","v":0},{"$f":"AS17+Mars!BR17","v":0},{"$f":"AT17+Mars!BS17","v":0},{"$f":"AU17+Mars!BT17","v":17},{"$f":"AV17+Mars!BU17","v":0},{"$f":"AW17+Mars!BV17","v":0},{"$f":"AX17+Mars!BW17","v":5},{"$f":"AY17+Mars!BX17","v":0},{"$f":"AZ17+Mars!BY17","v":0},{"$f":"BA17+Mars!BZ17","v":0},{"$f":"BB17+Mars!CA17","v":0},{"$f":"BC17+Mars!CB17","v":0},{"$f":"BD17+Mars!CC17","v":0},{"$f":"BE17+Mars!CD17","v":0},{"$f":"BF17+Mars!CE17","v":40},null,{"$f":"Mars!CG17","v":0},5,-5,null,{"$f":"Mars!CK17","v":0},0,0,null,{"$f":"Mars!CO17","v":0},0,0,null,{"$f":"Mars!CS17","v":0},0,0]
[{"$f":"Mars!A18","v":0},null,null,null,"LY",null,null,null,null,null,null,null,null,null,"LY",null,null,null,null,null,null,null,null,null,null,null,null,null,null,null,null,null,null,null,{"$f":"COUNTIF(C18:AG18,Accueil!$B$8)","v":0},{"$f":"COUNTIF(C18:AG18,Accueil!$B$9)","v":0},{"$f":"COUNTIF(C18:AG18,Accueil!$B$10)","v":0},{"$f":"COUNTIF(C18:AG18,Accueil!$B$11)","v":0},{"$f":"COUNTIF(C18:AG18,Accueil!$B$12)","v":0},{"$f":"COUNTIF(C18:AG18,Accueil!$B$13)","v":0},{"$f":"COUNTIF(C18:AG18,Accueil!$B$14)","v":0},{"$f":"COUNTIF(C18:AG18,Accueil!$B$15)","v":0},{"$f":"COUNTIF(C18:AG18,Accueil!$B$16)","v":0},{"$f":"COUNTIF(C18:AG18,Accueil!$B$17)","v":0},{"$f":"COUNTIF(C18:AG18,Accueil!$B$18)","v":2},{"$f":"COUNTIF(C18:AG18,Accueil!$B$19)","v":0},{"$f":"COUNTIF(C18:AG18,Accueil!$B$20)","v":0},{"$f":"COUNTIF(C18:AG18,Accueil!$B$21)","v":0},{"$f":"COUNTIF(C18:AG18,Accueil!$B$22)","v":0},{"$f":"COUNTIF(C18:AG18,Accueil!$B$23)","v":0},{"$f":"COUNTIF(C18:AG18,Accueil!$B$24)","v":0},{"$f":"COUNTIF(C18:AG18,Accueil!$B$25)","v":0},{"$f":"COUNTIF(C18:AG18,Accueil!$B$26)","v":0},{"$f":"COUNTIF(C18:AG18,Accueil!$B$27)","v":0},{"$f":"COUNTIF(C18:AG18,Accueil!$B$28)","v":0},{"$f":"COUNTIF(C18:AG18,Accueil!$B$29)","v":0},{"$f":"COUNTIF(C18:AG18,Accueil!$B$30)","v":0},2,null,{"$f":"AI18 +Mars!BH18","v":0},{"$f":"AJ18+Mars!BI18","v":0},{"$f":"AK18+Mars!BJ18","v":0},{"$f":"AL18+Mars!BK18","v":1},{"$f":"AM18+Mars!BL18","v":0},{"$f":"AN18+Mars!BM18","v":0},{"$f":"AO18+Mars!BN18","v":0},{"$f":"AP18+Mars!BO18","v":0},{"$f":"AQ18+Mars!BP18","v":0},{"$f":"AR18+Mars!BQ18","v":0},{"$f":"AS18+Mars!BR18","v":34},{"$f":"AT18+Mars!BS18","v":0},{"$f":"AU18+Mars!BT18","v":0},{"$f":"AV18+Mars!BU18","v":0},{"$f":"AW18+Mars!BV18","v":0},{"$f":"AX18+Mars!BW18","v":0},{"$f":"AY18+Mars!BX18","v":0},{"$f":"AZ18+Mars!BY18","v":0},{"$f":"BA18+Mars!BZ18","v":0},{"$f":"BB18+Mars!CA18","v":0},{"$f":"BC18+Mars!CB18","v":0},{"$f":"BD18+Mars!CC18","v":0},{"$f":"BE18+Mars!CD18","v":0},{"$f":"BF18+Mars!CE18","v":35},null,{"$f":"Mars!CG18","v":0},0,0,null,{"$f":"Mars!CK18","v":0},0,0,null,{"$f":"Mars!CO18","v":0},0,0,null,{"$f":"Mars!CS18","v":0},0,0]
[{"$f":"Mars!A19","v":"Lisa"},null,"Vac","Vac","Vac",null,"M2",null,"M1","MP","MP",null,null,"M2",null,"M1","MP","MP",null,null,"M2",null,"M1","MP",null,null,null,"M2",null,"M1","MP",null,null,null,{"$f":"COUNTIF(C19:AG19,Accueil!$B$8)","v":4},{"$f":"COUNTIF(C19:AG19,Accueil!$B$9)","v":4},{"$f":"COUNTIF(C19:AG19,Accueil!$B$10)","v":0},{"$f":"COUNTIF(C19:AG19,Accueil!$B$11)","v":6},{"$f":"COUNTIF(C19:AG19,Accueil!$B$12)","v":0},{"$f":"COUNTIF(C19:AG19,Accueil!$B$13)","v":0},{"$f":"COUNTIF(C19:AG19,Accueil!$B$14)","v":0},{"$f":"COUNTIF(C19:AG19,Accueil!$B$15)","v":0},{"$f":"COUNTIF(C19:AG19,Accueil!$B$16)","v":0},{"$f":"COUNTIF(C19:AG19,Accueil!$B$17)","v":0},{"$f":"COUNTIF(C19:AG19,Accueil!$B$18)","v":0},{"$f":"COUNTIF(C19:AG19,Accueil!$B$19)","v":0},{"$f":"COUNTIF(C19:AG19,Accueil!$B$20)","v":0},{"$f":"COUNTIF(C19:AG19,Accueil!$B$21)","v":0},{"$f":"COUNTIF(C19:AG19,Accueil!$B$22)","v":0},{"$f":"COUNTIF(C19:AG19,Accueil!$B$23)","v":3},{"$f":"COUNTIF(C19:AG19,Accueil!$B$24)","v":0},{"$f":"COUNTIF(C19:AG19,Accueil!$B$25)","v":0},{"$f":"COUNTIF(C19:AG19,Accueil!$B$26)","v":0},{"$f":"COUNTIF(C19:AG19,Accueil!$B$27)","v":0},{"$f":"COUNTIF(C19:AG19,Accueil!$B$28)","v":0},{"$f":"COUNTIF(C19:AG19,Accueil!$B$29)","v":0},{"$f":"COUNTIF(C19:AG19,Accueil!$B$30)","v":0},14,null,{"$f":"AI19 +Mars!BH19","v":8},{"$f":"AJ19+Mars!BI19","v":15},{"$f":"AK19+Mars!BJ19","v":7},{"$f":"AL19+Mars!BK19","v":20},{"$f":"AM19+Mars!BL19","v":3},{"$f":"AN19+Mars!BM19","v":2},{"$f":"AO19+Mars!BN19","v":0},{"$f":"AP19+Mars!BO19","v":0},{"$f":"AQ19+Mars!BP19","v":0},{"$f":"AR19+Mars!BQ19","v":0},{"$f":"AS19+Mars!BR19","v":0},{"$f":"AT19+Mars!BS19","v":0},{"$f":"AU19+Mars!BT19","v":0},{"$f":"AV19+Mars!BU19","v":0},{"$f":"AW19+Mars!BV19","v":0},{"$f":"AX19+Mars!BW19","v":11},{"$f":"AY19+Mars!BX19","v":0},{"$f":"AZ19+Mars!BY19","v":0},{"$f":"BA19+Mars!BZ19","v":2},{"$f":"BB19+Mars!CA19","v":0},{"$f":"BC19+Mars!CB19","v":0},{"$f":"BD19+Mars!CC19","v":0},{"$f":"BE19+Mars!CD19","v":0},{"$f":"BF19+Mars!CE19","v":55},null,{"$f":"Mars!CG19","v":0},11,-11,null,{"$f":"Mars!CK19","v":0},0,0,null,{"$f":"Mars!CO19","v":0},0,0,null,{"$f":"Mars!CS19","v":0},0,0]
[{"$f":"Mars!A20","v":0},null,null,null,null,null,null,null,null,null,null,null,null,null,null,null,null,null,null,null,null,null,null,null,null,null,null,null,null,null,null,null,null,null,{"$f":"COUNTIF(C20:AG20,Accueil!$B$8)","v":0},{"$f":"COUNTIF(C20:AG20,Accueil!$B$9)","v":0},{"$f":"COUNTIF(C20:AG20,Accueil!$B$10)","v":0},{"$f":"COUNTIF(C20:AG20,Accueil!$B$11)","v":0},{"$f":"COUNTIF(C20:AG20,Accueil!$B$12)","v":0},{"$f":"COUNTIF(C20:AG20,Accueil!$B$13)","v":0},{"$f":"COUNTIF(C20:AG20,Accueil!$B$14)","v":0},{"$f":"COUNTIF(C20:AG20,Accueil!$B$15)","v":0},{"$f":"COUNTIF(C20:AG20,Accueil!$B$16)","v":0},{"$f":"COUNTIF(C20:AG20,Accueil!$B$17)","v":0},{"$f":"COUNTIF(C20:AG20,Accueil!$B$18)","v":0},{"$f":"COUNTIF(C20:AG20,Accueil!$B$19)","v":0},{"$f":"COUNTIF(C20:AG20,Accueil!$B$20)","v":0},{"$f":"COUNTIF(C20:AG20,Accueil!$B$21)","v":0},{"$f":"COUNTIF(C20:AG20,Accueil!$B$22)","v":0},{"$f":"COUNTIF(C20:AG20,Accueil!$B$23)","v":0},{"$f":"COUNTIF(C20:AG20,Accueil!$B$24)","v":0},{"$f":"COUNTIF(C20:AG20,Accueil!$B$25)","v":0},{"$f":"COUNTIF(C20:AG20,Accueil!$B$26)","v":0},{"$f":"COUNTIF(C20:AG20,Accueil!$B$27)","v":0},{"$f":"COUNTIF(C20:AG20,Accueil!$B$28)","v":0},{"$f":"COUNTIF(C20:AG20,Accueil!$B$29)","v":0},{"$f":"COUNTIF(C20:AG20,Accueil!$B$30)","v":0},0,null,{"$f":"AI20 +Mars!BH20","v":0},{"$f":"AJ20+Mars!BI20","v":0},{"$f":"AK20+Mars!BJ20","v":0},{"$f":"AL20+Mars!BK20","v":0},{"$f":"AM20+Mars!BL20","v":0},{"$f":"AN20+Mars!BM20","v":0},{"$f":"AO20+Mars!BN20","v":0},{"$f":"AP20+Mars!BO20","v":0},{"$f":"AQ20+Mars!BP20","v":0},{"$f":"AR20+Mars!BQ20","v":0},{"$f":"AS20+Mars!BR20","v":1},{"$f":"AT20+Mars!BS20","v":0},{"$f":"AU20+Mars!BT20","v":0},{"$f":"AV20+Mars!BU20","v":0},{"$f":"AW20+Mars!BV20","v":0},{"$f":"AX20+Mars!BW20","v":0},{"$f":"AY20+Mars!BX20","v":0},{"$f":"AZ20+Mars!BY20","v":0},{"$f":"BA20+Mars!BZ20","v":0},{"$f":"BB20+Mars!CA20","v":0},{"$f":"BC20+Mars!CB20","v":0},{"$f":"BD20+Mars!CC20","v":0},{"$f":"BE20+Mars!CD20","v":0},{"$f":"BF20+Mars!CE20","v":1},null,{"$f":"Mars!CG20","v":0},0,0,null,{"$f":"Mars!CK20","v":0},0,0,null,{"$f":"Mars!CO20","v":0},0,0,null,{"$f":"Mars!CS20","v":0},0,0]
[{"$f":"Mars!A21","v":"Philip"},null,null,null,null,"MP","M1",null,null,null,null,"MP","MP","M1",null,null,null,null,null,"MP","M1",null,null,null,null,"MP","MP","M1",null,null,null,null,null,null,{"$f":"COUNTIF(C21:AG21,Accueil!$B$8)","v":4},{"$f":"COUNTIF(C21:AG21,Accueil!$B$9)","v":0},{"$f":"COUNTIF(C21:AG21,Accueil!$B$10)","v":0},{"$f":"COUNTIF(C21:AG21,Accueil!$B$11)","v":6},{"$f":"COUNTIF(C21:AG21,Accueil!$B$12)","v":0},{"$f":"COUNTIF(C21:AG21,Accueil!$B$13)","v":0},{"$f":"COUNTIF(C21:AG21,Accueil!$B$14)","v":0},{"$f":"COUNTIF(C21:AG21,Accueil!$B$15)","v":0},{"$f":"COUNTIF(C21:AG21,Accueil!$B$16)","v":0},{"$f":"COUNTIF(C21:AG21,Accueil!$B$17)","v":0},{"$f":"COUNTIF(C21:AG21,Accueil!$B$18)","v":0},{"$f":"COUNTIF(C21:AG21,Accueil!$B$19)","v":0},{"$f":"COUNTIF(C21:AG21,Accueil!$B$20)","v":0},{"$f":"COUNTIF(C21:AG21,Accueil!$B$21)","v":0},{"$f":"COUNTIF(C21:AG21,Accueil!$B$22)","v":0},{"$f":"COUNTIF(C21:AG21,Accueil!$B$23)","v":0},{"$f":"COUNTIF(C21:AG21,Accueil!$B$24)","v":0},{"$f":"COUNTIF(C21:AG21,Accueil!$B$25)","v":0},{"$f":"COUNTIF(C21:AG21,Accueil!$B$26)","v":0},{"$f":"COUNTIF(C21:AG21,Accueil!$B$27)","v":0},{"$f":"COUNTIF(C21:AG21,Accueil!$B$28)","v":0},{"$f":"COUNTIF(C21:AG21,Accueil!$B$29)","v":0},{"$f":"COUNTIF(C21:AG21,Accueil!$B$30)","v":0},10,null,{"$f":"AI21 +Mars!BH21","v":15},{"$f":"AJ21+Mars!BI21","v":0},{"$f":"AK21+Mars!BJ21","v":0},{"$f":"AL21+Mars!BK21","v":17},{"$f":"AM21+Mars!BL21","v":5},{"$f":"AN21+Mars!BM21","v":1},{"$f":"AO21+Mars!BN21","v":0},{"$f":"AP21+Mars!BO21","v":0},{"$f":"AQ21+Mars!BP21","v":0},{"$f":"AR21+Mars!BQ21","v":0},{"$f":"AS21+Mars!BR21","v":0},{"$f":"AT21+Mars!BS21","v":0},{"$f":"AU21+Mars!BT21","v":0},{"$f":"AV21+Mars!BU21","v":0},{"$f":"AW21+Mars!BV21","v":0},{"$f":"AX21+Mars!BW21","v":12},{"$f":"AY21+Mars!BX21","v":0},{"$f":"AZ21+Mars!BY21","v":0},{"$f":"BA21+Mars!BZ21","v":0},{"$f":"BB21+Mars!CA21","v":0},{"$f":"BC21+Mars!CB21","v":0},{"$f":"BD21+Mars!CC21","v":0},{"$f":"BE21+Mars!CD21","v":0},{"$f":"BF21+Mars!CE21","v":38},null,{"$f":"Mars!CG21","v":0},12,-12,null,{"$f":"Mars!CK21","v":0},0,0,null,{"$f":"Mars!CO21","v":0},0,0,null,{"$f":"Mars!CS21","v":0},0,0]
[{"$f":"Mars!A22","v":0},null,null,null,null,null,null,null,null,null,null,null,null,null,null,null,null,null,null,null,null,null,null,null,null,null,null,null,null,null,null,null,null,null,{"$f":"COUNTIF(C22:AG22,Accueil!$B$8)","v":0},{"$f":"COUNTIF(C22:AG22,Accueil!$B$9)","v":0},{"$f":"COUNTIF(C22:AG22,Accueil!$B$10)","v":0},{"$f":"COUNTIF(C22:AG22,Accueil!$B$11)","v":0},{"$f":"COUNTIF(C22:AG22,Accueil!$B$12)","v":0},{"$f":"COUNTIF(C22:AG22,Accueil!$B$13)","v":0},{"$f":"COUNTIF(C22:AG22,Accueil!$B$14)","v":0},{"$f":"COUNTIF(C22:AG22,Accueil!$B$15)","v":0},{"$f":"COUNTIF(C22:AG22,Accueil!$B$16)","v":0},{"$f":"COUNTIF(C22:AG22,Accueil!$B$17)","v":0},{"$f":"COUNTIF(C22:AG22,Accueil!$B$18)","v":0},{"$f":"COUNTIF(C22:AG22,Accueil!$B$19)","v":0},{"$f":"COUNTIF(C22:AG22,Accueil!$B$20)","v":0},{"$f":"COUNTIF(C22:AG22,Accueil!$B$21)","v":0},{"$f":"COUNTIF(C22:AG22,Accueil!$B$22)","v":0},{"$f":"COUNTIF(C22:AG22,Accueil!$B$23)","v":0},{"$f":"COUNTIF(C22:AG22,Accueil!$B$24)","v":0},{"$f":"COUNTIF(C22:AG22,Accueil!$B$25)","v":0},{"$f":"COUNTIF(C22:AG22,Accueil!$B$26)","v":0},{"$f":"COUNTIF(C22:AG22,Accueil!$B$27)","v":0},{"$f":"COUNTIF(C22:AG22,Accueil!$B$28)","v":0},{"$f":"COUNTIF(C22:AG22,Accueil!$B$29)","v":0},{"$f":"COUNTIF(C22:AG22,Accueil!$B$30)","v":0},0,null,{"$f":"AI22 +Mars!BH22","v":0},{"$f":"AJ22+Mars!BI22","v":0},{"$f":"AK22+Mars!BJ22","v":0},{"$f":"AL22+Mars!BK22","v":0},{"$f":"AM22+Mars!BL22","v":0},{"$f":"AN22+Mars!BM22","v":0},{"$f":"AO22+Mars!BN22","v":0},{"$f":"AP22+Mars!BO22","v":0},{"$f":"AQ22+Mars!BP22","v":0},{"$f":"AR22+Mars!BQ22","v":8},{"$f":"AS22+Mars!BR22","v":3},{"$f":"AT22+Mars!BS22","v":0},{"$f":"AU22+Mars!BT22","v":0},{"$f":"AV22+Mars!BU22","v":0},{"$f":"AW22+Mars!BV22","v":0},{"$f":"AX22+Mars!BW22","v":0},{"$f":"AY22+Mars!BX22","v":0},{"$f":"AZ22+Mars!BY22","v":0},{"$f":"BA22+Mars!BZ22","v":0},{"$f":"BB22+Mars!CA22","v":0},{"$f":"BC22+Mars!CB22","v":0},{"$f":"BD22+Mars!CC22","v":0},{"$f":"BE22+Mars!CD22","v":0},{"$f":"BF22+Mars!CE22","v":11},null,{"$f":"Mars!CG22","v":0},0,0,null,{"$f":"Mars!CK22","v":0},0,0,null,{"$f":"Mars!CO22","v":0},0,0,null,{"$f":"Mars!CS22","v":0},0,0]
[{"$f":"Mars!A23","v":"Dania"},null,null,null,null,null,null,null,null,null,null,null,null,null,null,null,null,null,null,null,null,null,null,null,null,null,null,null,null,null,null,null,null,null,{"$f":"COUNTIF(C23:AG23,Accueil!$B$8)","v":0},{"$f":"COUNTIF(C23:AG23,Accueil!$B$9)","v":0},{"$f":"COUNTIF(C23:AG23,Accueil!$B$10)","v":0},{"$f":"COUNTIF(C23:AG23,Accueil!$B$11)","v":0},{"$f":"COUNTIF(C23:AG23,Accueil!$B$12)","v":0},{"$f":"COUNTIF(C23:AG23,Accueil!$B$13)","v":0},{"$f":"COUNTIF(C23:AG23,Accueil!$B$14)","v":0},{"$f":"COUNTIF(C23:AG23,Accueil!$B$15)","v":0},{"$f":"COUNTIF(C23:AG23,Accueil!$B$16)","v":0},{"$f":"COUNTIF(C23:AG23,Accueil!$B$17)","v":0},{"$f":"COUNTIF(C23:AG23,Accueil!$B$18)","v":0},{"$f":"COUNTIF(C23:AG23,Accueil!$B$19)","v":0},{"$f":"COUNTIF(C23:AG23,Accueil!$B$20)","v":0},{"$f":"COUNTIF(C23:AG23,Accueil!$B$21)","v":0},{"$f":"COUNTIF(C23:AG23,Accueil!$B$22)","v":0},{"$f":"COUNTIF(C23:AG23,Accueil!$B$23)","v":0},{"$f":"COUNTIF(C23:AG23,Accueil!$B$24)","v":0},{"$f":"COUNTIF(C23:AG23,Accueil!$B$25)","v":0},{"$f":"COUNTIF(C23:AG23,Accueil!$B$26)","v":0},{"$f":"COUNTIF(C23:AG23,Accueil!$B$27)","v":0},{"$f":"COUNTIF(C23:AG23,Accueil!$B$28)","v":0},{"$f":"COUNTIF(C23:AG23,Accueil!$B$29)","v":0},{"$f":"COUNTIF(C23:AG23,Accueil!$B$30)","v":0},0,null,{"$f":"AI23 +Mars!BH23","v":0},{"$f":"AJ23+Mars!BI23","v":7},{"$f":"AK23+Mars!BJ23","v":1},{"$f":"AL23+Mars!BK23","v":0},{"$f":"AM23+Mars!BL23","v":0},{"$f":"AN23+Mars!BM23","v":0},{"$f":"AO23+Mars!BN23","v":0},{"$f":"AP23+Mars!BO23","v":0},{"$f":"AQ23+Mars!BP23","v":0},{"$f":"AR23+Mars!BQ23","v":0},{"$f":"AS23+Mars!BR23","v":0},{"$f":"AT23+Mars!BS23","v":0},{"$f":"AU23+Mars!BT23","v":0},{"$f":"AV23+Mars!BU23","v":0},{"$f":"AW23+Mars!BV23","v":0},{"$f":"AX23+Mars!BW23","v":0},{"$f":"AY23+Mars!BX23","v":0},{"$f":"AZ23+Mars!BY23","v":0},{"$f":"BA23+Mars!BZ23","v":2},{"$f":"BB23+Mars!CA23","v":0},{"$f":"BC23+Mars!CB23","v":0},{"$f":"BD23+Mars!CC23","v":0},{"$f":"BE23+Mars!CD23","v":0},{"$f":"BF23+Mars!CE23","v":8},null,{"$f":"Mars!CG23","v":0},0,0,null,{"$f":"Mars!CK23","v":0},0,0,null,{"$f":"Mars!CO23","v":0},0,0,null,{"$f":"Mars!CS23","v":0},0,0]
[{"$f":"Mars!A24","v":0},null,null,null,null,null,null,null,null,null,null,null,null,null,null,null,null,null,null,null,null,null,null,null,null,null,null,null,null,null,null,null,null,null,{"$f":"COUNTIF(C24:AG24,Accueil!$B$8)","v":0},{"$f":"COUNTIF(C24:AG24,Accueil!$B$9)","v":0},{"$f":"COUNTIF(C24:AG24,Accueil!$B$10)","v":0},{"$f":"COUNTIF(C24:AG24,Accueil!$B$11)","v":0},{"$f":"COUNTIF(C24:AG24,Accueil!$B$12)","v":0},{"$f":"COUNTIF(C24:AG24,Accueil!$B$13)","v":0},{"$f":"COUNTIF(C24:AG24,Accueil!$B$14)","v":0},{"$f":"COUNTIF(C24:AG24,Accueil!$B$15)","v":0},{"$f":"COUNTIF(C24:AG24,Accueil!$B$16)","v":0},{"$f":"COUNTIF(C24:AG24,Accueil!$B$17)","v":0},{"$f":"COUNTIF(C24:AG24,Accueil!$B$18)","v":0},{"$f":"COUNTIF(C24:AG24,Accueil!$B$19)","v":0},{"$f":"COUNTIF(C24:AG24,Accueil!$B$20)","v":0},{"$f":"COUNTIF(C24:AG24,Accueil!$B$21)","v":0},{"$f":"COUNTIF(C24:AG24,Accueil!$B$22)","v":0},{"$f":"COUNTIF(C24:AG24,Accueil!$B$23)","v":0},{"$f":"COUNTIF(C24:AG24,Accueil!$B$24)","v":0},{"$f":"COUNTIF(C24:AG24,Accueil!$B$25)","v":0},{"$f":"COUNTIF(C24:AG24,Accueil!$B$26)","v":0},{"$f":"COUNTIF(C24:AG24,Accueil!$B$27)","v":0},{"$f":"COUNTIF(C24:AG24,Accueil!$B$28)","v":0},{"$f":"COUNTIF(C24:AG24,Accueil!$B$29)","v":0},{"$f":"COUNTIF(C24:AG24,Accueil!$B$30)","v":0},0,null,{"$f":"AI24 +Mars!BH24","v":0},{"$f":"AJ24+Mars!BI24","v":0},{"$f":"AK24+Mars!BJ24","v":0},{"$f":"AL24+Mars!BK24","v":0},{"$f":"AM24+Mars!BL24","v":0},{"$f":"AN24+Mars!BM24","v":0},{"$f":"AO24+Mars!BN24","v":0},{"$f":"AP24+Mars!BO24","v":0},{"$f":"AQ24+Mars!BP24","v":0},{"$f":"AR24+Mars!BQ24","v":0},{"$f":"AS24+Mars!BR24","v":0},{"$f":"AT24+Mars!BS24","v":0},{"$f":"AU24+Mars!BT24","v":0},{"$f":"AV24+Mars!BU24","v":0},{"$f":"AW24+Mars!BV24","v":0},{"$f":"AX24+Mars!BW24","v":0},{"$f":"AY24+Mars!BX24","v":0},{"$f":"AZ24+Mars!BY24","v":0},{"$f":"BA24+Mars!BZ24","v":0},{"$f":"BB24+Mars!CA24","v":0},{"$f":"BC24+Mars!CB24","v":0},{"$f":"BD24+Mars!CC24","v":0},{"$f":"BE24+Mars!CD24","v":0},{"$f":"BF24+Mars!CE24","v":0},null,{"$f":"Mars!CG24","v":0},0,0,null,{"$f":"Mars!CK24","v":0},0,0,null,{"$f":"Mars!CO24","v":0},0,0,null,{"$f":"Mars!CS24","v":0},0,0]
[{"$f":"Mars!A25","v":"Claudia"},null,null,null,null,null,null,null,null,null,null,null,null,null,null,null,null,null,null,null,null,null,null,null,null,null,null,null,null,null,null,null,null,null,{"$f":"COUNTIF(C25:AG25,Accueil!$B$8)","v":0},{"$f":"COUNTIF(C25:AG25,Accueil!$B$9)","v":0},{"$f":"COUNTIF(C25:AG25,Accueil!$B$10)","v":0},{"$f":"COUNTIF(C25:AG25,Accueil!$B$11)","v":0},{"$f":"COUNTIF(C25:AG25,Accueil!$B$12)","v":0},{"$f":"COUNTIF(C25:AG25,Accueil!$B$13)","v":0},{"$f":"COUNTIF(C25:AG25,Accueil!$B$14)","v":0},{"$f":"COUNTIF(C25:AG25,Accueil!$B$15)","v":0},{"$f":"COUNTIF(C25:AG25,Accueil!$B$16)","v":0},{"$f":"COUNTIF(C25:AG25,Accueil!$B$17)","v":0},{"$f":"COUNTIF(C25:AG25,Accueil!$B$18)","v":0},{"$f":"COUNTIF(C25:AG25,Accueil!$B$19)","v":0},{"$f":"COUNTIF(C25:AG25,Accueil!$B$20)","v":0},{"$f":"COUNTIF(C25:AG25,Accueil!$B$21)","v":0},{"$f":"COUNTIF(C25:AG25,Accueil!$B$22)","v":0},{"$f":"COUNTIF(C25:AG25,Accueil!$B$23)","v":0},{"$f":"COUNTIF(C25:AG25,Accueil!$B$24)","v":0},{"$f":"COUNTIF(C25:AG25,Accueil!$B$25)","v":0},{"$f":"COUNTIF(C25:AG25,Accueil!$B$26)","v":0},{"$f":"COUNTIF(C25:AG25,Accueil!$B$27)","v":0},{"$f":"COUNTIF(C25:AG25,Accueil!$B$28)","v":0},{"$f":"COUNTIF(C25:AG25,Accueil!$B$29)","v":0},{"$f":"COUNTIF(C25:AG25,Accueil!$B$30)","v":0},0,null,{"$f":"AI25 +Mars!BH25","v":1},{"$f":"AJ25+Mars!BI25","v":3},{"$f":"AK25+Mars!BJ25","v":1},{"$f":"AL25+Mars!BK25","v":0},{"$f":"AM25+Mars!BL25","v":0},{"$f":"AN25+Mars!BM25","v":0},{"$f":"AO25+Mars!BN25","v":0},{"$f":"AP25+Mars!BO25","v":0},{"$f":"AQ25+Mars!BP25","v":0},{"$f":"AR25+Mars!BQ25","v":0},{"$f":"AS25+Mars!BR25","v":0},{"$f":"AT25+Mars!BS25","v":0},{"$f":"AU25+Mars!BT25","v":0},{"$f":"AV25+Mars!BU25","v":0},{"$f":"AW25+Mars!BV25","v":0},{"$f":"AX25+Mars!BW25","v":9},{"$f":"AY25+Mars!BX25","v":0},{"$f":"AZ25+Mars!BY25","v":0},{"$f":"BA25+Mars!BZ25","v":0},{"$f":"BB25+Mars!CA25","v":0},{"$f":"BC25+Mars!CB25","v":0},{"$f":"BD25+Mars!CC25","v":0},{"$f":"BE25+Mars!CD25","v":0},{"$f":"BF25+Mars!CE25","v":5},null,{"$f":"Mars!CG25","v":0},9,-9,null,{"$f":"Mars!CK25","v":0},0,0,null,{"$f":"Mars!CO25","v":0},0,0,null,{"$f":"Mars!CS25","v":0},0,0]
[{"$f":"Mars!A26","v":"FRPI"},null,null,null,null,null,null,null,null,null,null,null,null,null,null,null,null,null,null,null,null,null,null,null,null,null,null,null,null,null,null,null,null,null,{"$f":"COUNTIF(C26:AG26,Accueil!$B$8)","v":0},{"$f":"COUNTIF(C26:AG26,Accueil!$B$9)","v":0},{"$f":"COUNTIF(C26:AG26,Accueil!$B$10)","v":0},{"$f":"COUNTIF(C26:AG26,Accueil!$B$11)","v":0},{"$f":"COUNTIF(C26:AG26,Accueil!$B$12)","v":0},{"$f":"COUNTIF(C26:AG26,Accueil!$B$13)","v":0},{"$f":"COUNTIF(C26:AG26,Accueil!$B$14)","v":0},{"$f":"COUNTIF(C26:AG26,Accueil!$B$15)","v":0},{"$f":"COUNTIF(C26:AG26,Accueil!$B$16)","v":0},{"$f":"COUNTIF(C26:AG26,Accueil!$B$17)","v":0},{"$f":"COUNTIF(C26:AG26,Accueil!$B$18)","v":0},{"$f":"COUNTIF(C26:AG26,Accueil!$B$19)","v":0},{"$f":"COUNTIF(C26:AG26,Accueil!$B$20)","v":0},{"$f":"COUNTIF(C26:AG26,Accueil!$B$21)","v":0},{"$f":"COUNTIF(C26:AG26,Accueil!$B$22)","v":0},{"$f":"COUNTIF(C26:AG26,Accueil!$B$23)","v":0},{"$f":"COUNTIF(C26:AG26,Accueil!$B$24)","v":0},{"$f":"COUNTIF(C26:AG26,Accueil!$B$25)","v":0},{"$f":"COUNTIF(C26:AG26,Accueil!$B$26)","v":0},{"$f":"COUNTIF(C26:AG26,Accueil!$B$27)","v":0},{"$f":"COUNTIF(C26:AG26,Accueil!$B$28)","v":0},{"$f":"COUNTIF(C26:AG26,Accueil!$B$29)","v":0},{"$f":"COUNTIF(C26:AG26,Accueil!$B$30)","v":0},0,null,{"$f":"AI26 +Mars!BH26","v":0},{"$f":"AJ26+Mars!BI26","v":0},{"$f":"AK26+Mars!BJ26","v":0},{"$f":"AL26+Mars!BK26","v":0},{"$f":"AM26+Mars!BL26","v":0},{"$f":"AN26+Mars!BM26","v":0},{"$f":"AO26+Mars!BN26","v":0},{"$f":"AP26+Mars!BO26","v":0},{"$f":"AQ26+Mars!BP26","v":0},{"$f":"AR26+Mars!BQ26","v":2},{"$f":"AS26+Mars!BR26","v":9},{"$f":"AT26+Mars!BS26","v":0},{"$f":"AU26+Mars!BT26","v":0},{"$f":"AV26+Mars!BU26","v":0},{"$f":"AW26+Mars!BV26","v":0},{"$f":"AX26+Mars!BW26","v":5},{"$f":"AY26+Mars!BX26","v":0},{"$f":"AZ26+Mars!BY26","v":0},{"$f":"BA26+Mars!BZ26","v":0},{"$f":"BB26+Mars!CA26","v":0},{"$f":"BC26+Mars!CB26","v":0},{"$f":"BD26+Mars!CC26","v":0},{"$f":"BE26+Mars!CD26","v":0},{"$f":"BF26+Mars!CE26","v":11},null,{"$f":"Mars!CG26","v":0},5,-5,null,{"$f":"Mars!CK26","v":0},0,0,null,{"$f":"Mars!CO26","v":0},0,0,null,{"$f":"Mars!CS26","v":0},0,0]
[{"$f":"Mars!A27","v":0},null,null,null,null,null,null,null,null,null,null,null,null,null,null,null,null,null,null,null,null,null,null,null,null,null,null,null,null,null,null,null,null,null,{"$f":"COUNTIF(C27:AG27,Accueil!$B$8)","v":0},{"$f":"COUNTIF(C27:AG27,Accueil!$B$9)","v":0},{"$f":"COUNTIF(C27:AG27,Accueil!$B$10)","v":0},{"$f":"COUNTIF(C27:AG27,Accueil!$B$11)","v":0},{"$f":"COUNTIF(C27:AG27,Accueil!$B$12)","v":0},{"$f":"COUNTIF(C27:AG27,Accueil!$B$13)","v":0},{"$f":"COUNTIF(C27:AG27,Accueil!$B$14)","v":0},{"$f":"COUNTIF(C27:AG27,Accueil!$B$15)","v":0},{"$f":"COUNTIF(C27:AG27,Accueil!$B$16)","v":0},{"$f":"COUNTIF(C27:AG27,Accueil!$B$17)","v":0},{"$f":"COUNTIF(C27:AG27,Accueil!$B$18)","v":0},{"$f":"COUNTIF(C27:AG27,Accueil!$B$19)","v":0},{"$f":"COUNTIF(C27:AG27,Accueil!$B$20)","v":0},{"$f":"COUNTIF(C27:AG27,Accueil!$B$21)","v":0},{"$f":"COUNTIF(C27:AG27,Accueil!$B$22)","v":0},{"$f":"COUNTIF(C27:AG27,Accueil!$B$23)","v":0},{"$f":"COUNTIF(C27:AG27,Accueil!$B$24)","v":0},{"$f":"COUNTIF(C27:AG27,Accueil!$B$25)","v":0},{"$f":"COUNTIF(C27:AG27,Accueil!$B$26)","v":0},{"$f":"COUNTIF(C27:AG27,Accueil!$B$27)","v":0},{"$f":"COUNTIF(C27:AG27,Accueil!$B$28)","v":0},{"$f":"COUNTIF(C27:AG27,Accueil!$B$29)","v":0},{"$f":"COUNTIF(C27:AG27,Accueil!$B$30)","v":0},0,null,{"$f":"AI27 +Mars!BH27","v":0},{"$f":"AJ27+Mars!BI27","v":0},{"$f":"AK27+Mars!BJ27","v":{"$error":"#VALUE!"}},{"$f":"AL27+Mars!BK27","v":0},{"$f":"AM27+Mars!BL27","v":0},{"$f":"AN27+Mars!BM27","v":0},{"$f":"AO27+Mars!BN27","v":0},{"$f":"AP27+Mars!BO27","v":{"$error":"#VALUE!"}},{"$f":"AQ27+Mars!BP27","v":0},{"$f":"AR27+Mars!BQ27","v":0},{"$f":"AS27+Mars!BR27","v":0},{"$f":"AT27+Mars!BS27","v":0},{"$f":"AU27+Mars!BT27","v":0},{"$f":"AV27+Mars!BU27","v":0},{"$f":"AW27+Mars!BV27","v":0},{"$f":"AX27+Mars!BW27","v":0},{"$f":"AY27+Mars!BX27","v":0},{"$f":"AZ27+Mars!BY27","v":0},{"$f":"BA27+Mars!BZ27","v":0},{"$f":"BB27+Mars!CA27","v":0},{"$f":"BC27+Mars!CB27","v":0},{"$f":"BD27+Mars!CC27","v":0},{"$f":"BE27+Mars!CD27","v":0},{"$f":"BF27+Mars!CE27","v":0},null,{"$f":"Mars!CG27","v":0},0,0,null,{"$f":"Mars!CK27","v":0},0,0,null,{"$f":"Mars!CO27","v":0},0,0,null,{"$f":"Mars!CS27","v":0},0,0]
[{"$f":"Mars!A28","v":"Frédéric"},null,null,null,null,null,null,null,null,"Nuit",null,null,null,null,null,null,null,null,"Nuit",null,null,null,null,null,null,null,"Nuit","Nuit",null,null,null,null,null,null,{"$f":"COUNTIF(C28:AG28,Accueil!$B$8)","v":0},{"$f":"COUNTIF(C28:AG28,Accueil!$B$9)","v":0},{"$f":"COUNTIF(C28:AG28,Accueil!$B$10)","v":0},{"$f":"COUNTIF(C28:AG28,Accueil!$B$11)","v":0},{"$f":"COUNTIF(C28:AG28,Accueil!$B$12)","v":0},{"$f":"COUNTIF(C28:AG28,Accueil!$B$13)","v":0},{"$f":"COUNTIF(C28:AG28,Accueil!$B$14)","v":0},{"$f":"COUNTIF(C28:AG28,Accueil!$B$15)","v":0},{"$f":"COUNTIF(C28:AG28,Accueil!$B$16)","v":4},{"$f":"COUNTIF(C28:AG28,Accueil!$B$17)","v":0},{"$f":"COUNTIF(C28:AG28,Accueil!$B$18)","v":0},{"$f":"COUNTIF(C28:AG28,Accueil!$B$19)","v":0},{"$f":"COUNTIF(C28:AG28,Accueil!$B$20)","v":0},{"$f":"COUNTIF(C28:AG28,Accueil!$B$21)","v":0},{"$f":"COUNTIF(C28:AG28,Accueil!$B$22)","v":0},{"$f":"COUNTIF(C28:AG28,Accueil!$B$23)","v":0},{"$f":"COUNTIF(C28:AG28,Accueil!$B$24)","v":0},{"$f":"COUNTIF(C28:AG28,Accueil!$B$25)","v":0},{"$f":"COUNTIF(C28:AG28,Accueil!$B$26)","v":0},{"$f":"COUNTIF(C28:AG28,Accueil!$B$27)","v":0},{"$f":"COUNTIF(C28:AG28,Accueil!$B$28)","v":0},{"$f":"COUNTIF(C28:AG28,Accueil!$B$29)","v":0},{"$f":"COUNTIF(C28:AG28,Accueil!$B$30)","v":0},4,null,{"$f":"AI28 +Mars!BH28","v":{"$error":"#VALUE!"}},{"$f":"AJ28+Mars!BI28","v":{"$error":"#VALUE!"}},{"$f":"AK28+Mars!BJ28","v":0},{"$f":"AL28+Mars!BK28","v":{"$error":"#VALUE!"}},{"$f":"AM28+Mars!BL28","v":0},{"$f":"AN28+Mars!BM28","v":{"$error":"#VALUE!"}},{"$f":"AO28+Mars!BN28","v":{"$error":"#VALUE!"}},{"$f":"AP28+Mars!BO28","v":0},{"$f":"AQ28+Mars!BP28","v":20},{"$f":"AR28+Mars!BQ28","v":0},{"$f":"AS28+Mars!BR28","v":0},{"$f":"AT28+Mars!BS28","v":0},{"$f":"AU28+Mars!BT28","v":0},{"$f":"AV28+Mars!BU28","v":0},{"$f":"AW28+Mars!BV28","v":0},{"$f":"AX28+Mars!BW28","v":0},{"$f":"AY28+Mars!BX28","v":0},{"$f":"AZ28+Mars!BY28","v":0},{"$f":"BA28+Mars!BZ28","v":0},{"$f":"BB28+Mars!CA28","v":0},{"$f":"BC28+Mars!CB28","v":0},{"$f":"BD28+Mars!CC28","v":0},{"$f":"BE28+Mars!CD28","v":0},{"$f":"BF28+Mars!CE28","v":20},null,{"$f":"Mars!CG28","v":0},0,0,null,{"$f":"Mars!CK28","v":0},0,0,null,{"$f":"Mars!CO28","v":0},0,0,null,{"$f":"Mars!CS28","v":0},0,0]
[{"$f":"Mars!A29","v":"Ibrahim"},null,null,null,"Nuit","Nuit",null,null,null,null,"Nuit","Nuit",null,null,null,null,"Nuit","Nuit",null,null,"Nuit","Nuit","Nuit",null,null,null,null,null,null,null,"Nuit","Nuit",null,null,{"$f":"COUNTIF(C29:AG29,Accueil!$B$8)","v":0},{"$f":"COUNTIF(C29:AG29,Accueil!$B$9)","v":0},{"$f":"COUNTIF(C29:AG29,Accueil!$B$10)","v":0},{"$f":"COUNTIF(C29:AG29,Accueil!$B$11)","v":0},{"$f":"COUNTIF(C29:AG29,Accueil!$B$12)","v":0},{"$f":"COUNTIF(C29:AG29,Accueil!$B$13)","v":0},{"$f":"COUNTIF(C29:AG29,Accueil!$B$14)","v":0},{"$f":"COUNTIF(C29:AG29,Accueil!$B$15)","v":0},{"$f":"COUNTIF(C29:AG29,Accueil!$B$16)","v":11},{"$f":"COUNTIF(C29:AG29,Accueil!$B$17)","v":0},{"$f":"COUNTIF(C29:AG29,Accueil!$B$18)","v":0},{"$f":"COUNTIF(C29:AG29,Accueil!$B$19)","v":0},{"$f":"COUNTIF(C29:AG29,Accueil!$B$20)","v":0},{"$f":"COUNTIF(C29:AG29,Accueil!$B$21)","v":0},{"$f":"COUNTIF(C29:AG29,Accueil!$B$22)","v":0},{"$f":"COUNTIF(C29:AG29,Accueil!$B$23)","v":0},{"$f":"COUNTIF(C29:AG29,Accueil!$B$24)","v":0},{"$f":"COUNTIF(C29:AG29,Accueil!$B$25)","v":0},{"$f":"COUNTIF(C29:AG29,Accueil!$B$26)","v":0},{"$f":"COUNTIF(C29:AG29,Accueil!$B$27)","v":0},{"$f":"COUNTIF(C29:AG29,Accueil!$B$28)","v":0},{"$f":"COUNTIF(C29:AG29,Accueil!$B$29)","v":0},{"$f":"COUNTIF(C29:AG29,Accueil!$B$30)","v":0},11,null,{"$f":"AI29 +Mars!BH29","v":0},{"$f":"AJ29+Mars!BI29","v":0},{"$f":"AK29+Mars!BJ29","v":0},{"$f":"AL29+Mars!BK29","v":0},{"$f":"AM29+Mars!BL29","v":{"$error":"#VALUE!"}},{"$f":"AN29+Mars!BM29","v":0},{"$f":"AO29+Mars!BN29","v":0},{"$f":"AP29+Mars!BO29","v":0},{"$f":"AQ29+Mars!BP29","v":39},{"$f":"AR29+Mars!BQ29","v":0},{"$f":"AS29+Mars!BR29","v":0},{"$f":"AT29+Mars!BS29","v":0},{"$f":"AU29+Mars!BT29","v":0},{"$f":"AV29+Mars!BU29","v":0},{"$f":"AW29+Mars!BV29","v":0},{"$f":"AX29+Mars!BW29","v":0},{"$f":"AY29+Mars!BX29","v":0},{"$f":"AZ29+Mars!BY29","v":0},{"$f":"BA29+Mars!BZ29","v":0},{"$f":"BB29+Mars!CA29","v":0},{"$f":"BC29+Mars!CB29","v":0},{"$f":"BD29+Mars!CC29","v":0},{"$f":"BE29+Mars!CD29","v":0},{"$f":"BF29+Mars!CE29","v":39},null,{"$f":"Mars!CG29","v":0},0,0,null,{"$f":"Mars!CK29","v":0},0,0,null,{"$f":"Mars!CO29","v":0},0,0,null,{"$f":"Mars!CS29","v":0},0,0]
[{"$f":"Mars!A30","v":"Julien"},null,"Vac",null,null,null,null,null,null,null,null,null,null,null,"Nuit","Nuit",null,null,null,"Nuit",null,null,null,"Nuit","Nuit","Nuit",null,null,"Nuit","Nuit",null,null,null,null,{"$f":"COUNTIF(C30:AG30,Accueil!$B$8)","v":0},{"$f":"COUNTIF(C30:AG30,Accueil!$B$9)","v":0},{"$f":"COUNTIF(C30:AG30,Accueil!$B$10)","v":0},{"$f":"COUNTIF(C30:AG30,Accueil!$B$11)","v":0},{"$f":"COUNTIF(C30:AG30,Accueil!$B$12)","v":0},{"$f":"COUNTIF(C30:AG30,Accueil!$B$13)","v":0},{"$f":"COUNTIF(C30:AG30,Accueil!$B$14)","v":0},{"$f":"COUNTIF(C30:AG30,Accueil!$B$15)","v":0},{"$f":"COUNTIF(C30:AG30,Accueil!$B$16)","v":8},{"$f":"COUNTIF(C30:AG30,Accueil!$B$17)","v":0},{"$f":"COUNTIF(C30:AG30,Accueil!$B$18)","v":0},{"$f":"COUNTIF(C30:AG30,Accueil!$B$19)","v":0},{"$f":"COUNTIF(C30:AG30,Accueil!$B$20)","v":0},{"$f":"COUNTIF(C30:AG30,Accueil!$B$21)","v":0},{"$f":"COUNTIF(C30:AG30,Accueil!$B$22)","v":0},{"$f":"COUNTIF(C30:AG30,Accueil!$B$23)","v":1},{"$f":"COUNTIF(C30:AG30,Accueil!$B$24)","v":0},{"$f":"COUNTIF(C30:AG30,Accueil!$B$25)","v":0},{"$f":"COUNTIF(C30:AG30,Accueil!$B$26)","v":0},{"$f":"COUNTIF(C30:AG30,Accueil!$B$27)","v":0},{"$f":"COUNTIF(C30:AG30,Accueil!$B$28)","v":0},{"$f":"COUNTIF(C30:AG30,Accueil!$B$29)","v":0},{"$f":"COUNTIF(C30:AG30,Accueil!$B$30)","v":0},8,null,{"$f":"AI30 +Mars!BH30","v":0},{"$f":"AJ30+Mars!BI30","v":{"$error":"#VALUE!"}},{"$f":"AK30+Mars!BJ30","v":{"$error":"#VALUE!"}},{"$f":"AL30+Mars!BK30","v":{"$error":"#VALUE!"}},{"$f":"AM30+Mars!BL30","v":{"$error":"#VALUE!"}},{"$f":"AN30+Mars!BM30","v":{"$error":"#VALUE!"}},{"$f":"AO30+Mars!BN30","v":0},{"$f":"AP30+Mars!BO30","v":0},{"$f":"AQ30+Mars!BP30","v":22},{"$f":"AR30+Mars!BQ30","v":0},{"$f":"AS30+Mars!BR30","v":0},{"$f":"AT30+Mars!BS30","v":0},{"$f":"AU30+Mars!BT30","v":0},{"$f":"AV30+Mars!BU30","v":0},{"$f":"AW30+Mars!BV30","v":0},{"$f":"AX30+Mars!BW30","v":6},{"$f":"AY30+Mars!BX30","v":0},{"$f":"AZ30+Mars!BY30","v":0},{"$f":"BA30+Mars!BZ30","v":0},{"$f":"BB30+Mars!CA30","v":0},{"$f":"BC30+Mars!CB30","v":0},{"$f":"BD30+Mars!CC30","v":0},{"$f":"BE30+Mars!CD30","v":0},{"$f":"BF30+Mars!CE30","v":22},null,{"$f":"Mars!CG30","v":0},6,-6,null,{"$f":"Mars!CK30","v":0},0,0,null,{"$f":"Mars!CO30","v":0},0,0,null,{"$f":"Mars!CS30","v":0},0,0]
[{"$f":"Mars!A31","v":"Mario"},null,"Vac","Vac","Vac","Vac","Vac","Vac","Vac","Vac","Vac","Vac","Vac","Vac","Vac","Vac","Vac","Vac","Vac","Vac","Vac","Vac","Vac","Vac","Vac","Vac","Vac","Vac","Vac","Vac","Vac","Vac",null,null,{"$f":"COUNTIF(C31:AG31,Accueil!$B$8)","v":0},{"$f":"COUNTIF(C31:AG31,Accueil!$B$9)","v":0},{"$f":"COUNTIF(C31:AG31,Accueil!$B$10)","v":0},{"$f":"COUNTIF(C31:AG31,Accueil!$B$11)","v":0},{"$f":"COUNTIF(C31:AG31,Accueil!$B$12)","v":0},{"$f":"COUNTIF(C31:AG31,Accueil!$B$13)","v":0},{"$f":"COUNTIF(C31:AG31,Accueil!$B$14)","v":0},{"$f":"COUNTIF(C31:AG31,Accueil!$B$15)","v":0},{"$f":"COUNTIF(C31:AG31,Accueil!$B$16)","v":0},{"$f":"COUNTIF(C31:AG31,Accueil!$B$17)","v":0},{"$f":"COUNTIF(C31:AG31,Accueil!$B$18)","v":0},{"$f":"COUNTIF(C31:AG31,Accueil!$B$19)","v":0},{"$f":"COUNTIF(C31:AG31,Accueil!$B$20)","v":0},{"$f":"COUNTIF(C31:AG31,Accueil!$B$21)","v":0},{"$f":"COUNTIF(C31:AG31,Accueil!$B$22)","v":0},{"$f":"COUNTIF(C31:AG31,Accueil!$B$23)","v":30},{"$f":"COUNTIF(C31:AG31,Accueil!$B$24)","v":0},{"$f":"COUNTIF(C31:AG31,Accueil!$B$25)","v":0},{"$f":"COUNTIF(C31:AG31,Accueil!$B$26)","v":0},{"$f":"COUNTIF(C31:AG31,Accueil!$B$27)","v":0},{"$f":"COUNTIF(C31:AG31,Accueil!$B$28)","v":0},{"$f":"COUNTIF(C31:AG31,Accueil!$B$29)","v":0},{"$f":"COUNTIF(C31:AG31,Accueil!$B$30)","v":0},0,null,{"$f":"AI31 +Mars!BH31","v":0},{"$f":"AJ31+Mars!BI31","v":0},{"$f":"AK31+Mars!BJ31","v":0},{"$f":"AL31+Mars!BK31","v":0},{"$f":"AM31+Mars!BL31","v":0},{"$f":"AN31+Mars!BM31","v":0},{"$f":"AO31+Mars!BN31","v":0},{"$f":"AP31+Mars!BO31","v":0},{"$f":"AQ31+Mars!BP31","v":9},{"$f":"AR31+Mars!BQ31","v":0},{"$f":"AS31+Mars!BR31","v":0},{"$f":"AT31+Mars!BS31","v":0},{"$f":"AU31+Mars!BT31","v":26},{"$f":"AV31+Mars!BU31","v":0},{"$f":"AW31+Mars!BV31","v":0},{"$f":"AX31+Mars!BW31","v":59},{"$f":"AY31+Mars!BX31","v":0},{"$f":"AZ31+Mars!BY31","v":0},{"$f":"BA31+Mars!BZ31","v":0},{"$f":"BB31+Mars!CA31","v":0},{"$f":"BC31+Mars!CB31","v":0},{"$f":"BD31+Mars!CC31","v":0},{"$f":"BE31+Mars!CD31","v":0},{"$f":"BF31+Mars!CE31","v":9},null,{"$f":"Mars!CG31","v":0},59,-59,null,{"$f":"Mars!CK31","v":0},0,0,null,{"$f":"Mars!CO31","v":0},0,0,null,{"$f":"Mars!CS31","v":0},0,0]
[{"$f":"Mars!A32","v":"Hamid"},null,"Nuit","Nuit",null,null,"Nuit","Nuit","Nuit",null,null,null,"Nuit","Nuit",null,null,null,null,null,null,null,null,null,null,null,null,null,null,null,null,null,null,null,null,{"$f":"COUNTIF(C32:AG32,Accueil!$B$8)","v":0},{"$f":"COUNTIF(C32:AG32,Accueil!$B$9)","v":0},{"$f":"COUNTIF(C32:AG32,Accueil!$B$10)","v":0},{"$f":"COUNTIF(C32:AG32,Accueil!$B$11)","v":0},{"$f":"COUNTIF(C32:AG32,Accueil!$B$12)","v":0},{"$f":"COUNTIF(C32:AG32,Accueil!$B$13)","v":0},{"$f":"COUNTIF(C32:AG32,Accueil!$B$14)","v":0},{"$f":"COUNTIF(C32:AG32,Accueil!$B$15)","v":0},{"$f":"COUNTIF(C32:AG32,Accueil!$B$16)","v":7},{"$f":"COUNTIF(C32:AG32,Accueil!$B$17)","v":0},{"$f":"COUNTIF(C32:AG32,Accueil!$B$18)","v":0},{"$f":"COUNTIF(C32:AG32,Accueil!$B$19)","v":0},{"$f":"COUNTIF(C32:AG32,Accueil!$B$20)","v":0},{"$f":"COUNTIF(C32:AG32,Accueil!$B$21)","v":0},{"$f":"COUNTIF(C32:AG32,Accueil!$B$22)","v":0},{"$f":"COUNTIF(C32:AG32,Accueil!$B$23)","v":0},{"$f":"COUNTIF(C32:AG32,Accueil!$B$24)","v":0},{"$f":"COUNTIF(C32:AG32,Accueil!$B$25)","v":0},{"$f":"COUNTIF(C32:AG32,Accueil!$B$26)","v":0},{"$f":"COUNTIF(C32:AG32,Accueil!$B$27)","v":0},{"$f":"COUNTIF(C32:AG32,Accueil!$B$28)","v":0},{"$f":"COUNTIF(C32:AG32,Accueil!$B$29)","v":0},{"$f":"COUNTIF(C32:AG32,Accueil!$B$30)","v":0},7,null,{"$f":"AI32 +Mars!BH32","v":0},{"$f":"AJ32+Mars!BI32","v":0},{"$f":"AK32+Mars!BJ32","v":0},{"$f":"AL32+Mars!BK32","v":0},{"$f":"AM32+Mars!BL32","v":0},{"$f":"AN32+Mars!BM32","v":0},{"$f":"AO32+Mars!BN32","v":0},{"$f":"AP32+Mars!BO32","v":0},{"$f":"AQ32+Mars!BP32","v":22},{"$f":"AR32+Mars!BQ32","v":0},{"$f":"AS32+Mars!BR32","v":0},{"$f":"AT32+Mars!BS32","v":0},{"$f":"AU32+Mars!BT32","v":0},{"$f":"AV32+Mars!BU32","v":10},{"$f":"AW32+Mars!BV32","v":10},{"$f":"AX32+Mars!BW32","v":0},{"$f":"AY32+Mars!BX32","v":0},{"$f":"AZ32+Mars!BY32","v":0},{"$f":"BA32+Mars!BZ32","v":0},{"$f":"BB32+Mars!CA32","v":0},{"$f":"BC32+Mars!CB32","v":0},{"$f":"BD32+Mars!CC32","v":0},{"$f":"BE32+Mars!CD32","v":10},{"$f":"BF32+Mars!CE32","v":27},null,{"$f":"Mars!CG32","v":0},5,-5,null,{"$f":"Mars!CK32","v":0},0,0,null,{"$f":"Mars!CO32","v":0},0,0,null,{"$f":"Mars!CS32","v":0},10,-10]
[null,{"$f":" \"Effectif minimum \" & Accueil!$B$8","v":"Effectif minimum M1"},{"$f":"COUNTIF(C3:C32,Accueil!$B$8)","v":1},{"$f":"COUNTIF(D3:D32,Accueil!$B$8)","v":0},{"$f":"COUNTIF(E3:E32,Accueil!$B$8)","v":0},{"$f":"COUNTIF(F3:F32,Accueil!$B$8)","v":2},{"$f":"COUNTIF(G3:G32,Accueil!$B$8)","v":3},{"$f":"COUNTIF(H3:H32,Accueil!$B$8)","v":1},{"$f":"COUNTIF(I3:I32,Accueil!$B$8)","v":1},{"$f":"COUNTIF(J3:J32,Accueil!$B$8)","v":3},{"$f":"COUNTIF(K3:K32,Accueil!$B$8)","v":0},{"$f":"COUNTIF(L3:L32,Accueil!$B$8)","v":0},{"$f":"COUNTIF(M3:M32,Accueil!$B$8)","v":2},{"$f":"COUNTIF(N3:N32,Accueil!$B$8)","v":3},{"$f":"COUNTIF(O3:O32,Accueil!$B$8)","v":1},{"$f":"COUNTIF(P3:P32,Accueil!$B$8)","v":1},{"$f":"COUNTIF(Q3:Q32,Accueil!$B$8)","v":2},{"$f":"COUNTIF(R3:R32,Accueil!$B$8)","v":0},{"$f":"COUNTIF(S3:S32,Accueil!$B$8)","v":0},{"$f":"COUNTIF(T3:T32,Accueil!$B$8)","v":2},{"$f":"COUNTIF(U3:U32,Accueil!$B$8)","v":4},{"$f":"COUNTIF(V3:V32,Accueil!$B$8)","v":1},{"$f":"COUNTIF(W3:W32,Accueil!$B$8)","v":1},{"$f":"COUNTIF(X3:X32,Accueil!$B$8)","v":3},{"$f":"COUNTIF(Y3:Y32,Accueil!$B$8)","v":0},{"$f":"COUNTIF(Z3:Z32,Accueil!$B$8)","v":0},{"$f":"COUNTIF(AA3:AA32,Accueil!$B$8)","v":3},{"$f":"COUNTIF(AB3:AB32,Accueil!$B$8)","v":4},{"$f":"COUNTIF(AC3:AC32,Accueil!$B$8)","v":1},{"$f":"COUNTIF(AD3:AD32,Accueil!$B$8)","v":1},{"$f":"COUNTIF(AE3:AE32,Accueil!$B$8)","v":3},{"$f":"COUNTIF(AF3:AF32,Accueil!$B$8)","v":0},{"$f":"COUNTIF(AG3:AG32,Accueil!$B$8)","v":0},null,"Jours travaillés",null,null,null,null,null,null,null,null,null,null,null,"Jours non travaillés",null,null,null,null,null,null,null,null,null,null,null,null,"Jours travaillés",null,null,null,null,null,null,null,null,null,null,null,"Jours non travaillés"]
[null,{"$f":" \"Effectif minimum \" & Accueil!$B$9","v":"Effectif minimum M2"},{"$f":"COUNTIF(C3:C32,Accueil!$B$9)","v":0},{"$f":"COUNTIF(D3:D32,Accueil!$B$9)","v":0},{"$f":"COUNTIF(E3:E32,Accueil!$B$9)","v":0},{"$f":"COUNTIF(F3:F32,Accueil!$B$9)","v":0},{"$f":"COUNTIF(G3:G32,Accueil!$B$9)","v":4},{"$f":"COUNTIF(H3:H32,Accueil!$B$9)","v":0},{"$f":"COUNTIF(I3:I32,Accueil!$B$9)","v":0},{"$f":"COUNTIF(J3:J32,Accueil!$B$9)","v":0},{"$f":"COUNTIF(K3:K32,Accueil!$B$9)","v":0},{"$f":"COUNTIF(L3:L32,Accueil!$B$9)","v":0},{"$f":"COUNTIF(M3:M32,Accueil!$B$9)","v":0},{"$f":"COUNTIF(N3:N32,Accueil!$B$9)","v":3},{"$f":"COUNTIF(O3:O32,Accueil!$B$9)","v":0},{"$f":"COUNTIF(P3:P32,Accueil!$B$9)","v":0},{"$f":"COUNTIF(Q3:Q32,Accueil!$B$9)","v":0},{"$f":"COUNTIF(R3:R32,Accueil!$B$9)","v":0},{"$f":"COUNTIF(S3:S32,Accueil!$B$9)","v":0},{"$f":"COUNTIF(T3:T32,Accueil!$B$9)","v":0},{"$f":"COUNTIF(U3:U32,Accueil!$B$9)","v":3},{"$f":"COUNTIF(V3:V32,Accueil!$B$9)","v":0},{"$f":"COUNTIF(W3:W32,Accueil!$B$9)","v":0},{"$f":"COUNTIF(X3:X32,Accueil!$B$9)","v":1},{"$f":"COUNTIF(Y3:Y32,Accueil!$B$9)","v":0},{"$f":"COUNTIF(Z3:Z32,Accueil!$B$9)","v":0},{"$f":"COUNTIF(AA3:AA32,Accueil!$B$9)","v":0},{"$f":"COUNTIF(AB3:AB32,Accueil!$B$9)","v":4},{"$f":"COUNTIF(AC3:AC32,Accueil!$B$9)","v":0},{"$f":"COUNTIF(AD3:AD32,Accueil!$B$9)","v":0},{"$f":"COUNTIF(AE3:AE32,Accueil!$B$9)","v":1},{"$f":"COUNTIF(AF3:AF32,Accueil!$B$9)","v":0},{"$f":"COUNTIF(AG3:AG32,Accueil!$B$9)","v":0}]
[null,{"$f":"\"Effectif minimum \" & Accueil!$B$10","v":"Effectif minimum M3"},{"$f":"COUNTIF(C3:C32,Accueil!$B$10)","v":0},{"$f":"COUNTIF(D3:D32,Accueil!$B$10)","v":0},{"$f":"COUNTIF(E3:E32,Accueil!$B$10)","v":0},{"$f":"COUNTIF(F3:F32,Accueil!$B$10)","v":1},{"$f":"COUNTIF(G3:G32,Accueil!$B$10)","v":0},{"$f":"COUNTIF(H3:H32,Accueil!$B$10)","v":1},{"$f":"COUNTIF(I3:I32,Accueil!$B$10)","v":1},{"$f":"COUNTIF(J3:J32,Accueil!$B$10)","v":0},{"$f":"COUNTIF(K3:K32,Accueil!$B$10)","v":0},{"$f":"COUNTIF(L3:L32,Accueil!$B$10)","v":0},{"$f":"COUNTIF(M3:M32,Accueil!$B$10)","v":0},{"$f":"COUNTIF(N3:N32,Accueil!$B$10)","v":0},{"$f":"COUNTIF(O3:O32,Accueil!$B$10)","v":0},{"$f":"COUNTIF(P3:P32,Accueil!$B$10)","v":1},{"$f":"COUNTIF(Q3:Q32,Accueil!$B$10)","v":0},{"$f":"COUNTIF(R3:R32,Accueil!$B$10)","v":0},{"$f":"COUNTIF(S3:S32,Accueil!$B$10)","v":0},{"$f":"COUNTIF(T3:T32,Accueil!$B$10)","v":1},{"$f":"COUNTIF(U3:U32,Accueil!$B$10)","v":0},{"$f":"COUNTIF(V3:V32,Accueil!$B$10)","v":0},{"$f":"COUNTIF(W3:W32,Accueil!$B$10)","v":1},{"$f":"COUNTIF(X3:X32,Accueil!$B$10)","v":0},{"$f":"COUNTIF(Y3:Y32,Accueil!$B$10)","v":0},{"$f":"COUNTIF(Z3:Z32,Accueil!$B$10)","v":0},{"$f":"COUNTIF(AA3:AA32,Accueil!$B$10)","v":1},{"$f":"COUNTIF(AB3:AB32,Accueil!$B$10)","v":0},{"$f":"COUNTIF(AC3:AC32,Accueil!$B$10)","v":0},{"$f":"COUNTIF(AD3:AD32,Accueil!$B$10)","v":1},{"$f":"COUNTIF(AE3:AE32,Accueil!$B$10)","v":0},{"$f":"COUNTIF(AF3:AF32,Accueil!$B$10)","v":0},{"$f":"COUNTIF(AG3:AG32,Accueil!$B$10)","v":0}]
[2,"MATIN",{"$f":"C33+C34+C35+C37","v":2},{"$f":"D33+D34+D35+D37","v":2},2,4,9,4,2,4,2,2,4,8,4,2,3,2,2,4,9,3,2,5,2,2,5,10,4,2,5,2,0]
[null,{"$f":"\"Effectif minimum \" & Accueil!$B$11","v":"Effectif minimum MP"},{"$f":"COUNTIF(C3:C32,Accueil!$B$11)","v":1},{"$f":"COUNTIF(D3:D32,Accueil!$B$11)","v":2},{"$f":"COUNTIF(E3:E32,Accueil!$B$11)","v":2},{"$f":"COUNTIF(F3:F32,Accueil!$B$11)","v":1},{"$f":"COUNTIF(G3:G32,Accueil!$B$11)","v":2},{"$f":"COUNTIF(H3:H32,Accueil!$B$11)","v":2},{"$f":"COUNTIF(I3:I32,Accueil!$B$11)","v":0},{"$f":"COUNTIF(J3:J32,Accueil!$B$11)","v":1},{"$f":"COUNTIF(K3:K32,Accueil!$B$11)","v":2},{"$f":"COUNTIF(L3:L32,Accueil!$B$11)","v":2},{"$f":"COUNTIF(M3:M32,Accueil!$B$11)","v":2},{"$f":"COUNTIF(N3:N32,Accueil!$B$11)","v":2},{"$f":"COUNTIF(O3:O32,Accueil!$B$11)","v":3},{"$f":"COUNTIF(P3:P32,Accueil!$B$11)","v":0},{"$f":"COUNTIF(Q3:Q32,Accueil!$B$11)","v":1},{"$f":"COUNTIF(R3:R32,Accueil!$B$11)","v":2},{"$f":"COUNTIF(S3:S32,Accueil!$B$11)","v":2},{"$f":"COUNTIF(T3:T32,Accueil!$B$11)","v":1},{"$f":"COUNTIF(U3:U32,Accueil!$B$11)","v":2},{"$f":"COUNTIF(V3:V32,Accueil!$B$11)","v":2},{"$f":"COUNTIF(W3:W32,Accueil!$B$11)","v":0},{"$f":"COUNTIF(X3:X32,Accueil!$B$11)","v":1},{"$f":"COUNTIF(Y3:Y32,Accueil!$B$11)","v":2},{"$f":"COUNTIF(Z3:Z32,Accueil!$B$11)","v":2},{"$f":"COUNTIF(AA3:AA32,Accueil!$B$11)","v":1},{"$f":"COUNTIF(AB3:AB32,Accueil!$B$11)","v":2},{"$f":"COUNTIF(AC3:AC32,Accueil!$B$11)","v":3},{"$f":"COUNTIF(AD3:AD32,Accueil!$B$11)","v":0},{"$f":"COUNTIF(AE3:AE32,Accueil!$B$11)","v":1},{"$f":"COUNTIF(AF3:AF32,Accueil!$B$11)","v":2},{"$f":"COUNTIF(AG3:AG32,Accueil!$B$11)","v":0}]
[null,{"$f":"\"Effectif minimum \" & Accueil!$B$12","v":"Effectif minimum AP1"},{"$f":"COUNTIF(C3:C32,Accueil!$B$12)","v":0},{"$f":"COUNTIF(D3:D32,Accueil!$B$12)","v":0},{"$f":"COUNTIF(E3:E32,Accueil!$B$12)","v":0},{"$f":"COUNTIF(F3:F32,Accueil!$B$12)","v":0},{"$f":"COUNTIF(G3:G32,Accueil!$B$12)","v":0},{"$f":"COUNTIF(H3:H32,Accueil!$B$12)","v":0},{"$f":"COUNTIF(I3:I32,Accueil!$B$12)","v":2},{"$f":"COUNTIF(J3:J32,Accueil!$B$12)","v":0},{"$f":"COUNTIF(K3:K32,Accueil!$B$12)","v":0},{"$f":"COUNTIF(L3:L32,Accueil!$B$12)","v":0},{"$f":"COUNTIF(M3:M32,Accueil!$B$12)","v":0},{"$f":"COUNTIF(N3:N32,Accueil!$B$12)","v":0},{"$f":"COUNTIF(O3:O32,Accueil!$B$12)","v":0},{"$f":"COUNTIF(P3:P32,Accueil!$B$12)","v":2},{"$f":"COUNTIF(Q3:Q32,Accueil!$B$12)","v":1},{"$f":"COUNTIF(R3:R32,Accueil!$B$12)","v":0},{"$f":"COUNTIF(S3:S32,Accueil!$B$12)","v":0},{"$f":"COUNTIF(T3:T32,Accueil!$B$12)","v":0},{"$f":"COUNTIF(U3:U32,Accueil!$B$12)","v":0},{"$f":"COUNTIF(V3:V32,Accueil!$B$12)","v":0},{"$f":"COUNTIF(W3:W32,Accueil!$B$12)","v":2},{"$f":"COUNTIF(X3:X32,Accueil!$B$12)","v":0},{"$f":"COUNTIF(Y3:Y32,Accueil!$B$12)","v":0},{"$f":"COUNTIF(Z3:Z32,Accueil!$B$12)","v":0},{"$f":"COUNTIF(AA3:AA32,Accueil!$B$12)","v":0},{"$f":"COUNTIF(AB3:AB32,Accueil!$B$12)","v":0},{"$f":"COUNTIF(AC3:AC32,Accueil!$B$12)","v":0},{"$f":"COUNTIF(AD3:AD32,Accueil!$B$12)","v":2},{"$f":"COUNTIF(AE3:AE32,Accueil!$B$12)","v":0},{"$f":"COUNTIF(AF3:AF32,Accueil!$B$12)","v":0},{"$f":"COUNTIF(AG3:AG32,Accueil!$B$12)","v":0}]
[null,{"$f":"\"Effectif minimum \" & Accueil!$B$13","v":"Effectif minimum AP2"},{"$f":"COUNTIF(C3:C32,Accueil!$B$13)","v":1},{"$f":"COUNTIF(D3:D32,Accueil!$B$13)","v":0},{"$f":"COUNTIF(E3:E32,Accueil!$B$13)","v":0},{"$f":"COUNTIF(F3:F32,Accueil!$B$13)","v":1},{"$f":"COUNTIF(G3:G32,Accueil!$B$13)","v":0},{"$f":"COUNTIF(H3:H32,Accueil!$B$13)","v":0},{"$f":"COUNTIF(I3:I32,Accueil!$B$13)","v":0},{"$f":"COUNTIF(J3:J32,Accueil!$B$13)","v":1},{"$f":"COUNTIF(K3:K32,Accueil!$B$13)","v":0},{"$f":"COUNTIF(L3:L32,Accueil!$B$13)","v":0},{"$f":"COUNTIF(M3:M32,Accueil!$B$13)","v":0},{"$f":"COUNTIF(N3:N32,Accueil!$B$13)","v":0},{"$f":"COUNTIF(O3:O32,Accueil!$B$13)","v":0},{"$f":"COUNTIF(P3:P32,Accueil!$B$13)","v":0},{"$f":"COUNTIF(Q3:Q32,Accueil!$B$13)","v":0},{"$f":"COUNTIF(R3:R32,Accueil!$B$13)","v":0},{"$f":"COUNTIF(S3:S32,Accueil!$B$13)","v":0},{"$f":"COUNTIF(T3:T32,Accueil!$B$13)","v":1},{"$f":"COUNTIF(U3:U32,Accueil!$B$13)","v":0},{"$f":"COUNTIF(V3:V32,Accueil!$B$13)","v":0},{"$f":"COUNTIF(W3:W32,Accueil!$B$13)","v":0},{"$f":"COUNTIF(X3:X32,Accueil!$B$13)","v":1},{"$f":"COUNTIF(Y3:Y32,Accueil!$B$13)","v":0},{"$f":"COUNTIF(Z3:Z32,Accueil!$B$13)","v":0},{"$f":"COUNTIF(AA3:AA32,Accueil!$B$13)","v":1},{"$f":"COUNTIF(AB3:AB32,Accueil!$B$13)","v":0},{"$f":"COUNTIF(AC3:AC32,Accueil!$B$13)","v":0},{"$f":"COUNTIF(AD3:AD32,Accueil!$B$13)","v":0},{"$f":"COUNTIF(AE3:AE32,Accueil!$B$13)","v":1},{"$f":"COUNTIF(AF3:AF32,Accueil!$B$13)","v":0},{"$f":"COUNTIF(AG3:AG32,Accueil!$B$13)","v":0}]
[null,{"$f":"\"Effectif minimum \" & Accueil!$B$14","v":"Effectif minimum AP3"},{"$f":"COUNTIF(C3:C32,Accueil!$B$14)","v":0},{"$f":"COUNTIF(D3:D32,Accueil!$B$14)","v":0},{"$f":"COUNTIF(E3:E32,Accueil!$B$14)","v":0},{"$f":"COUNTIF(F3:F32,Accueil!$B$14)","v":0},{"$f":"COUNTIF(G3:G32,Accueil!$B$14)","v":0},{"$f":"COUNTIF(H3:H32,Accueil!$B$14)","v":0},{"$f":"COUNTIF(I3:I32,Accueil!$B$14)","v":0},{"$f":"COUNTIF(J3:J32,Accueil!$B$14)","v":0},{"$f":"COUNTIF(K3:K32,Accueil!$B$14)","v":0},{"$f":"COUNTIF(L3:L32,Accueil!$B$14)","v":0},{"$f":"COUNTIF(M3:M32,Accueil!$B$14)","v":0},{"$f":"COUNTIF(N3:N32,Accueil!$B$14)","v":0},{"$f":"COUNTIF(O3:O32,Accueil!$B$14)","v":0},{"$f":"COUNTIF(P3:P32,Accueil!$B$14)","v":0},{"$f":"COUNTIF(Q3:Q32,Accueil!$B$14)","v":0},{"$f":"COUNTIF(R3:R32,Accueil!$B$14)","v":0},{"$f":"COUNTIF(S3:S32,Accueil!$B$14)","v":0},{"$f":"COUNTIF(T3:T32,Accueil!$B$14)","v":0},{"$f":"COUNTIF(U3:U32,Accueil!$B$14)","v":0},{"$f":"COUNTIF(V3:V32,Accueil!$B$14)","v":0},{"$f":"COUNTIF(W3:W32,Accueil!$B$14)","v":0},{"$f":"COUNTIF(X3:X32,Accueil!$B$14)","v":0},{"$f":"COUNTIF(Y3:Y32,Accueil!$B$14)","v":0},{"$f":"COUNTIF(Z3:Z32,Accueil!$B$14)","v":0},{"$f":"COUNTIF(AA3:AA32,Accueil!$B$14)","v":0},{"$f":"COUNTIF(AB3:AB32,Accueil!$B$14)","v":0},{"$f":"COUNTIF(AC3:AC32,Accueil!$B$14)","v":0},{"$f":"COUNTIF(AD3:AD32,Accueil!$B$14)","v":0},{"$f":"COUNTIF(AE3:AE32,Accueil!$B$14)","v":0},{"$f":"COUNTIF(AF3:AF32,Accueil!$B$14)","v":0},{"$f":"COUNTIF(AG3:AG32,Accueil!$B$14)","v":0}]
[1,{"$f":"\"Effectif minimum \" & Accueil!$B$15","v":"Effectif minimum P1"},{"$f":"COUNTIF(C3:C32,Accueil!$B$15)","v":0},{"$f":"COUNTIF(D3:D32,Accueil!$B$15)","v":0},{"$f":"COUNTIF(E3:E32,Accueil!$B$15)","v":0},{"$f":"COUNTIF(F3:F32,Accueil!$B$15)","v":0},{"$f":"COUNTIF(G3:G32,Accueil!$B$15)","v":0},{"$f":"COUNTIF(H3:H32,Accueil!$B$15)","v":0},{"$f":"COUNTIF(I3:I32,Accueil!$B$15)","v":0},{"$f":"COUNTIF(J3:J32,Accueil!$B$15)","v":0},{"$f":"COUNTIF(K3:K32,Accueil!$B$15)","v":0},{"$f":"COUNTIF(L3:L32,Accueil!$B$15)","v":0},{"$f":"COUNTIF(M3:M32,Accueil!$B$15)","v":0},{"$f":"COUNTIF(N3:N32,Accueil!$B$15)","v":0},{"$f":"COUNTIF(O3:O32,Accueil!$B$15)","v":0},{"$f":"COUNTIF(P3:P32,Accueil!$B$15)","v":0},{"$f":"COUNTIF(Q3:Q32,Accueil!$B$15)","v":0},{"$f":"COUNTIF(R3:R32,Accueil!$B$15)","v":0},{"$f":"COUNTIF(S3:S32,Accueil!$B$15)","v":0},{"$f":"COUNTIF(T3:T32,Accueil!$B$15)","v":0},{"$f":"COUNTIF(U3:U32,Accueil!$B$15)","v":0},{"$f":"COUNTIF(V3:V32,Accueil!$B$15)","v":0},{"$f":"COUNTIF(W3:W32,Accueil!$B$15)","v":0},{"$f":"COUNTIF(X3:X32,Accueil!$B$15)","v":0},{"$f":"COUNTIF(Y3:Y32,Accueil!$B$15)","v":0},{"$f":"COUNTIF(Z3:Z32,Accueil!$B$15)","v":0},{"$f":"COUNTIF(AA3:AA32,Accueil!$B$15)","v":0},{"$f":"COUNTIF(AB3:AB32,Accueil!$B$15)","v":0},{"$f":"COUNTIF(AC3:AC32,Accueil!$B$15)","v":0},{"$f":"COUNTIF(AD3:AD32,Accueil!$B$15)","v":0},{"$f":"COUNTIF(AE3:AE32,Accueil!$B$15)","v":0},{"$f":"COUNTIF(AF3:AF32,Accueil!$B$15)","v":0},{"$f":"COUNTIF(AG3:AG32,Accueil!$B$15)","v":0}]
[2,"APRES-MIDI",{"$f":"C37+C38+C39+C41","v":2},{"$f":"D37+D38+D39+D41","v":2},{"$f":"E37+E38+E39+E41","v":2},{"$f":"F37+F38+F39+F41","v":2},{"$f":"G37+G38+G39+G41","v":2},2,2,2,2,2,2,2,3,2,2,2,2,2,2,2,2,2,2,2,2,2,3,2,2,2,0]
[2,"SOIREE",{"$f":"C37+C38+C39+C41","v":2},{"$f":"D37+D38+D39+D41","v":2},2,2,2,2,2,2,2,2,2,2,3,2,2,2,2,2,2,2,2,2,2,2,2,2,3,2,2,2,0]
[null,{"$f":" \"Effectif minimum \" & Accueil!$B$17 & \" \"","v":"Effectif minimum BI "},{"$f":"COUNTIF(C3:C32,Accueil!$B$17)","v":0},{"$f":"COUNTIF(D3:D32,Accueil!$B$17)","v":0},{"$f":"COUNTIF(E3:E32,Accueil!$B$17)","v":0},{"$f":"COUNTIF(F3:F32,Accueil!$B$17)","v":0},{"$f":"COUNTIF(G3:G32,Accueil!$B$17)","v":0},{"$f":"COUNTIF(H3:H32,Accueil!$B$17)","v":0},{"$f":"COUNTIF(I3:I32,Accueil!$B$17)","v":0},{"$f":"COUNTIF(J3:J32,Accueil!$B$17)","v":0},{"$f":"COUNTIF(K3:K32,Accueil!$B$17)","v":0},{"$f":"COUNTIF(L3:L32,Accueil!$B$17)","v":0},{"$f":"COUNTIF(M3:M32,Accueil!$B$17)","v":0},{"$f":"COUNTIF(N3:N32,Accueil!$B$17)","v":0},{"$f":"COUNTIF(O3:O32,Accueil!$B$17)","v":0},{"$f":"COUNTIF(P3:P32,Accueil!$B$17)","v":0},{"$f":"COUNTIF(Q3:Q32,Accueil!$B$17)","v":0},{"$f":"COUNTIF(R3:R32,Accueil!$B$17)","v":0},{"$f":"COUNTIF(S3:S32,Accueil!$B$17)","v":0},{"$f":"COUNTIF(T3:T32,Accueil!$B$17)","v":0},{"$f":"COUNTIF(U3:U32,Accueil!$B$17)","v":0},{"$f":"COUNTIF(V3:V32,Accueil!$B$17)","v":0},{"$f":"COUNTIF(W3:W32,Accueil!$B$17)","v":0},{"$f":"COUNTIF(X3:X32,Accueil!$B$17)","v":0},{"$f":"COUNTIF(Y3:Y32,Accueil!$B$17)","v":0},{"$f":"COUNTIF(Z3:Z32,Accueil!$B$17)","v":0},{"$f":"COUNTIF(AA3:AA32,Accueil!$B$17)","v":0},{"$f":"COUNTIF(AB3:AB32,Accueil!$B$17)","v":0},{"$f":"COUNTIF(AC3:AC32,Accueil!$B$17)","v":0},{"$f":"COUNTIF(AD3:AD32,Accueil!$B$17)","v":0},{"$f":"COUNTIF(AE3:AE32,Accueil!$B$17)","v":0},{"$f":"COUNTIF(AF3:AF32,Accueil!$B$17)","v":0},{"$f":"COUNTIF(AG3:AG32,Accueil!$B$17)","v":0}]
[null,{"$f":" \"Effectif minimum \" & Accueil!$B$18 & \" \"","v":"Effectif minimum LY "},{"$f":"COUNTIF(C3:C32,Accueil!$B$18)","v":0},{"$f":"COUNTIF(D3:D32,Accueil!$B$18)","v":0},{"$f":"COUNTIF(E3:E32,Accueil!$B$18)","v":1},{"$f":"COUNTIF(F3:F32,Accueil!$B$18)","v":0},{"$f":"COUNTIF(G3:G32,Accueil!$B$18)","v":0},{"$f":"COUNTIF(H3:H32,Accueil!$B$18)","v":1},{"$f":"COUNTIF(I3:I32,Accueil!$B$18)","v":0},{"$f":"COUNTIF(J3:J32,Accueil!$B$18)","v":0},{"$f":"COUNTIF(K3:K32,Accueil!$B$18)","v":0},{"$f":"COUNTIF(L3:L32,Accueil!$B$18)","v":0},{"$f":"COUNTIF(M3:M32,Accueil!$B$18)","v":0},{"$f":"COUNTIF(N3:N32,Accueil!$B$18)","v":0},{"$f":"COUNTIF(O3:O32,Accueil!$B$18)","v":1},{"$f":"COUNTIF(P3:P32,Accueil!$B$18)","v":0},{"$f":"COUNTIF(Q3:Q32,Accueil!$B$18)","v":0},{"$f":"COUNTIF(R3:R32,Accueil!$B$18)","v":0},{"$f":"COUNTIF(S3:S32,Accueil!$B$18)","v":0},{"$f":"COUNTIF(T3:T32,Accueil!$B$18)","v":0},{"$f":"COUNTIF(U3:U32,Accueil!$B$18)","v":0},{"$f":"COUNTIF(V3:V32,Accueil!$B$18)","v":1},{"$f":"COUNTIF(W3:W32,Accueil!$B$18)","v":0},{"$f":"COUNTIF(X3:X32,Accueil!$B$18)","v":0},{"$f":"COUNTIF(Y3:Y32,Accueil!$B$18)","v":0},{"$f":"COUNTIF(Z3:Z32,Accueil!$B$18)","v":0},{"$f":"COUNTIF(AA3:AA32,Accueil!$B$18)","v":0},{"$f":"COUNTIF(AB3:AB32,Accueil!$B$18)","v":0},{"$f":"COUNTIF(AC3:AC32,Accueil!$B$18)","v":0},{"$f":"COUNTIF(AD3:AD32,Accueil!$B$18)","v":0},{"$f":"COUNTIF(AE3:AE32,Accueil!$B$18)","v":0},{"$f":"COUNTIF(AF3:AF32,Accueil!$B$18)","v":0},{"$f":"COUNTIF(AG3:AG32,Accueil!$B$18)","v":0}]
[{"$f":"Mars!A46","v":0},{"$f":" \"Effectif minimum \" & Accueil!$B$19 & \" \"","v":"Effectif minimum ST "},{"$f":"COUNTIF(C3:C32,Accueil!$B$19)","v":0},{"$f":"COUNTIF(D3:D32,Accueil!$B$19)","v":0},{"$f":"COUNTIF(E3:E32,Accueil!$B$19)","v":0},{"$f":"COUNTIF(F3:F32,Accueil!$B$19)","v":0},{"$f":"COUNTIF(G3:G32,Accueil!$B$19)","v":0},{"$f":"COUNTIF(H3:H32,Accueil!$B$19)","v":0},{"$f":"COUNTIF(I3:I32,Accueil!$B$19)","v":0},{"$f":"COUNTIF(J3:J32,Accueil!$B$19)","v":0},{"$f":"COUNTIF(K3:K32,Accueil!$B$19)","v":0},{"$f":"COUNTIF(L3:L32,Accueil!$B$19)","v":0},{"$f":"COUNTIF(M3:M32,Accueil!$B$19)","v":0},{"$f":"COUNTIF(N3:N32,Accueil!$B$19)","v":0},{"$f":"COUNTIF(O3:O32,Accueil!$B$19)","v":0},{"$f":"COUNTIF(P3:P32,Accueil!$B$19)","v":0},{"$f":"COUNTIF(Q3:Q32,Accueil!$B$19)","v":0},{"$f":"COUNTIF(R3:R32,Accueil!$B$19)","v":0},{"$f":"COUNTIF(S3:S32,Accueil!$B$19)","v":0},{"$f":"COUNTIF(T3:T32,Accueil!$B$19)","v":0},{"$f":"COUNTIF(U3:U32,Accueil!$B$19)","v":0},{"$f":"COUNTIF(V3:V32,Accueil!$B$19)","v":0},{"$f":"COUNTIF(W3:W32,Accueil!$B$19)","v":0},{"$f":"COUNTIF(X3:X32,Accueil!$B$19)","v":0},{"$f":"COUNTIF(Y3:Y32,Accueil!$B$19)","v":0},{"$f":"COUNTIF(Z3:Z32,Accueil!$B$19)","v":0},{"$f":"COUNTIF(AA3:AA32,Accueil!$B$19)","v":0},{"$f":"COUNTIF(AB3:AB32,Accueil!$B$19)","v":0},{"$f":"COUNTIF(AC3:AC32,Accueil!$B$19)","v":0},{"$f":"COUNTIF(AD3:AD32,Accueil!$B$19)","v":0},{"$f":"COUNTIF(AE3:AE32,Accueil!$B$19)","v":0},{"$f":"COUNTIF(AF3:AF32,Accueil!$B$19)","v":0},{"$f":"COUNTIF(AG3:AG32,Accueil!$B$19)","v":0}]
[1,{"$f":"\"Effectif minimum \" & Accueil!$B$16","v":"Effectif minimum Nuit"},{"$f":"COUNTIF(C6:C35,Accueil!$B$17)","v":0},{"$f":"COUNTIF(D6:D35,Accueil!$B$17)","v":0},{"$f":"COUNTIF(E6:E35,Accueil!$B$17)","v":0},{"$f":"COUNTIF(F6:F35,Accueil!$B$17)","v":0},{"$f":"COUNTIF(G6:G35,Accueil!$B$17)","v":0},{"$f":"COUNTIF(H6:H35,Accueil!$B$17)","v":0},{"$f":"COUNTIF(I6:I35,Accueil!$B$17)","v":0},{"$f":"COUNTIF(J6:J35,Accueil!$B$17)","v":0},{"$f":"COUNTIF(K6:K35,Accueil!$B$17)","v":0},{"$f":"COUNTIF(L6:L35,Accueil!$B$17)","v":0},{"$f":"COUNTIF(M6:M35,Accueil!$B$17)","v":0},{"$f":"COUNTIF(N6:N35,Accueil!$B$17)","v":0},{"$f":"COUNTIF(O6:O35,Accueil!$B$17)","v":0},{"$f":"COUNTIF(P6:P35,Accueil!$B$17)","v":0},{"$f":"COUNTIF(Q6:Q35,Accueil!$B$17)","v":0},{"$f":"COUNTIF(R6:R35,Accueil!$B$17)","v":0},{"$f":"COUNTIF(S6:S35,Accueil!$B$17)","v":0},{"$f":"COUNTIF(T6:T35,Accueil!$B$17)","v":0},{"$f":"COUNTIF(U6:U35,Accueil!$B$17)","v":0},{"$f":"COUNTIF(V6:V35,Accueil!$B$17)","v":0},{"$f":"COUNTIF(W6:W35,Accueil!$B$17)","v":0},{"$f":"COUNTIF(X6:X35,Accueil!$B$17)","v":0},{"$f":"COUNTIF(Y6:Y35,Accueil!$B$17)","v":0},{"$f":"COUNTIF(Z6:Z35,Accueil!$B$17)","v":0},{"$f":"COUNTIF(AA6:AA35,Accueil!$B$17)","v":0},{"$f":"COUNTIF(AB6:AB35,Accueil!$B$17)","v":0},{"$f":"COUNTIF(AC6:AC35,Accueil!$B$17)","v":0},{"$f":"COUNTIF(AD6:AD35,Accueil!$B$17)","v":0},{"$f":"COUNTIF(AE6:AE35,Accueil!$B$17)","v":0},{"$f":"COUNTIF(AF6:AF35,Accueil!$B$17)","v":0},{"$f":"COUNTIF(AG6:AG35,Accueil!$B$17)","v":0}]

{"sheet":"Mai","index":6,"n_rows":47,"n_cols":99,"rows_kept":47,"cut":false,"hidden":false,"merged":[[0,92,0,94],[0,96,0,98],[1,0,1,1],[2,0,2,1],[0,0,0,1],[0,84,0,86],[0,88,0,90],[3,0,3,1],[4,0,4,1],[5,0,5,1],[12,0,12,1],[6,0,6,1],[13,0,13,1],[14,0,14,1],[7,0,7,1],[8,0,8,1],[9,0,9,1],[10,0,10,1],[11,0,11,1],[19,0,19,1],[20,0,20,1],[21,0,21,1],[22,0,22,1],[15,0,15,1],[16,0,16,1],[17,0,17,1],[18,0,18,1],[23,0,23,1],[24,0,24,1],[25,0,25,1],[26,0,26,1],[31,0,31,1],[27,0,27,1],[28,0,28,1],[29,0,29,1],[30,0,30,1]]}
[{"$f":"DATE(Accueil!C2,5,1)","v":"2016-05-01"},null,{"$f":"INDEX({\"D\";\"L\";\"M\";\"M\";\"J\";\"V\";\"S\"},WEEKDAY(C2))","v":"D"},{"$f":"INDEX({\"D\";\"L\";\"M\";\"M\";\"J\";\"V\";\"S\"},WEEKDAY(D2))","v":"L"},{"$f":"INDEX({\"D\";\"L\";\"M\";\"M\";\"J\";\"V\";\"S\"},WEEKDAY(E2))","v":"M"},{"$f":"INDEX({\"D\";\"L\";\"M\";\"M\";\"J\";\"V\";\"S\"},WEEKDAY(F2))","v":"M"},{"$f":"INDEX({\"D\";\"L\";\"M\";\"M\";\"J\";\"V\";\"S\"},WEEKDAY(G2))","v":"J"},{"$f":"INDEX({\"D\";\"L\";\"M\";\"M\";\"J\";\"V\";\"S\"},WEEKDAY(H2))","v":"V"},{"$f":"INDEX({\"D\";\"L\";\"M\";\"M\";\"J\";\"V\";\"S\"},WEEKDAY(I2))","v":"S"},{"$f":"INDEX({\"D\";\"L\";\"M\";\"M\";\"J\";\"V\";\"S\"},WEEKDAY(J2))","v":"D"},{"$f":"INDEX({\"D\";\"L\";\"M\";\"M\";\"J\";\"V\";\"S\"},WEEKDAY(K2))","v":"L"},{"$f":"INDEX({\"D\";\"L\";\"M\";\"M\";\"J\";\"V\";\"S\"},WEEKDAY(L2))","v":"M"},{"$f":"INDEX({\"D\";\"L\";\"M\";\"M\";\"J\";\"V\";\"S\"},WEEKDAY(M2))","v":"M"},{"$f":"INDEX({\"D\";\"L\";\"M\";\"M\";\"J\";\"V\";\"S\"},WEEKDAY(N2))","v":"J"},{"$f":"INDEX({\"D\";\"L\";\"M\";\"M\";\"J\";\"V\";\"S\"},WEEKDAY(O2))","v":"V"},{"$f":"INDEX({\"D\";\"L\";\"M\";\"M\";\"J\";\"V\";\"S\"},WEEKDAY(P2))","v":"S"},{"$f":"INDEX({\"D\";\"L\";\"M\";\"M\";\"J\";\"V\";\"S\"},WEEKDAY(Q2))","v":"D"},{"$f":"INDEX({\"D\";\"L\";\"M\";\"M\";\"J\";\"V\";\"S\"},WEEKDAY(R2))","v":"L"},{"$f":"INDEX({\"D\";\"L\";\"M\";\"M\";\"J\";\"V\";\"S\"},WEEKDAY(S2))","v":"M"},{"$f":"INDEX({\"D\";\"L\";\"M\";\"M\";\"J\";\"V\";\"S\"},WEEKDAY(T2))","v":"M"},{"$f":"INDEX({\"D\";\"L\";\"M\";\"M\";\"J\";\"V\";\"S\"},WEEKDAY(U2))","v":"J"},{"$f":"INDEX({\"D\";\"L\";\"M\";\"M\";\"J\";\"V\";\"S\"},WEEKDAY(V2))","v":"V"},{"$f":"INDEX({\"D\";\"L\";\"M\";\"M\";\"J\";\"V\";\"S\"},WEEKDAY(W2))","v":"S"},{"$f":"INDEX({\"D\";\"L\";\"M\";\"M\";\"J\";\"V\";\"S\"},WEEKDAY(X2))","v":"D"},{"$f":"INDEX({\"D\";\"L\";\"M\";\"M\";\"J\";\"V\";\"S\"},WEEKDAY(Y2))","v":"L"},{"$f":"INDEX({\"D\";\"L\";\"M\";\"M\";\"J\";\"V\";\"S\"},WEEKDAY(Z2))","v":"M"},{"$f":"INDEX({\"D\";\"L\";\"M\";\"M\";\"J\";\"V\";\"S\"},WEEKDAY(AA2))","v":"M"},{"$f":"INDEX({\"D\";\"L\";\"M\";\"M\";\"J\";\"V\";\"S\"},WEEKDAY(AB2))","v":"J"},{"$f":"INDEX({\"D\";\"L\";\"M\";\"M\";\"J\";\"V\";\"S\"},WEEKDAY(AC2))","v":"V"},{"$f":"INDEX({\"D\";\"L\";\"M\";\"M\";\"J\";\"V\";\"S\"},WEEKDAY(AD2))","v":"S"},{"$f":"INDEX({\"D\";\"L\";\"M\";\"M\";\"J\";\"V\";\"S\"},WEEKDAY(AE2))","v":"D"},{"$f":"INDEX({\"D\";\"L\";\"M\";\"M\";\"J\";\"V\";\"S\"},WEEKDAY(AF2))","v":"L"},{"$f":"INDEX({\"D\";\"L\";\"M\";\"M\";\"J\";\"V\";\"S\"},WEEKDAY(AG2))","v":"M"},null,"Bilan mensuel",null,null,null,null,null,null,null,null,null,null,null,null,null,null,null,null,null,null,null,null,null,null,"Total jours",null,"Bilan annuel",null,null,null,null,null,null,null,null,null,null,null,null,null,null,null,null,null,null,null,null,null,null,"Total jours",null,"Bilan congès annuels",null,null,null,"Bilan Enfant malade",null,null,null,"Bilan RH aministratif",null,null,null,"Bilan RH employé"]
[{"$f":"Accueil!J2","v":"Educatif"},null,{"$f":"A1","v":"2016-05-01"},{"$f":"C2+1","v":"2016-05-02"},"2016-05-03","2016-05-04","2016-05-05","2016-05-06","2016-05-07","2016-05-08","2016-05-09","2016-05-10","2016-05-11","2016-05-12","2016-05-13","2016-05-14","2016-05-15","2016-05-16","2016-05-17","2016-05-18","2016-05-19","2016-05-20","2016-05-21","2016-05-22","2016-05-23","2016-05-24","2016-05-25","2016-05-26","2016-05-27","2016-05-28","2016-05-29","2016-05-30","2016-05-31",null,{"$f":"Accueil!$B$8","v":"M1"},{"$f":"Accueil!$B$9","v":"M2"},{"$f":"Accueil!B10","v":"M3"},{"$f":"Accueil!$B$11","v":"MP"},{"$f":"Accueil!$B$12","v":"AP1"},{"$f":"Accueil!B13","v":"AP2"},{"$f":"Accueil!B14","v":"AP3"},{"$f":"Accueil!$B$15","v":"P1"},{"$f":"Accueil!$B$16","v":"Nuit"},{"$f":"Accueil!$B$17","v":"BI"},{"$f":"Accueil!$B$18","v":"LY"},{"$f":"Accueil!$B$19","v":"ST"},{"$f":"Accueil!$B$20","v":"IND"},{"$f":"Accueil!$B$21","v":0},{"$f":"Accueil!$B$22","v":0},{"$f":"Accueil!$B$23","v":"Vac"},{"$f":"Accueil!$B$24","v":"Mal"},{"$f":"Accueil!$B$25","v":"Mat"},{"$f":"Accueil!$B$26","v":"CC"},{"$f":"Accueil!$B$27","v":"F"},{"$f":"Accueil!$B$28","v":"Enf"},{"$f":"Accueil!$B$29","v":"CP"},{"$f":"Accueil!$B$30","v":0},"travaillés",null,{"$f":"AI2","v":"M1"},"M2","M3","MP","AP1","AP2","AP3","P1","Nuit","BI","LY","ST","IND",0,0,"Vac","Mal","Mat","CC","F","Enf","CP",0,"travaillés",null,"capital","pris","restant",null,"capital","pris","restant",null,"capital","pris","restant",null,"capital","pris","restant"]
[{"$f":"Avril!A3","v":"Anne"},null,null,null,"MP",null,null,"MP",null,null,null,"MP",null,null,"M1","Vac","Vac","Vac","Vac","Vac","Vac","Vac","Vac","Vac","Vac","Vac","Vac","Vac",null,null,null,null,"MP",null,{"$f":"COUNTIF(C3:AG3,Accueil!$B$8)","v":1},{"$f":"COUNTIF(C3:AG3,Accueil!$B$9)","v":0},{"$f":"COUNTIF(C3:AG3,Accueil!$B$10)","v":0},{"$f":"COUNTIF(C3:AG3,Accueil!$B$11)","v":4},{"$f":"COUNTIF(C3:AG3,Accueil!$B$12)","v":0},{"$f":"COUNTIF(C3:AG3,Accueil!$B$13)","v":0},{"$f":"COUNTIF(C3:AG3,Accueil!$B$14)","v":0},{"$f":"COUNTIF(C3:AG3,Accueil!$B$15)","v":0},{"$f":"COUNTIF(C3:AG3,Accueil!$B$16)","v":0},{"$f":"COUNTIF(C3:AG3,Accueil!$B$17)","v":0},{"$f":"COUNTIF(C3:AG3,Accueil!$B$18)","v":0},{"$f":"COUNTIF(C3:AG3,Accueil!$B$19)","v":0},{"$f":"COUNTIF(C3:AG3,Accueil!$B$20)","v":0},{"$f":"COUNTIF(C3:AG3,Accueil!$B$21)","v":0},{"$f":"COUNTIF(C3:AG3,Accueil!$B$22)","v":0},{"$f":"COUNTIF(C3:AG3,Accueil!$B$23)","v":13},{"$f":"COUNTIF(C3:AG3,Accueil!$B$24)","v":0},{"$f":"COUNTIF(C3:AG3,Accueil!$B$25)","v":0},{"$f":"COUNTIF(C3:AG3,Accueil!$B$26)","v":0},{"$f":"COUNTIF(C3:AG3,Accueil!$B$27)","v":0},{"$f":"COUNTIF(C3:AG3,Accueil!$B$28)","v":0},{"$f":"COUNTIF(C3:AG3,Accueil!$B$29)","v":0},{"$f":"COUNTIF(C3:AG3,Accueil!$B$30)","v":0},{"$f":"SUM($AI3:$AT3)+($AW3*0.5)","v":5},null,{"$f":"AI3 +Avril!BH3","v":13},{"$f":"AJ3+Avril!BI3","v":0},{"$f":"AK3+Avril!BJ3","v":0},{"$f":"AL3+Avril!BK3","v":28},{"$f":"AM3+Avril!BL3","v":2},{"$f":"AN3+Avril!BM3","v":0},{"$f":"AO3+Avril!BN3","v":0},{"$f":"AP3+Avril!BO3","v":0},{"$f":"AQ3+Avril!BP3","v":0},{"$f":"AR3+Avril!BQ3","v":0},{"$f":"AS3+Avril!BR3","v":0},{"$f":"AT3+Avril!BS3","v":0},{"$f":"AU3+Avril!BT3","v":0},{"$f":"AV3+Avril!BU3","v":0},{"$f":"AW3+Avril!BV3","v":0},{"$f":"AX3+Avril!BW3","v":22},{"$f":"AY3+Avril!BX3","v":1},{"$f":"AZ3+Avril!BY3","v":0},{"$f":"BA3+Avril!BZ3","v":0},{"$f":"BB3+Avril!CA3","v":0},{"$f":"BC3+Avril!CB3","v":0},{"$f":"BD3+Avril!CC3","v":0},{"$f":"BE3+Avril!CD3","v":0},{"$f":"BF3+Avril!CE3","v":43},null,{"$f":"Avril!CG3","v":0},{"$f":"0.5*($BV3)+($BW3)","v":22},{"$f":"CG3-CH3","v":-22},null,{"$f":"Avril!CK3","v":0},{"$f":"$CB3","v":0},{"$f":"CK3-CL3","v":0},null,{"$f":"Avril!CO3","v":0},{"$f":"$CC3","v":0},{"$f":"CO3-CP3","v":0},null,{"$f":"Avril!CS3","v":0},{"$f":"$CD3","v":0},{"$f":"CS3-CT3","v":0}]
[{"$f":"Avril!A4","v":0},null,null,null,null,null,null,null,null,null,null,null,null,null,null,null,null,null,null,null,null,null,null,null,null,null,null,null,null,null,null,null,null,null,{"$f":"COUNTIF(C4:AG4,Accueil!$B$8)","v":0},{"$f":"COUNTIF(C4:AG4,Accueil!$B$9)","v":0},{"$f":"COUNTIF(C4:AG4,Accueil!$B$10)","v":0},{"$f":"COUNTIF(C4:AG4,Accueil!$B$11)","v":0},{"$f":"COUNTIF(C4:AG4,Accueil!$B$12)","v":0},{"$f":"COUNTIF(C4:AG4,Accueil!$B$13)","v":0},{"$f":"COUNTIF(C4:AG4,Accueil!$B$14)","v":0},{"$f":"COUNTIF(C4:AG4,Accueil!$B$15)","v":0},{"$f":"COUNTIF(C4:AG4,Accueil!$B$16)","v":0},{"$f":"COUNTIF(C4:AG4,Accueil!$B$17)","v":0},{"$f":"COUNTIF(C4:AG4,Accueil!$B$18)","v":0},{"$f":"COUNTIF(C4:AG4,Accueil!$B$19)","v":0},{"$f":"COUNTIF(C4:AG4,Accueil!$B$20)","v":0},{"$f":"COUNTIF(C4:AG4,Accueil!$B$21)","v":0},{"$f":"COUNTIF(C4:AG4,Accueil!$B$22)","v":0},{"$f":"COUNTIF(C4:AG4,Accueil!$B$23)","v":0},{"$f":"COUNTIF(C4:AG4,Accueil!$B$24)","v":0},{"$f":"COUNTIF(C4:AG4,Accueil!$B$25)","v":0},{"$f":"COUNTIF(C4:AG4,Accueil!$B$26)","v":0},{"$f":"COUNTIF(C4:AG4,Accueil!$B$27)","v":0},{"$f":"COUNTIF(C4:AG4,Accueil!$B$28)","v":0},{"$f":"COUNTIF(C4:AG4,Accueil!$B$29)","v":0},{"$f":"COUNTIF(C4:AG4,Accueil!$B$30)","v":0},0,null,{"$f":"AI4 +Avril!BH4","v":0},{"$f":"AJ4+Avril!BI4","v":0},{"$f":"AK4+Avril!BJ4","v":0},{"$f":"AL4+Avril!BK4","v":0},{"$f":"AM4+Avril!BL4","v":0},{"$f":"AN4+Avril!BM4","v":0},{"$f":"AO4+Avril!BN4","v":0},{"$f":"AP4+Avril!BO4","v":0},{"$f":"AQ4+Avril!BP4","v":0},{"$f":"AR4+Avril!BQ4","v":0},{"$f":"AS4+Avril!BR4","v":1},{"$f":"AT4+Avril!BS4","v":0},{"$f":"AU4+Avril!BT4","v":0},{"$f":"AV4+Avril!BU4","v":0},{"$f":"AW4+Avril!BV4","v":0},{"$f":"AX4+Avril!BW4","v":0},{"$f":"AY4+Avril!BX4","v":0},{"$f":"AZ4+Avril!BY4","v":0},{"$f":"BA4+Avril!BZ4","v":0},{"$f":"BB4+Avril!CA4","v":0},{"$f":"BC4+Avril!CB4","v":0},{"$f":"BD4+Avril!CC4","v":0},{"$f":"BE4+Avril!CD4","v":0},{"$f":"BF4+Avril!CE4","v":1},null,{"$f":"Avril!CG4","v":0},0,0,null,{"$f":"Avril!CK4","v":0},0,0,null,{"$f":"Avril!CO4","v":0},0,0,null,{"$f":"Avril!CS4","v":0},0,0]
[{"$f":"Avril!A5","v":"Elodie"},null,"MP",null,"M1","M1","MP",null,null,null,"M1","M1","M1","M1","Vac","Vac","Vac","Vac","MP","M1","AP1",null,null,"MP",null,"M1","M1","AP1","AP2","IND","IND","M1","M1",null,{"$f":"COUNTIF(C5:AG5,Accueil!$B$8)","v":11},{"$f":"COUNTIF(C5:AG5,Accueil!$B$9)","v":0},{"$f":"COUNTIF(C5:AG5,Accueil!$B$10)","v":0},{"$f":"COUNTIF(C5:AG5,Accueil!$B$11)","v":4},{"$f":"COUNTIF(C5:AG5,Accueil!$B$12)","v":2},{"$f":"COUNTIF(C5:AG5,Accueil!$B$13)","v":1},{"$f":"COUNTIF(C5:AG5,Accueil!$B$14)","v":0},{"$f":"COUNTIF(C5:AG5,Accueil!$B$15)","v":0},{"$f":"COUNTIF(C5:AG5,Accueil!$B$16)","v":0},{"$f":"COUNTIF(C5:AG5,Accueil!$B$17)","v":0},{"$f":"COUNTIF(C5:AG5,Accueil!$B$18)","v":0},{"$f":"COUNTIF(C5:AG5,Accueil!$B$19)","v":0},{"$f":"COUNTIF(C5:AG5,Accueil!$B$20)","v":2},{"$f":"COUNTIF(C5:AG5,Accueil!$B$21)","v":0},{"$f":"COUNTIF(C5:AG5,Accueil!$B$22)","v":0},{"$f":"COUNTIF(C5:AG5,Accueil!$B$23)","v":4},{"$f":"COUNTIF(C5:AG5,Accueil!$B$24)","v":0},{"$f":"COUNTIF(C5:AG5,Accueil!$B$25)","v":0},{"$f":"COUNTIF(C5:AG5,Accueil!$B$26)","v":0},{"$f":"COUNTIF(C5:AG5,Accueil!$B$27)","v":0},{"$f":"COUNTIF(C5:AG5,Accueil!$B$28)","v":0},{"$f":"COUNTIF(C5:AG5,Accueil!$B$29)","v":0},{"$f":"COUNTIF(C5:AG5,Accueil!$B$30)","v":0},18,null,{"$f":"AI5 +Avril!BH5","v":48},{"$f":"AJ5+Avril!BI5","v":0},{"$f":"AK5+Avril!BJ5","v":0},{"$f":"AL5+Avril!BK5","v":16},{"$f":"AM5+Avril!BL5","v":17},{"$f":"AN5+Avril!BM5","v":3},{"$f":"AO5+Avril!BN5","v":0},{"$f":"AP5+Avril!BO5","v":0},{"$f":"AQ5+Avril!BP5","v":0},{"$f":"AR5+Avril!BQ5","v":0},{"$f":"AS5+Avril!BR5","v":0},{"$f":"AT5+Avril!BS5","v":0},{"$f":"AU5+Avril!BT5","v":2},{"$f":"AV5+Avril!BU5","v":0},{"$f":"AW5+Avril!BV5","v":0},{"$f":"AX5+Avril!BW5","v":9},{"$f":"AY5+Avril!BX5","v":0},{"$f":"AZ5+Avril!BY5","v":0},{"$f":"BA5+Avril!BZ5","v":1},{"$f":"BB5+Avril!CA5","v":1},{"$f":"BC5+Avril!CB5","v":0},{"$f":"BD5+Avril!CC5","v":0},{"$f":"BE5+Avril!CD5","v":0},{"$f":"BF5+Avril!CE5","v":84},null,{"$f":"Avril!CG5","v":0},9,-9,null,{"$f":"Avril!CK5","v":0},0,0,null,{"$f":"Avril!CO5","v":0},0,0,null,{"$f":"Avril!CS5","v":0},0,0]
[{"$f":"Avril!A6","v":0},null,null,null,null,null,null,null,null,null,null,null,null,null,null,null,null,null,null,null,null,null,null,null,null,null,null,null,null,null,null,null,null,null,{"$f":"COUNTIF(C6:AG6,Accueil!$B$8)","v":0},{"$f":"COUNTIF(C6:AG6,Accueil!$B$9)","v":0},{"$f":"COUNTIF(C6:AG6,Accueil!$B$10)","v":0},{"$f":"COUNTIF(C6:AG6,Accueil!$B$11)","v":0},{"$f":"COUNTIF(C6:AG6,Accueil!$B$12)","v":0},{"$f":"COUNTIF(C6:AG6,Accueil!$B$13)","v":0},{"$f":"COUNTIF(C6:AG6,Accueil!$B$14)","v":0},{"$f":"COUNTIF(C6:AG6,Accueil!$B$15)","v":0},{"$f":"COUNTIF(C6:AG6,Accueil!$B$16)","v":0},{"$f":"COUNTIF(C6:AG6,Accueil!$B$17)","v":0},{"$f":"COUNTIF(C6:AG6,Accueil!$B$18)","v":0},{"$f":"COUNTIF(C6:AG6,Accueil!$B$19)","v":0},{"$f":"COUNTIF(C6:AG6,Accueil!$B$20)","v":0},{"$f":"COUNTIF(C6:AG6,Accueil!$B$21)","v":0},{"$f":"COUNTIF(C6:AG6,Accueil!$B$22)","v":0},{"$f":"COUNTIF(C6:AG6,Accueil!$B$23)","v":0},{"$f":"COUNTIF(C6:AG6,Accueil!$B$24)","v":0},{"$f":"COUNTIF(C6:AG6,Accueil!$B$25)","v":0},{"$f":"COUNTIF(C6:AG6,Accueil!$B$26)","v":0},{"$f":"COUNTIF(C6:AG6,Accueil!$B$27)","v":0},{"$f":"COUNTIF(C6:AG6,Accueil!$B$28)","v":0},{"$f":"COUNTIF(C6:AG6,Accueil!$B$29)","v":0},{"$f":"COUNTIF(C6:AG6,Accueil!$B$30)","v":0},0,null,{"$f":"AI6 +Avril!BH6","v":0},{"$f":"AJ6+Avril!BI6","v":0},{"$f":"AK6+Avril!BJ6","v":0},{"$f":"AL6+Avril!BK6","v":0},{"$f":"AM6+Avril!BL6","v":0},{"$f":"AN6+Avril!BM6","v":1},{"$f":"AO6+Avril!BN6","v":0},{"$f":"AP6+Avril!BO6","v":0},{"$f":"AQ6+Avril!BP6","v":0},{"$f":"AR6+Avril!BQ6","v":0},{"$f":"AS6+Avril!BR6","v":1},{"$f":"AT6+Avril!BS6","v":0},{"$f":"AU6+Avril!BT6","v":0},{"$f":"AV6+Avril!BU6","v":0},{"$f":"AW6+Avril!BV6","v":0},{"$f":"AX6+Avril!BW6","v":0},{"$f":"AY6+Avril!BX6","v":0},{"$f":"AZ6+Avril!BY6","v":0},{"$f":"BA6+Avril!BZ6","v":0},{"$f":"BB6+Avril!CA6","v":0},{"$f":"BC6+Avril!CB6","v":0},{"$f":"BD6+Avril!CC6","v":0},{"$f":"BE6+Avril!CD6","v":0},{"$f":"BF6+Avril!CE6","v":2},null,{"$f":"Avril!CG6","v":0},0,0,null,{"$f":"Avril!CK6","v":0},0,0,null,{"$f":"Avril!CO6","v":0},0,0,null,{"$f":"Avril!CS6","v":0},0,0]
[{"$f":"Avril!A7","v":"Eve-Marie"},null,"MP",null,"M1",null,null,"CC","CC","CC",null,"M1",null,"AP1","M1",null,"MP",null,"M1",null,"AP1","M1",null,null,null,"M1",null,"AP1","M1",null,"MP",null,"M1",null,{"$f":"COUNTIF(C7:AG7,Accueil!$B$8)","v":8},{"$f":"COUNTIF(C7:AG7,Accueil!$B$9)","v":0},{"$f":"COUNTIF(C7:AG7,Accueil!$B$10)","v":0},{"$f":"COUNTIF(C7:AG7,Accueil!$B$11)","v":3},{"$f":"COUNTIF(C7:AG7,Accueil!$B$12)","v":3},{"$f":"COUNTIF(C7:AG7,Accueil!$B$13)","v":0},{"$f":"COUNTIF(C7:AG7,Accueil!$B$14)","v":0},{"$f":"COUNTIF(C7:AG7,Accueil!$B$15)","v":0},{"$f":"COUNTIF(C7:AG7,Accueil!$B$16)","v":0},{"$f":"COUNTIF(C7:AG7,Accueil!$B$17)","v":0},{"$f":"COUNTIF(C7:AG7,Accueil!$B$18)","v":0},{"$f":"COUNTIF(C7:AG7,Accueil!$B$19)","v":0},{"$f":"COUNTIF(C7:AG7,Accueil!$B$20)","v":0},{"$f":"COUNTIF(C7:AG7,Accueil!$B$21)","v":0},{"$f":"COUNTIF(C7:AG7,Accueil!$B$22)","v":0},{"$f":"COUNTIF(C7:AG7,Accueil!$B$23)","v":0},{"$f":"COUNTIF(C7:AG7,Accueil!$B$24)","v":0},{"$f":"COUNTIF(C7:AG7,Accueil!$B$25)","v":0},{"$f":"COUNTIF(C7:AG7,Accueil!$B$26)","v":3},{"$f":"COUNTIF(C7:AG7,Accueil!$B$27)","v":0},{"$f":"COUNTIF(C7:AG7,Accueil!$B$28)","v":0},{"$f":"COUNTIF(C7:AG7,Accueil!$B$29)","v":0},{"$f":"COUNTIF(C7:AG7,Accueil!$B$30)","v":0},14,null,{"$f":"AI7 +Avril!BH7","v":33},{"$f":"AJ7+Avril!BI7","v":1},{"$f":"AK7+Avril!BJ7","v":0},{"$f":"AL7+Avril!BK7","v":12},{"$f":"AM7+Avril!BL7","v":21},{"$f":"AN7+Avril!BM7","v":2},{"$f":"AO7+Avril!BN7","v":1},{"$f":"AP7+Avril!BO7","v":0},{"$f":"AQ7+Avril!BP7","v":0},{"$f":"AR7+Avril!BQ7","v":0},{"$f":"AS7+Avril!BR7","v":0},{"$f":"AT7+Avril!BS7","v":0},{"$f":"AU7+Avril!BT7","v":0},{"$f":"AV7+Avril!BU7","v":0},{"$f":"AW7+Avril!BV7","v":0},{"$f":"AX7+Avril!BW7","v":8},{"$f":"AY7+Avril!BX7","v":0},{"$f":"AZ7+Avril!BY7","v":0},{"$f":"BA7+Avril!BZ7","v":3},{"$f":"BB7+Avril!CA7","v":0},{"$f":"BC7+Avril!CB7","v":0},{"$f":"BD7+Avril!CC7","v":0},{"$f":"BE7+Avril!CD7","v":0},{"$f":"BF7+Avril!CE7","v":70},null,{"$f":"Avril!CG7","v":0},8,-8,null,{"$f":"Avril!CK7","v":0},0,0,null,{"$f":"Avril!CO7","v":0},0,0,null,{"$f":"Avril!CS7","v":0},0,0]
[{"$f":"Avril!A8","v":0},null,null,null,null,null,null,null,null,null,null,null,null,null,null,null,null,null,null,null,null,null,null,null,null,null,null,null,null,null,null,null,null,null,{"$f":"COUNTIF(C8:AG8,Accueil!$B$8)","v":0},{"$f":"COUNTIF(C8:AG8,Accueil!$B$9)","v":0},{"$f":"COUNTIF(C8:AG8,Accueil!$B$10)","v":0},{"$f":"COUNTIF(C8:AG8,Accueil!$B$11)","v":0},{"$f":"COUNTIF(C8:AG8,Accueil!$B$12)","v":0},{"$f":"COUNTIF(C8:AG8,Accueil!$B$13)","v":0},{"$f":"COUNTIF(C8:AG8,Accueil!$B$14)","v":0},{"$f":"COUNTIF(C8:AG8,Accueil!$B$15)","v":0},{"$f":"COUNTIF(C8:AG8,Accueil!$B$16)","v":0},{"$f":"COUNTIF(C8:AG8,Accueil!$B$17)","v":0},{"$f":"COUNTIF(C8:AG8,Accueil!$B$18)","v":0},{"$f":"COUNTIF(C8:AG8,Accueil!$B$19)","v":0},{"$f":"COUNTIF(C8:AG8,Accueil!$B$20)","v":0},{"$f":"COUNTIF(C8:AG8,Accueil!$B$21)","v":0},{"$f":"COUNTIF(C8:AG8,Accueil!$B$22)","v":0},{"$f":"COUNTIF(C8:AG8,Accueil!$B$23)","v":0},{"$f":"COUNTIF(C8:AG8,Accueil!$B$24)","v":0},{"$f":"COUNTIF(C8:AG8,Accueil!$B$25)","v":0},{"$f":"COUNTIF(C8:AG8,Accueil!$B$26)","v":0},{"$f":"COUNTIF(C8:AG8,Accueil!$B$27)","v":0},{"$f":"COUNTIF(C8:AG8,Accueil!$B$28)","v":0},{"$f":"COUNTIF(C8:AG8,Accueil!$B$29)","v":0},{"$f":"COUNTIF(C8:AG8,Accueil!$B$30)","v":0},0,null,{"$f":"AI8 +Avril!BH8","v":0},{"$f":"AJ8+Avril!BI8","v":0},{"$f":"AK8+Avril!BJ8","v":0},{"$f":"AL8+Avril!BK8","v":0},{"$f":"AM8+Avril!BL8","v":0},{"$f":"AN8+Avril!BM8","v":0},{"$f":"AO8+Avril!BN8","v":0},{"$f":"AP8+Avril!BO8","v":0},{"$f":"AQ8+Avril!BP8","v":0},{"$f":"AR8+Avril!BQ8","v":0},{"$f":"AS8+Avril!BR8","v":1},{"$f":"AT8+Avril!BS8","v":0},{"$f":"AU8+Avril!BT8","v":0},{"$f":"AV8+Avril!BU8","v":0},{"$f":"AW8+Avril!BV8","v":0},{"$f":"AX8+Avril!BW8","v":0},{"$f":"AY8+Avril!BX8","v":0},{"$f":"AZ8+Avril!BY8","v":0},{"$f":"BA8+Avril!BZ8","v":0},{"$f":"BB8+Avril!CA8","v":0},{"$f":"BC8+Avril!CB8","v":0},{"$f":"BD8+Avril!CC8","v":0},{"$f":"BE8+Avril!CD8","v":0},{"$f":"BF8+Avril!CE8","v":1},null,{"$f":"Avril!CG8","v":0},0,0,null,{"$f":"Avril!CK8","v":0},0,0,null,{"$f":"Avril!CO8","v":0},0,0,null,{"$f":"Avril!CS8","v":0},0,0]
[{"$f":"Avril!A9","v":"Isabel"},null,null,"AP2","M1",null,null,null,null,null,"AP2","M1",null,null,null,null,null,null,"M1",null,null,null,"MP",null,"AP2","MP",null,null,null,"MP",null,"AP2","M1",null,{"$f":"COUNTIF(C9:AG9,Accueil!$B$8)","v":4},{"$f":"COUNTIF(C9:AG9,Accueil!$B$9)","v":0},{"$f":"COUNTIF(C9:AG9,Accueil!$B$10)","v":0},{"$f":"COUNTIF(C9:AG9,Accueil!$B$11)","v":3},{"$f":"COUNTIF(C9:AG9,Accueil!$B$12)","v":0},{"$f":"COUNTIF(C9:AG9,Accueil!$B$13)","v":4},{"$f":"COUNTIF(C9:AG9,Accueil!$B$14)","v":0},{"$f":"COUNTIF(C9:AG9,Accueil!$B$15)","v":0},{"$f":"COUNTIF(C9:AG9,Accueil!$B$16)","v":0},{"$f":"COUNTIF(C9:AG9,Accueil!$B$17)","v":0},{"$f":"COUNTIF(C9:AG9,Accueil!$B$18)","v":0},{"$f":"COUNTIF(C9:AG9,Accueil!$B$19)","v":0},{"$f":"COUNTIF(C9:AG9,Accueil!$B$20)","v":0},{"$f":"COUNTIF(C9:AG9,Accueil!$B$21)","v":0},{"$f":"COUNTIF(C9:AG9,Accueil!$B$22)","v":0},{"$f":"COUNTIF(C9:AG9,Accueil!$B$23)","v":0},{"$f":"COUNTIF(C9:AG9,Accueil!$B$24)","v":0},{"$f":"COUNTIF(C9:AG9,Accueil!$B$25)","v":0},{"$f":"COUNTIF(C9:AG9,Accueil!$B$26)","v":0},{"$f":"COUNTIF(C9:AG9,Accueil!$B$27)","v":0},{"$f":"COUNTIF(C9:AG9,Accueil!$B$28)","v":0},{"$f":"COUNTIF(C9:AG9,Accueil!$B$29)","v":0},{"$f":"COUNTIF(C9:AG9,Accueil!$B$30)","v":0},11,null,{"$f":"AI9 +Avril!BH9","v":18},{"$f":"AJ9+Avril!BI9","v":0},{"$f":"AK9+Avril!BJ9","v":0},{"$f":"AL9+Avril!BK9","v":10},{"$f":"AM9+Avril!BL9","v":0},{"$f":"AN9+Avril!BM9","v":21},{"$f":"AO9+Avril!BN9","v":0},{"$f":"AP9+Avril!BO9","v":0},{"$f":"AQ9+Avril!BP9","v":0},{"$f":"AR9+Avril!BQ9","v":0},{"$f":"AS9+Avril!BR9","v":0},{"$f":"AT9+Avril!BS9","v":0},{"$f":"AU9+Avril!BT9","v":0},{"$f":"AV9+Avril!BU9","v":0},{"$f":"AW9+Avril!BV9","v":0},{"$f":"AX9+Avril!BW9","v":21},{"$f":"AY9+Avril!BX9","v":0},{"$f":"AZ9+Avril!BY9","v":0},{"$f":"BA9+Avril!BZ9","v":0},{"$f":"BB9+Avril!CA9","v":0},{"$f":"BC9+Avril!CB9","v":0},{"$f":"BD9+Avril!CC9","v":0},{"$f":"BE9+Avril!CD9","v":0},{"$f":"BF9+Avril!CE9","v":49},null,{"$f":"Avril!CG9","v":0},21,-21,null,{"$f":"Avril!CK9","v":0},0,0,null,{"$f":"Avril!CO9","v":0},0,0,null,{"$f":"Avril!CS9","v":0},0,0]
[{"$f":"Avril!A10","v":0},null,null,null,null,null,null,null,null,null,null,null,null,null,null,null,null,null,null,null,null,null,null,null,null,null,null,null,null,null,null,null,null,null,{"$f":"COUNTIF(C10:AG10,Accueil!$B$8)","v":0},{"$f":"COUNTIF(C10:AG10,Accueil!$B$9)","v":0},{"$f":"COUNTIF(C10:AG10,Accueil!$B$10)","v":0},{"$f":"COUNTIF(C10:AG10,Accueil!$B$11)","v":0},{"$f":"COUNTIF(C10:AG10,Accueil!$B$12)","v":0},{"$f":"COUNTIF(C10:AG10,Accueil!$B$13)","v":0},{"$f":"COUNTIF(C10:AG10,Accueil!$B$14)","v":0},{"$f":"COUNTIF(C10:AG10,Accueil!$B$15)","v":0},{"$f":"COUNTIF(C10:AG10,Accueil!$B$16)","v":0},{"$f":"COUNTIF(C10:AG10,Accueil!$B$17)","v":0},{"$f":"COUNTIF(C10:AG10,Accueil!$B$18)","v":0},{"$f":"COUNTIF(C10:AG10,Accueil!$B$19)","v":0},{"$f":"COUNTIF(C10:AG10,Accueil!$B$20)","v":0},{"$f":"COUNTIF(C10:AG10,Accueil!$B$21)","v":0},{"$f":"COUNTIF(C10:AG10,Accueil!$B$22)","v":0},{"$f":"COUNTIF(C10:AG10,Accueil!$B$23)","v":0},{"$f":"COUNTIF(C10:AG10,Accueil!$B$24)","v":0},{"$f":"COUNTIF(C10:AG10,Accueil!$B$25)","v":0},{"$f":"COUNTIF(C10:AG10,Accueil!$B$26)","v":0},{"$f":"COUNTIF(C10:AG10,Accueil!$B$27)","v":0},{"$f":"COUNTIF(C10:AG10,Accueil!$B$28)","v":0},{"$f":"COUNTIF(C10:AG10,Accueil!$B$29)","v":0},{"$f":"COUNTIF(C10:AG10,Accueil!$B$30)","v":0},0,null,{"$f":"AI10 +Avril!BH10","v":0},{"$f":"AJ10+Avril!BI10","v":0},{"$f":"AK10+Avril!BJ10","v":0},{"$f":"AL10+Avril!BK10","v":0},{"$f":"AM10+Avril!BL10","v":0},{"$f":"AN10+Avril!BM10","v":0},{"$f":"AO10+Avril!BN10","v":0},{"$f":"AP10+Avril!BO10","v":0},{"$f":"AQ10+Avril!BP10","v":0},{"$f":"AR10+Avril!BQ10","v":1},{"$f":"AS10+Avril!BR10","v":2},{"$f":"AT10+Avril!BS10","v":0},{"$f":"AU10+Avril!BT10","v":0},{"$f":"AV10+Avril!BU10","v":0},{"$f":"AW10+Avril!BV10","v":0},{"$f":"AX10+Avril!BW10","v":0},{"$f":"AY10+Avril!BX10","v":0},{"$f":"AZ10+Avril!BY10","v":0},{"$f":"BA10+Avril!BZ10","v":0},{"$f":"BB10+Avril!CA10","v":0},{"$f":"BC10+Avril!CB10","v":0},{"$f":"BD10+Avril!CC10","v":0},{"$f":"BE10+Avril!CD10","v":0},{"$f":"BF10+Avril!CE10","v":3},null,{"$f":"Avril!CG10","v":0},0,0,null,{"$f":"Avril!CK10","v":0},0,0,null,{"$f":"Avril!CO10","v":0},0,0,null,{"$f":"Avril!CS10","v":0},0,0]
[{"$f":"Avril!A11","v":"Simon-Pierre"},null,null,"M1","M2","M3",null,null,"MP","MP",null,"M2","MP",null,"M1",null,null,null,"M2","M3",null,"M1",null,null,"M1","M2","MP",null,"M1",null,null,"M1","M2",null,{"$f":"COUNTIF(C11:AG11,Accueil!$B$8)","v":6},{"$f":"COUNTIF(C11:AG11,Accueil!$B$9)","v":5},{"$f":"COUNTIF(C11:AG11,Accueil!$B$10)","v":2},{"$f":"COUNTIF(C11:AG11,Accueil!$B$11)","v":4},{"$f":"COUNTIF(C11:AG11,Accueil!$B$12)","v":0},{"$f":"COUNTIF(C11:AG11,Accueil!$B$13)","v":0},{"$f":"COUNTIF(C11:AG11,Accueil!$B$14)","v":0},{"$f":"COUNTIF(C11:AG11,Accueil!$B$15)","v":0},{"$f":"COUNTIF(C11:AG11,Accueil!$B$16)","v":0},{"$f":"COUNTIF(C11:AG11,Accueil!$B$17)","v":0},{"$f":"COUNTIF(C11:AG11,Accueil!$B$18)","v":0},{"$f":"COUNTIF(C11:AG11,Accueil!$B$19)","v":0},{"$f":"COUNTIF(C11:AG11,Accueil!$B$20)","v":0},{"$f":"COUNTIF(C11:AG11,Accueil!$B$21)","v":0},{"$f":"COUNTIF(C11:AG11,Accueil!$B$22)","v":0},{"$f":"COUNTIF(C11:AG11,Accueil!$B$23)","v":0},{"$f":"COUNTIF(C11:AG11,Accueil!$B$24)","v":0},{"$f":"COUNTIF(C11:AG11,Accueil!$B$25)","v":0},{"$f":"COUNTIF(C11:AG11,Accueil!$B$26)","v":0},{"$f":"COUNTIF(C11:AG11,Accueil!$B$27)","v":0},{"$f":"COUNTIF(C11:AG11,Accueil!$B$28)","v":0},{"$f":"COUNTIF(C11:AG11,Accueil!$B$29)","v":0},{"$f":"COUNTIF(C11:AG11,Accueil!$B$30)","v":0},17,null,{"$f":"AI11 +Avril!BH11","v":29},{"$f":"AJ11+Avril!BI11","v":19},{"$f":"AK11+Avril!BJ11","v":4},{"$f":"AL11+Avril!BK11","v":16},{"$f":"AM11+Avril!BL11","v":0},{"$f":"AN11+Avril!BM11","v":0},{"$f":"AO11+Avril!BN11","v":0},{"$f":"AP11+Avril!BO11","v":0},{"$f":"AQ11+Avril!BP11","v":0},{"$f":"AR11+Avril!BQ11","v":0},{"$f":"AS11+Avril!BR11","v":0},{"$f":"AT11+Avril!BS11","v":0},{"$f":"AU11+Avril!BT11","v":0},{"$f":"AV11+Avril!BU11","v":0},{"$f":"AW11+Avril!BV11","v":0},{"$f":"AX11+Avril!BW11","v":36},{"$f":"AY11+Avril!BX11","v":0},{"$f":"AZ11+Avril!BY11","v":0},{"$f":"BA11+Avril!BZ11","v":0},{"$f":"BB11+Avril!CA11","v":0},{"$f":"BC11+Avril!CB11","v":0},{"$f":"BD11+Avril!CC11","v":0},{"$f":"BE11+Avril!CD11","v":0},{"$f":"BF11+Avril!CE11","v":68},null,{"$f":"Avril!CG11","v":0},36,-36,null,{"$f":"Avril!CK11","v":0},0,0,null,{"$f":"Avril!CO11","v":0},0,0,null,{"$f":"Avril!CS11","v":0},0,0]
[{"$f":"Avril!A12","v":0},null,null,null,null,"LY",null,null,null,null,null,null,null,null,null,null,null,null,null,"LY",null,null,null,null,null,null,null,null,null,null,null,null,null,null,{"$f":"COUNTIF(C12:AG12,Accueil!$B$8)","v":0},{"$f":"COUNTIF(C12:AG12,Accueil!$B$9)","v":0},{"$f":"COUNTIF(C12:AG12,Accueil!$B$10)","v":0},{"$f":"COUNTIF(C12:AG12,Accueil!$B$11)","v":0},{"$f":"COUNTIF(C12:AG12,Accueil!$B$12)","v":0},{"$f":"COUNTIF(C12:AG12,Accueil!$B$13)","v":0},{"$f":"COUNTIF(C12:AG12,Accueil!$B$14)","v":0},{"$f":"COUNTIF(C12:AG12,Accueil!$B$15)","v":0},{"$f":"COUNTIF(C12:AG12,Accueil!$B$16)","v":0},{"$f":"COUNTIF(C12:AG12,Accueil!$B$17)","v":0},{"$f":"COUNTIF(C12:AG12,Accueil!$B$18)","v":2},{"$f":"COUNTIF(C12:AG12,Accueil!$B$19)","v":0},{"$f":"COUNTIF(C12:AG12,Accueil!$B$20)","v":0},{"$f":"COUNTIF(C12:AG12,Accueil!$B$21)","v":0},{"$f":"COUNTIF(C12:AG12,Accueil!$B$22)","v":0},{"$f":"COUNTIF(C12:AG12,Accueil!$B$23)","v":0},{"$f":"COUNTIF(C12:AG12,Accueil!$B$24)","v":0},{"$f":"COUNTIF(C12:AG12,Accueil!$B$25)","v":0},{"$f":"COUNTIF(C12:AG12,Accueil!$B$26)","v":0},{"$f":"COUNTIF(C12:AG12,Accueil!$B$27)","v":0},{"$f":"COUNTIF(C12:AG12,Accueil!$B$28)","v":0},{"$f":"COUNTIF(C12:AG12,Accueil!$B$29)","v":0},{"$f":"COUNTIF(C12:AG12,Accueil!$B$30)","v":0},2,null,{"$f":"AI12 +Avril!BH12","v":0},{"$f":"AJ12+Avril!BI12","v":0},{"$f":"AK12+Avril!BJ12","v":0},{"$f":"AL12+Avril!BK12","v":0},{"$f":"AM12+Avril!BL12","v":0},{"$f":"AN12+Avril!BM12","v":0},{"$f":"AO12+Avril!BN12","v":0},{"$f":"AP12+Avril!BO12","v":0},{"$f":"AQ12+Avril!BP12","v":0},{"$f":"AR12+Avril!BQ12","v":0},{"$f":"AS12+Avril!BR12","v":13},{"$f":"AT12+Avril!BS12","v":0},{"$f":"AU12+Avril!BT12","v":0},{"$f":"AV12+Avril!BU12","v":0},{"$f":"AW12+Avril!BV12","v":0},{"$f":"AX12+Avril!BW12","v":0},{"$f":"AY12+Avril!BX12","v":0},{"$f":"AZ12+Avril!BY12","v":0},{"$f":"BA12+Avril!BZ12","v":0},{"$f":"BB12+Avril!CA12","v":0},{"$f":"BC12+Avril!CB12","v":0},{"$f":"BD12+Avril!CC12","v":0},{"$f":"BE12+Avril!CD12","v":0},{"$f":"BF12+Avril!CE12","v":13},null,{"$f":"Avril!CG12","v":0},0,0,null,{"$f":"Avril!CK12","v":0},0,0,null,{"$f":"Avril!CO12","v":0},0,0,null,{"$f":"Avril!CS12","v":0},0,0]
[{"$f":"Avril!A13","v":"Virginie"},null,null,"M1","M2","MP","MP",null,"MP",null,"M1","M2","MP","M3",null,null,null,null,"M2","MP","M3","AP2","MP",null,"M1","M2","MP","M3",null,null,null,"M1","MP",null,{"$f":"COUNTIF(C13:AG13,Accueil!$B$8)","v":4},{"$f":"COUNTIF(C13:AG13,Accueil!$B$9)","v":4},{"$f":"COUNTIF(C13:AG13,Accueil!$B$10)","v":3},{"$f":"COUNTIF(C13:AG13,Accueil!$B$11)","v":8},{"$f":"COUNTIF(C13:AG13,Accueil!$B$12)","v":0},{"$f":"COUNTIF(C13:AG13,Accueil!$B$13)","v":1},{"$f":"COUNTIF(C13:AG13,Accueil!$B$14)","v":0},{"$f":"COUNTIF(C13:AG13,Accueil!$B$15)","v":0},{"$f":"COUNTIF(C13:AG13,Accueil!$B$16)","v":0},{"$f":"COUNTIF(C13:AG13,Accueil!$B$17)","v":0},{"$f":"COUNTIF(C13:AG13,Accueil!$B$18)","v":0},{"$f":"COUNTIF(C13:AG13,Accueil!$B$19)","v":0},{"$f":"COUNTIF(C13:AG13,Accueil!$B$20)","v":0},{"$f":"COUNTIF(C13:AG13,Accueil!$B$21)","v":0},{"$f":"COUNTIF(C13:AG13,Accueil!$B$22)","v":0},{"$f":"COUNTIF(C13:AG13,Accueil!$B$23)","v":0},{"$f":"COUNTIF(C13:AG13,Accueil!$B$24)","v":0},{"$f":"COUNTIF(C13:AG13,Accueil!$B$25)","v":0},{"$f":"COUNTIF(C13:AG13,Accueil!$B$26)","v":0},{"$f":"COUNTIF(C13:AG13,Accueil!$B$27)","v":0},{"$f":"COUNTIF(C13:AG13,Accueil!$B$28)","v":0},{"$f":"COUNTIF(C13:AG13,Accueil!$B$29)","v":0},{"$f":"COUNTIF(C13:AG13,Accueil!$B$30)","v":0},20,null,{"$f":"AI13 +Avril!BH13","v":12},{"$f":"AJ13+Avril!BI13","v":23},{"$f":"AK13+Avril!BJ13","v":10},{"$f":"AL13+Avril!BK13","v":32},{"$f":"AM13+Avril!BL13","v":1},{"$f":"AN13+Avril!BM13","v":5},{"$f":"AO13+Avril!BN13","v":0},{"$f":"AP13+Avril!BO13","v":0},{"$f":"AQ13+Avril!BP13","v":0},{"$f":"AR13+Avril!BQ13","v":0},{"$f":"AS13+Avril!BR13","v":0},{"$f":"AT13+Avril!BS13","v":0},{"$f":"AU13+Avril!BT13","v":0},{"$f":"AV13+Avril!BU13","v":0},{"$f":"AW13+Avril!BV13","v":0},{"$f":"AX13+Avril!BW13","v":6},{"$f":"AY13+Avril!BX13","v":0},{"$f":"AZ13+Avril!BY13","v":0},{"$f":"BA13+Avril!BZ13","v":17},{"$f":"BB13+Avril!CA13","v":1},{"$f":"BC13+Avril!CB13","v":0},{"$f":"BD13+Avril!CC13","v":0},{"$f":"BE13+Avril!CD13","v":0},{"$f":"BF13+Avril!CE13","v":83},null,{"$f":"Avril!CG13","v":0},6,-6,null,{"$f":"Avril!CK13","v":0},0,0,null,{"$f":"Avril!CO13","v":0},0,0,null,{"$f":"Avril!CS13","v":0},0,0]
[{"$f":"Avril!A14","v":0},null,null,null,null,null,null,null,null,null,null,null,null,null,null,null,null,null,null,null,null,null,null,null,null,null,null,null,null,null,null,null,null,null,{"$f":"COUNTIF(C14:AG14,Accueil!$B$8)","v":0},{"$f":"COUNTIF(C14:AG14,Accueil!$B$9)","v":0},{"$f":"COUNTIF(C14:AG14,Accueil!$B$10)","v":0},{"$f":"COUNTIF(C14:AG14,Accueil!$B$11)","v":0},{"$f":"COUNTIF(C14:AG14,Accueil!$B$12)","v":0},{"$f":"COUNTIF(C14:AG14,Accueil!$B$13)","v":0},{"$f":"COUNTIF(C14:AG14,Accueil!$B$14)","v":0},{"$f":"COUNTIF(C14:AG14,Accueil!$B$15)","v":0},{"$f":"COUNTIF(C14:AG14,Accueil!$B$16)","v":0},{"$f":"COUNTIF(C14:AG14,Accueil!$B$17)","v":0},{"$f":"COUNTIF(C14:AG14,Accueil!$B$18)","v":0},{"$f":"COUNTIF(C14:AG14,Accueil!$B$19)","v":0},{"$f":"COUNTIF(C14:AG14,Accueil!$B$20)","v":0},{"$f":"COUNTIF(C14:AG14,Accueil!$B$21)","v":0},{"$f":"COUNTIF(C14:AG14,Accueil!$B$22)","v":0},{"$f":"COUNTIF(C14:AG14,Accueil!$B$23)","v":0},{"$f":"COUNTIF(C14:AG14,Accueil!$B$24)","v":0},{"$f":"COUNTIF(C14:AG14,Accueil!$B$25)","v":0},{"$f":"COUNTIF(C14:AG14,Accueil!$B$26)","v":0},{"$f":"COUNTIF(C14:AG14,Accueil!$B$27)","v":0},{"$f":"COUNTIF(C14:AG14,Accueil!$B$28)","v":0},{"$f":"COUNTIF(C14:AG14,Accueil!$B$29)","v":0},{"$f":"COUNTIF(C14:AG14,Accueil!$B$30)","v":0},0,null,{"$f":"AI14 +Avril!BH14","v":0},{"$f":"AJ14+Avril!BI14","v":0},{"$f":"AK14+Avril!BJ14","v":0},{"$f":"AL14+Avril!BK14","v":0},{"$f":"AM14+Avril!BL14","v":0},{"$f":"AN14+Avril!BM14","v":0},{"$f":"AO14+Avril!BN14","v":0},{"$f":"AP14+Avril!BO14","v":0},{"$f":"AQ14+Avril!BP14","v":0},{"$f":"AR14+Avril!BQ14","v":6},{"$f":"AS14+Avril!BR14","v":1},{"$f":"AT14+Avril!BS14","v":0},{"$f":"AU14+Avril!BT14","v":0},{"$f":"AV14+Avril!BU14","v":0},{"$f":"AW14+Avril!BV14","v":0},{"$f":"AX14+Avril!BW14","v":0},{"$f":"AY14+Avril!BX14","v":0},{"$f":"AZ14+Avril!BY14","v":0},{"$f":"BA14+Avril!BZ14","v":0},{"$f":"BB14+Avril!CA14","v":0},{"$f":"BC14+Avril!CB14","v":0},{"$f":"BD14+Avril!CC14","v":0},{"$f":"BE14+Avril!CD14","v":0},{"$f":"BF14+Avril!CE14","v":7},null,{"$f":"Avril!CG14","v":0},0,0,null,{"$f":"Avril!CK14","v":0},0,0,null,{"$f":"Avril!CO14","v":0},0,0,null,{"$f":"Avril!CS14","v":0},0,0]
[{"$f":"Avril!A15","v":"Jacqueline"},null,null,"M3","MP",null,null,"M2",null,null,"M3","MP",null,null,"MP","MP",null,null,null,null,null,"M2","Vac","Vac","Vac","Vac","Vac","Vac","Vac","Vac","Vac","Vac","Vac",null,{"$f":"COUNTIF(C15:AG15,Accueil!$B$8)","v":0},{"$f":"COUNTIF(C15:AG15,Accueil!$B$9)","v":2},{"$f":"COUNTIF(C15:AG15,Accueil!$B$10)","v":2},{"$f":"COUNTIF(C15:AG15,Accueil!$B$11)","v":4},{"$f":"COUNTIF(C15:AG15,Accueil!$B$12)","v":0},{"$f":"COUNTIF(C15:AG15,Accueil!$B$13)","v":0},{"$f":"COUNTIF(C15:AG15,Accueil!$B$14)","v":0},{"$f":"COUNTIF(C15:AG15,Accueil!$B$15)","v":0},{"$f":"COUNTIF(C15:AG15,Accueil!$B$16)","v":0},{"$f":"COUNTIF(C15:AG15,Accueil!$B$17)","v":0},{"$f":"COUNTIF(C15:AG15,Accueil!$B$18)","v":0},{"$f":"COUNTIF(C15:AG15,Accueil!$B$19)","v":0},{"$f":"COUNTIF(C15:AG15,Accueil!$B$20)","v":0},{"$f":"COUNTIF(C15:AG15,Accueil!$B$21)","v":0},{"$f":"COUNTIF(C15:AG15,Accueil!$B$22)","v":0},{"$f":"COUNTIF(C15:AG15,Accueil!$B$23)","v":11},{"$f":"COUNTIF(C15:AG15,Accueil!$B$24)","v":0},{"$f":"COUNTIF(C15:AG15,Accueil!$B$25)","v":0},{"$f":"COUNTIF(C15:AG15,Accueil!$B$26)","v":0},{"$f":"COUNTIF(C15:AG15,Accueil!$B$27)","v":0},{"$f":"COUNTIF(C15:AG15,Accueil!$B$28)","v":0},{"$f":"COUNTIF(C15:AG15,Accueil!$B$29)","v":0},{"$f":"COUNTIF(C15:AG15,Accueil!$B$30)","v":0},8,null,{"$f":"AI15 +Avril!BH15","v":3},{"$f":"AJ15+Avril!BI15","v":15},{"$f":"AK15+Avril!BJ15","v":12},{"$f":"AL15+Avril!BK15","v":29},{"$f":"AM15+Avril!BL15","v":0},{"$f":"AN15+Avril!BM15","v":1},{"$f":"AO15+Avril!BN15","v":0},{"$f":"AP15+Avril!BO15","v":0},{"$f":"AQ15+Avril!BP15","v":0},{"$f":"AR15+Avril!BQ15","v":0},{"$f":"AS15+Avril!BR15","v":0},{"$f":"AT15+Avril!BS15","v":0},{"$f":"AU15+Avril!BT15","v":0},{"$f":"AV15+Avril!BU15","v":0},{"$f":"AW15+Avril!BV15","v":0},{"$f":"AX15+Avril!BW15","v":24},{"$f":"AY15+Avril!BX15","v":0},{"$f":"AZ15+Avril!BY15","v":0},{"$f":"BA15+Avril!BZ15","v":2},{"$f":"BB15+Avril!CA15","v":0},{"$f":"BC15+Avril!CB15","v":0},{"$f":"BD15+Avril!CC15","v":0},{"$f":"BE15+Avril!CD15","v":0},{"$f":"BF15+Avril!CE15","v":60},null,{"$f":"Avril!CG15","v":0},24,-24,null,{"$f":"Avril!CK15","v":0},0,0,null,{"$f":"Avril!CO15","v":0},0,0,null,{"$f":"Avril!CS15","v":0},0,0]
[{"$f":"Avril!A16","v":0},null,null,null,null,null,null,null,null,null,null,null,null,null,null,null,null,null,null,null,null,null,null,null,null,null,null,null,null,null,null,null,null,null,{"$f":"COUNTIF(C16:AG16,Accueil!$B$8)","v":0},{"$f":"COUNTIF(C16:AG16,Accueil!$B$9)","v":0},{"$f":"COUNTIF(C16:AG16,Accueil!$B$10)","v":0},{"$f":"COUNTIF(C16:AG16,Accueil!$B$11)","v":0},{"$f":"COUNTIF(C16:AG16,Accueil!$B$12)","v":0},{"$f":"COUNTIF(C16:AG16,Accueil!$B$13)","v":0},{"$f":"COUNTIF(C16:AG16,Accueil!$B$14)","v":0},{"$f":"COUNTIF(C16:AG16,Accueil!$B$15)","v":0},{"$f":"COUNTIF(C16:AG16,Accueil!$B$16)","v":0},{"$f":"COUNTIF(C16:AG16,Accueil!$B$17)","v":0},{"$f":"COUNTIF(C16:AG16,Accueil!$B$18)","v":0},{"$f":"COUNTIF(C16:AG16,Accueil!$B$19)","v":0},{"$f":"COUNTIF(C16:AG16,Accueil!$B$20)","v":0},{"$f":"COUNTIF(C16:AG16,Accueil!$B$21)","v":0},{"$f":"COUNTIF(C16:AG16,Accueil!$B$22)","v":0},{"$f":"COUNTIF(C16:AG16,Accueil!$B$23)","v":0},{"$f":"COUNTIF(C16:AG16,Accueil!$B$24)","v":0},{"$f":"COUNTIF(C16:AG16,Accueil!$B$25)","v":0},{"$f":"COUNTIF(C16:AG16,Accueil!$B$26)","v":0},{"$f":"COUNTIF(C16:AG16,Accueil!$B$27)","v":0},{"$f":"COUNTIF(C16:AG16,Accueil!$B$28)","v":0},{"$f":"COUNTIF(C16:AG16,Accueil!$B$29)","v":0},{"$f":"COUNTIF(C16:AG16,Accueil!$B$30)","v":0},0,null,{"$f":"AI16 +Avril!BH16","v":0},{"$f":"AJ16+Avril!BI16","v":0},{"$f":"AK16+Avril!BJ16","v":0},{"$f":"AL16+Avril!BK16","v":0},{"$f":"AM16+Avril!BL16","v":0},{"$f":"AN16+Avril!BM16","v":0},{"$f":"AO16+Avril!BN16","v":0},{"$f":"AP16+Avril!BO16","v":0},{"$f":"AQ16+Avril!BP16","v":0},{"$f":"AR16+Avril!BQ16","v":0},{"$f":"AS16+Avril!BR16","v":6},{"$f":"AT16+Avril!BS16","v":0},{"$f":"AU16+Avril!BT16","v":0},{"$f":"AV16+Avril!BU16","v":0},{"$f":"AW16+Avril!BV16","v":0},{"$f":"AX16+Avril!BW16","v":0},{"$f":"AY16+Avril!BX16","v":0},{"$f":"AZ16+Avril!BY16","v":0},{"$f":"BA16+Avril!BZ16","v":0},{"$f":"BB16+Avril!CA16","v":0},{"$f":"BC16+Avril!CB16","v":0},{"$f":"BD16+Avril!CC16","v":0},{"$f":"BE16+Avril!CD16","v":0},{"$f":"BF16+Avril!CE16","v":6},null,{"$f":"Avril!CG16","v":0},0,0,null,{"$f":"Avril!CK16","v":0},0,0,null,{"$f":"Avril!CO16","v":0},0,0,null,{"$f":"Avril!CS16","v":0},0,0]
[{"$f":"Avril!A17","v":"Colette"},null,null,null,"M2","MP",null,null,null,null,"IND","M2","LY","AP2",null,null,"MP",null,"MP","MP",null,null,null,null,"IND","MP","LY",null,null,null,"MP","IND","M2",null,{"$f":"COUNTIF(C17:AG17,Accueil!$B$8)","v":0},{"$f":"COUNTIF(C17:AG17,Accueil!$B$9)","v":3},{"$f":"COUNTIF(C17:AG17,Accueil!$B$10)","v":0},{"$f":"COUNTIF(C17:AG17,Accueil!$B$11)","v":6},{"$f":"COUNTIF(C17:AG17,Accueil!$B$12)","v":0},{"$f":"COUNTIF(C17:AG17,Accueil!$B$13)","v":1},{"$f":"COUNTIF(C17:AG17,Accueil!$B$14)","v":0},{"$f":"COUNTIF(C17:AG17,Accueil!$B$15)","v":0},{"$f":"COUNTIF(C17:AG17,Accueil!$B$16)","v":0},{"$f":"COUNTIF(C17:AG17,Accueil!$B$17)","v":0},{"$f":"COUNTIF(C17:AG17,Accueil!$B$18)","v":2},{"$f":"COUNTIF(C17:AG17,Accueil!$B$19)","v":0},{"$f":"COUNTIF(C17:AG17,Accueil!$B$20)","v":3},{"$f":"COUNTIF(C17:AG17,Accueil!$B$21)","v":0},{"$f":"COUNTIF(C17:AG17,Accueil!$B$22)","v":0},{"$f":"COUNTIF(C17:AG17,Accueil!$B$23)","v":0},{"$f":"COUNTIF(C17:AG17,Accueil!$B$24)","v":0},{"$f":"COUNTIF(C17:AG17,Accueil!$B$25)","v":0},{"$f":"COUNTIF(C17:AG17,Accueil!$B$26)","v":0},{"$f":"COUNTIF(C17:AG17,Accueil!$B$27)","v":0},{"$f":"COUNTIF(C17:AG17,Accueil!$B$28)","v":0},{"$f":"COUNTIF(C17:AG17,Accueil!$B$29)","v":0},{"$f":"COUNTIF(C17:AG17,Accueil!$B$30)","v":0},12,null,{"$f":"AI17 +Avril!BH17","v":0},{"$f":"AJ17+Avril!BI17","v":17},{"$f":"AK17+Avril!BJ17","v":1},{"$f":"AL17+Avril!BK17","v":25},{"$f":"AM17+Avril!BL17","v":4},{"$f":"AN17+Avril!BM17","v":3},{"$f":"AO17+Avril!BN17","v":0},{"$f":"AP17+Avril!BO17","v":0},{"$f":"AQ17+Avril!BP17","v":0},{"$f":"AR17+Avril!BQ17","v":0},{"$f":"AS17+Avril!BR17","v":2},{"$f":"AT17+Avril!BS17","v":0},{"$f":"AU17+Avril!BT17","v":20},{"$f":"AV17+Avril!BU17","v":0},{"$f":"AW17+Avril!BV17","v":0},{"$f":"AX17+Avril!BW17","v":5},{"$f":"AY17+Avril!BX17","v":0},{"$f":"AZ17+Avril!BY17","v":0},{"$f":"BA17+Avril!BZ17","v":0},{"$f":"BB17+Avril!CA17","v":0},{"$f":"BC17+Avril!CB17","v":0},{"$f":"BD17+Avril!CC17","v":0},{"$f":"BE17+Avril!CD17","v":0},{"$f":"BF17+Avril!CE17","v":52},null,{"$f":"Avril!CG17","v":0},5,-5,null,{"$f":"Avril!CK17","v":0},0,0,null,{"$f":"Avril!CO17","v":0},0,0,null,{"$f":"Avril!CS17","v":0},0,0]
[{"$f":"Avril!A18","v":0},null,null,null,null,null,null,null,null,null,null,null,null,null,null,null,"LY",null,null,null,null,null,null,null,null,null,null,null,null,null,null,null,null,null,{"$f":"COUNTIF(C18:AG18,Accueil!$B$8)","v":0},{"$f":"COUNTIF(C18:AG18,Accueil!$B$9)","v":0},{"$f":"COUNTIF(C18:AG18,Accueil!$B$10)","v":0},{"$f":"COUNTIF(C18:AG18,Accueil!$B$11)","v":0},{"$f":"COUNTIF(C18:AG18,Accueil!$B$12)","v":0},{"$f":"COUNTIF(C18:AG18,Accueil!$B$13)","v":0},{"$f":"COUNTIF(C18:AG18,Accueil!$B$14)","v":0},{"$f":"COUNTIF(C18:AG18,Accueil!$B$15)","v":0},{"$f":"COUNTIF(C18:AG18,Accueil!$B$16)","v":0},{"$f":"COUNTIF(C18:AG18,Accueil!$B$17)","v":0},{"$f":"COUNTIF(C18:AG18,Accueil!$B$18)","v":1},{"$f":"COUNTIF(C18:AG18,Accueil!$B$19)","v":0},{"$f":"COUNTIF(C18:AG18,Accueil!$B$20)","v":0},{"$f":"COUNTIF(C18:AG18,Accueil!$B$21)","v":0},{"$f":"COUNTIF(C18:AG18,Accueil!$B$22)","v":0},{"$f":"COUNTIF(C18:AG18,Accueil!$B$23)","v":0},{"$f":"COUNTIF(C18:AG18,Accueil!$B$24)","v":0},{"$f":"COUNTIF(C18:AG18,Accueil!$B$25)","v":0},{"$f":"COUNTIF(C18:AG18,Accueil!$B$26)","v":0},{"$f":"COUNTIF(C18:AG18,Accueil!$B$27)","v":0},{"$f":"COUNTIF(C18:AG18,Accueil!$B$28)","v":0},{"$f":"COUNTIF(C18:AG18,Accueil!$B$29)","v":0},{"$f":"COUNTIF(C18:AG18,Accueil!$B$30)","v":0},1,null,{"$f":"AI18 +Avril!BH18","v":0},{"$f":"AJ18+Avril!BI18","v":0},{"$f":"AK18+Avril!BJ18","v":0},{"$f":"AL18+Avril!BK18","v":1},{"$f":"AM18+Avril!BL18","v":0},{"$f":"AN18+Avril!BM18","v":0},{"$f":"AO18+Avril!BN18","v":0},{"$f":"AP18+Avril!BO18","v":0},{"$f":"AQ18+Avril!BP18","v":0},{"$f":"AR18+Avril!BQ18","v":0},{"$f":"AS18+Avril!BR18","v":35},{"$f":"AT18+Avril!BS18","v":0},{"$f":"AU18+Avril!BT18","v":0},{"$f":"AV18+Avril!BU18","v":0},{"$f":"AW18+Avril!BV18","v":0},{"$f":"AX18+Avril!BW18","v":0},{"$f":"AY18+Avril!BX18","v":0},{"$f":"AZ18+Avril!BY18","v":0},{"$f":"BA18+Avril!BZ18","v":0},{"$f":"BB18+Avril!CA18","v":0},{"$f":"BC18+Avril!CB18","v":0},{"$f":"BD18+Avril!CC18","v":0},{"$f":"BE18+Avril!CD18","v":0},{"$f":"BF18+Avril!CE18","v":36},null,{"$f":"Avril!CG18","v":0},0,0,null,{"$f":"Avril!CK18","v":0},0,0,null,{"$f":"Avril!CO18","v":0},0,0,null,{"$f":"Avril!CS18","v":0},0,0]
[{"$f":"Avril!A19","v":"Lisa"},null,null,null,"M2",null,null,"MP",null,null,null,"M2",null,"M1","AP2","MP",null,"MP","M2",null,"M1","MP",null,null,null,"M2",null,"M1","MP","MP",null,null,"M2",null,{"$f":"COUNTIF(C19:AG19,Accueil!$B$8)","v":3},{"$f":"COUNTIF(C19:AG19,Accueil!$B$9)","v":5},{"$f":"COUNTIF(C19:AG19,Accueil!$B$10)","v":0},{"$f":"COUNTIF(C19:AG19,Accueil!$B$11)","v":6},{"$f":"COUNTIF(C19:AG19,Accueil!$B$12)","v":0},{"$f":"COUNTIF(C19:AG19,Accueil!$B$13)","v":1},{"$f":"COUNTIF(C19:AG19,Accueil!$B$14)","v":0},{"$f":"COUNTIF(C19:AG19,Accueil!$B$15)","v":0},{"$f":"COUNTIF(C19:AG19,Accueil!$B$16)","v":0},{"$f":"COUNTIF(C19:AG19,Accueil!$B$17)","v":0},{"$f":"COUNTIF(C19:AG19,Accueil!$B$18)","v":0},{"$f":"COUNTIF(C19:AG19,Accueil!$B$19)","v":0},{"$f":"COUNTIF(C19:AG19,Accueil!$B$20)","v":0},{"$f":"COUNTIF(C19:AG19,Accueil!$B$21)","v":0},{"$f":"COUNTIF(C19:AG19,Accueil!$B$22)","v":0},{"$f":"COUNTIF(C19:AG19,Accueil!$B$23)","v":0},{"$f":"COUNTIF(C19:AG19,Accueil!$B$24)","v":0},{"$f":"COUNTIF(C19:AG19,Accueil!$B$25)","v":0},{"$f":"COUNTIF(C19:AG19,Accueil!$B$26)","v":0},{"$f":"COUNTIF(C19:AG19,Accueil!$B$27)","v":0},{"$f":"COUNTIF(C19:AG19,Accueil!$B$28)","v":0},{"$f":"COUNTIF(C19:AG19,Accueil!$B$29)","v":0},{"$f":"COUNTIF(C19:AG19,Accueil!$B$30)","v":0},15,null,{"$f":"AI19 +Avril!BH19","v":11},{"$f":"AJ19+Avril!BI19","v":20},{"$f":"AK19+Avril!BJ19","v":7},{"$f":"AL19+Avril!BK19","v":26},{"$f":"AM19+Avril!BL19","v":3},{"$f":"AN19+Avril!BM19","v":3},{"$f":"AO19+Avril!BN19","v":0},{"$f":"AP19+Avril!BO19","v":0},{"$f":"AQ19+Avril!BP19","v":0},{"$f":"AR19+Avril!BQ19","v":0},{"$f":"AS19+Avril!BR19","v":0},{"$f":"AT19+Avril!BS19","v":0},{"$f":"AU19+Avril!BT19","v":0},{"$f":"AV19+Avril!BU19","v":0},{"$f":"AW19+Avril!BV19","v":0},{"$f":"AX19+Avril!BW19","v":11},{"$f":"AY19+Avril!BX19","v":0},{"$f":"AZ19+Avril!BY19","v":0},{"$f":"BA19+Avril!BZ19","v":2},{"$f":"BB19+Avril!CA19","v":0},{"$f":"BC19+Avril!CB19","v":0},{"$f":"BD19+Avril!CC19","v":0},{"$f":"BE19+Avril!CD19","v":0},{"$f":"BF19+Avril!CE19","v":70},null,{"$f":"Avril!CG19","v":0},11,-11,null,{"$f":"Avril!CK19","v":0},0,0,null,{"$f":"Avril!CO19","v":0},0,0,null,{"$f":"Avril!CS19","v":0},0,0]
[{"$f":"Avril!A20","v":0},null,null,null,null,null,null,null,null,null,null,null,null,null,null,null,null,null,null,null,null,null,null,null,null,null,null,null,null,null,null,null,null,null,{"$f":"COUNTIF(C20:AG20,Accueil!$B$8)","v":0},{"$f":"COUNTIF(C20:AG20,Accueil!$B$9)","v":0},{"$f":"COUNTIF(C20:AG20,Accueil!$B$10)","v":0},{"$f":"COUNTIF(C20:AG20,Accueil!$B$11)","v":0},{"$f":"COUNTIF(C20:AG20,Accueil!$B$12)","v":0},{"$f":"COUNTIF(C20:AG20,Accueil!$B$13)","v":0},{"$f":"COUNTIF(C20:AG20,Accueil!$B$14)","v":0},{"$f":"COUNTIF(C20:AG20,Accueil!$B$15)","v":0},{"$f":"COUNTIF(C20:AG20,Accueil!$B$16)","v":0},{"$f":"COUNTIF(C20:AG20,Accueil!$B$17)","v":0},{"$f":"COUNTIF(C20:AG20,Accueil!$B$18)","v":0},{"$f":"COUNTIF(C20:AG20,Accueil!$B$19)","v":0},{"$f":"COUNTIF(C20:AG20,Accueil!$B$20)","v":0},{"$f":"COUNTIF(C20:AG20,Accueil!$B$21)","v":0},{"$f":"COUNTIF(C20:AG20,Accueil!$B$22)","v":0},{"$f":"COUNTIF(C20:AG20,Accueil!$B$23)","v":0},{"$f":"COUNTIF(C20:AG20,Accueil!$B$24)","v":0},{"$f":"COUNTIF(C20:AG20,Accueil!$B$25)","v":0},{"$f":"COUNTIF(C20:AG20,Accueil!$B$26)","v":0},{"$f":"COUNTIF(C20:AG20,Accueil!$B$27)","v":0},{"$f":"COUNTIF(C20:AG20,Accueil!$B$28)","v":0},{"$f":"COUNTIF(C20:AG20,Accueil!$B$29)","v":0},{"$f":"COUNTIF(C20:AG20,Accueil!$B$30)","v":0},0,null,{"$f":"AI20 +Avril!BH20","v":0},{"$f":"AJ20+Avril!BI20","v":0},{"$f":"AK20+Avril!BJ20","v":0},{"$f":"AL20+Avril!BK20","v":0},{"$f":"AM20+Avril!BL20","v":0},{"$f":"AN20+Avril!BM20","v":0},{"$f":"AO20+Avril!BN20","v":0},{"$f":"AP20+Avril!BO20","v":0},{"$f":"AQ20+Avril!BP20","v":0},{"$f":"AR20+Avril!BQ20","v":0},{"$f":"AS20+Avril!BR20","v":1},{"$f":"AT20+Avril!BS20","v":0},{"$f":"AU20+Avril!BT20","v":0},{"$f":"AV20+Avril!BU20","v":0},{"$f":"AW20+Avril!BV20","v":0},{"$f":"AX20+Avril!BW20","v":0},{"$f":"AY20+Avril!BX20","v":0},{"$f":"AZ20+Avril!BY20","v":0},{"$f":"BA20+Avril!BZ20","v":0},{"$f":"BB20+Avril!CA20","v":0},{"$f":"BC20+Avril!CB20","v":0},{"$f":"BD20+Avril!CC20","v":0},{"$f":"BE20+Avril!CD20","v":0},{"$f":"BF20+Avril!CE20","v":1},null,{"$f":"Avril!CG20","v":0},0,0,null,{"$f":"Avril!CK20","v":0},0,0,null,{"$f":"Avril!CO20","v":0},0,0,null,{"$f":"Avril!CS20","v":0},0,0]
[{"$f":"Avril!A21","v":"Philip"},null,null,"MP","M1",null,null,null,null,"MP","MP","M1",null,null,null,null,null,"MP","M1",null,null,null,null,"MP","MP","M1",null,null,null,null,null,"MP","M1",null,{"$f":"COUNTIF(C21:AG21,Accueil!$B$8)","v":5},{"$f":"COUNTIF(C21:AG21,Accueil!$B$9)","v":0},{"$f":"COUNTIF(C21:AG21,Accueil!$B$10)","v":0},{"$f":"COUNTIF(C21:AG21,Accueil!$B$11)","v":7},{"$f":"COUNTIF(C21:AG21,Accueil!$B$12)","v":0},{"$f":"COUNTIF(C21:AG21,Accueil!$B$13)","v":0},{"$f":"COUNTIF(C21:AG21,Accueil!$B$14)","v":0},{"$f":"COUNTIF(C21:AG21,Accueil!$B$15)","v":0},{"$f":"COUNTIF(C21:AG21,Accueil!$B$16)","v":0},{"$f":"COUNTIF(C21:AG21,Accueil!$B$17)","v":0},{"$f":"COUNTIF(C21:AG21,Accueil!$B$18)","v":0},{"$f":"COUNTIF(C21:AG21,Accueil!$B$19)","v":0},{"$f":"COUNTIF(C21:AG21,Accueil!$B$20)","v":0},{"$f":"COUNTIF(C21:AG21,Accueil!$B$21)","v":0},{"$f":"COUNTIF(C21:AG21,Accueil!$B$22)","v":0},{"$f":"COUNTIF(C21:AG21,Accueil!$B$23)","v":0},{"$f":"COUNTIF(C21:AG21,Accueil!$B$24)","v":0},{"$f":"COUNTIF(C21:AG21,Accueil!$B$25)","v":0},{"$f":"COUNTIF(C21:AG21,Accueil!$B$26)","v":0},{"$f":"COUNTIF(C21:AG21,Accueil!$B$27)","v":0},{"$f":"COUNTIF(C21:AG21,Accueil!$B$28)","v":0},{"$f":"COUNTIF(C21:AG21,Accueil!$B$29)","v":0},{"$f":"COUNTIF(C21:AG21,Accueil!$B$30)","v":0},12,null,{"$f":"AI21 +Avril!BH21","v":20},{"$f":"AJ21+Avril!BI21","v":0},{"$f":"AK21+Avril!BJ21","v":0},{"$f":"AL21+Avril!BK21","v":24},{"$f":"AM21+Avril!BL21","v":5},{"$f":"AN21+Avril!BM21","v":1},{"$f":"AO21+Avril!BN21","v":0},{"$f":"AP21+Avril!BO21","v":0},{"$f":"AQ21+Avril!BP21","v":0},{"$f":"AR21+Avril!BQ21","v":0},{"$f":"AS21+Avril!BR21","v":0},{"$f":"AT21+Avril!BS21","v":0},{"$f":"AU21+Avril!BT21","v":0},{"$f":"AV21+Avril!BU21","v":0},{"$f":"AW21+Avril!BV21","v":0},{"$f":"AX21+Avril!BW21","v":12},{"$f":"AY21+Avril!BX21","v":0},{"$f":"AZ21+Avril!BY21","v":0},{"$f":"BA21+Avril!BZ21","v":0},{"$f":"BB21+Avril!CA21","v":0},{"$f":"BC21+Avril!CB21","v":0},{"$f":"BD21+Avril!CC21","v":0},{"$f":"BE21+Avril!CD21","v":0},{"$f":"BF21+Avril!CE21","v":50},null,{"$f":"Avril!CG21","v":0},12,-12,null,{"$f":"Avril!CK21","v":0},0,0,null,{"$f":"Avril!CO21","v":0},0,0,null,{"$f":"Avril!CS21","v":0},0,0]
[{"$f":"Avril!A22","v":0},null,null,null,null,null,null,null,null,null,null,null,null,null,null,null,null,null,null,null,null,null,null,null,null,null,null,null,null,null,null,null,null,null,{"$f":"COUNTIF(C22:AG22,Accueil!$B$8)","v":0},{"$f":"COUNTIF(C22:AG22,Accueil!$B$9)","v":0},{"$f":"COUNTIF(C22:AG22,Accueil!$B$10)","v":0},{"$f":"COUNTIF(C22:AG22,Accueil!$B$11)","v":0},{"$f":"COUNTIF(C22:AG22,Accueil!$B$12)","v":0},{"$f":"COUNTIF(C22:AG22,Accueil!$B$13)","v":0},{"$f":"COUNTIF(C22:AG22,Accueil!$B$14)","v":0},{"$f":"COUNTIF(C22:AG22,Accueil!$B$15)","v":0},{"$f":"COUNTIF(C22:AG22,Accueil!$B$16)","v":0},{"$f":"COUNTIF(C22:AG22,Accueil!$B$17)","v":0},{"$f":"COUNTIF(C22:AG22,Accueil!$B$18)","v":0},{"$f":"COUNTIF(C22:AG22,Accueil!$B$19)","v":0},{"$f":"COUNTIF(C22:AG22,Accueil!$B$20)","v":0},{"$f":"COUNTIF(C22:AG22,Accueil!$B$21)","v":0},{"$f":"COUNTIF(C22:AG22,Accueil!$B$22)","v":0},{"$f":"COUNTIF(C22:AG22,Accueil!$B$23)","v":0},{"$f":"COUNTIF(C22:AG22,Accueil!$B$24)","v":0},{"$f":"COUNTIF(C22:AG22,Accueil!$B$25)","v":0},{"$f":"COUNTIF(C22:AG22,Accueil!$B$26)","v":0},{"$f":"COUNTIF(C22:AG22,Accueil!$B$27)","v":0},{"$f":"COUNTIF(C22:AG22,Accueil!$B$28)","v":0},{"$f":"COUNTIF(C22:AG22,Accueil!$B$29)","v":0},{"$f":"COUNTIF(C22:AG22,Accueil!$B$30)","v":0},0,null,{"$f":"AI22 +Avril!BH22","v":0},{"$f":"AJ22+Avril!BI22","v":0},{"$f":"AK22+Avril!BJ22","v":0},{"$f":"AL22+Avril!BK22","v":0},{"$f":"AM22+Avril!BL22","v":0},{"$f":"AN22+Avril!BM22","v":0},{"$f":"AO22+Avril!BN22","v":0},{"$f":"AP22+Avril!BO22","v":0},{"$f":"AQ22+Avril!BP22","v":0},{"$f":"AR22+Avril!BQ22","v":8},{"$f":"AS22+Avril!BR22","v":3},{"$f":"AT22+Avril!BS22","v":0},{"$f":"AU22+Avril!BT22","v":0},{"$f":"AV22+Avril!BU22","v":0},{"$f":"AW22+Avril!BV22","v":0},{"$f":"AX22+Avril!BW22","v":0},{"$f":"AY22+Avril!BX22","v":0},{"$f":"AZ22+Avril!BY22","v":0},{"$f":"BA22+Avril!BZ22","v":0},{"$f":"BB22+Avril!CA22","v":0},{"$f":"BC22+Avril!CB22","v":0},{"$f":"BD22+Avril!CC22","v":0},{"$f":"BE22+Avril!CD22","v":0},{"$f":"BF22+Avril!CE22","v":11},null,{"$f":"Avril!CG22","v":0},0,0,null,{"$f":"Avril!CK22","v":0},0,0,null,{"$f":"Avril!CO22","v":0},0,0,null,{"$f":"Avril!CS22","v":0},0,0]
[{"$f":"Avril!A23","v":"Dania"},null,null,null,null,null,null,null,null,null,null,null,null,null,null,null,null,null,null,null,null,null,null,null,null,null,null,null,null,null,null,null,null,null,{"$f":"COUNTIF(C23:AG23,Accueil!$B$8)","v":0},{"$f":"COUNTIF(C23:AG23,Accueil!$B$9)","v":0},{"$f":"COUNTIF(C23:AG23,Accueil!$B$10)","v":0},{"$f":"COUNTIF(C23:AG23,Accueil!$B$11)","v":0},{"$f":"COUNTIF(C23:AG23,Accueil!$B$12)","v":0},{"$f":"COUNTIF(C23:AG23,Accueil!$B$13)","v":0},{"$f":"COUNTIF(C23:AG23,Accueil!$B$14)","v":0},{"$f":"COUNTIF(C23:AG23,Accueil!$B$15)","v":0},{"$f":"COUNTIF(C23:AG23,Accueil!$B$16)","v":0},{"$f":"COUNTIF(C23:AG23,Accueil!$B$17)","v":0},{"$f":"COUNTIF(C23:AG23,Accueil!$B$18)","v":0},{"$f":"COUNTIF(C23:AG23,Accueil!$B$19)","v":0},{"$f":"COUNTIF(C23:AG23,Accueil!$B$20)","v":0},{"$f":"COUNTIF(C23:AG23,Accueil!$B$21)","v":0},{"$f":"COUNTIF(C23:AG23,Accueil!$B$22)","v":0},{"$f":"COUNTIF(C23:AG23,Accueil!$B$23)","v":0},{"$f":"COUNTIF(C23:AG23,Accueil!$B$24)","v":0},{"$f":"COUNTIF(C23:AG23,Accueil!$B$25)","v":0},{"$f":"COUNTIF(C23:AG23,Accueil!$B$26)","v":0},{"$f":"COUNTIF(C23:AG23,Accueil!$B$27)","v":0},{"$f":"COUNTIF(C23:AG23,Accueil!$B$28)","v":0},{"$f":"COUNTIF(C23:AG23,Accueil!$B$29)","v":0},{"$f":"COUNTIF(C23:AG23,Accueil!$B$30)","v":0},0,null,{"$f":"AI23 +Avril!BH23","v":0},{"$f":"AJ23+Avril!BI23","v":7},{"$f":"AK23+Avril!BJ23","v":1},{"$f":"AL23+Avril!BK23","v":0},{"$f":"AM23+Avril!BL23","v":0},{"$f":"AN23+Avril!BM23","v":0},{"$f":"AO23+Avril!BN23","v":0},{"$f":"AP23+Avril!BO23","v":0},{"$f":"AQ23+Avril!BP23","v":0},{"$f":"AR23+Avril!BQ23","v":0},{"$f":"AS23+Avril!BR23","v":0},{"$f":"AT23+Avril!BS23","v":0},{"$f":"AU23+Avril!BT23","v":0},{"$f":"AV23+Avril!BU23","v":0},{"$f":"AW23+Avril!BV23","v":0},{"$f":"AX23+Avril!BW23","v":0},{"$f":"AY23+Avril!BX23","v":0},{"$f":"AZ23+Avril!BY23","v":0},{"$f":"BA23+Avril!BZ23","v":2},{"$f":"BB23+Avril!CA23","v":0},{"$f":"BC23+Avril!CB23","v":0},{"$f":"BD23+Avril!CC23","v":0},{"$f":"BE23+Avril!CD23","v":0},{"$f":"BF23+Avril!CE23","v":8},null,{"$f":"Avril!CG23","v":0},0,0,null,{"$f":"Avril!CK23","v":0},0,0,null,{"$f":"Avril!CO23","v":0},0,0,null,{"$f":"Avril!CS23","v":0},0,0]
[{"$f":"Avril!A24","v":0},null,null,null,null,null,null,null,null,null,null,null,null,null,null,null,null,null,null,null,null,null,null,null,null,null,null,null,null,null,null,null,null,null,{"$f":"COUNTIF(C24:AG24,Accueil!$B$8)","v":0},{"$f":"COUNTIF(C24:AG24,Accueil!$B$9)","v":0},{"$f":"COUNTIF(C24:AG24,Accueil!$B$10)","v":0},{"$f":"COUNTIF(C24:AG24,Accueil!$B$11)","v":0},{"$f":"COUNTIF(C24:AG24,Accueil!$B$12)","v":0},{"$f":"COUNTIF(C24:AG24,Accueil!$B$13)","v":0},{"$f":"COUNTIF(C24:AG24,Accueil!$B$14)","v":0},{"$f":"COUNTIF(C24:AG24,Accueil!$B$15)","v":0},{"$f":"COUNTIF(C24:AG24,Accueil!$B$16)","v":0},{"$f":"COUNTIF(C24:AG24,Accueil!$B$17)","v":0},{"$f":"COUNTIF(C24:AG24,Accueil!$B$18)","v":0},{"$f":"COUNTIF(C24:AG24,Accueil!$B$19)","v":0},{"$f":"COUNTIF(C24:AG24,Accueil!$B$20)","v":0},{"$f":"COUNTIF(C24:AG24,Accueil!$B$21)","v":0},{"$f":"COUNTIF(C24:AG24,Accueil!$B$22)","v":0},{"$f":"COUNTIF(C24:AG24,Accueil!$B$23)","v":0},{"$f":"COUNTIF(C24:AG24,Accueil!$B$24)","v":0},{"$f":"COUNTIF(C24:AG24,Accueil!$B$25)","v":0},{"$f":"COUNTIF(C24:AG24,Accueil!$B$26)","v":0},{"$f":"COUNTIF(C24:AG24,Accueil!$B$27)","v":0},{"$f":"COUNTIF(C24:AG24,Accueil!$B$28)","v":0},{"$f":"COUNTIF(C24:AG24,Accueil!$B$29)","v":0},{"$f":"COUNTIF(C24:AG24,Accueil!$B$30)","v":0},0,null,{"$f":"AI24 +Avril!BH24","v":0},{"$f":"AJ24+Avril!BI24","v":0},{"$f":"AK24+Avril!BJ24","v":0},{"$f":"AL24+Avril!BK24","v":0},{"$f":"AM24+Avril!BL24","v":0},{"$f":"AN24+Avril!BM24","v":0},{"$f":"AO24+Avril!BN24","v":0},{"$f":"AP24+Avril!BO24","v":0},{"$f":"AQ24+Avril!BP24","v":0},{"$f":"AR24+Avril!BQ24","v":0},{"$f":"AS24+Avril!BR24","v":0},{"$f":"AT24+Avril!BS24","v":0},{"$f":"AU24+Avril!BT24","v":0},{"$f":"AV24+Avril!BU24","v":0},{"$f":"AW24+Avril!BV24","v":0},{"$f":"AX24+Avril!BW24","v":0},{"$f":"AY24+Avril!BX24","v":0},{"$f":"AZ24+Avril!BY24","v":0},{"$f":"BA24+Avril!BZ24","v":0},{"$f":"BB24+Avril!CA24","v":0},{"$f":"BC24+Avril!CB24","v":0},{"$f":"BD24+Avril!CC24","v":0},{"$f":"BE24+Avril!CD24","v":0},{"$f":"BF24+Avril!CE24","v":0},null,{"$f":"Avril!CG24","v":0},0,0,null,{"$f":"Avril!CK24","v":0},0,0,null,{"$f":"Avril!CO24","v":0},0,0,null,{"$f":"Avril!CS24","v":0},0,0]
[{"$f":"Avril!A25","v":"Claudia"},null,null,null,null,null,null,null,null,null,null,null,null,null,null,null,null,null,null,null,null,null,null,null,null,null,null,null,null,null,null,null,null,null,{"$f":"COUNTIF(C25:AG25,Accueil!$B$8)","v":0},{"$f":"COUNTIF(C25:AG25,Accueil!$B$9)","v":0},{"$f":"COUNTIF(C25:AG25,Accueil!$B$10)","v":0},{"$f":"COUNTIF(C25:AG25,Accueil!$B$11)","v":0},{"$f":"COUNTIF(C25:AG25,Accueil!$B$12)","v":0},{"$f":"COUNTIF(C25:AG25,Accueil!$B$13)","v":0},{"$f":"COUNTIF(C25:AG25,Accueil!$B$14)","v":0},{"$f":"COUNTIF(C25:AG25,Accueil!$B$15)","v":0},{"$f":"COUNTIF(C25:AG25,Accueil!$B$16)","v":0},{"$f":"COUNTIF(C25:AG25,Accueil!$B$17)","v":0},{"$f":"COUNTIF(C25:AG25,Accueil!$B$18)","v":0},{"$f":"COUNTIF(C25:AG25,Accueil!$B$19)","v":0},{"$f":"COUNTIF(C25:AG25,Accueil!$B$20)","v":0},{"$f":"COUNTIF(C25:AG25,Accueil!$B$21)","v":0},{"$f":"COUNTIF(C25:AG25,Accueil!$B$22)","v":0},{"$f":"COUNTIF(C25:AG25,Accueil!$B$23)","v":0},{"$f":"COUNTIF(C25:AG25,Accueil!$B$24)","v":0},{"$f":"COUNTIF(C25:AG25,Accueil!$B$25)","v":0},{"$f":"COUNTIF(C25:AG25,Accueil!$B$26)","v":0},{"$f":"COUNTIF(C25:AG25,Accueil!$B$27)","v":0},{"$f":"COUNTIF(C25:AG25,Accueil!$B$28)","v":0},{"$f":"COUNTIF(C25:AG25,Accueil!$B$29)","v":0},{"$f":"COUNTIF(C25:AG25,Accueil!$B$30)","v":0},0,null,{"$f":"AI25 +Avril!BH25","v":1},{"$f":"AJ25+Avril!BI25","v":3},{"$f":"AK25+Avril!BJ25","v":1},{"$f":"AL25+Avril!BK25","v":0},{"$f":"AM25+Avril!BL25","v":0},{"$f":"AN25+Avril!BM25","v":0},{"$f":"AO25+Avril!BN25","v":0},{"$f":"AP25+Avril!BO25","v":0},{"$f":"AQ25+Avril!BP25","v":0},{"$f":"AR25+Avril!BQ25","v":0},{"$f":"AS25+Avril!BR25","v":0},{"$f":"AT25+Avril!BS25","v":0},{"$f":"AU25+Avril!BT25","v":0},{"$f":"AV25+Avril!BU25","v":0},{"$f":"AW25+Avril!BV25","v":0},{"$f":"AX25+Avril!BW25","v":9},{"$f":"AY25+Avril!BX25","v":0},{"$f":"AZ25+Avril!BY25","v":0},{"$f":"BA25+Avril!BZ25","v":0},{"$f":"BB25+Avril!CA25","v":0},{"$f":"BC25+Avril!CB25","v":0},{"$f":"BD25+Avril!CC25","v":0},{"$f":"BE25+Avril!CD25","v":0},{"$f":"BF25+Avril!CE25","v":5},null,{"$f":"Avril!CG25","v":0},9,-9,null,{"$f":"Avril!CK25","v":0},0,0,null,{"$f":"Avril!CO25","v":0},0,0,null,{"$f":"Avril!CS25","v":0},0,0]
[{"$f":"Avril!A26","v":"FRPI"},null,null,null,null,null,null,null,null,null,null,null,null,null,null,null,null,null,null,null,null,null,null,null,null,null,null,null,null,null,null,null,null,null,{"$f":"COUNTIF(C26:AG26,Accueil!$B$8)","v":0},{"$f":"COUNTIF(C26:AG26,Accueil!$B$9)","v":0},{"$f":"COUNTIF(C26:AG26,Accueil!$B$10)","v":0},{"$f":"COUNTIF(C26:AG26,Accueil!$B$11)","v":0},{"$f":"COUNTIF(C26:AG26,Accueil!$B$12)","v":0},{"$f":"COUNTIF(C26:AG26,Accueil!$B$13)","v":0},{"$f":"COUNTIF(C26:AG26,Accueil!$B$14)","v":0},{"$f":"COUNTIF(C26:AG26,Accueil!$B$15)","v":0},{"$f":"COUNTIF(C26:AG26,Accueil!$B$16)","v":0},{"$f":"COUNTIF(C26:AG26,Accueil!$B$17)","v":0},{"$f":"COUNTIF(C26:AG26,Accueil!$B$18)","v":0},{"$f":"COUNTIF(C26:AG26,Accueil!$B$19)","v":0},{"$f":"COUNTIF(C26:AG26,Accueil!$B$20)","v":0},{"$f":"COUNTIF(C26:AG26,Accueil!$B$21)","v":0},{"$f":"COUNTIF(C26:AG26,Accueil!$B$22)","v":0},{"$f":"COUNTIF(C26:AG26,Accueil!$B$23)","v":0},{"$f":"COUNTIF(C26:AG26,Accueil!$B$24)","v":0},{"$f":"COUNTIF(C26:AG26,Accueil!$B$25)","v":0},{"$f":"COUNTIF(C26:AG26,Accueil!$B$26)","v":0},{"$f":"COUNTIF(C26:AG26,Accueil!$B$27)","v":0},{"$f":"COUNTIF(C26:AG26,Accueil!$B$28)","v":0},{"$f":"COUNTIF(C26:AG26,Accueil!$B$29)","v":0},{"$f":"COUNTIF(C26:AG26,Accueil!$B$30)","v":0},0,null,{"$f":"AI26 +Avril!BH26","v":0},{"$f":"AJ26+Avril!BI26","v":0},{"$f":"AK26+Avril!BJ26","v":0},{"$f":"AL26+Avril!BK26","v":0},{"$f":"AM26+Avril!BL26","v":0},{"$f":"AN26+Avril!BM26","v":0},{"$f":"AO26+Avril!BN26","v":0},{"$f":"AP26+Avril!BO26","v":0},{"$f":"AQ26+Avril!BP26","v":0},{"$f":"AR26+Avril!BQ26","v":2},{"$f":"AS26+Avril!BR26","v":9},{"$f":"AT26+Avril!BS26","v":0},{"$f":"AU26+Avril!BT26","v":0},{"$f":"AV26+Avril!BU26","v":0},{"$f":"AW26+Avril!BV26","v":0},{"$f":"AX26+Avril!BW26","v":5},{"$f":"AY26+Avril!BX26","v":0},{"$f":"AZ26+Avril!BY26","v":0},{"$f":"BA26+Avril!BZ26","v":0},{"$f":"BB26+Avril!CA26","v":0},{"$f":"BC26+Avril!CB26","v":0},{"$f":"BD26+Avril!CC26","v":0},{"$f":"BE26+Avril!CD26","v":0},{"$f":"BF26+Avril!CE26","v":11},null,{"$f":"Avril!CG26","v":0},5,-5,null,{"$f":"Avril!CK26","v":0},0,0,null,{"$f":"Avril!CO26","v":0},0,0,null,{"$f":"Avril!CS26","v":0},0,0]
[{"$f":"Avril!A27","v":0},null,null,null,null,null,null,null,null,null,null,null,null,null,null,null,null,null,null,null,null,null,null,null,null,null,null,null,null,null,null,null,null,null,{"$f":"COUNTIF(C27:AG27,Accueil!$B$8)","v":0},{"$f":"COUNTIF(C27:AG27,Accueil!$B$9)","v":0},{"$f":"COUNTIF(C27:AG27,Accueil!$B$10)","v":0},{"$f":"COUNTIF(C27:AG27,Accueil!$B$11)","v":0},{"$f":"COUNTIF(C27:AG27,Accueil!$B$12)","v":0},{"$f":"COUNTIF(C27:AG27,Accueil!$B$13)","v":0},{"$f":"COUNTIF(C27:AG27,Accueil!$B$14)","v":0},{"$f":"COUNTIF(C27:AG27,Accueil!$B$15)","v":0},{"$f":"COUNTIF(C27:AG27,Accueil!$B$16)","v":0},{"$f":"COUNTIF(C27:AG27,Accueil!$B$17)","v":0},{"$f":"COUNTIF(C27:AG27,Accueil!$B$18)","v":0},{"$f":"COUNTIF(C27:AG27,Accueil!$B$19)","v":0},{"$f":"COUNTIF(C27:AG27,Accueil!$B$20)","v":0},{"$f":"COUNTIF(C27:AG27,Accueil!$B$21)","v":0},{"$f":"COUNTIF(C27:AG27,Accueil!$B$22)","v":0},{"$f":"COUNTIF(C27:AG27,Accueil!$B$23)","v":0},{"$f":"COUNTIF(C27:AG27,Accueil!$B$24)","v":0},{"$f":"COUNTIF(C27:AG27,Accueil!$B$25)","v":0},{"$f":"COUNTIF(C27:AG27,Accueil!$B$26)","v":0},{"$f":"COUNTIF(C27:AG27,Accueil!$B$27)","v":0},{"$f":"COUNTIF(C27:AG27,Accueil!$B$28)","v":0},{"$f":"COUNTIF(C27:AG27,Accueil!$B$29)","v":0},{"$f":"COUNTIF(C27:AG27,Accueil!$B$30)","v":0},0,null,{"$f":"AI27 +Avril!BH27","v":0},{"$f":"AJ27+Avril!BI27","v":0},{"$f":"AK27+Avril!BJ27","v":{"$error":"#VALUE!"}},{"$f":"AL27+Avril!BK27","v":0},{"$f":"AM27+Avril!BL27","v":0},{"$f":"AN27+Avril!BM27","v":0},{"$f":"AO27+Avril!BN27","v":0},{"$f":"AP27+Avril!BO27","v":{"$error":"#VALUE!"}},{"$f":"AQ27+Avril!BP27","v":0},{"$f":"AR27+Avril!BQ27","v":0},{"$f":"AS27+Avril!BR27","v":0},{"$f":"AT27+Avril!BS27","v":0},{"$f":"AU27+Avril!BT27","v":0},{"$f":"AV27+Avril!BU27","v":0},{"$f":"AW27+Avril!BV27","v":0},{"$f":"AX27+Avril!BW27","v":0},{"$f":"AY27+Avril!BX27","v":0},{"$f":"AZ27+Avril!BY27","v":0},{"$f":"BA27+Avril!BZ27","v":0},{"$f":"BB27+Avril!CA27","v":0},{"$f":"BC27+Avril!CB27","v":0},{"$f":"BD27+Avril!CC27","v":0},{"$f":"BE27+Avril!CD27","v":0},{"$f":"BF27+Avril!CE27","v":0},null,{"$f":"Avril!CG27","v":0},0,0,null,{"$f":"Avril!CK27","v":0},0,0,null,{"$f":"Avril!CO27","v":0},0,0,null,{"$f":"Avril!CS27","v":0},0,0]
[{"$f":"Avril!A28","v":"Frédéric"},null,null,null,null,null,"Nuit",null,null,null,null,null,null,"Nuit",null,null,null,null,null,null,null,null,null,null,"Nuit",null,null,null,null,null,null,"Nuit",null,null,{"$f":"COUNTIF(C28:AG28,Accueil!$B$8)","v":0},{"$f":"COUNTIF(C28:AG28,Accueil!$B$9)","v":0},{"$f":"COUNTIF(C28:AG28,Accueil!$B$10)","v":0},{"$f":"COUNTIF(C28:AG28,Accueil!$B$11)","v":0},{"$f":"COUNTIF(C28:AG28,Accueil!$B$12)","v":0},{"$f":"COUNTIF(C28:AG28,Accueil!$B$13)","v":0},{"$f":"COUNTIF(C28:AG28,Accueil!$B$14)","v":0},{"$f":"COUNTIF(C28:AG28,Accueil!$B$15)","v":0},{"$f":"COUNTIF(C28:AG28,Accueil!$B$16)","v":4},{"$f":"COUNTIF(C28:AG28,Accueil!$B$17)","v":0},{"$f":"COUNTIF(C28:AG28,Accueil!$B$18)","v":0},{"$f":"COUNTIF(C28:AG28,Accueil!$B$19)","v":0},{"$f":"COUNTIF(C28:AG28,Accueil!$B$20)","v":0},{"$f":"COUNTIF(C28:AG28,Accueil!$B$21)","v":0},{"$f":"COUNTIF(C28:AG28,Accueil!$B$22)","v":0},{"$f":"COUNTIF(C28:AG28,Accueil!$B$23)","v":0},{"$f":"COUNTIF(C28:AG28,Accueil!$B$24)","v":0},{"$f":"COUNTIF(C28:AG28,Accueil!$B$25)","v":0},{"$f":"COUNTIF(C28:AG28,Accueil!$B$26)","v":0},{"$f":"COUNTIF(C28:AG28,Accueil!$B$27)","v":0},{"$f":"COUNTIF(C28:AG28,Accueil!$B$28)","v":0},{"$f":"COUNTIF(C28:AG28,Accueil!$B$29)","v":0},{"$f":"COUNTIF(C28:AG28,Accueil!$B$30)","v":0},4,null,{"$f":"AI28 +Avril!BH28","v":{"$error":"#VALUE!"}},{"$f":"AJ28+Avril!BI28","v":{"$error":"#VALUE!"}},{"$f":"AK28+Avril!BJ28","v":0},{"$f":"AL28+Avril!BK28","v":{"$error":"#VALUE!"}},{"$f":"AM28+Avril!BL28","v":0},{"$f":"AN28+Avril!BM28","v":{"$error":"#VALUE!"}},{"$f":"AO28+Avril!BN28","v":{"$error":"#VALUE!"}},{"$f":"AP28+Avril!BO28","v":0},{"$f":"AQ28+Avril!BP28","v":24},{"$f":"AR28+Avril!BQ28","v":0},{"$f":"AS28+Avril!BR28","v":0},{"$f":"AT28+Avril!BS28","v":0},{"$f":"AU28+Avril!BT28","v":0},{"$f":"AV28+Avril!BU28","v":0},{"$f":"AW28+Avril!BV28","v":0},{"$f":"AX28+Avril!BW28","v":0},{"$f":"AY28+Avril!BX28","v":0},{"$f":"AZ28+Avril!BY28","v":0},{"$f":"BA28+Avril!BZ28","v":0},{"$f":"BB28+Avril!CA28","v":0},{"$f":"BC28+Avril!CB28","v":0},{"$f":"BD28+Avril!CC28","v":0},{"$f":"BE28+Avril!CD28","v":0},{"$f":"BF28+Avril!CE28","v":24},null,{"$f":"Avril!CG28","v":0},0,0,null,{"$f":"Avril!CK28","v":0},0,0,null,{"$f":"Avril!CO28","v":0},0,0,null,{"$f":"Avril!CS28","v":0},0,0]
[{"$f":"Avril!A29","v":"Ibrahim"},null,null,null,"Nuit","Nuit",null,"Nuit","Nuit",null,"Nuit",null,null,null,null,null,"Nuit","Nuit",null,null,"Nuit","Nuit",null,null,"Vac","Vac","Vac","Vac","Vac",null,null,null,"Nuit",null,{"$f":"COUNTIF(C29:AG29,Accueil!$B$8)","v":0},{"$f":"COUNTIF(C29:AG29,Accueil!$B$9)","v":0},{"$f":"COUNTIF(C29:AG29,Accueil!$B$10)","v":0},{"$f":"COUNTIF(C29:AG29,Accueil!$B$11)","v":0},{"$f":"COUNTIF(C29:AG29,Accueil!$B$12)","v":0},{"$f":"COUNTIF(C29:AG29,Accueil!$B$13)","v":0},{"$f":"COUNTIF(C29:AG29,Accueil!$B$14)","v":0},{"$f":"COUNTIF(C29:AG29,Accueil!$B$15)","v":0},{"$f":"COUNTIF(C29:AG29,Accueil!$B$16)","v":10},{"$f":"COUNTIF(C29:AG29,Accueil!$B$17)","v":0},{"$f":"COUNTIF(C29:AG29,Accueil!$B$18)","v":0},{"$f":"COUNTIF(C29:AG29,Accueil!$B$19)","v":0},{"$f":"COUNTIF(C29:AG29,Accueil!$B$20)","v":0},{"$f":"COUNTIF(C29:AG29,Accueil!$B$21)","v":0},{"$f":"COUNTIF(C29:AG29,Accueil!$B$22)","v":0},{"$f":"COUNTIF(C29:AG29,Accueil!$B$23)","v":5},{"$f":"COUNTIF(C29:AG29,Accueil!$B$24)","v":0},{"$f":"COUNTIF(C29:AG29,Accueil!$B$25)","v":0},{"$f":"COUNTIF(C29:AG29,Accueil!$B$26)","v":0},{"$f":"COUNTIF(C29:AG29,Accueil!$B$27)","v":0},{"$f":"COUNTIF(C29:AG29,Accueil!$B$28)","v":0},{"$f":"COUNTIF(C29:AG29,Accueil!$B$29)","v":0},{"$f":"COUNTIF(C29:AG29,Accueil!$B$30)","v":0},10,null,{"$f":"AI29 +Avril!BH29","v":0},{"$f":"AJ29+Avril!BI29","v":0},{"$f":"AK29+Avril!BJ29","v":0},{"$f":"AL29+Avril!BK29","v":0},{"$f":"AM29+Avril!BL29","v":{"$error":"#VALUE!"}},{"$f":"AN29+Avril!BM29","v":0},{"$f":"AO29+Avril!BN29","v":0},{"$f":"AP29+Avril!BO29","v":0},{"$f":"AQ29+Avril!BP29","v":49},{"$f":"AR29+Avril!BQ29","v":0},{"$f":"AS29+Avril!BR29","v":0},{"$f":"AT29+Avril!BS29","v":0},{"$f":"AU29+Avril!BT29","v":0},{"$f":"AV29+Avril!BU29","v":0},{"$f":"AW29+Avril!BV29","v":0},{"$f":"AX29+Avril!BW29","v":5},{"$f":"AY29+Avril!BX29","v":0},{"$f":"AZ29+Avril!BY29","v":0},{"$f":"BA29+Avril!BZ29","v":0},{"$f":"BB29+Avril!CA29","v":0},{"$f":"BC29+Avril!CB29","v":0},{"$f":"BD29+Avril!CC29","v":0},{"$f":"BE29+Avril!CD29","v":0},{"$f":"BF29+Avril!CE29","v":49},null,{"$f":"Avril!CG29","v":0},5,-5,null,{"$f":"Avril!CK29","v":0},0,0,null,{"$f":"Avril!CO29","v":0},0,0,null,{"$f":"Avril!CS29","v":0},0,0]
[{"$f":"Avril!A30","v":"Julien"},null,null,null,null,null,null,null,null,"Nuit",null,null,null,null,"Nuit","Nuit",null,null,null,null,null,null,"Nuit","Nuit",null,null,null,"Nuit","Nuit",null,null,null,null,null,{"$f":"COUNTIF(C30:AG30,Accueil!$B$8)","v":0},{"$f":"COUNTIF(C30:AG30,Accueil!$B$9)","v":0},{"$f":"COUNTIF(C30:AG30,Accueil!$B$10)","v":0},{"$f":"COUNTIF(C30:AG30,Accueil!$B$11)","v":0},{"$f":"COUNTIF(C30:AG30,Accueil!$B$12)","v":0},{"$f":"COUNTIF(C30:AG30,Accueil!$B$13)","v":0},{"$f":"COUNTIF(C30:AG30,Accueil!$B$14)","v":0},{"$f":"COUNTIF(C30:AG30,Accueil!$B$15)","v":0},{"$f":"COUNTIF(C30:AG30,Accueil!$B$16)","v":7},{"$f":"COUNTIF(C30:AG30,Accueil!$B$17)","v":0},{"$f":"COUNTIF(C30:AG30,Accueil!$B$18)","v":0},{"$f":"COUNTIF(C30:AG30,Accueil!$B$19)","v":0},{"$f":"COUNTIF(C30:AG30,Accueil!$B$20)","v":0},{"$f":"COUNTIF(C30:AG30,Accueil!$B$21)","v":0},{"$f":"COUNTIF(C30:AG30,Accueil!$B$22)","v":0},{"$f":"COUNTIF(C30:AG30,Accueil!$B$23)","v":0},{"$f":"COUNTIF(C30:AG30,Accueil!$B$24)","v":0},{"$f":"COUNTIF(C30:AG30,Accueil!$B$25)","v":0},{"$f":"COUNTIF(C30:AG30,Accueil!$B$26)","v":0},{"$f":"COUNTIF(C30:AG30,Accueil!$B$27)","v":0},{"$f":"COUNTIF(C30:AG30,Accueil!$B$28)","v":0},{"$f":"COUNTIF(C30:AG30,Accueil!$B$29)","v":0},{"$f":"COUNTIF(C30:AG30,Accueil!$B$30)","v":0},7,null,{"$f":"AI30 +Avril!BH30","v":0},{"$f":"AJ30+Avril!BI30","v":{"$error":"#VALUE!"}},{"$f":"AK30+Avril!BJ30","v":{"$error":"#VALUE!"}},{"$f":"AL30+Avril!BK30","v":{"$error":"#VALUE!"}},{"$f":"AM30+Avril!BL30","v":{"$error":"#VALUE!"}},{"$f":"AN30+Avril!BM30","v":{"$error":"#VALUE!"}},{"$f":"AO30+Avril!BN30","v":0},{"$f":"AP30+Avril!BO30","v":0},{"$f":"AQ30+Avril!BP30","v":29},{"$f":"AR30+Avril!BQ30","v":0},{"$f":"AS30+Avril!BR30","v":0},{"$f":"AT30+Avril!BS30","v":0},{"$f":"AU30+Avril!BT30","v":0},{"$f":"AV30+Avril!BU30","v":0},{"$f":"AW30+Avril!BV30","v":0},{"$f":"AX30+Avril!BW30","v":6},{"$f":"AY30+Avril!BX30","v":0},{"$f":"AZ30+Avril!BY30","v":0},{"$f":"BA30+Avril!BZ30","v":0},{"$f":"BB30+Avril!CA30","v":0},{"$f":"BC30+Avril!CB30","v":0},{"$f":"BD30+Avril!CC30","v":0},{"$f":"BE30+Avril!CD30","v":0},{"$f":"BF30+Avril!CE30","v":29},null,{"$f":"Avril!CG30","v":0},6,-6,null,{"$f":"Avril!CK30","v":0},0,0,null,{"$f":"Avril!CO30","v":0},0,0,null,{"$f":"Avril!CS30","v":0},0,0]
[{"$f":"Avril!A31","v":"Mario"},null,null,null,null,null,null,null,null,null,null,null,null,null,null,null,null,null,null,null,null,null,null,null,null,null,null,null,null,null,null,null,null,null,{"$f":"COUNTIF(C31:AG31,Accueil!$B$8)","v":0},{"$f":"COUNTIF(C31:AG31,Accueil!$B$9)","v":0},{"$f":"COUNTIF(C31:AG31,Accueil!$B$10)","v":0},{"$f":"COUNTIF(C31:AG31,Accueil!$B$11)","v":0},{"$f":"COUNTIF(C31:AG31,Accueil!$B$12)","v":0},{"$f":"COUNTIF(C31:AG31,Accueil!$B$13)","v":0},{"$f":"COUNTIF(C31:AG31,Accueil!$B$14)","v":0},{"$f":"COUNTIF(C31:AG31,Accueil!$B$15)","v":0},{"$f":"COUNTIF(C31:AG31,Accueil!$B$16)","v":0},{"$f":"COUNTIF(C31:AG31,Accueil!$B$17)","v":0},{"$f":"COUNTIF(C31:AG31,Accueil!$B$18)","v":0},{"$f":"COUNTIF(C31:AG31,Accueil!$B$19)","v":0},{"$f":"COUNTIF(C31:AG31,Accueil!$B$20)","v":0},{"$f":"COUNTIF(C31:AG31,Accueil!$B$21)","v":0},{"$f":"COUNTIF(C31:AG31,Accueil!$B$22)","v":0},{"$f":"COUNTIF(C31:AG31,Accueil!$B$23)","v":0},{"$f":"COUNTIF(C31:AG31,Accueil!$B$24)","v":0},{"$f":"COUNTIF(C31:AG31,Accueil!$B$25)","v":0},{"$f":"COUNTIF(C31:AG31,Accueil!$B$26)","v":0},{"$f":"COUNTIF(C31:AG31,Accueil!$B$27)","v":0},{"$f":"COUNTIF(C31:AG31,Accueil!$B$28)","v":0},{"$f":"COUNTIF(C31:AG31,Accueil!$B$29)","v":0},{"$f":"COUNTIF(C31:AG31,Accueil!$B$30)","v":0},0,null,{"$f":"AI31 +Avril!BH31","v":0},{"$f":"AJ31+Avril!BI31","v":0},{"$f":"AK31+Avril!BJ31","v":0},{"$f":"AL31+Avril!BK31","v":0},{"$f":"AM31+Avril!BL31","v":0},{"$f":"AN31+Avril!BM31","v":0},{"$f":"AO31+Avril!BN31","v":0},{"$f":"AP31+Avril!BO31","v":0},{"$f":"AQ31+Avril!BP31","v":9},{"$f":"AR31+Avril!BQ31","v":0},{"$f":"AS31+Avril!BR31","v":0},{"$f":"AT31+Avril!BS31","v":0},{"$f":"AU31+Avril!BT31","v":26},{"$f":"AV31+Avril!BU31","v":0},{"$f":"AW31+Avril!BV31","v":0},{"$f":"AX31+Avril!BW31","v":59},{"$f":"AY31+Avril!BX31","v":0},{"$f":"AZ31+Avril!BY31","v":0},{"$f":"BA31+Avril!BZ31","v":0},{"$f":"BB31+Avril!CA31","v":0},{"$f":"BC31+Avril!CB31","v":0},{"$f":"BD31+Avril!CC31","v":0},{"$f":"BE31+Avril!CD31","v":0},{"$f":"BF31+Avril!CE31","v":9},null,{"$f":"Avril!CG31","v":0},59,-59,null,{"$f":"Avril!CK31","v":0},0,0,null,{"$f":"Avril!CO31","v":0},0,0,null,{"$f":"Avril!CS31","v":0},0,0]
[{"$f":"Avril!A32","v":"Hamid"},null,"Nuit","Nuit",null,null,null,null,null,null,null,"Nuit","Nuit",null,null,null,null,null,"Nuit","Nuit",null,null,null,null,null,"Nuit","Nuit",null,null,"Nuit","Nuit",null,null,null,{"$f":"COUNTIF(C32:AG32,Accueil!$B$8)","v":0},{"$f":"COUNTIF(C32:AG32,Accueil!$B$9)","v":0},{"$f":"COUNTIF(C32:AG32,Accueil!$B$10)","v":0},{"$f":"COUNTIF(C32:AG32,Accueil!$B$11)","v":0},{"$f":"COUNTIF(C32:AG32,Accueil!$B$12)","v":0},{"$f":"COUNTIF(C32:AG32,Accueil!$B$13)","v":0},{"$f":"COUNTIF(C32:AG32,Accueil!$B$14)","v":0},{"$f":"COUNTIF(C32:AG32,Accueil!$B$15)","v":0},{"$f":"COUNTIF(C32:AG32,Accueil!$B$16)","v":10},{"$f":"COUNTIF(C32:AG32,Accueil!$B$17)","v":0},{"$f":"COUNTIF(C32:AG32,Accueil!$B$18)","v":0},{"$f":"COUNTIF(C32:AG32,Accueil!$B$19)","v":0},{"$f":"COUNTIF(C32:AG32,Accueil!$B$20)","v":0},{"$f":"COUNTIF(C32:AG32,Accueil!$B$21)","v":0},{"$f":"COUNTIF(C32:AG32,Accueil!$B$22)","v":0},{"$f":"COUNTIF(C32:AG32,Accueil!$B$23)","v":0},{"$f":"COUNTIF(C32:AG32,Accueil!$B$24)","v":0},{"$f":"COUNTIF(C32:AG32,Accueil!$B$25)","v":0},{"$f":"COUNTIF(C32:AG32,Accueil!$B$26)","v":0},{"$f":"COUNTIF(C32:AG32,Accueil!$B$27)","v":0},{"$f":"COUNTIF(C32:AG32,Accueil!$B$28)","v":0},{"$f":"COUNTIF(C32:AG32,Accueil!$B$29)","v":0},{"$f":"COUNTIF(C32:AG32,Accueil!$B$30)","v":0},10,null,{"$f":"AI32 +Avril!BH32","v":0},{"$f":"AJ32+Avril!BI32","v":0},{"$f":"AK32+Avril!BJ32","v":0},{"$f":"AL32+Avril!BK32","v":0},{"$f":"AM32+Avril!BL32","v":0},{"$f":"AN32+Avril!BM32","v":0},{"$f":"AO32+Avril!BN32","v":0},{"$f":"AP32+Avril!BO32","v":0},{"$f":"AQ32+Avril!BP32","v":32},{"$f":"AR32+Avril!BQ32","v":0},{"$f":"AS32+Avril!BR32","v":0},{"$f":"AT32+Avril!BS32","v":0},{"$f":"AU32+Avril!BT32","v":0},{"$f":"AV32+Avril!BU32","v":10},{"$f":"AW32+Avril!BV32","v":10},{"$f":"AX32+Avril!BW32","v":0},{"$f":"AY32+Avril!BX32","v":0},{"$f":"AZ32+Avril!BY32","v":0},{"$f":"BA32+Avril!BZ32","v":0},{"$f":"BB32+Avril!CA32","v":0},{"$f":"BC32+Avril!CB32","v":0},{"$f":"BD32+Avril!CC32","v":0},{"$f":"BE32+Avril!CD32","v":10},{"$f":"BF32+Avril!CE32","v":37},null,{"$f":"Avril!CG32","v":0},5,-5,null,{"$f":"Avril!CK32","v":0},0,0,null,{"$f":"Avril!CO32","v":0},0,0,null,{"$f":"Avril!CS32","v":0},10,-10]
[null,{"$f":" \"Effectif minimum \" & Accueil!$B$8","v":"Effectif minimum M1"},{"$f":"COUNTIF(C3:C32,Accueil!$B$8)","v":0},{"$f":"COUNTIF(D3:D32,Accueil!$B$8)","v":2},{"$f":"COUNTIF(E3:E32,Accueil!$B$8)","v":4},{"$f":"COUNTIF(F3:F32,Accueil!$B$8)","v":1},{"$f":"COUNTIF(G3:G32,Accueil!$B$8)","v":0},{"$f":"COUNTIF(H3:H32,Accueil!$B$8)","v":0},{"$f":"COUNTIF(I3:I32,Accueil!$B$8)","v":0},{"$f":"COUNTIF(J3:J32,Accueil!$B$8)","v":0},{"$f":"COUNTIF(K3:K32,Accueil!$B$8)","v":2},{"$f":"COUNTIF(L3:L32,Accueil!$B$8)","v":4},{"$f":"COUNTIF(M3:M32,Accueil!$B$8)","v":1},{"$f":"COUNTIF(N3:N32,Accueil!$B$8)","v":2},{"$f":"COUNTIF(O3:O32,Accueil!$B$8)","v":3},{"$f":"COUNTIF(P3:P32,Accueil!$B$8)","v":0},{"$f":"COUNTIF(Q3:Q32,Accueil!$B$8)","v":0},{"$f":"COUNTIF(R3:R32,Accueil!$B$8)","v":0},{"$f":"COUNTIF(S3:S32,Accueil!$B$8)","v":3},{"$f":"COUNTIF(T3:T32,Accueil!$B$8)","v":1},{"$f":"COUNTIF(U3:U32,Accueil!$B$8)","v":1},{"$f":"COUNTIF(V3:V32,Accueil!$B$8)","v":2},{"$f":"COUNTIF(W3:W32,Accueil!$B$8)","v":0},{"$f":"COUNTIF(X3:X32,Accueil!$B$8)","v":0},{"$f":"COUNTIF(Y3:Y32,Accueil!$B$8)","v":2},{"$f":"COUNTIF(Z3:Z32,Accueil!$B$8)","v":3},{"$f":"COUNTIF(AA3:AA32,Accueil!$B$8)","v":1},{"$f":"COUNTIF(AB3:AB32,Accueil!$B$8)","v":1},{"$f":"COUNTIF(AC3:AC32,Accueil!$B$8)","v":2},{"$f":"COUNTIF(AD3:AD32,Accueil!$B$8)","v":0},{"$f":"COUNTIF(AE3:AE32,Accueil!$B$8)","v":0},{"$f":"COUNTIF(AF3:AF32,Accueil!$B$8)","v":3},{"$f":"COUNTIF(AG3:AG32,Accueil!$B$8)","v":4},null,"Jours travaillés",null,null,null,null,null,null,null,null,null,null,null,"Jours non travaillés",null,null,null,null,null,null,null,null,null,null,null,null,"Jours travaillés",null,null,null,null,null,null,null,null,null,null,null,"Jours non travaillés"]
[null,{"$f":" \"Effectif minimum \" & Accueil!$B$9","v":"Effectif minimum M2"},{"$f":"COUNTIF(C3:C32,Accueil!$B$9)","v":0},{"$f":"COUNTIF(D3:D32,Accueil!$B$9)","v":0},{"$f":"COUNTIF(E3:E32,Accueil!$B$9)","v":4},{"$f":"COUNTIF(F3:F32,Accueil!$B$9)","v":0},{"$f":"COUNTIF(G3:G32,Accueil!$B$9)","v":0},{"$f":"COUNTIF(H3:H32,Accueil!$B$9)","v":1},{"$f":"COUNTIF(I3:I32,Accueil!$B$9)","v":0},{"$f":"COUNTIF(J3:J32,Accueil!$B$9)","v":0},{"$f":"COUNTIF(K3:K32,Accueil!$B$9)","v":0},{"$f":"COUNTIF(L3:L32,Accueil!$B$9)","v":4},{"$f":"COUNTIF(M3:M32,Accueil!$B$9)","v":0},{"$f":"COUNTIF(N3:N32,Accueil!$B$9)","v":0},{"$f":"COUNTIF(O3:O32,Accueil!$B$9)","v":0},{"$f":"COUNTIF(P3:P32,Accueil!$B$9)","v":0},{"$f":"COUNTIF(Q3:Q32,Accueil!$B$9)","v":0},{"$f":"COUNTIF(R3:R32,Accueil!$B$9)","v":0},{"$f":"COUNTIF(S3:S32,Accueil!$B$9)","v":3},{"$f":"COUNTIF(T3:T32,Accueil!$B$9)","v":0},{"$f":"COUNTIF(U3:U32,Accueil!$B$9)","v":0},{"$f":"COUNTIF(V3:V32,Accueil!$B$9)","v":1},{"$f":"COUNTIF(W3:W32,Accueil!$B$9)","v":0},{"$f":"COUNTIF(X3:X32,Accueil!$B$9)","v":0},{"$f":"COUNTIF(Y3:Y32,Accueil!$B$9)","v":0},{"$f":"COUNTIF(Z3:Z32,Accueil!$B$9)","v":3},{"$f":"COUNTIF(AA3:AA32,Accueil!$B$9)","v":0},{"$f":"COUNTIF(AB3:AB32,Accueil!$B$9)","v":0},{"$f":"COUNTIF(AC3:AC32,Accueil!$B$9)","v":0},{"$f":"COUNTIF(AD3:AD32,Accueil!$B$9)","v":0},{"$f":"COUNTIF(AE3:AE32,Accueil!$B$9)","v":0},{"$f":"COUNTIF(AF3:AF32,Accueil!$B$9)","v":0},{"$f":"COUNTIF(AG3:AG32,Accueil!$B$9)","v":3}]
[null,{"$f":"\"Effectif minimum \" & Accueil!$B$10","v":"Effectif minimum M3"},{"$f":"COUNTIF(C3:C32,Accueil!$B$10)","v":0},{"$f":"COUNTIF(D3:D32,Accueil!$B$10)","v":1},{"$f":"COUNTIF(E3:E32,Accueil!$B$10)","v":0},{"$f":"COUNTIF(F3:F32,Accueil!$B$10)","v":1},{"$f":"COUNTIF(G3:G32,Accueil!$B$10)","v":0},{"$f":"COUNTIF(H3:H32,Accueil!$B$10)","v":0},{"$f":"COUNTIF(I3:I32,Accueil!$B$10)","v":0},{"$f":"COUNTIF(J3:J32,Accueil!$B$10)","v":0},{"$f":"COUNTIF(K3:K32,Accueil!$B$10)","v":1},{"$f":"COUNTIF(L3:L32,Accueil!$B$10)","v":0},{"$f":"COUNTIF(M3:M32,Accueil!$B$10)","v":0},{"$f":"COUNTIF(N3:N32,Accueil!$B$10)","v":1},{"$f":"COUNTIF(O3:O32,Accueil!$B$10)","v":0},{"$f":"COUNTIF(P3:P32,Accueil!$B$10)","v":0},{"$f":"COUNTIF(Q3:Q32,Accueil!$B$10)","v":0},{"$f":"COUNTIF(R3:R32,Accueil!$B$10)","v":0},{"$f":"COUNTIF(S3:S32,Accueil!$B$10)","v":0},{"$f":"COUNTIF(T3:T32,Accueil!$B$10)","v":1},{"$f":"COUNTIF(U3:U32,Accueil!$B$10)","v":1},{"$f":"COUNTIF(V3:V32,Accueil!$B$10)","v":0},{"$f":"COUNTIF(W3:W32,Accueil!$B$10)","v":0},{"$f":"COUNTIF(X3:X32,Accueil!$B$10)","v":0},{"$f":"COUNTIF(Y3:Y32,Accueil!$B$10)","v":0},{"$f":"COUNTIF(Z3:Z32,Accueil!$B$10)","v":0},{"$f":"COUNTIF(AA3:AA32,Accueil!$B$10)","v":0},{"$f":"COUNTIF(AB3:AB32,Accueil!$B$10)","v":1},{"$f":"COUNTIF(AC3:AC32,Accueil!$B$10)","v":0},{"$f":"COUNTIF(AD3:AD32,Accueil!$B$10)","v":0},{"$f":"COUNTIF(AE3:AE32,Accueil!$B$10)","v":0},{"$f":"COUNTIF(AF3:AF32,Accueil!$B$10)","v":0},{"$f":"COUNTIF(AG3:AG32,Accueil!$B$10)","v":0}]
[2,"MATIN",{"$f":"C33+C34+C35+C37","v":2},{"$f":"D33+D34+D35+D37","v":4},10,4,2,3,2,2,4,10,3,3,4,2,2,2,8,4,2,4,2,2,3,8,3,2,3,2,2,4,9]
[null,{"$f":"\"Effectif minimum \" & Accueil!$B$11","v":"Effectif minimum MP"},{"$f":"COUNTIF(C3:C32,Accueil!$B$11)","v":2},{"$f":"COUNTIF(D3:D32,Accueil!$B$11)","v":1},{"$f":"COUNTIF(E3:E32,Accueil!$B$11)","v":2},{"$f":"COUNTIF(F3:F32,Accueil!$B$11)","v":2},{"$f":"COUNTIF(G3:G32,Accueil!$B$11)","v":2},{"$f":"COUNTIF(H3:H32,Accueil!$B$11)","v":2},{"$f":"COUNTIF(I3:I32,Accueil!$B$11)","v":2},{"$f":"COUNTIF(J3:J32,Accueil!$B$11)","v":2},{"$f":"COUNTIF(K3:K32,Accueil!$B$11)","v":1},{"$f":"COUNTIF(L3:L32,Accueil!$B$11)","v":2},{"$f":"COUNTIF(M3:M32,Accueil!$B$11)","v":2},{"$f":"COUNTIF(N3:N32,Accueil!$B$11)","v":0},{"$f":"COUNTIF(O3:O32,Accueil!$B$11)","v":1},{"$f":"COUNTIF(P3:P32,Accueil!$B$11)","v":2},{"$f":"COUNTIF(Q3:Q32,Accueil!$B$11)","v":2},{"$f":"COUNTIF(R3:R32,Accueil!$B$11)","v":2},{"$f":"COUNTIF(S3:S32,Accueil!$B$11)","v":2},{"$f":"COUNTIF(T3:T32,Accueil!$B$11)","v":2},{"$f":"COUNTIF(U3:U32,Accueil!$B$11)","v":0},{"$f":"COUNTIF(V3:V32,Accueil!$B$11)","v":1},{"$f":"COUNTIF(W3:W32,Accueil!$B$11)","v":2},{"$f":"COUNTIF(X3:X32,Accueil!$B$11)","v":2},{"$f":"COUNTIF(Y3:Y32,Accueil!$B$11)","v":1},{"$f":"COUNTIF(Z3:Z32,Accueil!$B$11)","v":2},{"$f":"COUNTIF(AA3:AA32,Accueil!$B$11)","v":2},{"$f":"COUNTIF(AB3:AB32,Accueil!$B$11)","v":0},{"$f":"COUNTIF(AC3:AC32,Accueil!$B$11)","v":1},{"$f":"COUNTIF(AD3:AD32,Accueil!$B$11)","v":2},{"$f":"COUNTIF(AE3:AE32,Accueil!$B$11)","v":2},{"$f":"COUNTIF(AF3:AF32,Accueil!$B$11)","v":1},{"$f":"COUNTIF(AG3:AG32,Accueil!$B$11)","v":2}]
[null,{"$f":"\"Effectif minimum \" & Accueil!$B$12","v":"Effectif minimum AP1"},{"$f":"COUNTIF(C3:C32,Accueil!$B$12)","v":0},{"$f":"COUNTIF(D3:D32,Accueil!$B$12)","v":0},{"$f":"COUNTIF(E3:E32,Accueil!$B$12)","v":0},{"$f":"COUNTIF(F3:F32,Accueil!$B$12)","v":0},{"$f":"COUNTIF(G3:G32,Accueil!$B$12)","v":0},{"$f":"COUNTIF(H3:H32,Accueil!$B$12)","v":0},{"$f":"COUNTIF(I3:I32,Accueil!$B$12)","v":0},{"$f":"COUNTIF(J3:J32,Accueil!$B$12)","v":0},{"$f":"COUNTIF(K3:K32,Accueil!$B$12)","v":0},{"$f":"COUNTIF(L3:L32,Accueil!$B$12)","v":0},{"$f":"COUNTIF(M3:M32,Accueil!$B$12)","v":0},{"$f":"COUNTIF(N3:N32,Accueil!$B$12)","v":1},{"$f":"COUNTIF(O3:O32,Accueil!$B$12)","v":0},{"$f":"COUNTIF(P3:P32,Accueil!$B$12)","v":0},{"$f":"COUNTIF(Q3:Q32,Accueil!$B$12)","v":0},{"$f":"COUNTIF(R3:R32,Accueil!$B$12)","v":0},{"$f":"COUNTIF(S3:S32,Accueil!$B$12)","v":0},{"$f":"COUNTIF(T3:T32,Accueil!$B$12)","v":0},{"$f":"COUNTIF(U3:U32,Accueil!$B$12)","v":2},{"$f":"COUNTIF(V3:V32,Accueil!$B$12)","v":0},{"$f":"COUNTIF(W3:W32,Accueil!$B$12)","v":0},{"$f":"COUNTIF(X3:X32,Accueil!$B$12)","v":0},{"$f":"COUNTIF(Y3:Y32,Accueil!$B$12)","v":0},{"$f":"COUNTIF(Z3:Z32,Accueil!$B$12)","v":0},{"$f":"COUNTIF(AA3:AA32,Accueil!$B$12)","v":0},{"$f":"COUNTIF(AB3:AB32,Accueil!$B$12)","v":2},{"$f":"COUNTIF(AC3:AC32,Accueil!$B$12)","v":0},{"$f":"COUNTIF(AD3:AD32,Accueil!$B$12)","v":0},{"$f":"COUNTIF(AE3:AE32,Accueil!$B$12)","v":0},{"$f":"COUNTIF(AF3:AF32,Accueil!$B$12)","v":0},{"$f":"COUNTIF(AG3:AG32,Accueil!$B$12)","v":0}]
[null,{"$f":"\"Effectif minimum \" & Accueil!$B$13","v":"Effectif minimum AP2"},{"$f":"COUNTIF(C3:C32,Accueil!$B$13)","v":0},{"$f":"COUNTIF(D3:D32,Accueil!$B$13)","v":1},{"$f":"COUNTIF(E3:E32,Accueil!$B$13)","v":0},{"$f":"COUNTIF(F3:F32,Accueil!$B$13)","v":0},{"$f":"COUNTIF(G3:G32,Accueil!$B$13)","v":0},{"$f":"COUNTIF(H3:H32,Accueil!$B$13)","v":0},{"$f":"COUNTIF(I3:I32,Accueil!$B$13)","v":0},{"$f":"COUNTIF(J3:J32,Accueil!$B$13)","v":0},{"$f":"COUNTIF(K3:K32,Accueil!$B$13)","v":1},{"$f":"COUNTIF(L3:L32,Accueil!$B$13)","v":0},{"$f":"COUNTIF(M3:M32,Accueil!$B$13)","v":0},{"$f":"COUNTIF(N3:N32,Accueil!$B$13)","v":1},{"$f":"COUNTIF(O3:O32,Accueil!$B$13)","v":1},{"$f":"COUNTIF(P3:P32,Accueil!$B$13)","v":0},{"$f":"COUNTIF(Q3:Q32,Accueil!$B$13)","v":0},{"$f":"COUNTIF(R3:R32,Accueil!$B$13)","v":0},{"$f":"COUNTIF(S3:S32,Accueil!$B$13)","v":0},{"$f":"COUNTIF(T3:T32,Accueil!$B$13)","v":0},{"$f":"COUNTIF(U3:U32,Accueil!$B$13)","v":0},{"$f":"COUNTIF(V3:V32,Accueil!$B$13)","v":1},{"$f":"COUNTIF(W3:W32,Accueil!$B$13)","v":0},{"$f":"COUNTIF(X3:X32,Accueil!$B$13)","v":0},{"$f":"COUNTIF(Y3:Y32,Accueil!$B$13)","v":1},{"$f":"COUNTIF(Z3:Z32,Accueil!$B$13)","v":0},{"$f":"COUNTIF(AA3:AA32,Accueil!$B$13)","v":0},{"$f":"COUNTIF(AB3:AB32,Accueil!$B$13)","v":0},{"$f":"COUNTIF(AC3:AC32,Accueil!$B$13)","v":1},{"$f":"COUNTIF(AD3:AD32,Accueil!$B$13)","v":0},{"$f":"COUNTIF(AE3:AE32,Accueil!$B$13)","v":0},{"$f":"COUNTIF(AF3:AF32,Accueil!$B$13)","v":1},{"$f":"COUNTIF(AG3:AG32,Accueil!$B$13)","v":0}]
[null,{"$f":"\"Effectif minimum \" & Accueil!$B$14","v":"Effectif minimum AP3"},{"$f":"COUNTIF(C3:C32,Accueil!$B$14)","v":0},{"$f":"COUNTIF(D3:D32,Accueil!$B$14)","v":0},{"$f":"COUNTIF(E3:E32,Accueil!$B$14)","v":0},{"$f":"COUNTIF(F3:F32,Accueil!$B$14)","v":0},{"$f":"COUNTIF(G3:G32,Accueil!$B$14)","v":0},{"$f":"COUNTIF(H3:H32,Accueil!$B$14)","v":0},{"$f":"COUNTIF(I3:I32,Accueil!$B$14)","v":0},{"$f":"COUNTIF(J3:J32,Accueil!$B$14)","v":0},{"$f":"COUNTIF(K3:K32,Accueil!$B$14)","v":0},{"$f":"COUNTIF(L3:L32,Accueil!$B$14)","v":0},{"$f":"COUNTIF(M3:M32,Accueil!$B$14)","v":0},{"$f":"COUNTIF(N3:N32,Accueil!$B$14)","v":0},{"$f":"COUNTIF(O3:O32,Accueil!$B$14)","v":0},{"$f":"COUNTIF(P3:P32,Accueil!$B$14)","v":0},{"$f":"COUNTIF(Q3:Q32,Accueil!$B$14)","v":0},{"$f":"COUNTIF(R3:R32,Accueil!$B$14)","v":0},{"$f":"COUNTIF(S3:S32,Accueil!$B$14)","v":0},{"$f":"COUNTIF(T3:T32,Accueil!$B$14)","v":0},{"$f":"COUNTIF(U3:U32,Accueil!$B$14)","v":0},{"$f":"COUNTIF(V3:V32,Accueil!$B$14)","v":0},{"$f":"COUNTIF(W3:W32,Accueil!$B$14)","v":0},{"$f":"COUNTIF(X3:X32,Accueil!$B$14)","v":0},{"$f":"COUNTIF(Y3:Y32,Accueil!$B$14)","v":0},{"$f":"COUNTIF(Z3:Z32,Accueil!$B$14)","v":0},{"$f":"COUNTIF(AA3:AA32,Accueil!$B$14)","v":0},{"$f":"COUNTIF(AB3:AB32,Accueil!$B$14)","v":0},{"$f":"COUNTIF(AC3:AC32,Accueil!$B$14)","v":0},{"$f":"COUNTIF(AD3:AD32,Accueil!$B$14)","v":0},{"$f":"COUNTIF(AE3:AE32,Accueil!$B$14)","v":0},{"$f":"COUNTIF(AF3:AF32,Accueil!$B$14)","v":0},{"$f":"COUNTIF(AG3:AG32,Accueil!$B$14)","v":0}]
[1,{"$f":"\"Effectif minimum \" & Accueil!$B$15","v":"Effectif minimum P1"},{"$f":"COUNTIF(C3:C32,Accueil!$B$15)","v":0},{"$f":"COUNTIF(D3:D32,Accueil!$B$15)","v":0},{"$f":"COUNTIF(E3:E32,Accueil!$B$15)","v":0},{"$f":"COUNTIF(F3:F32,Accueil!$B$15)","v":0},{"$f":"COUNTIF(G3:G32,Accueil!$B$15)","v":0},{"$f":"COUNTIF(H3:H32,Accueil!$B$15)","v":0},{"$f":"COUNTIF(I3:I32,Accueil!$B$15)","v":0},{"$f":"COUNTIF(J3:J32,Accueil!$B$15)","v":0},{"$f":"COUNTIF(K3:K32,Accueil!$B$15)","v":0},{"$f":"COUNTIF(L3:L32,Accueil!$B$15)","v":0},{"$f":"COUNTIF(M3:M32,Accueil!$B$15)","v":0},{"$f":"COUNTIF(N3:N32,Accueil!$B$15)","v":0},{"$f":"COUNTIF(O3:O32,Accueil!$B$15)","v":0},{"$f":"COUNTIF(P3:P32,Accueil!$B$15)","v":0},{"$f":"COUNTIF(Q3:Q32,Accueil!$B$15)","v":0},{"$f":"COUNTIF(R3:R32,Accueil!$B$15)","v":0},{"$f":"COUNTIF(S3:S32,Accueil!$B$15)","v":0},{"$f":"COUNTIF(T3:T32,Accueil!$B$15)","v":0},{"$f":"COUNTIF(U3:U32,Accueil!$B$15)","v":0},{"$f":"COUNTIF(V3:V32,Accueil!$B$15)","v":0},{"$f":"COUNTIF(W3:W32,Accueil!$B$15)","v":0},{"$f":"COUNTIF(X3:X32,Accueil!$B$15)","v":0},{"$f":"COUNTIF(Y3:Y32,Accueil!$B$15)","v":0},{"$f":"COUNTIF(Z3:Z32,Accueil!$B$15)","v":0},{"$f":"COUNTIF(AA3:AA32,Accueil!$B$15)","v":0},{"$f":"COUNTIF(AB3:AB32,Accueil!$B$15)","v":0},{"$f":"COUNTIF(AC3:AC32,Accueil!$B$15)","v":0},{"$f":"COUNTIF(AD3:AD32,Accueil!$B$15)","v":0},{"$f":"COUNTIF(AE3:AE32,Accueil!$B$15)","v":0},{"$f":"COUNTIF(AF3:AF32,Accueil!$B$15)","v":0},{"$f":"COUNTIF(AG3:AG32,Accueil!$B$15)","v":0}]
[2,"APRES-MIDI",{"$f":"C37+C38+C39+C41","v":2},{"$f":"D37+D38+D39+D41","v":2},{"$f":"E37+E38+E39+E41","v":2},{"$f":"F37+F38+F39+F41","v":2},{"$f":"G37+G38+G39+G41","v":2},2,2,2,2,2,2,2,2,2,2,2,2,2,2,2,2,2,2,2,2,2,2,2,2,2,2]
[2,"SOIREE",{"$f":"C37+C38+C39+C41","v":2},{"$f":"D37+D38+D39+D41","v":2},2,2,2,2,2,2,2,2,2,2,2,2,2,2,2,2,2,2,2,2,2,2,2,2,2,2,2,2,2]
[null,{"$f":" \"Effectif minimum \" & Accueil!$B$17 & \" \"","v":"Effectif minimum BI "},{"$f":"COUNTIF(C3:C32,Accueil!$B$17)","v":0},{"$f":"COUNTIF(D3:D32,Accueil!$B$17)","v":0},{"$f":"COUNTIF(E3:E32,Accueil!$B$17)","v":0},{"$f":"COUNTIF(F3:F32,Accueil!$B$17)","v":0},{"$f":"COUNTIF(G3:G32,Accueil!$B$17)","v":0},{"$f":"COUNTIF(H3:H32,Accueil!$B$17)","v":0},{"$f":"COUNTIF(I3:I32,Accueil!$B$17)","v":0},{"$f":"COUNTIF(J3:J32,Accueil!$B$17)","v":0},{"$f":"COUNTIF(K3:K32,Accueil!$B$17)","v":0},{"$f":"COUNTIF(L3:L32,Accueil!$B$17)","v":0},{"$f":"COUNTIF(M3:M32,Accueil!$B$17)","v":0},{"$f":"COUNTIF(N3:N32,Accueil!$B$17)","v":0},{"$f":"COUNTIF(O3:O32,Accueil!$B$17)","v":0},{"$f":"COUNTIF(P3:P32,Accueil!$B$17)","v":0},{"$f":"COUNTIF(Q3:Q32,Accueil!$B$17)","v":0},{"$f":"COUNTIF(R3:R32,Accueil!$B$17)","v":0},{"$f":"COUNTIF(S3:S32,Accueil!$B$17)","v":0},{"$f":"COUNTIF(T3:T32,Accueil!$B$17)","v":0},{"$f":"COUNTIF(U3:U32,Accueil!$B$17)","v":0},{"$f":"COUNTIF(V3:V32,Accueil!$B$17)","v":0},{"$f":"COUNTIF(W3:W32,Accueil!$B$17)","v":0},{"$f":"COUNTIF(X3:X32,Accueil!$B$17)","v":0},{"$f":"COUNTIF(Y3:Y32,Accueil!$B$17)","v":0},{"$f":"COUNTIF(Z3:Z32,Accueil!$B$17)","v":0},{"$f":"COUNTIF(AA3:AA32,Accueil!$B$17)","v":0},{"$f":"COUNTIF(AB3:AB32,Accueil!$B$17)","v":0},{"$f":"COUNTIF(AC3:AC32,Accueil!$B$17)","v":0},{"$f":"COUNTIF(AD3:AD32,Accueil!$B$17)","v":0},{"$f":"COUNTIF(AE3:AE32,Accueil!$B$17)","v":0},{"$f":"COUNTIF(AF3:AF32,Accueil!$B$17)","v":0},{"$f":"COUNTIF(AG3:AG32,Accueil!$B$17)","v":0}]
[null,{"$f":" \"Effectif minimum \" & Accueil!$B$18 & \" \"","v":"Effectif minimum LY "},{"$f":"COUNTIF(C3:C32,Accueil!$B$18)","v":0},{"$f":"COUNTIF(D3:D32,Accueil!$B$18)","v":0},{"$f":"COUNTIF(E3:E32,Accueil!$B$18)","v":0},{"$f":"COUNTIF(F3:F32,Accueil!$B$18)","v":1},{"$f":"COUNTIF(G3:G32,Accueil!$B$18)","v":0},{"$f":"COUNTIF(H3:H32,Accueil!$B$18)","v":0},{"$f":"COUNTIF(I3:I32,Accueil!$B$18)","v":0},{"$f":"COUNTIF(J3:J32,Accueil!$B$18)","v":0},{"$f":"COUNTIF(K3:K32,Accueil!$B$18)","v":0},{"$f":"COUNTIF(L3:L32,Accueil!$B$18)","v":0},{"$f":"COUNTIF(M3:M32,Accueil!$B$18)","v":1},{"$f":"COUNTIF(N3:N32,Accueil!$B$18)","v":0},{"$f":"COUNTIF(O3:O32,Accueil!$B$18)","v":0},{"$f":"COUNTIF(P3:P32,Accueil!$B$18)","v":0},{"$f":"COUNTIF(Q3:Q32,Accueil!$B$18)","v":1},{"$f":"COUNTIF(R3:R32,Accueil!$B$18)","v":0},{"$f":"COUNTIF(S3:S32,Accueil!$B$18)","v":0},{"$f":"COUNTIF(T3:T32,Accueil!$B$18)","v":1},{"$f":"COUNTIF(U3:U32,Accueil!$B$18)","v":0},{"$f":"COUNTIF(V3:V32,Accueil!$B$18)","v":0},{"$f":"COUNTIF(W3:W32,Accueil!$B$18)","v":0},{"$f":"COUNTIF(X3:X32,Accueil!$B$18)","v":0},{"$f":"COUNTIF(Y3:Y32,Accueil!$B$18)","v":0},{"$f":"COUNTIF(Z3:Z32,Accueil!$B$18)","v":0},{"$f":"COUNTIF(AA3:AA32,Accueil!$B$18)","v":1},{"$f":"COUNTIF(AB3:AB32,Accueil!$B$18)","v":0},{"$f":"COUNTIF(AC3:AC32,Accueil!$B$18)","v":0},{"$f":"COUNTIF(AD3:AD32,Accueil!$B$18)","v":0},{"$f":"COUNTIF(AE3:AE32,Accueil!$B$18)","v":0},{"$f":"COUNTIF(AF3:AF32,Accueil!$B$18)","v":0},{"$f":"COUNTIF(AG3:AG32,Accueil!$B$18)","v":0}]
[{"$f":"Avril!A46","v":0},{"$f":" \"Effectif minimum \" & Accueil!$B$19 & \" \"","v":"Effectif minimum ST "},{"$f":"COUNTIF(C3:C32,Accueil!$B$19)","v":0},{"$f":"COUNTIF(D3:D32,Accueil!$B$19)","v":0},{"$f":"COUNTIF(E3:E32,Accueil!$B$19)","v":0},{"$f":"COUNTIF(F3:F32,Accueil!$B$19)","v":0},{"$f":"COUNTIF(G3:G32,Accueil!$B$19)","v":0},{"$f":"COUNTIF(H3:H32,Accueil!$B$19)","v":0},{"$f":"COUNTIF(I3:I32,Accueil!$B$19)","v":0},{"$f":"COUNTIF(J3:J32,Accueil!$B$19)","v":0},{"$f":"COUNTIF(K3:K32,Accueil!$B$19)","v":0},{"$f":"COUNTIF(L3:L32,Accueil!$B$19)","v":0},{"$f":"COUNTIF(M3:M32,Accueil!$B$19)","v":0},{"$f":"COUNTIF(N3:N32,Accueil!$B$19)","v":0},{"$f":"COUNTIF(O3:O32,Accueil!$B$19)","v":0},{"$f":"COUNTIF(P3:P32,Accueil!$B$19)","v":0},{"$f":"COUNTIF(Q3:Q32,Accueil!$B$19)","v":0},{"$f":"COUNTIF(R3:R32,Accueil!$B$19)","v":0},{"$f":"COUNTIF(S3:S32,Accueil!$B$19)","v":0},{"$f":"COUNTIF(T3:T32,Accueil!$B$19)","v":0},{"$f":"COUNTIF(U3:U32,Accueil!$B$19)","v":0},{"$f":"COUNTIF(V3:V32,Accueil!$B$19)","v":0},{"$f":"COUNTIF(W3:W32,Accueil!$B$19)","v":0},{"$f":"COUNTIF(X3:X32,Accueil!$B$19)","v":0},{"$f":"COUNTIF(Y3:Y32,Accueil!$B$19)","v":0},{"$f":"COUNTIF(Z3:Z32,Accueil!$B$19)","v":0},{"$f":"COUNTIF(AA3:AA32,Accueil!$B$19)","v":0},{"$f":"COUNTIF(AB3:AB32,Accueil!$B$19)","v":0},{"$f":"COUNTIF(AC3:AC32,Accueil!$B$19)","v":0},{"$f":"COUNTIF(AD3:AD32,Accueil!$B$19)","v":0},{"$f":"COUNTIF(AE3:AE32,Accueil!$B$19)","v":0},{"$f":"COUNTIF(AF3:AF32,Accueil!$B$19)","v":0},{"$f":"COUNTIF(AG3:AG32,Accueil!$B$19)","v":0}]
[1,{"$f":"\"Effectif minimum \" & Accueil!$B$16","v":"Effectif minimum Nuit"},{"$f":"COUNTIF(C3:C32,Accueil!$B$16)","v":1},{"$f":"COUNTIF(D3:D32,Accueil!$B$16)","v":1},{"$f":"COUNTIF(E3:E32,Accueil!$B$16)","v":1},{"$f":"COUNTIF(F3:F32,Accueil!$B$16)","v":1},{"$f":"COUNTIF(G3:G32,Accueil!$B$16)","v":1},{"$f":"COUNTIF(H3:H32,Accueil!$B$16)","v":1},{"$f":"COUNTIF(I3:I32,Accueil!$B$16)","v":1},{"$f":"COUNTIF(J3:J32,Accueil!$B$16)","v":1},{"$f":"COUNTIF(K3:K32,Accueil!$B$16)","v":1},{"$f":"COUNTIF(L3:L32,Accueil!$B$16)","v":1},{"$f":"COUNTIF(M3:M32,Accueil!$B$16)","v":1},{"$f":"COUNTIF(N3:N32,Accueil!$B$16)","v":1},{"$f":"COUNTIF(O3:O32,Accueil!$B$16)","v":1},{"$f":"COUNTIF(P3:P32,Accueil!$B$16)","v":1},{"$f":"COUNTIF(Q3:Q32,Accueil!$B$16)","v":1},{"$f":"COUNTIF(R3:R32,Accueil!$B$16)","v":1},{"$f":"COUNTIF(S3:S32,Accueil!$B$16)","v":1},{"$f":"COUNTIF(T3:T32,Accueil!$B$16)","v":1},{"$f":"COUNTIF(U3:U32,Accueil!$B$16)","v":1},{"$f":"COUNTIF(V3:V32,Accueil!$B$16)","v":1},{"$f":"COUNTIF(W3:W32,Accueil!$B$16)","v":1},{"$f":"COUNTIF(X3:X32,Accueil!$B$16)","v":1},{"$f":"COUNTIF(Y3:Y32,Accueil!$B$16)","v":1},{"$f":"COUNTIF(Z3:Z32,Accueil!$B$16)","v":1},{"$f":"COUNTIF(AA3:AA32,Accueil!$B$16)","v":1},{"$f":"COUNTIF(AB3:AB32,Accueil!$B$16)","v":1},{"$f":"COUNTIF(AC3:AC32,Accueil!$B$16)","v":1},{"$f":"COUNTIF(AD3:AD32,Accueil!$B$16)","v":1},{"$f":"COUNTIF(AE3:AE32,Accueil!$B$16)","v":1},{"$f":"COUNTIF(AF3:AF32,Accueil!$B$16)","v":1},{"$f":"COUNTIF(AG3:AG32,Accueil!$B$16)","v":1}]

{"sheet":"Juin","index":7,"n_rows":47,"n_cols":99,"rows_kept":47,"cut":false,"hidden":false,"merged":[[0,92,0,94],[0,96,0,98],[1,0,1,1],[2,0,2,1],[0,0,0,1],[0,84,0,86],[0,88,0,90],[3,0,3,1],[4,0,4,1],[5,0,5,1],[12,0,12,1],[6,0,6,1],[13,0,13,1],[14,0,14,1],[7,0,7,1],[8,0,8,1],[9,0,9,1],[10,0,10,1],[11,0,11,1],[19,0,19,1],[20,0,20,1],[21,0,21,1],[22,0,22,1],[15,0,15,1],[16,0,16,1],[17,0,17,1],[18,0,18,1],[23,0,23,1],[24,0,24,1],[25,0,25,1],[26,0,26,1],[31,0,31,1],[27,0,27,1],[28,0,28,1],[29,0,29,1],[30,0,30,1]]}
[{"$f":"DATE(Accueil!C2,6,1)","v":"2016-06-01"},null,{"$f":"INDEX({\"D\";\"L\";\"M\";\"M\";\"J\";\"V\";\"S\"},WEEKDAY(C2))","v":"M"},{"$f":"INDEX({\"D\";\"L\";\"M\";\"M\";\"J\";\"V\";\"S\"},WEEKDAY(D2))","v":"J"},{"$f":"INDEX({\"D\";\"L\";\"M\";\"M\";\"J\";\"V\";\"S\"},WEEKDAY(E2))","v":"V"},{"$f":"INDEX({\"D\";\"L\";\"M\";\"M\";\"J\";\"V\";\"S\"},WEEKDAY(F2))","v":"S"},{"$f":"INDEX({\"D\";\"L\";\"M\";\"M\";\"J\";\"V\";\"S\"},WEEKDAY(G2))","v":"D"},{"$f":"INDEX({\"D\";\"L\";\"M\";\"M\";\"J\";\"V\";\"S\"},WEEKDAY(H2))","v":"L"},{"$f":"INDEX({\"D\";\"L\";\"M\";\"M\";\"J\";\"V\";\"S\"},WEEKDAY(I2))","v":"M"},{"$f":"INDEX({\"D\";\"L\";\"M\";\"M\";\"J\";\"V\";\"S\"},WEEKDAY(J2))","v":"M"},{"$f":"INDEX({\"D\";\"L\";\"M\";\"M\";\"J\";\"V\";\"S\"},WEEKDAY(K2))","v":"J"},{"$f":"INDEX({\"D\";\"L\";\"M\";\"M\";\"J\";\"V\";\"S\"},WEEKDAY(L2))","v":"V"},{"$f":"INDEX({\"D\";\"L\";\"M\";\"M\";\"J\";\"V\";\"S\"},WEEKDAY(M2))","v":"S"},{"$f":"INDEX({\"D\";\"L\";\"M\";\"M\";\"J\";\"V\";\"S\"},WEEKDAY(N2))","v":"D"},{"$f":"INDEX({\"D\";\"L\";\"M\";\"M\";\"J\";\"V\";\"S\"},WEEKDAY(O2))","v":"L"},{"$f":"INDEX({\"D\";\"L\";\"M\";\"M\";\"J\";\"V\";\"S\"},WEEKDAY(P2))","v":"M"},{"$f":"INDEX({\"D\";\"L\";\"M\";\"M\";\"J\";\"V\";\"S\"},WEEKDAY(Q2))","v":"M"},{"$f":"INDEX({\"D\";\"L\";\"M\";\"M\";\"J\";\"V\";\"S\"},WEEKDAY(R2))","v":"J"},{"$f":"INDEX({\"D\";\"L\";\"M\";\"M\";\"J\";\"V\";\"S\"},WEEKDAY(S2))","v":"V"},{"$f":"INDEX({\"D\";\"L\";\"M\";\"M\";\"J\";\"V\";\"S\"},WEEKDAY(T2))","v":"S"},{"$f":"INDEX({\"D\";\"L\";\"M\";\"M\";\"J\";\"V\";\"S\"},WEEKDAY(U2))","v":"D"},{"$f":"INDEX({\"D\";\"L\";\"M\";\"M\";\"J\";\"V\";\"S\"},WEEKDAY(V2))","v":"L"},{"$f":"INDEX({\"D\";\"L\";\"M\";\"M\";\"J\";\"V\";\"S\"},WEEKDAY(W2))","v":"M"},{"$f":"INDEX({\"D\";\"L\";\"M\";\"M\";\"J\";\"V\";\"S\"},WEEKDAY(X2))","v":"M"},{"$f":"INDEX({\"D\";\"L\";\"M\";\"M\";\"J\";\"V\";\"S\"},WEEKDAY(Y2))","v":"J"},{"$f":"INDEX({\"D\";\"L\";\"M\";\"M\";\"J\";\"V\";\"S\"},WEEKDAY(Z2))","v":"V"},{"$f":"INDEX({\"D\";\"L\";\"M\";\"M\";\"J\";\"V\";\"S\"},WEEKDAY(AA2))","v":"S"},{"$f":"INDEX({\"D\";\"L\";\"M\";\"M\";\"J\";\"V\";\"S\"},WEEKDAY(AB2))","v":"D"},{"$f":"INDEX({\"D\";\"L\";\"M\";\"M\";\"J\";\"V\";\"S\"},WEEKDAY(AC2))","v":"L"},{"$f":"INDEX({\"D\";\"L\";\"M\";\"M\";\"J\";\"V\";\"S\"},WEEKDAY(AD2))","v":"M"},{"$f":"INDEX({\"D\";\"L\";\"M\";\"M\";\"J\";\"V\";\"S\"},WEEKDAY(AE2))","v":"M"},{"$f":"INDEX({\"D\";\"L\";\"M\";\"M\";\"J\";\"V\";\"S\"},WEEKDAY(AF2))","v":"J"},{"$f":"INDEX({\"D\";\"L\";\"M\";\"M\";\"J\";\"V\";\"S\"},WEEKDAY(AG2))","v":"V"},null,"Bilan mensuel",null,null,null,null,null,null,null,null,null,null,null,null,null,null,null,null,null,null,null,null,null,null,"Total jours",null,"Bilan annuel",null,null,null,null,null,null,null,null,null,null,null,null,null,null,null,null,null,null,null,null,null,null,"Total jours",null,"Bilan congès annuels",null,null,null,"Bilan Enfant malade",null,null,null,"Bilan RH aministratif",null,null,null,"Bilan RH employé"]
[{"$f":"Accueil!J2","v":"Educatif"},null,{"$f":"A1","v":"2016-06-01"},{"$f":"C2+1","v":"2016-06-02"},"2016-06-03","2016-06-04","2016-06-05","2016-06-06","2016-06-07","2016-06-08","2016-06-09","2016-06-10","2016-06-11","2016-06-12","2016-06-13","2016-06-14","2016-06-15","2016-06-16","2016-06-17","2016-06-18","2016-06-19","2016-06-20","2016-06-21","2016-06-22","2016-06-23","2016-06-24","2016-06-25","2016-06-26","2016-06-27","2016-06-28","2016-06-29","2016-06-30","2016-07-01",null,{"$f":"Accueil!$B$8","v":"M1"},{"$f":"Accueil!$B$9","v":"M2"},{"$f":"Accueil!B10","v":"M3"},{"$f":"Accueil!$B$11","v":"MP"},{"$f":"Accueil!$B$12","v":"AP1"},{"$f":"Accueil!B13","v":"AP2"},{"$f":"Accueil!B14","v":"AP3"},{"$f":"Accueil!$B$15","v":"P1"},{"$f":"Accueil!$B$16","v":"Nuit"},{"$f":"Accueil!$B$17","v":"BI"},{"$f":"Accueil!$B$18","v":"LY"},{"$f":"Accueil!$B$19","v":"ST"},{"$f":"Accueil!$B$20","v":"IND"},{"$f":"Accueil!$B$21","v":0},{"$f":"Accueil!$B$22","v":0},{"$f":"Accueil!$B$23","v":"Vac"},{"$f":"Accueil!$B$24","v":"Mal"},{"$f":"Accueil!$B$25","v":"Mat"},{"$f":"Accueil!$B$26","v":"CC"},{"$f":"Accueil!$B$27","v":"F"},{"$f":"Accueil!$B$28","v":"Enf"},{"$f":"Accueil!$B$29","v":"CP"},{"$f":"Accueil!$B$30","v":0},"travaillés",null,{"$f":"AI2","v":"M1"},"M2","M3","MP","AP1","AP2","AP3","P1","Nuit","BI","LY","ST","IND",0,0,"Vac","Mal","Mat","CC","F","Enf","CP",0,"travaillés",null,"capital","pris","restant",null,"capital","pris","restant",null,"capital","pris","restant",null,"capital","pris","restant"]
[{"$f":"Mai!A3","v":"Anne"},null,null,null,"M1",null,"MP",null,"MP",null,null,"AP1",null,null,null,"MP",null,"AP1","M1",null,null,null,"MP",null,null,"M1","Vac","Vac","Vac","Vac","Vac","Vac",null,null,{"$f":"COUNTIF(C3:AG3,Accueil!$B$8)","v":3},{"$f":"COUNTIF(C3:AG3,Accueil!$B$9)","v":0},{"$f":"COUNTIF(C3:AG3,Accueil!$B$10)","v":0},{"$f":"COUNTIF(C3:AG3,Accueil!$B$11)","v":4},{"$f":"COUNTIF(C3:AG3,Accueil!$B$12)","v":2},{"$f":"COUNTIF(C3:AG3,Accueil!$B$13)","v":0},{"$f":"COUNTIF(C3:AG3,Accueil!$B$14)","v":0},{"$f":"COUNTIF(C3:AG3,Accueil!$B$15)","v":0},{"$f":"COUNTIF(C3:AG3,Accueil!$B$16)","v":0},{"$f":"COUNTIF(C3:AG3,Accueil!$B$17)","v":0},{"$f":"COUNTIF(C3:AG3,Accueil!$B$18)","v":0},{"$f":"COUNTIF(C3:AG3,Accueil!$B$19)","v":0},{"$f":"COUNTIF(C3:AG3,Accueil!$B$20)","v":0},{"$f":"COUNTIF(C3:AG3,Accueil!$B$21)","v":0},{"$f":"COUNTIF(C3:AG3,Accueil!$B$22)","v":0},{"$f":"COUNTIF(C3:AG3,Accueil!$B$23)","v":6},{"$f":"COUNTIF(C3:AG3,Accueil!$B$24)","v":0},{"$f":"COUNTIF(C3:AG3,Accueil!$B$25)","v":0},{"$f":"COUNTIF(C3:AG3,Accueil!$B$26)","v":0},{"$f":"COUNTIF(C3:AG3,Accueil!$B$27)","v":0},{"$f":"COUNTIF(C3:AG3,Accueil!$B$28)","v":0},{"$f":"COUNTIF(C3:AG3,Accueil!$B$29)","v":0},{"$f":"COUNTIF(C3:AG3,Accueil!$B$30)","v":0},{"$f":"SUM($AI3:$AT3)+($AW3*0.5)","v":9},null,{"$f":"AI3+Mai!BH3","v":16},{"$f":"AJ3+Mai!BI3","v":0},{"$f":"AK3+Mai!BJ3","v":0},{"$f":"AL3+Mai!BK3","v":32},{"$f":"AM3+Mai!BL3","v":4},{"$f":"AN3+Mai!BM3","v":0},{"$f":"AO3+Mai!BN3","v":0},{"$f":"AP3+Mai!BO3","v":0},{"$f":"AQ3+Mai!BP3","v":0},{"$f":"AR3+Mai!BQ3","v":0},{"$f":"AS3+Mai!BR3","v":0},{"$f":"AT3+Mai!BS3","v":0},{"$f":"AU3+Mai!BT3","v":0},{"$f":"AV3+Mai!BU3","v":0},{"$f":"AW3+Mai!BV3","v":0},{"$f":"AX3+Mai!BW3","v":28},{"$f":"AY3+Mai!BX3","v":1},{"$f":"AZ3+Mai!BY3","v":0},{"$f":"BA3+Mai!BZ3","v":0},{"$f":"BB3+Mai!CA3","v":0},{"$f":"BC3+Mai!CB3","v":0},{"$f":"BD3+Mai!CC3","v":0},{"$f":"BE3+Mai!CD3","v":0},{"$f":"BF3+Mai!CE3","v":52},null,{"$f":"Mai!CG3","v":0},{"$f":"0.5*($BV3)+($BW3)","v":28},{"$f":"CG3-CH3","v":-28},null,{"$f":"Mai!CK3","v":0},{"$f":"$CB3","v":0},{"$f":"CK3-CL3","v":0},null,{"$f":"Mai!CO3","v":0},{"$f":"$CC3","v":0},{"$f":"CO3-CP3","v":0},null,{"$f":"Mai!CS3","v":0},{"$f":"$CD3","v":0},{"$f":"CS3-CT3","v":0}]
[{"$f":"Mai!A4","v":0},null,null,null,null,null,null,null,null,null,null,null,null,null,null,null,null,null,null,null,null,null,null,null,null,null,null,null,null,null,null,null,null,null,{"$f":"COUNTIF(C4:AG4,Accueil!$B$8)","v":0},{"$f":"COUNTIF(C4:AG4,Accueil!$B$9)","v":0},{"$f":"COUNTIF(C4:AG4,Accueil!$B$10)","v":0},{"$f":"COUNTIF(C4:AG4,Accueil!$B$11)","v":0},{"$f":"COUNTIF(C4:AG4,Accueil!$B$12)","v":0},{"$f":"COUNTIF(C4:AG4,Accueil!$B$13)","v":0},{"$f":"COUNTIF(C4:AG4,Accueil!$B$14)","v":0},{"$f":"COUNTIF(C4:AG4,Accueil!$B$15)","v":0},{"$f":"COUNTIF(C4:AG4,Accueil!$B$16)","v":0},{"$f":"COUNTIF(C4:AG4,Accueil!$B$17)","v":0},{"$f":"COUNTIF(C4:AG4,Accueil!$B$18)","v":0},{"$f":"COUNTIF(C4:AG4,Accueil!$B$19)","v":0},{"$f":"COUNTIF(C4:AG4,Accueil!$B$20)","v":0},{"$f":"COUNTIF(C4:AG4,Accueil!$B$21)","v":0},{"$f":"COUNTIF(C4:AG4,Accueil!$B$22)","v":0},{"$f":"COUNTIF(C4:AG4,Accueil!$B$23)","v":0},{"$f":"COUNTIF(C4:AG4,Accueil!$B$24)","v":0},{"$f":"COUNTIF(C4:AG4,Accueil!$B$25)","v":0},{"$f":"COUNTIF(C4:AG4,Accueil!$B$26)","v":0},{"$f":"COUNTIF(C4:AG4,Accueil!$B$27)","v":0},{"$f":"COUNTIF(C4:AG4,Accueil!$B$28)","v":0},{"$f":"COUNTIF(C4:AG4,Accueil!$B$29)","v":0},{"$f":"COUNTIF(C4:AG4,Accueil!$B$30)","v":0},0,null,{"$f":"AI4 +Mai!BH4","v":0},{"$f":"AJ4+Mai!BI4","v":0},{"$f":"AK4+Mai!BJ4","v":0},{"$f":"AL4+Mai!BK4","v":0},{"$f":"AM4+Mai!BL4","v":0},{"$f":"AN4+Mai!BM4","v":0},{"$f":"AO4+Mai!BN4","v":0},{"$f":"AP4+Mai!BO4","v":0},{"$f":"AQ4+Mai!BP4","v":0},{"$f":"AR4+Mai!BQ4","v":0},{"$f":"AS4+Mai!BR4","v":1},{"$f":"AT4+Mai!BS4","v":0},{"$f":"AU4+Mai!BT4","v":0},{"$f":"AV4+Mai!BU4","v":0},{"$f":"AW4+Mai!BV4","v":0},{"$f":"AX4+Mai!BW4","v":0},{"$f":"AY4+Mai!BX4","v":0},{"$f":"AZ4+Mai!BY4","v":0},{"$f":"BA4+Mai!BZ4","v":0},{"$f":"BB4+Mai!CA4","v":0},{"$f":"BC4+Mai!CB4","v":0},{"$f":"BD4+Mai!CC4","v":0},{"$f":"BE4+Mai!CD4","v":0},{"$f":"BF4+Mai!CE4","v":1},null,{"$f":"Mai!CG4","v":0},0,0,null,{"$f":"Mai!CK4","v":0},0,0,null,{"$f":"Mai!CO4","v":0},0,0,null,{"$f":"Mai!CS4","v":0},0,0]
[{"$f":"Mai!A5","v":"Elodie"},null,"M1","AP1","Vac","Vac","Vac","Vac","Vac","Vac","Vac","Vac","Vac","Vac","Vac","Vac","Vac","Vac","Vac","Vac","Vac","Vac","Vac","Vac","Vac","Vac","Vac","Vac","M1","M1","M1","AP1",null,null,{"$f":"COUNTIF(C5:AG5,Accueil!$B$8)","v":4},{"$f":"COUNTIF(C5:AG5,Accueil!$B$9)","v":0},{"$f":"COUNTIF(C5:AG5,Accueil!$B$10)","v":0},{"$f":"COUNTIF(C5:AG5,Accueil!$B$11)","v":0},{"$f":"COUNTIF(C5:AG5,Accueil!$B$12)","v":2},{"$f":"COUNTIF(C5:AG5,Accueil!$B$13)","v":0},{"$f":"COUNTIF(C5:AG5,Accueil!$B$14)","v":0},{"$f":"COUNTIF(C5:AG5,Accueil!$B$15)","v":0},{"$f":"COUNTIF(C5:AG5,Accueil!$B$16)","v":0},{"$f":"COUNTIF(C5:AG5,Accueil!$B$17)","v":0},{"$f":"COUNTIF(C5:AG5,Accueil!$B$18)","v":0},{"$f":"COUNTIF(C5:AG5,Accueil!$B$19)","v":0},{"$f":"COUNTIF(C5:AG5,Accueil!$B$20)","v":0},{"$f":"COUNTIF(C5:AG5,Accueil!$B$21)","v":0},{"$f":"COUNTIF(C5:AG5,Accueil!$B$22)","v":0},{"$f":"COUNTIF(C5:AG5,Accueil!$B$23)","v":24},{"$f":"COUNTIF(C5:AG5,Accueil!$B$24)","v":0},{"$f":"COUNTIF(C5:AG5,Accueil!$B$25)","v":0},{"$f":"COUNTIF(C5:AG5,Accueil!$B$26)","v":0},{"$f":"COUNTIF(C5:AG5,Accueil!$B$27)","v":0},{"$f":"COUNTIF(C5:AG5,Accueil!$B$28)","v":0},{"$f":"COUNTIF(C5:AG5,Accueil!$B$29)","v":0},{"$f":"COUNTIF(C5:AG5,Accueil!$B$30)","v":0},6,null,{"$f":"AI5 +Mai!BH5","v":52},{"$f":"AJ5+Mai!BI5","v":0},{"$f":"AK5+Mai!BJ5","v":0},{"$f":"AL5+Mai!BK5","v":16},{"$f":"AM5+Mai!BL5","v":19},{"$f":"AN5+Mai!BM5","v":3},{"$f":"AO5+Mai!BN5","v":0},{"$f":"AP5+Mai!BO5","v":0},{"$f":"AQ5+Mai!BP5","v":0},{"$f":"AR5+Mai!BQ5","v":0},{"$f":"AS5+Mai!BR5","v":0},{"$f":"AT5+Mai!BS5","v":0},{"$f":"AU5+Mai!BT5","v":2},{"$f":"AV5+Mai!BU5","v":0},{"$f":"AW5+Mai!BV5","v":0},{"$f":"AX5+Mai!BW5","v":33},{"$f":"AY5+Mai!BX5","v":0},{"$f":"AZ5+Mai!BY5","v":0},{"$f":"BA5+Mai!BZ5","v":1},{"$f":"BB5+Mai!CA5","v":1},{"$f":"BC5+Mai!CB5","v":0},{"$f":"BD5+Mai!CC5","v":0},{"$f":"BE5+Mai!CD5","v":0},{"$f":"BF5+Mai!CE5","v":90},null,{"$f":"Mai!CG5","v":0},33,-33,null,{"$f":"Mai!CK5","v":0},0,0,null,{"$f":"Mai!CO5","v":0},0,0,null,{"$f":"Mai!CS5","v":0},0,0]
[{"$f":"Mai!A6","v":0},null,null,null,null,null,null,null,null,null,null,null,null,null,null,null,null,null,null,null,null,null,null,null,null,null,null,null,null,null,null,null,null,null,{"$f":"COUNTIF(C6:AG6,Accueil!$B$8)","v":0},{"$f":"COUNTIF(C6:AG6,Accueil!$B$9)","v":0},{"$f":"COUNTIF(C6:AG6,Accueil!$B$10)","v":0},{"$f":"COUNTIF(C6:AG6,Accueil!$B$11)","v":0},{"$f":"COUNTIF(C6:AG6,Accueil!$B$12)","v":0},{"$f":"COUNTIF(C6:AG6,Accueil!$B$13)","v":0},{"$f":"COUNTIF(C6:AG6,Accueil!$B$14)","v":0},{"$f":"COUNTIF(C6:AG6,Accueil!$B$15)","v":0},{"$f":"COUNTIF(C6:AG6,Accueil!$B$16)","v":0},{"$f":"COUNTIF(C6:AG6,Accueil!$B$17)","v":0},{"$f":"COUNTIF(C6:AG6,Accueil!$B$18)","v":0},{"$f":"COUNTIF(C6:AG6,Accueil!$B$19)","v":0},{"$f":"COUNTIF(C6:AG6,Accueil!$B$20)","v":0},{"$f":"COUNTIF(C6:AG6,Accueil!$B$21)","v":0},{"$f":"COUNTIF(C6:AG6,Accueil!$B$22)","v":0},{"$f":"COUNTIF(C6:AG6,Accueil!$B$23)","v":0},{"$f":"COUNTIF(C6:AG6,Accueil!$B$24)","v":0},{"$f":"COUNTIF(C6:AG6,Accueil!$B$25)","v":0},{"$f":"COUNTIF(C6:AG6,Accueil!$B$26)","v":0},{"$f":"COUNTIF(C6:AG6,Accueil!$B$27)","v":0},{"$f":"COUNTIF(C6:AG6,Accueil!$B$28)","v":0},{"$f":"COUNTIF(C6:AG6,Accueil!$B$29)","v":0},{"$f":"COUNTIF(C6:AG6,Accueil!$B$30)","v":0},0,null,{"$f":"AI6 +Mai!BH6","v":0},{"$f":"AJ6+Mai!BI6","v":0},{"$f":"AK6+Mai!BJ6","v":0},{"$f":"AL6+Mai!BK6","v":0},{"$f":"AM6+Mai!BL6","v":0},{"$f":"AN6+Mai!BM6","v":1},{"$f":"AO6+Mai!BN6","v":0},{"$f":"AP6+Mai!BO6","v":0},{"$f":"AQ6+Mai!BP6","v":0},{"$f":"AR6+Mai!BQ6","v":0},{"$f":"AS6+Mai!BR6","v":1},{"$f":"AT6+Mai!BS6","v":0},{"$f":"AU6+Mai!BT6","v":0},{"$f":"AV6+Mai!BU6","v":0},{"$f":"AW6+Mai!BV6","v":0},{"$f":"AX6+Mai!BW6","v":0},{"$f":"AY6+Mai!BX6","v":0},{"$f":"AZ6+Mai!BY6","v":0},{"$f":"BA6+Mai!BZ6","v":0},{"$f":"BB6+Mai!CA6","v":0},{"$f":"BC6+Mai!CB6","v":0},{"$f":"BD6+Mai!CC6","v":0},{"$f":"BE6+Mai!CD6","v":0},{"$f":"BF6+Mai!CE6","v":2},null,{"$f":"Mai!CG6","v":0},0,0,null,{"$f":"Mai!CK6","v":0},0,0,null,{"$f":"Mai!CO6","v":0},0,0,null,{"$f":"Mai!CS6","v":0},0,0]
[{"$f":"Mai!A7","v":"Eve-Marie"},null,null,"AP1","AP1",null,null,null,"M1",null,"AP1","M1","MP",null,null,"M1",null,"AP1","M1",null,"MP",null,"M1",null,"AP1","M1",null,null,null,"M1",null,"AP1",null,null,{"$f":"COUNTIF(C7:AG7,Accueil!$B$8)","v":7},{"$f":"COUNTIF(C7:AG7,Accueil!$B$9)","v":0},{"$f":"COUNTIF(C7:AG7,Accueil!$B$10)","v":0},{"$f":"COUNTIF(C7:AG7,Accueil!$B$11)","v":2},{"$f":"COUNTIF(C7:AG7,Accueil!$B$12)","v":6},{"$f":"COUNTIF(C7:AG7,Accueil!$B$13)","v":0},{"$f":"COUNTIF(C7:AG7,Accueil!$B$14)","v":0},{"$f":"COUNTIF(C7:AG7,Accueil!$B$15)","v":0},{"$f":"COUNTIF(C7:AG7,Accueil!$B$16)","v":0},{"$f":"COUNTIF(C7:AG7,Accueil!$B$17)","v":0},{"$f":"COUNTIF(C7:AG7,Accueil!$B$18)","v":0},{"$f":"COUNTIF(C7:AG7,Accueil!$B$19)","v":0},{"$f":"COUNTIF(C7:AG7,Accueil!$B$20)","v":0},{"$f":"COUNTIF(C7:AG7,Accueil!$B$21)","v":0},{"$f":"COUNTIF(C7:AG7,Accueil!$B$22)","v":0},{"$f":"COUNTIF(C7:AG7,Accueil!$B$23)","v":0},{"$f":"COUNTIF(C7:AG7,Accueil!$B$24)","v":0},{"$f":"COUNTIF(C7:AG7,Accueil!$B$25)","v":0},{"$f":"COUNTIF(C7:AG7,Accueil!$B$26)","v":0},{"$f":"COUNTIF(C7:AG7,Accueil!$B$27)","v":0},{"$f":"COUNTIF(C7:AG7,Accueil!$B$28)","v":0},{"$f":"COUNTIF(C7:AG7,Accueil!$B$29)","v":0},{"$f":"COUNTIF(C7:AG7,Accueil!$B$30)","v":0},15,null,{"$f":"AI7 +Mai!BH7","v":40},{"$f":"AJ7+Mai!BI7","v":1},{"$f":"AK7+Mai!BJ7","v":0},{"$f":"AL7+Mai!BK7","v":14},{"$f":"AM7+Mai!BL7","v":27},{"$f":"AN7+Mai!BM7","v":2},{"$f":"AO7+Mai!BN7","v":1},{"$f":"AP7+Mai!BO7","v":0},{"$f":"AQ7+Mai!BP7","v":0},{"$f":"AR7+Mai!BQ7","v":0},{"$f":"AS7+Mai!BR7","v":0},{"$f":"AT7+Mai!BS7","v":0},{"$f":"AU7+Mai!BT7","v":0},{"$f":"AV7+Mai!BU7","v":0},{"$f":"AW7+Mai!BV7","v":0},{"$f":"AX7+Mai!BW7","v":8},{"$f":"AY7+Mai!BX7","v":0},{"$f":"AZ7+Mai!BY7","v":0},{"$f":"BA7+Mai!BZ7","v":3},{"$f":"BB7+Mai!CA7","v":0},{"$f":"BC7+Mai!CB7","v":0},{"$f":"BD7+Mai!CC7","v":0},{"$f":"BE7+Mai!CD7","v":0},{"$f":"BF7+Mai!CE7","v":85},null,{"$f":"Mai!CG7","v":0},8,-8,null,{"$f":"Mai!CK7","v":0},0,0,null,{"$f":"Mai!CO7","v":0},0,0,null,{"$f":"Mai!CS7","v":0},0,0]
[{"$f":"Mai!A8","v":0},null,null,null,null,null,null,null,null,null,null,null,null,null,null,null,null,null,null,null,null,null,null,null,null,null,null,null,null,null,null,null,null,null,{"$f":"COUNTIF(C8:AG8,Accueil!$B$8)","v":0},{"$f":"COUNTIF(C8:AG8,Accueil!$B$9)","v":0},{"$f":"COUNTIF(C8:AG8,Accueil!$B$10)","v":0},{"$f":"COUNTIF(C8:AG8,Accueil!$B$11)","v":0},{"$f":"COUNTIF(C8:AG8,Accueil!$B$12)","v":0},{"$f":"COUNTIF(C8:AG8,Accueil!$B$13)","v":0},{"$f":"COUNTIF(C8:AG8,Accueil!$B$14)","v":0},{"$f":"COUNTIF(C8:AG8,Accueil!$B$15)","v":0},{"$f":"COUNTIF(C8:AG8,Accueil!$B$16)","v":0},{"$f":"COUNTIF(C8:AG8,Accueil!$B$17)","v":0},{"$f":"COUNTIF(C8:AG8,Accueil!$B$18)","v":0},{"$f":"COUNTIF(C8:AG8,Accueil!$B$19)","v":0},{"$f":"COUNTIF(C8:AG8,Accueil!$B$20)","v":0},{"$f":"COUNTIF(C8:AG8,Accueil!$B$21)","v":0},{"$f":"COUNTIF(C8:AG8,Accueil!$B$22)","v":0},{"$f":"COUNTIF(C8:AG8,Accueil!$B$23)","v":0},{"$f":"COUNTIF(C8:AG8,Accueil!$B$24)","v":0},{"$f":"COUNTIF(C8:AG8,Accueil!$B$25)","v":0},{"$f":"COUNTIF(C8:AG8,Accueil!$B$26)","v":0},{"$f":"COUNTIF(C8:AG8,Accueil!$B$27)","v":0},{"$f":"COUNTIF(C8:AG8,Accueil!$B$28)","v":0},{"$f":"COUNTIF(C8:AG8,Accueil!$B$29)","v":0},{"$f":"COUNTIF(C8:AG8,Accueil!$B$30)","v":0},0,null,{"$f":"AI8 +Mai!BH8","v":0},{"$f":"AJ8+Mai!BI8","v":0},{"$f":"AK8+Mai!BJ8","v":0},{"$f":"AL8+Mai!BK8","v":0},{"$f":"AM8+Mai!BL8","v":0},{"$f":"AN8+Mai!BM8","v":0},{"$f":"AO8+Mai!BN8","v":0},{"$f":"AP8+Mai!BO8","v":0},{"$f":"AQ8+Mai!BP8","v":0},{"$f":"AR8+Mai!BQ8","v":0},{"$f":"AS8+Mai!BR8","v":1},{"$f":"AT8+Mai!BS8","v":0},{"$f":"AU8+Mai!BT8","v":0},{"$f":"AV8+Mai!BU8","v":0},{"$f":"AW8+Mai!BV8","v":0},{"$f":"AX8+Mai!BW8","v":0},{"$f":"AY8+Mai!BX8","v":0},{"$f":"AZ8+Mai!BY8","v":0},{"$f":"BA8+Mai!BZ8","v":0},{"$f":"BB8+Mai!CA8","v":0},{"$f":"BC8+Mai!CB8","v":0},{"$f":"BD8+Mai!CC8","v":0},{"$f":"BE8+Mai!CD8","v":0},{"$f":"BF8+Mai!CE8","v":1},null,{"$f":"Mai!CG8","v":0},0,0,null,{"$f":"Mai!CK8","v":0},0,0,null,{"$f":"Mai!CO8","v":0},0,0,null,{"$f":"Mai!CS8","v":0},0,0]
[{"$f":"Mai!A9","v":"Isabel"},null,null,null,null,null,null,"AP2","MP",null,null,null,null,null,"AP2","M1",null,null,"AP2","MP",null,"AP2","M1",null,null,null,null,null,"AP2","M1",null,null,null,null,{"$f":"COUNTIF(C9:AG9,Accueil!$B$8)","v":3},{"$f":"COUNTIF(C9:AG9,Accueil!$B$9)","v":0},{"$f":"COUNTIF(C9:AG9,Accueil!$B$10)","v":0},{"$f":"COUNTIF(C9:AG9,Accueil!$B$11)","v":2},{"$f":"COUNTIF(C9:AG9,Accueil!$B$12)","v":0},{"$f":"COUNTIF(C9:AG9,Accueil!$B$13)","v":5},{"$f":"COUNTIF(C9:AG9,Accueil!$B$14)","v":0},{"$f":"COUNTIF(C9:AG9,Accueil!$B$15)","v":0},{"$f":"COUNTIF(C9:AG9,Accueil!$B$16)","v":0},{"$f":"COUNTIF(C9:AG9,Accueil!$B$17)","v":0},{"$f":"COUNTIF(C9:AG9,Accueil!$B$18)","v":0},{"$f":"COUNTIF(C9:AG9,Accueil!$B$19)","v":0},{"$f":"COUNTIF(C9:AG9,Accueil!$B$20)","v":0},{"$f":"COUNTIF(C9:AG9,Accueil!$B$21)","v":0},{"$f":"COUNTIF(C9:AG9,Accueil!$B$22)","v":0},{"$f":"COUNTIF(C9:AG9,Accueil!$B$23)","v":0},{"$f":"COUNTIF(C9:AG9,Accueil!$B$24)","v":0},{"$f":"COUNTIF(C9:AG9,Accueil!$B$25)","v":0},{"$f":"COUNTIF(C9:AG9,Accueil!$B$26)","v":0},{"$f":"COUNTIF(C9:AG9,Accueil!$B$27)","v":0},{"$f":"COUNTIF(C9:AG9,Accueil!$B$28)","v":0},{"$f":"COUNTIF(C9:AG9,Accueil!$B$29)","v":0},{"$f":"COUNTIF(C9:AG9,Accueil!$B$30)","v":0},10,null,{"$f":"AI9 +Mai!BH9","v":21},{"$f":"AJ9+Mai!BI9","v":0},{"$f":"AK9+Mai!BJ9","v":0},{"$f":"AL9+Mai!BK9","v":12},{"$f":"AM9+Mai!BL9","v":0},{"$f":"AN9+Mai!BM9","v":26},{"$f":"AO9+Mai!BN9","v":0},{"$f":"AP9+Mai!BO9","v":0},{"$f":"AQ9+Mai!BP9","v":0},{"$f":"AR9+Mai!BQ9","v":0},{"$f":"AS9+Mai!BR9","v":0},{"$f":"AT9+Mai!BS9","v":0},{"$f":"AU9+Mai!BT9","v":0},{"$f":"AV9+Mai!BU9","v":0},{"$f":"AW9+Mai!BV9","v":0},{"$f":"AX9+Mai!BW9","v":21},{"$f":"AY9+Mai!BX9","v":0},{"$f":"AZ9+Mai!BY9","v":0},{"$f":"BA9+Mai!BZ9","v":0},{"$f":"BB9+Mai!CA9","v":0},{"$f":"BC9+Mai!CB9","v":0},{"$f":"BD9+Mai!CC9","v":0},{"$f":"BE9+Mai!CD9","v":0},{"$f":"BF9+Mai!CE9","v":59},null,{"$f":"Mai!CG9","v":0},21,-21,null,{"$f":"Mai!CK9","v":0},0,0,null,{"$f":"Mai!CO9","v":0},0,0,null,{"$f":"Mai!CS9","v":0},0,0]
[{"$f":"Mai!A10","v":0},null,null,null,null,null,null,null,null,null,null,null,null,null,null,null,null,null,null,null,null,null,null,null,null,null,null,null,null,null,null,null,null,null,{"$f":"COUNTIF(C10:AG10,Accueil!$B$8)","v":0},{"$f":"COUNTIF(C10:AG10,Accueil!$B$9)","v":0},{"$f":"COUNTIF(C10:AG10,Accueil!$B$10)","v":0},{"$f":"COUNTIF(C10:AG10,Accueil!$B$11)","v":0},{"$f":"COUNTIF(C10:AG10,Accueil!$B$12)","v":0},{"$f":"COUNTIF(C10:AG10,Accueil!$B$13)","v":0},{"$f":"COUNTIF(C10:AG10,Accueil!$B$14)","v":0},{"$f":"COUNTIF(C10:AG10,Accueil!$B$15)","v":0},{"$f":"COUNTIF(C10:AG10,Accueil!$B$16)","v":0},{"$f":"COUNTIF(C10:AG10,Accueil!$B$17)","v":0},{"$f":"COUNTIF(C10:AG10,Accueil!$B$18)","v":0},{"$f":"COUNTIF(C10:AG10,Accueil!$B$19)","v":0},{"$f":"COUNTIF(C10:AG10,Accueil!$B$20)","v":0},{"$f":"COUNTIF(C10:AG10,Accueil!$B$21)","v":0},{"$f":"COUNTIF(C10:AG10,Accueil!$B$22)","v":0},{"$f":"COUNTIF(C10:AG10,Accueil!$B$23)","v":0},{"$f":"COUNTIF(C10:AG10,Accueil!$B$24)","v":0},{"$f":"COUNTIF(C10:AG10,Accueil!$B$25)","v":0},{"$f":"COUNTIF(C10:AG10,Accueil!$B$26)","v":0},{"$f":"COUNTIF(C10:AG10,Accueil!$B$27)","v":0},{"$f":"COUNTIF(C10:AG10,Accueil!$B$28)","v":0},{"$f":"COUNTIF(C10:AG10,Accueil!$B$29)","v":0},{"$f":"COUNTIF(C10:AG10,Accueil!$B$30)","v":0},0,null,{"$f":"AI10 +Mai!BH10","v":0},{"$f":"AJ10+Mai!BI10","v":0},{"$f":"AK10+Mai!BJ10","v":0},{"$f":"AL10+Mai!BK10","v":0},{"$f":"AM10+Mai!BL10","v":0},{"$f":"AN10+Mai!BM10","v":0},{"$f":"AO10+Mai!BN10","v":0},{"$f":"AP10+Mai!BO10","v":0},{"$f":"AQ10+Mai!BP10","v":0},{"$f":"AR10+Mai!BQ10","v":1},{"$f":"AS10+Mai!BR10","v":2},{"$f":"AT10+Mai!BS10","v":0},{"$f":"AU10+Mai!BT10","v":0},{"$f":"AV10+Mai!BU10","v":0},{"$f":"AW10+Mai!BV10","v":0},{"$f":"AX10+Mai!BW10","v":0},{"$f":"AY10+Mai!BX10","v":0},{"$f":"AZ10+Mai!BY10","v":0},{"$f":"BA10+Mai!BZ10","v":0},{"$f":"BB10+Mai!CA10","v":0},{"$f":"BC10+Mai!CB10","v":0},{"$f":"BD10+Mai!CC10","v":0},{"$f":"BE10+Mai!CD10","v":0},{"$f":"BF10+Mai!CE10","v":3},null,{"$f":"Mai!CG10","v":0},0,0,null,{"$f":"Mai!CK10","v":0},0,0,null,{"$f":"Mai!CO10","v":0},0,0,null,{"$f":"Mai!CS10","v":0},0,0]
[{"$f":"Mai!A11","v":"Simon-Pierre"},null,"MP",null,"M1",null,null,"M1","M2","MP",null,"M1",null,null,"M1","M2","M3",null,"M1","MP","MP",null,"M2","MP",null,"M1",null,null,"M1","M2","M3",null,null,null,{"$f":"COUNTIF(C11:AG11,Accueil!$B$8)","v":7},{"$f":"COUNTIF(C11:AG11,Accueil!$B$9)","v":4},{"$f":"COUNTIF(C11:AG11,Accueil!$B$10)","v":2},{"$f":"COUNTIF(C11:AG11,Accueil!$B$11)","v":5},{"$f":"COUNTIF(C11:AG11,Accueil!$B$12)","v":0},{"$f":"COUNTIF(C11:AG11,Accueil!$B$13)","v":0},{"$f":"COUNTIF(C11:AG11,Accueil!$B$14)","v":0},{"$f":"COUNTIF(C11:AG11,Accueil!$B$15)","v":0},{"$f":"COUNTIF(C11:AG11,Accueil!$B$16)","v":0},{"$f":"COUNTIF(C11:AG11,Accueil!$B$17)","v":0},{"$f":"COUNTIF(C11:AG11,Accueil!$B$18)","v":0},{"$f":"COUNTIF(C11:AG11,Accueil!$B$19)","v":0},{"$f":"COUNTIF(C11:AG11,Accueil!$B$20)","v":0},{"$f":"COUNTIF(C11:AG11,Accueil!$B$21)","v":0},{"$f":"COUNTIF(C11:AG11,Accueil!$B$22)","v":0},{"$f":"COUNTIF(C11:AG11,Accueil!$B$23)","v":0},{"$f":"COUNTIF(C11:AG11,Accueil!$B$24)","v":0},{"$f":"COUNTIF(C11:AG11,Accueil!$B$25)","v":0},{"$f":"COUNTIF(C11:AG11,Accueil!$B$26)","v":0},{"$f":"COUNTIF(C11:AG11,Accueil!$B$27)","v":0},{"$f":"COUNTIF(C11:AG11,Accueil!$B$28)","v":0},{"$f":"COUNTIF(C11:AG11,Accueil!$B$29)","v":0},{"$f":"COUNTIF(C11:AG11,Accueil!$B$30)","v":0},18,null,{"$f":"AI11 +Mai!BH11","v":36},{"$f":"AJ11+Mai!BI11","v":23},{"$f":"AK11+Mai!BJ11","v":6},{"$f":"AL11+Mai!BK11","v":21},{"$f":"AM11+Mai!BL11","v":0},{"$f":"AN11+Mai!BM11","v":0},{"$f":"AO11+Mai!BN11","v":0},{"$f":"AP11+Mai!BO11","v":0},{"$f":"AQ11+Mai!BP11","v":0},{"$f":"AR11+Mai!BQ11","v":0},{"$f":"AS11+Mai!BR11","v":0},{"$f":"AT11+Mai!BS11","v":0},{"$f":"AU11+Mai!BT11","v":0},{"$f":"AV11+Mai!BU11","v":0},{"$f":"AW11+Mai!BV11","v":0},{"$f":"AX11+Mai!BW11","v":36},{"$f":"AY11+Mai!BX11","v":0},{"$f":"AZ11+Mai!BY11","v":0},{"$f":"BA11+Mai!BZ11","v":0},{"$f":"BB11+Mai!CA11","v":0},{"$f":"BC11+Mai!CB11","v":0},{"$f":"BD11+Mai!CC11","v":0},{"$f":"BE11+Mai!CD11","v":0},{"$f":"BF11+Mai!CE11","v":86},null,{"$f":"Mai!CG11","v":0},36,-36,null,{"$f":"Mai!CK11","v":0},0,0,null,{"$f":"Mai!CO11","v":0},0,0,null,{"$f":"Mai!CS11","v":0},0,0]
[{"$f":"Mai!A12","v":0},null,"LY",null,null,null,null,null,null,null,null,null,null,null,null,null,"LY",null,null,null,null,null,null,null,null,null,null,null,null,null,"LY",null,null,null,{"$f":"COUNTIF(C12:AG12,Accueil!$B$8)","v":0},{"$f":"COUNTIF(C12:AG12,Accueil!$B$9)","v":0},{"$f":"COUNTIF(C12:AG12,Accueil!$B$10)","v":0},{"$f":"COUNTIF(C12:AG12,Accueil!$B$11)","v":0},{"$f":"COUNTIF(C12:AG12,Accueil!$B$12)","v":0},{"$f":"COUNTIF(C12:AG12,Accueil!$B$13)","v":0},{"$f":"COUNTIF(C12:AG12,Accueil!$B$14)","v":0},{"$f":"COUNTIF(C12:AG12,Accueil!$B$15)","v":0},{"$f":"COUNTIF(C12:AG12,Accueil!$B$16)","v":0},{"$f":"COUNTIF(C12:AG12,Accueil!$B$17)","v":0},{"$f":"COUNTIF(C12:AG12,Accueil!$B$18)","v":3},{"$f":"COUNTIF(C12:AG12,Accueil!$B$19)","v":0},{"$f":"COUNTIF(C12:AG12,Accueil!$B$20)","v":0},{"$f":"COUNTIF(C12:AG12,Accueil!$B$21)","v":0},{"$f":"COUNTIF(C12:AG12,Accueil!$B$22)","v":0},{"$f":"COUNTIF(C12:AG12,Accueil!$B$23)","v":0},{"$f":"COUNTIF(C12:AG12,Accueil!$B$24)","v":0},{"$f":"COUNTIF(C12:AG12,Accueil!$B$25)","v":0},{"$f":"COUNTIF(C12:AG12,Accueil!$B$26)","v":0},{"$f":"COUNTIF(C12:AG12,Accueil!$B$27)","v":0},{"$f":"COUNTIF(C12:AG12,Accueil!$B$28)","v":0},{"$f":"COUNTIF(C12:AG12,Accueil!$B$29)","v":0},{"$f":"COUNTIF(C12:AG12,Accueil!$B$30)","v":0},3,null,{"$f":"AI12 +Mai!BH12","v":0},{"$f":"AJ12+Mai!BI12","v":0},{"$f":"AK12+Mai!BJ12","v":0},{"$f":"AL12+Mai!BK12","v":0},{"$f":"AM12+Mai!BL12","v":0},{"$f":"AN12+Mai!BM12","v":0},{"$f":"AO12+Mai!BN12","v":0},{"$f":"AP12+Mai!BO12","v":0},{"$f":"AQ12+Mai!BP12","v":0},{"$f":"AR12+Mai!BQ12","v":0},{"$f":"AS12+Mai!BR12","v":16},{"$f":"AT12+Mai!BS12","v":0},{"$f":"AU12+Mai!BT12","v":0},{"$f":"AV12+Mai!BU12","v":0},{"$f":"AW12+Mai!BV12","v":0},{"$f":"AX12+Mai!BW12","v":0},{"$f":"AY12+Mai!BX12","v":0},{"$f":"AZ12+Mai!BY12","v":0},{"$f":"BA12+Mai!BZ12","v":0},{"$f":"BB12+Mai!CA12","v":0},{"$f":"BC12+Mai!CB12","v":0},{"$f":"BD12+Mai!CC12","v":0},{"$f":"BE12+Mai!CD12","v":0},{"$f":"BF12+Mai!CE12","v":16},null,{"$f":"Mai!CG12","v":0},0,0,null,{"$f":"Mai!CK12","v":0},0,0,null,{"$f":"Mai!CO12","v":0},0,0,null,{"$f":"Mai!CS12","v":0},0,0]
[{"$f":"Mai!A13","v":"Virginie"},null,"MP","M3",null,"MP",null,"M1","M2","MP","MP",null,null,null,"M1","MP","MP","M3",null,null,null,"M1","M2","MP","M3","AP2","MP",null,"M1","M2","MP","M3",null,null,{"$f":"COUNTIF(C13:AG13,Accueil!$B$8)","v":4},{"$f":"COUNTIF(C13:AG13,Accueil!$B$9)","v":3},{"$f":"COUNTIF(C13:AG13,Accueil!$B$10)","v":4},{"$f":"COUNTIF(C13:AG13,Accueil!$B$11)","v":9},{"$f":"COUNTIF(C13:AG13,Accueil!$B$12)","v":0},{"$f":"COUNTIF(C13:AG13,Accueil!$B$13)","v":1},{"$f":"COUNTIF(C13:AG13,Accueil!$B$14)","v":0},{"$f":"COUNTIF(C13:AG13,Accueil!$B$15)","v":0},{"$f":"COUNTIF(C13:AG13,Accueil!$B$16)","v":0},{"$f":"COUNTIF(C13:AG13,Accueil!$B$17)","v":0},{"$f":"COUNTIF(C13:AG13,Accueil!$B$18)","v":0},{"$f":"COUNTIF(C13:AG13,Accueil!$B$19)","v":0},{"$f":"COUNTIF(C13:AG13,Accueil!$B$20)","v":0},{"$f":"COUNTIF(C13:AG13,Accueil!$B$21)","v":0},{"$f":"COUNTIF(C13:AG13,Accueil!$B$22)","v":0},{"$f":"COUNTIF(C13:AG13,Accueil!$B$23)","v":0},{"$f":"COUNTIF(C13:AG13,Accueil!$B$24)","v":0},{"$f":"COUNTIF(C13:AG13,Accueil!$B$25)","v":0},{"$f":"COUNTIF(C13:AG13,Accueil!$B$26)","v":0},{"$f":"COUNTIF(C13:AG13,Accueil!$B$27)","v":0},{"$f":"COUNTIF(C13:AG13,Accueil!$B$28)","v":0},{"$f":"COUNTIF(C13:AG13,Accueil!$B$29)","v":0},{"$f":"COUNTIF(C13:AG13,Accueil!$B$30)","v":0},21,null,{"$f":"AI13 +Mai!BH13","v":16},{"$f":"AJ13+Mai!BI13","v":26},{"$f":"AK13+Mai!BJ13","v":14},{"$f":"AL13+Mai!BK13","v":41},{"$f":"AM13+Mai!BL13","v":1},{"$f":"AN13+Mai!BM13","v":6},{"$f":"AO13+Mai!BN13","v":0},{"$f":"AP13+Mai!BO13","v":0},{"$f":"AQ13+Mai!BP13","v":0},{"$f":"AR13+Mai!BQ13","v":0},{"$f":"AS13+Mai!BR13","v":0},{"$f":"AT13+Mai!BS13","v":0},{"$f":"AU13+Mai!BT13","v":0},{"$f":"AV13+Mai!BU13","v":0},{"$f":"AW13+Mai!BV13","v":0},{"$f":"AX13+Mai!BW13","v":6},{"$f":"AY13+Mai!BX13","v":0},{"$f":"AZ13+Mai!BY13","v":0},{"$f":"BA13+Mai!BZ13","v":17},{"$f":"BB13+Mai!CA13","v":1},{"$f":"BC13+Mai!CB13","v":0},{"$f":"BD13+Mai!CC13","v":0},{"$f":"BE13+Mai!CD13","v":0},{"$f":"BF13+Mai!CE13","v":104},null,{"$f":"Mai!CG13","v":0},6,-6,null,{"$f":"Mai!CK13","v":0},0,0,null,{"$f":"Mai!CO13","v":0},0,0,null,{"$f":"Mai!CS13","v":0},0,0]
[{"$f":"Mai!A14","v":0},null,null,null,null,null,null,null,null,null,null,null,null,null,null,null,null,null,null,null,null,null,null,null,null,null,null,null,null,null,null,null,null,null,{"$f":"COUNTIF(C14:AG14,Accueil!$B$8)","v":0},{"$f":"COUNTIF(C14:AG14,Accueil!$B$9)","v":0},{"$f":"COUNTIF(C14:AG14,Accueil!$B$10)","v":0},{"$f":"COUNTIF(C14:AG14,Accueil!$B$11)","v":0},{"$f":"COUNTIF(C14:AG14,Accueil!$B$12)","v":0},{"$f":"COUNTIF(C14:AG14,Accueil!$B$13)","v":0},{"$f":"COUNTIF(C14:AG14,Accueil!$B$14)","v":0},{"$f":"COUNTIF(C14:AG14,Accueil!$B$15)","v":0},{"$f":"COUNTIF(C14:AG14,Accueil!$B$16)","v":0},{"$f":"COUNTIF(C14:AG14,Accueil!$B$17)","v":0},{"$f":"COUNTIF(C14:AG14,Accueil!$B$18)","v":0},{"$f":"COUNTIF(C14:AG14,Accueil!$B$19)","v":0},{"$f":"COUNTIF(C14:AG14,Accueil!$B$20)","v":0},{"$f":"COUNTIF(C14:AG14,Accueil!$B$21)","v":0},{"$f":"COUNTIF(C14:AG14,Accueil!$B$22)","v":0},{"$f":"COUNTIF(C14:AG14,Accueil!$B$23)","v":0},{"$f":"COUNTIF(C14:AG14,Accueil!$B$24)","v":0},{"$f":"COUNTIF(C14:AG14,Accueil!$B$25)","v":0},{"$f":"COUNTIF(C14:AG14,Accueil!$B$26)","v":0},{"$f":"COUNTIF(C14:AG14,Accueil!$B$27)","v":0},{"$f":"COUNTIF(C14:AG14,Accueil!$B$28)","v":0},{"$f":"COUNTIF(C14:AG14,Accueil!$B$29)","v":0},{"$f":"COUNTIF(C14:AG14,Accueil!$B$30)","v":0},0,null,{"$f":"AI14 +Mai!BH14","v":0},{"$f":"AJ14+Mai!BI14","v":0},{"$f":"AK14+Mai!BJ14","v":0},{"$f":"AL14+Mai!BK14","v":0},{"$f":"AM14+Mai!BL14","v":0},{"$f":"AN14+Mai!BM14","v":0},{"$f":"AO14+Mai!BN14","v":0},{"$f":"AP14+Mai!BO14","v":0},{"$f":"AQ14+Mai!BP14","v":0},{"$f":"AR14+Mai!BQ14","v":6},{"$f":"AS14+Mai!BR14","v":1},{"$f":"AT14+Mai!BS14","v":0},{"$f":"AU14+Mai!BT14","v":0},{"$f":"AV14+Mai!BU14","v":0},{"$f":"AW14+Mai!BV14","v":0},{"$f":"AX14+Mai!BW14","v":0},{"$f":"AY14+Mai!BX14","v":0},{"$f":"AZ14+Mai!BY14","v":0},{"$f":"BA14+Mai!BZ14","v":0},{"$f":"BB14+Mai!CA14","v":0},{"$f":"BC14+Mai!CB14","v":0},{"$f":"BD14+Mai!CC14","v":0},{"$f":"BE14+Mai!CD14","v":0},{"$f":"BF14+Mai!CE14","v":7},null,{"$f":"Mai!CG14","v":0},0,0,null,{"$f":"Mai!CK14","v":0},0,0,null,{"$f":"Mai!CO14","v":0},0,0,null,{"$f":"Mai!CS14","v":0},0,0]
[{"$f":"Mai!A15","v":"Jacqueline"},null,"Vac","Vac","Vac","Vac","Vac","Vac","Vac","Vac","Vac","Vac","Vac","Vac","Vac","Vac","Vac","Vac","Vac",null,null,"M3","MP",null,"AP1",null,"MP",null,"M3","MP",null,null,null,null,{"$f":"COUNTIF(C15:AG15,Accueil!$B$8)","v":0},{"$f":"COUNTIF(C15:AG15,Accueil!$B$9)","v":0},{"$f":"COUNTIF(C15:AG15,Accueil!$B$10)","v":2},{"$f":"COUNTIF(C15:AG15,Accueil!$B$11)","v":3},{"$f":"COUNTIF(C15:AG15,Accueil!$B$12)","v":1},{"$f":"COUNTIF(C15:AG15,Accueil!$B$13)","v":0},{"$f":"COUNTIF(C15:AG15,Accueil!$B$14)","v":0},{"$f":"COUNTIF(C15:AG15,Accueil!$B$15)","v":0},{"$f":"COUNTIF(C15:AG15,Accueil!$B$16)","v":0},{"$f":"COUNTIF(C15:AG15,Accueil!$B$17)","v":0},{"$f":"COUNTIF(C15:AG15,Accueil!$B$18)","v":0},{"$f":"COUNTIF(C15:AG15,Accueil!$B$19)","v":0},{"$f":"COUNTIF(C15:AG15,Accueil!$B$20)","v":0},{"$f":"COUNTIF(C15:AG15,Accueil!$B$21)","v":0},{"$f":"COUNTIF(C15:AG15,Accueil!$B$22)","v":0},{"$f":"COUNTIF(C15:AG15,Accueil!$B$23)","v":17},{"$f":"COUNTIF(C15:AG15,Accueil!$B$24)","v":0},{"$f":"COUNTIF(C15:AG15,Accueil!$B$25)","v":0},{"$f":"COUNTIF(C15:AG15,Accueil!$B$26)","v":0},{"$f":"COUNTIF(C15:AG15,Accueil!$B$27)","v":0},{"$f":"COUNTIF(C15:AG15,Accueil!$B$28)","v":0},{"$f":"COUNTIF(C15:AG15,Accueil!$B$29)","v":0},{"$f":"COUNTIF(C15:AG15,Accueil!$B$30)","v":0},6,null,{"$f":"AI15 +Mai!BH15","v":3},{"$f":"AJ15+Mai!BI15","v":15},{"$f":"AK15+Mai!BJ15","v":14},{"$f":"AL15+Mai!BK15","v":32},{"$f":"AM15+Mai!BL15","v":1},{"$f":"AN15+Mai!BM15","v":1},{"$f":"AO15+Mai!BN15","v":0},{"$f":"AP15+Mai!BO15","v":0},{"$f":"AQ15+Mai!BP15","v":0},{"$f":"AR15+Mai!BQ15","v":0},{"$f":"AS15+Mai!BR15","v":0},{"$f":"AT15+Mai!BS15","v":0},{"$f":"AU15+Mai!BT15","v":0},{"$f":"AV15+Mai!BU15","v":0},{"$f":"AW15+Mai!BV15","v":0},{"$f":"AX15+Mai!BW15","v":41},{"$f":"AY15+Mai!BX15","v":0},{"$f":"AZ15+Mai!BY15","v":0},{"$f":"BA15+Mai!BZ15","v":2},{"$f":"BB15+Mai!CA15","v":0},{"$f":"BC15+Mai!CB15","v":0},{"$f":"BD15+Mai!CC15","v":0},{"$f":"BE15+Mai!CD15","v":0},{"$f":"BF15+Mai!CE15","v":66},null,{"$f":"Mai!CG15","v":0},41,-41,null,{"$f":"Mai!CK15","v":0},0,0,null,{"$f":"Mai!CO15","v":0},0,0,null,{"$f":"Mai!CS15","v":0},0,0]
[{"$f":"Mai!A16","v":0},null,null,null,null,null,null,null,null,null,null,null,null,null,null,null,null,null,null,null,null,null,null,null,null,null,null,null,null,null,null,null,null,null,{"$f":"COUNTIF(C16:AG16,Accueil!$B$8)","v":0},{"$f":"COUNTIF(C16:AG16,Accueil!$B$9)","v":0},{"$f":"COUNTIF(C16:AG16,Accueil!$B$10)","v":0},{"$f":"COUNTIF(C16:AG16,Accueil!$B$11)","v":0},{"$f":"COUNTIF(C16:AG16,Accueil!$B$12)","v":0},{"$f":"COUNTIF(C16:AG16,Accueil!$B$13)","v":0},{"$f":"COUNTIF(C16:AG16,Accueil!$B$14)","v":0},{"$f":"COUNTIF(C16:AG16,Accueil!$B$15)","v":0},{"$f":"COUNTIF(C16:AG16,Accueil!$B$16)","v":0},{"$f":"COUNTIF(C16:AG16,Accueil!$B$17)","v":0},{"$f":"COUNTIF(C16:AG16,Accueil!$B$18)","v":0},{"$f":"COUNTIF(C16:AG16,Accueil!$B$19)","v":0},{"$f":"COUNTIF(C16:AG16,Accueil!$B$20)","v":0},{"$f":"COUNTIF(C16:AG16,Accueil!$B$21)","v":0},{"$f":"COUNTIF(C16:AG16,Accueil!$B$22)","v":0},{"$f":"COUNTIF(C16:AG16,Accueil!$B$23)","v":0},{"$f":"COUNTIF(C16:AG16,Accueil!$B$24)","v":0},{"$f":"COUNTIF(C16:AG16,Accueil!$B$25)","v":0},{"$f":"COUNTIF(C16:AG16,Accueil!$B$26)","v":0},{"$f":"COUNTIF(C16:AG16,Accueil!$B$27)","v":0},{"$f":"COUNTIF(C16:AG16,Accueil!$B$28)","v":0},{"$f":"COUNTIF(C16:AG16,Accueil!$B$29)","v":0},{"$f":"COUNTIF(C16:AG16,Accueil!$B$30)","v":0},0,null,{"$f":"AI16 +Mai!BH16","v":0},{"$f":"AJ16+Mai!BI16","v":0},{"$f":"AK16+Mai!BJ16","v":0},{"$f":"AL16+Mai!BK16","v":0},{"$f":"AM16+Mai!BL16","v":0},{"$f":"AN16+Mai!BM16","v":0},{"$f":"AO16+Mai!BN16","v":0},{"$f":"AP16+Mai!BO16","v":0},{"$f":"AQ16+Mai!BP16","v":0},{"$f":"AR16+Mai!BQ16","v":0},{"$f":"AS16+Mai!BR16","v":6},{"$f":"AT16+Mai!BS16","v":0},{"$f":"AU16+Mai!BT16","v":0},{"$f":"AV16+Mai!BU16","v":0},{"$f":"AW16+Mai!BV16","v":0},{"$f":"AX16+Mai!BW16","v":0},{"$f":"AY16+Mai!BX16","v":0},{"$f":"AZ16+Mai!BY16","v":0},{"$f":"BA16+Mai!BZ16","v":0},{"$f":"BB16+Mai!CA16","v":0},{"$f":"BC16+Mai!CB16","v":0},{"$f":"BD16+Mai!CC16","v":0},{"$f":"BE16+Mai!CD16","v":0},{"$f":"BF16+Mai!CE16","v":6},null,{"$f":"Mai!CG16","v":0},0,0,null,{"$f":"Mai!CK16","v":0},0,0,null,{"$f":"Mai!CO16","v":0},0,0,null,{"$f":"Mai!CS16","v":0},0,0]
[{"$f":"Mai!A17","v":"Colette"},null,null,"IND","IND","IND","IND",null,"M2","MP",null,null,null,"MP",null,"M2","MP",null,null,null,null,null,"M2","MP",null,null,null,"MP",null,"M2","MP",null,null,null,{"$f":"COUNTIF(C17:AG17,Accueil!$B$8)","v":0},{"$f":"COUNTIF(C17:AG17,Accueil!$B$9)","v":4},{"$f":"COUNTIF(C17:AG17,Accueil!$B$10)","v":0},{"$f":"COUNTIF(C17:AG17,Accueil!$B$11)","v":6},{"$f":"COUNTIF(C17:AG17,Accueil!$B$12)","v":0},{"$f":"COUNTIF(C17:AG17,Accueil!$B$13)","v":0},{"$f":"COUNTIF(C17:AG17,Accueil!$B$14)","v":0},{"$f":"COUNTIF(C17:AG17,Accueil!$B$15)","v":0},{"$f":"COUNTIF(C17:AG17,Accueil!$B$16)","v":0},{"$f":"COUNTIF(C17:AG17,Accueil!$B$17)","v":0},{"$f":"COUNTIF(C17:AG17,Accueil!$B$18)","v":0},{"$f":"COUNTIF(C17:AG17,Accueil!$B$19)","v":0},{"$f":"COUNTIF(C17:AG17,Accueil!$B$20)","v":4},{"$f":"COUNTIF(C17:AG17,Accueil!$B$21)","v":0},{"$f":"COUNTIF(C17:AG17,Accueil!$B$22)","v":0},{"$f":"COUNTIF(C17:AG17,Accueil!$B$23)","v":0},{"$f":"COUNTIF(C17:AG17,Accueil!$B$24)","v":0},{"$f":"COUNTIF(C17:AG17,Accueil!$B$25)","v":0},{"$f":"COUNTIF(C17:AG17,Accueil!$B$26)","v":0},{"$f":"COUNTIF(C17:AG17,Accueil!$B$27)","v":0},{"$f":"COUNTIF(C17:AG17,Accueil!$B$28)","v":0},{"$f":"COUNTIF(C17:AG17,Accueil!$B$29)","v":0},{"$f":"COUNTIF(C17:AG17,Accueil!$B$30)","v":0},10,null,{"$f":"AI17 +Mai!BH17","v":0},{"$f":"AJ17+Mai!BI17","v":21},{"$f":"AK17+Mai!BJ17","v":1},{"$f":"AL17+Mai!BK17","v":31},{"$f":"AM17+Mai!BL17","v":4},{"$f":"AN17+Mai!BM17","v":3},{"$f":"AO17+Mai!BN17","v":0},{"$f":"AP17+Mai!BO17","v":0},{"$f":"AQ17+Mai!BP17","v":0},{"$f":"AR17+Mai!BQ17","v":0},{"$f":"AS17+Mai!BR17","v":2},{"$f":"AT17+Mai!BS17","v":0},{"$f":"AU17+Mai!BT17","v":24},{"$f":"AV17+Mai!BU17","v":0},{"$f":"AW17+Mai!BV17","v":0},{"$f":"AX17+Mai!BW17","v":5},{"$f":"AY17+Mai!BX17","v":0},{"$f":"AZ17+Mai!BY17","v":0},{"$f":"BA17+Mai!BZ17","v":0},{"$f":"BB17+Mai!CA17","v":0},{"$f":"BC17+Mai!CB17","v":0},{"$f":"BD17+Mai!CC17","v":0},{"$f":"BE17+Mai!CD17","v":0},{"$f":"BF17+Mai!CE17","v":62},null,{"$f":"Mai!CG17","v":0},5,-5,null,{"$f":"Mai!CK17","v":0},0,0,null,{"$f":"Mai!CO17","v":0},0,0,null,{"$f":"Mai!CS17","v":0},0,0]
[{"$f":"Mai!A18","v":0},null,null,null,null,null,null,null,null,"LY",null,null,null,"LY",null,null,null,null,null,null,null,null,null,"LY",null,null,null,"LY",null,null,null,null,null,null,{"$f":"COUNTIF(C18:AG18,Accueil!$B$8)","v":0},{"$f":"COUNTIF(C18:AG18,Accueil!$B$9)","v":0},{"$f":"COUNTIF(C18:AG18,Accueil!$B$10)","v":0},{"$f":"COUNTIF(C18:AG18,Accueil!$B$11)","v":0},{"$f":"COUNTIF(C18:AG18,Accueil!$B$12)","v":0},{"$f":"COUNTIF(C18:AG18,Accueil!$B$13)","v":0},{"$f":"COUNTIF(C18:AG18,Accueil!$B$14)","v":0},{"$f":"COUNTIF(C18:AG18,Accueil!$B$15)","v":0},{"$f":"COUNTIF(C18:AG18,Accueil!$B$16)","v":0},{"$f":"COUNTIF(C18:AG18,Accueil!$B$17)","v":0},{"$f":"COUNTIF(C18:AG18,Accueil!$B$18)","v":4},{"$f":"COUNTIF(C18:AG18,Accueil!$B$19)","v":0},{"$f":"COUNTIF(C18:AG18,Accueil!$B$20)","v":0},{"$f":"COUNTIF(C18:AG18,Accueil!$B$21)","v":0},{"$f":"COUNTIF(C18:AG18,Accueil!$B$22)","v":0},{"$f":"COUNTIF(C18:AG18,Accueil!$B$23)","v":0},{"$f":"COUNTIF(C18:AG18,Accueil!$B$24)","v":0},{"$f":"COUNTIF(C18:AG18,Accueil!$B$25)","v":0},{"$f":"COUNTIF(C18:AG18,Accueil!$B$26)","v":0},{"$f":"COUNTIF(C18:AG18,Accueil!$B$27)","v":0},{"$f":"COUNTIF(C18:AG18,Accueil!$B$28)","v":0},{"$f":"COUNTIF(C18:AG18,Accueil!$B$29)","v":0},{"$f":"COUNTIF(C18:AG18,Accueil!$B$30)","v":0},4,null,{"$f":"AI18 +Mai!BH18","v":0},{"$f":"AJ18+Mai!BI18","v":0},{"$f":"AK18+Mai!BJ18","v":0},{"$f":"AL18+Mai!BK18","v":1},{"$f":"AM18+Mai!BL18","v":0},{"$f":"AN18+Mai!BM18","v":0},{"$f":"AO18+Mai!BN18","v":0},{"$f":"AP18+Mai!BO18","v":0},{"$f":"AQ18+Mai!BP18","v":0},{"$f":"AR18+Mai!BQ18","v":0},{"$f":"AS18+Mai!BR18","v":39},{"$f":"AT18+Mai!BS18","v":0},{"$f":"AU18+Mai!BT18","v":0},{"$f":"AV18+Mai!BU18","v":0},{"$f":"AW18+Mai!BV18","v":0},{"$f":"AX18+Mai!BW18","v":0},{"$f":"AY18+Mai!BX18","v":0},{"$f":"AZ18+Mai!BY18","v":0},{"$f":"BA18+Mai!BZ18","v":0},{"$f":"BB18+Mai!CA18","v":0},{"$f":"BC18+Mai!CB18","v":0},{"$f":"BD18+Mai!CC18","v":0},{"$f":"BE18+Mai!CD18","v":0},{"$f":"BF18+Mai!CE18","v":40},null,{"$f":"Mai!CG18","v":0},0,0,null,{"$f":"Mai!CK18","v":0},0,0,null,{"$f":"Mai!CO18","v":0},0,0,null,{"$f":"Mai!CS18","v":0},0,0]
[{"$f":"Mai!A19","v":"Lisa"},null,null,"M3","MP","MP",null,null,"M2",null,"M1","MP","MP",null,null,"M2",null,"M1","MP",null,null,null,"M2",null,"M1","MP",null,null,null,"M2",null,"M3",null,null,{"$f":"COUNTIF(C19:AG19,Accueil!$B$8)","v":3},{"$f":"COUNTIF(C19:AG19,Accueil!$B$9)","v":4},{"$f":"COUNTIF(C19:AG19,Accueil!$B$10)","v":2},{"$f":"COUNTIF(C19:AG19,Accueil!$B$11)","v":6},{"$f":"COUNTIF(C19:AG19,Accueil!$B$12)","v":0},{"$f":"COUNTIF(C19:AG19,Accueil!$B$13)","v":0},{"$f":"COUNTIF(C19:AG19,Accueil!$B$14)","v":0},{"$f":"COUNTIF(C19:AG19,Accueil!$B$15)","v":0},{"$f":"COUNTIF(C19:AG19,Accueil!$B$16)","v":0},{"$f":"COUNTIF(C19:AG19,Accueil!$B$17)","v":0},{"$f":"COUNTIF(C19:AG19,Accueil!$B$18)","v":0},{"$f":"COUNTIF(C19:AG19,Accueil!$B$19)","v":0},{"$f":"COUNTIF(C19:AG19,Accueil!$B$20)","v":0},{"$f":"COUNTIF(C19:AG19,Accueil!$B$21)","v":0},{"$f":"COUNTIF(C19:AG19,Accueil!$B$22)","v":0},{"$f":"COUNTIF(C19:AG19,Accueil!$B$23)","v":0},{"$f":"COUNTIF(C19:AG19,Accueil!$B$24)","v":0},{"$f":"COUNTIF(C19:AG19,Accueil!$B$25)","v":0},{"$f":"COUNTIF(C19:AG19,Accueil!$B$26)","v":0},{"$f":"COUNTIF(C19:AG19,Accueil!$B$27)","v":0},{"$f":"COUNTIF(C19:AG19,Accueil!$B$28)","v":0},{"$f":"COUNTIF(C19:AG19,Accueil!$B$29)","v":0},{"$f":"COUNTIF(C19:AG19,Accueil!$B$30)","v":0},15,null,{"$f":"AI19 +Mai!BH19","v":14},{"$f":"AJ19+Mai!BI19","v":24},{"$f":"AK19+Mai!BJ19","v":9},{"$f":"AL19+Mai!BK19","v":32},{"$f":"AM19+Mai!BL19","v":3},{"$f":"AN19+Mai!BM19","v":3},{"$f":"AO19+Mai!BN19","v":0},{"$f":"AP19+Mai!BO19","v":0},{"$f":"AQ19+Mai!BP19","v":0},{"$f":"AR19+Mai!BQ19","v":0},{"$f":"AS19+Mai!BR19","v":0},{"$f":"AT19+Mai!BS19","v":0},{"$f":"AU19+Mai!BT19","v":0},{"$f":"AV19+Mai!BU19","v":0},{"$f":"AW19+Mai!BV19","v":0},{"$f":"AX19+Mai!BW19","v":11},{"$f":"AY19+Mai!BX19","v":0},{"$f":"AZ19+Mai!BY19","v":0},{"$f":"BA19+Mai!BZ19","v":2},{"$f":"BB19+Mai!CA19","v":0},{"$f":"BC19+Mai!CB19","v":0},{"$f":"BD19+Mai!CC19","v":0},{"$f":"BE19+Mai!CD19","v":0},{"$f":"BF19+Mai!CE19","v":85},null,{"$f":"Mai!CG19","v":0},11,-11,null,{"$f":"Mai!CK19","v":0},0,0,null,{"$f":"Mai!CO19","v":0},0,0,null,{"$f":"Mai!CS19","v":0},0,0]
[{"$f":"Mai!A20","v":0},null,null,null,null,null,null,null,null,null,null,null,null,null,null,null,null,null,null,null,null,null,null,null,null,null,null,null,null,null,null,null,null,null,{"$f":"COUNTIF(C20:AG20,Accueil!$B$8)","v":0},{"$f":"COUNTIF(C20:AG20,Accueil!$B$9)","v":0},{"$f":"COUNTIF(C20:AG20,Accueil!$B$10)","v":0},{"$f":"COUNTIF(C20:AG20,Accueil!$B$11)","v":0},{"$f":"COUNTIF(C20:AG20,Accueil!$B$12)","v":0},{"$f":"COUNTIF(C20:AG20,Accueil!$B$13)","v":0},{"$f":"COUNTIF(C20:AG20,Accueil!$B$14)","v":0},{"$f":"COUNTIF(C20:AG20,Accueil!$B$15)","v":0},{"$f":"COUNTIF(C20:AG20,Accueil!$B$16)","v":0},{"$f":"COUNTIF(C20:AG20,Accueil!$B$17)","v":0},{"$f":"COUNTIF(C20:AG20,Accueil!$B$18)","v":0},{"$f":"COUNTIF(C20:AG20,Accueil!$B$19)","v":0},{"$f":"COUNTIF(C20:AG20,Accueil!$B$20)","v":0},{"$f":"COUNTIF(C20:AG20,Accueil!$B$21)","v":0},{"$f":"COUNTIF(C20:AG20,Accueil!$B$22)","v":0},{"$f":"COUNTIF(C20:AG20,Accueil!$B$23)","v":0},{"$f":"COUNTIF(C20:AG20,Accueil!$B$24)","v":0},{"$f":"COUNTIF(C20:AG20,Accueil!$B$25)","v":0},{"$f":"COUNTIF(C20:AG20,Accueil!$B$26)","v":0},{"$f":"COUNTIF(C20:AG20,Accueil!$B$27)","v":0},{"$f":"COUNTIF(C20:AG20,Accueil!$B$28)","v":0},{"$f":"COUNTIF(C20:AG20,Accueil!$B$29)","v":0},{"$f":"COUNTIF(C20:AG20,Accueil!$B$30)","v":0},0,null,{"$f":"AI20 +Mai!BH20","v":0},{"$f":"AJ20+Mai!BI20","v":0},{"$f":"AK20+Mai!BJ20","v":0},{"$f":"AL20+Mai!BK20","v":0},{"$f":"AM20+Mai!BL20","v":0},{"$f":"AN20+Mai!BM20","v":0},{"$f":"AO20+Mai!BN20","v":0},{"$f":"AP20+Mai!BO20","v":0},{"$f":"AQ20+Mai!BP20","v":0},{"$f":"AR20+Mai!BQ20","v":0},{"$f":"AS20+Mai!BR20","v":1},{"$f":"AT20+Mai!BS20","v":0},{"$f":"AU20+Mai!BT20","v":0},{"$f":"AV20+Mai!BU20","v":0},{"$f":"AW20+Mai!BV20","v":0},{"$f":"AX20+Mai!BW20","v":0},{"$f":"AY20+Mai!BX20","v":0},{"$f":"AZ20+Mai!BY20","v":0},{"$f":"BA20+Mai!BZ20","v":0},{"$f":"BB20+Mai!CA20","v":0},{"$f":"BC20+Mai!CB20","v":0},{"$f":"BD20+Mai!CC20","v":0},{"$f":"BE20+Mai!CD20","v":0},{"$f":"BF20+Mai!CE20","v":1},null,{"$f":"Mai!CG20","v":0},0,0,null,{"$f":"Mai!CK20","v":0},0,0,null,{"$f":"Mai!CO20","v":0},0,0,null,{"$f":"Mai!CS20","v":0},0,0]
[{"$f":"Mai!A21","v":"Philip"},null,null,null,null,null,"MP","MP","M1",null,null,null,null,null,"MP","M1",null,null,null,null,null,"MP","M1",null,null,null,null,"MP","MP","MP",null,null,null,null,{"$f":"COUNTIF(C21:AG21,Accueil!$B$8)","v":3},{"$f":"COUNTIF(C21:AG21,Accueil!$B$9)","v":0},{"$f":"COUNTIF(C21:AG21,Accueil!$B$10)","v":0},{"$f":"COUNTIF(C21:AG21,Accueil!$B$11)","v":7},{"$f":"COUNTIF(C21:AG21,Accueil!$B$12)","v":0},{"$f":"COUNTIF(C21:AG21,Accueil!$B$13)","v":0},{"$f":"COUNTIF(C21:AG21,Accueil!$B$14)","v":0},{"$f":"COUNTIF(C21:AG21,Accueil!$B$15)","v":0},{"$f":"COUNTIF(C21:AG21,Accueil!$B$16)","v":0},{"$f":"COUNTIF(C21:AG21,Accueil!$B$17)","v":0},{"$f":"COUNTIF(C21:AG21,Accueil!$B$18)","v":0},{"$f":"COUNTIF(C21:AG21,Accueil!$B$19)","v":0},{"$f":"COUNTIF(C21:AG21,Accueil!$B$20)","v":0},{"$f":"COUNTIF(C21:AG21,Accueil!$B$21)","v":0},{"$f":"COUNTIF(C21:AG21,Accueil!$B$22)","v":0},{"$f":"COUNTIF(C21:AG21,Accueil!$B$23)","v":0},{"$f":"COUNTIF(C21:AG21,Accueil!$B$24)","v":0},{"$f":"COUNTIF(C21:AG21,Accueil!$B$25)","v":0},{"$f":"COUNTIF(C21:AG21,Accueil!$B$26)","v":0},{"$f":"COUNTIF(C21:AG21,Accueil!$B$27)","v":0},{"$f":"COUNTIF(C21:AG21,Accueil!$B$28)","v":0},{"$f":"COUNTIF(C21:AG21,Accueil!$B$29)","v":0},{"$f":"COUNTIF(C21:AG21,Accueil!$B$30)","v":0},10,null,{"$f":"AI21 +Mai!BH21","v":23},{"$f":"AJ21+Mai!BI21","v":0},{"$f":"AK21+Mai!BJ21","v":0},{"$f":"AL21+Mai!BK21","v":31},{"$f":"AM21+Mai!BL21","v":5},{"$f":"AN21+Mai!BM21","v":1},{"$f":"AO21+Mai!BN21","v":0},{"$f":"AP21+Mai!BO21","v":0},{"$f":"AQ21+Mai!BP21","v":0},{"$f":"AR21+Mai!BQ21","v":0},{"$f":"AS21+Mai!BR21","v":0},{"$f":"AT21+Mai!BS21","v":0},{"$f":"AU21+Mai!BT21","v":0},{"$f":"AV21+Mai!BU21","v":0},{"$f":"AW21+Mai!BV21","v":0},{"$f":"AX21+Mai!BW21","v":12},{"$f":"AY21+Mai!BX21","v":0},{"$f":"AZ21+Mai!BY21","v":0},{"$f":"BA21+Mai!BZ21","v":0},{"$f":"BB21+Mai!CA21","v":0},{"$f":"BC21+Mai!CB21","v":0},{"$f":"BD21+Mai!CC21","v":0},{"$f":"BE21+Mai!CD21","v":0},{"$f":"BF21+Mai!CE21","v":60},null,{"$f":"Mai!CG21","v":0},12,-12,null,{"$f":"Mai!CK21","v":0},0,0,null,{"$f":"Mai!CO21","v":0},0,0,null,{"$f":"Mai!CS21","v":0},0,0]
[{"$f":"Mai!A22","v":0},null,null,null,null,null,null,null,null,null,null,null,null,null,null,null,null,null,null,null,null,null,null,null,null,null,null,null,null,null,null,null,null,null,{"$f":"COUNTIF(C22:AG22,Accueil!$B$8)","v":0},{"$f":"COUNTIF(C22:AG22,Accueil!$B$9)","v":0},{"$f":"COUNTIF(C22:AG22,Accueil!$B$10)","v":0},{"$f":"COUNTIF(C22:AG22,Accueil!$B$11)","v":0},{"$f":"COUNTIF(C22:AG22,Accueil!$B$12)","v":0},{"$f":"COUNTIF(C22:AG22,Accueil!$B$13)","v":0},{"$f":"COUNTIF(C22:AG22,Accueil!$B$14)","v":0},{"$f":"COUNTIF(C22:AG22,Accueil!$B$15)","v":0},{"$f":"COUNTIF(C22:AG22,Accueil!$B$16)","v":0},{"$f":"COUNTIF(C22:AG22,Accueil!$B$17)","v":0},{"$f":"COUNTIF(C22:AG22,Accueil!$B$18)","v":0},{"$f":"COUNTIF(C22:AG22,Accueil!$B$19)","v":0},{"$f":"COUNTIF(C22:AG22,Accueil!$B$20)","v":0},{"$f":"COUNTIF(C22:AG22,Accueil!$B$21)","v":0},{"$f":"COUNTIF(C22:AG22,Accueil!$B$22)","v":0},{"$f":"COUNTIF(C22:AG22,Accueil!$B$23)","v":0},{"$f":"COUNTIF(C22:AG22,Accueil!$B$24)","v":0},{"$f":"COUNTIF(C22:AG22,Accueil!$B$25)","v":0},{"$f":"COUNTIF(C22:AG22,Accueil!$B$26)","v":0},{"$f":"COUNTIF(C22:AG22,Accueil!$B$27)","v":0},{"$f":"COUNTIF(C22:AG22,Accueil!$B$28)","v":0},{"$f":"COUNTIF(C22:AG22,Accueil!$B$29)","v":0},{"$f":"COUNTIF(C22:AG22,Accueil!$B$30)","v":0},0,null,{"$f":"AI22 +Mai!BH22","v":0},{"$f":"AJ22+Mai!BI22","v":0},{"$f":"AK22+Mai!BJ22","v":0},{"$f":"AL22+Mai!BK22","v":0},{"$f":"AM22+Mai!BL22","v":0},{"$f":"AN22+Mai!BM22","v":0},{"$f":"AO22+Mai!BN22","v":0},{"$f":"AP22+Mai!BO22","v":0},{"$f":"AQ22+Mai!BP22","v":0},{"$f":"AR22+Mai!BQ22","v":8},{"$f":"AS22+Mai!BR22","v":3},{"$f":"AT22+Mai!BS22","v":0},{"$f":"AU22+Mai!BT22","v":0},{"$f":"AV22+Mai!BU22","v":0},{"$f":"AW22+Mai!BV22","v":0},{"$f":"AX22+Mai!BW22","v":0},{"$f":"AY22+Mai!BX22","v":0},{"$f":"AZ22+Mai!BY22","v":0},{"$f":"BA22+Mai!BZ22","v":0},{"$f":"BB22+Mai!CA22","v":0},{"$f":"BC22+Mai!CB22","v":0},{"$f":"BD22+Mai!CC22","v":0},{"$f":"BE22+Mai!CD22","v":0},{"$f":"BF22+Mai!CE22","v":11},null,{"$f":"Mai!CG22","v":0},0,0,null,{"$f":"Mai!CK22","v":0},0,0,null,{"$f":"Mai!CO22","v":0},0,0,null,{"$f":"Mai!CS22","v":0},0,0]
[{"$f":"Mai!A23","v":"Dania"},null,null,null,null,null,null,"M3","M3","M3","M3","M3","M3","M3","M3","M3","M3","M3","M3","M3","M3","M3","M3",null,null,null,null,null,null,null,null,null,null,null,{"$f":"COUNTIF(C23:AG23,Accueil!$B$8)","v":0},{"$f":"COUNTIF(C23:AG23,Accueil!$B$9)","v":0},{"$f":"COUNTIF(C23:AG23,Accueil!$B$10)","v":16},{"$f":"COUNTIF(C23:AG23,Accueil!$B$11)","v":0},{"$f":"COUNTIF(C23:AG23,Accueil!$B$12)","v":0},{"$f":"COUNTIF(C23:AG23,Accueil!$B$13)","v":0},{"$f":"COUNTIF(C23:AG23,Accueil!$B$14)","v":0},{"$f":"COUNTIF(C23:AG23,Accueil!$B$15)","v":0},{"$f":"COUNTIF(C23:AG23,Accueil!$B$16)","v":0},{"$f":"COUNTIF(C23:AG23,Accueil!$B$17)","v":0},{"$f":"COUNTIF(C23:AG23,Accueil!$B$18)","v":0},{"$f":"COUNTIF(C23:AG23,Accueil!$B$19)","v":0},{"$f":"COUNTIF(C23:AG23,Accueil!$B$20)","v":0},{"$f":"COUNTIF(C23:AG23,Accueil!$B$21)","v":0},{"$f":"COUNTIF(C23:AG23,Accueil!$B$22)","v":0},{"$f":"COUNTIF(C23:AG23,Accueil!$B$23)","v":0},{"$f":"COUNTIF(C23:AG23,Accueil!$B$24)","v":0},{"$f":"COUNTIF(C23:AG23,Accueil!$B$25)","v":0},{"$f":"COUNTIF(C23:AG23,Accueil!$B$26)","v":0},{"$f":"COUNTIF(C23:AG23,Accueil!$B$27)","v":0},{"$f":"COUNTIF(C23:AG23,Accueil!$B$28)","v":0},{"$f":"COUNTIF(C23:AG23,Accueil!$B$29)","v":0},{"$f":"COUNTIF(C23:AG23,Accueil!$B$30)","v":0},16,null,{"$f":"AI23 +Mai!BH23","v":0},{"$f":"AJ23+Mai!BI23","v":7},{"$f":"AK23+Mai!BJ23","v":17},{"$f":"AL23+Mai!BK23","v":0},{"$f":"AM23+Mai!BL23","v":0},{"$f":"AN23+Mai!BM23","v":0},{"$f":"AO23+Mai!BN23","v":0},{"$f":"AP23+Mai!BO23","v":0},{"$f":"AQ23+Mai!BP23","v":0},{"$f":"AR23+Mai!BQ23","v":0},{"$f":"AS23+Mai!BR23","v":0},{"$f":"AT23+Mai!BS23","v":0},{"$f":"AU23+Mai!BT23","v":0},{"$f":"AV23+Mai!BU23","v":0},{"$f":"AW23+Mai!BV23","v":0},{"$f":"AX23+Mai!BW23","v":0},{"$f":"AY23+Mai!BX23","v":0},{"$f":"AZ23+Mai!BY23","v":0},{"$f":"BA23+Mai!BZ23","v":2},{"$f":"BB23+Mai!CA23","v":0},{"$f":"BC23+Mai!CB23","v":0},{"$f":"BD23+Mai!CC23","v":0},{"$f":"BE23+Mai!CD23","v":0},{"$f":"BF23+Mai!CE23","v":24},null,{"$f":"Mai!CG23","v":0},0,0,null,{"$f":"Mai!CK23","v":0},0,0,null,{"$f":"Mai!CO23","v":0},0,0,null,{"$f":"Mai!CS23","v":0},0,0]
[{"$f":"Mai!A24","v":0},null,null,null,null,null,null,"MP","MP","MP","MP","MP","MP","MP","MP","MP","MP","MP","MP","MP","MP","MP","MP",null,null,null,null,null,null,null,null,null,null,null,{"$f":"COUNTIF(C24:AG24,Accueil!$B$8)","v":0},{"$f":"COUNTIF(C24:AG24,Accueil!$B$9)","v":0},{"$f":"COUNTIF(C24:AG24,Accueil!$B$10)","v":0},{"$f":"COUNTIF(C24:AG24,Accueil!$B$11)","v":16},{"$f":"COUNTIF(C24:AG24,Accueil!$B$12)","v":0},{"$f":"COUNTIF(C24:AG24,Accueil!$B$13)","v":0},{"$f":"COUNTIF(C24:AG24,Accueil!$B$14)","v":0},{"$f":"COUNTIF(C24:AG24,Accueil!$B$15)","v":0},{"$f":"COUNTIF(C24:AG24,Accueil!$B$16)","v":0},{"$f":"COUNTIF(C24:AG24,Accueil!$B$17)","v":0},{"$f":"COUNTIF(C24:AG24,Accueil!$B$18)","v":0},{"$f":"COUNTIF(C24:AG24,Accueil!$B$19)","v":0},{"$f":"COUNTIF(C24:AG24,Accueil!$B$20)","v":0},{"$f":"COUNTIF(C24:AG24,Accueil!$B$21)","v":0},{"$f":"COUNTIF(C24:AG24,Accueil!$B$22)","v":0},{"$f":"COUNTIF(C24:AG24,Accueil!$B$23)","v":0},{"$f":"COUNTIF(C24:AG24,Accueil!$B$24)","v":0},{"$f":"COUNTIF(C24:AG24,Accueil!$B$25)","v":0},{"$f":"COUNTIF(C24:AG24,Accueil!$B$26)","v":0},{"$f":"COUNTIF(C24:AG24,Accueil!$B$27)","v":0},{"$f":"COUNTIF(C24:AG24,Accueil!$B$28)","v":0},{"$f":"COUNTIF(C24:AG24,Accueil!$B$29)","v":0},{"$f":"COUNTIF(C24:AG24,Accueil!$B$30)","v":0},16,null,{"$f":"AI24 +Mai!BH24","v":0},{"$f":"AJ24+Mai!BI24","v":0},{"$f":"AK24+Mai!BJ24","v":0},{"$f":"AL24+Mai!BK24","v":16},{"$f":"AM24+Mai!BL24","v":0},{"$f":"AN24+Mai!BM24","v":0},{"$f":"AO24+Mai!BN24","v":0},{"$f":"AP24+Mai!BO24","v":0},{"$f":"AQ24+Mai!BP24","v":0},{"$f":"AR24+Mai!BQ24","v":0},{"$f":"AS24+Mai!BR24","v":0},{"$f":"AT24+Mai!BS24","v":0},{"$f":"AU24+Mai!BT24","v":0},{"$f":"AV24+Mai!BU24","v":0},{"$f":"AW24+Mai!BV24","v":0},{"$f":"AX24+Mai!BW24","v":0},{"$f":"AY24+Mai!BX24","v":0},{"$f":"AZ24+Mai!BY24","v":0},{"$f":"BA24+Mai!BZ24","v":0},{"$f":"BB24+Mai!CA24","v":0},{"$f":"BC24+Mai!CB24","v":0},{"$f":"BD24+Mai!CC24","v":0},{"$f":"BE24+Mai!CD24","v":0},{"$f":"BF24+Mai!CE24","v":16},null,{"$f":"Mai!CG24","v":0},0,0,null,{"$f":"Mai!CK24","v":0},0,0,null,{"$f":"Mai!CO24","v":0},0,0,null,{"$f":"Mai!CS24","v":0},0,0]
[{"$f":"Mai!A25","v":"Claudia"},null,null,null,null,null,null,null,null,null,null,null,null,null,null,null,null,null,null,null,null,null,null,null,null,null,null,null,null,null,null,null,null,null,{"$f":"COUNTIF(C25:AG25,Accueil!$B$8)","v":0},{"$f":"COUNTIF(C25:AG25,Accueil!$B$9)","v":0},{"$f":"COUNTIF(C25:AG25,Accueil!$B$10)","v":0},{"$f":"COUNTIF(C25:AG25,Accueil!$B$11)","v":0},{"$f":"COUNTIF(C25:AG25,Accueil!$B$12)","v":0},{"$f":"COUNTIF(C25:AG25,Accueil!$B$13)","v":0},{"$f":"COUNTIF(C25:AG25,Accueil!$B$14)","v":0},{"$f":"COUNTIF(C25:AG25,Accueil!$B$15)","v":0},{"$f":"COUNTIF(C25:AG25,Accueil!$B$16)","v":0},{"$f":"COUNTIF(C25:AG25,Accueil!$B$17)","v":0},{"$f":"COUNTIF(C25:AG25,Accueil!$B$18)","v":0},{"$f":"COUNTIF(C25:AG25,Accueil!$B$19)","v":0},{"$f":"COUNTIF(C25:AG25,Accueil!$B$20)","v":0},{"$f":"COUNTIF(C25:AG25,Accueil!$B$21)","v":0},{"$f":"COUNTIF(C25:AG25,Accueil!$B$22)","v":0},{"$f":"COUNTIF(C25:AG25,Accueil!$B$23)","v":0},{"$f":"COUNTIF(C25:AG25,Accueil!$B$24)","v":0},{"$f":"COUNTIF(C25:AG25,Accueil!$B$25)","v":0},{"$f":"COUNTIF(C25:AG25,Accueil!$B$26)","v":0},{"$f":"COUNTIF(C25:AG25,Accueil!$B$27)","v":0},{"$f":"COUNTIF(C25:AG25,Accueil!$B$28)","v":0},{"$f":"COUNTIF(C25:AG25,Accueil!$B$29)","v":0},{"$f":"COUNTIF(C25:AG25,Accueil!$B$30)","v":0},0,null,{"$f":"AI25 +Mai!BH25","v":1},{"$f":"AJ25+Mai!BI25","v":3},{"$f":"AK25+Mai!BJ25","v":1},{"$f":"AL25+Mai!BK25","v":0},{"$f":"AM25+Mai!BL25","v":0},{"$f":"AN25+Mai!BM25","v":0},{"$f":"AO25+Mai!BN25","v":0},{"$f":"AP25+Mai!BO25","v":0},{"$f":"AQ25+Mai!BP25","v":0},{"$f":"AR25+Mai!BQ25","v":0},{"$f":"AS25+Mai!BR25","v":0},{"$f":"AT25+Mai!BS25","v":0},{"$f":"AU25+Mai!BT25","v":0},{"$f":"AV25+Mai!BU25","v":0},{"$f":"AW25+Mai!BV25","v":0},{"$f":"AX25+Mai!BW25","v":9},{"$f":"AY25+Mai!BX25","v":0},{"$f":"AZ25+Mai!BY25","v":0},{"$f":"BA25+Mai!BZ25","v":0},{"$f":"BB25+Mai!CA25","v":0},{"$f":"BC25+Mai!CB25","v":0},{"$f":"BD25+Mai!CC25","v":0},{"$f":"BE25+Mai!CD25","v":0},{"$f":"BF25+Mai!CE25","v":5},null,{"$f":"Mai!CG25","v":0},9,-9,null,{"$f":"Mai!CK25","v":0},0,0,null,{"$f":"Mai!CO25","v":0},0,0,null,{"$f":"Mai!CS25","v":0},0,0]
[{"$f":"Mai!A26","v":"FRPI"},null,null,null,null,null,null,null,null,null,null,null,null,null,null,null,null,null,null,null,null,null,null,null,null,null,null,null,null,null,null,null,null,null,{"$f":"COUNTIF(C26:AG26,Accueil!$B$8)","v":0},{"$f":"COUNTIF(C26:AG26,Accueil!$B$9)","v":0},{"$f":"COUNTIF(C26:AG26,Accueil!$B$10)","v":0},{"$f":"COUNTIF(C26:AG26,Accueil!$B$11)","v":0},{"$f":"COUNTIF(C26:AG26,Accueil!$B$12)","v":0},{"$f":"COUNTIF(C26:AG26,Accueil!$B$13)","v":0},{"$f":"COUNTIF(C26:AG26,Accueil!$B$14)","v":0},{"$f":"COUNTIF(C26:AG26,Accueil!$B$15)","v":0},{"$f":"COUNTIF(C26:AG26,Accueil!$B$16)","v":0},{"$f":"COUNTIF(C26:AG26,Accueil!$B$17)","v":0},{"$f":"COUNTIF(C26:AG26,Accueil!$B$18)","v":0},{"$f":"COUNTIF(C26:AG26,Accueil!$B$19)","v":0},{"$f":"COUNTIF(C26:AG26,Accueil!$B$20)","v":0},{"$f":"COUNTIF(C26:AG26,Accueil!$B$21)","v":0},{"$f":"COUNTIF(C26:AG26,Accueil!$B$22)","v":0},{"$f":"COUNTIF(C26:AG26,Accueil!$B$23)","v":0},{"$f":"COUNTIF(C26:AG26,Accueil!$B$24)","v":0},{"$f":"COUNTIF(C26:AG26,Accueil!$B$25)","v":0},{"$f":"COUNTIF(C26:AG26,Accueil!$B$26)","v":0},{"$f":"COUNTIF(C26:AG26,Accueil!$B$27)","v":0},{"$f":"COUNTIF(C26:AG26,Accueil!$B$28)","v":0},{"$f":"COUNTIF(C26:AG26,Accueil!$B$29)","v":0},{"$f":"COUNTIF(C26:AG26,Accueil!$B$30)","v":0},0,null,{"$f":"AI26 +Mai!BH26","v":0},{"$f":"AJ26+Mai!BI26","v":0},{"$f":"AK26+Mai!BJ26","v":0},{"$f":"AL26+Mai!BK26","v":0},{"$f":"AM26+Mai!BL26","v":0},{"$f":"AN26+Mai!BM26","v":0},{"$f":"AO26+Mai!BN26","v":0},{"$f":"AP26+Mai!BO26","v":0},{"$f":"AQ26+Mai!BP26","v":0},{"$f":"AR26+Mai!BQ26","v":2},{"$f":"AS26+Mai!BR26","v":9},{"$f":"AT26+Mai!BS26","v":0},{"$f":"AU26+Mai!BT26","v":0},{"$f":"AV26+Mai!BU26","v":0},{"$f":"AW26+Mai!BV26","v":0},{"$f":"AX26+Mai!BW26","v":5},{"$f":"AY26+Mai!BX26","v":0},{"$f":"AZ26+Mai!BY26","v":0},{"$f":"BA26+Mai!BZ26","v":0},{"$f":"BB26+Mai!CA26","v":0},{"$f":"BC26+Mai!CB26","v":0},{"$f":"BD26+Mai!CC26","v":0},{"$f":"BE26+Mai!CD26","v":0},{"$f":"BF26+Mai!CE26","v":11},null,{"$f":"Mai!CG26","v":0},5,-5,null,{"$f":"Mai!CK26","v":0},0,0,null,{"$f":"Mai!CO26","v":0},0,0,null,{"$f":"Mai!CS26","v":0},0,0]
[{"$f":"Mai!A27","v":0},null,null,null,null,null,null,null,null,null,null,null,null,null,null,null,null,null,null,null,null,null,null,null,null,null,null,null,null,null,null,null,null,null,{"$f":"COUNTIF(C27:AG27,Accueil!$B$8)","v":0},{"$f":"COUNTIF(C27:AG27,Accueil!$B$9)","v":0},{"$f":"COUNTIF(C27:AG27,Accueil!$B$10)","v":0},{"$f":"COUNTIF(C27:AG27,Accueil!$B$11)","v":0},{"$f":"COUNTIF(C27:AG27,Accueil!$B$12)","v":0},{"$f":"COUNTIF(C27:AG27,Accueil!$B$13)","v":0},{"$f":"COUNTIF(C27:AG27,Accueil!$B$14)","v":0},{"$f":"COUNTIF(C27:AG27,Accueil!$B$15)","v":0},{"$f":"COUNTIF(C27:AG27,Accueil!$B$16)","v":0},{"$f":"COUNTIF(C27:AG27,Accueil!$B$17)","v":0},{"$f":"COUNTIF(C27:AG27,Accueil!$B$18)","v":0},{"$f":"COUNTIF(C27:AG27,Accueil!$B$19)","v":0},{"$f":"COUNTIF(C27:AG27,Accueil!$B$20)","v":0},{"$f":"COUNTIF(C27:AG27,Accueil!$B$21)","v":0},{"$f":"COUNTIF(C27:AG27,Accueil!$B$22)","v":0},{"$f":"COUNTIF(C27:AG27,Accueil!$B$23)","v":0},{"$f":"COUNTIF(C27:AG27,Accueil!$B$24)","v":0},{"$f":"COUNTIF(C27:AG27,Accueil!$B$25)","v":0},{"$f":"COUNTIF(C27:AG27,Accueil!$B$26)","v":0},{"$f":"COUNTIF(C27:AG27,Accueil!$B$27)","v":0},{"$f":"COUNTIF(C27:AG27,Accueil!$B$28)","v":0},{"$f":"COUNTIF(C27:AG27,Accueil!$B$29)","v":0},{"$f":"COUNTIF(C27:AG27,Accueil!$B$30)","v":0},0,null,{"$f":"AI27 +Mai!BH27","v":0},{"$f":"AJ27+Mai!BI27","v":0},{"$f":"AK27+Mai!BJ27","v":{"$error":"#VALUE!"}},{"$f":"AL27+Mai!BK27","v":0},{"$f":"AM27+Mai!BL27","v":0},{"$f":"AN27+Mai!BM27","v":0},{"$f":"AO27+Mai!BN27","v":0},{"$f":"AP27+Mai!BO27","v":{"$error":"#VALUE!"}},{"$f":"AQ27+Mai!BP27","v":0},{"$f":"AR27+Mai!BQ27","v":0},{"$f":"AS27+Mai!BR27","v":0},{"$f":"AT27+Mai!BS27","v":0},{"$f":"AU27+Mai!BT27","v":0},{"$f":"AV27+Mai!BU27","v":0},{"$f":"AW27+Mai!BV27","v":0},{"$f":"AX27+Mai!BW27","v":0},{"$f":"AY27+Mai!BX27","v":0},{"$f":"AZ27+Mai!BY27","v":0},{"$f":"BA27+Mai!BZ27","v":0},{"$f":"BB27+Mai!CA27","v":0},{"$f":"BC27+Mai!CB27","v":0},{"$f":"BD27+Mai!CC27","v":0},{"$f":"BE27+Mai!CD27","v":0},{"$f":"BF27+Mai!CE27","v":0},null,{"$f":"Mai!CG27","v":0},0,0,null,{"$f":"Mai!CK27","v":0},0,0,null,{"$f":"Mai!CO27","v":0},0,0,null,{"$f":"Mai!CS27","v":0},0,0]
[{"$f":"Mai!A28","v":"Frédéric"},null,null,null,null,null,null,null,"Nuit",null,null,null,null,null,null,null,null,null,null,null,null,null,"Nuit",null,null,null,null,"Nuit",null,null,null,null,null,null,{"$f":"COUNTIF(C28:AG28,Accueil!$B$8)","v":0},{"$f":"COUNTIF(C28:AG28,Accueil!$B$9)","v":0},{"$f":"COUNTIF(C28:AG28,Accueil!$B$10)","v":0},{"$f":"COUNTIF(C28:AG28,Accueil!$B$11)","v":0},{"$f":"COUNTIF(C28:AG28,Accueil!$B$12)","v":0},{"$f":"COUNTIF(C28:AG28,Accueil!$B$13)","v":0},{"$f":"COUNTIF(C28:AG28,Accueil!$B$14)","v":0},{"$f":"COUNTIF(C28:AG28,Accueil!$B$15)","v":0},{"$f":"COUNTIF(C28:AG28,Accueil!$B$16)","v":3},{"$f":"COUNTIF(C28:AG28,Accueil!$B$17)","v":0},{"$f":"COUNTIF(C28:AG28,Accueil!$B$18)","v":0},{"$f":"COUNTIF(C28:AG28,Accueil!$B$19)","v":0},{"$f":"COUNTIF(C28:AG28,Accueil!$B$20)","v":0},{"$f":"COUNTIF(C28:AG28,Accueil!$B$21)","v":0},{"$f":"COUNTIF(C28:AG28,Accueil!$B$22)","v":0},{"$f":"COUNTIF(C28:AG28,Accueil!$B$23)","v":0},{"$f":"COUNTIF(C28:AG28,Accueil!$B$24)","v":0},{"$f":"COUNTIF(C28:AG28,Accueil!$B$25)","v":0},{"$f":"COUNTIF(C28:AG28,Accueil!$B$26)","v":0},{"$f":"COUNTIF(C28:AG28,Accueil!$B$27)","v":0},{"$f":"COUNTIF(C28:AG28,Accueil!$B$28)","v":0},{"$f":"COUNTIF(C28:AG28,Accueil!$B$29)","v":0},{"$f":"COUNTIF(C28:AG28,Accueil!$B$30)","v":0},3,null,{"$f":"AI28 +Mai!BH28","v":{"$error":"#VALUE!"}},{"$f":"AJ28+Mai!BI28","v":{"$error":"#VALUE!"}},{"$f":"AK28+Mai!BJ28","v":0},{"$f":"AL28+Mai!BK28","v":{"$error":"#VALUE!"}},{"$f":"AM28+Mai!BL28","v":0},{"$f":"AN28+Mai!BM28","v":{"$error":"#VALUE!"}},{"$f":"AO28+Mai!BN28","v":{"$error":"#VALUE!"}},{"$f":"AP28+Mai!BO28","v":0},{"$f":"AQ28+Mai!BP28","v":27},{"$f":"AR28+Mai!BQ28","v":0},{"$f":"AS28+Mai!BR28","v":0},{"$f":"AT28+Mai!BS28","v":0},{"$f":"AU28+Mai!BT28","v":0},{"$f":"AV28+Mai!BU28","v":0},{"$f":"AW28+Mai!BV28","v":0},{"$f":"AX28+Mai!BW28","v":0},{"$f":"AY28+Mai!BX28","v":0},{"$f":"AZ28+Mai!BY28","v":0},{"$f":"BA28+Mai!BZ28","v":0},{"$f":"BB28+Mai!CA28","v":0},{"$f":"BC28+Mai!CB28","v":0},{"$f":"BD28+Mai!CC28","v":0},{"$f":"BE28+Mai!CD28","v":0},{"$f":"BF28+Mai!CE28","v":27},null,{"$f":"Mai!CG28","v":0},0,0,null,{"$f":"Mai!CK28","v":0},0,0,null,{"$f":"Mai!CO28","v":0},0,0,null,{"$f":"Mai!CS28","v":0},0,0]
[{"$f":"Mai!A29","v":"Ibrahim"},null,null,"Nuit","Nuit",null,null,null,null,null,null,"Nuit","Nuit",null,null,null,"Nuit","Nuit",null,null,"Nuit","Nuit",null,null,null,null,null,null,null,null,"Nuit","Nuit",null,null,{"$f":"COUNTIF(C29:AG29,Accueil!$B$8)","v":0},{"$f":"COUNTIF(C29:AG29,Accueil!$B$9)","v":0},{"$f":"COUNTIF(C29:AG29,Accueil!$B$10)","v":0},{"$f":"COUNTIF(C29:AG29,Accueil!$B$11)","v":0},{"$f":"COUNTIF(C29:AG29,Accueil!$B$12)","v":0},{"$f":"COUNTIF(C29:AG29,Accueil!$B$13)","v":0},{"$f":"COUNTIF(C29:AG29,Accueil!$B$14)","v":0},{"$f":"COUNTIF(C29:AG29,Accueil!$B$15)","v":0},{"$f":"COUNTIF(C29:AG29,Accueil!$B$16)","v":10},{"$f":"COUNTIF(C29:AG29,Accueil!$B$17)","v":0},{"$f":"COUNTIF(C29:AG29,Accueil!$B$18)","v":0},{"$f":"COUNTIF(C29:AG29,Accueil!$B$19)","v":0},{"$f":"COUNTIF(C29:AG29,Accueil!$B$20)","v":0},{"$f":"COUNTIF(C29:AG29,Accueil!$B$21)","v":0},{"$f":"COUNTIF(C29:AG29,Accueil!$B$22)","v":0},{"$f":"COUNTIF(C29:AG29,Accueil!$B$23)","v":0},{"$f":"COUNTIF(C29:AG29,Accueil!$B$24)","v":0},{"$f":"COUNTIF(C29:AG29,Accueil!$B$25)","v":0},{"$f":"COUNTIF(C29:AG29,Accueil!$B$26)","v":0},{"$f":"COUNTIF(C29:AG29,Accueil!$B$27)","v":0},{"$f":"COUNTIF(C29:AG29,Accueil!$B$28)","v":0},{"$f":"COUNTIF(C29:AG29,Accueil!$B$29)","v":0},{"$f":"COUNTIF(C29:AG29,Accueil!$B$30)","v":0},10,null,{"$f":"AI29 +Mai!BH29","v":0},{"$f":"AJ29+Mai!BI29","v":0},{"$f":"AK29+Mai!BJ29","v":0},{"$f":"AL29+Mai!BK29","v":0},{"$f":"AM29+Mai!BL29","v":{"$error":"#VALUE!"}},{"$f":"AN29+Mai!BM29","v":0},{"$f":"AO29+Mai!BN29","v":0},{"$f":"AP29+Mai!BO29","v":0},{"$f":"AQ29+Mai!BP29","v":59},{"$f":"AR29+Mai!BQ29","v":0},{"$f":"AS29+Mai!BR29","v":0},{"$f":"AT29+Mai!BS29","v":0},{"$f":"AU29+Mai!BT29","v":0},{"$f":"AV29+Mai!BU29","v":0},{"$f":"AW29+Mai!BV29","v":0},{"$f":"AX29+Mai!BW29","v":5},{"$f":"AY29+Mai!BX29","v":0},{"$f":"AZ29+Mai!BY29","v":0},{"$f":"BA29+Mai!BZ29","v":0},{"$f":"BB29+Mai!CA29","v":0},{"$f":"BC29+Mai!CB29","v":0},{"$f":"BD29+Mai!CC29","v":0},{"$f":"BE29+Mai!CD29","v":0},{"$f":"BF29+Mai!CE29","v":59},null,{"$f":"Mai!CG29","v":0},5,-5,null,{"$f":"Mai!CK29","v":0},0,0,null,{"$f":"Mai!CO29","v":0},0,0,null,{"$f":"Mai!CS29","v":0},0,0]
[{"$f":"Mai!A30","v":"Julien"},null,"Nuit",null,null,null,null,null,null,"Nuit","Nuit",null,null,null,null,null,null,null,null,"Nuit",null,null,null,null,null,null,"Nuit",null,null,null,null,null,null,null,{"$f":"COUNTIF(C30:AG30,Accueil!$B$8)","v":0},{"$f":"COUNTIF(C30:AG30,Accueil!$B$9)","v":0},{"$f":"COUNTIF(C30:AG30,Accueil!$B$10)","v":0},{"$f":"COUNTIF(C30:AG30,Accueil!$B$11)","v":0},{"$f":"COUNTIF(C30:AG30,Accueil!$B$12)","v":0},{"$f":"COUNTIF(C30:AG30,Accueil!$B$13)","v":0},{"$f":"COUNTIF(C30:AG30,Accueil!$B$14)","v":0},{"$f":"COUNTIF(C30:AG30,Accueil!$B$15)","v":0},{"$f":"COUNTIF(C30:AG30,Accueil!$B$16)","v":5},{"$f":"COUNTIF(C30:AG30,Accueil!$B$17)","v":0},{"$f":"COUNTIF(C30:AG30,Accueil!$B$18)","v":0},{"$f":"COUNTIF(C30:AG30,Accueil!$B$19)","v":0},{"$f":"COUNTIF(C30:AG30,Accueil!$B$20)","v":0},{"$f":"COUNTIF(C30:AG30,Accueil!$B$21)","v":0},{"$f":"COUNTIF(C30:AG30,Accueil!$B$22)","v":0},{"$f":"COUNTIF(C30:AG30,Accueil!$B$23)","v":0},{"$f":"COUNTIF(C30:AG30,Accueil!$B$24)","v":0},{"$f":"COUNTIF(C30:AG30,Accueil!$B$25)","v":0},{"$f":"COUNTIF(C30:AG30,Accueil!$B$26)","v":0},{"$f":"COUNTIF(C30:AG30,Accueil!$B$27)","v":0},{"$f":"COUNTIF(C30:AG30,Accueil!$B$28)","v":0},{"$f":"COUNTIF(C30:AG30,Accueil!$B$29)","v":0},{"$f":"COUNTIF(C30:AG30,Accueil!$B$30)","v":0},5,null,{"$f":"AI30 +Mai!BH30","v":0},{"$f":"AJ30+Mai!BI30","v":{"$error":"#VALUE!"}},{"$f":"AK30+Mai!BJ30","v":{"$error":"#VALUE!"}},{"$f":"AL30+Mai!BK30","v":{"$error":"#VALUE!"}},{"$f":"AM30+Mai!BL30","v":{"$error":"#VALUE!"}},{"$f":"AN30+Mai!BM30","v":{"$error":"#VALUE!"}},{"$f":"AO30+Mai!BN30","v":0},{"$f":"AP30+Mai!BO30","v":0},{"$f":"AQ30+Mai!BP30","v":34},{"$f":"AR30+Mai!BQ30","v":0},{"$f":"AS30+Mai!BR30","v":0},{"$f":"AT30+Mai!BS30","v":0},{"$f":"AU30+Mai!BT30","v":0},{"$f":"AV30+Mai!BU30","v":0},{"$f":"AW30+Mai!BV30","v":0},{"$f":"AX30+Mai!BW30","v":6},{"$f":"AY30+Mai!BX30","v":0},{"$f":"AZ30+Mai!BY30","v":0},{"$f":"BA30+Mai!BZ30","v":0},{"$f":"BB30+Mai!CA30","v":0},{"$f":"BC30+Mai!CB30","v":0},{"$f":"BD30+Mai!CC30","v":0},{"$f":"BE30+Mai!CD30","v":0},{"$f":"BF30+Mai!CE30","v":34},null,{"$f":"Mai!CG30","v":0},6,-6,null,{"$f":"Mai!CK30","v":0},0,0,null,{"$f":"Mai!CO30","v":0},0,0,null,{"$f":"Mai!CS30","v":0},0,0]
[{"$f":"Mai!A31","v":"Mario"},null,null,null,null,null,"Nuit","Nuit",null,null,null,null,null,"Nuit",null,null,null,null,"Nuit",null,null,null,null,"Nuit",null,null,null,null,"Nuit","Nuit",null,null,null,null,{"$f":"COUNTIF(C31:AG31,Accueil!$B$8)","v":0},{"$f":"COUNTIF(C31:AG31,Accueil!$B$9)","v":0},{"$f":"COUNTIF(C31:AG31,Accueil!$B$10)","v":0},{"$f":"COUNTIF(C31:AG31,Accueil!$B$11)","v":0},{"$f":"COUNTIF(C31:AG31,Accueil!$B$12)","v":0},{"$f":"COUNTIF(C31:AG31,Accueil!$B$13)","v":0},{"$f":"COUNTIF(C31:AG31,Accueil!$B$14)","v":0},{"$f":"COUNTIF(C31:AG31,Accueil!$B$15)","v":0},{"$f":"COUNTIF(C31:AG31,Accueil!$B$16)","v":7},{"$f":"COUNTIF(C31:AG31,Accueil!$B$17)","v":0},{"$f":"COUNTIF(C31:AG31,Accueil!$B$18)","v":0},{"$f":"COUNTIF(C31:AG31,Accueil!$B$19)","v":0},{"$f":"COUNTIF(C31:AG31,Accueil!$B$20)","v":0},{"$f":"COUNTIF(C31:AG31,Accueil!$B$21)","v":0},{"$f":"COUNTIF(C31:AG31,Accueil!$B$22)","v":0},{"$f":"COUNTIF(C31:AG31,Accueil!$B$23)","v":0},{"$f":"COUNTIF(C31:AG31,Accueil!$B$24)","v":0},{"$f":"COUNTIF(C31:AG31,Accueil!$B$25)","v":0},{"$f":"COUNTIF(C31:AG31,Accueil!$B$26)","v":0},{"$f":"COUNTIF(C31:AG31,Accueil!$B$27)","v":0},{"$f":"COUNTIF(C31:AG31,Accueil!$B$28)","v":0},{"$f":"COUNTIF(C31:AG31,Accueil!$B$29)","v":0},{"$f":"COUNTIF(C31:AG31,Accueil!$B$30)","v":0},7,null,{"$f":"AI31 +Mai!BH31","v":0},{"$f":"AJ31+Mai!BI31","v":0},{"$f":"AK31+Mai!BJ31","v":0},{"$f":"AL31+Mai!BK31","v":0},{"$f":"AM31+Mai!BL31","v":0},{"$f":"AN31+Mai!BM31","v":0},{"$f":"AO31+Mai!BN31","v":0},{"$f":"AP31+Mai!BO31","v":0},{"$f":"AQ31+Mai!BP31","v":16},{"$f":"AR31+Mai!BQ31","v":0},{"$f":"AS31+Mai!BR31","v":0},{"$f":"AT31+Mai!BS31","v":0},{"$f":"AU31+Mai!BT31","v":26},{"$f":"AV31+Mai!BU31","v":0},{"$f":"AW31+Mai!BV31","v":0},{"$f":"AX31+Mai!BW31","v":59},{"$f":"AY31+Mai!BX31","v":0},{"$f":"AZ31+Mai!BY31","v":0},{"$f":"BA31+Mai!BZ31","v":0},{"$f":"BB31+Mai!CA31","v":0},{"$f":"BC31+Mai!CB31","v":0},{"$f":"BD31+Mai!CC31","v":0},{"$f":"BE31+Mai!CD31","v":0},{"$f":"BF31+Mai!CE31","v":16},null,{"$f":"Mai!CG31","v":0},59,-59,null,{"$f":"Mai!CK31","v":0},0,0,null,{"$f":"Mai!CO31","v":0},0,0,null,{"$f":"Mai!CS31","v":0},0,0]
[{"$f":"Mai!A32","v":"Hamid"},null,null,null,null,"Nuit",null,null,null,null,null,null,null,null,"Nuit","Nuit",null,null,null,null,null,null,null,null,"Nuit","Nuit",null,null,null,null,null,null,null,null,{"$f":"COUNTIF(C32:AG32,Accueil!$B$8)","v":0},{"$f":"COUNTIF(C32:AG32,Accueil!$B$9)","v":0},{"$f":"COUNTIF(C32:AG32,Accueil!$B$10)","v":0},{"$f":"COUNTIF(C32:AG32,Accueil!$B$11)","v":0},{"$f":"COUNTIF(C32:AG32,Accueil!$B$12)","v":0},{"$f":"COUNTIF(C32:AG32,Accueil!$B$13)","v":0},{"$f":"COUNTIF(C32:AG32,Accueil!$B$14)","v":0},{"$f":"COUNTIF(C32:AG32,Accueil!$B$15)","v":0},{"$f":"COUNTIF(C32:AG32,Accueil!$B$16)","v":5},{"$f":"COUNTIF(C32:AG32,Accueil!$B$17)","v":0},{"$f":"COUNTIF(C32:AG32,Accueil!$B$18)","v":0},{"$f":"COUNTIF(C32:AG32,Accueil!$B$19)","v":0},{"$f":"COUNTIF(C32:AG32,Accueil!$B$20)","v":0},{"$f":"COUNTIF(C32:AG32,Accueil!$B$21)","v":0},{"$f":"COUNTIF(C32:AG32,Accueil!$B$22)","v":0},{"$f":"COUNTIF(C32:AG32,Accueil!$B$23)","v":0},{"$f":"COUNTIF(C32:AG32,Accueil!$B$24)","v":0},{"$f":"COUNTIF(C32:AG32,Accueil!$B$25)","v":0},{"$f":"COUNTIF(C32:AG32,Accueil!$B$26)","v":0},{"$f":"COUNTIF(C32:AG32,Accueil!$B$27)","v":0},{"$f":"COUNTIF(C32:AG32,Accueil!$B$28)","v":0},{"$f":"COUNTIF(C32:AG32,Accueil!$B$29)","v":0},{"$f":"COUNTIF(C32:AG32,Accueil!$B$30)","v":0},5,null,{"$f":"AI32 +Mai!BH32","v":0},{"$f":"AJ32+Mai!BI32","v":0},{"$f":"AK32+Mai!BJ32","v":0},{"$f":"AL32+Mai!BK32","v":0},{"$f":"AM32+Mai!BL32","v":0},{"$f":"AN32+Mai!BM32","v":0},{"$f":"AO32+Mai!BN32","v":0},{"$f":"AP32+Mai!BO32","v":0},{"$f":"AQ32+Mai!BP32","v":37},{"$f":"AR32+Mai!BQ32","v":0},{"$f":"AS32+Mai!BR32","v":0},{"$f":"AT32+Mai!BS32","v":0},{"$f":"AU32+Mai!BT32","v":0},{"$f":"AV32+Mai!BU32","v":10},{"$f":"AW32+Mai!BV32","v":10},{"$f":"AX32+Mai!BW32","v":0},{"$f":"AY32+Mai!BX32","v":0},{"$f":"AZ32+Mai!BY32","v":0},{"$f":"BA32+Mai!BZ32","v":0},{"$f":"BB32+Mai!CA32","v":0},{"$f":"BC32+Mai!CB32","v":0},{"$f":"BD32+Mai!CC32","v":0},{"$f":"BE32+Mai!CD32","v":10},{"$f":"BF32+Mai!CE32","v":42},null,{"$f":"Mai!CG32","v":0},5,-5,null,{"$f":"Mai!CK32","v":0},0,0,null,{"$f":"Mai!CO32","v":0},0,0,null,{"$f":"Mai!CS32","v":0},10,-10]
[null,{"$f":" \"Effectif minimum \" & Accueil!$B$8","v":"Effectif minimum M1"},{"$f":"COUNTIF(C3:C32,Accueil!$B$8)","v":1},{"$f":"COUNTIF(D3:D32,Accueil!$B$8)","v":0},{"$f":"COUNTIF(E3:E32,Accueil!$B$8)","v":2},{"$f":"COUNTIF(F3:F32,Accueil!$B$8)","v":0},{"$f":"COUNTIF(G3:G32,Accueil!$B$8)","v":0},{"$f":"COUNTIF(H3:H32,Accueil!$B$8)","v":2},{"$f":"COUNTIF(I3:I32,Accueil!$B$8)","v":2},{"$f":"COUNTIF(J3:J32,Accueil!$B$8)","v":0},{"$f":"COUNTIF(K3:K32,Accueil!$B$8)","v":1},{"$f":"COUNTIF(L3:L32,Accueil!$B$8)","v":2},{"$f":"COUNTIF(M3:M32,Accueil!$B$8)","v":0},{"$f":"COUNTIF(N3:N32,Accueil!$B$8)","v":0},{"$f":"COUNTIF(O3:O32,Accueil!$B$8)","v":2},{"$f":"COUNTIF(P3:P32,Accueil!$B$8)","v":3},{"$f":"COUNTIF(Q3:Q32,Accueil!$B$8)","v":0},{"$f":"COUNTIF(R3:R32,Accueil!$B$8)","v":1},{"$f":"COUNTIF(S3:S32,Accueil!$B$8)","v":3},{"$f":"COUNTIF(T3:T32,Accueil!$B$8)","v":0},{"$f":"COUNTIF(U3:U32,Accueil!$B$8)","v":0},{"$f":"COUNTIF(V3:V32,Accueil!$B$8)","v":1},{"$f":"COUNTIF(W3:W32,Accueil!$B$8)","v":3},{"$f":"COUNTIF(X3:X32,Accueil!$B$8)","v":0},{"$f":"COUNTIF(Y3:Y32,Accueil!$B$8)","v":1},{"$f":"COUNTIF(Z3:Z32,Accueil!$B$8)","v":3},{"$f":"COUNTIF(AA3:AA32,Accueil!$B$8)","v":0},{"$f":"COUNTIF(AB3:AB32,Accueil!$B$8)","v":0},{"$f":"COUNTIF(AC3:AC32,Accueil!$B$8)","v":3},{"$f":"COUNTIF(AD3:AD32,Accueil!$B$8)","v":3},{"$f":"COUNTIF(AE3:AE32,Accueil!$B$8)","v":1},{"$f":"COUNTIF(AF3:AF32,Accueil!$B$8)","v":0},{"$f":"COUNTIF(AG3:AG32,Accueil!$B$8)","v":0},null,"Jours travaillés",null,null,null,null,null,null,null,null,null,null,null,"Jours non travaillés",null,null,null,null,null,null,null,null,null,null,null,null,"Jours travaillés",null,null,null,null,null,null,null,null,null,null,null,"Jours non travaillés"]
[null,{"$f":" \"Effectif minimum \" & Accueil!$B$9","v":"Effectif minimum M2"},{"$f":"COUNTIF(C3:C32,Accueil!$B$9)","v":0},{"$f":"COUNTIF(D3:D32,Accueil!$B$9)","v":0},{"$f":"COUNTIF(E3:E32,Accueil!$B$9)","v":0},{"$f":"COUNTIF(F3:F32,Accueil!$B$9)","v":0},{"$f":"COUNTIF(G3:G32,Accueil!$B$9)","v":0},{"$f":"COUNTIF(H3:H32,Accueil!$B$9)","v":0},{"$f":"COUNTIF(I3:I32,Accueil!$B$9)","v":4},{"$f":"COUNTIF(J3:J32,Accueil!$B$9)","v":0},{"$f":"COUNTIF(K3:K32,Accueil!$B$9)","v":0},{"$f":"COUNTIF(L3:L32,Accueil!$B$9)","v":0},{"$f":"COUNTIF(M3:M32,Accueil!$B$9)","v":0},{"$f":"COUNTIF(N3:N32,Accueil!$B$9)","v":0},{"$f":"COUNTIF(O3:O32,Accueil!$B$9)","v":0},{"$f":"COUNTIF(P3:P32,Accueil!$B$9)","v":3},{"$f":"COUNTIF(Q3:Q32,Accueil!$B$9)","v":0},{"$f":"COUNTIF(R3:R32,Accueil!$B$9)","v":0},{"$f":"COUNTIF(S3:S32,Accueil!$B$9)","v":0},{"$f":"COUNTIF(T3:T32,Accueil!$B$9)","v":0},{"$f":"COUNTIF(U3:U32,Accueil!$B$9)","v":0},{"$f":"COUNTIF(V3:V32,Accueil!$B$9)","v":0},{"$f":"COUNTIF(W3:W32,Accueil!$B$9)","v":4},{"$f":"COUNTIF(X3:X32,Accueil!$B$9)","v":0},{"$f":"COUNTIF(Y3:Y32,Accueil!$B$9)","v":0},{"$f":"COUNTIF(Z3:Z32,Accueil!$B$9)","v":0},{"$f":"COUNTIF(AA3:AA32,Accueil!$B$9)","v":0},{"$f":"COUNTIF(AB3:AB32,Accueil!$B$9)","v":0},{"$f":"COUNTIF(AC3:AC32,Accueil!$B$9)","v":0},{"$f":"COUNTIF(AD3:AD32,Accueil!$B$9)","v":4},{"$f":"COUNTIF(AE3:AE32,Accueil!$B$9)","v":0},{"$f":"COUNTIF(AF3:AF32,Accueil!$B$9)","v":0},{"$f":"COUNTIF(AG3:AG32,Accueil!$B$9)","v":0}]
[null,{"$f":"\"Effectif minimum \" & Accueil!$B$10","v":"Effectif minimum M3"},{"$f":"COUNTIF(C3:C32,Accueil!$B$10)","v":0},{"$f":"COUNTIF(D3:D32,Accueil!$B$10)","v":2},{"$f":"COUNTIF(E3:E32,Accueil!$B$10)","v":0},{"$f":"COUNTIF(F3:F32,Accueil!$B$10)","v":0},{"$f":"COUNTIF(G3:G32,Accueil!$B$10)","v":0},{"$f":"COUNTIF(H3:H32,Accueil!$B$10)","v":1},{"$f":"COUNTIF(I3:I32,Accueil!$B$10)","v":1},{"$f":"COUNTIF(J3:J32,Accueil!$B$10)","v":1},{"$f":"COUNTIF(K3:K32,Accueil!$B$10)","v":1},{"$f":"COUNTIF(L3:L32,Accueil!$B$10)","v":1},{"$f":"COUNTIF(M3:M32,Accueil!$B$10)","v":1},{"$f":"COUNTIF(N3:N32,Accueil!$B$10)","v":1},{"$f":"COUNTIF(O3:O32,Accueil!$B$10)","v":1},{"$f":"COUNTIF(P3:P32,Accueil!$B$10)","v":1},{"$f":"COUNTIF(Q3:Q32,Accueil!$B$10)","v":2},{"$f":"COUNTIF(R3:R32,Accueil!$B$10)","v":2},{"$f":"COUNTIF(S3:S32,Accueil!$B$10)","v":1},{"$f":"COUNTIF(T3:T32,Accueil!$B$10)","v":1},{"$f":"COUNTIF(U3:U32,Accueil!$B$10)","v":1},{"$f":"COUNTIF(V3:V32,Accueil!$B$10)","v":2},{"$f":"COUNTIF(W3:W32,Accueil!$B$10)","v":1},{"$f":"COUNTIF(X3:X32,Accueil!$B$10)","v":0},{"$f":"COUNTIF(Y3:Y32,Accueil!$B$10)","v":1},{"$f":"COUNTIF(Z3:Z32,Accueil!$B$10)","v":0},{"$f":"COUNTIF(AA3:AA32,Accueil!$B$10)","v":0},{"$f":"COUNTIF(AB3:AB32,Accueil!$B$10)","v":0},{"$f":"COUNTIF(AC3:AC32,Accueil!$B$10)","v":1},{"$f":"COUNTIF(AD3:AD32,Accueil!$B$10)","v":0},{"$f":"COUNTIF(AE3:AE32,Accueil!$B$10)","v":1},{"$f":"COUNTIF(AF3:AF32,Accueil!$B$10)","v":2},{"$f":"COUNTIF(AG3:AG32,Accueil!$B$10)","v":0}]
[2,"MATIN",{"$f":"C33+C34+C35+C37","v":3},{"$f":"D33+D34+D35+D37","v":2},3,2,2,5,10,5,4,5,4,3,5,10,5,4,6,4,4,5,11,3,2,4,2,2,5,9,4,2,0]
[null,{"$f":"\"Effectif minimum \" & Accueil!$B$11","v":"Effectif minimum MP"},{"$f":"COUNTIF(C3:C32,Accueil!$B$11)","v":2},{"$f":"COUNTIF(D3:D32,Accueil!$B$11)","v":0},{"$f":"COUNTIF(E3:E32,Accueil!$B$11)","v":1},{"$f":"COUNTIF(F3:F32,Accueil!$B$11)","v":2},{"$f":"COUNTIF(G3:G32,Accueil!$B$11)","v":2},{"$f":"COUNTIF(H3:H32,Accueil!$B$11)","v":2},{"$f":"COUNTIF(I3:I32,Accueil!$B$11)","v":3},{"$f":"COUNTIF(J3:J32,Accueil!$B$11)","v":4},{"$f":"COUNTIF(K3:K32,Accueil!$B$11)","v":2},{"$f":"COUNTIF(L3:L32,Accueil!$B$11)","v":2},{"$f":"COUNTIF(M3:M32,Accueil!$B$11)","v":3},{"$f":"COUNTIF(N3:N32,Accueil!$B$11)","v":2},{"$f":"COUNTIF(O3:O32,Accueil!$B$11)","v":2},{"$f":"COUNTIF(P3:P32,Accueil!$B$11)","v":3},{"$f":"COUNTIF(Q3:Q32,Accueil!$B$11)","v":3},{"$f":"COUNTIF(R3:R32,Accueil!$B$11)","v":1},{"$f":"COUNTIF(S3:S32,Accueil!$B$11)","v":2},{"$f":"COUNTIF(T3:T32,Accueil!$B$11)","v":3},{"$f":"COUNTIF(U3:U32,Accueil!$B$11)","v":3},{"$f":"COUNTIF(V3:V32,Accueil!$B$11)","v":2},{"$f":"COUNTIF(W3:W32,Accueil!$B$11)","v":3},{"$f":"COUNTIF(X3:X32,Accueil!$B$11)","v":3},{"$f":"COUNTIF(Y3:Y32,Accueil!$B$11)","v":0},{"$f":"COUNTIF(Z3:Z32,Accueil!$B$11)","v":1},{"$f":"COUNTIF(AA3:AA32,Accueil!$B$11)","v":2},{"$f":"COUNTIF(AB3:AB32,Accueil!$B$11)","v":2},{"$f":"COUNTIF(AC3:AC32,Accueil!$B$11)","v":1},{"$f":"COUNTIF(AD3:AD32,Accueil!$B$11)","v":2},{"$f":"COUNTIF(AE3:AE32,Accueil!$B$11)","v":2},{"$f":"COUNTIF(AF3:AF32,Accueil!$B$11)","v":0},{"$f":"COUNTIF(AG3:AG32,Accueil!$B$11)","v":0}]
[null,{"$f":"\"Effectif minimum \" & Accueil!$B$12","v":"Effectif minimum AP1"},{"$f":"COUNTIF(C3:C32,Accueil!$B$12)","v":0},{"$f":"COUNTIF(D3:D32,Accueil!$B$12)","v":2},{"$f":"COUNTIF(E3:E32,Accueil!$B$12)","v":1},{"$f":"COUNTIF(F3:F32,Accueil!$B$12)","v":0},{"$f":"COUNTIF(G3:G32,Accueil!$B$12)","v":0},{"$f":"COUNTIF(H3:H32,Accueil!$B$12)","v":0},{"$f":"COUNTIF(I3:I32,Accueil!$B$12)","v":0},{"$f":"COUNTIF(J3:J32,Accueil!$B$12)","v":0},{"$f":"COUNTIF(K3:K32,Accueil!$B$12)","v":1},{"$f":"COUNTIF(L3:L32,Accueil!$B$12)","v":1},{"$f":"COUNTIF(M3:M32,Accueil!$B$12)","v":0},{"$f":"COUNTIF(N3:N32,Accueil!$B$12)","v":0},{"$f":"COUNTIF(O3:O32,Accueil!$B$12)","v":0},{"$f":"COUNTIF(P3:P32,Accueil!$B$12)","v":0},{"$f":"COUNTIF(Q3:Q32,Accueil!$B$12)","v":0},{"$f":"COUNTIF(R3:R32,Accueil!$B$12)","v":2},{"$f":"COUNTIF(S3:S32,Accueil!$B$12)","v":0},{"$f":"COUNTIF(T3:T32,Accueil!$B$12)","v":0},{"$f":"COUNTIF(U3:U32,Accueil!$B$12)","v":0},{"$f":"COUNTIF(V3:V32,Accueil!$B$12)","v":0},{"$f":"COUNTIF(W3:W32,Accueil!$B$12)","v":0},{"$f":"COUNTIF(X3:X32,Accueil!$B$12)","v":0},{"$f":"COUNTIF(Y3:Y32,Accueil!$B$12)","v":2},{"$f":"COUNTIF(Z3:Z32,Accueil!$B$12)","v":0},{"$f":"COUNTIF(AA3:AA32,Accueil!$B$12)","v":0},{"$f":"COUNTIF(AB3:AB32,Accueil!$B$12)","v":0},{"$f":"COUNTIF(AC3:AC32,Accueil!$B$12)","v":0},{"$f":"COUNTIF(AD3:AD32,Accueil!$B$12)","v":0},{"$f":"COUNTIF(AE3:AE32,Accueil!$B$12)","v":0},{"$f":"COUNTIF(AF3:AF32,Accueil!$B$12)","v":2},{"$f":"COUNTIF(AG3:AG32,Accueil!$B$12)","v":0}]
[null,{"$f":"\"Effectif minimum \" & Accueil!$B$13","v":"Effectif minimum AP2"},{"$f":"COUNTIF(C3:C32,Accueil!$B$13)","v":0},{"$f":"COUNTIF(D3:D32,Accueil!$B$13)","v":0},{"$f":"COUNTIF(E3:E32,Accueil!$B$13)","v":0},{"$f":"COUNTIF(F3:F32,Accueil!$B$13)","v":0},{"$f":"COUNTIF(G3:G32,Accueil!$B$13)","v":0},{"$f":"COUNTIF(H3:H32,Accueil!$B$13)","v":1},{"$f":"COUNTIF(I3:I32,Accueil!$B$13)","v":0},{"$f":"COUNTIF(J3:J32,Accueil!$B$13)","v":0},{"$f":"COUNTIF(K3:K32,Accueil!$B$13)","v":0},{"$f":"COUNTIF(L3:L32,Accueil!$B$13)","v":0},{"$f":"COUNTIF(M3:M32,Accueil!$B$13)","v":0},{"$f":"COUNTIF(N3:N32,Accueil!$B$13)","v":0},{"$f":"COUNTIF(O3:O32,Accueil!$B$13)","v":1},{"$f":"COUNTIF(P3:P32,Accueil!$B$13)","v":0},{"$f":"COUNTIF(Q3:Q32,Accueil!$B$13)","v":0},{"$f":"COUNTIF(R3:R32,Accueil!$B$13)","v":0},{"$f":"COUNTIF(S3:S32,Accueil!$B$13)","v":1},{"$f":"COUNTIF(T3:T32,Accueil!$B$13)","v":0},{"$f":"COUNTIF(U3:U32,Accueil!$B$13)","v":0},{"$f":"COUNTIF(V3:V32,Accueil!$B$13)","v":1},{"$f":"COUNTIF(W3:W32,Accueil!$B$13)","v":0},{"$f":"COUNTIF(X3:X32,Accueil!$B$13)","v":0},{"$f":"COUNTIF(Y3:Y32,Accueil!$B$13)","v":0},{"$f":"COUNTIF(Z3:Z32,Accueil!$B$13)","v":1},{"$f":"COUNTIF(AA3:AA32,Accueil!$B$13)","v":0},{"$f":"COUNTIF(AB3:AB32,Accueil!$B$13)","v":0},{"$f":"COUNTIF(AC3:AC32,Accueil!$B$13)","v":1},{"$f":"COUNTIF(AD3:AD32,Accueil!$B$13)","v":0},{"$f":"COUNTIF(AE3:AE32,Accueil!$B$13)","v":0},{"$f":"COUNTIF(AF3:AF32,Accueil!$B$13)","v":0},{"$f":"COUNTIF(AG3:AG32,Accueil!$B$13)","v":0}]
[null,{"$f":"\"Effectif minimum \" & Accueil!$B$14","v":"Effectif minimum AP3"},{"$f":"COUNTIF(C3:C32,Accueil!$B$14)","v":0},{"$f":"COUNTIF(D3:D32,Accueil!$B$14)","v":0},{"$f":"COUNTIF(E3:E32,Accueil!$B$14)","v":0},{"$f":"COUNTIF(F3:F32,Accueil!$B$14)","v":0},{"$f":"COUNTIF(G3:G32,Accueil!$B$14)","v":0},{"$f":"COUNTIF(H3:H32,Accueil!$B$14)","v":0},{"$f":"COUNTIF(I3:I32,Accueil!$B$14)","v":0},{"$f":"COUNTIF(J3:J32,Accueil!$B$14)","v":0},{"$f":"COUNTIF(K3:K32,Accueil!$B$14)","v":0},{"$f":"COUNTIF(L3:L32,Accueil!$B$14)","v":0},{"$f":"COUNTIF(M3:M32,Accueil!$B$14)","v":0},{"$f":"COUNTIF(N3:N32,Accueil!$B$14)","v":0},{"$f":"COUNTIF(O3:O32,Accueil!$B$14)","v":0},{"$f":"COUNTIF(P3:P32,Accueil!$B$14)","v":0},{"$f":"COUNTIF(Q3:Q32,Accueil!$B$14)","v":0},{"$f":"COUNTIF(R3:R32,Accueil!$B$14)","v":0},{"$f":"COUNTIF(S3:S32,Accueil!$B$14)","v":0},{"$f":"COUNTIF(T3:T32,Accueil!$B$14)","v":0},{"$f":"COUNTIF(U3:U32,Accueil!$B$14)","v":0},{"$f":"COUNTIF(V3:V32,Accueil!$B$14)","v":0},{"$f":"COUNTIF(W3:W32,Accueil!$B$14)","v":0},{"$f":"COUNTIF(X3:X32,Accueil!$B$14)","v":0},{"$f":"COUNTIF(Y3:Y32,Accueil!$B$14)","v":0},{"$f":"COUNTIF(Z3:Z32,Accueil!$B$14)","v":0},{"$f":"COUNTIF(AA3:AA32,Accueil!$B$14)","v":0},{"$f":"COUNTIF(AB3:AB32,Accueil!$B$14)","v":0},{"$f":"COUNTIF(AC3:AC32,Accueil!$B$14)","v":0},{"$f":"COUNTIF(AD3:AD32,Accueil!$B$14)","v":0},{"$f":"COUNTIF(AE3:AE32,Accueil!$B$14)","v":0},{"$f":"COUNTIF(AF3:AF32,Accueil!$B$14)","v":0},{"$f":"COUNTIF(AG3:AG32,Accueil!$B$14)","v":0}]
[1,{"$f":"\"Effectif minimum \" & Accueil!$B$15","v":"Effectif minimum P1"},{"$f":"COUNTIF(C3:C32,Accueil!$B$15)","v":0},{"$f":"COUNTIF(D3:D32,Accueil!$B$15)","v":0},{"$f":"COUNTIF(E3:E32,Accueil!$B$15)","v":0},{"$f":"COUNTIF(F3:F32,Accueil!$B$15)","v":0},{"$f":"COUNTIF(G3:G32,Accueil!$B$15)","v":0},{"$f":"COUNTIF(H3:H32,Accueil!$B$15)","v":0},{"$f":"COUNTIF(I3:I32,Accueil!$B$15)","v":0},{"$f":"COUNTIF(J3:J32,Accueil!$B$15)","v":0},{"$f":"COUNTIF(K3:K32,Accueil!$B$15)","v":0},{"$f":"COUNTIF(L3:L32,Accueil!$B$15)","v":0},{"$f":"COUNTIF(M3:M32,Accueil!$B$15)","v":0},{"$f":"COUNTIF(N3:N32,Accueil!$B$15)","v":0},{"$f":"COUNTIF(O3:O32,Accueil!$B$15)","v":0},{"$f":"COUNTIF(P3:P32,Accueil!$B$15)","v":0},{"$f":"COUNTIF(Q3:Q32,Accueil!$B$15)","v":0},{"$f":"COUNTIF(R3:R32,Accueil!$B$15)","v":0},{"$f":"COUNTIF(S3:S32,Accueil!$B$15)","v":0},{"$f":"COUNTIF(T3:T32,Accueil!$B$15)","v":0},{"$f":"COUNTIF(U3:U32,Accueil!$B$15)","v":0},{"$f":"COUNTIF(V3:V32,Accueil!$B$15)","v":0},{"$f":"COUNTIF(W3:W32,Accueil!$B$15)","v":0},{"$f":"COUNTIF(X3:X32,Accueil!$B$15)","v":0},{"$f":"COUNTIF(Y3:Y32,Accueil!$B$15)","v":0},{"$f":"COUNTIF(Z3:Z32,Accueil!$B$15)","v":0},{"$f":"COUNTIF(AA3:AA32,Accueil!$B$15)","v":0},{"$f":"COUNTIF(AB3:AB32,Accueil!$B$15)","v":0},{"$f":"COUNTIF(AC3:AC32,Accueil!$B$15)","v":0},{"$f":"COUNTIF(AD3:AD32,Accueil!$B$15)","v":0},{"$f":"COUNTIF(AE3:AE32,Accueil!$B$15)","v":0},{"$f":"COUNTIF(AF3:AF32,Accueil!$B$15)","v":0},{"$f":"COUNTIF(AG3:AG32,Accueil!$B$15)","v":0}]
[2,"APRES-MIDI",{"$f":"C37+C38+C39+C41","v":2},{"$f":"D37+D38+D39+D41","v":2},{"$f":"E37+E38+E39+E41","v":2},{"$f":"F37+F38+F39+F41","v":2},{"$f":"G37+G38+G39+G41","v":2},3,3,4,3,3,3,2,3,3,3,3,3,3,3,3,3,3,2,2,2,2,2,2,2,2,0]
[2,"SOIREE",{"$f":"C37+C38+C39+C41","v":2},{"$f":"D37+D38+D39+D41","v":2},2,2,2,3,3,4,3,3,3,2,3,3,3,3,3,3,3,3,3,3,2,2,2,2,2,2,2,2,0]
[null,{"$f":" \"Effectif minimum \" & Accueil!$B$17 & \" \"","v":"Effectif minimum BI "},{"$f":"COUNTIF(C3:C32,Accueil!$B$17)","v":0},{"$f":"COUNTIF(D3:D32,Accueil!$B$17)","v":0},{"$f":"COUNTIF(E3:E32,Accueil!$B$17)","v":0},{"$f":"COUNTIF(F3:F32,Accueil!$B$17)","v":0},{"$f":"COUNTIF(G3:G32,Accueil!$B$17)","v":0},{"$f":"COUNTIF(H3:H32,Accueil!$B$17)","v":0},{"$f":"COUNTIF(I3:I32,Accueil!$B$17)","v":0},{"$f":"COUNTIF(J3:J32,Accueil!$B$17)","v":0},{"$f":"COUNTIF(K3:K32,Accueil!$B$17)","v":0},{"$f":"COUNTIF(L3:L32,Accueil!$B$17)","v":0},{"$f":"COUNTIF(M3:M32,Accueil!$B$17)","v":0},{"$f":"COUNTIF(N3:N32,Accueil!$B$17)","v":0},{"$f":"COUNTIF(O3:O32,Accueil!$B$17)","v":0},{"$f":"COUNTIF(P3:P32,Accueil!$B$17)","v":0},{"$f":"COUNTIF(Q3:Q32,Accueil!$B$17)","v":0},{"$f":"COUNTIF(R3:R32,Accueil!$B$17)","v":0},{"$f":"COUNTIF(S3:S32,Accueil!$B$17)","v":0},{"$f":"COUNTIF(T3:T32,Accueil!$B$17)","v":0},{"$f":"COUNTIF(U3:U32,Accueil!$B$17)","v":0},{"$f":"COUNTIF(V3:V32,Accueil!$B$17)","v":0},{"$f":"COUNTIF(W3:W32,Accueil!$B$17)","v":0},{"$f":"COUNTIF(X3:X32,Accueil!$B$17)","v":0},{"$f":"COUNTIF(Y3:Y32,Accueil!$B$17)","v":0},{"$f":"COUNTIF(Z3:Z32,Accueil!$B$17)","v":0},{"$f":"COUNTIF(AA3:AA32,Accueil!$B$17)","v":0},{"$f":"COUNTIF(AB3:AB32,Accueil!$B$17)","v":0},{"$f":"COUNTIF(AC3:AC32,Accueil!$B$17)","v":0},{"$f":"COUNTIF(AD3:AD32,Accueil!$B$17)","v":0},{"$f":"COUNTIF(AE3:AE32,Accueil!$B$17)","v":0},{"$f":"COUNTIF(AF3:AF32,Accueil!$B$17)","v":0},{"$f":"COUNTIF(AG3:AG32,Accueil!$B$17)","v":0}]
[null,{"$f":" \"Effectif minimum \" & Accueil!$B$18 & \" \"","v":"Effectif minimum LY "},{"$f":"COUNTIF(C3:C32,Accueil!$B$18)","v":1},{"$f":"COUNTIF(D3:D32,Accueil!$B$18)","v":0},{"$f":"COUNTIF(E3:E32,Accueil!$B$18)","v":0},{"$f":"COUNTIF(F3:F32,Accueil!$B$18)","v":0},{"$f":"COUNTIF(G3:G32,Accueil!$B$18)","v":0},{"$f":"COUNTIF(H3:H32,Accueil!$B$18)","v":0},{"$f":"COUNTIF(I3:I32,Accueil!$B$18)","v":0},{"$f":"COUNTIF(J3:J32,Accueil!$B$18)","v":1},{"$f":"COUNTIF(K3:K32,Accueil!$B$18)","v":0},{"$f":"COUNTIF(L3:L32,Accueil!$B$18)","v":0},{"$f":"COUNTIF(M3:M32,Accueil!$B$18)","v":0},{"$f":"COUNTIF(N3:N32,Accueil!$B$18)","v":1},{"$f":"COUNTIF(O3:O32,Accueil!$B$18)","v":0},{"$f":"COUNTIF(P3:P32,Accueil!$B$18)","v":0},{"$f":"COUNTIF(Q3:Q32,Accueil!$B$18)","v":1},{"$f":"COUNTIF(R3:R32,Accueil!$B$18)","v":0},{"$f":"COUNTIF(S3:S32,Accueil!$B$18)","v":0},{"$f":"COUNTIF(T3:T32,Accueil!$B$18)","v":0},{"$f":"COUNTIF(U3:U32,Accueil!$B$18)","v":0},{"$f":"COUNTIF(V3:V32,Accueil!$B$18)","v":0},{"$f":"COUNTIF(W3:W32,Accueil!$B$18)","v":0},{"$f":"COUNTIF(X3:X32,Accueil!$B$18)","v":1},{"$f":"COUNTIF(Y3:Y32,Accueil!$B$18)","v":0},{"$f":"COUNTIF(Z3:Z32,Accueil!$B$18)","v":0},{"$f":"COUNTIF(AA3:AA32,Accueil!$B$18)","v":0},{"$f":"COUNTIF(AB3:AB32,Accueil!$B$18)","v":1},{"$f":"COUNTIF(AC3:AC32,Accueil!$B$18)","v":0},{"$f":"COUNTIF(AD3:AD32,Accueil!$B$18)","v":0},{"$f":"COUNTIF(AE3:AE32,Accueil!$B$18)","v":1},{"$f":"COUNTIF(AF3:AF32,Accueil!$B$18)","v":0},{"$f":"COUNTIF(AG3:AG32,Accueil!$B$18)","v":0}]
[{"$f":"Mai!A46","v":0},{"$f":" \"Effectif minimum \" & Accueil!$B$19 & \" \"","v":"Effectif minimum ST "},{"$f":"COUNTIF(C3:C32,Accueil!$B$19)","v":0},{"$f":"COUNTIF(D3:D32,Accueil!$B$19)","v":0},{"$f":"COUNTIF(E3:E32,Accueil!$B$19)","v":0},{"$f":"COUNTIF(F3:F32,Accueil!$B$19)","v":0},{"$f":"COUNTIF(G3:G32,Accueil!$B$19)","v":0},{"$f":"COUNTIF(H3:H32,Accueil!$B$19)","v":0},{"$f":"COUNTIF(I3:I32,Accueil!$B$19)","v":0},{"$f":"COUNTIF(J3:J32,Accueil!$B$19)","v":0},{"$f":"COUNTIF(K3:K32,Accueil!$B$19)","v":0},{"$f":"COUNTIF(L3:L32,Accueil!$B$19)","v":0},{"$f":"COUNTIF(M3:M32,Accueil!$B$19)","v":0},{"$f":"COUNTIF(N3:N32,Accueil!$B$19)","v":0},{"$f":"COUNTIF(O3:O32,Accueil!$B$19)","v":0},{"$f":"COUNTIF(P3:P32,Accueil!$B$19)","v":0},{"$f":"COUNTIF(Q3:Q32,Accueil!$B$19)","v":0},{"$f":"COUNTIF(R3:R32,Accueil!$B$19)","v":0},{"$f":"COUNTIF(S3:S32,Accueil!$B$19)","v":0},{"$f":"COUNTIF(T3:T32,Accueil!$B$19)","v":0},{"$f":"COUNTIF(U3:U32,Accueil!$B$19)","v":0},{"$f":"COUNTIF(V3:V32,Accueil!$B$19)","v":0},{"$f":"COUNTIF(W3:W32,Accueil!$B$19)","v":0},{"$f":"COUNTIF(X3:X32,Accueil!$B$19)","v":0},{"$f":"COUNTIF(Y3:Y32,Accueil!$B$19)","v":0},{"$f":"COUNTIF(Z3:Z32,Accueil!$B$19)","v":0},{"$f":"COUNTIF(AA3:AA32,Accueil!$B$19)","v":0},{"$f":"COUNTIF(AB3:AB32,Accueil!$B$19)","v":0},{"$f":"COUNTIF(AC3:AC32,Accueil!$B$19)","v":0},{"$f":"COUNTIF(AD3:AD32,Accueil!$B$19)","v":0},{"$f":"COUNTIF(AE3:AE32,Accueil!$B$19)","v":0},{"$f":"COUNTIF(AF3:AF32,Accueil!$B$19)","v":0},{"$f":"COUNTIF(AG3:AG32,Accueil!$B$19)","v":0}]
[1,{"$f":"\"Effectif minimum \" & Accueil!$B$16","v":"Effectif minimum Nuit"},{"$f":"COUNTIF(C3:C32,Accueil!$B$16)","v":1},{"$f":"COUNTIF(D3:D32,Accueil!$B$16)","v":1},{"$f":"COUNTIF(E3:E32,Accueil!$B$16)","v":1},{"$f":"COUNTIF(F3:F32,Accueil!$B$16)","v":1},{"$f":"COUNTIF(G3:G32,Accueil!$B$16)","v":1},{"$f":"COUNTIF(H3:H32,Accueil!$B$16)","v":1},{"$f":"COUNTIF(I3:I32,Accueil!$B$16)","v":1},{"$f":"COUNTIF(J3:J32,Accueil!$B$16)","v":1},{"$f":"COUNTIF(K3:K32,Accueil!$B$16)","v":1},{"$f":"COUNTIF(L3:L32,Accueil!$B$16)","v":1},{"$f":"COUNTIF(M3:M32,Accueil!$B$16)","v":1},{"$f":"COUNTIF(N3:N32,Accueil!$B$16)","v":1},{"$f":"COUNTIF(O3:O32,Accueil!$B$16)","v":1},{"$f":"COUNTIF(P3:P32,Accueil!$B$16)","v":1},{"$f":"COUNTIF(Q3:Q32,Accueil!$B$16)","v":1},{"$f":"COUNTIF(R3:R32,Accueil!$B$16)","v":1},{"$f":"COUNTIF(S3:S32,Accueil!$B$16)","v":1},{"$f":"COUNTIF(T3:T32,Accueil!$B$16)","v":1},{"$f":"COUNTIF(U3:U32,Accueil!$B$16)","v":1},{"$f":"COUNTIF(V3:V32,Accueil!$B$16)","v":1},{"$f":"COUNTIF(W3:W32,Accueil!$B$16)","v":1},{"$f":"COUNTIF(X3:X32,Accueil!$B$16)","v":1},{"$f":"COUNTIF(Y3:Y32,Accueil!$B$16)","v":1},{"$f":"COUNTIF(Z3:Z32,Accueil!$B$16)","v":1},{"$f":"COUNTIF(AA3:AA32,Accueil!$B$16)","v":1},{"$f":"COUNTIF(AB3:AB32,Accueil!$B$16)","v":1},{"$f":"COUNTIF(AC3:AC32,Accueil!$B$16)","v":1},{"$f":"COUNTIF(AD3:AD32,Accueil!$B$16)","v":1},{"$f":"COUNTIF(AE3:AE32,Accueil!$B$16)","v":1},{"$f":"COUNTIF(AF3:AF32,Accueil!$B$16)","v":1},{"$f":"COUNTIF(AG3:AG32,Accueil!$B$16)","v":0}]

{"sheet":"Juil","index":8,"n_rows":47,"n_cols":99,"rows_kept":47,"cut":false,"hidden":false,"merged":[[0,92,0,94],[0,96,0,98],[1,0,1,1],[2,0,2,1],[0,0,0,1],[0,84,0,86],[0,88,0,90],[3,0,3,1],[4,0,4,1],[5,0,5,1],[12,0,12,1],[6,0,6,1],[13,0,13,1],[14,0,14,1],[7,0,7,1],[8,0,8,1],[9,0,9,1],[10,0,10,1],[11,0,11,1],[19,0,19,1],[20,0,20,1],[21,0,21,1],[22,0,22,1],[15,0,15,1],[16,0,16,1],[17,0,17,1],[18,0,18,1],[23,0,23,1],[24,0,24,1],[25,0,25,1],[26,0,26,1],[31,0,31,1],[27,0,27,1],[28,0,28,1],[29,0,29,1],[30,0,30,1]]}
[{"$f":"DATE(Accueil!C2,7,1)","v":"2016-07-01"},null,{"$f":"INDEX({\"D\";\"L\";\"M\";\"M\";\"J\";\"V\";\"S\"},WEEKDAY(C2))","v":"V"},{"$f":"INDEX({\"D\";\"L\";\"M\";\"M\";\"J\";\"V\";\"S\"},WEEKDAY(D2))","v":"S"},{"$f":"INDEX({\"D\";\"L\";\"M\";\"M\";\"J\";\"V\";\"S\"},WEEKDAY(E2))","v":"D"},{"$f":"INDEX({\"D\";\"L\";\"M\";\"M\";\"J\";\"V\";\"S\"},WEEKDAY(F2))","v":"L"},{"$f":"INDEX({\"D\";\"L\";\"M\";\"M\";\"J\";\"V\";\"S\"},WEEKDAY(G2))","v":"M"},{"$f":"INDEX({\"D\";\"L\";\"M\";\"M\";\"J\";\"V\";\"S\"},WEEKDAY(H2))","v":"M"},{"$f":"INDEX({\"D\";\"L\";\"M\";\"M\";\"J\";\"V\";\"S\"},WEEKDAY(I2))","v":"J"},{"$f":"INDEX({\"D\";\"L\";\"M\";\"M\";\"J\";\"V\";\"S\"},WEEKDAY(J2))","v":"V"},{"$f":"INDEX({\"D\";\"L\";\"M\";\"M\";\"J\";\"V\";\"S\"},WEEKDAY(K2))","v":"S"},{"$f":"INDEX({\"D\";\"L\";\"M\";\"M\";\"J\";\"V\";\"S\"},WEEKDAY(L2))","v":"D"},{"$f":"INDEX({\"D\";\"L\";\"M\";\"M\";\"J\";\"V\";\"S\"},WEEKDAY(M2))","v":"L"},{"$f":"INDEX({\"D\";\"L\";\"M\";\"M\";\"J\";\"V\";\"S\"},WEEKDAY(N2))","v":"M"},{"$f":"INDEX({\"D\";\"L\";\"M\";\"M\";\"J\";\"V\";\"S\"},WEEKDAY(O2))","v":"M"},{"$f":"INDEX({\"D\";\"L\";\"M\";\"M\";\"J\";\"V\";\"S\"},WEEKDAY(P2))","v":"J"},{"$f":"INDEX({\"D\";\"L\";\"M\";\"M\";\"J\";\"V\";\"S\"},WEEKDAY(Q2))","v":"V"},{"$f":"INDEX({\"D\";\"L\";\"M\";\"M\";\"J\";\"V\";\"S\"},WEEKDAY(R2))","v":"S"},{"$f":"INDEX({\"D\";\"L\";\"M\";\"M\";\"J\";\"V\";\"S\"},WEEKDAY(S2))","v":"D"},{"$f":"INDEX({\"D\";\"L\";\"M\";\"M\";\"J\";\"V\";\"S\"},WEEKDAY(T2))","v":"L"},{"$f":"INDEX({\"D\";\"L\";\"M\";\"M\";\"J\";\"V\";\"S\"},WEEKDAY(U2))","v":"M"},{"$f":"INDEX({\"D\";\"L\";\"M\";\"M\";\"J\";\"V\";\"S\"},WEEKDAY(V2))","v":"M"},{"$f":"INDEX({\"D\";\"L\";\"M\";\"M\";\"J\";\"V\";\"S\"},WEEKDAY(W2))","v":"J"},{"$f":"INDEX({\"D\";\"L\";\"M\";\"M\";\"J\";\"V\";\"S\"},WEEKDAY(X2))","v":"V"},{"$f":"INDEX({\"D\";\"L\";\"M\";\"M\";\"J\";\"V\";\"S\"},WEEKDAY(Y2))","v":"S"},{"$f":"INDEX({\"D\";\"L\";\"M\";\"M\";\"J\";\"V\";\"S\"},WEEKDAY(Z2))","v":"D"},{"$f":"INDEX({\"D\";\"L\";\"M\";\"M\";\"J\";\"V\";\"S\"},WEEKDAY(AA2))","v":"L"},{"$f":"INDEX({\"D\";\"L\";\"M\";\"M\";\"J\";\"V\";\"S\"},WEEKDAY(AB2))","v":"M"},{"$f":"INDEX({\"D\";\"L\";\"M\";\"M\";\"J\";\"V\";\"S\"},WEEKDAY(AC2))","v":"M"},{"$f":"INDEX({\"D\";\"L\";\"M\";\"M\";\"J\";\"V\";\"S\"},WEEKDAY(AD2))","v":"J"},{"$f":"INDEX({\"D\";\"L\";\"M\";\"M\";\"J\";\"V\";\"S\"},WEEKDAY(AE2))","v":"V"},{"$f":"INDEX({\"D\";\"L\";\"M\";\"M\";\"J\";\"V\";\"S\"},WEEKDAY(AF2))","v":"S"},{"$f":"INDEX({\"D\";\"L\";\"M\";\"M\";\"J\";\"V\";\"S\"},WEEKDAY(AG2))","v":"D"},null,"Bilan mensuel",null,null,null,null,null,null,null,null,null,null,null,null,null,null,null,null,null,null,null,null,null,null,"Total jours",null,"Bilan annuel",null,null,null,null,null,null,null,null,null,null,null,null,null,null,null,null,null,null,null,null,null,null,"Total jours",null,"Bilan congès annuels",null,null,null,"Bilan Enfant malade",null,null,null,"Bilan RH aministratif",null,null,null,"Bilan RH employé"]
[{"$f":"Accueil!J2","v":"Educatif"},null,{"$f":"A1","v":"2016-07-01"},{"$f":"C2+1","v":"2016-07-02"},"2016-07-03","2016-07-04","2016-07-05","2016-07-06","2016-07-07","2016-07-08","2016-07-09","2016-07-10","2016-07-11","2016-07-12","2016-07-13","2016-07-14","2016-07-15","2016-07-16","2016-07-17","2016-07-18","2016-07-19","2016-07-20","2016-07-21","2016-07-22","2016-07-23","2016-07-24","2016-07-25","2016-07-26","2016-07-27","2016-07-28","2016-07-29","2016-07-30","2016-07-31",null,{"$f":"Accueil!$B$8","v":"M1"},{"$f":"Accueil!$B$9","v":"M2"},{"$f":"Accueil!B10","v":"M3"},{"$f":"Accueil!$B$11","v":"MP"},{"$f":"Accueil!$B$12","v":"AP1"},{"$f":"Accueil!B13","v":"AP2"},{"$f":"Accueil!B14","v":"AP3"},{"$f":"Accueil!$B$15","v":"P1"},{"$f":"Accueil!$B$16","v":"Nuit"},{"$f":"Accueil!$B$17","v":"BI"},{"$f":"Accueil!$B$18","v":"LY"},{"$f":"Accueil!$B$19","v":"ST"},{"$f":"Accueil!$B$20","v":"IND"},{"$f":"Accueil!$B$21","v":0},{"$f":"Accueil!$B$22","v":0},{"$f":"Accueil!$B$23","v":"Vac"},{"$f":"Accueil!$B$24","v":"Mal"},{"$f":"Accueil!$B$25","v":"Mat"},{"$f":"Accueil!$B$26","v":"CC"},{"$f":"Accueil!$B$27","v":"F"},{"$f":"Accueil!$B$28","v":"Enf"},{"$f":"Accueil!$B$29","v":"CP"},{"$f":"Accueil!$B$30","v":0},"travaillés",null,{"$f":"AI2","v":"M1"},"M2","M3","MP","AP1","AP2","AP3","P1","Nuit","BI","LY","ST","IND",0,0,"Vac","Mal","Mat","CC","F","Enf","CP",0,"travaillés",null,"capital","pris","restant",null,"capital","pris","restant",null,"capital","pris","restant",null,"capital","pris","restant"]
[{"$f":"Juin!A3","v":"Anne"},null,"Vac","Vac","Vac","Vac","Vac","Vac","Vac","Vac","Vac","Vac",null,"MP",null,null,"M1",null,null,null,"MP",null,null,"AP1",null,null,null,"MP",null,null,"M1",null,"MP",null,{"$f":"COUNTIF(C3:AG3,Accueil!$B$8)","v":2},{"$f":"COUNTIF(C3:AG3,Accueil!$B$9)","v":0},{"$f":"COUNTIF(C3:AG3,Accueil!$B$10)","v":0},{"$f":"COUNTIF(C3:AG3,Accueil!$B$11)","v":4},{"$f":"COUNTIF(C3:AG3,Accueil!$B$12)","v":1},{"$f":"COUNTIF(C3:AG3,Accueil!$B$13)","v":0},{"$f":"COUNTIF(C3:AG3,Accueil!$B$14)","v":0},{"$f":"COUNTIF(C3:AG3,Accueil!$B$15)","v":0},{"$f":"COUNTIF(C3:AG3,Accueil!$B$16)","v":0},{"$f":"COUNTIF(C3:AG3,Accueil!$B$17)","v":0},{"$f":"COUNTIF(C3:AG3,Accueil!$B$18)","v":0},{"$f":"COUNTIF(C3:AG3,Accueil!$B$19)","v":0},{"$f":"COUNTIF(C3:AG3,Accueil!$B$20)","v":0},{"$f":"COUNTIF(C3:AG3,Accueil!$B$21)","v":0},{"$f":"COUNTIF(C3:AG3,Accueil!$B$22)","v":0},{"$f":"COUNTIF(C3:AG3,Accueil!$B$23)","v":10},{"$f":"COUNTIF(C3:AG3,Accueil!$B$24)","v":0},{"$f":"COUNTIF(C3:AG3,Accueil!$B$25)","v":0},{"$f":"COUNTIF(C3:AG3,Accueil!$B$26)","v":0},{"$f":"COUNTIF(C3:AG3,Accueil!$B$27)","v":0},{"$f":"COUNTIF(C3:AG3,Accueil!$B$28)","v":0},{"$f":"COUNTIF(C3:AG3,Accueil!$B$29)","v":0},{"$f":"COUNTIF(C3:AG3,Accueil!$B$30)","v":0},{"$f":"SUM($AI3:$AT3)+($AW3*0.5)","v":7},null,{"$f":"AI3 +Juin!BH3","v":18},{"$f":"AJ3+Juin!BI3","v":0},{"$f":"AK3+Juin!BJ3","v":0},{"$f":"AL3+Juin!BK3","v":36},{"$f":"AM3+Juin!BL3","v":5},{"$f":"AN3+Juin!BM3","v":0},{"$f":"AO3+Juin!BN3","v":0},{"$f":"AP3+Juin!BO3","v":0},{"$f":"AQ3+Juin!BP3","v":0},{"$f":"AR3+Juin!BQ3","v":0},{"$f":"AS3+Juin!BR3","v":0},{"$f":"AT3+Juin!BS3","v":0},{"$f":"AU3+Juin!BT3","v":0},{"$f":"AV3+Juin!BU3","v":0},{"$f":"AW3+Juin!BV3","v":0},{"$f":"AX3+Juin!BW3","v":38},{"$f":"AY3+Juin!BX3","v":1},{"$f":"AZ3+Juin!BY3","v":0},{"$f":"BA3+Juin!BZ3","v":0},{"$f":"BB3+Juin!CA3","v":0},{"$f":"BC3+Juin!CB3","v":0},{"$f":"BD3+Juin!CC3","v":0},{"$f":"BE3+Juin!CD3","v":0},{"$f":"BF3+Juin!CE3","v":59},null,{"$f":"Juin!CG3","v":0},{"$f":"0.5*($BV3)+($BW3)","v":38},{"$f":"CG3-CH3","v":-38},null,{"$f":"Juin!CK3","v":0},{"$f":"$CB3","v":0},{"$f":"CK3-CL3","v":0},null,{"$f":"Juin!CO3","v":0},{"$f":"$CC3","v":0},{"$f":"CO3-CP3","v":0},null,{"$f":"Juin!CS3","v":0},{"$f":"$CD3","v":0},{"$f":"CS3-CT3","v":0}]
[{"$f":"Juin!A4","v":0},null,null,null,null,null,null,null,null,null,null,null,null,null,null,null,null,null,null,null,null,null,null,null,null,null,null,null,null,null,null,null,null,null,{"$f":"COUNTIF(C4:AG4,Accueil!$B$8)","v":0},{"$f":"COUNTIF(C4:AG4,Accueil!$B$9)","v":0},{"$f":"COUNTIF(C4:AG4,Accueil!$B$10)","v":0},{"$f":"COUNTIF(C4:AG4,Accueil!$B$11)","v":0},{"$f":"COUNTIF(C4:AG4,Accueil!$B$12)","v":0},{"$f":"COUNTIF(C4:AG4,Accueil!$B$13)","v":0},{"$f":"COUNTIF(C4:AG4,Accueil!$B$14)","v":0},{"$f":"COUNTIF(C4:AG4,Accueil!$B$15)","v":0},{"$f":"COUNTIF(C4:AG4,Accueil!$B$16)","v":0},{"$f":"COUNTIF(C4:AG4,Accueil!$B$17)","v":0},{"$f":"COUNTIF(C4:AG4,Accueil!$B$18)","v":0},{"$f":"COUNTIF(C4:AG4,Accueil!$B$19)","v":0},{"$f":"COUNTIF(C4:AG4,Accueil!$B$20)","v":0},{"$f":"COUNTIF(C4:AG4,Accueil!$B$21)","v":0},{"$f":"COUNTIF(C4:AG4,Accueil!$B$22)","v":0},{"$f":"COUNTIF(C4:AG4,Accueil!$B$23)","v":0},{"$f":"COUNTIF(C4:AG4,Accueil!$B$24)","v":0},{"$f":"COUNTIF(C4:AG4,Accueil!$B$25)","v":0},{"$f":"COUNTIF(C4:AG4,Accueil!$B$26)","v":0},{"$f":"COUNTIF(C4:AG4,Accueil!$B$27)","v":0},{"$f":"COUNTIF(C4:AG4,Accueil!$B$28)","v":0},{"$f":"COUNTIF(C4:AG4,Accueil!$B$29)","v":0},{"$f":"COUNTIF(C4:AG4,Accueil!$B$30)","v":0},0,null,{"$f":"AI4 +Juin!BH4","v":0},{"$f":"AJ4+Juin!BI4","v":0},{"$f":"AK4+Juin!BJ4","v":0},{"$f":"AL4+Juin!BK4","v":0},{"$f":"AM4+Juin!BL4","v":0},{"$f":"AN4+Juin!BM4","v":0},{"$f":"AO4+Juin!BN4","v":0},{"$f":"AP4+Juin!BO4","v":0},{"$f":"AQ4+Juin!BP4","v":0},{"$f":"AR4+Juin!BQ4","v":0},{"$f":"AS4+Juin!BR4","v":1},{"$f":"AT4+Juin!BS4","v":0},{"$f":"AU4+Juin!BT4","v":0},{"$f":"AV4+Juin!BU4","v":0},{"$f":"AW4+Juin!BV4","v":0},{"$f":"AX4+Juin!BW4","v":0},{"$f":"AY4+Juin!BX4","v":0},{"$f":"AZ4+Juin!BY4","v":0},{"$f":"BA4+Juin!BZ4","v":0},{"$f":"BB4+Juin!CA4","v":0},{"$f":"BC4+Juin!CB4","v":0},{"$f":"BD4+Juin!CC4","v":0},{"$f":"BE4+Juin!CD4","v":0},{"$f":"BF4+Juin!CE4","v":1},null,{"$f":"Juin!CG4","v":0},0,0,null,{"$f":"Juin!CK4","v":0},0,0,null,{"$f":"Juin!CO4","v":0},0,0,null,{"$f":"Juin!CS4","v":0},0,0]
[{"$f":"Juin!A5","v":"Elodie"},null,null,null,null,"M1","M1","M1","AP1","AP2",null,null,"M1","M1","M1","AP1",null,null,"MP",null,"M1","M1","AP1",null,null,"MP",null,"M1","M1","AP1",null,null,null,null,{"$f":"COUNTIF(C5:AG5,Accueil!$B$8)","v":10},{"$f":"COUNTIF(C5:AG5,Accueil!$B$9)","v":0},{"$f":"COUNTIF(C5:AG5,Accueil!$B$10)","v":0},{"$f":"COUNTIF(C5:AG5,Accueil!$B$11)","v":2},{"$f":"COUNTIF(C5:AG5,Accueil!$B$12)","v":4},{"$f":"COUNTIF(C5:AG5,Accueil!$B$13)","v":1},{"$f":"COUNTIF(C5:AG5,Accueil!$B$14)","v":0},{"$f":"COUNTIF(C5:AG5,Accueil!$B$15)","v":0},{"$f":"COUNTIF(C5:AG5,Accueil!$B$16)","v":0},{"$f":"COUNTIF(C5:AG5,Accueil!$B$17)","v":0},{"$f":"COUNTIF(C5:AG5,Accueil!$B$18)","v":0},{"$f":"COUNTIF(C5:AG5,Accueil!$B$19)","v":0},{"$f":"COUNTIF(C5:AG5,Accueil!$B$20)","v":0},{"$f":"COUNTIF(C5:AG5,Accueil!$B$21)","v":0},{"$f":"COUNTIF(C5:AG5,Accueil!$B$22)","v":0},{"$f":"COUNTIF(C5:AG5,Accueil!$B$23)","v":0},{"$f":"COUNTIF(C5:AG5,Accueil!$B$24)","v":0},{"$f":"COUNTIF(C5:AG5,Accueil!$B$25)","v":0},{"$f":"COUNTIF(C5:AG5,Accueil!$B$26)","v":0},{"$f":"COUNTIF(C5:AG5,Accueil!$B$27)","v":0},{"$f":"COUNTIF(C5:AG5,Accueil!$B$28)","v":0},{"$f":"COUNTIF(C5:AG5,Accueil!$B$29)","v":0},{"$f":"COUNTIF(C5:AG5,Accueil!$B$30)","v":0},17,null,{"$f":"AI5 +Juin!BH5","v":62},{"$f":"AJ5+Juin!BI5","v":0},{"$f":"AK5+Juin!BJ5","v":0},{"$f":"AL5+Juin!BK5","v":18},{"$f":"AM5+Juin!BL5","v":23},{"$f":"AN5+Juin!BM5","v":4},{"$f":"AO5+Juin!BN5","v":0},{"$f":"AP5+Juin!BO5","v":0},{"$f":"AQ5+Juin!BP5","v":0},{"$f":"AR5+Juin!BQ5","v":0},{"$f":"AS5+Juin!BR5","v":0},{"$f":"AT5+Juin!BS5","v":0},{"$f":"AU5+Juin!BT5","v":2},{"$f":"AV5+Juin!BU5","v":0},{"$f":"AW5+Juin!BV5","v":0},{"$f":"AX5+Juin!BW5","v":33},{"$f":"AY5+Juin!BX5","v":0},{"$f":"AZ5+Juin!BY5","v":0},{"$f":"BA5+Juin!BZ5","v":1},{"$f":"BB5+Juin!CA5","v":1},{"$f":"BC5+Juin!CB5","v":0},{"$f":"BD5+Juin!CC5","v":0},{"$f":"BE5+Juin!CD5","v":0},{"$f":"BF5+Juin!CE5","v":107},null,{"$f":"Juin!CG5","v":0},33,-33,null,{"$f":"Juin!CK5","v":0},0,0,null,{"$f":"Juin!CO5","v":0},0,0,null,{"$f":"Juin!CS5","v":0},0,0]
[{"$f":"Juin!A6","v":0},null,null,null,null,null,null,null,null,null,null,null,null,null,null,null,null,null,null,null,null,null,null,null,null,null,null,null,null,null,null,null,null,null,{"$f":"COUNTIF(C6:AG6,Accueil!$B$8)","v":0},{"$f":"COUNTIF(C6:AG6,Accueil!$B$9)","v":0},{"$f":"COUNTIF(C6:AG6,Accueil!$B$10)","v":0},{"$f":"COUNTIF(C6:AG6,Accueil!$B$11)","v":0},{"$f":"COUNTIF(C6:AG6,Accueil!$B$12)","v":0},{"$f":"COUNTIF(C6:AG6,Accueil!$B$13)","v":0},{"$f":"COUNTIF(C6:AG6,Accueil!$B$14)","v":0},{"$f":"COUNTIF(C6:AG6,Accueil!$B$15)","v":0},{"$f":"COUNTIF(C6:AG6,Accueil!$B$16)","v":0},{"$f":"COUNTIF(C6:AG6,Accueil!$B$17)","v":0},{"$f":"COUNTIF(C6:AG6,Accueil!$B$18)","v":0},{"$f":"COUNTIF(C6:AG6,Accueil!$B$19)","v":0},{"$f":"COUNTIF(C6:AG6,Accueil!$B$20)","v":0},{"$f":"COUNTIF(C6:AG6,Accueil!$B$21)","v":0},{"$f":"COUNTIF(C6:AG6,Accueil!$B$22)","v":0},{"$f":"COUNTIF(C6:AG6,Accueil!$B$23)","v":0},{"$f":"COUNTIF(C6:AG6,Accueil!$B$24)","v":0},{"$f":"COUNTIF(C6:AG6,Accueil!$B$25)","v":0},{"$f":"COUNTIF(C6:AG6,Accueil!$B$26)","v":0},{"$f":"COUNTIF(C6:AG6,Accueil!$B$27)","v":0},{"$f":"COUNTIF(C6:AG6,Accueil!$B$28)","v":0},{"$f":"COUNTIF(C6:AG6,Accueil!$B$29)","v":0},{"$f":"COUNTIF(C6:AG6,Accueil!$B$30)","v":0},0,null,{"$f":"AI6 +Juin!BH6","v":0},{"$f":"AJ6+Juin!BI6","v":0},{"$f":"AK6+Juin!BJ6","v":0},{"$f":"AL6+Juin!BK6","v":0},{"$f":"AM6+Juin!BL6","v":0},{"$f":"AN6+Juin!BM6","v":1},{"$f":"AO6+Juin!BN6","v":0},{"$f":"AP6+Juin!BO6","v":0},{"$f":"AQ6+Juin!BP6","v":0},{"$f":"AR6+Juin!BQ6","v":0},{"$f":"AS6+Juin!BR6","v":1},{"$f":"AT6+Juin!BS6","v":0},{"$f":"AU6+Juin!BT6","v":0},{"$f":"AV6+Juin!BU6","v":0},{"$f":"AW6+Juin!BV6","v":0},{"$f":"AX6+Juin!BW6","v":0},{"$f":"AY6+Juin!BX6","v":0},{"$f":"AZ6+Juin!BY6","v":0},{"$f":"BA6+Juin!BZ6","v":0},{"$f":"BB6+Juin!CA6","v":0},{"$f":"BC6+Juin!CB6","v":0},{"$f":"BD6+Juin!CC6","v":0},{"$f":"BE6+Juin!CD6","v":0},{"$f":"BF6+Juin!CE6","v":2},null,{"$f":"Juin!CG6","v":0},0,0,null,{"$f":"Juin!CK6","v":0},0,0,null,{"$f":"Juin!CO6","v":0},0,0,null,{"$f":"Juin!CS6","v":0},0,0]
[{"$f":"Juin!A7","v":"Eve-Marie"},null,"M1",null,"MP",null,"M1",null,"AP1","M1","Vac","Vac","Vac","Vac","Vac","Vac","Vac","Vac","Vac","Vac","Vac","Vac","Vac","Vac","Vac","Vac","Vac","Vac","Vac","Vac","Vac","Vac","Vac",null,{"$f":"COUNTIF(C7:AG7,Accueil!$B$8)","v":3},{"$f":"COUNTIF(C7:AG7,Accueil!$B$9)","v":0},{"$f":"COUNTIF(C7:AG7,Accueil!$B$10)","v":0},{"$f":"COUNTIF(C7:AG7,Accueil!$B$11)","v":1},{"$f":"COUNTIF(C7:AG7,Accueil!$B$12)","v":1},{"$f":"COUNTIF(C7:AG7,Accueil!$B$13)","v":0},{"$f":"COUNTIF(C7:AG7,Accueil!$B$14)","v":0},{"$f":"COUNTIF(C7:AG7,Accueil!$B$15)","v":0},{"$f":"COUNTIF(C7:AG7,Accueil!$B$16)","v":0},{"$f":"COUNTIF(C7:AG7,Accueil!$B$17)","v":0},{"$f":"COUNTIF(C7:AG7,Accueil!$B$18)","v":0},{"$f":"COUNTIF(C7:AG7,Accueil!$B$19)","v":0},{"$f":"COUNTIF(C7:AG7,Accueil!$B$20)","v":0},{"$f":"COUNTIF(C7:AG7,Accueil!$B$21)","v":0},{"$f":"COUNTIF(C7:AG7,Accueil!$B$22)","v":0},{"$f":"COUNTIF(C7:AG7,Accueil!$B$23)","v":23},{"$f":"COUNTIF(C7:AG7,Accueil!$B$24)","v":0},{"$f":"COUNTIF(C7:AG7,Accueil!$B$25)","v":0},{"$f":"COUNTIF(C7:AG7,Accueil!$B$26)","v":0},{"$f":"COUNTIF(C7:AG7,Accueil!$B$27)","v":0},{"$f":"COUNTIF(C7:AG7,Accueil!$B$28)","v":0},{"$f":"COUNTIF(C7:AG7,Accueil!$B$29)","v":0},{"$f":"COUNTIF(C7:AG7,Accueil!$B$30)","v":0},5,null,{"$f":"AI7 +Juin!BH7","v":43},{"$f":"AJ7+Juin!BI7","v":1},{"$f":"AK7+Juin!BJ7","v":0},{"$f":"AL7+Juin!BK7","v":15},{"$f":"AM7+Juin!BL7","v":28},{"$f":"AN7+Juin!BM7","v":2},{"$f":"AO7+Juin!BN7","v":1},{"$f":"AP7+Juin!BO7","v":0},{"$f":"AQ7+Juin!BP7","v":0},{"$f":"AR7+Juin!BQ7","v":0},{"$f":"AS7+Juin!BR7","v":0},{"$f":"AT7+Juin!BS7","v":0},{"$f":"AU7+Juin!BT7","v":0},{"$f":"AV7+Juin!BU7","v":0},{"$f":"AW7+Juin!BV7","v":0},{"$f":"AX7+Juin!BW7","v":31},{"$f":"AY7+Juin!BX7","v":0},{"$f":"AZ7+Juin!BY7","v":0},{"$f":"BA7+Juin!BZ7","v":3},{"$f":"BB7+Juin!CA7","v":0},{"$f":"BC7+Juin!CB7","v":0},{"$f":"BD7+Juin!CC7","v":0},{"$f":"BE7+Juin!CD7","v":0},{"$f":"BF7+Juin!CE7","v":90},null,{"$f":"Juin!CG7","v":0},31,-31,null,{"$f":"Juin!CK7","v":0},0,0,null,{"$f":"Juin!CO7","v":0},0,0,null,{"$f":"Juin!CS7","v":0},0,0]
[{"$f":"Juin!A8","v":0},null,null,null,null,null,null,null,null,null,null,null,null,null,null,null,null,null,null,null,null,null,null,null,null,null,null,null,null,null,null,null,null,null,{"$f":"COUNTIF(C8:AG8,Accueil!$B$8)","v":0},{"$f":"COUNTIF(C8:AG8,Accueil!$B$9)","v":0},{"$f":"COUNTIF(C8:AG8,Accueil!$B$10)","v":0},{"$f":"COUNTIF(C8:AG8,Accueil!$B$11)","v":0},{"$f":"COUNTIF(C8:AG8,Accueil!$B$12)","v":0},{"$f":"COUNTIF(C8:AG8,Accueil!$B$13)","v":0},{"$f":"COUNTIF(C8:AG8,Accueil!$B$14)","v":0},{"$f":"COUNTIF(C8:AG8,Accueil!$B$15)","v":0},{"$f":"COUNTIF(C8:AG8,Accueil!$B$16)","v":0},{"$f":"COUNTIF(C8:AG8,Accueil!$B$17)","v":0},{"$f":"COUNTIF(C8:AG8,Accueil!$B$18)","v":0},{"$f":"COUNTIF(C8:AG8,Accueil!$B$19)","v":0},{"$f":"COUNTIF(C8:AG8,Accueil!$B$20)","v":0},{"$f":"COUNTIF(C8:AG8,Accueil!$B$21)","v":0},{"$f":"COUNTIF(C8:AG8,Accueil!$B$22)","v":0},{"$f":"COUNTIF(C8:AG8,Accueil!$B$23)","v":0},{"$f":"COUNTIF(C8:AG8,Accueil!$B$24)","v":0},{"$f":"COUNTIF(C8:AG8,Accueil!$B$25)","v":0},{"$f":"COUNTIF(C8:AG8,Accueil!$B$26)","v":0},{"$f":"COUNTIF(C8:AG8,Accueil!$B$27)","v":0},{"$f":"COUNTIF(C8:AG8,Accueil!$B$28)","v":0},{"$f":"COUNTIF(C8:AG8,Accueil!$B$29)","v":0},{"$f":"COUNTIF(C8:AG8,Accueil!$B$30)","v":0},0,null,{"$f":"AI8 +Juin!BH8","v":0},{"$f":"AJ8+Juin!BI8","v":0},{"$f":"AK8+Juin!BJ8","v":0},{"$f":"AL8+Juin!BK8","v":0},{"$f":"AM8+Juin!BL8","v":0},{"$f":"AN8+Juin!BM8","v":0},{"$f":"AO8+Juin!BN8","v":0},{"$f":"AP8+Juin!BO8","v":0},{"$f":"AQ8+Juin!BP8","v":0},{"$f":"AR8+Juin!BQ8","v":0},{"$f":"AS8+Juin!BR8","v":1},{"$f":"AT8+Juin!BS8","v":0},{"$f":"AU8+Juin!BT8","v":0},{"$f":"AV8+Juin!BU8","v":0},{"$f":"AW8+Juin!BV8","v":0},{"$f":"AX8+Juin!BW8","v":0},{"$f":"AY8+Juin!BX8","v":0},{"$f":"AZ8+Juin!BY8","v":0},{"$f":"BA8+Juin!BZ8","v":0},{"$f":"BB8+Juin!CA8","v":0},{"$f":"BC8+Juin!CB8","v":0},{"$f":"BD8+Juin!CC8","v":0},{"$f":"BE8+Juin!CD8","v":0},{"$f":"BF8+Juin!CE8","v":1},null,{"$f":"Juin!CG8","v":0},0,0,null,{"$f":"Juin!CK8","v":0},0,0,null,{"$f":"Juin!CO8","v":0},0,0,null,{"$f":"Juin!CS8","v":0},0,0]
[{"$f":"Juin!A9","v":"Isabel"},null,null,"MP",null,"AP2","M1",null,null,null,"MP",null,"AP2","M1",null,"AP1",null,null,null,"AP2","M1","Vac","Vac","Vac","Vac","Vac","Vac","Vac","Vac","Vac","Vac","Vac","Vac",null,{"$f":"COUNTIF(C9:AG9,Accueil!$B$8)","v":3},{"$f":"COUNTIF(C9:AG9,Accueil!$B$9)","v":0},{"$f":"COUNTIF(C9:AG9,Accueil!$B$10)","v":0},{"$f":"COUNTIF(C9:AG9,Accueil!$B$11)","v":2},{"$f":"COUNTIF(C9:AG9,Accueil!$B$12)","v":1},{"$f":"COUNTIF(C9:AG9,Accueil!$B$13)","v":3},{"$f":"COUNTIF(C9:AG9,Accueil!$B$14)","v":0},{"$f":"COUNTIF(C9:AG9,Accueil!$B$15)","v":0},{"$f":"COUNTIF(C9:AG9,Accueil!$B$16)","v":0},{"$f":"COUNTIF(C9:AG9,Accueil!$B$17)","v":0},{"$f":"COUNTIF(C9:AG9,Accueil!$B$18)","v":0},{"$f":"COUNTIF(C9:AG9,Accueil!$B$19)","v":0},{"$f":"COUNTIF(C9:AG9,Accueil!$B$20)","v":0},{"$f":"COUNTIF(C9:AG9,Accueil!$B$21)","v":0},{"$f":"COUNTIF(C9:AG9,Accueil!$B$22)","v":0},{"$f":"COUNTIF(C9:AG9,Accueil!$B$23)","v":12},{"$f":"COUNTIF(C9:AG9,Accueil!$B$24)","v":0},{"$f":"COUNTIF(C9:AG9,Accueil!$B$25)","v":0},{"$f":"COUNTIF(C9:AG9,Accueil!$B$26)","v":0},{"$f":"COUNTIF(C9:AG9,Accueil!$B$27)","v":0},{"$f":"COUNTIF(C9:AG9,Accueil!$B$28)","v":0},{"$f":"COUNTIF(C9:AG9,Accueil!$B$29)","v":0},{"$f":"COUNTIF(C9:AG9,Accueil!$B$30)","v":0},9,null,{"$f":"AI9 +Juin!BH9","v":24},{"$f":"AJ9+Juin!BI9","v":0},{"$f":"AK9+Juin!BJ9","v":0},{"$f":"AL9+Juin!BK9","v":14},{"$f":"AM9+Juin!BL9","v":1},{"$f":"AN9+Juin!BM9","v":29},{"$f":"AO9+Juin!BN9","v":0},{"$f":"AP9+Juin!BO9","v":0},{"$f":"AQ9+Juin!BP9","v":0},{"$f":"AR9+Juin!BQ9","v":0},{"$f":"AS9+Juin!BR9","v":0},{"$f":"AT9+Juin!BS9","v":0},{"$f":"AU9+Juin!BT9","v":0},{"$f":"AV9+Juin!BU9","v":0},{"$f":"AW9+Juin!BV9","v":0},{"$f":"AX9+Juin!BW9","v":33},{"$f":"AY9+Juin!BX9","v":0},{"$f":"AZ9+Juin!BY9","v":0},{"$f":"BA9+Juin!BZ9","v":0},{"$f":"BB9+Juin!CA9","v":0},{"$f":"BC9+Juin!CB9","v":0},{"$f":"BD9+Juin!CC9","v":0},{"$f":"BE9+Juin!CD9","v":0},{"$f":"BF9+Juin!CE9","v":68},null,{"$f":"Juin!CG9","v":0},33,-33,null,{"$f":"Juin!CK9","v":0},0,0,null,{"$f":"Juin!CO9","v":0},0,0,null,{"$f":"Juin!CS9","v":0},0,0]
[{"$f":"Juin!A10","v":0},null,null,null,null,null,null,null,null,null,null,null,null,null,null,null,null,null,null,null,null,null,null,null,null,null,null,null,null,null,null,null,null,null,{"$f":"COUNTIF(C10:AG10,Accueil!$B$8)","v":0},{"$f":"COUNTIF(C10:AG10,Accueil!$B$9)","v":0},{"$f":"COUNTIF(C10:AG10,Accueil!$B$10)","v":0},{"$f":"COUNTIF(C10:AG10,Accueil!$B$11)","v":0},{"$f":"COUNTIF(C10:AG10,Accueil!$B$12)","v":0},{"$f":"COUNTIF(C10:AG10,Accueil!$B$13)","v":0},{"$f":"COUNTIF(C10:AG10,Accueil!$B$14)","v":0},{"$f":"COUNTIF(C10:AG10,Accueil!$B$15)","v":0},{"$f":"COUNTIF(C10:AG10,Accueil!$B$16)","v":0},{"$f":"COUNTIF(C10:AG10,Accueil!$B$17)","v":0},{"$f":"COUNTIF(C10:AG10,Accueil!$B$18)","v":0},{"$f":"COUNTIF(C10:AG10,Accueil!$B$19)","v":0},{"$f":"COUNTIF(C10:AG10,Accueil!$B$20)","v":0},{"$f":"COUNTIF(C10:AG10,Accueil!$B$21)","v":0},{"$f":"COUNTIF(C10:AG10,Accueil!$B$22)","v":0},{"$f":"COUNTIF(C10:AG10,Accueil!$B$23)","v":0},{"$f":"COUNTIF(C10:AG10,Accueil!$B$24)","v":0},{"$f":"COUNTIF(C10:AG10,Accueil!$B$25)","v":0},{"$f":"COUNTIF(C10:AG10,Accueil!$B$26)","v":0},{"$f":"COUNTIF(C10:AG10,Accueil!$B$27)","v":0},{"$f":"COUNTIF(C10:AG10,Accueil!$B$28)","v":0},{"$f":"COUNTIF(C10:AG10,Accueil!$B$29)","v":0},{"$f":"COUNTIF(C10:AG10,Accueil!$B$30)","v":0},0,null,{"$f":"AI10 +Juin!BH10","v":0},{"$f":"AJ10+Juin!BI10","v":0},{"$f":"AK10+Juin!BJ10","v":0},{"$f":"AL10+Juin!BK10","v":0},{"$f":"AM10+Juin!BL10","v":0},{"$f":"AN10+Juin!BM10","v":0},{"$f":"AO10+Juin!BN10","v":0},{"$f":"AP10+Juin!BO10","v":0},{"$f":"AQ10+Juin!BP10","v":0},{"$f":"AR10+Juin!BQ10","v":1},{"$f":"AS10+Juin!BR10","v":2},{"$f":"AT10+Juin!BS10","v":0},{"$f":"AU10+Juin!BT10","v":0},{"$f":"AV10+Juin!BU10","v":0},{"$f":"AW10+Juin!BV10","v":0},{"$f":"AX10+Juin!BW10","v":0},{"$f":"AY10+Juin!BX10","v":0},{"$f":"AZ10+Juin!BY10","v":0},{"$f":"BA10+Juin!BZ10","v":0},{"$f":"BB10+Juin!CA10","v":0},{"$f":"BC10+Juin!CB10","v":0},{"$f":"BD10+Juin!CC10","v":0},{"$f":"BE10+Juin!CD10","v":0},{"$f":"BF10+Juin!CE10","v":3},null,{"$f":"Juin!CG10","v":0},0,0,null,{"$f":"Juin!CK10","v":0},0,0,null,{"$f":"Juin!CO10","v":0},0,0,null,{"$f":"Juin!CS10","v":0},0,0]
[{"$f":"Juin!A11","v":"Simon-Pierre"},null,"M1",null,null,"M1","M2","MP",null,"M1",null,"MP","M1","M2","M3",null,"MP",null,null,"M1","M2","MP",null,"M1","MP","MP","M1","M2","M3",null,"M1",null,null,null,{"$f":"COUNTIF(C11:AG11,Accueil!$B$8)","v":8},{"$f":"COUNTIF(C11:AG11,Accueil!$B$9)","v":4},{"$f":"COUNTIF(C11:AG11,Accueil!$B$10)","v":2},{"$f":"COUNTIF(C11:AG11,Accueil!$B$11)","v":6},{"$f":"COUNTIF(C11:AG11,Accueil!$B$12)","v":0},{"$f":"COUNTIF(C11:AG11,Accueil!$B$13)","v":0},{"$f":"COUNTIF(C11:AG11,Accueil!$B$14)","v":0},{"$f":"COUNTIF(C11:AG11,Accueil!$B$15)","v":0},{"$f":"COUNTIF(C11:AG11,Accueil!$B$16)","v":0},{"$f":"COUNTIF(C11:AG11,Accueil!$B$17)","v":0},{"$f":"COUNTIF(C11:AG11,Accueil!$B$18)","v":0},{"$f":"COUNTIF(C11:AG11,Accueil!$B$19)","v":0},{"$f":"COUNTIF(C11:AG11,Accueil!$B$20)","v":0},{"$f":"COUNTIF(C11:AG11,Accueil!$B$21)","v":0},{"$f":"COUNTIF(C11:AG11,Accueil!$B$22)","v":0},{"$f":"COUNTIF(C11:AG11,Accueil!$B$23)","v":0},{"$f":"COUNTIF(C11:AG11,Accueil!$B$24)","v":0},{"$f":"COUNTIF(C11:AG11,Accueil!$B$25)","v":0},{"$f":"COUNTIF(C11:AG11,Accueil!$B$26)","v":0},{"$f":"COUNTIF(C11:AG11,Accueil!$B$27)","v":0},{"$f":"COUNTIF(C11:AG11,Accueil!$B$28)","v":0},{"$f":"COUNTIF(C11:AG11,Accueil!$B$29)","v":0},{"$f":"COUNTIF(C11:AG11,Accueil!$B$30)","v":0},20,null,{"$f":"AI11 +Juin!BH11","v":44},{"$f":"AJ11+Juin!BI11","v":27},{"$f":"AK11+Juin!BJ11","v":8},{"$f":"AL11+Juin!BK11","v":27},{"$f":"AM11+Juin!BL11","v":0},{"$f":"AN11+Juin!BM11","v":0},{"$f":"AO11+Juin!BN11","v":0},{"$f":"AP11+Juin!BO11","v":0},{"$f":"AQ11+Juin!BP11","v":0},{"$f":"AR11+Juin!BQ11","v":0},{"$f":"AS11+Juin!BR11","v":0},{"$f":"AT11+Juin!BS11","v":0},{"$f":"AU11+Juin!BT11","v":0},{"$f":"AV11+Juin!BU11","v":0},{"$f":"AW11+Juin!BV11","v":0},{"$f":"AX11+Juin!BW11","v":36},{"$f":"AY11+Juin!BX11","v":0},{"$f":"AZ11+Juin!BY11","v":0},{"$f":"BA11+Juin!BZ11","v":0},{"$f":"BB11+Juin!CA11","v":0},{"$f":"BC11+Juin!CB11","v":0},{"$f":"BD11+Juin!CC11","v":0},{"$f":"BE11+Juin!CD11","v":0},{"$f":"BF11+Juin!CE11","v":106},null,{"$f":"Juin!CG11","v":0},36,-36,null,{"$f":"Juin!CK11","v":0},0,0,null,{"$f":"Juin!CO11","v":0},0,0,null,{"$f":"Juin!CS11","v":0},0,0]
[{"$f":"Juin!A12","v":0},null,null,null,null,null,null,null,null,null,null,null,null,null,"LY",null,null,null,null,null,null,null,null,null,null,null,null,null,"LY",null,null,null,null,null,{"$f":"COUNTIF(C12:AG12,Accueil!$B$8)","v":0},{"$f":"COUNTIF(C12:AG12,Accueil!$B$9)","v":0},{"$f":"COUNTIF(C12:AG12,Accueil!$B$10)","v":0},{"$f":"COUNTIF(C12:AG12,Accueil!$B$11)","v":0},{"$f":"COUNTIF(C12:AG12,Accueil!$B$12)","v":0},{"$f":"COUNTIF(C12:AG12,Accueil!$B$13)","v":0},{"$f":"COUNTIF(C12:AG12,Accueil!$B$14)","v":0},{"$f":"COUNTIF(C12:AG12,Accueil!$B$15)","v":0},{"$f":"COUNTIF(C12:AG12,Accueil!$B$16)","v":0},{"$f":"COUNTIF(C12:AG12,Accueil!$B$17)","v":0},{"$f":"COUNTIF(C12:AG12,Accueil!$B$18)","v":2},{"$f":"COUNTIF(C12:AG12,Accueil!$B$19)","v":0},{"$f":"COUNTIF(C12:AG12,Accueil!$B$20)","v":0},{"$f":"COUNTIF(C12:AG12,Accueil!$B$21)","v":0},{"$f":"COUNTIF(C12:AG12,Accueil!$B$22)","v":0},{"$f":"COUNTIF(C12:AG12,Accueil!$B$23)","v":0},{"$f":"COUNTIF(C12:AG12,Accueil!$B$24)","v":0},{"$f":"COUNTIF(C12:AG12,Accueil!$B$25)","v":0},{"$f":"COUNTIF(C12:AG12,Accueil!$B$26)","v":0},{"$f":"COUNTIF(C12:AG12,Accueil!$B$27)","v":0},{"$f":"COUNTIF(C12:AG12,Accueil!$B$28)","v":0},{"$f":"COUNTIF(C12:AG12,Accueil!$B$29)","v":0},{"$f":"COUNTIF(C12:AG12,Accueil!$B$30)","v":0},2,null,{"$f":"AI12 +Juin!BH12","v":0},{"$f":"AJ12+Juin!BI12","v":0},{"$f":"AK12+Juin!BJ12","v":0},{"$f":"AL12+Juin!BK12","v":0},{"$f":"AM12+Juin!BL12","v":0},{"$f":"AN12+Juin!BM12","v":0},{"$f":"AO12+Juin!BN12","v":0},{"$f":"AP12+Juin!BO12","v":0},{"$f":"AQ12+Juin!BP12","v":0},{"$f":"AR12+Juin!BQ12","v":0},{"$f":"AS12+Juin!BR12","v":18},{"$f":"AT12+Juin!BS12","v":0},{"$f":"AU12+Juin!BT12","v":0},{"$f":"AV12+Juin!BU12","v":0},{"$f":"AW12+Juin!BV12","v":0},{"$f":"AX12+Juin!BW12","v":0},{"$f":"AY12+Juin!BX12","v":0},{"$f":"AZ12+Juin!BY12","v":0},{"$f":"BA12+Juin!BZ12","v":0},{"$f":"BB12+Juin!CA12","v":0},{"$f":"BC12+Juin!CB12","v":0},{"$f":"BD12+Juin!CC12","v":0},{"$f":"BE12+Juin!CD12","v":0},{"$f":"BF12+Juin!CE12","v":18},null,{"$f":"Juin!CG12","v":0},0,0,null,{"$f":"Juin!CK12","v":0},0,0,null,{"$f":"Juin!CO12","v":0},0,0,null,{"$f":"Juin!CS12","v":0},0,0]
[{"$f":"Juin!A13","v":"Virginie"},null,"AP2",null,null,"M1","M2","MP","M3",null,null,null,"M1","M2","MP","M3",null,"MP",null,"MP","M2","MP","M3",null,null,null,"MP","M2","MP","M3",null,"MP",null,null,{"$f":"COUNTIF(C13:AG13,Accueil!$B$8)","v":2},{"$f":"COUNTIF(C13:AG13,Accueil!$B$9)","v":4},{"$f":"COUNTIF(C13:AG13,Accueil!$B$10)","v":4},{"$f":"COUNTIF(C13:AG13,Accueil!$B$11)","v":8},{"$f":"COUNTIF(C13:AG13,Accueil!$B$12)","v":0},{"$f":"COUNTIF(C13:AG13,Accueil!$B$13)","v":1},{"$f":"COUNTIF(C13:AG13,Accueil!$B$14)","v":0},{"$f":"COUNTIF(C13:AG13,Accueil!$B$15)","v":0},{"$f":"COUNTIF(C13:AG13,Accueil!$B$16)","v":0},{"$f":"COUNTIF(C13:AG13,Accueil!$B$17)","v":0},{"$f":"COUNTIF(C13:AG13,Accueil!$B$18)","v":0},{"$f":"COUNTIF(C13:AG13,Accueil!$B$19)","v":0},{"$f":"COUNTIF(C13:AG13,Accueil!$B$20)","v":0},{"$f":"COUNTIF(C13:AG13,Accueil!$B$21)","v":0},{"$f":"COUNTIF(C13:AG13,Accueil!$B$22)","v":0},{"$f":"COUNTIF(C13:AG13,Accueil!$B$23)","v":0},{"$f":"COUNTIF(C13:AG13,Accueil!$B$24)","v":0},{"$f":"COUNTIF(C13:AG13,Accueil!$B$25)","v":0},{"$f":"COUNTIF(C13:AG13,Accueil!$B$26)","v":0},{"$f":"COUNTIF(C13:AG13,Accueil!$B$27)","v":0},{"$f":"COUNTIF(C13:AG13,Accueil!$B$28)","v":0},{"$f":"COUNTIF(C13:AG13,Accueil!$B$29)","v":0},{"$f":"COUNTIF(C13:AG13,Accueil!$B$30)","v":0},19,null,{"$f":"AI13 +Juin!BH13","v":18},{"$f":"AJ13+Juin!BI13","v":30},{"$f":"AK13+Juin!BJ13","v":18},{"$f":"AL13+Juin!BK13","v":49},{"$f":"AM13+Juin!BL13","v":1},{"$f":"AN13+Juin!BM13","v":7},{"$f":"AO13+Juin!BN13","v":0},{"$f":"AP13+Juin!BO13","v":0},{"$f":"AQ13+Juin!BP13","v":0},{"$f":"AR13+Juin!BQ13","v":0},{"$f":"AS13+Juin!BR13","v":0},{"$f":"AT13+Juin!BS13","v":0},{"$f":"AU13+Juin!BT13","v":0},{"$f":"AV13+Juin!BU13","v":0},{"$f":"AW13+Juin!BV13","v":0},{"$f":"AX13+Juin!BW13","v":6},{"$f":"AY13+Juin!BX13","v":0},{"$f":"AZ13+Juin!BY13","v":0},{"$f":"BA13+Juin!BZ13","v":17},{"$f":"BB13+Juin!CA13","v":1},{"$f":"BC13+Juin!CB13","v":0},{"$f":"BD13+Juin!CC13","v":0},{"$f":"BE13+Juin!CD13","v":0},{"$f":"BF13+Juin!CE13","v":123},null,{"$f":"Juin!CG13","v":0},6,-6,null,{"$f":"Juin!CK13","v":0},0,0,null,{"$f":"Juin!CO13","v":0},0,0,null,{"$f":"Juin!CS13","v":0},0,0]
[{"$f":"Juin!A14","v":0},null,null,null,null,null,null,null,null,null,null,null,null,null,null,null,null,null,null,null,null,null,null,null,null,null,null,null,null,null,null,null,null,null,{"$f":"COUNTIF(C14:AG14,Accueil!$B$8)","v":0},{"$f":"COUNTIF(C14:AG14,Accueil!$B$9)","v":0},{"$f":"COUNTIF(C14:AG14,Accueil!$B$10)","v":0},{"$f":"COUNTIF(C14:AG14,Accueil!$B$11)","v":0},{"$f":"COUNTIF(C14:AG14,Accueil!$B$12)","v":0},{"$f":"COUNTIF(C14:AG14,Accueil!$B$13)","v":0},{"$f":"COUNTIF(C14:AG14,Accueil!$B$14)","v":0},{"$f":"COUNTIF(C14:AG14,Accueil!$B$15)","v":0},{"$f":"COUNTIF(C14:AG14,Accueil!$B$16)","v":0},{"$f":"COUNTIF(C14:AG14,Accueil!$B$17)","v":0},{"$f":"COUNTIF(C14:AG14,Accueil!$B$18)","v":0},{"$f":"COUNTIF(C14:AG14,Accueil!$B$19)","v":0},{"$f":"COUNTIF(C14:AG14,Accueil!$B$20)","v":0},{"$f":"COUNTIF(C14:AG14,Accueil!$B$21)","v":0},{"$f":"COUNTIF(C14:AG14,Accueil!$B$22)","v":0},{"$f":"COUNTIF(C14:AG14,Accueil!$B$23)","v":0},{"$f":"COUNTIF(C14:AG14,Accueil!$B$24)","v":0},{"$f":"COUNTIF(C14:AG14,Accueil!$B$25)","v":0},{"$f":"COUNTIF(C14:AG14,Accueil!$B$26)","v":0},{"$f":"COUNTIF(C14:AG14,Accueil!$B$27)","v":0},{"$f":"COUNTIF(C14:AG14,Accueil!$B$28)","v":0},{"$f":"COUNTIF(C14:AG14,Accueil!$B$29)","v":0},{"$f":"COUNTIF(C14:AG14,Accueil!$B$30)","v":0},0,null,{"$f":"AI14 +Juin!BH14","v":0},{"$f":"AJ14+Juin!BI14","v":0},{"$f":"AK14+Juin!BJ14","v":0},{"$f":"AL14+Juin!BK14","v":0},{"$f":"AM14+Juin!BL14","v":0},{"$f":"AN14+Juin!BM14","v":0},{"$f":"AO14+Juin!BN14","v":0},{"$f":"AP14+Juin!BO14","v":0},{"$f":"AQ14+Juin!BP14","v":0},{"$f":"AR14+Juin!BQ14","v":6},{"$f":"AS14+Juin!BR14","v":1},{"$f":"AT14+Juin!BS14","v":0},{"$f":"AU14+Juin!BT14","v":0},{"$f":"AV14+Juin!BU14","v":0},{"$f":"AW14+Juin!BV14","v":0},{"$f":"AX14+Juin!BW14","v":0},{"$f":"AY14+Juin!BX14","v":0},{"$f":"AZ14+Juin!BY14","v":0},{"$f":"BA14+Juin!BZ14","v":0},{"$f":"BB14+Juin!CA14","v":0},{"$f":"BC14+Juin!CB14","v":0},{"$f":"BD14+Juin!CC14","v":0},{"$f":"BE14+Juin!CD14","v":0},{"$f":"BF14+Juin!CE14","v":7},null,{"$f":"Juin!CG14","v":0},0,0,null,{"$f":"Juin!CK14","v":0},0,0,null,{"$f":"Juin!CO14","v":0},0,0,null,{"$f":"Juin!CS14","v":0},0,0]
[{"$f":"Juin!A15","v":"Jacqueline"},null,"M2",null,null,"M3","MP",null,null,"M2",null,null,"AP2","MP",null,null,"M2","MP",null,"M3","MP",null,null,"M2","MP",null,"M2","MP",null,null,"MP","MP",null,null,{"$f":"COUNTIF(C15:AG15,Accueil!$B$8)","v":0},{"$f":"COUNTIF(C15:AG15,Accueil!$B$9)","v":5},{"$f":"COUNTIF(C15:AG15,Accueil!$B$10)","v":2},{"$f":"COUNTIF(C15:AG15,Accueil!$B$11)","v":8},{"$f":"COUNTIF(C15:AG15,Accueil!$B$12)","v":0},{"$f":"COUNTIF(C15:AG15,Accueil!$B$13)","v":1},{"$f":"COUNTIF(C15:AG15,Accueil!$B$14)","v":0},{"$f":"COUNTIF(C15:AG15,Accueil!$B$15)","v":0},{"$f":"COUNTIF(C15:AG15,Accueil!$B$16)","v":0},{"$f":"COUNTIF(C15:AG15,Accueil!$B$17)","v":0},{"$f":"COUNTIF(C15:AG15,Accueil!$B$18)","v":0},{"$f":"COUNTIF(C15:AG15,Accueil!$B$19)","v":0},{"$f":"COUNTIF(C15:AG15,Accueil!$B$20)","v":0},{"$f":"COUNTIF(C15:AG15,Accueil!$B$21)","v":0},{"$f":"COUNTIF(C15:AG15,Accueil!$B$22)","v":0},{"$f":"COUNTIF(C15:AG15,Accueil!$B$23)","v":0},{"$f":"COUNTIF(C15:AG15,Accueil!$B$24)","v":0},{"$f":"COUNTIF(C15:AG15,Accueil!$B$25)","v":0},{"$f":"COUNTIF(C15:AG15,Accueil!$B$26)","v":0},{"$f":"COUNTIF(C15:AG15,Accueil!$B$27)","v":0},{"$f":"COUNTIF(C15:AG15,Accueil!$B$28)","v":0},{"$f":"COUNTIF(C15:AG15,Accueil!$B$29)","v":0},{"$f":"COUNTIF(C15:AG15,Accueil!$B$30)","v":0},16,null,{"$f":"AI15 +Juin!BH15","v":3},{"$f":"AJ15+Juin!BI15","v":20},{"$f":"AK15+Juin!BJ15","v":16},{"$f":"AL15+Juin!BK15","v":40},{"$f":"AM15+Juin!BL15","v":1},{"$f":"AN15+Juin!BM15","v":2},{"$f":"AO15+Juin!BN15","v":0},{"$f":"AP15+Juin!BO15","v":0},{"$f":"AQ15+Juin!BP15","v":0},{"$f":"AR15+Juin!BQ15","v":0},{"$f":"AS15+Juin!BR15","v":0},{"$f":"AT15+Juin!BS15","v":0},{"$f":"AU15+Juin!BT15","v":0},{"$f":"AV15+Juin!BU15","v":0},{"$f":"AW15+Juin!BV15","v":0},{"$f":"AX15+Juin!BW15","v":41},{"$f":"AY15+Juin!BX15","v":0},{"$f":"AZ15+Juin!BY15","v":0},{"$f":"BA15+Juin!BZ15","v":2},{"$f":"BB15+Juin!CA15","v":0},{"$f":"BC15+Juin!CB15","v":0},{"$f":"BD15+Juin!CC15","v":0},{"$f":"BE15+Juin!CD15","v":0},{"$f":"BF15+Juin!CE15","v":82},null,{"$f":"Juin!CG15","v":0},41,-41,null,{"$f":"Juin!CK15","v":0},0,0,null,{"$f":"Juin!CO15","v":0},0,0,null,{"$f":"Juin!CS15","v":0},0,0]
[{"$f":"Juin!A16","v":0},null,null,null,null,null,null,null,null,null,null,null,null,null,null,null,null,null,null,null,null,null,null,null,null,null,null,null,null,null,null,null,null,null,{"$f":"COUNTIF(C16:AG16,Accueil!$B$8)","v":0},{"$f":"COUNTIF(C16:AG16,Accueil!$B$9)","v":0},{"$f":"COUNTIF(C16:AG16,Accueil!$B$10)","v":0},{"$f":"COUNTIF(C16:AG16,Accueil!$B$11)","v":0},{"$f":"COUNTIF(C16:AG16,Accueil!$B$12)","v":0},{"$f":"COUNTIF(C16:AG16,Accueil!$B$13)","v":0},{"$f":"COUNTIF(C16:AG16,Accueil!$B$14)","v":0},{"$f":"COUNTIF(C16:AG16,Accueil!$B$15)","v":0},{"$f":"COUNTIF(C16:AG16,Accueil!$B$16)","v":0},{"$f":"COUNTIF(C16:AG16,Accueil!$B$17)","v":0},{"$f":"COUNTIF(C16:AG16,Accueil!$B$18)","v":0},{"$f":"COUNTIF(C16:AG16,Accueil!$B$19)","v":0},{"$f":"COUNTIF(C16:AG16,Accueil!$B$20)","v":0},{"$f":"COUNTIF(C16:AG16,Accueil!$B$21)","v":0},{"$f":"COUNTIF(C16:AG16,Accueil!$B$22)","v":0},{"$f":"COUNTIF(C16:AG16,Accueil!$B$23)","v":0},{"$f":"COUNTIF(C16:AG16,Accueil!$B$24)","v":0},{"$f":"COUNTIF(C16:AG16,Accueil!$B$25)","v":0},{"$f":"COUNTIF(C16:AG16,Accueil!$B$26)","v":0},{"$f":"COUNTIF(C16:AG16,Accueil!$B$27)","v":0},{"$f":"COUNTIF(C16:AG16,Accueil!$B$28)","v":0},{"$f":"COUNTIF(C16:AG16,Accueil!$B$29)","v":0},{"$f":"COUNTIF(C16:AG16,Accueil!$B$30)","v":0},0,null,{"$f":"AI16 +Juin!BH16","v":0},{"$f":"AJ16+Juin!BI16","v":0},{"$f":"AK16+Juin!BJ16","v":0},{"$f":"AL16+Juin!BK16","v":0},{"$f":"AM16+Juin!BL16","v":0},{"$f":"AN16+Juin!BM16","v":0},{"$f":"AO16+Juin!BN16","v":0},{"$f":"AP16+Juin!BO16","v":0},{"$f":"AQ16+Juin!BP16","v":0},{"$f":"AR16+Juin!BQ16","v":0},{"$f":"AS16+Juin!BR16","v":6},{"$f":"AT16+Juin!BS16","v":0},{"$f":"AU16+Juin!BT16","v":0},{"$f":"AV16+Juin!BU16","v":0},{"$f":"AW16+Juin!BV16","v":0},{"$f":"AX16+Juin!BW16","v":0},{"$f":"AY16+Juin!BX16","v":0},{"$f":"AZ16+Juin!BY16","v":0},{"$f":"BA16+Juin!BZ16","v":0},{"$f":"BB16+Juin!CA16","v":0},{"$f":"BC16+Juin!CB16","v":0},{"$f":"BD16+Juin!CC16","v":0},{"$f":"BE16+Juin!CD16","v":0},{"$f":"BF16+Juin!CE16","v":6},null,{"$f":"Juin!CG16","v":0},0,0,null,{"$f":"Juin!CK16","v":0},0,0,null,{"$f":"Juin!CO16","v":0},0,0,null,{"$f":"Juin!CS16","v":0},0,0]
[{"$f":"Juin!A17","v":"Colette"},null,null,null,null,null,"MP","LY",null,null,null,"MP",null,"M2","MP",null,null,null,"MP",null,"M2","MP","AP2",null,null,null,"AP2","M2","MP",null,null,null,"MP",null,{"$f":"COUNTIF(C17:AG17,Accueil!$B$8)","v":0},{"$f":"COUNTIF(C17:AG17,Accueil!$B$9)","v":3},{"$f":"COUNTIF(C17:AG17,Accueil!$B$10)","v":0},{"$f":"COUNTIF(C17:AG17,Accueil!$B$11)","v":7},{"$f":"COUNTIF(C17:AG17,Accueil!$B$12)","v":0},{"$f":"COUNTIF(C17:AG17,Accueil!$B$13)","v":2},{"$f":"COUNTIF(C17:AG17,Accueil!$B$14)","v":0},{"$f":"COUNTIF(C17:AG17,Accueil!$B$15)","v":0},{"$f":"COUNTIF(C17:AG17,Accueil!$B$16)","v":0},{"$f":"COUNTIF(C17:AG17,Accueil!$B$17)","v":0},{"$f":"COUNTIF(C17:AG17,Accueil!$B$18)","v":1},{"$f":"COUNTIF(C17:AG17,Accueil!$B$19)","v":0},{"$f":"COUNTIF(C17:AG17,Accueil!$B$20)","v":0},{"$f":"COUNTIF(C17:AG17,Accueil!$B$21)","v":0},{"$f":"COUNTIF(C17:AG17,Accueil!$B$22)","v":0},{"$f":"COUNTIF(C17:AG17,Accueil!$B$23)","v":0},{"$f":"COUNTIF(C17:AG17,Accueil!$B$24)","v":0},{"$f":"COUNTIF(C17:AG17,Accueil!$B$25)","v":0},{"$f":"COUNTIF(C17:AG17,Accueil!$B$26)","v":0},{"$f":"COUNTIF(C17:AG17,Accueil!$B$27)","v":0},{"$f":"COUNTIF(C17:AG17,Accueil!$B$28)","v":0},{"$f":"COUNTIF(C17:AG17,Accueil!$B$29)","v":0},{"$f":"COUNTIF(C17:AG17,Accueil!$B$30)","v":0},13,null,{"$f":"AI17 +Juin!BH17","v":0},{"$f":"AJ17+Juin!BI17","v":24},{"$f":"AK17+Juin!BJ17","v":1},{"$f":"AL17+Juin!BK17","v":38},{"$f":"AM17+Juin!BL17","v":4},{"$f":"AN17+Juin!BM17","v":5},{"$f":"AO17+Juin!BN17","v":0},{"$f":"AP17+Juin!BO17","v":0},{"$f":"AQ17+Juin!BP17","v":0},{"$f":"AR17+Juin!BQ17","v":0},{"$f":"AS17+Juin!BR17","v":3},{"$f":"AT17+Juin!BS17","v":0},{"$f":"AU17+Juin!BT17","v":24},{"$f":"AV17+Juin!BU17","v":0},{"$f":"AW17+Juin!BV17","v":0},{"$f":"AX17+Juin!BW17","v":5},{"$f":"AY17+Juin!BX17","v":0},{"$f":"AZ17+Juin!BY17","v":0},{"$f":"BA17+Juin!BZ17","v":0},{"$f":"BB17+Juin!CA17","v":0},{"$f":"BC17+Juin!CB17","v":0},{"$f":"BD17+Juin!CC17","v":0},{"$f":"BE17+Juin!CD17","v":0},{"$f":"BF17+Juin!CE17","v":75},null,{"$f":"Juin!CG17","v":0},5,-5,null,{"$f":"Juin!CK17","v":0},0,0,null,{"$f":"Juin!CO17","v":0},0,0,null,{"$f":"Juin!CS17","v":0},0,0]
[{"$f":"Juin!A18","v":0},null,null,null,null,null,null,null,null,null,null,"LY",null,null,null,null,null,null,"LY",null,null,"LY",null,null,null,null,null,null,null,null,null,null,null,null,{"$f":"COUNTIF(C18:AG18,Accueil!$B$8)","v":0},{"$f":"COUNTIF(C18:AG18,Accueil!$B$9)","v":0},{"$f":"COUNTIF(C18:AG18,Accueil!$B$10)","v":0},{"$f":"COUNTIF(C18:AG18,Accueil!$B$11)","v":0},{"$f":"COUNTIF(C18:AG18,Accueil!$B$12)","v":0},{"$f":"COUNTIF(C18:AG18,Accueil!$B$13)","v":0},{"$f":"COUNTIF(C18:AG18,Accueil!$B$14)","v":0},{"$f":"COUNTIF(C18:AG18,Accueil!$B$15)","v":0},{"$f":"COUNTIF(C18:AG18,Accueil!$B$16)","v":0},{"$f":"COUNTIF(C18:AG18,Accueil!$B$17)","v":0},{"$f":"COUNTIF(C18:AG18,Accueil!$B$18)","v":3},{"$f":"COUNTIF(C18:AG18,Accueil!$B$19)","v":0},{"$f":"COUNTIF(C18:AG18,Accueil!$B$20)","v":0},{"$f":"COUNTIF(C18:AG18,Accueil!$B$21)","v":0},{"$f":"COUNTIF(C18:AG18,Accueil!$B$22)","v":0},{"$f":"COUNTIF(C18:AG18,Accueil!$B$23)","v":0},{"$f":"COUNTIF(C18:AG18,Accueil!$B$24)","v":0},{"$f":"COUNTIF(C18:AG18,Accueil!$B$25)","v":0},{"$f":"COUNTIF(C18:AG18,Accueil!$B$26)","v":0},{"$f":"COUNTIF(C18:AG18,Accueil!$B$27)","v":0},{"$f":"COUNTIF(C18:AG18,Accueil!$B$28)","v":0},{"$f":"COUNTIF(C18:AG18,Accueil!$B$29)","v":0},{"$f":"COUNTIF(C18:AG18,Accueil!$B$30)","v":0},3,null,{"$f":"AI18 +Juin!BH18","v":0},{"$f":"AJ18+Juin!BI18","v":0},{"$f":"AK18+Juin!BJ18","v":0},{"$f":"AL18+Juin!BK18","v":1},{"$f":"AM18+Juin!BL18","v":0},{"$f":"AN18+Juin!BM18","v":0},{"$f":"AO18+Juin!BN18","v":0},{"$f":"AP18+Juin!BO18","v":0},{"$f":"AQ18+Juin!BP18","v":0},{"$f":"AR18+Juin!BQ18","v":0},{"$f":"AS18+Juin!BR18","v":42},{"$f":"AT18+Juin!BS18","v":0},{"$f":"AU18+Juin!BT18","v":0},{"$f":"AV18+Juin!BU18","v":0},{"$f":"AW18+Juin!BV18","v":0},{"$f":"AX18+Juin!BW18","v":0},{"$f":"AY18+Juin!BX18","v":0},{"$f":"AZ18+Juin!BY18","v":0},{"$f":"BA18+Juin!BZ18","v":0},{"$f":"BB18+Juin!CA18","v":0},{"$f":"BC18+Juin!CB18","v":0},{"$f":"BD18+Juin!CC18","v":0},{"$f":"BE18+Juin!CD18","v":0},{"$f":"BF18+Juin!CE18","v":43},null,{"$f":"Juin!CG18","v":0},0,0,null,{"$f":"Juin!CK18","v":0},0,0,null,{"$f":"Juin!CO18","v":0},0,0,null,{"$f":"Juin!CS18","v":0},0,0]
[{"$f":"Juin!A19","v":"Lisa"},null,"MP","MP",null,null,"M2",null,"M1","MP","MP",null,null,"M2",null,"M1","MP",null,null,null,"M2",null,"M1","MP",null,null,null,"MP",null,"M1",null,"IND","IND",null,{"$f":"COUNTIF(C19:AG19,Accueil!$B$8)","v":4},{"$f":"COUNTIF(C19:AG19,Accueil!$B$9)","v":3},{"$f":"COUNTIF(C19:AG19,Accueil!$B$10)","v":0},{"$f":"COUNTIF(C19:AG19,Accueil!$B$11)","v":7},{"$f":"COUNTIF(C19:AG19,Accueil!$B$12)","v":0},{"$f":"COUNTIF(C19:AG19,Accueil!$B$13)","v":0},{"$f":"COUNTIF(C19:AG19,Accueil!$B$14)","v":0},{"$f":"COUNTIF(C19:AG19,Accueil!$B$15)","v":0},{"$f":"COUNTIF(C19:AG19,Accueil!$B$16)","v":0},{"$f":"COUNTIF(C19:AG19,Accueil!$B$17)","v":0},{"$f":"COUNTIF(C19:AG19,Accueil!$B$18)","v":0},{"$f":"COUNTIF(C19:AG19,Accueil!$B$19)","v":0},{"$f":"COUNTIF(C19:AG19,Accueil!$B$20)","v":2},{"$f":"COUNTIF(C19:AG19,Accueil!$B$21)","v":0},{"$f":"COUNTIF(C19:AG19,Accueil!$B$22)","v":0},{"$f":"COUNTIF(C19:AG19,Accueil!$B$23)","v":0},{"$f":"COUNTIF(C19:AG19,Accueil!$B$24)","v":0},{"$f":"COUNTIF(C19:AG19,Accueil!$B$25)","v":0},{"$f":"COUNTIF(C19:AG19,Accueil!$B$26)","v":0},{"$f":"COUNTIF(C19:AG19,Accueil!$B$27)","v":0},{"$f":"COUNTIF(C19:AG19,Accueil!$B$28)","v":0},{"$f":"COUNTIF(C19:AG19,Accueil!$B$29)","v":0},{"$f":"COUNTIF(C19:AG19,Accueil!$B$30)","v":0},14,null,{"$f":"AI19 +Juin!BH19","v":18},{"$f":"AJ19+Juin!BI19","v":27},{"$f":"AK19+Juin!BJ19","v":9},{"$f":"AL19+Juin!BK19","v":39},{"$f":"AM19+Juin!BL19","v":3},{"$f":"AN19+Juin!BM19","v":3},{"$f":"AO19+Juin!BN19","v":0},{"$f":"AP19+Juin!BO19","v":0},{"$f":"AQ19+Juin!BP19","v":0},{"$f":"AR19+Juin!BQ19","v":0},{"$f":"AS19+Juin!BR19","v":0},{"$f":"AT19+Juin!BS19","v":0},{"$f":"AU19+Juin!BT19","v":2},{"$f":"AV19+Juin!BU19","v":0},{"$f":"AW19+Juin!BV19","v":0},{"$f":"AX19+Juin!BW19","v":11},{"$f":"AY19+Juin!BX19","v":0},{"$f":"AZ19+Juin!BY19","v":0},{"$f":"BA19+Juin!BZ19","v":2},{"$f":"BB19+Juin!CA19","v":0},{"$f":"BC19+Juin!CB19","v":0},{"$f":"BD19+Juin!CC19","v":0},{"$f":"BE19+Juin!CD19","v":0},{"$f":"BF19+Juin!CE19","v":99},null,{"$f":"Juin!CG19","v":0},11,-11,null,{"$f":"Juin!CK19","v":0},0,0,null,{"$f":"Juin!CO19","v":0},0,0,null,{"$f":"Juin!CS19","v":0},0,0]
[{"$f":"Juin!A20","v":0},null,null,null,null,null,null,null,null,null,null,null,null,null,null,null,null,null,null,null,null,null,null,null,null,null,null,null,null,null,null,null,null,null,{"$f":"COUNTIF(C20:AG20,Accueil!$B$8)","v":0},{"$f":"COUNTIF(C20:AG20,Accueil!$B$9)","v":0},{"$f":"COUNTIF(C20:AG20,Accueil!$B$10)","v":0},{"$f":"COUNTIF(C20:AG20,Accueil!$B$11)","v":0},{"$f":"COUNTIF(C20:AG20,Accueil!$B$12)","v":0},{"$f":"COUNTIF(C20:AG20,Accueil!$B$13)","v":0},{"$f":"COUNTIF(C20:AG20,Accueil!$B$14)","v":0},{"$f":"COUNTIF(C20:AG20,Accueil!$B$15)","v":0},{"$f":"COUNTIF(C20:AG20,Accueil!$B$16)","v":0},{"$f":"COUNTIF(C20:AG20,Accueil!$B$17)","v":0},{"$f":"COUNTIF(C20:AG20,Accueil!$B$18)","v":0},{"$f":"COUNTIF(C20:AG20,Accueil!$B$19)","v":0},{"$f":"COUNTIF(C20:AG20,Accueil!$B$20)","v":0},{"$f":"COUNTIF(C20:AG20,Accueil!$B$21)","v":0},{"$f":"COUNTIF(C20:AG20,Accueil!$B$22)","v":0},{"$f":"COUNTIF(C20:AG20,Accueil!$B$23)","v":0},{"$f":"COUNTIF(C20:AG20,Accueil!$B$24)","v":0},{"$f":"COUNTIF(C20:AG20,Accueil!$B$25)","v":0},{"$f":"COUNTIF(C20:AG20,Accueil!$B$26)","v":0},{"$f":"COUNTIF(C20:AG20,Accueil!$B$27)","v":0},{"$f":"COUNTIF(C20:AG20,Accueil!$B$28)","v":0},{"$f":"COUNTIF(C20:AG20,Accueil!$B$29)","v":0},{"$f":"COUNTIF(C20:AG20,Accueil!$B$30)","v":0},0,null,{"$f":"AI20 +Juin!BH20","v":0},{"$f":"AJ20+Juin!BI20","v":0},{"$f":"AK20+Juin!BJ20","v":0},{"$f":"AL20+Juin!BK20","v":0},{"$f":"AM20+Juin!BL20","v":0},{"$f":"AN20+Juin!BM20","v":0},{"$f":"AO20+Juin!BN20","v":0},{"$f":"AP20+Juin!BO20","v":0},{"$f":"AQ20+Juin!BP20","v":0},{"$f":"AR20+Juin!BQ20","v":0},{"$f":"AS20+Juin!BR20","v":1},{"$f":"AT20+Juin!BS20","v":0},{"$f":"AU20+Juin!BT20","v":0},{"$f":"AV20+Juin!BU20","v":0},{"$f":"AW20+Juin!BV20","v":0},{"$f":"AX20+Juin!BW20","v":0},{"$f":"AY20+Juin!BX20","v":0},{"$f":"AZ20+Juin!BY20","v":0},{"$f":"BA20+Juin!BZ20","v":0},{"$f":"BB20+Juin!CA20","v":0},{"$f":"BC20+Juin!CB20","v":0},{"$f":"BD20+Juin!CC20","v":0},{"$f":"BE20+Juin!CD20","v":0},{"$f":"BF20+Juin!CE20","v":1},null,{"$f":"Juin!CG20","v":0},0,0,null,{"$f":"Juin!CK20","v":0},0,0,null,{"$f":"Juin!CO20","v":0},0,0,null,{"$f":"Juin!CS20","v":0},0,0]
[{"$f":"Juin!A21","v":"Philip"},null,null,null,"MP","MP","M1",null,null,null,null,null,"Vac","Vac","Vac","Vac","Vac","Vac","Vac","Vac","Vac","Vac","Vac","Vac","Vac","Vac","Vac","Vac","Vac","Vac","Vac","Vac","Vac",null,{"$f":"COUNTIF(C21:AG21,Accueil!$B$8)","v":1},{"$f":"COUNTIF(C21:AG21,Accueil!$B$9)","v":0},{"$f":"COUNTIF(C21:AG21,Accueil!$B$10)","v":0},{"$f":"COUNTIF(C21:AG21,Accueil!$B$11)","v":2},{"$f":"COUNTIF(C21:AG21,Accueil!$B$12)","v":0},{"$f":"COUNTIF(C21:AG21,Accueil!$B$13)","v":0},{"$f":"COUNTIF(C21:AG21,Accueil!$B$14)","v":0},{"$f":"COUNTIF(C21:AG21,Accueil!$B$15)","v":0},{"$f":"COUNTIF(C21:AG21,Accueil!$B$16)","v":0},{"$f":"COUNTIF(C21:AG21,Accueil!$B$17)","v":0},{"$f":"COUNTIF(C21:AG21,Accueil!$B$18)","v":0},{"$f":"COUNTIF(C21:AG21,Accueil!$B$19)","v":0},{"$f":"COUNTIF(C21:AG21,Accueil!$B$20)","v":0},{"$f":"COUNTIF(C21:AG21,Accueil!$B$21)","v":0},{"$f":"COUNTIF(C21:AG21,Accueil!$B$22)","v":0},{"$f":"COUNTIF(C21:AG21,Accueil!$B$23)","v":21},{"$f":"COUNTIF(C21:AG21,Accueil!$B$24)","v":0},{"$f":"COUNTIF(C21:AG21,Accueil!$B$25)","v":0},{"$f":"COUNTIF(C21:AG21,Accueil!$B$26)","v":0},{"$f":"COUNTIF(C21:AG21,Accueil!$B$27)","v":0},{"$f":"COUNTIF(C21:AG21,Accueil!$B$28)","v":0},{"$f":"COUNTIF(C21:AG21,Accueil!$B$29)","v":0},{"$f":"COUNTIF(C21:AG21,Accueil!$B$30)","v":0},3,null,{"$f":"AI21 +Juin!BH21","v":24},{"$f":"AJ21+Juin!BI21","v":0},{"$f":"AK21+Juin!BJ21","v":0},{"$f":"AL21+Juin!BK21","v":33},{"$f":"AM21+Juin!BL21","v":5},{"$f":"AN21+Juin!BM21","v":1},{"$f":"AO21+Juin!BN21","v":0},{"$f":"AP21+Juin!BO21","v":0},{"$f":"AQ21+Juin!BP21","v":0},{"$f":"AR21+Juin!BQ21","v":0},{"$f":"AS21+Juin!BR21","v":0},{"$f":"AT21+Juin!BS21","v":0},{"$f":"AU21+Juin!BT21","v":0},{"$f":"AV21+Juin!BU21","v":0},{"$f":"AW21+Juin!BV21","v":0},{"$f":"AX21+Juin!BW21","v":33},{"$f":"AY21+Juin!BX21","v":0},{"$f":"AZ21+Juin!BY21","v":0},{"$f":"BA21+Juin!BZ21","v":0},{"$f":"BB21+Juin!CA21","v":0},{"$f":"BC21+Juin!CB21","v":0},{"$f":"BD21+Juin!CC21","v":0},{"$f":"BE21+Juin!CD21","v":0},{"$f":"BF21+Juin!CE21","v":63},null,{"$f":"Juin!CG21","v":0},33,-33,null,{"$f":"Juin!CK21","v":0},0,0,null,{"$f":"Juin!CO21","v":0},0,0,null,{"$f":"Juin!CS21","v":0},0,0]
[{"$f":"Juin!A22","v":0},null,null,null,null,null,null,null,null,null,null,null,null,null,null,null,null,null,null,null,null,null,null,null,null,null,null,null,null,null,null,null,null,null,{"$f":"COUNTIF(C22:AG22,Accueil!$B$8)","v":0},{"$f":"COUNTIF(C22:AG22,Accueil!$B$9)","v":0},{"$f":"COUNTIF(C22:AG22,Accueil!$B$10)","v":0},{"$f":"COUNTIF(C22:AG22,Accueil!$B$11)","v":0},{"$f":"COUNTIF(C22:AG22,Accueil!$B$12)","v":0},{"$f":"COUNTIF(C22:AG22,Accueil!$B$13)","v":0},{"$f":"COUNTIF(C22:AG22,Accueil!$B$14)","v":0},{"$f":"COUNTIF(C22:AG22,Accueil!$B$15)","v":0},{"$f":"COUNTIF(C22:AG22,Accueil!$B$16)","v":0},{"$f":"COUNTIF(C22:AG22,Accueil!$B$17)","v":0},{"$f":"COUNTIF(C22:AG22,Accueil!$B$18)","v":0},{"$f":"COUNTIF(C22:AG22,Accueil!$B$19)","v":0},{"$f":"COUNTIF(C22:AG22,Accueil!$B$20)","v":0},{"$f":"COUNTIF(C22:AG22,Accueil!$B$21)","v":0},{"$f":"COUNTIF(C22:AG22,Accueil!$B$22)","v":0},{"$f":"COUNTIF(C22:AG22,Accueil!$B$23)","v":0},{"$f":"COUNTIF(C22:AG22,Accueil!$B$24)","v":0},{"$f":"COUNTIF(C22:AG22,Accueil!$B$25)","v":0},{"$f":"COUNTIF(C22:AG22,Accueil!$B$26)","v":0},{"$f":"COUNTIF(C22:AG22,Accueil!$B$27)","v":0},{"$f":"COUNTIF(C22:AG22,Accueil!$B$28)","v":0},{"$f":"COUNTIF(C22:AG22,Accueil!$B$29)","v":0},{"$f":"COUNTIF(C22:AG22,Accueil!$B$30)","v":0},0,null,{"$f":"AI22 +Juin!BH22","v":0},{"$f":"AJ22+Juin!BI22","v":0},{"$f":"AK22+Juin!BJ22","v":0},{"$f":"AL22+Juin!BK22","v":0},{"$f":"AM22+Juin!BL22","v":0},{"$f":"AN22+Juin!BM22","v":0},{"$f":"AO22+Juin!BN22","v":0},{"$f":"AP22+Juin!BO22","v":0},{"$f":"AQ22+Juin!BP22","v":0},{"$f":"AR22+Juin!BQ22","v":8},{"$f":"AS22+Juin!BR22","v":3},{"$f":"AT22+Juin!BS22","v":0},{"$f":"AU22+Juin!BT22","v":0},{"$f":"AV22+Juin!BU22","v":0},{"$f":"AW22+Juin!BV22","v":0},{"$f":"AX22+Juin!BW22","v":0},{"$f":"AY22+Juin!BX22","v":0},{"$f":"AZ22+Juin!BY22","v":0},{"$f":"BA22+Juin!BZ22","v":0},{"$f":"BB22+Juin!CA22","v":0},{"$f":"BC22+Juin!CB22","v":0},{"$f":"BD22+Juin!CC22","v":0},{"$f":"BE22+Juin!CD22","v":0},{"$f":"BF22+Juin!CE22","v":11},null,{"$f":"Juin!CG22","v":0},0,0,null,{"$f":"Juin!CK22","v":0},0,0,null,{"$f":"Juin!CO22","v":0},0,0,null,{"$f":"Juin!CS22","v":0},0,0]
[{"$f":"Juin!A23","v":"Dania"},null,null,null,null,"F","F","F","F","F",null,null,null,null,null,null,null,null,null,"F","F","F","F","F",null,null,null,null,null,null,null,null,null,null,{"$f":"COUNTIF(C23:AG23,Accueil!$B$8)","v":0},{"$f":"COUNTIF(C23:AG23,Accueil!$B$9)","v":0},{"$f":"COUNTIF(C23:AG23,Accueil!$B$10)","v":0},{"$f":"COUNTIF(C23:AG23,Accueil!$B$11)","v":0},{"$f":"COUNTIF(C23:AG23,Accueil!$B$12)","v":0},{"$f":"COUNTIF(C23:AG23,Accueil!$B$13)","v":0},{"$f":"COUNTIF(C23:AG23,Accueil!$B$14)","v":0},{"$f":"COUNTIF(C23:AG23,Accueil!$B$15)","v":0},{"$f":"COUNTIF(C23:AG23,Accueil!$B$16)","v":0},{"$f":"COUNTIF(C23:AG23,Accueil!$B$17)","v":0},{"$f":"COUNTIF(C23:AG23,Accueil!$B$18)","v":0},{"$f":"COUNTIF(C23:AG23,Accueil!$B$19)","v":0},{"$f":"COUNTIF(C23:AG23,Accueil!$B$20)","v":0},{"$f":"COUNTIF(C23:AG23,Accueil!$B$21)","v":0},{"$f":"COUNTIF(C23:AG23,Accueil!$B$22)","v":0},{"$f":"COUNTIF(C23:AG23,Accueil!$B$23)","v":0},{"$f":"COUNTIF(C23:AG23,Accueil!$B$24)","v":0},{"$f":"COUNTIF(C23:AG23,Accueil!$B$25)","v":0},{"$f":"COUNTIF(C23:AG23,Accueil!$B$26)","v":0},{"$f":"COUNTIF(C23:AG23,Accueil!$B$27)","v":10},{"$f":"COUNTIF(C23:AG23,Accueil!$B$28)","v":0},{"$f":"COUNTIF(C23:AG23,Accueil!$B$29)","v":0},{"$f":"COUNTIF(C23:AG23,Accueil!$B$30)","v":0},0,null,{"$f":"AI23 +Juin!BH23","v":0},{"$f":"AJ23+Juin!BI23","v":7},{"$f":"AK23+Juin!BJ23","v":17},{"$f":"AL23+Juin!BK23","v":0},{"$f":"AM23+Juin!BL23","v":0},{"$f":"AN23+Juin!BM23","v":0},{"$f":"AO23+Juin!BN23","v":0},{"$f":"AP23+Juin!BO23","v":0},{"$f":"AQ23+Juin!BP23","v":0},{"$f":"AR23+Juin!BQ23","v":0},{"$f":"AS23+Juin!BR23","v":0},{"$f":"AT23+Juin!BS23","v":0},{"$f":"AU23+Juin!BT23","v":0},{"$f":"AV23+Juin!BU23","v":0},{"$f":"AW23+Juin!BV23","v":0},{"$f":"AX23+Juin!BW23","v":0},{"$f":"AY23+Juin!BX23","v":0},{"$f":"AZ23+Juin!BY23","v":0},{"$f":"BA23+Juin!BZ23","v":2},{"$f":"BB23+Juin!CA23","v":10},{"$f":"BC23+Juin!CB23","v":0},{"$f":"BD23+Juin!CC23","v":0},{"$f":"BE23+Juin!CD23","v":0},{"$f":"BF23+Juin!CE23","v":24},null,{"$f":"Juin!CG23","v":0},0,0,null,{"$f":"Juin!CK23","v":0},0,0,null,{"$f":"Juin!CO23","v":0},0,0,null,{"$f":"Juin!CS23","v":0},0,0]
[{"$f":"Juin!A24","v":0},null,null,null,null,null,null,null,null,null,null,null,null,null,null,null,null,null,null,null,null,null,null,null,null,null,null,null,null,null,null,null,null,null,{"$f":"COUNTIF(C24:AG24,Accueil!$B$8)","v":0},{"$f":"COUNTIF(C24:AG24,Accueil!$B$9)","v":0},{"$f":"COUNTIF(C24:AG24,Accueil!$B$10)","v":0},{"$f":"COUNTIF(C24:AG24,Accueil!$B$11)","v":0},{"$f":"COUNTIF(C24:AG24,Accueil!$B$12)","v":0},{"$f":"COUNTIF(C24:AG24,Accueil!$B$13)","v":0},{"$f":"COUNTIF(C24:AG24,Accueil!$B$14)","v":0},{"$f":"COUNTIF(C24:AG24,Accueil!$B$15)","v":0},{"$f":"COUNTIF(C24:AG24,Accueil!$B$16)","v":0},{"$f":"COUNTIF(C24:AG24,Accueil!$B$17)","v":0},{"$f":"COUNTIF(C24:AG24,Accueil!$B$18)","v":0},{"$f":"COUNTIF(C24:AG24,Accueil!$B$19)","v":0},{"$f":"COUNTIF(C24:AG24,Accueil!$B$20)","v":0},{"$f":"COUNTIF(C24:AG24,Accueil!$B$21)","v":0},{"$f":"COUNTIF(C24:AG24,Accueil!$B$22)","v":0},{"$f":"COUNTIF(C24:AG24,Accueil!$B$23)","v":0},{"$f":"COUNTIF(C24:AG24,Accueil!$B$24)","v":0},{"$f":"COUNTIF(C24:AG24,Accueil!$B$25)","v":0},{"$f":"COUNTIF(C24:AG24,Accueil!$B$26)","v":0},{"$f":"COUNTIF(C24:AG24,Accueil!$B$27)","v":0},{"$f":"COUNTIF(C24:AG24,Accueil!$B$28)","v":0},{"$f":"COUNTIF(C24:AG24,Accueil!$B$29)","v":0},{"$f":"COUNTIF(C24:AG24,Accueil!$B$30)","v":0},0,null,{"$f":"AI24 +Juin!BH24","v":0},{"$f":"AJ24+Juin!BI24","v":0},{"$f":"AK24+Juin!BJ24","v":0},{"$f":"AL24+Juin!BK24","v":16},{"$f":"AM24+Juin!BL24","v":0},{"$f":"AN24+Juin!BM24","v":0},{"$f":"AO24+Juin!BN24","v":0},{"$f":"AP24+Juin!BO24","v":0},{"$f":"AQ24+Juin!BP24","v":0},{"$f":"AR24+Juin!BQ24","v":0},{"$f":"AS24+Juin!BR24","v":0},{"$f":"AT24+Juin!BS24","v":0},{"$f":"AU24+Juin!BT24","v":0},{"$f":"AV24+Juin!BU24","v":0},{"$f":"AW24+Juin!BV24","v":0},{"$f":"AX24+Juin!BW24","v":0},{"$f":"AY24+Juin!BX24","v":0},{"$f":"AZ24+Juin!BY24","v":0},{"$f":"BA24+Juin!BZ24","v":0},{"$f":"BB24+Juin!CA24","v":0},{"$f":"BC24+Juin!CB24","v":0},{"$f":"BD24+Juin!CC24","v":0},{"$f":"BE24+Juin!CD24","v":0},{"$f":"BF24+Juin!CE24","v":16},null,{"$f":"Juin!CG24","v":0},0,0,null,{"$f":"Juin!CK24","v":0},0,0,null,{"$f":"Juin!CO24","v":0},0,0,null,{"$f":"Juin!CS24","v":0},0,0]
[{"$f":"Juin!A25","v":"Claudia"},null,null,null,null,null,null,null,null,null,null,null,null,null,null,null,null,null,null,null,null,null,null,null,null,null,null,null,null,null,null,null,null,null,{"$f":"COUNTIF(C25:AG25,Accueil!$B$8)","v":0},{"$f":"COUNTIF(C25:AG25,Accueil!$B$9)","v":0},{"$f":"COUNTIF(C25:AG25,Accueil!$B$10)","v":0},{"$f":"COUNTIF(C25:AG25,Accueil!$B$11)","v":0},{"$f":"COUNTIF(C25:AG25,Accueil!$B$12)","v":0},{"$f":"COUNTIF(C25:AG25,Accueil!$B$13)","v":0},{"$f":"COUNTIF(C25:AG25,Accueil!$B$14)","v":0},{"$f":"COUNTIF(C25:AG25,Accueil!$B$15)","v":0},{"$f":"COUNTIF(C25:AG25,Accueil!$B$16)","v":0},{"$f":"COUNTIF(C25:AG25,Accueil!$B$17)","v":0},{"$f":"COUNTIF(C25:AG25,Accueil!$B$18)","v":0},{"$f":"COUNTIF(C25:AG25,Accueil!$B$19)","v":0},{"$f":"COUNTIF(C25:AG25,Accueil!$B$20)","v":0},{"$f":"COUNTIF(C25:AG25,Accueil!$B$21)","v":0},{"$f":"COUNTIF(C25:AG25,Accueil!$B$22)","v":0},{"$f":"COUNTIF(C25:AG25,Accueil!$B$23)","v":0},{"$f":"COUNTIF(C25:AG25,Accueil!$B$24)","v":0},{"$f":"COUNTIF(C25:AG25,Accueil!$B$25)","v":0},{"$f":"COUNTIF(C25:AG25,Accueil!$B$26)","v":0},{"$f":"COUNTIF(C25:AG25,Accueil!$B$27)","v":0},{"$f":"COUNTIF(C25:AG25,Accueil!$B$28)","v":0},{"$f":"COUNTIF(C25:AG25,Accueil!$B$29)","v":0},{"$f":"COUNTIF(C25:AG25,Accueil!$B$30)","v":0},0,null,{"$f":"AI25 +Juin!BH25","v":1},{"$f":"AJ25+Juin!BI25","v":3},{"$f":"AK25+Juin!BJ25","v":1},{"$f":"AL25+Juin!BK25","v":0},{"$f":"AM25+Juin!BL25","v":0},{"$f":"AN25+Juin!BM25","v":0},{"$f":"AO25+Juin!BN25","v":0},{"$f":"AP25+Juin!BO25","v":0},{"$f":"AQ25+Juin!BP25","v":0},{"$f":"AR25+Juin!BQ25","v":0},{"$f":"AS25+Juin!BR25","v":0},{"$f":"AT25+Juin!BS25","v":0},{"$f":"AU25+Juin!BT25","v":0},{"$f":"AV25+Juin!BU25","v":0},{"$f":"AW25+Juin!BV25","v":0},{"$f":"AX25+Juin!BW25","v":9},{"$f":"AY25+Juin!BX25","v":0},{"$f":"AZ25+Juin!BY25","v":0},{"$f":"BA25+Juin!BZ25","v":0},{"$f":"BB25+Juin!CA25","v":0},{"$f":"BC25+Juin!CB25","v":0},{"$f":"BD25+Juin!CC25","v":0},{"$f":"BE25+Juin!CD25","v":0},{"$f":"BF25+Juin!CE25","v":5},null,{"$f":"Juin!CG25","v":0},9,-9,null,{"$f":"Juin!CK25","v":0},0,0,null,{"$f":"Juin!CO25","v":0},0,0,null,{"$f":"Juin!CS25","v":0},0,0]
[{"$f":"Juin!A26","v":"FRPI"},null,null,null,null,null,null,null,null,null,null,null,null,null,null,null,null,null,null,null,null,null,null,null,null,null,null,null,null,null,null,null,null,null,{"$f":"COUNTIF(C26:AG26,Accueil!$B$8)","v":0},{"$f":"COUNTIF(C26:AG26,Accueil!$B$9)","v":0},{"$f":"COUNTIF(C26:AG26,Accueil!$B$10)","v":0},{"$f":"COUNTIF(C26:AG26,Accueil!$B$11)","v":0},{"$f":"COUNTIF(C26:AG26,Accueil!$B$12)","v":0},{"$f":"COUNTIF(C26:AG26,Accueil!$B$13)","v":0},{"$f":"COUNTIF(C26:AG26,Accueil!$B$14)","v":0},{"$f":"COUNTIF(C26:AG26,Accueil!$B$15)","v":0},{"$f":"COUNTIF(C26:AG26,Accueil!$B$16)","v":0},{"$f":"COUNTIF(C26:AG26,Accueil!$B$17)","v":0},{"$f":"COUNTIF(C26:AG26,Accueil!$B$18)","v":0},{"$f":"COUNTIF(C26:AG26,Accueil!$B$19)","v":0},{"$f":"COUNTIF(C26:AG26,Accueil!$B$20)","v":0},{"$f":"COUNTIF(C26:AG26,Accueil!$B$21)","v":0},{"$f":"COUNTIF(C26:AG26,Accueil!$B$22)","v":0},{"$f":"COUNTIF(C26:AG26,Accueil!$B$23)","v":0},{"$f":"COUNTIF(C26:AG26,Accueil!$B$24)","v":0},{"$f":"COUNTIF(C26:AG26,Accueil!$B$25)","v":0},{"$f":"COUNTIF(C26:AG26,Accueil!$B$26)","v":0},{"$f":"COUNTIF(C26:AG26,Accueil!$B$27)","v":0},{"$f":"COUNTIF(C26:AG26,Accueil!$B$28)","v":0},{"$f":"COUNTIF(C26:AG26,Accueil!$B$29)","v":0},{"$f":"COUNTIF(C26:AG26,Accueil!$B$30)","v":0},0,null,{"$f":"AI26 +Juin!BH26","v":0},{"$f":"AJ26+Juin!BI26","v":0},{"$f":"AK26+Juin!BJ26","v":0},{"$f":"AL26+Juin!BK26","v":0},{"$f":"AM26+Juin!BL26","v":0},{"$f":"AN26+Juin!BM26","v":0},{"$f":"AO26+Juin!BN26","v":0},{"$f":"AP26+Juin!BO26","v":0},{"$f":"AQ26+Juin!BP26","v":0},{"$f":"AR26+Juin!BQ26","v":2},{"$f":"AS26+Juin!BR26","v":9},{"$f":"AT26+Juin!BS26","v":0},{"$f":"AU26+Juin!BT26","v":0},{"$f":"AV26+Juin!BU26","v":0},{"$f":"AW26+Juin!BV26","v":0},{"$f":"AX26+Juin!BW26","v":5},{"$f":"AY26+Juin!BX26","v":0},{"$f":"AZ26+Juin!BY26","v":0},{"$f":"BA26+Juin!BZ26","v":0},{"$f":"BB26+Juin!CA26","v":0},{"$f":"BC26+Juin!CB26","v":0},{"$f":"BD26+Juin!CC26","v":0},{"$f":"BE26+Juin!CD26","v":0},{"$f":"BF26+Juin!CE26","v":11},null,{"$f":"Juin!CG26","v":0},5,-5,null,{"$f":"Juin!CK26","v":0},0,0,null,{"$f":"Juin!CO26","v":0},0,0,null,{"$f":"Juin!CS26","v":0},0,0]
[{"$f":"Juin!A27","v":0},null,null,null,null,null,null,null,null,null,null,null,null,null,null,null,null,null,null,null,null,null,null,null,null,null,null,null,null,null,null,null,null,null,{"$f":"COUNTIF(C27:AG27,Accueil!$B$8)","v":0},{"$f":"COUNTIF(C27:AG27,Accueil!$B$9)","v":0},{"$f":"COUNTIF(C27:AG27,Accueil!$B$10)","v":0},{"$f":"COUNTIF(C27:AG27,Accueil!$B$11)","v":0},{"$f":"COUNTIF(C27:AG27,Accueil!$B$12)","v":0},{"$f":"COUNTIF(C27:AG27,Accueil!$B$13)","v":0},{"$f":"COUNTIF(C27:AG27,Accueil!$B$14)","v":0},{"$f":"COUNTIF(C27:AG27,Accueil!$B$15)","v":0},{"$f":"COUNTIF(C27:AG27,Accueil!$B$16)","v":0},{"$f":"COUNTIF(C27:AG27,Accueil!$B$17)","v":0},{"$f":"COUNTIF(C27:AG27,Accueil!$B$18)","v":0},{"$f":"COUNTIF(C27:AG27,Accueil!$B$19)","v":0},{"$f":"COUNTIF(C27:AG27,Accueil!$B$20)","v":0},{"$f":"COUNTIF(C27:AG27,Accueil!$B$21)","v":0},{"$f":"COUNTIF(C27:AG27,Accueil!$B$22)","v":0},{"$f":"COUNTIF(C27:AG27,Accueil!$B$23)","v":0},{"$f":"COUNTIF(C27:AG27,Accueil!$B$24)","v":0},{"$f":"COUNTIF(C27:AG27,Accueil!$B$25)","v":0},{"$f":"COUNTIF(C27:AG27,Accueil!$B$26)","v":0},{"$f":"COUNTIF(C27:AG27,Accueil!$B$27)","v":0},{"$f":"COUNTIF(C27:AG27,Accueil!$B$28)","v":0},{"$f":"COUNTIF(C27:AG27,Accueil!$B$29)","v":0},{"$f":"COUNTIF(C27:AG27,Accueil!$B$30)","v":0},0,null,{"$f":"AI27 +Juin!BH27","v":0},{"$f":"AJ27+Juin!BI27","v":0},{"$f":"AK27+Juin!BJ27","v":{"$error":"#VALUE!"}},{"$f":"AL27+Juin!BK27","v":0},{"$f":"AM27+Juin!BL27","v":0},{"$f":"AN27+Juin!BM27","v":0},{"$f":"AO27+Juin!BN27","v":0},{"$f":"AP27+Juin!BO27","v":{"$error":"#VALUE!"}},{"$f":"AQ27+Juin!BP27","v":0},{"$f":"AR27+Juin!BQ27","v":0},{"$f":"AS27+Juin!BR27","v":0},{"$f":"AT27+Juin!BS27","v":0},{"$f":"AU27+Juin!BT27","v":0},{"$f":"AV27+Juin!BU27","v":0},{"$f":"AW27+Juin!BV27","v":0},{"$f":"AX27+Juin!BW27","v":0},{"$f":"AY27+Juin!BX27","v":0},{"$f":"AZ27+Juin!BY27","v":0},{"$f":"BA27+Juin!BZ27","v":0},{"$f":"BB27+Juin!CA27","v":0},{"$f":"BC27+Juin!CB27","v":0},{"$f":"BD27+Juin!CC27","v":0},{"$f":"BE27+Juin!CD27","v":0},{"$f":"BF27+Juin!CE27","v":0},null,{"$f":"Juin!CG27","v":0},0,0,null,{"$f":"Juin!CK27","v":0},0,0,null,{"$f":"Juin!CO27","v":0},0,0,null,{"$f":"Juin!CS27","v":0},0,0]
[{"$f":"Juin!A28","v":"Frédéric"},null,null,null,null,null,null,null,null,null,null,null,null,null,null,null,null,null,null,null,null,null,null,null,null,null,null,null,null,null,null,null,null,null,{"$f":"COUNTIF(C28:AG28,Accueil!$B$8)","v":0},{"$f":"COUNTIF(C28:AG28,Accueil!$B$9)","v":0},{"$f":"COUNTIF(C28:AG28,Accueil!$B$10)","v":0},{"$f":"COUNTIF(C28:AG28,Accueil!$B$11)","v":0},{"$f":"COUNTIF(C28:AG28,Accueil!$B$12)","v":0},{"$f":"COUNTIF(C28:AG28,Accueil!$B$13)","v":0},{"$f":"COUNTIF(C28:AG28,Accueil!$B$14)","v":0},{"$f":"COUNTIF(C28:AG28,Accueil!$B$15)","v":0},{"$f":"COUNTIF(C28:AG28,Accueil!$B$16)","v":0},{"$f":"COUNTIF(C28:AG28,Accueil!$B$17)","v":0},{"$f":"COUNTIF(C28:AG28,Accueil!$B$18)","v":0},{"$f":"COUNTIF(C28:AG28,Accueil!$B$19)","v":0},{"$f":"COUNTIF(C28:AG28,Accueil!$B$20)","v":0},{"$f":"COUNTIF(C28:AG28,Accueil!$B$21)","v":0},{"$f":"COUNTIF(C28:AG28,Accueil!$B$22)","v":0},{"$f":"COUNTIF(C28:AG28,Accueil!$B$23)","v":0},{"$f":"COUNTIF(C28:AG28,Accueil!$B$24)","v":0},{"$f":"COUNTIF(C28:AG28,Accueil!$B$25)","v":0},{"$f":"COUNTIF(C28:AG28,Accueil!$B$26)","v":0},{"$f":"COUNTIF(C28:AG28,Accueil!$B$27)","v":0},{"$f":"COUNTIF(C28:AG28,Accueil!$B$28)","v":0},{"$f":"COUNTIF(C28:AG28,Accueil!$B$29)","v":0},{"$f":"COUNTIF(C28:AG28,Accueil!$B$30)","v":0},0,null,{"$f":"AI28 +Juin!BH28","v":{"$error":"#VALUE!"}},{"$f":"AJ28+Juin!BI28","v":{"$error":"#VALUE!"}},{"$f":"AK28+Juin!BJ28","v":0},{"$f":"AL28+Juin!BK28","v":{"$error":"#VALUE!"}},{"$f":"AM28+Juin!BL28","v":0},{"$f":"AN28+Juin!BM28","v":{"$error":"#VALUE!"}},{"$f":"AO28+Juin!BN28","v":{"$error":"#VALUE!"}},{"$f":"AP28+Juin!BO28","v":0},{"$f":"AQ28+Juin!BP28","v":27},{"$f":"AR28+Juin!BQ28","v":0},{"$f":"AS28+Juin!BR28","v":0},{"$f":"AT28+Juin!BS28","v":0},{"$f":"AU28+Juin!BT28","v":0},{"$f":"AV28+Juin!BU28","v":0},{"$f":"AW28+Juin!BV28","v":0},{"$f":"AX28+Juin!BW28","v":0},{"$f":"AY28+Juin!BX28","v":0},{"$f":"AZ28+Juin!BY28","v":0},{"$f":"BA28+Juin!BZ28","v":0},{"$f":"BB28+Juin!CA28","v":0},{"$f":"BC28+Juin!CB28","v":0},{"$f":"BD28+Juin!CC28","v":0},{"$f":"BE28+Juin!CD28","v":0},{"$f":"BF28+Juin!CE28","v":27},null,{"$f":"Juin!CG28","v":0},0,0,null,{"$f":"Juin!CK28","v":0},0,0,null,{"$f":"Juin!CO28","v":0},0,0,null,{"$f":"Juin!CS28","v":0},0,0]
[{"$f":"Juin!A29","v":"Ibrahim"},null,null,null,null,null,null,null,null,null,null,null,null,null,null,null,null,null,null,null,null,null,null,null,null,null,null,null,null,null,null,null,null,null,{"$f":"COUNTIF(C29:AG29,Accueil!$B$8)","v":0},{"$f":"COUNTIF(C29:AG29,Accueil!$B$9)","v":0},{"$f":"COUNTIF(C29:AG29,Accueil!$B$10)","v":0},{"$f":"COUNTIF(C29:AG29,Accueil!$B$11)","v":0},{"$f":"COUNTIF(C29:AG29,Accueil!$B$12)","v":0},{"$f":"COUNTIF(C29:AG29,Accueil!$B$13)","v":0},{"$f":"COUNTIF(C29:AG29,Accueil!$B$14)","v":0},{"$f":"COUNTIF(C29:AG29,Accueil!$B$15)","v":0},{"$f":"COUNTIF(C29:AG29,Accueil!$B$16)","v":0},{"$f":"COUNTIF(C29:AG29,Accueil!$B$17)","v":0},{"$f":"COUNTIF(C29:AG29,Accueil!$B$18)","v":0},{"$f":"COUNTIF(C29:AG29,Accueil!$B$19)","v":0},{"$f":"COUNTIF(C29:AG29,Accueil!$B$20)","v":0},{"$f":"COUNTIF(C29:AG29,Accueil!$B$21)","v":0},{"$f":"COUNTIF(C29:AG29,Accueil!$B$22)","v":0},{"$f":"COUNTIF(C29:AG29,Accueil!$B$23)","v":0},{"$f":"COUNTIF(C29:AG29,Accueil!$B$24)","v":0},{"$f":"COUNTIF(C29:AG29,Accueil!$B$25)","v":0},{"$f":"COUNTIF(C29:AG29,Accueil!$B$26)","v":0},{"$f":"COUNTIF(C29:AG29,Accueil!$B$27)","v":0},{"$f":"COUNTIF(C29:AG29,Accueil!$B$28)","v":0},{"$f":"COUNTIF(C29:AG29,Accueil!$B$29)","v":0},{"$f":"COUNTIF(C29:AG29,Accueil!$B$30)","v":0},0,null,{"$f":"AI29 +Juin!BH29","v":0},{"$f":"AJ29+Juin!BI29","v":0},{"$f":"AK29+Juin!BJ29","v":0},{"$f":"AL29+Juin!BK29","v":0},{"$f":"AM29+Juin!BL29","v":{"$error":"#VALUE!"}},{"$f":"AN29+Juin!BM29","v":0},{"$f":"AO29+Juin!BN29","v":0},{"$f":"AP29+Juin!BO29","v":0},{"$f":"AQ29+Juin!BP29","v":59},{"$f":"AR29+Juin!BQ29","v":0},{"$f":"AS29+Juin!BR29","v":0},{"$f":"AT29+Juin!BS29","v":0},{"$f":"AU29+Juin!BT29","v":0},{"$f":"AV29+Juin!BU29","v":0},{"$f":"AW29+Juin!BV29","v":0},{"$f":"AX29+Juin!BW29","v":5},{"$f":"AY29+Juin!BX29","v":0},{"$f":"AZ29+Juin!BY29","v":0},{"$f":"BA29+Juin!BZ29","v":0},{"$f":"BB29+Juin!CA29","v":0},{"$f":"BC29+Juin!CB29","v":0},{"$f":"BD29+Juin!CC29","v":0},{"$f":"BE29+Juin!CD29","v":0},{"$f":"BF29+Juin!CE29","v":59},null,{"$f":"Juin!CG29","v":0},5,-5,null,{"$f":"Juin!CK29","v":0},0,0,null,{"$f":"Juin!CO29","v":0},0,0,null,{"$f":"Juin!CS29","v":0},0,0]
[{"$f":"Juin!A30","v":"Julien"},null,null,null,null,null,null,null,null,null,null,null,null,null,null,null,null,null,null,null,null,null,null,null,null,null,null,null,null,null,null,null,null,null,{"$f":"COUNTIF(C30:AG30,Accueil!$B$8)","v":0},{"$f":"COUNTIF(C30:AG30,Accueil!$B$9)","v":0},{"$f":"COUNTIF(C30:AG30,Accueil!$B$10)","v":0},{"$f":"COUNTIF(C30:AG30,Accueil!$B$11)","v":0},{"$f":"COUNTIF(C30:AG30,Accueil!$B$12)","v":0},{"$f":"COUNTIF(C30:AG30,Accueil!$B$13)","v":0},{"$f":"COUNTIF(C30:AG30,Accueil!$B$14)","v":0},{"$f":"COUNTIF(C30:AG30,Accueil!$B$15)","v":0},{"$f":"COUNTIF(C30:AG30,Accueil!$B$16)","v":0},{"$f":"COUNTIF(C30:AG30,Accueil!$B$17)","v":0},{"$f":"COUNTIF(C30:AG30,Accueil!$B$18)","v":0},{"$f":"COUNTIF(C30:AG30,Accueil!$B$19)","v":0},{"$f":"COUNTIF(C30:AG30,Accueil!$B$20)","v":0},{"$f":"COUNTIF(C30:AG30,Accueil!$B$21)","v":0},{"$f":"COUNTIF(C30:AG30,Accueil!$B$22)","v":0},{"$f":"COUNTIF(C30:AG30,Accueil!$B$23)","v":0},{"$f":"COUNTIF(C30:AG30,Accueil!$B$24)","v":0},{"$f":"COUNTIF(C30:AG30,Accueil!$B$25)","v":0},{"$f":"COUNTIF(C30:AG30,Accueil!$B$26)","v":0},{"$f":"COUNTIF(C30:AG30,Accueil!$B$27)","v":0},{"$f":"COUNTIF(C30:AG30,Accueil!$B$28)","v":0},{"$f":"COUNTIF(C30:AG30,Accueil!$B$29)","v":0},{"$f":"COUNTIF(C30:AG30,Accueil!$B$30)","v":0},0,null,{"$f":"AI30 +Juin!BH30","v":0},{"$f":"AJ30+Juin!BI30","v":{"$error":"#VALUE!"}},{"$f":"AK30+Juin!BJ30","v":{"$error":"#VALUE!"}},{"$f":"AL30+Juin!BK30","v":{"$error":"#VALUE!"}},{"$f":"AM30+Juin!BL30","v":{"$error":"#VALUE!"}},{"$f":"AN30+Juin!BM30","v":{"$error":"#VALUE!"}},{"$f":"AO30+Juin!BN30","v":0},{"$f":"AP30+Juin!BO30","v":0},{"$f":"AQ30+Juin!BP30","v":34},{"$f":"AR30+Juin!BQ30","v":0},{"$f":"AS30+Juin!BR30","v":0},{"$f":"AT30+Juin!BS30","v":0},{"$f":"AU30+Juin!BT30","v":0},{"$f":"AV30+Juin!BU30","v":0},{"$f":"AW30+Juin!BV30","v":0},{"$f":"AX30+Juin!BW30","v":6},{"$f":"AY30+Juin!BX30","v":0},{"$f":"AZ30+Juin!BY30","v":0},{"$f":"BA30+Juin!BZ30","v":0},{"$f":"BB30+Juin!CA30","v":0},{"$f":"BC30+Juin!CB30","v":0},{"$f":"BD30+Juin!CC30","v":0},{"$f":"BE30+Juin!CD30","v":0},{"$f":"BF30+Juin!CE30","v":34},null,{"$f":"Juin!CG30","v":0},6,-6,null,{"$f":"Juin!CK30","v":0},0,0,null,{"$f":"Juin!CO30","v":0},0,0,null,{"$f":"Juin!CS30","v":0},0,0]
[{"$f":"Juin!A31","v":"Mario"},null,null,null,null,null,null,null,null,null,null,null,null,null,null,null,null,null,null,null,null,null,null,null,null,null,null,null,null,null,null,null,null,null,{"$f":"COUNTIF(C31:AG31,Accueil!$B$8)","v":0},{"$f":"COUNTIF(C31:AG31,Accueil!$B$9)","v":0},{"$f":"COUNTIF(C31:AG31,Accueil!$B$10)","v":0},{"$f":"COUNTIF(C31:AG31,Accueil!$B$11)","v":0},{"$f":"COUNTIF(C31:AG31,Accueil!$B$12)","v":0},{"$f":"COUNTIF(C31:AG31,Accueil!$B$13)","v":0},{"$f":"COUNTIF(C31:AG31,Accueil!$B$14)","v":0},{"$f":"COUNTIF(C31:AG31,Accueil!$B$15)","v":0},{"$f":"COUNTIF(C31:AG31,Accueil!$B$16)","v":0},{"$f":"COUNTIF(C31:AG31,Accueil!$B$17)","v":0},{"$f":"COUNTIF(C31:AG31,Accueil!$B$18)","v":0},{"$f":"COUNTIF(C31:AG31,Accueil!$B$19)","v":0},{"$f":"COUNTIF(C31:AG31,Accueil!$B$20)","v":0},{"$f":"COUNTIF(C31:AG31,Accueil!$B$21)","v":0},{"$f":"COUNTIF(C31:AG31,Accueil!$B$22)","v":0},{"$f":"COUNTIF(C31:AG31,Accueil!$B$23)","v":0},{"$f":"COUNTIF(C31:AG31,Accueil!$B$24)","v":0},{"$f":"COUNTIF(C31:AG31,Accueil!$B$25)","v":0},{"$f":"COUNTIF(C31:AG31,Accueil!$B$26)","v":0},{"$f":"COUNTIF(C31:AG31,Accueil!$B$27)","v":0},{"$f":"COUNTIF(C31:AG31,Accueil!$B$28)","v":0},{"$f":"COUNTIF(C31:AG31,Accueil!$B$29)","v":0},{"$f":"COUNTIF(C31:AG31,Accueil!$B$30)","v":0},0,null,{"$f":"AI31 +Juin!BH31","v":0},{"$f":"AJ31+Juin!BI31","v":0},{"$f":"AK31+Juin!BJ31","v":0},{"$f":"AL31+Juin!BK31","v":0},{"$f":"AM31+Juin!BL31","v":0},{"$f":"AN31+Juin!BM31","v":0},{"$f":"AO31+Juin!BN31","v":0},{"$f":"AP31+Juin!BO31","v":0},{"$f":"AQ31+Juin!BP31","v":16},{"$f":"AR31+Juin!BQ31","v":0},{"$f":"AS31+Juin!BR31","v":0},{"$f":"AT31+Juin!BS31","v":0},{"$f":"AU31+Juin!BT31","v":26},{"$f":"AV31+Juin!BU31","v":0},{"$f":"AW31+Juin!BV31","v":0},{"$f":"AX31+Juin!BW31","v":59},{"$f":"AY31+Juin!BX31","v":0},{"$f":"AZ31+Juin!BY31","v":0},{"$f":"BA31+Juin!BZ31","v":0},{"$f":"BB31+Juin!CA31","v":0},{"$f":"BC31+Juin!CB31","v":0},{"$f":"BD31+Juin!CC31","v":0},{"$f":"BE31+Juin!CD31","v":0},{"$f":"BF31+Juin!CE31","v":16},null,{"$f":"Juin!CG31","v":0},59,-59,null,{"$f":"Juin!CK31","v":0},0,0,null,{"$f":"Juin!CO31","v":0},0,0,null,{"$f":"Juin!CS31","v":0},0,0]
[{"$f":"Juin!A32","v":"Hamid"},null,null,null,null,null,null,null,null,null,null,null,null,null,null,null,null,null,null,null,null,null,null,null,null,null,null,null,null,null,null,null,null,null,{"$f":"COUNTIF(C32:AG32,Accueil!$B$8)","v":0},{"$f":"COUNTIF(C32:AG32,Accueil!$B$9)","v":0},{"$f":"COUNTIF(C32:AG32,Accueil!$B$10)","v":0},{"$f":"COUNTIF(C32:AG32,Accueil!$B$11)","v":0},{"$f":"COUNTIF(C32:AG32,Accueil!$B$12)","v":0},{"$f":"COUNTIF(C32:AG32,Accueil!$B$13)","v":0},{"$f":"COUNTIF(C32:AG32,Accueil!$B$14)","v":0},{"$f":"COUNTIF(C32:AG32,Accueil!$B$15)","v":0},{"$f":"COUNTIF(C32:AG32,Accueil!$B$16)","v":0},{"$f":"COUNTIF(C32:AG32,Accueil!$B$17)","v":0},{"$f":"COUNTIF(C32:AG32,Accueil!$B$18)","v":0},{"$f":"COUNTIF(C32:AG32,Accueil!$B$19)","v":0},{"$f":"COUNTIF(C32:AG32,Accueil!$B$20)","v":0},{"$f":"COUNTIF(C32:AG32,Accueil!$B$21)","v":0},{"$f":"COUNTIF(C32:AG32,Accueil!$B$22)","v":0},{"$f":"COUNTIF(C32:AG32,Accueil!$B$23)","v":0},{"$f":"COUNTIF(C32:AG32,Accueil!$B$24)","v":0},{"$f":"COUNTIF(C32:AG32,Accueil!$B$25)","v":0},{"$f":"COUNTIF(C32:AG32,Accueil!$B$26)","v":0},{"$f":"COUNTIF(C32:AG32,Accueil!$B$27)","v":0},{"$f":"COUNTIF(C32:AG32,Accueil!$B$28)","v":0},{"$f":"COUNTIF(C32:AG32,Accueil!$B$29)","v":0},{"$f":"COUNTIF(C32:AG32,Accueil!$B$30)","v":0},0,null,{"$f":"AI32 +Juin!BH32","v":0},{"$f":"AJ32+Juin!BI32","v":0},{"$f":"AK32+Juin!BJ32","v":0},{"$f":"AL32+Juin!BK32","v":0},{"$f":"AM32+Juin!BL32","v":0},{"$f":"AN32+Juin!BM32","v":0},{"$f":"AO32+Juin!BN32","v":0},{"$f":"AP32+Juin!BO32","v":0},{"$f":"AQ32+Juin!BP32","v":37},{"$f":"AR32+Juin!BQ32","v":0},{"$f":"AS32+Juin!BR32","v":0},{"$f":"AT32+Juin!BS32","v":0},{"$f":"AU32+Juin!BT32","v":0},{"$f":"AV32+Juin!BU32","v":10},{"$f":"AW32+Juin!BV32","v":10},{"$f":"AX32+Juin!BW32","v":0},{"$f":"AY32+Juin!BX32","v":0},{"$f":"AZ32+Juin!BY32","v":0},{"$f":"BA32+Juin!BZ32","v":0},{"$f":"BB32+Juin!CA32","v":0},{"$f":"BC32+Juin!CB32","v":0},{"$f":"BD32+Juin!CC32","v":0},{"$f":"BE32+Juin!CD32","v":10},{"$f":"BF32+Juin!CE32","v":42},null,{"$f":"Juin!CG32","v":0},5,-5,null,{"$f":"Juin!CK32","v":0},0,0,null,{"$f":"Juin!CO32","v":0},0,0,null,{"$f":"Juin!CS32","v":0},10,-10]
[null,{"$f":" \"Effectif minimum \" & Accueil!$B$8","v":"Effectif minimum M1"},{"$f":"COUNTIF(C3:C32,Accueil!$B$8)","v":2},{"$f":"COUNTIF(D3:D32,Accueil!$B$8)","v":0},{"$f":"COUNTIF(E3:E32,Accueil!$B$8)","v":0},{"$f":"COUNTIF(F3:F32,Accueil!$B$8)","v":3},{"$f":"COUNTIF(G3:G32,Accueil!$B$8)","v":4},{"$f":"COUNTIF(H3:H32,Accueil!$B$8)","v":1},{"$f":"COUNTIF(I3:I32,Accueil!$B$8)","v":1},{"$f":"COUNTIF(J3:J32,Accueil!$B$8)","v":2},{"$f":"COUNTIF(K3:K32,Accueil!$B$8)","v":0},{"$f":"COUNTIF(L3:L32,Accueil!$B$8)","v":0},{"$f":"COUNTIF(M3:M32,Accueil!$B$8)","v":3},{"$f":"COUNTIF(N3:N32,Accueil!$B$8)","v":2},{"$f":"COUNTIF(O3:O32,Accueil!$B$8)","v":1},{"$f":"COUNTIF(P3:P32,Accueil!$B$8)","v":1},{"$f":"COUNTIF(Q3:Q32,Accueil!$B$8)","v":1},{"$f":"COUNTIF(R3:R32,Accueil!$B$8)","v":0},{"$f":"COUNTIF(S3:S32,Accueil!$B$8)","v":0},{"$f":"COUNTIF(T3:T32,Accueil!$B$8)","v":1},{"$f":"COUNTIF(U3:U32,Accueil!$B$8)","v":2},{"$f":"COUNTIF(V3:V32,Accueil!$B$8)","v":1},{"$f":"COUNTIF(W3:W32,Accueil!$B$8)","v":1},{"$f":"COUNTIF(X3:X32,Accueil!$B$8)","v":1},{"$f":"COUNTIF(Y3:Y32,Accueil!$B$8)","v":0},{"$f":"COUNTIF(Z3:Z32,Accueil!$B$8)","v":0},{"$f":"COUNTIF(AA3:AA32,Accueil!$B$8)","v":1},{"$f":"COUNTIF(AB3:AB32,Accueil!$B$8)","v":1},{"$f":"COUNTIF(AC3:AC32,Accueil!$B$8)","v":1},{"$f":"COUNTIF(AD3:AD32,Accueil!$B$8)","v":1},{"$f":"COUNTIF(AE3:AE32,Accueil!$B$8)","v":2},{"$f":"COUNTIF(AF3:AF32,Accueil!$B$8)","v":0},{"$f":"COUNTIF(AG3:AG32,Accueil!$B$8)","v":0},null,"Jours travaillés",null,null,null,null,null,null,null,null,null,null,null,"Jours non travaillés",null,null,null,null,null,null,null,null,null,null,null,null,"Jours travaillés",null,null,null,null,null,null,null,null,null,null,null,"Jours non travaillés"]
[null,{"$f":" \"Effectif minimum \" & Accueil!$B$9","v":"Effectif minimum M2"},{"$f":"COUNTIF(C3:C32,Accueil!$B$9)","v":1},{"$f":"COUNTIF(D3:D32,Accueil!$B$9)","v":0},{"$f":"COUNTIF(E3:E32,Accueil!$B$9)","v":0},{"$f":"COUNTIF(F3:F32,Accueil!$B$9)","v":0},{"$f":"COUNTIF(G3:G32,Accueil!$B$9)","v":3},{"$f":"COUNTIF(H3:H32,Accueil!$B$9)","v":0},{"$f":"COUNTIF(I3:I32,Accueil!$B$9)","v":0},{"$f":"COUNTIF(J3:J32,Accueil!$B$9)","v":1},{"$f":"COUNTIF(K3:K32,Accueil!$B$9)","v":0},{"$f":"COUNTIF(L3:L32,Accueil!$B$9)","v":0},{"$f":"COUNTIF(M3:M32,Accueil!$B$9)","v":0},{"$f":"COUNTIF(N3:N32,Accueil!$B$9)","v":4},{"$f":"COUNTIF(O3:O32,Accueil!$B$9)","v":0},{"$f":"COUNTIF(P3:P32,Accueil!$B$9)","v":0},{"$f":"COUNTIF(Q3:Q32,Accueil!$B$9)","v":1},{"$f":"COUNTIF(R3:R32,Accueil!$B$9)","v":0},{"$f":"COUNTIF(S3:S32,Accueil!$B$9)","v":0},{"$f":"COUNTIF(T3:T32,Accueil!$B$9)","v":0},{"$f":"COUNTIF(U3:U32,Accueil!$B$9)","v":4},{"$f":"COUNTIF(V3:V32,Accueil!$B$9)","v":0},{"$f":"COUNTIF(W3:W32,Accueil!$B$9)","v":0},{"$f":"COUNTIF(X3:X32,Accueil!$B$9)","v":1},{"$f":"COUNTIF(Y3:Y32,Accueil!$B$9)","v":0},{"$f":"COUNTIF(Z3:Z32,Accueil!$B$9)","v":0},{"$f":"COUNTIF(AA3:AA32,Accueil!$B$9)","v":1},{"$f":"COUNTIF(AB3:AB32,Accueil!$B$9)","v":3},{"$f":"COUNTIF(AC3:AC32,Accueil!$B$9)","v":0},{"$f":"COUNTIF(AD3:AD32,Accueil!$B$9)","v":0},{"$f":"COUNTIF(AE3:AE32,Accueil!$B$9)","v":0},{"$f":"COUNTIF(AF3:AF32,Accueil!$B$9)","v":0},{"$f":"COUNTIF(AG3:AG32,Accueil!$B$9)","v":0}]
[null,{"$f":"\"Effectif minimum \" & Accueil!$B$10","v":"Effectif minimum M3"},{"$f":"COUNTIF(C3:C32,Accueil!$B$10)","v":0},{"$f":"COUNTIF(D3:D32,Accueil!$B$10)","v":0},{"$f":"COUNTIF(E3:E32,Accueil!$B$10)","v":0},{"$f":"COUNTIF(F3:F32,Accueil!$B$10)","v":1},{"$f":"COUNTIF(G3:G32,Accueil!$B$10)","v":0},{"$f":"COUNTIF(H3:H32,Accueil!$B$10)","v":0},{"$f":"COUNTIF(I3:I32,Accueil!$B$10)","v":1},{"$f":"COUNTIF(J3:J32,Accueil!$B$10)","v":0},{"$f":"COUNTIF(K3:K32,Accueil!$B$10)","v":0},{"$f":"COUNTIF(L3:L32,Accueil!$B$10)","v":0},{"$f":"COUNTIF(M3:M32,Accueil!$B$10)","v":0},{"$f":"COUNTIF(N3:N32,Accueil!$B$10)","v":0},{"$f":"COUNTIF(O3:O32,Accueil!$B$10)","v":1},{"$f":"COUNTIF(P3:P32,Accueil!$B$10)","v":1},{"$f":"COUNTIF(Q3:Q32,Accueil!$B$10)","v":0},{"$f":"COUNTIF(R3:R32,Accueil!$B$10)","v":0},{"$f":"COUNTIF(S3:S32,Accueil!$B$10)","v":0},{"$f":"COUNTIF(T3:T32,Accueil!$B$10)","v":1},{"$f":"COUNTIF(U3:U32,Accueil!$B$10)","v":0},{"$f":"COUNTIF(V3:V32,Accueil!$B$10)","v":0},{"$f":"COUNTIF(W3:W32,Accueil!$B$10)","v":1},{"$f":"COUNTIF(X3:X32,Accueil!$B$10)","v":0},{"$f":"COUNTIF(Y3:Y32,Accueil!$B$10)","v":0},{"$f":"COUNTIF(Z3:Z32,Accueil!$B$10)","v":0},{"$f":"COUNTIF(AA3:AA32,Accueil!$B$10)","v":0},{"$f":"COUNTIF(AB3:AB32,Accueil!$B$10)","v":0},{"$f":"COUNTIF(AC3:AC32,Accueil!$B$10)","v":1},{"$f":"COUNTIF(AD3:AD32,Accueil!$B$10)","v":1},{"$f":"COUNTIF(AE3:AE32,Accueil!$B$10)","v":0},{"$f":"COUNTIF(AF3:AF32,Accueil!$B$10)","v":0},{"$f":"COUNTIF(AG3:AG32,Accueil!$B$10)","v":0}]
[2,"MATIN",{"$f":"C33+C34+C35+C37","v":4},{"$f":"D33+D34+D35+D37","v":2},2,5,9,3,2,4,2,2,3,8,4,2,4,2,2,3,8,4,2,3,2,2,3,7,4,2,3,2,2]
[null,{"$f":"\"Effectif minimum \" & Accueil!$B$11","v":"Effectif minimum MP"},{"$f":"COUNTIF(C3:C32,Accueil!$B$11)","v":1},{"$f":"COUNTIF(D3:D32,Accueil!$B$11)","v":2},{"$f":"COUNTIF(E3:E32,Accueil!$B$11)","v":2},{"$f":"COUNTIF(F3:F32,Accueil!$B$11)","v":1},{"$f":"COUNTIF(G3:G32,Accueil!$B$11)","v":2},{"$f":"COUNTIF(H3:H32,Accueil!$B$11)","v":2},{"$f":"COUNTIF(I3:I32,Accueil!$B$11)","v":0},{"$f":"COUNTIF(J3:J32,Accueil!$B$11)","v":1},{"$f":"COUNTIF(K3:K32,Accueil!$B$11)","v":2},{"$f":"COUNTIF(L3:L32,Accueil!$B$11)","v":2},{"$f":"COUNTIF(M3:M32,Accueil!$B$11)","v":0},{"$f":"COUNTIF(N3:N32,Accueil!$B$11)","v":2},{"$f":"COUNTIF(O3:O32,Accueil!$B$11)","v":2},{"$f":"COUNTIF(P3:P32,Accueil!$B$11)","v":0},{"$f":"COUNTIF(Q3:Q32,Accueil!$B$11)","v":2},{"$f":"COUNTIF(R3:R32,Accueil!$B$11)","v":2},{"$f":"COUNTIF(S3:S32,Accueil!$B$11)","v":2},{"$f":"COUNTIF(T3:T32,Accueil!$B$11)","v":1},{"$f":"COUNTIF(U3:U32,Accueil!$B$11)","v":2},{"$f":"COUNTIF(V3:V32,Accueil!$B$11)","v":3},{"$f":"COUNTIF(W3:W32,Accueil!$B$11)","v":0},{"$f":"COUNTIF(X3:X32,Accueil!$B$11)","v":1},{"$f":"COUNTIF(Y3:Y32,Accueil!$B$11)","v":2},{"$f":"COUNTIF(Z3:Z32,Accueil!$B$11)","v":2},{"$f":"COUNTIF(AA3:AA32,Accueil!$B$11)","v":1},{"$f":"COUNTIF(AB3:AB32,Accueil!$B$11)","v":3},{"$f":"COUNTIF(AC3:AC32,Accueil!$B$11)","v":2},{"$f":"COUNTIF(AD3:AD32,Accueil!$B$11)","v":0},{"$f":"COUNTIF(AE3:AE32,Accueil!$B$11)","v":1},{"$f":"COUNTIF(AF3:AF32,Accueil!$B$11)","v":2},{"$f":"COUNTIF(AG3:AG32,Accueil!$B$11)","v":2}]
[null,{"$f":"\"Effectif minimum \" & Accueil!$B$12","v":"Effectif minimum AP1"},{"$f":"COUNTIF(C3:C32,Accueil!$B$12)","v":0},{"$f":"COUNTIF(D3:D32,Accueil!$B$12)","v":0},{"$f":"COUNTIF(E3:E32,Accueil!$B$12)","v":0},{"$f":"COUNTIF(F3:F32,Accueil!$B$12)","v":0},{"$f":"COUNTIF(G3:G32,Accueil!$B$12)","v":0},{"$f":"COUNTIF(H3:H32,Accueil!$B$12)","v":0},{"$f":"COUNTIF(I3:I32,Accueil!$B$12)","v":2},{"$f":"COUNTIF(J3:J32,Accueil!$B$12)","v":0},{"$f":"COUNTIF(K3:K32,Accueil!$B$12)","v":0},{"$f":"COUNTIF(L3:L32,Accueil!$B$12)","v":0},{"$f":"COUNTIF(M3:M32,Accueil!$B$12)","v":0},{"$f":"COUNTIF(N3:N32,Accueil!$B$12)","v":0},{"$f":"COUNTIF(O3:O32,Accueil!$B$12)","v":0},{"$f":"COUNTIF(P3:P32,Accueil!$B$12)","v":2},{"$f":"COUNTIF(Q3:Q32,Accueil!$B$12)","v":0},{"$f":"COUNTIF(R3:R32,Accueil!$B$12)","v":0},{"$f":"COUNTIF(S3:S32,Accueil!$B$12)","v":0},{"$f":"COUNTIF(T3:T32,Accueil!$B$12)","v":0},{"$f":"COUNTIF(U3:U32,Accueil!$B$12)","v":0},{"$f":"COUNTIF(V3:V32,Accueil!$B$12)","v":0},{"$f":"COUNTIF(W3:W32,Accueil!$B$12)","v":1},{"$f":"COUNTIF(X3:X32,Accueil!$B$12)","v":1},{"$f":"COUNTIF(Y3:Y32,Accueil!$B$12)","v":0},{"$f":"COUNTIF(Z3:Z32,Accueil!$B$12)","v":0},{"$f":"COUNTIF(AA3:AA32,Accueil!$B$12)","v":0},{"$f":"COUNTIF(AB3:AB32,Accueil!$B$12)","v":0},{"$f":"COUNTIF(AC3:AC32,Accueil!$B$12)","v":0},{"$f":"COUNTIF(AD3:AD32,Accueil!$B$12)","v":1},{"$f":"COUNTIF(AE3:AE32,Accueil!$B$12)","v":0},{"$f":"COUNTIF(AF3:AF32,Accueil!$B$12)","v":0},{"$f":"COUNTIF(AG3:AG32,Accueil!$B$12)","v":0}]
[null,{"$f":"\"Effectif minimum \" & Accueil!$B$13","v":"Effectif minimum AP2"},{"$f":"COUNTIF(C3:C32,Accueil!$B$13)","v":1},{"$f":"COUNTIF(D3:D32,Accueil!$B$13)","v":0},{"$f":"COUNTIF(E3:E32,Accueil!$B$13)","v":0},{"$f":"COUNTIF(F3:F32,Accueil!$B$13)","v":1},{"$f":"COUNTIF(G3:G32,Accueil!$B$13)","v":0},{"$f":"COUNTIF(H3:H32,Accueil!$B$13)","v":0},{"$f":"COUNTIF(I3:I32,Accueil!$B$13)","v":0},{"$f":"COUNTIF(J3:J32,Accueil!$B$13)","v":1},{"$f":"COUNTIF(K3:K32,Accueil!$B$13)","v":0},{"$f":"COUNTIF(L3:L32,Accueil!$B$13)","v":0},{"$f":"COUNTIF(M3:M32,Accueil!$B$13)","v":2},{"$f":"COUNTIF(N3:N32,Accueil!$B$13)","v":0},{"$f":"COUNTIF(O3:O32,Accueil!$B$13)","v":0},{"$f":"COUNTIF(P3:P32,Accueil!$B$13)","v":0},{"$f":"COUNTIF(Q3:Q32,Accueil!$B$13)","v":0},{"$f":"COUNTIF(R3:R32,Accueil!$B$13)","v":0},{"$f":"COUNTIF(S3:S32,Accueil!$B$13)","v":0},{"$f":"COUNTIF(T3:T32,Accueil!$B$13)","v":1},{"$f":"COUNTIF(U3:U32,Accueil!$B$13)","v":0},{"$f":"COUNTIF(V3:V32,Accueil!$B$13)","v":0},{"$f":"COUNTIF(W3:W32,Accueil!$B$13)","v":1},{"$f":"COUNTIF(X3:X32,Accueil!$B$13)","v":0},{"$f":"COUNTIF(Y3:Y32,Accueil!$B$13)","v":0},{"$f":"COUNTIF(Z3:Z32,Accueil!$B$13)","v":0},{"$f":"COUNTIF(AA3:AA32,Accueil!$B$13)","v":1},{"$f":"COUNTIF(AB3:AB32,Accueil!$B$13)","v":0},{"$f":"COUNTIF(AC3:AC32,Accueil!$B$13)","v":0},{"$f":"COUNTIF(AD3:AD32,Accueil!$B$13)","v":0},{"$f":"COUNTIF(AE3:AE32,Accueil!$B$13)","v":0},{"$f":"COUNTIF(AF3:AF32,Accueil!$B$13)","v":0},{"$f":"COUNTIF(AG3:AG32,Accueil!$B$13)","v":0}]
[null,{"$f":"\"Effectif minimum \" & Accueil!$B$14","v":"Effectif minimum AP3"},{"$f":"COUNTIF(C3:C32,Accueil!$B$14)","v":0},{"$f":"COUNTIF(D3:D32,Accueil!$B$14)","v":0},{"$f":"COUNTIF(E3:E32,Accueil!$B$14)","v":0},{"$f":"COUNTIF(F3:F32,Accueil!$B$14)","v":0},{"$f":"COUNTIF(G3:G32,Accueil!$B$14)","v":0},{"$f":"COUNTIF(H3:H32,Accueil!$B$14)","v":0},{"$f":"COUNTIF(I3:I32,Accueil!$B$14)","v":0},{"$f":"COUNTIF(J3:J32,Accueil!$B$14)","v":0},{"$f":"COUNTIF(K3:K32,Accueil!$B$14)","v":0},{"$f":"COUNTIF(L3:L32,Accueil!$B$14)","v":0},{"$f":"COUNTIF(M3:M32,Accueil!$B$14)","v":0},{"$f":"COUNTIF(N3:N32,Accueil!$B$14)","v":0},{"$f":"COUNTIF(O3:O32,Accueil!$B$14)","v":0},{"$f":"COUNTIF(P3:P32,Accueil!$B$14)","v":0},{"$f":"COUNTIF(Q3:Q32,Accueil!$B$14)","v":0},{"$f":"COUNTIF(R3:R32,Accueil!$B$14)","v":0},{"$f":"COUNTIF(S3:S32,Accueil!$B$14)","v":0},{"$f":"COUNTIF(T3:T32,Accueil!$B$14)","v":0},{"$f":"COUNTIF(U3:U32,Accueil!$B$14)","v":0},{"$f":"COUNTIF(V3:V32,Accueil!$B$14)","v":0},{"$f":"COUNTIF(W3:W32,Accueil!$B$14)","v":0},{"$f":"COUNTIF(X3:X32,Accueil!$B$14)","v":0},{"$f":"COUNTIF(Y3:Y32,Accueil!$B$14)","v":0},{"$f":"COUNTIF(Z3:Z32,Accueil!$B$14)","v":0},{"$f":"COUNTIF(AA3:AA32,Accueil!$B$14)","v":0},{"$f":"COUNTIF(AB3:AB32,Accueil!$B$14)","v":0},{"$f":"COUNTIF(AC3:AC32,Accueil!$B$14)","v":0},{"$f":"COUNTIF(AD3:AD32,Accueil!$B$14)","v":0},{"$f":"COUNTIF(AE3:AE32,Accueil!$B$14)","v":0},{"$f":"COUNTIF(AF3:AF32,Accueil!$B$14)","v":0},{"$f":"COUNTIF(AG3:AG32,Accueil!$B$14)","v":0}]
[1,{"$f":"\"Effectif minimum \" & Accueil!$B$15","v":"Effectif minimum P1"},{"$f":"COUNTIF(C3:C32,Accueil!$B$15)","v":0},{"$f":"COUNTIF(D3:D32,Accueil!$B$15)","v":0},{"$f":"COUNTIF(E3:E32,Accueil!$B$15)","v":0},{"$f":"COUNTIF(F3:F32,Accueil!$B$15)","v":0},{"$f":"COUNTIF(G3:G32,Accueil!$B$15)","v":0},{"$f":"COUNTIF(H3:H32,Accueil!$B$15)","v":0},{"$f":"COUNTIF(I3:I32,Accueil!$B$15)","v":0},{"$f":"COUNTIF(J3:J32,Accueil!$B$15)","v":0},{"$f":"COUNTIF(K3:K32,Accueil!$B$15)","v":0},{"$f":"COUNTIF(L3:L32,Accueil!$B$15)","v":0},{"$f":"COUNTIF(M3:M32,Accueil!$B$15)","v":0},{"$f":"COUNTIF(N3:N32,Accueil!$B$15)","v":0},{"$f":"COUNTIF(O3:O32,Accueil!$B$15)","v":0},{"$f":"COUNTIF(P3:P32,Accueil!$B$15)","v":0},{"$f":"COUNTIF(Q3:Q32,Accueil!$B$15)","v":0},{"$f":"COUNTIF(R3:R32,Accueil!$B$15)","v":0},{"$f":"COUNTIF(S3:S32,Accueil!$B$15)","v":0},{"$f":"COUNTIF(T3:T32,Accueil!$B$15)","v":0},{"$f":"COUNTIF(U3:U32,Accueil!$B$15)","v":0},{"$f":"COUNTIF(V3:V32,Accueil!$B$15)","v":0},{"$f":"COUNTIF(W3:W32,Accueil!$B$15)","v":0},{"$f":"COUNTIF(X3:X32,Accueil!$B$15)","v":0},{"$f":"COUNTIF(Y3:Y32,Accueil!$B$15)","v":0},{"$f":"COUNTIF(Z3:Z32,Accueil!$B$15)","v":0},{"$f":"COUNTIF(AA3:AA32,Accueil!$B$15)","v":0},{"$f":"COUNTIF(AB3:AB32,Accueil!$B$15)","v":0},{"$f":"COUNTIF(AC3:AC32,Accueil!$B$15)","v":0},{"$f":"COUNTIF(AD3:AD32,Accueil!$B$15)","v":0},{"$f":"COUNTIF(AE3:AE32,Accueil!$B$15)","v":0},{"$f":"COUNTIF(AF3:AF32,Accueil!$B$15)","v":0},{"$f":"COUNTIF(AG3:AG32,Accueil!$B$15)","v":0}]
[2,"APRES-MIDI",{"$f":"C37+C38+C39+C41","v":2},{"$f":"D37+D38+D39+D41","v":2},{"$f":"E37+E38+E39+E41","v":2},{"$f":"F37+F38+F39+F41","v":2},{"$f":"G37+G38+G39+G41","v":2},2,2,2,2,2,2,2,2,2,2,2,2,2,2,3,2,2,2,2,2,3,2,1,1,2,2]
[2,"SOIREE",{"$f":"C37+C38+C39+C41","v":2},{"$f":"D37+D38+D39+D41","v":2},2,2,2,2,2,2,2,2,2,2,2,2,2,2,2,2,2,3,2,2,2,2,2,3,2,1,1,2,2]
[null,{"$f":" \"Effectif minimum \" & Accueil!$B$17 & \" \"","v":"Effectif minimum BI "},{"$f":"COUNTIF(C3:C32,Accueil!$B$17)","v":0},{"$f":"COUNTIF(D3:D32,Accueil!$B$17)","v":0},{"$f":"COUNTIF(E3:E32,Accueil!$B$17)","v":0},{"$f":"COUNTIF(F3:F32,Accueil!$B$17)","v":0},{"$f":"COUNTIF(G3:G32,Accueil!$B$17)","v":0},{"$f":"COUNTIF(H3:H32,Accueil!$B$17)","v":0},{"$f":"COUNTIF(I3:I32,Accueil!$B$17)","v":0},{"$f":"COUNTIF(J3:J32,Accueil!$B$17)","v":0},{"$f":"COUNTIF(K3:K32,Accueil!$B$17)","v":0},{"$f":"COUNTIF(L3:L32,Accueil!$B$17)","v":0},{"$f":"COUNTIF(M3:M32,Accueil!$B$17)","v":0},{"$f":"COUNTIF(N3:N32,Accueil!$B$17)","v":0},{"$f":"COUNTIF(O3:O32,Accueil!$B$17)","v":0},{"$f":"COUNTIF(P3:P32,Accueil!$B$17)","v":0},{"$f":"COUNTIF(Q3:Q32,Accueil!$B$17)","v":0},{"$f":"COUNTIF(R3:R32,Accueil!$B$17)","v":0},{"$f":"COUNTIF(S3:S32,Accueil!$B$17)","v":0},{"$f":"COUNTIF(T3:T32,Accueil!$B$17)","v":0},{"$f":"COUNTIF(U3:U32,Accueil!$B$17)","v":0},{"$f":"COUNTIF(V3:V32,Accueil!$B$17)","v":0},{"$f":"COUNTIF(W3:W32,Accueil!$B$17)","v":0},{"$f":"COUNTIF(X3:X32,Accueil!$B$17)","v":0},{"$f":"COUNTIF(Y3:Y32,Accueil!$B$17)","v":0},{"$f":"COUNTIF(Z3:Z32,Accueil!$B$17)","v":0},{"$f":"COUNTIF(AA3:AA32,Accueil!$B$17)","v":0},{"$f":"COUNTIF(AB3:AB32,Accueil!$B$17)","v":0},{"$f":"COUNTIF(AC3:AC32,Accueil!$B$17)","v":0},{"$f":"COUNTIF(AD3:AD32,Accueil!$B$17)","v":0},{"$f":"COUNTIF(AE3:AE32,Accueil!$B$17)","v":0},{"$f":"COUNTIF(AF3:AF32,Accueil!$B$17)","v":0},{"$f":"COUNTIF(AG3:AG32,Accueil!$B$17)","v":0}]
[null,{"$f":" \"Effectif minimum \" & Accueil!$B$18 & \" \"","v":"Effectif minimum LY "},{"$f":"COUNTIF(C3:C32,Accueil!$B$18)","v":0},{"$f":"COUNTIF(D3:D32,Accueil!$B$18)","v":0},{"$f":"COUNTIF(E3:E32,Accueil!$B$18)","v":0},{"$f":"COUNTIF(F3:F32,Accueil!$B$18)","v":0},{"$f":"COUNTIF(G3:G32,Accueil!$B$18)","v":0},{"$f":"COUNTIF(H3:H32,Accueil!$B$18)","v":1},{"$f":"COUNTIF(I3:I32,Accueil!$B$18)","v":0},{"$f":"COUNTIF(J3:J32,Accueil!$B$18)","v":0},{"$f":"COUNTIF(K3:K32,Accueil!$B$18)","v":0},{"$f":"COUNTIF(L3:L32,Accueil!$B$18)","v":1},{"$f":"COUNTIF(M3:M32,Accueil!$B$18)","v":0},{"$f":"COUNTIF(N3:N32,Accueil!$B$18)","v":0},{"$f":"COUNTIF(O3:O32,Accueil!$B$18)","v":1},{"$f":"COUNTIF(P3:P32,Accueil!$B$18)","v":0},{"$f":"COUNTIF(Q3:Q32,Accueil!$B$18)","v":0},{"$f":"COUNTIF(R3:R32,Accueil!$B$18)","v":0},{"$f":"COUNTIF(S3:S32,Accueil!$B$18)","v":1},{"$f":"COUNTIF(T3:T32,Accueil!$B$18)","v":0},{"$f":"COUNTIF(U3:U32,Accueil!$B$18)","v":0},{"$f":"COUNTIF(V3:V32,Accueil!$B$18)","v":1},{"$f":"COUNTIF(W3:W32,Accueil!$B$18)","v":0},{"$f":"COUNTIF(X3:X32,Accueil!$B$18)","v":0},{"$f":"COUNTIF(Y3:Y32,Accueil!$B$18)","v":0},{"$f":"COUNTIF(Z3:Z32,Accueil!$B$18)","v":0},{"$f":"COUNTIF(AA3:AA32,Accueil!$B$18)","v":0},{"$f":"COUNTIF(AB3:AB32,Accueil!$B$18)","v":0},{"$f":"COUNTIF(AC3:AC32,Accueil!$B$18)","v":1},{"$f":"COUNTIF(AD3:AD32,Accueil!$B$18)","v":0},{"$f":"COUNTIF(AE3:AE32,Accueil!$B$18)","v":0},{"$f":"COUNTIF(AF3:AF32,Accueil!$B$18)","v":0},{"$f":"COUNTIF(AG3:AG32,Accueil!$B$18)","v":0}]
[{"$f":"Juin!A46","v":0},{"$f":" \"Effectif minimum \" & Accueil!$B$19 & \" \"","v":"Effectif minimum ST "},{"$f":"COUNTIF(C3:C32,Accueil!$B$19)","v":0},{"$f":"COUNTIF(D3:D32,Accueil!$B$19)","v":0},{"$f":"COUNTIF(E3:E32,Accueil!$B$19)","v":0},{"$f":"COUNTIF(F3:F32,Accueil!$B$19)","v":0},{"$f":"COUNTIF(G3:G32,Accueil!$B$19)","v":0},{"$f":"COUNTIF(H3:H32,Accueil!$B$19)","v":0},{"$f":"COUNTIF(I3:I32,Accueil!$B$19)","v":0},{"$f":"COUNTIF(J3:J32,Accueil!$B$19)","v":0},{"$f":"COUNTIF(K3:K32,Accueil!$B$19)","v":0},{"$f":"COUNTIF(L3:L32,Accueil!$B$19)","v":0},{"$f":"COUNTIF(M3:M32,Accueil!$B$19)","v":0},{"$f":"COUNTIF(N3:N32,Accueil!$B$19)","v":0},{"$f":"COUNTIF(O3:O32,Accueil!$B$19)","v":0},{"$f":"COUNTIF(P3:P32,Accueil!$B$19)","v":0},{"$f":"COUNTIF(Q3:Q32,Accueil!$B$19)","v":0},{"$f":"COUNTIF(R3:R32,Accueil!$B$19)","v":0},{"$f":"COUNTIF(S3:S32,Accueil!$B$19)","v":0},{"$f":"COUNTIF(T3:T32,Accueil!$B$19)","v":0},{"$f":"COUNTIF(U3:U32,Accueil!$B$19)","v":0},{"$f":"COUNTIF(V3:V32,Accueil!$B$19)","v":0},{"$f":"COUNTIF(W3:W32,Accueil!$B$19)","v":0},{"$f":"COUNTIF(X3:X32,Accueil!$B$19)","v":0},{"$f":"COUNTIF(Y3:Y32,Accueil!$B$19)","v":0},{"$f":"COUNTIF(Z3:Z32,Accueil!$B$19)","v":0},{"$f":"COUNTIF(AA3:AA32,Accueil!$B$19)","v":0},{"$f":"COUNTIF(AB3:AB32,Accueil!$B$19)","v":0},{"$f":"COUNTIF(AC3:AC32,Accueil!$B$19)","v":0},{"$f":"COUNTIF(AD3:AD32,Accueil!$B$19)","v":0},{"$f":"COUNTIF(AE3:AE32,Accueil!$B$19)","v":0},{"$f":"COUNTIF(AF3:AF32,Accueil!$B$19)","v":0},{"$f":"COUNTIF(AG3:AG32,Accueil!$B$19)","v":0}]
[1,{"$f":"\"Effectif minimum \" & Accueil!$B$16","v":"Effectif minimum Nuit"},{"$f":"COUNTIF(C3:C32,Accueil!$B$16)","v":0},{"$f":"COUNTIF(D3:D32,Accueil!$B$16)","v":0},{"$f":"COUNTIF(E3:E32,Accueil!$B$16)","v":0},{"$f":"COUNTIF(F3:F32,Accueil!$B$16)","v":0},{"$f":"COUNTIF(G3:G32,Accueil!$B$16)","v":0},{"$f":"COUNTIF(H3:H32,Accueil!$B$16)","v":0},{"$f":"COUNTIF(I3:I32,Accueil!$B$16)","v":0},{"$f":"COUNTIF(J3:J32,Accueil!$B$16)","v":0},{"$f":"COUNTIF(K3:K32,Accueil!$B$16)","v":0},{"$f":"COUNTIF(L3:L32,Accueil!$B$16)","v":0},{"$f":"COUNTIF(M3:M32,Accueil!$B$16)","v":0},{"$f":"COUNTIF(N3:N32,Accueil!$B$16)","v":0},{"$f":"COUNTIF(O3:O32,Accueil!$B$16)","v":0},{"$f":"COUNTIF(P3:P32,Accueil!$B$16)","v":0},{"$f":"COUNTIF(Q3:Q32,Accueil!$B$16)","v":0},{"$f":"COUNTIF(R3:R32,Accueil!$B$16)","v":0},{"$f":"COUNTIF(S3:S32,Accueil!$B$16)","v":0},{"$f":"COUNTIF(T3:T32,Accueil!$B$16)","v":0},{"$f":"COUNTIF(U3:U32,Accueil!$B$16)","v":0},{"$f":"COUNTIF(V3:V32,Accueil!$B$16)","v":0},{"$f":"COUNTIF(W3:W32,Accueil!$B$16)","v":0},{"$f":"COUNTIF(X3:X32,Accueil!$B$16)","v":0},{"$f":"COUNTIF(Y3:Y32,Accueil!$B$16)","v":0},{"$f":"COUNTIF(Z3:Z32,Accueil!$B$16)","v":0},{"$f":"COUNTIF(AA3:AA32,Accueil!$B$16)","v":0},{"$f":"COUNTIF(AB3:AB32,Accueil!$B$16)","v":0},{"$f":"COUNTIF(AC3:AC32,Accueil!$B$16)","v":0},{"$f":"COUNTIF(AD3:AD32,Accueil!$B$16)","v":0},{"$f":"COUNTIF(AE3:AE32,Accueil!$B$16)","v":0},{"$f":"COUNTIF(AF3:AF32,Accueil!$B$16)","v":0},{"$f":"COUNTIF(AG3:AG32,Accueil!$B$16)","v":0}]

{"sheet":"Aout","index":9,"n_rows":47,"n_cols":99,"rows_kept":47,"cut":false,"hidden":false,"merged":[[0,92,0,94],[0,96,0,98],[1,0,1,1],[2,0,2,1],[0,0,0,1],[0,84,0,86],[0,88,0,90],[3,0,3,1],[4,0,4,1],[5,0,5,1],[12,0,12,1],[6,0,6,1],[13,0,13,1],[14,0,14,1],[7,0,7,1],[8,0,8,1],[9,0,9,1],[10,0,10,1],[11,0,11,1],[19,0,19,1],[20,0,20,1],[21,0,21,1],[22,0,22,1],[15,0,15,1],[16,0,16,1],[17,0,17,1],[18,0,18,1],[23,0,23,1],[24,0,24,1],[25,0,25,1],[26,0,26,1],[31,0,31,1],[27,0,27,1],[28,0,28,1],[29,0,29,1],[30,0,30,1]]}
[{"$f":"DATE(Accueil!C2,8,1)","v":"2016-08-01"},null,{"$f":"INDEX({\"D\";\"L\";\"M\";\"M\";\"J\";\"V\";\"S\"},WEEKDAY(C2))","v":"L"},{"$f":"INDEX({\"D\";\"L\";\"M\";\"M\";\"J\";\"V\";\"S\"},WEEKDAY(D2))","v":"M"},{"$f":"INDEX({\"D\";\"L\";\"M\";\"M\";\"J\";\"V\";\"S\"},WEEKDAY(E2))","v":"M"},{"$f":"INDEX({\"D\";\"L\";\"M\";\"M\";\"J\";\"V\";\"S\"},WEEKDAY(F2))","v":"J"},{"$f":"INDEX({\"D\";\"L\";\"M\";\"M\";\"J\";\"V\";\"S\"},WEEKDAY(G2))","v":"V"},{"$f":"INDEX({\"D\";\"L\";\"M\";\"M\";\"J\";\"V\";\"S\"},WEEKDAY(H2))","v":"S"},{"$f":"INDEX({\"D\";\"L\";\"M\";\"M\";\"J\";\"V\";\"S\"},WEEKDAY(I2))","v":"D"},{"$f":"INDEX({\"D\";\"L\";\"M\";\"M\";\"J\";\"V\";\"S\"},WEEKDAY(J2))","v":"L"},{"$f":"INDEX({\"D\";\"L\";\"M\";\"M\";\"J\";\"V\";\"S\"},WEEKDAY(K2))","v":"M"},{"$f":"INDEX({\"D\";\"L\";\"M\";\"M\";\"J\";\"V\";\"S\"},WEEKDAY(L2))","v":"M"},{"$f":"INDEX({\"D\";\"L\";\"M\";\"M\";\"J\";\"V\";\"S\"},WEEKDAY(M2))","v":"J"},{"$f":"INDEX({\"D\";\"L\";\"M\";\"M\";\"J\";\"V\";\"S\"},WEEKDAY(N2))","v":"V"},{"$f":"INDEX({\"D\";\"L\";\"M\";\"M\";\"J\";\"V\";\"S\"},WEEKDAY(O2))","v":"S"},{"$f":"INDEX({\"D\";\"L\";\"M\";\"M\";\"J\";\"V\";\"S\"},WEEKDAY(P2))","v":"D"},{"$f":"INDEX({\"D\";\"L\";\"M\";\"M\";\"J\";\"V\";\"S\"},WEEKDAY(Q2))","v":"L"},{"$f":"INDEX({\"D\";\"L\";\"M\";\"M\";\"J\";\"V\";\"S\"},WEEKDAY(R2))","v":"M"},{"$f":"INDEX({\"D\";\"L\";\"M\";\"M\";\"J\";\"V\";\"S\"},WEEKDAY(S2))","v":"M"},{"$f":"INDEX({\"D\";\"L\";\"M\";\"M\";\"J\";\"V\";\"S\"},WEEKDAY(T2))","v":"J"},{"$f":"INDEX({\"D\";\"L\";\"M\";\"M\";\"J\";\"V\";\"S\"},WEEKDAY(U2))","v":"V"},{"$f":"INDEX({\"D\";\"L\";\"M\";\"M\";\"J\";\"V\";\"S\"},WEEKDAY(V2))","v":"S"},{"$f":"INDEX({\"D\";\"L\";\"M\";\"M\";\"J\";\"V\";\"S\"},WEEKDAY(W2))","v":"D"},{"$f":"INDEX({\"D\";\"L\";\"M\";\"M\";\"J\";\"V\";\"S\"},WEEKDAY(X2))","v":"L"},{"$f":"INDEX({\"D\";\"L\";\"M\";\"M\";\"J\";\"V\";\"S\"},WEEKDAY(Y2))","v":"M"},{"$f":"INDEX({\"D\";\"L\";\"M\";\"M\";\"J\";\"V\";\"S\"},WEEKDAY(Z2))","v":"M"},{"$f":"INDEX({\"D\";\"L\";\"M\";\"M\";\"J\";\"V\";\"S\"},WEEKDAY(AA2))","v":"J"},{"$f":"INDEX({\"D\";\"L\";\"M\";\"M\";\"J\";\"V\";\"S\"},WEEKDAY(AB2))","v":"V"},{"$f":"INDEX({\"D\";\"L\";\"M\";\"M\";\"J\";\"V\";\"S\"},WEEKDAY(AC2))","v":"S"},{"$f":"INDEX({\"D\";\"L\";\"M\";\"M\";\"J\";\"V\";\"S\"},WEEKDAY(AD2))","v":"D"},{"$f":"INDEX({\"D\";\"L\";\"M\";\"M\";\"J\";\"V\";\"S\"},WEEKDAY(AE2))","v":"L"},{"$f":"INDEX({\"D\";\"L\";\"M\";\"M\";\"J\";\"V\";\"S\"},WEEKDAY(AF2))","v":"M"},{"$f":"INDEX({\"D\";\"L\";\"M\";\"M\";\"J\";\"V\";\"S\"},WEEKDAY(AG2))","v":"M"},null,"Bilan mensuel",null,null,null,null,null,null,null,null,null,null,null,null,null,null,null,null,null,null,null,null,null,null,"Total jours",null,"Bilan annuel",null,null,null,null,null,null,null,null,null,null,null,null,null,null,null,null,null,null,null,null,null,null,"Total jours",null,"Bilan congès annuels",null,null,null,"Bilan Enfant malade",null,null,null,"Bilan RH aministratif",null,null,null,"Bilan RH employé"]
[{"$f":"Accueil!J2","v":"Educatif"},null,{"$f":"A1","v":"2016-08-01"},{"$f":"C2+1","v":"2016-08-02"},"2016-08-03","2016-08-04","2016-08-05","2016-08-06","2016-08-07","2016-08-08","2016-08-09","2016-08-10","2016-08-11","2016-08-12","2016-08-13","2016-08-14","2016-08-15","2016-08-16","2016-08-17","2016-08-18","2016-08-19","2016-08-20","2016-08-21","2016-08-22","2016-08-23","2016-08-24","2016-08-25","2016-08-26","2016-08-27","2016-08-28","2016-08-29","2016-08-30","2016-08-31",null,{"$f":"Accueil!$B$8","v":"M1"},{"$f":"Accueil!$B$9","v":"M2"},{"$f":"Accueil!B10","v":"M3"},{"$f":"Accueil!$B$11","v":"MP"},{"$f":"Accueil!$B$12","v":"AP1"},{"$f":"Accueil!B13","v":"AP2"},{"$f":"Accueil!B14","v":"AP3"},{"$f":"Accueil!$B$15","v":"P1"},{"$f":"Accueil!$B$16","v":"Nuit"},{"$f":"Accueil!$B$17","v":"BI"},{"$f":"Accueil!$B$18","v":"LY"},{"$f":"Accueil!$B$19","v":"ST"},{"$f":"Accueil!$B$20","v":"IND"},{"$f":"Accueil!$B$21","v":0},{"$f":"Accueil!$B$22","v":0},{"$f":"Accueil!$B$23","v":"Vac"},{"$f":"Accueil!$B$24","v":"Mal"},{"$f":"Accueil!$B$25","v":"Mat"},{"$f":"Accueil!$B$26","v":"CC"},{"$f":"Accueil!$B$27","v":"F"},{"$f":"Accueil!$B$28","v":"Enf"},{"$f":"Accueil!$B$29","v":"CP"},{"$f":"Accueil!$B$30","v":0},"travaillés",null,{"$f":"AI2","v":"M1"},"M2","M3","MP","AP1","AP2","AP3","P1","Nuit","BI","LY","ST","IND",0,0,"Vac","Mal","Mat","CC","F","Enf","CP",0,"travaillés",null,"capital","pris","restant",null,"capital","pris","restant",null,"capital","pris","restant",null,"capital","pris","restant"]
[{"$f":"Juil!A3","v":"Anne"},null,null,"MP",null,null,"M1",null,null,null,"MP",null,null,"M1",null,"MP",null,"MP",null,null,"M1",null,null,null,"MP",null,null,"M1",null,null,null,"MP",null,null,{"$f":"COUNTIF(C3:AG3,Accueil!$B$8)","v":4},{"$f":"COUNTIF(C3:AG3,Accueil!$B$9)","v":0},{"$f":"COUNTIF(C3:AG3,Accueil!$B$10)","v":0},{"$f":"COUNTIF(C3:AG3,Accueil!$B$11)","v":6},{"$f":"COUNTIF(C3:AG3,Accueil!$B$12)","v":0},{"$f":"COUNTIF(C3:AG3,Accueil!$B$13)","v":0},{"$f":"COUNTIF(C3:AG3,Accueil!$B$14)","v":0},{"$f":"COUNTIF(C3:AG3,Accueil!$B$15)","v":0},{"$f":"COUNTIF(C3:AG3,Accueil!$B$16)","v":0},{"$f":"COUNTIF(C3:AG3,Accueil!$B$17)","v":0},{"$f":"COUNTIF(C3:AG3,Accueil!$B$18)","v":0},{"$f":"COUNTIF(C3:AG3,Accueil!$B$19)","v":0},{"$f":"COUNTIF(C3:AG3,Accueil!$B$20)","v":0},{"$f":"COUNTIF(C3:AG3,Accueil!$B$21)","v":0},{"$f":"COUNTIF(C3:AG3,Accueil!$B$22)","v":0},{"$f":"COUNTIF(C3:AG3,Accueil!$B$23)","v":0},{"$f":"COUNTIF(C3:AG3,Accueil!$B$24)","v":0},{"$f":"COUNTIF(C3:AG3,Accueil!$B$25)","v":0},{"$f":"COUNTIF(C3:AG3,Accueil!$B$26)","v":0},{"$f":"COUNTIF(C3:AG3,Accueil!$B$27)","v":0},{"$f":"COUNTIF(C3:AG3,Accueil!$B$28)","v":0},{"$f":"COUNTIF(C3:AG3,Accueil!$B$29)","v":0},{"$f":"COUNTIF(C3:AG3,Accueil!$B$30)","v":0},{"$f":"SUM($AI3:$AT3)+($AW3*0.5)","v":10},null,{"$f":"AI3 +Juil!BH3","v":22},{"$f":"AJ3+Juil!BI3","v":0},{"$f":"AK3+Juil!BJ3","v":0},{"$f":"AL3+Juil!BK3","v":42},{"$f":"AM3+Juil!BL3","v":5},{"$f":"AN3+Juil!BM3","v":0},{"$f":"AO3+Juil!BN3","v":0},{"$f":"AP3+Juil!BO3","v":0},{"$f":"AQ3+Juil!BP3","v":0},{"$f":"AR3+Juil!BQ3","v":0},{"$f":"AS3+Juil!BR3","v":0},{"$f":"AT3+Juil!BS3","v":0},{"$f":"AU3+Juil!BT3","v":0},{"$f":"AV3+Juil!BU3","v":0},{"$f":"AW3+Juil!BV3","v":0},{"$f":"AX3+Juil!BW3","v":38},{"$f":"AY3+Juil!BX3","v":1},{"$f":"AZ3+Juil!BY3","v":0},{"$f":"BA3+Juil!BZ3","v":0},{"$f":"BB3+Juil!CA3","v":0},{"$f":"BC3+Juil!CB3","v":0},{"$f":"BD3+Juil!CC3","v":0},{"$f":"BE3+Juil!CD3","v":0},{"$f":"BF3+Juil!CE3","v":69},null,{"$f":"Juil!CG3","v":0},{"$f":"0.5*($BV3)+($BW3)","v":38},{"$f":"CG3-CH3","v":-38},null,{"$f":"Juil!CK3","v":0},{"$f":"$CB3","v":0},{"$f":"CK3-CL3","v":0},null,{"$f":"Juil!CO3","v":0},{"$f":"$CC3","v":0},{"$f":"CO3-CP3","v":0},null,{"$f":"Juil!CS3","v":0},{"$f":"$CD3","v":0},{"$f":"CS3-CT3","v":0}]
[{"$f":"Juil!A4","v":0},null,null,null,null,null,null,null,null,null,null,null,null,null,null,null,null,null,null,null,null,null,null,null,null,null,null,null,null,null,null,null,null,null,{"$f":"COUNTIF(C4:AG4,Accueil!$B$8)","v":0},{"$f":"COUNTIF(C4:AG4,Accueil!$B$9)","v":0},{"$f":"COUNTIF(C4:AG4,Accueil!$B$10)","v":0},{"$f":"COUNTIF(C4:AG4,Accueil!$B$11)","v":0},{"$f":"COUNTIF(C4:AG4,Accueil!$B$12)","v":0},{"$f":"COUNTIF(C4:AG4,Accueil!$B$13)","v":0},{"$f":"COUNTIF(C4:AG4,Accueil!$B$14)","v":0},{"$f":"COUNTIF(C4:AG4,Accueil!$B$15)","v":0},{"$f":"COUNTIF(C4:AG4,Accueil!$B$16)","v":0},{"$f":"COUNTIF(C4:AG4,Accueil!$B$17)","v":0},{"$f":"COUNTIF(C4:AG4,Accueil!$B$18)","v":0},{"$f":"COUNTIF(C4:AG4,Accueil!$B$19)","v":0},{"$f":"COUNTIF(C4:AG4,Accueil!$B$20)","v":0},{"$f":"COUNTIF(C4:AG4,Accueil!$B$21)","v":0},{"$f":"COUNTIF(C4:AG4,Accueil!$B$22)","v":0},{"$f":"COUNTIF(C4:AG4,Accueil!$B$23)","v":0},{"$f":"COUNTIF(C4:AG4,Accueil!$B$24)","v":0},{"$f":"COUNTIF(C4:AG4,Accueil!$B$25)","v":0},{"$f":"COUNTIF(C4:AG4,Accueil!$B$26)","v":0},{"$f":"COUNTIF(C4:AG4,Accueil!$B$27)","v":0},{"$f":"COUNTIF(C4:AG4,Accueil!$B$28)","v":0},{"$f":"COUNTIF(C4:AG4,Accueil!$B$29)","v":0},{"$f":"COUNTIF(C4:AG4,Accueil!$B$30)","v":0},0,null,{"$f":"AI4 +Juil!BH4","v":0},{"$f":"AJ4+Juil!BI4","v":0},{"$f":"AK4+Juil!BJ4","v":0},{"$f":"AL4+Juil!BK4","v":0},{"$f":"AM4+Juil!BL4","v":0},{"$f":"AN4+Juil!BM4","v":0},{"$f":"AO4+Juil!BN4","v":0},{"$f":"AP4+Juil!BO4","v":0},{"$f":"AQ4+Juil!BP4","v":0},{"$f":"AR4+Juil!BQ4","v":0},{"$f":"AS4+Juil!BR4","v":1},{"$f":"AT4+Juil!BS4","v":0},{"$f":"AU4+Juil!BT4","v":0},{"$f":"AV4+Juil!BU4","v":0},{"$f":"AW4+Juil!BV4","v":0},{"$f":"AX4+Juil!BW4","v":0},{"$f":"AY4+Juil!BX4","v":0},{"$f":"AZ4+Juil!BY4","v":0},{"$f":"BA4+Juil!BZ4","v":0},{"$f":"BB4+Juil!CA4","v":0},{"$f":"BC4+Juil!CB4","v":0},{"$f":"BD4+Juil!CC4","v":0},{"$f":"BE4+Juil!CD4","v":0},{"$f":"BF4+Juil!CE4","v":1},null,{"$f":"Juil!CG4","v":0},0,0,null,{"$f":"Juil!CK4","v":0},0,0,null,{"$f":"Juil!CO4","v":0},0,0,null,{"$f":"Juil!CS4","v":0},0,0]
[{"$f":"Juil!A5","v":"Elodie"},null,null,"M1","M1","AP1",null,null,"MP",null,"M1","M1","AP1",null,null,null,null,"M1","M1","AP1",null,null,"MP",null,"M1","M1","AP1","IND","IND","IND","M1","M1","M1",null,{"$f":"COUNTIF(C5:AG5,Accueil!$B$8)","v":11},{"$f":"COUNTIF(C5:AG5,Accueil!$B$9)","v":0},{"$f":"COUNTIF(C5:AG5,Accueil!$B$10)","v":0},{"$f":"COUNTIF(C5:AG5,Accueil!$B$11)","v":2},{"$f":"COUNTIF(C5:AG5,Accueil!$B$12)","v":4},{"$f":"COUNTIF(C5:AG5,Accueil!$B$13)","v":0},{"$f":"COUNTIF(C5:AG5,Accueil!$B$14)","v":0},{"$f":"COUNTIF(C5:AG5,Accueil!$B$15)","v":0},{"$f":"COUNTIF(C5:AG5,Accueil!$B$16)","v":0},{"$f":"COUNTIF(C5:AG5,Accueil!$B$17)","v":0},{"$f":"COUNTIF(C5:AG5,Accueil!$B$18)","v":0},{"$f":"COUNTIF(C5:AG5,Accueil!$B$19)","v":0},{"$f":"COUNTIF(C5:AG5,Accueil!$B$20)","v":3},{"$f":"COUNTIF(C5:AG5,Accueil!$B$21)","v":0},{"$f":"COUNTIF(C5:AG5,Accueil!$B$22)","v":0},{"$f":"COUNTIF(C5:AG5,Accueil!$B$23)","v":0},{"$f":"COUNTIF(C5:AG5,Accueil!$B$24)","v":0},{"$f":"COUNTIF(C5:AG5,Accueil!$B$25)","v":0},{"$f":"COUNTIF(C5:AG5,Accueil!$B$26)","v":0},{"$f":"COUNTIF(C5:AG5,Accueil!$B$27)","v":0},{"$f":"COUNTIF(C5:AG5,Accueil!$B$28)","v":0},{"$f":"COUNTIF(C5:AG5,Accueil!$B$29)","v":0},{"$f":"COUNTIF(C5:AG5,Accueil!$B$30)","v":0},17,null,{"$f":"AI5 +Juil!BH5","v":73},{"$f":"AJ5+Juil!BI5","v":0},{"$f":"AK5+Juil!BJ5","v":0},{"$f":"AL5+Juil!BK5","v":20},{"$f":"AM5+Juil!BL5","v":27},{"$f":"AN5+Juil!BM5","v":4},{"$f":"AO5+Juil!BN5","v":0},{"$f":"AP5+Juil!BO5","v":0},{"$f":"AQ5+Juil!BP5","v":0},{"$f":"AR5+Juil!BQ5","v":0},{"$f":"AS5+Juil!BR5","v":0},{"$f":"AT5+Juil!BS5","v":0},{"$f":"AU5+Juil!BT5","v":5},{"$f":"AV5+Juil!BU5","v":0},{"$f":"AW5+Juil!BV5","v":0},{"$f":"AX5+Juil!BW5","v":33},{"$f":"AY5+Juil!BX5","v":0},{"$f":"AZ5+Juil!BY5","v":0},{"$f":"BA5+Juil!BZ5","v":1},{"$f":"BB5+Juil!CA5","v":1},{"$f":"BC5+Juil!CB5","v":0},{"$f":"BD5+Juil!CC5","v":0},{"$f":"BE5+Juil!CD5","v":0},{"$f":"BF5+Juil!CE5","v":124},null,{"$f":"Juil!CG5","v":0},33,-33,null,{"$f":"Juil!CK5","v":0},0,0,null,{"$f":"Juil!CO5","v":0},0,0,null,{"$f":"Juil!CS5","v":0},0,0]
[{"$f":"Juil!A6","v":0},null,null,null,null,null,null,null,null,null,null,null,null,null,null,null,null,null,null,null,null,null,null,null,null,null,null,null,null,null,null,null,null,null,{"$f":"COUNTIF(C6:AG6,Accueil!$B$8)","v":0},{"$f":"COUNTIF(C6:AG6,Accueil!$B$9)","v":0},{"$f":"COUNTIF(C6:AG6,Accueil!$B$10)","v":0},{"$f":"COUNTIF(C6:AG6,Accueil!$B$11)","v":0},{"$f":"COUNTIF(C6:AG6,Accueil!$B$12)","v":0},{"$f":"COUNTIF(C6:AG6,Accueil!$B$13)","v":0},{"$f":"COUNTIF(C6:AG6,Accueil!$B$14)","v":0},{"$f":"COUNTIF(C6:AG6,Accueil!$B$15)","v":0},{"$f":"COUNTIF(C6:AG6,Accueil!$B$16)","v":0},{"$f":"COUNTIF(C6:AG6,Accueil!$B$17)","v":0},{"$f":"COUNTIF(C6:AG6,Accueil!$B$18)","v":0},{"$f":"COUNTIF(C6:AG6,Accueil!$B$19)","v":0},{"$f":"COUNTIF(C6:AG6,Accueil!$B$20)","v":0},{"$f":"COUNTIF(C6:AG6,Accueil!$B$21)","v":0},{"$f":"COUNTIF(C6:AG6,Accueil!$B$22)","v":0},{"$f":"COUNTIF(C6:AG6,Accueil!$B$23)","v":0},{"$f":"COUNTIF(C6:AG6,Accueil!$B$24)","v":0},{"$f":"COUNTIF(C6:AG6,Accueil!$B$25)","v":0},{"$f":"COUNTIF(C6:AG6,Accueil!$B$26)","v":0},{"$f":"COUNTIF(C6:AG6,Accueil!$B$27)","v":0},{"$f":"COUNTIF(C6:AG6,Accueil!$B$28)","v":0},{"$f":"COUNTIF(C6:AG6,Accueil!$B$29)","v":0},{"$f":"COUNTIF(C6:AG6,Accueil!$B$30)","v":0},0,null,{"$f":"AI6 +Juil!BH6","v":0},{"$f":"AJ6+Juil!BI6","v":0},{"$f":"AK6+Juil!BJ6","v":0},{"$f":"AL6+Juil!BK6","v":0},{"$f":"AM6+Juil!BL6","v":0},{"$f":"AN6+Juil!BM6","v":1},{"$f":"AO6+Juil!BN6","v":0},{"$f":"AP6+Juil!BO6","v":0},{"$f":"AQ6+Juil!BP6","v":0},{"$f":"AR6+Juil!BQ6","v":0},{"$f":"AS6+Juil!BR6","v":1},{"$f":"AT6+Juil!BS6","v":0},{"$f":"AU6+Juil!BT6","v":0},{"$f":"AV6+Juil!BU6","v":0},{"$f":"AW6+Juil!BV6","v":0},{"$f":"AX6+Juil!BW6","v":0},{"$f":"AY6+Juil!BX6","v":0},{"$f":"AZ6+Juil!BY6","v":0},{"$f":"BA6+Juil!BZ6","v":0},{"$f":"BB6+Juil!CA6","v":0},{"$f":"BC6+Juil!CB6","v":0},{"$f":"BD6+Juil!CC6","v":0},{"$f":"BE6+Juil!CD6","v":0},{"$f":"BF6+Juil!CE6","v":2},null,{"$f":"Juil!CG6","v":0},0,0,null,{"$f":"Juil!CK6","v":0},0,0,null,{"$f":"Juil!CO6","v":0},0,0,null,{"$f":"Juil!CS6","v":0},0,0]
[{"$f":"Juil!A7","v":"Eve-Marie"},null,"MP","M1",null,"AP1","M1",null,null,null,"M1",null,"AP1","M1",null,null,null,"M1",null,"AP1","M1",null,null,null,"M1",null,"AP1","M1","MP",null,null,"M1",null,null,{"$f":"COUNTIF(C7:AG7,Accueil!$B$8)","v":9},{"$f":"COUNTIF(C7:AG7,Accueil!$B$9)","v":0},{"$f":"COUNTIF(C7:AG7,Accueil!$B$10)","v":0},{"$f":"COUNTIF(C7:AG7,Accueil!$B$11)","v":2},{"$f":"COUNTIF(C7:AG7,Accueil!$B$12)","v":4},{"$f":"COUNTIF(C7:AG7,Accueil!$B$13)","v":0},{"$f":"COUNTIF(C7:AG7,Accueil!$B$14)","v":0},{"$f":"COUNTIF(C7:AG7,Accueil!$B$15)","v":0},{"$f":"COUNTIF(C7:AG7,Accueil!$B$16)","v":0},{"$f":"COUNTIF(C7:AG7,Accueil!$B$17)","v":0},{"$f":"COUNTIF(C7:AG7,Accueil!$B$18)","v":0},{"$f":"COUNTIF(C7:AG7,Accueil!$B$19)","v":0},{"$f":"COUNTIF(C7:AG7,Accueil!$B$20)","v":0},{"$f":"COUNTIF(C7:AG7,Accueil!$B$21)","v":0},{"$f":"COUNTIF(C7:AG7,Accueil!$B$22)","v":0},{"$f":"COUNTIF(C7:AG7,Accueil!$B$23)","v":0},{"$f":"COUNTIF(C7:AG7,Accueil!$B$24)","v":0},{"$f":"COUNTIF(C7:AG7,Accueil!$B$25)","v":0},{"$f":"COUNTIF(C7:AG7,Accueil!$B$26)","v":0},{"$f":"COUNTIF(C7:AG7,Accueil!$B$27)","v":0},{"$f":"COUNTIF(C7:AG7,Accueil!$B$28)","v":0},{"$f":"COUNTIF(C7:AG7,Accueil!$B$29)","v":0},{"$f":"COUNTIF(C7:AG7,Accueil!$B$30)","v":0},15,null,{"$f":"AI7 +Juil!BH7","v":52},{"$f":"AJ7+Juil!BI7","v":1},{"$f":"AK7+Juil!BJ7","v":0},{"$f":"AL7+Juil!BK7","v":17},{"$f":"AM7+Juil!BL7","v":32},{"$f":"AN7+Juil!BM7","v":2},{"$f":"AO7+Juil!BN7","v":1},{"$f":"AP7+Juil!BO7","v":0},{"$f":"AQ7+Juil!BP7","v":0},{"$f":"AR7+Juil!BQ7","v":0},{"$f":"AS7+Juil!BR7","v":0},{"$f":"AT7+Juil!BS7","v":0},{"$f":"AU7+Juil!BT7","v":0},{"$f":"AV7+Juil!BU7","v":0},{"$f":"AW7+Juil!BV7","v":0},{"$f":"AX7+Juil!BW7","v":31},{"$f":"AY7+Juil!BX7","v":0},{"$f":"AZ7+Juil!BY7","v":0},{"$f":"BA7+Juil!BZ7","v":3},{"$f":"BB7+Juil!CA7","v":0},{"$f":"BC7+Juil!CB7","v":0},{"$f":"BD7+Juil!CC7","v":0},{"$f":"BE7+Juil!CD7","v":0},{"$f":"BF7+Juil!CE7","v":105},null,{"$f":"Juil!CG7","v":0},31,-31,null,{"$f":"Juil!CK7","v":0},0,0,null,{"$f":"Juil!CO7","v":0},0,0,null,{"$f":"Juil!CS7","v":0},0,0]
[{"$f":"Juil!A8","v":0},null,null,null,null,null,null,null,null,null,null,null,null,null,null,null,null,null,null,null,null,null,null,null,null,null,null,null,null,null,null,null,null,null,{"$f":"COUNTIF(C8:AG8,Accueil!$B$8)","v":0},{"$f":"COUNTIF(C8:AG8,Accueil!$B$9)","v":0},{"$f":"COUNTIF(C8:AG8,Accueil!$B$10)","v":0},{"$f":"COUNTIF(C8:AG8,Accueil!$B$11)","v":0},{"$f":"COUNTIF(C8:AG8,Accueil!$B$12)","v":0},{"$f":"COUNTIF(C8:AG8,Accueil!$B$13)","v":0},{"$f":"COUNTIF(C8:AG8,Accueil!$B$14)","v":0},{"$f":"COUNTIF(C8:AG8,Accueil!$B$15)","v":0},{"$f":"COUNTIF(C8:AG8,Accueil!$B$16)","v":0},{"$f":"COUNTIF(C8:AG8,Accueil!$B$17)","v":0},{"$f":"COUNTIF(C8:AG8,Accueil!$B$18)","v":0},{"$f":"COUNTIF(C8:AG8,Accueil!$B$19)","v":0},{"$f":"COUNTIF(C8:AG8,Accueil!$B$20)","v":0},{"$f":"COUNTIF(C8:AG8,Accueil!$B$21)","v":0},{"$f":"COUNTIF(C8:AG8,Accueil!$B$22)","v":0},{"$f":"COUNTIF(C8:AG8,Accueil!$B$23)","v":0},{"$f":"COUNTIF(C8:AG8,Accueil!$B$24)","v":0},{"$f":"COUNTIF(C8:AG8,Accueil!$B$25)","v":0},{"$f":"COUNTIF(C8:AG8,Accueil!$B$26)","v":0},{"$f":"COUNTIF(C8:AG8,Accueil!$B$27)","v":0},{"$f":"COUNTIF(C8:AG8,Accueil!$B$28)","v":0},{"$f":"COUNTIF(C8:AG8,Accueil!$B$29)","v":0},{"$f":"COUNTIF(C8:AG8,Accueil!$B$30)","v":0},0,null,{"$f":"AI8 +Juil!BH8","v":0},{"$f":"AJ8+Juil!BI8","v":0},{"$f":"AK8+Juil!BJ8","v":0},{"$f":"AL8+Juil!BK8","v":0},{"$f":"AM8+Juil!BL8","v":0},{"$f":"AN8+Juil!BM8","v":0},{"$f":"AO8+Juil!BN8","v":0},{"$f":"AP8+Juil!BO8","v":0},{"$f":"AQ8+Juil!BP8","v":0},{"$f":"AR8+Juil!BQ8","v":0},{"$f":"AS8+Juil!BR8","v":1},{"$f":"AT8+Juil!BS8","v":0},{"$f":"AU8+Juil!BT8","v":0},{"$f":"AV8+Juil!BU8","v":0},{"$f":"AW8+Juil!BV8","v":0},{"$f":"AX8+Juil!BW8","v":0},{"$f":"AY8+Juil!BX8","v":0},{"$f":"AZ8+Juil!BY8","v":0},{"$f":"BA8+Juil!BZ8","v":0},{"$f":"BB8+Juil!CA8","v":0},{"$f":"BC8+Juil!CB8","v":0},{"$f":"BD8+Juil!CC8","v":0},{"$f":"BE8+Juil!CD8","v":0},{"$f":"BF8+Juil!CE8","v":1},null,{"$f":"Juil!CG8","v":0},0,0,null,{"$f":"Juil!CK8","v":0},0,0,null,{"$f":"Juil!CO8","v":0},0,0,null,{"$f":"Juil!CS8","v":0},0,0]
[{"$f":"Juil!A9","v":"Isabel"},null,"Vac","Vac",null,null,"AP2",null,null,"AP2","M1",null,null,null,"MP",null,"AP2","M1",null,null,null,"MP",null,"AP2","M1",null,null,null,null,null,"AP2","M1",null,null,{"$f":"COUNTIF(C9:AG9,Accueil!$B$8)","v":4},{"$f":"COUNTIF(C9:AG9,Accueil!$B$9)","v":0},{"$f":"COUNTIF(C9:AG9,Accueil!$B$10)","v":0},{"$f":"COUNTIF(C9:AG9,Accueil!$B$11)","v":2},{"$f":"COUNTIF(C9:AG9,Accueil!$B$12)","v":0},{"$f":"COUNTIF(C9:AG9,Accueil!$B$13)","v":5},{"$f":"COUNTIF(C9:AG9,Accueil!$B$14)","v":0},{"$f":"COUNTIF(C9:AG9,Accueil!$B$15)","v":0},{"$f":"COUNTIF(C9:AG9,Accueil!$B$16)","v":0},{"$f":"COUNTIF(C9:AG9,Accueil!$B$17)","v":0},{"$f":"COUNTIF(C9:AG9,Accueil!$B$18)","v":0},{"$f":"COUNTIF(C9:AG9,Accueil!$B$19)","v":0},{"$f":"COUNTIF(C9:AG9,Accueil!$B$20)","v":0},{"$f":"COUNTIF(C9:AG9,Accueil!$B$21)","v":0},{"$f":"COUNTIF(C9:AG9,Accueil!$B$22)","v":0},{"$f":"COUNTIF(C9:AG9,Accueil!$B$23)","v":2},{"$f":"COUNTIF(C9:AG9,Accueil!$B$24)","v":0},{"$f":"COUNTIF(C9:AG9,Accueil!$B$25)","v":0},{"$f":"COUNTIF(C9:AG9,Accueil!$B$26)","v":0},{"$f":"COUNTIF(C9:AG9,Accueil!$B$27)","v":0},{"$f":"COUNTIF(C9:AG9,Accueil!$B$28)","v":0},{"$f":"COUNTIF(C9:AG9,Accueil!$B$29)","v":0},{"$f":"COUNTIF(C9:AG9,Accueil!$B$30)","v":0},11,null,{"$f":"AI9 +Juil!BH9","v":28},{"$f":"AJ9+Juil!BI9","v":0},{"$f":"AK9+Juil!BJ9","v":0},{"$f":"AL9+Juil!BK9","v":16},{"$f":"AM9+Juil!BL9","v":1},{"$f":"AN9+Juil!BM9","v":34},{"$f":"AO9+Juil!BN9","v":0},{"$f":"AP9+Juil!BO9","v":0},{"$f":"AQ9+Juil!BP9","v":0},{"$f":"AR9+Juil!BQ9","v":0},{"$f":"AS9+Juil!BR9","v":0},{"$f":"AT9+Juil!BS9","v":0},{"$f":"AU9+Juil!BT9","v":0},{"$f":"AV9+Juil!BU9","v":0},{"$f":"AW9+Juil!BV9","v":0},{"$f":"AX9+Juil!BW9","v":35},{"$f":"AY9+Juil!BX9","v":0},{"$f":"AZ9+Juil!BY9","v":0},{"$f":"BA9+Juil!BZ9","v":0},{"$f":"BB9+Juil!CA9","v":0},{"$f":"BC9+Juil!CB9","v":0},{"$f":"BD9+Juil!CC9","v":0},{"$f":"BE9+Juil!CD9","v":0},{"$f":"BF9+Juil!CE9","v":79},null,{"$f":"Juil!CG9","v":0},35,-35,null,{"$f":"Juil!CK9","v":0},0,0,null,{"$f":"Juil!CO9","v":0},0,0,null,{"$f":"Juil!CS9","v":0},0,0]
[{"$f":"Juil!A10","v":0},null,null,null,null,null,null,null,null,null,null,null,null,null,null,null,null,null,null,null,null,null,null,null,null,null,null,null,null,null,null,null,null,null,{"$f":"COUNTIF(C10:AG10,Accueil!$B$8)","v":0},{"$f":"COUNTIF(C10:AG10,Accueil!$B$9)","v":0},{"$f":"COUNTIF(C10:AG10,Accueil!$B$10)","v":0},{"$f":"COUNTIF(C10:AG10,Accueil!$B$11)","v":0},{"$f":"COUNTIF(C10:AG10,Accueil!$B$12)","v":0},{"$f":"COUNTIF(C10:AG10,Accueil!$B$13)","v":0},{"$f":"COUNTIF(C10:AG10,Accueil!$B$14)","v":0},{"$f":"COUNTIF(C10:AG10,Accueil!$B$15)","v":0},{"$f":"COUNTIF(C10:AG10,Accueil!$B$16)","v":0},{"$f":"COUNTIF(C10:AG10,Accueil!$B$17)","v":0},{"$f":"COUNTIF(C10:AG10,Accueil!$B$18)","v":0},{"$f":"COUNTIF(C10:AG10,Accueil!$B$19)","v":0},{"$f":"COUNTIF(C10:AG10,Accueil!$B$20)","v":0},{"$f":"COUNTIF(C10:AG10,Accueil!$B$21)","v":0},{"$f":"COUNTIF(C10:AG10,Accueil!$B$22)","v":0},{"$f":"COUNTIF(C10:AG10,Accueil!$B$23)","v":0},{"$f":"COUNTIF(C10:AG10,Accueil!$B$24)","v":0},{"$f":"COUNTIF(C10:AG10,Accueil!$B$25)","v":0},{"$f":"COUNTIF(C10:AG10,Accueil!$B$26)","v":0},{"$f":"COUNTIF(C10:AG10,Accueil!$B$27)","v":0},{"$f":"COUNTIF(C10:AG10,Accueil!$B$28)","v":0},{"$f":"COUNTIF(C10:AG10,Accueil!$B$29)","v":0},{"$f":"COUNTIF(C10:AG10,Accueil!$B$30)","v":0},0,null,{"$f":"AI10 +Juil!BH10","v":0},{"$f":"AJ10+Juil!BI10","v":0},{"$f":"AK10+Juil!BJ10","v":0},{"$f":"AL10+Juil!BK10","v":0},{"$f":"AM10+Juil!BL10","v":0},{"$f":"AN10+Juil!BM10","v":0},{"$f":"AO10+Juil!BN10","v":0},{"$f":"AP10+Juil!BO10","v":0},{"$f":"AQ10+Juil!BP10","v":0},{"$f":"AR10+Juil!BQ10","v":1},{"$f":"AS10+Juil!BR10","v":2},{"$f":"AT10+Juil!BS10","v":0},{"$f":"AU10+Juil!BT10","v":0},{"$f":"AV10+Juil!BU10","v":0},{"$f":"AW10+Juil!BV10","v":0},{"$f":"AX10+Juil!BW10","v":0},{"$f":"AY10+Juil!BX10","v":0},{"$f":"AZ10+Juil!BY10","v":0},{"$f":"BA10+Juil!BZ10","v":0},{"$f":"BB10+Juil!CA10","v":0},{"$f":"BC10+Juil!CB10","v":0},{"$f":"BD10+Juil!CC10","v":0},{"$f":"BE10+Juil!CD10","v":0},{"$f":"BF10+Juil!CE10","v":3},null,{"$f":"Juil!CG10","v":0},0,0,null,{"$f":"Juil!CK10","v":0},0,0,null,{"$f":"Juil!CO10","v":0},0,0,null,{"$f":"Juil!CS10","v":0},0,0]
[{"$f":"Juil!A11","v":"Simon-Pierre"},null,null,"M2","MP",null,"Vac","Vac","Vac","Vac","Vac","Vac","Vac","Vac","Vac","Vac","Vac","Vac","Vac","Vac","Vac","Vac","Vac","Vac","Vac","Vac","Vac","Vac","Vac","Vac","Vac","M2","MP",null,{"$f":"COUNTIF(C11:AG11,Accueil!$B$8)","v":0},{"$f":"COUNTIF(C11:AG11,Accueil!$B$9)","v":2},{"$f":"COUNTIF(C11:AG11,Accueil!$B$10)","v":0},{"$f":"COUNTIF(C11:AG11,Accueil!$B$11)","v":2},{"$f":"COUNTIF(C11:AG11,Accueil!$B$12)","v":0},{"$f":"COUNTIF(C11:AG11,Accueil!$B$13)","v":0},{"$f":"COUNTIF(C11:AG11,Accueil!$B$14)","v":0},{"$f":"COUNTIF(C11:AG11,Accueil!$B$15)","v":0},{"$f":"COUNTIF(C11:AG11,Accueil!$B$16)","v":0},{"$f":"COUNTIF(C11:AG11,Accueil!$B$17)","v":0},{"$f":"COUNTIF(C11:AG11,Accueil!$B$18)","v":0},{"$f":"COUNTIF(C11:AG11,Accueil!$B$19)","v":0},{"$f":"COUNTIF(C11:AG11,Accueil!$B$20)","v":0},{"$f":"COUNTIF(C11:AG11,Accueil!$B$21)","v":0},{"$f":"COUNTIF(C11:AG11,Accueil!$B$22)","v":0},{"$f":"COUNTIF(C11:AG11,Accueil!$B$23)","v":25},{"$f":"COUNTIF(C11:AG11,Accueil!$B$24)","v":0},{"$f":"COUNTIF(C11:AG11,Accueil!$B$25)","v":0},{"$f":"COUNTIF(C11:AG11,Accueil!$B$26)","v":0},{"$f":"COUNTIF(C11:AG11,Accueil!$B$27)","v":0},{"$f":"COUNTIF(C11:AG11,Accueil!$B$28)","v":0},{"$f":"COUNTIF(C11:AG11,Accueil!$B$29)","v":0},{"$f":"COUNTIF(C11:AG11,Accueil!$B$30)","v":0},4,null,{"$f":"AI11 +Juil!BH11","v":44},{"$f":"AJ11+Juil!BI11","v":29},{"$f":"AK11+Juil!BJ11","v":8},{"$f":"AL11+Juil!BK11","v":29},{"$f":"AM11+Juil!BL11","v":0},{"$f":"AN11+Juil!BM11","v":0},{"$f":"AO11+Juil!BN11","v":0},{"$f":"AP11+Juil!BO11","v":0},{"$f":"AQ11+Juil!BP11","v":0},{"$f":"AR11+Juil!BQ11","v":0},{"$f":"AS11+Juil!BR11","v":0},{"$f":"AT11+Juil!BS11","v":0},{"$f":"AU11+Juil!BT11","v":0},{"$f":"AV11+Juil!BU11","v":0},{"$f":"AW11+Juil!BV11","v":0},{"$f":"AX11+Juil!BW11","v":61},{"$f":"AY11+Juil!BX11","v":0},{"$f":"AZ11+Juil!BY11","v":0},{"$f":"BA11+Juil!BZ11","v":0},{"$f":"BB11+Juil!CA11","v":0},{"$f":"BC11+Juil!CB11","v":0},{"$f":"BD11+Juil!CC11","v":0},{"$f":"BE11+Juil!CD11","v":0},{"$f":"BF11+Juil!CE11","v":110},null,{"$f":"Juil!CG11","v":0},61,-61,null,{"$f":"Juil!CK11","v":0},0,0,null,{"$f":"Juil!CO11","v":0},0,0,null,{"$f":"Juil!CS11","v":0},0,0]
[{"$f":"Juil!A12","v":0},null,null,null,null,null,null,null,null,null,null,null,null,null,null,null,null,null,null,null,null,null,null,null,null,null,null,null,null,null,null,null,"LY",null,{"$f":"COUNTIF(C12:AG12,Accueil!$B$8)","v":0},{"$f":"COUNTIF(C12:AG12,Accueil!$B$9)","v":0},{"$f":"COUNTIF(C12:AG12,Accueil!$B$10)","v":0},{"$f":"COUNTIF(C12:AG12,Accueil!$B$11)","v":0},{"$f":"COUNTIF(C12:AG12,Accueil!$B$12)","v":0},{"$f":"COUNTIF(C12:AG12,Accueil!$B$13)","v":0},{"$f":"COUNTIF(C12:AG12,Accueil!$B$14)","v":0},{"$f":"COUNTIF(C12:AG12,Accueil!$B$15)","v":0},{"$f":"COUNTIF(C12:AG12,Accueil!$B$16)","v":0},{"$f":"COUNTIF(C12:AG12,Accueil!$B$17)","v":0},{"$f":"COUNTIF(C12:AG12,Accueil!$B$18)","v":1},{"$f":"COUNTIF(C12:AG12,Accueil!$B$19)","v":0},{"$f":"COUNTIF(C12:AG12,Accueil!$B$20)","v":0},{"$f":"COUNTIF(C12:AG12,Accueil!$B$21)","v":0},{"$f":"COUNTIF(C12:AG12,Accueil!$B$22)","v":0},{"$f":"COUNTIF(C12:AG12,Accueil!$B$23)","v":0},{"$f":"COUNTIF(C12:AG12,Accueil!$B$24)","v":0},{"$f":"COUNTIF(C12:AG12,Accueil!$B$25)","v":0},{"$f":"COUNTIF(C12:AG12,Accueil!$B$26)","v":0},{"$f":"COUNTIF(C12:AG12,Accueil!$B$27)","v":0},{"$f":"COUNTIF(C12:AG12,Accueil!$B$28)","v":0},{"$f":"COUNTIF(C12:AG12,Accueil!$B$29)","v":0},{"$f":"COUNTIF(C12:AG12,Accueil!$B$30)","v":0},1,null,{"$f":"AI12 +Juil!BH12","v":0},{"$f":"AJ12+Juil!BI12","v":0},{"$f":"AK12+Juil!BJ12","v":0},{"$f":"AL12+Juil!BK12","v":0},{"$f":"AM12+Juil!BL12","v":0},{"$f":"AN12+Juil!BM12","v":0},{"$f":"AO12+Juil!BN12","v":0},{"$f":"AP12+Juil!BO12","v":0},{"$f":"AQ12+Juil!BP12","v":0},{"$f":"AR12+Juil!BQ12","v":0},{"$f":"AS12+Juil!BR12","v":19},{"$f":"AT12+Juil!BS12","v":0},{"$f":"AU12+Juil!BT12","v":0},{"$f":"AV12+Juil!BU12","v":0},{"$f":"AW12+Juil!BV12","v":0},{"$f":"AX12+Juil!BW12","v":0},{"$f":"AY12+Juil!BX12","v":0},{"$f":"AZ12+Juil!BY12","v":0},{"$f":"BA12+Juil!BZ12","v":0},{"$f":"BB12+Juil!CA12","v":0},{"$f":"BC12+Juil!CB12","v":0},{"$f":"BD12+Juil!CC12","v":0},{"$f":"BE12+Juil!CD12","v":0},{"$f":"BF12+Juil!CE12","v":19},null,{"$f":"Juil!CG12","v":0},0,0,null,{"$f":"Juil!CK12","v":0},0,0,null,{"$f":"Juil!CO12","v":0},0,0,null,{"$f":"Juil!CS12","v":0},0,0]
[{"$f":"Juil!A13","v":"Virginie"},null,null,"M2","MP","M3","AP2","MP",null,"M1","M2","MP","M3",null,null,null,"M1","M2","MP","M3","AP2",null,null,"M1","M2","MP","M3","Vac","Vac","Vac","Vac","Vac","Vac",null,{"$f":"COUNTIF(C13:AG13,Accueil!$B$8)","v":3},{"$f":"COUNTIF(C13:AG13,Accueil!$B$9)","v":4},{"$f":"COUNTIF(C13:AG13,Accueil!$B$10)","v":4},{"$f":"COUNTIF(C13:AG13,Accueil!$B$11)","v":5},{"$f":"COUNTIF(C13:AG13,Accueil!$B$12)","v":0},{"$f":"COUNTIF(C13:AG13,Accueil!$B$13)","v":2},{"$f":"COUNTIF(C13:AG13,Accueil!$B$14)","v":0},{"$f":"COUNTIF(C13:AG13,Accueil!$B$15)","v":0},{"$f":"COUNTIF(C13:AG13,Accueil!$B$16)","v":0},{"$f":"COUNTIF(C13:AG13,Accueil!$B$17)","v":0},{"$f":"COUNTIF(C13:AG13,Accueil!$B$18)","v":0},{"$f":"COUNTIF(C13:AG13,Accueil!$B$19)","v":0},{"$f":"COUNTIF(C13:AG13,Accueil!$B$20)","v":0},{"$f":"COUNTIF(C13:AG13,Accueil!$B$21)","v":0},{"$f":"COUNTIF(C13:AG13,Accueil!$B$22)","v":0},{"$f":"COUNTIF(C13:AG13,Accueil!$B$23)","v":6},{"$f":"COUNTIF(C13:AG13,Accueil!$B$24)","v":0},{"$f":"COUNTIF(C13:AG13,Accueil!$B$25)","v":0},{"$f":"COUNTIF(C13:AG13,Accueil!$B$26)","v":0},{"$f":"COUNTIF(C13:AG13,Accueil!$B$27)","v":0},{"$f":"COUNTIF(C13:AG13,Accueil!$B$28)","v":0},{"$f":"COUNTIF(C13:AG13,Accueil!$B$29)","v":0},{"$f":"COUNTIF(C13:AG13,Accueil!$B$30)","v":0},18,null,{"$f":"AI13 +Juil!BH13","v":21},{"$f":"AJ13+Juil!BI13","v":34},{"$f":"AK13+Juil!BJ13","v":22},{"$f":"AL13+Juil!BK13","v":54},{"$f":"AM13+Juil!BL13","v":1},{"$f":"AN13+Juil!BM13","v":9},{"$f":"AO13+Juil!BN13","v":0},{"$f":"AP13+Juil!BO13","v":0},{"$f":"AQ13+Juil!BP13","v":0},{"$f":"AR13+Juil!BQ13","v":0},{"$f":"AS13+Juil!BR13","v":0},{"$f":"AT13+Juil!BS13","v":0},{"$f":"AU13+Juil!BT13","v":0},{"$f":"AV13+Juil!BU13","v":0},{"$f":"AW13+Juil!BV13","v":0},{"$f":"AX13+Juil!BW13","v":12},{"$f":"AY13+Juil!BX13","v":0},{"$f":"AZ13+Juil!BY13","v":0},{"$f":"BA13+Juil!BZ13","v":17},{"$f":"BB13+Juil!CA13","v":1},{"$f":"BC13+Juil!CB13","v":0},{"$f":"BD13+Juil!CC13","v":0},{"$f":"BE13+Juil!CD13","v":0},{"$f":"BF13+Juil!CE13","v":141},null,{"$f":"Juil!CG13","v":0},12,-12,null,{"$f":"Juil!CK13","v":0},0,0,null,{"$f":"Juil!CO13","v":0},0,0,null,{"$f":"Juil!CS13","v":0},0,0]
[{"$f":"Juil!A14","v":0},null,null,null,null,null,null,null,null,null,null,null,null,null,null,null,null,null,null,null,null,null,null,null,null,null,null,null,null,null,null,null,null,null,{"$f":"COUNTIF(C14:AG14,Accueil!$B$8)","v":0},{"$f":"COUNTIF(C14:AG14,Accueil!$B$9)","v":0},{"$f":"COUNTIF(C14:AG14,Accueil!$B$10)","v":0},{"$f":"COUNTIF(C14:AG14,Accueil!$B$11)","v":0},{"$f":"COUNTIF(C14:AG14,Accueil!$B$12)","v":0},{"$f":"COUNTIF(C14:AG14,Accueil!$B$13)","v":0},{"$f":"COUNTIF(C14:AG14,Accueil!$B$14)","v":0},{"$f":"COUNTIF(C14:AG14,Accueil!$B$15)","v":0},{"$f":"COUNTIF(C14:AG14,Accueil!$B$16)","v":0},{"$f":"COUNTIF(C14:AG14,Accueil!$B$17)","v":0},{"$f":"COUNTIF(C14:AG14,Accueil!$B$18)","v":0},{"$f":"COUNTIF(C14:AG14,Accueil!$B$19)","v":0},{"$f":"COUNTIF(C14:AG14,Accueil!$B$20)","v":0},{"$f":"COUNTIF(C14:AG14,Accueil!$B$21)","v":0},{"$f":"COUNTIF(C14:AG14,Accueil!$B$22)","v":0},{"$f":"COUNTIF(C14:AG14,Accueil!$B$23)","v":0},{"$f":"COUNTIF(C14:AG14,Accueil!$B$24)","v":0},{"$f":"COUNTIF(C14:AG14,Accueil!$B$25)","v":0},{"$f":"COUNTIF(C14:AG14,Accueil!$B$26)","v":0},{"$f":"COUNTIF(C14:AG14,Accueil!$B$27)","v":0},{"$f":"COUNTIF(C14:AG14,Accueil!$B$28)","v":0},{"$f":"COUNTIF(C14:AG14,Accueil!$B$29)","v":0},{"$f":"COUNTIF(C14:AG14,Accueil!$B$30)","v":0},0,null,{"$f":"AI14 +Juil!BH14","v":0},{"$f":"AJ14+Juil!BI14","v":0},{"$f":"AK14+Juil!BJ14","v":0},{"$f":"AL14+Juil!BK14","v":0},{"$f":"AM14+Juil!BL14","v":0},{"$f":"AN14+Juil!BM14","v":0},{"$f":"AO14+Juil!BN14","v":0},{"$f":"AP14+Juil!BO14","v":0},{"$f":"AQ14+Juil!BP14","v":0},{"$f":"AR14+Juil!BQ14","v":6},{"$f":"AS14+Juil!BR14","v":1},{"$f":"AT14+Juil!BS14","v":0},{"$f":"AU14+Juil!BT14","v":0},{"$f":"AV14+Juil!BU14","v":0},{"$f":"AW14+Juil!BV14","v":0},{"$f":"AX14+Juil!BW14","v":0},{"$f":"AY14+Juil!BX14","v":0},{"$f":"AZ14+Juil!BY14","v":0},{"$f":"BA14+Juil!BZ14","v":0},{"$f":"BB14+Juil!CA14","v":0},{"$f":"BC14+Juil!CB14","v":0},{"$f":"BD14+Juil!CC14","v":0},{"$f":"BE14+Juil!CD14","v":0},{"$f":"BF14+Juil!CE14","v":7},null,{"$f":"Juil!CG14","v":0},0,0,null,{"$f":"Juil!CK14","v":0},0,0,null,{"$f":"Juil!CO14","v":0},0,0,null,{"$f":"Juil!CS14","v":0},0,0]
[{"$f":"Juil!A15","v":"Jacqueline"},null,null,"MP",null,null,"M2",null,null,"M3","MP",null,null,"M2","MP",null,"M3","MP",null,null,"MP",null,null,"M3","MP",null,null,"M2","MP",null,"M3","MP",null,null,{"$f":"COUNTIF(C15:AG15,Accueil!$B$8)","v":0},{"$f":"COUNTIF(C15:AG15,Accueil!$B$9)","v":3},{"$f":"COUNTIF(C15:AG15,Accueil!$B$10)","v":4},{"$f":"COUNTIF(C15:AG15,Accueil!$B$11)","v":8},{"$f":"COUNTIF(C15:AG15,Accueil!$B$12)","v":0},{"$f":"COUNTIF(C15:AG15,Accueil!$B$13)","v":0},{"$f":"COUNTIF(C15:AG15,Accueil!$B$14)","v":0},{"$f":"COUNTIF(C15:AG15,Accueil!$B$15)","v":0},{"$f":"COUNTIF(C15:AG15,Accueil!$B$16)","v":0},{"$f":"COUNTIF(C15:AG15,Accueil!$B$17)","v":0},{"$f":"COUNTIF(C15:AG15,Accueil!$B$18)","v":0},{"$f":"COUNTIF(C15:AG15,Accueil!$B$19)","v":0},{"$f":"COUNTIF(C15:AG15,Accueil!$B$20)","v":0},{"$f":"COUNTIF(C15:AG15,Accueil!$B$21)","v":0},{"$f":"COUNTIF(C15:AG15,Accueil!$B$22)","v":0},{"$f":"COUNTIF(C15:AG15,Accueil!$B$23)","v":0},{"$f":"COUNTIF(C15:AG15,Accueil!$B$24)","v":0},{"$f":"COUNTIF(C15:AG15,Accueil!$B$25)","v":0},{"$f":"COUNTIF(C15:AG15,Accueil!$B$26)","v":0},{"$f":"COUNTIF(C15:AG15,Accueil!$B$27)","v":0},{"$f":"COUNTIF(C15:AG15,Accueil!$B$28)","v":0},{"$f":"COUNTIF(C15:AG15,Accueil!$B$29)","v":0},{"$f":"COUNTIF(C15:AG15,Accueil!$B$30)","v":0},15,null,{"$f":"AI15 +Juil!BH15","v":3},{"$f":"AJ15+Juil!BI15","v":23},{"$f":"AK15+Juil!BJ15","v":20},{"$f":"AL15+Juil!BK15","v":48},{"$f":"AM15+Juil!BL15","v":1},{"$f":"AN15+Juil!BM15","v":2},{"$f":"AO15+Juil!BN15","v":0},{"$f":"AP15+Juil!BO15","v":0},{"$f":"AQ15+Juil!BP15","v":0},{"$f":"AR15+Juil!BQ15","v":0},{"$f":"AS15+Juil!BR15","v":0},{"$f":"AT15+Juil!BS15","v":0},{"$f":"AU15+Juil!BT15","v":0},{"$f":"AV15+Juil!BU15","v":0},{"$f":"AW15+Juil!BV15","v":0},{"$f":"AX15+Juil!BW15","v":41},{"$f":"AY15+Juil!BX15","v":0},{"$f":"AZ15+Juil!BY15","v":0},{"$f":"BA15+Juil!BZ15","v":2},{"$f":"BB15+Juil!CA15","v":0},{"$f":"BC15+Juil!CB15","v":0},{"$f":"BD15+Juil!CC15","v":0},{"$f":"BE15+Juil!CD15","v":0},{"$f":"BF15+Juil!CE15","v":97},null,{"$f":"Juil!CG15","v":0},41,-41,null,{"$f":"Juil!CK15","v":0},0,0,null,{"$f":"Juil!CO15","v":0},0,0,null,{"$f":"Juil!CS15","v":0},0,0]
[{"$f":"Juil!A16","v":0},null,null,null,null,null,null,null,null,null,null,null,null,null,null,null,null,null,null,null,null,null,null,null,null,null,null,null,null,null,null,null,null,null,{"$f":"COUNTIF(C16:AG16,Accueil!$B$8)","v":0},{"$f":"COUNTIF(C16:AG16,Accueil!$B$9)","v":0},{"$f":"COUNTIF(C16:AG16,Accueil!$B$10)","v":0},{"$f":"COUNTIF(C16:AG16,Accueil!$B$11)","v":0},{"$f":"COUNTIF(C16:AG16,Accueil!$B$12)","v":0},{"$f":"COUNTIF(C16:AG16,Accueil!$B$13)","v":0},{"$f":"COUNTIF(C16:AG16,Accueil!$B$14)","v":0},{"$f":"COUNTIF(C16:AG16,Accueil!$B$15)","v":0},{"$f":"COUNTIF(C16:AG16,Accueil!$B$16)","v":0},{"$f":"COUNTIF(C16:AG16,Accueil!$B$17)","v":0},{"$f":"COUNTIF(C16:AG16,Accueil!$B$18)","v":0},{"$f":"COUNTIF(C16:AG16,Accueil!$B$19)","v":0},{"$f":"COUNTIF(C16:AG16,Accueil!$B$20)","v":0},{"$f":"COUNTIF(C16:AG16,Accueil!$B$21)","v":0},{"$f":"COUNTIF(C16:AG16,Accueil!$B$22)","v":0},{"$f":"COUNTIF(C16:AG16,Accueil!$B$23)","v":0},{"$f":"COUNTIF(C16:AG16,Accueil!$B$24)","v":0},{"$f":"COUNTIF(C16:AG16,Accueil!$B$25)","v":0},{"$f":"COUNTIF(C16:AG16,Accueil!$B$26)","v":0},{"$f":"COUNTIF(C16:AG16,Accueil!$B$27)","v":0},{"$f":"COUNTIF(C16:AG16,Accueil!$B$28)","v":0},{"$f":"COUNTIF(C16:AG16,Accueil!$B$29)","v":0},{"$f":"COUNTIF(C16:AG16,Accueil!$B$30)","v":0},0,null,{"$f":"AI16 +Juil!BH16","v":0},{"$f":"AJ16+Juil!BI16","v":0},{"$f":"AK16+Juil!BJ16","v":0},{"$f":"AL16+Juil!BK16","v":0},{"$f":"AM16+Juil!BL16","v":0},{"$f":"AN16+Juil!BM16","v":0},{"$f":"AO16+Juil!BN16","v":0},{"$f":"AP16+Juil!BO16","v":0},{"$f":"AQ16+Juil!BP16","v":0},{"$f":"AR16+Juil!BQ16","v":0},{"$f":"AS16+Juil!BR16","v":6},{"$f":"AT16+Juil!BS16","v":0},{"$f":"AU16+Juil!BT16","v":0},{"$f":"AV16+Juil!BU16","v":0},{"$f":"AW16+Juil!BV16","v":0},{"$f":"AX16+Juil!BW16","v":0},{"$f":"AY16+Juil!BX16","v":0},{"$f":"AZ16+Juil!BY16","v":0},{"$f":"BA16+Juil!BZ16","v":0},{"$f":"BB16+Juil!CA16","v":0},{"$f":"BC16+Juil!CB16","v":0},{"$f":"BD16+Juil!CC16","v":0},{"$f":"BE16+Juil!CD16","v":0},{"$f":"BF16+Juil!CE16","v":6},null,{"$f":"Juil!CG16","v":0},0,0,null,{"$f":"Juil!CK16","v":0},0,0,null,{"$f":"Juil!CO16","v":0},0,0,null,{"$f":"Juil!CS16","v":0},0,0]
[{"$f":"Juil!A17","v":"Colette"},null,"MP","M2","LY","M3",null,null,"MP",null,"M2","MP","M3","AP2",null,null,null,"M2","MP","M3",null,null,null,"CC","CC","MP","CC","CC","IND","IND","CC","CC","MP",null,{"$f":"COUNTIF(C17:AG17,Accueil!$B$8)","v":0},{"$f":"COUNTIF(C17:AG17,Accueil!$B$9)","v":3},{"$f":"COUNTIF(C17:AG17,Accueil!$B$10)","v":3},{"$f":"COUNTIF(C17:AG17,Accueil!$B$11)","v":6},{"$f":"COUNTIF(C17:AG17,Accueil!$B$12)","v":0},{"$f":"COUNTIF(C17:AG17,Accueil!$B$13)","v":1},{"$f":"COUNTIF(C17:AG17,Accueil!$B$14)","v":0},{"$f":"COUNTIF(C17:AG17,Accueil!$B$15)","v":0},{"$f":"COUNTIF(C17:AG17,Accueil!$B$16)","v":0},{"$f":"COUNTIF(C17:AG17,Accueil!$B$17)","v":0},{"$f":"COUNTIF(C17:AG17,Accueil!$B$18)","v":1},{"$f":"COUNTIF(C17:AG17,Accueil!$B$19)","v":0},{"$f":"COUNTIF(C17:AG17,Accueil!$B$20)","v":2},{"$f":"COUNTIF(C17:AG17,Accueil!$B$21)","v":0},{"$f":"COUNTIF(C17:AG17,Accueil!$B$22)","v":0},{"$f":"COUNTIF(C17:AG17,Accueil!$B$23)","v":0},{"$f":"COUNTIF(C17:AG17,Accueil!$B$24)","v":0},{"$f":"COUNTIF(C17:AG17,Accueil!$B$25)","v":0},{"$f":"COUNTIF(C17:AG17,Accueil!$B$26)","v":6},{"$f":"COUNTIF(C17:AG17,Accueil!$B$27)","v":0},{"$f":"COUNTIF(C17:AG17,Accueil!$B$28)","v":0},{"$f":"COUNTIF(C17:AG17,Accueil!$B$29)","v":0},{"$f":"COUNTIF(C17:AG17,Accueil!$B$30)","v":0},14,null,{"$f":"AI17 +Juil!BH17","v":0},{"$f":"AJ17+Juil!BI17","v":27},{"$f":"AK17+Juil!BJ17","v":4},{"$f":"AL17+Juil!BK17","v":44},{"$f":"AM17+Juil!BL17","v":4},{"$f":"AN17+Juil!BM17","v":6},{"$f":"AO17+Juil!BN17","v":0},{"$f":"AP17+Juil!BO17","v":0},{"$f":"AQ17+Juil!BP17","v":0},{"$f":"AR17+Juil!BQ17","v":0},{"$f":"AS17+Juil!BR17","v":4},{"$f":"AT17+Juil!BS17","v":0},{"$f":"AU17+Juil!BT17","v":26},{"$f":"AV17+Juil!BU17","v":0},{"$f":"AW17+Juil!BV17","v":0},{"$f":"AX17+Juil!BW17","v":5},{"$f":"AY17+Juil!BX17","v":0},{"$f":"AZ17+Juil!BY17","v":0},{"$f":"BA17+Juil!BZ17","v":6},{"$f":"BB17+Juil!CA17","v":0},{"$f":"BC17+Juil!CB17","v":0},{"$f":"BD17+Juil!CC17","v":0},{"$f":"BE17+Juil!CD17","v":0},{"$f":"BF17+Juil!CE17","v":89},null,{"$f":"Juil!CG17","v":0},5,-5,null,{"$f":"Juil!CK17","v":0},0,0,null,{"$f":"Juil!CO17","v":0},0,0,null,{"$f":"Juil!CS17","v":0},0,0]
[{"$f":"Juil!A18","v":0},null,null,null,null,null,null,null,"LY",null,null,"LY",null,null,null,null,null,null,"LY",null,null,null,null,null,null,"LY",null,null,null,null,null,null,null,null,{"$f":"COUNTIF(C18:AG18,Accueil!$B$8)","v":0},{"$f":"COUNTIF(C18:AG18,Accueil!$B$9)","v":0},{"$f":"COUNTIF(C18:AG18,Accueil!$B$10)","v":0},{"$f":"COUNTIF(C18:AG18,Accueil!$B$11)","v":0},{"$f":"COUNTIF(C18:AG18,Accueil!$B$12)","v":0},{"$f":"COUNTIF(C18:AG18,Accueil!$B$13)","v":0},{"$f":"COUNTIF(C18:AG18,Accueil!$B$14)","v":0},{"$f":"COUNTIF(C18:AG18,Accueil!$B$15)","v":0},{"$f":"COUNTIF(C18:AG18,Accueil!$B$16)","v":0},{"$f":"COUNTIF(C18:AG18,Accueil!$B$17)","v":0},{"$f":"COUNTIF(C18:AG18,Accueil!$B$18)","v":4},{"$f":"COUNTIF(C18:AG18,Accueil!$B$19)","v":0},{"$f":"COUNTIF(C18:AG18,Accueil!$B$20)","v":0},{"$f":"COUNTIF(C18:AG18,Accueil!$B$21)","v":0},{"$f":"COUNTIF(C18:AG18,Accueil!$B$22)","v":0},{"$f":"COUNTIF(C18:AG18,Accueil!$B$23)","v":0},{"$f":"COUNTIF(C18:AG18,Accueil!$B$24)","v":0},{"$f":"COUNTIF(C18:AG18,Accueil!$B$25)","v":0},{"$f":"COUNTIF(C18:AG18,Accueil!$B$26)","v":0},{"$f":"COUNTIF(C18:AG18,Accueil!$B$27)","v":0},{"$f":"COUNTIF(C18:AG18,Accueil!$B$28)","v":0},{"$f":"COUNTIF(C18:AG18,Accueil!$B$29)","v":0},{"$f":"COUNTIF(C18:AG18,Accueil!$B$30)","v":0},4,null,{"$f":"AI18 +Juil!BH18","v":0},{"$f":"AJ18+Juil!BI18","v":0},{"$f":"AK18+Juil!BJ18","v":0},{"$f":"AL18+Juil!BK18","v":1},{"$f":"AM18+Juil!BL18","v":0},{"$f":"AN18+Juil!BM18","v":0},{"$f":"AO18+Juil!BN18","v":0},{"$f":"AP18+Juil!BO18","v":0},{"$f":"AQ18+Juil!BP18","v":0},{"$f":"AR18+Juil!BQ18","v":0},{"$f":"AS18+Juil!BR18","v":46},{"$f":"AT18+Juil!BS18","v":0},{"$f":"AU18+Juil!BT18","v":0},{"$f":"AV18+Juil!BU18","v":0},{"$f":"AW18+Juil!BV18","v":0},{"$f":"AX18+Juil!BW18","v":0},{"$f":"AY18+Juil!BX18","v":0},{"$f":"AZ18+Juil!BY18","v":0},{"$f":"BA18+Juil!BZ18","v":0},{"$f":"BB18+Juil!CA18","v":0},{"$f":"BC18+Juil!CB18","v":0},{"$f":"BD18+Juil!CC18","v":0},{"$f":"BE18+Juil!CD18","v":0},{"$f":"BF18+Juil!CE18","v":47},null,{"$f":"Juil!CG18","v":0},0,0,null,{"$f":"Juil!CK18","v":0},0,0,null,{"$f":"Juil!CO18","v":0},0,0,null,{"$f":"Juil!CS18","v":0},0,0]
[{"$f":"Juil!A19","v":"Lisa"},null,"Vac","Vac","Vac","Vac","Vac","Vac","Vac","Vac","Vac","Vac","Vac","Vac","Vac","Vac","Vac","Vac","Vac","Vac","Vac","Vac","Vac",null,"M2",null,"M1","MP",null,null,null,"M2",null,null,{"$f":"COUNTIF(C19:AG19,Accueil!$B$8)","v":1},{"$f":"COUNTIF(C19:AG19,Accueil!$B$9)","v":2},{"$f":"COUNTIF(C19:AG19,Accueil!$B$10)","v":0},{"$f":"COUNTIF(C19:AG19,Accueil!$B$11)","v":1},{"$f":"COUNTIF(C19:AG19,Accueil!$B$12)","v":0},{"$f":"COUNTIF(C19:AG19,Accueil!$B$13)","v":0},{"$f":"COUNTIF(C19:AG19,Accueil!$B$14)","v":0},{"$f":"COUNTIF(C19:AG19,Accueil!$B$15)","v":0},{"$f":"COUNTIF(C19:AG19,Accueil!$B$16)","v":0},{"$f":"COUNTIF(C19:AG19,Accueil!$B$17)","v":0},{"$f":"COUNTIF(C19:AG19,Accueil!$B$18)","v":0},{"$f":"COUNTIF(C19:AG19,Accueil!$B$19)","v":0},{"$f":"COUNTIF(C19:AG19,Accueil!$B$20)","v":0},{"$f":"COUNTIF(C19:AG19,Accueil!$B$21)","v":0},{"$f":"COUNTIF(C19:AG19,Accueil!$B$22)","v":0},{"$f":"COUNTIF(C19:AG19,Accueil!$B$23)","v":21},{"$f":"COUNTIF(C19:AG19,Accueil!$B$24)","v":0},{"$f":"COUNTIF(C19:AG19,Accueil!$B$25)","v":0},{"$f":"COUNTIF(C19:AG19,Accueil!$B$26)","v":0},{"$f":"COUNTIF(C19:AG19,Accueil!$B$27)","v":0},{"$f":"COUNTIF(C19:AG19,Accueil!$B$28)","v":0},{"$f":"COUNTIF(C19:AG19,Accueil!$B$29)","v":0},{"$f":"COUNTIF(C19:AG19,Accueil!$B$30)","v":0},4,null,{"$f":"AI19 +Juil!BH19","v":19},{"$f":"AJ19+Juil!BI19","v":29},{"$f":"AK19+Juil!BJ19","v":9},{"$f":"AL19+Juil!BK19","v":40},{"$f":"AM19+Juil!BL19","v":3},{"$f":"AN19+Juil!BM19","v":3},{"$f":"AO19+Juil!BN19","v":0},{"$f":"AP19+Juil!BO19","v":0},{"$f":"AQ19+Juil!BP19","v":0},{"$f":"AR19+Juil!BQ19","v":0},{"$f":"AS19+Juil!BR19","v":0},{"$f":"AT19+Juil!BS19","v":0},{"$f":"AU19+Juil!BT19","v":2},{"$f":"AV19+Juil!BU19","v":0},{"$f":"AW19+Juil!BV19","v":0},{"$f":"AX19+Juil!BW19","v":32},{"$f":"AY19+Juil!BX19","v":0},{"$f":"AZ19+Juil!BY19","v":0},{"$f":"BA19+Juil!BZ19","v":2},{"$f":"BB19+Juil!CA19","v":0},{"$f":"BC19+Juil!CB19","v":0},{"$f":"BD19+Juil!CC19","v":0},{"$f":"BE19+Juil!CD19","v":0},{"$f":"BF19+Juil!CE19","v":103},null,{"$f":"Juil!CG19","v":0},32,-32,null,{"$f":"Juil!CK19","v":0},0,0,null,{"$f":"Juil!CO19","v":0},0,0,null,{"$f":"Juil!CS19","v":0},0,0]
[{"$f":"Juil!A20","v":0},null,null,null,null,null,null,null,null,null,null,null,null,null,null,null,null,null,null,null,null,null,null,null,null,null,null,null,null,null,null,null,null,null,{"$f":"COUNTIF(C20:AG20,Accueil!$B$8)","v":0},{"$f":"COUNTIF(C20:AG20,Accueil!$B$9)","v":0},{"$f":"COUNTIF(C20:AG20,Accueil!$B$10)","v":0},{"$f":"COUNTIF(C20:AG20,Accueil!$B$11)","v":0},{"$f":"COUNTIF(C20:AG20,Accueil!$B$12)","v":0},{"$f":"COUNTIF(C20:AG20,Accueil!$B$13)","v":0},{"$f":"COUNTIF(C20:AG20,Accueil!$B$14)","v":0},{"$f":"COUNTIF(C20:AG20,Accueil!$B$15)","v":0},{"$f":"COUNTIF(C20:AG20,Accueil!$B$16)","v":0},{"$f":"COUNTIF(C20:AG20,Accueil!$B$17)","v":0},{"$f":"COUNTIF(C20:AG20,Accueil!$B$18)","v":0},{"$f":"COUNTIF(C20:AG20,Accueil!$B$19)","v":0},{"$f":"COUNTIF(C20:AG20,Accueil!$B$20)","v":0},{"$f":"COUNTIF(C20:AG20,Accueil!$B$21)","v":0},{"$f":"COUNTIF(C20:AG20,Accueil!$B$22)","v":0},{"$f":"COUNTIF(C20:AG20,Accueil!$B$23)","v":0},{"$f":"COUNTIF(C20:AG20,Accueil!$B$24)","v":0},{"$f":"COUNTIF(C20:AG20,Accueil!$B$25)","v":0},{"$f":"COUNTIF(C20:AG20,Accueil!$B$26)","v":0},{"$f":"COUNTIF(C20:AG20,Accueil!$B$27)","v":0},{"$f":"COUNTIF(C20:AG20,Accueil!$B$28)","v":0},{"$f":"COUNTIF(C20:AG20,Accueil!$B$29)","v":0},{"$f":"COUNTIF(C20:AG20,Accueil!$B$30)","v":0},0,null,{"$f":"AI20 +Juil!BH20","v":0},{"$f":"AJ20+Juil!BI20","v":0},{"$f":"AK20+Juil!BJ20","v":0},{"$f":"AL20+Juil!BK20","v":0},{"$f":"AM20+Juil!BL20","v":0},{"$f":"AN20+Juil!BM20","v":0},{"$f":"AO20+Juil!BN20","v":0},{"$f":"AP20+Juil!BO20","v":0},{"$f":"AQ20+Juil!BP20","v":0},{"$f":"AR20+Juil!BQ20","v":0},{"$f":"AS20+Juil!BR20","v":1},{"$f":"AT20+Juil!BS20","v":0},{"$f":"AU20+Juil!BT20","v":0},{"$f":"AV20+Juil!BU20","v":0},{"$f":"AW20+Juil!BV20","v":0},{"$f":"AX20+Juil!BW20","v":0},{"$f":"AY20+Juil!BX20","v":0},{"$f":"AZ20+Juil!BY20","v":0},{"$f":"BA20+Juil!BZ20","v":0},{"$f":"BB20+Juil!CA20","v":0},{"$f":"BC20+Juil!CB20","v":0},{"$f":"BD20+Juil!CC20","v":0},{"$f":"BE20+Juil!CD20","v":0},{"$f":"BF20+Juil!CE20","v":1},null,{"$f":"Juil!CG20","v":0},0,0,null,{"$f":"Juil!CK20","v":0},0,0,null,{"$f":"Juil!CO20","v":0},0,0,null,{"$f":"Juil!CS20","v":0},0,0]
[{"$f":"Juil!A21","v":"Philip"},null,"Vac","Vac","Vac","Vac","Vac","Vac","Vac","MP","M1",null,null,null,null,"MP","MP","M1",null,null,null,null,"MP","MP","M1",null,null,null,null,"MP","MP","M1",null,null,{"$f":"COUNTIF(C21:AG21,Accueil!$B$8)","v":4},{"$f":"COUNTIF(C21:AG21,Accueil!$B$9)","v":0},{"$f":"COUNTIF(C21:AG21,Accueil!$B$10)","v":0},{"$f":"COUNTIF(C21:AG21,Accueil!$B$11)","v":7},{"$f":"COUNTIF(C21:AG21,Accueil!$B$12)","v":0},{"$f":"COUNTIF(C21:AG21,Accueil!$B$13)","v":0},{"$f":"COUNTIF(C21:AG21,Accueil!$B$14)","v":0},{"$f":"COUNTIF(C21:AG21,Accueil!$B$15)","v":0},{"$f":"COUNTIF(C21:AG21,Accueil!$B$16)","v":0},{"$f":"COUNTIF(C21:AG21,Accueil!$B$17)","v":0},{"$f":"COUNTIF(C21:AG21,Accueil!$B$18)","v":0},{"$f":"COUNTIF(C21:AG21,Accueil!$B$19)","v":0},{"$f":"COUNTIF(C21:AG21,Accueil!$B$20)","v":0},{"$f":"COUNTIF(C21:AG21,Accueil!$B$21)","v":0},{"$f":"COUNTIF(C21:AG21,Accueil!$B$22)","v":0},{"$f":"COUNTIF(C21:AG21,Accueil!$B$23)","v":7},{"$f":"COUNTIF(C21:AG21,Accueil!$B$24)","v":0},{"$f":"COUNTIF(C21:AG21,Accueil!$B$25)","v":0},{"$f":"COUNTIF(C21:AG21,Accueil!$B$26)","v":0},{"$f":"COUNTIF(C21:AG21,Accueil!$B$27)","v":0},{"$f":"COUNTIF(C21:AG21,Accueil!$B$28)","v":0},{"$f":"COUNTIF(C21:AG21,Accueil!$B$29)","v":0},{"$f":"COUNTIF(C21:AG21,Accueil!$B$30)","v":0},11,null,{"$f":"AI21 +Juil!BH21","v":28},{"$f":"AJ21+Juil!BI21","v":0},{"$f":"AK21+Juil!BJ21","v":0},{"$f":"AL21+Juil!BK21","v":40},{"$f":"AM21+Juil!BL21","v":5},{"$f":"AN21+Juil!BM21","v":1},{"$f":"AO21+Juil!BN21","v":0},{"$f":"AP21+Juil!BO21","v":0},{"$f":"AQ21+Juil!BP21","v":0},{"$f":"AR21+Juil!BQ21","v":0},{"$f":"AS21+Juil!BR21","v":0},{"$f":"AT21+Juil!BS21","v":0},{"$f":"AU21+Juil!BT21","v":0},{"$f":"AV21+Juil!BU21","v":0},{"$f":"AW21+Juil!BV21","v":0},{"$f":"AX21+Juil!BW21","v":40},{"$f":"AY21+Juil!BX21","v":0},{"$f":"AZ21+Juil!BY21","v":0},{"$f":"BA21+Juil!BZ21","v":0},{"$f":"BB21+Juil!CA21","v":0},{"$f":"BC21+Juil!CB21","v":0},{"$f":"BD21+Juil!CC21","v":0},{"$f":"BE21+Juil!CD21","v":0},{"$f":"BF21+Juil!CE21","v":74},null,{"$f":"Juil!CG21","v":0},40,-40,null,{"$f":"Juil!CK21","v":0},0,0,null,{"$f":"Juil!CO21","v":0},0,0,null,{"$f":"Juil!CS21","v":0},0,0]
[{"$f":"Juil!A22","v":0},null,null,null,null,null,null,null,null,null,null,null,null,null,null,null,null,null,null,null,null,null,null,null,null,null,null,null,null,null,null,null,null,null,{"$f":"COUNTIF(C22:AG22,Accueil!$B$8)","v":0},{"$f":"COUNTIF(C22:AG22,Accueil!$B$9)","v":0},{"$f":"COUNTIF(C22:AG22,Accueil!$B$10)","v":0},{"$f":"COUNTIF(C22:AG22,Accueil!$B$11)","v":0},{"$f":"COUNTIF(C22:AG22,Accueil!$B$12)","v":0},{"$f":"COUNTIF(C22:AG22,Accueil!$B$13)","v":0},{"$f":"COUNTIF(C22:AG22,Accueil!$B$14)","v":0},{"$f":"COUNTIF(C22:AG22,Accueil!$B$15)","v":0},{"$f":"COUNTIF(C22:AG22,Accueil!$B$16)","v":0},{"$f":"COUNTIF(C22:AG22,Accueil!$B$17)","v":0},{"$f":"COUNTIF(C22:AG22,Accueil!$B$18)","v":0},{"$f":"COUNTIF(C22:AG22,Accueil!$B$19)","v":0},{"$f":"COUNTIF(C22:AG22,Accueil!$B$20)","v":0},{"$f":"COUNTIF(C22:AG22,Accueil!$B$21)","v":0},{"$f":"COUNTIF(C22:AG22,Accueil!$B$22)","v":0},{"$f":"COUNTIF(C22:AG22,Accueil!$B$23)","v":0},{"$f":"COUNTIF(C22:AG22,Accueil!$B$24)","v":0},{"$f":"COUNTIF(C22:AG22,Accueil!$B$25)","v":0},{"$f":"COUNTIF(C22:AG22,Accueil!$B$26)","v":0},{"$f":"COUNTIF(C22:AG22,Accueil!$B$27)","v":0},{"$f":"COUNTIF(C22:AG22,Accueil!$B$28)","v":0},{"$f":"COUNTIF(C22:AG22,Accueil!$B$29)","v":0},{"$f":"COUNTIF(C22:AG22,Accueil!$B$30)","v":0},0,null,{"$f":"AI22 +Juil!BH22","v":0},{"$f":"AJ22+Juil!BI22","v":0},{"$f":"AK22+Juil!BJ22","v":0},{"$f":"AL22+Juil!BK22","v":0},{"$f":"AM22+Juil!BL22","v":0},{"$f":"AN22+Juil!BM22","v":0},{"$f":"AO22+Juil!BN22","v":0},{"$f":"AP22+Juil!BO22","v":0},{"$f":"AQ22+Juil!BP22","v":0},{"$f":"AR22+Juil!BQ22","v":8},{"$f":"AS22+Juil!BR22","v":3},{"$f":"AT22+Juil!BS22","v":0},{"$f":"AU22+Juil!BT22","v":0},{"$f":"AV22+Juil!BU22","v":0},{"$f":"AW22+Juil!BV22","v":0},{"$f":"AX22+Juil!BW22","v":0},{"$f":"AY22+Juil!BX22","v":0},{"$f":"AZ22+Juil!BY22","v":0},{"$f":"BA22+Juil!BZ22","v":0},{"$f":"BB22+Juil!CA22","v":0},{"$f":"BC22+Juil!CB22","v":0},{"$f":"BD22+Juil!CC22","v":0},{"$f":"BE22+Juil!CD22","v":0},{"$f":"BF22+Juil!CE22","v":11},null,{"$f":"Juil!CG22","v":0},0,0,null,{"$f":"Juil!CK22","v":0},0,0,null,{"$f":"Juil!CO22","v":0},0,0,null,{"$f":"Juil!CS22","v":0},0,0]
[{"$f":"Juil!A23","v":"Dania"},null,null,null,null,null,null,null,null,null,null,null,null,null,null,null,null,null,null,null,null,null,null,null,null,null,null,null,null,null,null,null,null,null,{"$f":"COUNTIF(C23:AG23,Accueil!$B$8)","v":0},{"$f":"COUNTIF(C23:AG23,Accueil!$B$9)","v":0},{"$f":"COUNTIF(C23:AG23,Accueil!$B$10)","v":0},{"$f":"COUNTIF(C23:AG23,Accueil!$B$11)","v":0},{"$f":"COUNTIF(C23:AG23,Accueil!$B$12)","v":0},{"$f":"COUNTIF(C23:AG23,Accueil!$B$13)","v":0},{"$f":"COUNTIF(C23:AG23,Accueil!$B$14)","v":0},{"$f":"COUNTIF(C23:AG23,Accueil!$B$15)","v":0},{"$f":"COUNTIF(C23:AG23,Accueil!$B$16)","v":0},{"$f":"COUNTIF(C23:AG23,Accueil!$B$17)","v":0},{"$f":"COUNTIF(C23:AG23,Accueil!$B$18)","v":0},{"$f":"COUNTIF(C23:AG23,Accueil!$B$19)","v":0},{"$f":"COUNTIF(C23:AG23,Accueil!$B$20)","v":0},{"$f":"COUNTIF(C23:AG23,Accueil!$B$21)","v":0},{"$f":"COUNTIF(C23:AG23,Accueil!$B$22)","v":0},{"$f":"COUNTIF(C23:AG23,Accueil!$B$23)","v":0},{"$f":"COUNTIF(C23:AG23,Accueil!$B$24)","v":0},{"$f":"COUNTIF(C23:AG23,Accueil!$B$25)","v":0},{"$f":"COUNTIF(C23:AG23,Accueil!$B$26)","v":0},{"$f":"COUNTIF(C23:AG23,Accueil!$B$27)","v":0},{"$f":"COUNTIF(C23:AG23,Accueil!$B$28)","v":0},{"$f":"COUNTIF(C23:AG23,Accueil!$B$29)","v":0},{"$f":"COUNTIF(C23:AG23,Accueil!$B$30)","v":0},0,null,{"$f":"AI23 +Juil!BH23","v":0},{"$f":"AJ23+Juil!BI23","v":7},{"$f":"AK23+Juil!BJ23","v":17},{"$f":"AL23+Juil!BK23","v":0},{"$f":"AM23+Juil!BL23","v":0},{"$f":"AN23+Juil!BM23","v":0},{"$f":"AO23+Juil!BN23","v":0},{"$f":"AP23+Juil!BO23","v":0},{"$f":"AQ23+Juil!BP23","v":0},{"$f":"AR23+Juil!BQ23","v":0},{"$f":"AS23+Juil!BR23","v":0},{"$f":"AT23+Juil!BS23","v":0},{"$f":"AU23+Juil!BT23","v":0},{"$f":"AV23+Juil!BU23","v":0},{"$f":"AW23+Juil!BV23","v":0},{"$f":"AX23+Juil!BW23","v":0},{"$f":"AY23+Juil!BX23","v":0},{"$f":"AZ23+Juil!BY23","v":0},{"$f":"BA23+Juil!BZ23","v":2},{"$f":"BB23+Juil!CA23","v":10},{"$f":"BC23+Juil!CB23","v":0},{"$f":"BD23+Juil!CC23","v":0},{"$f":"BE23+Juil!CD23","v":0},{"$f":"BF23+Juil!CE23","v":24},null,{"$f":"Juil!CG23","v":0},0,0,null,{"$f":"Juil!CK23","v":0},0,0,null,{"$f":"Juil!CO23","v":0},0,0,null,{"$f":"Juil!CS23","v":0},0,0]
[{"$f":"Juil!A24","v":0},null,null,null,null,null,null,null,null,null,null,null,null,null,null,null,null,null,null,null,null,null,null,null,null,null,null,null,null,null,null,null,null,null,{"$f":"COUNTIF(C24:AG24,Accueil!$B$8)","v":0},{"$f":"COUNTIF(C24:AG24,Accueil!$B$9)","v":0},{"$f":"COUNTIF(C24:AG24,Accueil!$B$10)","v":0},{"$f":"COUNTIF(C24:AG24,Accueil!$B$11)","v":0},{"$f":"COUNTIF(C24:AG24,Accueil!$B$12)","v":0},{"$f":"COUNTIF(C24:AG24,Accueil!$B$13)","v":0},{"$f":"COUNTIF(C24:AG24,Accueil!$B$14)","v":0},{"$f":"COUNTIF(C24:AG24,Accueil!$B$15)","v":0},{"$f":"COUNTIF(C24:AG24,Accueil!$B$16)","v":0},{"$f":"COUNTIF(C24:AG24,Accueil!$B$17)","v":0},{"$f":"COUNTIF(C24:AG24,Accueil!$B$18)","v":0},{"$f":"COUNTIF(C24:AG24,Accueil!$B$19)","v":0},{"$f":"COUNTIF(C24:AG24,Accueil!$B$20)","v":0},{"$f":"COUNTIF(C24:AG24,Accueil!$B$21)","v":0},{"$f":"COUNTIF(C24:AG24,Accueil!$B$22)","v":0},{"$f":"COUNTIF(C24:AG24,Accueil!$B$23)","v":0},{"$f":"COUNTIF(C24:AG24,Accueil!$B$24)","v":0},{"$f":"COUNTIF(C24:AG24,Accueil!$B$25)","v":0},{"$f":"COUNTIF(C24:AG24,Accueil!$B$26)","v":0},{"$f":"COUNTIF(C24:AG24,Accueil!$B$27)","v":0},{"$f":"COUNTIF(C24:AG24,Accueil!$B$28)","v":0},{"$f":"COUNTIF(C24:AG24,Accueil!$B$29)","v":0},{"$f":"COUNTIF(C24:AG24,Accueil!$B$30)","v":0},0,null,{"$f":"AI24 +Juil!BH24","v":0},{"$f":"AJ24+Juil!BI24","v":0},{"$f":"AK24+Juil!BJ24","v":0},{"$f":"AL24+Juil!BK24","v":16},{"$f":"AM24+Juil!BL24","v":0},{"$f":"AN24+Juil!BM24","v":0},{"$f":"AO24+Juil!BN24","v":0},{"$f":"AP24+Juil!BO24","v":0},{"$f":"AQ24+Juil!BP24","v":0},{"$f":"AR24+Juil!BQ24","v":0},{"$f":"AS24+Juil!BR24","v":0},{"$f":"AT24+Juil!BS24","v":0},{"$f":"AU24+Juil!BT24","v":0},{"$f":"AV24+Juil!BU24","v":0},{"$f":"AW24+Juil!BV24","v":0},{"$f":"AX24+Juil!BW24","v":0},{"$f":"AY24+Juil!BX24","v":0},{"$f":"AZ24+Juil!BY24","v":0},{"$f":"BA24+Juil!BZ24","v":0},{"$f":"BB24+Juil!CA24","v":0},{"$f":"BC24+Juil!CB24","v":0},{"$f":"BD24+Juil!CC24","v":0},{"$f":"BE24+Juil!CD24","v":0},{"$f":"BF24+Juil!CE24","v":16},null,{"$f":"Juil!CG24","v":0},0,0,null,{"$f":"Juil!CK24","v":0},0,0,null,{"$f":"Juil!CO24","v":0},0,0,null,{"$f":"Juil!CS24","v":0},0,0]
[{"$f":"Juil!A25","v":"Claudia"},null,null,null,null,null,null,null,null,null,null,null,null,null,null,null,null,null,null,null,null,null,null,null,null,null,null,null,null,null,null,null,null,null,{"$f":"COUNTIF(C25:AG25,Accueil!$B$8)","v":0},{"$f":"COUNTIF(C25:AG25,Accueil!$B$9)","v":0},{"$f":"COUNTIF(C25:AG25,Accueil!$B$10)","v":0},{"$f":"COUNTIF(C25:AG25,Accueil!$B$11)","v":0},{"$f":"COUNTIF(C25:AG25,Accueil!$B$12)","v":0},{"$f":"COUNTIF(C25:AG25,Accueil!$B$13)","v":0},{"$f":"COUNTIF(C25:AG25,Accueil!$B$14)","v":0},{"$f":"COUNTIF(C25:AG25,Accueil!$B$15)","v":0},{"$f":"COUNTIF(C25:AG25,Accueil!$B$16)","v":0},{"$f":"COUNTIF(C25:AG25,Accueil!$B$17)","v":0},{"$f":"COUNTIF(C25:AG25,Accueil!$B$18)","v":0},{"$f":"COUNTIF(C25:AG25,Accueil!$B$19)","v":0},{"$f":"COUNTIF(C25:AG25,Accueil!$B$20)","v":0},{"$f":"COUNTIF(C25:AG25,Accueil!$B$21)","v":0},{"$f":"COUNTIF(C25:AG25,Accueil!$B$22)","v":0},{"$f":"COUNTIF(C25:AG25,Accueil!$B$23)","v":0},{"$f":"COUNTIF(C25:AG25,Accueil!$B$24)","v":0},{"$f":"COUNTIF(C25:AG25,Accueil!$B$25)","v":0},{"$f":"COUNTIF(C25:AG25,Accueil!$B$26)","v":0},{"$f":"COUNTIF(C25:AG25,Accueil!$B$27)","v":0},{"$f":"COUNTIF(C25:AG25,Accueil!$B$28)","v":0},{"$f":"COUNTIF(C25:AG25,Accueil!$B$29)","v":0},{"$f":"COUNTIF(C25:AG25,Accueil!$B$30)","v":0},0,null,{"$f":"AI25 +Juil!BH25","v":1},{"$f":"AJ25+Juil!BI25","v":3},{"$f":"AK25+Juil!BJ25","v":1},{"$f":"AL25+Juil!BK25","v":0},{"$f":"AM25+Juil!BL25","v":0},{"$f":"AN25+Juil!BM25","v":0},{"$f":"AO25+Juil!BN25","v":0},{"$f":"AP25+Juil!BO25","v":0},{"$f":"AQ25+Juil!BP25","v":0},{"$f":"AR25+Juil!BQ25","v":0},{"$f":"AS25+Juil!BR25","v":0},{"$f":"AT25+Juil!BS25","v":0},{"$f":"AU25+Juil!BT25","v":0},{"$f":"AV25+Juil!BU25","v":0},{"$f":"AW25+Juil!BV25","v":0},{"$f":"AX25+Juil!BW25","v":9},{"$f":"AY25+Juil!BX25","v":0},{"$f":"AZ25+Juil!BY25","v":0},{"$f":"BA25+Juil!BZ25","v":0},{"$f":"BB25+Juil!CA25","v":0},{"$f":"BC25+Juil!CB25","v":0},{"$f":"BD25+Juil!CC25","v":0},{"$f":"BE25+Juil!CD25","v":0},{"$f":"BF25+Juil!CE25","v":5},null,{"$f":"Juil!CG25","v":0},9,-9,null,{"$f":"Juil!CK25","v":0},0,0,null,{"$f":"Juil!CO25","v":0},0,0,null,{"$f":"Juil!CS25","v":0},0,0]
[{"$f":"Juil!A26","v":"FRPI"},null,null,null,null,null,null,null,null,null,null,null,null,null,null,null,null,null,null,null,null,null,null,null,null,null,null,null,null,null,null,null,null,null,{"$f":"COUNTIF(C26:AG26,Accueil!$B$8)","v":0},{"$f":"COUNTIF(C26:AG26,Accueil!$B$9)","v":0},{"$f":"COUNTIF(C26:AG26,Accueil!$B$10)","v":0},{"$f":"COUNTIF(C26:AG26,Accueil!$B$11)","v":0},{"$f":"COUNTIF(C26:AG26,Accueil!$B$12)","v":0},{"$f":"COUNTIF(C26:AG26,Accueil!$B$13)","v":0},{"$f":"COUNTIF(C26:AG26,Accueil!$B$14)","v":0},{"$f":"COUNTIF(C26:AG26,Accueil!$B$15)","v":0},{"$f":"COUNTIF(C26:AG26,Accueil!$B$16)","v":0},{"$f":"COUNTIF(C26:AG26,Accueil!$B$17)","v":0},{"$f":"COUNTIF(C26:AG26,Accueil!$B$18)","v":0},{"$f":"COUNTIF(C26:AG26,Accueil!$B$19)","v":0},{"$f":"COUNTIF(C26:AG26,Accueil!$B$20)","v":0},{"$f":"COUNTIF(C26:AG26,Accueil!$B$21)","v":0},{"$f":"COUNTIF(C26:AG26,Accueil!$B$22)","v":0},{"$f":"COUNTIF(C26:AG26,Accueil!$B$23)","v":0},{"$f":"COUNTIF(C26:AG26,Accueil!$B$24)","v":0},{"$f":"COUNTIF(C26:AG26,Accueil!$B$25)","v":0},{"$f":"COUNTIF(C26:AG26,Accueil!$B$26)","v":0},{"$f":"COUNTIF(C26:AG26,Accueil!$B$27)","v":0},{"$f":"COUNTIF(C26:AG26,Accueil!$B$28)","v":0},{"$f":"COUNTIF(C26:AG26,Accueil!$B$29)","v":0},{"$f":"COUNTIF(C26:AG26,Accueil!$B$30)","v":0},0,null,{"$f":"AI26 +Juil!BH26","v":0},{"$f":"AJ26+Juil!BI26","v":0},{"$f":"AK26+Juil!BJ26","v":0},{"$f":"AL26+Juil!BK26","v":0},{"$f":"AM26+Juil!BL26","v":0},{"$f":"AN26+Juil!BM26","v":0},{"$f":"AO26+Juil!BN26","v":0},{"$f":"AP26+Juil!BO26","v":0},{"$f":"AQ26+Juil!BP26","v":0},{"$f":"AR26+Juil!BQ26","v":2},{"$f":"AS26+Juil!BR26","v":9},{"$f":"AT26+Juil!BS26","v":0},{"$f":"AU26+Juil!BT26","v":0},{"$f":"AV26+Juil!BU26","v":0},{"$f":"AW26+Juil!BV26","v":0},{"$f":"AX26+Juil!BW26","v":5},{"$f":"AY26+Juil!BX26","v":0},{"$f":"AZ26+Juil!BY26","v":0},{"$f":"BA26+Juil!BZ26","v":0},{"$f":"BB26+Juil!CA26","v":0},{"$f":"BC26+Juil!CB26","v":0},{"$f":"BD26+Juil!CC26","v":0},{"$f":"BE26+Juil!CD26","v":0},{"$f":"BF26+Juil!CE26","v":11},null,{"$f":"Juil!CG26","v":0},5,-5,null,{"$f":"Juil!CK26","v":0},0,0,null,{"$f":"Juil!CO26","v":0},0,0,null,{"$f":"Juil!CS26","v":0},0,0]
[{"$f":"Juil!A27","v":0},null,null,null,null,null,null,null,null,null,null,null,null,null,null,null,null,null,null,null,null,null,null,null,null,null,null,null,null,null,null,null,null,null,{"$f":"COUNTIF(C27:AG27,Accueil!$B$8)","v":0},{"$f":"COUNTIF(C27:AG27,Accueil!$B$9)","v":0},{"$f":"COUNTIF(C27:AG27,Accueil!$B$10)","v":0},{"$f":"COUNTIF(C27:AG27,Accueil!$B$11)","v":0},{"$f":"COUNTIF(C27:AG27,Accueil!$B$12)","v":0},{"$f":"COUNTIF(C27:AG27,Accueil!$B$13)","v":0},{"$f":"COUNTIF(C27:AG27,Accueil!$B$14)","v":0},{"$f":"COUNTIF(C27:AG27,Accueil!$B$15)","v":0},{"$f":"COUNTIF(C27:AG27,Accueil!$B$16)","v":0},{"$f":"COUNTIF(C27:AG27,Accueil!$B$17)","v":0},{"$f":"COUNTIF(C27:AG27,Accueil!$B$18)","v":0},{"$f":"COUNTIF(C27:AG27,Accueil!$B$19)","v":0},{"$f":"COUNTIF(C27:AG27,Accueil!$B$20)","v":0},{"$f":"COUNTIF(C27:AG27,Accueil!$B$21)","v":0},{"$f":"COUNTIF(C27:AG27,Accueil!$B$22)","v":0},{"$f":"COUNTIF(C27:AG27,Accueil!$B$23)","v":0},{"$f":"COUNTIF(C27:AG27,Accueil!$B$24)","v":0},{"$f":"COUNTIF(C27:AG27,Accueil!$B$25)","v":0},{"$f":"COUNTIF(C27:AG27,Accueil!$B$26)","v":0},{"$f":"COUNTIF(C27:AG27,Accueil!$B$27)","v":0},{"$f":"COUNTIF(C27:AG27,Accueil!$B$28)","v":0},{"$f":"COUNTIF(C27:AG27,Accueil!$B$29)","v":0},{"$f":"COUNTIF(C27:AG27,Accueil!$B$30)","v":0},0,null,{"$f":"AI27 +Juil!BH27","v":0},{"$f":"AJ27+Juil!BI27","v":0},{"$f":"AK27+Juil!BJ27","v":{"$error":"#VALUE!"}},{"$f":"AL27+Juil!BK27","v":0},{"$f":"AM27+Juil!BL27","v":0},{"$f":"AN27+Juil!BM27","v":0},{"$f":"AO27+Juil!BN27","v":0},{"$f":"AP27+Juil!BO27","v":{"$error":"#VALUE!"}},{"$f":"AQ27+Juil!BP27","v":0},{"$f":"AR27+Juil!BQ27","v":0},{"$f":"AS27+Juil!BR27","v":0},{"$f":"AT27+Juil!BS27","v":0},{"$f":"AU27+Juil!BT27","v":0},{"$f":"AV27+Juil!BU27","v":0},{"$f":"AW27+Juil!BV27","v":0},{"$f":"AX27+Juil!BW27","v":0},{"$f":"AY27+Juil!BX27","v":0},{"$f":"AZ27+Juil!BY27","v":0},{"$f":"BA27+Juil!BZ27","v":0},{"$f":"BB27+Juil!CA27","v":0},{"$f":"BC27+Juil!CB27","v":0},{"$f":"BD27+Juil!CC27","v":0},{"$f":"BE27+Juil!CD27","v":0},{"$f":"BF27+Juil!CE27","v":0},null,{"$f":"Juil!CG27","v":0},0,0,null,{"$f":"Juil!CK27","v":0},0,0,null,{"$f":"Juil!CO27","v":0},0,0,null,{"$f":"Juil!CS27","v":0},0,0]
[{"$f":"Juil!A28","v":"Frédéric"},null,null,null,null,null,null,null,null,null,null,null,null,null,null,null,null,null,null,null,null,null,null,null,null,null,null,null,null,null,null,null,null,null,{"$f":"COUNTIF(C28:AG28,Accueil!$B$8)","v":0},{"$f":"COUNTIF(C28:AG28,Accueil!$B$9)","v":0},{"$f":"COUNTIF(C28:AG28,Accueil!$B$10)","v":0},{"$f":"COUNTIF(C28:AG28,Accueil!$B$11)","v":0},{"$f":"COUNTIF(C28:AG28,Accueil!$B$12)","v":0},{"$f":"COUNTIF(C28:AG28,Accueil!$B$13)","v":0},{"$f":"COUNTIF(C28:AG28,Accueil!$B$14)","v":0},{"$f":"COUNTIF(C28:AG28,Accueil!$B$15)","v":0},{"$f":"COUNTIF(C28:AG28,Accueil!$B$16)","v":0},{"$f":"COUNTIF(C28:AG28,Accueil!$B$17)","v":0},{"$f":"COUNTIF(C28:AG28,Accueil!$B$18)","v":0},{"$f":"COUNTIF(C28:AG28,Accueil!$B$19)","v":0},{"$f":"COUNTIF(C28:AG28,Accueil!$B$20)","v":0},{"$f":"COUNTIF(C28:AG28,Accueil!$B$21)","v":0},{"$f":"COUNTIF(C28:AG28,Accueil!$B$22)","v":0},{"$f":"COUNTIF(C28:AG28,Accueil!$B$23)","v":0},{"$f":"COUNTIF(C28:AG28,Accueil!$B$24)","v":0},{"$f":"COUNTIF(C28:AG28,Accueil!$B$25)","v":0},{"$f":"COUNTIF(C28:AG28,Accueil!$B$26)","v":0},{"$f":"COUNTIF(C28:AG28,Accueil!$B$27)","v":0},{"$f":"COUNTIF(C28:AG28,Accueil!$B$28)","v":0},{"$f":"COUNTIF(C28:AG28,Accueil!$B$29)","v":0},{"$f":"COUNTIF(C28:AG28,Accueil!$B$30)","v":0},0,null,{"$f":"AI28 +Juil!BH28","v":{"$error":"#VALUE!"}},{"$f":"AJ28+Juil!BI28","v":{"$error":"#VALUE!"}},{"$f":"AK28+Juil!BJ28","v":0},{"$f":"AL28+Juil!BK28","v":{"$error":"#VALUE!"}},{"$f":"AM28+Juil!BL28","v":0},{"$f":"AN28+Juil!BM28","v":{"$error":"#VALUE!"}},{"$f":"AO28+Juil!BN28","v":{"$error":"#VALUE!"}},{"$f":"AP28+Juil!BO28","v":0},{"$f":"AQ28+Juil!BP28","v":27},{"$f":"AR28+Juil!BQ28","v":0},{"$f":"AS28+Juil!BR28","v":0},{"$f":"AT28+Juil!BS28","v":0},{"$f":"AU28+Juil!BT28","v":0},{"$f":"AV28+Juil!BU28","v":0},{"$f":"AW28+Juil!BV28","v":0},{"$f":"AX28+Juil!BW28","v":0},{"$f":"AY28+Juil!BX28","v":0},{"$f":"AZ28+Juil!BY28","v":0},{"$f":"BA28+Juil!BZ28","v":0},{"$f":"BB28+Juil!CA28","v":0},{"$f":"BC28+Juil!CB28","v":0},{"$f":"BD28+Juil!CC28","v":0},{"$f":"BE28+Juil!CD28","v":0},{"$f":"BF28+Juil!CE28","v":27},null,{"$f":"Juil!CG28","v":0},0,0,null,{"$f":"Juil!CK28","v":0},0,0,null,{"$f":"Juil!CO28","v":0},0,0,null,{"$f":"Juil!CS28","v":0},0,0]
[{"$f":"Juil!A29","v":"Ibrahim"},null,null,null,null,null,null,null,null,null,null,null,null,null,null,null,null,null,null,null,null,null,null,null,null,null,null,null,null,null,null,null,null,null,{"$f":"COUNTIF(C29:AG29,Accueil!$B$8)","v":0},{"$f":"COUNTIF(C29:AG29,Accueil!$B$9)","v":0},{"$f":"COUNTIF(C29:AG29,Accueil!$B$10)","v":0},{"$f":"COUNTIF(C29:AG29,Accueil!$B$11)","v":0},{"$f":"COUNTIF(C29:AG29,Accueil!$B$12)","v":0},{"$f":"COUNTIF(C29:AG29,Accueil!$B$13)","v":0},{"$f":"COUNTIF(C29:AG29,Accueil!$B$14)","v":0},{"$f":"COUNTIF(C29:AG29,Accueil!$B$15)","v":0},{"$f":"COUNTIF(C29:AG29,Accueil!$B$16)","v":0},{"$f":"COUNTIF(C29:AG29,Accueil!$B$17)","v":0},{"$f":"COUNTIF(C29:AG29,Accueil!$B$18)","v":0},{"$f":"COUNTIF(C29:AG29,Accueil!$B$19)","v":0},{"$f":"COUNTIF(C29:AG29,Accueil!$B$20)","v":0},{"$f":"COUNTIF(C29:AG29,Accueil!$B$21)","v":0},{"$f":"COUNTIF(C29:AG29,Accueil!$B$22)","v":0},{"$f":"COUNTIF(C29:AG29,Accueil!$B$23)","v":0},{"$f":"COUNTIF(C29:AG29,Accueil!$B$24)","v":0},{"$f":"COUNTIF(C29:AG29,Accueil!$B$25)","v":0},{"$f":"COUNTIF(C29:AG29,Accueil!$B$26)","v":0},{"$f":"COUNTIF(C29:AG29,Accueil!$B$27)","v":0},{"$f":"COUNTIF(C29:AG29,Accueil!$B$28)","v":0},{"$f":"COUNTIF(C29:AG29,Accueil!$B$29)","v":0},{"$f":"COUNTIF(C29:AG29,Accueil!$B$30)","v":0},0,null,{"$f":"AI29 +Juil!BH29","v":0},{"$f":"AJ29+Juil!BI29","v":0},{"$f":"AK29+Juil!BJ29","v":0},{"$f":"AL29+Juil!BK29","v":0},{"$f":"AM29+Juil!BL29","v":{"$error":"#VALUE!"}},{"$f":"AN29+Juil!BM29","v":0},{"$f":"AO29+Juil!BN29","v":0},{"$f":"AP29+Juil!BO29","v":0},{"$f":"AQ29+Juil!BP29","v":59},{"$f":"AR29+Juil!BQ29","v":0},{"$f":"AS29+Juil!BR29","v":0},{"$f":"AT29+Juil!BS29","v":0},{"$f":"AU29+Juil!BT29","v":0},{"$f":"AV29+Juil!BU29","v":0},{"$f":"AW29+Juil!BV29","v":0},{"$f":"AX29+Juil!BW29","v":5},{"$f":"AY29+Juil!BX29","v":0},{"$f":"AZ29+Juil!BY29","v":0},{"$f":"BA29+Juil!BZ29","v":0},{"$f":"BB29+Juil!CA29","v":0},{"$f":"BC29+Juil!CB29","v":0},{"$f":"BD29+Juil!CC29","v":0},{"$f":"BE29+Juil!CD29","v":0},{"$f":"BF29+Juil!CE29","v":59},null,{"$f":"Juil!CG29","v":0},5,-5,null,{"$f":"Juil!CK29","v":0},0,0,null,{"$f":"Juil!CO29","v":0},0,0,null,{"$f":"Juil!CS29","v":0},0,0]
[{"$f":"Juil!A30","v":"Julien"},null,null,null,null,null,null,null,null,null,null,null,null,null,null,null,null,null,null,null,null,null,null,null,null,null,null,null,null,null,null,null,null,null,{"$f":"COUNTIF(C30:AG30,Accueil!$B$8)","v":0},{"$f":"COUNTIF(C30:AG30,Accueil!$B$9)","v":0},{"$f":"COUNTIF(C30:AG30,Accueil!$B$10)","v":0},{"$f":"COUNTIF(C30:AG30,Accueil!$B$11)","v":0},{"$f":"COUNTIF(C30:AG30,Accueil!$B$12)","v":0},{"$f":"COUNTIF(C30:AG30,Accueil!$B$13)","v":0},{"$f":"COUNTIF(C30:AG30,Accueil!$B$14)","v":0},{"$f":"COUNTIF(C30:AG30,Accueil!$B$15)","v":0},{"$f":"COUNTIF(C30:AG30,Accueil!$B$16)","v":0},{"$f":"COUNTIF(C30:AG30,Accueil!$B$17)","v":0},{"$f":"COUNTIF(C30:AG30,Accueil!$B$18)","v":0},{"$f":"COUNTIF(C30:AG30,Accueil!$B$19)","v":0},{"$f":"COUNTIF(C30:AG30,Accueil!$B$20)","v":0},{"$f":"COUNTIF(C30:AG30,Accueil!$B$21)","v":0},{"$f":"COUNTIF(C30:AG30,Accueil!$B$22)","v":0},{"$f":"COUNTIF(C30:AG30,Accueil!$B$23)","v":0},{"$f":"COUNTIF(C30:AG30,Accueil!$B$24)","v":0},{"$f":"COUNTIF(C30:AG30,Accueil!$B$25)","v":0},{"$f":"COUNTIF(C30:AG30,Accueil!$B$26)","v":0},{"$f":"COUNTIF(C30:AG30,Accueil!$B$27)","v":0},{"$f":"COUNTIF(C30:AG30,Accueil!$B$28)","v":0},{"$f":"COUNTIF(C30:AG30,Accueil!$B$29)","v":0},{"$f":"COUNTIF(C30:AG30,Accueil!$B$30)","v":0},0,null,{"$f":"AI30 +Juil!BH30","v":0},{"$f":"AJ30+Juil!BI30","v":{"$error":"#VALUE!"}},{"$f":"AK30+Juil!BJ30","v":{"$error":"#VALUE!"}},{"$f":"AL30+Juil!BK30","v":{"$error":"#VALUE!"}},{"$f":"AM30+Juil!BL30","v":{"$error":"#VALUE!"}},{"$f":"AN30+Juil!BM30","v":{"$error":"#VALUE!"}},{"$f":"AO30+Juil!BN30","v":0},{"$f":"AP30+Juil!BO30","v":0},{"$f":"AQ30+Juil!BP30","v":34},{"$f":"AR30+Juil!BQ30","v":0},{"$f":"AS30+Juil!BR30","v":0},{"$f":"AT30+Juil!BS30","v":0},{"$f":"AU30+Juil!BT30","v":0},{"$f":"AV30+Juil!BU30","v":0},{"$f":"AW30+Juil!BV30","v":0},{"$f":"AX30+Juil!BW30","v":6},{"$f":"AY30+Juil!BX30","v":0},{"$f":"AZ30+Juil!BY30","v":0},{"$f":"BA30+Juil!BZ30","v":0},{"$f":"BB30+Juil!CA30","v":0},{"$f":"BC30+Juil!CB30","v":0},{"$f":"BD30+Juil!CC30","v":0},{"$f":"BE30+Juil!CD30","v":0},{"$f":"BF30+Juil!CE30","v":34},null,{"$f":"Juil!CG30","v":0},6,-6,null,{"$f":"Juil!CK30","v":0},0,0,null,{"$f":"Juil!CO30","v":0},0,0,null,{"$f":"Juil!CS30","v":0},0,0]
[{"$f":"Juil!A31","v":"Mario"},null,null,null,null,null,null,null,null,null,null,null,null,null,null,null,null,null,null,null,null,null,null,null,null,null,null,null,null,null,null,null,null,null,{"$f":"COUNTIF(C31:AG31,Accueil!$B$8)","v":0},{"$f":"COUNTIF(C31:AG31,Accueil!$B$9)","v":0},{"$f":"COUNTIF(C31:AG31,Accueil!$B$10)","v":0},{"$f":"COUNTIF(C31:AG31,Accueil!$B$11)","v":0},{"$f":"COUNTIF(C31:AG31,Accueil!$B$12)","v":0},{"$f":"COUNTIF(C31:AG31,Accueil!$B$13)","v":0},{"$f":"COUNTIF(C31:AG31,Accueil!$B$14)","v":0},{"$f":"COUNTIF(C31:AG31,Accueil!$B$15)","v":0},{"$f":"COUNTIF(C31:AG31,Accueil!$B$16)","v":0},{"$f":"COUNTIF(C31:AG31,Accueil!$B$17)","v":0},{"$f":"COUNTIF(C31:AG31,Accueil!$B$18)","v":0},{"$f":"COUNTIF(C31:AG31,Accueil!$B$19)","v":0},{"$f":"COUNTIF(C31:AG31,Accueil!$B$20)","v":0},{"$f":"COUNTIF(C31:AG31,Accueil!$B$21)","v":0},{"$f":"COUNTIF(C31:AG31,Accueil!$B$22)","v":0},{"$f":"COUNTIF(C31:AG31,Accueil!$B$23)","v":0},{"$f":"COUNTIF(C31:AG31,Accueil!$B$24)","v":0},{"$f":"COUNTIF(C31:AG31,Accueil!$B$25)","v":0},{"$f":"COUNTIF(C31:AG31,Accueil!$B$26)","v":0},{"$f":"COUNTIF(C31:AG31,Accueil!$B$27)","v":0},{"$f":"COUNTIF(C31:AG31,Accueil!$B$28)","v":0},{"$f":"COUNTIF(C31:AG31,Accueil!$B$29)","v":0},{"$f":"COUNTIF(C31:AG31,Accueil!$B$30)","v":0},0,null,{"$f":"AI31 +Juil!BH31","v":0},{"$f":"AJ31+Juil!BI31","v":0},{"$f":"AK31+Juil!BJ31","v":0},{"$f":"AL31+Juil!BK31","v":0},{"$f":"AM31+Juil!BL31","v":0},{"$f":"AN31+Juil!BM31","v":0},{"$f":"AO31+Juil!BN31","v":0},{"$f":"AP31+Juil!BO31","v":0},{"$f":"AQ31+Juil!BP31","v":16},{"$f":"AR31+Juil!BQ31","v":0},{"$f":"AS31+Juil!BR31","v":0},{"$f":"AT31+Juil!BS31","v":0},{"$f":"AU31+Juil!BT31","v":26},{"$f":"AV31+Juil!BU31","v":0},{"$f":"AW31+Juil!BV31","v":0},{"$f":"AX31+Juil!BW31","v":59},{"$f":"AY31+Juil!BX31","v":0},{"$f":"AZ31+Juil!BY31","v":0},{"$f":"BA31+Juil!BZ31","v":0},{"$f":"BB31+Juil!CA31","v":0},{"$f":"BC31+Juil!CB31","v":0},{"$f":"BD31+Juil!CC31","v":0},{"$f":"BE31+Juil!CD31","v":0},{"$f":"BF31+Juil!CE31","v":16},null,{"$f":"Juil!CG31","v":0},59,-59,null,{"$f":"Juil!CK31","v":0},0,0,null,{"$f":"Juil!CO31","v":0},0,0,null,{"$f":"Juil!CS31","v":0},0,0]
[{"$f":"Juil!A32","v":"Hamid"},null,null,null,null,null,null,null,null,null,null,null,null,null,null,null,null,null,null,null,null,null,null,null,null,null,null,null,null,null,null,null,null,null,{"$f":"COUNTIF(C32:AG32,Accueil!$B$8)","v":0},{"$f":"COUNTIF(C32:AG32,Accueil!$B$9)","v":0},{"$f":"COUNTIF(C32:AG32,Accueil!$B$10)","v":0},{"$f":"COUNTIF(C32:AG32,Accueil!$B$11)","v":0},{"$f":"COUNTIF(C32:AG32,Accueil!$B$12)","v":0},{"$f":"COUNTIF(C32:AG32,Accueil!$B$13)","v":0},{"$f":"COUNTIF(C32:AG32,Accueil!$B$14)","v":0},{"$f":"COUNTIF(C32:AG32,Accueil!$B$15)","v":0},{"$f":"COUNTIF(C32:AG32,Accueil!$B$16)","v":0},{"$f":"COUNTIF(C32:AG32,Accueil!$B$17)","v":0},{"$f":"COUNTIF(C32:AG32,Accueil!$B$18)","v":0},{"$f":"COUNTIF(C32:AG32,Accueil!$B$19)","v":0},{"$f":"COUNTIF(C32:AG32,Accueil!$B$20)","v":0},{"$f":"COUNTIF(C32:AG32,Accueil!$B$21)","v":0},{"$f":"COUNTIF(C32:AG32,Accueil!$B$22)","v":0},{"$f":"COUNTIF(C32:AG32,Accueil!$B$23)","v":0},{"$f":"COUNTIF(C32:AG32,Accueil!$B$24)","v":0},{"$f":"COUNTIF(C32:AG32,Accueil!$B$25)","v":0},{"$f":"COUNTIF(C32:AG32,Accueil!$B$26)","v":0},{"$f":"COUNTIF(C32:AG32,Accueil!$B$27)","v":0},{"$f":"COUNTIF(C32:AG32,Accueil!$B$28)","v":0},{"$f":"COUNTIF(C32:AG32,Accueil!$B$29)","v":0},{"$f":"COUNTIF(C32:AG32,Accueil!$B$30)","v":0},0,null,{"$f":"AI32 +Juil!BH32","v":0},{"$f":"AJ32+Juil!BI32","v":0},{"$f":"AK32+Juil!BJ32","v":0},{"$f":"AL32+Juil!BK32","v":0},{"$f":"AM32+Juil!BL32","v":0},{"$f":"AN32+Juil!BM32","v":0},{"$f":"AO32+Juil!BN32","v":0},{"$f":"AP32+Juil!BO32","v":0},{"$f":"AQ32+Juil!BP32","v":37},{"$f":"AR32+Juil!BQ32","v":0},{"$f":"AS32+Juil!BR32","v":0},{"$f":"AT32+Juil!BS32","v":0},{"$f":"AU32+Juil!BT32","v":0},{"$f":"AV32+Juil!BU32","v":10},{"$f":"AW32+Juil!BV32","v":10},{"$f":"AX32+Juil!BW32","v":0},{"$f":"AY32+Juil!BX32","v":0},{"$f":"AZ32+Juil!BY32","v":0},{"$f":"BA32+Juil!BZ32","v":0},{"$f":"BB32+Juil!CA32","v":0},{"$f":"BC32+Juil!CB32","v":0},{"$f":"BD32+Juil!CC32","v":0},{"$f":"BE32+Juil!CD32","v":10},{"$f":"BF32+Juil!CE32","v":42},null,{"$f":"Juil!CG32","v":0},5,-5,null,{"$f":"Juil!CK32","v":0},0,0,null,{"$f":"Juil!CO32","v":0},0,0,null,{"$f":"Juil!CS32","v":0},10,-10]
[null,{"$f":" \"Effectif minimum \" & Accueil!$B$8","v":"Effectif minimum M1"},{"$f":"COUNTIF(C3:C32,Accueil!$B$8)","v":0},{"$f":"COUNTIF(D3:D32,Accueil!$B$8)","v":2},{"$f":"COUNTIF(E3:E32,Accueil!$B$8)","v":1},{"$f":"COUNTIF(F3:F32,Accueil!$B$8)","v":0},{"$f":"COUNTIF(G3:G32,Accueil!$B$8)","v":2},{"$f":"COUNTIF(H3:H32,Accueil!$B$8)","v":0},{"$f":"COUNTIF(I3:I32,Accueil!$B$8)","v":0},{"$f":"COUNTIF(J3:J32,Accueil!$B$8)","v":1},{"$f":"COUNTIF(K3:K32,Accueil!$B$8)","v":4},{"$f":"COUNTIF(L3:L32,Accueil!$B$8)","v":1},{"$f":"COUNTIF(M3:M32,Accueil!$B$8)","v":0},{"$f":"COUNTIF(N3:N32,Accueil!$B$8)","v":2},{"$f":"COUNTIF(O3:O32,Accueil!$B$8)","v":0},{"$f":"COUNTIF(P3:P32,Accueil!$B$8)","v":0},{"$f":"COUNTIF(Q3:Q32,Accueil!$B$8)","v":1},{"$f":"COUNTIF(R3:R32,Accueil!$B$8)","v":4},{"$f":"COUNTIF(S3:S32,Accueil!$B$8)","v":1},{"$f":"COUNTIF(T3:T32,Accueil!$B$8)","v":0},{"$f":"COUNTIF(U3:U32,Accueil!$B$8)","v":2},{"$f":"COUNTIF(V3:V32,Accueil!$B$8)","v":0},{"$f":"COUNTIF(W3:W32,Accueil!$B$8)","v":0},{"$f":"COUNTIF(X3:X32,Accueil!$B$8)","v":1},{"$f":"COUNTIF(Y3:Y32,Accueil!$B$8)","v":4},{"$f":"COUNTIF(Z3:Z32,Accueil!$B$8)","v":1},{"$f":"COUNTIF(AA3:AA32,Accueil!$B$8)","v":1},{"$f":"COUNTIF(AB3:AB32,Accueil!$B$8)","v":2},{"$f":"COUNTIF(AC3:AC32,Accueil!$B$8)","v":0},{"$f":"COUNTIF(AD3:AD32,Accueil!$B$8)","v":0},{"$f":"COUNTIF(AE3:AE32,Accueil!$B$8)","v":1},{"$f":"COUNTIF(AF3:AF32,Accueil!$B$8)","v":4},{"$f":"COUNTIF(AG3:AG32,Accueil!$B$8)","v":1},null,"Jours travaillés",null,null,null,null,null,null,null,null,null,null,null,"Jours non travaillés",null,null,null,null,null,null,null,null,null,null,null,null,"Jours travaillés",null,null,null,null,null,null,null,null,null,null,null,"Jours non travaillés"]
[null,{"$f":" \"Effectif minimum \" & Accueil!$B$9","v":"Effectif minimum M2"},{"$f":"COUNTIF(C3:C32,Accueil!$B$9)","v":0},{"$f":"COUNTIF(D3:D32,Accueil!$B$9)","v":3},{"$f":"COUNTIF(E3:E32,Accueil!$B$9)","v":0},{"$f":"COUNTIF(F3:F32,Accueil!$B$9)","v":0},{"$f":"COUNTIF(G3:G32,Accueil!$B$9)","v":1},{"$f":"COUNTIF(H3:H32,Accueil!$B$9)","v":0},{"$f":"COUNTIF(I3:I32,Accueil!$B$9)","v":0},{"$f":"COUNTIF(J3:J32,Accueil!$B$9)","v":0},{"$f":"COUNTIF(K3:K32,Accueil!$B$9)","v":2},{"$f":"COUNTIF(L3:L32,Accueil!$B$9)","v":0},{"$f":"COUNTIF(M3:M32,Accueil!$B$9)","v":0},{"$f":"COUNTIF(N3:N32,Accueil!$B$9)","v":1},{"$f":"COUNTIF(O3:O32,Accueil!$B$9)","v":0},{"$f":"COUNTIF(P3:P32,Accueil!$B$9)","v":0},{"$f":"COUNTIF(Q3:Q32,Accueil!$B$9)","v":0},{"$f":"COUNTIF(R3:R32,Accueil!$B$9)","v":2},{"$f":"COUNTIF(S3:S32,Accueil!$B$9)","v":0},{"$f":"COUNTIF(T3:T32,Accueil!$B$9)","v":0},{"$f":"COUNTIF(U3:U32,Accueil!$B$9)","v":0},{"$f":"COUNTIF(V3:V32,Accueil!$B$9)","v":0},{"$f":"COUNTIF(W3:W32,Accueil!$B$9)","v":0},{"$f":"COUNTIF(X3:X32,Accueil!$B$9)","v":0},{"$f":"COUNTIF(Y3:Y32,Accueil!$B$9)","v":2},{"$f":"COUNTIF(Z3:Z32,Accueil!$B$9)","v":0},{"$f":"COUNTIF(AA3:AA32,Accueil!$B$9)","v":0},{"$f":"COUNTIF(AB3:AB32,Accueil!$B$9)","v":1},{"$f":"COUNTIF(AC3:AC32,Accueil!$B$9)","v":0},{"$f":"COUNTIF(AD3:AD32,Accueil!$B$9)","v":0},{"$f":"COUNTIF(AE3:AE32,Accueil!$B$9)","v":0},{"$f":"COUNTIF(AF3:AF32,Accueil!$B$9)","v":2},{"$f":"COUNTIF(AG3:AG32,Accueil!$B$9)","v":0}]
[null,{"$f":"\"Effectif minimum \" & Accueil!$B$10","v":"Effectif minimum M3"},{"$f":"COUNTIF(C3:C32,Accueil!$B$10)","v":0},{"$f":"COUNTIF(D3:D32,Accueil!$B$10)","v":0},{"$f":"COUNTIF(E3:E32,Accueil!$B$10)","v":0},{"$f":"COUNTIF(F3:F32,Accueil!$B$10)","v":2},{"$f":"COUNTIF(G3:G32,Accueil!$B$10)","v":0},{"$f":"COUNTIF(H3:H32,Accueil!$B$10)","v":0},{"$f":"COUNTIF(I3:I32,Accueil!$B$10)","v":0},{"$f":"COUNTIF(J3:J32,Accueil!$B$10)","v":1},{"$f":"COUNTIF(K3:K32,Accueil!$B$10)","v":0},{"$f":"COUNTIF(L3:L32,Accueil!$B$10)","v":0},{"$f":"COUNTIF(M3:M32,Accueil!$B$10)","v":2},{"$f":"COUNTIF(N3:N32,Accueil!$B$10)","v":0},{"$f":"COUNTIF(O3:O32,Accueil!$B$10)","v":0},{"$f":"COUNTIF(P3:P32,Accueil!$B$10)","v":0},{"$f":"COUNTIF(Q3:Q32,Accueil!$B$10)","v":1},{"$f":"COUNTIF(R3:R32,Accueil!$B$10)","v":0},{"$f":"COUNTIF(S3:S32,Accueil!$B$10)","v":0},{"$f":"COUNTIF(T3:T32,Accueil!$B$10)","v":2},{"$f":"COUNTIF(U3:U32,Accueil!$B$10)","v":0},{"$f":"COUNTIF(V3:V32,Accueil!$B$10)","v":0},{"$f":"COUNTIF(W3:W32,Accueil!$B$10)","v":0},{"$f":"COUNTIF(X3:X32,Accueil!$B$10)","v":1},{"$f":"COUNTIF(Y3:Y32,Accueil!$B$10)","v":0},{"$f":"COUNTIF(Z3:Z32,Accueil!$B$10)","v":0},{"$f":"COUNTIF(AA3:AA32,Accueil!$B$10)","v":1},{"$f":"COUNTIF(AB3:AB32,Accueil!$B$10)","v":0},{"$f":"COUNTIF(AC3:AC32,Accueil!$B$10)","v":0},{"$f":"COUNTIF(AD3:AD32,Accueil!$B$10)","v":0},{"$f":"COUNTIF(AE3:AE32,Accueil!$B$10)","v":1},{"$f":"COUNTIF(AF3:AF32,Accueil!$B$10)","v":0},{"$f":"COUNTIF(AG3:AG32,Accueil!$B$10)","v":0}]
[2,"MATIN",{"$f":"C33+C34+C35+C37","v":2},{"$f":"D33+D34+D35+D37","v":7},3,2,3,1,2,3,8,3,2,3,2,2,3,8,3,2,3,1,2,3,8,3,2,4,2,1,3,8,3]
[null,{"$f":"\"Effectif minimum \" & Accueil!$B$11","v":"Effectif minimum MP"},{"$f":"COUNTIF(C3:C32,Accueil!$B$11)","v":2},{"$f":"COUNTIF(D3:D32,Accueil!$B$11)","v":2},{"$f":"COUNTIF(E3:E32,Accueil!$B$11)","v":2},{"$f":"COUNTIF(F3:F32,Accueil!$B$11)","v":0},{"$f":"COUNTIF(G3:G32,Accueil!$B$11)","v":0},{"$f":"COUNTIF(H3:H32,Accueil!$B$11)","v":1},{"$f":"COUNTIF(I3:I32,Accueil!$B$11)","v":2},{"$f":"COUNTIF(J3:J32,Accueil!$B$11)","v":1},{"$f":"COUNTIF(K3:K32,Accueil!$B$11)","v":2},{"$f":"COUNTIF(L3:L32,Accueil!$B$11)","v":2},{"$f":"COUNTIF(M3:M32,Accueil!$B$11)","v":0},{"$f":"COUNTIF(N3:N32,Accueil!$B$11)","v":0},{"$f":"COUNTIF(O3:O32,Accueil!$B$11)","v":2},{"$f":"COUNTIF(P3:P32,Accueil!$B$11)","v":2},{"$f":"COUNTIF(Q3:Q32,Accueil!$B$11)","v":1},{"$f":"COUNTIF(R3:R32,Accueil!$B$11)","v":2},{"$f":"COUNTIF(S3:S32,Accueil!$B$11)","v":2},{"$f":"COUNTIF(T3:T32,Accueil!$B$11)","v":0},{"$f":"COUNTIF(U3:U32,Accueil!$B$11)","v":1},{"$f":"COUNTIF(V3:V32,Accueil!$B$11)","v":1},{"$f":"COUNTIF(W3:W32,Accueil!$B$11)","v":2},{"$f":"COUNTIF(X3:X32,Accueil!$B$11)","v":1},{"$f":"COUNTIF(Y3:Y32,Accueil!$B$11)","v":2},{"$f":"COUNTIF(Z3:Z32,Accueil!$B$11)","v":2},{"$f":"COUNTIF(AA3:AA32,Accueil!$B$11)","v":0},{"$f":"COUNTIF(AB3:AB32,Accueil!$B$11)","v":1},{"$f":"COUNTIF(AC3:AC32,Accueil!$B$11)","v":2},{"$f":"COUNTIF(AD3:AD32,Accueil!$B$11)","v":1},{"$f":"COUNTIF(AE3:AE32,Accueil!$B$11)","v":1},{"$f":"COUNTIF(AF3:AF32,Accueil!$B$11)","v":2},{"$f":"COUNTIF(AG3:AG32,Accueil!$B$11)","v":2}]
[null,{"$f":"\"Effectif minimum \" & Accueil!$B$12","v":"Effectif minimum AP1"},{"$f":"COUNTIF(C3:C32,Accueil!$B$12)","v":0},{"$f":"COUNTIF(D3:D32,Accueil!$B$12)","v":0},{"$f":"COUNTIF(E3:E32,Accueil!$B$12)","v":0},{"$f":"COUNTIF(F3:F32,Accueil!$B$12)","v":2},{"$f":"COUNTIF(G3:G32,Accueil!$B$12)","v":0},{"$f":"COUNTIF(H3:H32,Accueil!$B$12)","v":0},{"$f":"COUNTIF(I3:I32,Accueil!$B$12)","v":0},{"$f":"COUNTIF(J3:J32,Accueil!$B$12)","v":0},{"$f":"COUNTIF(K3:K32,Accueil!$B$12)","v":0},{"$f":"COUNTIF(L3:L32,Accueil!$B$12)","v":0},{"$f":"COUNTIF(M3:M32,Accueil!$B$12)","v":2},{"$f":"COUNTIF(N3:N32,Accueil!$B$12)","v":0},{"$f":"COUNTIF(O3:O32,Accueil!$B$12)","v":0},{"$f":"COUNTIF(P3:P32,Accueil!$B$12)","v":0},{"$f":"COUNTIF(Q3:Q32,Accueil!$B$12)","v":0},{"$f":"COUNTIF(R3:R32,Accueil!$B$12)","v":0},{"$f":"COUNTIF(S3:S32,Accueil!$B$12)","v":0},{"$f":"COUNTIF(T3:T32,Accueil!$B$12)","v":2},{"$f":"COUNTIF(U3:U32,Accueil!$B$12)","v":0},{"$f":"COUNTIF(V3:V32,Accueil!$B$12)","v":0},{"$f":"COUNTIF(W3:W32,Accueil!$B$12)","v":0},{"$f":"COUNTIF(X3:X32,Accueil!$B$12)","v":0},{"$f":"COUNTIF(Y3:Y32,Accueil!$B$12)","v":0},{"$f":"COUNTIF(Z3:Z32,Accueil!$B$12)","v":0},{"$f":"COUNTIF(AA3:AA32,Accueil!$B$12)","v":2},{"$f":"COUNTIF(AB3:AB32,Accueil!$B$12)","v":0},{"$f":"COUNTIF(AC3:AC32,Accueil!$B$12)","v":0},{"$f":"COUNTIF(AD3:AD32,Accueil!$B$12)","v":0},{"$f":"COUNTIF(AE3:AE32,Accueil!$B$12)","v":0},{"$f":"COUNTIF(AF3:AF32,Accueil!$B$12)","v":0},{"$f":"COUNTIF(AG3:AG32,Accueil!$B$12)","v":0}]
[null,{"$f":"\"Effectif minimum \" & Accueil!$B$13","v":"Effectif minimum AP2"},{"$f":"COUNTIF(C3:C32,Accueil!$B$13)","v":0},{"$f":"COUNTIF(D3:D32,Accueil!$B$13)","v":0},{"$f":"COUNTIF(E3:E32,Accueil!$B$13)","v":0},{"$f":"COUNTIF(F3:F32,Accueil!$B$13)","v":0},{"$f":"COUNTIF(G3:G32,Accueil!$B$13)","v":2},{"$f":"COUNTIF(H3:H32,Accueil!$B$13)","v":0},{"$f":"COUNTIF(I3:I32,Accueil!$B$13)","v":0},{"$f":"COUNTIF(J3:J32,Accueil!$B$13)","v":1},{"$f":"COUNTIF(K3:K32,Accueil!$B$13)","v":0},{"$f":"COUNTIF(L3:L32,Accueil!$B$13)","v":0},{"$f":"COUNTIF(M3:M32,Accueil!$B$13)","v":0},{"$f":"COUNTIF(N3:N32,Accueil!$B$13)","v":1},{"$f":"COUNTIF(O3:O32,Accueil!$B$13)","v":0},{"$f":"COUNTIF(P3:P32,Accueil!$B$13)","v":0},{"$f":"COUNTIF(Q3:Q32,Accueil!$B$13)","v":1},{"$f":"COUNTIF(R3:R32,Accueil!$B$13)","v":0},{"$f":"COUNTIF(S3:S32,Accueil!$B$13)","v":0},{"$f":"COUNTIF(T3:T32,Accueil!$B$13)","v":0},{"$f":"COUNTIF(U3:U32,Accueil!$B$13)","v":1},{"$f":"COUNTIF(V3:V32,Accueil!$B$13)","v":0},{"$f":"COUNTIF(W3:W32,Accueil!$B$13)","v":0},{"$f":"COUNTIF(X3:X32,Accueil!$B$13)","v":1},{"$f":"COUNTIF(Y3:Y32,Accueil!$B$13)","v":0},{"$f":"COUNTIF(Z3:Z32,Accueil!$B$13)","v":0},{"$f":"COUNTIF(AA3:AA32,Accueil!$B$13)","v":0},{"$f":"COUNTIF(AB3:AB32,Accueil!$B$13)","v":0},{"$f":"COUNTIF(AC3:AC32,Accueil!$B$13)","v":0},{"$f":"COUNTIF(AD3:AD32,Accueil!$B$13)","v":0},{"$f":"COUNTIF(AE3:AE32,Accueil!$B$13)","v":1},{"$f":"COUNTIF(AF3:AF32,Accueil!$B$13)","v":0},{"$f":"COUNTIF(AG3:AG32,Accueil!$B$13)","v":0}]
[null,{"$f":"\"Effectif minimum \" & Accueil!$B$14","v":"Effectif minimum AP3"},{"$f":"COUNTIF(C3:C32,Accueil!$B$14)","v":0},{"$f":"COUNTIF(D3:D32,Accueil!$B$14)","v":0},{"$f":"COUNTIF(E3:E32,Accueil!$B$14)","v":0},{"$f":"COUNTIF(F3:F32,Accueil!$B$14)","v":0},{"$f":"COUNTIF(G3:G32,Accueil!$B$14)","v":0},{"$f":"COUNTIF(H3:H32,Accueil!$B$14)","v":0},{"$f":"COUNTIF(I3:I32,Accueil!$B$14)","v":0},{"$f":"COUNTIF(J3:J32,Accueil!$B$14)","v":0},{"$f":"COUNTIF(K3:K32,Accueil!$B$14)","v":0},{"$f":"COUNTIF(L3:L32,Accueil!$B$14)","v":0},{"$f":"COUNTIF(M3:M32,Accueil!$B$14)","v":0},{"$f":"COUNTIF(N3:N32,Accueil!$B$14)","v":0},{"$f":"COUNTIF(O3:O32,Accueil!$B$14)","v":0},{"$f":"COUNTIF(P3:P32,Accueil!$B$14)","v":0},{"$f":"COUNTIF(Q3:Q32,Accueil!$B$14)","v":0},{"$f":"COUNTIF(R3:R32,Accueil!$B$14)","v":0},{"$f":"COUNTIF(S3:S32,Accueil!$B$14)","v":0},{"$f":"COUNTIF(T3:T32,Accueil!$B$14)","v":0},{"$f":"COUNTIF(U3:U32,Accueil!$B$14)","v":0},{"$f":"COUNTIF(V3:V32,Accueil!$B$14)","v":0},{"$f":"COUNTIF(W3:W32,Accueil!$B$14)","v":0},{"$f":"COUNTIF(X3:X32,Accueil!$B$14)","v":0},{"$f":"COUNTIF(Y3:Y32,Accueil!$B$14)","v":0},{"$f":"COUNTIF(Z3:Z32,Accueil!$B$14)","v":0},{"$f":"COUNTIF(AA3:AA32,Accueil!$B$14)","v":0},{"$f":"COUNTIF(AB3:AB32,Accueil!$B$14)","v":0},{"$f":"COUNTIF(AC3:AC32,Accueil!$B$14)","v":0},{"$f":"COUNTIF(AD3:AD32,Accueil!$B$14)","v":0},{"$f":"COUNTIF(AE3:AE32,Accueil!$B$14)","v":0},{"$f":"COUNTIF(AF3:AF32,Accueil!$B$14)","v":0},{"$f":"COUNTIF(AG3:AG32,Accueil!$B$14)","v":0}]
[1,{"$f":"\"Effectif minimum \" & Accueil!$B$15","v":"Effectif minimum P1"},{"$f":"COUNTIF(C3:C32,Accueil!$B$15)","v":0},{"$f":"COUNTIF(D3:D32,Accueil!$B$15)","v":0},{"$f":"COUNTIF(E3:E32,Accueil!$B$15)","v":0},{"$f":"COUNTIF(F3:F32,Accueil!$B$15)","v":0},{"$f":"COUNTIF(G3:G32,Accueil!$B$15)","v":0},{"$f":"COUNTIF(H3:H32,Accueil!$B$15)","v":0},{"$f":"COUNTIF(I3:I32,Accueil!$B$15)","v":0},{"$f":"COUNTIF(J3:J32,Accueil!$B$15)","v":0},{"$f":"COUNTIF(K3:K32,Accueil!$B$15)","v":0},{"$f":"COUNTIF(L3:L32,Accueil!$B$15)","v":0},{"$f":"COUNTIF(M3:M32,Accueil!$B$15)","v":0},{"$f":"COUNTIF(N3:N32,Accueil!$B$15)","v":0},{"$f":"COUNTIF(O3:O32,Accueil!$B$15)","v":0},{"$f":"COUNTIF(P3:P32,Accueil!$B$15)","v":0},{"$f":"COUNTIF(Q3:Q32,Accueil!$B$15)","v":0},{"$f":"COUNTIF(R3:R32,Accueil!$B$15)","v":0},{"$f":"COUNTIF(S3:S32,Accueil!$B$15)","v":0},{"$f":"COUNTIF(T3:T32,Accueil!$B$15)","v":0},{"$f":"COUNTIF(U3:U32,Accueil!$B$15)","v":0},{"$f":"COUNTIF(V3:V32,Accueil!$B$15)","v":0},{"$f":"COUNTIF(W3:W32,Accueil!$B$15)","v":0},{"$f":"COUNTIF(X3:X32,Accueil!$B$15)","v":0},{"$f":"COUNTIF(Y3:Y32,Accueil!$B$15)","v":0},{"$f":"COUNTIF(Z3:Z32,Accueil!$B$15)","v":0},{"$f":"COUNTIF(AA3:AA32,Accueil!$B$15)","v":0},{"$f":"COUNTIF(AB3:AB32,Accueil!$B$15)","v":0},{"$f":"COUNTIF(AC3:AC32,Accueil!$B$15)","v":0},{"$f":"COUNTIF(AD3:AD32,Accueil!$B$15)","v":0},{"$f":"COUNTIF(AE3:AE32,Accueil!$B$15)","v":0},{"$f":"COUNTIF(AF3:AF32,Accueil!$B$15)","v":0},{"$f":"COUNTIF(AG3:AG32,Accueil!$B$15)","v":0}]
[2,"APRES-MIDI",{"$f":"C37+C38+C39+C41","v":2},{"$f":"D37+D38+D39+D41","v":2},{"$f":"E37+E38+E39+E41","v":2},{"$f":"F37+F38+F39+F41","v":2},{"$f":"G37+G38+G39+G41","v":2},1,2,2,2,2,2,1,2,2,2,2,2,2,2,1,2,2,2,2,2,1,2,1,2,2,2]
[2,"SOIREE",{"$f":"C37+C38+C39+C41","v":2},{"$f":"D37+D38+D39+D41","v":2},2,2,2,1,2,2,2,2,2,1,2,2,2,2,2,2,2,1,2,2,2,2,2,1,2,1,2,2,2]
[null,{"$f":" \"Effectif minimum \" & Accueil!$B$17 & \" \"","v":"Effectif minimum BI "},{"$f":"COUNTIF(C3:C32,Accueil!$B$17)","v":0},{"$f":"COUNTIF(D3:D32,Accueil!$B$17)","v":0},{"$f":"COUNTIF(E3:E32,Accueil!$B$17)","v":0},{"$f":"COUNTIF(F3:F32,Accueil!$B$17)","v":0},{"$f":"COUNTIF(G3:G32,Accueil!$B$17)","v":0},{"$f":"COUNTIF(H3:H32,Accueil!$B$17)","v":0},{"$f":"COUNTIF(I3:I32,Accueil!$B$17)","v":0},{"$f":"COUNTIF(J3:J32,Accueil!$B$17)","v":0},{"$f":"COUNTIF(K3:K32,Accueil!$B$17)","v":0},{"$f":"COUNTIF(L3:L32,Accueil!$B$17)","v":0},{"$f":"COUNTIF(M3:M32,Accueil!$B$17)","v":0},{"$f":"COUNTIF(N3:N32,Accueil!$B$17)","v":0},{"$f":"COUNTIF(O3:O32,Accueil!$B$17)","v":0},{"$f":"COUNTIF(P3:P32,Accueil!$B$17)","v":0},{"$f":"COUNTIF(Q3:Q32,Accueil!$B$17)","v":0},{"$f":"COUNTIF(R3:R32,Accueil!$B$17)","v":0},{"$f":"COUNTIF(S3:S32,Accueil!$B$17)","v":0},{"$f":"COUNTIF(T3:T32,Accueil!$B$17)","v":0},{"$f":"COUNTIF(U3:U32,Accueil!$B$17)","v":0},{"$f":"COUNTIF(V3:V32,Accueil!$B$17)","v":0},{"$f":"COUNTIF(W3:W32,Accueil!$B$17)","v":0},{"$f":"COUNTIF(X3:X32,Accueil!$B$17)","v":0},{"$f":"COUNTIF(Y3:Y32,Accueil!$B$17)","v":0},{"$f":"COUNTIF(Z3:Z32,Accueil!$B$17)","v":0},{"$f":"COUNTIF(AA3:AA32,Accueil!$B$17)","v":0},{"$f":"COUNTIF(AB3:AB32,Accueil!$B$17)","v":0},{"$f":"COUNTIF(AC3:AC32,Accueil!$B$17)","v":0},{"$f":"COUNTIF(AD3:AD32,Accueil!$B$17)","v":0},{"$f":"COUNTIF(AE3:AE32,Accueil!$B$17)","v":0},{"$f":"COUNTIF(AF3:AF32,Accueil!$B$17)","v":0},{"$f":"COUNTIF(AG3:AG32,Accueil!$B$17)","v":0}]
[null,{"$f":" \"Effectif minimum \" & Accueil!$B$18 & \" \"","v":"Effectif minimum LY "},{"$f":"COUNTIF(C3:C32,Accueil!$B$18)","v":0},{"$f":"COUNTIF(D3:D32,Accueil!$B$18)","v":0},{"$f":"COUNTIF(E3:E32,Accueil!$B$18)","v":1},{"$f":"COUNTIF(F3:F32,Accueil!$B$18)","v":0},{"$f":"COUNTIF(G3:G32,Accueil!$B$18)","v":0},{"$f":"COUNTIF(H3:H32,Accueil!$B$18)","v":0},{"$f":"COUNTIF(I3:I32,Accueil!$B$18)","v":1},{"$f":"COUNTIF(J3:J32,Accueil!$B$18)","v":0},{"$f":"COUNTIF(K3:K32,Accueil!$B$18)","v":0},{"$f":"COUNTIF(L3:L32,Accueil!$B$18)","v":1},{"$f":"COUNTIF(M3:M32,Accueil!$B$18)","v":0},{"$f":"COUNTIF(N3:N32,Accueil!$B$18)","v":0},{"$f":"COUNTIF(O3:O32,Accueil!$B$18)","v":0},{"$f":"COUNTIF(P3:P32,Accueil!$B$18)","v":0},{"$f":"COUNTIF(Q3:Q32,Accueil!$B$18)","v":0},{"$f":"COUNTIF(R3:R32,Accueil!$B$18)","v":0},{"$f":"COUNTIF(S3:S32,Accueil!$B$18)","v":1},{"$f":"COUNTIF(T3:T32,Accueil!$B$18)","v":0},{"$f":"COUNTIF(U3:U32,Accueil!$B$18)","v":0},{"$f":"COUNTIF(V3:V32,Accueil!$B$18)","v":0},{"$f":"COUNTIF(W3:W32,Accueil!$B$18)","v":0},{"$f":"COUNTIF(X3:X32,Accueil!$B$18)","v":0},{"$f":"COUNTIF(Y3:Y32,Accueil!$B$18)","v":0},{"$f":"COUNTIF(Z3:Z32,Accueil!$B$18)","v":1},{"$f":"COUNTIF(AA3:AA32,Accueil!$B$18)","v":0},{"$f":"COUNTIF(AB3:AB32,Accueil!$B$18)","v":0},{"$f":"COUNTIF(AC3:AC32,Accueil!$B$18)","v":0},{"$f":"COUNTIF(AD3:AD32,Accueil!$B$18)","v":0},{"$f":"COUNTIF(AE3:AE32,Accueil!$B$18)","v":0},{"$f":"COUNTIF(AF3:AF32,Accueil!$B$18)","v":0},{"$f":"COUNTIF(AG3:AG32,Accueil!$B$18)","v":1}]
[{"$f":"Juil!A46","v":0},{"$f":" \"Effectif minimum \" & Accueil!$B$19 & \" \"","v":"Effectif minimum ST "},{"$f":"COUNTIF(C3:C32,Accueil!$B$19)","v":0},{"$f":"COUNTIF(D3:D32,Accueil!$B$19)","v":0},{"$f":"COUNTIF(E3:E32,Accueil!$B$19)","v":0},{"$f":"COUNTIF(F3:F32,Accueil!$B$19)","v":0},{"$f":"COUNTIF(G3:G32,Accueil!$B$19)","v":0},{"$f":"COUNTIF(H3:H32,Accueil!$B$19)","v":0},{"$f":"COUNTIF(I3:I32,Accueil!$B$19)","v":0},{"$f":"COUNTIF(J3:J32,Accueil!$B$19)","v":0},{"$f":"COUNTIF(K3:K32,Accueil!$B$19)","v":0},{"$f":"COUNTIF(L3:L32,Accueil!$B$19)","v":0},{"$f":"COUNTIF(M3:M32,Accueil!$B$19)","v":0},{"$f":"COUNTIF(N3:N32,Accueil!$B$19)","v":0},{"$f":"COUNTIF(O3:O32,Accueil!$B$19)","v":0},{"$f":"COUNTIF(P3:P32,Accueil!$B$19)","v":0},{"$f":"COUNTIF(Q3:Q32,Accueil!$B$19)","v":0},{"$f":"COUNTIF(R3:R32,Accueil!$B$19)","v":0},{"$f":"COUNTIF(S3:S32,Accueil!$B$19)","v":0},{"$f":"COUNTIF(T3:T32,Accueil!$B$19)","v":0},{"$f":"COUNTIF(U3:U32,Accueil!$B$19)","v":0},{"$f":"COUNTIF(V3:V32,Accueil!$B$19)","v":0},{"$f":"COUNTIF(W3:W32,Accueil!$B$19)","v":0},{"$f":"COUNTIF(X3:X32,Accueil!$B$19)","v":0},{"$f":"COUNTIF(Y3:Y32,Accueil!$B$19)","v":0},{"$f":"COUNTIF(Z3:Z32,Accueil!$B$19)","v":0},{"$f":"COUNTIF(AA3:AA32,Accueil!$B$19)","v":0},{"$f":"COUNTIF(AB3:AB32,Accueil!$B$19)","v":0},{"$f":"COUNTIF(AC3:AC32,Accueil!$B$19)","v":0},{"$f":"COUNTIF(AD3:AD32,Accueil!$B$19)","v":0},{"$f":"COUNTIF(AE3:AE32,Accueil!$B$19)","v":0},{"$f":"COUNTIF(AF3:AF32,Accueil!$B$19)","v":0},{"$f":"COUNTIF(AG3:AG32,Accueil!$B$19)","v":0}]
[1,{"$f":"\"Effectif minimum \" & Accueil!$B$16","v":"Effectif minimum Nuit"},{"$f":"COUNTIF(C3:C32,Accueil!$B$16)","v":0},{"$f":"COUNTIF(D3:D32,Accueil!$B$16)","v":0},{"$f":"COUNTIF(E3:E32,Accueil!$B$16)","v":0},{"$f":"COUNTIF(F3:F32,Accueil!$B$16)","v":0},{"$f":"COUNTIF(G3:G32,Accueil!$B$16)","v":0},{"$f":"COUNTIF(H3:H32,Accueil!$B$16)","v":0},{"$f":"COUNTIF(I3:I32,Accueil!$B$16)","v":0},{"$f":"COUNTIF(J3:J32,Accueil!$B$16)","v":0},{"$f":"COUNTIF(K3:K32,Accueil!$B$16)","v":0},{"$f":"COUNTIF(L3:L32,Accueil!$B$16)","v":0},{"$f":"COUNTIF(M3:M32,Accueil!$B$16)","v":0},{"$f":"COUNTIF(N3:N32,Accueil!$B$16)","v":0},{"$f":"COUNTIF(O3:O32,Accueil!$B$16)","v":0},{"$f":"COUNTIF(P3:P32,Accueil!$B$16)","v":0},{"$f":"COUNTIF(Q3:Q32,Accueil!$B$16)","v":0},{"$f":"COUNTIF(R3:R32,Accueil!$B$16)","v":0},{"$f":"COUNTIF(S3:S32,Accueil!$B$16)","v":0},{"$f":"COUNTIF(T3:T32,Accueil!$B$16)","v":0},{"$f":"COUNTIF(U3:U32,Accueil!$B$16)","v":0},{"$f":"COUNTIF(V3:V32,Accueil!$B$16)","v":0},{"$f":"COUNTIF(W3:W32,Accueil!$B$16)","v":0},{"$f":"COUNTIF(X3:X32,Accueil!$B$16)","v":0},{"$f":"COUNTIF(Y3:Y32,Accueil!$B$16)","v":0},{"$f":"COUNTIF(Z3:Z32,Accueil!$B$16)","v":0},{"$f":"COUNTIF(AA3:AA32,Accueil!$B$16)","v":0},{"$f":"COUNTIF(AB3:AB32,Accueil!$B$16)","v":0},{"$f":"COUNTIF(AC3:AC32,Accueil!$B$16)","v":0},{"$f":"COUNTIF(AD3:AD32,Accueil!$B$16)","v":0},{"$f":"COUNTIF(AE3:AE32,Accueil!$B$16)","v":0},{"$f":"COUNTIF(AF3:AF32,Accueil!$B$16)","v":0},{"$f":"COUNTIF(AG3:AG32,Accueil!$B$16)","v":0}]

{"sheet":"Sept","index":10,"n_rows":47,"n_cols":99,"rows_kept":47,"cut":false,"hidden":false,"merged":[[0,92,0,94],[0,96,0,98],[1,0,1,1],[2,0,2,1],[0,0,0,1],[0,84,0,86],[0,88,0,90],[3,0,3,1],[4,0,4,1],[5,0,5,1],[12,0,12,1],[6,0,6,1],[13,0,13,1],[14,0,14,1],[7,0,7,1],[8,0,8,1],[9,0,9,1],[10,0,10,1],[11,0,11,1],[19,0,19,1],[20,0,20,1],[21,0,21,1],[22,0,22,1],[15,0,15,1],[16,0,16,1],[17,0,17,1],[18,0,18,1],[23,0,23,1],[24,0,24,1],[25,0,25,1],[26,0,26,1],[31,0,31,1],[27,0,27,1],[28,0,28,1],[29,0,29,1],[30,0,30,1]]}
[{"$f":"DATE(Accueil!C2,9,1)","v":"2016-09-01"},null,{"$f":"INDEX({\"D\";\"L\";\"M\";\"M\";\"J\";\"V\";\"S\"},WEEKDAY(C2))","v":"J"},{"$f":"INDEX({\"D\";\"L\";\"M\";\"M\";\"J\";\"V\";\"S\"},WEEKDAY(D2))","v":"V"},{"$f":"INDEX({\"D\";\"L\";\"M\";\"M\";\"J\";\"V\";\"S\"},WEEKDAY(E2))","v":"S"},{"$f":"INDEX({\"D\";\"L\";\"M\";\"M\";\"J\";\"V\";\"S\"},WEEKDAY(F2))","v":"D"},{"$f":"INDEX({\"D\";\"L\";\"M\";\"M\";\"J\";\"V\";\"S\"},WEEKDAY(G2))","v":"L"},{"$f":"INDEX({\"D\";\"L\";\"M\";\"M\";\"J\";\"V\";\"S\"},WEEKDAY(H2))","v":"M"},{"$f":"INDEX({\"D\";\"L\";\"M\";\"M\";\"J\";\"V\";\"S\"},WEEKDAY(I2))","v":"M"},{"$f":"INDEX({\"D\";\"L\";\"M\";\"M\";\"J\";\"V\";\"S\"},WEEKDAY(J2))","v":"J"},{"$f":"INDEX({\"D\";\"L\";\"M\";\"M\";\"J\";\"V\";\"S\"},WEEKDAY(K2))","v":"V"},{"$f":"INDEX({\"D\";\"L\";\"M\";\"M\";\"J\";\"V\";\"S\"},WEEKDAY(L2))","v":"S"},{"$f":"INDEX({\"D\";\"L\";\"M\";\"M\";\"J\";\"V\";\"S\"},WEEKDAY(M2))","v":"D"},{"$f":"INDEX({\"D\";\"L\";\"M\";\"M\";\"J\";\"V\";\"S\"},WEEKDAY(N2))","v":"L"},{"$f":"INDEX({\"D\";\"L\";\"M\";\"M\";\"J\";\"V\";\"S\"},WEEKDAY(O2))","v":"M"},{"$f":"INDEX({\"D\";\"L\";\"M\";\"M\";\"J\";\"V\";\"S\"},WEEKDAY(P2))","v":"M"},{"$f":"INDEX({\"D\";\"L\";\"M\";\"M\";\"J\";\"V\";\"S\"},WEEKDAY(Q2))","v":"J"},{"$f":"INDEX({\"D\";\"L\";\"M\";\"M\";\"J\";\"V\";\"S\"},WEEKDAY(R2))","v":"V"},{"$f":"INDEX({\"D\";\"L\";\"M\";\"M\";\"J\";\"V\";\"S\"},WEEKDAY(S2))","v":"S"},{"$f":"INDEX({\"D\";\"L\";\"M\";\"M\";\"J\";\"V\";\"S\"},WEEKDAY(T2))","v":"D"},{"$f":"INDEX({\"D\";\"L\";\"M\";\"M\";\"J\";\"V\";\"S\"},WEEKDAY(U2))","v":"L"},{"$f":"INDEX({\"D\";\"L\";\"M\";\"M\";\"J\";\"V\";\"S\"},WEEKDAY(V2))","v":"M"},{"$f":"INDEX({\"D\";\"L\";\"M\";\"M\";\"J\";\"V\";\"S\"},WEEKDAY(W2))","v":"M"},{"$f":"INDEX({\"D\";\"L\";\"M\";\"M\";\"J\";\"V\";\"S\"},WEEKDAY(X2))","v":"J"},{"$f":"INDEX({\"D\";\"L\";\"M\";\"M\";\"J\";\"V\";\"S\"},WEEKDAY(Y2))","v":"V"},{"$f":"INDEX({\"D\";\"L\";\"M\";\"M\";\"J\";\"V\";\"S\"},WEEKDAY(Z2))","v":"S"},{"$f":"INDEX({\"D\";\"L\";\"M\";\"M\";\"J\";\"V\";\"S\"},WEEKDAY(AA2))","v":"D"},{"$f":"INDEX({\"D\";\"L\";\"M\";\"M\";\"J\";\"V\";\"S\"},WEEKDAY(AB2))","v":"L"},{"$f":"INDEX({\"D\";\"L\";\"M\";\"M\";\"J\";\"V\";\"S\"},WEEKDAY(AC2))","v":"M"},{"$f":"INDEX({\"D\";\"L\";\"M\";\"M\";\"J\";\"V\";\"S\"},WEEKDAY(AD2))","v":"M"},{"$f":"INDEX({\"D\";\"L\";\"M\";\"M\";\"J\";\"V\";\"S\"},WEEKDAY(AE2))","v":"J"},{"$f":"INDEX({\"D\";\"L\";\"M\";\"M\";\"J\";\"V\";\"S\"},WEEKDAY(AF2))","v":"V"},{"$f":"INDEX({\"D\";\"L\";\"M\";\"M\";\"J\";\"V\";\"S\"},WEEKDAY(AG2))","v":"S"},null,"Bilan mensuel",null,null,null,null,null,null,null,null,null,null,null,null,null,null,null,null,null,null,null,null,null,null,"Total jours",null,"Bilan annuel",null,null,null,null,null,null,null,null,null,null,null,null,null,null,null,null,null,null,null,null,null,null,"Total jours",null,"Bilan congès annuels",null,null,null,"Bilan Enfant malade",null,null,null,"Bilan RH aministratif",null,null,null,"Bilan RH employé"]
[{"$f":"Accueil!J2","v":"Educatif"},null,{"$f":"A1","v":"2016-09-01"},{"$f":"C2+1","v":"2016-09-02"},"2016-09-03","2016-09-04","2016-09-05","2016-09-06","2016-09-07","2016-09-08","2016-09-09","2016-09-10","2016-09-11","2016-09-12","2016-09-13","2016-09-14","2016-09-15","2016-09-16","2016-09-17","2016-09-18","2016-09-19","2016-09-20","2016-09-21","2016-09-22","2016-09-23","2016-09-24","2016-09-25","2016-09-26","2016-09-27","2016-09-28","2016-09-29","2016-09-30","2016-10-01",null,{"$f":"Accueil!$B$8","v":"M1"},{"$f":"Accueil!$B$9","v":"M2"},{"$f":"Accueil!B10","v":"M3"},{"$f":"Accueil!$B$11","v":"MP"},{"$f":"Accueil!$B$12","v":"AP1"},{"$f":"Accueil!B13","v":"AP2"},{"$f":"Accueil!B14","v":"AP3"},{"$f":"Accueil!$B$15","v":"P1"},{"$f":"Accueil!$B$16","v":"Nuit"},{"$f":"Accueil!$B$17","v":"BI"},{"$f":"Accueil!$B$18","v":"LY"},{"$f":"Accueil!$B$19","v":"ST"},{"$f":"Accueil!$B$20","v":"IND"},{"$f":"Accueil!$B$21","v":0},{"$f":"Accueil!$B$22","v":0},{"$f":"Accueil!$B$23","v":"Vac"},{"$f":"Accueil!$B$24","v":"Mal"},{"$f":"Accueil!$B$25","v":"Mat"},{"$f":"Accueil!$B$26","v":"CC"},{"$f":"Accueil!$B$27","v":"F"},{"$f":"Accueil!$B$28","v":"Enf"},{"$f":"Accueil!$B$29","v":"CP"},{"$f":"Accueil!$B$30","v":0},"travaillés",null,{"$f":"AI2","v":"M1"},"M2","M3","MP","AP1","AP2","AP3","P1","Nuit","BI","LY","ST","IND",0,0,"Vac","Mal","Mat","CC","F","Enf","CP",0,"travaillés",null,"capital","pris","restant",null,"capital","pris","restant",null,"capital","pris","restant",null,"capital","pris","restant"]
[{"$f":"Aout!A3","v":"Anne"},null,null,"Vac","Vac","Vac","Vac","Vac","Vac","Vac","Vac","Vac","Vac","Vac","Vac","Vac","Vac","Vac","Vac","Vac",null,"MP",null,null,"M1",null,null,null,"MP",null,null,"M1",null,null,{"$f":"COUNTIF(C3:AG3,Accueil!$B$8)","v":2},{"$f":"COUNTIF(C3:AG3,Accueil!$B$9)","v":0},{"$f":"COUNTIF(C3:AG3,Accueil!$B$10)","v":0},{"$f":"COUNTIF(C3:AG3,Accueil!$B$11)","v":2},{"$f":"COUNTIF(C3:AG3,Accueil!$B$12)","v":0},{"$f":"COUNTIF(C3:AG3,Accueil!$B$13)","v":0},{"$f":"COUNTIF(C3:AG3,Accueil!$B$14)","v":0},{"$f":"COUNTIF(C3:AG3,Accueil!$B$15)","v":0},{"$f":"COUNTIF(C3:AG3,Accueil!$B$16)","v":0},{"$f":"COUNTIF(C3:AG3,Accueil!$B$17)","v":0},{"$f":"COUNTIF(C3:AG3,Accueil!$B$18)","v":0},{"$f":"COUNTIF(C3:AG3,Accueil!$B$19)","v":0},{"$f":"COUNTIF(C3:AG3,Accueil!$B$20)","v":0},{"$f":"COUNTIF(C3:AG3,Accueil!$B$21)","v":0},{"$f":"COUNTIF(C3:AG3,Accueil!$B$22)","v":0},{"$f":"COUNTIF(C3:AG3,Accueil!$B$23)","v":17},{"$f":"COUNTIF(C3:AG3,Accueil!$B$24)","v":0},{"$f":"COUNTIF(C3:AG3,Accueil!$B$25)","v":0},{"$f":"COUNTIF(C3:AG3,Accueil!$B$26)","v":0},{"$f":"COUNTIF(C3:AG3,Accueil!$B$27)","v":0},{"$f":"COUNTIF(C3:AG3,Accueil!$B$28)","v":0},{"$f":"COUNTIF(C3:AG3,Accueil!$B$29)","v":0},{"$f":"COUNTIF(C3:AG3,Accueil!$B$30)","v":0},{"$f":"SUM($AI3:$AT3)+($AW3*0.5)","v":4},null,{"$f":"AI3 +Aout!BH3","v":24},{"$f":"AJ3+Aout!BI3","v":0},{"$f":"AK3+Aout!BJ3","v":0},{"$f":"AL3+Aout!BK3","v":44},{"$f":"AM3+Aout!BL3","v":5},{"$f":"AN3+Aout!BM3","v":0},{"$f":"AO3+Aout!BN3","v":0},{"$f":"AP3+Aout!BO3","v":0},{"$f":"AQ3+Aout!BP3","v":0},{"$f":"AR3+Aout!BQ3","v":0},{"$f":"AS3+Aout!BR3","v":0},{"$f":"AT3+Aout!BS3","v":0},{"$f":"AU3+Aout!BT3","v":0},{"$f":"AV3+Aout!BU3","v":0},{"$f":"AW3+Aout!BV3","v":0},{"$f":"AX3+Aout!BW3","v":55},{"$f":"AY3+Aout!BX3","v":1},{"$f":"AZ3+Aout!BY3","v":0},{"$f":"BA3+Aout!BZ3","v":0},{"$f":"BB3+Aout!CA3","v":0},{"$f":"BC3+Aout!CB3","v":0},{"$f":"BD3+Aout!CC3","v":0},{"$f":"BE3+Aout!CD3","v":0},{"$f":"BF3+Aout!CE3","v":73},null,{"$f":"Aout!CG3","v":0},{"$f":"0.5*($BV3)+($BW3)","v":55},{"$f":"CG3-CH3","v":-55},null,{"$f":"Aout!CK3","v":0},{"$f":"$CB3","v":0},{"$f":"CK3-CL3","v":0},null,{"$f":"Aout!CO3","v":0},{"$f":"$CC3","v":0},{"$f":"CO3-CP3","v":0},null,{"$f":"Aout!CS3","v":0},{"$f":"$CD3","v":0},{"$f":"CS3-CT3","v":0}]
[{"$f":"Aout!A4","v":0},null,null,null,null,null,null,null,null,null,null,null,null,null,null,null,null,null,null,null,null,null,null,null,null,null,null,null,null,null,null,null,null,null,{"$f":"COUNTIF(C4:AG4,Accueil!$B$8)","v":0},{"$f":"COUNTIF(C4:AG4,Accueil!$B$9)","v":0},{"$f":"COUNTIF(C4:AG4,Accueil!$B$10)","v":0},{"$f":"COUNTIF(C4:AG4,Accueil!$B$11)","v":0},{"$f":"COUNTIF(C4:AG4,Accueil!$B$12)","v":0},{"$f":"COUNTIF(C4:AG4,Accueil!$B$13)","v":0},{"$f":"COUNTIF(C4:AG4,Accueil!$B$14)","v":0},{"$f":"COUNTIF(C4:AG4,Accueil!$B$15)","v":0},{"$f":"COUNTIF(C4:AG4,Accueil!$B$16)","v":0},{"$f":"COUNTIF(C4:AG4,Accueil!$B$17)","v":0},{"$f":"COUNTIF(C4:AG4,Accueil!$B$18)","v":0},{"$f":"COUNTIF(C4:AG4,Accueil!$B$19)","v":0},{"$f":"COUNTIF(C4:AG4,Accueil!$B$20)","v":0},{"$f":"COUNTIF(C4:AG4,Accueil!$B$21)","v":0},{"$f":"COUNTIF(C4:AG4,Accueil!$B$22)","v":0},{"$f":"COUNTIF(C4:AG4,Accueil!$B$23)","v":0},{"$f":"COUNTIF(C4:AG4,Accueil!$B$24)","v":0},{"$f":"COUNTIF(C4:AG4,Accueil!$B$25)","v":0},{"$f":"COUNTIF(C4:AG4,Accueil!$B$26)","v":0},{"$f":"COUNTIF(C4:AG4,Accueil!$B$27)","v":0},{"$f":"COUNTIF(C4:AG4,Accueil!$B$28)","v":0},{"$f":"COUNTIF(C4:AG4,Accueil!$B$29)","v":0},{"$f":"COUNTIF(C4:AG4,Accueil!$B$30)","v":0},0,null,{"$f":"AI4 +Aout!BH4","v":0},{"$f":"AJ4+Aout!BI4","v":0},{"$f":"AK4+Aout!BJ4","v":0},{"$f":"AL4+Aout!BK4","v":0},{"$f":"AM4+Aout!BL4","v":0},{"$f":"AN4+Aout!BM4","v":0},{"$f":"AO4+Aout!BN4","v":0},{"$f":"AP4+Aout!BO4","v":0},{"$f":"AQ4+Aout!BP4","v":0},{"$f":"AR4+Aout!BQ4","v":0},{"$f":"AS4+Aout!BR4","v":1},{"$f":"AT4+Aout!BS4","v":0},{"$f":"AU4+Aout!BT4","v":0},{"$f":"AV4+Aout!BU4","v":0},{"$f":"AW4+Aout!BV4","v":0},{"$f":"AX4+Aout!BW4","v":0},{"$f":"AY4+Aout!BX4","v":0},{"$f":"AZ4+Aout!BY4","v":0},{"$f":"BA4+Aout!BZ4","v":0},{"$f":"BB4+Aout!CA4","v":0},{"$f":"BC4+Aout!CB4","v":0},{"$f":"BD4+Aout!CC4","v":0},{"$f":"BE4+Aout!CD4","v":0},{"$f":"BF4+Aout!CE4","v":1},null,{"$f":"Aout!CG4","v":0},0,0,null,{"$f":"Aout!CK4","v":0},0,0,null,{"$f":"Aout!CO4","v":0},0,0,null,{"$f":"Aout!CS4","v":0},0,0]
[{"$f":"Aout!A5","v":"Elodie"},null,"AP1","AP2",null,"MP",null,"M1","M1","Vac","Vac","Vac","Vac","Vac","M1","MP","M1",null,null,null,"M1","M1","M1","AP1",null,null,"MP",null,"M1","M1","AP1",null,null,null,{"$f":"COUNTIF(C5:AG5,Accueil!$B$8)","v":9},{"$f":"COUNTIF(C5:AG5,Accueil!$B$9)","v":0},{"$f":"COUNTIF(C5:AG5,Accueil!$B$10)","v":0},{"$f":"COUNTIF(C5:AG5,Accueil!$B$11)","v":3},{"$f":"COUNTIF(C5:AG5,Accueil!$B$12)","v":3},{"$f":"COUNTIF(C5:AG5,Accueil!$B$13)","v":1},{"$f":"COUNTIF(C5:AG5,Accueil!$B$14)","v":0},{"$f":"COUNTIF(C5:AG5,Accueil!$B$15)","v":0},{"$f":"COUNTIF(C5:AG5,Accueil!$B$16)","v":0},{"$f":"COUNTIF(C5:AG5,Accueil!$B$17)","v":0},{"$f":"COUNTIF(C5:AG5,Accueil!$B$18)","v":0},{"$f":"COUNTIF(C5:AG5,Accueil!$B$19)","v":0},{"$f":"COUNTIF(C5:AG5,Accueil!$B$20)","v":0},{"$f":"COUNTIF(C5:AG5,Accueil!$B$21)","v":0},{"$f":"COUNTIF(C5:AG5,Accueil!$B$22)","v":0},{"$f":"COUNTIF(C5:AG5,Accueil!$B$23)","v":5},{"$f":"COUNTIF(C5:AG5,Accueil!$B$24)","v":0},{"$f":"COUNTIF(C5:AG5,Accueil!$B$25)","v":0},{"$f":"COUNTIF(C5:AG5,Accueil!$B$26)","v":0},{"$f":"COUNTIF(C5:AG5,Accueil!$B$27)","v":0},{"$f":"COUNTIF(C5:AG5,Accueil!$B$28)","v":0},{"$f":"COUNTIF(C5:AG5,Accueil!$B$29)","v":0},{"$f":"COUNTIF(C5:AG5,Accueil!$B$30)","v":0},16,null,{"$f":"AI5 +Aout!BH5","v":82},{"$f":"AJ5+Aout!BI5","v":0},{"$f":"AK5+Aout!BJ5","v":0},{"$f":"AL5+Aout!BK5","v":23},{"$f":"AM5+Aout!BL5","v":30},{"$f":"AN5+Aout!BM5","v":5},{"$f":"AO5+Aout!BN5","v":0},{"$f":"AP5+Aout!BO5","v":0},{"$f":"AQ5+Aout!BP5","v":0},{"$f":"AR5+Aout!BQ5","v":0},{"$f":"AS5+Aout!BR5","v":0},{"$f":"AT5+Aout!BS5","v":0},{"$f":"AU5+Aout!BT5","v":5},{"$f":"AV5+Aout!BU5","v":0},{"$f":"AW5+Aout!BV5","v":0},{"$f":"AX5+Aout!BW5","v":38},{"$f":"AY5+Aout!BX5","v":0},{"$f":"AZ5+Aout!BY5","v":0},{"$f":"BA5+Aout!BZ5","v":1},{"$f":"BB5+Aout!CA5","v":1},{"$f":"BC5+Aout!CB5","v":0},{"$f":"BD5+Aout!CC5","v":0},{"$f":"BE5+Aout!CD5","v":0},{"$f":"BF5+Aout!CE5","v":140},null,{"$f":"Aout!CG5","v":0},38,-38,null,{"$f":"Aout!CK5","v":0},0,0,null,{"$f":"Aout!CO5","v":0},0,0,null,{"$f":"Aout!CS5","v":0},0,0]
[{"$f":"Aout!A6","v":0},null,null,null,null,null,null,null,null,null,null,null,null,null,null,null,null,null,null,null,null,null,null,null,null,null,null,null,null,null,null,null,null,null,{"$f":"COUNTIF(C6:AG6,Accueil!$B$8)","v":0},{"$f":"COUNTIF(C6:AG6,Accueil!$B$9)","v":0},{"$f":"COUNTIF(C6:AG6,Accueil!$B$10)","v":0},{"$f":"COUNTIF(C6:AG6,Accueil!$B$11)","v":0},{"$f":"COUNTIF(C6:AG6,Accueil!$B$12)","v":0},{"$f":"COUNTIF(C6:AG6,Accueil!$B$13)","v":0},{"$f":"COUNTIF(C6:AG6,Accueil!$B$14)","v":0},{"$f":"COUNTIF(C6:AG6,Accueil!$B$15)","v":0},{"$f":"COUNTIF(C6:AG6,Accueil!$B$16)","v":0},{"$f":"COUNTIF(C6:AG6,Accueil!$B$17)","v":0},{"$f":"COUNTIF(C6:AG6,Accueil!$B$18)","v":0},{"$f":"COUNTIF(C6:AG6,Accueil!$B$19)","v":0},{"$f":"COUNTIF(C6:AG6,Accueil!$B$20)","v":0},{"$f":"COUNTIF(C6:AG6,Accueil!$B$21)","v":0},{"$f":"COUNTIF(C6:AG6,Accueil!$B$22)","v":0},{"$f":"COUNTIF(C6:AG6,Accueil!$B$23)","v":0},{"$f":"COUNTIF(C6:AG6,Accueil!$B$24)","v":0},{"$f":"COUNTIF(C6:AG6,Accueil!$B$25)","v":0},{"$f":"COUNTIF(C6:AG6,Accueil!$B$26)","v":0},{"$f":"COUNTIF(C6:AG6,Accueil!$B$27)","v":0},{"$f":"COUNTIF(C6:AG6,Accueil!$B$28)","v":0},{"$f":"COUNTIF(C6:AG6,Accueil!$B$29)","v":0},{"$f":"COUNTIF(C6:AG6,Accueil!$B$30)","v":0},0,null,{"$f":"AI6 +Aout!BH6","v":0},{"$f":"AJ6+Aout!BI6","v":0},{"$f":"AK6+Aout!BJ6","v":0},{"$f":"AL6+Aout!BK6","v":0},{"$f":"AM6+Aout!BL6","v":0},{"$f":"AN6+Aout!BM6","v":1},{"$f":"AO6+Aout!BN6","v":0},{"$f":"AP6+Aout!BO6","v":0},{"$f":"AQ6+Aout!BP6","v":0},{"$f":"AR6+Aout!BQ6","v":0},{"$f":"AS6+Aout!BR6","v":1},{"$f":"AT6+Aout!BS6","v":0},{"$f":"AU6+Aout!BT6","v":0},{"$f":"AV6+Aout!BU6","v":0},{"$f":"AW6+Aout!BV6","v":0},{"$f":"AX6+Aout!BW6","v":0},{"$f":"AY6+Aout!BX6","v":0},{"$f":"AZ6+Aout!BY6","v":0},{"$f":"BA6+Aout!BZ6","v":0},{"$f":"BB6+Aout!CA6","v":0},{"$f":"BC6+Aout!CB6","v":0},{"$f":"BD6+Aout!CC6","v":0},{"$f":"BE6+Aout!CD6","v":0},{"$f":"BF6+Aout!CE6","v":2},null,{"$f":"Aout!CG6","v":0},0,0,null,{"$f":"Aout!CK6","v":0},0,0,null,{"$f":"Aout!CO6","v":0},0,0,null,{"$f":"Aout!CS6","v":0},0,0]
[{"$f":"Aout!A7","v":"Eve-Marie"},null,"AP1","M1",null,null,null,"M1",null,null,"M1",null,null,null,"M1",null,"AP1","M1",null,null,null,"M1",null,"AP1","M1",null,null,null,"M1",null,"AP1","M1",null,null,{"$f":"COUNTIF(C7:AG7,Accueil!$B$8)","v":9},{"$f":"COUNTIF(C7:AG7,Accueil!$B$9)","v":0},{"$f":"COUNTIF(C7:AG7,Accueil!$B$10)","v":0},{"$f":"COUNTIF(C7:AG7,Accueil!$B$11)","v":0},{"$f":"COUNTIF(C7:AG7,Accueil!$B$12)","v":4},{"$f":"COUNTIF(C7:AG7,Accueil!$B$13)","v":0},{"$f":"COUNTIF(C7:AG7,Accueil!$B$14)","v":0},{"$f":"COUNTIF(C7:AG7,Accueil!$B$15)","v":0},{"$f":"COUNTIF(C7:AG7,Accueil!$B$16)","v":0},{"$f":"COUNTIF(C7:AG7,Accueil!$B$17)","v":0},{"$f":"COUNTIF(C7:AG7,Accueil!$B$18)","v":0},{"$f":"COUNTIF(C7:AG7,Accueil!$B$19)","v":0},{"$f":"COUNTIF(C7:AG7,Accueil!$B$20)","v":0},{"$f":"COUNTIF(C7:AG7,Accueil!$B$21)","v":0},{"$f":"COUNTIF(C7:AG7,Accueil!$B$22)","v":0},{"$f":"COUNTIF(C7:AG7,Accueil!$B$23)","v":0},{"$f":"COUNTIF(C7:AG7,Accueil!$B$24)","v":0},{"$f":"COUNTIF(C7:AG7,Accueil!$B$25)","v":0},{"$f":"COUNTIF(C7:AG7,Accueil!$B$26)","v":0},{"$f":"COUNTIF(C7:AG7,Accueil!$B$27)","v":0},{"$f":"COUNTIF(C7:AG7,Accueil!$B$28)","v":0},{"$f":"COUNTIF(C7:AG7,Accueil!$B$29)","v":0},{"$f":"COUNTIF(C7:AG7,Accueil!$B$30)","v":0},13,null,{"$f":"AI7 +Aout!BH7","v":61},{"$f":"AJ7+Aout!BI7","v":1},{"$f":"AK7+Aout!BJ7","v":0},{"$f":"AL7+Aout!BK7","v":17},{"$f":"AM7+Aout!BL7","v":36},{"$f":"AN7+Aout!BM7","v":2},{"$f":"AO7+Aout!BN7","v":1},{"$f":"AP7+Aout!BO7","v":0},{"$f":"AQ7+Aout!BP7","v":0},{"$f":"AR7+Aout!BQ7","v":0},{"$f":"AS7+Aout!BR7","v":0},{"$f":"AT7+Aout!BS7","v":0},{"$f":"AU7+Aout!BT7","v":0},{"$f":"AV7+Aout!BU7","v":0},{"$f":"AW7+Aout!BV7","v":0},{"$f":"AX7+Aout!BW7","v":31},{"$f":"AY7+Aout!BX7","v":0},{"$f":"AZ7+Aout!BY7","v":0},{"$f":"BA7+Aout!BZ7","v":3},{"$f":"BB7+Aout!CA7","v":0},{"$f":"BC7+Aout!CB7","v":0},{"$f":"BD7+Aout!CC7","v":0},{"$f":"BE7+Aout!CD7","v":0},{"$f":"BF7+Aout!CE7","v":118},null,{"$f":"Aout!CG7","v":0},31,-31,null,{"$f":"Aout!CK7","v":0},0,0,null,{"$f":"Aout!CO7","v":0},0,0,null,{"$f":"Aout!CS7","v":0},0,0]
[{"$f":"Aout!A8","v":0},null,null,null,null,null,null,null,null,null,null,null,null,null,null,null,null,null,null,null,null,null,null,null,null,null,null,null,null,null,null,null,null,null,{"$f":"COUNTIF(C8:AG8,Accueil!$B$8)","v":0},{"$f":"COUNTIF(C8:AG8,Accueil!$B$9)","v":0},{"$f":"COUNTIF(C8:AG8,Accueil!$B$10)","v":0},{"$f":"COUNTIF(C8:AG8,Accueil!$B$11)","v":0},{"$f":"COUNTIF(C8:AG8,Accueil!$B$12)","v":0},{"$f":"COUNTIF(C8:AG8,Accueil!$B$13)","v":0},{"$f":"COUNTIF(C8:AG8,Accueil!$B$14)","v":0},{"$f":"COUNTIF(C8:AG8,Accueil!$B$15)","v":0},{"$f":"COUNTIF(C8:AG8,Accueil!$B$16)","v":0},{"$f":"COUNTIF(C8:AG8,Accueil!$B$17)","v":0},{"$f":"COUNTIF(C8:AG8,Accueil!$B$18)","v":0},{"$f":"COUNTIF(C8:AG8,Accueil!$B$19)","v":0},{"$f":"COUNTIF(C8:AG8,Accueil!$B$20)","v":0},{"$f":"COUNTIF(C8:AG8,Accueil!$B$21)","v":0},{"$f":"COUNTIF(C8:AG8,Accueil!$B$22)","v":0},{"$f":"COUNTIF(C8:AG8,Accueil!$B$23)","v":0},{"$f":"COUNTIF(C8:AG8,Accueil!$B$24)","v":0},{"$f":"COUNTIF(C8:AG8,Accueil!$B$25)","v":0},{"$f":"COUNTIF(C8:AG8,Accueil!$B$26)","v":0},{"$f":"COUNTIF(C8:AG8,Accueil!$B$27)","v":0},{"$f":"COUNTIF(C8:AG8,Accueil!$B$28)","v":0},{"$f":"COUNTIF(C8:AG8,Accueil!$B$29)","v":0},{"$f":"COUNTIF(C8:AG8,Accueil!$B$30)","v":0},0,null,{"$f":"AI8 +Aout!BH8","v":0},{"$f":"AJ8+Aout!BI8","v":0},{"$f":"AK8+Aout!BJ8","v":0},{"$f":"AL8+Aout!BK8","v":0},{"$f":"AM8+Aout!BL8","v":0},{"$f":"AN8+Aout!BM8","v":0},{"$f":"AO8+Aout!BN8","v":0},{"$f":"AP8+Aout!BO8","v":0},{"$f":"AQ8+Aout!BP8","v":0},{"$f":"AR8+Aout!BQ8","v":0},{"$f":"AS8+Aout!BR8","v":1},{"$f":"AT8+Aout!BS8","v":0},{"$f":"AU8+Aout!BT8","v":0},{"$f":"AV8+Aout!BU8","v":0},{"$f":"AW8+Aout!BV8","v":0},{"$f":"AX8+Aout!BW8","v":0},{"$f":"AY8+Aout!BX8","v":0},{"$f":"AZ8+Aout!BY8","v":0},{"$f":"BA8+Aout!BZ8","v":0},{"$f":"BB8+Aout!CA8","v":0},{"$f":"BC8+Aout!CB8","v":0},{"$f":"BD8+Aout!CC8","v":0},{"$f":"BE8+Aout!CD8","v":0},{"$f":"BF8+Aout!CE8","v":1},null,{"$f":"Aout!CG8","v":0},0,0,null,{"$f":"Aout!CK8","v":0},0,0,null,{"$f":"Aout!CO8","v":0},0,0,null,{"$f":"Aout!CS8","v":0},0,0]
[{"$f":"Aout!A9","v":"Isabel"},null,"Vac","Vac","Vac","Vac","Vac","Vac",null,null,null,null,null,"AP2","M1",null,null,null,null,null,"AP2","M1",null,null,null,null,null,"AP2","M1",null,null,null,null,null,{"$f":"COUNTIF(C9:AG9,Accueil!$B$8)","v":3},{"$f":"COUNTIF(C9:AG9,Accueil!$B$9)","v":0},{"$f":"COUNTIF(C9:AG9,Accueil!$B$10)","v":0},{"$f":"COUNTIF(C9:AG9,Accueil!$B$11)","v":0},{"$f":"COUNTIF(C9:AG9,Accueil!$B$12)","v":0},{"$f":"COUNTIF(C9:AG9,Accueil!$B$13)","v":3},{"$f":"COUNTIF(C9:AG9,Accueil!$B$14)","v":0},{"$f":"COUNTIF(C9:AG9,Accueil!$B$15)","v":0},{"$f":"COUNTIF(C9:AG9,Accueil!$B$16)","v":0},{"$f":"COUNTIF(C9:AG9,Accueil!$B$17)","v":0},{"$f":"COUNTIF(C9:AG9,Accueil!$B$18)","v":0},{"$f":"COUNTIF(C9:AG9,Accueil!$B$19)","v":0},{"$f":"COUNTIF(C9:AG9,Accueil!$B$20)","v":0},{"$f":"COUNTIF(C9:AG9,Accueil!$B$21)","v":0},{"$f":"COUNTIF(C9:AG9,Accueil!$B$22)","v":0},{"$f":"COUNTIF(C9:AG9,Accueil!$B$23)","v":6},{"$f":"COUNTIF(C9:AG9,Accueil!$B$24)","v":0},{"$f":"COUNTIF(C9:AG9,Accueil!$B$25)","v":0},{"$f":"COUNTIF(C9:AG9,Accueil!$B$26)","v":0},{"$f":"COUNTIF(C9:AG9,Accueil!$B$27)","v":0},{"$f":"COUNTIF(C9:AG9,Accueil!$B$28)","v":0},{"$f":"COUNTIF(C9:AG9,Accueil!$B$29)","v":0},{"$f":"COUNTIF(C9:AG9,Accueil!$B$30)","v":0},6,null,{"$f":"AI9 +Aout!BH9","v":31},{"$f":"AJ9+Aout!BI9","v":0},{"$f":"AK9+Aout!BJ9","v":0},{"$f":"AL9+Aout!BK9","v":16},{"$f":"AM9+Aout!BL9","v":1},{"$f":"AN9+Aout!BM9","v":37},{"$f":"AO9+Aout!BN9","v":0},{"$f":"AP9+Aout!BO9","v":0},{"$f":"AQ9+Aout!BP9","v":0},{"$f":"AR9+Aout!BQ9","v":0},{"$f":"AS9+Aout!BR9","v":0},{"$f":"AT9+Aout!BS9","v":0},{"$f":"AU9+Aout!BT9","v":0},{"$f":"AV9+Aout!BU9","v":0},{"$f":"AW9+Aout!BV9","v":0},{"$f":"AX9+Aout!BW9","v":41},{"$f":"AY9+Aout!BX9","v":0},{"$f":"AZ9+Aout!BY9","v":0},{"$f":"BA9+Aout!BZ9","v":0},{"$f":"BB9+Aout!CA9","v":0},{"$f":"BC9+Aout!CB9","v":0},{"$f":"BD9+Aout!CC9","v":0},{"$f":"BE9+Aout!CD9","v":0},{"$f":"BF9+Aout!CE9","v":85},null,{"$f":"Aout!CG9","v":0},41,-41,null,{"$f":"Aout!CK9","v":0},0,0,null,{"$f":"Aout!CO9","v":0},0,0,null,{"$f":"Aout!CS9","v":0},0,0]
[{"$f":"Aout!A10","v":0},null,null,null,null,null,null,null,null,null,null,null,null,null,null,null,null,null,null,null,null,null,null,null,null,null,null,null,null,null,null,null,null,null,{"$f":"COUNTIF(C10:AG10,Accueil!$B$8)","v":0},{"$f":"COUNTIF(C10:AG10,Accueil!$B$9)","v":0},{"$f":"COUNTIF(C10:AG10,Accueil!$B$10)","v":0},{"$f":"COUNTIF(C10:AG10,Accueil!$B$11)","v":0},{"$f":"COUNTIF(C10:AG10,Accueil!$B$12)","v":0},{"$f":"COUNTIF(C10:AG10,Accueil!$B$13)","v":0},{"$f":"COUNTIF(C10:AG10,Accueil!$B$14)","v":0},{"$f":"COUNTIF(C10:AG10,Accueil!$B$15)","v":0},{"$f":"COUNTIF(C10:AG10,Accueil!$B$16)","v":0},{"$f":"COUNTIF(C10:AG10,Accueil!$B$17)","v":0},{"$f":"COUNTIF(C10:AG10,Accueil!$B$18)","v":0},{"$f":"COUNTIF(C10:AG10,Accueil!$B$19)","v":0},{"$f":"COUNTIF(C10:AG10,Accueil!$B$20)","v":0},{"$f":"COUNTIF(C10:AG10,Accueil!$B$21)","v":0},{"$f":"COUNTIF(C10:AG10,Accueil!$B$22)","v":0},{"$f":"COUNTIF(C10:AG10,Accueil!$B$23)","v":0},{"$f":"COUNTIF(C10:AG10,Accueil!$B$24)","v":0},{"$f":"COUNTIF(C10:AG10,Accueil!$B$25)","v":0},{"$f":"COUNTIF(C10:AG10,Accueil!$B$26)","v":0},{"$f":"COUNTIF(C10:AG10,Accueil!$B$27)","v":0},{"$f":"COUNTIF(C10:AG10,Accueil!$B$28)","v":0},{"$f":"COUNTIF(C10:AG10,Accueil!$B$29)","v":0},{"$f":"COUNTIF(C10:AG10,Accueil!$B$30)","v":0},0,null,{"$f":"AI10 +Aout!BH10","v":0},{"$f":"AJ10+Aout!BI10","v":0},{"$f":"AK10+Aout!BJ10","v":0},{"$f":"AL10+Aout!BK10","v":0},{"$f":"AM10+Aout!BL10","v":0},{"$f":"AN10+Aout!BM10","v":0},{"$f":"AO10+Aout!BN10","v":0},{"$f":"AP10+Aout!BO10","v":0},{"$f":"AQ10+Aout!BP10","v":0},{"$f":"AR10+Aout!BQ10","v":1},{"$f":"AS10+Aout!BR10","v":2},{"$f":"AT10+Aout!BS10","v":0},{"$f":"AU10+Aout!BT10","v":0},{"$f":"AV10+Aout!BU10","v":0},{"$f":"AW10+Aout!BV10","v":0},{"$f":"AX10+Aout!BW10","v":0},{"$f":"AY10+Aout!BX10","v":0},{"$f":"AZ10+Aout!BY10","v":0},{"$f":"BA10+Aout!BZ10","v":0},{"$f":"BB10+Aout!CA10","v":0},{"$f":"BC10+Aout!CB10","v":0},{"$f":"BD10+Aout!CC10","v":0},{"$f":"BE10+Aout!CD10","v":0},{"$f":"BF10+Aout!CE10","v":3},null,{"$f":"Aout!CG10","v":0},0,0,null,{"$f":"Aout!CK10","v":0},0,0,null,{"$f":"Aout!CO10","v":0},0,0,null,{"$f":"Aout!CS10","v":0},0,0]
[{"$f":"Aout!A11","v":"Simon-Pierre"},null,null,"M1",null,null,"M1","M2","MP",null,"M1",null,null,"M1","M2","M3",null,"M1",null,null,"M1","M2","MP",null,"M1",null,null,"M1","M2","M3",null,"M1",null,null,{"$f":"COUNTIF(C11:AG11,Accueil!$B$8)","v":9},{"$f":"COUNTIF(C11:AG11,Accueil!$B$9)","v":4},{"$f":"COUNTIF(C11:AG11,Accueil!$B$10)","v":2},{"$f":"COUNTIF(C11:AG11,Accueil!$B$11)","v":2},{"$f":"COUNTIF(C11:AG11,Accueil!$B$12)","v":0},{"$f":"COUNTIF(C11:AG11,Accueil!$B$13)","v":0},{"$f":"COUNTIF(C11:AG11,Accueil!$B$14)","v":0},{"$f":"COUNTIF(C11:AG11,Accueil!$B$15)","v":0},{"$f":"COUNTIF(C11:AG11,Accueil!$B$16)","v":0},{"$f":"COUNTIF(C11:AG11,Accueil!$B$17)","v":0},{"$f":"COUNTIF(C11:AG11,Accueil!$B$18)","v":0},{"$f":"COUNTIF(C11:AG11,Accueil!$B$19)","v":0},{"$f":"COUNTIF(C11:AG11,Accueil!$B$20)","v":0},{"$f":"COUNTIF(C11:AG11,Accueil!$B$21)","v":0},{"$f":"COUNTIF(C11:AG11,Accueil!$B$22)","v":0},{"$f":"COUNTIF(C11:AG11,Accueil!$B$23)","v":0},{"$f":"COUNTIF(C11:AG11,Accueil!$B$24)","v":0},{"$f":"COUNTIF(C11:AG11,Accueil!$B$25)","v":0},{"$f":"COUNTIF(C11:AG11,Accueil!$B$26)","v":0},{"$f":"COUNTIF(C11:AG11,Accueil!$B$27)","v":0},{"$f":"COUNTIF(C11:AG11,Accueil!$B$28)","v":0},{"$f":"COUNTIF(C11:AG11,Accueil!$B$29)","v":0},{"$f":"COUNTIF(C11:AG11,Accueil!$B$30)","v":0},17,null,{"$f":"AI11 +Aout!BH11","v":53},{"$f":"AJ11+Aout!BI11","v":33},{"$f":"AK11+Aout!BJ11","v":10},{"$f":"AL11+Aout!BK11","v":31},{"$f":"AM11+Aout!BL11","v":0},{"$f":"AN11+Aout!BM11","v":0},{"$f":"AO11+Aout!BN11","v":0},{"$f":"AP11+Aout!BO11","v":0},{"$f":"AQ11+Aout!BP11","v":0},{"$f":"AR11+Aout!BQ11","v":0},{"$f":"AS11+Aout!BR11","v":0},{"$f":"AT11+Aout!BS11","v":0},{"$f":"AU11+Aout!BT11","v":0},{"$f":"AV11+Aout!BU11","v":0},{"$f":"AW11+Aout!BV11","v":0},{"$f":"AX11+Aout!BW11","v":61},{"$f":"AY11+Aout!BX11","v":0},{"$f":"AZ11+Aout!BY11","v":0},{"$f":"BA11+Aout!BZ11","v":0},{"$f":"BB11+Aout!CA11","v":0},{"$f":"BC11+Aout!CB11","v":0},{"$f":"BD11+Aout!CC11","v":0},{"$f":"BE11+Aout!CD11","v":0},{"$f":"BF11+Aout!CE11","v":127},null,{"$f":"Aout!CG11","v":0},61,-61,null,{"$f":"Aout!CK11","v":0},0,0,null,{"$f":"Aout!CO11","v":0},0,0,null,{"$f":"Aout!CS11","v":0},0,0]
[{"$f":"Aout!A12","v":0},null,null,null,null,null,null,null,null,null,null,null,null,null,null,"LY",null,null,null,null,null,null,null,null,null,null,null,null,null,"LY",null,null,null,null,{"$f":"COUNTIF(C12:AG12,Accueil!$B$8)","v":0},{"$f":"COUNTIF(C12:AG12,Accueil!$B$9)","v":0},{"$f":"COUNTIF(C12:AG12,Accueil!$B$10)","v":0},{"$f":"COUNTIF(C12:AG12,Accueil!$B$11)","v":0},{"$f":"COUNTIF(C12:AG12,Accueil!$B$12)","v":0},{"$f":"COUNTIF(C12:AG12,Accueil!$B$13)","v":0},{"$f":"COUNTIF(C12:AG12,Accueil!$B$14)","v":0},{"$f":"COUNTIF(C12:AG12,Accueil!$B$15)","v":0},{"$f":"COUNTIF(C12:AG12,Accueil!$B$16)","v":0},{"$f":"COUNTIF(C12:AG12,Accueil!$B$17)","v":0},{"$f":"COUNTIF(C12:AG12,Accueil!$B$18)","v":2},{"$f":"COUNTIF(C12:AG12,Accueil!$B$19)","v":0},{"$f":"COUNTIF(C12:AG12,Accueil!$B$20)","v":0},{"$f":"COUNTIF(C12:AG12,Accueil!$B$21)","v":0},{"$f":"COUNTIF(C12:AG12,Accueil!$B$22)","v":0},{"$f":"COUNTIF(C12:AG12,Accueil!$B$23)","v":0},{"$f":"COUNTIF(C12:AG12,Accueil!$B$24)","v":0},{"$f":"COUNTIF(C12:AG12,Accueil!$B$25)","v":0},{"$f":"COUNTIF(C12:AG12,Accueil!$B$26)","v":0},{"$f":"COUNTIF(C12:AG12,Accueil!$B$27)","v":0},{"$f":"COUNTIF(C12:AG12,Accueil!$B$28)","v":0},{"$f":"COUNTIF(C12:AG12,Accueil!$B$29)","v":0},{"$f":"COUNTIF(C12:AG12,Accueil!$B$30)","v":0},2,null,{"$f":"AI12 +Aout!BH12","v":0},{"$f":"AJ12+Aout!BI12","v":0},{"$f":"AK12+Aout!BJ12","v":0},{"$f":"AL12+Aout!BK12","v":0},{"$f":"AM12+Aout!BL12","v":0},{"$f":"AN12+Aout!BM12","v":0},{"$f":"AO12+Aout!BN12","v":0},{"$f":"AP12+Aout!BO12","v":0},{"$f":"AQ12+Aout!BP12","v":0},{"$f":"AR12+Aout!BQ12","v":0},{"$f":"AS12+Aout!BR12","v":21},{"$f":"AT12+Aout!BS12","v":0},{"$f":"AU12+Aout!BT12","v":0},{"$f":"AV12+Aout!BU12","v":0},{"$f":"AW12+Aout!BV12","v":0},{"$f":"AX12+Aout!BW12","v":0},{"$f":"AY12+Aout!BX12","v":0},{"$f":"AZ12+Aout!BY12","v":0},{"$f":"BA12+Aout!BZ12","v":0},{"$f":"BB12+Aout!CA12","v":0},{"$f":"BC12+Aout!CB12","v":0},{"$f":"BD12+Aout!CC12","v":0},{"$f":"BE12+Aout!CD12","v":0},{"$f":"BF12+Aout!CE12","v":21},null,{"$f":"Aout!CG12","v":0},0,0,null,{"$f":"Aout!CK12","v":0},0,0,null,{"$f":"Aout!CO12","v":0},0,0,null,{"$f":"Aout!CS12","v":0},0,0]
[{"$f":"Aout!A13","v":"Virginie"},null,"Vac","Vac","Vac","Vac","M1","M2","MP","MP",null,"MP",null,"M1","M2","MP","M3",null,null,null,"M1","M2","MP","M3",null,"MP",null,"M1","M2","MP","M3","IND",null,null,{"$f":"COUNTIF(C13:AG13,Accueil!$B$8)","v":4},{"$f":"COUNTIF(C13:AG13,Accueil!$B$9)","v":4},{"$f":"COUNTIF(C13:AG13,Accueil!$B$10)","v":3},{"$f":"COUNTIF(C13:AG13,Accueil!$B$11)","v":7},{"$f":"COUNTIF(C13:AG13,Accueil!$B$12)","v":0},{"$f":"COUNTIF(C13:AG13,Accueil!$B$13)","v":0},{"$f":"COUNTIF(C13:AG13,Accueil!$B$14)","v":0},{"$f":"COUNTIF(C13:AG13,Accueil!$B$15)","v":0},{"$f":"COUNTIF(C13:AG13,Accueil!$B$16)","v":0},{"$f":"COUNTIF(C13:AG13,Accueil!$B$17)","v":0},{"$f":"COUNTIF(C13:AG13,Accueil!$B$18)","v":0},{"$f":"COUNTIF(C13:AG13,Accueil!$B$19)","v":0},{"$f":"COUNTIF(C13:AG13,Accueil!$B$20)","v":1},{"$f":"COUNTIF(C13:AG13,Accueil!$B$21)","v":0},{"$f":"COUNTIF(C13:AG13,Accueil!$B$22)","v":0},{"$f":"COUNTIF(C13:AG13,Accueil!$B$23)","v":4},{"$f":"COUNTIF(C13:AG13,Accueil!$B$24)","v":0},{"$f":"COUNTIF(C13:AG13,Accueil!$B$25)","v":0},{"$f":"COUNTIF(C13:AG13,Accueil!$B$26)","v":0},{"$f":"COUNTIF(C13:AG13,Accueil!$B$27)","v":0},{"$f":"COUNTIF(C13:AG13,Accueil!$B$28)","v":0},{"$f":"COUNTIF(C13:AG13,Accueil!$B$29)","v":0},{"$f":"COUNTIF(C13:AG13,Accueil!$B$30)","v":0},18,null,{"$f":"AI13 +Aout!BH13","v":25},{"$f":"AJ13+Aout!BI13","v":38},{"$f":"AK13+Aout!BJ13","v":25},{"$f":"AL13+Aout!BK13","v":61},{"$f":"AM13+Aout!BL13","v":1},{"$f":"AN13+Aout!BM13","v":9},{"$f":"AO13+Aout!BN13","v":0},{"$f":"AP13+Aout!BO13","v":0},{"$f":"AQ13+Aout!BP13","v":0},{"$f":"AR13+Aout!BQ13","v":0},{"$f":"AS13+Aout!BR13","v":0},{"$f":"AT13+Aout!BS13","v":0},{"$f":"AU13+Aout!BT13","v":1},{"$f":"AV13+Aout!BU13","v":0},{"$f":"AW13+Aout!BV13","v":0},{"$f":"AX13+Aout!BW13","v":16},{"$f":"AY13+Aout!BX13","v":0},{"$f":"AZ13+Aout!BY13","v":0},{"$f":"BA13+Aout!BZ13","v":17},{"$f":"BB13+Aout!CA13","v":1},{"$f":"BC13+Aout!CB13","v":0},{"$f":"BD13+Aout!CC13","v":0},{"$f":"BE13+Aout!CD13","v":0},{"$f":"BF13+Aout!CE13","v":159},null,{"$f":"Aout!CG13","v":0},16,-16,null,{"$f":"Aout!CK13","v":0},0,0,null,{"$f":"Aout!CO13","v":0},0,0,null,{"$f":"Aout!CS13","v":0},0,0]
[{"$f":"Aout!A14","v":0},null,null,null,null,null,null,null,null,null,null,null,null,null,null,null,null,null,null,null,null,null,null,null,null,null,null,null,null,null,null,null,null,null,{"$f":"COUNTIF(C14:AG14,Accueil!$B$8)","v":0},{"$f":"COUNTIF(C14:AG14,Accueil!$B$9)","v":0},{"$f":"COUNTIF(C14:AG14,Accueil!$B$10)","v":0},{"$f":"COUNTIF(C14:AG14,Accueil!$B$11)","v":0},{"$f":"COUNTIF(C14:AG14,Accueil!$B$12)","v":0},{"$f":"COUNTIF(C14:AG14,Accueil!$B$13)","v":0},{"$f":"COUNTIF(C14:AG14,Accueil!$B$14)","v":0},{"$f":"COUNTIF(C14:AG14,Accueil!$B$15)","v":0},{"$f":"COUNTIF(C14:AG14,Accueil!$B$16)","v":0},{"$f":"COUNTIF(C14:AG14,Accueil!$B$17)","v":0},{"$f":"COUNTIF(C14:AG14,Accueil!$B$18)","v":0},{"$f":"COUNTIF(C14:AG14,Accueil!$B$19)","v":0},{"$f":"COUNTIF(C14:AG14,Accueil!$B$20)","v":0},{"$f":"COUNTIF(C14:AG14,Accueil!$B$21)","v":0},{"$f":"COUNTIF(C14:AG14,Accueil!$B$22)","v":0},{"$f":"COUNTIF(C14:AG14,Accueil!$B$23)","v":0},{"$f":"COUNTIF(C14:AG14,Accueil!$B$24)","v":0},{"$f":"COUNTIF(C14:AG14,Accueil!$B$25)","v":0},{"$f":"COUNTIF(C14:AG14,Accueil!$B$26)","v":0},{"$f":"COUNTIF(C14:AG14,Accueil!$B$27)","v":0},{"$f":"COUNTIF(C14:AG14,Accueil!$B$28)","v":0},{"$f":"COUNTIF(C14:AG14,Accueil!$B$29)","v":0},{"$f":"COUNTIF(C14:AG14,Accueil!$B$30)","v":0},0,null,{"$f":"AI14 +Aout!BH14","v":0},{"$f":"AJ14+Aout!BI14","v":0},{"$f":"AK14+Aout!BJ14","v":0},{"$f":"AL14+Aout!BK14","v":0},{"$f":"AM14+Aout!BL14","v":0},{"$f":"AN14+Aout!BM14","v":0},{"$f":"AO14+Aout!BN14","v":0},{"$f":"AP14+Aout!BO14","v":0},{"$f":"AQ14+Aout!BP14","v":0},{"$f":"AR14+Aout!BQ14","v":6},{"$f":"AS14+Aout!BR14","v":1},{"$f":"AT14+Aout!BS14","v":0},{"$f":"AU14+Aout!BT14","v":0},{"$f":"AV14+Aout!BU14","v":0},{"$f":"AW14+Aout!BV14","v":0},{"$f":"AX14+Aout!BW14","v":0},{"$f":"AY14+Aout!BX14","v":0},{"$f":"AZ14+Aout!BY14","v":0},{"$f":"BA14+Aout!BZ14","v":0},{"$f":"BB14+Aout!CA14","v":0},{"$f":"BC14+Aout!CB14","v":0},{"$f":"BD14+Aout!CC14","v":0},{"$f":"BE14+Aout!CD14","v":0},{"$f":"BF14+Aout!CE14","v":7},null,{"$f":"Aout!CG14","v":0},0,0,null,{"$f":"Aout!CK14","v":0},0,0,null,{"$f":"Aout!CO14","v":0},0,0,null,{"$f":"Aout!CS14","v":0},0,0]
[{"$f":"Aout!A15","v":"Jacqueline"},null,null,"M2",null,null,"M3","MP",null,null,"M2","Vac","Vac","Vac","Vac","Vac","Vac","Vac","Vac","Vac","Vac","Vac","Vac","Vac","Vac","Vac","Vac","M3","MP",null,null,"M2",null,null,{"$f":"COUNTIF(C15:AG15,Accueil!$B$8)","v":0},{"$f":"COUNTIF(C15:AG15,Accueil!$B$9)","v":3},{"$f":"COUNTIF(C15:AG15,Accueil!$B$10)","v":2},{"$f":"COUNTIF(C15:AG15,Accueil!$B$11)","v":2},{"$f":"COUNTIF(C15:AG15,Accueil!$B$12)","v":0},{"$f":"COUNTIF(C15:AG15,Accueil!$B$13)","v":0},{"$f":"COUNTIF(C15:AG15,Accueil!$B$14)","v":0},{"$f":"COUNTIF(C15:AG15,Accueil!$B$15)","v":0},{"$f":"COUNTIF(C15:AG15,Accueil!$B$16)","v":0},{"$f":"COUNTIF(C15:AG15,Accueil!$B$17)","v":0},{"$f":"COUNTIF(C15:AG15,Accueil!$B$18)","v":0},{"$f":"COUNTIF(C15:AG15,Accueil!$B$19)","v":0},{"$f":"COUNTIF(C15:AG15,Accueil!$B$20)","v":0},{"$f":"COUNTIF(C15:AG15,Accueil!$B$21)","v":0},{"$f":"COUNTIF(C15:AG15,Accueil!$B$22)","v":0},{"$f":"COUNTIF(C15:AG15,Accueil!$B$23)","v":16},{"$f":"COUNTIF(C15:AG15,Accueil!$B$24)","v":0},{"$f":"COUNTIF(C15:AG15,Accueil!$B$25)","v":0},{"$f":"COUNTIF(C15:AG15,Accueil!$B$26)","v":0},{"$f":"COUNTIF(C15:AG15,Accueil!$B$27)","v":0},{"$f":"COUNTIF(C15:AG15,Accueil!$B$28)","v":0},{"$f":"COUNTIF(C15:AG15,Accueil!$B$29)","v":0},{"$f":"COUNTIF(C15:AG15,Accueil!$B$30)","v":0},7,null,{"$f":"AI15 +Aout!BH15","v":3},{"$f":"AJ15+Aout!BI15","v":26},{"$f":"AK15+Aout!BJ15","v":22},{"$f":"AL15+Aout!BK15","v":50},{"$f":"AM15+Aout!BL15","v":1},{"$f":"AN15+Aout!BM15","v":2},{"$f":"AO15+Aout!BN15","v":0},{"$f":"AP15+Aout!BO15","v":0},{"$f":"AQ15+Aout!BP15","v":0},{"$f":"AR15+Aout!BQ15","v":0},{"$f":"AS15+Aout!BR15","v":0},{"$f":"AT15+Aout!BS15","v":0},{"$f":"AU15+Aout!BT15","v":0},{"$f":"AV15+Aout!BU15","v":0},{"$f":"AW15+Aout!BV15","v":0},{"$f":"AX15+Aout!BW15","v":57},{"$f":"AY15+Aout!BX15","v":0},{"$f":"AZ15+Aout!BY15","v":0},{"$f":"BA15+Aout!BZ15","v":2},{"$f":"BB15+Aout!CA15","v":0},{"$f":"BC15+Aout!CB15","v":0},{"$f":"BD15+Aout!CC15","v":0},{"$f":"BE15+Aout!CD15","v":0},{"$f":"BF15+Aout!CE15","v":104},null,{"$f":"Aout!CG15","v":0},57,-57,null,{"$f":"Aout!CK15","v":0},0,0,null,{"$f":"Aout!CO15","v":0},0,0,null,{"$f":"Aout!CS15","v":0},0,0]
[{"$f":"Aout!A16","v":0},null,null,null,null,null,null,null,null,null,null,null,null,null,null,null,null,null,null,null,null,null,null,null,null,null,null,null,null,null,null,null,null,null,{"$f":"COUNTIF(C16:AG16,Accueil!$B$8)","v":0},{"$f":"COUNTIF(C16:AG16,Accueil!$B$9)","v":0},{"$f":"COUNTIF(C16:AG16,Accueil!$B$10)","v":0},{"$f":"COUNTIF(C16:AG16,Accueil!$B$11)","v":0},{"$f":"COUNTIF(C16:AG16,Accueil!$B$12)","v":0},{"$f":"COUNTIF(C16:AG16,Accueil!$B$13)","v":0},{"$f":"COUNTIF(C16:AG16,Accueil!$B$14)","v":0},{"$f":"COUNTIF(C16:AG16,Accueil!$B$15)","v":0},{"$f":"COUNTIF(C16:AG16,Accueil!$B$16)","v":0},{"$f":"COUNTIF(C16:AG16,Accueil!$B$17)","v":0},{"$f":"COUNTIF(C16:AG16,Accueil!$B$18)","v":0},{"$f":"COUNTIF(C16:AG16,Accueil!$B$19)","v":0},{"$f":"COUNTIF(C16:AG16,Accueil!$B$20)","v":0},{"$f":"COUNTIF(C16:AG16,Accueil!$B$21)","v":0},{"$f":"COUNTIF(C16:AG16,Accueil!$B$22)","v":0},{"$f":"COUNTIF(C16:AG16,Accueil!$B$23)","v":0},{"$f":"COUNTIF(C16:AG16,Accueil!$B$24)","v":0},{"$f":"COUNTIF(C16:AG16,Accueil!$B$25)","v":0},{"$f":"COUNTIF(C16:AG16,Accueil!$B$26)","v":0},{"$f":"COUNTIF(C16:AG16,Accueil!$B$27)","v":0},{"$f":"COUNTIF(C16:AG16,Accueil!$B$28)","v":0},{"$f":"COUNTIF(C16:AG16,Accueil!$B$29)","v":0},{"$f":"COUNTIF(C16:AG16,Accueil!$B$30)","v":0},0,null,{"$f":"AI16 +Aout!BH16","v":0},{"$f":"AJ16+Aout!BI16","v":0},{"$f":"AK16+Aout!BJ16","v":0},{"$f":"AL16+Aout!BK16","v":0},{"$f":"AM16+Aout!BL16","v":0},{"$f":"AN16+Aout!BM16","v":0},{"$f":"AO16+Aout!BN16","v":0},{"$f":"AP16+Aout!BO16","v":0},{"$f":"AQ16+Aout!BP16","v":0},{"$f":"AR16+Aout!BQ16","v":0},{"$f":"AS16+Aout!BR16","v":6},{"$f":"AT16+Aout!BS16","v":0},{"$f":"AU16+Aout!BT16","v":0},{"$f":"AV16+Aout!BU16","v":0},{"$f":"AW16+Aout!BV16","v":0},{"$f":"AX16+Aout!BW16","v":0},{"$f":"AY16+Aout!BX16","v":0},{"$f":"AZ16+Aout!BY16","v":0},{"$f":"BA16+Aout!BZ16","v":0},{"$f":"BB16+Aout!CA16","v":0},{"$f":"BC16+Aout!CB16","v":0},{"$f":"BD16+Aout!CC16","v":0},{"$f":"BE16+Aout!CD16","v":0},{"$f":"BF16+Aout!CE16","v":6},null,{"$f":"Aout!CG16","v":0},0,0,null,{"$f":"Aout!CK16","v":0},0,0,null,{"$f":"Aout!CO16","v":0},0,0,null,{"$f":"Aout!CS16","v":0},0,0]
[{"$f":"Aout!A17","v":"Colette"},null,"M3",null,null,"MP",null,"MP","LY","IND","IND","IND","IND","Vac","Vac","Vac","Vac","Vac","Vac","Vac","Vac","Vac","Vac","Vac","Vac","Vac","Vac",null,"M2","MP",null,null,null,null,{"$f":"COUNTIF(C17:AG17,Accueil!$B$8)","v":0},{"$f":"COUNTIF(C17:AG17,Accueil!$B$9)","v":1},{"$f":"COUNTIF(C17:AG17,Accueil!$B$10)","v":1},{"$f":"COUNTIF(C17:AG17,Accueil!$B$11)","v":3},{"$f":"COUNTIF(C17:AG17,Accueil!$B$12)","v":0},{"$f":"COUNTIF(C17:AG17,Accueil!$B$13)","v":0},{"$f":"COUNTIF(C17:AG17,Accueil!$B$14)","v":0},{"$f":"COUNTIF(C17:AG17,Accueil!$B$15)","v":0},{"$f":"COUNTIF(C17:AG17,Accueil!$B$16)","v":0},{"$f":"COUNTIF(C17:AG17,Accueil!$B$17)","v":0},{"$f":"COUNTIF(C17:AG17,Accueil!$B$18)","v":1},{"$f":"COUNTIF(C17:AG17,Accueil!$B$19)","v":0},{"$f":"COUNTIF(C17:AG17,Accueil!$B$20)","v":4},{"$f":"COUNTIF(C17:AG17,Accueil!$B$21)","v":0},{"$f":"COUNTIF(C17:AG17,Accueil!$B$22)","v":0},{"$f":"COUNTIF(C17:AG17,Accueil!$B$23)","v":14},{"$f":"COUNTIF(C17:AG17,Accueil!$B$24)","v":0},{"$f":"COUNTIF(C17:AG17,Accueil!$B$25)","v":0},{"$f":"COUNTIF(C17:AG17,Accueil!$B$26)","v":0},{"$f":"COUNTIF(C17:AG17,Accueil!$B$27)","v":0},{"$f":"COUNTIF(C17:AG17,Accueil!$B$28)","v":0},{"$f":"COUNTIF(C17:AG17,Accueil!$B$29)","v":0},{"$f":"COUNTIF(C17:AG17,Accueil!$B$30)","v":0},6,null,{"$f":"AI17 +Aout!BH17","v":0},{"$f":"AJ17+Aout!BI17","v":28},{"$f":"AK17+Aout!BJ17","v":5},{"$f":"AL17+Aout!BK17","v":47},{"$f":"AM17+Aout!BL17","v":4},{"$f":"AN17+Aout!BM17","v":6},{"$f":"AO17+Aout!BN17","v":0},{"$f":"AP17+Aout!BO17","v":0},{"$f":"AQ17+Aout!BP17","v":0},{"$f":"AR17+Aout!BQ17","v":0},{"$f":"AS17+Aout!BR17","v":5},{"$f":"AT17+Aout!BS17","v":0},{"$f":"AU17+Aout!BT17","v":30},{"$f":"AV17+Aout!BU17","v":0},{"$f":"AW17+Aout!BV17","v":0},{"$f":"AX17+Aout!BW17","v":19},{"$f":"AY17+Aout!BX17","v":0},{"$f":"AZ17+Aout!BY17","v":0},{"$f":"BA17+Aout!BZ17","v":6},{"$f":"BB17+Aout!CA17","v":0},{"$f":"BC17+Aout!CB17","v":0},{"$f":"BD17+Aout!CC17","v":0},{"$f":"BE17+Aout!CD17","v":0},{"$f":"BF17+Aout!CE17","v":95},null,{"$f":"Aout!CG17","v":0},19,-19,null,{"$f":"Aout!CK17","v":0},0,0,null,{"$f":"Aout!CO17","v":0},0,0,null,{"$f":"Aout!CS17","v":0},0,0]
[{"$f":"Aout!A18","v":0},null,null,null,null,"LY",null,null,null,null,null,null,null,null,null,null,null,null,null,null,null,null,null,null,null,null,null,null,null,null,null,null,null,null,{"$f":"COUNTIF(C18:AG18,Accueil!$B$8)","v":0},{"$f":"COUNTIF(C18:AG18,Accueil!$B$9)","v":0},{"$f":"COUNTIF(C18:AG18,Accueil!$B$10)","v":0},{"$f":"COUNTIF(C18:AG18,Accueil!$B$11)","v":0},{"$f":"COUNTIF(C18:AG18,Accueil!$B$12)","v":0},{"$f":"COUNTIF(C18:AG18,Accueil!$B$13)","v":0},{"$f":"COUNTIF(C18:AG18,Accueil!$B$14)","v":0},{"$f":"COUNTIF(C18:AG18,Accueil!$B$15)","v":0},{"$f":"COUNTIF(C18:AG18,Accueil!$B$16)","v":0},{"$f":"COUNTIF(C18:AG18,Accueil!$B$17)","v":0},{"$f":"COUNTIF(C18:AG18,Accueil!$B$18)","v":1},{"$f":"COUNTIF(C18:AG18,Accueil!$B$19)","v":0},{"$f":"COUNTIF(C18:AG18,Accueil!$B$20)","v":0},{"$f":"COUNTIF(C18:AG18,Accueil!$B$21)","v":0},{"$f":"COUNTIF(C18:AG18,Accueil!$B$22)","v":0},{"$f":"COUNTIF(C18:AG18,Accueil!$B$23)","v":0},{"$f":"COUNTIF(C18:AG18,Accueil!$B$24)","v":0},{"$f":"COUNTIF(C18:AG18,Accueil!$B$25)","v":0},{"$f":"COUNTIF(C18:AG18,Accueil!$B$26)","v":0},{"$f":"COUNTIF(C18:AG18,Accueil!$B$27)","v":0},{"$f":"COUNTIF(C18:AG18,Accueil!$B$28)","v":0},{"$f":"COUNTIF(C18:AG18,Accueil!$B$29)","v":0},{"$f":"COUNTIF(C18:AG18,Accueil!$B$30)","v":0},1,null,{"$f":"AI18 +Aout!BH18","v":0},{"$f":"AJ18+Aout!BI18","v":0},{"$f":"AK18+Aout!BJ18","v":0},{"$f":"AL18+Aout!BK18","v":1},{"$f":"AM18+Aout!BL18","v":0},{"$f":"AN18+Aout!BM18","v":0},{"$f":"AO18+Aout!BN18","v":0},{"$f":"AP18+Aout!BO18","v":0},{"$f":"AQ18+Aout!BP18","v":0},{"$f":"AR18+Aout!BQ18","v":0},{"$f":"AS18+Aout!BR18","v":47},{"$f":"AT18+Aout!BS18","v":0},{"$f":"AU18+Aout!BT18","v":0},{"$f":"AV18+Aout!BU18","v":0},{"$f":"AW18+Aout!BV18","v":0},{"$f":"AX18+Aout!BW18","v":0},{"$f":"AY18+Aout!BX18","v":0},{"$f":"AZ18+Aout!BY18","v":0},{"$f":"BA18+Aout!BZ18","v":0},{"$f":"BB18+Aout!CA18","v":0},{"$f":"BC18+Aout!CB18","v":0},{"$f":"BD18+Aout!CC18","v":0},{"$f":"BE18+Aout!CD18","v":0},{"$f":"BF18+Aout!CE18","v":48},null,{"$f":"Aout!CG18","v":0},0,0,null,{"$f":"Aout!CK18","v":0},0,0,null,{"$f":"Aout!CO18","v":0},0,0,null,{"$f":"Aout!CS18","v":0},0,0]
[{"$f":"Aout!A19","v":"Lisa"},null,"M1","MP",null,null,null,"M2",null,null,"MP",null,null,null,"M2",null,"AP1","MP",null,null,null,"M2",null,"M1","MP",null,null,null,"M2",null,"M1","MP",null,null,{"$f":"COUNTIF(C19:AG19,Accueil!$B$8)","v":3},{"$f":"COUNTIF(C19:AG19,Accueil!$B$9)","v":4},{"$f":"COUNTIF(C19:AG19,Accueil!$B$10)","v":0},{"$f":"COUNTIF(C19:AG19,Accueil!$B$11)","v":5},{"$f":"COUNTIF(C19:AG19,Accueil!$B$12)","v":1},{"$f":"COUNTIF(C19:AG19,Accueil!$B$13)","v":0},{"$f":"COUNTIF(C19:AG19,Accueil!$B$14)","v":0},{"$f":"COUNTIF(C19:AG19,Accueil!$B$15)","v":0},{"$f":"COUNTIF(C19:AG19,Accueil!$B$16)","v":0},{"$f":"COUNTIF(C19:AG19,Accueil!$B$17)","v":0},{"$f":"COUNTIF(C19:AG19,Accueil!$B$18)","v":0},{"$f":"COUNTIF(C19:AG19,Accueil!$B$19)","v":0},{"$f":"COUNTIF(C19:AG19,Accueil!$B$20)","v":0},{"$f":"COUNTIF(C19:AG19,Accueil!$B$21)","v":0},{"$f":"COUNTIF(C19:AG19,Accueil!$B$22)","v":0},{"$f":"COUNTIF(C19:AG19,Accueil!$B$23)","v":0},{"$f":"COUNTIF(C19:AG19,Accueil!$B$24)","v":0},{"$f":"COUNTIF(C19:AG19,Accueil!$B$25)","v":0},{"$f":"COUNTIF(C19:AG19,Accueil!$B$26)","v":0},{"$f":"COUNTIF(C19:AG19,Accueil!$B$27)","v":0},{"$f":"COUNTIF(C19:AG19,Accueil!$B$28)","v":0},{"$f":"COUNTIF(C19:AG19,Accueil!$B$29)","v":0},{"$f":"COUNTIF(C19:AG19,Accueil!$B$30)","v":0},13,null,{"$f":"AI19 +Aout!BH19","v":22},{"$f":"AJ19+Aout!BI19","v":33},{"$f":"AK19+Aout!BJ19","v":9},{"$f":"AL19+Aout!BK19","v":45},{"$f":"AM19+Aout!BL19","v":4},{"$f":"AN19+Aout!BM19","v":3},{"$f":"AO19+Aout!BN19","v":0},{"$f":"AP19+Aout!BO19","v":0},{"$f":"AQ19+Aout!BP19","v":0},{"$f":"AR19+Aout!BQ19","v":0},{"$f":"AS19+Aout!BR19","v":0},{"$f":"AT19+Aout!BS19","v":0},{"$f":"AU19+Aout!BT19","v":2},{"$f":"AV19+Aout!BU19","v":0},{"$f":"AW19+Aout!BV19","v":0},{"$f":"AX19+Aout!BW19","v":32},{"$f":"AY19+Aout!BX19","v":0},{"$f":"AZ19+Aout!BY19","v":0},{"$f":"BA19+Aout!BZ19","v":2},{"$f":"BB19+Aout!CA19","v":0},{"$f":"BC19+Aout!CB19","v":0},{"$f":"BD19+Aout!CC19","v":0},{"$f":"BE19+Aout!CD19","v":0},{"$f":"BF19+Aout!CE19","v":116},null,{"$f":"Aout!CG19","v":0},32,-32,null,{"$f":"Aout!CK19","v":0},0,0,null,{"$f":"Aout!CO19","v":0},0,0,null,{"$f":"Aout!CS19","v":0},0,0]
[{"$f":"Aout!A20","v":0},null,null,null,null,null,null,null,null,null,null,null,null,null,null,null,null,null,null,null,null,null,null,null,null,null,null,null,null,null,null,null,null,null,{"$f":"COUNTIF(C20:AG20,Accueil!$B$8)","v":0},{"$f":"COUNTIF(C20:AG20,Accueil!$B$9)","v":0},{"$f":"COUNTIF(C20:AG20,Accueil!$B$10)","v":0},{"$f":"COUNTIF(C20:AG20,Accueil!$B$11)","v":0},{"$f":"COUNTIF(C20:AG20,Accueil!$B$12)","v":0},{"$f":"COUNTIF(C20:AG20,Accueil!$B$13)","v":0},{"$f":"COUNTIF(C20:AG20,Accueil!$B$14)","v":0},{"$f":"COUNTIF(C20:AG20,Accueil!$B$15)","v":0},{"$f":"COUNTIF(C20:AG20,Accueil!$B$16)","v":0},{"$f":"COUNTIF(C20:AG20,Accueil!$B$17)","v":0},{"$f":"COUNTIF(C20:AG20,Accueil!$B$18)","v":0},{"$f":"COUNTIF(C20:AG20,Accueil!$B$19)","v":0},{"$f":"COUNTIF(C20:AG20,Accueil!$B$20)","v":0},{"$f":"COUNTIF(C20:AG20,Accueil!$B$21)","v":0},{"$f":"COUNTIF(C20:AG20,Accueil!$B$22)","v":0},{"$f":"COUNTIF(C20:AG20,Accueil!$B$23)","v":0},{"$f":"COUNTIF(C20:AG20,Accueil!$B$24)","v":0},{"$f":"COUNTIF(C20:AG20,Accueil!$B$25)","v":0},{"$f":"COUNTIF(C20:AG20,Accueil!$B$26)","v":0},{"$f":"COUNTIF(C20:AG20,Accueil!$B$27)","v":0},{"$f":"COUNTIF(C20:AG20,Accueil!$B$28)","v":0},{"$f":"COUNTIF(C20:AG20,Accueil!$B$29)","v":0},{"$f":"COUNTIF(C20:AG20,Accueil!$B$30)","v":0},0,null,{"$f":"AI20 +Aout!BH20","v":0},{"$f":"AJ20+Aout!BI20","v":0},{"$f":"AK20+Aout!BJ20","v":0},{"$f":"AL20+Aout!BK20","v":0},{"$f":"AM20+Aout!BL20","v":0},{"$f":"AN20+Aout!BM20","v":0},{"$f":"AO20+Aout!BN20","v":0},{"$f":"AP20+Aout!BO20","v":0},{"$f":"AQ20+Aout!BP20","v":0},{"$f":"AR20+Aout!BQ20","v":0},{"$f":"AS20+Aout!BR20","v":1},{"$f":"AT20+Aout!BS20","v":0},{"$f":"AU20+Aout!BT20","v":0},{"$f":"AV20+Aout!BU20","v":0},{"$f":"AW20+Aout!BV20","v":0},{"$f":"AX20+Aout!BW20","v":0},{"$f":"AY20+Aout!BX20","v":0},{"$f":"AZ20+Aout!BY20","v":0},{"$f":"BA20+Aout!BZ20","v":0},{"$f":"BB20+Aout!CA20","v":0},{"$f":"BC20+Aout!CB20","v":0},{"$f":"BD20+Aout!CC20","v":0},{"$f":"BE20+Aout!CD20","v":0},{"$f":"BF20+Aout!CE20","v":1},null,{"$f":"Aout!CG20","v":0},0,0,null,{"$f":"Aout!CK20","v":0},0,0,null,{"$f":"Aout!CO20","v":0},0,0,null,{"$f":"Aout!CS20","v":0},0,0]
[{"$f":"Aout!A21","v":"Philip"},null,null,null,null,null,"MP","M1",null,null,null,null,"MP","MP","M1",null,null,null,null,null,"MP","M1",null,null,null,null,"MP","MP","M1",null,null,null,null,null,{"$f":"COUNTIF(C21:AG21,Accueil!$B$8)","v":4},{"$f":"COUNTIF(C21:AG21,Accueil!$B$9)","v":0},{"$f":"COUNTIF(C21:AG21,Accueil!$B$10)","v":0},{"$f":"COUNTIF(C21:AG21,Accueil!$B$11)","v":6},{"$f":"COUNTIF(C21:AG21,Accueil!$B$12)","v":0},{"$f":"COUNTIF(C21:AG21,Accueil!$B$13)","v":0},{"$f":"COUNTIF(C21:AG21,Accueil!$B$14)","v":0},{"$f":"COUNTIF(C21:AG21,Accueil!$B$15)","v":0},{"$f":"COUNTIF(C21:AG21,Accueil!$B$16)","v":0},{"$f":"COUNTIF(C21:AG21,Accueil!$B$17)","v":0},{"$f":"COUNTIF(C21:AG21,Accueil!$B$18)","v":0},{"$f":"COUNTIF(C21:AG21,Accueil!$B$19)","v":0},{"$f":"COUNTIF(C21:AG21,Accueil!$B$20)","v":0},{"$f":"COUNTIF(C21:AG21,Accueil!$B$21)","v":0},{"$f":"COUNTIF(C21:AG21,Accueil!$B$22)","v":0},{"$f":"COUNTIF(C21:AG21,Accueil!$B$23)","v":0},{"$f":"COUNTIF(C21:AG21,Accueil!$B$24)","v":0},{"$f":"COUNTIF(C21:AG21,Accueil!$B$25)","v":0},{"$f":"COUNTIF(C21:AG21,Accueil!$B$26)","v":0},{"$f":"COUNTIF(C21:AG21,Accueil!$B$27)","v":0},{"$f":"COUNTIF(C21:AG21,Accueil!$B$28)","v":0},{"$f":"COUNTIF(C21:AG21,Accueil!$B$29)","v":0},{"$f":"COUNTIF(C21:AG21,Accueil!$B$30)","v":0},10,null,{"$f":"AI21 +Aout!BH21","v":32},{"$f":"AJ21+Aout!BI21","v":0},{"$f":"AK21+Aout!BJ21","v":0},{"$f":"AL21+Aout!BK21","v":46},{"$f":"AM21+Aout!BL21","v":5},{"$f":"AN21+Aout!BM21","v":1},{"$f":"AO21+Aout!BN21","v":0},{"$f":"AP21+Aout!BO21","v":0},{"$f":"AQ21+Aout!BP21","v":0},{"$f":"AR21+Aout!BQ21","v":0},{"$f":"AS21+Aout!BR21","v":0},{"$f":"AT21+Aout!BS21","v":0},{"$f":"AU21+Aout!BT21","v":0},{"$f":"AV21+Aout!BU21","v":0},{"$f":"AW21+Aout!BV21","v":0},{"$f":"AX21+Aout!BW21","v":40},{"$f":"AY21+Aout!BX21","v":0},{"$f":"AZ21+Aout!BY21","v":0},{"$f":"BA21+Aout!BZ21","v":0},{"$f":"BB21+Aout!CA21","v":0},{"$f":"BC21+Aout!CB21","v":0},{"$f":"BD21+Aout!CC21","v":0},{"$f":"BE21+Aout!CD21","v":0},{"$f":"BF21+Aout!CE21","v":84},null,{"$f":"Aout!CG21","v":0},40,-40,null,{"$f":"Aout!CK21","v":0},0,0,null,{"$f":"Aout!CO21","v":0},0,0,null,{"$f":"Aout!CS21","v":0},0,0]
[{"$f":"Aout!A22","v":0},null,null,null,null,null,null,null,null,null,null,null,null,null,null,null,null,null,null,null,null,null,null,null,null,null,null,null,null,null,null,null,null,null,{"$f":"COUNTIF(C22:AG22,Accueil!$B$8)","v":0},{"$f":"COUNTIF(C22:AG22,Accueil!$B$9)","v":0},{"$f":"COUNTIF(C22:AG22,Accueil!$B$10)","v":0},{"$f":"COUNTIF(C22:AG22,Accueil!$B$11)","v":0},{"$f":"COUNTIF(C22:AG22,Accueil!$B$12)","v":0},{"$f":"COUNTIF(C22:AG22,Accueil!$B$13)","v":0},{"$f":"COUNTIF(C22:AG22,Accueil!$B$14)","v":0},{"$f":"COUNTIF(C22:AG22,Accueil!$B$15)","v":0},{"$f":"COUNTIF(C22:AG22,Accueil!$B$16)","v":0},{"$f":"COUNTIF(C22:AG22,Accueil!$B$17)","v":0},{"$f":"COUNTIF(C22:AG22,Accueil!$B$18)","v":0},{"$f":"COUNTIF(C22:AG22,Accueil!$B$19)","v":0},{"$f":"COUNTIF(C22:AG22,Accueil!$B$20)","v":0},{"$f":"COUNTIF(C22:AG22,Accueil!$B$21)","v":0},{"$f":"COUNTIF(C22:AG22,Accueil!$B$22)","v":0},{"$f":"COUNTIF(C22:AG22,Accueil!$B$23)","v":0},{"$f":"COUNTIF(C22:AG22,Accueil!$B$24)","v":0},{"$f":"COUNTIF(C22:AG22,Accueil!$B$25)","v":0},{"$f":"COUNTIF(C22:AG22,Accueil!$B$26)","v":0},{"$f":"COUNTIF(C22:AG22,Accueil!$B$27)","v":0},{"$f":"COUNTIF(C22:AG22,Accueil!$B$28)","v":0},{"$f":"COUNTIF(C22:AG22,Accueil!$B$29)","v":0},{"$f":"COUNTIF(C22:AG22,Accueil!$B$30)","v":0},0,null,{"$f":"AI22 +Aout!BH22","v":0},{"$f":"AJ22+Aout!BI22","v":0},{"$f":"AK22+Aout!BJ22","v":0},{"$f":"AL22+Aout!BK22","v":0},{"$f":"AM22+Aout!BL22","v":0},{"$f":"AN22+Aout!BM22","v":0},{"$f":"AO22+Aout!BN22","v":0},{"$f":"AP22+Aout!BO22","v":0},{"$f":"AQ22+Aout!BP22","v":0},{"$f":"AR22+Aout!BQ22","v":8},{"$f":"AS22+Aout!BR22","v":3},{"$f":"AT22+Aout!BS22","v":0},{"$f":"AU22+Aout!BT22","v":0},{"$f":"AV22+Aout!BU22","v":0},{"$f":"AW22+Aout!BV22","v":0},{"$f":"AX22+Aout!BW22","v":0},{"$f":"AY22+Aout!BX22","v":0},{"$f":"AZ22+Aout!BY22","v":0},{"$f":"BA22+Aout!BZ22","v":0},{"$f":"BB22+Aout!CA22","v":0},{"$f":"BC22+Aout!CB22","v":0},{"$f":"BD22+Aout!CC22","v":0},{"$f":"BE22+Aout!CD22","v":0},{"$f":"BF22+Aout!CE22","v":11},null,{"$f":"Aout!CG22","v":0},0,0,null,{"$f":"Aout!CK22","v":0},0,0,null,{"$f":"Aout!CO22","v":0},0,0,null,{"$f":"Aout!CS22","v":0},0,0]
[{"$f":"Aout!A23","v":"Dania"},null,null,null,null,null,null,null,null,null,null,null,null,null,null,null,null,null,null,null,null,null,null,null,null,null,null,null,null,null,null,null,null,null,{"$f":"COUNTIF(C23:AG23,Accueil!$B$8)","v":0},{"$f":"COUNTIF(C23:AG23,Accueil!$B$9)","v":0},{"$f":"COUNTIF(C23:AG23,Accueil!$B$10)","v":0},{"$f":"COUNTIF(C23:AG23,Accueil!$B$11)","v":0},{"$f":"COUNTIF(C23:AG23,Accueil!$B$12)","v":0},{"$f":"COUNTIF(C23:AG23,Accueil!$B$13)","v":0},{"$f":"COUNTIF(C23:AG23,Accueil!$B$14)","v":0},{"$f":"COUNTIF(C23:AG23,Accueil!$B$15)","v":0},{"$f":"COUNTIF(C23:AG23,Accueil!$B$16)","v":0},{"$f":"COUNTIF(C23:AG23,Accueil!$B$17)","v":0},{"$f":"COUNTIF(C23:AG23,Accueil!$B$18)","v":0},{"$f":"COUNTIF(C23:AG23,Accueil!$B$19)","v":0},{"$f":"COUNTIF(C23:AG23,Accueil!$B$20)","v":0},{"$f":"COUNTIF(C23:AG23,Accueil!$B$21)","v":0},{"$f":"COUNTIF(C23:AG23,Accueil!$B$22)","v":0},{"$f":"COUNTIF(C23:AG23,Accueil!$B$23)","v":0},{"$f":"COUNTIF(C23:AG23,Accueil!$B$24)","v":0},{"$f":"COUNTIF(C23:AG23,Accueil!$B$25)","v":0},{"$f":"COUNTIF(C23:AG23,Accueil!$B$26)","v":0},{"$f":"COUNTIF(C23:AG23,Accueil!$B$27)","v":0},{"$f":"COUNTIF(C23:AG23,Accueil!$B$28)","v":0},{"$f":"COUNTIF(C23:AG23,Accueil!$B$29)","v":0},{"$f":"COUNTIF(C23:AG23,Accueil!$B$30)","v":0},0,null,{"$f":"AI23 +Aout!BH23","v":0},{"$f":"AJ23+Aout!BI23","v":7},{"$f":"AK23+Aout!BJ23","v":17},{"$f":"AL23+Aout!BK23","v":0},{"$f":"AM23+Aout!BL23","v":0},{"$f":"AN23+Aout!BM23","v":0},{"$f":"AO23+Aout!BN23","v":0},{"$f":"AP23+Aout!BO23","v":0},{"$f":"AQ23+Aout!BP23","v":0},{"$f":"AR23+Aout!BQ23","v":0},{"$f":"AS23+Aout!BR23","v":0},{"$f":"AT23+Aout!BS23","v":0},{"$f":"AU23+Aout!BT23","v":0},{"$f":"AV23+Aout!BU23","v":0},{"$f":"AW23+Aout!BV23","v":0},{"$f":"AX23+Aout!BW23","v":0},{"$f":"AY23+Aout!BX23","v":0},{"$f":"AZ23+Aout!BY23","v":0},{"$f":"BA23+Aout!BZ23","v":2},{"$f":"BB23+Aout!CA23","v":10},{"$f":"BC23+Aout!CB23","v":0},{"$f":"BD23+Aout!CC23","v":0},{"$f":"BE23+Aout!CD23","v":0},{"$f":"BF23+Aout!CE23","v":24},null,{"$f":"Aout!CG23","v":0},0,0,null,{"$f":"Aout!CK23","v":0},0,0,null,{"$f":"Aout!CO23","v":0},0,0,null,{"$f":"Aout!CS23","v":0},0,0]
[{"$f":"Aout!A24","v":0},null,null,null,null,null,null,null,null,null,null,null,null,null,null,null,null,null,null,null,null,null,null,null,null,null,null,null,null,null,null,null,null,null,{"$f":"COUNTIF(C24:AG24,Accueil!$B$8)","v":0},{"$f":"COUNTIF(C24:AG24,Accueil!$B$9)","v":0},{"$f":"COUNTIF(C24:AG24,Accueil!$B$10)","v":0},{"$f":"COUNTIF(C24:AG24,Accueil!$B$11)","v":0},{"$f":"COUNTIF(C24:AG24,Accueil!$B$12)","v":0},{"$f":"COUNTIF(C24:AG24,Accueil!$B$13)","v":0},{"$f":"COUNTIF(C24:AG24,Accueil!$B$14)","v":0},{"$f":"COUNTIF(C24:AG24,Accueil!$B$15)","v":0},{"$f":"COUNTIF(C24:AG24,Accueil!$B$16)","v":0},{"$f":"COUNTIF(C24:AG24,Accueil!$B$17)","v":0},{"$f":"COUNTIF(C24:AG24,Accueil!$B$18)","v":0},{"$f":"COUNTIF(C24:AG24,Accueil!$B$19)","v":0},{"$f":"COUNTIF(C24:AG24,Accueil!$B$20)","v":0},{"$f":"COUNTIF(C24:AG24,Accueil!$B$21)","v":0},{"$f":"COUNTIF(C24:AG24,Accueil!$B$22)","v":0},{"$f":"COUNTIF(C24:AG24,Accueil!$B$23)","v":0},{"$f":"COUNTIF(C24:AG24,Accueil!$B$24)","v":0},{"$f":"COUNTIF(C24:AG24,Accueil!$B$25)","v":0},{"$f":"COUNTIF(C24:AG24,Accueil!$B$26)","v":0},{"$f":"COUNTIF(C24:AG24,Accueil!$B$27)","v":0},{"$f":"COUNTIF(C24:AG24,Accueil!$B$28)","v":0},{"$f":"COUNTIF(C24:AG24,Accueil!$B$29)","v":0},{"$f":"COUNTIF(C24:AG24,Accueil!$B$30)","v":0},0,null,{"$f":"AI24 +Aout!BH24","v":0},{"$f":"AJ24+Aout!BI24","v":0},{"$f":"AK24+Aout!BJ24","v":0},{"$f":"AL24+Aout!BK24","v":16},{"$f":"AM24+Aout!BL24","v":0},{"$f":"AN24+Aout!BM24","v":0},{"$f":"AO24+Aout!BN24","v":0},{"$f":"AP24+Aout!BO24","v":0},{"$f":"AQ24+Aout!BP24","v":0},{"$f":"AR24+Aout!BQ24","v":0},{"$f":"AS24+Aout!BR24","v":0},{"$f":"AT24+Aout!BS24","v":0},{"$f":"AU24+Aout!BT24","v":0},{"$f":"AV24+Aout!BU24","v":0},{"$f":"AW24+Aout!BV24","v":0},{"$f":"AX24+Aout!BW24","v":0},{"$f":"AY24+Aout!BX24","v":0},{"$f":"AZ24+Aout!BY24","v":0},{"$f":"BA24+Aout!BZ24","v":0},{"$f":"BB24+Aout!CA24","v":0},{"$f":"BC24+Aout!CB24","v":0},{"$f":"BD24+Aout!CC24","v":0},{"$f":"BE24+Aout!CD24","v":0},{"$f":"BF24+Aout!CE24","v":16},null,{"$f":"Aout!CG24","v":0},0,0,null,{"$f":"Aout!CK24","v":0},0,0,null,{"$f":"Aout!CO24","v":0},0,0,null,{"$f":"Aout!CS24","v":0},0,0]
[{"$f":"Aout!A25","v":"Claudia"},null,null,null,null,null,null,null,null,null,null,null,null,null,null,null,null,null,null,null,null,null,null,null,null,null,null,null,null,null,null,null,null,null,{"$f":"COUNTIF(C25:AG25,Accueil!$B$8)","v":0},{"$f":"COUNTIF(C25:AG25,Accueil!$B$9)","v":0},{"$f":"COUNTIF(C25:AG25,Accueil!$B$10)","v":0},{"$f":"COUNTIF(C25:AG25,Accueil!$B$11)","v":0},{"$f":"COUNTIF(C25:AG25,Accueil!$B$12)","v":0},{"$f":"COUNTIF(C25:AG25,Accueil!$B$13)","v":0},{"$f":"COUNTIF(C25:AG25,Accueil!$B$14)","v":0},{"$f":"COUNTIF(C25:AG25,Accueil!$B$15)","v":0},{"$f":"COUNTIF(C25:AG25,Accueil!$B$16)","v":0},{"$f":"COUNTIF(C25:AG25,Accueil!$B$17)","v":0},{"$f":"COUNTIF(C25:AG25,Accueil!$B$18)","v":0},{"$f":"COUNTIF(C25:AG25,Accueil!$B$19)","v":0},{"$f":"COUNTIF(C25:AG25,Accueil!$B$20)","v":0},{"$f":"COUNTIF(C25:AG25,Accueil!$B$21)","v":0},{"$f":"COUNTIF(C25:AG25,Accueil!$B$22)","v":0},{"$f":"COUNTIF(C25:AG25,Accueil!$B$23)","v":0},{"$f":"COUNTIF(C25:AG25,Accueil!$B$24)","v":0},{"$f":"COUNTIF(C25:AG25,Accueil!$B$25)","v":0},{"$f":"COUNTIF(C25:AG25,Accueil!$B$26)","v":0},{"$f":"COUNTIF(C25:AG25,Accueil!$B$27)","v":0},{"$f":"COUNTIF(C25:AG25,Accueil!$B$28)","v":0},{"$f":"COUNTIF(C25:AG25,Accueil!$B$29)","v":0},{"$f":"COUNTIF(C25:AG25,Accueil!$B$30)","v":0},0,null,{"$f":"AI25 +Aout!BH25","v":1},{"$f":"AJ25+Aout!BI25","v":3},{"$f":"AK25+Aout!BJ25","v":1},{"$f":"AL25+Aout!BK25","v":0},{"$f":"AM25+Aout!BL25","v":0},{"$f":"AN25+Aout!BM25","v":0},{"$f":"AO25+Aout!BN25","v":0},{"$f":"AP25+Aout!BO25","v":0},{"$f":"AQ25+Aout!BP25","v":0},{"$f":"AR25+Aout!BQ25","v":0},{"$f":"AS25+Aout!BR25","v":0},{"$f":"AT25+Aout!BS25","v":0},{"$f":"AU25+Aout!BT25","v":0},{"$f":"AV25+Aout!BU25","v":0},{"$f":"AW25+Aout!BV25","v":0},{"$f":"AX25+Aout!BW25","v":9},{"$f":"AY25+Aout!BX25","v":0},{"$f":"AZ25+Aout!BY25","v":0},{"$f":"BA25+Aout!BZ25","v":0},{"$f":"BB25+Aout!CA25","v":0},{"$f":"BC25+Aout!CB25","v":0},{"$f":"BD25+Aout!CC25","v":0},{"$f":"BE25+Aout!CD25","v":0},{"$f":"BF25+Aout!CE25","v":5},null,{"$f":"Aout!CG25","v":0},9,-9,null,{"$f":"Aout!CK25","v":0},0,0,null,{"$f":"Aout!CO25","v":0},0,0,null,{"$f":"Aout!CS25","v":0},0,0]
[{"$f":"Aout!A26","v":"FRPI"},null,null,null,null,null,null,null,null,null,null,null,null,null,null,null,null,null,null,null,null,null,null,null,null,null,null,null,null,null,null,null,null,null,{"$f":"COUNTIF(C26:AG26,Accueil!$B$8)","v":0},{"$f":"COUNTIF(C26:AG26,Accueil!$B$9)","v":0},{"$f":"COUNTIF(C26:AG26,Accueil!$B$10)","v":0},{"$f":"COUNTIF(C26:AG26,Accueil!$B$11)","v":0},{"$f":"COUNTIF(C26:AG26,Accueil!$B$12)","v":0},{"$f":"COUNTIF(C26:AG26,Accueil!$B$13)","v":0},{"$f":"COUNTIF(C26:AG26,Accueil!$B$14)","v":0},{"$f":"COUNTIF(C26:AG26,Accueil!$B$15)","v":0},{"$f":"COUNTIF(C26:AG26,Accueil!$B$16)","v":0},{"$f":"COUNTIF(C26:AG26,Accueil!$B$17)","v":0},{"$f":"COUNTIF(C26:AG26,Accueil!$B$18)","v":0},{"$f":"COUNTIF(C26:AG26,Accueil!$B$19)","v":0},{"$f":"COUNTIF(C26:AG26,Accueil!$B$20)","v":0},{"$f":"COUNTIF(C26:AG26,Accueil!$B$21)","v":0},{"$f":"COUNTIF(C26:AG26,Accueil!$B$22)","v":0},{"$f":"COUNTIF(C26:AG26,Accueil!$B$23)","v":0},{"$f":"COUNTIF(C26:AG26,Accueil!$B$24)","v":0},{"$f":"COUNTIF(C26:AG26,Accueil!$B$25)","v":0},{"$f":"COUNTIF(C26:AG26,Accueil!$B$26)","v":0},{"$f":"COUNTIF(C26:AG26,Accueil!$B$27)","v":0},{"$f":"COUNTIF(C26:AG26,Accueil!$B$28)","v":0},{"$f":"COUNTIF(C26:AG26,Accueil!$B$29)","v":0},{"$f":"COUNTIF(C26:AG26,Accueil!$B$30)","v":0},0,null,{"$f":"AI26 +Aout!BH26","v":0},{"$f":"AJ26+Aout!BI26","v":0},{"$f":"AK26+Aout!BJ26","v":0},{"$f":"AL26+Aout!BK26","v":0},{"$f":"AM26+Aout!BL26","v":0},{"$f":"AN26+Aout!BM26","v":0},{"$f":"AO26+Aout!BN26","v":0},{"$f":"AP26+Aout!BO26","v":0},{"$f":"AQ26+Aout!BP26","v":0},{"$f":"AR26+Aout!BQ26","v":2},{"$f":"AS26+Aout!BR26","v":9},{"$f":"AT26+Aout!BS26","v":0},{"$f":"AU26+Aout!BT26","v":0},{"$f":"AV26+Aout!BU26","v":0},{"$f":"AW26+Aout!BV26","v":0},{"$f":"AX26+Aout!BW26","v":5},{"$f":"AY26+Aout!BX26","v":0},{"$f":"AZ26+Aout!BY26","v":0},{"$f":"BA26+Aout!BZ26","v":0},{"$f":"BB26+Aout!CA26","v":0},{"$f":"BC26+Aout!CB26","v":0},{"$f":"BD26+Aout!CC26","v":0},{"$f":"BE26+Aout!CD26","v":0},{"$f":"BF26+Aout!CE26","v":11},null,{"$f":"Aout!CG26","v":0},5,-5,null,{"$f":"Aout!CK26","v":0},0,0,null,{"$f":"Aout!CO26","v":0},0,0,null,{"$f":"Aout!CS26","v":0},0,0]
[{"$f":"Aout!A27","v":0},null,null,null,null,null,null,null,null,null,null,null,null,null,null,null,null,null,null,null,null,null,null,null,null,null,null,null,null,null,null,null,null,null,{"$f":"COUNTIF(C27:AG27,Accueil!$B$8)","v":0},{"$f":"COUNTIF(C27:AG27,Accueil!$B$9)","v":0},{"$f":"COUNTIF(C27:AG27,Accueil!$B$10)","v":0},{"$f":"COUNTIF(C27:AG27,Accueil!$B$11)","v":0},{"$f":"COUNTIF(C27:AG27,Accueil!$B$12)","v":0},{"$f":"COUNTIF(C27:AG27,Accueil!$B$13)","v":0},{"$f":"COUNTIF(C27:AG27,Accueil!$B$14)","v":0},{"$f":"COUNTIF(C27:AG27,Accueil!$B$15)","v":0},{"$f":"COUNTIF(C27:AG27,Accueil!$B$16)","v":0},{"$f":"COUNTIF(C27:AG27,Accueil!$B$17)","v":0},{"$f":"COUNTIF(C27:AG27,Accueil!$B$18)","v":0},{"$f":"COUNTIF(C27:AG27,Accueil!$B$19)","v":0},{"$f":"COUNTIF(C27:AG27,Accueil!$B$20)","v":0},{"$f":"COUNTIF(C27:AG27,Accueil!$B$21)","v":0},{"$f":"COUNTIF(C27:AG27,Accueil!$B$22)","v":0},{"$f":"COUNTIF(C27:AG27,Accueil!$B$23)","v":0},{"$f":"COUNTIF(C27:AG27,Accueil!$B$24)","v":0},{"$f":"COUNTIF(C27:AG27,Accueil!$B$25)","v":0},{"$f":"COUNTIF(C27:AG27,Accueil!$B$26)","v":0},{"$f":"COUNTIF(C27:AG27,Accueil!$B$27)","v":0},{"$f":"COUNTIF(C27:AG27,Accueil!$B$28)","v":0},{"$f":"COUNTIF(C27:AG27,Accueil!$B$29)","v":0},{"$f":"COUNTIF(C27:AG27,Accueil!$B$30)","v":0},0,null,{"$f":"AI27 +Aout!BH27","v":0},{"$f":"AJ27+Aout!BI27","v":0},{"$f":"AK27+Aout!BJ27","v":{"$error":"#VALUE!"}},{"$f":"AL27+Aout!BK27","v":0},{"$f":"AM27+Aout!BL27","v":0},{"$f":"AN27+Aout!BM27","v":0},{"$f":"AO27+Aout!BN27","v":0},{"$f":"AP27+Aout!BO27","v":{"$error":"#VALUE!"}},{"$f":"AQ27+Aout!BP27","v":0},{"$f":"AR27+Aout!BQ27","v":0},{"$f":"AS27+Aout!BR27","v":0},{"$f":"AT27+Aout!BS27","v":0},{"$f":"AU27+Aout!BT27","v":0},{"$f":"AV27+Aout!BU27","v":0},{"$f":"AW27+Aout!BV27","v":0},{"$f":"AX27+Aout!BW27","v":0},{"$f":"AY27+Aout!BX27","v":0},{"$f":"AZ27+Aout!BY27","v":0},{"$f":"BA27+Aout!BZ27","v":0},{"$f":"BB27+Aout!CA27","v":0},{"$f":"BC27+Aout!CB27","v":0},{"$f":"BD27+Aout!CC27","v":0},{"$f":"BE27+Aout!CD27","v":0},{"$f":"BF27+Aout!CE27","v":0},null,{"$f":"Aout!CG27","v":0},0,0,null,{"$f":"Aout!CK27","v":0},0,0,null,{"$f":"Aout!CO27","v":0},0,0,null,{"$f":"Aout!CS27","v":0},0,0]
[{"$f":"Aout!A28","v":"Frédéric"},null,null,null,null,null,null,null,null,null,null,null,null,null,null,null,null,null,null,null,null,null,null,null,null,null,null,null,null,null,null,null,null,null,{"$f":"COUNTIF(C28:AG28,Accueil!$B$8)","v":0},{"$f":"COUNTIF(C28:AG28,Accueil!$B$9)","v":0},{"$f":"COUNTIF(C28:AG28,Accueil!$B$10)","v":0},{"$f":"COUNTIF(C28:AG28,Accueil!$B$11)","v":0},{"$f":"COUNTIF(C28:AG28,Accueil!$B$12)","v":0},{"$f":"COUNTIF(C28:AG28,Accueil!$B$13)","v":0},{"$f":"COUNTIF(C28:AG28,Accueil!$B$14)","v":0},{"$f":"COUNTIF(C28:AG28,Accueil!$B$15)","v":0},{"$f":"COUNTIF(C28:AG28,Accueil!$B$16)","v":0},{"$f":"COUNTIF(C28:AG28,Accueil!$B$17)","v":0},{"$f":"COUNTIF(C28:AG28,Accueil!$B$18)","v":0},{"$f":"COUNTIF(C28:AG28,Accueil!$B$19)","v":0},{"$f":"COUNTIF(C28:AG28,Accueil!$B$20)","v":0},{"$f":"COUNTIF(C28:AG28,Accueil!$B$21)","v":0},{"$f":"COUNTIF(C28:AG28,Accueil!$B$22)","v":0},{"$f":"COUNTIF(C28:AG28,Accueil!$B$23)","v":0},{"$f":"COUNTIF(C28:AG28,Accueil!$B$24)","v":0},{"$f":"COUNTIF(C28:AG28,Accueil!$B$25)","v":0},{"$f":"COUNTIF(C28:AG28,Accueil!$B$26)","v":0},{"$f":"COUNTIF(C28:AG28,Accueil!$B$27)","v":0},{"$f":"COUNTIF(C28:AG28,Accueil!$B$28)","v":0},{"$f":"COUNTIF(C28:AG28,Accueil!$B$29)","v":0},{"$f":"COUNTIF(C28:AG28,Accueil!$B$30)","v":0},0,null,{"$f":"AI28 +Aout!BH28","v":{"$error":"#VALUE!"}},{"$f":"AJ28+Aout!BI28","v":{"$error":"#VALUE!"}},{"$f":"AK28+Aout!BJ28","v":0},{"$f":"AL28+Aout!BK28","v":{"$error":"#VALUE!"}},{"$f":"AM28+Aout!BL28","v":0},{"$f":"AN28+Aout!BM28","v":{"$error":"#VALUE!"}},{"$f":"AO28+Aout!BN28","v":{"$error":"#VALUE!"}},{"$f":"AP28+Aout!BO28","v":0},{"$f":"AQ28+Aout!BP28","v":27},{"$f":"AR28+Aout!BQ28","v":0},{"$f":"AS28+Aout!BR28","v":0},{"$f":"AT28+Aout!BS28","v":0},{"$f":"AU28+Aout!BT28","v":0},{"$f":"AV28+Aout!BU28","v":0},{"$f":"AW28+Aout!BV28","v":0},{"$f":"AX28+Aout!BW28","v":0},{"$f":"AY28+Aout!BX28","v":0},{"$f":"AZ28+Aout!BY28","v":0},{"$f":"BA28+Aout!BZ28","v":0},{"$f":"BB28+Aout!CA28","v":0},{"$f":"BC28+Aout!CB28","v":0},{"$f":"BD28+Aout!CC28","v":0},{"$f":"BE28+Aout!CD28","v":0},{"$f":"BF28+Aout!CE28","v":27},null,{"$f":"Aout!CG28","v":0},0,0,null,{"$f":"Aout!CK28","v":0},0,0,null,{"$f":"Aout!CO28","v":0},0,0,null,{"$f":"Aout!CS28","v":0},0,0]
[{"$f":"Aout!A29","v":"Ibrahim"},null,null,null,null,null,null,null,null,null,null,null,null,null,null,null,null,null,null,null,null,null,null,null,null,null,null,null,null,null,null,null,null,null,{"$f":"COUNTIF(C29:AG29,Accueil!$B$8)","v":0},{"$f":"COUNTIF(C29:AG29,Accueil!$B$9)","v":0},{"$f":"COUNTIF(C29:AG29,Accueil!$B$10)","v":0},{"$f":"COUNTIF(C29:AG29,Accueil!$B$11)","v":0},{"$f":"COUNTIF(C29:AG29,Accueil!$B$12)","v":0},{"$f":"COUNTIF(C29:AG29,Accueil!$B$13)","v":0},{"$f":"COUNTIF(C29:AG29,Accueil!$B$14)","v":0},{"$f":"COUNTIF(C29:AG29,Accueil!$B$15)","v":0},{"$f":"COUNTIF(C29:AG29,Accueil!$B$16)","v":0},{"$f":"COUNTIF(C29:AG29,Accueil!$B$17)","v":0},{"$f":"COUNTIF(C29:AG29,Accueil!$B$18)","v":0},{"$f":"COUNTIF(C29:AG29,Accueil!$B$19)","v":0},{"$f":"COUNTIF(C29:AG29,Accueil!$B$20)","v":0},{"$f":"COUNTIF(C29:AG29,Accueil!$B$21)","v":0},{"$f":"COUNTIF(C29:AG29,Accueil!$B$22)","v":0},{"$f":"COUNTIF(C29:AG29,Accueil!$B$23)","v":0},{"$f":"COUNTIF(C29:AG29,Accueil!$B$24)","v":0},{"$f":"COUNTIF(C29:AG29,Accueil!$B$25)","v":0},{"$f":"COUNTIF(C29:AG29,Accueil!$B$26)","v":0},{"$f":"COUNTIF(C29:AG29,Accueil!$B$27)","v":0},{"$f":"COUNTIF(C29:AG29,Accueil!$B$28)","v":0},{"$f":"COUNTIF(C29:AG29,Accueil!$B$29)","v":0},{"$f":"COUNTIF(C29:AG29,Accueil!$B$30)","v":0},0,null,{"$f":"AI29 +Aout!BH29","v":0},{"$f":"AJ29+Aout!BI29","v":0},{"$f":"AK29+Aout!BJ29","v":0},{"$f":"AL29+Aout!BK29","v":0},{"$f":"AM29+Aout!BL29","v":{"$error":"#VALUE!"}},{"$f":"AN29+Aout!BM29","v":0},{"$f":"AO29+Aout!BN29","v":0},{"$f":"AP29+Aout!BO29","v":0},{"$f":"AQ29+Aout!BP29","v":59},{"$f":"AR29+Aout!BQ29","v":0},{"$f":"AS29+Aout!BR29","v":0},{"$f":"AT29+Aout!BS29","v":0},{"$f":"AU29+Aout!BT29","v":0},{"$f":"AV29+Aout!BU29","v":0},{"$f":"AW29+Aout!BV29","v":0},{"$f":"AX29+Aout!BW29","v":5},{"$f":"AY29+Aout!BX29","v":0},{"$f":"AZ29+Aout!BY29","v":0},{"$f":"BA29+Aout!BZ29","v":0},{"$f":"BB29+Aout!CA29","v":0},{"$f":"BC29+Aout!CB29","v":0},{"$f":"BD29+Aout!CC29","v":0},{"$f":"BE29+Aout!CD29","v":0},{"$f":"BF29+Aout!CE29","v":59},null,{"$f":"Aout!CG29","v":0},5,-5,null,{"$f":"Aout!CK29","v":0},0,0,null,{"$f":"Aout!CO29","v":0},0,0,null,{"$f":"Aout!CS29","v":0},0,0]
[{"$f":"Aout!A30","v":"Julien"},null,null,null,null,null,null,null,null,null,null,null,null,null,null,null,null,null,null,null,null,null,null,null,null,null,null,null,null,null,null,null,null,null,{"$f":"COUNTIF(C30:AG30,Accueil!$B$8)","v":0},{"$f":"COUNTIF(C30:AG30,Accueil!$B$9)","v":0},{"$f":"COUNTIF(C30:AG30,Accueil!$B$10)","v":0},{"$f":"COUNTIF(C30:AG30,Accueil!$B$11)","v":0},{"$f":"COUNTIF(C30:AG30,Accueil!$B$12)","v":0},{"$f":"COUNTIF(C30:AG30,Accueil!$B$13)","v":0},{"$f":"COUNTIF(C30:AG30,Accueil!$B$14)","v":0},{"$f":"COUNTIF(C30:AG30,Accueil!$B$15)","v":0},{"$f":"COUNTIF(C30:AG30,Accueil!$B$16)","v":0},{"$f":"COUNTIF(C30:AG30,Accueil!$B$17)","v":0},{"$f":"COUNTIF(C30:AG30,Accueil!$B$18)","v":0},{"$f":"COUNTIF(C30:AG30,Accueil!$B$19)","v":0},{"$f":"COUNTIF(C30:AG30,Accueil!$B$20)","v":0},{"$f":"COUNTIF(C30:AG30,Accueil!$B$21)","v":0},{"$f":"COUNTIF(C30:AG30,Accueil!$B$22)","v":0},{"$f":"COUNTIF(C30:AG30,Accueil!$B$23)","v":0},{"$f":"COUNTIF(C30:AG30,Accueil!$B$24)","v":0},{"$f":"COUNTIF(C30:AG30,Accueil!$B$25)","v":0},{"$f":"COUNTIF(C30:AG30,Accueil!$B$26)","v":0},{"$f":"COUNTIF(C30:AG30,Accueil!$B$27)","v":0},{"$f":"COUNTIF(C30:AG30,Accueil!$B$28)","v":0},{"$f":"COUNTIF(C30:AG30,Accueil!$B$29)","v":0},{"$f":"COUNTIF(C30:AG30,Accueil!$B$30)","v":0},0,null,{"$f":"AI30 +Aout!BH30","v":0},{"$f":"AJ30+Aout!BI30","v":{"$error":"#VALUE!"}},{"$f":"AK30+Aout!BJ30","v":{"$error":"#VALUE!"}},{"$f":"AL30+Aout!BK30","v":{"$error":"#VALUE!"}},{"$f":"AM30+Aout!BL30","v":{"$error":"#VALUE!"}},{"$f":"AN30+Aout!BM30","v":{"$error":"#VALUE!"}},{"$f":"AO30+Aout!BN30","v":0},{"$f":"AP30+Aout!BO30","v":0},{"$f":"AQ30+Aout!BP30","v":34},{"$f":"AR30+Aout!BQ30","v":0},{"$f":"AS30+Aout!BR30","v":0},{"$f":"AT30+Aout!BS30","v":0},{"$f":"AU30+Aout!BT30","v":0},{"$f":"AV30+Aout!BU30","v":0},{"$f":"AW30+Aout!BV30","v":0},{"$f":"AX30+Aout!BW30","v":6},{"$f":"AY30+Aout!BX30","v":0},{"$f":"AZ30+Aout!BY30","v":0},{"$f":"BA30+Aout!BZ30","v":0},{"$f":"BB30+Aout!CA30","v":0},{"$f":"BC30+Aout!CB30","v":0},{"$f":"BD30+Aout!CC30","v":0},{"$f":"BE30+Aout!CD30","v":0},{"$f":"BF30+Aout!CE30","v":34},null,{"$f":"Aout!CG30","v":0},6,-6,null,{"$f":"Aout!CK30","v":0},0,0,null,{"$f":"Aout!CO30","v":0},0,0,null,{"$f":"Aout!CS30","v":0},0,0]
[{"$f":"Aout!A31","v":"Mario"},null,null,null,null,null,null,null,null,null,null,null,null,null,null,null,null,null,null,null,null,null,null,null,null,null,null,null,null,null,null,null,null,null,{"$f":"COUNTIF(C31:AG31,Accueil!$B$8)","v":0},{"$f":"COUNTIF(C31:AG31,Accueil!$B$9)","v":0},{"$f":"COUNTIF(C31:AG31,Accueil!$B$10)","v":0},{"$f":"COUNTIF(C31:AG31,Accueil!$B$11)","v":0},{"$f":"COUNTIF(C31:AG31,Accueil!$B$12)","v":0},{"$f":"COUNTIF(C31:AG31,Accueil!$B$13)","v":0},{"$f":"COUNTIF(C31:AG31,Accueil!$B$14)","v":0},{"$f":"COUNTIF(C31:AG31,Accueil!$B$15)","v":0},{"$f":"COUNTIF(C31:AG31,Accueil!$B$16)","v":0},{"$f":"COUNTIF(C31:AG31,Accueil!$B$17)","v":0},{"$f":"COUNTIF(C31:AG31,Accueil!$B$18)","v":0},{"$f":"COUNTIF(C31:AG31,Accueil!$B$19)","v":0},{"$f":"COUNTIF(C31:AG31,Accueil!$B$20)","v":0},{"$f":"COUNTIF(C31:AG31,Accueil!$B$21)","v":0},{"$f":"COUNTIF(C31:AG31,Accueil!$B$22)","v":0},{"$f":"COUNTIF(C31:AG31,Accueil!$B$23)","v":0},{"$f":"COUNTIF(C31:AG31,Accueil!$B$24)","v":0},{"$f":"COUNTIF(C31:AG31,Accueil!$B$25)","v":0},{"$f":"COUNTIF(C31:AG31,Accueil!$B$26)","v":0},{"$f":"COUNTIF(C31:AG31,Accueil!$B$27)","v":0},{"$f":"COUNTIF(C31:AG31,Accueil!$B$28)","v":0},{"$f":"COUNTIF(C31:AG31,Accueil!$B$29)","v":0},{"$f":"COUNTIF(C31:AG31,Accueil!$B$30)","v":0},0,null,{"$f":"AI31 +Aout!BH31","v":0},{"$f":"AJ31+Aout!BI31","v":0},{"$f":"AK31+Aout!BJ31","v":0},{"$f":"AL31+Aout!BK31","v":0},{"$f":"AM31+Aout!BL31","v":0},{"$f":"AN31+Aout!BM31","v":0},{"$f":"AO31+Aout!BN31","v":0},{"$f":"AP31+Aout!BO31","v":0},{"$f":"AQ31+Aout!BP31","v":16},{"$f":"AR31+Aout!BQ31","v":0},{"$f":"AS31+Aout!BR31","v":0},{"$f":"AT31+Aout!BS31","v":0},{"$f":"AU31+Aout!BT31","v":26},{"$f":"AV31+Aout!BU31","v":0},{"$f":"AW31+Aout!BV31","v":0},{"$f":"AX31+Aout!BW31","v":59},{"$f":"AY31+Aout!BX31","v":0},{"$f":"AZ31+Aout!BY31","v":0},{"$f":"BA31+Aout!BZ31","v":0},{"$f":"BB31+Aout!CA31","v":0},{"$f":"BC31+Aout!CB31","v":0},{"$f":"BD31+Aout!CC31","v":0},{"$f":"BE31+Aout!CD31","v":0},{"$f":"BF31+Aout!CE31","v":16},null,{"$f":"Aout!CG31","v":0},59,-59,null,{"$f":"Aout!CK31","v":0},0,0,null,{"$f":"Aout!CO31","v":0},0,0,null,{"$f":"Aout!CS31","v":0},0,0]
[{"$f":"Aout!A32","v":"Hamid"},null,null,null,null,null,null,null,null,null,null,null,null,null,null,null,null,null,null,null,null,null,null,null,null,null,null,null,null,null,null,null,null,null,{"$f":"COUNTIF(C32:AG32,Accueil!$B$8)","v":0},{"$f":"COUNTIF(C32:AG32,Accueil!$B$9)","v":0},{"$f":"COUNTIF(C32:AG32,Accueil!$B$10)","v":0},{"$f":"COUNTIF(C32:AG32,Accueil!$B$11)","v":0},{"$f":"COUNTIF(C32:AG32,Accueil!$B$12)","v":0},{"$f":"COUNTIF(C32:AG32,Accueil!$B$13)","v":0},{"$f":"COUNTIF(C32:AG32,Accueil!$B$14)","v":0},{"$f":"COUNTIF(C32:AG32,Accueil!$B$15)","v":0},{"$f":"COUNTIF(C32:AG32,Accueil!$B$16)","v":0},{"$f":"COUNTIF(C32:AG32,Accueil!$B$17)","v":0},{"$f":"COUNTIF(C32:AG32,Accueil!$B$18)","v":0},{"$f":"COUNTIF(C32:AG32,Accueil!$B$19)","v":0},{"$f":"COUNTIF(C32:AG32,Accueil!$B$20)","v":0},{"$f":"COUNTIF(C32:AG32,Accueil!$B$21)","v":0},{"$f":"COUNTIF(C32:AG32,Accueil!$B$22)","v":0},{"$f":"COUNTIF(C32:AG32,Accueil!$B$23)","v":0},{"$f":"COUNTIF(C32:AG32,Accueil!$B$24)","v":0},{"$f":"COUNTIF(C32:AG32,Accueil!$B$25)","v":0},{"$f":"COUNTIF(C32:AG32,Accueil!$B$26)","v":0},{"$f":"COUNTIF(C32:AG32,Accueil!$B$27)","v":0},{"$f":"COUNTIF(C32:AG32,Accueil!$B$28)","v":0},{"$f":"COUNTIF(C32:AG32,Accueil!$B$29)","v":0},{"$f":"COUNTIF(C32:AG32,Accueil!$B$30)","v":0},0,null,{"$f":"AI32 +Aout!BH32","v":0},{"$f":"AJ32+Aout!BI32","v":0},{"$f":"AK32+Aout!BJ32","v":0},{"$f":"AL32+Aout!BK32","v":0},{"$f":"AM32+Aout!BL32","v":0},{"$f":"AN32+Aout!BM32","v":0},{"$f":"AO32+Aout!BN32","v":0},{"$f":"AP32+Aout!BO32","v":0},{"$f":"AQ32+Aout!BP32","v":37},{"$f":"AR32+Aout!BQ32","v":0},{"$f":"AS32+Aout!BR32","v":0},{"$f":"AT32+Aout!BS32","v":0},{"$f":"AU32+Aout!BT32","v":0},{"$f":"AV32+Aout!BU32","v":10},{"$f":"AW32+Aout!BV32","v":10},{"$f":"AX32+Aout!BW32","v":0},{"$f":"AY32+Aout!BX32","v":0},{"$f":"AZ32+Aout!BY32","v":0},{"$f":"BA32+Aout!BZ32","v":0},{"$f":"BB32+Aout!CA32","v":0},{"$f":"BC32+Aout!CB32","v":0},{"$f":"BD32+Aout!CC32","v":0},{"$f":"BE32+Aout!CD32","v":10},{"$f":"BF32+Aout!CE32","v":42},null,{"$f":"Aout!CG32","v":0},5,-5,null,{"$f":"Aout!CK32","v":0},0,0,null,{"$f":"Aout!CO32","v":0},0,0,null,{"$f":"Aout!CS32","v":0},10,-10]
[null,{"$f":" \"Effectif minimum \" & Accueil!$B$8","v":"Effectif minimum M1"},{"$f":"COUNTIF(C3:C32,Accueil!$B$8)","v":1},{"$f":"COUNTIF(D3:D32,Accueil!$B$8)","v":2},{"$f":"COUNTIF(E3:E32,Accueil!$B$8)","v":0},{"$f":"COUNTIF(F3:F32,Accueil!$B$8)","v":0},{"$f":"COUNTIF(G3:G32,Accueil!$B$8)","v":2},{"$f":"COUNTIF(H3:H32,Accueil!$B$8)","v":3},{"$f":"COUNTIF(I3:I32,Accueil!$B$8)","v":1},{"$f":"COUNTIF(J3:J32,Accueil!$B$8)","v":0},{"$f":"COUNTIF(K3:K32,Accueil!$B$8)","v":2},{"$f":"COUNTIF(L3:L32,Accueil!$B$8)","v":0},{"$f":"COUNTIF(M3:M32,Accueil!$B$8)","v":0},{"$f":"COUNTIF(N3:N32,Accueil!$B$8)","v":2},{"$f":"COUNTIF(O3:O32,Accueil!$B$8)","v":4},{"$f":"COUNTIF(P3:P32,Accueil!$B$8)","v":0},{"$f":"COUNTIF(Q3:Q32,Accueil!$B$8)","v":1},{"$f":"COUNTIF(R3:R32,Accueil!$B$8)","v":2},{"$f":"COUNTIF(S3:S32,Accueil!$B$8)","v":0},{"$f":"COUNTIF(T3:T32,Accueil!$B$8)","v":0},{"$f":"COUNTIF(U3:U32,Accueil!$B$8)","v":3},{"$f":"COUNTIF(V3:V32,Accueil!$B$8)","v":4},{"$f":"COUNTIF(W3:W32,Accueil!$B$8)","v":1},{"$f":"COUNTIF(X3:X32,Accueil!$B$8)","v":1},{"$f":"COUNTIF(Y3:Y32,Accueil!$B$8)","v":3},{"$f":"COUNTIF(Z3:Z32,Accueil!$B$8)","v":0},{"$f":"COUNTIF(AA3:AA32,Accueil!$B$8)","v":0},{"$f":"COUNTIF(AB3:AB32,Accueil!$B$8)","v":2},{"$f":"COUNTIF(AC3:AC32,Accueil!$B$8)","v":4},{"$f":"COUNTIF(AD3:AD32,Accueil!$B$8)","v":1},{"$f":"COUNTIF(AE3:AE32,Accueil!$B$8)","v":1},{"$f":"COUNTIF(AF3:AF32,Accueil!$B$8)","v":3},{"$f":"COUNTIF(AG3:AG32,Accueil!$B$8)","v":0},null,"Jours travaillés",null,null,null,null,null,null,null,null,null,null,null,"Jours non travaillés",null,null,null,null,null,null,null,null,null,null,null,null,"Jours travaillés",null,null,null,null,null,null,null,null,null,null,null,"Jours non travaillés"]
[null,{"$f":" \"Effectif minimum \" & Accueil!$B$9","v":"Effectif minimum M2"},{"$f":"COUNTIF(C3:C32,Accueil!$B$9)","v":0},{"$f":"COUNTIF(D3:D32,Accueil!$B$9)","v":1},{"$f":"COUNTIF(E3:E32,Accueil!$B$9)","v":0},{"$f":"COUNTIF(F3:F32,Accueil!$B$9)","v":0},{"$f":"COUNTIF(G3:G32,Accueil!$B$9)","v":0},{"$f":"COUNTIF(H3:H32,Accueil!$B$9)","v":3},{"$f":"COUNTIF(I3:I32,Accueil!$B$9)","v":0},{"$f":"COUNTIF(J3:J32,Accueil!$B$9)","v":0},{"$f":"COUNTIF(K3:K32,Accueil!$B$9)","v":1},{"$f":"COUNTIF(L3:L32,Accueil!$B$9)","v":0},{"$f":"COUNTIF(M3:M32,Accueil!$B$9)","v":0},{"$f":"COUNTIF(N3:N32,Accueil!$B$9)","v":0},{"$f":"COUNTIF(O3:O32,Accueil!$B$9)","v":3},{"$f":"COUNTIF(P3:P32,Accueil!$B$9)","v":0},{"$f":"COUNTIF(Q3:Q32,Accueil!$B$9)","v":0},{"$f":"COUNTIF(R3:R32,Accueil!$B$9)","v":0},{"$f":"COUNTIF(S3:S32,Accueil!$B$9)","v":0},{"$f":"COUNTIF(T3:T32,Accueil!$B$9)","v":0},{"$f":"COUNTIF(U3:U32,Accueil!$B$9)","v":0},{"$f":"COUNTIF(V3:V32,Accueil!$B$9)","v":3},{"$f":"COUNTIF(W3:W32,Accueil!$B$9)","v":0},{"$f":"COUNTIF(X3:X32,Accueil!$B$9)","v":0},{"$f":"COUNTIF(Y3:Y32,Accueil!$B$9)","v":0},{"$f":"COUNTIF(Z3:Z32,Accueil!$B$9)","v":0},{"$f":"COUNTIF(AA3:AA32,Accueil!$B$9)","v":0},{"$f":"COUNTIF(AB3:AB32,Accueil!$B$9)","v":0},{"$f":"COUNTIF(AC3:AC32,Accueil!$B$9)","v":4},{"$f":"COUNTIF(AD3:AD32,Accueil!$B$9)","v":0},{"$f":"COUNTIF(AE3:AE32,Accueil!$B$9)","v":0},{"$f":"COUNTIF(AF3:AF32,Accueil!$B$9)","v":1},{"$f":"COUNTIF(AG3:AG32,Accueil!$B$9)","v":0}]
[null,{"$f":"\"Effectif minimum \" & Accueil!$B$10","v":"Effectif minimum M3"},{"$f":"COUNTIF(C3:C32,Accueil!$B$10)","v":1},{"$f":"COUNTIF(D3:D32,Accueil!$B$10)","v":0},{"$f":"COUNTIF(E3:E32,Accueil!$B$10)","v":0},{"$f":"COUNTIF(F3:F32,Accueil!$B$10)","v":0},{"$f":"COUNTIF(G3:G32,Accueil!$B$10)","v":1},{"$f":"COUNTIF(H3:H32,Accueil!$B$10)","v":0},{"$f":"COUNTIF(I3:I32,Accueil!$B$10)","v":0},{"$f":"COUNTIF(J3:J32,Accueil!$B$10)","v":0},{"$f":"COUNTIF(K3:K32,Accueil!$B$10)","v":0},{"$f":"COUNTIF(L3:L32,Accueil!$B$10)","v":0},{"$f":"COUNTIF(M3:M32,Accueil!$B$10)","v":0},{"$f":"COUNTIF(N3:N32,Accueil!$B$10)","v":0},{"$f":"COUNTIF(O3:O32,Accueil!$B$10)","v":0},{"$f":"COUNTIF(P3:P32,Accueil!$B$10)","v":1},{"$f":"COUNTIF(Q3:Q32,Accueil!$B$10)","v":1},{"$f":"COUNTIF(R3:R32,Accueil!$B$10)","v":0},{"$f":"COUNTIF(S3:S32,Accueil!$B$10)","v":0},{"$f":"COUNTIF(T3:T32,Accueil!$B$10)","v":0},{"$f":"COUNTIF(U3:U32,Accueil!$B$10)","v":0},{"$f":"COUNTIF(V3:V32,Accueil!$B$10)","v":0},{"$f":"COUNTIF(W3:W32,Accueil!$B$10)","v":0},{"$f":"COUNTIF(X3:X32,Accueil!$B$10)","v":1},{"$f":"COUNTIF(Y3:Y32,Accueil!$B$10)","v":0},{"$f":"COUNTIF(Z3:Z32,Accueil!$B$10)","v":0},{"$f":"COUNTIF(AA3:AA32,Accueil!$B$10)","v":0},{"$f":"COUNTIF(AB3:AB32,Accueil!$B$10)","v":1},{"$f":"COUNTIF(AC3:AC32,Accueil!$B$10)","v":0},{"$f":"COUNTIF(AD3:AD32,Accueil!$B$10)","v":1},{"$f":"COUNTIF(AE3:AE32,Accueil!$B$10)","v":1},{"$f":"COUNTIF(AF3:AF32,Accueil!$B$10)","v":0},{"$f":"COUNTIF(AG3:AG32,Accueil!$B$10)","v":0}]
[2,"MATIN",{"$f":"C33+C34+C35+C37","v":2},{"$f":"D33+D34+D35+D37","v":4},0,2,4,8,3,1,4,1,1,3,7,3,2,3,0,0,4,8,3,2,4,1,2,4,10,4,2,5,0]
[null,{"$f":"\"Effectif minimum \" & Accueil!$B$11","v":"Effectif minimum MP"},{"$f":"COUNTIF(C3:C32,Accueil!$B$11)","v":0},{"$f":"COUNTIF(D3:D32,Accueil!$B$11)","v":1},{"$f":"COUNTIF(E3:E32,Accueil!$B$11)","v":0},{"$f":"COUNTIF(F3:F32,Accueil!$B$11)","v":2},{"$f":"COUNTIF(G3:G32,Accueil!$B$11)","v":1},{"$f":"COUNTIF(H3:H32,Accueil!$B$11)","v":2},{"$f":"COUNTIF(I3:I32,Accueil!$B$11)","v":2},{"$f":"COUNTIF(J3:J32,Accueil!$B$11)","v":1},{"$f":"COUNTIF(K3:K32,Accueil!$B$11)","v":1},{"$f":"COUNTIF(L3:L32,Accueil!$B$11)","v":1},{"$f":"COUNTIF(M3:M32,Accueil!$B$11)","v":1},{"$f":"COUNTIF(N3:N32,Accueil!$B$11)","v":1},{"$f":"COUNTIF(O3:O32,Accueil!$B$11)","v":0},{"$f":"COUNTIF(P3:P32,Accueil!$B$11)","v":2},{"$f":"COUNTIF(Q3:Q32,Accueil!$B$11)","v":0},{"$f":"COUNTIF(R3:R32,Accueil!$B$11)","v":1},{"$f":"COUNTIF(S3:S32,Accueil!$B$11)","v":0},{"$f":"COUNTIF(T3:T32,Accueil!$B$11)","v":0},{"$f":"COUNTIF(U3:U32,Accueil!$B$11)","v":1},{"$f":"COUNTIF(V3:V32,Accueil!$B$11)","v":1},{"$f":"COUNTIF(W3:W32,Accueil!$B$11)","v":2},{"$f":"COUNTIF(X3:X32,Accueil!$B$11)","v":0},{"$f":"COUNTIF(Y3:Y32,Accueil!$B$11)","v":1},{"$f":"COUNTIF(Z3:Z32,Accueil!$B$11)","v":1},{"$f":"COUNTIF(AA3:AA32,Accueil!$B$11)","v":2},{"$f":"COUNTIF(AB3:AB32,Accueil!$B$11)","v":1},{"$f":"COUNTIF(AC3:AC32,Accueil!$B$11)","v":2},{"$f":"COUNTIF(AD3:AD32,Accueil!$B$11)","v":2},{"$f":"COUNTIF(AE3:AE32,Accueil!$B$11)","v":0},{"$f":"COUNTIF(AF3:AF32,Accueil!$B$11)","v":1},{"$f":"COUNTIF(AG3:AG32,Accueil!$B$11)","v":0}]
[null,{"$f":"\"Effectif minimum \" & Accueil!$B$12","v":"Effectif minimum AP1"},{"$f":"COUNTIF(C3:C32,Accueil!$B$12)","v":2},{"$f":"COUNTIF(D3:D32,Accueil!$B$12)","v":0},{"$f":"COUNTIF(E3:E32,Accueil!$B$12)","v":0},{"$f":"COUNTIF(F3:F32,Accueil!$B$12)","v":0},{"$f":"COUNTIF(G3:G32,Accueil!$B$12)","v":0},{"$f":"COUNTIF(H3:H32,Accueil!$B$12)","v":0},{"$f":"COUNTIF(I3:I32,Accueil!$B$12)","v":0},{"$f":"COUNTIF(J3:J32,Accueil!$B$12)","v":0},{"$f":"COUNTIF(K3:K32,Accueil!$B$12)","v":0},{"$f":"COUNTIF(L3:L32,Accueil!$B$12)","v":0},{"$f":"COUNTIF(M3:M32,Accueil!$B$12)","v":0},{"$f":"COUNTIF(N3:N32,Accueil!$B$12)","v":0},{"$f":"COUNTIF(O3:O32,Accueil!$B$12)","v":0},{"$f":"COUNTIF(P3:P32,Accueil!$B$12)","v":0},{"$f":"COUNTIF(Q3:Q32,Accueil!$B$12)","v":2},{"$f":"COUNTIF(R3:R32,Accueil!$B$12)","v":0},{"$f":"COUNTIF(S3:S32,Accueil!$B$12)","v":0},{"$f":"COUNTIF(T3:T32,Accueil!$B$12)","v":0},{"$f":"COUNTIF(U3:U32,Accueil!$B$12)","v":0},{"$f":"COUNTIF(V3:V32,Accueil!$B$12)","v":0},{"$f":"COUNTIF(W3:W32,Accueil!$B$12)","v":0},{"$f":"COUNTIF(X3:X32,Accueil!$B$12)","v":2},{"$f":"COUNTIF(Y3:Y32,Accueil!$B$12)","v":0},{"$f":"COUNTIF(Z3:Z32,Accueil!$B$12)","v":0},{"$f":"COUNTIF(AA3:AA32,Accueil!$B$12)","v":0},{"$f":"COUNTIF(AB3:AB32,Accueil!$B$12)","v":0},{"$f":"COUNTIF(AC3:AC32,Accueil!$B$12)","v":0},{"$f":"COUNTIF(AD3:AD32,Accueil!$B$12)","v":0},{"$f":"COUNTIF(AE3:AE32,Accueil!$B$12)","v":2},{"$f":"COUNTIF(AF3:AF32,Accueil!$B$12)","v":0},{"$f":"COUNTIF(AG3:AG32,Accueil!$B$12)","v":0}]
[null,{"$f":"\"Effectif minimum \" & Accueil!$B$13","v":"Effectif minimum AP2"},{"$f":"COUNTIF(C3:C32,Accueil!$B$13)","v":0},{"$f":"COUNTIF(D3:D32,Accueil!$B$13)","v":1},{"$f":"COUNTIF(E3:E32,Accueil!$B$13)","v":0},{"$f":"COUNTIF(F3:F32,Accueil!$B$13)","v":0},{"$f":"COUNTIF(G3:G32,Accueil!$B$13)","v":0},{"$f":"COUNTIF(H3:H32,Accueil!$B$13)","v":0},{"$f":"COUNTIF(I3:I32,Accueil!$B$13)","v":0},{"$f":"COUNTIF(J3:J32,Accueil!$B$13)","v":0},{"$f":"COUNTIF(K3:K32,Accueil!$B$13)","v":0},{"$f":"COUNTIF(L3:L32,Accueil!$B$13)","v":0},{"$f":"COUNTIF(M3:M32,Accueil!$B$13)","v":0},{"$f":"COUNTIF(N3:N32,Accueil!$B$13)","v":1},{"$f":"COUNTIF(O3:O32,Accueil!$B$13)","v":0},{"$f":"COUNTIF(P3:P32,Accueil!$B$13)","v":0},{"$f":"COUNTIF(Q3:Q32,Accueil!$B$13)","v":0},{"$f":"COUNTIF(R3:R32,Accueil!$B$13)","v":0},{"$f":"COUNTIF(S3:S32,Accueil!$B$13)","v":0},{"$f":"COUNTIF(T3:T32,Accueil!$B$13)","v":0},{"$f":"COUNTIF(U3:U32,Accueil!$B$13)","v":1},{"$f":"COUNTIF(V3:V32,Accueil!$B$13)","v":0},{"$f":"COUNTIF(W3:W32,Accueil!$B$13)","v":0},{"$f":"COUNTIF(X3:X32,Accueil!$B$13)","v":0},{"$f":"COUNTIF(Y3:Y32,Accueil!$B$13)","v":0},{"$f":"COUNTIF(Z3:Z32,Accueil!$B$13)","v":0},{"$f":"COUNTIF(AA3:AA32,Accueil!$B$13)","v":0},{"$f":"COUNTIF(AB3:AB32,Accueil!$B$13)","v":1},{"$f":"COUNTIF(AC3:AC32,Accueil!$B$13)","v":0},{"$f":"COUNTIF(AD3:AD32,Accueil!$B$13)","v":0},{"$f":"COUNTIF(AE3:AE32,Accueil!$B$13)","v":0},{"$f":"COUNTIF(AF3:AF32,Accueil!$B$13)","v":0},{"$f":"COUNTIF(AG3:AG32,Accueil!$B$13)","v":0}]
[null,{"$f":"\"Effectif minimum \" & Accueil!$B$14","v":"Effectif minimum AP3"},{"$f":"COUNTIF(C3:C32,Accueil!$B$14)","v":0},{"$f":"COUNTIF(D3:D32,Accueil!$B$14)","v":0},{"$f":"COUNTIF(E3:E32,Accueil!$B$14)","v":0},{"$f":"COUNTIF(F3:F32,Accueil!$B$14)","v":0},{"$f":"COUNTIF(G3:G32,Accueil!$B$14)","v":0},{"$f":"COUNTIF(H3:H32,Accueil!$B$14)","v":0},{"$f":"COUNTIF(I3:I32,Accueil!$B$14)","v":0},{"$f":"COUNTIF(J3:J32,Accueil!$B$14)","v":0},{"$f":"COUNTIF(K3:K32,Accueil!$B$14)","v":0},{"$f":"COUNTIF(L3:L32,Accueil!$B$14)","v":0},{"$f":"COUNTIF(M3:M32,Accueil!$B$14)","v":0},{"$f":"COUNTIF(N3:N32,Accueil!$B$14)","v":0},{"$f":"COUNTIF(O3:O32,Accueil!$B$14)","v":0},{"$f":"COUNTIF(P3:P32,Accueil!$B$14)","v":0},{"$f":"COUNTIF(Q3:Q32,Accueil!$B$14)","v":0},{"$f":"COUNTIF(R3:R32,Accueil!$B$14)","v":0},{"$f":"COUNTIF(S3:S32,Accueil!$B$14)","v":0},{"$f":"COUNTIF(T3:T32,Accueil!$B$14)","v":0},{"$f":"COUNTIF(U3:U32,Accueil!$B$14)","v":0},{"$f":"COUNTIF(V3:V32,Accueil!$B$14)","v":0},{"$f":"COUNTIF(W3:W32,Accueil!$B$14)","v":0},{"$f":"COUNTIF(X3:X32,Accueil!$B$14)","v":0},{"$f":"COUNTIF(Y3:Y32,Accueil!$B$14)","v":0},{"$f":"COUNTIF(Z3:Z32,Accueil!$B$14)","v":0},{"$f":"COUNTIF(AA3:AA32,Accueil!$B$14)","v":0},{"$f":"COUNTIF(AB3:AB32,Accueil!$B$14)","v":0},{"$f":"COUNTIF(AC3:AC32,Accueil!$B$14)","v":0},{"$f":"COUNTIF(AD3:AD32,Accueil!$B$14)","v":0},{"$f":"COUNTIF(AE3:AE32,Accueil!$B$14)","v":0},{"$f":"COUNTIF(AF3:AF32,Accueil!$B$14)","v":0},{"$f":"COUNTIF(AG3:AG32,Accueil!$B$14)","v":0}]
[1,{"$f":"\"Effectif minimum \" & Accueil!$B$15","v":"Effectif minimum P1"},{"$f":"COUNTIF(C3:C32,Accueil!$B$15)","v":0},{"$f":"COUNTIF(D3:D32,Accueil!$B$15)","v":0},{"$f":"COUNTIF(E3:E32,Accueil!$B$15)","v":0},{"$f":"COUNTIF(F3:F32,Accueil!$B$15)","v":0},{"$f":"COUNTIF(G3:G32,Accueil!$B$15)","v":0},{"$f":"COUNTIF(H3:H32,Accueil!$B$15)","v":0},{"$f":"COUNTIF(I3:I32,Accueil!$B$15)","v":0},{"$f":"COUNTIF(J3:J32,Accueil!$B$15)","v":0},{"$f":"COUNTIF(K3:K32,Accueil!$B$15)","v":0},{"$f":"COUNTIF(L3:L32,Accueil!$B$15)","v":0},{"$f":"COUNTIF(M3:M32,Accueil!$B$15)","v":0},{"$f":"COUNTIF(N3:N32,Accueil!$B$15)","v":0},{"$f":"COUNTIF(O3:O32,Accueil!$B$15)","v":0},{"$f":"COUNTIF(P3:P32,Accueil!$B$15)","v":0},{"$f":"COUNTIF(Q3:Q32,Accueil!$B$15)","v":0},{"$f":"COUNTIF(R3:R32,Accueil!$B$15)","v":0},{"$f":"COUNTIF(S3:S32,Accueil!$B$15)","v":0},{"$f":"COUNTIF(T3:T32,Accueil!$B$15)","v":0},{"$f":"COUNTIF(U3:U32,Accueil!$B$15)","v":0},{"$f":"COUNTIF(V3:V32,Accueil!$B$15)","v":0},{"$f":"COUNTIF(W3:W32,Accueil!$B$15)","v":0},{"$f":"COUNTIF(X3:X32,Accueil!$B$15)","v":0},{"$f":"COUNTIF(Y3:Y32,Accueil!$B$15)","v":0},{"$f":"COUNTIF(Z3:Z32,Accueil!$B$15)","v":0},{"$f":"COUNTIF(AA3:AA32,Accueil!$B$15)","v":0},{"$f":"COUNTIF(AB3:AB32,Accueil!$B$15)","v":0},{"$f":"COUNTIF(AC3:AC32,Accueil!$B$15)","v":0},{"$f":"COUNTIF(AD3:AD32,Accueil!$B$15)","v":0},{"$f":"COUNTIF(AE3:AE32,Accueil!$B$15)","v":0},{"$f":"COUNTIF(AF3:AF32,Accueil!$B$15)","v":0},{"$f":"COUNTIF(AG3:AG32,Accueil!$B$15)","v":0}]
[2,"APRES-MIDI",{"$f":"C37+C38+C39+C41","v":2},{"$f":"D37+D38+D39+D41","v":2},{"$f":"E37+E38+E39+E41","v":0},{"$f":"F37+F38+F39+F41","v":2},{"$f":"G37+G38+G39+G41","v":1},2,2,1,1,1,1,2,0,2,2,1,0,0,2,1,2,2,1,1,2,2,2,2,2,1,0]
[2,"SOIREE",{"$f":"C37+C38+C39+C41","v":2},{"$f":"D37+D38+D39+D41","v":2},0,2,1,2,2,1,1,1,1,2,0,2,2,1,0,0,2,1,2,2,1,1,2,2,2,2,2,1,0]
[null,{"$f":" \"Effectif minimum \" & Accueil!$B$17 & \" \"","v":"Effectif minimum BI "},{"$f":"COUNTIF(C3:C32,Accueil!$B$17)","v":0},{"$f":"COUNTIF(D3:D32,Accueil!$B$17)","v":0},{"$f":"COUNTIF(E3:E32,Accueil!$B$17)","v":0},{"$f":"COUNTIF(F3:F32,Accueil!$B$17)","v":0},{"$f":"COUNTIF(G3:G32,Accueil!$B$17)","v":0},{"$f":"COUNTIF(H3:H32,Accueil!$B$17)","v":0},{"$f":"COUNTIF(I3:I32,Accueil!$B$17)","v":0},{"$f":"COUNTIF(J3:J32,Accueil!$B$17)","v":0},{"$f":"COUNTIF(K3:K32,Accueil!$B$17)","v":0},{"$f":"COUNTIF(L3:L32,Accueil!$B$17)","v":0},{"$f":"COUNTIF(M3:M32,Accueil!$B$17)","v":0},{"$f":"COUNTIF(N3:N32,Accueil!$B$17)","v":0},{"$f":"COUNTIF(O3:O32,Accueil!$B$17)","v":0},{"$f":"COUNTIF(P3:P32,Accueil!$B$17)","v":0},{"$f":"COUNTIF(Q3:Q32,Accueil!$B$17)","v":0},{"$f":"COUNTIF(R3:R32,Accueil!$B$17)","v":0},{"$f":"COUNTIF(S3:S32,Accueil!$B$17)","v":0},{"$f":"COUNTIF(T3:T32,Accueil!$B$17)","v":0},{"$f":"COUNTIF(U3:U32,Accueil!$B$17)","v":0},{"$f":"COUNTIF(V3:V32,Accueil!$B$17)","v":0},{"$f":"COUNTIF(W3:W32,Accueil!$B$17)","v":0},{"$f":"COUNTIF(X3:X32,Accueil!$B$17)","v":0},{"$f":"COUNTIF(Y3:Y32,Accueil!$B$17)","v":0},{"$f":"COUNTIF(Z3:Z32,Accueil!$B$17)","v":0},{"$f":"COUNTIF(AA3:AA32,Accueil!$B$17)","v":0},{"$f":"COUNTIF(AB3:AB32,Accueil!$B$17)","v":0},{"$f":"COUNTIF(AC3:AC32,Accueil!$B$17)","v":0},{"$f":"COUNTIF(AD3:AD32,Accueil!$B$17)","v":0},{"$f":"COUNTIF(AE3:AE32,Accueil!$B$17)","v":0},{"$f":"COUNTIF(AF3:AF32,Accueil!$B$17)","v":0},{"$f":"COUNTIF(AG3:AG32,Accueil!$B$17)","v":0}]
[null,{"$f":" \"Effectif minimum \" & Accueil!$B$18 & \" \"","v":"Effectif minimum LY "},{"$f":"COUNTIF(C3:C32,Accueil!$B$18)","v":0},{"$f":"COUNTIF(D3:D32,Accueil!$B$18)","v":0},{"$f":"COUNTIF(E3:E32,Accueil!$B$18)","v":0},{"$f":"COUNTIF(F3:F32,Accueil!$B$18)","v":1},{"$f":"COUNTIF(G3:G32,Accueil!$B$18)","v":0},{"$f":"COUNTIF(H3:H32,Accueil!$B$18)","v":0},{"$f":"COUNTIF(I3:I32,Accueil!$B$18)","v":1},{"$f":"COUNTIF(J3:J32,Accueil!$B$18)","v":0},{"$f":"COUNTIF(K3:K32,Accueil!$B$18)","v":0},{"$f":"COUNTIF(L3:L32,Accueil!$B$18)","v":0},{"$f":"COUNTIF(M3:M32,Accueil!$B$18)","v":0},{"$f":"COUNTIF(N3:N32,Accueil!$B$18)","v":0},{"$f":"COUNTIF(O3:O32,Accueil!$B$18)","v":0},{"$f":"COUNTIF(P3:P32,Accueil!$B$18)","v":1},{"$f":"COUNTIF(Q3:Q32,Accueil!$B$18)","v":0},{"$f":"COUNTIF(R3:R32,Accueil!$B$18)","v":0},{"$f":"COUNTIF(S3:S32,Accueil!$B$18)","v":0},{"$f":"COUNTIF(T3:T32,Accueil!$B$18)","v":0},{"$f":"COUNTIF(U3:U32,Accueil!$B$18)","v":0},{"$f":"COUNTIF(V3:V32,Accueil!$B$18)","v":0},{"$f":"COUNTIF(W3:W32,Accueil!$B$18)","v":0},{"$f":"COUNTIF(X3:X32,Accueil!$B$18)","v":0},{"$f":"COUNTIF(Y3:Y32,Accueil!$B$18)","v":0},{"$f":"COUNTIF(Z3:Z32,Accueil!$B$18)","v":0},{"$f":"COUNTIF(AA3:AA32,Accueil!$B$18)","v":0},{"$f":"COUNTIF(AB3:AB32,Accueil!$B$18)","v":0},{"$f":"COUNTIF(AC3:AC32,Accueil!$B$18)","v":0},{"$f":"COUNTIF(AD3:AD32,Accueil!$B$18)","v":1},{"$f":"COUNTIF(AE3:AE32,Accueil!$B$18)","v":0},{"$f":"COUNTIF(AF3:AF32,Accueil!$B$18)","v":0},{"$f":"COUNTIF(AG3:AG32,Accueil!$B$18)","v":0}]
[{"$f":"Aout!A46","v":0},{"$f":" \"Effectif minimum \" & Accueil!$B$19 & \" \"","v":"Effectif minimum ST "},{"$f":"COUNTIF(C3:C32,Accueil!$B$19)","v":0},{"$f":"COUNTIF(D3:D32,Accueil!$B$19)","v":0},{"$f":"COUNTIF(E3:E32,Accueil!$B$19)","v":0},{"$f":"COUNTIF(F3:F32,Accueil!$B$19)","v":0},{"$f":"COUNTIF(G3:G32,Accueil!$B$19)","v":0},{"$f":"COUNTIF(H3:H32,Accueil!$B$19)","v":0},{"$f":"COUNTIF(I3:I32,Accueil!$B$19)","v":0},{"$f":"COUNTIF(J3:J32,Accueil!$B$19)","v":0},{"$f":"COUNTIF(K3:K32,Accueil!$B$19)","v":0},{"$f":"COUNTIF(L3:L32,Accueil!$B$19)","v":0},{"$f":"COUNTIF(M3:M32,Accueil!$B$19)","v":0},{"$f":"COUNTIF(N3:N32,Accueil!$B$19)","v":0},{"$f":"COUNTIF(O3:O32,Accueil!$B$19)","v":0},{"$f":"COUNTIF(P3:P32,Accueil!$B$19)","v":0},{"$f":"COUNTIF(Q3:Q32,Accueil!$B$19)","v":0},{"$f":"COUNTIF(R3:R32,Accueil!$B$19)","v":0},{"$f":"COUNTIF(S3:S32,Accueil!$B$19)","v":0},{"$f":"COUNTIF(T3:T32,Accueil!$B$19)","v":0},{"$f":"COUNTIF(U3:U32,Accueil!$B$19)","v":0},{"$f":"COUNTIF(V3:V32,Accueil!$B$19)","v":0},{"$f":"COUNTIF(W3:W32,Accueil!$B$19)","v":0},{"$f":"COUNTIF(X3:X32,Accueil!$B$19)","v":0},{"$f":"COUNTIF(Y3:Y32,Accueil!$B$19)","v":0},{"$f":"COUNTIF(Z3:Z32,Accueil!$B$19)","v":0},{"$f":"COUNTIF(AA3:AA32,Accueil!$B$19)","v":0},{"$f":"COUNTIF(AB3:AB32,Accueil!$B$19)","v":0},{"$f":"COUNTIF(AC3:AC32,Accueil!$B$19)","v":0},{"$f":"COUNTIF(AD3:AD32,Accueil!$B$19)","v":0},{"$f":"COUNTIF(AE3:AE32,Accueil!$B$19)","v":0},{"$f":"COUNTIF(AF3:AF32,Accueil!$B$19)","v":0},{"$f":"COUNTIF(AG3:AG32,Accueil!$B$19)","v":0}]
[1,{"$f":"\"Effectif minimum \" & Accueil!$B$16","v":"Effectif minimum Nuit"},{"$f":"COUNTIF(C3:C32,Accueil!$B$16)","v":0},{"$f":"COUNTIF(D3:D32,Accueil!$B$16)","v":0},{"$f":"COUNTIF(E3:E32,Accueil!$B$16)","v":0},{"$f":"COUNTIF(F3:F32,Accueil!$B$16)","v":0},{"$f":"COUNTIF(G3:G32,Accueil!$B$16)","v":0},{"$f":"COUNTIF(H3:H32,Accueil!$B$16)","v":0},{"$f":"COUNTIF(I3:I32,Accueil!$B$16)","v":0},{"$f":"COUNTIF(J3:J32,Accueil!$B$16)","v":0},{"$f":"COUNTIF(K3:K32,Accueil!$B$16)","v":0},{"$f":"COUNTIF(L3:L32,Accueil!$B$16)","v":0},{"$f":"COUNTIF(M3:M32,Accueil!$B$16)","v":0},{"$f":"COUNTIF(N3:N32,Accueil!$B$16)","v":0},{"$f":"COUNTIF(O3:O32,Accueil!$B$16)","v":0},{"$f":"COUNTIF(P3:P32,Accueil!$B$16)","v":0},{"$f":"COUNTIF(Q3:Q32,Accueil!$B$16)","v":0},{"$f":"COUNTIF(R3:R32,Accueil!$B$16)","v":0},{"$f":"COUNTIF(S3:S32,Accueil!$B$16)","v":0},{"$f":"COUNTIF(T3:T32,Accueil!$B$16)","v":0},{"$f":"COUNTIF(U3:U32,Accueil!$B$16)","v":0},{"$f":"COUNTIF(V3:V32,Accueil!$B$16)","v":0},{"$f":"COUNTIF(W3:W32,Accueil!$B$16)","v":0},{"$f":"COUNTIF(X3:X32,Accueil!$B$16)","v":0},{"$f":"COUNTIF(Y3:Y32,Accueil!$B$16)","v":0},{"$f":"COUNTIF(Z3:Z32,Accueil!$B$16)","v":0},{"$f":"COUNTIF(AA3:AA32,Accueil!$B$16)","v":0},{"$f":"COUNTIF(AB3:AB32,Accueil!$B$16)","v":0},{"$f":"COUNTIF(AC3:AC32,Accueil!$B$16)","v":0},{"$f":"COUNTIF(AD3:AD32,Accueil!$B$16)","v":0},{"$f":"COUNTIF(AE3:AE32,Accueil!$B$16)","v":0},{"$f":"COUNTIF(AF3:AF32,Accueil!$B$16)","v":0},{"$f":"COUNTIF(AG3:AG32,Accueil!$B$16)","v":0}]

{"sheet":"Oct","index":11,"n_rows":47,"n_cols":99,"rows_kept":47,"cut":false,"hidden":false,"merged":[[0,92,0,94],[0,96,0,98],[1,0,1,1],[2,0,2,1],[0,0,0,1],[0,84,0,86],[0,88,0,90],[3,0,3,1],[4,0,4,1],[5,0,5,1],[12,0,12,1],[6,0,6,1],[13,0,13,1],[14,0,14,1],[7,0,7,1],[8,0,8,1],[9,0,9,1],[10,0,10,1],[11,0,11,1],[19,0,19,1],[20,0,20,1],[21,0,21,1],[22,0,22,1],[15,0,15,1],[16,0,16,1],[17,0,17,1],[18,0,18,1],[23,0,23,1],[24,0,24,1],[25,0,25,1],[26,0,26,1],[31,0,31,1],[27,0,27,1],[28,0,28,1],[29,0,29,1],[30,0,30,1]]}
[{"$f":"DATE(Accueil!C2,10,1)","v":"2016-10-01"},null,{"$f":"INDEX({\"D\";\"L\";\"M\";\"M\";\"J\";\"V\";\"S\"},WEEKDAY(C2))","v":"S"},{"$f":"INDEX({\"D\";\"L\";\"M\";\"M\";\"J\";\"V\";\"S\"},WEEKDAY(D2))","v":"D"},{"$f":"INDEX({\"D\";\"L\";\"M\";\"M\";\"J\";\"V\";\"S\"},WEEKDAY(E2))","v":"L"},{"$f":"INDEX({\"D\";\"L\";\"M\";\"M\";\"J\";\"V\";\"S\"},WEEKDAY(F2))","v":"M"},{"$f":"INDEX({\"D\";\"L\";\"M\";\"M\";\"J\";\"V\";\"S\"},WEEKDAY(G2))","v":"M"},{"$f":"INDEX({\"D\";\"L\";\"M\";\"M\";\"J\";\"V\";\"S\"},WEEKDAY(H2))","v":"J"},{"$f":"INDEX({\"D\";\"L\";\"M\";\"M\";\"J\";\"V\";\"S\"},WEEKDAY(I2))","v":"V"},{"$f":"INDEX({\"D\";\"L\";\"M\";\"M\";\"J\";\"V\";\"S\"},WEEKDAY(J2))","v":"S"},{"$f":"INDEX({\"D\";\"L\";\"M\";\"M\";\"J\";\"V\";\"S\"},WEEKDAY(K2))","v":"D"},{"$f":"INDEX({\"D\";\"L\";\"M\";\"M\";\"J\";\"V\";\"S\"},WEEKDAY(L2))","v":"L"},{"$f":"INDEX({\"D\";\"L\";\"M\";\"M\";\"J\";\"V\";\"S\"},WEEKDAY(M2))","v":"M"},{"$f":"INDEX({\"D\";\"L\";\"M\";\"M\";\"J\";\"V\";\"S\"},WEEKDAY(N2))","v":"M"},{"$f":"INDEX({\"D\";\"L\";\"M\";\"M\";\"J\";\"V\";\"S\"},WEEKDAY(O2))","v":"J"},{"$f":"INDEX({\"D\";\"L\";\"M\";\"M\";\"J\";\"V\";\"S\"},WEEKDAY(P2))","v":"V"},{"$f":"INDEX({\"D\";\"L\";\"M\";\"M\";\"J\";\"V\";\"S\"},WEEKDAY(Q2))","v":"S"},{"$f":"INDEX({\"D\";\"L\";\"M\";\"M\";\"J\";\"V\";\"S\"},WEEKDAY(R2))","v":"D"},{"$f":"INDEX({\"D\";\"L\";\"M\";\"M\";\"J\";\"V\";\"S\"},WEEKDAY(S2))","v":"L"},{"$f":"INDEX({\"D\";\"L\";\"M\";\"M\";\"J\";\"V\";\"S\"},WEEKDAY(T2))","v":"M"},{"$f":"INDEX({\"D\";\"L\";\"M\";\"M\";\"J\";\"V\";\"S\"},WEEKDAY(U2))","v":"M"},{"$f":"INDEX({\"D\";\"L\";\"M\";\"M\";\"J\";\"V\";\"S\"},WEEKDAY(V2))","v":"J"},{"$f":"INDEX({\"D\";\"L\";\"M\";\"M\";\"J\";\"V\";\"S\"},WEEKDAY(W2))","v":"V"},{"$f":"INDEX({\"D\";\"L\";\"M\";\"M\";\"J\";\"V\";\"S\"},WEEKDAY(X2))","v":"S"},{"$f":"INDEX({\"D\";\"L\";\"M\";\"M\";\"J\";\"V\";\"S\"},WEEKDAY(Y2))","v":"D"},{"$f":"INDEX({\"D\";\"L\";\"M\";\"M\";\"J\";\"V\";\"S\"},WEEKDAY(Z2))","v":"L"},{"$f":"INDEX({\"D\";\"L\";\"M\";\"M\";\"J\";\"V\";\"S\"},WEEKDAY(AA2))","v":"M"},{"$f":"INDEX({\"D\";\"L\";\"M\";\"M\";\"J\";\"V\";\"S\"},WEEKDAY(AB2))","v":"M"},{"$f":"INDEX({\"D\";\"L\";\"M\";\"M\";\"J\";\"V\";\"S\"},WEEKDAY(AC2))","v":"J"},{"$f":"INDEX({\"D\";\"L\";\"M\";\"M\";\"J\";\"V\";\"S\"},WEEKDAY(AD2))","v":"V"},{"$f":"INDEX({\"D\";\"L\";\"M\";\"M\";\"J\";\"V\";\"S\"},WEEKDAY(AE2))","v":"S"},{"$f":"INDEX({\"D\";\"L\";\"M\";\"M\";\"J\";\"V\";\"S\"},WEEKDAY(AF2))","v":"D"},{"$f":"INDEX({\"D\";\"L\";\"M\";\"M\";\"J\";\"V\";\"S\"},WEEKDAY(AG2))","v":"L"},null,"Bilan mensuel",null,null,null,null,null,null,null,null,null,null,null,null,null,null,null,null,null,null,null,null,null,null,"Total jours",null,"Bilan annuel",null,null,null,null,null,null,null,null,null,null,null,null,null,null,null,null,null,null,null,null,null,null,"Total jours",null,"Bilan congès annuels",null,null,null,"Bilan Enfant malade",null,null,null,"Bilan RH aministratif",null,null,null,"Bilan RH employé"]
[{"$f":"Accueil!J2","v":"Educatif"},null,{"$f":"A1","v":"2016-10-01"},{"$f":"C2+1","v":"2016-10-02"},"2016-10-03","2016-10-04","2016-10-05","2016-10-06","2016-10-07","2016-10-08","2016-10-09","2016-10-10","2016-10-11","2016-10-12","2016-10-13","2016-10-14","2016-10-15","2016-10-16","2016-10-17","2016-10-18","2016-10-19","2016-10-20","2016-10-21","2016-10-22","2016-10-23","2016-10-24","2016-10-25","2016-10-26","2016-10-27","2016-10-28","2016-10-29","2016-10-30","2016-10-31",null,{"$f":"Accueil!$B$8","v":"M1"},{"$f":"Accueil!$B$9","v":"M2"},{"$f":"Accueil!B10","v":"M3"},{"$f":"Accueil!$B$11","v":"MP"},{"$f":"Accueil!$B$12","v":"AP1"},{"$f":"Accueil!B13","v":"AP2"},{"$f":"Accueil!B14","v":"AP3"},{"$f":"Accueil!$B$15","v":"P1"},{"$f":"Accueil!$B$16","v":"Nuit"},{"$f":"Accueil!$B$17","v":"BI"},{"$f":"Accueil!$B$18","v":"LY"},{"$f":"Accueil!$B$19","v":"ST"},{"$f":"Accueil!$B$20","v":"IND"},{"$f":"Accueil!$B$21","v":0},{"$f":"Accueil!$B$22","v":0},{"$f":"Accueil!$B$23","v":"Vac"},{"$f":"Accueil!$B$24","v":"Mal"},{"$f":"Accueil!$B$25","v":"Mat"},{"$f":"Accueil!$B$26","v":"CC"},{"$f":"Accueil!$B$27","v":"F"},{"$f":"Accueil!$B$28","v":"Enf"},{"$f":"Accueil!$B$29","v":"CP"},{"$f":"Accueil!$B$30","v":0},"travaillés",null,{"$f":"AI2","v":"M1"},"M2","M3","MP","AP1","AP2","AP3","P1","Nuit","BI","LY","ST","IND",0,0,"Vac","Mal","Mat","CC","F","Enf","CP",0,"travaillés",null,"capital","pris","restant",null,"capital","pris","restant",null,"capital","pris","restant",null,"capital","pris","restant"]
[{"$f":"Sept!A3","v":"Anne"},null,null,null,null,"MP",null,null,"M1",null,null,null,"MP",null,null,"M1",null,null,null,"MP",null,null,"M1",null,null,null,"MP",null,null,"M1",null,null,null,null,{"$f":"COUNTIF(C3:AG3,Accueil!$B$8)","v":4},{"$f":"COUNTIF(C3:AG3,Accueil!$B$9)","v":0},{"$f":"COUNTIF(C3:AG3,Accueil!$B$10)","v":0},{"$f":"COUNTIF(C3:AG3,Accueil!$B$11)","v":4},{"$f":"COUNTIF(C3:AG3,Accueil!$B$12)","v":0},{"$f":"COUNTIF(C3:AG3,Accueil!$B$13)","v":0},{"$f":"COUNTIF(C3:AG3,Accueil!$B$14)","v":0},{"$f":"COUNTIF(C3:AG3,Accueil!$B$15)","v":0},{"$f":"COUNTIF(C3:AG3,Accueil!$B$16)","v":0},{"$f":"COUNTIF(C3:AG3,Accueil!$B$17)","v":0},{"$f":"COUNTIF(C3:AG3,Accueil!$B$18)","v":0},{"$f":"COUNTIF(C3:AG3,Accueil!$B$19)","v":0},{"$f":"COUNTIF(C3:AG3,Accueil!$B$20)","v":0},{"$f":"COUNTIF(C3:AG3,Accueil!$B$21)","v":0},{"$f":"COUNTIF(C3:AG3,Accueil!$B$22)","v":0},{"$f":"COUNTIF(C3:AG3,Accueil!$B$23)","v":0},{"$f":"COUNTIF(C3:AG3,Accueil!$B$24)","v":0},{"$f":"COUNTIF(C3:AG3,Accueil!$B$25)","v":0},{"$f":"COUNTIF(C3:AG3,Accueil!$B$26)","v":0},{"$f":"COUNTIF(C3:AG3,Accueil!$B$27)","v":0},{"$f":"COUNTIF(C3:AG3,Accueil!$B$28)","v":0},{"$f":"COUNTIF(C3:AG3,Accueil!$B$29)","v":0},{"$f":"COUNTIF(C3:AG3,Accueil!$B$30)","v":0},{"$f":"SUM($AI3:$AT3)+($AW3*0.5)","v":8},null,{"$f":"AI3 +Sept!BH3","v":28},{"$f":"AJ3+Sept!BI3","v":0},{"$f":"AK3+Sept!BJ3","v":0},{"$f":"AL3+Sept!BK3","v":48},{"$f":"AM3+Sept!BL3","v":5},{"$f":"AN3+Sept!BM3","v":0},{"$f":"AO3+Sept!BN3","v":0},{"$f":"AP3+Sept!BO3","v":0},{"$f":"AQ3+Sept!BP3","v":0},{"$f":"AR3+Sept!BQ3","v":0},{"$f":"AS3+Sept!BR3","v":0},{"$f":"AT3+Sept!BS3","v":0},{"$f":"AU3+Sept!BT3","v":0},{"$f":"AV3+Sept!BU3","v":0},{"$f":"AW3+Sept!BV3","v":0},{"$f":"AX3+Sept!BW3","v":55},{"$f":"AY3+Sept!BX3","v":1},{"$f":"AZ3+Sept!BY3","v":0},{"$f":"BA3+Sept!BZ3","v":0},{"$f":"BB3+Sept!CA3","v":0},{"$f":"BC3+Sept!CB3","v":0},{"$f":"BD3+Sept!CC3","v":0},{"$f":"BE3+Sept!CD3","v":0},{"$f":"BF3+Sept!CE3","v":81},null,{"$f":"Sept!CG3","v":0},{"$f":"0.5*($BV3)+($BW3)","v":55},{"$f":"CG3-CH3","v":-55},null,{"$f":"Sept!CK3","v":0},{"$f":"$CB3","v":0},{"$f":"CK3-CL3","v":0},null,{"$f":"Sept!CO3","v":0},{"$f":"$CC3","v":0},{"$f":"CO3-CP3","v":0},null,{"$f":"Sept!CS3","v":0},{"$f":"$CD3","v":0},{"$f":"CS3-CT3","v":0}]
[{"$f":"Sept!A4","v":0},null,null,null,null,null,null,null,null,null,null,null,null,null,null,null,null,null,null,null,null,null,null,null,null,null,null,null,null,null,null,null,null,null,{"$f":"COUNTIF(C4:AG4,Accueil!$B$8)","v":0},{"$f":"COUNTIF(C4:AG4,Accueil!$B$9)","v":0},{"$f":"COUNTIF(C4:AG4,Accueil!$B$10)","v":0},{"$f":"COUNTIF(C4:AG4,Accueil!$B$11)","v":0},{"$f":"COUNTIF(C4:AG4,Accueil!$B$12)","v":0},{"$f":"COUNTIF(C4:AG4,Accueil!$B$13)","v":0},{"$f":"COUNTIF(C4:AG4,Accueil!$B$14)","v":0},{"$f":"COUNTIF(C4:AG4,Accueil!$B$15)","v":0},{"$f":"COUNTIF(C4:AG4,Accueil!$B$16)","v":0},{"$f":"COUNTIF(C4:AG4,Accueil!$B$17)","v":0},{"$f":"COUNTIF(C4:AG4,Accueil!$B$18)","v":0},{"$f":"COUNTIF(C4:AG4,Accueil!$B$19)","v":0},{"$f":"COUNTIF(C4:AG4,Accueil!$B$20)","v":0},{"$f":"COUNTIF(C4:AG4,Accueil!$B$21)","v":0},{"$f":"COUNTIF(C4:AG4,Accueil!$B$22)","v":0},{"$f":"COUNTIF(C4:AG4,Accueil!$B$23)","v":0},{"$f":"COUNTIF(C4:AG4,Accueil!$B$24)","v":0},{"$f":"COUNTIF(C4:AG4,Accueil!$B$25)","v":0},{"$f":"COUNTIF(C4:AG4,Accueil!$B$26)","v":0},{"$f":"COUNTIF(C4:AG4,Accueil!$B$27)","v":0},{"$f":"COUNTIF(C4:AG4,Accueil!$B$28)","v":0},{"$f":"COUNTIF(C4:AG4,Accueil!$B$29)","v":0},{"$f":"COUNTIF(C4:AG4,Accueil!$B$30)","v":0},0,null,{"$f":"AI4 +Sept!BH4","v":0},{"$f":"AJ4+Sept!BI4","v":0},{"$f":"AK4+Sept!BJ4","v":0},{"$f":"AL4+Sept!BK4","v":0},{"$f":"AM4+Sept!BL4","v":0},{"$f":"AN4+Sept!BM4","v":0},{"$f":"AO4+Sept!BN4","v":0},{"$f":"AP4+Sept!BO4","v":0},{"$f":"AQ4+Sept!BP4","v":0},{"$f":"AR4+Sept!BQ4","v":0},{"$f":"AS4+Sept!BR4","v":1},{"$f":"AT4+Sept!BS4","v":0},{"$f":"AU4+Sept!BT4","v":0},{"$f":"AV4+Sept!BU4","v":0},{"$f":"AW4+Sept!BV4","v":0},{"$f":"AX4+Sept!BW4","v":0},{"$f":"AY4+Sept!BX4","v":0},{"$f":"AZ4+Sept!BY4","v":0},{"$f":"BA4+Sept!BZ4","v":0},{"$f":"BB4+Sept!CA4","v":0},{"$f":"BC4+Sept!CB4","v":0},{"$f":"BD4+Sept!CC4","v":0},{"$f":"BE4+Sept!CD4","v":0},{"$f":"BF4+Sept!CE4","v":1},null,{"$f":"Sept!CG4","v":0},0,0,null,{"$f":"Sept!CK4","v":0},0,0,null,{"$f":"Sept!CO4","v":0},0,0,null,{"$f":"Sept!CS4","v":0},0,0]
[{"$f":"Sept!A5","v":"Elodie"},null,"IND","IND",null,"M1","M1","AP1",null,null,"MP",null,"M1","M1","AP1",null,null,"MP",null,"M1","M1","AP1",null,null,null,"M1","M1","M1","AP1",null,null,null,"M1",null,{"$f":"COUNTIF(C5:AG5,Accueil!$B$8)","v":10},{"$f":"COUNTIF(C5:AG5,Accueil!$B$9)","v":0},{"$f":"COUNTIF(C5:AG5,Accueil!$B$10)","v":0},{"$f":"COUNTIF(C5:AG5,Accueil!$B$11)","v":2},{"$f":"COUNTIF(C5:AG5,Accueil!$B$12)","v":4},{"$f":"COUNTIF(C5:AG5,Accueil!$B$13)","v":0},{"$f":"COUNTIF(C5:AG5,Accueil!$B$14)","v":0},{"$f":"COUNTIF(C5:AG5,Accueil!$B$15)","v":0},{"$f":"COUNTIF(C5:AG5,Accueil!$B$16)","v":0},{"$f":"COUNTIF(C5:AG5,Accueil!$B$17)","v":0},{"$f":"COUNTIF(C5:AG5,Accueil!$B$18)","v":0},{"$f":"COUNTIF(C5:AG5,Accueil!$B$19)","v":0},{"$f":"COUNTIF(C5:AG5,Accueil!$B$20)","v":2},{"$f":"COUNTIF(C5:AG5,Accueil!$B$21)","v":0},{"$f":"COUNTIF(C5:AG5,Accueil!$B$22)","v":0},{"$f":"COUNTIF(C5:AG5,Accueil!$B$23)","v":0},{"$f":"COUNTIF(C5:AG5,Accueil!$B$24)","v":0},{"$f":"COUNTIF(C5:AG5,Accueil!$B$25)","v":0},{"$f":"COUNTIF(C5:AG5,Accueil!$B$26)","v":0},{"$f":"COUNTIF(C5:AG5,Accueil!$B$27)","v":0},{"$f":"COUNTIF(C5:AG5,Accueil!$B$28)","v":0},{"$f":"COUNTIF(C5:AG5,Accueil!$B$29)","v":0},{"$f":"COUNTIF(C5:AG5,Accueil!$B$30)","v":0},16,null,{"$f":"AI5 +Sept!BH5","v":92},{"$f":"AJ5+Sept!BI5","v":0},{"$f":"AK5+Sept!BJ5","v":0},{"$f":"AL5+Sept!BK5","v":25},{"$f":"AM5+Sept!BL5","v":34},{"$f":"AN5+Sept!BM5","v":5},{"$f":"AO5+Sept!BN5","v":0},{"$f":"AP5+Sept!BO5","v":0},{"$f":"AQ5+Sept!BP5","v":0},{"$f":"AR5+Sept!BQ5","v":0},{"$f":"AS5+Sept!BR5","v":0},{"$f":"AT5+Sept!BS5","v":0},{"$f":"AU5+Sept!BT5","v":7},{"$f":"AV5+Sept!BU5","v":0},{"$f":"AW5+Sept!BV5","v":0},{"$f":"AX5+Sept!BW5","v":38},{"$f":"AY5+Sept!BX5","v":0},{"$f":"AZ5+Sept!BY5","v":0},{"$f":"BA5+Sept!BZ5","v":1},{"$f":"BB5+Sept!CA5","v":1},{"$f":"BC5+Sept!CB5","v":0},{"$f":"BD5+Sept!CC5","v":0},{"$f":"BE5+Sept!CD5","v":0},{"$f":"BF5+Sept!CE5","v":156},null,{"$f":"Sept!CG5","v":0},38,-38,null,{"$f":"Sept!CK5","v":0},0,0,null,{"$f":"Sept!CO5","v":0},0,0,null,{"$f":"Sept!CS5","v":0},0,0]
[{"$f":"Sept!A6","v":0},null,null,null,null,null,null,null,null,null,null,null,null,null,null,null,null,null,null,null,null,null,null,null,null,null,null,null,null,null,null,null,null,null,{"$f":"COUNTIF(C6:AG6,Accueil!$B$8)","v":0},{"$f":"COUNTIF(C6:AG6,Accueil!$B$9)","v":0},{"$f":"COUNTIF(C6:AG6,Accueil!$B$10)","v":0},{"$f":"COUNTIF(C6:AG6,Accueil!$B$11)","v":0},{"$f":"COUNTIF(C6:AG6,Accueil!$B$12)","v":0},{"$f":"COUNTIF(C6:AG6,Accueil!$B$13)","v":0},{"$f":"COUNTIF(C6:AG6,Accueil!$B$14)","v":0},{"$f":"COUNTIF(C6:AG6,Accueil!$B$15)","v":0},{"$f":"COUNTIF(C6:AG6,Accueil!$B$16)","v":0},{"$f":"COUNTIF(C6:AG6,Accueil!$B$17)","v":0},{"$f":"COUNTIF(C6:AG6,Accueil!$B$18)","v":0},{"$f":"COUNTIF(C6:AG6,Accueil!$B$19)","v":0},{"$f":"COUNTIF(C6:AG6,Accueil!$B$20)","v":0},{"$f":"COUNTIF(C6:AG6,Accueil!$B$21)","v":0},{"$f":"COUNTIF(C6:AG6,Accueil!$B$22)","v":0},{"$f":"COUNTIF(C6:AG6,Accueil!$B$23)","v":0},{"$f":"COUNTIF(C6:AG6,Accueil!$B$24)","v":0},{"$f":"COUNTIF(C6:AG6,Accueil!$B$25)","v":0},{"$f":"COUNTIF(C6:AG6,Accueil!$B$26)","v":0},{"$f":"COUNTIF(C6:AG6,Accueil!$B$27)","v":0},{"$f":"COUNTIF(C6:AG6,Accueil!$B$28)","v":0},{"$f":"COUNTIF(C6:AG6,Accueil!$B$29)","v":0},{"$f":"COUNTIF(C6:AG6,Accueil!$B$30)","v":0},0,null,{"$f":"AI6 +Sept!BH6","v":0},{"$f":"AJ6+Sept!BI6","v":0},{"$f":"AK6+Sept!BJ6","v":0},{"$f":"AL6+Sept!BK6","v":0},{"$f":"AM6+Sept!BL6","v":0},{"$f":"AN6+Sept!BM6","v":1},{"$f":"AO6+Sept!BN6","v":0},{"$f":"AP6+Sept!BO6","v":0},{"$f":"AQ6+Sept!BP6","v":0},{"$f":"AR6+Sept!BQ6","v":0},{"$f":"AS6+Sept!BR6","v":1},{"$f":"AT6+Sept!BS6","v":0},{"$f":"AU6+Sept!BT6","v":0},{"$f":"AV6+Sept!BU6","v":0},{"$f":"AW6+Sept!BV6","v":0},{"$f":"AX6+Sept!BW6","v":0},{"$f":"AY6+Sept!BX6","v":0},{"$f":"AZ6+Sept!BY6","v":0},{"$f":"BA6+Sept!BZ6","v":0},{"$f":"BB6+Sept!CA6","v":0},{"$f":"BC6+Sept!CB6","v":0},{"$f":"BD6+Sept!CC6","v":0},{"$f":"BE6+Sept!CD6","v":0},{"$f":"BF6+Sept!CE6","v":2},null,{"$f":"Sept!CG6","v":0},0,0,null,{"$f":"Sept!CK6","v":0},0,0,null,{"$f":"Sept!CO6","v":0},0,0,null,{"$f":"Sept!CS6","v":0},0,0]
[{"$f":"Sept!A7","v":"Eve-Marie"},null,null,null,null,"M1",null,"AP1","M1",null,null,null,"M1",null,"AP1","M1",null,null,null,"M1",null,"AP1","M1",null,null,null,"M1",null,"AP1","M1",null,null,null,null,{"$f":"COUNTIF(C7:AG7,Accueil!$B$8)","v":8},{"$f":"COUNTIF(C7:AG7,Accueil!$B$9)","v":0},{"$f":"COUNTIF(C7:AG7,Accueil!$B$10)","v":0},{"$f":"COUNTIF(C7:AG7,Accueil!$B$11)","v":0},{"$f":"COUNTIF(C7:AG7,Accueil!$B$12)","v":4},{"$f":"COUNTIF(C7:AG7,Accueil!$B$13)","v":0},{"$f":"COUNTIF(C7:AG7,Accueil!$B$14)","v":0},{"$f":"COUNTIF(C7:AG7,Accueil!$B$15)","v":0},{"$f":"COUNTIF(C7:AG7,Accueil!$B$16)","v":0},{"$f":"COUNTIF(C7:AG7,Accueil!$B$17)","v":0},{"$f":"COUNTIF(C7:AG7,Accueil!$B$18)","v":0},{"$f":"COUNTIF(C7:AG7,Accueil!$B$19)","v":0},{"$f":"COUNTIF(C7:AG7,Accueil!$B$20)","v":0},{"$f":"COUNTIF(C7:AG7,Accueil!$B$21)","v":0},{"$f":"COUNTIF(C7:AG7,Accueil!$B$22)","v":0},{"$f":"COUNTIF(C7:AG7,Accueil!$B$23)","v":0},{"$f":"COUNTIF(C7:AG7,Accueil!$B$24)","v":0},{"$f":"COUNTIF(C7:AG7,Accueil!$B$25)","v":0},{"$f":"COUNTIF(C7:AG7,Accueil!$B$26)","v":0},{"$f":"COUNTIF(C7:AG7,Accueil!$B$27)","v":0},{"$f":"COUNTIF(C7:AG7,Accueil!$B$28)","v":0},{"$f":"COUNTIF(C7:AG7,Accueil!$B$29)","v":0},{"$f":"COUNTIF(C7:AG7,Accueil!$B$30)","v":0},12,null,{"$f":"AI7 +Sept!BH7","v":69},{"$f":"AJ7+Sept!BI7","v":1},{"$f":"AK7+Sept!BJ7","v":0},{"$f":"AL7+Sept!BK7","v":17},{"$f":"AM7+Sept!BL7","v":40},{"$f":"AN7+Sept!BM7","v":2},{"$f":"AO7+Sept!BN7","v":1},{"$f":"AP7+Sept!BO7","v":0},{"$f":"AQ7+Sept!BP7","v":0},{"$f":"AR7+Sept!BQ7","v":0},{"$f":"AS7+Sept!BR7","v":0},{"$f":"AT7+Sept!BS7","v":0},{"$f":"AU7+Sept!BT7","v":0},{"$f":"AV7+Sept!BU7","v":0},{"$f":"AW7+Sept!BV7","v":0},{"$f":"AX7+Sept!BW7","v":31},{"$f":"AY7+Sept!BX7","v":0},{"$f":"AZ7+Sept!BY7","v":0},{"$f":"BA7+Sept!BZ7","v":3},{"$f":"BB7+Sept!CA7","v":0},{"$f":"BC7+Sept!CB7","v":0},{"$f":"BD7+Sept!CC7","v":0},{"$f":"BE7+Sept!CD7","v":0},{"$f":"BF7+Sept!CE7","v":130},null,{"$f":"Sept!CG7","v":0},31,-31,null,{"$f":"Sept!CK7","v":0},0,0,null,{"$f":"Sept!CO7","v":0},0,0,null,{"$f":"Sept!CS7","v":0},0,0]
[{"$f":"Sept!A8","v":0},null,null,null,null,null,null,null,null,null,null,null,null,null,null,null,null,null,null,null,null,null,null,null,null,null,null,null,null,null,null,null,null,null,{"$f":"COUNTIF(C8:AG8,Accueil!$B$8)","v":0},{"$f":"COUNTIF(C8:AG8,Accueil!$B$9)","v":0},{"$f":"COUNTIF(C8:AG8,Accueil!$B$10)","v":0},{"$f":"COUNTIF(C8:AG8,Accueil!$B$11)","v":0},{"$f":"COUNTIF(C8:AG8,Accueil!$B$12)","v":0},{"$f":"COUNTIF(C8:AG8,Accueil!$B$13)","v":0},{"$f":"COUNTIF(C8:AG8,Accueil!$B$14)","v":0},{"$f":"COUNTIF(C8:AG8,Accueil!$B$15)","v":0},{"$f":"COUNTIF(C8:AG8,Accueil!$B$16)","v":0},{"$f":"COUNTIF(C8:AG8,Accueil!$B$17)","v":0},{"$f":"COUNTIF(C8:AG8,Accueil!$B$18)","v":0},{"$f":"COUNTIF(C8:AG8,Accueil!$B$19)","v":0},{"$f":"COUNTIF(C8:AG8,Accueil!$B$20)","v":0},{"$f":"COUNTIF(C8:AG8,Accueil!$B$21)","v":0},{"$f":"COUNTIF(C8:AG8,Accueil!$B$22)","v":0},{"$f":"COUNTIF(C8:AG8,Accueil!$B$23)","v":0},{"$f":"COUNTIF(C8:AG8,Accueil!$B$24)","v":0},{"$f":"COUNTIF(C8:AG8,Accueil!$B$25)","v":0},{"$f":"COUNTIF(C8:AG8,Accueil!$B$26)","v":0},{"$f":"COUNTIF(C8:AG8,Accueil!$B$27)","v":0},{"$f":"COUNTIF(C8:AG8,Accueil!$B$28)","v":0},{"$f":"COUNTIF(C8:AG8,Accueil!$B$29)","v":0},{"$f":"COUNTIF(C8:AG8,Accueil!$B$30)","v":0},0,null,{"$f":"AI8 +Sept!BH8","v":0},{"$f":"AJ8+Sept!BI8","v":0},{"$f":"AK8+Sept!BJ8","v":0},{"$f":"AL8+Sept!BK8","v":0},{"$f":"AM8+Sept!BL8","v":0},{"$f":"AN8+Sept!BM8","v":0},{"$f":"AO8+Sept!BN8","v":0},{"$f":"AP8+Sept!BO8","v":0},{"$f":"AQ8+Sept!BP8","v":0},{"$f":"AR8+Sept!BQ8","v":0},{"$f":"AS8+Sept!BR8","v":1},{"$f":"AT8+Sept!BS8","v":0},{"$f":"AU8+Sept!BT8","v":0},{"$f":"AV8+Sept!BU8","v":0},{"$f":"AW8+Sept!BV8","v":0},{"$f":"AX8+Sept!BW8","v":0},{"$f":"AY8+Sept!BX8","v":0},{"$f":"AZ8+Sept!BY8","v":0},{"$f":"BA8+Sept!BZ8","v":0},{"$f":"BB8+Sept!CA8","v":0},{"$f":"BC8+Sept!CB8","v":0},{"$f":"BD8+Sept!CC8","v":0},{"$f":"BE8+Sept!CD8","v":0},{"$f":"BF8+Sept!CE8","v":1},null,{"$f":"Sept!CG8","v":0},0,0,null,{"$f":"Sept!CK8","v":0},0,0,null,{"$f":"Sept!CO8","v":0},0,0,null,{"$f":"Sept!CS8","v":0},0,0]
[{"$f":"Sept!A9","v":"Isabel"},null,null,null,"AP2","M1",null,null,null,null,null,"AP2","M1",null,null,null,null,null,"AP2","M1",null,null,null,null,null,"AP2","M1",null,null,null,null,null,"AP2",null,{"$f":"COUNTIF(C9:AG9,Accueil!$B$8)","v":4},{"$f":"COUNTIF(C9:AG9,Accueil!$B$9)","v":0},{"$f":"COUNTIF(C9:AG9,Accueil!$B$10)","v":0},{"$f":"COUNTIF(C9:AG9,Accueil!$B$11)","v":0},{"$f":"COUNTIF(C9:AG9,Accueil!$B$12)","v":0},{"$f":"COUNTIF(C9:AG9,Accueil!$B$13)","v":5},{"$f":"COUNTIF(C9:AG9,Accueil!$B$14)","v":0},{"$f":"COUNTIF(C9:AG9,Accueil!$B$15)","v":0},{"$f":"COUNTIF(C9:AG9,Accueil!$B$16)","v":0},{"$f":"COUNTIF(C9:AG9,Accueil!$B$17)","v":0},{"$f":"COUNTIF(C9:AG9,Accueil!$B$18)","v":0},{"$f":"COUNTIF(C9:AG9,Accueil!$B$19)","v":0},{"$f":"COUNTIF(C9:AG9,Accueil!$B$20)","v":0},{"$f":"COUNTIF(C9:AG9,Accueil!$B$21)","v":0},{"$f":"COUNTIF(C9:AG9,Accueil!$B$22)","v":0},{"$f":"COUNTIF(C9:AG9,Accueil!$B$23)","v":0},{"$f":"COUNTIF(C9:AG9,Accueil!$B$24)","v":0},{"$f":"COUNTIF(C9:AG9,Accueil!$B$25)","v":0},{"$f":"COUNTIF(C9:AG9,Accueil!$B$26)","v":0},{"$f":"COUNTIF(C9:AG9,Accueil!$B$27)","v":0},{"$f":"COUNTIF(C9:AG9,Accueil!$B$28)","v":0},{"$f":"COUNTIF(C9:AG9,Accueil!$B$29)","v":0},{"$f":"COUNTIF(C9:AG9,Accueil!$B$30)","v":0},9,null,{"$f":"AI9 +Sept!BH9","v":35},{"$f":"AJ9+Sept!BI9","v":0},{"$f":"AK9+Sept!BJ9","v":0},{"$f":"AL9+Sept!BK9","v":16},{"$f":"AM9+Sept!BL9","v":1},{"$f":"AN9+Sept!BM9","v":42},{"$f":"AO9+Sept!BN9","v":0},{"$f":"AP9+Sept!BO9","v":0},{"$f":"AQ9+Sept!BP9","v":0},{"$f":"AR9+Sept!BQ9","v":0},{"$f":"AS9+Sept!BR9","v":0},{"$f":"AT9+Sept!BS9","v":0},{"$f":"AU9+Sept!BT9","v":0},{"$f":"AV9+Sept!BU9","v":0},{"$f":"AW9+Sept!BV9","v":0},{"$f":"AX9+Sept!BW9","v":41},{"$f":"AY9+Sept!BX9","v":0},{"$f":"AZ9+Sept!BY9","v":0},{"$f":"BA9+Sept!BZ9","v":0},{"$f":"BB9+Sept!CA9","v":0},{"$f":"BC9+Sept!CB9","v":0},{"$f":"BD9+Sept!CC9","v":0},{"$f":"BE9+Sept!CD9","v":0},{"$f":"BF9+Sept!CE9","v":94},null,{"$f":"Sept!CG9","v":0},41,-41,null,{"$f":"Sept!CK9","v":0},0,0,null,{"$f":"Sept!CO9","v":0},0,0,null,{"$f":"Sept!CS9","v":0},0,0]
[{"$f":"Sept!A10","v":0},null,null,null,null,null,null,null,null,null,null,null,null,null,null,null,null,null,null,null,null,null,null,null,null,null,null,null,null,null,null,null,null,null,{"$f":"COUNTIF(C10:AG10,Accueil!$B$8)","v":0},{"$f":"COUNTIF(C10:AG10,Accueil!$B$9)","v":0},{"$f":"COUNTIF(C10:AG10,Accueil!$B$10)","v":0},{"$f":"COUNTIF(C10:AG10,Accueil!$B$11)","v":0},{"$f":"COUNTIF(C10:AG10,Accueil!$B$12)","v":0},{"$f":"COUNTIF(C10:AG10,Accueil!$B$13)","v":0},{"$f":"COUNTIF(C10:AG10,Accueil!$B$14)","v":0},{"$f":"COUNTIF(C10:AG10,Accueil!$B$15)","v":0},{"$f":"COUNTIF(C10:AG10,Accueil!$B$16)","v":0},{"$f":"COUNTIF(C10:AG10,Accueil!$B$17)","v":0},{"$f":"COUNTIF(C10:AG10,Accueil!$B$18)","v":0},{"$f":"COUNTIF(C10:AG10,Accueil!$B$19)","v":0},{"$f":"COUNTIF(C10:AG10,Accueil!$B$20)","v":0},{"$f":"COUNTIF(C10:AG10,Accueil!$B$21)","v":0},{"$f":"COUNTIF(C10:AG10,Accueil!$B$22)","v":0},{"$f":"COUNTIF(C10:AG10,Accueil!$B$23)","v":0},{"$f":"COUNTIF(C10:AG10,Accueil!$B$24)","v":0},{"$f":"COUNTIF(C10:AG10,Accueil!$B$25)","v":0},{"$f":"COUNTIF(C10:AG10,Accueil!$B$26)","v":0},{"$f":"COUNTIF(C10:AG10,Accueil!$B$27)","v":0},{"$f":"COUNTIF(C10:AG10,Accueil!$B$28)","v":0},{"$f":"COUNTIF(C10:AG10,Accueil!$B$29)","v":0},{"$f":"COUNTIF(C10:AG10,Accueil!$B$30)","v":0},0,null,{"$f":"AI10 +Sept!BH10","v":0},{"$f":"AJ10+Sept!BI10","v":0},{"$f":"AK10+Sept!BJ10","v":0},{"$f":"AL10+Sept!BK10","v":0},{"$f":"AM10+Sept!BL10","v":0},{"$f":"AN10+Sept!BM10","v":0},{"$f":"AO10+Sept!BN10","v":0},{"$f":"AP10+Sept!BO10","v":0},{"$f":"AQ10+Sept!BP10","v":0},{"$f":"AR10+Sept!BQ10","v":1},{"$f":"AS10+Sept!BR10","v":2},{"$f":"AT10+Sept!BS10","v":0},{"$f":"AU10+Sept!BT10","v":0},{"$f":"AV10+Sept!BU10","v":0},{"$f":"AW10+Sept!BV10","v":0},{"$f":"AX10+Sept!BW10","v":0},{"$f":"AY10+Sept!BX10","v":0},{"$f":"AZ10+Sept!BY10","v":0},{"$f":"BA10+Sept!BZ10","v":0},{"$f":"BB10+Sept!CA10","v":0},{"$f":"BC10+Sept!CB10","v":0},{"$f":"BD10+Sept!CC10","v":0},{"$f":"BE10+Sept!CD10","v":0},{"$f":"BF10+Sept!CE10","v":3},null,{"$f":"Sept!CG10","v":0},0,0,null,{"$f":"Sept!CK10","v":0},0,0,null,{"$f":"Sept!CO10","v":0},0,0,null,{"$f":"Sept!CS10","v":0},0,0]
[{"$f":"Sept!A11","v":"Simon-Pierre"},null,null,null,"M1","M2","MP",null,"M1",null,null,"M1","M2","MP",null,"M1",null,null,"M1","M2","MP",null,"M1",null,null,"M1","M2","MP",null,"M1",null,null,"M1",null,{"$f":"COUNTIF(C11:AG11,Accueil!$B$8)","v":9},{"$f":"COUNTIF(C11:AG11,Accueil!$B$9)","v":4},{"$f":"COUNTIF(C11:AG11,Accueil!$B$10)","v":0},{"$f":"COUNTIF(C11:AG11,Accueil!$B$11)","v":4},{"$f":"COUNTIF(C11:AG11,Accueil!$B$12)","v":0},{"$f":"COUNTIF(C11:AG11,Accueil!$B$13)","v":0},{"$f":"COUNTIF(C11:AG11,Accueil!$B$14)","v":0},{"$f":"COUNTIF(C11:AG11,Accueil!$B$15)","v":0},{"$f":"COUNTIF(C11:AG11,Accueil!$B$16)","v":0},{"$f":"COUNTIF(C11:AG11,Accueil!$B$17)","v":0},{"$f":"COUNTIF(C11:AG11,Accueil!$B$18)","v":0},{"$f":"COUNTIF(C11:AG11,Accueil!$B$19)","v":0},{"$f":"COUNTIF(C11:AG11,Accueil!$B$20)","v":0},{"$f":"COUNTIF(C11:AG11,Accueil!$B$21)","v":0},{"$f":"COUNTIF(C11:AG11,Accueil!$B$22)","v":0},{"$f":"COUNTIF(C11:AG11,Accueil!$B$23)","v":0},{"$f":"COUNTIF(C11:AG11,Accueil!$B$24)","v":0},{"$f":"COUNTIF(C11:AG11,Accueil!$B$25)","v":0},{"$f":"COUNTIF(C11:AG11,Accueil!$B$26)","v":0},{"$f":"COUNTIF(C11:AG11,Accueil!$B$27)","v":0},{"$f":"COUNTIF(C11:AG11,Accueil!$B$28)","v":0},{"$f":"COUNTIF(C11:AG11,Accueil!$B$29)","v":0},{"$f":"COUNTIF(C11:AG11,Accueil!$B$30)","v":0},17,null,{"$f":"AI11 +Sept!BH11","v":62},{"$f":"AJ11+Sept!BI11","v":37},{"$f":"AK11+Sept!BJ11","v":10},{"$f":"AL11+Sept!BK11","v":35},{"$f":"AM11+Sept!BL11","v":0},{"$f":"AN11+Sept!BM11","v":0},{"$f":"AO11+Sept!BN11","v":0},{"$f":"AP11+Sept!BO11","v":0},{"$f":"AQ11+Sept!BP11","v":0},{"$f":"AR11+Sept!BQ11","v":0},{"$f":"AS11+Sept!BR11","v":0},{"$f":"AT11+Sept!BS11","v":0},{"$f":"AU11+Sept!BT11","v":0},{"$f":"AV11+Sept!BU11","v":0},{"$f":"AW11+Sept!BV11","v":0},{"$f":"AX11+Sept!BW11","v":61},{"$f":"AY11+Sept!BX11","v":0},{"$f":"AZ11+Sept!BY11","v":0},{"$f":"BA11+Sept!BZ11","v":0},{"$f":"BB11+Sept!CA11","v":0},{"$f":"BC11+Sept!CB11","v":0},{"$f":"BD11+Sept!CC11","v":0},{"$f":"BE11+Sept!CD11","v":0},{"$f":"BF11+Sept!CE11","v":144},null,{"$f":"Sept!CG11","v":0},61,-61,null,{"$f":"Sept!CK11","v":0},0,0,null,{"$f":"Sept!CO11","v":0},0,0,null,{"$f":"Sept!CS11","v":0},0,0]
[{"$f":"Sept!A12","v":0},null,null,null,null,null,null,null,null,null,null,null,null,null,null,null,null,null,null,null,null,null,null,null,null,null,null,null,null,null,null,null,null,null,{"$f":"COUNTIF(C12:AG12,Accueil!$B$8)","v":0},{"$f":"COUNTIF(C12:AG12,Accueil!$B$9)","v":0},{"$f":"COUNTIF(C12:AG12,Accueil!$B$10)","v":0},{"$f":"COUNTIF(C12:AG12,Accueil!$B$11)","v":0},{"$f":"COUNTIF(C12:AG12,Accueil!$B$12)","v":0},{"$f":"COUNTIF(C12:AG12,Accueil!$B$13)","v":0},{"$f":"COUNTIF(C12:AG12,Accueil!$B$14)","v":0},{"$f":"COUNTIF(C12:AG12,Accueil!$B$15)","v":0},{"$f":"COUNTIF(C12:AG12,Accueil!$B$16)","v":0},{"$f":"COUNTIF(C12:AG12,Accueil!$B$17)","v":0},{"$f":"COUNTIF(C12:AG12,Accueil!$B$18)","v":0},{"$f":"COUNTIF(C12:AG12,Accueil!$B$19)","v":0},{"$f":"COUNTIF(C12:AG12,Accueil!$B$20)","v":0},{"$f":"COUNTIF(C12:AG12,Accueil!$B$21)","v":0},{"$f":"COUNTIF(C12:AG12,Accueil!$B$22)","v":0},{"$f":"COUNTIF(C12:AG12,Accueil!$B$23)","v":0},{"$f":"COUNTIF(C12:AG12,Accueil!$B$24)","v":0},{"$f":"COUNTIF(C12:AG12,Accueil!$B$25)","v":0},{"$f":"COUNTIF(C12:AG12,Accueil!$B$26)","v":0},{"$f":"COUNTIF(C12:AG12,Accueil!$B$27)","v":0},{"$f":"COUNTIF(C12:AG12,Accueil!$B$28)","v":0},{"$f":"COUNTIF(C12:AG12,Accueil!$B$29)","v":0},{"$f":"COUNTIF(C12:AG12,Accueil!$B$30)","v":0},0,null,{"$f":"AI12 +Sept!BH12","v":0},{"$f":"AJ12+Sept!BI12","v":0},{"$f":"AK12+Sept!BJ12","v":0},{"$f":"AL12+Sept!BK12","v":0},{"$f":"AM12+Sept!BL12","v":0},{"$f":"AN12+Sept!BM12","v":0},{"$f":"AO12+Sept!BN12","v":0},{"$f":"AP12+Sept!BO12","v":0},{"$f":"AQ12+Sept!BP12","v":0},{"$f":"AR12+Sept!BQ12","v":0},{"$f":"AS12+Sept!BR12","v":21},{"$f":"AT12+Sept!BS12","v":0},{"$f":"AU12+Sept!BT12","v":0},{"$f":"AV12+Sept!BU12","v":0},{"$f":"AW12+Sept!BV12","v":0},{"$f":"AX12+Sept!BW12","v":0},{"$f":"AY12+Sept!BX12","v":0},{"$f":"AZ12+Sept!BY12","v":0},{"$f":"BA12+Sept!BZ12","v":0},{"$f":"BB12+Sept!CA12","v":0},{"$f":"BC12+Sept!CB12","v":0},{"$f":"BD12+Sept!CC12","v":0},{"$f":"BE12+Sept!CD12","v":0},{"$f":"BF12+Sept!CE12","v":21},null,{"$f":"Sept!CG12","v":0},0,0,null,{"$f":"Sept!CK12","v":0},0,0,null,{"$f":"Sept!CO12","v":0},0,0,null,{"$f":"Sept!CS12","v":0},0,0]
[{"$f":"Sept!A13","v":"Virginie"},null,"IND","IND","M1","M2","MP","M3",null,"MP",null,"M1","M2","MP","M3","AP2","MP",null,"M1","M2","MP","M3",null,null,null,"M1","M2","MP","M3",null,null,null,"M1",null,{"$f":"COUNTIF(C13:AG13,Accueil!$B$8)","v":5},{"$f":"COUNTIF(C13:AG13,Accueil!$B$9)","v":4},{"$f":"COUNTIF(C13:AG13,Accueil!$B$10)","v":4},{"$f":"COUNTIF(C13:AG13,Accueil!$B$11)","v":6},{"$f":"COUNTIF(C13:AG13,Accueil!$B$12)","v":0},{"$f":"COUNTIF(C13:AG13,Accueil!$B$13)","v":1},{"$f":"COUNTIF(C13:AG13,Accueil!$B$14)","v":0},{"$f":"COUNTIF(C13:AG13,Accueil!$B$15)","v":0},{"$f":"COUNTIF(C13:AG13,Accueil!$B$16)","v":0},{"$f":"COUNTIF(C13:AG13,Accueil!$B$17)","v":0},{"$f":"COUNTIF(C13:AG13,Accueil!$B$18)","v":0},{"$f":"COUNTIF(C13:AG13,Accueil!$B$19)","v":0},{"$f":"COUNTIF(C13:AG13,Accueil!$B$20)","v":2},{"$f":"COUNTIF(C13:AG13,Accueil!$B$21)","v":0},{"$f":"COUNTIF(C13:AG13,Accueil!$B$22)","v":0},{"$f":"COUNTIF(C13:AG13,Accueil!$B$23)","v":0},{"$f":"COUNTIF(C13:AG13,Accueil!$B$24)","v":0},{"$f":"COUNTIF(C13:AG13,Accueil!$B$25)","v":0},{"$f":"COUNTIF(C13:AG13,Accueil!$B$26)","v":0},{"$f":"COUNTIF(C13:AG13,Accueil!$B$27)","v":0},{"$f":"COUNTIF(C13:AG13,Accueil!$B$28)","v":0},{"$f":"COUNTIF(C13:AG13,Accueil!$B$29)","v":0},{"$f":"COUNTIF(C13:AG13,Accueil!$B$30)","v":0},20,null,{"$f":"AI13 +Sept!BH13","v":30},{"$f":"AJ13+Sept!BI13","v":42},{"$f":"AK13+Sept!BJ13","v":29},{"$f":"AL13+Sept!BK13","v":67},{"$f":"AM13+Sept!BL13","v":1},{"$f":"AN13+Sept!BM13","v":10},{"$f":"AO13+Sept!BN13","v":0},{"$f":"AP13+Sept!BO13","v":0},{"$f":"AQ13+Sept!BP13","v":0},{"$f":"AR13+Sept!BQ13","v":0},{"$f":"AS13+Sept!BR13","v":0},{"$f":"AT13+Sept!BS13","v":0},{"$f":"AU13+Sept!BT13","v":3},{"$f":"AV13+Sept!BU13","v":0},{"$f":"AW13+Sept!BV13","v":0},{"$f":"AX13+Sept!BW13","v":16},{"$f":"AY13+Sept!BX13","v":0},{"$f":"AZ13+Sept!BY13","v":0},{"$f":"BA13+Sept!BZ13","v":17},{"$f":"BB13+Sept!CA13","v":1},{"$f":"BC13+Sept!CB13","v":0},{"$f":"BD13+Sept!CC13","v":0},{"$f":"BE13+Sept!CD13","v":0},{"$f":"BF13+Sept!CE13","v":179},null,{"$f":"Sept!CG13","v":0},16,-16,null,{"$f":"Sept!CK13","v":0},0,0,null,{"$f":"Sept!CO13","v":0},0,0,null,{"$f":"Sept!CS13","v":0},0,0]
[{"$f":"Sept!A14","v":0},null,null,null,null,null,null,null,null,null,null,null,null,null,null,null,null,null,null,null,null,null,null,null,null,null,null,null,null,null,null,null,null,null,{"$f":"COUNTIF(C14:AG14,Accueil!$B$8)","v":0},{"$f":"COUNTIF(C14:AG14,Accueil!$B$9)","v":0},{"$f":"COUNTIF(C14:AG14,Accueil!$B$10)","v":0},{"$f":"COUNTIF(C14:AG14,Accueil!$B$11)","v":0},{"$f":"COUNTIF(C14:AG14,Accueil!$B$12)","v":0},{"$f":"COUNTIF(C14:AG14,Accueil!$B$13)","v":0},{"$f":"COUNTIF(C14:AG14,Accueil!$B$14)","v":0},{"$f":"COUNTIF(C14:AG14,Accueil!$B$15)","v":0},{"$f":"COUNTIF(C14:AG14,Accueil!$B$16)","v":0},{"$f":"COUNTIF(C14:AG14,Accueil!$B$17)","v":0},{"$f":"COUNTIF(C14:AG14,Accueil!$B$18)","v":0},{"$f":"COUNTIF(C14:AG14,Accueil!$B$19)","v":0},{"$f":"COUNTIF(C14:AG14,Accueil!$B$20)","v":0},{"$f":"COUNTIF(C14:AG14,Accueil!$B$21)","v":0},{"$f":"COUNTIF(C14:AG14,Accueil!$B$22)","v":0},{"$f":"COUNTIF(C14:AG14,Accueil!$B$23)","v":0},{"$f":"COUNTIF(C14:AG14,Accueil!$B$24)","v":0},{"$f":"COUNTIF(C14:AG14,Accueil!$B$25)","v":0},{"$f":"COUNTIF(C14:AG14,Accueil!$B$26)","v":0},{"$f":"COUNTIF(C14:AG14,Accueil!$B$27)","v":0},{"$f":"COUNTIF(C14:AG14,Accueil!$B$28)","v":0},{"$f":"COUNTIF(C14:AG14,Accueil!$B$29)","v":0},{"$f":"COUNTIF(C14:AG14,Accueil!$B$30)","v":0},0,null,{"$f":"AI14 +Sept!BH14","v":0},{"$f":"AJ14+Sept!BI14","v":0},{"$f":"AK14+Sept!BJ14","v":0},{"$f":"AL14+Sept!BK14","v":0},{"$f":"AM14+Sept!BL14","v":0},{"$f":"AN14+Sept!BM14","v":0},{"$f":"AO14+Sept!BN14","v":0},{"$f":"AP14+Sept!BO14","v":0},{"$f":"AQ14+Sept!BP14","v":0},{"$f":"AR14+Sept!BQ14","v":6},{"$f":"AS14+Sept!BR14","v":1},{"$f":"AT14+Sept!BS14","v":0},{"$f":"AU14+Sept!BT14","v":0},{"$f":"AV14+Sept!BU14","v":0},{"$f":"AW14+Sept!BV14","v":0},{"$f":"AX14+Sept!BW14","v":0},{"$f":"AY14+Sept!BX14","v":0},{"$f":"AZ14+Sept!BY14","v":0},{"$f":"BA14+Sept!BZ14","v":0},{"$f":"BB14+Sept!CA14","v":0},{"$f":"BC14+Sept!CB14","v":0},{"$f":"BD14+Sept!CC14","v":0},{"$f":"BE14+Sept!CD14","v":0},{"$f":"BF14+Sept!CE14","v":7},null,{"$f":"Sept!CG14","v":0},0,0,null,{"$f":"Sept!CK14","v":0},0,0,null,{"$f":"Sept!CO14","v":0},0,0,null,{"$f":"Sept!CS14","v":0},0,0]
[{"$f":"Sept!A15","v":"Jacqueline"},null,null,null,"M3","MP",null,null,"M2",null,null,"M3","MP",null,null,"M2",null,null,"M3","MP",null,null,"M2",null,null,"M3","MP",null,null,"M2",null,null,"M3",null,{"$f":"COUNTIF(C15:AG15,Accueil!$B$8)","v":0},{"$f":"COUNTIF(C15:AG15,Accueil!$B$9)","v":4},{"$f":"COUNTIF(C15:AG15,Accueil!$B$10)","v":5},{"$f":"COUNTIF(C15:AG15,Accueil!$B$11)","v":4},{"$f":"COUNTIF(C15:AG15,Accueil!$B$12)","v":0},{"$f":"COUNTIF(C15:AG15,Accueil!$B$13)","v":0},{"$f":"COUNTIF(C15:AG15,Accueil!$B$14)","v":0},{"$f":"COUNTIF(C15:AG15,Accueil!$B$15)","v":0},{"$f":"COUNTIF(C15:AG15,Accueil!$B$16)","v":0},{"$f":"COUNTIF(C15:AG15,Accueil!$B$17)","v":0},{"$f":"COUNTIF(C15:AG15,Accueil!$B$18)","v":0},{"$f":"COUNTIF(C15:AG15,Accueil!$B$19)","v":0},{"$f":"COUNTIF(C15:AG15,Accueil!$B$20)","v":0},{"$f":"COUNTIF(C15:AG15,Accueil!$B$21)","v":0},{"$f":"COUNTIF(C15:AG15,Accueil!$B$22)","v":0},{"$f":"COUNTIF(C15:AG15,Accueil!$B$23)","v":0},{"$f":"COUNTIF(C15:AG15,Accueil!$B$24)","v":0},{"$f":"COUNTIF(C15:AG15,Accueil!$B$25)","v":0},{"$f":"COUNTIF(C15:AG15,Accueil!$B$26)","v":0},{"$f":"COUNTIF(C15:AG15,Accueil!$B$27)","v":0},{"$f":"COUNTIF(C15:AG15,Accueil!$B$28)","v":0},{"$f":"COUNTIF(C15:AG15,Accueil!$B$29)","v":0},{"$f":"COUNTIF(C15:AG15,Accueil!$B$30)","v":0},13,null,{"$f":"AI15 +Sept!BH15","v":3},{"$f":"AJ15+Sept!BI15","v":30},{"$f":"AK15+Sept!BJ15","v":27},{"$f":"AL15+Sept!BK15","v":54},{"$f":"AM15+Sept!BL15","v":1},{"$f":"AN15+Sept!BM15","v":2},{"$f":"AO15+Sept!BN15","v":0},{"$f":"AP15+Sept!BO15","v":0},{"$f":"AQ15+Sept!BP15","v":0},{"$f":"AR15+Sept!BQ15","v":0},{"$f":"AS15+Sept!BR15","v":0},{"$f":"AT15+Sept!BS15","v":0},{"$f":"AU15+Sept!BT15","v":0},{"$f":"AV15+Sept!BU15","v":0},{"$f":"AW15+Sept!BV15","v":0},{"$f":"AX15+Sept!BW15","v":57},{"$f":"AY15+Sept!BX15","v":0},{"$f":"AZ15+Sept!BY15","v":0},{"$f":"BA15+Sept!BZ15","v":2},{"$f":"BB15+Sept!CA15","v":0},{"$f":"BC15+Sept!CB15","v":0},{"$f":"BD15+Sept!CC15","v":0},{"$f":"BE15+Sept!CD15","v":0},{"$f":"BF15+Sept!CE15","v":117},null,{"$f":"Sept!CG15","v":0},57,-57,null,{"$f":"Sept!CK15","v":0},0,0,null,{"$f":"Sept!CO15","v":0},0,0,null,{"$f":"Sept!CS15","v":0},0,0]
[{"$f":"Sept!A16","v":0},null,null,null,null,null,null,null,null,null,null,null,null,null,null,null,null,null,null,null,null,null,null,null,null,null,null,null,null,null,null,null,null,null,{"$f":"COUNTIF(C16:AG16,Accueil!$B$8)","v":0},{"$f":"COUNTIF(C16:AG16,Accueil!$B$9)","v":0},{"$f":"COUNTIF(C16:AG16,Accueil!$B$10)","v":0},{"$f":"COUNTIF(C16:AG16,Accueil!$B$11)","v":0},{"$f":"COUNTIF(C16:AG16,Accueil!$B$12)","v":0},{"$f":"COUNTIF(C16:AG16,Accueil!$B$13)","v":0},{"$f":"COUNTIF(C16:AG16,Accueil!$B$14)","v":0},{"$f":"COUNTIF(C16:AG16,Accueil!$B$15)","v":0},{"$f":"COUNTIF(C16:AG16,Accueil!$B$16)","v":0},{"$f":"COUNTIF(C16:AG16,Accueil!$B$17)","v":0},{"$f":"COUNTIF(C16:AG16,Accueil!$B$18)","v":0},{"$f":"COUNTIF(C16:AG16,Accueil!$B$19)","v":0},{"$f":"COUNTIF(C16:AG16,Accueil!$B$20)","v":0},{"$f":"COUNTIF(C16:AG16,Accueil!$B$21)","v":0},{"$f":"COUNTIF(C16:AG16,Accueil!$B$22)","v":0},{"$f":"COUNTIF(C16:AG16,Accueil!$B$23)","v":0},{"$f":"COUNTIF(C16:AG16,Accueil!$B$24)","v":0},{"$f":"COUNTIF(C16:AG16,Accueil!$B$25)","v":0},{"$f":"COUNTIF(C16:AG16,Accueil!$B$26)","v":0},{"$f":"COUNTIF(C16:AG16,Accueil!$B$27)","v":0},{"$f":"COUNTIF(C16:AG16,Accueil!$B$28)","v":0},{"$f":"COUNTIF(C16:AG16,Accueil!$B$29)","v":0},{"$f":"COUNTIF(C16:AG16,Accueil!$B$30)","v":0},0,null,{"$f":"AI16 +Sept!BH16","v":0},{"$f":"AJ16+Sept!BI16","v":0},{"$f":"AK16+Sept!BJ16","v":0},{"$f":"AL16+Sept!BK16","v":0},{"$f":"AM16+Sept!BL16","v":0},{"$f":"AN16+Sept!BM16","v":0},{"$f":"AO16+Sept!BN16","v":0},{"$f":"AP16+Sept!BO16","v":0},{"$f":"AQ16+Sept!BP16","v":0},{"$f":"AR16+Sept!BQ16","v":0},{"$f":"AS16+Sept!BR16","v":6},{"$f":"AT16+Sept!BS16","v":0},{"$f":"AU16+Sept!BT16","v":0},{"$f":"AV16+Sept!BU16","v":0},{"$f":"AW16+Sept!BV16","v":0},{"$f":"AX16+Sept!BW16","v":0},{"$f":"AY16+Sept!BX16","v":0},{"$f":"AZ16+Sept!BY16","v":0},{"$f":"BA16+Sept!BZ16","v":0},{"$f":"BB16+Sept!CA16","v":0},{"$f":"BC16+Sept!CB16","v":0},{"$f":"BD16+Sept!CC16","v":0},{"$f":"BE16+Sept!CD16","v":0},{"$f":"BF16+Sept!CE16","v":6},null,{"$f":"Sept!CG16","v":0},0,0,null,{"$f":"Sept!CK16","v":0},0,0,null,{"$f":"Sept!CO16","v":0},0,0,null,{"$f":"Sept!CS16","v":0},0,0]
[{"$f":"Sept!A17","v":"Colette"},null,null,"MP",null,"M2","MP",null,null,null,null,null,"M2","MP",null,null,null,"MP",null,"M2","MP",null,null,null,null,null,"M2","MP",null,null,null,null,null,null,{"$f":"COUNTIF(C17:AG17,Accueil!$B$8)","v":0},{"$f":"COUNTIF(C17:AG17,Accueil!$B$9)","v":4},{"$f":"COUNTIF(C17:AG17,Accueil!$B$10)","v":0},{"$f":"COUNTIF(C17:AG17,Accueil!$B$11)","v":6},{"$f":"COUNTIF(C17:AG17,Accueil!$B$12)","v":0},{"$f":"COUNTIF(C17:AG17,Accueil!$B$13)","v":0},{"$f":"COUNTIF(C17:AG17,Accueil!$B$14)","v":0},{"$f":"COUNTIF(C17:AG17,Accueil!$B$15)","v":0},{"$f":"COUNTIF(C17:AG17,Accueil!$B$16)","v":0},{"$f":"COUNTIF(C17:AG17,Accueil!$B$17)","v":0},{"$f":"COUNTIF(C17:AG17,Accueil!$B$18)","v":0},{"$f":"COUNTIF(C17:AG17,Accueil!$B$19)","v":0},{"$f":"COUNTIF(C17:AG17,Accueil!$B$20)","v":0},{"$f":"COUNTIF(C17:AG17,Accueil!$B$21)","v":0},{"$f":"COUNTIF(C17:AG17,Accueil!$B$22)","v":0},{"$f":"COUNTIF(C17:AG17,Accueil!$B$23)","v":0},{"$f":"COUNTIF(C17:AG17,Accueil!$B$24)","v":0},{"$f":"COUNTIF(C17:AG17,Accueil!$B$25)","v":0},{"$f":"COUNTIF(C17:AG17,Accueil!$B$26)","v":0},{"$f":"COUNTIF(C17:AG17,Accueil!$B$27)","v":0},{"$f":"COUNTIF(C17:AG17,Accueil!$B$28)","v":0},{"$f":"COUNTIF(C17:AG17,Accueil!$B$29)","v":0},{"$f":"COUNTIF(C17:AG17,Accueil!$B$30)","v":0},10,null,{"$f":"AI17 +Sept!BH17","v":0},{"$f":"AJ17+Sept!BI17","v":32},{"$f":"AK17+Sept!BJ17","v":5},{"$f":"AL17+Sept!BK17","v":53},{"$f":"AM17+Sept!BL17","v":4},{"$f":"AN17+Sept!BM17","v":6},{"$f":"AO17+Sept!BN17","v":0},{"$f":"AP17+Sept!BO17","v":0},{"$f":"AQ17+Sept!BP17","v":0},{"$f":"AR17+Sept!BQ17","v":0},{"$f":"AS17+Sept!BR17","v":5},{"$f":"AT17+Sept!BS17","v":0},{"$f":"AU17+Sept!BT17","v":30},{"$f":"AV17+Sept!BU17","v":0},{"$f":"AW17+Sept!BV17","v":0},{"$f":"AX17+Sept!BW17","v":19},{"$f":"AY17+Sept!BX17","v":0},{"$f":"AZ17+Sept!BY17","v":0},{"$f":"BA17+Sept!BZ17","v":6},{"$f":"BB17+Sept!CA17","v":0},{"$f":"BC17+Sept!CB17","v":0},{"$f":"BD17+Sept!CC17","v":0},{"$f":"BE17+Sept!CD17","v":0},{"$f":"BF17+Sept!CE17","v":105},null,{"$f":"Sept!CG17","v":0},19,-19,null,{"$f":"Sept!CK17","v":0},0,0,null,{"$f":"Sept!CO17","v":0},0,0,null,{"$f":"Sept!CS17","v":0},0,0]
[{"$f":"Sept!A18","v":0},null,null,null,null,null,null,null,null,null,null,null,null,null,null,null,null,null,null,null,null,null,null,null,null,null,null,null,null,null,null,null,null,null,{"$f":"COUNTIF(C18:AG18,Accueil!$B$8)","v":0},{"$f":"COUNTIF(C18:AG18,Accueil!$B$9)","v":0},{"$f":"COUNTIF(C18:AG18,Accueil!$B$10)","v":0},{"$f":"COUNTIF(C18:AG18,Accueil!$B$11)","v":0},{"$f":"COUNTIF(C18:AG18,Accueil!$B$12)","v":0},{"$f":"COUNTIF(C18:AG18,Accueil!$B$13)","v":0},{"$f":"COUNTIF(C18:AG18,Accueil!$B$14)","v":0},{"$f":"COUNTIF(C18:AG18,Accueil!$B$15)","v":0},{"$f":"COUNTIF(C18:AG18,Accueil!$B$16)","v":0},{"$f":"COUNTIF(C18:AG18,Accueil!$B$17)","v":0},{"$f":"COUNTIF(C18:AG18,Accueil!$B$18)","v":0},{"$f":"COUNTIF(C18:AG18,Accueil!$B$19)","v":0},{"$f":"COUNTIF(C18:AG18,Accueil!$B$20)","v":0},{"$f":"COUNTIF(C18:AG18,Accueil!$B$21)","v":0},{"$f":"COUNTIF(C18:AG18,Accueil!$B$22)","v":0},{"$f":"COUNTIF(C18:AG18,Accueil!$B$23)","v":0},{"$f":"COUNTIF(C18:AG18,Accueil!$B$24)","v":0},{"$f":"COUNTIF(C18:AG18,Accueil!$B$25)","v":0},{"$f":"COUNTIF(C18:AG18,Accueil!$B$26)","v":0},{"$f":"COUNTIF(C18:AG18,Accueil!$B$27)","v":0},{"$f":"COUNTIF(C18:AG18,Accueil!$B$28)","v":0},{"$f":"COUNTIF(C18:AG18,Accueil!$B$29)","v":0},{"$f":"COUNTIF(C18:AG18,Accueil!$B$30)","v":0},0,null,{"$f":"AI18 +Sept!BH18","v":0},{"$f":"AJ18+Sept!BI18","v":0},{"$f":"AK18+Sept!BJ18","v":0},{"$f":"AL18+Sept!BK18","v":1},{"$f":"AM18+Sept!BL18","v":0},{"$f":"AN18+Sept!BM18","v":0},{"$f":"AO18+Sept!BN18","v":0},{"$f":"AP18+Sept!BO18","v":0},{"$f":"AQ18+Sept!BP18","v":0},{"$f":"AR18+Sept!BQ18","v":0},{"$f":"AS18+Sept!BR18","v":47},{"$f":"AT18+Sept!BS18","v":0},{"$f":"AU18+Sept!BT18","v":0},{"$f":"AV18+Sept!BU18","v":0},{"$f":"AW18+Sept!BV18","v":0},{"$f":"AX18+Sept!BW18","v":0},{"$f":"AY18+Sept!BX18","v":0},{"$f":"AZ18+Sept!BY18","v":0},{"$f":"BA18+Sept!BZ18","v":0},{"$f":"BB18+Sept!CA18","v":0},{"$f":"BC18+Sept!CB18","v":0},{"$f":"BD18+Sept!CC18","v":0},{"$f":"BE18+Sept!CD18","v":0},{"$f":"BF18+Sept!CE18","v":48},null,{"$f":"Sept!CG18","v":0},0,0,null,{"$f":"Sept!CK18","v":0},0,0,null,{"$f":"Sept!CO18","v":0},0,0,null,{"$f":"Sept!CS18","v":0},0,0]
[{"$f":"Sept!A19","v":"Lisa"},null,null,null,null,"M2",null,"M1","MP",null,null,null,"M2",null,"M1","MP",null,null,null,"M2",null,"M1","MP",null,null,null,"M2",null,"M1","MP",null,null,null,null,{"$f":"COUNTIF(C19:AG19,Accueil!$B$8)","v":4},{"$f":"COUNTIF(C19:AG19,Accueil!$B$9)","v":4},{"$f":"COUNTIF(C19:AG19,Accueil!$B$10)","v":0},{"$f":"COUNTIF(C19:AG19,Accueil!$B$11)","v":4},{"$f":"COUNTIF(C19:AG19,Accueil!$B$12)","v":0},{"$f":"COUNTIF(C19:AG19,Accueil!$B$13)","v":0},{"$f":"COUNTIF(C19:AG19,Accueil!$B$14)","v":0},{"$f":"COUNTIF(C19:AG19,Accueil!$B$15)","v":0},{"$f":"COUNTIF(C19:AG19,Accueil!$B$16)","v":0},{"$f":"COUNTIF(C19:AG19,Accueil!$B$17)","v":0},{"$f":"COUNTIF(C19:AG19,Accueil!$B$18)","v":0},{"$f":"COUNTIF(C19:AG19,Accueil!$B$19)","v":0},{"$f":"COUNTIF(C19:AG19,Accueil!$B$20)","v":0},{"$f":"COUNTIF(C19:AG19,Accueil!$B$21)","v":0},{"$f":"COUNTIF(C19:AG19,Accueil!$B$22)","v":0},{"$f":"COUNTIF(C19:AG19,Accueil!$B$23)","v":0},{"$f":"COUNTIF(C19:AG19,Accueil!$B$24)","v":0},{"$f":"COUNTIF(C19:AG19,Accueil!$B$25)","v":0},{"$f":"COUNTIF(C19:AG19,Accueil!$B$26)","v":0},{"$f":"COUNTIF(C19:AG19,Accueil!$B$27)","v":0},{"$f":"COUNTIF(C19:AG19,Accueil!$B$28)","v":0},{"$f":"COUNTIF(C19:AG19,Accueil!$B$29)","v":0},{"$f":"COUNTIF(C19:AG19,Accueil!$B$30)","v":0},12,null,{"$f":"AI19 +Sept!BH19","v":26},{"$f":"AJ19+Sept!BI19","v":37},{"$f":"AK19+Sept!BJ19","v":9},{"$f":"AL19+Sept!BK19","v":49},{"$f":"AM19+Sept!BL19","v":4},{"$f":"AN19+Sept!BM19","v":3},{"$f":"AO19+Sept!BN19","v":0},{"$f":"AP19+Sept!BO19","v":0},{"$f":"AQ19+Sept!BP19","v":0},{"$f":"AR19+Sept!BQ19","v":0},{"$f":"AS19+Sept!BR19","v":0},{"$f":"AT19+Sept!BS19","v":0},{"$f":"AU19+Sept!BT19","v":2},{"$f":"AV19+Sept!BU19","v":0},{"$f":"AW19+Sept!BV19","v":0},{"$f":"AX19+Sept!BW19","v":32},{"$f":"AY19+Sept!BX19","v":0},{"$f":"AZ19+Sept!BY19","v":0},{"$f":"BA19+Sept!BZ19","v":2},{"$f":"BB19+Sept!CA19","v":0},{"$f":"BC19+Sept!CB19","v":0},{"$f":"BD19+Sept!CC19","v":0},{"$f":"BE19+Sept!CD19","v":0},{"$f":"BF19+Sept!CE19","v":128},null,{"$f":"Sept!CG19","v":0},32,-32,null,{"$f":"Sept!CK19","v":0},0,0,null,{"$f":"Sept!CO19","v":0},0,0,null,{"$f":"Sept!CS19","v":0},0,0]
[{"$f":"Sept!A20","v":0},null,null,null,null,null,null,null,null,null,null,null,null,null,null,null,null,null,null,null,null,null,null,null,null,null,null,null,null,null,null,null,null,null,{"$f":"COUNTIF(C20:AG20,Accueil!$B$8)","v":0},{"$f":"COUNTIF(C20:AG20,Accueil!$B$9)","v":0},{"$f":"COUNTIF(C20:AG20,Accueil!$B$10)","v":0},{"$f":"COUNTIF(C20:AG20,Accueil!$B$11)","v":0},{"$f":"COUNTIF(C20:AG20,Accueil!$B$12)","v":0},{"$f":"COUNTIF(C20:AG20,Accueil!$B$13)","v":0},{"$f":"COUNTIF(C20:AG20,Accueil!$B$14)","v":0},{"$f":"COUNTIF(C20:AG20,Accueil!$B$15)","v":0},{"$f":"COUNTIF(C20:AG20,Accueil!$B$16)","v":0},{"$f":"COUNTIF(C20:AG20,Accueil!$B$17)","v":0},{"$f":"COUNTIF(C20:AG20,Accueil!$B$18)","v":0},{"$f":"COUNTIF(C20:AG20,Accueil!$B$19)","v":0},{"$f":"COUNTIF(C20:AG20,Accueil!$B$20)","v":0},{"$f":"COUNTIF(C20:AG20,Accueil!$B$21)","v":0},{"$f":"COUNTIF(C20:AG20,Accueil!$B$22)","v":0},{"$f":"COUNTIF(C20:AG20,Accueil!$B$23)","v":0},{"$f":"COUNTIF(C20:AG20,Accueil!$B$24)","v":0},{"$f":"COUNTIF(C20:AG20,Accueil!$B$25)","v":0},{"$f":"COUNTIF(C20:AG20,Accueil!$B$26)","v":0},{"$f":"COUNTIF(C20:AG20,Accueil!$B$27)","v":0},{"$f":"COUNTIF(C20:AG20,Accueil!$B$28)","v":0},{"$f":"COUNTIF(C20:AG20,Accueil!$B$29)","v":0},{"$f":"COUNTIF(C20:AG20,Accueil!$B$30)","v":0},0,null,{"$f":"AI20 +Sept!BH20","v":0},{"$f":"AJ20+Sept!BI20","v":0},{"$f":"AK20+Sept!BJ20","v":0},{"$f":"AL20+Sept!BK20","v":0},{"$f":"AM20+Sept!BL20","v":0},{"$f":"AN20+Sept!BM20","v":0},{"$f":"AO20+Sept!BN20","v":0},{"$f":"AP20+Sept!BO20","v":0},{"$f":"AQ20+Sept!BP20","v":0},{"$f":"AR20+Sept!BQ20","v":0},{"$f":"AS20+Sept!BR20","v":1},{"$f":"AT20+Sept!BS20","v":0},{"$f":"AU20+Sept!BT20","v":0},{"$f":"AV20+Sept!BU20","v":0},{"$f":"AW20+Sept!BV20","v":0},{"$f":"AX20+Sept!BW20","v":0},{"$f":"AY20+Sept!BX20","v":0},{"$f":"AZ20+Sept!BY20","v":0},{"$f":"BA20+Sept!BZ20","v":0},{"$f":"BB20+Sept!CA20","v":0},{"$f":"BC20+Sept!CB20","v":0},{"$f":"BD20+Sept!CC20","v":0},{"$f":"BE20+Sept!CD20","v":0},{"$f":"BF20+Sept!CE20","v":1},null,{"$f":"Sept!CG20","v":0},0,0,null,{"$f":"Sept!CK20","v":0},0,0,null,{"$f":"Sept!CO20","v":0},0,0,null,{"$f":"Sept!CS20","v":0},0,0]
[{"$f":"Sept!A21","v":"Philip"},null,null,null,"MP","M1",null,null,null,null,"MP","MP","M1",null,null,null,null,null,"MP","M1",null,null,null,null,"MP","MP","M1",null,null,null,null,null,"MP",null,{"$f":"COUNTIF(C21:AG21,Accueil!$B$8)","v":4},{"$f":"COUNTIF(C21:AG21,Accueil!$B$9)","v":0},{"$f":"COUNTIF(C21:AG21,Accueil!$B$10)","v":0},{"$f":"COUNTIF(C21:AG21,Accueil!$B$11)","v":7},{"$f":"COUNTIF(C21:AG21,Accueil!$B$12)","v":0},{"$f":"COUNTIF(C21:AG21,Accueil!$B$13)","v":0},{"$f":"COUNTIF(C21:AG21,Accueil!$B$14)","v":0},{"$f":"COUNTIF(C21:AG21,Accueil!$B$15)","v":0},{"$f":"COUNTIF(C21:AG21,Accueil!$B$16)","v":0},{"$f":"COUNTIF(C21:AG21,Accueil!$B$17)","v":0},{"$f":"COUNTIF(C21:AG21,Accueil!$B$18)","v":0},{"$f":"COUNTIF(C21:AG21,Accueil!$B$19)","v":0},{"$f":"COUNTIF(C21:AG21,Accueil!$B$20)","v":0},{"$f":"COUNTIF(C21:AG21,Accueil!$B$21)","v":0},{"$f":"COUNTIF(C21:AG21,Accueil!$B$22)","v":0},{"$f":"COUNTIF(C21:AG21,Accueil!$B$23)","v":0},{"$f":"COUNTIF(C21:AG21,Accueil!$B$24)","v":0},{"$f":"COUNTIF(C21:AG21,Accueil!$B$25)","v":0},{"$f":"COUNTIF(C21:AG21,Accueil!$B$26)","v":0},{"$f":"COUNTIF(C21:AG21,Accueil!$B$27)","v":0},{"$f":"COUNTIF(C21:AG21,Accueil!$B$28)","v":0},{"$f":"COUNTIF(C21:AG21,Accueil!$B$29)","v":0},{"$f":"COUNTIF(C21:AG21,Accueil!$B$30)","v":0},11,null,{"$f":"AI21 +Sept!BH21","v":36},{"$f":"AJ21+Sept!BI21","v":0},{"$f":"AK21+Sept!BJ21","v":0},{"$f":"AL21+Sept!BK21","v":53},{"$f":"AM21+Sept!BL21","v":5},{"$f":"AN21+Sept!BM21","v":1},{"$f":"AO21+Sept!BN21","v":0},{"$f":"AP21+Sept!BO21","v":0},{"$f":"AQ21+Sept!BP21","v":0},{"$f":"AR21+Sept!BQ21","v":0},{"$f":"AS21+Sept!BR21","v":0},{"$f":"AT21+Sept!BS21","v":0},{"$f":"AU21+Sept!BT21","v":0},{"$f":"AV21+Sept!BU21","v":0},{"$f":"AW21+Sept!BV21","v":0},{"$f":"AX21+Sept!BW21","v":40},{"$f":"AY21+Sept!BX21","v":0},{"$f":"AZ21+Sept!BY21","v":0},{"$f":"BA21+Sept!BZ21","v":0},{"$f":"BB21+Sept!CA21","v":0},{"$f":"BC21+Sept!CB21","v":0},{"$f":"BD21+Sept!CC21","v":0},{"$f":"BE21+Sept!CD21","v":0},{"$f":"BF21+Sept!CE21","v":95},null,{"$f":"Sept!CG21","v":0},40,-40,null,{"$f":"Sept!CK21","v":0},0,0,null,{"$f":"Sept!CO21","v":0},0,0,null,{"$f":"Sept!CS21","v":0},0,0]
[{"$f":"Sept!A22","v":0},null,null,null,null,null,null,null,null,null,null,null,null,null,null,null,null,null,null,null,null,null,null,null,null,null,null,null,null,null,null,null,null,null,{"$f":"COUNTIF(C22:AG22,Accueil!$B$8)","v":0},{"$f":"COUNTIF(C22:AG22,Accueil!$B$9)","v":0},{"$f":"COUNTIF(C22:AG22,Accueil!$B$10)","v":0},{"$f":"COUNTIF(C22:AG22,Accueil!$B$11)","v":0},{"$f":"COUNTIF(C22:AG22,Accueil!$B$12)","v":0},{"$f":"COUNTIF(C22:AG22,Accueil!$B$13)","v":0},{"$f":"COUNTIF(C22:AG22,Accueil!$B$14)","v":0},{"$f":"COUNTIF(C22:AG22,Accueil!$B$15)","v":0},{"$f":"COUNTIF(C22:AG22,Accueil!$B$16)","v":0},{"$f":"COUNTIF(C22:AG22,Accueil!$B$17)","v":0},{"$f":"COUNTIF(C22:AG22,Accueil!$B$18)","v":0},{"$f":"COUNTIF(C22:AG22,Accueil!$B$19)","v":0},{"$f":"COUNTIF(C22:AG22,Accueil!$B$20)","v":0},{"$f":"COUNTIF(C22:AG22,Accueil!$B$21)","v":0},{"$f":"COUNTIF(C22:AG22,Accueil!$B$22)","v":0},{"$f":"COUNTIF(C22:AG22,Accueil!$B$23)","v":0},{"$f":"COUNTIF(C22:AG22,Accueil!$B$24)","v":0},{"$f":"COUNTIF(C22:AG22,Accueil!$B$25)","v":0},{"$f":"COUNTIF(C22:AG22,Accueil!$B$26)","v":0},{"$f":"COUNTIF(C22:AG22,Accueil!$B$27)","v":0},{"$f":"COUNTIF(C22:AG22,Accueil!$B$28)","v":0},{"$f":"COUNTIF(C22:AG22,Accueil!$B$29)","v":0},{"$f":"COUNTIF(C22:AG22,Accueil!$B$30)","v":0},0,null,{"$f":"AI22 +Sept!BH22","v":0},{"$f":"AJ22+Sept!BI22","v":0},{"$f":"AK22+Sept!BJ22","v":0},{"$f":"AL22+Sept!BK22","v":0},{"$f":"AM22+Sept!BL22","v":0},{"$f":"AN22+Sept!BM22","v":0},{"$f":"AO22+Sept!BN22","v":0},{"$f":"AP22+Sept!BO22","v":0},{"$f":"AQ22+Sept!BP22","v":0},{"$f":"AR22+Sept!BQ22","v":8},{"$f":"AS22+Sept!BR22","v":3},{"$f":"AT22+Sept!BS22","v":0},{"$f":"AU22+Sept!BT22","v":0},{"$f":"AV22+Sept!BU22","v":0},{"$f":"AW22+Sept!BV22","v":0},{"$f":"AX22+Sept!BW22","v":0},{"$f":"AY22+Sept!BX22","v":0},{"$f":"AZ22+Sept!BY22","v":0},{"$f":"BA22+Sept!BZ22","v":0},{"$f":"BB22+Sept!CA22","v":0},{"$f":"BC22+Sept!CB22","v":0},{"$f":"BD22+Sept!CC22","v":0},{"$f":"BE22+Sept!CD22","v":0},{"$f":"BF22+Sept!CE22","v":11},null,{"$f":"Sept!CG22","v":0},0,0,null,{"$f":"Sept!CK22","v":0},0,0,null,{"$f":"Sept!CO22","v":0},0,0,null,{"$f":"Sept!CS22","v":0},0,0]
[{"$f":"Sept!A23","v":"Dania"},null,null,null,null,null,null,null,null,null,null,null,null,null,null,null,null,null,null,null,null,null,null,null,null,null,null,null,null,null,null,null,null,null,{"$f":"COUNTIF(C23:AG23,Accueil!$B$8)","v":0},{"$f":"COUNTIF(C23:AG23,Accueil!$B$9)","v":0},{"$f":"COUNTIF(C23:AG23,Accueil!$B$10)","v":0},{"$f":"COUNTIF(C23:AG23,Accueil!$B$11)","v":0},{"$f":"COUNTIF(C23:AG23,Accueil!$B$12)","v":0},{"$f":"COUNTIF(C23:AG23,Accueil!$B$13)","v":0},{"$f":"COUNTIF(C23:AG23,Accueil!$B$14)","v":0},{"$f":"COUNTIF(C23:AG23,Accueil!$B$15)","v":0},{"$f":"COUNTIF(C23:AG23,Accueil!$B$16)","v":0},{"$f":"COUNTIF(C23:AG23,Accueil!$B$17)","v":0},{"$f":"COUNTIF(C23:AG23,Accueil!$B$18)","v":0},{"$f":"COUNTIF(C23:AG23,Accueil!$B$19)","v":0},{"$f":"COUNTIF(C23:AG23,Accueil!$B$20)","v":0},{"$f":"COUNTIF(C23:AG23,Accueil!$B$21)","v":0},{"$f":"COUNTIF(C23:AG23,Accueil!$B$22)","v":0},{"$f":"COUNTIF(C23:AG23,Accueil!$B$23)","v":0},{"$f":"COUNTIF(C23:AG23,Accueil!$B$24)","v":0},{"$f":"COUNTIF(C23:AG23,Accueil!$B$25)","v":0},{"$f":"COUNTIF(C23:AG23,Accueil!$B$26)","v":0},{"$f":"COUNTIF(C23:AG23,Accueil!$B$27)","v":0},{"$f":"COUNTIF(C23:AG23,Accueil!$B$28)","v":0},{"$f":"COUNTIF(C23:AG23,Accueil!$B$29)","v":0},{"$f":"COUNTIF(C23:AG23,Accueil!$B$30)","v":0},0,null,{"$f":"AI23 +Sept!BH23","v":0},{"$f":"AJ23+Sept!BI23","v":7},{"$f":"AK23+Sept!BJ23","v":17},{"$f":"AL23+Sept!BK23","v":0},{"$f":"AM23+Sept!BL23","v":0},{"$f":"AN23+Sept!BM23","v":0},{"$f":"AO23+Sept!BN23","v":0},{"$f":"AP23+Sept!BO23","v":0},{"$f":"AQ23+Sept!BP23","v":0},{"$f":"AR23+Sept!BQ23","v":0},{"$f":"AS23+Sept!BR23","v":0},{"$f":"AT23+Sept!BS23","v":0},{"$f":"AU23+Sept!BT23","v":0},{"$f":"AV23+Sept!BU23","v":0},{"$f":"AW23+Sept!BV23","v":0},{"$f":"AX23+Sept!BW23","v":0},{"$f":"AY23+Sept!BX23","v":0},{"$f":"AZ23+Sept!BY23","v":0},{"$f":"BA23+Sept!BZ23","v":2},{"$f":"BB23+Sept!CA23","v":10},{"$f":"BC23+Sept!CB23","v":0},{"$f":"BD23+Sept!CC23","v":0},{"$f":"BE23+Sept!CD23","v":0},{"$f":"BF23+Sept!CE23","v":24},null,{"$f":"Sept!CG23","v":0},0,0,null,{"$f":"Sept!CK23","v":0},0,0,null,{"$f":"Sept!CO23","v":0},0,0,null,{"$f":"Sept!CS23","v":0},0,0]
[{"$f":"Sept!A24","v":0},null,null,null,null,null,null,null,null,null,null,null,null,null,null,null,null,null,null,null,null,null,null,null,null,null,null,null,null,null,null,null,null,null,{"$f":"COUNTIF(C24:AG24,Accueil!$B$8)","v":0},{"$f":"COUNTIF(C24:AG24,Accueil!$B$9)","v":0},{"$f":"COUNTIF(C24:AG24,Accueil!$B$10)","v":0},{"$f":"COUNTIF(C24:AG24,Accueil!$B$11)","v":0},{"$f":"COUNTIF(C24:AG24,Accueil!$B$12)","v":0},{"$f":"COUNTIF(C24:AG24,Accueil!$B$13)","v":0},{"$f":"COUNTIF(C24:AG24,Accueil!$B$14)","v":0},{"$f":"COUNTIF(C24:AG24,Accueil!$B$15)","v":0},{"$f":"COUNTIF(C24:AG24,Accueil!$B$16)","v":0},{"$f":"COUNTIF(C24:AG24,Accueil!$B$17)","v":0},{"$f":"COUNTIF(C24:AG24,Accueil!$B$18)","v":0},{"$f":"COUNTIF(C24:AG24,Accueil!$B$19)","v":0},{"$f":"COUNTIF(C24:AG24,Accueil!$B$20)","v":0},{"$f":"COUNTIF(C24:AG24,Accueil!$B$21)","v":0},{"$f":"COUNTIF(C24:AG24,Accueil!$B$22)","v":0},{"$f":"COUNTIF(C24:AG24,Accueil!$B$23)","v":0},{"$f":"COUNTIF(C24:AG24,Accueil!$B$24)","v":0},{"$f":"COUNTIF(C24:AG24,Accueil!$B$25)","v":0},{"$f":"COUNTIF(C24:AG24,Accueil!$B$26)","v":0},{"$f":"COUNTIF(C24:AG24,Accueil!$B$27)","v":0},{"$f":"COUNTIF(C24:AG24,Accueil!$B$28)","v":0},{"$f":"COUNTIF(C24:AG24,Accueil!$B$29)","v":0},{"$f":"COUNTIF(C24:AG24,Accueil!$B$30)","v":0},0,null,{"$f":"AI24 +Sept!BH24","v":0},{"$f":"AJ24+Sept!BI24","v":0},{"$f":"AK24+Sept!BJ24","v":0},{"$f":"AL24+Sept!BK24","v":16},{"$f":"AM24+Sept!BL24","v":0},{"$f":"AN24+Sept!BM24","v":0},{"$f":"AO24+Sept!BN24","v":0},{"$f":"AP24+Sept!BO24","v":0},{"$f":"AQ24+Sept!BP24","v":0},{"$f":"AR24+Sept!BQ24","v":0},{"$f":"AS24+Sept!BR24","v":0},{"$f":"AT24+Sept!BS24","v":0},{"$f":"AU24+Sept!BT24","v":0},{"$f":"AV24+Sept!BU24","v":0},{"$f":"AW24+Sept!BV24","v":0},{"$f":"AX24+Sept!BW24","v":0},{"$f":"AY24+Sept!BX24","v":0},{"$f":"AZ24+Sept!BY24","v":0},{"$f":"BA24+Sept!BZ24","v":0},{"$f":"BB24+Sept!CA24","v":0},{"$f":"BC24+Sept!CB24","v":0},{"$f":"BD24+Sept!CC24","v":0},{"$f":"BE24+Sept!CD24","v":0},{"$f":"BF24+Sept!CE24","v":16},null,{"$f":"Sept!CG24","v":0},0,0,null,{"$f":"Sept!CK24","v":0},0,0,null,{"$f":"Sept!CO24","v":0},0,0,null,{"$f":"Sept!CS24","v":0},0,0]
[{"$f":"Sept!A25","v":"Claudia"},null,null,null,null,null,null,null,null,null,null,null,null,null,null,null,null,null,null,null,null,null,null,null,null,null,null,null,null,null,null,null,null,null,{"$f":"COUNTIF(C25:AG25,Accueil!$B$8)","v":0},{"$f":"COUNTIF(C25:AG25,Accueil!$B$9)","v":0},{"$f":"COUNTIF(C25:AG25,Accueil!$B$10)","v":0},{"$f":"COUNTIF(C25:AG25,Accueil!$B$11)","v":0},{"$f":"COUNTIF(C25:AG25,Accueil!$B$12)","v":0},{"$f":"COUNTIF(C25:AG25,Accueil!$B$13)","v":0},{"$f":"COUNTIF(C25:AG25,Accueil!$B$14)","v":0},{"$f":"COUNTIF(C25:AG25,Accueil!$B$15)","v":0},{"$f":"COUNTIF(C25:AG25,Accueil!$B$16)","v":0},{"$f":"COUNTIF(C25:AG25,Accueil!$B$17)","v":0},{"$f":"COUNTIF(C25:AG25,Accueil!$B$18)","v":0},{"$f":"COUNTIF(C25:AG25,Accueil!$B$19)","v":0},{"$f":"COUNTIF(C25:AG25,Accueil!$B$20)","v":0},{"$f":"COUNTIF(C25:AG25,Accueil!$B$21)","v":0},{"$f":"COUNTIF(C25:AG25,Accueil!$B$22)","v":0},{"$f":"COUNTIF(C25:AG25,Accueil!$B$23)","v":0},{"$f":"COUNTIF(C25:AG25,Accueil!$B$24)","v":0},{"$f":"COUNTIF(C25:AG25,Accueil!$B$25)","v":0},{"$f":"COUNTIF(C25:AG25,Accueil!$B$26)","v":0},{"$f":"COUNTIF(C25:AG25,Accueil!$B$27)","v":0},{"$f":"COUNTIF(C25:AG25,Accueil!$B$28)","v":0},{"$f":"COUNTIF(C25:AG25,Accueil!$B$29)","v":0},{"$f":"COUNTIF(C25:AG25,Accueil!$B$30)","v":0},0,null,{"$f":"AI25 +Sept!BH25","v":1},{"$f":"AJ25+Sept!BI25","v":3},{"$f":"AK25+Sept!BJ25","v":1},{"$f":"AL25+Sept!BK25","v":0},{"$f":"AM25+Sept!BL25","v":0},{"$f":"AN25+Sept!BM25","v":0},{"$f":"AO25+Sept!BN25","v":0},{"$f":"AP25+Sept!BO25","v":0},{"$f":"AQ25+Sept!BP25","v":0},{"$f":"AR25+Sept!BQ25","v":0},{"$f":"AS25+Sept!BR25","v":0},{"$f":"AT25+Sept!BS25","v":0},{"$f":"AU25+Sept!BT25","v":0},{"$f":"AV25+Sept!BU25","v":0},{"$f":"AW25+Sept!BV25","v":0},{"$f":"AX25+Sept!BW25","v":9},{"$f":"AY25+Sept!BX25","v":0},{"$f":"AZ25+Sept!BY25","v":0},{"$f":"BA25+Sept!BZ25","v":0},{"$f":"BB25+Sept!CA25","v":0},{"$f":"BC25+Sept!CB25","v":0},{"$f":"BD25+Sept!CC25","v":0},{"$f":"BE25+Sept!CD25","v":0},{"$f":"BF25+Sept!CE25","v":5},null,{"$f":"Sept!CG25","v":0},9,-9,null,{"$f":"Sept!CK25","v":0},0,0,null,{"$f":"Sept!CO25","v":0},0,0,null,{"$f":"Sept!CS25","v":0},0,0]
[{"$f":"Sept!A26","v":"FRPI"},null,null,null,null,null,null,null,null,null,null,null,null,null,null,null,null,null,null,null,null,null,null,null,null,null,null,null,null,null,null,null,null,null,{"$f":"COUNTIF(C26:AG26,Accueil!$B$8)","v":0},{"$f":"COUNTIF(C26:AG26,Accueil!$B$9)","v":0},{"$f":"COUNTIF(C26:AG26,Accueil!$B$10)","v":0},{"$f":"COUNTIF(C26:AG26,Accueil!$B$11)","v":0},{"$f":"COUNTIF(C26:AG26,Accueil!$B$12)","v":0},{"$f":"COUNTIF(C26:AG26,Accueil!$B$13)","v":0},{"$f":"COUNTIF(C26:AG26,Accueil!$B$14)","v":0},{"$f":"COUNTIF(C26:AG26,Accueil!$B$15)","v":0},{"$f":"COUNTIF(C26:AG26,Accueil!$B$16)","v":0},{"$f":"COUNTIF(C26:AG26,Accueil!$B$17)","v":0},{"$f":"COUNTIF(C26:AG26,Accueil!$B$18)","v":0},{"$f":"COUNTIF(C26:AG26,Accueil!$B$19)","v":0},{"$f":"COUNTIF(C26:AG26,Accueil!$B$20)","v":0},{"$f":"COUNTIF(C26:AG26,Accueil!$B$21)","v":0},{"$f":"COUNTIF(C26:AG26,Accueil!$B$22)","v":0},{"$f":"COUNTIF(C26:AG26,Accueil!$B$23)","v":0},{"$f":"COUNTIF(C26:AG26,Accueil!$B$24)","v":0},{"$f":"COUNTIF(C26:AG26,Accueil!$B$25)","v":0},{"$f":"COUNTIF(C26:AG26,Accueil!$B$26)","v":0},{"$f":"COUNTIF(C26:AG26,Accueil!$B$27)","v":0},{"$f":"COUNTIF(C26:AG26,Accueil!$B$28)","v":0},{"$f":"COUNTIF(C26:AG26,Accueil!$B$29)","v":0},{"$f":"COUNTIF(C26:AG26,Accueil!$B$30)","v":0},0,null,{"$f":"AI26 +Sept!BH26","v":0},{"$f":"AJ26+Sept!BI26","v":0},{"$f":"AK26+Sept!BJ26","v":0},{"$f":"AL26+Sept!BK26","v":0},{"$f":"AM26+Sept!BL26","v":0},{"$f":"AN26+Sept!BM26","v":0},{"$f":"AO26+Sept!BN26","v":0},{"$f":"AP26+Sept!BO26","v":0},{"$f":"AQ26+Sept!BP26","v":0},{"$f":"AR26+Sept!BQ26","v":2},{"$f":"AS26+Sept!BR26","v":9},{"$f":"AT26+Sept!BS26","v":0},{"$f":"AU26+Sept!BT26","v":0},{"$f":"AV26+Sept!BU26","v":0},{"$f":"AW26+Sept!BV26","v":0},{"$f":"AX26+Sept!BW26","v":5},{"$f":"AY26+Sept!BX26","v":0},{"$f":"AZ26+Sept!BY26","v":0},{"$f":"BA26+Sept!BZ26","v":0},{"$f":"BB26+Sept!CA26","v":0},{"$f":"BC26+Sept!CB26","v":0},{"$f":"BD26+Sept!CC26","v":0},{"$f":"BE26+Sept!CD26","v":0},{"$f":"BF26+Sept!CE26","v":11},null,{"$f":"Sept!CG26","v":0},5,-5,null,{"$f":"Sept!CK26","v":0},0,0,null,{"$f":"Sept!CO26","v":0},0,0,null,{"$f":"Sept!CS26","v":0},0,0]
[{"$f":"Sept!A27","v":0},null,null,null,null,null,null,null,null,null,null,null,null,null,null,null,null,null,null,null,null,null,null,null,null,null,null,null,null,null,null,null,null,null,{"$f":"COUNTIF(C27:AG27,Accueil!$B$8)","v":0},{"$f":"COUNTIF(C27:AG27,Accueil!$B$9)","v":0},{"$f":"COUNTIF(C27:AG27,Accueil!$B$10)","v":0},{"$f":"COUNTIF(C27:AG27,Accueil!$B$11)","v":0},{"$f":"COUNTIF(C27:AG27,Accueil!$B$12)","v":0},{"$f":"COUNTIF(C27:AG27,Accueil!$B$13)","v":0},{"$f":"COUNTIF(C27:AG27,Accueil!$B$14)","v":0},{"$f":"COUNTIF(C27:AG27,Accueil!$B$15)","v":0},{"$f":"COUNTIF(C27:AG27,Accueil!$B$16)","v":0},{"$f":"COUNTIF(C27:AG27,Accueil!$B$17)","v":0},{"$f":"COUNTIF(C27:AG27,Accueil!$B$18)","v":0},{"$f":"COUNTIF(C27:AG27,Accueil!$B$19)","v":0},{"$f":"COUNTIF(C27:AG27,Accueil!$B$20)","v":0},{"$f":"COUNTIF(C27:AG27,Accueil!$B$21)","v":0},{"$f":"COUNTIF(C27:AG27,Accueil!$B$22)","v":0},{"$f":"COUNTIF(C27:AG27,Accueil!$B$23)","v":0},{"$f":"COUNTIF(C27:AG27,Accueil!$B$24)","v":0},{"$f":"COUNTIF(C27:AG27,Accueil!$B$25)","v":0},{"$f":"COUNTIF(C27:AG27,Accueil!$B$26)","v":0},{"$f":"COUNTIF(C27:AG27,Accueil!$B$27)","v":0},{"$f":"COUNTIF(C27:AG27,Accueil!$B$28)","v":0},{"$f":"COUNTIF(C27:AG27,Accueil!$B$29)","v":0},{"$f":"COUNTIF(C27:AG27,Accueil!$B$30)","v":0},0,null,{"$f":"AI27 +Sept!BH27","v":0},{"$f":"AJ27+Sept!BI27","v":0},{"$f":"AK27+Sept!BJ27","v":{"$error":"#VALUE!"}},{"$f":"AL27+Sept!BK27","v":0},{"$f":"AM27+Sept!BL27","v":0},{"$f":"AN27+Sept!BM27","v":0},{"$f":"AO27+Sept!BN27","v":0},{"$f":"AP27+Sept!BO27","v":{"$error":"#VALUE!"}},{"$f":"AQ27+Sept!BP27","v":0},{"$f":"AR27+Sept!BQ27","v":0},{"$f":"AS27+Sept!BR27","v":0},{"$f":"AT27+Sept!BS27","v":0},{"$f":"AU27+Sept!BT27","v":0},{"$f":"AV27+Sept!BU27","v":0},{"$f":"AW27+Sept!BV27","v":0},{"$f":"AX27+Sept!BW27","v":0},{"$f":"AY27+Sept!BX27","v":0},{"$f":"AZ27+Sept!BY27","v":0},{"$f":"BA27+Sept!BZ27","v":0},{"$f":"BB27+Sept!CA27","v":0},{"$f":"BC27+Sept!CB27","v":0},{"$f":"BD27+Sept!CC27","v":0},{"$f":"BE27+Sept!CD27","v":0},{"$f":"BF27+Sept!CE27","v":0},null,{"$f":"Sept!CG27","v":0},0,0,null,{"$f":"Sept!CK27","v":0},0,0,null,{"$f":"Sept!CO27","v":0},0,0,null,{"$f":"Sept!CS27","v":0},0,0]
[{"$f":"Sept!A28","v":"Frédéric"},null,null,null,null,null,null,null,null,null,null,null,null,null,null,null,null,null,null,null,null,null,null,null,null,null,null,null,null,null,null,null,null,null,{"$f":"COUNTIF(C28:AG28,Accueil!$B$8)","v":0},{"$f":"COUNTIF(C28:AG28,Accueil!$B$9)","v":0},{"$f":"COUNTIF(C28:AG28,Accueil!$B$10)","v":0},{"$f":"COUNTIF(C28:AG28,Accueil!$B$11)","v":0},{"$f":"COUNTIF(C28:AG28,Accueil!$B$12)","v":0},{"$f":"COUNTIF(C28:AG28,Accueil!$B$13)","v":0},{"$f":"COUNTIF(C28:AG28,Accueil!$B$14)","v":0},{"$f":"COUNTIF(C28:AG28,Accueil!$B$15)","v":0},{"$f":"COUNTIF(C28:AG28,Accueil!$B$16)","v":0},{"$f":"COUNTIF(C28:AG28,Accueil!$B$17)","v":0},{"$f":"COUNTIF(C28:AG28,Accueil!$B$18)","v":0},{"$f":"COUNTIF(C28:AG28,Accueil!$B$19)","v":0},{"$f":"COUNTIF(C28:AG28,Accueil!$B$20)","v":0},{"$f":"COUNTIF(C28:AG28,Accueil!$B$21)","v":0},{"$f":"COUNTIF(C28:AG28,Accueil!$B$22)","v":0},{"$f":"COUNTIF(C28:AG28,Accueil!$B$23)","v":0},{"$f":"COUNTIF(C28:AG28,Accueil!$B$24)","v":0},{"$f":"COUNTIF(C28:AG28,Accueil!$B$25)","v":0},{"$f":"COUNTIF(C28:AG28,Accueil!$B$26)","v":0},{"$f":"COUNTIF(C28:AG28,Accueil!$B$27)","v":0},{"$f":"COUNTIF(C28:AG28,Accueil!$B$28)","v":0},{"$f":"COUNTIF(C28:AG28,Accueil!$B$29)","v":0},{"$f":"COUNTIF(C28:AG28,Accueil!$B$30)","v":0},0,null,{"$f":"AI28 +Sept!BH28","v":{"$error":"#VALUE!"}},{"$f":"AJ28+Sept!BI28","v":{"$error":"#VALUE!"}},{"$f":"AK28+Sept!BJ28","v":0},{"$f":"AL28+Sept!BK28","v":{"$error":"#VALUE!"}},{"$f":"AM28+Sept!BL28","v":0},{"$f":"AN28+Sept!BM28","v":{"$error":"#VALUE!"}},{"$f":"AO28+Sept!BN28","v":{"$error":"#VALUE!"}},{"$f":"AP28+Sept!BO28","v":0},{"$f":"AQ28+Sept!BP28","v":27},{"$f":"AR28+Sept!BQ28","v":0},{"$f":"AS28+Sept!BR28","v":0},{"$f":"AT28+Sept!BS28","v":0},{"$f":"AU28+Sept!BT28","v":0},{"$f":"AV28+Sept!BU28","v":0},{"$f":"AW28+Sept!BV28","v":0},{"$f":"AX28+Sept!BW28","v":0},{"$f":"AY28+Sept!BX28","v":0},{"$f":"AZ28+Sept!BY28","v":0},{"$f":"BA28+Sept!BZ28","v":0},{"$f":"BB28+Sept!CA28","v":0},{"$f":"BC28+Sept!CB28","v":0},{"$f":"BD28+Sept!CC28","v":0},{"$f":"BE28+Sept!CD28","v":0},{"$f":"BF28+Sept!CE28","v":27},null,{"$f":"Sept!CG28","v":0},0,0,null,{"$f":"Sept!CK28","v":0},0,0,null,{"$f":"Sept!CO28","v":0},0,0,null,{"$f":"Sept!CS28","v":0},0,0]
[{"$f":"Sept!A29","v":"Ibrahim"},null,null,null,null,null,null,null,null,null,null,null,null,null,null,null,null,null,null,null,null,null,null,null,null,null,null,null,null,null,null,null,null,null,{"$f":"COUNTIF(C29:AG29,Accueil!$B$8)","v":0},{"$f":"COUNTIF(C29:AG29,Accueil!$B$9)","v":0},{"$f":"COUNTIF(C29:AG29,Accueil!$B$10)","v":0},{"$f":"COUNTIF(C29:AG29,Accueil!$B$11)","v":0},{"$f":"COUNTIF(C29:AG29,Accueil!$B$12)","v":0},{"$f":"COUNTIF(C29:AG29,Accueil!$B$13)","v":0},{"$f":"COUNTIF(C29:AG29,Accueil!$B$14)","v":0},{"$f":"COUNTIF(C29:AG29,Accueil!$B$15)","v":0},{"$f":"COUNTIF(C29:AG29,Accueil!$B$16)","v":0},{"$f":"COUNTIF(C29:AG29,Accueil!$B$17)","v":0},{"$f":"COUNTIF(C29:AG29,Accueil!$B$18)","v":0},{"$f":"COUNTIF(C29:AG29,Accueil!$B$19)","v":0},{"$f":"COUNTIF(C29:AG29,Accueil!$B$20)","v":0},{"$f":"COUNTIF(C29:AG29,Accueil!$B$21)","v":0},{"$f":"COUNTIF(C29:AG29,Accueil!$B$22)","v":0},{"$f":"COUNTIF(C29:AG29,Accueil!$B$23)","v":0},{"$f":"COUNTIF(C29:AG29,Accueil!$B$24)","v":0},{"$f":"COUNTIF(C29:AG29,Accueil!$B$25)","v":0},{"$f":"COUNTIF(C29:AG29,Accueil!$B$26)","v":0},{"$f":"COUNTIF(C29:AG29,Accueil!$B$27)","v":0},{"$f":"COUNTIF(C29:AG29,Accueil!$B$28)","v":0},{"$f":"COUNTIF(C29:AG29,Accueil!$B$29)","v":0},{"$f":"COUNTIF(C29:AG29,Accueil!$B$30)","v":0},0,null,{"$f":"AI29 +Sept!BH29","v":0},{"$f":"AJ29+Sept!BI29","v":0},{"$f":"AK29+Sept!BJ29","v":0},{"$f":"AL29+Sept!BK29","v":0},{"$f":"AM29+Sept!BL29","v":{"$error":"#VALUE!"}},{"$f":"AN29+Sept!BM29","v":0},{"$f":"AO29+Sept!BN29","v":0},{"$f":"AP29+Sept!BO29","v":0},{"$f":"AQ29+Sept!BP29","v":59},{"$f":"AR29+Sept!BQ29","v":0},{"$f":"AS29+Sept!BR29","v":0},{"$f":"AT29+Sept!BS29","v":0},{"$f":"AU29+Sept!BT29","v":0},{"$f":"AV29+Sept!BU29","v":0},{"$f":"AW29+Sept!BV29","v":0},{"$f":"AX29+Sept!BW29","v":5},{"$f":"AY29+Sept!BX29","v":0},{"$f":"AZ29+Sept!BY29","v":0},{"$f":"BA29+Sept!BZ29","v":0},{"$f":"BB29+Sept!CA29","v":0},{"$f":"BC29+Sept!CB29","v":0},{"$f":"BD29+Sept!CC29","v":0},{"$f":"BE29+Sept!CD29","v":0},{"$f":"BF29+Sept!CE29","v":59},null,{"$f":"Sept!CG29","v":0},5,-5,null,{"$f":"Sept!CK29","v":0},0,0,null,{"$f":"Sept!CO29","v":0},0,0,null,{"$f":"Sept!CS29","v":0},0,0]
[{"$f":"Sept!A30","v":"Julien"},null,null,null,null,null,null,null,null,null,null,null,null,null,null,null,null,null,null,null,null,null,null,null,null,null,null,null,null,null,null,null,null,null,{"$f":"COUNTIF(C30:AG30,Accueil!$B$8)","v":0},{"$f":"COUNTIF(C30:AG30,Accueil!$B$9)","v":0},{"$f":"COUNTIF(C30:AG30,Accueil!$B$10)","v":0},{"$f":"COUNTIF(C30:AG30,Accueil!$B$11)","v":0},{"$f":"COUNTIF(C30:AG30,Accueil!$B$12)","v":0},{"$f":"COUNTIF(C30:AG30,Accueil!$B$13)","v":0},{"$f":"COUNTIF(C30:AG30,Accueil!$B$14)","v":0},{"$f":"COUNTIF(C30:AG30,Accueil!$B$15)","v":0},{"$f":"COUNTIF(C30:AG30,Accueil!$B$16)","v":0},{"$f":"COUNTIF(C30:AG30,Accueil!$B$17)","v":0},{"$f":"COUNTIF(C30:AG30,Accueil!$B$18)","v":0},{"$f":"COUNTIF(C30:AG30,Accueil!$B$19)","v":0},{"$f":"COUNTIF(C30:AG30,Accueil!$B$20)","v":0},{"$f":"COUNTIF(C30:AG30,Accueil!$B$21)","v":0},{"$f":"COUNTIF(C30:AG30,Accueil!$B$22)","v":0},{"$f":"COUNTIF(C30:AG30,Accueil!$B$23)","v":0},{"$f":"COUNTIF(C30:AG30,Accueil!$B$24)","v":0},{"$f":"COUNTIF(C30:AG30,Accueil!$B$25)","v":0},{"$f":"COUNTIF(C30:AG30,Accueil!$B$26)","v":0},{"$f":"COUNTIF(C30:AG30,Accueil!$B$27)","v":0},{"$f":"COUNTIF(C30:AG30,Accueil!$B$28)","v":0},{"$f":"COUNTIF(C30:AG30,Accueil!$B$29)","v":0},{"$f":"COUNTIF(C30:AG30,Accueil!$B$30)","v":0},0,null,{"$f":"AI30 +Sept!BH30","v":0},{"$f":"AJ30+Sept!BI30","v":{"$error":"#VALUE!"}},{"$f":"AK30+Sept!BJ30","v":{"$error":"#VALUE!"}},{"$f":"AL30+Sept!BK30","v":{"$error":"#VALUE!"}},{"$f":"AM30+Sept!BL30","v":{"$error":"#VALUE!"}},{"$f":"AN30+Sept!BM30","v":{"$error":"#VALUE!"}},{"$f":"AO30+Sept!BN30","v":0},{"$f":"AP30+Sept!BO30","v":0},{"$f":"AQ30+Sept!BP30","v":34},{"$f":"AR30+Sept!BQ30","v":0},{"$f":"AS30+Sept!BR30","v":0},{"$f":"AT30+Sept!BS30","v":0},{"$f":"AU30+Sept!BT30","v":0},{"$f":"AV30+Sept!BU30","v":0},{"$f":"AW30+Sept!BV30","v":0},{"$f":"AX30+Sept!BW30","v":6},{"$f":"AY30+Sept!BX30","v":0},{"$f":"AZ30+Sept!BY30","v":0},{"$f":"BA30+Sept!BZ30","v":0},{"$f":"BB30+Sept!CA30","v":0},{"$f":"BC30+Sept!CB30","v":0},{"$f":"BD30+Sept!CC30","v":0},{"$f":"BE30+Sept!CD30","v":0},{"$f":"BF30+Sept!CE30","v":34},null,{"$f":"Sept!CG30","v":0},6,-6,null,{"$f":"Sept!CK30","v":0},0,0,null,{"$f":"Sept!CO30","v":0},0,0,null,{"$f":"Sept!CS30","v":0},0,0]
[{"$f":"Sept!A31","v":"Mario"},null,null,null,null,null,null,null,null,null,null,null,null,null,null,null,null,null,null,null,null,null,null,null,null,null,null,null,null,null,null,null,null,null,{"$f":"COUNTIF(C31:AG31,Accueil!$B$8)","v":0},{"$f":"COUNTIF(C31:AG31,Accueil!$B$9)","v":0},{"$f":"COUNTIF(C31:AG31,Accueil!$B$10)","v":0},{"$f":"COUNTIF(C31:AG31,Accueil!$B$11)","v":0},{"$f":"COUNTIF(C31:AG31,Accueil!$B$12)","v":0},{"$f":"COUNTIF(C31:AG31,Accueil!$B$13)","v":0},{"$f":"COUNTIF(C31:AG31,Accueil!$B$14)","v":0},{"$f":"COUNTIF(C31:AG31,Accueil!$B$15)","v":0},{"$f":"COUNTIF(C31:AG31,Accueil!$B$16)","v":0},{"$f":"COUNTIF(C31:AG31,Accueil!$B$17)","v":0},{"$f":"COUNTIF(C31:AG31,Accueil!$B$18)","v":0},{"$f":"COUNTIF(C31:AG31,Accueil!$B$19)","v":0},{"$f":"COUNTIF(C31:AG31,Accueil!$B$20)","v":0},{"$f":"COUNTIF(C31:AG31,Accueil!$B$21)","v":0},{"$f":"COUNTIF(C31:AG31,Accueil!$B$22)","v":0},{"$f":"COUNTIF(C31:AG31,Accueil!$B$23)","v":0},{"$f":"COUNTIF(C31:AG31,Accueil!$B$24)","v":0},{"$f":"COUNTIF(C31:AG31,Accueil!$B$25)","v":0},{"$f":"COUNTIF(C31:AG31,Accueil!$B$26)","v":0},{"$f":"COUNTIF(C31:AG31,Accueil!$B$27)","v":0},{"$f":"COUNTIF(C31:AG31,Accueil!$B$28)","v":0},{"$f":"COUNTIF(C31:AG31,Accueil!$B$29)","v":0},{"$f":"COUNTIF(C31:AG31,Accueil!$B$30)","v":0},0,null,{"$f":"AI31 +Sept!BH31","v":0},{"$f":"AJ31+Sept!BI31","v":0},{"$f":"AK31+Sept!BJ31","v":0},{"$f":"AL31+Sept!BK31","v":0},{"$f":"AM31+Sept!BL31","v":0},{"$f":"AN31+Sept!BM31","v":0},{"$f":"AO31+Sept!BN31","v":0},{"$f":"AP31+Sept!BO31","v":0},{"$f":"AQ31+Sept!BP31","v":16},{"$f":"AR31+Sept!BQ31","v":0},{"$f":"AS31+Sept!BR31","v":0},{"$f":"AT31+Sept!BS31","v":0},{"$f":"AU31+Sept!BT31","v":26},{"$f":"AV31+Sept!BU31","v":0},{"$f":"AW31+Sept!BV31","v":0},{"$f":"AX31+Sept!BW31","v":59},{"$f":"AY31+Sept!BX31","v":0},{"$f":"AZ31+Sept!BY31","v":0},{"$f":"BA31+Sept!BZ31","v":0},{"$f":"BB31+Sept!CA31","v":0},{"$f":"BC31+Sept!CB31","v":0},{"$f":"BD31+Sept!CC31","v":0},{"$f":"BE31+Sept!CD31","v":0},{"$f":"BF31+Sept!CE31","v":16},null,{"$f":"Sept!CG31","v":0},59,-59,null,{"$f":"Sept!CK31","v":0},0,0,null,{"$f":"Sept!CO31","v":0},0,0,null,{"$f":"Sept!CS31","v":0},0,0]
[{"$f":"Sept!A32","v":"Hamid"},null,null,null,null,null,null,null,null,null,null,null,null,null,null,null,null,null,null,null,null,null,null,null,null,null,null,null,null,null,null,null,null,null,{"$f":"COUNTIF(C32:AG32,Accueil!$B$8)","v":0},{"$f":"COUNTIF(C32:AG32,Accueil!$B$9)","v":0},{"$f":"COUNTIF(C32:AG32,Accueil!$B$10)","v":0},{"$f":"COUNTIF(C32:AG32,Accueil!$B$11)","v":0},{"$f":"COUNTIF(C32:AG32,Accueil!$B$12)","v":0},{"$f":"COUNTIF(C32:AG32,Accueil!$B$13)","v":0},{"$f":"COUNTIF(C32:AG32,Accueil!$B$14)","v":0},{"$f":"COUNTIF(C32:AG32,Accueil!$B$15)","v":0},{"$f":"COUNTIF(C32:AG32,Accueil!$B$16)","v":0},{"$f":"COUNTIF(C32:AG32,Accueil!$B$17)","v":0},{"$f":"COUNTIF(C32:AG32,Accueil!$B$18)","v":0},{"$f":"COUNTIF(C32:AG32,Accueil!$B$19)","v":0},{"$f":"COUNTIF(C32:AG32,Accueil!$B$20)","v":0},{"$f":"COUNTIF(C32:AG32,Accueil!$B$21)","v":0},{"$f":"COUNTIF(C32:AG32,Accueil!$B$22)","v":0},{"$f":"COUNTIF(C32:AG32,Accueil!$B$23)","v":0},{"$f":"COUNTIF(C32:AG32,Accueil!$B$24)","v":0},{"$f":"COUNTIF(C32:AG32,Accueil!$B$25)","v":0},{"$f":"COUNTIF(C32:AG32,Accueil!$B$26)","v":0},{"$f":"COUNTIF(C32:AG32,Accueil!$B$27)","v":0},{"$f":"COUNTIF(C32:AG32,Accueil!$B$28)","v":0},{"$f":"COUNTIF(C32:AG32,Accueil!$B$29)","v":0},{"$f":"COUNTIF(C32:AG32,Accueil!$B$30)","v":0},0,null,{"$f":"AI32 +Sept!BH32","v":0},{"$f":"AJ32+Sept!BI32","v":0},{"$f":"AK32+Sept!BJ32","v":0},{"$f":"AL32+Sept!BK32","v":0},{"$f":"AM32+Sept!BL32","v":0},{"$f":"AN32+Sept!BM32","v":0},{"$f":"AO32+Sept!BN32","v":0},{"$f":"AP32+Sept!BO32","v":0},{"$f":"AQ32+Sept!BP32","v":37},{"$f":"AR32+Sept!BQ32","v":0},{"$f":"AS32+Sept!BR32","v":0},{"$f":"AT32+Sept!BS32","v":0},{"$f":"AU32+Sept!BT32","v":0},{"$f":"AV32+Sept!BU32","v":10},{"$f":"AW32+Sept!BV32","v":10},{"$f":"AX32+Sept!BW32","v":0},{"$f":"AY32+Sept!BX32","v":0},{"$f":"AZ32+Sept!BY32","v":0},{"$f":"BA32+Sept!BZ32","v":0},{"$f":"BB32+Sept!CA32","v":0},{"$f":"BC32+Sept!CB32","v":0},{"$f":"BD32+Sept!CC32","v":0},{"$f":"BE32+Sept!CD32","v":10},{"$f":"BF32+Sept!CE32","v":42},null,{"$f":"Sept!CG32","v":0},5,-5,null,{"$f":"Sept!CK32","v":0},0,0,null,{"$f":"Sept!CO32","v":0},0,0,null,{"$f":"Sept!CS32","v":0},10,-10]
[null,{"$f":" \"Effectif minimum \" & Accueil!$B$8","v":"Effectif minimum M1"},{"$f":"COUNTIF(C3:C32,Accueil!$B$8)","v":0},{"$f":"COUNTIF(D3:D32,Accueil!$B$8)","v":0},{"$f":"COUNTIF(E3:E32,Accueil!$B$8)","v":2},{"$f":"COUNTIF(F3:F32,Accueil!$B$8)","v":4},{"$f":"COUNTIF(G3:G32,Accueil!$B$8)","v":1},{"$f":"COUNTIF(H3:H32,Accueil!$B$8)","v":1},{"$f":"COUNTIF(I3:I32,Accueil!$B$8)","v":3},{"$f":"COUNTIF(J3:J32,Accueil!$B$8)","v":0},{"$f":"COUNTIF(K3:K32,Accueil!$B$8)","v":0},{"$f":"COUNTIF(L3:L32,Accueil!$B$8)","v":2},{"$f":"COUNTIF(M3:M32,Accueil!$B$8)","v":4},{"$f":"COUNTIF(N3:N32,Accueil!$B$8)","v":1},{"$f":"COUNTIF(O3:O32,Accueil!$B$8)","v":1},{"$f":"COUNTIF(P3:P32,Accueil!$B$8)","v":3},{"$f":"COUNTIF(Q3:Q32,Accueil!$B$8)","v":0},{"$f":"COUNTIF(R3:R32,Accueil!$B$8)","v":0},{"$f":"COUNTIF(S3:S32,Accueil!$B$8)","v":2},{"$f":"COUNTIF(T3:T32,Accueil!$B$8)","v":4},{"$f":"COUNTIF(U3:U32,Accueil!$B$8)","v":1},{"$f":"COUNTIF(V3:V32,Accueil!$B$8)","v":1},{"$f":"COUNTIF(W3:W32,Accueil!$B$8)","v":3},{"$f":"COUNTIF(X3:X32,Accueil!$B$8)","v":0},{"$f":"COUNTIF(Y3:Y32,Accueil!$B$8)","v":0},{"$f":"COUNTIF(Z3:Z32,Accueil!$B$8)","v":3},{"$f":"COUNTIF(AA3:AA32,Accueil!$B$8)","v":4},{"$f":"COUNTIF(AB3:AB32,Accueil!$B$8)","v":1},{"$f":"COUNTIF(AC3:AC32,Accueil!$B$8)","v":1},{"$f":"COUNTIF(AD3:AD32,Accueil!$B$8)","v":3},{"$f":"COUNTIF(AE3:AE32,Accueil!$B$8)","v":0},{"$f":"COUNTIF(AF3:AF32,Accueil!$B$8)","v":0},{"$f":"COUNTIF(AG3:AG32,Accueil!$B$8)","v":3},null,"Jours travaillés",null,null,null,null,null,null,null,null,null,null,null,"Jours non travaillés",null,null,null,null,null,null,null,null,null,null,null,null,"Jours travaillés",null,null,null,null,null,null,null,null,null,null,null,"Jours non travaillés"]
[null,{"$f":" \"Effectif minimum \" & Accueil!$B$9","v":"Effectif minimum M2"},{"$f":"COUNTIF(C3:C32,Accueil!$B$9)","v":0},{"$f":"COUNTIF(D3:D32,Accueil!$B$9)","v":0},{"$f":"COUNTIF(E3:E32,Accueil!$B$9)","v":0},{"$f":"COUNTIF(F3:F32,Accueil!$B$9)","v":4},{"$f":"COUNTIF(G3:G32,Accueil!$B$9)","v":0},{"$f":"COUNTIF(H3:H32,Accueil!$B$9)","v":0},{"$f":"COUNTIF(I3:I32,Accueil!$B$9)","v":1},{"$f":"COUNTIF(J3:J32,Accueil!$B$9)","v":0},{"$f":"COUNTIF(K3:K32,Accueil!$B$9)","v":0},{"$f":"COUNTIF(L3:L32,Accueil!$B$9)","v":0},{"$f":"COUNTIF(M3:M32,Accueil!$B$9)","v":4},{"$f":"COUNTIF(N3:N32,Accueil!$B$9)","v":0},{"$f":"COUNTIF(O3:O32,Accueil!$B$9)","v":0},{"$f":"COUNTIF(P3:P32,Accueil!$B$9)","v":1},{"$f":"COUNTIF(Q3:Q32,Accueil!$B$9)","v":0},{"$f":"COUNTIF(R3:R32,Accueil!$B$9)","v":0},{"$f":"COUNTIF(S3:S32,Accueil!$B$9)","v":0},{"$f":"COUNTIF(T3:T32,Accueil!$B$9)","v":4},{"$f":"COUNTIF(U3:U32,Accueil!$B$9)","v":0},{"$f":"COUNTIF(V3:V32,Accueil!$B$9)","v":0},{"$f":"COUNTIF(W3:W32,Accueil!$B$9)","v":1},{"$f":"COUNTIF(X3:X32,Accueil!$B$9)","v":0},{"$f":"COUNTIF(Y3:Y32,Accueil!$B$9)","v":0},{"$f":"COUNTIF(Z3:Z32,Accueil!$B$9)","v":0},{"$f":"COUNTIF(AA3:AA32,Accueil!$B$9)","v":4},{"$f":"COUNTIF(AB3:AB32,Accueil!$B$9)","v":0},{"$f":"COUNTIF(AC3:AC32,Accueil!$B$9)","v":0},{"$f":"COUNTIF(AD3:AD32,Accueil!$B$9)","v":1},{"$f":"COUNTIF(AE3:AE32,Accueil!$B$9)","v":0},{"$f":"COUNTIF(AF3:AF32,Accueil!$B$9)","v":0},{"$f":"COUNTIF(AG3:AG32,Accueil!$B$9)","v":0}]
[null,{"$f":"\"Effectif minimum \" & Accueil!$B$10","v":"Effectif minimum M3"},{"$f":"COUNTIF(C3:C32,Accueil!$B$10)","v":0},{"$f":"COUNTIF(D3:D32,Accueil!$B$10)","v":0},{"$f":"COUNTIF(E3:E32,Accueil!$B$10)","v":1},{"$f":"COUNTIF(F3:F32,Accueil!$B$10)","v":0},{"$f":"COUNTIF(G3:G32,Accueil!$B$10)","v":0},{"$f":"COUNTIF(H3:H32,Accueil!$B$10)","v":1},{"$f":"COUNTIF(I3:I32,Accueil!$B$10)","v":0},{"$f":"COUNTIF(J3:J32,Accueil!$B$10)","v":0},{"$f":"COUNTIF(K3:K32,Accueil!$B$10)","v":0},{"$f":"COUNTIF(L3:L32,Accueil!$B$10)","v":1},{"$f":"COUNTIF(M3:M32,Accueil!$B$10)","v":0},{"$f":"COUNTIF(N3:N32,Accueil!$B$10)","v":0},{"$f":"COUNTIF(O3:O32,Accueil!$B$10)","v":1},{"$f":"COUNTIF(P3:P32,Accueil!$B$10)","v":0},{"$f":"COUNTIF(Q3:Q32,Accueil!$B$10)","v":0},{"$f":"COUNTIF(R3:R32,Accueil!$B$10)","v":0},{"$f":"COUNTIF(S3:S32,Accueil!$B$10)","v":1},{"$f":"COUNTIF(T3:T32,Accueil!$B$10)","v":0},{"$f":"COUNTIF(U3:U32,Accueil!$B$10)","v":0},{"$f":"COUNTIF(V3:V32,Accueil!$B$10)","v":1},{"$f":"COUNTIF(W3:W32,Accueil!$B$10)","v":0},{"$f":"COUNTIF(X3:X32,Accueil!$B$10)","v":0},{"$f":"COUNTIF(Y3:Y32,Accueil!$B$10)","v":0},{"$f":"COUNTIF(Z3:Z32,Accueil!$B$10)","v":1},{"$f":"COUNTIF(AA3:AA32,Accueil!$B$10)","v":0},{"$f":"COUNTIF(AB3:AB32,Accueil!$B$10)","v":0},{"$f":"COUNTIF(AC3:AC32,Accueil!$B$10)","v":1},{"$f":"COUNTIF(AD3:AD32,Accueil!$B$10)","v":0},{"$f":"COUNTIF(AE3:AE32,Accueil!$B$10)","v":0},{"$f":"COUNTIF(AF3:AF32,Accueil!$B$10)","v":0},{"$f":"COUNTIF(AG3:AG32,Accueil!$B$10)","v":1}]
[2,"MATIN",{"$f":"C33+C34+C35+C37","v":0},{"$f":"D33+D34+D35+D37","v":1},4,10,4,2,5,1,2,4,10,4,2,5,1,2,4,10,4,2,5,0,1,5,10,4,2,5,0,0,5]
[null,{"$f":"\"Effectif minimum \" & Accueil!$B$11","v":"Effectif minimum MP"},{"$f":"COUNTIF(C3:C32,Accueil!$B$11)","v":0},{"$f":"COUNTIF(D3:D32,Accueil!$B$11)","v":1},{"$f":"COUNTIF(E3:E32,Accueil!$B$11)","v":1},{"$f":"COUNTIF(F3:F32,Accueil!$B$11)","v":2},{"$f":"COUNTIF(G3:G32,Accueil!$B$11)","v":3},{"$f":"COUNTIF(H3:H32,Accueil!$B$11)","v":0},{"$f":"COUNTIF(I3:I32,Accueil!$B$11)","v":1},{"$f":"COUNTIF(J3:J32,Accueil!$B$11)","v":1},{"$f":"COUNTIF(K3:K32,Accueil!$B$11)","v":2},{"$f":"COUNTIF(L3:L32,Accueil!$B$11)","v":1},{"$f":"COUNTIF(M3:M32,Accueil!$B$11)","v":2},{"$f":"COUNTIF(N3:N32,Accueil!$B$11)","v":3},{"$f":"COUNTIF(O3:O32,Accueil!$B$11)","v":0},{"$f":"COUNTIF(P3:P32,Accueil!$B$11)","v":1},{"$f":"COUNTIF(Q3:Q32,Accueil!$B$11)","v":1},{"$f":"COUNTIF(R3:R32,Accueil!$B$11)","v":2},{"$f":"COUNTIF(S3:S32,Accueil!$B$11)","v":1},{"$f":"COUNTIF(T3:T32,Accueil!$B$11)","v":2},{"$f":"COUNTIF(U3:U32,Accueil!$B$11)","v":3},{"$f":"COUNTIF(V3:V32,Accueil!$B$11)","v":0},{"$f":"COUNTIF(W3:W32,Accueil!$B$11)","v":1},{"$f":"COUNTIF(X3:X32,Accueil!$B$11)","v":0},{"$f":"COUNTIF(Y3:Y32,Accueil!$B$11)","v":1},{"$f":"COUNTIF(Z3:Z32,Accueil!$B$11)","v":1},{"$f":"COUNTIF(AA3:AA32,Accueil!$B$11)","v":2},{"$f":"COUNTIF(AB3:AB32,Accueil!$B$11)","v":3},{"$f":"COUNTIF(AC3:AC32,Accueil!$B$11)","v":0},{"$f":"COUNTIF(AD3:AD32,Accueil!$B$11)","v":1},{"$f":"COUNTIF(AE3:AE32,Accueil!$B$11)","v":0},{"$f":"COUNTIF(AF3:AF32,Accueil!$B$11)","v":0},{"$f":"COUNTIF(AG3:AG32,Accueil!$B$11)","v":1}]
[null,{"$f":"\"Effectif minimum \" & Accueil!$B$12","v":"Effectif minimum AP1"},{"$f":"COUNTIF(C3:C32,Accueil!$B$12)","v":0},{"$f":"COUNTIF(D3:D32,Accueil!$B$12)","v":0},{"$f":"COUNTIF(E3:E32,Accueil!$B$12)","v":0},{"$f":"COUNTIF(F3:F32,Accueil!$B$12)","v":0},{"$f":"COUNTIF(G3:G32,Accueil!$B$12)","v":0},{"$f":"COUNTIF(H3:H32,Accueil!$B$12)","v":2},{"$f":"COUNTIF(I3:I32,Accueil!$B$12)","v":0},{"$f":"COUNTIF(J3:J32,Accueil!$B$12)","v":0},{"$f":"COUNTIF(K3:K32,Accueil!$B$12)","v":0},{"$f":"COUNTIF(L3:L32,Accueil!$B$12)","v":0},{"$f":"COUNTIF(M3:M32,Accueil!$B$12)","v":0},{"$f":"COUNTIF(N3:N32,Accueil!$B$12)","v":0},{"$f":"COUNTIF(O3:O32,Accueil!$B$12)","v":2},{"$f":"COUNTIF(P3:P32,Accueil!$B$12)","v":0},{"$f":"COUNTIF(Q3:Q32,Accueil!$B$12)","v":0},{"$f":"COUNTIF(R3:R32,Accueil!$B$12)","v":0},{"$f":"COUNTIF(S3:S32,Accueil!$B$12)","v":0},{"$f":"COUNTIF(T3:T32,Accueil!$B$12)","v":0},{"$f":"COUNTIF(U3:U32,Accueil!$B$12)","v":0},{"$f":"COUNTIF(V3:V32,Accueil!$B$12)","v":2},{"$f":"COUNTIF(W3:W32,Accueil!$B$12)","v":0},{"$f":"COUNTIF(X3:X32,Accueil!$B$12)","v":0},{"$f":"COUNTIF(Y3:Y32,Accueil!$B$12)","v":0},{"$f":"COUNTIF(Z3:Z32,Accueil!$B$12)","v":0},{"$f":"COUNTIF(AA3:AA32,Accueil!$B$12)","v":0},{"$f":"COUNTIF(AB3:AB32,Accueil!$B$12)","v":0},{"$f":"COUNTIF(AC3:AC32,Accueil!$B$12)","v":2},{"$f":"COUNTIF(AD3:AD32,Accueil!$B$12)","v":0},{"$f":"COUNTIF(AE3:AE32,Accueil!$B$12)","v":0},{"$f":"COUNTIF(AF3:AF32,Accueil!$B$12)","v":0},{"$f":"COUNTIF(AG3:AG32,Accueil!$B$12)","v":0}]
[null,{"$f":"\"Effectif minimum \" & Accueil!$B$13","v":"Effectif minimum AP2"},{"$f":"COUNTIF(C3:C32,Accueil!$B$13)","v":0},{"$f":"COUNTIF(D3:D32,Accueil!$B$13)","v":0},{"$f":"COUNTIF(E3:E32,Accueil!$B$13)","v":1},{"$f":"COUNTIF(F3:F32,Accueil!$B$13)","v":0},{"$f":"COUNTIF(G3:G32,Accueil!$B$13)","v":0},{"$f":"COUNTIF(H3:H32,Accueil!$B$13)","v":0},{"$f":"COUNTIF(I3:I32,Accueil!$B$13)","v":0},{"$f":"COUNTIF(J3:J32,Accueil!$B$13)","v":0},{"$f":"COUNTIF(K3:K32,Accueil!$B$13)","v":0},{"$f":"COUNTIF(L3:L32,Accueil!$B$13)","v":1},{"$f":"COUNTIF(M3:M32,Accueil!$B$13)","v":0},{"$f":"COUNTIF(N3:N32,Accueil!$B$13)","v":0},{"$f":"COUNTIF(O3:O32,Accueil!$B$13)","v":0},{"$f":"COUNTIF(P3:P32,Accueil!$B$13)","v":1},{"$f":"COUNTIF(Q3:Q32,Accueil!$B$13)","v":0},{"$f":"COUNTIF(R3:R32,Accueil!$B$13)","v":0},{"$f":"COUNTIF(S3:S32,Accueil!$B$13)","v":1},{"$f":"COUNTIF(T3:T32,Accueil!$B$13)","v":0},{"$f":"COUNTIF(U3:U32,Accueil!$B$13)","v":0},{"$f":"COUNTIF(V3:V32,Accueil!$B$13)","v":0},{"$f":"COUNTIF(W3:W32,Accueil!$B$13)","v":0},{"$f":"COUNTIF(X3:X32,Accueil!$B$13)","v":0},{"$f":"COUNTIF(Y3:Y32,Accueil!$B$13)","v":0},{"$f":"COUNTIF(Z3:Z32,Accueil!$B$13)","v":1},{"$f":"COUNTIF(AA3:AA32,Accueil!$B$13)","v":0},{"$f":"COUNTIF(AB3:AB32,Accueil!$B$13)","v":0},{"$f":"COUNTIF(AC3:AC32,Accueil!$B$13)","v":0},{"$f":"COUNTIF(AD3:AD32,Accueil!$B$13)","v":0},{"$f":"COUNTIF(AE3:AE32,Accueil!$B$13)","v":0},{"$f":"COUNTIF(AF3:AF32,Accueil!$B$13)","v":0},{"$f":"COUNTIF(AG3:AG32,Accueil!$B$13)","v":1}]
[null,{"$f":"\"Effectif minimum \" & Accueil!$B$14","v":"Effectif minimum AP3"},{"$f":"COUNTIF(C3:C32,Accueil!$B$14)","v":0},{"$f":"COUNTIF(D3:D32,Accueil!$B$14)","v":0},{"$f":"COUNTIF(E3:E32,Accueil!$B$14)","v":0},{"$f":"COUNTIF(F3:F32,Accueil!$B$14)","v":0},{"$f":"COUNTIF(G3:G32,Accueil!$B$14)","v":0},{"$f":"COUNTIF(H3:H32,Accueil!$B$14)","v":0},{"$f":"COUNTIF(I3:I32,Accueil!$B$14)","v":0},{"$f":"COUNTIF(J3:J32,Accueil!$B$14)","v":0},{"$f":"COUNTIF(K3:K32,Accueil!$B$14)","v":0},{"$f":"COUNTIF(L3:L32,Accueil!$B$14)","v":0},{"$f":"COUNTIF(M3:M32,Accueil!$B$14)","v":0},{"$f":"COUNTIF(N3:N32,Accueil!$B$14)","v":0},{"$f":"COUNTIF(O3:O32,Accueil!$B$14)","v":0},{"$f":"COUNTIF(P3:P32,Accueil!$B$14)","v":0},{"$f":"COUNTIF(Q3:Q32,Accueil!$B$14)","v":0},{"$f":"COUNTIF(R3:R32,Accueil!$B$14)","v":0},{"$f":"COUNTIF(S3:S32,Accueil!$B$14)","v":0},{"$f":"COUNTIF(T3:T32,Accueil!$B$14)","v":0},{"$f":"COUNTIF(U3:U32,Accueil!$B$14)","v":0},{"$f":"COUNTIF(V3:V32,Accueil!$B$14)","v":0},{"$f":"COUNTIF(W3:W32,Accueil!$B$14)","v":0},{"$f":"COUNTIF(X3:X32,Accueil!$B$14)","v":0},{"$f":"COUNTIF(Y3:Y32,Accueil!$B$14)","v":0},{"$f":"COUNTIF(Z3:Z32,Accueil!$B$14)","v":0},{"$f":"COUNTIF(AA3:AA32,Accueil!$B$14)","v":0},{"$f":"COUNTIF(AB3:AB32,Accueil!$B$14)","v":0},{"$f":"COUNTIF(AC3:AC32,Accueil!$B$14)","v":0},{"$f":"COUNTIF(AD3:AD32,Accueil!$B$14)","v":0},{"$f":"COUNTIF(AE3:AE32,Accueil!$B$14)","v":0},{"$f":"COUNTIF(AF3:AF32,Accueil!$B$14)","v":0},{"$f":"COUNTIF(AG3:AG32,Accueil!$B$14)","v":0}]
[1,{"$f":"\"Effectif minimum \" & Accueil!$B$15","v":"Effectif minimum P1"},{"$f":"COUNTIF(C3:C32,Accueil!$B$15)","v":0},{"$f":"COUNTIF(D3:D32,Accueil!$B$15)","v":0},{"$f":"COUNTIF(E3:E32,Accueil!$B$15)","v":0},{"$f":"COUNTIF(F3:F32,Accueil!$B$15)","v":0},{"$f":"COUNTIF(G3:G32,Accueil!$B$15)","v":0},{"$f":"COUNTIF(H3:H32,Accueil!$B$15)","v":0},{"$f":"COUNTIF(I3:I32,Accueil!$B$15)","v":0},{"$f":"COUNTIF(J3:J32,Accueil!$B$15)","v":0},{"$f":"COUNTIF(K3:K32,Accueil!$B$15)","v":0},{"$f":"COUNTIF(L3:L32,Accueil!$B$15)","v":0},{"$f":"COUNTIF(M3:M32,Accueil!$B$15)","v":0},{"$f":"COUNTIF(N3:N32,Accueil!$B$15)","v":0},{"$f":"COUNTIF(O3:O32,Accueil!$B$15)","v":0},{"$f":"COUNTIF(P3:P32,Accueil!$B$15)","v":0},{"$f":"COUNTIF(Q3:Q32,Accueil!$B$15)","v":0},{"$f":"COUNTIF(R3:R32,Accueil!$B$15)","v":0},{"$f":"COUNTIF(S3:S32,Accueil!$B$15)","v":0},{"$f":"COUNTIF(T3:T32,Accueil!$B$15)","v":0},{"$f":"COUNTIF(U3:U32,Accueil!$B$15)","v":0},{"$f":"COUNTIF(V3:V32,Accueil!$B$15)","v":0},{"$f":"COUNTIF(W3:W32,Accueil!$B$15)","v":0},{"$f":"COUNTIF(X3:X32,Accueil!$B$15)","v":0},{"$f":"COUNTIF(Y3:Y32,Accueil!$B$15)","v":0},{"$f":"COUNTIF(Z3:Z32,Accueil!$B$15)","v":0},{"$f":"COUNTIF(AA3:AA32,Accueil!$B$15)","v":0},{"$f":"COUNTIF(AB3:AB32,Accueil!$B$15)","v":0},{"$f":"COUNTIF(AC3:AC32,Accueil!$B$15)","v":0},{"$f":"COUNTIF(AD3:AD32,Accueil!$B$15)","v":0},{"$f":"COUNTIF(AE3:AE32,Accueil!$B$15)","v":0},{"$f":"COUNTIF(AF3:AF32,Accueil!$B$15)","v":0},{"$f":"COUNTIF(AG3:AG32,Accueil!$B$15)","v":0}]
[2,"APRES-MIDI",{"$f":"C37+C38+C39+C41","v":0},{"$f":"D37+D38+D39+D41","v":1},{"$f":"E37+E38+E39+E41","v":2},{"$f":"F37+F38+F39+F41","v":2},{"$f":"G37+G38+G39+G41","v":3},2,1,1,2,2,2,3,2,2,1,2,2,2,3,2,1,0,1,2,2,3,2,1,0,0,2]
[2,"SOIREE",{"$f":"C37+C38+C39+C41","v":0},{"$f":"D37+D38+D39+D41","v":1},2,2,3,2,1,1,2,2,2,3,2,2,1,2,2,2,3,2,1,0,1,2,2,3,2,1,0,0,2]
[null,{"$f":" \"Effectif minimum \" & Accueil!$B$17 & \" \"","v":"Effectif minimum BI "},{"$f":"COUNTIF(C3:C32,Accueil!$B$17)","v":0},{"$f":"COUNTIF(D3:D32,Accueil!$B$17)","v":0},{"$f":"COUNTIF(E3:E32,Accueil!$B$17)","v":0},{"$f":"COUNTIF(F3:F32,Accueil!$B$17)","v":0},{"$f":"COUNTIF(G3:G32,Accueil!$B$17)","v":0},{"$f":"COUNTIF(H3:H32,Accueil!$B$17)","v":0},{"$f":"COUNTIF(I3:I32,Accueil!$B$17)","v":0},{"$f":"COUNTIF(J3:J32,Accueil!$B$17)","v":0},{"$f":"COUNTIF(K3:K32,Accueil!$B$17)","v":0},{"$f":"COUNTIF(L3:L32,Accueil!$B$17)","v":0},{"$f":"COUNTIF(M3:M32,Accueil!$B$17)","v":0},{"$f":"COUNTIF(N3:N32,Accueil!$B$17)","v":0},{"$f":"COUNTIF(O3:O32,Accueil!$B$17)","v":0},{"$f":"COUNTIF(P3:P32,Accueil!$B$17)","v":0},{"$f":"COUNTIF(Q3:Q32,Accueil!$B$17)","v":0},{"$f":"COUNTIF(R3:R32,Accueil!$B$17)","v":0},{"$f":"COUNTIF(S3:S32,Accueil!$B$17)","v":0},{"$f":"COUNTIF(T3:T32,Accueil!$B$17)","v":0},{"$f":"COUNTIF(U3:U32,Accueil!$B$17)","v":0},{"$f":"COUNTIF(V3:V32,Accueil!$B$17)","v":0},{"$f":"COUNTIF(W3:W32,Accueil!$B$17)","v":0},{"$f":"COUNTIF(X3:X32,Accueil!$B$17)","v":0},{"$f":"COUNTIF(Y3:Y32,Accueil!$B$17)","v":0},{"$f":"COUNTIF(Z3:Z32,Accueil!$B$17)","v":0},{"$f":"COUNTIF(AA3:AA32,Accueil!$B$17)","v":0},{"$f":"COUNTIF(AB3:AB32,Accueil!$B$17)","v":0},{"$f":"COUNTIF(AC3:AC32,Accueil!$B$17)","v":0},{"$f":"COUNTIF(AD3:AD32,Accueil!$B$17)","v":0},{"$f":"COUNTIF(AE3:AE32,Accueil!$B$17)","v":0},{"$f":"COUNTIF(AF3:AF32,Accueil!$B$17)","v":0},{"$f":"COUNTIF(AG3:AG32,Accueil!$B$17)","v":0}]
[null,{"$f":" \"Effectif minimum \" & Accueil!$B$18 & \" \"","v":"Effectif minimum LY "},{"$f":"COUNTIF(C3:C32,Accueil!$B$18)","v":0},{"$f":"COUNTIF(D3:D32,Accueil!$B$18)","v":0},{"$f":"COUNTIF(E3:E32,Accueil!$B$18)","v":0},{"$f":"COUNTIF(F3:F32,Accueil!$B$18)","v":0},{"$f":"COUNTIF(G3:G32,Accueil!$B$18)","v":0},{"$f":"COUNTIF(H3:H32,Accueil!$B$18)","v":0},{"$f":"COUNTIF(I3:I32,Accueil!$B$18)","v":0},{"$f":"COUNTIF(J3:J32,Accueil!$B$18)","v":0},{"$f":"COUNTIF(K3:K32,Accueil!$B$18)","v":0},{"$f":"COUNTIF(L3:L32,Accueil!$B$18)","v":0},{"$f":"COUNTIF(M3:M32,Accueil!$B$18)","v":0},{"$f":"COUNTIF(N3:N32,Accueil!$B$18)","v":0},{"$f":"COUNTIF(O3:O32,Accueil!$B$18)","v":0},{"$f":"COUNTIF(P3:P32,Accueil!$B$18)","v":0},{"$f":"COUNTIF(Q3:Q32,Accueil!$B$18)","v":0},{"$f":"COUNTIF(R3:R32,Accueil!$B$18)","v":0},{"$f":"COUNTIF(S3:S32,Accueil!$B$18)","v":0},{"$f":"COUNTIF(T3:T32,Accueil!$B$18)","v":0},{"$f":"COUNTIF(U3:U32,Accueil!$B$18)","v":0},{"$f":"COUNTIF(V3:V32,Accueil!$B$18)","v":0},{"$f":"COUNTIF(W3:W32,Accueil!$B$18)","v":0},{"$f":"COUNTIF(X3:X32,Accueil!$B$18)","v":0},{"$f":"COUNTIF(Y3:Y32,Accueil!$B$18)","v":0},{"$f":"COUNTIF(Z3:Z32,Accueil!$B$18)","v":0},{"$f":"COUNTIF(AA3:AA32,Accueil!$B$18)","v":0},{"$f":"COUNTIF(AB3:AB32,Accueil!$B$18)","v":0},{"$f":"COUNTIF(AC3:AC32,Accueil!$B$18)","v":0},{"$f":"COUNTIF(AD3:AD32,Accueil!$B$18)","v":0},{"$f":"COUNTIF(AE3:AE32,Accueil!$B$18)","v":0},{"$f":"COUNTIF(AF3:AF32,Accueil!$B$18)","v":0},{"$f":"COUNTIF(AG3:AG32,Accueil!$B$18)","v":0}]
[{"$f":"Sept!A46","v":0},{"$f":" \"Effectif minimum \" & Accueil!$B$19 & \" \"","v":"Effectif minimum ST "},{"$f":"COUNTIF(C3:C32,Accueil!$B$19)","v":0},{"$f":"COUNTIF(D3:D32,Accueil!$B$19)","v":0},{"$f":"COUNTIF(E3:E32,Accueil!$B$19)","v":0},{"$f":"COUNTIF(F3:F32,Accueil!$B$19)","v":0},{"$f":"COUNTIF(G3:G32,Accueil!$B$19)","v":0},{"$f":"COUNTIF(H3:H32,Accueil!$B$19)","v":0},{"$f":"COUNTIF(I3:I32,Accueil!$B$19)","v":0},{"$f":"COUNTIF(J3:J32,Accueil!$B$19)","v":0},{"$f":"COUNTIF(K3:K32,Accueil!$B$19)","v":0},{"$f":"COUNTIF(L3:L32,Accueil!$B$19)","v":0},{"$f":"COUNTIF(M3:M32,Accueil!$B$19)","v":0},{"$f":"COUNTIF(N3:N32,Accueil!$B$19)","v":0},{"$f":"COUNTIF(O3:O32,Accueil!$B$19)","v":0},{"$f":"COUNTIF(P3:P32,Accueil!$B$19)","v":0},{"$f":"COUNTIF(Q3:Q32,Accueil!$B$19)","v":0},{"$f":"COUNTIF(R3:R32,Accueil!$B$19)","v":0},{"$f":"COUNTIF(S3:S32,Accueil!$B$19)","v":0},{"$f":"COUNTIF(T3:T32,Accueil!$B$19)","v":0},{"$f":"COUNTIF(U3:U32,Accueil!$B$19)","v":0},{"$f":"COUNTIF(V3:V32,Accueil!$B$19)","v":0},{"$f":"COUNTIF(W3:W32,Accueil!$B$19)","v":0},{"$f":"COUNTIF(X3:X32,Accueil!$B$19)","v":0},{"$f":"COUNTIF(Y3:Y32,Accueil!$B$19)","v":0},{"$f":"COUNTIF(Z3:Z32,Accueil!$B$19)","v":0},{"$f":"COUNTIF(AA3:AA32,Accueil!$B$19)","v":0},{"$f":"COUNTIF(AB3:AB32,Accueil!$B$19)","v":0},{"$f":"COUNTIF(AC3:AC32,Accueil!$B$19)","v":0},{"$f":"COUNTIF(AD3:AD32,Accueil!$B$19)","v":0},{"$f":"COUNTIF(AE3:AE32,Accueil!$B$19)","v":0},{"$f":"COUNTIF(AF3:AF32,Accueil!$B$19)","v":0},{"$f":"COUNTIF(AG3:AG32,Accueil!$B$19)","v":0}]
[1,{"$f":"\"Effectif minimum \" & Accueil!$B$16","v":"Effectif minimum Nuit"},{"$f":"COUNTIF(C3:C32,Accueil!$B$16)","v":0},{"$f":"COUNTIF(D3:D32,Accueil!$B$16)","v":0},{"$f":"COUNTIF(E3:E32,Accueil!$B$16)","v":0},{"$f":"COUNTIF(F3:F32,Accueil!$B$16)","v":0},{"$f":"COUNTIF(G3:G32,Accueil!$B$16)","v":0},{"$f":"COUNTIF(H3:H32,Accueil!$B$16)","v":0},{"$f":"COUNTIF(I3:I32,Accueil!$B$16)","v":0},{"$f":"COUNTIF(J3:J32,Accueil!$B$16)","v":0},{"$f":"COUNTIF(K3:K32,Accueil!$B$16)","v":0},{"$f":"COUNTIF(L3:L32,Accueil!$B$16)","v":0},{"$f":"COUNTIF(M3:M32,Accueil!$B$16)","v":0},{"$f":"COUNTIF(N3:N32,Accueil!$B$16)","v":0},{"$f":"COUNTIF(O3:O32,Accueil!$B$16)","v":0},{"$f":"COUNTIF(P3:P32,Accueil!$B$16)","v":0},{"$f":"COUNTIF(Q3:Q32,Accueil!$B$16)","v":0},{"$f":"COUNTIF(R3:R32,Accueil!$B$16)","v":0},{"$f":"COUNTIF(S3:S32,Accueil!$B$16)","v":0},{"$f":"COUNTIF(T3:T32,Accueil!$B$16)","v":0},{"$f":"COUNTIF(U3:U32,Accueil!$B$16)","v":0},{"$f":"COUNTIF(V3:V32,Accueil!$B$16)","v":0},{"$f":"COUNTIF(W3:W32,Accueil!$B$16)","v":0},{"$f":"COUNTIF(X3:X32,Accueil!$B$16)","v":0},{"$f":"COUNTIF(Y3:Y32,Accueil!$B$16)","v":0},{"$f":"COUNTIF(Z3:Z32,Accueil!$B$16)","v":0},{"$f":"COUNTIF(AA3:AA32,Accueil!$B$16)","v":0},{"$f":"COUNTIF(AB3:AB32,Accueil!$B$16)","v":0},{"$f":"COUNTIF(AC3:AC32,Accueil!$B$16)","v":0},{"$f":"COUNTIF(AD3:AD32,Accueil!$B$16)","v":0},{"$f":"COUNTIF(AE3:AE32,Accueil!$B$16)","v":0},{"$f":"COUNTIF(AF3:AF32,Accueil!$B$16)","v":0},{"$f":"COUNTIF(AG3:AG32,Accueil!$B$16)","v":0}]

{"sheet":"Nov","index":12,"n_rows":47,"n_cols":99,"rows_kept":47,"cut":false,"hidden":false,"merged":[[0,92,0,94],[0,96,0,98],[1,0,1,1],[2,0,2,1],[0,0,0,1],[0,84,0,86],[0,88,0,90],[3,0,3,1],[4,0,4,1],[5,0,5,1],[12,0,12,1],[6,0,6,1],[13,0,13,1],[14,0,14,1],[7,0,7,1],[8,0,8,1],[9,0,9,1],[10,0,10,1],[11,0,11,1],[19,0,19,1],[20,0,20,1],[21,0,21,1],[22,0,22,1],[15,0,15,1],[16,0,16,1],[17,0,17,1],[18,0,18,1],[23,0,23,1],[24,0,24,1],[25,0,25,1],[26,0,26,1],[31,0,31,1],[27,0,27,1],[28,0,28,1],[29,0,29,1],[30,0,30,1]]}
[{"$f":"DATE(Accueil!C2,11,1)","v":"2016-11-01"},null,{"$f":"INDEX({\"D\";\"L\";\"M\";\"M\";\"J\";\"V\";\"S\"},WEEKDAY(C2))","v":"M"},{"$f":"INDEX({\"D\";\"L\";\"M\";\"M\";\"J\";\"V\";\"S\"},WEEKDAY(D2))","v":"M"},{"$f":"INDEX({\"D\";\"L\";\"M\";\"M\";\"J\";\"V\";\"S\"},WEEKDAY(E2))","v":"J"},{"$f":"INDEX({\"D\";\"L\";\"M\";\"M\";\"J\";\"V\";\"S\"},WEEKDAY(F2))","v":"V"},{"$f":"INDEX({\"D\";\"L\";\"M\";\"M\";\"J\";\"V\";\"S\"},WEEKDAY(G2))","v":"S"},{"$f":"INDEX({\"D\";\"L\";\"M\";\"M\";\"J\";\"V\";\"S\"},WEEKDAY(H2))","v":"D"},{"$f":"INDEX({\"D\";\"L\";\"M\";\"M\";\"J\";\"V\";\"S\"},WEEKDAY(I2))","v":"L"},{"$f":"INDEX({\"D\";\"L\";\"M\";\"M\";\"J\";\"V\";\"S\"},WEEKDAY(J2))","v":"M"},{"$f":"INDEX({\"D\";\"L\";\"M\";\"M\";\"J\";\"V\";\"S\"},WEEKDAY(K2))","v":"M"},{"$f":"INDEX({\"D\";\"L\";\"M\";\"M\";\"J\";\"V\";\"S\"},WEEKDAY(L2))","v":"J"},{"$f":"INDEX({\"D\";\"L\";\"M\";\"M\";\"J\";\"V\";\"S\"},WEEKDAY(M2))","v":"V"},{"$f":"INDEX({\"D\";\"L\";\"M\";\"M\";\"J\";\"V\";\"S\"},WEEKDAY(N2))","v":"S"},{"$f":"INDEX({\"D\";\"L\";\"M\";\"M\";\"J\";\"V\";\"S\"},WEEKDAY(O2))","v":"D"},{"$f":"INDEX({\"D\";\"L\";\"M\";\"M\";\"J\";\"V\";\"S\"},WEEKDAY(P2))","v":"L"},{"$f":"INDEX({\"D\";\"L\";\"M\";\"M\";\"J\";\"V\";\"S\"},WEEKDAY(Q2))","v":"M"},{"$f":"INDEX({\"D\";\"L\";\"M\";\"M\";\"J\";\"V\";\"S\"},WEEKDAY(R2))","v":"M"},{"$f":"INDEX({\"D\";\"L\";\"M\";\"M\";\"J\";\"V\";\"S\"},WEEKDAY(S2))","v":"J"},{"$f":"INDEX({\"D\";\"L\";\"M\";\"M\";\"J\";\"V\";\"S\"},WEEKDAY(T2))","v":"V"},{"$f":"INDEX({\"D\";\"L\";\"M\";\"M\";\"J\";\"V\";\"S\"},WEEKDAY(U2))","v":"S"},{"$f":"INDEX({\"D\";\"L\";\"M\";\"M\";\"J\";\"V\";\"S\"},WEEKDAY(V2))","v":"D"},{"$f":"INDEX({\"D\";\"L\";\"M\";\"M\";\"J\";\"V\";\"S\"},WEEKDAY(W2))","v":"L"},{"$f":"INDEX({\"D\";\"L\";\"M\";\"M\";\"J\";\"V\";\"S\"},WEEKDAY(X2))","v":"M"},{"$f":"INDEX({\"D\";\"L\";\"M\";\"M\";\"J\";\"V\";\"S\"},WEEKDAY(Y2))","v":"M"},{"$f":"INDEX({\"D\";\"L\";\"M\";\"M\";\"J\";\"V\";\"S\"},WEEKDAY(Z2))","v":"J"},{"$f":"INDEX({\"D\";\"L\";\"M\";\"M\";\"J\";\"V\";\"S\"},WEEKDAY(AA2))","v":"V"},{"$f":"INDEX({\"D\";\"L\";\"M\";\"M\";\"J\";\"V\";\"S\"},WEEKDAY(AB2))","v":"S"},{"$f":"INDEX({\"D\";\"L\";\"M\";\"M\";\"J\";\"V\";\"S\"},WEEKDAY(AC2))","v":"D"},{"$f":"INDEX({\"D\";\"L\";\"M\";\"M\";\"J\";\"V\";\"S\"},WEEKDAY(AD2))","v":"L"},{"$f":"INDEX({\"D\";\"L\";\"M\";\"M\";\"J\";\"V\";\"S\"},WEEKDAY(AE2))","v":"M"},{"$f":"INDEX({\"D\";\"L\";\"M\";\"M\";\"J\";\"V\";\"S\"},WEEKDAY(AF2))","v":"M"},{"$f":"INDEX({\"D\";\"L\";\"M\";\"M\";\"J\";\"V\";\"S\"},WEEKDAY(AG2))","v":"J"},null,"Bilan mensuel",null,null,null,null,null,null,null,null,null,null,null,null,null,null,null,null,null,null,null,null,null,null,"Total jours",null,"Bilan annuel",null,null,null,null,null,null,null,null,null,null,null,null,null,null,null,null,null,null,null,null,null,null,"Total jours",null,"Bilan congès annuels",null,null,null,"Bilan Enfant malade",null,null,null,"Bilan RH aministratif",null,null,null,"Bilan RH employé"]
[{"$f":"Accueil!J2","v":"Educatif"},null,{"$f":"A1","v":"2016-11-01"},{"$f":"C2+1","v":"2016-11-02"},"2016-11-03","2016-11-04","2016-11-05","2016-11-06","2016-11-07","2016-11-08","2016-11-09","2016-11-10","2016-11-11","2016-11-12","2016-11-13","2016-11-14","2016-11-15","2016-11-16","2016-11-17","2016-11-18","2016-11-19","2016-11-20","2016-11-21","2016-11-22","2016-11-23","2016-11-24","2016-11-25","2016-11-26","2016-11-27","2016-11-28","2016-11-29","2016-11-30","2016-12-01",null,{"$f":"Accueil!$B$8","v":"M1"},{"$f":"Accueil!$B$9","v":"M2"},{"$f":"Accueil!B10","v":"M3"},{"$f":"Accueil!$B$11","v":"MP"},{"$f":"Accueil!$B$12","v":"AP1"},{"$f":"Accueil!B13","v":"AP2"},{"$f":"Accueil!B14","v":"AP3"},{"$f":"Accueil!$B$15","v":"P1"},{"$f":"Accueil!$B$16","v":"Nuit"},{"$f":"Accueil!$B$17","v":"BI"},{"$f":"Accueil!$B$18","v":"LY"},{"$f":"Accueil!$B$19","v":"ST"},{"$f":"Accueil!$B$20","v":"IND"},{"$f":"Accueil!$B$21","v":0},{"$f":"Accueil!$B$22","v":0},{"$f":"Accueil!$B$23","v":"Vac"},{"$f":"Accueil!$B$24","v":"Mal"},{"$f":"Accueil!$B$25","v":"Mat"},{"$f":"Accueil!$B$26","v":"CC"},{"$f":"Accueil!$B$27","v":"F"},{"$f":"Accueil!$B$28","v":"Enf"},{"$f":"Accueil!$B$29","v":"CP"},{"$f":"Accueil!$B$30","v":0},"travaillés",null,{"$f":"AI2","v":"M1"},"M2","M3","MP","AP1","AP2","AP3","P1","Nuit","BI","LY","ST","IND",0,0,"Vac","Mal","Mat","CC","F","Enf","CP",0,"travaillés",null,"capital","pris","restant",null,"capital","pris","restant",null,"capital","pris","restant",null,"capital","pris","restant"]
[{"$f":"Oct!A3","v":"Anne"},null,"MP",null,null,"M1",null,null,null,"MP",null,null,"M1",null,null,null,"MP",null,null,"M1",null,null,null,"MP",null,null,"M1",null,null,null,"MP",null,null,null,{"$f":"COUNTIF(C3:AG3,Accueil!$B$8)","v":4},{"$f":"COUNTIF(C3:AG3,Accueil!$B$9)","v":0},{"$f":"COUNTIF(C3:AG3,Accueil!$B$10)","v":0},{"$f":"COUNTIF(C3:AG3,Accueil!$B$11)","v":5},{"$f":"COUNTIF(C3:AG3,Accueil!$B$12)","v":0},{"$f":"COUNTIF(C3:AG3,Accueil!$B$13)","v":0},{"$f":"COUNTIF(C3:AG3,Accueil!$B$14)","v":0},{"$f":"COUNTIF(C3:AG3,Accueil!$B$15)","v":0},{"$f":"COUNTIF(C3:AG3,Accueil!$B$16)","v":0},{"$f":"COUNTIF(C3:AG3,Accueil!$B$17)","v":0},{"$f":"COUNTIF(C3:AG3,Accueil!$B$18)","v":0},{"$f":"COUNTIF(C3:AG3,Accueil!$B$19)","v":0},{"$f":"COUNTIF(C3:AG3,Accueil!$B$20)","v":0},{"$f":"COUNTIF(C3:AG3,Accueil!$B$21)","v":0},{"$f":"COUNTIF(C3:AG3,Accueil!$B$22)","v":0},{"$f":"COUNTIF(C3:AG3,Accueil!$B$23)","v":0},{"$f":"COUNTIF(C3:AG3,Accueil!$B$24)","v":0},{"$f":"COUNTIF(C3:AG3,Accueil!$B$25)","v":0},{"$f":"COUNTIF(C3:AG3,Accueil!$B$26)","v":0},{"$f":"COUNTIF(C3:AG3,Accueil!$B$27)","v":0},{"$f":"COUNTIF(C3:AG3,Accueil!$B$28)","v":0},{"$f":"COUNTIF(C3:AG3,Accueil!$B$29)","v":0},{"$f":"COUNTIF(C3:AG3,Accueil!$B$30)","v":0},{"$f":"SUM($AI3:$AT3)+($AW3*0.5)","v":9},null,{"$f":"AI3 +Oct!BH3","v":32},{"$f":"AJ3+Oct!BI3","v":0},{"$f":"AK3+Oct!BJ3","v":0},{"$f":"AL3+Oct!BK3","v":53},{"$f":"AM3+Oct!BL3","v":5},{"$f":"AN3+Oct!BM3","v":0},{"$f":"AO3+Oct!BN3","v":0},{"$f":"AP3+Oct!BO3","v":0},{"$f":"AQ3+Oct!BP3","v":0},{"$f":"AR3+Oct!BQ3","v":0},{"$f":"AS3+Oct!BR3","v":0},{"$f":"AT3+Oct!BS3","v":0},{"$f":"AU3+Oct!BT3","v":0},{"$f":"AV3+Oct!BU3","v":0},{"$f":"AW3+Oct!BV3","v":0},{"$f":"AX3+Oct!BW3","v":55},{"$f":"AY3+Oct!BX3","v":1},{"$f":"AZ3+Oct!BY3","v":0},{"$f":"BA3+Oct!BZ3","v":0},{"$f":"BB3+Oct!CA3","v":0},{"$f":"BC3+Oct!CB3","v":0},{"$f":"BD3+Oct!CC3","v":0},{"$f":"BE3+Oct!CD3","v":0},{"$f":"BF3+Oct!CE3","v":90},null,{"$f":"Oct!CG3","v":0},{"$f":"0.5*($BV3)+($BW3)","v":55},{"$f":"CG3-CH3","v":-55},null,{"$f":"Oct!CK3","v":0},{"$f":"$CB3","v":0},{"$f":"CK3-CL3","v":0},null,{"$f":"Oct!CO3","v":0},{"$f":"$CC3","v":0},{"$f":"CO3-CP3","v":0},null,{"$f":"Oct!CS3","v":0},{"$f":"$CD3","v":0},{"$f":"CS3-CT3","v":0}]
[{"$f":"Oct!A4","v":0},null,null,null,null,null,null,null,null,null,null,null,null,null,null,null,null,null,null,null,null,null,null,null,null,null,null,null,null,null,null,null,null,null,{"$f":"COUNTIF(C4:AG4,Accueil!$B$8)","v":0},{"$f":"COUNTIF(C4:AG4,Accueil!$B$9)","v":0},{"$f":"COUNTIF(C4:AG4,Accueil!$B$10)","v":0},{"$f":"COUNTIF(C4:AG4,Accueil!$B$11)","v":0},{"$f":"COUNTIF(C4:AG4,Accueil!$B$12)","v":0},{"$f":"COUNTIF(C4:AG4,Accueil!$B$13)","v":0},{"$f":"COUNTIF(C4:AG4,Accueil!$B$14)","v":0},{"$f":"COUNTIF(C4:AG4,Accueil!$B$15)","v":0},{"$f":"COUNTIF(C4:AG4,Accueil!$B$16)","v":0},{"$f":"COUNTIF(C4:AG4,Accueil!$B$17)","v":0},{"$f":"COUNTIF(C4:AG4,Accueil!$B$18)","v":0},{"$f":"COUNTIF(C4:AG4,Accueil!$B$19)","v":0},{"$f":"COUNTIF(C4:AG4,Accueil!$B$20)","v":0},{"$f":"COUNTIF(C4:AG4,Accueil!$B$21)","v":0},{"$f":"COUNTIF(C4:AG4,Accueil!$B$22)","v":0},{"$f":"COUNTIF(C4:AG4,Accueil!$B$23)","v":0},{"$f":"COUNTIF(C4:AG4,Accueil!$B$24)","v":0},{"$f":"COUNTIF(C4:AG4,Accueil!$B$25)","v":0},{"$f":"COUNTIF(C4:AG4,Accueil!$B$26)","v":0},{"$f":"COUNTIF(C4:AG4,Accueil!$B$27)","v":0},{"$f":"COUNTIF(C4:AG4,Accueil!$B$28)","v":0},{"$f":"COUNTIF(C4:AG4,Accueil!$B$29)","v":0},{"$f":"COUNTIF(C4:AG4,Accueil!$B$30)","v":0},0,null,{"$f":"AI4 +Oct!BH4","v":0},{"$f":"AJ4+Oct!BI4","v":0},{"$f":"AK4+Oct!BJ4","v":0},{"$f":"AL4+Oct!BK4","v":0},{"$f":"AM4+Oct!BL4","v":0},{"$f":"AN4+Oct!BM4","v":0},{"$f":"AO4+Oct!BN4","v":0},{"$f":"AP4+Oct!BO4","v":0},{"$f":"AQ4+Oct!BP4","v":0},{"$f":"AR4+Oct!BQ4","v":0},{"$f":"AS4+Oct!BR4","v":1},{"$f":"AT4+Oct!BS4","v":0},{"$f":"AU4+Oct!BT4","v":0},{"$f":"AV4+Oct!BU4","v":0},{"$f":"AW4+Oct!BV4","v":0},{"$f":"AX4+Oct!BW4","v":0},{"$f":"AY4+Oct!BX4","v":0},{"$f":"AZ4+Oct!BY4","v":0},{"$f":"BA4+Oct!BZ4","v":0},{"$f":"BB4+Oct!CA4","v":0},{"$f":"BC4+Oct!CB4","v":0},{"$f":"BD4+Oct!CC4","v":0},{"$f":"BE4+Oct!CD4","v":0},{"$f":"BF4+Oct!CE4","v":1},null,{"$f":"Oct!CG4","v":0},0,0,null,{"$f":"Oct!CK4","v":0},0,0,null,{"$f":"Oct!CO4","v":0},0,0,null,{"$f":"Oct!CS4","v":0},0,0]
[{"$f":"Oct!A5","v":"Elodie"},null,"M1","M1","AP1",null,null,"MP",null,"M1","M1","AP1","AP2",null,null,null,"M1","M1","AP1",null,"Vac","Vac","Vac","Vac","Vac","Vac","Vac","Vac","Vac",null,"M1","M1",null,null,{"$f":"COUNTIF(C5:AG5,Accueil!$B$8)","v":8},{"$f":"COUNTIF(C5:AG5,Accueil!$B$9)","v":0},{"$f":"COUNTIF(C5:AG5,Accueil!$B$10)","v":0},{"$f":"COUNTIF(C5:AG5,Accueil!$B$11)","v":1},{"$f":"COUNTIF(C5:AG5,Accueil!$B$12)","v":3},{"$f":"COUNTIF(C5:AG5,Accueil!$B$13)","v":1},{"$f":"COUNTIF(C5:AG5,Accueil!$B$14)","v":0},{"$f":"COUNTIF(C5:AG5,Accueil!$B$15)","v":0},{"$f":"COUNTIF(C5:AG5,Accueil!$B$16)","v":0},{"$f":"COUNTIF(C5:AG5,Accueil!$B$17)","v":0},{"$f":"COUNTIF(C5:AG5,Accueil!$B$18)","v":0},{"$f":"COUNTIF(C5:AG5,Accueil!$B$19)","v":0},{"$f":"COUNTIF(C5:AG5,Accueil!$B$20)","v":0},{"$f":"COUNTIF(C5:AG5,Accueil!$B$21)","v":0},{"$f":"COUNTIF(C5:AG5,Accueil!$B$22)","v":0},{"$f":"COUNTIF(C5:AG5,Accueil!$B$23)","v":9},{"$f":"COUNTIF(C5:AG5,Accueil!$B$24)","v":0},{"$f":"COUNTIF(C5:AG5,Accueil!$B$25)","v":0},{"$f":"COUNTIF(C5:AG5,Accueil!$B$26)","v":0},{"$f":"COUNTIF(C5:AG5,Accueil!$B$27)","v":0},{"$f":"COUNTIF(C5:AG5,Accueil!$B$28)","v":0},{"$f":"COUNTIF(C5:AG5,Accueil!$B$29)","v":0},{"$f":"COUNTIF(C5:AG5,Accueil!$B$30)","v":0},13,null,{"$f":"AI5 +Oct!BH5","v":100},{"$f":"AJ5+Oct!BI5","v":0},{"$f":"AK5+Oct!BJ5","v":0},{"$f":"AL5+Oct!BK5","v":26},{"$f":"AM5+Oct!BL5","v":37},{"$f":"AN5+Oct!BM5","v":6},{"$f":"AO5+Oct!BN5","v":0},{"$f":"AP5+Oct!BO5","v":0},{"$f":"AQ5+Oct!BP5","v":0},{"$f":"AR5+Oct!BQ5","v":0},{"$f":"AS5+Oct!BR5","v":0},{"$f":"AT5+Oct!BS5","v":0},{"$f":"AU5+Oct!BT5","v":7},{"$f":"AV5+Oct!BU5","v":0},{"$f":"AW5+Oct!BV5","v":0},{"$f":"AX5+Oct!BW5","v":47},{"$f":"AY5+Oct!BX5","v":0},{"$f":"AZ5+Oct!BY5","v":0},{"$f":"BA5+Oct!BZ5","v":1},{"$f":"BB5+Oct!CA5","v":1},{"$f":"BC5+Oct!CB5","v":0},{"$f":"BD5+Oct!CC5","v":0},{"$f":"BE5+Oct!CD5","v":0},{"$f":"BF5+Oct!CE5","v":169},null,{"$f":"Oct!CG5","v":0},47,-47,null,{"$f":"Oct!CK5","v":0},0,0,null,{"$f":"Oct!CO5","v":0},0,0,null,{"$f":"Oct!CS5","v":0},0,0]
[{"$f":"Oct!A6","v":0},null,null,null,null,null,null,null,null,null,null,null,null,null,null,null,null,null,null,null,null,null,null,null,null,null,null,null,null,null,null,null,null,null,{"$f":"COUNTIF(C6:AG6,Accueil!$B$8)","v":0},{"$f":"COUNTIF(C6:AG6,Accueil!$B$9)","v":0},{"$f":"COUNTIF(C6:AG6,Accueil!$B$10)","v":0},{"$f":"COUNTIF(C6:AG6,Accueil!$B$11)","v":0},{"$f":"COUNTIF(C6:AG6,Accueil!$B$12)","v":0},{"$f":"COUNTIF(C6:AG6,Accueil!$B$13)","v":0},{"$f":"COUNTIF(C6:AG6,Accueil!$B$14)","v":0},{"$f":"COUNTIF(C6:AG6,Accueil!$B$15)","v":0},{"$f":"COUNTIF(C6:AG6,Accueil!$B$16)","v":0},{"$f":"COUNTIF(C6:AG6,Accueil!$B$17)","v":0},{"$f":"COUNTIF(C6:AG6,Accueil!$B$18)","v":0},{"$f":"COUNTIF(C6:AG6,Accueil!$B$19)","v":0},{"$f":"COUNTIF(C6:AG6,Accueil!$B$20)","v":0},{"$f":"COUNTIF(C6:AG6,Accueil!$B$21)","v":0},{"$f":"COUNTIF(C6:AG6,Accueil!$B$22)","v":0},{"$f":"COUNTIF(C6:AG6,Accueil!$B$23)","v":0},{"$f":"COUNTIF(C6:AG6,Accueil!$B$24)","v":0},{"$f":"COUNTIF(C6:AG6,Accueil!$B$25)","v":0},{"$f":"COUNTIF(C6:AG6,Accueil!$B$26)","v":0},{"$f":"COUNTIF(C6:AG6,Accueil!$B$27)","v":0},{"$f":"COUNTIF(C6:AG6,Accueil!$B$28)","v":0},{"$f":"COUNTIF(C6:AG6,Accueil!$B$29)","v":0},{"$f":"COUNTIF(C6:AG6,Accueil!$B$30)","v":0},0,null,{"$f":"AI6 +Oct!BH6","v":0},{"$f":"AJ6+Oct!BI6","v":0},{"$f":"AK6+Oct!BJ6","v":0},{"$f":"AL6+Oct!BK6","v":0},{"$f":"AM6+Oct!BL6","v":0},{"$f":"AN6+Oct!BM6","v":1},{"$f":"AO6+Oct!BN6","v":0},{"$f":"AP6+Oct!BO6","v":0},{"$f":"AQ6+Oct!BP6","v":0},{"$f":"AR6+Oct!BQ6","v":0},{"$f":"AS6+Oct!BR6","v":1},{"$f":"AT6+Oct!BS6","v":0},{"$f":"AU6+Oct!BT6","v":0},{"$f":"AV6+Oct!BU6","v":0},{"$f":"AW6+Oct!BV6","v":0},{"$f":"AX6+Oct!BW6","v":0},{"$f":"AY6+Oct!BX6","v":0},{"$f":"AZ6+Oct!BY6","v":0},{"$f":"BA6+Oct!BZ6","v":0},{"$f":"BB6+Oct!CA6","v":0},{"$f":"BC6+Oct!CB6","v":0},{"$f":"BD6+Oct!CC6","v":0},{"$f":"BE6+Oct!CD6","v":0},{"$f":"BF6+Oct!CE6","v":2},null,{"$f":"Oct!CG6","v":0},0,0,null,{"$f":"Oct!CK6","v":0},0,0,null,{"$f":"Oct!CO6","v":0},0,0,null,{"$f":"Oct!CS6","v":0},0,0]
[{"$f":"Oct!A7","v":"Eve-Marie"},null,"M1",null,"AP1","M1",null,null,null,"M1",null,"AP1","M1",null,null,null,"M1",null,"AP1","M1",null,null,null,"M1",null,"AP1","M1",null,null,null,"M1",null,null,null,{"$f":"COUNTIF(C7:AG7,Accueil!$B$8)","v":9},{"$f":"COUNTIF(C7:AG7,Accueil!$B$9)","v":0},{"$f":"COUNTIF(C7:AG7,Accueil!$B$10)","v":0},{"$f":"COUNTIF(C7:AG7,Accueil!$B$11)","v":0},{"$f":"COUNTIF(C7:AG7,Accueil!$B$12)","v":4},{"$f":"COUNTIF(C7:AG7,Accueil!$B$13)","v":0},{"$f":"COUNTIF(C7:AG7,Accueil!$B$14)","v":0},{"$f":"COUNTIF(C7:AG7,Accueil!$B$15)","v":0},{"$f":"COUNTIF(C7:AG7,Accueil!$B$16)","v":0},{"$f":"COUNTIF(C7:AG7,Accueil!$B$17)","v":0},{"$f":"COUNTIF(C7:AG7,Accueil!$B$18)","v":0},{"$f":"COUNTIF(C7:AG7,Accueil!$B$19)","v":0},{"$f":"COUNTIF(C7:AG7,Accueil!$B$20)","v":0},{"$f":"COUNTIF(C7:AG7,Accueil!$B$21)","v":0},{"$f":"COUNTIF(C7:AG7,Accueil!$B$22)","v":0},{"$f":"COUNTIF(C7:AG7,Accueil!$B$23)","v":0},{"$f":"COUNTIF(C7:AG7,Accueil!$B$24)","v":0},{"$f":"COUNTIF(C7:AG7,Accueil!$B$25)","v":0},{"$f":"COUNTIF(C7:AG7,Accueil!$B$26)","v":0},{"$f":"COUNTIF(C7:AG7,Accueil!$B$27)","v":0},{"$f":"COUNTIF(C7:AG7,Accueil!$B$28)","v":0},{"$f":"COUNTIF(C7:AG7,Accueil!$B$29)","v":0},{"$f":"COUNTIF(C7:AG7,Accueil!$B$30)","v":0},13,null,{"$f":"AI7 +Oct!BH7","v":78},{"$f":"AJ7+Oct!BI7","v":1},{"$f":"AK7+Oct!BJ7","v":0},{"$f":"AL7+Oct!BK7","v":17},{"$f":"AM7+Oct!BL7","v":44},{"$f":"AN7+Oct!BM7","v":2},{"$f":"AO7+Oct!BN7","v":1},{"$f":"AP7+Oct!BO7","v":0},{"$f":"AQ7+Oct!BP7","v":0},{"$f":"AR7+Oct!BQ7","v":0},{"$f":"AS7+Oct!BR7","v":0},{"$f":"AT7+Oct!BS7","v":0},{"$f":"AU7+Oct!BT7","v":0},{"$f":"AV7+Oct!BU7","v":0},{"$f":"AW7+Oct!BV7","v":0},{"$f":"AX7+Oct!BW7","v":31},{"$f":"AY7+Oct!BX7","v":0},{"$f":"AZ7+Oct!BY7","v":0},{"$f":"BA7+Oct!BZ7","v":3},{"$f":"BB7+Oct!CA7","v":0},{"$f":"BC7+Oct!CB7","v":0},{"$f":"BD7+Oct!CC7","v":0},{"$f":"BE7+Oct!CD7","v":0},{"$f":"BF7+Oct!CE7","v":143},null,{"$f":"Oct!CG7","v":0},31,-31,null,{"$f":"Oct!CK7","v":0},0,0,null,{"$f":"Oct!CO7","v":0},0,0,null,{"$f":"Oct!CS7","v":0},0,0]
[{"$f":"Oct!A8","v":0},null,null,null,null,null,null,null,null,null,null,null,null,null,null,null,null,null,null,null,null,null,null,null,null,null,null,null,null,null,null,null,null,null,{"$f":"COUNTIF(C8:AG8,Accueil!$B$8)","v":0},{"$f":"COUNTIF(C8:AG8,Accueil!$B$9)","v":0},{"$f":"COUNTIF(C8:AG8,Accueil!$B$10)","v":0},{"$f":"COUNTIF(C8:AG8,Accueil!$B$11)","v":0},{"$f":"COUNTIF(C8:AG8,Accueil!$B$12)","v":0},{"$f":"COUNTIF(C8:AG8,Accueil!$B$13)","v":0},{"$f":"COUNTIF(C8:AG8,Accueil!$B$14)","v":0},{"$f":"COUNTIF(C8:AG8,Accueil!$B$15)","v":0},{"$f":"COUNTIF(C8:AG8,Accueil!$B$16)","v":0},{"$f":"COUNTIF(C8:AG8,Accueil!$B$17)","v":0},{"$f":"COUNTIF(C8:AG8,Accueil!$B$18)","v":0},{"$f":"COUNTIF(C8:AG8,Accueil!$B$19)","v":0},{"$f":"COUNTIF(C8:AG8,Accueil!$B$20)","v":0},{"$f":"COUNTIF(C8:AG8,Accueil!$B$21)","v":0},{"$f":"COUNTIF(C8:AG8,Accueil!$B$22)","v":0},{"$f":"COUNTIF(C8:AG8,Accueil!$B$23)","v":0},{"$f":"COUNTIF(C8:AG8,Accueil!$B$24)","v":0},{"$f":"COUNTIF(C8:AG8,Accueil!$B$25)","v":0},{"$f":"COUNTIF(C8:AG8,Accueil!$B$26)","v":0},{"$f":"COUNTIF(C8:AG8,Accueil!$B$27)","v":0},{"$f":"COUNTIF(C8:AG8,Accueil!$B$28)","v":0},{"$f":"COUNTIF(C8:AG8,Accueil!$B$29)","v":0},{"$f":"COUNTIF(C8:AG8,Accueil!$B$30)","v":0},0,null,{"$f":"AI8 +Oct!BH8","v":0},{"$f":"AJ8+Oct!BI8","v":0},{"$f":"AK8+Oct!BJ8","v":0},{"$f":"AL8+Oct!BK8","v":0},{"$f":"AM8+Oct!BL8","v":0},{"$f":"AN8+Oct!BM8","v":0},{"$f":"AO8+Oct!BN8","v":0},{"$f":"AP8+Oct!BO8","v":0},{"$f":"AQ8+Oct!BP8","v":0},{"$f":"AR8+Oct!BQ8","v":0},{"$f":"AS8+Oct!BR8","v":1},{"$f":"AT8+Oct!BS8","v":0},{"$f":"AU8+Oct!BT8","v":0},{"$f":"AV8+Oct!BU8","v":0},{"$f":"AW8+Oct!BV8","v":0},{"$f":"AX8+Oct!BW8","v":0},{"$f":"AY8+Oct!BX8","v":0},{"$f":"AZ8+Oct!BY8","v":0},{"$f":"BA8+Oct!BZ8","v":0},{"$f":"BB8+Oct!CA8","v":0},{"$f":"BC8+Oct!CB8","v":0},{"$f":"BD8+Oct!CC8","v":0},{"$f":"BE8+Oct!CD8","v":0},{"$f":"BF8+Oct!CE8","v":1},null,{"$f":"Oct!CG8","v":0},0,0,null,{"$f":"Oct!CK8","v":0},0,0,null,{"$f":"Oct!CO8","v":0},0,0,null,{"$f":"Oct!CS8","v":0},0,0]
[{"$f":"Oct!A9","v":"Isabel"},null,"M1",null,null,null,null,null,"AP2","M1",null,null,null,null,null,"AP2","M1",null,null,null,null,null,"AP2","M1",null,null,null,null,null,"AP2","M1",null,null,null,{"$f":"COUNTIF(C9:AG9,Accueil!$B$8)","v":5},{"$f":"COUNTIF(C9:AG9,Accueil!$B$9)","v":0},{"$f":"COUNTIF(C9:AG9,Accueil!$B$10)","v":0},{"$f":"COUNTIF(C9:AG9,Accueil!$B$11)","v":0},{"$f":"COUNTIF(C9:AG9,Accueil!$B$12)","v":0},{"$f":"COUNTIF(C9:AG9,Accueil!$B$13)","v":4},{"$f":"COUNTIF(C9:AG9,Accueil!$B$14)","v":0},{"$f":"COUNTIF(C9:AG9,Accueil!$B$15)","v":0},{"$f":"COUNTIF(C9:AG9,Accueil!$B$16)","v":0},{"$f":"COUNTIF(C9:AG9,Accueil!$B$17)","v":0},{"$f":"COUNTIF(C9:AG9,Accueil!$B$18)","v":0},{"$f":"COUNTIF(C9:AG9,Accueil!$B$19)","v":0},{"$f":"COUNTIF(C9:AG9,Accueil!$B$20)","v":0},{"$f":"COUNTIF(C9:AG9,Accueil!$B$21)","v":0},{"$f":"COUNTIF(C9:AG9,Accueil!$B$22)","v":0},{"$f":"COUNTIF(C9:AG9,Accueil!$B$23)","v":0},{"$f":"COUNTIF(C9:AG9,Accueil!$B$24)","v":0},{"$f":"COUNTIF(C9:AG9,Accueil!$B$25)","v":0},{"$f":"COUNTIF(C9:AG9,Accueil!$B$26)","v":0},{"$f":"COUNTIF(C9:AG9,Accueil!$B$27)","v":0},{"$f":"COUNTIF(C9:AG9,Accueil!$B$28)","v":0},{"$f":"COUNTIF(C9:AG9,Accueil!$B$29)","v":0},{"$f":"COUNTIF(C9:AG9,Accueil!$B$30)","v":0},9,null,{"$f":"AI9 +Oct!BH9","v":40},{"$f":"AJ9+Oct!BI9","v":0},{"$f":"AK9+Oct!BJ9","v":0},{"$f":"AL9+Oct!BK9","v":16},{"$f":"AM9+Oct!BL9","v":1},{"$f":"AN9+Oct!BM9","v":46},{"$f":"AO9+Oct!BN9","v":0},{"$f":"AP9+Oct!BO9","v":0},{"$f":"AQ9+Oct!BP9","v":0},{"$f":"AR9+Oct!BQ9","v":0},{"$f":"AS9+Oct!BR9","v":0},{"$f":"AT9+Oct!BS9","v":0},{"$f":"AU9+Oct!BT9","v":0},{"$f":"AV9+Oct!BU9","v":0},{"$f":"AW9+Oct!BV9","v":0},{"$f":"AX9+Oct!BW9","v":41},{"$f":"AY9+Oct!BX9","v":0},{"$f":"AZ9+Oct!BY9","v":0},{"$f":"BA9+Oct!BZ9","v":0},{"$f":"BB9+Oct!CA9","v":0},{"$f":"BC9+Oct!CB9","v":0},{"$f":"BD9+Oct!CC9","v":0},{"$f":"BE9+Oct!CD9","v":0},{"$f":"BF9+Oct!CE9","v":103},null,{"$f":"Oct!CG9","v":0},41,-41,null,{"$f":"Oct!CK9","v":0},0,0,null,{"$f":"Oct!CO9","v":0},0,0,null,{"$f":"Oct!CS9","v":0},0,0]
[{"$f":"Oct!A10","v":0},null,null,null,null,null,null,null,null,null,null,null,null,null,null,null,null,null,null,null,null,null,null,null,null,null,null,null,null,null,null,null,null,null,{"$f":"COUNTIF(C10:AG10,Accueil!$B$8)","v":0},{"$f":"COUNTIF(C10:AG10,Accueil!$B$9)","v":0},{"$f":"COUNTIF(C10:AG10,Accueil!$B$10)","v":0},{"$f":"COUNTIF(C10:AG10,Accueil!$B$11)","v":0},{"$f":"COUNTIF(C10:AG10,Accueil!$B$12)","v":0},{"$f":"COUNTIF(C10:AG10,Accueil!$B$13)","v":0},{"$f":"COUNTIF(C10:AG10,Accueil!$B$14)","v":0},{"$f":"COUNTIF(C10:AG10,Accueil!$B$15)","v":0},{"$f":"COUNTIF(C10:AG10,Accueil!$B$16)","v":0},{"$f":"COUNTIF(C10:AG10,Accueil!$B$17)","v":0},{"$f":"COUNTIF(C10:AG10,Accueil!$B$18)","v":0},{"$f":"COUNTIF(C10:AG10,Accueil!$B$19)","v":0},{"$f":"COUNTIF(C10:AG10,Accueil!$B$20)","v":0},{"$f":"COUNTIF(C10:AG10,Accueil!$B$21)","v":0},{"$f":"COUNTIF(C10:AG10,Accueil!$B$22)","v":0},{"$f":"COUNTIF(C10:AG10,Accueil!$B$23)","v":0},{"$f":"COUNTIF(C10:AG10,Accueil!$B$24)","v":0},{"$f":"COUNTIF(C10:AG10,Accueil!$B$25)","v":0},{"$f":"COUNTIF(C10:AG10,Accueil!$B$26)","v":0},{"$f":"COUNTIF(C10:AG10,Accueil!$B$27)","v":0},{"$f":"COUNTIF(C10:AG10,Accueil!$B$28)","v":0},{"$f":"COUNTIF(C10:AG10,Accueil!$B$29)","v":0},{"$f":"COUNTIF(C10:AG10,Accueil!$B$30)","v":0},0,null,{"$f":"AI10 +Oct!BH10","v":0},{"$f":"AJ10+Oct!BI10","v":0},{"$f":"AK10+Oct!BJ10","v":0},{"$f":"AL10+Oct!BK10","v":0},{"$f":"AM10+Oct!BL10","v":0},{"$f":"AN10+Oct!BM10","v":0},{"$f":"AO10+Oct!BN10","v":0},{"$f":"AP10+Oct!BO10","v":0},{"$f":"AQ10+Oct!BP10","v":0},{"$f":"AR10+Oct!BQ10","v":1},{"$f":"AS10+Oct!BR10","v":2},{"$f":"AT10+Oct!BS10","v":0},{"$f":"AU10+Oct!BT10","v":0},{"$f":"AV10+Oct!BU10","v":0},{"$f":"AW10+Oct!BV10","v":0},{"$f":"AX10+Oct!BW10","v":0},{"$f":"AY10+Oct!BX10","v":0},{"$f":"AZ10+Oct!BY10","v":0},{"$f":"BA10+Oct!BZ10","v":0},{"$f":"BB10+Oct!CA10","v":0},{"$f":"BC10+Oct!CB10","v":0},{"$f":"BD10+Oct!CC10","v":0},{"$f":"BE10+Oct!CD10","v":0},{"$f":"BF10+Oct!CE10","v":3},null,{"$f":"Oct!CG10","v":0},0,0,null,{"$f":"Oct!CK10","v":0},0,0,null,{"$f":"Oct!CO10","v":0},0,0,null,{"$f":"Oct!CS10","v":0},0,0]
[{"$f":"Oct!A11","v":"Simon-Pierre"},null,"M2","MP",null,"M1",null,null,"M1","M2","MP",null,"M1",null,null,"M1","M2","MP",null,"M1",null,null,"M1","M2","MP",null,"M1",null,null,"M1","M2","MP",null,null,{"$f":"COUNTIF(C11:AG11,Accueil!$B$8)","v":8},{"$f":"COUNTIF(C11:AG11,Accueil!$B$9)","v":5},{"$f":"COUNTIF(C11:AG11,Accueil!$B$10)","v":0},{"$f":"COUNTIF(C11:AG11,Accueil!$B$11)","v":5},{"$f":"COUNTIF(C11:AG11,Accueil!$B$12)","v":0},{"$f":"COUNTIF(C11:AG11,Accueil!$B$13)","v":0},{"$f":"COUNTIF(C11:AG11,Accueil!$B$14)","v":0},{"$f":"COUNTIF(C11:AG11,Accueil!$B$15)","v":0},{"$f":"COUNTIF(C11:AG11,Accueil!$B$16)","v":0},{"$f":"COUNTIF(C11:AG11,Accueil!$B$17)","v":0},{"$f":"COUNTIF(C11:AG11,Accueil!$B$18)","v":0},{"$f":"COUNTIF(C11:AG11,Accueil!$B$19)","v":0},{"$f":"COUNTIF(C11:AG11,Accueil!$B$20)","v":0},{"$f":"COUNTIF(C11:AG11,Accueil!$B$21)","v":0},{"$f":"COUNTIF(C11:AG11,Accueil!$B$22)","v":0},{"$f":"COUNTIF(C11:AG11,Accueil!$B$23)","v":0},{"$f":"COUNTIF(C11:AG11,Accueil!$B$24)","v":0},{"$f":"COUNTIF(C11:AG11,Accueil!$B$25)","v":0},{"$f":"COUNTIF(C11:AG11,Accueil!$B$26)","v":0},{"$f":"COUNTIF(C11:AG11,Accueil!$B$27)","v":0},{"$f":"COUNTIF(C11:AG11,Accueil!$B$28)","v":0},{"$f":"COUNTIF(C11:AG11,Accueil!$B$29)","v":0},{"$f":"COUNTIF(C11:AG11,Accueil!$B$30)","v":0},18,null,{"$f":"AI11 +Oct!BH11","v":70},{"$f":"AJ11+Oct!BI11","v":42},{"$f":"AK11+Oct!BJ11","v":10},{"$f":"AL11+Oct!BK11","v":40},{"$f":"AM11+Oct!BL11","v":0},{"$f":"AN11+Oct!BM11","v":0},{"$f":"AO11+Oct!BN11","v":0},{"$f":"AP11+Oct!BO11","v":0},{"$f":"AQ11+Oct!BP11","v":0},{"$f":"AR11+Oct!BQ11","v":0},{"$f":"AS11+Oct!BR11","v":0},{"$f":"AT11+Oct!BS11","v":0},{"$f":"AU11+Oct!BT11","v":0},{"$f":"AV11+Oct!BU11","v":0},{"$f":"AW11+Oct!BV11","v":0},{"$f":"AX11+Oct!BW11","v":61},{"$f":"AY11+Oct!BX11","v":0},{"$f":"AZ11+Oct!BY11","v":0},{"$f":"BA11+Oct!BZ11","v":0},{"$f":"BB11+Oct!CA11","v":0},{"$f":"BC11+Oct!CB11","v":0},{"$f":"BD11+Oct!CC11","v":0},{"$f":"BE11+Oct!CD11","v":0},{"$f":"BF11+Oct!CE11","v":162},null,{"$f":"Oct!CG11","v":0},61,-61,null,{"$f":"Oct!CK11","v":0},0,0,null,{"$f":"Oct!CO11","v":0},0,0,null,{"$f":"Oct!CS11","v":0},0,0]
[{"$f":"Oct!A12","v":0},null,null,null,null,null,null,null,null,null,null,null,null,null,null,null,null,null,null,null,null,null,null,null,null,null,null,null,null,null,null,null,null,null,{"$f":"COUNTIF(C12:AG12,Accueil!$B$8)","v":0},{"$f":"COUNTIF(C12:AG12,Accueil!$B$9)","v":0},{"$f":"COUNTIF(C12:AG12,Accueil!$B$10)","v":0},{"$f":"COUNTIF(C12:AG12,Accueil!$B$11)","v":0},{"$f":"COUNTIF(C12:AG12,Accueil!$B$12)","v":0},{"$f":"COUNTIF(C12:AG12,Accueil!$B$13)","v":0},{"$f":"COUNTIF(C12:AG12,Accueil!$B$14)","v":0},{"$f":"COUNTIF(C12:AG12,Accueil!$B$15)","v":0},{"$f":"COUNTIF(C12:AG12,Accueil!$B$16)","v":0},{"$f":"COUNTIF(C12:AG12,Accueil!$B$17)","v":0},{"$f":"COUNTIF(C12:AG12,Accueil!$B$18)","v":0},{"$f":"COUNTIF(C12:AG12,Accueil!$B$19)","v":0},{"$f":"COUNTIF(C12:AG12,Accueil!$B$20)","v":0},{"$f":"COUNTIF(C12:AG12,Accueil!$B$21)","v":0},{"$f":"COUNTIF(C12:AG12,Accueil!$B$22)","v":0},{"$f":"COUNTIF(C12:AG12,Accueil!$B$23)","v":0},{"$f":"COUNTIF(C12:AG12,Accueil!$B$24)","v":0},{"$f":"COUNTIF(C12:AG12,Accueil!$B$25)","v":0},{"$f":"COUNTIF(C12:AG12,Accueil!$B$26)","v":0},{"$f":"COUNTIF(C12:AG12,Accueil!$B$27)","v":0},{"$f":"COUNTIF(C12:AG12,Accueil!$B$28)","v":0},{"$f":"COUNTIF(C12:AG12,Accueil!$B$29)","v":0},{"$f":"COUNTIF(C12:AG12,Accueil!$B$30)","v":0},0,null,{"$f":"AI12 +Oct!BH12","v":0},{"$f":"AJ12+Oct!BI12","v":0},{"$f":"AK12+Oct!BJ12","v":0},{"$f":"AL12+Oct!BK12","v":0},{"$f":"AM12+Oct!BL12","v":0},{"$f":"AN12+Oct!BM12","v":0},{"$f":"AO12+Oct!BN12","v":0},{"$f":"AP12+Oct!BO12","v":0},{"$f":"AQ12+Oct!BP12","v":0},{"$f":"AR12+Oct!BQ12","v":0},{"$f":"AS12+Oct!BR12","v":21},{"$f":"AT12+Oct!BS12","v":0},{"$f":"AU12+Oct!BT12","v":0},{"$f":"AV12+Oct!BU12","v":0},{"$f":"AW12+Oct!BV12","v":0},{"$f":"AX12+Oct!BW12","v":0},{"$f":"AY12+Oct!BX12","v":0},{"$f":"AZ12+Oct!BY12","v":0},{"$f":"BA12+Oct!BZ12","v":0},{"$f":"BB12+Oct!CA12","v":0},{"$f":"BC12+Oct!CB12","v":0},{"$f":"BD12+Oct!CC12","v":0},{"$f":"BE12+Oct!CD12","v":0},{"$f":"BF12+Oct!CE12","v":21},null,{"$f":"Oct!CG12","v":0},0,0,null,{"$f":"Oct!CK12","v":0},0,0,null,{"$f":"Oct!CO12","v":0},0,0,null,{"$f":"Oct!CS12","v":0},0,0]
[{"$f":"Oct!A13","v":"Virginie"},null,"M2","MP","M3",null,"MP",null,"M1","M2","MP","M3",null,"Vac","Vac","Vac","Vac","Vac","Vac","Vac","Vac","Vac","Vac","Vac","Vac","Vac","Vac","Vac","Vac","Vac","Vac","Vac",null,null,{"$f":"COUNTIF(C13:AG13,Accueil!$B$8)","v":1},{"$f":"COUNTIF(C13:AG13,Accueil!$B$9)","v":2},{"$f":"COUNTIF(C13:AG13,Accueil!$B$10)","v":2},{"$f":"COUNTIF(C13:AG13,Accueil!$B$11)","v":3},{"$f":"COUNTIF(C13:AG13,Accueil!$B$12)","v":0},{"$f":"COUNTIF(C13:AG13,Accueil!$B$13)","v":0},{"$f":"COUNTIF(C13:AG13,Accueil!$B$14)","v":0},{"$f":"COUNTIF(C13:AG13,Accueil!$B$15)","v":0},{"$f":"COUNTIF(C13:AG13,Accueil!$B$16)","v":0},{"$f":"COUNTIF(C13:AG13,Accueil!$B$17)","v":0},{"$f":"COUNTIF(C13:AG13,Accueil!$B$18)","v":0},{"$f":"COUNTIF(C13:AG13,Accueil!$B$19)","v":0},{"$f":"COUNTIF(C13:AG13,Accueil!$B$20)","v":0},{"$f":"COUNTIF(C13:AG13,Accueil!$B$21)","v":0},{"$f":"COUNTIF(C13:AG13,Accueil!$B$22)","v":0},{"$f":"COUNTIF(C13:AG13,Accueil!$B$23)","v":19},{"$f":"COUNTIF(C13:AG13,Accueil!$B$24)","v":0},{"$f":"COUNTIF(C13:AG13,Accueil!$B$25)","v":0},{"$f":"COUNTIF(C13:AG13,Accueil!$B$26)","v":0},{"$f":"COUNTIF(C13:AG13,Accueil!$B$27)","v":0},{"$f":"COUNTIF(C13:AG13,Accueil!$B$28)","v":0},{"$f":"COUNTIF(C13:AG13,Accueil!$B$29)","v":0},{"$f":"COUNTIF(C13:AG13,Accueil!$B$30)","v":0},8,null,{"$f":"AI13 +Oct!BH13","v":31},{"$f":"AJ13+Oct!BI13","v":44},{"$f":"AK13+Oct!BJ13","v":31},{"$f":"AL13+Oct!BK13","v":70},{"$f":"AM13+Oct!BL13","v":1},{"$f":"AN13+Oct!BM13","v":10},{"$f":"AO13+Oct!BN13","v":0},{"$f":"AP13+Oct!BO13","v":0},{"$f":"AQ13+Oct!BP13","v":0},{"$f":"AR13+Oct!BQ13","v":0},{"$f":"AS13+Oct!BR13","v":0},{"$f":"AT13+Oct!BS13","v":0},{"$f":"AU13+Oct!BT13","v":3},{"$f":"AV13+Oct!BU13","v":0},{"$f":"AW13+Oct!BV13","v":0},{"$f":"AX13+Oct!BW13","v":35},{"$f":"AY13+Oct!BX13","v":0},{"$f":"AZ13+Oct!BY13","v":0},{"$f":"BA13+Oct!BZ13","v":17},{"$f":"BB13+Oct!CA13","v":1},{"$f":"BC13+Oct!CB13","v":0},{"$f":"BD13+Oct!CC13","v":0},{"$f":"BE13+Oct!CD13","v":0},{"$f":"BF13+Oct!CE13","v":187},null,{"$f":"Oct!CG13","v":0},35,-35,null,{"$f":"Oct!CK13","v":0},0,0,null,{"$f":"Oct!CO13","v":0},0,0,null,{"$f":"Oct!CS13","v":0},0,0]
[{"$f":"Oct!A14","v":0},null,null,null,null,null,null,null,null,null,null,null,null,null,null,null,null,null,null,null,null,null,null,null,null,null,null,null,null,null,null,null,null,null,{"$f":"COUNTIF(C14:AG14,Accueil!$B$8)","v":0},{"$f":"COUNTIF(C14:AG14,Accueil!$B$9)","v":0},{"$f":"COUNTIF(C14:AG14,Accueil!$B$10)","v":0},{"$f":"COUNTIF(C14:AG14,Accueil!$B$11)","v":0},{"$f":"COUNTIF(C14:AG14,Accueil!$B$12)","v":0},{"$f":"COUNTIF(C14:AG14,Accueil!$B$13)","v":0},{"$f":"COUNTIF(C14:AG14,Accueil!$B$14)","v":0},{"$f":"COUNTIF(C14:AG14,Accueil!$B$15)","v":0},{"$f":"COUNTIF(C14:AG14,Accueil!$B$16)","v":0},{"$f":"COUNTIF(C14:AG14,Accueil!$B$17)","v":0},{"$f":"COUNTIF(C14:AG14,Accueil!$B$18)","v":0},{"$f":"COUNTIF(C14:AG14,Accueil!$B$19)","v":0},{"$f":"COUNTIF(C14:AG14,Accueil!$B$20)","v":0},{"$f":"COUNTIF(C14:AG14,Accueil!$B$21)","v":0},{"$f":"COUNTIF(C14:AG14,Accueil!$B$22)","v":0},{"$f":"COUNTIF(C14:AG14,Accueil!$B$23)","v":0},{"$f":"COUNTIF(C14:AG14,Accueil!$B$24)","v":0},{"$f":"COUNTIF(C14:AG14,Accueil!$B$25)","v":0},{"$f":"COUNTIF(C14:AG14,Accueil!$B$26)","v":0},{"$f":"COUNTIF(C14:AG14,Accueil!$B$27)","v":0},{"$f":"COUNTIF(C14:AG14,Accueil!$B$28)","v":0},{"$f":"COUNTIF(C14:AG14,Accueil!$B$29)","v":0},{"$f":"COUNTIF(C14:AG14,Accueil!$B$30)","v":0},0,null,{"$f":"AI14 +Oct!BH14","v":0},{"$f":"AJ14+Oct!BI14","v":0},{"$f":"AK14+Oct!BJ14","v":0},{"$f":"AL14+Oct!BK14","v":0},{"$f":"AM14+Oct!BL14","v":0},{"$f":"AN14+Oct!BM14","v":0},{"$f":"AO14+Oct!BN14","v":0},{"$f":"AP14+Oct!BO14","v":0},{"$f":"AQ14+Oct!BP14","v":0},{"$f":"AR14+Oct!BQ14","v":6},{"$f":"AS14+Oct!BR14","v":1},{"$f":"AT14+Oct!BS14","v":0},{"$f":"AU14+Oct!BT14","v":0},{"$f":"AV14+Oct!BU14","v":0},{"$f":"AW14+Oct!BV14","v":0},{"$f":"AX14+Oct!BW14","v":0},{"$f":"AY14+Oct!BX14","v":0},{"$f":"AZ14+Oct!BY14","v":0},{"$f":"BA14+Oct!BZ14","v":0},{"$f":"BB14+Oct!CA14","v":0},{"$f":"BC14+Oct!CB14","v":0},{"$f":"BD14+Oct!CC14","v":0},{"$f":"BE14+Oct!CD14","v":0},{"$f":"BF14+Oct!CE14","v":7},null,{"$f":"Oct!CG14","v":0},0,0,null,{"$f":"Oct!CK14","v":0},0,0,null,{"$f":"Oct!CO14","v":0},0,0,null,{"$f":"Oct!CS14","v":0},0,0]
[{"$f":"Oct!A15","v":"Jacqueline"},null,"MP",null,null,"M2",null,null,"M3","MP",null,null,"M2",null,null,"M3","MP",null,null,"M2",null,null,"M3","MP",null,null,"M2",null,null,"M3","MP",null,null,null,{"$f":"COUNTIF(C15:AG15,Accueil!$B$8)","v":0},{"$f":"COUNTIF(C15:AG15,Accueil!$B$9)","v":4},{"$f":"COUNTIF(C15:AG15,Accueil!$B$10)","v":4},{"$f":"COUNTIF(C15:AG15,Accueil!$B$11)","v":5},{"$f":"COUNTIF(C15:AG15,Accueil!$B$12)","v":0},{"$f":"COUNTIF(C15:AG15,Accueil!$B$13)","v":0},{"$f":"COUNTIF(C15:AG15,Accueil!$B$14)","v":0},{"$f":"COUNTIF(C15:AG15,Accueil!$B$15)","v":0},{"$f":"COUNTIF(C15:AG15,Accueil!$B$16)","v":0},{"$f":"COUNTIF(C15:AG15,Accueil!$B$17)","v":0},{"$f":"COUNTIF(C15:AG15,Accueil!$B$18)","v":0},{"$f":"COUNTIF(C15:AG15,Accueil!$B$19)","v":0},{"$f":"COUNTIF(C15:AG15,Accueil!$B$20)","v":0},{"$f":"COUNTIF(C15:AG15,Accueil!$B$21)","v":0},{"$f":"COUNTIF(C15:AG15,Accueil!$B$22)","v":0},{"$f":"COUNTIF(C15:AG15,Accueil!$B$23)","v":0},{"$f":"COUNTIF(C15:AG15,Accueil!$B$24)","v":0},{"$f":"COUNTIF(C15:AG15,Accueil!$B$25)","v":0},{"$f":"COUNTIF(C15:AG15,Accueil!$B$26)","v":0},{"$f":"COUNTIF(C15:AG15,Accueil!$B$27)","v":0},{"$f":"COUNTIF(C15:AG15,Accueil!$B$28)","v":0},{"$f":"COUNTIF(C15:AG15,Accueil!$B$29)","v":0},{"$f":"COUNTIF(C15:AG15,Accueil!$B$30)","v":0},13,null,{"$f":"AI15 +Oct!BH15","v":3},{"$f":"AJ15+Oct!BI15","v":34},{"$f":"AK15+Oct!BJ15","v":31},{"$f":"AL15+Oct!BK15","v":59},{"$f":"AM15+Oct!BL15","v":1},{"$f":"AN15+Oct!BM15","v":2},{"$f":"AO15+Oct!BN15","v":0},{"$f":"AP15+Oct!BO15","v":0},{"$f":"AQ15+Oct!BP15","v":0},{"$f":"AR15+Oct!BQ15","v":0},{"$f":"AS15+Oct!BR15","v":0},{"$f":"AT15+Oct!BS15","v":0},{"$f":"AU15+Oct!BT15","v":0},{"$f":"AV15+Oct!BU15","v":0},{"$f":"AW15+Oct!BV15","v":0},{"$f":"AX15+Oct!BW15","v":57},{"$f":"AY15+Oct!BX15","v":0},{"$f":"AZ15+Oct!BY15","v":0},{"$f":"BA15+Oct!BZ15","v":2},{"$f":"BB15+Oct!CA15","v":0},{"$f":"BC15+Oct!CB15","v":0},{"$f":"BD15+Oct!CC15","v":0},{"$f":"BE15+Oct!CD15","v":0},{"$f":"BF15+Oct!CE15","v":130},null,{"$f":"Oct!CG15","v":0},57,-57,null,{"$f":"Oct!CK15","v":0},0,0,null,{"$f":"Oct!CO15","v":0},0,0,null,{"$f":"Oct!CS15","v":0},0,0]
[{"$f":"Oct!A16","v":0},null,null,null,null,null,null,null,null,null,null,null,null,null,null,null,null,null,null,null,null,null,null,null,null,null,null,null,null,null,null,null,null,null,{"$f":"COUNTIF(C16:AG16,Accueil!$B$8)","v":0},{"$f":"COUNTIF(C16:AG16,Accueil!$B$9)","v":0},{"$f":"COUNTIF(C16:AG16,Accueil!$B$10)","v":0},{"$f":"COUNTIF(C16:AG16,Accueil!$B$11)","v":0},{"$f":"COUNTIF(C16:AG16,Accueil!$B$12)","v":0},{"$f":"COUNTIF(C16:AG16,Accueil!$B$13)","v":0},{"$f":"COUNTIF(C16:AG16,Accueil!$B$14)","v":0},{"$f":"COUNTIF(C16:AG16,Accueil!$B$15)","v":0},{"$f":"COUNTIF(C16:AG16,Accueil!$B$16)","v":0},{"$f":"COUNTIF(C16:AG16,Accueil!$B$17)","v":0},{"$f":"COUNTIF(C16:AG16,Accueil!$B$18)","v":0},{"$f":"COUNTIF(C16:AG16,Accueil!$B$19)","v":0},{"$f":"COUNTIF(C16:AG16,Accueil!$B$20)","v":0},{"$f":"COUNTIF(C16:AG16,Accueil!$B$21)","v":0},{"$f":"COUNTIF(C16:AG16,Accueil!$B$22)","v":0},{"$f":"COUNTIF(C16:AG16,Accueil!$B$23)","v":0},{"$f":"COUNTIF(C16:AG16,Accueil!$B$24)","v":0},{"$f":"COUNTIF(C16:AG16,Accueil!$B$25)","v":0},{"$f":"COUNTIF(C16:AG16,Accueil!$B$26)","v":0},{"$f":"COUNTIF(C16:AG16,Accueil!$B$27)","v":0},{"$f":"COUNTIF(C16:AG16,Accueil!$B$28)","v":0},{"$f":"COUNTIF(C16:AG16,Accueil!$B$29)","v":0},{"$f":"COUNTIF(C16:AG16,Accueil!$B$30)","v":0},0,null,{"$f":"AI16 +Oct!BH16","v":0},{"$f":"AJ16+Oct!BI16","v":0},{"$f":"AK16+Oct!BJ16","v":0},{"$f":"AL16+Oct!BK16","v":0},{"$f":"AM16+Oct!BL16","v":0},{"$f":"AN16+Oct!BM16","v":0},{"$f":"AO16+Oct!BN16","v":0},{"$f":"AP16+Oct!BO16","v":0},{"$f":"AQ16+Oct!BP16","v":0},{"$f":"AR16+Oct!BQ16","v":0},{"$f":"AS16+Oct!BR16","v":6},{"$f":"AT16+Oct!BS16","v":0},{"$f":"AU16+Oct!BT16","v":0},{"$f":"AV16+Oct!BU16","v":0},{"$f":"AW16+Oct!BV16","v":0},{"$f":"AX16+Oct!BW16","v":0},{"$f":"AY16+Oct!BX16","v":0},{"$f":"AZ16+Oct!BY16","v":0},{"$f":"BA16+Oct!BZ16","v":0},{"$f":"BB16+Oct!CA16","v":0},{"$f":"BC16+Oct!CB16","v":0},{"$f":"BD16+Oct!CC16","v":0},{"$f":"BE16+Oct!CD16","v":0},{"$f":"BF16+Oct!CE16","v":6},null,{"$f":"Oct!CG16","v":0},0,0,null,{"$f":"Oct!CK16","v":0},0,0,null,{"$f":"Oct!CO16","v":0},0,0,null,{"$f":"Oct!CS16","v":0},0,0]
[{"$f":"Oct!A17","v":"Colette"},null,"M3","MP",null,"AP2",null,null,null,"M3",null,"IND","IND","IND","IND",null,"M3","MP",null,null,null,null,null,"M3","MP",null,null,null,"MP",null,"M3","MP",null,null,{"$f":"COUNTIF(C17:AG17,Accueil!$B$8)","v":0},{"$f":"COUNTIF(C17:AG17,Accueil!$B$9)","v":0},{"$f":"COUNTIF(C17:AG17,Accueil!$B$10)","v":5},{"$f":"COUNTIF(C17:AG17,Accueil!$B$11)","v":5},{"$f":"COUNTIF(C17:AG17,Accueil!$B$12)","v":0},{"$f":"COUNTIF(C17:AG17,Accueil!$B$13)","v":1},{"$f":"COUNTIF(C17:AG17,Accueil!$B$14)","v":0},{"$f":"COUNTIF(C17:AG17,Accueil!$B$15)","v":0},{"$f":"COUNTIF(C17:AG17,Accueil!$B$16)","v":0},{"$f":"COUNTIF(C17:AG17,Accueil!$B$17)","v":0},{"$f":"COUNTIF(C17:AG17,Accueil!$B$18)","v":0},{"$f":"COUNTIF(C17:AG17,Accueil!$B$19)","v":0},{"$f":"COUNTIF(C17:AG17,Accueil!$B$20)","v":4},{"$f":"COUNTIF(C17:AG17,Accueil!$B$21)","v":0},{"$f":"COUNTIF(C17:AG17,Accueil!$B$22)","v":0},{"$f":"COUNTIF(C17:AG17,Accueil!$B$23)","v":0},{"$f":"COUNTIF(C17:AG17,Accueil!$B$24)","v":0},{"$f":"COUNTIF(C17:AG17,Accueil!$B$25)","v":0},{"$f":"COUNTIF(C17:AG17,Accueil!$B$26)","v":0},{"$f":"COUNTIF(C17:AG17,Accueil!$B$27)","v":0},{"$f":"COUNTIF(C17:AG17,Accueil!$B$28)","v":0},{"$f":"COUNTIF(C17:AG17,Accueil!$B$29)","v":0},{"$f":"COUNTIF(C17:AG17,Accueil!$B$30)","v":0},11,null,{"$f":"AI17 +Oct!BH17","v":0},{"$f":"AJ17+Oct!BI17","v":32},{"$f":"AK17+Oct!BJ17","v":10},{"$f":"AL17+Oct!BK17","v":58},{"$f":"AM17+Oct!BL17","v":4},{"$f":"AN17+Oct!BM17","v":7},{"$f":"AO17+Oct!BN17","v":0},{"$f":"AP17+Oct!BO17","v":0},{"$f":"AQ17+Oct!BP17","v":0},{"$f":"AR17+Oct!BQ17","v":0},{"$f":"AS17+Oct!BR17","v":5},{"$f":"AT17+Oct!BS17","v":0},{"$f":"AU17+Oct!BT17","v":34},{"$f":"AV17+Oct!BU17","v":0},{"$f":"AW17+Oct!BV17","v":0},{"$f":"AX17+Oct!BW17","v":19},{"$f":"AY17+Oct!BX17","v":0},{"$f":"AZ17+Oct!BY17","v":0},{"$f":"BA17+Oct!BZ17","v":6},{"$f":"BB17+Oct!CA17","v":0},{"$f":"BC17+Oct!CB17","v":0},{"$f":"BD17+Oct!CC17","v":0},{"$f":"BE17+Oct!CD17","v":0},{"$f":"BF17+Oct!CE17","v":116},null,{"$f":"Oct!CG17","v":0},19,-19,null,{"$f":"Oct!CK17","v":0},0,0,null,{"$f":"Oct!CO17","v":0},0,0,null,{"$f":"Oct!CS17","v":0},0,0]
[{"$f":"Oct!A18","v":0},null,null,null,null,null,null,null,null,null,null,null,null,null,null,null,null,null,null,null,null,null,null,null,null,null,null,null,null,null,null,null,null,null,{"$f":"COUNTIF(C18:AG18,Accueil!$B$8)","v":0},{"$f":"COUNTIF(C18:AG18,Accueil!$B$9)","v":0},{"$f":"COUNTIF(C18:AG18,Accueil!$B$10)","v":0},{"$f":"COUNTIF(C18:AG18,Accueil!$B$11)","v":0},{"$f":"COUNTIF(C18:AG18,Accueil!$B$12)","v":0},{"$f":"COUNTIF(C18:AG18,Accueil!$B$13)","v":0},{"$f":"COUNTIF(C18:AG18,Accueil!$B$14)","v":0},{"$f":"COUNTIF(C18:AG18,Accueil!$B$15)","v":0},{"$f":"COUNTIF(C18:AG18,Accueil!$B$16)","v":0},{"$f":"COUNTIF(C18:AG18,Accueil!$B$17)","v":0},{"$f":"COUNTIF(C18:AG18,Accueil!$B$18)","v":0},{"$f":"COUNTIF(C18:AG18,Accueil!$B$19)","v":0},{"$f":"COUNTIF(C18:AG18,Accueil!$B$20)","v":0},{"$f":"COUNTIF(C18:AG18,Accueil!$B$21)","v":0},{"$f":"COUNTIF(C18:AG18,Accueil!$B$22)","v":0},{"$f":"COUNTIF(C18:AG18,Accueil!$B$23)","v":0},{"$f":"COUNTIF(C18:AG18,Accueil!$B$24)","v":0},{"$f":"COUNTIF(C18:AG18,Accueil!$B$25)","v":0},{"$f":"COUNTIF(C18:AG18,Accueil!$B$26)","v":0},{"$f":"COUNTIF(C18:AG18,Accueil!$B$27)","v":0},{"$f":"COUNTIF(C18:AG18,Accueil!$B$28)","v":0},{"$f":"COUNTIF(C18:AG18,Accueil!$B$29)","v":0},{"$f":"COUNTIF(C18:AG18,Accueil!$B$30)","v":0},0,null,{"$f":"AI18 +Oct!BH18","v":0},{"$f":"AJ18+Oct!BI18","v":0},{"$f":"AK18+Oct!BJ18","v":0},{"$f":"AL18+Oct!BK18","v":1},{"$f":"AM18+Oct!BL18","v":0},{"$f":"AN18+Oct!BM18","v":0},{"$f":"AO18+Oct!BN18","v":0},{"$f":"AP18+Oct!BO18","v":0},{"$f":"AQ18+Oct!BP18","v":0},{"$f":"AR18+Oct!BQ18","v":0},{"$f":"AS18+Oct!BR18","v":47},{"$f":"AT18+Oct!BS18","v":0},{"$f":"AU18+Oct!BT18","v":0},{"$f":"AV18+Oct!BU18","v":0},{"$f":"AW18+Oct!BV18","v":0},{"$f":"AX18+Oct!BW18","v":0},{"$f":"AY18+Oct!BX18","v":0},{"$f":"AZ18+Oct!BY18","v":0},{"$f":"BA18+Oct!BZ18","v":0},{"$f":"BB18+Oct!CA18","v":0},{"$f":"BC18+Oct!CB18","v":0},{"$f":"BD18+Oct!CC18","v":0},{"$f":"BE18+Oct!CD18","v":0},{"$f":"BF18+Oct!CE18","v":48},null,{"$f":"Oct!CG18","v":0},0,0,null,{"$f":"Oct!CK18","v":0},0,0,null,{"$f":"Oct!CO18","v":0},0,0,null,{"$f":"Oct!CS18","v":0},0,0]
[{"$f":"Oct!A19","v":"Lisa"},null,"M2",null,"M1","MP",null,null,null,"M2",null,"M1","MP",null,null,null,"M2",null,"M1","MP",null,null,null,"M2",null,"M1","MP",null,null,null,"M2",null,null,null,{"$f":"COUNTIF(C19:AG19,Accueil!$B$8)","v":4},{"$f":"COUNTIF(C19:AG19,Accueil!$B$9)","v":5},{"$f":"COUNTIF(C19:AG19,Accueil!$B$10)","v":0},{"$f":"COUNTIF(C19:AG19,Accueil!$B$11)","v":4},{"$f":"COUNTIF(C19:AG19,Accueil!$B$12)","v":0},{"$f":"COUNTIF(C19:AG19,Accueil!$B$13)","v":0},{"$f":"COUNTIF(C19:AG19,Accueil!$B$14)","v":0},{"$f":"COUNTIF(C19:AG19,Accueil!$B$15)","v":0},{"$f":"COUNTIF(C19:AG19,Accueil!$B$16)","v":0},{"$f":"COUNTIF(C19:AG19,Accueil!$B$17)","v":0},{"$f":"COUNTIF(C19:AG19,Accueil!$B$18)","v":0},{"$f":"COUNTIF(C19:AG19,Accueil!$B$19)","v":0},{"$f":"COUNTIF(C19:AG19,Accueil!$B$20)","v":0},{"$f":"COUNTIF(C19:AG19,Accueil!$B$21)","v":0},{"$f":"COUNTIF(C19:AG19,Accueil!$B$22)","v":0},{"$f":"COUNTIF(C19:AG19,Accueil!$B$23)","v":0},{"$f":"COUNTIF(C19:AG19,Accueil!$B$24)","v":0},{"$f":"COUNTIF(C19:AG19,Accueil!$B$25)","v":0},{"$f":"COUNTIF(C19:AG19,Accueil!$B$26)","v":0},{"$f":"COUNTIF(C19:AG19,Accueil!$B$27)","v":0},{"$f":"COUNTIF(C19:AG19,Accueil!$B$28)","v":0},{"$f":"COUNTIF(C19:AG19,Accueil!$B$29)","v":0},{"$f":"COUNTIF(C19:AG19,Accueil!$B$30)","v":0},13,null,{"$f":"AI19 +Oct!BH19","v":30},{"$f":"AJ19+Oct!BI19","v":42},{"$f":"AK19+Oct!BJ19","v":9},{"$f":"AL19+Oct!BK19","v":53},{"$f":"AM19+Oct!BL19","v":4},{"$f":"AN19+Oct!BM19","v":3},{"$f":"AO19+Oct!BN19","v":0},{"$f":"AP19+Oct!BO19","v":0},{"$f":"AQ19+Oct!BP19","v":0},{"$f":"AR19+Oct!BQ19","v":0},{"$f":"AS19+Oct!BR19","v":0},{"$f":"AT19+Oct!BS19","v":0},{"$f":"AU19+Oct!BT19","v":2},{"$f":"AV19+Oct!BU19","v":0},{"$f":"AW19+Oct!BV19","v":0},{"$f":"AX19+Oct!BW19","v":32},{"$f":"AY19+Oct!BX19","v":0},{"$f":"AZ19+Oct!BY19","v":0},{"$f":"BA19+Oct!BZ19","v":2},{"$f":"BB19+Oct!CA19","v":0},{"$f":"BC19+Oct!CB19","v":0},{"$f":"BD19+Oct!CC19","v":0},{"$f":"BE19+Oct!CD19","v":0},{"$f":"BF19+Oct!CE19","v":141},null,{"$f":"Oct!CG19","v":0},32,-32,null,{"$f":"Oct!CK19","v":0},0,0,null,{"$f":"Oct!CO19","v":0},0,0,null,{"$f":"Oct!CS19","v":0},0,0]
[{"$f":"Oct!A20","v":0},null,null,null,null,null,null,null,null,null,null,null,null,null,null,null,null,null,null,null,null,null,null,null,null,null,null,null,null,null,null,null,null,null,{"$f":"COUNTIF(C20:AG20,Accueil!$B$8)","v":0},{"$f":"COUNTIF(C20:AG20,Accueil!$B$9)","v":0},{"$f":"COUNTIF(C20:AG20,Accueil!$B$10)","v":0},{"$f":"COUNTIF(C20:AG20,Accueil!$B$11)","v":0},{"$f":"COUNTIF(C20:AG20,Accueil!$B$12)","v":0},{"$f":"COUNTIF(C20:AG20,Accueil!$B$13)","v":0},{"$f":"COUNTIF(C20:AG20,Accueil!$B$14)","v":0},{"$f":"COUNTIF(C20:AG20,Accueil!$B$15)","v":0},{"$f":"COUNTIF(C20:AG20,Accueil!$B$16)","v":0},{"$f":"COUNTIF(C20:AG20,Accueil!$B$17)","v":0},{"$f":"COUNTIF(C20:AG20,Accueil!$B$18)","v":0},{"$f":"COUNTIF(C20:AG20,Accueil!$B$19)","v":0},{"$f":"COUNTIF(C20:AG20,Accueil!$B$20)","v":0},{"$f":"COUNTIF(C20:AG20,Accueil!$B$21)","v":0},{"$f":"COUNTIF(C20:AG20,Accueil!$B$22)","v":0},{"$f":"COUNTIF(C20:AG20,Accueil!$B$23)","v":0},{"$f":"COUNTIF(C20:AG20,Accueil!$B$24)","v":0},{"$f":"COUNTIF(C20:AG20,Accueil!$B$25)","v":0},{"$f":"COUNTIF(C20:AG20,Accueil!$B$26)","v":0},{"$f":"COUNTIF(C20:AG20,Accueil!$B$27)","v":0},{"$f":"COUNTIF(C20:AG20,Accueil!$B$28)","v":0},{"$f":"COUNTIF(C20:AG20,Accueil!$B$29)","v":0},{"$f":"COUNTIF(C20:AG20,Accueil!$B$30)","v":0},0,null,{"$f":"AI20 +Oct!BH20","v":0},{"$f":"AJ20+Oct!BI20","v":0},{"$f":"AK20+Oct!BJ20","v":0},{"$f":"AL20+Oct!BK20","v":0},{"$f":"AM20+Oct!BL20","v":0},{"$f":"AN20+Oct!BM20","v":0},{"$f":"AO20+Oct!BN20","v":0},{"$f":"AP20+Oct!BO20","v":0},{"$f":"AQ20+Oct!BP20","v":0},{"$f":"AR20+Oct!BQ20","v":0},{"$f":"AS20+Oct!BR20","v":1},{"$f":"AT20+Oct!BS20","v":0},{"$f":"AU20+Oct!BT20","v":0},{"$f":"AV20+Oct!BU20","v":0},{"$f":"AW20+Oct!BV20","v":0},{"$f":"AX20+Oct!BW20","v":0},{"$f":"AY20+Oct!BX20","v":0},{"$f":"AZ20+Oct!BY20","v":0},{"$f":"BA20+Oct!BZ20","v":0},{"$f":"BB20+Oct!CA20","v":0},{"$f":"BC20+Oct!CB20","v":0},{"$f":"BD20+Oct!CC20","v":0},{"$f":"BE20+Oct!CD20","v":0},{"$f":"BF20+Oct!CE20","v":1},null,{"$f":"Oct!CG20","v":0},0,0,null,{"$f":"Oct!CK20","v":0},0,0,null,{"$f":"Oct!CO20","v":0},0,0,null,{"$f":"Oct!CS20","v":0},0,0]
[{"$f":"Oct!A21","v":"Philip"},null,"M1",null,null,null,null,null,"MP","M1",null,null,null,null,"P1","MP","M1",null,null,null,null,null,"MP","M1",null,null,null,null,null,"MP","M1",null,null,null,{"$f":"COUNTIF(C21:AG21,Accueil!$B$8)","v":5},{"$f":"COUNTIF(C21:AG21,Accueil!$B$9)","v":0},{"$f":"COUNTIF(C21:AG21,Accueil!$B$10)","v":0},{"$f":"COUNTIF(C21:AG21,Accueil!$B$11)","v":4},{"$f":"COUNTIF(C21:AG21,Accueil!$B$12)","v":0},{"$f":"COUNTIF(C21:AG21,Accueil!$B$13)","v":0},{"$f":"COUNTIF(C21:AG21,Accueil!$B$14)","v":0},{"$f":"COUNTIF(C21:AG21,Accueil!$B$15)","v":1},{"$f":"COUNTIF(C21:AG21,Accueil!$B$16)","v":0},{"$f":"COUNTIF(C21:AG21,Accueil!$B$17)","v":0},{"$f":"COUNTIF(C21:AG21,Accueil!$B$18)","v":0},{"$f":"COUNTIF(C21:AG21,Accueil!$B$19)","v":0},{"$f":"COUNTIF(C21:AG21,Accueil!$B$20)","v":0},{"$f":"COUNTIF(C21:AG21,Accueil!$B$21)","v":0},{"$f":"COUNTIF(C21:AG21,Accueil!$B$22)","v":0},{"$f":"COUNTIF(C21:AG21,Accueil!$B$23)","v":0},{"$f":"COUNTIF(C21:AG21,Accueil!$B$24)","v":0},{"$f":"COUNTIF(C21:AG21,Accueil!$B$25)","v":0},{"$f":"COUNTIF(C21:AG21,Accueil!$B$26)","v":0},{"$f":"COUNTIF(C21:AG21,Accueil!$B$27)","v":0},{"$f":"COUNTIF(C21:AG21,Accueil!$B$28)","v":0},{"$f":"COUNTIF(C21:AG21,Accueil!$B$29)","v":0},{"$f":"COUNTIF(C21:AG21,Accueil!$B$30)","v":0},10,null,{"$f":"AI21 +Oct!BH21","v":41},{"$f":"AJ21+Oct!BI21","v":0},{"$f":"AK21+Oct!BJ21","v":0},{"$f":"AL21+Oct!BK21","v":57},{"$f":"AM21+Oct!BL21","v":5},{"$f":"AN21+Oct!BM21","v":1},{"$f":"AO21+Oct!BN21","v":0},{"$f":"AP21+Oct!BO21","v":1},{"$f":"AQ21+Oct!BP21","v":0},{"$f":"AR21+Oct!BQ21","v":0},{"$f":"AS21+Oct!BR21","v":0},{"$f":"AT21+Oct!BS21","v":0},{"$f":"AU21+Oct!BT21","v":0},{"$f":"AV21+Oct!BU21","v":0},{"$f":"AW21+Oct!BV21","v":0},{"$f":"AX21+Oct!BW21","v":40},{"$f":"AY21+Oct!BX21","v":0},{"$f":"AZ21+Oct!BY21","v":0},{"$f":"BA21+Oct!BZ21","v":0},{"$f":"BB21+Oct!CA21","v":0},{"$f":"BC21+Oct!CB21","v":0},{"$f":"BD21+Oct!CC21","v":0},{"$f":"BE21+Oct!CD21","v":0},{"$f":"BF21+Oct!CE21","v":105},null,{"$f":"Oct!CG21","v":0},40,-40,null,{"$f":"Oct!CK21","v":0},0,0,null,{"$f":"Oct!CO21","v":0},0,0,null,{"$f":"Oct!CS21","v":0},0,0]
[{"$f":"Oct!A22","v":0},null,null,null,null,null,null,null,null,null,null,null,null,null,null,null,null,null,null,null,null,null,null,null,null,null,null,null,null,null,null,null,null,null,{"$f":"COUNTIF(C22:AG22,Accueil!$B$8)","v":0},{"$f":"COUNTIF(C22:AG22,Accueil!$B$9)","v":0},{"$f":"COUNTIF(C22:AG22,Accueil!$B$10)","v":0},{"$f":"COUNTIF(C22:AG22,Accueil!$B$11)","v":0},{"$f":"COUNTIF(C22:AG22,Accueil!$B$12)","v":0},{"$f":"COUNTIF(C22:AG22,Accueil!$B$13)","v":0},{"$f":"COUNTIF(C22:AG22,Accueil!$B$14)","v":0},{"$f":"COUNTIF(C22:AG22,Accueil!$B$15)","v":0},{"$f":"COUNTIF(C22:AG22,Accueil!$B$16)","v":0},{"$f":"COUNTIF(C22:AG22,Accueil!$B$17)","v":0},{"$f":"COUNTIF(C22:AG22,Accueil!$B$18)","v":0},{"$f":"COUNTIF(C22:AG22,Accueil!$B$19)","v":0},{"$f":"COUNTIF(C22:AG22,Accueil!$B$20)","v":0},{"$f":"COUNTIF(C22:AG22,Accueil!$B$21)","v":0},{"$f":"COUNTIF(C22:AG22,Accueil!$B$22)","v":0},{"$f":"COUNTIF(C22:AG22,Accueil!$B$23)","v":0},{"$f":"COUNTIF(C22:AG22,Accueil!$B$24)","v":0},{"$f":"COUNTIF(C22:AG22,Accueil!$B$25)","v":0},{"$f":"COUNTIF(C22:AG22,Accueil!$B$26)","v":0},{"$f":"COUNTIF(C22:AG22,Accueil!$B$27)","v":0},{"$f":"COUNTIF(C22:AG22,Accueil!$B$28)","v":0},{"$f":"COUNTIF(C22:AG22,Accueil!$B$29)","v":0},{"$f":"COUNTIF(C22:AG22,Accueil!$B$30)","v":0},0,null,{"$f":"AI22 +Oct!BH22","v":0},{"$f":"AJ22+Oct!BI22","v":0},{"$f":"AK22+Oct!BJ22","v":0},{"$f":"AL22+Oct!BK22","v":0},{"$f":"AM22+Oct!BL22","v":0},{"$f":"AN22+Oct!BM22","v":0},{"$f":"AO22+Oct!BN22","v":0},{"$f":"AP22+Oct!BO22","v":0},{"$f":"AQ22+Oct!BP22","v":0},{"$f":"AR22+Oct!BQ22","v":8},{"$f":"AS22+Oct!BR22","v":3},{"$f":"AT22+Oct!BS22","v":0},{"$f":"AU22+Oct!BT22","v":0},{"$f":"AV22+Oct!BU22","v":0},{"$f":"AW22+Oct!BV22","v":0},{"$f":"AX22+Oct!BW22","v":0},{"$f":"AY22+Oct!BX22","v":0},{"$f":"AZ22+Oct!BY22","v":0},{"$f":"BA22+Oct!BZ22","v":0},{"$f":"BB22+Oct!CA22","v":0},{"$f":"BC22+Oct!CB22","v":0},{"$f":"BD22+Oct!CC22","v":0},{"$f":"BE22+Oct!CD22","v":0},{"$f":"BF22+Oct!CE22","v":11},null,{"$f":"Oct!CG22","v":0},0,0,null,{"$f":"Oct!CK22","v":0},0,0,null,{"$f":"Oct!CO22","v":0},0,0,null,{"$f":"Oct!CS22","v":0},0,0]
[{"$f":"Oct!A23","v":"Dania"},null,null,null,null,null,null,null,null,null,null,null,null,null,null,null,null,null,null,null,null,null,null,null,null,null,null,null,null,null,null,null,null,null,{"$f":"COUNTIF(C23:AG23,Accueil!$B$8)","v":0},{"$f":"COUNTIF(C23:AG23,Accueil!$B$9)","v":0},{"$f":"COUNTIF(C23:AG23,Accueil!$B$10)","v":0},{"$f":"COUNTIF(C23:AG23,Accueil!$B$11)","v":0},{"$f":"COUNTIF(C23:AG23,Accueil!$B$12)","v":0},{"$f":"COUNTIF(C23:AG23,Accueil!$B$13)","v":0},{"$f":"COUNTIF(C23:AG23,Accueil!$B$14)","v":0},{"$f":"COUNTIF(C23:AG23,Accueil!$B$15)","v":0},{"$f":"COUNTIF(C23:AG23,Accueil!$B$16)","v":0},{"$f":"COUNTIF(C23:AG23,Accueil!$B$17)","v":0},{"$f":"COUNTIF(C23:AG23,Accueil!$B$18)","v":0},{"$f":"COUNTIF(C23:AG23,Accueil!$B$19)","v":0},{"$f":"COUNTIF(C23:AG23,Accueil!$B$20)","v":0},{"$f":"COUNTIF(C23:AG23,Accueil!$B$21)","v":0},{"$f":"COUNTIF(C23:AG23,Accueil!$B$22)","v":0},{"$f":"COUNTIF(C23:AG23,Accueil!$B$23)","v":0},{"$f":"COUNTIF(C23:AG23,Accueil!$B$24)","v":0},{"$f":"COUNTIF(C23:AG23,Accueil!$B$25)","v":0},{"$f":"COUNTIF(C23:AG23,Accueil!$B$26)","v":0},{"$f":"COUNTIF(C23:AG23,Accueil!$B$27)","v":0},{"$f":"COUNTIF(C23:AG23,Accueil!$B$28)","v":0},{"$f":"COUNTIF(C23:AG23,Accueil!$B$29)","v":0},{"$f":"COUNTIF(C23:AG23,Accueil!$B$30)","v":0},0,null,{"$f":"AI23 +Oct!BH23","v":0},{"$f":"AJ23+Oct!BI23","v":7},{"$f":"AK23+Oct!BJ23","v":17},{"$f":"AL23+Oct!BK23","v":0},{"$f":"AM23+Oct!BL23","v":0},{"$f":"AN23+Oct!BM23","v":0},{"$f":"AO23+Oct!BN23","v":0},{"$f":"AP23+Oct!BO23","v":0},{"$f":"AQ23+Oct!BP23","v":0},{"$f":"AR23+Oct!BQ23","v":0},{"$f":"AS23+Oct!BR23","v":0},{"$f":"AT23+Oct!BS23","v":0},{"$f":"AU23+Oct!BT23","v":0},{"$f":"AV23+Oct!BU23","v":0},{"$f":"AW23+Oct!BV23","v":0},{"$f":"AX23+Oct!BW23","v":0},{"$f":"AY23+Oct!BX23","v":0},{"$f":"AZ23+Oct!BY23","v":0},{"$f":"BA23+Oct!BZ23","v":2},{"$f":"BB23+Oct!CA23","v":10},{"$f":"BC23+Oct!CB23","v":0},{"$f":"BD23+Oct!CC23","v":0},{"$f":"BE23+Oct!CD23","v":0},{"$f":"BF23+Oct!CE23","v":24},null,{"$f":"Oct!CG23","v":0},0,0,null,{"$f":"Oct!CK23","v":0},0,0,null,{"$f":"Oct!CO23","v":0},0,0,null,{"$f":"Oct!CS23","v":0},0,0]
[{"$f":"Oct!A24","v":0},null,null,null,null,null,null,null,null,null,null,null,null,null,null,null,null,null,null,null,null,null,null,null,null,null,null,null,null,null,null,null,null,null,{"$f":"COUNTIF(C24:AG24,Accueil!$B$8)","v":0},{"$f":"COUNTIF(C24:AG24,Accueil!$B$9)","v":0},{"$f":"COUNTIF(C24:AG24,Accueil!$B$10)","v":0},{"$f":"COUNTIF(C24:AG24,Accueil!$B$11)","v":0},{"$f":"COUNTIF(C24:AG24,Accueil!$B$12)","v":0},{"$f":"COUNTIF(C24:AG24,Accueil!$B$13)","v":0},{"$f":"COUNTIF(C24:AG24,Accueil!$B$14)","v":0},{"$f":"COUNTIF(C24:AG24,Accueil!$B$15)","v":0},{"$f":"COUNTIF(C24:AG24,Accueil!$B$16)","v":0},{"$f":"COUNTIF(C24:AG24,Accueil!$B$17)","v":0},{"$f":"COUNTIF(C24:AG24,Accueil!$B$18)","v":0},{"$f":"COUNTIF(C24:AG24,Accueil!$B$19)","v":0},{"$f":"COUNTIF(C24:AG24,Accueil!$B$20)","v":0},{"$f":"COUNTIF(C24:AG24,Accueil!$B$21)","v":0},{"$f":"COUNTIF(C24:AG24,Accueil!$B$22)","v":0},{"$f":"COUNTIF(C24:AG24,Accueil!$B$23)","v":0},{"$f":"COUNTIF(C24:AG24,Accueil!$B$24)","v":0},{"$f":"COUNTIF(C24:AG24,Accueil!$B$25)","v":0},{"$f":"COUNTIF(C24:AG24,Accueil!$B$26)","v":0},{"$f":"COUNTIF(C24:AG24,Accueil!$B$27)","v":0},{"$f":"COUNTIF(C24:AG24,Accueil!$B$28)","v":0},{"$f":"COUNTIF(C24:AG24,Accueil!$B$29)","v":0},{"$f":"COUNTIF(C24:AG24,Accueil!$B$30)","v":0},0,null,{"$f":"AI24 +Oct!BH24","v":0},{"$f":"AJ24+Oct!BI24","v":0},{"$f":"AK24+Oct!BJ24","v":0},{"$f":"AL24+Oct!BK24","v":16},{"$f":"AM24+Oct!BL24","v":0},{"$f":"AN24+Oct!BM24","v":0},{"$f":"AO24+Oct!BN24","v":0},{"$f":"AP24+Oct!BO24","v":0},{"$f":"AQ24+Oct!BP24","v":0},{"$f":"AR24+Oct!BQ24","v":0},{"$f":"AS24+Oct!BR24","v":0},{"$f":"AT24+Oct!BS24","v":0},{"$f":"AU24+Oct!BT24","v":0},{"$f":"AV24+Oct!BU24","v":0},{"$f":"AW24+Oct!BV24","v":0},{"$f":"AX24+Oct!BW24","v":0},{"$f":"AY24+Oct!BX24","v":0},{"$f":"AZ24+Oct!BY24","v":0},{"$f":"BA24+Oct!BZ24","v":0},{"$f":"BB24+Oct!CA24","v":0},{"$f":"BC24+Oct!CB24","v":0},{"$f":"BD24+Oct!CC24","v":0},{"$f":"BE24+Oct!CD24","v":0},{"$f":"BF24+Oct!CE24","v":16},null,{"$f":"Oct!CG24","v":0},0,0,null,{"$f":"Oct!CK24","v":0},0,0,null,{"$f":"Oct!CO24","v":0},0,0,null,{"$f":"Oct!CS24","v":0},0,0]
[{"$f":"Oct!A25","v":"Claudia"},null,null,null,null,null,null,null,null,null,null,null,null,null,null,null,null,null,null,null,null,null,null,null,null,null,null,null,null,null,null,null,null,null,{"$f":"COUNTIF(C25:AG25,Accueil!$B$8)","v":0},{"$f":"COUNTIF(C25:AG25,Accueil!$B$9)","v":0},{"$f":"COUNTIF(C25:AG25,Accueil!$B$10)","v":0},{"$f":"COUNTIF(C25:AG25,Accueil!$B$11)","v":0},{"$f":"COUNTIF(C25:AG25,Accueil!$B$12)","v":0},{"$f":"COUNTIF(C25:AG25,Accueil!$B$13)","v":0},{"$f":"COUNTIF(C25:AG25,Accueil!$B$14)","v":0},{"$f":"COUNTIF(C25:AG25,Accueil!$B$15)","v":0},{"$f":"COUNTIF(C25:AG25,Accueil!$B$16)","v":0},{"$f":"COUNTIF(C25:AG25,Accueil!$B$17)","v":0},{"$f":"COUNTIF(C25:AG25,Accueil!$B$18)","v":0},{"$f":"COUNTIF(C25:AG25,Accueil!$B$19)","v":0},{"$f":"COUNTIF(C25:AG25,Accueil!$B$20)","v":0},{"$f":"COUNTIF(C25:AG25,Accueil!$B$21)","v":0},{"$f":"COUNTIF(C25:AG25,Accueil!$B$22)","v":0},{"$f":"COUNTIF(C25:AG25,Accueil!$B$23)","v":0},{"$f":"COUNTIF(C25:AG25,Accueil!$B$24)","v":0},{"$f":"COUNTIF(C25:AG25,Accueil!$B$25)","v":0},{"$f":"COUNTIF(C25:AG25,Accueil!$B$26)","v":0},{"$f":"COUNTIF(C25:AG25,Accueil!$B$27)","v":0},{"$f":"COUNTIF(C25:AG25,Accueil!$B$28)","v":0},{"$f":"COUNTIF(C25:AG25,Accueil!$B$29)","v":0},{"$f":"COUNTIF(C25:AG25,Accueil!$B$30)","v":0},0,null,{"$f":"AI25 +Oct!BH25","v":1},{"$f":"AJ25+Oct!BI25","v":3},{"$f":"AK25+Oct!BJ25","v":1},{"$f":"AL25+Oct!BK25","v":0},{"$f":"AM25+Oct!BL25","v":0},{"$f":"AN25+Oct!BM25","v":0},{"$f":"AO25+Oct!BN25","v":0},{"$f":"AP25+Oct!BO25","v":0},{"$f":"AQ25+Oct!BP25","v":0},{"$f":"AR25+Oct!BQ25","v":0},{"$f":"AS25+Oct!BR25","v":0},{"$f":"AT25+Oct!BS25","v":0},{"$f":"AU25+Oct!BT25","v":0},{"$f":"AV25+Oct!BU25","v":0},{"$f":"AW25+Oct!BV25","v":0},{"$f":"AX25+Oct!BW25","v":9},{"$f":"AY25+Oct!BX25","v":0},{"$f":"AZ25+Oct!BY25","v":0},{"$f":"BA25+Oct!BZ25","v":0},{"$f":"BB25+Oct!CA25","v":0},{"$f":"BC25+Oct!CB25","v":0},{"$f":"BD25+Oct!CC25","v":0},{"$f":"BE25+Oct!CD25","v":0},{"$f":"BF25+Oct!CE25","v":5},null,{"$f":"Oct!CG25","v":0},9,-9,null,{"$f":"Oct!CK25","v":0},0,0,null,{"$f":"Oct!CO25","v":0},0,0,null,{"$f":"Oct!CS25","v":0},0,0]
[{"$f":"Oct!A26","v":"FRPI"},null,null,null,null,null,null,null,null,null,null,null,null,null,null,null,null,null,null,null,null,null,null,null,null,null,null,null,null,null,null,null,null,null,{"$f":"COUNTIF(C26:AG26,Accueil!$B$8)","v":0},{"$f":"COUNTIF(C26:AG26,Accueil!$B$9)","v":0},{"$f":"COUNTIF(C26:AG26,Accueil!$B$10)","v":0},{"$f":"COUNTIF(C26:AG26,Accueil!$B$11)","v":0},{"$f":"COUNTIF(C26:AG26,Accueil!$B$12)","v":0},{"$f":"COUNTIF(C26:AG26,Accueil!$B$13)","v":0},{"$f":"COUNTIF(C26:AG26,Accueil!$B$14)","v":0},{"$f":"COUNTIF(C26:AG26,Accueil!$B$15)","v":0},{"$f":"COUNTIF(C26:AG26,Accueil!$B$16)","v":0},{"$f":"COUNTIF(C26:AG26,Accueil!$B$17)","v":0},{"$f":"COUNTIF(C26:AG26,Accueil!$B$18)","v":0},{"$f":"COUNTIF(C26:AG26,Accueil!$B$19)","v":0},{"$f":"COUNTIF(C26:AG26,Accueil!$B$20)","v":0},{"$f":"COUNTIF(C26:AG26,Accueil!$B$21)","v":0},{"$f":"COUNTIF(C26:AG26,Accueil!$B$22)","v":0},{"$f":"COUNTIF(C26:AG26,Accueil!$B$23)","v":0},{"$f":"COUNTIF(C26:AG26,Accueil!$B$24)","v":0},{"$f":"COUNTIF(C26:AG26,Accueil!$B$25)","v":0},{"$f":"COUNTIF(C26:AG26,Accueil!$B$26)","v":0},{"$f":"COUNTIF(C26:AG26,Accueil!$B$27)","v":0},{"$f":"COUNTIF(C26:AG26,Accueil!$B$28)","v":0},{"$f":"COUNTIF(C26:AG26,Accueil!$B$29)","v":0},{"$f":"COUNTIF(C26:AG26,Accueil!$B$30)","v":0},0,null,{"$f":"AI26 +Oct!BH26","v":0},{"$f":"AJ26+Oct!BI26","v":0},{"$f":"AK26+Oct!BJ26","v":0},{"$f":"AL26+Oct!BK26","v":0},{"$f":"AM26+Oct!BL26","v":0},{"$f":"AN26+Oct!BM26","v":0},{"$f":"AO26+Oct!BN26","v":0},{"$f":"AP26+Oct!BO26","v":0},{"$f":"AQ26+Oct!BP26","v":0},{"$f":"AR26+Oct!BQ26","v":2},{"$f":"AS26+Oct!BR26","v":9},{"$f":"AT26+Oct!BS26","v":0},{"$f":"AU26+Oct!BT26","v":0},{"$f":"AV26+Oct!BU26","v":0},{"$f":"AW26+Oct!BV26","v":0},{"$f":"AX26+Oct!BW26","v":5},{"$f":"AY26+Oct!BX26","v":0},{"$f":"AZ26+Oct!BY26","v":0},{"$f":"BA26+Oct!BZ26","v":0},{"$f":"BB26+Oct!CA26","v":0},{"$f":"BC26+Oct!CB26","v":0},{"$f":"BD26+Oct!CC26","v":0},{"$f":"BE26+Oct!CD26","v":0},{"$f":"BF26+Oct!CE26","v":11},null,{"$f":"Oct!CG26","v":0},5,-5,null,{"$f":"Oct!CK26","v":0},0,0,null,{"$f":"Oct!CO26","v":0},0,0,null,{"$f":"Oct!CS26","v":0},0,0]
[{"$f":"Oct!A27","v":0},null,null,null,null,null,null,null,null,null,null,null,null,null,null,null,null,null,null,null,null,null,null,null,null,null,null,null,null,null,null,null,null,null,{"$f":"COUNTIF(C27:AG27,Accueil!$B$8)","v":0},{"$f":"COUNTIF(C27:AG27,Accueil!$B$9)","v":0},{"$f":"COUNTIF(C27:AG27,Accueil!$B$10)","v":0},{"$f":"COUNTIF(C27:AG27,Accueil!$B$11)","v":0},{"$f":"COUNTIF(C27:AG27,Accueil!$B$12)","v":0},{"$f":"COUNTIF(C27:AG27,Accueil!$B$13)","v":0},{"$f":"COUNTIF(C27:AG27,Accueil!$B$14)","v":0},{"$f":"COUNTIF(C27:AG27,Accueil!$B$15)","v":0},{"$f":"COUNTIF(C27:AG27,Accueil!$B$16)","v":0},{"$f":"COUNTIF(C27:AG27,Accueil!$B$17)","v":0},{"$f":"COUNTIF(C27:AG27,Accueil!$B$18)","v":0},{"$f":"COUNTIF(C27:AG27,Accueil!$B$19)","v":0},{"$f":"COUNTIF(C27:AG27,Accueil!$B$20)","v":0},{"$f":"COUNTIF(C27:AG27,Accueil!$B$21)","v":0},{"$f":"COUNTIF(C27:AG27,Accueil!$B$22)","v":0},{"$f":"COUNTIF(C27:AG27,Accueil!$B$23)","v":0},{"$f":"COUNTIF(C27:AG27,Accueil!$B$24)","v":0},{"$f":"COUNTIF(C27:AG27,Accueil!$B$25)","v":0},{"$f":"COUNTIF(C27:AG27,Accueil!$B$26)","v":0},{"$f":"COUNTIF(C27:AG27,Accueil!$B$27)","v":0},{"$f":"COUNTIF(C27:AG27,Accueil!$B$28)","v":0},{"$f":"COUNTIF(C27:AG27,Accueil!$B$29)","v":0},{"$f":"COUNTIF(C27:AG27,Accueil!$B$30)","v":0},0,null,{"$f":"AI27 +Oct!BH27","v":0},{"$f":"AJ27+Oct!BI27","v":0},{"$f":"AK27+Oct!BJ27","v":{"$error":"#VALUE!"}},{"$f":"AL27+Oct!BK27","v":0},{"$f":"AM27+Oct!BL27","v":0},{"$f":"AN27+Oct!BM27","v":0},{"$f":"AO27+Oct!BN27","v":0},{"$f":"AP27+Oct!BO27","v":{"$error":"#VALUE!"}},{"$f":"AQ27+Oct!BP27","v":0},{"$f":"AR27+Oct!BQ27","v":0},{"$f":"AS27+Oct!BR27","v":0},{"$f":"AT27+Oct!BS27","v":0},{"$f":"AU27+Oct!BT27","v":0},{"$f":"AV27+Oct!BU27","v":0},{"$f":"AW27+Oct!BV27","v":0},{"$f":"AX27+Oct!BW27","v":0},{"$f":"AY27+Oct!BX27","v":0},{"$f":"AZ27+Oct!BY27","v":0},{"$f":"BA27+Oct!BZ27","v":0},{"$f":"BB27+Oct!CA27","v":0},{"$f":"BC27+Oct!CB27","v":0},{"$f":"BD27+Oct!CC27","v":0},{"$f":"BE27+Oct!CD27","v":0},{"$f":"BF27+Oct!CE27","v":0},null,{"$f":"Oct!CG27","v":0},0,0,null,{"$f":"Oct!CK27","v":0},0,0,null,{"$f":"Oct!CO27","v":0},0,0,null,{"$f":"Oct!CS27","v":0},0,0]
[{"$f":"Oct!A28","v":"Frédéric"},null,null,null,null,null,null,null,null,null,null,null,null,null,null,null,null,null,null,null,null,null,null,null,null,null,null,null,null,null,null,null,null,null,{"$f":"COUNTIF(C28:AG28,Accueil!$B$8)","v":0},{"$f":"COUNTIF(C28:AG28,Accueil!$B$9)","v":0},{"$f":"COUNTIF(C28:AG28,Accueil!$B$10)","v":0},{"$f":"COUNTIF(C28:AG28,Accueil!$B$11)","v":0},{"$f":"COUNTIF(C28:AG28,Accueil!$B$12)","v":0},{"$f":"COUNTIF(C28:AG28,Accueil!$B$13)","v":0},{"$f":"COUNTIF(C28:AG28,Accueil!$B$14)","v":0},{"$f":"COUNTIF(C28:AG28,Accueil!$B$15)","v":0},{"$f":"COUNTIF(C28:AG28,Accueil!$B$16)","v":0},{"$f":"COUNTIF(C28:AG28,Accueil!$B$17)","v":0},{"$f":"COUNTIF(C28:AG28,Accueil!$B$18)","v":0},{"$f":"COUNTIF(C28:AG28,Accueil!$B$19)","v":0},{"$f":"COUNTIF(C28:AG28,Accueil!$B$20)","v":0},{"$f":"COUNTIF(C28:AG28,Accueil!$B$21)","v":0},{"$f":"COUNTIF(C28:AG28,Accueil!$B$22)","v":0},{"$f":"COUNTIF(C28:AG28,Accueil!$B$23)","v":0},{"$f":"COUNTIF(C28:AG28,Accueil!$B$24)","v":0},{"$f":"COUNTIF(C28:AG28,Accueil!$B$25)","v":0},{"$f":"COUNTIF(C28:AG28,Accueil!$B$26)","v":0},{"$f":"COUNTIF(C28:AG28,Accueil!$B$27)","v":0},{"$f":"COUNTIF(C28:AG28,Accueil!$B$28)","v":0},{"$f":"COUNTIF(C28:AG28,Accueil!$B$29)","v":0},{"$f":"COUNTIF(C28:AG28,Accueil!$B$30)","v":0},0,null,{"$f":"AI28 +Oct!BH28","v":{"$error":"#VALUE!"}},{"$f":"AJ28+Oct!BI28","v":{"$error":"#VALUE!"}},{"$f":"AK28+Oct!BJ28","v":0},{"$f":"AL28+Oct!BK28","v":{"$error":"#VALUE!"}},{"$f":"AM28+Oct!BL28","v":0},{"$f":"AN28+Oct!BM28","v":{"$error":"#VALUE!"}},{"$f":"AO28+Oct!BN28","v":{"$error":"#VALUE!"}},{"$f":"AP28+Oct!BO28","v":0},{"$f":"AQ28+Oct!BP28","v":27},{"$f":"AR28+Oct!BQ28","v":0},{"$f":"AS28+Oct!BR28","v":0},{"$f":"AT28+Oct!BS28","v":0},{"$f":"AU28+Oct!BT28","v":0},{"$f":"AV28+Oct!BU28","v":0},{"$f":"AW28+Oct!BV28","v":0},{"$f":"AX28+Oct!BW28","v":0},{"$f":"AY28+Oct!BX28","v":0},{"$f":"AZ28+Oct!BY28","v":0},{"$f":"BA28+Oct!BZ28","v":0},{"$f":"BB28+Oct!CA28","v":0},{"$f":"BC28+Oct!CB28","v":0},{"$f":"BD28+Oct!CC28","v":0},{"$f":"BE28+Oct!CD28","v":0},{"$f":"BF28+Oct!CE28","v":27},null,{"$f":"Oct!CG28","v":0},0,0,null,{"$f":"Oct!CK28","v":0},0,0,null,{"$f":"Oct!CO28","v":0},0,0,null,{"$f":"Oct!CS28","v":0},0,0]
[{"$f":"Oct!A29","v":"Ibrahim"},null,null,null,null,null,null,null,null,null,null,null,null,null,null,null,null,null,null,null,null,null,null,null,null,null,null,null,null,null,null,null,null,null,{"$f":"COUNTIF(C29:AG29,Accueil!$B$8)","v":0},{"$f":"COUNTIF(C29:AG29,Accueil!$B$9)","v":0},{"$f":"COUNTIF(C29:AG29,Accueil!$B$10)","v":0},{"$f":"COUNTIF(C29:AG29,Accueil!$B$11)","v":0},{"$f":"COUNTIF(C29:AG29,Accueil!$B$12)","v":0},{"$f":"COUNTIF(C29:AG29,Accueil!$B$13)","v":0},{"$f":"COUNTIF(C29:AG29,Accueil!$B$14)","v":0},{"$f":"COUNTIF(C29:AG29,Accueil!$B$15)","v":0},{"$f":"COUNTIF(C29:AG29,Accueil!$B$16)","v":0},{"$f":"COUNTIF(C29:AG29,Accueil!$B$17)","v":0},{"$f":"COUNTIF(C29:AG29,Accueil!$B$18)","v":0},{"$f":"COUNTIF(C29:AG29,Accueil!$B$19)","v":0},{"$f":"COUNTIF(C29:AG29,Accueil!$B$20)","v":0},{"$f":"COUNTIF(C29:AG29,Accueil!$B$21)","v":0},{"$f":"COUNTIF(C29:AG29,Accueil!$B$22)","v":0},{"$f":"COUNTIF(C29:AG29,Accueil!$B$23)","v":0},{"$f":"COUNTIF(C29:AG29,Accueil!$B$24)","v":0},{"$f":"COUNTIF(C29:AG29,Accueil!$B$25)","v":0},{"$f":"COUNTIF(C29:AG29,Accueil!$B$26)","v":0},{"$f":"COUNTIF(C29:AG29,Accueil!$B$27)","v":0},{"$f":"COUNTIF(C29:AG29,Accueil!$B$28)","v":0},{"$f":"COUNTIF(C29:AG29,Accueil!$B$29)","v":0},{"$f":"COUNTIF(C29:AG29,Accueil!$B$30)","v":0},0,null,{"$f":"AI29 +Oct!BH29","v":0},{"$f":"AJ29+Oct!BI29","v":0},{"$f":"AK29+Oct!BJ29","v":0},{"$f":"AL29+Oct!BK29","v":0},{"$f":"AM29+Oct!BL29","v":{"$error":"#VALUE!"}},{"$f":"AN29+Oct!BM29","v":0},{"$f":"AO29+Oct!BN29","v":0},{"$f":"AP29+Oct!BO29","v":0},{"$f":"AQ29+Oct!BP29","v":59},{"$f":"AR29+Oct!BQ29","v":0},{"$f":"AS29+Oct!BR29","v":0},{"$f":"AT29+Oct!BS29","v":0},{"$f":"AU29+Oct!BT29","v":0},{"$f":"AV29+Oct!BU29","v":0},{"$f":"AW29+Oct!BV29","v":0},{"$f":"AX29+Oct!BW29","v":5},{"$f":"AY29+Oct!BX29","v":0},{"$f":"AZ29+Oct!BY29","v":0},{"$f":"BA29+Oct!BZ29","v":0},{"$f":"BB29+Oct!CA29","v":0},{"$f":"BC29+Oct!CB29","v":0},{"$f":"BD29+Oct!CC29","v":0},{"$f":"BE29+Oct!CD29","v":0},{"$f":"BF29+Oct!CE29","v":59},null,{"$f":"Oct!CG29","v":0},5,-5,null,{"$f":"Oct!CK29","v":0},0,0,null,{"$f":"Oct!CO29","v":0},0,0,null,{"$f":"Oct!CS29","v":0},0,0]
[{"$f":"Oct!A30","v":"Julien"},null,null,null,null,null,null,null,null,null,null,null,null,null,null,null,null,null,null,null,null,null,null,null,null,null,null,null,null,null,null,null,null,null,{"$f":"COUNTIF(C30:AG30,Accueil!$B$8)","v":0},{"$f":"COUNTIF(C30:AG30,Accueil!$B$9)","v":0},{"$f":"COUNTIF(C30:AG30,Accueil!$B$10)","v":0},{"$f":"COUNTIF(C30:AG30,Accueil!$B$11)","v":0},{"$f":"COUNTIF(C30:AG30,Accueil!$B$12)","v":0},{"$f":"COUNTIF(C30:AG30,Accueil!$B$13)","v":0},{"$f":"COUNTIF(C30:AG30,Accueil!$B$14)","v":0},{"$f":"COUNTIF(C30:AG30,Accueil!$B$15)","v":0},{"$f":"COUNTIF(C30:AG30,Accueil!$B$16)","v":0},{"$f":"COUNTIF(C30:AG30,Accueil!$B$17)","v":0},{"$f":"COUNTIF(C30:AG30,Accueil!$B$18)","v":0},{"$f":"COUNTIF(C30:AG30,Accueil!$B$19)","v":0},{"$f":"COUNTIF(C30:AG30,Accueil!$B$20)","v":0},{"$f":"COUNTIF(C30:AG30,Accueil!$B$21)","v":0},{"$f":"COUNTIF(C30:AG30,Accueil!$B$22)","v":0},{"$f":"COUNTIF(C30:AG30,Accueil!$B$23)","v":0},{"$f":"COUNTIF(C30:AG30,Accueil!$B$24)","v":0},{"$f":"COUNTIF(C30:AG30,Accueil!$B$25)","v":0},{"$f":"COUNTIF(C30:AG30,Accueil!$B$26)","v":0},{"$f":"COUNTIF(C30:AG30,Accueil!$B$27)","v":0},{"$f":"COUNTIF(C30:AG30,Accueil!$B$28)","v":0},{"$f":"COUNTIF(C30:AG30,Accueil!$B$29)","v":0},{"$f":"COUNTIF(C30:AG30,Accueil!$B$30)","v":0},0,null,{"$f":"AI30 +Oct!BH30","v":0},{"$f":"AJ30+Oct!BI30","v":{"$error":"#VALUE!"}},{"$f":"AK30+Oct!BJ30","v":{"$error":"#VALUE!"}},{"$f":"AL30+Oct!BK30","v":{"$error":"#VALUE!"}},{"$f":"AM30+Oct!BL30","v":{"$error":"#VALUE!"}},{"$f":"AN30+Oct!BM30","v":{"$error":"#VALUE!"}},{"$f":"AO30+Oct!BN30","v":0},{"$f":"AP30+Oct!BO30","v":0},{"$f":"AQ30+Oct!BP30","v":34},{"$f":"AR30+Oct!BQ30","v":0},{"$f":"AS30+Oct!BR30","v":0},{"$f":"AT30+Oct!BS30","v":0},{"$f":"AU30+Oct!BT30","v":0},{"$f":"AV30+Oct!BU30","v":0},{"$f":"AW30+Oct!BV30","v":0},{"$f":"AX30+Oct!BW30","v":6},{"$f":"AY30+Oct!BX30","v":0},{"$f":"AZ30+Oct!BY30","v":0},{"$f":"BA30+Oct!BZ30","v":0},{"$f":"BB30+Oct!CA30","v":0},{"$f":"BC30+Oct!CB30","v":0},{"$f":"BD30+Oct!CC30","v":0},{"$f":"BE30+Oct!CD30","v":0},{"$f":"BF30+Oct!CE30","v":34},null,{"$f":"Oct!CG30","v":0},6,-6,null,{"$f":"Oct!CK30","v":0},0,0,null,{"$f":"Oct!CO30","v":0},0,0,null,{"$f":"Oct!CS30","v":0},0,0]
[{"$f":"Oct!A31","v":"Mario"},null,null,null,null,null,null,null,null,null,null,null,null,null,null,null,null,null,null,null,null,null,null,null,null,null,null,null,null,null,null,null,null,null,{"$f":"COUNTIF(C31:AG31,Accueil!$B$8)","v":0},{"$f":"COUNTIF(C31:AG31,Accueil!$B$9)","v":0},{"$f":"COUNTIF(C31:AG31,Accueil!$B$10)","v":0},{"$f":"COUNTIF(C31:AG31,Accueil!$B$11)","v":0},{"$f":"COUNTIF(C31:AG31,Accueil!$B$12)","v":0},{"$f":"COUNTIF(C31:AG31,Accueil!$B$13)","v":0},{"$f":"COUNTIF(C31:AG31,Accueil!$B$14)","v":0},{"$f":"COUNTIF(C31:AG31,Accueil!$B$15)","v":0},{"$f":"COUNTIF(C31:AG31,Accueil!$B$16)","v":0},{"$f":"COUNTIF(C31:AG31,Accueil!$B$17)","v":0},{"$f":"COUNTIF(C31:AG31,Accueil!$B$18)","v":0},{"$f":"COUNTIF(C31:AG31,Accueil!$B$19)","v":0},{"$f":"COUNTIF(C31:AG31,Accueil!$B$20)","v":0},{"$f":"COUNTIF(C31:AG31,Accueil!$B$21)","v":0},{"$f":"COUNTIF(C31:AG31,Accueil!$B$22)","v":0},{"$f":"COUNTIF(C31:AG31,Accueil!$B$23)","v":0},{"$f":"COUNTIF(C31:AG31,Accueil!$B$24)","v":0},{"$f":"COUNTIF(C31:AG31,Accueil!$B$25)","v":0},{"$f":"COUNTIF(C31:AG31,Accueil!$B$26)","v":0},{"$f":"COUNTIF(C31:AG31,Accueil!$B$27)","v":0},{"$f":"COUNTIF(C31:AG31,Accueil!$B$28)","v":0},{"$f":"COUNTIF(C31:AG31,Accueil!$B$29)","v":0},{"$f":"COUNTIF(C31:AG31,Accueil!$B$30)","v":0},0,null,{"$f":"AI31 +Oct!BH31","v":0},{"$f":"AJ31+Oct!BI31","v":0},{"$f":"AK31+Oct!BJ31","v":0},{"$f":"AL31+Oct!BK31","v":0},{"$f":"AM31+Oct!BL31","v":0},{"$f":"AN31+Oct!BM31","v":0},{"$f":"AO31+Oct!BN31","v":0},{"$f":"AP31+Oct!BO31","v":0},{"$f":"AQ31+Oct!BP31","v":16},{"$f":"AR31+Oct!BQ31","v":0},{"$f":"AS31+Oct!BR31","v":0},{"$f":"AT31+Oct!BS31","v":0},{"$f":"AU31+Oct!BT31","v":26},{"$f":"AV31+Oct!BU31","v":0},{"$f":"AW31+Oct!BV31","v":0},{"$f":"AX31+Oct!BW31","v":59},{"$f":"AY31+Oct!BX31","v":0},{"$f":"AZ31+Oct!BY31","v":0},{"$f":"BA31+Oct!BZ31","v":0},{"$f":"BB31+Oct!CA31","v":0},{"$f":"BC31+Oct!CB31","v":0},{"$f":"BD31+Oct!CC31","v":0},{"$f":"BE31+Oct!CD31","v":0},{"$f":"BF31+Oct!CE31","v":16},null,{"$f":"Oct!CG31","v":0},59,-59,null,{"$f":"Oct!CK31","v":0},0,0,null,{"$f":"Oct!CO31","v":0},0,0,null,{"$f":"Oct!CS31","v":0},0,0]
[{"$f":"Oct!A32","v":"Hamid"},null,null,null,null,null,null,null,null,null,null,null,null,null,null,null,null,null,null,null,null,null,null,null,null,null,null,null,null,null,null,null,null,null,{"$f":"COUNTIF(C32:AG32,Accueil!$B$8)","v":0},{"$f":"COUNTIF(C32:AG32,Accueil!$B$9)","v":0},{"$f":"COUNTIF(C32:AG32,Accueil!$B$10)","v":0},{"$f":"COUNTIF(C32:AG32,Accueil!$B$11)","v":0},{"$f":"COUNTIF(C32:AG32,Accueil!$B$12)","v":0},{"$f":"COUNTIF(C32:AG32,Accueil!$B$13)","v":0},{"$f":"COUNTIF(C32:AG32,Accueil!$B$14)","v":0},{"$f":"COUNTIF(C32:AG32,Accueil!$B$15)","v":0},{"$f":"COUNTIF(C32:AG32,Accueil!$B$16)","v":0},{"$f":"COUNTIF(C32:AG32,Accueil!$B$17)","v":0},{"$f":"COUNTIF(C32:AG32,Accueil!$B$18)","v":0},{"$f":"COUNTIF(C32:AG32,Accueil!$B$19)","v":0},{"$f":"COUNTIF(C32:AG32,Accueil!$B$20)","v":0},{"$f":"COUNTIF(C32:AG32,Accueil!$B$21)","v":0},{"$f":"COUNTIF(C32:AG32,Accueil!$B$22)","v":0},{"$f":"COUNTIF(C32:AG32,Accueil!$B$23)","v":0},{"$f":"COUNTIF(C32:AG32,Accueil!$B$24)","v":0},{"$f":"COUNTIF(C32:AG32,Accueil!$B$25)","v":0},{"$f":"COUNTIF(C32:AG32,Accueil!$B$26)","v":0},{"$f":"COUNTIF(C32:AG32,Accueil!$B$27)","v":0},{"$f":"COUNTIF(C32:AG32,Accueil!$B$28)","v":0},{"$f":"COUNTIF(C32:AG32,Accueil!$B$29)","v":0},{"$f":"COUNTIF(C32:AG32,Accueil!$B$30)","v":0},0,null,{"$f":"AI32 +Oct!BH32","v":0},{"$f":"AJ32+Oct!BI32","v":0},{"$f":"AK32+Oct!BJ32","v":0},{"$f":"AL32+Oct!BK32","v":0},{"$f":"AM32+Oct!BL32","v":0},{"$f":"AN32+Oct!BM32","v":0},{"$f":"AO32+Oct!BN32","v":0},{"$f":"AP32+Oct!BO32","v":0},{"$f":"AQ32+Oct!BP32","v":37},{"$f":"AR32+Oct!BQ32","v":0},{"$f":"AS32+Oct!BR32","v":0},{"$f":"AT32+Oct!BS32","v":0},{"$f":"AU32+Oct!BT32","v":0},{"$f":"AV32+Oct!BU32","v":10},{"$f":"AW32+Oct!BV32","v":10},{"$f":"AX32+Oct!BW32","v":0},{"$f":"AY32+Oct!BX32","v":0},{"$f":"AZ32+Oct!BY32","v":0},{"$f":"BA32+Oct!BZ32","v":0},{"$f":"BB32+Oct!CA32","v":0},{"$f":"BC32+Oct!CB32","v":0},{"$f":"BD32+Oct!CC32","v":0},{"$f":"BE32+Oct!CD32","v":10},{"$f":"BF32+Oct!CE32","v":42},null,{"$f":"Oct!CG32","v":0},5,-5,null,{"$f":"Oct!CK32","v":0},0,0,null,{"$f":"Oct!CO32","v":0},0,0,null,{"$f":"Oct!CS32","v":0},10,-10]
[null,{"$f":" \"Effectif minimum \" & Accueil!$B$8","v":"Effectif minimum M1"},{"$f":"COUNTIF(C3:C32,Accueil!$B$8)","v":4},{"$f":"COUNTIF(D3:D32,Accueil!$B$8)","v":1},{"$f":"COUNTIF(E3:E32,Accueil!$B$8)","v":1},{"$f":"COUNTIF(F3:F32,Accueil!$B$8)","v":3},{"$f":"COUNTIF(G3:G32,Accueil!$B$8)","v":0},{"$f":"COUNTIF(H3:H32,Accueil!$B$8)","v":0},{"$f":"COUNTIF(I3:I32,Accueil!$B$8)","v":2},{"$f":"COUNTIF(J3:J32,Accueil!$B$8)","v":4},{"$f":"COUNTIF(K3:K32,Accueil!$B$8)","v":1},{"$f":"COUNTIF(L3:L32,Accueil!$B$8)","v":1},{"$f":"COUNTIF(M3:M32,Accueil!$B$8)","v":3},{"$f":"COUNTIF(N3:N32,Accueil!$B$8)","v":0},{"$f":"COUNTIF(O3:O32,Accueil!$B$8)","v":0},{"$f":"COUNTIF(P3:P32,Accueil!$B$8)","v":1},{"$f":"COUNTIF(Q3:Q32,Accueil!$B$8)","v":4},{"$f":"COUNTIF(R3:R32,Accueil!$B$8)","v":1},{"$f":"COUNTIF(S3:S32,Accueil!$B$8)","v":1},{"$f":"COUNTIF(T3:T32,Accueil!$B$8)","v":3},{"$f":"COUNTIF(U3:U32,Accueil!$B$8)","v":0},{"$f":"COUNTIF(V3:V32,Accueil!$B$8)","v":0},{"$f":"COUNTIF(W3:W32,Accueil!$B$8)","v":1},{"$f":"COUNTIF(X3:X32,Accueil!$B$8)","v":3},{"$f":"COUNTIF(Y3:Y32,Accueil!$B$8)","v":0},{"$f":"COUNTIF(Z3:Z32,Accueil!$B$8)","v":1},{"$f":"COUNTIF(AA3:AA32,Accueil!$B$8)","v":3},{"$f":"COUNTIF(AB3:AB32,Accueil!$B$8)","v":0},{"$f":"COUNTIF(AC3:AC32,Accueil!$B$8)","v":0},{"$f":"COUNTIF(AD3:AD32,Accueil!$B$8)","v":1},{"$f":"COUNTIF(AE3:AE32,Accueil!$B$8)","v":4},{"$f":"COUNTIF(AF3:AF32,Accueil!$B$8)","v":1},{"$f":"COUNTIF(AG3:AG32,Accueil!$B$8)","v":0},null,"Jours travaillés",null,null,null,null,null,null,null,null,null,null,null,"Jours non travaillés",null,null,null,null,null,null,null,null,null,null,null,null,"Jours travaillés",null,null,null,null,null,null,null,null,null,null,null,"Jours non travaillés"]
[null,{"$f":" \"Effectif minimum \" & Accueil!$B$9","v":"Effectif minimum M2"},{"$f":"COUNTIF(C3:C32,Accueil!$B$9)","v":3},{"$f":"COUNTIF(D3:D32,Accueil!$B$9)","v":0},{"$f":"COUNTIF(E3:E32,Accueil!$B$9)","v":0},{"$f":"COUNTIF(F3:F32,Accueil!$B$9)","v":1},{"$f":"COUNTIF(G3:G32,Accueil!$B$9)","v":0},{"$f":"COUNTIF(H3:H32,Accueil!$B$9)","v":0},{"$f":"COUNTIF(I3:I32,Accueil!$B$9)","v":0},{"$f":"COUNTIF(J3:J32,Accueil!$B$9)","v":3},{"$f":"COUNTIF(K3:K32,Accueil!$B$9)","v":0},{"$f":"COUNTIF(L3:L32,Accueil!$B$9)","v":0},{"$f":"COUNTIF(M3:M32,Accueil!$B$9)","v":1},{"$f":"COUNTIF(N3:N32,Accueil!$B$9)","v":0},{"$f":"COUNTIF(O3:O32,Accueil!$B$9)","v":0},{"$f":"COUNTIF(P3:P32,Accueil!$B$9)","v":0},{"$f":"COUNTIF(Q3:Q32,Accueil!$B$9)","v":2},{"$f":"COUNTIF(R3:R32,Accueil!$B$9)","v":0},{"$f":"COUNTIF(S3:S32,Accueil!$B$9)","v":0},{"$f":"COUNTIF(T3:T32,Accueil!$B$9)","v":1},{"$f":"COUNTIF(U3:U32,Accueil!$B$9)","v":0},{"$f":"COUNTIF(V3:V32,Accueil!$B$9)","v":0},{"$f":"COUNTIF(W3:W32,Accueil!$B$9)","v":0},{"$f":"COUNTIF(X3:X32,Accueil!$B$9)","v":2},{"$f":"COUNTIF(Y3:Y32,Accueil!$B$9)","v":0},{"$f":"COUNTIF(Z3:Z32,Accueil!$B$9)","v":0},{"$f":"COUNTIF(AA3:AA32,Accueil!$B$9)","v":1},{"$f":"COUNTIF(AB3:AB32,Accueil!$B$9)","v":0},{"$f":"COUNTIF(AC3:AC32,Accueil!$B$9)","v":0},{"$f":"COUNTIF(AD3:AD32,Accueil!$B$9)","v":0},{"$f":"COUNTIF(AE3:AE32,Accueil!$B$9)","v":2},{"$f":"COUNTIF(AF3:AF32,Accueil!$B$9)","v":0},{"$f":"COUNTIF(AG3:AG32,Accueil!$B$9)","v":0}]
[null,{"$f":"\"Effectif minimum \" & Accueil!$B$10","v":"Effectif minimum M3"},{"$f":"COUNTIF(C3:C32,Accueil!$B$10)","v":1},{"$f":"COUNTIF(D3:D32,Accueil!$B$10)","v":0},{"$f":"COUNTIF(E3:E32,Accueil!$B$10)","v":1},{"$f":"COUNTIF(F3:F32,Accueil!$B$10)","v":0},{"$f":"COUNTIF(G3:G32,Accueil!$B$10)","v":0},{"$f":"COUNTIF(H3:H32,Accueil!$B$10)","v":0},{"$f":"COUNTIF(I3:I32,Accueil!$B$10)","v":1},{"$f":"COUNTIF(J3:J32,Accueil!$B$10)","v":1},{"$f":"COUNTIF(K3:K32,Accueil!$B$10)","v":0},{"$f":"COUNTIF(L3:L32,Accueil!$B$10)","v":1},{"$f":"COUNTIF(M3:M32,Accueil!$B$10)","v":0},{"$f":"COUNTIF(N3:N32,Accueil!$B$10)","v":0},{"$f":"COUNTIF(O3:O32,Accueil!$B$10)","v":0},{"$f":"COUNTIF(P3:P32,Accueil!$B$10)","v":1},{"$f":"COUNTIF(Q3:Q32,Accueil!$B$10)","v":1},{"$f":"COUNTIF(R3:R32,Accueil!$B$10)","v":0},{"$f":"COUNTIF(S3:S32,Accueil!$B$10)","v":0},{"$f":"COUNTIF(T3:T32,Accueil!$B$10)","v":0},{"$f":"COUNTIF(U3:U32,Accueil!$B$10)","v":0},{"$f":"COUNTIF(V3:V32,Accueil!$B$10)","v":0},{"$f":"COUNTIF(W3:W32,Accueil!$B$10)","v":1},{"$f":"COUNTIF(X3:X32,Accueil!$B$10)","v":1},{"$f":"COUNTIF(Y3:Y32,Accueil!$B$10)","v":0},{"$f":"COUNTIF(Z3:Z32,Accueil!$B$10)","v":0},{"$f":"COUNTIF(AA3:AA32,Accueil!$B$10)","v":0},{"$f":"COUNTIF(AB3:AB32,Accueil!$B$10)","v":0},{"$f":"COUNTIF(AC3:AC32,Accueil!$B$10)","v":0},{"$f":"COUNTIF(AD3:AD32,Accueil!$B$10)","v":1},{"$f":"COUNTIF(AE3:AE32,Accueil!$B$10)","v":1},{"$f":"COUNTIF(AF3:AF32,Accueil!$B$10)","v":0},{"$f":"COUNTIF(AG3:AG32,Accueil!$B$10)","v":0}]
[2,"MATIN",{"$f":"C33+C34+C35+C37","v":10},{"$f":"D33+D34+D35+D37","v":4},2,5,1,1,4,10,3,2,5,0,0,3,9,3,1,5,0,0,3,8,2,1,5,0,1,3,9,3,0]
[null,{"$f":"\"Effectif minimum \" & Accueil!$B$11","v":"Effectif minimum MP"},{"$f":"COUNTIF(C3:C32,Accueil!$B$11)","v":2},{"$f":"COUNTIF(D3:D32,Accueil!$B$11)","v":3},{"$f":"COUNTIF(E3:E32,Accueil!$B$11)","v":0},{"$f":"COUNTIF(F3:F32,Accueil!$B$11)","v":1},{"$f":"COUNTIF(G3:G32,Accueil!$B$11)","v":1},{"$f":"COUNTIF(H3:H32,Accueil!$B$11)","v":1},{"$f":"COUNTIF(I3:I32,Accueil!$B$11)","v":1},{"$f":"COUNTIF(J3:J32,Accueil!$B$11)","v":2},{"$f":"COUNTIF(K3:K32,Accueil!$B$11)","v":2},{"$f":"COUNTIF(L3:L32,Accueil!$B$11)","v":0},{"$f":"COUNTIF(M3:M32,Accueil!$B$11)","v":1},{"$f":"COUNTIF(N3:N32,Accueil!$B$11)","v":0},{"$f":"COUNTIF(O3:O32,Accueil!$B$11)","v":0},{"$f":"COUNTIF(P3:P32,Accueil!$B$11)","v":1},{"$f":"COUNTIF(Q3:Q32,Accueil!$B$11)","v":2},{"$f":"COUNTIF(R3:R32,Accueil!$B$11)","v":2},{"$f":"COUNTIF(S3:S32,Accueil!$B$11)","v":0},{"$f":"COUNTIF(T3:T32,Accueil!$B$11)","v":1},{"$f":"COUNTIF(U3:U32,Accueil!$B$11)","v":0},{"$f":"COUNTIF(V3:V32,Accueil!$B$11)","v":0},{"$f":"COUNTIF(W3:W32,Accueil!$B$11)","v":1},{"$f":"COUNTIF(X3:X32,Accueil!$B$11)","v":2},{"$f":"COUNTIF(Y3:Y32,Accueil!$B$11)","v":2},{"$f":"COUNTIF(Z3:Z32,Accueil!$B$11)","v":0},{"$f":"COUNTIF(AA3:AA32,Accueil!$B$11)","v":1},{"$f":"COUNTIF(AB3:AB32,Accueil!$B$11)","v":0},{"$f":"COUNTIF(AC3:AC32,Accueil!$B$11)","v":1},{"$f":"COUNTIF(AD3:AD32,Accueil!$B$11)","v":1},{"$f":"COUNTIF(AE3:AE32,Accueil!$B$11)","v":2},{"$f":"COUNTIF(AF3:AF32,Accueil!$B$11)","v":2},{"$f":"COUNTIF(AG3:AG32,Accueil!$B$11)","v":0}]
[null,{"$f":"\"Effectif minimum \" & Accueil!$B$12","v":"Effectif minimum AP1"},{"$f":"COUNTIF(C3:C32,Accueil!$B$12)","v":0},{"$f":"COUNTIF(D3:D32,Accueil!$B$12)","v":0},{"$f":"COUNTIF(E3:E32,Accueil!$B$12)","v":2},{"$f":"COUNTIF(F3:F32,Accueil!$B$12)","v":0},{"$f":"COUNTIF(G3:G32,Accueil!$B$12)","v":0},{"$f":"COUNTIF(H3:H32,Accueil!$B$12)","v":0},{"$f":"COUNTIF(I3:I32,Accueil!$B$12)","v":0},{"$f":"COUNTIF(J3:J32,Accueil!$B$12)","v":0},{"$f":"COUNTIF(K3:K32,Accueil!$B$12)","v":0},{"$f":"COUNTIF(L3:L32,Accueil!$B$12)","v":2},{"$f":"COUNTIF(M3:M32,Accueil!$B$12)","v":0},{"$f":"COUNTIF(N3:N32,Accueil!$B$12)","v":0},{"$f":"COUNTIF(O3:O32,Accueil!$B$12)","v":0},{"$f":"COUNTIF(P3:P32,Accueil!$B$12)","v":0},{"$f":"COUNTIF(Q3:Q32,Accueil!$B$12)","v":0},{"$f":"COUNTIF(R3:R32,Accueil!$B$12)","v":0},{"$f":"COUNTIF(S3:S32,Accueil!$B$12)","v":2},{"$f":"COUNTIF(T3:T32,Accueil!$B$12)","v":0},{"$f":"COUNTIF(U3:U32,Accueil!$B$12)","v":0},{"$f":"COUNTIF(V3:V32,Accueil!$B$12)","v":0},{"$f":"COUNTIF(W3:W32,Accueil!$B$12)","v":0},{"$f":"COUNTIF(X3:X32,Accueil!$B$12)","v":0},{"$f":"COUNTIF(Y3:Y32,Accueil!$B$12)","v":0},{"$f":"COUNTIF(Z3:Z32,Accueil!$B$12)","v":1},{"$f":"COUNTIF(AA3:AA32,Accueil!$B$12)","v":0},{"$f":"COUNTIF(AB3:AB32,Accueil!$B$12)","v":0},{"$f":"COUNTIF(AC3:AC32,Accueil!$B$12)","v":0},{"$f":"COUNTIF(AD3:AD32,Accueil!$B$12)","v":0},{"$f":"COUNTIF(AE3:AE32,Accueil!$B$12)","v":0},{"$f":"COUNTIF(AF3:AF32,Accueil!$B$12)","v":0},{"$f":"COUNTIF(AG3:AG32,Accueil!$B$12)","v":0}]
[null,{"$f":"\"Effectif minimum \" & Accueil!$B$13","v":"Effectif minimum AP2"},{"$f":"COUNTIF(C3:C32,Accueil!$B$13)","v":0},{"$f":"COUNTIF(D3:D32,Accueil!$B$13)","v":0},{"$f":"COUNTIF(E3:E32,Accueil!$B$13)","v":0},{"$f":"COUNTIF(F3:F32,Accueil!$B$13)","v":1},{"$f":"COUNTIF(G3:G32,Accueil!$B$13)","v":0},{"$f":"COUNTIF(H3:H32,Accueil!$B$13)","v":0},{"$f":"COUNTIF(I3:I32,Accueil!$B$13)","v":1},{"$f":"COUNTIF(J3:J32,Accueil!$B$13)","v":0},{"$f":"COUNTIF(K3:K32,Accueil!$B$13)","v":0},{"$f":"COUNTIF(L3:L32,Accueil!$B$13)","v":0},{"$f":"COUNTIF(M3:M32,Accueil!$B$13)","v":1},{"$f":"COUNTIF(N3:N32,Accueil!$B$13)","v":0},{"$f":"COUNTIF(O3:O32,Accueil!$B$13)","v":0},{"$f":"COUNTIF(P3:P32,Accueil!$B$13)","v":1},{"$f":"COUNTIF(Q3:Q32,Accueil!$B$13)","v":0},{"$f":"COUNTIF(R3:R32,Accueil!$B$13)","v":0},{"$f":"COUNTIF(S3:S32,Accueil!$B$13)","v":0},{"$f":"COUNTIF(T3:T32,Accueil!$B$13)","v":0},{"$f":"COUNTIF(U3:U32,Accueil!$B$13)","v":0},{"$f":"COUNTIF(V3:V32,Accueil!$B$13)","v":0},{"$f":"COUNTIF(W3:W32,Accueil!$B$13)","v":1},{"$f":"COUNTIF(X3:X32,Accueil!$B$13)","v":0},{"$f":"COUNTIF(Y3:Y32,Accueil!$B$13)","v":0},{"$f":"COUNTIF(Z3:Z32,Accueil!$B$13)","v":0},{"$f":"COUNTIF(AA3:AA32,Accueil!$B$13)","v":0},{"$f":"COUNTIF(AB3:AB32,Accueil!$B$13)","v":0},{"$f":"COUNTIF(AC3:AC32,Accueil!$B$13)","v":0},{"$f":"COUNTIF(AD3:AD32,Accueil!$B$13)","v":1},{"$f":"COUNTIF(AE3:AE32,Accueil!$B$13)","v":0},{"$f":"COUNTIF(AF3:AF32,Accueil!$B$13)","v":0},{"$f":"COUNTIF(AG3:AG32,Accueil!$B$13)","v":0}]
[null,{"$f":"\"Effectif minimum \" & Accueil!$B$14","v":"Effectif minimum AP3"},{"$f":"COUNTIF(C3:C32,Accueil!$B$14)","v":0},{"$f":"COUNTIF(D3:D32,Accueil!$B$14)","v":0},{"$f":"COUNTIF(E3:E32,Accueil!$B$14)","v":0},{"$f":"COUNTIF(F3:F32,Accueil!$B$14)","v":0},{"$f":"COUNTIF(G3:G32,Accueil!$B$14)","v":0},{"$f":"COUNTIF(H3:H32,Accueil!$B$14)","v":0},{"$f":"COUNTIF(I3:I32,Accueil!$B$14)","v":0},{"$f":"COUNTIF(J3:J32,Accueil!$B$14)","v":0},{"$f":"COUNTIF(K3:K32,Accueil!$B$14)","v":0},{"$f":"COUNTIF(L3:L32,Accueil!$B$14)","v":0},{"$f":"COUNTIF(M3:M32,Accueil!$B$14)","v":0},{"$f":"COUNTIF(N3:N32,Accueil!$B$14)","v":0},{"$f":"COUNTIF(O3:O32,Accueil!$B$14)","v":0},{"$f":"COUNTIF(P3:P32,Accueil!$B$14)","v":0},{"$f":"COUNTIF(Q3:Q32,Accueil!$B$14)","v":0},{"$f":"COUNTIF(R3:R32,Accueil!$B$14)","v":0},{"$f":"COUNTIF(S3:S32,Accueil!$B$14)","v":0},{"$f":"COUNTIF(T3:T32,Accueil!$B$14)","v":0},{"$f":"COUNTIF(U3:U32,Accueil!$B$14)","v":0},{"$f":"COUNTIF(V3:V32,Accueil!$B$14)","v":0},{"$f":"COUNTIF(W3:W32,Accueil!$B$14)","v":0},{"$f":"COUNTIF(X3:X32,Accueil!$B$14)","v":0},{"$f":"COUNTIF(Y3:Y32,Accueil!$B$14)","v":0},{"$f":"COUNTIF(Z3:Z32,Accueil!$B$14)","v":0},{"$f":"COUNTIF(AA3:AA32,Accueil!$B$14)","v":0},{"$f":"COUNTIF(AB3:AB32,Accueil!$B$14)","v":0},{"$f":"COUNTIF(AC3:AC32,Accueil!$B$14)","v":0},{"$f":"COUNTIF(AD3:AD32,Accueil!$B$14)","v":0},{"$f":"COUNTIF(AE3:AE32,Accueil!$B$14)","v":0},{"$f":"COUNTIF(AF3:AF32,Accueil!$B$14)","v":0},{"$f":"COUNTIF(AG3:AG32,Accueil!$B$14)","v":0}]
[1,{"$f":"\"Effectif minimum \" & Accueil!$B$15","v":"Effectif minimum P1"},{"$f":"COUNTIF(C3:C32,Accueil!$B$15)","v":0},{"$f":"COUNTIF(D3:D32,Accueil!$B$15)","v":0},{"$f":"COUNTIF(E3:E32,Accueil!$B$15)","v":0},{"$f":"COUNTIF(F3:F32,Accueil!$B$15)","v":0},{"$f":"COUNTIF(G3:G32,Accueil!$B$15)","v":0},{"$f":"COUNTIF(H3:H32,Accueil!$B$15)","v":0},{"$f":"COUNTIF(I3:I32,Accueil!$B$15)","v":0},{"$f":"COUNTIF(J3:J32,Accueil!$B$15)","v":0},{"$f":"COUNTIF(K3:K32,Accueil!$B$15)","v":0},{"$f":"COUNTIF(L3:L32,Accueil!$B$15)","v":0},{"$f":"COUNTIF(M3:M32,Accueil!$B$15)","v":0},{"$f":"COUNTIF(N3:N32,Accueil!$B$15)","v":0},{"$f":"COUNTIF(O3:O32,Accueil!$B$15)","v":1},{"$f":"COUNTIF(P3:P32,Accueil!$B$15)","v":0},{"$f":"COUNTIF(Q3:Q32,Accueil!$B$15)","v":0},{"$f":"COUNTIF(R3:R32,Accueil!$B$15)","v":0},{"$f":"COUNTIF(S3:S32,Accueil!$B$15)","v":0},{"$f":"COUNTIF(T3:T32,Accueil!$B$15)","v":0},{"$f":"COUNTIF(U3:U32,Accueil!$B$15)","v":0},{"$f":"COUNTIF(V3:V32,Accueil!$B$15)","v":0},{"$f":"COUNTIF(W3:W32,Accueil!$B$15)","v":0},{"$f":"COUNTIF(X3:X32,Accueil!$B$15)","v":0},{"$f":"COUNTIF(Y3:Y32,Accueil!$B$15)","v":0},{"$f":"COUNTIF(Z3:Z32,Accueil!$B$15)","v":0},{"$f":"COUNTIF(AA3:AA32,Accueil!$B$15)","v":0},{"$f":"COUNTIF(AB3:AB32,Accueil!$B$15)","v":0},{"$f":"COUNTIF(AC3:AC32,Accueil!$B$15)","v":0},{"$f":"COUNTIF(AD3:AD32,Accueil!$B$15)","v":0},{"$f":"COUNTIF(AE3:AE32,Accueil!$B$15)","v":0},{"$f":"COUNTIF(AF3:AF32,Accueil!$B$15)","v":0},{"$f":"COUNTIF(AG3:AG32,Accueil!$B$15)","v":0}]
[2,"APRES-MIDI",{"$f":"C37+C38+C39+C41","v":2},{"$f":"D37+D38+D39+D41","v":3},{"$f":"E37+E38+E39+E41","v":2},{"$f":"F37+F38+F39+F41","v":2},{"$f":"G37+G38+G39+G41","v":1},1,2,2,2,2,2,0,1,2,2,2,2,1,0,0,2,2,2,1,1,0,1,2,2,2,0]
[2,"SOIREE",{"$f":"C37+C38+C39+C41","v":2},{"$f":"D37+D38+D39+D41","v":3},2,2,1,1,2,2,2,2,2,0,1,2,2,2,2,1,0,0,2,2,2,1,1,0,1,2,2,2,0]
[null,{"$f":" \"Effectif minimum \" & Accueil!$B$17 & \" \"","v":"Effectif minimum BI "},{"$f":"COUNTIF(C3:C32,Accueil!$B$17)","v":0},{"$f":"COUNTIF(D3:D32,Accueil!$B$17)","v":0},{"$f":"COUNTIF(E3:E32,Accueil!$B$17)","v":0},{"$f":"COUNTIF(F3:F32,Accueil!$B$17)","v":0},{"$f":"COUNTIF(G3:G32,Accueil!$B$17)","v":0},{"$f":"COUNTIF(H3:H32,Accueil!$B$17)","v":0},{"$f":"COUNTIF(I3:I32,Accueil!$B$17)","v":0},{"$f":"COUNTIF(J3:J32,Accueil!$B$17)","v":0},{"$f":"COUNTIF(K3:K32,Accueil!$B$17)","v":0},{"$f":"COUNTIF(L3:L32,Accueil!$B$17)","v":0},{"$f":"COUNTIF(M3:M32,Accueil!$B$17)","v":0},{"$f":"COUNTIF(N3:N32,Accueil!$B$17)","v":0},{"$f":"COUNTIF(O3:O32,Accueil!$B$17)","v":0},{"$f":"COUNTIF(P3:P32,Accueil!$B$17)","v":0},{"$f":"COUNTIF(Q3:Q32,Accueil!$B$17)","v":0},{"$f":"COUNTIF(R3:R32,Accueil!$B$17)","v":0},{"$f":"COUNTIF(S3:S32,Accueil!$B$17)","v":0},{"$f":"COUNTIF(T3:T32,Accueil!$B$17)","v":0},{"$f":"COUNTIF(U3:U32,Accueil!$B$17)","v":0},{"$f":"COUNTIF(V3:V32,Accueil!$B$17)","v":0},{"$f":"COUNTIF(W3:W32,Accueil!$B$17)","v":0},{"$f":"COUNTIF(X3:X32,Accueil!$B$17)","v":0},{"$f":"COUNTIF(Y3:Y32,Accueil!$B$17)","v":0},{"$f":"COUNTIF(Z3:Z32,Accueil!$B$17)","v":0},{"$f":"COUNTIF(AA3:AA32,Accueil!$B$17)","v":0},{"$f":"COUNTIF(AB3:AB32,Accueil!$B$17)","v":0},{"$f":"COUNTIF(AC3:AC32,Accueil!$B$17)","v":0},{"$f":"COUNTIF(AD3:AD32,Accueil!$B$17)","v":0},{"$f":"COUNTIF(AE3:AE32,Accueil!$B$17)","v":0},{"$f":"COUNTIF(AF3:AF32,Accueil!$B$17)","v":0},{"$f":"COUNTIF(AG3:AG32,Accueil!$B$17)","v":0}]
[null,{"$f":" \"Effectif minimum \" & Accueil!$B$18 & \" \"","v":"Effectif minimum LY "},{"$f":"COUNTIF(C3:C32,Accueil!$B$18)","v":0},{"$f":"COUNTIF(D3:D32,Accueil!$B$18)","v":0},{"$f":"COUNTIF(E3:E32,Accueil!$B$18)","v":0},{"$f":"COUNTIF(F3:F32,Accueil!$B$18)","v":0},{"$f":"COUNTIF(G3:G32,Accueil!$B$18)","v":0},{"$f":"COUNTIF(H3:H32,Accueil!$B$18)","v":0},{"$f":"COUNTIF(I3:I32,Accueil!$B$18)","v":0},{"$f":"COUNTIF(J3:J32,Accueil!$B$18)","v":0},{"$f":"COUNTIF(K3:K32,Accueil!$B$18)","v":0},{"$f":"COUNTIF(L3:L32,Accueil!$B$18)","v":0},{"$f":"COUNTIF(M3:M32,Accueil!$B$18)","v":0},{"$f":"COUNTIF(N3:N32,Accueil!$B$18)","v":0},{"$f":"COUNTIF(O3:O32,Accueil!$B$18)","v":0},{"$f":"COUNTIF(P3:P32,Accueil!$B$18)","v":0},{"$f":"COUNTIF(Q3:Q32,Accueil!$B$18)","v":0},{"$f":"COUNTIF(R3:R32,Accueil!$B$18)","v":0},{"$f":"COUNTIF(S3:S32,Accueil!$B$18)","v":0},{"$f":"COUNTIF(T3:T32,Accueil!$B$18)","v":0},{"$f":"COUNTIF(U3:U32,Accueil!$B$18)","v":0},{"$f":"COUNTIF(V3:V32,Accueil!$B$18)","v":0},{"$f":"COUNTIF(W3:W32,Accueil!$B$18)","v":0},{"$f":"COUNTIF(X3:X32,Accueil!$B$18)","v":0},{"$f":"COUNTIF(Y3:Y32,Accueil!$B$18)","v":0},{"$f":"COUNTIF(Z3:Z32,Accueil!$B$18)","v":0},{"$f":"COUNTIF(AA3:AA32,Accueil!$B$18)","v":0},{"$f":"COUNTIF(AB3:AB32,Accueil!$B$18)","v":0},{"$f":"COUNTIF(AC3:AC32,Accueil!$B$18)","v":0},{"$f":"COUNTIF(AD3:AD32,Accueil!$B$18)","v":0},{"$f":"COUNTIF(AE3:AE32,Accueil!$B$18)","v":0},{"$f":"COUNTIF(AF3:AF32,Accueil!$B$18)","v":0},{"$f":"COUNTIF(AG3:AG32,Accueil!$B$18)","v":0}]
[{"$f":"Oct!A46","v":0},{"$f":" \"Effectif minimum \" & Accueil!$B$19 & \" \"","v":"Effectif minimum ST "},{"$f":"COUNTIF(C3:C32,Accueil!$B$19)","v":0},{"$f":"COUNTIF(D3:D32,Accueil!$B$19)","v":0},{"$f":"COUNTIF(E3:E32,Accueil!$B$19)","v":0},{"$f":"COUNTIF(F3:F32,Accueil!$B$19)","v":0},{"$f":"COUNTIF(G3:G32,Accueil!$B$19)","v":0},{"$f":"COUNTIF(H3:H32,Accueil!$B$19)","v":0},{"$f":"COUNTIF(I3:I32,Accueil!$B$19)","v":0},{"$f":"COUNTIF(J3:J32,Accueil!$B$19)","v":0},{"$f":"COUNTIF(K3:K32,Accueil!$B$19)","v":0},{"$f":"COUNTIF(L3:L32,Accueil!$B$19)","v":0},{"$f":"COUNTIF(M3:M32,Accueil!$B$19)","v":0},{"$f":"COUNTIF(N3:N32,Accueil!$B$19)","v":0},{"$f":"COUNTIF(O3:O32,Accueil!$B$19)","v":0},{"$f":"COUNTIF(P3:P32,Accueil!$B$19)","v":0},{"$f":"COUNTIF(Q3:Q32,Accueil!$B$19)","v":0},{"$f":"COUNTIF(R3:R32,Accueil!$B$19)","v":0},{"$f":"COUNTIF(S3:S32,Accueil!$B$19)","v":0},{"$f":"COUNTIF(T3:T32,Accueil!$B$19)","v":0},{"$f":"COUNTIF(U3:U32,Accueil!$B$19)","v":0},{"$f":"COUNTIF(V3:V32,Accueil!$B$19)","v":0},{"$f":"COUNTIF(W3:W32,Accueil!$B$19)","v":0},{"$f":"COUNTIF(X3:X32,Accueil!$B$19)","v":0},{"$f":"COUNTIF(Y3:Y32,Accueil!$B$19)","v":0},{"$f":"COUNTIF(Z3:Z32,Accueil!$B$19)","v":0},{"$f":"COUNTIF(AA3:AA32,Accueil!$B$19)","v":0},{"$f":"COUNTIF(AB3:AB32,Accueil!$B$19)","v":0},{"$f":"COUNTIF(AC3:AC32,Accueil!$B$19)","v":0},{"$f":"COUNTIF(AD3:AD32,Accueil!$B$19)","v":0},{"$f":"COUNTIF(AE3:AE32,Accueil!$B$19)","v":0},{"$f":"COUNTIF(AF3:AF32,Accueil!$B$19)","v":0},{"$f":"COUNTIF(AG3:AG32,Accueil!$B$19)","v":0}]
[1,{"$f":"\"Effectif minimum \" & Accueil!$B$16","v":"Effectif minimum Nuit"},{"$f":"COUNTIF(C3:C32,Accueil!$B$16)","v":0},{"$f":"COUNTIF(D3:D32,Accueil!$B$16)","v":0},{"$f":"COUNTIF(E3:E32,Accueil!$B$16)","v":0},{"$f":"COUNTIF(F3:F32,Accueil!$B$16)","v":0},{"$f":"COUNTIF(G3:G32,Accueil!$B$16)","v":0},{"$f":"COUNTIF(H3:H32,Accueil!$B$16)","v":0},{"$f":"COUNTIF(I3:I32,Accueil!$B$16)","v":0},{"$f":"COUNTIF(J3:J32,Accueil!$B$16)","v":0},{"$f":"COUNTIF(K3:K32,Accueil!$B$16)","v":0},{"$f":"COUNTIF(L3:L32,Accueil!$B$16)","v":0},{"$f":"COUNTIF(M3:M32,Accueil!$B$16)","v":0},{"$f":"COUNTIF(N3:N32,Accueil!$B$16)","v":0},{"$f":"COUNTIF(O3:O32,Accueil!$B$16)","v":0},{"$f":"COUNTIF(P3:P32,Accueil!$B$16)","v":0},{"$f":"COUNTIF(Q3:Q32,Accueil!$B$16)","v":0},{"$f":"COUNTIF(R3:R32,Accueil!$B$16)","v":0},{"$f":"COUNTIF(S3:S32,Accueil!$B$16)","v":0},{"$f":"COUNTIF(T3:T32,Accueil!$B$16)","v":0},{"$f":"COUNTIF(U3:U32,Accueil!$B$16)","v":0},{"$f":"COUNTIF(V3:V32,Accueil!$B$16)","v":0},{"$f":"COUNTIF(W3:W32,Accueil!$B$16)","v":0},{"$f":"COUNTIF(X3:X32,Accueil!$B$16)","v":0},{"$f":"COUNTIF(Y3:Y32,Accueil!$B$16)","v":0},{"$f":"COUNTIF(Z3:Z32,Accueil!$B$16)","v":0},{"$f":"COUNTIF(AA3:AA32,Accueil!$B$16)","v":0},{"$f":"COUNTIF(AB3:AB32,Accueil!$B$16)","v":0},{"$f":"COUNTIF(AC3:AC32,Accueil!$B$16)","v":0},{"$f":"COUNTIF(AD3:AD32,Accueil!$B$16)","v":0},{"$f":"COUNTIF(AE3:AE32,Accueil!$B$16)","v":0},{"$f":"COUNTIF(AF3:AF32,Accueil!$B$16)","v":0},{"$f":"COUNTIF(AG3:AG32,Accueil!$B$16)","v":0}]

{"sheet":"Dec","index":13,"n_rows":47,"n_cols":99,"rows_kept":47,"cut":false,"hidden":false,"merged":[[0,92,0,94],[0,96,0,98],[1,0,1,1],[2,0,2,1],[0,0,0,1],[0,84,0,86],[0,88,0,90],[3,0,3,1],[4,0,4,1],[5,0,5,1],[12,0,12,1],[6,0,6,1],[13,0,13,1],[14,0,14,1],[7,0,7,1],[8,0,8,1],[9,0,9,1],[10,0,10,1],[11,0,11,1],[19,0,19,1],[20,0,20,1],[21,0,21,1],[22,0,22,1],[15,0,15,1],[16,0,16,1],[17,0,17,1],[18,0,18,1],[23,0,23,1],[24,0,24,1],[25,0,25,1],[26,0,26,1],[31,0,31,1],[27,0,27,1],[28,0,28,1],[29,0,29,1],[30,0,30,1]]}
[{"$f":"DATE(Accueil!C2,12,1)","v":"2016-12-01"},null,{"$f":"INDEX({\"D\";\"L\";\"M\";\"M\";\"J\";\"V\";\"S\"},WEEKDAY(C2))","v":"J"},{"$f":"INDEX({\"D\";\"L\";\"M\";\"M\";\"J\";\"V\";\"S\"},WEEKDAY(D2))","v":"V"},{"$f":"INDEX({\"D\";\"L\";\"M\";\"M\";\"J\";\"V\";\"S\"},WEEKDAY(E2))","v":"S"},{"$f":"INDEX({\"D\";\"L\";\"M\";\"M\";\"J\";\"V\";\"S\"},WEEKDAY(F2))","v":"D"},{"$f":"INDEX({\"D\";\"L\";\"M\";\"M\";\"J\";\"V\";\"S\"},WEEKDAY(G2))","v":"L"},{"$f":"INDEX({\"D\";\"L\";\"M\";\"M\";\"J\";\"V\";\"S\"},WEEKDAY(H2))","v":"M"},{"$f":"INDEX({\"D\";\"L\";\"M\";\"M\";\"J\";\"V\";\"S\"},WEEKDAY(I2))","v":"M"},{"$f":"INDEX({\"D\";\"L\";\"M\";\"M\";\"J\";\"V\";\"S\"},WEEKDAY(J2))","v":"J"},{"$f":"INDEX({\"D\";\"L\";\"M\";\"M\";\"J\";\"V\";\"S\"},WEEKDAY(K2))","v":"V"},{"$f":"INDEX({\"D\";\"L\";\"M\";\"M\";\"J\";\"V\";\"S\"},WEEKDAY(L2))","v":"S"},{"$f":"INDEX({\"D\";\"L\";\"M\";\"M\";\"J\";\"V\";\"S\"},WEEKDAY(M2))","v":"D"},{"$f":"INDEX({\"D\";\"L\";\"M\";\"M\";\"J\";\"V\";\"S\"},WEEKDAY(N2))","v":"L"},{"$f":"INDEX({\"D\";\"L\";\"M\";\"M\";\"J\";\"V\";\"S\"},WEEKDAY(O2))","v":"M"},{"$f":"INDEX({\"D\";\"L\";\"M\";\"M\";\"J\";\"V\";\"S\"},WEEKDAY(P2))","v":"M"},{"$f":"INDEX({\"D\";\"L\";\"M\";\"M\";\"J\";\"V\";\"S\"},WEEKDAY(Q2))","v":"J"},{"$f":"INDEX({\"D\";\"L\";\"M\";\"M\";\"J\";\"V\";\"S\"},WEEKDAY(R2))","v":"V"},{"$f":"INDEX({\"D\";\"L\";\"M\";\"M\";\"J\";\"V\";\"S\"},WEEKDAY(S2))","v":"S"},{"$f":"INDEX({\"D\";\"L\";\"M\";\"M\";\"J\";\"V\";\"S\"},WEEKDAY(T2))","v":"D"},{"$f":"INDEX({\"D\";\"L\";\"M\";\"M\";\"J\";\"V\";\"S\"},WEEKDAY(U2))","v":"L"},{"$f":"INDEX({\"D\";\"L\";\"M\";\"M\";\"J\";\"V\";\"S\"},WEEKDAY(V2))","v":"M"},{"$f":"INDEX({\"D\";\"L\";\"M\";\"M\";\"J\";\"V\";\"S\"},WEEKDAY(W2))","v":"M"},{"$f":"INDEX({\"D\";\"L\";\"M\";\"M\";\"J\";\"V\";\"S\"},WEEKDAY(X2))","v":"J"},{"$f":"INDEX({\"D\";\"L\";\"M\";\"M\";\"J\";\"V\";\"S\"},WEEKDAY(Y2))","v":"V"},{"$f":"INDEX({\"D\";\"L\";\"M\";\"M\";\"J\";\"V\";\"S\"},WEEKDAY(Z2))","v":"S"},{"$f":"INDEX({\"D\";\"L\";\"M\";\"M\";\"J\";\"V\";\"S\"},WEEKDAY(AA2))","v":"D"},{"$f":"INDEX({\"D\";\"L\";\"M\";\"M\";\"J\";\"V\";\"S\"},WEEKDAY(AB2))","v":"L"},{"$f":"INDEX({\"D\";\"L\";\"M\";\"M\";\"J\";\"V\";\"S\"},WEEKDAY(AC2))","v":"M"},{"$f":"INDEX({\"D\";\"L\";\"M\";\"M\";\"J\";\"V\";\"S\"},WEEKDAY(AD2))","v":"M"},{"$f":"INDEX({\"D\";\"L\";\"M\";\"M\";\"J\";\"V\";\"S\"},WEEKDAY(AE2))","v":"J"},{"$f":"INDEX({\"D\";\"L\";\"M\";\"M\";\"J\";\"V\";\"S\"},WEEKDAY(AF2))","v":"V"},{"$f":"INDEX({\"D\";\"L\";\"M\";\"M\";\"J\";\"V\";\"S\"},WEEKDAY(AG2))","v":"S"},null,"Bilan mensuel",null,null,null,null,null,null,null,null,null,null,null,null,null,null,null,null,null,null,null,null,null,null,"Total jours",null,"Bilan annuel",null,null,null,null,null,null,null,null,null,null,null,null,null,null,null,null,null,null,null,null,null,null,"Total jours",null,"Bilan congès annuels",null,null,null,"Bilan Enfant malade",null,null,null,"Bilan RH aministratif",null,null,null,"Bilan RH employé"]
[{"$f":"Accueil!J2","v":"Educatif"},null,{"$f":"A1","v":"2016-12-01"},{"$f":"C2+1","v":"2016-12-02"},"2016-12-03","2016-12-04","2016-12-05","2016-12-06","2016-12-07","2016-12-08","2016-12-09","2016-12-10","2016-12-11","2016-12-12","2016-12-13","2016-12-14","2016-12-15","2016-12-16","2016-12-17","2016-12-18","2016-12-19","2016-12-20","2016-12-21","2016-12-22","2016-12-23","2016-12-24","2016-12-25","2016-12-26","2016-12-27","2016-12-28","2016-12-29","2016-12-30","2016-12-31",null,{"$f":"Accueil!$B$8","v":"M1"},{"$f":"Accueil!$B$9","v":"M2"},{"$f":"Accueil!B10","v":"M3"},{"$f":"Accueil!$B$11","v":"MP"},{"$f":"Accueil!$B$12","v":"AP1"},{"$f":"Accueil!B13","v":"AP2"},{"$f":"Accueil!B14","v":"AP3"},{"$f":"Accueil!$B$15","v":"P1"},{"$f":"Accueil!$B$16","v":"Nuit"},{"$f":"Accueil!$B$17","v":"BI"},{"$f":"Accueil!$B$18","v":"LY"},{"$f":"Accueil!$B$19","v":"ST"},{"$f":"Accueil!$B$20","v":"IND"},{"$f":"Accueil!$B$21","v":0},{"$f":"Accueil!$B$22","v":0},{"$f":"Accueil!$B$23","v":"Vac"},{"$f":"Accueil!$B$24","v":"Mal"},{"$f":"Accueil!$B$25","v":"Mat"},{"$f":"Accueil!$B$26","v":"CC"},{"$f":"Accueil!$B$27","v":"F"},{"$f":"Accueil!$B$28","v":"Enf"},{"$f":"Accueil!$B$29","v":"CP"},{"$f":"Accueil!$B$30","v":0},"travaillés",null,{"$f":"AI2","v":"M1"},"M2","M3","MP","AP1","AP2","AP3","P1","Nuit","BI","LY","ST","IND",0,0,"Vac","Mal","Mat","CC","F","Enf","CP",0,"travaillés",null,"capital","pris","restant",null,"capital","pris","restant",null,"capital","pris","restant",null,"capital","pris","restant"]
[{"$f":"Nov!A3","v":"Anne"},null,null,"M1",null,null,null,"MP",null,null,"M1",null,null,null,"MP",null,null,"M1",null,null,null,"MP",null,null,"M1",null,null,null,null,null,null,null,null,null,{"$f":"COUNTIF(C3:AG3,Accueil!$B$8)","v":4},{"$f":"COUNTIF(C3:AG3,Accueil!$B$9)","v":0},{"$f":"COUNTIF(C3:AG3,Accueil!$B$10)","v":0},{"$f":"COUNTIF(C3:AG3,Accueil!$B$11)","v":3},{"$f":"COUNTIF(C3:AG3,Accueil!$B$12)","v":0},{"$f":"COUNTIF(C3:AG3,Accueil!$B$13)","v":0},{"$f":"COUNTIF(C3:AG3,Accueil!$B$14)","v":0},{"$f":"COUNTIF(C3:AG3,Accueil!$B$15)","v":0},{"$f":"COUNTIF(C3:AG3,Accueil!$B$16)","v":0},{"$f":"COUNTIF(C3:AG3,Accueil!$B$17)","v":0},{"$f":"COUNTIF(C3:AG3,Accueil!$B$18)","v":0},{"$f":"COUNTIF(C3:AG3,Accueil!$B$19)","v":0},{"$f":"COUNTIF(C3:AG3,Accueil!$B$20)","v":0},{"$f":"COUNTIF(C3:AG3,Accueil!$B$21)","v":0},{"$f":"COUNTIF(C3:AG3,Accueil!$B$22)","v":0},{"$f":"COUNTIF(C3:AG3,Accueil!$B$23)","v":0},{"$f":"COUNTIF(C3:AG3,Accueil!$B$24)","v":0},{"$f":"COUNTIF(C3:AG3,Accueil!$B$25)","v":0},{"$f":"COUNTIF(C3:AG3,Accueil!$B$26)","v":0},{"$f":"COUNTIF(C3:AG3,Accueil!$B$27)","v":0},{"$f":"COUNTIF(C3:AG3,Accueil!$B$28)","v":0},{"$f":"COUNTIF(C3:AG3,Accueil!$B$29)","v":0},{"$f":"COUNTIF(C3:AG3,Accueil!$B$30)","v":0},{"$f":"SUM($AI3:$AT3)+($AW3*0.5)","v":7},null,{"$f":"AI3 +Nov!BH3","v":36},{"$f":"AJ3+Nov!BI3","v":0},{"$f":"AK3+Nov!BJ3","v":0},{"$f":"AL3+Nov!BK3","v":56},{"$f":"AM3+Nov!BL3","v":5},{"$f":"AN3+Nov!BM3","v":0},{"$f":"AO3+Nov!BN3","v":0},{"$f":"AP3+Nov!BO3","v":0},{"$f":"AQ3+Nov!BP3","v":0},{"$f":"AR3+Nov!BQ3","v":0},{"$f":"AS3+Nov!BR3","v":0},{"$f":"AT3+Nov!BS3","v":0},{"$f":"AU3+Nov!BT3","v":0},{"$f":"AV3+Nov!BU3","v":0},{"$f":"AW3+Nov!BV3","v":0},{"$f":"AX3+Nov!BW3","v":55},{"$f":"AY3+Nov!BX3","v":1},{"$f":"AZ3+Nov!BY3","v":0},{"$f":"BA3+Nov!BZ3","v":0},{"$f":"BB3+Nov!CA3","v":0},{"$f":"BC3+Nov!CB3","v":0},{"$f":"BD3+Nov!CC3","v":0},{"$f":"BE3+Nov!CD3","v":0},{"$f":"BF3+Nov!CE3","v":97},null,{"$f":"Nov!CG3","v":0},{"$f":"0.5*($BV3)+($BW3)","v":55},{"$f":"CG3-CH3","v":-55},null,{"$f":"Nov!CK3","v":0},{"$f":"$CB3","v":0},{"$f":"CK3-CL3","v":0},null,{"$f":"Nov!CO3","v":0},{"$f":"$CC3","v":0},{"$f":"CO3-CP3","v":0},null,{"$f":"Nov!CS3","v":0},{"$f":"$CD3","v":0},{"$f":"CS3-CT3","v":0}]
[{"$f":"Nov!A4","v":0},null,null,null,null,null,null,null,null,null,null,null,null,null,null,null,null,null,null,null,null,null,null,null,null,null,null,null,null,null,null,null,null,null,{"$f":"COUNTIF(C4:AG4,Accueil!$B$8)","v":0},{"$f":"COUNTIF(C4:AG4,Accueil!$B$9)","v":0},{"$f":"COUNTIF(C4:AG4,Accueil!$B$10)","v":0},{"$f":"COUNTIF(C4:AG4,Accueil!$B$11)","v":0},{"$f":"COUNTIF(C4:AG4,Accueil!$B$12)","v":0},{"$f":"COUNTIF(C4:AG4,Accueil!$B$13)","v":0},{"$f":"COUNTIF(C4:AG4,Accueil!$B$14)","v":0},{"$f":"COUNTIF(C4:AG4,Accueil!$B$15)","v":0},{"$f":"COUNTIF(C4:AG4,Accueil!$B$16)","v":0},{"$f":"COUNTIF(C4:AG4,Accueil!$B$17)","v":0},{"$f":"COUNTIF(C4:AG4,Accueil!$B$18)","v":0},{"$f":"COUNTIF(C4:AG4,Accueil!$B$19)","v":0},{"$f":"COUNTIF(C4:AG4,Accueil!$B$20)","v":0},{"$f":"COUNTIF(C4:AG4,Accueil!$B$21)","v":0},{"$f":"COUNTIF(C4:AG4,Accueil!$B$22)","v":0},{"$f":"COUNTIF(C4:AG4,Accueil!$B$23)","v":0},{"$f":"COUNTIF(C4:AG4,Accueil!$B$24)","v":0},{"$f":"COUNTIF(C4:AG4,Accueil!$B$25)","v":0},{"$f":"COUNTIF(C4:AG4,Accueil!$B$26)","v":0},{"$f":"COUNTIF(C4:AG4,Accueil!$B$27)","v":0},{"$f":"COUNTIF(C4:AG4,Accueil!$B$28)","v":0},{"$f":"COUNTIF(C4:AG4,Accueil!$B$29)","v":0},{"$f":"COUNTIF(C4:AG4,Accueil!$B$30)","v":0},0,null,{"$f":"AI4 +Nov!BH4","v":0},{"$f":"AJ4+Nov!BI4","v":0},{"$f":"AK4+Nov!BJ4","v":0},{"$f":"AL4+Nov!BK4","v":0},{"$f":"AM4+Nov!BL4","v":0},{"$f":"AN4+Nov!BM4","v":0},{"$f":"AO4+Nov!BN4","v":0},{"$f":"AP4+Nov!BO4","v":0},{"$f":"AQ4+Nov!BP4","v":0},{"$f":"AR4+Nov!BQ4","v":0},{"$f":"AS4+Nov!BR4","v":1},{"$f":"AT4+Nov!BS4","v":0},{"$f":"AU4+Nov!BT4","v":0},{"$f":"AV4+Nov!BU4","v":0},{"$f":"AW4+Nov!BV4","v":0},{"$f":"AX4+Nov!BW4","v":0},{"$f":"AY4+Nov!BX4","v":0},{"$f":"AZ4+Nov!BY4","v":0},{"$f":"BA4+Nov!BZ4","v":0},{"$f":"BB4+Nov!CA4","v":0},{"$f":"BC4+Nov!CB4","v":0},{"$f":"BD4+Nov!CC4","v":0},{"$f":"BE4+Nov!CD4","v":0},{"$f":"BF4+Nov!CE4","v":1},null,{"$f":"Nov!CG4","v":0},0,0,null,{"$f":"Nov!CK4","v":0},0,0,null,{"$f":"Nov!CO4","v":0},0,0,null,{"$f":"Nov!CS4","v":0},0,0]
[{"$f":"Nov!A5","v":"Elodie"},null,"AP1",null,null,"MP",null,"M1","M1","AP1","AP2",null,null,null,"M1","M1","AP1",null,null,"MP",null,"M1","M1","AP1",null,"Vac","Vac","Vac","Vac","Vac","Vac","Vac","Vac",null,{"$f":"COUNTIF(C5:AG5,Accueil!$B$8)","v":6},{"$f":"COUNTIF(C5:AG5,Accueil!$B$9)","v":0},{"$f":"COUNTIF(C5:AG5,Accueil!$B$10)","v":0},{"$f":"COUNTIF(C5:AG5,Accueil!$B$11)","v":2},{"$f":"COUNTIF(C5:AG5,Accueil!$B$12)","v":4},{"$f":"COUNTIF(C5:AG5,Accueil!$B$13)","v":1},{"$f":"COUNTIF(C5:AG5,Accueil!$B$14)","v":0},{"$f":"COUNTIF(C5:AG5,Accueil!$B$15)","v":0},{"$f":"COUNTIF(C5:AG5,Accueil!$B$16)","v":0},{"$f":"COUNTIF(C5:AG5,Accueil!$B$17)","v":0},{"$f":"COUNTIF(C5:AG5,Accueil!$B$18)","v":0},{"$f":"COUNTIF(C5:AG5,Accueil!$B$19)","v":0},{"$f":"COUNTIF(C5:AG5,Accueil!$B$20)","v":0},{"$f":"COUNTIF(C5:AG5,Accueil!$B$21)","v":0},{"$f":"COUNTIF(C5:AG5,Accueil!$B$22)","v":0},{"$f":"COUNTIF(C5:AG5,Accueil!$B$23)","v":8},{"$f":"COUNTIF(C5:AG5,Accueil!$B$24)","v":0},{"$f":"COUNTIF(C5:AG5,Accueil!$B$25)","v":0},{"$f":"COUNTIF(C5:AG5,Accueil!$B$26)","v":0},{"$f":"COUNTIF(C5:AG5,Accueil!$B$27)","v":0},{"$f":"COUNTIF(C5:AG5,Accueil!$B$28)","v":0},{"$f":"COUNTIF(C5:AG5,Accueil!$B$29)","v":0},{"$f":"COUNTIF(C5:AG5,Accueil!$B$30)","v":0},13,null,{"$f":"AI5 +Nov!BH5","v":106},{"$f":"AJ5+Nov!BI5","v":0},{"$f":"AK5+Nov!BJ5","v":0},{"$f":"AL5+Nov!BK5","v":28},{"$f":"AM5+Nov!BL5","v":41},{"$f":"AN5+Nov!BM5","v":7},{"$f":"AO5+Nov!BN5","v":0},{"$f":"AP5+Nov!BO5","v":0},{"$f":"AQ5+Nov!BP5","v":0},{"$f":"AR5+Nov!BQ5","v":0},{"$f":"AS5+Nov!BR5","v":0},{"$f":"AT5+Nov!BS5","v":0},{"$f":"AU5+Nov!BT5","v":7},{"$f":"AV5+Nov!BU5","v":0},{"$f":"AW5+Nov!BV5","v":0},{"$f":"AX5+Nov!BW5","v":55},{"$f":"AY5+Nov!BX5","v":0},{"$f":"AZ5+Nov!BY5","v":0},{"$f":"BA5+Nov!BZ5","v":1},{"$f":"BB5+Nov!CA5","v":1},{"$f":"BC5+Nov!CB5","v":0},{"$f":"BD5+Nov!CC5","v":0},{"$f":"BE5+Nov!CD5","v":0},{"$f":"BF5+Nov!CE5","v":182},null,{"$f":"Nov!CG5","v":0},55,-55,null,{"$f":"Nov!CK5","v":0},0,0,null,{"$f":"Nov!CO5","v":0},0,0,null,{"$f":"Nov!CS5","v":0},0,0]
[{"$f":"Nov!A6","v":0},null,null,null,null,null,null,null,null,null,null,null,null,null,null,null,null,null,null,null,null,null,null,null,null,null,null,null,null,null,null,null,null,null,{"$f":"COUNTIF(C6:AG6,Accueil!$B$8)","v":0},{"$f":"COUNTIF(C6:AG6,Accueil!$B$9)","v":0},{"$f":"COUNTIF(C6:AG6,Accueil!$B$10)","v":0},{"$f":"COUNTIF(C6:AG6,Accueil!$B$11)","v":0},{"$f":"COUNTIF(C6:AG6,Accueil!$B$12)","v":0},{"$f":"COUNTIF(C6:AG6,Accueil!$B$13)","v":0},{"$f":"COUNTIF(C6:AG6,Accueil!$B$14)","v":0},{"$f":"COUNTIF(C6:AG6,Accueil!$B$15)","v":0},{"$f":"COUNTIF(C6:AG6,Accueil!$B$16)","v":0},{"$f":"COUNTIF(C6:AG6,Accueil!$B$17)","v":0},{"$f":"COUNTIF(C6:AG6,Accueil!$B$18)","v":0},{"$f":"COUNTIF(C6:AG6,Accueil!$B$19)","v":0},{"$f":"COUNTIF(C6:AG6,Accueil!$B$20)","v":0},{"$f":"COUNTIF(C6:AG6,Accueil!$B$21)","v":0},{"$f":"COUNTIF(C6:AG6,Accueil!$B$22)","v":0},{"$f":"COUNTIF(C6:AG6,Accueil!$B$23)","v":0},{"$f":"COUNTIF(C6:AG6,Accueil!$B$24)","v":0},{"$f":"COUNTIF(C6:AG6,Accueil!$B$25)","v":0},{"$f":"COUNTIF(C6:AG6,Accueil!$B$26)","v":0},{"$f":"COUNTIF(C6:AG6,Accueil!$B$27)","v":0},{"$f":"COUNTIF(C6:AG6,Accueil!$B$28)","v":0},{"$f":"COUNTIF(C6:AG6,Accueil!$B$29)","v":0},{"$f":"COUNTIF(C6:AG6,Accueil!$B$30)","v":0},0,null,{"$f":"AI6 +Nov!BH6","v":0},{"$f":"AJ6+Nov!BI6","v":0},{"$f":"AK6+Nov!BJ6","v":0},{"$f":"AL6+Nov!BK6","v":0},{"$f":"AM6+Nov!BL6","v":0},{"$f":"AN6+Nov!BM6","v":1},{"$f":"AO6+Nov!BN6","v":0},{"$f":"AP6+Nov!BO6","v":0},{"$f":"AQ6+Nov!BP6","v":0},{"$f":"AR6+Nov!BQ6","v":0},{"$f":"AS6+Nov!BR6","v":1},{"$f":"AT6+Nov!BS6","v":0},{"$f":"AU6+Nov!BT6","v":0},{"$f":"AV6+Nov!BU6","v":0},{"$f":"AW6+Nov!BV6","v":0},{"$f":"AX6+Nov!BW6","v":0},{"$f":"AY6+Nov!BX6","v":0},{"$f":"AZ6+Nov!BY6","v":0},{"$f":"BA6+Nov!BZ6","v":0},{"$f":"BB6+Nov!CA6","v":0},{"$f":"BC6+Nov!CB6","v":0},{"$f":"BD6+Nov!CC6","v":0},{"$f":"BE6+Nov!CD6","v":0},{"$f":"BF6+Nov!CE6","v":2},null,{"$f":"Nov!CG6","v":0},0,0,null,{"$f":"Nov!CK6","v":0},0,0,null,{"$f":"Nov!CO6","v":0},0,0,null,{"$f":"Nov!CS6","v":0},0,0]
[{"$f":"Nov!A7","v":"Eve-Marie"},null,"AP1","M1",null,null,null,"M1",null,"AP1","M1",null,null,null,"M1",null,"AP1","M1",null,null,null,"M1",null,"AP1","M1",null,null,null,null,null,null,null,null,null,{"$f":"COUNTIF(C7:AG7,Accueil!$B$8)","v":7},{"$f":"COUNTIF(C7:AG7,Accueil!$B$9)","v":0},{"$f":"COUNTIF(C7:AG7,Accueil!$B$10)","v":0},{"$f":"COUNTIF(C7:AG7,Accueil!$B$11)","v":0},{"$f":"COUNTIF(C7:AG7,Accueil!$B$12)","v":4},{"$f":"COUNTIF(C7:AG7,Accueil!$B$13)","v":0},{"$f":"COUNTIF(C7:AG7,Accueil!$B$14)","v":0},{"$f":"COUNTIF(C7:AG7,Accueil!$B$15)","v":0},{"$f":"COUNTIF(C7:AG7,Accueil!$B$16)","v":0},{"$f":"COUNTIF(C7:AG7,Accueil!$B$17)","v":0},{"$f":"COUNTIF(C7:AG7,Accueil!$B$18)","v":0},{"$f":"COUNTIF(C7:AG7,Accueil!$B$19)","v":0},{"$f":"COUNTIF(C7:AG7,Accueil!$B$20)","v":0},{"$f":"COUNTIF(C7:AG7,Accueil!$B$21)","v":0},{"$f":"COUNTIF(C7:AG7,Accueil!$B$22)","v":0},{"$f":"COUNTIF(C7:AG7,Accueil!$B$23)","v":0},{"$f":"COUNTIF(C7:AG7,Accueil!$B$24)","v":0},{"$f":"COUNTIF(C7:AG7,Accueil!$B$25)","v":0},{"$f":"COUNTIF(C7:AG7,Accueil!$B$26)","v":0},{"$f":"COUNTIF(C7:AG7,Accueil!$B$27)","v":0},{"$f":"COUNTIF(C7:AG7,Accueil!$B$28)","v":0},{"$f":"COUNTIF(C7:AG7,Accueil!$B$29)","v":0},{"$f":"COUNTIF(C7:AG7,Accueil!$B$30)","v":0},11,null,{"$f":"AI7 +Nov!BH7","v":85},{"$f":"AJ7+Nov!BI7","v":1},{"$f":"AK7+Nov!BJ7","v":0},{"$f":"AL7+Nov!BK7","v":17},{"$f":"AM7+Nov!BL7","v":48},{"$f":"AN7+Nov!BM7","v":2},{"$f":"AO7+Nov!BN7","v":1},{"$f":"AP7+Nov!BO7","v":0},{"$f":"AQ7+Nov!BP7","v":0},{"$f":"AR7+Nov!BQ7","v":0},{"$f":"AS7+Nov!BR7","v":0},{"$f":"AT7+Nov!BS7","v":0},{"$f":"AU7+Nov!BT7","v":0},{"$f":"AV7+Nov!BU7","v":0},{"$f":"AW7+Nov!BV7","v":0},{"$f":"AX7+Nov!BW7","v":31},{"$f":"AY7+Nov!BX7","v":0},{"$f":"AZ7+Nov!BY7","v":0},{"$f":"BA7+Nov!BZ7","v":3},{"$f":"BB7+Nov!CA7","v":0},{"$f":"BC7+Nov!CB7","v":0},{"$f":"BD7+Nov!CC7","v":0},{"$f":"BE7+Nov!CD7","v":0},{"$f":"BF7+Nov!CE7","v":154},null,{"$f":"Nov!CG7","v":0},31,-31,null,{"$f":"Nov!CK7","v":0},0,0,null,{"$f":"Nov!CO7","v":0},0,0,null,{"$f":"Nov!CS7","v":0},0,0]
[{"$f":"Nov!A8","v":0},null,null,null,null,null,null,null,null,null,null,null,null,null,null,null,null,null,null,null,null,null,null,null,null,null,null,null,null,null,null,null,null,null,{"$f":"COUNTIF(C8:AG8,Accueil!$B$8)","v":0},{"$f":"COUNTIF(C8:AG8,Accueil!$B$9)","v":0},{"$f":"COUNTIF(C8:AG8,Accueil!$B$10)","v":0},{"$f":"COUNTIF(C8:AG8,Accueil!$B$11)","v":0},{"$f":"COUNTIF(C8:AG8,Accueil!$B$12)","v":0},{"$f":"COUNTIF(C8:AG8,Accueil!$B$13)","v":0},{"$f":"COUNTIF(C8:AG8,Accueil!$B$14)","v":0},{"$f":"COUNTIF(C8:AG8,Accueil!$B$15)","v":0},{"$f":"COUNTIF(C8:AG8,Accueil!$B$16)","v":0},{"$f":"COUNTIF(C8:AG8,Accueil!$B$17)","v":0},{"$f":"COUNTIF(C8:AG8,Accueil!$B$18)","v":0},{"$f":"COUNTIF(C8:AG8,Accueil!$B$19)","v":0},{"$f":"COUNTIF(C8:AG8,Accueil!$B$20)","v":0},{"$f":"COUNTIF(C8:AG8,Accueil!$B$21)","v":0},{"$f":"COUNTIF(C8:AG8,Accueil!$B$22)","v":0},{"$f":"COUNTIF(C8:AG8,Accueil!$B$23)","v":0},{"$f":"COUNTIF(C8:AG8,Accueil!$B$24)","v":0},{"$f":"COUNTIF(C8:AG8,Accueil!$B$25)","v":0},{"$f":"COUNTIF(C8:AG8,Accueil!$B$26)","v":0},{"$f":"COUNTIF(C8:AG8,Accueil!$B$27)","v":0},{"$f":"COUNTIF(C8:AG8,Accueil!$B$28)","v":0},{"$f":"COUNTIF(C8:AG8,Accueil!$B$29)","v":0},{"$f":"COUNTIF(C8:AG8,Accueil!$B$30)","v":0},0,null,{"$f":"AI8 +Nov!BH8","v":0},{"$f":"AJ8+Nov!BI8","v":0},{"$f":"AK8+Nov!BJ8","v":0},{"$f":"AL8+Nov!BK8","v":0},{"$f":"AM8+Nov!BL8","v":0},{"$f":"AN8+Nov!BM8","v":0},{"$f":"AO8+Nov!BN8","v":0},{"$f":"AP8+Nov!BO8","v":0},{"$f":"AQ8+Nov!BP8","v":0},{"$f":"AR8+Nov!BQ8","v":0},{"$f":"AS8+Nov!BR8","v":1},{"$f":"AT8+Nov!BS8","v":0},{"$f":"AU8+Nov!BT8","v":0},{"$f":"AV8+Nov!BU8","v":0},{"$f":"AW8+Nov!BV8","v":0},{"$f":"AX8+Nov!BW8","v":0},{"$f":"AY8+Nov!BX8","v":0},{"$f":"AZ8+Nov!BY8","v":0},{"$f":"BA8+Nov!BZ8","v":0},{"$f":"BB8+Nov!CA8","v":0},{"$f":"BC8+Nov!CB8","v":0},{"$f":"BD8+Nov!CC8","v":0},{"$f":"BE8+Nov!CD8","v":0},{"$f":"BF8+Nov!CE8","v":1},null,{"$f":"Nov!CG8","v":0},0,0,null,{"$f":"Nov!CK8","v":0},0,0,null,{"$f":"Nov!CO8","v":0},0,0,null,{"$f":"Nov!CS8","v":0},0,0]
[{"$f":"Nov!A9","v":"Isabel"},null,null,null,null,null,"AP2","M1",null,null,null,null,null,"AP2","M1",null,null,null,null,null,"AP2","M1",null,null,null,null,null,null,null,null,null,null,null,null,{"$f":"COUNTIF(C9:AG9,Accueil!$B$8)","v":3},{"$f":"COUNTIF(C9:AG9,Accueil!$B$9)","v":0},{"$f":"COUNTIF(C9:AG9,Accueil!$B$10)","v":0},{"$f":"COUNTIF(C9:AG9,Accueil!$B$11)","v":0},{"$f":"COUNTIF(C9:AG9,Accueil!$B$12)","v":0},{"$f":"COUNTIF(C9:AG9,Accueil!$B$13)","v":3},{"$f":"COUNTIF(C9:AG9,Accueil!$B$14)","v":0},{"$f":"COUNTIF(C9:AG9,Accueil!$B$15)","v":0},{"$f":"COUNTIF(C9:AG9,Accueil!$B$16)","v":0},{"$f":"COUNTIF(C9:AG9,Accueil!$B$17)","v":0},{"$f":"COUNTIF(C9:AG9,Accueil!$B$18)","v":0},{"$f":"COUNTIF(C9:AG9,Accueil!$B$19)","v":0},{"$f":"COUNTIF(C9:AG9,Accueil!$B$20)","v":0},{"$f":"COUNTIF(C9:AG9,Accueil!$B$21)","v":0},{"$f":"COUNTIF(C9:AG9,Accueil!$B$22)","v":0},{"$f":"COUNTIF(C9:AG9,Accueil!$B$23)","v":0},{"$f":"COUNTIF(C9:AG9,Accueil!$B$24)","v":0},{"$f":"COUNTIF(C9:AG9,Accueil!$B$25)","v":0},{"$f":"COUNTIF(C9:AG9,Accueil!$B$26)","v":0},{"$f":"COUNTIF(C9:AG9,Accueil!$B$27)","v":0},{"$f":"COUNTIF(C9:AG9,Accueil!$B$28)","v":0},{"$f":"COUNTIF(C9:AG9,Accueil!$B$29)","v":0},{"$f":"COUNTIF(C9:AG9,Accueil!$B$30)","v":0},6,null,{"$f":"AI9 +Nov!BH9","v":43},{"$f":"AJ9+Nov!BI9","v":0},{"$f":"AK9+Nov!BJ9","v":0},{"$f":"AL9+Nov!BK9","v":16},{"$f":"AM9+Nov!BL9","v":1},{"$f":"AN9+Nov!BM9","v":49},{"$f":"AO9+Nov!BN9","v":0},{"$f":"AP9+Nov!BO9","v":0},{"$f":"AQ9+Nov!BP9","v":0},{"$f":"AR9+Nov!BQ9","v":0},{"$f":"AS9+Nov!BR9","v":0},{"$f":"AT9+Nov!BS9","v":0},{"$f":"AU9+Nov!BT9","v":0},{"$f":"AV9+Nov!BU9","v":0},{"$f":"AW9+Nov!BV9","v":0},{"$f":"AX9+Nov!BW9","v":41},{"$f":"AY9+Nov!BX9","v":0},{"$f":"AZ9+Nov!BY9","v":0},{"$f":"BA9+Nov!BZ9","v":0},{"$f":"BB9+Nov!CA9","v":0},{"$f":"BC9+Nov!CB9","v":0},{"$f":"BD9+Nov!CC9","v":0},{"$f":"BE9+Nov!CD9","v":0},{"$f":"BF9+Nov!CE9","v":109},null,{"$f":"Nov!CG9","v":0},41,-41,null,{"$f":"Nov!CK9","v":0},0,0,null,{"$f":"Nov!CO9","v":0},0,0,null,{"$f":"Nov!CS9","v":0},0,0]
[{"$f":"Nov!A10","v":0},null,null,null,null,null,null,null,null,null,null,null,null,null,null,null,null,null,null,null,null,null,null,null,null,null,null,null,null,null,null,null,null,null,{"$f":"COUNTIF(C10:AG10,Accueil!$B$8)","v":0},{"$f":"COUNTIF(C10:AG10,Accueil!$B$9)","v":0},{"$f":"COUNTIF(C10:AG10,Accueil!$B$10)","v":0},{"$f":"COUNTIF(C10:AG10,Accueil!$B$11)","v":0},{"$f":"COUNTIF(C10:AG10,Accueil!$B$12)","v":0},{"$f":"COUNTIF(C10:AG10,Accueil!$B$13)","v":0},{"$f":"COUNTIF(C10:AG10,Accueil!$B$14)","v":0},{"$f":"COUNTIF(C10:AG10,Accueil!$B$15)","v":0},{"$f":"COUNTIF(C10:AG10,Accueil!$B$16)","v":0},{"$f":"COUNTIF(C10:AG10,Accueil!$B$17)","v":0},{"$f":"COUNTIF(C10:AG10,Accueil!$B$18)","v":0},{"$f":"COUNTIF(C10:AG10,Accueil!$B$19)","v":0},{"$f":"COUNTIF(C10:AG10,Accueil!$B$20)","v":0},{"$f":"COUNTIF(C10:AG10,Accueil!$B$21)","v":0},{"$f":"COUNTIF(C10:AG10,Accueil!$B$22)","v":0},{"$f":"COUNTIF(C10:AG10,Accueil!$B$23)","v":0},{"$f":"COUNTIF(C10:AG10,Accueil!$B$24)","v":0},{"$f":"COUNTIF(C10:AG10,Accueil!$B$25)","v":0},{"$f":"COUNTIF(C10:AG10,Accueil!$B$26)","v":0},{"$f":"COUNTIF(C10:AG10,Accueil!$B$27)","v":0},{"$f":"COUNTIF(C10:AG10,Accueil!$B$28)","v":0},{"$f":"COUNTIF(C10:AG10,Accueil!$B$29)","v":0},{"$f":"COUNTIF(C10:AG10,Accueil!$B$30)","v":0},0,null,{"$f":"AI10 +Nov!BH10","v":0},{"$f":"AJ10+Nov!BI10","v":0},{"$f":"AK10+Nov!BJ10","v":0},{"$f":"AL10+Nov!BK10","v":0},{"$f":"AM10+Nov!BL10","v":0},{"$f":"AN10+Nov!BM10","v":0},{"$f":"AO10+Nov!BN10","v":0},{"$f":"AP10+Nov!BO10","v":0},{"$f":"AQ10+Nov!BP10","v":0},{"$f":"AR10+Nov!BQ10","v":1},{"$f":"AS10+Nov!BR10","v":2},{"$f":"AT10+Nov!BS10","v":0},{"$f":"AU10+Nov!BT10","v":0},{"$f":"AV10+Nov!BU10","v":0},{"$f":"AW10+Nov!BV10","v":0},{"$f":"AX10+Nov!BW10","v":0},{"$f":"AY10+Nov!BX10","v":0},{"$f":"AZ10+Nov!BY10","v":0},{"$f":"BA10+Nov!BZ10","v":0},{"$f":"BB10+Nov!CA10","v":0},{"$f":"BC10+Nov!CB10","v":0},{"$f":"BD10+Nov!CC10","v":0},{"$f":"BE10+Nov!CD10","v":0},{"$f":"BF10+Nov!CE10","v":3},null,{"$f":"Nov!CG10","v":0},0,0,null,{"$f":"Nov!CK10","v":0},0,0,null,{"$f":"Nov!CO10","v":0},0,0,null,{"$f":"Nov!CS10","v":0},0,0]
[{"$f":"Nov!A11","v":"Simon-Pierre"},null,null,"M1",null,null,"M1","M2","MP",null,"M1",null,null,"M1","M2","MP",null,"M1",null,null,"M1","M2","MP",null,"M1",null,null,null,null,null,null,null,null,null,{"$f":"COUNTIF(C11:AG11,Accueil!$B$8)","v":7},{"$f":"COUNTIF(C11:AG11,Accueil!$B$9)","v":3},{"$f":"COUNTIF(C11:AG11,Accueil!$B$10)","v":0},{"$f":"COUNTIF(C11:AG11,Accueil!$B$11)","v":3},{"$f":"COUNTIF(C11:AG11,Accueil!$B$12)","v":0},{"$f":"COUNTIF(C11:AG11,Accueil!$B$13)","v":0},{"$f":"COUNTIF(C11:AG11,Accueil!$B$14)","v":0},{"$f":"COUNTIF(C11:AG11,Accueil!$B$15)","v":0},{"$f":"COUNTIF(C11:AG11,Accueil!$B$16)","v":0},{"$f":"COUNTIF(C11:AG11,Accueil!$B$17)","v":0},{"$f":"COUNTIF(C11:AG11,Accueil!$B$18)","v":0},{"$f":"COUNTIF(C11:AG11,Accueil!$B$19)","v":0},{"$f":"COUNTIF(C11:AG11,Accueil!$B$20)","v":0},{"$f":"COUNTIF(C11:AG11,Accueil!$B$21)","v":0},{"$f":"COUNTIF(C11:AG11,Accueil!$B$22)","v":0},{"$f":"COUNTIF(C11:AG11,Accueil!$B$23)","v":0},{"$f":"COUNTIF(C11:AG11,Accueil!$B$24)","v":0},{"$f":"COUNTIF(C11:AG11,Accueil!$B$25)","v":0},{"$f":"COUNTIF(C11:AG11,Accueil!$B$26)","v":0},{"$f":"COUNTIF(C11:AG11,Accueil!$B$27)","v":0},{"$f":"COUNTIF(C11:AG11,Accueil!$B$28)","v":0},{"$f":"COUNTIF(C11:AG11,Accueil!$B$29)","v":0},{"$f":"COUNTIF(C11:AG11,Accueil!$B$30)","v":0},13,null,{"$f":"AI11 +Nov!BH11","v":77},{"$f":"AJ11+Nov!BI11","v":45},{"$f":"AK11+Nov!BJ11","v":10},{"$f":"AL11+Nov!BK11","v":43},{"$f":"AM11+Nov!BL11","v":0},{"$f":"AN11+Nov!BM11","v":0},{"$f":"AO11+Nov!BN11","v":0},{"$f":"AP11+Nov!BO11","v":0},{"$f":"AQ11+Nov!BP11","v":0},{"$f":"AR11+Nov!BQ11","v":0},{"$f":"AS11+Nov!BR11","v":0},{"$f":"AT11+Nov!BS11","v":0},{"$f":"AU11+Nov!BT11","v":0},{"$f":"AV11+Nov!BU11","v":0},{"$f":"AW11+Nov!BV11","v":0},{"$f":"AX11+Nov!BW11","v":61},{"$f":"AY11+Nov!BX11","v":0},{"$f":"AZ11+Nov!BY11","v":0},{"$f":"BA11+Nov!BZ11","v":0},{"$f":"BB11+Nov!CA11","v":0},{"$f":"BC11+Nov!CB11","v":0},{"$f":"BD11+Nov!CC11","v":0},{"$f":"BE11+Nov!CD11","v":0},{"$f":"BF11+Nov!CE11","v":175},null,{"$f":"Nov!CG11","v":0},61,-61,null,{"$f":"Nov!CK11","v":0},0,0,null,{"$f":"Nov!CO11","v":0},0,0,null,{"$f":"Nov!CS11","v":0},0,0]
[{"$f":"Nov!A12","v":0},null,null,null,null,null,null,null,null,null,null,null,null,null,null,null,null,null,null,null,null,null,null,null,null,null,null,null,null,null,null,null,null,null,{"$f":"COUNTIF(C12:AG12,Accueil!$B$8)","v":0},{"$f":"COUNTIF(C12:AG12,Accueil!$B$9)","v":0},{"$f":"COUNTIF(C12:AG12,Accueil!$B$10)","v":0},{"$f":"COUNTIF(C12:AG12,Accueil!$B$11)","v":0},{"$f":"COUNTIF(C12:AG12,Accueil!$B$12)","v":0},{"$f":"COUNTIF(C12:AG12,Accueil!$B$13)","v":0},{"$f":"COUNTIF(C12:AG12,Accueil!$B$14)","v":0},{"$f":"COUNTIF(C12:AG12,Accueil!$B$15)","v":0},{"$f":"COUNTIF(C12:AG12,Accueil!$B$16)","v":0},{"$f":"COUNTIF(C12:AG12,Accueil!$B$17)","v":0},{"$f":"COUNTIF(C12:AG12,Accueil!$B$18)","v":0},{"$f":"COUNTIF(C12:AG12,Accueil!$B$19)","v":0},{"$f":"COUNTIF(C12:AG12,Accueil!$B$20)","v":0},{"$f":"COUNTIF(C12:AG12,Accueil!$B$21)","v":0},{"$f":"COUNTIF(C12:AG12,Accueil!$B$22)","v":0},{"$f":"COUNTIF(C12:AG12,Accueil!$B$23)","v":0},{"$f":"COUNTIF(C12:AG12,Accueil!$B$24)","v":0},{"$f":"COUNTIF(C12:AG12,Accueil!$B$25)","v":0},{"$f":"COUNTIF(C12:AG12,Accueil!$B$26)","v":0},{"$f":"COUNTIF(C12:AG12,Accueil!$B$27)","v":0},{"$f":"COUNTIF(C12:AG12,Accueil!$B$28)","v":0},{"$f":"COUNTIF(C12:AG12,Accueil!$B$29)","v":0},{"$f":"COUNTIF(C12:AG12,Accueil!$B$30)","v":0},0,null,{"$f":"AI12 +Nov!BH12","v":0},{"$f":"AJ12+Nov!BI12","v":0},{"$f":"AK12+Nov!BJ12","v":0},{"$f":"AL12+Nov!BK12","v":0},{"$f":"AM12+Nov!BL12","v":0},{"$f":"AN12+Nov!BM12","v":0},{"$f":"AO12+Nov!BN12","v":0},{"$f":"AP12+Nov!BO12","v":0},{"$f":"AQ12+Nov!BP12","v":0},{"$f":"AR12+Nov!BQ12","v":0},{"$f":"AS12+Nov!BR12","v":21},{"$f":"AT12+Nov!BS12","v":0},{"$f":"AU12+Nov!BT12","v":0},{"$f":"AV12+Nov!BU12","v":0},{"$f":"AW12+Nov!BV12","v":0},{"$f":"AX12+Nov!BW12","v":0},{"$f":"AY12+Nov!BX12","v":0},{"$f":"AZ12+Nov!BY12","v":0},{"$f":"BA12+Nov!BZ12","v":0},{"$f":"BB12+Nov!CA12","v":0},{"$f":"BC12+Nov!CB12","v":0},{"$f":"BD12+Nov!CC12","v":0},{"$f":"BE12+Nov!CD12","v":0},{"$f":"BF12+Nov!CE12","v":21},null,{"$f":"Nov!CG12","v":0},0,0,null,{"$f":"Nov!CK12","v":0},0,0,null,{"$f":"Nov!CO12","v":0},0,0,null,{"$f":"Nov!CS12","v":0},0,0]
[{"$f":"Nov!A13","v":"Virginie"},null,"Vac","Vac","Vac","Vac","M1","M2","MP","M3",null,null,null,"M1","M2","MP","M3",null,null,null,"M1","M2","MP","M3",null,null,null,null,null,null,null,null,null,null,{"$f":"COUNTIF(C13:AG13,Accueil!$B$8)","v":3},{"$f":"COUNTIF(C13:AG13,Accueil!$B$9)","v":3},{"$f":"COUNTIF(C13:AG13,Accueil!$B$10)","v":3},{"$f":"COUNTIF(C13:AG13,Accueil!$B$11)","v":3},{"$f":"COUNTIF(C13:AG13,Accueil!$B$12)","v":0},{"$f":"COUNTIF(C13:AG13,Accueil!$B$13)","v":0},{"$f":"COUNTIF(C13:AG13,Accueil!$B$14)","v":0},{"$f":"COUNTIF(C13:AG13,Accueil!$B$15)","v":0},{"$f":"COUNTIF(C13:AG13,Accueil!$B$16)","v":0},{"$f":"COUNTIF(C13:AG13,Accueil!$B$17)","v":0},{"$f":"COUNTIF(C13:AG13,Accueil!$B$18)","v":0},{"$f":"COUNTIF(C13:AG13,Accueil!$B$19)","v":0},{"$f":"COUNTIF(C13:AG13,Accueil!$B$20)","v":0},{"$f":"COUNTIF(C13:AG13,Accueil!$B$21)","v":0},{"$f":"COUNTIF(C13:AG13,Accueil!$B$22)","v":0},{"$f":"COUNTIF(C13:AG13,Accueil!$B$23)","v":4},{"$f":"COUNTIF(C13:AG13,Accueil!$B$24)","v":0},{"$f":"COUNTIF(C13:AG13,Accueil!$B$25)","v":0},{"$f":"COUNTIF(C13:AG13,Accueil!$B$26)","v":0},{"$f":"COUNTIF(C13:AG13,Accueil!$B$27)","v":0},{"$f":"COUNTIF(C13:AG13,Accueil!$B$28)","v":0},{"$f":"COUNTIF(C13:AG13,Accueil!$B$29)","v":0},{"$f":"COUNTIF(C13:AG13,Accueil!$B$30)","v":0},12,null,{"$f":"AI13 +Nov!BH13","v":34},{"$f":"AJ13+Nov!BI13","v":47},{"$f":"AK13+Nov!BJ13","v":34},{"$f":"AL13+Nov!BK13","v":73},{"$f":"AM13+Nov!BL13","v":1},{"$f":"AN13+Nov!BM13","v":10},{"$f":"AO13+Nov!BN13","v":0},{"$f":"AP13+Nov!BO13","v":0},{"$f":"AQ13+Nov!BP13","v":0},{"$f":"AR13+Nov!BQ13","v":0},{"$f":"AS13+Nov!BR13","v":0},{"$f":"AT13+Nov!BS13","v":0},{"$f":"AU13+Nov!BT13","v":3},{"$f":"AV13+Nov!BU13","v":0},{"$f":"AW13+Nov!BV13","v":0},{"$f":"AX13+Nov!BW13","v":39},{"$f":"AY13+Nov!BX13","v":0},{"$f":"AZ13+Nov!BY13","v":0},{"$f":"BA13+Nov!BZ13","v":17},{"$f":"BB13+Nov!CA13","v":1},{"$f":"BC13+Nov!CB13","v":0},{"$f":"BD13+Nov!CC13","v":0},{"$f":"BE13+Nov!CD13","v":0},{"$f":"BF13+Nov!CE13","v":199},null,{"$f":"Nov!CG13","v":0},39,-39,null,{"$f":"Nov!CK13","v":0},0,0,null,{"$f":"Nov!CO13","v":0},0,0,null,{"$f":"Nov!CS13","v":0},0,0]
[{"$f":"Nov!A14","v":0},null,null,null,null,null,null,null,null,null,null,null,null,null,null,null,null,null,null,null,null,null,null,null,null,null,null,null,null,null,null,null,null,null,{"$f":"COUNTIF(C14:AG14,Accueil!$B$8)","v":0},{"$f":"COUNTIF(C14:AG14,Accueil!$B$9)","v":0},{"$f":"COUNTIF(C14:AG14,Accueil!$B$10)","v":0},{"$f":"COUNTIF(C14:AG14,Accueil!$B$11)","v":0},{"$f":"COUNTIF(C14:AG14,Accueil!$B$12)","v":0},{"$f":"COUNTIF(C14:AG14,Accueil!$B$13)","v":0},{"$f":"COUNTIF(C14:AG14,Accueil!$B$14)","v":0},{"$f":"COUNTIF(C14:AG14,Accueil!$B$15)","v":0},{"$f":"COUNTIF(C14:AG14,Accueil!$B$16)","v":0},{"$f":"COUNTIF(C14:AG14,Accueil!$B$17)","v":0},{"$f":"COUNTIF(C14:AG14,Accueil!$B$18)","v":0},{"$f":"COUNTIF(C14:AG14,Accueil!$B$19)","v":0},{"$f":"COUNTIF(C14:AG14,Accueil!$B$20)","v":0},{"$f":"COUNTIF(C14:AG14,Accueil!$B$21)","v":0},{"$f":"COUNTIF(C14:AG14,Accueil!$B$22)","v":0},{"$f":"COUNTIF(C14:AG14,Accueil!$B$23)","v":0},{"$f":"COUNTIF(C14:AG14,Accueil!$B$24)","v":0},{"$f":"COUNTIF(C14:AG14,Accueil!$B$25)","v":0},{"$f":"COUNTIF(C14:AG14,Accueil!$B$26)","v":0},{"$f":"COUNTIF(C14:AG14,Accueil!$B$27)","v":0},{"$f":"COUNTIF(C14:AG14,Accueil!$B$28)","v":0},{"$f":"COUNTIF(C14:AG14,Accueil!$B$29)","v":0},{"$f":"COUNTIF(C14:AG14,Accueil!$B$30)","v":0},0,null,{"$f":"AI14 +Nov!BH14","v":0},{"$f":"AJ14+Nov!BI14","v":0},{"$f":"AK14+Nov!BJ14","v":0},{"$f":"AL14+Nov!BK14","v":0},{"$f":"AM14+Nov!BL14","v":0},{"$f":"AN14+Nov!BM14","v":0},{"$f":"AO14+Nov!BN14","v":0},{"$f":"AP14+Nov!BO14","v":0},{"$f":"AQ14+Nov!BP14","v":0},{"$f":"AR14+Nov!BQ14","v":6},{"$f":"AS14+Nov!BR14","v":1},{"$f":"AT14+Nov!BS14","v":0},{"$f":"AU14+Nov!BT14","v":0},{"$f":"AV14+Nov!BU14","v":0},{"$f":"AW14+Nov!BV14","v":0},{"$f":"AX14+Nov!BW14","v":0},{"$f":"AY14+Nov!BX14","v":0},{"$f":"AZ14+Nov!BY14","v":0},{"$f":"BA14+Nov!BZ14","v":0},{"$f":"BB14+Nov!CA14","v":0},{"$f":"BC14+Nov!CB14","v":0},{"$f":"BD14+Nov!CC14","v":0},{"$f":"BE14+Nov!CD14","v":0},{"$f":"BF14+Nov!CE14","v":7},null,{"$f":"Nov!CG14","v":0},0,0,null,{"$f":"Nov!CK14","v":0},0,0,null,{"$f":"Nov!CO14","v":0},0,0,null,{"$f":"Nov!CS14","v":0},0,0]
[{"$f":"Nov!A15","v":"Jacqueline"},null,null,"M2",null,null,"M3","MP",null,null,"M2",null,null,"M3","MP",null,null,"M2",null,null,"M3","MP",null,null,"M2",null,null,null,null,null,null,null,null,null,{"$f":"COUNTIF(C15:AG15,Accueil!$B$8)","v":0},{"$f":"COUNTIF(C15:AG15,Accueil!$B$9)","v":4},{"$f":"COUNTIF(C15:AG15,Accueil!$B$10)","v":3},{"$f":"COUNTIF(C15:AG15,Accueil!$B$11)","v":3},{"$f":"COUNTIF(C15:AG15,Accueil!$B$12)","v":0},{"$f":"COUNTIF(C15:AG15,Accueil!$B$13)","v":0},{"$f":"COUNTIF(C15:AG15,Accueil!$B$14)","v":0},{"$f":"COUNTIF(C15:AG15,Accueil!$B$15)","v":0},{"$f":"COUNTIF(C15:AG15,Accueil!$B$16)","v":0},{"$f":"COUNTIF(C15:AG15,Accueil!$B$17)","v":0},{"$f":"COUNTIF(C15:AG15,Accueil!$B$18)","v":0},{"$f":"COUNTIF(C15:AG15,Accueil!$B$19)","v":0},{"$f":"COUNTIF(C15:AG15,Accueil!$B$20)","v":0},{"$f":"COUNTIF(C15:AG15,Accueil!$B$21)","v":0},{"$f":"COUNTIF(C15:AG15,Accueil!$B$22)","v":0},{"$f":"COUNTIF(C15:AG15,Accueil!$B$23)","v":0},{"$f":"COUNTIF(C15:AG15,Accueil!$B$24)","v":0},{"$f":"COUNTIF(C15:AG15,Accueil!$B$25)","v":0},{"$f":"COUNTIF(C15:AG15,Accueil!$B$26)","v":0},{"$f":"COUNTIF(C15:AG15,Accueil!$B$27)","v":0},{"$f":"COUNTIF(C15:AG15,Accueil!$B$28)","v":0},{"$f":"COUNTIF(C15:AG15,Accueil!$B$29)","v":0},{"$f":"COUNTIF(C15:AG15,Accueil!$B$30)","v":0},10,null,{"$f":"AI15 +Nov!BH15","v":3},{"$f":"AJ15+Nov!BI15","v":38},{"$f":"AK15+Nov!BJ15","v":34},{"$f":"AL15+Nov!BK15","v":62},{"$f":"AM15+Nov!BL15","v":1},{"$f":"AN15+Nov!BM15","v":2},{"$f":"AO15+Nov!BN15","v":0},{"$f":"AP15+Nov!BO15","v":0},{"$f":"AQ15+Nov!BP15","v":0},{"$f":"AR15+Nov!BQ15","v":0},{"$f":"AS15+Nov!BR15","v":0},{"$f":"AT15+Nov!BS15","v":0},{"$f":"AU15+Nov!BT15","v":0},{"$f":"AV15+Nov!BU15","v":0},{"$f":"AW15+Nov!BV15","v":0},{"$f":"AX15+Nov!BW15","v":57},{"$f":"AY15+Nov!BX15","v":0},{"$f":"AZ15+Nov!BY15","v":0},{"$f":"BA15+Nov!BZ15","v":2},{"$f":"BB15+Nov!CA15","v":0},{"$f":"BC15+Nov!CB15","v":0},{"$f":"BD15+Nov!CC15","v":0},{"$f":"BE15+Nov!CD15","v":0},{"$f":"BF15+Nov!CE15","v":140},null,{"$f":"Nov!CG15","v":0},57,-57,null,{"$f":"Nov!CK15","v":0},0,0,null,{"$f":"Nov!CO15","v":0},0,0,null,{"$f":"Nov!CS15","v":0},0,0]
[{"$f":"Nov!A16","v":0},null,null,null,null,null,null,null,null,null,null,null,null,null,null,null,null,null,null,null,null,null,null,null,null,null,null,null,null,null,null,null,null,null,{"$f":"COUNTIF(C16:AG16,Accueil!$B$8)","v":0},{"$f":"COUNTIF(C16:AG16,Accueil!$B$9)","v":0},{"$f":"COUNTIF(C16:AG16,Accueil!$B$10)","v":0},{"$f":"COUNTIF(C16:AG16,Accueil!$B$11)","v":0},{"$f":"COUNTIF(C16:AG16,Accueil!$B$12)","v":0},{"$f":"COUNTIF(C16:AG16,Accueil!$B$13)","v":0},{"$f":"COUNTIF(C16:AG16,Accueil!$B$14)","v":0},{"$f":"COUNTIF(C16:AG16,Accueil!$B$15)","v":0},{"$f":"COUNTIF(C16:AG16,Accueil!$B$16)","v":0},{"$f":"COUNTIF(C16:AG16,Accueil!$B$17)","v":0},{"$f":"COUNTIF(C16:AG16,Accueil!$B$18)","v":0},{"$f":"COUNTIF(C16:AG16,Accueil!$B$19)","v":0},{"$f":"COUNTIF(C16:AG16,Accueil!$B$20)","v":0},{"$f":"COUNTIF(C16:AG16,Accueil!$B$21)","v":0},{"$f":"COUNTIF(C16:AG16,Accueil!$B$22)","v":0},{"$f":"COUNTIF(C16:AG16,Accueil!$B$23)","v":0},{"$f":"COUNTIF(C16:AG16,Accueil!$B$24)","v":0},{"$f":"COUNTIF(C16:AG16,Accueil!$B$25)","v":0},{"$f":"COUNTIF(C16:AG16,Accueil!$B$26)","v":0},{"$f":"COUNTIF(C16:AG16,Accueil!$B$27)","v":0},{"$f":"COUNTIF(C16:AG16,Accueil!$B$28)","v":0},{"$f":"COUNTIF(C16:AG16,Accueil!$B$29)","v":0},{"$f":"COUNTIF(C16:AG16,Accueil!$B$30)","v":0},0,null,{"$f":"AI16 +Nov!BH16","v":0},{"$f":"AJ16+Nov!BI16","v":0},{"$f":"AK16+Nov!BJ16","v":0},{"$f":"AL16+Nov!BK16","v":0},{"$f":"AM16+Nov!BL16","v":0},{"$f":"AN16+Nov!BM16","v":0},{"$f":"AO16+Nov!BN16","v":0},{"$f":"AP16+Nov!BO16","v":0},{"$f":"AQ16+Nov!BP16","v":0},{"$f":"AR16+Nov!BQ16","v":0},{"$f":"AS16+Nov!BR16","v":6},{"$f":"AT16+Nov!BS16","v":0},{"$f":"AU16+Nov!BT16","v":0},{"$f":"AV16+Nov!BU16","v":0},{"$f":"AW16+Nov!BV16","v":0},{"$f":"AX16+Nov!BW16","v":0},{"$f":"AY16+Nov!BX16","v":0},{"$f":"AZ16+Nov!BY16","v":0},{"$f":"BA16+Nov!BZ16","v":0},{"$f":"BB16+Nov!CA16","v":0},{"$f":"BC16+Nov!CB16","v":0},{"$f":"BD16+Nov!CC16","v":0},{"$f":"BE16+Nov!CD16","v":0},{"$f":"BF16+Nov!CE16","v":6},null,{"$f":"Nov!CG16","v":0},0,0,null,{"$f":"Nov!CK16","v":0},0,0,null,{"$f":"Nov!CO16","v":0},0,0,null,{"$f":"Nov!CS16","v":0},0,0]
[{"$f":"Nov!A17","v":"Colette"},null,null,null,null,"MP",null,"M2","MP",null,null,null,null,null,"M2","MP",null,null,null,"MP","Vac","Vac","Vac","Vac","Vac","Vac","Vac","Vac","Vac","Vac","Vac","Vac","Vac",null,{"$f":"COUNTIF(C17:AG17,Accueil!$B$8)","v":0},{"$f":"COUNTIF(C17:AG17,Accueil!$B$9)","v":2},{"$f":"COUNTIF(C17:AG17,Accueil!$B$10)","v":0},{"$f":"COUNTIF(C17:AG17,Accueil!$B$11)","v":4},{"$f":"COUNTIF(C17:AG17,Accueil!$B$12)","v":0},{"$f":"COUNTIF(C17:AG17,Accueil!$B$13)","v":0},{"$f":"COUNTIF(C17:AG17,Accueil!$B$14)","v":0},{"$f":"COUNTIF(C17:AG17,Accueil!$B$15)","v":0},{"$f":"COUNTIF(C17:AG17,Accueil!$B$16)","v":0},{"$f":"COUNTIF(C17:AG17,Accueil!$B$17)","v":0},{"$f":"COUNTIF(C17:AG17,Accueil!$B$18)","v":0},{"$f":"COUNTIF(C17:AG17,Accueil!$B$19)","v":0},{"$f":"COUNTIF(C17:AG17,Accueil!$B$20)","v":0},{"$f":"COUNTIF(C17:AG17,Accueil!$B$21)","v":0},{"$f":"COUNTIF(C17:AG17,Accueil!$B$22)","v":0},{"$f":"COUNTIF(C17:AG17,Accueil!$B$23)","v":13},{"$f":"COUNTIF(C17:AG17,Accueil!$B$24)","v":0},{"$f":"COUNTIF(C17:AG17,Accueil!$B$25)","v":0},{"$f":"COUNTIF(C17:AG17,Accueil!$B$26)","v":0},{"$f":"COUNTIF(C17:AG17,Accueil!$B$27)","v":0},{"$f":"COUNTIF(C17:AG17,Accueil!$B$28)","v":0},{"$f":"COUNTIF(C17:AG17,Accueil!$B$29)","v":0},{"$f":"COUNTIF(C17:AG17,Accueil!$B$30)","v":0},6,null,{"$f":"AI17 +Nov!BH17","v":0},{"$f":"AJ17+Nov!BI17","v":34},{"$f":"AK17+Nov!BJ17","v":10},{"$f":"AL17+Nov!BK17","v":62},{"$f":"AM17+Nov!BL17","v":4},{"$f":"AN17+Nov!BM17","v":7},{"$f":"AO17+Nov!BN17","v":0},{"$f":"AP17+Nov!BO17","v":0},{"$f":"AQ17+Nov!BP17","v":0},{"$f":"AR17+Nov!BQ17","v":0},{"$f":"AS17+Nov!BR17","v":5},{"$f":"AT17+Nov!BS17","v":0},{"$f":"AU17+Nov!BT17","v":34},{"$f":"AV17+Nov!BU17","v":0},{"$f":"AW17+Nov!BV17","v":0},{"$f":"AX17+Nov!BW17","v":32},{"$f":"AY17+Nov!BX17","v":0},{"$f":"AZ17+Nov!BY17","v":0},{"$f":"BA17+Nov!BZ17","v":6},{"$f":"BB17+Nov!CA17","v":0},{"$f":"BC17+Nov!CB17","v":0},{"$f":"BD17+Nov!CC17","v":0},{"$f":"BE17+Nov!CD17","v":0},{"$f":"BF17+Nov!CE17","v":122},null,{"$f":"Nov!CG17","v":0},32,-32,null,{"$f":"Nov!CK17","v":0},0,0,null,{"$f":"Nov!CO17","v":0},0,0,null,{"$f":"Nov!CS17","v":0},0,0]
[{"$f":"Nov!A18","v":0},null,null,null,null,null,null,null,null,null,null,null,null,null,null,null,null,null,null,null,null,null,null,null,null,null,null,null,null,null,null,null,null,null,{"$f":"COUNTIF(C18:AG18,Accueil!$B$8)","v":0},{"$f":"COUNTIF(C18:AG18,Accueil!$B$9)","v":0},{"$f":"COUNTIF(C18:AG18,Accueil!$B$10)","v":0},{"$f":"COUNTIF(C18:AG18,Accueil!$B$11)","v":0},{"$f":"COUNTIF(C18:AG18,Accueil!$B$12)","v":0},{"$f":"COUNTIF(C18:AG18,Accueil!$B$13)","v":0},{"$f":"COUNTIF(C18:AG18,Accueil!$B$14)","v":0},{"$f":"COUNTIF(C18:AG18,Accueil!$B$15)","v":0},{"$f":"COUNTIF(C18:AG18,Accueil!$B$16)","v":0},{"$f":"COUNTIF(C18:AG18,Accueil!$B$17)","v":0},{"$f":"COUNTIF(C18:AG18,Accueil!$B$18)","v":0},{"$f":"COUNTIF(C18:AG18,Accueil!$B$19)","v":0},{"$f":"COUNTIF(C18:AG18,Accueil!$B$20)","v":0},{"$f":"COUNTIF(C18:AG18,Accueil!$B$21)","v":0},{"$f":"COUNTIF(C18:AG18,Accueil!$B$22)","v":0},{"$f":"COUNTIF(C18:AG18,Accueil!$B$23)","v":0},{"$f":"COUNTIF(C18:AG18,Accueil!$B$24)","v":0},{"$f":"COUNTIF(C18:AG18,Accueil!$B$25)","v":0},{"$f":"COUNTIF(C18:AG18,Accueil!$B$26)","v":0},{"$f":"COUNTIF(C18:AG18,Accueil!$B$27)","v":0},{"$f":"COUNTIF(C18:AG18,Accueil!$B$28)","v":0},{"$f":"COUNTIF(C18:AG18,Accueil!$B$29)","v":0},{"$f":"COUNTIF(C18:AG18,Accueil!$B$30)","v":0},0,null,{"$f":"AI18 +Nov!BH18","v":0},{"$f":"AJ18+Nov!BI18","v":0},{"$f":"AK18+Nov!BJ18","v":0},{"$f":"AL18+Nov!BK18","v":1},{"$f":"AM18+Nov!BL18","v":0},{"$f":"AN18+Nov!BM18","v":0},{"$f":"AO18+Nov!BN18","v":0},{"$f":"AP18+Nov!BO18","v":0},{"$f":"AQ18+Nov!BP18","v":0},{"$f":"AR18+Nov!BQ18","v":0},{"$f":"AS18+Nov!BR18","v":47},{"$f":"AT18+Nov!BS18","v":0},{"$f":"AU18+Nov!BT18","v":0},{"$f":"AV18+Nov!BU18","v":0},{"$f":"AW18+Nov!BV18","v":0},{"$f":"AX18+Nov!BW18","v":0},{"$f":"AY18+Nov!BX18","v":0},{"$f":"AZ18+Nov!BY18","v":0},{"$f":"BA18+Nov!BZ18","v":0},{"$f":"BB18+Nov!CA18","v":0},{"$f":"BC18+Nov!CB18","v":0},{"$f":"BD18+Nov!CC18","v":0},{"$f":"BE18+Nov!CD18","v":0},{"$f":"BF18+Nov!CE18","v":48},null,{"$f":"Nov!CG18","v":0},0,0,null,{"$f":"Nov!CK18","v":0},0,0,null,{"$f":"Nov!CO18","v":0},0,0,null,{"$f":"Nov!CS18","v":0},0,0]
[{"$f":"Nov!A19","v":"Lisa"},null,"M1","MP",null,null,null,"M2",null,"M1","MP",null,null,null,"M2",null,"M1","MP",null,null,null,"M2",null,"M1","MP",null,null,null,null,null,null,null,null,null,{"$f":"COUNTIF(C19:AG19,Accueil!$B$8)","v":4},{"$f":"COUNTIF(C19:AG19,Accueil!$B$9)","v":3},{"$f":"COUNTIF(C19:AG19,Accueil!$B$10)","v":0},{"$f":"COUNTIF(C19:AG19,Accueil!$B$11)","v":4},{"$f":"COUNTIF(C19:AG19,Accueil!$B$12)","v":0},{"$f":"COUNTIF(C19:AG19,Accueil!$B$13)","v":0},{"$f":"COUNTIF(C19:AG19,Accueil!$B$14)","v":0},{"$f":"COUNTIF(C19:AG19,Accueil!$B$15)","v":0},{"$f":"COUNTIF(C19:AG19,Accueil!$B$16)","v":0},{"$f":"COUNTIF(C19:AG19,Accueil!$B$17)","v":0},{"$f":"COUNTIF(C19:AG19,Accueil!$B$18)","v":0},{"$f":"COUNTIF(C19:AG19,Accueil!$B$19)","v":0},{"$f":"COUNTIF(C19:AG19,Accueil!$B$20)","v":0},{"$f":"COUNTIF(C19:AG19,Accueil!$B$21)","v":0},{"$f":"COUNTIF(C19:AG19,Accueil!$B$22)","v":0},{"$f":"COUNTIF(C19:AG19,Accueil!$B$23)","v":0},{"$f":"COUNTIF(C19:AG19,Accueil!$B$24)","v":0},{"$f":"COUNTIF(C19:AG19,Accueil!$B$25)","v":0},{"$f":"COUNTIF(C19:AG19,Accueil!$B$26)","v":0},{"$f":"COUNTIF(C19:AG19,Accueil!$B$27)","v":0},{"$f":"COUNTIF(C19:AG19,Accueil!$B$28)","v":0},{"$f":"COUNTIF(C19:AG19,Accueil!$B$29)","v":0},{"$f":"COUNTIF(C19:AG19,Accueil!$B$30)","v":0},11,null,{"$f":"AI19 +Nov!BH19","v":34},{"$f":"AJ19+Nov!BI19","v":45},{"$f":"AK19+Nov!BJ19","v":9},{"$f":"AL19+Nov!BK19","v":57},{"$f":"AM19+Nov!BL19","v":4},{"$f":"AN19+Nov!BM19","v":3},{"$f":"AO19+Nov!BN19","v":0},{"$f":"AP19+Nov!BO19","v":0},{"$f":"AQ19+Nov!BP19","v":0},{"$f":"AR19+Nov!BQ19","v":0},{"$f":"AS19+Nov!BR19","v":0},{"$f":"AT19+Nov!BS19","v":0},{"$f":"AU19+Nov!BT19","v":2},{"$f":"AV19+Nov!BU19","v":0},{"$f":"AW19+Nov!BV19","v":0},{"$f":"AX19+Nov!BW19","v":32},{"$f":"AY19+Nov!BX19","v":0},{"$f":"AZ19+Nov!BY19","v":0},{"$f":"BA19+Nov!BZ19","v":2},{"$f":"BB19+Nov!CA19","v":0},{"$f":"BC19+Nov!CB19","v":0},{"$f":"BD19+Nov!CC19","v":0},{"$f":"BE19+Nov!CD19","v":0},{"$f":"BF19+Nov!CE19","v":152},null,{"$f":"Nov!CG19","v":0},32,-32,null,{"$f":"Nov!CK19","v":0},0,0,null,{"$f":"Nov!CO19","v":0},0,0,null,{"$f":"Nov!CS19","v":0},0,0]
[{"$f":"Nov!A20","v":0},null,null,null,null,null,null,null,null,null,null,null,null,null,null,null,null,null,null,null,null,null,null,null,null,null,null,null,null,null,null,null,null,null,{"$f":"COUNTIF(C20:AG20,Accueil!$B$8)","v":0},{"$f":"COUNTIF(C20:AG20,Accueil!$B$9)","v":0},{"$f":"COUNTIF(C20:AG20,Accueil!$B$10)","v":0},{"$f":"COUNTIF(C20:AG20,Accueil!$B$11)","v":0},{"$f":"COUNTIF(C20:AG20,Accueil!$B$12)","v":0},{"$f":"COUNTIF(C20:AG20,Accueil!$B$13)","v":0},{"$f":"COUNTIF(C20:AG20,Accueil!$B$14)","v":0},{"$f":"COUNTIF(C20:AG20,Accueil!$B$15)","v":0},{"$f":"COUNTIF(C20:AG20,Accueil!$B$16)","v":0},{"$f":"COUNTIF(C20:AG20,Accueil!$B$17)","v":0},{"$f":"COUNTIF(C20:AG20,Accueil!$B$18)","v":0},{"$f":"COUNTIF(C20:AG20,Accueil!$B$19)","v":0},{"$f":"COUNTIF(C20:AG20,Accueil!$B$20)","v":0},{"$f":"COUNTIF(C20:AG20,Accueil!$B$21)","v":0},{"$f":"COUNTIF(C20:AG20,Accueil!$B$22)","v":0},{"$f":"COUNTIF(C20:AG20,Accueil!$B$23)","v":0},{"$f":"COUNTIF(C20:AG20,Accueil!$B$24)","v":0},{"$f":"COUNTIF(C20:AG20,Accueil!$B$25)","v":0},{"$f":"COUNTIF(C20:AG20,Accueil!$B$26)","v":0},{"$f":"COUNTIF(C20:AG20,Accueil!$B$27)","v":0},{"$f":"COUNTIF(C20:AG20,Accueil!$B$28)","v":0},{"$f":"COUNTIF(C20:AG20,Accueil!$B$29)","v":0},{"$f":"COUNTIF(C20:AG20,Accueil!$B$30)","v":0},0,null,{"$f":"AI20 +Nov!BH20","v":0},{"$f":"AJ20+Nov!BI20","v":0},{"$f":"AK20+Nov!BJ20","v":0},{"$f":"AL20+Nov!BK20","v":0},{"$f":"AM20+Nov!BL20","v":0},{"$f":"AN20+Nov!BM20","v":0},{"$f":"AO20+Nov!BN20","v":0},{"$f":"AP20+Nov!BO20","v":0},{"$f":"AQ20+Nov!BP20","v":0},{"$f":"AR20+Nov!BQ20","v":0},{"$f":"AS20+Nov!BR20","v":1},{"$f":"AT20+Nov!BS20","v":0},{"$f":"AU20+Nov!BT20","v":0},{"$f":"AV20+Nov!BU20","v":0},{"$f":"AW20+Nov!BV20","v":0},{"$f":"AX20+Nov!BW20","v":0},{"$f":"AY20+Nov!BX20","v":0},{"$f":"AZ20+Nov!BY20","v":0},{"$f":"BA20+Nov!BZ20","v":0},{"$f":"BB20+Nov!CA20","v":0},{"$f":"BC20+Nov!CB20","v":0},{"$f":"BD20+Nov!CC20","v":0},{"$f":"BE20+Nov!CD20","v":0},{"$f":"BF20+Nov!CE20","v":1},null,{"$f":"Nov!CG20","v":0},0,0,null,{"$f":"Nov!CK20","v":0},0,0,null,{"$f":"Nov!CO20","v":0},0,0,null,{"$f":"Nov!CS20","v":0},0,0]
[{"$f":"Nov!A21","v":"Philip"},null,null,null,null,null,"MP","M1",null,null,null,null,"P1","MP","M1",null,null,null,null,null,"MP","M1",null,null,null,null,null,null,null,null,null,null,null,null,{"$f":"COUNTIF(C21:AG21,Accueil!$B$8)","v":3},{"$f":"COUNTIF(C21:AG21,Accueil!$B$9)","v":0},{"$f":"COUNTIF(C21:AG21,Accueil!$B$10)","v":0},{"$f":"COUNTIF(C21:AG21,Accueil!$B$11)","v":3},{"$f":"COUNTIF(C21:AG21,Accueil!$B$12)","v":0},{"$f":"COUNTIF(C21:AG21,Accueil!$B$13)","v":0},{"$f":"COUNTIF(C21:AG21,Accueil!$B$14)","v":0},{"$f":"COUNTIF(C21:AG21,Accueil!$B$15)","v":1},{"$f":"COUNTIF(C21:AG21,Accueil!$B$16)","v":0},{"$f":"COUNTIF(C21:AG21,Accueil!$B$17)","v":0},{"$f":"COUNTIF(C21:AG21,Accueil!$B$18)","v":0},{"$f":"COUNTIF(C21:AG21,Accueil!$B$19)","v":0},{"$f":"COUNTIF(C21:AG21,Accueil!$B$20)","v":0},{"$f":"COUNTIF(C21:AG21,Accueil!$B$21)","v":0},{"$f":"COUNTIF(C21:AG21,Accueil!$B$22)","v":0},{"$f":"COUNTIF(C21:AG21,Accueil!$B$23)","v":0},{"$f":"COUNTIF(C21:AG21,Accueil!$B$24)","v":0},{"$f":"COUNTIF(C21:AG21,Accueil!$B$25)","v":0},{"$f":"COUNTIF(C21:AG21,Accueil!$B$26)","v":0},{"$f":"COUNTIF(C21:AG21,Accueil!$B$27)","v":0},{"$f":"COUNTIF(C21:AG21,Accueil!$B$28)","v":0},{"$f":"COUNTIF(C21:AG21,Accueil!$B$29)","v":0},{"$f":"COUNTIF(C21:AG21,Accueil!$B$30)","v":0},7,null,{"$f":"AI21 +Nov!BH21","v":44},{"$f":"AJ21+Nov!BI21","v":0},{"$f":"AK21+Nov!BJ21","v":0},{"$f":"AL21+Nov!BK21","v":60},{"$f":"AM21+Nov!BL21","v":5},{"$f":"AN21+Nov!BM21","v":1},{"$f":"AO21+Nov!BN21","v":0},{"$f":"AP21+Nov!BO21","v":2},{"$f":"AQ21+Nov!BP21","v":0},{"$f":"AR21+Nov!BQ21","v":0},{"$f":"AS21+Nov!BR21","v":0},{"$f":"AT21+Nov!BS21","v":0},{"$f":"AU21+Nov!BT21","v":0},{"$f":"AV21+Nov!BU21","v":0},{"$f":"AW21+Nov!BV21","v":0},{"$f":"AX21+Nov!BW21","v":40},{"$f":"AY21+Nov!BX21","v":0},{"$f":"AZ21+Nov!BY21","v":0},{"$f":"BA21+Nov!BZ21","v":0},{"$f":"BB21+Nov!CA21","v":0},{"$f":"BC21+Nov!CB21","v":0},{"$f":"BD21+Nov!CC21","v":0},{"$f":"BE21+Nov!CD21","v":0},{"$f":"BF21+Nov!CE21","v":112},null,{"$f":"Nov!CG21","v":0},40,-40,null,{"$f":"Nov!CK21","v":0},0,0,null,{"$f":"Nov!CO21","v":0},0,0,null,{"$f":"Nov!CS21","v":0},0,0]
[{"$f":"Nov!A22","v":0},null,null,null,null,null,null,null,null,null,null,null,null,null,null,null,null,null,null,null,null,null,null,null,null,null,null,null,null,null,null,null,null,null,{"$f":"COUNTIF(C22:AG22,Accueil!$B$8)","v":0},{"$f":"COUNTIF(C22:AG22,Accueil!$B$9)","v":0},{"$f":"COUNTIF(C22:AG22,Accueil!$B$10)","v":0},{"$f":"COUNTIF(C22:AG22,Accueil!$B$11)","v":0},{"$f":"COUNTIF(C22:AG22,Accueil!$B$12)","v":0},{"$f":"COUNTIF(C22:AG22,Accueil!$B$13)","v":0},{"$f":"COUNTIF(C22:AG22,Accueil!$B$14)","v":0},{"$f":"COUNTIF(C22:AG22,Accueil!$B$15)","v":0},{"$f":"COUNTIF(C22:AG22,Accueil!$B$16)","v":0},{"$f":"COUNTIF(C22:AG22,Accueil!$B$17)","v":0},{"$f":"COUNTIF(C22:AG22,Accueil!$B$18)","v":0},{"$f":"COUNTIF(C22:AG22,Accueil!$B$19)","v":0},{"$f":"COUNTIF(C22:AG22,Accueil!$B$20)","v":0},{"$f":"COUNTIF(C22:AG22,Accueil!$B$21)","v":0},{"$f":"COUNTIF(C22:AG22,Accueil!$B$22)","v":0},{"$f":"COUNTIF(C22:AG22,Accueil!$B$23)","v":0},{"$f":"COUNTIF(C22:AG22,Accueil!$B$24)","v":0},{"$f":"COUNTIF(C22:AG22,Accueil!$B$25)","v":0},{"$f":"COUNTIF(C22:AG22,Accueil!$B$26)","v":0},{"$f":"COUNTIF(C22:AG22,Accueil!$B$27)","v":0},{"$f":"COUNTIF(C22:AG22,Accueil!$B$28)","v":0},{"$f":"COUNTIF(C22:AG22,Accueil!$B$29)","v":0},{"$f":"COUNTIF(C22:AG22,Accueil!$B$30)","v":0},0,null,{"$f":"AI22 +Nov!BH22","v":0},{"$f":"AJ22+Nov!BI22","v":0},{"$f":"AK22+Nov!BJ22","v":0},{"$f":"AL22+Nov!BK22","v":0},{"$f":"AM22+Nov!BL22","v":0},{"$f":"AN22+Nov!BM22","v":0},{"$f":"AO22+Nov!BN22","v":0},{"$f":"AP22+Nov!BO22","v":0},{"$f":"AQ22+Nov!BP22","v":0},{"$f":"AR22+Nov!BQ22","v":8},{"$f":"AS22+Nov!BR22","v":3},{"$f":"AT22+Nov!BS22","v":0},{"$f":"AU22+Nov!BT22","v":0},{"$f":"AV22+Nov!BU22","v":0},{"$f":"AW22+Nov!BV22","v":0},{"$f":"AX22+Nov!BW22","v":0},{"$f":"AY22+Nov!BX22","v":0},{"$f":"AZ22+Nov!BY22","v":0},{"$f":"BA22+Nov!BZ22","v":0},{"$f":"BB22+Nov!CA22","v":0},{"$f":"BC22+Nov!CB22","v":0},{"$f":"BD22+Nov!CC22","v":0},{"$f":"BE22+Nov!CD22","v":0},{"$f":"BF22+Nov!CE22","v":11},null,{"$f":"Nov!CG22","v":0},0,0,null,{"$f":"Nov!CK22","v":0},0,0,null,{"$f":"Nov!CO22","v":0},0,0,null,{"$f":"Nov!CS22","v":0},0,0]
[{"$f":"Nov!A23","v":"Dania"},null,null,null,null,null,null,null,null,null,null,null,null,null,null,null,null,null,null,null,null,null,null,null,null,null,null,null,null,null,null,null,null,null,{"$f":"COUNTIF(C23:AG23,Accueil!$B$8)","v":0},{"$f":"COUNTIF(C23:AG23,Accueil!$B$9)","v":0},{"$f":"COUNTIF(C23:AG23,Accueil!$B$10)","v":0},{"$f":"COUNTIF(C23:AG23,Accueil!$B$11)","v":0},{"$f":"COUNTIF(C23:AG23,Accueil!$B$12)","v":0},{"$f":"COUNTIF(C23:AG23,Accueil!$B$13)","v":0},{"$f":"COUNTIF(C23:AG23,Accueil!$B$14)","v":0},{"$f":"COUNTIF(C23:AG23,Accueil!$B$15)","v":0},{"$f":"COUNTIF(C23:AG23,Accueil!$B$16)","v":0},{"$f":"COUNTIF(C23:AG23,Accueil!$B$17)","v":0},{"$f":"COUNTIF(C23:AG23,Accueil!$B$18)","v":0},{"$f":"COUNTIF(C23:AG23,Accueil!$B$19)","v":0},{"$f":"COUNTIF(C23:AG23,Accueil!$B$20)","v":0},{"$f":"COUNTIF(C23:AG23,Accueil!$B$21)","v":0},{"$f":"COUNTIF(C23:AG23,Accueil!$B$22)","v":0},{"$f":"COUNTIF(C23:AG23,Accueil!$B$23)","v":0},{"$f":"COUNTIF(C23:AG23,Accueil!$B$24)","v":0},{"$f":"COUNTIF(C23:AG23,Accueil!$B$25)","v":0},{"$f":"COUNTIF(C23:AG23,Accueil!$B$26)","v":0},{"$f":"COUNTIF(C23:AG23,Accueil!$B$27)","v":0},{"$f":"COUNTIF(C23:AG23,Accueil!$B$28)","v":0},{"$f":"COUNTIF(C23:AG23,Accueil!$B$29)","v":0},{"$f":"COUNTIF(C23:AG23,Accueil!$B$30)","v":0},0,null,{"$f":"AI23 +Nov!BH23","v":0},{"$f":"AJ23+Nov!BI23","v":7},{"$f":"AK23+Nov!BJ23","v":17},{"$f":"AL23+Nov!BK23","v":0},{"$f":"AM23+Nov!BL23","v":0},{"$f":"AN23+Nov!BM23","v":0},{"$f":"AO23+Nov!BN23","v":0},{"$f":"AP23+Nov!BO23","v":0},{"$f":"AQ23+Nov!BP23","v":0},{"$f":"AR23+Nov!BQ23","v":0},{"$f":"AS23+Nov!BR23","v":0},{"$f":"AT23+Nov!BS23","v":0},{"$f":"AU23+Nov!BT23","v":0},{"$f":"AV23+Nov!BU23","v":0},{"$f":"AW23+Nov!BV23","v":0},{"$f":"AX23+Nov!BW23","v":0},{"$f":"AY23+Nov!BX23","v":0},{"$f":"AZ23+Nov!BY23","v":0},{"$f":"BA23+Nov!BZ23","v":2},{"$f":"BB23+Nov!CA23","v":10},{"$f":"BC23+Nov!CB23","v":0},{"$f":"BD23+Nov!CC23","v":0},{"$f":"BE23+Nov!CD23","v":0},{"$f":"BF23+Nov!CE23","v":24},null,{"$f":"Nov!CG23","v":0},0,0,null,{"$f":"Nov!CK23","v":0},0,0,null,{"$f":"Nov!CO23","v":0},0,0,null,{"$f":"Nov!CS23","v":0},0,0]
[{"$f":"Nov!A24","v":0},null,null,null,null,null,null,null,null,null,null,null,null,null,null,null,null,null,null,null,null,null,null,null,null,null,null,null,null,null,null,null,null,null,{"$f":"COUNTIF(C24:AG24,Accueil!$B$8)","v":0},{"$f":"COUNTIF(C24:AG24,Accueil!$B$9)","v":0},{"$f":"COUNTIF(C24:AG24,Accueil!$B$10)","v":0},{"$f":"COUNTIF(C24:AG24,Accueil!$B$11)","v":0},{"$f":"COUNTIF(C24:AG24,Accueil!$B$12)","v":0},{"$f":"COUNTIF(C24:AG24,Accueil!$B$13)","v":0},{"$f":"COUNTIF(C24:AG24,Accueil!$B$14)","v":0},{"$f":"COUNTIF(C24:AG24,Accueil!$B$15)","v":0},{"$f":"COUNTIF(C24:AG24,Accueil!$B$16)","v":0},{"$f":"COUNTIF(C24:AG24,Accueil!$B$17)","v":0},{"$f":"COUNTIF(C24:AG24,Accueil!$B$18)","v":0},{"$f":"COUNTIF(C24:AG24,Accueil!$B$19)","v":0},{"$f":"COUNTIF(C24:AG24,Accueil!$B$20)","v":0},{"$f":"COUNTIF(C24:AG24,Accueil!$B$21)","v":0},{"$f":"COUNTIF(C24:AG24,Accueil!$B$22)","v":0},{"$f":"COUNTIF(C24:AG24,Accueil!$B$23)","v":0},{"$f":"COUNTIF(C24:AG24,Accueil!$B$24)","v":0},{"$f":"COUNTIF(C24:AG24,Accueil!$B$25)","v":0},{"$f":"COUNTIF(C24:AG24,Accueil!$B$26)","v":0},{"$f":"COUNTIF(C24:AG24,Accueil!$B$27)","v":0},{"$f":"COUNTIF(C24:AG24,Accueil!$B$28)","v":0},{"$f":"COUNTIF(C24:AG24,Accueil!$B$29)","v":0},{"$f":"COUNTIF(C24:AG24,Accueil!$B$30)","v":0},0,null,{"$f":"AI24 +Nov!BH24","v":0},{"$f":"AJ24+Nov!BI24","v":0},{"$f":"AK24+Nov!BJ24","v":0},{"$f":"AL24+Nov!BK24","v":16},{"$f":"AM24+Nov!BL24","v":0},{"$f":"AN24+Nov!BM24","v":0},{"$f":"AO24+Nov!BN24","v":0},{"$f":"AP24+Nov!BO24","v":0},{"$f":"AQ24+Nov!BP24","v":0},{"$f":"AR24+Nov!BQ24","v":0},{"$f":"AS24+Nov!BR24","v":0},{"$f":"AT24+Nov!BS24","v":0},{"$f":"AU24+Nov!BT24","v":0},{"$f":"AV24+Nov!BU24","v":0},{"$f":"AW24+Nov!BV24","v":0},{"$f":"AX24+Nov!BW24","v":0},{"$f":"AY24+Nov!BX24","v":0},{"$f":"AZ24+Nov!BY24","v":0},{"$f":"BA24+Nov!BZ24","v":0},{"$f":"BB24+Nov!CA24","v":0},{"$f":"BC24+Nov!CB24","v":0},{"$f":"BD24+Nov!CC24","v":0},{"$f":"BE24+Nov!CD24","v":0},{"$f":"BF24+Nov!CE24","v":16},null,{"$f":"Nov!CG24","v":0},0,0,null,{"$f":"Nov!CK24","v":0},0,0,null,{"$f":"Nov!CO24","v":0},0,0,null,{"$f":"Nov!CS24","v":0},0,0]
[{"$f":"Nov!A25","v":"Claudia"},null,null,null,null,null,null,null,null,null,null,null,null,null,null,null,null,null,null,null,null,null,null,null,null,null,null,null,null,null,null,null,null,null,{"$f":"COUNTIF(C25:AG25,Accueil!$B$8)","v":0},{"$f":"COUNTIF(C25:AG25,Accueil!$B$9)","v":0},{"$f":"COUNTIF(C25:AG25,Accueil!$B$10)","v":0},{"$f":"COUNTIF(C25:AG25,Accueil!$B$11)","v":0},{"$f":"COUNTIF(C25:AG25,Accueil!$B$12)","v":0},{"$f":"COUNTIF(C25:AG25,Accueil!$B$13)","v":0},{"$f":"COUNTIF(C25:AG25,Accueil!$B$14)","v":0},{"$f":"COUNTIF(C25:AG25,Accueil!$B$15)","v":0},{"$f":"COUNTIF(C25:AG25,Accueil!$B$16)","v":0},{"$f":"COUNTIF(C25:AG25,Accueil!$B$17)","v":0},{"$f":"COUNTIF(C25:AG25,Accueil!$B$18)","v":0},{"$f":"COUNTIF(C25:AG25,Accueil!$B$19)","v":0},{"$f":"COUNTIF(C25:AG25,Accueil!$B$20)","v":0},{"$f":"COUNTIF(C25:AG25,Accueil!$B$21)","v":0},{"$f":"COUNTIF(C25:AG25,Accueil!$B$22)","v":0},{"$f":"COUNTIF(C25:AG25,Accueil!$B$23)","v":0},{"$f":"COUNTIF(C25:AG25,Accueil!$B$24)","v":0},{"$f":"COUNTIF(C25:AG25,Accueil!$B$25)","v":0},{"$f":"COUNTIF(C25:AG25,Accueil!$B$26)","v":0},{"$f":"COUNTIF(C25:AG25,Accueil!$B$27)","v":0},{"$f":"COUNTIF(C25:AG25,Accueil!$B$28)","v":0},{"$f":"COUNTIF(C25:AG25,Accueil!$B$29)","v":0},{"$f":"COUNTIF(C25:AG25,Accueil!$B$30)","v":0},0,null,{"$f":"AI25 +Nov!BH25","v":1},{"$f":"AJ25+Nov!BI25","v":3},{"$f":"AK25+Nov!BJ25","v":1},{"$f":"AL25+Nov!BK25","v":0},{"$f":"AM25+Nov!BL25","v":0},{"$f":"AN25+Nov!BM25","v":0},{"$f":"AO25+Nov!BN25","v":0},{"$f":"AP25+Nov!BO25","v":0},{"$f":"AQ25+Nov!BP25","v":0},{"$f":"AR25+Nov!BQ25","v":0},{"$f":"AS25+Nov!BR25","v":0},{"$f":"AT25+Nov!BS25","v":0},{"$f":"AU25+Nov!BT25","v":0},{"$f":"AV25+Nov!BU25","v":0},{"$f":"AW25+Nov!BV25","v":0},{"$f":"AX25+Nov!BW25","v":9},{"$f":"AY25+Nov!BX25","v":0},{"$f":"AZ25+Nov!BY25","v":0},{"$f":"BA25+Nov!BZ25","v":0},{"$f":"BB25+Nov!CA25","v":0},{"$f":"BC25+Nov!CB25","v":0},{"$f":"BD25+Nov!CC25","v":0},{"$f":"BE25+Nov!CD25","v":0},{"$f":"BF25+Nov!CE25","v":5},null,{"$f":"Nov!CG25","v":0},9,-9,null,{"$f":"Nov!CK25","v":0},0,0,null,{"$f":"Nov!CO25","v":0},0,0,null,{"$f":"Nov!CS25","v":0},0,0]
[{"$f":"Nov!A26","v":"FRPI"},null,null,null,null,null,null,null,null,null,null,null,null,null,null,null,null,null,null,null,null,null,null,null,null,null,null,null,null,null,null,null,null,null,{"$f":"COUNTIF(C26:AG26,Accueil!$B$8)","v":0},{"$f":"COUNTIF(C26:AG26,Accueil!$B$9)","v":0},{"$f":"COUNTIF(C26:AG26,Accueil!$B$10)","v":0},{"$f":"COUNTIF(C26:AG26,Accueil!$B$11)","v":0},{"$f":"COUNTIF(C26:AG26,Accueil!$B$12)","v":0},{"$f":"COUNTIF(C26:AG26,Accueil!$B$13)","v":0},{"$f":"COUNTIF(C26:AG26,Accueil!$B$14)","v":0},{"$f":"COUNTIF(C26:AG26,Accueil!$B$15)","v":0},{"$f":"COUNTIF(C26:AG26,Accueil!$B$16)","v":0},{"$f":"COUNTIF(C26:AG26,Accueil!$B$17)","v":0},{"$f":"COUNTIF(C26:AG26,Accueil!$B$18)","v":0},{"$f":"COUNTIF(C26:AG26,Accueil!$B$19)","v":0},{"$f":"COUNTIF(C26:AG26,Accueil!$B$20)","v":0},{"$f":"COUNTIF(C26:AG26,Accueil!$B$21)","v":0},{"$f":"COUNTIF(C26:AG26,Accueil!$B$22)","v":0},{"$f":"COUNTIF(C26:AG26,Accueil!$B$23)","v":0},{"$f":"COUNTIF(C26:AG26,Accueil!$B$24)","v":0},{"$f":"COUNTIF(C26:AG26,Accueil!$B$25)","v":0},{"$f":"COUNTIF(C26:AG26,Accueil!$B$26)","v":0},{"$f":"COUNTIF(C26:AG26,Accueil!$B$27)","v":0},{"$f":"COUNTIF(C26:AG26,Accueil!$B$28)","v":0},{"$f":"COUNTIF(C26:AG26,Accueil!$B$29)","v":0},{"$f":"COUNTIF(C26:AG26,Accueil!$B$30)","v":0},0,null,{"$f":"AI26 +Nov!BH26","v":0},{"$f":"AJ26+Nov!BI26","v":0},{"$f":"AK26+Nov!BJ26","v":0},{"$f":"AL26+Nov!BK26","v":0},{"$f":"AM26+Nov!BL26","v":0},{"$f":"AN26+Nov!BM26","v":0},{"$f":"AO26+Nov!BN26","v":0},{"$f":"AP26+Nov!BO26","v":0},{"$f":"AQ26+Nov!BP26","v":0},{"$f":"AR26+Nov!BQ26","v":2},{"$f":"AS26+Nov!BR26","v":9},{"$f":"AT26+Nov!BS26","v":0},{"$f":"AU26+Nov!BT26","v":0},{"$f":"AV26+Nov!BU26","v":0},{"$f":"AW26+Nov!BV26","v":0},{"$f":"AX26+Nov!BW26","v":5},{"$f":"AY26+Nov!BX26","v":0},{"$f":"AZ26+Nov!BY26","v":0},{"$f":"BA26+Nov!BZ26","v":0},{"$f":"BB26+Nov!CA26","v":0},{"$f":"BC26+Nov!CB26","v":0},{"$f":"BD26+Nov!CC26","v":0},{"$f":"BE26+Nov!CD26","v":0},{"$f":"BF26+Nov!CE26","v":11},null,{"$f":"Nov!CG26","v":0},5,-5,null,{"$f":"Nov!CK26","v":0},0,0,null,{"$f":"Nov!CO26","v":0},0,0,null,{"$f":"Nov!CS26","v":0},0,0]
[{"$f":"Nov!A27","v":0},null,null,null,null,null,null,null,null,null,null,null,null,null,null,null,null,null,null,null,null,null,null,null,null,null,null,null,null,null,null,null,null,null,{"$f":"COUNTIF(C27:AG27,Accueil!$B$8)","v":0},{"$f":"COUNTIF(C27:AG27,Accueil!$B$9)","v":0},{"$f":"COUNTIF(C27:AG27,Accueil!$B$10)","v":0},{"$f":"COUNTIF(C27:AG27,Accueil!$B$11)","v":0},{"$f":"COUNTIF(C27:AG27,Accueil!$B$12)","v":0},{"$f":"COUNTIF(C27:AG27,Accueil!$B$13)","v":0},{"$f":"COUNTIF(C27:AG27,Accueil!$B$14)","v":0},{"$f":"COUNTIF(C27:AG27,Accueil!$B$15)","v":0},{"$f":"COUNTIF(C27:AG27,Accueil!$B$16)","v":0},{"$f":"COUNTIF(C27:AG27,Accueil!$B$17)","v":0},{"$f":"COUNTIF(C27:AG27,Accueil!$B$18)","v":0},{"$f":"COUNTIF(C27:AG27,Accueil!$B$19)","v":0},{"$f":"COUNTIF(C27:AG27,Accueil!$B$20)","v":0},{"$f":"COUNTIF(C27:AG27,Accueil!$B$21)","v":0},{"$f":"COUNTIF(C27:AG27,Accueil!$B$22)","v":0},{"$f":"COUNTIF(C27:AG27,Accueil!$B$23)","v":0},{"$f":"COUNTIF(C27:AG27,Accueil!$B$24)","v":0},{"$f":"COUNTIF(C27:AG27,Accueil!$B$25)","v":0},{"$f":"COUNTIF(C27:AG27,Accueil!$B$26)","v":0},{"$f":"COUNTIF(C27:AG27,Accueil!$B$27)","v":0},{"$f":"COUNTIF(C27:AG27,Accueil!$B$28)","v":0},{"$f":"COUNTIF(C27:AG27,Accueil!$B$29)","v":0},{"$f":"COUNTIF(C27:AG27,Accueil!$B$30)","v":0},0,null,{"$f":"AI27 +Nov!BH27","v":0},{"$f":"AJ27+Nov!BI27","v":0},{"$f":"AK27+Nov!BJ27","v":{"$error":"#VALUE!"}},{"$f":"AL27+Nov!BK27","v":0},{"$f":"AM27+Nov!BL27","v":0},{"$f":"AN27+Nov!BM27","v":0},{"$f":"AO27+Nov!BN27","v":0},{"$f":"AP27+Nov!BO27","v":{"$error":"#VALUE!"}},{"$f":"AQ27+Nov!BP27","v":0},{"$f":"AR27+Nov!BQ27","v":0},{"$f":"AS27+Nov!BR27","v":0},{"$f":"AT27+Nov!BS27","v":0},{"$f":"AU27+Nov!BT27","v":0},{"$f":"AV27+Nov!BU27","v":0},{"$f":"AW27+Nov!BV27","v":0},{"$f":"AX27+Nov!BW27","v":0},{"$f":"AY27+Nov!BX27","v":0},{"$f":"AZ27+Nov!BY27","v":0},{"$f":"BA27+Nov!BZ27","v":0},{"$f":"BB27+Nov!CA27","v":0},{"$f":"BC27+Nov!CB27","v":0},{"$f":"BD27+Nov!CC27","v":0},{"$f":"BE27+Nov!CD27","v":0},{"$f":"BF27+Nov!CE27","v":0},null,{"$f":"Nov!CG27","v":0},0,0,null,{"$f":"Nov!CK27","v":0},0,0,null,{"$f":"Nov!CO27","v":0},0,0,null,{"$f":"Nov!CS27","v":0},0,0]
[{"$f":"Nov!A28","v":"Frédéric"},null,null,null,null,null,null,null,null,null,null,null,null,null,null,null,null,null,null,null,null,null,null,null,null,null,null,null,null,null,null,null,null,null,{"$f":"COUNTIF(C28:AG28,Accueil!$B$8)","v":0},{"$f":"COUNTIF(C28:AG28,Accueil!$B$9)","v":0},{"$f":"COUNTIF(C28:AG28,Accueil!$B$10)","v":0},{"$f":"COUNTIF(C28:AG28,Accueil!$B$11)","v":0},{"$f":"COUNTIF(C28:AG28,Accueil!$B$12)","v":0},{"$f":"COUNTIF(C28:AG28,Accueil!$B$13)","v":0},{"$f":"COUNTIF(C28:AG28,Accueil!$B$14)","v":0},{"$f":"COUNTIF(C28:AG28,Accueil!$B$15)","v":0},{"$f":"COUNTIF(C28:AG28,Accueil!$B$16)","v":0},{"$f":"COUNTIF(C28:AG28,Accueil!$B$17)","v":0},{"$f":"COUNTIF(C28:AG28,Accueil!$B$18)","v":0},{"$f":"COUNTIF(C28:AG28,Accueil!$B$19)","v":0},{"$f":"COUNTIF(C28:AG28,Accueil!$B$20)","v":0},{"$f":"COUNTIF(C28:AG28,Accueil!$B$21)","v":0},{"$f":"COUNTIF(C28:AG28,Accueil!$B$22)","v":0},{"$f":"COUNTIF(C28:AG28,Accueil!$B$23)","v":0},{"$f":"COUNTIF(C28:AG28,Accueil!$B$24)","v":0},{"$f":"COUNTIF(C28:AG28,Accueil!$B$25)","v":0},{"$f":"COUNTIF(C28:AG28,Accueil!$B$26)","v":0},{"$f":"COUNTIF(C28:AG28,Accueil!$B$27)","v":0},{"$f":"COUNTIF(C28:AG28,Accueil!$B$28)","v":0},{"$f":"COUNTIF(C28:AG28,Accueil!$B$29)","v":0},{"$f":"COUNTIF(C28:AG28,Accueil!$B$30)","v":0},0,null,{"$f":"AI28 +Nov!BH28","v":{"$error":"#VALUE!"}},{"$f":"AJ28+Nov!BI28","v":{"$error":"#VALUE!"}},{"$f":"AK28+Nov!BJ28","v":0},{"$f":"AL28+Nov!BK28","v":{"$error":"#VALUE!"}},{"$f":"AM28+Nov!BL28","v":0},{"$f":"AN28+Nov!BM28","v":{"$error":"#VALUE!"}},{"$f":"AO28+Nov!BN28","v":{"$error":"#VALUE!"}},{"$f":"AP28+Nov!BO28","v":0},{"$f":"AQ28+Nov!BP28","v":27},{"$f":"AR28+Nov!BQ28","v":0},{"$f":"AS28+Nov!BR28","v":0},{"$f":"AT28+Nov!BS28","v":0},{"$f":"AU28+Nov!BT28","v":0},{"$f":"AV28+Nov!BU28","v":0},{"$f":"AW28+Nov!BV28","v":0},{"$f":"AX28+Nov!BW28","v":0},{"$f":"AY28+Nov!BX28","v":0},{"$f":"AZ28+Nov!BY28","v":0},{"$f":"BA28+Nov!BZ28","v":0},{"$f":"BB28+Nov!CA28","v":0},{"$f":"BC28+Nov!CB28","v":0},{"$f":"BD28+Nov!CC28","v":0},{"$f":"BE28+Nov!CD28","v":0},{"$f":"BF28+Nov!CE28","v":27},null,{"$f":"Nov!CG28","v":0},0,0,null,{"$f":"Nov!CK28","v":0},0,0,null,{"$f":"Nov!CO28","v":0},0,0,null,{"$f":"Nov!CS28","v":0},0,0]
[{"$f":"Nov!A29","v":"Ibrahim"},null,null,null,null,null,null,null,null,null,null,null,null,null,null,null,null,null,null,null,null,null,null,null,null,null,null,null,null,null,null,null,null,null,{"$f":"COUNTIF(C29:AG29,Accueil!$B$8)","v":0},{"$f":"COUNTIF(C29:AG29,Accueil!$B$9)","v":0},{"$f":"COUNTIF(C29:AG29,Accueil!$B$10)","v":0},{"$f":"COUNTIF(C29:AG29,Accueil!$B$11)","v":0},{"$f":"COUNTIF(C29:AG29,Accueil!$B$12)","v":0},{"$f":"COUNTIF(C29:AG29,Accueil!$B$13)","v":0},{"$f":"COUNTIF(C29:AG29,Accueil!$B$14)","v":0},{"$f":"COUNTIF(C29:AG29,Accueil!$B$15)","v":0},{"$f":"COUNTIF(C29:AG29,Accueil!$B$16)","v":0},{"$f":"COUNTIF(C29:AG29,Accueil!$B$17)","v":0},{"$f":"COUNTIF(C29:AG29,Accueil!$B$18)","v":0},{"$f":"COUNTIF(C29:AG29,Accueil!$B$19)","v":0},{"$f":"COUNTIF(C29:AG29,Accueil!$B$20)","v":0},{"$f":"COUNTIF(C29:AG29,Accueil!$B$21)","v":0},{"$f":"COUNTIF(C29:AG29,Accueil!$B$22)","v":0},{"$f":"COUNTIF(C29:AG29,Accueil!$B$23)","v":0},{"$f":"COUNTIF(C29:AG29,Accueil!$B$24)","v":0},{"$f":"COUNTIF(C29:AG29,Accueil!$B$25)","v":0},{"$f":"COUNTIF(C29:AG29,Accueil!$B$26)","v":0},{"$f":"COUNTIF(C29:AG29,Accueil!$B$27)","v":0},{"$f":"COUNTIF(C29:AG29,Accueil!$B$28)","v":0},{"$f":"COUNTIF(C29:AG29,Accueil!$B$29)","v":0},{"$f":"COUNTIF(C29:AG29,Accueil!$B$30)","v":0},0,null,{"$f":"AI29 +Nov!BH29","v":0},{"$f":"AJ29+Nov!BI29","v":0},{"$f":"AK29+Nov!BJ29","v":0},{"$f":"AL29+Nov!BK29","v":0},{"$f":"AM29+Nov!BL29","v":{"$error":"#VALUE!"}},{"$f":"AN29+Nov!BM29","v":0},{"$f":"AO29+Nov!BN29","v":0},{"$f":"AP29+Nov!BO29","v":0},{"$f":"AQ29+Nov!BP29","v":59},{"$f":"AR29+Nov!BQ29","v":0},{"$f":"AS29+Nov!BR29","v":0},{"$f":"AT29+Nov!BS29","v":0},{"$f":"AU29+Nov!BT29","v":0},{"$f":"AV29+Nov!BU29","v":0},{"$f":"AW29+Nov!BV29","v":0},{"$f":"AX29+Nov!BW29","v":5},{"$f":"AY29+Nov!BX29","v":0},{"$f":"AZ29+Nov!BY29","v":0},{"$f":"BA29+Nov!BZ29","v":0},{"$f":"BB29+Nov!CA29","v":0},{"$f":"BC29+Nov!CB29","v":0},{"$f":"BD29+Nov!CC29","v":0},{"$f":"BE29+Nov!CD29","v":0},{"$f":"BF29+Nov!CE29","v":59},null,{"$f":"Nov!CG29","v":0},5,-5,null,{"$f":"Nov!CK29","v":0},0,0,null,{"$f":"Nov!CO29","v":0},0,0,null,{"$f":"Nov!CS29","v":0},0,0]
[{"$f":"Nov!A30","v":"Julien"},null,null,null,null,null,null,null,null,null,null,null,null,null,null,null,null,null,null,null,null,null,null,null,null,null,null,null,null,null,null,null,null,null,{"$f":"COUNTIF(C30:AG30,Accueil!$B$8)","v":0},{"$f":"COUNTIF(C30:AG30,Accueil!$B$9)","v":0},{"$f":"COUNTIF(C30:AG30,Accueil!$B$10)","v":0},{"$f":"COUNTIF(C30:AG30,Accueil!$B$11)","v":0},{"$f":"COUNTIF(C30:AG30,Accueil!$B$12)","v":0},{"$f":"COUNTIF(C30:AG30,Accueil!$B$13)","v":0},{"$f":"COUNTIF(C30:AG30,Accueil!$B$14)","v":0},{"$f":"COUNTIF(C30:AG30,Accueil!$B$15)","v":0},{"$f":"COUNTIF(C30:AG30,Accueil!$B$16)","v":0},{"$f":"COUNTIF(C30:AG30,Accueil!$B$17)","v":0},{"$f":"COUNTIF(C30:AG30,Accueil!$B$18)","v":0},{"$f":"COUNTIF(C30:AG30,Accueil!$B$19)","v":0},{"$f":"COUNTIF(C30:AG30,Accueil!$B$20)","v":0},{"$f":"COUNTIF(C30:AG30,Accueil!$B$21)","v":0},{"$f":"COUNTIF(C30:AG30,Accueil!$B$22)","v":0},{"$f":"COUNTIF(C30:AG30,Accueil!$B$23)","v":0},{"$f":"COUNTIF(C30:AG30,Accueil!$B$24)","v":0},{"$f":"COUNTIF(C30:AG30,Accueil!$B$25)","v":0},{"$f":"COUNTIF(C30:AG30,Accueil!$B$26)","v":0},{"$f":"COUNTIF(C30:AG30,Accueil!$B$27)","v":0},{"$f":"COUNTIF(C30:AG30,Accueil!$B$28)","v":0},{"$f":"COUNTIF(C30:AG30,Accueil!$B$29)","v":0},{"$f":"COUNTIF(C30:AG30,Accueil!$B$30)","v":0},0,null,{"$f":"AI30 +Nov!BH30","v":0},{"$f":"AJ30+Nov!BI30","v":{"$error":"#VALUE!"}},{"$f":"AK30+Nov!BJ30","v":{"$error":"#VALUE!"}},{"$f":"AL30+Nov!BK30","v":{"$error":"#VALUE!"}},{"$f":"AM30+Nov!BL30","v":{"$error":"#VALUE!"}},{"$f":"AN30+Nov!BM30","v":{"$error":"#VALUE!"}},{"$f":"AO30+Nov!BN30","v":0},{"$f":"AP30+Nov!BO30","v":0},{"$f":"AQ30+Nov!BP30","v":34},{"$f":"AR30+Nov!BQ30","v":0},{"$f":"AS30+Nov!BR30","v":0},{"$f":"AT30+Nov!BS30","v":0},{"$f":"AU30+Nov!BT30","v":0},{"$f":"AV30+Nov!BU30","v":0},{"$f":"AW30+Nov!BV30","v":0},{"$f":"AX30+Nov!BW30","v":6},{"$f":"AY30+Nov!BX30","v":0},{"$f":"AZ30+Nov!BY30","v":0},{"$f":"BA30+Nov!BZ30","v":0},{"$f":"BB30+Nov!CA30","v":0},{"$f":"BC30+Nov!CB30","v":0},{"$f":"BD30+Nov!CC30","v":0},{"$f":"BE30+Nov!CD30","v":0},{"$f":"BF30+Nov!CE30","v":34},null,{"$f":"Nov!CG30","v":0},6,-6,null,{"$f":"Nov!CK30","v":0},0,0,null,{"$f":"Nov!CO30","v":0},0,0,null,{"$f":"Nov!CS30","v":0},0,0]
[{"$f":"Nov!A31","v":"Mario"},null,null,null,null,null,null,null,null,null,null,null,null,null,null,null,null,null,null,null,null,null,null,null,null,null,null,null,null,null,null,null,null,null,{"$f":"COUNTIF(C31:AG31,Accueil!$B$8)","v":0},{"$f":"COUNTIF(C31:AG31,Accueil!$B$9)","v":0},{"$f":"COUNTIF(C31:AG31,Accueil!$B$10)","v":0},{"$f":"COUNTIF(C31:AG31,Accueil!$B$11)","v":0},{"$f":"COUNTIF(C31:AG31,Accueil!$B$12)","v":0},{"$f":"COUNTIF(C31:AG31,Accueil!$B$13)","v":0},{"$f":"COUNTIF(C31:AG31,Accueil!$B$14)","v":0},{"$f":"COUNTIF(C31:AG31,Accueil!$B$15)","v":0},{"$f":"COUNTIF(C31:AG31,Accueil!$B$16)","v":0},{"$f":"COUNTIF(C31:AG31,Accueil!$B$17)","v":0},{"$f":"COUNTIF(C31:AG31,Accueil!$B$18)","v":0},{"$f":"COUNTIF(C31:AG31,Accueil!$B$19)","v":0},{"$f":"COUNTIF(C31:AG31,Accueil!$B$20)","v":0},{"$f":"COUNTIF(C31:AG31,Accueil!$B$21)","v":0},{"$f":"COUNTIF(C31:AG31,Accueil!$B$22)","v":0},{"$f":"COUNTIF(C31:AG31,Accueil!$B$23)","v":0},{"$f":"COUNTIF(C31:AG31,Accueil!$B$24)","v":0},{"$f":"COUNTIF(C31:AG31,Accueil!$B$25)","v":0},{"$f":"COUNTIF(C31:AG31,Accueil!$B$26)","v":0},{"$f":"COUNTIF(C31:AG31,Accueil!$B$27)","v":0},{"$f":"COUNTIF(C31:AG31,Accueil!$B$28)","v":0},{"$f":"COUNTIF(C31:AG31,Accueil!$B$29)","v":0},{"$f":"COUNTIF(C31:AG31,Accueil!$B$30)","v":0},0,null,{"$f":"AI31 +Nov!BH31","v":0},{"$f":"AJ31+Nov!BI31","v":0},{"$f":"AK31+Nov!BJ31","v":0},{"$f":"AL31+Nov!BK31","v":0},{"$f":"AM31+Nov!BL31","v":0},{"$f":"AN31+Nov!BM31","v":0},{"$f":"AO31+Nov!BN31","v":0},{"$f":"AP31+Nov!BO31","v":0},{"$f":"AQ31+Nov!BP31","v":16},{"$f":"AR31+Nov!BQ31","v":0},{"$f":"AS31+Nov!BR31","v":0},{"$f":"AT31+Nov!BS31","v":0},{"$f":"AU31+Nov!BT31","v":26},{"$f":"AV31+Nov!BU31","v":0},{"$f":"AW31+Nov!BV31","v":0},{"$f":"AX31+Nov!BW31","v":59},{"$f":"AY31+Nov!BX31","v":0},{"$f":"AZ31+Nov!BY31","v":0},{"$f":"BA31+Nov!BZ31","v":0},{"$f":"BB31+Nov!CA31","v":0},{"$f":"BC31+Nov!CB31","v":0},{"$f":"BD31+Nov!CC31","v":0},{"$f":"BE31+Nov!CD31","v":0},{"$f":"BF31+Nov!CE31","v":16},null,{"$f":"Nov!CG31","v":0},59,-59,null,{"$f":"Nov!CK31","v":0},0,0,null,{"$f":"Nov!CO31","v":0},0,0,null,{"$f":"Nov!CS31","v":0},0,0]
[{"$f":"Nov!A32","v":"Hamid"},null,null,null,null,null,null,null,null,null,null,null,null,null,null,null,null,null,null,null,null,null,null,null,null,null,null,null,null,null,null,null,null,null,{"$f":"COUNTIF(C32:AG32,Accueil!$B$8)","v":0},{"$f":"COUNTIF(C32:AG32,Accueil!$B$9)","v":0},{"$f":"COUNTIF(C32:AG32,Accueil!$B$10)","v":0},{"$f":"COUNTIF(C32:AG32,Accueil!$B$11)","v":0},{"$f":"COUNTIF(C32:AG32,Accueil!$B$12)","v":0},{"$f":"COUNTIF(C32:AG32,Accueil!$B$13)","v":0},{"$f":"COUNTIF(C32:AG32,Accueil!$B$14)","v":0},{"$f":"COUNTIF(C32:AG32,Accueil!$B$15)","v":0},{"$f":"COUNTIF(C32:AG32,Accueil!$B$16)","v":0},{"$f":"COUNTIF(C32:AG32,Accueil!$B$17)","v":0},{"$f":"COUNTIF(C32:AG32,Accueil!$B$18)","v":0},{"$f":"COUNTIF(C32:AG32,Accueil!$B$19)","v":0},{"$f":"COUNTIF(C32:AG32,Accueil!$B$20)","v":0},{"$f":"COUNTIF(C32:AG32,Accueil!$B$21)","v":0},{"$f":"COUNTIF(C32:AG32,Accueil!$B$22)","v":0},{"$f":"COUNTIF(C32:AG32,Accueil!$B$23)","v":0},{"$f":"COUNTIF(C32:AG32,Accueil!$B$24)","v":0},{"$f":"COUNTIF(C32:AG32,Accueil!$B$25)","v":0},{"$f":"COUNTIF(C32:AG32,Accueil!$B$26)","v":0},{"$f":"COUNTIF(C32:AG32,Accueil!$B$27)","v":0},{"$f":"COUNTIF(C32:AG32,Accueil!$B$28)","v":0},{"$f":"COUNTIF(C32:AG32,Accueil!$B$29)","v":0},{"$f":"COUNTIF(C32:AG32,Accueil!$B$30)","v":0},0,null,{"$f":"AI32 +Nov!BH32","v":0},{"$f":"AJ32+Nov!BI32","v":0},{"$f":"AK32+Nov!BJ32","v":0},{"$f":"AL32+Nov!BK32","v":0},{"$f":"AM32+Nov!BL32","v":0},{"$f":"AN32+Nov!BM32","v":0},{"$f":"AO32+Nov!BN32","v":0},{"$f":"AP32+Nov!BO32","v":0},{"$f":"AQ32+Nov!BP32","v":37},{"$f":"AR32+Nov!BQ32","v":0},{"$f":"AS32+Nov!BR32","v":0},{"$f":"AT32+Nov!BS32","v":0},{"$f":"AU32+Nov!BT32","v":0},{"$f":"AV32+Nov!BU32","v":10},{"$f":"AW32+Nov!BV32","v":10},{"$f":"AX32+Nov!BW32","v":0},{"$f":"AY32+Nov!BX32","v":0},{"$f":"AZ32+Nov!BY32","v":0},{"$f":"BA32+Nov!BZ32","v":0},{"$f":"BB32+Nov!CA32","v":0},{"$f":"BC32+Nov!CB32","v":0},{"$f":"BD32+Nov!CC32","v":0},{"$f":"BE32+Nov!CD32","v":10},{"$f":"BF32+Nov!CE32","v":42},null,{"$f":"Nov!CG32","v":0},5,-5,null,{"$f":"Nov!CK32","v":0},0,0,null,{"$f":"Nov!CO32","v":0},0,0,null,{"$f":"Nov!CS32","v":0},10,-10]
[null,{"$f":" \"Effectif minimum \" & Accueil!$B$8","v":"Effectif minimum M1"},{"$f":"COUNTIF(C3:C32,Accueil!$B$8)","v":1},{"$f":"COUNTIF(D3:D32,Accueil!$B$8)","v":3},{"$f":"COUNTIF(E3:E32,Accueil!$B$8)","v":0},{"$f":"COUNTIF(F3:F32,Accueil!$B$8)","v":0},{"$f":"COUNTIF(G3:G32,Accueil!$B$8)","v":2},{"$f":"COUNTIF(H3:H32,Accueil!$B$8)","v":4},{"$f":"COUNTIF(I3:I32,Accueil!$B$8)","v":1},{"$f":"COUNTIF(J3:J32,Accueil!$B$8)","v":1},{"$f":"COUNTIF(K3:K32,Accueil!$B$8)","v":3},{"$f":"COUNTIF(L3:L32,Accueil!$B$8)","v":0},{"$f":"COUNTIF(M3:M32,Accueil!$B$8)","v":0},{"$f":"COUNTIF(N3:N32,Accueil!$B$8)","v":2},{"$f":"COUNTIF(O3:O32,Accueil!$B$8)","v":4},{"$f":"COUNTIF(P3:P32,Accueil!$B$8)","v":1},{"$f":"COUNTIF(Q3:Q32,Accueil!$B$8)","v":1},{"$f":"COUNTIF(R3:R32,Accueil!$B$8)","v":3},{"$f":"COUNTIF(S3:S32,Accueil!$B$8)","v":0},{"$f":"COUNTIF(T3:T32,Accueil!$B$8)","v":0},{"$f":"COUNTIF(U3:U32,Accueil!$B$8)","v":2},{"$f":"COUNTIF(V3:V32,Accueil!$B$8)","v":4},{"$f":"COUNTIF(W3:W32,Accueil!$B$8)","v":1},{"$f":"COUNTIF(X3:X32,Accueil!$B$8)","v":1},{"$f":"COUNTIF(Y3:Y32,Accueil!$B$8)","v":3},{"$f":"COUNTIF(Z3:Z32,Accueil!$B$8)","v":0},{"$f":"COUNTIF(AA3:AA32,Accueil!$B$8)","v":0},{"$f":"COUNTIF(AB3:AB32,Accueil!$B$8)","v":0},{"$f":"COUNTIF(AC3:AC32,Accueil!$B$8)","v":0},{"$f":"COUNTIF(AD3:AD32,Accueil!$B$8)","v":0},{"$f":"COUNTIF(AE3:AE32,Accueil!$B$8)","v":0},{"$f":"COUNTIF(AF3:AF32,Accueil!$B$8)","v":0},{"$f":"COUNTIF(AG3:AG32,Accueil!$B$8)","v":0},null,"Jours travaillés",null,null,null,null,null,null,null,null,null,null,null,"Jours non travaillés",null,null,null,null,null,null,null,null,null,null,null,null,"Jours travaillés",null,null,null,null,null,null,null,null,null,null,null,"Jours non travaillés"]
[null,{"$f":" \"Effectif minimum \" & Accueil!$B$9","v":"Effectif minimum M2"},{"$f":"COUNTIF(C3:C32,Accueil!$B$9)","v":0},{"$f":"COUNTIF(D3:D32,Accueil!$B$9)","v":1},{"$f":"COUNTIF(E3:E32,Accueil!$B$9)","v":0},{"$f":"COUNTIF(F3:F32,Accueil!$B$9)","v":0},{"$f":"COUNTIF(G3:G32,Accueil!$B$9)","v":0},{"$f":"COUNTIF(H3:H32,Accueil!$B$9)","v":4},{"$f":"COUNTIF(I3:I32,Accueil!$B$9)","v":0},{"$f":"COUNTIF(J3:J32,Accueil!$B$9)","v":0},{"$f":"COUNTIF(K3:K32,Accueil!$B$9)","v":1},{"$f":"COUNTIF(L3:L32,Accueil!$B$9)","v":0},{"$f":"COUNTIF(M3:M32,Accueil!$B$9)","v":0},{"$f":"COUNTIF(N3:N32,Accueil!$B$9)","v":0},{"$f":"COUNTIF(O3:O32,Accueil!$B$9)","v":4},{"$f":"COUNTIF(P3:P32,Accueil!$B$9)","v":0},{"$f":"COUNTIF(Q3:Q32,Accueil!$B$9)","v":0},{"$f":"COUNTIF(R3:R32,Accueil!$B$9)","v":1},{"$f":"COUNTIF(S3:S32,Accueil!$B$9)","v":0},{"$f":"COUNTIF(T3:T32,Accueil!$B$9)","v":0},{"$f":"COUNTIF(U3:U32,Accueil!$B$9)","v":0},{"$f":"COUNTIF(V3:V32,Accueil!$B$9)","v":3},{"$f":"COUNTIF(W3:W32,Accueil!$B$9)","v":0},{"$f":"COUNTIF(X3:X32,Accueil!$B$9)","v":0},{"$f":"COUNTIF(Y3:Y32,Accueil!$B$9)","v":1},{"$f":"COUNTIF(Z3:Z32,Accueil!$B$9)","v":0},{"$f":"COUNTIF(AA3:AA32,Accueil!$B$9)","v":0},{"$f":"COUNTIF(AB3:AB32,Accueil!$B$9)","v":0},{"$f":"COUNTIF(AC3:AC32,Accueil!$B$9)","v":0},{"$f":"COUNTIF(AD3:AD32,Accueil!$B$9)","v":0},{"$f":"COUNTIF(AE3:AE32,Accueil!$B$9)","v":0},{"$f":"COUNTIF(AF3:AF32,Accueil!$B$9)","v":0},{"$f":"COUNTIF(AG3:AG32,Accueil!$B$9)","v":0}]
[null,{"$f":"\"Effectif minimum \" & Accueil!$B$10","v":"Effectif minimum M3"},{"$f":"COUNTIF(C3:C32,Accueil!$B$10)","v":0},{"$f":"COUNTIF(D3:D32,Accueil!$B$10)","v":0},{"$f":"COUNTIF(E3:E32,Accueil!$B$10)","v":0},{"$f":"COUNTIF(F3:F32,Accueil!$B$10)","v":0},{"$f":"COUNTIF(G3:G32,Accueil!$B$10)","v":1},{"$f":"COUNTIF(H3:H32,Accueil!$B$10)","v":0},{"$f":"COUNTIF(I3:I32,Accueil!$B$10)","v":0},{"$f":"COUNTIF(J3:J32,Accueil!$B$10)","v":1},{"$f":"COUNTIF(K3:K32,Accueil!$B$10)","v":0},{"$f":"COUNTIF(L3:L32,Accueil!$B$10)","v":0},{"$f":"COUNTIF(M3:M32,Accueil!$B$10)","v":0},{"$f":"COUNTIF(N3:N32,Accueil!$B$10)","v":1},{"$f":"COUNTIF(O3:O32,Accueil!$B$10)","v":0},{"$f":"COUNTIF(P3:P32,Accueil!$B$10)","v":0},{"$f":"COUNTIF(Q3:Q32,Accueil!$B$10)","v":1},{"$f":"COUNTIF(R3:R32,Accueil!$B$10)","v":0},{"$f":"COUNTIF(S3:S32,Accueil!$B$10)","v":0},{"$f":"COUNTIF(T3:T32,Accueil!$B$10)","v":0},{"$f":"COUNTIF(U3:U32,Accueil!$B$10)","v":1},{"$f":"COUNTIF(V3:V32,Accueil!$B$10)","v":0},{"$f":"COUNTIF(W3:W32,Accueil!$B$10)","v":0},{"$f":"COUNTIF(X3:X32,Accueil!$B$10)","v":1},{"$f":"COUNTIF(Y3:Y32,Accueil!$B$10)","v":0},{"$f":"COUNTIF(Z3:Z32,Accueil!$B$10)","v":0},{"$f":"COUNTIF(AA3:AA32,Accueil!$B$10)","v":0},{"$f":"COUNTIF(AB3:AB32,Accueil!$B$10)","v":0},{"$f":"COUNTIF(AC3:AC32,Accueil!$B$10)","v":0},{"$f":"COUNTIF(AD3:AD32,Accueil!$B$10)","v":0},{"$f":"COUNTIF(AE3:AE32,Accueil!$B$10)","v":0},{"$f":"COUNTIF(AF3:AF32,Accueil!$B$10)","v":0},{"$f":"COUNTIF(AG3:AG32,Accueil!$B$10)","v":0}]
[2,"MATIN",{"$f":"C33+C34+C35+C37","v":1},{"$f":"D33+D34+D35+D37","v":5},0,2,4,10,4,2,5,0,0,4,10,4,2,5,0,2,4,9,3,2,5,0,0,0,0,0,0,0,0]
[null,{"$f":"\"Effectif minimum \" & Accueil!$B$11","v":"Effectif minimum MP"},{"$f":"COUNTIF(C3:C32,Accueil!$B$11)","v":0},{"$f":"COUNTIF(D3:D32,Accueil!$B$11)","v":1},{"$f":"COUNTIF(E3:E32,Accueil!$B$11)","v":0},{"$f":"COUNTIF(F3:F32,Accueil!$B$11)","v":2},{"$f":"COUNTIF(G3:G32,Accueil!$B$11)","v":1},{"$f":"COUNTIF(H3:H32,Accueil!$B$11)","v":2},{"$f":"COUNTIF(I3:I32,Accueil!$B$11)","v":3},{"$f":"COUNTIF(J3:J32,Accueil!$B$11)","v":0},{"$f":"COUNTIF(K3:K32,Accueil!$B$11)","v":1},{"$f":"COUNTIF(L3:L32,Accueil!$B$11)","v":0},{"$f":"COUNTIF(M3:M32,Accueil!$B$11)","v":0},{"$f":"COUNTIF(N3:N32,Accueil!$B$11)","v":1},{"$f":"COUNTIF(O3:O32,Accueil!$B$11)","v":2},{"$f":"COUNTIF(P3:P32,Accueil!$B$11)","v":3},{"$f":"COUNTIF(Q3:Q32,Accueil!$B$11)","v":0},{"$f":"COUNTIF(R3:R32,Accueil!$B$11)","v":1},{"$f":"COUNTIF(S3:S32,Accueil!$B$11)","v":0},{"$f":"COUNTIF(T3:T32,Accueil!$B$11)","v":2},{"$f":"COUNTIF(U3:U32,Accueil!$B$11)","v":1},{"$f":"COUNTIF(V3:V32,Accueil!$B$11)","v":2},{"$f":"COUNTIF(W3:W32,Accueil!$B$11)","v":2},{"$f":"COUNTIF(X3:X32,Accueil!$B$11)","v":0},{"$f":"COUNTIF(Y3:Y32,Accueil!$B$11)","v":1},{"$f":"COUNTIF(Z3:Z32,Accueil!$B$11)","v":0},{"$f":"COUNTIF(AA3:AA32,Accueil!$B$11)","v":0},{"$f":"COUNTIF(AB3:AB32,Accueil!$B$11)","v":0},{"$f":"COUNTIF(AC3:AC32,Accueil!$B$11)","v":0},{"$f":"COUNTIF(AD3:AD32,Accueil!$B$11)","v":0},{"$f":"COUNTIF(AE3:AE32,Accueil!$B$11)","v":0},{"$f":"COUNTIF(AF3:AF32,Accueil!$B$11)","v":0},{"$f":"COUNTIF(AG3:AG32,Accueil!$B$11)","v":0}]
[null,{"$f":"\"Effectif minimum \" & Accueil!$B$12","v":"Effectif minimum AP1"},{"$f":"COUNTIF(C3:C32,Accueil!$B$12)","v":2},{"$f":"COUNTIF(D3:D32,Accueil!$B$12)","v":0},{"$f":"COUNTIF(E3:E32,Accueil!$B$12)","v":0},{"$f":"COUNTIF(F3:F32,Accueil!$B$12)","v":0},{"$f":"COUNTIF(G3:G32,Accueil!$B$12)","v":0},{"$f":"COUNTIF(H3:H32,Accueil!$B$12)","v":0},{"$f":"COUNTIF(I3:I32,Accueil!$B$12)","v":0},{"$f":"COUNTIF(J3:J32,Accueil!$B$12)","v":2},{"$f":"COUNTIF(K3:K32,Accueil!$B$12)","v":0},{"$f":"COUNTIF(L3:L32,Accueil!$B$12)","v":0},{"$f":"COUNTIF(M3:M32,Accueil!$B$12)","v":0},{"$f":"COUNTIF(N3:N32,Accueil!$B$12)","v":0},{"$f":"COUNTIF(O3:O32,Accueil!$B$12)","v":0},{"$f":"COUNTIF(P3:P32,Accueil!$B$12)","v":0},{"$f":"COUNTIF(Q3:Q32,Accueil!$B$12)","v":2},{"$f":"COUNTIF(R3:R32,Accueil!$B$12)","v":0},{"$f":"COUNTIF(S3:S32,Accueil!$B$12)","v":0},{"$f":"COUNTIF(T3:T32,Accueil!$B$12)","v":0},{"$f":"COUNTIF(U3:U32,Accueil!$B$12)","v":0},{"$f":"COUNTIF(V3:V32,Accueil!$B$12)","v":0},{"$f":"COUNTIF(W3:W32,Accueil!$B$12)","v":0},{"$f":"COUNTIF(X3:X32,Accueil!$B$12)","v":2},{"$f":"COUNTIF(Y3:Y32,Accueil!$B$12)","v":0},{"$f":"COUNTIF(Z3:Z32,Accueil!$B$12)","v":0},{"$f":"COUNTIF(AA3:AA32,Accueil!$B$12)","v":0},{"$f":"COUNTIF(AB3:AB32,Accueil!$B$12)","v":0},{"$f":"COUNTIF(AC3:AC32,Accueil!$B$12)","v":0},{"$f":"COUNTIF(AD3:AD32,Accueil!$B$12)","v":0},{"$f":"COUNTIF(AE3:AE32,Accueil!$B$12)","v":0},{"$f":"COUNTIF(AF3:AF32,Accueil!$B$12)","v":0},{"$f":"COUNTIF(AG3:AG32,Accueil!$B$12)","v":0}]
[null,{"$f":"\"Effectif minimum \" & Accueil!$B$13","v":"Effectif minimum AP2"},{"$f":"COUNTIF(C3:C32,Accueil!$B$13)","v":0},{"$f":"COUNTIF(D3:D32,Accueil!$B$13)","v":0},{"$f":"COUNTIF(E3:E32,Accueil!$B$13)","v":0},{"$f":"COUNTIF(F3:F32,Accueil!$B$13)","v":0},{"$f":"COUNTIF(G3:G32,Accueil!$B$13)","v":1},{"$f":"COUNTIF(H3:H32,Accueil!$B$13)","v":0},{"$f":"COUNTIF(I3:I32,Accueil!$B$13)","v":0},{"$f":"COUNTIF(J3:J32,Accueil!$B$13)","v":0},{"$f":"COUNTIF(K3:K32,Accueil!$B$13)","v":1},{"$f":"COUNTIF(L3:L32,Accueil!$B$13)","v":0},{"$f":"COUNTIF(M3:M32,Accueil!$B$13)","v":0},{"$f":"COUNTIF(N3:N32,Accueil!$B$13)","v":1},{"$f":"COUNTIF(O3:O32,Accueil!$B$13)","v":0},{"$f":"COUNTIF(P3:P32,Accueil!$B$13)","v":0},{"$f":"COUNTIF(Q3:Q32,Accueil!$B$13)","v":0},{"$f":"COUNTIF(R3:R32,Accueil!$B$13)","v":0},{"$f":"COUNTIF(S3:S32,Accueil!$B$13)","v":0},{"$f":"COUNTIF(T3:T32,Accueil!$B$13)","v":0},{"$f":"COUNTIF(U3:U32,Accueil!$B$13)","v":1},{"$f":"COUNTIF(V3:V32,Accueil!$B$13)","v":0},{"$f":"COUNTIF(W3:W32,Accueil!$B$13)","v":0},{"$f":"COUNTIF(X3:X32,Accueil!$B$13)","v":0},{"$f":"COUNTIF(Y3:Y32,Accueil!$B$13)","v":0},{"$f":"COUNTIF(Z3:Z32,Accueil!$B$13)","v":0},{"$f":"COUNTIF(AA3:AA32,Accueil!$B$13)","v":0},{"$f":"COUNTIF(AB3:AB32,Accueil!$B$13)","v":0},{"$f":"COUNTIF(AC3:AC32,Accueil!$B$13)","v":0},{"$f":"COUNTIF(AD3:AD32,Accueil!$B$13)","v":0},{"$f":"COUNTIF(AE3:AE32,Accueil!$B$13)","v":0},{"$f":"COUNTIF(AF3:AF32,Accueil!$B$13)","v":0},{"$f":"COUNTIF(AG3:AG32,Accueil!$B$13)","v":0}]
[null,{"$f":"\"Effectif minimum \" & Accueil!$B$14","v":"Effectif minimum AP3"},{"$f":"COUNTIF(C3:C32,Accueil!$B$14)","v":0},{"$f":"COUNTIF(D3:D32,Accueil!$B$14)","v":0},{"$f":"COUNTIF(E3:E32,Accueil!$B$14)","v":0},{"$f":"COUNTIF(F3:F32,Accueil!$B$14)","v":0},{"$f":"COUNTIF(G3:G32,Accueil!$B$14)","v":0},{"$f":"COUNTIF(H3:H32,Accueil!$B$14)","v":0},{"$f":"COUNTIF(I3:I32,Accueil!$B$14)","v":0},{"$f":"COUNTIF(J3:J32,Accueil!$B$14)","v":0},{"$f":"COUNTIF(K3:K32,Accueil!$B$14)","v":0},{"$f":"COUNTIF(L3:L32,Accueil!$B$14)","v":0},{"$f":"COUNTIF(M3:M32,Accueil!$B$14)","v":0},{"$f":"COUNTIF(N3:N32,Accueil!$B$14)","v":0},{"$f":"COUNTIF(O3:O32,Accueil!$B$14)","v":0},{"$f":"COUNTIF(P3:P32,Accueil!$B$14)","v":0},{"$f":"COUNTIF(Q3:Q32,Accueil!$B$14)","v":0},{"$f":"COUNTIF(R3:R32,Accueil!$B$14)","v":0},{"$f":"COUNTIF(S3:S32,Accueil!$B$14)","v":0},{"$f":"COUNTIF(T3:T32,Accueil!$B$14)","v":0},{"$f":"COUNTIF(U3:U32,Accueil!$B$14)","v":0},{"$f":"COUNTIF(V3:V32,Accueil!$B$14)","v":0},{"$f":"COUNTIF(W3:W32,Accueil!$B$14)","v":0},{"$f":"COUNTIF(X3:X32,Accueil!$B$14)","v":0},{"$f":"COUNTIF(Y3:Y32,Accueil!$B$14)","v":0},{"$f":"COUNTIF(Z3:Z32,Accueil!$B$14)","v":0},{"$f":"COUNTIF(AA3:AA32,Accueil!$B$14)","v":0},{"$f":"COUNTIF(AB3:AB32,Accueil!$B$14)","v":0},{"$f":"COUNTIF(AC3:AC32,Accueil!$B$14)","v":0},{"$f":"COUNTIF(AD3:AD32,Accueil!$B$14)","v":0},{"$f":"COUNTIF(AE3:AE32,Accueil!$B$14)","v":0},{"$f":"COUNTIF(AF3:AF32,Accueil!$B$14)","v":0},{"$f":"COUNTIF(AG3:AG32,Accueil!$B$14)","v":0}]
[1,{"$f":"\"Effectif minimum \" & Accueil!$B$15","v":"Effectif minimum P1"},{"$f":"COUNTIF(C3:C32,Accueil!$B$15)","v":0},{"$f":"COUNTIF(D3:D32,Accueil!$B$15)","v":0},{"$f":"COUNTIF(E3:E32,Accueil!$B$15)","v":0},{"$f":"COUNTIF(F3:F32,Accueil!$B$15)","v":0},{"$f":"COUNTIF(G3:G32,Accueil!$B$15)","v":0},{"$f":"COUNTIF(H3:H32,Accueil!$B$15)","v":0},{"$f":"COUNTIF(I3:I32,Accueil!$B$15)","v":0},{"$f":"COUNTIF(J3:J32,Accueil!$B$15)","v":0},{"$f":"COUNTIF(K3:K32,Accueil!$B$15)","v":0},{"$f":"COUNTIF(L3:L32,Accueil!$B$15)","v":0},{"$f":"COUNTIF(M3:M32,Accueil!$B$15)","v":1},{"$f":"COUNTIF(N3:N32,Accueil!$B$15)","v":0},{"$f":"COUNTIF(O3:O32,Accueil!$B$15)","v":0},{"$f":"COUNTIF(P3:P32,Accueil!$B$15)","v":0},{"$f":"COUNTIF(Q3:Q32,Accueil!$B$15)","v":0},{"$f":"COUNTIF(R3:R32,Accueil!$B$15)","v":0},{"$f":"COUNTIF(S3:S32,Accueil!$B$15)","v":0},{"$f":"COUNTIF(T3:T32,Accueil!$B$15)","v":0},{"$f":"COUNTIF(U3:U32,Accueil!$B$15)","v":0},{"$f":"COUNTIF(V3:V32,Accueil!$B$15)","v":0},{"$f":"COUNTIF(W3:W32,Accueil!$B$15)","v":0},{"$f":"COUNTIF(X3:X32,Accueil!$B$15)","v":0},{"$f":"COUNTIF(Y3:Y32,Accueil!$B$15)","v":0},{"$f":"COUNTIF(Z3:Z32,Accueil!$B$15)","v":0},{"$f":"COUNTIF(AA3:AA32,Accueil!$B$15)","v":0},{"$f":"COUNTIF(AB3:AB32,Accueil!$B$15)","v":0},{"$f":"COUNTIF(AC3:AC32,Accueil!$B$15)","v":0},{"$f":"COUNTIF(AD3:AD32,Accueil!$B$15)","v":0},{"$f":"COUNTIF(AE3:AE32,Accueil!$B$15)","v":0},{"$f":"COUNTIF(AF3:AF32,Accueil!$B$15)","v":0},{"$f":"COUNTIF(AG3:AG32,Accueil!$B$15)","v":0}]
[2,"APRES-MIDI",{"$f":"C37+C38+C39+C41","v":2},{"$f":"D37+D38+D39+D41","v":1},{"$f":"E37+E38+E39+E41","v":0},{"$f":"F37+F38+F39+F41","v":2},{"$f":"G37+G38+G39+G41","v":2},2,3,2,2,0,1,2,2,3,2,1,0,2,2,2,2,2,1,0,0,0,0,0,0,0,0]
[2,"SOIREE",{"$f":"C37+C38+C39+C41","v":2},{"$f":"D37+D38+D39+D41","v":1},0,2,2,2,3,2,2,0,1,2,2,3,2,1,0,2,2,2,2,2,1,0,0,0,0,0,0,0,0]
[null,{"$f":" \"Effectif minimum \" & Accueil!$B$17 & \" \"","v":"Effectif minimum BI "},{"$f":"COUNTIF(C3:C32,Accueil!$B$17)","v":0},{"$f":"COUNTIF(D3:D32,Accueil!$B$17)","v":0},{"$f":"COUNTIF(E3:E32,Accueil!$B$17)","v":0},{"$f":"COUNTIF(F3:F32,Accueil!$B$17)","v":0},{"$f":"COUNTIF(G3:G32,Accueil!$B$17)","v":0},{"$f":"COUNTIF(H3:H32,Accueil!$B$17)","v":0},{"$f":"COUNTIF(I3:I32,Accueil!$B$17)","v":0},{"$f":"COUNTIF(J3:J32,Accueil!$B$17)","v":0},{"$f":"COUNTIF(K3:K32,Accueil!$B$17)","v":0},{"$f":"COUNTIF(L3:L32,Accueil!$B$17)","v":0},{"$f":"COUNTIF(M3:M32,Accueil!$B$17)","v":0},{"$f":"COUNTIF(N3:N32,Accueil!$B$17)","v":0},{"$f":"COUNTIF(O3:O32,Accueil!$B$17)","v":0},{"$f":"COUNTIF(P3:P32,Accueil!$B$17)","v":0},{"$f":"COUNTIF(Q3:Q32,Accueil!$B$17)","v":0},{"$f":"COUNTIF(R3:R32,Accueil!$B$17)","v":0},{"$f":"COUNTIF(S3:S32,Accueil!$B$17)","v":0},{"$f":"COUNTIF(T3:T32,Accueil!$B$17)","v":0},{"$f":"COUNTIF(U3:U32,Accueil!$B$17)","v":0},{"$f":"COUNTIF(V3:V32,Accueil!$B$17)","v":0},{"$f":"COUNTIF(W3:W32,Accueil!$B$17)","v":0},{"$f":"COUNTIF(X3:X32,Accueil!$B$17)","v":0},{"$f":"COUNTIF(Y3:Y32,Accueil!$B$17)","v":0},{"$f":"COUNTIF(Z3:Z32,Accueil!$B$17)","v":0},{"$f":"COUNTIF(AA3:AA32,Accueil!$B$17)","v":0},{"$f":"COUNTIF(AB3:AB32,Accueil!$B$17)","v":0},{"$f":"COUNTIF(AC3:AC32,Accueil!$B$17)","v":0},{"$f":"COUNTIF(AD3:AD32,Accueil!$B$17)","v":0},{"$f":"COUNTIF(AE3:AE32,Accueil!$B$17)","v":0},{"$f":"COUNTIF(AF3:AF32,Accueil!$B$17)","v":0},{"$f":"COUNTIF(AG3:AG32,Accueil!$B$17)","v":0}]
[null,{"$f":" \"Effectif minimum \" & Accueil!$B$18 & \" \"","v":"Effectif minimum LY "},{"$f":"COUNTIF(C3:C32,Accueil!$B$18)","v":0},{"$f":"COUNTIF(D3:D32,Accueil!$B$18)","v":0},{"$f":"COUNTIF(E3:E32,Accueil!$B$18)","v":0},{"$f":"COUNTIF(F3:F32,Accueil!$B$18)","v":0},{"$f":"COUNTIF(G3:G32,Accueil!$B$18)","v":0},{"$f":"COUNTIF(H3:H32,Accueil!$B$18)","v":0},{"$f":"COUNTIF(I3:I32,Accueil!$B$18)","v":0},{"$f":"COUNTIF(J3:J32,Accueil!$B$18)","v":0},{"$f":"COUNTIF(K3:K32,Accueil!$B$18)","v":0},{"$f":"COUNTIF(L3:L32,Accueil!$B$18)","v":0},{"$f":"COUNTIF(M3:M32,Accueil!$B$18)","v":0},{"$f":"COUNTIF(N3:N32,Accueil!$B$18)","v":0},{"$f":"COUNTIF(O3:O32,Accueil!$B$18)","v":0},{"$f":"COUNTIF(P3:P32,Accueil!$B$18)","v":0},{"$f":"COUNTIF(Q3:Q32,Accueil!$B$18)","v":0},{"$f":"COUNTIF(R3:R32,Accueil!$B$18)","v":0},{"$f":"COUNTIF(S3:S32,Accueil!$B$18)","v":0},{"$f":"COUNTIF(T3:T32,Accueil!$B$18)","v":0},{"$f":"COUNTIF(U3:U32,Accueil!$B$18)","v":0},{"$f":"COUNTIF(V3:V32,Accueil!$B$18)","v":0},{"$f":"COUNTIF(W3:W32,Accueil!$B$18)","v":0},{"$f":"COUNTIF(X3:X32,Accueil!$B$18)","v":0},{"$f":"COUNTIF(Y3:Y32,Accueil!$B$18)","v":0},{"$f":"COUNTIF(Z3:Z32,Accueil!$B$18)","v":0},{"$f":"COUNTIF(AA3:AA32,Accueil!$B$18)","v":0},{"$f":"COUNTIF(AB3:AB32,Accueil!$B$18)","v":0},{"$f":"COUNTIF(AC3:AC32,Accueil!$B$18)","v":0},{"$f":"COUNTIF(AD3:AD32,Accueil!$B$18)","v":0},{"$f":"COUNTIF(AE3:AE32,Accueil!$B$18)","v":0},{"$f":"COUNTIF(AF3:AF32,Accueil!$B$18)","v":0},{"$f":"COUNTIF(AG3:AG32,Accueil!$B$18)","v":0}]
[{"$f":"Nov!A46","v":0},{"$f":" \"Effectif minimum \" & Accueil!$B$19 & \" \"","v":"Effectif minimum ST "},{"$f":"COUNTIF(C3:C32,Accueil!$B$19)","v":0},{"$f":"COUNTIF(D3:D32,Accueil!$B$19)","v":0},{"$f":"COUNTIF(E3:E32,Accueil!$B$19)","v":0},{"$f":"COUNTIF(F3:F32,Accueil!$B$19)","v":0},{"$f":"COUNTIF(G3:G32,Accueil!$B$19)","v":0},{"$f":"COUNTIF(H3:H32,Accueil!$B$19)","v":0},{"$f":"COUNTIF(I3:I32,Accueil!$B$19)","v":0},{"$f":"COUNTIF(J3:J32,Accueil!$B$19)","v":0},{"$f":"COUNTIF(K3:K32,Accueil!$B$19)","v":0},{"$f":"COUNTIF(L3:L32,Accueil!$B$19)","v":0},{"$f":"COUNTIF(M3:M32,Accueil!$B$19)","v":0},{"$f":"COUNTIF(N3:N32,Accueil!$B$19)","v":0},{"$f":"COUNTIF(O3:O32,Accueil!$B$19)","v":0},{"$f":"COUNTIF(P3:P32,Accueil!$B$19)","v":0},{"$f":"COUNTIF(Q3:Q32,Accueil!$B$19)","v":0},{"$f":"COUNTIF(R3:R32,Accueil!$B$19)","v":0},{"$f":"COUNTIF(S3:S32,Accueil!$B$19)","v":0},{"$f":"COUNTIF(T3:T32,Accueil!$B$19)","v":0},{"$f":"COUNTIF(U3:U32,Accueil!$B$19)","v":0},{"$f":"COUNTIF(V3:V32,Accueil!$B$19)","v":0},{"$f":"COUNTIF(W3:W32,Accueil!$B$19)","v":0},{"$f":"COUNTIF(X3:X32,Accueil!$B$19)","v":0},{"$f":"COUNTIF(Y3:Y32,Accueil!$B$19)","v":0},{"$f":"COUNTIF(Z3:Z32,Accueil!$B$19)","v":0},{"$f":"COUNTIF(AA3:AA32,Accueil!$B$19)","v":0},{"$f":"COUNTIF(AB3:AB32,Accueil!$B$19)","v":0},{"$f":"COUNTIF(AC3:AC32,Accueil!$B$19)","v":0},{"$f":"COUNTIF(AD3:AD32,Accueil!$B$19)","v":0},{"$f":"COUNTIF(AE3:AE32,Accueil!$B$19)","v":0},{"$f":"COUNTIF(AF3:AF32,Accueil!$B$19)","v":0},{"$f":"COUNTIF(AG3:AG32,Accueil!$B$19)","v":0}]
[1,{"$f":"\"Effectif minimum \" & Accueil!$B$16","v":"Effectif minimum Nuit"},{"$f":"COUNTIF(C3:C32,Accueil!$B$16)","v":0},{"$f":"COUNTIF(D3:D32,Accueil!$B$16)","v":0},{"$f":"COUNTIF(E3:E32,Accueil!$B$16)","v":0},{"$f":"COUNTIF(F3:F32,Accueil!$B$16)","v":0},{"$f":"COUNTIF(G3:G32,Accueil!$B$16)","v":0},{"$f":"COUNTIF(H3:H32,Accueil!$B$16)","v":0},{"$f":"COUNTIF(I3:I32,Accueil!$B$16)","v":0},{"$f":"COUNTIF(J3:J32,Accueil!$B$16)","v":0},{"$f":"COUNTIF(K3:K32,Accueil!$B$16)","v":0},{"$f":"COUNTIF(L3:L32,Accueil!$B$16)","v":0},{"$f":"COUNTIF(M3:M32,Accueil!$B$16)","v":0},{"$f":"COUNTIF(N3:N32,Accueil!$B$16)","v":0},{"$f":"COUNTIF(O3:O32,Accueil!$B$16)","v":0},{"$f":"COUNTIF(P3:P32,Accueil!$B$16)","v":0},{"$f":"COUNTIF(Q3:Q32,Accueil!$B$16)","v":0},{"$f":"COUNTIF(R3:R32,Accueil!$B$16)","v":0},{"$f":"COUNTIF(S3:S32,Accueil!$B$16)","v":0},{"$f":"COUNTIF(T3:T32,Accueil!$B$16)","v":0},{"$f":"COUNTIF(U3:U32,Accueil!$B$16)","v":0},{"$f":"COUNTIF(V3:V32,Accueil!$B$16)","v":0},{"$f":"COUNTIF(W3:W32,Accueil!$B$16)","v":0},{"$f":"COUNTIF(X3:X32,Accueil!$B$16)","v":0},{"$f":"COUNTIF(Y3:Y32,Accueil!$B$16)","v":0},{"$f":"COUNTIF(Z3:Z32,Accueil!$B$16)","v":0},{"$f":"COUNTIF(AA3:AA32,Accueil!$B$16)","v":0},{"$f":"COUNTIF(AB3:AB32,Accueil!$B$16)","v":0},{"$f":"COUNTIF(AC3:AC32,Accueil!$B$16)","v":0},{"$f":"COUNTIF(AD3:AD32,Accueil!$B$16)","v":0},{"$f":"COUNTIF(AE3:AE32,Accueil!$B$16)","v":0},{"$f":"COUNTIF(AF3:AF32,Accueil!$B$16)","v":0},{"$f":"COUNTIF(AG3:AG32,Accueil!$B$16)","v":0}]