{"text_format":"1","workbook":"xlsx","n_sheets":9,"sheets":["Fiche d'intervention","BDD","Liste","Indicateur Zone5","Indicateur Zone6","Indicateur Zone8","Indicateur Zone9","Indicateur Zone10","Indicateur Banc"],"not_rendered":{"charts":15,"images":1,"macros":1,"external_links":0,"defined_names":3,"comments":0,"pivot_tables":0},"unopened":[],"bounds":{"document_bytes":16777216,"sheet_cells":100000,"rows_first":2000,"rows_last":500,"rows_between":2000,"halvings":0,"cell_chars":16384,"cell_head_chars":4096},"cells_cut":0,"cells_raw":0,"read":"whole","date_system":"1900"}

{"sheet":"Fiche d'intervention","index":0,"n_rows":54,"n_cols":14,"rows_kept":54,"cut":false,"hidden":true,"merged":[[55,2,55,6],[50,2,50,6],[52,2,52,6],[51,2,51,6],[54,2,54,6],[53,2,53,6],[12,10,14,13],[14,2,14,5],[12,6,12,7],[8,8,8,11],[8,12,8,13],[11,2,11,5],[9,3,9,7],[12,3,12,5],[13,3,13,5],[13,6,13,7],[6,2,7,13],[0,13,4,13],[0,5,4,12],[8,2,8,7],[10,2,10,7],[55,11,55,13],[54,11,54,13],[53,11,53,13],[52,11,52,13],[55,7,55,10],[54,7,54,10],[53,7,53,10],[52,7,52,10],[33,12,38,13],[32,2,38,11],[50,7,50,10],[51,7,51,10],[50,11,50,13],[51,11,51,13],[48,2,49,13],[39,2,40,13],[41,2,47,13],[32,12,32,13],[30,2,31,13],[26,8,26,9],[26,2,26,4],[27,2,27,4],[28,2,28,4],[27,8,27,9],[28,8,28,9],[26,6,26,7],[27,6,27,7],[28,6,28,7],[29,6,29,7],[29,2,29,4],[28,10,28,12],[29,10,29,12],[26,10,26,12],[27,10,27,12],[56,2,56,6],[56,7,56,10],[56,11,56,13],[60,2,60,6],[60,7,60,10],[60,11,60,13],[57,2,57,6],[57,7,57,10],[57,11,57,13],[58,2,58,6],[58,7,58,10],[58,11,58,13],[59,2,59,6],[59,7,59,10],[59,11,59,13],[1,15,9,17],[29,8,29,9],[9,8,10,11],[9,12,10,13],[11,10,11,13],[11,6,11,9],[14,6,14,7],[12,8,12,9],[13,8,13,9],[14,8,14,9],[17,2,17,13],[18,2,23,13],[15,2,16,13],[24,2,25,5],[24,6,25,9],[24,10,25,13]]}
[null,null,null,null,null,"FICHE D'INTERVENTION MAINTENANCE",null,null,null,null,null,null,null,"FI173"]
[]
[]
[]
[]
[]
[null,null,"Compte-rendu d'intervention"]
[]
[null,null,"Demandeur*",null,null,null,null,null,"Système*",null,null,null,"Compteur machine*"]
[null,null,"Nom:","fdgfd",null,null,null,null,"Rerge",null,null,null,"trtr"]
[]
[null,null,"Intervenant(s)",null,null,null,"Priotité",null,null,null,"Date"]
[null,null,"Nom :",null,null,null,1,null,false,null,"2016-01-21"]
[null,null,"Nom :",null,null,null,2,null,false]
[null,null,"Secteur Maintenance",null,null,null,3,true,false]
[null,null,"Localisation de l'intervention"]
[]
[null,null,"Description du dysfonctionnement*"]
[null,null,"reeg"]
[]
[]
[]
[]
[]
[null,null,"Type de maintenance",null,null,null,"Type de défaillance",null,null,null,"Cause de défaillance"]
[]
[null,null,"Corrective",null,null,false,"Electrique",null,true,null,"Usure normale",null,null,false]
[null,null,"Préventive",null,null,true,"Mécanique",null,false,null,"Défaut utilisateur",null,null,false]
[null,null,null,null,null,null,"Hydraulique",null,false,null,"Défaut produit",null,null,true]
[null,null,null,null,null,null,null,null,null,null,"Autre"]
[null,null,"Cause lié à la défaillance"]
[]
[null,null,1,null,null,null,null,null,null,null,null,null,"Temps d'intervention"]
[null,null,null,null,null,null,null,null,null,null,null,null,1]
[]
[]
[]
[]
[]
[null,null,"Rapport d'intervention"]
[]
[null,null,1]
[]
[]
[]
[]
[]
[]
[null,null,"Pièces de rechange et consommables"]
[]
[null,null,"Désignation",null,null,null,null,"Marque / Référence",null,null,null,"Quantité"]
[]
[null,null,null,null,null,null,null,1]
[null,null,1,null,null,null,null,null,null,null,null,1]

{"sheet":"BDD","index":1,"n_rows":458,"n_cols":55,"rows_kept":458,"cut":false,"hidden":true,"merged":[[0,23,0,32],[0,33,0,42],[0,43,0,52],[0,4,0,6]]}
["N° intervention","Demandeur","Nom Intervenant","Nom intervenant ","Priorité                                            1                    2                   3",null,null,"Systéme","Compteur machine","Date","Description du dysfonctionnement","Corrective","Préventive","Electrique","Mécanique","Hydraulique","Usure normale","Défaut utilisateur","Défaut produit","Autre","Cause lié à la défaillance","Temps d'intervention","Rapport d'intervention","Désignation",null,null,null,null,null,null,null,null,null,"Marque / Référence",null,null,null,null,null,null,null,null,null,"Quantité",null,null,null,null,null,null,null,null,null,"Formule","Formule"]
["BI1",null,null,null,null,null,null,null,null,"2015-12-10",null,null,null,null,null,null,null,null,null,null,null,null,null,null,null,null,null,null,null,null,null,null,null,null,null,null,null,null,null,null,null,null,null,null,null,null,null,null,null,null,null,null,null,{"$f":"H2&L2&M2","v":""}]
["BI2",null,null,null,null,null,null,null,null,"2015-12-10","kukuu","Banc P2","Banc P2","Banc P2","Banc P2","Banc P2","Banc P2","Banc P2","Banc P2","Banc P2","uu",null,"jyy",null,null,null,null,"p",null,null,null,null,null,null,null,null,null,null,null,null,null,null,null,null,null,null,null,null,null,null,null,null,null,"Banc P2Banc P2"]
["BI3","iii","iii",null,null,null,null,"Banc PowerTrain","iui","2015-12-10","kku","Banc PowerTrain","Banc PowerTrain","Banc PowerTrain","Banc PowerTrain","Banc PowerTrain","Banc PowerTrain","Banc PowerTrain","Banc PowerTrain","Banc PowerTrain",null,null,"iii",null,null,null,null,"i",null,null,null,null,null,null,null,null,null,null,null,null,null,null,null,null,null,null,null,null,null,null,null,null,null,"Banc PowerTrainBanc PowerTrainBanc PowerTrain",{"$f":"H4&L4&M4&N4&O4&P4","v":"Banc PowerTrainBanc PowerTrainBanc PowerTrainBanc PowerTrainBanc PowerTrainBanc PowerTrain"}]
["BI4",null,null,null,null,null,null,null,null,"2015-12-10",null,null,null,null,null,null,null,null,null,null,null,null,null,null,null,null,null,null,null,null,null,null,null,null,null,null,null,null,null,null,null,null,null,null,null,null,null,null,null,null,null,null,null,"",""]
["BI5",null,null,"kukuk",null,null,null,"Ressort verticale",null,"2015-12-10","kukukuku","Ressort verticale","Ressort verticale","Ressort verticale","Ressort verticale","Ressort verticale","Ressort verticale","Ressort verticale","Ressort verticale","Ressort verticale",null,null,"ukuk",null,null,null,null,null,null,null,null,null,null,null,null,null,null,null,null,null,null,null,null,null,null,null,null,null,null,null,null,null,null,"Ressort verticaleRessort verticaleRessort verticale","Ressort verticaleRessort verticaleRessort verticaleRessort verticaleRessort verticaleRessort verticale"]
["BI6","gg",null,null,null,null,null,"Ressort verticale","ggg","2015-12-10","ghghghg","Ressort verticale","Ressort verticale","Ressort verticale","Ressort verticale","Ressort verticale","Ressort verticale","Ressort verticale","Ressort verticale","Ressort verticale","ghghghg",null,"ggg",null,null,null,null,null,null,null,null,null,null,null,null,null,null,null,null,null,null,null,null,null,null,null,null,null,null,null,null,null,null,"Ressort verticaleRessort verticaleRessort verticale","Ressort verticaleRessort verticaleRessort verticaleRessort verticaleRessort verticaleRessort verticale"]
["BI7",null,null,null,null,null,null,null,null,null,null,null,null,null,null,null,null,null,null,null,null,null,null,null,null,null,null,null,null,null,null,null,null,null,null,null,null,null,null,null,null,null,null,null,null,null,null,null,null,null,null,null,null,"",""]
["BI8",null,null,null,null,null,null,"Banc PowerTrain",null,null,null,"Banc PowerTrain","Banc PowerTrain","Banc PowerTrain","Banc PowerTrain","Banc PowerTrain","Banc PowerTrain","Banc PowerTrain","Banc PowerTrain","Banc PowerTrain","ghg",null,"ghghgh",null,null,null,null,null,null,null,null,null,null,null,null,null,null,null,null,null,null,null,null,null,null,null,null,null,null,null,null,null,null,"Banc PowerTrainBanc PowerTrainBanc PowerTrain","Banc PowerTrainBanc PowerTrainBanc PowerTrainBanc PowerTrainBanc PowerTrainBanc PowerTrain"]
["BI9",null,null,null,null,null,null,null,null,null,null,null,null,null,null,null,null,null,null,null,null,null,null,null,null,null,null,null,null,null,null,null,null,null,null,null,null,null,null,null,null,null,null,null,null,null,null,null,null,null,null,null,null,"",""]
["BI10",null,null,null,null,null,null,null,null,null,null,"Banc P2","Banc P2","Banc P2","Banc P2","Banc P2","Banc P2","Banc P2","Banc P2","Banc P2",null,null,null,null,null,null,null,null,null,null,null,null,null,null,null,null,null,null,null,null,null,null,null,null,null,null,null,null,null,null,null,null,null,"Banc P2Banc P2","Banc P2Banc P2Banc P2Banc P2Banc P2"]
["BI11",null,null,null,null,null,null,null,null,null,null,null,null,null,null,null,null,null,null,null,null,null,null,null,null,null,null,null,null,null,null,null,null,null,null,null,null,null,null,null,null,null,null,null,null,null,null,null,null,null,null,null,null,"",""]
["BI12",null,null,null,null,null,null,"Banc P7",null,"2015-12-18",null,false,false,false,null,null,false,false,false,false,null,null,null,null,null,null,null,null,null,null,null,null,null,null,null,null,null,null,null,null,null,null,null,null,null,null,null,null,null,null,null,null,null,"Banc P7FAUXFAUX","Banc P7FAUXFAUXFAUX"]
["BI13",null,null,null,null,null,null,"Banc P7","  ","2015-12-18",null,false,false,false,null,null,false,false,false,false,null,null,null,null,null,null,null,null,null,null,null,null,null,null,null,null,null,null,null,null,null,null,null,null,null,null,null,null,null,null,null,null,null,"Banc P7FAUXFAUX","Banc P7FAUXFAUXFAUX"]
["BI14","Dehan",null,null,null,null,null,"Banc 119",1234,"2015-12-18","pOMPE hs",false,true,false,true,null,false,false,true,false,null,null,null,null,null,null,null,null,null,null,null,null,null,null,null,null,null,null,null,null,null,null,null,null,null,null,null,null,null,null,null,null,null,"Banc 119FAUXVRAI","Banc 119FAUXVRAIFAUXVRAI"]
["FI15",null,null,null,null,null,null,"Banc PowerTrain",null,"2015-12-21",null,false,false,false,false,false,false,false,false,false,null,null,null,null,null,null,null,null,null,null,null,null,null,null,null,null,null,null,null,null,null,null,null,null,null,null,null,null,null,null,null,null,null,"Banc PowerTrainFAUXFAUX","Banc PowerTrainFAUXFAUXFAUXFAUXFAUX"]
["FI16","grgrgr",null,null,null,null,null,"Banc P2","grgrgr","2015-12-21","grgrgrgr",false,true,false,true,false,false,false,false,true,"thtt",null,"thtt",null,null,"t",null,"t",null,null,null,null,null,null,"t",null,null,null,null,null,null,null,null,null,null,null,null,null,null,null,null,null,null,"Banc P2FAUXVRAI","Banc P2FAUXVRAIFAUXVRAIFAUX"]
["FI17","fgjtgy",null,null,null,null,null,"Banc P1","fvghtfgyu","2015-12-21","jiouyo_y_çyhgb",true,false,false,true,false,false,true,false,false,"gfhgfh",null,"ghfsdbvxc",null,null,null,null,null,null,null,null,null,null,null,null,null,null,null,null,null,null,null,null,null,null,null,null,null,null,null,null,null,null,"Banc P1VRAIFAUX","Banc P1VRAIFAUXFAUXVRAIFAUX"]
["FI18",null,null,null,null,null,null,null,null,"2015-12-21",null,false,false,false,false,false,false,false,false,false,null,null,null,null,null,null,null,null,null,null,null,null,null,null,null,null,null,null,null,null,null,null,null,null,null,null,null,null,null,null,null,null,null,"FAUXFAUX","FAUXFAUXFAUXFAUXFAUX"]
["FI19","thth",null,null,null,null,null,"Banc PowerTrain","thth","2015-12-21","hththt",false,true,false,false,true,false,false,true,false,"uj,uu",null,"ku",null,null,null,null,null,"ku",null,null,null,null,null,null,null,null,null,null,null,null,null,null,null,null,null,null,null,null,null,null,null,null,"Banc PowerTrainFAUXVRAI","Banc PowerTrainFAUXVRAIFAUXFAUXVRAI"]
["FI20","hghfdfghfg",null,null,null,null,null,"Banc P2","hghg","2015-12-21","ghghghg",false,false,false,false,false,false,true,false,false,"hg,gh,h",null,"h,h,h",null,null,null,null,null,null,null,null,null,null,null,null,null,null,null,null,null,null,null,null,null,null,null,null,null,null,null,null,null,null,"Banc P2FAUXFAUX","Banc P2FAUXFAUXFAUXFAUXFAUX"]
["FI21",null,null,null,null,null,null,null,null,"2015-12-21",null,false,false,false,false,false,false,false,false,false,null,null,null,null,null,null,null,null,null,null,null,null,null,null,null,null,null,null,null,null,null,null,null,null,null,null,null,null,null,null,null,null,null,"FAUXFAUX","FAUXFAUXFAUXFAUXFAUX"]
["FI22",null,null,null,null,null,null,null,null,null,null,null,null,null,null,null,true,null,null,null,null,null,null,null,null,null,null,null,null,null,null,null,null,null,null,null,null,null,null,null,null,null,null,null,null,null,null,null,null,null,null,null,null,"",""]
["FI23",null,null,null,null,null,null,null,null,null,null,true,false,true,false,false,true,null,true,null,null,12,null,null,null,null,null,null,null,null,null,null,null,null,null,null,null,null,null,null,null,null,null,null,null,null,null,null,null,null,null,null,null,"VRAIFAUX","VRAIFAUXVRAIFAUXFAUX"]
["FI24",null,null,null,null,null,null,null,null,null,null,false,true,true,null,false,false,null,true,null,null,null,null,null,null,null,null,null,null,null,null,null,null,null,null,null,null,null,null,null,null,null,null,null,null,null,null,null,null,null,null,null,null,"FAUXVRAI","FAUXVRAIVRAIFAUX"]
["FI25",null,null,null,null,null,null,null,null,null,null,false,false,false,null,false,false,null,false,null,null,6,null,null,null,null,null,null,null,null,null,null,null,null,null,null,null,null,null,null,null,null,null,null,null,null,null,null,null,null,null,null,null,"FAUXFAUX","FAUXFAUXFAUXFAUX"]
["FI26",null,null,null,null,null,null,null,null,null,null,false,false,false,null,false,false,null,false,null,null,12,null,null,null,null,null,null,null,null,null,null,null,null,null,null,null,null,null,null,null,null,null,null,null,null,null,null,null,null,null,null,null,"FAUXFAUX","FAUXFAUXFAUXFAUX"]
["FI27",null,null,null,null,null,null,null,null,null,null,false,false,false,null,false,false,null,false,null,null,11,null,null,null,null,null,null,null,null,null,null,null,null,null,null,null,null,null,null,null,null,null,null,null,null,null,null,null,null,null,null,null,"FAUXFAUX","FAUXFAUXFAUXFAUX"]
["FI28",null,null,null,null,null,null,"Banc P7",null,null,"Emetteur*",false,false,false,null,false,false,null,false,null,null,2,null,null,null,null,null,null,null,null,null,null,null,null,null,null,null,null,null,null,null,null,null,null,null,null,null,null,null,null,null,null,null,"Banc P7FAUXFAUX","Banc P7FAUXFAUXFAUXFAUX"]
["FI29",null,null,null,null,null,null,"Banc P7",null,null,"Emetteur*",false,false,false,null,false,false,null,false,null,null,4,null,null,null,null,null,null,null,null,null,null,null,null,null,null,null,null,null,null,null,null,null,null,null,null,null,null,null,null,null,null,null,"Banc P7FAUXFAUX","Banc P7FAUXFAUXFAUXFAUX"]
["FI30",null,null,null,null,null,null,null,null,null,null,false,false,false,null,false,false,null,false,null,null,1,null,null,null,null,null,null,null,null,null,null,null,null,null,null,null,null,null,null,null,null,null,null,null,null,null,null,null,null,null,null,null,"FAUXFAUX","FAUXFAUXFAUXFAUX"]
["FI31",null,null,null,null,null,null,null,null,null,null,false,false,false,null,false,false,null,false,null,null,5,null,null,null,null,null,null,null,null,null,null,null,null,null,null,null,null,null,null,null,null,null,null,null,null,null,null,null,null,null,null,null,"FAUXFAUX","FAUXFAUXFAUXFAUX"]
["FI32",null,null,null,null,null,null,null,null,null,null,false,false,false,true,false,false,null,false,null,null,6,null,null,null,null,null,null,null,null,null,null,null,null,null,null,null,null,null,null,null,null,null,null,null,null,null,null,null,null,null,null,null,"FAUXFAUX","FAUXFAUXFAUXVRAIFAUX"]
["FI33",null,null,null,null,null,null,null,null,null,null,false,false,false,true,false,false,null,false,null,null,12,null,null,null,null,null,null,null,null,null,null,null,null,null,null,null,null,null,null,null,null,null,null,null,null,null,null,null,null,null,null,null,"FAUXFAUX","FAUXFAUXFAUXVRAIFAUX"]
["FI34",null,null,null,null,null,null,null,null,null,null,false,false,false,true,false,false,null,false,null,null,11,null,null,null,null,null,null,null,null,null,null,null,null,null,null,null,null,null,null,null,null,null,null,null,null,null,null,null,null,null,null,null,"FAUXFAUX","FAUXFAUXFAUXVRAIFAUX"]
["FI35",null,null,null,null,null,null,null,null,null,null,false,true,false,false,false,false,null,false,null,null,2,null,null,null,null,null,null,null,null,null,null,null,null,null,null,null,null,null,null,null,null,null,null,null,null,null,null,null,null,null,null,null,"FAUXVRAI","FAUXVRAIFAUXFAUXFAUX"]
["FI36",null,null,null,null,null,null,null,null,null,null,false,true,false,true,false,false,true,false,null,null,4,null,null,null,null,null,null,null,null,null,null,null,null,null,null,null,null,null,null,null,null,null,null,null,null,null,null,null,null,null,null,null,"FAUXVRAI","FAUXVRAIFAUXVRAIFAUX"]
["FI37",null,null,null,null,null,null,null,null,null,null,false,false,false,false,false,false,false,false,null,null,1,null,null,null,null,null,null,null,null,null,null,null,null,null,null,null,null,null,null,null,null,null,null,null,null,null,null,null,null,null,null,null,"FAUXFAUX","FAUXFAUXFAUXFAUXFAUX"]
["FI38",null,null,null,null,null,null,null,null,null,null,false,false,false,false,false,false,false,false,null,null,5,null,null,null,null,null,null,null,null,null,null,null,null,null,null,null,null,null,null,null,null,null,null,null,null,null,null,null,null,null,null,null,"FAUXFAUX","FAUXFAUXFAUXFAUXFAUX"]
["FI39",null,null,null,null,null,null,null,null,null,null,false,false,false,false,false,false,false,false,null,null,7,null,null,null,null,null,null,null,null,null,null,null,null,null,null,null,null,null,null,null,null,null,null,null,null,null,null,null,null,null,null,null,"FAUXFAUX","FAUXFAUXFAUXFAUXFAUX"]
["FI41","Nom : ",null,null,false,false,false,null,null,"2015-12-23",null,null,null,null,null,null,null,null,null,null,null,6,null,null,null,null,null,null,null,null,null,null,null,null,null,null,null,null,null,null,null,null,null,null,null,null,null,null,null,null,null,null,null,"",""]
["FI42",null,null,null,true,false,false,null,null,"2015-12-23",null,null,null,null,null,null,null,null,null,null,null,12,null,null,null,null,null,null,null,null,null,null,null,null,null,null,null,null,null,null,null,null,null,null,null,null,null,null,null,null,null,null,null,"",""]
["FI43","jj",null,null,false,false,false,"Banc P2","jhj","ththt",null,null,null,null,null,null,null,null,null,null,"vdfvdv",11,"vdv",null,null,null,null,null,null,null,null,null,null,null,null,null,null,null,null,null,null,null,null,null,null,null,null,null,null,null,null,null,null,"Banc P2","Banc P2"]
["FI44","jj",null,null,false,false,false,"Banc P2","jhj","ththt",null,null,null,null,null,null,null,null,null,null,"vdfvdv",2,"vdv",null,null,null,null,null,null,null,null,null,null,null,null,null,null,null,null,null,null,null,null,null,null,null,null,null,null,null,null,null,null,"Banc P2","Banc P2"]
["FI45","rgr",null,null,false,false,false,"Banc P7","rgr","ththt","grgr",null,null,null,null,null,null,null,null,null,"grgr",4,"rgrg",null,null,null,null,null,null,null,null,null,null,null,null,null,null,null,null,null,null,null,null,null,null,null,null,null,null,null,null,null,null,"Banc P7","Banc P7"]
["FI46","rgr",null,null,false,false,false,"Banc P7","rgr","ththt","grgr",null,null,null,null,null,null,null,null,null,"grgr",1,"rgrg",null,null,null,null,null,null,null,null,null,null,null,null,null,null,null,null,null,null,null,null,null,null,null,null,null,null,null,null,null,null,"Banc P7","Banc P7"]
["FI47",null,null,null,false,false,false,null,null,"ththt",null,null,null,null,null,null,null,null,null,null,null,5,null,null,null,null,null,null,null,null,null,null,null,null,null,null,null,null,null,null,null,null,null,null,null,null,null,null,null,null,null,null,null,"",""]
["FI48",null,null,null,false,false,false,null,null,"ththt",null,null,null,null,null,null,null,null,null,null,null,7,null,null,null,null,null,null,null,null,null,null,null,null,null,null,null,null,null,null,null,null,null,null,null,null,null,null,null,null,null,null,null,"",""]
["FI49",null,null,null,false,false,false,null,null,"2015-12-24",null,null,null,null,null,null,null,null,null,null,null,6,null,null,null,null,null,null,null,null,null,null,null,null,null,null,null,null,null,null,null,null,null,null,null,null,null,null,null,null,null,null,null,"",""]
["FI50",null,null,null,false,false,false,null,null,"2015-12-24",null,null,null,null,null,null,null,null,null,null,null,12,null,null,null,null,null,null,null,null,null,null,null,null,null,null,null,null,null,null,null,null,null,null,null,null,null,null,null,null,null,null,null,"",""]
["FI51",null,null,null,false,false,false,null,null,"2015-12-24",null,null,null,null,null,null,null,null,null,null,null,11,"h,,hh,",null,null,null,null,null,null,null,null,null,null,null,null,null,null,null,null,null,null,null,null,null,null,null,null,null,null,null,null,null,null,"",""]
["FI52",null,null,null,false,false,false,null,null,"2015-12-24",null,null,null,null,null,null,null,null,null,null,null,2,"y",null,null,null,null,null,null,null,null,null,null,null,null,null,null,null,null,null,null,null,null,null,null,null,null,null,null,null,null,null,null,"",""]
["FI53","gvbvdfb",null,null,false,false,false,"Banc nouveau P9","rgrgr","2016-01-04","grgrgrg",null,null,null,null,null,null,null,null,null,null,4,null,null,null,null,null,null,null,null,null,null,null,null,null,null,null,null,null,null,null,null,null,null,null,null,null,null,null,null,null,null,null,"Banc nouveau P9","Banc nouveau P9"]
["FI54","gvbvdfb",null,null,false,false,false,"Banc P1","rgrgr","2016-01-04","grgrgrg",null,null,null,null,null,null,null,null,null,null,1,null,null,null,null,null,null,null,null,null,null,null,null,null,null,null,null,null,null,null,null,null,null,null,null,null,null,null,null,null,null,null,"Banc P1","Banc P1"]
["FI55","gvbvdfb",null,null,false,false,false,"Banc P2","rgrgr","2016-01-04","grgrgrg",null,null,null,null,null,null,null,null,null,null,5,null,null,null,null,null,null,null,null,null,null,null,null,null,null,null,null,null,null,null,null,null,null,null,null,null,null,null,null,null,null,null,"Banc P2","Banc P2"]
["FI56","gvbvdfb",null,null,false,false,false,"Banc 156","rgrgr","2016-01-04","grgrgrg",null,null,null,null,null,null,null,null,null,null,7,null,null,null,null,null,null,null,null,null,null,null,null,null,null,null,null,null,null,null,null,null,null,null,null,null,null,null,null,null,null,null,"Banc 156","Banc 156"]
["FI57","gvbvdfb",null,null,false,false,false,"Chambre Froide","rgrgr","2016-01-04","grgrgrg",null,null,null,null,null,null,null,null,null,null,6,null,null,null,null,null,null,null,null,null,null,null,null,null,null,null,null,null,null,null,null,null,null,null,null,null,null,null,null,null,null,null,"Chambre Froide","Chambre Froide"]
["FI58","gvbvdfb",null,null,false,false,false,"Chambre Sourde","rgrgr","2016-01-04","grgrgrg",null,null,null,null,null,null,null,null,null,null,12,null,null,null,null,null,null,null,null,null,null,null,null,null,null,null,null,null,null,null,null,null,null,null,null,null,null,null,null,null,null,null,"Chambre Sourde","Chambre Sourde"]
["FI59","gvbvdfb",null,null,false,false,false,"Banc nouveau P9","rgrgr","2016-01-04","grgrgrg",null,null,null,null,null,null,null,null,null,null,11,null,null,null,null,null,null,null,null,null,null,null,null,null,null,null,null,null,null,null,null,null,null,null,null,null,null,null,null,null,null,null,"Banc nouveau P9","Banc nouveau P9"]
["FI60","gvbvdfb",null,null,false,false,false,"Banc P1","rgrgr","2016-01-04","grgrgrg",null,null,null,null,null,null,null,null,null,null,2,null,null,null,null,null,null,null,null,null,null,null,null,null,null,null,null,null,null,null,null,null,null,null,null,null,null,null,null,null,null,null,"Banc P1","Banc P1"]
["FI61","gvbvdfb",null,null,false,false,false,"Banc P2","rgrgr","2016-01-04","grgrgrg",null,null,null,null,null,null,null,null,null,null,4,null,null,null,null,null,null,null,null,null,null,null,null,null,null,null,null,null,null,null,null,null,null,null,null,null,null,null,null,null,null,null,"Banc P2","Banc P2"]
["FI62","gvbvdfb",null,null,false,false,false,"Banc 156","rgrgr","2016-01-04","grgrgrg",null,null,null,null,null,null,null,null,null,null,1,null,null,null,null,null,null,null,null,null,null,null,null,null,null,null,null,null,null,null,null,null,null,null,null,null,null,null,null,null,null,null,"Banc 156","Banc 156"]
["FI63","gvbvdfb",null,null,false,false,false,"Chambre Froide","rgrgr","2016-01-04","grgrgrg",null,null,null,null,null,null,null,null,null,null,5,null,null,null,null,null,null,null,null,null,null,null,null,null,null,null,null,null,null,null,null,null,null,null,null,null,null,null,null,null,null,null,"Chambre Froide","Chambre Froide"]
["FI64","gvbvdfb",null,null,false,false,false,"Chambre Sourde","rgrgr","2016-01-04","grgrgrg",null,null,null,null,null,null,null,null,null,null,7,null,null,null,null,null,null,null,null,null,null,null,null,null,null,null,null,null,null,null,null,null,null,null,null,null,null,null,null,null,null,null,"Chambre Sourde","Chambre Sourde"]
["FI65","gvbvdfb",null,null,false,false,false,"Banc nouveau P9","rgrgr","2016-01-04","grgrgrg",null,null,null,null,null,null,null,null,null,null,6,null,null,null,null,null,null,null,null,null,null,null,null,null,null,null,null,null,null,null,null,null,null,null,null,null,null,null,null,null,null,null,"Banc nouveau P9","Banc nouveau P9"]
["FI66","gvbvdfb",null,null,false,false,false,"Banc P1","rgrgr","2016-01-04","grgrgrg",null,null,null,null,null,null,null,null,null,null,12,null,null,null,null,null,null,null,null,null,null,null,null,null,null,null,null,null,null,null,null,null,null,null,null,null,null,null,null,null,null,null,{"$f":"H66&L66&M66","v":"Banc P1"},"Banc P1"]
["FI67","gvbvdfb",null,null,false,false,false,"Banc P2","rgrgr","2016-01-04","grgrgrg",null,null,null,null,null,null,null,null,null,null,11,null,null,null,null,null,null,null,null,null,null,null,null,null,null,null,null,null,null,null,null,null,null,null,null,null,null,null,null,null,null,null,"Banc P2","Banc P2"]
["FI68","gvbvdfb",null,null,false,false,false,"Banc 156","rgrgr","2016-01-04","grgrgrg",null,null,null,null,null,null,null,null,null,null,2,null,null,null,null,null,null,null,null,null,null,null,null,null,null,null,null,null,null,null,null,null,null,null,null,null,null,null,null,null,null,null,"Banc 156",{"$f":"H68&L68&M68&N68&O68&P68","v":"Banc 156"}]
["FI69","gvbvdfb",null,null,false,false,false,"Chambre Froide","rgrgr","2016-01-04","grgrgrg",null,null,null,null,null,null,null,null,null,null,4,null,null,null,null,null,null,null,null,null,null,null,null,null,null,null,null,null,null,null,null,null,null,null,null,null,null,null,null,null,null,null,"Chambre Froide","Chambre Froide"]
["FI70","gvbvdfb",null,null,false,false,false,"Chambre Sourde","rgrgr","2016-01-04","grgrgrg",null,null,null,null,null,null,null,null,null,null,1,null,null,null,null,null,null,null,null,null,null,null,null,null,null,null,null,null,null,null,null,null,null,null,null,null,null,null,null,null,null,null,"Chambre Sourde","Chambre Sourde"]
["FI71","gvbvdfb",null,null,false,false,false,"Banc P7","rgrgr","2016-01-04","grgrgrg",null,null,null,null,null,null,null,null,null,null,5,null,null,null,null,null,null,null,null,null,null,null,null,null,null,null,null,null,null,null,null,null,null,null,null,null,null,null,null,null,null,null,"Banc P7","Banc P7"]
["FI72","gvbvdfb",null,null,false,false,false,"Banc P7","rgrgr","2016-01-04","grgrgrg",null,null,null,null,null,null,null,null,null,null,5,null,null,null,null,null,null,null,null,null,null,null,null,null,null,null,null,null,null,null,null,null,null,null,null,null,null,null,null,null,null,null,"Banc P7","Banc P7"]
["FI73","gvbvdfb",null,null,false,false,false,"Banc P7","rgrgr","2016-01-04","grgrgrg",null,null,null,null,null,null,null,null,null,null,7,null,null,null,null,null,null,null,null,null,null,null,null,null,null,null,null,null,null,null,null,null,null,null,null,null,null,null,null,null,null,null,"Banc P7","Banc P7"]
["FI74","gvbvdfb",null,null,false,false,false,"Banc P7","rgrgr","2016-01-04","grgrgrg",null,null,null,null,null,null,null,null,null,null,6,null,null,null,null,null,null,null,null,null,null,null,null,null,null,null,null,null,null,null,null,null,null,null,null,null,null,null,null,null,null,null,"Banc P7","Banc P7"]
["FI75","gvbvdfb",null,null,false,false,false,"Banc P7","rgrgr","2016-01-04","grgrgrg",null,null,null,null,null,null,null,null,null,null,12,null,null,null,null,null,null,null,null,null,null,null,null,null,null,null,null,null,null,null,null,null,null,null,null,null,null,null,null,null,null,null,"Banc P7","Banc P7"]
["FI76","gvbvdfb",null,null,false,false,false,"Banc nouveau P9","rgrgr","2016-01-04","grgrgrg",null,null,null,null,null,null,null,null,null,null,11,null,null,null,null,null,null,null,null,null,null,null,null,null,null,null,null,null,null,null,null,null,null,null,null,null,null,null,null,null,null,null,"Banc nouveau P9","Banc nouveau P9"]
["FI77","gvbvdfb",null,null,false,false,false,"Banc P1","rgrgr","2016-01-04","grgrgrg",null,null,null,null,null,null,null,null,null,null,2,null,null,null,null,null,null,null,null,null,null,null,null,null,null,null,null,null,null,null,null,null,null,null,null,null,null,null,null,null,null,null,"Banc P1","Banc P1"]
["FI78","gvbvdfb",null,null,false,false,false,"Banc P2","rgrgr","2016-01-04","grgrgrg",null,false,null,null,null,null,null,null,null,null,4,null,null,null,null,null,null,null,null,null,null,null,null,null,null,null,null,null,null,null,null,null,null,null,null,null,null,null,null,null,null,null,"Banc P2FAUX","Banc P2FAUX"]
["FI79","gvbvdfb",null,null,false,false,false,"Banc 156","rgrgr","2016-01-04","grgrgrg",null,true,null,null,null,null,null,null,null,null,1,null,null,null,null,null,null,null,null,null,null,null,null,null,null,null,null,null,null,null,null,null,null,null,null,null,null,null,null,null,null,null,"Banc 156VRAI","Banc 156VRAI"]
["FI80","gvbvdfb",null,null,false,false,false,"Chambre Froide","rgrgr","2016-01-04","grgrgrg",null,true,null,null,null,null,null,null,null,null,5,"grgrgrg",null,null,null,null,null,null,null,null,null,null,null,null,null,null,null,null,null,null,null,null,null,null,null,null,null,null,null,null,null,null,"Chambre FroideVRAI","Chambre FroideVRAI"]
["FI81","gvbvdfb",null,null,false,false,false,"Chambre Sourde","rgrgr","2016-01-04","grgrgrg",null,false,null,null,null,null,null,null,null,null,7,"grgrgrg",null,null,null,null,null,null,null,null,null,null,null,null,null,null,null,null,null,null,null,null,null,null,null,null,null,null,null,null,null,null,"Chambre SourdeFAUX","Chambre SourdeFAUX"]
["FI82","gvbvdfb",null,null,false,false,false,"Banc nouveau P9","rgrgr","2016-01-04","grgrgrg",null,true,null,null,null,null,null,null,null,null,6,"grgrgrg",null,null,null,null,null,null,null,null,null,null,null,null,null,null,null,null,null,null,null,null,null,null,null,null,null,null,null,null,null,null,"Banc nouveau P9VRAI","Banc nouveau P9VRAI"]
["FI83","gvbvdfb",null,null,false,false,false,"Banc P1","rgrgr","2016-01-04","grgrgrg",null,true,null,null,null,null,null,null,null,null,12,"grgrgrg",null,null,null,null,null,null,null,null,null,null,null,null,null,null,null,null,null,null,null,null,null,null,null,null,null,null,null,null,null,null,"Banc P1VRAI","Banc P1VRAI"]
["FI84","gvbvdfb",null,null,false,false,false,"Banc P2","rgrgr","2016-01-04","grgrgrg",null,false,null,null,null,null,null,null,null,null,11,"grgrgrg",null,null,null,null,null,null,null,null,null,null,null,null,null,null,null,null,null,null,null,null,null,null,null,null,null,null,null,null,null,null,"Banc P2FAUX","Banc P2FAUX"]
["FI85","gvbvdfb",null,null,false,false,false,"Banc 156","rgrgr","2016-01-04","grgrgrg",null,true,null,null,null,null,null,null,null,null,2,"grgrgrg",null,null,null,null,null,null,null,null,null,null,null,null,null,null,null,null,null,null,null,null,null,null,null,null,null,null,null,null,null,null,"Banc 156VRAI","Banc 156VRAI"]
["FI86","gvbvdfb",null,null,false,false,false,"Chambre Froide","rgrgr","2016-01-04","grgrgrg",null,true,null,null,null,null,null,null,null,null,4,"grgrgrg",null,null,null,null,null,null,null,null,null,null,null,null,null,null,null,null,null,null,null,null,null,null,null,null,null,null,null,null,null,null,"Chambre FroideVRAI","Chambre FroideVRAI"]
["FI87","gvbvdfb",null,null,false,false,false,"Chambre Sourde","rgrgr","2016-01-04","grgrgrg",null,false,null,null,null,null,null,null,null,null,1,"grgrgrg",null,null,null,null,null,null,null,null,null,null,null,null,null,null,null,null,null,null,null,null,null,null,null,null,null,null,null,null,null,null,"Chambre SourdeFAUX","Chambre SourdeFAUX"]
["FI88",null,null,null,false,false,false,"Banc nouveau P9",null,"2016-01-04",null,null,true,null,null,null,null,null,null,null,null,5,null,null,null,null,null,null,null,null,null,null,null,null,null,null,null,null,null,null,null,null,null,null,null,null,null,null,null,null,null,null,null,"Banc nouveau P9VRAI","Banc nouveau P9VRAI"]
["FI89",null,null,null,false,false,false,"Banc P1",null,"2016-01-04",null,null,true,null,null,null,null,null,null,null,null,7,null,null,null,null,null,null,null,null,null,null,null,null,null,null,null,null,null,null,null,null,null,null,null,null,null,null,null,null,null,null,null,"Banc P1VRAI","Banc P1VRAI"]
["FI90",null,null,null,false,false,false,"Banc P2",null,"2016-01-04",null,null,false,null,null,null,null,null,null,null,null,6,null,null,null,null,null,null,null,null,null,null,null,null,null,null,null,null,null,null,null,null,null,null,null,null,null,null,null,null,null,null,null,"Banc P2FAUX","Banc P2FAUX"]
["FI91",null,null,null,false,false,false,"Banc 156",null,"2016-01-04",null,null,true,null,null,null,null,null,null,null,null,12,null,null,null,null,null,null,null,null,null,null,null,null,null,null,null,null,null,null,null,null,null,null,null,null,null,null,null,null,null,null,null,"Banc 156VRAI","Banc 156VRAI"]
["FI92",null,null,null,false,false,false,"Chambre Froide",null,"2016-01-04",null,null,true,null,null,null,null,null,null,null,null,11,"fgfd",null,null,null,null,null,null,null,null,null,null,null,null,null,null,null,null,null,null,null,null,null,null,null,null,null,null,null,null,null,null,"Chambre FroideVRAI","Chambre FroideVRAI"]
["FI93",null,null,null,false,false,false,"Chambre Sourde",null,"2016-01-04",null,null,false,null,null,null,null,null,null,null,null,2,"fgfd",null,null,null,null,null,null,null,null,null,null,null,null,null,null,null,null,null,null,null,null,null,null,null,null,null,null,null,null,null,null,"Chambre SourdeFAUX","Chambre SourdeFAUX"]
["FI94",null,null,null,false,false,false,null,null,"2016-01-04",null,null,true,null,null,null,null,null,null,null,null,4,"fgfd",null,null,null,null,null,null,null,null,null,null,null,null,null,null,null,null,null,null,null,null,null,null,null,null,null,null,null,null,null,null,"VRAI","VRAI"]
["FI95",null,null,null,false,false,false,null,null,"2016-01-04",null,null,false,null,null,null,null,null,null,null,null,1,"fgfd",null,null,null,null,null,null,null,null,null,null,null,null,null,null,null,null,null,null,null,null,null,null,null,null,null,null,null,null,null,null,"FAUX","FAUX"]
["FI96",null,null,null,false,false,false,null,null,"2016-01-04",null,null,false,null,null,null,null,null,null,null,null,5,"fgfd",null,null,null,null,null,null,null,null,null,null,null,null,null,null,null,null,null,null,null,null,null,null,null,null,null,null,null,null,null,null,"FAUX","FAUX"]
["FI97",null,null,null,false,false,false,null,null,"2016-01-04",null,null,null,null,null,null,null,null,null,null,null,12,null,null,null,null,null,null,null,null,null,null,null,null,null,null,null,null,null,null,null,null,null,null,null,null,null,null,null,null,null,null,null,"",""]
["FI98",null,null,null,false,false,false,null,null,"2016-01-04",null,null,null,null,null,null,null,null,null,null,null,11,null,null,null,null,null,null,null,null,null,null,null,null,null,null,null,null,null,null,null,null,null,null,null,null,null,null,null,null,null,null,null,"",""]
["FI99",null,null,null,false,false,false,null,null,"2016-01-04",null,null,null,null,null,null,null,null,null,null,null,2,"ttt",null,null,null,null,null,null,null,null,null,null,null,null,null,null,null,null,null,null,null,null,null,null,null,null,null,null,null,null,null,null,"",""]
["FI100",null,null,null,false,false,false,null,null,"2016-01-04",null,null,null,null,null,null,null,null,null,null,null,4,"ttt",null,null,null,null,null,null,null,null,null,null,null,null,null,null,null,null,null,null,null,null,null,null,null,null,null,null,null,null,null,null,"",""]
["FI101",null,null,null,false,false,false,null,null,"2016-01-04",null,null,false,null,null,null,null,null,null,null,null,1,"ttt",null,null,null,null,null,null,null,null,null,null,null,null,null,null,null,null,null,null,null,null,null,null,null,null,null,null,null,null,null,null,"FAUX","FAUX"]
["FI102",null,null,null,false,false,false,null,null,"2016-01-04",null,null,true,null,null,null,null,null,null,null,null,5,null,null,null,null,null,null,null,null,null,null,null,null,null,null,null,null,null,null,null,null,null,null,null,null,null,null,null,null,null,null,null,"VRAI","VRAI"]
["FI103",null,null,null,false,false,false,null,null,"2016-01-04",null,null,true,null,null,null,null,null,null,null,null,7,null,null,null,null,null,null,null,null,null,null,null,null,null,null,null,null,null,null,null,null,null,null,null,null,null,null,null,null,null,null,null,"VRAI","VRAI"]
["FI104",null,null,null,false,false,false,null,null,"2016-01-04",null,null,false,null,null,null,null,null,null,null,null,6,"ghgh",null,null,null,null,null,null,null,null,null,null,null,null,null,null,null,null,null,null,null,null,null,null,null,null,null,null,null,null,null,null,"FAUX","FAUX"]
["FI105","dgdgd",null,null,false,false,false,"Banc PowerTrain","dgdgd","2016-01-04","ddgd",null,true,null,null,null,null,null,null,null,null,12,null,null,null,null,null,null,null,null,null,null,null,null,null,null,null,null,null,null,null,null,null,null,null,null,null,null,null,null,null,null,null,"Banc PowerTrainVRAI","Banc PowerTrainVRAI"]
["FI106","dgdgd",null,null,false,false,false,"Banc PowerTrain","dgdgd","2016-01-04","ddgd",true,false,true,false,false,null,null,null,null,null,11,null,null,null,null,null,null,null,null,null,null,null,null,null,null,null,null,null,null,null,null,null,null,null,null,null,null,null,null,null,null,null,"Banc PowerTrainVRAIFAUX","Banc PowerTrainVRAIFAUXVRAIFAUXFAUX"]
["FI107","dgdgd",null,null,false,false,false,"Banc PowerTrain","dgdgd","2016-01-04","ddgd",false,true,false,true,false,null,null,null,null,null,2,null,null,null,null,null,null,null,null,null,null,null,null,null,null,null,null,null,null,null,null,null,null,null,null,null,null,null,null,null,null,null,"Banc PowerTrainFAUXVRAI","Banc PowerTrainFAUXVRAIFAUXVRAIFAUX"]
["FI108","dgdgd",null,null,false,false,false,"Banc 007","dgdgd","2016-01-04","ddgd",false,true,true,false,false,null,null,null,null,null,4,null,null,null,null,null,null,null,null,null,null,null,null,null,null,null,null,null,null,null,null,null,null,null,null,null,null,null,null,null,null,null,"Banc 007FAUXVRAI","Banc 007FAUXVRAIVRAIFAUXFAUX"]
["FI109","dgdgd",null,null,false,false,false,"Banc 008","dgdgd","2016-01-04","ddgd",true,false,false,true,false,null,null,null,null,null,1,"gdgd",null,null,null,null,null,null,null,null,null,null,null,null,null,null,null,null,null,null,null,null,null,null,null,null,null,null,null,null,null,null,"Banc 008VRAIFAUX","Banc 008VRAIFAUXFAUXVRAIFAUX"]
["FI110","dgdgd",null,null,false,false,false,"Banc 113","dgdgd","2016-01-04","ddgd",true,false,false,true,false,null,null,null,null,null,5,"gdgd",null,null,null,null,null,null,null,null,null,null,null,null,null,null,null,null,null,null,null,null,null,null,null,null,null,null,null,null,null,null,"Banc 113VRAIFAUX","Banc 113VRAIFAUXFAUXVRAIFAUX"]
["FI111","dgdgd",null,null,false,false,false,"Banc 115","dgdgd","2016-01-04","ddgd",false,true,false,false,true,null,null,null,null,null,7,"gdgd",null,null,null,null,null,null,null,null,null,null,null,null,null,null,null,null,null,null,null,null,null,null,null,null,null,null,null,null,null,null,"Banc 115FAUXVRAI","Banc 115FAUXVRAIFAUXFAUXVRAI"]
["FI112","dgdgd",null,null,false,false,false,"Banc 120","dgdgd","2016-01-04","ddgd",true,false,true,false,false,null,null,null,null,null,6,"gdgd",null,null,null,null,null,null,null,null,null,null,null,null,null,null,null,null,null,null,null,null,null,null,null,null,null,null,null,null,null,null,"Banc 120VRAIFAUX","Banc 120VRAIFAUXVRAIFAUXFAUX"]
["FI113","dgdgd",null,null,false,false,false,"Banc 120 bis","dgdgd","2016-01-04","ddgd",false,true,false,true,false,null,null,null,null,null,12,"gdgd",null,null,null,null,null,null,null,null,null,null,null,null,null,null,null,null,null,null,null,null,null,null,null,null,null,null,null,null,null,null,"Banc 120 bisFAUXVRAI","Banc 120 bisFAUXVRAIFAUXVRAIFAUX"]
["FI114","kmk",null,null,false,false,false,"Banc 128","mkmk","2016-01-04","mkmkmk",false,true,true,false,false,null,null,null,null,"::ù;",11,",ljl",null,null,null,null,null,null,null,null,null,null,null,null,null,null,null,null,null,null,null,null,null,null,null,null,null,null,null,null,null,null,"Banc 128FAUXVRAI","Banc 128FAUXVRAIVRAIFAUXFAUX"]
["FI115","kmk",null,null,false,false,false,"Banc nouveau P9","mkmk","2016-01-04","mkmkmk",true,false,false,true,false,false,false,false,null,"::ù;",2,",ljl",null,null,null,null,null,null,null,null,null,null,null,null,null,null,null,null,null,null,null,null,null,null,null,null,null,null,null,null,null,null,"Banc nouveau P9VRAIFAUX","Banc nouveau P9VRAIFAUXFAUXVRAIFAUX"]
["FI116","kmk",null,null,false,false,false,"Banc P1","mkmk","2016-01-04","mkmkmk",true,false,false,true,false,false,false,false,null,"::ù;",4,",ljl",null,null,null,null,null,null,null,null,null,null,null,null,null,null,null,null,null,null,null,null,null,null,null,null,null,null,null,null,null,null,"Banc P1VRAIFAUX",{"$f":"H116&L116&M116&N116&O116&P116","v":"Banc P1VRAIFAUXFAUXVRAIFAUX"}]
["FI117","kmk",null,null,false,false,false,"Banc P2","mkmk","2016-01-04","mkmkmk",false,true,false,false,true,false,false,false,null,"::ù;",1,",ljl",null,null,null,null,null,null,null,null,null,null,null,null,null,null,null,null,null,null,null,null,null,null,null,null,null,null,null,null,null,null,"Banc P2FAUXVRAI","Banc P2FAUXVRAIFAUXFAUXVRAI"]
["FI118","kmk",null,null,false,false,false,"Banc 156","mkmk","2016-01-04","mkmkmk",true,false,true,false,false,false,false,false,null,"::ù;",5,",ljl",null,null,null,null,null,null,null,null,null,null,null,null,null,null,null,null,null,null,null,null,null,null,null,null,null,null,null,null,null,null,"Banc 156VRAIFAUX","Banc 156VRAIFAUXVRAIFAUXFAUX"]
["FI119","kmk",null,null,false,false,false,"Chambre Froide","mkmk","2016-01-04","mkmkmk",false,true,false,true,false,false,false,false,null,"::ù;",7,",ljl",null,null,null,null,null,null,null,null,null,null,null,null,null,null,null,null,null,null,null,null,null,null,null,null,null,null,null,null,null,null,"Chambre FroideFAUXVRAI","Chambre FroideFAUXVRAIFAUXVRAIFAUX"]
["FI120",null,null,null,false,false,false,"Chambre Sourde",165765,"2016-01-04","test",true,false,true,false,false,false,false,false,null,null,6,null,null,null,null,null,null,null,null,null,null,null,null,null,null,null,null,null,null,null,null,null,null,null,null,null,null,null,null,null,null,null,"Chambre SourdeVRAIFAUX","Chambre SourdeVRAIFAUXVRAIFAUXFAUX"]
["FI121",null,null,null,false,false,false,"Banc nouveau P9",165765,"2016-01-04","test",false,true,false,true,false,false,true,false,null,null,12,null,null,null,null,null,null,null,null,null,null,null,null,null,null,null,null,null,null,null,null,null,null,null,null,null,null,null,null,null,null,null,"Banc nouveau P9FAUXVRAI",{"$f":"H121&L121&M121&N121&O121&P121","v":"Banc nouveau P9FAUXVRAIFAUXVRAIFAUX"}]
["FI122",null,null,null,false,false,false,"Banc P1",165765,"2016-01-04","test",false,true,true,false,false,false,true,false,null,null,11,"fttfiy",null,null,null,null,null,null,null,null,null,null,null,null,null,null,null,null,null,null,null,null,null,null,null,null,null,null,null,null,null,null,"Banc P1FAUXVRAI",{"$f":"H122&L122&M122&N122&O122&P122","v":"Banc P1FAUXVRAIVRAIFAUXFAUX"}]
["FI123",null,null,null,false,false,false,"Banc P2",165765,"2016-01-04","test",true,false,false,true,false,false,true,false,null,null,2,"fttfiy",null,null,null,null,null,null,null,null,null,null,null,null,null,null,null,null,null,null,null,null,null,null,null,null,null,null,null,null,null,null,"Banc P2VRAIFAUX","Banc P2VRAIFAUXFAUXVRAIFAUX"]
["FI124",null,null,"kukuk",null,null,null,"Banc 156","fb","2015-12-10","kukukuku",true,false,false,true,false,"Ressort verticale",true,"Ressort verticale",null,null,4,"ukuk",null,null,null,null,null,null,null,null,null,null,null,null,null,null,null,null,null,null,null,null,null,null,null,null,null,null,null,null,null,null,"Banc 156VRAIFAUX","Banc 156VRAIFAUXFAUXVRAIFAUX"]
["FI125",null,null,null,null,null,null,"Chambre Froide",null,"2015-12-10",null,false,true,false,false,true,false,false,false,null,null,1,null,null,null,null,null,null,null,null,null,null,null,null,null,null,null,null,null,null,null,null,null,null,null,null,null,null,null,null,null,null,null,"Chambre FroideFAUXVRAI","Chambre FroideFAUXVRAIFAUXFAUXVRAI"]
["FI126","grgr",null,null,null,null,null,"Chambre Sourde","rgr","2015-12-10","grgr",true,false,true,false,false,false,false,false,null,null,5,null,null,null,null,null,null,null,null,null,null,null,null,null,null,null,null,null,null,null,null,null,null,null,null,null,null,null,null,null,null,null,"Chambre SourdeVRAIFAUX","Chambre SourdeVRAIFAUXVRAIFAUXFAUX"]
["FI127","g",null,null,false,false,false,"Banc nouveau P9","d","2016-01-14","d",false,true,false,true,false,false,true,false,null,null,7,"gdd",null,null,null,null,null,null,null,null,null,null,null,null,null,null,null,null,null,null,null,null,null,null,null,null,null,null,null,null,null,null,"Banc nouveau P9FAUXVRAI","Banc nouveau P9FAUXVRAIFAUXVRAIFAUX"]
["FI128","gf",null,"i",false,true,false,"Banc P1","rgr","2016-01-18","rgr",false,true,true,false,false,false,true,false,null,"Intervenant(s)",6,"Intervenant(s)",null,null,"g",null,null,null,null,null,null,null,null,"i",null,null,null,null,null,null,null,null,null,null,"g",null,null,null,null,null,null,null,"Banc P1FAUXVRAI","Banc P1FAUXVRAIVRAIFAUXFAUX"]
["FI128","ROMAIN",null,null,false,false,false,"Banc nouveau P9",1234,"2016-01-21","DEFGR",false,false,false,false,false,false,false,false,null,null,null,null,null,null,null,null,null,null,null,null,null,null,null,null,null,null,null,null,null,null,null,null,null,null,null,null,null,null,null,null,null,null,"Banc nouveau P9FAUXFAUX","Banc nouveau P9FAUXFAUXFAUXFAUXFAUX"]
["FI129","ROMAIN",null,null,false,false,false,"Banc nouveau P9",1234,"2016-01-21","DEFGR",false,false,false,false,false,false,false,false,null,null,null,null,null,null,null,null,null,null,null,null,null,null,null,null,null,null,null,null,null,null,null,null,null,null,null,null,null,null,null,null,null,null,{"$f":"H130&L130&M130","v":"Banc nouveau P9FAUXFAUX"},"Banc nouveau P9FAUXFAUXFAUXFAUXFAUX"]
["FI130","ROMAIN",null,null,false,false,false,"Banc nouveau P9",1234,"2016-01-21","DEFGR",false,false,false,false,false,false,false,false,null,null,null,null,null,null,null,null,null,null,null,null,null,null,null,null,null,null,null,null,null,null,null,null,null,null,null,null,null,null,null,null,null,null,"Banc nouveau P9FAUXFAUX","Banc nouveau P9FAUXFAUXFAUXFAUXFAUX"]
["FI131","ROMAIN",null,null,false,false,false,"Banc nouveau P9",1234,"2016-01-21","DEFGR",false,false,false,false,false,false,false,false,null,null,null,null,null,null,null,null,null,null,null,null,null,null,null,null,null,null,null,null,null,null,null,null,null,null,null,null,null,null,null,null,null,null,"Banc nouveau P9FAUXFAUX","Banc nouveau P9FAUXFAUXFAUXFAUXFAUX"]
["FI132","romain",null,null,false,false,false,"Banc PowerTrain","RFRF","2016-01-21","FEFEFE",false,false,false,false,false,false,false,false,null,null,null,null,null,null,null,null,null,null,null,null,null,null,null,null,null,null,null,null,null,null,null,null,null,null,null,null,null,null,null,null,null,null,"Banc PowerTrainFAUXFAUX","Banc PowerTrainFAUXFAUXFAUXFAUXFAUX"]
["FI133","romain",null,null,false,false,false,"Banc PowerTrain","RFRF","2016-01-21","FEFEFE",false,false,false,false,false,false,false,false,null,null,null,null,null,null,null,null,null,null,null,null,null,null,null,null,null,null,null,null,null,null,null,null,null,null,null,null,null,null,null,null,null,null,{"$f":"H134&L134&M134","v":"Banc PowerTrainFAUXFAUX"},"Banc PowerTrainFAUXFAUXFAUXFAUXFAUX"]
["FI134","romain",null,null,false,false,false,"Banc PowerTrain","RFRF","2016-01-21","FEFEFE",false,false,false,false,false,false,false,false,null,null,null,null,null,null,null,null,null,null,null,null,null,null,null,null,null,null,null,null,null,null,null,null,null,null,null,null,null,null,null,null,null,null,{"$f":"H135&L135&M135","v":"Banc PowerTrainFAUXFAUX"},"Banc PowerTrainFAUXFAUXFAUXFAUXFAUX"]
["FI135","romain",null,null,false,false,false,"Banc PowerTrain","RFRF","2016-01-21","FEFEFE",false,false,false,false,false,false,false,false,null,null,null,null,null,null,null,null,null,null,null,null,null,null,null,null,null,null,null,null,null,null,null,null,null,null,null,null,null,null,null,null,null,null,"Banc PowerTrainFAUXFAUX","Banc PowerTrainFAUXFAUXFAUXFAUXFAUX"]
["FI136","romain",null,null,false,false,false,"Banc PowerTrain","RFRF","2016-01-21","FEFEFE",false,false,false,false,false,false,false,false,null,null,null,null,null,null,null,null,null,null,null,null,null,null,null,null,null,null,null,null,null,null,null,null,null,null,null,null,null,null,null,null,null,null,"Banc PowerTrainFAUXFAUX","Banc PowerTrainFAUXFAUXFAUXFAUXFAUX"]
["FI137","romaindehan",null,null,false,false,false,"Banc nouveau P9",123456,"2016-01-21","rgrgrvbrfvfv",false,false,false,false,false,false,false,false,null,null,null,null,null,null,null,null,null,null,null,null,null,null,null,null,null,null,null,null,null,null,null,null,null,null,null,null,null,null,null,null,null,null,"Banc nouveau P9FAUXFAUX","Banc nouveau P9FAUXFAUXFAUXFAUXFAUX"]
["FI138","romaindehan",null,null,false,false,false,"Banc nouveau P9",123456,"2016-01-21","rgrgrvbrfvfv",false,false,false,false,false,false,false,false,null,null,null,null,null,null,null,null,null,null,null,null,null,null,null,null,null,null,null,null,null,null,null,null,null,null,null,null,null,null,null,null,null,null,"Banc nouveau P9FAUXFAUX","Banc nouveau P9FAUXFAUXFAUXFAUXFAUX"]
["FI139","romaindehan",null,null,false,false,false,"Banc nouveau P9",123456,"2016-01-21","rgrgrvbrfvfv",false,false,false,false,false,false,false,false,null,null,null,null,null,null,null,null,null,null,null,null,null,null,null,null,null,null,null,null,null,null,null,null,null,null,null,null,null,null,null,null,null,null,"Banc nouveau P9FAUXFAUX","Banc nouveau P9FAUXFAUXFAUXFAUXFAUX"]
["FI140","rom1de",null,null,false,false,false,"Banc P7",123456,"2016-01-21","efefe",false,false,false,false,false,false,false,false,null,null,null,null,null,null,null,null,null,null,null,null,null,null,null,null,null,null,null,null,null,null,null,null,null,null,null,null,null,null,null,null,null,null,"Banc P7FAUXFAUX","Banc P7FAUXFAUXFAUXFAUXFAUX"]
["FI141","rom1de",null,null,false,false,false,"Banc P7",123456,"2016-01-21","efefe",false,false,false,false,false,false,false,false,null,null,null,null,null,null,null,null,null,null,null,null,null,null,null,null,null,null,null,null,null,null,null,null,null,null,null,null,null,null,null,null,null,null,"Banc P7FAUXFAUX","Banc P7FAUXFAUXFAUXFAUXFAUX"]
["FI142","rom1de",null,null,false,false,false,"Banc P7",123456,"2016-01-21","efefe",false,false,false,false,false,false,false,false,null,null,null,null,null,null,null,null,null,null,null,null,null,null,null,null,null,null,null,null,null,null,null,null,null,null,null,null,null,null,null,null,null,null,"Banc P7FAUXFAUX","Banc P7FAUXFAUXFAUXFAUXFAUX"]
["FI143","rom1de",null,null,false,false,false,"Banc P7",123456,"2016-01-21","efefe",false,false,false,false,false,false,false,false,null,null,null,null,null,null,null,null,null,null,null,null,null,null,null,null,null,null,null,null,null,null,null,null,null,null,null,null,null,null,null,null,null,null,"Banc P7FAUXFAUX","Banc P7FAUXFAUXFAUXFAUXFAUX"]
["FI144","rom1de",null,null,false,false,false,"Banc P7",123456,"2016-01-21","efefe",false,false,false,false,false,false,false,false,null,null,null,null,null,null,null,null,null,null,null,null,null,null,null,null,null,null,null,null,null,null,null,null,null,null,null,null,null,null,null,null,null,null,"Banc P7FAUXFAUX","Banc P7FAUXFAUXFAUXFAUXFAUX"]
["FI145","rom1de",null,null,false,false,false,"Banc P7",123456,"2016-01-21","efefe",false,false,false,false,false,false,false,false,null,null,null,null,null,null,null,null,null,null,null,null,null,null,null,null,null,null,null,null,null,null,null,null,null,null,null,null,null,null,null,null,null,null,"Banc P7FAUXFAUX","Banc P7FAUXFAUXFAUXFAUXFAUX"]
["FI146","rom1de",null,null,false,false,false,"Banc P7",123456,"2016-01-21","efefe",false,false,false,false,false,false,false,false,null,null,null,null,null,null,null,null,null,null,null,null,null,null,null,null,null,null,null,null,null,null,null,null,null,null,null,null,null,null,null,null,null,null,"Banc P7FAUXFAUX","Banc P7FAUXFAUXFAUXFAUXFAUX"]
["FI147","rom1de",null,null,false,false,false,"Banc P7",123456,"2016-01-21","efefe",false,false,false,false,false,false,false,false,null,null,null,null,null,null,null,null,null,null,null,null,null,null,null,null,null,null,null,null,null,null,null,null,null,null,null,null,null,null,null,null,null,null,"Banc P7FAUXFAUX","Banc P7FAUXFAUXFAUXFAUXFAUX"]
["FI148","rom1de",null,null,false,false,false,"Banc P7",123456,"2016-01-21","efefe",false,false,false,false,false,false,false,false,null,null,null,null,null,null,null,null,null,null,null,null,null,null,null,null,null,null,null,null,null,null,null,null,null,null,null,null,null,null,null,null,null,null,"Banc P7FAUXFAUX","Banc P7FAUXFAUXFAUXFAUXFAUX"]
["FI149","rom1de",null,null,false,false,false,"Banc P7",123456,"2016-01-21","efefe",false,false,false,false,false,false,false,false,null,null,null,null,null,null,null,null,null,null,null,null,null,null,null,null,null,null,null,null,null,null,null,null,null,null,null,null,null,null,null,null,null,null,"Banc P7FAUXFAUX","Banc P7FAUXFAUXFAUXFAUXFAUX"]
["FI150","romaindehan1212",null,null,false,false,false,"Banc 124",123456,"2016-01-21","htht",false,false,false,false,false,false,false,false,null,null,null,null,null,null,null,null,null,null,null,null,null,null,null,null,null,null,null,null,null,null,null,null,null,null,null,null,null,null,null,null,null,null,"Banc 124FAUXFAUX","Banc 124FAUXFAUXFAUXFAUXFAUX"]
["FI151","romaindehan0606",null,null,false,false,false,"Pompe à eau","efefe","2016-01-21","efe",false,false,false,false,false,false,false,false,null,null,null,null,null,null,null,null,null,null,null,null,null,null,null,null,null,null,null,null,null,null,null,null,null,null,null,null,null,null,null,null,null,null,"Pompe à eauFAUXFAUX","Pompe à eauFAUXFAUXFAUXFAUXFAUX"]
["FI152","romaindehan0606",null,null,true,false,false,"Pompe à eau","efefe","2016-01-21","kjkdkdodeoiks",true,false,false,false,true,true,false,false,null,null,"1h","kjdkdodokdlkd;k",null,null,null,null,null,null,null,null,null,null,null,null,null,null,null,null,null,null,null,null,null,null,null,null,null,null,null,null,null,null,"Pompe à eauVRAIFAUX","Pompe à eauVRAIFAUXFAUXFAUXVRAI"]
["FI153","r",null,null,true,false,false,"Banc P9","&é\"'","2016-01-22","azert",false,true,true,false,false,false,true,false,null,null,123,"SGRDSD",null,null,null,null,null,null,null,null,null,null,null,null,null,null,null,null,null,null,null,null,null,null,null,null,null,null,null,null,null,null,"Banc P9FAUXVRAI",{"$f":"H154&L154&M154&N154&O154&P154","v":"Banc P9FAUXVRAIVRAIFAUXFAUX"}]
["FI154","remai",null,null,false,false,false,"Banc P5",1234,"2016-01-21","zertr",false,false,false,false,false,false,false,false,null,null,null,null,null,null,null,null,null,null,null,null,null,null,null,null,null,null,null,null,null,null,null,null,null,null,null,null,null,null,null,null,null,null,"Banc P5FAUXFAUX","Banc P5FAUXFAUXFAUXFAUXFAUX"]
["FI155","dsfdsds",null,null,false,false,false,"Banc P1","fhgfhg","2016-01-21","hghghjg",false,false,false,false,false,false,false,false,null,null,null,null,null,null,null,null,null,null,null,null,null,null,null,null,null,null,null,null,null,null,null,null,null,null,null,null,null,null,null,null,null,null,"Banc P1FAUXFAUX","Banc P1FAUXFAUXFAUXFAUXFAUX"]
["FI156","fdgfd",null,null,false,false,false,"Banc P2","vvgvhg","2016-01-21","hghjg",false,false,false,false,false,false,false,false,null,null,null,null,null,null,null,null,null,null,null,null,null,null,null,null,null,null,null,null,null,null,null,null,null,null,null,null,null,null,null,null,null,null,"Banc P2FAUXFAUX","Banc P2FAUXFAUXFAUXFAUXFAUX"]
["FI157","gfgf",null,null,false,false,false,"Banc PowerTrain","fcfd","2016-01-21","fhgf",false,false,false,false,false,false,false,false,null,null,null,null,null,null,null,null,null,null,null,null,null,null,null,null,null,null,null,null,null,null,null,null,null,null,null,null,null,null,null,null,null,null,"Banc PowerTrainFAUXFAUX","Banc PowerTrainFAUXFAUXFAUXFAUXFAUX"]
["FI158","gfdgdg",null,null,false,false,false,"Banc P9","fdgf","2016-01-21","fdgfd",false,false,false,false,false,false,false,false,null,null,null,null,null,null,null,null,null,null,null,null,null,null,null,null,null,null,null,null,null,null,null,null,null,null,null,null,null,null,null,null,null,null,"Banc P9FAUXFAUX","Banc P9FAUXFAUXFAUXFAUXFAUX"]
["FI159","gfhgf",null,null,false,false,false,"gfghf","gfdgfd","2016-01-21","gfdgfdg",false,false,false,false,false,false,false,false,null,null,null,null,null,null,null,null,null,null,null,null,null,null,null,null,null,null,null,null,null,null,null,null,null,null,null,null,null,null,null,null,null,null,"gfghfFAUXFAUX","gfghfFAUXFAUXFAUXFAUXFAUX"]
["FI160","tryryt",null,null,false,false,false,"yutyutyu","ytyu","2016-01-21","yuty",false,false,false,false,false,false,false,false,null,null,null,null,null,null,null,null,null,null,null,null,null,null,null,null,null,null,null,null,null,null,null,null,null,null,null,null,null,null,null,null,null,null,{"$f":"H161&M161&L161","v":"yutyutyuFAUXFAUX"},"yutyutyuFAUXFAUXFAUXFAUXFAUX"]
["FI161","fdgfd",null,null,false,false,false,"Rerge","trtr","2016-01-21","reeg",false,false,false,false,false,false,false,false,null,null,null,null,null,null,null,null,null,null,null,null,null,null,null,null,null,null,null,null,null,null,null,null,null,null,null,null,null,null,null,null,null,null,"RergeFAUXFAUX","RergeFAUXFAUXFAUXFAUXFAUX"]
["FI162","fdgfd",null,null,false,false,false,"Rerge","trtr","2016-01-21","reeg",false,false,false,false,false,false,false,false,null,null,null,null,null,null,null,null,null,null,null,null,null,null,null,null,null,null,null,null,null,null,null,null,null,null,null,null,null,null,null,null,null,null,"RergeFAUXFAUX","RergeFAUXFAUXFAUXFAUXFAUX"]
["FI163","fdgfd",null,null,false,false,false,"Rerge","trtr","2016-01-21","reeg",false,false,false,false,false,false,false,false,null,null,null,null,null,null,null,null,null,null,null,null,null,null,null,null,null,null,null,null,null,null,null,null,null,null,null,null,null,null,null,null,null,null,"RergeFAUXFAUX","RergeFAUXFAUXFAUXFAUXFAUX"]
["FI164","fdgfd",null,null,false,false,false,"Rerge","trtr","2016-01-21","reeg",false,false,false,false,false,false,false,false,null,null,null,null,null,null,null,null,null,null,null,null,null,null,null,null,null,null,null,null,null,null,null,null,null,null,null,null,null,null,null,null,null,null,"RergeFAUXFAUX","RergeFAUXFAUXFAUXFAUXFAUX"]
["FI165","fdgfd",null,null,false,false,false,"Rerge","trtr","2016-01-21","reeg",false,false,false,false,false,false,false,false,null,null,null,null,null,null,null,null,null,null,null,null,null,null,null,null,null,null,null,null,null,null,null,null,null,null,null,null,null,null,null,null,null,null,"RergeFAUXFAUX","RergeFAUXFAUXFAUXFAUXFAUX"]
["FI166","fdgfd",null,null,false,false,false,"Rerge","trtr","2016-01-21","reeg",false,false,false,false,false,false,false,false,null,null,null,null,null,null,null,null,null,null,null,null,null,null,null,null,null,null,null,null,null,null,null,null,null,null,null,null,null,null,null,null,null,null,"RergeFAUXFAUX","RergeFAUXFAUXFAUXFAUXFAUX"]
["FI167","fdgfd",null,null,false,false,false,"Rerge","trtr","2016-01-21","reeg",false,false,false,false,false,false,false,false,null,null,null,null,null,null,null,null,null,null,null,null,null,null,null,null,null,null,null,null,null,null,null,null,null,null,null,null,null,null,null,null,null,null,"RergeFAUXFAUX","RergeFAUXFAUXFAUXFAUXFAUX"]
["FI168","fdgfd",null,null,false,false,false,"Rerge","trtr","2016-01-21","reeg",false,false,false,false,false,false,false,false,null,null,null,null,null,null,null,null,null,null,null,null,null,null,null,null,null,null,null,null,null,null,null,null,null,null,null,null,null,null,null,null,null,null,"RergeFAUXFAUX","RergeFAUXFAUXFAUXFAUXFAUX"]
["FI169","fdgfd",null,null,false,false,false,"Rerge","trtr","2016-01-21","reeg",false,false,false,false,false,false,false,false,null,null,null,null,null,null,null,null,null,null,null,null,null,null,null,null,null,null,null,null,null,null,null,null,null,null,null,null,null,null,null,null,null,null,"RergeFAUXFAUX","RergeFAUXFAUXFAUXFAUXFAUX"]
["FI170","fdgfd",null,null,false,false,false,"Rerge","trtr","2016-01-21","reeg",false,false,false,false,false,false,false,false,null,null,null,null,null,null,null,null,null,null,null,null,null,null,null,null,null,null,null,null,null,null,null,null,null,null,null,null,null,null,null,null,null,null,"RergeFAUXFAUX","RergeFAUXFAUXFAUXFAUXFAUX"]
["FI171","fdgfd",null,null,false,false,false,"Rerge","trtr","2016-01-21","reeg",false,false,false,false,false,false,false,false,null,null,null,null,null,null,null,null,null,null,null,null,null,null,null,null,null,null,null,null,null,null,null,null,null,null,null,null,null,null,null,null,null,null,"RergeFAUXFAUX","RergeFAUXFAUXFAUXFAUXFAUX"]
["FI172","fdgfd",null,null,false,false,false,"Rerge","trtr","2016-01-21","reeg",false,false,false,false,false,false,false,false,null,null,null,null,null,null,null,null,null,null,null,null,null,null,null,null,null,null,null,null,null,null,null,null,null,null,null,null,null,null,null,null,null,null,"RergeFAUXFAUX","RergeFAUXFAUXFAUXFAUXFAUX"]
["FI173","fdgfd",null,null,false,false,false,"Rerge","trtr","2016-01-21","reeg",false,true,true,false,false,false,false,true,null,1,1,1,null,null,1,null,null,null,null,null,null,null,null,1,null,null,null,null,null,null,null,null,null,null,1,null,null,null,null,null,null,null,"RergeVRAIFAUX","RergeFAUXVRAIVRAIFAUXFAUX"]
[null,null,null,null,null,null,null,"Banc 123",null,null,null,true,false,false,true,false,null,null,null,null,null,6,null,null,null,null,null,null,null,null,null,null,null,null,null,null,null,null,null,null,null,null,null,null,null,null,null,null,null,null,null,null,null,"Banc 123FAUXVRAI","Banc 123VRAIFAUXFAUXVRAIFAUX"]
[null,null,null,null,null,null,null,"Banc 126",null,null,null,true,false,false,true,false,null,null,null,null,null,12,null,null,null,null,null,null,null,null,null,null,null,null,null,null,null,null,null,null,null,null,null,null,null,null,null,null,null,null,null,null,null,"Banc 126FAUXVRAI","Banc 126VRAIFAUXFAUXVRAIFAUX"]
[null,null,null,null,null,null,null,"Banc 156",null,null,null,false,true,false,false,true,null,null,null,null,null,11,null,null,null,null,null,null,null,null,null,null,null,null,null,null,null,null,null,null,null,null,null,null,null,null,null,null,null,null,null,null,null,"Banc 156VRAIFAUX","Banc 156FAUXVRAIFAUXFAUXVRAI"]
[null,null,null,null,null,null,null,"Banc P9",null,null,null,true,false,true,false,false,null,null,null,null,null,2,null,null,null,null,null,null,null,null,null,null,null,null,null,null,null,null,null,null,null,null,null,null,null,null,null,null,null,null,null,null,null,"Banc P9FAUXVRAI","Banc P9VRAIFAUXVRAIFAUXFAUX"]
[null,null,null,null,null,null,null,"Banc 111",null,null,null,false,true,false,true,false,null,null,null,null,null,4,null,null,null,null,null,null,null,null,null,null,null,null,null,null,null,null,null,null,null,null,null,null,null,null,null,null,null,null,null,null,null,"Banc 111VRAIFAUX","Banc 111FAUXVRAIFAUXVRAIFAUX"]
[null,null,null,null,null,null,null,"Banc 117",null,null,null,false,true,true,false,false,null,null,null,null,null,1,null,null,null,null,null,null,null,null,null,null,null,null,null,null,null,null,null,null,null,null,null,null,null,null,null,null,null,null,null,null,null,"Banc 117VRAIFAUX","Banc 117FAUXVRAIVRAIFAUXFAUX"]
[null,null,null,null,null,null,null,"Banc 117 bis",null,null,null,true,false,false,true,false,null,null,null,null,null,5,null,null,null,null,null,null,null,null,null,null,null,null,null,null,null,null,null,null,null,null,null,null,null,null,null,null,null,null,null,null,null,"Banc 117 bisFAUXVRAI","Banc 117 bisVRAIFAUXFAUXVRAIFAUX"]
[null,null,null,null,null,null,null,"Banc 119",null,null,null,true,false,false,true,false,null,null,null,null,null,7,null,null,null,null,null,null,null,null,null,null,null,null,null,null,null,null,null,null,null,null,null,null,null,null,null,null,null,null,null,null,null,"Banc 119FAUXVRAI","Banc 119VRAIFAUXFAUXVRAIFAUX"]
[null,null,null,null,null,null,null,"Banc 123",null,null,null,false,true,false,false,true,null,null,null,null,null,6,null,null,null,null,null,null,null,null,null,null,null,null,null,null,null,null,null,null,null,null,null,null,null,null,null,null,null,null,null,null,null,"Banc 123VRAIFAUX","Banc 123FAUXVRAIFAUXFAUXVRAI"]
[null,null,null,null,null,null,null,"Banc 126",null,null,null,true,false,true,false,false,null,null,null,null,null,12,null,null,null,null,null,null,null,null,null,null,null,null,null,null,null,null,null,null,null,null,null,null,null,null,null,null,null,null,null,null,null,"Banc 126FAUXVRAI","Banc 126VRAIFAUXVRAIFAUXFAUX"]
[null,null,null,null,null,null,null,"Banc 156",null,null,null,false,true,false,true,false,null,null,null,null,null,11,null,null,null,null,null,null,null,null,null,null,null,null,null,null,null,null,null,null,null,null,null,null,null,null,null,null,null,null,null,null,null,"Banc 156VRAIFAUX","Banc 156FAUXVRAIFAUXVRAIFAUX"]
[null,null,null,null,null,null,null,"Banc P9",null,null,null,false,true,true,false,false,null,null,null,null,null,2,null,null,null,null,null,null,null,null,null,null,null,null,null,null,null,null,null,null,null,null,null,null,null,null,null,null,null,null,null,null,null,"Banc P9VRAIFAUX",{"$f":"H186&L186&M186&N186&O186&P186","v":"Banc P9FAUXVRAIVRAIFAUXFAUX"}]
[null,null,null,null,null,null,null,"Banc 111",null,null,null,true,false,false,true,false,null,null,null,null,null,4,null,null,null,null,null,null,null,null,null,null,null,null,null,null,null,null,null,null,null,null,null,null,null,null,null,null,null,null,null,null,null,"Banc 111FAUXVRAI","Banc 111VRAIFAUXFAUXVRAIFAUX"]
[null,null,null,null,null,null,null,"Banc 117",null,null,null,true,false,false,true,false,null,null,null,null,null,1,null,null,null,null,null,null,null,null,null,null,null,null,null,null,null,null,null,null,null,null,null,null,null,null,null,null,null,null,null,null,null,"Banc 117FAUXVRAI","Banc 117VRAIFAUXFAUXVRAIFAUX"]
[null,null,null,null,null,null,null,"Banc 117 bis",null,null,null,false,true,false,false,true,null,null,null,null,null,5,null,null,null,null,null,null,null,null,null,null,null,null,null,null,null,null,null,null,null,null,null,null,null,null,null,null,null,null,null,null,null,"Banc 117 bisVRAIFAUX","Banc 117 bisFAUXVRAIFAUXFAUXVRAI"]
[null,null,null,null,null,null,null,"Banc 119",null,null,null,true,false,true,false,false,null,null,null,null,null,7,null,null,null,null,null,null,null,null,null,null,null,null,null,null,null,null,null,null,null,null,null,null,null,null,null,null,null,null,null,null,null,"Banc 119FAUXVRAI","Banc 119VRAIFAUXVRAIFAUXFAUX"]
[null,null,null,null,null,null,null,"Banc 123",null,null,null,false,true,false,true,false,null,null,null,null,null,6,null,null,null,null,null,null,null,null,null,null,null,null,null,null,null,null,null,null,null,null,null,null,null,null,null,null,null,null,null,null,null,"Banc 123VRAIFAUX","Banc 123FAUXVRAIFAUXVRAIFAUX"]
[null,null,null,null,null,null,null,"Banc 126",null,null,null,false,true,true,false,false,null,null,null,null,null,12,null,null,null,null,null,null,null,null,null,null,null,null,null,null,null,null,null,null,null,null,null,null,null,null,null,null,null,null,null,null,null,"Banc 126VRAIFAUX","Banc 126FAUXVRAIVRAIFAUXFAUX"]
[null,null,null,null,null,null,null,"Banc 156",null,null,null,true,false,false,true,false,null,null,null,null,null,11,null,null,null,null,null,null,null,null,null,null,null,null,null,null,null,null,null,null,null,null,null,null,null,null,null,null,null,null,null,null,null,"Banc 156FAUXVRAI","Banc 156VRAIFAUXFAUXVRAIFAUX"]
[null,null,null,null,null,null,null,"Banc P9",null,null,null,true,false,false,true,false,null,null,null,null,null,2,null,null,null,null,null,null,null,null,null,null,null,null,null,null,null,null,null,null,null,null,null,null,null,null,null,null,null,null,null,null,null,"Banc P9FAUXVRAI","Banc P9VRAIFAUXFAUXVRAIFAUX"]
[null,null,null,null,null,null,null,"Banc 111",null,null,null,false,true,false,false,true,null,null,null,null,null,4,null,null,null,null,null,null,null,null,null,null,null,null,null,null,null,null,null,null,null,null,null,null,null,null,null,null,null,null,null,null,null,{"$f":"H195&M195&L195","v":"Banc 111VRAIFAUX"},"Banc 111FAUXVRAIFAUXFAUXVRAI"]
[null,null,null,null,null,null,null,"Banc 117",null,null,null,true,false,true,false,false,null,null,null,null,null,1,null,null,null,null,null,null,null,null,null,null,null,null,null,null,null,null,null,null,null,null,null,null,null,null,null,null,null,null,null,null,null,"Banc 117FAUXVRAI","Banc 117VRAIFAUXVRAIFAUXFAUX"]
[null,null,null,null,null,null,null,"Banc 117 bis",null,null,null,false,true,false,true,false,null,null,null,null,null,5,null,null,null,null,null,null,null,null,null,null,null,null,null,null,null,null,null,null,null,null,null,null,null,null,null,null,null,null,null,null,null,"Banc 117 bisVRAIFAUX","Banc 117 bisFAUXVRAIFAUXVRAIFAUX"]
[null,null,null,null,null,null,null,"Banc 119",null,null,null,false,true,true,false,false,null,null,null,null,null,7,null,null,null,null,null,null,null,null,null,null,null,null,null,null,null,null,null,null,null,null,null,null,null,null,null,null,null,null,null,null,null,"Banc 119VRAIFAUX","Banc 119FAUXVRAIVRAIFAUXFAUX"]
[null,null,null,null,null,null,null,"Banc 123",null,null,null,true,false,false,true,false,null,null,null,null,null,6,null,null,null,null,null,null,null,null,null,null,null,null,null,null,null,null,null,null,null,null,null,null,null,null,null,null,null,null,null,null,null,"Banc 123FAUXVRAI","Banc 123VRAIFAUXFAUXVRAIFAUX"]
[null,null,null,null,null,null,null,"Banc 126",null,null,null,true,false,false,true,false,null,null,null,null,null,12,null,null,null,null,null,null,null,null,null,null,null,null,null,null,null,null,null,null,null,null,null,null,null,null,null,null,null,null,null,null,null,"Banc 126FAUXVRAI","Banc 126VRAIFAUXFAUXVRAIFAUX"]
[null,null,null,null,null,null,null,"Banc 156",null,null,null,false,true,false,false,true,null,null,null,null,null,11,null,null,null,null,null,null,null,null,null,null,null,null,null,null,null,null,null,null,null,null,null,null,null,null,null,null,null,null,null,null,null,"Banc 156VRAIFAUX","Banc 156FAUXVRAIFAUXFAUXVRAI"]
[null,null,null,null,null,null,null,"Banc P9",null,null,null,true,false,true,false,false,null,null,null,null,null,2,null,null,null,null,null,null,null,null,null,null,null,null,null,null,null,null,null,null,null,null,null,null,null,null,null,null,null,null,null,null,null,"Banc P9FAUXVRAI","Banc P9VRAIFAUXVRAIFAUXFAUX"]
[null,null,null,null,null,null,null,"Banc 111",null,null,null,false,true,false,true,false,null,null,null,null,null,4,null,null,null,null,null,null,null,null,null,null,null,null,null,null,null,null,null,null,null,null,null,null,null,null,null,null,null,null,null,null,null,"Banc 111VRAIFAUX","Banc 111FAUXVRAIFAUXVRAIFAUX"]
[null,null,null,null,null,null,null,"Banc 117",null,null,null,false,true,true,false,false,null,null,null,null,null,8,null,null,null,null,null,null,null,null,null,null,null,null,null,null,null,null,null,null,null,null,null,null,null,null,null,null,null,null,null,null,null,"Banc 117VRAIFAUX","Banc 117FAUXVRAIVRAIFAUXFAUX"]
[null,null,null,null,null,null,null,"Banc 117 bis",null,null,null,true,false,false,true,false,null,null,null,null,null,5,null,null,null,null,null,null,null,null,null,null,null,null,null,null,null,null,null,null,null,null,null,null,null,null,null,null,null,null,null,null,null,"Banc 117 bisFAUXVRAI","Banc 117 bisVRAIFAUXFAUXVRAIFAUX"]
[null,null,null,null,null,null,null,"Banc 119",null,null,null,true,false,false,true,false,null,null,null,null,null,5,null,null,null,null,null,null,null,null,null,null,null,null,null,null,null,null,null,null,null,null,null,null,null,null,null,null,null,null,null,null,null,"Banc 119FAUXVRAI","Banc 119VRAIFAUXFAUXVRAIFAUX"]
[null,null,null,null,null,null,null,"Banc 123",null,null,null,false,true,false,false,true,null,null,null,null,null,6,null,null,null,null,null,null,null,null,null,null,null,null,null,null,null,null,null,null,null,null,null,null,null,null,null,null,null,null,null,null,null,"Banc 123VRAIFAUX","Banc 123FAUXVRAIFAUXFAUXVRAI"]
[null,null,null,null,null,null,null,"Banc 126",null,null,null,true,false,true,false,false,null,null,null,null,null,8,null,null,null,null,null,null,null,null,null,null,null,null,null,null,null,null,null,null,null,null,null,null,null,null,null,null,null,null,null,null,null,"Banc 126FAUXVRAI","Banc 126VRAIFAUXVRAIFAUXFAUX"]
[null,null,null,null,null,null,null,"Banc 156",null,null,null,false,true,false,true,false,null,null,null,null,null,3,null,null,null,null,null,null,null,null,null,null,null,null,null,null,null,null,null,null,null,null,null,null,null,null,null,null,null,null,null,null,null,"Banc 156VRAIFAUX","Banc 156FAUXVRAIFAUXVRAIFAUX"]
[null,null,null,null,null,null,null,"Banc P9",null,null,null,false,true,true,false,false,null,null,null,null,null,2,null,null,null,null,null,null,null,null,null,null,null,null,null,null,null,null,null,null,null,null,null,null,null,null,null,null,null,null,null,null,null,"Banc P9VRAIFAUX","Banc P9FAUXVRAIVRAIFAUXFAUX"]
[null,null,null,null,null,null,null,"Banc 111",null,null,null,true,false,false,true,false,null,null,null,null,null,4,null,null,null,null,null,null,null,null,null,null,null,null,null,null,null,null,null,null,null,null,null,null,null,null,null,null,null,null,null,null,null,"Banc 111FAUXVRAI","Banc 111VRAIFAUXFAUXVRAIFAUX"]
[null,null,null,null,null,null,null,"Banc P5",null,null,null,true,false,false,true,false,null,null,null,null,null,1,null,null,null,null,null,null,null,null,null,null,null,null,null,null,null,null,null,null,null,null,null,null,null,null,null,null,null,null,null,null,null,"Banc P5FAUXVRAI","Banc P5VRAIFAUXFAUXVRAIFAUX"]
[null,null,null,null,null,null,null,"Banc P7",null,null,null,false,true,false,false,true,null,null,null,null,null,5,null,null,null,null,null,null,null,null,null,null,null,null,null,null,null,null,null,null,null,null,null,null,null,null,null,null,null,null,null,null,null,"Banc P7VRAIFAUX","Banc P7FAUXVRAIFAUXFAUXVRAI"]
[null,null,null,null,null,null,null,"Banc 104",null,null,null,true,false,true,false,false,null,null,null,null,null,8,null,null,null,null,null,null,null,null,null,null,null,null,null,null,null,null,null,null,null,null,null,null,null,null,null,null,null,null,null,null,null,"Banc 104FAUXVRAI","Banc 104VRAIFAUXVRAIFAUXFAUX"]
[null,null,null,null,null,null,null,"Banc 101",null,null,null,false,true,false,true,false,null,null,null,null,null,6,null,null,null,null,null,null,null,null,null,null,null,null,null,null,null,null,null,null,null,null,null,null,null,null,null,null,null,null,null,null,null,"Banc 101VRAIFAUX","Banc 101FAUXVRAIFAUXVRAIFAUX"]
[null,null,null,null,null,null,null,"Banc 121",null,null,null,false,true,true,false,false,null,null,null,null,null,1,null,null,null,null,null,null,null,null,null,null,null,null,null,null,null,null,null,null,null,null,null,null,null,null,null,null,null,null,null,null,null,"Banc 121VRAIFAUX","Banc 121FAUXVRAIVRAIFAUXFAUX"]
[null,null,null,null,null,null,null,"Pompe à eau",null,null,null,true,false,false,true,false,null,null,null,null,null,7,null,null,null,null,null,null,null,null,null,null,null,null,null,null,null,null,null,null,null,null,null,null,null,null,null,null,null,null,null,null,null,"Pompe à eauFAUXVRAI","Pompe à eauVRAIFAUXFAUXVRAIFAUX"]
[null,null,null,null,null,null,null,"Banc PowerTrain",null,null,null,true,false,false,true,false,null,null,null,null,null,7,null,null,null,null,null,null,null,null,null,null,null,null,null,null,null,null,null,null,null,null,null,null,null,null,null,null,null,null,null,null,null,"Banc PowerTrainFAUXVRAI","Banc PowerTrainVRAIFAUXFAUXVRAIFAUX"]
[null,null,null,null,null,null,null,"Banc P5",null,null,null,false,true,false,false,true,null,null,null,null,null,4,null,null,null,null,null,null,null,null,null,null,null,null,null,null,null,null,null,null,null,null,null,null,null,null,null,null,null,null,null,null,null,"Banc P5VRAIFAUX","Banc P5FAUXVRAIFAUXFAUXVRAI"]
[null,null,null,null,null,null,null,"Banc P7",null,null,null,true,false,true,false,false,null,null,null,null,null,1,null,null,null,null,null,null,null,null,null,null,null,null,null,null,null,null,null,null,null,null,null,null,null,null,null,null,null,null,null,null,null,"Banc P7FAUXVRAI","Banc P7VRAIFAUXVRAIFAUXFAUX"]
[null,null,null,null,null,null,null,"Banc 104",null,null,null,false,true,false,true,false,null,null,null,null,null,2,null,null,null,null,null,null,null,null,null,null,null,null,null,null,null,null,null,null,null,null,null,null,null,null,null,null,null,null,null,null,null,"Banc 104VRAIFAUX","Banc 104FAUXVRAIFAUXVRAIFAUX"]
[null,null,null,null,null,null,null,"Banc 101",null,null,null,false,true,true,false,false,null,null,null,null,null,7,null,null,null,null,null,null,null,null,null,null,null,null,null,null,null,null,null,null,null,null,null,null,null,null,null,null,null,null,null,null,null,"Banc 101VRAIFAUX","Banc 101FAUXVRAIVRAIFAUXFAUX"]
[null,null,null,null,null,null,null,"Banc 121",null,null,null,true,false,false,true,false,null,null,null,null,null,6,null,null,null,null,null,null,null,null,null,null,null,null,null,null,null,null,null,null,null,null,null,null,null,null,null,null,null,null,null,null,null,"Banc 121FAUXVRAI","Banc 121VRAIFAUXFAUXVRAIFAUX"]
[null,null,null,null,null,null,null,"Pompe à eau",null,null,null,true,false,false,true,false,null,null,null,null,null,1,null,null,null,null,null,null,null,null,null,null,null,null,null,null,null,null,null,null,null,null,null,null,null,null,null,null,null,null,null,null,null,"Pompe à eauFAUXVRAI","Pompe à eauVRAIFAUXFAUXVRAIFAUX"]
[null,null,null,null,null,null,null,"Banc PowerTrain",null,null,null,false,true,false,false,true,null,null,null,null,null,1,null,null,null,null,null,null,null,null,null,null,null,null,null,null,null,null,null,null,null,null,null,null,null,null,null,null,null,null,null,null,null,"Banc PowerTrainVRAIFAUX","Banc PowerTrainFAUXVRAIFAUXFAUXVRAI"]
[null,null,null,null,null,null,null,"Banc P5",null,null,null,true,false,true,false,false,null,null,null,null,null,2,null,null,null,null,null,null,null,null,null,null,null,null,null,null,null,null,null,null,null,null,null,null,null,null,null,null,null,null,null,null,null,"Banc P5FAUXVRAI","Banc P5VRAIFAUXVRAIFAUXFAUX"]
[null,null,null,null,null,null,null,"Banc P7",null,null,null,false,true,false,true,false,null,null,null,null,null,5,null,null,null,null,null,null,null,null,null,null,null,null,null,null,null,null,null,null,null,null,null,null,null,null,null,null,null,null,null,null,null,"Banc P7VRAIFAUX","Banc P7FAUXVRAIFAUXVRAIFAUX"]
[null,null,null,null,null,null,null,"Banc 104",null,null,null,true,false,false,false,true,null,null,null,null,null,1,null,null,null,null,null,null,null,null,null,null,null,null,null,null,null,null,null,null,null,null,null,null,null,null,null,null,null,null,null,null,null,"Banc 104FAUXVRAI","Banc 104VRAIFAUXFAUXFAUXVRAI"]
[null,null,null,null,null,null,null,"Banc 101",null,null,null,true,false,false,true,false,null,null,null,null,null,5,null,null,null,null,null,null,null,null,null,null,null,null,null,null,null,null,null,null,null,null,null,null,null,null,null,null,null,null,null,null,null,"Banc 101FAUXVRAI","Banc 101VRAIFAUXFAUXVRAIFAUX"]
[null,null,null,null,null,null,null,"Banc 121",null,null,null,true,false,false,true,false,null,null,null,null,null,7,null,null,null,null,null,null,null,null,null,null,null,null,null,null,null,null,null,null,null,null,null,null,null,null,null,null,null,null,null,null,null,"Banc 121FAUXVRAI","Banc 121VRAIFAUXFAUXVRAIFAUX"]
[null,null,null,null,null,null,null,"Pompe à eau",null,null,null,false,true,false,false,true,null,null,null,null,null,1,null,null,null,null,null,null,null,null,null,null,null,null,null,null,null,null,null,null,null,null,null,null,null,null,null,null,null,null,null,null,null,"Pompe à eauVRAIFAUX","Pompe à eauFAUXVRAIFAUXFAUXVRAI"]
[null,null,null,null,null,null,null,"Banc PowerTrain",null,null,null,true,false,false,true,false,null,null,null,null,null,6,null,null,null,null,null,null,null,null,null,null,null,null,null,null,null,null,null,null,null,null,null,null,null,null,null,null,null,null,null,null,null,"Banc PowerTrainFAUXVRAI","Banc PowerTrainVRAIFAUXFAUXVRAIFAUX"]
[null,null,null,null,null,null,null,"Banc P5",null,null,null,true,false,false,true,false,null,null,null,null,null,1,null,null,null,null,null,null,null,null,null,null,null,null,null,null,null,null,null,null,null,null,null,null,null,null,null,null,null,null,null,null,null,"Banc P5FAUXVRAI","Banc P5VRAIFAUXFAUXVRAIFAUX"]
[null,null,null,null,null,null,null,"Banc P7",null,null,null,false,true,false,false,true,null,null,null,null,null,1,null,null,null,null,null,null,null,null,null,null,null,null,null,null,null,null,null,null,null,null,null,null,null,null,null,null,null,null,null,null,null,"Banc P7VRAIFAUX","Banc P7FAUXVRAIFAUXFAUXVRAI"]
[null,null,null,null,null,null,null,"Banc 104",null,null,null,true,false,true,false,false,null,null,null,null,null,2,null,null,null,null,null,null,null,null,null,null,null,null,null,null,null,null,null,null,null,null,null,null,null,null,null,null,null,null,null,null,null,"Banc 104FAUXVRAI","Banc 104VRAIFAUXVRAIFAUXFAUX"]
[null,null,null,null,null,null,null,"Banc 101",null,null,null,false,true,false,true,false,null,null,null,null,null,5,null,null,null,null,null,null,null,null,null,null,null,null,null,null,null,null,null,null,null,null,null,null,null,null,null,null,null,null,null,null,null,"Banc 101VRAIFAUX","Banc 101FAUXVRAIFAUXVRAIFAUX"]
[null,null,null,null,null,null,null,"Banc 121",null,null,null,false,true,true,false,false,null,null,null,null,null,1,null,null,null,null,null,null,null,null,null,null,null,null,null,null,null,null,null,null,null,null,null,null,null,null,null,null,null,null,null,null,null,"Banc 121VRAIFAUX","Banc 121FAUXVRAIVRAIFAUXFAUX"]
[null,null,null,null,null,null,null,"Pompe à eau",null,null,null,true,false,false,true,false,null,null,null,null,null,5,null,null,null,null,null,null,null,null,null,null,null,null,null,null,null,null,null,null,null,null,null,null,null,null,null,null,null,null,null,null,null,"Pompe à eauFAUXVRAI","Pompe à eauVRAIFAUXFAUXVRAIFAUX"]
[null,null,null,null,null,null,null,"Banc PowerTrain",null,null,null,true,false,false,true,false,null,null,null,null,null,7,null,null,null,null,null,null,null,null,null,null,null,null,null,null,null,null,null,null,null,null,null,null,null,null,null,null,null,null,null,null,null,"Banc PowerTrainFAUXVRAI","Banc PowerTrainVRAIFAUXFAUXVRAIFAUX"]
[null,null,null,null,null,null,null,"Banc 126",null,null,null,false,true,false,false,true,null,null,null,null,null,1,null,null,null,null,null,null,null,null,null,null,null,null,null,null,null,null,null,null,null,null,null,null,null,null,null,null,null,null,null,null,null,"Banc 126VRAIFAUX","Banc 126FAUXVRAIFAUXFAUXVRAI"]
[null,null,null,null,null,null,null,"Banc 156",null,null,null,true,false,true,false,false,null,null,null,null,null,6,null,null,null,null,null,null,null,null,null,null,null,null,null,null,null,null,null,null,null,null,null,null,null,null,null,null,null,null,null,null,null,"Banc 156FAUXVRAI","Banc 156VRAIFAUXVRAIFAUXFAUX"]
[null,null,null,null,null,null,null,"Banc P9",null,null,null,false,true,false,true,false,null,null,null,null,null,1,null,null,null,null,null,null,null,null,null,null,null,null,null,null,null,null,null,null,null,null,null,null,null,null,null,null,null,null,null,null,null,"Banc P9VRAIFAUX","Banc P9FAUXVRAIFAUXVRAIFAUX"]
[null,null,null,null,null,null,null,"Banc 111",null,null,null,false,true,true,false,false,null,null,null,null,null,1,null,null,null,null,null,null,null,null,null,null,null,null,null,null,null,null,null,null,null,null,null,null,null,null,null,null,null,null,null,null,null,"Banc 111VRAIFAUX","Banc 111FAUXVRAIVRAIFAUXFAUX"]
[null,null,null,null,null,null,null,"Banc 117",null,null,null,true,false,false,true,false,null,null,null,null,null,2,null,null,null,null,null,null,null,null,null,null,null,null,null,null,null,null,null,null,null,null,null,null,null,null,null,null,null,null,null,null,null,"Banc 117FAUXVRAI","Banc 117VRAIFAUXFAUXVRAIFAUX"]
[null,null,null,null,null,null,null,"Banc 117 bis",null,null,null,true,false,false,true,false,null,null,null,null,null,5,null,null,null,null,null,null,null,null,null,null,null,null,null,null,null,null,null,null,null,null,null,null,null,null,null,null,null,null,null,null,null,"Banc 117 bisFAUXVRAI","Banc 117 bisVRAIFAUXFAUXVRAIFAUX"]
[null,null,null,null,null,null,null,"Banc 119",null,null,null,false,true,false,false,true,null,null,null,null,null,1,null,null,null,null,null,null,null,null,null,null,null,null,null,null,null,null,null,null,null,null,null,null,null,null,null,null,null,null,null,null,null,"Banc 119VRAIFAUX","Banc 119FAUXVRAIFAUXFAUXVRAI"]
[null,null,null,null,null,null,null,"Banc 123",null,null,null,true,false,true,false,false,null,null,null,null,null,5,null,null,null,null,null,null,null,null,null,null,null,null,null,null,null,null,null,null,null,null,null,null,null,null,null,null,null,null,null,null,null,"Banc 123FAUXVRAI","Banc 123VRAIFAUXVRAIFAUXFAUX"]
[null,null,null,null,null,null,null,"Banc 126",null,null,null,false,true,false,true,false,null,null,null,null,null,7,null,null,null,null,null,null,null,null,null,null,null,null,null,null,null,null,null,null,null,null,null,null,null,null,null,null,null,null,null,null,null,"Banc 126VRAIFAUX","Banc 126FAUXVRAIFAUXVRAIFAUX"]
[null,null,null,null,null,null,null,"Banc 156",null,null,null,false,true,true,false,false,null,null,null,null,null,1,null,null,null,null,null,null,null,null,null,null,null,null,null,null,null,null,null,null,null,null,null,null,null,null,null,null,null,null,null,null,null,"Banc 156VRAIFAUX","Banc 156FAUXVRAIVRAIFAUXFAUX"]
[null,null,null,null,null,null,null,"Banc P9",null,null,null,true,false,false,true,false,null,null,null,null,null,12,null,null,null,null,null,null,null,null,null,null,null,null,null,null,null,null,null,null,null,null,null,null,null,null,null,null,null,null,null,null,null,"Banc P9FAUXVRAI",{"$f":"H250&L250&M250&N250&O250&P250","v":"Banc P9VRAIFAUXFAUXVRAIFAUX"}]
[null,null,null,null,null,null,null,"Banc 111",null,null,null,true,false,false,true,false,null,null,null,null,null,11,null,null,null,null,null,null,null,null,null,null,null,null,null,null,null,null,null,null,null,null,null,null,null,null,null,null,null,null,null,null,null,"Banc 111FAUXVRAI","Banc 111VRAIFAUXFAUXVRAIFAUX"]
[null,null,null,null,null,null,null,"Banc 117",null,null,null,false,true,false,false,true,null,null,null,null,null,2,null,null,null,null,null,null,null,null,null,null,null,null,null,null,null,null,null,null,null,null,null,null,null,null,null,null,null,null,null,null,null,"Banc 117VRAIFAUX","Banc 117FAUXVRAIFAUXFAUXVRAI"]
[null,null,null,null,null,null,null,"Banc 117 bis",null,null,null,true,false,true,false,false,null,null,null,null,null,4,null,null,null,null,null,null,null,null,null,null,null,null,null,null,null,null,null,null,null,null,null,null,null,null,null,null,null,null,null,null,null,"Banc 117 bisFAUXVRAI","Banc 117 bisVRAIFAUXVRAIFAUXFAUX"]
[null,null,null,null,null,null,null,"Banc 119",null,null,null,false,true,false,true,false,null,null,null,null,null,8,null,null,null,null,null,null,null,null,null,null,null,null,null,null,null,null,null,null,null,null,null,null,null,null,null,null,null,null,null,null,null,"Banc 119VRAIFAUX","Banc 119FAUXVRAIFAUXVRAIFAUX"]
[null,null,null,null,null,null,null,"Banc 123",null,null,null,false,true,true,false,false,null,null,null,null,null,5,null,null,null,null,null,null,null,null,null,null,null,null,null,null,null,null,null,null,null,null,null,null,null,null,null,null,null,null,null,null,null,"Banc 123VRAIFAUX","Banc 123FAUXVRAIVRAIFAUXFAUX"]
[null,null,null,null,null,null,null,"Banc 126",null,null,null,true,false,false,true,false,null,null,null,null,null,5,null,null,null,null,null,null,null,null,null,null,null,null,null,null,null,null,null,null,null,null,null,null,null,null,null,null,null,null,null,null,null,"Banc 126FAUXVRAI","Banc 126VRAIFAUXFAUXVRAIFAUX"]
[null,null,null,null,null,null,null,"Banc 156",null,null,null,true,false,false,true,false,null,null,null,null,null,6,null,null,null,null,null,null,null,null,null,null,null,null,null,null,null,null,null,null,null,null,null,null,null,null,null,null,null,null,null,null,null,"Banc 156FAUXVRAI","Banc 156VRAIFAUXFAUXVRAIFAUX"]
[null,null,null,null,null,null,null,"Banc P9",null,null,null,false,true,false,false,true,null,null,null,null,null,8,null,null,null,null,null,null,null,null,null,null,null,null,null,null,null,null,null,null,null,null,null,null,null,null,null,null,null,null,null,null,null,"Banc P9VRAIFAUX","Banc P9FAUXVRAIFAUXFAUXVRAI"]
[null,null,null,null,null,null,null,"Banc 111",null,null,null,true,false,true,false,false,null,null,null,null,null,3,null,null,null,null,null,null,null,null,null,null,null,null,null,null,null,null,null,null,null,null,null,null,null,null,null,null,null,null,null,null,null,{"$f":"H259&M259&L259","v":"Banc 111FAUXVRAI"},"Banc 111VRAIFAUXVRAIFAUXFAUX"]
[null,null,null,null,null,null,null,"Banc 117",null,null,null,false,true,false,true,false,null,null,null,null,null,2,null,null,null,null,null,null,null,null,null,null,null,null,null,null,null,null,null,null,null,null,null,null,null,null,null,null,null,null,null,null,null,"Banc 117VRAIFAUX","Banc 117FAUXVRAIFAUXVRAIFAUX"]
[null,null,null,null,null,null,null,"Banc 117 bis",null,null,null,false,true,true,false,false,null,null,null,null,null,4,null,null,null,null,null,null,null,null,null,null,null,null,null,null,null,null,null,null,null,null,null,null,null,null,null,null,null,null,null,null,null,"Banc 117 bisVRAIFAUX","Banc 117 bisFAUXVRAIVRAIFAUXFAUX"]
[null,null,null,null,null,null,null,"Banc 119",null,null,null,true,false,false,true,false,null,null,null,null,null,1,null,null,null,null,null,null,null,null,null,null,null,null,null,null,null,null,null,null,null,null,null,null,null,null,null,null,null,null,null,null,null,"Banc 119FAUXVRAI","Banc 119VRAIFAUXFAUXVRAIFAUX"]
[null,null,null,null,null,null,null,"Banc 123",null,null,null,true,false,false,true,false,null,null,null,null,null,5,null,null,null,null,null,null,null,null,null,null,null,null,null,null,null,null,null,null,null,null,null,null,null,null,null,null,null,null,null,null,null,"Banc 123FAUXVRAI","Banc 123VRAIFAUXFAUXVRAIFAUX"]
[null,null,null,null,null,null,null,"Banc 126",null,null,null,false,true,false,false,true,null,null,null,null,null,8,null,null,null,null,null,null,null,null,null,null,null,null,null,null,null,null,null,null,null,null,null,null,null,null,null,null,null,null,null,null,null,"Banc 126VRAIFAUX","Banc 126FAUXVRAIFAUXFAUXVRAI"]
[null,null,null,null,null,null,null,"Banc 156",null,null,null,true,false,true,false,false,null,null,null,null,null,6,null,null,null,null,null,null,null,null,null,null,null,null,null,null,null,null,null,null,null,null,null,null,null,null,null,null,null,null,null,null,null,"Banc 156FAUXVRAI","Banc 156VRAIFAUXVRAIFAUXFAUX"]
[null,null,null,null,null,null,null,"Banc P9",null,null,null,false,true,false,true,false,null,null,null,null,null,1,null,null,null,null,null,null,null,null,null,null,null,null,null,null,null,null,null,null,null,null,null,null,null,null,null,null,null,null,null,null,null,"Banc P9VRAIFAUX","Banc P9FAUXVRAIFAUXVRAIFAUX"]
[null,null,null,null,null,null,null,"Banc 111",null,null,null,false,true,true,false,false,null,null,null,null,null,7,null,null,null,null,null,null,null,null,null,null,null,null,null,null,null,null,null,null,null,null,null,null,null,null,null,null,null,null,null,null,null,"Banc 111VRAIFAUX","Banc 111FAUXVRAIVRAIFAUXFAUX"]
[null,null,null,null,null,null,null,"Banc 117",null,null,null,true,false,false,true,false,null,null,null,null,null,7,null,null,null,null,null,null,null,null,null,null,null,null,null,null,null,null,null,null,null,null,null,null,null,null,null,null,null,null,null,null,null,"Banc 117FAUXVRAI","Banc 117VRAIFAUXFAUXVRAIFAUX"]
[null,null,null,null,null,null,null,"Banc 117 bis",null,null,null,true,false,false,true,false,null,null,null,null,null,4,null,null,null,null,null,null,null,null,null,null,null,null,null,null,null,null,null,null,null,null,null,null,null,null,null,null,null,null,null,null,null,"Banc 117 bisFAUXVRAI","Banc 117 bisVRAIFAUXFAUXVRAIFAUX"]
[null,null,null,null,null,null,null,"Banc P9",null,null,null,false,true,false,false,true,null,null,null,null,null,1,null,null,null,null,null,null,null,null,null,null,null,null,null,null,null,null,null,null,null,null,null,null,null,null,null,null,null,null,null,null,null,"Banc P9VRAIFAUX","Banc P9FAUXVRAIFAUXFAUXVRAI"]
[null,null,null,null,null,null,null,"Banc 111",null,null,null,true,false,true,false,false,null,null,null,null,null,2,null,null,null,null,null,null,null,null,null,null,null,null,null,null,null,null,null,null,null,null,null,null,null,null,null,null,null,null,null,null,null,"Banc 111FAUXVRAI","Banc 111VRAIFAUXVRAIFAUXFAUX"]
[null,null,null,null,null,null,null,"Banc 117",null,null,null,false,true,false,true,false,null,null,null,null,null,7,null,null,null,null,null,null,null,null,null,null,null,null,null,null,null,null,null,null,null,null,null,null,null,null,null,null,null,null,null,null,null,"Banc 117VRAIFAUX","Banc 117FAUXVRAIFAUXVRAIFAUX"]
[null,null,null,null,null,null,null,"Banc 117 bis",null,null,null,false,true,true,false,false,null,null,null,null,null,6,null,null,null,null,null,null,null,null,null,null,null,null,null,null,null,null,null,null,null,null,null,null,null,null,null,null,null,null,null,null,null,"Banc 117 bisVRAIFAUX","Banc 117 bisFAUXVRAIVRAIFAUXFAUX"]
[null,null,null,null,null,null,null,"Banc 119",null,null,null,true,false,false,true,false,null,null,null,null,null,1,null,null,null,null,null,null,null,null,null,null,null,null,null,null,null,null,null,null,null,null,null,null,null,null,null,null,null,null,null,null,null,"Banc 119FAUXVRAI","Banc 119VRAIFAUXFAUXVRAIFAUX"]
[null,null,null,null,null,null,null,"Banc 123",null,null,null,true,false,false,true,false,null,null,null,null,null,1,null,null,null,null,null,null,null,null,null,null,null,null,null,null,null,null,null,null,null,null,null,null,null,null,null,null,null,null,null,null,null,"Banc 123FAUXVRAI","Banc 123VRAIFAUXFAUXVRAIFAUX"]
[null,null,null,null,null,null,null,"Banc 126",null,null,null,false,true,false,false,true,null,null,null,null,null,2,null,null,null,null,null,null,null,null,null,null,null,null,null,null,null,null,null,null,null,null,null,null,null,null,null,null,null,null,null,null,null,"Banc 126VRAIFAUX","Banc 126FAUXVRAIFAUXFAUXVRAI"]
[null,null,null,null,null,null,null,"Banc 156",null,null,null,true,false,true,false,false,null,null,null,null,null,5,null,null,null,null,null,null,null,null,null,null,null,null,null,null,null,null,null,null,null,null,null,null,null,null,null,null,null,null,null,null,null,"Banc 156FAUXVRAI","Banc 156VRAIFAUXVRAIFAUXFAUX"]
[null,null,null,null,null,null,null,"Banc P9",null,null,null,false,true,false,true,false,null,null,null,null,null,1,null,null,null,null,null,null,null,null,null,null,null,null,null,null,null,null,null,null,null,null,null,null,null,null,null,null,null,null,null,null,null,"Banc P9VRAIFAUX","Banc P9FAUXVRAIFAUXVRAIFAUX"]
[null,null,null,null,null,null,null,"Banc 111",null,null,null,false,true,true,false,false,null,null,null,null,null,5,null,null,null,null,null,null,null,null,null,null,null,null,null,null,null,null,null,null,null,null,null,null,null,null,null,null,null,null,null,null,null,{"$f":"H279&M279&L279","v":"Banc 111VRAIFAUX"},"Banc 111FAUXVRAIVRAIFAUXFAUX"]
[null,null,null,null,null,null,null,"Banc 117",null,null,null,true,false,false,true,false,null,null,null,null,null,7,null,null,null,null,null,null,null,null,null,null,null,null,null,null,null,null,null,null,null,null,null,null,null,null,null,null,null,null,null,null,null,"Banc 117FAUXVRAI","Banc 117VRAIFAUXFAUXVRAIFAUX"]
[null,null,null,null,null,null,null,"Banc 117 bis",null,null,null,true,false,false,true,false,null,null,null,null,null,1,null,null,null,null,null,null,null,null,null,null,null,null,null,null,null,null,null,null,null,null,null,null,null,null,null,null,null,null,null,null,null,"Banc 117 bisFAUXVRAI","Banc 117 bisVRAIFAUXFAUXVRAIFAUX"]
[null,null,null,null,null,null,null,"Banc 119",null,null,null,false,true,false,false,true,null,null,null,null,null,6,null,null,null,null,null,null,null,null,null,null,null,null,null,null,null,null,null,null,null,null,null,null,null,null,null,null,null,null,null,null,null,"Banc 119VRAIFAUX","Banc 119FAUXVRAIFAUXFAUXVRAI"]
[null,null,null,null,null,null,null,"Banc 123",null,null,null,true,false,true,false,false,null,null,null,null,null,1,null,null,null,null,null,null,null,null,null,null,null,null,null,null,null,null,null,null,null,null,null,null,null,null,null,null,null,null,null,null,null,"Banc 123FAUXVRAI","Banc 123VRAIFAUXVRAIFAUXFAUX"]
[null,null,null,null,null,null,null,"Banc 126",null,null,null,false,true,false,true,false,null,null,null,null,null,1,null,null,null,null,null,null,null,null,null,null,null,null,null,null,null,null,null,null,null,null,null,null,null,null,null,null,null,null,null,null,null,"Banc 126VRAIFAUX","Banc 126FAUXVRAIFAUXVRAIFAUX"]
[null,null,null,null,null,null,null,"Banc 156",null,null,null,false,true,true,false,false,null,null,null,null,null,2,null,null,null,null,null,null,null,null,null,null,null,null,null,null,null,null,null,null,null,null,null,null,null,null,null,null,null,null,null,null,null,"Banc 156VRAIFAUX","Banc 156FAUXVRAIVRAIFAUXFAUX"]
[null,null,null,null,null,null,null,"Banc P9",null,null,null,true,false,false,true,false,null,null,null,null,null,5,null,null,null,null,null,null,null,null,null,null,null,null,null,null,null,null,null,null,null,null,null,null,null,null,null,null,null,null,null,null,null,"Banc P9FAUXVRAI","Banc P9VRAIFAUXFAUXVRAIFAUX"]
[null,null,null,null,null,null,null,"Banc 111",null,null,null,true,false,false,true,false,null,null,null,null,null,1,null,null,null,null,null,null,null,null,null,null,null,null,null,null,null,null,null,null,null,null,null,null,null,null,null,null,null,null,null,null,null,"Banc 111FAUXVRAI","Banc 111VRAIFAUXFAUXVRAIFAUX"]
[null,null,null,null,null,null,null,"Banc 117",null,null,null,true,false,false,false,true,null,null,null,null,null,5,null,null,null,null,null,null,null,null,null,null,null,null,null,null,null,null,null,null,null,null,null,null,null,null,null,null,null,null,null,null,null,"Banc 117FAUXVRAI","Banc 117VRAIFAUXFAUXFAUXVRAI"]
[null,null,null,null,null,null,null,"Banc 117 bis",null,null,null,true,false,true,false,false,null,null,null,null,null,7,null,null,null,null,null,null,null,null,null,null,null,null,null,null,null,null,null,null,null,null,null,null,null,null,null,null,null,null,null,null,null,"Banc 117 bisFAUXVRAI","Banc 117 bisVRAIFAUXVRAIFAUXFAUX"]
[null,null,null,null,null,null,null,"Banc 119",null,null,null,false,true,false,true,false,null,null,null,null,null,1,null,null,null,null,null,null,null,null,null,null,null,null,null,null,null,null,null,null,null,null,null,null,null,null,null,null,null,null,null,null,null,"Banc 119VRAIFAUX","Banc 119FAUXVRAIFAUXVRAIFAUX"]
[null,null,null,null,null,null,null,"Banc 123",null,null,null,false,true,true,false,false,null,null,null,null,null,6,null,null,null,null,null,null,null,null,null,null,null,null,null,null,null,null,null,null,null,null,null,null,null,null,null,null,null,null,null,null,null,"Banc 123VRAIFAUX","Banc 123FAUXVRAIVRAIFAUXFAUX"]
[null,null,null,null,null,null,null,"Banc 126",null,null,null,true,false,false,true,false,null,null,null,null,null,1,null,null,null,null,null,null,null,null,null,null,null,null,null,null,null,null,null,null,null,null,null,null,null,null,null,null,null,null,null,null,null,"Banc 126FAUXVRAI","Banc 126VRAIFAUXFAUXVRAIFAUX"]
[null,null,null,null,null,null,null,"Banc 156",null,null,null,true,false,false,true,false,null,null,null,null,null,1,null,null,null,null,null,null,null,null,null,null,null,null,null,null,null,null,null,null,null,null,null,null,null,null,null,null,null,null,null,null,null,"Banc 156FAUXVRAI","Banc 156VRAIFAUXFAUXVRAIFAUX"]
[null,null,null,null,null,null,null,"Banc P9",null,null,null,true,false,false,false,true,null,null,null,null,null,2,null,null,null,null,null,null,null,null,null,null,null,null,null,null,null,null,null,null,null,null,null,null,null,null,null,null,null,null,null,null,null,"Banc P9FAUXVRAI","Banc P9VRAIFAUXFAUXFAUXVRAI"]
[null,null,null,null,null,null,null,"Banc 111",null,null,null,true,false,true,false,false,null,null,null,null,null,null,null,null,null,null,null,null,null,null,null,null,null,null,null,null,null,null,null,null,null,null,null,null,null,null,null,null,null,null,null,null,null,"Banc 111FAUXVRAI","Banc 111VRAIFAUXVRAIFAUXFAUX"]
[null,null,null,null,null,null,null,"Banc 117",null,null,null,false,true,false,true,false,null,null,null,null,null,null,null,null,null,null,null,null,null,null,null,null,null,null,null,null,null,null,null,null,null,null,null,null,null,null,null,null,null,null,null,null,null,"Banc 117VRAIFAUX","Banc 117FAUXVRAIFAUXVRAIFAUX"]
[null,null,null,null,null,null,null,"Banc 117 bis",null,null,null,false,true,true,false,false,null,null,null,null,null,null,null,null,null,null,null,null,null,null,null,null,null,null,null,null,null,null,null,null,null,null,null,null,null,null,null,null,null,null,null,null,null,"Banc 117 bisVRAIFAUX","Banc 117 bisFAUXVRAIVRAIFAUXFAUX"]
[null,null,null,null,null,null,null,"Banc P9",null,null,null,true,false,false,true,false,null,null,null,null,null,null,null,null,null,null,null,null,null,null,null,null,null,null,null,null,null,null,null,null,null,null,null,null,null,null,null,null,null,null,null,null,null,"Banc P9FAUXVRAI","Banc P9VRAIFAUXFAUXVRAIFAUX"]
[null,null,null,null,null,null,null,"Banc 111",null,null,null,true,false,false,true,false,null,null,null,null,null,null,null,null,null,null,null,null,null,null,null,null,null,null,null,null,null,null,null,null,null,null,null,null,null,null,null,null,null,null,null,null,null,"Banc 111FAUXVRAI","Banc 111VRAIFAUXFAUXVRAIFAUX"]
[null,null,null,null,null,null,null,"Banc 117",null,null,null,true,false,false,false,true,null,null,null,null,null,1,null,null,null,null,null,null,null,null,null,null,null,null,null,null,null,null,null,null,null,null,null,null,null,null,null,null,null,null,null,null,null,"Banc 117FAUXVRAI","Banc 117VRAIFAUXFAUXFAUXVRAI"]
[null,null,null,null,null,null,null,"Banc 117 bis",null,null,null,true,false,true,false,false,null,null,null,null,null,12,null,null,null,null,null,null,null,null,null,null,null,null,null,null,null,null,null,null,null,null,null,null,null,null,null,null,null,null,null,null,null,"Banc 117 bisFAUXVRAI","Banc 117 bisVRAIFAUXVRAIFAUXFAUX"]
[null,null,null,null,null,null,null,"Banc 119",null,null,null,false,true,false,true,false,null,null,null,null,null,null,null,null,null,null,null,null,null,null,null,null,null,null,null,null,null,null,null,null,null,null,null,null,null,null,null,null,null,null,null,null,null,"Banc 119VRAIFAUX","Banc 119FAUXVRAIFAUXVRAIFAUX"]
[null,null,null,null,null,null,null,"Banc 123",null,null,null,false,true,true,false,false,null,null,null,null,null,1,null,null,null,null,null,null,null,null,null,null,null,null,null,null,null,null,null,null,null,null,null,null,null,null,null,null,null,null,null,null,null,"Banc 123VRAIFAUX","Banc 123FAUXVRAIVRAIFAUXFAUX"]
[null,null,null,null,null,null,null,"Banc 126",null,null,null,true,false,false,true,false,null,null,null,null,null,5,null,null,null,null,null,null,null,null,null,null,null,null,null,null,null,null,null,null,null,null,null,null,null,null,null,null,null,null,null,null,null,"Banc 126FAUXVRAI","Banc 126VRAIFAUXFAUXVRAIFAUX"]
[null,null,null,null,null,null,null,"Banc 156",null,null,null,true,false,false,true,false,null,null,null,null,null,2,null,null,null,null,null,null,null,null,null,null,null,null,null,null,null,null,null,null,null,null,null,null,null,null,null,null,null,null,null,null,null,"Banc 156FAUXVRAI","Banc 156VRAIFAUXFAUXVRAIFAUX"]
[null,null,null,null,null,null,null,"Banc P9",null,null,null,true,false,false,false,true,null,null,null,null,null,1,null,null,null,null,null,null,null,null,null,null,null,null,null,null,null,null,null,null,null,null,null,null,null,null,null,null,null,null,null,null,null,"Banc P9FAUXVRAI","Banc P9VRAIFAUXFAUXFAUXVRAI"]
[null,null,null,null,null,null,null,"Banc 111",null,null,null,true,false,true,false,false,null,null,null,null,null,null,null,null,null,null,null,null,null,null,null,null,null,null,null,null,null,null,null,null,null,null,null,null,null,null,null,null,null,null,null,null,null,"Banc 111FAUXVRAI","Banc 111VRAIFAUXVRAIFAUXFAUX"]
[null,null,null,null,null,null,null,"Banc 117",null,null,null,false,true,false,true,false,null,null,null,null,null,null,null,null,null,null,null,null,null,null,null,null,null,null,null,null,null,null,null,null,null,null,null,null,null,null,null,null,null,null,null,null,null,"Banc 117VRAIFAUX","Banc 117FAUXVRAIFAUXVRAIFAUX"]
[null,null,null,null,null,null,null,"Banc 117 bis",null,null,null,false,true,true,false,false,null,null,null,null,null,null,null,null,null,null,null,null,null,null,null,null,null,null,null,null,null,null,null,null,null,null,null,null,null,null,null,null,null,null,null,null,null,"Banc 117 bisVRAIFAUX","Banc 117 bisFAUXVRAIVRAIFAUXFAUX"]
[null,null,null,null,null,null,null,"Banc 119",null,null,null,true,false,false,true,false,null,null,null,null,null,null,null,null,null,null,null,null,null,null,null,null,null,null,null,null,null,null,null,null,null,null,null,null,null,null,null,null,null,null,null,null,null,"Banc 119FAUXVRAI","Banc 119VRAIFAUXFAUXVRAIFAUX"]
[null,null,null,null,null,null,null,"Banc 123",null,null,null,true,false,false,false,true,null,null,null,null,null,1,null,null,null,null,null,null,null,null,null,null,null,null,null,null,null,null,null,null,null,null,null,null,null,null,null,null,null,null,null,null,null,"Banc 123FAUXVRAI","Banc 123VRAIFAUXFAUXFAUXVRAI"]
[null,null,null,null,null,null,null,"Banc 126",null,null,null,true,false,false,false,true,null,null,null,null,null,12,null,null,null,null,null,null,null,null,null,null,null,null,null,null,null,null,null,null,null,null,null,null,null,null,null,null,null,null,null,null,null,"Banc 126FAUXVRAI","Banc 126VRAIFAUXFAUXFAUXVRAI"]
[null,null,null,null,null,null,null,"Banc 156",null,null,null,true,false,true,false,false,null,null,null,null,null,null,null,null,null,null,null,null,null,null,null,null,null,null,null,null,null,null,null,null,null,null,null,null,null,null,null,null,null,null,null,null,null,"Banc 156FAUXVRAI","Banc 156VRAIFAUXVRAIFAUXFAUX"]
[null,null,null,null,null,null,null,"Banc P9",null,null,null,false,true,false,true,false,null,null,null,null,null,null,null,null,null,null,null,null,null,null,null,null,null,null,null,null,null,null,null,null,null,null,null,null,null,null,null,null,null,null,null,null,null,"Banc P9VRAIFAUX",{"$f":"H314&L314&M314&N314&O314&P314","v":"Banc P9FAUXVRAIFAUXVRAIFAUX"}]
[null,null,null,null,null,null,null,"Banc 111",null,null,null,false,true,true,false,false,null,null,null,null,null,null,null,null,null,null,null,null,null,null,null,null,null,null,null,null,null,null,null,null,null,null,null,null,null,null,null,null,null,null,null,null,null,"Banc 111VRAIFAUX","Banc 111FAUXVRAIVRAIFAUXFAUX"]
[null,null,null,null,null,null,null,"Banc 117",null,null,null,true,false,false,false,true,null,null,null,null,null,12,null,null,null,null,null,null,null,null,null,null,null,null,null,null,null,null,null,null,null,null,null,null,null,null,null,null,null,null,null,null,null,"Banc 117FAUXVRAI","Banc 117VRAIFAUXFAUXFAUXVRAI"]
[null,null,null,null,null,null,null,"Banc 117 bis",null,null,null,true,false,false,false,true,null,null,null,null,null,12,null,null,null,null,null,null,null,null,null,null,null,null,null,null,null,null,null,null,null,null,null,null,null,null,null,null,null,null,null,null,null,"Banc 117 bisFAUXVRAI","Banc 117 bisVRAIFAUXFAUXFAUXVRAI"]
[null,null,null,null,null,null,null,"Banc 119",null,null,null,true,false,false,false,true,null,null,null,null,null,12,null,null,null,null,null,null,null,null,null,null,null,null,null,null,null,null,null,null,null,null,null,null,null,null,null,null,null,null,null,null,null,"Banc 119FAUXVRAI","Banc 119VRAIFAUXFAUXFAUXVRAI"]
[null,null,null,null,null,null,null,"Banc 123",null,null,null,true,false,true,false,false,null,null,null,null,null,null,null,null,null,null,null,null,null,null,null,null,null,null,null,null,null,null,null,null,null,null,null,null,null,null,null,null,null,null,null,null,null,"Banc 123FAUXVRAI","Banc 123VRAIFAUXVRAIFAUXFAUX"]
[null,null,null,null,null,null,null,"Banc 126",null,null,null,false,true,false,true,false,null,null,null,null,null,null,null,null,null,null,null,null,null,null,null,null,null,null,null,null,null,null,null,null,null,null,null,null,null,null,null,null,null,null,null,null,null,"Banc 126VRAIFAUX","Banc 126FAUXVRAIFAUXVRAIFAUX"]
[null,null,null,null,null,null,null,"Banc 156",null,null,null,false,true,true,false,false,null,null,null,null,null,null,null,null,null,null,null,null,null,null,null,null,null,null,null,null,null,null,null,null,null,null,null,null,null,null,null,null,null,null,null,null,null,"Banc 156VRAIFAUX","Banc 156FAUXVRAIVRAIFAUXFAUX"]
[null,null,null,null,null,null,null,"Banc P9",null,null,null,true,false,false,false,true,null,null,null,null,null,12,null,null,null,null,null,null,null,null,null,null,null,null,null,null,null,null,null,null,null,null,null,null,null,null,null,null,null,null,null,null,null,"Banc P9FAUXVRAI","Banc P9VRAIFAUXFAUXFAUXVRAI"]
[null,null,null,null,null,null,null,"Banc 111",null,null,null,true,false,false,true,false,null,null,null,null,null,null,null,null,null,null,null,null,null,null,null,null,null,null,null,null,null,null,null,null,null,null,null,null,null,null,null,null,null,null,null,null,null,{"$f":"H323&M323&L323","v":"Banc 111FAUXVRAI"},"Banc 111VRAIFAUXFAUXVRAIFAUX"]
[null,null,null,null,null,null,null,"Banc 117",null,null,null,true,false,false,false,true,null,null,null,null,null,12,null,null,null,null,null,null,null,null,null,null,null,null,null,null,null,null,null,null,null,null,null,null,null,null,null,null,null,null,null,null,null,"Banc 117FAUXVRAI","Banc 117VRAIFAUXFAUXFAUXVRAI"]
[null,null,null,null,null,null,null,"Banc 117 bis",null,null,null,true,false,true,false,false,null,null,null,null,null,null,null,null,null,null,null,null,null,null,null,null,null,null,null,null,null,null,null,null,null,null,null,null,null,null,null,null,null,null,null,null,null,"Banc 117 bisFAUXVRAI","Banc 117 bisVRAIFAUXVRAIFAUXFAUX"]
[null,null,null,null,null,null,null,"Banc P9",null,null,null,false,true,false,true,false,null,null,null,null,null,null,null,null,null,null,null,null,null,null,null,null,null,null,null,null,null,null,null,null,null,null,null,null,null,null,null,null,null,null,null,null,null,"Banc P9VRAIFAUX","Banc P9FAUXVRAIFAUXVRAIFAUX"]
[null,null,null,null,null,null,null,"Banc 111",null,null,null,false,true,true,false,false,null,null,null,null,null,null,null,null,null,null,null,null,null,null,null,null,null,null,null,null,null,null,null,null,null,null,null,null,null,null,null,null,null,null,null,null,null,"Banc 111VRAIFAUX","Banc 111FAUXVRAIVRAIFAUXFAUX"]
[null,null,null,null,null,null,null,"Banc 117",null,null,null,true,false,false,true,false,null,null,null,null,null,null,null,null,null,null,null,null,null,null,null,null,null,null,null,null,null,null,null,null,null,null,null,null,null,null,null,null,null,null,null,null,null,"Banc 117FAUXVRAI","Banc 117VRAIFAUXFAUXVRAIFAUX"]
[null,null,null,null,null,null,null,"Banc 117 bis",null,null,null,true,false,false,false,true,null,null,null,null,null,12,null,null,null,null,null,null,null,null,null,null,null,null,null,null,null,null,null,null,null,null,null,null,null,null,null,null,null,null,null,null,null,"Banc 117 bisFAUXVRAI","Banc 117 bisVRAIFAUXFAUXFAUXVRAI"]
[null,null,null,null,null,null,null,"Banc 119",null,null,null,true,false,false,false,true,null,null,null,null,null,12,null,null,null,null,null,null,null,null,null,null,null,null,null,null,null,null,null,null,null,null,null,null,null,null,null,null,null,null,null,null,null,"Banc 119FAUXVRAI","Banc 119VRAIFAUXFAUXFAUXVRAI"]
[null,null,null,null,null,null,null,"Banc 123",null,null,null,true,false,true,false,false,null,null,null,null,null,null,null,null,null,null,null,null,null,null,null,null,null,null,null,null,null,null,null,null,null,null,null,null,null,null,null,null,null,null,null,null,null,"Banc 123FAUXVRAI","Banc 123VRAIFAUXVRAIFAUXFAUX"]
[null,null,null,null,null,null,null,"Banc 126",null,null,null,false,true,false,true,false,null,null,null,null,null,null,null,null,null,null,null,null,null,null,null,null,null,null,null,null,null,null,null,null,null,null,null,null,null,null,null,null,null,null,null,null,null,"Banc 126VRAIFAUX","Banc 126FAUXVRAIFAUXVRAIFAUX"]
[null,null,null,null,null,null,null,"Banc 156",null,null,null,false,true,true,false,false,null,null,null,null,null,null,null,null,null,null,null,null,null,null,null,null,null,null,null,null,null,null,null,null,null,null,null,null,null,null,null,null,null,null,null,null,null,"Banc 156VRAIFAUX","Banc 156FAUXVRAIVRAIFAUXFAUX"]
[null,null,null,null,null,null,null,"Banc P9",null,null,null,true,false,false,true,false,null,null,null,null,null,null,null,null,null,null,null,null,null,null,null,null,null,null,null,null,null,null,null,null,null,null,null,null,null,null,null,null,null,null,null,null,null,"Banc P9FAUXVRAI","Banc P9VRAIFAUXFAUXVRAIFAUX"]
[null,null,null,null,null,null,null,"Banc 111",null,null,null,true,false,false,true,false,null,null,null,null,null,null,null,null,null,null,null,null,null,null,null,null,null,null,null,null,null,null,null,null,null,null,null,null,null,null,null,null,null,null,null,null,null,"Banc 111FAUXVRAI","Banc 111VRAIFAUXFAUXVRAIFAUX"]
[null,null,null,null,null,null,null,"Banc 117",null,null,null,true,false,false,false,true,null,null,null,null,null,1,null,null,null,null,null,null,null,null,null,null,null,null,null,null,null,null,null,null,null,null,null,null,null,null,null,null,null,null,null,null,null,"Banc 117FAUXVRAI","Banc 117VRAIFAUXFAUXFAUXVRAI"]
[null,null,null,null,null,null,null,"Banc 117 bis",null,null,null,true,false,true,false,false,null,null,null,null,null,null,null,null,null,null,null,null,null,null,null,null,null,null,null,null,null,null,null,null,null,null,null,null,null,null,null,null,null,null,null,null,null,"Banc 117 bisFAUXVRAI","Banc 117 bisVRAIFAUXVRAIFAUXFAUX"]
[null,null,null,null,null,null,null,"Banc 119",null,null,null,false,true,false,true,false,null,null,null,null,null,null,null,null,null,null,null,null,null,null,null,null,null,null,null,null,null,null,null,null,null,null,null,null,null,null,null,null,null,null,null,null,null,"Banc 119VRAIFAUX","Banc 119FAUXVRAIFAUXVRAIFAUX"]
[null,null,null,null,null,null,null,"Banc 123",null,null,null,false,true,true,false,false,null,null,null,null,null,null,null,null,null,null,null,null,null,null,null,null,null,null,null,null,null,null,null,null,null,null,null,null,null,null,null,null,null,null,null,null,null,"Banc 123VRAIFAUX","Banc 123FAUXVRAIVRAIFAUXFAUX"]
[null,null,null,null,null,null,null,"Banc 126",null,null,null,true,false,false,false,true,null,null,null,null,null,1,null,null,null,null,null,null,null,null,null,null,null,null,null,null,null,null,null,null,null,null,null,null,null,null,null,null,null,null,null,null,null,"Banc 126FAUXVRAI","Banc 126VRAIFAUXFAUXFAUXVRAI"]
[null,null,null,null,null,null,null,"Banc 156",null,null,null,true,false,false,false,true,null,null,null,null,null,1,null,null,null,null,null,null,null,null,null,null,null,null,null,null,null,null,null,null,null,null,null,null,null,null,null,null,null,null,null,null,null,"Banc 156FAUXVRAI","Banc 156VRAIFAUXFAUXFAUXVRAI"]
[null,null,null,null,null,null,null,"Banc P9",null,null,null,true,false,false,false,true,null,null,null,null,null,12,null,null,null,null,null,null,null,null,null,null,null,null,null,null,null,null,null,null,null,null,null,null,null,null,null,null,null,null,null,null,null,"Banc P9FAUXVRAI","Banc P9VRAIFAUXFAUXFAUXVRAI"]
[null,null,null,null,null,null,null,"Banc 111",null,null,null,true,false,true,false,false,null,null,null,null,null,null,null,null,null,null,null,null,null,null,null,null,null,null,null,null,null,null,null,null,null,null,null,null,null,null,null,null,null,null,null,null,null,"Banc 111FAUXVRAI","Banc 111VRAIFAUXVRAIFAUXFAUX"]
[null,null,null,null,null,null,null,"Banc 117",null,null,null,false,true,false,true,false,null,null,null,null,null,null,null,null,null,null,null,null,null,null,null,null,null,null,null,null,null,null,null,null,null,null,null,null,null,null,null,null,null,null,null,null,null,"Banc 117VRAIFAUX","Banc 117FAUXVRAIFAUXVRAIFAUX"]
[null,null,null,null,null,null,null,"Banc 117 bis",null,null,null,false,true,true,false,false,null,null,null,null,null,null,null,null,null,null,null,null,null,null,null,null,null,null,null,null,null,null,null,null,null,null,null,null,null,null,null,null,null,null,null,null,null,"Banc 117 bisVRAIFAUX","Banc 117 bisFAUXVRAIVRAIFAUXFAUX"]
[null,null,null,null,null,null,null,"Banc 119",null,null,null,true,false,false,false,true,null,null,null,null,null,1,null,null,null,null,null,null,null,null,null,null,null,null,null,null,null,null,null,null,null,null,null,null,null,null,null,null,null,null,null,null,null,"Banc 119FAUXVRAI","Banc 119VRAIFAUXFAUXFAUXVRAI"]
[null,null,null,null,null,null,null,"Banc 123",null,null,null,true,false,false,true,false,null,null,null,null,null,null,null,null,null,null,null,null,null,null,null,null,null,null,null,null,null,null,null,null,null,null,null,null,null,null,null,null,null,null,null,null,null,"Banc 123FAUXVRAI","Banc 123VRAIFAUXFAUXVRAIFAUX"]
[null,null,null,null,null,null,null,"Banc 126",null,null,null,true,false,false,false,true,null,null,null,null,null,1,null,null,null,null,null,null,null,null,null,null,null,null,null,null,null,null,null,null,null,null,null,null,null,null,null,null,null,null,null,null,null,"Banc 126FAUXVRAI","Banc 126VRAIFAUXFAUXFAUXVRAI"]
[null,null,null,null,null,null,null,"Banc 156",null,null,null,true,false,true,false,false,null,null,null,null,null,null,null,null,null,null,null,null,null,null,null,null,null,null,null,null,null,null,null,null,null,null,null,null,null,null,null,null,null,null,null,null,null,"Banc 156FAUXVRAI","Banc 156VRAIFAUXVRAIFAUXFAUX"]
[null,null,null,null,null,null,null,"Banc P9",null,null,null,false,true,false,true,false,null,null,null,null,null,null,null,null,null,null,null,null,null,null,null,null,null,null,null,null,null,null,null,null,null,null,null,null,null,null,null,null,null,null,null,null,null,"Banc P9VRAIFAUX","Banc P9FAUXVRAIFAUXVRAIFAUX"]
[null,null,null,null,null,null,null,"Banc 111",null,null,null,false,true,true,false,false,null,null,null,null,null,null,null,null,null,null,null,null,null,null,null,null,null,null,null,null,null,null,null,null,null,null,null,null,null,null,null,null,null,null,null,null,null,"Banc 111VRAIFAUX","Banc 111FAUXVRAIVRAIFAUXFAUX"]
[null,null,null,null,null,null,null,"Banc 117",null,null,null,null,null,null,null,null,null,null,null,null,null,null,null,null,null,null,null,null,null,null,null,null,null,null,null,null,null,null,null,null,null,null,null,null,null,null,null,null,null,null,null,null,null,"Banc 117","Banc 117"]
[null,null,null,null,null,null,null,"Banc 117 bis",null,null,null,null,null,null,null,null,null,null,null,null,null,null,null,null,null,null,null,null,null,null,null,null,null,null,null,null,null,null,null,null,null,null,null,null,null,null,null,null,null,null,null,null,null,"Banc 117 bis","Banc 117 bis"]
[null,null,null,null,null,null,null,null,null,null,null,null,null,null,null,null,null,null,null,null,null,null,null,null,null,null,null,null,null,null,null,null,null,null,null,null,null,null,null,null,null,null,null,null,null,null,null,null,null,null,null,null,null,"",""]
[null,null,null,null,null,null,null,null,null,null,null,null,null,null,null,null,null,null,null,null,null,null,null,null,null,null,null,null,null,null,null,null,null,null,null,null,null,null,null,null,null,null,null,null,null,null,null,null,null,null,null,null,null,"",""]
[null,null,null,null,null,null,null,null,null,null,null,null,null,null,null,null,null,null,null,null,null,null,null,null,null,null,null,null,null,null,null,null,null,null,null,null,null,null,null,null,null,null,null,null,null,null,null,null,null,null,null,null,null,"",""]
[null,null,null,null,null,null,null,null,null,null,null,null,null,null,null,null,null,null,null,null,null,null,null,null,null,null,null,null,null,null,null,null,null,null,null,null,null,null,null,null,null,null,null,null,null,null,null,null,null,null,null,null,null,"",""]
[null,null,null,null,null,null,null,null,null,null,null,null,null,null,null,null,null,null,null,null,null,null,null,null,null,null,null,null,null,null,null,null,null,null,null,null,null,null,null,null,null,null,null,null,null,null,null,null,null,null,null,null,null,"",""]
[null,null,null,null,null,null,null,null,null,null,null,null,null,null,null,null,null,null,null,null,null,null,null,null,null,null,null,null,null,null,null,null,null,null,null,null,null,null,null,null,null,null,null,null,null,null,null,null,null,null,null,null,null,"",""]
[null,null,null,null,null,null,null,null,null,null,null,null,null,null,null,null,null,null,null,null,null,null,null,null,null,null,null,null,null,null,null,null,null,null,null,null,null,null,null,null,null,null,null,null,null,null,null,null,null,null,null,null,null,"",""]
[null,null,null,null,null,null,null,null,null,null,null,null,null,null,null,null,null,null,null,null,null,null,null,null,null,null,null,null,null,null,null,null,null,null,null,null,null,null,null,null,null,null,null,null,null,null,null,null,null,null,null,null,null,""]
[null,null,null,null,null,null,null,null,null,null,null,null,null,null,null,null,null,null,null,null,null,null,null,null,null,null,null,null,null,null,null,null,null,null,null,null,null,null,null,null,null,null,null,null,null,null,null,null,null,null,null,null,null,""]
[null,null,null,null,null,null,null,null,null,null,null,null,null,null,null,null,null,null,null,null,null,null,null,null,null,null,null,null,null,null,null,null,null,null,null,null,null,null,null,null,null,null,null,null,null,null,null,null,null,null,null,null,null,""]
[null,null,null,null,null,null,null,null,null,null,null,null,null,null,null,null,null,null,null,null,null,null,null,null,null,null,null,null,null,null,null,null,null,null,null,null,null,null,null,null,null,null,null,null,null,null,null,null,null,null,null,null,null,""]
[null,null,null,null,null,null,null,null,null,null,null,null,null,null,null,null,null,null,null,null,null,null,null,null,null,null,null,null,null,null,null,null,null,null,null,null,null,null,null,null,null,null,null,null,null,null,null,null,null,null,null,null,null,""]
[null,null,null,null,null,null,null,null,null,null,null,null,null,null,null,null,null,null,null,null,null,null,null,null,null,null,null,null,null,null,null,null,null,null,null,null,null,null,null,null,null,null,null,null,null,null,null,null,null,null,null,null,null,""]
[null,null,null,null,null,null,null,null,null,null,null,null,null,null,null,null,null,null,null,null,null,null,null,null,null,null,null,null,null,null,null,null,null,null,null,null,null,null,null,null,null,null,null,null,null,null,null,null,null,null,null,null,null,""]
[null,null,null,null,null,null,null,null,null,null,null,null,null,null,null,null,null,null,null,null,null,null,null,null,null,null,null,null,null,null,null,null,null,null,null,null,null,null,null,null,null,null,null,null,null,null,null,null,null,null,null,null,null,""]
[null,null,null,null,null,null,null,null,null,null,null,null,null,null,null,null,null,null,null,null,null,null,null,null,null,null,null,null,null,null,null,null,null,null,null,null,null,null,null,null,null,null,null,null,null,null,null,null,null,null,null,null,null,""]
[null,null,null,null,null,null,null,null,null,null,null,null,null,null,null,null,null,null,null,null,null,null,null,null,null,null,null,null,null,null,null,null,null,null,null,null,null,null,null,null,null,null,null,null,null,null,null,null,null,null,null,null,null,""]
[null,null,null,null,null,null,null,null,null,null,null,null,null,null,null,null,null,null,null,null,null,null,null,null,null,null,null,null,null,null,null,null,null,null,null,null,null,null,null,null,null,null,null,null,null,null,null,null,null,null,null,null,null,""]
[null,null,null,null,null,null,null,null,null,null,null,null,null,null,null,null,null,null,null,null,null,null,null,null,null,null,null,null,null,null,null,null,null,null,null,null,null,null,null,null,null,null,null,null,null,null,null,null,null,null,null,null,null,""]
[null,null,null,null,null,null,null,null,null,null,null,null,null,null,null,null,null,null,null,null,null,null,null,null,null,null,null,null,null,null,null,null,null,null,null,null,null,null,null,null,null,null,null,null,null,null,null,null,null,null,null,null,null,""]
[null,null,null,null,null,null,null,null,null,null,null,null,null,null,null,null,null,null,null,null,null,null,null,null,null,null,null,null,null,null,null,null,null,null,null,null,null,null,null,null,null,null,null,null,null,null,null,null,null,null,null,null,null,""]
[null,null,null,null,null,null,null,null,null,null,null,null,null,null,null,null,null,null,null,null,null,null,null,null,null,null,null,null,null,null,null,null,null,null,null,null,null,null,null,null,null,null,null,null,null,null,null,null,null,null,null,null,null,""]
[null,null,null,null,null,null,null,null,null,null,null,null,null,null,null,null,null,null,null,null,null,null,null,null,null,null,null,null,null,null,null,null,null,null,null,null,null,null,null,null,null,null,null,null,null,null,null,null,null,null,null,null,null,""]
[null,null,null,null,null,null,null,null,null,null,null,null,null,null,null,null,null,null,null,null,null,null,null,null,null,null,null,null,null,null,null,null,null,null,null,null,null,null,null,null,null,null,null,null,null,null,null,null,null,null,null,null,null,""]
[null,null,null,null,null,null,null,null,null,null,null,null,null,null,null,null,null,null,null,null,null,null,null,null,null,null,null,null,null,null,null,null,null,null,null,null,null,null,null,null,null,null,null,null,null,null,null,null,null,null,null,null,null,""]
[null,null,null,null,null,null,null,null,null,null,null,null,null,null,null,null,null,null,null,null,null,null,null,null,null,null,null,null,null,null,null,null,null,null,null,null,null,null,null,null,null,null,null,null,null,null,null,null,null,null,null,null,null,""]
[null,null,null,null,null,null,null,null,null,null,null,null,null,null,null,null,null,null,null,null,null,null,null,null,null,null,null,null,null,null,null,null,null,null,null,null,null,null,null,null,null,null,null,null,null,null,null,null,null,null,null,null,null,""]
[null,null,null,null,null,null,null,null,null,null,null,null,null,null,null,null,null,null,null,null,null,null,null,null,null,null,null,null,null,null,null,null,null,null,null,null,null,null,null,null,null,null,null,null,null,null,null,null,null,null,null,null,null,""]
[null,null,null,null,null,null,null,null,null,null,null,null,null,null,null,null,null,null,null,null,null,null,null,null,null,null,null,null,null,null,null,null,null,null,null,null,null,null,null,null,null,null,null,null,null,null,null,null,null,null,null,null,null,""]
[null,null,null,null,null,null,null,null,null,null,null,null,null,null,null,null,null,null,null,null,null,null,null,null,null,null,null,null,null,null,null,null,null,null,null,null,null,null,null,null,null,null,null,null,null,null,null,null,null,null,null,null,null,""]
[null,null,null,null,null,null,null,null,null,null,null,null,null,null,null,null,null,null,null,null,null,null,null,null,null,null,null,null,null,null,null,null,null,null,null,null,null,null,null,null,null,null,null,null,null,null,null,null,null,null,null,null,null,""]
[null,null,null,null,null,null,null,null,null,null,null,null,null,null,null,null,null,null,null,null,null,null,null,null,null,null,null,null,null,null,null,null,null,null,null,null,null,null,null,null,null,null,null,null,null,null,null,null,null,null,null,null,null,""]
[null,null,null,null,null,null,null,null,null,null,null,null,null,null,null,null,null,null,null,null,null,null,null,null,null,null,null,null,null,null,null,null,null,null,null,null,null,null,null,null,null,null,null,null,null,null,null,null,null,null,null,null,null,""]
[null,null,null,null,null,null,null,null,null,null,null,null,null,null,null,null,null,null,null,null,null,null,null,null,null,null,null,null,null,null,null,null,null,null,null,null,null,null,null,null,null,null,null,null,null,null,null,null,null,null,null,null,null,{"$f":"H387&M387&L387","v":""}]
[null,null,null,null,null,null,null,null,null,null,null,null,null,null,null,null,null,null,null,null,null,null,null,null,null,null,null,null,null,null,null,null,null,null,null,null,null,null,null,null,null,null,null,null,null,null,null,null,null,null,null,null,null,""]
[null,null,null,null,null,null,null,null,null,null,null,null,null,null,null,null,null,null,null,null,null,null,null,null,null,null,null,null,null,null,null,null,null,null,null,null,null,null,null,null,null,null,null,null,null,null,null,null,null,null,null,null,null,""]
[null,null,null,null,null,null,null,null,null,null,null,null,null,null,null,null,null,null,null,null,null,null,null,null,null,null,null,null,null,null,null,null,null,null,null,null,null,null,null,null,null,null,null,null,null,null,null,null,null,null,null,null,null,""]
[null,null,null,null,null,null,null,null,null,null,null,null,null,null,null,null,null,null,null,null,null,null,null,null,null,null,null,null,null,null,null,null,null,null,null,null,null,null,null,null,null,null,null,null,null,null,null,null,null,null,null,null,null,""]
[null,null,null,null,null,null,null,null,null,null,null,null,null,null,null,null,null,null,null,null,null,null,null,null,null,null,null,null,null,null,null,null,null,null,null,null,null,null,null,null,null,null,null,null,null,null,null,null,null,null,null,null,null,""]
[null,null,null,null,null,null,null,null,null,null,null,null,null,null,null,null,null,null,null,null,null,null,null,null,null,null,null,null,null,null,null,null,null,null,null,null,null,null,null,null,null,null,null,null,null,null,null,null,null,null,null,null,null,""]
[null,null,null,null,null,null,null,null,null,null,null,null,null,null,null,null,null,null,null,null,null,null,null,null,null,null,null,null,null,null,null,null,null,null,null,null,null,null,null,null,null,null,null,null,null,null,null,null,null,null,null,null,null,""]
[null,null,null,null,null,null,null,null,null,null,null,null,null,null,null,null,null,null,null,null,null,null,null,null,null,null,null,null,null,null,null,null,null,null,null,null,null,null,null,null,null,null,null,null,null,null,null,null,null,null,null,null,null,""]
[null,null,null,null,null,null,null,null,null,null,null,null,null,null,null,null,null,null,null,null,null,null,null,null,null,null,null,null,null,null,null,null,null,null,null,null,null,null,null,null,null,null,null,null,null,null,null,null,null,null,null,null,null,""]
[null,null,null,null,null,null,null,null,null,null,null,null,null,null,null,null,null,null,null,null,null,null,null,null,null,null,null,null,null,null,null,null,null,null,null,null,null,null,null,null,null,null,null,null,null,null,null,null,null,null,null,null,null,""]
[null,null,null,null,null,null,null,null,null,null,null,null,null,null,null,null,null,null,null,null,null,null,null,null,null,null,null,null,null,null,null,null,null,null,null,null,null,null,null,null,null,null,null,null,null,null,null,null,null,null,null,null,null,""]
[null,null,null,null,null,null,null,null,null,null,null,null,null,null,null,null,null,null,null,null,null,null,null,null,null,null,null,null,null,null,null,null,null,null,null,null,null,null,null,null,null,null,null,null,null,null,null,null,null,null,null,null,null,""]
[null,null,null,null,null,null,null,null,null,null,null,null,null,null,null,null,null,null,null,null,null,null,null,null,null,null,null,null,null,null,null,null,null,null,null,null,null,null,null,null,null,null,null,null,null,null,null,null,null,null,null,null,null,""]
[null,null,null,null,null,null,null,null,null,null,null,null,null,null,null,null,null,null,null,null,null,null,null,null,null,null,null,null,null,null,null,null,null,null,null,null,null,null,null,null,null,null,null,null,null,null,null,null,null,null,null,null,null,""]
[null,null,null,null,null,null,null,null,null,null,null,null,null,null,null,null,null,null,null,null,null,null,null,null,null,null,null,null,null,null,null,null,null,null,null,null,null,null,null,null,null,null,null,null,null,null,null,null,null,null,null,null,null,""]
[null,null,null,null,null,null,null,null,null,null,null,null,null,null,null,null,null,null,null,null,null,null,null,null,null,null,null,null,null,null,null,null,null,null,null,null,null,null,null,null,null,null,null,null,null,null,null,null,null,null,null,null,null,""]
[null,null,null,null,null,null,null,null,null,null,null,null,null,null,null,null,null,null,null,null,null,null,null,null,null,null,null,null,null,null,null,null,null,null,null,null,null,null,null,null,null,null,null,null,null,null,null,null,null,null,null,null,null,""]
[null,null,null,null,null,null,null,null,null,null,null,null,null,null,null,null,null,null,null,null,null,null,null,null,null,null,null,null,null,null,null,null,null,null,null,null,null,null,null,null,null,null,null,null,null,null,null,null,null,null,null,null,null,""]
[null,null,null,null,null,null,null,null,null,null,null,null,null,null,null,null,null,null,null,null,null,null,null,null,null,null,null,null,null,null,null,null,null,null,null,null,null,null,null,null,null,null,null,null,null,null,null,null,null,null,null,null,null,""]
[null,null,null,null,null,null,null,null,null,null,null,null,null,null,null,null,null,null,null,null,null,null,null,null,null,null,null,null,null,null,null,null,null,null,null,null,null,null,null,null,null,null,null,null,null,null,null,null,null,null,null,null,null,""]
[null,null,null,null,null,null,null,null,null,null,null,null,null,null,null,null,null,null,null,null,null,null,null,null,null,null,null,null,null,null,null,null,null,null,null,null,null,null,null,null,null,null,null,null,null,null,null,null,null,null,null,null,null,""]
[null,null,null,null,null,null,null,null,null,null,null,null,null,null,null,null,null,null,null,null,null,null,null,null,null,null,null,null,null,null,null,null,null,null,null,null,null,null,null,null,null,null,null,null,null,null,null,null,null,null,null,null,null,""]
[null,null,null,null,null,null,null,null,null,null,null,null,null,null,null,null,null,null,null,null,null,null,null,null,null,null,null,null,null,null,null,null,null,null,null,null,null,null,null,null,null,null,null,null,null,null,null,null,null,null,null,null,null,""]
[null,null,null,null,null,null,null,null,null,null,null,null,null,null,null,null,null,null,null,null,null,null,null,null,null,null,null,null,null,null,null,null,null,null,null,null,null,null,null,null,null,null,null,null,null,null,null,null,null,null,null,null,null,""]
[null,null,null,null,null,null,null,null,null,null,null,null,null,null,null,null,null,null,null,null,null,null,null,null,null,null,null,null,null,null,null,null,null,null,null,null,null,null,null,null,null,null,null,null,null,null,null,null,null,null,null,null,null,""]
[null,null,null,null,null,null,null,null,null,null,null,null,null,null,null,null,null,null,null,null,null,null,null,null,null,null,null,null,null,null,null,null,null,null,null,null,null,null,null,null,null,null,null,null,null,null,null,null,null,null,null,null,null,""]
[null,null,null,null,null,null,null,null,null,null,null,null,null,null,null,null,null,null,null,null,null,null,null,null,null,null,null,null,null,null,null,null,null,null,null,null,null,null,null,null,null,null,null,null,null,null,null,null,null,null,null,null,null,""]
[null,null,null,null,null,null,null,null,null,null,null,null,null,null,null,null,null,null,null,null,null,null,null,null,null,null,null,null,null,null,null,null,null,null,null,null,null,null,null,null,null,null,null,null,null,null,null,null,null,null,null,null,null,""]
[null,null,null,null,null,null,null,null,null,null,null,null,null,null,null,null,null,null,null,null,null,null,null,null,null,null,null,null,null,null,null,null,null,null,null,null,null,null,null,null,null,null,null,null,null,null,null,null,null,null,null,null,null,""]
[null,null,null,null,null,null,null,null,null,null,null,null,null,null,null,null,null,null,null,null,null,null,null,null,null,null,null,null,null,null,null,null,null,null,null,null,null,null,null,null,null,null,null,null,null,null,null,null,null,null,null,null,null,""]
[null,null,null,null,null,null,null,null,null,null,null,null,null,null,null,null,null,null,null,null,null,null,null,null,null,null,null,null,null,null,null,null,null,null,null,null,null,null,null,null,null,null,null,null,null,null,null,null,null,null,null,null,null,""]
[null,null,null,null,null,null,null,null,null,null,null,null,null,null,null,null,null,null,null,null,null,null,null,null,null,null,null,null,null,null,null,null,null,null,null,null,null,null,null,null,null,null,null,null,null,null,null,null,null,null,null,null,null,""]
[null,null,null,null,null,null,null,null,null,null,null,null,null,null,null,null,null,null,null,null,null,null,null,null,null,null,null,null,null,null,null,null,null,null,null,null,null,null,null,null,null,null,null,null,null,null,null,null,null,null,null,null,null,""]
[null,null,null,null,null,null,null,null,null,null,null,null,null,null,null,null,null,null,null,null,null,null,null,null,null,null,null,null,null,null,null,null,null,null,null,null,null,null,null,null,null,null,null,null,null,null,null,null,null,null,null,null,null,""]
[null,null,null,null,null,null,null,null,null,null,null,null,null,null,null,null,null,null,null,null,null,null,null,null,null,null,null,null,null,null,null,null,null,null,null,null,null,null,null,null,null,null,null,null,null,null,null,null,null,null,null,null,null,""]
[null,null,null,null,null,null,null,null,null,null,null,null,null,null,null,null,null,null,null,null,null,null,null,null,null,null,null,null,null,null,null,null,null,null,null,null,null,null,null,null,null,null,null,null,null,null,null,null,null,null,null,null,null,""]
[null,null,null,null,null,null,null,null,null,null,null,null,null,null,null,null,null,null,null,null,null,null,null,null,null,null,null,null,null,null,null,null,null,null,null,null,null,null,null,null,null,null,null,null,null,null,null,null,null,null,null,null,null,""]
[null,null,null,null,null,null,null,null,null,null,null,null,null,null,null,null,null,null,null,null,null,null,null,null,null,null,null,null,null,null,null,null,null,null,null,null,null,null,null,null,null,null,null,null,null,null,null,null,null,null,null,null,null,""]
[null,null,null,null,null,null,null,null,null,null,null,null,null,null,null,null,null,null,null,null,null,null,null,null,null,null,null,null,null,null,null,null,null,null,null,null,null,null,null,null,null,null,null,null,null,null,null,null,null,null,null,null,null,""]
[null,null,null,null,null,null,null,null,null,null,null,null,null,null,null,null,null,null,null,null,null,null,null,null,null,null,null,null,null,null,null,null,null,null,null,null,null,null,null,null,null,null,null,null,null,null,null,null,null,null,null,null,null,""]
[null,null,null,null,null,null,null,null,null,null,null,null,null,null,null,null,null,null,null,null,null,null,null,null,null,null,null,null,null,null,null,null,null,null,null,null,null,null,null,null,null,null,null,null,null,null,null,null,null,null,null,null,null,""]
[null,null,null,null,null,null,null,null,null,null,null,null,null,null,null,null,null,null,null,null,null,null,null,null,null,null,null,null,null,null,null,null,null,null,null,null,null,null,null,null,null,null,null,null,null,null,null,null,null,null,null,null,null,""]
[null,null,null,null,null,null,null,null,null,null,null,null,null,null,null,null,null,null,null,null,null,null,null,null,null,null,null,null,null,null,null,null,null,null,null,null,null,null,null,null,null,null,null,null,null,null,null,null,null,null,null,null,null,""]
[null,null,null,null,null,null,null,null,null,null,null,null,null,null,null,null,null,null,null,null,null,null,null,null,null,null,null,null,null,null,null,null,null,null,null,null,null,null,null,null,null,null,null,null,null,null,null,null,null,null,null,null,null,""]
[null,null,null,null,null,null,null,null,null,null,null,null,null,null,null,null,null,null,null,null,null,null,null,null,null,null,null,null,null,null,null,null,null,null,null,null,null,null,null,null,null,null,null,null,null,null,null,null,null,null,null,null,null,""]
[null,null,null,null,null,null,null,null,null,null,null,null,null,null,null,null,null,null,null,null,null,null,null,null,null,null,null,null,null,null,null,null,null,null,null,null,null,null,null,null,null,null,null,null,null,null,null,null,null,null,null,null,null,""]
[null,null,null,null,null,null,null,null,null,null,null,null,null,null,null,null,null,null,null,null,null,null,null,null,null,null,null,null,null,null,null,null,null,null,null,null,null,null,null,null,null,null,null,null,null,null,null,null,null,null,null,null,null,""]
[null,null,null,null,null,null,null,null,null,null,null,null,null,null,null,null,null,null,null,null,null,null,null,null,null,null,null,null,null,null,null,null,null,null,null,null,null,null,null,null,null,null,null,null,null,null,null,null,null,null,null,null,null,""]
[null,null,null,null,null,null,null,null,null,null,null,null,null,null,null,null,null,null,null,null,null,null,null,null,null,null,null,null,null,null,null,null,null,null,null,null,null,null,null,null,null,null,null,null,null,null,null,null,null,null,null,null,null,""]
[null,null,null,null,null,null,null,null,null,null,null,null,null,null,null,null,null,null,null,null,null,null,null,null,null,null,null,null,null,null,null,null,null,null,null,null,null,null,null,null,null,null,null,null,null,null,null,null,null,null,null,null,null,""]
[null,null,null,null,null,null,null,null,null,null,null,null,null,null,null,null,null,null,null,null,null,null,null,null,null,null,null,null,null,null,null,null,null,null,null,null,null,null,null,null,null,null,null,null,null,null,null,null,null,null,null,null,null,""]
[null,null,null,null,null,null,null,null,null,null,null,null,null,null,null,null,null,null,null,null,null,null,null,null,null,null,null,null,null,null,null,null,null,null,null,null,null,null,null,null,null,null,null,null,null,null,null,null,null,null,null,null,null,""]
[null,null,null,null,null,null,null,null,null,null,null,null,null,null,null,null,null,null,null,null,null,null,null,null,null,null,null,null,null,null,null,null,null,null,null,null,null,null,null,null,null,null,null,null,null,null,null,null,null,null,null,null,null,""]
[null,null,null,null,null,null,null,null,null,null,null,null,null,null,null,null,null,null,null,null,null,null,null,null,null,null,null,null,null,null,null,null,null,null,null,null,null,null,null,null,null,null,null,null,null,null,null,null,null,null,null,null,null,""]
[null,null,null,null,null,null,null,null,null,null,null,null,null,null,null,null,null,null,null,null,null,null,null,null,null,null,null,null,null,null,null,null,null,null,null,null,null,null,null,null,null,null,null,null,null,null,null,null,null,null,null,null,null,""]
[null,null,null,null,null,null,null,null,null,null,null,null,null,null,null,null,null,null,null,null,null,null,null,null,null,null,null,null,null,null,null,null,null,null,null,null,null,null,null,null,null,null,null,null,null,null,null,null,null,null,null,null,null,""]
[null,null,null,null,null,null,null,null,null,null,null,null,null,null,null,null,null,null,null,null,null,null,null,null,null,null,null,null,null,null,null,null,null,null,null,null,null,null,null,null,null,null,null,null,null,null,null,null,null,null,null,null,null,""]
[null,null,null,null,null,null,null,null,null,null,null,null,null,null,null,null,null,null,null,null,null,null,null,null,null,null,null,null,null,null,null,null,null,null,null,null,null,null,null,null,null,null,null,null,null,null,null,null,null,null,null,null,null,""]
[null,null,null,null,null,null,null,null,null,null,null,null,null,null,null,null,null,null,null,null,null,null,null,null,null,null,null,null,null,null,null,null,null,null,null,null,null,null,null,null,null,null,null,null,null,null,null,null,null,null,null,null,null,""]
[null,null,null,null,null,null,null,null,null,null,null,null,null,null,null,null,null,null,null,null,null,null,null,null,null,null,null,null,null,null,null,null,null,null,null,null,null,null,null,null,null,null,null,null,null,null,null,null,null,null,null,null,null,""]
[null,null,null,null,null,null,null,null,null,null,null,null,null,null,null,null,null,null,null,null,null,null,null,null,null,null,null,null,null,null,null,null,null,null,null,null,null,null,null,null,null,null,null,null,null,null,null,null,null,null,null,null,null,""]
[null,null,null,null,null,null,null,null,null,null,null,null,null,null,null,null,null,null,null,null,null,null,null,null,null,null,null,null,null,null,null,null,null,null,null,null,null,null,null,null,null,null,null,null,null,null,null,null,null,null,null,null,null,""]
[null,null,null,null,null,null,null,null,null,null,null,null,null,null,null,null,null,null,null,null,null,null,null,null,null,null,null,null,null,null,null,null,null,null,null,null,null,null,null,null,null,null,null,null,null,null,null,null,null,null,null,null,null,""]
[null,null,null,null,null,null,null,null,null,null,null,null,null,null,null,null,null,null,null,null,null,null,null,null,null,null,null,null,null,null,null,null,null,null,null,null,null,null,null,null,null,null,null,null,null,null,null,null,null,null,null,null,null,{"$f":"H451&M451&L451","v":""}]
[null,null,null,null,null,null,null,null,null,null,null,null,null,null,null,null,null,null,null,null,null,null,null,null,null,null,null,null,null,null,null,null,null,null,null,null,null,null,null,null,null,null,null,null,null,null,null,null,null,null,null,null,null,""]
[null,null,null,null,null,null,null,null,null,null,null,null,null,null,null,null,null,null,null,null,null,null,null,null,null,null,null,null,null,null,null,null,null,null,null,null,null,null,null,null,null,null,null,null,null,null,null,null,null,null,null,null,null,""]
[null,null,null,null,null,null,null,null,null,null,null,null,null,null,null,null,null,null,null,null,null,null,null,null,null,null,null,null,null,null,null,null,null,null,null,null,null,null,null,null,null,null,null,null,null,null,null,null,null,null,null,null,null,""]
[null,null,null,null,null,null,null,null,null,null,null,null,null,null,null,null,null,null,null,null,null,null,null,null,null,null,null,null,null,null,null,null,null,null,null,null,null,null,null,null,null,null,null,null,null,null,null,null,null,null,null,null,null,""]
[null,null,null,null,null,null,null,null,null,null,null,null,null,null,null,null,null,null,null,null,null,null,null,null,null,null,null,null,null,null,null,null,null,null,null,null,null,null,null,null,null,null,null,null,null,null,null,null,null,null,null,null,null,""]
[null,null,null,null,null,null,null,null,null,null,null,null,null,null,null,null,null,null,null,null,null,null,null,null,null,null,null,null,null,null,null,null,null,null,null,null,null,null,null,null,null,null,null,null,null,null,null,null,null,null,null,null,null,""]
[null,null,null,null,null,null,null,null,null,null,null,null,null,null,null,null,null,null,null,null,null,null,null,null,null,null,null,null,null,null,null,null,null,null,null,null,null,null,null,null,null,null,null,null,null,null,null,null,null,null,null,null,null,""]

{"sheet":"Liste","index":2,"n_rows":38,"n_cols":7,"rows_kept":38,"cut":false,"hidden":true,"merged":[]}
["Liste des bancs",null,"Service maintenance","MDP","Fiche d'intervention","BDD","Liste"]
["Banc P1",null,"Christophe Gauvin","Christophe","X","X","X"]
["Banc P2",null,"David Garcia","motdepasse","X","X"]
["Banc PowerTrain",null,"Alexandre Delaunay",123456,"X","X"]
["Banc P5",null,"Jonhathan Boucher","changer","X","X"]
["Banc P7",null,"Thibault Hemart","Changer2016","X","X"]
["Banc P9",null,"Romain Dehan",940606,"X","X","X"]
["Banc nouveau P9",null,"Visiteur"]
["Banc HP"]
["Banc Cisaillement"]
["Banc 007"]
["Banc 008"]
["Banc 101"]
["Banc 104"]
["Banc 111"]
["Banc 113"]
["Banc 115"]
["Banc 117"]
["Banc 117 bis"]
["Banc 119"]
["Banc 120"]
["Banc 120 bis"]
["Banc 121"]
["Banc 123"]
["Banc 124"]
["Banc 124 bis"]
["Banc 125"]
["Banc 126"]
["Banc 128"]
["Banc 129"]
["Banc 131"]
["Chambre sourde"]
["Banc 145"]
["Banc 156"]
["Chambre froide"]
["Banc W+B"]
["Ressort verticale"]
["Pompe à eau"]

{"sheet":"Indicateur Zone5","index":3,"n_rows":10,"n_cols":13,"rows_kept":10,"cut":false,"hidden":false,"merged":[[1,1,1,12]]}
[]
[null,"Suivi des arrêts par banA"]
["Banc zone 5","Janvier","Février","Mars","Avril","Mai","Juin","Juillet","Août","Septembre","Octobre","Novembre","Décembre"]
["Banc 124",{"$f":"SUMIF(BDD!$H$2:$H$685,'Indicateur Zone5'!$A$4,BDD!$V$2:$V$685)","v":0},{"$f":"SUMIF(BDD!$H$2:$H$685,'Indicateur Zone5'!$A$4,BDD!$V$2:$V$685)","v":0},{"$f":"SUMIF(BDD!$H$2:$H$685,'Indicateur Zone5'!$A$4,BDD!$V$2:$V$685)","v":0},{"$f":"SUMIF(BDD!$H$2:$H$685,'Indicateur Zone5'!$A$4,BDD!$V$2:$V$685)","v":0},{"$f":"SUMIF(BDD!$H$2:$H$685,'Indicateur Zone5'!$A$4,BDD!$V$2:$V$685)","v":0},{"$f":"SUMIF(BDD!$H$2:$H$685,'Indicateur Zone5'!$A$4,BDD!$V$2:$V$685)","v":0},{"$f":"SUMIF(BDD!$H$2:$H$685,'Indicateur Zone5'!$A$4,BDD!$V$2:$V$685)","v":0},{"$f":"SUMIF(BDD!$H$2:$H$685,'Indicateur Zone5'!$A$4,BDD!$V$2:$V$685)","v":0},{"$f":"SUMIF(BDD!$H$2:$H$685,'Indicateur Zone5'!$A$4,BDD!$V$2:$V$685)","v":0},{"$f":"SUMIF(BDD!$H$2:$H$685,'Indicateur Zone5'!$A$4,BDD!$V$2:$V$685)","v":0},{"$f":"SUMIF(BDD!$H$2:$H$685,'Indicateur Zone5'!$A$4,BDD!$V$2:$V$685)","v":0},{"$f":"SUMIF(BDD!$H$2:$H$685,'Indicateur Zone5'!$A$4,BDD!$V$2:$V$685)","v":0}]
["Banc 124 bis",{"$f":"SUMIF(BDD!$H$2:$H$685,'Indicateur Zone5'!$A$5,BDD!$V$2:$V$685)","v":0},{"$f":"SUMIF(BDD!$H$2:$H$685,'Indicateur Zone5'!$A$5,BDD!$V$2:$V$685)","v":0},{"$f":"SUMIF(BDD!$H$2:$H$685,'Indicateur Zone5'!$A$5,BDD!$V$2:$V$685)","v":0},{"$f":"SUMIF(BDD!$H$2:$H$685,'Indicateur Zone5'!$A$5,BDD!$V$2:$V$685)","v":0},{"$f":"SUMIF(BDD!$H$2:$H$685,'Indicateur Zone5'!$A$5,BDD!$V$2:$V$685)","v":0},{"$f":"SUMIF(BDD!$H$2:$H$685,'Indicateur Zone5'!$A$5,BDD!$V$2:$V$685)","v":0},{"$f":"SUMIF(BDD!$H$2:$H$685,'Indicateur Zone5'!$A$5,BDD!$V$2:$V$685)","v":0},{"$f":"SUMIF(BDD!$H$2:$H$685,'Indicateur Zone5'!$A$5,BDD!$V$2:$V$685)","v":0},{"$f":"SUMIF(BDD!$H$2:$H$685,'Indicateur Zone5'!$A$5,BDD!$V$2:$V$685)","v":0},{"$f":"SUMIF(BDD!$H$2:$H$685,'Indicateur Zone5'!$A$5,BDD!$V$2:$V$685)","v":0},{"$f":"SUMIF(BDD!$H$2:$H$685,'Indicateur Zone5'!$A$5,BDD!$V$2:$V$685)","v":0},{"$f":"SUMIF(BDD!$H$2:$H$685,'Indicateur Zone5'!$A$5,BDD!$V$2:$V$685)","v":0}]
["Banc 145",{"$f":"SUMIF(BDD!$H$2:$H$685,'Indicateur Zone5'!$A$6,BDD!$V$2:$V$685)","v":0},{"$f":"SUMIF(BDD!$H$2:$H$685,'Indicateur Zone5'!$A$6,BDD!$V$2:$V$685)","v":0},{"$f":"SUMIF(BDD!$H$2:$H$685,'Indicateur Zone5'!$A$6,BDD!$V$2:$V$685)","v":0},{"$f":"SUMIF(BDD!$H$2:$H$685,'Indicateur Zone5'!$A$6,BDD!$V$2:$V$685)","v":0},{"$f":"SUMIF(BDD!$H$2:$H$685,'Indicateur Zone5'!$A$6,BDD!$V$2:$V$685)","v":0},{"$f":"SUMIF(BDD!$H$2:$H$685,'Indicateur Zone5'!$A$6,BDD!$V$2:$V$685)","v":0},{"$f":"SUMIF(BDD!$H$2:$H$685,'Indicateur Zone5'!$A$6,BDD!$V$2:$V$685)","v":0},{"$f":"SUMIF(BDD!$H$2:$H$685,'Indicateur Zone5'!$A$6,BDD!$V$2:$V$685)","v":0},{"$f":"SUMIF(BDD!$H$2:$H$685,'Indicateur Zone5'!$A$6,BDD!$V$2:$V$685)","v":0},{"$f":"SUMIF(BDD!$H$2:$H$685,'Indicateur Zone5'!$A$6,BDD!$V$2:$V$685)","v":0},{"$f":"SUMIF(BDD!$H$2:$H$685,'Indicateur Zone5'!$A$6,BDD!$V$2:$V$685)","v":0},{"$f":"SUMIF(BDD!$H$2:$H$685,'Indicateur Zone5'!$A$6,BDD!$V$2:$V$685)","v":0}]
["Banc cisaillement",{"$f":"SUMIF(BDD!$H$2:$H$685,'Indicateur Zone5'!$A$7,BDD!$V$2:$V$685)","v":0},{"$f":"SUMIF(BDD!$H$2:$H$685,'Indicateur Zone5'!$A$7,BDD!$V$2:$V$685)","v":0},{"$f":"SUMIF(BDD!$H$2:$H$685,'Indicateur Zone5'!$A$7,BDD!$V$2:$V$685)","v":0},{"$f":"SUMIF(BDD!$H$2:$H$685,'Indicateur Zone5'!$A$7,BDD!$V$2:$V$685)","v":0},{"$f":"SUMIF(BDD!$H$2:$H$685,'Indicateur Zone5'!$A$7,BDD!$V$2:$V$685)","v":0},{"$f":"SUMIF(BDD!$H$2:$H$685,'Indicateur Zone5'!$A$7,BDD!$V$2:$V$685)","v":0},{"$f":"SUMIF(BDD!$H$2:$H$685,'Indicateur Zone5'!$A$7,BDD!$V$2:$V$685)","v":0},{"$f":"SUMIF(BDD!$H$2:$H$685,'Indicateur Zone5'!$A$7,BDD!$V$2:$V$685)","v":0},{"$f":"SUMIF(BDD!$H$2:$H$685,'Indicateur Zone5'!$A$7,BDD!$V$2:$V$685)","v":0},{"$f":"SUMIF(BDD!$H$2:$H$685,'Indicateur Zone5'!$A$7,BDD!$V$2:$V$685)","v":0},{"$f":"SUMIF(BDD!$H$2:$H$685,'Indicateur Zone5'!$A$7,BDD!$V$2:$V$685)","v":0},{"$f":"SUMIF(BDD!$H$2:$H$685,'Indicateur Zone5'!$A$7,BDD!$V$2:$V$685)","v":0}]
["Banc HP",{"$f":"SUMIF(BDD!$H$2:$H$685,'Indicateur Zone5'!$A$8,BDD!$V$2:$V$685)","v":0},{"$f":"SUMIF(BDD!$H$2:$H$685,'Indicateur Zone5'!$A$8,BDD!$V$2:$V$685)","v":0},{"$f":"SUMIF(BDD!$H$2:$H$685,'Indicateur Zone5'!$A$8,BDD!$V$2:$V$685)","v":0},{"$f":"SUMIF(BDD!$H$2:$H$685,'Indicateur Zone5'!$A$8,BDD!$V$2:$V$685)","v":0},{"$f":"SUMIF(BDD!$H$2:$H$685,'Indicateur Zone5'!$A$8,BDD!$V$2:$V$685)","v":0},{"$f":"SUMIF(BDD!$H$2:$H$685,'Indicateur Zone5'!$A$8,BDD!$V$2:$V$685)","v":0},{"$f":"SUMIF(BDD!$H$2:$H$685,'Indicateur Zone5'!$A$8,BDD!$V$2:$V$685)","v":0},{"$f":"SUMIF(BDD!$H$2:$H$685,'Indicateur Zone5'!$A$8,BDD!$V$2:$V$685)","v":0},{"$f":"SUMIF(BDD!$H$2:$H$685,'Indicateur Zone5'!$A$8,BDD!$V$2:$V$685)","v":0},{"$f":"SUMIF(BDD!$H$2:$H$685,'Indicateur Zone5'!$A$8,BDD!$V$2:$V$685)","v":0},{"$f":"SUMIF(BDD!$H$2:$H$685,'Indicateur Zone5'!$A$8,BDD!$V$2:$V$685)","v":0},{"$f":"SUMIF(BDD!$H$2:$H$685,'Indicateur Zone5'!$A$8,BDD!$V$2:$V$685)","v":0}]
["Banc W+B",{"$f":"SUMIF(BDD!$H$2:$H$685,'Indicateur Zone5'!$A$9,BDD!$V$2:$V$685)","v":0},{"$f":"SUMIF(BDD!$H$2:$H$685,'Indicateur Zone5'!$A$9,BDD!$V$2:$V$685)","v":0},{"$f":"SUMIF(BDD!$H$2:$H$685,'Indicateur Zone5'!$A$9,BDD!$V$2:$V$685)","v":0},{"$f":"SUMIF(BDD!$H$2:$H$685,'Indicateur Zone5'!$A$9,BDD!$V$2:$V$685)","v":0},{"$f":"SUMIF(BDD!$H$2:$H$685,'Indicateur Zone5'!$A$9,BDD!$V$2:$V$685)","v":0},{"$f":"SUMIF(BDD!$H$2:$H$685,'Indicateur Zone5'!$A$9,BDD!$V$2:$V$685)","v":0},{"$f":"SUMIF(BDD!$H$2:$H$685,'Indicateur Zone5'!$A$9,BDD!$V$2:$V$685)","v":0},{"$f":"SUMIF(BDD!$H$2:$H$685,'Indicateur Zone5'!$A$9,BDD!$V$2:$V$685)","v":0},{"$f":"SUMIF(BDD!$H$2:$H$685,'Indicateur Zone5'!$A$9,BDD!$V$2:$V$685)","v":0},{"$f":"SUMIF(BDD!$H$2:$H$685,'Indicateur Zone5'!$A$9,BDD!$V$2:$V$685)","v":0},{"$f":"SUMIF(BDD!$H$2:$H$685,'Indicateur Zone5'!$A$9,BDD!$V$2:$V$685)","v":0},{"$f":"SUMIF(BDD!$H$2:$H$685,'Indicateur Zone5'!$A$9,BDD!$V$2:$V$685)","v":0}]
["Ressort verticale",{"$f":"SUMIF(BDD!$H$2:$H$685,'Indicateur Zone5'!$A$10,BDD!$V$2:$V$685)","v":0},{"$f":"SUMIF(BDD!$H$2:$H$685,'Indicateur Zone5'!$A$10,BDD!$V$2:$V$685)","v":0},{"$f":"SUMIF(BDD!$H$2:$H$685,'Indicateur Zone5'!$A$10,BDD!$V$2:$V$685)","v":0},{"$f":"SUMIF(BDD!$H$2:$H$685,'Indicateur Zone5'!$A$10,BDD!$V$2:$V$685)","v":0},{"$f":"SUMIF(BDD!$H$2:$H$685,'Indicateur Zone5'!$A$10,BDD!$V$2:$V$685)","v":0},{"$f":"SUMIF(BDD!$H$2:$H$685,'Indicateur Zone5'!$A$10,BDD!$V$2:$V$685)","v":0},{"$f":"SUMIF(BDD!$H$2:$H$685,'Indicateur Zone5'!$A$10,BDD!$V$2:$V$685)","v":0},{"$f":"SUMIF(BDD!$H$2:$H$685,'Indicateur Zone5'!$A$10,BDD!$V$2:$V$685)","v":0},{"$f":"SUMIF(BDD!$H$2:$H$685,'Indicateur Zone5'!$A$10,BDD!$V$2:$V$685)","v":0},{"$f":"SUMIF(BDD!$H$2:$H$685,'Indicateur Zone5'!$A$10,BDD!$V$2:$V$685)","v":0},{"$f":"SUMIF(BDD!$H$2:$H$685,'Indicateur Zone5'!$A$10,BDD!$V$2:$V$685)","v":0},{"$f":"SUMIF(BDD!$H$2:$H$685,'Indicateur Zone5'!$A$10,BDD!$V$2:$V$685)","v":0}]

{"sheet":"Indicateur Zone6","index":4,"n_rows":9,"n_cols":13,"rows_kept":9,"cut":false,"hidden":false,"merged":[[1,1,1,12]]}
[]
[null,"Suivi des arrêts par banc"]
["Banc zone 6","Janvier","Février","Mars","Avril","Mai","Juin","Juillet","Août","Septembre","Octobre","Novembre","Décembre"]
["Banc nouveau P9",{"$f":"SUMIF(BDD!$H$2:$H$685,'Indicateur Zone6'!$A$4,BDD!$V$2:$V$685)","v":64},{"$f":"SUMIF(BDD!$H$2:$H$685,'Indicateur Zone6'!$A$4,BDD!$V$2:$V$685)","v":64},{"$f":"SUMIF(BDD!$H$2:$H$685,'Indicateur Zone6'!$A$4,BDD!$V$2:$V$685)","v":64},{"$f":"SUMIF(BDD!$H$2:$H$685,'Indicateur Zone6'!$A$4,BDD!$V$2:$V$685)","v":64},{"$f":"SUMIF(BDD!$H$2:$H$685,'Indicateur Zone6'!$A$4,BDD!$V$2:$V$685)","v":64},{"$f":"SUMIF(BDD!$H$2:$H$685,'Indicateur Zone6'!$A$4,BDD!$V$2:$V$685)","v":64},{"$f":"SUMIF(BDD!$H$2:$H$685,'Indicateur Zone6'!$A$4,BDD!$V$2:$V$685)","v":64},{"$f":"SUMIF(BDD!$H$2:$H$685,'Indicateur Zone6'!$A$4,BDD!$V$2:$V$685)","v":64},{"$f":"SUMIF(BDD!$H$2:$H$685,'Indicateur Zone6'!$A$4,BDD!$V$2:$V$685)","v":64},{"$f":"SUMIF(BDD!$H$2:$H$685,'Indicateur Zone6'!$A$4,BDD!$V$2:$V$685)","v":64},{"$f":"SUMIF(BDD!$H$2:$H$685,'Indicateur Zone6'!$A$4,BDD!$V$2:$V$685)","v":64},{"$f":"SUMIF(BDD!$H$2:$H$685,'Indicateur Zone6'!$A$4,BDD!$V$2:$V$685)","v":64}]
["Banc P1",{"$f":"SUMIF(BDD!$H$2:$H$685,'Indicateur Zone6'!$A$5,BDD!$V$2:$V$685)","v":57},{"$f":"SUMIF(BDD!$H$2:$H$685,'Indicateur Zone6'!$A$5,BDD!$V$2:$V$685)","v":57},{"$f":"SUMIF(BDD!$H$2:$H$685,'Indicateur Zone6'!$A$5,BDD!$V$2:$V$685)","v":57},{"$f":"SUMIF(BDD!$H$2:$H$685,'Indicateur Zone6'!$A$5,BDD!$V$2:$V$685)","v":57},{"$f":"SUMIF(BDD!$H$2:$H$685,'Indicateur Zone6'!$A$5,BDD!$V$2:$V$685)","v":57},{"$f":"SUMIF(BDD!$H$2:$H$685,'Indicateur Zone6'!$A$5,BDD!$V$2:$V$685)","v":57},{"$f":"SUMIF(BDD!$H$2:$H$685,'Indicateur Zone6'!$A$5,BDD!$V$2:$V$685)","v":57},{"$f":"SUMIF(BDD!$H$2:$H$685,'Indicateur Zone6'!$A$5,BDD!$V$2:$V$685)","v":57},{"$f":"SUMIF(BDD!$H$2:$H$685,'Indicateur Zone6'!$A$5,BDD!$V$2:$V$685)","v":57},{"$f":"SUMIF(BDD!$H$2:$H$685,'Indicateur Zone6'!$A$5,BDD!$V$2:$V$685)","v":57},{"$f":"SUMIF(BDD!$H$2:$H$685,'Indicateur Zone6'!$A$5,BDD!$V$2:$V$685)","v":57},{"$f":"SUMIF(BDD!$H$2:$H$685,'Indicateur Zone6'!$A$5,BDD!$V$2:$V$685)","v":57}]
["Banc P2",{"$f":"SUMIF(BDD!$H$2:$H$685,'Indicateur Zone6'!$A$6,BDD!$V$2:$V$685)","v":57},{"$f":"SUMIF(BDD!$H$2:$H$685,'Indicateur Zone6'!$A$6,BDD!$V$2:$V$685)","v":57},{"$f":"SUMIF(BDD!$H$2:$H$685,'Indicateur Zone6'!$A$6,BDD!$V$2:$V$685)","v":57},{"$f":"SUMIF(BDD!$H$2:$H$685,'Indicateur Zone6'!$A$6,BDD!$V$2:$V$685)","v":57},{"$f":"SUMIF(BDD!$H$2:$H$685,'Indicateur Zone6'!$A$6,BDD!$V$2:$V$685)","v":57},{"$f":"SUMIF(BDD!$H$2:$H$685,'Indicateur Zone6'!$A$6,BDD!$V$2:$V$685)","v":57},{"$f":"SUMIF(BDD!$H$2:$H$685,'Indicateur Zone6'!$A$6,BDD!$V$2:$V$685)","v":57},{"$f":"SUMIF(BDD!$H$2:$H$685,'Indicateur Zone6'!$A$6,BDD!$V$2:$V$685)","v":57},{"$f":"SUMIF(BDD!$H$2:$H$685,'Indicateur Zone6'!$A$6,BDD!$V$2:$V$685)","v":57},{"$f":"SUMIF(BDD!$H$2:$H$685,'Indicateur Zone6'!$A$6,BDD!$V$2:$V$685)","v":57},{"$f":"SUMIF(BDD!$H$2:$H$685,'Indicateur Zone6'!$A$6,BDD!$V$2:$V$685)","v":57},{"$f":"SUMIF(BDD!$H$2:$H$685,'Indicateur Zone6'!$A$6,BDD!$V$2:$V$685)","v":57}]
["Banc 156",{"$f":"SUMIF(BDD!$H$2:$H$685,'Indicateur Zone6'!$A$7,BDD!$V$2:$V$685)","v":111},{"$f":"SUMIF(BDD!$H$2:$H$685,'Indicateur Zone6'!$A$7,BDD!$V$2:$V$685)","v":111},{"$f":"SUMIF(BDD!$H$2:$H$685,'Indicateur Zone6'!$A$7,BDD!$V$2:$V$685)","v":111},{"$f":"SUMIF(BDD!$H$2:$H$685,'Indicateur Zone6'!$A$7,BDD!$V$2:$V$685)","v":111},{"$f":"SUMIF(BDD!$H$2:$H$685,'Indicateur Zone6'!$A$7,BDD!$V$2:$V$685)","v":111},{"$f":"SUMIF(BDD!$H$2:$H$685,'Indicateur Zone6'!$A$7,BDD!$V$2:$V$685)","v":111},{"$f":"SUMIF(BDD!$H$2:$H$685,'Indicateur Zone6'!$A$7,BDD!$V$2:$V$685)","v":111},{"$f":"SUMIF(BDD!$H$2:$H$685,'Indicateur Zone6'!$A$7,BDD!$V$2:$V$685)","v":111},{"$f":"SUMIF(BDD!$H$2:$H$685,'Indicateur Zone6'!$A$7,BDD!$V$2:$V$685)","v":111},{"$f":"SUMIF(BDD!$H$2:$H$685,'Indicateur Zone6'!$A$7,BDD!$V$2:$V$685)","v":111},{"$f":"SUMIF(BDD!$H$2:$H$685,'Indicateur Zone6'!$A$7,BDD!$V$2:$V$685)","v":111},{"$f":"SUMIF(BDD!$H$2:$H$685,'Indicateur Zone6'!$A$7,BDD!$V$2:$V$685)","v":111}]
["Chambre Froide",{"$f":"SUMIF(BDD!$H$2:$H$685,'Indicateur Zone6'!$A$8,BDD!$V$2:$V$685)","v":43},{"$f":"SUMIF(BDD!$H$2:$H$685,'Indicateur Zone6'!$A$8,BDD!$V$2:$V$685)","v":43},{"$f":"SUMIF(BDD!$H$2:$H$685,'Indicateur Zone6'!$A$8,BDD!$V$2:$V$685)","v":43},{"$f":"SUMIF(BDD!$H$2:$H$685,'Indicateur Zone6'!$A$8,BDD!$V$2:$V$685)","v":43},{"$f":"SUMIF(BDD!$H$2:$H$685,'Indicateur Zone6'!$A$8,BDD!$V$2:$V$685)","v":43},{"$f":"SUMIF(BDD!$H$2:$H$685,'Indicateur Zone6'!$A$8,BDD!$V$2:$V$685)","v":43},{"$f":"SUMIF(BDD!$H$2:$H$685,'Indicateur Zone6'!$A$8,BDD!$V$2:$V$685)","v":43},{"$f":"SUMIF(BDD!$H$2:$H$685,'Indicateur Zone6'!$A$8,BDD!$V$2:$V$685)","v":43},{"$f":"SUMIF(BDD!$H$2:$H$685,'Indicateur Zone6'!$A$8,BDD!$V$2:$V$685)","v":43},{"$f":"SUMIF(BDD!$H$2:$H$685,'Indicateur Zone6'!$A$8,BDD!$V$2:$V$685)","v":43},{"$f":"SUMIF(BDD!$H$2:$H$685,'Indicateur Zone6'!$A$8,BDD!$V$2:$V$685)","v":43},{"$f":"SUMIF(BDD!$H$2:$H$685,'Indicateur Zone6'!$A$8,BDD!$V$2:$V$685)","v":43}]
["Chambre Sourde",{"$f":"SUMIF(BDD!$H$2:$H$685,'Indicateur Zone6'!$A$9,BDD!$V$2:$V$685)","v":41},{"$f":"SUMIF(BDD!$H$2:$H$685,'Indicateur Zone6'!$A$9,BDD!$V$2:$V$685)","v":41},{"$f":"SUMIF(BDD!$H$2:$H$685,'Indicateur Zone6'!$A$9,BDD!$V$2:$V$685)","v":41},{"$f":"SUMIF(BDD!$H$2:$H$685,'Indicateur Zone6'!$A$9,BDD!$V$2:$V$685)","v":41},{"$f":"SUMIF(BDD!$H$2:$H$685,'Indicateur Zone6'!$A$9,BDD!$V$2:$V$685)","v":41},{"$f":"SUMIF(BDD!$H$2:$H$685,'Indicateur Zone6'!$A$9,BDD!$V$2:$V$685)","v":41},{"$f":"SUMIF(BDD!$H$2:$H$685,'Indicateur Zone6'!$A$9,BDD!$V$2:$V$685)","v":41},{"$f":"SUMIF(BDD!$H$2:$H$685,'Indicateur Zone6'!$A$9,BDD!$V$2:$V$685)","v":41},{"$f":"SUMIF(BDD!$H$2:$H$685,'Indicateur Zone6'!$A$9,BDD!$V$2:$V$685)","v":41},{"$f":"SUMIF(BDD!$H$2:$H$685,'Indicateur Zone6'!$A$9,BDD!$V$2:$V$685)","v":41},{"$f":"SUMIF(BDD!$H$2:$H$685,'Indicateur Zone6'!$A$9,BDD!$V$2:$V$685)","v":41},{"$f":"SUMIF(BDD!$H$2:$H$685,'Indicateur Zone6'!$A$9,BDD!$V$2:$V$685)","v":41}]

{"sheet":"Indicateur Zone8","index":5,"n_rows":97,"n_cols":73,"rows_kept":97,"cut":false,"hidden":false,"merged":[[1,1,1,12],[30,1,30,12],[54,1,54,12],[55,1,55,2],[55,3,55,4],[55,5,55,6],[55,7,55,8],[55,9,55,10],[55,11,55,12],[55,23,55,24],[86,1,86,21],[87,1,87,6],[87,7,87,12],[87,13,87,18],[87,19,87,24],[55,13,55,14],[55,15,55,16],[55,17,55,18],[55,19,55,20],[55,21,55,22],[87,25,87,30],[87,31,87,36],[87,37,87,42],[87,43,87,48],[87,49,87,54],[87,55,87,60],[87,61,87,66],[87,67,87,72],[88,1,88,3],[88,4,88,6],[88,7,88,9],[88,10,88,12],[88,13,88,15],[88,16,88,18],[88,19,88,21],[88,22,88,24],[88,25,88,27],[88,28,88,30],[88,31,88,33],[88,34,88,36],[88,37,88,39],[88,40,88,42],[88,43,88,45],[88,46,88,48],[88,49,88,51],[88,52,88,54],[88,70,88,72],[88,55,88,57],[88,58,88,60],[88,61,88,63],[88,64,88,66],[88,67,88,69]]}
[]
[null,"Suivi des arrêts par banc"]
["Banc zone 8","Janvier","Février","Mars","Avril","Mai","Juin","Juillet","Août","Septembre","Octobre","Novembre","Décembre"]
["Banc P5",{"$f":"SUMIF(BDD!$H$2:$H$685,'Indicateur Zone8'!$A$4,BDD!$V$2:$V$685)","v":8},{"$f":"SUMIF(BDD!$H$2:$H$685,'Indicateur Zone8'!$A$4,BDD!$V$2:$V$685)","v":8},{"$f":"SUMIF(BDD!$H$2:$H$685,'Indicateur Zone8'!$A$4,BDD!$V$2:$V$685)","v":8},{"$f":"SUMIF(BDD!$H$2:$H$685,'Indicateur Zone8'!$A$4,BDD!$V$2:$V$685)","v":8},{"$f":"SUMIF(BDD!$H$2:$H$685,'Indicateur Zone8'!$A$4,BDD!$V$2:$V$685)","v":8},{"$f":"SUMIF(BDD!$H$2:$H$685,'Indicateur Zone8'!$A$4,BDD!$V$2:$V$685)","v":8},{"$f":"SUMIF(BDD!$H$2:$H$685,'Indicateur Zone8'!$A$4,BDD!$V$2:$V$685)","v":8},{"$f":"SUMIF(BDD!$H$2:$H$685,'Indicateur Zone8'!$A$4,BDD!$V$2:$V$685)","v":8},{"$f":"SUMIF(BDD!$H$2:$H$685,'Indicateur Zone8'!$A$4,BDD!$V$2:$V$685)","v":8},{"$f":"SUMIF(BDD!$H$2:$H$685,'Indicateur Zone8'!$A$4,BDD!$V$2:$V$685)","v":8},{"$f":"SUMIF(BDD!$H$2:$H$685,'Indicateur Zone8'!$A$4,BDD!$V$2:$V$685)","v":8},{"$f":"SUMIF(BDD!$H$2:$H$685,'Indicateur Zone8'!$A$4,BDD!$V$2:$V$685)","v":8}]
["Banc P7",{"$f":"SUMIF(BDD!$H$2:$H$685,'Indicateur Zone8'!$A$5,BDD!$V$2:$V$685)","v":58},{"$f":"SUMIF(BDD!$H$2:$H$685,'Indicateur Zone8'!$A$5,BDD!$V$2:$V$685)","v":58},{"$f":"SUMIF(BDD!$H$2:$H$685,'Indicateur Zone8'!$A$5,BDD!$V$2:$V$685)","v":58},{"$f":"SUMIF(BDD!$H$2:$H$685,'Indicateur Zone8'!$A$5,BDD!$V$2:$V$685)","v":58},{"$f":"SUMIF(BDD!$H$2:$H$685,'Indicateur Zone8'!$A$5,BDD!$V$2:$V$685)","v":58},{"$f":"SUMIF(BDD!$H$2:$H$685,'Indicateur Zone8'!$A$5,BDD!$V$2:$V$685)","v":58},{"$f":"SUMIF(BDD!$H$2:$H$685,'Indicateur Zone8'!$A$5,BDD!$V$2:$V$685)","v":58},{"$f":"SUMIF(BDD!$H$2:$H$685,'Indicateur Zone8'!$A$5,BDD!$V$2:$V$685)","v":58},{"$f":"SUMIF(BDD!$H$2:$H$685,'Indicateur Zone8'!$A$5,BDD!$V$2:$V$685)","v":58},{"$f":"SUMIF(BDD!$H$2:$H$685,'Indicateur Zone8'!$A$5,BDD!$V$2:$V$685)","v":58},{"$f":"SUMIF(BDD!$H$2:$H$685,'Indicateur Zone8'!$A$5,BDD!$V$2:$V$685)","v":58},{"$f":"SUMIF(BDD!$H$2:$H$685,'Indicateur Zone8'!$A$5,BDD!$V$2:$V$685)","v":58}]
["Banc 101",{"$f":"SUMIF(BDD!$H$2:$H$685,'Indicateur Zone8'!$A$6,BDD!$V$2:$V$685)","v":23},{"$f":"SUMIF(BDD!$H$2:$H$685,'Indicateur Zone8'!$A$6,BDD!$V$2:$V$685)","v":23},{"$f":"SUMIF(BDD!$H$2:$H$685,'Indicateur Zone8'!$A$6,BDD!$V$2:$V$685)","v":23},{"$f":"SUMIF(BDD!$H$2:$H$685,'Indicateur Zone8'!$A$6,BDD!$V$2:$V$685)","v":23},{"$f":"SUMIF(BDD!$H$2:$H$685,'Indicateur Zone8'!$A$6,BDD!$V$2:$V$685)","v":23},{"$f":"SUMIF(BDD!$H$2:$H$685,'Indicateur Zone8'!$A$6,BDD!$V$2:$V$685)","v":23},{"$f":"SUMIF(BDD!$H$2:$H$685,'Indicateur Zone8'!$A$6,BDD!$V$2:$V$685)","v":23},{"$f":"SUMIF(BDD!$H$2:$H$685,'Indicateur Zone8'!$A$6,BDD!$V$2:$V$685)","v":23},{"$f":"SUMIF(BDD!$H$2:$H$685,'Indicateur Zone8'!$A$6,BDD!$V$2:$V$685)","v":23},{"$f":"SUMIF(BDD!$H$2:$H$685,'Indicateur Zone8'!$A$6,BDD!$V$2:$V$685)","v":23},{"$f":"SUMIF(BDD!$H$2:$H$685,'Indicateur Zone8'!$A$6,BDD!$V$2:$V$685)","v":23},{"$f":"SUMIF(BDD!$H$2:$H$685,'Indicateur Zone8'!$A$6,BDD!$V$2:$V$685)","v":23}]
["Banc 104",{"$f":"SUMIF(BDD!$H$2:$H$685,'Indicateur Zone8'!$A$7,BDD!$V$2:$V$685)","v":13},{"$f":"SUMIF(BDD!$H$2:$H$685,'Indicateur Zone8'!$A$7,BDD!$V$2:$V$685)","v":13},{"$f":"SUMIF(BDD!$H$2:$H$685,'Indicateur Zone8'!$A$7,BDD!$V$2:$V$685)","v":13},{"$f":"SUMIF(BDD!$H$2:$H$685,'Indicateur Zone8'!$A$7,BDD!$V$2:$V$685)","v":13},{"$f":"SUMIF(BDD!$H$2:$H$685,'Indicateur Zone8'!$A$7,BDD!$V$2:$V$685)","v":13},{"$f":"SUMIF(BDD!$H$2:$H$685,'Indicateur Zone8'!$A$7,BDD!$V$2:$V$685)","v":13},{"$f":"SUMIF(BDD!$H$2:$H$685,'Indicateur Zone8'!$A$7,BDD!$V$2:$V$685)","v":13},{"$f":"SUMIF(BDD!$H$2:$H$685,'Indicateur Zone8'!$A$7,BDD!$V$2:$V$685)","v":13},{"$f":"SUMIF(BDD!$H$2:$H$685,'Indicateur Zone8'!$A$7,BDD!$V$2:$V$685)","v":13},{"$f":"SUMIF(BDD!$H$2:$H$685,'Indicateur Zone8'!$A$7,BDD!$V$2:$V$685)","v":13},{"$f":"SUMIF(BDD!$H$2:$H$685,'Indicateur Zone8'!$A$7,BDD!$V$2:$V$685)","v":13},{"$f":"SUMIF(BDD!$H$2:$H$685,'Indicateur Zone8'!$A$7,BDD!$V$2:$V$685)","v":13}]
["Banc 121",{"$f":"SUMIF(BDD!$H$2:$H$685,'Indicateur Zone8'!$A$8,BDD!$V$2:$V$685)","v":15},{"$f":"SUMIF(BDD!$H$2:$H$685,'Indicateur Zone8'!$A$8,BDD!$V$2:$V$685)","v":15},{"$f":"SUMIF(BDD!$H$2:$H$685,'Indicateur Zone8'!$A$8,BDD!$V$2:$V$685)","v":15},{"$f":"SUMIF(BDD!$H$2:$H$685,'Indicateur Zone8'!$A$8,BDD!$V$2:$V$685)","v":15},{"$f":"SUMIF(BDD!$H$2:$H$685,'Indicateur Zone8'!$A$8,BDD!$V$2:$V$685)","v":15},{"$f":"SUMIF(BDD!$H$2:$H$685,'Indicateur Zone8'!$A$8,BDD!$V$2:$V$685)","v":15},{"$f":"SUMIF(BDD!$H$2:$H$685,'Indicateur Zone8'!$A$8,BDD!$V$2:$V$685)","v":15},{"$f":"SUMIF(BDD!$H$2:$H$685,'Indicateur Zone8'!$A$8,BDD!$V$2:$V$685)","v":15},{"$f":"SUMIF(BDD!$H$2:$H$685,'Indicateur Zone8'!$A$8,BDD!$V$2:$V$685)","v":15},{"$f":"SUMIF(BDD!$H$2:$H$685,'Indicateur Zone8'!$A$8,BDD!$V$2:$V$685)","v":15},{"$f":"SUMIF(BDD!$H$2:$H$685,'Indicateur Zone8'!$A$8,BDD!$V$2:$V$685)","v":15},{"$f":"SUMIF(BDD!$H$2:$H$685,'Indicateur Zone8'!$A$8,BDD!$V$2:$V$685)","v":15}]
["Pompe à eau",{"$f":"SUMIF(BDD!$H$2:$H$685,'Indicateur Zone8'!$A$9,BDD!$V$2:$V$685)","v":14},{"$f":"SUMIF(BDD!$H$2:$H$685,'Indicateur Zone8'!$A$9,BDD!$V$2:$V$685)","v":14},{"$f":"SUMIF(BDD!$H$2:$H$685,'Indicateur Zone8'!$A$9,BDD!$V$2:$V$685)","v":14},{"$f":"SUMIF(BDD!$H$2:$H$685,'Indicateur Zone8'!$A$9,BDD!$V$2:$V$685)","v":14},{"$f":"SUMIF(BDD!$H$2:$H$685,'Indicateur Zone8'!$A$9,BDD!$V$2:$V$685)","v":14},{"$f":"SUMIF(BDD!$H$2:$H$685,'Indicateur Zone8'!$A$9,BDD!$V$2:$V$685)","v":14},{"$f":"SUMIF(BDD!$H$2:$H$685,'Indicateur Zone8'!$A$9,BDD!$V$2:$V$685)","v":14},{"$f":"SUMIF(BDD!$H$2:$H$685,'Indicateur Zone8'!$A$9,BDD!$V$2:$V$685)","v":14},{"$f":"SUMIF(BDD!$H$2:$H$685,'Indicateur Zone8'!$A$9,BDD!$V$2:$V$685)","v":14},{"$f":"SUMIF(BDD!$H$2:$H$685,'Indicateur Zone8'!$A$9,BDD!$V$2:$V$685)","v":14},{"$f":"SUMIF(BDD!$H$2:$H$685,'Indicateur Zone8'!$A$9,BDD!$V$2:$V$685)","v":14},{"$f":"SUMIF(BDD!$H$2:$H$685,'Indicateur Zone8'!$A$9,BDD!$V$2:$V$685)","v":14}]
["Banc PowerTrain",{"$f":"SUMIF(BDD!$H$2:$H$685,'Indicateur Zone8'!$A$10,BDD!$V$2:$V$685)","v":46},{"$f":"SUMIF(BDD!$H$2:$H$685,'Indicateur Zone8'!$A$10,BDD!$V$2:$V$685)","v":46},{"$f":"SUMIF(BDD!$H$2:$H$685,'Indicateur Zone8'!$A$10,BDD!$V$2:$V$685)","v":46},{"$f":"SUMIF(BDD!$H$2:$H$685,'Indicateur Zone8'!$A$10,BDD!$V$2:$V$685)","v":46},{"$f":"SUMIF(BDD!$H$2:$H$685,'Indicateur Zone8'!$A$10,BDD!$V$2:$V$685)","v":46},{"$f":"SUMIF(BDD!$H$2:$H$685,'Indicateur Zone8'!$A$10,BDD!$V$2:$V$685)","v":46},{"$f":"SUMIF(BDD!$H$2:$H$685,'Indicateur Zone8'!$A$10,BDD!$V$2:$V$685)","v":46},{"$f":"SUMIF(BDD!$H$2:$H$685,'Indicateur Zone8'!$A$10,BDD!$V$2:$V$685)","v":46},{"$f":"SUMIF(BDD!$H$2:$H$685,'Indicateur Zone8'!$A$10,BDD!$V$2:$V$685)","v":46},{"$f":"SUMIF(BDD!$H$2:$H$685,'Indicateur Zone8'!$A$10,BDD!$V$2:$V$685)","v":46},{"$f":"SUMIF(BDD!$H$2:$H$685,'Indicateur Zone8'!$A$10,BDD!$V$2:$V$685)","v":46},{"$f":"SUMIF(BDD!$H$2:$H$685,'Indicateur Zone8'!$A$10,BDD!$V$2:$V$685)","v":46}]
[]
[]
[]
[]
[]
[]
[]
[]
[]
[]
[]
[]
[]
[]
[]
[]
[]
[]
[]
[]
[null,"Suivi du correctif et du préventif"]
["Type de maintenance","Janvier","Février","Mars","Avril","Mai","Juin","Juillet","Août","Septembre","Octobre","Novembre","Décembre"]
["Préventive",{"$f":"SUM(C58:C64)","v":69},{"$f":"SUM(E58:E64)","v":69},{"$f":"SUM(G58:G64)","v":69},{"$f":"SUM(I58:I64)","v":69},{"$f":"SUM(K58:K64)","v":69},{"$f":"SUM(M58:M64)","v":69},{"$f":"SUM(O58:O64)","v":69},{"$f":"SUM(Q58:Q64)","v":69},{"$f":"SUM(S58:S64)","v":69},{"$f":"SUM(U58:U64)","v":69},{"$f":"SUM(W58:W64)","v":69},{"$f":"SUM(Y58:Y64)","v":69}]
["Corrective",{"$f":"SUM(B58:B64)","v":50},{"$f":"SUM(D58:D64)","v":50},{"$f":"SUM(F58:F64)","v":50},{"$f":"SUM(H58:H64)","v":50},{"$f":"SUM(J58:J64)","v":50},{"$f":"SUM(L58:L64)","v":50},{"$f":"SUM(N58:N64)","v":50},{"$f":"SUM(N58:N64)","v":50},{"$f":"SUM(R58:R64)","v":50},{"$f":"SUM(T58:T64)","v":50},{"$f":"SUM(V58:V64)","v":50},{"$f":"SUM(X58:X64)","v":50}]
[]
[]
[]
[]
[]
[]
[]
[]
[]
[]
[]
[]
[]
[]
[]
[]
[]
[]
[]
[]
[null,"Suivi du correctif et du préventif par banc"]
[null,"Janvier",null,"Février",null,"Mars",null,"Avril",null,"Mai",null,"Juin",null,"Juillet",null,"Août",null,"Septembre",null,"Octobre",null,"Novembre",null,"Décembre"]
["Banc zone 8","Corrective","Préventive","Corrective","Préventive","Corrective","Préventive","Corrective","Préventive","Corrective","Préventive","Corrective","Préventive","Corrective","Préventive","Corrective","Préventive","Corrective","Préventive","Corrective","Préventive","Corrective","Préventive","Corrective","Préventive"]
["Banc P5",{"$f":"SUMIF(BDD!$BB$2:$BB$685,\"Banc P5VRAIFAUX\",BDD!$V$2:$V$685)","v":4},{"$f":"SUMIF(BDD!$BB$2:$BB$685,\"Banc P5FAUXvrai\",BDD!$V$2:$V$685)","v":4},{"$f":"SUMIF(BDD!$BB$2:$BB$685,\"Banc P5VRAIFAUX\",BDD!$V$2:$V$685)","v":4},{"$f":"SUMIF(BDD!$BB$2:$BB$685,\"Banc P5FAUXvrai\",BDD!$V$2:$V$685)","v":4},{"$f":"SUMIF(BDD!$BB$2:$BB$685,\"Banc P5VRAIFAUX\",BDD!$V$2:$V$685)","v":4},{"$f":"SUMIF(BDD!$BB$2:$BB$685,\"Banc P5FAUXvrai\",BDD!$V$2:$V$685)","v":4},{"$f":"SUMIF(BDD!$BB$2:$BB$685,\"Banc P5VRAIFAUX\",BDD!$V$2:$V$685)","v":4},{"$f":"SUMIF(BDD!$BB$2:$BB$685,\"Banc P5FAUXvrai\",BDD!$V$2:$V$685)","v":4},{"$f":"SUMIF(BDD!$BB$2:$BB$685,\"Banc P5VRAIFAUX\",BDD!$V$2:$V$685)","v":4},{"$f":"SUMIF(BDD!$BB$2:$BB$685,\"Banc P5FAUXvrai\",BDD!$V$2:$V$685)","v":4},{"$f":"SUMIF(BDD!$BB$2:$BB$685,\"Banc P5VRAIFAUX\",BDD!$V$2:$V$685)","v":4},{"$f":"SUMIF(BDD!$BB$2:$BB$685,\"Banc P5FAUXvrai\",BDD!$V$2:$V$685)","v":4},{"$f":"SUMIF(BDD!$BB$2:$BB$685,\"Banc P5VRAIFAUX\",BDD!$V$2:$V$685)","v":4},{"$f":"SUMIF(BDD!$BB$2:$BB$685,\"Banc P5FAUXvrai\",BDD!$V$2:$V$685)","v":4},{"$f":"SUMIF(BDD!$BB$2:$BB$685,\"Banc P5VRAIFAUX\",BDD!$V$2:$V$685)","v":4},{"$f":"SUMIF(BDD!$BB$2:$BB$685,\"Banc P5FAUXvrai\",BDD!$V$2:$V$685)","v":4},{"$f":"SUMIF(BDD!$BB$2:$BB$685,\"Banc P5VRAIFAUX\",BDD!$V$2:$V$685)","v":4},{"$f":"SUMIF(BDD!$BB$2:$BB$685,\"Banc P5FAUXvrai\",BDD!$V$2:$V$685)","v":4},{"$f":"SUMIF(BDD!$BB$2:$BB$685,\"Banc P5VRAIFAUX\",BDD!$V$2:$V$685)","v":4},{"$f":"SUMIF(BDD!$BB$2:$BB$685,\"Banc P5FAUXvrai\",BDD!$V$2:$V$685)","v":4},{"$f":"SUMIF(BDD!$BB$2:$BB$685,\"Banc P5VRAIFAUX\",BDD!$V$2:$V$685)","v":4},{"$f":"SUMIF(BDD!$BB$2:$BB$685,\"Banc P5FAUXvrai\",BDD!$V$2:$V$685)","v":4},{"$f":"SUMIF(BDD!$BB$2:$BB$685,\"Banc P5VRAIFAUX\",BDD!$V$2:$V$685)","v":4},{"$f":"SUMIF(BDD!$BB$2:$BB$685,\"Banc P5FAUXvrai\",BDD!$V$2:$V$685)","v":4}]
["Banc P7",{"$f":"SUMIF(BDD!$BB$2:$BB$685,\"Banc P7VRAIFAUX\",BDD!$V$2:$V$685)","v":11},{"$f":"SUMIF(BDD!$BB$2:$BB$685,\"Banc P7FAUXVRAI\",BDD!$V$2:$V$685)","v":1},{"$f":"SUMIF(BDD!$BB$2:$BB$685,\"Banc P7VRAIFAUX\",BDD!$V$2:$V$685)","v":11},{"$f":"SUMIF(BDD!$BB$2:$BB$685,\"Banc P7FAUXVRAI\",BDD!$V$2:$V$685)","v":1},{"$f":"SUMIF(BDD!$BB$2:$BB$685,\"Banc P7VRAIFAUX\",BDD!$V$2:$V$685)","v":11},{"$f":"SUMIF(BDD!$BB$2:$BB$685,\"Banc P7FAUXVRAI\",BDD!$V$2:$V$685)","v":1},{"$f":"SUMIF(BDD!$BB$2:$BB$685,\"Banc P7VRAIFAUX\",BDD!$V$2:$V$685)","v":11},{"$f":"SUMIF(BDD!$BB$2:$BB$685,\"Banc P7FAUXVRAI\",BDD!$V$2:$V$685)","v":1},{"$f":"SUMIF(BDD!$BB$2:$BB$685,\"Banc P7VRAIFAUX\",BDD!$V$2:$V$685)","v":11},{"$f":"SUMIF(BDD!$BB$2:$BB$685,\"Banc P7FAUXVRAI\",BDD!$V$2:$V$685)","v":1},{"$f":"SUMIF(BDD!$BB$2:$BB$685,\"Banc P7VRAIFAUX\",BDD!$V$2:$V$685)","v":11},{"$f":"SUMIF(BDD!$BB$2:$BB$685,\"Banc P7FAUXVRAI\",BDD!$V$2:$V$685)","v":1},{"$f":"SUMIF(BDD!$BB$2:$BB$685,\"Banc P7VRAIFAUX\",BDD!$V$2:$V$685)","v":11},{"$f":"SUMIF(BDD!$BB$2:$BB$685,\"Banc P7FAUXVRAI\",BDD!$V$2:$V$685)","v":1},{"$f":"SUMIF(BDD!$BB$2:$BB$685,\"Banc P7VRAIFAUX\",BDD!$V$2:$V$685)","v":11},{"$f":"SUMIF(BDD!$BB$2:$BB$685,\"Banc P7FAUXVRAI\",BDD!$V$2:$V$685)","v":1},{"$f":"SUMIF(BDD!$BB$2:$BB$685,\"Banc P7VRAIFAUX\",BDD!$V$2:$V$685)","v":11},{"$f":"SUMIF(BDD!$BB$2:$BB$685,\"Banc P7FAUXVRAI\",BDD!$V$2:$V$685)","v":1},{"$f":"SUMIF(BDD!$BB$2:$BB$685,\"Banc P7VRAIFAUX\",BDD!$V$2:$V$685)","v":11},{"$f":"SUMIF(BDD!$BB$2:$BB$685,\"Banc P7FAUXVRAI\",BDD!$V$2:$V$685)","v":1},{"$f":"SUMIF(BDD!$BB$2:$BB$685,\"Banc P7VRAIFAUX\",BDD!$V$2:$V$685)","v":11},{"$f":"SUMIF(BDD!$BB$2:$BB$685,\"Banc P7FAUXVRAI\",BDD!$V$2:$V$685)","v":1},{"$f":"SUMIF(BDD!$BB$2:$BB$685,\"Banc P7VRAIFAUX\",BDD!$V$2:$V$685)","v":11},{"$f":"SUMIF(BDD!$BB$2:$BB$685,\"Banc P7FAUXVRAI\",BDD!$V$2:$V$685)","v":1}]
["Banc 101",{"$f":"SUMIF(BDD!$BB$2:$BB$685,\"Banc 101VRAIFAUX\",BDD!$V$2:$V$685)","v":18},{"$f":"SUMIF(BDD!$BB$2:$BB$685,\"Banc 101FAUXVRAI\",BDD!$V$2:$V$685)","v":5},{"$f":"SUMIF(BDD!$BB$2:$BB$685,\"Banc 101VRAIFAUX\",BDD!$V$2:$V$685)","v":18},{"$f":"SUMIF(BDD!$BB$2:$BB$685,\"Banc 101FAUXVRAI\",BDD!$V$2:$V$685)","v":5},{"$f":"SUMIF(BDD!$BB$2:$BB$685,\"Banc 101VRAIFAUX\",BDD!$V$2:$V$685)","v":18},{"$f":"SUMIF(BDD!$BB$2:$BB$685,\"Banc 101FAUXVRAI\",BDD!$V$2:$V$685)","v":5},{"$f":"SUMIF(BDD!$BB$2:$BB$685,\"Banc 101VRAIFAUX\",BDD!$V$2:$V$685)","v":18},{"$f":"SUMIF(BDD!$BB$2:$BB$685,\"Banc 101FAUXVRAI\",BDD!$V$2:$V$685)","v":5},{"$f":"SUMIF(BDD!$BB$2:$BB$685,\"Banc 101VRAIFAUX\",BDD!$V$2:$V$685)","v":18},{"$f":"SUMIF(BDD!$BB$2:$BB$685,\"Banc 101FAUXVRAI\",BDD!$V$2:$V$685)","v":5},{"$f":"SUMIF(BDD!$BB$2:$BB$685,\"Banc 101VRAIFAUX\",BDD!$V$2:$V$685)","v":18},{"$f":"SUMIF(BDD!$BB$2:$BB$685,\"Banc 101FAUXVRAI\",BDD!$V$2:$V$685)","v":5},{"$f":"SUMIF(BDD!$BB$2:$BB$685,\"Banc 101VRAIFAUX\",BDD!$V$2:$V$685)","v":18},{"$f":"SUMIF(BDD!$BB$2:$BB$685,\"Banc 101FAUXVRAI\",BDD!$V$2:$V$685)","v":5},{"$f":"SUMIF(BDD!$BB$2:$BB$685,\"Banc 101VRAIFAUX\",BDD!$V$2:$V$685)","v":18},{"$f":"SUMIF(BDD!$BB$2:$BB$685,\"Banc 101FAUXVRAI\",BDD!$V$2:$V$685)","v":5},{"$f":"SUMIF(BDD!$BB$2:$BB$685,\"Banc 101VRAIFAUX\",BDD!$V$2:$V$685)","v":18},{"$f":"SUMIF(BDD!$BB$2:$BB$685,\"Banc 101FAUXVRAI\",BDD!$V$2:$V$685)","v":5},{"$f":"SUMIF(BDD!$BB$2:$BB$685,\"Banc 101VRAIFAUX\",BDD!$V$2:$V$685)","v":18},{"$f":"SUMIF(BDD!$BB$2:$BB$685,\"Banc 101FAUXVRAI\",BDD!$V$2:$V$685)","v":5},{"$f":"SUMIF(BDD!$BB$2:$BB$685,\"Banc 101VRAIFAUX\",BDD!$V$2:$V$685)","v":18},{"$f":"SUMIF(BDD!$BB$2:$BB$685,\"Banc 101FAUXVRAI\",BDD!$V$2:$V$685)","v":5},{"$f":"SUMIF(BDD!$BB$2:$BB$685,\"Banc 101VRAIFAUX\",BDD!$V$2:$V$685)","v":18},{"$f":"SUMIF(BDD!$BB$2:$BB$685,\"Banc 101FAUXVRAI\",BDD!$V$2:$V$685)","v":5}]
["Banc 104",{"$f":"SUMIF(BDD!$BB$2:$BB$685,\"Banc 104VRAIFAUX\",BDD!$V$2:$V$685)","v":2},{"$f":"SUMIF(BDD!$BB$2:$BB$685,\"Banc 104FAUXVRAI\",BDD!$V$2:$V$685)","v":11},{"$f":"SUMIF(BDD!$BB$2:$BB$685,\"Banc 104VRAIFAUX\",BDD!$V$2:$V$685)","v":2},{"$f":"SUMIF(BDD!$BB$2:$BB$685,\"Banc 104FAUXVRAI\",BDD!$V$2:$V$685)","v":11},{"$f":"SUMIF(BDD!$BB$2:$BB$685,\"Banc 104VRAIFAUX\",BDD!$V$2:$V$685)","v":2},{"$f":"SUMIF(BDD!$BB$2:$BB$685,\"Banc 104FAUXVRAI\",BDD!$V$2:$V$685)","v":11},{"$f":"SUMIF(BDD!$BB$2:$BB$685,\"Banc 104VRAIFAUX\",BDD!$V$2:$V$685)","v":2},{"$f":"SUMIF(BDD!$BB$2:$BB$685,\"Banc 104FAUXVRAI\",BDD!$V$2:$V$685)","v":11},{"$f":"SUMIF(BDD!$BB$2:$BB$685,\"Banc 104VRAIFAUX\",BDD!$V$2:$V$685)","v":2},{"$f":"SUMIF(BDD!$BB$2:$BB$685,\"Banc 104FAUXVRAI\",BDD!$V$2:$V$685)","v":11},{"$f":"SUMIF(BDD!$BB$2:$BB$685,\"Banc 104VRAIFAUX\",BDD!$V$2:$V$685)","v":2},{"$f":"SUMIF(BDD!$BB$2:$BB$685,\"Banc 104FAUXVRAI\",BDD!$V$2:$V$685)","v":11},{"$f":"SUMIF(BDD!$BB$2:$BB$685,\"Banc 104VRAIFAUX\",BDD!$V$2:$V$685)","v":2},{"$f":"SUMIF(BDD!$BB$2:$BB$685,\"Banc 104FAUXVRAI\",BDD!$V$2:$V$685)","v":11},{"$f":"SUMIF(BDD!$BB$2:$BB$685,\"Banc 104VRAIFAUX\",BDD!$V$2:$V$685)","v":2},{"$f":"SUMIF(BDD!$BB$2:$BB$685,\"Banc 104FAUXVRAI\",BDD!$V$2:$V$685)","v":11},{"$f":"SUMIF(BDD!$BB$2:$BB$685,\"Banc 104VRAIFAUX\",BDD!$V$2:$V$685)","v":2},{"$f":"SUMIF(BDD!$BB$2:$BB$685,\"Banc 104FAUXVRAI\",BDD!$V$2:$V$685)","v":11},{"$f":"SUMIF(BDD!$BB$2:$BB$685,\"Banc 104VRAIFAUX\",BDD!$V$2:$V$685)","v":2},{"$f":"SUMIF(BDD!$BB$2:$BB$685,\"Banc 104FAUXVRAI\",BDD!$V$2:$V$685)","v":11},{"$f":"SUMIF(BDD!$BB$2:$BB$685,\"Banc 104VRAIFAUX\",BDD!$V$2:$V$685)","v":2},{"$f":"SUMIF(BDD!$BB$2:$BB$685,\"Banc 104FAUXVRAI\",BDD!$V$2:$V$685)","v":11},{"$f":"SUMIF(BDD!$BB$2:$BB$685,\"Banc 104VRAIFAUX\",BDD!$V$2:$V$685)","v":2},{"$f":"SUMIF(BDD!$BB$2:$BB$685,\"Banc 104FAUXVRAI\",BDD!$V$2:$V$685)","v":11}]
["Banc 121",{"$f":"SUMIF(BDD!$BB$2:$BB$685,\"Banc 121VRAIFAUX\",BDD!$V$2:$V$685)","v":2},{"$f":"SUMIF(BDD!$BB$2:$BB$685,\"Banc 121FAUXVRAI\",BDD!$V$2:$V$685)","v":13},{"$f":"SUMIF(BDD!$BB$2:$BB$685,\"Banc 121VRAIFAUX\",BDD!$V$2:$V$685)","v":2},{"$f":"SUMIF(BDD!$BB$2:$BB$685,\"Banc 121FAUXVRAI\",BDD!$V$2:$V$685)","v":13},{"$f":"SUMIF(BDD!$BB$2:$BB$685,\"Banc 121VRAIFAUX\",BDD!$V$2:$V$685)","v":2},{"$f":"SUMIF(BDD!$BB$2:$BB$685,\"Banc 121FAUXVRAI\",BDD!$V$2:$V$685)","v":13},{"$f":"SUMIF(BDD!$BB$2:$BB$685,\"Banc 121VRAIFAUX\",BDD!$V$2:$V$685)","v":2},{"$f":"SUMIF(BDD!$BB$2:$BB$685,\"Banc 121FAUXVRAI\",BDD!$V$2:$V$685)","v":13},{"$f":"SUMIF(BDD!$BB$2:$BB$685,\"Banc 121VRAIFAUX\",BDD!$V$2:$V$685)","v":2},{"$f":"SUMIF(BDD!$BB$2:$BB$685,\"Banc 121FAUXVRAI\",BDD!$V$2:$V$685)","v":13},{"$f":"SUMIF(BDD!$BB$2:$BB$685,\"Banc 121VRAIFAUX\",BDD!$V$2:$V$685)","v":2},{"$f":"SUMIF(BDD!$BB$2:$BB$685,\"Banc 121FAUXVRAI\",BDD!$V$2:$V$685)","v":13},{"$f":"SUMIF(BDD!$BB$2:$BB$685,\"Banc 121VRAIFAUX\",BDD!$V$2:$V$685)","v":2},{"$f":"SUMIF(BDD!$BB$2:$BB$685,\"Banc 121FAUXVRAI\",BDD!$V$2:$V$685)","v":13},{"$f":"SUMIF(BDD!$BB$2:$BB$685,\"Banc 121VRAIFAUX\",BDD!$V$2:$V$685)","v":2},{"$f":"SUMIF(BDD!$BB$2:$BB$685,\"Banc 121FAUXVRAI\",BDD!$V$2:$V$685)","v":13},{"$f":"SUMIF(BDD!$BB$2:$BB$685,\"Banc 121VRAIFAUX\",BDD!$V$2:$V$685)","v":2},{"$f":"SUMIF(BDD!$BB$2:$BB$685,\"Banc 121FAUXVRAI\",BDD!$V$2:$V$685)","v":13},{"$f":"SUMIF(BDD!$BB$2:$BB$685,\"Banc 121VRAIFAUX\",BDD!$V$2:$V$685)","v":2},{"$f":"SUMIF(BDD!$BB$2:$BB$685,\"Banc 121FAUXVRAI\",BDD!$V$2:$V$685)","v":13},{"$f":"SUMIF(BDD!$BB$2:$BB$685,\"Banc 121VRAIFAUX\",BDD!$V$2:$V$685)","v":2},{"$f":"SUMIF(BDD!$BB$2:$BB$685,\"Banc 121FAUXVRAI\",BDD!$V$2:$V$685)","v":13},{"$f":"SUMIF(BDD!$BB$2:$BB$685,\"Banc 121VRAIFAUX\",BDD!$V$2:$V$685)","v":2},{"$f":"SUMIF(BDD!$BB$2:$BB$685,\"Banc 121FAUXVRAI\",BDD!$V$2:$V$685)","v":13}]
["Pompe à eau",{"$f":"SUMIF(BDD!$BB$2:$BB$685,\"pompe à eauVRAIFAUX\",BDD!$V$2:$V$685)","v":1},{"$f":"SUMIF(BDD!$BB$2:$BB$685,\"pompe à eauFAUXVRAI\",BDD!$V$2:$V$685)","v":13},{"$f":"SUMIF(BDD!$BB$2:$BB$685,\"pompe à eauVRAIFAUX\",BDD!$V$2:$V$685)","v":1},{"$f":"SUMIF(BDD!$BB$2:$BB$685,\"pompe à eauFAUXVRAI\",BDD!$V$2:$V$685)","v":13},{"$f":"SUMIF(BDD!$BB$2:$BB$685,\"pompe à eauVRAIFAUX\",BDD!$V$2:$V$685)","v":1},{"$f":"SUMIF(BDD!$BB$2:$BB$685,\"pompe à eauFAUXVRAI\",BDD!$V$2:$V$685)","v":13},{"$f":"SUMIF(BDD!$BB$2:$BB$685,\"pompe à eauVRAIFAUX\",BDD!$V$2:$V$685)","v":1},{"$f":"SUMIF(BDD!$BB$2:$BB$685,\"pompe à eauFAUXVRAI\",BDD!$V$2:$V$685)","v":13},{"$f":"SUMIF(BDD!$BB$2:$BB$685,\"pompe à eauVRAIFAUX\",BDD!$V$2:$V$685)","v":1},{"$f":"SUMIF(BDD!$BB$2:$BB$685,\"pompe à eauFAUXVRAI\",BDD!$V$2:$V$685)","v":13},{"$f":"SUMIF(BDD!$BB$2:$BB$685,\"pompe à eauVRAIFAUX\",BDD!$V$2:$V$685)","v":1},{"$f":"SUMIF(BDD!$BB$2:$BB$685,\"pompe à eauFAUXVRAI\",BDD!$V$2:$V$685)","v":13},{"$f":"SUMIF(BDD!$BB$2:$BB$685,\"pompe à eauVRAIFAUX\",BDD!$V$2:$V$685)","v":1},{"$f":"SUMIF(BDD!$BB$2:$BB$685,\"pompe à eauFAUXVRAI\",BDD!$V$2:$V$685)","v":13},{"$f":"SUMIF(BDD!$BB$2:$BB$685,\"pompe à eauVRAIFAUX\",BDD!$V$2:$V$685)","v":1},{"$f":"SUMIF(BDD!$BB$2:$BB$685,\"pompe à eauFAUXVRAI\",BDD!$V$2:$V$685)","v":13},{"$f":"SUMIF(BDD!$BB$2:$BB$685,\"pompe à eauVRAIFAUX\",BDD!$V$2:$V$685)","v":1},{"$f":"SUMIF(BDD!$BB$2:$BB$685,\"pompe à eauFAUXVRAI\",BDD!$V$2:$V$685)","v":13},{"$f":"SUMIF(BDD!$BB$2:$BB$685,\"pompe à eauVRAIFAUX\",BDD!$V$2:$V$685)","v":1},{"$f":"SUMIF(BDD!$BB$2:$BB$685,\"pompe à eauFAUXVRAI\",BDD!$V$2:$V$685)","v":13},{"$f":"SUMIF(BDD!$BB$2:$BB$685,\"pompe à eauVRAIFAUX\",BDD!$V$2:$V$685)","v":1},{"$f":"SUMIF(BDD!$BB$2:$BB$685,\"pompe à eauFAUXVRAI\",BDD!$V$2:$V$685)","v":13},{"$f":"SUMIF(BDD!$BB$2:$BB$685,\"pompe à eauVRAIFAUX\",BDD!$V$2:$V$685)","v":1},{"$f":"SUMIF(BDD!$BB$2:$BB$685,\"pompe à eauFAUXVRAI\",BDD!$V$2:$V$685)","v":13}]
["Banc PowerTrain",{"$f":"SUMIF(BDD!$BB$2:$BB$685,\"Banc PowerTrainVRAIFAUX\",BDD!$V$2:$V$685)","v":12},{"$f":"SUMIF(BDD!$BB$2:$BB$685,\"Banc PowerTrainFAUXVRAI\",BDD!$V$2:$V$685)","v":22},{"$f":"SUMIF(BDD!$BB$2:$BB$685,\"Banc PowerTrainVRAIFAUX\",BDD!$V$2:$V$685)","v":12},{"$f":"SUMIF(BDD!$BB$2:$BB$685,\"Banc PowerTrainFAUXVRAI\",BDD!$V$2:$V$685)","v":22},{"$f":"SUMIF(BDD!$BB$2:$BB$685,\"Banc PowerTrainVRAIFAUX\",BDD!$V$2:$V$685)","v":12},{"$f":"SUMIF(BDD!$BB$2:$BB$685,\"Banc PowerTrainFAUXVRAI\",BDD!$V$2:$V$685)","v":22},{"$f":"SUMIF(BDD!$BB$2:$BB$685,\"Banc PowerTrainVRAIFAUX\",BDD!$V$2:$V$685)","v":12},{"$f":"SUMIF(BDD!$BB$2:$BB$685,\"Banc PowerTrainFAUXVRAI\",BDD!$V$2:$V$685)","v":22},{"$f":"SUMIF(BDD!$BB$2:$BB$685,\"Banc PowerTrainVRAIFAUX\",BDD!$V$2:$V$685)","v":12},{"$f":"SUMIF(BDD!$BB$2:$BB$685,\"Banc PowerTrainFAUXVRAI\",BDD!$V$2:$V$685)","v":22},{"$f":"SUMIF(BDD!$BB$2:$BB$685,\"Banc PowerTrainVRAIFAUX\",BDD!$V$2:$V$685)","v":12},{"$f":"SUMIF(BDD!$BB$2:$BB$685,\"Banc PowerTrainFAUXVRAI\",BDD!$V$2:$V$685)","v":22},{"$f":"SUMIF(BDD!$BB$2:$BB$685,\"Banc PowerTrainVRAIFAUX\",BDD!$V$2:$V$685)","v":12},{"$f":"SUMIF(BDD!$BB$2:$BB$685,\"Banc PowerTrainFAUXVRAI\",BDD!$V$2:$V$685)","v":22},{"$f":"SUMIF(BDD!$BB$2:$BB$685,\"Banc PowerTrainVRAIFAUX\",BDD!$V$2:$V$685)","v":12},{"$f":"SUMIF(BDD!$BB$2:$BB$685,\"Banc PowerTrainFAUXVRAI\",BDD!$V$2:$V$685)","v":22},{"$f":"SUMIF(BDD!$BB$2:$BB$685,\"Banc PowerTrainVRAIFAUX\",BDD!$V$2:$V$685)","v":12},{"$f":"SUMIF(BDD!$BB$2:$BB$685,\"Banc PowerTrainFAUXVRAI\",BDD!$V$2:$V$685)","v":22},{"$f":"SUMIF(BDD!$BB$2:$BB$685,\"Banc PowerTrainVRAIFAUX\",BDD!$V$2:$V$685)","v":12},{"$f":"SUMIF(BDD!$BB$2:$BB$685,\"Banc PowerTrainFAUXVRAI\",BDD!$V$2:$V$685)","v":22},{"$f":"SUMIF(BDD!$BB$2:$BB$685,\"Banc PowerTrainVRAIFAUX\",BDD!$V$2:$V$685)","v":12},{"$f":"SUMIF(BDD!$BB$2:$BB$685,\"Banc PowerTrainFAUXVRAI\",BDD!$V$2:$V$685)","v":22},{"$f":"SUMIF(BDD!$BB$2:$BB$685,\"Banc PowerTrainVRAIFAUX\",BDD!$V$2:$V$685)","v":12},{"$f":"SUMIF(BDD!$BB$2:$BB$685,\"Banc PowerTrainFAUXVRAI\",BDD!$V$2:$V$685)","v":22}]
[]
[]
[]
[]
[]
[]
[]
[]
[]
[]
[]
[]
[]
[]
[]
[]
[]
[]
[]
[]
[]
[]
[null,"Suivi du correctif et du préventif par banc"]
[null,"Janvier",null,null,null,null,null,"Février",null,null,null,null,null,"Mars",null,null,null,null,null,"Avril",null,null,null,null,null,"Mai",null,null,null,null,null,"Juin",null,null,null,null,null,"Juillet",null,null,null,null,null,"Août",null,null,null,null,null,"Septembre",null,null,null,null,null,"Octobre",null,null,null,null,null,"Novembre",null,null,null,null,null,"Décembre"]
[null,"Corrective",null,null,"Préventive",null,null,"Corrective",null,null,"Préventive",null,null,"Corrective",null,null,"Préventive",null,null,"Corrective",null,null,"Préventive",null,null,"Corrective",null,null,"Préventive",null,null,"Corrective",null,null,"Préventive",null,null,"Corrective",null,null,"Préventive",null,null,"Corrective",null,null,"Préventive",null,null,"Corrective",null,null,"Préventive",null,null,"Corrective",null,null,"Préventive",null,null,"Corrective",null,null,"Préventive",null,null,"Corrective",null,null,"Préventive"]
["Banc zone 8","Electrique","Mécanique","Hydraulique","Electrique","Mécanique","Hydraulique","Electrique","Mécanique","Hydraulique","Electrique","Mécanique","Hydraulique","Electrique","Mécanique","Hydraulique","Electrique","Mécanique","Hydraulique","Electrique","Mécanique","Hydraulique","Electrique","Mécanique","Hydraulique","Electrique","Mécanique","Hydraulique","Electrique","Mécanique","Hydraulique","Electrique","Mécanique","Hydraulique","Electrique","Mécanique","Hydraulique","Electrique","Mécanique","Hydraulique","Electrique","Mécanique","Hydraulique","Electrique","Mécanique","Hydraulique","Electrique","Mécanique","Hydraulique","Electrique","Mécanique","Hydraulique","Electrique","Mécanique","Hydraulique","Electrique","Mécanique","Hydraulique","Electrique","Mécanique","Hydraulique","Electrique","Mécanique","Hydraulique","Electrique","Mécanique","Hydraulique","Electrique","Mécanique","Hydraulique","Electrique","Mécanique","Hydraulique"]
["Banc P5",{"$f":"SUMIF(BDD!$BC$2:$BC$685,\"Banc P5VRAIFAUXVRAIFAUXFAUX\",BDD!$V$2:$V$685)","v":2},{"$f":"SUMIF(BDD!$BC$2:$BC$685,\"Banc P5VRAIFAUXFAUXVRAIFAUX\",BDD!$V$2:$V$685)","v":2},{"$f":"SUMIF(BDD!$BC$2:$BC$685,\"Banc P5VRAIFAUXFAUXFAUXVRAI\",BDD!$V$2:$V$685)","v":0},{"$f":"SUMIF(BDD!$BC$2:$BC$685,\"Banc P5FAUXVRAIVRAIFAUXFAUX\",BDD!$V$2:$V$685)","v":0},{"$f":"SUMIF(BDD!$BC$2:$BC$685,\"Banc P5FAUXVRAIFAUXVRAIFAUX\",BDD!$V$2:$V$685)","v":0},{"$f":"SUMIF(BDD!$BC$2:$BC$685,\"Banc P5FAUXVRAIFAUXFAUXVRAI\",BDD!$V$2:$V$685)","v":4},{"$f":"SUMIF(BDD!$BC$2:$BC$685,\"Banc P5VRAIFAUXVRAIFAUXFAUX\",BDD!$V$2:$V$685)","v":2},{"$f":"SUMIF(BDD!$BC$2:$BC$685,\"Banc P5VRAIFAUXFAUXVRAIFAUX\",BDD!$V$2:$V$685)","v":2},{"$f":"SUMIF(BDD!$BC$2:$BC$685,\"Banc P5VRAIFAUXFAUXFAUXVRAI\",BDD!$V$2:$V$685)","v":0},{"$f":"SUMIF(BDD!$BC$2:$BC$685,\"Banc P5FAUXVRAIVRAIFAUXFAUX\",BDD!$V$2:$V$685)","v":0},{"$f":"SUMIF(BDD!$BC$2:$BC$685,\"Banc P5FAUXVRAIFAUXVRAIFAUX\",BDD!$V$2:$V$685)","v":0},{"$f":"SUMIF(BDD!$BC$2:$BC$685,\"Banc P5FAUXVRAIFAUXFAUXVRAI\",BDD!$V$2:$V$685)","v":4},{"$f":"SUMIF(BDD!$BC$2:$BC$685,\"Banc P5VRAIFAUXVRAIFAUXFAUX\",BDD!$V$2:$V$685)","v":2},{"$f":"SUMIF(BDD!$BC$2:$BC$685,\"Banc P5VRAIFAUXFAUXVRAIFAUX\",BDD!$V$2:$V$685)","v":2},{"$f":"SUMIF(BDD!$BC$2:$BC$685,\"Banc P5VRAIFAUXFAUXFAUXVRAI\",BDD!$V$2:$V$685)","v":0},{"$f":"SUMIF(BDD!$BC$2:$BC$685,\"Banc P5FAUXVRAIVRAIFAUXFAUX\",BDD!$V$2:$V$685)","v":0},{"$f":"SUMIF(BDD!$BC$2:$BC$685,\"Banc P5FAUXVRAIFAUXVRAIFAUX\",BDD!$V$2:$V$685)","v":0},{"$f":"SUMIF(BDD!$BC$2:$BC$685,\"Banc P5FAUXVRAIFAUXFAUXVRAI\",BDD!$V$2:$V$685)","v":4},{"$f":"SUMIF(BDD!$BC$2:$BC$685,\"Banc P5VRAIFAUXVRAIFAUXFAUX\",BDD!$V$2:$V$685)","v":2},{"$f":"SUMIF(BDD!$BC$2:$BC$685,\"Banc P5VRAIFAUXFAUXVRAIFAUX\",BDD!$V$2:$V$685)","v":2},{"$f":"SUMIF(BDD!$BC$2:$BC$685,\"Banc P5VRAIFAUXFAUXFAUXVRAI\",BDD!$V$2:$V$685)","v":0},{"$f":"SUMIF(BDD!$BC$2:$BC$685,\"Banc P5FAUXVRAIVRAIFAUXFAUX\",BDD!$V$2:$V$685)","v":0},{"$f":"SUMIF(BDD!$BC$2:$BC$685,\"Banc P5FAUXVRAIFAUXVRAIFAUX\",BDD!$V$2:$V$685)","v":0},{"$f":"SUMIF(BDD!$BC$2:$BC$685,\"Banc P5FAUXVRAIFAUXFAUXVRAI\",BDD!$V$2:$V$685)","v":4},{"$f":"SUMIF(BDD!$BC$2:$BC$685,\"Banc P5VRAIFAUXVRAIFAUXFAUX\",BDD!$V$2:$V$685)","v":2},{"$f":"SUMIF(BDD!$BC$2:$BC$685,\"Banc P5VRAIFAUXFAUXVRAIFAUX\",BDD!$V$2:$V$685)","v":2},{"$f":"SUMIF(BDD!$BC$2:$BC$685,\"Banc P5VRAIFAUXFAUXFAUXVRAI\",BDD!$V$2:$V$685)","v":0},{"$f":"SUMIF(BDD!$BC$2:$BC$685,\"Banc P5FAUXVRAIVRAIFAUXFAUX\",BDD!$V$2:$V$685)","v":0},{"$f":"SUMIF(BDD!$BC$2:$BC$685,\"Banc P5FAUXVRAIFAUXVRAIFAUX\",BDD!$V$2:$V$685)","v":0},{"$f":"SUMIF(BDD!$BC$2:$BC$685,\"Banc P5FAUXVRAIFAUXFAUXVRAI\",BDD!$V$2:$V$685)","v":4},{"$f":"SUMIF(BDD!$BC$2:$BC$685,\"Banc P5VRAIFAUXVRAIFAUXFAUX\",BDD!$V$2:$V$685)","v":2},{"$f":"SUMIF(BDD!$BC$2:$BC$685,\"Banc P5VRAIFAUXFAUXVRAIFAUX\",BDD!$V$2:$V$685)","v":2},{"$f":"SUMIF(BDD!$BC$2:$BC$685,\"Banc P5VRAIFAUXFAUXFAUXVRAI\",BDD!$V$2:$V$685)","v":0},{"$f":"SUMIF(BDD!$BC$2:$BC$685,\"Banc P5FAUXVRAIVRAIFAUXFAUX\",BDD!$V$2:$V$685)","v":0},{"$f":"SUMIF(BDD!$BC$2:$BC$685,\"Banc P5FAUXVRAIFAUXVRAIFAUX\",BDD!$V$2:$V$685)","v":0},{"$f":"SUMIF(BDD!$BC$2:$BC$685,\"Banc P5FAUXVRAIFAUXFAUXVRAI\",BDD!$V$2:$V$685)","v":4},{"$f":"SUMIF(BDD!$BC$2:$BC$685,\"Banc P5VRAIFAUXVRAIFAUXFAUX\",BDD!$V$2:$V$685)","v":2},{"$f":"SUMIF(BDD!$BC$2:$BC$685,\"Banc P5VRAIFAUXFAUXVRAIFAUX\",BDD!$V$2:$V$685)","v":2},{"$f":"SUMIF(BDD!$BC$2:$BC$685,\"Banc P5VRAIFAUXFAUXFAUXVRAI\",BDD!$V$2:$V$685)","v":0},{"$f":"SUMIF(BDD!$BC$2:$BC$685,\"Banc P5FAUXVRAIVRAIFAUXFAUX\",BDD!$V$2:$V$685)","v":0},{"$f":"SUMIF(BDD!$BC$2:$BC$685,\"Banc P5FAUXVRAIFAUXVRAIFAUX\",BDD!$V$2:$V$685)","v":0},{"$f":"SUMIF(BDD!$BC$2:$BC$685,\"Banc P5FAUXVRAIFAUXFAUXVRAI\",BDD!$V$2:$V$685)","v":4},{"$f":"SUMIF(BDD!$BC$2:$BC$685,\"Banc P5VRAIFAUXVRAIFAUXFAUX\",BDD!$V$2:$V$685)","v":2},{"$f":"SUMIF(BDD!$BC$2:$BC$685,\"Banc P5VRAIFAUXFAUXVRAIFAUX\",BDD!$V$2:$V$685)","v":2},{"$f":"SUMIF(BDD!$BC$2:$BC$685,\"Banc P5VRAIFAUXFAUXFAUXVRAI\",BDD!$V$2:$V$685)","v":0},{"$f":"SUMIF(BDD!$BC$2:$BC$685,\"Banc P5FAUXVRAIVRAIFAUXFAUX\",BDD!$V$2:$V$685)","v":0},{"$f":"SUMIF(BDD!$BC$2:$BC$685,\"Banc P5FAUXVRAIFAUXVRAIFAUX\",BDD!$V$2:$V$685)","v":0},{"$f":"SUMIF(BDD!$BC$2:$BC$685,\"Banc P5FAUXVRAIFAUXFAUXVRAI\",BDD!$V$2:$V$685)","v":4},{"$f":"SUMIF(BDD!$BC$2:$BC$685,\"Banc P5VRAIFAUXVRAIFAUXFAUX\",BDD!$V$2:$V$685)","v":2},{"$f":"SUMIF(BDD!$BC$2:$BC$685,\"Banc P5VRAIFAUXFAUXVRAIFAUX\",BDD!$V$2:$V$685)","v":2},{"$f":"SUMIF(BDD!$BC$2:$BC$685,\"Banc P5VRAIFAUXFAUXFAUXVRAI\",BDD!$V$2:$V$685)","v":0},{"$f":"SUMIF(BDD!$BC$2:$BC$685,\"Banc P5FAUXVRAIVRAIFAUXFAUX\",BDD!$V$2:$V$685)","v":0},{"$f":"SUMIF(BDD!$BC$2:$BC$685,\"Banc P5FAUXVRAIFAUXVRAIFAUX\",BDD!$V$2:$V$685)","v":0},{"$f":"SUMIF(BDD!$BC$2:$BC$685,\"Banc P5FAUXVRAIFAUXFAUXVRAI\",BDD!$V$2:$V$685)","v":4},{"$f":"SUMIF(BDD!$BC$2:$BC$685,\"Banc P5VRAIFAUXVRAIFAUXFAUX\",BDD!$V$2:$V$685)","v":2},{"$f":"SUMIF(BDD!$BC$2:$BC$685,\"Banc P5VRAIFAUXFAUXVRAIFAUX\",BDD!$V$2:$V$685)","v":2},{"$f":"SUMIF(BDD!$BC$2:$BC$685,\"Banc P5VRAIFAUXFAUXFAUXVRAI\",BDD!$V$2:$V$685)","v":0},{"$f":"SUMIF(BDD!$BC$2:$BC$685,\"Banc P5FAUXVRAIVRAIFAUXFAUX\",BDD!$V$2:$V$685)","v":0},{"$f":"SUMIF(BDD!$BC$2:$BC$685,\"Banc P5FAUXVRAIFAUXVRAIFAUX\",BDD!$V$2:$V$685)","v":0},{"$f":"SUMIF(BDD!$BC$2:$BC$685,\"Banc P5FAUXVRAIFAUXFAUXVRAI\",BDD!$V$2:$V$685)","v":4},{"$f":"SUMIF(BDD!$BC$2:$BC$685,\"Banc P5VRAIFAUXVRAIFAUXFAUX\",BDD!$V$2:$V$685)","v":2},{"$f":"SUMIF(BDD!$BC$2:$BC$685,\"Banc P5VRAIFAUXFAUXVRAIFAUX\",BDD!$V$2:$V$685)","v":2},{"$f":"SUMIF(BDD!$BC$2:$BC$685,\"Banc P5VRAIFAUXFAUXFAUXVRAI\",BDD!$V$2:$V$685)","v":0},{"$f":"SUMIF(BDD!$BC$2:$BC$685,\"Banc P5FAUXVRAIVRAIFAUXFAUX\",BDD!$V$2:$V$685)","v":0},{"$f":"SUMIF(BDD!$BC$2:$BC$685,\"Banc P5FAUXVRAIFAUXVRAIFAUX\",BDD!$V$2:$V$685)","v":0},{"$f":"SUMIF(BDD!$BC$2:$BC$685,\"Banc P5FAUXVRAIFAUXFAUXVRAI\",BDD!$V$2:$V$685)","v":4},{"$f":"SUMIF(BDD!$BC$2:$BC$685,\"Banc P5VRAIFAUXVRAIFAUXFAUX\",BDD!$V$2:$V$685)","v":2},{"$f":"SUMIF(BDD!$BC$2:$BC$685,\"Banc P5VRAIFAUXFAUXVRAIFAUX\",BDD!$V$2:$V$685)","v":2},{"$f":"SUMIF(BDD!$BC$2:$BC$685,\"Banc P5VRAIFAUXFAUXFAUXVRAI\",BDD!$V$2:$V$685)","v":0},{"$f":"SUMIF(BDD!$BC$2:$BC$685,\"Banc P5FAUXVRAIVRAIFAUXFAUX\",BDD!$V$2:$V$685)","v":0},{"$f":"SUMIF(BDD!$BC$2:$BC$685,\"Banc P5FAUXVRAIFAUXVRAIFAUX\",BDD!$V$2:$V$685)","v":0},{"$f":"SUMIF(BDD!$BC$2:$BC$685,\"Banc P5FAUXVRAIFAUXFAUXVRAI\",BDD!$V$2:$V$685)","v":4}]
["Banc P7",{"$f":"SUMIF(BDD!$BC$2:$BC$685,\"Banc P7VRAIFAUXVRAIFAUXFAUX\",BDD!$V$2:$V$685)","v":1},{"$f":"SUMIF(BDD!$BC$2:$BC$685,\"Banc P7VRAIFAUXFAUXVRAIFAUX\",BDD!$V$2:$V$685)","v":0},{"$f":"SUMIF(BDD!$BC$2:$BC$685,\"Banc P7VRAIFAUXFAUXFAUXVRAI\",BDD!$V$2:$V$685)","v":0},{"$f":"SUMIF(BDD!$BC$2:$BC$685,\"Banc P7FAUXVRAIVRAIFAUXFAUX\",BDD!$V$2:$V$685)","v":0},{"$f":"SUMIF(BDD!$BC$2:$BC$685,\"Banc P7FAUXVRAIFAUXVRAIFAUX\",BDD!$V$2:$V$685)","v":5},{"$f":"SUMIF(BDD!$BC$2:$BC$685,\"Banc P7FAUXVRAIFAUXFAUXVRAI\",BDD!$V$2:$V$685)","v":6},{"$f":"SUMIF(BDD!$BC$2:$BC$685,\"Banc P7VRAIFAUXVRAIFAUXFAUX\",BDD!$V$2:$V$685)","v":1},{"$f":"SUMIF(BDD!$BC$2:$BC$685,\"Banc P7VRAIFAUXFAUXVRAIFAUX\",BDD!$V$2:$V$685)","v":0},{"$f":"SUMIF(BDD!$BC$2:$BC$685,\"Banc P7VRAIFAUXFAUXFAUXVRAI\",BDD!$V$2:$V$685)","v":0},{"$f":"SUMIF(BDD!$BC$2:$BC$685,\"Banc P7FAUXVRAIVRAIFAUXFAUX\",BDD!$V$2:$V$685)","v":0},{"$f":"SUMIF(BDD!$BC$2:$BC$685,\"Banc P7FAUXVRAIFAUXVRAIFAUX\",BDD!$V$2:$V$685)","v":5},{"$f":"SUMIF(BDD!$BC$2:$BC$685,\"Banc P7FAUXVRAIFAUXFAUXVRAI\",BDD!$V$2:$V$685)","v":6},{"$f":"SUMIF(BDD!$BC$2:$BC$685,\"Banc P7VRAIFAUXVRAIFAUXFAUX\",BDD!$V$2:$V$685)","v":1},{"$f":"SUMIF(BDD!$BC$2:$BC$685,\"Banc P7VRAIFAUXFAUXVRAIFAUX\",BDD!$V$2:$V$685)","v":0},{"$f":"SUMIF(BDD!$BC$2:$BC$685,\"Banc P7VRAIFAUXFAUXFAUXVRAI\",BDD!$V$2:$V$685)","v":0},{"$f":"SUMIF(BDD!$BC$2:$BC$685,\"Banc P7FAUXVRAIVRAIFAUXFAUX\",BDD!$V$2:$V$685)","v":0},{"$f":"SUMIF(BDD!$BC$2:$BC$685,\"Banc P7FAUXVRAIFAUXVRAIFAUX\",BDD!$V$2:$V$685)","v":5},{"$f":"SUMIF(BDD!$BC$2:$BC$685,\"Banc P7FAUXVRAIFAUXFAUXVRAI\",BDD!$V$2:$V$685)","v":6},{"$f":"SUMIF(BDD!$BC$2:$BC$685,\"Banc P7VRAIFAUXVRAIFAUXFAUX\",BDD!$V$2:$V$685)","v":1},{"$f":"SUMIF(BDD!$BC$2:$BC$685,\"Banc P7VRAIFAUXFAUXVRAIFAUX\",BDD!$V$2:$V$685)","v":0},{"$f":"SUMIF(BDD!$BC$2:$BC$685,\"Banc P7VRAIFAUXFAUXFAUXVRAI\",BDD!$V$2:$V$685)","v":0},{"$f":"SUMIF(BDD!$BC$2:$BC$685,\"Banc P7FAUXVRAIVRAIFAUXFAUX\",BDD!$V$2:$V$685)","v":0},{"$f":"SUMIF(BDD!$BC$2:$BC$685,\"Banc P7FAUXVRAIFAUXVRAIFAUX\",BDD!$V$2:$V$685)","v":5},{"$f":"SUMIF(BDD!$BC$2:$BC$685,\"Banc P7FAUXVRAIFAUXFAUXVRAI\",BDD!$V$2:$V$685)","v":6},{"$f":"SUMIF(BDD!$BC$2:$BC$685,\"Banc P7VRAIFAUXVRAIFAUXFAUX\",BDD!$V$2:$V$685)","v":1},{"$f":"SUMIF(BDD!$BC$2:$BC$685,\"Banc P7VRAIFAUXFAUXVRAIFAUX\",BDD!$V$2:$V$685)","v":0},{"$f":"SUMIF(BDD!$BC$2:$BC$685,\"Banc P7VRAIFAUXFAUXFAUXVRAI\",BDD!$V$2:$V$685)","v":0},{"$f":"SUMIF(BDD!$BC$2:$BC$685,\"Banc P7FAUXVRAIVRAIFAUXFAUX\",BDD!$V$2:$V$685)","v":0},{"$f":"SUMIF(BDD!$BC$2:$BC$685,\"Banc P7FAUXVRAIFAUXVRAIFAUX\",BDD!$V$2:$V$685)","v":5},{"$f":"SUMIF(BDD!$BC$2:$BC$685,\"Banc P7FAUXVRAIFAUXFAUXVRAI\",BDD!$V$2:$V$685)","v":6},{"$f":"SUMIF(BDD!$BC$2:$BC$685,\"Banc P7VRAIFAUXVRAIFAUXFAUX\",BDD!$V$2:$V$685)","v":1},{"$f":"SUMIF(BDD!$BC$2:$BC$685,\"Banc P7VRAIFAUXFAUXVRAIFAUX\",BDD!$V$2:$V$685)","v":0},{"$f":"SUMIF(BDD!$BC$2:$BC$685,\"Banc P7VRAIFAUXFAUXFAUXVRAI\",BDD!$V$2:$V$685)","v":0},{"$f":"SUMIF(BDD!$BC$2:$BC$685,\"Banc P7FAUXVRAIVRAIFAUXFAUX\",BDD!$V$2:$V$685)","v":0},{"$f":"SUMIF(BDD!$BC$2:$BC$685,\"Banc P7FAUXVRAIFAUXVRAIFAUX\",BDD!$V$2:$V$685)","v":5},{"$f":"SUMIF(BDD!$BC$2:$BC$685,\"Banc P7FAUXVRAIFAUXFAUXVRAI\",BDD!$V$2:$V$685)","v":6},{"$f":"SUMIF(BDD!$BC$2:$BC$685,\"Banc P7VRAIFAUXVRAIFAUXFAUX\",BDD!$V$2:$V$685)","v":1},{"$f":"SUMIF(BDD!$BC$2:$BC$685,\"Banc P7VRAIFAUXFAUXVRAIFAUX\",BDD!$V$2:$V$685)","v":0},{"$f":"SUMIF(BDD!$BC$2:$BC$685,\"Banc P7VRAIFAUXFAUXFAUXVRAI\",BDD!$V$2:$V$685)","v":0},{"$f":"SUMIF(BDD!$BC$2:$BC$685,\"Banc P7FAUXVRAIVRAIFAUXFAUX\",BDD!$V$2:$V$685)","v":0},{"$f":"SUMIF(BDD!$BC$2:$BC$685,\"Banc P7FAUXVRAIFAUXVRAIFAUX\",BDD!$V$2:$V$685)","v":5},{"$f":"SUMIF(BDD!$BC$2:$BC$685,\"Banc P7FAUXVRAIFAUXFAUXVRAI\",BDD!$V$2:$V$685)","v":6},{"$f":"SUMIF(BDD!$BC$2:$BC$685,\"Banc P7VRAIFAUXVRAIFAUXFAUX\",BDD!$V$2:$V$685)","v":1},{"$f":"SUMIF(BDD!$BC$2:$BC$685,\"Banc P7VRAIFAUXFAUXVRAIFAUX\",BDD!$V$2:$V$685)","v":0},{"$f":"SUMIF(BDD!$BC$2:$BC$685,\"Banc P7VRAIFAUXFAUXFAUXVRAI\",BDD!$V$2:$V$685)","v":0},{"$f":"SUMIF(BDD!$BC$2:$BC$685,\"Banc P7FAUXVRAIVRAIFAUXFAUX\",BDD!$V$2:$V$685)","v":0},{"$f":"SUMIF(BDD!$BC$2:$BC$685,\"Banc P7FAUXVRAIFAUXVRAIFAUX\",BDD!$V$2:$V$685)","v":5},{"$f":"SUMIF(BDD!$BC$2:$BC$685,\"Banc P7FAUXVRAIFAUXFAUXVRAI\",BDD!$V$2:$V$685)","v":6},{"$f":"SUMIF(BDD!$BC$2:$BC$685,\"Banc P7VRAIFAUXVRAIFAUXFAUX\",BDD!$V$2:$V$685)","v":1},{"$f":"SUMIF(BDD!$BC$2:$BC$685,\"Banc P7VRAIFAUXFAUXVRAIFAUX\",BDD!$V$2:$V$685)","v":0},{"$f":"SUMIF(BDD!$BC$2:$BC$685,\"Banc P7VRAIFAUXFAUXFAUXVRAI\",BDD!$V$2:$V$685)","v":0},{"$f":"SUMIF(BDD!$BC$2:$BC$685,\"Banc P7FAUXVRAIVRAIFAUXFAUX\",BDD!$V$2:$V$685)","v":0},{"$f":"SUMIF(BDD!$BC$2:$BC$685,\"Banc P7FAUXVRAIFAUXVRAIFAUX\",BDD!$V$2:$V$685)","v":5},{"$f":"SUMIF(BDD!$BC$2:$BC$685,\"Banc P7FAUXVRAIFAUXFAUXVRAI\",BDD!$V$2:$V$685)","v":6},{"$f":"SUMIF(BDD!$BC$2:$BC$685,\"Banc P7VRAIFAUXVRAIFAUXFAUX\",BDD!$V$2:$V$685)","v":1},{"$f":"SUMIF(BDD!$BC$2:$BC$685,\"Banc P7VRAIFAUXFAUXVRAIFAUX\",BDD!$V$2:$V$685)","v":0},{"$f":"SUMIF(BDD!$BC$2:$BC$685,\"Banc P7VRAIFAUXFAUXFAUXVRAI\",BDD!$V$2:$V$685)","v":0},{"$f":"SUMIF(BDD!$BC$2:$BC$685,\"Banc P7FAUXVRAIVRAIFAUXFAUX\",BDD!$V$2:$V$685)","v":0},{"$f":"SUMIF(BDD!$BC$2:$BC$685,\"Banc P7FAUXVRAIFAUXVRAIFAUX\",BDD!$V$2:$V$685)","v":5},{"$f":"SUMIF(BDD!$BC$2:$BC$685,\"Banc P7FAUXVRAIFAUXFAUXVRAI\",BDD!$V$2:$V$685)","v":6},{"$f":"SUMIF(BDD!$BC$2:$BC$685,\"Banc P7VRAIFAUXVRAIFAUXFAUX\",BDD!$V$2:$V$685)","v":1},{"$f":"SUMIF(BDD!$BC$2:$BC$685,\"Banc P7VRAIFAUXFAUXVRAIFAUX\",BDD!$V$2:$V$685)","v":0},{"$f":"SUMIF(BDD!$BC$2:$BC$685,\"Banc P7VRAIFAUXFAUXFAUXVRAI\",BDD!$V$2:$V$685)","v":0},{"$f":"SUMIF(BDD!$BC$2:$BC$685,\"Banc P7FAUXVRAIVRAIFAUXFAUX\",BDD!$V$2:$V$685)","v":0},{"$f":"SUMIF(BDD!$BC$2:$BC$685,\"Banc P7FAUXVRAIFAUXVRAIFAUX\",BDD!$V$2:$V$685)","v":5},{"$f":"SUMIF(BDD!$BC$2:$BC$685,\"Banc P7FAUXVRAIFAUXFAUXVRAI\",BDD!$V$2:$V$685)","v":6},{"$f":"SUMIF(BDD!$BC$2:$BC$685,\"Banc P7VRAIFAUXVRAIFAUXFAUX\",BDD!$V$2:$V$685)","v":1},{"$f":"SUMIF(BDD!$BC$2:$BC$685,\"Banc P7VRAIFAUXFAUXVRAIFAUX\",BDD!$V$2:$V$685)","v":0},{"$f":"SUMIF(BDD!$BC$2:$BC$685,\"Banc P7VRAIFAUXFAUXFAUXVRAI\",BDD!$V$2:$V$685)","v":0},{"$f":"SUMIF(BDD!$BC$2:$BC$685,\"Banc P7FAUXVRAIVRAIFAUXFAUX\",BDD!$V$2:$V$685)","v":0},{"$f":"SUMIF(BDD!$BC$2:$BC$685,\"Banc P7FAUXVRAIFAUXVRAIFAUX\",BDD!$V$2:$V$685)","v":5},{"$f":"SUMIF(BDD!$BC$2:$BC$685,\"Banc P7FAUXVRAIFAUXFAUXVRAI\",BDD!$V$2:$V$685)","v":6}]
["Banc 101",{"$f":"SUMIF(BDD!$BC$2:$BC$685,\"Banc 101VRAIFAUXVRAIFAUXFAUX\",BDD!$V$2:$V$685)","v":0},{"$f":"SUMIF(BDD!$BC$2:$BC$685,\"Banc 101VRAIFAUXFAUXVRAIFAUX\",BDD!$V$2:$V$685)","v":5},{"$f":"SUMIF(BDD!$BC$2:$BC$685,\"Banc 101VRAIFAUXFAUXFAUXVRAI\",BDD!$V$2:$V$685)","v":0},{"$f":"SUMIF(BDD!$BC$2:$BC$685,\"Banc 101FAUXVRAIVRAIFAUXFAUX\",BDD!$V$2:$V$685)","v":7},{"$f":"SUMIF(BDD!$BC$2:$BC$685,\"Banc 101FAUXVRAIFAUXVRAIFAUX\",BDD!$V$2:$V$685)","v":11},{"$f":"SUMIF(BDD!$BC$2:$BC$685,\"Banc 101FAUXVRAIFAUXFAUXVRAI\",BDD!$V$2:$V$685)","v":0},{"$f":"SUMIF(BDD!$BC$2:$BC$685,\"Banc 101VRAIFAUXVRAIFAUXFAUX\",BDD!$V$2:$V$685)","v":0},{"$f":"SUMIF(BDD!$BC$2:$BC$685,\"Banc 101VRAIFAUXFAUXVRAIFAUX\",BDD!$V$2:$V$685)","v":5},{"$f":"SUMIF(BDD!$BC$2:$BC$685,\"Banc 101VRAIFAUXFAUXFAUXVRAI\",BDD!$V$2:$V$685)","v":0},{"$f":"SUMIF(BDD!$BC$2:$BC$685,\"Banc 101FAUXVRAIVRAIFAUXFAUX\",BDD!$V$2:$V$685)","v":7},{"$f":"SUMIF(BDD!$BC$2:$BC$685,\"Banc 101FAUXVRAIFAUXVRAIFAUX\",BDD!$V$2:$V$685)","v":11},{"$f":"SUMIF(BDD!$BC$2:$BC$685,\"Banc 101FAUXVRAIFAUXFAUXVRAI\",BDD!$V$2:$V$685)","v":0},{"$f":"SUMIF(BDD!$BC$2:$BC$685,\"Banc 101VRAIFAUXVRAIFAUXFAUX\",BDD!$V$2:$V$685)","v":0},{"$f":"SUMIF(BDD!$BC$2:$BC$685,\"Banc 101VRAIFAUXFAUXVRAIFAUX\",BDD!$V$2:$V$685)","v":5},{"$f":"SUMIF(BDD!$BC$2:$BC$685,\"Banc 101VRAIFAUXFAUXFAUXVRAI\",BDD!$V$2:$V$685)","v":0},{"$f":"SUMIF(BDD!$BC$2:$BC$685,\"Banc 101FAUXVRAIVRAIFAUXFAUX\",BDD!$V$2:$V$685)","v":7},{"$f":"SUMIF(BDD!$BC$2:$BC$685,\"Banc 101FAUXVRAIFAUXVRAIFAUX\",BDD!$V$2:$V$685)","v":11},{"$f":"SUMIF(BDD!$BC$2:$BC$685,\"Banc 101FAUXVRAIFAUXFAUXVRAI\",BDD!$V$2:$V$685)","v":0},{"$f":"SUMIF(BDD!$BC$2:$BC$685,\"Banc 101VRAIFAUXVRAIFAUXFAUX\",BDD!$V$2:$V$685)","v":0},{"$f":"SUMIF(BDD!$BC$2:$BC$685,\"Banc 101VRAIFAUXFAUXVRAIFAUX\",BDD!$V$2:$V$685)","v":5},{"$f":"SUMIF(BDD!$BC$2:$BC$685,\"Banc 101VRAIFAUXFAUXFAUXVRAI\",BDD!$V$2:$V$685)","v":0},{"$f":"SUMIF(BDD!$BC$2:$BC$685,\"Banc 101FAUXVRAIVRAIFAUXFAUX\",BDD!$V$2:$V$685)","v":7},{"$f":"SUMIF(BDD!$BC$2:$BC$685,\"Banc 101FAUXVRAIFAUXVRAIFAUX\",BDD!$V$2:$V$685)","v":11},{"$f":"SUMIF(BDD!$BC$2:$BC$685,\"Banc 101FAUXVRAIFAUXFAUXVRAI\",BDD!$V$2:$V$685)","v":0},{"$f":"SUMIF(BDD!$BC$2:$BC$685,\"Banc 101VRAIFAUXVRAIFAUXFAUX\",BDD!$V$2:$V$685)","v":0},{"$f":"SUMIF(BDD!$BC$2:$BC$685,\"Banc 101VRAIFAUXFAUXVRAIFAUX\",BDD!$V$2:$V$685)","v":5},{"$f":"SUMIF(BDD!$BC$2:$BC$685,\"Banc 101VRAIFAUXFAUXFAUXVRAI\",BDD!$V$2:$V$685)","v":0},{"$f":"SUMIF(BDD!$BC$2:$BC$685,\"Banc 101FAUXVRAIVRAIFAUXFAUX\",BDD!$V$2:$V$685)","v":7},{"$f":"SUMIF(BDD!$BC$2:$BC$685,\"Banc 101FAUXVRAIFAUXVRAIFAUX\",BDD!$V$2:$V$685)","v":11},{"$f":"SUMIF(BDD!$BC$2:$BC$685,\"Banc 101FAUXVRAIFAUXFAUXVRAI\",BDD!$V$2:$V$685)","v":0},{"$f":"SUMIF(BDD!$BC$2:$BC$685,\"Banc 101VRAIFAUXVRAIFAUXFAUX\",BDD!$V$2:$V$685)","v":0},{"$f":"SUMIF(BDD!$BC$2:$BC$685,\"Banc 101VRAIFAUXFAUXVRAIFAUX\",BDD!$V$2:$V$685)","v":5},{"$f":"SUMIF(BDD!$BC$2:$BC$685,\"Banc 101VRAIFAUXFAUXFAUXVRAI\",BDD!$V$2:$V$685)","v":0},{"$f":"SUMIF(BDD!$BC$2:$BC$685,\"Banc 101FAUXVRAIVRAIFAUXFAUX\",BDD!$V$2:$V$685)","v":7},{"$f":"SUMIF(BDD!$BC$2:$BC$685,\"Banc 101FAUXVRAIFAUXVRAIFAUX\",BDD!$V$2:$V$685)","v":11},{"$f":"SUMIF(BDD!$BC$2:$BC$685,\"Banc 101FAUXVRAIFAUXFAUXVRAI\",BDD!$V$2:$V$685)","v":0},{"$f":"SUMIF(BDD!$BC$2:$BC$685,\"Banc 101VRAIFAUXVRAIFAUXFAUX\",BDD!$V$2:$V$685)","v":0},{"$f":"SUMIF(BDD!$BC$2:$BC$685,\"Banc 101VRAIFAUXFAUXVRAIFAUX\",BDD!$V$2:$V$685)","v":5},{"$f":"SUMIF(BDD!$BC$2:$BC$685,\"Banc 101VRAIFAUXFAUXFAUXVRAI\",BDD!$V$2:$V$685)","v":0},{"$f":"SUMIF(BDD!$BC$2:$BC$685,\"Banc 101FAUXVRAIVRAIFAUXFAUX\",BDD!$V$2:$V$685)","v":7},{"$f":"SUMIF(BDD!$BC$2:$BC$685,\"Banc 101FAUXVRAIFAUXVRAIFAUX\",BDD!$V$2:$V$685)","v":11},{"$f":"SUMIF(BDD!$BC$2:$BC$685,\"Banc 101FAUXVRAIFAUXFAUXVRAI\",BDD!$V$2:$V$685)","v":0},{"$f":"SUMIF(BDD!$BC$2:$BC$685,\"Banc 101VRAIFAUXVRAIFAUXFAUX\",BDD!$V$2:$V$685)","v":0},{"$f":"SUMIF(BDD!$BC$2:$BC$685,\"Banc 101VRAIFAUXFAUXVRAIFAUX\",BDD!$V$2:$V$685)","v":5},{"$f":"SUMIF(BDD!$BC$2:$BC$685,\"Banc 101VRAIFAUXFAUXFAUXVRAI\",BDD!$V$2:$V$685)","v":0},{"$f":"SUMIF(BDD!$BC$2:$BC$685,\"Banc 101FAUXVRAIVRAIFAUXFAUX\",BDD!$V$2:$V$685)","v":7},{"$f":"SUMIF(BDD!$BC$2:$BC$685,\"Banc 101FAUXVRAIFAUXVRAIFAUX\",BDD!$V$2:$V$685)","v":11},{"$f":"SUMIF(BDD!$BC$2:$BC$685,\"Banc 101FAUXVRAIFAUXFAUXVRAI\",BDD!$V$2:$V$685)","v":0},{"$f":"SUMIF(BDD!$BC$2:$BC$685,\"Banc 101VRAIFAUXVRAIFAUXFAUX\",BDD!$V$2:$V$685)","v":0},{"$f":"SUMIF(BDD!$BC$2:$BC$685,\"Banc 101VRAIFAUXFAUXVRAIFAUX\",BDD!$V$2:$V$685)","v":5},{"$f":"SUMIF(BDD!$BC$2:$BC$685,\"Banc 101VRAIFAUXFAUXFAUXVRAI\",BDD!$V$2:$V$685)","v":0},{"$f":"SUMIF(BDD!$BC$2:$BC$685,\"Banc 101FAUXVRAIVRAIFAUXFAUX\",BDD!$V$2:$V$685)","v":7},{"$f":"SUMIF(BDD!$BC$2:$BC$685,\"Banc 101FAUXVRAIFAUXVRAIFAUX\",BDD!$V$2:$V$685)","v":11},{"$f":"SUMIF(BDD!$BC$2:$BC$685,\"Banc 101FAUXVRAIFAUXFAUXVRAI\",BDD!$V$2:$V$685)","v":0},{"$f":"SUMIF(BDD!$BC$2:$BC$685,\"Banc 101VRAIFAUXVRAIFAUXFAUX\",BDD!$V$2:$V$685)","v":0},{"$f":"SUMIF(BDD!$BC$2:$BC$685,\"Banc 101VRAIFAUXFAUXVRAIFAUX\",BDD!$V$2:$V$685)","v":5},{"$f":"SUMIF(BDD!$BC$2:$BC$685,\"Banc 101VRAIFAUXFAUXFAUXVRAI\",BDD!$V$2:$V$685)","v":0},{"$f":"SUMIF(BDD!$BC$2:$BC$685,\"Banc 101FAUXVRAIVRAIFAUXFAUX\",BDD!$V$2:$V$685)","v":7},{"$f":"SUMIF(BDD!$BC$2:$BC$685,\"Banc 101FAUXVRAIFAUXVRAIFAUX\",BDD!$V$2:$V$685)","v":11},{"$f":"SUMIF(BDD!$BC$2:$BC$685,\"Banc 101FAUXVRAIFAUXFAUXVRAI\",BDD!$V$2:$V$685)","v":0},{"$f":"SUMIF(BDD!$BC$2:$BC$685,\"Banc 101VRAIFAUXVRAIFAUXFAUX\",BDD!$V$2:$V$685)","v":0},{"$f":"SUMIF(BDD!$BC$2:$BC$685,\"Banc 101VRAIFAUXFAUXVRAIFAUX\",BDD!$V$2:$V$685)","v":5},{"$f":"SUMIF(BDD!$BC$2:$BC$685,\"Banc 101VRAIFAUXFAUXFAUXVRAI\",BDD!$V$2:$V$685)","v":0},{"$f":"SUMIF(BDD!$BC$2:$BC$685,\"Banc 101FAUXVRAIVRAIFAUXFAUX\",BDD!$V$2:$V$685)","v":7},{"$f":"SUMIF(BDD!$BC$2:$BC$685,\"Banc 101FAUXVRAIFAUXVRAIFAUX\",BDD!$V$2:$V$685)","v":11},{"$f":"SUMIF(BDD!$BC$2:$BC$685,\"Banc 101FAUXVRAIFAUXFAUXVRAI\",BDD!$V$2:$V$685)","v":0},{"$f":"SUMIF(BDD!$BC$2:$BC$685,\"Banc 101VRAIFAUXVRAIFAUXFAUX\",BDD!$V$2:$V$685)","v":0},{"$f":"SUMIF(BDD!$BC$2:$BC$685,\"Banc 101VRAIFAUXFAUXVRAIFAUX\",BDD!$V$2:$V$685)","v":5},{"$f":"SUMIF(BDD!$BC$2:$BC$685,\"Banc 101VRAIFAUXFAUXFAUXVRAI\",BDD!$V$2:$V$685)","v":0},{"$f":"SUMIF(BDD!$BC$2:$BC$685,\"Banc 101FAUXVRAIVRAIFAUXFAUX\",BDD!$V$2:$V$685)","v":7},{"$f":"SUMIF(BDD!$BC$2:$BC$685,\"Banc 101FAUXVRAIFAUXVRAIFAUX\",BDD!$V$2:$V$685)","v":11},{"$f":"SUMIF(BDD!$BC$2:$BC$685,\"Banc 101FAUXVRAIFAUXFAUXVRAI\",BDD!$V$2:$V$685)","v":0}]
["Banc 104",{"$f":"SUMIF(BDD!$BC$2:$BC$685,\"Banc 104VRAIFAUXVRAIFAUXFAUX\",BDD!$V$2:$V$685)","v":10},{"$f":"SUMIF(BDD!$BC$2:$BC$685,\"Banc 104VRAIFAUXFAUXVRAIFAUX\",BDD!$V$2:$V$685)","v":0},{"$f":"SUMIF(BDD!$BC$2:$BC$685,\"Banc 104VRAIFAUXFAUXFAUXVRAI\",BDD!$V$2:$V$685)","v":1},{"$f":"SUMIF(BDD!$BC$2:$BC$685,\"Banc 104FAUXVRAIVRAIFAUXFAUX\",BDD!$V$2:$V$685)","v":0},{"$f":"SUMIF(BDD!$BC$2:$BC$685,\"Banc 104FAUXVRAIFAUXVRAIFAUX\",BDD!$V$2:$V$685)","v":2},{"$f":"SUMIF(BDD!$BC$2:$BC$685,\"Banc 104FAUXVRAIFAUXFAUXVRAI\",BDD!$V$2:$V$685)","v":0},{"$f":"SUMIF(BDD!$BC$2:$BC$685,\"Banc 104VRAIFAUXVRAIFAUXFAUX\",BDD!$V$2:$V$685)","v":10},{"$f":"SUMIF(BDD!$BC$2:$BC$685,\"Banc 104VRAIFAUXFAUXVRAIFAUX\",BDD!$V$2:$V$685)","v":0},{"$f":"SUMIF(BDD!$BC$2:$BC$685,\"Banc 104VRAIFAUXFAUXFAUXVRAI\",BDD!$V$2:$V$685)","v":1},{"$f":"SUMIF(BDD!$BC$2:$BC$685,\"Banc 104FAUXVRAIVRAIFAUXFAUX\",BDD!$V$2:$V$685)","v":0},{"$f":"SUMIF(BDD!$BC$2:$BC$685,\"Banc 104FAUXVRAIFAUXVRAIFAUX\",BDD!$V$2:$V$685)","v":2},{"$f":"SUMIF(BDD!$BC$2:$BC$685,\"Banc 104FAUXVRAIFAUXFAUXVRAI\",BDD!$V$2:$V$685)","v":0},{"$f":"SUMIF(BDD!$BC$2:$BC$685,\"Banc 104VRAIFAUXVRAIFAUXFAUX\",BDD!$V$2:$V$685)","v":10},{"$f":"SUMIF(BDD!$BC$2:$BC$685,\"Banc 104VRAIFAUXFAUXVRAIFAUX\",BDD!$V$2:$V$685)","v":0},{"$f":"SUMIF(BDD!$BC$2:$BC$685,\"Banc 104VRAIFAUXFAUXFAUXVRAI\",BDD!$V$2:$V$685)","v":1},{"$f":"SUMIF(BDD!$BC$2:$BC$685,\"Banc 104FAUXVRAIVRAIFAUXFAUX\",BDD!$V$2:$V$685)","v":0},{"$f":"SUMIF(BDD!$BC$2:$BC$685,\"Banc 104FAUXVRAIFAUXVRAIFAUX\",BDD!$V$2:$V$685)","v":2},{"$f":"SUMIF(BDD!$BC$2:$BC$685,\"Banc 104FAUXVRAIFAUXFAUXVRAI\",BDD!$V$2:$V$685)","v":0},{"$f":"SUMIF(BDD!$BC$2:$BC$685,\"Banc 104VRAIFAUXVRAIFAUXFAUX\",BDD!$V$2:$V$685)","v":10},{"$f":"SUMIF(BDD!$BC$2:$BC$685,\"Banc 104VRAIFAUXFAUXVRAIFAUX\",BDD!$V$2:$V$685)","v":0},{"$f":"SUMIF(BDD!$BC$2:$BC$685,\"Banc 104VRAIFAUXFAUXFAUXVRAI\",BDD!$V$2:$V$685)","v":1},{"$f":"SUMIF(BDD!$BC$2:$BC$685,\"Banc 104FAUXVRAIVRAIFAUXFAUX\",BDD!$V$2:$V$685)","v":0},{"$f":"SUMIF(BDD!$BC$2:$BC$685,\"Banc 104FAUXVRAIFAUXVRAIFAUX\",BDD!$V$2:$V$685)","v":2},{"$f":"SUMIF(BDD!$BC$2:$BC$685,\"Banc 104FAUXVRAIFAUXFAUXVRAI\",BDD!$V$2:$V$685)","v":0},{"$f":"SUMIF(BDD!$BC$2:$BC$685,\"Banc 104VRAIFAUXVRAIFAUXFAUX\",BDD!$V$2:$V$685)","v":10},{"$f":"SUMIF(BDD!$BC$2:$BC$685,\"Banc 104VRAIFAUXFAUXVRAIFAUX\",BDD!$V$2:$V$685)","v":0},{"$f":"SUMIF(BDD!$BC$2:$BC$685,\"Banc 104VRAIFAUXFAUXFAUXVRAI\",BDD!$V$2:$V$685)","v":1},{"$f":"SUMIF(BDD!$BC$2:$BC$685,\"Banc 104FAUXVRAIVRAIFAUXFAUX\",BDD!$V$2:$V$685)","v":0},{"$f":"SUMIF(BDD!$BC$2:$BC$685,\"Banc 104FAUXVRAIFAUXVRAIFAUX\",BDD!$V$2:$V$685)","v":2},{"$f":"SUMIF(BDD!$BC$2:$BC$685,\"Banc 104FAUXVRAIFAUXFAUXVRAI\",BDD!$V$2:$V$685)","v":0},{"$f":"SUMIF(BDD!$BC$2:$BC$685,\"Banc 104VRAIFAUXVRAIFAUXFAUX\",BDD!$V$2:$V$685)","v":10},{"$f":"SUMIF(BDD!$BC$2:$BC$685,\"Banc 104VRAIFAUXFAUXVRAIFAUX\",BDD!$V$2:$V$685)","v":0},{"$f":"SUMIF(BDD!$BC$2:$BC$685,\"Banc 104VRAIFAUXFAUXFAUXVRAI\",BDD!$V$2:$V$685)","v":1},{"$f":"SUMIF(BDD!$BC$2:$BC$685,\"Banc 104FAUXVRAIVRAIFAUXFAUX\",BDD!$V$2:$V$685)","v":0},{"$f":"SUMIF(BDD!$BC$2:$BC$685,\"Banc 104FAUXVRAIFAUXVRAIFAUX\",BDD!$V$2:$V$685)","v":2},{"$f":"SUMIF(BDD!$BC$2:$BC$685,\"Banc 104FAUXVRAIFAUXFAUXVRAI\",BDD!$V$2:$V$685)","v":0},{"$f":"SUMIF(BDD!$BC$2:$BC$685,\"Banc 104VRAIFAUXVRAIFAUXFAUX\",BDD!$V$2:$V$685)","v":10},{"$f":"SUMIF(BDD!$BC$2:$BC$685,\"Banc 104VRAIFAUXFAUXVRAIFAUX\",BDD!$V$2:$V$685)","v":0},{"$f":"SUMIF(BDD!$BC$2:$BC$685,\"Banc 104VRAIFAUXFAUXFAUXVRAI\",BDD!$V$2:$V$685)","v":1},{"$f":"SUMIF(BDD!$BC$2:$BC$685,\"Banc 104FAUXVRAIVRAIFAUXFAUX\",BDD!$V$2:$V$685)","v":0},{"$f":"SUMIF(BDD!$BC$2:$BC$685,\"Banc 104FAUXVRAIFAUXVRAIFAUX\",BDD!$V$2:$V$685)","v":2},{"$f":"SUMIF(BDD!$BC$2:$BC$685,\"Banc 104FAUXVRAIFAUXFAUXVRAI\",BDD!$V$2:$V$685)","v":0},{"$f":"SUMIF(BDD!$BC$2:$BC$685,\"Banc 104VRAIFAUXVRAIFAUXFAUX\",BDD!$V$2:$V$685)","v":10},{"$f":"SUMIF(BDD!$BC$2:$BC$685,\"Banc 104VRAIFAUXFAUXVRAIFAUX\",BDD!$V$2:$V$685)","v":0},{"$f":"SUMIF(BDD!$BC$2:$BC$685,\"Banc 104VRAIFAUXFAUXFAUXVRAI\",BDD!$V$2:$V$685)","v":1},{"$f":"SUMIF(BDD!$BC$2:$BC$685,\"Banc 104FAUXVRAIVRAIFAUXFAUX\",BDD!$V$2:$V$685)","v":0},{"$f":"SUMIF(BDD!$BC$2:$BC$685,\"Banc 104FAUXVRAIFAUXVRAIFAUX\",BDD!$V$2:$V$685)","v":2},{"$f":"SUMIF(BDD!$BC$2:$BC$685,\"Banc 104FAUXVRAIFAUXFAUXVRAI\",BDD!$V$2:$V$685)","v":0},{"$f":"SUMIF(BDD!$BC$2:$BC$685,\"Banc 104VRAIFAUXVRAIFAUXFAUX\",BDD!$V$2:$V$685)","v":10},{"$f":"SUMIF(BDD!$BC$2:$BC$685,\"Banc 104VRAIFAUXFAUXVRAIFAUX\",BDD!$V$2:$V$685)","v":0},{"$f":"SUMIF(BDD!$BC$2:$BC$685,\"Banc 104VRAIFAUXFAUXFAUXVRAI\",BDD!$V$2:$V$685)","v":1},{"$f":"SUMIF(BDD!$BC$2:$BC$685,\"Banc 104FAUXVRAIVRAIFAUXFAUX\",BDD!$V$2:$V$685)","v":0},{"$f":"SUMIF(BDD!$BC$2:$BC$685,\"Banc 104FAUXVRAIFAUXVRAIFAUX\",BDD!$V$2:$V$685)","v":2},{"$f":"SUMIF(BDD!$BC$2:$BC$685,\"Banc 104FAUXVRAIFAUXFAUXVRAI\",BDD!$V$2:$V$685)","v":0},{"$f":"SUMIF(BDD!$BC$2:$BC$685,\"Banc 104VRAIFAUXVRAIFAUXFAUX\",BDD!$V$2:$V$685)","v":10},{"$f":"SUMIF(BDD!$BC$2:$BC$685,\"Banc 104VRAIFAUXFAUXVRAIFAUX\",BDD!$V$2:$V$685)","v":0},{"$f":"SUMIF(BDD!$BC$2:$BC$685,\"Banc 104VRAIFAUXFAUXFAUXVRAI\",BDD!$V$2:$V$685)","v":1},{"$f":"SUMIF(BDD!$BC$2:$BC$685,\"Banc 104FAUXVRAIVRAIFAUXFAUX\",BDD!$V$2:$V$685)","v":0},{"$f":"SUMIF(BDD!$BC$2:$BC$685,\"Banc 104FAUXVRAIFAUXVRAIFAUX\",BDD!$V$2:$V$685)","v":2},{"$f":"SUMIF(BDD!$BC$2:$BC$685,\"Banc 104FAUXVRAIFAUXFAUXVRAI\",BDD!$V$2:$V$685)","v":0},{"$f":"SUMIF(BDD!$BC$2:$BC$685,\"Banc 104VRAIFAUXVRAIFAUXFAUX\",BDD!$V$2:$V$685)","v":10},{"$f":"SUMIF(BDD!$BC$2:$BC$685,\"Banc 104VRAIFAUXFAUXVRAIFAUX\",BDD!$V$2:$V$685)","v":0},{"$f":"SUMIF(BDD!$BC$2:$BC$685,\"Banc 104VRAIFAUXFAUXFAUXVRAI\",BDD!$V$2:$V$685)","v":1},{"$f":"SUMIF(BDD!$BC$2:$BC$685,\"Banc 104FAUXVRAIVRAIFAUXFAUX\",BDD!$V$2:$V$685)","v":0},{"$f":"SUMIF(BDD!$BC$2:$BC$685,\"Banc 104FAUXVRAIFAUXVRAIFAUX\",BDD!$V$2:$V$685)","v":2},{"$f":"SUMIF(BDD!$BC$2:$BC$685,\"Banc 104FAUXVRAIFAUXFAUXVRAI\",BDD!$V$2:$V$685)","v":0},{"$f":"SUMIF(BDD!$BC$2:$BC$685,\"Banc 104VRAIFAUXVRAIFAUXFAUX\",BDD!$V$2:$V$685)","v":10},{"$f":"SUMIF(BDD!$BC$2:$BC$685,\"Banc 104VRAIFAUXFAUXVRAIFAUX\",BDD!$V$2:$V$685)","v":0},{"$f":"SUMIF(BDD!$BC$2:$BC$685,\"Banc 104VRAIFAUXFAUXFAUXVRAI\",BDD!$V$2:$V$685)","v":1},{"$f":"SUMIF(BDD!$BC$2:$BC$685,\"Banc 104FAUXVRAIVRAIFAUXFAUX\",BDD!$V$2:$V$685)","v":0},{"$f":"SUMIF(BDD!$BC$2:$BC$685,\"Banc 104FAUXVRAIFAUXVRAIFAUX\",BDD!$V$2:$V$685)","v":2},{"$f":"SUMIF(BDD!$BC$2:$BC$685,\"Banc 104FAUXVRAIFAUXFAUXVRAI\",BDD!$V$2:$V$685)","v":0}]
["Banc 121",{"$f":"SUMIF(BDD!$BC$2:$BC$685,\"Banc 121VRAIFAUXVRAIFAUXFAUX\",BDD!$V$2:$V$685)","v":0},{"$f":"SUMIF(BDD!$BC$2:$BC$685,\"Banc 121VRAIFAUXFAUXVRAIFAUX\",BDD!$V$2:$V$685)","v":13},{"$f":"SUMIF(BDD!$BC$2:$BC$685,\"Banc 121VRAIFAUXFAUXFAUXVRAI\",BDD!$V$2:$V$685)","v":0},{"$f":"SUMIF(BDD!$BC$2:$BC$685,\"Banc 121FAUXVRAIVRAIFAUXFAUX\",BDD!$V$2:$V$685)","v":2},{"$f":"SUMIF(BDD!$BC$2:$BC$685,\"Banc 121FAUXVRAIFAUXVRAIFAUX\",BDD!$V$2:$V$685)","v":0},{"$f":"SUMIF(BDD!$BC$2:$BC$685,\"Banc 121FAUXVRAIFAUXFAUXVRAI\",BDD!$V$2:$V$685)","v":0},{"$f":"SUMIF(BDD!$BC$2:$BC$685,\"Banc 121VRAIFAUXVRAIFAUXFAUX\",BDD!$V$2:$V$685)","v":0},{"$f":"SUMIF(BDD!$BC$2:$BC$685,\"Banc 121VRAIFAUXFAUXVRAIFAUX\",BDD!$V$2:$V$685)","v":13},{"$f":"SUMIF(BDD!$BC$2:$BC$685,\"Banc 121VRAIFAUXFAUXFAUXVRAI\",BDD!$V$2:$V$685)","v":0},{"$f":"SUMIF(BDD!$BC$2:$BC$685,\"Banc 121FAUXVRAIVRAIFAUXFAUX\",BDD!$V$2:$V$685)","v":2},{"$f":"SUMIF(BDD!$BC$2:$BC$685,\"Banc 121FAUXVRAIFAUXVRAIFAUX\",BDD!$V$2:$V$685)","v":0},{"$f":"SUMIF(BDD!$BC$2:$BC$685,\"Banc 121FAUXVRAIFAUXFAUXVRAI\",BDD!$V$2:$V$685)","v":0},{"$f":"SUMIF(BDD!$BC$2:$BC$685,\"Banc 121VRAIFAUXVRAIFAUXFAUX\",BDD!$V$2:$V$685)","v":0},{"$f":"SUMIF(BDD!$BC$2:$BC$685,\"Banc 121VRAIFAUXFAUXVRAIFAUX\",BDD!$V$2:$V$685)","v":13},{"$f":"SUMIF(BDD!$BC$2:$BC$685,\"Banc 121VRAIFAUXFAUXFAUXVRAI\",BDD!$V$2:$V$685)","v":0},{"$f":"SUMIF(BDD!$BC$2:$BC$685,\"Banc 121FAUXVRAIVRAIFAUXFAUX\",BDD!$V$2:$V$685)","v":2},{"$f":"SUMIF(BDD!$BC$2:$BC$685,\"Banc 121FAUXVRAIFAUXVRAIFAUX\",BDD!$V$2:$V$685)","v":0},{"$f":"SUMIF(BDD!$BC$2:$BC$685,\"Banc 121FAUXVRAIFAUXFAUXVRAI\",BDD!$V$2:$V$685)","v":0},{"$f":"SUMIF(BDD!$BC$2:$BC$685,\"Banc 121VRAIFAUXVRAIFAUXFAUX\",BDD!$V$2:$V$685)","v":0},{"$f":"SUMIF(BDD!$BC$2:$BC$685,\"Banc 121VRAIFAUXFAUXVRAIFAUX\",BDD!$V$2:$V$685)","v":13},{"$f":"SUMIF(BDD!$BC$2:$BC$685,\"Banc 121VRAIFAUXFAUXFAUXVRAI\",BDD!$V$2:$V$685)","v":0},{"$f":"SUMIF(BDD!$BC$2:$BC$685,\"Banc 121FAUXVRAIVRAIFAUXFAUX\",BDD!$V$2:$V$685)","v":2},{"$f":"SUMIF(BDD!$BC$2:$BC$685,\"Banc 121FAUXVRAIFAUXVRAIFAUX\",BDD!$V$2:$V$685)","v":0},{"$f":"SUMIF(BDD!$BC$2:$BC$685,\"Banc 121FAUXVRAIFAUXFAUXVRAI\",BDD!$V$2:$V$685)","v":0},{"$f":"SUMIF(BDD!$BC$2:$BC$685,\"Banc 121VRAIFAUXVRAIFAUXFAUX\",BDD!$V$2:$V$685)","v":0},{"$f":"SUMIF(BDD!$BC$2:$BC$685,\"Banc 121VRAIFAUXFAUXVRAIFAUX\",BDD!$V$2:$V$685)","v":13},{"$f":"SUMIF(BDD!$BC$2:$BC$685,\"Banc 121VRAIFAUXFAUXFAUXVRAI\",BDD!$V$2:$V$685)","v":0},{"$f":"SUMIF(BDD!$BC$2:$BC$685,\"Banc 121FAUXVRAIVRAIFAUXFAUX\",BDD!$V$2:$V$685)","v":2},{"$f":"SUMIF(BDD!$BC$2:$BC$685,\"Banc 121FAUXVRAIFAUXVRAIFAUX\",BDD!$V$2:$V$685)","v":0},{"$f":"SUMIF(BDD!$BC$2:$BC$685,\"Banc 121FAUXVRAIFAUXFAUXVRAI\",BDD!$V$2:$V$685)","v":0},{"$f":"SUMIF(BDD!$BC$2:$BC$685,\"Banc 121VRAIFAUXVRAIFAUXFAUX\",BDD!$V$2:$V$685)","v":0},{"$f":"SUMIF(BDD!$BC$2:$BC$685,\"Banc 121VRAIFAUXFAUXVRAIFAUX\",BDD!$V$2:$V$685)","v":13},{"$f":"SUMIF(BDD!$BC$2:$BC$685,\"Banc 121VRAIFAUXFAUXFAUXVRAI\",BDD!$V$2:$V$685)","v":0},{"$f":"SUMIF(BDD!$BC$2:$BC$685,\"Banc 121FAUXVRAIVRAIFAUXFAUX\",BDD!$V$2:$V$685)","v":2},{"$f":"SUMIF(BDD!$BC$2:$BC$685,\"Banc 121FAUXVRAIFAUXVRAIFAUX\",BDD!$V$2:$V$685)","v":0},{"$f":"SUMIF(BDD!$BC$2:$BC$685,\"Banc 121FAUXVRAIFAUXFAUXVRAI\",BDD!$V$2:$V$685)","v":0},{"$f":"SUMIF(BDD!$BC$2:$BC$685,\"Banc 121VRAIFAUXVRAIFAUXFAUX\",BDD!$V$2:$V$685)","v":0},{"$f":"SUMIF(BDD!$BC$2:$BC$685,\"Banc 121VRAIFAUXFAUXVRAIFAUX\",BDD!$V$2:$V$685)","v":13},{"$f":"SUMIF(BDD!$BC$2:$BC$685,\"Banc 121VRAIFAUXFAUXFAUXVRAI\",BDD!$V$2:$V$685)","v":0},{"$f":"SUMIF(BDD!$BC$2:$BC$685,\"Banc 121FAUXVRAIVRAIFAUXFAUX\",BDD!$V$2:$V$685)","v":2},{"$f":"SUMIF(BDD!$BC$2:$BC$685,\"Banc 121FAUXVRAIFAUXVRAIFAUX\",BDD!$V$2:$V$685)","v":0},{"$f":"SUMIF(BDD!$BC$2:$BC$685,\"Banc 121FAUXVRAIFAUXFAUXVRAI\",BDD!$V$2:$V$685)","v":0},{"$f":"SUMIF(BDD!$BC$2:$BC$685,\"Banc 121VRAIFAUXVRAIFAUXFAUX\",BDD!$V$2:$V$685)","v":0},{"$f":"SUMIF(BDD!$BC$2:$BC$685,\"Banc 121VRAIFAUXFAUXVRAIFAUX\",BDD!$V$2:$V$685)","v":13},{"$f":"SUMIF(BDD!$BC$2:$BC$685,\"Banc 121VRAIFAUXFAUXFAUXVRAI\",BDD!$V$2:$V$685)","v":0},{"$f":"SUMIF(BDD!$BC$2:$BC$685,\"Banc 121FAUXVRAIVRAIFAUXFAUX\",BDD!$V$2:$V$685)","v":2},{"$f":"SUMIF(BDD!$BC$2:$BC$685,\"Banc 121FAUXVRAIFAUXVRAIFAUX\",BDD!$V$2:$V$685)","v":0},{"$f":"SUMIF(BDD!$BC$2:$BC$685,\"Banc 121FAUXVRAIFAUXFAUXVRAI\",BDD!$V$2:$V$685)","v":0},{"$f":"SUMIF(BDD!$BC$2:$BC$685,\"Banc 121VRAIFAUXVRAIFAUXFAUX\",BDD!$V$2:$V$685)","v":0},{"$f":"SUMIF(BDD!$BC$2:$BC$685,\"Banc 121VRAIFAUXFAUXVRAIFAUX\",BDD!$V$2:$V$685)","v":13},{"$f":"SUMIF(BDD!$BC$2:$BC$685,\"Banc 121VRAIFAUXFAUXFAUXVRAI\",BDD!$V$2:$V$685)","v":0},{"$f":"SUMIF(BDD!$BC$2:$BC$685,\"Banc 121FAUXVRAIVRAIFAUXFAUX\",BDD!$V$2:$V$685)","v":2},{"$f":"SUMIF(BDD!$BC$2:$BC$685,\"Banc 121FAUXVRAIFAUXVRAIFAUX\",BDD!$V$2:$V$685)","v":0},{"$f":"SUMIF(BDD!$BC$2:$BC$685,\"Banc 121FAUXVRAIFAUXFAUXVRAI\",BDD!$V$2:$V$685)","v":0},{"$f":"SUMIF(BDD!$BC$2:$BC$685,\"Banc 121VRAIFAUXVRAIFAUXFAUX\",BDD!$V$2:$V$685)","v":0},{"$f":"SUMIF(BDD!$BC$2:$BC$685,\"Banc 121VRAIFAUXFAUXVRAIFAUX\",BDD!$V$2:$V$685)","v":13},{"$f":"SUMIF(BDD!$BC$2:$BC$685,\"Banc 121VRAIFAUXFAUXFAUXVRAI\",BDD!$V$2:$V$685)","v":0},{"$f":"SUMIF(BDD!$BC$2:$BC$685,\"Banc 121FAUXVRAIVRAIFAUXFAUX\",BDD!$V$2:$V$685)","v":2},{"$f":"SUMIF(BDD!$BC$2:$BC$685,\"Banc 121FAUXVRAIFAUXVRAIFAUX\",BDD!$V$2:$V$685)","v":0},{"$f":"SUMIF(BDD!$BC$2:$BC$685,\"Banc 121FAUXVRAIFAUXFAUXVRAI\",BDD!$V$2:$V$685)","v":0},{"$f":"SUMIF(BDD!$BC$2:$BC$685,\"Banc 121VRAIFAUXVRAIFAUXFAUX\",BDD!$V$2:$V$685)","v":0},{"$f":"SUMIF(BDD!$BC$2:$BC$685,\"Banc 121VRAIFAUXFAUXVRAIFAUX\",BDD!$V$2:$V$685)","v":13},{"$f":"SUMIF(BDD!$BC$2:$BC$685,\"Banc 121VRAIFAUXFAUXFAUXVRAI\",BDD!$V$2:$V$685)","v":0},{"$f":"SUMIF(BDD!$BC$2:$BC$685,\"Banc 121FAUXVRAIVRAIFAUXFAUX\",BDD!$V$2:$V$685)","v":2},{"$f":"SUMIF(BDD!$BC$2:$BC$685,\"Banc 121FAUXVRAIFAUXVRAIFAUX\",BDD!$V$2:$V$685)","v":0},{"$f":"SUMIF(BDD!$BC$2:$BC$685,\"Banc 121FAUXVRAIFAUXFAUXVRAI\",BDD!$V$2:$V$685)","v":0},{"$f":"SUMIF(BDD!$BC$2:$BC$685,\"Banc 121VRAIFAUXVRAIFAUXFAUX\",BDD!$V$2:$V$685)","v":0},{"$f":"SUMIF(BDD!$BC$2:$BC$685,\"Banc 121VRAIFAUXFAUXVRAIFAUX\",BDD!$V$2:$V$685)","v":13},{"$f":"SUMIF(BDD!$BC$2:$BC$685,\"Banc 121VRAIFAUXFAUXFAUXVRAI\",BDD!$V$2:$V$685)","v":0},{"$f":"SUMIF(BDD!$BC$2:$BC$685,\"Banc 121FAUXVRAIVRAIFAUXFAUX\",BDD!$V$2:$V$685)","v":2},{"$f":"SUMIF(BDD!$BC$2:$BC$685,\"Banc 121FAUXVRAIFAUXVRAIFAUX\",BDD!$V$2:$V$685)","v":0},{"$f":"SUMIF(BDD!$BC$2:$BC$685,\"Banc 121FAUXVRAIFAUXFAUXVRAI\",BDD!$V$2:$V$685)","v":0}]
["Pompe à eau",{"$f":"SUMIF(BDD!$BC$2:$BC$685,\"pompe à eauVRAIFAUXVRAIFAUXFAUX\",BDD!$V$2:$V$685)","v":0},{"$f":"SUMIF(BDD!$BC$2:$BC$685,\"pompe à eauVRAIFAUXFAUXVRAIFAUX\",BDD!$V$2:$V$685)","v":13},{"$f":"SUMIF(BDD!$BC$2:$BC$685,\"pompe à eauVRAIFAUXFAUXFAUXVRAI\",BDD!$V$2:$V$685)","v":0},{"$f":"SUMIF(BDD!$BC$2:$BC$685,\"pompe à eauFAUXVRAIVRAIFAUXFAUX\",BDD!$V$2:$V$685)","v":0},{"$f":"SUMIF(BDD!$BC$2:$BC$685,\"pompe à eauFAUXVRAIFAUXVRAIFAUX\",BDD!$V$2:$V$685)","v":0},{"$f":"SUMIF(BDD!$BC$2:$BC$685,\"pompe à eauFAUXVRAIFAUXFAUXVRAI\",BDD!$V$2:$V$685)","v":1},{"$f":"SUMIF(BDD!$BC$2:$BC$685,\"pompe à eauVRAIFAUXVRAIFAUXFAUX\",BDD!$V$2:$V$685)","v":0},{"$f":"SUMIF(BDD!$BC$2:$BC$685,\"pompe à eauVRAIFAUXFAUXVRAIFAUX\",BDD!$V$2:$V$685)","v":13},{"$f":"SUMIF(BDD!$BC$2:$BC$685,\"pompe à eauVRAIFAUXFAUXFAUXVRAI\",BDD!$V$2:$V$685)","v":0},{"$f":"SUMIF(BDD!$BC$2:$BC$685,\"pompe à eauFAUXVRAIVRAIFAUXFAUX\",BDD!$V$2:$V$685)","v":0},{"$f":"SUMIF(BDD!$BC$2:$BC$685,\"pompe à eauFAUXVRAIFAUXVRAIFAUX\",BDD!$V$2:$V$685)","v":0},{"$f":"SUMIF(BDD!$BC$2:$BC$685,\"pompe à eauFAUXVRAIFAUXFAUXVRAI\",BDD!$V$2:$V$685)","v":1},{"$f":"SUMIF(BDD!$BC$2:$BC$685,\"pompe à eauVRAIFAUXVRAIFAUXFAUX\",BDD!$V$2:$V$685)","v":0},{"$f":"SUMIF(BDD!$BC$2:$BC$685,\"pompe à eauVRAIFAUXFAUXVRAIFAUX\",BDD!$V$2:$V$685)","v":13},{"$f":"SUMIF(BDD!$BC$2:$BC$685,\"pompe à eauVRAIFAUXFAUXFAUXVRAI\",BDD!$V$2:$V$685)","v":0},{"$f":"SUMIF(BDD!$BC$2:$BC$685,\"pompe à eauFAUXVRAIVRAIFAUXFAUX\",BDD!$V$2:$V$685)","v":0},{"$f":"SUMIF(BDD!$BC$2:$BC$685,\"pompe à eauFAUXVRAIFAUXVRAIFAUX\",BDD!$V$2:$V$685)","v":0},{"$f":"SUMIF(BDD!$BC$2:$BC$685,\"pompe à eauFAUXVRAIFAUXFAUXVRAI\",BDD!$V$2:$V$685)","v":1},{"$f":"SUMIF(BDD!$BC$2:$BC$685,\"pompe à eauVRAIFAUXVRAIFAUXFAUX\",BDD!$V$2:$V$685)","v":0},{"$f":"SUMIF(BDD!$BC$2:$BC$685,\"pompe à eauVRAIFAUXFAUXVRAIFAUX\",BDD!$V$2:$V$685)","v":13},{"$f":"SUMIF(BDD!$BC$2:$BC$685,\"pompe à eauVRAIFAUXFAUXFAUXVRAI\",BDD!$V$2:$V$685)","v":0},{"$f":"SUMIF(BDD!$BC$2:$BC$685,\"pompe à eauFAUXVRAIVRAIFAUXFAUX\",BDD!$V$2:$V$685)","v":0},{"$f":"SUMIF(BDD!$BC$2:$BC$685,\"pompe à eauFAUXVRAIFAUXVRAIFAUX\",BDD!$V$2:$V$685)","v":0},{"$f":"SUMIF(BDD!$BC$2:$BC$685,\"pompe à eauFAUXVRAIFAUXFAUXVRAI\",BDD!$V$2:$V$685)","v":1},{"$f":"SUMIF(BDD!$BC$2:$BC$685,\"pompe à eauVRAIFAUXVRAIFAUXFAUX\",BDD!$V$2:$V$685)","v":0},{"$f":"SUMIF(BDD!$BC$2:$BC$685,\"pompe à eauVRAIFAUXFAUXVRAIFAUX\",BDD!$V$2:$V$685)","v":13},{"$f":"SUMIF(BDD!$BC$2:$BC$685,\"pompe à eauVRAIFAUXFAUXFAUXVRAI\",BDD!$V$2:$V$685)","v":0},{"$f":"SUMIF(BDD!$BC$2:$BC$685,\"pompe à eauFAUXVRAIVRAIFAUXFAUX\",BDD!$V$2:$V$685)","v":0},{"$f":"SUMIF(BDD!$BC$2:$BC$685,\"pompe à eauFAUXVRAIFAUXVRAIFAUX\",BDD!$V$2:$V$685)","v":0},{"$f":"SUMIF(BDD!$BC$2:$BC$685,\"pompe à eauFAUXVRAIFAUXFAUXVRAI\",BDD!$V$2:$V$685)","v":1},{"$f":"SUMIF(BDD!$BC$2:$BC$685,\"pompe à eauVRAIFAUXVRAIFAUXFAUX\",BDD!$V$2:$V$685)","v":0},{"$f":"SUMIF(BDD!$BC$2:$BC$685,\"pompe à eauVRAIFAUXFAUXVRAIFAUX\",BDD!$V$2:$V$685)","v":13},{"$f":"SUMIF(BDD!$BC$2:$BC$685,\"pompe à eauVRAIFAUXFAUXFAUXVRAI\",BDD!$V$2:$V$685)","v":0},{"$f":"SUMIF(BDD!$BC$2:$BC$685,\"pompe à eauFAUXVRAIVRAIFAUXFAUX\",BDD!$V$2:$V$685)","v":0},{"$f":"SUMIF(BDD!$BC$2:$BC$685,\"pompe à eauFAUXVRAIFAUXVRAIFAUX\",BDD!$V$2:$V$685)","v":0},{"$f":"SUMIF(BDD!$BC$2:$BC$685,\"pompe à eauFAUXVRAIFAUXFAUXVRAI\",BDD!$V$2:$V$685)","v":1},{"$f":"SUMIF(BDD!$BC$2:$BC$685,\"pompe à eauVRAIFAUXVRAIFAUXFAUX\",BDD!$V$2:$V$685)","v":0},{"$f":"SUMIF(BDD!$BC$2:$BC$685,\"pompe à eauVRAIFAUXFAUXVRAIFAUX\",BDD!$V$2:$V$685)","v":13},{"$f":"SUMIF(BDD!$BC$2:$BC$685,\"pompe à eauVRAIFAUXFAUXFAUXVRAI\",BDD!$V$2:$V$685)","v":0},{"$f":"SUMIF(BDD!$BC$2:$BC$685,\"pompe à eauFAUXVRAIVRAIFAUXFAUX\",BDD!$V$2:$V$685)","v":0},{"$f":"SUMIF(BDD!$BC$2:$BC$685,\"pompe à eauFAUXVRAIFAUXVRAIFAUX\",BDD!$V$2:$V$685)","v":0},{"$f":"SUMIF(BDD!$BC$2:$BC$685,\"pompe à eauFAUXVRAIFAUXFAUXVRAI\",BDD!$V$2:$V$685)","v":1},{"$f":"SUMIF(BDD!$BC$2:$BC$685,\"pompe à eauVRAIFAUXVRAIFAUXFAUX\",BDD!$V$2:$V$685)","v":0},{"$f":"SUMIF(BDD!$BC$2:$BC$685,\"pompe à eauVRAIFAUXFAUXVRAIFAUX\",BDD!$V$2:$V$685)","v":13},{"$f":"SUMIF(BDD!$BC$2:$BC$685,\"pompe à eauVRAIFAUXFAUXFAUXVRAI\",BDD!$V$2:$V$685)","v":0},{"$f":"SUMIF(BDD!$BC$2:$BC$685,\"pompe à eauFAUXVRAIVRAIFAUXFAUX\",BDD!$V$2:$V$685)","v":0},{"$f":"SUMIF(BDD!$BC$2:$BC$685,\"pompe à eauFAUXVRAIFAUXVRAIFAUX\",BDD!$V$2:$V$685)","v":0},{"$f":"SUMIF(BDD!$BC$2:$BC$685,\"pompe à eauFAUXVRAIFAUXFAUXVRAI\",BDD!$V$2:$V$685)","v":1},{"$f":"SUMIF(BDD!$BC$2:$BC$685,\"pompe à eauVRAIFAUXVRAIFAUXFAUX\",BDD!$V$2:$V$685)","v":0},{"$f":"SUMIF(BDD!$BC$2:$BC$685,\"pompe à eauVRAIFAUXFAUXVRAIFAUX\",BDD!$V$2:$V$685)","v":13},{"$f":"SUMIF(BDD!$BC$2:$BC$685,\"pompe à eauVRAIFAUXFAUXFAUXVRAI\",BDD!$V$2:$V$685)","v":0},{"$f":"SUMIF(BDD!$BC$2:$BC$685,\"pompe à eauFAUXVRAIVRAIFAUXFAUX\",BDD!$V$2:$V$685)","v":0},{"$f":"SUMIF(BDD!$BC$2:$BC$685,\"pompe à eauFAUXVRAIFAUXVRAIFAUX\",BDD!$V$2:$V$685)","v":0},{"$f":"SUMIF(BDD!$BC$2:$BC$685,\"pompe à eauFAUXVRAIFAUXFAUXVRAI\",BDD!$V$2:$V$685)","v":1},{"$f":"SUMIF(BDD!$BC$2:$BC$685,\"pompe à eauVRAIFAUXVRAIFAUXFAUX\",BDD!$V$2:$V$685)","v":0},{"$f":"SUMIF(BDD!$BC$2:$BC$685,\"pompe à eauVRAIFAUXFAUXVRAIFAUX\",BDD!$V$2:$V$685)","v":13},{"$f":"SUMIF(BDD!$BC$2:$BC$685,\"pompe à eauVRAIFAUXFAUXFAUXVRAI\",BDD!$V$2:$V$685)","v":0},{"$f":"SUMIF(BDD!$BC$2:$BC$685,\"pompe à eauFAUXVRAIVRAIFAUXFAUX\",BDD!$V$2:$V$685)","v":0},{"$f":"SUMIF(BDD!$BC$2:$BC$685,\"pompe à eauFAUXVRAIFAUXVRAIFAUX\",BDD!$V$2:$V$685)","v":0},{"$f":"SUMIF(BDD!$BC$2:$BC$685,\"pompe à eauFAUXVRAIFAUXFAUXVRAI\",BDD!$V$2:$V$685)","v":1},{"$f":"SUMIF(BDD!$BC$2:$BC$685,\"pompe à eauVRAIFAUXVRAIFAUXFAUX\",BDD!$V$2:$V$685)","v":0},{"$f":"SUMIF(BDD!$BC$2:$BC$685,\"pompe à eauVRAIFAUXFAUXVRAIFAUX\",BDD!$V$2:$V$685)","v":13},{"$f":"SUMIF(BDD!$BC$2:$BC$685,\"pompe à eauVRAIFAUXFAUXFAUXVRAI\",BDD!$V$2:$V$685)","v":0},{"$f":"SUMIF(BDD!$BC$2:$BC$685,\"pompe à eauFAUXVRAIVRAIFAUXFAUX\",BDD!$V$2:$V$685)","v":0},{"$f":"SUMIF(BDD!$BC$2:$BC$685,\"pompe à eauFAUXVRAIFAUXVRAIFAUX\",BDD!$V$2:$V$685)","v":0},{"$f":"SUMIF(BDD!$BC$2:$BC$685,\"pompe à eauFAUXVRAIFAUXFAUXVRAI\",BDD!$V$2:$V$685)","v":1},{"$f":"SUMIF(BDD!$BC$2:$BC$685,\"pompe à eauVRAIFAUXVRAIFAUXFAUX\",BDD!$V$2:$V$685)","v":0},{"$f":"SUMIF(BDD!$BC$2:$BC$685,\"pompe à eauVRAIFAUXFAUXVRAIFAUX\",BDD!$V$2:$V$685)","v":13},{"$f":"SUMIF(BDD!$BC$2:$BC$685,\"pompe à eauVRAIFAUXFAUXFAUXVRAI\",BDD!$V$2:$V$685)","v":0},{"$f":"SUMIF(BDD!$BC$2:$BC$685,\"pompe à eauFAUXVRAIVRAIFAUXFAUX\",BDD!$V$2:$V$685)","v":0},{"$f":"SUMIF(BDD!$BC$2:$BC$685,\"pompe à eauFAUXVRAIFAUXVRAIFAUX\",BDD!$V$2:$V$685)","v":0},{"$f":"SUMIF(BDD!$BC$2:$BC$685,\"pompe à eauFAUXVRAIFAUXFAUXVRAI\",BDD!$V$2:$V$685)","v":1}]
["Banc PowerTrain",{"$f":"SUMIF(BDD!$BC$2:$BC$685,\"Banc PowerTrainVRAIFAUXVRAIFAUXFAUX\",BDD!$V$2:$V$685)","v":11},{"$f":"SUMIF(BDD!$BC$2:$BC$685,\"Banc PowerTrainVRAIFAUXFAUXVRAIFAUX\",BDD!$V$2:$V$685)","v":20},{"$f":"SUMIF(BDD!$BC$2:$BC$685,\"Banc PowerTrainVRAIFAUXFAUXFAUXVRAI\",BDD!$V$2:$V$685)","v":0},{"$f":"SUMIF(BDD!$BC$2:$BC$685,\"Banc PowerTrainFAUXVRAIVRAIFAUXFAUX\",BDD!$V$2:$V$685)","v":0},{"$f":"SUMIF(BDD!$BC$2:$BC$685,\"Banc PowerTrainFAUXVRAIFAUXVRAIFAUX\",BDD!$V$2:$V$685)","v":2},{"$f":"SUMIF(BDD!$BC$2:$BC$685,\"Banc PowerTrainFAUXVRAIFAUXFAUXVRAI\",BDD!$V$2:$V$685)","v":1},{"$f":"SUMIF(BDD!$BC$2:$BC$685,\"Banc PowerTrainVRAIFAUXVRAIFAUXFAUX\",BDD!$V$2:$V$685)","v":11},{"$f":"SUMIF(BDD!$BC$2:$BC$685,\"Banc PowerTrainVRAIFAUXFAUXVRAIFAUX\",BDD!$V$2:$V$685)","v":20},{"$f":"SUMIF(BDD!$BC$2:$BC$685,\"Banc PowerTrainVRAIFAUXFAUXFAUXVRAI\",BDD!$V$2:$V$685)","v":0},{"$f":"SUMIF(BDD!$BC$2:$BC$685,\"Banc PowerTrainFAUXVRAIVRAIFAUXFAUX\",BDD!$V$2:$V$685)","v":0},{"$f":"SUMIF(BDD!$BC$2:$BC$685,\"Banc PowerTrainFAUXVRAIFAUXVRAIFAUX\",BDD!$V$2:$V$685)","v":2},{"$f":"SUMIF(BDD!$BC$2:$BC$685,\"Banc PowerTrainFAUXVRAIFAUXFAUXVRAI\",BDD!$V$2:$V$685)","v":1},{"$f":"SUMIF(BDD!$BC$2:$BC$685,\"Banc PowerTrainVRAIFAUXVRAIFAUXFAUX\",BDD!$V$2:$V$685)","v":11},{"$f":"SUMIF(BDD!$BC$2:$BC$685,\"Banc PowerTrainVRAIFAUXFAUXVRAIFAUX\",BDD!$V$2:$V$685)","v":20},{"$f":"SUMIF(BDD!$BC$2:$BC$685,\"Banc PowerTrainVRAIFAUXFAUXFAUXVRAI\",BDD!$V$2:$V$685)","v":0},{"$f":"SUMIF(BDD!$BC$2:$BC$685,\"Banc PowerTrainFAUXVRAIVRAIFAUXFAUX\",BDD!$V$2:$V$685)","v":0},{"$f":"SUMIF(BDD!$BC$2:$BC$685,\"Banc PowerTrainFAUXVRAIFAUXVRAIFAUX\",BDD!$V$2:$V$685)","v":2},{"$f":"SUMIF(BDD!$BC$2:$BC$685,\"Banc PowerTrainFAUXVRAIFAUXFAUXVRAI\",BDD!$V$2:$V$685)","v":1},{"$f":"SUMIF(BDD!$BC$2:$BC$685,\"Banc PowerTrainVRAIFAUXVRAIFAUXFAUX\",BDD!$V$2:$V$685)","v":11},{"$f":"SUMIF(BDD!$BC$2:$BC$685,\"Banc PowerTrainVRAIFAUXFAUXVRAIFAUX\",BDD!$V$2:$V$685)","v":20},{"$f":"SUMIF(BDD!$BC$2:$BC$685,\"Banc PowerTrainVRAIFAUXFAUXFAUXVRAI\",BDD!$V$2:$V$685)","v":0},{"$f":"SUMIF(BDD!$BC$2:$BC$685,\"Banc PowerTrainFAUXVRAIVRAIFAUXFAUX\",BDD!$V$2:$V$685)","v":0},{"$f":"SUMIF(BDD!$BC$2:$BC$685,\"Banc PowerTrainFAUXVRAIFAUXVRAIFAUX\",BDD!$V$2:$V$685)","v":2},{"$f":"SUMIF(BDD!$BC$2:$BC$685,\"Banc PowerTrainFAUXVRAIFAUXFAUXVRAI\",BDD!$V$2:$V$685)","v":1},{"$f":"SUMIF(BDD!$BC$2:$BC$685,\"Banc PowerTrainVRAIFAUXVRAIFAUXFAUX\",BDD!$V$2:$V$685)","v":11},{"$f":"SUMIF(BDD!$BC$2:$BC$685,\"Banc PowerTrainVRAIFAUXFAUXVRAIFAUX\",BDD!$V$2:$V$685)","v":20},{"$f":"SUMIF(BDD!$BC$2:$BC$685,\"Banc PowerTrainVRAIFAUXFAUXFAUXVRAI\",BDD!$V$2:$V$685)","v":0},{"$f":"SUMIF(BDD!$BC$2:$BC$685,\"Banc PowerTrainFAUXVRAIVRAIFAUXFAUX\",BDD!$V$2:$V$685)","v":0},{"$f":"SUMIF(BDD!$BC$2:$BC$685,\"Banc PowerTrainFAUXVRAIFAUXVRAIFAUX\",BDD!$V$2:$V$685)","v":2},{"$f":"SUMIF(BDD!$BC$2:$BC$685,\"Banc PowerTrainFAUXVRAIFAUXFAUXVRAI\",BDD!$V$2:$V$685)","v":1},{"$f":"SUMIF(BDD!$BC$2:$BC$685,\"Banc PowerTrainVRAIFAUXVRAIFAUXFAUX\",BDD!$V$2:$V$685)","v":11},{"$f":"SUMIF(BDD!$BC$2:$BC$685,\"Banc PowerTrainVRAIFAUXFAUXVRAIFAUX\",BDD!$V$2:$V$685)","v":20},{"$f":"SUMIF(BDD!$BC$2:$BC$685,\"Banc PowerTrainVRAIFAUXFAUXFAUXVRAI\",BDD!$V$2:$V$685)","v":0},{"$f":"SUMIF(BDD!$BC$2:$BC$685,\"Banc PowerTrainFAUXVRAIVRAIFAUXFAUX\",BDD!$V$2:$V$685)","v":0},{"$f":"SUMIF(BDD!$BC$2:$BC$685,\"Banc PowerTrainFAUXVRAIFAUXVRAIFAUX\",BDD!$V$2:$V$685)","v":2},{"$f":"SUMIF(BDD!$BC$2:$BC$685,\"Banc PowerTrainFAUXVRAIFAUXFAUXVRAI\",BDD!$V$2:$V$685)","v":1},{"$f":"SUMIF(BDD!$BC$2:$BC$685,\"Banc PowerTrainVRAIFAUXVRAIFAUXFAUX\",BDD!$V$2:$V$685)","v":11},{"$f":"SUMIF(BDD!$BC$2:$BC$685,\"Banc PowerTrainVRAIFAUXFAUXVRAIFAUX\",BDD!$V$2:$V$685)","v":20},{"$f":"SUMIF(BDD!$BC$2:$BC$685,\"Banc PowerTrainVRAIFAUXFAUXFAUXVRAI\",BDD!$V$2:$V$685)","v":0},{"$f":"SUMIF(BDD!$BC$2:$BC$685,\"Banc PowerTrainFAUXVRAIVRAIFAUXFAUX\",BDD!$V$2:$V$685)","v":0},{"$f":"SUMIF(BDD!$BC$2:$BC$685,\"Banc PowerTrainFAUXVRAIFAUXVRAIFAUX\",BDD!$V$2:$V$685)","v":2},{"$f":"SUMIF(BDD!$BC$2:$BC$685,\"Banc PowerTrainFAUXVRAIFAUXFAUXVRAI\",BDD!$V$2:$V$685)","v":1},{"$f":"SUMIF(BDD!$BC$2:$BC$685,\"Banc PowerTrainVRAIFAUXVRAIFAUXFAUX\",BDD!$V$2:$V$685)","v":11},{"$f":"SUMIF(BDD!$BC$2:$BC$685,\"Banc PowerTrainVRAIFAUXFAUXVRAIFAUX\",BDD!$V$2:$V$685)","v":20},{"$f":"SUMIF(BDD!$BC$2:$BC$685,\"Banc PowerTrainVRAIFAUXFAUXFAUXVRAI\",BDD!$V$2:$V$685)","v":0},{"$f":"SUMIF(BDD!$BC$2:$BC$685,\"Banc PowerTrainFAUXVRAIVRAIFAUXFAUX\",BDD!$V$2:$V$685)","v":0},{"$f":"SUMIF(BDD!$BC$2:$BC$685,\"Banc PowerTrainFAUXVRAIFAUXVRAIFAUX\",BDD!$V$2:$V$685)","v":2},{"$f":"SUMIF(BDD!$BC$2:$BC$685,\"Banc PowerTrainFAUXVRAIFAUXFAUXVRAI\",BDD!$V$2:$V$685)","v":1},{"$f":"SUMIF(BDD!$BC$2:$BC$685,\"Banc PowerTrainVRAIFAUXVRAIFAUXFAUX\",BDD!$V$2:$V$685)","v":11},{"$f":"SUMIF(BDD!$BC$2:$BC$685,\"Banc PowerTrainVRAIFAUXFAUXVRAIFAUX\",BDD!$V$2:$V$685)","v":20},{"$f":"SUMIF(BDD!$BC$2:$BC$685,\"Banc PowerTrainVRAIFAUXFAUXFAUXVRAI\",BDD!$V$2:$V$685)","v":0},{"$f":"SUMIF(BDD!$BC$2:$BC$685,\"Banc PowerTrainFAUXVRAIVRAIFAUXFAUX\",BDD!$V$2:$V$685)","v":0},{"$f":"SUMIF(BDD!$BC$2:$BC$685,\"Banc PowerTrainFAUXVRAIFAUXVRAIFAUX\",BDD!$V$2:$V$685)","v":2},{"$f":"SUMIF(BDD!$BC$2:$BC$685,\"Banc PowerTrainFAUXVRAIFAUXFAUXVRAI\",BDD!$V$2:$V$685)","v":1},{"$f":"SUMIF(BDD!$BC$2:$BC$685,\"Banc PowerTrainVRAIFAUXVRAIFAUXFAUX\",BDD!$V$2:$V$685)","v":11},{"$f":"SUMIF(BDD!$BC$2:$BC$685,\"Banc PowerTrainVRAIFAUXFAUXVRAIFAUX\",BDD!$V$2:$V$685)","v":20},{"$f":"SUMIF(BDD!$BC$2:$BC$685,\"Banc PowerTrainVRAIFAUXFAUXFAUXVRAI\",BDD!$V$2:$V$685)","v":0},{"$f":"SUMIF(BDD!$BC$2:$BC$685,\"Banc PowerTrainFAUXVRAIVRAIFAUXFAUX\",BDD!$V$2:$V$685)","v":0},{"$f":"SUMIF(BDD!$BC$2:$BC$685,\"Banc PowerTrainFAUXVRAIFAUXVRAIFAUX\",BDD!$V$2:$V$685)","v":2},{"$f":"SUMIF(BDD!$BC$2:$BC$685,\"Banc PowerTrainFAUXVRAIFAUXFAUXVRAI\",BDD!$V$2:$V$685)","v":1},{"$f":"SUMIF(BDD!$BC$2:$BC$685,\"Banc PowerTrainVRAIFAUXVRAIFAUXFAUX\",BDD!$V$2:$V$685)","v":11},{"$f":"SUMIF(BDD!$BC$2:$BC$685,\"Banc PowerTrainVRAIFAUXFAUXVRAIFAUX\",BDD!$V$2:$V$685)","v":20},{"$f":"SUMIF(BDD!$BC$2:$BC$685,\"Banc PowerTrainVRAIFAUXFAUXFAUXVRAI\",BDD!$V$2:$V$685)","v":0},{"$f":"SUMIF(BDD!$BC$2:$BC$685,\"Banc PowerTrainFAUXVRAIVRAIFAUXFAUX\",BDD!$V$2:$V$685)","v":0},{"$f":"SUMIF(BDD!$BC$2:$BC$685,\"Banc PowerTrainFAUXVRAIFAUXVRAIFAUX\",BDD!$V$2:$V$685)","v":2},{"$f":"SUMIF(BDD!$BC$2:$BC$685,\"Banc PowerTrainFAUXVRAIFAUXFAUXVRAI\",BDD!$V$2:$V$685)","v":1},{"$f":"SUMIF(BDD!$BC$2:$BC$685,\"Banc PowerTrainVRAIFAUXVRAIFAUXFAUX\",BDD!$V$2:$V$685)","v":11},{"$f":"SUMIF(BDD!$BC$2:$BC$685,\"Banc PowerTrainVRAIFAUXFAUXVRAIFAUX\",BDD!$V$2:$V$685)","v":20},{"$f":"SUMIF(BDD!$BC$2:$BC$685,\"Banc PowerTrainVRAIFAUXFAUXFAUXVRAI\",BDD!$V$2:$V$685)","v":0},{"$f":"SUMIF(BDD!$BC$2:$BC$685,\"Banc PowerTrainFAUXVRAIVRAIFAUXFAUX\",BDD!$V$2:$V$685)","v":0},{"$f":"SUMIF(BDD!$BC$2:$BC$685,\"Banc PowerTrainFAUXVRAIFAUXVRAIFAUX\",BDD!$V$2:$V$685)","v":2},{"$f":"SUMIF(BDD!$BC$2:$BC$685,\"Banc PowerTrainFAUXVRAIFAUXFAUXVRAI\",BDD!$V$2:$V$685)","v":1}]

{"sheet":"Indicateur Zone9","index":6,"n_rows":100,"n_cols":73,"rows_kept":100,"cut":false,"hidden":false,"merged":[[90,19,90,21],[90,22,90,24],[31,1,31,12],[90,1,90,3],[90,4,90,6],[90,7,90,9],[90,10,90,12],[90,13,90,15],[56,21,56,22],[56,23,56,24],[88,1,88,21],[89,1,89,6],[89,7,89,12],[89,13,89,18],[89,19,89,24],[1,1,1,12],[55,1,55,12],[89,25,89,30],[90,25,90,27],[90,28,90,30],[56,1,56,2],[56,3,56,4],[56,5,56,6],[56,7,56,8],[56,9,56,10],[56,11,56,12],[56,13,56,14],[56,15,56,16],[56,17,56,18],[56,19,56,20],[90,16,90,18],[89,31,89,36],[89,37,89,42],[90,31,90,33],[90,34,90,36],[90,37,90,39],[90,40,90,42],[89,43,89,48],[89,49,89,54],[89,55,89,60],[89,61,89,66],[89,67,89,72],[90,43,90,45],[90,46,90,48],[90,49,90,51],[90,52,90,54],[90,55,90,57],[90,58,90,60],[90,61,90,63],[90,64,90,66],[90,67,90,69],[90,70,90,72]]}
[]
[null,"Suivi des arrêts par banc"]
["Banc zone 9","Janvier","Février","Mars","Avril","Mai","Juin","Juillet","Août","Septembre","Octobre","Novembre","Décembre"]
["Banc P9",{"$f":"SUMIF(BDD!$H$2:$H$685,'Indicateur Zone9'!$A$4,BDD!$V$2:$V$685)","v":189},{"$f":"SUMIF(BDD!$H$2:$H$685,'Indicateur Zone9'!$A$4,BDD!$V$2:$V$685)","v":189},{"$f":"SUMIF(BDD!$H$2:$H$685,'Indicateur Zone9'!$A$4,BDD!$V$2:$V$685)","v":189},{"$f":"SUMIF(BDD!$H$2:$H$685,'Indicateur Zone9'!$A$4,BDD!$V$2:$V$685)","v":189},{"$f":"SUMIF(BDD!$H$2:$H$685,'Indicateur Zone9'!$A$4,BDD!$V$2:$V$685)","v":189},{"$f":"SUMIF(BDD!$H$2:$H$685,'Indicateur Zone9'!$A$4,BDD!$V$2:$V$685)","v":189},{"$f":"SUMIF(BDD!$H$2:$H$685,'Indicateur Zone9'!$A$4,BDD!$V$2:$V$685)","v":189},{"$f":"SUMIF(BDD!$H$2:$H$685,'Indicateur Zone9'!$A$4,BDD!$V$2:$V$685)","v":189},{"$f":"SUMIF(BDD!$H$2:$H$685,'Indicateur Zone9'!$A$4,BDD!$V$2:$V$685)","v":189},{"$f":"SUMIF(BDD!$H$2:$H$685,'Indicateur Zone9'!$A$4,BDD!$V$2:$V$685)","v":189},{"$f":"SUMIF(BDD!$H$2:$H$685,'Indicateur Zone9'!$A$4,BDD!$V$2:$V$685)","v":189},{"$f":"SUMIF(BDD!$H$2:$H$685,'Indicateur Zone9'!$A$4,BDD!$V$2:$V$685)","v":189}]
["Banc 111",{"$f":"SUMIF(BDD!$H$2:$H$685,'Indicateur Zone9'!$A$5,BDD!$V$2:$V$685)","v":50},{"$f":"SUMIF(BDD!$H$2:$H$685,'Indicateur Zone9'!$A$5,BDD!$V$2:$V$685)","v":50},{"$f":"SUMIF(BDD!$H$2:$H$685,'Indicateur Zone9'!$A$5,BDD!$V$2:$V$685)","v":50},{"$f":"SUMIF(BDD!$H$2:$H$685,'Indicateur Zone9'!$A$5,BDD!$V$2:$V$685)","v":50},{"$f":"SUMIF(BDD!$H$2:$H$685,'Indicateur Zone9'!$A$5,BDD!$V$2:$V$685)","v":50},{"$f":"SUMIF(BDD!$H$2:$H$685,'Indicateur Zone9'!$A$5,BDD!$V$2:$V$685)","v":50},{"$f":"SUMIF(BDD!$H$2:$H$685,'Indicateur Zone9'!$A$5,BDD!$V$2:$V$685)","v":50},{"$f":"SUMIF(BDD!$H$2:$H$685,'Indicateur Zone9'!$A$5,BDD!$V$2:$V$685)","v":50},{"$f":"SUMIF(BDD!$H$2:$H$685,'Indicateur Zone9'!$A$5,BDD!$V$2:$V$685)","v":50},{"$f":"SUMIF(BDD!$H$2:$H$685,'Indicateur Zone9'!$A$5,BDD!$V$2:$V$685)","v":50},{"$f":"SUMIF(BDD!$H$2:$H$685,'Indicateur Zone9'!$A$5,BDD!$V$2:$V$685)","v":50},{"$f":"SUMIF(BDD!$H$2:$H$685,'Indicateur Zone9'!$A$5,BDD!$V$2:$V$685)","v":50}]
["Banc 117",{"$f":"SUMIF(BDD!$H$2:$H$685,'Indicateur Zone9'!$A$6,BDD!$V$2:$V$685)","v":69},{"$f":"SUMIF(BDD!$H$2:$H$685,'Indicateur Zone9'!$A$6,BDD!$V$2:$V$685)","v":69},{"$f":"SUMIF(BDD!$H$2:$H$685,'Indicateur Zone9'!$A$6,BDD!$V$2:$V$685)","v":69},{"$f":"SUMIF(BDD!$H$2:$H$685,'Indicateur Zone9'!$A$6,BDD!$V$2:$V$685)","v":69},{"$f":"SUMIF(BDD!$H$2:$H$685,'Indicateur Zone9'!$A$6,BDD!$V$2:$V$685)","v":69},{"$f":"SUMIF(BDD!$H$2:$H$685,'Indicateur Zone9'!$A$6,BDD!$V$2:$V$685)","v":69},{"$f":"SUMIF(BDD!$H$2:$H$685,'Indicateur Zone9'!$A$6,BDD!$V$2:$V$685)","v":69},{"$f":"SUMIF(BDD!$H$2:$H$685,'Indicateur Zone9'!$A$6,BDD!$V$2:$V$685)","v":69},{"$f":"SUMIF(BDD!$H$2:$H$685,'Indicateur Zone9'!$A$6,BDD!$V$2:$V$685)","v":69},{"$f":"SUMIF(BDD!$H$2:$H$685,'Indicateur Zone9'!$A$6,BDD!$V$2:$V$685)","v":69},{"$f":"SUMIF(BDD!$H$2:$H$685,'Indicateur Zone9'!$A$6,BDD!$V$2:$V$685)","v":69},{"$f":"SUMIF(BDD!$H$2:$H$685,'Indicateur Zone9'!$A$6,BDD!$V$2:$V$685)","v":69}]
["Banc 117 bis",{"$f":"SUMIF(BDD!$H$2:$H$685,'Indicateur Zone9'!$A$7,BDD!$V$2:$V$685)","v":87},{"$f":"SUMIF(BDD!$H$2:$H$685,'Indicateur Zone9'!$A$7,BDD!$V$2:$V$685)","v":87},{"$f":"SUMIF(BDD!$H$2:$H$685,'Indicateur Zone9'!$A$7,BDD!$V$2:$V$685)","v":87},{"$f":"SUMIF(BDD!$H$2:$H$685,'Indicateur Zone9'!$A$7,BDD!$V$2:$V$685)","v":87},{"$f":"SUMIF(BDD!$H$2:$H$685,'Indicateur Zone9'!$A$7,BDD!$V$2:$V$685)","v":87},{"$f":"SUMIF(BDD!$H$2:$H$685,'Indicateur Zone9'!$A$7,BDD!$V$2:$V$685)","v":87},{"$f":"SUMIF(BDD!$H$2:$H$685,'Indicateur Zone9'!$A$7,BDD!$V$2:$V$685)","v":87},{"$f":"SUMIF(BDD!$H$2:$H$685,'Indicateur Zone9'!$A$7,BDD!$V$2:$V$685)","v":87},{"$f":"SUMIF(BDD!$H$2:$H$685,'Indicateur Zone9'!$A$7,BDD!$V$2:$V$685)","v":87},{"$f":"SUMIF(BDD!$H$2:$H$685,'Indicateur Zone9'!$A$7,BDD!$V$2:$V$685)","v":87},{"$f":"SUMIF(BDD!$H$2:$H$685,'Indicateur Zone9'!$A$7,BDD!$V$2:$V$685)","v":87},{"$f":"SUMIF(BDD!$H$2:$H$685,'Indicateur Zone9'!$A$7,BDD!$V$2:$V$685)","v":87}]
["Banc 119",{"$f":"SUMIF(BDD!$H$2:$H$685,'Indicateur Zone9'!$A$8,BDD!$V$2:$V$685)","v":69},{"$f":"SUMIF(BDD!$H$2:$H$685,'Indicateur Zone9'!$A$8,BDD!$V$2:$V$685)","v":69},{"$f":"SUMIF(BDD!$H$2:$H$685,'Indicateur Zone9'!$A$8,BDD!$V$2:$V$685)","v":69},{"$f":"SUMIF(BDD!$H$2:$H$685,'Indicateur Zone9'!$A$8,BDD!$V$2:$V$685)","v":69},{"$f":"SUMIF(BDD!$H$2:$H$685,'Indicateur Zone9'!$A$8,BDD!$V$2:$V$685)","v":69},{"$f":"SUMIF(BDD!$H$2:$H$685,'Indicateur Zone9'!$A$8,BDD!$V$2:$V$685)","v":69},{"$f":"SUMIF(BDD!$H$2:$H$685,'Indicateur Zone9'!$A$8,BDD!$V$2:$V$685)","v":69},{"$f":"SUMIF(BDD!$H$2:$H$685,'Indicateur Zone9'!$A$8,BDD!$V$2:$V$685)","v":69},{"$f":"SUMIF(BDD!$H$2:$H$685,'Indicateur Zone9'!$A$8,BDD!$V$2:$V$685)","v":69},{"$f":"SUMIF(BDD!$H$2:$H$685,'Indicateur Zone9'!$A$8,BDD!$V$2:$V$685)","v":69},{"$f":"SUMIF(BDD!$H$2:$H$685,'Indicateur Zone9'!$A$8,BDD!$V$2:$V$685)","v":69},{"$f":"SUMIF(BDD!$H$2:$H$685,'Indicateur Zone9'!$A$8,BDD!$V$2:$V$685)","v":69}]
["Banc 123",{"$f":"SUMIF(BDD!$H$2:$H$685,'Indicateur Zone9'!$A$9,BDD!$V$2:$V$685)","v":55},{"$f":"SUMIF(BDD!$H$2:$H$685,'Indicateur Zone9'!$A$9,BDD!$V$2:$V$685)","v":55},{"$f":"SUMIF(BDD!$H$2:$H$685,'Indicateur Zone9'!$A$9,BDD!$V$2:$V$685)","v":55},{"$f":"SUMIF(BDD!$H$2:$H$685,'Indicateur Zone9'!$A$9,BDD!$V$2:$V$685)","v":55},{"$f":"SUMIF(BDD!$H$2:$H$685,'Indicateur Zone9'!$A$9,BDD!$V$2:$V$685)","v":55},{"$f":"SUMIF(BDD!$H$2:$H$685,'Indicateur Zone9'!$A$9,BDD!$V$2:$V$685)","v":55},{"$f":"SUMIF(BDD!$H$2:$H$685,'Indicateur Zone9'!$A$9,BDD!$V$2:$V$685)","v":55},{"$f":"SUMIF(BDD!$H$2:$H$685,'Indicateur Zone9'!$A$9,BDD!$V$2:$V$685)","v":55},{"$f":"SUMIF(BDD!$H$2:$H$685,'Indicateur Zone9'!$A$9,BDD!$V$2:$V$685)","v":55},{"$f":"SUMIF(BDD!$H$2:$H$685,'Indicateur Zone9'!$A$9,BDD!$V$2:$V$685)","v":55},{"$f":"SUMIF(BDD!$H$2:$H$685,'Indicateur Zone9'!$A$9,BDD!$V$2:$V$685)","v":55},{"$f":"SUMIF(BDD!$H$2:$H$685,'Indicateur Zone9'!$A$9,BDD!$V$2:$V$685)","v":55}]
["Banc 126",{"$f":"SUMIF(BDD!$H$2:$H$685,'Indicateur Zone9'!$A$10,BDD!$V$2:$V$685)","v":100},{"$f":"SUMIF(BDD!$H$2:$H$685,'Indicateur Zone9'!$A$10,BDD!$V$2:$V$685)","v":100},{"$f":"SUMIF(BDD!$H$2:$H$685,'Indicateur Zone9'!$A$10,BDD!$V$2:$V$685)","v":100},{"$f":"SUMIF(BDD!$H$2:$H$685,'Indicateur Zone9'!$A$10,BDD!$V$2:$V$685)","v":100},{"$f":"SUMIF(BDD!$H$2:$H$685,'Indicateur Zone9'!$A$10,BDD!$V$2:$V$685)","v":100},{"$f":"SUMIF(BDD!$H$2:$H$685,'Indicateur Zone9'!$A$10,BDD!$V$2:$V$685)","v":100},{"$f":"SUMIF(BDD!$H$2:$H$685,'Indicateur Zone9'!$A$10,BDD!$V$2:$V$685)","v":100},{"$f":"SUMIF(BDD!$H$2:$H$685,'Indicateur Zone9'!$A$10,BDD!$V$2:$V$685)","v":100},{"$f":"SUMIF(BDD!$H$2:$H$685,'Indicateur Zone9'!$A$10,BDD!$V$2:$V$685)","v":100},{"$f":"SUMIF(BDD!$H$2:$H$685,'Indicateur Zone9'!$A$10,BDD!$V$2:$V$685)","v":100},{"$f":"SUMIF(BDD!$H$2:$H$685,'Indicateur Zone9'!$A$10,BDD!$V$2:$V$685)","v":100},{"$f":"SUMIF(BDD!$H$2:$H$685,'Indicateur Zone9'!$A$10,BDD!$V$2:$V$685)","v":100}]
["Banc 156",{"$f":"SUMIF(BDD!$H$2:$H$685,'Indicateur Zone9'!$A$11,BDD!$V$2:$V$685)","v":111},{"$f":"SUMIF(BDD!$H$2:$H$685,'Indicateur Zone9'!$A$11,BDD!$V$2:$V$685)","v":111},{"$f":"SUMIF(BDD!$H$2:$H$685,'Indicateur Zone9'!$A$11,BDD!$V$2:$V$685)","v":111},{"$f":"SUMIF(BDD!$H$2:$H$685,'Indicateur Zone9'!$A$11,BDD!$V$2:$V$685)","v":111},{"$f":"SUMIF(BDD!$H$2:$H$685,'Indicateur Zone9'!$A$11,BDD!$V$2:$V$685)","v":111},{"$f":"SUMIF(BDD!$H$2:$H$685,'Indicateur Zone9'!$A$11,BDD!$V$2:$V$685)","v":111},{"$f":"SUMIF(BDD!$H$2:$H$685,'Indicateur Zone9'!$A$11,BDD!$V$2:$V$685)","v":111},{"$f":"SUMIF(BDD!$H$2:$H$685,'Indicateur Zone9'!$A$11,BDD!$V$2:$V$685)","v":111},{"$f":"SUMIF(BDD!$H$2:$H$685,'Indicateur Zone9'!$A$11,BDD!$V$2:$V$685)","v":111},{"$f":"SUMIF(BDD!$H$2:$H$685,'Indicateur Zone9'!$A$11,BDD!$V$2:$V$685)","v":111},{"$f":"SUMIF(BDD!$H$2:$H$685,'Indicateur Zone9'!$A$11,BDD!$V$2:$V$685)","v":111},{"$f":"SUMIF(BDD!$H$2:$H$685,'Indicateur Zone9'!$A$11,BDD!$V$2:$V$685)","v":111}]
[]
[]
[]
[]
[]
[]
[]
[]
[]
[]
[]
[]
[]
[]
[]
[]
[]
[]
[]
[]
[null,"Suivi du correctif et du préventif"]
["Type de maintenance","Janvier","Février","Mars","Avril","Mai","Juin","Juillet","Août","Septembre","Octobre","Novembre","Décembre"]
["Préventive",{"$f":"SUM(C59:C66)","v":492},{"$f":"SUM(E59:E66)","v":492},{"$f":"SUM(G59:G66)","v":492},{"$f":"SUM(I59:I66)","v":492},{"$f":"SUM(K59:K66)","v":492},{"$f":"SUM(M59:M66)","v":492},{"$f":"SUM(O59:O66)","v":492},{"$f":"SUM(Q59:Q66)","v":492},{"$f":"SUM(S59:S66)","v":492},{"$f":"SUM(U59:U66)","v":492},{"$f":"SUM(W59:W66)","v":492},{"$f":"SUM(Y59:Y66)","v":492}]
["Corrective",{"$f":"SUM(B59:B66)","v":213},{"$f":"SUM(D59:D66)","v":213},{"$f":"SUM(F59:F66)","v":213},{"$f":"SUM(H59:H66)","v":213},{"$f":"SUM(J59:J66)","v":213},{"$f":"SUM(L59:L66)","v":213},{"$f":"SUM(N59:N66)","v":213},{"$f":"SUM(N59:N66)","v":213},{"$f":"SUM(R59:R66)","v":213},{"$f":"SUM(T59:T66)","v":213},{"$f":"SUM(V59:V66)","v":213},{"$f":"SUM(X59:X66)","v":213}]
[]
[]
[]
[]
[]
[]
[]
[]
[]
[]
[]
[]
[]
[]
[]
[]
[]
[]
[]
[]
[null,"Suivi du correctif et du préventif par banc"]
[null,"Janvier",null,"Février",null,"Mars",null,"Avril",null,"Mai",null,"Juin",null,"Juillet",null,"Août",null,"Septembre",null,"Octobre",null,"Novembre",null,"Décembre"]
["Banc zone 9","Corrective","Préventive","Corrective","Préventive","Corrective","Préventive","Corrective","Préventive","Corrective","Préventive","Corrective","Préventive","Corrective","Préventive","Corrective","Préventive","Corrective","Préventive","Corrective","Préventive","Corrective","Préventive","Corrective","Préventive"]
["Banc P9",{"$f":"SUMIF(BDD!$BB$2:$BB$685,\"Banc P9VRAIFAUX\",BDD!$V$2:$V$685)","v":16},{"$f":"SUMIF(BDD!$BB$2:$BB$685,\"Banc P9FAUXvrai\",BDD!$V$2:$V$685)","v":173},{"$f":"SUMIF(BDD!$BB$2:$BB$685,\"Banc P9VRAIFAUX\",BDD!$V$2:$V$685)","v":16},{"$f":"SUMIF(BDD!$BB$2:$BB$685,\"Banc P9FAUXvrai\",BDD!$V$2:$V$685)","v":173},{"$f":"SUMIF(BDD!$BB$2:$BB$685,\"Banc P9VRAIFAUX\",BDD!$V$2:$V$685)","v":16},{"$f":"SUMIF(BDD!$BB$2:$BB$685,\"Banc P9FAUXvrai\",BDD!$V$2:$V$685)","v":173},{"$f":"SUMIF(BDD!$BB$2:$BB$685,\"Banc P9VRAIFAUX\",BDD!$V$2:$V$685)","v":16},{"$f":"SUMIF(BDD!$BB$2:$BB$685,\"Banc P9FAUXvrai\",BDD!$V$2:$V$685)","v":173},{"$f":"SUMIF(BDD!$BB$2:$BB$685,\"Banc P9VRAIFAUX\",BDD!$V$2:$V$685)","v":16},{"$f":"SUMIF(BDD!$BB$2:$BB$685,\"Banc P9FAUXvrai\",BDD!$V$2:$V$685)","v":173},{"$f":"SUMIF(BDD!$BB$2:$BB$685,\"Banc P9VRAIFAUX\",BDD!$V$2:$V$685)","v":16},{"$f":"SUMIF(BDD!$BB$2:$BB$685,\"Banc P9FAUXvrai\",BDD!$V$2:$V$685)","v":173},{"$f":"SUMIF(BDD!$BB$2:$BB$685,\"Banc P9VRAIFAUX\",BDD!$V$2:$V$685)","v":16},{"$f":"SUMIF(BDD!$BB$2:$BB$685,\"Banc P9FAUXvrai\",BDD!$V$2:$V$685)","v":173},{"$f":"SUMIF(BDD!$BB$2:$BB$685,\"Banc P9VRAIFAUX\",BDD!$V$2:$V$685)","v":16},{"$f":"SUMIF(BDD!$BB$2:$BB$685,\"Banc P9FAUXvrai\",BDD!$V$2:$V$685)","v":173},{"$f":"SUMIF(BDD!$BB$2:$BB$685,\"Banc P9VRAIFAUX\",BDD!$V$2:$V$685)","v":16},{"$f":"SUMIF(BDD!$BB$2:$BB$685,\"Banc P9FAUXvrai\",BDD!$V$2:$V$685)","v":173},{"$f":"SUMIF(BDD!$BB$2:$BB$685,\"Banc P9VRAIFAUX\",BDD!$V$2:$V$685)","v":16},{"$f":"SUMIF(BDD!$BB$2:$BB$685,\"Banc P9FAUXvrai\",BDD!$V$2:$V$685)","v":173},{"$f":"SUMIF(BDD!$BB$2:$BB$685,\"Banc P9VRAIFAUX\",BDD!$V$2:$V$685)","v":16},{"$f":"SUMIF(BDD!$BB$2:$BB$685,\"Banc P9FAUXvrai\",BDD!$V$2:$V$685)","v":173},{"$f":"SUMIF(BDD!$BB$2:$BB$685,\"Banc P9VRAIFAUX\",BDD!$V$2:$V$685)","v":16},{"$f":"SUMIF(BDD!$BB$2:$BB$685,\"Banc P9FAUXvrai\",BDD!$V$2:$V$685)","v":173}]
["Banc 111",{"$f":"SUMIF(BDD!$BB$2:$BB$685,\"Banc 111VRAIFAUX\",BDD!$V$2:$V$685)","v":25},{"$f":"SUMIF(BDD!$BB$2:$BB$685,\"Banc 111FAUXVRAI\",BDD!$V$2:$V$685)","v":25},{"$f":"SUMIF(BDD!$BB$2:$BB$685,\"Banc 111VRAIFAUX\",BDD!$V$2:$V$685)","v":25},{"$f":"SUMIF(BDD!$BB$2:$BB$685,\"Banc 111FAUXVRAI\",BDD!$V$2:$V$685)","v":25},{"$f":"SUMIF(BDD!$BB$2:$BB$685,\"Banc 111VRAIFAUX\",BDD!$V$2:$V$685)","v":25},{"$f":"SUMIF(BDD!$BB$2:$BB$685,\"Banc 111FAUXVRAI\",BDD!$V$2:$V$685)","v":25},{"$f":"SUMIF(BDD!$BB$2:$BB$685,\"Banc 111VRAIFAUX\",BDD!$V$2:$V$685)","v":25},{"$f":"SUMIF(BDD!$BB$2:$BB$685,\"Banc 111FAUXVRAI\",BDD!$V$2:$V$685)","v":25},{"$f":"SUMIF(BDD!$BB$2:$BB$685,\"Banc 111VRAIFAUX\",BDD!$V$2:$V$685)","v":25},{"$f":"SUMIF(BDD!$BB$2:$BB$685,\"Banc 111FAUXVRAI\",BDD!$V$2:$V$685)","v":25},{"$f":"SUMIF(BDD!$BB$2:$BB$685,\"Banc 111VRAIFAUX\",BDD!$V$2:$V$685)","v":25},{"$f":"SUMIF(BDD!$BB$2:$BB$685,\"Banc 111FAUXVRAI\",BDD!$V$2:$V$685)","v":25},{"$f":"SUMIF(BDD!$BB$2:$BB$685,\"Banc 111VRAIFAUX\",BDD!$V$2:$V$685)","v":25},{"$f":"SUMIF(BDD!$BB$2:$BB$685,\"Banc 111FAUXVRAI\",BDD!$V$2:$V$685)","v":25},{"$f":"SUMIF(BDD!$BB$2:$BB$685,\"Banc 111VRAIFAUX\",BDD!$V$2:$V$685)","v":25},{"$f":"SUMIF(BDD!$BB$2:$BB$685,\"Banc 111FAUXVRAI\",BDD!$V$2:$V$685)","v":25},{"$f":"SUMIF(BDD!$BB$2:$BB$685,\"Banc 111VRAIFAUX\",BDD!$V$2:$V$685)","v":25},{"$f":"SUMIF(BDD!$BB$2:$BB$685,\"Banc 111FAUXVRAI\",BDD!$V$2:$V$685)","v":25},{"$f":"SUMIF(BDD!$BB$2:$BB$685,\"Banc 111VRAIFAUX\",BDD!$V$2:$V$685)","v":25},{"$f":"SUMIF(BDD!$BB$2:$BB$685,\"Banc 111FAUXVRAI\",BDD!$V$2:$V$685)","v":25},{"$f":"SUMIF(BDD!$BB$2:$BB$685,\"Banc 111VRAIFAUX\",BDD!$V$2:$V$685)","v":25},{"$f":"SUMIF(BDD!$BB$2:$BB$685,\"Banc 111FAUXVRAI\",BDD!$V$2:$V$685)","v":25},{"$f":"SUMIF(BDD!$BB$2:$BB$685,\"Banc 111VRAIFAUX\",BDD!$V$2:$V$685)","v":25},{"$f":"SUMIF(BDD!$BB$2:$BB$685,\"Banc 111FAUXVRAI\",BDD!$V$2:$V$685)","v":25}]
["Banc 117",{"$f":"SUMIF(BDD!$BB$2:$BB$685,\"Banc 117VRAIFAUX\",BDD!$V$2:$V$685)","v":20},{"$f":"SUMIF(BDD!$BB$2:$BB$685,\"Banc 117FAUXVRAI\",BDD!$V$2:$V$685)","v":49},{"$f":"SUMIF(BDD!$BB$2:$BB$685,\"Banc 117VRAIFAUX\",BDD!$V$2:$V$685)","v":20},{"$f":"SUMIF(BDD!$BB$2:$BB$685,\"Banc 117FAUXVRAI\",BDD!$V$2:$V$685)","v":49},{"$f":"SUMIF(BDD!$BB$2:$BB$685,\"Banc 117VRAIFAUX\",BDD!$V$2:$V$685)","v":20},{"$f":"SUMIF(BDD!$BB$2:$BB$685,\"Banc 117FAUXVRAI\",BDD!$V$2:$V$685)","v":49},{"$f":"SUMIF(BDD!$BB$2:$BB$685,\"Banc 117VRAIFAUX\",BDD!$V$2:$V$685)","v":20},{"$f":"SUMIF(BDD!$BB$2:$BB$685,\"Banc 117FAUXVRAI\",BDD!$V$2:$V$685)","v":49},{"$f":"SUMIF(BDD!$BB$2:$BB$685,\"Banc 117VRAIFAUX\",BDD!$V$2:$V$685)","v":20},{"$f":"SUMIF(BDD!$BB$2:$BB$685,\"Banc 117FAUXVRAI\",BDD!$V$2:$V$685)","v":49},{"$f":"SUMIF(BDD!$BB$2:$BB$685,\"Banc 117VRAIFAUX\",BDD!$V$2:$V$685)","v":20},{"$f":"SUMIF(BDD!$BB$2:$BB$685,\"Banc 117FAUXVRAI\",BDD!$V$2:$V$685)","v":49},{"$f":"SUMIF(BDD!$BB$2:$BB$685,\"Banc 117VRAIFAUX\",BDD!$V$2:$V$685)","v":20},{"$f":"SUMIF(BDD!$BB$2:$BB$685,\"Banc 117FAUXVRAI\",BDD!$V$2:$V$685)","v":49},{"$f":"SUMIF(BDD!$BB$2:$BB$685,\"Banc 117VRAIFAUX\",BDD!$V$2:$V$685)","v":20},{"$f":"SUMIF(BDD!$BB$2:$BB$685,\"Banc 117FAUXVRAI\",BDD!$V$2:$V$685)","v":49},{"$f":"SUMIF(BDD!$BB$2:$BB$685,\"Banc 117VRAIFAUX\",BDD!$V$2:$V$685)","v":20},{"$f":"SUMIF(BDD!$BB$2:$BB$685,\"Banc 117FAUXVRAI\",BDD!$V$2:$V$685)","v":49},{"$f":"SUMIF(BDD!$BB$2:$BB$685,\"Banc 117VRAIFAUX\",BDD!$V$2:$V$685)","v":20},{"$f":"SUMIF(BDD!$BB$2:$BB$685,\"Banc 117FAUXVRAI\",BDD!$V$2:$V$685)","v":49},{"$f":"SUMIF(BDD!$BB$2:$BB$685,\"Banc 117VRAIFAUX\",BDD!$V$2:$V$685)","v":20},{"$f":"SUMIF(BDD!$BB$2:$BB$685,\"Banc 117FAUXVRAI\",BDD!$V$2:$V$685)","v":49},{"$f":"SUMIF(BDD!$BB$2:$BB$685,\"Banc 117VRAIFAUX\",BDD!$V$2:$V$685)","v":20},{"$f":"SUMIF(BDD!$BB$2:$BB$685,\"Banc 117FAUXVRAI\",BDD!$V$2:$V$685)","v":49}]
["Banc 117 bis",{"$f":"SUMIF(BDD!$BB$2:$BB$685,\"Banc 117 bisVRAIFAUX\",BDD!$V$2:$V$685)","v":20},{"$f":"SUMIF(BDD!$BB$2:$BB$685,\"Banc 117 bisFAUXVRAI\",BDD!$V$2:$V$685)","v":67},{"$f":"SUMIF(BDD!$BB$2:$BB$685,\"Banc 117 bisVRAIFAUX\",BDD!$V$2:$V$685)","v":20},{"$f":"SUMIF(BDD!$BB$2:$BB$685,\"Banc 117 bisFAUXVRAI\",BDD!$V$2:$V$685)","v":67},{"$f":"SUMIF(BDD!$BB$2:$BB$685,\"Banc 117 bisVRAIFAUX\",BDD!$V$2:$V$685)","v":20},{"$f":"SUMIF(BDD!$BB$2:$BB$685,\"Banc 117 bisFAUXVRAI\",BDD!$V$2:$V$685)","v":67},{"$f":"SUMIF(BDD!$BB$2:$BB$685,\"Banc 117 bisVRAIFAUX\",BDD!$V$2:$V$685)","v":20},{"$f":"SUMIF(BDD!$BB$2:$BB$685,\"Banc 117 bisFAUXVRAI\",BDD!$V$2:$V$685)","v":67},{"$f":"SUMIF(BDD!$BB$2:$BB$685,\"Banc 117 bisVRAIFAUX\",BDD!$V$2:$V$685)","v":20},{"$f":"SUMIF(BDD!$BB$2:$BB$685,\"Banc 117 bisFAUXVRAI\",BDD!$V$2:$V$685)","v":67},{"$f":"SUMIF(BDD!$BB$2:$BB$685,\"Banc 117 bisVRAIFAUX\",BDD!$V$2:$V$685)","v":20},{"$f":"SUMIF(BDD!$BB$2:$BB$685,\"Banc 117 bisFAUXVRAI\",BDD!$V$2:$V$685)","v":67},{"$f":"SUMIF(BDD!$BB$2:$BB$685,\"Banc 117 bisVRAIFAUX\",BDD!$V$2:$V$685)","v":20},{"$f":"SUMIF(BDD!$BB$2:$BB$685,\"Banc 117 bisFAUXVRAI\",BDD!$V$2:$V$685)","v":67},{"$f":"SUMIF(BDD!$BB$2:$BB$685,\"Banc 117 bisVRAIFAUX\",BDD!$V$2:$V$685)","v":20},{"$f":"SUMIF(BDD!$BB$2:$BB$685,\"Banc 117 bisFAUXVRAI\",BDD!$V$2:$V$685)","v":67},{"$f":"SUMIF(BDD!$BB$2:$BB$685,\"Banc 117 bisVRAIFAUX\",BDD!$V$2:$V$685)","v":20},{"$f":"SUMIF(BDD!$BB$2:$BB$685,\"Banc 117 bisFAUXVRAI\",BDD!$V$2:$V$685)","v":67},{"$f":"SUMIF(BDD!$BB$2:$BB$685,\"Banc 117 bisVRAIFAUX\",BDD!$V$2:$V$685)","v":20},{"$f":"SUMIF(BDD!$BB$2:$BB$685,\"Banc 117 bisFAUXVRAI\",BDD!$V$2:$V$685)","v":67},{"$f":"SUMIF(BDD!$BB$2:$BB$685,\"Banc 117 bisVRAIFAUX\",BDD!$V$2:$V$685)","v":20},{"$f":"SUMIF(BDD!$BB$2:$BB$685,\"Banc 117 bisFAUXVRAI\",BDD!$V$2:$V$685)","v":67},{"$f":"SUMIF(BDD!$BB$2:$BB$685,\"Banc 117 bisVRAIFAUX\",BDD!$V$2:$V$685)","v":20},{"$f":"SUMIF(BDD!$BB$2:$BB$685,\"Banc 117 bisFAUXVRAI\",BDD!$V$2:$V$685)","v":67}]
["Banc 119",{"$f":"SUMIF(BDD!$BB$2:$BB$685,\"Banc 119VRAIFAUX\",BDD!$V$2:$V$685)","v":23},{"$f":"SUMIF(BDD!$BB$2:$BB$685,\"Banc 119FAUXVRAI\",BDD!$V$2:$V$685)","v":46},{"$f":"SUMIF(BDD!$BB$2:$BB$685,\"Banc 119VRAIFAUX\",BDD!$V$2:$V$685)","v":23},{"$f":"SUMIF(BDD!$BB$2:$BB$685,\"Banc 119FAUXVRAI\",BDD!$V$2:$V$685)","v":46},{"$f":"SUMIF(BDD!$BB$2:$BB$685,\"Banc 119VRAIFAUX\",BDD!$V$2:$V$685)","v":23},{"$f":"SUMIF(BDD!$BB$2:$BB$685,\"Banc 119FAUXVRAI\",BDD!$V$2:$V$685)","v":46},{"$f":"SUMIF(BDD!$BB$2:$BB$685,\"Banc 119VRAIFAUX\",BDD!$V$2:$V$685)","v":23},{"$f":"SUMIF(BDD!$BB$2:$BB$685,\"Banc 119FAUXVRAI\",BDD!$V$2:$V$685)","v":46},{"$f":"SUMIF(BDD!$BB$2:$BB$685,\"Banc 119VRAIFAUX\",BDD!$V$2:$V$685)","v":23},{"$f":"SUMIF(BDD!$BB$2:$BB$685,\"Banc 119FAUXVRAI\",BDD!$V$2:$V$685)","v":46},{"$f":"SUMIF(BDD!$BB$2:$BB$685,\"Banc 119VRAIFAUX\",BDD!$V$2:$V$685)","v":23},{"$f":"SUMIF(BDD!$BB$2:$BB$685,\"Banc 119FAUXVRAI\",BDD!$V$2:$V$685)","v":46},{"$f":"SUMIF(BDD!$BB$2:$BB$685,\"Banc 119VRAIFAUX\",BDD!$V$2:$V$685)","v":23},{"$f":"SUMIF(BDD!$BB$2:$BB$685,\"Banc 119FAUXVRAI\",BDD!$V$2:$V$685)","v":46},{"$f":"SUMIF(BDD!$BB$2:$BB$685,\"Banc 119VRAIFAUX\",BDD!$V$2:$V$685)","v":23},{"$f":"SUMIF(BDD!$BB$2:$BB$685,\"Banc 119FAUXVRAI\",BDD!$V$2:$V$685)","v":46},{"$f":"SUMIF(BDD!$BB$2:$BB$685,\"Banc 119VRAIFAUX\",BDD!$V$2:$V$685)","v":23},{"$f":"SUMIF(BDD!$BB$2:$BB$685,\"Banc 119FAUXVRAI\",BDD!$V$2:$V$685)","v":46},{"$f":"SUMIF(BDD!$BB$2:$BB$685,\"Banc 119VRAIFAUX\",BDD!$V$2:$V$685)","v":23},{"$f":"SUMIF(BDD!$BB$2:$BB$685,\"Banc 119FAUXVRAI\",BDD!$V$2:$V$685)","v":46},{"$f":"SUMIF(BDD!$BB$2:$BB$685,\"Banc 119VRAIFAUX\",BDD!$V$2:$V$685)","v":23},{"$f":"SUMIF(BDD!$BB$2:$BB$685,\"Banc 119FAUXVRAI\",BDD!$V$2:$V$685)","v":46},{"$f":"SUMIF(BDD!$BB$2:$BB$685,\"Banc 119VRAIFAUX\",BDD!$V$2:$V$685)","v":23},{"$f":"SUMIF(BDD!$BB$2:$BB$685,\"Banc 119FAUXVRAI\",BDD!$V$2:$V$685)","v":46}]
["Banc 123",{"$f":"SUMIF(BDD!$BB$2:$BB$685,\"Banc 123VRAIFAUX\",BDD!$V$2:$V$685)","v":30},{"$f":"SUMIF(BDD!$BB$2:$BB$685,\"Banc 123FAUXVRAI\",BDD!$V$2:$V$685)","v":25},{"$f":"SUMIF(BDD!$BB$2:$BB$685,\"Banc 123VRAIFAUX\",BDD!$V$2:$V$685)","v":30},{"$f":"SUMIF(BDD!$BB$2:$BB$685,\"Banc 123FAUXVRAI\",BDD!$V$2:$V$685)","v":25},{"$f":"SUMIF(BDD!$BB$2:$BB$685,\"Banc 123VRAIFAUX\",BDD!$V$2:$V$685)","v":30},{"$f":"SUMIF(BDD!$BB$2:$BB$685,\"Banc 123FAUXVRAI\",BDD!$V$2:$V$685)","v":25},{"$f":"SUMIF(BDD!$BB$2:$BB$685,\"Banc 123VRAIFAUX\",BDD!$V$2:$V$685)","v":30},{"$f":"SUMIF(BDD!$BB$2:$BB$685,\"Banc 123FAUXVRAI\",BDD!$V$2:$V$685)","v":25},{"$f":"SUMIF(BDD!$BB$2:$BB$685,\"Banc 123VRAIFAUX\",BDD!$V$2:$V$685)","v":30},{"$f":"SUMIF(BDD!$BB$2:$BB$685,\"Banc 123FAUXVRAI\",BDD!$V$2:$V$685)","v":25},{"$f":"SUMIF(BDD!$BB$2:$BB$685,\"Banc 123VRAIFAUX\",BDD!$V$2:$V$685)","v":30},{"$f":"SUMIF(BDD!$BB$2:$BB$685,\"Banc 123FAUXVRAI\",BDD!$V$2:$V$685)","v":25},{"$f":"SUMIF(BDD!$BB$2:$BB$685,\"Banc 123VRAIFAUX\",BDD!$V$2:$V$685)","v":30},{"$f":"SUMIF(BDD!$BB$2:$BB$685,\"Banc 123FAUXVRAI\",BDD!$V$2:$V$685)","v":25},{"$f":"SUMIF(BDD!$BB$2:$BB$685,\"Banc 123VRAIFAUX\",BDD!$V$2:$V$685)","v":30},{"$f":"SUMIF(BDD!$BB$2:$BB$685,\"Banc 123FAUXVRAI\",BDD!$V$2:$V$685)","v":25},{"$f":"SUMIF(BDD!$BB$2:$BB$685,\"Banc 123VRAIFAUX\",BDD!$V$2:$V$685)","v":30},{"$f":"SUMIF(BDD!$BB$2:$BB$685,\"Banc 123FAUXVRAI\",BDD!$V$2:$V$685)","v":25},{"$f":"SUMIF(BDD!$BB$2:$BB$685,\"Banc 123VRAIFAUX\",BDD!$V$2:$V$685)","v":30},{"$f":"SUMIF(BDD!$BB$2:$BB$685,\"Banc 123FAUXVRAI\",BDD!$V$2:$V$685)","v":25},{"$f":"SUMIF(BDD!$BB$2:$BB$685,\"Banc 123VRAIFAUX\",BDD!$V$2:$V$685)","v":30},{"$f":"SUMIF(BDD!$BB$2:$BB$685,\"Banc 123FAUXVRAI\",BDD!$V$2:$V$685)","v":25},{"$f":"SUMIF(BDD!$BB$2:$BB$685,\"Banc 123VRAIFAUX\",BDD!$V$2:$V$685)","v":30},{"$f":"SUMIF(BDD!$BB$2:$BB$685,\"Banc 123FAUXVRAI\",BDD!$V$2:$V$685)","v":25}]
["Banc 126",{"$f":"SUMIF(BDD!$BB$2:$BB$685,\"Banc 126VRAIFAUX\",BDD!$V$2:$V$685)","v":31},{"$f":"SUMIF(BDD!$BB$2:$BB$685,\"Banc 126FAUXVRAI\",BDD!$V$2:$V$685)","v":69},{"$f":"SUMIF(BDD!$BB$2:$BB$685,\"Banc 126VRAIFAUX\",BDD!$V$2:$V$685)","v":31},{"$f":"SUMIF(BDD!$BB$2:$BB$685,\"Banc 126FAUXVRAI\",BDD!$V$2:$V$685)","v":69},{"$f":"SUMIF(BDD!$BB$2:$BB$685,\"Banc 126VRAIFAUX\",BDD!$V$2:$V$685)","v":31},{"$f":"SUMIF(BDD!$BB$2:$BB$685,\"Banc 126FAUXVRAI\",BDD!$V$2:$V$685)","v":69},{"$f":"SUMIF(BDD!$BB$2:$BB$685,\"Banc 126VRAIFAUX\",BDD!$V$2:$V$685)","v":31},{"$f":"SUMIF(BDD!$BB$2:$BB$685,\"Banc 126FAUXVRAI\",BDD!$V$2:$V$685)","v":69},{"$f":"SUMIF(BDD!$BB$2:$BB$685,\"Banc 126VRAIFAUX\",BDD!$V$2:$V$685)","v":31},{"$f":"SUMIF(BDD!$BB$2:$BB$685,\"Banc 126FAUXVRAI\",BDD!$V$2:$V$685)","v":69},{"$f":"SUMIF(BDD!$BB$2:$BB$685,\"Banc 126VRAIFAUX\",BDD!$V$2:$V$685)","v":31},{"$f":"SUMIF(BDD!$BB$2:$BB$685,\"Banc 126FAUXVRAI\",BDD!$V$2:$V$685)","v":69},{"$f":"SUMIF(BDD!$BB$2:$BB$685,\"Banc 126VRAIFAUX\",BDD!$V$2:$V$685)","v":31},{"$f":"SUMIF(BDD!$BB$2:$BB$685,\"Banc 126FAUXVRAI\",BDD!$V$2:$V$685)","v":69},{"$f":"SUMIF(BDD!$BB$2:$BB$685,\"Banc 126VRAIFAUX\",BDD!$V$2:$V$685)","v":31},{"$f":"SUMIF(BDD!$BB$2:$BB$685,\"Banc 126FAUXVRAI\",BDD!$V$2:$V$685)","v":69},{"$f":"SUMIF(BDD!$BB$2:$BB$685,\"Banc 126VRAIFAUX\",BDD!$V$2:$V$685)","v":31},{"$f":"SUMIF(BDD!$BB$2:$BB$685,\"Banc 126FAUXVRAI\",BDD!$V$2:$V$685)","v":69},{"$f":"SUMIF(BDD!$BB$2:$BB$685,\"Banc 126VRAIFAUX\",BDD!$V$2:$V$685)","v":31},{"$f":"SUMIF(BDD!$BB$2:$BB$685,\"Banc 126FAUXVRAI\",BDD!$V$2:$V$685)","v":69},{"$f":"SUMIF(BDD!$BB$2:$BB$685,\"Banc 126VRAIFAUX\",BDD!$V$2:$V$685)","v":31},{"$f":"SUMIF(BDD!$BB$2:$BB$685,\"Banc 126FAUXVRAI\",BDD!$V$2:$V$685)","v":69},{"$f":"SUMIF(BDD!$BB$2:$BB$685,\"Banc 126VRAIFAUX\",BDD!$V$2:$V$685)","v":31},{"$f":"SUMIF(BDD!$BB$2:$BB$685,\"Banc 126FAUXVRAI\",BDD!$V$2:$V$685)","v":69}]
["Banc 156",{"$f":"SUMIF(BDD!$BB$2:$BB$685,\"Banc 156VRAIFAUX\",BDD!$V$2:$V$685)","v":48},{"$f":"SUMIF(BDD!$BB$2:$BB$685,\"Banc 156FAUXVRAI\",BDD!$V$2:$V$685)","v":38},{"$f":"SUMIF(BDD!$BB$2:$BB$685,\"Banc 156VRAIFAUX\",BDD!$V$2:$V$685)","v":48},{"$f":"SUMIF(BDD!$BB$2:$BB$685,\"Banc 156FAUXVRAI\",BDD!$V$2:$V$685)","v":38},{"$f":"SUMIF(BDD!$BB$2:$BB$685,\"Banc 156VRAIFAUX\",BDD!$V$2:$V$685)","v":48},{"$f":"SUMIF(BDD!$BB$2:$BB$685,\"Banc 156FAUXVRAI\",BDD!$V$2:$V$685)","v":38},{"$f":"SUMIF(BDD!$BB$2:$BB$685,\"Banc 156VRAIFAUX\",BDD!$V$2:$V$685)","v":48},{"$f":"SUMIF(BDD!$BB$2:$BB$685,\"Banc 156FAUXVRAI\",BDD!$V$2:$V$685)","v":38},{"$f":"SUMIF(BDD!$BB$2:$BB$685,\"Banc 156VRAIFAUX\",BDD!$V$2:$V$685)","v":48},{"$f":"SUMIF(BDD!$BB$2:$BB$685,\"Banc 156FAUXVRAI\",BDD!$V$2:$V$685)","v":38},{"$f":"SUMIF(BDD!$BB$2:$BB$685,\"Banc 156VRAIFAUX\",BDD!$V$2:$V$685)","v":48},{"$f":"SUMIF(BDD!$BB$2:$BB$685,\"Banc 156FAUXVRAI\",BDD!$V$2:$V$685)","v":38},{"$f":"SUMIF(BDD!$BB$2:$BB$685,\"Banc 156VRAIFAUX\",BDD!$V$2:$V$685)","v":48},{"$f":"SUMIF(BDD!$BB$2:$BB$685,\"Banc 156FAUXVRAI\",BDD!$V$2:$V$685)","v":38},{"$f":"SUMIF(BDD!$BB$2:$BB$685,\"Banc 156VRAIFAUX\",BDD!$V$2:$V$685)","v":48},{"$f":"SUMIF(BDD!$BB$2:$BB$685,\"Banc 156FAUXVRAI\",BDD!$V$2:$V$685)","v":38},{"$f":"SUMIF(BDD!$BB$2:$BB$685,\"Banc 156VRAIFAUX\",BDD!$V$2:$V$685)","v":48},{"$f":"SUMIF(BDD!$BB$2:$BB$685,\"Banc 156FAUXVRAI\",BDD!$V$2:$V$685)","v":38},{"$f":"SUMIF(BDD!$BB$2:$BB$685,\"Banc 156VRAIFAUX\",BDD!$V$2:$V$685)","v":48},{"$f":"SUMIF(BDD!$BB$2:$BB$685,\"Banc 156FAUXVRAI\",BDD!$V$2:$V$685)","v":38},{"$f":"SUMIF(BDD!$BB$2:$BB$685,\"Banc 156VRAIFAUX\",BDD!$V$2:$V$685)","v":48},{"$f":"SUMIF(BDD!$BB$2:$BB$685,\"Banc 156FAUXVRAI\",BDD!$V$2:$V$685)","v":38},{"$f":"SUMIF(BDD!$BB$2:$BB$685,\"Banc 156VRAIFAUX\",BDD!$V$2:$V$685)","v":48},{"$f":"SUMIF(BDD!$BB$2:$BB$685,\"Banc 156FAUXVRAI\",BDD!$V$2:$V$685)","v":38}]
[]
[]
[]
[]
[]
[]
[]
[]
[]
[]
[]
[]
[]
[]
[]
[]
[]
[]
[]
[]
[]
[]
[null,"Suivi du correctif et du préventif par banc"]
[null,"Janvier",null,null,null,null,null,"Février",null,null,null,null,null,"Mars",null,null,null,null,null,"Avril",null,null,null,null,null,"Mai",null,null,null,null,null,"Juin",null,null,null,null,null,"Juillet",null,null,null,null,null,"Août",null,null,null,null,null,"Septembre",null,null,null,null,null,"Octobre",null,null,null,null,null,"Novembre",null,null,null,null,null,"Décembre"]
[null,"Corrective",null,null,"Préventive",null,null,"Corrective",null,null,"Préventive",null,null,"Corrective",null,null,"Préventive",null,null,"Corrective",null,null,"Préventive",null,null,"Corrective",null,null,"Préventive",null,null,"Corrective",null,null,"Préventive",null,null,"Corrective",null,null,"Préventive",null,null,"Corrective",null,null,"Préventive",null,null,"Corrective",null,null,"Préventive",null,null,"Corrective",null,null,"Préventive",null,null,"Corrective",null,null,"Préventive",null,null,"Corrective",null,null,"Préventive"]
["Banc zone 9","Electrique","Mécanique","Hydraulique","Electrique","Mécanique","Hydraulique","Electrique","Mécanique","Hydraulique","Electrique","Mécanique","Hydraulique","Electrique","Mécanique","Hydraulique","Electrique","Mécanique","Hydraulique","Electrique","Mécanique","Hydraulique","Electrique","Mécanique","Hydraulique","Electrique","Mécanique","Hydraulique","Electrique","Mécanique","Hydraulique","Electrique","Mécanique","Hydraulique","Electrique","Mécanique","Hydraulique","Electrique","Mécanique","Hydraulique","Electrique","Mécanique","Hydraulique","Electrique","Mécanique","Hydraulique","Electrique","Mécanique","Hydraulique","Electrique","Mécanique","Hydraulique","Electrique","Mécanique","Hydraulique","Electrique","Mécanique","Hydraulique","Electrique","Mécanique","Hydraulique","Electrique","Mécanique","Hydraulique","Electrique","Mécanique","Hydraulique","Electrique","Mécanique","Hydraulique","Electrique","Mécanique","Hydraulique"]
["Banc P9",{"$f":"SUMIF(BDD!$BC$2:$BC$685,\"Banc P9VRAIFAUXVRAIFAUXFAUX\",BDD!$V$2:$V$685)","v":4},{"$f":"SUMIF(BDD!$BC$2:$BC$685,\"Banc P9VRAIFAUXFAUXVRAIFAUX\",BDD!$V$2:$V$685)","v":19},{"$f":"SUMIF(BDD!$BC$2:$BC$685,\"Banc P9VRAIFAUXFAUXFAUXVRAI\",BDD!$V$2:$V$685)","v":27},{"$f":"SUMIF(BDD!$BC$2:$BC$685,\"Banc P9FAUXVRAIVRAIFAUXFAUX\",BDD!$V$2:$V$685)","v":127},{"$f":"SUMIF(BDD!$BC$2:$BC$685,\"Banc P9FAUXVRAIFAUXVRAIFAUX\",BDD!$V$2:$V$685)","v":3},{"$f":"SUMIF(BDD!$BC$2:$BC$685,\"Banc P9FAUXVRAIFAUXFAUXVRAI\",BDD!$V$2:$V$685)","v":9},{"$f":"SUMIF(BDD!$BC$2:$BC$685,\"Banc P9VRAIFAUXVRAIFAUXFAUX\",BDD!$V$2:$V$685)","v":4},{"$f":"SUMIF(BDD!$BC$2:$BC$685,\"Banc P9VRAIFAUXFAUXVRAIFAUX\",BDD!$V$2:$V$685)","v":19},{"$f":"SUMIF(BDD!$BC$2:$BC$685,\"Banc P9VRAIFAUXFAUXFAUXVRAI\",BDD!$V$2:$V$685)","v":27},{"$f":"SUMIF(BDD!$BC$2:$BC$685,\"Banc P9FAUXVRAIVRAIFAUXFAUX\",BDD!$V$2:$V$685)","v":127},{"$f":"SUMIF(BDD!$BC$2:$BC$685,\"Banc P9FAUXVRAIFAUXVRAIFAUX\",BDD!$V$2:$V$685)","v":3},{"$f":"SUMIF(BDD!$BC$2:$BC$685,\"Banc P9FAUXVRAIFAUXFAUXVRAI\",BDD!$V$2:$V$685)","v":9},{"$f":"SUMIF(BDD!$BC$2:$BC$685,\"Banc P9VRAIFAUXVRAIFAUXFAUX\",BDD!$V$2:$V$685)","v":4},{"$f":"SUMIF(BDD!$BC$2:$BC$685,\"Banc P9VRAIFAUXFAUXVRAIFAUX\",BDD!$V$2:$V$685)","v":19},{"$f":"SUMIF(BDD!$BC$2:$BC$685,\"Banc P9VRAIFAUXFAUXFAUXVRAI\",BDD!$V$2:$V$685)","v":27},{"$f":"SUMIF(BDD!$BC$2:$BC$685,\"Banc P9FAUXVRAIVRAIFAUXFAUX\",BDD!$V$2:$V$685)","v":127},{"$f":"SUMIF(BDD!$BC$2:$BC$685,\"Banc P9FAUXVRAIFAUXVRAIFAUX\",BDD!$V$2:$V$685)","v":3},{"$f":"SUMIF(BDD!$BC$2:$BC$685,\"Banc P9FAUXVRAIFAUXFAUXVRAI\",BDD!$V$2:$V$685)","v":9},{"$f":"SUMIF(BDD!$BC$2:$BC$685,\"Banc P9VRAIFAUXVRAIFAUXFAUX\",BDD!$V$2:$V$685)","v":4},{"$f":"SUMIF(BDD!$BC$2:$BC$685,\"Banc P9VRAIFAUXFAUXVRAIFAUX\",BDD!$V$2:$V$685)","v":19},{"$f":"SUMIF(BDD!$BC$2:$BC$685,\"Banc P9VRAIFAUXFAUXFAUXVRAI\",BDD!$V$2:$V$685)","v":27},{"$f":"SUMIF(BDD!$BC$2:$BC$685,\"Banc P9FAUXVRAIVRAIFAUXFAUX\",BDD!$V$2:$V$685)","v":127},{"$f":"SUMIF(BDD!$BC$2:$BC$685,\"Banc P9FAUXVRAIFAUXVRAIFAUX\",BDD!$V$2:$V$685)","v":3},{"$f":"SUMIF(BDD!$BC$2:$BC$685,\"Banc P9FAUXVRAIFAUXFAUXVRAI\",BDD!$V$2:$V$685)","v":9},{"$f":"SUMIF(BDD!$BC$2:$BC$685,\"Banc P9VRAIFAUXVRAIFAUXFAUX\",BDD!$V$2:$V$685)","v":4},{"$f":"SUMIF(BDD!$BC$2:$BC$685,\"Banc P9VRAIFAUXFAUXVRAIFAUX\",BDD!$V$2:$V$685)","v":19},{"$f":"SUMIF(BDD!$BC$2:$BC$685,\"Banc P9VRAIFAUXFAUXFAUXVRAI\",BDD!$V$2:$V$685)","v":27},{"$f":"SUMIF(BDD!$BC$2:$BC$685,\"Banc P9FAUXVRAIVRAIFAUXFAUX\",BDD!$V$2:$V$685)","v":127},{"$f":"SUMIF(BDD!$BC$2:$BC$685,\"Banc P9FAUXVRAIFAUXVRAIFAUX\",BDD!$V$2:$V$685)","v":3},{"$f":"SUMIF(BDD!$BC$2:$BC$685,\"Banc P9FAUXVRAIFAUXFAUXVRAI\",BDD!$V$2:$V$685)","v":9},{"$f":"SUMIF(BDD!$BC$2:$BC$685,\"Banc P9VRAIFAUXVRAIFAUXFAUX\",BDD!$V$2:$V$685)","v":4},{"$f":"SUMIF(BDD!$BC$2:$BC$685,\"Banc P9VRAIFAUXFAUXVRAIFAUX\",BDD!$V$2:$V$685)","v":19},{"$f":"SUMIF(BDD!$BC$2:$BC$685,\"Banc P9VRAIFAUXFAUXFAUXVRAI\",BDD!$V$2:$V$685)","v":27},{"$f":"SUMIF(BDD!$BC$2:$BC$685,\"Banc P9FAUXVRAIVRAIFAUXFAUX\",BDD!$V$2:$V$685)","v":127},{"$f":"SUMIF(BDD!$BC$2:$BC$685,\"Banc P9FAUXVRAIFAUXVRAIFAUX\",BDD!$V$2:$V$685)","v":3},{"$f":"SUMIF(BDD!$BC$2:$BC$685,\"Banc P9FAUXVRAIFAUXFAUXVRAI\",BDD!$V$2:$V$685)","v":9},{"$f":"SUMIF(BDD!$BC$2:$BC$685,\"Banc P9VRAIFAUXVRAIFAUXFAUX\",BDD!$V$2:$V$685)","v":4},{"$f":"SUMIF(BDD!$BC$2:$BC$685,\"Banc P9VRAIFAUXFAUXVRAIFAUX\",BDD!$V$2:$V$685)","v":19},{"$f":"SUMIF(BDD!$BC$2:$BC$685,\"Banc P9VRAIFAUXFAUXFAUXVRAI\",BDD!$V$2:$V$685)","v":27},{"$f":"SUMIF(BDD!$BC$2:$BC$685,\"Banc P9FAUXVRAIVRAIFAUXFAUX\",BDD!$V$2:$V$685)","v":127},{"$f":"SUMIF(BDD!$BC$2:$BC$685,\"Banc P9FAUXVRAIFAUXVRAIFAUX\",BDD!$V$2:$V$685)","v":3},{"$f":"SUMIF(BDD!$BC$2:$BC$685,\"Banc P9FAUXVRAIFAUXFAUXVRAI\",BDD!$V$2:$V$685)","v":9},{"$f":"SUMIF(BDD!$BC$2:$BC$685,\"Banc P9VRAIFAUXVRAIFAUXFAUX\",BDD!$V$2:$V$685)","v":4},{"$f":"SUMIF(BDD!$BC$2:$BC$685,\"Banc P9VRAIFAUXFAUXVRAIFAUX\",BDD!$V$2:$V$685)","v":19},{"$f":"SUMIF(BDD!$BC$2:$BC$685,\"Banc P9VRAIFAUXFAUXFAUXVRAI\",BDD!$V$2:$V$685)","v":27},{"$f":"SUMIF(BDD!$BC$2:$BC$685,\"Banc P9FAUXVRAIVRAIFAUXFAUX\",BDD!$V$2:$V$685)","v":127},{"$f":"SUMIF(BDD!$BC$2:$BC$685,\"Banc P9FAUXVRAIFAUXVRAIFAUX\",BDD!$V$2:$V$685)","v":3},{"$f":"SUMIF(BDD!$BC$2:$BC$685,\"Banc P9FAUXVRAIFAUXFAUXVRAI\",BDD!$V$2:$V$685)","v":9},{"$f":"SUMIF(BDD!$BC$2:$BC$685,\"Banc P9VRAIFAUXVRAIFAUXFAUX\",BDD!$V$2:$V$685)","v":4},{"$f":"SUMIF(BDD!$BC$2:$BC$685,\"Banc P9VRAIFAUXFAUXVRAIFAUX\",BDD!$V$2:$V$685)","v":19},{"$f":"SUMIF(BDD!$BC$2:$BC$685,\"Banc P9VRAIFAUXFAUXFAUXVRAI\",BDD!$V$2:$V$685)","v":27},{"$f":"SUMIF(BDD!$BC$2:$BC$685,\"Banc P9FAUXVRAIVRAIFAUXFAUX\",BDD!$V$2:$V$685)","v":127},{"$f":"SUMIF(BDD!$BC$2:$BC$685,\"Banc P9FAUXVRAIFAUXVRAIFAUX\",BDD!$V$2:$V$685)","v":3},{"$f":"SUMIF(BDD!$BC$2:$BC$685,\"Banc P9FAUXVRAIFAUXFAUXVRAI\",BDD!$V$2:$V$685)","v":9},{"$f":"SUMIF(BDD!$BC$2:$BC$685,\"Banc P9VRAIFAUXVRAIFAUXFAUX\",BDD!$V$2:$V$685)","v":4},{"$f":"SUMIF(BDD!$BC$2:$BC$685,\"Banc P9VRAIFAUXFAUXVRAIFAUX\",BDD!$V$2:$V$685)","v":19},{"$f":"SUMIF(BDD!$BC$2:$BC$685,\"Banc P9VRAIFAUXFAUXFAUXVRAI\",BDD!$V$2:$V$685)","v":27},{"$f":"SUMIF(BDD!$BC$2:$BC$685,\"Banc P9FAUXVRAIVRAIFAUXFAUX\",BDD!$V$2:$V$685)","v":127},{"$f":"SUMIF(BDD!$BC$2:$BC$685,\"Banc P9FAUXVRAIFAUXVRAIFAUX\",BDD!$V$2:$V$685)","v":3},{"$f":"SUMIF(BDD!$BC$2:$BC$685,\"Banc P9FAUXVRAIFAUXFAUXVRAI\",BDD!$V$2:$V$685)","v":9},{"$f":"SUMIF(BDD!$BC$2:$BC$685,\"Banc P9VRAIFAUXVRAIFAUXFAUX\",BDD!$V$2:$V$685)","v":4},{"$f":"SUMIF(BDD!$BC$2:$BC$685,\"Banc P9VRAIFAUXFAUXVRAIFAUX\",BDD!$V$2:$V$685)","v":19},{"$f":"SUMIF(BDD!$BC$2:$BC$685,\"Banc P9VRAIFAUXFAUXFAUXVRAI\",BDD!$V$2:$V$685)","v":27},{"$f":"SUMIF(BDD!$BC$2:$BC$685,\"Banc P9FAUXVRAIVRAIFAUXFAUX\",BDD!$V$2:$V$685)","v":127},{"$f":"SUMIF(BDD!$BC$2:$BC$685,\"Banc P9FAUXVRAIFAUXVRAIFAUX\",BDD!$V$2:$V$685)","v":3},{"$f":"SUMIF(BDD!$BC$2:$BC$685,\"Banc P9FAUXVRAIFAUXFAUXVRAI\",BDD!$V$2:$V$685)","v":9},{"$f":"SUMIF(BDD!$BC$2:$BC$685,\"Banc P9VRAIFAUXVRAIFAUXFAUX\",BDD!$V$2:$V$685)","v":4},{"$f":"SUMIF(BDD!$BC$2:$BC$685,\"Banc P9VRAIFAUXFAUXVRAIFAUX\",BDD!$V$2:$V$685)","v":19},{"$f":"SUMIF(BDD!$BC$2:$BC$685,\"Banc P9VRAIFAUXFAUXFAUXVRAI\",BDD!$V$2:$V$685)","v":27},{"$f":"SUMIF(BDD!$BC$2:$BC$685,\"Banc P9FAUXVRAIVRAIFAUXFAUX\",BDD!$V$2:$V$685)","v":127},{"$f":"SUMIF(BDD!$BC$2:$BC$685,\"Banc P9FAUXVRAIFAUXVRAIFAUX\",BDD!$V$2:$V$685)","v":3},{"$f":"SUMIF(BDD!$BC$2:$BC$685,\"Banc P9FAUXVRAIFAUXFAUXVRAI\",BDD!$V$2:$V$685)","v":9}]
["Banc 111",{"$f":"SUMIF(BDD!$BC$2:$BC$685,\"Banc 111VRAIFAUXVRAIFAUXFAUX\",BDD!$V$2:$V$685)","v":5},{"$f":"SUMIF(BDD!$BC$2:$BC$685,\"Banc 111VRAIFAUXFAUXVRAIFAUX\",BDD!$V$2:$V$685)","v":20},{"$f":"SUMIF(BDD!$BC$2:$BC$685,\"Banc 111VRAIFAUXFAUXFAUXVRAI\",BDD!$V$2:$V$685)","v":0},{"$f":"SUMIF(BDD!$BC$2:$BC$685,\"Banc 111FAUXVRAIVRAIFAUXFAUX\",BDD!$V$2:$V$685)","v":13},{"$f":"SUMIF(BDD!$BC$2:$BC$685,\"Banc 111FAUXVRAIFAUXVRAIFAUX\",BDD!$V$2:$V$685)","v":8},{"$f":"SUMIF(BDD!$BC$2:$BC$685,\"Banc 111FAUXVRAIFAUXFAUXVRAI\",BDD!$V$2:$V$685)","v":4},{"$f":"SUMIF(BDD!$BC$2:$BC$685,\"Banc 111VRAIFAUXVRAIFAUXFAUX\",BDD!$V$2:$V$685)","v":5},{"$f":"SUMIF(BDD!$BC$2:$BC$685,\"Banc 111VRAIFAUXFAUXVRAIFAUX\",BDD!$V$2:$V$685)","v":20},{"$f":"SUMIF(BDD!$BC$2:$BC$685,\"Banc 111VRAIFAUXFAUXFAUXVRAI\",BDD!$V$2:$V$685)","v":0},{"$f":"SUMIF(BDD!$BC$2:$BC$685,\"Banc 111FAUXVRAIVRAIFAUXFAUX\",BDD!$V$2:$V$685)","v":13},{"$f":"SUMIF(BDD!$BC$2:$BC$685,\"Banc 111FAUXVRAIFAUXVRAIFAUX\",BDD!$V$2:$V$685)","v":8},{"$f":"SUMIF(BDD!$BC$2:$BC$685,\"Banc 111FAUXVRAIFAUXFAUXVRAI\",BDD!$V$2:$V$685)","v":4},{"$f":"SUMIF(BDD!$BC$2:$BC$685,\"Banc 111VRAIFAUXVRAIFAUXFAUX\",BDD!$V$2:$V$685)","v":5},{"$f":"SUMIF(BDD!$BC$2:$BC$685,\"Banc 111VRAIFAUXFAUXVRAIFAUX\",BDD!$V$2:$V$685)","v":20},{"$f":"SUMIF(BDD!$BC$2:$BC$685,\"Banc 111VRAIFAUXFAUXFAUXVRAI\",BDD!$V$2:$V$685)","v":0},{"$f":"SUMIF(BDD!$BC$2:$BC$685,\"Banc 111FAUXVRAIVRAIFAUXFAUX\",BDD!$V$2:$V$685)","v":13},{"$f":"SUMIF(BDD!$BC$2:$BC$685,\"Banc 111FAUXVRAIFAUXVRAIFAUX\",BDD!$V$2:$V$685)","v":8},{"$f":"SUMIF(BDD!$BC$2:$BC$685,\"Banc 111FAUXVRAIFAUXFAUXVRAI\",BDD!$V$2:$V$685)","v":4},{"$f":"SUMIF(BDD!$BC$2:$BC$685,\"Banc 111VRAIFAUXVRAIFAUXFAUX\",BDD!$V$2:$V$685)","v":5},{"$f":"SUMIF(BDD!$BC$2:$BC$685,\"Banc 111VRAIFAUXFAUXVRAIFAUX\",BDD!$V$2:$V$685)","v":20},{"$f":"SUMIF(BDD!$BC$2:$BC$685,\"Banc 111VRAIFAUXFAUXFAUXVRAI\",BDD!$V$2:$V$685)","v":0},{"$f":"SUMIF(BDD!$BC$2:$BC$685,\"Banc 111FAUXVRAIVRAIFAUXFAUX\",BDD!$V$2:$V$685)","v":13},{"$f":"SUMIF(BDD!$BC$2:$BC$685,\"Banc 111FAUXVRAIFAUXVRAIFAUX\",BDD!$V$2:$V$685)","v":8},{"$f":"SUMIF(BDD!$BC$2:$BC$685,\"Banc 111FAUXVRAIFAUXFAUXVRAI\",BDD!$V$2:$V$685)","v":4},{"$f":"SUMIF(BDD!$BC$2:$BC$685,\"Banc 111VRAIFAUXVRAIFAUXFAUX\",BDD!$V$2:$V$685)","v":5},{"$f":"SUMIF(BDD!$BC$2:$BC$685,\"Banc 111VRAIFAUXFAUXVRAIFAUX\",BDD!$V$2:$V$685)","v":20},{"$f":"SUMIF(BDD!$BC$2:$BC$685,\"Banc 111VRAIFAUXFAUXFAUXVRAI\",BDD!$V$2:$V$685)","v":0},{"$f":"SUMIF(BDD!$BC$2:$BC$685,\"Banc 111FAUXVRAIVRAIFAUXFAUX\",BDD!$V$2:$V$685)","v":13},{"$f":"SUMIF(BDD!$BC$2:$BC$685,\"Banc 111FAUXVRAIFAUXVRAIFAUX\",BDD!$V$2:$V$685)","v":8},{"$f":"SUMIF(BDD!$BC$2:$BC$685,\"Banc 111FAUXVRAIFAUXFAUXVRAI\",BDD!$V$2:$V$685)","v":4},{"$f":"SUMIF(BDD!$BC$2:$BC$685,\"Banc 111VRAIFAUXVRAIFAUXFAUX\",BDD!$V$2:$V$685)","v":5},{"$f":"SUMIF(BDD!$BC$2:$BC$685,\"Banc 111VRAIFAUXFAUXVRAIFAUX\",BDD!$V$2:$V$685)","v":20},{"$f":"SUMIF(BDD!$BC$2:$BC$685,\"Banc 111VRAIFAUXFAUXFAUXVRAI\",BDD!$V$2:$V$685)","v":0},{"$f":"SUMIF(BDD!$BC$2:$BC$685,\"Banc 111FAUXVRAIVRAIFAUXFAUX\",BDD!$V$2:$V$685)","v":13},{"$f":"SUMIF(BDD!$BC$2:$BC$685,\"Banc 111FAUXVRAIFAUXVRAIFAUX\",BDD!$V$2:$V$685)","v":8},{"$f":"SUMIF(BDD!$BC$2:$BC$685,\"Banc 111FAUXVRAIFAUXFAUXVRAI\",BDD!$V$2:$V$685)","v":4},{"$f":"SUMIF(BDD!$BC$2:$BC$685,\"Banc 111VRAIFAUXVRAIFAUXFAUX\",BDD!$V$2:$V$685)","v":5},{"$f":"SUMIF(BDD!$BC$2:$BC$685,\"Banc 111VRAIFAUXFAUXVRAIFAUX\",BDD!$V$2:$V$685)","v":20},{"$f":"SUMIF(BDD!$BC$2:$BC$685,\"Banc 111VRAIFAUXFAUXFAUXVRAI\",BDD!$V$2:$V$685)","v":0},{"$f":"SUMIF(BDD!$BC$2:$BC$685,\"Banc 111FAUXVRAIVRAIFAUXFAUX\",BDD!$V$2:$V$685)","v":13},{"$f":"SUMIF(BDD!$BC$2:$BC$685,\"Banc 111FAUXVRAIFAUXVRAIFAUX\",BDD!$V$2:$V$685)","v":8},{"$f":"SUMIF(BDD!$BC$2:$BC$685,\"Banc 111FAUXVRAIFAUXFAUXVRAI\",BDD!$V$2:$V$685)","v":4},{"$f":"SUMIF(BDD!$BC$2:$BC$685,\"Banc 111VRAIFAUXVRAIFAUXFAUX\",BDD!$V$2:$V$685)","v":5},{"$f":"SUMIF(BDD!$BC$2:$BC$685,\"Banc 111VRAIFAUXFAUXVRAIFAUX\",BDD!$V$2:$V$685)","v":20},{"$f":"SUMIF(BDD!$BC$2:$BC$685,\"Banc 111VRAIFAUXFAUXFAUXVRAI\",BDD!$V$2:$V$685)","v":0},{"$f":"SUMIF(BDD!$BC$2:$BC$685,\"Banc 111FAUXVRAIVRAIFAUXFAUX\",BDD!$V$2:$V$685)","v":13},{"$f":"SUMIF(BDD!$BC$2:$BC$685,\"Banc 111FAUXVRAIFAUXVRAIFAUX\",BDD!$V$2:$V$685)","v":8},{"$f":"SUMIF(BDD!$BC$2:$BC$685,\"Banc 111FAUXVRAIFAUXFAUXVRAI\",BDD!$V$2:$V$685)","v":4},{"$f":"SUMIF(BDD!$BC$2:$BC$685,\"Banc 111VRAIFAUXVRAIFAUXFAUX\",BDD!$V$2:$V$685)","v":5},{"$f":"SUMIF(BDD!$BC$2:$BC$685,\"Banc 111VRAIFAUXFAUXVRAIFAUX\",BDD!$V$2:$V$685)","v":20},{"$f":"SUMIF(BDD!$BC$2:$BC$685,\"Banc 111VRAIFAUXFAUXFAUXVRAI\",BDD!$V$2:$V$685)","v":0},{"$f":"SUMIF(BDD!$BC$2:$BC$685,\"Banc 111FAUXVRAIVRAIFAUXFAUX\",BDD!$V$2:$V$685)","v":13},{"$f":"SUMIF(BDD!$BC$2:$BC$685,\"Banc 111FAUXVRAIFAUXVRAIFAUX\",BDD!$V$2:$V$685)","v":8},{"$f":"SUMIF(BDD!$BC$2:$BC$685,\"Banc 111FAUXVRAIFAUXFAUXVRAI\",BDD!$V$2:$V$685)","v":4},{"$f":"SUMIF(BDD!$BC$2:$BC$685,\"Banc 111VRAIFAUXVRAIFAUXFAUX\",BDD!$V$2:$V$685)","v":5},{"$f":"SUMIF(BDD!$BC$2:$BC$685,\"Banc 111VRAIFAUXFAUXVRAIFAUX\",BDD!$V$2:$V$685)","v":20},{"$f":"SUMIF(BDD!$BC$2:$BC$685,\"Banc 111VRAIFAUXFAUXFAUXVRAI\",BDD!$V$2:$V$685)","v":0},{"$f":"SUMIF(BDD!$BC$2:$BC$685,\"Banc 111FAUXVRAIVRAIFAUXFAUX\",BDD!$V$2:$V$685)","v":13},{"$f":"SUMIF(BDD!$BC$2:$BC$685,\"Banc 111FAUXVRAIFAUXVRAIFAUX\",BDD!$V$2:$V$685)","v":8},{"$f":"SUMIF(BDD!$BC$2:$BC$685,\"Banc 111FAUXVRAIFAUXFAUXVRAI\",BDD!$V$2:$V$685)","v":4},{"$f":"SUMIF(BDD!$BC$2:$BC$685,\"Banc 111VRAIFAUXVRAIFAUXFAUX\",BDD!$V$2:$V$685)","v":5},{"$f":"SUMIF(BDD!$BC$2:$BC$685,\"Banc 111VRAIFAUXFAUXVRAIFAUX\",BDD!$V$2:$V$685)","v":20},{"$f":"SUMIF(BDD!$BC$2:$BC$685,\"Banc 111VRAIFAUXFAUXFAUXVRAI\",BDD!$V$2:$V$685)","v":0},{"$f":"SUMIF(BDD!$BC$2:$BC$685,\"Banc 111FAUXVRAIVRAIFAUXFAUX\",BDD!$V$2:$V$685)","v":13},{"$f":"SUMIF(BDD!$BC$2:$BC$685,\"Banc 111FAUXVRAIFAUXVRAIFAUX\",BDD!$V$2:$V$685)","v":8},{"$f":"SUMIF(BDD!$BC$2:$BC$685,\"Banc 111FAUXVRAIFAUXFAUXVRAI\",BDD!$V$2:$V$685)","v":4},{"$f":"SUMIF(BDD!$BC$2:$BC$685,\"Banc 111VRAIFAUXVRAIFAUXFAUX\",BDD!$V$2:$V$685)","v":5},{"$f":"SUMIF(BDD!$BC$2:$BC$685,\"Banc 111VRAIFAUXFAUXVRAIFAUX\",BDD!$V$2:$V$685)","v":20},{"$f":"SUMIF(BDD!$BC$2:$BC$685,\"Banc 111VRAIFAUXFAUXFAUXVRAI\",BDD!$V$2:$V$685)","v":0},{"$f":"SUMIF(BDD!$BC$2:$BC$685,\"Banc 111FAUXVRAIVRAIFAUXFAUX\",BDD!$V$2:$V$685)","v":13},{"$f":"SUMIF(BDD!$BC$2:$BC$685,\"Banc 111FAUXVRAIFAUXVRAIFAUX\",BDD!$V$2:$V$685)","v":8},{"$f":"SUMIF(BDD!$BC$2:$BC$685,\"Banc 111FAUXVRAIFAUXFAUXVRAI\",BDD!$V$2:$V$685)","v":4}]
["Banc 117",{"$f":"SUMIF(BDD!$BC$2:$BC$685,\"Banc 117VRAIFAUXVRAIFAUXFAUX\",BDD!$V$2:$V$685)","v":1},{"$f":"SUMIF(BDD!$BC$2:$BC$685,\"Banc 117VRAIFAUXFAUXVRAIFAUX\",BDD!$V$2:$V$685)","v":17},{"$f":"SUMIF(BDD!$BC$2:$BC$685,\"Banc 117VRAIFAUXFAUXFAUXVRAI\",BDD!$V$2:$V$685)","v":31},{"$f":"SUMIF(BDD!$BC$2:$BC$685,\"Banc 117FAUXVRAIVRAIFAUXFAUX\",BDD!$V$2:$V$685)","v":9},{"$f":"SUMIF(BDD!$BC$2:$BC$685,\"Banc 117FAUXVRAIFAUXVRAIFAUX\",BDD!$V$2:$V$685)","v":9},{"$f":"SUMIF(BDD!$BC$2:$BC$685,\"Banc 117FAUXVRAIFAUXFAUXVRAI\",BDD!$V$2:$V$685)","v":2},{"$f":"SUMIF(BDD!$BC$2:$BC$685,\"Banc 117VRAIFAUXVRAIFAUXFAUX\",BDD!$V$2:$V$685)","v":1},{"$f":"SUMIF(BDD!$BC$2:$BC$685,\"Banc 117VRAIFAUXFAUXVRAIFAUX\",BDD!$V$2:$V$685)","v":17},{"$f":"SUMIF(BDD!$BC$2:$BC$685,\"Banc 117VRAIFAUXFAUXFAUXVRAI\",BDD!$V$2:$V$685)","v":31},{"$f":"SUMIF(BDD!$BC$2:$BC$685,\"Banc 117FAUXVRAIVRAIFAUXFAUX\",BDD!$V$2:$V$685)","v":9},{"$f":"SUMIF(BDD!$BC$2:$BC$685,\"Banc 117FAUXVRAIFAUXVRAIFAUX\",BDD!$V$2:$V$685)","v":9},{"$f":"SUMIF(BDD!$BC$2:$BC$685,\"Banc 117FAUXVRAIFAUXFAUXVRAI\",BDD!$V$2:$V$685)","v":2},{"$f":"SUMIF(BDD!$BC$2:$BC$685,\"Banc 117VRAIFAUXVRAIFAUXFAUX\",BDD!$V$2:$V$685)","v":1},{"$f":"SUMIF(BDD!$BC$2:$BC$685,\"Banc 117VRAIFAUXFAUXVRAIFAUX\",BDD!$V$2:$V$685)","v":17},{"$f":"SUMIF(BDD!$BC$2:$BC$685,\"Banc 117VRAIFAUXFAUXFAUXVRAI\",BDD!$V$2:$V$685)","v":31},{"$f":"SUMIF(BDD!$BC$2:$BC$685,\"Banc 117FAUXVRAIVRAIFAUXFAUX\",BDD!$V$2:$V$685)","v":9},{"$f":"SUMIF(BDD!$BC$2:$BC$685,\"Banc 117FAUXVRAIFAUXVRAIFAUX\",BDD!$V$2:$V$685)","v":9},{"$f":"SUMIF(BDD!$BC$2:$BC$685,\"Banc 117FAUXVRAIFAUXFAUXVRAI\",BDD!$V$2:$V$685)","v":2},{"$f":"SUMIF(BDD!$BC$2:$BC$685,\"Banc 117VRAIFAUXVRAIFAUXFAUX\",BDD!$V$2:$V$685)","v":1},{"$f":"SUMIF(BDD!$BC$2:$BC$685,\"Banc 117VRAIFAUXFAUXVRAIFAUX\",BDD!$V$2:$V$685)","v":17},{"$f":"SUMIF(BDD!$BC$2:$BC$685,\"Banc 117VRAIFAUXFAUXFAUXVRAI\",BDD!$V$2:$V$685)","v":31},{"$f":"SUMIF(BDD!$BC$2:$BC$685,\"Banc 117FAUXVRAIVRAIFAUXFAUX\",BDD!$V$2:$V$685)","v":9},{"$f":"SUMIF(BDD!$BC$2:$BC$685,\"Banc 117FAUXVRAIFAUXVRAIFAUX\",BDD!$V$2:$V$685)","v":9},{"$f":"SUMIF(BDD!$BC$2:$BC$685,\"Banc 117FAUXVRAIFAUXFAUXVRAI\",BDD!$V$2:$V$685)","v":2},{"$f":"SUMIF(BDD!$BC$2:$BC$685,\"Banc 117VRAIFAUXVRAIFAUXFAUX\",BDD!$V$2:$V$685)","v":1},{"$f":"SUMIF(BDD!$BC$2:$BC$685,\"Banc 117VRAIFAUXFAUXVRAIFAUX\",BDD!$V$2:$V$685)","v":17},{"$f":"SUMIF(BDD!$BC$2:$BC$685,\"Banc 117VRAIFAUXFAUXFAUXVRAI\",BDD!$V$2:$V$685)","v":31},{"$f":"SUMIF(BDD!$BC$2:$BC$685,\"Banc 117FAUXVRAIVRAIFAUXFAUX\",BDD!$V$2:$V$685)","v":9},{"$f":"SUMIF(BDD!$BC$2:$BC$685,\"Banc 117FAUXVRAIFAUXVRAIFAUX\",BDD!$V$2:$V$685)","v":9},{"$f":"SUMIF(BDD!$BC$2:$BC$685,\"Banc 117FAUXVRAIFAUXFAUXVRAI\",BDD!$V$2:$V$685)","v":2},{"$f":"SUMIF(BDD!$BC$2:$BC$685,\"Banc 117VRAIFAUXVRAIFAUXFAUX\",BDD!$V$2:$V$685)","v":1},{"$f":"SUMIF(BDD!$BC$2:$BC$685,\"Banc 117VRAIFAUXFAUXVRAIFAUX\",BDD!$V$2:$V$685)","v":17},{"$f":"SUMIF(BDD!$BC$2:$BC$685,\"Banc 117VRAIFAUXFAUXFAUXVRAI\",BDD!$V$2:$V$685)","v":31},{"$f":"SUMIF(BDD!$BC$2:$BC$685,\"Banc 117FAUXVRAIVRAIFAUXFAUX\",BDD!$V$2:$V$685)","v":9},{"$f":"SUMIF(BDD!$BC$2:$BC$685,\"Banc 117FAUXVRAIFAUXVRAIFAUX\",BDD!$V$2:$V$685)","v":9},{"$f":"SUMIF(BDD!$BC$2:$BC$685,\"Banc 117FAUXVRAIFAUXFAUXVRAI\",BDD!$V$2:$V$685)","v":2},{"$f":"SUMIF(BDD!$BC$2:$BC$685,\"Banc 117VRAIFAUXVRAIFAUXFAUX\",BDD!$V$2:$V$685)","v":1},{"$f":"SUMIF(BDD!$BC$2:$BC$685,\"Banc 117VRAIFAUXFAUXVRAIFAUX\",BDD!$V$2:$V$685)","v":17},{"$f":"SUMIF(BDD!$BC$2:$BC$685,\"Banc 117VRAIFAUXFAUXFAUXVRAI\",BDD!$V$2:$V$685)","v":31},{"$f":"SUMIF(BDD!$BC$2:$BC$685,\"Banc 117FAUXVRAIVRAIFAUXFAUX\",BDD!$V$2:$V$685)","v":9},{"$f":"SUMIF(BDD!$BC$2:$BC$685,\"Banc 117FAUXVRAIFAUXVRAIFAUX\",BDD!$V$2:$V$685)","v":9},{"$f":"SUMIF(BDD!$BC$2:$BC$685,\"Banc 117FAUXVRAIFAUXFAUXVRAI\",BDD!$V$2:$V$685)","v":2},{"$f":"SUMIF(BDD!$BC$2:$BC$685,\"Banc 117VRAIFAUXVRAIFAUXFAUX\",BDD!$V$2:$V$685)","v":1},{"$f":"SUMIF(BDD!$BC$2:$BC$685,\"Banc 117VRAIFAUXFAUXVRAIFAUX\",BDD!$V$2:$V$685)","v":17},{"$f":"SUMIF(BDD!$BC$2:$BC$685,\"Banc 117VRAIFAUXFAUXFAUXVRAI\",BDD!$V$2:$V$685)","v":31},{"$f":"SUMIF(BDD!$BC$2:$BC$685,\"Banc 117FAUXVRAIVRAIFAUXFAUX\",BDD!$V$2:$V$685)","v":9},{"$f":"SUMIF(BDD!$BC$2:$BC$685,\"Banc 117FAUXVRAIFAUXVRAIFAUX\",BDD!$V$2:$V$685)","v":9},{"$f":"SUMIF(BDD!$BC$2:$BC$685,\"Banc 117FAUXVRAIFAUXFAUXVRAI\",BDD!$V$2:$V$685)","v":2},{"$f":"SUMIF(BDD!$BC$2:$BC$685,\"Banc 117VRAIFAUXVRAIFAUXFAUX\",BDD!$V$2:$V$685)","v":1},{"$f":"SUMIF(BDD!$BC$2:$BC$685,\"Banc 117VRAIFAUXFAUXVRAIFAUX\",BDD!$V$2:$V$685)","v":17},{"$f":"SUMIF(BDD!$BC$2:$BC$685,\"Banc 117VRAIFAUXFAUXFAUXVRAI\",BDD!$V$2:$V$685)","v":31},{"$f":"SUMIF(BDD!$BC$2:$BC$685,\"Banc 117FAUXVRAIVRAIFAUXFAUX\",BDD!$V$2:$V$685)","v":9},{"$f":"SUMIF(BDD!$BC$2:$BC$685,\"Banc 117FAUXVRAIFAUXVRAIFAUX\",BDD!$V$2:$V$685)","v":9},{"$f":"SUMIF(BDD!$BC$2:$BC$685,\"Banc 117FAUXVRAIFAUXFAUXVRAI\",BDD!$V$2:$V$685)","v":2},{"$f":"SUMIF(BDD!$BC$2:$BC$685,\"Banc 117VRAIFAUXVRAIFAUXFAUX\",BDD!$V$2:$V$685)","v":1},{"$f":"SUMIF(BDD!$BC$2:$BC$685,\"Banc 117VRAIFAUXFAUXVRAIFAUX\",BDD!$V$2:$V$685)","v":17},{"$f":"SUMIF(BDD!$BC$2:$BC$685,\"Banc 117VRAIFAUXFAUXFAUXVRAI\",BDD!$V$2:$V$685)","v":31},{"$f":"SUMIF(BDD!$BC$2:$BC$685,\"Banc 117FAUXVRAIVRAIFAUXFAUX\",BDD!$V$2:$V$685)","v":9},{"$f":"SUMIF(BDD!$BC$2:$BC$685,\"Banc 117FAUXVRAIFAUXVRAIFAUX\",BDD!$V$2:$V$685)","v":9},{"$f":"SUMIF(BDD!$BC$2:$BC$685,\"Banc 117FAUXVRAIFAUXFAUXVRAI\",BDD!$V$2:$V$685)","v":2},{"$f":"SUMIF(BDD!$BC$2:$BC$685,\"Banc 117VRAIFAUXVRAIFAUXFAUX\",BDD!$V$2:$V$685)","v":1},{"$f":"SUMIF(BDD!$BC$2:$BC$685,\"Banc 117VRAIFAUXFAUXVRAIFAUX\",BDD!$V$2:$V$685)","v":17},{"$f":"SUMIF(BDD!$BC$2:$BC$685,\"Banc 117VRAIFAUXFAUXFAUXVRAI\",BDD!$V$2:$V$685)","v":31},{"$f":"SUMIF(BDD!$BC$2:$BC$685,\"Banc 117FAUXVRAIVRAIFAUXFAUX\",BDD!$V$2:$V$685)","v":9},{"$f":"SUMIF(BDD!$BC$2:$BC$685,\"Banc 117FAUXVRAIFAUXVRAIFAUX\",BDD!$V$2:$V$685)","v":9},{"$f":"SUMIF(BDD!$BC$2:$BC$685,\"Banc 117FAUXVRAIFAUXFAUXVRAI\",BDD!$V$2:$V$685)","v":2},{"$f":"SUMIF(BDD!$BC$2:$BC$685,\"Banc 117VRAIFAUXVRAIFAUXFAUX\",BDD!$V$2:$V$685)","v":1},{"$f":"SUMIF(BDD!$BC$2:$BC$685,\"Banc 117VRAIFAUXFAUXVRAIFAUX\",BDD!$V$2:$V$685)","v":17},{"$f":"SUMIF(BDD!$BC$2:$BC$685,\"Banc 117VRAIFAUXFAUXFAUXVRAI\",BDD!$V$2:$V$685)","v":31},{"$f":"SUMIF(BDD!$BC$2:$BC$685,\"Banc 117FAUXVRAIVRAIFAUXFAUX\",BDD!$V$2:$V$685)","v":9},{"$f":"SUMIF(BDD!$BC$2:$BC$685,\"Banc 117FAUXVRAIFAUXVRAIFAUX\",BDD!$V$2:$V$685)","v":9},{"$f":"SUMIF(BDD!$BC$2:$BC$685,\"Banc 117FAUXVRAIFAUXFAUXVRAI\",BDD!$V$2:$V$685)","v":2}]
["Banc 117 bis",{"$f":"SUMIF(BDD!$BC$2:$BC$685,\"Banc 117 bisVRAIFAUXVRAIFAUXFAUX\",BDD!$V$2:$V$685)","v":23},{"$f":"SUMIF(BDD!$BC$2:$BC$685,\"Banc 117 bisVRAIFAUXFAUXVRAIFAUX\",BDD!$V$2:$V$685)","v":20},{"$f":"SUMIF(BDD!$BC$2:$BC$685,\"Banc 117 bisVRAIFAUXFAUXFAUXVRAI\",BDD!$V$2:$V$685)","v":24},{"$f":"SUMIF(BDD!$BC$2:$BC$685,\"Banc 117 bisFAUXVRAIVRAIFAUXFAUX\",BDD!$V$2:$V$685)","v":10},{"$f":"SUMIF(BDD!$BC$2:$BC$685,\"Banc 117 bisFAUXVRAIFAUXVRAIFAUX\",BDD!$V$2:$V$685)","v":5},{"$f":"SUMIF(BDD!$BC$2:$BC$685,\"Banc 117 bisFAUXVRAIFAUXFAUXVRAI\",BDD!$V$2:$V$685)","v":5},{"$f":"SUMIF(BDD!$BC$2:$BC$685,\"Banc 117 bisVRAIFAUXVRAIFAUXFAUX\",BDD!$V$2:$V$685)","v":23},{"$f":"SUMIF(BDD!$BC$2:$BC$685,\"Banc 117 bisVRAIFAUXFAUXVRAIFAUX\",BDD!$V$2:$V$685)","v":20},{"$f":"SUMIF(BDD!$BC$2:$BC$685,\"Banc 117 bisVRAIFAUXFAUXFAUXVRAI\",BDD!$V$2:$V$685)","v":24},{"$f":"SUMIF(BDD!$BC$2:$BC$685,\"Banc 117 bisFAUXVRAIVRAIFAUXFAUX\",BDD!$V$2:$V$685)","v":10},{"$f":"SUMIF(BDD!$BC$2:$BC$685,\"Banc 117 bisFAUXVRAIFAUXVRAIFAUX\",BDD!$V$2:$V$685)","v":5},{"$f":"SUMIF(BDD!$BC$2:$BC$685,\"Banc 117 bisFAUXVRAIFAUXFAUXVRAI\",BDD!$V$2:$V$685)","v":5},{"$f":"SUMIF(BDD!$BC$2:$BC$685,\"Banc 117 bisVRAIFAUXVRAIFAUXFAUX\",BDD!$V$2:$V$685)","v":23},{"$f":"SUMIF(BDD!$BC$2:$BC$685,\"Banc 117 bisVRAIFAUXFAUXVRAIFAUX\",BDD!$V$2:$V$685)","v":20},{"$f":"SUMIF(BDD!$BC$2:$BC$685,\"Banc 117 bisVRAIFAUXFAUXFAUXVRAI\",BDD!$V$2:$V$685)","v":24},{"$f":"SUMIF(BDD!$BC$2:$BC$685,\"Banc 117 bisFAUXVRAIVRAIFAUXFAUX\",BDD!$V$2:$V$685)","v":10},{"$f":"SUMIF(BDD!$BC$2:$BC$685,\"Banc 117 bisFAUXVRAIFAUXVRAIFAUX\",BDD!$V$2:$V$685)","v":5},{"$f":"SUMIF(BDD!$BC$2:$BC$685,\"Banc 117 bisFAUXVRAIFAUXFAUXVRAI\",BDD!$V$2:$V$685)","v":5},{"$f":"SUMIF(BDD!$BC$2:$BC$685,\"Banc 117 bisVRAIFAUXVRAIFAUXFAUX\",BDD!$V$2:$V$685)","v":23},{"$f":"SUMIF(BDD!$BC$2:$BC$685,\"Banc 117 bisVRAIFAUXFAUXVRAIFAUX\",BDD!$V$2:$V$685)","v":20},{"$f":"SUMIF(BDD!$BC$2:$BC$685,\"Banc 117 bisVRAIFAUXFAUXFAUXVRAI\",BDD!$V$2:$V$685)","v":24},{"$f":"SUMIF(BDD!$BC$2:$BC$685,\"Banc 117 bisFAUXVRAIVRAIFAUXFAUX\",BDD!$V$2:$V$685)","v":10},{"$f":"SUMIF(BDD!$BC$2:$BC$685,\"Banc 117 bisFAUXVRAIFAUXVRAIFAUX\",BDD!$V$2:$V$685)","v":5},{"$f":"SUMIF(BDD!$BC$2:$BC$685,\"Banc 117 bisFAUXVRAIFAUXFAUXVRAI\",BDD!$V$2:$V$685)","v":5},{"$f":"SUMIF(BDD!$BC$2:$BC$685,\"Banc 117 bisVRAIFAUXVRAIFAUXFAUX\",BDD!$V$2:$V$685)","v":23},{"$f":"SUMIF(BDD!$BC$2:$BC$685,\"Banc 117 bisVRAIFAUXFAUXVRAIFAUX\",BDD!$V$2:$V$685)","v":20},{"$f":"SUMIF(BDD!$BC$2:$BC$685,\"Banc 117 bisVRAIFAUXFAUXFAUXVRAI\",BDD!$V$2:$V$685)","v":24},{"$f":"SUMIF(BDD!$BC$2:$BC$685,\"Banc 117 bisFAUXVRAIVRAIFAUXFAUX\",BDD!$V$2:$V$685)","v":10},{"$f":"SUMIF(BDD!$BC$2:$BC$685,\"Banc 117 bisFAUXVRAIFAUXVRAIFAUX\",BDD!$V$2:$V$685)","v":5},{"$f":"SUMIF(BDD!$BC$2:$BC$685,\"Banc 117 bisFAUXVRAIFAUXFAUXVRAI\",BDD!$V$2:$V$685)","v":5},{"$f":"SUMIF(BDD!$BC$2:$BC$685,\"Banc 117 bisVRAIFAUXVRAIFAUXFAUX\",BDD!$V$2:$V$685)","v":23},{"$f":"SUMIF(BDD!$BC$2:$BC$685,\"Banc 117 bisVRAIFAUXFAUXVRAIFAUX\",BDD!$V$2:$V$685)","v":20},{"$f":"SUMIF(BDD!$BC$2:$BC$685,\"Banc 117 bisVRAIFAUXFAUXFAUXVRAI\",BDD!$V$2:$V$685)","v":24},{"$f":"SUMIF(BDD!$BC$2:$BC$685,\"Banc 117 bisFAUXVRAIVRAIFAUXFAUX\",BDD!$V$2:$V$685)","v":10},{"$f":"SUMIF(BDD!$BC$2:$BC$685,\"Banc 117 bisFAUXVRAIFAUXVRAIFAUX\",BDD!$V$2:$V$685)","v":5},{"$f":"SUMIF(BDD!$BC$2:$BC$685,\"Banc 117 bisFAUXVRAIFAUXFAUXVRAI\",BDD!$V$2:$V$685)","v":5},{"$f":"SUMIF(BDD!$BC$2:$BC$685,\"Banc 117 bisVRAIFAUXVRAIFAUXFAUX\",BDD!$V$2:$V$685)","v":23},{"$f":"SUMIF(BDD!$BC$2:$BC$685,\"Banc 117 bisVRAIFAUXFAUXVRAIFAUX\",BDD!$V$2:$V$685)","v":20},{"$f":"SUMIF(BDD!$BC$2:$BC$685,\"Banc 117 bisVRAIFAUXFAUXFAUXVRAI\",BDD!$V$2:$V$685)","v":24},{"$f":"SUMIF(BDD!$BC$2:$BC$685,\"Banc 117 bisFAUXVRAIVRAIFAUXFAUX\",BDD!$V$2:$V$685)","v":10},{"$f":"SUMIF(BDD!$BC$2:$BC$685,\"Banc 117 bisFAUXVRAIFAUXVRAIFAUX\",BDD!$V$2:$V$685)","v":5},{"$f":"SUMIF(BDD!$BC$2:$BC$685,\"Banc 117 bisFAUXVRAIFAUXFAUXVRAI\",BDD!$V$2:$V$685)","v":5},{"$f":"SUMIF(BDD!$BC$2:$BC$685,\"Banc 117 bisVRAIFAUXVRAIFAUXFAUX\",BDD!$V$2:$V$685)","v":23},{"$f":"SUMIF(BDD!$BC$2:$BC$685,\"Banc 117 bisVRAIFAUXFAUXVRAIFAUX\",BDD!$V$2:$V$685)","v":20},{"$f":"SUMIF(BDD!$BC$2:$BC$685,\"Banc 117 bisVRAIFAUXFAUXFAUXVRAI\",BDD!$V$2:$V$685)","v":24},{"$f":"SUMIF(BDD!$BC$2:$BC$685,\"Banc 117 bisFAUXVRAIVRAIFAUXFAUX\",BDD!$V$2:$V$685)","v":10},{"$f":"SUMIF(BDD!$BC$2:$BC$685,\"Banc 117 bisFAUXVRAIFAUXVRAIFAUX\",BDD!$V$2:$V$685)","v":5},{"$f":"SUMIF(BDD!$BC$2:$BC$685,\"Banc 117 bisFAUXVRAIFAUXFAUXVRAI\",BDD!$V$2:$V$685)","v":5},{"$f":"SUMIF(BDD!$BC$2:$BC$685,\"Banc 117 bisVRAIFAUXVRAIFAUXFAUX\",BDD!$V$2:$V$685)","v":23},{"$f":"SUMIF(BDD!$BC$2:$BC$685,\"Banc 117 bisVRAIFAUXFAUXVRAIFAUX\",BDD!$V$2:$V$685)","v":20},{"$f":"SUMIF(BDD!$BC$2:$BC$685,\"Banc 117 bisVRAIFAUXFAUXFAUXVRAI\",BDD!$V$2:$V$685)","v":24},{"$f":"SUMIF(BDD!$BC$2:$BC$685,\"Banc 117 bisFAUXVRAIVRAIFAUXFAUX\",BDD!$V$2:$V$685)","v":10},{"$f":"SUMIF(BDD!$BC$2:$BC$685,\"Banc 117 bisFAUXVRAIFAUXVRAIFAUX\",BDD!$V$2:$V$685)","v":5},{"$f":"SUMIF(BDD!$BC$2:$BC$685,\"Banc 117 bisFAUXVRAIFAUXFAUXVRAI\",BDD!$V$2:$V$685)","v":5},{"$f":"SUMIF(BDD!$BC$2:$BC$685,\"Banc 117 bisVRAIFAUXVRAIFAUXFAUX\",BDD!$V$2:$V$685)","v":23},{"$f":"SUMIF(BDD!$BC$2:$BC$685,\"Banc 117 bisVRAIFAUXFAUXVRAIFAUX\",BDD!$V$2:$V$685)","v":20},{"$f":"SUMIF(BDD!$BC$2:$BC$685,\"Banc 117 bisVRAIFAUXFAUXFAUXVRAI\",BDD!$V$2:$V$685)","v":24},{"$f":"SUMIF(BDD!$BC$2:$BC$685,\"Banc 117 bisFAUXVRAIVRAIFAUXFAUX\",BDD!$V$2:$V$685)","v":10},{"$f":"SUMIF(BDD!$BC$2:$BC$685,\"Banc 117 bisFAUXVRAIFAUXVRAIFAUX\",BDD!$V$2:$V$685)","v":5},{"$f":"SUMIF(BDD!$BC$2:$BC$685,\"Banc 117 bisFAUXVRAIFAUXFAUXVRAI\",BDD!$V$2:$V$685)","v":5},{"$f":"SUMIF(BDD!$BC$2:$BC$685,\"Banc 117 bisVRAIFAUXVRAIFAUXFAUX\",BDD!$V$2:$V$685)","v":23},{"$f":"SUMIF(BDD!$BC$2:$BC$685,\"Banc 117 bisVRAIFAUXFAUXVRAIFAUX\",BDD!$V$2:$V$685)","v":20},{"$f":"SUMIF(BDD!$BC$2:$BC$685,\"Banc 117 bisVRAIFAUXFAUXFAUXVRAI\",BDD!$V$2:$V$685)","v":24},{"$f":"SUMIF(BDD!$BC$2:$BC$685,\"Banc 117 bisFAUXVRAIVRAIFAUXFAUX\",BDD!$V$2:$V$685)","v":10},{"$f":"SUMIF(BDD!$BC$2:$BC$685,\"Banc 117 bisFAUXVRAIFAUXVRAIFAUX\",BDD!$V$2:$V$685)","v":5},{"$f":"SUMIF(BDD!$BC$2:$BC$685,\"Banc 117 bisFAUXVRAIFAUXFAUXVRAI\",BDD!$V$2:$V$685)","v":5},{"$f":"SUMIF(BDD!$BC$2:$BC$685,\"Banc 117 bisVRAIFAUXVRAIFAUXFAUX\",BDD!$V$2:$V$685)","v":23},{"$f":"SUMIF(BDD!$BC$2:$BC$685,\"Banc 117 bisVRAIFAUXFAUXVRAIFAUX\",BDD!$V$2:$V$685)","v":20},{"$f":"SUMIF(BDD!$BC$2:$BC$685,\"Banc 117 bisVRAIFAUXFAUXFAUXVRAI\",BDD!$V$2:$V$685)","v":24},{"$f":"SUMIF(BDD!$BC$2:$BC$685,\"Banc 117 bisFAUXVRAIVRAIFAUXFAUX\",BDD!$V$2:$V$685)","v":10},{"$f":"SUMIF(BDD!$BC$2:$BC$685,\"Banc 117 bisFAUXVRAIFAUXVRAIFAUX\",BDD!$V$2:$V$685)","v":5},{"$f":"SUMIF(BDD!$BC$2:$BC$685,\"Banc 117 bisFAUXVRAIFAUXFAUXVRAI\",BDD!$V$2:$V$685)","v":5}]
["Banc 119",{"$f":"SUMIF(BDD!$BC$2:$BC$685,\"Banc 119VRAIFAUXVRAIFAUXFAUX\",BDD!$V$2:$V$685)","v":7},{"$f":"SUMIF(BDD!$BC$2:$BC$685,\"Banc 119VRAIFAUXFAUXVRAIFAUX\",BDD!$V$2:$V$685)","v":14},{"$f":"SUMIF(BDD!$BC$2:$BC$685,\"Banc 119VRAIFAUXFAUXFAUXVRAI\",BDD!$V$2:$V$685)","v":25},{"$f":"SUMIF(BDD!$BC$2:$BC$685,\"Banc 119FAUXVRAIVRAIFAUXFAUX\",BDD!$V$2:$V$685)","v":7},{"$f":"SUMIF(BDD!$BC$2:$BC$685,\"Banc 119FAUXVRAIFAUXVRAIFAUX\",BDD!$V$2:$V$685)","v":9},{"$f":"SUMIF(BDD!$BC$2:$BC$685,\"Banc 119FAUXVRAIFAUXFAUXVRAI\",BDD!$V$2:$V$685)","v":7},{"$f":"SUMIF(BDD!$BC$2:$BC$685,\"Banc 119VRAIFAUXVRAIFAUXFAUX\",BDD!$V$2:$V$685)","v":7},{"$f":"SUMIF(BDD!$BC$2:$BC$685,\"Banc 119VRAIFAUXFAUXVRAIFAUX\",BDD!$V$2:$V$685)","v":14},{"$f":"SUMIF(BDD!$BC$2:$BC$685,\"Banc 119VRAIFAUXFAUXFAUXVRAI\",BDD!$V$2:$V$685)","v":25},{"$f":"SUMIF(BDD!$BC$2:$BC$685,\"Banc 119FAUXVRAIVRAIFAUXFAUX\",BDD!$V$2:$V$685)","v":7},{"$f":"SUMIF(BDD!$BC$2:$BC$685,\"Banc 119FAUXVRAIFAUXVRAIFAUX\",BDD!$V$2:$V$685)","v":9},{"$f":"SUMIF(BDD!$BC$2:$BC$685,\"Banc 119FAUXVRAIFAUXFAUXVRAI\",BDD!$V$2:$V$685)","v":7},{"$f":"SUMIF(BDD!$BC$2:$BC$685,\"Banc 119VRAIFAUXVRAIFAUXFAUX\",BDD!$V$2:$V$685)","v":7},{"$f":"SUMIF(BDD!$BC$2:$BC$685,\"Banc 119VRAIFAUXFAUXVRAIFAUX\",BDD!$V$2:$V$685)","v":14},{"$f":"SUMIF(BDD!$BC$2:$BC$685,\"Banc 119VRAIFAUXFAUXFAUXVRAI\",BDD!$V$2:$V$685)","v":25},{"$f":"SUMIF(BDD!$BC$2:$BC$685,\"Banc 119FAUXVRAIVRAIFAUXFAUX\",BDD!$V$2:$V$685)","v":7},{"$f":"SUMIF(BDD!$BC$2:$BC$685,\"Banc 119FAUXVRAIFAUXVRAIFAUX\",BDD!$V$2:$V$685)","v":9},{"$f":"SUMIF(BDD!$BC$2:$BC$685,\"Banc 119FAUXVRAIFAUXFAUXVRAI\",BDD!$V$2:$V$685)","v":7},{"$f":"SUMIF(BDD!$BC$2:$BC$685,\"Banc 119VRAIFAUXVRAIFAUXFAUX\",BDD!$V$2:$V$685)","v":7},{"$f":"SUMIF(BDD!$BC$2:$BC$685,\"Banc 119VRAIFAUXFAUXVRAIFAUX\",BDD!$V$2:$V$685)","v":14},{"$f":"SUMIF(BDD!$BC$2:$BC$685,\"Banc 119VRAIFAUXFAUXFAUXVRAI\",BDD!$V$2:$V$685)","v":25},{"$f":"SUMIF(BDD!$BC$2:$BC$685,\"Banc 119FAUXVRAIVRAIFAUXFAUX\",BDD!$V$2:$V$685)","v":7},{"$f":"SUMIF(BDD!$BC$2:$BC$685,\"Banc 119FAUXVRAIFAUXVRAIFAUX\",BDD!$V$2:$V$685)","v":9},{"$f":"SUMIF(BDD!$BC$2:$BC$685,\"Banc 119FAUXVRAIFAUXFAUXVRAI\",BDD!$V$2:$V$685)","v":7},{"$f":"SUMIF(BDD!$BC$2:$BC$685,\"Banc 119VRAIFAUXVRAIFAUXFAUX\",BDD!$V$2:$V$685)","v":7},{"$f":"SUMIF(BDD!$BC$2:$BC$685,\"Banc 119VRAIFAUXFAUXVRAIFAUX\",BDD!$V$2:$V$685)","v":14},{"$f":"SUMIF(BDD!$BC$2:$BC$685,\"Banc 119VRAIFAUXFAUXFAUXVRAI\",BDD!$V$2:$V$685)","v":25},{"$f":"SUMIF(BDD!$BC$2:$BC$685,\"Banc 119FAUXVRAIVRAIFAUXFAUX\",BDD!$V$2:$V$685)","v":7},{"$f":"SUMIF(BDD!$BC$2:$BC$685,\"Banc 119FAUXVRAIFAUXVRAIFAUX\",BDD!$V$2:$V$685)","v":9},{"$f":"SUMIF(BDD!$BC$2:$BC$685,\"Banc 119FAUXVRAIFAUXFAUXVRAI\",BDD!$V$2:$V$685)","v":7},{"$f":"SUMIF(BDD!$BC$2:$BC$685,\"Banc 119VRAIFAUXVRAIFAUXFAUX\",BDD!$V$2:$V$685)","v":7},{"$f":"SUMIF(BDD!$BC$2:$BC$685,\"Banc 119VRAIFAUXFAUXVRAIFAUX\",BDD!$V$2:$V$685)","v":14},{"$f":"SUMIF(BDD!$BC$2:$BC$685,\"Banc 119VRAIFAUXFAUXFAUXVRAI\",BDD!$V$2:$V$685)","v":25},{"$f":"SUMIF(BDD!$BC$2:$BC$685,\"Banc 119FAUXVRAIVRAIFAUXFAUX\",BDD!$V$2:$V$685)","v":7},{"$f":"SUMIF(BDD!$BC$2:$BC$685,\"Banc 119FAUXVRAIFAUXVRAIFAUX\",BDD!$V$2:$V$685)","v":9},{"$f":"SUMIF(BDD!$BC$2:$BC$685,\"Banc 119FAUXVRAIFAUXFAUXVRAI\",BDD!$V$2:$V$685)","v":7},{"$f":"SUMIF(BDD!$BC$2:$BC$685,\"Banc 119VRAIFAUXVRAIFAUXFAUX\",BDD!$V$2:$V$685)","v":7},{"$f":"SUMIF(BDD!$BC$2:$BC$685,\"Banc 119VRAIFAUXFAUXVRAIFAUX\",BDD!$V$2:$V$685)","v":14},{"$f":"SUMIF(BDD!$BC$2:$BC$685,\"Banc 119VRAIFAUXFAUXFAUXVRAI\",BDD!$V$2:$V$685)","v":25},{"$f":"SUMIF(BDD!$BC$2:$BC$685,\"Banc 119FAUXVRAIVRAIFAUXFAUX\",BDD!$V$2:$V$685)","v":7},{"$f":"SUMIF(BDD!$BC$2:$BC$685,\"Banc 119FAUXVRAIFAUXVRAIFAUX\",BDD!$V$2:$V$685)","v":9},{"$f":"SUMIF(BDD!$BC$2:$BC$685,\"Banc 119FAUXVRAIFAUXFAUXVRAI\",BDD!$V$2:$V$685)","v":7},{"$f":"SUMIF(BDD!$BC$2:$BC$685,\"Banc 119VRAIFAUXVRAIFAUXFAUX\",BDD!$V$2:$V$685)","v":7},{"$f":"SUMIF(BDD!$BC$2:$BC$685,\"Banc 119VRAIFAUXFAUXVRAIFAUX\",BDD!$V$2:$V$685)","v":14},{"$f":"SUMIF(BDD!$BC$2:$BC$685,\"Banc 119VRAIFAUXFAUXFAUXVRAI\",BDD!$V$2:$V$685)","v":25},{"$f":"SUMIF(BDD!$BC$2:$BC$685,\"Banc 119FAUXVRAIVRAIFAUXFAUX\",BDD!$V$2:$V$685)","v":7},{"$f":"SUMIF(BDD!$BC$2:$BC$685,\"Banc 119FAUXVRAIFAUXVRAIFAUX\",BDD!$V$2:$V$685)","v":9},{"$f":"SUMIF(BDD!$BC$2:$BC$685,\"Banc 119FAUXVRAIFAUXFAUXVRAI\",BDD!$V$2:$V$685)","v":7},{"$f":"SUMIF(BDD!$BC$2:$BC$685,\"Banc 119VRAIFAUXVRAIFAUXFAUX\",BDD!$V$2:$V$685)","v":7},{"$f":"SUMIF(BDD!$BC$2:$BC$685,\"Banc 119VRAIFAUXFAUXVRAIFAUX\",BDD!$V$2:$V$685)","v":14},{"$f":"SUMIF(BDD!$BC$2:$BC$685,\"Banc 119VRAIFAUXFAUXFAUXVRAI\",BDD!$V$2:$V$685)","v":25},{"$f":"SUMIF(BDD!$BC$2:$BC$685,\"Banc 119FAUXVRAIVRAIFAUXFAUX\",BDD!$V$2:$V$685)","v":7},{"$f":"SUMIF(BDD!$BC$2:$BC$685,\"Banc 119FAUXVRAIFAUXVRAIFAUX\",BDD!$V$2:$V$685)","v":9},{"$f":"SUMIF(BDD!$BC$2:$BC$685,\"Banc 119FAUXVRAIFAUXFAUXVRAI\",BDD!$V$2:$V$685)","v":7},{"$f":"SUMIF(BDD!$BC$2:$BC$685,\"Banc 119VRAIFAUXVRAIFAUXFAUX\",BDD!$V$2:$V$685)","v":7},{"$f":"SUMIF(BDD!$BC$2:$BC$685,\"Banc 119VRAIFAUXFAUXVRAIFAUX\",BDD!$V$2:$V$685)","v":14},{"$f":"SUMIF(BDD!$BC$2:$BC$685,\"Banc 119VRAIFAUXFAUXFAUXVRAI\",BDD!$V$2:$V$685)","v":25},{"$f":"SUMIF(BDD!$BC$2:$BC$685,\"Banc 119FAUXVRAIVRAIFAUXFAUX\",BDD!$V$2:$V$685)","v":7},{"$f":"SUMIF(BDD!$BC$2:$BC$685,\"Banc 119FAUXVRAIFAUXVRAIFAUX\",BDD!$V$2:$V$685)","v":9},{"$f":"SUMIF(BDD!$BC$2:$BC$685,\"Banc 119FAUXVRAIFAUXFAUXVRAI\",BDD!$V$2:$V$685)","v":7},{"$f":"SUMIF(BDD!$BC$2:$BC$685,\"Banc 119VRAIFAUXVRAIFAUXFAUX\",BDD!$V$2:$V$685)","v":7},{"$f":"SUMIF(BDD!$BC$2:$BC$685,\"Banc 119VRAIFAUXFAUXVRAIFAUX\",BDD!$V$2:$V$685)","v":14},{"$f":"SUMIF(BDD!$BC$2:$BC$685,\"Banc 119VRAIFAUXFAUXFAUXVRAI\",BDD!$V$2:$V$685)","v":25},{"$f":"SUMIF(BDD!$BC$2:$BC$685,\"Banc 119FAUXVRAIVRAIFAUXFAUX\",BDD!$V$2:$V$685)","v":7},{"$f":"SUMIF(BDD!$BC$2:$BC$685,\"Banc 119FAUXVRAIFAUXVRAIFAUX\",BDD!$V$2:$V$685)","v":9},{"$f":"SUMIF(BDD!$BC$2:$BC$685,\"Banc 119FAUXVRAIFAUXFAUXVRAI\",BDD!$V$2:$V$685)","v":7},{"$f":"SUMIF(BDD!$BC$2:$BC$685,\"Banc 119VRAIFAUXVRAIFAUXFAUX\",BDD!$V$2:$V$685)","v":7},{"$f":"SUMIF(BDD!$BC$2:$BC$685,\"Banc 119VRAIFAUXFAUXVRAIFAUX\",BDD!$V$2:$V$685)","v":14},{"$f":"SUMIF(BDD!$BC$2:$BC$685,\"Banc 119VRAIFAUXFAUXFAUXVRAI\",BDD!$V$2:$V$685)","v":25},{"$f":"SUMIF(BDD!$BC$2:$BC$685,\"Banc 119FAUXVRAIVRAIFAUXFAUX\",BDD!$V$2:$V$685)","v":7},{"$f":"SUMIF(BDD!$BC$2:$BC$685,\"Banc 119FAUXVRAIFAUXVRAIFAUX\",BDD!$V$2:$V$685)","v":9},{"$f":"SUMIF(BDD!$BC$2:$BC$685,\"Banc 119FAUXVRAIFAUXFAUXVRAI\",BDD!$V$2:$V$685)","v":7}]
["Banc 123",{"$f":"SUMIF(BDD!$BC$2:$BC$685,\"Banc 123VRAIFAUXVRAIFAUXFAUX\",BDD!$V$2:$V$685)","v":6},{"$f":"SUMIF(BDD!$BC$2:$BC$685,\"Banc 123VRAIFAUXFAUXVRAIFAUX\",BDD!$V$2:$V$685)","v":18},{"$f":"SUMIF(BDD!$BC$2:$BC$685,\"Banc 123VRAIFAUXFAUXFAUXVRAI\",BDD!$V$2:$V$685)","v":1},{"$f":"SUMIF(BDD!$BC$2:$BC$685,\"Banc 123FAUXVRAIVRAIFAUXFAUX\",BDD!$V$2:$V$685)","v":12},{"$f":"SUMIF(BDD!$BC$2:$BC$685,\"Banc 123FAUXVRAIFAUXVRAIFAUX\",BDD!$V$2:$V$685)","v":6},{"$f":"SUMIF(BDD!$BC$2:$BC$685,\"Banc 123FAUXVRAIFAUXFAUXVRAI\",BDD!$V$2:$V$685)","v":12},{"$f":"SUMIF(BDD!$BC$2:$BC$685,\"Banc 123VRAIFAUXVRAIFAUXFAUX\",BDD!$V$2:$V$685)","v":6},{"$f":"SUMIF(BDD!$BC$2:$BC$685,\"Banc 123VRAIFAUXFAUXVRAIFAUX\",BDD!$V$2:$V$685)","v":18},{"$f":"SUMIF(BDD!$BC$2:$BC$685,\"Banc 123VRAIFAUXFAUXFAUXVRAI\",BDD!$V$2:$V$685)","v":1},{"$f":"SUMIF(BDD!$BC$2:$BC$685,\"Banc 123FAUXVRAIVRAIFAUXFAUX\",BDD!$V$2:$V$685)","v":12},{"$f":"SUMIF(BDD!$BC$2:$BC$685,\"Banc 123FAUXVRAIFAUXVRAIFAUX\",BDD!$V$2:$V$685)","v":6},{"$f":"SUMIF(BDD!$BC$2:$BC$685,\"Banc 123FAUXVRAIFAUXFAUXVRAI\",BDD!$V$2:$V$685)","v":12},{"$f":"SUMIF(BDD!$BC$2:$BC$685,\"Banc 123VRAIFAUXVRAIFAUXFAUX\",BDD!$V$2:$V$685)","v":6},{"$f":"SUMIF(BDD!$BC$2:$BC$685,\"Banc 123VRAIFAUXFAUXVRAIFAUX\",BDD!$V$2:$V$685)","v":18},{"$f":"SUMIF(BDD!$BC$2:$BC$685,\"Banc 123VRAIFAUXFAUXFAUXVRAI\",BDD!$V$2:$V$685)","v":1},{"$f":"SUMIF(BDD!$BC$2:$BC$685,\"Banc 123FAUXVRAIVRAIFAUXFAUX\",BDD!$V$2:$V$685)","v":12},{"$f":"SUMIF(BDD!$BC$2:$BC$685,\"Banc 123FAUXVRAIFAUXVRAIFAUX\",BDD!$V$2:$V$685)","v":6},{"$f":"SUMIF(BDD!$BC$2:$BC$685,\"Banc 123FAUXVRAIFAUXFAUXVRAI\",BDD!$V$2:$V$685)","v":12},{"$f":"SUMIF(BDD!$BC$2:$BC$685,\"Banc 123VRAIFAUXVRAIFAUXFAUX\",BDD!$V$2:$V$685)","v":6},{"$f":"SUMIF(BDD!$BC$2:$BC$685,\"Banc 123VRAIFAUXFAUXVRAIFAUX\",BDD!$V$2:$V$685)","v":18},{"$f":"SUMIF(BDD!$BC$2:$BC$685,\"Banc 123VRAIFAUXFAUXFAUXVRAI\",BDD!$V$2:$V$685)","v":1},{"$f":"SUMIF(BDD!$BC$2:$BC$685,\"Banc 123FAUXVRAIVRAIFAUXFAUX\",BDD!$V$2:$V$685)","v":12},{"$f":"SUMIF(BDD!$BC$2:$BC$685,\"Banc 123FAUXVRAIFAUXVRAIFAUX\",BDD!$V$2:$V$685)","v":6},{"$f":"SUMIF(BDD!$BC$2:$BC$685,\"Banc 123FAUXVRAIFAUXFAUXVRAI\",BDD!$V$2:$V$685)","v":12},{"$f":"SUMIF(BDD!$BC$2:$BC$685,\"Banc 123VRAIFAUXVRAIFAUXFAUX\",BDD!$V$2:$V$685)","v":6},{"$f":"SUMIF(BDD!$BC$2:$BC$685,\"Banc 123VRAIFAUXFAUXVRAIFAUX\",BDD!$V$2:$V$685)","v":18},{"$f":"SUMIF(BDD!$BC$2:$BC$685,\"Banc 123VRAIFAUXFAUXFAUXVRAI\",BDD!$V$2:$V$685)","v":1},{"$f":"SUMIF(BDD!$BC$2:$BC$685,\"Banc 123FAUXVRAIVRAIFAUXFAUX\",BDD!$V$2:$V$685)","v":12},{"$f":"SUMIF(BDD!$BC$2:$BC$685,\"Banc 123FAUXVRAIFAUXVRAIFAUX\",BDD!$V$2:$V$685)","v":6},{"$f":"SUMIF(BDD!$BC$2:$BC$685,\"Banc 123FAUXVRAIFAUXFAUXVRAI\",BDD!$V$2:$V$685)","v":12},{"$f":"SUMIF(BDD!$BC$2:$BC$685,\"Banc 123VRAIFAUXVRAIFAUXFAUX\",BDD!$V$2:$V$685)","v":6},{"$f":"SUMIF(BDD!$BC$2:$BC$685,\"Banc 123VRAIFAUXFAUXVRAIFAUX\",BDD!$V$2:$V$685)","v":18},{"$f":"SUMIF(BDD!$BC$2:$BC$685,\"Banc 123VRAIFAUXFAUXFAUXVRAI\",BDD!$V$2:$V$685)","v":1},{"$f":"SUMIF(BDD!$BC$2:$BC$685,\"Banc 123FAUXVRAIVRAIFAUXFAUX\",BDD!$V$2:$V$685)","v":12},{"$f":"SUMIF(BDD!$BC$2:$BC$685,\"Banc 123FAUXVRAIFAUXVRAIFAUX\",BDD!$V$2:$V$685)","v":6},{"$f":"SUMIF(BDD!$BC$2:$BC$685,\"Banc 123FAUXVRAIFAUXFAUXVRAI\",BDD!$V$2:$V$685)","v":12},{"$f":"SUMIF(BDD!$BC$2:$BC$685,\"Banc 123VRAIFAUXVRAIFAUXFAUX\",BDD!$V$2:$V$685)","v":6},{"$f":"SUMIF(BDD!$BC$2:$BC$685,\"Banc 123VRAIFAUXFAUXVRAIFAUX\",BDD!$V$2:$V$685)","v":18},{"$f":"SUMIF(BDD!$BC$2:$BC$685,\"Banc 123VRAIFAUXFAUXFAUXVRAI\",BDD!$V$2:$V$685)","v":1},{"$f":"SUMIF(BDD!$BC$2:$BC$685,\"Banc 123FAUXVRAIVRAIFAUXFAUX\",BDD!$V$2:$V$685)","v":12},{"$f":"SUMIF(BDD!$BC$2:$BC$685,\"Banc 123FAUXVRAIFAUXVRAIFAUX\",BDD!$V$2:$V$685)","v":6},{"$f":"SUMIF(BDD!$BC$2:$BC$685,\"Banc 123FAUXVRAIFAUXFAUXVRAI\",BDD!$V$2:$V$685)","v":12},{"$f":"SUMIF(BDD!$BC$2:$BC$685,\"Banc 123VRAIFAUXVRAIFAUXFAUX\",BDD!$V$2:$V$685)","v":6},{"$f":"SUMIF(BDD!$BC$2:$BC$685,\"Banc 123VRAIFAUXFAUXVRAIFAUX\",BDD!$V$2:$V$685)","v":18},{"$f":"SUMIF(BDD!$BC$2:$BC$685,\"Banc 123VRAIFAUXFAUXFAUXVRAI\",BDD!$V$2:$V$685)","v":1},{"$f":"SUMIF(BDD!$BC$2:$BC$685,\"Banc 123FAUXVRAIVRAIFAUXFAUX\",BDD!$V$2:$V$685)","v":12},{"$f":"SUMIF(BDD!$BC$2:$BC$685,\"Banc 123FAUXVRAIFAUXVRAIFAUX\",BDD!$V$2:$V$685)","v":6},{"$f":"SUMIF(BDD!$BC$2:$BC$685,\"Banc 123FAUXVRAIFAUXFAUXVRAI\",BDD!$V$2:$V$685)","v":12},{"$f":"SUMIF(BDD!$BC$2:$BC$685,\"Banc 123VRAIFAUXVRAIFAUXFAUX\",BDD!$V$2:$V$685)","v":6},{"$f":"SUMIF(BDD!$BC$2:$BC$685,\"Banc 123VRAIFAUXFAUXVRAIFAUX\",BDD!$V$2:$V$685)","v":18},{"$f":"SUMIF(BDD!$BC$2:$BC$685,\"Banc 123VRAIFAUXFAUXFAUXVRAI\",BDD!$V$2:$V$685)","v":1},{"$f":"SUMIF(BDD!$BC$2:$BC$685,\"Banc 123FAUXVRAIVRAIFAUXFAUX\",BDD!$V$2:$V$685)","v":12},{"$f":"SUMIF(BDD!$BC$2:$BC$685,\"Banc 123FAUXVRAIFAUXVRAIFAUX\",BDD!$V$2:$V$685)","v":6},{"$f":"SUMIF(BDD!$BC$2:$BC$685,\"Banc 123FAUXVRAIFAUXFAUXVRAI\",BDD!$V$2:$V$685)","v":12},{"$f":"SUMIF(BDD!$BC$2:$BC$685,\"Banc 123VRAIFAUXVRAIFAUXFAUX\",BDD!$V$2:$V$685)","v":6},{"$f":"SUMIF(BDD!$BC$2:$BC$685,\"Banc 123VRAIFAUXFAUXVRAIFAUX\",BDD!$V$2:$V$685)","v":18},{"$f":"SUMIF(BDD!$BC$2:$BC$685,\"Banc 123VRAIFAUXFAUXFAUXVRAI\",BDD!$V$2:$V$685)","v":1},{"$f":"SUMIF(BDD!$BC$2:$BC$685,\"Banc 123FAUXVRAIVRAIFAUXFAUX\",BDD!$V$2:$V$685)","v":12},{"$f":"SUMIF(BDD!$BC$2:$BC$685,\"Banc 123FAUXVRAIFAUXVRAIFAUX\",BDD!$V$2:$V$685)","v":6},{"$f":"SUMIF(BDD!$BC$2:$BC$685,\"Banc 123FAUXVRAIFAUXFAUXVRAI\",BDD!$V$2:$V$685)","v":12},{"$f":"SUMIF(BDD!$BC$2:$BC$685,\"Banc 123VRAIFAUXVRAIFAUXFAUX\",BDD!$V$2:$V$685)","v":6},{"$f":"SUMIF(BDD!$BC$2:$BC$685,\"Banc 123VRAIFAUXFAUXVRAIFAUX\",BDD!$V$2:$V$685)","v":18},{"$f":"SUMIF(BDD!$BC$2:$BC$685,\"Banc 123VRAIFAUXFAUXFAUXVRAI\",BDD!$V$2:$V$685)","v":1},{"$f":"SUMIF(BDD!$BC$2:$BC$685,\"Banc 123FAUXVRAIVRAIFAUXFAUX\",BDD!$V$2:$V$685)","v":12},{"$f":"SUMIF(BDD!$BC$2:$BC$685,\"Banc 123FAUXVRAIFAUXVRAIFAUX\",BDD!$V$2:$V$685)","v":6},{"$f":"SUMIF(BDD!$BC$2:$BC$685,\"Banc 123FAUXVRAIFAUXFAUXVRAI\",BDD!$V$2:$V$685)","v":12},{"$f":"SUMIF(BDD!$BC$2:$BC$685,\"Banc 123VRAIFAUXVRAIFAUXFAUX\",BDD!$V$2:$V$685)","v":6},{"$f":"SUMIF(BDD!$BC$2:$BC$685,\"Banc 123VRAIFAUXFAUXVRAIFAUX\",BDD!$V$2:$V$685)","v":18},{"$f":"SUMIF(BDD!$BC$2:$BC$685,\"Banc 123VRAIFAUXFAUXFAUXVRAI\",BDD!$V$2:$V$685)","v":1},{"$f":"SUMIF(BDD!$BC$2:$BC$685,\"Banc 123FAUXVRAIVRAIFAUXFAUX\",BDD!$V$2:$V$685)","v":12},{"$f":"SUMIF(BDD!$BC$2:$BC$685,\"Banc 123FAUXVRAIFAUXVRAIFAUX\",BDD!$V$2:$V$685)","v":6},{"$f":"SUMIF(BDD!$BC$2:$BC$685,\"Banc 123FAUXVRAIFAUXFAUXVRAI\",BDD!$V$2:$V$685)","v":12}]
["Banc 126",{"$f":"SUMIF(BDD!$BC$2:$BC$685,\"Banc 126VRAIFAUXVRAIFAUXFAUX\",BDD!$V$2:$V$685)","v":20},{"$f":"SUMIF(BDD!$BC$2:$BC$685,\"Banc 126VRAIFAUXFAUXVRAIFAUX\",BDD!$V$2:$V$685)","v":35},{"$f":"SUMIF(BDD!$BC$2:$BC$685,\"Banc 126VRAIFAUXFAUXFAUXVRAI\",BDD!$V$2:$V$685)","v":14},{"$f":"SUMIF(BDD!$BC$2:$BC$685,\"Banc 126FAUXVRAIVRAIFAUXFAUX\",BDD!$V$2:$V$685)","v":12},{"$f":"SUMIF(BDD!$BC$2:$BC$685,\"Banc 126FAUXVRAIFAUXVRAIFAUX\",BDD!$V$2:$V$685)","v":8},{"$f":"SUMIF(BDD!$BC$2:$BC$685,\"Banc 126FAUXVRAIFAUXFAUXVRAI\",BDD!$V$2:$V$685)","v":11},{"$f":"SUMIF(BDD!$BC$2:$BC$685,\"Banc 126VRAIFAUXVRAIFAUXFAUX\",BDD!$V$2:$V$685)","v":20},{"$f":"SUMIF(BDD!$BC$2:$BC$685,\"Banc 126VRAIFAUXFAUXVRAIFAUX\",BDD!$V$2:$V$685)","v":35},{"$f":"SUMIF(BDD!$BC$2:$BC$685,\"Banc 126VRAIFAUXFAUXFAUXVRAI\",BDD!$V$2:$V$685)","v":14},{"$f":"SUMIF(BDD!$BC$2:$BC$685,\"Banc 126FAUXVRAIVRAIFAUXFAUX\",BDD!$V$2:$V$685)","v":12},{"$f":"SUMIF(BDD!$BC$2:$BC$685,\"Banc 126FAUXVRAIFAUXVRAIFAUX\",BDD!$V$2:$V$685)","v":8},{"$f":"SUMIF(BDD!$BC$2:$BC$685,\"Banc 126FAUXVRAIFAUXFAUXVRAI\",BDD!$V$2:$V$685)","v":11},{"$f":"SUMIF(BDD!$BC$2:$BC$685,\"Banc 126VRAIFAUXVRAIFAUXFAUX\",BDD!$V$2:$V$685)","v":20},{"$f":"SUMIF(BDD!$BC$2:$BC$685,\"Banc 126VRAIFAUXFAUXVRAIFAUX\",BDD!$V$2:$V$685)","v":35},{"$f":"SUMIF(BDD!$BC$2:$BC$685,\"Banc 126VRAIFAUXFAUXFAUXVRAI\",BDD!$V$2:$V$685)","v":14},{"$f":"SUMIF(BDD!$BC$2:$BC$685,\"Banc 126FAUXVRAIVRAIFAUXFAUX\",BDD!$V$2:$V$685)","v":12},{"$f":"SUMIF(BDD!$BC$2:$BC$685,\"Banc 126FAUXVRAIFAUXVRAIFAUX\",BDD!$V$2:$V$685)","v":8},{"$f":"SUMIF(BDD!$BC$2:$BC$685,\"Banc 126FAUXVRAIFAUXFAUXVRAI\",BDD!$V$2:$V$685)","v":11},{"$f":"SUMIF(BDD!$BC$2:$BC$685,\"Banc 126VRAIFAUXVRAIFAUXFAUX\",BDD!$V$2:$V$685)","v":20},{"$f":"SUMIF(BDD!$BC$2:$BC$685,\"Banc 126VRAIFAUXFAUXVRAIFAUX\",BDD!$V$2:$V$685)","v":35},{"$f":"SUMIF(BDD!$BC$2:$BC$685,\"Banc 126VRAIFAUXFAUXFAUXVRAI\",BDD!$V$2:$V$685)","v":14},{"$f":"SUMIF(BDD!$BC$2:$BC$685,\"Banc 126FAUXVRAIVRAIFAUXFAUX\",BDD!$V$2:$V$685)","v":12},{"$f":"SUMIF(BDD!$BC$2:$BC$685,\"Banc 126FAUXVRAIFAUXVRAIFAUX\",BDD!$V$2:$V$685)","v":8},{"$f":"SUMIF(BDD!$BC$2:$BC$685,\"Banc 126FAUXVRAIFAUXFAUXVRAI\",BDD!$V$2:$V$685)","v":11},{"$f":"SUMIF(BDD!$BC$2:$BC$685,\"Banc 126VRAIFAUXVRAIFAUXFAUX\",BDD!$V$2:$V$685)","v":20},{"$f":"SUMIF(BDD!$BC$2:$BC$685,\"Banc 126VRAIFAUXFAUXVRAIFAUX\",BDD!$V$2:$V$685)","v":35},{"$f":"SUMIF(BDD!$BC$2:$BC$685,\"Banc 126VRAIFAUXFAUXFAUXVRAI\",BDD!$V$2:$V$685)","v":14},{"$f":"SUMIF(BDD!$BC$2:$BC$685,\"Banc 126FAUXVRAIVRAIFAUXFAUX\",BDD!$V$2:$V$685)","v":12},{"$f":"SUMIF(BDD!$BC$2:$BC$685,\"Banc 126FAUXVRAIFAUXVRAIFAUX\",BDD!$V$2:$V$685)","v":8},{"$f":"SUMIF(BDD!$BC$2:$BC$685,\"Banc 126FAUXVRAIFAUXFAUXVRAI\",BDD!$V$2:$V$685)","v":11},{"$f":"SUMIF(BDD!$BC$2:$BC$685,\"Banc 126VRAIFAUXVRAIFAUXFAUX\",BDD!$V$2:$V$685)","v":20},{"$f":"SUMIF(BDD!$BC$2:$BC$685,\"Banc 126VRAIFAUXFAUXVRAIFAUX\",BDD!$V$2:$V$685)","v":35},{"$f":"SUMIF(BDD!$BC$2:$BC$685,\"Banc 126VRAIFAUXFAUXFAUXVRAI\",BDD!$V$2:$V$685)","v":14},{"$f":"SUMIF(BDD!$BC$2:$BC$685,\"Banc 126FAUXVRAIVRAIFAUXFAUX\",BDD!$V$2:$V$685)","v":12},{"$f":"SUMIF(BDD!$BC$2:$BC$685,\"Banc 126FAUXVRAIFAUXVRAIFAUX\",BDD!$V$2:$V$685)","v":8},{"$f":"SUMIF(BDD!$BC$2:$BC$685,\"Banc 126FAUXVRAIFAUXFAUXVRAI\",BDD!$V$2:$V$685)","v":11},{"$f":"SUMIF(BDD!$BC$2:$BC$685,\"Banc 126VRAIFAUXVRAIFAUXFAUX\",BDD!$V$2:$V$685)","v":20},{"$f":"SUMIF(BDD!$BC$2:$BC$685,\"Banc 126VRAIFAUXFAUXVRAIFAUX\",BDD!$V$2:$V$685)","v":35},{"$f":"SUMIF(BDD!$BC$2:$BC$685,\"Banc 126VRAIFAUXFAUXFAUXVRAI\",BDD!$V$2:$V$685)","v":14},{"$f":"SUMIF(BDD!$BC$2:$BC$685,\"Banc 126FAUXVRAIVRAIFAUXFAUX\",BDD!$V$2:$V$685)","v":12},{"$f":"SUMIF(BDD!$BC$2:$BC$685,\"Banc 126FAUXVRAIFAUXVRAIFAUX\",BDD!$V$2:$V$685)","v":8},{"$f":"SUMIF(BDD!$BC$2:$BC$685,\"Banc 126FAUXVRAIFAUXFAUXVRAI\",BDD!$V$2:$V$685)","v":11},{"$f":"SUMIF(BDD!$BC$2:$BC$685,\"Banc 126VRAIFAUXVRAIFAUXFAUX\",BDD!$V$2:$V$685)","v":20},{"$f":"SUMIF(BDD!$BC$2:$BC$685,\"Banc 126VRAIFAUXFAUXVRAIFAUX\",BDD!$V$2:$V$685)","v":35},{"$f":"SUMIF(BDD!$BC$2:$BC$685,\"Banc 126VRAIFAUXFAUXFAUXVRAI\",BDD!$V$2:$V$685)","v":14},{"$f":"SUMIF(BDD!$BC$2:$BC$685,\"Banc 126FAUXVRAIVRAIFAUXFAUX\",BDD!$V$2:$V$685)","v":12},{"$f":"SUMIF(BDD!$BC$2:$BC$685,\"Banc 126FAUXVRAIFAUXVRAIFAUX\",BDD!$V$2:$V$685)","v":8},{"$f":"SUMIF(BDD!$BC$2:$BC$685,\"Banc 126FAUXVRAIFAUXFAUXVRAI\",BDD!$V$2:$V$685)","v":11},{"$f":"SUMIF(BDD!$BC$2:$BC$685,\"Banc 126VRAIFAUXVRAIFAUXFAUX\",BDD!$V$2:$V$685)","v":20},{"$f":"SUMIF(BDD!$BC$2:$BC$685,\"Banc 126VRAIFAUXFAUXVRAIFAUX\",BDD!$V$2:$V$685)","v":35},{"$f":"SUMIF(BDD!$BC$2:$BC$685,\"Banc 126VRAIFAUXFAUXFAUXVRAI\",BDD!$V$2:$V$685)","v":14},{"$f":"SUMIF(BDD!$BC$2:$BC$685,\"Banc 126FAUXVRAIVRAIFAUXFAUX\",BDD!$V$2:$V$685)","v":12},{"$f":"SUMIF(BDD!$BC$2:$BC$685,\"Banc 126FAUXVRAIFAUXVRAIFAUX\",BDD!$V$2:$V$685)","v":8},{"$f":"SUMIF(BDD!$BC$2:$BC$685,\"Banc 126FAUXVRAIFAUXFAUXVRAI\",BDD!$V$2:$V$685)","v":11},{"$f":"SUMIF(BDD!$BC$2:$BC$685,\"Banc 126VRAIFAUXVRAIFAUXFAUX\",BDD!$V$2:$V$685)","v":20},{"$f":"SUMIF(BDD!$BC$2:$BC$685,\"Banc 126VRAIFAUXFAUXVRAIFAUX\",BDD!$V$2:$V$685)","v":35},{"$f":"SUMIF(BDD!$BC$2:$BC$685,\"Banc 126VRAIFAUXFAUXFAUXVRAI\",BDD!$V$2:$V$685)","v":14},{"$f":"SUMIF(BDD!$BC$2:$BC$685,\"Banc 126FAUXVRAIVRAIFAUXFAUX\",BDD!$V$2:$V$685)","v":12},{"$f":"SUMIF(BDD!$BC$2:$BC$685,\"Banc 126FAUXVRAIFAUXVRAIFAUX\",BDD!$V$2:$V$685)","v":8},{"$f":"SUMIF(BDD!$BC$2:$BC$685,\"Banc 126FAUXVRAIFAUXFAUXVRAI\",BDD!$V$2:$V$685)","v":11},{"$f":"SUMIF(BDD!$BC$2:$BC$685,\"Banc 126VRAIFAUXVRAIFAUXFAUX\",BDD!$V$2:$V$685)","v":20},{"$f":"SUMIF(BDD!$BC$2:$BC$685,\"Banc 126VRAIFAUXFAUXVRAIFAUX\",BDD!$V$2:$V$685)","v":35},{"$f":"SUMIF(BDD!$BC$2:$BC$685,\"Banc 126VRAIFAUXFAUXFAUXVRAI\",BDD!$V$2:$V$685)","v":14},{"$f":"SUMIF(BDD!$BC$2:$BC$685,\"Banc 126FAUXVRAIVRAIFAUXFAUX\",BDD!$V$2:$V$685)","v":12},{"$f":"SUMIF(BDD!$BC$2:$BC$685,\"Banc 126FAUXVRAIFAUXVRAIFAUX\",BDD!$V$2:$V$685)","v":8},{"$f":"SUMIF(BDD!$BC$2:$BC$685,\"Banc 126FAUXVRAIFAUXFAUXVRAI\",BDD!$V$2:$V$685)","v":11},{"$f":"SUMIF(BDD!$BC$2:$BC$685,\"Banc 126VRAIFAUXVRAIFAUXFAUX\",BDD!$V$2:$V$685)","v":20},{"$f":"SUMIF(BDD!$BC$2:$BC$685,\"Banc 126VRAIFAUXFAUXVRAIFAUX\",BDD!$V$2:$V$685)","v":35},{"$f":"SUMIF(BDD!$BC$2:$BC$685,\"Banc 126VRAIFAUXFAUXFAUXVRAI\",BDD!$V$2:$V$685)","v":14},{"$f":"SUMIF(BDD!$BC$2:$BC$685,\"Banc 126FAUXVRAIVRAIFAUXFAUX\",BDD!$V$2:$V$685)","v":12},{"$f":"SUMIF(BDD!$BC$2:$BC$685,\"Banc 126FAUXVRAIFAUXVRAIFAUX\",BDD!$V$2:$V$685)","v":8},{"$f":"SUMIF(BDD!$BC$2:$BC$685,\"Banc 126FAUXVRAIFAUXFAUXVRAI\",BDD!$V$2:$V$685)","v":11}]
["Banc 156",{"$f":"SUMIF(BDD!$BC$2:$BC$685,\"Banc 156VRAIFAUXVRAIFAUXFAUX\",BDD!$V$2:$V$685)","v":22},{"$f":"SUMIF(BDD!$BC$2:$BC$685,\"Banc 156VRAIFAUXFAUXVRAIFAUX\",BDD!$V$2:$V$685)","v":24},{"$f":"SUMIF(BDD!$BC$2:$BC$685,\"Banc 156VRAIFAUXFAUXFAUXVRAI\",BDD!$V$2:$V$685)","v":1},{"$f":"SUMIF(BDD!$BC$2:$BC$685,\"Banc 156FAUXVRAIVRAIFAUXFAUX\",BDD!$V$2:$V$685)","v":3},{"$f":"SUMIF(BDD!$BC$2:$BC$685,\"Banc 156FAUXVRAIFAUXVRAIFAUX\",BDD!$V$2:$V$685)","v":14},{"$f":"SUMIF(BDD!$BC$2:$BC$685,\"Banc 156FAUXVRAIFAUXFAUXVRAI\",BDD!$V$2:$V$685)","v":22},{"$f":"SUMIF(BDD!$BC$2:$BC$685,\"Banc 156VRAIFAUXVRAIFAUXFAUX\",BDD!$V$2:$V$685)","v":22},{"$f":"SUMIF(BDD!$BC$2:$BC$685,\"Banc 156VRAIFAUXFAUXVRAIFAUX\",BDD!$V$2:$V$685)","v":24},{"$f":"SUMIF(BDD!$BC$2:$BC$685,\"Banc 156VRAIFAUXFAUXFAUXVRAI\",BDD!$V$2:$V$685)","v":1},{"$f":"SUMIF(BDD!$BC$2:$BC$685,\"Banc 156FAUXVRAIVRAIFAUXFAUX\",BDD!$V$2:$V$685)","v":3},{"$f":"SUMIF(BDD!$BC$2:$BC$685,\"Banc 156FAUXVRAIFAUXVRAIFAUX\",BDD!$V$2:$V$685)","v":14},{"$f":"SUMIF(BDD!$BC$2:$BC$685,\"Banc 156FAUXVRAIFAUXFAUXVRAI\",BDD!$V$2:$V$685)","v":22},{"$f":"SUMIF(BDD!$BC$2:$BC$685,\"Banc 156VRAIFAUXVRAIFAUXFAUX\",BDD!$V$2:$V$685)","v":22},{"$f":"SUMIF(BDD!$BC$2:$BC$685,\"Banc 156VRAIFAUXFAUXVRAIFAUX\",BDD!$V$2:$V$685)","v":24},{"$f":"SUMIF(BDD!$BC$2:$BC$685,\"Banc 156VRAIFAUXFAUXFAUXVRAI\",BDD!$V$2:$V$685)","v":1},{"$f":"SUMIF(BDD!$BC$2:$BC$685,\"Banc 156FAUXVRAIVRAIFAUXFAUX\",BDD!$V$2:$V$685)","v":3},{"$f":"SUMIF(BDD!$BC$2:$BC$685,\"Banc 156FAUXVRAIFAUXVRAIFAUX\",BDD!$V$2:$V$685)","v":14},{"$f":"SUMIF(BDD!$BC$2:$BC$685,\"Banc 156FAUXVRAIFAUXFAUXVRAI\",BDD!$V$2:$V$685)","v":22},{"$f":"SUMIF(BDD!$BC$2:$BC$685,\"Banc 156VRAIFAUXVRAIFAUXFAUX\",BDD!$V$2:$V$685)","v":22},{"$f":"SUMIF(BDD!$BC$2:$BC$685,\"Banc 156VRAIFAUXFAUXVRAIFAUX\",BDD!$V$2:$V$685)","v":24},{"$f":"SUMIF(BDD!$BC$2:$BC$685,\"Banc 156VRAIFAUXFAUXFAUXVRAI\",BDD!$V$2:$V$685)","v":1},{"$f":"SUMIF(BDD!$BC$2:$BC$685,\"Banc 156FAUXVRAIVRAIFAUXFAUX\",BDD!$V$2:$V$685)","v":3},{"$f":"SUMIF(BDD!$BC$2:$BC$685,\"Banc 156FAUXVRAIFAUXVRAIFAUX\",BDD!$V$2:$V$685)","v":14},{"$f":"SUMIF(BDD!$BC$2:$BC$685,\"Banc 156FAUXVRAIFAUXFAUXVRAI\",BDD!$V$2:$V$685)","v":22},{"$f":"SUMIF(BDD!$BC$2:$BC$685,\"Banc 156VRAIFAUXVRAIFAUXFAUX\",BDD!$V$2:$V$685)","v":22},{"$f":"SUMIF(BDD!$BC$2:$BC$685,\"Banc 156VRAIFAUXFAUXVRAIFAUX\",BDD!$V$2:$V$685)","v":24},{"$f":"SUMIF(BDD!$BC$2:$BC$685,\"Banc 156VRAIFAUXFAUXFAUXVRAI\",BDD!$V$2:$V$685)","v":1},{"$f":"SUMIF(BDD!$BC$2:$BC$685,\"Banc 156FAUXVRAIVRAIFAUXFAUX\",BDD!$V$2:$V$685)","v":3},{"$f":"SUMIF(BDD!$BC$2:$BC$685,\"Banc 156FAUXVRAIFAUXVRAIFAUX\",BDD!$V$2:$V$685)","v":14},{"$f":"SUMIF(BDD!$BC$2:$BC$685,\"Banc 156FAUXVRAIFAUXFAUXVRAI\",BDD!$V$2:$V$685)","v":22},{"$f":"SUMIF(BDD!$BC$2:$BC$685,\"Banc 156VRAIFAUXVRAIFAUXFAUX\",BDD!$V$2:$V$685)","v":22},{"$f":"SUMIF(BDD!$BC$2:$BC$685,\"Banc 156VRAIFAUXFAUXVRAIFAUX\",BDD!$V$2:$V$685)","v":24},{"$f":"SUMIF(BDD!$BC$2:$BC$685,\"Banc 156VRAIFAUXFAUXFAUXVRAI\",BDD!$V$2:$V$685)","v":1},{"$f":"SUMIF(BDD!$BC$2:$BC$685,\"Banc 156FAUXVRAIVRAIFAUXFAUX\",BDD!$V$2:$V$685)","v":3},{"$f":"SUMIF(BDD!$BC$2:$BC$685,\"Banc 156FAUXVRAIFAUXVRAIFAUX\",BDD!$V$2:$V$685)","v":14},{"$f":"SUMIF(BDD!$BC$2:$BC$685,\"Banc 156FAUXVRAIFAUXFAUXVRAI\",BDD!$V$2:$V$685)","v":22},{"$f":"SUMIF(BDD!$BC$2:$BC$685,\"Banc 156VRAIFAUXVRAIFAUXFAUX\",BDD!$V$2:$V$685)","v":22},{"$f":"SUMIF(BDD!$BC$2:$BC$685,\"Banc 156VRAIFAUXFAUXVRAIFAUX\",BDD!$V$2:$V$685)","v":24},{"$f":"SUMIF(BDD!$BC$2:$BC$685,\"Banc 156VRAIFAUXFAUXFAUXVRAI\",BDD!$V$2:$V$685)","v":1},{"$f":"SUMIF(BDD!$BC$2:$BC$685,\"Banc 156FAUXVRAIVRAIFAUXFAUX\",BDD!$V$2:$V$685)","v":3},{"$f":"SUMIF(BDD!$BC$2:$BC$685,\"Banc 156FAUXVRAIFAUXVRAIFAUX\",BDD!$V$2:$V$685)","v":14},{"$f":"SUMIF(BDD!$BC$2:$BC$685,\"Banc 156FAUXVRAIFAUXFAUXVRAI\",BDD!$V$2:$V$685)","v":22},{"$f":"SUMIF(BDD!$BC$2:$BC$685,\"Banc 156VRAIFAUXVRAIFAUXFAUX\",BDD!$V$2:$V$685)","v":22},{"$f":"SUMIF(BDD!$BC$2:$BC$685,\"Banc 156VRAIFAUXFAUXVRAIFAUX\",BDD!$V$2:$V$685)","v":24},{"$f":"SUMIF(BDD!$BC$2:$BC$685,\"Banc 156VRAIFAUXFAUXFAUXVRAI\",BDD!$V$2:$V$685)","v":1},{"$f":"SUMIF(BDD!$BC$2:$BC$685,\"Banc 156FAUXVRAIVRAIFAUXFAUX\",BDD!$V$2:$V$685)","v":3},{"$f":"SUMIF(BDD!$BC$2:$BC$685,\"Banc 156FAUXVRAIFAUXVRAIFAUX\",BDD!$V$2:$V$685)","v":14},{"$f":"SUMIF(BDD!$BC$2:$BC$685,\"Banc 156FAUXVRAIFAUXFAUXVRAI\",BDD!$V$2:$V$685)","v":22},{"$f":"SUMIF(BDD!$BC$2:$BC$685,\"Banc 156VRAIFAUXVRAIFAUXFAUX\",BDD!$V$2:$V$685)","v":22},{"$f":"SUMIF(BDD!$BC$2:$BC$685,\"Banc 156VRAIFAUXFAUXVRAIFAUX\",BDD!$V$2:$V$685)","v":24},{"$f":"SUMIF(BDD!$BC$2:$BC$685,\"Banc 156VRAIFAUXFAUXFAUXVRAI\",BDD!$V$2:$V$685)","v":1},{"$f":"SUMIF(BDD!$BC$2:$BC$685,\"Banc 156FAUXVRAIVRAIFAUXFAUX\",BDD!$V$2:$V$685)","v":3},{"$f":"SUMIF(BDD!$BC$2:$BC$685,\"Banc 156FAUXVRAIFAUXVRAIFAUX\",BDD!$V$2:$V$685)","v":14},{"$f":"SUMIF(BDD!$BC$2:$BC$685,\"Banc 156FAUXVRAIFAUXFAUXVRAI\",BDD!$V$2:$V$685)","v":22},{"$f":"SUMIF(BDD!$BC$2:$BC$685,\"Banc 156VRAIFAUXVRAIFAUXFAUX\",BDD!$V$2:$V$685)","v":22},{"$f":"SUMIF(BDD!$BC$2:$BC$685,\"Banc 156VRAIFAUXFAUXVRAIFAUX\",BDD!$V$2:$V$685)","v":24},{"$f":"SUMIF(BDD!$BC$2:$BC$685,\"Banc 156VRAIFAUXFAUXFAUXVRAI\",BDD!$V$2:$V$685)","v":1},{"$f":"SUMIF(BDD!$BC$2:$BC$685,\"Banc 156FAUXVRAIVRAIFAUXFAUX\",BDD!$V$2:$V$685)","v":3},{"$f":"SUMIF(BDD!$BC$2:$BC$685,\"Banc 156FAUXVRAIFAUXVRAIFAUX\",BDD!$V$2:$V$685)","v":14},{"$f":"SUMIF(BDD!$BC$2:$BC$685,\"Banc 156FAUXVRAIFAUXFAUXVRAI\",BDD!$V$2:$V$685)","v":22},{"$f":"SUMIF(BDD!$BC$2:$BC$685,\"Banc 156VRAIFAUXVRAIFAUXFAUX\",BDD!$V$2:$V$685)","v":22},{"$f":"SUMIF(BDD!$BC$2:$BC$685,\"Banc 156VRAIFAUXFAUXVRAIFAUX\",BDD!$V$2:$V$685)","v":24},{"$f":"SUMIF(BDD!$BC$2:$BC$685,\"Banc 156VRAIFAUXFAUXFAUXVRAI\",BDD!$V$2:$V$685)","v":1},{"$f":"SUMIF(BDD!$BC$2:$BC$685,\"Banc 156FAUXVRAIVRAIFAUXFAUX\",BDD!$V$2:$V$685)","v":3},{"$f":"SUMIF(BDD!$BC$2:$BC$685,\"Banc 156FAUXVRAIFAUXVRAIFAUX\",BDD!$V$2:$V$685)","v":14},{"$f":"SUMIF(BDD!$BC$2:$BC$685,\"Banc 156FAUXVRAIFAUXFAUXVRAI\",BDD!$V$2:$V$685)","v":22},{"$f":"SUMIF(BDD!$BC$2:$BC$685,\"Banc 156VRAIFAUXVRAIFAUXFAUX\",BDD!$V$2:$V$685)","v":22},{"$f":"SUMIF(BDD!$BC$2:$BC$685,\"Banc 156VRAIFAUXFAUXVRAIFAUX\",BDD!$V$2:$V$685)","v":24},{"$f":"SUMIF(BDD!$BC$2:$BC$685,\"Banc 156VRAIFAUXFAUXFAUXVRAI\",BDD!$V$2:$V$685)","v":1},{"$f":"SUMIF(BDD!$BC$2:$BC$685,\"Banc 156FAUXVRAIVRAIFAUXFAUX\",BDD!$V$2:$V$685)","v":3},{"$f":"SUMIF(BDD!$BC$2:$BC$685,\"Banc 156FAUXVRAIFAUXVRAIFAUX\",BDD!$V$2:$V$685)","v":14},{"$f":"SUMIF(BDD!$BC$2:$BC$685,\"Banc 156FAUXVRAIFAUXFAUXVRAI\",BDD!$V$2:$V$685)","v":22}]

{"sheet":"Indicateur Zone10","index":7,"n_rows":99,"n_cols":73,"rows_kept":99,"cut":false,"hidden":false,"merged":[[1,1,1,12],[32,1,32,12],[53,1,53,12],[54,1,54,2],[54,5,54,6],[54,9,54,10],[54,3,54,4],[54,19,54,20],[54,21,54,22],[54,23,54,24],[54,7,54,8],[54,13,54,14],[54,11,54,12],[54,17,54,18],[54,15,54,16],[87,1,87,21],[88,1,88,6],[88,7,88,12],[88,13,88,18],[88,19,88,24],[88,25,88,30],[88,31,88,36],[88,37,88,42],[88,43,88,48],[88,49,88,54],[88,55,88,60],[88,61,88,66],[88,67,88,72],[89,1,89,3],[89,4,89,6],[89,7,89,9],[89,10,89,12],[89,13,89,15],[89,16,89,18],[89,19,89,21],[89,22,89,24],[89,25,89,27],[89,28,89,30],[89,31,89,33],[89,34,89,36],[89,37,89,39],[89,40,89,42],[89,43,89,45],[89,46,89,48],[89,49,89,51],[89,52,89,54],[89,70,89,72],[89,55,89,57],[89,58,89,60],[89,61,89,63],[89,64,89,66],[89,67,89,69]]}
[]
[null,"Suivi des arrêts par banc"]
["Banc zone 10","Janvier","Février","Mars","Avril","Mai","Juin","Juillet","Août","Septembre","Octobre","Novembre","Décembre"]
["Banc 007",{"$f":"SUMIF(BDD!$H$2:$H$685,'Indicateur Zone10'!$A$4,BDD!$V$2:$V$685)","v":4},{"$f":"SUMIF(BDD!$H$2:$H$685,'Indicateur Zone10'!$A$4,BDD!$V$2:$V$685)","v":4},{"$f":"SUMIF(BDD!$H$2:$H$685,'Indicateur Zone10'!$A$4,BDD!$V$2:$V$685)","v":4},{"$f":"SUMIF(BDD!$H$2:$H$685,'Indicateur Zone10'!$A$4,BDD!$V$2:$V$685)","v":4},{"$f":"SUMIF(BDD!$H$2:$H$685,'Indicateur Zone10'!$A$4,BDD!$V$2:$V$685)","v":4},{"$f":"SUMIF(BDD!$H$2:$H$685,'Indicateur Zone10'!$A$4,BDD!$V$2:$V$685)","v":4},{"$f":"SUMIF(BDD!$H$2:$H$685,'Indicateur Zone10'!$A$4,BDD!$V$2:$V$685)","v":4},{"$f":"SUMIF(BDD!$H$2:$H$685,'Indicateur Zone10'!$A$4,BDD!$V$2:$V$685)","v":4},{"$f":"SUMIF(BDD!$H$2:$H$685,'Indicateur Zone10'!$A$4,BDD!$V$2:$V$685)","v":4},{"$f":"SUMIF(BDD!$H$2:$H$685,'Indicateur Zone10'!$A$4,BDD!$V$2:$V$685)","v":4},{"$f":"SUMIF(BDD!$H$2:$H$685,'Indicateur Zone10'!$A$4,BDD!$V$2:$V$685)","v":4},{"$f":"SUMIF(BDD!$H$2:$H$685,'Indicateur Zone10'!$A$4,BDD!$V$2:$V$685)","v":4}]
["Banc 008",{"$f":"SUMIF(BDD!$H$2:$H$685,'Indicateur Zone10'!$A$5,BDD!$V$2:$V$685)","v":1},{"$f":"SUMIF(BDD!$H$2:$H$685,'Indicateur Zone10'!$A$5,BDD!$V$2:$V$685)","v":1},{"$f":"SUMIF(BDD!$H$2:$H$685,'Indicateur Zone10'!$A$5,BDD!$V$2:$V$685)","v":1},{"$f":"SUMIF(BDD!$H$2:$H$685,'Indicateur Zone10'!$A$5,BDD!$V$2:$V$685)","v":1},{"$f":"SUMIF(BDD!$H$2:$H$685,'Indicateur Zone10'!$A$5,BDD!$V$2:$V$685)","v":1},{"$f":"SUMIF(BDD!$H$2:$H$685,'Indicateur Zone10'!$A$5,BDD!$V$2:$V$685)","v":1},{"$f":"SUMIF(BDD!$H$2:$H$685,'Indicateur Zone10'!$A$5,BDD!$V$2:$V$685)","v":1},{"$f":"SUMIF(BDD!$H$2:$H$685,'Indicateur Zone10'!$A$5,BDD!$V$2:$V$685)","v":1},{"$f":"SUMIF(BDD!$H$2:$H$685,'Indicateur Zone10'!$A$5,BDD!$V$2:$V$685)","v":1},{"$f":"SUMIF(BDD!$H$2:$H$685,'Indicateur Zone10'!$A$5,BDD!$V$2:$V$685)","v":1},{"$f":"SUMIF(BDD!$H$2:$H$685,'Indicateur Zone10'!$A$5,BDD!$V$2:$V$685)","v":1},{"$f":"SUMIF(BDD!$H$2:$H$685,'Indicateur Zone10'!$A$5,BDD!$V$2:$V$685)","v":1}]
["Banc 113",{"$f":"SUMIF(BDD!$H$2:$H$685,'Indicateur Zone10'!$A$6,BDD!$V$2:$V$685)","v":5},{"$f":"SUMIF(BDD!$H$2:$H$685,'Indicateur Zone10'!$A$6,BDD!$V$2:$V$685)","v":5},{"$f":"SUMIF(BDD!$H$2:$H$685,'Indicateur Zone10'!$A$6,BDD!$V$2:$V$685)","v":5},{"$f":"SUMIF(BDD!$H$2:$H$685,'Indicateur Zone10'!$A$6,BDD!$V$2:$V$685)","v":5},{"$f":"SUMIF(BDD!$H$2:$H$685,'Indicateur Zone10'!$A$6,BDD!$V$2:$V$685)","v":5},{"$f":"SUMIF(BDD!$H$2:$H$685,'Indicateur Zone10'!$A$6,BDD!$V$2:$V$685)","v":5},{"$f":"SUMIF(BDD!$H$2:$H$685,'Indicateur Zone10'!$A$6,BDD!$V$2:$V$685)","v":5},{"$f":"SUMIF(BDD!$H$2:$H$685,'Indicateur Zone10'!$A$6,BDD!$V$2:$V$685)","v":5},{"$f":"SUMIF(BDD!$H$2:$H$685,'Indicateur Zone10'!$A$6,BDD!$V$2:$V$685)","v":5},{"$f":"SUMIF(BDD!$H$2:$H$685,'Indicateur Zone10'!$A$6,BDD!$V$2:$V$685)","v":5},{"$f":"SUMIF(BDD!$H$2:$H$685,'Indicateur Zone10'!$A$6,BDD!$V$2:$V$685)","v":5},{"$f":"SUMIF(BDD!$H$2:$H$685,'Indicateur Zone10'!$A$6,BDD!$V$2:$V$685)","v":5}]
["Banc 115",{"$f":"SUMIF(BDD!$H$2:$H$685,'Indicateur Zone10'!$A$7,BDD!$V$2:$V$685)","v":7},{"$f":"SUMIF(BDD!$H$2:$H$685,'Indicateur Zone10'!$A$7,BDD!$V$2:$V$685)","v":7},{"$f":"SUMIF(BDD!$H$2:$H$685,'Indicateur Zone10'!$A$7,BDD!$V$2:$V$685)","v":7},{"$f":"SUMIF(BDD!$H$2:$H$685,'Indicateur Zone10'!$A$7,BDD!$V$2:$V$685)","v":7},{"$f":"SUMIF(BDD!$H$2:$H$685,'Indicateur Zone10'!$A$7,BDD!$V$2:$V$685)","v":7},{"$f":"SUMIF(BDD!$H$2:$H$685,'Indicateur Zone10'!$A$7,BDD!$V$2:$V$685)","v":7},{"$f":"SUMIF(BDD!$H$2:$H$685,'Indicateur Zone10'!$A$7,BDD!$V$2:$V$685)","v":7},{"$f":"SUMIF(BDD!$H$2:$H$685,'Indicateur Zone10'!$A$7,BDD!$V$2:$V$685)","v":7},{"$f":"SUMIF(BDD!$H$2:$H$685,'Indicateur Zone10'!$A$7,BDD!$V$2:$V$685)","v":7},{"$f":"SUMIF(BDD!$H$2:$H$685,'Indicateur Zone10'!$A$7,BDD!$V$2:$V$685)","v":7},{"$f":"SUMIF(BDD!$H$2:$H$685,'Indicateur Zone10'!$A$7,BDD!$V$2:$V$685)","v":7},{"$f":"SUMIF(BDD!$H$2:$H$685,'Indicateur Zone10'!$A$7,BDD!$V$2:$V$685)","v":7}]
["Banc 120",{"$f":"SUMIF(BDD!$H$2:$H$685,'Indicateur Zone10'!$A$8,BDD!$V$2:$V$685)","v":6},{"$f":"SUMIF(BDD!$H$2:$H$685,'Indicateur Zone10'!$A$8,BDD!$V$2:$V$685)","v":6},{"$f":"SUMIF(BDD!$H$2:$H$685,'Indicateur Zone10'!$A$8,BDD!$V$2:$V$685)","v":6},{"$f":"SUMIF(BDD!$H$2:$H$685,'Indicateur Zone10'!$A$8,BDD!$V$2:$V$685)","v":6},{"$f":"SUMIF(BDD!$H$2:$H$685,'Indicateur Zone10'!$A$8,BDD!$V$2:$V$685)","v":6},{"$f":"SUMIF(BDD!$H$2:$H$685,'Indicateur Zone10'!$A$8,BDD!$V$2:$V$685)","v":6},{"$f":"SUMIF(BDD!$H$2:$H$685,'Indicateur Zone10'!$A$8,BDD!$V$2:$V$685)","v":6},{"$f":"SUMIF(BDD!$H$2:$H$685,'Indicateur Zone10'!$A$8,BDD!$V$2:$V$685)","v":6},{"$f":"SUMIF(BDD!$H$2:$H$685,'Indicateur Zone10'!$A$8,BDD!$V$2:$V$685)","v":6},{"$f":"SUMIF(BDD!$H$2:$H$685,'Indicateur Zone10'!$A$8,BDD!$V$2:$V$685)","v":6},{"$f":"SUMIF(BDD!$H$2:$H$685,'Indicateur Zone10'!$A$8,BDD!$V$2:$V$685)","v":6},{"$f":"SUMIF(BDD!$H$2:$H$685,'Indicateur Zone10'!$A$8,BDD!$V$2:$V$685)","v":6}]
["Banc 120 bis",{"$f":"SUMIF(BDD!$H$2:$H$685,'Indicateur Zone10'!$A$9,BDD!$V$2:$V$685)","v":12},{"$f":"SUMIF(BDD!$H$2:$H$685,'Indicateur Zone10'!$A$9,BDD!$V$2:$V$685)","v":12},{"$f":"SUMIF(BDD!$H$2:$H$685,'Indicateur Zone10'!$A$9,BDD!$V$2:$V$685)","v":12},{"$f":"SUMIF(BDD!$H$2:$H$685,'Indicateur Zone10'!$A$9,BDD!$V$2:$V$685)","v":12},{"$f":"SUMIF(BDD!$H$2:$H$685,'Indicateur Zone10'!$A$9,BDD!$V$2:$V$685)","v":12},{"$f":"SUMIF(BDD!$H$2:$H$685,'Indicateur Zone10'!$A$9,BDD!$V$2:$V$685)","v":12},{"$f":"SUMIF(BDD!$H$2:$H$685,'Indicateur Zone10'!$A$9,BDD!$V$2:$V$685)","v":12},{"$f":"SUMIF(BDD!$H$2:$H$685,'Indicateur Zone10'!$A$9,BDD!$V$2:$V$685)","v":12},{"$f":"SUMIF(BDD!$H$2:$H$685,'Indicateur Zone10'!$A$9,BDD!$V$2:$V$685)","v":12},{"$f":"SUMIF(BDD!$H$2:$H$685,'Indicateur Zone10'!$A$9,BDD!$V$2:$V$685)","v":12},{"$f":"SUMIF(BDD!$H$2:$H$685,'Indicateur Zone10'!$A$9,BDD!$V$2:$V$685)","v":12},{"$f":"SUMIF(BDD!$H$2:$H$685,'Indicateur Zone10'!$A$9,BDD!$V$2:$V$685)","v":12}]
["Banc 125",{"$f":"SUMIF(BDD!$H$2:$H$685,'Indicateur Zone10'!$A$10,BDD!$V$2:$V$685)","v":0},{"$f":"SUMIF(BDD!$H$2:$H$685,'Indicateur Zone10'!$A$10,BDD!$V$2:$V$685)","v":0},{"$f":"SUMIF(BDD!$H$2:$H$685,'Indicateur Zone10'!$A$10,BDD!$V$2:$V$685)","v":0},{"$f":"SUMIF(BDD!$H$2:$H$685,'Indicateur Zone10'!$A$10,BDD!$V$2:$V$685)","v":0},{"$f":"SUMIF(BDD!$H$2:$H$685,'Indicateur Zone10'!$A$10,BDD!$V$2:$V$685)","v":0},{"$f":"SUMIF(BDD!$H$2:$H$685,'Indicateur Zone10'!$A$10,BDD!$V$2:$V$685)","v":0},{"$f":"SUMIF(BDD!$H$2:$H$685,'Indicateur Zone10'!$A$10,BDD!$V$2:$V$685)","v":0},{"$f":"SUMIF(BDD!$H$2:$H$685,'Indicateur Zone10'!$A$10,BDD!$V$2:$V$685)","v":0},{"$f":"SUMIF(BDD!$H$2:$H$685,'Indicateur Zone10'!$A$10,BDD!$V$2:$V$685)","v":0},{"$f":"SUMIF(BDD!$H$2:$H$685,'Indicateur Zone10'!$A$10,BDD!$V$2:$V$685)","v":0},{"$f":"SUMIF(BDD!$H$2:$H$685,'Indicateur Zone10'!$A$10,BDD!$V$2:$V$685)","v":0},{"$f":"SUMIF(BDD!$H$2:$H$685,'Indicateur Zone10'!$A$10,BDD!$V$2:$V$685)","v":0}]
["Banc 128",{"$f":"SUMIF(BDD!$H$2:$H$685,'Indicateur Zone10'!$A$11,BDD!$V$2:$V$685)","v":11},{"$f":"SUMIF(BDD!$H$2:$H$685,'Indicateur Zone10'!$A$11,BDD!$V$2:$V$685)","v":11},{"$f":"SUMIF(BDD!$H$2:$H$685,'Indicateur Zone10'!$A$11,BDD!$V$2:$V$685)","v":11},{"$f":"SUMIF(BDD!$H$2:$H$685,'Indicateur Zone10'!$A$11,BDD!$V$2:$V$685)","v":11},{"$f":"SUMIF(BDD!$H$2:$H$685,'Indicateur Zone10'!$A$11,BDD!$V$2:$V$685)","v":11},{"$f":"SUMIF(BDD!$H$2:$H$685,'Indicateur Zone10'!$A$11,BDD!$V$2:$V$685)","v":11},{"$f":"SUMIF(BDD!$H$2:$H$685,'Indicateur Zone10'!$A$11,BDD!$V$2:$V$685)","v":11},{"$f":"SUMIF(BDD!$H$2:$H$685,'Indicateur Zone10'!$A$11,BDD!$V$2:$V$685)","v":11},{"$f":"SUMIF(BDD!$H$2:$H$685,'Indicateur Zone10'!$A$11,BDD!$V$2:$V$685)","v":11},{"$f":"SUMIF(BDD!$H$2:$H$685,'Indicateur Zone10'!$A$11,BDD!$V$2:$V$685)","v":11},{"$f":"SUMIF(BDD!$H$2:$H$685,'Indicateur Zone10'!$A$11,BDD!$V$2:$V$685)","v":11},{"$f":"SUMIF(BDD!$H$2:$H$685,'Indicateur Zone10'!$A$11,BDD!$V$2:$V$685)","v":11}]
["Banc 131",{"$f":"SUMIF(BDD!$H$2:$H$685,'Indicateur Zone10'!$A$12,BDD!$V$2:$V$685)","v":0},{"$f":"SUMIF(BDD!$H$2:$H$685,'Indicateur Zone10'!$A$12,BDD!$V$2:$V$685)","v":0},{"$f":"SUMIF(BDD!$H$2:$H$685,'Indicateur Zone10'!$A$12,BDD!$V$2:$V$685)","v":0},{"$f":"SUMIF(BDD!$H$2:$H$685,'Indicateur Zone10'!$A$12,BDD!$V$2:$V$685)","v":0},{"$f":"SUMIF(BDD!$H$2:$H$685,'Indicateur Zone10'!$A$12,BDD!$V$2:$V$685)","v":0},{"$f":"SUMIF(BDD!$H$2:$H$685,'Indicateur Zone10'!$A$12,BDD!$V$2:$V$685)","v":0},{"$f":"SUMIF(BDD!$H$2:$H$685,'Indicateur Zone10'!$A$12,BDD!$V$2:$V$685)","v":0},{"$f":"SUMIF(BDD!$H$2:$H$685,'Indicateur Zone10'!$A$12,BDD!$V$2:$V$685)","v":0},{"$f":"SUMIF(BDD!$H$2:$H$685,'Indicateur Zone10'!$A$12,BDD!$V$2:$V$685)","v":0},{"$f":"SUMIF(BDD!$H$2:$H$685,'Indicateur Zone10'!$A$12,BDD!$V$2:$V$685)","v":0},{"$f":"SUMIF(BDD!$H$2:$H$685,'Indicateur Zone10'!$A$12,BDD!$V$2:$V$685)","v":0},{"$f":"SUMIF(BDD!$H$2:$H$685,'Indicateur Zone10'!$A$12,BDD!$V$2:$V$685)","v":0}]
[]
[]
[]
[]
[]
[]
[]
[]
[]
[]
[]
[]
[]
[]
[]
[]
[]
[]
[]
[]
[null,"Suivi du correctif et du préventif"]
["Type de maintenance","Janvier","Février","Mars","Avril","Mai","Juin","Juillet","Août","Septembre","Octobre","Novembre","Décembre"]
["Corrective",{"$f":"SUM(B57:B65)","v":12},{"$f":"SUM(D57:D65)","v":12},{"$f":"SUM(F57:F65)","v":12},{"$f":"SUM(H57:H65)","v":12},{"$f":"SUM(J57:J65)","v":12},{"$f":"SUM(L57:L65)","v":12},{"$f":"SUM(N57:N65)","v":12},{"$f":"SUM(P57:P65)","v":12},{"$f":"SUM(R57:R65)","v":12},{"$f":"SUM(T57:T65)","v":12},{"$f":"SUM(V57:V65)","v":12},{"$f":"SUM(X57:X65)","v":12}]
["Préventive",{"$f":"SUM(C57:C65)","v":34},{"$f":"SUM(E57:E65)","v":34},{"$f":"SUM(G57:G65)","v":34},{"$f":"SUM(I57:I65)","v":34},{"$f":"SUM(K57:K65)","v":34},{"$f":"SUM(M57:M65)","v":34},{"$f":"SUM(O57:O65)","v":34},{"$f":"SUM(Q57:Q65)","v":34},{"$f":"SUM(S57:S65)","v":34},{"$f":"SUM(U57:U65)","v":34},{"$f":"SUM(W57:W65)","v":34},{"$f":"SUM(Y57:Y65)","v":34}]
[]
[]
[]
[]
[]
[]
[]
[]
[]
[]
[]
[]
[]
[]
[]
[]
[]
[null,"Suivi du correctif et du préventif par banc"]
[null,"Janvier",null,"Février",null,"Mars",null,"Avril",null,"Mai",null,"Juin",null,"Juillet",null,"Août",null,"Septembre",null,"Octobre",null,"Novembre",null,"Décembre"]
["Banc zone 10","Corrective","Préventive","Corrective","Préventive","Corrective","Préventive","Corrective","Préventive","Corrective","Préventive","Corrective","Préventive","Corrective","Préventive","Corrective","Préventive","Corrective","Préventive","Corrective","Préventive","Corrective","Préventive","Corrective","Préventive"]
["Banc 007",{"$f":"SUMIF(BDD!$BB$2:$BB$685,\"Banc 007VRAIFAUX\",BDD!$V$2:$V$685)","v":0},{"$f":"SUMIF(BDD!$BB$2:$BB$685,\"Banc 007FAUXvrai\",BDD!$V$2:$V$685)","v":4},{"$f":"SUMIF(BDD!$BB$2:$BB$685,\"Banc 007VRAIFAUX\",BDD!$V$2:$V$685)","v":0},{"$f":"SUMIF(BDD!$BB$2:$BB$685,\"Banc 007FAUXvrai\",BDD!$V$2:$V$685)","v":4},{"$f":"SUMIF(BDD!$BB$2:$BB$685,\"Banc 007VRAIFAUX\",BDD!$V$2:$V$685)","v":0},{"$f":"SUMIF(BDD!$BB$2:$BB$685,\"Banc 007FAUXvrai\",BDD!$V$2:$V$685)","v":4},{"$f":"SUMIF(BDD!$BB$2:$BB$685,\"Banc 007VRAIFAUX\",BDD!$V$2:$V$685)","v":0},{"$f":"SUMIF(BDD!$BB$2:$BB$685,\"Banc 007FAUXvrai\",BDD!$V$2:$V$685)","v":4},{"$f":"SUMIF(BDD!$BB$2:$BB$685,\"Banc 007VRAIFAUX\",BDD!$V$2:$V$685)","v":0},{"$f":"SUMIF(BDD!$BB$2:$BB$685,\"Banc 007FAUXvrai\",BDD!$V$2:$V$685)","v":4},{"$f":"SUMIF(BDD!$BB$2:$BB$685,\"Banc 007VRAIFAUX\",BDD!$V$2:$V$685)","v":0},{"$f":"SUMIF(BDD!$BB$2:$BB$685,\"Banc 007FAUXvrai\",BDD!$V$2:$V$685)","v":4},{"$f":"SUMIF(BDD!$BB$2:$BB$685,\"Banc 007VRAIFAUX\",BDD!$V$2:$V$685)","v":0},{"$f":"SUMIF(BDD!$BB$2:$BB$685,\"Banc 007FAUXvrai\",BDD!$V$2:$V$685)","v":4},{"$f":"SUMIF(BDD!$BB$2:$BB$685,\"Banc 007VRAIFAUX\",BDD!$V$2:$V$685)","v":0},{"$f":"SUMIF(BDD!$BB$2:$BB$685,\"Banc 007FAUXvrai\",BDD!$V$2:$V$685)","v":4},{"$f":"SUMIF(BDD!$BB$2:$BB$685,\"Banc 007VRAIFAUX\",BDD!$V$2:$V$685)","v":0},{"$f":"SUMIF(BDD!$BB$2:$BB$685,\"Banc 007FAUXvrai\",BDD!$V$2:$V$685)","v":4},{"$f":"SUMIF(BDD!$BB$2:$BB$685,\"Banc 007VRAIFAUX\",BDD!$V$2:$V$685)","v":0},{"$f":"SUMIF(BDD!$BB$2:$BB$685,\"Banc 007FAUXvrai\",BDD!$V$2:$V$685)","v":4},{"$f":"SUMIF(BDD!$BB$2:$BB$685,\"Banc 007VRAIFAUX\",BDD!$V$2:$V$685)","v":0},{"$f":"SUMIF(BDD!$BB$2:$BB$685,\"Banc 007FAUXvrai\",BDD!$V$2:$V$685)","v":4},{"$f":"SUMIF(BDD!$BB$2:$BB$685,\"Banc 007VRAIFAUX\",BDD!$V$2:$V$685)","v":0},{"$f":"SUMIF(BDD!$BB$2:$BB$685,\"Banc 007FAUXvrai\",BDD!$V$2:$V$685)","v":4}]
["Banc 008",{"$f":"SUMIF(BDD!$BB$2:$BB$685,\"Banc 008VRAIFAUX\",BDD!$V$2:$V$685)","v":1},{"$f":"SUMIF(BDD!$BB$2:$BB$685,\"Banc 008FAUXVRAI\",BDD!$V$2:$V$685)","v":0},{"$f":"SUMIF(BDD!$BB$2:$BB$685,\"Banc 008VRAIFAUX\",BDD!$V$2:$V$685)","v":1},{"$f":"SUMIF(BDD!$BB$2:$BB$685,\"Banc 008FAUXVRAI\",BDD!$V$2:$V$685)","v":0},{"$f":"SUMIF(BDD!$BB$2:$BB$685,\"Banc 008VRAIFAUX\",BDD!$V$2:$V$685)","v":1},{"$f":"SUMIF(BDD!$BB$2:$BB$685,\"Banc 008FAUXVRAI\",BDD!$V$2:$V$685)","v":0},{"$f":"SUMIF(BDD!$BB$2:$BB$685,\"Banc 008VRAIFAUX\",BDD!$V$2:$V$685)","v":1},{"$f":"SUMIF(BDD!$BB$2:$BB$685,\"Banc 008FAUXVRAI\",BDD!$V$2:$V$685)","v":0},{"$f":"SUMIF(BDD!$BB$2:$BB$685,\"Banc 008VRAIFAUX\",BDD!$V$2:$V$685)","v":1},{"$f":"SUMIF(BDD!$BB$2:$BB$685,\"Banc 008FAUXVRAI\",BDD!$V$2:$V$685)","v":0},{"$f":"SUMIF(BDD!$BB$2:$BB$685,\"Banc 008VRAIFAUX\",BDD!$V$2:$V$685)","v":1},{"$f":"SUMIF(BDD!$BB$2:$BB$685,\"Banc 008FAUXVRAI\",BDD!$V$2:$V$685)","v":0},{"$f":"SUMIF(BDD!$BB$2:$BB$685,\"Banc 008VRAIFAUX\",BDD!$V$2:$V$685)","v":1},{"$f":"SUMIF(BDD!$BB$2:$BB$685,\"Banc 008FAUXVRAI\",BDD!$V$2:$V$685)","v":0},{"$f":"SUMIF(BDD!$BB$2:$BB$685,\"Banc 008VRAIFAUX\",BDD!$V$2:$V$685)","v":1},{"$f":"SUMIF(BDD!$BB$2:$BB$685,\"Banc 008FAUXVRAI\",BDD!$V$2:$V$685)","v":0},{"$f":"SUMIF(BDD!$BB$2:$BB$685,\"Banc 008VRAIFAUX\",BDD!$V$2:$V$685)","v":1},{"$f":"SUMIF(BDD!$BB$2:$BB$685,\"Banc 008FAUXVRAI\",BDD!$V$2:$V$685)","v":0},{"$f":"SUMIF(BDD!$BB$2:$BB$685,\"Banc 008VRAIFAUX\",BDD!$V$2:$V$685)","v":1},{"$f":"SUMIF(BDD!$BB$2:$BB$685,\"Banc 008FAUXVRAI\",BDD!$V$2:$V$685)","v":0},{"$f":"SUMIF(BDD!$BB$2:$BB$685,\"Banc 008VRAIFAUX\",BDD!$V$2:$V$685)","v":1},{"$f":"SUMIF(BDD!$BB$2:$BB$685,\"Banc 008FAUXVRAI\",BDD!$V$2:$V$685)","v":0},{"$f":"SUMIF(BDD!$BB$2:$BB$685,\"Banc 008VRAIFAUX\",BDD!$V$2:$V$685)","v":1},{"$f":"SUMIF(BDD!$BB$2:$BB$685,\"Banc 008FAUXVRAI\",BDD!$V$2:$V$685)","v":0}]
["Banc 113",{"$f":"SUMIF(BDD!$BB$2:$BB$685,\"Banc 113VRAIFAUX\",BDD!$V$2:$V$685)","v":5},{"$f":"SUMIF(BDD!$BB$2:$BB$685,\"Banc 113FAUXVRAI\",BDD!$V$2:$V$685)","v":0},{"$f":"SUMIF(BDD!$BB$2:$BB$685,\"Banc 113VRAIFAUX\",BDD!$V$2:$V$685)","v":5},{"$f":"SUMIF(BDD!$BB$2:$BB$685,\"Banc 113FAUXVRAI\",BDD!$V$2:$V$685)","v":0},{"$f":"SUMIF(BDD!$BB$2:$BB$685,\"Banc 113VRAIFAUX\",BDD!$V$2:$V$685)","v":5},{"$f":"SUMIF(BDD!$BB$2:$BB$685,\"Banc 113FAUXVRAI\",BDD!$V$2:$V$685)","v":0},{"$f":"SUMIF(BDD!$BB$2:$BB$685,\"Banc 113VRAIFAUX\",BDD!$V$2:$V$685)","v":5},{"$f":"SUMIF(BDD!$BB$2:$BB$685,\"Banc 113FAUXVRAI\",BDD!$V$2:$V$685)","v":0},{"$f":"SUMIF(BDD!$BB$2:$BB$685,\"Banc 113VRAIFAUX\",BDD!$V$2:$V$685)","v":5},{"$f":"SUMIF(BDD!$BB$2:$BB$685,\"Banc 113FAUXVRAI\",BDD!$V$2:$V$685)","v":0},{"$f":"SUMIF(BDD!$BB$2:$BB$685,\"Banc 113VRAIFAUX\",BDD!$V$2:$V$685)","v":5},{"$f":"SUMIF(BDD!$BB$2:$BB$685,\"Banc 113FAUXVRAI\",BDD!$V$2:$V$685)","v":0},{"$f":"SUMIF(BDD!$BB$2:$BB$685,\"Banc 113VRAIFAUX\",BDD!$V$2:$V$685)","v":5},{"$f":"SUMIF(BDD!$BB$2:$BB$685,\"Banc 113FAUXVRAI\",BDD!$V$2:$V$685)","v":0},{"$f":"SUMIF(BDD!$BB$2:$BB$685,\"Banc 113VRAIFAUX\",BDD!$V$2:$V$685)","v":5},{"$f":"SUMIF(BDD!$BB$2:$BB$685,\"Banc 113FAUXVRAI\",BDD!$V$2:$V$685)","v":0},{"$f":"SUMIF(BDD!$BB$2:$BB$685,\"Banc 113VRAIFAUX\",BDD!$V$2:$V$685)","v":5},{"$f":"SUMIF(BDD!$BB$2:$BB$685,\"Banc 113FAUXVRAI\",BDD!$V$2:$V$685)","v":0},{"$f":"SUMIF(BDD!$BB$2:$BB$685,\"Banc 113VRAIFAUX\",BDD!$V$2:$V$685)","v":5},{"$f":"SUMIF(BDD!$BB$2:$BB$685,\"Banc 113FAUXVRAI\",BDD!$V$2:$V$685)","v":0},{"$f":"SUMIF(BDD!$BB$2:$BB$685,\"Banc 113VRAIFAUX\",BDD!$V$2:$V$685)","v":5},{"$f":"SUMIF(BDD!$BB$2:$BB$685,\"Banc 113FAUXVRAI\",BDD!$V$2:$V$685)","v":0},{"$f":"SUMIF(BDD!$BB$2:$BB$685,\"Banc 113VRAIFAUX\",BDD!$V$2:$V$685)","v":5},{"$f":"SUMIF(BDD!$BB$2:$BB$685,\"Banc 113FAUXVRAI\",BDD!$V$2:$V$685)","v":0}]
["Banc 115",{"$f":"SUMIF(BDD!$BB$2:$BB$685,\"Banc 115VRAIFAUX\",BDD!$V$2:$V$685)","v":0},{"$f":"SUMIF(BDD!$BB$2:$BB$685,\"Banc 115FAUXVRAI\",BDD!$V$2:$V$685)","v":7},{"$f":"SUMIF(BDD!$BB$2:$BB$685,\"Banc 115VRAIFAUX\",BDD!$V$2:$V$685)","v":0},{"$f":"SUMIF(BDD!$BB$2:$BB$685,\"Banc 115FAUXVRAI\",BDD!$V$2:$V$685)","v":7},{"$f":"SUMIF(BDD!$BB$2:$BB$685,\"Banc 115VRAIFAUX\",BDD!$V$2:$V$685)","v":0},{"$f":"SUMIF(BDD!$BB$2:$BB$685,\"Banc 115FAUXVRAI\",BDD!$V$2:$V$685)","v":7},{"$f":"SUMIF(BDD!$BB$2:$BB$685,\"Banc 115VRAIFAUX\",BDD!$V$2:$V$685)","v":0},{"$f":"SUMIF(BDD!$BB$2:$BB$685,\"Banc 115FAUXVRAI\",BDD!$V$2:$V$685)","v":7},{"$f":"SUMIF(BDD!$BB$2:$BB$685,\"Banc 115VRAIFAUX\",BDD!$V$2:$V$685)","v":0},{"$f":"SUMIF(BDD!$BB$2:$BB$685,\"Banc 115FAUXVRAI\",BDD!$V$2:$V$685)","v":7},{"$f":"SUMIF(BDD!$BB$2:$BB$685,\"Banc 115VRAIFAUX\",BDD!$V$2:$V$685)","v":0},{"$f":"SUMIF(BDD!$BB$2:$BB$685,\"Banc 115FAUXVRAI\",BDD!$V$2:$V$685)","v":7},{"$f":"SUMIF(BDD!$BB$2:$BB$685,\"Banc 115VRAIFAUX\",BDD!$V$2:$V$685)","v":0},{"$f":"SUMIF(BDD!$BB$2:$BB$685,\"Banc 115FAUXVRAI\",BDD!$V$2:$V$685)","v":7},{"$f":"SUMIF(BDD!$BB$2:$BB$685,\"Banc 115VRAIFAUX\",BDD!$V$2:$V$685)","v":0},{"$f":"SUMIF(BDD!$BB$2:$BB$685,\"Banc 115FAUXVRAI\",BDD!$V$2:$V$685)","v":7},{"$f":"SUMIF(BDD!$BB$2:$BB$685,\"Banc 115VRAIFAUX\",BDD!$V$2:$V$685)","v":0},{"$f":"SUMIF(BDD!$BB$2:$BB$685,\"Banc 115FAUXVRAI\",BDD!$V$2:$V$685)","v":7},{"$f":"SUMIF(BDD!$BB$2:$BB$685,\"Banc 115VRAIFAUX\",BDD!$V$2:$V$685)","v":0},{"$f":"SUMIF(BDD!$BB$2:$BB$685,\"Banc 115FAUXVRAI\",BDD!$V$2:$V$685)","v":7},{"$f":"SUMIF(BDD!$BB$2:$BB$685,\"Banc 115VRAIFAUX\",BDD!$V$2:$V$685)","v":0},{"$f":"SUMIF(BDD!$BB$2:$BB$685,\"Banc 115FAUXVRAI\",BDD!$V$2:$V$685)","v":7},{"$f":"SUMIF(BDD!$BB$2:$BB$685,\"Banc 115VRAIFAUX\",BDD!$V$2:$V$685)","v":0},{"$f":"SUMIF(BDD!$BB$2:$BB$685,\"Banc 115FAUXVRAI\",BDD!$V$2:$V$685)","v":7}]
["Banc 120",{"$f":"SUMIF(BDD!$BB$2:$BB$685,\"Banc 120VRAIFAUX\",BDD!$V$2:$V$685)","v":6},{"$f":"SUMIF(BDD!$BB$2:$BB$685,\"Banc 120FAUXVRAI\",BDD!$V$2:$V$685)","v":0},{"$f":"SUMIF(BDD!$BB$2:$BB$685,\"Banc 120VRAIFAUX\",BDD!$V$2:$V$685)","v":6},{"$f":"SUMIF(BDD!$BB$2:$BB$685,\"Banc 120FAUXVRAI\",BDD!$V$2:$V$685)","v":0},{"$f":"SUMIF(BDD!$BB$2:$BB$685,\"Banc 120VRAIFAUX\",BDD!$V$2:$V$685)","v":6},{"$f":"SUMIF(BDD!$BB$2:$BB$685,\"Banc 120FAUXVRAI\",BDD!$V$2:$V$685)","v":0},{"$f":"SUMIF(BDD!$BB$2:$BB$685,\"Banc 120VRAIFAUX\",BDD!$V$2:$V$685)","v":6},{"$f":"SUMIF(BDD!$BB$2:$BB$685,\"Banc 120FAUXVRAI\",BDD!$V$2:$V$685)","v":0},{"$f":"SUMIF(BDD!$BB$2:$BB$685,\"Banc 120VRAIFAUX\",BDD!$V$2:$V$685)","v":6},{"$f":"SUMIF(BDD!$BB$2:$BB$685,\"Banc 120FAUXVRAI\",BDD!$V$2:$V$685)","v":0},{"$f":"SUMIF(BDD!$BB$2:$BB$685,\"Banc 120VRAIFAUX\",BDD!$V$2:$V$685)","v":6},{"$f":"SUMIF(BDD!$BB$2:$BB$685,\"Banc 120FAUXVRAI\",BDD!$V$2:$V$685)","v":0},{"$f":"SUMIF(BDD!$BB$2:$BB$685,\"Banc 120VRAIFAUX\",BDD!$V$2:$V$685)","v":6},{"$f":"SUMIF(BDD!$BB$2:$BB$685,\"Banc 120FAUXVRAI\",BDD!$V$2:$V$685)","v":0},{"$f":"SUMIF(BDD!$BB$2:$BB$685,\"Banc 120VRAIFAUX\",BDD!$V$2:$V$685)","v":6},{"$f":"SUMIF(BDD!$BB$2:$BB$685,\"Banc 120FAUXVRAI\",BDD!$V$2:$V$685)","v":0},{"$f":"SUMIF(BDD!$BB$2:$BB$685,\"Banc 120VRAIFAUX\",BDD!$V$2:$V$685)","v":6},{"$f":"SUMIF(BDD!$BB$2:$BB$685,\"Banc 120FAUXVRAI\",BDD!$V$2:$V$685)","v":0},{"$f":"SUMIF(BDD!$BB$2:$BB$685,\"Banc 120VRAIFAUX\",BDD!$V$2:$V$685)","v":6},{"$f":"SUMIF(BDD!$BB$2:$BB$685,\"Banc 120FAUXVRAI\",BDD!$V$2:$V$685)","v":0},{"$f":"SUMIF(BDD!$BB$2:$BB$685,\"Banc 120VRAIFAUX\",BDD!$V$2:$V$685)","v":6},{"$f":"SUMIF(BDD!$BB$2:$BB$685,\"Banc 120FAUXVRAI\",BDD!$V$2:$V$685)","v":0},{"$f":"SUMIF(BDD!$BB$2:$BB$685,\"Banc 120VRAIFAUX\",BDD!$V$2:$V$685)","v":6},{"$f":"SUMIF(BDD!$BB$2:$BB$685,\"Banc 120FAUXVRAI\",BDD!$V$2:$V$685)","v":0}]
["Banc 120 bis",{"$f":"SUMIF(BDD!$BB$2:$BB$685,\"Banc 120 bisVRAIFAUX\",BDD!$V$2:$V$685)","v":0},{"$f":"SUMIF(BDD!$BB$2:$BB$685,\"Banc 120 bisFAUXVRAI\",BDD!$V$2:$V$685)","v":12},{"$f":"SUMIF(BDD!$BB$2:$BB$685,\"Banc 120 bisVRAIFAUX\",BDD!$V$2:$V$685)","v":0},{"$f":"SUMIF(BDD!$BB$2:$BB$685,\"Banc 120 bisFAUXVRAI\",BDD!$V$2:$V$685)","v":12},{"$f":"SUMIF(BDD!$BB$2:$BB$685,\"Banc 120 bisVRAIFAUX\",BDD!$V$2:$V$685)","v":0},{"$f":"SUMIF(BDD!$BB$2:$BB$685,\"Banc 120 bisFAUXVRAI\",BDD!$V$2:$V$685)","v":12},{"$f":"SUMIF(BDD!$BB$2:$BB$685,\"Banc 120 bisVRAIFAUX\",BDD!$V$2:$V$685)","v":0},{"$f":"SUMIF(BDD!$BB$2:$BB$685,\"Banc 120 bisFAUXVRAI\",BDD!$V$2:$V$685)","v":12},{"$f":"SUMIF(BDD!$BB$2:$BB$685,\"Banc 120 bisVRAIFAUX\",BDD!$V$2:$V$685)","v":0},{"$f":"SUMIF(BDD!$BB$2:$BB$685,\"Banc 120 bisFAUXVRAI\",BDD!$V$2:$V$685)","v":12},{"$f":"SUMIF(BDD!$BB$2:$BB$685,\"Banc 120 bisVRAIFAUX\",BDD!$V$2:$V$685)","v":0},{"$f":"SUMIF(BDD!$BB$2:$BB$685,\"Banc 120 bisFAUXVRAI\",BDD!$V$2:$V$685)","v":12},{"$f":"SUMIF(BDD!$BB$2:$BB$685,\"Banc 120 bisVRAIFAUX\",BDD!$V$2:$V$685)","v":0},{"$f":"SUMIF(BDD!$BB$2:$BB$685,\"Banc 120 bisFAUXVRAI\",BDD!$V$2:$V$685)","v":12},{"$f":"SUMIF(BDD!$BB$2:$BB$685,\"Banc 120 bisVRAIFAUX\",BDD!$V$2:$V$685)","v":0},{"$f":"SUMIF(BDD!$BB$2:$BB$685,\"Banc 120 bisFAUXVRAI\",BDD!$V$2:$V$685)","v":12},{"$f":"SUMIF(BDD!$BB$2:$BB$685,\"Banc 120 bisVRAIFAUX\",BDD!$V$2:$V$685)","v":0},{"$f":"SUMIF(BDD!$BB$2:$BB$685,\"Banc 120 bisFAUXVRAI\",BDD!$V$2:$V$685)","v":12},{"$f":"SUMIF(BDD!$BB$2:$BB$685,\"Banc 120 bisVRAIFAUX\",BDD!$V$2:$V$685)","v":0},{"$f":"SUMIF(BDD!$BB$2:$BB$685,\"Banc 120 bisFAUXVRAI\",BDD!$V$2:$V$685)","v":12},{"$f":"SUMIF(BDD!$BB$2:$BB$685,\"Banc 120 bisVRAIFAUX\",BDD!$V$2:$V$685)","v":0},{"$f":"SUMIF(BDD!$BB$2:$BB$685,\"Banc 120 bisFAUXVRAI\",BDD!$V$2:$V$685)","v":12},{"$f":"SUMIF(BDD!$BB$2:$BB$685,\"Banc 120 bisVRAIFAUX\",BDD!$V$2:$V$685)","v":0},{"$f":"SUMIF(BDD!$BB$2:$BB$685,\"Banc 120 bisFAUXVRAI\",BDD!$V$2:$V$685)","v":12}]
["Banc 125",{"$f":"SUMIF(BDD!$BB$2:$BB$685,\"Banc 125VRAIFAUX\",BDD!$V$2:$V$685)","v":0},{"$f":"SUMIF(BDD!$BB$2:$BB$685,\"Banc 125FAUXVRAI\",BDD!$V$2:$V$685)","v":0},{"$f":"SUMIF(BDD!$BB$2:$BB$685,\"Banc 125VRAIFAUX\",BDD!$V$2:$V$685)","v":0},{"$f":"SUMIF(BDD!$BB$2:$BB$685,\"Banc 125FAUXVRAI\",BDD!$V$2:$V$685)","v":0},{"$f":"SUMIF(BDD!$BB$2:$BB$685,\"Banc 125VRAIFAUX\",BDD!$V$2:$V$685)","v":0},{"$f":"SUMIF(BDD!$BB$2:$BB$685,\"Banc 125FAUXVRAI\",BDD!$V$2:$V$685)","v":0},{"$f":"SUMIF(BDD!$BB$2:$BB$685,\"Banc 125VRAIFAUX\",BDD!$V$2:$V$685)","v":0},{"$f":"SUMIF(BDD!$BB$2:$BB$685,\"Banc 125FAUXVRAI\",BDD!$V$2:$V$685)","v":0},{"$f":"SUMIF(BDD!$BB$2:$BB$685,\"Banc 125VRAIFAUX\",BDD!$V$2:$V$685)","v":0},{"$f":"SUMIF(BDD!$BB$2:$BB$685,\"Banc 125FAUXVRAI\",BDD!$V$2:$V$685)","v":0},{"$f":"SUMIF(BDD!$BB$2:$BB$685,\"Banc 125VRAIFAUX\",BDD!$V$2:$V$685)","v":0},{"$f":"SUMIF(BDD!$BB$2:$BB$685,\"Banc 125FAUXVRAI\",BDD!$V$2:$V$685)","v":0},{"$f":"SUMIF(BDD!$BB$2:$BB$685,\"Banc 125VRAIFAUX\",BDD!$V$2:$V$685)","v":0},{"$f":"SUMIF(BDD!$BB$2:$BB$685,\"Banc 125FAUXVRAI\",BDD!$V$2:$V$685)","v":0},{"$f":"SUMIF(BDD!$BB$2:$BB$685,\"Banc 125VRAIFAUX\",BDD!$V$2:$V$685)","v":0},{"$f":"SUMIF(BDD!$BB$2:$BB$685,\"Banc 125FAUXVRAI\",BDD!$V$2:$V$685)","v":0},{"$f":"SUMIF(BDD!$BB$2:$BB$685,\"Banc 125VRAIFAUX\",BDD!$V$2:$V$685)","v":0},{"$f":"SUMIF(BDD!$BB$2:$BB$685,\"Banc 125FAUXVRAI\",BDD!$V$2:$V$685)","v":0},{"$f":"SUMIF(BDD!$BB$2:$BB$685,\"Banc 125VRAIFAUX\",BDD!$V$2:$V$685)","v":0},{"$f":"SUMIF(BDD!$BB$2:$BB$685,\"Banc 125FAUXVRAI\",BDD!$V$2:$V$685)","v":0},{"$f":"SUMIF(BDD!$BB$2:$BB$685,\"Banc 125VRAIFAUX\",BDD!$V$2:$V$685)","v":0},{"$f":"SUMIF(BDD!$BB$2:$BB$685,\"Banc 125FAUXVRAI\",BDD!$V$2:$V$685)","v":0},{"$f":"SUMIF(BDD!$BB$2:$BB$685,\"Banc 125VRAIFAUX\",BDD!$V$2:$V$685)","v":0},{"$f":"SUMIF(BDD!$BB$2:$BB$685,\"Banc 125FAUXVRAI\",BDD!$V$2:$V$685)","v":0}]
["Banc 128",{"$f":"SUMIF(BDD!$BB$2:$BB$685,\"Banc 128VRAIFAUX\",BDD!$V$2:$V$685)","v":0},{"$f":"SUMIF(BDD!$BB$2:$BB$685,\"Banc 128FAUXVRAI\",BDD!$V$2:$V$685)","v":11},{"$f":"SUMIF(BDD!$BB$2:$BB$685,\"Banc 128VRAIFAUX\",BDD!$V$2:$V$685)","v":0},{"$f":"SUMIF(BDD!$BB$2:$BB$685,\"Banc 128FAUXVRAI\",BDD!$V$2:$V$685)","v":11},{"$f":"SUMIF(BDD!$BB$2:$BB$685,\"Banc 128VRAIFAUX\",BDD!$V$2:$V$685)","v":0},{"$f":"SUMIF(BDD!$BB$2:$BB$685,\"Banc 128FAUXVRAI\",BDD!$V$2:$V$685)","v":11},{"$f":"SUMIF(BDD!$BB$2:$BB$685,\"Banc 128VRAIFAUX\",BDD!$V$2:$V$685)","v":0},{"$f":"SUMIF(BDD!$BB$2:$BB$685,\"Banc 128FAUXVRAI\",BDD!$V$2:$V$685)","v":11},{"$f":"SUMIF(BDD!$BB$2:$BB$685,\"Banc 128VRAIFAUX\",BDD!$V$2:$V$685)","v":0},{"$f":"SUMIF(BDD!$BB$2:$BB$685,\"Banc 128FAUXVRAI\",BDD!$V$2:$V$685)","v":11},{"$f":"SUMIF(BDD!$BB$2:$BB$685,\"Banc 128VRAIFAUX\",BDD!$V$2:$V$685)","v":0},{"$f":"SUMIF(BDD!$BB$2:$BB$685,\"Banc 128FAUXVRAI\",BDD!$V$2:$V$685)","v":11},{"$f":"SUMIF(BDD!$BB$2:$BB$685,\"Banc 128VRAIFAUX\",BDD!$V$2:$V$685)","v":0},{"$f":"SUMIF(BDD!$BB$2:$BB$685,\"Banc 128FAUXVRAI\",BDD!$V$2:$V$685)","v":11},{"$f":"SUMIF(BDD!$BB$2:$BB$685,\"Banc 128VRAIFAUX\",BDD!$V$2:$V$685)","v":0},{"$f":"SUMIF(BDD!$BB$2:$BB$685,\"Banc 128FAUXVRAI\",BDD!$V$2:$V$685)","v":11},{"$f":"SUMIF(BDD!$BB$2:$BB$685,\"Banc 128VRAIFAUX\",BDD!$V$2:$V$685)","v":0},{"$f":"SUMIF(BDD!$BB$2:$BB$685,\"Banc 128FAUXVRAI\",BDD!$V$2:$V$685)","v":11},{"$f":"SUMIF(BDD!$BB$2:$BB$685,\"Banc 128VRAIFAUX\",BDD!$V$2:$V$685)","v":0},{"$f":"SUMIF(BDD!$BB$2:$BB$685,\"Banc 128FAUXVRAI\",BDD!$V$2:$V$685)","v":11},{"$f":"SUMIF(BDD!$BB$2:$BB$685,\"Banc 128VRAIFAUX\",BDD!$V$2:$V$685)","v":0},{"$f":"SUMIF(BDD!$BB$2:$BB$685,\"Banc 128FAUXVRAI\",BDD!$V$2:$V$685)","v":11},{"$f":"SUMIF(BDD!$BB$2:$BB$685,\"Banc 128VRAIFAUX\",BDD!$V$2:$V$685)","v":0},{"$f":"SUMIF(BDD!$BB$2:$BB$685,\"Banc 128FAUXVRAI\",BDD!$V$2:$V$685)","v":11}]
["Banc 131",{"$f":"SUMIF(BDD!$BB$2:$BB$685,\"Banc 131VRAIFAUX\",BDD!$V$2:$V$685)","v":0},{"$f":"SUMIF(BDD!$BB$2:$BB$685,\"Banc 131FAUXVRAI\",BDD!$V$2:$V$685)","v":0},{"$f":"SUMIF(BDD!$BB$2:$BB$685,\"Banc 131VRAIFAUX\",BDD!$V$2:$V$685)","v":0},{"$f":"SUMIF(BDD!$BB$2:$BB$685,\"Banc 131FAUXVRAI\",BDD!$V$2:$V$685)","v":0},{"$f":"SUMIF(BDD!$BB$2:$BB$685,\"Banc 131VRAIFAUX\",BDD!$V$2:$V$685)","v":0},{"$f":"SUMIF(BDD!$BB$2:$BB$685,\"Banc 131FAUXVRAI\",BDD!$V$2:$V$685)","v":0},{"$f":"SUMIF(BDD!$BB$2:$BB$685,\"Banc 131VRAIFAUX\",BDD!$V$2:$V$685)","v":0},{"$f":"SUMIF(BDD!$BB$2:$BB$685,\"Banc 131FAUXVRAI\",BDD!$V$2:$V$685)","v":0},{"$f":"SUMIF(BDD!$BB$2:$BB$685,\"Banc 131VRAIFAUX\",BDD!$V$2:$V$685)","v":0},{"$f":"SUMIF(BDD!$BB$2:$BB$685,\"Banc 131FAUXVRAI\",BDD!$V$2:$V$685)","v":0},{"$f":"SUMIF(BDD!$BB$2:$BB$685,\"Banc 131VRAIFAUX\",BDD!$V$2:$V$685)","v":0},{"$f":"SUMIF(BDD!$BB$2:$BB$685,\"Banc 131FAUXVRAI\",BDD!$V$2:$V$685)","v":0},{"$f":"SUMIF(BDD!$BB$2:$BB$685,\"Banc 131VRAIFAUX\",BDD!$V$2:$V$685)","v":0},{"$f":"SUMIF(BDD!$BB$2:$BB$685,\"Banc 131FAUXVRAI\",BDD!$V$2:$V$685)","v":0},{"$f":"SUMIF(BDD!$BB$2:$BB$685,\"Banc 131VRAIFAUX\",BDD!$V$2:$V$685)","v":0},{"$f":"SUMIF(BDD!$BB$2:$BB$685,\"Banc 131FAUXVRAI\",BDD!$V$2:$V$685)","v":0},{"$f":"SUMIF(BDD!$BB$2:$BB$685,\"Banc 131VRAIFAUX\",BDD!$V$2:$V$685)","v":0},{"$f":"SUMIF(BDD!$BB$2:$BB$685,\"Banc 131FAUXVRAI\",BDD!$V$2:$V$685)","v":0},{"$f":"SUMIF(BDD!$BB$2:$BB$685,\"Banc 131VRAIFAUX\",BDD!$V$2:$V$685)","v":0},{"$f":"SUMIF(BDD!$BB$2:$BB$685,\"Banc 131FAUXVRAI\",BDD!$V$2:$V$685)","v":0},{"$f":"SUMIF(BDD!$BB$2:$BB$685,\"Banc 131VRAIFAUX\",BDD!$V$2:$V$685)","v":0},{"$f":"SUMIF(BDD!$BB$2:$BB$685,\"Banc 131FAUXVRAI\",BDD!$V$2:$V$685)","v":0},{"$f":"SUMIF(BDD!$BB$2:$BB$685,\"Banc 131VRAIFAUX\",BDD!$V$2:$V$685)","v":0},{"$f":"SUMIF(BDD!$BB$2:$BB$685,\"Banc 131FAUXVRAI\",BDD!$V$2:$V$685)","v":0}]
[]
[]
[]
[]
[]
[]
[]
[]
[]
[]
[]
[]
[]
[]
[]
[]
[]
[]
[]
[]
[]
[]
[null,"Suivi du correctif et du préventif par banc"]
[null,"Janvier",null,null,null,null,null,"Février",null,null,null,null,null,"Mars",null,null,null,null,null,"Avril",null,null,null,null,null,"Mai",null,null,null,null,null,"Juin",null,null,null,null,null,"Juillet",null,null,null,null,null,"Août",null,null,null,null,null,"Septembre",null,null,null,null,null,"Octobre",null,null,null,null,null,"Novembre",null,null,null,null,null,"Décembre"]
[null,"Corrective",null,null,"Préventive",null,null,"Corrective",null,null,"Préventive",null,null,"Corrective",null,null,"Préventive",null,null,"Corrective",null,null,"Préventive",null,null,"Corrective",null,null,"Préventive",null,null,"Corrective",null,null,"Préventive",null,null,"Corrective",null,null,"Préventive",null,null,"Corrective",null,null,"Préventive",null,null,"Corrective",null,null,"Préventive",null,null,"Corrective",null,null,"Préventive",null,null,"Corrective",null,null,"Préventive",null,null,"Corrective",null,null,"Préventive"]
["Banc zone 10","Electrique","Mécanique","Hydraulique","Electrique","Mécanique","Hydraulique","Electrique","Mécanique","Hydraulique","Electrique","Mécanique","Hydraulique","Electrique","Mécanique","Hydraulique","Electrique","Mécanique","Hydraulique","Electrique","Mécanique","Hydraulique","Electrique","Mécanique","Hydraulique","Electrique","Mécanique","Hydraulique","Electrique","Mécanique","Hydraulique","Electrique","Mécanique","Hydraulique","Electrique","Mécanique","Hydraulique","Electrique","Mécanique","Hydraulique","Electrique","Mécanique","Hydraulique","Electrique","Mécanique","Hydraulique","Electrique","Mécanique","Hydraulique","Electrique","Mécanique","Hydraulique","Electrique","Mécanique","Hydraulique","Electrique","Mécanique","Hydraulique","Electrique","Mécanique","Hydraulique","Electrique","Mécanique","Hydraulique","Electrique","Mécanique","Hydraulique","Electrique","Mécanique","Hydraulique","Electrique","Mécanique","Hydraulique"]
["Banc 007",{"$f":"SUMIF(BDD!$BC$2:$BC$685,\"Banc 007VRAIFAUXVRAIFAUXFAUX\",BDD!$V$2:$V$685)","v":0},{"$f":"SUMIF(BDD!$BC$2:$BC$685,\"Banc 007VRAIFAUXFAUXVRAIFAUX\",BDD!$V$2:$V$685)","v":0},{"$f":"SUMIF(BDD!$BC$2:$BC$685,\"Banc 007VRAIFAUXFAUXFAUXVRAI\",BDD!$V$2:$V$685)","v":0},{"$f":"SUMIF(BDD!$BC$2:$BC$685,\"Banc 007FAUXVRAIVRAIFAUXFAUX\",BDD!$V$2:$V$685)","v":4},{"$f":"SUMIF(BDD!$BC$2:$BC$685,\"Banc 007FAUXVRAIFAUXVRAIFAUX\",BDD!$V$2:$V$685)","v":0},{"$f":"SUMIF(BDD!$BC$2:$BC$685,\"Banc 007FAUXVRAIFAUXFAUXVRAI\",BDD!$V$2:$V$685)","v":0},{"$f":"SUMIF(BDD!$BC$2:$BC$685,\"Banc 007VRAIFAUXVRAIFAUXFAUX\",BDD!$V$2:$V$685)","v":0},{"$f":"SUMIF(BDD!$BC$2:$BC$685,\"Banc 007VRAIFAUXFAUXVRAIFAUX\",BDD!$V$2:$V$685)","v":0},{"$f":"SUMIF(BDD!$BC$2:$BC$685,\"Banc 007VRAIFAUXFAUXFAUXVRAI\",BDD!$V$2:$V$685)","v":0},{"$f":"SUMIF(BDD!$BC$2:$BC$685,\"Banc 007FAUXVRAIVRAIFAUXFAUX\",BDD!$V$2:$V$685)","v":4},{"$f":"SUMIF(BDD!$BC$2:$BC$685,\"Banc 007FAUXVRAIFAUXVRAIFAUX\",BDD!$V$2:$V$685)","v":0},{"$f":"SUMIF(BDD!$BC$2:$BC$685,\"Banc 007FAUXVRAIFAUXFAUXVRAI\",BDD!$V$2:$V$685)","v":0},{"$f":"SUMIF(BDD!$BC$2:$BC$685,\"Banc 007VRAIFAUXVRAIFAUXFAUX\",BDD!$V$2:$V$685)","v":0},{"$f":"SUMIF(BDD!$BC$2:$BC$685,\"Banc 007VRAIFAUXFAUXVRAIFAUX\",BDD!$V$2:$V$685)","v":0},{"$f":"SUMIF(BDD!$BC$2:$BC$685,\"Banc 007VRAIFAUXFAUXFAUXVRAI\",BDD!$V$2:$V$685)","v":0},{"$f":"SUMIF(BDD!$BC$2:$BC$685,\"Banc 007FAUXVRAIVRAIFAUXFAUX\",BDD!$V$2:$V$685)","v":4},{"$f":"SUMIF(BDD!$BC$2:$BC$685,\"Banc 007FAUXVRAIFAUXVRAIFAUX\",BDD!$V$2:$V$685)","v":0},{"$f":"SUMIF(BDD!$BC$2:$BC$685,\"Banc 007FAUXVRAIFAUXFAUXVRAI\",BDD!$V$2:$V$685)","v":0},{"$f":"SUMIF(BDD!$BC$2:$BC$685,\"Banc 007VRAIFAUXVRAIFAUXFAUX\",BDD!$V$2:$V$685)","v":0},{"$f":"SUMIF(BDD!$BC$2:$BC$685,\"Banc 007VRAIFAUXFAUXVRAIFAUX\",BDD!$V$2:$V$685)","v":0},{"$f":"SUMIF(BDD!$BC$2:$BC$685,\"Banc 007VRAIFAUXFAUXFAUXVRAI\",BDD!$V$2:$V$685)","v":0},{"$f":"SUMIF(BDD!$BC$2:$BC$685,\"Banc 007FAUXVRAIVRAIFAUXFAUX\",BDD!$V$2:$V$685)","v":4},{"$f":"SUMIF(BDD!$BC$2:$BC$685,\"Banc 007FAUXVRAIFAUXVRAIFAUX\",BDD!$V$2:$V$685)","v":0},{"$f":"SUMIF(BDD!$BC$2:$BC$685,\"Banc 007FAUXVRAIFAUXFAUXVRAI\",BDD!$V$2:$V$685)","v":0},{"$f":"SUMIF(BDD!$BC$2:$BC$685,\"Banc 007VRAIFAUXVRAIFAUXFAUX\",BDD!$V$2:$V$685)","v":0},{"$f":"SUMIF(BDD!$BC$2:$BC$685,\"Banc 007VRAIFAUXFAUXVRAIFAUX\",BDD!$V$2:$V$685)","v":0},{"$f":"SUMIF(BDD!$BC$2:$BC$685,\"Banc 007VRAIFAUXFAUXFAUXVRAI\",BDD!$V$2:$V$685)","v":0},{"$f":"SUMIF(BDD!$BC$2:$BC$685,\"Banc 007FAUXVRAIVRAIFAUXFAUX\",BDD!$V$2:$V$685)","v":4},{"$f":"SUMIF(BDD!$BC$2:$BC$685,\"Banc 007FAUXVRAIFAUXVRAIFAUX\",BDD!$V$2:$V$685)","v":0},{"$f":"SUMIF(BDD!$BC$2:$BC$685,\"Banc 007FAUXVRAIFAUXFAUXVRAI\",BDD!$V$2:$V$685)","v":0},{"$f":"SUMIF(BDD!$BC$2:$BC$685,\"Banc 007VRAIFAUXVRAIFAUXFAUX\",BDD!$V$2:$V$685)","v":0},{"$f":"SUMIF(BDD!$BC$2:$BC$685,\"Banc 007VRAIFAUXFAUXVRAIFAUX\",BDD!$V$2:$V$685)","v":0},{"$f":"SUMIF(BDD!$BC$2:$BC$685,\"Banc 007VRAIFAUXFAUXFAUXVRAI\",BDD!$V$2:$V$685)","v":0},{"$f":"SUMIF(BDD!$BC$2:$BC$685,\"Banc 007FAUXVRAIVRAIFAUXFAUX\",BDD!$V$2:$V$685)","v":4},{"$f":"SUMIF(BDD!$BC$2:$BC$685,\"Banc 007FAUXVRAIFAUXVRAIFAUX\",BDD!$V$2:$V$685)","v":0},{"$f":"SUMIF(BDD!$BC$2:$BC$685,\"Banc 007FAUXVRAIFAUXFAUXVRAI\",BDD!$V$2:$V$685)","v":0},{"$f":"SUMIF(BDD!$BC$2:$BC$685,\"Banc 007VRAIFAUXVRAIFAUXFAUX\",BDD!$V$2:$V$685)","v":0},{"$f":"SUMIF(BDD!$BC$2:$BC$685,\"Banc 007VRAIFAUXFAUXVRAIFAUX\",BDD!$V$2:$V$685)","v":0},{"$f":"SUMIF(BDD!$BC$2:$BC$685,\"Banc 007VRAIFAUXFAUXFAUXVRAI\",BDD!$V$2:$V$685)","v":0},{"$f":"SUMIF(BDD!$BC$2:$BC$685,\"Banc 007FAUXVRAIVRAIFAUXFAUX\",BDD!$V$2:$V$685)","v":4},{"$f":"SUMIF(BDD!$BC$2:$BC$685,\"Banc 007FAUXVRAIFAUXVRAIFAUX\",BDD!$V$2:$V$685)","v":0},{"$f":"SUMIF(BDD!$BC$2:$BC$685,\"Banc 007FAUXVRAIFAUXFAUXVRAI\",BDD!$V$2:$V$685)","v":0},{"$f":"SUMIF(BDD!$BC$2:$BC$685,\"Banc 007VRAIFAUXVRAIFAUXFAUX\",BDD!$V$2:$V$685)","v":0},{"$f":"SUMIF(BDD!$BC$2:$BC$685,\"Banc 007VRAIFAUXFAUXVRAIFAUX\",BDD!$V$2:$V$685)","v":0},{"$f":"SUMIF(BDD!$BC$2:$BC$685,\"Banc 007VRAIFAUXFAUXFAUXVRAI\",BDD!$V$2:$V$685)","v":0},{"$f":"SUMIF(BDD!$BC$2:$BC$685,\"Banc 007FAUXVRAIVRAIFAUXFAUX\",BDD!$V$2:$V$685)","v":4},{"$f":"SUMIF(BDD!$BC$2:$BC$685,\"Banc 007FAUXVRAIFAUXVRAIFAUX\",BDD!$V$2:$V$685)","v":0},{"$f":"SUMIF(BDD!$BC$2:$BC$685,\"Banc 007FAUXVRAIFAUXFAUXVRAI\",BDD!$V$2:$V$685)","v":0},{"$f":"SUMIF(BDD!$BC$2:$BC$685,\"Banc 007VRAIFAUXVRAIFAUXFAUX\",BDD!$V$2:$V$685)","v":0},{"$f":"SUMIF(BDD!$BC$2:$BC$685,\"Banc 007VRAIFAUXFAUXVRAIFAUX\",BDD!$V$2:$V$685)","v":0},{"$f":"SUMIF(BDD!$BC$2:$BC$685,\"Banc 007VRAIFAUXFAUXFAUXVRAI\",BDD!$V$2:$V$685)","v":0},{"$f":"SUMIF(BDD!$BC$2:$BC$685,\"Banc 007FAUXVRAIVRAIFAUXFAUX\",BDD!$V$2:$V$685)","v":4},{"$f":"SUMIF(BDD!$BC$2:$BC$685,\"Banc 007FAUXVRAIFAUXVRAIFAUX\",BDD!$V$2:$V$685)","v":0},{"$f":"SUMIF(BDD!$BC$2:$BC$685,\"Banc 007FAUXVRAIFAUXFAUXVRAI\",BDD!$V$2:$V$685)","v":0},{"$f":"SUMIF(BDD!$BC$2:$BC$685,\"Banc 007VRAIFAUXVRAIFAUXFAUX\",BDD!$V$2:$V$685)","v":0},{"$f":"SUMIF(BDD!$BC$2:$BC$685,\"Banc 007VRAIFAUXFAUXVRAIFAUX\",BDD!$V$2:$V$685)","v":0},{"$f":"SUMIF(BDD!$BC$2:$BC$685,\"Banc 007VRAIFAUXFAUXFAUXVRAI\",BDD!$V$2:$V$685)","v":0},{"$f":"SUMIF(BDD!$BC$2:$BC$685,\"Banc 007FAUXVRAIVRAIFAUXFAUX\",BDD!$V$2:$V$685)","v":4},{"$f":"SUMIF(BDD!$BC$2:$BC$685,\"Banc 007FAUXVRAIFAUXVRAIFAUX\",BDD!$V$2:$V$685)","v":0},{"$f":"SUMIF(BDD!$BC$2:$BC$685,\"Banc 007FAUXVRAIFAUXFAUXVRAI\",BDD!$V$2:$V$685)","v":0},{"$f":"SUMIF(BDD!$BC$2:$BC$685,\"Banc 007VRAIFAUXVRAIFAUXFAUX\",BDD!$V$2:$V$685)","v":0},{"$f":"SUMIF(BDD!$BC$2:$BC$685,\"Banc 007VRAIFAUXFAUXVRAIFAUX\",BDD!$V$2:$V$685)","v":0},{"$f":"SUMIF(BDD!$BC$2:$BC$685,\"Banc 007VRAIFAUXFAUXFAUXVRAI\",BDD!$V$2:$V$685)","v":0},{"$f":"SUMIF(BDD!$BC$2:$BC$685,\"Banc 007FAUXVRAIVRAIFAUXFAUX\",BDD!$V$2:$V$685)","v":4},{"$f":"SUMIF(BDD!$BC$2:$BC$685,\"Banc 007FAUXVRAIFAUXVRAIFAUX\",BDD!$V$2:$V$685)","v":0},{"$f":"SUMIF(BDD!$BC$2:$BC$685,\"Banc 007FAUXVRAIFAUXFAUXVRAI\",BDD!$V$2:$V$685)","v":0},{"$f":"SUMIF(BDD!$BC$2:$BC$685,\"Banc 007VRAIFAUXVRAIFAUXFAUX\",BDD!$V$2:$V$685)","v":0},{"$f":"SUMIF(BDD!$BC$2:$BC$685,\"Banc 007VRAIFAUXFAUXVRAIFAUX\",BDD!$V$2:$V$685)","v":0},{"$f":"SUMIF(BDD!$BC$2:$BC$685,\"Banc 007VRAIFAUXFAUXFAUXVRAI\",BDD!$V$2:$V$685)","v":0},{"$f":"SUMIF(BDD!$BC$2:$BC$685,\"Banc 007FAUXVRAIVRAIFAUXFAUX\",BDD!$V$2:$V$685)","v":4},{"$f":"SUMIF(BDD!$BC$2:$BC$685,\"Banc 007FAUXVRAIFAUXVRAIFAUX\",BDD!$V$2:$V$685)","v":0},{"$f":"SUMIF(BDD!$BC$2:$BC$685,\"Banc 007FAUXVRAIFAUXFAUXVRAI\",BDD!$V$2:$V$685)","v":0}]
["Banc 008",{"$f":"SUMIF(BDD!$BC$2:$BC$685,\"Banc 008VRAIFAUXVRAIFAUXFAUX\",BDD!$V$2:$V$685)","v":0},{"$f":"SUMIF(BDD!$BC$2:$BC$685,\"Banc 008VRAIFAUXFAUXVRAIFAUX\",BDD!$V$2:$V$685)","v":1},{"$f":"SUMIF(BDD!$BC$2:$BC$685,\"Banc 008VRAIFAUXFAUXFAUXVRAI\",BDD!$V$2:$V$685)","v":0},{"$f":"SUMIF(BDD!$BC$2:$BC$685,\"Banc 008FAUXVRAIVRAIFAUXFAUX\",BDD!$V$2:$V$685)","v":0},{"$f":"SUMIF(BDD!$BC$2:$BC$685,\"Banc 008FAUXVRAIFAUXVRAIFAUX\",BDD!$V$2:$V$685)","v":0},{"$f":"SUMIF(BDD!$BC$2:$BC$685,\"Banc 008FAUXVRAIFAUXFAUXVRAI\",BDD!$V$2:$V$685)","v":0},{"$f":"SUMIF(BDD!$BC$2:$BC$685,\"Banc 008VRAIFAUXVRAIFAUXFAUX\",BDD!$V$2:$V$685)","v":0},{"$f":"SUMIF(BDD!$BC$2:$BC$685,\"Banc 008VRAIFAUXFAUXVRAIFAUX\",BDD!$V$2:$V$685)","v":1},{"$f":"SUMIF(BDD!$BC$2:$BC$685,\"Banc 008VRAIFAUXFAUXFAUXVRAI\",BDD!$V$2:$V$685)","v":0},{"$f":"SUMIF(BDD!$BC$2:$BC$685,\"Banc 008FAUXVRAIVRAIFAUXFAUX\",BDD!$V$2:$V$685)","v":0},{"$f":"SUMIF(BDD!$BC$2:$BC$685,\"Banc 008FAUXVRAIFAUXVRAIFAUX\",BDD!$V$2:$V$685)","v":0},{"$f":"SUMIF(BDD!$BC$2:$BC$685,\"Banc 008FAUXVRAIFAUXFAUXVRAI\",BDD!$V$2:$V$685)","v":0},{"$f":"SUMIF(BDD!$BC$2:$BC$685,\"Banc 008VRAIFAUXVRAIFAUXFAUX\",BDD!$V$2:$V$685)","v":0},{"$f":"SUMIF(BDD!$BC$2:$BC$685,\"Banc 008VRAIFAUXFAUXVRAIFAUX\",BDD!$V$2:$V$685)","v":1},{"$f":"SUMIF(BDD!$BC$2:$BC$685,\"Banc 008VRAIFAUXFAUXFAUXVRAI\",BDD!$V$2:$V$685)","v":0},{"$f":"SUMIF(BDD!$BC$2:$BC$685,\"Banc 008FAUXVRAIVRAIFAUXFAUX\",BDD!$V$2:$V$685)","v":0},{"$f":"SUMIF(BDD!$BC$2:$BC$685,\"Banc 008FAUXVRAIFAUXVRAIFAUX\",BDD!$V$2:$V$685)","v":0},{"$f":"SUMIF(BDD!$BC$2:$BC$685,\"Banc 008FAUXVRAIFAUXFAUXVRAI\",BDD!$V$2:$V$685)","v":0},{"$f":"SUMIF(BDD!$BC$2:$BC$685,\"Banc 008VRAIFAUXVRAIFAUXFAUX\",BDD!$V$2:$V$685)","v":0},{"$f":"SUMIF(BDD!$BC$2:$BC$685,\"Banc 008VRAIFAUXFAUXVRAIFAUX\",BDD!$V$2:$V$685)","v":1},{"$f":"SUMIF(BDD!$BC$2:$BC$685,\"Banc 008VRAIFAUXFAUXFAUXVRAI\",BDD!$V$2:$V$685)","v":0},{"$f":"SUMIF(BDD!$BC$2:$BC$685,\"Banc 008FAUXVRAIVRAIFAUXFAUX\",BDD!$V$2:$V$685)","v":0},{"$f":"SUMIF(BDD!$BC$2:$BC$685,\"Banc 008FAUXVRAIFAUXVRAIFAUX\",BDD!$V$2:$V$685)","v":0},{"$f":"SUMIF(BDD!$BC$2:$BC$685,\"Banc 008FAUXVRAIFAUXFAUXVRAI\",BDD!$V$2:$V$685)","v":0},{"$f":"SUMIF(BDD!$BC$2:$BC$685,\"Banc 008VRAIFAUXVRAIFAUXFAUX\",BDD!$V$2:$V$685)","v":0},{"$f":"SUMIF(BDD!$BC$2:$BC$685,\"Banc 008VRAIFAUXFAUXVRAIFAUX\",BDD!$V$2:$V$685)","v":1},{"$f":"SUMIF(BDD!$BC$2:$BC$685,\"Banc 008VRAIFAUXFAUXFAUXVRAI\",BDD!$V$2:$V$685)","v":0},{"$f":"SUMIF(BDD!$BC$2:$BC$685,\"Banc 008FAUXVRAIVRAIFAUXFAUX\",BDD!$V$2:$V$685)","v":0},{"$f":"SUMIF(BDD!$BC$2:$BC$685,\"Banc 008FAUXVRAIFAUXVRAIFAUX\",BDD!$V$2:$V$685)","v":0},{"$f":"SUMIF(BDD!$BC$2:$BC$685,\"Banc 008FAUXVRAIFAUXFAUXVRAI\",BDD!$V$2:$V$685)","v":0},{"$f":"SUMIF(BDD!$BC$2:$BC$685,\"Banc 008VRAIFAUXVRAIFAUXFAUX\",BDD!$V$2:$V$685)","v":0},{"$f":"SUMIF(BDD!$BC$2:$BC$685,\"Banc 008VRAIFAUXFAUXVRAIFAUX\",BDD!$V$2:$V$685)","v":1},{"$f":"SUMIF(BDD!$BC$2:$BC$685,\"Banc 008VRAIFAUXFAUXFAUXVRAI\",BDD!$V$2:$V$685)","v":0},{"$f":"SUMIF(BDD!$BC$2:$BC$685,\"Banc 008FAUXVRAIVRAIFAUXFAUX\",BDD!$V$2:$V$685)","v":0},{"$f":"SUMIF(BDD!$BC$2:$BC$685,\"Banc 008FAUXVRAIFAUXVRAIFAUX\",BDD!$V$2:$V$685)","v":0},{"$f":"SUMIF(BDD!$BC$2:$BC$685,\"Banc 008FAUXVRAIFAUXFAUXVRAI\",BDD!$V$2:$V$685)","v":0},{"$f":"SUMIF(BDD!$BC$2:$BC$685,\"Banc 008VRAIFAUXVRAIFAUXFAUX\",BDD!$V$2:$V$685)","v":0},{"$f":"SUMIF(BDD!$BC$2:$BC$685,\"Banc 008VRAIFAUXFAUXVRAIFAUX\",BDD!$V$2:$V$685)","v":1},{"$f":"SUMIF(BDD!$BC$2:$BC$685,\"Banc 008VRAIFAUXFAUXFAUXVRAI\",BDD!$V$2:$V$685)","v":0},{"$f":"SUMIF(BDD!$BC$2:$BC$685,\"Banc 008FAUXVRAIVRAIFAUXFAUX\",BDD!$V$2:$V$685)","v":0},{"$f":"SUMIF(BDD!$BC$2:$BC$685,\"Banc 008FAUXVRAIFAUXVRAIFAUX\",BDD!$V$2:$V$685)","v":0},{"$f":"SUMIF(BDD!$BC$2:$BC$685,\"Banc 008FAUXVRAIFAUXFAUXVRAI\",BDD!$V$2:$V$685)","v":0},{"$f":"SUMIF(BDD!$BC$2:$BC$685,\"Banc 008VRAIFAUXVRAIFAUXFAUX\",BDD!$V$2:$V$685)","v":0},{"$f":"SUMIF(BDD!$BC$2:$BC$685,\"Banc 008VRAIFAUXFAUXVRAIFAUX\",BDD!$V$2:$V$685)","v":1},{"$f":"SUMIF(BDD!$BC$2:$BC$685,\"Banc 008VRAIFAUXFAUXFAUXVRAI\",BDD!$V$2:$V$685)","v":0},{"$f":"SUMIF(BDD!$BC$2:$BC$685,\"Banc 008FAUXVRAIVRAIFAUXFAUX\",BDD!$V$2:$V$685)","v":0},{"$f":"SUMIF(BDD!$BC$2:$BC$685,\"Banc 008FAUXVRAIFAUXVRAIFAUX\",BDD!$V$2:$V$685)","v":0},{"$f":"SUMIF(BDD!$BC$2:$BC$685,\"Banc 008FAUXVRAIFAUXFAUXVRAI\",BDD!$V$2:$V$685)","v":0},{"$f":"SUMIF(BDD!$BC$2:$BC$685,\"Banc 008VRAIFAUXVRAIFAUXFAUX\",BDD!$V$2:$V$685)","v":0},{"$f":"SUMIF(BDD!$BC$2:$BC$685,\"Banc 008VRAIFAUXFAUXVRAIFAUX\",BDD!$V$2:$V$685)","v":1},{"$f":"SUMIF(BDD!$BC$2:$BC$685,\"Banc 008VRAIFAUXFAUXFAUXVRAI\",BDD!$V$2:$V$685)","v":0},{"$f":"SUMIF(BDD!$BC$2:$BC$685,\"Banc 008FAUXVRAIVRAIFAUXFAUX\",BDD!$V$2:$V$685)","v":0},{"$f":"SUMIF(BDD!$BC$2:$BC$685,\"Banc 008FAUXVRAIFAUXVRAIFAUX\",BDD!$V$2:$V$685)","v":0},{"$f":"SUMIF(BDD!$BC$2:$BC$685,\"Banc 008FAUXVRAIFAUXFAUXVRAI\",BDD!$V$2:$V$685)","v":0},{"$f":"SUMIF(BDD!$BC$2:$BC$685,\"Banc 008VRAIFAUXVRAIFAUXFAUX\",BDD!$V$2:$V$685)","v":0},{"$f":"SUMIF(BDD!$BC$2:$BC$685,\"Banc 008VRAIFAUXFAUXVRAIFAUX\",BDD!$V$2:$V$685)","v":1},{"$f":"SUMIF(BDD!$BC$2:$BC$685,\"Banc 008VRAIFAUXFAUXFAUXVRAI\",BDD!$V$2:$V$685)","v":0},{"$f":"SUMIF(BDD!$BC$2:$BC$685,\"Banc 008FAUXVRAIVRAIFAUXFAUX\",BDD!$V$2:$V$685)","v":0},{"$f":"SUMIF(BDD!$BC$2:$BC$685,\"Banc 008FAUXVRAIFAUXVRAIFAUX\",BDD!$V$2:$V$685)","v":0},{"$f":"SUMIF(BDD!$BC$2:$BC$685,\"Banc 008FAUXVRAIFAUXFAUXVRAI\",BDD!$V$2:$V$685)","v":0},{"$f":"SUMIF(BDD!$BC$2:$BC$685,\"Banc 008VRAIFAUXVRAIFAUXFAUX\",BDD!$V$2:$V$685)","v":0},{"$f":"SUMIF(BDD!$BC$2:$BC$685,\"Banc 008VRAIFAUXFAUXVRAIFAUX\",BDD!$V$2:$V$685)","v":1},{"$f":"SUMIF(BDD!$BC$2:$BC$685,\"Banc 008VRAIFAUXFAUXFAUXVRAI\",BDD!$V$2:$V$685)","v":0},{"$f":"SUMIF(BDD!$BC$2:$BC$685,\"Banc 008FAUXVRAIVRAIFAUXFAUX\",BDD!$V$2:$V$685)","v":0},{"$f":"SUMIF(BDD!$BC$2:$BC$685,\"Banc 008FAUXVRAIFAUXVRAIFAUX\",BDD!$V$2:$V$685)","v":0},{"$f":"SUMIF(BDD!$BC$2:$BC$685,\"Banc 008FAUXVRAIFAUXFAUXVRAI\",BDD!$V$2:$V$685)","v":0},{"$f":"SUMIF(BDD!$BC$2:$BC$685,\"Banc 008VRAIFAUXVRAIFAUXFAUX\",BDD!$V$2:$V$685)","v":0},{"$f":"SUMIF(BDD!$BC$2:$BC$685,\"Banc 008VRAIFAUXFAUXVRAIFAUX\",BDD!$V$2:$V$685)","v":1},{"$f":"SUMIF(BDD!$BC$2:$BC$685,\"Banc 008VRAIFAUXFAUXFAUXVRAI\",BDD!$V$2:$V$685)","v":0},{"$f":"SUMIF(BDD!$BC$2:$BC$685,\"Banc 008FAUXVRAIVRAIFAUXFAUX\",BDD!$V$2:$V$685)","v":0},{"$f":"SUMIF(BDD!$BC$2:$BC$685,\"Banc 008FAUXVRAIFAUXVRAIFAUX\",BDD!$V$2:$V$685)","v":0},{"$f":"SUMIF(BDD!$BC$2:$BC$685,\"Banc 008FAUXVRAIFAUXFAUXVRAI\",BDD!$V$2:$V$685)","v":0}]
["Banc 113",{"$f":"SUMIF(BDD!$BC$2:$BC$685,\"Banc 113VRAIFAUXVRAIFAUXFAUX\",BDD!$V$2:$V$685)","v":0},{"$f":"SUMIF(BDD!$BC$2:$BC$685,\"Banc 113VRAIFAUXFAUXVRAIFAUX\",BDD!$V$2:$V$685)","v":5},{"$f":"SUMIF(BDD!$BC$2:$BC$685,\"Banc 113VRAIFAUXFAUXFAUXVRAI\",BDD!$V$2:$V$685)","v":0},{"$f":"SUMIF(BDD!$BC$2:$BC$685,\"Banc 113FAUXVRAIVRAIFAUXFAUX\",BDD!$V$2:$V$685)","v":0},{"$f":"SUMIF(BDD!$BC$2:$BC$685,\"Banc 113FAUXVRAIFAUXVRAIFAUX\",BDD!$V$2:$V$685)","v":0},{"$f":"SUMIF(BDD!$BC$2:$BC$685,\"Banc 113FAUXVRAIFAUXFAUXVRAI\",BDD!$V$2:$V$685)","v":0},{"$f":"SUMIF(BDD!$BC$2:$BC$685,\"Banc 113VRAIFAUXVRAIFAUXFAUX\",BDD!$V$2:$V$685)","v":0},{"$f":"SUMIF(BDD!$BC$2:$BC$685,\"Banc 113VRAIFAUXFAUXVRAIFAUX\",BDD!$V$2:$V$685)","v":5},{"$f":"SUMIF(BDD!$BC$2:$BC$685,\"Banc 113VRAIFAUXFAUXFAUXVRAI\",BDD!$V$2:$V$685)","v":0},{"$f":"SUMIF(BDD!$BC$2:$BC$685,\"Banc 113FAUXVRAIVRAIFAUXFAUX\",BDD!$V$2:$V$685)","v":0},{"$f":"SUMIF(BDD!$BC$2:$BC$685,\"Banc 113FAUXVRAIFAUXVRAIFAUX\",BDD!$V$2:$V$685)","v":0},{"$f":"SUMIF(BDD!$BC$2:$BC$685,\"Banc 113FAUXVRAIFAUXFAUXVRAI\",BDD!$V$2:$V$685)","v":0},{"$f":"SUMIF(BDD!$BC$2:$BC$685,\"Banc 113VRAIFAUXVRAIFAUXFAUX\",BDD!$V$2:$V$685)","v":0},{"$f":"SUMIF(BDD!$BC$2:$BC$685,\"Banc 113VRAIFAUXFAUXVRAIFAUX\",BDD!$V$2:$V$685)","v":5},{"$f":"SUMIF(BDD!$BC$2:$BC$685,\"Banc 113VRAIFAUXFAUXFAUXVRAI\",BDD!$V$2:$V$685)","v":0},{"$f":"SUMIF(BDD!$BC$2:$BC$685,\"Banc 113FAUXVRAIVRAIFAUXFAUX\",BDD!$V$2:$V$685)","v":0},{"$f":"SUMIF(BDD!$BC$2:$BC$685,\"Banc 113FAUXVRAIFAUXVRAIFAUX\",BDD!$V$2:$V$685)","v":0},{"$f":"SUMIF(BDD!$BC$2:$BC$685,\"Banc 113FAUXVRAIFAUXFAUXVRAI\",BDD!$V$2:$V$685)","v":0},{"$f":"SUMIF(BDD!$BC$2:$BC$685,\"Banc 113VRAIFAUXVRAIFAUXFAUX\",BDD!$V$2:$V$685)","v":0},{"$f":"SUMIF(BDD!$BC$2:$BC$685,\"Banc 113VRAIFAUXFAUXVRAIFAUX\",BDD!$V$2:$V$685)","v":5},{"$f":"SUMIF(BDD!$BC$2:$BC$685,\"Banc 113VRAIFAUXFAUXFAUXVRAI\",BDD!$V$2:$V$685)","v":0},{"$f":"SUMIF(BDD!$BC$2:$BC$685,\"Banc 113FAUXVRAIVRAIFAUXFAUX\",BDD!$V$2:$V$685)","v":0},{"$f":"SUMIF(BDD!$BC$2:$BC$685,\"Banc 113FAUXVRAIFAUXVRAIFAUX\",BDD!$V$2:$V$685)","v":0},{"$f":"SUMIF(BDD!$BC$2:$BC$685,\"Banc 113FAUXVRAIFAUXFAUXVRAI\",BDD!$V$2:$V$685)","v":0},{"$f":"SUMIF(BDD!$BC$2:$BC$685,\"Banc 113VRAIFAUXVRAIFAUXFAUX\",BDD!$V$2:$V$685)","v":0},{"$f":"SUMIF(BDD!$BC$2:$BC$685,\"Banc 113VRAIFAUXFAUXVRAIFAUX\",BDD!$V$2:$V$685)","v":5},{"$f":"SUMIF(BDD!$BC$2:$BC$685,\"Banc 113VRAIFAUXFAUXFAUXVRAI\",BDD!$V$2:$V$685)","v":0},{"$f":"SUMIF(BDD!$BC$2:$BC$685,\"Banc 113FAUXVRAIVRAIFAUXFAUX\",BDD!$V$2:$V$685)","v":0},{"$f":"SUMIF(BDD!$BC$2:$BC$685,\"Banc 113FAUXVRAIFAUXVRAIFAUX\",BDD!$V$2:$V$685)","v":0},{"$f":"SUMIF(BDD!$BC$2:$BC$685,\"Banc 113FAUXVRAIFAUXFAUXVRAI\",BDD!$V$2:$V$685)","v":0},{"$f":"SUMIF(BDD!$BC$2:$BC$685,\"Banc 113VRAIFAUXVRAIFAUXFAUX\",BDD!$V$2:$V$685)","v":0},{"$f":"SUMIF(BDD!$BC$2:$BC$685,\"Banc 113VRAIFAUXFAUXVRAIFAUX\",BDD!$V$2:$V$685)","v":5},{"$f":"SUMIF(BDD!$BC$2:$BC$685,\"Banc 113VRAIFAUXFAUXFAUXVRAI\",BDD!$V$2:$V$685)","v":0},{"$f":"SUMIF(BDD!$BC$2:$BC$685,\"Banc 113FAUXVRAIVRAIFAUXFAUX\",BDD!$V$2:$V$685)","v":0},{"$f":"SUMIF(BDD!$BC$2:$BC$685,\"Banc 113FAUXVRAIFAUXVRAIFAUX\",BDD!$V$2:$V$685)","v":0},{"$f":"SUMIF(BDD!$BC$2:$BC$685,\"Banc 113FAUXVRAIFAUXFAUXVRAI\",BDD!$V$2:$V$685)","v":0},{"$f":"SUMIF(BDD!$BC$2:$BC$685,\"Banc 113VRAIFAUXVRAIFAUXFAUX\",BDD!$V$2:$V$685)","v":0},{"$f":"SUMIF(BDD!$BC$2:$BC$685,\"Banc 113VRAIFAUXFAUXVRAIFAUX\",BDD!$V$2:$V$685)","v":5},{"$f":"SUMIF(BDD!$BC$2:$BC$685,\"Banc 113VRAIFAUXFAUXFAUXVRAI\",BDD!$V$2:$V$685)","v":0},{"$f":"SUMIF(BDD!$BC$2:$BC$685,\"Banc 113FAUXVRAIVRAIFAUXFAUX\",BDD!$V$2:$V$685)","v":0},{"$f":"SUMIF(BDD!$BC$2:$BC$685,\"Banc 113FAUXVRAIFAUXVRAIFAUX\",BDD!$V$2:$V$685)","v":0},{"$f":"SUMIF(BDD!$BC$2:$BC$685,\"Banc 113FAUXVRAIFAUXFAUXVRAI\",BDD!$V$2:$V$685)","v":0},{"$f":"SUMIF(BDD!$BC$2:$BC$685,\"Banc 113VRAIFAUXVRAIFAUXFAUX\",BDD!$V$2:$V$685)","v":0},{"$f":"SUMIF(BDD!$BC$2:$BC$685,\"Banc 113VRAIFAUXFAUXVRAIFAUX\",BDD!$V$2:$V$685)","v":5},{"$f":"SUMIF(BDD!$BC$2:$BC$685,\"Banc 113VRAIFAUXFAUXFAUXVRAI\",BDD!$V$2:$V$685)","v":0},{"$f":"SUMIF(BDD!$BC$2:$BC$685,\"Banc 113FAUXVRAIVRAIFAUXFAUX\",BDD!$V$2:$V$685)","v":0},{"$f":"SUMIF(BDD!$BC$2:$BC$685,\"Banc 113FAUXVRAIFAUXVRAIFAUX\",BDD!$V$2:$V$685)","v":0},{"$f":"SUMIF(BDD!$BC$2:$BC$685,\"Banc 113FAUXVRAIFAUXFAUXVRAI\",BDD!$V$2:$V$685)","v":0},{"$f":"SUMIF(BDD!$BC$2:$BC$685,\"Banc 113VRAIFAUXVRAIFAUXFAUX\",BDD!$V$2:$V$685)","v":0},{"$f":"SUMIF(BDD!$BC$2:$BC$685,\"Banc 113VRAIFAUXFAUXVRAIFAUX\",BDD!$V$2:$V$685)","v":5},{"$f":"SUMIF(BDD!$BC$2:$BC$685,\"Banc 113VRAIFAUXFAUXFAUXVRAI\",BDD!$V$2:$V$685)","v":0},{"$f":"SUMIF(BDD!$BC$2:$BC$685,\"Banc 113FAUXVRAIVRAIFAUXFAUX\",BDD!$V$2:$V$685)","v":0},{"$f":"SUMIF(BDD!$BC$2:$BC$685,\"Banc 113FAUXVRAIFAUXVRAIFAUX\",BDD!$V$2:$V$685)","v":0},{"$f":"SUMIF(BDD!$BC$2:$BC$685,\"Banc 113FAUXVRAIFAUXFAUXVRAI\",BDD!$V$2:$V$685)","v":0},{"$f":"SUMIF(BDD!$BC$2:$BC$685,\"Banc 113VRAIFAUXVRAIFAUXFAUX\",BDD!$V$2:$V$685)","v":0},{"$f":"SUMIF(BDD!$BC$2:$BC$685,\"Banc 113VRAIFAUXFAUXVRAIFAUX\",BDD!$V$2:$V$685)","v":5},{"$f":"SUMIF(BDD!$BC$2:$BC$685,\"Banc 113VRAIFAUXFAUXFAUXVRAI\",BDD!$V$2:$V$685)","v":0},{"$f":"SUMIF(BDD!$BC$2:$BC$685,\"Banc 113FAUXVRAIVRAIFAUXFAUX\",BDD!$V$2:$V$685)","v":0},{"$f":"SUMIF(BDD!$BC$2:$BC$685,\"Banc 113FAUXVRAIFAUXVRAIFAUX\",BDD!$V$2:$V$685)","v":0},{"$f":"SUMIF(BDD!$BC$2:$BC$685,\"Banc 113FAUXVRAIFAUXFAUXVRAI\",BDD!$V$2:$V$685)","v":0},{"$f":"SUMIF(BDD!$BC$2:$BC$685,\"Banc 113VRAIFAUXVRAIFAUXFAUX\",BDD!$V$2:$V$685)","v":0},{"$f":"SUMIF(BDD!$BC$2:$BC$685,\"Banc 113VRAIFAUXFAUXVRAIFAUX\",BDD!$V$2:$V$685)","v":5},{"$f":"SUMIF(BDD!$BC$2:$BC$685,\"Banc 113VRAIFAUXFAUXFAUXVRAI\",BDD!$V$2:$V$685)","v":0},{"$f":"SUMIF(BDD!$BC$2:$BC$685,\"Banc 113FAUXVRAIVRAIFAUXFAUX\",BDD!$V$2:$V$685)","v":0},{"$f":"SUMIF(BDD!$BC$2:$BC$685,\"Banc 113FAUXVRAIFAUXVRAIFAUX\",BDD!$V$2:$V$685)","v":0},{"$f":"SUMIF(BDD!$BC$2:$BC$685,\"Banc 113FAUXVRAIFAUXFAUXVRAI\",BDD!$V$2:$V$685)","v":0},{"$f":"SUMIF(BDD!$BC$2:$BC$685,\"Banc 113VRAIFAUXVRAIFAUXFAUX\",BDD!$V$2:$V$685)","v":0},{"$f":"SUMIF(BDD!$BC$2:$BC$685,\"Banc 113VRAIFAUXFAUXVRAIFAUX\",BDD!$V$2:$V$685)","v":5},{"$f":"SUMIF(BDD!$BC$2:$BC$685,\"Banc 113VRAIFAUXFAUXFAUXVRAI\",BDD!$V$2:$V$685)","v":0},{"$f":"SUMIF(BDD!$BC$2:$BC$685,\"Banc 113FAUXVRAIVRAIFAUXFAUX\",BDD!$V$2:$V$685)","v":0},{"$f":"SUMIF(BDD!$BC$2:$BC$685,\"Banc 113FAUXVRAIFAUXVRAIFAUX\",BDD!$V$2:$V$685)","v":0},{"$f":"SUMIF(BDD!$BC$2:$BC$685,\"Banc 113FAUXVRAIFAUXFAUXVRAI\",BDD!$V$2:$V$685)","v":0}]
["Banc 115",{"$f":"SUMIF(BDD!$BC$2:$BC$685,\"Banc 115VRAIFAUXVRAIFAUXFAUX\",BDD!$V$2:$V$685)","v":0},{"$f":"SUMIF(BDD!$BC$2:$BC$685,\"Banc 115VRAIFAUXFAUXVRAIFAUX\",BDD!$V$2:$V$685)","v":0},{"$f":"SUMIF(BDD!$BC$2:$BC$685,\"Banc 115VRAIFAUXFAUXFAUXVRAI\",BDD!$V$2:$V$685)","v":0},{"$f":"SUMIF(BDD!$BC$2:$BC$685,\"Banc 115FAUXVRAIVRAIFAUXFAUX\",BDD!$V$2:$V$685)","v":0},{"$f":"SUMIF(BDD!$BC$2:$BC$685,\"Banc 115FAUXVRAIFAUXVRAIFAUX\",BDD!$V$2:$V$685)","v":0},{"$f":"SUMIF(BDD!$BC$2:$BC$685,\"Banc 115FAUXVRAIFAUXFAUXVRAI\",BDD!$V$2:$V$685)","v":7},{"$f":"SUMIF(BDD!$BC$2:$BC$685,\"Banc 115VRAIFAUXVRAIFAUXFAUX\",BDD!$V$2:$V$685)","v":0},{"$f":"SUMIF(BDD!$BC$2:$BC$685,\"Banc 115VRAIFAUXFAUXVRAIFAUX\",BDD!$V$2:$V$685)","v":0},{"$f":"SUMIF(BDD!$BC$2:$BC$685,\"Banc 115VRAIFAUXFAUXFAUXVRAI\",BDD!$V$2:$V$685)","v":0},{"$f":"SUMIF(BDD!$BC$2:$BC$685,\"Banc 115FAUXVRAIVRAIFAUXFAUX\",BDD!$V$2:$V$685)","v":0},{"$f":"SUMIF(BDD!$BC$2:$BC$685,\"Banc 115FAUXVRAIFAUXVRAIFAUX\",BDD!$V$2:$V$685)","v":0},{"$f":"SUMIF(BDD!$BC$2:$BC$685,\"Banc 115FAUXVRAIFAUXFAUXVRAI\",BDD!$V$2:$V$685)","v":7},{"$f":"SUMIF(BDD!$BC$2:$BC$685,\"Banc 115VRAIFAUXVRAIFAUXFAUX\",BDD!$V$2:$V$685)","v":0},{"$f":"SUMIF(BDD!$BC$2:$BC$685,\"Banc 115VRAIFAUXFAUXVRAIFAUX\",BDD!$V$2:$V$685)","v":0},{"$f":"SUMIF(BDD!$BC$2:$BC$685,\"Banc 115VRAIFAUXFAUXFAUXVRAI\",BDD!$V$2:$V$685)","v":0},{"$f":"SUMIF(BDD!$BC$2:$BC$685,\"Banc 115FAUXVRAIVRAIFAUXFAUX\",BDD!$V$2:$V$685)","v":0},{"$f":"SUMIF(BDD!$BC$2:$BC$685,\"Banc 115FAUXVRAIFAUXVRAIFAUX\",BDD!$V$2:$V$685)","v":0},{"$f":"SUMIF(BDD!$BC$2:$BC$685,\"Banc 115FAUXVRAIFAUXFAUXVRAI\",BDD!$V$2:$V$685)","v":7},{"$f":"SUMIF(BDD!$BC$2:$BC$685,\"Banc 115VRAIFAUXVRAIFAUXFAUX\",BDD!$V$2:$V$685)","v":0},{"$f":"SUMIF(BDD!$BC$2:$BC$685,\"Banc 115VRAIFAUXFAUXVRAIFAUX\",BDD!$V$2:$V$685)","v":0},{"$f":"SUMIF(BDD!$BC$2:$BC$685,\"Banc 115VRAIFAUXFAUXFAUXVRAI\",BDD!$V$2:$V$685)","v":0},{"$f":"SUMIF(BDD!$BC$2:$BC$685,\"Banc 115FAUXVRAIVRAIFAUXFAUX\",BDD!$V$2:$V$685)","v":0},{"$f":"SUMIF(BDD!$BC$2:$BC$685,\"Banc 115FAUXVRAIFAUXVRAIFAUX\",BDD!$V$2:$V$685)","v":0},{"$f":"SUMIF(BDD!$BC$2:$BC$685,\"Banc 115FAUXVRAIFAUXFAUXVRAI\",BDD!$V$2:$V$685)","v":7},{"$f":"SUMIF(BDD!$BC$2:$BC$685,\"Banc 115VRAIFAUXVRAIFAUXFAUX\",BDD!$V$2:$V$685)","v":0},{"$f":"SUMIF(BDD!$BC$2:$BC$685,\"Banc 115VRAIFAUXFAUXVRAIFAUX\",BDD!$V$2:$V$685)","v":0},{"$f":"SUMIF(BDD!$BC$2:$BC$685,\"Banc 115VRAIFAUXFAUXFAUXVRAI\",BDD!$V$2:$V$685)","v":0},{"$f":"SUMIF(BDD!$BC$2:$BC$685,\"Banc 115FAUXVRAIVRAIFAUXFAUX\",BDD!$V$2:$V$685)","v":0},{"$f":"SUMIF(BDD!$BC$2:$BC$685,\"Banc 115FAUXVRAIFAUXVRAIFAUX\",BDD!$V$2:$V$685)","v":0},{"$f":"SUMIF(BDD!$BC$2:$BC$685,\"Banc 115FAUXVRAIFAUXFAUXVRAI\",BDD!$V$2:$V$685)","v":7},{"$f":"SUMIF(BDD!$BC$2:$BC$685,\"Banc 115VRAIFAUXVRAIFAUXFAUX\",BDD!$V$2:$V$685)","v":0},{"$f":"SUMIF(BDD!$BC$2:$BC$685,\"Banc 115VRAIFAUXFAUXVRAIFAUX\",BDD!$V$2:$V$685)","v":0},{"$f":"SUMIF(BDD!$BC$2:$BC$685,\"Banc 115VRAIFAUXFAUXFAUXVRAI\",BDD!$V$2:$V$685)","v":0},{"$f":"SUMIF(BDD!$BC$2:$BC$685,\"Banc 115FAUXVRAIVRAIFAUXFAUX\",BDD!$V$2:$V$685)","v":0},{"$f":"SUMIF(BDD!$BC$2:$BC$685,\"Banc 115FAUXVRAIFAUXVRAIFAUX\",BDD!$V$2:$V$685)","v":0},{"$f":"SUMIF(BDD!$BC$2:$BC$685,\"Banc 115FAUXVRAIFAUXFAUXVRAI\",BDD!$V$2:$V$685)","v":7},{"$f":"SUMIF(BDD!$BC$2:$BC$685,\"Banc 115VRAIFAUXVRAIFAUXFAUX\",BDD!$V$2:$V$685)","v":0},{"$f":"SUMIF(BDD!$BC$2:$BC$685,\"Banc 115VRAIFAUXFAUXVRAIFAUX\",BDD!$V$2:$V$685)","v":0},{"$f":"SUMIF(BDD!$BC$2:$BC$685,\"Banc 115VRAIFAUXFAUXFAUXVRAI\",BDD!$V$2:$V$685)","v":0},{"$f":"SUMIF(BDD!$BC$2:$BC$685,\"Banc 115FAUXVRAIVRAIFAUXFAUX\",BDD!$V$2:$V$685)","v":0},{"$f":"SUMIF(BDD!$BC$2:$BC$685,\"Banc 115FAUXVRAIFAUXVRAIFAUX\",BDD!$V$2:$V$685)","v":0},{"$f":"SUMIF(BDD!$BC$2:$BC$685,\"Banc 115FAUXVRAIFAUXFAUXVRAI\",BDD!$V$2:$V$685)","v":7},{"$f":"SUMIF(BDD!$BC$2:$BC$685,\"Banc 115VRAIFAUXVRAIFAUXFAUX\",BDD!$V$2:$V$685)","v":0},{"$f":"SUMIF(BDD!$BC$2:$BC$685,\"Banc 115VRAIFAUXFAUXVRAIFAUX\",BDD!$V$2:$V$685)","v":0},{"$f":"SUMIF(BDD!$BC$2:$BC$685,\"Banc 115VRAIFAUXFAUXFAUXVRAI\",BDD!$V$2:$V$685)","v":0},{"$f":"SUMIF(BDD!$BC$2:$BC$685,\"Banc 115FAUXVRAIVRAIFAUXFAUX\",BDD!$V$2:$V$685)","v":0},{"$f":"SUMIF(BDD!$BC$2:$BC$685,\"Banc 115FAUXVRAIFAUXVRAIFAUX\",BDD!$V$2:$V$685)","v":0},{"$f":"SUMIF(BDD!$BC$2:$BC$685,\"Banc 115FAUXVRAIFAUXFAUXVRAI\",BDD!$V$2:$V$685)","v":7},{"$f":"SUMIF(BDD!$BC$2:$BC$685,\"Banc 115VRAIFAUXVRAIFAUXFAUX\",BDD!$V$2:$V$685)","v":0},{"$f":"SUMIF(BDD!$BC$2:$BC$685,\"Banc 115VRAIFAUXFAUXVRAIFAUX\",BDD!$V$2:$V$685)","v":0},{"$f":"SUMIF(BDD!$BC$2:$BC$685,\"Banc 115VRAIFAUXFAUXFAUXVRAI\",BDD!$V$2:$V$685)","v":0},{"$f":"SUMIF(BDD!$BC$2:$BC$685,\"Banc 115FAUXVRAIVRAIFAUXFAUX\",BDD!$V$2:$V$685)","v":0},{"$f":"SUMIF(BDD!$BC$2:$BC$685,\"Banc 115FAUXVRAIFAUXVRAIFAUX\",BDD!$V$2:$V$685)","v":0},{"$f":"SUMIF(BDD!$BC$2:$BC$685,\"Banc 115FAUXVRAIFAUXFAUXVRAI\",BDD!$V$2:$V$685)","v":7},{"$f":"SUMIF(BDD!$BC$2:$BC$685,\"Banc 115VRAIFAUXVRAIFAUXFAUX\",BDD!$V$2:$V$685)","v":0},{"$f":"SUMIF(BDD!$BC$2:$BC$685,\"Banc 115VRAIFAUXFAUXVRAIFAUX\",BDD!$V$2:$V$685)","v":0},{"$f":"SUMIF(BDD!$BC$2:$BC$685,\"Banc 115VRAIFAUXFAUXFAUXVRAI\",BDD!$V$2:$V$685)","v":0},{"$f":"SUMIF(BDD!$BC$2:$BC$685,\"Banc 115FAUXVRAIVRAIFAUXFAUX\",BDD!$V$2:$V$685)","v":0},{"$f":"SUMIF(BDD!$BC$2:$BC$685,\"Banc 115FAUXVRAIFAUXVRAIFAUX\",BDD!$V$2:$V$685)","v":0},{"$f":"SUMIF(BDD!$BC$2:$BC$685,\"Banc 115FAUXVRAIFAUXFAUXVRAI\",BDD!$V$2:$V$685)","v":7},{"$f":"SUMIF(BDD!$BC$2:$BC$685,\"Banc 115VRAIFAUXVRAIFAUXFAUX\",BDD!$V$2:$V$685)","v":0},{"$f":"SUMIF(BDD!$BC$2:$BC$685,\"Banc 115VRAIFAUXFAUXVRAIFAUX\",BDD!$V$2:$V$685)","v":0},{"$f":"SUMIF(BDD!$BC$2:$BC$685,\"Banc 115VRAIFAUXFAUXFAUXVRAI\",BDD!$V$2:$V$685)","v":0},{"$f":"SUMIF(BDD!$BC$2:$BC$685,\"Banc 115FAUXVRAIVRAIFAUXFAUX\",BDD!$V$2:$V$685)","v":0},{"$f":"SUMIF(BDD!$BC$2:$BC$685,\"Banc 115FAUXVRAIFAUXVRAIFAUX\",BDD!$V$2:$V$685)","v":0},{"$f":"SUMIF(BDD!$BC$2:$BC$685,\"Banc 115FAUXVRAIFAUXFAUXVRAI\",BDD!$V$2:$V$685)","v":7},{"$f":"SUMIF(BDD!$BC$2:$BC$685,\"Banc 115VRAIFAUXVRAIFAUXFAUX\",BDD!$V$2:$V$685)","v":0},{"$f":"SUMIF(BDD!$BC$2:$BC$685,\"Banc 115VRAIFAUXFAUXVRAIFAUX\",BDD!$V$2:$V$685)","v":0},{"$f":"SUMIF(BDD!$BC$2:$BC$685,\"Banc 115VRAIFAUXFAUXFAUXVRAI\",BDD!$V$2:$V$685)","v":0},{"$f":"SUMIF(BDD!$BC$2:$BC$685,\"Banc 115FAUXVRAIVRAIFAUXFAUX\",BDD!$V$2:$V$685)","v":0},{"$f":"SUMIF(BDD!$BC$2:$BC$685,\"Banc 115FAUXVRAIFAUXVRAIFAUX\",BDD!$V$2:$V$685)","v":0},{"$f":"SUMIF(BDD!$BC$2:$BC$685,\"Banc 115FAUXVRAIFAUXFAUXVRAI\",BDD!$V$2:$V$685)","v":7}]
["Banc 120",{"$f":"SUMIF(BDD!$BC$2:$BC$685,\"Banc 120VRAIFAUXVRAIFAUXFAUX\",BDD!$V$2:$V$685)","v":6},{"$f":"SUMIF(BDD!$BC$2:$BC$685,\"Banc 120VRAIFAUXFAUXVRAIFAUX\",BDD!$V$2:$V$685)","v":0},{"$f":"SUMIF(BDD!$BC$2:$BC$685,\"Banc 120VRAIFAUXFAUXFAUXVRAI\",BDD!$V$2:$V$685)","v":0},{"$f":"SUMIF(BDD!$BC$2:$BC$685,\"Banc 120FAUXVRAIVRAIFAUXFAUX\",BDD!$V$2:$V$685)","v":0},{"$f":"SUMIF(BDD!$BC$2:$BC$685,\"Banc 120FAUXVRAIFAUXVRAIFAUX\",BDD!$V$2:$V$685)","v":0},{"$f":"SUMIF(BDD!$BC$2:$BC$685,\"Banc 120FAUXVRAIFAUXFAUXVRAI\",BDD!$V$2:$V$685)","v":0},{"$f":"SUMIF(BDD!$BC$2:$BC$685,\"Banc 120VRAIFAUXVRAIFAUXFAUX\",BDD!$V$2:$V$685)","v":6},{"$f":"SUMIF(BDD!$BC$2:$BC$685,\"Banc 120VRAIFAUXFAUXVRAIFAUX\",BDD!$V$2:$V$685)","v":0},{"$f":"SUMIF(BDD!$BC$2:$BC$685,\"Banc 120VRAIFAUXFAUXFAUXVRAI\",BDD!$V$2:$V$685)","v":0},{"$f":"SUMIF(BDD!$BC$2:$BC$685,\"Banc 120FAUXVRAIVRAIFAUXFAUX\",BDD!$V$2:$V$685)","v":0},{"$f":"SUMIF(BDD!$BC$2:$BC$685,\"Banc 120FAUXVRAIFAUXVRAIFAUX\",BDD!$V$2:$V$685)","v":0},{"$f":"SUMIF(BDD!$BC$2:$BC$685,\"Banc 120FAUXVRAIFAUXFAUXVRAI\",BDD!$V$2:$V$685)","v":0},{"$f":"SUMIF(BDD!$BC$2:$BC$685,\"Banc 120VRAIFAUXVRAIFAUXFAUX\",BDD!$V$2:$V$685)","v":6},{"$f":"SUMIF(BDD!$BC$2:$BC$685,\"Banc 120VRAIFAUXFAUXVRAIFAUX\",BDD!$V$2:$V$685)","v":0},{"$f":"SUMIF(BDD!$BC$2:$BC$685,\"Banc 120VRAIFAUXFAUXFAUXVRAI\",BDD!$V$2:$V$685)","v":0},{"$f":"SUMIF(BDD!$BC$2:$BC$685,\"Banc 120FAUXVRAIVRAIFAUXFAUX\",BDD!$V$2:$V$685)","v":0},{"$f":"SUMIF(BDD!$BC$2:$BC$685,\"Banc 120FAUXVRAIFAUXVRAIFAUX\",BDD!$V$2:$V$685)","v":0},{"$f":"SUMIF(BDD!$BC$2:$BC$685,\"Banc 120FAUXVRAIFAUXFAUXVRAI\",BDD!$V$2:$V$685)","v":0},{"$f":"SUMIF(BDD!$BC$2:$BC$685,\"Banc 120VRAIFAUXVRAIFAUXFAUX\",BDD!$V$2:$V$685)","v":6},{"$f":"SUMIF(BDD!$BC$2:$BC$685,\"Banc 120VRAIFAUXFAUXVRAIFAUX\",BDD!$V$2:$V$685)","v":0},{"$f":"SUMIF(BDD!$BC$2:$BC$685,\"Banc 120VRAIFAUXFAUXFAUXVRAI\",BDD!$V$2:$V$685)","v":0},{"$f":"SUMIF(BDD!$BC$2:$BC$685,\"Banc 120FAUXVRAIVRAIFAUXFAUX\",BDD!$V$2:$V$685)","v":0},{"$f":"SUMIF(BDD!$BC$2:$BC$685,\"Banc 120FAUXVRAIFAUXVRAIFAUX\",BDD!$V$2:$V$685)","v":0},{"$f":"SUMIF(BDD!$BC$2:$BC$685,\"Banc 120FAUXVRAIFAUXFAUXVRAI\",BDD!$V$2:$V$685)","v":0},{"$f":"SUMIF(BDD!$BC$2:$BC$685,\"Banc 120VRAIFAUXVRAIFAUXFAUX\",BDD!$V$2:$V$685)","v":6},{"$f":"SUMIF(BDD!$BC$2:$BC$685,\"Banc 120VRAIFAUXFAUXVRAIFAUX\",BDD!$V$2:$V$685)","v":0},{"$f":"SUMIF(BDD!$BC$2:$BC$685,\"Banc 120VRAIFAUXFAUXFAUXVRAI\",BDD!$V$2:$V$685)","v":0},{"$f":"SUMIF(BDD!$BC$2:$BC$685,\"Banc 120FAUXVRAIVRAIFAUXFAUX\",BDD!$V$2:$V$685)","v":0},{"$f":"SUMIF(BDD!$BC$2:$BC$685,\"Banc 120FAUXVRAIFAUXVRAIFAUX\",BDD!$V$2:$V$685)","v":0},{"$f":"SUMIF(BDD!$BC$2:$BC$685,\"Banc 120FAUXVRAIFAUXFAUXVRAI\",BDD!$V$2:$V$685)","v":0},{"$f":"SUMIF(BDD!$BC$2:$BC$685,\"Banc 120VRAIFAUXVRAIFAUXFAUX\",BDD!$V$2:$V$685)","v":6},{"$f":"SUMIF(BDD!$BC$2:$BC$685,\"Banc 120VRAIFAUXFAUXVRAIFAUX\",BDD!$V$2:$V$685)","v":0},{"$f":"SUMIF(BDD!$BC$2:$BC$685,\"Banc 120VRAIFAUXFAUXFAUXVRAI\",BDD!$V$2:$V$685)","v":0},{"$f":"SUMIF(BDD!$BC$2:$BC$685,\"Banc 120FAUXVRAIVRAIFAUXFAUX\",BDD!$V$2:$V$685)","v":0},{"$f":"SUMIF(BDD!$BC$2:$BC$685,\"Banc 120FAUXVRAIFAUXVRAIFAUX\",BDD!$V$2:$V$685)","v":0},{"$f":"SUMIF(BDD!$BC$2:$BC$685,\"Banc 120FAUXVRAIFAUXFAUXVRAI\",BDD!$V$2:$V$685)","v":0},{"$f":"SUMIF(BDD!$BC$2:$BC$685,\"Banc 120VRAIFAUXVRAIFAUXFAUX\",BDD!$V$2:$V$685)","v":6},{"$f":"SUMIF(BDD!$BC$2:$BC$685,\"Banc 120VRAIFAUXFAUXVRAIFAUX\",BDD!$V$2:$V$685)","v":0},{"$f":"SUMIF(BDD!$BC$2:$BC$685,\"Banc 120VRAIFAUXFAUXFAUXVRAI\",BDD!$V$2:$V$685)","v":0},{"$f":"SUMIF(BDD!$BC$2:$BC$685,\"Banc 120FAUXVRAIVRAIFAUXFAUX\",BDD!$V$2:$V$685)","v":0},{"$f":"SUMIF(BDD!$BC$2:$BC$685,\"Banc 120FAUXVRAIFAUXVRAIFAUX\",BDD!$V$2:$V$685)","v":0},{"$f":"SUMIF(BDD!$BC$2:$BC$685,\"Banc 120FAUXVRAIFAUXFAUXVRAI\",BDD!$V$2:$V$685)","v":0},{"$f":"SUMIF(BDD!$BC$2:$BC$685,\"Banc 120VRAIFAUXVRAIFAUXFAUX\",BDD!$V$2:$V$685)","v":6},{"$f":"SUMIF(BDD!$BC$2:$BC$685,\"Banc 120VRAIFAUXFAUXVRAIFAUX\",BDD!$V$2:$V$685)","v":0},{"$f":"SUMIF(BDD!$BC$2:$BC$685,\"Banc 120VRAIFAUXFAUXFAUXVRAI\",BDD!$V$2:$V$685)","v":0},{"$f":"SUMIF(BDD!$BC$2:$BC$685,\"Banc 120FAUXVRAIVRAIFAUXFAUX\",BDD!$V$2:$V$685)","v":0},{"$f":"SUMIF(BDD!$BC$2:$BC$685,\"Banc 120FAUXVRAIFAUXVRAIFAUX\",BDD!$V$2:$V$685)","v":0},{"$f":"SUMIF(BDD!$BC$2:$BC$685,\"Banc 120FAUXVRAIFAUXFAUXVRAI\",BDD!$V$2:$V$685)","v":0},{"$f":"SUMIF(BDD!$BC$2:$BC$685,\"Banc 120VRAIFAUXVRAIFAUXFAUX\",BDD!$V$2:$V$685)","v":6},{"$f":"SUMIF(BDD!$BC$2:$BC$685,\"Banc 120VRAIFAUXFAUXVRAIFAUX\",BDD!$V$2:$V$685)","v":0},{"$f":"SUMIF(BDD!$BC$2:$BC$685,\"Banc 120VRAIFAUXFAUXFAUXVRAI\",BDD!$V$2:$V$685)","v":0},{"$f":"SUMIF(BDD!$BC$2:$BC$685,\"Banc 120FAUXVRAIVRAIFAUXFAUX\",BDD!$V$2:$V$685)","v":0},{"$f":"SUMIF(BDD!$BC$2:$BC$685,\"Banc 120FAUXVRAIFAUXVRAIFAUX\",BDD!$V$2:$V$685)","v":0},{"$f":"SUMIF(BDD!$BC$2:$BC$685,\"Banc 120FAUXVRAIFAUXFAUXVRAI\",BDD!$V$2:$V$685)","v":0},{"$f":"SUMIF(BDD!$BC$2:$BC$685,\"Banc 120VRAIFAUXVRAIFAUXFAUX\",BDD!$V$2:$V$685)","v":6},{"$f":"SUMIF(BDD!$BC$2:$BC$685,\"Banc 120VRAIFAUXFAUXVRAIFAUX\",BDD!$V$2:$V$685)","v":0},{"$f":"SUMIF(BDD!$BC$2:$BC$685,\"Banc 120VRAIFAUXFAUXFAUXVRAI\",BDD!$V$2:$V$685)","v":0},{"$f":"SUMIF(BDD!$BC$2:$BC$685,\"Banc 120FAUXVRAIVRAIFAUXFAUX\",BDD!$V$2:$V$685)","v":0},{"$f":"SUMIF(BDD!$BC$2:$BC$685,\"Banc 120FAUXVRAIFAUXVRAIFAUX\",BDD!$V$2:$V$685)","v":0},{"$f":"SUMIF(BDD!$BC$2:$BC$685,\"Banc 120FAUXVRAIFAUXFAUXVRAI\",BDD!$V$2:$V$685)","v":0},{"$f":"SUMIF(BDD!$BC$2:$BC$685,\"Banc 120VRAIFAUXVRAIFAUXFAUX\",BDD!$V$2:$V$685)","v":6},{"$f":"SUMIF(BDD!$BC$2:$BC$685,\"Banc 120VRAIFAUXFAUXVRAIFAUX\",BDD!$V$2:$V$685)","v":0},{"$f":"SUMIF(BDD!$BC$2:$BC$685,\"Banc 120VRAIFAUXFAUXFAUXVRAI\",BDD!$V$2:$V$685)","v":0},{"$f":"SUMIF(BDD!$BC$2:$BC$685,\"Banc 120FAUXVRAIVRAIFAUXFAUX\",BDD!$V$2:$V$685)","v":0},{"$f":"SUMIF(BDD!$BC$2:$BC$685,\"Banc 120FAUXVRAIFAUXVRAIFAUX\",BDD!$V$2:$V$685)","v":0},{"$f":"SUMIF(BDD!$BC$2:$BC$685,\"Banc 120FAUXVRAIFAUXFAUXVRAI\",BDD!$V$2:$V$685)","v":0},{"$f":"SUMIF(BDD!$BC$2:$BC$685,\"Banc 120VRAIFAUXVRAIFAUXFAUX\",BDD!$V$2:$V$685)","v":6},{"$f":"SUMIF(BDD!$BC$2:$BC$685,\"Banc 120VRAIFAUXFAUXVRAIFAUX\",BDD!$V$2:$V$685)","v":0},{"$f":"SUMIF(BDD!$BC$2:$BC$685,\"Banc 120VRAIFAUXFAUXFAUXVRAI\",BDD!$V$2:$V$685)","v":0},{"$f":"SUMIF(BDD!$BC$2:$BC$685,\"Banc 120FAUXVRAIVRAIFAUXFAUX\",BDD!$V$2:$V$685)","v":0},{"$f":"SUMIF(BDD!$BC$2:$BC$685,\"Banc 120FAUXVRAIFAUXVRAIFAUX\",BDD!$V$2:$V$685)","v":0},{"$f":"SUMIF(BDD!$BC$2:$BC$685,\"Banc 120FAUXVRAIFAUXFAUXVRAI\",BDD!$V$2:$V$685)","v":0}]
["Banc 120 bis",{"$f":"SUMIF(BDD!$BC$2:$BC$685,\"Banc 120 BISVRAIFAUXVRAIFAUXFAUX\",BDD!$V$2:$V$685)","v":0},{"$f":"SUMIF(BDD!$BC$2:$BC$685,\"Banc 120 BISVRAIFAUXFAUXVRAIFAUX\",BDD!$V$2:$V$685)","v":0},{"$f":"SUMIF(BDD!$BC$2:$BC$685,\"Banc 120 bisVRAIFAUXFAUXFAUXVRAI\",BDD!$V$2:$V$685)","v":0},{"$f":"SUMIF(BDD!$BC$2:$BC$685,\"Banc 120 bisFAUXVRAIVRAIFAUXFAUX\",BDD!$V$2:$V$685)","v":0},{"$f":"SUMIF(BDD!$BC$2:$BC$685,\"Banc 120 bisFAUXVRAIFAUXVRAIFAUX\",BDD!$V$2:$V$685)","v":12},{"$f":"SUMIF(BDD!$BC$2:$BC$685,\"Banc 120 bisFAUXVRAIFAUXFAUXVRAI\",BDD!$V$2:$V$685)","v":0},{"$f":"SUMIF(BDD!$BC$2:$BC$685,\"Banc 120 BISVRAIFAUXVRAIFAUXFAUX\",BDD!$V$2:$V$685)","v":0},{"$f":"SUMIF(BDD!$BC$2:$BC$685,\"Banc 120 BISVRAIFAUXFAUXVRAIFAUX\",BDD!$V$2:$V$685)","v":0},{"$f":"SUMIF(BDD!$BC$2:$BC$685,\"Banc 120 bisVRAIFAUXFAUXFAUXVRAI\",BDD!$V$2:$V$685)","v":0},{"$f":"SUMIF(BDD!$BC$2:$BC$685,\"Banc 120 bisFAUXVRAIVRAIFAUXFAUX\",BDD!$V$2:$V$685)","v":0},{"$f":"SUMIF(BDD!$BC$2:$BC$685,\"Banc 120 bisFAUXVRAIFAUXVRAIFAUX\",BDD!$V$2:$V$685)","v":12},{"$f":"SUMIF(BDD!$BC$2:$BC$685,\"Banc 120 bisFAUXVRAIFAUXFAUXVRAI\",BDD!$V$2:$V$685)","v":0},{"$f":"SUMIF(BDD!$BC$2:$BC$685,\"Banc 120 BISVRAIFAUXVRAIFAUXFAUX\",BDD!$V$2:$V$685)","v":0},{"$f":"SUMIF(BDD!$BC$2:$BC$685,\"Banc 120 BISVRAIFAUXFAUXVRAIFAUX\",BDD!$V$2:$V$685)","v":0},{"$f":"SUMIF(BDD!$BC$2:$BC$685,\"Banc 120 bisVRAIFAUXFAUXFAUXVRAI\",BDD!$V$2:$V$685)","v":0},{"$f":"SUMIF(BDD!$BC$2:$BC$685,\"Banc 120 bisFAUXVRAIVRAIFAUXFAUX\",BDD!$V$2:$V$685)","v":0},{"$f":"SUMIF(BDD!$BC$2:$BC$685,\"Banc 120 bisFAUXVRAIFAUXVRAIFAUX\",BDD!$V$2:$V$685)","v":12},{"$f":"SUMIF(BDD!$BC$2:$BC$685,\"Banc 120 bisFAUXVRAIFAUXFAUXVRAI\",BDD!$V$2:$V$685)","v":0},{"$f":"SUMIF(BDD!$BC$2:$BC$685,\"Banc 120 BISVRAIFAUXVRAIFAUXFAUX\",BDD!$V$2:$V$685)","v":0},{"$f":"SUMIF(BDD!$BC$2:$BC$685,\"Banc 120 BISVRAIFAUXFAUXVRAIFAUX\",BDD!$V$2:$V$685)","v":0},{"$f":"SUMIF(BDD!$BC$2:$BC$685,\"Banc 120 bisVRAIFAUXFAUXFAUXVRAI\",BDD!$V$2:$V$685)","v":0},{"$f":"SUMIF(BDD!$BC$2:$BC$685,\"Banc 120 bisFAUXVRAIVRAIFAUXFAUX\",BDD!$V$2:$V$685)","v":0},{"$f":"SUMIF(BDD!$BC$2:$BC$685,\"Banc 120 bisFAUXVRAIFAUXVRAIFAUX\",BDD!$V$2:$V$685)","v":12},{"$f":"SUMIF(BDD!$BC$2:$BC$685,\"Banc 120 bisFAUXVRAIFAUXFAUXVRAI\",BDD!$V$2:$V$685)","v":0},{"$f":"SUMIF(BDD!$BC$2:$BC$685,\"Banc 120 BISVRAIFAUXVRAIFAUXFAUX\",BDD!$V$2:$V$685)","v":0},{"$f":"SUMIF(BDD!$BC$2:$BC$685,\"Banc 120 BISVRAIFAUXFAUXVRAIFAUX\",BDD!$V$2:$V$685)","v":0},{"$f":"SUMIF(BDD!$BC$2:$BC$685,\"Banc 120 bisVRAIFAUXFAUXFAUXVRAI\",BDD!$V$2:$V$685)","v":0},{"$f":"SUMIF(BDD!$BC$2:$BC$685,\"Banc 120 bisFAUXVRAIVRAIFAUXFAUX\",BDD!$V$2:$V$685)","v":0},{"$f":"SUMIF(BDD!$BC$2:$BC$685,\"Banc 120 bisFAUXVRAIFAUXVRAIFAUX\",BDD!$V$2:$V$685)","v":12},{"$f":"SUMIF(BDD!$BC$2:$BC$685,\"Banc 120 bisFAUXVRAIFAUXFAUXVRAI\",BDD!$V$2:$V$685)","v":0},{"$f":"SUMIF(BDD!$BC$2:$BC$685,\"Banc 120 BISVRAIFAUXVRAIFAUXFAUX\",BDD!$V$2:$V$685)","v":0},{"$f":"SUMIF(BDD!$BC$2:$BC$685,\"Banc 120 BISVRAIFAUXFAUXVRAIFAUX\",BDD!$V$2:$V$685)","v":0},{"$f":"SUMIF(BDD!$BC$2:$BC$685,\"Banc 120 bisVRAIFAUXFAUXFAUXVRAI\",BDD!$V$2:$V$685)","v":0},{"$f":"SUMIF(BDD!$BC$2:$BC$685,\"Banc 120 bisFAUXVRAIVRAIFAUXFAUX\",BDD!$V$2:$V$685)","v":0},{"$f":"SUMIF(BDD!$BC$2:$BC$685,\"Banc 120 bisFAUXVRAIFAUXVRAIFAUX\",BDD!$V$2:$V$685)","v":12},{"$f":"SUMIF(BDD!$BC$2:$BC$685,\"Banc 120 bisFAUXVRAIFAUXFAUXVRAI\",BDD!$V$2:$V$685)","v":0},{"$f":"SUMIF(BDD!$BC$2:$BC$685,\"Banc 120 BISVRAIFAUXVRAIFAUXFAUX\",BDD!$V$2:$V$685)","v":0},{"$f":"SUMIF(BDD!$BC$2:$BC$685,\"Banc 120 BISVRAIFAUXFAUXVRAIFAUX\",BDD!$V$2:$V$685)","v":0},{"$f":"SUMIF(BDD!$BC$2:$BC$685,\"Banc 120 bisVRAIFAUXFAUXFAUXVRAI\",BDD!$V$2:$V$685)","v":0},{"$f":"SUMIF(BDD!$BC$2:$BC$685,\"Banc 120 bisFAUXVRAIVRAIFAUXFAUX\",BDD!$V$2:$V$685)","v":0},{"$f":"SUMIF(BDD!$BC$2:$BC$685,\"Banc 120 bisFAUXVRAIFAUXVRAIFAUX\",BDD!$V$2:$V$685)","v":12},{"$f":"SUMIF(BDD!$BC$2:$BC$685,\"Banc 120 bisFAUXVRAIFAUXFAUXVRAI\",BDD!$V$2:$V$685)","v":0},{"$f":"SUMIF(BDD!$BC$2:$BC$685,\"Banc 120 BISVRAIFAUXVRAIFAUXFAUX\",BDD!$V$2:$V$685)","v":0},{"$f":"SUMIF(BDD!$BC$2:$BC$685,\"Banc 120 BISVRAIFAUXFAUXVRAIFAUX\",BDD!$V$2:$V$685)","v":0},{"$f":"SUMIF(BDD!$BC$2:$BC$685,\"Banc 120 bisVRAIFAUXFAUXFAUXVRAI\",BDD!$V$2:$V$685)","v":0},{"$f":"SUMIF(BDD!$BC$2:$BC$685,\"Banc 120 bisFAUXVRAIVRAIFAUXFAUX\",BDD!$V$2:$V$685)","v":0},{"$f":"SUMIF(BDD!$BC$2:$BC$685,\"Banc 120 bisFAUXVRAIFAUXVRAIFAUX\",BDD!$V$2:$V$685)","v":12},{"$f":"SUMIF(BDD!$BC$2:$BC$685,\"Banc 120 bisFAUXVRAIFAUXFAUXVRAI\",BDD!$V$2:$V$685)","v":0},{"$f":"SUMIF(BDD!$BC$2:$BC$685,\"Banc 120 BISVRAIFAUXVRAIFAUXFAUX\",BDD!$V$2:$V$685)","v":0},{"$f":"SUMIF(BDD!$BC$2:$BC$685,\"Banc 120 BISVRAIFAUXFAUXVRAIFAUX\",BDD!$V$2:$V$685)","v":0},{"$f":"SUMIF(BDD!$BC$2:$BC$685,\"Banc 120 bisVRAIFAUXFAUXFAUXVRAI\",BDD!$V$2:$V$685)","v":0},{"$f":"SUMIF(BDD!$BC$2:$BC$685,\"Banc 120 bisFAUXVRAIVRAIFAUXFAUX\",BDD!$V$2:$V$685)","v":0},{"$f":"SUMIF(BDD!$BC$2:$BC$685,\"Banc 120 bisFAUXVRAIFAUXVRAIFAUX\",BDD!$V$2:$V$685)","v":12},{"$f":"SUMIF(BDD!$BC$2:$BC$685,\"Banc 120 bisFAUXVRAIFAUXFAUXVRAI\",BDD!$V$2:$V$685)","v":0},{"$f":"SUMIF(BDD!$BC$2:$BC$685,\"Banc 120 BISVRAIFAUXVRAIFAUXFAUX\",BDD!$V$2:$V$685)","v":0},{"$f":"SUMIF(BDD!$BC$2:$BC$685,\"Banc 120 BISVRAIFAUXFAUXVRAIFAUX\",BDD!$V$2:$V$685)","v":0},{"$f":"SUMIF(BDD!$BC$2:$BC$685,\"Banc 120 bisVRAIFAUXFAUXFAUXVRAI\",BDD!$V$2:$V$685)","v":0},{"$f":"SUMIF(BDD!$BC$2:$BC$685,\"Banc 120 bisFAUXVRAIVRAIFAUXFAUX\",BDD!$V$2:$V$685)","v":0},{"$f":"SUMIF(BDD!$BC$2:$BC$685,\"Banc 120 bisFAUXVRAIFAUXVRAIFAUX\",BDD!$V$2:$V$685)","v":12},{"$f":"SUMIF(BDD!$BC$2:$BC$685,\"Banc 120 bisFAUXVRAIFAUXFAUXVRAI\",BDD!$V$2:$V$685)","v":0},{"$f":"SUMIF(BDD!$BC$2:$BC$685,\"Banc 120 BISVRAIFAUXVRAIFAUXFAUX\",BDD!$V$2:$V$685)","v":0},{"$f":"SUMIF(BDD!$BC$2:$BC$685,\"Banc 120 BISVRAIFAUXFAUXVRAIFAUX\",BDD!$V$2:$V$685)","v":0},{"$f":"SUMIF(BDD!$BC$2:$BC$685,\"Banc 120 bisVRAIFAUXFAUXFAUXVRAI\",BDD!$V$2:$V$685)","v":0},{"$f":"SUMIF(BDD!$BC$2:$BC$685,\"Banc 120 bisFAUXVRAIVRAIFAUXFAUX\",BDD!$V$2:$V$685)","v":0},{"$f":"SUMIF(BDD!$BC$2:$BC$685,\"Banc 120 bisFAUXVRAIFAUXVRAIFAUX\",BDD!$V$2:$V$685)","v":12},{"$f":"SUMIF(BDD!$BC$2:$BC$685,\"Banc 120 bisFAUXVRAIFAUXFAUXVRAI\",BDD!$V$2:$V$685)","v":0},{"$f":"SUMIF(BDD!$BC$2:$BC$685,\"Banc 120 BISVRAIFAUXVRAIFAUXFAUX\",BDD!$V$2:$V$685)","v":0},{"$f":"SUMIF(BDD!$BC$2:$BC$685,\"Banc 120 BISVRAIFAUXFAUXVRAIFAUX\",BDD!$V$2:$V$685)","v":0},{"$f":"SUMIF(BDD!$BC$2:$BC$685,\"Banc 120 bisVRAIFAUXFAUXFAUXVRAI\",BDD!$V$2:$V$685)","v":0},{"$f":"SUMIF(BDD!$BC$2:$BC$685,\"Banc 120 bisFAUXVRAIVRAIFAUXFAUX\",BDD!$V$2:$V$685)","v":0},{"$f":"SUMIF(BDD!$BC$2:$BC$685,\"Banc 120 bisFAUXVRAIFAUXVRAIFAUX\",BDD!$V$2:$V$685)","v":12},{"$f":"SUMIF(BDD!$BC$2:$BC$685,\"Banc 120 bisFAUXVRAIFAUXFAUXVRAI\",BDD!$V$2:$V$685)","v":0}]
["Banc 128",{"$f":"SUMIF(BDD!$BC$2:$BC$685,\"Banc 128VRAIFAUXVRAIFAUXFAUX\",BDD!$V$2:$V$685)","v":0},{"$f":"SUMIF(BDD!$BC$2:$BC$685,\"Banc 128VRAIFAUXFAUXVRAIFAUX\",BDD!$V$2:$V$685)","v":0},{"$f":"SUMIF(BDD!$BC$2:$BC$685,\"Banc 128VRAIFAUXFAUXFAUXVRAI\",BDD!$V$2:$V$685)","v":0},{"$f":"SUMIF(BDD!$BC$2:$BC$685,\"Banc 128FAUXVRAIVRAIFAUXFAUX\",BDD!$V$2:$V$685)","v":11},{"$f":"SUMIF(BDD!$BC$2:$BC$685,\"Banc 128FAUXVRAIFAUXVRAIFAUX\",BDD!$V$2:$V$685)","v":0},{"$f":"SUMIF(BDD!$BC$2:$BC$685,\"Banc 128FAUXVRAIFAUXFAUXVRAI\",BDD!$V$2:$V$685)","v":0},{"$f":"SUMIF(BDD!$BC$2:$BC$685,\"Banc 128VRAIFAUXVRAIFAUXFAUX\",BDD!$V$2:$V$685)","v":0},{"$f":"SUMIF(BDD!$BC$2:$BC$685,\"Banc 128VRAIFAUXFAUXVRAIFAUX\",BDD!$V$2:$V$685)","v":0},{"$f":"SUMIF(BDD!$BC$2:$BC$685,\"Banc 128VRAIFAUXFAUXFAUXVRAI\",BDD!$V$2:$V$685)","v":0},{"$f":"SUMIF(BDD!$BC$2:$BC$685,\"Banc 128FAUXVRAIVRAIFAUXFAUX\",BDD!$V$2:$V$685)","v":11},{"$f":"SUMIF(BDD!$BC$2:$BC$685,\"Banc 128FAUXVRAIFAUXVRAIFAUX\",BDD!$V$2:$V$685)","v":0},{"$f":"SUMIF(BDD!$BC$2:$BC$685,\"Banc 128FAUXVRAIFAUXFAUXVRAI\",BDD!$V$2:$V$685)","v":0},{"$f":"SUMIF(BDD!$BC$2:$BC$685,\"Banc 128VRAIFAUXVRAIFAUXFAUX\",BDD!$V$2:$V$685)","v":0},{"$f":"SUMIF(BDD!$BC$2:$BC$685,\"Banc 128VRAIFAUXFAUXVRAIFAUX\",BDD!$V$2:$V$685)","v":0},{"$f":"SUMIF(BDD!$BC$2:$BC$685,\"Banc 128VRAIFAUXFAUXFAUXVRAI\",BDD!$V$2:$V$685)","v":0},{"$f":"SUMIF(BDD!$BC$2:$BC$685,\"Banc 128FAUXVRAIVRAIFAUXFAUX\",BDD!$V$2:$V$685)","v":11},{"$f":"SUMIF(BDD!$BC$2:$BC$685,\"Banc 128FAUXVRAIFAUXVRAIFAUX\",BDD!$V$2:$V$685)","v":0},{"$f":"SUMIF(BDD!$BC$2:$BC$685,\"Banc 128FAUXVRAIFAUXFAUXVRAI\",BDD!$V$2:$V$685)","v":0},{"$f":"SUMIF(BDD!$BC$2:$BC$685,\"Banc 128VRAIFAUXVRAIFAUXFAUX\",BDD!$V$2:$V$685)","v":0},{"$f":"SUMIF(BDD!$BC$2:$BC$685,\"Banc 128VRAIFAUXFAUXVRAIFAUX\",BDD!$V$2:$V$685)","v":0},{"$f":"SUMIF(BDD!$BC$2:$BC$685,\"Banc 128VRAIFAUXFAUXFAUXVRAI\",BDD!$V$2:$V$685)","v":0},{"$f":"SUMIF(BDD!$BC$2:$BC$685,\"Banc 128FAUXVRAIVRAIFAUXFAUX\",BDD!$V$2:$V$685)","v":11},{"$f":"SUMIF(BDD!$BC$2:$BC$685,\"Banc 128FAUXVRAIFAUXVRAIFAUX\",BDD!$V$2:$V$685)","v":0},{"$f":"SUMIF(BDD!$BC$2:$BC$685,\"Banc 128FAUXVRAIFAUXFAUXVRAI\",BDD!$V$2:$V$685)","v":0},{"$f":"SUMIF(BDD!$BC$2:$BC$685,\"Banc 128VRAIFAUXVRAIFAUXFAUX\",BDD!$V$2:$V$685)","v":0},{"$f":"SUMIF(BDD!$BC$2:$BC$685,\"Banc 128VRAIFAUXFAUXVRAIFAUX\",BDD!$V$2:$V$685)","v":0},{"$f":"SUMIF(BDD!$BC$2:$BC$685,\"Banc 128VRAIFAUXFAUXFAUXVRAI\",BDD!$V$2:$V$685)","v":0},{"$f":"SUMIF(BDD!$BC$2:$BC$685,\"Banc 128FAUXVRAIVRAIFAUXFAUX\",BDD!$V$2:$V$685)","v":11},{"$f":"SUMIF(BDD!$BC$2:$BC$685,\"Banc 128FAUXVRAIFAUXVRAIFAUX\",BDD!$V$2:$V$685)","v":0},{"$f":"SUMIF(BDD!$BC$2:$BC$685,\"Banc 128FAUXVRAIFAUXFAUXVRAI\",BDD!$V$2:$V$685)","v":0},{"$f":"SUMIF(BDD!$BC$2:$BC$685,\"Banc 128VRAIFAUXVRAIFAUXFAUX\",BDD!$V$2:$V$685)","v":0},{"$f":"SUMIF(BDD!$BC$2:$BC$685,\"Banc 128VRAIFAUXFAUXVRAIFAUX\",BDD!$V$2:$V$685)","v":0},{"$f":"SUMIF(BDD!$BC$2:$BC$685,\"Banc 128VRAIFAUXFAUXFAUXVRAI\",BDD!$V$2:$V$685)","v":0},{"$f":"SUMIF(BDD!$BC$2:$BC$685,\"Banc 128FAUXVRAIVRAIFAUXFAUX\",BDD!$V$2:$V$685)","v":11},{"$f":"SUMIF(BDD!$BC$2:$BC$685,\"Banc 128FAUXVRAIFAUXVRAIFAUX\",BDD!$V$2:$V$685)","v":0},{"$f":"SUMIF(BDD!$BC$2:$BC$685,\"Banc 128FAUXVRAIFAUXFAUXVRAI\",BDD!$V$2:$V$685)","v":0},{"$f":"SUMIF(BDD!$BC$2:$BC$685,\"Banc 128VRAIFAUXVRAIFAUXFAUX\",BDD!$V$2:$V$685)","v":0},{"$f":"SUMIF(BDD!$BC$2:$BC$685,\"Banc 128VRAIFAUXFAUXVRAIFAUX\",BDD!$V$2:$V$685)","v":0},{"$f":"SUMIF(BDD!$BC$2:$BC$685,\"Banc 128VRAIFAUXFAUXFAUXVRAI\",BDD!$V$2:$V$685)","v":0},{"$f":"SUMIF(BDD!$BC$2:$BC$685,\"Banc 128FAUXVRAIVRAIFAUXFAUX\",BDD!$V$2:$V$685)","v":11},{"$f":"SUMIF(BDD!$BC$2:$BC$685,\"Banc 128FAUXVRAIFAUXVRAIFAUX\",BDD!$V$2:$V$685)","v":0},{"$f":"SUMIF(BDD!$BC$2:$BC$685,\"Banc 128FAUXVRAIFAUXFAUXVRAI\",BDD!$V$2:$V$685)","v":0},{"$f":"SUMIF(BDD!$BC$2:$BC$685,\"Banc 128VRAIFAUXVRAIFAUXFAUX\",BDD!$V$2:$V$685)","v":0},{"$f":"SUMIF(BDD!$BC$2:$BC$685,\"Banc 128VRAIFAUXFAUXVRAIFAUX\",BDD!$V$2:$V$685)","v":0},{"$f":"SUMIF(BDD!$BC$2:$BC$685,\"Banc 128VRAIFAUXFAUXFAUXVRAI\",BDD!$V$2:$V$685)","v":0},{"$f":"SUMIF(BDD!$BC$2:$BC$685,\"Banc 128FAUXVRAIVRAIFAUXFAUX\",BDD!$V$2:$V$685)","v":11},{"$f":"SUMIF(BDD!$BC$2:$BC$685,\"Banc 128FAUXVRAIFAUXVRAIFAUX\",BDD!$V$2:$V$685)","v":0},{"$f":"SUMIF(BDD!$BC$2:$BC$685,\"Banc 128FAUXVRAIFAUXFAUXVRAI\",BDD!$V$2:$V$685)","v":0},{"$f":"SUMIF(BDD!$BC$2:$BC$685,\"Banc 128VRAIFAUXVRAIFAUXFAUX\",BDD!$V$2:$V$685)","v":0},{"$f":"SUMIF(BDD!$BC$2:$BC$685,\"Banc 128VRAIFAUXFAUXVRAIFAUX\",BDD!$V$2:$V$685)","v":0},{"$f":"SUMIF(BDD!$BC$2:$BC$685,\"Banc 128VRAIFAUXFAUXFAUXVRAI\",BDD!$V$2:$V$685)","v":0},{"$f":"SUMIF(BDD!$BC$2:$BC$685,\"Banc 128FAUXVRAIVRAIFAUXFAUX\",BDD!$V$2:$V$685)","v":11},{"$f":"SUMIF(BDD!$BC$2:$BC$685,\"Banc 128FAUXVRAIFAUXVRAIFAUX\",BDD!$V$2:$V$685)","v":0},{"$f":"SUMIF(BDD!$BC$2:$BC$685,\"Banc 128FAUXVRAIFAUXFAUXVRAI\",BDD!$V$2:$V$685)","v":0},{"$f":"SUMIF(BDD!$BC$2:$BC$685,\"Banc 128VRAIFAUXVRAIFAUXFAUX\",BDD!$V$2:$V$685)","v":0},{"$f":"SUMIF(BDD!$BC$2:$BC$685,\"Banc 128VRAIFAUXFAUXVRAIFAUX\",BDD!$V$2:$V$685)","v":0},{"$f":"SUMIF(BDD!$BC$2:$BC$685,\"Banc 128VRAIFAUXFAUXFAUXVRAI\",BDD!$V$2:$V$685)","v":0},{"$f":"SUMIF(BDD!$BC$2:$BC$685,\"Banc 128FAUXVRAIVRAIFAUXFAUX\",BDD!$V$2:$V$685)","v":11},{"$f":"SUMIF(BDD!$BC$2:$BC$685,\"Banc 128FAUXVRAIFAUXVRAIFAUX\",BDD!$V$2:$V$685)","v":0},{"$f":"SUMIF(BDD!$BC$2:$BC$685,\"Banc 128FAUXVRAIFAUXFAUXVRAI\",BDD!$V$2:$V$685)","v":0},{"$f":"SUMIF(BDD!$BC$2:$BC$685,\"Banc 128VRAIFAUXVRAIFAUXFAUX\",BDD!$V$2:$V$685)","v":0},{"$f":"SUMIF(BDD!$BC$2:$BC$685,\"Banc 128VRAIFAUXFAUXVRAIFAUX\",BDD!$V$2:$V$685)","v":0},{"$f":"SUMIF(BDD!$BC$2:$BC$685,\"Banc 128VRAIFAUXFAUXFAUXVRAI\",BDD!$V$2:$V$685)","v":0},{"$f":"SUMIF(BDD!$BC$2:$BC$685,\"Banc 128FAUXVRAIVRAIFAUXFAUX\",BDD!$V$2:$V$685)","v":11},{"$f":"SUMIF(BDD!$BC$2:$BC$685,\"Banc 128FAUXVRAIFAUXVRAIFAUX\",BDD!$V$2:$V$685)","v":0},{"$f":"SUMIF(BDD!$BC$2:$BC$685,\"Banc 128FAUXVRAIFAUXFAUXVRAI\",BDD!$V$2:$V$685)","v":0},{"$f":"SUMIF(BDD!$BC$2:$BC$685,\"Banc 128VRAIFAUXVRAIFAUXFAUX\",BDD!$V$2:$V$685)","v":0},{"$f":"SUMIF(BDD!$BC$2:$BC$685,\"Banc 128VRAIFAUXFAUXVRAIFAUX\",BDD!$V$2:$V$685)","v":0},{"$f":"SUMIF(BDD!$BC$2:$BC$685,\"Banc 128VRAIFAUXFAUXFAUXVRAI\",BDD!$V$2:$V$685)","v":0},{"$f":"SUMIF(BDD!$BC$2:$BC$685,\"Banc 128FAUXVRAIVRAIFAUXFAUX\",BDD!$V$2:$V$685)","v":11},{"$f":"SUMIF(BDD!$BC$2:$BC$685,\"Banc 128FAUXVRAIFAUXVRAIFAUX\",BDD!$V$2:$V$685)","v":0},{"$f":"SUMIF(BDD!$BC$2:$BC$685,\"Banc 128FAUXVRAIFAUXFAUXVRAI\",BDD!$V$2:$V$685)","v":0}]
["Banc 131",{"$f":"SUMIF(BDD!$BC$2:$BC$685,\"Banc 131VRAIFAUXVRAIFAUXFAUX\",BDD!$V$2:$V$685)","v":0},{"$f":"SUMIF(BDD!$BC$2:$BC$685,\"Banc 131VRAIFAUXFAUXVRAIFAUX\",BDD!$V$2:$V$685)","v":0},{"$f":"SUMIF(BDD!$BC$2:$BC$685,\"Banc 131VRAIFAUXFAUXFAUXVRAI\",BDD!$V$2:$V$685)","v":0},{"$f":"SUMIF(BDD!$BC$2:$BC$685,\"Banc 131FAUXVRAIVRAIFAUXFAUX\",BDD!$V$2:$V$685)","v":0},{"$f":"SUMIF(BDD!$BC$2:$BC$685,\"Banc 131FAUXVRAIFAUXVRAIFAUX\",BDD!$V$2:$V$685)","v":0},{"$f":"SUMIF(BDD!$BC$2:$BC$685,\"Banc 131FAUXVRAIFAUXFAUXVRAI\",BDD!$V$2:$V$685)","v":0},{"$f":"SUMIF(BDD!$BC$2:$BC$685,\"Banc 131VRAIFAUXVRAIFAUXFAUX\",BDD!$V$2:$V$685)","v":0},{"$f":"SUMIF(BDD!$BC$2:$BC$685,\"Banc 131VRAIFAUXFAUXVRAIFAUX\",BDD!$V$2:$V$685)","v":0},{"$f":"SUMIF(BDD!$BC$2:$BC$685,\"Banc 131VRAIFAUXFAUXFAUXVRAI\",BDD!$V$2:$V$685)","v":0},{"$f":"SUMIF(BDD!$BC$2:$BC$685,\"Banc 131FAUXVRAIVRAIFAUXFAUX\",BDD!$V$2:$V$685)","v":0},{"$f":"SUMIF(BDD!$BC$2:$BC$685,\"Banc 131FAUXVRAIFAUXVRAIFAUX\",BDD!$V$2:$V$685)","v":0},{"$f":"SUMIF(BDD!$BC$2:$BC$685,\"Banc 131FAUXVRAIFAUXFAUXVRAI\",BDD!$V$2:$V$685)","v":0},{"$f":"SUMIF(BDD!$BC$2:$BC$685,\"Banc 131VRAIFAUXVRAIFAUXFAUX\",BDD!$V$2:$V$685)","v":0},{"$f":"SUMIF(BDD!$BC$2:$BC$685,\"Banc 131VRAIFAUXFAUXVRAIFAUX\",BDD!$V$2:$V$685)","v":0},{"$f":"SUMIF(BDD!$BC$2:$BC$685,\"Banc 131VRAIFAUXFAUXFAUXVRAI\",BDD!$V$2:$V$685)","v":0},{"$f":"SUMIF(BDD!$BC$2:$BC$685,\"Banc 131FAUXVRAIVRAIFAUXFAUX\",BDD!$V$2:$V$685)","v":0},{"$f":"SUMIF(BDD!$BC$2:$BC$685,\"Banc 131FAUXVRAIFAUXVRAIFAUX\",BDD!$V$2:$V$685)","v":0},{"$f":"SUMIF(BDD!$BC$2:$BC$685,\"Banc 131FAUXVRAIFAUXFAUXVRAI\",BDD!$V$2:$V$685)","v":0},{"$f":"SUMIF(BDD!$BC$2:$BC$685,\"Banc 131VRAIFAUXVRAIFAUXFAUX\",BDD!$V$2:$V$685)","v":0},{"$f":"SUMIF(BDD!$BC$2:$BC$685,\"Banc 131VRAIFAUXFAUXVRAIFAUX\",BDD!$V$2:$V$685)","v":0},{"$f":"SUMIF(BDD!$BC$2:$BC$685,\"Banc 131VRAIFAUXFAUXFAUXVRAI\",BDD!$V$2:$V$685)","v":0},{"$f":"SUMIF(BDD!$BC$2:$BC$685,\"Banc 131FAUXVRAIVRAIFAUXFAUX\",BDD!$V$2:$V$685)","v":0},{"$f":"SUMIF(BDD!$BC$2:$BC$685,\"Banc 131FAUXVRAIFAUXVRAIFAUX\",BDD!$V$2:$V$685)","v":0},{"$f":"SUMIF(BDD!$BC$2:$BC$685,\"Banc 131FAUXVRAIFAUXFAUXVRAI\",BDD!$V$2:$V$685)","v":0},{"$f":"SUMIF(BDD!$BC$2:$BC$685,\"Banc 131VRAIFAUXVRAIFAUXFAUX\",BDD!$V$2:$V$685)","v":0},{"$f":"SUMIF(BDD!$BC$2:$BC$685,\"Banc 131VRAIFAUXFAUXVRAIFAUX\",BDD!$V$2:$V$685)","v":0},{"$f":"SUMIF(BDD!$BC$2:$BC$685,\"Banc 131VRAIFAUXFAUXFAUXVRAI\",BDD!$V$2:$V$685)","v":0},{"$f":"SUMIF(BDD!$BC$2:$BC$685,\"Banc 131FAUXVRAIVRAIFAUXFAUX\",BDD!$V$2:$V$685)","v":0},{"$f":"SUMIF(BDD!$BC$2:$BC$685,\"Banc 131FAUXVRAIFAUXVRAIFAUX\",BDD!$V$2:$V$685)","v":0},{"$f":"SUMIF(BDD!$BC$2:$BC$685,\"Banc 131FAUXVRAIFAUXFAUXVRAI\",BDD!$V$2:$V$685)","v":0},{"$f":"SUMIF(BDD!$BC$2:$BC$685,\"Banc 131VRAIFAUXVRAIFAUXFAUX\",BDD!$V$2:$V$685)","v":0},{"$f":"SUMIF(BDD!$BC$2:$BC$685,\"Banc 131VRAIFAUXFAUXVRAIFAUX\",BDD!$V$2:$V$685)","v":0},{"$f":"SUMIF(BDD!$BC$2:$BC$685,\"Banc 131VRAIFAUXFAUXFAUXVRAI\",BDD!$V$2:$V$685)","v":0},{"$f":"SUMIF(BDD!$BC$2:$BC$685,\"Banc 131FAUXVRAIVRAIFAUXFAUX\",BDD!$V$2:$V$685)","v":0},{"$f":"SUMIF(BDD!$BC$2:$BC$685,\"Banc 131FAUXVRAIFAUXVRAIFAUX\",BDD!$V$2:$V$685)","v":0},{"$f":"SUMIF(BDD!$BC$2:$BC$685,\"Banc 131FAUXVRAIFAUXFAUXVRAI\",BDD!$V$2:$V$685)","v":0},{"$f":"SUMIF(BDD!$BC$2:$BC$685,\"Banc 131VRAIFAUXVRAIFAUXFAUX\",BDD!$V$2:$V$685)","v":0},{"$f":"SUMIF(BDD!$BC$2:$BC$685,\"Banc 131VRAIFAUXFAUXVRAIFAUX\",BDD!$V$2:$V$685)","v":0},{"$f":"SUMIF(BDD!$BC$2:$BC$685,\"Banc 131VRAIFAUXFAUXFAUXVRAI\",BDD!$V$2:$V$685)","v":0},{"$f":"SUMIF(BDD!$BC$2:$BC$685,\"Banc 131FAUXVRAIVRAIFAUXFAUX\",BDD!$V$2:$V$685)","v":0},{"$f":"SUMIF(BDD!$BC$2:$BC$685,\"Banc 131FAUXVRAIFAUXVRAIFAUX\",BDD!$V$2:$V$685)","v":0},{"$f":"SUMIF(BDD!$BC$2:$BC$685,\"Banc 131FAUXVRAIFAUXFAUXVRAI\",BDD!$V$2:$V$685)","v":0},{"$f":"SUMIF(BDD!$BC$2:$BC$685,\"Banc 131VRAIFAUXVRAIFAUXFAUX\",BDD!$V$2:$V$685)","v":0},{"$f":"SUMIF(BDD!$BC$2:$BC$685,\"Banc 131VRAIFAUXFAUXVRAIFAUX\",BDD!$V$2:$V$685)","v":0},{"$f":"SUMIF(BDD!$BC$2:$BC$685,\"Banc 131VRAIFAUXFAUXFAUXVRAI\",BDD!$V$2:$V$685)","v":0},{"$f":"SUMIF(BDD!$BC$2:$BC$685,\"Banc 131FAUXVRAIVRAIFAUXFAUX\",BDD!$V$2:$V$685)","v":0},{"$f":"SUMIF(BDD!$BC$2:$BC$685,\"Banc 131FAUXVRAIFAUXVRAIFAUX\",BDD!$V$2:$V$685)","v":0},{"$f":"SUMIF(BDD!$BC$2:$BC$685,\"Banc 131FAUXVRAIFAUXFAUXVRAI\",BDD!$V$2:$V$685)","v":0},{"$f":"SUMIF(BDD!$BC$2:$BC$685,\"Banc 131VRAIFAUXVRAIFAUXFAUX\",BDD!$V$2:$V$685)","v":0},{"$f":"SUMIF(BDD!$BC$2:$BC$685,\"Banc 131VRAIFAUXFAUXVRAIFAUX\",BDD!$V$2:$V$685)","v":0},{"$f":"SUMIF(BDD!$BC$2:$BC$685,\"Banc 131VRAIFAUXFAUXFAUXVRAI\",BDD!$V$2:$V$685)","v":0},{"$f":"SUMIF(BDD!$BC$2:$BC$685,\"Banc 131FAUXVRAIVRAIFAUXFAUX\",BDD!$V$2:$V$685)","v":0},{"$f":"SUMIF(BDD!$BC$2:$BC$685,\"Banc 131FAUXVRAIFAUXVRAIFAUX\",BDD!$V$2:$V$685)","v":0},{"$f":"SUMIF(BDD!$BC$2:$BC$685,\"Banc 131FAUXVRAIFAUXFAUXVRAI\",BDD!$V$2:$V$685)","v":0},{"$f":"SUMIF(BDD!$BC$2:$BC$685,\"Banc 131VRAIFAUXVRAIFAUXFAUX\",BDD!$V$2:$V$685)","v":0},{"$f":"SUMIF(BDD!$BC$2:$BC$685,\"Banc 131VRAIFAUXFAUXVRAIFAUX\",BDD!$V$2:$V$685)","v":0},{"$f":"SUMIF(BDD!$BC$2:$BC$685,\"Banc 131VRAIFAUXFAUXFAUXVRAI\",BDD!$V$2:$V$685)","v":0},{"$f":"SUMIF(BDD!$BC$2:$BC$685,\"Banc 131FAUXVRAIVRAIFAUXFAUX\",BDD!$V$2:$V$685)","v":0},{"$f":"SUMIF(BDD!$BC$2:$BC$685,\"Banc 131FAUXVRAIFAUXVRAIFAUX\",BDD!$V$2:$V$685)","v":0},{"$f":"SUMIF(BDD!$BC$2:$BC$685,\"Banc 131FAUXVRAIFAUXFAUXVRAI\",BDD!$V$2:$V$685)","v":0},{"$f":"SUMIF(BDD!$BC$2:$BC$685,\"Banc 131VRAIFAUXVRAIFAUXFAUX\",BDD!$V$2:$V$685)","v":0},{"$f":"SUMIF(BDD!$BC$2:$BC$685,\"Banc 131VRAIFAUXFAUXVRAIFAUX\",BDD!$V$2:$V$685)","v":0},{"$f":"SUMIF(BDD!$BC$2:$BC$685,\"Banc 131VRAIFAUXFAUXFAUXVRAI\",BDD!$V$2:$V$685)","v":0},{"$f":"SUMIF(BDD!$BC$2:$BC$685,\"Banc 131FAUXVRAIVRAIFAUXFAUX\",BDD!$V$2:$V$685)","v":0},{"$f":"SUMIF(BDD!$BC$2:$BC$685,\"Banc 131FAUXVRAIFAUXVRAIFAUX\",BDD!$V$2:$V$685)","v":0},{"$f":"SUMIF(BDD!$BC$2:$BC$685,\"Banc 131FAUXVRAIFAUXFAUXVRAI\",BDD!$V$2:$V$685)","v":0},{"$f":"SUMIF(BDD!$BC$2:$BC$685,\"Banc 131VRAIFAUXVRAIFAUXFAUX\",BDD!$V$2:$V$685)","v":0},{"$f":"SUMIF(BDD!$BC$2:$BC$685,\"Banc 131VRAIFAUXFAUXVRAIFAUX\",BDD!$V$2:$V$685)","v":0},{"$f":"SUMIF(BDD!$BC$2:$BC$685,\"Banc 131VRAIFAUXFAUXFAUXVRAI\",BDD!$V$2:$V$685)","v":0},{"$f":"SUMIF(BDD!$BC$2:$BC$685,\"Banc 131FAUXVRAIVRAIFAUXFAUX\",BDD!$V$2:$V$685)","v":0},{"$f":"SUMIF(BDD!$BC$2:$BC$685,\"Banc 131FAUXVRAIFAUXVRAIFAUX\",BDD!$V$2:$V$685)","v":0},{"$f":"SUMIF(BDD!$BC$2:$BC$685,\"Banc 131FAUXVRAIFAUXFAUXVRAI\",BDD!$V$2:$V$685)","v":0}]

{"sheet":"Indicateur Banc","index":8,"n_rows":8,"n_cols":13,"rows_kept":8,"cut":false,"hidden":false,"merged":[[2,1,2,12],[4,1,4,12],[6,1,6,12]]}
[]
[]
[null,"Suivi du correctif et du préventif"]
["Type de maintenance","Janvier","Février","Mars","Avril","Mai","Juin","Juillet","Août","Septembre","Octobre","Novembre","Décembre"]
[null,"Préventive"]
[true,{"$f":"SUMIF(BDD!$M$2:$M$685,'Indicateur Banc'!$A$6,BDD!$V$2:$V$685)","v":547},{"$f":"SUMIF(BDD!$M$2:$M$685,'Indicateur Banc'!$A$6,BDD!$V$2:$V$685)","v":547},{"$f":"SUMIF(BDD!$M$2:$M$685,'Indicateur Banc'!$A$6,BDD!$V$2:$V$685)","v":547},{"$f":"SUMIF(BDD!$M$2:$M$685,'Indicateur Banc'!$A$6,BDD!$V$2:$V$685)","v":547},{"$f":"SUMIF(BDD!$M$2:$M$685,'Indicateur Banc'!$A$6,BDD!$V$2:$V$685)","v":547},{"$f":"SUMIF(BDD!$M$2:$M$685,'Indicateur Banc'!$A$6,BDD!$V$2:$V$685)","v":547},{"$f":"SUMIF(BDD!$M$2:$M$685,'Indicateur Banc'!$A$6,BDD!$V$2:$V$685)","v":547},{"$f":"SUMIF(BDD!$M$2:$M$685,'Indicateur Banc'!$A$6,BDD!$V$2:$V$685)","v":547},{"$f":"SUMIF(BDD!$M$2:$M$685,'Indicateur Banc'!$A$6,BDD!$V$2:$V$685)","v":547},{"$f":"SUMIF(BDD!$M$2:$M$685,'Indicateur Banc'!$A$6,BDD!$V$2:$V$685)","v":547},{"$f":"SUMIF(BDD!$M$2:$M$685,'Indicateur Banc'!$A$6,BDD!$V$2:$V$685)","v":547},{"$f":"SUMIF(BDD!$M$2:$M$685,'Indicateur Banc'!$A$6,BDD!$V$2:$V$685)","v":547}]
[null,"Corrective"]
[true,{"$f":"SUMIF(BDD!$L$2:$L$685,'Indicateur Banc'!$A$8,BDD!$V$2:$V$685)","v":499},{"$f":"SUMIF(BDD!$L$2:$L$685,'Indicateur Banc'!$A$8,BDD!$V$2:$V$685)","v":499},{"$f":"SUMIF(BDD!$L$2:$L$685,'Indicateur Banc'!$A$8,BDD!$V$2:$V$685)","v":499},{"$f":"SUMIF(BDD!$L$2:$L$685,'Indicateur Banc'!$A$8,BDD!$V$2:$V$685)","v":499},{"$f":"SUMIF(BDD!$L$2:$L$685,'Indicateur Banc'!$A$8,BDD!$V$2:$V$685)","v":499},{"$f":"SUMIF(BDD!$L$2:$L$685,'Indicateur Banc'!$A$8,BDD!$V$2:$V$685)","v":499},{"$f":"SUMIF(BDD!$L$2:$L$685,'Indicateur Banc'!$A$8,BDD!$V$2:$V$685)","v":499},{"$f":"SUMIF(BDD!$L$2:$L$685,'Indicateur Banc'!$A$8,BDD!$V$2:$V$685)","v":499},{"$f":"SUMIF(BDD!$L$2:$L$685,'Indicateur Banc'!$A$8,BDD!$V$2:$V$685)","v":499},{"$f":"SUMIF(BDD!$L$2:$L$685,'Indicateur Banc'!$A$8,BDD!$V$2:$V$685)","v":499},{"$f":"SUMIF(BDD!$L$2:$L$685,'Indicateur Banc'!$A$8,BDD!$V$2:$V$685)","v":499},{"$f":"SUMIF(BDD!$L$2:$L$685,'Indicateur Banc'!$A$8,BDD!$V$2:$V$685)","v":499}]