{"text_format":"1","workbook":"xlsx","n_sheets":9,"sheets":["Fiche d'intervention","BDD","Liste","Indicateur Zone5","Indicateur Zone6","Indicateur Zone8","Indicateur Zone9","Indicateur Zone10","Indicateur Banc"],"not_rendered":{"charts":21,"images":1,"macros":1,"external_links":0,"defined_names":3,"comments":0,"pivot_tables":0},"unopened":[],"bounds":{"document_bytes":16777216,"sheet_cells":100000,"rows_first":2000,"rows_last":500,"rows_between":2000,"halvings":0,"cell_chars":16384,"cell_head_chars":4096},"cells_cut":0,"cells_raw":0,"read":"whole","date_system":"1900"}

{"sheet":"Fiche d'intervention","index":0,"n_rows":51,"n_cols":14,"rows_kept":51,"cut":false,"hidden":true,"merged":[[55,2,55,6],[50,2,50,6],[52,2,52,6],[51,2,51,6],[54,2,54,6],[53,2,53,6],[12,10,14,13],[14,2,14,5],[12,6,12,7],[8,8,8,11],[8,12,8,13],[11,2,11,5],[9,3,9,7],[12,3,12,5],[13,3,13,5],[13,6,13,7],[6,2,7,13],[0,13,4,13],[0,5,4,12],[8,2,8,7],[10,2,10,7],[55,11,55,13],[54,11,54,13],[53,11,53,13],[52,11,52,13],[55,7,55,10],[54,7,54,10],[53,7,53,10],[52,7,52,10],[33,12,38,13],[32,2,38,11],[50,7,50,10],[51,7,51,10],[50,11,50,13],[51,11,51,13],[48,2,49,13],[39,2,40,13],[41,2,47,13],[32,12,32,13],[30,2,31,13],[26,8,26,9],[26,2,26,4],[27,2,27,4],[28,2,28,4],[27,8,27,9],[28,8,28,9],[26,6,26,7],[27,6,27,7],[28,6,28,7],[29,6,29,7],[29,2,29,4],[28,10,28,12],[29,10,29,12],[26,10,26,12],[27,10,27,12],[56,2,56,6],[56,7,56,10],[56,11,56,13],[60,2,60,6],[60,7,60,10],[60,11,60,13],[57,2,57,6],[57,7,57,10],[57,11,57,13],[58,2,58,6],[58,7,58,10],[58,11,58,13],[59,2,59,6],[59,7,59,10],[59,11,59,13],[1,15,9,17],[29,8,29,9],[9,8,10,11],[9,12,10,13],[11,10,11,13],[11,6,11,9],[14,6,14,7],[12,8,12,9],[13,8,13,9],[14,8,14,9],[17,2,17,13],[18,2,23,13],[15,2,16,13],[24,2,25,5],[24,6,25,9],[24,10,25,13]]}
[null,null,null,null,null,"FICHE D'INTERVENTION MAINTENANCE",null,null,null,null,null,null,null,"FI7"]
[]
[]
[]
[]
[]
[null,null,"Compte-rendu d'intervention"]
[]
[null,null,"Demandeur*",null,null,null,null,null,"Système*",null,null,null,"Compteur machine*"]
[null,null,"Nom:","C.GAUVIN",null,null,null,null,"Banc 126",null,null,null,9316]
[]
[null,null,"Intervenant(s)",null,null,null,"Priorité",null,null,null,"Date"]
[null,null,"Nom :","A.DELAUNAY",null,null,1,null,true,null,"2016-03-18"]
[null,null,"Nom :",null,null,null,2,null,false]
[null,null,"Secteur Maintenance",null,null,null,3,true,false]
[null,null,"Localisation de l'intervention"]
[]
[null,null,"Description du dysfonctionnement*"]
[null,null,"TLC_RPP-516-941 prog automate + câblage bobines voir Jonathan BARRA - Chronogramme dans la TLC"]
[]
[]
[]
[]
[]
[null,null,"Type de maintenance",null,null,null,"Type de défaillance",null,null,null,"Cause de défaillance"]
[]
[null,null,"Corrective",null,null,false,"Electrique",null,true,null,"Usure normale",null,null,false]
[null,null,"Préventive",null,null,true,"Mécanique",null,false,null,"Défaut utilisateur",null,null,false]
[null,null,null,null,null,null,"Hydraulique",null,false,null,"Défaut produit",null,null,false]
[null,null,null,null,null,null,null,null,null,null,"Autre",null,null,true]
[null,null,"Cause lié à la défaillance"]
[]
[null,null,null,null,null,null,null,null,null,null,null,null,"Temps d'intervention"]
[]
[]
[]
[]
[]
[]
[null,null,"Rapport d'intervention"]
[]
[]
[]
[]
[]
[]
[]
[]
[null,null,"Pièces de rechange et consommables"]
[]
[null,null,"Désignation",null,null,null,null,"Marque / Référence",null,null,null,"Quantité"]

{"sheet":"BDD","index":1,"n_rows":458,"n_cols":55,"rows_kept":458,"cut":false,"hidden":true,"merged":[[0,23,0,32],[0,33,0,42],[0,43,0,52],[0,4,0,6]]}
["N° intervention","Demandeur","Nom Intervenant","Nom intervenant ","Priorité                                            1                    2                   3",null,null,"Systéme","Compteur machine","Date","Description du dysfonctionnement","Corrective","Préventive","Electrique","Mécanique","Hydraulique","Usure normale","Défaut utilisateur","Défaut produit","Autre","Cause lié à la défaillance","Temps d'intervention","Rapport d'intervention","Désignation",null,null,null,null,null,null,null,null,null,"Marque / Référence",null,null,null,null,null,null,null,null,null,"Quantité",null,null,null,null,null,null,null,null,null,"Formule","Formule"]
["FI1","Dehan",null,null,false,false,false,"Banc P7",1234,"2016-03-17","Pompe HS",false,false,false,false,false,false,false,false]
["FI2","Dehan",null,null,false,false,false,"Banc P7",1234,"2016-03-17","Pompe HS",false,false,false,false,false,false,false,false,null,null,null,null,null,null,null,null,null,null,null,null,null,null,null,null,null,null,null,null,null,null,null,null,null,null,null,null,null,null,null,null,null,null,{"$f":"H3&L3&M3","v":"Banc P7FAUXFAUX"},{"$f":"H3&L3&M3&N3&O3&P3","v":"Banc P7FAUXFAUXFAUXFAUXFAUX"}]
["FI3","DEHAN","David",null,false,true,false,"Banc PowerTrain",1234,"2016-03-17","moteur électrique ne démarre pas ",true,false,true,false,false,false,false,false,true,null,null,null,null,null,null,null,null,null,null,null,null,null,null,null,null,null,null,null,null,null,null,null,null,null,null,null,null,null,null,null,null,null,"Banc PowerTrainVRAIFAUX","Banc PowerTrainVRAIFAUXVRAIFAUXFAUX"]
["FI4","DEHAN","DEHAN",null,false,true,false,"Banc P7",1234,"2016-03-18","le moteur électrique ne démarre pas ",true,false,true,false,false,false,true,false,false,"MAUVAISE UTILISATION",1,"REARMEMENT DU VARIATEUR",null,null,null,null,null,null,null,null,null,null,null,null,null,null,null,null,null,null,null,null,null,null,null,null,null,null,null,null,null,null,"Banc P7VRAIFAUX","Banc P7VRAIFAUXVRAIFAUXFAUX"]
["FI5","GAUVIN",null,null,false,false,false,"Banc P1",1357,"2016-03-18","PB SUR TARAGE SOUPAPE",false,false,false,false,false,false,false,false,false,null,null,null,null,null,null,null,null,null,null,null,null,null,null,null,null,null,null,null,null,null,null,null,null,null,null,null,null,null,null,null,null,null,"Banc P1FAUXFAUX","Banc P1FAUXFAUXFAUXFAUXFAUX"]
["FI6","GUILLAUME SEBASTIEN","HEMART",null,true,false,false,"Banc 128",1234,"2016-03-18","Problème sur limiteur de pression Ligne M",true,false,false,false,true,false,false,true,false,"Pollution",1,"DEMONTAGE NETTOYAGE ET REMONTAGE DU LIMIEUR DE PRESSION",null,null,null,null,null,null,null,null,null,null,null,null,null,null,null,null,null,null,null,null,null,null,null,null,null,null,null,null,null,null,"Banc 128VRAIFAUX","Banc 128VRAIFAUXFAUXFAUXVRAI"]
["FI7","C.GAUVIN","A.DELAUNAY",null,true,false,false,"Banc 126",9316,"2016-03-18","TLC_RPP-516-941 prog automate + câblage bobines voir Jonathan BARRA - Chronogramme dans la TLC",false,true,true,false,false,false,false,false,true,null,null,null,null,null,null,null,null,null,null,null,null,null,null,null,null,null,null,null,null,null,null,null,null,null,null,null,null,null,null,null,null,null,"Banc 126FAUXVRAI","Banc 126FAUXVRAIVRAIFAUXFAUX"]
[null,null,null,null,null,null,null,null,null,null,null,null,null,null,null,null,null,null,null,null,null,null,null,null,null,null,null,null,null,null,null,null,null,null,null,null,null,null,null,null,null,null,null,null,null,null,null,null,null,null,null,null,null,"",""]
[null,null,null,null,null,null,null,null,null,null,null,null,null,null,null,null,null,null,null,null,null,null,null,null,null,null,null,null,null,null,null,null,null,null,null,null,null,null,null,null,null,null,null,null,null,null,null,null,null,null,null,null,null,"",""]
[null,null,null,null,null,null,null,null,null,null,null,null,null,null,null,null,null,null,null,null,null,null,null,null,null,null,null,null,null,null,null,null,null,null,null,null,null,null,null,null,null,null,null,null,null,null,null,null,null,null,null,null,null,"",""]
[null,null,null,null,null,null,null,null,null,null,null,null,null,null,null,null,null,null,null,null,null,null,null,null,null,null,null,null,null,null,null,null,null,null,null,null,null,null,null,null,null,null,null,null,null,null,null,null,null,null,null,null,null,"",""]
[null,null,null,null,null,null,null,null,null,null,null,null,null,null,null,null,null,null,null,null,null,null,null,null,null,null,null,null,null,null,null,null,null,null,null,null,null,null,null,null,null,null,null,null,null,null,null,null,null,null,null,null,null,"",""]
[null,null,null,null,null,null,null,null,null,null,null,null,null,null,null,null,null,null,null,null,null,null,null,null,null,null,null,null,null,null,null,null,null,null,null,null,null,null,null,null,null,null,null,null,null,null,null,null,null,null,null,null,null,"",""]
[null,null,null,null,null,null,null,null,null,null,null,null,null,null,null,null,null,null,null,null,null,null,null,null,null,null,null,null,null,null,null,null,null,null,null,null,null,null,null,null,null,null,null,null,null,null,null,null,null,null,null,null,null,"",""]
[null,null,null,null,null,null,null,null,null,null,null,null,null,null,null,null,null,null,null,null,null,null,null,null,null,null,null,null,null,null,null,null,null,null,null,null,null,null,null,null,null,null,null,null,null,null,null,null,null,null,null,null,null,"",""]
[null,null,null,null,null,null,null,null,null,null,null,null,null,null,null,null,null,null,null,null,null,null,null,null,null,null,null,null,null,null,null,null,null,null,null,null,null,null,null,null,null,null,null,null,null,null,null,null,null,null,null,null,null,"",""]
[null,null,null,null,null,null,null,null,null,null,null,null,null,null,null,null,null,null,null,null,null,null,null,null,null,null,null,null,null,null,null,null,null,null,null,null,null,null,null,null,null,null,null,null,null,null,null,null,null,null,null,null,null,"",""]
[null,null,null,null,null,null,null,null,null,null,null,null,null,null,null,null,null,null,null,null,null,null,null,null,null,null,null,null,null,null,null,null,null,null,null,null,null,null,null,null,null,null,null,null,null,null,null,null,null,null,null,null,null,"",""]
[null,null,null,null,null,null,null,null,null,null,null,null,null,null,null,null,null,null,null,null,null,null,null,null,null,null,null,null,null,null,null,null,null,null,null,null,null,null,null,null,null,null,null,null,null,null,null,null,null,null,null,null,null,"",""]
[null,null,null,null,null,null,null,null,null,null,null,null,null,null,null,null,null,null,null,null,null,null,null,null,null,null,null,null,null,null,null,null,null,null,null,null,null,null,null,null,null,null,null,null,null,null,null,null,null,null,null,null,null,"",""]
[null,null,null,null,null,null,null,null,null,null,null,null,null,null,null,null,null,null,null,null,null,null,null,null,null,null,null,null,null,null,null,null,null,null,null,null,null,null,null,null,null,null,null,null,null,null,null,null,null,null,null,null,null,"",""]
[null,null,null,null,null,null,null,null,null,null,null,null,null,null,null,null,null,null,null,null,null,null,null,null,null,null,null,null,null,null,null,null,null,null,null,null,null,null,null,null,null,null,null,null,null,null,null,null,null,null,null,null,null,"",""]
[null,null,null,null,null,null,null,null,null,null,null,null,null,null,null,null,null,null,null,null,null,null,null,null,null,null,null,null,null,null,null,null,null,null,null,null,null,null,null,null,null,null,null,null,null,null,null,null,null,null,null,null,null,"",""]
[null,null,null,null,null,null,null,null,null,null,null,null,null,null,null,null,null,null,null,null,null,null,null,null,null,null,null,null,null,null,null,null,null,null,null,null,null,null,null,null,null,null,null,null,null,null,null,null,null,null,null,null,null,"",""]
[null,null,null,null,null,null,null,null,null,null,null,null,null,null,null,null,null,null,null,null,null,null,null,null,null,null,null,null,null,null,null,null,null,null,null,null,null,null,null,null,null,null,null,null,null,null,null,null,null,null,null,null,null,"",""]
[null,null,null,null,null,null,null,null,null,null,null,null,null,null,null,null,null,null,null,null,null,null,null,null,null,null,null,null,null,null,null,null,null,null,null,null,null,null,null,null,null,null,null,null,null,null,null,null,null,null,null,null,null,"",""]
[null,null,null,null,null,null,null,null,null,null,null,null,null,null,null,null,null,null,null,null,null,null,null,null,null,null,null,null,null,null,null,null,null,null,null,null,null,null,null,null,null,null,null,null,null,null,null,null,null,null,null,null,null,"",""]
[null,null,null,null,null,null,null,null,null,null,null,null,null,null,null,null,null,null,null,null,null,null,null,null,null,null,null,null,null,null,null,null,null,null,null,null,null,null,null,null,null,null,null,null,null,null,null,null,null,null,null,null,null,"",""]
[null,null,null,null,null,null,null,null,null,null,null,null,null,null,null,null,null,null,null,null,null,null,null,null,null,null,null,null,null,null,null,null,null,null,null,null,null,null,null,null,null,null,null,null,null,null,null,null,null,null,null,null,null,"",""]
[null,null,null,null,null,null,null,null,null,null,null,null,null,null,null,null,null,null,null,null,null,null,null,null,null,null,null,null,null,null,null,null,null,null,null,null,null,null,null,null,null,null,null,null,null,null,null,null,null,null,null,null,null,"",""]
[null,null,null,null,null,null,null,null,null,null,null,null,null,null,null,null,null,null,null,null,null,null,null,null,null,null,null,null,null,null,null,null,null,null,null,null,null,null,null,null,null,null,null,null,null,null,null,null,null,null,null,null,null,"",""]
[null,null,null,null,null,null,null,null,null,null,null,null,null,null,null,null,null,null,null,null,null,null,null,null,null,null,null,null,null,null,null,null,null,null,null,null,null,null,null,null,null,null,null,null,null,null,null,null,null,null,null,null,null,"",""]
[null,null,null,null,null,null,null,null,null,null,null,null,null,null,null,null,null,null,null,null,null,null,null,null,null,null,null,null,null,null,null,null,null,null,null,null,null,null,null,null,null,null,null,null,null,null,null,null,null,null,null,null,null,"",""]
[null,null,null,null,null,null,null,null,null,null,null,null,null,null,null,null,null,null,null,null,null,null,null,null,null,null,null,null,null,null,null,null,null,null,null,null,null,null,null,null,null,null,null,null,null,null,null,null,null,null,null,null,null,"",""]
[null,null,null,null,null,null,null,null,null,null,null,null,null,null,null,null,null,null,null,null,null,null,null,null,null,null,null,null,null,null,null,null,null,null,null,null,null,null,null,null,null,null,null,null,null,null,null,null,null,null,null,null,null,"",""]
[null,null,null,null,null,null,null,null,null,null,null,null,null,null,null,null,null,null,null,null,null,null,null,null,null,null,null,null,null,null,null,null,null,null,null,null,null,null,null,null,null,null,null,null,null,null,null,null,null,null,null,null,null,"",""]
[null,null,null,null,null,null,null,null,null,null,null,null,null,null,null,null,null,null,null,null,null,null,null,null,null,null,null,null,null,null,null,null,null,null,null,null,null,null,null,null,null,null,null,null,null,null,null,null,null,null,null,null,null,"",""]
[null,null,null,null,null,null,null,null,null,null,null,null,null,null,null,null,null,null,null,null,null,null,null,null,null,null,null,null,null,null,null,null,null,null,null,null,null,null,null,null,null,null,null,null,null,null,null,null,null,null,null,null,null,"",""]
[null,null,null,null,null,null,null,null,null,null,null,null,null,null,null,null,null,null,null,null,null,null,null,null,null,null,null,null,null,null,null,null,null,null,null,null,null,null,null,null,null,null,null,null,null,null,null,null,null,null,null,null,null,"",""]
[null,null,null,null,null,null,null,null,null,null,null,null,null,null,null,null,null,null,null,null,null,null,null,null,null,null,null,null,null,null,null,null,null,null,null,null,null,null,null,null,null,null,null,null,null,null,null,null,null,null,null,null,null,"",""]
[null,null,null,null,null,null,null,null,null,null,null,null,null,null,null,null,null,null,null,null,null,null,null,null,null,null,null,null,null,null,null,null,null,null,null,null,null,null,null,null,null,null,null,null,null,null,null,null,null,null,null,null,null,"",""]
[null,null,null,null,null,null,null,null,null,null,null,null,null,null,null,null,null,null,null,null,null,null,null,null,null,null,null,null,null,null,null,null,null,null,null,null,null,null,null,null,null,null,null,null,null,null,null,null,null,null,null,null,null,"",""]
[null,null,null,null,null,null,null,null,null,null,null,null,null,null,null,null,null,null,null,null,null,null,null,null,null,null,null,null,null,null,null,null,null,null,null,null,null,null,null,null,null,null,null,null,null,null,null,null,null,null,null,null,null,"",""]
[null,null,null,null,null,null,null,null,null,null,null,null,null,null,null,null,null,null,null,null,null,null,null,null,null,null,null,null,null,null,null,null,null,null,null,null,null,null,null,null,null,null,null,null,null,null,null,null,null,null,null,null,null,"",""]
[null,null,null,null,null,null,null,null,null,null,null,null,null,null,null,null,null,null,null,null,null,null,null,null,null,null,null,null,null,null,null,null,null,null,null,null,null,null,null,null,null,null,null,null,null,null,null,null,null,null,null,null,null,"",""]
[null,null,null,null,null,null,null,null,null,null,null,null,null,null,null,null,null,null,null,null,null,null,null,null,null,null,null,null,null,null,null,null,null,null,null,null,null,null,null,null,null,null,null,null,null,null,null,null,null,null,null,null,null,"",""]
[null,null,null,null,null,null,null,null,null,null,null,null,null,null,null,null,null,null,null,null,null,null,null,null,null,null,null,null,null,null,null,null,null,null,null,null,null,null,null,null,null,null,null,null,null,null,null,null,null,null,null,null,null,"",""]
[null,null,null,null,null,null,null,null,null,null,null,null,null,null,null,null,null,null,null,null,null,null,null,null,null,null,null,null,null,null,null,null,null,null,null,null,null,null,null,null,null,null,null,null,null,null,null,null,null,null,null,null,null,"",""]
[null,null,null,null,null,null,null,null,null,null,null,null,null,null,null,null,null,null,null,null,null,null,null,null,null,null,null,null,null,null,null,null,null,null,null,null,null,null,null,null,null,null,null,null,null,null,null,null,null,null,null,null,null,"",""]
[null,null,null,null,null,null,null,null,null,null,null,null,null,null,null,null,null,null,null,null,null,null,null,null,null,null,null,null,null,null,null,null,null,null,null,null,null,null,null,null,null,null,null,null,null,null,null,null,null,null,null,null,null,"",""]
[null,null,null,null,null,null,null,null,null,null,null,null,null,null,null,null,null,null,null,null,null,null,null,null,null,null,null,null,null,null,null,null,null,null,null,null,null,null,null,null,null,null,null,null,null,null,null,null,null,null,null,null,null,"",""]
[null,null,null,null,null,null,null,null,null,null,null,null,null,null,null,null,null,null,null,null,null,null,null,null,null,null,null,null,null,null,null,null,null,null,null,null,null,null,null,null,null,null,null,null,null,null,null,null,null,null,null,null,null,"",""]
[null,null,null,null,null,null,null,null,null,null,null,null,null,null,null,null,null,null,null,null,null,null,null,null,null,null,null,null,null,null,null,null,null,null,null,null,null,null,null,null,null,null,null,null,null,null,null,null,null,null,null,null,null,"",""]
[null,null,null,null,null,null,null,null,null,null,null,null,null,null,null,null,null,null,null,null,null,null,null,null,null,null,null,null,null,null,null,null,null,null,null,null,null,null,null,null,null,null,null,null,null,null,null,null,null,null,null,null,null,"",""]
[null,null,null,null,null,null,null,null,null,null,null,null,null,null,null,null,null,null,null,null,null,null,null,null,null,null,null,null,null,null,null,null,null,null,null,null,null,null,null,null,null,null,null,null,null,null,null,null,null,null,null,null,null,"",""]
[null,null,null,null,null,null,null,null,null,null,null,null,null,null,null,null,null,null,null,null,null,null,null,null,null,null,null,null,null,null,null,null,null,null,null,null,null,null,null,null,null,null,null,null,null,null,null,null,null,null,null,null,null,"",""]
[null,null,null,null,null,null,null,null,null,null,null,null,null,null,null,null,null,null,null,null,null,null,null,null,null,null,null,null,null,null,null,null,null,null,null,null,null,null,null,null,null,null,null,null,null,null,null,null,null,null,null,null,null,"",""]
[null,null,null,null,null,null,null,null,null,null,null,null,null,null,null,null,null,null,null,null,null,null,null,null,null,null,null,null,null,null,null,null,null,null,null,null,null,null,null,null,null,null,null,null,null,null,null,null,null,null,null,null,null,"",""]
[null,null,null,null,null,null,null,null,null,null,null,null,null,null,null,null,null,null,null,null,null,null,null,null,null,null,null,null,null,null,null,null,null,null,null,null,null,null,null,null,null,null,null,null,null,null,null,null,null,null,null,null,null,"",""]
[null,null,null,null,null,null,null,null,null,null,null,null,null,null,null,null,null,null,null,null,null,null,null,null,null,null,null,null,null,null,null,null,null,null,null,null,null,null,null,null,null,null,null,null,null,null,null,null,null,null,null,null,null,"",""]
[null,null,null,null,null,null,null,null,null,null,null,null,null,null,null,null,null,null,null,null,null,null,null,null,null,null,null,null,null,null,null,null,null,null,null,null,null,null,null,null,null,null,null,null,null,null,null,null,null,null,null,null,null,"",""]
[null,null,null,null,null,null,null,null,null,null,null,null,null,null,null,null,null,null,null,null,null,null,null,null,null,null,null,null,null,null,null,null,null,null,null,null,null,null,null,null,null,null,null,null,null,null,null,null,null,null,null,null,null,"",""]
[null,null,null,null,null,null,null,null,null,null,null,null,null,null,null,null,null,null,null,null,null,null,null,null,null,null,null,null,null,null,null,null,null,null,null,null,null,null,null,null,null,null,null,null,null,null,null,null,null,null,null,null,null,"",""]
[null,null,null,null,null,null,null,null,null,null,null,null,null,null,null,null,null,null,null,null,null,null,null,null,null,null,null,null,null,null,null,null,null,null,null,null,null,null,null,null,null,null,null,null,null,null,null,null,null,null,null,null,null,"",""]
[null,null,null,null,null,null,null,null,null,null,null,null,null,null,null,null,null,null,null,null,null,null,null,null,null,null,null,null,null,null,null,null,null,null,null,null,null,null,null,null,null,null,null,null,null,null,null,null,null,null,null,null,null,"",""]
[null,null,null,null,null,null,null,null,null,null,null,null,null,null,null,null,null,null,null,null,null,null,null,null,null,null,null,null,null,null,null,null,null,null,null,null,null,null,null,null,null,null,null,null,null,null,null,null,null,null,null,null,null,{"$f":"H67&L67&M67","v":""},{"$f":"H67&L67&M67&N67&O67&P67","v":""}]
[null,null,null,null,null,null,null,null,null,null,null,null,null,null,null,null,null,null,null,null,null,null,null,null,null,null,null,null,null,null,null,null,null,null,null,null,null,null,null,null,null,null,null,null,null,null,null,null,null,null,null,null,null,"",""]
[null,null,null,null,null,null,null,null,null,null,null,null,null,null,null,null,null,null,null,null,null,null,null,null,null,null,null,null,null,null,null,null,null,null,null,null,null,null,null,null,null,null,null,null,null,null,null,null,null,null,null,null,null,"",""]
[null,null,null,null,null,null,null,null,null,null,null,null,null,null,null,null,null,null,null,null,null,null,null,null,null,null,null,null,null,null,null,null,null,null,null,null,null,null,null,null,null,null,null,null,null,null,null,null,null,null,null,null,null,"",""]
[null,null,null,null,null,null,null,null,null,null,null,null,null,null,null,null,null,null,null,null,null,null,null,null,null,null,null,null,null,null,null,null,null,null,null,null,null,null,null,null,null,null,null,null,null,null,null,null,null,null,null,null,null,"",""]
[null,null,null,null,null,null,null,null,null,null,null,null,null,null,null,null,null,null,null,null,null,null,null,null,null,null,null,null,null,null,null,null,null,null,null,null,null,null,null,null,null,null,null,null,null,null,null,null,null,null,null,null,null,"",""]
[null,null,null,null,null,null,null,null,null,null,null,null,null,null,null,null,null,null,null,null,null,null,null,null,null,null,null,null,null,null,null,null,null,null,null,null,null,null,null,null,null,null,null,null,null,null,null,null,null,null,null,null,null,"",""]
[null,null,null,null,null,null,null,null,null,null,null,null,null,null,null,null,null,null,null,null,null,null,null,null,null,null,null,null,null,null,null,null,null,null,null,null,null,null,null,null,null,null,null,null,null,null,null,null,null,null,null,null,null,"",""]
[null,null,null,null,null,null,null,null,null,null,null,null,null,null,null,null,null,null,null,null,null,null,null,null,null,null,null,null,null,null,null,null,null,null,null,null,null,null,null,null,null,null,null,null,null,null,null,null,null,null,null,null,null,"",""]
[null,null,null,null,null,null,null,null,null,null,null,null,null,null,null,null,null,null,null,null,null,null,null,null,null,null,null,null,null,null,null,null,null,null,null,null,null,null,null,null,null,null,null,null,null,null,null,null,null,null,null,null,null,"",""]
[null,null,null,null,null,null,null,null,null,null,null,null,null,null,null,null,null,null,null,null,null,null,null,null,null,null,null,null,null,null,null,null,null,null,null,null,null,null,null,null,null,null,null,null,null,null,null,null,null,null,null,null,null,"",""]
[null,null,null,null,null,null,null,null,null,null,null,null,null,null,null,null,null,null,null,null,null,null,null,null,null,null,null,null,null,null,null,null,null,null,null,null,null,null,null,null,null,null,null,null,null,null,null,null,null,null,null,null,null,"",""]
[null,null,null,null,null,null,null,null,null,null,null,null,null,null,null,null,null,null,null,null,null,null,null,null,null,null,null,null,null,null,null,null,null,null,null,null,null,null,null,null,null,null,null,null,null,null,null,null,null,null,null,null,null,"",""]
[null,null,null,null,null,null,null,null,null,null,null,null,null,null,null,null,null,null,null,null,null,null,null,null,null,null,null,null,null,null,null,null,null,null,null,null,null,null,null,null,null,null,null,null,null,null,null,null,null,null,null,null,null,"",""]
[null,null,null,null,null,null,null,null,null,null,null,null,null,null,null,null,null,null,null,null,null,null,null,null,null,null,null,null,null,null,null,null,null,null,null,null,null,null,null,null,null,null,null,null,null,null,null,null,null,null,null,null,null,"",""]
[null,null,null,null,null,null,null,null,null,null,null,null,null,null,null,null,null,null,null,null,null,null,null,null,null,null,null,null,null,null,null,null,null,null,null,null,null,null,null,null,null,null,null,null,null,null,null,null,null,null,null,null,null,"",""]
[null,null,null,null,null,null,null,null,null,null,null,null,null,null,null,null,null,null,null,null,null,null,null,null,null,null,null,null,null,null,null,null,null,null,null,null,null,null,null,null,null,null,null,null,null,null,null,null,null,null,null,null,null,"",""]
[null,null,null,null,null,null,null,null,null,null,null,null,null,null,null,null,null,null,null,null,null,null,null,null,null,null,null,null,null,null,null,null,null,null,null,null,null,null,null,null,null,null,null,null,null,null,null,null,null,null,null,null,null,"",""]
[null,null,null,null,null,null,null,null,null,null,null,null,null,null,null,null,null,null,null,null,null,null,null,null,null,null,null,null,null,null,null,null,null,null,null,null,null,null,null,null,null,null,null,null,null,null,null,null,null,null,null,null,null,"",""]
[null,null,null,null,null,null,null,null,null,null,null,null,null,null,null,null,null,null,null,null,null,null,null,null,null,null,null,null,null,null,null,null,null,null,null,null,null,null,null,null,null,null,null,null,null,null,null,null,null,null,null,null,null,"",""]
[null,null,null,null,null,null,null,null,null,null,null,null,null,null,null,null,null,null,null,null,null,null,null,null,null,null,null,null,null,null,null,null,null,null,null,null,null,null,null,null,null,null,null,null,null,null,null,null,null,null,null,null,null,"",""]
[null,null,null,null,null,null,null,null,null,null,null,null,null,null,null,null,null,null,null,null,null,null,null,null,null,null,null,null,null,null,null,null,null,null,null,null,null,null,null,null,null,null,null,null,null,null,null,null,null,null,null,null,null,"",""]
[null,null,null,null,null,null,null,null,null,null,null,null,null,null,null,null,null,null,null,null,null,null,null,null,null,null,null,null,null,null,null,null,null,null,null,null,null,null,null,null,null,null,null,null,null,null,null,null,null,null,null,null,null,"",""]
[null,null,null,null,null,null,null,null,null,null,null,null,null,null,null,null,null,null,null,null,null,null,null,null,null,null,null,null,null,null,null,null,null,null,null,null,null,null,null,null,null,null,null,null,null,null,null,null,null,null,null,null,null,"",""]
[null,null,null,null,null,null,null,null,null,null,null,null,null,null,null,null,null,null,null,null,null,null,null,null,null,null,null,null,null,null,null,null,null,null,null,null,null,null,null,null,null,null,null,null,null,null,null,null,null,null,null,null,null,"",""]
[null,null,null,null,null,null,null,null,null,null,null,null,null,null,null,null,null,null,null,null,null,null,null,null,null,null,null,null,null,null,null,null,null,null,null,null,null,null,null,null,null,null,null,null,null,null,null,null,null,null,null,null,null,"",""]
[null,null,null,null,null,null,null,null,null,null,null,null,null,null,null,null,null,null,null,null,null,null,null,null,null,null,null,null,null,null,null,null,null,null,null,null,null,null,null,null,null,null,null,null,null,null,null,null,null,null,null,null,null,"",""]
[null,null,null,null,null,null,null,null,null,null,null,null,null,null,null,null,null,null,null,null,null,null,null,null,null,null,null,null,null,null,null,null,null,null,null,null,null,null,null,null,null,null,null,null,null,null,null,null,null,null,null,null,null,"",""]
[null,null,null,null,null,null,null,null,null,null,null,null,null,null,null,null,null,null,null,null,null,null,null,null,null,null,null,null,null,null,null,null,null,null,null,null,null,null,null,null,null,null,null,null,null,null,null,null,null,null,null,null,null,"",""]
[null,null,null,null,null,null,null,null,null,null,null,null,null,null,null,null,null,null,null,null,null,null,null,null,null,null,null,null,null,null,null,null,null,null,null,null,null,null,null,null,null,null,null,null,null,null,null,null,null,null,null,null,null,"",""]
[null,null,null,null,null,null,null,null,null,null,null,null,null,null,null,null,null,null,null,null,null,null,null,null,null,null,null,null,null,null,null,null,null,null,null,null,null,null,null,null,null,null,null,null,null,null,null,null,null,null,null,null,null,"",""]
[null,null,null,null,null,null,null,null,null,null,null,null,null,null,null,null,null,null,null,null,null,null,null,null,null,null,null,null,null,null,null,null,null,null,null,null,null,null,null,null,null,null,null,null,null,null,null,null,null,null,null,null,null,"",""]
[null,null,null,null,null,null,null,null,null,null,null,null,null,null,null,null,null,null,null,null,null,null,null,null,null,null,null,null,null,null,null,null,null,null,null,null,null,null,null,null,null,null,null,null,null,null,null,null,null,null,null,null,null,"",""]
[null,null,null,null,null,null,null,null,null,null,null,null,null,null,null,null,null,null,null,null,null,null,null,null,null,null,null,null,null,null,null,null,null,null,null,null,null,null,null,null,null,null,null,null,null,null,null,null,null,null,null,null,null,"",""]
[null,null,null,null,null,null,null,null,null,null,null,null,null,null,null,null,null,null,null,null,null,null,null,null,null,null,null,null,null,null,null,null,null,null,null,null,null,null,null,null,null,null,null,null,null,null,null,null,null,null,null,null,null,"",""]
[null,null,null,null,null,null,null,null,null,null,null,null,null,null,null,null,null,null,null,null,null,null,null,null,null,null,null,null,null,null,null,null,null,null,null,null,null,null,null,null,null,null,null,null,null,null,null,null,null,null,null,null,null,"",""]
[null,null,null,null,null,null,null,null,null,null,null,null,null,null,null,null,null,null,null,null,null,null,null,null,null,null,null,null,null,null,null,null,null,null,null,null,null,null,null,null,null,null,null,null,null,null,null,null,null,null,null,null,null,"",""]
[null,null,null,null,null,null,null,null,null,null,null,null,null,null,null,null,null,null,null,null,null,null,null,null,null,null,null,null,null,null,null,null,null,null,null,null,null,null,null,null,null,null,null,null,null,null,null,null,null,null,null,null,null,"",""]
[null,null,null,null,null,null,null,null,null,null,null,null,null,null,null,null,null,null,null,null,null,null,null,null,null,null,null,null,null,null,null,null,null,null,null,null,null,null,null,null,null,null,null,null,null,null,null,null,null,null,null,null,null,"",""]
[null,null,null,null,null,null,null,null,null,null,null,null,null,null,null,null,null,null,null,null,null,null,null,null,null,null,null,null,null,null,null,null,null,null,null,null,null,null,null,null,null,null,null,null,null,null,null,null,null,null,null,null,null,"",""]
[null,null,null,null,null,null,null,null,null,null,null,null,null,null,null,null,null,null,null,null,null,null,null,null,null,null,null,null,null,null,null,null,null,null,null,null,null,null,null,null,null,null,null,null,null,null,null,null,null,null,null,null,null,"",""]
[null,null,null,null,null,null,null,null,null,null,null,null,null,null,null,null,null,null,null,null,null,null,null,null,null,null,null,null,null,null,null,null,null,null,null,null,null,null,null,null,null,null,null,null,null,null,null,null,null,null,null,null,null,"",""]
[null,null,null,null,null,null,null,null,null,null,null,null,null,null,null,null,null,null,null,null,null,null,null,null,null,null,null,null,null,null,null,null,null,null,null,null,null,null,null,null,null,null,null,null,null,null,null,null,null,null,null,null,null,"",""]
[null,null,null,null,null,null,null,null,null,null,null,null,null,null,null,null,null,null,null,null,null,null,null,null,null,null,null,null,null,null,null,null,null,null,null,null,null,null,null,null,null,null,null,null,null,null,null,null,null,null,null,null,null,"",""]
[null,null,null,null,null,null,null,null,null,null,null,null,null,null,null,null,null,null,null,null,null,null,null,null,null,null,null,null,null,null,null,null,null,null,null,null,null,null,null,null,null,null,null,null,null,null,null,null,null,null,null,null,null,"",""]
[null,null,null,null,null,null,null,null,null,null,null,null,null,null,null,null,null,null,null,null,null,null,null,null,null,null,null,null,null,null,null,null,null,null,null,null,null,null,null,null,null,null,null,null,null,null,null,null,null,null,null,null,null,"",""]
[null,null,null,null,null,null,null,null,null,null,null,null,null,null,null,null,null,null,null,null,null,null,null,null,null,null,null,null,null,null,null,null,null,null,null,null,null,null,null,null,null,null,null,null,null,null,null,null,null,null,null,null,null,"",""]
[null,null,null,null,null,null,null,null,null,null,null,null,null,null,null,null,null,null,null,null,null,null,null,null,null,null,null,null,null,null,null,null,null,null,null,null,null,null,null,null,null,null,null,null,null,null,null,null,null,null,null,null,null,"",""]
[null,null,null,null,null,null,null,null,null,null,null,null,null,null,null,null,null,null,null,null,null,null,null,null,null,null,null,null,null,null,null,null,null,null,null,null,null,null,null,null,null,null,null,null,null,null,null,null,null,null,null,null,null,"",""]
[null,null,null,null,null,null,null,null,null,null,null,null,null,null,null,null,null,null,null,null,null,null,null,null,null,null,null,null,null,null,null,null,null,null,null,null,null,null,null,null,null,null,null,null,null,null,null,null,null,null,null,null,null,"",""]
[null,null,null,null,null,null,null,null,null,null,null,null,null,null,null,null,null,null,null,null,null,null,null,null,null,null,null,null,null,null,null,null,null,null,null,null,null,null,null,null,null,null,null,null,null,null,null,null,null,null,null,null,null,"",""]
[null,null,null,null,null,null,null,null,null,null,null,null,null,null,null,null,null,null,null,null,null,null,null,null,null,null,null,null,null,null,null,null,null,null,null,null,null,null,null,null,null,null,null,null,null,null,null,null,null,null,null,null,null,"",""]
[null,null,null,null,null,null,null,null,null,null,null,null,null,null,null,null,null,null,null,null,null,null,null,null,null,null,null,null,null,null,null,null,null,null,null,null,null,null,null,null,null,null,null,null,null,null,null,null,null,null,null,null,null,"",""]
[null,null,null,null,null,null,null,null,null,null,null,null,null,null,null,null,null,null,null,null,null,null,null,null,null,null,null,null,null,null,null,null,null,null,null,null,null,null,null,null,null,null,null,null,null,null,null,null,null,null,null,null,null,"",""]
[null,null,null,null,null,null,null,null,null,null,null,null,null,null,null,null,null,null,null,null,null,null,null,null,null,null,null,null,null,null,null,null,null,null,null,null,null,null,null,null,null,null,null,null,null,null,null,null,null,null,null,null,null,"",""]
[null,null,null,null,null,null,null,null,null,null,null,null,null,null,null,null,null,null,null,null,null,null,null,null,null,null,null,null,null,null,null,null,null,null,null,null,null,null,null,null,null,null,null,null,null,null,null,null,null,null,null,null,null,"",""]
[null,null,null,null,null,null,null,null,null,null,null,null,null,null,null,null,null,null,null,null,null,null,null,null,null,null,null,null,null,null,null,null,null,null,null,null,null,null,null,null,null,null,null,null,null,null,null,null,null,null,null,null,null,"",""]
[null,null,null,null,null,null,null,null,null,null,null,null,null,null,null,null,null,null,null,null,null,null,null,null,null,null,null,null,null,null,null,null,null,null,null,null,null,null,null,null,null,null,null,null,null,null,null,null,null,null,null,null,null,"",""]
[null,null,null,null,null,null,null,null,null,null,null,null,null,null,null,null,null,null,null,null,null,null,null,null,null,null,null,null,null,null,null,null,null,null,null,null,null,null,null,null,null,null,null,null,null,null,null,null,null,null,null,null,null,"",""]
[null,null,null,null,null,null,null,null,null,null,null,null,null,null,null,null,null,null,null,null,null,null,null,null,null,null,null,null,null,null,null,null,null,null,null,null,null,null,null,null,null,null,null,null,null,null,null,null,null,null,null,null,null,"",""]
[null,null,null,null,null,null,null,null,null,null,null,null,null,null,null,null,null,null,null,null,null,null,null,null,null,null,null,null,null,null,null,null,null,null,null,null,null,null,null,null,null,null,null,null,null,null,null,null,null,null,null,null,null,"",""]
[null,null,null,null,null,null,null,null,null,null,null,null,null,null,null,null,null,null,null,null,null,null,null,null,null,null,null,null,null,null,null,null,null,null,null,null,null,null,null,null,null,null,null,null,null,null,null,null,null,null,null,null,null,"",""]
[null,null,null,null,null,null,null,null,null,null,null,null,null,null,null,null,null,null,null,null,null,null,null,null,null,null,null,null,null,null,null,null,null,null,null,null,null,null,null,null,null,null,null,null,null,null,null,null,null,null,null,null,null,"",""]
[null,null,null,null,null,null,null,null,null,null,null,null,null,null,null,null,null,null,null,null,null,null,null,null,null,null,null,null,null,null,null,null,null,null,null,null,null,null,null,null,null,null,null,null,null,null,null,null,null,null,null,null,null,"",""]
[null,null,null,null,null,null,null,null,null,null,null,null,null,null,null,null,null,null,null,null,null,null,null,null,null,null,null,null,null,null,null,null,null,null,null,null,null,null,null,null,null,null,null,null,null,null,null,null,null,null,null,null,null,{"$f":"H131&L131&M131","v":""},{"$f":"H131&L131&M131&N131&O131&P131","v":""}]
[null,null,null,null,null,null,null,null,null,null,null,null,null,null,null,null,null,null,null,null,null,null,null,null,null,null,null,null,null,null,null,null,null,null,null,null,null,null,null,null,null,null,null,null,null,null,null,null,null,null,null,null,null,"",""]
[null,null,null,null,null,null,null,null,null,null,null,null,null,null,null,null,null,null,null,null,null,null,null,null,null,null,null,null,null,null,null,null,null,null,null,null,null,null,null,null,null,null,null,null,null,null,null,null,null,null,null,null,null,"",""]
[null,null,null,null,null,null,null,null,null,null,null,null,null,null,null,null,null,null,null,null,null,null,null,null,null,null,null,null,null,null,null,null,null,null,null,null,null,null,null,null,null,null,null,null,null,null,null,null,null,null,null,null,null,"",""]
[null,null,null,null,null,null,null,null,null,null,null,null,null,null,null,null,null,null,null,null,null,null,null,null,null,null,null,null,null,null,null,null,null,null,null,null,null,null,null,null,null,null,null,null,null,null,null,null,null,null,null,null,null,"",""]
[null,null,null,null,null,null,null,null,null,null,null,null,null,null,null,null,null,null,null,null,null,null,null,null,null,null,null,null,null,null,null,null,null,null,null,null,null,null,null,null,null,null,null,null,null,null,null,null,null,null,null,null,null,"",""]
[null,null,null,null,null,null,null,null,null,null,null,null,null,null,null,null,null,null,null,null,null,null,null,null,null,null,null,null,null,null,null,null,null,null,null,null,null,null,null,null,null,null,null,null,null,null,null,null,null,null,null,null,null,"",""]
[null,null,null,null,null,null,null,null,null,null,null,null,null,null,null,null,null,null,null,null,null,null,null,null,null,null,null,null,null,null,null,null,null,null,null,null,null,null,null,null,null,null,null,null,null,null,null,null,null,null,null,null,null,"",""]
[null,null,null,null,null,null,null,null,null,null,null,null,null,null,null,null,null,null,null,null,null,null,null,null,null,null,null,null,null,null,null,null,null,null,null,null,null,null,null,null,null,null,null,null,null,null,null,null,null,null,null,null,null,"",""]
[null,null,null,null,null,null,null,null,null,null,null,null,null,null,null,null,null,null,null,null,null,null,null,null,null,null,null,null,null,null,null,null,null,null,null,null,null,null,null,null,null,null,null,null,null,null,null,null,null,null,null,null,null,"",""]
[null,null,null,null,null,null,null,null,null,null,null,null,null,null,null,null,null,null,null,null,null,null,null,null,null,null,null,null,null,null,null,null,null,null,null,null,null,null,null,null,null,null,null,null,null,null,null,null,null,null,null,null,null,"",""]
[null,null,null,null,null,null,null,null,null,null,null,null,null,null,null,null,null,null,null,null,null,null,null,null,null,null,null,null,null,null,null,null,null,null,null,null,null,null,null,null,null,null,null,null,null,null,null,null,null,null,null,null,null,"",""]
[null,null,null,null,null,null,null,null,null,null,null,null,null,null,null,null,null,null,null,null,null,null,null,null,null,null,null,null,null,null,null,null,null,null,null,null,null,null,null,null,null,null,null,null,null,null,null,null,null,null,null,null,null,"",""]
[null,null,null,null,null,null,null,null,null,null,null,null,null,null,null,null,null,null,null,null,null,null,null,null,null,null,null,null,null,null,null,null,null,null,null,null,null,null,null,null,null,null,null,null,null,null,null,null,null,null,null,null,null,"",""]
[null,null,null,null,null,null,null,null,null,null,null,null,null,null,null,null,null,null,null,null,null,null,null,null,null,null,null,null,null,null,null,null,null,null,null,null,null,null,null,null,null,null,null,null,null,null,null,null,null,null,null,null,null,"",""]
[null,null,null,null,null,null,null,null,null,null,null,null,null,null,null,null,null,null,null,null,null,null,null,null,null,null,null,null,null,null,null,null,null,null,null,null,null,null,null,null,null,null,null,null,null,null,null,null,null,null,null,null,null,"",""]
[null,null,null,null,null,null,null,null,null,null,null,null,null,null,null,null,null,null,null,null,null,null,null,null,null,null,null,null,null,null,null,null,null,null,null,null,null,null,null,null,null,null,null,null,null,null,null,null,null,null,null,null,null,"",""]
[null,null,null,null,null,null,null,null,null,null,null,null,null,null,null,null,null,null,null,null,null,null,null,null,null,null,null,null,null,null,null,null,null,null,null,null,null,null,null,null,null,null,null,null,null,null,null,null,null,null,null,null,null,"",""]
[null,null,null,null,null,null,null,null,null,null,null,null,null,null,null,null,null,null,null,null,null,null,null,null,null,null,null,null,null,null,null,null,null,null,null,null,null,null,null,null,null,null,null,null,null,null,null,null,null,null,null,null,null,"",""]
[null,null,null,null,null,null,null,null,null,null,null,null,null,null,null,null,null,null,null,null,null,null,null,null,null,null,null,null,null,null,null,null,null,null,null,null,null,null,null,null,null,null,null,null,null,null,null,null,null,null,null,null,null,"",""]
[null,null,null,null,null,null,null,null,null,null,null,null,null,null,null,null,null,null,null,null,null,null,null,null,null,null,null,null,null,null,null,null,null,null,null,null,null,null,null,null,null,null,null,null,null,null,null,null,null,null,null,null,null,"",""]
[null,null,null,null,null,null,null,null,null,null,null,null,null,null,null,null,null,null,null,null,null,null,null,null,null,null,null,null,null,null,null,null,null,null,null,null,null,null,null,null,null,null,null,null,null,null,null,null,null,null,null,null,null,"",""]
[null,null,null,null,null,null,null,null,null,null,null,null,null,null,null,null,null,null,null,null,null,null,null,null,null,null,null,null,null,null,null,null,null,null,null,null,null,null,null,null,null,null,null,null,null,null,null,null,null,null,null,null,null,"",""]
[null,null,null,null,null,null,null,null,null,null,null,null,null,null,null,null,null,null,null,null,null,null,null,null,null,null,null,null,null,null,null,null,null,null,null,null,null,null,null,null,null,null,null,null,null,null,null,null,null,null,null,null,null,"",""]
[null,null,null,null,null,null,null,null,null,null,null,null,null,null,null,null,null,null,null,null,null,null,null,null,null,null,null,null,null,null,null,null,null,null,null,null,null,null,null,null,null,null,null,null,null,null,null,null,null,null,null,null,null,"",""]
[null,null,null,null,null,null,null,null,null,null,null,null,null,null,null,null,null,null,null,null,null,null,null,null,null,null,null,null,null,null,null,null,null,null,null,null,null,null,null,null,null,null,null,null,null,null,null,null,null,null,null,null,null,"",""]
[null,null,null,null,null,null,null,null,null,null,null,null,null,null,null,null,null,null,null,null,null,null,null,null,null,null,null,null,null,null,null,null,null,null,null,null,null,null,null,null,null,null,null,null,null,null,null,null,null,null,null,null,null,"",""]
[null,null,null,null,null,null,null,null,null,null,null,null,null,null,null,null,null,null,null,null,null,null,null,null,null,null,null,null,null,null,null,null,null,null,null,null,null,null,null,null,null,null,null,null,null,null,null,null,null,null,null,null,null,"",""]
[null,null,null,null,null,null,null,null,null,null,null,null,null,null,null,null,null,null,null,null,null,null,null,null,null,null,null,null,null,null,null,null,null,null,null,null,null,null,null,null,null,null,null,null,null,null,null,null,null,null,null,null,null,"",""]
[null,null,null,null,null,null,null,null,null,null,null,null,null,null,null,null,null,null,null,null,null,null,null,null,null,null,null,null,null,null,null,null,null,null,null,null,null,null,null,null,null,null,null,null,null,null,null,null,null,null,null,null,null,"",""]
[null,null,null,null,null,null,null,null,null,null,null,null,null,null,null,null,null,null,null,null,null,null,null,null,null,null,null,null,null,null,null,null,null,null,null,null,null,null,null,null,null,null,null,null,null,null,null,null,null,null,null,null,null,"",""]
[null,null,null,null,null,null,null,null,null,null,null,null,null,null,null,null,null,null,null,null,null,null,null,null,null,null,null,null,null,null,null,null,null,null,null,null,null,null,null,null,null,null,null,null,null,null,null,null,null,null,null,null,null,"",""]
[null,null,null,null,null,null,null,null,null,null,null,null,null,null,null,null,null,null,null,null,null,null,null,null,null,null,null,null,null,null,null,null,null,null,null,null,null,null,null,null,null,null,null,null,null,null,null,null,null,null,null,null,null,"",""]
[null,null,null,null,null,null,null,null,null,null,null,null,null,null,null,null,null,null,null,null,null,null,null,null,null,null,null,null,null,null,null,null,null,null,null,null,null,null,null,null,null,null,null,null,null,null,null,null,null,null,null,null,null,"",""]
[null,null,null,null,null,null,null,null,null,null,null,null,null,null,null,null,null,null,null,null,null,null,null,null,null,null,null,null,null,null,null,null,null,null,null,null,null,null,null,null,null,null,null,null,null,null,null,null,null,null,null,null,null,"",""]
[null,null,null,null,null,null,null,null,null,null,null,null,null,null,null,null,null,null,null,null,null,null,null,null,null,null,null,null,null,null,null,null,null,null,null,null,null,null,null,null,null,null,null,null,null,null,null,null,null,null,null,null,null,"",""]
[null,null,null,null,null,null,null,null,null,null,null,null,null,null,null,null,null,null,null,null,null,null,null,null,null,null,null,null,null,null,null,null,null,null,null,null,null,null,null,null,null,null,null,null,null,null,null,null,null,null,null,null,null,"",""]
[null,null,null,null,null,null,null,null,null,null,null,null,null,null,null,null,null,null,null,null,null,null,null,null,null,null,null,null,null,null,null,null,null,null,null,null,null,null,null,null,null,null,null,null,null,null,null,null,null,null,null,null,null,"",""]
[null,null,null,null,null,null,null,null,null,null,null,null,null,null,null,null,null,null,null,null,null,null,null,null,null,null,null,null,null,null,null,null,null,null,null,null,null,null,null,null,null,null,null,null,null,null,null,null,null,null,null,null,null,"",""]
[null,null,null,null,null,null,null,null,null,null,null,null,null,null,null,null,null,null,null,null,null,null,null,null,null,null,null,null,null,null,null,null,null,null,null,null,null,null,null,null,null,null,null,null,null,null,null,null,null,null,null,null,null,"",""]
[null,null,null,null,null,null,null,null,null,null,null,null,null,null,null,null,null,null,null,null,null,null,null,null,null,null,null,null,null,null,null,null,null,null,null,null,null,null,null,null,null,null,null,null,null,null,null,null,null,null,null,null,null,"",""]
[null,null,null,null,null,null,null,null,null,null,null,null,null,null,null,null,null,null,null,null,null,null,null,null,null,null,null,null,null,null,null,null,null,null,null,null,null,null,null,null,null,null,null,null,null,null,null,null,null,null,null,null,null,"",""]
[null,null,null,null,null,null,null,null,null,null,null,null,null,null,null,null,null,null,null,null,null,null,null,null,null,null,null,null,null,null,null,null,null,null,null,null,null,null,null,null,null,null,null,null,null,null,null,null,null,null,null,null,null,"",""]
[null,null,null,null,null,null,null,null,null,null,null,null,null,null,null,null,null,null,null,null,null,null,null,null,null,null,null,null,null,null,null,null,null,null,null,null,null,null,null,null,null,null,null,null,null,null,null,null,null,null,null,null,null,"",""]
[null,null,null,null,null,null,null,null,null,null,null,null,null,null,null,null,null,null,null,null,null,null,null,null,null,null,null,null,null,null,null,null,null,null,null,null,null,null,null,null,null,null,null,null,null,null,null,null,null,null,null,null,null,"",""]
[null,null,null,null,null,null,null,null,null,null,null,null,null,null,null,null,null,null,null,null,null,null,null,null,null,null,null,null,null,null,null,null,null,null,null,null,null,null,null,null,null,null,null,null,null,null,null,null,null,null,null,null,null,"",""]
[null,null,null,null,null,null,null,null,null,null,null,null,null,null,null,null,null,null,null,null,null,null,null,null,null,null,null,null,null,null,null,null,null,null,null,null,null,null,null,null,null,null,null,null,null,null,null,null,null,null,null,null,null,"",""]
[null,null,null,null,null,null,null,null,null,null,null,null,null,null,null,null,null,null,null,null,null,null,null,null,null,null,null,null,null,null,null,null,null,null,null,null,null,null,null,null,null,null,null,null,null,null,null,null,null,null,null,null,null,"",""]
[null,null,null,null,null,null,null,null,null,null,null,null,null,null,null,null,null,null,null,null,null,null,null,null,null,null,null,null,null,null,null,null,null,null,null,null,null,null,null,null,null,null,null,null,null,null,null,null,null,null,null,null,null,"",""]
[null,null,null,null,null,null,null,null,null,null,null,null,null,null,null,null,null,null,null,null,null,null,null,null,null,null,null,null,null,null,null,null,null,null,null,null,null,null,null,null,null,null,null,null,null,null,null,null,null,null,null,null,null,"",""]
[null,null,null,null,null,null,null,null,null,null,null,null,null,null,null,null,null,null,null,null,null,null,null,null,null,null,null,null,null,null,null,null,null,null,null,null,null,null,null,null,null,null,null,null,null,null,null,null,null,null,null,null,null,"",""]
[null,null,null,null,null,null,null,null,null,null,null,null,null,null,null,null,null,null,null,null,null,null,null,null,null,null,null,null,null,null,null,null,null,null,null,null,null,null,null,null,null,null,null,null,null,null,null,null,null,null,null,null,null,"",""]
[null,null,null,null,null,null,null,null,null,null,null,null,null,null,null,null,null,null,null,null,null,null,null,null,null,null,null,null,null,null,null,null,null,null,null,null,null,null,null,null,null,null,null,null,null,null,null,null,null,null,null,null,null,"",""]
[null,null,null,null,null,null,null,null,null,null,null,null,null,null,null,null,null,null,null,null,null,null,null,null,null,null,null,null,null,null,null,null,null,null,null,null,null,null,null,null,null,null,null,null,null,null,null,null,null,null,null,null,null,"",""]
[null,null,null,null,null,null,null,null,null,null,null,null,null,null,null,null,null,null,null,null,null,null,null,null,null,null,null,null,null,null,null,null,null,null,null,null,null,null,null,null,null,null,null,null,null,null,null,null,null,null,null,null,null,"",""]
[null,null,null,null,null,null,null,null,null,null,null,null,null,null,null,null,null,null,null,null,null,null,null,null,null,null,null,null,null,null,null,null,null,null,null,null,null,null,null,null,null,null,null,null,null,null,null,null,null,null,null,null,null,"",""]
[null,null,null,null,null,null,null,null,null,null,null,null,null,null,null,null,null,null,null,null,null,null,null,null,null,null,null,null,null,null,null,null,null,null,null,null,null,null,null,null,null,null,null,null,null,null,null,null,null,null,null,null,null,"",""]
[null,null,null,null,null,null,null,null,null,null,null,null,null,null,null,null,null,null,null,null,null,null,null,null,null,null,null,null,null,null,null,null,null,null,null,null,null,null,null,null,null,null,null,null,null,null,null,null,null,null,null,null,null,"",""]
[null,null,null,null,null,null,null,null,null,null,null,null,null,null,null,null,null,null,null,null,null,null,null,null,null,null,null,null,null,null,null,null,null,null,null,null,null,null,null,null,null,null,null,null,null,null,null,null,null,null,null,null,null,"",""]
[null,null,null,null,null,null,null,null,null,null,null,null,null,null,null,null,null,null,null,null,null,null,null,null,null,null,null,null,null,null,null,null,null,null,null,null,null,null,null,null,null,null,null,null,null,null,null,null,null,null,null,null,null,"",""]
[null,null,null,null,null,null,null,null,null,null,null,null,null,null,null,null,null,null,null,null,null,null,null,null,null,null,null,null,null,null,null,null,null,null,null,null,null,null,null,null,null,null,null,null,null,null,null,null,null,null,null,null,null,"",""]
[null,null,null,null,null,null,null,null,null,null,null,null,null,null,null,null,null,null,null,null,null,null,null,null,null,null,null,null,null,null,null,null,null,null,null,null,null,null,null,null,null,null,null,null,null,null,null,null,null,null,null,null,null,"",""]
[null,null,null,null,null,null,null,null,null,null,null,null,null,null,null,null,null,null,null,null,null,null,null,null,null,null,null,null,null,null,null,null,null,null,null,null,null,null,null,null,null,null,null,null,null,null,null,null,null,null,null,null,null,"",""]
[null,null,null,null,null,null,null,null,null,null,null,null,null,null,null,null,null,null,null,null,null,null,null,null,null,null,null,null,null,null,null,null,null,null,null,null,null,null,null,null,null,null,null,null,null,null,null,null,null,null,null,null,null,"",""]
[null,null,null,null,null,null,null,null,null,null,null,null,null,null,null,null,null,null,null,null,null,null,null,null,null,null,null,null,null,null,null,null,null,null,null,null,null,null,null,null,null,null,null,null,null,null,null,null,null,null,null,null,null,{"$f":"H195&L195&M195","v":""},{"$f":"H195&L195&M195&N195&O195&P195","v":""}]
[null,null,null,null,null,null,null,null,null,null,null,null,null,null,null,null,null,null,null,null,null,null,null,null,null,null,null,null,null,null,null,null,null,null,null,null,null,null,null,null,null,null,null,null,null,null,null,null,null,null,null,null,null,"",""]
[null,null,null,null,null,null,null,null,null,null,null,null,null,null,null,null,null,null,null,null,null,null,null,null,null,null,null,null,null,null,null,null,null,null,null,null,null,null,null,null,null,null,null,null,null,null,null,null,null,null,null,null,null,"",""]
[null,null,null,null,null,null,null,null,null,null,null,null,null,null,null,null,null,null,null,null,null,null,null,null,null,null,null,null,null,null,null,null,null,null,null,null,null,null,null,null,null,null,null,null,null,null,null,null,null,null,null,null,null,"",""]
[null,null,null,null,null,null,null,null,null,null,null,null,null,null,null,null,null,null,null,null,null,null,null,null,null,null,null,null,null,null,null,null,null,null,null,null,null,null,null,null,null,null,null,null,null,null,null,null,null,null,null,null,null,"",""]
[null,null,null,null,null,null,null,null,null,null,null,null,null,null,null,null,null,null,null,null,null,null,null,null,null,null,null,null,null,null,null,null,null,null,null,null,null,null,null,null,null,null,null,null,null,null,null,null,null,null,null,null,null,"",""]
[null,null,null,null,null,null,null,null,null,null,null,null,null,null,null,null,null,null,null,null,null,null,null,null,null,null,null,null,null,null,null,null,null,null,null,null,null,null,null,null,null,null,null,null,null,null,null,null,null,null,null,null,null,"",""]
[null,null,null,null,null,null,null,null,null,null,null,null,null,null,null,null,null,null,null,null,null,null,null,null,null,null,null,null,null,null,null,null,null,null,null,null,null,null,null,null,null,null,null,null,null,null,null,null,null,null,null,null,null,"",""]
[null,null,null,null,null,null,null,null,null,null,null,null,null,null,null,null,null,null,null,null,null,null,null,null,null,null,null,null,null,null,null,null,null,null,null,null,null,null,null,null,null,null,null,null,null,null,null,null,null,null,null,null,null,"",""]
[null,null,null,null,null,null,null,null,null,null,null,null,null,null,null,null,null,null,null,null,null,null,null,null,null,null,null,null,null,null,null,null,null,null,null,null,null,null,null,null,null,null,null,null,null,null,null,null,null,null,null,null,null,"",""]
[null,null,null,null,null,null,null,null,null,null,null,null,null,null,null,null,null,null,null,null,null,null,null,null,null,null,null,null,null,null,null,null,null,null,null,null,null,null,null,null,null,null,null,null,null,null,null,null,null,null,null,null,null,"",""]
[null,null,null,null,null,null,null,null,null,null,null,null,null,null,null,null,null,null,null,null,null,null,null,null,null,null,null,null,null,null,null,null,null,null,null,null,null,null,null,null,null,null,null,null,null,null,null,null,null,null,null,null,null,"",""]
[null,null,null,null,null,null,null,null,null,null,null,null,null,null,null,null,null,null,null,null,null,null,null,null,null,null,null,null,null,null,null,null,null,null,null,null,null,null,null,null,null,null,null,null,null,null,null,null,null,null,null,null,null,"",""]
[null,null,null,null,null,null,null,null,null,null,null,null,null,null,null,null,null,null,null,null,null,null,null,null,null,null,null,null,null,null,null,null,null,null,null,null,null,null,null,null,null,null,null,null,null,null,null,null,null,null,null,null,null,"",""]
[null,null,null,null,null,null,null,null,null,null,null,null,null,null,null,null,null,null,null,null,null,null,null,null,null,null,null,null,null,null,null,null,null,null,null,null,null,null,null,null,null,null,null,null,null,null,null,null,null,null,null,null,null,"",""]
[null,null,null,null,null,null,null,null,null,null,null,null,null,null,null,null,null,null,null,null,null,null,null,null,null,null,null,null,null,null,null,null,null,null,null,null,null,null,null,null,null,null,null,null,null,null,null,null,null,null,null,null,null,"",""]
[null,null,null,null,null,null,null,null,null,null,null,null,null,null,null,null,null,null,null,null,null,null,null,null,null,null,null,null,null,null,null,null,null,null,null,null,null,null,null,null,null,null,null,null,null,null,null,null,null,null,null,null,null,"",""]
[null,null,null,null,null,null,null,null,null,null,null,null,null,null,null,null,null,null,null,null,null,null,null,null,null,null,null,null,null,null,null,null,null,null,null,null,null,null,null,null,null,null,null,null,null,null,null,null,null,null,null,null,null,"",""]
[null,null,null,null,null,null,null,null,null,null,null,null,null,null,null,null,null,null,null,null,null,null,null,null,null,null,null,null,null,null,null,null,null,null,null,null,null,null,null,null,null,null,null,null,null,null,null,null,null,null,null,null,null,"",""]
[null,null,null,null,null,null,null,null,null,null,null,null,null,null,null,null,null,null,null,null,null,null,null,null,null,null,null,null,null,null,null,null,null,null,null,null,null,null,null,null,null,null,null,null,null,null,null,null,null,null,null,null,null,"",""]
[null,null,null,null,null,null,null,null,null,null,null,null,null,null,null,null,null,null,null,null,null,null,null,null,null,null,null,null,null,null,null,null,null,null,null,null,null,null,null,null,null,null,null,null,null,null,null,null,null,null,null,null,null,"",""]
[null,null,null,null,null,null,null,null,null,null,null,null,null,null,null,null,null,null,null,null,null,null,null,null,null,null,null,null,null,null,null,null,null,null,null,null,null,null,null,null,null,null,null,null,null,null,null,null,null,null,null,null,null,"",""]
[null,null,null,null,null,null,null,null,null,null,null,null,null,null,null,null,null,null,null,null,null,null,null,null,null,null,null,null,null,null,null,null,null,null,null,null,null,null,null,null,null,null,null,null,null,null,null,null,null,null,null,null,null,"",""]
[null,null,null,null,null,null,null,null,null,null,null,null,null,null,null,null,null,null,null,null,null,null,null,null,null,null,null,null,null,null,null,null,null,null,null,null,null,null,null,null,null,null,null,null,null,null,null,null,null,null,null,null,null,"",""]
[null,null,null,null,null,null,null,null,null,null,null,null,null,null,null,null,null,null,null,null,null,null,null,null,null,null,null,null,null,null,null,null,null,null,null,null,null,null,null,null,null,null,null,null,null,null,null,null,null,null,null,null,null,"",""]
[null,null,null,null,null,null,null,null,null,null,null,null,null,null,null,null,null,null,null,null,null,null,null,null,null,null,null,null,null,null,null,null,null,null,null,null,null,null,null,null,null,null,null,null,null,null,null,null,null,null,null,null,null,"",""]
[null,null,null,null,null,null,null,null,null,null,null,null,null,null,null,null,null,null,null,null,null,null,null,null,null,null,null,null,null,null,null,null,null,null,null,null,null,null,null,null,null,null,null,null,null,null,null,null,null,null,null,null,null,"",""]
[null,null,null,null,null,null,null,null,null,null,null,null,null,null,null,null,null,null,null,null,null,null,null,null,null,null,null,null,null,null,null,null,null,null,null,null,null,null,null,null,null,null,null,null,null,null,null,null,null,null,null,null,null,"",""]
[null,null,null,null,null,null,null,null,null,null,null,null,null,null,null,null,null,null,null,null,null,null,null,null,null,null,null,null,null,null,null,null,null,null,null,null,null,null,null,null,null,null,null,null,null,null,null,null,null,null,null,null,null,"",""]
[null,null,null,null,null,null,null,null,null,null,null,null,null,null,null,null,null,null,null,null,null,null,null,null,null,null,null,null,null,null,null,null,null,null,null,null,null,null,null,null,null,null,null,null,null,null,null,null,null,null,null,null,null,"",""]
[null,null,null,null,null,null,null,null,null,null,null,null,null,null,null,null,null,null,null,null,null,null,null,null,null,null,null,null,null,null,null,null,null,null,null,null,null,null,null,null,null,null,null,null,null,null,null,null,null,null,null,null,null,"",""]
[null,null,null,null,null,null,null,null,null,null,null,null,null,null,null,null,null,null,null,null,null,null,null,null,null,null,null,null,null,null,null,null,null,null,null,null,null,null,null,null,null,null,null,null,null,null,null,null,null,null,null,null,null,"",""]
[null,null,null,null,null,null,null,null,null,null,null,null,null,null,null,null,null,null,null,null,null,null,null,null,null,null,null,null,null,null,null,null,null,null,null,null,null,null,null,null,null,null,null,null,null,null,null,null,null,null,null,null,null,"",""]
[null,null,null,null,null,null,null,null,null,null,null,null,null,null,null,null,null,null,null,null,null,null,null,null,null,null,null,null,null,null,null,null,null,null,null,null,null,null,null,null,null,null,null,null,null,null,null,null,null,null,null,null,null,"",""]
[null,null,null,null,null,null,null,null,null,null,null,null,null,null,null,null,null,null,null,null,null,null,null,null,null,null,null,null,null,null,null,null,null,null,null,null,null,null,null,null,null,null,null,null,null,null,null,null,null,null,null,null,null,"",""]
[null,null,null,null,null,null,null,null,null,null,null,null,null,null,null,null,null,null,null,null,null,null,null,null,null,null,null,null,null,null,null,null,null,null,null,null,null,null,null,null,null,null,null,null,null,null,null,null,null,null,null,null,null,"",""]
[null,null,null,null,null,null,null,null,null,null,null,null,null,null,null,null,null,null,null,null,null,null,null,null,null,null,null,null,null,null,null,null,null,null,null,null,null,null,null,null,null,null,null,null,null,null,null,null,null,null,null,null,null,"",""]
[null,null,null,null,null,null,null,null,null,null,null,null,null,null,null,null,null,null,null,null,null,null,null,null,null,null,null,null,null,null,null,null,null,null,null,null,null,null,null,null,null,null,null,null,null,null,null,null,null,null,null,null,null,"",""]
[null,null,null,null,null,null,null,null,null,null,null,null,null,null,null,null,null,null,null,null,null,null,null,null,null,null,null,null,null,null,null,null,null,null,null,null,null,null,null,null,null,null,null,null,null,null,null,null,null,null,null,null,null,"",""]
[null,null,null,null,null,null,null,null,null,null,null,null,null,null,null,null,null,null,null,null,null,null,null,null,null,null,null,null,null,null,null,null,null,null,null,null,null,null,null,null,null,null,null,null,null,null,null,null,null,null,null,null,null,"",""]
[null,null,null,null,null,null,null,null,null,null,null,null,null,null,null,null,null,null,null,null,null,null,null,null,null,null,null,null,null,null,null,null,null,null,null,null,null,null,null,null,null,null,null,null,null,null,null,null,null,null,null,null,null,"",""]
[null,null,null,null,null,null,null,null,null,null,null,null,null,null,null,null,null,null,null,null,null,null,null,null,null,null,null,null,null,null,null,null,null,null,null,null,null,null,null,null,null,null,null,null,null,null,null,null,null,null,null,null,null,"",""]
[null,null,null,null,null,null,null,null,null,null,null,null,null,null,null,null,null,null,null,null,null,null,null,null,null,null,null,null,null,null,null,null,null,null,null,null,null,null,null,null,null,null,null,null,null,null,null,null,null,null,null,null,null,"",""]
[null,null,null,null,null,null,null,null,null,null,null,null,null,null,null,null,null,null,null,null,null,null,null,null,null,null,null,null,null,null,null,null,null,null,null,null,null,null,null,null,null,null,null,null,null,null,null,null,null,null,null,null,null,"",""]
[null,null,null,null,null,null,null,null,null,null,null,null,null,null,null,null,null,null,null,null,null,null,null,null,null,null,null,null,null,null,null,null,null,null,null,null,null,null,null,null,null,null,null,null,null,null,null,null,null,null,null,null,null,"",""]
[null,null,null,null,null,null,null,null,null,null,null,null,null,null,null,null,null,null,null,null,null,null,null,null,null,null,null,null,null,null,null,null,null,null,null,null,null,null,null,null,null,null,null,null,null,null,null,null,null,null,null,null,null,"",""]
[null,null,null,null,null,null,null,null,null,null,null,null,null,null,null,null,null,null,null,null,null,null,null,null,null,null,null,null,null,null,null,null,null,null,null,null,null,null,null,null,null,null,null,null,null,null,null,null,null,null,null,null,null,"",""]
[null,null,null,null,null,null,null,null,null,null,null,null,null,null,null,null,null,null,null,null,null,null,null,null,null,null,null,null,null,null,null,null,null,null,null,null,null,null,null,null,null,null,null,null,null,null,null,null,null,null,null,null,null,"",""]
[null,null,null,null,null,null,null,null,null,null,null,null,null,null,null,null,null,null,null,null,null,null,null,null,null,null,null,null,null,null,null,null,null,null,null,null,null,null,null,null,null,null,null,null,null,null,null,null,null,null,null,null,null,"",""]
[null,null,null,null,null,null,null,null,null,null,null,null,null,null,null,null,null,null,null,null,null,null,null,null,null,null,null,null,null,null,null,null,null,null,null,null,null,null,null,null,null,null,null,null,null,null,null,null,null,null,null,null,null,"",""]
[null,null,null,null,null,null,null,null,null,null,null,null,null,null,null,null,null,null,null,null,null,null,null,null,null,null,null,null,null,null,null,null,null,null,null,null,null,null,null,null,null,null,null,null,null,null,null,null,null,null,null,null,null,"",""]
[null,null,null,null,null,null,null,null,null,null,null,null,null,null,null,null,null,null,null,null,null,null,null,null,null,null,null,null,null,null,null,null,null,null,null,null,null,null,null,null,null,null,null,null,null,null,null,null,null,null,null,null,null,"",""]
[null,null,null,null,null,null,null,null,null,null,null,null,null,null,null,null,null,null,null,null,null,null,null,null,null,null,null,null,null,null,null,null,null,null,null,null,null,null,null,null,null,null,null,null,null,null,null,null,null,null,null,null,null,"",""]
[null,null,null,null,null,null,null,null,null,null,null,null,null,null,null,null,null,null,null,null,null,null,null,null,null,null,null,null,null,null,null,null,null,null,null,null,null,null,null,null,null,null,null,null,null,null,null,null,null,null,null,null,null,"",""]
[null,null,null,null,null,null,null,null,null,null,null,null,null,null,null,null,null,null,null,null,null,null,null,null,null,null,null,null,null,null,null,null,null,null,null,null,null,null,null,null,null,null,null,null,null,null,null,null,null,null,null,null,null,"",""]
[null,null,null,null,null,null,null,null,null,null,null,null,null,null,null,null,null,null,null,null,null,null,null,null,null,null,null,null,null,null,null,null,null,null,null,null,null,null,null,null,null,null,null,null,null,null,null,null,null,null,null,null,null,"",""]
[null,null,null,null,null,null,null,null,null,null,null,null,null,null,null,null,null,null,null,null,null,null,null,null,null,null,null,null,null,null,null,null,null,null,null,null,null,null,null,null,null,null,null,null,null,null,null,null,null,null,null,null,null,"",""]
[null,null,null,null,null,null,null,null,null,null,null,null,null,null,null,null,null,null,null,null,null,null,null,null,null,null,null,null,null,null,null,null,null,null,null,null,null,null,null,null,null,null,null,null,null,null,null,null,null,null,null,null,null,"",""]
[null,null,null,null,null,null,null,null,null,null,null,null,null,null,null,null,null,null,null,null,null,null,null,null,null,null,null,null,null,null,null,null,null,null,null,null,null,null,null,null,null,null,null,null,null,null,null,null,null,null,null,null,null,"",""]
[null,null,null,null,null,null,null,null,null,null,null,null,null,null,null,null,null,null,null,null,null,null,null,null,null,null,null,null,null,null,null,null,null,null,null,null,null,null,null,null,null,null,null,null,null,null,null,null,null,null,null,null,null,"",""]
[null,null,null,null,null,null,null,null,null,null,null,null,null,null,null,null,null,null,null,null,null,null,null,null,null,null,null,null,null,null,null,null,null,null,null,null,null,null,null,null,null,null,null,null,null,null,null,null,null,null,null,null,null,"",""]
[null,null,null,null,null,null,null,null,null,null,null,null,null,null,null,null,null,null,null,null,null,null,null,null,null,null,null,null,null,null,null,null,null,null,null,null,null,null,null,null,null,null,null,null,null,null,null,null,null,null,null,null,null,"",""]
[null,null,null,null,null,null,null,null,null,null,null,null,null,null,null,null,null,null,null,null,null,null,null,null,null,null,null,null,null,null,null,null,null,null,null,null,null,null,null,null,null,null,null,null,null,null,null,null,null,null,null,null,null,"",""]
[null,null,null,null,null,null,null,null,null,null,null,null,null,null,null,null,null,null,null,null,null,null,null,null,null,null,null,null,null,null,null,null,null,null,null,null,null,null,null,null,null,null,null,null,null,null,null,null,null,null,null,null,null,"",""]
[null,null,null,null,null,null,null,null,null,null,null,null,null,null,null,null,null,null,null,null,null,null,null,null,null,null,null,null,null,null,null,null,null,null,null,null,null,null,null,null,null,null,null,null,null,null,null,null,null,null,null,null,null,{"$f":"H259&L259&M259","v":""},{"$f":"H259&L259&M259&N259&O259&P259","v":""}]
[null,null,null,null,null,null,null,null,null,null,null,null,null,null,null,null,null,null,null,null,null,null,null,null,null,null,null,null,null,null,null,null,null,null,null,null,null,null,null,null,null,null,null,null,null,null,null,null,null,null,null,null,null,"",""]
[null,null,null,null,null,null,null,null,null,null,null,null,null,null,null,null,null,null,null,null,null,null,null,null,null,null,null,null,null,null,null,null,null,null,null,null,null,null,null,null,null,null,null,null,null,null,null,null,null,null,null,null,null,"",""]
[null,null,null,null,null,null,null,null,null,null,null,null,null,null,null,null,null,null,null,null,null,null,null,null,null,null,null,null,null,null,null,null,null,null,null,null,null,null,null,null,null,null,null,null,null,null,null,null,null,null,null,null,null,"",""]
[null,null,null,null,null,null,null,null,null,null,null,null,null,null,null,null,null,null,null,null,null,null,null,null,null,null,null,null,null,null,null,null,null,null,null,null,null,null,null,null,null,null,null,null,null,null,null,null,null,null,null,null,null,"",""]
[null,null,null,null,null,null,null,null,null,null,null,null,null,null,null,null,null,null,null,null,null,null,null,null,null,null,null,null,null,null,null,null,null,null,null,null,null,null,null,null,null,null,null,null,null,null,null,null,null,null,null,null,null,"",""]
[null,null,null,null,null,null,null,null,null,null,null,null,null,null,null,null,null,null,null,null,null,null,null,null,null,null,null,null,null,null,null,null,null,null,null,null,null,null,null,null,null,null,null,null,null,null,null,null,null,null,null,null,null,"",""]
[null,null,null,null,null,null,null,null,null,null,null,null,null,null,null,null,null,null,null,null,null,null,null,null,null,null,null,null,null,null,null,null,null,null,null,null,null,null,null,null,null,null,null,null,null,null,null,null,null,null,null,null,null,"",""]
[null,null,null,null,null,null,null,null,null,null,null,null,null,null,null,null,null,null,null,null,null,null,null,null,null,null,null,null,null,null,null,null,null,null,null,null,null,null,null,null,null,null,null,null,null,null,null,null,null,null,null,null,null,"",""]
[null,null,null,null,null,null,null,null,null,null,null,null,null,null,null,null,null,null,null,null,null,null,null,null,null,null,null,null,null,null,null,null,null,null,null,null,null,null,null,null,null,null,null,null,null,null,null,null,null,null,null,null,null,"",""]
[null,null,null,null,null,null,null,null,null,null,null,null,null,null,null,null,null,null,null,null,null,null,null,null,null,null,null,null,null,null,null,null,null,null,null,null,null,null,null,null,null,null,null,null,null,null,null,null,null,null,null,null,null,"",""]
[null,null,null,null,null,null,null,null,null,null,null,null,null,null,null,null,null,null,null,null,null,null,null,null,null,null,null,null,null,null,null,null,null,null,null,null,null,null,null,null,null,null,null,null,null,null,null,null,null,null,null,null,null,"",""]
[null,null,null,null,null,null,null,null,null,null,null,null,null,null,null,null,null,null,null,null,null,null,null,null,null,null,null,null,null,null,null,null,null,null,null,null,null,null,null,null,null,null,null,null,null,null,null,null,null,null,null,null,null,"",""]
[null,null,null,null,null,null,null,null,null,null,null,null,null,null,null,null,null,null,null,null,null,null,null,null,null,null,null,null,null,null,null,null,null,null,null,null,null,null,null,null,null,null,null,null,null,null,null,null,null,null,null,null,null,"",""]
[null,null,null,null,null,null,null,null,null,null,null,null,null,null,null,null,null,null,null,null,null,null,null,null,null,null,null,null,null,null,null,null,null,null,null,null,null,null,null,null,null,null,null,null,null,null,null,null,null,null,null,null,null,"",""]
[null,null,null,null,null,null,null,null,null,null,null,null,null,null,null,null,null,null,null,null,null,null,null,null,null,null,null,null,null,null,null,null,null,null,null,null,null,null,null,null,null,null,null,null,null,null,null,null,null,null,null,null,null,"",""]
[null,null,null,null,null,null,null,null,null,null,null,null,null,null,null,null,null,null,null,null,null,null,null,null,null,null,null,null,null,null,null,null,null,null,null,null,null,null,null,null,null,null,null,null,null,null,null,null,null,null,null,null,null,"",""]
[null,null,null,null,null,null,null,null,null,null,null,null,null,null,null,null,null,null,null,null,null,null,null,null,null,null,null,null,null,null,null,null,null,null,null,null,null,null,null,null,null,null,null,null,null,null,null,null,null,null,null,null,null,"",""]
[null,null,null,null,null,null,null,null,null,null,null,null,null,null,null,null,null,null,null,null,null,null,null,null,null,null,null,null,null,null,null,null,null,null,null,null,null,null,null,null,null,null,null,null,null,null,null,null,null,null,null,null,null,"",""]
[null,null,null,null,null,null,null,null,null,null,null,null,null,null,null,null,null,null,null,null,null,null,null,null,null,null,null,null,null,null,null,null,null,null,null,null,null,null,null,null,null,null,null,null,null,null,null,null,null,null,null,null,null,"",""]
[null,null,null,null,null,null,null,null,null,null,null,null,null,null,null,null,null,null,null,null,null,null,null,null,null,null,null,null,null,null,null,null,null,null,null,null,null,null,null,null,null,null,null,null,null,null,null,null,null,null,null,null,null,"",""]
[null,null,null,null,null,null,null,null,null,null,null,null,null,null,null,null,null,null,null,null,null,null,null,null,null,null,null,null,null,null,null,null,null,null,null,null,null,null,null,null,null,null,null,null,null,null,null,null,null,null,null,null,null,"",""]
[null,null,null,null,null,null,null,null,null,null,null,null,null,null,null,null,null,null,null,null,null,null,null,null,null,null,null,null,null,null,null,null,null,null,null,null,null,null,null,null,null,null,null,null,null,null,null,null,null,null,null,null,null,"",""]
[null,null,null,null,null,null,null,null,null,null,null,null,null,null,null,null,null,null,null,null,null,null,null,null,null,null,null,null,null,null,null,null,null,null,null,null,null,null,null,null,null,null,null,null,null,null,null,null,null,null,null,null,null,"",""]
[null,null,null,null,null,null,null,null,null,null,null,null,null,null,null,null,null,null,null,null,null,null,null,null,null,null,null,null,null,null,null,null,null,null,null,null,null,null,null,null,null,null,null,null,null,null,null,null,null,null,null,null,null,"",""]
[null,null,null,null,null,null,null,null,null,null,null,null,null,null,null,null,null,null,null,null,null,null,null,null,null,null,null,null,null,null,null,null,null,null,null,null,null,null,null,null,null,null,null,null,null,null,null,null,null,null,null,null,null,"",""]
[null,null,null,null,null,null,null,null,null,null,null,null,null,null,null,null,null,null,null,null,null,null,null,null,null,null,null,null,null,null,null,null,null,null,null,null,null,null,null,null,null,null,null,null,null,null,null,null,null,null,null,null,null,"",""]
[null,null,null,null,null,null,null,null,null,null,null,null,null,null,null,null,null,null,null,null,null,null,null,null,null,null,null,null,null,null,null,null,null,null,null,null,null,null,null,null,null,null,null,null,null,null,null,null,null,null,null,null,null,"",""]
[null,null,null,null,null,null,null,null,null,null,null,null,null,null,null,null,null,null,null,null,null,null,null,null,null,null,null,null,null,null,null,null,null,null,null,null,null,null,null,null,null,null,null,null,null,null,null,null,null,null,null,null,null,"",""]
[null,null,null,null,null,null,null,null,null,null,null,null,null,null,null,null,null,null,null,null,null,null,null,null,null,null,null,null,null,null,null,null,null,null,null,null,null,null,null,null,null,null,null,null,null,null,null,null,null,null,null,null,null,"",""]
[null,null,null,null,null,null,null,null,null,null,null,null,null,null,null,null,null,null,null,null,null,null,null,null,null,null,null,null,null,null,null,null,null,null,null,null,null,null,null,null,null,null,null,null,null,null,null,null,null,null,null,null,null,"",""]
[null,null,null,null,null,null,null,null,null,null,null,null,null,null,null,null,null,null,null,null,null,null,null,null,null,null,null,null,null,null,null,null,null,null,null,null,null,null,null,null,null,null,null,null,null,null,null,null,null,null,null,null,null,"",""]
[null,null,null,null,null,null,null,null,null,null,null,null,null,null,null,null,null,null,null,null,null,null,null,null,null,null,null,null,null,null,null,null,null,null,null,null,null,null,null,null,null,null,null,null,null,null,null,null,null,null,null,null,null,"",""]
[null,null,null,null,null,null,null,null,null,null,null,null,null,null,null,null,null,null,null,null,null,null,null,null,null,null,null,null,null,null,null,null,null,null,null,null,null,null,null,null,null,null,null,null,null,null,null,null,null,null,null,null,null,"",""]
[null,null,null,null,null,null,null,null,null,null,null,null,null,null,null,null,null,null,null,null,null,null,null,null,null,null,null,null,null,null,null,null,null,null,null,null,null,null,null,null,null,null,null,null,null,null,null,null,null,null,null,null,null,"",""]
[null,null,null,null,null,null,null,null,null,null,null,null,null,null,null,null,null,null,null,null,null,null,null,null,null,null,null,null,null,null,null,null,null,null,null,null,null,null,null,null,null,null,null,null,null,null,null,null,null,null,null,null,null,"",""]
[null,null,null,null,null,null,null,null,null,null,null,null,null,null,null,null,null,null,null,null,null,null,null,null,null,null,null,null,null,null,null,null,null,null,null,null,null,null,null,null,null,null,null,null,null,null,null,null,null,null,null,null,null,"",""]
[null,null,null,null,null,null,null,null,null,null,null,null,null,null,null,null,null,null,null,null,null,null,null,null,null,null,null,null,null,null,null,null,null,null,null,null,null,null,null,null,null,null,null,null,null,null,null,null,null,null,null,null,null,"",""]
[null,null,null,null,null,null,null,null,null,null,null,null,null,null,null,null,null,null,null,null,null,null,null,null,null,null,null,null,null,null,null,null,null,null,null,null,null,null,null,null,null,null,null,null,null,null,null,null,null,null,null,null,null,"",""]
[null,null,null,null,null,null,null,null,null,null,null,null,null,null,null,null,null,null,null,null,null,null,null,null,null,null,null,null,null,null,null,null,null,null,null,null,null,null,null,null,null,null,null,null,null,null,null,null,null,null,null,null,null,"",""]
[null,null,null,null,null,null,null,null,null,null,null,null,null,null,null,null,null,null,null,null,null,null,null,null,null,null,null,null,null,null,null,null,null,null,null,null,null,null,null,null,null,null,null,null,null,null,null,null,null,null,null,null,null,"",""]
[null,null,null,null,null,null,null,null,null,null,null,null,null,null,null,null,null,null,null,null,null,null,null,null,null,null,null,null,null,null,null,null,null,null,null,null,null,null,null,null,null,null,null,null,null,null,null,null,null,null,null,null,null,"",""]
[null,null,null,null,null,null,null,null,null,null,null,null,null,null,null,null,null,null,null,null,null,null,null,null,null,null,null,null,null,null,null,null,null,null,null,null,null,null,null,null,null,null,null,null,null,null,null,null,null,null,null,null,null,"",""]
[null,null,null,null,null,null,null,null,null,null,null,null,null,null,null,null,null,null,null,null,null,null,null,null,null,null,null,null,null,null,null,null,null,null,null,null,null,null,null,null,null,null,null,null,null,null,null,null,null,null,null,null,null,"",""]
[null,null,null,null,null,null,null,null,null,null,null,null,null,null,null,null,null,null,null,null,null,null,null,null,null,null,null,null,null,null,null,null,null,null,null,null,null,null,null,null,null,null,null,null,null,null,null,null,null,null,null,null,null,"",""]
[null,null,null,null,null,null,null,null,null,null,null,null,null,null,null,null,null,null,null,null,null,null,null,null,null,null,null,null,null,null,null,null,null,null,null,null,null,null,null,null,null,null,null,null,null,null,null,null,null,null,null,null,null,"",""]
[null,null,null,null,null,null,null,null,null,null,null,null,null,null,null,null,null,null,null,null,null,null,null,null,null,null,null,null,null,null,null,null,null,null,null,null,null,null,null,null,null,null,null,null,null,null,null,null,null,null,null,null,null,"",""]
[null,null,null,null,null,null,null,null,null,null,null,null,null,null,null,null,null,null,null,null,null,null,null,null,null,null,null,null,null,null,null,null,null,null,null,null,null,null,null,null,null,null,null,null,null,null,null,null,null,null,null,null,null,"",""]
[null,null,null,null,null,null,null,null,null,null,null,null,null,null,null,null,null,null,null,null,null,null,null,null,null,null,null,null,null,null,null,null,null,null,null,null,null,null,null,null,null,null,null,null,null,null,null,null,null,null,null,null,null,"",""]
[null,null,null,null,null,null,null,null,null,null,null,null,null,null,null,null,null,null,null,null,null,null,null,null,null,null,null,null,null,null,null,null,null,null,null,null,null,null,null,null,null,null,null,null,null,null,null,null,null,null,null,null,null,"",""]
[null,null,null,null,null,null,null,null,null,null,null,null,null,null,null,null,null,null,null,null,null,null,null,null,null,null,null,null,null,null,null,null,null,null,null,null,null,null,null,null,null,null,null,null,null,null,null,null,null,null,null,null,null,"",""]
[null,null,null,null,null,null,null,null,null,null,null,null,null,null,null,null,null,null,null,null,null,null,null,null,null,null,null,null,null,null,null,null,null,null,null,null,null,null,null,null,null,null,null,null,null,null,null,null,null,null,null,null,null,"",""]
[null,null,null,null,null,null,null,null,null,null,null,null,null,null,null,null,null,null,null,null,null,null,null,null,null,null,null,null,null,null,null,null,null,null,null,null,null,null,null,null,null,null,null,null,null,null,null,null,null,null,null,null,null,"",""]
[null,null,null,null,null,null,null,null,null,null,null,null,null,null,null,null,null,null,null,null,null,null,null,null,null,null,null,null,null,null,null,null,null,null,null,null,null,null,null,null,null,null,null,null,null,null,null,null,null,null,null,null,null,"",""]
[null,null,null,null,null,null,null,null,null,null,null,null,null,null,null,null,null,null,null,null,null,null,null,null,null,null,null,null,null,null,null,null,null,null,null,null,null,null,null,null,null,null,null,null,null,null,null,null,null,null,null,null,null,"",""]
[null,null,null,null,null,null,null,null,null,null,null,null,null,null,null,null,null,null,null,null,null,null,null,null,null,null,null,null,null,null,null,null,null,null,null,null,null,null,null,null,null,null,null,null,null,null,null,null,null,null,null,null,null,"",""]
[null,null,null,null,null,null,null,null,null,null,null,null,null,null,null,null,null,null,null,null,null,null,null,null,null,null,null,null,null,null,null,null,null,null,null,null,null,null,null,null,null,null,null,null,null,null,null,null,null,null,null,null,null,"",""]
[null,null,null,null,null,null,null,null,null,null,null,null,null,null,null,null,null,null,null,null,null,null,null,null,null,null,null,null,null,null,null,null,null,null,null,null,null,null,null,null,null,null,null,null,null,null,null,null,null,null,null,null,null,"",""]
[null,null,null,null,null,null,null,null,null,null,null,null,null,null,null,null,null,null,null,null,null,null,null,null,null,null,null,null,null,null,null,null,null,null,null,null,null,null,null,null,null,null,null,null,null,null,null,null,null,null,null,null,null,"",""]
[null,null,null,null,null,null,null,null,null,null,null,null,null,null,null,null,null,null,null,null,null,null,null,null,null,null,null,null,null,null,null,null,null,null,null,null,null,null,null,null,null,null,null,null,null,null,null,null,null,null,null,null,null,"",""]
[null,null,null,null,null,null,null,null,null,null,null,null,null,null,null,null,null,null,null,null,null,null,null,null,null,null,null,null,null,null,null,null,null,null,null,null,null,null,null,null,null,null,null,null,null,null,null,null,null,null,null,null,null,"",""]
[null,null,null,null,null,null,null,null,null,null,null,null,null,null,null,null,null,null,null,null,null,null,null,null,null,null,null,null,null,null,null,null,null,null,null,null,null,null,null,null,null,null,null,null,null,null,null,null,null,null,null,null,null,"",""]
[null,null,null,null,null,null,null,null,null,null,null,null,null,null,null,null,null,null,null,null,null,null,null,null,null,null,null,null,null,null,null,null,null,null,null,null,null,null,null,null,null,null,null,null,null,null,null,null,null,null,null,null,null,"",""]
[null,null,null,null,null,null,null,null,null,null,null,null,null,null,null,null,null,null,null,null,null,null,null,null,null,null,null,null,null,null,null,null,null,null,null,null,null,null,null,null,null,null,null,null,null,null,null,null,null,null,null,null,null,"",""]
[null,null,null,null,null,null,null,null,null,null,null,null,null,null,null,null,null,null,null,null,null,null,null,null,null,null,null,null,null,null,null,null,null,null,null,null,null,null,null,null,null,null,null,null,null,null,null,null,null,null,null,null,null,{"$f":"H323&L323&M323","v":""},{"$f":"H323&L323&M323&N323&O323&P323","v":""}]
[null,null,null,null,null,null,null,null,null,null,null,null,null,null,null,null,null,null,null,null,null,null,null,null,null,null,null,null,null,null,null,null,null,null,null,null,null,null,null,null,null,null,null,null,null,null,null,null,null,null,null,null,null,"",""]
[null,null,null,null,null,null,null,null,null,null,null,null,null,null,null,null,null,null,null,null,null,null,null,null,null,null,null,null,null,null,null,null,null,null,null,null,null,null,null,null,null,null,null,null,null,null,null,null,null,null,null,null,null,"",""]
[null,null,null,null,null,null,null,null,null,null,null,null,null,null,null,null,null,null,null,null,null,null,null,null,null,null,null,null,null,null,null,null,null,null,null,null,null,null,null,null,null,null,null,null,null,null,null,null,null,null,null,null,null,"",""]
[null,null,null,null,null,null,null,null,null,null,null,null,null,null,null,null,null,null,null,null,null,null,null,null,null,null,null,null,null,null,null,null,null,null,null,null,null,null,null,null,null,null,null,null,null,null,null,null,null,null,null,null,null,"",""]
[null,null,null,null,null,null,null,null,null,null,null,null,null,null,null,null,null,null,null,null,null,null,null,null,null,null,null,null,null,null,null,null,null,null,null,null,null,null,null,null,null,null,null,null,null,null,null,null,null,null,null,null,null,"",""]
[null,null,null,null,null,null,null,null,null,null,null,null,null,null,null,null,null,null,null,null,null,null,null,null,null,null,null,null,null,null,null,null,null,null,null,null,null,null,null,null,null,null,null,null,null,null,null,null,null,null,null,null,null,"",""]
[null,null,null,null,null,null,null,null,null,null,null,null,null,null,null,null,null,null,null,null,null,null,null,null,null,null,null,null,null,null,null,null,null,null,null,null,null,null,null,null,null,null,null,null,null,null,null,null,null,null,null,null,null,"",""]
[null,null,null,null,null,null,null,null,null,null,null,null,null,null,null,null,null,null,null,null,null,null,null,null,null,null,null,null,null,null,null,null,null,null,null,null,null,null,null,null,null,null,null,null,null,null,null,null,null,null,null,null,null,"",""]
[null,null,null,null,null,null,null,null,null,null,null,null,null,null,null,null,null,null,null,null,null,null,null,null,null,null,null,null,null,null,null,null,null,null,null,null,null,null,null,null,null,null,null,null,null,null,null,null,null,null,null,null,null,"",""]
[null,null,null,null,null,null,null,null,null,null,null,null,null,null,null,null,null,null,null,null,null,null,null,null,null,null,null,null,null,null,null,null,null,null,null,null,null,null,null,null,null,null,null,null,null,null,null,null,null,null,null,null,null,"",""]
[null,null,null,null,null,null,null,null,null,null,null,null,null,null,null,null,null,null,null,null,null,null,null,null,null,null,null,null,null,null,null,null,null,null,null,null,null,null,null,null,null,null,null,null,null,null,null,null,null,null,null,null,null,"",""]
[null,null,null,null,null,null,null,null,null,null,null,null,null,null,null,null,null,null,null,null,null,null,null,null,null,null,null,null,null,null,null,null,null,null,null,null,null,null,null,null,null,null,null,null,null,null,null,null,null,null,null,null,null,"",""]
[null,null,null,null,null,null,null,null,null,null,null,null,null,null,null,null,null,null,null,null,null,null,null,null,null,null,null,null,null,null,null,null,null,null,null,null,null,null,null,null,null,null,null,null,null,null,null,null,null,null,null,null,null,"",""]
[null,null,null,null,null,null,null,null,null,null,null,null,null,null,null,null,null,null,null,null,null,null,null,null,null,null,null,null,null,null,null,null,null,null,null,null,null,null,null,null,null,null,null,null,null,null,null,null,null,null,null,null,null,"",""]
[null,null,null,null,null,null,null,null,null,null,null,null,null,null,null,null,null,null,null,null,null,null,null,null,null,null,null,null,null,null,null,null,null,null,null,null,null,null,null,null,null,null,null,null,null,null,null,null,null,null,null,null,null,"",""]
[null,null,null,null,null,null,null,null,null,null,null,null,null,null,null,null,null,null,null,null,null,null,null,null,null,null,null,null,null,null,null,null,null,null,null,null,null,null,null,null,null,null,null,null,null,null,null,null,null,null,null,null,null,"",""]
[null,null,null,null,null,null,null,null,null,null,null,null,null,null,null,null,null,null,null,null,null,null,null,null,null,null,null,null,null,null,null,null,null,null,null,null,null,null,null,null,null,null,null,null,null,null,null,null,null,null,null,null,null,"",""]
[null,null,null,null,null,null,null,null,null,null,null,null,null,null,null,null,null,null,null,null,null,null,null,null,null,null,null,null,null,null,null,null,null,null,null,null,null,null,null,null,null,null,null,null,null,null,null,null,null,null,null,null,null,"",""]
[null,null,null,null,null,null,null,null,null,null,null,null,null,null,null,null,null,null,null,null,null,null,null,null,null,null,null,null,null,null,null,null,null,null,null,null,null,null,null,null,null,null,null,null,null,null,null,null,null,null,null,null,null,"",""]
[null,null,null,null,null,null,null,null,null,null,null,null,null,null,null,null,null,null,null,null,null,null,null,null,null,null,null,null,null,null,null,null,null,null,null,null,null,null,null,null,null,null,null,null,null,null,null,null,null,null,null,null,null,"",""]
[null,null,null,null,null,null,null,null,null,null,null,null,null,null,null,null,null,null,null,null,null,null,null,null,null,null,null,null,null,null,null,null,null,null,null,null,null,null,null,null,null,null,null,null,null,null,null,null,null,null,null,null,null,"",""]
[null,null,null,null,null,null,null,null,null,null,null,null,null,null,null,null,null,null,null,null,null,null,null,null,null,null,null,null,null,null,null,null,null,null,null,null,null,null,null,null,null,null,null,null,null,null,null,null,null,null,null,null,null,"",""]
[null,null,null,null,null,null,null,null,null,null,null,null,null,null,null,null,null,null,null,null,null,null,null,null,null,null,null,null,null,null,null,null,null,null,null,null,null,null,null,null,null,null,null,null,null,null,null,null,null,null,null,null,null,"",""]
[null,null,null,null,null,null,null,null,null,null,null,null,null,null,null,null,null,null,null,null,null,null,null,null,null,null,null,null,null,null,null,null,null,null,null,null,null,null,null,null,null,null,null,null,null,null,null,null,null,null,null,null,null,"",""]
[null,null,null,null,null,null,null,null,null,null,null,null,null,null,null,null,null,null,null,null,null,null,null,null,null,null,null,null,null,null,null,null,null,null,null,null,null,null,null,null,null,null,null,null,null,null,null,null,null,null,null,null,null,"",""]
[null,null,null,null,null,null,null,null,null,null,null,null,null,null,null,null,null,null,null,null,null,null,null,null,null,null,null,null,null,null,null,null,null,null,null,null,null,null,null,null,null,null,null,null,null,null,null,null,null,null,null,null,null,"",""]
[null,null,null,null,null,null,null,null,null,null,null,null,null,null,null,null,null,null,null,null,null,null,null,null,null,null,null,null,null,null,null,null,null,null,null,null,null,null,null,null,null,null,null,null,null,null,null,null,null,null,null,null,null,"",""]
[null,null,null,null,null,null,null,null,null,null,null,null,null,null,null,null,null,null,null,null,null,null,null,null,null,null,null,null,null,null,null,null,null,null,null,null,null,null,null,null,null,null,null,null,null,null,null,null,null,null,null,null,null,"",""]
[null,null,null,null,null,null,null,null,null,null,null,null,null,null,null,null,null,null,null,null,null,null,null,null,null,null,null,null,null,null,null,null,null,null,null,null,null,null,null,null,null,null,null,null,null,null,null,null,null,null,null,null,null,"",""]
[null,null,null,null,null,null,null,null,null,null,null,null,null,null,null,null,null,null,null,null,null,null,null,null,null,null,null,null,null,null,null,null,null,null,null,null,null,null,null,null,null,null,null,null,null,null,null,null,null,null,null,null,null,"",""]
[null,null,null,null,null,null,null,null,null,null,null,null,null,null,null,null,null,null,null,null,null,null,null,null,null,null,null,null,null,null,null,null,null,null,null,null,null,null,null,null,null,null,null,null,null,null,null,null,null,null,null,null,null,"",""]
[null,null,null,null,null,null,null,null,null,null,null,null,null,null,null,null,null,null,null,null,null,null,null,null,null,null,null,null,null,null,null,null,null,null,null,null,null,null,null,null,null,null,null,null,null,null,null,null,null,null,null,null,null,"",""]
[null,null,null,null,null,null,null,null,null,null,null,null,null,null,null,null,null,null,null,null,null,null,null,null,null,null,null,null,null,null,null,null,null,null,null,null,null,null,null,null,null,null,null,null,null,null,null,null,null,null,null,null,null,"",""]
[null,null,null,null,null,null,null,null,null,null,null,null,null,null,null,null,null,null,null,null,null,null,null,null,null,null,null,null,null,null,null,null,null,null,null,null,null,null,null,null,null,null,null,null,null,null,null,null,null,null,null,null,null,"",""]
[null,null,null,null,null,null,null,null,null,null,null,null,null,null,null,null,null,null,null,null,null,null,null,null,null,null,null,null,null,null,null,null,null,null,null,null,null,null,null,null,null,null,null,null,null,null,null,null,null,null,null,null,null,"",""]
[null,null,null,null,null,null,null,null,null,null,null,null,null,null,null,null,null,null,null,null,null,null,null,null,null,null,null,null,null,null,null,null,null,null,null,null,null,null,null,null,null,null,null,null,null,null,null,null,null,null,null,null,null,"",""]
[null,null,null,null,null,null,null,null,null,null,null,null,null,null,null,null,null,null,null,null,null,null,null,null,null,null,null,null,null,null,null,null,null,null,null,null,null,null,null,null,null,null,null,null,null,null,null,null,null,null,null,null,null,"",""]
[null,null,null,null,null,null,null,null,null,null,null,null,null,null,null,null,null,null,null,null,null,null,null,null,null,null,null,null,null,null,null,null,null,null,null,null,null,null,null,null,null,null,null,null,null,null,null,null,null,null,null,null,null,"",""]
[null,null,null,null,null,null,null,null,null,null,null,null,null,null,null,null,null,null,null,null,null,null,null,null,null,null,null,null,null,null,null,null,null,null,null,null,null,null,null,null,null,null,null,null,null,null,null,null,null,null,null,null,null,"",""]
[null,null,null,null,null,null,null,null,null,null,null,null,null,null,null,null,null,null,null,null,null,null,null,null,null,null,null,null,null,null,null,null,null,null,null,null,null,null,null,null,null,null,null,null,null,null,null,null,null,null,null,null,null,"",""]
[null,null,null,null,null,null,null,null,null,null,null,null,null,null,null,null,null,null,null,null,null,null,null,null,null,null,null,null,null,null,null,null,null,null,null,null,null,null,null,null,null,null,null,null,null,null,null,null,null,null,null,null,null,"",""]
[null,null,null,null,null,null,null,null,null,null,null,null,null,null,null,null,null,null,null,null,null,null,null,null,null,null,null,null,null,null,null,null,null,null,null,null,null,null,null,null,null,null,null,null,null,null,null,null,null,null,null,null,null,"",""]
[null,null,null,null,null,null,null,null,null,null,null,null,null,null,null,null,null,null,null,null,null,null,null,null,null,null,null,null,null,null,null,null,null,null,null,null,null,null,null,null,null,null,null,null,null,null,null,null,null,null,null,null,null,"",""]
[null,null,null,null,null,null,null,null,null,null,null,null,null,null,null,null,null,null,null,null,null,null,null,null,null,null,null,null,null,null,null,null,null,null,null,null,null,null,null,null,null,null,null,null,null,null,null,null,null,null,null,null,null,"",""]
[null,null,null,null,null,null,null,null,null,null,null,null,null,null,null,null,null,null,null,null,null,null,null,null,null,null,null,null,null,null,null,null,null,null,null,null,null,null,null,null,null,null,null,null,null,null,null,null,null,null,null,null,null,"",""]
[null,null,null,null,null,null,null,null,null,null,null,null,null,null,null,null,null,null,null,null,null,null,null,null,null,null,null,null,null,null,null,null,null,null,null,null,null,null,null,null,null,null,null,null,null,null,null,null,null,null,null,null,null,"",""]
[null,null,null,null,null,null,null,null,null,null,null,null,null,null,null,null,null,null,null,null,null,null,null,null,null,null,null,null,null,null,null,null,null,null,null,null,null,null,null,null,null,null,null,null,null,null,null,null,null,null,null,null,null,"",""]
[null,null,null,null,null,null,null,null,null,null,null,null,null,null,null,null,null,null,null,null,null,null,null,null,null,null,null,null,null,null,null,null,null,null,null,null,null,null,null,null,null,null,null,null,null,null,null,null,null,null,null,null,null,"",""]
[null,null,null,null,null,null,null,null,null,null,null,null,null,null,null,null,null,null,null,null,null,null,null,null,null,null,null,null,null,null,null,null,null,null,null,null,null,null,null,null,null,null,null,null,null,null,null,null,null,null,null,null,null,"",""]
[null,null,null,null,null,null,null,null,null,null,null,null,null,null,null,null,null,null,null,null,null,null,null,null,null,null,null,null,null,null,null,null,null,null,null,null,null,null,null,null,null,null,null,null,null,null,null,null,null,null,null,null,null,"",""]
[null,null,null,null,null,null,null,null,null,null,null,null,null,null,null,null,null,null,null,null,null,null,null,null,null,null,null,null,null,null,null,null,null,null,null,null,null,null,null,null,null,null,null,null,null,null,null,null,null,null,null,null,null,"",""]
[null,null,null,null,null,null,null,null,null,null,null,null,null,null,null,null,null,null,null,null,null,null,null,null,null,null,null,null,null,null,null,null,null,null,null,null,null,null,null,null,null,null,null,null,null,null,null,null,null,null,null,null,null,"",""]
[null,null,null,null,null,null,null,null,null,null,null,null,null,null,null,null,null,null,null,null,null,null,null,null,null,null,null,null,null,null,null,null,null,null,null,null,null,null,null,null,null,null,null,null,null,null,null,null,null,null,null,null,null,"",""]
[null,null,null,null,null,null,null,null,null,null,null,null,null,null,null,null,null,null,null,null,null,null,null,null,null,null,null,null,null,null,null,null,null,null,null,null,null,null,null,null,null,null,null,null,null,null,null,null,null,null,null,null,null,"",""]
[null,null,null,null,null,null,null,null,null,null,null,null,null,null,null,null,null,null,null,null,null,null,null,null,null,null,null,null,null,null,null,null,null,null,null,null,null,null,null,null,null,null,null,null,null,null,null,null,null,null,null,null,null,"",""]
[null,null,null,null,null,null,null,null,null,null,null,null,null,null,null,null,null,null,null,null,null,null,null,null,null,null,null,null,null,null,null,null,null,null,null,null,null,null,null,null,null,null,null,null,null,null,null,null,null,null,null,null,null,"",""]
[null,null,null,null,null,null,null,null,null,null,null,null,null,null,null,null,null,null,null,null,null,null,null,null,null,null,null,null,null,null,null,null,null,null,null,null,null,null,null,null,null,null,null,null,null,null,null,null,null,null,null,null,null,"",""]
[null,null,null,null,null,null,null,null,null,null,null,null,null,null,null,null,null,null,null,null,null,null,null,null,null,null,null,null,null,null,null,null,null,null,null,null,null,null,null,null,null,null,null,null,null,null,null,null,null,null,null,null,null,"",""]
[null,null,null,null,null,null,null,null,null,null,null,null,null,null,null,null,null,null,null,null,null,null,null,null,null,null,null,null,null,null,null,null,null,null,null,null,null,null,null,null,null,null,null,null,null,null,null,null,null,null,null,null,null,"",""]
[null,null,null,null,null,null,null,null,null,null,null,null,null,null,null,null,null,null,null,null,null,null,null,null,null,null,null,null,null,null,null,null,null,null,null,null,null,null,null,null,null,null,null,null,null,null,null,null,null,null,null,null,null,"",""]
[null,null,null,null,null,null,null,null,null,null,null,null,null,null,null,null,null,null,null,null,null,null,null,null,null,null,null,null,null,null,null,null,null,null,null,null,null,null,null,null,null,null,null,null,null,null,null,null,null,null,null,null,null,"",""]
[null,null,null,null,null,null,null,null,null,null,null,null,null,null,null,null,null,null,null,null,null,null,null,null,null,null,null,null,null,null,null,null,null,null,null,null,null,null,null,null,null,null,null,null,null,null,null,null,null,null,null,null,null,"",""]
[null,null,null,null,null,null,null,null,null,null,null,null,null,null,null,null,null,null,null,null,null,null,null,null,null,null,null,null,null,null,null,null,null,null,null,null,null,null,null,null,null,null,null,null,null,null,null,null,null,null,null,null,null,"",""]
[null,null,null,null,null,null,null,null,null,null,null,null,null,null,null,null,null,null,null,null,null,null,null,null,null,null,null,null,null,null,null,null,null,null,null,null,null,null,null,null,null,null,null,null,null,null,null,null,null,null,null,null,null,{"$f":"H387&L387&M387","v":""},{"$f":"H387&L387&M387&N387&O387&P387","v":""}]
[null,null,null,null,null,null,null,null,null,null,null,null,null,null,null,null,null,null,null,null,null,null,null,null,null,null,null,null,null,null,null,null,null,null,null,null,null,null,null,null,null,null,null,null,null,null,null,null,null,null,null,null,null,"",""]
[null,null,null,null,null,null,null,null,null,null,null,null,null,null,null,null,null,null,null,null,null,null,null,null,null,null,null,null,null,null,null,null,null,null,null,null,null,null,null,null,null,null,null,null,null,null,null,null,null,null,null,null,null,"",""]
[null,null,null,null,null,null,null,null,null,null,null,null,null,null,null,null,null,null,null,null,null,null,null,null,null,null,null,null,null,null,null,null,null,null,null,null,null,null,null,null,null,null,null,null,null,null,null,null,null,null,null,null,null,"",""]
[null,null,null,null,null,null,null,null,null,null,null,null,null,null,null,null,null,null,null,null,null,null,null,null,null,null,null,null,null,null,null,null,null,null,null,null,null,null,null,null,null,null,null,null,null,null,null,null,null,null,null,null,null,"",""]
[null,null,null,null,null,null,null,null,null,null,null,null,null,null,null,null,null,null,null,null,null,null,null,null,null,null,null,null,null,null,null,null,null,null,null,null,null,null,null,null,null,null,null,null,null,null,null,null,null,null,null,null,null,"",""]
[null,null,null,null,null,null,null,null,null,null,null,null,null,null,null,null,null,null,null,null,null,null,null,null,null,null,null,null,null,null,null,null,null,null,null,null,null,null,null,null,null,null,null,null,null,null,null,null,null,null,null,null,null,"",""]
[null,null,null,null,null,null,null,null,null,null,null,null,null,null,null,null,null,null,null,null,null,null,null,null,null,null,null,null,null,null,null,null,null,null,null,null,null,null,null,null,null,null,null,null,null,null,null,null,null,null,null,null,null,"",""]
[null,null,null,null,null,null,null,null,null,null,null,null,null,null,null,null,null,null,null,null,null,null,null,null,null,null,null,null,null,null,null,null,null,null,null,null,null,null,null,null,null,null,null,null,null,null,null,null,null,null,null,null,null,"",""]
[null,null,null,null,null,null,null,null,null,null,null,null,null,null,null,null,null,null,null,null,null,null,null,null,null,null,null,null,null,null,null,null,null,null,null,null,null,null,null,null,null,null,null,null,null,null,null,null,null,null,null,null,null,"",""]
[null,null,null,null,null,null,null,null,null,null,null,null,null,null,null,null,null,null,null,null,null,null,null,null,null,null,null,null,null,null,null,null,null,null,null,null,null,null,null,null,null,null,null,null,null,null,null,null,null,null,null,null,null,"",""]
[null,null,null,null,null,null,null,null,null,null,null,null,null,null,null,null,null,null,null,null,null,null,null,null,null,null,null,null,null,null,null,null,null,null,null,null,null,null,null,null,null,null,null,null,null,null,null,null,null,null,null,null,null,"",""]
[null,null,null,null,null,null,null,null,null,null,null,null,null,null,null,null,null,null,null,null,null,null,null,null,null,null,null,null,null,null,null,null,null,null,null,null,null,null,null,null,null,null,null,null,null,null,null,null,null,null,null,null,null,"",""]
[null,null,null,null,null,null,null,null,null,null,null,null,null,null,null,null,null,null,null,null,null,null,null,null,null,null,null,null,null,null,null,null,null,null,null,null,null,null,null,null,null,null,null,null,null,null,null,null,null,null,null,null,null,"",""]
[null,null,null,null,null,null,null,null,null,null,null,null,null,null,null,null,null,null,null,null,null,null,null,null,null,null,null,null,null,null,null,null,null,null,null,null,null,null,null,null,null,null,null,null,null,null,null,null,null,null,null,null,null,"",""]
[null,null,null,null,null,null,null,null,null,null,null,null,null,null,null,null,null,null,null,null,null,null,null,null,null,null,null,null,null,null,null,null,null,null,null,null,null,null,null,null,null,null,null,null,null,null,null,null,null,null,null,null,null,"",""]
[null,null,null,null,null,null,null,null,null,null,null,null,null,null,null,null,null,null,null,null,null,null,null,null,null,null,null,null,null,null,null,null,null,null,null,null,null,null,null,null,null,null,null,null,null,null,null,null,null,null,null,null,null,"",""]
[null,null,null,null,null,null,null,null,null,null,null,null,null,null,null,null,null,null,null,null,null,null,null,null,null,null,null,null,null,null,null,null,null,null,null,null,null,null,null,null,null,null,null,null,null,null,null,null,null,null,null,null,null,"",""]
[null,null,null,null,null,null,null,null,null,null,null,null,null,null,null,null,null,null,null,null,null,null,null,null,null,null,null,null,null,null,null,null,null,null,null,null,null,null,null,null,null,null,null,null,null,null,null,null,null,null,null,null,null,"",""]
[null,null,null,null,null,null,null,null,null,null,null,null,null,null,null,null,null,null,null,null,null,null,null,null,null,null,null,null,null,null,null,null,null,null,null,null,null,null,null,null,null,null,null,null,null,null,null,null,null,null,null,null,null,"",""]
[null,null,null,null,null,null,null,null,null,null,null,null,null,null,null,null,null,null,null,null,null,null,null,null,null,null,null,null,null,null,null,null,null,null,null,null,null,null,null,null,null,null,null,null,null,null,null,null,null,null,null,null,null,"",""]
[null,null,null,null,null,null,null,null,null,null,null,null,null,null,null,null,null,null,null,null,null,null,null,null,null,null,null,null,null,null,null,null,null,null,null,null,null,null,null,null,null,null,null,null,null,null,null,null,null,null,null,null,null,"",""]
[null,null,null,null,null,null,null,null,null,null,null,null,null,null,null,null,null,null,null,null,null,null,null,null,null,null,null,null,null,null,null,null,null,null,null,null,null,null,null,null,null,null,null,null,null,null,null,null,null,null,null,null,null,"",""]
[null,null,null,null,null,null,null,null,null,null,null,null,null,null,null,null,null,null,null,null,null,null,null,null,null,null,null,null,null,null,null,null,null,null,null,null,null,null,null,null,null,null,null,null,null,null,null,null,null,null,null,null,null,"",""]
[null,null,null,null,null,null,null,null,null,null,null,null,null,null,null,null,null,null,null,null,null,null,null,null,null,null,null,null,null,null,null,null,null,null,null,null,null,null,null,null,null,null,null,null,null,null,null,null,null,null,null,null,null,"",""]
[null,null,null,null,null,null,null,null,null,null,null,null,null,null,null,null,null,null,null,null,null,null,null,null,null,null,null,null,null,null,null,null,null,null,null,null,null,null,null,null,null,null,null,null,null,null,null,null,null,null,null,null,null,"",""]
[null,null,null,null,null,null,null,null,null,null,null,null,null,null,null,null,null,null,null,null,null,null,null,null,null,null,null,null,null,null,null,null,null,null,null,null,null,null,null,null,null,null,null,null,null,null,null,null,null,null,null,null,null,"",""]
[null,null,null,null,null,null,null,null,null,null,null,null,null,null,null,null,null,null,null,null,null,null,null,null,null,null,null,null,null,null,null,null,null,null,null,null,null,null,null,null,null,null,null,null,null,null,null,null,null,null,null,null,null,"",""]
[null,null,null,null,null,null,null,null,null,null,null,null,null,null,null,null,null,null,null,null,null,null,null,null,null,null,null,null,null,null,null,null,null,null,null,null,null,null,null,null,null,null,null,null,null,null,null,null,null,null,null,null,null,"",""]
[null,null,null,null,null,null,null,null,null,null,null,null,null,null,null,null,null,null,null,null,null,null,null,null,null,null,null,null,null,null,null,null,null,null,null,null,null,null,null,null,null,null,null,null,null,null,null,null,null,null,null,null,null,"",""]
[null,null,null,null,null,null,null,null,null,null,null,null,null,null,null,null,null,null,null,null,null,null,null,null,null,null,null,null,null,null,null,null,null,null,null,null,null,null,null,null,null,null,null,null,null,null,null,null,null,null,null,null,null,"",""]
[null,null,null,null,null,null,null,null,null,null,null,null,null,null,null,null,null,null,null,null,null,null,null,null,null,null,null,null,null,null,null,null,null,null,null,null,null,null,null,null,null,null,null,null,null,null,null,null,null,null,null,null,null,"",""]
[null,null,null,null,null,null,null,null,null,null,null,null,null,null,null,null,null,null,null,null,null,null,null,null,null,null,null,null,null,null,null,null,null,null,null,null,null,null,null,null,null,null,null,null,null,null,null,null,null,null,null,null,null,"",""]
[null,null,null,null,null,null,null,null,null,null,null,null,null,null,null,null,null,null,null,null,null,null,null,null,null,null,null,null,null,null,null,null,null,null,null,null,null,null,null,null,null,null,null,null,null,null,null,null,null,null,null,null,null,"",""]
[null,null,null,null,null,null,null,null,null,null,null,null,null,null,null,null,null,null,null,null,null,null,null,null,null,null,null,null,null,null,null,null,null,null,null,null,null,null,null,null,null,null,null,null,null,null,null,null,null,null,null,null,null,"",""]
[null,null,null,null,null,null,null,null,null,null,null,null,null,null,null,null,null,null,null,null,null,null,null,null,null,null,null,null,null,null,null,null,null,null,null,null,null,null,null,null,null,null,null,null,null,null,null,null,null,null,null,null,null,"",""]
[null,null,null,null,null,null,null,null,null,null,null,null,null,null,null,null,null,null,null,null,null,null,null,null,null,null,null,null,null,null,null,null,null,null,null,null,null,null,null,null,null,null,null,null,null,null,null,null,null,null,null,null,null,"",""]
[null,null,null,null,null,null,null,null,null,null,null,null,null,null,null,null,null,null,null,null,null,null,null,null,null,null,null,null,null,null,null,null,null,null,null,null,null,null,null,null,null,null,null,null,null,null,null,null,null,null,null,null,null,"",""]
[null,null,null,null,null,null,null,null,null,null,null,null,null,null,null,null,null,null,null,null,null,null,null,null,null,null,null,null,null,null,null,null,null,null,null,null,null,null,null,null,null,null,null,null,null,null,null,null,null,null,null,null,null,"",""]
[null,null,null,null,null,null,null,null,null,null,null,null,null,null,null,null,null,null,null,null,null,null,null,null,null,null,null,null,null,null,null,null,null,null,null,null,null,null,null,null,null,null,null,null,null,null,null,null,null,null,null,null,null,"",""]
[null,null,null,null,null,null,null,null,null,null,null,null,null,null,null,null,null,null,null,null,null,null,null,null,null,null,null,null,null,null,null,null,null,null,null,null,null,null,null,null,null,null,null,null,null,null,null,null,null,null,null,null,null,"",""]
[null,null,null,null,null,null,null,null,null,null,null,null,null,null,null,null,null,null,null,null,null,null,null,null,null,null,null,null,null,null,null,null,null,null,null,null,null,null,null,null,null,null,null,null,null,null,null,null,null,null,null,null,null,"",""]
[null,null,null,null,null,null,null,null,null,null,null,null,null,null,null,null,null,null,null,null,null,null,null,null,null,null,null,null,null,null,null,null,null,null,null,null,null,null,null,null,null,null,null,null,null,null,null,null,null,null,null,null,null,"",""]
[null,null,null,null,null,null,null,null,null,null,null,null,null,null,null,null,null,null,null,null,null,null,null,null,null,null,null,null,null,null,null,null,null,null,null,null,null,null,null,null,null,null,null,null,null,null,null,null,null,null,null,null,null,"",""]
[null,null,null,null,null,null,null,null,null,null,null,null,null,null,null,null,null,null,null,null,null,null,null,null,null,null,null,null,null,null,null,null,null,null,null,null,null,null,null,null,null,null,null,null,null,null,null,null,null,null,null,null,null,"",""]
[null,null,null,null,null,null,null,null,null,null,null,null,null,null,null,null,null,null,null,null,null,null,null,null,null,null,null,null,null,null,null,null,null,null,null,null,null,null,null,null,null,null,null,null,null,null,null,null,null,null,null,null,null,"",""]
[null,null,null,null,null,null,null,null,null,null,null,null,null,null,null,null,null,null,null,null,null,null,null,null,null,null,null,null,null,null,null,null,null,null,null,null,null,null,null,null,null,null,null,null,null,null,null,null,null,null,null,null,null,"",""]
[null,null,null,null,null,null,null,null,null,null,null,null,null,null,null,null,null,null,null,null,null,null,null,null,null,null,null,null,null,null,null,null,null,null,null,null,null,null,null,null,null,null,null,null,null,null,null,null,null,null,null,null,null,"",""]
[null,null,null,null,null,null,null,null,null,null,null,null,null,null,null,null,null,null,null,null,null,null,null,null,null,null,null,null,null,null,null,null,null,null,null,null,null,null,null,null,null,null,null,null,null,null,null,null,null,null,null,null,null,"",""]
[null,null,null,null,null,null,null,null,null,null,null,null,null,null,null,null,null,null,null,null,null,null,null,null,null,null,null,null,null,null,null,null,null,null,null,null,null,null,null,null,null,null,null,null,null,null,null,null,null,null,null,null,null,"",""]
[null,null,null,null,null,null,null,null,null,null,null,null,null,null,null,null,null,null,null,null,null,null,null,null,null,null,null,null,null,null,null,null,null,null,null,null,null,null,null,null,null,null,null,null,null,null,null,null,null,null,null,null,null,"",""]
[null,null,null,null,null,null,null,null,null,null,null,null,null,null,null,null,null,null,null,null,null,null,null,null,null,null,null,null,null,null,null,null,null,null,null,null,null,null,null,null,null,null,null,null,null,null,null,null,null,null,null,null,null,"",""]
[null,null,null,null,null,null,null,null,null,null,null,null,null,null,null,null,null,null,null,null,null,null,null,null,null,null,null,null,null,null,null,null,null,null,null,null,null,null,null,null,null,null,null,null,null,null,null,null,null,null,null,null,null,"",""]
[null,null,null,null,null,null,null,null,null,null,null,null,null,null,null,null,null,null,null,null,null,null,null,null,null,null,null,null,null,null,null,null,null,null,null,null,null,null,null,null,null,null,null,null,null,null,null,null,null,null,null,null,null,"",""]
[null,null,null,null,null,null,null,null,null,null,null,null,null,null,null,null,null,null,null,null,null,null,null,null,null,null,null,null,null,null,null,null,null,null,null,null,null,null,null,null,null,null,null,null,null,null,null,null,null,null,null,null,null,"",""]
[null,null,null,null,null,null,null,null,null,null,null,null,null,null,null,null,null,null,null,null,null,null,null,null,null,null,null,null,null,null,null,null,null,null,null,null,null,null,null,null,null,null,null,null,null,null,null,null,null,null,null,null,null,"",""]
[null,null,null,null,null,null,null,null,null,null,null,null,null,null,null,null,null,null,null,null,null,null,null,null,null,null,null,null,null,null,null,null,null,null,null,null,null,null,null,null,null,null,null,null,null,null,null,null,null,null,null,null,null,"",""]
[null,null,null,null,null,null,null,null,null,null,null,null,null,null,null,null,null,null,null,null,null,null,null,null,null,null,null,null,null,null,null,null,null,null,null,null,null,null,null,null,null,null,null,null,null,null,null,null,null,null,null,null,null,"",""]
[null,null,null,null,null,null,null,null,null,null,null,null,null,null,null,null,null,null,null,null,null,null,null,null,null,null,null,null,null,null,null,null,null,null,null,null,null,null,null,null,null,null,null,null,null,null,null,null,null,null,null,null,null,"",""]
[null,null,null,null,null,null,null,null,null,null,null,null,null,null,null,null,null,null,null,null,null,null,null,null,null,null,null,null,null,null,null,null,null,null,null,null,null,null,null,null,null,null,null,null,null,null,null,null,null,null,null,null,null,"",""]
[null,null,null,null,null,null,null,null,null,null,null,null,null,null,null,null,null,null,null,null,null,null,null,null,null,null,null,null,null,null,null,null,null,null,null,null,null,null,null,null,null,null,null,null,null,null,null,null,null,null,null,null,null,"",""]
[null,null,null,null,null,null,null,null,null,null,null,null,null,null,null,null,null,null,null,null,null,null,null,null,null,null,null,null,null,null,null,null,null,null,null,null,null,null,null,null,null,null,null,null,null,null,null,null,null,null,null,null,null,"",""]
[null,null,null,null,null,null,null,null,null,null,null,null,null,null,null,null,null,null,null,null,null,null,null,null,null,null,null,null,null,null,null,null,null,null,null,null,null,null,null,null,null,null,null,null,null,null,null,null,null,null,null,null,null,"",""]
[null,null,null,null,null,null,null,null,null,null,null,null,null,null,null,null,null,null,null,null,null,null,null,null,null,null,null,null,null,null,null,null,null,null,null,null,null,null,null,null,null,null,null,null,null,null,null,null,null,null,null,null,null,"",""]
[null,null,null,null,null,null,null,null,null,null,null,null,null,null,null,null,null,null,null,null,null,null,null,null,null,null,null,null,null,null,null,null,null,null,null,null,null,null,null,null,null,null,null,null,null,null,null,null,null,null,null,null,null,{"$f":"H451&L451&M451","v":""},{"$f":"H451&L451&M451&N451&O451&P451","v":""}]
[null,null,null,null,null,null,null,null,null,null,null,null,null,null,null,null,null,null,null,null,null,null,null,null,null,null,null,null,null,null,null,null,null,null,null,null,null,null,null,null,null,null,null,null,null,null,null,null,null,null,null,null,null,"",""]
[null,null,null,null,null,null,null,null,null,null,null,null,null,null,null,null,null,null,null,null,null,null,null,null,null,null,null,null,null,null,null,null,null,null,null,null,null,null,null,null,null,null,null,null,null,null,null,null,null,null,null,null,null,"",""]
[null,null,null,null,null,null,null,null,null,null,null,null,null,null,null,null,null,null,null,null,null,null,null,null,null,null,null,null,null,null,null,null,null,null,null,null,null,null,null,null,null,null,null,null,null,null,null,null,null,null,null,null,null,"",""]
[null,null,null,null,null,null,null,null,null,null,null,null,null,null,null,null,null,null,null,null,null,null,null,null,null,null,null,null,null,null,null,null,null,null,null,null,null,null,null,null,null,null,null,null,null,null,null,null,null,null,null,null,null,"",""]
[null,null,null,null,null,null,null,null,null,null,null,null,null,null,null,null,null,null,null,null,null,null,null,null,null,null,null,null,null,null,null,null,null,null,null,null,null,null,null,null,null,null,null,null,null,null,null,null,null,null,null,null,null,"",""]
[null,null,null,null,null,null,null,null,null,null,null,null,null,null,null,null,null,null,null,null,null,null,null,null,null,null,null,null,null,null,null,null,null,null,null,null,null,null,null,null,null,null,null,null,null,null,null,null,null,null,null,null,null,"",""]
[null,null,null,null,null,null,null,null,null,null,null,null,null,null,null,null,null,null,null,null,null,null,null,null,null,null,null,null,null,null,null,null,null,null,null,null,null,null,null,null,null,null,null,null,null,null,null,null,null,null,null,null,null,"",""]

{"sheet":"Liste","index":2,"n_rows":38,"n_cols":7,"rows_kept":38,"cut":false,"hidden":true,"merged":[]}
["Liste des bancs",null,"Service maintenance","MDP","Fiche d'intervention","BDD","Liste"]
["Banc P1",null,"Christophe Gauvin","Christophe","X","X","X"]
["Banc P2",null,"David Garcia","motdepasse","X","X"]
["Banc PowerTrain",null,"Alexandre Delaunay",123456,"X","X"]
["Banc P5",null,"Jonhathan Boucher","changer","X","X"]
["Banc P7",null,"Thibault Hemart","Changer2016","X","X"]
["Banc P9",null,"Romain Dehan",940606,"X","X","X"]
["Banc nouveau P9",null,"Benjamin Eyraud",null,"X"]
["Banc HP",null,"Angela Andrino",null,"X"]
["Banc Cisaillement",null,"Christophe Tavola",null,"X","X"]
["Banc 007",null,"Visiteur"]
["Banc 008"]
["Banc 101"]
["Banc 104"]
["Banc 111"]
["Banc 113"]
["Banc 115"]
["Banc 117"]
["Banc 117 bis"]
["Banc 119"]
["Banc 120"]
["Banc 120 bis"]
["Banc 121"]
["Banc 123"]
["Banc 124"]
["Banc 124 bis"]
["Banc 125"]
["Banc 126"]
["Banc 128"]
["Banc 129"]
["Banc 131"]
["Chambre sourde"]
["Banc 145"]
["Banc 156"]
["Chambre froide"]
["Banc W+B"]
["Ressort verticale"]
["Pompe à eau"]

{"sheet":"Indicateur Zone5","index":3,"n_rows":98,"n_cols":73,"rows_kept":98,"cut":false,"hidden":false,"merged":[[89,70,89,72],[89,55,89,57],[89,58,89,60],[89,61,89,63],[89,64,89,66],[89,67,89,69],[89,40,89,42],[89,43,89,45],[89,46,89,48],[89,49,89,51],[89,52,89,54],[88,55,88,60],[88,61,88,66],[88,67,88,72],[89,1,89,3],[89,4,89,6],[89,7,89,9],[89,10,89,12],[89,13,89,15],[89,16,89,18],[89,19,89,21],[89,22,89,24],[89,25,89,27],[89,28,89,30],[89,31,89,33],[89,34,89,36],[89,37,89,39],[88,25,88,30],[88,31,88,36],[88,37,88,42],[88,43,88,48],[88,49,88,54],[56,23,56,24],[87,1,87,21],[88,1,88,6],[88,7,88,12],[88,13,88,18],[88,19,88,24],[56,13,56,14],[56,15,56,16],[56,17,56,18],[56,19,56,20],[56,21,56,22],[1,1,1,12],[31,1,31,12],[55,1,55,12],[56,1,56,2],[56,3,56,4],[56,5,56,6],[56,7,56,8],[56,9,56,10],[56,11,56,12]]}
[]
[null,"Suivi des arrêts par banc"]
["Banc zone 5","Janvier","Février","Mars","Avril","Mai","Juin","Juillet","Août","Septembre","Octobre","Novembre","Décembre"]
["Banc 124",{"$f":"SUMIF(BDD!$H$2:$H$685,'Indicateur Zone5'!$A$4,BDD!$V$2:$V$685)","v":0},{"$f":"SUMIF(BDD!$H$2:$H$685,'Indicateur Zone5'!$A$4,BDD!$V$2:$V$685)","v":0},{"$f":"SUMIF(BDD!$H$2:$H$685,'Indicateur Zone5'!$A$4,BDD!$V$2:$V$685)","v":0},{"$f":"SUMIF(BDD!$H$2:$H$685,'Indicateur Zone5'!$A$4,BDD!$V$2:$V$685)","v":0},{"$f":"SUMIF(BDD!$H$2:$H$685,'Indicateur Zone5'!$A$4,BDD!$V$2:$V$685)","v":0},{"$f":"SUMIF(BDD!$H$2:$H$685,'Indicateur Zone5'!$A$4,BDD!$V$2:$V$685)","v":0},{"$f":"SUMIF(BDD!$H$2:$H$685,'Indicateur Zone5'!$A$4,BDD!$V$2:$V$685)","v":0},{"$f":"SUMIF(BDD!$H$2:$H$685,'Indicateur Zone5'!$A$4,BDD!$V$2:$V$685)","v":0},{"$f":"SUMIF(BDD!$H$2:$H$685,'Indicateur Zone5'!$A$4,BDD!$V$2:$V$685)","v":0},{"$f":"SUMIF(BDD!$H$2:$H$685,'Indicateur Zone5'!$A$4,BDD!$V$2:$V$685)","v":0},{"$f":"SUMIF(BDD!$H$2:$H$685,'Indicateur Zone5'!$A$4,BDD!$V$2:$V$685)","v":0},{"$f":"SUMIF(BDD!$H$2:$H$685,'Indicateur Zone5'!$A$4,BDD!$V$2:$V$685)","v":0}]
["Banc 124 bis",{"$f":"SUMIF(BDD!$H$2:$H$685,'Indicateur Zone5'!$A$5,BDD!$V$2:$V$685)","v":0},{"$f":"SUMIF(BDD!$H$2:$H$685,'Indicateur Zone5'!$A$5,BDD!$V$2:$V$685)","v":0},{"$f":"SUMIF(BDD!$H$2:$H$685,'Indicateur Zone5'!$A$5,BDD!$V$2:$V$685)","v":0},{"$f":"SUMIF(BDD!$H$2:$H$685,'Indicateur Zone5'!$A$5,BDD!$V$2:$V$685)","v":0},{"$f":"SUMIF(BDD!$H$2:$H$685,'Indicateur Zone5'!$A$5,BDD!$V$2:$V$685)","v":0},{"$f":"SUMIF(BDD!$H$2:$H$685,'Indicateur Zone5'!$A$5,BDD!$V$2:$V$685)","v":0},{"$f":"SUMIF(BDD!$H$2:$H$685,'Indicateur Zone5'!$A$5,BDD!$V$2:$V$685)","v":0},{"$f":"SUMIF(BDD!$H$2:$H$685,'Indicateur Zone5'!$A$5,BDD!$V$2:$V$685)","v":0},{"$f":"SUMIF(BDD!$H$2:$H$685,'Indicateur Zone5'!$A$5,BDD!$V$2:$V$685)","v":0},{"$f":"SUMIF(BDD!$H$2:$H$685,'Indicateur Zone5'!$A$5,BDD!$V$2:$V$685)","v":0},{"$f":"SUMIF(BDD!$H$2:$H$685,'Indicateur Zone5'!$A$5,BDD!$V$2:$V$685)","v":0},{"$f":"SUMIF(BDD!$H$2:$H$685,'Indicateur Zone5'!$A$5,BDD!$V$2:$V$685)","v":0}]
["Banc 145",{"$f":"SUMIF(BDD!$H$2:$H$685,'Indicateur Zone5'!$A$6,BDD!$V$2:$V$685)","v":0},{"$f":"SUMIF(BDD!$H$2:$H$685,'Indicateur Zone5'!$A$6,BDD!$V$2:$V$685)","v":0},{"$f":"SUMIF(BDD!$H$2:$H$685,'Indicateur Zone5'!$A$6,BDD!$V$2:$V$685)","v":0},{"$f":"SUMIF(BDD!$H$2:$H$685,'Indicateur Zone5'!$A$6,BDD!$V$2:$V$685)","v":0},{"$f":"SUMIF(BDD!$H$2:$H$685,'Indicateur Zone5'!$A$6,BDD!$V$2:$V$685)","v":0},{"$f":"SUMIF(BDD!$H$2:$H$685,'Indicateur Zone5'!$A$6,BDD!$V$2:$V$685)","v":0},{"$f":"SUMIF(BDD!$H$2:$H$685,'Indicateur Zone5'!$A$6,BDD!$V$2:$V$685)","v":0},{"$f":"SUMIF(BDD!$H$2:$H$685,'Indicateur Zone5'!$A$6,BDD!$V$2:$V$685)","v":0},{"$f":"SUMIF(BDD!$H$2:$H$685,'Indicateur Zone5'!$A$6,BDD!$V$2:$V$685)","v":0},{"$f":"SUMIF(BDD!$H$2:$H$685,'Indicateur Zone5'!$A$6,BDD!$V$2:$V$685)","v":0},{"$f":"SUMIF(BDD!$H$2:$H$685,'Indicateur Zone5'!$A$6,BDD!$V$2:$V$685)","v":0},{"$f":"SUMIF(BDD!$H$2:$H$685,'Indicateur Zone5'!$A$6,BDD!$V$2:$V$685)","v":0}]
["Banc cisaillement",{"$f":"SUMIF(BDD!$H$2:$H$685,'Indicateur Zone5'!$A$7,BDD!$V$2:$V$685)","v":0},{"$f":"SUMIF(BDD!$H$2:$H$685,'Indicateur Zone5'!$A$7,BDD!$V$2:$V$685)","v":0},{"$f":"SUMIF(BDD!$H$2:$H$685,'Indicateur Zone5'!$A$7,BDD!$V$2:$V$685)","v":0},{"$f":"SUMIF(BDD!$H$2:$H$685,'Indicateur Zone5'!$A$7,BDD!$V$2:$V$685)","v":0},{"$f":"SUMIF(BDD!$H$2:$H$685,'Indicateur Zone5'!$A$7,BDD!$V$2:$V$685)","v":0},{"$f":"SUMIF(BDD!$H$2:$H$685,'Indicateur Zone5'!$A$7,BDD!$V$2:$V$685)","v":0},{"$f":"SUMIF(BDD!$H$2:$H$685,'Indicateur Zone5'!$A$7,BDD!$V$2:$V$685)","v":0},{"$f":"SUMIF(BDD!$H$2:$H$685,'Indicateur Zone5'!$A$7,BDD!$V$2:$V$685)","v":0},{"$f":"SUMIF(BDD!$H$2:$H$685,'Indicateur Zone5'!$A$7,BDD!$V$2:$V$685)","v":0},{"$f":"SUMIF(BDD!$H$2:$H$685,'Indicateur Zone5'!$A$7,BDD!$V$2:$V$685)","v":0},{"$f":"SUMIF(BDD!$H$2:$H$685,'Indicateur Zone5'!$A$7,BDD!$V$2:$V$685)","v":0},{"$f":"SUMIF(BDD!$H$2:$H$685,'Indicateur Zone5'!$A$7,BDD!$V$2:$V$685)","v":0}]
["Banc HP",{"$f":"SUMIF(BDD!$H$2:$H$685,'Indicateur Zone5'!$A$8,BDD!$V$2:$V$685)","v":0},{"$f":"SUMIF(BDD!$H$2:$H$685,'Indicateur Zone5'!$A$8,BDD!$V$2:$V$685)","v":0},{"$f":"SUMIF(BDD!$H$2:$H$685,'Indicateur Zone5'!$A$8,BDD!$V$2:$V$685)","v":0},{"$f":"SUMIF(BDD!$H$2:$H$685,'Indicateur Zone5'!$A$8,BDD!$V$2:$V$685)","v":0},{"$f":"SUMIF(BDD!$H$2:$H$685,'Indicateur Zone5'!$A$8,BDD!$V$2:$V$685)","v":0},{"$f":"SUMIF(BDD!$H$2:$H$685,'Indicateur Zone5'!$A$8,BDD!$V$2:$V$685)","v":0},{"$f":"SUMIF(BDD!$H$2:$H$685,'Indicateur Zone5'!$A$8,BDD!$V$2:$V$685)","v":0},{"$f":"SUMIF(BDD!$H$2:$H$685,'Indicateur Zone5'!$A$8,BDD!$V$2:$V$685)","v":0},{"$f":"SUMIF(BDD!$H$2:$H$685,'Indicateur Zone5'!$A$8,BDD!$V$2:$V$685)","v":0},{"$f":"SUMIF(BDD!$H$2:$H$685,'Indicateur Zone5'!$A$8,BDD!$V$2:$V$685)","v":0},{"$f":"SUMIF(BDD!$H$2:$H$685,'Indicateur Zone5'!$A$8,BDD!$V$2:$V$685)","v":0},{"$f":"SUMIF(BDD!$H$2:$H$685,'Indicateur Zone5'!$A$8,BDD!$V$2:$V$685)","v":0}]
["Banc W+B",{"$f":"SUMIF(BDD!$H$2:$H$685,'Indicateur Zone5'!$A$9,BDD!$V$2:$V$685)","v":0},{"$f":"SUMIF(BDD!$H$2:$H$685,'Indicateur Zone5'!$A$9,BDD!$V$2:$V$685)","v":0},{"$f":"SUMIF(BDD!$H$2:$H$685,'Indicateur Zone5'!$A$9,BDD!$V$2:$V$685)","v":0},{"$f":"SUMIF(BDD!$H$2:$H$685,'Indicateur Zone5'!$A$9,BDD!$V$2:$V$685)","v":0},{"$f":"SUMIF(BDD!$H$2:$H$685,'Indicateur Zone5'!$A$9,BDD!$V$2:$V$685)","v":0},{"$f":"SUMIF(BDD!$H$2:$H$685,'Indicateur Zone5'!$A$9,BDD!$V$2:$V$685)","v":0},{"$f":"SUMIF(BDD!$H$2:$H$685,'Indicateur Zone5'!$A$9,BDD!$V$2:$V$685)","v":0},{"$f":"SUMIF(BDD!$H$2:$H$685,'Indicateur Zone5'!$A$9,BDD!$V$2:$V$685)","v":0},{"$f":"SUMIF(BDD!$H$2:$H$685,'Indicateur Zone5'!$A$9,BDD!$V$2:$V$685)","v":0},{"$f":"SUMIF(BDD!$H$2:$H$685,'Indicateur Zone5'!$A$9,BDD!$V$2:$V$685)","v":0},{"$f":"SUMIF(BDD!$H$2:$H$685,'Indicateur Zone5'!$A$9,BDD!$V$2:$V$685)","v":0},{"$f":"SUMIF(BDD!$H$2:$H$685,'Indicateur Zone5'!$A$9,BDD!$V$2:$V$685)","v":0}]
["Ressort verticale",{"$f":"SUMIF(BDD!$H$2:$H$685,'Indicateur Zone5'!$A$10,BDD!$V$2:$V$685)","v":0},{"$f":"SUMIF(BDD!$H$2:$H$685,'Indicateur Zone5'!$A$10,BDD!$V$2:$V$685)","v":0},{"$f":"SUMIF(BDD!$H$2:$H$685,'Indicateur Zone5'!$A$10,BDD!$V$2:$V$685)","v":0},{"$f":"SUMIF(BDD!$H$2:$H$685,'Indicateur Zone5'!$A$10,BDD!$V$2:$V$685)","v":0},{"$f":"SUMIF(BDD!$H$2:$H$685,'Indicateur Zone5'!$A$10,BDD!$V$2:$V$685)","v":0},{"$f":"SUMIF(BDD!$H$2:$H$685,'Indicateur Zone5'!$A$10,BDD!$V$2:$V$685)","v":0},{"$f":"SUMIF(BDD!$H$2:$H$685,'Indicateur Zone5'!$A$10,BDD!$V$2:$V$685)","v":0},{"$f":"SUMIF(BDD!$H$2:$H$685,'Indicateur Zone5'!$A$10,BDD!$V$2:$V$685)","v":0},{"$f":"SUMIF(BDD!$H$2:$H$685,'Indicateur Zone5'!$A$10,BDD!$V$2:$V$685)","v":0},{"$f":"SUMIF(BDD!$H$2:$H$685,'Indicateur Zone5'!$A$10,BDD!$V$2:$V$685)","v":0},{"$f":"SUMIF(BDD!$H$2:$H$685,'Indicateur Zone5'!$A$10,BDD!$V$2:$V$685)","v":0},{"$f":"SUMIF(BDD!$H$2:$H$685,'Indicateur Zone5'!$A$10,BDD!$V$2:$V$685)","v":0}]
[]
[]
[]
[]
[]
[]
[]
[]
[]
[]
[]
[]
[]
[]
[]
[]
[]
[]
[]
[]
[]
[null,"Suivi du correctif et du préventif"]
["Type de maintenance","Janvier","Février","Mars","Avril","Mai","Juin","Juillet","Août","Septembre","Octobre","Novembre","Décembre"]
["Préventive",{"$f":"SUM(C59:C65)","v":0},{"$f":"SUM(E59:E65)","v":0},{"$f":"SUM(G59:G65)","v":0},{"$f":"SUM(I59:I65)","v":0},{"$f":"SUM(K59:K65)","v":0},{"$f":"SUM(M59:M65)","v":0},{"$f":"SUM(O59:O65)","v":0},{"$f":"SUM(Q59:Q65)","v":0},{"$f":"SUM(S59:S65)","v":0},{"$f":"SUM(U59:U65)","v":0},{"$f":"SUM(W59:W65)","v":0},{"$f":"SUM(Y59:Y65)","v":0}]
["Corrective",{"$f":"SUM(B59:B65)","v":0},{"$f":"SUM(D59:D65)","v":0},{"$f":"SUM(F59:F65)","v":0},{"$f":"SUM(H59:H65)","v":0},{"$f":"SUM(J59:J65)","v":0},{"$f":"SUM(L59:L65)","v":0},{"$f":"SUM(N59:N65)","v":0},{"$f":"SUM(N59:N65)","v":0},{"$f":"SUM(R59:R65)","v":0},{"$f":"SUM(T59:T65)","v":0},{"$f":"SUM(V59:V65)","v":0},{"$f":"SUM(X59:X65)","v":0}]
[]
[]
[]
[]
[]
[]
[]
[]
[]
[]
[]
[]
[]
[]
[]
[]
[]
[]
[]
[]
[null,"Suivi du correctif et du préventif par banc"]
[null,"Janvier",null,"Février",null,"Mars",null,"Avril",null,"Mai",null,"Juin",null,"Juillet",null,"Août",null,"Septembre",null,"Octobre",null,"Novembre",null,"Décembre"]
["Banc zone 5","Corrective","Préventive","Corrective","Préventive","Corrective","Préventive","Corrective","Préventive","Corrective","Préventive","Corrective","Préventive","Corrective","Préventive","Corrective","Préventive","Corrective","Préventive","Corrective","Préventive","Corrective","Préventive","Corrective","Préventive"]
["Banc 124",{"$f":"SUMIF(BDD!$BB$2:$BB$685,\"Banc 124VRAIFAUX\",BDD!$V$2:$V$685)","v":0},{"$f":"SUMIF(BDD!$BB$2:$BB$685,\"Banc 124FAUXvrai\",BDD!$V$2:$V$685)","v":0},{"$f":"SUMIF(BDD!$BB$2:$BB$685,\"Banc 124VRAIFAUX\",BDD!$V$2:$V$685)","v":0},{"$f":"SUMIF(BDD!$BB$2:$BB$685,\"Banc 124FAUXvrai\",BDD!$V$2:$V$685)","v":0},{"$f":"SUMIF(BDD!$BB$2:$BB$685,\"Banc 124VRAIFAUX\",BDD!$V$2:$V$685)","v":0},{"$f":"SUMIF(BDD!$BB$2:$BB$685,\"Banc 124FAUXvrai\",BDD!$V$2:$V$685)","v":0},{"$f":"SUMIF(BDD!$BB$2:$BB$685,\"Banc 124VRAIFAUX\",BDD!$V$2:$V$685)","v":0},{"$f":"SUMIF(BDD!$BB$2:$BB$685,\"Banc 124FAUXvrai\",BDD!$V$2:$V$685)","v":0},{"$f":"SUMIF(BDD!$BB$2:$BB$685,\"Banc 124VRAIFAUX\",BDD!$V$2:$V$685)","v":0},{"$f":"SUMIF(BDD!$BB$2:$BB$685,\"Banc 124FAUXvrai\",BDD!$V$2:$V$685)","v":0},{"$f":"SUMIF(BDD!$BB$2:$BB$685,\"Banc 124VRAIFAUX\",BDD!$V$2:$V$685)","v":0},{"$f":"SUMIF(BDD!$BB$2:$BB$685,\"Banc 124FAUXvrai\",BDD!$V$2:$V$685)","v":0},{"$f":"SUMIF(BDD!$BB$2:$BB$685,\"Banc 124VRAIFAUX\",BDD!$V$2:$V$685)","v":0},{"$f":"SUMIF(BDD!$BB$2:$BB$685,\"Banc 124FAUXvrai\",BDD!$V$2:$V$685)","v":0},{"$f":"SUMIF(BDD!$BB$2:$BB$685,\"Banc 124VRAIFAUX\",BDD!$V$2:$V$685)","v":0},{"$f":"SUMIF(BDD!$BB$2:$BB$685,\"Banc 124FAUXvrai\",BDD!$V$2:$V$685)","v":0},{"$f":"SUMIF(BDD!$BB$2:$BB$685,\"Banc 124VRAIFAUX\",BDD!$V$2:$V$685)","v":0},{"$f":"SUMIF(BDD!$BB$2:$BB$685,\"Banc 124FAUXvrai\",BDD!$V$2:$V$685)","v":0},{"$f":"SUMIF(BDD!$BB$2:$BB$685,\"Banc 124VRAIFAUX\",BDD!$V$2:$V$685)","v":0},{"$f":"SUMIF(BDD!$BB$2:$BB$685,\"Banc 124FAUXvrai\",BDD!$V$2:$V$685)","v":0},{"$f":"SUMIF(BDD!$BB$2:$BB$685,\"Banc 124VRAIFAUX\",BDD!$V$2:$V$685)","v":0},{"$f":"SUMIF(BDD!$BB$2:$BB$685,\"Banc 124FAUXvrai\",BDD!$V$2:$V$685)","v":0},{"$f":"SUMIF(BDD!$BB$2:$BB$685,\"Banc 124VRAIFAUX\",BDD!$V$2:$V$685)","v":0},{"$f":"SUMIF(BDD!$BB$2:$BB$685,\"Banc 124FAUXvrai\",BDD!$V$2:$V$685)","v":0}]
["Banc 124 bis",{"$f":"SUMIF(BDD!$BB$2:$BB$685,\"Banc 124 bisVRAIFAUX\",BDD!$V$2:$V$685)","v":0},{"$f":"SUMIF(BDD!$BB$2:$BB$685,\"Banc 124 bisFAUXVRAI\",BDD!$V$2:$V$685)","v":0},{"$f":"SUMIF(BDD!$BB$2:$BB$685,\"Banc 124 bisVRAIFAUX\",BDD!$V$2:$V$685)","v":0},{"$f":"SUMIF(BDD!$BB$2:$BB$685,\"Banc 124 bisFAUXVRAI\",BDD!$V$2:$V$685)","v":0},{"$f":"SUMIF(BDD!$BB$2:$BB$685,\"Banc 124 bisVRAIFAUX\",BDD!$V$2:$V$685)","v":0},{"$f":"SUMIF(BDD!$BB$2:$BB$685,\"Banc 124 bisFAUXVRAI\",BDD!$V$2:$V$685)","v":0},{"$f":"SUMIF(BDD!$BB$2:$BB$685,\"Banc 124 bisVRAIFAUX\",BDD!$V$2:$V$685)","v":0},{"$f":"SUMIF(BDD!$BB$2:$BB$685,\"Banc 124 bisFAUXVRAI\",BDD!$V$2:$V$685)","v":0},{"$f":"SUMIF(BDD!$BB$2:$BB$685,\"Banc 124 bisVRAIFAUX\",BDD!$V$2:$V$685)","v":0},{"$f":"SUMIF(BDD!$BB$2:$BB$685,\"Banc 124 bisFAUXVRAI\",BDD!$V$2:$V$685)","v":0},{"$f":"SUMIF(BDD!$BB$2:$BB$685,\"Banc 124 bisVRAIFAUX\",BDD!$V$2:$V$685)","v":0},{"$f":"SUMIF(BDD!$BB$2:$BB$685,\"Banc 124 bisFAUXVRAI\",BDD!$V$2:$V$685)","v":0},{"$f":"SUMIF(BDD!$BB$2:$BB$685,\"Banc 124 bisVRAIFAUX\",BDD!$V$2:$V$685)","v":0},{"$f":"SUMIF(BDD!$BB$2:$BB$685,\"Banc 124 bisFAUXVRAI\",BDD!$V$2:$V$685)","v":0},{"$f":"SUMIF(BDD!$BB$2:$BB$685,\"Banc 124 bisVRAIFAUX\",BDD!$V$2:$V$685)","v":0},{"$f":"SUMIF(BDD!$BB$2:$BB$685,\"Banc 124 bisFAUXVRAI\",BDD!$V$2:$V$685)","v":0},{"$f":"SUMIF(BDD!$BB$2:$BB$685,\"Banc 124 bisVRAIFAUX\",BDD!$V$2:$V$685)","v":0},{"$f":"SUMIF(BDD!$BB$2:$BB$685,\"Banc 124 bisFAUXVRAI\",BDD!$V$2:$V$685)","v":0},{"$f":"SUMIF(BDD!$BB$2:$BB$685,\"Banc 124 bisVRAIFAUX\",BDD!$V$2:$V$685)","v":0},{"$f":"SUMIF(BDD!$BB$2:$BB$685,\"Banc 124 bisFAUXVRAI\",BDD!$V$2:$V$685)","v":0},{"$f":"SUMIF(BDD!$BB$2:$BB$685,\"Banc 124 bisVRAIFAUX\",BDD!$V$2:$V$685)","v":0},{"$f":"SUMIF(BDD!$BB$2:$BB$685,\"Banc 124 bisFAUXVRAI\",BDD!$V$2:$V$685)","v":0},{"$f":"SUMIF(BDD!$BB$2:$BB$685,\"Banc 124 bisVRAIFAUX\",BDD!$V$2:$V$685)","v":0},{"$f":"SUMIF(BDD!$BB$2:$BB$685,\"Banc 124 bisFAUXVRAI\",BDD!$V$2:$V$685)","v":0}]
["Banc 145",{"$f":"SUMIF(BDD!$BB$2:$BB$685,\"Banc 145VRAIFAUX\",BDD!$V$2:$V$685)","v":0},{"$f":"SUMIF(BDD!$BB$2:$BB$685,\"Banc 145FAUXVRAI\",BDD!$V$2:$V$685)","v":0},{"$f":"SUMIF(BDD!$BB$2:$BB$685,\"Banc 145VRAIFAUX\",BDD!$V$2:$V$685)","v":0},{"$f":"SUMIF(BDD!$BB$2:$BB$685,\"Banc 145FAUXVRAI\",BDD!$V$2:$V$685)","v":0},{"$f":"SUMIF(BDD!$BB$2:$BB$685,\"Banc 145VRAIFAUX\",BDD!$V$2:$V$685)","v":0},{"$f":"SUMIF(BDD!$BB$2:$BB$685,\"Banc 145FAUXVRAI\",BDD!$V$2:$V$685)","v":0},{"$f":"SUMIF(BDD!$BB$2:$BB$685,\"Banc 145VRAIFAUX\",BDD!$V$2:$V$685)","v":0},{"$f":"SUMIF(BDD!$BB$2:$BB$685,\"Banc 145FAUXVRAI\",BDD!$V$2:$V$685)","v":0},{"$f":"SUMIF(BDD!$BB$2:$BB$685,\"Banc 145VRAIFAUX\",BDD!$V$2:$V$685)","v":0},{"$f":"SUMIF(BDD!$BB$2:$BB$685,\"Banc 145FAUXVRAI\",BDD!$V$2:$V$685)","v":0},{"$f":"SUMIF(BDD!$BB$2:$BB$685,\"Banc 145VRAIFAUX\",BDD!$V$2:$V$685)","v":0},{"$f":"SUMIF(BDD!$BB$2:$BB$685,\"Banc 145FAUXVRAI\",BDD!$V$2:$V$685)","v":0},{"$f":"SUMIF(BDD!$BB$2:$BB$685,\"Banc 145VRAIFAUX\",BDD!$V$2:$V$685)","v":0},{"$f":"SUMIF(BDD!$BB$2:$BB$685,\"Banc 145FAUXVRAI\",BDD!$V$2:$V$685)","v":0},{"$f":"SUMIF(BDD!$BB$2:$BB$685,\"Banc 145VRAIFAUX\",BDD!$V$2:$V$685)","v":0},{"$f":"SUMIF(BDD!$BB$2:$BB$685,\"Banc 145FAUXVRAI\",BDD!$V$2:$V$685)","v":0},{"$f":"SUMIF(BDD!$BB$2:$BB$685,\"Banc 145VRAIFAUX\",BDD!$V$2:$V$685)","v":0},{"$f":"SUMIF(BDD!$BB$2:$BB$685,\"Banc 145FAUXVRAI\",BDD!$V$2:$V$685)","v":0},{"$f":"SUMIF(BDD!$BB$2:$BB$685,\"Banc 145VRAIFAUX\",BDD!$V$2:$V$685)","v":0},{"$f":"SUMIF(BDD!$BB$2:$BB$685,\"Banc 145FAUXVRAI\",BDD!$V$2:$V$685)","v":0},{"$f":"SUMIF(BDD!$BB$2:$BB$685,\"Banc 145VRAIFAUX\",BDD!$V$2:$V$685)","v":0},{"$f":"SUMIF(BDD!$BB$2:$BB$685,\"Banc 145FAUXVRAI\",BDD!$V$2:$V$685)","v":0},{"$f":"SUMIF(BDD!$BB$2:$BB$685,\"Banc 145VRAIFAUX\",BDD!$V$2:$V$685)","v":0},{"$f":"SUMIF(BDD!$BB$2:$BB$685,\"Banc 145FAUXVRAI\",BDD!$V$2:$V$685)","v":0}]
["Banc cisaillement",{"$f":"SUMIF(BDD!$BB$2:$BB$685,\"Banc cisaillementVRAIFAUX\",BDD!$V$2:$V$685)","v":0},{"$f":"SUMIF(BDD!$BB$2:$BB$685,\"Banc cisaillementFAUXVRAI\",BDD!$V$2:$V$685)","v":0},{"$f":"SUMIF(BDD!$BB$2:$BB$685,\"Banc cisaillementVRAIFAUX\",BDD!$V$2:$V$685)","v":0},{"$f":"SUMIF(BDD!$BB$2:$BB$685,\"Banc cisaillementFAUXVRAI\",BDD!$V$2:$V$685)","v":0},{"$f":"SUMIF(BDD!$BB$2:$BB$685,\"Banc cisaillementVRAIFAUX\",BDD!$V$2:$V$685)","v":0},{"$f":"SUMIF(BDD!$BB$2:$BB$685,\"Banc cisaillementFAUXVRAI\",BDD!$V$2:$V$685)","v":0},{"$f":"SUMIF(BDD!$BB$2:$BB$685,\"Banc cisaillementVRAIFAUX\",BDD!$V$2:$V$685)","v":0},{"$f":"SUMIF(BDD!$BB$2:$BB$685,\"Banc cisaillementFAUXVRAI\",BDD!$V$2:$V$685)","v":0},{"$f":"SUMIF(BDD!$BB$2:$BB$685,\"Banc cisaillementVRAIFAUX\",BDD!$V$2:$V$685)","v":0},{"$f":"SUMIF(BDD!$BB$2:$BB$685,\"Banc cisaillementFAUXVRAI\",BDD!$V$2:$V$685)","v":0},{"$f":"SUMIF(BDD!$BB$2:$BB$685,\"Banc cisaillementVRAIFAUX\",BDD!$V$2:$V$685)","v":0},{"$f":"SUMIF(BDD!$BB$2:$BB$685,\"Banc cisaillementFAUXVRAI\",BDD!$V$2:$V$685)","v":0},{"$f":"SUMIF(BDD!$BB$2:$BB$685,\"Banc cisaillementVRAIFAUX\",BDD!$V$2:$V$685)","v":0},{"$f":"SUMIF(BDD!$BB$2:$BB$685,\"Banc cisaillementFAUXVRAI\",BDD!$V$2:$V$685)","v":0},{"$f":"SUMIF(BDD!$BB$2:$BB$685,\"Banc cisaillementVRAIFAUX\",BDD!$V$2:$V$685)","v":0},{"$f":"SUMIF(BDD!$BB$2:$BB$685,\"Banc cisaillementFAUXVRAI\",BDD!$V$2:$V$685)","v":0},{"$f":"SUMIF(BDD!$BB$2:$BB$685,\"Banc cisaillementVRAIFAUX\",BDD!$V$2:$V$685)","v":0},{"$f":"SUMIF(BDD!$BB$2:$BB$685,\"Banc cisaillementFAUXVRAI\",BDD!$V$2:$V$685)","v":0},{"$f":"SUMIF(BDD!$BB$2:$BB$685,\"Banc cisaillementVRAIFAUX\",BDD!$V$2:$V$685)","v":0},{"$f":"SUMIF(BDD!$BB$2:$BB$685,\"Banc cisaillementFAUXVRAI\",BDD!$V$2:$V$685)","v":0},{"$f":"SUMIF(BDD!$BB$2:$BB$685,\"Banc cisaillementVRAIFAUX\",BDD!$V$2:$V$685)","v":0},{"$f":"SUMIF(BDD!$BB$2:$BB$685,\"Banc cisaillementFAUXVRAI\",BDD!$V$2:$V$685)","v":0},{"$f":"SUMIF(BDD!$BB$2:$BB$685,\"Banc cisaillementVRAIFAUX\",BDD!$V$2:$V$685)","v":0},{"$f":"SUMIF(BDD!$BB$2:$BB$685,\"Banc cisaillementFAUXVRAI\",BDD!$V$2:$V$685)","v":0}]
["Banc HP",{"$f":"SUMIF(BDD!$BB$2:$BB$685,\"Banc HPVRAIFAUX\",BDD!$V$2:$V$685)","v":0},{"$f":"SUMIF(BDD!$BB$2:$BB$685,\"Banc HPFAUXVRAI\",BDD!$V$2:$V$685)","v":0},{"$f":"SUMIF(BDD!$BB$2:$BB$685,\"Banc HPVRAIFAUX\",BDD!$V$2:$V$685)","v":0},{"$f":"SUMIF(BDD!$BB$2:$BB$685,\"Banc HPFAUXVRAI\",BDD!$V$2:$V$685)","v":0},{"$f":"SUMIF(BDD!$BB$2:$BB$685,\"Banc HPVRAIFAUX\",BDD!$V$2:$V$685)","v":0},{"$f":"SUMIF(BDD!$BB$2:$BB$685,\"Banc HPFAUXVRAI\",BDD!$V$2:$V$685)","v":0},{"$f":"SUMIF(BDD!$BB$2:$BB$685,\"Banc HPVRAIFAUX\",BDD!$V$2:$V$685)","v":0},{"$f":"SUMIF(BDD!$BB$2:$BB$685,\"Banc HPFAUXVRAI\",BDD!$V$2:$V$685)","v":0},{"$f":"SUMIF(BDD!$BB$2:$BB$685,\"Banc HPVRAIFAUX\",BDD!$V$2:$V$685)","v":0},{"$f":"SUMIF(BDD!$BB$2:$BB$685,\"Banc HPFAUXVRAI\",BDD!$V$2:$V$685)","v":0},{"$f":"SUMIF(BDD!$BB$2:$BB$685,\"Banc HPVRAIFAUX\",BDD!$V$2:$V$685)","v":0},{"$f":"SUMIF(BDD!$BB$2:$BB$685,\"Banc HPFAUXVRAI\",BDD!$V$2:$V$685)","v":0},{"$f":"SUMIF(BDD!$BB$2:$BB$685,\"Banc HPVRAIFAUX\",BDD!$V$2:$V$685)","v":0},{"$f":"SUMIF(BDD!$BB$2:$BB$685,\"Banc HPFAUXVRAI\",BDD!$V$2:$V$685)","v":0},{"$f":"SUMIF(BDD!$BB$2:$BB$685,\"Banc HPVRAIFAUX\",BDD!$V$2:$V$685)","v":0},{"$f":"SUMIF(BDD!$BB$2:$BB$685,\"Banc HPFAUXVRAI\",BDD!$V$2:$V$685)","v":0},{"$f":"SUMIF(BDD!$BB$2:$BB$685,\"Banc HPVRAIFAUX\",BDD!$V$2:$V$685)","v":0},{"$f":"SUMIF(BDD!$BB$2:$BB$685,\"Banc HPFAUXVRAI\",BDD!$V$2:$V$685)","v":0},{"$f":"SUMIF(BDD!$BB$2:$BB$685,\"Banc HPVRAIFAUX\",BDD!$V$2:$V$685)","v":0},{"$f":"SUMIF(BDD!$BB$2:$BB$685,\"Banc HPFAUXVRAI\",BDD!$V$2:$V$685)","v":0},{"$f":"SUMIF(BDD!$BB$2:$BB$685,\"Banc HPVRAIFAUX\",BDD!$V$2:$V$685)","v":0},{"$f":"SUMIF(BDD!$BB$2:$BB$685,\"Banc HPFAUXVRAI\",BDD!$V$2:$V$685)","v":0},{"$f":"SUMIF(BDD!$BB$2:$BB$685,\"Banc HPVRAIFAUX\",BDD!$V$2:$V$685)","v":0},{"$f":"SUMIF(BDD!$BB$2:$BB$685,\"Banc HPFAUXVRAI\",BDD!$V$2:$V$685)","v":0}]
["Banc W+B",{"$f":"SUMIF(BDD!$BB$2:$BB$685,\"Banc W+BVRAIFAUX\",BDD!$V$2:$V$685)","v":0},{"$f":"SUMIF(BDD!$BB$2:$BB$685,\"Banc W+BFAUXVRAI\",BDD!$V$2:$V$685)","v":0},{"$f":"SUMIF(BDD!$BB$2:$BB$685,\"Banc W+BVRAIFAUX\",BDD!$V$2:$V$685)","v":0},{"$f":"SUMIF(BDD!$BB$2:$BB$685,\"Banc W+BFAUXVRAI\",BDD!$V$2:$V$685)","v":0},{"$f":"SUMIF(BDD!$BB$2:$BB$685,\"Banc W+BVRAIFAUX\",BDD!$V$2:$V$685)","v":0},{"$f":"SUMIF(BDD!$BB$2:$BB$685,\"Banc W+BFAUXVRAI\",BDD!$V$2:$V$685)","v":0},{"$f":"SUMIF(BDD!$BB$2:$BB$685,\"Banc W+BVRAIFAUX\",BDD!$V$2:$V$685)","v":0},{"$f":"SUMIF(BDD!$BB$2:$BB$685,\"Banc W+BFAUXVRAI\",BDD!$V$2:$V$685)","v":0},{"$f":"SUMIF(BDD!$BB$2:$BB$685,\"Banc W+BVRAIFAUX\",BDD!$V$2:$V$685)","v":0},{"$f":"SUMIF(BDD!$BB$2:$BB$685,\"Banc W+BFAUXVRAI\",BDD!$V$2:$V$685)","v":0},{"$f":"SUMIF(BDD!$BB$2:$BB$685,\"Banc W+BVRAIFAUX\",BDD!$V$2:$V$685)","v":0},{"$f":"SUMIF(BDD!$BB$2:$BB$685,\"Banc W+BFAUXVRAI\",BDD!$V$2:$V$685)","v":0},{"$f":"SUMIF(BDD!$BB$2:$BB$685,\"Banc W+BVRAIFAUX\",BDD!$V$2:$V$685)","v":0},{"$f":"SUMIF(BDD!$BB$2:$BB$685,\"Banc W+BFAUXVRAI\",BDD!$V$2:$V$685)","v":0},{"$f":"SUMIF(BDD!$BB$2:$BB$685,\"Banc W+BVRAIFAUX\",BDD!$V$2:$V$685)","v":0},{"$f":"SUMIF(BDD!$BB$2:$BB$685,\"Banc W+BFAUXVRAI\",BDD!$V$2:$V$685)","v":0},{"$f":"SUMIF(BDD!$BB$2:$BB$685,\"Banc W+BVRAIFAUX\",BDD!$V$2:$V$685)","v":0},{"$f":"SUMIF(BDD!$BB$2:$BB$685,\"Banc W+BFAUXVRAI\",BDD!$V$2:$V$685)","v":0},{"$f":"SUMIF(BDD!$BB$2:$BB$685,\"Banc W+BVRAIFAUX\",BDD!$V$2:$V$685)","v":0},{"$f":"SUMIF(BDD!$BB$2:$BB$685,\"Banc W+BFAUXVRAI\",BDD!$V$2:$V$685)","v":0},{"$f":"SUMIF(BDD!$BB$2:$BB$685,\"Banc W+BVRAIFAUX\",BDD!$V$2:$V$685)","v":0},{"$f":"SUMIF(BDD!$BB$2:$BB$685,\"Banc W+BFAUXVRAI\",BDD!$V$2:$V$685)","v":0},{"$f":"SUMIF(BDD!$BB$2:$BB$685,\"Banc W+BVRAIFAUX\",BDD!$V$2:$V$685)","v":0},{"$f":"SUMIF(BDD!$BB$2:$BB$685,\"Banc W+BFAUXVRAI\",BDD!$V$2:$V$685)","v":0}]
["Ressort verticale",{"$f":"SUMIF(BDD!$BB$2:$BB$685,\"Ressort verticaleVRAIFAUX\",BDD!$V$2:$V$685)","v":0},{"$f":"SUMIF(BDD!$BB$2:$BB$685,\"Ressort verticaleFAUXVRAI\",BDD!$V$2:$V$685)","v":0},{"$f":"SUMIF(BDD!$BB$2:$BB$685,\"Ressort verticaleVRAIFAUX\",BDD!$V$2:$V$685)","v":0},{"$f":"SUMIF(BDD!$BB$2:$BB$685,\"Ressort verticaleFAUXVRAI\",BDD!$V$2:$V$685)","v":0},{"$f":"SUMIF(BDD!$BB$2:$BB$685,\"Ressort verticaleVRAIFAUX\",BDD!$V$2:$V$685)","v":0},{"$f":"SUMIF(BDD!$BB$2:$BB$685,\"Ressort verticaleFAUXVRAI\",BDD!$V$2:$V$685)","v":0},{"$f":"SUMIF(BDD!$BB$2:$BB$685,\"Ressort verticaleVRAIFAUX\",BDD!$V$2:$V$685)","v":0},{"$f":"SUMIF(BDD!$BB$2:$BB$685,\"Ressort verticaleFAUXVRAI\",BDD!$V$2:$V$685)","v":0},{"$f":"SUMIF(BDD!$BB$2:$BB$685,\"Ressort verticaleVRAIFAUX\",BDD!$V$2:$V$685)","v":0},{"$f":"SUMIF(BDD!$BB$2:$BB$685,\"Ressort verticaleFAUXVRAI\",BDD!$V$2:$V$685)","v":0},{"$f":"SUMIF(BDD!$BB$2:$BB$685,\"Ressort verticaleVRAIFAUX\",BDD!$V$2:$V$685)","v":0},{"$f":"SUMIF(BDD!$BB$2:$BB$685,\"Ressort verticaleFAUXVRAI\",BDD!$V$2:$V$685)","v":0},{"$f":"SUMIF(BDD!$BB$2:$BB$685,\"Ressort verticaleVRAIFAUX\",BDD!$V$2:$V$685)","v":0},{"$f":"SUMIF(BDD!$BB$2:$BB$685,\"Ressort verticaleFAUXVRAI\",BDD!$V$2:$V$685)","v":0},{"$f":"SUMIF(BDD!$BB$2:$BB$685,\"Ressort verticaleVRAIFAUX\",BDD!$V$2:$V$685)","v":0},{"$f":"SUMIF(BDD!$BB$2:$BB$685,\"Ressort verticaleFAUXVRAI\",BDD!$V$2:$V$685)","v":0},{"$f":"SUMIF(BDD!$BB$2:$BB$685,\"Ressort verticaleVRAIFAUX\",BDD!$V$2:$V$685)","v":0},{"$f":"SUMIF(BDD!$BB$2:$BB$685,\"Ressort verticaleFAUXVRAI\",BDD!$V$2:$V$685)","v":0},{"$f":"SUMIF(BDD!$BB$2:$BB$685,\"Ressort verticaleVRAIFAUX\",BDD!$V$2:$V$685)","v":0},{"$f":"SUMIF(BDD!$BB$2:$BB$685,\"Ressort verticaleFAUXVRAI\",BDD!$V$2:$V$685)","v":0},{"$f":"SUMIF(BDD!$BB$2:$BB$685,\"Ressort verticaleVRAIFAUX\",BDD!$V$2:$V$685)","v":0},{"$f":"SUMIF(BDD!$BB$2:$BB$685,\"Ressort verticaleFAUXVRAI\",BDD!$V$2:$V$685)","v":0},{"$f":"SUMIF(BDD!$BB$2:$BB$685,\"Ressort verticaleVRAIFAUX\",BDD!$V$2:$V$685)","v":0},{"$f":"SUMIF(BDD!$BB$2:$BB$685,\"Ressort verticaleFAUXVRAI\",BDD!$V$2:$V$685)","v":0}]
[]
[]
[]
[]
[]
[]
[]
[]
[]
[]
[]
[]
[]
[]
[]
[]
[]
[]
[]
[]
[]
[]
[null,"Suivi du correctif et du préventif par banc"]
[null,"Janvier",null,null,null,null,null,"Février",null,null,null,null,null,"Mars",null,null,null,null,null,"Avril",null,null,null,null,null,"Mai",null,null,null,null,null,"Juin",null,null,null,null,null,"Juillet",null,null,null,null,null,"Août",null,null,null,null,null,"Septembre",null,null,null,null,null,"Octobre",null,null,null,null,null,"Novembre",null,null,null,null,null,"Décembre"]
[null,"Corrective",null,null,"Préventive",null,null,"Corrective",null,null,"Préventive",null,null,"Corrective",null,null,"Préventive",null,null,"Corrective",null,null,"Préventive",null,null,"Corrective",null,null,"Préventive",null,null,"Corrective",null,null,"Préventive",null,null,"Corrective",null,null,"Préventive",null,null,"Corrective",null,null,"Préventive",null,null,"Corrective",null,null,"Préventive",null,null,"Corrective",null,null,"Préventive",null,null,"Corrective",null,null,"Préventive",null,null,"Corrective",null,null,"Préventive"]
["Banc zone 5","Electrique","Mécanique","Hydraulique","Electrique","Mécanique","Hydraulique","Electrique","Mécanique","Hydraulique","Electrique","Mécanique","Hydraulique","Electrique","Mécanique","Hydraulique","Electrique","Mécanique","Hydraulique","Electrique","Mécanique","Hydraulique","Electrique","Mécanique","Hydraulique","Electrique","Mécanique","Hydraulique","Electrique","Mécanique","Hydraulique","Electrique","Mécanique","Hydraulique","Electrique","Mécanique","Hydraulique","Electrique","Mécanique","Hydraulique","Electrique","Mécanique","Hydraulique","Electrique","Mécanique","Hydraulique","Electrique","Mécanique","Hydraulique","Electrique","Mécanique","Hydraulique","Electrique","Mécanique","Hydraulique","Electrique","Mécanique","Hydraulique","Electrique","Mécanique","Hydraulique","Electrique","Mécanique","Hydraulique","Electrique","Mécanique","Hydraulique","Electrique","Mécanique","Hydraulique","Electrique","Mécanique","Hydraulique"]
["Banc 124",{"$f":"SUMIF(BDD!$BC$2:$BC$685,\"Banc 124VRAIFAUXVRAIFAUXFAUX\",BDD!$V$2:$V$685)","v":0},{"$f":"SUMIF(BDD!$BC$2:$BC$685,\"Banc 124VRAIFAUXFAUXVRAIFAUX\",BDD!$V$2:$V$685)","v":0},{"$f":"SUMIF(BDD!$BC$2:$BC$685,\"Banc 124VRAIFAUXFAUXFAUXVRAI\",BDD!$V$2:$V$685)","v":0},{"$f":"SUMIF(BDD!$BC$2:$BC$685,\"Banc 124FAUXVRAIVRAIFAUXFAUX\",BDD!$V$2:$V$685)","v":0},{"$f":"SUMIF(BDD!$BC$2:$BC$685,\"Banc 124FAUXVRAIFAUXVRAIFAUX\",BDD!$V$2:$V$685)","v":0},{"$f":"SUMIF(BDD!$BC$2:$BC$685,\"Banc 124FAUXVRAIFAUXFAUXVRAI\",BDD!$V$2:$V$685)","v":0},{"$f":"SUMIF(BDD!$BC$2:$BC$685,\"Banc 124VRAIFAUXVRAIFAUXFAUX\",BDD!$V$2:$V$685)","v":0},{"$f":"SUMIF(BDD!$BC$2:$BC$685,\"Banc 124VRAIFAUXFAUXVRAIFAUX\",BDD!$V$2:$V$685)","v":0},{"$f":"SUMIF(BDD!$BC$2:$BC$685,\"Banc 124VRAIFAUXFAUXFAUXVRAI\",BDD!$V$2:$V$685)","v":0},{"$f":"SUMIF(BDD!$BC$2:$BC$685,\"Banc 124FAUXVRAIVRAIFAUXFAUX\",BDD!$V$2:$V$685)","v":0},{"$f":"SUMIF(BDD!$BC$2:$BC$685,\"Banc 124FAUXVRAIFAUXVRAIFAUX\",BDD!$V$2:$V$685)","v":0},{"$f":"SUMIF(BDD!$BC$2:$BC$685,\"Banc 124FAUXVRAIFAUXFAUXVRAI\",BDD!$V$2:$V$685)","v":0},{"$f":"SUMIF(BDD!$BC$2:$BC$685,\"Banc 124VRAIFAUXVRAIFAUXFAUX\",BDD!$V$2:$V$685)","v":0},{"$f":"SUMIF(BDD!$BC$2:$BC$685,\"Banc 124VRAIFAUXFAUXVRAIFAUX\",BDD!$V$2:$V$685)","v":0},{"$f":"SUMIF(BDD!$BC$2:$BC$685,\"Banc 124VRAIFAUXFAUXFAUXVRAI\",BDD!$V$2:$V$685)","v":0},{"$f":"SUMIF(BDD!$BC$2:$BC$685,\"Banc 124FAUXVRAIVRAIFAUXFAUX\",BDD!$V$2:$V$685)","v":0},{"$f":"SUMIF(BDD!$BC$2:$BC$685,\"Banc 124FAUXVRAIFAUXVRAIFAUX\",BDD!$V$2:$V$685)","v":0},{"$f":"SUMIF(BDD!$BC$2:$BC$685,\"Banc 124FAUXVRAIFAUXFAUXVRAI\",BDD!$V$2:$V$685)","v":0},{"$f":"SUMIF(BDD!$BC$2:$BC$685,\"Banc 124VRAIFAUXVRAIFAUXFAUX\",BDD!$V$2:$V$685)","v":0},{"$f":"SUMIF(BDD!$BC$2:$BC$685,\"Banc 124VRAIFAUXFAUXVRAIFAUX\",BDD!$V$2:$V$685)","v":0},{"$f":"SUMIF(BDD!$BC$2:$BC$685,\"Banc 124VRAIFAUXFAUXFAUXVRAI\",BDD!$V$2:$V$685)","v":0},{"$f":"SUMIF(BDD!$BC$2:$BC$685,\"Banc 124FAUXVRAIVRAIFAUXFAUX\",BDD!$V$2:$V$685)","v":0},{"$f":"SUMIF(BDD!$BC$2:$BC$685,\"Banc 124FAUXVRAIFAUXVRAIFAUX\",BDD!$V$2:$V$685)","v":0},{"$f":"SUMIF(BDD!$BC$2:$BC$685,\"Banc 124FAUXVRAIFAUXFAUXVRAI\",BDD!$V$2:$V$685)","v":0},{"$f":"SUMIF(BDD!$BC$2:$BC$685,\"Banc 124VRAIFAUXVRAIFAUXFAUX\",BDD!$V$2:$V$685)","v":0},{"$f":"SUMIF(BDD!$BC$2:$BC$685,\"Banc 124VRAIFAUXFAUXVRAIFAUX\",BDD!$V$2:$V$685)","v":0},{"$f":"SUMIF(BDD!$BC$2:$BC$685,\"Banc 124VRAIFAUXFAUXFAUXVRAI\",BDD!$V$2:$V$685)","v":0},{"$f":"SUMIF(BDD!$BC$2:$BC$685,\"Banc 124FAUXVRAIVRAIFAUXFAUX\",BDD!$V$2:$V$685)","v":0},{"$f":"SUMIF(BDD!$BC$2:$BC$685,\"Banc 124FAUXVRAIFAUXVRAIFAUX\",BDD!$V$2:$V$685)","v":0},{"$f":"SUMIF(BDD!$BC$2:$BC$685,\"Banc 124FAUXVRAIFAUXFAUXVRAI\",BDD!$V$2:$V$685)","v":0},{"$f":"SUMIF(BDD!$BC$2:$BC$685,\"Banc 124VRAIFAUXVRAIFAUXFAUX\",BDD!$V$2:$V$685)","v":0},{"$f":"SUMIF(BDD!$BC$2:$BC$685,\"Banc 124VRAIFAUXFAUXVRAIFAUX\",BDD!$V$2:$V$685)","v":0},{"$f":"SUMIF(BDD!$BC$2:$BC$685,\"Banc 124VRAIFAUXFAUXFAUXVRAI\",BDD!$V$2:$V$685)","v":0},{"$f":"SUMIF(BDD!$BC$2:$BC$685,\"Banc 124FAUXVRAIVRAIFAUXFAUX\",BDD!$V$2:$V$685)","v":0},{"$f":"SUMIF(BDD!$BC$2:$BC$685,\"Banc 124FAUXVRAIFAUXVRAIFAUX\",BDD!$V$2:$V$685)","v":0},{"$f":"SUMIF(BDD!$BC$2:$BC$685,\"Banc 124FAUXVRAIFAUXFAUXVRAI\",BDD!$V$2:$V$685)","v":0},{"$f":"SUMIF(BDD!$BC$2:$BC$685,\"Banc 124VRAIFAUXVRAIFAUXFAUX\",BDD!$V$2:$V$685)","v":0},{"$f":"SUMIF(BDD!$BC$2:$BC$685,\"Banc 124VRAIFAUXFAUXVRAIFAUX\",BDD!$V$2:$V$685)","v":0},{"$f":"SUMIF(BDD!$BC$2:$BC$685,\"Banc 124VRAIFAUXFAUXFAUXVRAI\",BDD!$V$2:$V$685)","v":0},{"$f":"SUMIF(BDD!$BC$2:$BC$685,\"Banc 124FAUXVRAIVRAIFAUXFAUX\",BDD!$V$2:$V$685)","v":0},{"$f":"SUMIF(BDD!$BC$2:$BC$685,\"Banc 124FAUXVRAIFAUXVRAIFAUX\",BDD!$V$2:$V$685)","v":0},{"$f":"SUMIF(BDD!$BC$2:$BC$685,\"Banc 124FAUXVRAIFAUXFAUXVRAI\",BDD!$V$2:$V$685)","v":0},{"$f":"SUMIF(BDD!$BC$2:$BC$685,\"Banc 124VRAIFAUXVRAIFAUXFAUX\",BDD!$V$2:$V$685)","v":0},{"$f":"SUMIF(BDD!$BC$2:$BC$685,\"Banc 124VRAIFAUXFAUXVRAIFAUX\",BDD!$V$2:$V$685)","v":0},{"$f":"SUMIF(BDD!$BC$2:$BC$685,\"Banc 124VRAIFAUXFAUXFAUXVRAI\",BDD!$V$2:$V$685)","v":0},{"$f":"SUMIF(BDD!$BC$2:$BC$685,\"Banc 124FAUXVRAIVRAIFAUXFAUX\",BDD!$V$2:$V$685)","v":0},{"$f":"SUMIF(BDD!$BC$2:$BC$685,\"Banc 124FAUXVRAIFAUXVRAIFAUX\",BDD!$V$2:$V$685)","v":0},{"$f":"SUMIF(BDD!$BC$2:$BC$685,\"Banc 124FAUXVRAIFAUXFAUXVRAI\",BDD!$V$2:$V$685)","v":0},{"$f":"SUMIF(BDD!$BC$2:$BC$685,\"Banc 124VRAIFAUXVRAIFAUXFAUX\",BDD!$V$2:$V$685)","v":0},{"$f":"SUMIF(BDD!$BC$2:$BC$685,\"Banc 124VRAIFAUXFAUXVRAIFAUX\",BDD!$V$2:$V$685)","v":0},{"$f":"SUMIF(BDD!$BC$2:$BC$685,\"Banc 124VRAIFAUXFAUXFAUXVRAI\",BDD!$V$2:$V$685)","v":0},{"$f":"SUMIF(BDD!$BC$2:$BC$685,\"Banc 124FAUXVRAIVRAIFAUXFAUX\",BDD!$V$2:$V$685)","v":0},{"$f":"SUMIF(BDD!$BC$2:$BC$685,\"Banc 124FAUXVRAIFAUXVRAIFAUX\",BDD!$V$2:$V$685)","v":0},{"$f":"SUMIF(BDD!$BC$2:$BC$685,\"Banc 124FAUXVRAIFAUXFAUXVRAI\",BDD!$V$2:$V$685)","v":0},{"$f":"SUMIF(BDD!$BC$2:$BC$685,\"Banc 124VRAIFAUXVRAIFAUXFAUX\",BDD!$V$2:$V$685)","v":0},{"$f":"SUMIF(BDD!$BC$2:$BC$685,\"Banc 124VRAIFAUXFAUXVRAIFAUX\",BDD!$V$2:$V$685)","v":0},{"$f":"SUMIF(BDD!$BC$2:$BC$685,\"Banc 124VRAIFAUXFAUXFAUXVRAI\",BDD!$V$2:$V$685)","v":0},{"$f":"SUMIF(BDD!$BC$2:$BC$685,\"Banc 124FAUXVRAIVRAIFAUXFAUX\",BDD!$V$2:$V$685)","v":0},{"$f":"SUMIF(BDD!$BC$2:$BC$685,\"Banc 124FAUXVRAIFAUXVRAIFAUX\",BDD!$V$2:$V$685)","v":0},{"$f":"SUMIF(BDD!$BC$2:$BC$685,\"Banc 124FAUXVRAIFAUXFAUXVRAI\",BDD!$V$2:$V$685)","v":0},{"$f":"SUMIF(BDD!$BC$2:$BC$685,\"Banc 124VRAIFAUXVRAIFAUXFAUX\",BDD!$V$2:$V$685)","v":0},{"$f":"SUMIF(BDD!$BC$2:$BC$685,\"Banc 124VRAIFAUXFAUXVRAIFAUX\",BDD!$V$2:$V$685)","v":0},{"$f":"SUMIF(BDD!$BC$2:$BC$685,\"Banc 124VRAIFAUXFAUXFAUXVRAI\",BDD!$V$2:$V$685)","v":0},{"$f":"SUMIF(BDD!$BC$2:$BC$685,\"Banc 124FAUXVRAIVRAIFAUXFAUX\",BDD!$V$2:$V$685)","v":0},{"$f":"SUMIF(BDD!$BC$2:$BC$685,\"Banc 124FAUXVRAIFAUXVRAIFAUX\",BDD!$V$2:$V$685)","v":0},{"$f":"SUMIF(BDD!$BC$2:$BC$685,\"Banc 124FAUXVRAIFAUXFAUXVRAI\",BDD!$V$2:$V$685)","v":0},{"$f":"SUMIF(BDD!$BC$2:$BC$685,\"Banc 124VRAIFAUXVRAIFAUXFAUX\",BDD!$V$2:$V$685)","v":0},{"$f":"SUMIF(BDD!$BC$2:$BC$685,\"Banc 124VRAIFAUXFAUXVRAIFAUX\",BDD!$V$2:$V$685)","v":0},{"$f":"SUMIF(BDD!$BC$2:$BC$685,\"Banc 124VRAIFAUXFAUXFAUXVRAI\",BDD!$V$2:$V$685)","v":0},{"$f":"SUMIF(BDD!$BC$2:$BC$685,\"Banc 124FAUXVRAIVRAIFAUXFAUX\",BDD!$V$2:$V$685)","v":0},{"$f":"SUMIF(BDD!$BC$2:$BC$685,\"Banc 124FAUXVRAIFAUXVRAIFAUX\",BDD!$V$2:$V$685)","v":0},{"$f":"SUMIF(BDD!$BC$2:$BC$685,\"Banc 124FAUXVRAIFAUXFAUXVRAI\",BDD!$V$2:$V$685)","v":0}]
["Banc 124 bis",{"$f":"SUMIF(BDD!$BC$2:$BC$685,\"Banc 124 bisVRAIFAUXVRAIFAUXFAUX\",BDD!$V$2:$V$685)","v":0},{"$f":"SUMIF(BDD!$BC$2:$BC$685,\"Banc 124 bisVRAIFAUXFAUXVRAIFAUX\",BDD!$V$2:$V$685)","v":0},{"$f":"SUMIF(BDD!$BC$2:$BC$685,\"Banc 124 bisVRAIFAUXFAUXFAUXVRAI\",BDD!$V$2:$V$685)","v":0},{"$f":"SUMIF(BDD!$BC$2:$BC$685,\"Banc 124 bisFAUXVRAIVRAIFAUXFAUX\",BDD!$V$2:$V$685)","v":0},{"$f":"SUMIF(BDD!$BC$2:$BC$685,\"Banc 124 bisFAUXVRAIFAUXVRAIFAUX\",BDD!$V$2:$V$685)","v":0},{"$f":"SUMIF(BDD!$BC$2:$BC$685,\"Banc 124 bisFAUXVRAIFAUXFAUXVRAI\",BDD!$V$2:$V$685)","v":0},{"$f":"SUMIF(BDD!$BC$2:$BC$685,\"Banc 124 bisVRAIFAUXVRAIFAUXFAUX\",BDD!$V$2:$V$685)","v":0},{"$f":"SUMIF(BDD!$BC$2:$BC$685,\"Banc 124 bisVRAIFAUXFAUXVRAIFAUX\",BDD!$V$2:$V$685)","v":0},{"$f":"SUMIF(BDD!$BC$2:$BC$685,\"Banc 124 bisVRAIFAUXFAUXFAUXVRAI\",BDD!$V$2:$V$685)","v":0},{"$f":"SUMIF(BDD!$BC$2:$BC$685,\"Banc 124 bisFAUXVRAIVRAIFAUXFAUX\",BDD!$V$2:$V$685)","v":0},{"$f":"SUMIF(BDD!$BC$2:$BC$685,\"Banc 124 bisFAUXVRAIFAUXVRAIFAUX\",BDD!$V$2:$V$685)","v":0},{"$f":"SUMIF(BDD!$BC$2:$BC$685,\"Banc 124 bisFAUXVRAIFAUXFAUXVRAI\",BDD!$V$2:$V$685)","v":0},{"$f":"SUMIF(BDD!$BC$2:$BC$685,\"Banc 124 bisVRAIFAUXVRAIFAUXFAUX\",BDD!$V$2:$V$685)","v":0},{"$f":"SUMIF(BDD!$BC$2:$BC$685,\"Banc 124 bisVRAIFAUXFAUXVRAIFAUX\",BDD!$V$2:$V$685)","v":0},{"$f":"SUMIF(BDD!$BC$2:$BC$685,\"Banc 124 bisVRAIFAUXFAUXFAUXVRAI\",BDD!$V$2:$V$685)","v":0},{"$f":"SUMIF(BDD!$BC$2:$BC$685,\"Banc 124 bisFAUXVRAIVRAIFAUXFAUX\",BDD!$V$2:$V$685)","v":0},{"$f":"SUMIF(BDD!$BC$2:$BC$685,\"Banc 124 bisFAUXVRAIFAUXVRAIFAUX\",BDD!$V$2:$V$685)","v":0},{"$f":"SUMIF(BDD!$BC$2:$BC$685,\"Banc 124 bisFAUXVRAIFAUXFAUXVRAI\",BDD!$V$2:$V$685)","v":0},{"$f":"SUMIF(BDD!$BC$2:$BC$685,\"Banc 124 bisVRAIFAUXVRAIFAUXFAUX\",BDD!$V$2:$V$685)","v":0},{"$f":"SUMIF(BDD!$BC$2:$BC$685,\"Banc 124 bisVRAIFAUXFAUXVRAIFAUX\",BDD!$V$2:$V$685)","v":0},{"$f":"SUMIF(BDD!$BC$2:$BC$685,\"Banc 124 bisVRAIFAUXFAUXFAUXVRAI\",BDD!$V$2:$V$685)","v":0},{"$f":"SUMIF(BDD!$BC$2:$BC$685,\"Banc 124 bisFAUXVRAIVRAIFAUXFAUX\",BDD!$V$2:$V$685)","v":0},{"$f":"SUMIF(BDD!$BC$2:$BC$685,\"Banc 124 bisFAUXVRAIFAUXVRAIFAUX\",BDD!$V$2:$V$685)","v":0},{"$f":"SUMIF(BDD!$BC$2:$BC$685,\"Banc 124 bisFAUXVRAIFAUXFAUXVRAI\",BDD!$V$2:$V$685)","v":0},{"$f":"SUMIF(BDD!$BC$2:$BC$685,\"Banc 124 bisVRAIFAUXVRAIFAUXFAUX\",BDD!$V$2:$V$685)","v":0},{"$f":"SUMIF(BDD!$BC$2:$BC$685,\"Banc 124 bisVRAIFAUXFAUXVRAIFAUX\",BDD!$V$2:$V$685)","v":0},{"$f":"SUMIF(BDD!$BC$2:$BC$685,\"Banc 124 bisVRAIFAUXFAUXFAUXVRAI\",BDD!$V$2:$V$685)","v":0},{"$f":"SUMIF(BDD!$BC$2:$BC$685,\"Banc 124 bisFAUXVRAIVRAIFAUXFAUX\",BDD!$V$2:$V$685)","v":0},{"$f":"SUMIF(BDD!$BC$2:$BC$685,\"Banc 124 bisFAUXVRAIFAUXVRAIFAUX\",BDD!$V$2:$V$685)","v":0},{"$f":"SUMIF(BDD!$BC$2:$BC$685,\"Banc 124 bisFAUXVRAIFAUXFAUXVRAI\",BDD!$V$2:$V$685)","v":0},{"$f":"SUMIF(BDD!$BC$2:$BC$685,\"Banc 124 bisVRAIFAUXVRAIFAUXFAUX\",BDD!$V$2:$V$685)","v":0},{"$f":"SUMIF(BDD!$BC$2:$BC$685,\"Banc 124 bisVRAIFAUXFAUXVRAIFAUX\",BDD!$V$2:$V$685)","v":0},{"$f":"SUMIF(BDD!$BC$2:$BC$685,\"Banc 124 bisVRAIFAUXFAUXFAUXVRAI\",BDD!$V$2:$V$685)","v":0},{"$f":"SUMIF(BDD!$BC$2:$BC$685,\"Banc 124 bisFAUXVRAIVRAIFAUXFAUX\",BDD!$V$2:$V$685)","v":0},{"$f":"SUMIF(BDD!$BC$2:$BC$685,\"Banc 124 bisFAUXVRAIFAUXVRAIFAUX\",BDD!$V$2:$V$685)","v":0},{"$f":"SUMIF(BDD!$BC$2:$BC$685,\"Banc 124 bisFAUXVRAIFAUXFAUXVRAI\",BDD!$V$2:$V$685)","v":0},{"$f":"SUMIF(BDD!$BC$2:$BC$685,\"Banc 124 bisVRAIFAUXVRAIFAUXFAUX\",BDD!$V$2:$V$685)","v":0},{"$f":"SUMIF(BDD!$BC$2:$BC$685,\"Banc 124 bisVRAIFAUXFAUXVRAIFAUX\",BDD!$V$2:$V$685)","v":0},{"$f":"SUMIF(BDD!$BC$2:$BC$685,\"Banc 124 bisVRAIFAUXFAUXFAUXVRAI\",BDD!$V$2:$V$685)","v":0},{"$f":"SUMIF(BDD!$BC$2:$BC$685,\"Banc 124 bisFAUXVRAIVRAIFAUXFAUX\",BDD!$V$2:$V$685)","v":0},{"$f":"SUMIF(BDD!$BC$2:$BC$685,\"Banc 124 bisFAUXVRAIFAUXVRAIFAUX\",BDD!$V$2:$V$685)","v":0},{"$f":"SUMIF(BDD!$BC$2:$BC$685,\"Banc 124 bisFAUXVRAIFAUXFAUXVRAI\",BDD!$V$2:$V$685)","v":0},{"$f":"SUMIF(BDD!$BC$2:$BC$685,\"Banc 124 bisVRAIFAUXVRAIFAUXFAUX\",BDD!$V$2:$V$685)","v":0},{"$f":"SUMIF(BDD!$BC$2:$BC$685,\"Banc 124 bisVRAIFAUXFAUXVRAIFAUX\",BDD!$V$2:$V$685)","v":0},{"$f":"SUMIF(BDD!$BC$2:$BC$685,\"Banc 124 bisVRAIFAUXFAUXFAUXVRAI\",BDD!$V$2:$V$685)","v":0},{"$f":"SUMIF(BDD!$BC$2:$BC$685,\"Banc 124 bisFAUXVRAIVRAIFAUXFAUX\",BDD!$V$2:$V$685)","v":0},{"$f":"SUMIF(BDD!$BC$2:$BC$685,\"Banc 124 bisFAUXVRAIFAUXVRAIFAUX\",BDD!$V$2:$V$685)","v":0},{"$f":"SUMIF(BDD!$BC$2:$BC$685,\"Banc 124 bisFAUXVRAIFAUXFAUXVRAI\",BDD!$V$2:$V$685)","v":0},{"$f":"SUMIF(BDD!$BC$2:$BC$685,\"Banc 124 bisVRAIFAUXVRAIFAUXFAUX\",BDD!$V$2:$V$685)","v":0},{"$f":"SUMIF(BDD!$BC$2:$BC$685,\"Banc 124 bisVRAIFAUXFAUXVRAIFAUX\",BDD!$V$2:$V$685)","v":0},{"$f":"SUMIF(BDD!$BC$2:$BC$685,\"Banc 124 bisVRAIFAUXFAUXFAUXVRAI\",BDD!$V$2:$V$685)","v":0},{"$f":"SUMIF(BDD!$BC$2:$BC$685,\"Banc 124 bisFAUXVRAIVRAIFAUXFAUX\",BDD!$V$2:$V$685)","v":0},{"$f":"SUMIF(BDD!$BC$2:$BC$685,\"Banc 124 bisFAUXVRAIFAUXVRAIFAUX\",BDD!$V$2:$V$685)","v":0},{"$f":"SUMIF(BDD!$BC$2:$BC$685,\"Banc 124 bisFAUXVRAIFAUXFAUXVRAI\",BDD!$V$2:$V$685)","v":0},{"$f":"SUMIF(BDD!$BC$2:$BC$685,\"Banc 124 bisVRAIFAUXVRAIFAUXFAUX\",BDD!$V$2:$V$685)","v":0},{"$f":"SUMIF(BDD!$BC$2:$BC$685,\"Banc 124 bisVRAIFAUXFAUXVRAIFAUX\",BDD!$V$2:$V$685)","v":0},{"$f":"SUMIF(BDD!$BC$2:$BC$685,\"Banc 124 bisVRAIFAUXFAUXFAUXVRAI\",BDD!$V$2:$V$685)","v":0},{"$f":"SUMIF(BDD!$BC$2:$BC$685,\"Banc 124 bisFAUXVRAIVRAIFAUXFAUX\",BDD!$V$2:$V$685)","v":0},{"$f":"SUMIF(BDD!$BC$2:$BC$685,\"Banc 124 bisFAUXVRAIFAUXVRAIFAUX\",BDD!$V$2:$V$685)","v":0},{"$f":"SUMIF(BDD!$BC$2:$BC$685,\"Banc 124 bisFAUXVRAIFAUXFAUXVRAI\",BDD!$V$2:$V$685)","v":0},{"$f":"SUMIF(BDD!$BC$2:$BC$685,\"Banc 124 bisVRAIFAUXVRAIFAUXFAUX\",BDD!$V$2:$V$685)","v":0},{"$f":"SUMIF(BDD!$BC$2:$BC$685,\"Banc 124 bisVRAIFAUXFAUXVRAIFAUX\",BDD!$V$2:$V$685)","v":0},{"$f":"SUMIF(BDD!$BC$2:$BC$685,\"Banc 124 bisVRAIFAUXFAUXFAUXVRAI\",BDD!$V$2:$V$685)","v":0},{"$f":"SUMIF(BDD!$BC$2:$BC$685,\"Banc 124 bisFAUXVRAIVRAIFAUXFAUX\",BDD!$V$2:$V$685)","v":0},{"$f":"SUMIF(BDD!$BC$2:$BC$685,\"Banc 124 bisFAUXVRAIFAUXVRAIFAUX\",BDD!$V$2:$V$685)","v":0},{"$f":"SUMIF(BDD!$BC$2:$BC$685,\"Banc 124 bisFAUXVRAIFAUXFAUXVRAI\",BDD!$V$2:$V$685)","v":0},{"$f":"SUMIF(BDD!$BC$2:$BC$685,\"Banc 124 bisVRAIFAUXVRAIFAUXFAUX\",BDD!$V$2:$V$685)","v":0},{"$f":"SUMIF(BDD!$BC$2:$BC$685,\"Banc 124 bisVRAIFAUXFAUXVRAIFAUX\",BDD!$V$2:$V$685)","v":0},{"$f":"SUMIF(BDD!$BC$2:$BC$685,\"Banc 124 bisVRAIFAUXFAUXFAUXVRAI\",BDD!$V$2:$V$685)","v":0},{"$f":"SUMIF(BDD!$BC$2:$BC$685,\"Banc 124 bisFAUXVRAIVRAIFAUXFAUX\",BDD!$V$2:$V$685)","v":0},{"$f":"SUMIF(BDD!$BC$2:$BC$685,\"Banc 124 bisFAUXVRAIFAUXVRAIFAUX\",BDD!$V$2:$V$685)","v":0},{"$f":"SUMIF(BDD!$BC$2:$BC$685,\"Banc 124 bisFAUXVRAIFAUXFAUXVRAI\",BDD!$V$2:$V$685)","v":0}]
["Banc 145",{"$f":"SUMIF(BDD!$BC$2:$BC$685,\"Banc 145VRAIFAUXVRAIFAUXFAUX\",BDD!$V$2:$V$685)","v":0},{"$f":"SUMIF(BDD!$BC$2:$BC$685,\"Banc 145VRAIFAUXFAUXVRAIFAUX\",BDD!$V$2:$V$685)","v":0},{"$f":"SUMIF(BDD!$BC$2:$BC$685,\"Banc 145VRAIFAUXFAUXFAUXVRAI\",BDD!$V$2:$V$685)","v":0},{"$f":"SUMIF(BDD!$BC$2:$BC$685,\"Banc 145FAUXVRAIVRAIFAUXFAUX\",BDD!$V$2:$V$685)","v":0},{"$f":"SUMIF(BDD!$BC$2:$BC$685,\"Banc 145FAUXVRAIFAUXVRAIFAUX\",BDD!$V$2:$V$685)","v":0},{"$f":"SUMIF(BDD!$BC$2:$BC$685,\"Banc 145FAUXVRAIFAUXFAUXVRAI\",BDD!$V$2:$V$685)","v":0},{"$f":"SUMIF(BDD!$BC$2:$BC$685,\"Banc 145VRAIFAUXVRAIFAUXFAUX\",BDD!$V$2:$V$685)","v":0},{"$f":"SUMIF(BDD!$BC$2:$BC$685,\"Banc 145VRAIFAUXFAUXVRAIFAUX\",BDD!$V$2:$V$685)","v":0},{"$f":"SUMIF(BDD!$BC$2:$BC$685,\"Banc 145VRAIFAUXFAUXFAUXVRAI\",BDD!$V$2:$V$685)","v":0},{"$f":"SUMIF(BDD!$BC$2:$BC$685,\"Banc 145FAUXVRAIVRAIFAUXFAUX\",BDD!$V$2:$V$685)","v":0},{"$f":"SUMIF(BDD!$BC$2:$BC$685,\"Banc 145FAUXVRAIFAUXVRAIFAUX\",BDD!$V$2:$V$685)","v":0},{"$f":"SUMIF(BDD!$BC$2:$BC$685,\"Banc 145FAUXVRAIFAUXFAUXVRAI\",BDD!$V$2:$V$685)","v":0},{"$f":"SUMIF(BDD!$BC$2:$BC$685,\"Banc 145VRAIFAUXVRAIFAUXFAUX\",BDD!$V$2:$V$685)","v":0},{"$f":"SUMIF(BDD!$BC$2:$BC$685,\"Banc 145VRAIFAUXFAUXVRAIFAUX\",BDD!$V$2:$V$685)","v":0},{"$f":"SUMIF(BDD!$BC$2:$BC$685,\"Banc 145VRAIFAUXFAUXFAUXVRAI\",BDD!$V$2:$V$685)","v":0},{"$f":"SUMIF(BDD!$BC$2:$BC$685,\"Banc 145FAUXVRAIVRAIFAUXFAUX\",BDD!$V$2:$V$685)","v":0},{"$f":"SUMIF(BDD!$BC$2:$BC$685,\"Banc 145FAUXVRAIFAUXVRAIFAUX\",BDD!$V$2:$V$685)","v":0},{"$f":"SUMIF(BDD!$BC$2:$BC$685,\"Banc 145FAUXVRAIFAUXFAUXVRAI\",BDD!$V$2:$V$685)","v":0},{"$f":"SUMIF(BDD!$BC$2:$BC$685,\"Banc 145VRAIFAUXVRAIFAUXFAUX\",BDD!$V$2:$V$685)","v":0},{"$f":"SUMIF(BDD!$BC$2:$BC$685,\"Banc 145VRAIFAUXFAUXVRAIFAUX\",BDD!$V$2:$V$685)","v":0},{"$f":"SUMIF(BDD!$BC$2:$BC$685,\"Banc 145VRAIFAUXFAUXFAUXVRAI\",BDD!$V$2:$V$685)","v":0},{"$f":"SUMIF(BDD!$BC$2:$BC$685,\"Banc 145FAUXVRAIVRAIFAUXFAUX\",BDD!$V$2:$V$685)","v":0},{"$f":"SUMIF(BDD!$BC$2:$BC$685,\"Banc 145FAUXVRAIFAUXVRAIFAUX\",BDD!$V$2:$V$685)","v":0},{"$f":"SUMIF(BDD!$BC$2:$BC$685,\"Banc 145FAUXVRAIFAUXFAUXVRAI\",BDD!$V$2:$V$685)","v":0},{"$f":"SUMIF(BDD!$BC$2:$BC$685,\"Banc 145VRAIFAUXVRAIFAUXFAUX\",BDD!$V$2:$V$685)","v":0},{"$f":"SUMIF(BDD!$BC$2:$BC$685,\"Banc 145VRAIFAUXFAUXVRAIFAUX\",BDD!$V$2:$V$685)","v":0},{"$f":"SUMIF(BDD!$BC$2:$BC$685,\"Banc 145VRAIFAUXFAUXFAUXVRAI\",BDD!$V$2:$V$685)","v":0},{"$f":"SUMIF(BDD!$BC$2:$BC$685,\"Banc 145FAUXVRAIVRAIFAUXFAUX\",BDD!$V$2:$V$685)","v":0},{"$f":"SUMIF(BDD!$BC$2:$BC$685,\"Banc 145FAUXVRAIFAUXVRAIFAUX\",BDD!$V$2:$V$685)","v":0},{"$f":"SUMIF(BDD!$BC$2:$BC$685,\"Banc 145FAUXVRAIFAUXFAUXVRAI\",BDD!$V$2:$V$685)","v":0},{"$f":"SUMIF(BDD!$BC$2:$BC$685,\"Banc 145VRAIFAUXVRAIFAUXFAUX\",BDD!$V$2:$V$685)","v":0},{"$f":"SUMIF(BDD!$BC$2:$BC$685,\"Banc 145VRAIFAUXFAUXVRAIFAUX\",BDD!$V$2:$V$685)","v":0},{"$f":"SUMIF(BDD!$BC$2:$BC$685,\"Banc 145VRAIFAUXFAUXFAUXVRAI\",BDD!$V$2:$V$685)","v":0},{"$f":"SUMIF(BDD!$BC$2:$BC$685,\"Banc 145FAUXVRAIVRAIFAUXFAUX\",BDD!$V$2:$V$685)","v":0},{"$f":"SUMIF(BDD!$BC$2:$BC$685,\"Banc 145FAUXVRAIFAUXVRAIFAUX\",BDD!$V$2:$V$685)","v":0},{"$f":"SUMIF(BDD!$BC$2:$BC$685,\"Banc 145FAUXVRAIFAUXFAUXVRAI\",BDD!$V$2:$V$685)","v":0},{"$f":"SUMIF(BDD!$BC$2:$BC$685,\"Banc 145VRAIFAUXVRAIFAUXFAUX\",BDD!$V$2:$V$685)","v":0},{"$f":"SUMIF(BDD!$BC$2:$BC$685,\"Banc 145VRAIFAUXFAUXVRAIFAUX\",BDD!$V$2:$V$685)","v":0},{"$f":"SUMIF(BDD!$BC$2:$BC$685,\"Banc 145VRAIFAUXFAUXFAUXVRAI\",BDD!$V$2:$V$685)","v":0},{"$f":"SUMIF(BDD!$BC$2:$BC$685,\"Banc 145FAUXVRAIVRAIFAUXFAUX\",BDD!$V$2:$V$685)","v":0},{"$f":"SUMIF(BDD!$BC$2:$BC$685,\"Banc 145FAUXVRAIFAUXVRAIFAUX\",BDD!$V$2:$V$685)","v":0},{"$f":"SUMIF(BDD!$BC$2:$BC$685,\"Banc 145FAUXVRAIFAUXFAUXVRAI\",BDD!$V$2:$V$685)","v":0},{"$f":"SUMIF(BDD!$BC$2:$BC$685,\"Banc 145VRAIFAUXVRAIFAUXFAUX\",BDD!$V$2:$V$685)","v":0},{"$f":"SUMIF(BDD!$BC$2:$BC$685,\"Banc 145VRAIFAUXFAUXVRAIFAUX\",BDD!$V$2:$V$685)","v":0},{"$f":"SUMIF(BDD!$BC$2:$BC$685,\"Banc 145VRAIFAUXFAUXFAUXVRAI\",BDD!$V$2:$V$685)","v":0},{"$f":"SUMIF(BDD!$BC$2:$BC$685,\"Banc 145FAUXVRAIVRAIFAUXFAUX\",BDD!$V$2:$V$685)","v":0},{"$f":"SUMIF(BDD!$BC$2:$BC$685,\"Banc 145FAUXVRAIFAUXVRAIFAUX\",BDD!$V$2:$V$685)","v":0},{"$f":"SUMIF(BDD!$BC$2:$BC$685,\"Banc 145FAUXVRAIFAUXFAUXVRAI\",BDD!$V$2:$V$685)","v":0},{"$f":"SUMIF(BDD!$BC$2:$BC$685,\"Banc 145VRAIFAUXVRAIFAUXFAUX\",BDD!$V$2:$V$685)","v":0},{"$f":"SUMIF(BDD!$BC$2:$BC$685,\"Banc 145VRAIFAUXFAUXVRAIFAUX\",BDD!$V$2:$V$685)","v":0},{"$f":"SUMIF(BDD!$BC$2:$BC$685,\"Banc 145VRAIFAUXFAUXFAUXVRAI\",BDD!$V$2:$V$685)","v":0},{"$f":"SUMIF(BDD!$BC$2:$BC$685,\"Banc 145FAUXVRAIVRAIFAUXFAUX\",BDD!$V$2:$V$685)","v":0},{"$f":"SUMIF(BDD!$BC$2:$BC$685,\"Banc 145FAUXVRAIFAUXVRAIFAUX\",BDD!$V$2:$V$685)","v":0},{"$f":"SUMIF(BDD!$BC$2:$BC$685,\"Banc 145FAUXVRAIFAUXFAUXVRAI\",BDD!$V$2:$V$685)","v":0},{"$f":"SUMIF(BDD!$BC$2:$BC$685,\"Banc 145VRAIFAUXVRAIFAUXFAUX\",BDD!$V$2:$V$685)","v":0},{"$f":"SUMIF(BDD!$BC$2:$BC$685,\"Banc 145VRAIFAUXFAUXVRAIFAUX\",BDD!$V$2:$V$685)","v":0},{"$f":"SUMIF(BDD!$BC$2:$BC$685,\"Banc 145VRAIFAUXFAUXFAUXVRAI\",BDD!$V$2:$V$685)","v":0},{"$f":"SUMIF(BDD!$BC$2:$BC$685,\"Banc 145FAUXVRAIVRAIFAUXFAUX\",BDD!$V$2:$V$685)","v":0},{"$f":"SUMIF(BDD!$BC$2:$BC$685,\"Banc 145FAUXVRAIFAUXVRAIFAUX\",BDD!$V$2:$V$685)","v":0},{"$f":"SUMIF(BDD!$BC$2:$BC$685,\"Banc 145FAUXVRAIFAUXFAUXVRAI\",BDD!$V$2:$V$685)","v":0},{"$f":"SUMIF(BDD!$BC$2:$BC$685,\"Banc 145VRAIFAUXVRAIFAUXFAUX\",BDD!$V$2:$V$685)","v":0},{"$f":"SUMIF(BDD!$BC$2:$BC$685,\"Banc 145VRAIFAUXFAUXVRAIFAUX\",BDD!$V$2:$V$685)","v":0},{"$f":"SUMIF(BDD!$BC$2:$BC$685,\"Banc 145VRAIFAUXFAUXFAUXVRAI\",BDD!$V$2:$V$685)","v":0},{"$f":"SUMIF(BDD!$BC$2:$BC$685,\"Banc 145FAUXVRAIVRAIFAUXFAUX\",BDD!$V$2:$V$685)","v":0},{"$f":"SUMIF(BDD!$BC$2:$BC$685,\"Banc 145FAUXVRAIFAUXVRAIFAUX\",BDD!$V$2:$V$685)","v":0},{"$f":"SUMIF(BDD!$BC$2:$BC$685,\"Banc 145FAUXVRAIFAUXFAUXVRAI\",BDD!$V$2:$V$685)","v":0},{"$f":"SUMIF(BDD!$BC$2:$BC$685,\"Banc 145VRAIFAUXVRAIFAUXFAUX\",BDD!$V$2:$V$685)","v":0},{"$f":"SUMIF(BDD!$BC$2:$BC$685,\"Banc 145VRAIFAUXFAUXVRAIFAUX\",BDD!$V$2:$V$685)","v":0},{"$f":"SUMIF(BDD!$BC$2:$BC$685,\"Banc 145VRAIFAUXFAUXFAUXVRAI\",BDD!$V$2:$V$685)","v":0},{"$f":"SUMIF(BDD!$BC$2:$BC$685,\"Banc 145FAUXVRAIVRAIFAUXFAUX\",BDD!$V$2:$V$685)","v":0},{"$f":"SUMIF(BDD!$BC$2:$BC$685,\"Banc 145FAUXVRAIFAUXVRAIFAUX\",BDD!$V$2:$V$685)","v":0},{"$f":"SUMIF(BDD!$BC$2:$BC$685,\"Banc 145FAUXVRAIFAUXFAUXVRAI\",BDD!$V$2:$V$685)","v":0}]
["Banc cisaillement",{"$f":"SUMIF(BDD!$BC$2:$BC$685,\"Banc cisaillementVRAIFAUXVRAIFAUXFAUX\",BDD!$V$2:$V$685)","v":0},{"$f":"SUMIF(BDD!$BC$2:$BC$685,\"Banc cisaillementVRAIFAUXFAUXVRAIFAUX\",BDD!$V$2:$V$685)","v":0},{"$f":"SUMIF(BDD!$BC$2:$BC$685,\"Banc cisaillementVRAIFAUXFAUXFAUXVRAI\",BDD!$V$2:$V$685)","v":0},{"$f":"SUMIF(BDD!$BC$2:$BC$685,\"Banc cisaillementFAUXVRAIVRAIFAUXFAUX\",BDD!$V$2:$V$685)","v":0},{"$f":"SUMIF(BDD!$BC$2:$BC$685,\"Banc cisaillementFAUXVRAIFAUXVRAIFAUX\",BDD!$V$2:$V$685)","v":0},{"$f":"SUMIF(BDD!$BC$2:$BC$685,\"Banc cisaillementFAUXVRAIFAUXFAUXVRAI\",BDD!$V$2:$V$685)","v":0},{"$f":"SUMIF(BDD!$BC$2:$BC$685,\"Banc cisaillementVRAIFAUXVRAIFAUXFAUX\",BDD!$V$2:$V$685)","v":0},{"$f":"SUMIF(BDD!$BC$2:$BC$685,\"Banc cisaillementVRAIFAUXFAUXVRAIFAUX\",BDD!$V$2:$V$685)","v":0},{"$f":"SUMIF(BDD!$BC$2:$BC$685,\"Banc cisaillementVRAIFAUXFAUXFAUXVRAI\",BDD!$V$2:$V$685)","v":0},{"$f":"SUMIF(BDD!$BC$2:$BC$685,\"Banc cisaillementFAUXVRAIVRAIFAUXFAUX\",BDD!$V$2:$V$685)","v":0},{"$f":"SUMIF(BDD!$BC$2:$BC$685,\"Banc cisaillementFAUXVRAIFAUXVRAIFAUX\",BDD!$V$2:$V$685)","v":0},{"$f":"SUMIF(BDD!$BC$2:$BC$685,\"Banc cisaillementFAUXVRAIFAUXFAUXVRAI\",BDD!$V$2:$V$685)","v":0},{"$f":"SUMIF(BDD!$BC$2:$BC$685,\"Banc cisaillementVRAIFAUXVRAIFAUXFAUX\",BDD!$V$2:$V$685)","v":0},{"$f":"SUMIF(BDD!$BC$2:$BC$685,\"Banc cisaillementVRAIFAUXFAUXVRAIFAUX\",BDD!$V$2:$V$685)","v":0},{"$f":"SUMIF(BDD!$BC$2:$BC$685,\"Banc cisaillementVRAIFAUXFAUXFAUXVRAI\",BDD!$V$2:$V$685)","v":0},{"$f":"SUMIF(BDD!$BC$2:$BC$685,\"Banc cisaillementFAUXVRAIVRAIFAUXFAUX\",BDD!$V$2:$V$685)","v":0},{"$f":"SUMIF(BDD!$BC$2:$BC$685,\"Banc cisaillementFAUXVRAIFAUXVRAIFAUX\",BDD!$V$2:$V$685)","v":0},{"$f":"SUMIF(BDD!$BC$2:$BC$685,\"Banc cisaillementFAUXVRAIFAUXFAUXVRAI\",BDD!$V$2:$V$685)","v":0},{"$f":"SUMIF(BDD!$BC$2:$BC$685,\"Banc cisaillementVRAIFAUXVRAIFAUXFAUX\",BDD!$V$2:$V$685)","v":0},{"$f":"SUMIF(BDD!$BC$2:$BC$685,\"Banc cisaillementVRAIFAUXFAUXVRAIFAUX\",BDD!$V$2:$V$685)","v":0},{"$f":"SUMIF(BDD!$BC$2:$BC$685,\"Banc cisaillementVRAIFAUXFAUXFAUXVRAI\",BDD!$V$2:$V$685)","v":0},{"$f":"SUMIF(BDD!$BC$2:$BC$685,\"Banc cisaillementFAUXVRAIVRAIFAUXFAUX\",BDD!$V$2:$V$685)","v":0},{"$f":"SUMIF(BDD!$BC$2:$BC$685,\"Banc cisaillementFAUXVRAIFAUXVRAIFAUX\",BDD!$V$2:$V$685)","v":0},{"$f":"SUMIF(BDD!$BC$2:$BC$685,\"Banc cisaillementFAUXVRAIFAUXFAUXVRAI\",BDD!$V$2:$V$685)","v":0},{"$f":"SUMIF(BDD!$BC$2:$BC$685,\"Banc cisaillementVRAIFAUXVRAIFAUXFAUX\",BDD!$V$2:$V$685)","v":0},{"$f":"SUMIF(BDD!$BC$2:$BC$685,\"Banc cisaillementVRAIFAUXFAUXVRAIFAUX\",BDD!$V$2:$V$685)","v":0},{"$f":"SUMIF(BDD!$BC$2:$BC$685,\"Banc cisaillementVRAIFAUXFAUXFAUXVRAI\",BDD!$V$2:$V$685)","v":0},{"$f":"SUMIF(BDD!$BC$2:$BC$685,\"Banc cisaillementFAUXVRAIVRAIFAUXFAUX\",BDD!$V$2:$V$685)","v":0},{"$f":"SUMIF(BDD!$BC$2:$BC$685,\"Banc cisaillementFAUXVRAIFAUXVRAIFAUX\",BDD!$V$2:$V$685)","v":0},{"$f":"SUMIF(BDD!$BC$2:$BC$685,\"Banc cisaillementFAUXVRAIFAUXFAUXVRAI\",BDD!$V$2:$V$685)","v":0},{"$f":"SUMIF(BDD!$BC$2:$BC$685,\"Banc cisaillementVRAIFAUXVRAIFAUXFAUX\",BDD!$V$2:$V$685)","v":0},{"$f":"SUMIF(BDD!$BC$2:$BC$685,\"Banc cisaillementVRAIFAUXFAUXVRAIFAUX\",BDD!$V$2:$V$685)","v":0},{"$f":"SUMIF(BDD!$BC$2:$BC$685,\"Banc cisaillementVRAIFAUXFAUXFAUXVRAI\",BDD!$V$2:$V$685)","v":0},{"$f":"SUMIF(BDD!$BC$2:$BC$685,\"Banc cisaillementFAUXVRAIVRAIFAUXFAUX\",BDD!$V$2:$V$685)","v":0},{"$f":"SUMIF(BDD!$BC$2:$BC$685,\"Banc cisaillementFAUXVRAIFAUXVRAIFAUX\",BDD!$V$2:$V$685)","v":0},{"$f":"SUMIF(BDD!$BC$2:$BC$685,\"Banc cisaillementFAUXVRAIFAUXFAUXVRAI\",BDD!$V$2:$V$685)","v":0},{"$f":"SUMIF(BDD!$BC$2:$BC$685,\"Banc cisaillementVRAIFAUXVRAIFAUXFAUX\",BDD!$V$2:$V$685)","v":0},{"$f":"SUMIF(BDD!$BC$2:$BC$685,\"Banc cisaillementVRAIFAUXFAUXVRAIFAUX\",BDD!$V$2:$V$685)","v":0},{"$f":"SUMIF(BDD!$BC$2:$BC$685,\"Banc cisaillementVRAIFAUXFAUXFAUXVRAI\",BDD!$V$2:$V$685)","v":0},{"$f":"SUMIF(BDD!$BC$2:$BC$685,\"Banc cisaillementFAUXVRAIVRAIFAUXFAUX\",BDD!$V$2:$V$685)","v":0},{"$f":"SUMIF(BDD!$BC$2:$BC$685,\"Banc cisaillementFAUXVRAIFAUXVRAIFAUX\",BDD!$V$2:$V$685)","v":0},{"$f":"SUMIF(BDD!$BC$2:$BC$685,\"Banc cisaillementFAUXVRAIFAUXFAUXVRAI\",BDD!$V$2:$V$685)","v":0},{"$f":"SUMIF(BDD!$BC$2:$BC$685,\"Banc cisaillementVRAIFAUXVRAIFAUXFAUX\",BDD!$V$2:$V$685)","v":0},{"$f":"SUMIF(BDD!$BC$2:$BC$685,\"Banc cisaillementVRAIFAUXFAUXVRAIFAUX\",BDD!$V$2:$V$685)","v":0},{"$f":"SUMIF(BDD!$BC$2:$BC$685,\"Banc cisaillementVRAIFAUXFAUXFAUXVRAI\",BDD!$V$2:$V$685)","v":0},{"$f":"SUMIF(BDD!$BC$2:$BC$685,\"Banc cisaillementFAUXVRAIVRAIFAUXFAUX\",BDD!$V$2:$V$685)","v":0},{"$f":"SUMIF(BDD!$BC$2:$BC$685,\"Banc cisaillementFAUXVRAIFAUXVRAIFAUX\",BDD!$V$2:$V$685)","v":0},{"$f":"SUMIF(BDD!$BC$2:$BC$685,\"Banc cisaillementFAUXVRAIFAUXFAUXVRAI\",BDD!$V$2:$V$685)","v":0},{"$f":"SUMIF(BDD!$BC$2:$BC$685,\"Banc cisaillementVRAIFAUXVRAIFAUXFAUX\",BDD!$V$2:$V$685)","v":0},{"$f":"SUMIF(BDD!$BC$2:$BC$685,\"Banc cisaillementVRAIFAUXFAUXVRAIFAUX\",BDD!$V$2:$V$685)","v":0},{"$f":"SUMIF(BDD!$BC$2:$BC$685,\"Banc cisaillementVRAIFAUXFAUXFAUXVRAI\",BDD!$V$2:$V$685)","v":0},{"$f":"SUMIF(BDD!$BC$2:$BC$685,\"Banc cisaillementFAUXVRAIVRAIFAUXFAUX\",BDD!$V$2:$V$685)","v":0},{"$f":"SUMIF(BDD!$BC$2:$BC$685,\"Banc cisaillementFAUXVRAIFAUXVRAIFAUX\",BDD!$V$2:$V$685)","v":0},{"$f":"SUMIF(BDD!$BC$2:$BC$685,\"Banc cisaillementFAUXVRAIFAUXFAUXVRAI\",BDD!$V$2:$V$685)","v":0},{"$f":"SUMIF(BDD!$BC$2:$BC$685,\"Banc cisaillementVRAIFAUXVRAIFAUXFAUX\",BDD!$V$2:$V$685)","v":0},{"$f":"SUMIF(BDD!$BC$2:$BC$685,\"Banc cisaillementVRAIFAUXFAUXVRAIFAUX\",BDD!$V$2:$V$685)","v":0},{"$f":"SUMIF(BDD!$BC$2:$BC$685,\"Banc cisaillementVRAIFAUXFAUXFAUXVRAI\",BDD!$V$2:$V$685)","v":0},{"$f":"SUMIF(BDD!$BC$2:$BC$685,\"Banc cisaillementFAUXVRAIVRAIFAUXFAUX\",BDD!$V$2:$V$685)","v":0},{"$f":"SUMIF(BDD!$BC$2:$BC$685,\"Banc cisaillementFAUXVRAIFAUXVRAIFAUX\",BDD!$V$2:$V$685)","v":0},{"$f":"SUMIF(BDD!$BC$2:$BC$685,\"Banc cisaillementFAUXVRAIFAUXFAUXVRAI\",BDD!$V$2:$V$685)","v":0},{"$f":"SUMIF(BDD!$BC$2:$BC$685,\"Banc cisaillementVRAIFAUXVRAIFAUXFAUX\",BDD!$V$2:$V$685)","v":0},{"$f":"SUMIF(BDD!$BC$2:$BC$685,\"Banc cisaillementVRAIFAUXFAUXVRAIFAUX\",BDD!$V$2:$V$685)","v":0},{"$f":"SUMIF(BDD!$BC$2:$BC$685,\"Banc cisaillementVRAIFAUXFAUXFAUXVRAI\",BDD!$V$2:$V$685)","v":0},{"$f":"SUMIF(BDD!$BC$2:$BC$685,\"Banc cisaillementFAUXVRAIVRAIFAUXFAUX\",BDD!$V$2:$V$685)","v":0},{"$f":"SUMIF(BDD!$BC$2:$BC$685,\"Banc cisaillementFAUXVRAIFAUXVRAIFAUX\",BDD!$V$2:$V$685)","v":0},{"$f":"SUMIF(BDD!$BC$2:$BC$685,\"Banc cisaillementFAUXVRAIFAUXFAUXVRAI\",BDD!$V$2:$V$685)","v":0},{"$f":"SUMIF(BDD!$BC$2:$BC$685,\"Banc cisaillementVRAIFAUXVRAIFAUXFAUX\",BDD!$V$2:$V$685)","v":0},{"$f":"SUMIF(BDD!$BC$2:$BC$685,\"Banc cisaillementVRAIFAUXFAUXVRAIFAUX\",BDD!$V$2:$V$685)","v":0},{"$f":"SUMIF(BDD!$BC$2:$BC$685,\"Banc cisaillementVRAIFAUXFAUXFAUXVRAI\",BDD!$V$2:$V$685)","v":0},{"$f":"SUMIF(BDD!$BC$2:$BC$685,\"Banc cisaillementFAUXVRAIVRAIFAUXFAUX\",BDD!$V$2:$V$685)","v":0},{"$f":"SUMIF(BDD!$BC$2:$BC$685,\"Banc cisaillementFAUXVRAIFAUXVRAIFAUX\",BDD!$V$2:$V$685)","v":0},{"$f":"SUMIF(BDD!$BC$2:$BC$685,\"Banc cisaillementFAUXVRAIFAUXFAUXVRAI\",BDD!$V$2:$V$685)","v":0}]
["Banc HP",{"$f":"SUMIF(BDD!$BC$2:$BC$685,\"Banc HPVRAIFAUXVRAIFAUXFAUX\",BDD!$V$2:$V$685)","v":0},{"$f":"SUMIF(BDD!$BC$2:$BC$685,\"Banc HPVRAIFAUXFAUXVRAIFAUX\",BDD!$V$2:$V$685)","v":0},{"$f":"SUMIF(BDD!$BC$2:$BC$685,\"Banc HPVRAIFAUXFAUXFAUXVRAI\",BDD!$V$2:$V$685)","v":0},{"$f":"SUMIF(BDD!$BC$2:$BC$685,\"Banc HPFAUXVRAIVRAIFAUXFAUX\",BDD!$V$2:$V$685)","v":0},{"$f":"SUMIF(BDD!$BC$2:$BC$685,\"Banc HPFAUXVRAIFAUXVRAIFAUX\",BDD!$V$2:$V$685)","v":0},{"$f":"SUMIF(BDD!$BC$2:$BC$685,\"Banc HPFAUXVRAIFAUXFAUXVRAI\",BDD!$V$2:$V$685)","v":0},{"$f":"SUMIF(BDD!$BC$2:$BC$685,\"Banc HPVRAIFAUXVRAIFAUXFAUX\",BDD!$V$2:$V$685)","v":0},{"$f":"SUMIF(BDD!$BC$2:$BC$685,\"Banc HPVRAIFAUXFAUXVRAIFAUX\",BDD!$V$2:$V$685)","v":0},{"$f":"SUMIF(BDD!$BC$2:$BC$685,\"Banc HPVRAIFAUXFAUXFAUXVRAI\",BDD!$V$2:$V$685)","v":0},{"$f":"SUMIF(BDD!$BC$2:$BC$685,\"Banc HPFAUXVRAIVRAIFAUXFAUX\",BDD!$V$2:$V$685)","v":0},{"$f":"SUMIF(BDD!$BC$2:$BC$685,\"Banc HPFAUXVRAIFAUXVRAIFAUX\",BDD!$V$2:$V$685)","v":0},{"$f":"SUMIF(BDD!$BC$2:$BC$685,\"Banc HPFAUXVRAIFAUXFAUXVRAI\",BDD!$V$2:$V$685)","v":0},{"$f":"SUMIF(BDD!$BC$2:$BC$685,\"Banc HPVRAIFAUXVRAIFAUXFAUX\",BDD!$V$2:$V$685)","v":0},{"$f":"SUMIF(BDD!$BC$2:$BC$685,\"Banc HPVRAIFAUXFAUXVRAIFAUX\",BDD!$V$2:$V$685)","v":0},{"$f":"SUMIF(BDD!$BC$2:$BC$685,\"Banc HPVRAIFAUXFAUXFAUXVRAI\",BDD!$V$2:$V$685)","v":0},{"$f":"SUMIF(BDD!$BC$2:$BC$685,\"Banc HPFAUXVRAIVRAIFAUXFAUX\",BDD!$V$2:$V$685)","v":0},{"$f":"SUMIF(BDD!$BC$2:$BC$685,\"Banc HPFAUXVRAIFAUXVRAIFAUX\",BDD!$V$2:$V$685)","v":0},{"$f":"SUMIF(BDD!$BC$2:$BC$685,\"Banc HPFAUXVRAIFAUXFAUXVRAI\",BDD!$V$2:$V$685)","v":0},{"$f":"SUMIF(BDD!$BC$2:$BC$685,\"Banc HPVRAIFAUXVRAIFAUXFAUX\",BDD!$V$2:$V$685)","v":0},{"$f":"SUMIF(BDD!$BC$2:$BC$685,\"Banc HPVRAIFAUXFAUXVRAIFAUX\",BDD!$V$2:$V$685)","v":0},{"$f":"SUMIF(BDD!$BC$2:$BC$685,\"Banc HPVRAIFAUXFAUXFAUXVRAI\",BDD!$V$2:$V$685)","v":0},{"$f":"SUMIF(BDD!$BC$2:$BC$685,\"Banc HPFAUXVRAIVRAIFAUXFAUX\",BDD!$V$2:$V$685)","v":0},{"$f":"SUMIF(BDD!$BC$2:$BC$685,\"Banc HPFAUXVRAIFAUXVRAIFAUX\",BDD!$V$2:$V$685)","v":0},{"$f":"SUMIF(BDD!$BC$2:$BC$685,\"Banc HPFAUXVRAIFAUXFAUXVRAI\",BDD!$V$2:$V$685)","v":0},{"$f":"SUMIF(BDD!$BC$2:$BC$685,\"Banc HPVRAIFAUXVRAIFAUXFAUX\",BDD!$V$2:$V$685)","v":0},{"$f":"SUMIF(BDD!$BC$2:$BC$685,\"Banc HPVRAIFAUXFAUXVRAIFAUX\",BDD!$V$2:$V$685)","v":0},{"$f":"SUMIF(BDD!$BC$2:$BC$685,\"Banc HPVRAIFAUXFAUXFAUXVRAI\",BDD!$V$2:$V$685)","v":0},{"$f":"SUMIF(BDD!$BC$2:$BC$685,\"Banc HPFAUXVRAIVRAIFAUXFAUX\",BDD!$V$2:$V$685)","v":0},{"$f":"SUMIF(BDD!$BC$2:$BC$685,\"Banc HPFAUXVRAIFAUXVRAIFAUX\",BDD!$V$2:$V$685)","v":0},{"$f":"SUMIF(BDD!$BC$2:$BC$685,\"Banc HPFAUXVRAIFAUXFAUXVRAI\",BDD!$V$2:$V$685)","v":0},{"$f":"SUMIF(BDD!$BC$2:$BC$685,\"Banc HPVRAIFAUXVRAIFAUXFAUX\",BDD!$V$2:$V$685)","v":0},{"$f":"SUMIF(BDD!$BC$2:$BC$685,\"Banc HPVRAIFAUXFAUXVRAIFAUX\",BDD!$V$2:$V$685)","v":0},{"$f":"SUMIF(BDD!$BC$2:$BC$685,\"Banc HPVRAIFAUXFAUXFAUXVRAI\",BDD!$V$2:$V$685)","v":0},{"$f":"SUMIF(BDD!$BC$2:$BC$685,\"Banc HPFAUXVRAIVRAIFAUXFAUX\",BDD!$V$2:$V$685)","v":0},{"$f":"SUMIF(BDD!$BC$2:$BC$685,\"Banc HPFAUXVRAIFAUXVRAIFAUX\",BDD!$V$2:$V$685)","v":0},{"$f":"SUMIF(BDD!$BC$2:$BC$685,\"Banc HPFAUXVRAIFAUXFAUXVRAI\",BDD!$V$2:$V$685)","v":0},{"$f":"SUMIF(BDD!$BC$2:$BC$685,\"Banc HPVRAIFAUXVRAIFAUXFAUX\",BDD!$V$2:$V$685)","v":0},{"$f":"SUMIF(BDD!$BC$2:$BC$685,\"Banc HPVRAIFAUXFAUXVRAIFAUX\",BDD!$V$2:$V$685)","v":0},{"$f":"SUMIF(BDD!$BC$2:$BC$685,\"Banc HPVRAIFAUXFAUXFAUXVRAI\",BDD!$V$2:$V$685)","v":0},{"$f":"SUMIF(BDD!$BC$2:$BC$685,\"Banc HPFAUXVRAIVRAIFAUXFAUX\",BDD!$V$2:$V$685)","v":0},{"$f":"SUMIF(BDD!$BC$2:$BC$685,\"Banc HPFAUXVRAIFAUXVRAIFAUX\",BDD!$V$2:$V$685)","v":0},{"$f":"SUMIF(BDD!$BC$2:$BC$685,\"Banc HPFAUXVRAIFAUXFAUXVRAI\",BDD!$V$2:$V$685)","v":0},{"$f":"SUMIF(BDD!$BC$2:$BC$685,\"Banc HPVRAIFAUXVRAIFAUXFAUX\",BDD!$V$2:$V$685)","v":0},{"$f":"SUMIF(BDD!$BC$2:$BC$685,\"Banc HPVRAIFAUXFAUXVRAIFAUX\",BDD!$V$2:$V$685)","v":0},{"$f":"SUMIF(BDD!$BC$2:$BC$685,\"Banc HPVRAIFAUXFAUXFAUXVRAI\",BDD!$V$2:$V$685)","v":0},{"$f":"SUMIF(BDD!$BC$2:$BC$685,\"Banc HPFAUXVRAIVRAIFAUXFAUX\",BDD!$V$2:$V$685)","v":0},{"$f":"SUMIF(BDD!$BC$2:$BC$685,\"Banc HPFAUXVRAIFAUXVRAIFAUX\",BDD!$V$2:$V$685)","v":0},{"$f":"SUMIF(BDD!$BC$2:$BC$685,\"Banc HPFAUXVRAIFAUXFAUXVRAI\",BDD!$V$2:$V$685)","v":0},{"$f":"SUMIF(BDD!$BC$2:$BC$685,\"Banc HPVRAIFAUXVRAIFAUXFAUX\",BDD!$V$2:$V$685)","v":0},{"$f":"SUMIF(BDD!$BC$2:$BC$685,\"Banc HPVRAIFAUXFAUXVRAIFAUX\",BDD!$V$2:$V$685)","v":0},{"$f":"SUMIF(BDD!$BC$2:$BC$685,\"Banc HPVRAIFAUXFAUXFAUXVRAI\",BDD!$V$2:$V$685)","v":0},{"$f":"SUMIF(BDD!$BC$2:$BC$685,\"Banc HPFAUXVRAIVRAIFAUXFAUX\",BDD!$V$2:$V$685)","v":0},{"$f":"SUMIF(BDD!$BC$2:$BC$685,\"Banc HPFAUXVRAIFAUXVRAIFAUX\",BDD!$V$2:$V$685)","v":0},{"$f":"SUMIF(BDD!$BC$2:$BC$685,\"Banc HPFAUXVRAIFAUXFAUXVRAI\",BDD!$V$2:$V$685)","v":0},{"$f":"SUMIF(BDD!$BC$2:$BC$685,\"Banc HPVRAIFAUXVRAIFAUXFAUX\",BDD!$V$2:$V$685)","v":0},{"$f":"SUMIF(BDD!$BC$2:$BC$685,\"Banc HPVRAIFAUXFAUXVRAIFAUX\",BDD!$V$2:$V$685)","v":0},{"$f":"SUMIF(BDD!$BC$2:$BC$685,\"Banc HPVRAIFAUXFAUXFAUXVRAI\",BDD!$V$2:$V$685)","v":0},{"$f":"SUMIF(BDD!$BC$2:$BC$685,\"Banc HPFAUXVRAIVRAIFAUXFAUX\",BDD!$V$2:$V$685)","v":0},{"$f":"SUMIF(BDD!$BC$2:$BC$685,\"Banc HPFAUXVRAIFAUXVRAIFAUX\",BDD!$V$2:$V$685)","v":0},{"$f":"SUMIF(BDD!$BC$2:$BC$685,\"Banc HPFAUXVRAIFAUXFAUXVRAI\",BDD!$V$2:$V$685)","v":0},{"$f":"SUMIF(BDD!$BC$2:$BC$685,\"Banc HPVRAIFAUXVRAIFAUXFAUX\",BDD!$V$2:$V$685)","v":0},{"$f":"SUMIF(BDD!$BC$2:$BC$685,\"Banc HPVRAIFAUXFAUXVRAIFAUX\",BDD!$V$2:$V$685)","v":0},{"$f":"SUMIF(BDD!$BC$2:$BC$685,\"Banc HPVRAIFAUXFAUXFAUXVRAI\",BDD!$V$2:$V$685)","v":0},{"$f":"SUMIF(BDD!$BC$2:$BC$685,\"Banc HPFAUXVRAIVRAIFAUXFAUX\",BDD!$V$2:$V$685)","v":0},{"$f":"SUMIF(BDD!$BC$2:$BC$685,\"Banc HPFAUXVRAIFAUXVRAIFAUX\",BDD!$V$2:$V$685)","v":0},{"$f":"SUMIF(BDD!$BC$2:$BC$685,\"Banc HPFAUXVRAIFAUXFAUXVRAI\",BDD!$V$2:$V$685)","v":0},{"$f":"SUMIF(BDD!$BC$2:$BC$685,\"Banc HPVRAIFAUXVRAIFAUXFAUX\",BDD!$V$2:$V$685)","v":0},{"$f":"SUMIF(BDD!$BC$2:$BC$685,\"Banc HPVRAIFAUXFAUXVRAIFAUX\",BDD!$V$2:$V$685)","v":0},{"$f":"SUMIF(BDD!$BC$2:$BC$685,\"Banc HPVRAIFAUXFAUXFAUXVRAI\",BDD!$V$2:$V$685)","v":0},{"$f":"SUMIF(BDD!$BC$2:$BC$685,\"Banc HPFAUXVRAIVRAIFAUXFAUX\",BDD!$V$2:$V$685)","v":0},{"$f":"SUMIF(BDD!$BC$2:$BC$685,\"Banc HPFAUXVRAIFAUXVRAIFAUX\",BDD!$V$2:$V$685)","v":0},{"$f":"SUMIF(BDD!$BC$2:$BC$685,\"Banc HPFAUXVRAIFAUXFAUXVRAI\",BDD!$V$2:$V$685)","v":0}]
["Banc W+B",{"$f":"SUMIF(BDD!$BC$2:$BC$685,\"Banc W+BVRAIFAUXVRAIFAUXFAUX\",BDD!$V$2:$V$685)","v":0},{"$f":"SUMIF(BDD!$BC$2:$BC$685,\"Banc W+BVRAIFAUXFAUXVRAIFAUX\",BDD!$V$2:$V$685)","v":0},{"$f":"SUMIF(BDD!$BC$2:$BC$685,\"Banc W+BVRAIFAUXFAUXFAUXVRAI\",BDD!$V$2:$V$685)","v":0},{"$f":"SUMIF(BDD!$BC$2:$BC$685,\"Banc W+BFAUXVRAIVRAIFAUXFAUX\",BDD!$V$2:$V$685)","v":0},{"$f":"SUMIF(BDD!$BC$2:$BC$685,\"Banc W+BFAUXVRAIFAUXVRAIFAUX\",BDD!$V$2:$V$685)","v":0},{"$f":"SUMIF(BDD!$BC$2:$BC$685,\"Banc W+BFAUXVRAIFAUXFAUXVRAI\",BDD!$V$2:$V$685)","v":0},{"$f":"SUMIF(BDD!$BC$2:$BC$685,\"Banc W+BVRAIFAUXVRAIFAUXFAUX\",BDD!$V$2:$V$685)","v":0},{"$f":"SUMIF(BDD!$BC$2:$BC$685,\"Banc W+BVRAIFAUXFAUXVRAIFAUX\",BDD!$V$2:$V$685)","v":0},{"$f":"SUMIF(BDD!$BC$2:$BC$685,\"Banc W+BVRAIFAUXFAUXFAUXVRAI\",BDD!$V$2:$V$685)","v":0},{"$f":"SUMIF(BDD!$BC$2:$BC$685,\"Banc W+BFAUXVRAIVRAIFAUXFAUX\",BDD!$V$2:$V$685)","v":0},{"$f":"SUMIF(BDD!$BC$2:$BC$685,\"Banc W+BFAUXVRAIFAUXVRAIFAUX\",BDD!$V$2:$V$685)","v":0},{"$f":"SUMIF(BDD!$BC$2:$BC$685,\"Banc W+BFAUXVRAIFAUXFAUXVRAI\",BDD!$V$2:$V$685)","v":0},{"$f":"SUMIF(BDD!$BC$2:$BC$685,\"Banc W+BVRAIFAUXVRAIFAUXFAUX\",BDD!$V$2:$V$685)","v":0},{"$f":"SUMIF(BDD!$BC$2:$BC$685,\"Banc W+BVRAIFAUXFAUXVRAIFAUX\",BDD!$V$2:$V$685)","v":0},{"$f":"SUMIF(BDD!$BC$2:$BC$685,\"Banc W+BVRAIFAUXFAUXFAUXVRAI\",BDD!$V$2:$V$685)","v":0},{"$f":"SUMIF(BDD!$BC$2:$BC$685,\"Banc W+BFAUXVRAIVRAIFAUXFAUX\",BDD!$V$2:$V$685)","v":0},{"$f":"SUMIF(BDD!$BC$2:$BC$685,\"Banc W+BFAUXVRAIFAUXVRAIFAUX\",BDD!$V$2:$V$685)","v":0},{"$f":"SUMIF(BDD!$BC$2:$BC$685,\"Banc W+BFAUXVRAIFAUXFAUXVRAI\",BDD!$V$2:$V$685)","v":0},{"$f":"SUMIF(BDD!$BC$2:$BC$685,\"Banc W+BVRAIFAUXVRAIFAUXFAUX\",BDD!$V$2:$V$685)","v":0},{"$f":"SUMIF(BDD!$BC$2:$BC$685,\"Banc W+BVRAIFAUXFAUXVRAIFAUX\",BDD!$V$2:$V$685)","v":0},{"$f":"SUMIF(BDD!$BC$2:$BC$685,\"Banc W+BVRAIFAUXFAUXFAUXVRAI\",BDD!$V$2:$V$685)","v":0},{"$f":"SUMIF(BDD!$BC$2:$BC$685,\"Banc W+BFAUXVRAIVRAIFAUXFAUX\",BDD!$V$2:$V$685)","v":0},{"$f":"SUMIF(BDD!$BC$2:$BC$685,\"Banc W+BFAUXVRAIFAUXVRAIFAUX\",BDD!$V$2:$V$685)","v":0},{"$f":"SUMIF(BDD!$BC$2:$BC$685,\"Banc W+BFAUXVRAIFAUXFAUXVRAI\",BDD!$V$2:$V$685)","v":0},{"$f":"SUMIF(BDD!$BC$2:$BC$685,\"Banc W+BVRAIFAUXVRAIFAUXFAUX\",BDD!$V$2:$V$685)","v":0},{"$f":"SUMIF(BDD!$BC$2:$BC$685,\"Banc W+BVRAIFAUXFAUXVRAIFAUX\",BDD!$V$2:$V$685)","v":0},{"$f":"SUMIF(BDD!$BC$2:$BC$685,\"Banc W+BVRAIFAUXFAUXFAUXVRAI\",BDD!$V$2:$V$685)","v":0},{"$f":"SUMIF(BDD!$BC$2:$BC$685,\"Banc W+BFAUXVRAIVRAIFAUXFAUX\",BDD!$V$2:$V$685)","v":0},{"$f":"SUMIF(BDD!$BC$2:$BC$685,\"Banc W+BFAUXVRAIFAUXVRAIFAUX\",BDD!$V$2:$V$685)","v":0},{"$f":"SUMIF(BDD!$BC$2:$BC$685,\"Banc W+BFAUXVRAIFAUXFAUXVRAI\",BDD!$V$2:$V$685)","v":0},{"$f":"SUMIF(BDD!$BC$2:$BC$685,\"Banc W+BVRAIFAUXVRAIFAUXFAUX\",BDD!$V$2:$V$685)","v":0},{"$f":"SUMIF(BDD!$BC$2:$BC$685,\"Banc W+BVRAIFAUXFAUXVRAIFAUX\",BDD!$V$2:$V$685)","v":0},{"$f":"SUMIF(BDD!$BC$2:$BC$685,\"Banc W+BVRAIFAUXFAUXFAUXVRAI\",BDD!$V$2:$V$685)","v":0},{"$f":"SUMIF(BDD!$BC$2:$BC$685,\"Banc W+BFAUXVRAIVRAIFAUXFAUX\",BDD!$V$2:$V$685)","v":0},{"$f":"SUMIF(BDD!$BC$2:$BC$685,\"Banc W+BFAUXVRAIFAUXVRAIFAUX\",BDD!$V$2:$V$685)","v":0},{"$f":"SUMIF(BDD!$BC$2:$BC$685,\"Banc W+BFAUXVRAIFAUXFAUXVRAI\",BDD!$V$2:$V$685)","v":0},{"$f":"SUMIF(BDD!$BC$2:$BC$685,\"Banc W+BVRAIFAUXVRAIFAUXFAUX\",BDD!$V$2:$V$685)","v":0},{"$f":"SUMIF(BDD!$BC$2:$BC$685,\"Banc W+BVRAIFAUXFAUXVRAIFAUX\",BDD!$V$2:$V$685)","v":0},{"$f":"SUMIF(BDD!$BC$2:$BC$685,\"Banc W+BVRAIFAUXFAUXFAUXVRAI\",BDD!$V$2:$V$685)","v":0},{"$f":"SUMIF(BDD!$BC$2:$BC$685,\"Banc W+BFAUXVRAIVRAIFAUXFAUX\",BDD!$V$2:$V$685)","v":0},{"$f":"SUMIF(BDD!$BC$2:$BC$685,\"Banc W+BFAUXVRAIFAUXVRAIFAUX\",BDD!$V$2:$V$685)","v":0},{"$f":"SUMIF(BDD!$BC$2:$BC$685,\"Banc W+BFAUXVRAIFAUXFAUXVRAI\",BDD!$V$2:$V$685)","v":0},{"$f":"SUMIF(BDD!$BC$2:$BC$685,\"Banc W+BVRAIFAUXVRAIFAUXFAUX\",BDD!$V$2:$V$685)","v":0},{"$f":"SUMIF(BDD!$BC$2:$BC$685,\"Banc W+BVRAIFAUXFAUXVRAIFAUX\",BDD!$V$2:$V$685)","v":0},{"$f":"SUMIF(BDD!$BC$2:$BC$685,\"Banc W+BVRAIFAUXFAUXFAUXVRAI\",BDD!$V$2:$V$685)","v":0},{"$f":"SUMIF(BDD!$BC$2:$BC$685,\"Banc W+BFAUXVRAIVRAIFAUXFAUX\",BDD!$V$2:$V$685)","v":0},{"$f":"SUMIF(BDD!$BC$2:$BC$685,\"Banc W+BFAUXVRAIFAUXVRAIFAUX\",BDD!$V$2:$V$685)","v":0},{"$f":"SUMIF(BDD!$BC$2:$BC$685,\"Banc W+BFAUXVRAIFAUXFAUXVRAI\",BDD!$V$2:$V$685)","v":0},{"$f":"SUMIF(BDD!$BC$2:$BC$685,\"Banc W+BVRAIFAUXVRAIFAUXFAUX\",BDD!$V$2:$V$685)","v":0},{"$f":"SUMIF(BDD!$BC$2:$BC$685,\"Banc W+BVRAIFAUXFAUXVRAIFAUX\",BDD!$V$2:$V$685)","v":0},{"$f":"SUMIF(BDD!$BC$2:$BC$685,\"Banc W+BVRAIFAUXFAUXFAUXVRAI\",BDD!$V$2:$V$685)","v":0},{"$f":"SUMIF(BDD!$BC$2:$BC$685,\"Banc W+BFAUXVRAIVRAIFAUXFAUX\",BDD!$V$2:$V$685)","v":0},{"$f":"SUMIF(BDD!$BC$2:$BC$685,\"Banc W+BFAUXVRAIFAUXVRAIFAUX\",BDD!$V$2:$V$685)","v":0},{"$f":"SUMIF(BDD!$BC$2:$BC$685,\"Banc W+BFAUXVRAIFAUXFAUXVRAI\",BDD!$V$2:$V$685)","v":0},{"$f":"SUMIF(BDD!$BC$2:$BC$685,\"Banc W+BVRAIFAUXVRAIFAUXFAUX\",BDD!$V$2:$V$685)","v":0},{"$f":"SUMIF(BDD!$BC$2:$BC$685,\"Banc W+BVRAIFAUXFAUXVRAIFAUX\",BDD!$V$2:$V$685)","v":0},{"$f":"SUMIF(BDD!$BC$2:$BC$685,\"Banc W+BVRAIFAUXFAUXFAUXVRAI\",BDD!$V$2:$V$685)","v":0},{"$f":"SUMIF(BDD!$BC$2:$BC$685,\"Banc W+BFAUXVRAIVRAIFAUXFAUX\",BDD!$V$2:$V$685)","v":0},{"$f":"SUMIF(BDD!$BC$2:$BC$685,\"Banc W+BFAUXVRAIFAUXVRAIFAUX\",BDD!$V$2:$V$685)","v":0},{"$f":"SUMIF(BDD!$BC$2:$BC$685,\"Banc W+BFAUXVRAIFAUXFAUXVRAI\",BDD!$V$2:$V$685)","v":0},{"$f":"SUMIF(BDD!$BC$2:$BC$685,\"Banc W+BVRAIFAUXVRAIFAUXFAUX\",BDD!$V$2:$V$685)","v":0},{"$f":"SUMIF(BDD!$BC$2:$BC$685,\"Banc W+BVRAIFAUXFAUXVRAIFAUX\",BDD!$V$2:$V$685)","v":0},{"$f":"SUMIF(BDD!$BC$2:$BC$685,\"Banc W+BVRAIFAUXFAUXFAUXVRAI\",BDD!$V$2:$V$685)","v":0},{"$f":"SUMIF(BDD!$BC$2:$BC$685,\"Banc W+BFAUXVRAIVRAIFAUXFAUX\",BDD!$V$2:$V$685)","v":0},{"$f":"SUMIF(BDD!$BC$2:$BC$685,\"Banc W+BFAUXVRAIFAUXVRAIFAUX\",BDD!$V$2:$V$685)","v":0},{"$f":"SUMIF(BDD!$BC$2:$BC$685,\"Banc W+BFAUXVRAIFAUXFAUXVRAI\",BDD!$V$2:$V$685)","v":0},{"$f":"SUMIF(BDD!$BC$2:$BC$685,\"Banc W+BVRAIFAUXVRAIFAUXFAUX\",BDD!$V$2:$V$685)","v":0},{"$f":"SUMIF(BDD!$BC$2:$BC$685,\"Banc W+BVRAIFAUXFAUXVRAIFAUX\",BDD!$V$2:$V$685)","v":0},{"$f":"SUMIF(BDD!$BC$2:$BC$685,\"Banc W+BVRAIFAUXFAUXFAUXVRAI\",BDD!$V$2:$V$685)","v":0},{"$f":"SUMIF(BDD!$BC$2:$BC$685,\"Banc W+BFAUXVRAIVRAIFAUXFAUX\",BDD!$V$2:$V$685)","v":0},{"$f":"SUMIF(BDD!$BC$2:$BC$685,\"Banc W+BFAUXVRAIFAUXVRAIFAUX\",BDD!$V$2:$V$685)","v":0},{"$f":"SUMIF(BDD!$BC$2:$BC$685,\"Banc W+BFAUXVRAIFAUXFAUXVRAI\",BDD!$V$2:$V$685)","v":0}]
["Ressort verticale",{"$f":"SUMIF(BDD!$BC$2:$BC$685,\"Ressort verticaleVRAIFAUXVRAIFAUXFAUX\",BDD!$V$2:$V$685)","v":0},{"$f":"SUMIF(BDD!$BC$2:$BC$685,\"Ressort verticaleVRAIFAUXFAUXVRAIFAUX\",BDD!$V$2:$V$685)","v":0},{"$f":"SUMIF(BDD!$BC$2:$BC$685,\"Ressort verticaleVRAIFAUXFAUXFAUXVRAI\",BDD!$V$2:$V$685)","v":0},{"$f":"SUMIF(BDD!$BC$2:$BC$685,\"Ressort verticaleFAUXVRAIVRAIFAUXFAUX\",BDD!$V$2:$V$685)","v":0},{"$f":"SUMIF(BDD!$BC$2:$BC$685,\"Ressort verticaleFAUXVRAIFAUXVRAIFAUX\",BDD!$V$2:$V$685)","v":0},{"$f":"SUMIF(BDD!$BC$2:$BC$685,\"Ressort verticaleFAUXVRAIFAUXFAUXVRAI\",BDD!$V$2:$V$685)","v":0},{"$f":"SUMIF(BDD!$BC$2:$BC$685,\"Ressort verticaleVRAIFAUXVRAIFAUXFAUX\",BDD!$V$2:$V$685)","v":0},{"$f":"SUMIF(BDD!$BC$2:$BC$685,\"Ressort verticaleVRAIFAUXFAUXVRAIFAUX\",BDD!$V$2:$V$685)","v":0},{"$f":"SUMIF(BDD!$BC$2:$BC$685,\"Ressort verticaleVRAIFAUXFAUXFAUXVRAI\",BDD!$V$2:$V$685)","v":0},{"$f":"SUMIF(BDD!$BC$2:$BC$685,\"Ressort verticaleFAUXVRAIVRAIFAUXFAUX\",BDD!$V$2:$V$685)","v":0},{"$f":"SUMIF(BDD!$BC$2:$BC$685,\"Ressort verticaleFAUXVRAIFAUXVRAIFAUX\",BDD!$V$2:$V$685)","v":0},{"$f":"SUMIF(BDD!$BC$2:$BC$685,\"Ressort verticaleFAUXVRAIFAUXFAUXVRAI\",BDD!$V$2:$V$685)","v":0},{"$f":"SUMIF(BDD!$BC$2:$BC$685,\"Ressort verticaleVRAIFAUXVRAIFAUXFAUX\",BDD!$V$2:$V$685)","v":0},{"$f":"SUMIF(BDD!$BC$2:$BC$685,\"Ressort verticaleVRAIFAUXFAUXVRAIFAUX\",BDD!$V$2:$V$685)","v":0},{"$f":"SUMIF(BDD!$BC$2:$BC$685,\"Ressort verticaleVRAIFAUXFAUXFAUXVRAI\",BDD!$V$2:$V$685)","v":0},{"$f":"SUMIF(BDD!$BC$2:$BC$685,\"Ressort verticaleFAUXVRAIVRAIFAUXFAUX\",BDD!$V$2:$V$685)","v":0},{"$f":"SUMIF(BDD!$BC$2:$BC$685,\"Ressort verticaleFAUXVRAIFAUXVRAIFAUX\",BDD!$V$2:$V$685)","v":0},{"$f":"SUMIF(BDD!$BC$2:$BC$685,\"Ressort verticaleFAUXVRAIFAUXFAUXVRAI\",BDD!$V$2:$V$685)","v":0},{"$f":"SUMIF(BDD!$BC$2:$BC$685,\"Ressort verticaleVRAIFAUXVRAIFAUXFAUX\",BDD!$V$2:$V$685)","v":0},{"$f":"SUMIF(BDD!$BC$2:$BC$685,\"Ressort verticaleVRAIFAUXFAUXVRAIFAUX\",BDD!$V$2:$V$685)","v":0},{"$f":"SUMIF(BDD!$BC$2:$BC$685,\"Ressort verticaleVRAIFAUXFAUXFAUXVRAI\",BDD!$V$2:$V$685)","v":0},{"$f":"SUMIF(BDD!$BC$2:$BC$685,\"Ressort verticaleFAUXVRAIVRAIFAUXFAUX\",BDD!$V$2:$V$685)","v":0},{"$f":"SUMIF(BDD!$BC$2:$BC$685,\"Ressort verticaleFAUXVRAIFAUXVRAIFAUX\",BDD!$V$2:$V$685)","v":0},{"$f":"SUMIF(BDD!$BC$2:$BC$685,\"Ressort verticaleFAUXVRAIFAUXFAUXVRAI\",BDD!$V$2:$V$685)","v":0},{"$f":"SUMIF(BDD!$BC$2:$BC$685,\"Ressort verticaleVRAIFAUXVRAIFAUXFAUX\",BDD!$V$2:$V$685)","v":0},{"$f":"SUMIF(BDD!$BC$2:$BC$685,\"Ressort verticaleVRAIFAUXFAUXVRAIFAUX\",BDD!$V$2:$V$685)","v":0},{"$f":"SUMIF(BDD!$BC$2:$BC$685,\"Ressort verticaleVRAIFAUXFAUXFAUXVRAI\",BDD!$V$2:$V$685)","v":0},{"$f":"SUMIF(BDD!$BC$2:$BC$685,\"Ressort verticaleFAUXVRAIVRAIFAUXFAUX\",BDD!$V$2:$V$685)","v":0},{"$f":"SUMIF(BDD!$BC$2:$BC$685,\"Ressort verticaleFAUXVRAIFAUXVRAIFAUX\",BDD!$V$2:$V$685)","v":0},{"$f":"SUMIF(BDD!$BC$2:$BC$685,\"Ressort verticaleFAUXVRAIFAUXFAUXVRAI\",BDD!$V$2:$V$685)","v":0},{"$f":"SUMIF(BDD!$BC$2:$BC$685,\"Ressort verticaleVRAIFAUXVRAIFAUXFAUX\",BDD!$V$2:$V$685)","v":0},{"$f":"SUMIF(BDD!$BC$2:$BC$685,\"Ressort verticaleVRAIFAUXFAUXVRAIFAUX\",BDD!$V$2:$V$685)","v":0},{"$f":"SUMIF(BDD!$BC$2:$BC$685,\"Ressort verticaleVRAIFAUXFAUXFAUXVRAI\",BDD!$V$2:$V$685)","v":0},{"$f":"SUMIF(BDD!$BC$2:$BC$685,\"Ressort verticaleFAUXVRAIVRAIFAUXFAUX\",BDD!$V$2:$V$685)","v":0},{"$f":"SUMIF(BDD!$BC$2:$BC$685,\"Ressort verticaleFAUXVRAIFAUXVRAIFAUX\",BDD!$V$2:$V$685)","v":0},{"$f":"SUMIF(BDD!$BC$2:$BC$685,\"Ressort verticaleFAUXVRAIFAUXFAUXVRAI\",BDD!$V$2:$V$685)","v":0},{"$f":"SUMIF(BDD!$BC$2:$BC$685,\"Ressort verticaleVRAIFAUXVRAIFAUXFAUX\",BDD!$V$2:$V$685)","v":0},{"$f":"SUMIF(BDD!$BC$2:$BC$685,\"Ressort verticaleVRAIFAUXFAUXVRAIFAUX\",BDD!$V$2:$V$685)","v":0},{"$f":"SUMIF(BDD!$BC$2:$BC$685,\"Ressort verticaleVRAIFAUXFAUXFAUXVRAI\",BDD!$V$2:$V$685)","v":0},{"$f":"SUMIF(BDD!$BC$2:$BC$685,\"Ressort verticaleFAUXVRAIVRAIFAUXFAUX\",BDD!$V$2:$V$685)","v":0},{"$f":"SUMIF(BDD!$BC$2:$BC$685,\"Ressort verticaleFAUXVRAIFAUXVRAIFAUX\",BDD!$V$2:$V$685)","v":0},{"$f":"SUMIF(BDD!$BC$2:$BC$685,\"Ressort verticaleFAUXVRAIFAUXFAUXVRAI\",BDD!$V$2:$V$685)","v":0},{"$f":"SUMIF(BDD!$BC$2:$BC$685,\"Ressort verticaleVRAIFAUXVRAIFAUXFAUX\",BDD!$V$2:$V$685)","v":0},{"$f":"SUMIF(BDD!$BC$2:$BC$685,\"Ressort verticaleVRAIFAUXFAUXVRAIFAUX\",BDD!$V$2:$V$685)","v":0},{"$f":"SUMIF(BDD!$BC$2:$BC$685,\"Ressort verticaleVRAIFAUXFAUXFAUXVRAI\",BDD!$V$2:$V$685)","v":0},{"$f":"SUMIF(BDD!$BC$2:$BC$685,\"Ressort verticaleFAUXVRAIVRAIFAUXFAUX\",BDD!$V$2:$V$685)","v":0},{"$f":"SUMIF(BDD!$BC$2:$BC$685,\"Ressort verticaleFAUXVRAIFAUXVRAIFAUX\",BDD!$V$2:$V$685)","v":0},{"$f":"SUMIF(BDD!$BC$2:$BC$685,\"Ressort verticaleFAUXVRAIFAUXFAUXVRAI\",BDD!$V$2:$V$685)","v":0},{"$f":"SUMIF(BDD!$BC$2:$BC$685,\"Ressort verticaleVRAIFAUXVRAIFAUXFAUX\",BDD!$V$2:$V$685)","v":0},{"$f":"SUMIF(BDD!$BC$2:$BC$685,\"Ressort verticaleVRAIFAUXFAUXVRAIFAUX\",BDD!$V$2:$V$685)","v":0},{"$f":"SUMIF(BDD!$BC$2:$BC$685,\"Ressort verticaleVRAIFAUXFAUXFAUXVRAI\",BDD!$V$2:$V$685)","v":0},{"$f":"SUMIF(BDD!$BC$2:$BC$685,\"Ressort verticaleFAUXVRAIVRAIFAUXFAUX\",BDD!$V$2:$V$685)","v":0},{"$f":"SUMIF(BDD!$BC$2:$BC$685,\"Ressort verticaleFAUXVRAIFAUXVRAIFAUX\",BDD!$V$2:$V$685)","v":0},{"$f":"SUMIF(BDD!$BC$2:$BC$685,\"Ressort verticaleFAUXVRAIFAUXFAUXVRAI\",BDD!$V$2:$V$685)","v":0},{"$f":"SUMIF(BDD!$BC$2:$BC$685,\"Ressort verticaleVRAIFAUXVRAIFAUXFAUX\",BDD!$V$2:$V$685)","v":0},{"$f":"SUMIF(BDD!$BC$2:$BC$685,\"Ressort verticaleVRAIFAUXFAUXVRAIFAUX\",BDD!$V$2:$V$685)","v":0},{"$f":"SUMIF(BDD!$BC$2:$BC$685,\"Ressort verticaleVRAIFAUXFAUXFAUXVRAI\",BDD!$V$2:$V$685)","v":0},{"$f":"SUMIF(BDD!$BC$2:$BC$685,\"Ressort verticaleFAUXVRAIVRAIFAUXFAUX\",BDD!$V$2:$V$685)","v":0},{"$f":"SUMIF(BDD!$BC$2:$BC$685,\"Ressort verticaleFAUXVRAIFAUXVRAIFAUX\",BDD!$V$2:$V$685)","v":0},{"$f":"SUMIF(BDD!$BC$2:$BC$685,\"Ressort verticaleFAUXVRAIFAUXFAUXVRAI\",BDD!$V$2:$V$685)","v":0},{"$f":"SUMIF(BDD!$BC$2:$BC$685,\"Ressort verticaleVRAIFAUXVRAIFAUXFAUX\",BDD!$V$2:$V$685)","v":0},{"$f":"SUMIF(BDD!$BC$2:$BC$685,\"Ressort verticaleVRAIFAUXFAUXVRAIFAUX\",BDD!$V$2:$V$685)","v":0},{"$f":"SUMIF(BDD!$BC$2:$BC$685,\"Ressort verticaleVRAIFAUXFAUXFAUXVRAI\",BDD!$V$2:$V$685)","v":0},{"$f":"SUMIF(BDD!$BC$2:$BC$685,\"Ressort verticaleFAUXVRAIVRAIFAUXFAUX\",BDD!$V$2:$V$685)","v":0},{"$f":"SUMIF(BDD!$BC$2:$BC$685,\"Ressort verticaleFAUXVRAIFAUXVRAIFAUX\",BDD!$V$2:$V$685)","v":0},{"$f":"SUMIF(BDD!$BC$2:$BC$685,\"Ressort verticaleFAUXVRAIFAUXFAUXVRAI\",BDD!$V$2:$V$685)","v":0},{"$f":"SUMIF(BDD!$BC$2:$BC$685,\"Ressort verticaleVRAIFAUXVRAIFAUXFAUX\",BDD!$V$2:$V$685)","v":0},{"$f":"SUMIF(BDD!$BC$2:$BC$685,\"Ressort verticaleVRAIFAUXFAUXVRAIFAUX\",BDD!$V$2:$V$685)","v":0},{"$f":"SUMIF(BDD!$BC$2:$BC$685,\"Ressort verticaleVRAIFAUXFAUXFAUXVRAI\",BDD!$V$2:$V$685)","v":0},{"$f":"SUMIF(BDD!$BC$2:$BC$685,\"Ressort verticaleFAUXVRAIVRAIFAUXFAUX\",BDD!$V$2:$V$685)","v":0},{"$f":"SUMIF(BDD!$BC$2:$BC$685,\"Ressort verticaleFAUXVRAIFAUXVRAIFAUX\",BDD!$V$2:$V$685)","v":0},{"$f":"SUMIF(BDD!$BC$2:$BC$685,\"Ressort verticaleFAUXVRAIFAUXFAUXVRAI\",BDD!$V$2:$V$685)","v":0}]

{"sheet":"Indicateur Zone6","index":4,"n_rows":96,"n_cols":73,"rows_kept":96,"cut":false,"hidden":false,"merged":[[88,70,88,72],[88,55,88,57],[88,58,88,60],[88,61,88,63],[88,64,88,66],[88,67,88,69],[88,40,88,42],[88,43,88,45],[88,46,88,48],[88,49,88,51],[88,52,88,54],[87,55,87,60],[87,61,87,66],[87,67,87,72],[88,1,88,3],[88,4,88,6],[88,7,88,9],[88,10,88,12],[88,13,88,15],[88,16,88,18],[88,19,88,21],[88,22,88,24],[88,25,88,27],[88,28,88,30],[88,31,88,33],[88,34,88,36],[88,37,88,39],[87,25,87,30],[87,31,87,36],[87,37,87,42],[87,43,87,48],[87,49,87,54],[56,23,56,24],[86,1,86,21],[87,1,87,6],[87,7,87,12],[87,13,87,18],[87,19,87,24],[56,13,56,14],[56,15,56,16],[56,17,56,18],[56,19,56,20],[56,21,56,22],[1,1,1,12],[31,1,31,12],[55,1,55,12],[56,1,56,2],[56,3,56,4],[56,5,56,6],[56,7,56,8],[56,9,56,10],[56,11,56,12]]}
[]
[null,"Suivi des arrêts par banc"]
["Banc zone 6","Janvier","Février","Mars","Avril","Mai","Juin","Juillet","Août","Septembre","Octobre","Novembre","Décembre"]
["Banc nouveau P9",{"$f":"SUMIF(BDD!$H$2:$H$685,'Indicateur Zone6'!$A$4,BDD!$V$2:$V$685)","v":0},{"$f":"SUMIF(BDD!$H$2:$H$685,'Indicateur Zone6'!$A$4,BDD!$V$2:$V$685)","v":0},{"$f":"SUMIF(BDD!$H$2:$H$685,'Indicateur Zone6'!$A$4,BDD!$V$2:$V$685)","v":0},{"$f":"SUMIF(BDD!$H$2:$H$685,'Indicateur Zone6'!$A$4,BDD!$V$2:$V$685)","v":0},{"$f":"SUMIF(BDD!$H$2:$H$685,'Indicateur Zone6'!$A$4,BDD!$V$2:$V$685)","v":0},{"$f":"SUMIF(BDD!$H$2:$H$685,'Indicateur Zone6'!$A$4,BDD!$V$2:$V$685)","v":0},{"$f":"SUMIF(BDD!$H$2:$H$685,'Indicateur Zone6'!$A$4,BDD!$V$2:$V$685)","v":0},{"$f":"SUMIF(BDD!$H$2:$H$685,'Indicateur Zone6'!$A$4,BDD!$V$2:$V$685)","v":0},{"$f":"SUMIF(BDD!$H$2:$H$685,'Indicateur Zone6'!$A$4,BDD!$V$2:$V$685)","v":0},{"$f":"SUMIF(BDD!$H$2:$H$685,'Indicateur Zone6'!$A$4,BDD!$V$2:$V$685)","v":0},{"$f":"SUMIF(BDD!$H$2:$H$685,'Indicateur Zone6'!$A$4,BDD!$V$2:$V$685)","v":0},{"$f":"SUMIF(BDD!$H$2:$H$685,'Indicateur Zone6'!$A$4,BDD!$V$2:$V$685)","v":0}]
["Banc P1",{"$f":"SUMIF(BDD!$H$2:$H$685,'Indicateur Zone6'!$A$5,BDD!$V$2:$V$685)","v":0},{"$f":"SUMIF(BDD!$H$2:$H$685,'Indicateur Zone6'!$A$5,BDD!$V$2:$V$685)","v":0},{"$f":"SUMIF(BDD!$H$2:$H$685,'Indicateur Zone6'!$A$5,BDD!$V$2:$V$685)","v":0},{"$f":"SUMIF(BDD!$H$2:$H$685,'Indicateur Zone6'!$A$5,BDD!$V$2:$V$685)","v":0},{"$f":"SUMIF(BDD!$H$2:$H$685,'Indicateur Zone6'!$A$5,BDD!$V$2:$V$685)","v":0},{"$f":"SUMIF(BDD!$H$2:$H$685,'Indicateur Zone6'!$A$5,BDD!$V$2:$V$685)","v":0},{"$f":"SUMIF(BDD!$H$2:$H$685,'Indicateur Zone6'!$A$5,BDD!$V$2:$V$685)","v":0},{"$f":"SUMIF(BDD!$H$2:$H$685,'Indicateur Zone6'!$A$5,BDD!$V$2:$V$685)","v":0},{"$f":"SUMIF(BDD!$H$2:$H$685,'Indicateur Zone6'!$A$5,BDD!$V$2:$V$685)","v":0},{"$f":"SUMIF(BDD!$H$2:$H$685,'Indicateur Zone6'!$A$5,BDD!$V$2:$V$685)","v":0},{"$f":"SUMIF(BDD!$H$2:$H$685,'Indicateur Zone6'!$A$5,BDD!$V$2:$V$685)","v":0},{"$f":"SUMIF(BDD!$H$2:$H$685,'Indicateur Zone6'!$A$5,BDD!$V$2:$V$685)","v":0}]
["Banc P2",{"$f":"SUMIF(BDD!$H$2:$H$685,'Indicateur Zone6'!$A$6,BDD!$V$2:$V$685)","v":0},{"$f":"SUMIF(BDD!$H$2:$H$685,'Indicateur Zone6'!$A$6,BDD!$V$2:$V$685)","v":0},{"$f":"SUMIF(BDD!$H$2:$H$685,'Indicateur Zone6'!$A$6,BDD!$V$2:$V$685)","v":0},{"$f":"SUMIF(BDD!$H$2:$H$685,'Indicateur Zone6'!$A$6,BDD!$V$2:$V$685)","v":0},{"$f":"SUMIF(BDD!$H$2:$H$685,'Indicateur Zone6'!$A$6,BDD!$V$2:$V$685)","v":0},{"$f":"SUMIF(BDD!$H$2:$H$685,'Indicateur Zone6'!$A$6,BDD!$V$2:$V$685)","v":0},{"$f":"SUMIF(BDD!$H$2:$H$685,'Indicateur Zone6'!$A$6,BDD!$V$2:$V$685)","v":0},{"$f":"SUMIF(BDD!$H$2:$H$685,'Indicateur Zone6'!$A$6,BDD!$V$2:$V$685)","v":0},{"$f":"SUMIF(BDD!$H$2:$H$685,'Indicateur Zone6'!$A$6,BDD!$V$2:$V$685)","v":0},{"$f":"SUMIF(BDD!$H$2:$H$685,'Indicateur Zone6'!$A$6,BDD!$V$2:$V$685)","v":0},{"$f":"SUMIF(BDD!$H$2:$H$685,'Indicateur Zone6'!$A$6,BDD!$V$2:$V$685)","v":0},{"$f":"SUMIF(BDD!$H$2:$H$685,'Indicateur Zone6'!$A$6,BDD!$V$2:$V$685)","v":0}]
["Banc 156",{"$f":"SUMIF(BDD!$H$2:$H$685,'Indicateur Zone6'!$A$7,BDD!$V$2:$V$685)","v":0},{"$f":"SUMIF(BDD!$H$2:$H$685,'Indicateur Zone6'!$A$7,BDD!$V$2:$V$685)","v":0},{"$f":"SUMIF(BDD!$H$2:$H$685,'Indicateur Zone6'!$A$7,BDD!$V$2:$V$685)","v":0},{"$f":"SUMIF(BDD!$H$2:$H$685,'Indicateur Zone6'!$A$7,BDD!$V$2:$V$685)","v":0},{"$f":"SUMIF(BDD!$H$2:$H$685,'Indicateur Zone6'!$A$7,BDD!$V$2:$V$685)","v":0},{"$f":"SUMIF(BDD!$H$2:$H$685,'Indicateur Zone6'!$A$7,BDD!$V$2:$V$685)","v":0},{"$f":"SUMIF(BDD!$H$2:$H$685,'Indicateur Zone6'!$A$7,BDD!$V$2:$V$685)","v":0},{"$f":"SUMIF(BDD!$H$2:$H$685,'Indicateur Zone6'!$A$7,BDD!$V$2:$V$685)","v":0},{"$f":"SUMIF(BDD!$H$2:$H$685,'Indicateur Zone6'!$A$7,BDD!$V$2:$V$685)","v":0},{"$f":"SUMIF(BDD!$H$2:$H$685,'Indicateur Zone6'!$A$7,BDD!$V$2:$V$685)","v":0},{"$f":"SUMIF(BDD!$H$2:$H$685,'Indicateur Zone6'!$A$7,BDD!$V$2:$V$685)","v":0},{"$f":"SUMIF(BDD!$H$2:$H$685,'Indicateur Zone6'!$A$7,BDD!$V$2:$V$685)","v":0}]
["Chambre Froide",{"$f":"SUMIF(BDD!$H$2:$H$685,'Indicateur Zone6'!$A$8,BDD!$V$2:$V$685)","v":0},{"$f":"SUMIF(BDD!$H$2:$H$685,'Indicateur Zone6'!$A$8,BDD!$V$2:$V$685)","v":0},{"$f":"SUMIF(BDD!$H$2:$H$685,'Indicateur Zone6'!$A$8,BDD!$V$2:$V$685)","v":0},{"$f":"SUMIF(BDD!$H$2:$H$685,'Indicateur Zone6'!$A$8,BDD!$V$2:$V$685)","v":0},{"$f":"SUMIF(BDD!$H$2:$H$685,'Indicateur Zone6'!$A$8,BDD!$V$2:$V$685)","v":0},{"$f":"SUMIF(BDD!$H$2:$H$685,'Indicateur Zone6'!$A$8,BDD!$V$2:$V$685)","v":0},{"$f":"SUMIF(BDD!$H$2:$H$685,'Indicateur Zone6'!$A$8,BDD!$V$2:$V$685)","v":0},{"$f":"SUMIF(BDD!$H$2:$H$685,'Indicateur Zone6'!$A$8,BDD!$V$2:$V$685)","v":0},{"$f":"SUMIF(BDD!$H$2:$H$685,'Indicateur Zone6'!$A$8,BDD!$V$2:$V$685)","v":0},{"$f":"SUMIF(BDD!$H$2:$H$685,'Indicateur Zone6'!$A$8,BDD!$V$2:$V$685)","v":0},{"$f":"SUMIF(BDD!$H$2:$H$685,'Indicateur Zone6'!$A$8,BDD!$V$2:$V$685)","v":0},{"$f":"SUMIF(BDD!$H$2:$H$685,'Indicateur Zone6'!$A$8,BDD!$V$2:$V$685)","v":0}]
["Chambre Sourde",{"$f":"SUMIF(BDD!$H$2:$H$685,'Indicateur Zone6'!$A$9,BDD!$V$2:$V$685)","v":0},{"$f":"SUMIF(BDD!$H$2:$H$685,'Indicateur Zone6'!$A$9,BDD!$V$2:$V$685)","v":0},{"$f":"SUMIF(BDD!$H$2:$H$685,'Indicateur Zone6'!$A$9,BDD!$V$2:$V$685)","v":0},{"$f":"SUMIF(BDD!$H$2:$H$685,'Indicateur Zone6'!$A$9,BDD!$V$2:$V$685)","v":0},{"$f":"SUMIF(BDD!$H$2:$H$685,'Indicateur Zone6'!$A$9,BDD!$V$2:$V$685)","v":0},{"$f":"SUMIF(BDD!$H$2:$H$685,'Indicateur Zone6'!$A$9,BDD!$V$2:$V$685)","v":0},{"$f":"SUMIF(BDD!$H$2:$H$685,'Indicateur Zone6'!$A$9,BDD!$V$2:$V$685)","v":0},{"$f":"SUMIF(BDD!$H$2:$H$685,'Indicateur Zone6'!$A$9,BDD!$V$2:$V$685)","v":0},{"$f":"SUMIF(BDD!$H$2:$H$685,'Indicateur Zone6'!$A$9,BDD!$V$2:$V$685)","v":0},{"$f":"SUMIF(BDD!$H$2:$H$685,'Indicateur Zone6'!$A$9,BDD!$V$2:$V$685)","v":0},{"$f":"SUMIF(BDD!$H$2:$H$685,'Indicateur Zone6'!$A$9,BDD!$V$2:$V$685)","v":0},{"$f":"SUMIF(BDD!$H$2:$H$685,'Indicateur Zone6'!$A$9,BDD!$V$2:$V$685)","v":0}]
[]
[]
[]
[]
[]
[]
[]
[]
[]
[]
[]
[]
[]
[]
[]
[]
[]
[]
[]
[]
[]
[]
[null,"Suivi du correctif et du préventif"]
["Type de maintenance","Janvier","Février","Mars","Avril","Mai","Juin","Juillet","Août","Septembre","Octobre","Novembre","Décembre"]
["Préventive",{"$f":"SUM(C59:C64)","v":0},{"$f":"SUM(E59:E64)","v":0},{"$f":"SUM(G59:G64)","v":0},{"$f":"SUM(I59:I64)","v":0},{"$f":"SUM(K59:K64)","v":0},{"$f":"SUM(M59:M64)","v":0},{"$f":"SUM(O59:O64)","v":0},{"$f":"SUM(Q59:Q64)","v":0},{"$f":"SUM(S59:S64)","v":0},{"$f":"SUM(U59:U64)","v":0},{"$f":"SUM(W59:W64)","v":0},{"$f":"SUM(Y59:Y64)","v":0}]
["Corrective",{"$f":"SUM(B59:B64)","v":0},{"$f":"SUM(D59:D64)","v":0},{"$f":"SUM(F59:F64)","v":0},{"$f":"SUM(H59:H64)","v":0},{"$f":"SUM(J59:J64)","v":0},{"$f":"SUM(L59:L64)","v":0},{"$f":"SUM(N59:N64)","v":0},{"$f":"SUM(N59:N64)","v":0},{"$f":"SUM(R59:R64)","v":0},{"$f":"SUM(T59:T64)","v":0},{"$f":"SUM(V59:V64)","v":0},{"$f":"SUM(X59:X64)","v":0}]
[]
[]
[]
[]
[]
[]
[]
[]
[]
[]
[]
[]
[]
[]
[]
[]
[]
[]
[]
[]
[null,"Suivi du correctif et du préventif par banc"]
[null,"Janvier",null,"Février",null,"Mars",null,"Avril",null,"Mai",null,"Juin",null,"Juillet",null,"Août",null,"Septembre",null,"Octobre",null,"Novembre",null,"Décembre"]
["Banc zone 6","Corrective","Préventive","Corrective","Préventive","Corrective","Préventive","Corrective","Préventive","Corrective","Préventive","Corrective","Préventive","Corrective","Préventive","Corrective","Préventive","Corrective","Préventive","Corrective","Préventive","Corrective","Préventive","Corrective","Préventive"]
["Banc nouveau P9",{"$f":"SUMIF(BDD!$BB$2:$BB$685,\"Banc nouveau P9VRAIFAUX\",BDD!$V$2:$V$685)","v":0},{"$f":"SUMIF(BDD!$BB$2:$BB$685,\"Banc nouveau P9FAUXvrai\",BDD!$V$2:$V$685)","v":0},{"$f":"SUMIF(BDD!$BB$2:$BB$685,\"Banc nouveau P9VRAIFAUX\",BDD!$V$2:$V$685)","v":0},{"$f":"SUMIF(BDD!$BB$2:$BB$685,\"Banc nouveau P9FAUXvrai\",BDD!$V$2:$V$685)","v":0},{"$f":"SUMIF(BDD!$BB$2:$BB$685,\"Banc nouveau P9VRAIFAUX\",BDD!$V$2:$V$685)","v":0},{"$f":"SUMIF(BDD!$BB$2:$BB$685,\"Banc nouveau P9FAUXvrai\",BDD!$V$2:$V$685)","v":0},{"$f":"SUMIF(BDD!$BB$2:$BB$685,\"Banc nouveau P9VRAIFAUX\",BDD!$V$2:$V$685)","v":0},{"$f":"SUMIF(BDD!$BB$2:$BB$685,\"Banc nouveau P9FAUXvrai\",BDD!$V$2:$V$685)","v":0},{"$f":"SUMIF(BDD!$BB$2:$BB$685,\"Banc nouveau P9VRAIFAUX\",BDD!$V$2:$V$685)","v":0},{"$f":"SUMIF(BDD!$BB$2:$BB$685,\"Banc nouveau P9FAUXvrai\",BDD!$V$2:$V$685)","v":0},{"$f":"SUMIF(BDD!$BB$2:$BB$685,\"Banc nouveau P9VRAIFAUX\",BDD!$V$2:$V$685)","v":0},{"$f":"SUMIF(BDD!$BB$2:$BB$685,\"Banc nouveau P9FAUXvrai\",BDD!$V$2:$V$685)","v":0},{"$f":"SUMIF(BDD!$BB$2:$BB$685,\"Banc nouveau P9VRAIFAUX\",BDD!$V$2:$V$685)","v":0},{"$f":"SUMIF(BDD!$BB$2:$BB$685,\"Banc nouveau P9FAUXvrai\",BDD!$V$2:$V$685)","v":0},{"$f":"SUMIF(BDD!$BB$2:$BB$685,\"Banc nouveau P9VRAIFAUX\",BDD!$V$2:$V$685)","v":0},{"$f":"SUMIF(BDD!$BB$2:$BB$685,\"Banc nouveau P9FAUXvrai\",BDD!$V$2:$V$685)","v":0},{"$f":"SUMIF(BDD!$BB$2:$BB$685,\"Banc nouveau P9VRAIFAUX\",BDD!$V$2:$V$685)","v":0},{"$f":"SUMIF(BDD!$BB$2:$BB$685,\"Banc nouveau P9FAUXvrai\",BDD!$V$2:$V$685)","v":0},{"$f":"SUMIF(BDD!$BB$2:$BB$685,\"Banc nouveau P9VRAIFAUX\",BDD!$V$2:$V$685)","v":0},{"$f":"SUMIF(BDD!$BB$2:$BB$685,\"Banc nouveau P9FAUXvrai\",BDD!$V$2:$V$685)","v":0},{"$f":"SUMIF(BDD!$BB$2:$BB$685,\"Banc nouveau P9VRAIFAUX\",BDD!$V$2:$V$685)","v":0},{"$f":"SUMIF(BDD!$BB$2:$BB$685,\"Banc nouveau P9FAUXvrai\",BDD!$V$2:$V$685)","v":0},{"$f":"SUMIF(BDD!$BB$2:$BB$685,\"Banc nouveau P9VRAIFAUX\",BDD!$V$2:$V$685)","v":0},{"$f":"SUMIF(BDD!$BB$2:$BB$685,\"Banc nouveau P9FAUXvrai\",BDD!$V$2:$V$685)","v":0}]
["Banc P1",{"$f":"SUMIF(BDD!$BB$2:$BB$685,\"Banc P1VRAIFAUX\",BDD!$V$2:$V$685)","v":0},{"$f":"SUMIF(BDD!$BB$2:$BB$685,\"Banc P1FAUXVRAI\",BDD!$V$2:$V$685)","v":0},{"$f":"SUMIF(BDD!$BB$2:$BB$685,\"Banc P1VRAIFAUX\",BDD!$V$2:$V$685)","v":0},{"$f":"SUMIF(BDD!$BB$2:$BB$685,\"Banc P1FAUXVRAI\",BDD!$V$2:$V$685)","v":0},{"$f":"SUMIF(BDD!$BB$2:$BB$685,\"Banc P1VRAIFAUX\",BDD!$V$2:$V$685)","v":0},{"$f":"SUMIF(BDD!$BB$2:$BB$685,\"Banc P1FAUXVRAI\",BDD!$V$2:$V$685)","v":0},{"$f":"SUMIF(BDD!$BB$2:$BB$685,\"Banc P1VRAIFAUX\",BDD!$V$2:$V$685)","v":0},{"$f":"SUMIF(BDD!$BB$2:$BB$685,\"Banc P1FAUXVRAI\",BDD!$V$2:$V$685)","v":0},{"$f":"SUMIF(BDD!$BB$2:$BB$685,\"Banc P1VRAIFAUX\",BDD!$V$2:$V$685)","v":0},{"$f":"SUMIF(BDD!$BB$2:$BB$685,\"Banc P1FAUXVRAI\",BDD!$V$2:$V$685)","v":0},{"$f":"SUMIF(BDD!$BB$2:$BB$685,\"Banc P1VRAIFAUX\",BDD!$V$2:$V$685)","v":0},{"$f":"SUMIF(BDD!$BB$2:$BB$685,\"Banc P1FAUXVRAI\",BDD!$V$2:$V$685)","v":0},{"$f":"SUMIF(BDD!$BB$2:$BB$685,\"Banc P1VRAIFAUX\",BDD!$V$2:$V$685)","v":0},{"$f":"SUMIF(BDD!$BB$2:$BB$685,\"Banc P1FAUXVRAI\",BDD!$V$2:$V$685)","v":0},{"$f":"SUMIF(BDD!$BB$2:$BB$685,\"Banc P1VRAIFAUX\",BDD!$V$2:$V$685)","v":0},{"$f":"SUMIF(BDD!$BB$2:$BB$685,\"Banc P1FAUXVRAI\",BDD!$V$2:$V$685)","v":0},{"$f":"SUMIF(BDD!$BB$2:$BB$685,\"Banc P1VRAIFAUX\",BDD!$V$2:$V$685)","v":0},{"$f":"SUMIF(BDD!$BB$2:$BB$685,\"Banc P1FAUXVRAI\",BDD!$V$2:$V$685)","v":0},{"$f":"SUMIF(BDD!$BB$2:$BB$685,\"Banc P1VRAIFAUX\",BDD!$V$2:$V$685)","v":0},{"$f":"SUMIF(BDD!$BB$2:$BB$685,\"Banc P1FAUXVRAI\",BDD!$V$2:$V$685)","v":0},{"$f":"SUMIF(BDD!$BB$2:$BB$685,\"Banc P1VRAIFAUX\",BDD!$V$2:$V$685)","v":0},{"$f":"SUMIF(BDD!$BB$2:$BB$685,\"Banc P1FAUXVRAI\",BDD!$V$2:$V$685)","v":0},{"$f":"SUMIF(BDD!$BB$2:$BB$685,\"Banc P1VRAIFAUX\",BDD!$V$2:$V$685)","v":0},{"$f":"SUMIF(BDD!$BB$2:$BB$685,\"Banc P1FAUXVRAI\",BDD!$V$2:$V$685)","v":0}]
["Banc P2",{"$f":"SUMIF(BDD!$BB$2:$BB$685,\"Banc P2VRAIFAUX\",BDD!$V$2:$V$685)","v":0},{"$f":"SUMIF(BDD!$BB$2:$BB$685,\"Banc P2FAUXVRAI\",BDD!$V$2:$V$685)","v":0},{"$f":"SUMIF(BDD!$BB$2:$BB$685,\"Banc P2VRAIFAUX\",BDD!$V$2:$V$685)","v":0},{"$f":"SUMIF(BDD!$BB$2:$BB$685,\"Banc P2FAUXVRAI\",BDD!$V$2:$V$685)","v":0},{"$f":"SUMIF(BDD!$BB$2:$BB$685,\"Banc P2VRAIFAUX\",BDD!$V$2:$V$685)","v":0},{"$f":"SUMIF(BDD!$BB$2:$BB$685,\"Banc P2FAUXVRAI\",BDD!$V$2:$V$685)","v":0},{"$f":"SUMIF(BDD!$BB$2:$BB$685,\"Banc P2VRAIFAUX\",BDD!$V$2:$V$685)","v":0},{"$f":"SUMIF(BDD!$BB$2:$BB$685,\"Banc P2FAUXVRAI\",BDD!$V$2:$V$685)","v":0},{"$f":"SUMIF(BDD!$BB$2:$BB$685,\"Banc P2VRAIFAUX\",BDD!$V$2:$V$685)","v":0},{"$f":"SUMIF(BDD!$BB$2:$BB$685,\"Banc P2FAUXVRAI\",BDD!$V$2:$V$685)","v":0},{"$f":"SUMIF(BDD!$BB$2:$BB$685,\"Banc P2VRAIFAUX\",BDD!$V$2:$V$685)","v":0},{"$f":"SUMIF(BDD!$BB$2:$BB$685,\"Banc P2FAUXVRAI\",BDD!$V$2:$V$685)","v":0},{"$f":"SUMIF(BDD!$BB$2:$BB$685,\"Banc P2VRAIFAUX\",BDD!$V$2:$V$685)","v":0},{"$f":"SUMIF(BDD!$BB$2:$BB$685,\"Banc P2FAUXVRAI\",BDD!$V$2:$V$685)","v":0},{"$f":"SUMIF(BDD!$BB$2:$BB$685,\"Banc P2VRAIFAUX\",BDD!$V$2:$V$685)","v":0},{"$f":"SUMIF(BDD!$BB$2:$BB$685,\"Banc P2FAUXVRAI\",BDD!$V$2:$V$685)","v":0},{"$f":"SUMIF(BDD!$BB$2:$BB$685,\"Banc P2VRAIFAUX\",BDD!$V$2:$V$685)","v":0},{"$f":"SUMIF(BDD!$BB$2:$BB$685,\"Banc P2FAUXVRAI\",BDD!$V$2:$V$685)","v":0},{"$f":"SUMIF(BDD!$BB$2:$BB$685,\"Banc P2VRAIFAUX\",BDD!$V$2:$V$685)","v":0},{"$f":"SUMIF(BDD!$BB$2:$BB$685,\"Banc P2FAUXVRAI\",BDD!$V$2:$V$685)","v":0},{"$f":"SUMIF(BDD!$BB$2:$BB$685,\"Banc P2VRAIFAUX\",BDD!$V$2:$V$685)","v":0},{"$f":"SUMIF(BDD!$BB$2:$BB$685,\"Banc P2FAUXVRAI\",BDD!$V$2:$V$685)","v":0},{"$f":"SUMIF(BDD!$BB$2:$BB$685,\"Banc P2VRAIFAUX\",BDD!$V$2:$V$685)","v":0},{"$f":"SUMIF(BDD!$BB$2:$BB$685,\"Banc P2FAUXVRAI\",BDD!$V$2:$V$685)","v":0}]
["Banc 156",{"$f":"SUMIF(BDD!$BB$2:$BB$685,\"Banc 156VRAIFAUX\",BDD!$V$2:$V$685)","v":0},{"$f":"SUMIF(BDD!$BB$2:$BB$685,\"Banc 156FAUXVRAI\",BDD!$V$2:$V$685)","v":0},{"$f":"SUMIF(BDD!$BB$2:$BB$685,\"Banc 156VRAIFAUX\",BDD!$V$2:$V$685)","v":0},{"$f":"SUMIF(BDD!$BB$2:$BB$685,\"Banc 156FAUXVRAI\",BDD!$V$2:$V$685)","v":0},{"$f":"SUMIF(BDD!$BB$2:$BB$685,\"Banc 156VRAIFAUX\",BDD!$V$2:$V$685)","v":0},{"$f":"SUMIF(BDD!$BB$2:$BB$685,\"Banc 156FAUXVRAI\",BDD!$V$2:$V$685)","v":0},{"$f":"SUMIF(BDD!$BB$2:$BB$685,\"Banc 156VRAIFAUX\",BDD!$V$2:$V$685)","v":0},{"$f":"SUMIF(BDD!$BB$2:$BB$685,\"Banc 156FAUXVRAI\",BDD!$V$2:$V$685)","v":0},{"$f":"SUMIF(BDD!$BB$2:$BB$685,\"Banc 156VRAIFAUX\",BDD!$V$2:$V$685)","v":0},{"$f":"SUMIF(BDD!$BB$2:$BB$685,\"Banc 156FAUXVRAI\",BDD!$V$2:$V$685)","v":0},{"$f":"SUMIF(BDD!$BB$2:$BB$685,\"Banc 156VRAIFAUX\",BDD!$V$2:$V$685)","v":0},{"$f":"SUMIF(BDD!$BB$2:$BB$685,\"Banc 156FAUXVRAI\",BDD!$V$2:$V$685)","v":0},{"$f":"SUMIF(BDD!$BB$2:$BB$685,\"Banc 156VRAIFAUX\",BDD!$V$2:$V$685)","v":0},{"$f":"SUMIF(BDD!$BB$2:$BB$685,\"Banc 156FAUXVRAI\",BDD!$V$2:$V$685)","v":0},{"$f":"SUMIF(BDD!$BB$2:$BB$685,\"Banc 156VRAIFAUX\",BDD!$V$2:$V$685)","v":0},{"$f":"SUMIF(BDD!$BB$2:$BB$685,\"Banc 156FAUXVRAI\",BDD!$V$2:$V$685)","v":0},{"$f":"SUMIF(BDD!$BB$2:$BB$685,\"Banc 156VRAIFAUX\",BDD!$V$2:$V$685)","v":0},{"$f":"SUMIF(BDD!$BB$2:$BB$685,\"Banc 156FAUXVRAI\",BDD!$V$2:$V$685)","v":0},{"$f":"SUMIF(BDD!$BB$2:$BB$685,\"Banc 156VRAIFAUX\",BDD!$V$2:$V$685)","v":0},{"$f":"SUMIF(BDD!$BB$2:$BB$685,\"Banc 156FAUXVRAI\",BDD!$V$2:$V$685)","v":0},{"$f":"SUMIF(BDD!$BB$2:$BB$685,\"Banc 156VRAIFAUX\",BDD!$V$2:$V$685)","v":0},{"$f":"SUMIF(BDD!$BB$2:$BB$685,\"Banc 156FAUXVRAI\",BDD!$V$2:$V$685)","v":0},{"$f":"SUMIF(BDD!$BB$2:$BB$685,\"Banc 156VRAIFAUX\",BDD!$V$2:$V$685)","v":0},{"$f":"SUMIF(BDD!$BB$2:$BB$685,\"Banc 156FAUXVRAI\",BDD!$V$2:$V$685)","v":0}]
["Chambre Froide",{"$f":"SUMIF(BDD!$BB$2:$BB$685,\"Chambre FroideVRAIFAUX\",BDD!$V$2:$V$685)","v":0},{"$f":"SUMIF(BDD!$BB$2:$BB$685,\"Chambre FroideFAUXVRAI\",BDD!$V$2:$V$685)","v":0},{"$f":"SUMIF(BDD!$BB$2:$BB$685,\"Chambre FroideVRAIFAUX\",BDD!$V$2:$V$685)","v":0},{"$f":"SUMIF(BDD!$BB$2:$BB$685,\"Chambre FroideFAUXVRAI\",BDD!$V$2:$V$685)","v":0},{"$f":"SUMIF(BDD!$BB$2:$BB$685,\"Chambre FroideVRAIFAUX\",BDD!$V$2:$V$685)","v":0},{"$f":"SUMIF(BDD!$BB$2:$BB$685,\"Chambre FroideFAUXVRAI\",BDD!$V$2:$V$685)","v":0},{"$f":"SUMIF(BDD!$BB$2:$BB$685,\"Chambre FroideVRAIFAUX\",BDD!$V$2:$V$685)","v":0},{"$f":"SUMIF(BDD!$BB$2:$BB$685,\"Chambre FroideFAUXVRAI\",BDD!$V$2:$V$685)","v":0},{"$f":"SUMIF(BDD!$BB$2:$BB$685,\"Chambre FroideVRAIFAUX\",BDD!$V$2:$V$685)","v":0},{"$f":"SUMIF(BDD!$BB$2:$BB$685,\"Chambre FroideFAUXVRAI\",BDD!$V$2:$V$685)","v":0},{"$f":"SUMIF(BDD!$BB$2:$BB$685,\"Chambre FroideVRAIFAUX\",BDD!$V$2:$V$685)","v":0},{"$f":"SUMIF(BDD!$BB$2:$BB$685,\"Chambre FroideFAUXVRAI\",BDD!$V$2:$V$685)","v":0},{"$f":"SUMIF(BDD!$BB$2:$BB$685,\"Chambre FroideVRAIFAUX\",BDD!$V$2:$V$685)","v":0},{"$f":"SUMIF(BDD!$BB$2:$BB$685,\"Chambre FroideFAUXVRAI\",BDD!$V$2:$V$685)","v":0},{"$f":"SUMIF(BDD!$BB$2:$BB$685,\"Chambre FroideVRAIFAUX\",BDD!$V$2:$V$685)","v":0},{"$f":"SUMIF(BDD!$BB$2:$BB$685,\"Chambre FroideFAUXVRAI\",BDD!$V$2:$V$685)","v":0},{"$f":"SUMIF(BDD!$BB$2:$BB$685,\"Chambre FroideVRAIFAUX\",BDD!$V$2:$V$685)","v":0},{"$f":"SUMIF(BDD!$BB$2:$BB$685,\"Chambre FroideFAUXVRAI\",BDD!$V$2:$V$685)","v":0},{"$f":"SUMIF(BDD!$BB$2:$BB$685,\"Chambre FroideVRAIFAUX\",BDD!$V$2:$V$685)","v":0},{"$f":"SUMIF(BDD!$BB$2:$BB$685,\"Chambre FroideFAUXVRAI\",BDD!$V$2:$V$685)","v":0},{"$f":"SUMIF(BDD!$BB$2:$BB$685,\"Chambre FroideVRAIFAUX\",BDD!$V$2:$V$685)","v":0},{"$f":"SUMIF(BDD!$BB$2:$BB$685,\"Chambre FroideFAUXVRAI\",BDD!$V$2:$V$685)","v":0},{"$f":"SUMIF(BDD!$BB$2:$BB$685,\"Chambre FroideVRAIFAUX\",BDD!$V$2:$V$685)","v":0},{"$f":"SUMIF(BDD!$BB$2:$BB$685,\"Chambre FroideFAUXVRAI\",BDD!$V$2:$V$685)","v":0}]
["Chambre Sourde",{"$f":"SUMIF(BDD!$BB$2:$BB$685,\"Chambre SourdeVRAIFAUX\",BDD!$V$2:$V$685)","v":0},{"$f":"SUMIF(BDD!$BB$2:$BB$685,\"Chambre SourdeFAUXVRAI\",BDD!$V$2:$V$685)","v":0},{"$f":"SUMIF(BDD!$BB$2:$BB$685,\"Chambre SourdeVRAIFAUX\",BDD!$V$2:$V$685)","v":0},{"$f":"SUMIF(BDD!$BB$2:$BB$685,\"Chambre SourdeFAUXVRAI\",BDD!$V$2:$V$685)","v":0},{"$f":"SUMIF(BDD!$BB$2:$BB$685,\"Chambre SourdeVRAIFAUX\",BDD!$V$2:$V$685)","v":0},{"$f":"SUMIF(BDD!$BB$2:$BB$685,\"Chambre SourdeFAUXVRAI\",BDD!$V$2:$V$685)","v":0},{"$f":"SUMIF(BDD!$BB$2:$BB$685,\"Chambre SourdeVRAIFAUX\",BDD!$V$2:$V$685)","v":0},{"$f":"SUMIF(BDD!$BB$2:$BB$685,\"Chambre SourdeFAUXVRAI\",BDD!$V$2:$V$685)","v":0},{"$f":"SUMIF(BDD!$BB$2:$BB$685,\"Chambre SourdeVRAIFAUX\",BDD!$V$2:$V$685)","v":0},{"$f":"SUMIF(BDD!$BB$2:$BB$685,\"Chambre SourdeFAUXVRAI\",BDD!$V$2:$V$685)","v":0},{"$f":"SUMIF(BDD!$BB$2:$BB$685,\"Chambre SourdeVRAIFAUX\",BDD!$V$2:$V$685)","v":0},{"$f":"SUMIF(BDD!$BB$2:$BB$685,\"Chambre SourdeFAUXVRAI\",BDD!$V$2:$V$685)","v":0},{"$f":"SUMIF(BDD!$BB$2:$BB$685,\"Chambre SourdeVRAIFAUX\",BDD!$V$2:$V$685)","v":0},{"$f":"SUMIF(BDD!$BB$2:$BB$685,\"Chambre SourdeFAUXVRAI\",BDD!$V$2:$V$685)","v":0},{"$f":"SUMIF(BDD!$BB$2:$BB$685,\"Chambre SourdeVRAIFAUX\",BDD!$V$2:$V$685)","v":0},{"$f":"SUMIF(BDD!$BB$2:$BB$685,\"Chambre SourdeFAUXVRAI\",BDD!$V$2:$V$685)","v":0},{"$f":"SUMIF(BDD!$BB$2:$BB$685,\"Chambre SourdeVRAIFAUX\",BDD!$V$2:$V$685)","v":0},{"$f":"SUMIF(BDD!$BB$2:$BB$685,\"Chambre SourdeFAUXVRAI\",BDD!$V$2:$V$685)","v":0},{"$f":"SUMIF(BDD!$BB$2:$BB$685,\"Chambre SourdeVRAIFAUX\",BDD!$V$2:$V$685)","v":0},{"$f":"SUMIF(BDD!$BB$2:$BB$685,\"Chambre SourdeFAUXVRAI\",BDD!$V$2:$V$685)","v":0},{"$f":"SUMIF(BDD!$BB$2:$BB$685,\"Chambre SourdeVRAIFAUX\",BDD!$V$2:$V$685)","v":0},{"$f":"SUMIF(BDD!$BB$2:$BB$685,\"Chambre SourdeFAUXVRAI\",BDD!$V$2:$V$685)","v":0},{"$f":"SUMIF(BDD!$BB$2:$BB$685,\"Chambre SourdeVRAIFAUX\",BDD!$V$2:$V$685)","v":0},{"$f":"SUMIF(BDD!$BB$2:$BB$685,\"Chambre SourdeFAUXVRAI\",BDD!$V$2:$V$685)","v":0}]
[]
[]
[]
[]
[]
[]
[]
[]
[]
[]
[]
[]
[]
[]
[]
[]
[]
[]
[]
[]
[]
[]
[null,"Suivi du correctif et du préventif par banc"]
[null,"Janvier",null,null,null,null,null,"Février",null,null,null,null,null,"Mars",null,null,null,null,null,"Avril",null,null,null,null,null,"Mai",null,null,null,null,null,"Juin",null,null,null,null,null,"Juillet",null,null,null,null,null,"Août",null,null,null,null,null,"Septembre",null,null,null,null,null,"Octobre",null,null,null,null,null,"Novembre",null,null,null,null,null,"Décembre"]
[null,"Corrective",null,null,"Préventive",null,null,"Corrective",null,null,"Préventive",null,null,"Corrective",null,null,"Préventive",null,null,"Corrective",null,null,"Préventive",null,null,"Corrective",null,null,"Préventive",null,null,"Corrective",null,null,"Préventive",null,null,"Corrective",null,null,"Préventive",null,null,"Corrective",null,null,"Préventive",null,null,"Corrective",null,null,"Préventive",null,null,"Corrective",null,null,"Préventive",null,null,"Corrective",null,null,"Préventive",null,null,"Corrective",null,null,"Préventive"]
["Banc zone 6","Electrique","Mécanique","Hydraulique","Electrique","Mécanique","Hydraulique","Electrique","Mécanique","Hydraulique","Electrique","Mécanique","Hydraulique","Electrique","Mécanique","Hydraulique","Electrique","Mécanique","Hydraulique","Electrique","Mécanique","Hydraulique","Electrique","Mécanique","Hydraulique","Electrique","Mécanique","Hydraulique","Electrique","Mécanique","Hydraulique","Electrique","Mécanique","Hydraulique","Electrique","Mécanique","Hydraulique","Electrique","Mécanique","Hydraulique","Electrique","Mécanique","Hydraulique","Electrique","Mécanique","Hydraulique","Electrique","Mécanique","Hydraulique","Electrique","Mécanique","Hydraulique","Electrique","Mécanique","Hydraulique","Electrique","Mécanique","Hydraulique","Electrique","Mécanique","Hydraulique","Electrique","Mécanique","Hydraulique","Electrique","Mécanique","Hydraulique","Electrique","Mécanique","Hydraulique","Electrique","Mécanique","Hydraulique"]
["Banc nouveau P9",{"$f":"SUMIF(BDD!$BC$2:$BC$685,\"Banc nouveau P9VRAIFAUXVRAIFAUXFAUX\",BDD!$V$2:$V$685)","v":0},{"$f":"SUMIF(BDD!$BC$2:$BC$685,\"Banc nouveau P9VRAIFAUXFAUXVRAIFAUX\",BDD!$V$2:$V$685)","v":0},{"$f":"SUMIF(BDD!$BC$2:$BC$685,\"Banc nouveau P9VRAIFAUXFAUXFAUXVRAI\",BDD!$V$2:$V$685)","v":0},{"$f":"SUMIF(BDD!$BC$2:$BC$685,\"Banc nouveau P9FAUXVRAIVRAIFAUXFAUX\",BDD!$V$2:$V$685)","v":0},{"$f":"SUMIF(BDD!$BC$2:$BC$685,\"Banc nouveau P9FAUXVRAIFAUXVRAIFAUX\",BDD!$V$2:$V$685)","v":0},{"$f":"SUMIF(BDD!$BC$2:$BC$685,\"Banc nouveau P9FAUXVRAIFAUXFAUXVRAI\",BDD!$V$2:$V$685)","v":0},{"$f":"SUMIF(BDD!$BC$2:$BC$685,\"Banc nouveau P9VRAIFAUXVRAIFAUXFAUX\",BDD!$V$2:$V$685)","v":0},{"$f":"SUMIF(BDD!$BC$2:$BC$685,\"Banc nouveau P9VRAIFAUXFAUXVRAIFAUX\",BDD!$V$2:$V$685)","v":0},{"$f":"SUMIF(BDD!$BC$2:$BC$685,\"Banc nouveau P9VRAIFAUXFAUXFAUXVRAI\",BDD!$V$2:$V$685)","v":0},{"$f":"SUMIF(BDD!$BC$2:$BC$685,\"Banc nouveau P9FAUXVRAIVRAIFAUXFAUX\",BDD!$V$2:$V$685)","v":0},{"$f":"SUMIF(BDD!$BC$2:$BC$685,\"Banc nouveau P9FAUXVRAIFAUXVRAIFAUX\",BDD!$V$2:$V$685)","v":0},{"$f":"SUMIF(BDD!$BC$2:$BC$685,\"Banc nouveau P9FAUXVRAIFAUXFAUXVRAI\",BDD!$V$2:$V$685)","v":0},{"$f":"SUMIF(BDD!$BC$2:$BC$685,\"Banc nouveau P9VRAIFAUXVRAIFAUXFAUX\",BDD!$V$2:$V$685)","v":0},{"$f":"SUMIF(BDD!$BC$2:$BC$685,\"Banc nouveau P9VRAIFAUXFAUXVRAIFAUX\",BDD!$V$2:$V$685)","v":0},{"$f":"SUMIF(BDD!$BC$2:$BC$685,\"Banc nouveau P9VRAIFAUXFAUXFAUXVRAI\",BDD!$V$2:$V$685)","v":0},{"$f":"SUMIF(BDD!$BC$2:$BC$685,\"Banc nouveau P9FAUXVRAIVRAIFAUXFAUX\",BDD!$V$2:$V$685)","v":0},{"$f":"SUMIF(BDD!$BC$2:$BC$685,\"Banc nouveau P9FAUXVRAIFAUXVRAIFAUX\",BDD!$V$2:$V$685)","v":0},{"$f":"SUMIF(BDD!$BC$2:$BC$685,\"Banc nouveau P9FAUXVRAIFAUXFAUXVRAI\",BDD!$V$2:$V$685)","v":0},{"$f":"SUMIF(BDD!$BC$2:$BC$685,\"Banc nouveau P9VRAIFAUXVRAIFAUXFAUX\",BDD!$V$2:$V$685)","v":0},{"$f":"SUMIF(BDD!$BC$2:$BC$685,\"Banc nouveau P9VRAIFAUXFAUXVRAIFAUX\",BDD!$V$2:$V$685)","v":0},{"$f":"SUMIF(BDD!$BC$2:$BC$685,\"Banc nouveau P9VRAIFAUXFAUXFAUXVRAI\",BDD!$V$2:$V$685)","v":0},{"$f":"SUMIF(BDD!$BC$2:$BC$685,\"Banc nouveau P9FAUXVRAIVRAIFAUXFAUX\",BDD!$V$2:$V$685)","v":0},{"$f":"SUMIF(BDD!$BC$2:$BC$685,\"Banc nouveau P9FAUXVRAIFAUXVRAIFAUX\",BDD!$V$2:$V$685)","v":0},{"$f":"SUMIF(BDD!$BC$2:$BC$685,\"Banc nouveau P9FAUXVRAIFAUXFAUXVRAI\",BDD!$V$2:$V$685)","v":0},{"$f":"SUMIF(BDD!$BC$2:$BC$685,\"Banc nouveau P9VRAIFAUXVRAIFAUXFAUX\",BDD!$V$2:$V$685)","v":0},{"$f":"SUMIF(BDD!$BC$2:$BC$685,\"Banc nouveau P9VRAIFAUXFAUXVRAIFAUX\",BDD!$V$2:$V$685)","v":0},{"$f":"SUMIF(BDD!$BC$2:$BC$685,\"Banc nouveau P9VRAIFAUXFAUXFAUXVRAI\",BDD!$V$2:$V$685)","v":0},{"$f":"SUMIF(BDD!$BC$2:$BC$685,\"Banc nouveau P9FAUXVRAIVRAIFAUXFAUX\",BDD!$V$2:$V$685)","v":0},{"$f":"SUMIF(BDD!$BC$2:$BC$685,\"Banc nouveau P9FAUXVRAIFAUXVRAIFAUX\",BDD!$V$2:$V$685)","v":0},{"$f":"SUMIF(BDD!$BC$2:$BC$685,\"Banc nouveau P9FAUXVRAIFAUXFAUXVRAI\",BDD!$V$2:$V$685)","v":0},{"$f":"SUMIF(BDD!$BC$2:$BC$685,\"Banc nouveau P9VRAIFAUXVRAIFAUXFAUX\",BDD!$V$2:$V$685)","v":0},{"$f":"SUMIF(BDD!$BC$2:$BC$685,\"Banc nouveau P9VRAIFAUXFAUXVRAIFAUX\",BDD!$V$2:$V$685)","v":0},{"$f":"SUMIF(BDD!$BC$2:$BC$685,\"Banc nouveau P9VRAIFAUXFAUXFAUXVRAI\",BDD!$V$2:$V$685)","v":0},{"$f":"SUMIF(BDD!$BC$2:$BC$685,\"Banc nouveau P9FAUXVRAIVRAIFAUXFAUX\",BDD!$V$2:$V$685)","v":0},{"$f":"SUMIF(BDD!$BC$2:$BC$685,\"Banc nouveau P9FAUXVRAIFAUXVRAIFAUX\",BDD!$V$2:$V$685)","v":0},{"$f":"SUMIF(BDD!$BC$2:$BC$685,\"Banc nouveau P9FAUXVRAIFAUXFAUXVRAI\",BDD!$V$2:$V$685)","v":0},{"$f":"SUMIF(BDD!$BC$2:$BC$685,\"Banc nouveau P9VRAIFAUXVRAIFAUXFAUX\",BDD!$V$2:$V$685)","v":0},{"$f":"SUMIF(BDD!$BC$2:$BC$685,\"Banc nouveau P9VRAIFAUXFAUXVRAIFAUX\",BDD!$V$2:$V$685)","v":0},{"$f":"SUMIF(BDD!$BC$2:$BC$685,\"Banc nouveau P9VRAIFAUXFAUXFAUXVRAI\",BDD!$V$2:$V$685)","v":0},{"$f":"SUMIF(BDD!$BC$2:$BC$685,\"Banc nouveau P9FAUXVRAIVRAIFAUXFAUX\",BDD!$V$2:$V$685)","v":0},{"$f":"SUMIF(BDD!$BC$2:$BC$685,\"Banc nouveau P9FAUXVRAIFAUXVRAIFAUX\",BDD!$V$2:$V$685)","v":0},{"$f":"SUMIF(BDD!$BC$2:$BC$685,\"Banc nouveau P9FAUXVRAIFAUXFAUXVRAI\",BDD!$V$2:$V$685)","v":0},{"$f":"SUMIF(BDD!$BC$2:$BC$685,\"Banc nouveau P9VRAIFAUXVRAIFAUXFAUX\",BDD!$V$2:$V$685)","v":0},{"$f":"SUMIF(BDD!$BC$2:$BC$685,\"Banc nouveau P9VRAIFAUXFAUXVRAIFAUX\",BDD!$V$2:$V$685)","v":0},{"$f":"SUMIF(BDD!$BC$2:$BC$685,\"Banc nouveau P9VRAIFAUXFAUXFAUXVRAI\",BDD!$V$2:$V$685)","v":0},{"$f":"SUMIF(BDD!$BC$2:$BC$685,\"Banc nouveau P9FAUXVRAIVRAIFAUXFAUX\",BDD!$V$2:$V$685)","v":0},{"$f":"SUMIF(BDD!$BC$2:$BC$685,\"Banc nouveau P9FAUXVRAIFAUXVRAIFAUX\",BDD!$V$2:$V$685)","v":0},{"$f":"SUMIF(BDD!$BC$2:$BC$685,\"Banc nouveau P9FAUXVRAIFAUXFAUXVRAI\",BDD!$V$2:$V$685)","v":0},{"$f":"SUMIF(BDD!$BC$2:$BC$685,\"Banc nouveau P9VRAIFAUXVRAIFAUXFAUX\",BDD!$V$2:$V$685)","v":0},{"$f":"SUMIF(BDD!$BC$2:$BC$685,\"Banc nouveau P9VRAIFAUXFAUXVRAIFAUX\",BDD!$V$2:$V$685)","v":0},{"$f":"SUMIF(BDD!$BC$2:$BC$685,\"Banc nouveau P9VRAIFAUXFAUXFAUXVRAI\",BDD!$V$2:$V$685)","v":0},{"$f":"SUMIF(BDD!$BC$2:$BC$685,\"Banc nouveau P9FAUXVRAIVRAIFAUXFAUX\",BDD!$V$2:$V$685)","v":0},{"$f":"SUMIF(BDD!$BC$2:$BC$685,\"Banc nouveau P9FAUXVRAIFAUXVRAIFAUX\",BDD!$V$2:$V$685)","v":0},{"$f":"SUMIF(BDD!$BC$2:$BC$685,\"Banc nouveau P9FAUXVRAIFAUXFAUXVRAI\",BDD!$V$2:$V$685)","v":0},{"$f":"SUMIF(BDD!$BC$2:$BC$685,\"Banc nouveau P9VRAIFAUXVRAIFAUXFAUX\",BDD!$V$2:$V$685)","v":0},{"$f":"SUMIF(BDD!$BC$2:$BC$685,\"Banc nouveau P9VRAIFAUXFAUXVRAIFAUX\",BDD!$V$2:$V$685)","v":0},{"$f":"SUMIF(BDD!$BC$2:$BC$685,\"Banc nouveau P9VRAIFAUXFAUXFAUXVRAI\",BDD!$V$2:$V$685)","v":0},{"$f":"SUMIF(BDD!$BC$2:$BC$685,\"Banc nouveau P9FAUXVRAIVRAIFAUXFAUX\",BDD!$V$2:$V$685)","v":0},{"$f":"SUMIF(BDD!$BC$2:$BC$685,\"Banc nouveau P9FAUXVRAIFAUXVRAIFAUX\",BDD!$V$2:$V$685)","v":0},{"$f":"SUMIF(BDD!$BC$2:$BC$685,\"Banc nouveau P9FAUXVRAIFAUXFAUXVRAI\",BDD!$V$2:$V$685)","v":0},{"$f":"SUMIF(BDD!$BC$2:$BC$685,\"Banc nouveau P9VRAIFAUXVRAIFAUXFAUX\",BDD!$V$2:$V$685)","v":0},{"$f":"SUMIF(BDD!$BC$2:$BC$685,\"Banc nouveau P9VRAIFAUXFAUXVRAIFAUX\",BDD!$V$2:$V$685)","v":0},{"$f":"SUMIF(BDD!$BC$2:$BC$685,\"Banc nouveau P9VRAIFAUXFAUXFAUXVRAI\",BDD!$V$2:$V$685)","v":0},{"$f":"SUMIF(BDD!$BC$2:$BC$685,\"Banc nouveau P9FAUXVRAIVRAIFAUXFAUX\",BDD!$V$2:$V$685)","v":0},{"$f":"SUMIF(BDD!$BC$2:$BC$685,\"Banc nouveau P9FAUXVRAIFAUXVRAIFAUX\",BDD!$V$2:$V$685)","v":0},{"$f":"SUMIF(BDD!$BC$2:$BC$685,\"Banc nouveau P9FAUXVRAIFAUXFAUXVRAI\",BDD!$V$2:$V$685)","v":0},{"$f":"SUMIF(BDD!$BC$2:$BC$685,\"Banc nouveau P9VRAIFAUXVRAIFAUXFAUX\",BDD!$V$2:$V$685)","v":0},{"$f":"SUMIF(BDD!$BC$2:$BC$685,\"Banc nouveau P9VRAIFAUXFAUXVRAIFAUX\",BDD!$V$2:$V$685)","v":0},{"$f":"SUMIF(BDD!$BC$2:$BC$685,\"Banc nouveau P9VRAIFAUXFAUXFAUXVRAI\",BDD!$V$2:$V$685)","v":0},{"$f":"SUMIF(BDD!$BC$2:$BC$685,\"Banc nouveau P9FAUXVRAIVRAIFAUXFAUX\",BDD!$V$2:$V$685)","v":0},{"$f":"SUMIF(BDD!$BC$2:$BC$685,\"Banc nouveau P9FAUXVRAIFAUXVRAIFAUX\",BDD!$V$2:$V$685)","v":0},{"$f":"SUMIF(BDD!$BC$2:$BC$685,\"Banc nouveau P9FAUXVRAIFAUXFAUXVRAI\",BDD!$V$2:$V$685)","v":0}]
["Banc P1",{"$f":"SUMIF(BDD!$BC$2:$BC$685,\"Banc P1VRAIFAUXVRAIFAUXFAUX\",BDD!$V$2:$V$685)","v":0},{"$f":"SUMIF(BDD!$BC$2:$BC$685,\"Banc P1VRAIFAUXFAUXVRAIFAUX\",BDD!$V$2:$V$685)","v":0},{"$f":"SUMIF(BDD!$BC$2:$BC$685,\"Banc P1VRAIFAUXFAUXFAUXVRAI\",BDD!$V$2:$V$685)","v":0},{"$f":"SUMIF(BDD!$BC$2:$BC$685,\"Banc P1FAUXVRAIVRAIFAUXFAUX\",BDD!$V$2:$V$685)","v":0},{"$f":"SUMIF(BDD!$BC$2:$BC$685,\"Banc P1FAUXVRAIFAUXVRAIFAUX\",BDD!$V$2:$V$685)","v":0},{"$f":"SUMIF(BDD!$BC$2:$BC$685,\"Banc P1FAUXVRAIFAUXFAUXVRAI\",BDD!$V$2:$V$685)","v":0},{"$f":"SUMIF(BDD!$BC$2:$BC$685,\"Banc P1VRAIFAUXVRAIFAUXFAUX\",BDD!$V$2:$V$685)","v":0},{"$f":"SUMIF(BDD!$BC$2:$BC$685,\"Banc P1VRAIFAUXFAUXVRAIFAUX\",BDD!$V$2:$V$685)","v":0},{"$f":"SUMIF(BDD!$BC$2:$BC$685,\"Banc P1VRAIFAUXFAUXFAUXVRAI\",BDD!$V$2:$V$685)","v":0},{"$f":"SUMIF(BDD!$BC$2:$BC$685,\"Banc P1FAUXVRAIVRAIFAUXFAUX\",BDD!$V$2:$V$685)","v":0},{"$f":"SUMIF(BDD!$BC$2:$BC$685,\"Banc P1FAUXVRAIFAUXVRAIFAUX\",BDD!$V$2:$V$685)","v":0},{"$f":"SUMIF(BDD!$BC$2:$BC$685,\"Banc P1FAUXVRAIFAUXFAUXVRAI\",BDD!$V$2:$V$685)","v":0},{"$f":"SUMIF(BDD!$BC$2:$BC$685,\"Banc P1VRAIFAUXVRAIFAUXFAUX\",BDD!$V$2:$V$685)","v":0},{"$f":"SUMIF(BDD!$BC$2:$BC$685,\"Banc P1VRAIFAUXFAUXVRAIFAUX\",BDD!$V$2:$V$685)","v":0},{"$f":"SUMIF(BDD!$BC$2:$BC$685,\"Banc P1VRAIFAUXFAUXFAUXVRAI\",BDD!$V$2:$V$685)","v":0},{"$f":"SUMIF(BDD!$BC$2:$BC$685,\"Banc P1FAUXVRAIVRAIFAUXFAUX\",BDD!$V$2:$V$685)","v":0},{"$f":"SUMIF(BDD!$BC$2:$BC$685,\"Banc P1FAUXVRAIFAUXVRAIFAUX\",BDD!$V$2:$V$685)","v":0},{"$f":"SUMIF(BDD!$BC$2:$BC$685,\"Banc P1FAUXVRAIFAUXFAUXVRAI\",BDD!$V$2:$V$685)","v":0},{"$f":"SUMIF(BDD!$BC$2:$BC$685,\"Banc P1VRAIFAUXVRAIFAUXFAUX\",BDD!$V$2:$V$685)","v":0},{"$f":"SUMIF(BDD!$BC$2:$BC$685,\"Banc P1VRAIFAUXFAUXVRAIFAUX\",BDD!$V$2:$V$685)","v":0},{"$f":"SUMIF(BDD!$BC$2:$BC$685,\"Banc P1VRAIFAUXFAUXFAUXVRAI\",BDD!$V$2:$V$685)","v":0},{"$f":"SUMIF(BDD!$BC$2:$BC$685,\"Banc P1FAUXVRAIVRAIFAUXFAUX\",BDD!$V$2:$V$685)","v":0},{"$f":"SUMIF(BDD!$BC$2:$BC$685,\"Banc P1FAUXVRAIFAUXVRAIFAUX\",BDD!$V$2:$V$685)","v":0},{"$f":"SUMIF(BDD!$BC$2:$BC$685,\"Banc P1FAUXVRAIFAUXFAUXVRAI\",BDD!$V$2:$V$685)","v":0},{"$f":"SUMIF(BDD!$BC$2:$BC$685,\"Banc P1VRAIFAUXVRAIFAUXFAUX\",BDD!$V$2:$V$685)","v":0},{"$f":"SUMIF(BDD!$BC$2:$BC$685,\"Banc P1VRAIFAUXFAUXVRAIFAUX\",BDD!$V$2:$V$685)","v":0},{"$f":"SUMIF(BDD!$BC$2:$BC$685,\"Banc P1VRAIFAUXFAUXFAUXVRAI\",BDD!$V$2:$V$685)","v":0},{"$f":"SUMIF(BDD!$BC$2:$BC$685,\"Banc P1FAUXVRAIVRAIFAUXFAUX\",BDD!$V$2:$V$685)","v":0},{"$f":"SUMIF(BDD!$BC$2:$BC$685,\"Banc P1FAUXVRAIFAUXVRAIFAUX\",BDD!$V$2:$V$685)","v":0},{"$f":"SUMIF(BDD!$BC$2:$BC$685,\"Banc P1FAUXVRAIFAUXFAUXVRAI\",BDD!$V$2:$V$685)","v":0},{"$f":"SUMIF(BDD!$BC$2:$BC$685,\"Banc P1VRAIFAUXVRAIFAUXFAUX\",BDD!$V$2:$V$685)","v":0},{"$f":"SUMIF(BDD!$BC$2:$BC$685,\"Banc P1VRAIFAUXFAUXVRAIFAUX\",BDD!$V$2:$V$685)","v":0},{"$f":"SUMIF(BDD!$BC$2:$BC$685,\"Banc P1VRAIFAUXFAUXFAUXVRAI\",BDD!$V$2:$V$685)","v":0},{"$f":"SUMIF(BDD!$BC$2:$BC$685,\"Banc P1FAUXVRAIVRAIFAUXFAUX\",BDD!$V$2:$V$685)","v":0},{"$f":"SUMIF(BDD!$BC$2:$BC$685,\"Banc P1FAUXVRAIFAUXVRAIFAUX\",BDD!$V$2:$V$685)","v":0},{"$f":"SUMIF(BDD!$BC$2:$BC$685,\"Banc P1FAUXVRAIFAUXFAUXVRAI\",BDD!$V$2:$V$685)","v":0},{"$f":"SUMIF(BDD!$BC$2:$BC$685,\"Banc P1VRAIFAUXVRAIFAUXFAUX\",BDD!$V$2:$V$685)","v":0},{"$f":"SUMIF(BDD!$BC$2:$BC$685,\"Banc P1VRAIFAUXFAUXVRAIFAUX\",BDD!$V$2:$V$685)","v":0},{"$f":"SUMIF(BDD!$BC$2:$BC$685,\"Banc P1VRAIFAUXFAUXFAUXVRAI\",BDD!$V$2:$V$685)","v":0},{"$f":"SUMIF(BDD!$BC$2:$BC$685,\"Banc P1FAUXVRAIVRAIFAUXFAUX\",BDD!$V$2:$V$685)","v":0},{"$f":"SUMIF(BDD!$BC$2:$BC$685,\"Banc P1FAUXVRAIFAUXVRAIFAUX\",BDD!$V$2:$V$685)","v":0},{"$f":"SUMIF(BDD!$BC$2:$BC$685,\"Banc P1FAUXVRAIFAUXFAUXVRAI\",BDD!$V$2:$V$685)","v":0},{"$f":"SUMIF(BDD!$BC$2:$BC$685,\"Banc P1VRAIFAUXVRAIFAUXFAUX\",BDD!$V$2:$V$685)","v":0},{"$f":"SUMIF(BDD!$BC$2:$BC$685,\"Banc P1VRAIFAUXFAUXVRAIFAUX\",BDD!$V$2:$V$685)","v":0},{"$f":"SUMIF(BDD!$BC$2:$BC$685,\"Banc P1VRAIFAUXFAUXFAUXVRAI\",BDD!$V$2:$V$685)","v":0},{"$f":"SUMIF(BDD!$BC$2:$BC$685,\"Banc P1FAUXVRAIVRAIFAUXFAUX\",BDD!$V$2:$V$685)","v":0},{"$f":"SUMIF(BDD!$BC$2:$BC$685,\"Banc P1FAUXVRAIFAUXVRAIFAUX\",BDD!$V$2:$V$685)","v":0},{"$f":"SUMIF(BDD!$BC$2:$BC$685,\"Banc P1FAUXVRAIFAUXFAUXVRAI\",BDD!$V$2:$V$685)","v":0},{"$f":"SUMIF(BDD!$BC$2:$BC$685,\"Banc P1VRAIFAUXVRAIFAUXFAUX\",BDD!$V$2:$V$685)","v":0},{"$f":"SUMIF(BDD!$BC$2:$BC$685,\"Banc P1VRAIFAUXFAUXVRAIFAUX\",BDD!$V$2:$V$685)","v":0},{"$f":"SUMIF(BDD!$BC$2:$BC$685,\"Banc P1VRAIFAUXFAUXFAUXVRAI\",BDD!$V$2:$V$685)","v":0},{"$f":"SUMIF(BDD!$BC$2:$BC$685,\"Banc P1FAUXVRAIVRAIFAUXFAUX\",BDD!$V$2:$V$685)","v":0},{"$f":"SUMIF(BDD!$BC$2:$BC$685,\"Banc P1FAUXVRAIFAUXVRAIFAUX\",BDD!$V$2:$V$685)","v":0},{"$f":"SUMIF(BDD!$BC$2:$BC$685,\"Banc P1FAUXVRAIFAUXFAUXVRAI\",BDD!$V$2:$V$685)","v":0},{"$f":"SUMIF(BDD!$BC$2:$BC$685,\"Banc P1VRAIFAUXVRAIFAUXFAUX\",BDD!$V$2:$V$685)","v":0},{"$f":"SUMIF(BDD!$BC$2:$BC$685,\"Banc P1VRAIFAUXFAUXVRAIFAUX\",BDD!$V$2:$V$685)","v":0},{"$f":"SUMIF(BDD!$BC$2:$BC$685,\"Banc P1VRAIFAUXFAUXFAUXVRAI\",BDD!$V$2:$V$685)","v":0},{"$f":"SUMIF(BDD!$BC$2:$BC$685,\"Banc P1FAUXVRAIVRAIFAUXFAUX\",BDD!$V$2:$V$685)","v":0},{"$f":"SUMIF(BDD!$BC$2:$BC$685,\"Banc P1FAUXVRAIFAUXVRAIFAUX\",BDD!$V$2:$V$685)","v":0},{"$f":"SUMIF(BDD!$BC$2:$BC$685,\"Banc P1FAUXVRAIFAUXFAUXVRAI\",BDD!$V$2:$V$685)","v":0},{"$f":"SUMIF(BDD!$BC$2:$BC$685,\"Banc P1VRAIFAUXVRAIFAUXFAUX\",BDD!$V$2:$V$685)","v":0},{"$f":"SUMIF(BDD!$BC$2:$BC$685,\"Banc P1VRAIFAUXFAUXVRAIFAUX\",BDD!$V$2:$V$685)","v":0},{"$f":"SUMIF(BDD!$BC$2:$BC$685,\"Banc P1VRAIFAUXFAUXFAUXVRAI\",BDD!$V$2:$V$685)","v":0},{"$f":"SUMIF(BDD!$BC$2:$BC$685,\"Banc P1FAUXVRAIVRAIFAUXFAUX\",BDD!$V$2:$V$685)","v":0},{"$f":"SUMIF(BDD!$BC$2:$BC$685,\"Banc P1FAUXVRAIFAUXVRAIFAUX\",BDD!$V$2:$V$685)","v":0},{"$f":"SUMIF(BDD!$BC$2:$BC$685,\"Banc P1FAUXVRAIFAUXFAUXVRAI\",BDD!$V$2:$V$685)","v":0},{"$f":"SUMIF(BDD!$BC$2:$BC$685,\"Banc P1VRAIFAUXVRAIFAUXFAUX\",BDD!$V$2:$V$685)","v":0},{"$f":"SUMIF(BDD!$BC$2:$BC$685,\"Banc P1VRAIFAUXFAUXVRAIFAUX\",BDD!$V$2:$V$685)","v":0},{"$f":"SUMIF(BDD!$BC$2:$BC$685,\"Banc P1VRAIFAUXFAUXFAUXVRAI\",BDD!$V$2:$V$685)","v":0},{"$f":"SUMIF(BDD!$BC$2:$BC$685,\"Banc P1FAUXVRAIVRAIFAUXFAUX\",BDD!$V$2:$V$685)","v":0},{"$f":"SUMIF(BDD!$BC$2:$BC$685,\"Banc P1FAUXVRAIFAUXVRAIFAUX\",BDD!$V$2:$V$685)","v":0},{"$f":"SUMIF(BDD!$BC$2:$BC$685,\"Banc P1FAUXVRAIFAUXFAUXVRAI\",BDD!$V$2:$V$685)","v":0}]
["Banc P2",{"$f":"SUMIF(BDD!$BC$2:$BC$685,\"Banc P2VRAIFAUXVRAIFAUXFAUX\",BDD!$V$2:$V$685)","v":0},{"$f":"SUMIF(BDD!$BC$2:$BC$685,\"Banc P2VRAIFAUXFAUXVRAIFAUX\",BDD!$V$2:$V$685)","v":0},{"$f":"SUMIF(BDD!$BC$2:$BC$685,\"Banc P2VRAIFAUXFAUXFAUXVRAI\",BDD!$V$2:$V$685)","v":0},{"$f":"SUMIF(BDD!$BC$2:$BC$685,\"Banc P2FAUXVRAIVRAIFAUXFAUX\",BDD!$V$2:$V$685)","v":0},{"$f":"SUMIF(BDD!$BC$2:$BC$685,\"Banc P2FAUXVRAIFAUXVRAIFAUX\",BDD!$V$2:$V$685)","v":0},{"$f":"SUMIF(BDD!$BC$2:$BC$685,\"Banc P2FAUXVRAIFAUXFAUXVRAI\",BDD!$V$2:$V$685)","v":0},{"$f":"SUMIF(BDD!$BC$2:$BC$685,\"Banc P2VRAIFAUXVRAIFAUXFAUX\",BDD!$V$2:$V$685)","v":0},{"$f":"SUMIF(BDD!$BC$2:$BC$685,\"Banc P2VRAIFAUXFAUXVRAIFAUX\",BDD!$V$2:$V$685)","v":0},{"$f":"SUMIF(BDD!$BC$2:$BC$685,\"Banc P2VRAIFAUXFAUXFAUXVRAI\",BDD!$V$2:$V$685)","v":0},{"$f":"SUMIF(BDD!$BC$2:$BC$685,\"Banc P2FAUXVRAIVRAIFAUXFAUX\",BDD!$V$2:$V$685)","v":0},{"$f":"SUMIF(BDD!$BC$2:$BC$685,\"Banc P2FAUXVRAIFAUXVRAIFAUX\",BDD!$V$2:$V$685)","v":0},{"$f":"SUMIF(BDD!$BC$2:$BC$685,\"Banc P2FAUXVRAIFAUXFAUXVRAI\",BDD!$V$2:$V$685)","v":0},{"$f":"SUMIF(BDD!$BC$2:$BC$685,\"Banc P2VRAIFAUXVRAIFAUXFAUX\",BDD!$V$2:$V$685)","v":0},{"$f":"SUMIF(BDD!$BC$2:$BC$685,\"Banc P2VRAIFAUXFAUXVRAIFAUX\",BDD!$V$2:$V$685)","v":0},{"$f":"SUMIF(BDD!$BC$2:$BC$685,\"Banc P2VRAIFAUXFAUXFAUXVRAI\",BDD!$V$2:$V$685)","v":0},{"$f":"SUMIF(BDD!$BC$2:$BC$685,\"Banc P2FAUXVRAIVRAIFAUXFAUX\",BDD!$V$2:$V$685)","v":0},{"$f":"SUMIF(BDD!$BC$2:$BC$685,\"Banc P2FAUXVRAIFAUXVRAIFAUX\",BDD!$V$2:$V$685)","v":0},{"$f":"SUMIF(BDD!$BC$2:$BC$685,\"Banc P2FAUXVRAIFAUXFAUXVRAI\",BDD!$V$2:$V$685)","v":0},{"$f":"SUMIF(BDD!$BC$2:$BC$685,\"Banc P2VRAIFAUXVRAIFAUXFAUX\",BDD!$V$2:$V$685)","v":0},{"$f":"SUMIF(BDD!$BC$2:$BC$685,\"Banc P2VRAIFAUXFAUXVRAIFAUX\",BDD!$V$2:$V$685)","v":0},{"$f":"SUMIF(BDD!$BC$2:$BC$685,\"Banc P2VRAIFAUXFAUXFAUXVRAI\",BDD!$V$2:$V$685)","v":0},{"$f":"SUMIF(BDD!$BC$2:$BC$685,\"Banc P2FAUXVRAIVRAIFAUXFAUX\",BDD!$V$2:$V$685)","v":0},{"$f":"SUMIF(BDD!$BC$2:$BC$685,\"Banc P2FAUXVRAIFAUXVRAIFAUX\",BDD!$V$2:$V$685)","v":0},{"$f":"SUMIF(BDD!$BC$2:$BC$685,\"Banc P2FAUXVRAIFAUXFAUXVRAI\",BDD!$V$2:$V$685)","v":0},{"$f":"SUMIF(BDD!$BC$2:$BC$685,\"Banc P2VRAIFAUXVRAIFAUXFAUX\",BDD!$V$2:$V$685)","v":0},{"$f":"SUMIF(BDD!$BC$2:$BC$685,\"Banc P2VRAIFAUXFAUXVRAIFAUX\",BDD!$V$2:$V$685)","v":0},{"$f":"SUMIF(BDD!$BC$2:$BC$685,\"Banc P2VRAIFAUXFAUXFAUXVRAI\",BDD!$V$2:$V$685)","v":0},{"$f":"SUMIF(BDD!$BC$2:$BC$685,\"Banc P2FAUXVRAIVRAIFAUXFAUX\",BDD!$V$2:$V$685)","v":0},{"$f":"SUMIF(BDD!$BC$2:$BC$685,\"Banc P2FAUXVRAIFAUXVRAIFAUX\",BDD!$V$2:$V$685)","v":0},{"$f":"SUMIF(BDD!$BC$2:$BC$685,\"Banc P2FAUXVRAIFAUXFAUXVRAI\",BDD!$V$2:$V$685)","v":0},{"$f":"SUMIF(BDD!$BC$2:$BC$685,\"Banc P2VRAIFAUXVRAIFAUXFAUX\",BDD!$V$2:$V$685)","v":0},{"$f":"SUMIF(BDD!$BC$2:$BC$685,\"Banc P2VRAIFAUXFAUXVRAIFAUX\",BDD!$V$2:$V$685)","v":0},{"$f":"SUMIF(BDD!$BC$2:$BC$685,\"Banc P2VRAIFAUXFAUXFAUXVRAI\",BDD!$V$2:$V$685)","v":0},{"$f":"SUMIF(BDD!$BC$2:$BC$685,\"Banc P2FAUXVRAIVRAIFAUXFAUX\",BDD!$V$2:$V$685)","v":0},{"$f":"SUMIF(BDD!$BC$2:$BC$685,\"Banc P2FAUXVRAIFAUXVRAIFAUX\",BDD!$V$2:$V$685)","v":0},{"$f":"SUMIF(BDD!$BC$2:$BC$685,\"Banc P2FAUXVRAIFAUXFAUXVRAI\",BDD!$V$2:$V$685)","v":0},{"$f":"SUMIF(BDD!$BC$2:$BC$685,\"Banc P2VRAIFAUXVRAIFAUXFAUX\",BDD!$V$2:$V$685)","v":0},{"$f":"SUMIF(BDD!$BC$2:$BC$685,\"Banc P2VRAIFAUXFAUXVRAIFAUX\",BDD!$V$2:$V$685)","v":0},{"$f":"SUMIF(BDD!$BC$2:$BC$685,\"Banc P2VRAIFAUXFAUXFAUXVRAI\",BDD!$V$2:$V$685)","v":0},{"$f":"SUMIF(BDD!$BC$2:$BC$685,\"Banc P2FAUXVRAIVRAIFAUXFAUX\",BDD!$V$2:$V$685)","v":0},{"$f":"SUMIF(BDD!$BC$2:$BC$685,\"Banc P2FAUXVRAIFAUXVRAIFAUX\",BDD!$V$2:$V$685)","v":0},{"$f":"SUMIF(BDD!$BC$2:$BC$685,\"Banc P2FAUXVRAIFAUXFAUXVRAI\",BDD!$V$2:$V$685)","v":0},{"$f":"SUMIF(BDD!$BC$2:$BC$685,\"Banc P2VRAIFAUXVRAIFAUXFAUX\",BDD!$V$2:$V$685)","v":0},{"$f":"SUMIF(BDD!$BC$2:$BC$685,\"Banc P2VRAIFAUXFAUXVRAIFAUX\",BDD!$V$2:$V$685)","v":0},{"$f":"SUMIF(BDD!$BC$2:$BC$685,\"Banc P2VRAIFAUXFAUXFAUXVRAI\",BDD!$V$2:$V$685)","v":0},{"$f":"SUMIF(BDD!$BC$2:$BC$685,\"Banc P2FAUXVRAIVRAIFAUXFAUX\",BDD!$V$2:$V$685)","v":0},{"$f":"SUMIF(BDD!$BC$2:$BC$685,\"Banc P2FAUXVRAIFAUXVRAIFAUX\",BDD!$V$2:$V$685)","v":0},{"$f":"SUMIF(BDD!$BC$2:$BC$685,\"Banc P2FAUXVRAIFAUXFAUXVRAI\",BDD!$V$2:$V$685)","v":0},{"$f":"SUMIF(BDD!$BC$2:$BC$685,\"Banc P2VRAIFAUXVRAIFAUXFAUX\",BDD!$V$2:$V$685)","v":0},{"$f":"SUMIF(BDD!$BC$2:$BC$685,\"Banc P2VRAIFAUXFAUXVRAIFAUX\",BDD!$V$2:$V$685)","v":0},{"$f":"SUMIF(BDD!$BC$2:$BC$685,\"Banc P2VRAIFAUXFAUXFAUXVRAI\",BDD!$V$2:$V$685)","v":0},{"$f":"SUMIF(BDD!$BC$2:$BC$685,\"Banc P2FAUXVRAIVRAIFAUXFAUX\",BDD!$V$2:$V$685)","v":0},{"$f":"SUMIF(BDD!$BC$2:$BC$685,\"Banc P2FAUXVRAIFAUXVRAIFAUX\",BDD!$V$2:$V$685)","v":0},{"$f":"SUMIF(BDD!$BC$2:$BC$685,\"Banc P2FAUXVRAIFAUXFAUXVRAI\",BDD!$V$2:$V$685)","v":0},{"$f":"SUMIF(BDD!$BC$2:$BC$685,\"Banc P2VRAIFAUXVRAIFAUXFAUX\",BDD!$V$2:$V$685)","v":0},{"$f":"SUMIF(BDD!$BC$2:$BC$685,\"Banc P2VRAIFAUXFAUXVRAIFAUX\",BDD!$V$2:$V$685)","v":0},{"$f":"SUMIF(BDD!$BC$2:$BC$685,\"Banc P2VRAIFAUXFAUXFAUXVRAI\",BDD!$V$2:$V$685)","v":0},{"$f":"SUMIF(BDD!$BC$2:$BC$685,\"Banc P2FAUXVRAIVRAIFAUXFAUX\",BDD!$V$2:$V$685)","v":0},{"$f":"SUMIF(BDD!$BC$2:$BC$685,\"Banc P2FAUXVRAIFAUXVRAIFAUX\",BDD!$V$2:$V$685)","v":0},{"$f":"SUMIF(BDD!$BC$2:$BC$685,\"Banc P2FAUXVRAIFAUXFAUXVRAI\",BDD!$V$2:$V$685)","v":0},{"$f":"SUMIF(BDD!$BC$2:$BC$685,\"Banc P2VRAIFAUXVRAIFAUXFAUX\",BDD!$V$2:$V$685)","v":0},{"$f":"SUMIF(BDD!$BC$2:$BC$685,\"Banc P2VRAIFAUXFAUXVRAIFAUX\",BDD!$V$2:$V$685)","v":0},{"$f":"SUMIF(BDD!$BC$2:$BC$685,\"Banc P2VRAIFAUXFAUXFAUXVRAI\",BDD!$V$2:$V$685)","v":0},{"$f":"SUMIF(BDD!$BC$2:$BC$685,\"Banc P2FAUXVRAIVRAIFAUXFAUX\",BDD!$V$2:$V$685)","v":0},{"$f":"SUMIF(BDD!$BC$2:$BC$685,\"Banc P2FAUXVRAIFAUXVRAIFAUX\",BDD!$V$2:$V$685)","v":0},{"$f":"SUMIF(BDD!$BC$2:$BC$685,\"Banc P2FAUXVRAIFAUXFAUXVRAI\",BDD!$V$2:$V$685)","v":0},{"$f":"SUMIF(BDD!$BC$2:$BC$685,\"Banc P2VRAIFAUXVRAIFAUXFAUX\",BDD!$V$2:$V$685)","v":0},{"$f":"SUMIF(BDD!$BC$2:$BC$685,\"Banc P2VRAIFAUXFAUXVRAIFAUX\",BDD!$V$2:$V$685)","v":0},{"$f":"SUMIF(BDD!$BC$2:$BC$685,\"Banc P2VRAIFAUXFAUXFAUXVRAI\",BDD!$V$2:$V$685)","v":0},{"$f":"SUMIF(BDD!$BC$2:$BC$685,\"Banc P2FAUXVRAIVRAIFAUXFAUX\",BDD!$V$2:$V$685)","v":0},{"$f":"SUMIF(BDD!$BC$2:$BC$685,\"Banc P2FAUXVRAIFAUXVRAIFAUX\",BDD!$V$2:$V$685)","v":0},{"$f":"SUMIF(BDD!$BC$2:$BC$685,\"Banc P2FAUXVRAIFAUXFAUXVRAI\",BDD!$V$2:$V$685)","v":0}]
["Banc 156",{"$f":"SUMIF(BDD!$BC$2:$BC$685,\"Banc 156VRAIFAUXVRAIFAUXFAUX\",BDD!$V$2:$V$685)","v":0},{"$f":"SUMIF(BDD!$BC$2:$BC$685,\"Banc 156VRAIFAUXFAUXVRAIFAUX\",BDD!$V$2:$V$685)","v":0},{"$f":"SUMIF(BDD!$BC$2:$BC$685,\"Banc 156VRAIFAUXFAUXFAUXVRAI\",BDD!$V$2:$V$685)","v":0},{"$f":"SUMIF(BDD!$BC$2:$BC$685,\"Banc 156FAUXVRAIVRAIFAUXFAUX\",BDD!$V$2:$V$685)","v":0},{"$f":"SUMIF(BDD!$BC$2:$BC$685,\"Banc 156FAUXVRAIFAUXVRAIFAUX\",BDD!$V$2:$V$685)","v":0},{"$f":"SUMIF(BDD!$BC$2:$BC$685,\"Banc 156FAUXVRAIFAUXFAUXVRAI\",BDD!$V$2:$V$685)","v":0},{"$f":"SUMIF(BDD!$BC$2:$BC$685,\"Banc 156VRAIFAUXVRAIFAUXFAUX\",BDD!$V$2:$V$685)","v":0},{"$f":"SUMIF(BDD!$BC$2:$BC$685,\"Banc 156VRAIFAUXFAUXVRAIFAUX\",BDD!$V$2:$V$685)","v":0},{"$f":"SUMIF(BDD!$BC$2:$BC$685,\"Banc 156VRAIFAUXFAUXFAUXVRAI\",BDD!$V$2:$V$685)","v":0},{"$f":"SUMIF(BDD!$BC$2:$BC$685,\"Banc 156FAUXVRAIVRAIFAUXFAUX\",BDD!$V$2:$V$685)","v":0},{"$f":"SUMIF(BDD!$BC$2:$BC$685,\"Banc 156FAUXVRAIFAUXVRAIFAUX\",BDD!$V$2:$V$685)","v":0},{"$f":"SUMIF(BDD!$BC$2:$BC$685,\"Banc 156FAUXVRAIFAUXFAUXVRAI\",BDD!$V$2:$V$685)","v":0},{"$f":"SUMIF(BDD!$BC$2:$BC$685,\"Banc 156VRAIFAUXVRAIFAUXFAUX\",BDD!$V$2:$V$685)","v":0},{"$f":"SUMIF(BDD!$BC$2:$BC$685,\"Banc 156VRAIFAUXFAUXVRAIFAUX\",BDD!$V$2:$V$685)","v":0},{"$f":"SUMIF(BDD!$BC$2:$BC$685,\"Banc 156VRAIFAUXFAUXFAUXVRAI\",BDD!$V$2:$V$685)","v":0},{"$f":"SUMIF(BDD!$BC$2:$BC$685,\"Banc 156FAUXVRAIVRAIFAUXFAUX\",BDD!$V$2:$V$685)","v":0},{"$f":"SUMIF(BDD!$BC$2:$BC$685,\"Banc 156FAUXVRAIFAUXVRAIFAUX\",BDD!$V$2:$V$685)","v":0},{"$f":"SUMIF(BDD!$BC$2:$BC$685,\"Banc 156FAUXVRAIFAUXFAUXVRAI\",BDD!$V$2:$V$685)","v":0},{"$f":"SUMIF(BDD!$BC$2:$BC$685,\"Banc 156VRAIFAUXVRAIFAUXFAUX\",BDD!$V$2:$V$685)","v":0},{"$f":"SUMIF(BDD!$BC$2:$BC$685,\"Banc 156VRAIFAUXFAUXVRAIFAUX\",BDD!$V$2:$V$685)","v":0},{"$f":"SUMIF(BDD!$BC$2:$BC$685,\"Banc 156VRAIFAUXFAUXFAUXVRAI\",BDD!$V$2:$V$685)","v":0},{"$f":"SUMIF(BDD!$BC$2:$BC$685,\"Banc 156FAUXVRAIVRAIFAUXFAUX\",BDD!$V$2:$V$685)","v":0},{"$f":"SUMIF(BDD!$BC$2:$BC$685,\"Banc 156FAUXVRAIFAUXVRAIFAUX\",BDD!$V$2:$V$685)","v":0},{"$f":"SUMIF(BDD!$BC$2:$BC$685,\"Banc 156FAUXVRAIFAUXFAUXVRAI\",BDD!$V$2:$V$685)","v":0},{"$f":"SUMIF(BDD!$BC$2:$BC$685,\"Banc 156VRAIFAUXVRAIFAUXFAUX\",BDD!$V$2:$V$685)","v":0},{"$f":"SUMIF(BDD!$BC$2:$BC$685,\"Banc 156VRAIFAUXFAUXVRAIFAUX\",BDD!$V$2:$V$685)","v":0},{"$f":"SUMIF(BDD!$BC$2:$BC$685,\"Banc 156VRAIFAUXFAUXFAUXVRAI\",BDD!$V$2:$V$685)","v":0},{"$f":"SUMIF(BDD!$BC$2:$BC$685,\"Banc 156FAUXVRAIVRAIFAUXFAUX\",BDD!$V$2:$V$685)","v":0},{"$f":"SUMIF(BDD!$BC$2:$BC$685,\"Banc 156FAUXVRAIFAUXVRAIFAUX\",BDD!$V$2:$V$685)","v":0},{"$f":"SUMIF(BDD!$BC$2:$BC$685,\"Banc 156FAUXVRAIFAUXFAUXVRAI\",BDD!$V$2:$V$685)","v":0},{"$f":"SUMIF(BDD!$BC$2:$BC$685,\"Banc 156VRAIFAUXVRAIFAUXFAUX\",BDD!$V$2:$V$685)","v":0},{"$f":"SUMIF(BDD!$BC$2:$BC$685,\"Banc 156VRAIFAUXFAUXVRAIFAUX\",BDD!$V$2:$V$685)","v":0},{"$f":"SUMIF(BDD!$BC$2:$BC$685,\"Banc 156VRAIFAUXFAUXFAUXVRAI\",BDD!$V$2:$V$685)","v":0},{"$f":"SUMIF(BDD!$BC$2:$BC$685,\"Banc 156FAUXVRAIVRAIFAUXFAUX\",BDD!$V$2:$V$685)","v":0},{"$f":"SUMIF(BDD!$BC$2:$BC$685,\"Banc 156FAUXVRAIFAUXVRAIFAUX\",BDD!$V$2:$V$685)","v":0},{"$f":"SUMIF(BDD!$BC$2:$BC$685,\"Banc 156FAUXVRAIFAUXFAUXVRAI\",BDD!$V$2:$V$685)","v":0},{"$f":"SUMIF(BDD!$BC$2:$BC$685,\"Banc 156VRAIFAUXVRAIFAUXFAUX\",BDD!$V$2:$V$685)","v":0},{"$f":"SUMIF(BDD!$BC$2:$BC$685,\"Banc 156VRAIFAUXFAUXVRAIFAUX\",BDD!$V$2:$V$685)","v":0},{"$f":"SUMIF(BDD!$BC$2:$BC$685,\"Banc 156VRAIFAUXFAUXFAUXVRAI\",BDD!$V$2:$V$685)","v":0},{"$f":"SUMIF(BDD!$BC$2:$BC$685,\"Banc 156FAUXVRAIVRAIFAUXFAUX\",BDD!$V$2:$V$685)","v":0},{"$f":"SUMIF(BDD!$BC$2:$BC$685,\"Banc 156FAUXVRAIFAUXVRAIFAUX\",BDD!$V$2:$V$685)","v":0},{"$f":"SUMIF(BDD!$BC$2:$BC$685,\"Banc 156FAUXVRAIFAUXFAUXVRAI\",BDD!$V$2:$V$685)","v":0},{"$f":"SUMIF(BDD!$BC$2:$BC$685,\"Banc 156VRAIFAUXVRAIFAUXFAUX\",BDD!$V$2:$V$685)","v":0},{"$f":"SUMIF(BDD!$BC$2:$BC$685,\"Banc 156VRAIFAUXFAUXVRAIFAUX\",BDD!$V$2:$V$685)","v":0},{"$f":"SUMIF(BDD!$BC$2:$BC$685,\"Banc 156VRAIFAUXFAUXFAUXVRAI\",BDD!$V$2:$V$685)","v":0},{"$f":"SUMIF(BDD!$BC$2:$BC$685,\"Banc 156FAUXVRAIVRAIFAUXFAUX\",BDD!$V$2:$V$685)","v":0},{"$f":"SUMIF(BDD!$BC$2:$BC$685,\"Banc 156FAUXVRAIFAUXVRAIFAUX\",BDD!$V$2:$V$685)","v":0},{"$f":"SUMIF(BDD!$BC$2:$BC$685,\"Banc 156FAUXVRAIFAUXFAUXVRAI\",BDD!$V$2:$V$685)","v":0},{"$f":"SUMIF(BDD!$BC$2:$BC$685,\"Banc 156VRAIFAUXVRAIFAUXFAUX\",BDD!$V$2:$V$685)","v":0},{"$f":"SUMIF(BDD!$BC$2:$BC$685,\"Banc 156VRAIFAUXFAUXVRAIFAUX\",BDD!$V$2:$V$685)","v":0},{"$f":"SUMIF(BDD!$BC$2:$BC$685,\"Banc 156VRAIFAUXFAUXFAUXVRAI\",BDD!$V$2:$V$685)","v":0},{"$f":"SUMIF(BDD!$BC$2:$BC$685,\"Banc 156FAUXVRAIVRAIFAUXFAUX\",BDD!$V$2:$V$685)","v":0},{"$f":"SUMIF(BDD!$BC$2:$BC$685,\"Banc 156FAUXVRAIFAUXVRAIFAUX\",BDD!$V$2:$V$685)","v":0},{"$f":"SUMIF(BDD!$BC$2:$BC$685,\"Banc 156FAUXVRAIFAUXFAUXVRAI\",BDD!$V$2:$V$685)","v":0},{"$f":"SUMIF(BDD!$BC$2:$BC$685,\"Banc 156VRAIFAUXVRAIFAUXFAUX\",BDD!$V$2:$V$685)","v":0},{"$f":"SUMIF(BDD!$BC$2:$BC$685,\"Banc 156VRAIFAUXFAUXVRAIFAUX\",BDD!$V$2:$V$685)","v":0},{"$f":"SUMIF(BDD!$BC$2:$BC$685,\"Banc 156VRAIFAUXFAUXFAUXVRAI\",BDD!$V$2:$V$685)","v":0},{"$f":"SUMIF(BDD!$BC$2:$BC$685,\"Banc 156FAUXVRAIVRAIFAUXFAUX\",BDD!$V$2:$V$685)","v":0},{"$f":"SUMIF(BDD!$BC$2:$BC$685,\"Banc 156FAUXVRAIFAUXVRAIFAUX\",BDD!$V$2:$V$685)","v":0},{"$f":"SUMIF(BDD!$BC$2:$BC$685,\"Banc 156FAUXVRAIFAUXFAUXVRAI\",BDD!$V$2:$V$685)","v":0},{"$f":"SUMIF(BDD!$BC$2:$BC$685,\"Banc 156VRAIFAUXVRAIFAUXFAUX\",BDD!$V$2:$V$685)","v":0},{"$f":"SUMIF(BDD!$BC$2:$BC$685,\"Banc 156VRAIFAUXFAUXVRAIFAUX\",BDD!$V$2:$V$685)","v":0},{"$f":"SUMIF(BDD!$BC$2:$BC$685,\"Banc 156VRAIFAUXFAUXFAUXVRAI\",BDD!$V$2:$V$685)","v":0},{"$f":"SUMIF(BDD!$BC$2:$BC$685,\"Banc 156FAUXVRAIVRAIFAUXFAUX\",BDD!$V$2:$V$685)","v":0},{"$f":"SUMIF(BDD!$BC$2:$BC$685,\"Banc 156FAUXVRAIFAUXVRAIFAUX\",BDD!$V$2:$V$685)","v":0},{"$f":"SUMIF(BDD!$BC$2:$BC$685,\"Banc 156FAUXVRAIFAUXFAUXVRAI\",BDD!$V$2:$V$685)","v":0},{"$f":"SUMIF(BDD!$BC$2:$BC$685,\"Banc 156VRAIFAUXVRAIFAUXFAUX\",BDD!$V$2:$V$685)","v":0},{"$f":"SUMIF(BDD!$BC$2:$BC$685,\"Banc 156VRAIFAUXFAUXVRAIFAUX\",BDD!$V$2:$V$685)","v":0},{"$f":"SUMIF(BDD!$BC$2:$BC$685,\"Banc 156VRAIFAUXFAUXFAUXVRAI\",BDD!$V$2:$V$685)","v":0},{"$f":"SUMIF(BDD!$BC$2:$BC$685,\"Banc 156FAUXVRAIVRAIFAUXFAUX\",BDD!$V$2:$V$685)","v":0},{"$f":"SUMIF(BDD!$BC$2:$BC$685,\"Banc 156FAUXVRAIFAUXVRAIFAUX\",BDD!$V$2:$V$685)","v":0},{"$f":"SUMIF(BDD!$BC$2:$BC$685,\"Banc 156FAUXVRAIFAUXFAUXVRAI\",BDD!$V$2:$V$685)","v":0}]
["Chambre Froide",{"$f":"SUMIF(BDD!$BC$2:$BC$685,\"Chambre FroideVRAIFAUXVRAIFAUXFAUX\",BDD!$V$2:$V$685)","v":0},{"$f":"SUMIF(BDD!$BC$2:$BC$685,\"Chambre FroideVRAIFAUXFAUXVRAIFAUX\",BDD!$V$2:$V$685)","v":0},{"$f":"SUMIF(BDD!$BC$2:$BC$685,\"Chambre FroideVRAIFAUXFAUXFAUXVRAI\",BDD!$V$2:$V$685)","v":0},{"$f":"SUMIF(BDD!$BC$2:$BC$685,\"Chambre FroideFAUXVRAIVRAIFAUXFAUX\",BDD!$V$2:$V$685)","v":0},{"$f":"SUMIF(BDD!$BC$2:$BC$685,\"Chambre FroideFAUXVRAIFAUXVRAIFAUX\",BDD!$V$2:$V$685)","v":0},{"$f":"SUMIF(BDD!$BC$2:$BC$685,\"Chambre FroideFAUXVRAIFAUXFAUXVRAI\",BDD!$V$2:$V$685)","v":0},{"$f":"SUMIF(BDD!$BC$2:$BC$685,\"Chambre FroideVRAIFAUXVRAIFAUXFAUX\",BDD!$V$2:$V$685)","v":0},{"$f":"SUMIF(BDD!$BC$2:$BC$685,\"Chambre FroideVRAIFAUXFAUXVRAIFAUX\",BDD!$V$2:$V$685)","v":0},{"$f":"SUMIF(BDD!$BC$2:$BC$685,\"Chambre FroideVRAIFAUXFAUXFAUXVRAI\",BDD!$V$2:$V$685)","v":0},{"$f":"SUMIF(BDD!$BC$2:$BC$685,\"Chambre FroideFAUXVRAIVRAIFAUXFAUX\",BDD!$V$2:$V$685)","v":0},{"$f":"SUMIF(BDD!$BC$2:$BC$685,\"Chambre FroideFAUXVRAIFAUXVRAIFAUX\",BDD!$V$2:$V$685)","v":0},{"$f":"SUMIF(BDD!$BC$2:$BC$685,\"Chambre FroideFAUXVRAIFAUXFAUXVRAI\",BDD!$V$2:$V$685)","v":0},{"$f":"SUMIF(BDD!$BC$2:$BC$685,\"Chambre FroideVRAIFAUXVRAIFAUXFAUX\",BDD!$V$2:$V$685)","v":0},{"$f":"SUMIF(BDD!$BC$2:$BC$685,\"Chambre FroideVRAIFAUXFAUXVRAIFAUX\",BDD!$V$2:$V$685)","v":0},{"$f":"SUMIF(BDD!$BC$2:$BC$685,\"Chambre FroideVRAIFAUXFAUXFAUXVRAI\",BDD!$V$2:$V$685)","v":0},{"$f":"SUMIF(BDD!$BC$2:$BC$685,\"Chambre FroideFAUXVRAIVRAIFAUXFAUX\",BDD!$V$2:$V$685)","v":0},{"$f":"SUMIF(BDD!$BC$2:$BC$685,\"Chambre FroideFAUXVRAIFAUXVRAIFAUX\",BDD!$V$2:$V$685)","v":0},{"$f":"SUMIF(BDD!$BC$2:$BC$685,\"Chambre FroideFAUXVRAIFAUXFAUXVRAI\",BDD!$V$2:$V$685)","v":0},{"$f":"SUMIF(BDD!$BC$2:$BC$685,\"Chambre FroideVRAIFAUXVRAIFAUXFAUX\",BDD!$V$2:$V$685)","v":0},{"$f":"SUMIF(BDD!$BC$2:$BC$685,\"Chambre FroideVRAIFAUXFAUXVRAIFAUX\",BDD!$V$2:$V$685)","v":0},{"$f":"SUMIF(BDD!$BC$2:$BC$685,\"Chambre FroideVRAIFAUXFAUXFAUXVRAI\",BDD!$V$2:$V$685)","v":0},{"$f":"SUMIF(BDD!$BC$2:$BC$685,\"Chambre FroideFAUXVRAIVRAIFAUXFAUX\",BDD!$V$2:$V$685)","v":0},{"$f":"SUMIF(BDD!$BC$2:$BC$685,\"Chambre FroideFAUXVRAIFAUXVRAIFAUX\",BDD!$V$2:$V$685)","v":0},{"$f":"SUMIF(BDD!$BC$2:$BC$685,\"Chambre FroideFAUXVRAIFAUXFAUXVRAI\",BDD!$V$2:$V$685)","v":0},{"$f":"SUMIF(BDD!$BC$2:$BC$685,\"Chambre FroideVRAIFAUXVRAIFAUXFAUX\",BDD!$V$2:$V$685)","v":0},{"$f":"SUMIF(BDD!$BC$2:$BC$685,\"Chambre FroideVRAIFAUXFAUXVRAIFAUX\",BDD!$V$2:$V$685)","v":0},{"$f":"SUMIF(BDD!$BC$2:$BC$685,\"Chambre FroideVRAIFAUXFAUXFAUXVRAI\",BDD!$V$2:$V$685)","v":0},{"$f":"SUMIF(BDD!$BC$2:$BC$685,\"Chambre FroideFAUXVRAIVRAIFAUXFAUX\",BDD!$V$2:$V$685)","v":0},{"$f":"SUMIF(BDD!$BC$2:$BC$685,\"Chambre FroideFAUXVRAIFAUXVRAIFAUX\",BDD!$V$2:$V$685)","v":0},{"$f":"SUMIF(BDD!$BC$2:$BC$685,\"Chambre FroideFAUXVRAIFAUXFAUXVRAI\",BDD!$V$2:$V$685)","v":0},{"$f":"SUMIF(BDD!$BC$2:$BC$685,\"Chambre FroideVRAIFAUXVRAIFAUXFAUX\",BDD!$V$2:$V$685)","v":0},{"$f":"SUMIF(BDD!$BC$2:$BC$685,\"Chambre FroideVRAIFAUXFAUXVRAIFAUX\",BDD!$V$2:$V$685)","v":0},{"$f":"SUMIF(BDD!$BC$2:$BC$685,\"Chambre FroideVRAIFAUXFAUXFAUXVRAI\",BDD!$V$2:$V$685)","v":0},{"$f":"SUMIF(BDD!$BC$2:$BC$685,\"Chambre FroideFAUXVRAIVRAIFAUXFAUX\",BDD!$V$2:$V$685)","v":0},{"$f":"SUMIF(BDD!$BC$2:$BC$685,\"Chambre FroideFAUXVRAIFAUXVRAIFAUX\",BDD!$V$2:$V$685)","v":0},{"$f":"SUMIF(BDD!$BC$2:$BC$685,\"Chambre FroideFAUXVRAIFAUXFAUXVRAI\",BDD!$V$2:$V$685)","v":0},{"$f":"SUMIF(BDD!$BC$2:$BC$685,\"Chambre FroideVRAIFAUXVRAIFAUXFAUX\",BDD!$V$2:$V$685)","v":0},{"$f":"SUMIF(BDD!$BC$2:$BC$685,\"Chambre FroideVRAIFAUXFAUXVRAIFAUX\",BDD!$V$2:$V$685)","v":0},{"$f":"SUMIF(BDD!$BC$2:$BC$685,\"Chambre FroideVRAIFAUXFAUXFAUXVRAI\",BDD!$V$2:$V$685)","v":0},{"$f":"SUMIF(BDD!$BC$2:$BC$685,\"Chambre FroideFAUXVRAIVRAIFAUXFAUX\",BDD!$V$2:$V$685)","v":0},{"$f":"SUMIF(BDD!$BC$2:$BC$685,\"Chambre FroideFAUXVRAIFAUXVRAIFAUX\",BDD!$V$2:$V$685)","v":0},{"$f":"SUMIF(BDD!$BC$2:$BC$685,\"Chambre FroideFAUXVRAIFAUXFAUXVRAI\",BDD!$V$2:$V$685)","v":0},{"$f":"SUMIF(BDD!$BC$2:$BC$685,\"Chambre FroideVRAIFAUXVRAIFAUXFAUX\",BDD!$V$2:$V$685)","v":0},{"$f":"SUMIF(BDD!$BC$2:$BC$685,\"Chambre FroideVRAIFAUXFAUXVRAIFAUX\",BDD!$V$2:$V$685)","v":0},{"$f":"SUMIF(BDD!$BC$2:$BC$685,\"Chambre FroideVRAIFAUXFAUXFAUXVRAI\",BDD!$V$2:$V$685)","v":0},{"$f":"SUMIF(BDD!$BC$2:$BC$685,\"Chambre FroideFAUXVRAIVRAIFAUXFAUX\",BDD!$V$2:$V$685)","v":0},{"$f":"SUMIF(BDD!$BC$2:$BC$685,\"Chambre FroideFAUXVRAIFAUXVRAIFAUX\",BDD!$V$2:$V$685)","v":0},{"$f":"SUMIF(BDD!$BC$2:$BC$685,\"Chambre FroideFAUXVRAIFAUXFAUXVRAI\",BDD!$V$2:$V$685)","v":0},{"$f":"SUMIF(BDD!$BC$2:$BC$685,\"Chambre FroideVRAIFAUXVRAIFAUXFAUX\",BDD!$V$2:$V$685)","v":0},{"$f":"SUMIF(BDD!$BC$2:$BC$685,\"Chambre FroideVRAIFAUXFAUXVRAIFAUX\",BDD!$V$2:$V$685)","v":0},{"$f":"SUMIF(BDD!$BC$2:$BC$685,\"Chambre FroideVRAIFAUXFAUXFAUXVRAI\",BDD!$V$2:$V$685)","v":0},{"$f":"SUMIF(BDD!$BC$2:$BC$685,\"Chambre FroideFAUXVRAIVRAIFAUXFAUX\",BDD!$V$2:$V$685)","v":0},{"$f":"SUMIF(BDD!$BC$2:$BC$685,\"Chambre FroideFAUXVRAIFAUXVRAIFAUX\",BDD!$V$2:$V$685)","v":0},{"$f":"SUMIF(BDD!$BC$2:$BC$685,\"Chambre FroideFAUXVRAIFAUXFAUXVRAI\",BDD!$V$2:$V$685)","v":0},{"$f":"SUMIF(BDD!$BC$2:$BC$685,\"Chambre FroideVRAIFAUXVRAIFAUXFAUX\",BDD!$V$2:$V$685)","v":0},{"$f":"SUMIF(BDD!$BC$2:$BC$685,\"Chambre FroideVRAIFAUXFAUXVRAIFAUX\",BDD!$V$2:$V$685)","v":0},{"$f":"SUMIF(BDD!$BC$2:$BC$685,\"Chambre FroideVRAIFAUXFAUXFAUXVRAI\",BDD!$V$2:$V$685)","v":0},{"$f":"SUMIF(BDD!$BC$2:$BC$685,\"Chambre FroideFAUXVRAIVRAIFAUXFAUX\",BDD!$V$2:$V$685)","v":0},{"$f":"SUMIF(BDD!$BC$2:$BC$685,\"Chambre FroideFAUXVRAIFAUXVRAIFAUX\",BDD!$V$2:$V$685)","v":0},{"$f":"SUMIF(BDD!$BC$2:$BC$685,\"Chambre FroideFAUXVRAIFAUXFAUXVRAI\",BDD!$V$2:$V$685)","v":0},{"$f":"SUMIF(BDD!$BC$2:$BC$685,\"Chambre FroideVRAIFAUXVRAIFAUXFAUX\",BDD!$V$2:$V$685)","v":0},{"$f":"SUMIF(BDD!$BC$2:$BC$685,\"Chambre FroideVRAIFAUXFAUXVRAIFAUX\",BDD!$V$2:$V$685)","v":0},{"$f":"SUMIF(BDD!$BC$2:$BC$685,\"Chambre FroideVRAIFAUXFAUXFAUXVRAI\",BDD!$V$2:$V$685)","v":0},{"$f":"SUMIF(BDD!$BC$2:$BC$685,\"Chambre FroideFAUXVRAIVRAIFAUXFAUX\",BDD!$V$2:$V$685)","v":0},{"$f":"SUMIF(BDD!$BC$2:$BC$685,\"Chambre FroideFAUXVRAIFAUXVRAIFAUX\",BDD!$V$2:$V$685)","v":0},{"$f":"SUMIF(BDD!$BC$2:$BC$685,\"Chambre FroideFAUXVRAIFAUXFAUXVRAI\",BDD!$V$2:$V$685)","v":0},{"$f":"SUMIF(BDD!$BC$2:$BC$685,\"Chambre FroideVRAIFAUXVRAIFAUXFAUX\",BDD!$V$2:$V$685)","v":0},{"$f":"SUMIF(BDD!$BC$2:$BC$685,\"Chambre FroideVRAIFAUXFAUXVRAIFAUX\",BDD!$V$2:$V$685)","v":0},{"$f":"SUMIF(BDD!$BC$2:$BC$685,\"Chambre FroideVRAIFAUXFAUXFAUXVRAI\",BDD!$V$2:$V$685)","v":0},{"$f":"SUMIF(BDD!$BC$2:$BC$685,\"Chambre FroideFAUXVRAIVRAIFAUXFAUX\",BDD!$V$2:$V$685)","v":0},{"$f":"SUMIF(BDD!$BC$2:$BC$685,\"Chambre FroideFAUXVRAIFAUXVRAIFAUX\",BDD!$V$2:$V$685)","v":0},{"$f":"SUMIF(BDD!$BC$2:$BC$685,\"Chambre FroideFAUXVRAIFAUXFAUXVRAI\",BDD!$V$2:$V$685)","v":0}]
["Chambre Sourde",{"$f":"SUMIF(BDD!$BC$2:$BC$685,\"Chambre SourdeVRAIFAUXVRAIFAUXFAUX\",BDD!$V$2:$V$685)","v":0},{"$f":"SUMIF(BDD!$BC$2:$BC$685,\"Chambre SourdeVRAIFAUXFAUXVRAIFAUX\",BDD!$V$2:$V$685)","v":0},{"$f":"SUMIF(BDD!$BC$2:$BC$685,\"Chambre SourdeVRAIFAUXFAUXFAUXVRAI\",BDD!$V$2:$V$685)","v":0},{"$f":"SUMIF(BDD!$BC$2:$BC$685,\"Chambre SourdeFAUXVRAIVRAIFAUXFAUX\",BDD!$V$2:$V$685)","v":0},{"$f":"SUMIF(BDD!$BC$2:$BC$685,\"Chambre SourdeFAUXVRAIFAUXVRAIFAUX\",BDD!$V$2:$V$685)","v":0},{"$f":"SUMIF(BDD!$BC$2:$BC$685,\"Chambre SourdeFAUXVRAIFAUXFAUXVRAI\",BDD!$V$2:$V$685)","v":0},{"$f":"SUMIF(BDD!$BC$2:$BC$685,\"Chambre SourdeVRAIFAUXVRAIFAUXFAUX\",BDD!$V$2:$V$685)","v":0},{"$f":"SUMIF(BDD!$BC$2:$BC$685,\"Chambre SourdeVRAIFAUXFAUXVRAIFAUX\",BDD!$V$2:$V$685)","v":0},{"$f":"SUMIF(BDD!$BC$2:$BC$685,\"Chambre SourdeVRAIFAUXFAUXFAUXVRAI\",BDD!$V$2:$V$685)","v":0},{"$f":"SUMIF(BDD!$BC$2:$BC$685,\"Chambre SourdeFAUXVRAIVRAIFAUXFAUX\",BDD!$V$2:$V$685)","v":0},{"$f":"SUMIF(BDD!$BC$2:$BC$685,\"Chambre SourdeFAUXVRAIFAUXVRAIFAUX\",BDD!$V$2:$V$685)","v":0},{"$f":"SUMIF(BDD!$BC$2:$BC$685,\"Chambre SourdeFAUXVRAIFAUXFAUXVRAI\",BDD!$V$2:$V$685)","v":0},{"$f":"SUMIF(BDD!$BC$2:$BC$685,\"Chambre SourdeVRAIFAUXVRAIFAUXFAUX\",BDD!$V$2:$V$685)","v":0},{"$f":"SUMIF(BDD!$BC$2:$BC$685,\"Chambre SourdeVRAIFAUXFAUXVRAIFAUX\",BDD!$V$2:$V$685)","v":0},{"$f":"SUMIF(BDD!$BC$2:$BC$685,\"Chambre SourdeVRAIFAUXFAUXFAUXVRAI\",BDD!$V$2:$V$685)","v":0},{"$f":"SUMIF(BDD!$BC$2:$BC$685,\"Chambre SourdeFAUXVRAIVRAIFAUXFAUX\",BDD!$V$2:$V$685)","v":0},{"$f":"SUMIF(BDD!$BC$2:$BC$685,\"Chambre SourdeFAUXVRAIFAUXVRAIFAUX\",BDD!$V$2:$V$685)","v":0},{"$f":"SUMIF(BDD!$BC$2:$BC$685,\"Chambre SourdeFAUXVRAIFAUXFAUXVRAI\",BDD!$V$2:$V$685)","v":0},{"$f":"SUMIF(BDD!$BC$2:$BC$685,\"Chambre SourdeVRAIFAUXVRAIFAUXFAUX\",BDD!$V$2:$V$685)","v":0},{"$f":"SUMIF(BDD!$BC$2:$BC$685,\"Chambre SourdeVRAIFAUXFAUXVRAIFAUX\",BDD!$V$2:$V$685)","v":0},{"$f":"SUMIF(BDD!$BC$2:$BC$685,\"Chambre SourdeVRAIFAUXFAUXFAUXVRAI\",BDD!$V$2:$V$685)","v":0},{"$f":"SUMIF(BDD!$BC$2:$BC$685,\"Chambre SourdeFAUXVRAIVRAIFAUXFAUX\",BDD!$V$2:$V$685)","v":0},{"$f":"SUMIF(BDD!$BC$2:$BC$685,\"Chambre SourdeFAUXVRAIFAUXVRAIFAUX\",BDD!$V$2:$V$685)","v":0},{"$f":"SUMIF(BDD!$BC$2:$BC$685,\"Chambre SourdeFAUXVRAIFAUXFAUXVRAI\",BDD!$V$2:$V$685)","v":0},{"$f":"SUMIF(BDD!$BC$2:$BC$685,\"Chambre SourdeVRAIFAUXVRAIFAUXFAUX\",BDD!$V$2:$V$685)","v":0},{"$f":"SUMIF(BDD!$BC$2:$BC$685,\"Chambre SourdeVRAIFAUXFAUXVRAIFAUX\",BDD!$V$2:$V$685)","v":0},{"$f":"SUMIF(BDD!$BC$2:$BC$685,\"Chambre SourdeVRAIFAUXFAUXFAUXVRAI\",BDD!$V$2:$V$685)","v":0},{"$f":"SUMIF(BDD!$BC$2:$BC$685,\"Chambre SourdeFAUXVRAIVRAIFAUXFAUX\",BDD!$V$2:$V$685)","v":0},{"$f":"SUMIF(BDD!$BC$2:$BC$685,\"Chambre SourdeFAUXVRAIFAUXVRAIFAUX\",BDD!$V$2:$V$685)","v":0},{"$f":"SUMIF(BDD!$BC$2:$BC$685,\"Chambre SourdeFAUXVRAIFAUXFAUXVRAI\",BDD!$V$2:$V$685)","v":0},{"$f":"SUMIF(BDD!$BC$2:$BC$685,\"Chambre SourdeVRAIFAUXVRAIFAUXFAUX\",BDD!$V$2:$V$685)","v":0},{"$f":"SUMIF(BDD!$BC$2:$BC$685,\"Chambre SourdeVRAIFAUXFAUXVRAIFAUX\",BDD!$V$2:$V$685)","v":0},{"$f":"SUMIF(BDD!$BC$2:$BC$685,\"Chambre SourdeVRAIFAUXFAUXFAUXVRAI\",BDD!$V$2:$V$685)","v":0},{"$f":"SUMIF(BDD!$BC$2:$BC$685,\"Chambre SourdeFAUXVRAIVRAIFAUXFAUX\",BDD!$V$2:$V$685)","v":0},{"$f":"SUMIF(BDD!$BC$2:$BC$685,\"Chambre SourdeFAUXVRAIFAUXVRAIFAUX\",BDD!$V$2:$V$685)","v":0},{"$f":"SUMIF(BDD!$BC$2:$BC$685,\"Chambre SourdeFAUXVRAIFAUXFAUXVRAI\",BDD!$V$2:$V$685)","v":0},{"$f":"SUMIF(BDD!$BC$2:$BC$685,\"Chambre SourdeVRAIFAUXVRAIFAUXFAUX\",BDD!$V$2:$V$685)","v":0},{"$f":"SUMIF(BDD!$BC$2:$BC$685,\"Chambre SourdeVRAIFAUXFAUXVRAIFAUX\",BDD!$V$2:$V$685)","v":0},{"$f":"SUMIF(BDD!$BC$2:$BC$685,\"Chambre SourdeVRAIFAUXFAUXFAUXVRAI\",BDD!$V$2:$V$685)","v":0},{"$f":"SUMIF(BDD!$BC$2:$BC$685,\"Chambre SourdeFAUXVRAIVRAIFAUXFAUX\",BDD!$V$2:$V$685)","v":0},{"$f":"SUMIF(BDD!$BC$2:$BC$685,\"Chambre SourdeFAUXVRAIFAUXVRAIFAUX\",BDD!$V$2:$V$685)","v":0},{"$f":"SUMIF(BDD!$BC$2:$BC$685,\"Chambre SourdeFAUXVRAIFAUXFAUXVRAI\",BDD!$V$2:$V$685)","v":0},{"$f":"SUMIF(BDD!$BC$2:$BC$685,\"Chambre SourdeVRAIFAUXVRAIFAUXFAUX\",BDD!$V$2:$V$685)","v":0},{"$f":"SUMIF(BDD!$BC$2:$BC$685,\"Chambre SourdeVRAIFAUXFAUXVRAIFAUX\",BDD!$V$2:$V$685)","v":0},{"$f":"SUMIF(BDD!$BC$2:$BC$685,\"Chambre SourdeVRAIFAUXFAUXFAUXVRAI\",BDD!$V$2:$V$685)","v":0},{"$f":"SUMIF(BDD!$BC$2:$BC$685,\"Chambre SourdeFAUXVRAIVRAIFAUXFAUX\",BDD!$V$2:$V$685)","v":0},{"$f":"SUMIF(BDD!$BC$2:$BC$685,\"Chambre SourdeFAUXVRAIFAUXVRAIFAUX\",BDD!$V$2:$V$685)","v":0},{"$f":"SUMIF(BDD!$BC$2:$BC$685,\"Chambre SourdeFAUXVRAIFAUXFAUXVRAI\",BDD!$V$2:$V$685)","v":0},{"$f":"SUMIF(BDD!$BC$2:$BC$685,\"Chambre SourdeVRAIFAUXVRAIFAUXFAUX\",BDD!$V$2:$V$685)","v":0},{"$f":"SUMIF(BDD!$BC$2:$BC$685,\"Chambre SourdeVRAIFAUXFAUXVRAIFAUX\",BDD!$V$2:$V$685)","v":0},{"$f":"SUMIF(BDD!$BC$2:$BC$685,\"Chambre SourdeVRAIFAUXFAUXFAUXVRAI\",BDD!$V$2:$V$685)","v":0},{"$f":"SUMIF(BDD!$BC$2:$BC$685,\"Chambre SourdeFAUXVRAIVRAIFAUXFAUX\",BDD!$V$2:$V$685)","v":0},{"$f":"SUMIF(BDD!$BC$2:$BC$685,\"Chambre SourdeFAUXVRAIFAUXVRAIFAUX\",BDD!$V$2:$V$685)","v":0},{"$f":"SUMIF(BDD!$BC$2:$BC$685,\"Chambre SourdeFAUXVRAIFAUXFAUXVRAI\",BDD!$V$2:$V$685)","v":0},{"$f":"SUMIF(BDD!$BC$2:$BC$685,\"Chambre SourdeVRAIFAUXVRAIFAUXFAUX\",BDD!$V$2:$V$685)","v":0},{"$f":"SUMIF(BDD!$BC$2:$BC$685,\"Chambre SourdeVRAIFAUXFAUXVRAIFAUX\",BDD!$V$2:$V$685)","v":0},{"$f":"SUMIF(BDD!$BC$2:$BC$685,\"Chambre SourdeVRAIFAUXFAUXFAUXVRAI\",BDD!$V$2:$V$685)","v":0},{"$f":"SUMIF(BDD!$BC$2:$BC$685,\"Chambre SourdeFAUXVRAIVRAIFAUXFAUX\",BDD!$V$2:$V$685)","v":0},{"$f":"SUMIF(BDD!$BC$2:$BC$685,\"Chambre SourdeFAUXVRAIFAUXVRAIFAUX\",BDD!$V$2:$V$685)","v":0},{"$f":"SUMIF(BDD!$BC$2:$BC$685,\"Chambre SourdeFAUXVRAIFAUXFAUXVRAI\",BDD!$V$2:$V$685)","v":0},{"$f":"SUMIF(BDD!$BC$2:$BC$685,\"Chambre SourdeVRAIFAUXVRAIFAUXFAUX\",BDD!$V$2:$V$685)","v":0},{"$f":"SUMIF(BDD!$BC$2:$BC$685,\"Chambre SourdeVRAIFAUXFAUXVRAIFAUX\",BDD!$V$2:$V$685)","v":0},{"$f":"SUMIF(BDD!$BC$2:$BC$685,\"Chambre SourdeVRAIFAUXFAUXFAUXVRAI\",BDD!$V$2:$V$685)","v":0},{"$f":"SUMIF(BDD!$BC$2:$BC$685,\"Chambre SourdeFAUXVRAIVRAIFAUXFAUX\",BDD!$V$2:$V$685)","v":0},{"$f":"SUMIF(BDD!$BC$2:$BC$685,\"Chambre SourdeFAUXVRAIFAUXVRAIFAUX\",BDD!$V$2:$V$685)","v":0},{"$f":"SUMIF(BDD!$BC$2:$BC$685,\"Chambre SourdeFAUXVRAIFAUXFAUXVRAI\",BDD!$V$2:$V$685)","v":0},{"$f":"SUMIF(BDD!$BC$2:$BC$685,\"Chambre SourdeVRAIFAUXVRAIFAUXFAUX\",BDD!$V$2:$V$685)","v":0},{"$f":"SUMIF(BDD!$BC$2:$BC$685,\"Chambre SourdeVRAIFAUXFAUXVRAIFAUX\",BDD!$V$2:$V$685)","v":0},{"$f":"SUMIF(BDD!$BC$2:$BC$685,\"Chambre SourdeVRAIFAUXFAUXFAUXVRAI\",BDD!$V$2:$V$685)","v":0},{"$f":"SUMIF(BDD!$BC$2:$BC$685,\"Chambre SourdeFAUXVRAIVRAIFAUXFAUX\",BDD!$V$2:$V$685)","v":0},{"$f":"SUMIF(BDD!$BC$2:$BC$685,\"Chambre SourdeFAUXVRAIFAUXVRAIFAUX\",BDD!$V$2:$V$685)","v":0},{"$f":"SUMIF(BDD!$BC$2:$BC$685,\"Chambre SourdeFAUXVRAIFAUXFAUXVRAI\",BDD!$V$2:$V$685)","v":0}]

{"sheet":"Indicateur Zone8","index":5,"n_rows":97,"n_cols":73,"rows_kept":97,"cut":false,"hidden":false,"merged":[[1,1,1,12],[30,1,30,12],[54,1,54,12],[55,1,55,2],[55,3,55,4],[55,5,55,6],[55,7,55,8],[55,9,55,10],[55,11,55,12],[55,23,55,24],[86,1,86,21],[87,1,87,6],[87,7,87,12],[87,13,87,18],[87,19,87,24],[55,13,55,14],[55,15,55,16],[55,17,55,18],[55,19,55,20],[55,21,55,22],[87,25,87,30],[87,31,87,36],[87,37,87,42],[87,43,87,48],[87,49,87,54],[87,55,87,60],[87,61,87,66],[87,67,87,72],[88,1,88,3],[88,4,88,6],[88,7,88,9],[88,10,88,12],[88,13,88,15],[88,16,88,18],[88,19,88,21],[88,22,88,24],[88,25,88,27],[88,28,88,30],[88,31,88,33],[88,34,88,36],[88,37,88,39],[88,40,88,42],[88,43,88,45],[88,46,88,48],[88,49,88,51],[88,52,88,54],[88,70,88,72],[88,55,88,57],[88,58,88,60],[88,61,88,63],[88,64,88,66],[88,67,88,69]]}
[]
[null,"Suivi des arrêts par banc"]
["Banc zone 8","Janvier","Février","Mars","Avril","Mai","Juin","Juillet","Août","Septembre","Octobre","Novembre","Décembre"]
["Banc P5",{"$f":"SUMIF(BDD!$H$2:$H$685,'Indicateur Zone8'!$A$4,BDD!$V$2:$V$685)","v":0},{"$f":"SUMIF(BDD!$H$2:$H$685,'Indicateur Zone8'!$A$4,BDD!$V$2:$V$685)","v":0},{"$f":"SUMIF(BDD!$H$2:$H$685,'Indicateur Zone8'!$A$4,BDD!$V$2:$V$685)","v":0},{"$f":"SUMIF(BDD!$H$2:$H$685,'Indicateur Zone8'!$A$4,BDD!$V$2:$V$685)","v":0},{"$f":"SUMIF(BDD!$H$2:$H$685,'Indicateur Zone8'!$A$4,BDD!$V$2:$V$685)","v":0},{"$f":"SUMIF(BDD!$H$2:$H$685,'Indicateur Zone8'!$A$4,BDD!$V$2:$V$685)","v":0},{"$f":"SUMIF(BDD!$H$2:$H$685,'Indicateur Zone8'!$A$4,BDD!$V$2:$V$685)","v":0},{"$f":"SUMIF(BDD!$H$2:$H$685,'Indicateur Zone8'!$A$4,BDD!$V$2:$V$685)","v":0},{"$f":"SUMIF(BDD!$H$2:$H$685,'Indicateur Zone8'!$A$4,BDD!$V$2:$V$685)","v":0},{"$f":"SUMIF(BDD!$H$2:$H$685,'Indicateur Zone8'!$A$4,BDD!$V$2:$V$685)","v":0},{"$f":"SUMIF(BDD!$H$2:$H$685,'Indicateur Zone8'!$A$4,BDD!$V$2:$V$685)","v":0},{"$f":"SUMIF(BDD!$H$2:$H$685,'Indicateur Zone8'!$A$4,BDD!$V$2:$V$685)","v":0}]
["Banc P7",{"$f":"SUMIF(BDD!$H$2:$H$685,'Indicateur Zone8'!$A$5,BDD!$V$2:$V$685)","v":1},{"$f":"SUMIF(BDD!$H$2:$H$685,'Indicateur Zone8'!$A$5,BDD!$V$2:$V$685)","v":1},{"$f":"SUMIF(BDD!$H$2:$H$685,'Indicateur Zone8'!$A$5,BDD!$V$2:$V$685)","v":1},{"$f":"SUMIF(BDD!$H$2:$H$685,'Indicateur Zone8'!$A$5,BDD!$V$2:$V$685)","v":1},{"$f":"SUMIF(BDD!$H$2:$H$685,'Indicateur Zone8'!$A$5,BDD!$V$2:$V$685)","v":1},{"$f":"SUMIF(BDD!$H$2:$H$685,'Indicateur Zone8'!$A$5,BDD!$V$2:$V$685)","v":1},{"$f":"SUMIF(BDD!$H$2:$H$685,'Indicateur Zone8'!$A$5,BDD!$V$2:$V$685)","v":1},{"$f":"SUMIF(BDD!$H$2:$H$685,'Indicateur Zone8'!$A$5,BDD!$V$2:$V$685)","v":1},{"$f":"SUMIF(BDD!$H$2:$H$685,'Indicateur Zone8'!$A$5,BDD!$V$2:$V$685)","v":1},{"$f":"SUMIF(BDD!$H$2:$H$685,'Indicateur Zone8'!$A$5,BDD!$V$2:$V$685)","v":1},{"$f":"SUMIF(BDD!$H$2:$H$685,'Indicateur Zone8'!$A$5,BDD!$V$2:$V$685)","v":1},{"$f":"SUMIF(BDD!$H$2:$H$685,'Indicateur Zone8'!$A$5,BDD!$V$2:$V$685)","v":1}]
["Banc 101",{"$f":"SUMIF(BDD!$H$2:$H$685,'Indicateur Zone8'!$A$6,BDD!$V$2:$V$685)","v":0},{"$f":"SUMIF(BDD!$H$2:$H$685,'Indicateur Zone8'!$A$6,BDD!$V$2:$V$685)","v":0},{"$f":"SUMIF(BDD!$H$2:$H$685,'Indicateur Zone8'!$A$6,BDD!$V$2:$V$685)","v":0},{"$f":"SUMIF(BDD!$H$2:$H$685,'Indicateur Zone8'!$A$6,BDD!$V$2:$V$685)","v":0},{"$f":"SUMIF(BDD!$H$2:$H$685,'Indicateur Zone8'!$A$6,BDD!$V$2:$V$685)","v":0},{"$f":"SUMIF(BDD!$H$2:$H$685,'Indicateur Zone8'!$A$6,BDD!$V$2:$V$685)","v":0},{"$f":"SUMIF(BDD!$H$2:$H$685,'Indicateur Zone8'!$A$6,BDD!$V$2:$V$685)","v":0},{"$f":"SUMIF(BDD!$H$2:$H$685,'Indicateur Zone8'!$A$6,BDD!$V$2:$V$685)","v":0},{"$f":"SUMIF(BDD!$H$2:$H$685,'Indicateur Zone8'!$A$6,BDD!$V$2:$V$685)","v":0},{"$f":"SUMIF(BDD!$H$2:$H$685,'Indicateur Zone8'!$A$6,BDD!$V$2:$V$685)","v":0},{"$f":"SUMIF(BDD!$H$2:$H$685,'Indicateur Zone8'!$A$6,BDD!$V$2:$V$685)","v":0},{"$f":"SUMIF(BDD!$H$2:$H$685,'Indicateur Zone8'!$A$6,BDD!$V$2:$V$685)","v":0}]
["Banc 104",{"$f":"SUMIF(BDD!$H$2:$H$685,'Indicateur Zone8'!$A$7,BDD!$V$2:$V$685)","v":0},{"$f":"SUMIF(BDD!$H$2:$H$685,'Indicateur Zone8'!$A$7,BDD!$V$2:$V$685)","v":0},{"$f":"SUMIF(BDD!$H$2:$H$685,'Indicateur Zone8'!$A$7,BDD!$V$2:$V$685)","v":0},{"$f":"SUMIF(BDD!$H$2:$H$685,'Indicateur Zone8'!$A$7,BDD!$V$2:$V$685)","v":0},{"$f":"SUMIF(BDD!$H$2:$H$685,'Indicateur Zone8'!$A$7,BDD!$V$2:$V$685)","v":0},{"$f":"SUMIF(BDD!$H$2:$H$685,'Indicateur Zone8'!$A$7,BDD!$V$2:$V$685)","v":0},{"$f":"SUMIF(BDD!$H$2:$H$685,'Indicateur Zone8'!$A$7,BDD!$V$2:$V$685)","v":0},{"$f":"SUMIF(BDD!$H$2:$H$685,'Indicateur Zone8'!$A$7,BDD!$V$2:$V$685)","v":0},{"$f":"SUMIF(BDD!$H$2:$H$685,'Indicateur Zone8'!$A$7,BDD!$V$2:$V$685)","v":0},{"$f":"SUMIF(BDD!$H$2:$H$685,'Indicateur Zone8'!$A$7,BDD!$V$2:$V$685)","v":0},{"$f":"SUMIF(BDD!$H$2:$H$685,'Indicateur Zone8'!$A$7,BDD!$V$2:$V$685)","v":0},{"$f":"SUMIF(BDD!$H$2:$H$685,'Indicateur Zone8'!$A$7,BDD!$V$2:$V$685)","v":0}]
["Banc 121",{"$f":"SUMIF(BDD!$H$2:$H$685,'Indicateur Zone8'!$A$8,BDD!$V$2:$V$685)","v":0},{"$f":"SUMIF(BDD!$H$2:$H$685,'Indicateur Zone8'!$A$8,BDD!$V$2:$V$685)","v":0},{"$f":"SUMIF(BDD!$H$2:$H$685,'Indicateur Zone8'!$A$8,BDD!$V$2:$V$685)","v":0},{"$f":"SUMIF(BDD!$H$2:$H$685,'Indicateur Zone8'!$A$8,BDD!$V$2:$V$685)","v":0},{"$f":"SUMIF(BDD!$H$2:$H$685,'Indicateur Zone8'!$A$8,BDD!$V$2:$V$685)","v":0},{"$f":"SUMIF(BDD!$H$2:$H$685,'Indicateur Zone8'!$A$8,BDD!$V$2:$V$685)","v":0},{"$f":"SUMIF(BDD!$H$2:$H$685,'Indicateur Zone8'!$A$8,BDD!$V$2:$V$685)","v":0},{"$f":"SUMIF(BDD!$H$2:$H$685,'Indicateur Zone8'!$A$8,BDD!$V$2:$V$685)","v":0},{"$f":"SUMIF(BDD!$H$2:$H$685,'Indicateur Zone8'!$A$8,BDD!$V$2:$V$685)","v":0},{"$f":"SUMIF(BDD!$H$2:$H$685,'Indicateur Zone8'!$A$8,BDD!$V$2:$V$685)","v":0},{"$f":"SUMIF(BDD!$H$2:$H$685,'Indicateur Zone8'!$A$8,BDD!$V$2:$V$685)","v":0},{"$f":"SUMIF(BDD!$H$2:$H$685,'Indicateur Zone8'!$A$8,BDD!$V$2:$V$685)","v":0}]
["Pompe à eau",{"$f":"SUMIF(BDD!$H$2:$H$685,'Indicateur Zone8'!$A$9,BDD!$V$2:$V$685)","v":0},{"$f":"SUMIF(BDD!$H$2:$H$685,'Indicateur Zone8'!$A$9,BDD!$V$2:$V$685)","v":0},{"$f":"SUMIF(BDD!$H$2:$H$685,'Indicateur Zone8'!$A$9,BDD!$V$2:$V$685)","v":0},{"$f":"SUMIF(BDD!$H$2:$H$685,'Indicateur Zone8'!$A$9,BDD!$V$2:$V$685)","v":0},{"$f":"SUMIF(BDD!$H$2:$H$685,'Indicateur Zone8'!$A$9,BDD!$V$2:$V$685)","v":0},{"$f":"SUMIF(BDD!$H$2:$H$685,'Indicateur Zone8'!$A$9,BDD!$V$2:$V$685)","v":0},{"$f":"SUMIF(BDD!$H$2:$H$685,'Indicateur Zone8'!$A$9,BDD!$V$2:$V$685)","v":0},{"$f":"SUMIF(BDD!$H$2:$H$685,'Indicateur Zone8'!$A$9,BDD!$V$2:$V$685)","v":0},{"$f":"SUMIF(BDD!$H$2:$H$685,'Indicateur Zone8'!$A$9,BDD!$V$2:$V$685)","v":0},{"$f":"SUMIF(BDD!$H$2:$H$685,'Indicateur Zone8'!$A$9,BDD!$V$2:$V$685)","v":0},{"$f":"SUMIF(BDD!$H$2:$H$685,'Indicateur Zone8'!$A$9,BDD!$V$2:$V$685)","v":0},{"$f":"SUMIF(BDD!$H$2:$H$685,'Indicateur Zone8'!$A$9,BDD!$V$2:$V$685)","v":0}]
["Banc PowerTrain",{"$f":"SUMIF(BDD!$H$2:$H$685,'Indicateur Zone8'!$A$10,BDD!$V$2:$V$685)","v":0},{"$f":"SUMIF(BDD!$H$2:$H$685,'Indicateur Zone8'!$A$10,BDD!$V$2:$V$685)","v":0},{"$f":"SUMIF(BDD!$H$2:$H$685,'Indicateur Zone8'!$A$10,BDD!$V$2:$V$685)","v":0},{"$f":"SUMIF(BDD!$H$2:$H$685,'Indicateur Zone8'!$A$10,BDD!$V$2:$V$685)","v":0},{"$f":"SUMIF(BDD!$H$2:$H$685,'Indicateur Zone8'!$A$10,BDD!$V$2:$V$685)","v":0},{"$f":"SUMIF(BDD!$H$2:$H$685,'Indicateur Zone8'!$A$10,BDD!$V$2:$V$685)","v":0},{"$f":"SUMIF(BDD!$H$2:$H$685,'Indicateur Zone8'!$A$10,BDD!$V$2:$V$685)","v":0},{"$f":"SUMIF(BDD!$H$2:$H$685,'Indicateur Zone8'!$A$10,BDD!$V$2:$V$685)","v":0},{"$f":"SUMIF(BDD!$H$2:$H$685,'Indicateur Zone8'!$A$10,BDD!$V$2:$V$685)","v":0},{"$f":"SUMIF(BDD!$H$2:$H$685,'Indicateur Zone8'!$A$10,BDD!$V$2:$V$685)","v":0},{"$f":"SUMIF(BDD!$H$2:$H$685,'Indicateur Zone8'!$A$10,BDD!$V$2:$V$685)","v":0},{"$f":"SUMIF(BDD!$H$2:$H$685,'Indicateur Zone8'!$A$10,BDD!$V$2:$V$685)","v":0}]
[]
[]
[]
[]
[]
[]
[]
[]
[]
[]
[]
[]
[]
[]
[]
[]
[]
[]
[]
[]
[null,"Suivi du correctif et du préventif"]
["Type de maintenance","Janvier","Février","Mars","Avril","Mai","Juin","Juillet","Août","Septembre","Octobre","Novembre","Décembre"]
["Préventive",{"$f":"SUM(C58:C64)","v":0},{"$f":"SUM(E58:E64)","v":0},{"$f":"SUM(G58:G64)","v":0},{"$f":"SUM(I58:I64)","v":0},{"$f":"SUM(K58:K64)","v":0},{"$f":"SUM(M58:M64)","v":0},{"$f":"SUM(O58:O64)","v":0},{"$f":"SUM(Q58:Q64)","v":0},{"$f":"SUM(S58:S64)","v":0},{"$f":"SUM(U58:U64)","v":0},{"$f":"SUM(W58:W64)","v":0},{"$f":"SUM(Y58:Y64)","v":0}]
["Corrective",{"$f":"SUM(B58:B64)","v":1},{"$f":"SUM(D58:D64)","v":1},{"$f":"SUM(F58:F64)","v":1},{"$f":"SUM(H58:H64)","v":1},{"$f":"SUM(J58:J64)","v":1},{"$f":"SUM(L58:L64)","v":1},{"$f":"SUM(N58:N64)","v":1},{"$f":"SUM(N58:N64)","v":1},{"$f":"SUM(R58:R64)","v":1},{"$f":"SUM(T58:T64)","v":1},{"$f":"SUM(V58:V64)","v":1},{"$f":"SUM(X58:X64)","v":1}]
[]
[]
[]
[]
[]
[]
[]
[]
[]
[]
[]
[]
[]
[]
[]
[]
[]
[]
[]
[]
[null,"Suivi du correctif et du préventif par banc"]
[null,"Janvier",null,"Février",null,"Mars",null,"Avril",null,"Mai",null,"Juin",null,"Juillet",null,"Août",null,"Septembre",null,"Octobre",null,"Novembre",null,"Décembre"]
["Banc zone 8","Corrective","Préventive","Corrective","Préventive","Corrective","Préventive","Corrective","Préventive","Corrective","Préventive","Corrective","Préventive","Corrective","Préventive","Corrective","Préventive","Corrective","Préventive","Corrective","Préventive","Corrective","Préventive","Corrective","Préventive"]
["Banc P5",{"$f":"SUMIF(BDD!$BB$2:$BB$685,\"Banc P5VRAIFAUX\",BDD!$V$2:$V$685)","v":0},{"$f":"SUMIF(BDD!$BB$2:$BB$685,\"Banc P5FAUXvrai\",BDD!$V$2:$V$685)","v":0},{"$f":"SUMIF(BDD!$BB$2:$BB$685,\"Banc P5VRAIFAUX\",BDD!$V$2:$V$685)","v":0},{"$f":"SUMIF(BDD!$BB$2:$BB$685,\"Banc P5FAUXvrai\",BDD!$V$2:$V$685)","v":0},{"$f":"SUMIF(BDD!$BB$2:$BB$685,\"Banc P5VRAIFAUX\",BDD!$V$2:$V$685)","v":0},{"$f":"SUMIF(BDD!$BB$2:$BB$685,\"Banc P5FAUXvrai\",BDD!$V$2:$V$685)","v":0},{"$f":"SUMIF(BDD!$BB$2:$BB$685,\"Banc P5VRAIFAUX\",BDD!$V$2:$V$685)","v":0},{"$f":"SUMIF(BDD!$BB$2:$BB$685,\"Banc P5FAUXvrai\",BDD!$V$2:$V$685)","v":0},{"$f":"SUMIF(BDD!$BB$2:$BB$685,\"Banc P5VRAIFAUX\",BDD!$V$2:$V$685)","v":0},{"$f":"SUMIF(BDD!$BB$2:$BB$685,\"Banc P5FAUXvrai\",BDD!$V$2:$V$685)","v":0},{"$f":"SUMIF(BDD!$BB$2:$BB$685,\"Banc P5VRAIFAUX\",BDD!$V$2:$V$685)","v":0},{"$f":"SUMIF(BDD!$BB$2:$BB$685,\"Banc P5FAUXvrai\",BDD!$V$2:$V$685)","v":0},{"$f":"SUMIF(BDD!$BB$2:$BB$685,\"Banc P5VRAIFAUX\",BDD!$V$2:$V$685)","v":0},{"$f":"SUMIF(BDD!$BB$2:$BB$685,\"Banc P5FAUXvrai\",BDD!$V$2:$V$685)","v":0},{"$f":"SUMIF(BDD!$BB$2:$BB$685,\"Banc P5VRAIFAUX\",BDD!$V$2:$V$685)","v":0},{"$f":"SUMIF(BDD!$BB$2:$BB$685,\"Banc P5FAUXvrai\",BDD!$V$2:$V$685)","v":0},{"$f":"SUMIF(BDD!$BB$2:$BB$685,\"Banc P5VRAIFAUX\",BDD!$V$2:$V$685)","v":0},{"$f":"SUMIF(BDD!$BB$2:$BB$685,\"Banc P5FAUXvrai\",BDD!$V$2:$V$685)","v":0},{"$f":"SUMIF(BDD!$BB$2:$BB$685,\"Banc P5VRAIFAUX\",BDD!$V$2:$V$685)","v":0},{"$f":"SUMIF(BDD!$BB$2:$BB$685,\"Banc P5FAUXvrai\",BDD!$V$2:$V$685)","v":0},{"$f":"SUMIF(BDD!$BB$2:$BB$685,\"Banc P5VRAIFAUX\",BDD!$V$2:$V$685)","v":0},{"$f":"SUMIF(BDD!$BB$2:$BB$685,\"Banc P5FAUXvrai\",BDD!$V$2:$V$685)","v":0},{"$f":"SUMIF(BDD!$BB$2:$BB$685,\"Banc P5VRAIFAUX\",BDD!$V$2:$V$685)","v":0},{"$f":"SUMIF(BDD!$BB$2:$BB$685,\"Banc P5FAUXvrai\",BDD!$V$2:$V$685)","v":0}]
["Banc P7",{"$f":"SUMIF(BDD!$BB$2:$BB$685,\"Banc P7VRAIFAUX\",BDD!$V$2:$V$685)","v":1},{"$f":"SUMIF(BDD!$BB$2:$BB$685,\"Banc P7FAUXVRAI\",BDD!$V$2:$V$685)","v":0},{"$f":"SUMIF(BDD!$BB$2:$BB$685,\"Banc P7VRAIFAUX\",BDD!$V$2:$V$685)","v":1},{"$f":"SUMIF(BDD!$BB$2:$BB$685,\"Banc P7FAUXVRAI\",BDD!$V$2:$V$685)","v":0},{"$f":"SUMIF(BDD!$BB$2:$BB$685,\"Banc P7VRAIFAUX\",BDD!$V$2:$V$685)","v":1},{"$f":"SUMIF(BDD!$BB$2:$BB$685,\"Banc P7FAUXVRAI\",BDD!$V$2:$V$685)","v":0},{"$f":"SUMIF(BDD!$BB$2:$BB$685,\"Banc P7VRAIFAUX\",BDD!$V$2:$V$685)","v":1},{"$f":"SUMIF(BDD!$BB$2:$BB$685,\"Banc P7FAUXVRAI\",BDD!$V$2:$V$685)","v":0},{"$f":"SUMIF(BDD!$BB$2:$BB$685,\"Banc P7VRAIFAUX\",BDD!$V$2:$V$685)","v":1},{"$f":"SUMIF(BDD!$BB$2:$BB$685,\"Banc P7FAUXVRAI\",BDD!$V$2:$V$685)","v":0},{"$f":"SUMIF(BDD!$BB$2:$BB$685,\"Banc P7VRAIFAUX\",BDD!$V$2:$V$685)","v":1},{"$f":"SUMIF(BDD!$BB$2:$BB$685,\"Banc P7FAUXVRAI\",BDD!$V$2:$V$685)","v":0},{"$f":"SUMIF(BDD!$BB$2:$BB$685,\"Banc P7VRAIFAUX\",BDD!$V$2:$V$685)","v":1},{"$f":"SUMIF(BDD!$BB$2:$BB$685,\"Banc P7FAUXVRAI\",BDD!$V$2:$V$685)","v":0},{"$f":"SUMIF(BDD!$BB$2:$BB$685,\"Banc P7VRAIFAUX\",BDD!$V$2:$V$685)","v":1},{"$f":"SUMIF(BDD!$BB$2:$BB$685,\"Banc P7FAUXVRAI\",BDD!$V$2:$V$685)","v":0},{"$f":"SUMIF(BDD!$BB$2:$BB$685,\"Banc P7VRAIFAUX\",BDD!$V$2:$V$685)","v":1},{"$f":"SUMIF(BDD!$BB$2:$BB$685,\"Banc P7FAUXVRAI\",BDD!$V$2:$V$685)","v":0},{"$f":"SUMIF(BDD!$BB$2:$BB$685,\"Banc P7VRAIFAUX\",BDD!$V$2:$V$685)","v":1},{"$f":"SUMIF(BDD!$BB$2:$BB$685,\"Banc P7FAUXVRAI\",BDD!$V$2:$V$685)","v":0},{"$f":"SUMIF(BDD!$BB$2:$BB$685,\"Banc P7VRAIFAUX\",BDD!$V$2:$V$685)","v":1},{"$f":"SUMIF(BDD!$BB$2:$BB$685,\"Banc P7FAUXVRAI\",BDD!$V$2:$V$685)","v":0},{"$f":"SUMIF(BDD!$BB$2:$BB$685,\"Banc P7VRAIFAUX\",BDD!$V$2:$V$685)","v":1},{"$f":"SUMIF(BDD!$BB$2:$BB$685,\"Banc P7FAUXVRAI\",BDD!$V$2:$V$685)","v":0}]
["Banc 101",{"$f":"SUMIF(BDD!$BB$2:$BB$685,\"Banc 101VRAIFAUX\",BDD!$V$2:$V$685)","v":0},{"$f":"SUMIF(BDD!$BB$2:$BB$685,\"Banc 101FAUXVRAI\",BDD!$V$2:$V$685)","v":0},{"$f":"SUMIF(BDD!$BB$2:$BB$685,\"Banc 101VRAIFAUX\",BDD!$V$2:$V$685)","v":0},{"$f":"SUMIF(BDD!$BB$2:$BB$685,\"Banc 101FAUXVRAI\",BDD!$V$2:$V$685)","v":0},{"$f":"SUMIF(BDD!$BB$2:$BB$685,\"Banc 101VRAIFAUX\",BDD!$V$2:$V$685)","v":0},{"$f":"SUMIF(BDD!$BB$2:$BB$685,\"Banc 101FAUXVRAI\",BDD!$V$2:$V$685)","v":0},{"$f":"SUMIF(BDD!$BB$2:$BB$685,\"Banc 101VRAIFAUX\",BDD!$V$2:$V$685)","v":0},{"$f":"SUMIF(BDD!$BB$2:$BB$685,\"Banc 101FAUXVRAI\",BDD!$V$2:$V$685)","v":0},{"$f":"SUMIF(BDD!$BB$2:$BB$685,\"Banc 101VRAIFAUX\",BDD!$V$2:$V$685)","v":0},{"$f":"SUMIF(BDD!$BB$2:$BB$685,\"Banc 101FAUXVRAI\",BDD!$V$2:$V$685)","v":0},{"$f":"SUMIF(BDD!$BB$2:$BB$685,\"Banc 101VRAIFAUX\",BDD!$V$2:$V$685)","v":0},{"$f":"SUMIF(BDD!$BB$2:$BB$685,\"Banc 101FAUXVRAI\",BDD!$V$2:$V$685)","v":0},{"$f":"SUMIF(BDD!$BB$2:$BB$685,\"Banc 101VRAIFAUX\",BDD!$V$2:$V$685)","v":0},{"$f":"SUMIF(BDD!$BB$2:$BB$685,\"Banc 101FAUXVRAI\",BDD!$V$2:$V$685)","v":0},{"$f":"SUMIF(BDD!$BB$2:$BB$685,\"Banc 101VRAIFAUX\",BDD!$V$2:$V$685)","v":0},{"$f":"SUMIF(BDD!$BB$2:$BB$685,\"Banc 101FAUXVRAI\",BDD!$V$2:$V$685)","v":0},{"$f":"SUMIF(BDD!$BB$2:$BB$685,\"Banc 101VRAIFAUX\",BDD!$V$2:$V$685)","v":0},{"$f":"SUMIF(BDD!$BB$2:$BB$685,\"Banc 101FAUXVRAI\",BDD!$V$2:$V$685)","v":0},{"$f":"SUMIF(BDD!$BB$2:$BB$685,\"Banc 101VRAIFAUX\",BDD!$V$2:$V$685)","v":0},{"$f":"SUMIF(BDD!$BB$2:$BB$685,\"Banc 101FAUXVRAI\",BDD!$V$2:$V$685)","v":0},{"$f":"SUMIF(BDD!$BB$2:$BB$685,\"Banc 101VRAIFAUX\",BDD!$V$2:$V$685)","v":0},{"$f":"SUMIF(BDD!$BB$2:$BB$685,\"Banc 101FAUXVRAI\",BDD!$V$2:$V$685)","v":0},{"$f":"SUMIF(BDD!$BB$2:$BB$685,\"Banc 101VRAIFAUX\",BDD!$V$2:$V$685)","v":0},{"$f":"SUMIF(BDD!$BB$2:$BB$685,\"Banc 101FAUXVRAI\",BDD!$V$2:$V$685)","v":0}]
["Banc 104",{"$f":"SUMIF(BDD!$BB$2:$BB$685,\"Banc 104VRAIFAUX\",BDD!$V$2:$V$685)","v":0},{"$f":"SUMIF(BDD!$BB$2:$BB$685,\"Banc 104FAUXVRAI\",BDD!$V$2:$V$685)","v":0},{"$f":"SUMIF(BDD!$BB$2:$BB$685,\"Banc 104VRAIFAUX\",BDD!$V$2:$V$685)","v":0},{"$f":"SUMIF(BDD!$BB$2:$BB$685,\"Banc 104FAUXVRAI\",BDD!$V$2:$V$685)","v":0},{"$f":"SUMIF(BDD!$BB$2:$BB$685,\"Banc 104VRAIFAUX\",BDD!$V$2:$V$685)","v":0},{"$f":"SUMIF(BDD!$BB$2:$BB$685,\"Banc 104FAUXVRAI\",BDD!$V$2:$V$685)","v":0},{"$f":"SUMIF(BDD!$BB$2:$BB$685,\"Banc 104VRAIFAUX\",BDD!$V$2:$V$685)","v":0},{"$f":"SUMIF(BDD!$BB$2:$BB$685,\"Banc 104FAUXVRAI\",BDD!$V$2:$V$685)","v":0},{"$f":"SUMIF(BDD!$BB$2:$BB$685,\"Banc 104VRAIFAUX\",BDD!$V$2:$V$685)","v":0},{"$f":"SUMIF(BDD!$BB$2:$BB$685,\"Banc 104FAUXVRAI\",BDD!$V$2:$V$685)","v":0},{"$f":"SUMIF(BDD!$BB$2:$BB$685,\"Banc 104VRAIFAUX\",BDD!$V$2:$V$685)","v":0},{"$f":"SUMIF(BDD!$BB$2:$BB$685,\"Banc 104FAUXVRAI\",BDD!$V$2:$V$685)","v":0},{"$f":"SUMIF(BDD!$BB$2:$BB$685,\"Banc 104VRAIFAUX\",BDD!$V$2:$V$685)","v":0},{"$f":"SUMIF(BDD!$BB$2:$BB$685,\"Banc 104FAUXVRAI\",BDD!$V$2:$V$685)","v":0},{"$f":"SUMIF(BDD!$BB$2:$BB$685,\"Banc 104VRAIFAUX\",BDD!$V$2:$V$685)","v":0},{"$f":"SUMIF(BDD!$BB$2:$BB$685,\"Banc 104FAUXVRAI\",BDD!$V$2:$V$685)","v":0},{"$f":"SUMIF(BDD!$BB$2:$BB$685,\"Banc 104VRAIFAUX\",BDD!$V$2:$V$685)","v":0},{"$f":"SUMIF(BDD!$BB$2:$BB$685,\"Banc 104FAUXVRAI\",BDD!$V$2:$V$685)","v":0},{"$f":"SUMIF(BDD!$BB$2:$BB$685,\"Banc 104VRAIFAUX\",BDD!$V$2:$V$685)","v":0},{"$f":"SUMIF(BDD!$BB$2:$BB$685,\"Banc 104FAUXVRAI\",BDD!$V$2:$V$685)","v":0},{"$f":"SUMIF(BDD!$BB$2:$BB$685,\"Banc 104VRAIFAUX\",BDD!$V$2:$V$685)","v":0},{"$f":"SUMIF(BDD!$BB$2:$BB$685,\"Banc 104FAUXVRAI\",BDD!$V$2:$V$685)","v":0},{"$f":"SUMIF(BDD!$BB$2:$BB$685,\"Banc 104VRAIFAUX\",BDD!$V$2:$V$685)","v":0},{"$f":"SUMIF(BDD!$BB$2:$BB$685,\"Banc 104FAUXVRAI\",BDD!$V$2:$V$685)","v":0}]
["Banc 121",{"$f":"SUMIF(BDD!$BB$2:$BB$685,\"Banc 121VRAIFAUX\",BDD!$V$2:$V$685)","v":0},{"$f":"SUMIF(BDD!$BB$2:$BB$685,\"Banc 121FAUXVRAI\",BDD!$V$2:$V$685)","v":0},{"$f":"SUMIF(BDD!$BB$2:$BB$685,\"Banc 121VRAIFAUX\",BDD!$V$2:$V$685)","v":0},{"$f":"SUMIF(BDD!$BB$2:$BB$685,\"Banc 121FAUXVRAI\",BDD!$V$2:$V$685)","v":0},{"$f":"SUMIF(BDD!$BB$2:$BB$685,\"Banc 121VRAIFAUX\",BDD!$V$2:$V$685)","v":0},{"$f":"SUMIF(BDD!$BB$2:$BB$685,\"Banc 121FAUXVRAI\",BDD!$V$2:$V$685)","v":0},{"$f":"SUMIF(BDD!$BB$2:$BB$685,\"Banc 121VRAIFAUX\",BDD!$V$2:$V$685)","v":0},{"$f":"SUMIF(BDD!$BB$2:$BB$685,\"Banc 121FAUXVRAI\",BDD!$V$2:$V$685)","v":0},{"$f":"SUMIF(BDD!$BB$2:$BB$685,\"Banc 121VRAIFAUX\",BDD!$V$2:$V$685)","v":0},{"$f":"SUMIF(BDD!$BB$2:$BB$685,\"Banc 121FAUXVRAI\",BDD!$V$2:$V$685)","v":0},{"$f":"SUMIF(BDD!$BB$2:$BB$685,\"Banc 121VRAIFAUX\",BDD!$V$2:$V$685)","v":0},{"$f":"SUMIF(BDD!$BB$2:$BB$685,\"Banc 121FAUXVRAI\",BDD!$V$2:$V$685)","v":0},{"$f":"SUMIF(BDD!$BB$2:$BB$685,\"Banc 121VRAIFAUX\",BDD!$V$2:$V$685)","v":0},{"$f":"SUMIF(BDD!$BB$2:$BB$685,\"Banc 121FAUXVRAI\",BDD!$V$2:$V$685)","v":0},{"$f":"SUMIF(BDD!$BB$2:$BB$685,\"Banc 121VRAIFAUX\",BDD!$V$2:$V$685)","v":0},{"$f":"SUMIF(BDD!$BB$2:$BB$685,\"Banc 121FAUXVRAI\",BDD!$V$2:$V$685)","v":0},{"$f":"SUMIF(BDD!$BB$2:$BB$685,\"Banc 121VRAIFAUX\",BDD!$V$2:$V$685)","v":0},{"$f":"SUMIF(BDD!$BB$2:$BB$685,\"Banc 121FAUXVRAI\",BDD!$V$2:$V$685)","v":0},{"$f":"SUMIF(BDD!$BB$2:$BB$685,\"Banc 121VRAIFAUX\",BDD!$V$2:$V$685)","v":0},{"$f":"SUMIF(BDD!$BB$2:$BB$685,\"Banc 121FAUXVRAI\",BDD!$V$2:$V$685)","v":0},{"$f":"SUMIF(BDD!$BB$2:$BB$685,\"Banc 121VRAIFAUX\",BDD!$V$2:$V$685)","v":0},{"$f":"SUMIF(BDD!$BB$2:$BB$685,\"Banc 121FAUXVRAI\",BDD!$V$2:$V$685)","v":0},{"$f":"SUMIF(BDD!$BB$2:$BB$685,\"Banc 121VRAIFAUX\",BDD!$V$2:$V$685)","v":0},{"$f":"SUMIF(BDD!$BB$2:$BB$685,\"Banc 121FAUXVRAI\",BDD!$V$2:$V$685)","v":0}]
["Pompe à eau",{"$f":"SUMIF(BDD!$BB$2:$BB$685,\"pompe à eauVRAIFAUX\",BDD!$V$2:$V$685)","v":0},{"$f":"SUMIF(BDD!$BB$2:$BB$685,\"pompe à eauFAUXVRAI\",BDD!$V$2:$V$685)","v":0},{"$f":"SUMIF(BDD!$BB$2:$BB$685,\"pompe à eauVRAIFAUX\",BDD!$V$2:$V$685)","v":0},{"$f":"SUMIF(BDD!$BB$2:$BB$685,\"pompe à eauFAUXVRAI\",BDD!$V$2:$V$685)","v":0},{"$f":"SUMIF(BDD!$BB$2:$BB$685,\"pompe à eauVRAIFAUX\",BDD!$V$2:$V$685)","v":0},{"$f":"SUMIF(BDD!$BB$2:$BB$685,\"pompe à eauFAUXVRAI\",BDD!$V$2:$V$685)","v":0},{"$f":"SUMIF(BDD!$BB$2:$BB$685,\"pompe à eauVRAIFAUX\",BDD!$V$2:$V$685)","v":0},{"$f":"SUMIF(BDD!$BB$2:$BB$685,\"pompe à eauFAUXVRAI\",BDD!$V$2:$V$685)","v":0},{"$f":"SUMIF(BDD!$BB$2:$BB$685,\"pompe à eauVRAIFAUX\",BDD!$V$2:$V$685)","v":0},{"$f":"SUMIF(BDD!$BB$2:$BB$685,\"pompe à eauFAUXVRAI\",BDD!$V$2:$V$685)","v":0},{"$f":"SUMIF(BDD!$BB$2:$BB$685,\"pompe à eauVRAIFAUX\",BDD!$V$2:$V$685)","v":0},{"$f":"SUMIF(BDD!$BB$2:$BB$685,\"pompe à eauFAUXVRAI\",BDD!$V$2:$V$685)","v":0},{"$f":"SUMIF(BDD!$BB$2:$BB$685,\"pompe à eauVRAIFAUX\",BDD!$V$2:$V$685)","v":0},{"$f":"SUMIF(BDD!$BB$2:$BB$685,\"pompe à eauFAUXVRAI\",BDD!$V$2:$V$685)","v":0},{"$f":"SUMIF(BDD!$BB$2:$BB$685,\"pompe à eauVRAIFAUX\",BDD!$V$2:$V$685)","v":0},{"$f":"SUMIF(BDD!$BB$2:$BB$685,\"pompe à eauFAUXVRAI\",BDD!$V$2:$V$685)","v":0},{"$f":"SUMIF(BDD!$BB$2:$BB$685,\"pompe à eauVRAIFAUX\",BDD!$V$2:$V$685)","v":0},{"$f":"SUMIF(BDD!$BB$2:$BB$685,\"pompe à eauFAUXVRAI\",BDD!$V$2:$V$685)","v":0},{"$f":"SUMIF(BDD!$BB$2:$BB$685,\"pompe à eauVRAIFAUX\",BDD!$V$2:$V$685)","v":0},{"$f":"SUMIF(BDD!$BB$2:$BB$685,\"pompe à eauFAUXVRAI\",BDD!$V$2:$V$685)","v":0},{"$f":"SUMIF(BDD!$BB$2:$BB$685,\"pompe à eauVRAIFAUX\",BDD!$V$2:$V$685)","v":0},{"$f":"SUMIF(BDD!$BB$2:$BB$685,\"pompe à eauFAUXVRAI\",BDD!$V$2:$V$685)","v":0},{"$f":"SUMIF(BDD!$BB$2:$BB$685,\"pompe à eauVRAIFAUX\",BDD!$V$2:$V$685)","v":0},{"$f":"SUMIF(BDD!$BB$2:$BB$685,\"pompe à eauFAUXVRAI\",BDD!$V$2:$V$685)","v":0}]
["Banc PowerTrain",{"$f":"SUMIF(BDD!$BB$2:$BB$685,\"Banc PowerTrainVRAIFAUX\",BDD!$V$2:$V$685)","v":0},{"$f":"SUMIF(BDD!$BB$2:$BB$685,\"Banc PowerTrainFAUXVRAI\",BDD!$V$2:$V$685)","v":0},{"$f":"SUMIF(BDD!$BB$2:$BB$685,\"Banc PowerTrainVRAIFAUX\",BDD!$V$2:$V$685)","v":0},{"$f":"SUMIF(BDD!$BB$2:$BB$685,\"Banc PowerTrainFAUXVRAI\",BDD!$V$2:$V$685)","v":0},{"$f":"SUMIF(BDD!$BB$2:$BB$685,\"Banc PowerTrainVRAIFAUX\",BDD!$V$2:$V$685)","v":0},{"$f":"SUMIF(BDD!$BB$2:$BB$685,\"Banc PowerTrainFAUXVRAI\",BDD!$V$2:$V$685)","v":0},{"$f":"SUMIF(BDD!$BB$2:$BB$685,\"Banc PowerTrainVRAIFAUX\",BDD!$V$2:$V$685)","v":0},{"$f":"SUMIF(BDD!$BB$2:$BB$685,\"Banc PowerTrainFAUXVRAI\",BDD!$V$2:$V$685)","v":0},{"$f":"SUMIF(BDD!$BB$2:$BB$685,\"Banc PowerTrainVRAIFAUX\",BDD!$V$2:$V$685)","v":0},{"$f":"SUMIF(BDD!$BB$2:$BB$685,\"Banc PowerTrainFAUXVRAI\",BDD!$V$2:$V$685)","v":0},{"$f":"SUMIF(BDD!$BB$2:$BB$685,\"Banc PowerTrainVRAIFAUX\",BDD!$V$2:$V$685)","v":0},{"$f":"SUMIF(BDD!$BB$2:$BB$685,\"Banc PowerTrainFAUXVRAI\",BDD!$V$2:$V$685)","v":0},{"$f":"SUMIF(BDD!$BB$2:$BB$685,\"Banc PowerTrainVRAIFAUX\",BDD!$V$2:$V$685)","v":0},{"$f":"SUMIF(BDD!$BB$2:$BB$685,\"Banc PowerTrainFAUXVRAI\",BDD!$V$2:$V$685)","v":0},{"$f":"SUMIF(BDD!$BB$2:$BB$685,\"Banc PowerTrainVRAIFAUX\",BDD!$V$2:$V$685)","v":0},{"$f":"SUMIF(BDD!$BB$2:$BB$685,\"Banc PowerTrainFAUXVRAI\",BDD!$V$2:$V$685)","v":0},{"$f":"SUMIF(BDD!$BB$2:$BB$685,\"Banc PowerTrainVRAIFAUX\",BDD!$V$2:$V$685)","v":0},{"$f":"SUMIF(BDD!$BB$2:$BB$685,\"Banc PowerTrainFAUXVRAI\",BDD!$V$2:$V$685)","v":0},{"$f":"SUMIF(BDD!$BB$2:$BB$685,\"Banc PowerTrainVRAIFAUX\",BDD!$V$2:$V$685)","v":0},{"$f":"SUMIF(BDD!$BB$2:$BB$685,\"Banc PowerTrainFAUXVRAI\",BDD!$V$2:$V$685)","v":0},{"$f":"SUMIF(BDD!$BB$2:$BB$685,\"Banc PowerTrainVRAIFAUX\",BDD!$V$2:$V$685)","v":0},{"$f":"SUMIF(BDD!$BB$2:$BB$685,\"Banc PowerTrainFAUXVRAI\",BDD!$V$2:$V$685)","v":0},{"$f":"SUMIF(BDD!$BB$2:$BB$685,\"Banc PowerTrainVRAIFAUX\",BDD!$V$2:$V$685)","v":0},{"$f":"SUMIF(BDD!$BB$2:$BB$685,\"Banc PowerTrainFAUXVRAI\",BDD!$V$2:$V$685)","v":0}]
[]
[]
[]
[]
[]
[]
[]
[]
[]
[]
[]
[]
[]
[]
[]
[]
[]
[]
[]
[]
[]
[]
[null,"Suivi du correctif et du préventif par banc"]
[null,"Janvier",null,null,null,null,null,"Février",null,null,null,null,null,"Mars",null,null,null,null,null,"Avril",null,null,null,null,null,"Mai",null,null,null,null,null,"Juin",null,null,null,null,null,"Juillet",null,null,null,null,null,"Août",null,null,null,null,null,"Septembre",null,null,null,null,null,"Octobre",null,null,null,null,null,"Novembre",null,null,null,null,null,"Décembre"]
[null,"Corrective",null,null,"Préventive",null,null,"Corrective",null,null,"Préventive",null,null,"Corrective",null,null,"Préventive",null,null,"Corrective",null,null,"Préventive",null,null,"Corrective",null,null,"Préventive",null,null,"Corrective",null,null,"Préventive",null,null,"Corrective",null,null,"Préventive",null,null,"Corrective",null,null,"Préventive",null,null,"Corrective",null,null,"Préventive",null,null,"Corrective",null,null,"Préventive",null,null,"Corrective",null,null,"Préventive",null,null,"Corrective",null,null,"Préventive"]
["Banc zone 8","Electrique","Mécanique","Hydraulique","Electrique","Mécanique","Hydraulique","Electrique","Mécanique","Hydraulique","Electrique","Mécanique","Hydraulique","Electrique","Mécanique","Hydraulique","Electrique","Mécanique","Hydraulique","Electrique","Mécanique","Hydraulique","Electrique","Mécanique","Hydraulique","Electrique","Mécanique","Hydraulique","Electrique","Mécanique","Hydraulique","Electrique","Mécanique","Hydraulique","Electrique","Mécanique","Hydraulique","Electrique","Mécanique","Hydraulique","Electrique","Mécanique","Hydraulique","Electrique","Mécanique","Hydraulique","Electrique","Mécanique","Hydraulique","Electrique","Mécanique","Hydraulique","Electrique","Mécanique","Hydraulique","Electrique","Mécanique","Hydraulique","Electrique","Mécanique","Hydraulique","Electrique","Mécanique","Hydraulique","Electrique","Mécanique","Hydraulique","Electrique","Mécanique","Hydraulique","Electrique","Mécanique","Hydraulique"]
["Banc P5",{"$f":"SUMIF(BDD!$BC$2:$BC$685,\"Banc P5VRAIFAUXVRAIFAUXFAUX\",BDD!$V$2:$V$685)","v":0},{"$f":"SUMIF(BDD!$BC$2:$BC$685,\"Banc P5VRAIFAUXFAUXVRAIFAUX\",BDD!$V$2:$V$685)","v":0},{"$f":"SUMIF(BDD!$BC$2:$BC$685,\"Banc P5VRAIFAUXFAUXFAUXVRAI\",BDD!$V$2:$V$685)","v":0},{"$f":"SUMIF(BDD!$BC$2:$BC$685,\"Banc P5FAUXVRAIVRAIFAUXFAUX\",BDD!$V$2:$V$685)","v":0},{"$f":"SUMIF(BDD!$BC$2:$BC$685,\"Banc P5FAUXVRAIFAUXVRAIFAUX\",BDD!$V$2:$V$685)","v":0},{"$f":"SUMIF(BDD!$BC$2:$BC$685,\"Banc P5FAUXVRAIFAUXFAUXVRAI\",BDD!$V$2:$V$685)","v":0},{"$f":"SUMIF(BDD!$BC$2:$BC$685,\"Banc P5VRAIFAUXVRAIFAUXFAUX\",BDD!$V$2:$V$685)","v":0},{"$f":"SUMIF(BDD!$BC$2:$BC$685,\"Banc P5VRAIFAUXFAUXVRAIFAUX\",BDD!$V$2:$V$685)","v":0},{"$f":"SUMIF(BDD!$BC$2:$BC$685,\"Banc P5VRAIFAUXFAUXFAUXVRAI\",BDD!$V$2:$V$685)","v":0},{"$f":"SUMIF(BDD!$BC$2:$BC$685,\"Banc P5FAUXVRAIVRAIFAUXFAUX\",BDD!$V$2:$V$685)","v":0},{"$f":"SUMIF(BDD!$BC$2:$BC$685,\"Banc P5FAUXVRAIFAUXVRAIFAUX\",BDD!$V$2:$V$685)","v":0},{"$f":"SUMIF(BDD!$BC$2:$BC$685,\"Banc P5FAUXVRAIFAUXFAUXVRAI\",BDD!$V$2:$V$685)","v":0},{"$f":"SUMIF(BDD!$BC$2:$BC$685,\"Banc P5VRAIFAUXVRAIFAUXFAUX\",BDD!$V$2:$V$685)","v":0},{"$f":"SUMIF(BDD!$BC$2:$BC$685,\"Banc P5VRAIFAUXFAUXVRAIFAUX\",BDD!$V$2:$V$685)","v":0},{"$f":"SUMIF(BDD!$BC$2:$BC$685,\"Banc P5VRAIFAUXFAUXFAUXVRAI\",BDD!$V$2:$V$685)","v":0},{"$f":"SUMIF(BDD!$BC$2:$BC$685,\"Banc P5FAUXVRAIVRAIFAUXFAUX\",BDD!$V$2:$V$685)","v":0},{"$f":"SUMIF(BDD!$BC$2:$BC$685,\"Banc P5FAUXVRAIFAUXVRAIFAUX\",BDD!$V$2:$V$685)","v":0},{"$f":"SUMIF(BDD!$BC$2:$BC$685,\"Banc P5FAUXVRAIFAUXFAUXVRAI\",BDD!$V$2:$V$685)","v":0},{"$f":"SUMIF(BDD!$BC$2:$BC$685,\"Banc P5VRAIFAUXVRAIFAUXFAUX\",BDD!$V$2:$V$685)","v":0},{"$f":"SUMIF(BDD!$BC$2:$BC$685,\"Banc P5VRAIFAUXFAUXVRAIFAUX\",BDD!$V$2:$V$685)","v":0},{"$f":"SUMIF(BDD!$BC$2:$BC$685,\"Banc P5VRAIFAUXFAUXFAUXVRAI\",BDD!$V$2:$V$685)","v":0},{"$f":"SUMIF(BDD!$BC$2:$BC$685,\"Banc P5FAUXVRAIVRAIFAUXFAUX\",BDD!$V$2:$V$685)","v":0},{"$f":"SUMIF(BDD!$BC$2:$BC$685,\"Banc P5FAUXVRAIFAUXVRAIFAUX\",BDD!$V$2:$V$685)","v":0},{"$f":"SUMIF(BDD!$BC$2:$BC$685,\"Banc P5FAUXVRAIFAUXFAUXVRAI\",BDD!$V$2:$V$685)","v":0},{"$f":"SUMIF(BDD!$BC$2:$BC$685,\"Banc P5VRAIFAUXVRAIFAUXFAUX\",BDD!$V$2:$V$685)","v":0},{"$f":"SUMIF(BDD!$BC$2:$BC$685,\"Banc P5VRAIFAUXFAUXVRAIFAUX\",BDD!$V$2:$V$685)","v":0},{"$f":"SUMIF(BDD!$BC$2:$BC$685,\"Banc P5VRAIFAUXFAUXFAUXVRAI\",BDD!$V$2:$V$685)","v":0},{"$f":"SUMIF(BDD!$BC$2:$BC$685,\"Banc P5FAUXVRAIVRAIFAUXFAUX\",BDD!$V$2:$V$685)","v":0},{"$f":"SUMIF(BDD!$BC$2:$BC$685,\"Banc P5FAUXVRAIFAUXVRAIFAUX\",BDD!$V$2:$V$685)","v":0},{"$f":"SUMIF(BDD!$BC$2:$BC$685,\"Banc P5FAUXVRAIFAUXFAUXVRAI\",BDD!$V$2:$V$685)","v":0},{"$f":"SUMIF(BDD!$BC$2:$BC$685,\"Banc P5VRAIFAUXVRAIFAUXFAUX\",BDD!$V$2:$V$685)","v":0},{"$f":"SUMIF(BDD!$BC$2:$BC$685,\"Banc P5VRAIFAUXFAUXVRAIFAUX\",BDD!$V$2:$V$685)","v":0},{"$f":"SUMIF(BDD!$BC$2:$BC$685,\"Banc P5VRAIFAUXFAUXFAUXVRAI\",BDD!$V$2:$V$685)","v":0},{"$f":"SUMIF(BDD!$BC$2:$BC$685,\"Banc P5FAUXVRAIVRAIFAUXFAUX\",BDD!$V$2:$V$685)","v":0},{"$f":"SUMIF(BDD!$BC$2:$BC$685,\"Banc P5FAUXVRAIFAUXVRAIFAUX\",BDD!$V$2:$V$685)","v":0},{"$f":"SUMIF(BDD!$BC$2:$BC$685,\"Banc P5FAUXVRAIFAUXFAUXVRAI\",BDD!$V$2:$V$685)","v":0},{"$f":"SUMIF(BDD!$BC$2:$BC$685,\"Banc P5VRAIFAUXVRAIFAUXFAUX\",BDD!$V$2:$V$685)","v":0},{"$f":"SUMIF(BDD!$BC$2:$BC$685,\"Banc P5VRAIFAUXFAUXVRAIFAUX\",BDD!$V$2:$V$685)","v":0},{"$f":"SUMIF(BDD!$BC$2:$BC$685,\"Banc P5VRAIFAUXFAUXFAUXVRAI\",BDD!$V$2:$V$685)","v":0},{"$f":"SUMIF(BDD!$BC$2:$BC$685,\"Banc P5FAUXVRAIVRAIFAUXFAUX\",BDD!$V$2:$V$685)","v":0},{"$f":"SUMIF(BDD!$BC$2:$BC$685,\"Banc P5FAUXVRAIFAUXVRAIFAUX\",BDD!$V$2:$V$685)","v":0},{"$f":"SUMIF(BDD!$BC$2:$BC$685,\"Banc P5FAUXVRAIFAUXFAUXVRAI\",BDD!$V$2:$V$685)","v":0},{"$f":"SUMIF(BDD!$BC$2:$BC$685,\"Banc P5VRAIFAUXVRAIFAUXFAUX\",BDD!$V$2:$V$685)","v":0},{"$f":"SUMIF(BDD!$BC$2:$BC$685,\"Banc P5VRAIFAUXFAUXVRAIFAUX\",BDD!$V$2:$V$685)","v":0},{"$f":"SUMIF(BDD!$BC$2:$BC$685,\"Banc P5VRAIFAUXFAUXFAUXVRAI\",BDD!$V$2:$V$685)","v":0},{"$f":"SUMIF(BDD!$BC$2:$BC$685,\"Banc P5FAUXVRAIVRAIFAUXFAUX\",BDD!$V$2:$V$685)","v":0},{"$f":"SUMIF(BDD!$BC$2:$BC$685,\"Banc P5FAUXVRAIFAUXVRAIFAUX\",BDD!$V$2:$V$685)","v":0},{"$f":"SUMIF(BDD!$BC$2:$BC$685,\"Banc P5FAUXVRAIFAUXFAUXVRAI\",BDD!$V$2:$V$685)","v":0},{"$f":"SUMIF(BDD!$BC$2:$BC$685,\"Banc P5VRAIFAUXVRAIFAUXFAUX\",BDD!$V$2:$V$685)","v":0},{"$f":"SUMIF(BDD!$BC$2:$BC$685,\"Banc P5VRAIFAUXFAUXVRAIFAUX\",BDD!$V$2:$V$685)","v":0},{"$f":"SUMIF(BDD!$BC$2:$BC$685,\"Banc P5VRAIFAUXFAUXFAUXVRAI\",BDD!$V$2:$V$685)","v":0},{"$f":"SUMIF(BDD!$BC$2:$BC$685,\"Banc P5FAUXVRAIVRAIFAUXFAUX\",BDD!$V$2:$V$685)","v":0},{"$f":"SUMIF(BDD!$BC$2:$BC$685,\"Banc P5FAUXVRAIFAUXVRAIFAUX\",BDD!$V$2:$V$685)","v":0},{"$f":"SUMIF(BDD!$BC$2:$BC$685,\"Banc P5FAUXVRAIFAUXFAUXVRAI\",BDD!$V$2:$V$685)","v":0},{"$f":"SUMIF(BDD!$BC$2:$BC$685,\"Banc P5VRAIFAUXVRAIFAUXFAUX\",BDD!$V$2:$V$685)","v":0},{"$f":"SUMIF(BDD!$BC$2:$BC$685,\"Banc P5VRAIFAUXFAUXVRAIFAUX\",BDD!$V$2:$V$685)","v":0},{"$f":"SUMIF(BDD!$BC$2:$BC$685,\"Banc P5VRAIFAUXFAUXFAUXVRAI\",BDD!$V$2:$V$685)","v":0},{"$f":"SUMIF(BDD!$BC$2:$BC$685,\"Banc P5FAUXVRAIVRAIFAUXFAUX\",BDD!$V$2:$V$685)","v":0},{"$f":"SUMIF(BDD!$BC$2:$BC$685,\"Banc P5FAUXVRAIFAUXVRAIFAUX\",BDD!$V$2:$V$685)","v":0},{"$f":"SUMIF(BDD!$BC$2:$BC$685,\"Banc P5FAUXVRAIFAUXFAUXVRAI\",BDD!$V$2:$V$685)","v":0},{"$f":"SUMIF(BDD!$BC$2:$BC$685,\"Banc P5VRAIFAUXVRAIFAUXFAUX\",BDD!$V$2:$V$685)","v":0},{"$f":"SUMIF(BDD!$BC$2:$BC$685,\"Banc P5VRAIFAUXFAUXVRAIFAUX\",BDD!$V$2:$V$685)","v":0},{"$f":"SUMIF(BDD!$BC$2:$BC$685,\"Banc P5VRAIFAUXFAUXFAUXVRAI\",BDD!$V$2:$V$685)","v":0},{"$f":"SUMIF(BDD!$BC$2:$BC$685,\"Banc P5FAUXVRAIVRAIFAUXFAUX\",BDD!$V$2:$V$685)","v":0},{"$f":"SUMIF(BDD!$BC$2:$BC$685,\"Banc P5FAUXVRAIFAUXVRAIFAUX\",BDD!$V$2:$V$685)","v":0},{"$f":"SUMIF(BDD!$BC$2:$BC$685,\"Banc P5FAUXVRAIFAUXFAUXVRAI\",BDD!$V$2:$V$685)","v":0},{"$f":"SUMIF(BDD!$BC$2:$BC$685,\"Banc P5VRAIFAUXVRAIFAUXFAUX\",BDD!$V$2:$V$685)","v":0},{"$f":"SUMIF(BDD!$BC$2:$BC$685,\"Banc P5VRAIFAUXFAUXVRAIFAUX\",BDD!$V$2:$V$685)","v":0},{"$f":"SUMIF(BDD!$BC$2:$BC$685,\"Banc P5VRAIFAUXFAUXFAUXVRAI\",BDD!$V$2:$V$685)","v":0},{"$f":"SUMIF(BDD!$BC$2:$BC$685,\"Banc P5FAUXVRAIVRAIFAUXFAUX\",BDD!$V$2:$V$685)","v":0},{"$f":"SUMIF(BDD!$BC$2:$BC$685,\"Banc P5FAUXVRAIFAUXVRAIFAUX\",BDD!$V$2:$V$685)","v":0},{"$f":"SUMIF(BDD!$BC$2:$BC$685,\"Banc P5FAUXVRAIFAUXFAUXVRAI\",BDD!$V$2:$V$685)","v":0}]
["Banc P7",{"$f":"SUMIF(BDD!$BC$2:$BC$685,\"Banc P7VRAIFAUXVRAIFAUXFAUX\",BDD!$V$2:$V$685)","v":1},{"$f":"SUMIF(BDD!$BC$2:$BC$685,\"Banc P7VRAIFAUXFAUXVRAIFAUX\",BDD!$V$2:$V$685)","v":0},{"$f":"SUMIF(BDD!$BC$2:$BC$685,\"Banc P7VRAIFAUXFAUXFAUXVRAI\",BDD!$V$2:$V$685)","v":0},{"$f":"SUMIF(BDD!$BC$2:$BC$685,\"Banc P7FAUXVRAIVRAIFAUXFAUX\",BDD!$V$2:$V$685)","v":0},{"$f":"SUMIF(BDD!$BC$2:$BC$685,\"Banc P7FAUXVRAIFAUXVRAIFAUX\",BDD!$V$2:$V$685)","v":0},{"$f":"SUMIF(BDD!$BC$2:$BC$685,\"Banc P7FAUXVRAIFAUXFAUXVRAI\",BDD!$V$2:$V$685)","v":0},{"$f":"SUMIF(BDD!$BC$2:$BC$685,\"Banc P7VRAIFAUXVRAIFAUXFAUX\",BDD!$V$2:$V$685)","v":1},{"$f":"SUMIF(BDD!$BC$2:$BC$685,\"Banc P7VRAIFAUXFAUXVRAIFAUX\",BDD!$V$2:$V$685)","v":0},{"$f":"SUMIF(BDD!$BC$2:$BC$685,\"Banc P7VRAIFAUXFAUXFAUXVRAI\",BDD!$V$2:$V$685)","v":0},{"$f":"SUMIF(BDD!$BC$2:$BC$685,\"Banc P7FAUXVRAIVRAIFAUXFAUX\",BDD!$V$2:$V$685)","v":0},{"$f":"SUMIF(BDD!$BC$2:$BC$685,\"Banc P7FAUXVRAIFAUXVRAIFAUX\",BDD!$V$2:$V$685)","v":0},{"$f":"SUMIF(BDD!$BC$2:$BC$685,\"Banc P7FAUXVRAIFAUXFAUXVRAI\",BDD!$V$2:$V$685)","v":0},{"$f":"SUMIF(BDD!$BC$2:$BC$685,\"Banc P7VRAIFAUXVRAIFAUXFAUX\",BDD!$V$2:$V$685)","v":1},{"$f":"SUMIF(BDD!$BC$2:$BC$685,\"Banc P7VRAIFAUXFAUXVRAIFAUX\",BDD!$V$2:$V$685)","v":0},{"$f":"SUMIF(BDD!$BC$2:$BC$685,\"Banc P7VRAIFAUXFAUXFAUXVRAI\",BDD!$V$2:$V$685)","v":0},{"$f":"SUMIF(BDD!$BC$2:$BC$685,\"Banc P7FAUXVRAIVRAIFAUXFAUX\",BDD!$V$2:$V$685)","v":0},{"$f":"SUMIF(BDD!$BC$2:$BC$685,\"Banc P7FAUXVRAIFAUXVRAIFAUX\",BDD!$V$2:$V$685)","v":0},{"$f":"SUMIF(BDD!$BC$2:$BC$685,\"Banc P7FAUXVRAIFAUXFAUXVRAI\",BDD!$V$2:$V$685)","v":0},{"$f":"SUMIF(BDD!$BC$2:$BC$685,\"Banc P7VRAIFAUXVRAIFAUXFAUX\",BDD!$V$2:$V$685)","v":1},{"$f":"SUMIF(BDD!$BC$2:$BC$685,\"Banc P7VRAIFAUXFAUXVRAIFAUX\",BDD!$V$2:$V$685)","v":0},{"$f":"SUMIF(BDD!$BC$2:$BC$685,\"Banc P7VRAIFAUXFAUXFAUXVRAI\",BDD!$V$2:$V$685)","v":0},{"$f":"SUMIF(BDD!$BC$2:$BC$685,\"Banc P7FAUXVRAIVRAIFAUXFAUX\",BDD!$V$2:$V$685)","v":0},{"$f":"SUMIF(BDD!$BC$2:$BC$685,\"Banc P7FAUXVRAIFAUXVRAIFAUX\",BDD!$V$2:$V$685)","v":0},{"$f":"SUMIF(BDD!$BC$2:$BC$685,\"Banc P7FAUXVRAIFAUXFAUXVRAI\",BDD!$V$2:$V$685)","v":0},{"$f":"SUMIF(BDD!$BC$2:$BC$685,\"Banc P7VRAIFAUXVRAIFAUXFAUX\",BDD!$V$2:$V$685)","v":1},{"$f":"SUMIF(BDD!$BC$2:$BC$685,\"Banc P7VRAIFAUXFAUXVRAIFAUX\",BDD!$V$2:$V$685)","v":0},{"$f":"SUMIF(BDD!$BC$2:$BC$685,\"Banc P7VRAIFAUXFAUXFAUXVRAI\",BDD!$V$2:$V$685)","v":0},{"$f":"SUMIF(BDD!$BC$2:$BC$685,\"Banc P7FAUXVRAIVRAIFAUXFAUX\",BDD!$V$2:$V$685)","v":0},{"$f":"SUMIF(BDD!$BC$2:$BC$685,\"Banc P7FAUXVRAIFAUXVRAIFAUX\",BDD!$V$2:$V$685)","v":0},{"$f":"SUMIF(BDD!$BC$2:$BC$685,\"Banc P7FAUXVRAIFAUXFAUXVRAI\",BDD!$V$2:$V$685)","v":0},{"$f":"SUMIF(BDD!$BC$2:$BC$685,\"Banc P7VRAIFAUXVRAIFAUXFAUX\",BDD!$V$2:$V$685)","v":1},{"$f":"SUMIF(BDD!$BC$2:$BC$685,\"Banc P7VRAIFAUXFAUXVRAIFAUX\",BDD!$V$2:$V$685)","v":0},{"$f":"SUMIF(BDD!$BC$2:$BC$685,\"Banc P7VRAIFAUXFAUXFAUXVRAI\",BDD!$V$2:$V$685)","v":0},{"$f":"SUMIF(BDD!$BC$2:$BC$685,\"Banc P7FAUXVRAIVRAIFAUXFAUX\",BDD!$V$2:$V$685)","v":0},{"$f":"SUMIF(BDD!$BC$2:$BC$685,\"Banc P7FAUXVRAIFAUXVRAIFAUX\",BDD!$V$2:$V$685)","v":0},{"$f":"SUMIF(BDD!$BC$2:$BC$685,\"Banc P7FAUXVRAIFAUXFAUXVRAI\",BDD!$V$2:$V$685)","v":0},{"$f":"SUMIF(BDD!$BC$2:$BC$685,\"Banc P7VRAIFAUXVRAIFAUXFAUX\",BDD!$V$2:$V$685)","v":1},{"$f":"SUMIF(BDD!$BC$2:$BC$685,\"Banc P7VRAIFAUXFAUXVRAIFAUX\",BDD!$V$2:$V$685)","v":0},{"$f":"SUMIF(BDD!$BC$2:$BC$685,\"Banc P7VRAIFAUXFAUXFAUXVRAI\",BDD!$V$2:$V$685)","v":0},{"$f":"SUMIF(BDD!$BC$2:$BC$685,\"Banc P7FAUXVRAIVRAIFAUXFAUX\",BDD!$V$2:$V$685)","v":0},{"$f":"SUMIF(BDD!$BC$2:$BC$685,\"Banc P7FAUXVRAIFAUXVRAIFAUX\",BDD!$V$2:$V$685)","v":0},{"$f":"SUMIF(BDD!$BC$2:$BC$685,\"Banc P7FAUXVRAIFAUXFAUXVRAI\",BDD!$V$2:$V$685)","v":0},{"$f":"SUMIF(BDD!$BC$2:$BC$685,\"Banc P7VRAIFAUXVRAIFAUXFAUX\",BDD!$V$2:$V$685)","v":1},{"$f":"SUMIF(BDD!$BC$2:$BC$685,\"Banc P7VRAIFAUXFAUXVRAIFAUX\",BDD!$V$2:$V$685)","v":0},{"$f":"SUMIF(BDD!$BC$2:$BC$685,\"Banc P7VRAIFAUXFAUXFAUXVRAI\",BDD!$V$2:$V$685)","v":0},{"$f":"SUMIF(BDD!$BC$2:$BC$685,\"Banc P7FAUXVRAIVRAIFAUXFAUX\",BDD!$V$2:$V$685)","v":0},{"$f":"SUMIF(BDD!$BC$2:$BC$685,\"Banc P7FAUXVRAIFAUXVRAIFAUX\",BDD!$V$2:$V$685)","v":0},{"$f":"SUMIF(BDD!$BC$2:$BC$685,\"Banc P7FAUXVRAIFAUXFAUXVRAI\",BDD!$V$2:$V$685)","v":0},{"$f":"SUMIF(BDD!$BC$2:$BC$685,\"Banc P7VRAIFAUXVRAIFAUXFAUX\",BDD!$V$2:$V$685)","v":1},{"$f":"SUMIF(BDD!$BC$2:$BC$685,\"Banc P7VRAIFAUXFAUXVRAIFAUX\",BDD!$V$2:$V$685)","v":0},{"$f":"SUMIF(BDD!$BC$2:$BC$685,\"Banc P7VRAIFAUXFAUXFAUXVRAI\",BDD!$V$2:$V$685)","v":0},{"$f":"SUMIF(BDD!$BC$2:$BC$685,\"Banc P7FAUXVRAIVRAIFAUXFAUX\",BDD!$V$2:$V$685)","v":0},{"$f":"SUMIF(BDD!$BC$2:$BC$685,\"Banc P7FAUXVRAIFAUXVRAIFAUX\",BDD!$V$2:$V$685)","v":0},{"$f":"SUMIF(BDD!$BC$2:$BC$685,\"Banc P7FAUXVRAIFAUXFAUXVRAI\",BDD!$V$2:$V$685)","v":0},{"$f":"SUMIF(BDD!$BC$2:$BC$685,\"Banc P7VRAIFAUXVRAIFAUXFAUX\",BDD!$V$2:$V$685)","v":1},{"$f":"SUMIF(BDD!$BC$2:$BC$685,\"Banc P7VRAIFAUXFAUXVRAIFAUX\",BDD!$V$2:$V$685)","v":0},{"$f":"SUMIF(BDD!$BC$2:$BC$685,\"Banc P7VRAIFAUXFAUXFAUXVRAI\",BDD!$V$2:$V$685)","v":0},{"$f":"SUMIF(BDD!$BC$2:$BC$685,\"Banc P7FAUXVRAIVRAIFAUXFAUX\",BDD!$V$2:$V$685)","v":0},{"$f":"SUMIF(BDD!$BC$2:$BC$685,\"Banc P7FAUXVRAIFAUXVRAIFAUX\",BDD!$V$2:$V$685)","v":0},{"$f":"SUMIF(BDD!$BC$2:$BC$685,\"Banc P7FAUXVRAIFAUXFAUXVRAI\",BDD!$V$2:$V$685)","v":0},{"$f":"SUMIF(BDD!$BC$2:$BC$685,\"Banc P7VRAIFAUXVRAIFAUXFAUX\",BDD!$V$2:$V$685)","v":1},{"$f":"SUMIF(BDD!$BC$2:$BC$685,\"Banc P7VRAIFAUXFAUXVRAIFAUX\",BDD!$V$2:$V$685)","v":0},{"$f":"SUMIF(BDD!$BC$2:$BC$685,\"Banc P7VRAIFAUXFAUXFAUXVRAI\",BDD!$V$2:$V$685)","v":0},{"$f":"SUMIF(BDD!$BC$2:$BC$685,\"Banc P7FAUXVRAIVRAIFAUXFAUX\",BDD!$V$2:$V$685)","v":0},{"$f":"SUMIF(BDD!$BC$2:$BC$685,\"Banc P7FAUXVRAIFAUXVRAIFAUX\",BDD!$V$2:$V$685)","v":0},{"$f":"SUMIF(BDD!$BC$2:$BC$685,\"Banc P7FAUXVRAIFAUXFAUXVRAI\",BDD!$V$2:$V$685)","v":0},{"$f":"SUMIF(BDD!$BC$2:$BC$685,\"Banc P7VRAIFAUXVRAIFAUXFAUX\",BDD!$V$2:$V$685)","v":1},{"$f":"SUMIF(BDD!$BC$2:$BC$685,\"Banc P7VRAIFAUXFAUXVRAIFAUX\",BDD!$V$2:$V$685)","v":0},{"$f":"SUMIF(BDD!$BC$2:$BC$685,\"Banc P7VRAIFAUXFAUXFAUXVRAI\",BDD!$V$2:$V$685)","v":0},{"$f":"SUMIF(BDD!$BC$2:$BC$685,\"Banc P7FAUXVRAIVRAIFAUXFAUX\",BDD!$V$2:$V$685)","v":0},{"$f":"SUMIF(BDD!$BC$2:$BC$685,\"Banc P7FAUXVRAIFAUXVRAIFAUX\",BDD!$V$2:$V$685)","v":0},{"$f":"SUMIF(BDD!$BC$2:$BC$685,\"Banc P7FAUXVRAIFAUXFAUXVRAI\",BDD!$V$2:$V$685)","v":0}]
["Banc 101",{"$f":"SUMIF(BDD!$BC$2:$BC$685,\"Banc 101VRAIFAUXVRAIFAUXFAUX\",BDD!$V$2:$V$685)","v":0},{"$f":"SUMIF(BDD!$BC$2:$BC$685,\"Banc 101VRAIFAUXFAUXVRAIFAUX\",BDD!$V$2:$V$685)","v":0},{"$f":"SUMIF(BDD!$BC$2:$BC$685,\"Banc 101VRAIFAUXFAUXFAUXVRAI\",BDD!$V$2:$V$685)","v":0},{"$f":"SUMIF(BDD!$BC$2:$BC$685,\"Banc 101FAUXVRAIVRAIFAUXFAUX\",BDD!$V$2:$V$685)","v":0},{"$f":"SUMIF(BDD!$BC$2:$BC$685,\"Banc 101FAUXVRAIFAUXVRAIFAUX\",BDD!$V$2:$V$685)","v":0},{"$f":"SUMIF(BDD!$BC$2:$BC$685,\"Banc 101FAUXVRAIFAUXFAUXVRAI\",BDD!$V$2:$V$685)","v":0},{"$f":"SUMIF(BDD!$BC$2:$BC$685,\"Banc 101VRAIFAUXVRAIFAUXFAUX\",BDD!$V$2:$V$685)","v":0},{"$f":"SUMIF(BDD!$BC$2:$BC$685,\"Banc 101VRAIFAUXFAUXVRAIFAUX\",BDD!$V$2:$V$685)","v":0},{"$f":"SUMIF(BDD!$BC$2:$BC$685,\"Banc 101VRAIFAUXFAUXFAUXVRAI\",BDD!$V$2:$V$685)","v":0},{"$f":"SUMIF(BDD!$BC$2:$BC$685,\"Banc 101FAUXVRAIVRAIFAUXFAUX\",BDD!$V$2:$V$685)","v":0},{"$f":"SUMIF(BDD!$BC$2:$BC$685,\"Banc 101FAUXVRAIFAUXVRAIFAUX\",BDD!$V$2:$V$685)","v":0},{"$f":"SUMIF(BDD!$BC$2:$BC$685,\"Banc 101FAUXVRAIFAUXFAUXVRAI\",BDD!$V$2:$V$685)","v":0},{"$f":"SUMIF(BDD!$BC$2:$BC$685,\"Banc 101VRAIFAUXVRAIFAUXFAUX\",BDD!$V$2:$V$685)","v":0},{"$f":"SUMIF(BDD!$BC$2:$BC$685,\"Banc 101VRAIFAUXFAUXVRAIFAUX\",BDD!$V$2:$V$685)","v":0},{"$f":"SUMIF(BDD!$BC$2:$BC$685,\"Banc 101VRAIFAUXFAUXFAUXVRAI\",BDD!$V$2:$V$685)","v":0},{"$f":"SUMIF(BDD!$BC$2:$BC$685,\"Banc 101FAUXVRAIVRAIFAUXFAUX\",BDD!$V$2:$V$685)","v":0},{"$f":"SUMIF(BDD!$BC$2:$BC$685,\"Banc 101FAUXVRAIFAUXVRAIFAUX\",BDD!$V$2:$V$685)","v":0},{"$f":"SUMIF(BDD!$BC$2:$BC$685,\"Banc 101FAUXVRAIFAUXFAUXVRAI\",BDD!$V$2:$V$685)","v":0},{"$f":"SUMIF(BDD!$BC$2:$BC$685,\"Banc 101VRAIFAUXVRAIFAUXFAUX\",BDD!$V$2:$V$685)","v":0},{"$f":"SUMIF(BDD!$BC$2:$BC$685,\"Banc 101VRAIFAUXFAUXVRAIFAUX\",BDD!$V$2:$V$685)","v":0},{"$f":"SUMIF(BDD!$BC$2:$BC$685,\"Banc 101VRAIFAUXFAUXFAUXVRAI\",BDD!$V$2:$V$685)","v":0},{"$f":"SUMIF(BDD!$BC$2:$BC$685,\"Banc 101FAUXVRAIVRAIFAUXFAUX\",BDD!$V$2:$V$685)","v":0},{"$f":"SUMIF(BDD!$BC$2:$BC$685,\"Banc 101FAUXVRAIFAUXVRAIFAUX\",BDD!$V$2:$V$685)","v":0},{"$f":"SUMIF(BDD!$BC$2:$BC$685,\"Banc 101FAUXVRAIFAUXFAUXVRAI\",BDD!$V$2:$V$685)","v":0},{"$f":"SUMIF(BDD!$BC$2:$BC$685,\"Banc 101VRAIFAUXVRAIFAUXFAUX\",BDD!$V$2:$V$685)","v":0},{"$f":"SUMIF(BDD!$BC$2:$BC$685,\"Banc 101VRAIFAUXFAUXVRAIFAUX\",BDD!$V$2:$V$685)","v":0},{"$f":"SUMIF(BDD!$BC$2:$BC$685,\"Banc 101VRAIFAUXFAUXFAUXVRAI\",BDD!$V$2:$V$685)","v":0},{"$f":"SUMIF(BDD!$BC$2:$BC$685,\"Banc 101FAUXVRAIVRAIFAUXFAUX\",BDD!$V$2:$V$685)","v":0},{"$f":"SUMIF(BDD!$BC$2:$BC$685,\"Banc 101FAUXVRAIFAUXVRAIFAUX\",BDD!$V$2:$V$685)","v":0},{"$f":"SUMIF(BDD!$BC$2:$BC$685,\"Banc 101FAUXVRAIFAUXFAUXVRAI\",BDD!$V$2:$V$685)","v":0},{"$f":"SUMIF(BDD!$BC$2:$BC$685,\"Banc 101VRAIFAUXVRAIFAUXFAUX\",BDD!$V$2:$V$685)","v":0},{"$f":"SUMIF(BDD!$BC$2:$BC$685,\"Banc 101VRAIFAUXFAUXVRAIFAUX\",BDD!$V$2:$V$685)","v":0},{"$f":"SUMIF(BDD!$BC$2:$BC$685,\"Banc 101VRAIFAUXFAUXFAUXVRAI\",BDD!$V$2:$V$685)","v":0},{"$f":"SUMIF(BDD!$BC$2:$BC$685,\"Banc 101FAUXVRAIVRAIFAUXFAUX\",BDD!$V$2:$V$685)","v":0},{"$f":"SUMIF(BDD!$BC$2:$BC$685,\"Banc 101FAUXVRAIFAUXVRAIFAUX\",BDD!$V$2:$V$685)","v":0},{"$f":"SUMIF(BDD!$BC$2:$BC$685,\"Banc 101FAUXVRAIFAUXFAUXVRAI\",BDD!$V$2:$V$685)","v":0},{"$f":"SUMIF(BDD!$BC$2:$BC$685,\"Banc 101VRAIFAUXVRAIFAUXFAUX\",BDD!$V$2:$V$685)","v":0},{"$f":"SUMIF(BDD!$BC$2:$BC$685,\"Banc 101VRAIFAUXFAUXVRAIFAUX\",BDD!$V$2:$V$685)","v":0},{"$f":"SUMIF(BDD!$BC$2:$BC$685,\"Banc 101VRAIFAUXFAUXFAUXVRAI\",BDD!$V$2:$V$685)","v":0},{"$f":"SUMIF(BDD!$BC$2:$BC$685,\"Banc 101FAUXVRAIVRAIFAUXFAUX\",BDD!$V$2:$V$685)","v":0},{"$f":"SUMIF(BDD!$BC$2:$BC$685,\"Banc 101FAUXVRAIFAUXVRAIFAUX\",BDD!$V$2:$V$685)","v":0},{"$f":"SUMIF(BDD!$BC$2:$BC$685,\"Banc 101FAUXVRAIFAUXFAUXVRAI\",BDD!$V$2:$V$685)","v":0},{"$f":"SUMIF(BDD!$BC$2:$BC$685,\"Banc 101VRAIFAUXVRAIFAUXFAUX\",BDD!$V$2:$V$685)","v":0},{"$f":"SUMIF(BDD!$BC$2:$BC$685,\"Banc 101VRAIFAUXFAUXVRAIFAUX\",BDD!$V$2:$V$685)","v":0},{"$f":"SUMIF(BDD!$BC$2:$BC$685,\"Banc 101VRAIFAUXFAUXFAUXVRAI\",BDD!$V$2:$V$685)","v":0},{"$f":"SUMIF(BDD!$BC$2:$BC$685,\"Banc 101FAUXVRAIVRAIFAUXFAUX\",BDD!$V$2:$V$685)","v":0},{"$f":"SUMIF(BDD!$BC$2:$BC$685,\"Banc 101FAUXVRAIFAUXVRAIFAUX\",BDD!$V$2:$V$685)","v":0},{"$f":"SUMIF(BDD!$BC$2:$BC$685,\"Banc 101FAUXVRAIFAUXFAUXVRAI\",BDD!$V$2:$V$685)","v":0},{"$f":"SUMIF(BDD!$BC$2:$BC$685,\"Banc 101VRAIFAUXVRAIFAUXFAUX\",BDD!$V$2:$V$685)","v":0},{"$f":"SUMIF(BDD!$BC$2:$BC$685,\"Banc 101VRAIFAUXFAUXVRAIFAUX\",BDD!$V$2:$V$685)","v":0},{"$f":"SUMIF(BDD!$BC$2:$BC$685,\"Banc 101VRAIFAUXFAUXFAUXVRAI\",BDD!$V$2:$V$685)","v":0},{"$f":"SUMIF(BDD!$BC$2:$BC$685,\"Banc 101FAUXVRAIVRAIFAUXFAUX\",BDD!$V$2:$V$685)","v":0},{"$f":"SUMIF(BDD!$BC$2:$BC$685,\"Banc 101FAUXVRAIFAUXVRAIFAUX\",BDD!$V$2:$V$685)","v":0},{"$f":"SUMIF(BDD!$BC$2:$BC$685,\"Banc 101FAUXVRAIFAUXFAUXVRAI\",BDD!$V$2:$V$685)","v":0},{"$f":"SUMIF(BDD!$BC$2:$BC$685,\"Banc 101VRAIFAUXVRAIFAUXFAUX\",BDD!$V$2:$V$685)","v":0},{"$f":"SUMIF(BDD!$BC$2:$BC$685,\"Banc 101VRAIFAUXFAUXVRAIFAUX\",BDD!$V$2:$V$685)","v":0},{"$f":"SUMIF(BDD!$BC$2:$BC$685,\"Banc 101VRAIFAUXFAUXFAUXVRAI\",BDD!$V$2:$V$685)","v":0},{"$f":"SUMIF(BDD!$BC$2:$BC$685,\"Banc 101FAUXVRAIVRAIFAUXFAUX\",BDD!$V$2:$V$685)","v":0},{"$f":"SUMIF(BDD!$BC$2:$BC$685,\"Banc 101FAUXVRAIFAUXVRAIFAUX\",BDD!$V$2:$V$685)","v":0},{"$f":"SUMIF(BDD!$BC$2:$BC$685,\"Banc 101FAUXVRAIFAUXFAUXVRAI\",BDD!$V$2:$V$685)","v":0},{"$f":"SUMIF(BDD!$BC$2:$BC$685,\"Banc 101VRAIFAUXVRAIFAUXFAUX\",BDD!$V$2:$V$685)","v":0},{"$f":"SUMIF(BDD!$BC$2:$BC$685,\"Banc 101VRAIFAUXFAUXVRAIFAUX\",BDD!$V$2:$V$685)","v":0},{"$f":"SUMIF(BDD!$BC$2:$BC$685,\"Banc 101VRAIFAUXFAUXFAUXVRAI\",BDD!$V$2:$V$685)","v":0},{"$f":"SUMIF(BDD!$BC$2:$BC$685,\"Banc 101FAUXVRAIVRAIFAUXFAUX\",BDD!$V$2:$V$685)","v":0},{"$f":"SUMIF(BDD!$BC$2:$BC$685,\"Banc 101FAUXVRAIFAUXVRAIFAUX\",BDD!$V$2:$V$685)","v":0},{"$f":"SUMIF(BDD!$BC$2:$BC$685,\"Banc 101FAUXVRAIFAUXFAUXVRAI\",BDD!$V$2:$V$685)","v":0},{"$f":"SUMIF(BDD!$BC$2:$BC$685,\"Banc 101VRAIFAUXVRAIFAUXFAUX\",BDD!$V$2:$V$685)","v":0},{"$f":"SUMIF(BDD!$BC$2:$BC$685,\"Banc 101VRAIFAUXFAUXVRAIFAUX\",BDD!$V$2:$V$685)","v":0},{"$f":"SUMIF(BDD!$BC$2:$BC$685,\"Banc 101VRAIFAUXFAUXFAUXVRAI\",BDD!$V$2:$V$685)","v":0},{"$f":"SUMIF(BDD!$BC$2:$BC$685,\"Banc 101FAUXVRAIVRAIFAUXFAUX\",BDD!$V$2:$V$685)","v":0},{"$f":"SUMIF(BDD!$BC$2:$BC$685,\"Banc 101FAUXVRAIFAUXVRAIFAUX\",BDD!$V$2:$V$685)","v":0},{"$f":"SUMIF(BDD!$BC$2:$BC$685,\"Banc 101FAUXVRAIFAUXFAUXVRAI\",BDD!$V$2:$V$685)","v":0}]
["Banc 104",{"$f":"SUMIF(BDD!$BC$2:$BC$685,\"Banc 104VRAIFAUXVRAIFAUXFAUX\",BDD!$V$2:$V$685)","v":0},{"$f":"SUMIF(BDD!$BC$2:$BC$685,\"Banc 104VRAIFAUXFAUXVRAIFAUX\",BDD!$V$2:$V$685)","v":0},{"$f":"SUMIF(BDD!$BC$2:$BC$685,\"Banc 104VRAIFAUXFAUXFAUXVRAI\",BDD!$V$2:$V$685)","v":0},{"$f":"SUMIF(BDD!$BC$2:$BC$685,\"Banc 104FAUXVRAIVRAIFAUXFAUX\",BDD!$V$2:$V$685)","v":0},{"$f":"SUMIF(BDD!$BC$2:$BC$685,\"Banc 104FAUXVRAIFAUXVRAIFAUX\",BDD!$V$2:$V$685)","v":0},{"$f":"SUMIF(BDD!$BC$2:$BC$685,\"Banc 104FAUXVRAIFAUXFAUXVRAI\",BDD!$V$2:$V$685)","v":0},{"$f":"SUMIF(BDD!$BC$2:$BC$685,\"Banc 104VRAIFAUXVRAIFAUXFAUX\",BDD!$V$2:$V$685)","v":0},{"$f":"SUMIF(BDD!$BC$2:$BC$685,\"Banc 104VRAIFAUXFAUXVRAIFAUX\",BDD!$V$2:$V$685)","v":0},{"$f":"SUMIF(BDD!$BC$2:$BC$685,\"Banc 104VRAIFAUXFAUXFAUXVRAI\",BDD!$V$2:$V$685)","v":0},{"$f":"SUMIF(BDD!$BC$2:$BC$685,\"Banc 104FAUXVRAIVRAIFAUXFAUX\",BDD!$V$2:$V$685)","v":0},{"$f":"SUMIF(BDD!$BC$2:$BC$685,\"Banc 104FAUXVRAIFAUXVRAIFAUX\",BDD!$V$2:$V$685)","v":0},{"$f":"SUMIF(BDD!$BC$2:$BC$685,\"Banc 104FAUXVRAIFAUXFAUXVRAI\",BDD!$V$2:$V$685)","v":0},{"$f":"SUMIF(BDD!$BC$2:$BC$685,\"Banc 104VRAIFAUXVRAIFAUXFAUX\",BDD!$V$2:$V$685)","v":0},{"$f":"SUMIF(BDD!$BC$2:$BC$685,\"Banc 104VRAIFAUXFAUXVRAIFAUX\",BDD!$V$2:$V$685)","v":0},{"$f":"SUMIF(BDD!$BC$2:$BC$685,\"Banc 104VRAIFAUXFAUXFAUXVRAI\",BDD!$V$2:$V$685)","v":0},{"$f":"SUMIF(BDD!$BC$2:$BC$685,\"Banc 104FAUXVRAIVRAIFAUXFAUX\",BDD!$V$2:$V$685)","v":0},{"$f":"SUMIF(BDD!$BC$2:$BC$685,\"Banc 104FAUXVRAIFAUXVRAIFAUX\",BDD!$V$2:$V$685)","v":0},{"$f":"SUMIF(BDD!$BC$2:$BC$685,\"Banc 104FAUXVRAIFAUXFAUXVRAI\",BDD!$V$2:$V$685)","v":0},{"$f":"SUMIF(BDD!$BC$2:$BC$685,\"Banc 104VRAIFAUXVRAIFAUXFAUX\",BDD!$V$2:$V$685)","v":0},{"$f":"SUMIF(BDD!$BC$2:$BC$685,\"Banc 104VRAIFAUXFAUXVRAIFAUX\",BDD!$V$2:$V$685)","v":0},{"$f":"SUMIF(BDD!$BC$2:$BC$685,\"Banc 104VRAIFAUXFAUXFAUXVRAI\",BDD!$V$2:$V$685)","v":0},{"$f":"SUMIF(BDD!$BC$2:$BC$685,\"Banc 104FAUXVRAIVRAIFAUXFAUX\",BDD!$V$2:$V$685)","v":0},{"$f":"SUMIF(BDD!$BC$2:$BC$685,\"Banc 104FAUXVRAIFAUXVRAIFAUX\",BDD!$V$2:$V$685)","v":0},{"$f":"SUMIF(BDD!$BC$2:$BC$685,\"Banc 104FAUXVRAIFAUXFAUXVRAI\",BDD!$V$2:$V$685)","v":0},{"$f":"SUMIF(BDD!$BC$2:$BC$685,\"Banc 104VRAIFAUXVRAIFAUXFAUX\",BDD!$V$2:$V$685)","v":0},{"$f":"SUMIF(BDD!$BC$2:$BC$685,\"Banc 104VRAIFAUXFAUXVRAIFAUX\",BDD!$V$2:$V$685)","v":0},{"$f":"SUMIF(BDD!$BC$2:$BC$685,\"Banc 104VRAIFAUXFAUXFAUXVRAI\",BDD!$V$2:$V$685)","v":0},{"$f":"SUMIF(BDD!$BC$2:$BC$685,\"Banc 104FAUXVRAIVRAIFAUXFAUX\",BDD!$V$2:$V$685)","v":0},{"$f":"SUMIF(BDD!$BC$2:$BC$685,\"Banc 104FAUXVRAIFAUXVRAIFAUX\",BDD!$V$2:$V$685)","v":0},{"$f":"SUMIF(BDD!$BC$2:$BC$685,\"Banc 104FAUXVRAIFAUXFAUXVRAI\",BDD!$V$2:$V$685)","v":0},{"$f":"SUMIF(BDD!$BC$2:$BC$685,\"Banc 104VRAIFAUXVRAIFAUXFAUX\",BDD!$V$2:$V$685)","v":0},{"$f":"SUMIF(BDD!$BC$2:$BC$685,\"Banc 104VRAIFAUXFAUXVRAIFAUX\",BDD!$V$2:$V$685)","v":0},{"$f":"SUMIF(BDD!$BC$2:$BC$685,\"Banc 104VRAIFAUXFAUXFAUXVRAI\",BDD!$V$2:$V$685)","v":0},{"$f":"SUMIF(BDD!$BC$2:$BC$685,\"Banc 104FAUXVRAIVRAIFAUXFAUX\",BDD!$V$2:$V$685)","v":0},{"$f":"SUMIF(BDD!$BC$2:$BC$685,\"Banc 104FAUXVRAIFAUXVRAIFAUX\",BDD!$V$2:$V$685)","v":0},{"$f":"SUMIF(BDD!$BC$2:$BC$685,\"Banc 104FAUXVRAIFAUXFAUXVRAI\",BDD!$V$2:$V$685)","v":0},{"$f":"SUMIF(BDD!$BC$2:$BC$685,\"Banc 104VRAIFAUXVRAIFAUXFAUX\",BDD!$V$2:$V$685)","v":0},{"$f":"SUMIF(BDD!$BC$2:$BC$685,\"Banc 104VRAIFAUXFAUXVRAIFAUX\",BDD!$V$2:$V$685)","v":0},{"$f":"SUMIF(BDD!$BC$2:$BC$685,\"Banc 104VRAIFAUXFAUXFAUXVRAI\",BDD!$V$2:$V$685)","v":0},{"$f":"SUMIF(BDD!$BC$2:$BC$685,\"Banc 104FAUXVRAIVRAIFAUXFAUX\",BDD!$V$2:$V$685)","v":0},{"$f":"SUMIF(BDD!$BC$2:$BC$685,\"Banc 104FAUXVRAIFAUXVRAIFAUX\",BDD!$V$2:$V$685)","v":0},{"$f":"SUMIF(BDD!$BC$2:$BC$685,\"Banc 104FAUXVRAIFAUXFAUXVRAI\",BDD!$V$2:$V$685)","v":0},{"$f":"SUMIF(BDD!$BC$2:$BC$685,\"Banc 104VRAIFAUXVRAIFAUXFAUX\",BDD!$V$2:$V$685)","v":0},{"$f":"SUMIF(BDD!$BC$2:$BC$685,\"Banc 104VRAIFAUXFAUXVRAIFAUX\",BDD!$V$2:$V$685)","v":0},{"$f":"SUMIF(BDD!$BC$2:$BC$685,\"Banc 104VRAIFAUXFAUXFAUXVRAI\",BDD!$V$2:$V$685)","v":0},{"$f":"SUMIF(BDD!$BC$2:$BC$685,\"Banc 104FAUXVRAIVRAIFAUXFAUX\",BDD!$V$2:$V$685)","v":0},{"$f":"SUMIF(BDD!$BC$2:$BC$685,\"Banc 104FAUXVRAIFAUXVRAIFAUX\",BDD!$V$2:$V$685)","v":0},{"$f":"SUMIF(BDD!$BC$2:$BC$685,\"Banc 104FAUXVRAIFAUXFAUXVRAI\",BDD!$V$2:$V$685)","v":0},{"$f":"SUMIF(BDD!$BC$2:$BC$685,\"Banc 104VRAIFAUXVRAIFAUXFAUX\",BDD!$V$2:$V$685)","v":0},{"$f":"SUMIF(BDD!$BC$2:$BC$685,\"Banc 104VRAIFAUXFAUXVRAIFAUX\",BDD!$V$2:$V$685)","v":0},{"$f":"SUMIF(BDD!$BC$2:$BC$685,\"Banc 104VRAIFAUXFAUXFAUXVRAI\",BDD!$V$2:$V$685)","v":0},{"$f":"SUMIF(BDD!$BC$2:$BC$685,\"Banc 104FAUXVRAIVRAIFAUXFAUX\",BDD!$V$2:$V$685)","v":0},{"$f":"SUMIF(BDD!$BC$2:$BC$685,\"Banc 104FAUXVRAIFAUXVRAIFAUX\",BDD!$V$2:$V$685)","v":0},{"$f":"SUMIF(BDD!$BC$2:$BC$685,\"Banc 104FAUXVRAIFAUXFAUXVRAI\",BDD!$V$2:$V$685)","v":0},{"$f":"SUMIF(BDD!$BC$2:$BC$685,\"Banc 104VRAIFAUXVRAIFAUXFAUX\",BDD!$V$2:$V$685)","v":0},{"$f":"SUMIF(BDD!$BC$2:$BC$685,\"Banc 104VRAIFAUXFAUXVRAIFAUX\",BDD!$V$2:$V$685)","v":0},{"$f":"SUMIF(BDD!$BC$2:$BC$685,\"Banc 104VRAIFAUXFAUXFAUXVRAI\",BDD!$V$2:$V$685)","v":0},{"$f":"SUMIF(BDD!$BC$2:$BC$685,\"Banc 104FAUXVRAIVRAIFAUXFAUX\",BDD!$V$2:$V$685)","v":0},{"$f":"SUMIF(BDD!$BC$2:$BC$685,\"Banc 104FAUXVRAIFAUXVRAIFAUX\",BDD!$V$2:$V$685)","v":0},{"$f":"SUMIF(BDD!$BC$2:$BC$685,\"Banc 104FAUXVRAIFAUXFAUXVRAI\",BDD!$V$2:$V$685)","v":0},{"$f":"SUMIF(BDD!$BC$2:$BC$685,\"Banc 104VRAIFAUXVRAIFAUXFAUX\",BDD!$V$2:$V$685)","v":0},{"$f":"SUMIF(BDD!$BC$2:$BC$685,\"Banc 104VRAIFAUXFAUXVRAIFAUX\",BDD!$V$2:$V$685)","v":0},{"$f":"SUMIF(BDD!$BC$2:$BC$685,\"Banc 104VRAIFAUXFAUXFAUXVRAI\",BDD!$V$2:$V$685)","v":0},{"$f":"SUMIF(BDD!$BC$2:$BC$685,\"Banc 104FAUXVRAIVRAIFAUXFAUX\",BDD!$V$2:$V$685)","v":0},{"$f":"SUMIF(BDD!$BC$2:$BC$685,\"Banc 104FAUXVRAIFAUXVRAIFAUX\",BDD!$V$2:$V$685)","v":0},{"$f":"SUMIF(BDD!$BC$2:$BC$685,\"Banc 104FAUXVRAIFAUXFAUXVRAI\",BDD!$V$2:$V$685)","v":0},{"$f":"SUMIF(BDD!$BC$2:$BC$685,\"Banc 104VRAIFAUXVRAIFAUXFAUX\",BDD!$V$2:$V$685)","v":0},{"$f":"SUMIF(BDD!$BC$2:$BC$685,\"Banc 104VRAIFAUXFAUXVRAIFAUX\",BDD!$V$2:$V$685)","v":0},{"$f":"SUMIF(BDD!$BC$2:$BC$685,\"Banc 104VRAIFAUXFAUXFAUXVRAI\",BDD!$V$2:$V$685)","v":0},{"$f":"SUMIF(BDD!$BC$2:$BC$685,\"Banc 104FAUXVRAIVRAIFAUXFAUX\",BDD!$V$2:$V$685)","v":0},{"$f":"SUMIF(BDD!$BC$2:$BC$685,\"Banc 104FAUXVRAIFAUXVRAIFAUX\",BDD!$V$2:$V$685)","v":0},{"$f":"SUMIF(BDD!$BC$2:$BC$685,\"Banc 104FAUXVRAIFAUXFAUXVRAI\",BDD!$V$2:$V$685)","v":0}]
["Banc 121",{"$f":"SUMIF(BDD!$BC$2:$BC$685,\"Banc 121VRAIFAUXVRAIFAUXFAUX\",BDD!$V$2:$V$685)","v":0},{"$f":"SUMIF(BDD!$BC$2:$BC$685,\"Banc 121VRAIFAUXFAUXVRAIFAUX\",BDD!$V$2:$V$685)","v":0},{"$f":"SUMIF(BDD!$BC$2:$BC$685,\"Banc 121VRAIFAUXFAUXFAUXVRAI\",BDD!$V$2:$V$685)","v":0},{"$f":"SUMIF(BDD!$BC$2:$BC$685,\"Banc 121FAUXVRAIVRAIFAUXFAUX\",BDD!$V$2:$V$685)","v":0},{"$f":"SUMIF(BDD!$BC$2:$BC$685,\"Banc 121FAUXVRAIFAUXVRAIFAUX\",BDD!$V$2:$V$685)","v":0},{"$f":"SUMIF(BDD!$BC$2:$BC$685,\"Banc 121FAUXVRAIFAUXFAUXVRAI\",BDD!$V$2:$V$685)","v":0},{"$f":"SUMIF(BDD!$BC$2:$BC$685,\"Banc 121VRAIFAUXVRAIFAUXFAUX\",BDD!$V$2:$V$685)","v":0},{"$f":"SUMIF(BDD!$BC$2:$BC$685,\"Banc 121VRAIFAUXFAUXVRAIFAUX\",BDD!$V$2:$V$685)","v":0},{"$f":"SUMIF(BDD!$BC$2:$BC$685,\"Banc 121VRAIFAUXFAUXFAUXVRAI\",BDD!$V$2:$V$685)","v":0},{"$f":"SUMIF(BDD!$BC$2:$BC$685,\"Banc 121FAUXVRAIVRAIFAUXFAUX\",BDD!$V$2:$V$685)","v":0},{"$f":"SUMIF(BDD!$BC$2:$BC$685,\"Banc 121FAUXVRAIFAUXVRAIFAUX\",BDD!$V$2:$V$685)","v":0},{"$f":"SUMIF(BDD!$BC$2:$BC$685,\"Banc 121FAUXVRAIFAUXFAUXVRAI\",BDD!$V$2:$V$685)","v":0},{"$f":"SUMIF(BDD!$BC$2:$BC$685,\"Banc 121VRAIFAUXVRAIFAUXFAUX\",BDD!$V$2:$V$685)","v":0},{"$f":"SUMIF(BDD!$BC$2:$BC$685,\"Banc 121VRAIFAUXFAUXVRAIFAUX\",BDD!$V$2:$V$685)","v":0},{"$f":"SUMIF(BDD!$BC$2:$BC$685,\"Banc 121VRAIFAUXFAUXFAUXVRAI\",BDD!$V$2:$V$685)","v":0},{"$f":"SUMIF(BDD!$BC$2:$BC$685,\"Banc 121FAUXVRAIVRAIFAUXFAUX\",BDD!$V$2:$V$685)","v":0},{"$f":"SUMIF(BDD!$BC$2:$BC$685,\"Banc 121FAUXVRAIFAUXVRAIFAUX\",BDD!$V$2:$V$685)","v":0},{"$f":"SUMIF(BDD!$BC$2:$BC$685,\"Banc 121FAUXVRAIFAUXFAUXVRAI\",BDD!$V$2:$V$685)","v":0},{"$f":"SUMIF(BDD!$BC$2:$BC$685,\"Banc 121VRAIFAUXVRAIFAUXFAUX\",BDD!$V$2:$V$685)","v":0},{"$f":"SUMIF(BDD!$BC$2:$BC$685,\"Banc 121VRAIFAUXFAUXVRAIFAUX\",BDD!$V$2:$V$685)","v":0},{"$f":"SUMIF(BDD!$BC$2:$BC$685,\"Banc 121VRAIFAUXFAUXFAUXVRAI\",BDD!$V$2:$V$685)","v":0},{"$f":"SUMIF(BDD!$BC$2:$BC$685,\"Banc 121FAUXVRAIVRAIFAUXFAUX\",BDD!$V$2:$V$685)","v":0},{"$f":"SUMIF(BDD!$BC$2:$BC$685,\"Banc 121FAUXVRAIFAUXVRAIFAUX\",BDD!$V$2:$V$685)","v":0},{"$f":"SUMIF(BDD!$BC$2:$BC$685,\"Banc 121FAUXVRAIFAUXFAUXVRAI\",BDD!$V$2:$V$685)","v":0},{"$f":"SUMIF(BDD!$BC$2:$BC$685,\"Banc 121VRAIFAUXVRAIFAUXFAUX\",BDD!$V$2:$V$685)","v":0},{"$f":"SUMIF(BDD!$BC$2:$BC$685,\"Banc 121VRAIFAUXFAUXVRAIFAUX\",BDD!$V$2:$V$685)","v":0},{"$f":"SUMIF(BDD!$BC$2:$BC$685,\"Banc 121VRAIFAUXFAUXFAUXVRAI\",BDD!$V$2:$V$685)","v":0},{"$f":"SUMIF(BDD!$BC$2:$BC$685,\"Banc 121FAUXVRAIVRAIFAUXFAUX\",BDD!$V$2:$V$685)","v":0},{"$f":"SUMIF(BDD!$BC$2:$BC$685,\"Banc 121FAUXVRAIFAUXVRAIFAUX\",BDD!$V$2:$V$685)","v":0},{"$f":"SUMIF(BDD!$BC$2:$BC$685,\"Banc 121FAUXVRAIFAUXFAUXVRAI\",BDD!$V$2:$V$685)","v":0},{"$f":"SUMIF(BDD!$BC$2:$BC$685,\"Banc 121VRAIFAUXVRAIFAUXFAUX\",BDD!$V$2:$V$685)","v":0},{"$f":"SUMIF(BDD!$BC$2:$BC$685,\"Banc 121VRAIFAUXFAUXVRAIFAUX\",BDD!$V$2:$V$685)","v":0},{"$f":"SUMIF(BDD!$BC$2:$BC$685,\"Banc 121VRAIFAUXFAUXFAUXVRAI\",BDD!$V$2:$V$685)","v":0},{"$f":"SUMIF(BDD!$BC$2:$BC$685,\"Banc 121FAUXVRAIVRAIFAUXFAUX\",BDD!$V$2:$V$685)","v":0},{"$f":"SUMIF(BDD!$BC$2:$BC$685,\"Banc 121FAUXVRAIFAUXVRAIFAUX\",BDD!$V$2:$V$685)","v":0},{"$f":"SUMIF(BDD!$BC$2:$BC$685,\"Banc 121FAUXVRAIFAUXFAUXVRAI\",BDD!$V$2:$V$685)","v":0},{"$f":"SUMIF(BDD!$BC$2:$BC$685,\"Banc 121VRAIFAUXVRAIFAUXFAUX\",BDD!$V$2:$V$685)","v":0},{"$f":"SUMIF(BDD!$BC$2:$BC$685,\"Banc 121VRAIFAUXFAUXVRAIFAUX\",BDD!$V$2:$V$685)","v":0},{"$f":"SUMIF(BDD!$BC$2:$BC$685,\"Banc 121VRAIFAUXFAUXFAUXVRAI\",BDD!$V$2:$V$685)","v":0},{"$f":"SUMIF(BDD!$BC$2:$BC$685,\"Banc 121FAUXVRAIVRAIFAUXFAUX\",BDD!$V$2:$V$685)","v":0},{"$f":"SUMIF(BDD!$BC$2:$BC$685,\"Banc 121FAUXVRAIFAUXVRAIFAUX\",BDD!$V$2:$V$685)","v":0},{"$f":"SUMIF(BDD!$BC$2:$BC$685,\"Banc 121FAUXVRAIFAUXFAUXVRAI\",BDD!$V$2:$V$685)","v":0},{"$f":"SUMIF(BDD!$BC$2:$BC$685,\"Banc 121VRAIFAUXVRAIFAUXFAUX\",BDD!$V$2:$V$685)","v":0},{"$f":"SUMIF(BDD!$BC$2:$BC$685,\"Banc 121VRAIFAUXFAUXVRAIFAUX\",BDD!$V$2:$V$685)","v":0},{"$f":"SUMIF(BDD!$BC$2:$BC$685,\"Banc 121VRAIFAUXFAUXFAUXVRAI\",BDD!$V$2:$V$685)","v":0},{"$f":"SUMIF(BDD!$BC$2:$BC$685,\"Banc 121FAUXVRAIVRAIFAUXFAUX\",BDD!$V$2:$V$685)","v":0},{"$f":"SUMIF(BDD!$BC$2:$BC$685,\"Banc 121FAUXVRAIFAUXVRAIFAUX\",BDD!$V$2:$V$685)","v":0},{"$f":"SUMIF(BDD!$BC$2:$BC$685,\"Banc 121FAUXVRAIFAUXFAUXVRAI\",BDD!$V$2:$V$685)","v":0},{"$f":"SUMIF(BDD!$BC$2:$BC$685,\"Banc 121VRAIFAUXVRAIFAUXFAUX\",BDD!$V$2:$V$685)","v":0},{"$f":"SUMIF(BDD!$BC$2:$BC$685,\"Banc 121VRAIFAUXFAUXVRAIFAUX\",BDD!$V$2:$V$685)","v":0},{"$f":"SUMIF(BDD!$BC$2:$BC$685,\"Banc 121VRAIFAUXFAUXFAUXVRAI\",BDD!$V$2:$V$685)","v":0},{"$f":"SUMIF(BDD!$BC$2:$BC$685,\"Banc 121FAUXVRAIVRAIFAUXFAUX\",BDD!$V$2:$V$685)","v":0},{"$f":"SUMIF(BDD!$BC$2:$BC$685,\"Banc 121FAUXVRAIFAUXVRAIFAUX\",BDD!$V$2:$V$685)","v":0},{"$f":"SUMIF(BDD!$BC$2:$BC$685,\"Banc 121FAUXVRAIFAUXFAUXVRAI\",BDD!$V$2:$V$685)","v":0},{"$f":"SUMIF(BDD!$BC$2:$BC$685,\"Banc 121VRAIFAUXVRAIFAUXFAUX\",BDD!$V$2:$V$685)","v":0},{"$f":"SUMIF(BDD!$BC$2:$BC$685,\"Banc 121VRAIFAUXFAUXVRAIFAUX\",BDD!$V$2:$V$685)","v":0},{"$f":"SUMIF(BDD!$BC$2:$BC$685,\"Banc 121VRAIFAUXFAUXFAUXVRAI\",BDD!$V$2:$V$685)","v":0},{"$f":"SUMIF(BDD!$BC$2:$BC$685,\"Banc 121FAUXVRAIVRAIFAUXFAUX\",BDD!$V$2:$V$685)","v":0},{"$f":"SUMIF(BDD!$BC$2:$BC$685,\"Banc 121FAUXVRAIFAUXVRAIFAUX\",BDD!$V$2:$V$685)","v":0},{"$f":"SUMIF(BDD!$BC$2:$BC$685,\"Banc 121FAUXVRAIFAUXFAUXVRAI\",BDD!$V$2:$V$685)","v":0},{"$f":"SUMIF(BDD!$BC$2:$BC$685,\"Banc 121VRAIFAUXVRAIFAUXFAUX\",BDD!$V$2:$V$685)","v":0},{"$f":"SUMIF(BDD!$BC$2:$BC$685,\"Banc 121VRAIFAUXFAUXVRAIFAUX\",BDD!$V$2:$V$685)","v":0},{"$f":"SUMIF(BDD!$BC$2:$BC$685,\"Banc 121VRAIFAUXFAUXFAUXVRAI\",BDD!$V$2:$V$685)","v":0},{"$f":"SUMIF(BDD!$BC$2:$BC$685,\"Banc 121FAUXVRAIVRAIFAUXFAUX\",BDD!$V$2:$V$685)","v":0},{"$f":"SUMIF(BDD!$BC$2:$BC$685,\"Banc 121FAUXVRAIFAUXVRAIFAUX\",BDD!$V$2:$V$685)","v":0},{"$f":"SUMIF(BDD!$BC$2:$BC$685,\"Banc 121FAUXVRAIFAUXFAUXVRAI\",BDD!$V$2:$V$685)","v":0},{"$f":"SUMIF(BDD!$BC$2:$BC$685,\"Banc 121VRAIFAUXVRAIFAUXFAUX\",BDD!$V$2:$V$685)","v":0},{"$f":"SUMIF(BDD!$BC$2:$BC$685,\"Banc 121VRAIFAUXFAUXVRAIFAUX\",BDD!$V$2:$V$685)","v":0},{"$f":"SUMIF(BDD!$BC$2:$BC$685,\"Banc 121VRAIFAUXFAUXFAUXVRAI\",BDD!$V$2:$V$685)","v":0},{"$f":"SUMIF(BDD!$BC$2:$BC$685,\"Banc 121FAUXVRAIVRAIFAUXFAUX\",BDD!$V$2:$V$685)","v":0},{"$f":"SUMIF(BDD!$BC$2:$BC$685,\"Banc 121FAUXVRAIFAUXVRAIFAUX\",BDD!$V$2:$V$685)","v":0},{"$f":"SUMIF(BDD!$BC$2:$BC$685,\"Banc 121FAUXVRAIFAUXFAUXVRAI\",BDD!$V$2:$V$685)","v":0}]
["Pompe à eau",{"$f":"SUMIF(BDD!$BC$2:$BC$685,\"pompe à eauVRAIFAUXVRAIFAUXFAUX\",BDD!$V$2:$V$685)","v":0},{"$f":"SUMIF(BDD!$BC$2:$BC$685,\"pompe à eauVRAIFAUXFAUXVRAIFAUX\",BDD!$V$2:$V$685)","v":0},{"$f":"SUMIF(BDD!$BC$2:$BC$685,\"pompe à eauVRAIFAUXFAUXFAUXVRAI\",BDD!$V$2:$V$685)","v":0},{"$f":"SUMIF(BDD!$BC$2:$BC$685,\"pompe à eauFAUXVRAIVRAIFAUXFAUX\",BDD!$V$2:$V$685)","v":0},{"$f":"SUMIF(BDD!$BC$2:$BC$685,\"pompe à eauFAUXVRAIFAUXVRAIFAUX\",BDD!$V$2:$V$685)","v":0},{"$f":"SUMIF(BDD!$BC$2:$BC$685,\"pompe à eauFAUXVRAIFAUXFAUXVRAI\",BDD!$V$2:$V$685)","v":0},{"$f":"SUMIF(BDD!$BC$2:$BC$685,\"pompe à eauVRAIFAUXVRAIFAUXFAUX\",BDD!$V$2:$V$685)","v":0},{"$f":"SUMIF(BDD!$BC$2:$BC$685,\"pompe à eauVRAIFAUXFAUXVRAIFAUX\",BDD!$V$2:$V$685)","v":0},{"$f":"SUMIF(BDD!$BC$2:$BC$685,\"pompe à eauVRAIFAUXFAUXFAUXVRAI\",BDD!$V$2:$V$685)","v":0},{"$f":"SUMIF(BDD!$BC$2:$BC$685,\"pompe à eauFAUXVRAIVRAIFAUXFAUX\",BDD!$V$2:$V$685)","v":0},{"$f":"SUMIF(BDD!$BC$2:$BC$685,\"pompe à eauFAUXVRAIFAUXVRAIFAUX\",BDD!$V$2:$V$685)","v":0},{"$f":"SUMIF(BDD!$BC$2:$BC$685,\"pompe à eauFAUXVRAIFAUXFAUXVRAI\",BDD!$V$2:$V$685)","v":0},{"$f":"SUMIF(BDD!$BC$2:$BC$685,\"pompe à eauVRAIFAUXVRAIFAUXFAUX\",BDD!$V$2:$V$685)","v":0},{"$f":"SUMIF(BDD!$BC$2:$BC$685,\"pompe à eauVRAIFAUXFAUXVRAIFAUX\",BDD!$V$2:$V$685)","v":0},{"$f":"SUMIF(BDD!$BC$2:$BC$685,\"pompe à eauVRAIFAUXFAUXFAUXVRAI\",BDD!$V$2:$V$685)","v":0},{"$f":"SUMIF(BDD!$BC$2:$BC$685,\"pompe à eauFAUXVRAIVRAIFAUXFAUX\",BDD!$V$2:$V$685)","v":0},{"$f":"SUMIF(BDD!$BC$2:$BC$685,\"pompe à eauFAUXVRAIFAUXVRAIFAUX\",BDD!$V$2:$V$685)","v":0},{"$f":"SUMIF(BDD!$BC$2:$BC$685,\"pompe à eauFAUXVRAIFAUXFAUXVRAI\",BDD!$V$2:$V$685)","v":0},{"$f":"SUMIF(BDD!$BC$2:$BC$685,\"pompe à eauVRAIFAUXVRAIFAUXFAUX\",BDD!$V$2:$V$685)","v":0},{"$f":"SUMIF(BDD!$BC$2:$BC$685,\"pompe à eauVRAIFAUXFAUXVRAIFAUX\",BDD!$V$2:$V$685)","v":0},{"$f":"SUMIF(BDD!$BC$2:$BC$685,\"pompe à eauVRAIFAUXFAUXFAUXVRAI\",BDD!$V$2:$V$685)","v":0},{"$f":"SUMIF(BDD!$BC$2:$BC$685,\"pompe à eauFAUXVRAIVRAIFAUXFAUX\",BDD!$V$2:$V$685)","v":0},{"$f":"SUMIF(BDD!$BC$2:$BC$685,\"pompe à eauFAUXVRAIFAUXVRAIFAUX\",BDD!$V$2:$V$685)","v":0},{"$f":"SUMIF(BDD!$BC$2:$BC$685,\"pompe à eauFAUXVRAIFAUXFAUXVRAI\",BDD!$V$2:$V$685)","v":0},{"$f":"SUMIF(BDD!$BC$2:$BC$685,\"pompe à eauVRAIFAUXVRAIFAUXFAUX\",BDD!$V$2:$V$685)","v":0},{"$f":"SUMIF(BDD!$BC$2:$BC$685,\"pompe à eauVRAIFAUXFAUXVRAIFAUX\",BDD!$V$2:$V$685)","v":0},{"$f":"SUMIF(BDD!$BC$2:$BC$685,\"pompe à eauVRAIFAUXFAUXFAUXVRAI\",BDD!$V$2:$V$685)","v":0},{"$f":"SUMIF(BDD!$BC$2:$BC$685,\"pompe à eauFAUXVRAIVRAIFAUXFAUX\",BDD!$V$2:$V$685)","v":0},{"$f":"SUMIF(BDD!$BC$2:$BC$685,\"pompe à eauFAUXVRAIFAUXVRAIFAUX\",BDD!$V$2:$V$685)","v":0},{"$f":"SUMIF(BDD!$BC$2:$BC$685,\"pompe à eauFAUXVRAIFAUXFAUXVRAI\",BDD!$V$2:$V$685)","v":0},{"$f":"SUMIF(BDD!$BC$2:$BC$685,\"pompe à eauVRAIFAUXVRAIFAUXFAUX\",BDD!$V$2:$V$685)","v":0},{"$f":"SUMIF(BDD!$BC$2:$BC$685,\"pompe à eauVRAIFAUXFAUXVRAIFAUX\",BDD!$V$2:$V$685)","v":0},{"$f":"SUMIF(BDD!$BC$2:$BC$685,\"pompe à eauVRAIFAUXFAUXFAUXVRAI\",BDD!$V$2:$V$685)","v":0},{"$f":"SUMIF(BDD!$BC$2:$BC$685,\"pompe à eauFAUXVRAIVRAIFAUXFAUX\",BDD!$V$2:$V$685)","v":0},{"$f":"SUMIF(BDD!$BC$2:$BC$685,\"pompe à eauFAUXVRAIFAUXVRAIFAUX\",BDD!$V$2:$V$685)","v":0},{"$f":"SUMIF(BDD!$BC$2:$BC$685,\"pompe à eauFAUXVRAIFAUXFAUXVRAI\",BDD!$V$2:$V$685)","v":0},{"$f":"SUMIF(BDD!$BC$2:$BC$685,\"pompe à eauVRAIFAUXVRAIFAUXFAUX\",BDD!$V$2:$V$685)","v":0},{"$f":"SUMIF(BDD!$BC$2:$BC$685,\"pompe à eauVRAIFAUXFAUXVRAIFAUX\",BDD!$V$2:$V$685)","v":0},{"$f":"SUMIF(BDD!$BC$2:$BC$685,\"pompe à eauVRAIFAUXFAUXFAUXVRAI\",BDD!$V$2:$V$685)","v":0},{"$f":"SUMIF(BDD!$BC$2:$BC$685,\"pompe à eauFAUXVRAIVRAIFAUXFAUX\",BDD!$V$2:$V$685)","v":0},{"$f":"SUMIF(BDD!$BC$2:$BC$685,\"pompe à eauFAUXVRAIFAUXVRAIFAUX\",BDD!$V$2:$V$685)","v":0},{"$f":"SUMIF(BDD!$BC$2:$BC$685,\"pompe à eauFAUXVRAIFAUXFAUXVRAI\",BDD!$V$2:$V$685)","v":0},{"$f":"SUMIF(BDD!$BC$2:$BC$685,\"pompe à eauVRAIFAUXVRAIFAUXFAUX\",BDD!$V$2:$V$685)","v":0},{"$f":"SUMIF(BDD!$BC$2:$BC$685,\"pompe à eauVRAIFAUXFAUXVRAIFAUX\",BDD!$V$2:$V$685)","v":0},{"$f":"SUMIF(BDD!$BC$2:$BC$685,\"pompe à eauVRAIFAUXFAUXFAUXVRAI\",BDD!$V$2:$V$685)","v":0},{"$f":"SUMIF(BDD!$BC$2:$BC$685,\"pompe à eauFAUXVRAIVRAIFAUXFAUX\",BDD!$V$2:$V$685)","v":0},{"$f":"SUMIF(BDD!$BC$2:$BC$685,\"pompe à eauFAUXVRAIFAUXVRAIFAUX\",BDD!$V$2:$V$685)","v":0},{"$f":"SUMIF(BDD!$BC$2:$BC$685,\"pompe à eauFAUXVRAIFAUXFAUXVRAI\",BDD!$V$2:$V$685)","v":0},{"$f":"SUMIF(BDD!$BC$2:$BC$685,\"pompe à eauVRAIFAUXVRAIFAUXFAUX\",BDD!$V$2:$V$685)","v":0},{"$f":"SUMIF(BDD!$BC$2:$BC$685,\"pompe à eauVRAIFAUXFAUXVRAIFAUX\",BDD!$V$2:$V$685)","v":0},{"$f":"SUMIF(BDD!$BC$2:$BC$685,\"pompe à eauVRAIFAUXFAUXFAUXVRAI\",BDD!$V$2:$V$685)","v":0},{"$f":"SUMIF(BDD!$BC$2:$BC$685,\"pompe à eauFAUXVRAIVRAIFAUXFAUX\",BDD!$V$2:$V$685)","v":0},{"$f":"SUMIF(BDD!$BC$2:$BC$685,\"pompe à eauFAUXVRAIFAUXVRAIFAUX\",BDD!$V$2:$V$685)","v":0},{"$f":"SUMIF(BDD!$BC$2:$BC$685,\"pompe à eauFAUXVRAIFAUXFAUXVRAI\",BDD!$V$2:$V$685)","v":0},{"$f":"SUMIF(BDD!$BC$2:$BC$685,\"pompe à eauVRAIFAUXVRAIFAUXFAUX\",BDD!$V$2:$V$685)","v":0},{"$f":"SUMIF(BDD!$BC$2:$BC$685,\"pompe à eauVRAIFAUXFAUXVRAIFAUX\",BDD!$V$2:$V$685)","v":0},{"$f":"SUMIF(BDD!$BC$2:$BC$685,\"pompe à eauVRAIFAUXFAUXFAUXVRAI\",BDD!$V$2:$V$685)","v":0},{"$f":"SUMIF(BDD!$BC$2:$BC$685,\"pompe à eauFAUXVRAIVRAIFAUXFAUX\",BDD!$V$2:$V$685)","v":0},{"$f":"SUMIF(BDD!$BC$2:$BC$685,\"pompe à eauFAUXVRAIFAUXVRAIFAUX\",BDD!$V$2:$V$685)","v":0},{"$f":"SUMIF(BDD!$BC$2:$BC$685,\"pompe à eauFAUXVRAIFAUXFAUXVRAI\",BDD!$V$2:$V$685)","v":0},{"$f":"SUMIF(BDD!$BC$2:$BC$685,\"pompe à eauVRAIFAUXVRAIFAUXFAUX\",BDD!$V$2:$V$685)","v":0},{"$f":"SUMIF(BDD!$BC$2:$BC$685,\"pompe à eauVRAIFAUXFAUXVRAIFAUX\",BDD!$V$2:$V$685)","v":0},{"$f":"SUMIF(BDD!$BC$2:$BC$685,\"pompe à eauVRAIFAUXFAUXFAUXVRAI\",BDD!$V$2:$V$685)","v":0},{"$f":"SUMIF(BDD!$BC$2:$BC$685,\"pompe à eauFAUXVRAIVRAIFAUXFAUX\",BDD!$V$2:$V$685)","v":0},{"$f":"SUMIF(BDD!$BC$2:$BC$685,\"pompe à eauFAUXVRAIFAUXVRAIFAUX\",BDD!$V$2:$V$685)","v":0},{"$f":"SUMIF(BDD!$BC$2:$BC$685,\"pompe à eauFAUXVRAIFAUXFAUXVRAI\",BDD!$V$2:$V$685)","v":0},{"$f":"SUMIF(BDD!$BC$2:$BC$685,\"pompe à eauVRAIFAUXVRAIFAUXFAUX\",BDD!$V$2:$V$685)","v":0},{"$f":"SUMIF(BDD!$BC$2:$BC$685,\"pompe à eauVRAIFAUXFAUXVRAIFAUX\",BDD!$V$2:$V$685)","v":0},{"$f":"SUMIF(BDD!$BC$2:$BC$685,\"pompe à eauVRAIFAUXFAUXFAUXVRAI\",BDD!$V$2:$V$685)","v":0},{"$f":"SUMIF(BDD!$BC$2:$BC$685,\"pompe à eauFAUXVRAIVRAIFAUXFAUX\",BDD!$V$2:$V$685)","v":0},{"$f":"SUMIF(BDD!$BC$2:$BC$685,\"pompe à eauFAUXVRAIFAUXVRAIFAUX\",BDD!$V$2:$V$685)","v":0},{"$f":"SUMIF(BDD!$BC$2:$BC$685,\"pompe à eauFAUXVRAIFAUXFAUXVRAI\",BDD!$V$2:$V$685)","v":0}]
["Banc PowerTrain",{"$f":"SUMIF(BDD!$BC$2:$BC$685,\"Banc PowerTrainVRAIFAUXVRAIFAUXFAUX\",BDD!$V$2:$V$685)","v":0},{"$f":"SUMIF(BDD!$BC$2:$BC$685,\"Banc PowerTrainVRAIFAUXFAUXVRAIFAUX\",BDD!$V$2:$V$685)","v":0},{"$f":"SUMIF(BDD!$BC$2:$BC$685,\"Banc PowerTrainVRAIFAUXFAUXFAUXVRAI\",BDD!$V$2:$V$685)","v":0},{"$f":"SUMIF(BDD!$BC$2:$BC$685,\"Banc PowerTrainFAUXVRAIVRAIFAUXFAUX\",BDD!$V$2:$V$685)","v":0},{"$f":"SUMIF(BDD!$BC$2:$BC$685,\"Banc PowerTrainFAUXVRAIFAUXVRAIFAUX\",BDD!$V$2:$V$685)","v":0},{"$f":"SUMIF(BDD!$BC$2:$BC$685,\"Banc PowerTrainFAUXVRAIFAUXFAUXVRAI\",BDD!$V$2:$V$685)","v":0},{"$f":"SUMIF(BDD!$BC$2:$BC$685,\"Banc PowerTrainVRAIFAUXVRAIFAUXFAUX\",BDD!$V$2:$V$685)","v":0},{"$f":"SUMIF(BDD!$BC$2:$BC$685,\"Banc PowerTrainVRAIFAUXFAUXVRAIFAUX\",BDD!$V$2:$V$685)","v":0},{"$f":"SUMIF(BDD!$BC$2:$BC$685,\"Banc PowerTrainVRAIFAUXFAUXFAUXVRAI\",BDD!$V$2:$V$685)","v":0},{"$f":"SUMIF(BDD!$BC$2:$BC$685,\"Banc PowerTrainFAUXVRAIVRAIFAUXFAUX\",BDD!$V$2:$V$685)","v":0},{"$f":"SUMIF(BDD!$BC$2:$BC$685,\"Banc PowerTrainFAUXVRAIFAUXVRAIFAUX\",BDD!$V$2:$V$685)","v":0},{"$f":"SUMIF(BDD!$BC$2:$BC$685,\"Banc PowerTrainFAUXVRAIFAUXFAUXVRAI\",BDD!$V$2:$V$685)","v":0},{"$f":"SUMIF(BDD!$BC$2:$BC$685,\"Banc PowerTrainVRAIFAUXVRAIFAUXFAUX\",BDD!$V$2:$V$685)","v":0},{"$f":"SUMIF(BDD!$BC$2:$BC$685,\"Banc PowerTrainVRAIFAUXFAUXVRAIFAUX\",BDD!$V$2:$V$685)","v":0},{"$f":"SUMIF(BDD!$BC$2:$BC$685,\"Banc PowerTrainVRAIFAUXFAUXFAUXVRAI\",BDD!$V$2:$V$685)","v":0},{"$f":"SUMIF(BDD!$BC$2:$BC$685,\"Banc PowerTrainFAUXVRAIVRAIFAUXFAUX\",BDD!$V$2:$V$685)","v":0},{"$f":"SUMIF(BDD!$BC$2:$BC$685,\"Banc PowerTrainFAUXVRAIFAUXVRAIFAUX\",BDD!$V$2:$V$685)","v":0},{"$f":"SUMIF(BDD!$BC$2:$BC$685,\"Banc PowerTrainFAUXVRAIFAUXFAUXVRAI\",BDD!$V$2:$V$685)","v":0},{"$f":"SUMIF(BDD!$BC$2:$BC$685,\"Banc PowerTrainVRAIFAUXVRAIFAUXFAUX\",BDD!$V$2:$V$685)","v":0},{"$f":"SUMIF(BDD!$BC$2:$BC$685,\"Banc PowerTrainVRAIFAUXFAUXVRAIFAUX\",BDD!$V$2:$V$685)","v":0},{"$f":"SUMIF(BDD!$BC$2:$BC$685,\"Banc PowerTrainVRAIFAUXFAUXFAUXVRAI\",BDD!$V$2:$V$685)","v":0},{"$f":"SUMIF(BDD!$BC$2:$BC$685,\"Banc PowerTrainFAUXVRAIVRAIFAUXFAUX\",BDD!$V$2:$V$685)","v":0},{"$f":"SUMIF(BDD!$BC$2:$BC$685,\"Banc PowerTrainFAUXVRAIFAUXVRAIFAUX\",BDD!$V$2:$V$685)","v":0},{"$f":"SUMIF(BDD!$BC$2:$BC$685,\"Banc PowerTrainFAUXVRAIFAUXFAUXVRAI\",BDD!$V$2:$V$685)","v":0},{"$f":"SUMIF(BDD!$BC$2:$BC$685,\"Banc PowerTrainVRAIFAUXVRAIFAUXFAUX\",BDD!$V$2:$V$685)","v":0},{"$f":"SUMIF(BDD!$BC$2:$BC$685,\"Banc PowerTrainVRAIFAUXFAUXVRAIFAUX\",BDD!$V$2:$V$685)","v":0},{"$f":"SUMIF(BDD!$BC$2:$BC$685,\"Banc PowerTrainVRAIFAUXFAUXFAUXVRAI\",BDD!$V$2:$V$685)","v":0},{"$f":"SUMIF(BDD!$BC$2:$BC$685,\"Banc PowerTrainFAUXVRAIVRAIFAUXFAUX\",BDD!$V$2:$V$685)","v":0},{"$f":"SUMIF(BDD!$BC$2:$BC$685,\"Banc PowerTrainFAUXVRAIFAUXVRAIFAUX\",BDD!$V$2:$V$685)","v":0},{"$f":"SUMIF(BDD!$BC$2:$BC$685,\"Banc PowerTrainFAUXVRAIFAUXFAUXVRAI\",BDD!$V$2:$V$685)","v":0},{"$f":"SUMIF(BDD!$BC$2:$BC$685,\"Banc PowerTrainVRAIFAUXVRAIFAUXFAUX\",BDD!$V$2:$V$685)","v":0},{"$f":"SUMIF(BDD!$BC$2:$BC$685,\"Banc PowerTrainVRAIFAUXFAUXVRAIFAUX\",BDD!$V$2:$V$685)","v":0},{"$f":"SUMIF(BDD!$BC$2:$BC$685,\"Banc PowerTrainVRAIFAUXFAUXFAUXVRAI\",BDD!$V$2:$V$685)","v":0},{"$f":"SUMIF(BDD!$BC$2:$BC$685,\"Banc PowerTrainFAUXVRAIVRAIFAUXFAUX\",BDD!$V$2:$V$685)","v":0},{"$f":"SUMIF(BDD!$BC$2:$BC$685,\"Banc PowerTrainFAUXVRAIFAUXVRAIFAUX\",BDD!$V$2:$V$685)","v":0},{"$f":"SUMIF(BDD!$BC$2:$BC$685,\"Banc PowerTrainFAUXVRAIFAUXFAUXVRAI\",BDD!$V$2:$V$685)","v":0},{"$f":"SUMIF(BDD!$BC$2:$BC$685,\"Banc PowerTrainVRAIFAUXVRAIFAUXFAUX\",BDD!$V$2:$V$685)","v":0},{"$f":"SUMIF(BDD!$BC$2:$BC$685,\"Banc PowerTrainVRAIFAUXFAUXVRAIFAUX\",BDD!$V$2:$V$685)","v":0},{"$f":"SUMIF(BDD!$BC$2:$BC$685,\"Banc PowerTrainVRAIFAUXFAUXFAUXVRAI\",BDD!$V$2:$V$685)","v":0},{"$f":"SUMIF(BDD!$BC$2:$BC$685,\"Banc PowerTrainFAUXVRAIVRAIFAUXFAUX\",BDD!$V$2:$V$685)","v":0},{"$f":"SUMIF(BDD!$BC$2:$BC$685,\"Banc PowerTrainFAUXVRAIFAUXVRAIFAUX\",BDD!$V$2:$V$685)","v":0},{"$f":"SUMIF(BDD!$BC$2:$BC$685,\"Banc PowerTrainFAUXVRAIFAUXFAUXVRAI\",BDD!$V$2:$V$685)","v":0},{"$f":"SUMIF(BDD!$BC$2:$BC$685,\"Banc PowerTrainVRAIFAUXVRAIFAUXFAUX\",BDD!$V$2:$V$685)","v":0},{"$f":"SUMIF(BDD!$BC$2:$BC$685,\"Banc PowerTrainVRAIFAUXFAUXVRAIFAUX\",BDD!$V$2:$V$685)","v":0},{"$f":"SUMIF(BDD!$BC$2:$BC$685,\"Banc PowerTrainVRAIFAUXFAUXFAUXVRAI\",BDD!$V$2:$V$685)","v":0},{"$f":"SUMIF(BDD!$BC$2:$BC$685,\"Banc PowerTrainFAUXVRAIVRAIFAUXFAUX\",BDD!$V$2:$V$685)","v":0},{"$f":"SUMIF(BDD!$BC$2:$BC$685,\"Banc PowerTrainFAUXVRAIFAUXVRAIFAUX\",BDD!$V$2:$V$685)","v":0},{"$f":"SUMIF(BDD!$BC$2:$BC$685,\"Banc PowerTrainFAUXVRAIFAUXFAUXVRAI\",BDD!$V$2:$V$685)","v":0},{"$f":"SUMIF(BDD!$BC$2:$BC$685,\"Banc PowerTrainVRAIFAUXVRAIFAUXFAUX\",BDD!$V$2:$V$685)","v":0},{"$f":"SUMIF(BDD!$BC$2:$BC$685,\"Banc PowerTrainVRAIFAUXFAUXVRAIFAUX\",BDD!$V$2:$V$685)","v":0},{"$f":"SUMIF(BDD!$BC$2:$BC$685,\"Banc PowerTrainVRAIFAUXFAUXFAUXVRAI\",BDD!$V$2:$V$685)","v":0},{"$f":"SUMIF(BDD!$BC$2:$BC$685,\"Banc PowerTrainFAUXVRAIVRAIFAUXFAUX\",BDD!$V$2:$V$685)","v":0},{"$f":"SUMIF(BDD!$BC$2:$BC$685,\"Banc PowerTrainFAUXVRAIFAUXVRAIFAUX\",BDD!$V$2:$V$685)","v":0},{"$f":"SUMIF(BDD!$BC$2:$BC$685,\"Banc PowerTrainFAUXVRAIFAUXFAUXVRAI\",BDD!$V$2:$V$685)","v":0},{"$f":"SUMIF(BDD!$BC$2:$BC$685,\"Banc PowerTrainVRAIFAUXVRAIFAUXFAUX\",BDD!$V$2:$V$685)","v":0},{"$f":"SUMIF(BDD!$BC$2:$BC$685,\"Banc PowerTrainVRAIFAUXFAUXVRAIFAUX\",BDD!$V$2:$V$685)","v":0},{"$f":"SUMIF(BDD!$BC$2:$BC$685,\"Banc PowerTrainVRAIFAUXFAUXFAUXVRAI\",BDD!$V$2:$V$685)","v":0},{"$f":"SUMIF(BDD!$BC$2:$BC$685,\"Banc PowerTrainFAUXVRAIVRAIFAUXFAUX\",BDD!$V$2:$V$685)","v":0},{"$f":"SUMIF(BDD!$BC$2:$BC$685,\"Banc PowerTrainFAUXVRAIFAUXVRAIFAUX\",BDD!$V$2:$V$685)","v":0},{"$f":"SUMIF(BDD!$BC$2:$BC$685,\"Banc PowerTrainFAUXVRAIFAUXFAUXVRAI\",BDD!$V$2:$V$685)","v":0},{"$f":"SUMIF(BDD!$BC$2:$BC$685,\"Banc PowerTrainVRAIFAUXVRAIFAUXFAUX\",BDD!$V$2:$V$685)","v":0},{"$f":"SUMIF(BDD!$BC$2:$BC$685,\"Banc PowerTrainVRAIFAUXFAUXVRAIFAUX\",BDD!$V$2:$V$685)","v":0},{"$f":"SUMIF(BDD!$BC$2:$BC$685,\"Banc PowerTrainVRAIFAUXFAUXFAUXVRAI\",BDD!$V$2:$V$685)","v":0},{"$f":"SUMIF(BDD!$BC$2:$BC$685,\"Banc PowerTrainFAUXVRAIVRAIFAUXFAUX\",BDD!$V$2:$V$685)","v":0},{"$f":"SUMIF(BDD!$BC$2:$BC$685,\"Banc PowerTrainFAUXVRAIFAUXVRAIFAUX\",BDD!$V$2:$V$685)","v":0},{"$f":"SUMIF(BDD!$BC$2:$BC$685,\"Banc PowerTrainFAUXVRAIFAUXFAUXVRAI\",BDD!$V$2:$V$685)","v":0},{"$f":"SUMIF(BDD!$BC$2:$BC$685,\"Banc PowerTrainVRAIFAUXVRAIFAUXFAUX\",BDD!$V$2:$V$685)","v":0},{"$f":"SUMIF(BDD!$BC$2:$BC$685,\"Banc PowerTrainVRAIFAUXFAUXVRAIFAUX\",BDD!$V$2:$V$685)","v":0},{"$f":"SUMIF(BDD!$BC$2:$BC$685,\"Banc PowerTrainVRAIFAUXFAUXFAUXVRAI\",BDD!$V$2:$V$685)","v":0},{"$f":"SUMIF(BDD!$BC$2:$BC$685,\"Banc PowerTrainFAUXVRAIVRAIFAUXFAUX\",BDD!$V$2:$V$685)","v":0},{"$f":"SUMIF(BDD!$BC$2:$BC$685,\"Banc PowerTrainFAUXVRAIFAUXVRAIFAUX\",BDD!$V$2:$V$685)","v":0},{"$f":"SUMIF(BDD!$BC$2:$BC$685,\"Banc PowerTrainFAUXVRAIFAUXFAUXVRAI\",BDD!$V$2:$V$685)","v":0}]

{"sheet":"Indicateur Zone9","index":6,"n_rows":100,"n_cols":73,"rows_kept":100,"cut":false,"hidden":false,"merged":[[90,19,90,21],[90,22,90,24],[31,1,31,12],[90,1,90,3],[90,4,90,6],[90,7,90,9],[90,10,90,12],[90,13,90,15],[56,21,56,22],[56,23,56,24],[88,1,88,21],[89,1,89,6],[89,7,89,12],[89,13,89,18],[89,19,89,24],[1,1,1,12],[55,1,55,12],[89,25,89,30],[90,25,90,27],[90,28,90,30],[56,1,56,2],[56,3,56,4],[56,5,56,6],[56,7,56,8],[56,9,56,10],[56,11,56,12],[56,13,56,14],[56,15,56,16],[56,17,56,18],[56,19,56,20],[90,16,90,18],[89,31,89,36],[89,37,89,42],[90,31,90,33],[90,34,90,36],[90,37,90,39],[90,40,90,42],[89,43,89,48],[89,49,89,54],[89,55,89,60],[89,61,89,66],[89,67,89,72],[90,43,90,45],[90,46,90,48],[90,49,90,51],[90,52,90,54],[90,55,90,57],[90,58,90,60],[90,61,90,63],[90,64,90,66],[90,67,90,69],[90,70,90,72]]}
[]
[null,"Suivi des arrêts par banc"]
["Banc zone 9","Janvier","Février","Mars","Avril","Mai","Juin","Juillet","Août","Septembre","Octobre","Novembre","Décembre"]
["Banc P9",{"$f":"SUMIF(BDD!$H$2:$H$685,'Indicateur Zone9'!$A$4,BDD!$V$2:$V$685)","v":0},{"$f":"SUMIF(BDD!$H$2:$H$685,'Indicateur Zone9'!$A$4,BDD!$V$2:$V$685)","v":0},{"$f":"SUMIF(BDD!$H$2:$H$685,'Indicateur Zone9'!$A$4,BDD!$V$2:$V$685)","v":0},{"$f":"SUMIF(BDD!$H$2:$H$685,'Indicateur Zone9'!$A$4,BDD!$V$2:$V$685)","v":0},{"$f":"SUMIF(BDD!$H$2:$H$685,'Indicateur Zone9'!$A$4,BDD!$V$2:$V$685)","v":0},{"$f":"SUMIF(BDD!$H$2:$H$685,'Indicateur Zone9'!$A$4,BDD!$V$2:$V$685)","v":0},{"$f":"SUMIF(BDD!$H$2:$H$685,'Indicateur Zone9'!$A$4,BDD!$V$2:$V$685)","v":0},{"$f":"SUMIF(BDD!$H$2:$H$685,'Indicateur Zone9'!$A$4,BDD!$V$2:$V$685)","v":0},{"$f":"SUMIF(BDD!$H$2:$H$685,'Indicateur Zone9'!$A$4,BDD!$V$2:$V$685)","v":0},{"$f":"SUMIF(BDD!$H$2:$H$685,'Indicateur Zone9'!$A$4,BDD!$V$2:$V$685)","v":0},{"$f":"SUMIF(BDD!$H$2:$H$685,'Indicateur Zone9'!$A$4,BDD!$V$2:$V$685)","v":0},{"$f":"SUMIF(BDD!$H$2:$H$685,'Indicateur Zone9'!$A$4,BDD!$V$2:$V$685)","v":0}]
["Banc 111",{"$f":"SUMIF(BDD!$H$2:$H$685,'Indicateur Zone9'!$A$5,BDD!$V$2:$V$685)","v":0},{"$f":"SUMIF(BDD!$H$2:$H$685,'Indicateur Zone9'!$A$5,BDD!$V$2:$V$685)","v":0},{"$f":"SUMIF(BDD!$H$2:$H$685,'Indicateur Zone9'!$A$5,BDD!$V$2:$V$685)","v":0},{"$f":"SUMIF(BDD!$H$2:$H$685,'Indicateur Zone9'!$A$5,BDD!$V$2:$V$685)","v":0},{"$f":"SUMIF(BDD!$H$2:$H$685,'Indicateur Zone9'!$A$5,BDD!$V$2:$V$685)","v":0},{"$f":"SUMIF(BDD!$H$2:$H$685,'Indicateur Zone9'!$A$5,BDD!$V$2:$V$685)","v":0},{"$f":"SUMIF(BDD!$H$2:$H$685,'Indicateur Zone9'!$A$5,BDD!$V$2:$V$685)","v":0},{"$f":"SUMIF(BDD!$H$2:$H$685,'Indicateur Zone9'!$A$5,BDD!$V$2:$V$685)","v":0},{"$f":"SUMIF(BDD!$H$2:$H$685,'Indicateur Zone9'!$A$5,BDD!$V$2:$V$685)","v":0},{"$f":"SUMIF(BDD!$H$2:$H$685,'Indicateur Zone9'!$A$5,BDD!$V$2:$V$685)","v":0},{"$f":"SUMIF(BDD!$H$2:$H$685,'Indicateur Zone9'!$A$5,BDD!$V$2:$V$685)","v":0},{"$f":"SUMIF(BDD!$H$2:$H$685,'Indicateur Zone9'!$A$5,BDD!$V$2:$V$685)","v":0}]
["Banc 117",{"$f":"SUMIF(BDD!$H$2:$H$685,'Indicateur Zone9'!$A$6,BDD!$V$2:$V$685)","v":0},{"$f":"SUMIF(BDD!$H$2:$H$685,'Indicateur Zone9'!$A$6,BDD!$V$2:$V$685)","v":0},{"$f":"SUMIF(BDD!$H$2:$H$685,'Indicateur Zone9'!$A$6,BDD!$V$2:$V$685)","v":0},{"$f":"SUMIF(BDD!$H$2:$H$685,'Indicateur Zone9'!$A$6,BDD!$V$2:$V$685)","v":0},{"$f":"SUMIF(BDD!$H$2:$H$685,'Indicateur Zone9'!$A$6,BDD!$V$2:$V$685)","v":0},{"$f":"SUMIF(BDD!$H$2:$H$685,'Indicateur Zone9'!$A$6,BDD!$V$2:$V$685)","v":0},{"$f":"SUMIF(BDD!$H$2:$H$685,'Indicateur Zone9'!$A$6,BDD!$V$2:$V$685)","v":0},{"$f":"SUMIF(BDD!$H$2:$H$685,'Indicateur Zone9'!$A$6,BDD!$V$2:$V$685)","v":0},{"$f":"SUMIF(BDD!$H$2:$H$685,'Indicateur Zone9'!$A$6,BDD!$V$2:$V$685)","v":0},{"$f":"SUMIF(BDD!$H$2:$H$685,'Indicateur Zone9'!$A$6,BDD!$V$2:$V$685)","v":0},{"$f":"SUMIF(BDD!$H$2:$H$685,'Indicateur Zone9'!$A$6,BDD!$V$2:$V$685)","v":0},{"$f":"SUMIF(BDD!$H$2:$H$685,'Indicateur Zone9'!$A$6,BDD!$V$2:$V$685)","v":0}]
["Banc 117 bis",{"$f":"SUMIF(BDD!$H$2:$H$685,'Indicateur Zone9'!$A$7,BDD!$V$2:$V$685)","v":0},{"$f":"SUMIF(BDD!$H$2:$H$685,'Indicateur Zone9'!$A$7,BDD!$V$2:$V$685)","v":0},{"$f":"SUMIF(BDD!$H$2:$H$685,'Indicateur Zone9'!$A$7,BDD!$V$2:$V$685)","v":0},{"$f":"SUMIF(BDD!$H$2:$H$685,'Indicateur Zone9'!$A$7,BDD!$V$2:$V$685)","v":0},{"$f":"SUMIF(BDD!$H$2:$H$685,'Indicateur Zone9'!$A$7,BDD!$V$2:$V$685)","v":0},{"$f":"SUMIF(BDD!$H$2:$H$685,'Indicateur Zone9'!$A$7,BDD!$V$2:$V$685)","v":0},{"$f":"SUMIF(BDD!$H$2:$H$685,'Indicateur Zone9'!$A$7,BDD!$V$2:$V$685)","v":0},{"$f":"SUMIF(BDD!$H$2:$H$685,'Indicateur Zone9'!$A$7,BDD!$V$2:$V$685)","v":0},{"$f":"SUMIF(BDD!$H$2:$H$685,'Indicateur Zone9'!$A$7,BDD!$V$2:$V$685)","v":0},{"$f":"SUMIF(BDD!$H$2:$H$685,'Indicateur Zone9'!$A$7,BDD!$V$2:$V$685)","v":0},{"$f":"SUMIF(BDD!$H$2:$H$685,'Indicateur Zone9'!$A$7,BDD!$V$2:$V$685)","v":0},{"$f":"SUMIF(BDD!$H$2:$H$685,'Indicateur Zone9'!$A$7,BDD!$V$2:$V$685)","v":0}]
["Banc 119",{"$f":"SUMIF(BDD!$H$2:$H$685,'Indicateur Zone9'!$A$8,BDD!$V$2:$V$685)","v":0},{"$f":"SUMIF(BDD!$H$2:$H$685,'Indicateur Zone9'!$A$8,BDD!$V$2:$V$685)","v":0},{"$f":"SUMIF(BDD!$H$2:$H$685,'Indicateur Zone9'!$A$8,BDD!$V$2:$V$685)","v":0},{"$f":"SUMIF(BDD!$H$2:$H$685,'Indicateur Zone9'!$A$8,BDD!$V$2:$V$685)","v":0},{"$f":"SUMIF(BDD!$H$2:$H$685,'Indicateur Zone9'!$A$8,BDD!$V$2:$V$685)","v":0},{"$f":"SUMIF(BDD!$H$2:$H$685,'Indicateur Zone9'!$A$8,BDD!$V$2:$V$685)","v":0},{"$f":"SUMIF(BDD!$H$2:$H$685,'Indicateur Zone9'!$A$8,BDD!$V$2:$V$685)","v":0},{"$f":"SUMIF(BDD!$H$2:$H$685,'Indicateur Zone9'!$A$8,BDD!$V$2:$V$685)","v":0},{"$f":"SUMIF(BDD!$H$2:$H$685,'Indicateur Zone9'!$A$8,BDD!$V$2:$V$685)","v":0},{"$f":"SUMIF(BDD!$H$2:$H$685,'Indicateur Zone9'!$A$8,BDD!$V$2:$V$685)","v":0},{"$f":"SUMIF(BDD!$H$2:$H$685,'Indicateur Zone9'!$A$8,BDD!$V$2:$V$685)","v":0},{"$f":"SUMIF(BDD!$H$2:$H$685,'Indicateur Zone9'!$A$8,BDD!$V$2:$V$685)","v":0}]
["Banc 123",{"$f":"SUMIF(BDD!$H$2:$H$685,'Indicateur Zone9'!$A$9,BDD!$V$2:$V$685)","v":0},{"$f":"SUMIF(BDD!$H$2:$H$685,'Indicateur Zone9'!$A$9,BDD!$V$2:$V$685)","v":0},{"$f":"SUMIF(BDD!$H$2:$H$685,'Indicateur Zone9'!$A$9,BDD!$V$2:$V$685)","v":0},{"$f":"SUMIF(BDD!$H$2:$H$685,'Indicateur Zone9'!$A$9,BDD!$V$2:$V$685)","v":0},{"$f":"SUMIF(BDD!$H$2:$H$685,'Indicateur Zone9'!$A$9,BDD!$V$2:$V$685)","v":0},{"$f":"SUMIF(BDD!$H$2:$H$685,'Indicateur Zone9'!$A$9,BDD!$V$2:$V$685)","v":0},{"$f":"SUMIF(BDD!$H$2:$H$685,'Indicateur Zone9'!$A$9,BDD!$V$2:$V$685)","v":0},{"$f":"SUMIF(BDD!$H$2:$H$685,'Indicateur Zone9'!$A$9,BDD!$V$2:$V$685)","v":0},{"$f":"SUMIF(BDD!$H$2:$H$685,'Indicateur Zone9'!$A$9,BDD!$V$2:$V$685)","v":0},{"$f":"SUMIF(BDD!$H$2:$H$685,'Indicateur Zone9'!$A$9,BDD!$V$2:$V$685)","v":0},{"$f":"SUMIF(BDD!$H$2:$H$685,'Indicateur Zone9'!$A$9,BDD!$V$2:$V$685)","v":0},{"$f":"SUMIF(BDD!$H$2:$H$685,'Indicateur Zone9'!$A$9,BDD!$V$2:$V$685)","v":0}]
["Banc 126",{"$f":"SUMIF(BDD!$H$2:$H$685,'Indicateur Zone9'!$A$10,BDD!$V$2:$V$685)","v":0},{"$f":"SUMIF(BDD!$H$2:$H$685,'Indicateur Zone9'!$A$10,BDD!$V$2:$V$685)","v":0},{"$f":"SUMIF(BDD!$H$2:$H$685,'Indicateur Zone9'!$A$10,BDD!$V$2:$V$685)","v":0},{"$f":"SUMIF(BDD!$H$2:$H$685,'Indicateur Zone9'!$A$10,BDD!$V$2:$V$685)","v":0},{"$f":"SUMIF(BDD!$H$2:$H$685,'Indicateur Zone9'!$A$10,BDD!$V$2:$V$685)","v":0},{"$f":"SUMIF(BDD!$H$2:$H$685,'Indicateur Zone9'!$A$10,BDD!$V$2:$V$685)","v":0},{"$f":"SUMIF(BDD!$H$2:$H$685,'Indicateur Zone9'!$A$10,BDD!$V$2:$V$685)","v":0},{"$f":"SUMIF(BDD!$H$2:$H$685,'Indicateur Zone9'!$A$10,BDD!$V$2:$V$685)","v":0},{"$f":"SUMIF(BDD!$H$2:$H$685,'Indicateur Zone9'!$A$10,BDD!$V$2:$V$685)","v":0},{"$f":"SUMIF(BDD!$H$2:$H$685,'Indicateur Zone9'!$A$10,BDD!$V$2:$V$685)","v":0},{"$f":"SUMIF(BDD!$H$2:$H$685,'Indicateur Zone9'!$A$10,BDD!$V$2:$V$685)","v":0},{"$f":"SUMIF(BDD!$H$2:$H$685,'Indicateur Zone9'!$A$10,BDD!$V$2:$V$685)","v":0}]
["Banc 156",{"$f":"SUMIF(BDD!$H$2:$H$685,'Indicateur Zone9'!$A$11,BDD!$V$2:$V$685)","v":0},{"$f":"SUMIF(BDD!$H$2:$H$685,'Indicateur Zone9'!$A$11,BDD!$V$2:$V$685)","v":0},{"$f":"SUMIF(BDD!$H$2:$H$685,'Indicateur Zone9'!$A$11,BDD!$V$2:$V$685)","v":0},{"$f":"SUMIF(BDD!$H$2:$H$685,'Indicateur Zone9'!$A$11,BDD!$V$2:$V$685)","v":0},{"$f":"SUMIF(BDD!$H$2:$H$685,'Indicateur Zone9'!$A$11,BDD!$V$2:$V$685)","v":0},{"$f":"SUMIF(BDD!$H$2:$H$685,'Indicateur Zone9'!$A$11,BDD!$V$2:$V$685)","v":0},{"$f":"SUMIF(BDD!$H$2:$H$685,'Indicateur Zone9'!$A$11,BDD!$V$2:$V$685)","v":0},{"$f":"SUMIF(BDD!$H$2:$H$685,'Indicateur Zone9'!$A$11,BDD!$V$2:$V$685)","v":0},{"$f":"SUMIF(BDD!$H$2:$H$685,'Indicateur Zone9'!$A$11,BDD!$V$2:$V$685)","v":0},{"$f":"SUMIF(BDD!$H$2:$H$685,'Indicateur Zone9'!$A$11,BDD!$V$2:$V$685)","v":0},{"$f":"SUMIF(BDD!$H$2:$H$685,'Indicateur Zone9'!$A$11,BDD!$V$2:$V$685)","v":0},{"$f":"SUMIF(BDD!$H$2:$H$685,'Indicateur Zone9'!$A$11,BDD!$V$2:$V$685)","v":0}]
[]
[]
[]
[]
[]
[]
[]
[]
[]
[]
[]
[]
[]
[]
[]
[]
[]
[]
[]
[]
[null,"Suivi du correctif et du préventif"]
["Type de maintenance","Janvier","Février","Mars","Avril","Mai","Juin","Juillet","Août","Septembre","Octobre","Novembre","Décembre"]
["Préventive",{"$f":"SUM(C59:C66)","v":0},{"$f":"SUM(E59:E66)","v":0},{"$f":"SUM(G59:G66)","v":0},{"$f":"SUM(I59:I66)","v":0},{"$f":"SUM(K59:K66)","v":0},{"$f":"SUM(M59:M66)","v":0},{"$f":"SUM(O59:O66)","v":0},{"$f":"SUM(Q59:Q66)","v":0},{"$f":"SUM(S59:S66)","v":0},{"$f":"SUM(U59:U66)","v":0},{"$f":"SUM(W59:W66)","v":0},{"$f":"SUM(Y59:Y66)","v":0}]
["Corrective",{"$f":"SUM(B59:B66)","v":0},{"$f":"SUM(D59:D66)","v":0},{"$f":"SUM(F59:F66)","v":0},{"$f":"SUM(H59:H66)","v":0},{"$f":"SUM(J59:J66)","v":0},{"$f":"SUM(L59:L66)","v":0},{"$f":"SUM(N59:N66)","v":0},{"$f":"SUM(N59:N66)","v":0},{"$f":"SUM(R59:R66)","v":0},{"$f":"SUM(T59:T66)","v":0},{"$f":"SUM(V59:V66)","v":0},{"$f":"SUM(X59:X66)","v":0}]
[]
[]
[]
[]
[]
[]
[]
[]
[]
[]
[]
[]
[]
[]
[]
[]
[]
[]
[]
[]
[null,"Suivi du correctif et du préventif par banc"]
[null,"Janvier",null,"Février",null,"Mars",null,"Avril",null,"Mai",null,"Juin",null,"Juillet",null,"Août",null,"Septembre",null,"Octobre",null,"Novembre",null,"Décembre"]
["Banc zone 9","Corrective","Préventive","Corrective","Préventive","Corrective","Préventive","Corrective","Préventive","Corrective","Préventive","Corrective","Préventive","Corrective","Préventive","Corrective","Préventive","Corrective","Préventive","Corrective","Préventive","Corrective","Préventive","Corrective","Préventive"]
["Banc P9",{"$f":"SUMIF(BDD!$BB$2:$BB$685,\"Banc P9VRAIFAUX\",BDD!$V$2:$V$685)","v":0},{"$f":"SUMIF(BDD!$BB$2:$BB$685,\"Banc P9FAUXvrai\",BDD!$V$2:$V$685)","v":0},{"$f":"SUMIF(BDD!$BB$2:$BB$685,\"Banc P9VRAIFAUX\",BDD!$V$2:$V$685)","v":0},{"$f":"SUMIF(BDD!$BB$2:$BB$685,\"Banc P9FAUXvrai\",BDD!$V$2:$V$685)","v":0},{"$f":"SUMIF(BDD!$BB$2:$BB$685,\"Banc P9VRAIFAUX\",BDD!$V$2:$V$685)","v":0},{"$f":"SUMIF(BDD!$BB$2:$BB$685,\"Banc P9FAUXvrai\",BDD!$V$2:$V$685)","v":0},{"$f":"SUMIF(BDD!$BB$2:$BB$685,\"Banc P9VRAIFAUX\",BDD!$V$2:$V$685)","v":0},{"$f":"SUMIF(BDD!$BB$2:$BB$685,\"Banc P9FAUXvrai\",BDD!$V$2:$V$685)","v":0},{"$f":"SUMIF(BDD!$BB$2:$BB$685,\"Banc P9VRAIFAUX\",BDD!$V$2:$V$685)","v":0},{"$f":"SUMIF(BDD!$BB$2:$BB$685,\"Banc P9FAUXvrai\",BDD!$V$2:$V$685)","v":0},{"$f":"SUMIF(BDD!$BB$2:$BB$685,\"Banc P9VRAIFAUX\",BDD!$V$2:$V$685)","v":0},{"$f":"SUMIF(BDD!$BB$2:$BB$685,\"Banc P9FAUXvrai\",BDD!$V$2:$V$685)","v":0},{"$f":"SUMIF(BDD!$BB$2:$BB$685,\"Banc P9VRAIFAUX\",BDD!$V$2:$V$685)","v":0},{"$f":"SUMIF(BDD!$BB$2:$BB$685,\"Banc P9FAUXvrai\",BDD!$V$2:$V$685)","v":0},{"$f":"SUMIF(BDD!$BB$2:$BB$685,\"Banc P9VRAIFAUX\",BDD!$V$2:$V$685)","v":0},{"$f":"SUMIF(BDD!$BB$2:$BB$685,\"Banc P9FAUXvrai\",BDD!$V$2:$V$685)","v":0},{"$f":"SUMIF(BDD!$BB$2:$BB$685,\"Banc P9VRAIFAUX\",BDD!$V$2:$V$685)","v":0},{"$f":"SUMIF(BDD!$BB$2:$BB$685,\"Banc P9FAUXvrai\",BDD!$V$2:$V$685)","v":0},{"$f":"SUMIF(BDD!$BB$2:$BB$685,\"Banc P9VRAIFAUX\",BDD!$V$2:$V$685)","v":0},{"$f":"SUMIF(BDD!$BB$2:$BB$685,\"Banc P9FAUXvrai\",BDD!$V$2:$V$685)","v":0},{"$f":"SUMIF(BDD!$BB$2:$BB$685,\"Banc P9VRAIFAUX\",BDD!$V$2:$V$685)","v":0},{"$f":"SUMIF(BDD!$BB$2:$BB$685,\"Banc P9FAUXvrai\",BDD!$V$2:$V$685)","v":0},{"$f":"SUMIF(BDD!$BB$2:$BB$685,\"Banc P9VRAIFAUX\",BDD!$V$2:$V$685)","v":0},{"$f":"SUMIF(BDD!$BB$2:$BB$685,\"Banc P9FAUXvrai\",BDD!$V$2:$V$685)","v":0}]
["Banc 111",{"$f":"SUMIF(BDD!$BB$2:$BB$685,\"Banc 111VRAIFAUX\",BDD!$V$2:$V$685)","v":0},{"$f":"SUMIF(BDD!$BB$2:$BB$685,\"Banc 111FAUXVRAI\",BDD!$V$2:$V$685)","v":0},{"$f":"SUMIF(BDD!$BB$2:$BB$685,\"Banc 111VRAIFAUX\",BDD!$V$2:$V$685)","v":0},{"$f":"SUMIF(BDD!$BB$2:$BB$685,\"Banc 111FAUXVRAI\",BDD!$V$2:$V$685)","v":0},{"$f":"SUMIF(BDD!$BB$2:$BB$685,\"Banc 111VRAIFAUX\",BDD!$V$2:$V$685)","v":0},{"$f":"SUMIF(BDD!$BB$2:$BB$685,\"Banc 111FAUXVRAI\",BDD!$V$2:$V$685)","v":0},{"$f":"SUMIF(BDD!$BB$2:$BB$685,\"Banc 111VRAIFAUX\",BDD!$V$2:$V$685)","v":0},{"$f":"SUMIF(BDD!$BB$2:$BB$685,\"Banc 111FAUXVRAI\",BDD!$V$2:$V$685)","v":0},{"$f":"SUMIF(BDD!$BB$2:$BB$685,\"Banc 111VRAIFAUX\",BDD!$V$2:$V$685)","v":0},{"$f":"SUMIF(BDD!$BB$2:$BB$685,\"Banc 111FAUXVRAI\",BDD!$V$2:$V$685)","v":0},{"$f":"SUMIF(BDD!$BB$2:$BB$685,\"Banc 111VRAIFAUX\",BDD!$V$2:$V$685)","v":0},{"$f":"SUMIF(BDD!$BB$2:$BB$685,\"Banc 111FAUXVRAI\",BDD!$V$2:$V$685)","v":0},{"$f":"SUMIF(BDD!$BB$2:$BB$685,\"Banc 111VRAIFAUX\",BDD!$V$2:$V$685)","v":0},{"$f":"SUMIF(BDD!$BB$2:$BB$685,\"Banc 111FAUXVRAI\",BDD!$V$2:$V$685)","v":0},{"$f":"SUMIF(BDD!$BB$2:$BB$685,\"Banc 111VRAIFAUX\",BDD!$V$2:$V$685)","v":0},{"$f":"SUMIF(BDD!$BB$2:$BB$685,\"Banc 111FAUXVRAI\",BDD!$V$2:$V$685)","v":0},{"$f":"SUMIF(BDD!$BB$2:$BB$685,\"Banc 111VRAIFAUX\",BDD!$V$2:$V$685)","v":0},{"$f":"SUMIF(BDD!$BB$2:$BB$685,\"Banc 111FAUXVRAI\",BDD!$V$2:$V$685)","v":0},{"$f":"SUMIF(BDD!$BB$2:$BB$685,\"Banc 111VRAIFAUX\",BDD!$V$2:$V$685)","v":0},{"$f":"SUMIF(BDD!$BB$2:$BB$685,\"Banc 111FAUXVRAI\",BDD!$V$2:$V$685)","v":0},{"$f":"SUMIF(BDD!$BB$2:$BB$685,\"Banc 111VRAIFAUX\",BDD!$V$2:$V$685)","v":0},{"$f":"SUMIF(BDD!$BB$2:$BB$685,\"Banc 111FAUXVRAI\",BDD!$V$2:$V$685)","v":0},{"$f":"SUMIF(BDD!$BB$2:$BB$685,\"Banc 111VRAIFAUX\",BDD!$V$2:$V$685)","v":0},{"$f":"SUMIF(BDD!$BB$2:$BB$685,\"Banc 111FAUXVRAI\",BDD!$V$2:$V$685)","v":0}]
["Banc 117",{"$f":"SUMIF(BDD!$BB$2:$BB$685,\"Banc 117VRAIFAUX\",BDD!$V$2:$V$685)","v":0},{"$f":"SUMIF(BDD!$BB$2:$BB$685,\"Banc 117FAUXVRAI\",BDD!$V$2:$V$685)","v":0},{"$f":"SUMIF(BDD!$BB$2:$BB$685,\"Banc 117VRAIFAUX\",BDD!$V$2:$V$685)","v":0},{"$f":"SUMIF(BDD!$BB$2:$BB$685,\"Banc 117FAUXVRAI\",BDD!$V$2:$V$685)","v":0},{"$f":"SUMIF(BDD!$BB$2:$BB$685,\"Banc 117VRAIFAUX\",BDD!$V$2:$V$685)","v":0},{"$f":"SUMIF(BDD!$BB$2:$BB$685,\"Banc 117FAUXVRAI\",BDD!$V$2:$V$685)","v":0},{"$f":"SUMIF(BDD!$BB$2:$BB$685,\"Banc 117VRAIFAUX\",BDD!$V$2:$V$685)","v":0},{"$f":"SUMIF(BDD!$BB$2:$BB$685,\"Banc 117FAUXVRAI\",BDD!$V$2:$V$685)","v":0},{"$f":"SUMIF(BDD!$BB$2:$BB$685,\"Banc 117VRAIFAUX\",BDD!$V$2:$V$685)","v":0},{"$f":"SUMIF(BDD!$BB$2:$BB$685,\"Banc 117FAUXVRAI\",BDD!$V$2:$V$685)","v":0},{"$f":"SUMIF(BDD!$BB$2:$BB$685,\"Banc 117VRAIFAUX\",BDD!$V$2:$V$685)","v":0},{"$f":"SUMIF(BDD!$BB$2:$BB$685,\"Banc 117FAUXVRAI\",BDD!$V$2:$V$685)","v":0},{"$f":"SUMIF(BDD!$BB$2:$BB$685,\"Banc 117VRAIFAUX\",BDD!$V$2:$V$685)","v":0},{"$f":"SUMIF(BDD!$BB$2:$BB$685,\"Banc 117FAUXVRAI\",BDD!$V$2:$V$685)","v":0},{"$f":"SUMIF(BDD!$BB$2:$BB$685,\"Banc 117VRAIFAUX\",BDD!$V$2:$V$685)","v":0},{"$f":"SUMIF(BDD!$BB$2:$BB$685,\"Banc 117FAUXVRAI\",BDD!$V$2:$V$685)","v":0},{"$f":"SUMIF(BDD!$BB$2:$BB$685,\"Banc 117VRAIFAUX\",BDD!$V$2:$V$685)","v":0},{"$f":"SUMIF(BDD!$BB$2:$BB$685,\"Banc 117FAUXVRAI\",BDD!$V$2:$V$685)","v":0},{"$f":"SUMIF(BDD!$BB$2:$BB$685,\"Banc 117VRAIFAUX\",BDD!$V$2:$V$685)","v":0},{"$f":"SUMIF(BDD!$BB$2:$BB$685,\"Banc 117FAUXVRAI\",BDD!$V$2:$V$685)","v":0},{"$f":"SUMIF(BDD!$BB$2:$BB$685,\"Banc 117VRAIFAUX\",BDD!$V$2:$V$685)","v":0},{"$f":"SUMIF(BDD!$BB$2:$BB$685,\"Banc 117FAUXVRAI\",BDD!$V$2:$V$685)","v":0},{"$f":"SUMIF(BDD!$BB$2:$BB$685,\"Banc 117VRAIFAUX\",BDD!$V$2:$V$685)","v":0},{"$f":"SUMIF(BDD!$BB$2:$BB$685,\"Banc 117FAUXVRAI\",BDD!$V$2:$V$685)","v":0}]
["Banc 117 bis",{"$f":"SUMIF(BDD!$BB$2:$BB$685,\"Banc 117 bisVRAIFAUX\",BDD!$V$2:$V$685)","v":0},{"$f":"SUMIF(BDD!$BB$2:$BB$685,\"Banc 117 bisFAUXVRAI\",BDD!$V$2:$V$685)","v":0},{"$f":"SUMIF(BDD!$BB$2:$BB$685,\"Banc 117 bisVRAIFAUX\",BDD!$V$2:$V$685)","v":0},{"$f":"SUMIF(BDD!$BB$2:$BB$685,\"Banc 117 bisFAUXVRAI\",BDD!$V$2:$V$685)","v":0},{"$f":"SUMIF(BDD!$BB$2:$BB$685,\"Banc 117 bisVRAIFAUX\",BDD!$V$2:$V$685)","v":0},{"$f":"SUMIF(BDD!$BB$2:$BB$685,\"Banc 117 bisFAUXVRAI\",BDD!$V$2:$V$685)","v":0},{"$f":"SUMIF(BDD!$BB$2:$BB$685,\"Banc 117 bisVRAIFAUX\",BDD!$V$2:$V$685)","v":0},{"$f":"SUMIF(BDD!$BB$2:$BB$685,\"Banc 117 bisFAUXVRAI\",BDD!$V$2:$V$685)","v":0},{"$f":"SUMIF(BDD!$BB$2:$BB$685,\"Banc 117 bisVRAIFAUX\",BDD!$V$2:$V$685)","v":0},{"$f":"SUMIF(BDD!$BB$2:$BB$685,\"Banc 117 bisFAUXVRAI\",BDD!$V$2:$V$685)","v":0},{"$f":"SUMIF(BDD!$BB$2:$BB$685,\"Banc 117 bisVRAIFAUX\",BDD!$V$2:$V$685)","v":0},{"$f":"SUMIF(BDD!$BB$2:$BB$685,\"Banc 117 bisFAUXVRAI\",BDD!$V$2:$V$685)","v":0},{"$f":"SUMIF(BDD!$BB$2:$BB$685,\"Banc 117 bisVRAIFAUX\",BDD!$V$2:$V$685)","v":0},{"$f":"SUMIF(BDD!$BB$2:$BB$685,\"Banc 117 bisFAUXVRAI\",BDD!$V$2:$V$685)","v":0},{"$f":"SUMIF(BDD!$BB$2:$BB$685,\"Banc 117 bisVRAIFAUX\",BDD!$V$2:$V$685)","v":0},{"$f":"SUMIF(BDD!$BB$2:$BB$685,\"Banc 117 bisFAUXVRAI\",BDD!$V$2:$V$685)","v":0},{"$f":"SUMIF(BDD!$BB$2:$BB$685,\"Banc 117 bisVRAIFAUX\",BDD!$V$2:$V$685)","v":0},{"$f":"SUMIF(BDD!$BB$2:$BB$685,\"Banc 117 bisFAUXVRAI\",BDD!$V$2:$V$685)","v":0},{"$f":"SUMIF(BDD!$BB$2:$BB$685,\"Banc 117 bisVRAIFAUX\",BDD!$V$2:$V$685)","v":0},{"$f":"SUMIF(BDD!$BB$2:$BB$685,\"Banc 117 bisFAUXVRAI\",BDD!$V$2:$V$685)","v":0},{"$f":"SUMIF(BDD!$BB$2:$BB$685,\"Banc 117 bisVRAIFAUX\",BDD!$V$2:$V$685)","v":0},{"$f":"SUMIF(BDD!$BB$2:$BB$685,\"Banc 117 bisFAUXVRAI\",BDD!$V$2:$V$685)","v":0},{"$f":"SUMIF(BDD!$BB$2:$BB$685,\"Banc 117 bisVRAIFAUX\",BDD!$V$2:$V$685)","v":0},{"$f":"SUMIF(BDD!$BB$2:$BB$685,\"Banc 117 bisFAUXVRAI\",BDD!$V$2:$V$685)","v":0}]
["Banc 119",{"$f":"SUMIF(BDD!$BB$2:$BB$685,\"Banc 119VRAIFAUX\",BDD!$V$2:$V$685)","v":0},{"$f":"SUMIF(BDD!$BB$2:$BB$685,\"Banc 119FAUXVRAI\",BDD!$V$2:$V$685)","v":0},{"$f":"SUMIF(BDD!$BB$2:$BB$685,\"Banc 119VRAIFAUX\",BDD!$V$2:$V$685)","v":0},{"$f":"SUMIF(BDD!$BB$2:$BB$685,\"Banc 119FAUXVRAI\",BDD!$V$2:$V$685)","v":0},{"$f":"SUMIF(BDD!$BB$2:$BB$685,\"Banc 119VRAIFAUX\",BDD!$V$2:$V$685)","v":0},{"$f":"SUMIF(BDD!$BB$2:$BB$685,\"Banc 119FAUXVRAI\",BDD!$V$2:$V$685)","v":0},{"$f":"SUMIF(BDD!$BB$2:$BB$685,\"Banc 119VRAIFAUX\",BDD!$V$2:$V$685)","v":0},{"$f":"SUMIF(BDD!$BB$2:$BB$685,\"Banc 119FAUXVRAI\",BDD!$V$2:$V$685)","v":0},{"$f":"SUMIF(BDD!$BB$2:$BB$685,\"Banc 119VRAIFAUX\",BDD!$V$2:$V$685)","v":0},{"$f":"SUMIF(BDD!$BB$2:$BB$685,\"Banc 119FAUXVRAI\",BDD!$V$2:$V$685)","v":0},{"$f":"SUMIF(BDD!$BB$2:$BB$685,\"Banc 119VRAIFAUX\",BDD!$V$2:$V$685)","v":0},{"$f":"SUMIF(BDD!$BB$2:$BB$685,\"Banc 119FAUXVRAI\",BDD!$V$2:$V$685)","v":0},{"$f":"SUMIF(BDD!$BB$2:$BB$685,\"Banc 119VRAIFAUX\",BDD!$V$2:$V$685)","v":0},{"$f":"SUMIF(BDD!$BB$2:$BB$685,\"Banc 119FAUXVRAI\",BDD!$V$2:$V$685)","v":0},{"$f":"SUMIF(BDD!$BB$2:$BB$685,\"Banc 119VRAIFAUX\",BDD!$V$2:$V$685)","v":0},{"$f":"SUMIF(BDD!$BB$2:$BB$685,\"Banc 119FAUXVRAI\",BDD!$V$2:$V$685)","v":0},{"$f":"SUMIF(BDD!$BB$2:$BB$685,\"Banc 119VRAIFAUX\",BDD!$V$2:$V$685)","v":0},{"$f":"SUMIF(BDD!$BB$2:$BB$685,\"Banc 119FAUXVRAI\",BDD!$V$2:$V$685)","v":0},{"$f":"SUMIF(BDD!$BB$2:$BB$685,\"Banc 119VRAIFAUX\",BDD!$V$2:$V$685)","v":0},{"$f":"SUMIF(BDD!$BB$2:$BB$685,\"Banc 119FAUXVRAI\",BDD!$V$2:$V$685)","v":0},{"$f":"SUMIF(BDD!$BB$2:$BB$685,\"Banc 119VRAIFAUX\",BDD!$V$2:$V$685)","v":0},{"$f":"SUMIF(BDD!$BB$2:$BB$685,\"Banc 119FAUXVRAI\",BDD!$V$2:$V$685)","v":0},{"$f":"SUMIF(BDD!$BB$2:$BB$685,\"Banc 119VRAIFAUX\",BDD!$V$2:$V$685)","v":0},{"$f":"SUMIF(BDD!$BB$2:$BB$685,\"Banc 119FAUXVRAI\",BDD!$V$2:$V$685)","v":0}]
["Banc 123",{"$f":"SUMIF(BDD!$BB$2:$BB$685,\"Banc 123VRAIFAUX\",BDD!$V$2:$V$685)","v":0},{"$f":"SUMIF(BDD!$BB$2:$BB$685,\"Banc 123FAUXVRAI\",BDD!$V$2:$V$685)","v":0},{"$f":"SUMIF(BDD!$BB$2:$BB$685,\"Banc 123VRAIFAUX\",BDD!$V$2:$V$685)","v":0},{"$f":"SUMIF(BDD!$BB$2:$BB$685,\"Banc 123FAUXVRAI\",BDD!$V$2:$V$685)","v":0},{"$f":"SUMIF(BDD!$BB$2:$BB$685,\"Banc 123VRAIFAUX\",BDD!$V$2:$V$685)","v":0},{"$f":"SUMIF(BDD!$BB$2:$BB$685,\"Banc 123FAUXVRAI\",BDD!$V$2:$V$685)","v":0},{"$f":"SUMIF(BDD!$BB$2:$BB$685,\"Banc 123VRAIFAUX\",BDD!$V$2:$V$685)","v":0},{"$f":"SUMIF(BDD!$BB$2:$BB$685,\"Banc 123FAUXVRAI\",BDD!$V$2:$V$685)","v":0},{"$f":"SUMIF(BDD!$BB$2:$BB$685,\"Banc 123VRAIFAUX\",BDD!$V$2:$V$685)","v":0},{"$f":"SUMIF(BDD!$BB$2:$BB$685,\"Banc 123FAUXVRAI\",BDD!$V$2:$V$685)","v":0},{"$f":"SUMIF(BDD!$BB$2:$BB$685,\"Banc 123VRAIFAUX\",BDD!$V$2:$V$685)","v":0},{"$f":"SUMIF(BDD!$BB$2:$BB$685,\"Banc 123FAUXVRAI\",BDD!$V$2:$V$685)","v":0},{"$f":"SUMIF(BDD!$BB$2:$BB$685,\"Banc 123VRAIFAUX\",BDD!$V$2:$V$685)","v":0},{"$f":"SUMIF(BDD!$BB$2:$BB$685,\"Banc 123FAUXVRAI\",BDD!$V$2:$V$685)","v":0},{"$f":"SUMIF(BDD!$BB$2:$BB$685,\"Banc 123VRAIFAUX\",BDD!$V$2:$V$685)","v":0},{"$f":"SUMIF(BDD!$BB$2:$BB$685,\"Banc 123FAUXVRAI\",BDD!$V$2:$V$685)","v":0},{"$f":"SUMIF(BDD!$BB$2:$BB$685,\"Banc 123VRAIFAUX\",BDD!$V$2:$V$685)","v":0},{"$f":"SUMIF(BDD!$BB$2:$BB$685,\"Banc 123FAUXVRAI\",BDD!$V$2:$V$685)","v":0},{"$f":"SUMIF(BDD!$BB$2:$BB$685,\"Banc 123VRAIFAUX\",BDD!$V$2:$V$685)","v":0},{"$f":"SUMIF(BDD!$BB$2:$BB$685,\"Banc 123FAUXVRAI\",BDD!$V$2:$V$685)","v":0},{"$f":"SUMIF(BDD!$BB$2:$BB$685,\"Banc 123VRAIFAUX\",BDD!$V$2:$V$685)","v":0},{"$f":"SUMIF(BDD!$BB$2:$BB$685,\"Banc 123FAUXVRAI\",BDD!$V$2:$V$685)","v":0},{"$f":"SUMIF(BDD!$BB$2:$BB$685,\"Banc 123VRAIFAUX\",BDD!$V$2:$V$685)","v":0},{"$f":"SUMIF(BDD!$BB$2:$BB$685,\"Banc 123FAUXVRAI\",BDD!$V$2:$V$685)","v":0}]
["Banc 126",{"$f":"SUMIF(BDD!$BB$2:$BB$685,\"Banc 126VRAIFAUX\",BDD!$V$2:$V$685)","v":0},{"$f":"SUMIF(BDD!$BB$2:$BB$685,\"Banc 126FAUXVRAI\",BDD!$V$2:$V$685)","v":0},{"$f":"SUMIF(BDD!$BB$2:$BB$685,\"Banc 126VRAIFAUX\",BDD!$V$2:$V$685)","v":0},{"$f":"SUMIF(BDD!$BB$2:$BB$685,\"Banc 126FAUXVRAI\",BDD!$V$2:$V$685)","v":0},{"$f":"SUMIF(BDD!$BB$2:$BB$685,\"Banc 126VRAIFAUX\",BDD!$V$2:$V$685)","v":0},{"$f":"SUMIF(BDD!$BB$2:$BB$685,\"Banc 126FAUXVRAI\",BDD!$V$2:$V$685)","v":0},{"$f":"SUMIF(BDD!$BB$2:$BB$685,\"Banc 126VRAIFAUX\",BDD!$V$2:$V$685)","v":0},{"$f":"SUMIF(BDD!$BB$2:$BB$685,\"Banc 126FAUXVRAI\",BDD!$V$2:$V$685)","v":0},{"$f":"SUMIF(BDD!$BB$2:$BB$685,\"Banc 126VRAIFAUX\",BDD!$V$2:$V$685)","v":0},{"$f":"SUMIF(BDD!$BB$2:$BB$685,\"Banc 126FAUXVRAI\",BDD!$V$2:$V$685)","v":0},{"$f":"SUMIF(BDD!$BB$2:$BB$685,\"Banc 126VRAIFAUX\",BDD!$V$2:$V$685)","v":0},{"$f":"SUMIF(BDD!$BB$2:$BB$685,\"Banc 126FAUXVRAI\",BDD!$V$2:$V$685)","v":0},{"$f":"SUMIF(BDD!$BB$2:$BB$685,\"Banc 126VRAIFAUX\",BDD!$V$2:$V$685)","v":0},{"$f":"SUMIF(BDD!$BB$2:$BB$685,\"Banc 126FAUXVRAI\",BDD!$V$2:$V$685)","v":0},{"$f":"SUMIF(BDD!$BB$2:$BB$685,\"Banc 126VRAIFAUX\",BDD!$V$2:$V$685)","v":0},{"$f":"SUMIF(BDD!$BB$2:$BB$685,\"Banc 126FAUXVRAI\",BDD!$V$2:$V$685)","v":0},{"$f":"SUMIF(BDD!$BB$2:$BB$685,\"Banc 126VRAIFAUX\",BDD!$V$2:$V$685)","v":0},{"$f":"SUMIF(BDD!$BB$2:$BB$685,\"Banc 126FAUXVRAI\",BDD!$V$2:$V$685)","v":0},{"$f":"SUMIF(BDD!$BB$2:$BB$685,\"Banc 126VRAIFAUX\",BDD!$V$2:$V$685)","v":0},{"$f":"SUMIF(BDD!$BB$2:$BB$685,\"Banc 126FAUXVRAI\",BDD!$V$2:$V$685)","v":0},{"$f":"SUMIF(BDD!$BB$2:$BB$685,\"Banc 126VRAIFAUX\",BDD!$V$2:$V$685)","v":0},{"$f":"SUMIF(BDD!$BB$2:$BB$685,\"Banc 126FAUXVRAI\",BDD!$V$2:$V$685)","v":0},{"$f":"SUMIF(BDD!$BB$2:$BB$685,\"Banc 126VRAIFAUX\",BDD!$V$2:$V$685)","v":0},{"$f":"SUMIF(BDD!$BB$2:$BB$685,\"Banc 126FAUXVRAI\",BDD!$V$2:$V$685)","v":0}]
["Banc 156",{"$f":"SUMIF(BDD!$BB$2:$BB$685,\"Banc 156VRAIFAUX\",BDD!$V$2:$V$685)","v":0},{"$f":"SUMIF(BDD!$BB$2:$BB$685,\"Banc 156FAUXVRAI\",BDD!$V$2:$V$685)","v":0},{"$f":"SUMIF(BDD!$BB$2:$BB$685,\"Banc 156VRAIFAUX\",BDD!$V$2:$V$685)","v":0},{"$f":"SUMIF(BDD!$BB$2:$BB$685,\"Banc 156FAUXVRAI\",BDD!$V$2:$V$685)","v":0},{"$f":"SUMIF(BDD!$BB$2:$BB$685,\"Banc 156VRAIFAUX\",BDD!$V$2:$V$685)","v":0},{"$f":"SUMIF(BDD!$BB$2:$BB$685,\"Banc 156FAUXVRAI\",BDD!$V$2:$V$685)","v":0},{"$f":"SUMIF(BDD!$BB$2:$BB$685,\"Banc 156VRAIFAUX\",BDD!$V$2:$V$685)","v":0},{"$f":"SUMIF(BDD!$BB$2:$BB$685,\"Banc 156FAUXVRAI\",BDD!$V$2:$V$685)","v":0},{"$f":"SUMIF(BDD!$BB$2:$BB$685,\"Banc 156VRAIFAUX\",BDD!$V$2:$V$685)","v":0},{"$f":"SUMIF(BDD!$BB$2:$BB$685,\"Banc 156FAUXVRAI\",BDD!$V$2:$V$685)","v":0},{"$f":"SUMIF(BDD!$BB$2:$BB$685,\"Banc 156VRAIFAUX\",BDD!$V$2:$V$685)","v":0},{"$f":"SUMIF(BDD!$BB$2:$BB$685,\"Banc 156FAUXVRAI\",BDD!$V$2:$V$685)","v":0},{"$f":"SUMIF(BDD!$BB$2:$BB$685,\"Banc 156VRAIFAUX\",BDD!$V$2:$V$685)","v":0},{"$f":"SUMIF(BDD!$BB$2:$BB$685,\"Banc 156FAUXVRAI\",BDD!$V$2:$V$685)","v":0},{"$f":"SUMIF(BDD!$BB$2:$BB$685,\"Banc 156VRAIFAUX\",BDD!$V$2:$V$685)","v":0},{"$f":"SUMIF(BDD!$BB$2:$BB$685,\"Banc 156FAUXVRAI\",BDD!$V$2:$V$685)","v":0},{"$f":"SUMIF(BDD!$BB$2:$BB$685,\"Banc 156VRAIFAUX\",BDD!$V$2:$V$685)","v":0},{"$f":"SUMIF(BDD!$BB$2:$BB$685,\"Banc 156FAUXVRAI\",BDD!$V$2:$V$685)","v":0},{"$f":"SUMIF(BDD!$BB$2:$BB$685,\"Banc 156VRAIFAUX\",BDD!$V$2:$V$685)","v":0},{"$f":"SUMIF(BDD!$BB$2:$BB$685,\"Banc 156FAUXVRAI\",BDD!$V$2:$V$685)","v":0},{"$f":"SUMIF(BDD!$BB$2:$BB$685,\"Banc 156VRAIFAUX\",BDD!$V$2:$V$685)","v":0},{"$f":"SUMIF(BDD!$BB$2:$BB$685,\"Banc 156FAUXVRAI\",BDD!$V$2:$V$685)","v":0},{"$f":"SUMIF(BDD!$BB$2:$BB$685,\"Banc 156VRAIFAUX\",BDD!$V$2:$V$685)","v":0},{"$f":"SUMIF(BDD!$BB$2:$BB$685,\"Banc 156FAUXVRAI\",BDD!$V$2:$V$685)","v":0}]
[]
[]
[]
[]
[]
[]
[]
[]
[]
[]
[]
[]
[]
[]
[]
[]
[]
[]
[]
[]
[]
[]
[null,"Suivi du correctif et du préventif par banc"]
[null,"Janvier",null,null,null,null,null,"Février",null,null,null,null,null,"Mars",null,null,null,null,null,"Avril",null,null,null,null,null,"Mai",null,null,null,null,null,"Juin",null,null,null,null,null,"Juillet",null,null,null,null,null,"Août",null,null,null,null,null,"Septembre",null,null,null,null,null,"Octobre",null,null,null,null,null,"Novembre",null,null,null,null,null,"Décembre"]
[null,"Corrective",null,null,"Préventive",null,null,"Corrective",null,null,"Préventive",null,null,"Corrective",null,null,"Préventive",null,null,"Corrective",null,null,"Préventive",null,null,"Corrective",null,null,"Préventive",null,null,"Corrective",null,null,"Préventive",null,null,"Corrective",null,null,"Préventive",null,null,"Corrective",null,null,"Préventive",null,null,"Corrective",null,null,"Préventive",null,null,"Corrective",null,null,"Préventive",null,null,"Corrective",null,null,"Préventive",null,null,"Corrective",null,null,"Préventive"]
["Banc zone 9","Electrique","Mécanique","Hydraulique","Electrique","Mécanique","Hydraulique","Electrique","Mécanique","Hydraulique","Electrique","Mécanique","Hydraulique","Electrique","Mécanique","Hydraulique","Electrique","Mécanique","Hydraulique","Electrique","Mécanique","Hydraulique","Electrique","Mécanique","Hydraulique","Electrique","Mécanique","Hydraulique","Electrique","Mécanique","Hydraulique","Electrique","Mécanique","Hydraulique","Electrique","Mécanique","Hydraulique","Electrique","Mécanique","Hydraulique","Electrique","Mécanique","Hydraulique","Electrique","Mécanique","Hydraulique","Electrique","Mécanique","Hydraulique","Electrique","Mécanique","Hydraulique","Electrique","Mécanique","Hydraulique","Electrique","Mécanique","Hydraulique","Electrique","Mécanique","Hydraulique","Electrique","Mécanique","Hydraulique","Electrique","Mécanique","Hydraulique","Electrique","Mécanique","Hydraulique","Electrique","Mécanique","Hydraulique"]
["Banc P9",{"$f":"SUMIF(BDD!$BC$2:$BC$685,\"Banc P9VRAIFAUXVRAIFAUXFAUX\",BDD!$V$2:$V$685)","v":0},{"$f":"SUMIF(BDD!$BC$2:$BC$685,\"Banc P9VRAIFAUXFAUXVRAIFAUX\",BDD!$V$2:$V$685)","v":0},{"$f":"SUMIF(BDD!$BC$2:$BC$685,\"Banc P9VRAIFAUXFAUXFAUXVRAI\",BDD!$V$2:$V$685)","v":0},{"$f":"SUMIF(BDD!$BC$2:$BC$685,\"Banc P9FAUXVRAIVRAIFAUXFAUX\",BDD!$V$2:$V$685)","v":0},{"$f":"SUMIF(BDD!$BC$2:$BC$685,\"Banc P9FAUXVRAIFAUXVRAIFAUX\",BDD!$V$2:$V$685)","v":0},{"$f":"SUMIF(BDD!$BC$2:$BC$685,\"Banc P9FAUXVRAIFAUXFAUXVRAI\",BDD!$V$2:$V$685)","v":0},{"$f":"SUMIF(BDD!$BC$2:$BC$685,\"Banc P9VRAIFAUXVRAIFAUXFAUX\",BDD!$V$2:$V$685)","v":0},{"$f":"SUMIF(BDD!$BC$2:$BC$685,\"Banc P9VRAIFAUXFAUXVRAIFAUX\",BDD!$V$2:$V$685)","v":0},{"$f":"SUMIF(BDD!$BC$2:$BC$685,\"Banc P9VRAIFAUXFAUXFAUXVRAI\",BDD!$V$2:$V$685)","v":0},{"$f":"SUMIF(BDD!$BC$2:$BC$685,\"Banc P9FAUXVRAIVRAIFAUXFAUX\",BDD!$V$2:$V$685)","v":0},{"$f":"SUMIF(BDD!$BC$2:$BC$685,\"Banc P9FAUXVRAIFAUXVRAIFAUX\",BDD!$V$2:$V$685)","v":0},{"$f":"SUMIF(BDD!$BC$2:$BC$685,\"Banc P9FAUXVRAIFAUXFAUXVRAI\",BDD!$V$2:$V$685)","v":0},{"$f":"SUMIF(BDD!$BC$2:$BC$685,\"Banc P9VRAIFAUXVRAIFAUXFAUX\",BDD!$V$2:$V$685)","v":0},{"$f":"SUMIF(BDD!$BC$2:$BC$685,\"Banc P9VRAIFAUXFAUXVRAIFAUX\",BDD!$V$2:$V$685)","v":0},{"$f":"SUMIF(BDD!$BC$2:$BC$685,\"Banc P9VRAIFAUXFAUXFAUXVRAI\",BDD!$V$2:$V$685)","v":0},{"$f":"SUMIF(BDD!$BC$2:$BC$685,\"Banc P9FAUXVRAIVRAIFAUXFAUX\",BDD!$V$2:$V$685)","v":0},{"$f":"SUMIF(BDD!$BC$2:$BC$685,\"Banc P9FAUXVRAIFAUXVRAIFAUX\",BDD!$V$2:$V$685)","v":0},{"$f":"SUMIF(BDD!$BC$2:$BC$685,\"Banc P9FAUXVRAIFAUXFAUXVRAI\",BDD!$V$2:$V$685)","v":0},{"$f":"SUMIF(BDD!$BC$2:$BC$685,\"Banc P9VRAIFAUXVRAIFAUXFAUX\",BDD!$V$2:$V$685)","v":0},{"$f":"SUMIF(BDD!$BC$2:$BC$685,\"Banc P9VRAIFAUXFAUXVRAIFAUX\",BDD!$V$2:$V$685)","v":0},{"$f":"SUMIF(BDD!$BC$2:$BC$685,\"Banc P9VRAIFAUXFAUXFAUXVRAI\",BDD!$V$2:$V$685)","v":0},{"$f":"SUMIF(BDD!$BC$2:$BC$685,\"Banc P9FAUXVRAIVRAIFAUXFAUX\",BDD!$V$2:$V$685)","v":0},{"$f":"SUMIF(BDD!$BC$2:$BC$685,\"Banc P9FAUXVRAIFAUXVRAIFAUX\",BDD!$V$2:$V$685)","v":0},{"$f":"SUMIF(BDD!$BC$2:$BC$685,\"Banc P9FAUXVRAIFAUXFAUXVRAI\",BDD!$V$2:$V$685)","v":0},{"$f":"SUMIF(BDD!$BC$2:$BC$685,\"Banc P9VRAIFAUXVRAIFAUXFAUX\",BDD!$V$2:$V$685)","v":0},{"$f":"SUMIF(BDD!$BC$2:$BC$685,\"Banc P9VRAIFAUXFAUXVRAIFAUX\",BDD!$V$2:$V$685)","v":0},{"$f":"SUMIF(BDD!$BC$2:$BC$685,\"Banc P9VRAIFAUXFAUXFAUXVRAI\",BDD!$V$2:$V$685)","v":0},{"$f":"SUMIF(BDD!$BC$2:$BC$685,\"Banc P9FAUXVRAIVRAIFAUXFAUX\",BDD!$V$2:$V$685)","v":0},{"$f":"SUMIF(BDD!$BC$2:$BC$685,\"Banc P9FAUXVRAIFAUXVRAIFAUX\",BDD!$V$2:$V$685)","v":0},{"$f":"SUMIF(BDD!$BC$2:$BC$685,\"Banc P9FAUXVRAIFAUXFAUXVRAI\",BDD!$V$2:$V$685)","v":0},{"$f":"SUMIF(BDD!$BC$2:$BC$685,\"Banc P9VRAIFAUXVRAIFAUXFAUX\",BDD!$V$2:$V$685)","v":0},{"$f":"SUMIF(BDD!$BC$2:$BC$685,\"Banc P9VRAIFAUXFAUXVRAIFAUX\",BDD!$V$2:$V$685)","v":0},{"$f":"SUMIF(BDD!$BC$2:$BC$685,\"Banc P9VRAIFAUXFAUXFAUXVRAI\",BDD!$V$2:$V$685)","v":0},{"$f":"SUMIF(BDD!$BC$2:$BC$685,\"Banc P9FAUXVRAIVRAIFAUXFAUX\",BDD!$V$2:$V$685)","v":0},{"$f":"SUMIF(BDD!$BC$2:$BC$685,\"Banc P9FAUXVRAIFAUXVRAIFAUX\",BDD!$V$2:$V$685)","v":0},{"$f":"SUMIF(BDD!$BC$2:$BC$685,\"Banc P9FAUXVRAIFAUXFAUXVRAI\",BDD!$V$2:$V$685)","v":0},{"$f":"SUMIF(BDD!$BC$2:$BC$685,\"Banc P9VRAIFAUXVRAIFAUXFAUX\",BDD!$V$2:$V$685)","v":0},{"$f":"SUMIF(BDD!$BC$2:$BC$685,\"Banc P9VRAIFAUXFAUXVRAIFAUX\",BDD!$V$2:$V$685)","v":0},{"$f":"SUMIF(BDD!$BC$2:$BC$685,\"Banc P9VRAIFAUXFAUXFAUXVRAI\",BDD!$V$2:$V$685)","v":0},{"$f":"SUMIF(BDD!$BC$2:$BC$685,\"Banc P9FAUXVRAIVRAIFAUXFAUX\",BDD!$V$2:$V$685)","v":0},{"$f":"SUMIF(BDD!$BC$2:$BC$685,\"Banc P9FAUXVRAIFAUXVRAIFAUX\",BDD!$V$2:$V$685)","v":0},{"$f":"SUMIF(BDD!$BC$2:$BC$685,\"Banc P9FAUXVRAIFAUXFAUXVRAI\",BDD!$V$2:$V$685)","v":0},{"$f":"SUMIF(BDD!$BC$2:$BC$685,\"Banc P9VRAIFAUXVRAIFAUXFAUX\",BDD!$V$2:$V$685)","v":0},{"$f":"SUMIF(BDD!$BC$2:$BC$685,\"Banc P9VRAIFAUXFAUXVRAIFAUX\",BDD!$V$2:$V$685)","v":0},{"$f":"SUMIF(BDD!$BC$2:$BC$685,\"Banc P9VRAIFAUXFAUXFAUXVRAI\",BDD!$V$2:$V$685)","v":0},{"$f":"SUMIF(BDD!$BC$2:$BC$685,\"Banc P9FAUXVRAIVRAIFAUXFAUX\",BDD!$V$2:$V$685)","v":0},{"$f":"SUMIF(BDD!$BC$2:$BC$685,\"Banc P9FAUXVRAIFAUXVRAIFAUX\",BDD!$V$2:$V$685)","v":0},{"$f":"SUMIF(BDD!$BC$2:$BC$685,\"Banc P9FAUXVRAIFAUXFAUXVRAI\",BDD!$V$2:$V$685)","v":0},{"$f":"SUMIF(BDD!$BC$2:$BC$685,\"Banc P9VRAIFAUXVRAIFAUXFAUX\",BDD!$V$2:$V$685)","v":0},{"$f":"SUMIF(BDD!$BC$2:$BC$685,\"Banc P9VRAIFAUXFAUXVRAIFAUX\",BDD!$V$2:$V$685)","v":0},{"$f":"SUMIF(BDD!$BC$2:$BC$685,\"Banc P9VRAIFAUXFAUXFAUXVRAI\",BDD!$V$2:$V$685)","v":0},{"$f":"SUMIF(BDD!$BC$2:$BC$685,\"Banc P9FAUXVRAIVRAIFAUXFAUX\",BDD!$V$2:$V$685)","v":0},{"$f":"SUMIF(BDD!$BC$2:$BC$685,\"Banc P9FAUXVRAIFAUXVRAIFAUX\",BDD!$V$2:$V$685)","v":0},{"$f":"SUMIF(BDD!$BC$2:$BC$685,\"Banc P9FAUXVRAIFAUXFAUXVRAI\",BDD!$V$2:$V$685)","v":0},{"$f":"SUMIF(BDD!$BC$2:$BC$685,\"Banc P9VRAIFAUXVRAIFAUXFAUX\",BDD!$V$2:$V$685)","v":0},{"$f":"SUMIF(BDD!$BC$2:$BC$685,\"Banc P9VRAIFAUXFAUXVRAIFAUX\",BDD!$V$2:$V$685)","v":0},{"$f":"SUMIF(BDD!$BC$2:$BC$685,\"Banc P9VRAIFAUXFAUXFAUXVRAI\",BDD!$V$2:$V$685)","v":0},{"$f":"SUMIF(BDD!$BC$2:$BC$685,\"Banc P9FAUXVRAIVRAIFAUXFAUX\",BDD!$V$2:$V$685)","v":0},{"$f":"SUMIF(BDD!$BC$2:$BC$685,\"Banc P9FAUXVRAIFAUXVRAIFAUX\",BDD!$V$2:$V$685)","v":0},{"$f":"SUMIF(BDD!$BC$2:$BC$685,\"Banc P9FAUXVRAIFAUXFAUXVRAI\",BDD!$V$2:$V$685)","v":0},{"$f":"SUMIF(BDD!$BC$2:$BC$685,\"Banc P9VRAIFAUXVRAIFAUXFAUX\",BDD!$V$2:$V$685)","v":0},{"$f":"SUMIF(BDD!$BC$2:$BC$685,\"Banc P9VRAIFAUXFAUXVRAIFAUX\",BDD!$V$2:$V$685)","v":0},{"$f":"SUMIF(BDD!$BC$2:$BC$685,\"Banc P9VRAIFAUXFAUXFAUXVRAI\",BDD!$V$2:$V$685)","v":0},{"$f":"SUMIF(BDD!$BC$2:$BC$685,\"Banc P9FAUXVRAIVRAIFAUXFAUX\",BDD!$V$2:$V$685)","v":0},{"$f":"SUMIF(BDD!$BC$2:$BC$685,\"Banc P9FAUXVRAIFAUXVRAIFAUX\",BDD!$V$2:$V$685)","v":0},{"$f":"SUMIF(BDD!$BC$2:$BC$685,\"Banc P9FAUXVRAIFAUXFAUXVRAI\",BDD!$V$2:$V$685)","v":0},{"$f":"SUMIF(BDD!$BC$2:$BC$685,\"Banc P9VRAIFAUXVRAIFAUXFAUX\",BDD!$V$2:$V$685)","v":0},{"$f":"SUMIF(BDD!$BC$2:$BC$685,\"Banc P9VRAIFAUXFAUXVRAIFAUX\",BDD!$V$2:$V$685)","v":0},{"$f":"SUMIF(BDD!$BC$2:$BC$685,\"Banc P9VRAIFAUXFAUXFAUXVRAI\",BDD!$V$2:$V$685)","v":0},{"$f":"SUMIF(BDD!$BC$2:$BC$685,\"Banc P9FAUXVRAIVRAIFAUXFAUX\",BDD!$V$2:$V$685)","v":0},{"$f":"SUMIF(BDD!$BC$2:$BC$685,\"Banc P9FAUXVRAIFAUXVRAIFAUX\",BDD!$V$2:$V$685)","v":0},{"$f":"SUMIF(BDD!$BC$2:$BC$685,\"Banc P9FAUXVRAIFAUXFAUXVRAI\",BDD!$V$2:$V$685)","v":0}]
["Banc 111",{"$f":"SUMIF(BDD!$BC$2:$BC$685,\"Banc 111VRAIFAUXVRAIFAUXFAUX\",BDD!$V$2:$V$685)","v":0},{"$f":"SUMIF(BDD!$BC$2:$BC$685,\"Banc 111VRAIFAUXFAUXVRAIFAUX\",BDD!$V$2:$V$685)","v":0},{"$f":"SUMIF(BDD!$BC$2:$BC$685,\"Banc 111VRAIFAUXFAUXFAUXVRAI\",BDD!$V$2:$V$685)","v":0},{"$f":"SUMIF(BDD!$BC$2:$BC$685,\"Banc 111FAUXVRAIVRAIFAUXFAUX\",BDD!$V$2:$V$685)","v":0},{"$f":"SUMIF(BDD!$BC$2:$BC$685,\"Banc 111FAUXVRAIFAUXVRAIFAUX\",BDD!$V$2:$V$685)","v":0},{"$f":"SUMIF(BDD!$BC$2:$BC$685,\"Banc 111FAUXVRAIFAUXFAUXVRAI\",BDD!$V$2:$V$685)","v":0},{"$f":"SUMIF(BDD!$BC$2:$BC$685,\"Banc 111VRAIFAUXVRAIFAUXFAUX\",BDD!$V$2:$V$685)","v":0},{"$f":"SUMIF(BDD!$BC$2:$BC$685,\"Banc 111VRAIFAUXFAUXVRAIFAUX\",BDD!$V$2:$V$685)","v":0},{"$f":"SUMIF(BDD!$BC$2:$BC$685,\"Banc 111VRAIFAUXFAUXFAUXVRAI\",BDD!$V$2:$V$685)","v":0},{"$f":"SUMIF(BDD!$BC$2:$BC$685,\"Banc 111FAUXVRAIVRAIFAUXFAUX\",BDD!$V$2:$V$685)","v":0},{"$f":"SUMIF(BDD!$BC$2:$BC$685,\"Banc 111FAUXVRAIFAUXVRAIFAUX\",BDD!$V$2:$V$685)","v":0},{"$f":"SUMIF(BDD!$BC$2:$BC$685,\"Banc 111FAUXVRAIFAUXFAUXVRAI\",BDD!$V$2:$V$685)","v":0},{"$f":"SUMIF(BDD!$BC$2:$BC$685,\"Banc 111VRAIFAUXVRAIFAUXFAUX\",BDD!$V$2:$V$685)","v":0},{"$f":"SUMIF(BDD!$BC$2:$BC$685,\"Banc 111VRAIFAUXFAUXVRAIFAUX\",BDD!$V$2:$V$685)","v":0},{"$f":"SUMIF(BDD!$BC$2:$BC$685,\"Banc 111VRAIFAUXFAUXFAUXVRAI\",BDD!$V$2:$V$685)","v":0},{"$f":"SUMIF(BDD!$BC$2:$BC$685,\"Banc 111FAUXVRAIVRAIFAUXFAUX\",BDD!$V$2:$V$685)","v":0},{"$f":"SUMIF(BDD!$BC$2:$BC$685,\"Banc 111FAUXVRAIFAUXVRAIFAUX\",BDD!$V$2:$V$685)","v":0},{"$f":"SUMIF(BDD!$BC$2:$BC$685,\"Banc 111FAUXVRAIFAUXFAUXVRAI\",BDD!$V$2:$V$685)","v":0},{"$f":"SUMIF(BDD!$BC$2:$BC$685,\"Banc 111VRAIFAUXVRAIFAUXFAUX\",BDD!$V$2:$V$685)","v":0},{"$f":"SUMIF(BDD!$BC$2:$BC$685,\"Banc 111VRAIFAUXFAUXVRAIFAUX\",BDD!$V$2:$V$685)","v":0},{"$f":"SUMIF(BDD!$BC$2:$BC$685,\"Banc 111VRAIFAUXFAUXFAUXVRAI\",BDD!$V$2:$V$685)","v":0},{"$f":"SUMIF(BDD!$BC$2:$BC$685,\"Banc 111FAUXVRAIVRAIFAUXFAUX\",BDD!$V$2:$V$685)","v":0},{"$f":"SUMIF(BDD!$BC$2:$BC$685,\"Banc 111FAUXVRAIFAUXVRAIFAUX\",BDD!$V$2:$V$685)","v":0},{"$f":"SUMIF(BDD!$BC$2:$BC$685,\"Banc 111FAUXVRAIFAUXFAUXVRAI\",BDD!$V$2:$V$685)","v":0},{"$f":"SUMIF(BDD!$BC$2:$BC$685,\"Banc 111VRAIFAUXVRAIFAUXFAUX\",BDD!$V$2:$V$685)","v":0},{"$f":"SUMIF(BDD!$BC$2:$BC$685,\"Banc 111VRAIFAUXFAUXVRAIFAUX\",BDD!$V$2:$V$685)","v":0},{"$f":"SUMIF(BDD!$BC$2:$BC$685,\"Banc 111VRAIFAUXFAUXFAUXVRAI\",BDD!$V$2:$V$685)","v":0},{"$f":"SUMIF(BDD!$BC$2:$BC$685,\"Banc 111FAUXVRAIVRAIFAUXFAUX\",BDD!$V$2:$V$685)","v":0},{"$f":"SUMIF(BDD!$BC$2:$BC$685,\"Banc 111FAUXVRAIFAUXVRAIFAUX\",BDD!$V$2:$V$685)","v":0},{"$f":"SUMIF(BDD!$BC$2:$BC$685,\"Banc 111FAUXVRAIFAUXFAUXVRAI\",BDD!$V$2:$V$685)","v":0},{"$f":"SUMIF(BDD!$BC$2:$BC$685,\"Banc 111VRAIFAUXVRAIFAUXFAUX\",BDD!$V$2:$V$685)","v":0},{"$f":"SUMIF(BDD!$BC$2:$BC$685,\"Banc 111VRAIFAUXFAUXVRAIFAUX\",BDD!$V$2:$V$685)","v":0},{"$f":"SUMIF(BDD!$BC$2:$BC$685,\"Banc 111VRAIFAUXFAUXFAUXVRAI\",BDD!$V$2:$V$685)","v":0},{"$f":"SUMIF(BDD!$BC$2:$BC$685,\"Banc 111FAUXVRAIVRAIFAUXFAUX\",BDD!$V$2:$V$685)","v":0},{"$f":"SUMIF(BDD!$BC$2:$BC$685,\"Banc 111FAUXVRAIFAUXVRAIFAUX\",BDD!$V$2:$V$685)","v":0},{"$f":"SUMIF(BDD!$BC$2:$BC$685,\"Banc 111FAUXVRAIFAUXFAUXVRAI\",BDD!$V$2:$V$685)","v":0},{"$f":"SUMIF(BDD!$BC$2:$BC$685,\"Banc 111VRAIFAUXVRAIFAUXFAUX\",BDD!$V$2:$V$685)","v":0},{"$f":"SUMIF(BDD!$BC$2:$BC$685,\"Banc 111VRAIFAUXFAUXVRAIFAUX\",BDD!$V$2:$V$685)","v":0},{"$f":"SUMIF(BDD!$BC$2:$BC$685,\"Banc 111VRAIFAUXFAUXFAUXVRAI\",BDD!$V$2:$V$685)","v":0},{"$f":"SUMIF(BDD!$BC$2:$BC$685,\"Banc 111FAUXVRAIVRAIFAUXFAUX\",BDD!$V$2:$V$685)","v":0},{"$f":"SUMIF(BDD!$BC$2:$BC$685,\"Banc 111FAUXVRAIFAUXVRAIFAUX\",BDD!$V$2:$V$685)","v":0},{"$f":"SUMIF(BDD!$BC$2:$BC$685,\"Banc 111FAUXVRAIFAUXFAUXVRAI\",BDD!$V$2:$V$685)","v":0},{"$f":"SUMIF(BDD!$BC$2:$BC$685,\"Banc 111VRAIFAUXVRAIFAUXFAUX\",BDD!$V$2:$V$685)","v":0},{"$f":"SUMIF(BDD!$BC$2:$BC$685,\"Banc 111VRAIFAUXFAUXVRAIFAUX\",BDD!$V$2:$V$685)","v":0},{"$f":"SUMIF(BDD!$BC$2:$BC$685,\"Banc 111VRAIFAUXFAUXFAUXVRAI\",BDD!$V$2:$V$685)","v":0},{"$f":"SUMIF(BDD!$BC$2:$BC$685,\"Banc 111FAUXVRAIVRAIFAUXFAUX\",BDD!$V$2:$V$685)","v":0},{"$f":"SUMIF(BDD!$BC$2:$BC$685,\"Banc 111FAUXVRAIFAUXVRAIFAUX\",BDD!$V$2:$V$685)","v":0},{"$f":"SUMIF(BDD!$BC$2:$BC$685,\"Banc 111FAUXVRAIFAUXFAUXVRAI\",BDD!$V$2:$V$685)","v":0},{"$f":"SUMIF(BDD!$BC$2:$BC$685,\"Banc 111VRAIFAUXVRAIFAUXFAUX\",BDD!$V$2:$V$685)","v":0},{"$f":"SUMIF(BDD!$BC$2:$BC$685,\"Banc 111VRAIFAUXFAUXVRAIFAUX\",BDD!$V$2:$V$685)","v":0},{"$f":"SUMIF(BDD!$BC$2:$BC$685,\"Banc 111VRAIFAUXFAUXFAUXVRAI\",BDD!$V$2:$V$685)","v":0},{"$f":"SUMIF(BDD!$BC$2:$BC$685,\"Banc 111FAUXVRAIVRAIFAUXFAUX\",BDD!$V$2:$V$685)","v":0},{"$f":"SUMIF(BDD!$BC$2:$BC$685,\"Banc 111FAUXVRAIFAUXVRAIFAUX\",BDD!$V$2:$V$685)","v":0},{"$f":"SUMIF(BDD!$BC$2:$BC$685,\"Banc 111FAUXVRAIFAUXFAUXVRAI\",BDD!$V$2:$V$685)","v":0},{"$f":"SUMIF(BDD!$BC$2:$BC$685,\"Banc 111VRAIFAUXVRAIFAUXFAUX\",BDD!$V$2:$V$685)","v":0},{"$f":"SUMIF(BDD!$BC$2:$BC$685,\"Banc 111VRAIFAUXFAUXVRAIFAUX\",BDD!$V$2:$V$685)","v":0},{"$f":"SUMIF(BDD!$BC$2:$BC$685,\"Banc 111VRAIFAUXFAUXFAUXVRAI\",BDD!$V$2:$V$685)","v":0},{"$f":"SUMIF(BDD!$BC$2:$BC$685,\"Banc 111FAUXVRAIVRAIFAUXFAUX\",BDD!$V$2:$V$685)","v":0},{"$f":"SUMIF(BDD!$BC$2:$BC$685,\"Banc 111FAUXVRAIFAUXVRAIFAUX\",BDD!$V$2:$V$685)","v":0},{"$f":"SUMIF(BDD!$BC$2:$BC$685,\"Banc 111FAUXVRAIFAUXFAUXVRAI\",BDD!$V$2:$V$685)","v":0},{"$f":"SUMIF(BDD!$BC$2:$BC$685,\"Banc 111VRAIFAUXVRAIFAUXFAUX\",BDD!$V$2:$V$685)","v":0},{"$f":"SUMIF(BDD!$BC$2:$BC$685,\"Banc 111VRAIFAUXFAUXVRAIFAUX\",BDD!$V$2:$V$685)","v":0},{"$f":"SUMIF(BDD!$BC$2:$BC$685,\"Banc 111VRAIFAUXFAUXFAUXVRAI\",BDD!$V$2:$V$685)","v":0},{"$f":"SUMIF(BDD!$BC$2:$BC$685,\"Banc 111FAUXVRAIVRAIFAUXFAUX\",BDD!$V$2:$V$685)","v":0},{"$f":"SUMIF(BDD!$BC$2:$BC$685,\"Banc 111FAUXVRAIFAUXVRAIFAUX\",BDD!$V$2:$V$685)","v":0},{"$f":"SUMIF(BDD!$BC$2:$BC$685,\"Banc 111FAUXVRAIFAUXFAUXVRAI\",BDD!$V$2:$V$685)","v":0},{"$f":"SUMIF(BDD!$BC$2:$BC$685,\"Banc 111VRAIFAUXVRAIFAUXFAUX\",BDD!$V$2:$V$685)","v":0},{"$f":"SUMIF(BDD!$BC$2:$BC$685,\"Banc 111VRAIFAUXFAUXVRAIFAUX\",BDD!$V$2:$V$685)","v":0},{"$f":"SUMIF(BDD!$BC$2:$BC$685,\"Banc 111VRAIFAUXFAUXFAUXVRAI\",BDD!$V$2:$V$685)","v":0},{"$f":"SUMIF(BDD!$BC$2:$BC$685,\"Banc 111FAUXVRAIVRAIFAUXFAUX\",BDD!$V$2:$V$685)","v":0},{"$f":"SUMIF(BDD!$BC$2:$BC$685,\"Banc 111FAUXVRAIFAUXVRAIFAUX\",BDD!$V$2:$V$685)","v":0},{"$f":"SUMIF(BDD!$BC$2:$BC$685,\"Banc 111FAUXVRAIFAUXFAUXVRAI\",BDD!$V$2:$V$685)","v":0}]
["Banc 117",{"$f":"SUMIF(BDD!$BC$2:$BC$685,\"Banc 117VRAIFAUXVRAIFAUXFAUX\",BDD!$V$2:$V$685)","v":0},{"$f":"SUMIF(BDD!$BC$2:$BC$685,\"Banc 117VRAIFAUXFAUXVRAIFAUX\",BDD!$V$2:$V$685)","v":0},{"$f":"SUMIF(BDD!$BC$2:$BC$685,\"Banc 117VRAIFAUXFAUXFAUXVRAI\",BDD!$V$2:$V$685)","v":0},{"$f":"SUMIF(BDD!$BC$2:$BC$685,\"Banc 117FAUXVRAIVRAIFAUXFAUX\",BDD!$V$2:$V$685)","v":0},{"$f":"SUMIF(BDD!$BC$2:$BC$685,\"Banc 117FAUXVRAIFAUXVRAIFAUX\",BDD!$V$2:$V$685)","v":0},{"$f":"SUMIF(BDD!$BC$2:$BC$685,\"Banc 117FAUXVRAIFAUXFAUXVRAI\",BDD!$V$2:$V$685)","v":0},{"$f":"SUMIF(BDD!$BC$2:$BC$685,\"Banc 117VRAIFAUXVRAIFAUXFAUX\",BDD!$V$2:$V$685)","v":0},{"$f":"SUMIF(BDD!$BC$2:$BC$685,\"Banc 117VRAIFAUXFAUXVRAIFAUX\",BDD!$V$2:$V$685)","v":0},{"$f":"SUMIF(BDD!$BC$2:$BC$685,\"Banc 117VRAIFAUXFAUXFAUXVRAI\",BDD!$V$2:$V$685)","v":0},{"$f":"SUMIF(BDD!$BC$2:$BC$685,\"Banc 117FAUXVRAIVRAIFAUXFAUX\",BDD!$V$2:$V$685)","v":0},{"$f":"SUMIF(BDD!$BC$2:$BC$685,\"Banc 117FAUXVRAIFAUXVRAIFAUX\",BDD!$V$2:$V$685)","v":0},{"$f":"SUMIF(BDD!$BC$2:$BC$685,\"Banc 117FAUXVRAIFAUXFAUXVRAI\",BDD!$V$2:$V$685)","v":0},{"$f":"SUMIF(BDD!$BC$2:$BC$685,\"Banc 117VRAIFAUXVRAIFAUXFAUX\",BDD!$V$2:$V$685)","v":0},{"$f":"SUMIF(BDD!$BC$2:$BC$685,\"Banc 117VRAIFAUXFAUXVRAIFAUX\",BDD!$V$2:$V$685)","v":0},{"$f":"SUMIF(BDD!$BC$2:$BC$685,\"Banc 117VRAIFAUXFAUXFAUXVRAI\",BDD!$V$2:$V$685)","v":0},{"$f":"SUMIF(BDD!$BC$2:$BC$685,\"Banc 117FAUXVRAIVRAIFAUXFAUX\",BDD!$V$2:$V$685)","v":0},{"$f":"SUMIF(BDD!$BC$2:$BC$685,\"Banc 117FAUXVRAIFAUXVRAIFAUX\",BDD!$V$2:$V$685)","v":0},{"$f":"SUMIF(BDD!$BC$2:$BC$685,\"Banc 117FAUXVRAIFAUXFAUXVRAI\",BDD!$V$2:$V$685)","v":0},{"$f":"SUMIF(BDD!$BC$2:$BC$685,\"Banc 117VRAIFAUXVRAIFAUXFAUX\",BDD!$V$2:$V$685)","v":0},{"$f":"SUMIF(BDD!$BC$2:$BC$685,\"Banc 117VRAIFAUXFAUXVRAIFAUX\",BDD!$V$2:$V$685)","v":0},{"$f":"SUMIF(BDD!$BC$2:$BC$685,\"Banc 117VRAIFAUXFAUXFAUXVRAI\",BDD!$V$2:$V$685)","v":0},{"$f":"SUMIF(BDD!$BC$2:$BC$685,\"Banc 117FAUXVRAIVRAIFAUXFAUX\",BDD!$V$2:$V$685)","v":0},{"$f":"SUMIF(BDD!$BC$2:$BC$685,\"Banc 117FAUXVRAIFAUXVRAIFAUX\",BDD!$V$2:$V$685)","v":0},{"$f":"SUMIF(BDD!$BC$2:$BC$685,\"Banc 117FAUXVRAIFAUXFAUXVRAI\",BDD!$V$2:$V$685)","v":0},{"$f":"SUMIF(BDD!$BC$2:$BC$685,\"Banc 117VRAIFAUXVRAIFAUXFAUX\",BDD!$V$2:$V$685)","v":0},{"$f":"SUMIF(BDD!$BC$2:$BC$685,\"Banc 117VRAIFAUXFAUXVRAIFAUX\",BDD!$V$2:$V$685)","v":0},{"$f":"SUMIF(BDD!$BC$2:$BC$685,\"Banc 117VRAIFAUXFAUXFAUXVRAI\",BDD!$V$2:$V$685)","v":0},{"$f":"SUMIF(BDD!$BC$2:$BC$685,\"Banc 117FAUXVRAIVRAIFAUXFAUX\",BDD!$V$2:$V$685)","v":0},{"$f":"SUMIF(BDD!$BC$2:$BC$685,\"Banc 117FAUXVRAIFAUXVRAIFAUX\",BDD!$V$2:$V$685)","v":0},{"$f":"SUMIF(BDD!$BC$2:$BC$685,\"Banc 117FAUXVRAIFAUXFAUXVRAI\",BDD!$V$2:$V$685)","v":0},{"$f":"SUMIF(BDD!$BC$2:$BC$685,\"Banc 117VRAIFAUXVRAIFAUXFAUX\",BDD!$V$2:$V$685)","v":0},{"$f":"SUMIF(BDD!$BC$2:$BC$685,\"Banc 117VRAIFAUXFAUXVRAIFAUX\",BDD!$V$2:$V$685)","v":0},{"$f":"SUMIF(BDD!$BC$2:$BC$685,\"Banc 117VRAIFAUXFAUXFAUXVRAI\",BDD!$V$2:$V$685)","v":0},{"$f":"SUMIF(BDD!$BC$2:$BC$685,\"Banc 117FAUXVRAIVRAIFAUXFAUX\",BDD!$V$2:$V$685)","v":0},{"$f":"SUMIF(BDD!$BC$2:$BC$685,\"Banc 117FAUXVRAIFAUXVRAIFAUX\",BDD!$V$2:$V$685)","v":0},{"$f":"SUMIF(BDD!$BC$2:$BC$685,\"Banc 117FAUXVRAIFAUXFAUXVRAI\",BDD!$V$2:$V$685)","v":0},{"$f":"SUMIF(BDD!$BC$2:$BC$685,\"Banc 117VRAIFAUXVRAIFAUXFAUX\",BDD!$V$2:$V$685)","v":0},{"$f":"SUMIF(BDD!$BC$2:$BC$685,\"Banc 117VRAIFAUXFAUXVRAIFAUX\",BDD!$V$2:$V$685)","v":0},{"$f":"SUMIF(BDD!$BC$2:$BC$685,\"Banc 117VRAIFAUXFAUXFAUXVRAI\",BDD!$V$2:$V$685)","v":0},{"$f":"SUMIF(BDD!$BC$2:$BC$685,\"Banc 117FAUXVRAIVRAIFAUXFAUX\",BDD!$V$2:$V$685)","v":0},{"$f":"SUMIF(BDD!$BC$2:$BC$685,\"Banc 117FAUXVRAIFAUXVRAIFAUX\",BDD!$V$2:$V$685)","v":0},{"$f":"SUMIF(BDD!$BC$2:$BC$685,\"Banc 117FAUXVRAIFAUXFAUXVRAI\",BDD!$V$2:$V$685)","v":0},{"$f":"SUMIF(BDD!$BC$2:$BC$685,\"Banc 117VRAIFAUXVRAIFAUXFAUX\",BDD!$V$2:$V$685)","v":0},{"$f":"SUMIF(BDD!$BC$2:$BC$685,\"Banc 117VRAIFAUXFAUXVRAIFAUX\",BDD!$V$2:$V$685)","v":0},{"$f":"SUMIF(BDD!$BC$2:$BC$685,\"Banc 117VRAIFAUXFAUXFAUXVRAI\",BDD!$V$2:$V$685)","v":0},{"$f":"SUMIF(BDD!$BC$2:$BC$685,\"Banc 117FAUXVRAIVRAIFAUXFAUX\",BDD!$V$2:$V$685)","v":0},{"$f":"SUMIF(BDD!$BC$2:$BC$685,\"Banc 117FAUXVRAIFAUXVRAIFAUX\",BDD!$V$2:$V$685)","v":0},{"$f":"SUMIF(BDD!$BC$2:$BC$685,\"Banc 117FAUXVRAIFAUXFAUXVRAI\",BDD!$V$2:$V$685)","v":0},{"$f":"SUMIF(BDD!$BC$2:$BC$685,\"Banc 117VRAIFAUXVRAIFAUXFAUX\",BDD!$V$2:$V$685)","v":0},{"$f":"SUMIF(BDD!$BC$2:$BC$685,\"Banc 117VRAIFAUXFAUXVRAIFAUX\",BDD!$V$2:$V$685)","v":0},{"$f":"SUMIF(BDD!$BC$2:$BC$685,\"Banc 117VRAIFAUXFAUXFAUXVRAI\",BDD!$V$2:$V$685)","v":0},{"$f":"SUMIF(BDD!$BC$2:$BC$685,\"Banc 117FAUXVRAIVRAIFAUXFAUX\",BDD!$V$2:$V$685)","v":0},{"$f":"SUMIF(BDD!$BC$2:$BC$685,\"Banc 117FAUXVRAIFAUXVRAIFAUX\",BDD!$V$2:$V$685)","v":0},{"$f":"SUMIF(BDD!$BC$2:$BC$685,\"Banc 117FAUXVRAIFAUXFAUXVRAI\",BDD!$V$2:$V$685)","v":0},{"$f":"SUMIF(BDD!$BC$2:$BC$685,\"Banc 117VRAIFAUXVRAIFAUXFAUX\",BDD!$V$2:$V$685)","v":0},{"$f":"SUMIF(BDD!$BC$2:$BC$685,\"Banc 117VRAIFAUXFAUXVRAIFAUX\",BDD!$V$2:$V$685)","v":0},{"$f":"SUMIF(BDD!$BC$2:$BC$685,\"Banc 117VRAIFAUXFAUXFAUXVRAI\",BDD!$V$2:$V$685)","v":0},{"$f":"SUMIF(BDD!$BC$2:$BC$685,\"Banc 117FAUXVRAIVRAIFAUXFAUX\",BDD!$V$2:$V$685)","v":0},{"$f":"SUMIF(BDD!$BC$2:$BC$685,\"Banc 117FAUXVRAIFAUXVRAIFAUX\",BDD!$V$2:$V$685)","v":0},{"$f":"SUMIF(BDD!$BC$2:$BC$685,\"Banc 117FAUXVRAIFAUXFAUXVRAI\",BDD!$V$2:$V$685)","v":0},{"$f":"SUMIF(BDD!$BC$2:$BC$685,\"Banc 117VRAIFAUXVRAIFAUXFAUX\",BDD!$V$2:$V$685)","v":0},{"$f":"SUMIF(BDD!$BC$2:$BC$685,\"Banc 117VRAIFAUXFAUXVRAIFAUX\",BDD!$V$2:$V$685)","v":0},{"$f":"SUMIF(BDD!$BC$2:$BC$685,\"Banc 117VRAIFAUXFAUXFAUXVRAI\",BDD!$V$2:$V$685)","v":0},{"$f":"SUMIF(BDD!$BC$2:$BC$685,\"Banc 117FAUXVRAIVRAIFAUXFAUX\",BDD!$V$2:$V$685)","v":0},{"$f":"SUMIF(BDD!$BC$2:$BC$685,\"Banc 117FAUXVRAIFAUXVRAIFAUX\",BDD!$V$2:$V$685)","v":0},{"$f":"SUMIF(BDD!$BC$2:$BC$685,\"Banc 117FAUXVRAIFAUXFAUXVRAI\",BDD!$V$2:$V$685)","v":0},{"$f":"SUMIF(BDD!$BC$2:$BC$685,\"Banc 117VRAIFAUXVRAIFAUXFAUX\",BDD!$V$2:$V$685)","v":0},{"$f":"SUMIF(BDD!$BC$2:$BC$685,\"Banc 117VRAIFAUXFAUXVRAIFAUX\",BDD!$V$2:$V$685)","v":0},{"$f":"SUMIF(BDD!$BC$2:$BC$685,\"Banc 117VRAIFAUXFAUXFAUXVRAI\",BDD!$V$2:$V$685)","v":0},{"$f":"SUMIF(BDD!$BC$2:$BC$685,\"Banc 117FAUXVRAIVRAIFAUXFAUX\",BDD!$V$2:$V$685)","v":0},{"$f":"SUMIF(BDD!$BC$2:$BC$685,\"Banc 117FAUXVRAIFAUXVRAIFAUX\",BDD!$V$2:$V$685)","v":0},{"$f":"SUMIF(BDD!$BC$2:$BC$685,\"Banc 117FAUXVRAIFAUXFAUXVRAI\",BDD!$V$2:$V$685)","v":0}]
["Banc 117 bis",{"$f":"SUMIF(BDD!$BC$2:$BC$685,\"Banc 117 bisVRAIFAUXVRAIFAUXFAUX\",BDD!$V$2:$V$685)","v":0},{"$f":"SUMIF(BDD!$BC$2:$BC$685,\"Banc 117 bisVRAIFAUXFAUXVRAIFAUX\",BDD!$V$2:$V$685)","v":0},{"$f":"SUMIF(BDD!$BC$2:$BC$685,\"Banc 117 bisVRAIFAUXFAUXFAUXVRAI\",BDD!$V$2:$V$685)","v":0},{"$f":"SUMIF(BDD!$BC$2:$BC$685,\"Banc 117 bisFAUXVRAIVRAIFAUXFAUX\",BDD!$V$2:$V$685)","v":0},{"$f":"SUMIF(BDD!$BC$2:$BC$685,\"Banc 117 bisFAUXVRAIFAUXVRAIFAUX\",BDD!$V$2:$V$685)","v":0},{"$f":"SUMIF(BDD!$BC$2:$BC$685,\"Banc 117 bisFAUXVRAIFAUXFAUXVRAI\",BDD!$V$2:$V$685)","v":0},{"$f":"SUMIF(BDD!$BC$2:$BC$685,\"Banc 117 bisVRAIFAUXVRAIFAUXFAUX\",BDD!$V$2:$V$685)","v":0},{"$f":"SUMIF(BDD!$BC$2:$BC$685,\"Banc 117 bisVRAIFAUXFAUXVRAIFAUX\",BDD!$V$2:$V$685)","v":0},{"$f":"SUMIF(BDD!$BC$2:$BC$685,\"Banc 117 bisVRAIFAUXFAUXFAUXVRAI\",BDD!$V$2:$V$685)","v":0},{"$f":"SUMIF(BDD!$BC$2:$BC$685,\"Banc 117 bisFAUXVRAIVRAIFAUXFAUX\",BDD!$V$2:$V$685)","v":0},{"$f":"SUMIF(BDD!$BC$2:$BC$685,\"Banc 117 bisFAUXVRAIFAUXVRAIFAUX\",BDD!$V$2:$V$685)","v":0},{"$f":"SUMIF(BDD!$BC$2:$BC$685,\"Banc 117 bisFAUXVRAIFAUXFAUXVRAI\",BDD!$V$2:$V$685)","v":0},{"$f":"SUMIF(BDD!$BC$2:$BC$685,\"Banc 117 bisVRAIFAUXVRAIFAUXFAUX\",BDD!$V$2:$V$685)","v":0},{"$f":"SUMIF(BDD!$BC$2:$BC$685,\"Banc 117 bisVRAIFAUXFAUXVRAIFAUX\",BDD!$V$2:$V$685)","v":0},{"$f":"SUMIF(BDD!$BC$2:$BC$685,\"Banc 117 bisVRAIFAUXFAUXFAUXVRAI\",BDD!$V$2:$V$685)","v":0},{"$f":"SUMIF(BDD!$BC$2:$BC$685,\"Banc 117 bisFAUXVRAIVRAIFAUXFAUX\",BDD!$V$2:$V$685)","v":0},{"$f":"SUMIF(BDD!$BC$2:$BC$685,\"Banc 117 bisFAUXVRAIFAUXVRAIFAUX\",BDD!$V$2:$V$685)","v":0},{"$f":"SUMIF(BDD!$BC$2:$BC$685,\"Banc 117 bisFAUXVRAIFAUXFAUXVRAI\",BDD!$V$2:$V$685)","v":0},{"$f":"SUMIF(BDD!$BC$2:$BC$685,\"Banc 117 bisVRAIFAUXVRAIFAUXFAUX\",BDD!$V$2:$V$685)","v":0},{"$f":"SUMIF(BDD!$BC$2:$BC$685,\"Banc 117 bisVRAIFAUXFAUXVRAIFAUX\",BDD!$V$2:$V$685)","v":0},{"$f":"SUMIF(BDD!$BC$2:$BC$685,\"Banc 117 bisVRAIFAUXFAUXFAUXVRAI\",BDD!$V$2:$V$685)","v":0},{"$f":"SUMIF(BDD!$BC$2:$BC$685,\"Banc 117 bisFAUXVRAIVRAIFAUXFAUX\",BDD!$V$2:$V$685)","v":0},{"$f":"SUMIF(BDD!$BC$2:$BC$685,\"Banc 117 bisFAUXVRAIFAUXVRAIFAUX\",BDD!$V$2:$V$685)","v":0},{"$f":"SUMIF(BDD!$BC$2:$BC$685,\"Banc 117 bisFAUXVRAIFAUXFAUXVRAI\",BDD!$V$2:$V$685)","v":0},{"$f":"SUMIF(BDD!$BC$2:$BC$685,\"Banc 117 bisVRAIFAUXVRAIFAUXFAUX\",BDD!$V$2:$V$685)","v":0},{"$f":"SUMIF(BDD!$BC$2:$BC$685,\"Banc 117 bisVRAIFAUXFAUXVRAIFAUX\",BDD!$V$2:$V$685)","v":0},{"$f":"SUMIF(BDD!$BC$2:$BC$685,\"Banc 117 bisVRAIFAUXFAUXFAUXVRAI\",BDD!$V$2:$V$685)","v":0},{"$f":"SUMIF(BDD!$BC$2:$BC$685,\"Banc 117 bisFAUXVRAIVRAIFAUXFAUX\",BDD!$V$2:$V$685)","v":0},{"$f":"SUMIF(BDD!$BC$2:$BC$685,\"Banc 117 bisFAUXVRAIFAUXVRAIFAUX\",BDD!$V$2:$V$685)","v":0},{"$f":"SUMIF(BDD!$BC$2:$BC$685,\"Banc 117 bisFAUXVRAIFAUXFAUXVRAI\",BDD!$V$2:$V$685)","v":0},{"$f":"SUMIF(BDD!$BC$2:$BC$685,\"Banc 117 bisVRAIFAUXVRAIFAUXFAUX\",BDD!$V$2:$V$685)","v":0},{"$f":"SUMIF(BDD!$BC$2:$BC$685,\"Banc 117 bisVRAIFAUXFAUXVRAIFAUX\",BDD!$V$2:$V$685)","v":0},{"$f":"SUMIF(BDD!$BC$2:$BC$685,\"Banc 117 bisVRAIFAUXFAUXFAUXVRAI\",BDD!$V$2:$V$685)","v":0},{"$f":"SUMIF(BDD!$BC$2:$BC$685,\"Banc 117 bisFAUXVRAIVRAIFAUXFAUX\",BDD!$V$2:$V$685)","v":0},{"$f":"SUMIF(BDD!$BC$2:$BC$685,\"Banc 117 bisFAUXVRAIFAUXVRAIFAUX\",BDD!$V$2:$V$685)","v":0},{"$f":"SUMIF(BDD!$BC$2:$BC$685,\"Banc 117 bisFAUXVRAIFAUXFAUXVRAI\",BDD!$V$2:$V$685)","v":0},{"$f":"SUMIF(BDD!$BC$2:$BC$685,\"Banc 117 bisVRAIFAUXVRAIFAUXFAUX\",BDD!$V$2:$V$685)","v":0},{"$f":"SUMIF(BDD!$BC$2:$BC$685,\"Banc 117 bisVRAIFAUXFAUXVRAIFAUX\",BDD!$V$2:$V$685)","v":0},{"$f":"SUMIF(BDD!$BC$2:$BC$685,\"Banc 117 bisVRAIFAUXFAUXFAUXVRAI\",BDD!$V$2:$V$685)","v":0},{"$f":"SUMIF(BDD!$BC$2:$BC$685,\"Banc 117 bisFAUXVRAIVRAIFAUXFAUX\",BDD!$V$2:$V$685)","v":0},{"$f":"SUMIF(BDD!$BC$2:$BC$685,\"Banc 117 bisFAUXVRAIFAUXVRAIFAUX\",BDD!$V$2:$V$685)","v":0},{"$f":"SUMIF(BDD!$BC$2:$BC$685,\"Banc 117 bisFAUXVRAIFAUXFAUXVRAI\",BDD!$V$2:$V$685)","v":0},{"$f":"SUMIF(BDD!$BC$2:$BC$685,\"Banc 117 bisVRAIFAUXVRAIFAUXFAUX\",BDD!$V$2:$V$685)","v":0},{"$f":"SUMIF(BDD!$BC$2:$BC$685,\"Banc 117 bisVRAIFAUXFAUXVRAIFAUX\",BDD!$V$2:$V$685)","v":0},{"$f":"SUMIF(BDD!$BC$2:$BC$685,\"Banc 117 bisVRAIFAUXFAUXFAUXVRAI\",BDD!$V$2:$V$685)","v":0},{"$f":"SUMIF(BDD!$BC$2:$BC$685,\"Banc 117 bisFAUXVRAIVRAIFAUXFAUX\",BDD!$V$2:$V$685)","v":0},{"$f":"SUMIF(BDD!$BC$2:$BC$685,\"Banc 117 bisFAUXVRAIFAUXVRAIFAUX\",BDD!$V$2:$V$685)","v":0},{"$f":"SUMIF(BDD!$BC$2:$BC$685,\"Banc 117 bisFAUXVRAIFAUXFAUXVRAI\",BDD!$V$2:$V$685)","v":0},{"$f":"SUMIF(BDD!$BC$2:$BC$685,\"Banc 117 bisVRAIFAUXVRAIFAUXFAUX\",BDD!$V$2:$V$685)","v":0},{"$f":"SUMIF(BDD!$BC$2:$BC$685,\"Banc 117 bisVRAIFAUXFAUXVRAIFAUX\",BDD!$V$2:$V$685)","v":0},{"$f":"SUMIF(BDD!$BC$2:$BC$685,\"Banc 117 bisVRAIFAUXFAUXFAUXVRAI\",BDD!$V$2:$V$685)","v":0},{"$f":"SUMIF(BDD!$BC$2:$BC$685,\"Banc 117 bisFAUXVRAIVRAIFAUXFAUX\",BDD!$V$2:$V$685)","v":0},{"$f":"SUMIF(BDD!$BC$2:$BC$685,\"Banc 117 bisFAUXVRAIFAUXVRAIFAUX\",BDD!$V$2:$V$685)","v":0},{"$f":"SUMIF(BDD!$BC$2:$BC$685,\"Banc 117 bisFAUXVRAIFAUXFAUXVRAI\",BDD!$V$2:$V$685)","v":0},{"$f":"SUMIF(BDD!$BC$2:$BC$685,\"Banc 117 bisVRAIFAUXVRAIFAUXFAUX\",BDD!$V$2:$V$685)","v":0},{"$f":"SUMIF(BDD!$BC$2:$BC$685,\"Banc 117 bisVRAIFAUXFAUXVRAIFAUX\",BDD!$V$2:$V$685)","v":0},{"$f":"SUMIF(BDD!$BC$2:$BC$685,\"Banc 117 bisVRAIFAUXFAUXFAUXVRAI\",BDD!$V$2:$V$685)","v":0},{"$f":"SUMIF(BDD!$BC$2:$BC$685,\"Banc 117 bisFAUXVRAIVRAIFAUXFAUX\",BDD!$V$2:$V$685)","v":0},{"$f":"SUMIF(BDD!$BC$2:$BC$685,\"Banc 117 bisFAUXVRAIFAUXVRAIFAUX\",BDD!$V$2:$V$685)","v":0},{"$f":"SUMIF(BDD!$BC$2:$BC$685,\"Banc 117 bisFAUXVRAIFAUXFAUXVRAI\",BDD!$V$2:$V$685)","v":0},{"$f":"SUMIF(BDD!$BC$2:$BC$685,\"Banc 117 bisVRAIFAUXVRAIFAUXFAUX\",BDD!$V$2:$V$685)","v":0},{"$f":"SUMIF(BDD!$BC$2:$BC$685,\"Banc 117 bisVRAIFAUXFAUXVRAIFAUX\",BDD!$V$2:$V$685)","v":0},{"$f":"SUMIF(BDD!$BC$2:$BC$685,\"Banc 117 bisVRAIFAUXFAUXFAUXVRAI\",BDD!$V$2:$V$685)","v":0},{"$f":"SUMIF(BDD!$BC$2:$BC$685,\"Banc 117 bisFAUXVRAIVRAIFAUXFAUX\",BDD!$V$2:$V$685)","v":0},{"$f":"SUMIF(BDD!$BC$2:$BC$685,\"Banc 117 bisFAUXVRAIFAUXVRAIFAUX\",BDD!$V$2:$V$685)","v":0},{"$f":"SUMIF(BDD!$BC$2:$BC$685,\"Banc 117 bisFAUXVRAIFAUXFAUXVRAI\",BDD!$V$2:$V$685)","v":0},{"$f":"SUMIF(BDD!$BC$2:$BC$685,\"Banc 117 bisVRAIFAUXVRAIFAUXFAUX\",BDD!$V$2:$V$685)","v":0},{"$f":"SUMIF(BDD!$BC$2:$BC$685,\"Banc 117 bisVRAIFAUXFAUXVRAIFAUX\",BDD!$V$2:$V$685)","v":0},{"$f":"SUMIF(BDD!$BC$2:$BC$685,\"Banc 117 bisVRAIFAUXFAUXFAUXVRAI\",BDD!$V$2:$V$685)","v":0},{"$f":"SUMIF(BDD!$BC$2:$BC$685,\"Banc 117 bisFAUXVRAIVRAIFAUXFAUX\",BDD!$V$2:$V$685)","v":0},{"$f":"SUMIF(BDD!$BC$2:$BC$685,\"Banc 117 bisFAUXVRAIFAUXVRAIFAUX\",BDD!$V$2:$V$685)","v":0},{"$f":"SUMIF(BDD!$BC$2:$BC$685,\"Banc 117 bisFAUXVRAIFAUXFAUXVRAI\",BDD!$V$2:$V$685)","v":0}]
["Banc 119",{"$f":"SUMIF(BDD!$BC$2:$BC$685,\"Banc 119VRAIFAUXVRAIFAUXFAUX\",BDD!$V$2:$V$685)","v":0},{"$f":"SUMIF(BDD!$BC$2:$BC$685,\"Banc 119VRAIFAUXFAUXVRAIFAUX\",BDD!$V$2:$V$685)","v":0},{"$f":"SUMIF(BDD!$BC$2:$BC$685,\"Banc 119VRAIFAUXFAUXFAUXVRAI\",BDD!$V$2:$V$685)","v":0},{"$f":"SUMIF(BDD!$BC$2:$BC$685,\"Banc 119FAUXVRAIVRAIFAUXFAUX\",BDD!$V$2:$V$685)","v":0},{"$f":"SUMIF(BDD!$BC$2:$BC$685,\"Banc 119FAUXVRAIFAUXVRAIFAUX\",BDD!$V$2:$V$685)","v":0},{"$f":"SUMIF(BDD!$BC$2:$BC$685,\"Banc 119FAUXVRAIFAUXFAUXVRAI\",BDD!$V$2:$V$685)","v":0},{"$f":"SUMIF(BDD!$BC$2:$BC$685,\"Banc 119VRAIFAUXVRAIFAUXFAUX\",BDD!$V$2:$V$685)","v":0},{"$f":"SUMIF(BDD!$BC$2:$BC$685,\"Banc 119VRAIFAUXFAUXVRAIFAUX\",BDD!$V$2:$V$685)","v":0},{"$f":"SUMIF(BDD!$BC$2:$BC$685,\"Banc 119VRAIFAUXFAUXFAUXVRAI\",BDD!$V$2:$V$685)","v":0},{"$f":"SUMIF(BDD!$BC$2:$BC$685,\"Banc 119FAUXVRAIVRAIFAUXFAUX\",BDD!$V$2:$V$685)","v":0},{"$f":"SUMIF(BDD!$BC$2:$BC$685,\"Banc 119FAUXVRAIFAUXVRAIFAUX\",BDD!$V$2:$V$685)","v":0},{"$f":"SUMIF(BDD!$BC$2:$BC$685,\"Banc 119FAUXVRAIFAUXFAUXVRAI\",BDD!$V$2:$V$685)","v":0},{"$f":"SUMIF(BDD!$BC$2:$BC$685,\"Banc 119VRAIFAUXVRAIFAUXFAUX\",BDD!$V$2:$V$685)","v":0},{"$f":"SUMIF(BDD!$BC$2:$BC$685,\"Banc 119VRAIFAUXFAUXVRAIFAUX\",BDD!$V$2:$V$685)","v":0},{"$f":"SUMIF(BDD!$BC$2:$BC$685,\"Banc 119VRAIFAUXFAUXFAUXVRAI\",BDD!$V$2:$V$685)","v":0},{"$f":"SUMIF(BDD!$BC$2:$BC$685,\"Banc 119FAUXVRAIVRAIFAUXFAUX\",BDD!$V$2:$V$685)","v":0},{"$f":"SUMIF(BDD!$BC$2:$BC$685,\"Banc 119FAUXVRAIFAUXVRAIFAUX\",BDD!$V$2:$V$685)","v":0},{"$f":"SUMIF(BDD!$BC$2:$BC$685,\"Banc 119FAUXVRAIFAUXFAUXVRAI\",BDD!$V$2:$V$685)","v":0},{"$f":"SUMIF(BDD!$BC$2:$BC$685,\"Banc 119VRAIFAUXVRAIFAUXFAUX\",BDD!$V$2:$V$685)","v":0},{"$f":"SUMIF(BDD!$BC$2:$BC$685,\"Banc 119VRAIFAUXFAUXVRAIFAUX\",BDD!$V$2:$V$685)","v":0},{"$f":"SUMIF(BDD!$BC$2:$BC$685,\"Banc 119VRAIFAUXFAUXFAUXVRAI\",BDD!$V$2:$V$685)","v":0},{"$f":"SUMIF(BDD!$BC$2:$BC$685,\"Banc 119FAUXVRAIVRAIFAUXFAUX\",BDD!$V$2:$V$685)","v":0},{"$f":"SUMIF(BDD!$BC$2:$BC$685,\"Banc 119FAUXVRAIFAUXVRAIFAUX\",BDD!$V$2:$V$685)","v":0},{"$f":"SUMIF(BDD!$BC$2:$BC$685,\"Banc 119FAUXVRAIFAUXFAUXVRAI\",BDD!$V$2:$V$685)","v":0},{"$f":"SUMIF(BDD!$BC$2:$BC$685,\"Banc 119VRAIFAUXVRAIFAUXFAUX\",BDD!$V$2:$V$685)","v":0},{"$f":"SUMIF(BDD!$BC$2:$BC$685,\"Banc 119VRAIFAUXFAUXVRAIFAUX\",BDD!$V$2:$V$685)","v":0},{"$f":"SUMIF(BDD!$BC$2:$BC$685,\"Banc 119VRAIFAUXFAUXFAUXVRAI\",BDD!$V$2:$V$685)","v":0},{"$f":"SUMIF(BDD!$BC$2:$BC$685,\"Banc 119FAUXVRAIVRAIFAUXFAUX\",BDD!$V$2:$V$685)","v":0},{"$f":"SUMIF(BDD!$BC$2:$BC$685,\"Banc 119FAUXVRAIFAUXVRAIFAUX\",BDD!$V$2:$V$685)","v":0},{"$f":"SUMIF(BDD!$BC$2:$BC$685,\"Banc 119FAUXVRAIFAUXFAUXVRAI\",BDD!$V$2:$V$685)","v":0},{"$f":"SUMIF(BDD!$BC$2:$BC$685,\"Banc 119VRAIFAUXVRAIFAUXFAUX\",BDD!$V$2:$V$685)","v":0},{"$f":"SUMIF(BDD!$BC$2:$BC$685,\"Banc 119VRAIFAUXFAUXVRAIFAUX\",BDD!$V$2:$V$685)","v":0},{"$f":"SUMIF(BDD!$BC$2:$BC$685,\"Banc 119VRAIFAUXFAUXFAUXVRAI\",BDD!$V$2:$V$685)","v":0},{"$f":"SUMIF(BDD!$BC$2:$BC$685,\"Banc 119FAUXVRAIVRAIFAUXFAUX\",BDD!$V$2:$V$685)","v":0},{"$f":"SUMIF(BDD!$BC$2:$BC$685,\"Banc 119FAUXVRAIFAUXVRAIFAUX\",BDD!$V$2:$V$685)","v":0},{"$f":"SUMIF(BDD!$BC$2:$BC$685,\"Banc 119FAUXVRAIFAUXFAUXVRAI\",BDD!$V$2:$V$685)","v":0},{"$f":"SUMIF(BDD!$BC$2:$BC$685,\"Banc 119VRAIFAUXVRAIFAUXFAUX\",BDD!$V$2:$V$685)","v":0},{"$f":"SUMIF(BDD!$BC$2:$BC$685,\"Banc 119VRAIFAUXFAUXVRAIFAUX\",BDD!$V$2:$V$685)","v":0},{"$f":"SUMIF(BDD!$BC$2:$BC$685,\"Banc 119VRAIFAUXFAUXFAUXVRAI\",BDD!$V$2:$V$685)","v":0},{"$f":"SUMIF(BDD!$BC$2:$BC$685,\"Banc 119FAUXVRAIVRAIFAUXFAUX\",BDD!$V$2:$V$685)","v":0},{"$f":"SUMIF(BDD!$BC$2:$BC$685,\"Banc 119FAUXVRAIFAUXVRAIFAUX\",BDD!$V$2:$V$685)","v":0},{"$f":"SUMIF(BDD!$BC$2:$BC$685,\"Banc 119FAUXVRAIFAUXFAUXVRAI\",BDD!$V$2:$V$685)","v":0},{"$f":"SUMIF(BDD!$BC$2:$BC$685,\"Banc 119VRAIFAUXVRAIFAUXFAUX\",BDD!$V$2:$V$685)","v":0},{"$f":"SUMIF(BDD!$BC$2:$BC$685,\"Banc 119VRAIFAUXFAUXVRAIFAUX\",BDD!$V$2:$V$685)","v":0},{"$f":"SUMIF(BDD!$BC$2:$BC$685,\"Banc 119VRAIFAUXFAUXFAUXVRAI\",BDD!$V$2:$V$685)","v":0},{"$f":"SUMIF(BDD!$BC$2:$BC$685,\"Banc 119FAUXVRAIVRAIFAUXFAUX\",BDD!$V$2:$V$685)","v":0},{"$f":"SUMIF(BDD!$BC$2:$BC$685,\"Banc 119FAUXVRAIFAUXVRAIFAUX\",BDD!$V$2:$V$685)","v":0},{"$f":"SUMIF(BDD!$BC$2:$BC$685,\"Banc 119FAUXVRAIFAUXFAUXVRAI\",BDD!$V$2:$V$685)","v":0},{"$f":"SUMIF(BDD!$BC$2:$BC$685,\"Banc 119VRAIFAUXVRAIFAUXFAUX\",BDD!$V$2:$V$685)","v":0},{"$f":"SUMIF(BDD!$BC$2:$BC$685,\"Banc 119VRAIFAUXFAUXVRAIFAUX\",BDD!$V$2:$V$685)","v":0},{"$f":"SUMIF(BDD!$BC$2:$BC$685,\"Banc 119VRAIFAUXFAUXFAUXVRAI\",BDD!$V$2:$V$685)","v":0},{"$f":"SUMIF(BDD!$BC$2:$BC$685,\"Banc 119FAUXVRAIVRAIFAUXFAUX\",BDD!$V$2:$V$685)","v":0},{"$f":"SUMIF(BDD!$BC$2:$BC$685,\"Banc 119FAUXVRAIFAUXVRAIFAUX\",BDD!$V$2:$V$685)","v":0},{"$f":"SUMIF(BDD!$BC$2:$BC$685,\"Banc 119FAUXVRAIFAUXFAUXVRAI\",BDD!$V$2:$V$685)","v":0},{"$f":"SUMIF(BDD!$BC$2:$BC$685,\"Banc 119VRAIFAUXVRAIFAUXFAUX\",BDD!$V$2:$V$685)","v":0},{"$f":"SUMIF(BDD!$BC$2:$BC$685,\"Banc 119VRAIFAUXFAUXVRAIFAUX\",BDD!$V$2:$V$685)","v":0},{"$f":"SUMIF(BDD!$BC$2:$BC$685,\"Banc 119VRAIFAUXFAUXFAUXVRAI\",BDD!$V$2:$V$685)","v":0},{"$f":"SUMIF(BDD!$BC$2:$BC$685,\"Banc 119FAUXVRAIVRAIFAUXFAUX\",BDD!$V$2:$V$685)","v":0},{"$f":"SUMIF(BDD!$BC$2:$BC$685,\"Banc 119FAUXVRAIFAUXVRAIFAUX\",BDD!$V$2:$V$685)","v":0},{"$f":"SUMIF(BDD!$BC$2:$BC$685,\"Banc 119FAUXVRAIFAUXFAUXVRAI\",BDD!$V$2:$V$685)","v":0},{"$f":"SUMIF(BDD!$BC$2:$BC$685,\"Banc 119VRAIFAUXVRAIFAUXFAUX\",BDD!$V$2:$V$685)","v":0},{"$f":"SUMIF(BDD!$BC$2:$BC$685,\"Banc 119VRAIFAUXFAUXVRAIFAUX\",BDD!$V$2:$V$685)","v":0},{"$f":"SUMIF(BDD!$BC$2:$BC$685,\"Banc 119VRAIFAUXFAUXFAUXVRAI\",BDD!$V$2:$V$685)","v":0},{"$f":"SUMIF(BDD!$BC$2:$BC$685,\"Banc 119FAUXVRAIVRAIFAUXFAUX\",BDD!$V$2:$V$685)","v":0},{"$f":"SUMIF(BDD!$BC$2:$BC$685,\"Banc 119FAUXVRAIFAUXVRAIFAUX\",BDD!$V$2:$V$685)","v":0},{"$f":"SUMIF(BDD!$BC$2:$BC$685,\"Banc 119FAUXVRAIFAUXFAUXVRAI\",BDD!$V$2:$V$685)","v":0},{"$f":"SUMIF(BDD!$BC$2:$BC$685,\"Banc 119VRAIFAUXVRAIFAUXFAUX\",BDD!$V$2:$V$685)","v":0},{"$f":"SUMIF(BDD!$BC$2:$BC$685,\"Banc 119VRAIFAUXFAUXVRAIFAUX\",BDD!$V$2:$V$685)","v":0},{"$f":"SUMIF(BDD!$BC$2:$BC$685,\"Banc 119VRAIFAUXFAUXFAUXVRAI\",BDD!$V$2:$V$685)","v":0},{"$f":"SUMIF(BDD!$BC$2:$BC$685,\"Banc 119FAUXVRAIVRAIFAUXFAUX\",BDD!$V$2:$V$685)","v":0},{"$f":"SUMIF(BDD!$BC$2:$BC$685,\"Banc 119FAUXVRAIFAUXVRAIFAUX\",BDD!$V$2:$V$685)","v":0},{"$f":"SUMIF(BDD!$BC$2:$BC$685,\"Banc 119FAUXVRAIFAUXFAUXVRAI\",BDD!$V$2:$V$685)","v":0}]
["Banc 123",{"$f":"SUMIF(BDD!$BC$2:$BC$685,\"Banc 123VRAIFAUXVRAIFAUXFAUX\",BDD!$V$2:$V$685)","v":0},{"$f":"SUMIF(BDD!$BC$2:$BC$685,\"Banc 123VRAIFAUXFAUXVRAIFAUX\",BDD!$V$2:$V$685)","v":0},{"$f":"SUMIF(BDD!$BC$2:$BC$685,\"Banc 123VRAIFAUXFAUXFAUXVRAI\",BDD!$V$2:$V$685)","v":0},{"$f":"SUMIF(BDD!$BC$2:$BC$685,\"Banc 123FAUXVRAIVRAIFAUXFAUX\",BDD!$V$2:$V$685)","v":0},{"$f":"SUMIF(BDD!$BC$2:$BC$685,\"Banc 123FAUXVRAIFAUXVRAIFAUX\",BDD!$V$2:$V$685)","v":0},{"$f":"SUMIF(BDD!$BC$2:$BC$685,\"Banc 123FAUXVRAIFAUXFAUXVRAI\",BDD!$V$2:$V$685)","v":0},{"$f":"SUMIF(BDD!$BC$2:$BC$685,\"Banc 123VRAIFAUXVRAIFAUXFAUX\",BDD!$V$2:$V$685)","v":0},{"$f":"SUMIF(BDD!$BC$2:$BC$685,\"Banc 123VRAIFAUXFAUXVRAIFAUX\",BDD!$V$2:$V$685)","v":0},{"$f":"SUMIF(BDD!$BC$2:$BC$685,\"Banc 123VRAIFAUXFAUXFAUXVRAI\",BDD!$V$2:$V$685)","v":0},{"$f":"SUMIF(BDD!$BC$2:$BC$685,\"Banc 123FAUXVRAIVRAIFAUXFAUX\",BDD!$V$2:$V$685)","v":0},{"$f":"SUMIF(BDD!$BC$2:$BC$685,\"Banc 123FAUXVRAIFAUXVRAIFAUX\",BDD!$V$2:$V$685)","v":0},{"$f":"SUMIF(BDD!$BC$2:$BC$685,\"Banc 123FAUXVRAIFAUXFAUXVRAI\",BDD!$V$2:$V$685)","v":0},{"$f":"SUMIF(BDD!$BC$2:$BC$685,\"Banc 123VRAIFAUXVRAIFAUXFAUX\",BDD!$V$2:$V$685)","v":0},{"$f":"SUMIF(BDD!$BC$2:$BC$685,\"Banc 123VRAIFAUXFAUXVRAIFAUX\",BDD!$V$2:$V$685)","v":0},{"$f":"SUMIF(BDD!$BC$2:$BC$685,\"Banc 123VRAIFAUXFAUXFAUXVRAI\",BDD!$V$2:$V$685)","v":0},{"$f":"SUMIF(BDD!$BC$2:$BC$685,\"Banc 123FAUXVRAIVRAIFAUXFAUX\",BDD!$V$2:$V$685)","v":0},{"$f":"SUMIF(BDD!$BC$2:$BC$685,\"Banc 123FAUXVRAIFAUXVRAIFAUX\",BDD!$V$2:$V$685)","v":0},{"$f":"SUMIF(BDD!$BC$2:$BC$685,\"Banc 123FAUXVRAIFAUXFAUXVRAI\",BDD!$V$2:$V$685)","v":0},{"$f":"SUMIF(BDD!$BC$2:$BC$685,\"Banc 123VRAIFAUXVRAIFAUXFAUX\",BDD!$V$2:$V$685)","v":0},{"$f":"SUMIF(BDD!$BC$2:$BC$685,\"Banc 123VRAIFAUXFAUXVRAIFAUX\",BDD!$V$2:$V$685)","v":0},{"$f":"SUMIF(BDD!$BC$2:$BC$685,\"Banc 123VRAIFAUXFAUXFAUXVRAI\",BDD!$V$2:$V$685)","v":0},{"$f":"SUMIF(BDD!$BC$2:$BC$685,\"Banc 123FAUXVRAIVRAIFAUXFAUX\",BDD!$V$2:$V$685)","v":0},{"$f":"SUMIF(BDD!$BC$2:$BC$685,\"Banc 123FAUXVRAIFAUXVRAIFAUX\",BDD!$V$2:$V$685)","v":0},{"$f":"SUMIF(BDD!$BC$2:$BC$685,\"Banc 123FAUXVRAIFAUXFAUXVRAI\",BDD!$V$2:$V$685)","v":0},{"$f":"SUMIF(BDD!$BC$2:$BC$685,\"Banc 123VRAIFAUXVRAIFAUXFAUX\",BDD!$V$2:$V$685)","v":0},{"$f":"SUMIF(BDD!$BC$2:$BC$685,\"Banc 123VRAIFAUXFAUXVRAIFAUX\",BDD!$V$2:$V$685)","v":0},{"$f":"SUMIF(BDD!$BC$2:$BC$685,\"Banc 123VRAIFAUXFAUXFAUXVRAI\",BDD!$V$2:$V$685)","v":0},{"$f":"SUMIF(BDD!$BC$2:$BC$685,\"Banc 123FAUXVRAIVRAIFAUXFAUX\",BDD!$V$2:$V$685)","v":0},{"$f":"SUMIF(BDD!$BC$2:$BC$685,\"Banc 123FAUXVRAIFAUXVRAIFAUX\",BDD!$V$2:$V$685)","v":0},{"$f":"SUMIF(BDD!$BC$2:$BC$685,\"Banc 123FAUXVRAIFAUXFAUXVRAI\",BDD!$V$2:$V$685)","v":0},{"$f":"SUMIF(BDD!$BC$2:$BC$685,\"Banc 123VRAIFAUXVRAIFAUXFAUX\",BDD!$V$2:$V$685)","v":0},{"$f":"SUMIF(BDD!$BC$2:$BC$685,\"Banc 123VRAIFAUXFAUXVRAIFAUX\",BDD!$V$2:$V$685)","v":0},{"$f":"SUMIF(BDD!$BC$2:$BC$685,\"Banc 123VRAIFAUXFAUXFAUXVRAI\",BDD!$V$2:$V$685)","v":0},{"$f":"SUMIF(BDD!$BC$2:$BC$685,\"Banc 123FAUXVRAIVRAIFAUXFAUX\",BDD!$V$2:$V$685)","v":0},{"$f":"SUMIF(BDD!$BC$2:$BC$685,\"Banc 123FAUXVRAIFAUXVRAIFAUX\",BDD!$V$2:$V$685)","v":0},{"$f":"SUMIF(BDD!$BC$2:$BC$685,\"Banc 123FAUXVRAIFAUXFAUXVRAI\",BDD!$V$2:$V$685)","v":0},{"$f":"SUMIF(BDD!$BC$2:$BC$685,\"Banc 123VRAIFAUXVRAIFAUXFAUX\",BDD!$V$2:$V$685)","v":0},{"$f":"SUMIF(BDD!$BC$2:$BC$685,\"Banc 123VRAIFAUXFAUXVRAIFAUX\",BDD!$V$2:$V$685)","v":0},{"$f":"SUMIF(BDD!$BC$2:$BC$685,\"Banc 123VRAIFAUXFAUXFAUXVRAI\",BDD!$V$2:$V$685)","v":0},{"$f":"SUMIF(BDD!$BC$2:$BC$685,\"Banc 123FAUXVRAIVRAIFAUXFAUX\",BDD!$V$2:$V$685)","v":0},{"$f":"SUMIF(BDD!$BC$2:$BC$685,\"Banc 123FAUXVRAIFAUXVRAIFAUX\",BDD!$V$2:$V$685)","v":0},{"$f":"SUMIF(BDD!$BC$2:$BC$685,\"Banc 123FAUXVRAIFAUXFAUXVRAI\",BDD!$V$2:$V$685)","v":0},{"$f":"SUMIF(BDD!$BC$2:$BC$685,\"Banc 123VRAIFAUXVRAIFAUXFAUX\",BDD!$V$2:$V$685)","v":0},{"$f":"SUMIF(BDD!$BC$2:$BC$685,\"Banc 123VRAIFAUXFAUXVRAIFAUX\",BDD!$V$2:$V$685)","v":0},{"$f":"SUMIF(BDD!$BC$2:$BC$685,\"Banc 123VRAIFAUXFAUXFAUXVRAI\",BDD!$V$2:$V$685)","v":0},{"$f":"SUMIF(BDD!$BC$2:$BC$685,\"Banc 123FAUXVRAIVRAIFAUXFAUX\",BDD!$V$2:$V$685)","v":0},{"$f":"SUMIF(BDD!$BC$2:$BC$685,\"Banc 123FAUXVRAIFAUXVRAIFAUX\",BDD!$V$2:$V$685)","v":0},{"$f":"SUMIF(BDD!$BC$2:$BC$685,\"Banc 123FAUXVRAIFAUXFAUXVRAI\",BDD!$V$2:$V$685)","v":0},{"$f":"SUMIF(BDD!$BC$2:$BC$685,\"Banc 123VRAIFAUXVRAIFAUXFAUX\",BDD!$V$2:$V$685)","v":0},{"$f":"SUMIF(BDD!$BC$2:$BC$685,\"Banc 123VRAIFAUXFAUXVRAIFAUX\",BDD!$V$2:$V$685)","v":0},{"$f":"SUMIF(BDD!$BC$2:$BC$685,\"Banc 123VRAIFAUXFAUXFAUXVRAI\",BDD!$V$2:$V$685)","v":0},{"$f":"SUMIF(BDD!$BC$2:$BC$685,\"Banc 123FAUXVRAIVRAIFAUXFAUX\",BDD!$V$2:$V$685)","v":0},{"$f":"SUMIF(BDD!$BC$2:$BC$685,\"Banc 123FAUXVRAIFAUXVRAIFAUX\",BDD!$V$2:$V$685)","v":0},{"$f":"SUMIF(BDD!$BC$2:$BC$685,\"Banc 123FAUXVRAIFAUXFAUXVRAI\",BDD!$V$2:$V$685)","v":0},{"$f":"SUMIF(BDD!$BC$2:$BC$685,\"Banc 123VRAIFAUXVRAIFAUXFAUX\",BDD!$V$2:$V$685)","v":0},{"$f":"SUMIF(BDD!$BC$2:$BC$685,\"Banc 123VRAIFAUXFAUXVRAIFAUX\",BDD!$V$2:$V$685)","v":0},{"$f":"SUMIF(BDD!$BC$2:$BC$685,\"Banc 123VRAIFAUXFAUXFAUXVRAI\",BDD!$V$2:$V$685)","v":0},{"$f":"SUMIF(BDD!$BC$2:$BC$685,\"Banc 123FAUXVRAIVRAIFAUXFAUX\",BDD!$V$2:$V$685)","v":0},{"$f":"SUMIF(BDD!$BC$2:$BC$685,\"Banc 123FAUXVRAIFAUXVRAIFAUX\",BDD!$V$2:$V$685)","v":0},{"$f":"SUMIF(BDD!$BC$2:$BC$685,\"Banc 123FAUXVRAIFAUXFAUXVRAI\",BDD!$V$2:$V$685)","v":0},{"$f":"SUMIF(BDD!$BC$2:$BC$685,\"Banc 123VRAIFAUXVRAIFAUXFAUX\",BDD!$V$2:$V$685)","v":0},{"$f":"SUMIF(BDD!$BC$2:$BC$685,\"Banc 123VRAIFAUXFAUXVRAIFAUX\",BDD!$V$2:$V$685)","v":0},{"$f":"SUMIF(BDD!$BC$2:$BC$685,\"Banc 123VRAIFAUXFAUXFAUXVRAI\",BDD!$V$2:$V$685)","v":0},{"$f":"SUMIF(BDD!$BC$2:$BC$685,\"Banc 123FAUXVRAIVRAIFAUXFAUX\",BDD!$V$2:$V$685)","v":0},{"$f":"SUMIF(BDD!$BC$2:$BC$685,\"Banc 123FAUXVRAIFAUXVRAIFAUX\",BDD!$V$2:$V$685)","v":0},{"$f":"SUMIF(BDD!$BC$2:$BC$685,\"Banc 123FAUXVRAIFAUXFAUXVRAI\",BDD!$V$2:$V$685)","v":0},{"$f":"SUMIF(BDD!$BC$2:$BC$685,\"Banc 123VRAIFAUXVRAIFAUXFAUX\",BDD!$V$2:$V$685)","v":0},{"$f":"SUMIF(BDD!$BC$2:$BC$685,\"Banc 123VRAIFAUXFAUXVRAIFAUX\",BDD!$V$2:$V$685)","v":0},{"$f":"SUMIF(BDD!$BC$2:$BC$685,\"Banc 123VRAIFAUXFAUXFAUXVRAI\",BDD!$V$2:$V$685)","v":0},{"$f":"SUMIF(BDD!$BC$2:$BC$685,\"Banc 123FAUXVRAIVRAIFAUXFAUX\",BDD!$V$2:$V$685)","v":0},{"$f":"SUMIF(BDD!$BC$2:$BC$685,\"Banc 123FAUXVRAIFAUXVRAIFAUX\",BDD!$V$2:$V$685)","v":0},{"$f":"SUMIF(BDD!$BC$2:$BC$685,\"Banc 123FAUXVRAIFAUXFAUXVRAI\",BDD!$V$2:$V$685)","v":0}]
["Banc 126",{"$f":"SUMIF(BDD!$BC$2:$BC$685,\"Banc 126VRAIFAUXVRAIFAUXFAUX\",BDD!$V$2:$V$685)","v":0},{"$f":"SUMIF(BDD!$BC$2:$BC$685,\"Banc 126VRAIFAUXFAUXVRAIFAUX\",BDD!$V$2:$V$685)","v":0},{"$f":"SUMIF(BDD!$BC$2:$BC$685,\"Banc 126VRAIFAUXFAUXFAUXVRAI\",BDD!$V$2:$V$685)","v":0},{"$f":"SUMIF(BDD!$BC$2:$BC$685,\"Banc 126FAUXVRAIVRAIFAUXFAUX\",BDD!$V$2:$V$685)","v":0},{"$f":"SUMIF(BDD!$BC$2:$BC$685,\"Banc 126FAUXVRAIFAUXVRAIFAUX\",BDD!$V$2:$V$685)","v":0},{"$f":"SUMIF(BDD!$BC$2:$BC$685,\"Banc 126FAUXVRAIFAUXFAUXVRAI\",BDD!$V$2:$V$685)","v":0},{"$f":"SUMIF(BDD!$BC$2:$BC$685,\"Banc 126VRAIFAUXVRAIFAUXFAUX\",BDD!$V$2:$V$685)","v":0},{"$f":"SUMIF(BDD!$BC$2:$BC$685,\"Banc 126VRAIFAUXFAUXVRAIFAUX\",BDD!$V$2:$V$685)","v":0},{"$f":"SUMIF(BDD!$BC$2:$BC$685,\"Banc 126VRAIFAUXFAUXFAUXVRAI\",BDD!$V$2:$V$685)","v":0},{"$f":"SUMIF(BDD!$BC$2:$BC$685,\"Banc 126FAUXVRAIVRAIFAUXFAUX\",BDD!$V$2:$V$685)","v":0},{"$f":"SUMIF(BDD!$BC$2:$BC$685,\"Banc 126FAUXVRAIFAUXVRAIFAUX\",BDD!$V$2:$V$685)","v":0},{"$f":"SUMIF(BDD!$BC$2:$BC$685,\"Banc 126FAUXVRAIFAUXFAUXVRAI\",BDD!$V$2:$V$685)","v":0},{"$f":"SUMIF(BDD!$BC$2:$BC$685,\"Banc 126VRAIFAUXVRAIFAUXFAUX\",BDD!$V$2:$V$685)","v":0},{"$f":"SUMIF(BDD!$BC$2:$BC$685,\"Banc 126VRAIFAUXFAUXVRAIFAUX\",BDD!$V$2:$V$685)","v":0},{"$f":"SUMIF(BDD!$BC$2:$BC$685,\"Banc 126VRAIFAUXFAUXFAUXVRAI\",BDD!$V$2:$V$685)","v":0},{"$f":"SUMIF(BDD!$BC$2:$BC$685,\"Banc 126FAUXVRAIVRAIFAUXFAUX\",BDD!$V$2:$V$685)","v":0},{"$f":"SUMIF(BDD!$BC$2:$BC$685,\"Banc 126FAUXVRAIFAUXVRAIFAUX\",BDD!$V$2:$V$685)","v":0},{"$f":"SUMIF(BDD!$BC$2:$BC$685,\"Banc 126FAUXVRAIFAUXFAUXVRAI\",BDD!$V$2:$V$685)","v":0},{"$f":"SUMIF(BDD!$BC$2:$BC$685,\"Banc 126VRAIFAUXVRAIFAUXFAUX\",BDD!$V$2:$V$685)","v":0},{"$f":"SUMIF(BDD!$BC$2:$BC$685,\"Banc 126VRAIFAUXFAUXVRAIFAUX\",BDD!$V$2:$V$685)","v":0},{"$f":"SUMIF(BDD!$BC$2:$BC$685,\"Banc 126VRAIFAUXFAUXFAUXVRAI\",BDD!$V$2:$V$685)","v":0},{"$f":"SUMIF(BDD!$BC$2:$BC$685,\"Banc 126FAUXVRAIVRAIFAUXFAUX\",BDD!$V$2:$V$685)","v":0},{"$f":"SUMIF(BDD!$BC$2:$BC$685,\"Banc 126FAUXVRAIFAUXVRAIFAUX\",BDD!$V$2:$V$685)","v":0},{"$f":"SUMIF(BDD!$BC$2:$BC$685,\"Banc 126FAUXVRAIFAUXFAUXVRAI\",BDD!$V$2:$V$685)","v":0},{"$f":"SUMIF(BDD!$BC$2:$BC$685,\"Banc 126VRAIFAUXVRAIFAUXFAUX\",BDD!$V$2:$V$685)","v":0},{"$f":"SUMIF(BDD!$BC$2:$BC$685,\"Banc 126VRAIFAUXFAUXVRAIFAUX\",BDD!$V$2:$V$685)","v":0},{"$f":"SUMIF(BDD!$BC$2:$BC$685,\"Banc 126VRAIFAUXFAUXFAUXVRAI\",BDD!$V$2:$V$685)","v":0},{"$f":"SUMIF(BDD!$BC$2:$BC$685,\"Banc 126FAUXVRAIVRAIFAUXFAUX\",BDD!$V$2:$V$685)","v":0},{"$f":"SUMIF(BDD!$BC$2:$BC$685,\"Banc 126FAUXVRAIFAUXVRAIFAUX\",BDD!$V$2:$V$685)","v":0},{"$f":"SUMIF(BDD!$BC$2:$BC$685,\"Banc 126FAUXVRAIFAUXFAUXVRAI\",BDD!$V$2:$V$685)","v":0},{"$f":"SUMIF(BDD!$BC$2:$BC$685,\"Banc 126VRAIFAUXVRAIFAUXFAUX\",BDD!$V$2:$V$685)","v":0},{"$f":"SUMIF(BDD!$BC$2:$BC$685,\"Banc 126VRAIFAUXFAUXVRAIFAUX\",BDD!$V$2:$V$685)","v":0},{"$f":"SUMIF(BDD!$BC$2:$BC$685,\"Banc 126VRAIFAUXFAUXFAUXVRAI\",BDD!$V$2:$V$685)","v":0},{"$f":"SUMIF(BDD!$BC$2:$BC$685,\"Banc 126FAUXVRAIVRAIFAUXFAUX\",BDD!$V$2:$V$685)","v":0},{"$f":"SUMIF(BDD!$BC$2:$BC$685,\"Banc 126FAUXVRAIFAUXVRAIFAUX\",BDD!$V$2:$V$685)","v":0},{"$f":"SUMIF(BDD!$BC$2:$BC$685,\"Banc 126FAUXVRAIFAUXFAUXVRAI\",BDD!$V$2:$V$685)","v":0},{"$f":"SUMIF(BDD!$BC$2:$BC$685,\"Banc 126VRAIFAUXVRAIFAUXFAUX\",BDD!$V$2:$V$685)","v":0},{"$f":"SUMIF(BDD!$BC$2:$BC$685,\"Banc 126VRAIFAUXFAUXVRAIFAUX\",BDD!$V$2:$V$685)","v":0},{"$f":"SUMIF(BDD!$BC$2:$BC$685,\"Banc 126VRAIFAUXFAUXFAUXVRAI\",BDD!$V$2:$V$685)","v":0},{"$f":"SUMIF(BDD!$BC$2:$BC$685,\"Banc 126FAUXVRAIVRAIFAUXFAUX\",BDD!$V$2:$V$685)","v":0},{"$f":"SUMIF(BDD!$BC$2:$BC$685,\"Banc 126FAUXVRAIFAUXVRAIFAUX\",BDD!$V$2:$V$685)","v":0},{"$f":"SUMIF(BDD!$BC$2:$BC$685,\"Banc 126FAUXVRAIFAUXFAUXVRAI\",BDD!$V$2:$V$685)","v":0},{"$f":"SUMIF(BDD!$BC$2:$BC$685,\"Banc 126VRAIFAUXVRAIFAUXFAUX\",BDD!$V$2:$V$685)","v":0},{"$f":"SUMIF(BDD!$BC$2:$BC$685,\"Banc 126VRAIFAUXFAUXVRAIFAUX\",BDD!$V$2:$V$685)","v":0},{"$f":"SUMIF(BDD!$BC$2:$BC$685,\"Banc 126VRAIFAUXFAUXFAUXVRAI\",BDD!$V$2:$V$685)","v":0},{"$f":"SUMIF(BDD!$BC$2:$BC$685,\"Banc 126FAUXVRAIVRAIFAUXFAUX\",BDD!$V$2:$V$685)","v":0},{"$f":"SUMIF(BDD!$BC$2:$BC$685,\"Banc 126FAUXVRAIFAUXVRAIFAUX\",BDD!$V$2:$V$685)","v":0},{"$f":"SUMIF(BDD!$BC$2:$BC$685,\"Banc 126FAUXVRAIFAUXFAUXVRAI\",BDD!$V$2:$V$685)","v":0},{"$f":"SUMIF(BDD!$BC$2:$BC$685,\"Banc 126VRAIFAUXVRAIFAUXFAUX\",BDD!$V$2:$V$685)","v":0},{"$f":"SUMIF(BDD!$BC$2:$BC$685,\"Banc 126VRAIFAUXFAUXVRAIFAUX\",BDD!$V$2:$V$685)","v":0},{"$f":"SUMIF(BDD!$BC$2:$BC$685,\"Banc 126VRAIFAUXFAUXFAUXVRAI\",BDD!$V$2:$V$685)","v":0},{"$f":"SUMIF(BDD!$BC$2:$BC$685,\"Banc 126FAUXVRAIVRAIFAUXFAUX\",BDD!$V$2:$V$685)","v":0},{"$f":"SUMIF(BDD!$BC$2:$BC$685,\"Banc 126FAUXVRAIFAUXVRAIFAUX\",BDD!$V$2:$V$685)","v":0},{"$f":"SUMIF(BDD!$BC$2:$BC$685,\"Banc 126FAUXVRAIFAUXFAUXVRAI\",BDD!$V$2:$V$685)","v":0},{"$f":"SUMIF(BDD!$BC$2:$BC$685,\"Banc 126VRAIFAUXVRAIFAUXFAUX\",BDD!$V$2:$V$685)","v":0},{"$f":"SUMIF(BDD!$BC$2:$BC$685,\"Banc 126VRAIFAUXFAUXVRAIFAUX\",BDD!$V$2:$V$685)","v":0},{"$f":"SUMIF(BDD!$BC$2:$BC$685,\"Banc 126VRAIFAUXFAUXFAUXVRAI\",BDD!$V$2:$V$685)","v":0},{"$f":"SUMIF(BDD!$BC$2:$BC$685,\"Banc 126FAUXVRAIVRAIFAUXFAUX\",BDD!$V$2:$V$685)","v":0},{"$f":"SUMIF(BDD!$BC$2:$BC$685,\"Banc 126FAUXVRAIFAUXVRAIFAUX\",BDD!$V$2:$V$685)","v":0},{"$f":"SUMIF(BDD!$BC$2:$BC$685,\"Banc 126FAUXVRAIFAUXFAUXVRAI\",BDD!$V$2:$V$685)","v":0},{"$f":"SUMIF(BDD!$BC$2:$BC$685,\"Banc 126VRAIFAUXVRAIFAUXFAUX\",BDD!$V$2:$V$685)","v":0},{"$f":"SUMIF(BDD!$BC$2:$BC$685,\"Banc 126VRAIFAUXFAUXVRAIFAUX\",BDD!$V$2:$V$685)","v":0},{"$f":"SUMIF(BDD!$BC$2:$BC$685,\"Banc 126VRAIFAUXFAUXFAUXVRAI\",BDD!$V$2:$V$685)","v":0},{"$f":"SUMIF(BDD!$BC$2:$BC$685,\"Banc 126FAUXVRAIVRAIFAUXFAUX\",BDD!$V$2:$V$685)","v":0},{"$f":"SUMIF(BDD!$BC$2:$BC$685,\"Banc 126FAUXVRAIFAUXVRAIFAUX\",BDD!$V$2:$V$685)","v":0},{"$f":"SUMIF(BDD!$BC$2:$BC$685,\"Banc 126FAUXVRAIFAUXFAUXVRAI\",BDD!$V$2:$V$685)","v":0},{"$f":"SUMIF(BDD!$BC$2:$BC$685,\"Banc 126VRAIFAUXVRAIFAUXFAUX\",BDD!$V$2:$V$685)","v":0},{"$f":"SUMIF(BDD!$BC$2:$BC$685,\"Banc 126VRAIFAUXFAUXVRAIFAUX\",BDD!$V$2:$V$685)","v":0},{"$f":"SUMIF(BDD!$BC$2:$BC$685,\"Banc 126VRAIFAUXFAUXFAUXVRAI\",BDD!$V$2:$V$685)","v":0},{"$f":"SUMIF(BDD!$BC$2:$BC$685,\"Banc 126FAUXVRAIVRAIFAUXFAUX\",BDD!$V$2:$V$685)","v":0},{"$f":"SUMIF(BDD!$BC$2:$BC$685,\"Banc 126FAUXVRAIFAUXVRAIFAUX\",BDD!$V$2:$V$685)","v":0},{"$f":"SUMIF(BDD!$BC$2:$BC$685,\"Banc 126FAUXVRAIFAUXFAUXVRAI\",BDD!$V$2:$V$685)","v":0}]
["Banc 156",{"$f":"SUMIF(BDD!$BC$2:$BC$685,\"Banc 156VRAIFAUXVRAIFAUXFAUX\",BDD!$V$2:$V$685)","v":0},{"$f":"SUMIF(BDD!$BC$2:$BC$685,\"Banc 156VRAIFAUXFAUXVRAIFAUX\",BDD!$V$2:$V$685)","v":0},{"$f":"SUMIF(BDD!$BC$2:$BC$685,\"Banc 156VRAIFAUXFAUXFAUXVRAI\",BDD!$V$2:$V$685)","v":0},{"$f":"SUMIF(BDD!$BC$2:$BC$685,\"Banc 156FAUXVRAIVRAIFAUXFAUX\",BDD!$V$2:$V$685)","v":0},{"$f":"SUMIF(BDD!$BC$2:$BC$685,\"Banc 156FAUXVRAIFAUXVRAIFAUX\",BDD!$V$2:$V$685)","v":0},{"$f":"SUMIF(BDD!$BC$2:$BC$685,\"Banc 156FAUXVRAIFAUXFAUXVRAI\",BDD!$V$2:$V$685)","v":0},{"$f":"SUMIF(BDD!$BC$2:$BC$685,\"Banc 156VRAIFAUXVRAIFAUXFAUX\",BDD!$V$2:$V$685)","v":0},{"$f":"SUMIF(BDD!$BC$2:$BC$685,\"Banc 156VRAIFAUXFAUXVRAIFAUX\",BDD!$V$2:$V$685)","v":0},{"$f":"SUMIF(BDD!$BC$2:$BC$685,\"Banc 156VRAIFAUXFAUXFAUXVRAI\",BDD!$V$2:$V$685)","v":0},{"$f":"SUMIF(BDD!$BC$2:$BC$685,\"Banc 156FAUXVRAIVRAIFAUXFAUX\",BDD!$V$2:$V$685)","v":0},{"$f":"SUMIF(BDD!$BC$2:$BC$685,\"Banc 156FAUXVRAIFAUXVRAIFAUX\",BDD!$V$2:$V$685)","v":0},{"$f":"SUMIF(BDD!$BC$2:$BC$685,\"Banc 156FAUXVRAIFAUXFAUXVRAI\",BDD!$V$2:$V$685)","v":0},{"$f":"SUMIF(BDD!$BC$2:$BC$685,\"Banc 156VRAIFAUXVRAIFAUXFAUX\",BDD!$V$2:$V$685)","v":0},{"$f":"SUMIF(BDD!$BC$2:$BC$685,\"Banc 156VRAIFAUXFAUXVRAIFAUX\",BDD!$V$2:$V$685)","v":0},{"$f":"SUMIF(BDD!$BC$2:$BC$685,\"Banc 156VRAIFAUXFAUXFAUXVRAI\",BDD!$V$2:$V$685)","v":0},{"$f":"SUMIF(BDD!$BC$2:$BC$685,\"Banc 156FAUXVRAIVRAIFAUXFAUX\",BDD!$V$2:$V$685)","v":0},{"$f":"SUMIF(BDD!$BC$2:$BC$685,\"Banc 156FAUXVRAIFAUXVRAIFAUX\",BDD!$V$2:$V$685)","v":0},{"$f":"SUMIF(BDD!$BC$2:$BC$685,\"Banc 156FAUXVRAIFAUXFAUXVRAI\",BDD!$V$2:$V$685)","v":0},{"$f":"SUMIF(BDD!$BC$2:$BC$685,\"Banc 156VRAIFAUXVRAIFAUXFAUX\",BDD!$V$2:$V$685)","v":0},{"$f":"SUMIF(BDD!$BC$2:$BC$685,\"Banc 156VRAIFAUXFAUXVRAIFAUX\",BDD!$V$2:$V$685)","v":0},{"$f":"SUMIF(BDD!$BC$2:$BC$685,\"Banc 156VRAIFAUXFAUXFAUXVRAI\",BDD!$V$2:$V$685)","v":0},{"$f":"SUMIF(BDD!$BC$2:$BC$685,\"Banc 156FAUXVRAIVRAIFAUXFAUX\",BDD!$V$2:$V$685)","v":0},{"$f":"SUMIF(BDD!$BC$2:$BC$685,\"Banc 156FAUXVRAIFAUXVRAIFAUX\",BDD!$V$2:$V$685)","v":0},{"$f":"SUMIF(BDD!$BC$2:$BC$685,\"Banc 156FAUXVRAIFAUXFAUXVRAI\",BDD!$V$2:$V$685)","v":0},{"$f":"SUMIF(BDD!$BC$2:$BC$685,\"Banc 156VRAIFAUXVRAIFAUXFAUX\",BDD!$V$2:$V$685)","v":0},{"$f":"SUMIF(BDD!$BC$2:$BC$685,\"Banc 156VRAIFAUXFAUXVRAIFAUX\",BDD!$V$2:$V$685)","v":0},{"$f":"SUMIF(BDD!$BC$2:$BC$685,\"Banc 156VRAIFAUXFAUXFAUXVRAI\",BDD!$V$2:$V$685)","v":0},{"$f":"SUMIF(BDD!$BC$2:$BC$685,\"Banc 156FAUXVRAIVRAIFAUXFAUX\",BDD!$V$2:$V$685)","v":0},{"$f":"SUMIF(BDD!$BC$2:$BC$685,\"Banc 156FAUXVRAIFAUXVRAIFAUX\",BDD!$V$2:$V$685)","v":0},{"$f":"SUMIF(BDD!$BC$2:$BC$685,\"Banc 156FAUXVRAIFAUXFAUXVRAI\",BDD!$V$2:$V$685)","v":0},{"$f":"SUMIF(BDD!$BC$2:$BC$685,\"Banc 156VRAIFAUXVRAIFAUXFAUX\",BDD!$V$2:$V$685)","v":0},{"$f":"SUMIF(BDD!$BC$2:$BC$685,\"Banc 156VRAIFAUXFAUXVRAIFAUX\",BDD!$V$2:$V$685)","v":0},{"$f":"SUMIF(BDD!$BC$2:$BC$685,\"Banc 156VRAIFAUXFAUXFAUXVRAI\",BDD!$V$2:$V$685)","v":0},{"$f":"SUMIF(BDD!$BC$2:$BC$685,\"Banc 156FAUXVRAIVRAIFAUXFAUX\",BDD!$V$2:$V$685)","v":0},{"$f":"SUMIF(BDD!$BC$2:$BC$685,\"Banc 156FAUXVRAIFAUXVRAIFAUX\",BDD!$V$2:$V$685)","v":0},{"$f":"SUMIF(BDD!$BC$2:$BC$685,\"Banc 156FAUXVRAIFAUXFAUXVRAI\",BDD!$V$2:$V$685)","v":0},{"$f":"SUMIF(BDD!$BC$2:$BC$685,\"Banc 156VRAIFAUXVRAIFAUXFAUX\",BDD!$V$2:$V$685)","v":0},{"$f":"SUMIF(BDD!$BC$2:$BC$685,\"Banc 156VRAIFAUXFAUXVRAIFAUX\",BDD!$V$2:$V$685)","v":0},{"$f":"SUMIF(BDD!$BC$2:$BC$685,\"Banc 156VRAIFAUXFAUXFAUXVRAI\",BDD!$V$2:$V$685)","v":0},{"$f":"SUMIF(BDD!$BC$2:$BC$685,\"Banc 156FAUXVRAIVRAIFAUXFAUX\",BDD!$V$2:$V$685)","v":0},{"$f":"SUMIF(BDD!$BC$2:$BC$685,\"Banc 156FAUXVRAIFAUXVRAIFAUX\",BDD!$V$2:$V$685)","v":0},{"$f":"SUMIF(BDD!$BC$2:$BC$685,\"Banc 156FAUXVRAIFAUXFAUXVRAI\",BDD!$V$2:$V$685)","v":0},{"$f":"SUMIF(BDD!$BC$2:$BC$685,\"Banc 156VRAIFAUXVRAIFAUXFAUX\",BDD!$V$2:$V$685)","v":0},{"$f":"SUMIF(BDD!$BC$2:$BC$685,\"Banc 156VRAIFAUXFAUXVRAIFAUX\",BDD!$V$2:$V$685)","v":0},{"$f":"SUMIF(BDD!$BC$2:$BC$685,\"Banc 156VRAIFAUXFAUXFAUXVRAI\",BDD!$V$2:$V$685)","v":0},{"$f":"SUMIF(BDD!$BC$2:$BC$685,\"Banc 156FAUXVRAIVRAIFAUXFAUX\",BDD!$V$2:$V$685)","v":0},{"$f":"SUMIF(BDD!$BC$2:$BC$685,\"Banc 156FAUXVRAIFAUXVRAIFAUX\",BDD!$V$2:$V$685)","v":0},{"$f":"SUMIF(BDD!$BC$2:$BC$685,\"Banc 156FAUXVRAIFAUXFAUXVRAI\",BDD!$V$2:$V$685)","v":0},{"$f":"SUMIF(BDD!$BC$2:$BC$685,\"Banc 156VRAIFAUXVRAIFAUXFAUX\",BDD!$V$2:$V$685)","v":0},{"$f":"SUMIF(BDD!$BC$2:$BC$685,\"Banc 156VRAIFAUXFAUXVRAIFAUX\",BDD!$V$2:$V$685)","v":0},{"$f":"SUMIF(BDD!$BC$2:$BC$685,\"Banc 156VRAIFAUXFAUXFAUXVRAI\",BDD!$V$2:$V$685)","v":0},{"$f":"SUMIF(BDD!$BC$2:$BC$685,\"Banc 156FAUXVRAIVRAIFAUXFAUX\",BDD!$V$2:$V$685)","v":0},{"$f":"SUMIF(BDD!$BC$2:$BC$685,\"Banc 156FAUXVRAIFAUXVRAIFAUX\",BDD!$V$2:$V$685)","v":0},{"$f":"SUMIF(BDD!$BC$2:$BC$685,\"Banc 156FAUXVRAIFAUXFAUXVRAI\",BDD!$V$2:$V$685)","v":0},{"$f":"SUMIF(BDD!$BC$2:$BC$685,\"Banc 156VRAIFAUXVRAIFAUXFAUX\",BDD!$V$2:$V$685)","v":0},{"$f":"SUMIF(BDD!$BC$2:$BC$685,\"Banc 156VRAIFAUXFAUXVRAIFAUX\",BDD!$V$2:$V$685)","v":0},{"$f":"SUMIF(BDD!$BC$2:$BC$685,\"Banc 156VRAIFAUXFAUXFAUXVRAI\",BDD!$V$2:$V$685)","v":0},{"$f":"SUMIF(BDD!$BC$2:$BC$685,\"Banc 156FAUXVRAIVRAIFAUXFAUX\",BDD!$V$2:$V$685)","v":0},{"$f":"SUMIF(BDD!$BC$2:$BC$685,\"Banc 156FAUXVRAIFAUXVRAIFAUX\",BDD!$V$2:$V$685)","v":0},{"$f":"SUMIF(BDD!$BC$2:$BC$685,\"Banc 156FAUXVRAIFAUXFAUXVRAI\",BDD!$V$2:$V$685)","v":0},{"$f":"SUMIF(BDD!$BC$2:$BC$685,\"Banc 156VRAIFAUXVRAIFAUXFAUX\",BDD!$V$2:$V$685)","v":0},{"$f":"SUMIF(BDD!$BC$2:$BC$685,\"Banc 156VRAIFAUXFAUXVRAIFAUX\",BDD!$V$2:$V$685)","v":0},{"$f":"SUMIF(BDD!$BC$2:$BC$685,\"Banc 156VRAIFAUXFAUXFAUXVRAI\",BDD!$V$2:$V$685)","v":0},{"$f":"SUMIF(BDD!$BC$2:$BC$685,\"Banc 156FAUXVRAIVRAIFAUXFAUX\",BDD!$V$2:$V$685)","v":0},{"$f":"SUMIF(BDD!$BC$2:$BC$685,\"Banc 156FAUXVRAIFAUXVRAIFAUX\",BDD!$V$2:$V$685)","v":0},{"$f":"SUMIF(BDD!$BC$2:$BC$685,\"Banc 156FAUXVRAIFAUXFAUXVRAI\",BDD!$V$2:$V$685)","v":0},{"$f":"SUMIF(BDD!$BC$2:$BC$685,\"Banc 156VRAIFAUXVRAIFAUXFAUX\",BDD!$V$2:$V$685)","v":0},{"$f":"SUMIF(BDD!$BC$2:$BC$685,\"Banc 156VRAIFAUXFAUXVRAIFAUX\",BDD!$V$2:$V$685)","v":0},{"$f":"SUMIF(BDD!$BC$2:$BC$685,\"Banc 156VRAIFAUXFAUXFAUXVRAI\",BDD!$V$2:$V$685)","v":0},{"$f":"SUMIF(BDD!$BC$2:$BC$685,\"Banc 156FAUXVRAIVRAIFAUXFAUX\",BDD!$V$2:$V$685)","v":0},{"$f":"SUMIF(BDD!$BC$2:$BC$685,\"Banc 156FAUXVRAIFAUXVRAIFAUX\",BDD!$V$2:$V$685)","v":0},{"$f":"SUMIF(BDD!$BC$2:$BC$685,\"Banc 156FAUXVRAIFAUXFAUXVRAI\",BDD!$V$2:$V$685)","v":0}]

{"sheet":"Indicateur Zone10","index":7,"n_rows":99,"n_cols":73,"rows_kept":99,"cut":false,"hidden":false,"merged":[[1,1,1,12],[32,1,32,12],[53,1,53,12],[54,1,54,2],[54,5,54,6],[54,9,54,10],[54,3,54,4],[54,19,54,20],[54,21,54,22],[54,23,54,24],[54,7,54,8],[54,13,54,14],[54,11,54,12],[54,17,54,18],[54,15,54,16],[87,1,87,21],[88,1,88,6],[88,7,88,12],[88,13,88,18],[88,19,88,24],[88,25,88,30],[88,31,88,36],[88,37,88,42],[88,43,88,48],[88,49,88,54],[88,55,88,60],[88,61,88,66],[88,67,88,72],[89,1,89,3],[89,4,89,6],[89,7,89,9],[89,10,89,12],[89,13,89,15],[89,16,89,18],[89,19,89,21],[89,22,89,24],[89,25,89,27],[89,28,89,30],[89,31,89,33],[89,34,89,36],[89,37,89,39],[89,40,89,42],[89,43,89,45],[89,46,89,48],[89,49,89,51],[89,52,89,54],[89,70,89,72],[89,55,89,57],[89,58,89,60],[89,61,89,63],[89,64,89,66],[89,67,89,69]]}
[]
[null,"Suivi des arrêts par banc"]
["Banc zone 10","Janvier","Février","Mars","Avril","Mai","Juin","Juillet","Août","Septembre","Octobre","Novembre","Décembre"]
["Banc 007",{"$f":"SUMIF(BDD!$H$2:$H$685,'Indicateur Zone10'!$A$4,BDD!$V$2:$V$685)","v":0},{"$f":"SUMIF(BDD!$H$2:$H$685,'Indicateur Zone10'!$A$4,BDD!$V$2:$V$685)","v":0},{"$f":"SUMIF(BDD!$H$2:$H$685,'Indicateur Zone10'!$A$4,BDD!$V$2:$V$685)","v":0},{"$f":"SUMIF(BDD!$H$2:$H$685,'Indicateur Zone10'!$A$4,BDD!$V$2:$V$685)","v":0},{"$f":"SUMIF(BDD!$H$2:$H$685,'Indicateur Zone10'!$A$4,BDD!$V$2:$V$685)","v":0},{"$f":"SUMIF(BDD!$H$2:$H$685,'Indicateur Zone10'!$A$4,BDD!$V$2:$V$685)","v":0},{"$f":"SUMIF(BDD!$H$2:$H$685,'Indicateur Zone10'!$A$4,BDD!$V$2:$V$685)","v":0},{"$f":"SUMIF(BDD!$H$2:$H$685,'Indicateur Zone10'!$A$4,BDD!$V$2:$V$685)","v":0},{"$f":"SUMIF(BDD!$H$2:$H$685,'Indicateur Zone10'!$A$4,BDD!$V$2:$V$685)","v":0},{"$f":"SUMIF(BDD!$H$2:$H$685,'Indicateur Zone10'!$A$4,BDD!$V$2:$V$685)","v":0},{"$f":"SUMIF(BDD!$H$2:$H$685,'Indicateur Zone10'!$A$4,BDD!$V$2:$V$685)","v":0},{"$f":"SUMIF(BDD!$H$2:$H$685,'Indicateur Zone10'!$A$4,BDD!$V$2:$V$685)","v":0}]
["Banc 008",{"$f":"SUMIF(BDD!$H$2:$H$685,'Indicateur Zone10'!$A$5,BDD!$V$2:$V$685)","v":0},{"$f":"SUMIF(BDD!$H$2:$H$685,'Indicateur Zone10'!$A$5,BDD!$V$2:$V$685)","v":0},{"$f":"SUMIF(BDD!$H$2:$H$685,'Indicateur Zone10'!$A$5,BDD!$V$2:$V$685)","v":0},{"$f":"SUMIF(BDD!$H$2:$H$685,'Indicateur Zone10'!$A$5,BDD!$V$2:$V$685)","v":0},{"$f":"SUMIF(BDD!$H$2:$H$685,'Indicateur Zone10'!$A$5,BDD!$V$2:$V$685)","v":0},{"$f":"SUMIF(BDD!$H$2:$H$685,'Indicateur Zone10'!$A$5,BDD!$V$2:$V$685)","v":0},{"$f":"SUMIF(BDD!$H$2:$H$685,'Indicateur Zone10'!$A$5,BDD!$V$2:$V$685)","v":0},{"$f":"SUMIF(BDD!$H$2:$H$685,'Indicateur Zone10'!$A$5,BDD!$V$2:$V$685)","v":0},{"$f":"SUMIF(BDD!$H$2:$H$685,'Indicateur Zone10'!$A$5,BDD!$V$2:$V$685)","v":0},{"$f":"SUMIF(BDD!$H$2:$H$685,'Indicateur Zone10'!$A$5,BDD!$V$2:$V$685)","v":0},{"$f":"SUMIF(BDD!$H$2:$H$685,'Indicateur Zone10'!$A$5,BDD!$V$2:$V$685)","v":0},{"$f":"SUMIF(BDD!$H$2:$H$685,'Indicateur Zone10'!$A$5,BDD!$V$2:$V$685)","v":0}]
["Banc 113",{"$f":"SUMIF(BDD!$H$2:$H$685,'Indicateur Zone10'!$A$6,BDD!$V$2:$V$685)","v":0},{"$f":"SUMIF(BDD!$H$2:$H$685,'Indicateur Zone10'!$A$6,BDD!$V$2:$V$685)","v":0},{"$f":"SUMIF(BDD!$H$2:$H$685,'Indicateur Zone10'!$A$6,BDD!$V$2:$V$685)","v":0},{"$f":"SUMIF(BDD!$H$2:$H$685,'Indicateur Zone10'!$A$6,BDD!$V$2:$V$685)","v":0},{"$f":"SUMIF(BDD!$H$2:$H$685,'Indicateur Zone10'!$A$6,BDD!$V$2:$V$685)","v":0},{"$f":"SUMIF(BDD!$H$2:$H$685,'Indicateur Zone10'!$A$6,BDD!$V$2:$V$685)","v":0},{"$f":"SUMIF(BDD!$H$2:$H$685,'Indicateur Zone10'!$A$6,BDD!$V$2:$V$685)","v":0},{"$f":"SUMIF(BDD!$H$2:$H$685,'Indicateur Zone10'!$A$6,BDD!$V$2:$V$685)","v":0},{"$f":"SUMIF(BDD!$H$2:$H$685,'Indicateur Zone10'!$A$6,BDD!$V$2:$V$685)","v":0},{"$f":"SUMIF(BDD!$H$2:$H$685,'Indicateur Zone10'!$A$6,BDD!$V$2:$V$685)","v":0},{"$f":"SUMIF(BDD!$H$2:$H$685,'Indicateur Zone10'!$A$6,BDD!$V$2:$V$685)","v":0},{"$f":"SUMIF(BDD!$H$2:$H$685,'Indicateur Zone10'!$A$6,BDD!$V$2:$V$685)","v":0}]
["Banc 115",{"$f":"SUMIF(BDD!$H$2:$H$685,'Indicateur Zone10'!$A$7,BDD!$V$2:$V$685)","v":0},{"$f":"SUMIF(BDD!$H$2:$H$685,'Indicateur Zone10'!$A$7,BDD!$V$2:$V$685)","v":0},{"$f":"SUMIF(BDD!$H$2:$H$685,'Indicateur Zone10'!$A$7,BDD!$V$2:$V$685)","v":0},{"$f":"SUMIF(BDD!$H$2:$H$685,'Indicateur Zone10'!$A$7,BDD!$V$2:$V$685)","v":0},{"$f":"SUMIF(BDD!$H$2:$H$685,'Indicateur Zone10'!$A$7,BDD!$V$2:$V$685)","v":0},{"$f":"SUMIF(BDD!$H$2:$H$685,'Indicateur Zone10'!$A$7,BDD!$V$2:$V$685)","v":0},{"$f":"SUMIF(BDD!$H$2:$H$685,'Indicateur Zone10'!$A$7,BDD!$V$2:$V$685)","v":0},{"$f":"SUMIF(BDD!$H$2:$H$685,'Indicateur Zone10'!$A$7,BDD!$V$2:$V$685)","v":0},{"$f":"SUMIF(BDD!$H$2:$H$685,'Indicateur Zone10'!$A$7,BDD!$V$2:$V$685)","v":0},{"$f":"SUMIF(BDD!$H$2:$H$685,'Indicateur Zone10'!$A$7,BDD!$V$2:$V$685)","v":0},{"$f":"SUMIF(BDD!$H$2:$H$685,'Indicateur Zone10'!$A$7,BDD!$V$2:$V$685)","v":0},{"$f":"SUMIF(BDD!$H$2:$H$685,'Indicateur Zone10'!$A$7,BDD!$V$2:$V$685)","v":0}]
["Banc 120",{"$f":"SUMIF(BDD!$H$2:$H$685,'Indicateur Zone10'!$A$8,BDD!$V$2:$V$685)","v":0},{"$f":"SUMIF(BDD!$H$2:$H$685,'Indicateur Zone10'!$A$8,BDD!$V$2:$V$685)","v":0},{"$f":"SUMIF(BDD!$H$2:$H$685,'Indicateur Zone10'!$A$8,BDD!$V$2:$V$685)","v":0},{"$f":"SUMIF(BDD!$H$2:$H$685,'Indicateur Zone10'!$A$8,BDD!$V$2:$V$685)","v":0},{"$f":"SUMIF(BDD!$H$2:$H$685,'Indicateur Zone10'!$A$8,BDD!$V$2:$V$685)","v":0},{"$f":"SUMIF(BDD!$H$2:$H$685,'Indicateur Zone10'!$A$8,BDD!$V$2:$V$685)","v":0},{"$f":"SUMIF(BDD!$H$2:$H$685,'Indicateur Zone10'!$A$8,BDD!$V$2:$V$685)","v":0},{"$f":"SUMIF(BDD!$H$2:$H$685,'Indicateur Zone10'!$A$8,BDD!$V$2:$V$685)","v":0},{"$f":"SUMIF(BDD!$H$2:$H$685,'Indicateur Zone10'!$A$8,BDD!$V$2:$V$685)","v":0},{"$f":"SUMIF(BDD!$H$2:$H$685,'Indicateur Zone10'!$A$8,BDD!$V$2:$V$685)","v":0},{"$f":"SUMIF(BDD!$H$2:$H$685,'Indicateur Zone10'!$A$8,BDD!$V$2:$V$685)","v":0},{"$f":"SUMIF(BDD!$H$2:$H$685,'Indicateur Zone10'!$A$8,BDD!$V$2:$V$685)","v":0}]
["Banc 120 bis",{"$f":"SUMIF(BDD!$H$2:$H$685,'Indicateur Zone10'!$A$9,BDD!$V$2:$V$685)","v":0},{"$f":"SUMIF(BDD!$H$2:$H$685,'Indicateur Zone10'!$A$9,BDD!$V$2:$V$685)","v":0},{"$f":"SUMIF(BDD!$H$2:$H$685,'Indicateur Zone10'!$A$9,BDD!$V$2:$V$685)","v":0},{"$f":"SUMIF(BDD!$H$2:$H$685,'Indicateur Zone10'!$A$9,BDD!$V$2:$V$685)","v":0},{"$f":"SUMIF(BDD!$H$2:$H$685,'Indicateur Zone10'!$A$9,BDD!$V$2:$V$685)","v":0},{"$f":"SUMIF(BDD!$H$2:$H$685,'Indicateur Zone10'!$A$9,BDD!$V$2:$V$685)","v":0},{"$f":"SUMIF(BDD!$H$2:$H$685,'Indicateur Zone10'!$A$9,BDD!$V$2:$V$685)","v":0},{"$f":"SUMIF(BDD!$H$2:$H$685,'Indicateur Zone10'!$A$9,BDD!$V$2:$V$685)","v":0},{"$f":"SUMIF(BDD!$H$2:$H$685,'Indicateur Zone10'!$A$9,BDD!$V$2:$V$685)","v":0},{"$f":"SUMIF(BDD!$H$2:$H$685,'Indicateur Zone10'!$A$9,BDD!$V$2:$V$685)","v":0},{"$f":"SUMIF(BDD!$H$2:$H$685,'Indicateur Zone10'!$A$9,BDD!$V$2:$V$685)","v":0},{"$f":"SUMIF(BDD!$H$2:$H$685,'Indicateur Zone10'!$A$9,BDD!$V$2:$V$685)","v":0}]
["Banc 125",{"$f":"SUMIF(BDD!$H$2:$H$685,'Indicateur Zone10'!$A$10,BDD!$V$2:$V$685)","v":0},{"$f":"SUMIF(BDD!$H$2:$H$685,'Indicateur Zone10'!$A$10,BDD!$V$2:$V$685)","v":0},{"$f":"SUMIF(BDD!$H$2:$H$685,'Indicateur Zone10'!$A$10,BDD!$V$2:$V$685)","v":0},{"$f":"SUMIF(BDD!$H$2:$H$685,'Indicateur Zone10'!$A$10,BDD!$V$2:$V$685)","v":0},{"$f":"SUMIF(BDD!$H$2:$H$685,'Indicateur Zone10'!$A$10,BDD!$V$2:$V$685)","v":0},{"$f":"SUMIF(BDD!$H$2:$H$685,'Indicateur Zone10'!$A$10,BDD!$V$2:$V$685)","v":0},{"$f":"SUMIF(BDD!$H$2:$H$685,'Indicateur Zone10'!$A$10,BDD!$V$2:$V$685)","v":0},{"$f":"SUMIF(BDD!$H$2:$H$685,'Indicateur Zone10'!$A$10,BDD!$V$2:$V$685)","v":0},{"$f":"SUMIF(BDD!$H$2:$H$685,'Indicateur Zone10'!$A$10,BDD!$V$2:$V$685)","v":0},{"$f":"SUMIF(BDD!$H$2:$H$685,'Indicateur Zone10'!$A$10,BDD!$V$2:$V$685)","v":0},{"$f":"SUMIF(BDD!$H$2:$H$685,'Indicateur Zone10'!$A$10,BDD!$V$2:$V$685)","v":0},{"$f":"SUMIF(BDD!$H$2:$H$685,'Indicateur Zone10'!$A$10,BDD!$V$2:$V$685)","v":0}]
["Banc 128",{"$f":"SUMIF(BDD!$H$2:$H$685,'Indicateur Zone10'!$A$11,BDD!$V$2:$V$685)","v":1},{"$f":"SUMIF(BDD!$H$2:$H$685,'Indicateur Zone10'!$A$11,BDD!$V$2:$V$685)","v":1},{"$f":"SUMIF(BDD!$H$2:$H$685,'Indicateur Zone10'!$A$11,BDD!$V$2:$V$685)","v":1},{"$f":"SUMIF(BDD!$H$2:$H$685,'Indicateur Zone10'!$A$11,BDD!$V$2:$V$685)","v":1},{"$f":"SUMIF(BDD!$H$2:$H$685,'Indicateur Zone10'!$A$11,BDD!$V$2:$V$685)","v":1},{"$f":"SUMIF(BDD!$H$2:$H$685,'Indicateur Zone10'!$A$11,BDD!$V$2:$V$685)","v":1},{"$f":"SUMIF(BDD!$H$2:$H$685,'Indicateur Zone10'!$A$11,BDD!$V$2:$V$685)","v":1},{"$f":"SUMIF(BDD!$H$2:$H$685,'Indicateur Zone10'!$A$11,BDD!$V$2:$V$685)","v":1},{"$f":"SUMIF(BDD!$H$2:$H$685,'Indicateur Zone10'!$A$11,BDD!$V$2:$V$685)","v":1},{"$f":"SUMIF(BDD!$H$2:$H$685,'Indicateur Zone10'!$A$11,BDD!$V$2:$V$685)","v":1},{"$f":"SUMIF(BDD!$H$2:$H$685,'Indicateur Zone10'!$A$11,BDD!$V$2:$V$685)","v":1},{"$f":"SUMIF(BDD!$H$2:$H$685,'Indicateur Zone10'!$A$11,BDD!$V$2:$V$685)","v":1}]
["Banc 131",{"$f":"SUMIF(BDD!$H$2:$H$685,'Indicateur Zone10'!$A$12,BDD!$V$2:$V$685)","v":0},{"$f":"SUMIF(BDD!$H$2:$H$685,'Indicateur Zone10'!$A$12,BDD!$V$2:$V$685)","v":0},{"$f":"SUMIF(BDD!$H$2:$H$685,'Indicateur Zone10'!$A$12,BDD!$V$2:$V$685)","v":0},{"$f":"SUMIF(BDD!$H$2:$H$685,'Indicateur Zone10'!$A$12,BDD!$V$2:$V$685)","v":0},{"$f":"SUMIF(BDD!$H$2:$H$685,'Indicateur Zone10'!$A$12,BDD!$V$2:$V$685)","v":0},{"$f":"SUMIF(BDD!$H$2:$H$685,'Indicateur Zone10'!$A$12,BDD!$V$2:$V$685)","v":0},{"$f":"SUMIF(BDD!$H$2:$H$685,'Indicateur Zone10'!$A$12,BDD!$V$2:$V$685)","v":0},{"$f":"SUMIF(BDD!$H$2:$H$685,'Indicateur Zone10'!$A$12,BDD!$V$2:$V$685)","v":0},{"$f":"SUMIF(BDD!$H$2:$H$685,'Indicateur Zone10'!$A$12,BDD!$V$2:$V$685)","v":0},{"$f":"SUMIF(BDD!$H$2:$H$685,'Indicateur Zone10'!$A$12,BDD!$V$2:$V$685)","v":0},{"$f":"SUMIF(BDD!$H$2:$H$685,'Indicateur Zone10'!$A$12,BDD!$V$2:$V$685)","v":0},{"$f":"SUMIF(BDD!$H$2:$H$685,'Indicateur Zone10'!$A$12,BDD!$V$2:$V$685)","v":0}]
[]
[]
[]
[]
[]
[]
[]
[]
[]
[]
[]
[]
[]
[]
[]
[]
[]
[]
[]
[]
[null,"Suivi du correctif et du préventif"]
["Type de maintenance","Janvier","Février","Mars","Avril","Mai","Juin","Juillet","Août","Septembre","Octobre","Novembre","Décembre"]
["Corrective",{"$f":"SUM(B57:B65)","v":1},{"$f":"SUM(D57:D65)","v":1},{"$f":"SUM(F57:F65)","v":1},{"$f":"SUM(H57:H65)","v":1},{"$f":"SUM(J57:J65)","v":1},{"$f":"SUM(L57:L65)","v":1},{"$f":"SUM(N57:N65)","v":1},{"$f":"SUM(P57:P65)","v":1},{"$f":"SUM(R57:R65)","v":1},{"$f":"SUM(T57:T65)","v":1},{"$f":"SUM(V57:V65)","v":1},{"$f":"SUM(X57:X65)","v":1}]
["Préventive",{"$f":"SUM(C57:C65)","v":0},{"$f":"SUM(E57:E65)","v":0},{"$f":"SUM(G57:G65)","v":0},{"$f":"SUM(I57:I65)","v":0},{"$f":"SUM(K57:K65)","v":0},{"$f":"SUM(M57:M65)","v":0},{"$f":"SUM(O57:O65)","v":0},{"$f":"SUM(Q57:Q65)","v":0},{"$f":"SUM(S57:S65)","v":0},{"$f":"SUM(U57:U65)","v":0},{"$f":"SUM(W57:W65)","v":0},{"$f":"SUM(Y57:Y65)","v":0}]
[]
[]
[]
[]
[]
[]
[]
[]
[]
[]
[]
[]
[]
[]
[]
[]
[]
[null,"Suivi du correctif et du préventif par banc"]
[null,"Janvier",null,"Février",null,"Mars",null,"Avril",null,"Mai",null,"Juin",null,"Juillet",null,"Août",null,"Septembre",null,"Octobre",null,"Novembre",null,"Décembre"]
["Banc zone 10","Corrective","Préventive","Corrective","Préventive","Corrective","Préventive","Corrective","Préventive","Corrective","Préventive","Corrective","Préventive","Corrective","Préventive","Corrective","Préventive","Corrective","Préventive","Corrective","Préventive","Corrective","Préventive","Corrective","Préventive"]
["Banc 007",{"$f":"SUMIF(BDD!$BB$2:$BB$685,\"Banc 007VRAIFAUX\",BDD!$V$2:$V$685)","v":0},{"$f":"SUMIF(BDD!$BB$2:$BB$685,\"Banc 007FAUXvrai\",BDD!$V$2:$V$685)","v":0},{"$f":"SUMIF(BDD!$BB$2:$BB$685,\"Banc 007VRAIFAUX\",BDD!$V$2:$V$685)","v":0},{"$f":"SUMIF(BDD!$BB$2:$BB$685,\"Banc 007FAUXvrai\",BDD!$V$2:$V$685)","v":0},{"$f":"SUMIF(BDD!$BB$2:$BB$685,\"Banc 007VRAIFAUX\",BDD!$V$2:$V$685)","v":0},{"$f":"SUMIF(BDD!$BB$2:$BB$685,\"Banc 007FAUXvrai\",BDD!$V$2:$V$685)","v":0},{"$f":"SUMIF(BDD!$BB$2:$BB$685,\"Banc 007VRAIFAUX\",BDD!$V$2:$V$685)","v":0},{"$f":"SUMIF(BDD!$BB$2:$BB$685,\"Banc 007FAUXvrai\",BDD!$V$2:$V$685)","v":0},{"$f":"SUMIF(BDD!$BB$2:$BB$685,\"Banc 007VRAIFAUX\",BDD!$V$2:$V$685)","v":0},{"$f":"SUMIF(BDD!$BB$2:$BB$685,\"Banc 007FAUXvrai\",BDD!$V$2:$V$685)","v":0},{"$f":"SUMIF(BDD!$BB$2:$BB$685,\"Banc 007VRAIFAUX\",BDD!$V$2:$V$685)","v":0},{"$f":"SUMIF(BDD!$BB$2:$BB$685,\"Banc 007FAUXvrai\",BDD!$V$2:$V$685)","v":0},{"$f":"SUMIF(BDD!$BB$2:$BB$685,\"Banc 007VRAIFAUX\",BDD!$V$2:$V$685)","v":0},{"$f":"SUMIF(BDD!$BB$2:$BB$685,\"Banc 007FAUXvrai\",BDD!$V$2:$V$685)","v":0},{"$f":"SUMIF(BDD!$BB$2:$BB$685,\"Banc 007VRAIFAUX\",BDD!$V$2:$V$685)","v":0},{"$f":"SUMIF(BDD!$BB$2:$BB$685,\"Banc 007FAUXvrai\",BDD!$V$2:$V$685)","v":0},{"$f":"SUMIF(BDD!$BB$2:$BB$685,\"Banc 007VRAIFAUX\",BDD!$V$2:$V$685)","v":0},{"$f":"SUMIF(BDD!$BB$2:$BB$685,\"Banc 007FAUXvrai\",BDD!$V$2:$V$685)","v":0},{"$f":"SUMIF(BDD!$BB$2:$BB$685,\"Banc 007VRAIFAUX\",BDD!$V$2:$V$685)","v":0},{"$f":"SUMIF(BDD!$BB$2:$BB$685,\"Banc 007FAUXvrai\",BDD!$V$2:$V$685)","v":0},{"$f":"SUMIF(BDD!$BB$2:$BB$685,\"Banc 007VRAIFAUX\",BDD!$V$2:$V$685)","v":0},{"$f":"SUMIF(BDD!$BB$2:$BB$685,\"Banc 007FAUXvrai\",BDD!$V$2:$V$685)","v":0},{"$f":"SUMIF(BDD!$BB$2:$BB$685,\"Banc 007VRAIFAUX\",BDD!$V$2:$V$685)","v":0},{"$f":"SUMIF(BDD!$BB$2:$BB$685,\"Banc 007FAUXvrai\",BDD!$V$2:$V$685)","v":0}]
["Banc 008",{"$f":"SUMIF(BDD!$BB$2:$BB$685,\"Banc 008VRAIFAUX\",BDD!$V$2:$V$685)","v":0},{"$f":"SUMIF(BDD!$BB$2:$BB$685,\"Banc 008FAUXVRAI\",BDD!$V$2:$V$685)","v":0},{"$f":"SUMIF(BDD!$BB$2:$BB$685,\"Banc 008VRAIFAUX\",BDD!$V$2:$V$685)","v":0},{"$f":"SUMIF(BDD!$BB$2:$BB$685,\"Banc 008FAUXVRAI\",BDD!$V$2:$V$685)","v":0},{"$f":"SUMIF(BDD!$BB$2:$BB$685,\"Banc 008VRAIFAUX\",BDD!$V$2:$V$685)","v":0},{"$f":"SUMIF(BDD!$BB$2:$BB$685,\"Banc 008FAUXVRAI\",BDD!$V$2:$V$685)","v":0},{"$f":"SUMIF(BDD!$BB$2:$BB$685,\"Banc 008VRAIFAUX\",BDD!$V$2:$V$685)","v":0},{"$f":"SUMIF(BDD!$BB$2:$BB$685,\"Banc 008FAUXVRAI\",BDD!$V$2:$V$685)","v":0},{"$f":"SUMIF(BDD!$BB$2:$BB$685,\"Banc 008VRAIFAUX\",BDD!$V$2:$V$685)","v":0},{"$f":"SUMIF(BDD!$BB$2:$BB$685,\"Banc 008FAUXVRAI\",BDD!$V$2:$V$685)","v":0},{"$f":"SUMIF(BDD!$BB$2:$BB$685,\"Banc 008VRAIFAUX\",BDD!$V$2:$V$685)","v":0},{"$f":"SUMIF(BDD!$BB$2:$BB$685,\"Banc 008FAUXVRAI\",BDD!$V$2:$V$685)","v":0},{"$f":"SUMIF(BDD!$BB$2:$BB$685,\"Banc 008VRAIFAUX\",BDD!$V$2:$V$685)","v":0},{"$f":"SUMIF(BDD!$BB$2:$BB$685,\"Banc 008FAUXVRAI\",BDD!$V$2:$V$685)","v":0},{"$f":"SUMIF(BDD!$BB$2:$BB$685,\"Banc 008VRAIFAUX\",BDD!$V$2:$V$685)","v":0},{"$f":"SUMIF(BDD!$BB$2:$BB$685,\"Banc 008FAUXVRAI\",BDD!$V$2:$V$685)","v":0},{"$f":"SUMIF(BDD!$BB$2:$BB$685,\"Banc 008VRAIFAUX\",BDD!$V$2:$V$685)","v":0},{"$f":"SUMIF(BDD!$BB$2:$BB$685,\"Banc 008FAUXVRAI\",BDD!$V$2:$V$685)","v":0},{"$f":"SUMIF(BDD!$BB$2:$BB$685,\"Banc 008VRAIFAUX\",BDD!$V$2:$V$685)","v":0},{"$f":"SUMIF(BDD!$BB$2:$BB$685,\"Banc 008FAUXVRAI\",BDD!$V$2:$V$685)","v":0},{"$f":"SUMIF(BDD!$BB$2:$BB$685,\"Banc 008VRAIFAUX\",BDD!$V$2:$V$685)","v":0},{"$f":"SUMIF(BDD!$BB$2:$BB$685,\"Banc 008FAUXVRAI\",BDD!$V$2:$V$685)","v":0},{"$f":"SUMIF(BDD!$BB$2:$BB$685,\"Banc 008VRAIFAUX\",BDD!$V$2:$V$685)","v":0},{"$f":"SUMIF(BDD!$BB$2:$BB$685,\"Banc 008FAUXVRAI\",BDD!$V$2:$V$685)","v":0}]
["Banc 113",{"$f":"SUMIF(BDD!$BB$2:$BB$685,\"Banc 113VRAIFAUX\",BDD!$V$2:$V$685)","v":0},{"$f":"SUMIF(BDD!$BB$2:$BB$685,\"Banc 113FAUXVRAI\",BDD!$V$2:$V$685)","v":0},{"$f":"SUMIF(BDD!$BB$2:$BB$685,\"Banc 113VRAIFAUX\",BDD!$V$2:$V$685)","v":0},{"$f":"SUMIF(BDD!$BB$2:$BB$685,\"Banc 113FAUXVRAI\",BDD!$V$2:$V$685)","v":0},{"$f":"SUMIF(BDD!$BB$2:$BB$685,\"Banc 113VRAIFAUX\",BDD!$V$2:$V$685)","v":0},{"$f":"SUMIF(BDD!$BB$2:$BB$685,\"Banc 113FAUXVRAI\",BDD!$V$2:$V$685)","v":0},{"$f":"SUMIF(BDD!$BB$2:$BB$685,\"Banc 113VRAIFAUX\",BDD!$V$2:$V$685)","v":0},{"$f":"SUMIF(BDD!$BB$2:$BB$685,\"Banc 113FAUXVRAI\",BDD!$V$2:$V$685)","v":0},{"$f":"SUMIF(BDD!$BB$2:$BB$685,\"Banc 113VRAIFAUX\",BDD!$V$2:$V$685)","v":0},{"$f":"SUMIF(BDD!$BB$2:$BB$685,\"Banc 113FAUXVRAI\",BDD!$V$2:$V$685)","v":0},{"$f":"SUMIF(BDD!$BB$2:$BB$685,\"Banc 113VRAIFAUX\",BDD!$V$2:$V$685)","v":0},{"$f":"SUMIF(BDD!$BB$2:$BB$685,\"Banc 113FAUXVRAI\",BDD!$V$2:$V$685)","v":0},{"$f":"SUMIF(BDD!$BB$2:$BB$685,\"Banc 113VRAIFAUX\",BDD!$V$2:$V$685)","v":0},{"$f":"SUMIF(BDD!$BB$2:$BB$685,\"Banc 113FAUXVRAI\",BDD!$V$2:$V$685)","v":0},{"$f":"SUMIF(BDD!$BB$2:$BB$685,\"Banc 113VRAIFAUX\",BDD!$V$2:$V$685)","v":0},{"$f":"SUMIF(BDD!$BB$2:$BB$685,\"Banc 113FAUXVRAI\",BDD!$V$2:$V$685)","v":0},{"$f":"SUMIF(BDD!$BB$2:$BB$685,\"Banc 113VRAIFAUX\",BDD!$V$2:$V$685)","v":0},{"$f":"SUMIF(BDD!$BB$2:$BB$685,\"Banc 113FAUXVRAI\",BDD!$V$2:$V$685)","v":0},{"$f":"SUMIF(BDD!$BB$2:$BB$685,\"Banc 113VRAIFAUX\",BDD!$V$2:$V$685)","v":0},{"$f":"SUMIF(BDD!$BB$2:$BB$685,\"Banc 113FAUXVRAI\",BDD!$V$2:$V$685)","v":0},{"$f":"SUMIF(BDD!$BB$2:$BB$685,\"Banc 113VRAIFAUX\",BDD!$V$2:$V$685)","v":0},{"$f":"SUMIF(BDD!$BB$2:$BB$685,\"Banc 113FAUXVRAI\",BDD!$V$2:$V$685)","v":0},{"$f":"SUMIF(BDD!$BB$2:$BB$685,\"Banc 113VRAIFAUX\",BDD!$V$2:$V$685)","v":0},{"$f":"SUMIF(BDD!$BB$2:$BB$685,\"Banc 113FAUXVRAI\",BDD!$V$2:$V$685)","v":0}]
["Banc 115",{"$f":"SUMIF(BDD!$BB$2:$BB$685,\"Banc 115VRAIFAUX\",BDD!$V$2:$V$685)","v":0},{"$f":"SUMIF(BDD!$BB$2:$BB$685,\"Banc 115FAUXVRAI\",BDD!$V$2:$V$685)","v":0},{"$f":"SUMIF(BDD!$BB$2:$BB$685,\"Banc 115VRAIFAUX\",BDD!$V$2:$V$685)","v":0},{"$f":"SUMIF(BDD!$BB$2:$BB$685,\"Banc 115FAUXVRAI\",BDD!$V$2:$V$685)","v":0},{"$f":"SUMIF(BDD!$BB$2:$BB$685,\"Banc 115VRAIFAUX\",BDD!$V$2:$V$685)","v":0},{"$f":"SUMIF(BDD!$BB$2:$BB$685,\"Banc 115FAUXVRAI\",BDD!$V$2:$V$685)","v":0},{"$f":"SUMIF(BDD!$BB$2:$BB$685,\"Banc 115VRAIFAUX\",BDD!$V$2:$V$685)","v":0},{"$f":"SUMIF(BDD!$BB$2:$BB$685,\"Banc 115FAUXVRAI\",BDD!$V$2:$V$685)","v":0},{"$f":"SUMIF(BDD!$BB$2:$BB$685,\"Banc 115VRAIFAUX\",BDD!$V$2:$V$685)","v":0},{"$f":"SUMIF(BDD!$BB$2:$BB$685,\"Banc 115FAUXVRAI\",BDD!$V$2:$V$685)","v":0},{"$f":"SUMIF(BDD!$BB$2:$BB$685,\"Banc 115VRAIFAUX\",BDD!$V$2:$V$685)","v":0},{"$f":"SUMIF(BDD!$BB$2:$BB$685,\"Banc 115FAUXVRAI\",BDD!$V$2:$V$685)","v":0},{"$f":"SUMIF(BDD!$BB$2:$BB$685,\"Banc 115VRAIFAUX\",BDD!$V$2:$V$685)","v":0},{"$f":"SUMIF(BDD!$BB$2:$BB$685,\"Banc 115FAUXVRAI\",BDD!$V$2:$V$685)","v":0},{"$f":"SUMIF(BDD!$BB$2:$BB$685,\"Banc 115VRAIFAUX\",BDD!$V$2:$V$685)","v":0},{"$f":"SUMIF(BDD!$BB$2:$BB$685,\"Banc 115FAUXVRAI\",BDD!$V$2:$V$685)","v":0},{"$f":"SUMIF(BDD!$BB$2:$BB$685,\"Banc 115VRAIFAUX\",BDD!$V$2:$V$685)","v":0},{"$f":"SUMIF(BDD!$BB$2:$BB$685,\"Banc 115FAUXVRAI\",BDD!$V$2:$V$685)","v":0},{"$f":"SUMIF(BDD!$BB$2:$BB$685,\"Banc 115VRAIFAUX\",BDD!$V$2:$V$685)","v":0},{"$f":"SUMIF(BDD!$BB$2:$BB$685,\"Banc 115FAUXVRAI\",BDD!$V$2:$V$685)","v":0},{"$f":"SUMIF(BDD!$BB$2:$BB$685,\"Banc 115VRAIFAUX\",BDD!$V$2:$V$685)","v":0},{"$f":"SUMIF(BDD!$BB$2:$BB$685,\"Banc 115FAUXVRAI\",BDD!$V$2:$V$685)","v":0},{"$f":"SUMIF(BDD!$BB$2:$BB$685,\"Banc 115VRAIFAUX\",BDD!$V$2:$V$685)","v":0},{"$f":"SUMIF(BDD!$BB$2:$BB$685,\"Banc 115FAUXVRAI\",BDD!$V$2:$V$685)","v":0}]
["Banc 120",{"$f":"SUMIF(BDD!$BB$2:$BB$685,\"Banc 120VRAIFAUX\",BDD!$V$2:$V$685)","v":0},{"$f":"SUMIF(BDD!$BB$2:$BB$685,\"Banc 120FAUXVRAI\",BDD!$V$2:$V$685)","v":0},{"$f":"SUMIF(BDD!$BB$2:$BB$685,\"Banc 120VRAIFAUX\",BDD!$V$2:$V$685)","v":0},{"$f":"SUMIF(BDD!$BB$2:$BB$685,\"Banc 120FAUXVRAI\",BDD!$V$2:$V$685)","v":0},{"$f":"SUMIF(BDD!$BB$2:$BB$685,\"Banc 120VRAIFAUX\",BDD!$V$2:$V$685)","v":0},{"$f":"SUMIF(BDD!$BB$2:$BB$685,\"Banc 120FAUXVRAI\",BDD!$V$2:$V$685)","v":0},{"$f":"SUMIF(BDD!$BB$2:$BB$685,\"Banc 120VRAIFAUX\",BDD!$V$2:$V$685)","v":0},{"$f":"SUMIF(BDD!$BB$2:$BB$685,\"Banc 120FAUXVRAI\",BDD!$V$2:$V$685)","v":0},{"$f":"SUMIF(BDD!$BB$2:$BB$685,\"Banc 120VRAIFAUX\",BDD!$V$2:$V$685)","v":0},{"$f":"SUMIF(BDD!$BB$2:$BB$685,\"Banc 120FAUXVRAI\",BDD!$V$2:$V$685)","v":0},{"$f":"SUMIF(BDD!$BB$2:$BB$685,\"Banc 120VRAIFAUX\",BDD!$V$2:$V$685)","v":0},{"$f":"SUMIF(BDD!$BB$2:$BB$685,\"Banc 120FAUXVRAI\",BDD!$V$2:$V$685)","v":0},{"$f":"SUMIF(BDD!$BB$2:$BB$685,\"Banc 120VRAIFAUX\",BDD!$V$2:$V$685)","v":0},{"$f":"SUMIF(BDD!$BB$2:$BB$685,\"Banc 120FAUXVRAI\",BDD!$V$2:$V$685)","v":0},{"$f":"SUMIF(BDD!$BB$2:$BB$685,\"Banc 120VRAIFAUX\",BDD!$V$2:$V$685)","v":0},{"$f":"SUMIF(BDD!$BB$2:$BB$685,\"Banc 120FAUXVRAI\",BDD!$V$2:$V$685)","v":0},{"$f":"SUMIF(BDD!$BB$2:$BB$685,\"Banc 120VRAIFAUX\",BDD!$V$2:$V$685)","v":0},{"$f":"SUMIF(BDD!$BB$2:$BB$685,\"Banc 120FAUXVRAI\",BDD!$V$2:$V$685)","v":0},{"$f":"SUMIF(BDD!$BB$2:$BB$685,\"Banc 120VRAIFAUX\",BDD!$V$2:$V$685)","v":0},{"$f":"SUMIF(BDD!$BB$2:$BB$685,\"Banc 120FAUXVRAI\",BDD!$V$2:$V$685)","v":0},{"$f":"SUMIF(BDD!$BB$2:$BB$685,\"Banc 120VRAIFAUX\",BDD!$V$2:$V$685)","v":0},{"$f":"SUMIF(BDD!$BB$2:$BB$685,\"Banc 120FAUXVRAI\",BDD!$V$2:$V$685)","v":0},{"$f":"SUMIF(BDD!$BB$2:$BB$685,\"Banc 120VRAIFAUX\",BDD!$V$2:$V$685)","v":0},{"$f":"SUMIF(BDD!$BB$2:$BB$685,\"Banc 120FAUXVRAI\",BDD!$V$2:$V$685)","v":0}]
["Banc 120 bis",{"$f":"SUMIF(BDD!$BB$2:$BB$685,\"Banc 120 bisVRAIFAUX\",BDD!$V$2:$V$685)","v":0},{"$f":"SUMIF(BDD!$BB$2:$BB$685,\"Banc 120 bisFAUXVRAI\",BDD!$V$2:$V$685)","v":0},{"$f":"SUMIF(BDD!$BB$2:$BB$685,\"Banc 120 bisVRAIFAUX\",BDD!$V$2:$V$685)","v":0},{"$f":"SUMIF(BDD!$BB$2:$BB$685,\"Banc 120 bisFAUXVRAI\",BDD!$V$2:$V$685)","v":0},{"$f":"SUMIF(BDD!$BB$2:$BB$685,\"Banc 120 bisVRAIFAUX\",BDD!$V$2:$V$685)","v":0},{"$f":"SUMIF(BDD!$BB$2:$BB$685,\"Banc 120 bisFAUXVRAI\",BDD!$V$2:$V$685)","v":0},{"$f":"SUMIF(BDD!$BB$2:$BB$685,\"Banc 120 bisVRAIFAUX\",BDD!$V$2:$V$685)","v":0},{"$f":"SUMIF(BDD!$BB$2:$BB$685,\"Banc 120 bisFAUXVRAI\",BDD!$V$2:$V$685)","v":0},{"$f":"SUMIF(BDD!$BB$2:$BB$685,\"Banc 120 bisVRAIFAUX\",BDD!$V$2:$V$685)","v":0},{"$f":"SUMIF(BDD!$BB$2:$BB$685,\"Banc 120 bisFAUXVRAI\",BDD!$V$2:$V$685)","v":0},{"$f":"SUMIF(BDD!$BB$2:$BB$685,\"Banc 120 bisVRAIFAUX\",BDD!$V$2:$V$685)","v":0},{"$f":"SUMIF(BDD!$BB$2:$BB$685,\"Banc 120 bisFAUXVRAI\",BDD!$V$2:$V$685)","v":0},{"$f":"SUMIF(BDD!$BB$2:$BB$685,\"Banc 120 bisVRAIFAUX\",BDD!$V$2:$V$685)","v":0},{"$f":"SUMIF(BDD!$BB$2:$BB$685,\"Banc 120 bisFAUXVRAI\",BDD!$V$2:$V$685)","v":0},{"$f":"SUMIF(BDD!$BB$2:$BB$685,\"Banc 120 bisVRAIFAUX\",BDD!$V$2:$V$685)","v":0},{"$f":"SUMIF(BDD!$BB$2:$BB$685,\"Banc 120 bisFAUXVRAI\",BDD!$V$2:$V$685)","v":0},{"$f":"SUMIF(BDD!$BB$2:$BB$685,\"Banc 120 bisVRAIFAUX\",BDD!$V$2:$V$685)","v":0},{"$f":"SUMIF(BDD!$BB$2:$BB$685,\"Banc 120 bisFAUXVRAI\",BDD!$V$2:$V$685)","v":0},{"$f":"SUMIF(BDD!$BB$2:$BB$685,\"Banc 120 bisVRAIFAUX\",BDD!$V$2:$V$685)","v":0},{"$f":"SUMIF(BDD!$BB$2:$BB$685,\"Banc 120 bisFAUXVRAI\",BDD!$V$2:$V$685)","v":0},{"$f":"SUMIF(BDD!$BB$2:$BB$685,\"Banc 120 bisVRAIFAUX\",BDD!$V$2:$V$685)","v":0},{"$f":"SUMIF(BDD!$BB$2:$BB$685,\"Banc 120 bisFAUXVRAI\",BDD!$V$2:$V$685)","v":0},{"$f":"SUMIF(BDD!$BB$2:$BB$685,\"Banc 120 bisVRAIFAUX\",BDD!$V$2:$V$685)","v":0},{"$f":"SUMIF(BDD!$BB$2:$BB$685,\"Banc 120 bisFAUXVRAI\",BDD!$V$2:$V$685)","v":0}]
["Banc 125",{"$f":"SUMIF(BDD!$BB$2:$BB$685,\"Banc 125VRAIFAUX\",BDD!$V$2:$V$685)","v":0},{"$f":"SUMIF(BDD!$BB$2:$BB$685,\"Banc 125FAUXVRAI\",BDD!$V$2:$V$685)","v":0},{"$f":"SUMIF(BDD!$BB$2:$BB$685,\"Banc 125VRAIFAUX\",BDD!$V$2:$V$685)","v":0},{"$f":"SUMIF(BDD!$BB$2:$BB$685,\"Banc 125FAUXVRAI\",BDD!$V$2:$V$685)","v":0},{"$f":"SUMIF(BDD!$BB$2:$BB$685,\"Banc 125VRAIFAUX\",BDD!$V$2:$V$685)","v":0},{"$f":"SUMIF(BDD!$BB$2:$BB$685,\"Banc 125FAUXVRAI\",BDD!$V$2:$V$685)","v":0},{"$f":"SUMIF(BDD!$BB$2:$BB$685,\"Banc 125VRAIFAUX\",BDD!$V$2:$V$685)","v":0},{"$f":"SUMIF(BDD!$BB$2:$BB$685,\"Banc 125FAUXVRAI\",BDD!$V$2:$V$685)","v":0},{"$f":"SUMIF(BDD!$BB$2:$BB$685,\"Banc 125VRAIFAUX\",BDD!$V$2:$V$685)","v":0},{"$f":"SUMIF(BDD!$BB$2:$BB$685,\"Banc 125FAUXVRAI\",BDD!$V$2:$V$685)","v":0},{"$f":"SUMIF(BDD!$BB$2:$BB$685,\"Banc 125VRAIFAUX\",BDD!$V$2:$V$685)","v":0},{"$f":"SUMIF(BDD!$BB$2:$BB$685,\"Banc 125FAUXVRAI\",BDD!$V$2:$V$685)","v":0},{"$f":"SUMIF(BDD!$BB$2:$BB$685,\"Banc 125VRAIFAUX\",BDD!$V$2:$V$685)","v":0},{"$f":"SUMIF(BDD!$BB$2:$BB$685,\"Banc 125FAUXVRAI\",BDD!$V$2:$V$685)","v":0},{"$f":"SUMIF(BDD!$BB$2:$BB$685,\"Banc 125VRAIFAUX\",BDD!$V$2:$V$685)","v":0},{"$f":"SUMIF(BDD!$BB$2:$BB$685,\"Banc 125FAUXVRAI\",BDD!$V$2:$V$685)","v":0},{"$f":"SUMIF(BDD!$BB$2:$BB$685,\"Banc 125VRAIFAUX\",BDD!$V$2:$V$685)","v":0},{"$f":"SUMIF(BDD!$BB$2:$BB$685,\"Banc 125FAUXVRAI\",BDD!$V$2:$V$685)","v":0},{"$f":"SUMIF(BDD!$BB$2:$BB$685,\"Banc 125VRAIFAUX\",BDD!$V$2:$V$685)","v":0},{"$f":"SUMIF(BDD!$BB$2:$BB$685,\"Banc 125FAUXVRAI\",BDD!$V$2:$V$685)","v":0},{"$f":"SUMIF(BDD!$BB$2:$BB$685,\"Banc 125VRAIFAUX\",BDD!$V$2:$V$685)","v":0},{"$f":"SUMIF(BDD!$BB$2:$BB$685,\"Banc 125FAUXVRAI\",BDD!$V$2:$V$685)","v":0},{"$f":"SUMIF(BDD!$BB$2:$BB$685,\"Banc 125VRAIFAUX\",BDD!$V$2:$V$685)","v":0},{"$f":"SUMIF(BDD!$BB$2:$BB$685,\"Banc 125FAUXVRAI\",BDD!$V$2:$V$685)","v":0}]
["Banc 128",{"$f":"SUMIF(BDD!$BB$2:$BB$685,\"Banc 128VRAIFAUX\",BDD!$V$2:$V$685)","v":1},{"$f":"SUMIF(BDD!$BB$2:$BB$685,\"Banc 128FAUXVRAI\",BDD!$V$2:$V$685)","v":0},{"$f":"SUMIF(BDD!$BB$2:$BB$685,\"Banc 128VRAIFAUX\",BDD!$V$2:$V$685)","v":1},{"$f":"SUMIF(BDD!$BB$2:$BB$685,\"Banc 128FAUXVRAI\",BDD!$V$2:$V$685)","v":0},{"$f":"SUMIF(BDD!$BB$2:$BB$685,\"Banc 128VRAIFAUX\",BDD!$V$2:$V$685)","v":1},{"$f":"SUMIF(BDD!$BB$2:$BB$685,\"Banc 128FAUXVRAI\",BDD!$V$2:$V$685)","v":0},{"$f":"SUMIF(BDD!$BB$2:$BB$685,\"Banc 128VRAIFAUX\",BDD!$V$2:$V$685)","v":1},{"$f":"SUMIF(BDD!$BB$2:$BB$685,\"Banc 128FAUXVRAI\",BDD!$V$2:$V$685)","v":0},{"$f":"SUMIF(BDD!$BB$2:$BB$685,\"Banc 128VRAIFAUX\",BDD!$V$2:$V$685)","v":1},{"$f":"SUMIF(BDD!$BB$2:$BB$685,\"Banc 128FAUXVRAI\",BDD!$V$2:$V$685)","v":0},{"$f":"SUMIF(BDD!$BB$2:$BB$685,\"Banc 128VRAIFAUX\",BDD!$V$2:$V$685)","v":1},{"$f":"SUMIF(BDD!$BB$2:$BB$685,\"Banc 128FAUXVRAI\",BDD!$V$2:$V$685)","v":0},{"$f":"SUMIF(BDD!$BB$2:$BB$685,\"Banc 128VRAIFAUX\",BDD!$V$2:$V$685)","v":1},{"$f":"SUMIF(BDD!$BB$2:$BB$685,\"Banc 128FAUXVRAI\",BDD!$V$2:$V$685)","v":0},{"$f":"SUMIF(BDD!$BB$2:$BB$685,\"Banc 128VRAIFAUX\",BDD!$V$2:$V$685)","v":1},{"$f":"SUMIF(BDD!$BB$2:$BB$685,\"Banc 128FAUXVRAI\",BDD!$V$2:$V$685)","v":0},{"$f":"SUMIF(BDD!$BB$2:$BB$685,\"Banc 128VRAIFAUX\",BDD!$V$2:$V$685)","v":1},{"$f":"SUMIF(BDD!$BB$2:$BB$685,\"Banc 128FAUXVRAI\",BDD!$V$2:$V$685)","v":0},{"$f":"SUMIF(BDD!$BB$2:$BB$685,\"Banc 128VRAIFAUX\",BDD!$V$2:$V$685)","v":1},{"$f":"SUMIF(BDD!$BB$2:$BB$685,\"Banc 128FAUXVRAI\",BDD!$V$2:$V$685)","v":0},{"$f":"SUMIF(BDD!$BB$2:$BB$685,\"Banc 128VRAIFAUX\",BDD!$V$2:$V$685)","v":1},{"$f":"SUMIF(BDD!$BB$2:$BB$685,\"Banc 128FAUXVRAI\",BDD!$V$2:$V$685)","v":0},{"$f":"SUMIF(BDD!$BB$2:$BB$685,\"Banc 128VRAIFAUX\",BDD!$V$2:$V$685)","v":1},{"$f":"SUMIF(BDD!$BB$2:$BB$685,\"Banc 128FAUXVRAI\",BDD!$V$2:$V$685)","v":0}]
["Banc 131",{"$f":"SUMIF(BDD!$BB$2:$BB$685,\"Banc 131VRAIFAUX\",BDD!$V$2:$V$685)","v":0},{"$f":"SUMIF(BDD!$BB$2:$BB$685,\"Banc 131FAUXVRAI\",BDD!$V$2:$V$685)","v":0},{"$f":"SUMIF(BDD!$BB$2:$BB$685,\"Banc 131VRAIFAUX\",BDD!$V$2:$V$685)","v":0},{"$f":"SUMIF(BDD!$BB$2:$BB$685,\"Banc 131FAUXVRAI\",BDD!$V$2:$V$685)","v":0},{"$f":"SUMIF(BDD!$BB$2:$BB$685,\"Banc 131VRAIFAUX\",BDD!$V$2:$V$685)","v":0},{"$f":"SUMIF(BDD!$BB$2:$BB$685,\"Banc 131FAUXVRAI\",BDD!$V$2:$V$685)","v":0},{"$f":"SUMIF(BDD!$BB$2:$BB$685,\"Banc 131VRAIFAUX\",BDD!$V$2:$V$685)","v":0},{"$f":"SUMIF(BDD!$BB$2:$BB$685,\"Banc 131FAUXVRAI\",BDD!$V$2:$V$685)","v":0},{"$f":"SUMIF(BDD!$BB$2:$BB$685,\"Banc 131VRAIFAUX\",BDD!$V$2:$V$685)","v":0},{"$f":"SUMIF(BDD!$BB$2:$BB$685,\"Banc 131FAUXVRAI\",BDD!$V$2:$V$685)","v":0},{"$f":"SUMIF(BDD!$BB$2:$BB$685,\"Banc 131VRAIFAUX\",BDD!$V$2:$V$685)","v":0},{"$f":"SUMIF(BDD!$BB$2:$BB$685,\"Banc 131FAUXVRAI\",BDD!$V$2:$V$685)","v":0},{"$f":"SUMIF(BDD!$BB$2:$BB$685,\"Banc 131VRAIFAUX\",BDD!$V$2:$V$685)","v":0},{"$f":"SUMIF(BDD!$BB$2:$BB$685,\"Banc 131FAUXVRAI\",BDD!$V$2:$V$685)","v":0},{"$f":"SUMIF(BDD!$BB$2:$BB$685,\"Banc 131VRAIFAUX\",BDD!$V$2:$V$685)","v":0},{"$f":"SUMIF(BDD!$BB$2:$BB$685,\"Banc 131FAUXVRAI\",BDD!$V$2:$V$685)","v":0},{"$f":"SUMIF(BDD!$BB$2:$BB$685,\"Banc 131VRAIFAUX\",BDD!$V$2:$V$685)","v":0},{"$f":"SUMIF(BDD!$BB$2:$BB$685,\"Banc 131FAUXVRAI\",BDD!$V$2:$V$685)","v":0},{"$f":"SUMIF(BDD!$BB$2:$BB$685,\"Banc 131VRAIFAUX\",BDD!$V$2:$V$685)","v":0},{"$f":"SUMIF(BDD!$BB$2:$BB$685,\"Banc 131FAUXVRAI\",BDD!$V$2:$V$685)","v":0},{"$f":"SUMIF(BDD!$BB$2:$BB$685,\"Banc 131VRAIFAUX\",BDD!$V$2:$V$685)","v":0},{"$f":"SUMIF(BDD!$BB$2:$BB$685,\"Banc 131FAUXVRAI\",BDD!$V$2:$V$685)","v":0},{"$f":"SUMIF(BDD!$BB$2:$BB$685,\"Banc 131VRAIFAUX\",BDD!$V$2:$V$685)","v":0},{"$f":"SUMIF(BDD!$BB$2:$BB$685,\"Banc 131FAUXVRAI\",BDD!$V$2:$V$685)","v":0}]
[]
[]
[]
[]
[]
[]
[]
[]
[]
[]
[]
[]
[]
[]
[]
[]
[]
[]
[]
[]
[]
[]
[null,"Suivi du correctif et du préventif par banc"]
[null,"Janvier",null,null,null,null,null,"Février",null,null,null,null,null,"Mars",null,null,null,null,null,"Avril",null,null,null,null,null,"Mai",null,null,null,null,null,"Juin",null,null,null,null,null,"Juillet",null,null,null,null,null,"Août",null,null,null,null,null,"Septembre",null,null,null,null,null,"Octobre",null,null,null,null,null,"Novembre",null,null,null,null,null,"Décembre"]
[null,"Corrective",null,null,"Préventive",null,null,"Corrective",null,null,"Préventive",null,null,"Corrective",null,null,"Préventive",null,null,"Corrective",null,null,"Préventive",null,null,"Corrective",null,null,"Préventive",null,null,"Corrective",null,null,"Préventive",null,null,"Corrective",null,null,"Préventive",null,null,"Corrective",null,null,"Préventive",null,null,"Corrective",null,null,"Préventive",null,null,"Corrective",null,null,"Préventive",null,null,"Corrective",null,null,"Préventive",null,null,"Corrective",null,null,"Préventive"]
["Banc zone 10","Electrique","Mécanique","Hydraulique","Electrique","Mécanique","Hydraulique","Electrique","Mécanique","Hydraulique","Electrique","Mécanique","Hydraulique","Electrique","Mécanique","Hydraulique","Electrique","Mécanique","Hydraulique","Electrique","Mécanique","Hydraulique","Electrique","Mécanique","Hydraulique","Electrique","Mécanique","Hydraulique","Electrique","Mécanique","Hydraulique","Electrique","Mécanique","Hydraulique","Electrique","Mécanique","Hydraulique","Electrique","Mécanique","Hydraulique","Electrique","Mécanique","Hydraulique","Electrique","Mécanique","Hydraulique","Electrique","Mécanique","Hydraulique","Electrique","Mécanique","Hydraulique","Electrique","Mécanique","Hydraulique","Electrique","Mécanique","Hydraulique","Electrique","Mécanique","Hydraulique","Electrique","Mécanique","Hydraulique","Electrique","Mécanique","Hydraulique","Electrique","Mécanique","Hydraulique","Electrique","Mécanique","Hydraulique"]
["Banc 007",{"$f":"SUMIF(BDD!$BC$2:$BC$685,\"Banc 007VRAIFAUXVRAIFAUXFAUX\",BDD!$V$2:$V$685)","v":0},{"$f":"SUMIF(BDD!$BC$2:$BC$685,\"Banc 007VRAIFAUXFAUXVRAIFAUX\",BDD!$V$2:$V$685)","v":0},{"$f":"SUMIF(BDD!$BC$2:$BC$685,\"Banc 007VRAIFAUXFAUXFAUXVRAI\",BDD!$V$2:$V$685)","v":0},{"$f":"SUMIF(BDD!$BC$2:$BC$685,\"Banc 007FAUXVRAIVRAIFAUXFAUX\",BDD!$V$2:$V$685)","v":0},{"$f":"SUMIF(BDD!$BC$2:$BC$685,\"Banc 007FAUXVRAIFAUXVRAIFAUX\",BDD!$V$2:$V$685)","v":0},{"$f":"SUMIF(BDD!$BC$2:$BC$685,\"Banc 007FAUXVRAIFAUXFAUXVRAI\",BDD!$V$2:$V$685)","v":0},{"$f":"SUMIF(BDD!$BC$2:$BC$685,\"Banc 007VRAIFAUXVRAIFAUXFAUX\",BDD!$V$2:$V$685)","v":0},{"$f":"SUMIF(BDD!$BC$2:$BC$685,\"Banc 007VRAIFAUXFAUXVRAIFAUX\",BDD!$V$2:$V$685)","v":0},{"$f":"SUMIF(BDD!$BC$2:$BC$685,\"Banc 007VRAIFAUXFAUXFAUXVRAI\",BDD!$V$2:$V$685)","v":0},{"$f":"SUMIF(BDD!$BC$2:$BC$685,\"Banc 007FAUXVRAIVRAIFAUXFAUX\",BDD!$V$2:$V$685)","v":0},{"$f":"SUMIF(BDD!$BC$2:$BC$685,\"Banc 007FAUXVRAIFAUXVRAIFAUX\",BDD!$V$2:$V$685)","v":0},{"$f":"SUMIF(BDD!$BC$2:$BC$685,\"Banc 007FAUXVRAIFAUXFAUXVRAI\",BDD!$V$2:$V$685)","v":0},{"$f":"SUMIF(BDD!$BC$2:$BC$685,\"Banc 007VRAIFAUXVRAIFAUXFAUX\",BDD!$V$2:$V$685)","v":0},{"$f":"SUMIF(BDD!$BC$2:$BC$685,\"Banc 007VRAIFAUXFAUXVRAIFAUX\",BDD!$V$2:$V$685)","v":0},{"$f":"SUMIF(BDD!$BC$2:$BC$685,\"Banc 007VRAIFAUXFAUXFAUXVRAI\",BDD!$V$2:$V$685)","v":0},{"$f":"SUMIF(BDD!$BC$2:$BC$685,\"Banc 007FAUXVRAIVRAIFAUXFAUX\",BDD!$V$2:$V$685)","v":0},{"$f":"SUMIF(BDD!$BC$2:$BC$685,\"Banc 007FAUXVRAIFAUXVRAIFAUX\",BDD!$V$2:$V$685)","v":0},{"$f":"SUMIF(BDD!$BC$2:$BC$685,\"Banc 007FAUXVRAIFAUXFAUXVRAI\",BDD!$V$2:$V$685)","v":0},{"$f":"SUMIF(BDD!$BC$2:$BC$685,\"Banc 007VRAIFAUXVRAIFAUXFAUX\",BDD!$V$2:$V$685)","v":0},{"$f":"SUMIF(BDD!$BC$2:$BC$685,\"Banc 007VRAIFAUXFAUXVRAIFAUX\",BDD!$V$2:$V$685)","v":0},{"$f":"SUMIF(BDD!$BC$2:$BC$685,\"Banc 007VRAIFAUXFAUXFAUXVRAI\",BDD!$V$2:$V$685)","v":0},{"$f":"SUMIF(BDD!$BC$2:$BC$685,\"Banc 007FAUXVRAIVRAIFAUXFAUX\",BDD!$V$2:$V$685)","v":0},{"$f":"SUMIF(BDD!$BC$2:$BC$685,\"Banc 007FAUXVRAIFAUXVRAIFAUX\",BDD!$V$2:$V$685)","v":0},{"$f":"SUMIF(BDD!$BC$2:$BC$685,\"Banc 007FAUXVRAIFAUXFAUXVRAI\",BDD!$V$2:$V$685)","v":0},{"$f":"SUMIF(BDD!$BC$2:$BC$685,\"Banc 007VRAIFAUXVRAIFAUXFAUX\",BDD!$V$2:$V$685)","v":0},{"$f":"SUMIF(BDD!$BC$2:$BC$685,\"Banc 007VRAIFAUXFAUXVRAIFAUX\",BDD!$V$2:$V$685)","v":0},{"$f":"SUMIF(BDD!$BC$2:$BC$685,\"Banc 007VRAIFAUXFAUXFAUXVRAI\",BDD!$V$2:$V$685)","v":0},{"$f":"SUMIF(BDD!$BC$2:$BC$685,\"Banc 007FAUXVRAIVRAIFAUXFAUX\",BDD!$V$2:$V$685)","v":0},{"$f":"SUMIF(BDD!$BC$2:$BC$685,\"Banc 007FAUXVRAIFAUXVRAIFAUX\",BDD!$V$2:$V$685)","v":0},{"$f":"SUMIF(BDD!$BC$2:$BC$685,\"Banc 007FAUXVRAIFAUXFAUXVRAI\",BDD!$V$2:$V$685)","v":0},{"$f":"SUMIF(BDD!$BC$2:$BC$685,\"Banc 007VRAIFAUXVRAIFAUXFAUX\",BDD!$V$2:$V$685)","v":0},{"$f":"SUMIF(BDD!$BC$2:$BC$685,\"Banc 007VRAIFAUXFAUXVRAIFAUX\",BDD!$V$2:$V$685)","v":0},{"$f":"SUMIF(BDD!$BC$2:$BC$685,\"Banc 007VRAIFAUXFAUXFAUXVRAI\",BDD!$V$2:$V$685)","v":0},{"$f":"SUMIF(BDD!$BC$2:$BC$685,\"Banc 007FAUXVRAIVRAIFAUXFAUX\",BDD!$V$2:$V$685)","v":0},{"$f":"SUMIF(BDD!$BC$2:$BC$685,\"Banc 007FAUXVRAIFAUXVRAIFAUX\",BDD!$V$2:$V$685)","v":0},{"$f":"SUMIF(BDD!$BC$2:$BC$685,\"Banc 007FAUXVRAIFAUXFAUXVRAI\",BDD!$V$2:$V$685)","v":0},{"$f":"SUMIF(BDD!$BC$2:$BC$685,\"Banc 007VRAIFAUXVRAIFAUXFAUX\",BDD!$V$2:$V$685)","v":0},{"$f":"SUMIF(BDD!$BC$2:$BC$685,\"Banc 007VRAIFAUXFAUXVRAIFAUX\",BDD!$V$2:$V$685)","v":0},{"$f":"SUMIF(BDD!$BC$2:$BC$685,\"Banc 007VRAIFAUXFAUXFAUXVRAI\",BDD!$V$2:$V$685)","v":0},{"$f":"SUMIF(BDD!$BC$2:$BC$685,\"Banc 007FAUXVRAIVRAIFAUXFAUX\",BDD!$V$2:$V$685)","v":0},{"$f":"SUMIF(BDD!$BC$2:$BC$685,\"Banc 007FAUXVRAIFAUXVRAIFAUX\",BDD!$V$2:$V$685)","v":0},{"$f":"SUMIF(BDD!$BC$2:$BC$685,\"Banc 007FAUXVRAIFAUXFAUXVRAI\",BDD!$V$2:$V$685)","v":0},{"$f":"SUMIF(BDD!$BC$2:$BC$685,\"Banc 007VRAIFAUXVRAIFAUXFAUX\",BDD!$V$2:$V$685)","v":0},{"$f":"SUMIF(BDD!$BC$2:$BC$685,\"Banc 007VRAIFAUXFAUXVRAIFAUX\",BDD!$V$2:$V$685)","v":0},{"$f":"SUMIF(BDD!$BC$2:$BC$685,\"Banc 007VRAIFAUXFAUXFAUXVRAI\",BDD!$V$2:$V$685)","v":0},{"$f":"SUMIF(BDD!$BC$2:$BC$685,\"Banc 007FAUXVRAIVRAIFAUXFAUX\",BDD!$V$2:$V$685)","v":0},{"$f":"SUMIF(BDD!$BC$2:$BC$685,\"Banc 007FAUXVRAIFAUXVRAIFAUX\",BDD!$V$2:$V$685)","v":0},{"$f":"SUMIF(BDD!$BC$2:$BC$685,\"Banc 007FAUXVRAIFAUXFAUXVRAI\",BDD!$V$2:$V$685)","v":0},{"$f":"SUMIF(BDD!$BC$2:$BC$685,\"Banc 007VRAIFAUXVRAIFAUXFAUX\",BDD!$V$2:$V$685)","v":0},{"$f":"SUMIF(BDD!$BC$2:$BC$685,\"Banc 007VRAIFAUXFAUXVRAIFAUX\",BDD!$V$2:$V$685)","v":0},{"$f":"SUMIF(BDD!$BC$2:$BC$685,\"Banc 007VRAIFAUXFAUXFAUXVRAI\",BDD!$V$2:$V$685)","v":0},{"$f":"SUMIF(BDD!$BC$2:$BC$685,\"Banc 007FAUXVRAIVRAIFAUXFAUX\",BDD!$V$2:$V$685)","v":0},{"$f":"SUMIF(BDD!$BC$2:$BC$685,\"Banc 007FAUXVRAIFAUXVRAIFAUX\",BDD!$V$2:$V$685)","v":0},{"$f":"SUMIF(BDD!$BC$2:$BC$685,\"Banc 007FAUXVRAIFAUXFAUXVRAI\",BDD!$V$2:$V$685)","v":0},{"$f":"SUMIF(BDD!$BC$2:$BC$685,\"Banc 007VRAIFAUXVRAIFAUXFAUX\",BDD!$V$2:$V$685)","v":0},{"$f":"SUMIF(BDD!$BC$2:$BC$685,\"Banc 007VRAIFAUXFAUXVRAIFAUX\",BDD!$V$2:$V$685)","v":0},{"$f":"SUMIF(BDD!$BC$2:$BC$685,\"Banc 007VRAIFAUXFAUXFAUXVRAI\",BDD!$V$2:$V$685)","v":0},{"$f":"SUMIF(BDD!$BC$2:$BC$685,\"Banc 007FAUXVRAIVRAIFAUXFAUX\",BDD!$V$2:$V$685)","v":0},{"$f":"SUMIF(BDD!$BC$2:$BC$685,\"Banc 007FAUXVRAIFAUXVRAIFAUX\",BDD!$V$2:$V$685)","v":0},{"$f":"SUMIF(BDD!$BC$2:$BC$685,\"Banc 007FAUXVRAIFAUXFAUXVRAI\",BDD!$V$2:$V$685)","v":0},{"$f":"SUMIF(BDD!$BC$2:$BC$685,\"Banc 007VRAIFAUXVRAIFAUXFAUX\",BDD!$V$2:$V$685)","v":0},{"$f":"SUMIF(BDD!$BC$2:$BC$685,\"Banc 007VRAIFAUXFAUXVRAIFAUX\",BDD!$V$2:$V$685)","v":0},{"$f":"SUMIF(BDD!$BC$2:$BC$685,\"Banc 007VRAIFAUXFAUXFAUXVRAI\",BDD!$V$2:$V$685)","v":0},{"$f":"SUMIF(BDD!$BC$2:$BC$685,\"Banc 007FAUXVRAIVRAIFAUXFAUX\",BDD!$V$2:$V$685)","v":0},{"$f":"SUMIF(BDD!$BC$2:$BC$685,\"Banc 007FAUXVRAIFAUXVRAIFAUX\",BDD!$V$2:$V$685)","v":0},{"$f":"SUMIF(BDD!$BC$2:$BC$685,\"Banc 007FAUXVRAIFAUXFAUXVRAI\",BDD!$V$2:$V$685)","v":0},{"$f":"SUMIF(BDD!$BC$2:$BC$685,\"Banc 007VRAIFAUXVRAIFAUXFAUX\",BDD!$V$2:$V$685)","v":0},{"$f":"SUMIF(BDD!$BC$2:$BC$685,\"Banc 007VRAIFAUXFAUXVRAIFAUX\",BDD!$V$2:$V$685)","v":0},{"$f":"SUMIF(BDD!$BC$2:$BC$685,\"Banc 007VRAIFAUXFAUXFAUXVRAI\",BDD!$V$2:$V$685)","v":0},{"$f":"SUMIF(BDD!$BC$2:$BC$685,\"Banc 007FAUXVRAIVRAIFAUXFAUX\",BDD!$V$2:$V$685)","v":0},{"$f":"SUMIF(BDD!$BC$2:$BC$685,\"Banc 007FAUXVRAIFAUXVRAIFAUX\",BDD!$V$2:$V$685)","v":0},{"$f":"SUMIF(BDD!$BC$2:$BC$685,\"Banc 007FAUXVRAIFAUXFAUXVRAI\",BDD!$V$2:$V$685)","v":0}]
["Banc 008",{"$f":"SUMIF(BDD!$BC$2:$BC$685,\"Banc 008VRAIFAUXVRAIFAUXFAUX\",BDD!$V$2:$V$685)","v":0},{"$f":"SUMIF(BDD!$BC$2:$BC$685,\"Banc 008VRAIFAUXFAUXVRAIFAUX\",BDD!$V$2:$V$685)","v":0},{"$f":"SUMIF(BDD!$BC$2:$BC$685,\"Banc 008VRAIFAUXFAUXFAUXVRAI\",BDD!$V$2:$V$685)","v":0},{"$f":"SUMIF(BDD!$BC$2:$BC$685,\"Banc 008FAUXVRAIVRAIFAUXFAUX\",BDD!$V$2:$V$685)","v":0},{"$f":"SUMIF(BDD!$BC$2:$BC$685,\"Banc 008FAUXVRAIFAUXVRAIFAUX\",BDD!$V$2:$V$685)","v":0},{"$f":"SUMIF(BDD!$BC$2:$BC$685,\"Banc 008FAUXVRAIFAUXFAUXVRAI\",BDD!$V$2:$V$685)","v":0},{"$f":"SUMIF(BDD!$BC$2:$BC$685,\"Banc 008VRAIFAUXVRAIFAUXFAUX\",BDD!$V$2:$V$685)","v":0},{"$f":"SUMIF(BDD!$BC$2:$BC$685,\"Banc 008VRAIFAUXFAUXVRAIFAUX\",BDD!$V$2:$V$685)","v":0},{"$f":"SUMIF(BDD!$BC$2:$BC$685,\"Banc 008VRAIFAUXFAUXFAUXVRAI\",BDD!$V$2:$V$685)","v":0},{"$f":"SUMIF(BDD!$BC$2:$BC$685,\"Banc 008FAUXVRAIVRAIFAUXFAUX\",BDD!$V$2:$V$685)","v":0},{"$f":"SUMIF(BDD!$BC$2:$BC$685,\"Banc 008FAUXVRAIFAUXVRAIFAUX\",BDD!$V$2:$V$685)","v":0},{"$f":"SUMIF(BDD!$BC$2:$BC$685,\"Banc 008FAUXVRAIFAUXFAUXVRAI\",BDD!$V$2:$V$685)","v":0},{"$f":"SUMIF(BDD!$BC$2:$BC$685,\"Banc 008VRAIFAUXVRAIFAUXFAUX\",BDD!$V$2:$V$685)","v":0},{"$f":"SUMIF(BDD!$BC$2:$BC$685,\"Banc 008VRAIFAUXFAUXVRAIFAUX\",BDD!$V$2:$V$685)","v":0},{"$f":"SUMIF(BDD!$BC$2:$BC$685,\"Banc 008VRAIFAUXFAUXFAUXVRAI\",BDD!$V$2:$V$685)","v":0},{"$f":"SUMIF(BDD!$BC$2:$BC$685,\"Banc 008FAUXVRAIVRAIFAUXFAUX\",BDD!$V$2:$V$685)","v":0},{"$f":"SUMIF(BDD!$BC$2:$BC$685,\"Banc 008FAUXVRAIFAUXVRAIFAUX\",BDD!$V$2:$V$685)","v":0},{"$f":"SUMIF(BDD!$BC$2:$BC$685,\"Banc 008FAUXVRAIFAUXFAUXVRAI\",BDD!$V$2:$V$685)","v":0},{"$f":"SUMIF(BDD!$BC$2:$BC$685,\"Banc 008VRAIFAUXVRAIFAUXFAUX\",BDD!$V$2:$V$685)","v":0},{"$f":"SUMIF(BDD!$BC$2:$BC$685,\"Banc 008VRAIFAUXFAUXVRAIFAUX\",BDD!$V$2:$V$685)","v":0},{"$f":"SUMIF(BDD!$BC$2:$BC$685,\"Banc 008VRAIFAUXFAUXFAUXVRAI\",BDD!$V$2:$V$685)","v":0},{"$f":"SUMIF(BDD!$BC$2:$BC$685,\"Banc 008FAUXVRAIVRAIFAUXFAUX\",BDD!$V$2:$V$685)","v":0},{"$f":"SUMIF(BDD!$BC$2:$BC$685,\"Banc 008FAUXVRAIFAUXVRAIFAUX\",BDD!$V$2:$V$685)","v":0},{"$f":"SUMIF(BDD!$BC$2:$BC$685,\"Banc 008FAUXVRAIFAUXFAUXVRAI\",BDD!$V$2:$V$685)","v":0},{"$f":"SUMIF(BDD!$BC$2:$BC$685,\"Banc 008VRAIFAUXVRAIFAUXFAUX\",BDD!$V$2:$V$685)","v":0},{"$f":"SUMIF(BDD!$BC$2:$BC$685,\"Banc 008VRAIFAUXFAUXVRAIFAUX\",BDD!$V$2:$V$685)","v":0},{"$f":"SUMIF(BDD!$BC$2:$BC$685,\"Banc 008VRAIFAUXFAUXFAUXVRAI\",BDD!$V$2:$V$685)","v":0},{"$f":"SUMIF(BDD!$BC$2:$BC$685,\"Banc 008FAUXVRAIVRAIFAUXFAUX\",BDD!$V$2:$V$685)","v":0},{"$f":"SUMIF(BDD!$BC$2:$BC$685,\"Banc 008FAUXVRAIFAUXVRAIFAUX\",BDD!$V$2:$V$685)","v":0},{"$f":"SUMIF(BDD!$BC$2:$BC$685,\"Banc 008FAUXVRAIFAUXFAUXVRAI\",BDD!$V$2:$V$685)","v":0},{"$f":"SUMIF(BDD!$BC$2:$BC$685,\"Banc 008VRAIFAUXVRAIFAUXFAUX\",BDD!$V$2:$V$685)","v":0},{"$f":"SUMIF(BDD!$BC$2:$BC$685,\"Banc 008VRAIFAUXFAUXVRAIFAUX\",BDD!$V$2:$V$685)","v":0},{"$f":"SUMIF(BDD!$BC$2:$BC$685,\"Banc 008VRAIFAUXFAUXFAUXVRAI\",BDD!$V$2:$V$685)","v":0},{"$f":"SUMIF(BDD!$BC$2:$BC$685,\"Banc 008FAUXVRAIVRAIFAUXFAUX\",BDD!$V$2:$V$685)","v":0},{"$f":"SUMIF(BDD!$BC$2:$BC$685,\"Banc 008FAUXVRAIFAUXVRAIFAUX\",BDD!$V$2:$V$685)","v":0},{"$f":"SUMIF(BDD!$BC$2:$BC$685,\"Banc 008FAUXVRAIFAUXFAUXVRAI\",BDD!$V$2:$V$685)","v":0},{"$f":"SUMIF(BDD!$BC$2:$BC$685,\"Banc 008VRAIFAUXVRAIFAUXFAUX\",BDD!$V$2:$V$685)","v":0},{"$f":"SUMIF(BDD!$BC$2:$BC$685,\"Banc 008VRAIFAUXFAUXVRAIFAUX\",BDD!$V$2:$V$685)","v":0},{"$f":"SUMIF(BDD!$BC$2:$BC$685,\"Banc 008VRAIFAUXFAUXFAUXVRAI\",BDD!$V$2:$V$685)","v":0},{"$f":"SUMIF(BDD!$BC$2:$BC$685,\"Banc 008FAUXVRAIVRAIFAUXFAUX\",BDD!$V$2:$V$685)","v":0},{"$f":"SUMIF(BDD!$BC$2:$BC$685,\"Banc 008FAUXVRAIFAUXVRAIFAUX\",BDD!$V$2:$V$685)","v":0},{"$f":"SUMIF(BDD!$BC$2:$BC$685,\"Banc 008FAUXVRAIFAUXFAUXVRAI\",BDD!$V$2:$V$685)","v":0},{"$f":"SUMIF(BDD!$BC$2:$BC$685,\"Banc 008VRAIFAUXVRAIFAUXFAUX\",BDD!$V$2:$V$685)","v":0},{"$f":"SUMIF(BDD!$BC$2:$BC$685,\"Banc 008VRAIFAUXFAUXVRAIFAUX\",BDD!$V$2:$V$685)","v":0},{"$f":"SUMIF(BDD!$BC$2:$BC$685,\"Banc 008VRAIFAUXFAUXFAUXVRAI\",BDD!$V$2:$V$685)","v":0},{"$f":"SUMIF(BDD!$BC$2:$BC$685,\"Banc 008FAUXVRAIVRAIFAUXFAUX\",BDD!$V$2:$V$685)","v":0},{"$f":"SUMIF(BDD!$BC$2:$BC$685,\"Banc 008FAUXVRAIFAUXVRAIFAUX\",BDD!$V$2:$V$685)","v":0},{"$f":"SUMIF(BDD!$BC$2:$BC$685,\"Banc 008FAUXVRAIFAUXFAUXVRAI\",BDD!$V$2:$V$685)","v":0},{"$f":"SUMIF(BDD!$BC$2:$BC$685,\"Banc 008VRAIFAUXVRAIFAUXFAUX\",BDD!$V$2:$V$685)","v":0},{"$f":"SUMIF(BDD!$BC$2:$BC$685,\"Banc 008VRAIFAUXFAUXVRAIFAUX\",BDD!$V$2:$V$685)","v":0},{"$f":"SUMIF(BDD!$BC$2:$BC$685,\"Banc 008VRAIFAUXFAUXFAUXVRAI\",BDD!$V$2:$V$685)","v":0},{"$f":"SUMIF(BDD!$BC$2:$BC$685,\"Banc 008FAUXVRAIVRAIFAUXFAUX\",BDD!$V$2:$V$685)","v":0},{"$f":"SUMIF(BDD!$BC$2:$BC$685,\"Banc 008FAUXVRAIFAUXVRAIFAUX\",BDD!$V$2:$V$685)","v":0},{"$f":"SUMIF(BDD!$BC$2:$BC$685,\"Banc 008FAUXVRAIFAUXFAUXVRAI\",BDD!$V$2:$V$685)","v":0},{"$f":"SUMIF(BDD!$BC$2:$BC$685,\"Banc 008VRAIFAUXVRAIFAUXFAUX\",BDD!$V$2:$V$685)","v":0},{"$f":"SUMIF(BDD!$BC$2:$BC$685,\"Banc 008VRAIFAUXFAUXVRAIFAUX\",BDD!$V$2:$V$685)","v":0},{"$f":"SUMIF(BDD!$BC$2:$BC$685,\"Banc 008VRAIFAUXFAUXFAUXVRAI\",BDD!$V$2:$V$685)","v":0},{"$f":"SUMIF(BDD!$BC$2:$BC$685,\"Banc 008FAUXVRAIVRAIFAUXFAUX\",BDD!$V$2:$V$685)","v":0},{"$f":"SUMIF(BDD!$BC$2:$BC$685,\"Banc 008FAUXVRAIFAUXVRAIFAUX\",BDD!$V$2:$V$685)","v":0},{"$f":"SUMIF(BDD!$BC$2:$BC$685,\"Banc 008FAUXVRAIFAUXFAUXVRAI\",BDD!$V$2:$V$685)","v":0},{"$f":"SUMIF(BDD!$BC$2:$BC$685,\"Banc 008VRAIFAUXVRAIFAUXFAUX\",BDD!$V$2:$V$685)","v":0},{"$f":"SUMIF(BDD!$BC$2:$BC$685,\"Banc 008VRAIFAUXFAUXVRAIFAUX\",BDD!$V$2:$V$685)","v":0},{"$f":"SUMIF(BDD!$BC$2:$BC$685,\"Banc 008VRAIFAUXFAUXFAUXVRAI\",BDD!$V$2:$V$685)","v":0},{"$f":"SUMIF(BDD!$BC$2:$BC$685,\"Banc 008FAUXVRAIVRAIFAUXFAUX\",BDD!$V$2:$V$685)","v":0},{"$f":"SUMIF(BDD!$BC$2:$BC$685,\"Banc 008FAUXVRAIFAUXVRAIFAUX\",BDD!$V$2:$V$685)","v":0},{"$f":"SUMIF(BDD!$BC$2:$BC$685,\"Banc 008FAUXVRAIFAUXFAUXVRAI\",BDD!$V$2:$V$685)","v":0},{"$f":"SUMIF(BDD!$BC$2:$BC$685,\"Banc 008VRAIFAUXVRAIFAUXFAUX\",BDD!$V$2:$V$685)","v":0},{"$f":"SUMIF(BDD!$BC$2:$BC$685,\"Banc 008VRAIFAUXFAUXVRAIFAUX\",BDD!$V$2:$V$685)","v":0},{"$f":"SUMIF(BDD!$BC$2:$BC$685,\"Banc 008VRAIFAUXFAUXFAUXVRAI\",BDD!$V$2:$V$685)","v":0},{"$f":"SUMIF(BDD!$BC$2:$BC$685,\"Banc 008FAUXVRAIVRAIFAUXFAUX\",BDD!$V$2:$V$685)","v":0},{"$f":"SUMIF(BDD!$BC$2:$BC$685,\"Banc 008FAUXVRAIFAUXVRAIFAUX\",BDD!$V$2:$V$685)","v":0},{"$f":"SUMIF(BDD!$BC$2:$BC$685,\"Banc 008FAUXVRAIFAUXFAUXVRAI\",BDD!$V$2:$V$685)","v":0}]
["Banc 113",{"$f":"SUMIF(BDD!$BC$2:$BC$685,\"Banc 113VRAIFAUXVRAIFAUXFAUX\",BDD!$V$2:$V$685)","v":0},{"$f":"SUMIF(BDD!$BC$2:$BC$685,\"Banc 113VRAIFAUXFAUXVRAIFAUX\",BDD!$V$2:$V$685)","v":0},{"$f":"SUMIF(BDD!$BC$2:$BC$685,\"Banc 113VRAIFAUXFAUXFAUXVRAI\",BDD!$V$2:$V$685)","v":0},{"$f":"SUMIF(BDD!$BC$2:$BC$685,\"Banc 113FAUXVRAIVRAIFAUXFAUX\",BDD!$V$2:$V$685)","v":0},{"$f":"SUMIF(BDD!$BC$2:$BC$685,\"Banc 113FAUXVRAIFAUXVRAIFAUX\",BDD!$V$2:$V$685)","v":0},{"$f":"SUMIF(BDD!$BC$2:$BC$685,\"Banc 113FAUXVRAIFAUXFAUXVRAI\",BDD!$V$2:$V$685)","v":0},{"$f":"SUMIF(BDD!$BC$2:$BC$685,\"Banc 113VRAIFAUXVRAIFAUXFAUX\",BDD!$V$2:$V$685)","v":0},{"$f":"SUMIF(BDD!$BC$2:$BC$685,\"Banc 113VRAIFAUXFAUXVRAIFAUX\",BDD!$V$2:$V$685)","v":0},{"$f":"SUMIF(BDD!$BC$2:$BC$685,\"Banc 113VRAIFAUXFAUXFAUXVRAI\",BDD!$V$2:$V$685)","v":0},{"$f":"SUMIF(BDD!$BC$2:$BC$685,\"Banc 113FAUXVRAIVRAIFAUXFAUX\",BDD!$V$2:$V$685)","v":0},{"$f":"SUMIF(BDD!$BC$2:$BC$685,\"Banc 113FAUXVRAIFAUXVRAIFAUX\",BDD!$V$2:$V$685)","v":0},{"$f":"SUMIF(BDD!$BC$2:$BC$685,\"Banc 113FAUXVRAIFAUXFAUXVRAI\",BDD!$V$2:$V$685)","v":0},{"$f":"SUMIF(BDD!$BC$2:$BC$685,\"Banc 113VRAIFAUXVRAIFAUXFAUX\",BDD!$V$2:$V$685)","v":0},{"$f":"SUMIF(BDD!$BC$2:$BC$685,\"Banc 113VRAIFAUXFAUXVRAIFAUX\",BDD!$V$2:$V$685)","v":0},{"$f":"SUMIF(BDD!$BC$2:$BC$685,\"Banc 113VRAIFAUXFAUXFAUXVRAI\",BDD!$V$2:$V$685)","v":0},{"$f":"SUMIF(BDD!$BC$2:$BC$685,\"Banc 113FAUXVRAIVRAIFAUXFAUX\",BDD!$V$2:$V$685)","v":0},{"$f":"SUMIF(BDD!$BC$2:$BC$685,\"Banc 113FAUXVRAIFAUXVRAIFAUX\",BDD!$V$2:$V$685)","v":0},{"$f":"SUMIF(BDD!$BC$2:$BC$685,\"Banc 113FAUXVRAIFAUXFAUXVRAI\",BDD!$V$2:$V$685)","v":0},{"$f":"SUMIF(BDD!$BC$2:$BC$685,\"Banc 113VRAIFAUXVRAIFAUXFAUX\",BDD!$V$2:$V$685)","v":0},{"$f":"SUMIF(BDD!$BC$2:$BC$685,\"Banc 113VRAIFAUXFAUXVRAIFAUX\",BDD!$V$2:$V$685)","v":0},{"$f":"SUMIF(BDD!$BC$2:$BC$685,\"Banc 113VRAIFAUXFAUXFAUXVRAI\",BDD!$V$2:$V$685)","v":0},{"$f":"SUMIF(BDD!$BC$2:$BC$685,\"Banc 113FAUXVRAIVRAIFAUXFAUX\",BDD!$V$2:$V$685)","v":0},{"$f":"SUMIF(BDD!$BC$2:$BC$685,\"Banc 113FAUXVRAIFAUXVRAIFAUX\",BDD!$V$2:$V$685)","v":0},{"$f":"SUMIF(BDD!$BC$2:$BC$685,\"Banc 113FAUXVRAIFAUXFAUXVRAI\",BDD!$V$2:$V$685)","v":0},{"$f":"SUMIF(BDD!$BC$2:$BC$685,\"Banc 113VRAIFAUXVRAIFAUXFAUX\",BDD!$V$2:$V$685)","v":0},{"$f":"SUMIF(BDD!$BC$2:$BC$685,\"Banc 113VRAIFAUXFAUXVRAIFAUX\",BDD!$V$2:$V$685)","v":0},{"$f":"SUMIF(BDD!$BC$2:$BC$685,\"Banc 113VRAIFAUXFAUXFAUXVRAI\",BDD!$V$2:$V$685)","v":0},{"$f":"SUMIF(BDD!$BC$2:$BC$685,\"Banc 113FAUXVRAIVRAIFAUXFAUX\",BDD!$V$2:$V$685)","v":0},{"$f":"SUMIF(BDD!$BC$2:$BC$685,\"Banc 113FAUXVRAIFAUXVRAIFAUX\",BDD!$V$2:$V$685)","v":0},{"$f":"SUMIF(BDD!$BC$2:$BC$685,\"Banc 113FAUXVRAIFAUXFAUXVRAI\",BDD!$V$2:$V$685)","v":0},{"$f":"SUMIF(BDD!$BC$2:$BC$685,\"Banc 113VRAIFAUXVRAIFAUXFAUX\",BDD!$V$2:$V$685)","v":0},{"$f":"SUMIF(BDD!$BC$2:$BC$685,\"Banc 113VRAIFAUXFAUXVRAIFAUX\",BDD!$V$2:$V$685)","v":0},{"$f":"SUMIF(BDD!$BC$2:$BC$685,\"Banc 113VRAIFAUXFAUXFAUXVRAI\",BDD!$V$2:$V$685)","v":0},{"$f":"SUMIF(BDD!$BC$2:$BC$685,\"Banc 113FAUXVRAIVRAIFAUXFAUX\",BDD!$V$2:$V$685)","v":0},{"$f":"SUMIF(BDD!$BC$2:$BC$685,\"Banc 113FAUXVRAIFAUXVRAIFAUX\",BDD!$V$2:$V$685)","v":0},{"$f":"SUMIF(BDD!$BC$2:$BC$685,\"Banc 113FAUXVRAIFAUXFAUXVRAI\",BDD!$V$2:$V$685)","v":0},{"$f":"SUMIF(BDD!$BC$2:$BC$685,\"Banc 113VRAIFAUXVRAIFAUXFAUX\",BDD!$V$2:$V$685)","v":0},{"$f":"SUMIF(BDD!$BC$2:$BC$685,\"Banc 113VRAIFAUXFAUXVRAIFAUX\",BDD!$V$2:$V$685)","v":0},{"$f":"SUMIF(BDD!$BC$2:$BC$685,\"Banc 113VRAIFAUXFAUXFAUXVRAI\",BDD!$V$2:$V$685)","v":0},{"$f":"SUMIF(BDD!$BC$2:$BC$685,\"Banc 113FAUXVRAIVRAIFAUXFAUX\",BDD!$V$2:$V$685)","v":0},{"$f":"SUMIF(BDD!$BC$2:$BC$685,\"Banc 113FAUXVRAIFAUXVRAIFAUX\",BDD!$V$2:$V$685)","v":0},{"$f":"SUMIF(BDD!$BC$2:$BC$685,\"Banc 113FAUXVRAIFAUXFAUXVRAI\",BDD!$V$2:$V$685)","v":0},{"$f":"SUMIF(BDD!$BC$2:$BC$685,\"Banc 113VRAIFAUXVRAIFAUXFAUX\",BDD!$V$2:$V$685)","v":0},{"$f":"SUMIF(BDD!$BC$2:$BC$685,\"Banc 113VRAIFAUXFAUXVRAIFAUX\",BDD!$V$2:$V$685)","v":0},{"$f":"SUMIF(BDD!$BC$2:$BC$685,\"Banc 113VRAIFAUXFAUXFAUXVRAI\",BDD!$V$2:$V$685)","v":0},{"$f":"SUMIF(BDD!$BC$2:$BC$685,\"Banc 113FAUXVRAIVRAIFAUXFAUX\",BDD!$V$2:$V$685)","v":0},{"$f":"SUMIF(BDD!$BC$2:$BC$685,\"Banc 113FAUXVRAIFAUXVRAIFAUX\",BDD!$V$2:$V$685)","v":0},{"$f":"SUMIF(BDD!$BC$2:$BC$685,\"Banc 113FAUXVRAIFAUXFAUXVRAI\",BDD!$V$2:$V$685)","v":0},{"$f":"SUMIF(BDD!$BC$2:$BC$685,\"Banc 113VRAIFAUXVRAIFAUXFAUX\",BDD!$V$2:$V$685)","v":0},{"$f":"SUMIF(BDD!$BC$2:$BC$685,\"Banc 113VRAIFAUXFAUXVRAIFAUX\",BDD!$V$2:$V$685)","v":0},{"$f":"SUMIF(BDD!$BC$2:$BC$685,\"Banc 113VRAIFAUXFAUXFAUXVRAI\",BDD!$V$2:$V$685)","v":0},{"$f":"SUMIF(BDD!$BC$2:$BC$685,\"Banc 113FAUXVRAIVRAIFAUXFAUX\",BDD!$V$2:$V$685)","v":0},{"$f":"SUMIF(BDD!$BC$2:$BC$685,\"Banc 113FAUXVRAIFAUXVRAIFAUX\",BDD!$V$2:$V$685)","v":0},{"$f":"SUMIF(BDD!$BC$2:$BC$685,\"Banc 113FAUXVRAIFAUXFAUXVRAI\",BDD!$V$2:$V$685)","v":0},{"$f":"SUMIF(BDD!$BC$2:$BC$685,\"Banc 113VRAIFAUXVRAIFAUXFAUX\",BDD!$V$2:$V$685)","v":0},{"$f":"SUMIF(BDD!$BC$2:$BC$685,\"Banc 113VRAIFAUXFAUXVRAIFAUX\",BDD!$V$2:$V$685)","v":0},{"$f":"SUMIF(BDD!$BC$2:$BC$685,\"Banc 113VRAIFAUXFAUXFAUXVRAI\",BDD!$V$2:$V$685)","v":0},{"$f":"SUMIF(BDD!$BC$2:$BC$685,\"Banc 113FAUXVRAIVRAIFAUXFAUX\",BDD!$V$2:$V$685)","v":0},{"$f":"SUMIF(BDD!$BC$2:$BC$685,\"Banc 113FAUXVRAIFAUXVRAIFAUX\",BDD!$V$2:$V$685)","v":0},{"$f":"SUMIF(BDD!$BC$2:$BC$685,\"Banc 113FAUXVRAIFAUXFAUXVRAI\",BDD!$V$2:$V$685)","v":0},{"$f":"SUMIF(BDD!$BC$2:$BC$685,\"Banc 113VRAIFAUXVRAIFAUXFAUX\",BDD!$V$2:$V$685)","v":0},{"$f":"SUMIF(BDD!$BC$2:$BC$685,\"Banc 113VRAIFAUXFAUXVRAIFAUX\",BDD!$V$2:$V$685)","v":0},{"$f":"SUMIF(BDD!$BC$2:$BC$685,\"Banc 113VRAIFAUXFAUXFAUXVRAI\",BDD!$V$2:$V$685)","v":0},{"$f":"SUMIF(BDD!$BC$2:$BC$685,\"Banc 113FAUXVRAIVRAIFAUXFAUX\",BDD!$V$2:$V$685)","v":0},{"$f":"SUMIF(BDD!$BC$2:$BC$685,\"Banc 113FAUXVRAIFAUXVRAIFAUX\",BDD!$V$2:$V$685)","v":0},{"$f":"SUMIF(BDD!$BC$2:$BC$685,\"Banc 113FAUXVRAIFAUXFAUXVRAI\",BDD!$V$2:$V$685)","v":0},{"$f":"SUMIF(BDD!$BC$2:$BC$685,\"Banc 113VRAIFAUXVRAIFAUXFAUX\",BDD!$V$2:$V$685)","v":0},{"$f":"SUMIF(BDD!$BC$2:$BC$685,\"Banc 113VRAIFAUXFAUXVRAIFAUX\",BDD!$V$2:$V$685)","v":0},{"$f":"SUMIF(BDD!$BC$2:$BC$685,\"Banc 113VRAIFAUXFAUXFAUXVRAI\",BDD!$V$2:$V$685)","v":0},{"$f":"SUMIF(BDD!$BC$2:$BC$685,\"Banc 113FAUXVRAIVRAIFAUXFAUX\",BDD!$V$2:$V$685)","v":0},{"$f":"SUMIF(BDD!$BC$2:$BC$685,\"Banc 113FAUXVRAIFAUXVRAIFAUX\",BDD!$V$2:$V$685)","v":0},{"$f":"SUMIF(BDD!$BC$2:$BC$685,\"Banc 113FAUXVRAIFAUXFAUXVRAI\",BDD!$V$2:$V$685)","v":0}]
["Banc 115",{"$f":"SUMIF(BDD!$BC$2:$BC$685,\"Banc 115VRAIFAUXVRAIFAUXFAUX\",BDD!$V$2:$V$685)","v":0},{"$f":"SUMIF(BDD!$BC$2:$BC$685,\"Banc 115VRAIFAUXFAUXVRAIFAUX\",BDD!$V$2:$V$685)","v":0},{"$f":"SUMIF(BDD!$BC$2:$BC$685,\"Banc 115VRAIFAUXFAUXFAUXVRAI\",BDD!$V$2:$V$685)","v":0},{"$f":"SUMIF(BDD!$BC$2:$BC$685,\"Banc 115FAUXVRAIVRAIFAUXFAUX\",BDD!$V$2:$V$685)","v":0},{"$f":"SUMIF(BDD!$BC$2:$BC$685,\"Banc 115FAUXVRAIFAUXVRAIFAUX\",BDD!$V$2:$V$685)","v":0},{"$f":"SUMIF(BDD!$BC$2:$BC$685,\"Banc 115FAUXVRAIFAUXFAUXVRAI\",BDD!$V$2:$V$685)","v":0},{"$f":"SUMIF(BDD!$BC$2:$BC$685,\"Banc 115VRAIFAUXVRAIFAUXFAUX\",BDD!$V$2:$V$685)","v":0},{"$f":"SUMIF(BDD!$BC$2:$BC$685,\"Banc 115VRAIFAUXFAUXVRAIFAUX\",BDD!$V$2:$V$685)","v":0},{"$f":"SUMIF(BDD!$BC$2:$BC$685,\"Banc 115VRAIFAUXFAUXFAUXVRAI\",BDD!$V$2:$V$685)","v":0},{"$f":"SUMIF(BDD!$BC$2:$BC$685,\"Banc 115FAUXVRAIVRAIFAUXFAUX\",BDD!$V$2:$V$685)","v":0},{"$f":"SUMIF(BDD!$BC$2:$BC$685,\"Banc 115FAUXVRAIFAUXVRAIFAUX\",BDD!$V$2:$V$685)","v":0},{"$f":"SUMIF(BDD!$BC$2:$BC$685,\"Banc 115FAUXVRAIFAUXFAUXVRAI\",BDD!$V$2:$V$685)","v":0},{"$f":"SUMIF(BDD!$BC$2:$BC$685,\"Banc 115VRAIFAUXVRAIFAUXFAUX\",BDD!$V$2:$V$685)","v":0},{"$f":"SUMIF(BDD!$BC$2:$BC$685,\"Banc 115VRAIFAUXFAUXVRAIFAUX\",BDD!$V$2:$V$685)","v":0},{"$f":"SUMIF(BDD!$BC$2:$BC$685,\"Banc 115VRAIFAUXFAUXFAUXVRAI\",BDD!$V$2:$V$685)","v":0},{"$f":"SUMIF(BDD!$BC$2:$BC$685,\"Banc 115FAUXVRAIVRAIFAUXFAUX\",BDD!$V$2:$V$685)","v":0},{"$f":"SUMIF(BDD!$BC$2:$BC$685,\"Banc 115FAUXVRAIFAUXVRAIFAUX\",BDD!$V$2:$V$685)","v":0},{"$f":"SUMIF(BDD!$BC$2:$BC$685,\"Banc 115FAUXVRAIFAUXFAUXVRAI\",BDD!$V$2:$V$685)","v":0},{"$f":"SUMIF(BDD!$BC$2:$BC$685,\"Banc 115VRAIFAUXVRAIFAUXFAUX\",BDD!$V$2:$V$685)","v":0},{"$f":"SUMIF(BDD!$BC$2:$BC$685,\"Banc 115VRAIFAUXFAUXVRAIFAUX\",BDD!$V$2:$V$685)","v":0},{"$f":"SUMIF(BDD!$BC$2:$BC$685,\"Banc 115VRAIFAUXFAUXFAUXVRAI\",BDD!$V$2:$V$685)","v":0},{"$f":"SUMIF(BDD!$BC$2:$BC$685,\"Banc 115FAUXVRAIVRAIFAUXFAUX\",BDD!$V$2:$V$685)","v":0},{"$f":"SUMIF(BDD!$BC$2:$BC$685,\"Banc 115FAUXVRAIFAUXVRAIFAUX\",BDD!$V$2:$V$685)","v":0},{"$f":"SUMIF(BDD!$BC$2:$BC$685,\"Banc 115FAUXVRAIFAUXFAUXVRAI\",BDD!$V$2:$V$685)","v":0},{"$f":"SUMIF(BDD!$BC$2:$BC$685,\"Banc 115VRAIFAUXVRAIFAUXFAUX\",BDD!$V$2:$V$685)","v":0},{"$f":"SUMIF(BDD!$BC$2:$BC$685,\"Banc 115VRAIFAUXFAUXVRAIFAUX\",BDD!$V$2:$V$685)","v":0},{"$f":"SUMIF(BDD!$BC$2:$BC$685,\"Banc 115VRAIFAUXFAUXFAUXVRAI\",BDD!$V$2:$V$685)","v":0},{"$f":"SUMIF(BDD!$BC$2:$BC$685,\"Banc 115FAUXVRAIVRAIFAUXFAUX\",BDD!$V$2:$V$685)","v":0},{"$f":"SUMIF(BDD!$BC$2:$BC$685,\"Banc 115FAUXVRAIFAUXVRAIFAUX\",BDD!$V$2:$V$685)","v":0},{"$f":"SUMIF(BDD!$BC$2:$BC$685,\"Banc 115FAUXVRAIFAUXFAUXVRAI\",BDD!$V$2:$V$685)","v":0},{"$f":"SUMIF(BDD!$BC$2:$BC$685,\"Banc 115VRAIFAUXVRAIFAUXFAUX\",BDD!$V$2:$V$685)","v":0},{"$f":"SUMIF(BDD!$BC$2:$BC$685,\"Banc 115VRAIFAUXFAUXVRAIFAUX\",BDD!$V$2:$V$685)","v":0},{"$f":"SUMIF(BDD!$BC$2:$BC$685,\"Banc 115VRAIFAUXFAUXFAUXVRAI\",BDD!$V$2:$V$685)","v":0},{"$f":"SUMIF(BDD!$BC$2:$BC$685,\"Banc 115FAUXVRAIVRAIFAUXFAUX\",BDD!$V$2:$V$685)","v":0},{"$f":"SUMIF(BDD!$BC$2:$BC$685,\"Banc 115FAUXVRAIFAUXVRAIFAUX\",BDD!$V$2:$V$685)","v":0},{"$f":"SUMIF(BDD!$BC$2:$BC$685,\"Banc 115FAUXVRAIFAUXFAUXVRAI\",BDD!$V$2:$V$685)","v":0},{"$f":"SUMIF(BDD!$BC$2:$BC$685,\"Banc 115VRAIFAUXVRAIFAUXFAUX\",BDD!$V$2:$V$685)","v":0},{"$f":"SUMIF(BDD!$BC$2:$BC$685,\"Banc 115VRAIFAUXFAUXVRAIFAUX\",BDD!$V$2:$V$685)","v":0},{"$f":"SUMIF(BDD!$BC$2:$BC$685,\"Banc 115VRAIFAUXFAUXFAUXVRAI\",BDD!$V$2:$V$685)","v":0},{"$f":"SUMIF(BDD!$BC$2:$BC$685,\"Banc 115FAUXVRAIVRAIFAUXFAUX\",BDD!$V$2:$V$685)","v":0},{"$f":"SUMIF(BDD!$BC$2:$BC$685,\"Banc 115FAUXVRAIFAUXVRAIFAUX\",BDD!$V$2:$V$685)","v":0},{"$f":"SUMIF(BDD!$BC$2:$BC$685,\"Banc 115FAUXVRAIFAUXFAUXVRAI\",BDD!$V$2:$V$685)","v":0},{"$f":"SUMIF(BDD!$BC$2:$BC$685,\"Banc 115VRAIFAUXVRAIFAUXFAUX\",BDD!$V$2:$V$685)","v":0},{"$f":"SUMIF(BDD!$BC$2:$BC$685,\"Banc 115VRAIFAUXFAUXVRAIFAUX\",BDD!$V$2:$V$685)","v":0},{"$f":"SUMIF(BDD!$BC$2:$BC$685,\"Banc 115VRAIFAUXFAUXFAUXVRAI\",BDD!$V$2:$V$685)","v":0},{"$f":"SUMIF(BDD!$BC$2:$BC$685,\"Banc 115FAUXVRAIVRAIFAUXFAUX\",BDD!$V$2:$V$685)","v":0},{"$f":"SUMIF(BDD!$BC$2:$BC$685,\"Banc 115FAUXVRAIFAUXVRAIFAUX\",BDD!$V$2:$V$685)","v":0},{"$f":"SUMIF(BDD!$BC$2:$BC$685,\"Banc 115FAUXVRAIFAUXFAUXVRAI\",BDD!$V$2:$V$685)","v":0},{"$f":"SUMIF(BDD!$BC$2:$BC$685,\"Banc 115VRAIFAUXVRAIFAUXFAUX\",BDD!$V$2:$V$685)","v":0},{"$f":"SUMIF(BDD!$BC$2:$BC$685,\"Banc 115VRAIFAUXFAUXVRAIFAUX\",BDD!$V$2:$V$685)","v":0},{"$f":"SUMIF(BDD!$BC$2:$BC$685,\"Banc 115VRAIFAUXFAUXFAUXVRAI\",BDD!$V$2:$V$685)","v":0},{"$f":"SUMIF(BDD!$BC$2:$BC$685,\"Banc 115FAUXVRAIVRAIFAUXFAUX\",BDD!$V$2:$V$685)","v":0},{"$f":"SUMIF(BDD!$BC$2:$BC$685,\"Banc 115FAUXVRAIFAUXVRAIFAUX\",BDD!$V$2:$V$685)","v":0},{"$f":"SUMIF(BDD!$BC$2:$BC$685,\"Banc 115FAUXVRAIFAUXFAUXVRAI\",BDD!$V$2:$V$685)","v":0},{"$f":"SUMIF(BDD!$BC$2:$BC$685,\"Banc 115VRAIFAUXVRAIFAUXFAUX\",BDD!$V$2:$V$685)","v":0},{"$f":"SUMIF(BDD!$BC$2:$BC$685,\"Banc 115VRAIFAUXFAUXVRAIFAUX\",BDD!$V$2:$V$685)","v":0},{"$f":"SUMIF(BDD!$BC$2:$BC$685,\"Banc 115VRAIFAUXFAUXFAUXVRAI\",BDD!$V$2:$V$685)","v":0},{"$f":"SUMIF(BDD!$BC$2:$BC$685,\"Banc 115FAUXVRAIVRAIFAUXFAUX\",BDD!$V$2:$V$685)","v":0},{"$f":"SUMIF(BDD!$BC$2:$BC$685,\"Banc 115FAUXVRAIFAUXVRAIFAUX\",BDD!$V$2:$V$685)","v":0},{"$f":"SUMIF(BDD!$BC$2:$BC$685,\"Banc 115FAUXVRAIFAUXFAUXVRAI\",BDD!$V$2:$V$685)","v":0},{"$f":"SUMIF(BDD!$BC$2:$BC$685,\"Banc 115VRAIFAUXVRAIFAUXFAUX\",BDD!$V$2:$V$685)","v":0},{"$f":"SUMIF(BDD!$BC$2:$BC$685,\"Banc 115VRAIFAUXFAUXVRAIFAUX\",BDD!$V$2:$V$685)","v":0},{"$f":"SUMIF(BDD!$BC$2:$BC$685,\"Banc 115VRAIFAUXFAUXFAUXVRAI\",BDD!$V$2:$V$685)","v":0},{"$f":"SUMIF(BDD!$BC$2:$BC$685,\"Banc 115FAUXVRAIVRAIFAUXFAUX\",BDD!$V$2:$V$685)","v":0},{"$f":"SUMIF(BDD!$BC$2:$BC$685,\"Banc 115FAUXVRAIFAUXVRAIFAUX\",BDD!$V$2:$V$685)","v":0},{"$f":"SUMIF(BDD!$BC$2:$BC$685,\"Banc 115FAUXVRAIFAUXFAUXVRAI\",BDD!$V$2:$V$685)","v":0},{"$f":"SUMIF(BDD!$BC$2:$BC$685,\"Banc 115VRAIFAUXVRAIFAUXFAUX\",BDD!$V$2:$V$685)","v":0},{"$f":"SUMIF(BDD!$BC$2:$BC$685,\"Banc 115VRAIFAUXFAUXVRAIFAUX\",BDD!$V$2:$V$685)","v":0},{"$f":"SUMIF(BDD!$BC$2:$BC$685,\"Banc 115VRAIFAUXFAUXFAUXVRAI\",BDD!$V$2:$V$685)","v":0},{"$f":"SUMIF(BDD!$BC$2:$BC$685,\"Banc 115FAUXVRAIVRAIFAUXFAUX\",BDD!$V$2:$V$685)","v":0},{"$f":"SUMIF(BDD!$BC$2:$BC$685,\"Banc 115FAUXVRAIFAUXVRAIFAUX\",BDD!$V$2:$V$685)","v":0},{"$f":"SUMIF(BDD!$BC$2:$BC$685,\"Banc 115FAUXVRAIFAUXFAUXVRAI\",BDD!$V$2:$V$685)","v":0}]
["Banc 120",{"$f":"SUMIF(BDD!$BC$2:$BC$685,\"Banc 120VRAIFAUXVRAIFAUXFAUX\",BDD!$V$2:$V$685)","v":0},{"$f":"SUMIF(BDD!$BC$2:$BC$685,\"Banc 120VRAIFAUXFAUXVRAIFAUX\",BDD!$V$2:$V$685)","v":0},{"$f":"SUMIF(BDD!$BC$2:$BC$685,\"Banc 120VRAIFAUXFAUXFAUXVRAI\",BDD!$V$2:$V$685)","v":0},{"$f":"SUMIF(BDD!$BC$2:$BC$685,\"Banc 120FAUXVRAIVRAIFAUXFAUX\",BDD!$V$2:$V$685)","v":0},{"$f":"SUMIF(BDD!$BC$2:$BC$685,\"Banc 120FAUXVRAIFAUXVRAIFAUX\",BDD!$V$2:$V$685)","v":0},{"$f":"SUMIF(BDD!$BC$2:$BC$685,\"Banc 120FAUXVRAIFAUXFAUXVRAI\",BDD!$V$2:$V$685)","v":0},{"$f":"SUMIF(BDD!$BC$2:$BC$685,\"Banc 120VRAIFAUXVRAIFAUXFAUX\",BDD!$V$2:$V$685)","v":0},{"$f":"SUMIF(BDD!$BC$2:$BC$685,\"Banc 120VRAIFAUXFAUXVRAIFAUX\",BDD!$V$2:$V$685)","v":0},{"$f":"SUMIF(BDD!$BC$2:$BC$685,\"Banc 120VRAIFAUXFAUXFAUXVRAI\",BDD!$V$2:$V$685)","v":0},{"$f":"SUMIF(BDD!$BC$2:$BC$685,\"Banc 120FAUXVRAIVRAIFAUXFAUX\",BDD!$V$2:$V$685)","v":0},{"$f":"SUMIF(BDD!$BC$2:$BC$685,\"Banc 120FAUXVRAIFAUXVRAIFAUX\",BDD!$V$2:$V$685)","v":0},{"$f":"SUMIF(BDD!$BC$2:$BC$685,\"Banc 120FAUXVRAIFAUXFAUXVRAI\",BDD!$V$2:$V$685)","v":0},{"$f":"SUMIF(BDD!$BC$2:$BC$685,\"Banc 120VRAIFAUXVRAIFAUXFAUX\",BDD!$V$2:$V$685)","v":0},{"$f":"SUMIF(BDD!$BC$2:$BC$685,\"Banc 120VRAIFAUXFAUXVRAIFAUX\",BDD!$V$2:$V$685)","v":0},{"$f":"SUMIF(BDD!$BC$2:$BC$685,\"Banc 120VRAIFAUXFAUXFAUXVRAI\",BDD!$V$2:$V$685)","v":0},{"$f":"SUMIF(BDD!$BC$2:$BC$685,\"Banc 120FAUXVRAIVRAIFAUXFAUX\",BDD!$V$2:$V$685)","v":0},{"$f":"SUMIF(BDD!$BC$2:$BC$685,\"Banc 120FAUXVRAIFAUXVRAIFAUX\",BDD!$V$2:$V$685)","v":0},{"$f":"SUMIF(BDD!$BC$2:$BC$685,\"Banc 120FAUXVRAIFAUXFAUXVRAI\",BDD!$V$2:$V$685)","v":0},{"$f":"SUMIF(BDD!$BC$2:$BC$685,\"Banc 120VRAIFAUXVRAIFAUXFAUX\",BDD!$V$2:$V$685)","v":0},{"$f":"SUMIF(BDD!$BC$2:$BC$685,\"Banc 120VRAIFAUXFAUXVRAIFAUX\",BDD!$V$2:$V$685)","v":0},{"$f":"SUMIF(BDD!$BC$2:$BC$685,\"Banc 120VRAIFAUXFAUXFAUXVRAI\",BDD!$V$2:$V$685)","v":0},{"$f":"SUMIF(BDD!$BC$2:$BC$685,\"Banc 120FAUXVRAIVRAIFAUXFAUX\",BDD!$V$2:$V$685)","v":0},{"$f":"SUMIF(BDD!$BC$2:$BC$685,\"Banc 120FAUXVRAIFAUXVRAIFAUX\",BDD!$V$2:$V$685)","v":0},{"$f":"SUMIF(BDD!$BC$2:$BC$685,\"Banc 120FAUXVRAIFAUXFAUXVRAI\",BDD!$V$2:$V$685)","v":0},{"$f":"SUMIF(BDD!$BC$2:$BC$685,\"Banc 120VRAIFAUXVRAIFAUXFAUX\",BDD!$V$2:$V$685)","v":0},{"$f":"SUMIF(BDD!$BC$2:$BC$685,\"Banc 120VRAIFAUXFAUXVRAIFAUX\",BDD!$V$2:$V$685)","v":0},{"$f":"SUMIF(BDD!$BC$2:$BC$685,\"Banc 120VRAIFAUXFAUXFAUXVRAI\",BDD!$V$2:$V$685)","v":0},{"$f":"SUMIF(BDD!$BC$2:$BC$685,\"Banc 120FAUXVRAIVRAIFAUXFAUX\",BDD!$V$2:$V$685)","v":0},{"$f":"SUMIF(BDD!$BC$2:$BC$685,\"Banc 120FAUXVRAIFAUXVRAIFAUX\",BDD!$V$2:$V$685)","v":0},{"$f":"SUMIF(BDD!$BC$2:$BC$685,\"Banc 120FAUXVRAIFAUXFAUXVRAI\",BDD!$V$2:$V$685)","v":0},{"$f":"SUMIF(BDD!$BC$2:$BC$685,\"Banc 120VRAIFAUXVRAIFAUXFAUX\",BDD!$V$2:$V$685)","v":0},{"$f":"SUMIF(BDD!$BC$2:$BC$685,\"Banc 120VRAIFAUXFAUXVRAIFAUX\",BDD!$V$2:$V$685)","v":0},{"$f":"SUMIF(BDD!$BC$2:$BC$685,\"Banc 120VRAIFAUXFAUXFAUXVRAI\",BDD!$V$2:$V$685)","v":0},{"$f":"SUMIF(BDD!$BC$2:$BC$685,\"Banc 120FAUXVRAIVRAIFAUXFAUX\",BDD!$V$2:$V$685)","v":0},{"$f":"SUMIF(BDD!$BC$2:$BC$685,\"Banc 120FAUXVRAIFAUXVRAIFAUX\",BDD!$V$2:$V$685)","v":0},{"$f":"SUMIF(BDD!$BC$2:$BC$685,\"Banc 120FAUXVRAIFAUXFAUXVRAI\",BDD!$V$2:$V$685)","v":0},{"$f":"SUMIF(BDD!$BC$2:$BC$685,\"Banc 120VRAIFAUXVRAIFAUXFAUX\",BDD!$V$2:$V$685)","v":0},{"$f":"SUMIF(BDD!$BC$2:$BC$685,\"Banc 120VRAIFAUXFAUXVRAIFAUX\",BDD!$V$2:$V$685)","v":0},{"$f":"SUMIF(BDD!$BC$2:$BC$685,\"Banc 120VRAIFAUXFAUXFAUXVRAI\",BDD!$V$2:$V$685)","v":0},{"$f":"SUMIF(BDD!$BC$2:$BC$685,\"Banc 120FAUXVRAIVRAIFAUXFAUX\",BDD!$V$2:$V$685)","v":0},{"$f":"SUMIF(BDD!$BC$2:$BC$685,\"Banc 120FAUXVRAIFAUXVRAIFAUX\",BDD!$V$2:$V$685)","v":0},{"$f":"SUMIF(BDD!$BC$2:$BC$685,\"Banc 120FAUXVRAIFAUXFAUXVRAI\",BDD!$V$2:$V$685)","v":0},{"$f":"SUMIF(BDD!$BC$2:$BC$685,\"Banc 120VRAIFAUXVRAIFAUXFAUX\",BDD!$V$2:$V$685)","v":0},{"$f":"SUMIF(BDD!$BC$2:$BC$685,\"Banc 120VRAIFAUXFAUXVRAIFAUX\",BDD!$V$2:$V$685)","v":0},{"$f":"SUMIF(BDD!$BC$2:$BC$685,\"Banc 120VRAIFAUXFAUXFAUXVRAI\",BDD!$V$2:$V$685)","v":0},{"$f":"SUMIF(BDD!$BC$2:$BC$685,\"Banc 120FAUXVRAIVRAIFAUXFAUX\",BDD!$V$2:$V$685)","v":0},{"$f":"SUMIF(BDD!$BC$2:$BC$685,\"Banc 120FAUXVRAIFAUXVRAIFAUX\",BDD!$V$2:$V$685)","v":0},{"$f":"SUMIF(BDD!$BC$2:$BC$685,\"Banc 120FAUXVRAIFAUXFAUXVRAI\",BDD!$V$2:$V$685)","v":0},{"$f":"SUMIF(BDD!$BC$2:$BC$685,\"Banc 120VRAIFAUXVRAIFAUXFAUX\",BDD!$V$2:$V$685)","v":0},{"$f":"SUMIF(BDD!$BC$2:$BC$685,\"Banc 120VRAIFAUXFAUXVRAIFAUX\",BDD!$V$2:$V$685)","v":0},{"$f":"SUMIF(BDD!$BC$2:$BC$685,\"Banc 120VRAIFAUXFAUXFAUXVRAI\",BDD!$V$2:$V$685)","v":0},{"$f":"SUMIF(BDD!$BC$2:$BC$685,\"Banc 120FAUXVRAIVRAIFAUXFAUX\",BDD!$V$2:$V$685)","v":0},{"$f":"SUMIF(BDD!$BC$2:$BC$685,\"Banc 120FAUXVRAIFAUXVRAIFAUX\",BDD!$V$2:$V$685)","v":0},{"$f":"SUMIF(BDD!$BC$2:$BC$685,\"Banc 120FAUXVRAIFAUXFAUXVRAI\",BDD!$V$2:$V$685)","v":0},{"$f":"SUMIF(BDD!$BC$2:$BC$685,\"Banc 120VRAIFAUXVRAIFAUXFAUX\",BDD!$V$2:$V$685)","v":0},{"$f":"SUMIF(BDD!$BC$2:$BC$685,\"Banc 120VRAIFAUXFAUXVRAIFAUX\",BDD!$V$2:$V$685)","v":0},{"$f":"SUMIF(BDD!$BC$2:$BC$685,\"Banc 120VRAIFAUXFAUXFAUXVRAI\",BDD!$V$2:$V$685)","v":0},{"$f":"SUMIF(BDD!$BC$2:$BC$685,\"Banc 120FAUXVRAIVRAIFAUXFAUX\",BDD!$V$2:$V$685)","v":0},{"$f":"SUMIF(BDD!$BC$2:$BC$685,\"Banc 120FAUXVRAIFAUXVRAIFAUX\",BDD!$V$2:$V$685)","v":0},{"$f":"SUMIF(BDD!$BC$2:$BC$685,\"Banc 120FAUXVRAIFAUXFAUXVRAI\",BDD!$V$2:$V$685)","v":0},{"$f":"SUMIF(BDD!$BC$2:$BC$685,\"Banc 120VRAIFAUXVRAIFAUXFAUX\",BDD!$V$2:$V$685)","v":0},{"$f":"SUMIF(BDD!$BC$2:$BC$685,\"Banc 120VRAIFAUXFAUXVRAIFAUX\",BDD!$V$2:$V$685)","v":0},{"$f":"SUMIF(BDD!$BC$2:$BC$685,\"Banc 120VRAIFAUXFAUXFAUXVRAI\",BDD!$V$2:$V$685)","v":0},{"$f":"SUMIF(BDD!$BC$2:$BC$685,\"Banc 120FAUXVRAIVRAIFAUXFAUX\",BDD!$V$2:$V$685)","v":0},{"$f":"SUMIF(BDD!$BC$2:$BC$685,\"Banc 120FAUXVRAIFAUXVRAIFAUX\",BDD!$V$2:$V$685)","v":0},{"$f":"SUMIF(BDD!$BC$2:$BC$685,\"Banc 120FAUXVRAIFAUXFAUXVRAI\",BDD!$V$2:$V$685)","v":0},{"$f":"SUMIF(BDD!$BC$2:$BC$685,\"Banc 120VRAIFAUXVRAIFAUXFAUX\",BDD!$V$2:$V$685)","v":0},{"$f":"SUMIF(BDD!$BC$2:$BC$685,\"Banc 120VRAIFAUXFAUXVRAIFAUX\",BDD!$V$2:$V$685)","v":0},{"$f":"SUMIF(BDD!$BC$2:$BC$685,\"Banc 120VRAIFAUXFAUXFAUXVRAI\",BDD!$V$2:$V$685)","v":0},{"$f":"SUMIF(BDD!$BC$2:$BC$685,\"Banc 120FAUXVRAIVRAIFAUXFAUX\",BDD!$V$2:$V$685)","v":0},{"$f":"SUMIF(BDD!$BC$2:$BC$685,\"Banc 120FAUXVRAIFAUXVRAIFAUX\",BDD!$V$2:$V$685)","v":0},{"$f":"SUMIF(BDD!$BC$2:$BC$685,\"Banc 120FAUXVRAIFAUXFAUXVRAI\",BDD!$V$2:$V$685)","v":0}]
["Banc 120 bis",{"$f":"SUMIF(BDD!$BC$2:$BC$685,\"Banc 120 BISVRAIFAUXVRAIFAUXFAUX\",BDD!$V$2:$V$685)","v":0},{"$f":"SUMIF(BDD!$BC$2:$BC$685,\"Banc 120 BISVRAIFAUXFAUXVRAIFAUX\",BDD!$V$2:$V$685)","v":0},{"$f":"SUMIF(BDD!$BC$2:$BC$685,\"Banc 120 bisVRAIFAUXFAUXFAUXVRAI\",BDD!$V$2:$V$685)","v":0},{"$f":"SUMIF(BDD!$BC$2:$BC$685,\"Banc 120 bisFAUXVRAIVRAIFAUXFAUX\",BDD!$V$2:$V$685)","v":0},{"$f":"SUMIF(BDD!$BC$2:$BC$685,\"Banc 120 bisFAUXVRAIFAUXVRAIFAUX\",BDD!$V$2:$V$685)","v":0},{"$f":"SUMIF(BDD!$BC$2:$BC$685,\"Banc 120 bisFAUXVRAIFAUXFAUXVRAI\",BDD!$V$2:$V$685)","v":0},{"$f":"SUMIF(BDD!$BC$2:$BC$685,\"Banc 120 BISVRAIFAUXVRAIFAUXFAUX\",BDD!$V$2:$V$685)","v":0},{"$f":"SUMIF(BDD!$BC$2:$BC$685,\"Banc 120 BISVRAIFAUXFAUXVRAIFAUX\",BDD!$V$2:$V$685)","v":0},{"$f":"SUMIF(BDD!$BC$2:$BC$685,\"Banc 120 bisVRAIFAUXFAUXFAUXVRAI\",BDD!$V$2:$V$685)","v":0},{"$f":"SUMIF(BDD!$BC$2:$BC$685,\"Banc 120 bisFAUXVRAIVRAIFAUXFAUX\",BDD!$V$2:$V$685)","v":0},{"$f":"SUMIF(BDD!$BC$2:$BC$685,\"Banc 120 bisFAUXVRAIFAUXVRAIFAUX\",BDD!$V$2:$V$685)","v":0},{"$f":"SUMIF(BDD!$BC$2:$BC$685,\"Banc 120 bisFAUXVRAIFAUXFAUXVRAI\",BDD!$V$2:$V$685)","v":0},{"$f":"SUMIF(BDD!$BC$2:$BC$685,\"Banc 120 BISVRAIFAUXVRAIFAUXFAUX\",BDD!$V$2:$V$685)","v":0},{"$f":"SUMIF(BDD!$BC$2:$BC$685,\"Banc 120 BISVRAIFAUXFAUXVRAIFAUX\",BDD!$V$2:$V$685)","v":0},{"$f":"SUMIF(BDD!$BC$2:$BC$685,\"Banc 120 bisVRAIFAUXFAUXFAUXVRAI\",BDD!$V$2:$V$685)","v":0},{"$f":"SUMIF(BDD!$BC$2:$BC$685,\"Banc 120 bisFAUXVRAIVRAIFAUXFAUX\",BDD!$V$2:$V$685)","v":0},{"$f":"SUMIF(BDD!$BC$2:$BC$685,\"Banc 120 bisFAUXVRAIFAUXVRAIFAUX\",BDD!$V$2:$V$685)","v":0},{"$f":"SUMIF(BDD!$BC$2:$BC$685,\"Banc 120 bisFAUXVRAIFAUXFAUXVRAI\",BDD!$V$2:$V$685)","v":0},{"$f":"SUMIF(BDD!$BC$2:$BC$685,\"Banc 120 BISVRAIFAUXVRAIFAUXFAUX\",BDD!$V$2:$V$685)","v":0},{"$f":"SUMIF(BDD!$BC$2:$BC$685,\"Banc 120 BISVRAIFAUXFAUXVRAIFAUX\",BDD!$V$2:$V$685)","v":0},{"$f":"SUMIF(BDD!$BC$2:$BC$685,\"Banc 120 bisVRAIFAUXFAUXFAUXVRAI\",BDD!$V$2:$V$685)","v":0},{"$f":"SUMIF(BDD!$BC$2:$BC$685,\"Banc 120 bisFAUXVRAIVRAIFAUXFAUX\",BDD!$V$2:$V$685)","v":0},{"$f":"SUMIF(BDD!$BC$2:$BC$685,\"Banc 120 bisFAUXVRAIFAUXVRAIFAUX\",BDD!$V$2:$V$685)","v":0},{"$f":"SUMIF(BDD!$BC$2:$BC$685,\"Banc 120 bisFAUXVRAIFAUXFAUXVRAI\",BDD!$V$2:$V$685)","v":0},{"$f":"SUMIF(BDD!$BC$2:$BC$685,\"Banc 120 BISVRAIFAUXVRAIFAUXFAUX\",BDD!$V$2:$V$685)","v":0},{"$f":"SUMIF(BDD!$BC$2:$BC$685,\"Banc 120 BISVRAIFAUXFAUXVRAIFAUX\",BDD!$V$2:$V$685)","v":0},{"$f":"SUMIF(BDD!$BC$2:$BC$685,\"Banc 120 bisVRAIFAUXFAUXFAUXVRAI\",BDD!$V$2:$V$685)","v":0},{"$f":"SUMIF(BDD!$BC$2:$BC$685,\"Banc 120 bisFAUXVRAIVRAIFAUXFAUX\",BDD!$V$2:$V$685)","v":0},{"$f":"SUMIF(BDD!$BC$2:$BC$685,\"Banc 120 bisFAUXVRAIFAUXVRAIFAUX\",BDD!$V$2:$V$685)","v":0},{"$f":"SUMIF(BDD!$BC$2:$BC$685,\"Banc 120 bisFAUXVRAIFAUXFAUXVRAI\",BDD!$V$2:$V$685)","v":0},{"$f":"SUMIF(BDD!$BC$2:$BC$685,\"Banc 120 BISVRAIFAUXVRAIFAUXFAUX\",BDD!$V$2:$V$685)","v":0},{"$f":"SUMIF(BDD!$BC$2:$BC$685,\"Banc 120 BISVRAIFAUXFAUXVRAIFAUX\",BDD!$V$2:$V$685)","v":0},{"$f":"SUMIF(BDD!$BC$2:$BC$685,\"Banc 120 bisVRAIFAUXFAUXFAUXVRAI\",BDD!$V$2:$V$685)","v":0},{"$f":"SUMIF(BDD!$BC$2:$BC$685,\"Banc 120 bisFAUXVRAIVRAIFAUXFAUX\",BDD!$V$2:$V$685)","v":0},{"$f":"SUMIF(BDD!$BC$2:$BC$685,\"Banc 120 bisFAUXVRAIFAUXVRAIFAUX\",BDD!$V$2:$V$685)","v":0},{"$f":"SUMIF(BDD!$BC$2:$BC$685,\"Banc 120 bisFAUXVRAIFAUXFAUXVRAI\",BDD!$V$2:$V$685)","v":0},{"$f":"SUMIF(BDD!$BC$2:$BC$685,\"Banc 120 BISVRAIFAUXVRAIFAUXFAUX\",BDD!$V$2:$V$685)","v":0},{"$f":"SUMIF(BDD!$BC$2:$BC$685,\"Banc 120 BISVRAIFAUXFAUXVRAIFAUX\",BDD!$V$2:$V$685)","v":0},{"$f":"SUMIF(BDD!$BC$2:$BC$685,\"Banc 120 bisVRAIFAUXFAUXFAUXVRAI\",BDD!$V$2:$V$685)","v":0},{"$f":"SUMIF(BDD!$BC$2:$BC$685,\"Banc 120 bisFAUXVRAIVRAIFAUXFAUX\",BDD!$V$2:$V$685)","v":0},{"$f":"SUMIF(BDD!$BC$2:$BC$685,\"Banc 120 bisFAUXVRAIFAUXVRAIFAUX\",BDD!$V$2:$V$685)","v":0},{"$f":"SUMIF(BDD!$BC$2:$BC$685,\"Banc 120 bisFAUXVRAIFAUXFAUXVRAI\",BDD!$V$2:$V$685)","v":0},{"$f":"SUMIF(BDD!$BC$2:$BC$685,\"Banc 120 BISVRAIFAUXVRAIFAUXFAUX\",BDD!$V$2:$V$685)","v":0},{"$f":"SUMIF(BDD!$BC$2:$BC$685,\"Banc 120 BISVRAIFAUXFAUXVRAIFAUX\",BDD!$V$2:$V$685)","v":0},{"$f":"SUMIF(BDD!$BC$2:$BC$685,\"Banc 120 bisVRAIFAUXFAUXFAUXVRAI\",BDD!$V$2:$V$685)","v":0},{"$f":"SUMIF(BDD!$BC$2:$BC$685,\"Banc 120 bisFAUXVRAIVRAIFAUXFAUX\",BDD!$V$2:$V$685)","v":0},{"$f":"SUMIF(BDD!$BC$2:$BC$685,\"Banc 120 bisFAUXVRAIFAUXVRAIFAUX\",BDD!$V$2:$V$685)","v":0},{"$f":"SUMIF(BDD!$BC$2:$BC$685,\"Banc 120 bisFAUXVRAIFAUXFAUXVRAI\",BDD!$V$2:$V$685)","v":0},{"$f":"SUMIF(BDD!$BC$2:$BC$685,\"Banc 120 BISVRAIFAUXVRAIFAUXFAUX\",BDD!$V$2:$V$685)","v":0},{"$f":"SUMIF(BDD!$BC$2:$BC$685,\"Banc 120 BISVRAIFAUXFAUXVRAIFAUX\",BDD!$V$2:$V$685)","v":0},{"$f":"SUMIF(BDD!$BC$2:$BC$685,\"Banc 120 bisVRAIFAUXFAUXFAUXVRAI\",BDD!$V$2:$V$685)","v":0},{"$f":"SUMIF(BDD!$BC$2:$BC$685,\"Banc 120 bisFAUXVRAIVRAIFAUXFAUX\",BDD!$V$2:$V$685)","v":0},{"$f":"SUMIF(BDD!$BC$2:$BC$685,\"Banc 120 bisFAUXVRAIFAUXVRAIFAUX\",BDD!$V$2:$V$685)","v":0},{"$f":"SUMIF(BDD!$BC$2:$BC$685,\"Banc 120 bisFAUXVRAIFAUXFAUXVRAI\",BDD!$V$2:$V$685)","v":0},{"$f":"SUMIF(BDD!$BC$2:$BC$685,\"Banc 120 BISVRAIFAUXVRAIFAUXFAUX\",BDD!$V$2:$V$685)","v":0},{"$f":"SUMIF(BDD!$BC$2:$BC$685,\"Banc 120 BISVRAIFAUXFAUXVRAIFAUX\",BDD!$V$2:$V$685)","v":0},{"$f":"SUMIF(BDD!$BC$2:$BC$685,\"Banc 120 bisVRAIFAUXFAUXFAUXVRAI\",BDD!$V$2:$V$685)","v":0},{"$f":"SUMIF(BDD!$BC$2:$BC$685,\"Banc 120 bisFAUXVRAIVRAIFAUXFAUX\",BDD!$V$2:$V$685)","v":0},{"$f":"SUMIF(BDD!$BC$2:$BC$685,\"Banc 120 bisFAUXVRAIFAUXVRAIFAUX\",BDD!$V$2:$V$685)","v":0},{"$f":"SUMIF(BDD!$BC$2:$BC$685,\"Banc 120 bisFAUXVRAIFAUXFAUXVRAI\",BDD!$V$2:$V$685)","v":0},{"$f":"SUMIF(BDD!$BC$2:$BC$685,\"Banc 120 BISVRAIFAUXVRAIFAUXFAUX\",BDD!$V$2:$V$685)","v":0},{"$f":"SUMIF(BDD!$BC$2:$BC$685,\"Banc 120 BISVRAIFAUXFAUXVRAIFAUX\",BDD!$V$2:$V$685)","v":0},{"$f":"SUMIF(BDD!$BC$2:$BC$685,\"Banc 120 bisVRAIFAUXFAUXFAUXVRAI\",BDD!$V$2:$V$685)","v":0},{"$f":"SUMIF(BDD!$BC$2:$BC$685,\"Banc 120 bisFAUXVRAIVRAIFAUXFAUX\",BDD!$V$2:$V$685)","v":0},{"$f":"SUMIF(BDD!$BC$2:$BC$685,\"Banc 120 bisFAUXVRAIFAUXVRAIFAUX\",BDD!$V$2:$V$685)","v":0},{"$f":"SUMIF(BDD!$BC$2:$BC$685,\"Banc 120 bisFAUXVRAIFAUXFAUXVRAI\",BDD!$V$2:$V$685)","v":0},{"$f":"SUMIF(BDD!$BC$2:$BC$685,\"Banc 120 BISVRAIFAUXVRAIFAUXFAUX\",BDD!$V$2:$V$685)","v":0},{"$f":"SUMIF(BDD!$BC$2:$BC$685,\"Banc 120 BISVRAIFAUXFAUXVRAIFAUX\",BDD!$V$2:$V$685)","v":0},{"$f":"SUMIF(BDD!$BC$2:$BC$685,\"Banc 120 bisVRAIFAUXFAUXFAUXVRAI\",BDD!$V$2:$V$685)","v":0},{"$f":"SUMIF(BDD!$BC$2:$BC$685,\"Banc 120 bisFAUXVRAIVRAIFAUXFAUX\",BDD!$V$2:$V$685)","v":0},{"$f":"SUMIF(BDD!$BC$2:$BC$685,\"Banc 120 bisFAUXVRAIFAUXVRAIFAUX\",BDD!$V$2:$V$685)","v":0},{"$f":"SUMIF(BDD!$BC$2:$BC$685,\"Banc 120 bisFAUXVRAIFAUXFAUXVRAI\",BDD!$V$2:$V$685)","v":0}]
["Banc 128",{"$f":"SUMIF(BDD!$BC$2:$BC$685,\"Banc 128VRAIFAUXVRAIFAUXFAUX\",BDD!$V$2:$V$685)","v":0},{"$f":"SUMIF(BDD!$BC$2:$BC$685,\"Banc 128VRAIFAUXFAUXVRAIFAUX\",BDD!$V$2:$V$685)","v":0},{"$f":"SUMIF(BDD!$BC$2:$BC$685,\"Banc 128VRAIFAUXFAUXFAUXVRAI\",BDD!$V$2:$V$685)","v":1},{"$f":"SUMIF(BDD!$BC$2:$BC$685,\"Banc 128FAUXVRAIVRAIFAUXFAUX\",BDD!$V$2:$V$685)","v":0},{"$f":"SUMIF(BDD!$BC$2:$BC$685,\"Banc 128FAUXVRAIFAUXVRAIFAUX\",BDD!$V$2:$V$685)","v":0},{"$f":"SUMIF(BDD!$BC$2:$BC$685,\"Banc 128FAUXVRAIFAUXFAUXVRAI\",BDD!$V$2:$V$685)","v":0},{"$f":"SUMIF(BDD!$BC$2:$BC$685,\"Banc 128VRAIFAUXVRAIFAUXFAUX\",BDD!$V$2:$V$685)","v":0},{"$f":"SUMIF(BDD!$BC$2:$BC$685,\"Banc 128VRAIFAUXFAUXVRAIFAUX\",BDD!$V$2:$V$685)","v":0},{"$f":"SUMIF(BDD!$BC$2:$BC$685,\"Banc 128VRAIFAUXFAUXFAUXVRAI\",BDD!$V$2:$V$685)","v":1},{"$f":"SUMIF(BDD!$BC$2:$BC$685,\"Banc 128FAUXVRAIVRAIFAUXFAUX\",BDD!$V$2:$V$685)","v":0},{"$f":"SUMIF(BDD!$BC$2:$BC$685,\"Banc 128FAUXVRAIFAUXVRAIFAUX\",BDD!$V$2:$V$685)","v":0},{"$f":"SUMIF(BDD!$BC$2:$BC$685,\"Banc 128FAUXVRAIFAUXFAUXVRAI\",BDD!$V$2:$V$685)","v":0},{"$f":"SUMIF(BDD!$BC$2:$BC$685,\"Banc 128VRAIFAUXVRAIFAUXFAUX\",BDD!$V$2:$V$685)","v":0},{"$f":"SUMIF(BDD!$BC$2:$BC$685,\"Banc 128VRAIFAUXFAUXVRAIFAUX\",BDD!$V$2:$V$685)","v":0},{"$f":"SUMIF(BDD!$BC$2:$BC$685,\"Banc 128VRAIFAUXFAUXFAUXVRAI\",BDD!$V$2:$V$685)","v":1},{"$f":"SUMIF(BDD!$BC$2:$BC$685,\"Banc 128FAUXVRAIVRAIFAUXFAUX\",BDD!$V$2:$V$685)","v":0},{"$f":"SUMIF(BDD!$BC$2:$BC$685,\"Banc 128FAUXVRAIFAUXVRAIFAUX\",BDD!$V$2:$V$685)","v":0},{"$f":"SUMIF(BDD!$BC$2:$BC$685,\"Banc 128FAUXVRAIFAUXFAUXVRAI\",BDD!$V$2:$V$685)","v":0},{"$f":"SUMIF(BDD!$BC$2:$BC$685,\"Banc 128VRAIFAUXVRAIFAUXFAUX\",BDD!$V$2:$V$685)","v":0},{"$f":"SUMIF(BDD!$BC$2:$BC$685,\"Banc 128VRAIFAUXFAUXVRAIFAUX\",BDD!$V$2:$V$685)","v":0},{"$f":"SUMIF(BDD!$BC$2:$BC$685,\"Banc 128VRAIFAUXFAUXFAUXVRAI\",BDD!$V$2:$V$685)","v":1},{"$f":"SUMIF(BDD!$BC$2:$BC$685,\"Banc 128FAUXVRAIVRAIFAUXFAUX\",BDD!$V$2:$V$685)","v":0},{"$f":"SUMIF(BDD!$BC$2:$BC$685,\"Banc 128FAUXVRAIFAUXVRAIFAUX\",BDD!$V$2:$V$685)","v":0},{"$f":"SUMIF(BDD!$BC$2:$BC$685,\"Banc 128FAUXVRAIFAUXFAUXVRAI\",BDD!$V$2:$V$685)","v":0},{"$f":"SUMIF(BDD!$BC$2:$BC$685,\"Banc 128VRAIFAUXVRAIFAUXFAUX\",BDD!$V$2:$V$685)","v":0},{"$f":"SUMIF(BDD!$BC$2:$BC$685,\"Banc 128VRAIFAUXFAUXVRAIFAUX\",BDD!$V$2:$V$685)","v":0},{"$f":"SUMIF(BDD!$BC$2:$BC$685,\"Banc 128VRAIFAUXFAUXFAUXVRAI\",BDD!$V$2:$V$685)","v":1},{"$f":"SUMIF(BDD!$BC$2:$BC$685,\"Banc 128FAUXVRAIVRAIFAUXFAUX\",BDD!$V$2:$V$685)","v":0},{"$f":"SUMIF(BDD!$BC$2:$BC$685,\"Banc 128FAUXVRAIFAUXVRAIFAUX\",BDD!$V$2:$V$685)","v":0},{"$f":"SUMIF(BDD!$BC$2:$BC$685,\"Banc 128FAUXVRAIFAUXFAUXVRAI\",BDD!$V$2:$V$685)","v":0},{"$f":"SUMIF(BDD!$BC$2:$BC$685,\"Banc 128VRAIFAUXVRAIFAUXFAUX\",BDD!$V$2:$V$685)","v":0},{"$f":"SUMIF(BDD!$BC$2:$BC$685,\"Banc 128VRAIFAUXFAUXVRAIFAUX\",BDD!$V$2:$V$685)","v":0},{"$f":"SUMIF(BDD!$BC$2:$BC$685,\"Banc 128VRAIFAUXFAUXFAUXVRAI\",BDD!$V$2:$V$685)","v":1},{"$f":"SUMIF(BDD!$BC$2:$BC$685,\"Banc 128FAUXVRAIVRAIFAUXFAUX\",BDD!$V$2:$V$685)","v":0},{"$f":"SUMIF(BDD!$BC$2:$BC$685,\"Banc 128FAUXVRAIFAUXVRAIFAUX\",BDD!$V$2:$V$685)","v":0},{"$f":"SUMIF(BDD!$BC$2:$BC$685,\"Banc 128FAUXVRAIFAUXFAUXVRAI\",BDD!$V$2:$V$685)","v":0},{"$f":"SUMIF(BDD!$BC$2:$BC$685,\"Banc 128VRAIFAUXVRAIFAUXFAUX\",BDD!$V$2:$V$685)","v":0},{"$f":"SUMIF(BDD!$BC$2:$BC$685,\"Banc 128VRAIFAUXFAUXVRAIFAUX\",BDD!$V$2:$V$685)","v":0},{"$f":"SUMIF(BDD!$BC$2:$BC$685,\"Banc 128VRAIFAUXFAUXFAUXVRAI\",BDD!$V$2:$V$685)","v":1},{"$f":"SUMIF(BDD!$BC$2:$BC$685,\"Banc 128FAUXVRAIVRAIFAUXFAUX\",BDD!$V$2:$V$685)","v":0},{"$f":"SUMIF(BDD!$BC$2:$BC$685,\"Banc 128FAUXVRAIFAUXVRAIFAUX\",BDD!$V$2:$V$685)","v":0},{"$f":"SUMIF(BDD!$BC$2:$BC$685,\"Banc 128FAUXVRAIFAUXFAUXVRAI\",BDD!$V$2:$V$685)","v":0},{"$f":"SUMIF(BDD!$BC$2:$BC$685,\"Banc 128VRAIFAUXVRAIFAUXFAUX\",BDD!$V$2:$V$685)","v":0},{"$f":"SUMIF(BDD!$BC$2:$BC$685,\"Banc 128VRAIFAUXFAUXVRAIFAUX\",BDD!$V$2:$V$685)","v":0},{"$f":"SUMIF(BDD!$BC$2:$BC$685,\"Banc 128VRAIFAUXFAUXFAUXVRAI\",BDD!$V$2:$V$685)","v":1},{"$f":"SUMIF(BDD!$BC$2:$BC$685,\"Banc 128FAUXVRAIVRAIFAUXFAUX\",BDD!$V$2:$V$685)","v":0},{"$f":"SUMIF(BDD!$BC$2:$BC$685,\"Banc 128FAUXVRAIFAUXVRAIFAUX\",BDD!$V$2:$V$685)","v":0},{"$f":"SUMIF(BDD!$BC$2:$BC$685,\"Banc 128FAUXVRAIFAUXFAUXVRAI\",BDD!$V$2:$V$685)","v":0},{"$f":"SUMIF(BDD!$BC$2:$BC$685,\"Banc 128VRAIFAUXVRAIFAUXFAUX\",BDD!$V$2:$V$685)","v":0},{"$f":"SUMIF(BDD!$BC$2:$BC$685,\"Banc 128VRAIFAUXFAUXVRAIFAUX\",BDD!$V$2:$V$685)","v":0},{"$f":"SUMIF(BDD!$BC$2:$BC$685,\"Banc 128VRAIFAUXFAUXFAUXVRAI\",BDD!$V$2:$V$685)","v":1},{"$f":"SUMIF(BDD!$BC$2:$BC$685,\"Banc 128FAUXVRAIVRAIFAUXFAUX\",BDD!$V$2:$V$685)","v":0},{"$f":"SUMIF(BDD!$BC$2:$BC$685,\"Banc 128FAUXVRAIFAUXVRAIFAUX\",BDD!$V$2:$V$685)","v":0},{"$f":"SUMIF(BDD!$BC$2:$BC$685,\"Banc 128FAUXVRAIFAUXFAUXVRAI\",BDD!$V$2:$V$685)","v":0},{"$f":"SUMIF(BDD!$BC$2:$BC$685,\"Banc 128VRAIFAUXVRAIFAUXFAUX\",BDD!$V$2:$V$685)","v":0},{"$f":"SUMIF(BDD!$BC$2:$BC$685,\"Banc 128VRAIFAUXFAUXVRAIFAUX\",BDD!$V$2:$V$685)","v":0},{"$f":"SUMIF(BDD!$BC$2:$BC$685,\"Banc 128VRAIFAUXFAUXFAUXVRAI\",BDD!$V$2:$V$685)","v":1},{"$f":"SUMIF(BDD!$BC$2:$BC$685,\"Banc 128FAUXVRAIVRAIFAUXFAUX\",BDD!$V$2:$V$685)","v":0},{"$f":"SUMIF(BDD!$BC$2:$BC$685,\"Banc 128FAUXVRAIFAUXVRAIFAUX\",BDD!$V$2:$V$685)","v":0},{"$f":"SUMIF(BDD!$BC$2:$BC$685,\"Banc 128FAUXVRAIFAUXFAUXVRAI\",BDD!$V$2:$V$685)","v":0},{"$f":"SUMIF(BDD!$BC$2:$BC$685,\"Banc 128VRAIFAUXVRAIFAUXFAUX\",BDD!$V$2:$V$685)","v":0},{"$f":"SUMIF(BDD!$BC$2:$BC$685,\"Banc 128VRAIFAUXFAUXVRAIFAUX\",BDD!$V$2:$V$685)","v":0},{"$f":"SUMIF(BDD!$BC$2:$BC$685,\"Banc 128VRAIFAUXFAUXFAUXVRAI\",BDD!$V$2:$V$685)","v":1},{"$f":"SUMIF(BDD!$BC$2:$BC$685,\"Banc 128FAUXVRAIVRAIFAUXFAUX\",BDD!$V$2:$V$685)","v":0},{"$f":"SUMIF(BDD!$BC$2:$BC$685,\"Banc 128FAUXVRAIFAUXVRAIFAUX\",BDD!$V$2:$V$685)","v":0},{"$f":"SUMIF(BDD!$BC$2:$BC$685,\"Banc 128FAUXVRAIFAUXFAUXVRAI\",BDD!$V$2:$V$685)","v":0},{"$f":"SUMIF(BDD!$BC$2:$BC$685,\"Banc 128VRAIFAUXVRAIFAUXFAUX\",BDD!$V$2:$V$685)","v":0},{"$f":"SUMIF(BDD!$BC$2:$BC$685,\"Banc 128VRAIFAUXFAUXVRAIFAUX\",BDD!$V$2:$V$685)","v":0},{"$f":"SUMIF(BDD!$BC$2:$BC$685,\"Banc 128VRAIFAUXFAUXFAUXVRAI\",BDD!$V$2:$V$685)","v":1},{"$f":"SUMIF(BDD!$BC$2:$BC$685,\"Banc 128FAUXVRAIVRAIFAUXFAUX\",BDD!$V$2:$V$685)","v":0},{"$f":"SUMIF(BDD!$BC$2:$BC$685,\"Banc 128FAUXVRAIFAUXVRAIFAUX\",BDD!$V$2:$V$685)","v":0},{"$f":"SUMIF(BDD!$BC$2:$BC$685,\"Banc 128FAUXVRAIFAUXFAUXVRAI\",BDD!$V$2:$V$685)","v":0}]
["Banc 131",{"$f":"SUMIF(BDD!$BC$2:$BC$685,\"Banc 131VRAIFAUXVRAIFAUXFAUX\",BDD!$V$2:$V$685)","v":0},{"$f":"SUMIF(BDD!$BC$2:$BC$685,\"Banc 131VRAIFAUXFAUXVRAIFAUX\",BDD!$V$2:$V$685)","v":0},{"$f":"SUMIF(BDD!$BC$2:$BC$685,\"Banc 131VRAIFAUXFAUXFAUXVRAI\",BDD!$V$2:$V$685)","v":0},{"$f":"SUMIF(BDD!$BC$2:$BC$685,\"Banc 131FAUXVRAIVRAIFAUXFAUX\",BDD!$V$2:$V$685)","v":0},{"$f":"SUMIF(BDD!$BC$2:$BC$685,\"Banc 131FAUXVRAIFAUXVRAIFAUX\",BDD!$V$2:$V$685)","v":0},{"$f":"SUMIF(BDD!$BC$2:$BC$685,\"Banc 131FAUXVRAIFAUXFAUXVRAI\",BDD!$V$2:$V$685)","v":0},{"$f":"SUMIF(BDD!$BC$2:$BC$685,\"Banc 131VRAIFAUXVRAIFAUXFAUX\",BDD!$V$2:$V$685)","v":0},{"$f":"SUMIF(BDD!$BC$2:$BC$685,\"Banc 131VRAIFAUXFAUXVRAIFAUX\",BDD!$V$2:$V$685)","v":0},{"$f":"SUMIF(BDD!$BC$2:$BC$685,\"Banc 131VRAIFAUXFAUXFAUXVRAI\",BDD!$V$2:$V$685)","v":0},{"$f":"SUMIF(BDD!$BC$2:$BC$685,\"Banc 131FAUXVRAIVRAIFAUXFAUX\",BDD!$V$2:$V$685)","v":0},{"$f":"SUMIF(BDD!$BC$2:$BC$685,\"Banc 131FAUXVRAIFAUXVRAIFAUX\",BDD!$V$2:$V$685)","v":0},{"$f":"SUMIF(BDD!$BC$2:$BC$685,\"Banc 131FAUXVRAIFAUXFAUXVRAI\",BDD!$V$2:$V$685)","v":0},{"$f":"SUMIF(BDD!$BC$2:$BC$685,\"Banc 131VRAIFAUXVRAIFAUXFAUX\",BDD!$V$2:$V$685)","v":0},{"$f":"SUMIF(BDD!$BC$2:$BC$685,\"Banc 131VRAIFAUXFAUXVRAIFAUX\",BDD!$V$2:$V$685)","v":0},{"$f":"SUMIF(BDD!$BC$2:$BC$685,\"Banc 131VRAIFAUXFAUXFAUXVRAI\",BDD!$V$2:$V$685)","v":0},{"$f":"SUMIF(BDD!$BC$2:$BC$685,\"Banc 131FAUXVRAIVRAIFAUXFAUX\",BDD!$V$2:$V$685)","v":0},{"$f":"SUMIF(BDD!$BC$2:$BC$685,\"Banc 131FAUXVRAIFAUXVRAIFAUX\",BDD!$V$2:$V$685)","v":0},{"$f":"SUMIF(BDD!$BC$2:$BC$685,\"Banc 131FAUXVRAIFAUXFAUXVRAI\",BDD!$V$2:$V$685)","v":0},{"$f":"SUMIF(BDD!$BC$2:$BC$685,\"Banc 131VRAIFAUXVRAIFAUXFAUX\",BDD!$V$2:$V$685)","v":0},{"$f":"SUMIF(BDD!$BC$2:$BC$685,\"Banc 131VRAIFAUXFAUXVRAIFAUX\",BDD!$V$2:$V$685)","v":0},{"$f":"SUMIF(BDD!$BC$2:$BC$685,\"Banc 131VRAIFAUXFAUXFAUXVRAI\",BDD!$V$2:$V$685)","v":0},{"$f":"SUMIF(BDD!$BC$2:$BC$685,\"Banc 131FAUXVRAIVRAIFAUXFAUX\",BDD!$V$2:$V$685)","v":0},{"$f":"SUMIF(BDD!$BC$2:$BC$685,\"Banc 131FAUXVRAIFAUXVRAIFAUX\",BDD!$V$2:$V$685)","v":0},{"$f":"SUMIF(BDD!$BC$2:$BC$685,\"Banc 131FAUXVRAIFAUXFAUXVRAI\",BDD!$V$2:$V$685)","v":0},{"$f":"SUMIF(BDD!$BC$2:$BC$685,\"Banc 131VRAIFAUXVRAIFAUXFAUX\",BDD!$V$2:$V$685)","v":0},{"$f":"SUMIF(BDD!$BC$2:$BC$685,\"Banc 131VRAIFAUXFAUXVRAIFAUX\",BDD!$V$2:$V$685)","v":0},{"$f":"SUMIF(BDD!$BC$2:$BC$685,\"Banc 131VRAIFAUXFAUXFAUXVRAI\",BDD!$V$2:$V$685)","v":0},{"$f":"SUMIF(BDD!$BC$2:$BC$685,\"Banc 131FAUXVRAIVRAIFAUXFAUX\",BDD!$V$2:$V$685)","v":0},{"$f":"SUMIF(BDD!$BC$2:$BC$685,\"Banc 131FAUXVRAIFAUXVRAIFAUX\",BDD!$V$2:$V$685)","v":0},{"$f":"SUMIF(BDD!$BC$2:$BC$685,\"Banc 131FAUXVRAIFAUXFAUXVRAI\",BDD!$V$2:$V$685)","v":0},{"$f":"SUMIF(BDD!$BC$2:$BC$685,\"Banc 131VRAIFAUXVRAIFAUXFAUX\",BDD!$V$2:$V$685)","v":0},{"$f":"SUMIF(BDD!$BC$2:$BC$685,\"Banc 131VRAIFAUXFAUXVRAIFAUX\",BDD!$V$2:$V$685)","v":0},{"$f":"SUMIF(BDD!$BC$2:$BC$685,\"Banc 131VRAIFAUXFAUXFAUXVRAI\",BDD!$V$2:$V$685)","v":0},{"$f":"SUMIF(BDD!$BC$2:$BC$685,\"Banc 131FAUXVRAIVRAIFAUXFAUX\",BDD!$V$2:$V$685)","v":0},{"$f":"SUMIF(BDD!$BC$2:$BC$685,\"Banc 131FAUXVRAIFAUXVRAIFAUX\",BDD!$V$2:$V$685)","v":0},{"$f":"SUMIF(BDD!$BC$2:$BC$685,\"Banc 131FAUXVRAIFAUXFAUXVRAI\",BDD!$V$2:$V$685)","v":0},{"$f":"SUMIF(BDD!$BC$2:$BC$685,\"Banc 131VRAIFAUXVRAIFAUXFAUX\",BDD!$V$2:$V$685)","v":0},{"$f":"SUMIF(BDD!$BC$2:$BC$685,\"Banc 131VRAIFAUXFAUXVRAIFAUX\",BDD!$V$2:$V$685)","v":0},{"$f":"SUMIF(BDD!$BC$2:$BC$685,\"Banc 131VRAIFAUXFAUXFAUXVRAI\",BDD!$V$2:$V$685)","v":0},{"$f":"SUMIF(BDD!$BC$2:$BC$685,\"Banc 131FAUXVRAIVRAIFAUXFAUX\",BDD!$V$2:$V$685)","v":0},{"$f":"SUMIF(BDD!$BC$2:$BC$685,\"Banc 131FAUXVRAIFAUXVRAIFAUX\",BDD!$V$2:$V$685)","v":0},{"$f":"SUMIF(BDD!$BC$2:$BC$685,\"Banc 131FAUXVRAIFAUXFAUXVRAI\",BDD!$V$2:$V$685)","v":0},{"$f":"SUMIF(BDD!$BC$2:$BC$685,\"Banc 131VRAIFAUXVRAIFAUXFAUX\",BDD!$V$2:$V$685)","v":0},{"$f":"SUMIF(BDD!$BC$2:$BC$685,\"Banc 131VRAIFAUXFAUXVRAIFAUX\",BDD!$V$2:$V$685)","v":0},{"$f":"SUMIF(BDD!$BC$2:$BC$685,\"Banc 131VRAIFAUXFAUXFAUXVRAI\",BDD!$V$2:$V$685)","v":0},{"$f":"SUMIF(BDD!$BC$2:$BC$685,\"Banc 131FAUXVRAIVRAIFAUXFAUX\",BDD!$V$2:$V$685)","v":0},{"$f":"SUMIF(BDD!$BC$2:$BC$685,\"Banc 131FAUXVRAIFAUXVRAIFAUX\",BDD!$V$2:$V$685)","v":0},{"$f":"SUMIF(BDD!$BC$2:$BC$685,\"Banc 131FAUXVRAIFAUXFAUXVRAI\",BDD!$V$2:$V$685)","v":0},{"$f":"SUMIF(BDD!$BC$2:$BC$685,\"Banc 131VRAIFAUXVRAIFAUXFAUX\",BDD!$V$2:$V$685)","v":0},{"$f":"SUMIF(BDD!$BC$2:$BC$685,\"Banc 131VRAIFAUXFAUXVRAIFAUX\",BDD!$V$2:$V$685)","v":0},{"$f":"SUMIF(BDD!$BC$2:$BC$685,\"Banc 131VRAIFAUXFAUXFAUXVRAI\",BDD!$V$2:$V$685)","v":0},{"$f":"SUMIF(BDD!$BC$2:$BC$685,\"Banc 131FAUXVRAIVRAIFAUXFAUX\",BDD!$V$2:$V$685)","v":0},{"$f":"SUMIF(BDD!$BC$2:$BC$685,\"Banc 131FAUXVRAIFAUXVRAIFAUX\",BDD!$V$2:$V$685)","v":0},{"$f":"SUMIF(BDD!$BC$2:$BC$685,\"Banc 131FAUXVRAIFAUXFAUXVRAI\",BDD!$V$2:$V$685)","v":0},{"$f":"SUMIF(BDD!$BC$2:$BC$685,\"Banc 131VRAIFAUXVRAIFAUXFAUX\",BDD!$V$2:$V$685)","v":0},{"$f":"SUMIF(BDD!$BC$2:$BC$685,\"Banc 131VRAIFAUXFAUXVRAIFAUX\",BDD!$V$2:$V$685)","v":0},{"$f":"SUMIF(BDD!$BC$2:$BC$685,\"Banc 131VRAIFAUXFAUXFAUXVRAI\",BDD!$V$2:$V$685)","v":0},{"$f":"SUMIF(BDD!$BC$2:$BC$685,\"Banc 131FAUXVRAIVRAIFAUXFAUX\",BDD!$V$2:$V$685)","v":0},{"$f":"SUMIF(BDD!$BC$2:$BC$685,\"Banc 131FAUXVRAIFAUXVRAIFAUX\",BDD!$V$2:$V$685)","v":0},{"$f":"SUMIF(BDD!$BC$2:$BC$685,\"Banc 131FAUXVRAIFAUXFAUXVRAI\",BDD!$V$2:$V$685)","v":0},{"$f":"SUMIF(BDD!$BC$2:$BC$685,\"Banc 131VRAIFAUXVRAIFAUXFAUX\",BDD!$V$2:$V$685)","v":0},{"$f":"SUMIF(BDD!$BC$2:$BC$685,\"Banc 131VRAIFAUXFAUXVRAIFAUX\",BDD!$V$2:$V$685)","v":0},{"$f":"SUMIF(BDD!$BC$2:$BC$685,\"Banc 131VRAIFAUXFAUXFAUXVRAI\",BDD!$V$2:$V$685)","v":0},{"$f":"SUMIF(BDD!$BC$2:$BC$685,\"Banc 131FAUXVRAIVRAIFAUXFAUX\",BDD!$V$2:$V$685)","v":0},{"$f":"SUMIF(BDD!$BC$2:$BC$685,\"Banc 131FAUXVRAIFAUXVRAIFAUX\",BDD!$V$2:$V$685)","v":0},{"$f":"SUMIF(BDD!$BC$2:$BC$685,\"Banc 131FAUXVRAIFAUXFAUXVRAI\",BDD!$V$2:$V$685)","v":0},{"$f":"SUMIF(BDD!$BC$2:$BC$685,\"Banc 131VRAIFAUXVRAIFAUXFAUX\",BDD!$V$2:$V$685)","v":0},{"$f":"SUMIF(BDD!$BC$2:$BC$685,\"Banc 131VRAIFAUXFAUXVRAIFAUX\",BDD!$V$2:$V$685)","v":0},{"$f":"SUMIF(BDD!$BC$2:$BC$685,\"Banc 131VRAIFAUXFAUXFAUXVRAI\",BDD!$V$2:$V$685)","v":0},{"$f":"SUMIF(BDD!$BC$2:$BC$685,\"Banc 131FAUXVRAIVRAIFAUXFAUX\",BDD!$V$2:$V$685)","v":0},{"$f":"SUMIF(BDD!$BC$2:$BC$685,\"Banc 131FAUXVRAIFAUXVRAIFAUX\",BDD!$V$2:$V$685)","v":0},{"$f":"SUMIF(BDD!$BC$2:$BC$685,\"Banc 131FAUXVRAIFAUXFAUXVRAI\",BDD!$V$2:$V$685)","v":0}]

{"sheet":"Indicateur Banc","index":8,"n_rows":8,"n_cols":13,"rows_kept":8,"cut":false,"hidden":false,"merged":[[2,1,2,12],[4,1,4,12],[6,1,6,12]]}
[]
[]
[null,"Suivi du correctif et du préventif"]
["Type de maintenance","Janvier","Février","Mars","Avril","Mai","Juin","Juillet","Août","Septembre","Octobre","Novembre","Décembre"]
[null,"Préventif"]
[true,{"$f":"SUMIF(BDD!$M$2:$M$685,'Indicateur Banc'!$A$6,BDD!$V$2:$V$685)","v":0},{"$f":"SUMIF(BDD!$M$2:$M$685,'Indicateur Banc'!$A$6,BDD!$V$2:$V$685)","v":0},{"$f":"SUMIF(BDD!$M$2:$M$685,'Indicateur Banc'!$A$6,BDD!$V$2:$V$685)","v":0},{"$f":"SUMIF(BDD!$M$2:$M$685,'Indicateur Banc'!$A$6,BDD!$V$2:$V$685)","v":0},{"$f":"SUMIF(BDD!$M$2:$M$685,'Indicateur Banc'!$A$6,BDD!$V$2:$V$685)","v":0},{"$f":"SUMIF(BDD!$M$2:$M$685,'Indicateur Banc'!$A$6,BDD!$V$2:$V$685)","v":0},{"$f":"SUMIF(BDD!$M$2:$M$685,'Indicateur Banc'!$A$6,BDD!$V$2:$V$685)","v":0},{"$f":"SUMIF(BDD!$M$2:$M$685,'Indicateur Banc'!$A$6,BDD!$V$2:$V$685)","v":0},{"$f":"SUMIF(BDD!$M$2:$M$685,'Indicateur Banc'!$A$6,BDD!$V$2:$V$685)","v":0},{"$f":"SUMIF(BDD!$M$2:$M$685,'Indicateur Banc'!$A$6,BDD!$V$2:$V$685)","v":0},{"$f":"SUMIF(BDD!$M$2:$M$685,'Indicateur Banc'!$A$6,BDD!$V$2:$V$685)","v":0},{"$f":"SUMIF(BDD!$M$2:$M$685,'Indicateur Banc'!$A$6,BDD!$V$2:$V$685)","v":0}]
[null,"Correctif"]
[true,{"$f":"SUMIF(BDD!$L$2:$L$685,'Indicateur Banc'!$A$8,BDD!$V$2:$V$685)","v":2},{"$f":"SUMIF(BDD!$L$2:$L$685,'Indicateur Banc'!$A$8,BDD!$V$2:$V$685)","v":2},{"$f":"SUMIF(BDD!$L$2:$L$685,'Indicateur Banc'!$A$8,BDD!$V$2:$V$685)","v":2},{"$f":"SUMIF(BDD!$L$2:$L$685,'Indicateur Banc'!$A$8,BDD!$V$2:$V$685)","v":2},{"$f":"SUMIF(BDD!$L$2:$L$685,'Indicateur Banc'!$A$8,BDD!$V$2:$V$685)","v":2},{"$f":"SUMIF(BDD!$L$2:$L$685,'Indicateur Banc'!$A$8,BDD!$V$2:$V$685)","v":2},{"$f":"SUMIF(BDD!$L$2:$L$685,'Indicateur Banc'!$A$8,BDD!$V$2:$V$685)","v":2},{"$f":"SUMIF(BDD!$L$2:$L$685,'Indicateur Banc'!$A$8,BDD!$V$2:$V$685)","v":2},{"$f":"SUMIF(BDD!$L$2:$L$685,'Indicateur Banc'!$A$8,BDD!$V$2:$V$685)","v":2},{"$f":"SUMIF(BDD!$L$2:$L$685,'Indicateur Banc'!$A$8,BDD!$V$2:$V$685)","v":2},{"$f":"SUMIF(BDD!$L$2:$L$685,'Indicateur Banc'!$A$8,BDD!$V$2:$V$685)","v":2},{"$f":"SUMIF(BDD!$L$2:$L$685,'Indicateur Banc'!$A$8,BDD!$V$2:$V$685)","v":2}]