{"text_format":"1","workbook":"xlsx","n_sheets":9,"sheets":["Fiche d'intervention","BDD","Liste","Indicateur Zone5","Indicateur Zone6","Indicateur Zone8","Indicateur Zone9","Indicateur Zone10","Indicateur Banc"],"not_rendered":{"charts":21,"images":4,"macros":1,"external_links":0,"defined_names":3,"comments":0,"pivot_tables":0},"unopened":[],"bounds":{"document_bytes":16777216,"sheet_cells":100000,"rows_first":2000,"rows_last":500,"rows_between":2000,"halvings":0,"cell_chars":16384,"cell_head_chars":4096},"cells_cut":0,"cells_raw":0,"read":"whole","date_system":"1900"}

{"sheet":"Fiche d'intervention","index":0,"n_rows":51,"n_cols":16,"rows_kept":51,"cut":false,"hidden":true,"merged":[[8,15,8,16],[1,18,9,20],[29,8,29,9],[9,8,10,11],[9,12,10,13],[11,10,11,13],[11,6,11,9],[14,6,14,7],[12,8,12,9],[13,8,13,9],[14,8,14,9],[17,2,17,13],[18,2,23,13],[15,2,16,13],[24,2,25,5],[24,6,25,9],[24,10,25,13],[56,2,56,6],[56,7,56,10],[56,11,56,13],[60,2,60,6],[60,7,60,10],[60,11,60,13],[57,2,57,6],[57,7,57,10],[57,11,57,13],[58,2,58,6],[58,7,58,10],[58,11,58,13],[59,2,59,6],[59,7,59,10],[59,11,59,13],[30,2,31,13],[26,8,26,9],[26,2,26,4],[27,2,27,4],[28,2,28,4],[27,8,27,9],[28,8,28,9],[26,6,26,7],[27,6,27,7],[28,6,28,7],[29,6,29,7],[29,2,29,4],[28,10,28,12],[29,10,29,12],[26,10,26,12],[27,10,27,12],[33,12,38,13],[32,2,38,11],[50,7,50,10],[51,7,51,10],[50,11,50,13],[51,11,51,13],[48,2,49,13],[39,2,40,13],[41,2,47,13],[32,12,32,13],[55,11,55,13],[54,11,54,13],[53,11,53,13],[52,11,52,13],[55,7,55,10],[54,7,54,10],[53,7,53,10],[52,7,52,10],[6,2,7,13],[0,13,4,13],[0,5,4,12],[8,2,8,7],[10,2,10,7],[12,10,14,13],[14,2,14,5],[12,6,12,7],[8,8,8,11],[8,12,8,13],[11,2,11,5],[9,3,9,7],[12,3,12,5],[13,3,13,5],[13,6,13,7],[55,2,55,6],[50,2,50,6],[52,2,52,6],[51,2,51,6],[54,2,54,6],[53,2,53,6]]}
[null,null,null,null,null,"FICHE D'INTERVENTION MAINTENANCE",null,null,null,null,null,null,null,"FI24"]
[]
[]
[]
[]
[]
[null,null,"Compte-rendu d'intervention"]
[]
[null,null,"Demandeur",null,null,null,null,null,"Système",null,null,null,"Compteur machine",null,null,"Statut fiche d'intervention"]
[null,null,"Nom:","romain.dehan",null,null,null,null,"Banc P2",null,null,null,"yy"]
[]
[null,null,"Intervenant(s)",null,null,null,"Priorité",null,null,null,"Date de création de la demande"]
[null,null,"Nom :",null,null,null,1,null,false,null,"2016-03-22"]
[null,null,"Nom :",null,null,null,2,null,false]
[null,null,"Secteur Maintenance",null,null,null,3,true,false]
[null,null,"Localisation de l'intervention"]
[]
[null,null,"Description du dysfonctionnement"]
[null,null,"yy"]
[]
[]
[]
[]
[]
[null,null,"Type de maintenance",null,null,null,"Type de défaillance",null,null,null,"Cause de défaillance"]
[]
[null,null,"Corrective",null,null,false,"Electrique",null,false,null,"Usure normale",null,null,false]
[null,null,"Préventive",null,null,false,"Mécanique",null,false,null,"Défaut utilisateur",null,null,false]
[null,null,"Préparation essais",null,null,false,"Hydraulique",null,false,null,"Défaut produit",null,null,false]
[null,null,null,null,null,null,"Informatique",null,null,null,"Autre",null,null,false]
[null,null,"Cause liée à la défaillance"]
[]
[null,null,null,null,null,null,null,null,null,null,null,null,"Temps d'intervention en heure"]
[]
[]
[]
[]
[]
[]
[null,null,"Rapport d'intervention"]
[]
[]
[]
[]
[]
[]
[]
[]
[null,null,"Pièces de rechange et consommables"]
[]
[null,null,"Désignation",null,null,null,null,"Marque / Référence",null,null,null,"Quantité"]

{"sheet":"BDD","index":1,"n_rows":456,"n_cols":55,"rows_kept":456,"cut":false,"hidden":true,"merged":[[0,23,0,32],[0,33,0,42],[0,43,0,52],[0,4,0,6]]}
["N° intervention","Demandeur","Nom Intervenant","Nom intervenant ","Priorité                                            1                    2                   3",null,null,"Systéme","Compteur machine","Date","Description du dysfonctionnement","Corrective","Préventive","Electrique","Mécanique","Hydraulique","Usure normale","Défaut utilisateur","Défaut produit","Autre","Cause lié à la défaillance","Temps d'intervention","Rapport d'intervention","Désignation",null,null,null,null,null,null,null,null,null,"Marque / Référence",null,null,null,null,null,null,null,null,null,"Quantité",null,null,null,null,null,null,null,null,null,"Formule","Formule"]
[]
[]
[]
[]
[]
["FI6","GUILLAUME SEBASTIEN","HEMART",null,true,false,false,"Banc 128",1234,"2016-03-18","Problème sur limiteur de pression Ligne M",true,false,false,false,true,false,false,true,false,"Pollution",1,"DEMONTAGE NETTOYAGE ET REMONTAGE DU LIMIEUR DE PRESSION",null,null,null,null,null,null,null,null,null,null,null,null,null,null,null,null,null,null,null,null,null,null,null,null,null,null,null,null,null,null,{"$f":"H7&L7&M7","v":"Banc 128VRAIFAUX"},{"$f":"H7&L7&M7&N7&O7&P7","v":"Banc 128VRAIFAUXFAUXFAUXVRAI"}]
["FI7","C.GAUVIN","A.DELAUNAY",null,true,false,false,"Banc 126",9316,"2016-03-18","TLC_RPP-516-941 prog automate + câblage bobines voir Jonathan BARRA - Chronogramme dans la TLC",false,true,true,false,false,false,false,false,true,"AUCUNE",0.3,"Programme finalisé, en attente par la suite du montage de l'essai sur le banc.",null,null,null,null,null,null,null,null,null,null,null,null,null,null,null,null,null,null,null,null,null,null,null,null,null,null,null,null,null,null,"Banc 126FAUXVRAI","Banc 126FAUXVRAIVRAIFAUXFAUX"]
["FI8","C.GAUVIN","T.HEMART",null,true,false,false,"Banc 125",59195,"2016-03-22","VIBRATIONS ANORMALES DES 2 RETOURS P10 SUR REFRIGERANTS",true,false,false,false,true,true,false,false,false,"VIEILLISSEMENT DES 2 P10 SUR RETOUR REFRIGERANT",2.2999999999999998,"CHANGEMENT DES 2 P10 PAR DES NEUFS",null,null,null,null,null,null,null,null,null,null,null,null,null,null,null,null,null,null,null,null,null,null,null,null,null,null,null,null,null,null,"Banc 125VRAIFAUX","Banc 125VRAIFAUXFAUXFAUXVRAI"]
["FI9","C.GAUVIN","T.HEMART","J.BOUCHER",true,false,false,"Banc 123",75697,"2016-03-22","VIDANGE DE L'HUILE XV32 / RINCAGE / REMPLISSAGE EN HUILE HV46\nDISPONIBILITE DU BANC POUR VENDREDI MATIN",false,true,false,false,true,false,false,false,true,"USURE DE L'HUILE XV32 PREMATUREE",32,"Vidange, rinçage, nettoyage, remplissage en HV 46 et changement de tout les filtres","Filtre","Filtre",null,null,null,null,null,null,null,null,"Relumix 483-4/P10","HC 9600 FKN 16 H",null,null,null,null,null,null,null,null,3,1,null,null,null,null,null,null,null,null,"Banc 123FAUXVRAI","Banc 123FAUXVRAIFAUXFAUXVRAI"]
["FI10","GARCIA SANCHEZ","GARCIA SANCHEZ",null,true,false,false,"Banc P7",7569,"2016-03-22","Le variateur ne demarre pas ",true,false,true,false,false,false,true,false,false,"Arrêt d'urgence variateur activer",0.15,"Désactivation arrêt d'urgence",null,null,null,null,null,null,null,null,null,null,null,null,null,null,null,null,null,null,null,null,null,null,null,null,null,null,null,null,null,null,"Banc P7VRAIFAUX","Banc P7VRAIFAUXVRAIFAUXFAUX"]
["FI11","BARRA","J.BOUCHER",null,true,false,false,"Banc 104","4210,35","2016-03-22","LA PRESSION N'EST PAS STABLE SUR LA LIGNE 8",false,true,false,false,true,false,false,false,true,"AUCUNE",1,"DEMONTAGE / NETTOYAGE / REMONTAGE DU LP8","LIMITEUR DE PRESSION 8",null,null,null,null,null,null,null,null,null,null,null,null,null,null,null,null,null,null,null,1,null,null,null,null,null,null,null,null,null,"Banc 104FAUXVRAI","Banc 104FAUXVRAIFAUXFAUXVRAI"]
["FI12","BARRA","J.BOUCHER",null,true,false,false,"Banc 104","4210,35","2016-03-22","Probleme de régulation de RD8 (vitesse du moteur en test trop instable en PEV)",true,false,false,false,true,false,false,false,false,null,2,"Remplacement du RD8 par RD9","Réducteur de debit",null,null,null,null,null,null,null,null,null,null,null,null,null,null,null,null,null,null,null,"1 envoyer chez équipe",null,null,null,null,null,null,null,null,null,"Banc 104VRAIFAUX","Banc 104VRAIFAUXFAUXFAUXVRAI"]
["FI13","romain.dehan","Boucher",null,false,true,false,"Banc 124",12795,"2016-03-21","REFAIRE LE NIVEAU D'HUILE JUSQU'AU MILIEU DE LA SECONDE BULLE",false,true,false,false,true,false,false,false,true,"Fuite dans le recepteur du 124bis.",0.3,"RAS",null,null,null,null,null,null,null,null,null,null,null,null,null,null,null,null,null,null,null,null,null,null,null,null,null,null,null,null,null,null,"Banc 124FAUXVRAI","Banc 124FAUXVRAIFAUXFAUXVRAI"]
["FI15","david.garcia","David Garcia",null,true,false,false,"Banc P1",56173,"2016-03-24","Variateur en défaut",true,false,true,false,false,false,false,false,true,"Moteur chauffe trop par rapport a l'essai demander",0.02,"Reset défaut variateur",null,null,null,null,null,null,null,null,null,null,null,null,null,null,null,null,null,null,null,null,null,null,null,null,null,null,null,null,null,null,"Banc P1VRAIFAUX","Banc P1VRAIFAUXVRAIFAUXFAUX"]
["FI15","christophe.gauvin",null,null,false,false,false,"Chambre froide",8952,"2016-03-22","Demande de câblage d'un clignoteur pour piloter un distributeur cetop3",false,false,false,false,false,false,false,false,false]
["FI16","romain.dehan",null,null,false,false,false,"Banc P2","g","2016-03-22","g",false,false,false,false,false,false,false,false,false]
["FI17","romain.dehan",null,null,false,false,false,"Banc P2","g","2016-03-22","g",false,false,false,false,false,false,false,false,false,null,null,null,null,null,null,null,null,null,null,null,null,null,null,null,null,null,null,null,null,null,null,null,null,null,null,null,null,null,null,null,null,null,"Banc P2FAUXFAUX","Banc P2FAUXFAUXFAUXFAUXFAUX"]
["FI18","romain.dehan",null,null,false,false,false,"Banc P2","ree","2016-03-22","eee",false,false,false,false,false,false,false,false,false,null,null,null,null,null,null,null,null,null,null,null,null,null,null,null,null,null,null,null,null,null,null,null,null,null,null,null,null,null,null,null,null,null,"Banc P2FAUXFAUX","Banc P2FAUXFAUXFAUXFAUXFAUX"]
["FI19","romain.dehan",null,null,false,false,false,"Banc P2","ree","2016-03-22","eee",false,false,false,false,false,false,false,false,false,null,null,null,null,null,null,null,null,null,null,null,null,null,null,null,null,null,null,null,null,null,null,null,null,null,null,null,null,null,null,null,null,null,"Banc P2FAUXFAUX","Banc P2FAUXFAUXFAUXFAUXFAUX"]
["FI20","romain.dehan",null,null,false,false,false,"Banc PowerTrain","uu","2016-03-22","uuu",false,false,false,false,false,false,false,false,false,null,null,null,null,null,null,null,null,null,null,null,null,null,null,null,null,null,null,null,null,null,null,null,null,null,null,null,null,null,null,null,null,null,"Banc PowerTrainFAUXFAUX","Banc PowerTrainFAUXFAUXFAUXFAUXFAUX"]
["FI21","romain.dehan",null,null,false,false,false,"Banc PowerTrain","uu","2016-03-22","uuu",false,false,false,false,false,false,false,false,false,null,null,null,null,null,null,null,null,null,null,null,null,null,null,null,null,null,null,null,null,null,null,null,null,null,null,null,null,null,null,null,null,null,"Banc PowerTrainFAUXFAUX","Banc PowerTrainFAUXFAUXFAUXFAUXFAUX"]
["FI22","romain.dehan",null,null,false,false,false,"Banc PowerTrain","uu","2016-03-22","uuu",false,false,false,false,false,false,false,false,false,null,null,null,null,null,null,null,null,null,null,null,null,null,null,null,null,null,null,null,null,null,null,null,null,null,null,null,null,null,null,null,null,null,"Banc PowerTrainFAUXFAUX","Banc PowerTrainFAUXFAUXFAUXFAUXFAUX"]
["FI23","romain.dehan",null,null,false,false,false,"Banc P1","y","2016-03-22","y",false,false,false,false,false,false,false,false,false,null,null,null,null,null,null,null,null,null,null,null,null,null,null,null,null,null,null,null,null,null,null,null,null,null,null,null,null,null,null,null,null,null,"Banc P1FAUXFAUX","Banc P1FAUXFAUXFAUXFAUXFAUX"]
["FI24","romain.dehan",null,null,false,false,false,"Banc P2","yy","2016-03-22","yy",false,false,false,false,false,false,false,false,false,null,null,null,null,null,null,null,null,null,null,null,null,null,null,null,null,null,null,null,null,null,null,null,null,null,null,null,null,null,null,null,null,null,"Banc P2FAUXFAUX","Banc P2FAUXFAUXFAUXFAUXFAUX"]
[null,null,null,null,null,null,null,null,null,null,null,null,null,null,null,null,null,null,null,null,null,null,null,null,null,null,null,null,null,null,null,null,null,null,null,null,null,null,null,null,null,null,null,null,null,null,null,null,null,null,null,null,null,"",""]
[null,null,null,null,null,null,null,null,null,null,null,null,null,null,null,null,null,null,null,null,null,null,null,null,null,null,null,null,null,null,null,null,null,null,null,null,null,null,null,null,null,null,null,null,null,null,null,null,null,null,null,null,null,"",""]
[null,null,null,null,null,null,null,null,null,null,null,null,null,null,null,null,null,null,null,null,null,null,null,null,null,null,null,null,null,null,null,null,null,null,null,null,null,null,null,null,null,null,null,null,null,null,null,null,null,null,null,null,null,"",""]
[null,null,null,null,null,null,null,null,null,null,null,null,null,null,null,null,null,null,null,null,null,null,null,null,null,null,null,null,null,null,null,null,null,null,null,null,null,null,null,null,null,null,null,null,null,null,null,null,null,null,null,null,null,"",""]
[null,null,null,null,null,null,null,null,null,null,null,null,null,null,null,null,null,null,null,null,null,null,null,null,null,null,null,null,null,null,null,null,null,null,null,null,null,null,null,null,null,null,null,null,null,null,null,null,null,null,null,null,null,"",""]
[null,null,null,null,null,null,null,null,null,null,null,null,null,null,null,null,null,null,null,null,null,null,null,null,null,null,null,null,null,null,null,null,null,null,null,null,null,null,null,null,null,null,null,null,null,null,null,null,null,null,null,null,null,"",""]
[null,null,null,null,null,null,null,null,null,null,null,null,null,null,null,null,null,null,null,null,null,null,null,null,null,null,null,null,null,null,null,null,null,null,null,null,null,null,null,null,null,null,null,null,null,null,null,null,null,null,null,null,null,"",""]
[null,null,null,null,null,null,null,null,null,null,null,null,null,null,null,null,null,null,null,null,null,null,null,null,null,null,null,null,null,null,null,null,null,null,null,null,null,null,null,null,null,null,null,null,null,null,null,null,null,null,null,null,null,"",""]
[null,null,null,null,null,null,null,null,null,null,null,null,null,null,null,null,null,null,null,null,null,null,null,null,null,null,null,null,null,null,null,null,null,null,null,null,null,null,null,null,null,null,null,null,null,null,null,null,null,null,null,null,null,"",""]
[null,null,null,null,null,null,null,null,null,null,null,null,null,null,null,null,null,null,null,null,null,null,null,null,null,null,null,null,null,null,null,null,null,null,null,null,null,null,null,null,null,null,null,null,null,null,null,null,null,null,null,null,null,"",""]
[null,null,null,null,null,null,null,null,null,null,null,null,null,null,null,null,null,null,null,null,null,null,null,null,null,null,null,null,null,null,null,null,null,null,null,null,null,null,null,null,null,null,null,null,null,null,null,null,null,null,null,null,null,"",""]
[null,null,null,null,null,null,null,null,null,null,null,null,null,null,null,null,null,null,null,null,null,null,null,null,null,null,null,null,null,null,null,null,null,null,null,null,null,null,null,null,null,null,null,null,null,null,null,null,null,null,null,null,null,"",""]
[null,null,null,null,null,null,null,null,null,null,null,null,null,null,null,null,null,null,null,null,null,null,null,null,null,null,null,null,null,null,null,null,null,null,null,null,null,null,null,null,null,null,null,null,null,null,null,null,null,null,null,null,null,"",""]
[null,null,null,null,null,null,null,null,null,null,null,null,null,null,null,null,null,null,null,null,null,null,null,null,null,null,null,null,null,null,null,null,null,null,null,null,null,null,null,null,null,null,null,null,null,null,null,null,null,null,null,null,null,"",""]
[null,null,null,null,null,null,null,null,null,null,null,null,null,null,null,null,null,null,null,null,null,null,null,null,null,null,null,null,null,null,null,null,null,null,null,null,null,null,null,null,null,null,null,null,null,null,null,null,null,null,null,null,null,"",""]
[null,null,null,null,null,null,null,null,null,null,null,null,null,null,null,null,null,null,null,null,null,null,null,null,null,null,null,null,null,null,null,null,null,null,null,null,null,null,null,null,null,null,null,null,null,null,null,null,null,null,null,null,null,"",""]
[null,null,null,null,null,null,null,null,null,null,null,null,null,null,null,null,null,null,null,null,null,null,null,null,null,null,null,null,null,null,null,null,null,null,null,null,null,null,null,null,null,null,null,null,null,null,null,null,null,null,null,null,null,"",""]
[null,null,null,null,null,null,null,null,null,null,null,null,null,null,null,null,null,null,null,null,null,null,null,null,null,null,null,null,null,null,null,null,null,null,null,null,null,null,null,null,null,null,null,null,null,null,null,null,null,null,null,null,null,"",""]
[null,null,null,null,null,null,null,null,null,null,null,null,null,null,null,null,null,null,null,null,null,null,null,null,null,null,null,null,null,null,null,null,null,null,null,null,null,null,null,null,null,null,null,null,null,null,null,null,null,null,null,null,null,"",""]
[null,null,null,null,null,null,null,null,null,null,null,null,null,null,null,null,null,null,null,null,null,null,null,null,null,null,null,null,null,null,null,null,null,null,null,null,null,null,null,null,null,null,null,null,null,null,null,null,null,null,null,null,null,"",""]
[null,null,null,null,null,null,null,null,null,null,null,null,null,null,null,null,null,null,null,null,null,null,null,null,null,null,null,null,null,null,null,null,null,null,null,null,null,null,null,null,null,null,null,null,null,null,null,null,null,null,null,null,null,"",""]
[null,null,null,null,null,null,null,null,null,null,null,null,null,null,null,null,null,null,null,null,null,null,null,null,null,null,null,null,null,null,null,null,null,null,null,null,null,null,null,null,null,null,null,null,null,null,null,null,null,null,null,null,null,"",""]
[null,null,null,null,null,null,null,null,null,null,null,null,null,null,null,null,null,null,null,null,null,null,null,null,null,null,null,null,null,null,null,null,null,null,null,null,null,null,null,null,null,null,null,null,null,null,null,null,null,null,null,null,null,"",""]
[null,null,null,null,null,null,null,null,null,null,null,null,null,null,null,null,null,null,null,null,null,null,null,null,null,null,null,null,null,null,null,null,null,null,null,null,null,null,null,null,null,null,null,null,null,null,null,null,null,null,null,null,null,"",""]
[null,null,null,null,null,null,null,null,null,null,null,null,null,null,null,null,null,null,null,null,null,null,null,null,null,null,null,null,null,null,null,null,null,null,null,null,null,null,null,null,null,null,null,null,null,null,null,null,null,null,null,null,null,"",""]
[null,null,null,null,null,null,null,null,null,null,null,null,null,null,null,null,null,null,null,null,null,null,null,null,null,null,null,null,null,null,null,null,null,null,null,null,null,null,null,null,null,null,null,null,null,null,null,null,null,null,null,null,null,"",""]
[null,null,null,null,null,null,null,null,null,null,null,null,null,null,null,null,null,null,null,null,null,null,null,null,null,null,null,null,null,null,null,null,null,null,null,null,null,null,null,null,null,null,null,null,null,null,null,null,null,null,null,null,null,"",""]
[null,null,null,null,null,null,null,null,null,null,null,null,null,null,null,null,null,null,null,null,null,null,null,null,null,null,null,null,null,null,null,null,null,null,null,null,null,null,null,null,null,null,null,null,null,null,null,null,null,null,null,null,null,"",""]
[null,null,null,null,null,null,null,null,null,null,null,null,null,null,null,null,null,null,null,null,null,null,null,null,null,null,null,null,null,null,null,null,null,null,null,null,null,null,null,null,null,null,null,null,null,null,null,null,null,null,null,null,null,"",""]
[null,null,null,null,null,null,null,null,null,null,null,null,null,null,null,null,null,null,null,null,null,null,null,null,null,null,null,null,null,null,null,null,null,null,null,null,null,null,null,null,null,null,null,null,null,null,null,null,null,null,null,null,null,"",""]
[null,null,null,null,null,null,null,null,null,null,null,null,null,null,null,null,null,null,null,null,null,null,null,null,null,null,null,null,null,null,null,null,null,null,null,null,null,null,null,null,null,null,null,null,null,null,null,null,null,null,null,null,null,"",""]
[null,null,null,null,null,null,null,null,null,null,null,null,null,null,null,null,null,null,null,null,null,null,null,null,null,null,null,null,null,null,null,null,null,null,null,null,null,null,null,null,null,null,null,null,null,null,null,null,null,null,null,null,null,"",""]
[null,null,null,null,null,null,null,null,null,null,null,null,null,null,null,null,null,null,null,null,null,null,null,null,null,null,null,null,null,null,null,null,null,null,null,null,null,null,null,null,null,null,null,null,null,null,null,null,null,null,null,null,null,"",""]
[null,null,null,null,null,null,null,null,null,null,null,null,null,null,null,null,null,null,null,null,null,null,null,null,null,null,null,null,null,null,null,null,null,null,null,null,null,null,null,null,null,null,null,null,null,null,null,null,null,null,null,null,null,"",""]
[null,null,null,null,null,null,null,null,null,null,null,null,null,null,null,null,null,null,null,null,null,null,null,null,null,null,null,null,null,null,null,null,null,null,null,null,null,null,null,null,null,null,null,null,null,null,null,null,null,null,null,null,null,"",""]
[null,null,null,null,null,null,null,null,null,null,null,null,null,null,null,null,null,null,null,null,null,null,null,null,null,null,null,null,null,null,null,null,null,null,null,null,null,null,null,null,null,null,null,null,null,null,null,null,null,null,null,null,null,"",""]
[null,null,null,null,null,null,null,null,null,null,null,null,null,null,null,null,null,null,null,null,null,null,null,null,null,null,null,null,null,null,null,null,null,null,null,null,null,null,null,null,null,null,null,null,null,null,null,null,null,null,null,null,null,"",""]
[null,null,null,null,null,null,null,null,null,null,null,null,null,null,null,null,null,null,null,null,null,null,null,null,null,null,null,null,null,null,null,null,null,null,null,null,null,null,null,null,null,null,null,null,null,null,null,null,null,null,null,null,null,"",""]
[null,null,null,null,null,null,null,null,null,null,null,null,null,null,null,null,null,null,null,null,null,null,null,null,null,null,null,null,null,null,null,null,null,null,null,null,null,null,null,null,null,null,null,null,null,null,null,null,null,null,null,null,null,"",""]
[null,null,null,null,null,null,null,null,null,null,null,null,null,null,null,null,null,null,null,null,null,null,null,null,null,null,null,null,null,null,null,null,null,null,null,null,null,null,null,null,null,null,null,null,null,null,null,null,null,null,null,null,null,"",""]
[null,null,null,null,null,null,null,null,null,null,null,null,null,null,null,null,null,null,null,null,null,null,null,null,null,null,null,null,null,null,null,null,null,null,null,null,null,null,null,null,null,null,null,null,null,null,null,null,null,null,null,null,null,"",""]
[null,null,null,null,null,null,null,null,null,null,null,null,null,null,null,null,null,null,null,null,null,null,null,null,null,null,null,null,null,null,null,null,null,null,null,null,null,null,null,null,null,null,null,null,null,null,null,null,null,null,null,null,null,"",""]
[null,null,null,null,null,null,null,null,null,null,null,null,null,null,null,null,null,null,null,null,null,null,null,null,null,null,null,null,null,null,null,null,null,null,null,null,null,null,null,null,null,null,null,null,null,null,null,null,null,null,null,null,null,"",""]
[null,null,null,null,null,null,null,null,null,null,null,null,null,null,null,null,null,null,null,null,null,null,null,null,null,null,null,null,null,null,null,null,null,null,null,null,null,null,null,null,null,null,null,null,null,null,null,null,null,null,null,null,null,"",""]
[null,null,null,null,null,null,null,null,null,null,null,null,null,null,null,null,null,null,null,null,null,null,null,null,null,null,null,null,null,null,null,null,null,null,null,null,null,null,null,null,null,null,null,null,null,null,null,null,null,null,null,null,null,"",""]
[null,null,null,null,null,null,null,null,null,null,null,null,null,null,null,null,null,null,null,null,null,null,null,null,null,null,null,null,null,null,null,null,null,null,null,null,null,null,null,null,null,null,null,null,null,null,null,null,null,null,null,null,null,{"$f":"H71&L71&M71","v":""},{"$f":"H71&L71&M71&N71&O71&P71","v":""}]
[null,null,null,null,null,null,null,null,null,null,null,null,null,null,null,null,null,null,null,null,null,null,null,null,null,null,null,null,null,null,null,null,null,null,null,null,null,null,null,null,null,null,null,null,null,null,null,null,null,null,null,null,null,"",""]
[null,null,null,null,null,null,null,null,null,null,null,null,null,null,null,null,null,null,null,null,null,null,null,null,null,null,null,null,null,null,null,null,null,null,null,null,null,null,null,null,null,null,null,null,null,null,null,null,null,null,null,null,null,"",""]
[null,null,null,null,null,null,null,null,null,null,null,null,null,null,null,null,null,null,null,null,null,null,null,null,null,null,null,null,null,null,null,null,null,null,null,null,null,null,null,null,null,null,null,null,null,null,null,null,null,null,null,null,null,"",""]
[null,null,null,null,null,null,null,null,null,null,null,null,null,null,null,null,null,null,null,null,null,null,null,null,null,null,null,null,null,null,null,null,null,null,null,null,null,null,null,null,null,null,null,null,null,null,null,null,null,null,null,null,null,"",""]
[null,null,null,null,null,null,null,null,null,null,null,null,null,null,null,null,null,null,null,null,null,null,null,null,null,null,null,null,null,null,null,null,null,null,null,null,null,null,null,null,null,null,null,null,null,null,null,null,null,null,null,null,null,"",""]
[null,null,null,null,null,null,null,null,null,null,null,null,null,null,null,null,null,null,null,null,null,null,null,null,null,null,null,null,null,null,null,null,null,null,null,null,null,null,null,null,null,null,null,null,null,null,null,null,null,null,null,null,null,"",""]
[null,null,null,null,null,null,null,null,null,null,null,null,null,null,null,null,null,null,null,null,null,null,null,null,null,null,null,null,null,null,null,null,null,null,null,null,null,null,null,null,null,null,null,null,null,null,null,null,null,null,null,null,null,"",""]
[null,null,null,null,null,null,null,null,null,null,null,null,null,null,null,null,null,null,null,null,null,null,null,null,null,null,null,null,null,null,null,null,null,null,null,null,null,null,null,null,null,null,null,null,null,null,null,null,null,null,null,null,null,"",""]
[null,null,null,null,null,null,null,null,null,null,null,null,null,null,null,null,null,null,null,null,null,null,null,null,null,null,null,null,null,null,null,null,null,null,null,null,null,null,null,null,null,null,null,null,null,null,null,null,null,null,null,null,null,"",""]
[null,null,null,null,null,null,null,null,null,null,null,null,null,null,null,null,null,null,null,null,null,null,null,null,null,null,null,null,null,null,null,null,null,null,null,null,null,null,null,null,null,null,null,null,null,null,null,null,null,null,null,null,null,"",""]
[null,null,null,null,null,null,null,null,null,null,null,null,null,null,null,null,null,null,null,null,null,null,null,null,null,null,null,null,null,null,null,null,null,null,null,null,null,null,null,null,null,null,null,null,null,null,null,null,null,null,null,null,null,"",""]
[null,null,null,null,null,null,null,null,null,null,null,null,null,null,null,null,null,null,null,null,null,null,null,null,null,null,null,null,null,null,null,null,null,null,null,null,null,null,null,null,null,null,null,null,null,null,null,null,null,null,null,null,null,"",""]
[null,null,null,null,null,null,null,null,null,null,null,null,null,null,null,null,null,null,null,null,null,null,null,null,null,null,null,null,null,null,null,null,null,null,null,null,null,null,null,null,null,null,null,null,null,null,null,null,null,null,null,null,null,"",""]
[null,null,null,null,null,null,null,null,null,null,null,null,null,null,null,null,null,null,null,null,null,null,null,null,null,null,null,null,null,null,null,null,null,null,null,null,null,null,null,null,null,null,null,null,null,null,null,null,null,null,null,null,null,"",""]
[null,null,null,null,null,null,null,null,null,null,null,null,null,null,null,null,null,null,null,null,null,null,null,null,null,null,null,null,null,null,null,null,null,null,null,null,null,null,null,null,null,null,null,null,null,null,null,null,null,null,null,null,null,"",""]
[null,null,null,null,null,null,null,null,null,null,null,null,null,null,null,null,null,null,null,null,null,null,null,null,null,null,null,null,null,null,null,null,null,null,null,null,null,null,null,null,null,null,null,null,null,null,null,null,null,null,null,null,null,"",""]
[null,null,null,null,null,null,null,null,null,null,null,null,null,null,null,null,null,null,null,null,null,null,null,null,null,null,null,null,null,null,null,null,null,null,null,null,null,null,null,null,null,null,null,null,null,null,null,null,null,null,null,null,null,"",""]
[null,null,null,null,null,null,null,null,null,null,null,null,null,null,null,null,null,null,null,null,null,null,null,null,null,null,null,null,null,null,null,null,null,null,null,null,null,null,null,null,null,null,null,null,null,null,null,null,null,null,null,null,null,"",""]
[null,null,null,null,null,null,null,null,null,null,null,null,null,null,null,null,null,null,null,null,null,null,null,null,null,null,null,null,null,null,null,null,null,null,null,null,null,null,null,null,null,null,null,null,null,null,null,null,null,null,null,null,null,"",""]
[null,null,null,null,null,null,null,null,null,null,null,null,null,null,null,null,null,null,null,null,null,null,null,null,null,null,null,null,null,null,null,null,null,null,null,null,null,null,null,null,null,null,null,null,null,null,null,null,null,null,null,null,null,"",""]
[null,null,null,null,null,null,null,null,null,null,null,null,null,null,null,null,null,null,null,null,null,null,null,null,null,null,null,null,null,null,null,null,null,null,null,null,null,null,null,null,null,null,null,null,null,null,null,null,null,null,null,null,null,"",""]
[null,null,null,null,null,null,null,null,null,null,null,null,null,null,null,null,null,null,null,null,null,null,null,null,null,null,null,null,null,null,null,null,null,null,null,null,null,null,null,null,null,null,null,null,null,null,null,null,null,null,null,null,null,"",""]
[null,null,null,null,null,null,null,null,null,null,null,null,null,null,null,null,null,null,null,null,null,null,null,null,null,null,null,null,null,null,null,null,null,null,null,null,null,null,null,null,null,null,null,null,null,null,null,null,null,null,null,null,null,"",""]
[null,null,null,null,null,null,null,null,null,null,null,null,null,null,null,null,null,null,null,null,null,null,null,null,null,null,null,null,null,null,null,null,null,null,null,null,null,null,null,null,null,null,null,null,null,null,null,null,null,null,null,null,null,"",""]
[null,null,null,null,null,null,null,null,null,null,null,null,null,null,null,null,null,null,null,null,null,null,null,null,null,null,null,null,null,null,null,null,null,null,null,null,null,null,null,null,null,null,null,null,null,null,null,null,null,null,null,null,null,"",""]
[null,null,null,null,null,null,null,null,null,null,null,null,null,null,null,null,null,null,null,null,null,null,null,null,null,null,null,null,null,null,null,null,null,null,null,null,null,null,null,null,null,null,null,null,null,null,null,null,null,null,null,null,null,"",""]
[null,null,null,null,null,null,null,null,null,null,null,null,null,null,null,null,null,null,null,null,null,null,null,null,null,null,null,null,null,null,null,null,null,null,null,null,null,null,null,null,null,null,null,null,null,null,null,null,null,null,null,null,null,"",""]
[null,null,null,null,null,null,null,null,null,null,null,null,null,null,null,null,null,null,null,null,null,null,null,null,null,null,null,null,null,null,null,null,null,null,null,null,null,null,null,null,null,null,null,null,null,null,null,null,null,null,null,null,null,"",""]
[null,null,null,null,null,null,null,null,null,null,null,null,null,null,null,null,null,null,null,null,null,null,null,null,null,null,null,null,null,null,null,null,null,null,null,null,null,null,null,null,null,null,null,null,null,null,null,null,null,null,null,null,null,"",""]
[null,null,null,null,null,null,null,null,null,null,null,null,null,null,null,null,null,null,null,null,null,null,null,null,null,null,null,null,null,null,null,null,null,null,null,null,null,null,null,null,null,null,null,null,null,null,null,null,null,null,null,null,null,"",""]
[null,null,null,null,null,null,null,null,null,null,null,null,null,null,null,null,null,null,null,null,null,null,null,null,null,null,null,null,null,null,null,null,null,null,null,null,null,null,null,null,null,null,null,null,null,null,null,null,null,null,null,null,null,"",""]
[null,null,null,null,null,null,null,null,null,null,null,null,null,null,null,null,null,null,null,null,null,null,null,null,null,null,null,null,null,null,null,null,null,null,null,null,null,null,null,null,null,null,null,null,null,null,null,null,null,null,null,null,null,"",""]
[null,null,null,null,null,null,null,null,null,null,null,null,null,null,null,null,null,null,null,null,null,null,null,null,null,null,null,null,null,null,null,null,null,null,null,null,null,null,null,null,null,null,null,null,null,null,null,null,null,null,null,null,null,"",""]
[null,null,null,null,null,null,null,null,null,null,null,null,null,null,null,null,null,null,null,null,null,null,null,null,null,null,null,null,null,null,null,null,null,null,null,null,null,null,null,null,null,null,null,null,null,null,null,null,null,null,null,null,null,"",""]
[null,null,null,null,null,null,null,null,null,null,null,null,null,null,null,null,null,null,null,null,null,null,null,null,null,null,null,null,null,null,null,null,null,null,null,null,null,null,null,null,null,null,null,null,null,null,null,null,null,null,null,null,null,"",""]
[null,null,null,null,null,null,null,null,null,null,null,null,null,null,null,null,null,null,null,null,null,null,null,null,null,null,null,null,null,null,null,null,null,null,null,null,null,null,null,null,null,null,null,null,null,null,null,null,null,null,null,null,null,"",""]
[null,null,null,null,null,null,null,null,null,null,null,null,null,null,null,null,null,null,null,null,null,null,null,null,null,null,null,null,null,null,null,null,null,null,null,null,null,null,null,null,null,null,null,null,null,null,null,null,null,null,null,null,null,"",""]
[null,null,null,null,null,null,null,null,null,null,null,null,null,null,null,null,null,null,null,null,null,null,null,null,null,null,null,null,null,null,null,null,null,null,null,null,null,null,null,null,null,null,null,null,null,null,null,null,null,null,null,null,null,"",""]
[null,null,null,null,null,null,null,null,null,null,null,null,null,null,null,null,null,null,null,null,null,null,null,null,null,null,null,null,null,null,null,null,null,null,null,null,null,null,null,null,null,null,null,null,null,null,null,null,null,null,null,null,null,"",""]
[null,null,null,null,null,null,null,null,null,null,null,null,null,null,null,null,null,null,null,null,null,null,null,null,null,null,null,null,null,null,null,null,null,null,null,null,null,null,null,null,null,null,null,null,null,null,null,null,null,null,null,null,null,"",""]
[null,null,null,null,null,null,null,null,null,null,null,null,null,null,null,null,null,null,null,null,null,null,null,null,null,null,null,null,null,null,null,null,null,null,null,null,null,null,null,null,null,null,null,null,null,null,null,null,null,null,null,null,null,"",""]
[null,null,null,null,null,null,null,null,null,null,null,null,null,null,null,null,null,null,null,null,null,null,null,null,null,null,null,null,null,null,null,null,null,null,null,null,null,null,null,null,null,null,null,null,null,null,null,null,null,null,null,null,null,"",""]
[null,null,null,null,null,null,null,null,null,null,null,null,null,null,null,null,null,null,null,null,null,null,null,null,null,null,null,null,null,null,null,null,null,null,null,null,null,null,null,null,null,null,null,null,null,null,null,null,null,null,null,null,null,"",""]
[null,null,null,null,null,null,null,null,null,null,null,null,null,null,null,null,null,null,null,null,null,null,null,null,null,null,null,null,null,null,null,null,null,null,null,null,null,null,null,null,null,null,null,null,null,null,null,null,null,null,null,null,null,"",""]
[null,null,null,null,null,null,null,null,null,null,null,null,null,null,null,null,null,null,null,null,null,null,null,null,null,null,null,null,null,null,null,null,null,null,null,null,null,null,null,null,null,null,null,null,null,null,null,null,null,null,null,null,null,"",""]
[null,null,null,null,null,null,null,null,null,null,null,null,null,null,null,null,null,null,null,null,null,null,null,null,null,null,null,null,null,null,null,null,null,null,null,null,null,null,null,null,null,null,null,null,null,null,null,null,null,null,null,null,null,"",""]
[null,null,null,null,null,null,null,null,null,null,null,null,null,null,null,null,null,null,null,null,null,null,null,null,null,null,null,null,null,null,null,null,null,null,null,null,null,null,null,null,null,null,null,null,null,null,null,null,null,null,null,null,null,"",""]
[null,null,null,null,null,null,null,null,null,null,null,null,null,null,null,null,null,null,null,null,null,null,null,null,null,null,null,null,null,null,null,null,null,null,null,null,null,null,null,null,null,null,null,null,null,null,null,null,null,null,null,null,null,"",""]
[null,null,null,null,null,null,null,null,null,null,null,null,null,null,null,null,null,null,null,null,null,null,null,null,null,null,null,null,null,null,null,null,null,null,null,null,null,null,null,null,null,null,null,null,null,null,null,null,null,null,null,null,null,"",""]
[null,null,null,null,null,null,null,null,null,null,null,null,null,null,null,null,null,null,null,null,null,null,null,null,null,null,null,null,null,null,null,null,null,null,null,null,null,null,null,null,null,null,null,null,null,null,null,null,null,null,null,null,null,"",""]
[null,null,null,null,null,null,null,null,null,null,null,null,null,null,null,null,null,null,null,null,null,null,null,null,null,null,null,null,null,null,null,null,null,null,null,null,null,null,null,null,null,null,null,null,null,null,null,null,null,null,null,null,null,"",""]
[null,null,null,null,null,null,null,null,null,null,null,null,null,null,null,null,null,null,null,null,null,null,null,null,null,null,null,null,null,null,null,null,null,null,null,null,null,null,null,null,null,null,null,null,null,null,null,null,null,null,null,null,null,"",""]
[null,null,null,null,null,null,null,null,null,null,null,null,null,null,null,null,null,null,null,null,null,null,null,null,null,null,null,null,null,null,null,null,null,null,null,null,null,null,null,null,null,null,null,null,null,null,null,null,null,null,null,null,null,"",""]
[null,null,null,null,null,null,null,null,null,null,null,null,null,null,null,null,null,null,null,null,null,null,null,null,null,null,null,null,null,null,null,null,null,null,null,null,null,null,null,null,null,null,null,null,null,null,null,null,null,null,null,null,null,"",""]
[null,null,null,null,null,null,null,null,null,null,null,null,null,null,null,null,null,null,null,null,null,null,null,null,null,null,null,null,null,null,null,null,null,null,null,null,null,null,null,null,null,null,null,null,null,null,null,null,null,null,null,null,null,"",""]
[null,null,null,null,null,null,null,null,null,null,null,null,null,null,null,null,null,null,null,null,null,null,null,null,null,null,null,null,null,null,null,null,null,null,null,null,null,null,null,null,null,null,null,null,null,null,null,null,null,null,null,null,null,"",""]
[null,null,null,null,null,null,null,null,null,null,null,null,null,null,null,null,null,null,null,null,null,null,null,null,null,null,null,null,null,null,null,null,null,null,null,null,null,null,null,null,null,null,null,null,null,null,null,null,null,null,null,null,null,"",""]
[null,null,null,null,null,null,null,null,null,null,null,null,null,null,null,null,null,null,null,null,null,null,null,null,null,null,null,null,null,null,null,null,null,null,null,null,null,null,null,null,null,null,null,null,null,null,null,null,null,null,null,null,null,"",""]
[null,null,null,null,null,null,null,null,null,null,null,null,null,null,null,null,null,null,null,null,null,null,null,null,null,null,null,null,null,null,null,null,null,null,null,null,null,null,null,null,null,null,null,null,null,null,null,null,null,null,null,null,null,"",""]
[null,null,null,null,null,null,null,null,null,null,null,null,null,null,null,null,null,null,null,null,null,null,null,null,null,null,null,null,null,null,null,null,null,null,null,null,null,null,null,null,null,null,null,null,null,null,null,null,null,null,null,null,null,"",""]
[null,null,null,null,null,null,null,null,null,null,null,null,null,null,null,null,null,null,null,null,null,null,null,null,null,null,null,null,null,null,null,null,null,null,null,null,null,null,null,null,null,null,null,null,null,null,null,null,null,null,null,null,null,"",""]
[null,null,null,null,null,null,null,null,null,null,null,null,null,null,null,null,null,null,null,null,null,null,null,null,null,null,null,null,null,null,null,null,null,null,null,null,null,null,null,null,null,null,null,null,null,null,null,null,null,null,null,null,null,"",""]
[null,null,null,null,null,null,null,null,null,null,null,null,null,null,null,null,null,null,null,null,null,null,null,null,null,null,null,null,null,null,null,null,null,null,null,null,null,null,null,null,null,null,null,null,null,null,null,null,null,null,null,null,null,"",""]
[null,null,null,null,null,null,null,null,null,null,null,null,null,null,null,null,null,null,null,null,null,null,null,null,null,null,null,null,null,null,null,null,null,null,null,null,null,null,null,null,null,null,null,null,null,null,null,null,null,null,null,null,null,{"$f":"H135&L135&M135","v":""},{"$f":"H135&L135&M135&N135&O135&P135","v":""}]
[null,null,null,null,null,null,null,null,null,null,null,null,null,null,null,null,null,null,null,null,null,null,null,null,null,null,null,null,null,null,null,null,null,null,null,null,null,null,null,null,null,null,null,null,null,null,null,null,null,null,null,null,null,"",""]
[null,null,null,null,null,null,null,null,null,null,null,null,null,null,null,null,null,null,null,null,null,null,null,null,null,null,null,null,null,null,null,null,null,null,null,null,null,null,null,null,null,null,null,null,null,null,null,null,null,null,null,null,null,"",""]
[null,null,null,null,null,null,null,null,null,null,null,null,null,null,null,null,null,null,null,null,null,null,null,null,null,null,null,null,null,null,null,null,null,null,null,null,null,null,null,null,null,null,null,null,null,null,null,null,null,null,null,null,null,"",""]
[null,null,null,null,null,null,null,null,null,null,null,null,null,null,null,null,null,null,null,null,null,null,null,null,null,null,null,null,null,null,null,null,null,null,null,null,null,null,null,null,null,null,null,null,null,null,null,null,null,null,null,null,null,"",""]
[null,null,null,null,null,null,null,null,null,null,null,null,null,null,null,null,null,null,null,null,null,null,null,null,null,null,null,null,null,null,null,null,null,null,null,null,null,null,null,null,null,null,null,null,null,null,null,null,null,null,null,null,null,"",""]
[null,null,null,null,null,null,null,null,null,null,null,null,null,null,null,null,null,null,null,null,null,null,null,null,null,null,null,null,null,null,null,null,null,null,null,null,null,null,null,null,null,null,null,null,null,null,null,null,null,null,null,null,null,"",""]
[null,null,null,null,null,null,null,null,null,null,null,null,null,null,null,null,null,null,null,null,null,null,null,null,null,null,null,null,null,null,null,null,null,null,null,null,null,null,null,null,null,null,null,null,null,null,null,null,null,null,null,null,null,"",""]
[null,null,null,null,null,null,null,null,null,null,null,null,null,null,null,null,null,null,null,null,null,null,null,null,null,null,null,null,null,null,null,null,null,null,null,null,null,null,null,null,null,null,null,null,null,null,null,null,null,null,null,null,null,"",""]
[null,null,null,null,null,null,null,null,null,null,null,null,null,null,null,null,null,null,null,null,null,null,null,null,null,null,null,null,null,null,null,null,null,null,null,null,null,null,null,null,null,null,null,null,null,null,null,null,null,null,null,null,null,"",""]
[null,null,null,null,null,null,null,null,null,null,null,null,null,null,null,null,null,null,null,null,null,null,null,null,null,null,null,null,null,null,null,null,null,null,null,null,null,null,null,null,null,null,null,null,null,null,null,null,null,null,null,null,null,"",""]
[null,null,null,null,null,null,null,null,null,null,null,null,null,null,null,null,null,null,null,null,null,null,null,null,null,null,null,null,null,null,null,null,null,null,null,null,null,null,null,null,null,null,null,null,null,null,null,null,null,null,null,null,null,"",""]
[null,null,null,null,null,null,null,null,null,null,null,null,null,null,null,null,null,null,null,null,null,null,null,null,null,null,null,null,null,null,null,null,null,null,null,null,null,null,null,null,null,null,null,null,null,null,null,null,null,null,null,null,null,"",""]
[null,null,null,null,null,null,null,null,null,null,null,null,null,null,null,null,null,null,null,null,null,null,null,null,null,null,null,null,null,null,null,null,null,null,null,null,null,null,null,null,null,null,null,null,null,null,null,null,null,null,null,null,null,"",""]
[null,null,null,null,null,null,null,null,null,null,null,null,null,null,null,null,null,null,null,null,null,null,null,null,null,null,null,null,null,null,null,null,null,null,null,null,null,null,null,null,null,null,null,null,null,null,null,null,null,null,null,null,null,"",""]
[null,null,null,null,null,null,null,null,null,null,null,null,null,null,null,null,null,null,null,null,null,null,null,null,null,null,null,null,null,null,null,null,null,null,null,null,null,null,null,null,null,null,null,null,null,null,null,null,null,null,null,null,null,"",""]
[null,null,null,null,null,null,null,null,null,null,null,null,null,null,null,null,null,null,null,null,null,null,null,null,null,null,null,null,null,null,null,null,null,null,null,null,null,null,null,null,null,null,null,null,null,null,null,null,null,null,null,null,null,"",""]
[null,null,null,null,null,null,null,null,null,null,null,null,null,null,null,null,null,null,null,null,null,null,null,null,null,null,null,null,null,null,null,null,null,null,null,null,null,null,null,null,null,null,null,null,null,null,null,null,null,null,null,null,null,"",""]
[null,null,null,null,null,null,null,null,null,null,null,null,null,null,null,null,null,null,null,null,null,null,null,null,null,null,null,null,null,null,null,null,null,null,null,null,null,null,null,null,null,null,null,null,null,null,null,null,null,null,null,null,null,"",""]
[null,null,null,null,null,null,null,null,null,null,null,null,null,null,null,null,null,null,null,null,null,null,null,null,null,null,null,null,null,null,null,null,null,null,null,null,null,null,null,null,null,null,null,null,null,null,null,null,null,null,null,null,null,"",""]
[null,null,null,null,null,null,null,null,null,null,null,null,null,null,null,null,null,null,null,null,null,null,null,null,null,null,null,null,null,null,null,null,null,null,null,null,null,null,null,null,null,null,null,null,null,null,null,null,null,null,null,null,null,"",""]
[null,null,null,null,null,null,null,null,null,null,null,null,null,null,null,null,null,null,null,null,null,null,null,null,null,null,null,null,null,null,null,null,null,null,null,null,null,null,null,null,null,null,null,null,null,null,null,null,null,null,null,null,null,"",""]
[null,null,null,null,null,null,null,null,null,null,null,null,null,null,null,null,null,null,null,null,null,null,null,null,null,null,null,null,null,null,null,null,null,null,null,null,null,null,null,null,null,null,null,null,null,null,null,null,null,null,null,null,null,"",""]
[null,null,null,null,null,null,null,null,null,null,null,null,null,null,null,null,null,null,null,null,null,null,null,null,null,null,null,null,null,null,null,null,null,null,null,null,null,null,null,null,null,null,null,null,null,null,null,null,null,null,null,null,null,"",""]
[null,null,null,null,null,null,null,null,null,null,null,null,null,null,null,null,null,null,null,null,null,null,null,null,null,null,null,null,null,null,null,null,null,null,null,null,null,null,null,null,null,null,null,null,null,null,null,null,null,null,null,null,null,"",""]
[null,null,null,null,null,null,null,null,null,null,null,null,null,null,null,null,null,null,null,null,null,null,null,null,null,null,null,null,null,null,null,null,null,null,null,null,null,null,null,null,null,null,null,null,null,null,null,null,null,null,null,null,null,"",""]
[null,null,null,null,null,null,null,null,null,null,null,null,null,null,null,null,null,null,null,null,null,null,null,null,null,null,null,null,null,null,null,null,null,null,null,null,null,null,null,null,null,null,null,null,null,null,null,null,null,null,null,null,null,"",""]
[null,null,null,null,null,null,null,null,null,null,null,null,null,null,null,null,null,null,null,null,null,null,null,null,null,null,null,null,null,null,null,null,null,null,null,null,null,null,null,null,null,null,null,null,null,null,null,null,null,null,null,null,null,"",""]
[null,null,null,null,null,null,null,null,null,null,null,null,null,null,null,null,null,null,null,null,null,null,null,null,null,null,null,null,null,null,null,null,null,null,null,null,null,null,null,null,null,null,null,null,null,null,null,null,null,null,null,null,null,"",""]
[null,null,null,null,null,null,null,null,null,null,null,null,null,null,null,null,null,null,null,null,null,null,null,null,null,null,null,null,null,null,null,null,null,null,null,null,null,null,null,null,null,null,null,null,null,null,null,null,null,null,null,null,null,"",""]
[null,null,null,null,null,null,null,null,null,null,null,null,null,null,null,null,null,null,null,null,null,null,null,null,null,null,null,null,null,null,null,null,null,null,null,null,null,null,null,null,null,null,null,null,null,null,null,null,null,null,null,null,null,"",""]
[null,null,null,null,null,null,null,null,null,null,null,null,null,null,null,null,null,null,null,null,null,null,null,null,null,null,null,null,null,null,null,null,null,null,null,null,null,null,null,null,null,null,null,null,null,null,null,null,null,null,null,null,null,"",""]
[null,null,null,null,null,null,null,null,null,null,null,null,null,null,null,null,null,null,null,null,null,null,null,null,null,null,null,null,null,null,null,null,null,null,null,null,null,null,null,null,null,null,null,null,null,null,null,null,null,null,null,null,null,"",""]
[null,null,null,null,null,null,null,null,null,null,null,null,null,null,null,null,null,null,null,null,null,null,null,null,null,null,null,null,null,null,null,null,null,null,null,null,null,null,null,null,null,null,null,null,null,null,null,null,null,null,null,null,null,"",""]
[null,null,null,null,null,null,null,null,null,null,null,null,null,null,null,null,null,null,null,null,null,null,null,null,null,null,null,null,null,null,null,null,null,null,null,null,null,null,null,null,null,null,null,null,null,null,null,null,null,null,null,null,null,"",""]
[null,null,null,null,null,null,null,null,null,null,null,null,null,null,null,null,null,null,null,null,null,null,null,null,null,null,null,null,null,null,null,null,null,null,null,null,null,null,null,null,null,null,null,null,null,null,null,null,null,null,null,null,null,"",""]
[null,null,null,null,null,null,null,null,null,null,null,null,null,null,null,null,null,null,null,null,null,null,null,null,null,null,null,null,null,null,null,null,null,null,null,null,null,null,null,null,null,null,null,null,null,null,null,null,null,null,null,null,null,"",""]
[null,null,null,null,null,null,null,null,null,null,null,null,null,null,null,null,null,null,null,null,null,null,null,null,null,null,null,null,null,null,null,null,null,null,null,null,null,null,null,null,null,null,null,null,null,null,null,null,null,null,null,null,null,"",""]
[null,null,null,null,null,null,null,null,null,null,null,null,null,null,null,null,null,null,null,null,null,null,null,null,null,null,null,null,null,null,null,null,null,null,null,null,null,null,null,null,null,null,null,null,null,null,null,null,null,null,null,null,null,"",""]
[null,null,null,null,null,null,null,null,null,null,null,null,null,null,null,null,null,null,null,null,null,null,null,null,null,null,null,null,null,null,null,null,null,null,null,null,null,null,null,null,null,null,null,null,null,null,null,null,null,null,null,null,null,"",""]
[null,null,null,null,null,null,null,null,null,null,null,null,null,null,null,null,null,null,null,null,null,null,null,null,null,null,null,null,null,null,null,null,null,null,null,null,null,null,null,null,null,null,null,null,null,null,null,null,null,null,null,null,null,"",""]
[null,null,null,null,null,null,null,null,null,null,null,null,null,null,null,null,null,null,null,null,null,null,null,null,null,null,null,null,null,null,null,null,null,null,null,null,null,null,null,null,null,null,null,null,null,null,null,null,null,null,null,null,null,"",""]
[null,null,null,null,null,null,null,null,null,null,null,null,null,null,null,null,null,null,null,null,null,null,null,null,null,null,null,null,null,null,null,null,null,null,null,null,null,null,null,null,null,null,null,null,null,null,null,null,null,null,null,null,null,"",""]
[null,null,null,null,null,null,null,null,null,null,null,null,null,null,null,null,null,null,null,null,null,null,null,null,null,null,null,null,null,null,null,null,null,null,null,null,null,null,null,null,null,null,null,null,null,null,null,null,null,null,null,null,null,"",""]
[null,null,null,null,null,null,null,null,null,null,null,null,null,null,null,null,null,null,null,null,null,null,null,null,null,null,null,null,null,null,null,null,null,null,null,null,null,null,null,null,null,null,null,null,null,null,null,null,null,null,null,null,null,"",""]
[null,null,null,null,null,null,null,null,null,null,null,null,null,null,null,null,null,null,null,null,null,null,null,null,null,null,null,null,null,null,null,null,null,null,null,null,null,null,null,null,null,null,null,null,null,null,null,null,null,null,null,null,null,"",""]
[null,null,null,null,null,null,null,null,null,null,null,null,null,null,null,null,null,null,null,null,null,null,null,null,null,null,null,null,null,null,null,null,null,null,null,null,null,null,null,null,null,null,null,null,null,null,null,null,null,null,null,null,null,"",""]
[null,null,null,null,null,null,null,null,null,null,null,null,null,null,null,null,null,null,null,null,null,null,null,null,null,null,null,null,null,null,null,null,null,null,null,null,null,null,null,null,null,null,null,null,null,null,null,null,null,null,null,null,null,"",""]
[null,null,null,null,null,null,null,null,null,null,null,null,null,null,null,null,null,null,null,null,null,null,null,null,null,null,null,null,null,null,null,null,null,null,null,null,null,null,null,null,null,null,null,null,null,null,null,null,null,null,null,null,null,"",""]
[null,null,null,null,null,null,null,null,null,null,null,null,null,null,null,null,null,null,null,null,null,null,null,null,null,null,null,null,null,null,null,null,null,null,null,null,null,null,null,null,null,null,null,null,null,null,null,null,null,null,null,null,null,"",""]
[null,null,null,null,null,null,null,null,null,null,null,null,null,null,null,null,null,null,null,null,null,null,null,null,null,null,null,null,null,null,null,null,null,null,null,null,null,null,null,null,null,null,null,null,null,null,null,null,null,null,null,null,null,"",""]
[null,null,null,null,null,null,null,null,null,null,null,null,null,null,null,null,null,null,null,null,null,null,null,null,null,null,null,null,null,null,null,null,null,null,null,null,null,null,null,null,null,null,null,null,null,null,null,null,null,null,null,null,null,"",""]
[null,null,null,null,null,null,null,null,null,null,null,null,null,null,null,null,null,null,null,null,null,null,null,null,null,null,null,null,null,null,null,null,null,null,null,null,null,null,null,null,null,null,null,null,null,null,null,null,null,null,null,null,null,"",""]
[null,null,null,null,null,null,null,null,null,null,null,null,null,null,null,null,null,null,null,null,null,null,null,null,null,null,null,null,null,null,null,null,null,null,null,null,null,null,null,null,null,null,null,null,null,null,null,null,null,null,null,null,null,"",""]
[null,null,null,null,null,null,null,null,null,null,null,null,null,null,null,null,null,null,null,null,null,null,null,null,null,null,null,null,null,null,null,null,null,null,null,null,null,null,null,null,null,null,null,null,null,null,null,null,null,null,null,null,null,"",""]
[null,null,null,null,null,null,null,null,null,null,null,null,null,null,null,null,null,null,null,null,null,null,null,null,null,null,null,null,null,null,null,null,null,null,null,null,null,null,null,null,null,null,null,null,null,null,null,null,null,null,null,null,null,"",""]
[null,null,null,null,null,null,null,null,null,null,null,null,null,null,null,null,null,null,null,null,null,null,null,null,null,null,null,null,null,null,null,null,null,null,null,null,null,null,null,null,null,null,null,null,null,null,null,null,null,null,null,null,null,"",""]
[null,null,null,null,null,null,null,null,null,null,null,null,null,null,null,null,null,null,null,null,null,null,null,null,null,null,null,null,null,null,null,null,null,null,null,null,null,null,null,null,null,null,null,null,null,null,null,null,null,null,null,null,null,"",""]
[null,null,null,null,null,null,null,null,null,null,null,null,null,null,null,null,null,null,null,null,null,null,null,null,null,null,null,null,null,null,null,null,null,null,null,null,null,null,null,null,null,null,null,null,null,null,null,null,null,null,null,null,null,"",""]
[null,null,null,null,null,null,null,null,null,null,null,null,null,null,null,null,null,null,null,null,null,null,null,null,null,null,null,null,null,null,null,null,null,null,null,null,null,null,null,null,null,null,null,null,null,null,null,null,null,null,null,null,null,"",""]
[null,null,null,null,null,null,null,null,null,null,null,null,null,null,null,null,null,null,null,null,null,null,null,null,null,null,null,null,null,null,null,null,null,null,null,null,null,null,null,null,null,null,null,null,null,null,null,null,null,null,null,null,null,"",""]
[null,null,null,null,null,null,null,null,null,null,null,null,null,null,null,null,null,null,null,null,null,null,null,null,null,null,null,null,null,null,null,null,null,null,null,null,null,null,null,null,null,null,null,null,null,null,null,null,null,null,null,null,null,"",""]
[null,null,null,null,null,null,null,null,null,null,null,null,null,null,null,null,null,null,null,null,null,null,null,null,null,null,null,null,null,null,null,null,null,null,null,null,null,null,null,null,null,null,null,null,null,null,null,null,null,null,null,null,null,"",""]
[null,null,null,null,null,null,null,null,null,null,null,null,null,null,null,null,null,null,null,null,null,null,null,null,null,null,null,null,null,null,null,null,null,null,null,null,null,null,null,null,null,null,null,null,null,null,null,null,null,null,null,null,null,"",""]
[null,null,null,null,null,null,null,null,null,null,null,null,null,null,null,null,null,null,null,null,null,null,null,null,null,null,null,null,null,null,null,null,null,null,null,null,null,null,null,null,null,null,null,null,null,null,null,null,null,null,null,null,null,{"$f":"H199&L199&M199","v":""},{"$f":"H199&L199&M199&N199&O199&P199","v":""}]
[null,null,null,null,null,null,null,null,null,null,null,null,null,null,null,null,null,null,null,null,null,null,null,null,null,null,null,null,null,null,null,null,null,null,null,null,null,null,null,null,null,null,null,null,null,null,null,null,null,null,null,null,null,"",""]
[null,null,null,null,null,null,null,null,null,null,null,null,null,null,null,null,null,null,null,null,null,null,null,null,null,null,null,null,null,null,null,null,null,null,null,null,null,null,null,null,null,null,null,null,null,null,null,null,null,null,null,null,null,"",""]
[null,null,null,null,null,null,null,null,null,null,null,null,null,null,null,null,null,null,null,null,null,null,null,null,null,null,null,null,null,null,null,null,null,null,null,null,null,null,null,null,null,null,null,null,null,null,null,null,null,null,null,null,null,"",""]
[null,null,null,null,null,null,null,null,null,null,null,null,null,null,null,null,null,null,null,null,null,null,null,null,null,null,null,null,null,null,null,null,null,null,null,null,null,null,null,null,null,null,null,null,null,null,null,null,null,null,null,null,null,"",""]
[null,null,null,null,null,null,null,null,null,null,null,null,null,null,null,null,null,null,null,null,null,null,null,null,null,null,null,null,null,null,null,null,null,null,null,null,null,null,null,null,null,null,null,null,null,null,null,null,null,null,null,null,null,"",""]
[null,null,null,null,null,null,null,null,null,null,null,null,null,null,null,null,null,null,null,null,null,null,null,null,null,null,null,null,null,null,null,null,null,null,null,null,null,null,null,null,null,null,null,null,null,null,null,null,null,null,null,null,null,"",""]
[null,null,null,null,null,null,null,null,null,null,null,null,null,null,null,null,null,null,null,null,null,null,null,null,null,null,null,null,null,null,null,null,null,null,null,null,null,null,null,null,null,null,null,null,null,null,null,null,null,null,null,null,null,"",""]
[null,null,null,null,null,null,null,null,null,null,null,null,null,null,null,null,null,null,null,null,null,null,null,null,null,null,null,null,null,null,null,null,null,null,null,null,null,null,null,null,null,null,null,null,null,null,null,null,null,null,null,null,null,"",""]
[null,null,null,null,null,null,null,null,null,null,null,null,null,null,null,null,null,null,null,null,null,null,null,null,null,null,null,null,null,null,null,null,null,null,null,null,null,null,null,null,null,null,null,null,null,null,null,null,null,null,null,null,null,"",""]
[null,null,null,null,null,null,null,null,null,null,null,null,null,null,null,null,null,null,null,null,null,null,null,null,null,null,null,null,null,null,null,null,null,null,null,null,null,null,null,null,null,null,null,null,null,null,null,null,null,null,null,null,null,"",""]
[null,null,null,null,null,null,null,null,null,null,null,null,null,null,null,null,null,null,null,null,null,null,null,null,null,null,null,null,null,null,null,null,null,null,null,null,null,null,null,null,null,null,null,null,null,null,null,null,null,null,null,null,null,"",""]
[null,null,null,null,null,null,null,null,null,null,null,null,null,null,null,null,null,null,null,null,null,null,null,null,null,null,null,null,null,null,null,null,null,null,null,null,null,null,null,null,null,null,null,null,null,null,null,null,null,null,null,null,null,"",""]
[null,null,null,null,null,null,null,null,null,null,null,null,null,null,null,null,null,null,null,null,null,null,null,null,null,null,null,null,null,null,null,null,null,null,null,null,null,null,null,null,null,null,null,null,null,null,null,null,null,null,null,null,null,"",""]
[null,null,null,null,null,null,null,null,null,null,null,null,null,null,null,null,null,null,null,null,null,null,null,null,null,null,null,null,null,null,null,null,null,null,null,null,null,null,null,null,null,null,null,null,null,null,null,null,null,null,null,null,null,"",""]
[null,null,null,null,null,null,null,null,null,null,null,null,null,null,null,null,null,null,null,null,null,null,null,null,null,null,null,null,null,null,null,null,null,null,null,null,null,null,null,null,null,null,null,null,null,null,null,null,null,null,null,null,null,"",""]
[null,null,null,null,null,null,null,null,null,null,null,null,null,null,null,null,null,null,null,null,null,null,null,null,null,null,null,null,null,null,null,null,null,null,null,null,null,null,null,null,null,null,null,null,null,null,null,null,null,null,null,null,null,"",""]
[null,null,null,null,null,null,null,null,null,null,null,null,null,null,null,null,null,null,null,null,null,null,null,null,null,null,null,null,null,null,null,null,null,null,null,null,null,null,null,null,null,null,null,null,null,null,null,null,null,null,null,null,null,"",""]
[null,null,null,null,null,null,null,null,null,null,null,null,null,null,null,null,null,null,null,null,null,null,null,null,null,null,null,null,null,null,null,null,null,null,null,null,null,null,null,null,null,null,null,null,null,null,null,null,null,null,null,null,null,"",""]
[null,null,null,null,null,null,null,null,null,null,null,null,null,null,null,null,null,null,null,null,null,null,null,null,null,null,null,null,null,null,null,null,null,null,null,null,null,null,null,null,null,null,null,null,null,null,null,null,null,null,null,null,null,"",""]
[null,null,null,null,null,null,null,null,null,null,null,null,null,null,null,null,null,null,null,null,null,null,null,null,null,null,null,null,null,null,null,null,null,null,null,null,null,null,null,null,null,null,null,null,null,null,null,null,null,null,null,null,null,"",""]
[null,null,null,null,null,null,null,null,null,null,null,null,null,null,null,null,null,null,null,null,null,null,null,null,null,null,null,null,null,null,null,null,null,null,null,null,null,null,null,null,null,null,null,null,null,null,null,null,null,null,null,null,null,{"$f":"H220&L220&M220","v":""},""]
[null,null,null,null,null,null,null,null,null,null,null,null,null,null,null,null,null,null,null,null,null,null,null,null,null,null,null,null,null,null,null,null,null,null,null,null,null,null,null,null,null,null,null,null,null,null,null,null,null,null,null,null,null,"",""]
[null,null,null,null,null,null,null,null,null,null,null,null,null,null,null,null,null,null,null,null,null,null,null,null,null,null,null,null,null,null,null,null,null,null,null,null,null,null,null,null,null,null,null,null,null,null,null,null,null,null,null,null,null,"",""]
[null,null,null,null,null,null,null,null,null,null,null,null,null,null,null,null,null,null,null,null,null,null,null,null,null,null,null,null,null,null,null,null,null,null,null,null,null,null,null,null,null,null,null,null,null,null,null,null,null,null,null,null,null,"",""]
[null,null,null,null,null,null,null,null,null,null,null,null,null,null,null,null,null,null,null,null,null,null,null,null,null,null,null,null,null,null,null,null,null,null,null,null,null,null,null,null,null,null,null,null,null,null,null,null,null,null,null,null,null,"",""]
[null,null,null,null,null,null,null,null,null,null,null,null,null,null,null,null,null,null,null,null,null,null,null,null,null,null,null,null,null,null,null,null,null,null,null,null,null,null,null,null,null,null,null,null,null,null,null,null,null,null,null,null,null,"",""]
[null,null,null,null,null,null,null,null,null,null,null,null,null,null,null,null,null,null,null,null,null,null,null,null,null,null,null,null,null,null,null,null,null,null,null,null,null,null,null,null,null,null,null,null,null,null,null,null,null,null,null,null,null,"",""]
[null,null,null,null,null,null,null,null,null,null,null,null,null,null,null,null,null,null,null,null,null,null,null,null,null,null,null,null,null,null,null,null,null,null,null,null,null,null,null,null,null,null,null,null,null,null,null,null,null,null,null,null,null,"",""]
[null,null,null,null,null,null,null,null,null,null,null,null,null,null,null,null,null,null,null,null,null,null,null,null,null,null,null,null,null,null,null,null,null,null,null,null,null,null,null,null,null,null,null,null,null,null,null,null,null,null,null,null,null,"",""]
[null,null,null,null,null,null,null,null,null,null,null,null,null,null,null,null,null,null,null,null,null,null,null,null,null,null,null,null,null,null,null,null,null,null,null,null,null,null,null,null,null,null,null,null,null,null,null,null,null,null,null,null,null,"",""]
[null,null,null,null,null,null,null,null,null,null,null,null,null,null,null,null,null,null,null,null,null,null,null,null,null,null,null,null,null,null,null,null,null,null,null,null,null,null,null,null,null,null,null,null,null,null,null,null,null,null,null,null,null,"",""]
[null,null,null,null,null,null,null,null,null,null,null,null,null,null,null,null,null,null,null,null,null,null,null,null,null,null,null,null,null,null,null,null,null,null,null,null,null,null,null,null,null,null,null,null,null,null,null,null,null,null,null,null,null,"",""]
[null,null,null,null,null,null,null,null,null,null,null,null,null,null,null,null,null,null,null,null,null,null,null,null,null,null,null,null,null,null,null,null,null,null,null,null,null,null,null,null,null,null,null,null,null,null,null,null,null,null,null,null,null,"",""]
[null,null,null,null,null,null,null,null,null,null,null,null,null,null,null,null,null,null,null,null,null,null,null,null,null,null,null,null,null,null,null,null,null,null,null,null,null,null,null,null,null,null,null,null,null,null,null,null,null,null,null,null,null,"",""]
[null,null,null,null,null,null,null,null,null,null,null,null,null,null,null,null,null,null,null,null,null,null,null,null,null,null,null,null,null,null,null,null,null,null,null,null,null,null,null,null,null,null,null,null,null,null,null,null,null,null,null,null,null,"",""]
[null,null,null,null,null,null,null,null,null,null,null,null,null,null,null,null,null,null,null,null,null,null,null,null,null,null,null,null,null,null,null,null,null,null,null,null,null,null,null,null,null,null,null,null,null,null,null,null,null,null,null,null,null,"",""]
[null,null,null,null,null,null,null,null,null,null,null,null,null,null,null,null,null,null,null,null,null,null,null,null,null,null,null,null,null,null,null,null,null,null,null,null,null,null,null,null,null,null,null,null,null,null,null,null,null,null,null,null,null,"",""]
[null,null,null,null,null,null,null,null,null,null,null,null,null,null,null,null,null,null,null,null,null,null,null,null,null,null,null,null,null,null,null,null,null,null,null,null,null,null,null,null,null,null,null,null,null,null,null,null,null,null,null,null,null,"",""]
[null,null,null,null,null,null,null,null,null,null,null,null,null,null,null,null,null,null,null,null,null,null,null,null,null,null,null,null,null,null,null,null,null,null,null,null,null,null,null,null,null,null,null,null,null,null,null,null,null,null,null,null,null,"",""]
[null,null,null,null,null,null,null,null,null,null,null,null,null,null,null,null,null,null,null,null,null,null,null,null,null,null,null,null,null,null,null,null,null,null,null,null,null,null,null,null,null,null,null,null,null,null,null,null,null,null,null,null,null,"",""]
[null,null,null,null,null,null,null,null,null,null,null,null,null,null,null,null,null,null,null,null,null,null,null,null,null,null,null,null,null,null,null,null,null,null,null,null,null,null,null,null,null,null,null,null,null,null,null,null,null,null,null,null,null,"",""]
[null,null,null,null,null,null,null,null,null,null,null,null,null,null,null,null,null,null,null,null,null,null,null,null,null,null,null,null,null,null,null,null,null,null,null,null,null,null,null,null,null,null,null,null,null,null,null,null,null,null,null,null,null,"",""]
[null,null,null,null,null,null,null,null,null,null,null,null,null,null,null,null,null,null,null,null,null,null,null,null,null,null,null,null,null,null,null,null,null,null,null,null,null,null,null,null,null,null,null,null,null,null,null,null,null,null,null,null,null,"",""]
[null,null,null,null,null,null,null,null,null,null,null,null,null,null,null,null,null,null,null,null,null,null,null,null,null,null,null,null,null,null,null,null,null,null,null,null,null,null,null,null,null,null,null,null,null,null,null,null,null,null,null,null,null,"",{"$f":"H243&L243&M243&N243&O243&P243","v":""}]
[null,null,null,null,null,null,null,null,null,null,null,null,null,null,null,null,null,null,null,null,null,null,null,null,null,null,null,null,null,null,null,null,null,null,null,null,null,null,null,null,null,null,null,null,null,null,null,null,null,null,null,null,null,"",""]
[null,null,null,null,null,null,null,null,null,null,null,null,null,null,null,null,null,null,null,null,null,null,null,null,null,null,null,null,null,null,null,null,null,null,null,null,null,null,null,null,null,null,null,null,null,null,null,null,null,null,null,null,null,"",""]
[null,null,null,null,null,null,null,null,null,null,null,null,null,null,null,null,null,null,null,null,null,null,null,null,null,null,null,null,null,null,null,null,null,null,null,null,null,null,null,null,null,null,null,null,null,null,null,null,null,null,null,null,null,"",""]
[null,null,null,null,null,null,null,null,null,null,null,null,null,null,null,null,null,null,null,null,null,null,null,null,null,null,null,null,null,null,null,null,null,null,null,null,null,null,null,null,null,null,null,null,null,null,null,null,null,null,null,null,null,"",""]
[null,null,null,null,null,null,null,null,null,null,null,null,null,null,null,null,null,null,null,null,null,null,null,null,null,null,null,null,null,null,null,null,null,null,null,null,null,null,null,null,null,null,null,null,null,null,null,null,null,null,null,null,null,"",""]
[null,null,null,null,null,null,null,null,null,null,null,null,null,null,null,null,null,null,null,null,null,null,null,null,null,null,null,null,null,null,null,null,null,null,null,null,null,null,null,null,null,null,null,null,null,null,null,null,null,null,null,null,null,"",""]
[null,null,null,null,null,null,null,null,null,null,null,null,null,null,null,null,null,null,null,null,null,null,null,null,null,null,null,null,null,null,null,null,null,null,null,null,null,null,null,null,null,null,null,null,null,null,null,null,null,null,null,null,null,"",""]
[null,null,null,null,null,null,null,null,null,null,null,null,null,null,null,null,null,null,null,null,null,null,null,null,null,null,null,null,null,null,null,null,null,null,null,null,null,null,null,null,null,null,null,null,null,null,null,null,null,null,null,null,null,"",""]
[null,null,null,null,null,null,null,null,null,null,null,null,null,null,null,null,null,null,null,null,null,null,null,null,null,null,null,null,null,null,null,null,null,null,null,null,null,null,null,null,null,null,null,null,null,null,null,null,null,null,null,null,null,"",""]
[null,null,null,null,null,null,null,null,null,null,null,null,null,null,null,null,null,null,null,null,null,null,null,null,null,null,null,null,null,null,null,null,null,null,null,null,null,null,null,null,null,null,null,null,null,null,null,null,null,null,null,null,null,"",""]
[null,null,null,null,null,null,null,null,null,null,null,null,null,null,null,null,null,null,null,null,null,null,null,null,null,null,null,null,null,null,null,null,null,null,null,null,null,null,null,null,null,null,null,null,null,null,null,null,null,null,null,null,null,"",""]
[null,null,null,null,null,null,null,null,null,null,null,null,null,null,null,null,null,null,null,null,null,null,null,null,null,null,null,null,null,null,null,null,null,null,null,null,null,null,null,null,null,null,null,null,null,null,null,null,null,null,null,null,null,"",""]
[null,null,null,null,null,null,null,null,null,null,null,null,null,null,null,null,null,null,null,null,null,null,null,null,null,null,null,null,null,null,null,null,null,null,null,null,null,null,null,null,null,null,null,null,null,null,null,null,null,null,null,null,null,"",""]
[null,null,null,null,null,null,null,null,null,null,null,null,null,null,null,null,null,null,null,null,null,null,null,null,null,null,null,null,null,null,null,null,null,null,null,null,null,null,null,null,null,null,null,null,null,null,null,null,null,null,null,null,null,{"$f":"H257&L257&M257","v":""},{"$f":"H257&L257&M257&N257&O257&P257","v":""}]
[null,null,null,null,null,null,null,null,null,null,null,null,null,null,null,null,null,null,null,null,null,null,null,null,null,null,null,null,null,null,null,null,null,null,null,null,null,null,null,null,null,null,null,null,null,null,null,null,null,null,null,null,null,"",""]
[null,null,null,null,null,null,null,null,null,null,null,null,null,null,null,null,null,null,null,null,null,null,null,null,null,null,null,null,null,null,null,null,null,null,null,null,null,null,null,null,null,null,null,null,null,null,null,null,null,null,null,null,null,"",""]
[null,null,null,null,null,null,null,null,null,null,null,null,null,null,null,null,null,null,null,null,null,null,null,null,null,null,null,null,null,null,null,null,null,null,null,null,null,null,null,null,null,null,null,null,null,null,null,null,null,null,null,null,null,"",""]
[null,null,null,null,null,null,null,null,null,null,null,null,null,null,null,null,null,null,null,null,null,null,null,null,null,null,null,null,null,null,null,null,null,null,null,null,null,null,null,null,null,null,null,null,null,null,null,null,null,null,null,null,null,"",""]
[null,null,null,null,null,null,null,null,null,null,null,null,null,null,null,null,null,null,null,null,null,null,null,null,null,null,null,null,null,null,null,null,null,null,null,null,null,null,null,null,null,null,null,null,null,null,null,null,null,null,null,null,null,"",""]
[null,null,null,null,null,null,null,null,null,null,null,null,null,null,null,null,null,null,null,null,null,null,null,null,null,null,null,null,null,null,null,null,null,null,null,null,null,null,null,null,null,null,null,null,null,null,null,null,null,null,null,null,null,"",""]
[null,null,null,null,null,null,null,null,null,null,null,null,null,null,null,null,null,null,null,null,null,null,null,null,null,null,null,null,null,null,null,null,null,null,null,null,null,null,null,null,null,null,null,null,null,null,null,null,null,null,null,null,null,"",""]
[null,null,null,null,null,null,null,null,null,null,null,null,null,null,null,null,null,null,null,null,null,null,null,null,null,null,null,null,null,null,null,null,null,null,null,null,null,null,null,null,null,null,null,null,null,null,null,null,null,null,null,null,null,"",""]
[null,null,null,null,null,null,null,null,null,null,null,null,null,null,null,null,null,null,null,null,null,null,null,null,null,null,null,null,null,null,null,null,null,null,null,null,null,null,null,null,null,null,null,null,null,null,null,null,null,null,null,null,null,"",""]
[null,null,null,null,null,null,null,null,null,null,null,null,null,null,null,null,null,null,null,null,null,null,null,null,null,null,null,null,null,null,null,null,null,null,null,null,null,null,null,null,null,null,null,null,null,null,null,null,null,null,null,null,null,"",""]
[null,null,null,null,null,null,null,null,null,null,null,null,null,null,null,null,null,null,null,null,null,null,null,null,null,null,null,null,null,null,null,null,null,null,null,null,null,null,null,null,null,null,null,null,null,null,null,null,null,null,null,null,null,"",""]
[null,null,null,null,null,null,null,null,null,null,null,null,null,null,null,null,null,null,null,null,null,null,null,null,null,null,null,null,null,null,null,null,null,null,null,null,null,null,null,null,null,null,null,null,null,null,null,null,null,null,null,null,null,"",""]
[null,null,null,null,null,null,null,null,null,null,null,null,null,null,null,null,null,null,null,null,null,null,null,null,null,null,null,null,null,null,null,null,null,null,null,null,null,null,null,null,null,null,null,null,null,null,null,null,null,null,null,null,null,"",""]
[null,null,null,null,null,null,null,null,null,null,null,null,null,null,null,null,null,null,null,null,null,null,null,null,null,null,null,null,null,null,null,null,null,null,null,null,null,null,null,null,null,null,null,null,null,null,null,null,null,null,null,null,null,"",""]
[null,null,null,null,null,null,null,null,null,null,null,null,null,null,null,null,null,null,null,null,null,null,null,null,null,null,null,null,null,null,null,null,null,null,null,null,null,null,null,null,null,null,null,null,null,null,null,null,null,null,null,null,null,"",""]
[null,null,null,null,null,null,null,null,null,null,null,null,null,null,null,null,null,null,null,null,null,null,null,null,null,null,null,null,null,null,null,null,null,null,null,null,null,null,null,null,null,null,null,null,null,null,null,null,null,null,null,null,null,"",""]
[null,null,null,null,null,null,null,null,null,null,null,null,null,null,null,null,null,null,null,null,null,null,null,null,null,null,null,null,null,null,null,null,null,null,null,null,null,null,null,null,null,null,null,null,null,null,null,null,null,null,null,null,null,"",""]
[null,null,null,null,null,null,null,null,null,null,null,null,null,null,null,null,null,null,null,null,null,null,null,null,null,null,null,null,null,null,null,null,null,null,null,null,null,null,null,null,null,null,null,null,null,null,null,null,null,null,null,null,null,"",""]
[null,null,null,null,null,null,null,null,null,null,null,null,null,null,null,null,null,null,null,null,null,null,null,null,null,null,null,null,null,null,null,null,null,null,null,null,null,null,null,null,null,null,null,null,null,null,null,null,null,null,null,null,null,"",""]
[null,null,null,null,null,null,null,null,null,null,null,null,null,null,null,null,null,null,null,null,null,null,null,null,null,null,null,null,null,null,null,null,null,null,null,null,null,null,null,null,null,null,null,null,null,null,null,null,null,null,null,null,null,"",""]
[null,null,null,null,null,null,null,null,null,null,null,null,null,null,null,null,null,null,null,null,null,null,null,null,null,null,null,null,null,null,null,null,null,null,null,null,null,null,null,null,null,null,null,null,null,null,null,null,null,null,null,null,null,"",""]
[null,null,null,null,null,null,null,null,null,null,null,null,null,null,null,null,null,null,null,null,null,null,null,null,null,null,null,null,null,null,null,null,null,null,null,null,null,null,null,null,null,null,null,null,null,null,null,null,null,null,null,null,null,"",""]
[null,null,null,null,null,null,null,null,null,null,null,null,null,null,null,null,null,null,null,null,null,null,null,null,null,null,null,null,null,null,null,null,null,null,null,null,null,null,null,null,null,null,null,null,null,null,null,null,null,null,null,null,null,"",""]
[null,null,null,null,null,null,null,null,null,null,null,null,null,null,null,null,null,null,null,null,null,null,null,null,null,null,null,null,null,null,null,null,null,null,null,null,null,null,null,null,null,null,null,null,null,null,null,null,null,null,null,null,null,"",""]
[null,null,null,null,null,null,null,null,null,null,null,null,null,null,null,null,null,null,null,null,null,null,null,null,null,null,null,null,null,null,null,null,null,null,null,null,null,null,null,null,null,null,null,null,null,null,null,null,null,null,null,null,null,"",""]
[null,null,null,null,null,null,null,null,null,null,null,null,null,null,null,null,null,null,null,null,null,null,null,null,null,null,null,null,null,null,null,null,null,null,null,null,null,null,null,null,null,null,null,null,null,null,null,null,null,null,null,null,null,"",""]
[null,null,null,null,null,null,null,null,null,null,null,null,null,null,null,null,null,null,null,null,null,null,null,null,null,null,null,null,null,null,null,null,null,null,null,null,null,null,null,null,null,null,null,null,null,null,null,null,null,null,null,null,null,"",""]
[null,null,null,null,null,null,null,null,null,null,null,null,null,null,null,null,null,null,null,null,null,null,null,null,null,null,null,null,null,null,null,null,null,null,null,null,null,null,null,null,null,null,null,null,null,null,null,null,null,null,null,null,null,"",""]
[null,null,null,null,null,null,null,null,null,null,null,null,null,null,null,null,null,null,null,null,null,null,null,null,null,null,null,null,null,null,null,null,null,null,null,null,null,null,null,null,null,null,null,null,null,null,null,null,null,null,null,null,null,"",""]
[null,null,null,null,null,null,null,null,null,null,null,null,null,null,null,null,null,null,null,null,null,null,null,null,null,null,null,null,null,null,null,null,null,null,null,null,null,null,null,null,null,null,null,null,null,null,null,null,null,null,null,null,null,"",""]
[null,null,null,null,null,null,null,null,null,null,null,null,null,null,null,null,null,null,null,null,null,null,null,null,null,null,null,null,null,null,null,null,null,null,null,null,null,null,null,null,null,null,null,null,null,null,null,null,null,null,null,null,null,"",""]
[null,null,null,null,null,null,null,null,null,null,null,null,null,null,null,null,null,null,null,null,null,null,null,null,null,null,null,null,null,null,null,null,null,null,null,null,null,null,null,null,null,null,null,null,null,null,null,null,null,null,null,null,null,"",""]
[null,null,null,null,null,null,null,null,null,null,null,null,null,null,null,null,null,null,null,null,null,null,null,null,null,null,null,null,null,null,null,null,null,null,null,null,null,null,null,null,null,null,null,null,null,null,null,null,null,null,null,null,null,"",""]
[null,null,null,null,null,null,null,null,null,null,null,null,null,null,null,null,null,null,null,null,null,null,null,null,null,null,null,null,null,null,null,null,null,null,null,null,null,null,null,null,null,null,null,null,null,null,null,null,null,null,null,null,null,"",""]
[null,null,null,null,null,null,null,null,null,null,null,null,null,null,null,null,null,null,null,null,null,null,null,null,null,null,null,null,null,null,null,null,null,null,null,null,null,null,null,null,null,null,null,null,null,null,null,null,null,null,null,null,null,"",""]
[null,null,null,null,null,null,null,null,null,null,null,null,null,null,null,null,null,null,null,null,null,null,null,null,null,null,null,null,null,null,null,null,null,null,null,null,null,null,null,null,null,null,null,null,null,null,null,null,null,null,null,null,null,"",""]
[null,null,null,null,null,null,null,null,null,null,null,null,null,null,null,null,null,null,null,null,null,null,null,null,null,null,null,null,null,null,null,null,null,null,null,null,null,null,null,null,null,null,null,null,null,null,null,null,null,null,null,null,null,"",""]
[null,null,null,null,null,null,null,null,null,null,null,null,null,null,null,null,null,null,null,null,null,null,null,null,null,null,null,null,null,null,null,null,null,null,null,null,null,null,null,null,null,null,null,null,null,null,null,null,null,null,null,null,null,"",""]
[null,null,null,null,null,null,null,null,null,null,null,null,null,null,null,null,null,null,null,null,null,null,null,null,null,null,null,null,null,null,null,null,null,null,null,null,null,null,null,null,null,null,null,null,null,null,null,null,null,null,null,null,null,"",""]
[null,null,null,null,null,null,null,null,null,null,null,null,null,null,null,null,null,null,null,null,null,null,null,null,null,null,null,null,null,null,null,null,null,null,null,null,null,null,null,null,null,null,null,null,null,null,null,null,null,null,null,null,null,"",""]
[null,null,null,null,null,null,null,null,null,null,null,null,null,null,null,null,null,null,null,null,null,null,null,null,null,null,null,null,null,null,null,null,null,null,null,null,null,null,null,null,null,null,null,null,null,null,null,null,null,null,null,null,null,"",""]
[null,null,null,null,null,null,null,null,null,null,null,null,null,null,null,null,null,null,null,null,null,null,null,null,null,null,null,null,null,null,null,null,null,null,null,null,null,null,null,null,null,null,null,null,null,null,null,null,null,null,null,null,null,"",""]
[null,null,null,null,null,null,null,null,null,null,null,null,null,null,null,null,null,null,null,null,null,null,null,null,null,null,null,null,null,null,null,null,null,null,null,null,null,null,null,null,null,null,null,null,null,null,null,null,null,null,null,null,null,"",""]
[null,null,null,null,null,null,null,null,null,null,null,null,null,null,null,null,null,null,null,null,null,null,null,null,null,null,null,null,null,null,null,null,null,null,null,null,null,null,null,null,null,null,null,null,null,null,null,null,null,null,null,null,null,"",""]
[null,null,null,null,null,null,null,null,null,null,null,null,null,null,null,null,null,null,null,null,null,null,null,null,null,null,null,null,null,null,null,null,null,null,null,null,null,null,null,null,null,null,null,null,null,null,null,null,null,null,null,null,null,"",""]
[null,null,null,null,null,null,null,null,null,null,null,null,null,null,null,null,null,null,null,null,null,null,null,null,null,null,null,null,null,null,null,null,null,null,null,null,null,null,null,null,null,null,null,null,null,null,null,null,null,null,null,null,null,"",""]
[null,null,null,null,null,null,null,null,null,null,null,null,null,null,null,null,null,null,null,null,null,null,null,null,null,null,null,null,null,null,null,null,null,null,null,null,null,null,null,null,null,null,null,null,null,null,null,null,null,null,null,null,null,"",""]
[null,null,null,null,null,null,null,null,null,null,null,null,null,null,null,null,null,null,null,null,null,null,null,null,null,null,null,null,null,null,null,null,null,null,null,null,null,null,null,null,null,null,null,null,null,null,null,null,null,null,null,null,null,"",""]
[null,null,null,null,null,null,null,null,null,null,null,null,null,null,null,null,null,null,null,null,null,null,null,null,null,null,null,null,null,null,null,null,null,null,null,null,null,null,null,null,null,null,null,null,null,null,null,null,null,null,null,null,null,"",""]
[null,null,null,null,null,null,null,null,null,null,null,null,null,null,null,null,null,null,null,null,null,null,null,null,null,null,null,null,null,null,null,null,null,null,null,null,null,null,null,null,null,null,null,null,null,null,null,null,null,null,null,null,null,"",""]
[null,null,null,null,null,null,null,null,null,null,null,null,null,null,null,null,null,null,null,null,null,null,null,null,null,null,null,null,null,null,null,null,null,null,null,null,null,null,null,null,null,null,null,null,null,null,null,null,null,null,null,null,null,"",""]
[null,null,null,null,null,null,null,null,null,null,null,null,null,null,null,null,null,null,null,null,null,null,null,null,null,null,null,null,null,null,null,null,null,null,null,null,null,null,null,null,null,null,null,null,null,null,null,null,null,null,null,null,null,"",""]
[null,null,null,null,null,null,null,null,null,null,null,null,null,null,null,null,null,null,null,null,null,null,null,null,null,null,null,null,null,null,null,null,null,null,null,null,null,null,null,null,null,null,null,null,null,null,null,null,null,null,null,null,null,"",""]
[null,null,null,null,null,null,null,null,null,null,null,null,null,null,null,null,null,null,null,null,null,null,null,null,null,null,null,null,null,null,null,null,null,null,null,null,null,null,null,null,null,null,null,null,null,null,null,null,null,null,null,null,null,"",""]
[null,null,null,null,null,null,null,null,null,null,null,null,null,null,null,null,null,null,null,null,null,null,null,null,null,null,null,null,null,null,null,null,null,null,null,null,null,null,null,null,null,null,null,null,null,null,null,null,null,null,null,null,null,"",""]
[null,null,null,null,null,null,null,null,null,null,null,null,null,null,null,null,null,null,null,null,null,null,null,null,null,null,null,null,null,null,null,null,null,null,null,null,null,null,null,null,null,null,null,null,null,null,null,null,null,null,null,null,null,"",""]
[null,null,null,null,null,null,null,null,null,null,null,null,null,null,null,null,null,null,null,null,null,null,null,null,null,null,null,null,null,null,null,null,null,null,null,null,null,null,null,null,null,null,null,null,null,null,null,null,null,null,null,null,null,"",""]
[null,null,null,null,null,null,null,null,null,null,null,null,null,null,null,null,null,null,null,null,null,null,null,null,null,null,null,null,null,null,null,null,null,null,null,null,null,null,null,null,null,null,null,null,null,null,null,null,null,null,null,null,null,"",""]
[null,null,null,null,null,null,null,null,null,null,null,null,null,null,null,null,null,null,null,null,null,null,null,null,null,null,null,null,null,null,null,null,null,null,null,null,null,null,null,null,null,null,null,null,null,null,null,null,null,null,null,null,null,"",""]
[null,null,null,null,null,null,null,null,null,null,null,null,null,null,null,null,null,null,null,null,null,null,null,null,null,null,null,null,null,null,null,null,null,null,null,null,null,null,null,null,null,null,null,null,null,null,null,null,null,null,null,null,null,"",""]
[null,null,null,null,null,null,null,null,null,null,null,null,null,null,null,null,null,null,null,null,null,null,null,null,null,null,null,null,null,null,null,null,null,null,null,null,null,null,null,null,null,null,null,null,null,null,null,null,null,null,null,null,null,"",""]
[null,null,null,null,null,null,null,null,null,null,null,null,null,null,null,null,null,null,null,null,null,null,null,null,null,null,null,null,null,null,null,null,null,null,null,null,null,null,null,null,null,null,null,null,null,null,null,null,null,null,null,null,null,"",""]
[null,null,null,null,null,null,null,null,null,null,null,null,null,null,null,null,null,null,null,null,null,null,null,null,null,null,null,null,null,null,null,null,null,null,null,null,null,null,null,null,null,null,null,null,null,null,null,null,null,null,null,null,null,"",""]
[null,null,null,null,null,null,null,null,null,null,null,null,null,null,null,null,null,null,null,null,null,null,null,null,null,null,null,null,null,null,null,null,null,null,null,null,null,null,null,null,null,null,null,null,null,null,null,null,null,null,null,null,null,{"$f":"H321&L321&M321","v":""},{"$f":"H321&L321&M321&N321&O321&P321","v":""}]
[null,null,null,null,null,null,null,null,null,null,null,null,null,null,null,null,null,null,null,null,null,null,null,null,null,null,null,null,null,null,null,null,null,null,null,null,null,null,null,null,null,null,null,null,null,null,null,null,null,null,null,null,null,"",""]
[null,null,null,null,null,null,null,null,null,null,null,null,null,null,null,null,null,null,null,null,null,null,null,null,null,null,null,null,null,null,null,null,null,null,null,null,null,null,null,null,null,null,null,null,null,null,null,null,null,null,null,null,null,"",""]
[null,null,null,null,null,null,null,null,null,null,null,null,null,null,null,null,null,null,null,null,null,null,null,null,null,null,null,null,null,null,null,null,null,null,null,null,null,null,null,null,null,null,null,null,null,null,null,null,null,null,null,null,null,"",""]
[null,null,null,null,null,null,null,null,null,null,null,null,null,null,null,null,null,null,null,null,null,null,null,null,null,null,null,null,null,null,null,null,null,null,null,null,null,null,null,null,null,null,null,null,null,null,null,null,null,null,null,null,null,"",""]
[null,null,null,null,null,null,null,null,null,null,null,null,null,null,null,null,null,null,null,null,null,null,null,null,null,null,null,null,null,null,null,null,null,null,null,null,null,null,null,null,null,null,null,null,null,null,null,null,null,null,null,null,null,"",""]
[null,null,null,null,null,null,null,null,null,null,null,null,null,null,null,null,null,null,null,null,null,null,null,null,null,null,null,null,null,null,null,null,null,null,null,null,null,null,null,null,null,null,null,null,null,null,null,null,null,null,null,null,null,"",""]
[null,null,null,null,null,null,null,null,null,null,null,null,null,null,null,null,null,null,null,null,null,null,null,null,null,null,null,null,null,null,null,null,null,null,null,null,null,null,null,null,null,null,null,null,null,null,null,null,null,null,null,null,null,"",""]
[null,null,null,null,null,null,null,null,null,null,null,null,null,null,null,null,null,null,null,null,null,null,null,null,null,null,null,null,null,null,null,null,null,null,null,null,null,null,null,null,null,null,null,null,null,null,null,null,null,null,null,null,null,"",""]
[null,null,null,null,null,null,null,null,null,null,null,null,null,null,null,null,null,null,null,null,null,null,null,null,null,null,null,null,null,null,null,null,null,null,null,null,null,null,null,null,null,null,null,null,null,null,null,null,null,null,null,null,null,"",""]
[null,null,null,null,null,null,null,null,null,null,null,null,null,null,null,null,null,null,null,null,null,null,null,null,null,null,null,null,null,null,null,null,null,null,null,null,null,null,null,null,null,null,null,null,null,null,null,null,null,null,null,null,null,"",""]
[null,null,null,null,null,null,null,null,null,null,null,null,null,null,null,null,null,null,null,null,null,null,null,null,null,null,null,null,null,null,null,null,null,null,null,null,null,null,null,null,null,null,null,null,null,null,null,null,null,null,null,null,null,"",""]
[null,null,null,null,null,null,null,null,null,null,null,null,null,null,null,null,null,null,null,null,null,null,null,null,null,null,null,null,null,null,null,null,null,null,null,null,null,null,null,null,null,null,null,null,null,null,null,null,null,null,null,null,null,"",""]
[null,null,null,null,null,null,null,null,null,null,null,null,null,null,null,null,null,null,null,null,null,null,null,null,null,null,null,null,null,null,null,null,null,null,null,null,null,null,null,null,null,null,null,null,null,null,null,null,null,null,null,null,null,"",""]
[null,null,null,null,null,null,null,null,null,null,null,null,null,null,null,null,null,null,null,null,null,null,null,null,null,null,null,null,null,null,null,null,null,null,null,null,null,null,null,null,null,null,null,null,null,null,null,null,null,null,null,null,null,"",""]
[null,null,null,null,null,null,null,null,null,null,null,null,null,null,null,null,null,null,null,null,null,null,null,null,null,null,null,null,null,null,null,null,null,null,null,null,null,null,null,null,null,null,null,null,null,null,null,null,null,null,null,null,null,"",""]
[null,null,null,null,null,null,null,null,null,null,null,null,null,null,null,null,null,null,null,null,null,null,null,null,null,null,null,null,null,null,null,null,null,null,null,null,null,null,null,null,null,null,null,null,null,null,null,null,null,null,null,null,null,"",""]
[null,null,null,null,null,null,null,null,null,null,null,null,null,null,null,null,null,null,null,null,null,null,null,null,null,null,null,null,null,null,null,null,null,null,null,null,null,null,null,null,null,null,null,null,null,null,null,null,null,null,null,null,null,"",""]
[null,null,null,null,null,null,null,null,null,null,null,null,null,null,null,null,null,null,null,null,null,null,null,null,null,null,null,null,null,null,null,null,null,null,null,null,null,null,null,null,null,null,null,null,null,null,null,null,null,null,null,null,null,"",""]
[null,null,null,null,null,null,null,null,null,null,null,null,null,null,null,null,null,null,null,null,null,null,null,null,null,null,null,null,null,null,null,null,null,null,null,null,null,null,null,null,null,null,null,null,null,null,null,null,null,null,null,null,null,"",""]
[null,null,null,null,null,null,null,null,null,null,null,null,null,null,null,null,null,null,null,null,null,null,null,null,null,null,null,null,null,null,null,null,null,null,null,null,null,null,null,null,null,null,null,null,null,null,null,null,null,null,null,null,null,"",""]
[null,null,null,null,null,null,null,null,null,null,null,null,null,null,null,null,null,null,null,null,null,null,null,null,null,null,null,null,null,null,null,null,null,null,null,null,null,null,null,null,null,null,null,null,null,null,null,null,null,null,null,null,null,"",""]
[null,null,null,null,null,null,null,null,null,null,null,null,null,null,null,null,null,null,null,null,null,null,null,null,null,null,null,null,null,null,null,null,null,null,null,null,null,null,null,null,null,null,null,null,null,null,null,null,null,null,null,null,null,"",""]
[null,null,null,null,null,null,null,null,null,null,null,null,null,null,null,null,null,null,null,null,null,null,null,null,null,null,null,null,null,null,null,null,null,null,null,null,null,null,null,null,null,null,null,null,null,null,null,null,null,null,null,null,null,"",""]
[null,null,null,null,null,null,null,null,null,null,null,null,null,null,null,null,null,null,null,null,null,null,null,null,null,null,null,null,null,null,null,null,null,null,null,null,null,null,null,null,null,null,null,null,null,null,null,null,null,null,null,null,null,"",""]
[null,null,null,null,null,null,null,null,null,null,null,null,null,null,null,null,null,null,null,null,null,null,null,null,null,null,null,null,null,null,null,null,null,null,null,null,null,null,null,null,null,null,null,null,null,null,null,null,null,null,null,null,null,"",""]
[null,null,null,null,null,null,null,null,null,null,null,null,null,null,null,null,null,null,null,null,null,null,null,null,null,null,null,null,null,null,null,null,null,null,null,null,null,null,null,null,null,null,null,null,null,null,null,null,null,null,null,null,null,"",""]
[null,null,null,null,null,null,null,null,null,null,null,null,null,null,null,null,null,null,null,null,null,null,null,null,null,null,null,null,null,null,null,null,null,null,null,null,null,null,null,null,null,null,null,null,null,null,null,null,null,null,null,null,null,"",""]
[null,null,null,null,null,null,null,null,null,null,null,null,null,null,null,null,null,null,null,null,null,null,null,null,null,null,null,null,null,null,null,null,null,null,null,null,null,null,null,null,null,null,null,null,null,null,null,null,null,null,null,null,null,"",""]
[null,null,null,null,null,null,null,null,null,null,null,null,null,null,null,null,null,null,null,null,null,null,null,null,null,null,null,null,null,null,null,null,null,null,null,null,null,null,null,null,null,null,null,null,null,null,null,null,null,null,null,null,null,"",""]
[null,null,null,null,null,null,null,null,null,null,null,null,null,null,null,null,null,null,null,null,null,null,null,null,null,null,null,null,null,null,null,null,null,null,null,null,null,null,null,null,null,null,null,null,null,null,null,null,null,null,null,null,null,"",""]
[null,null,null,null,null,null,null,null,null,null,null,null,null,null,null,null,null,null,null,null,null,null,null,null,null,null,null,null,null,null,null,null,null,null,null,null,null,null,null,null,null,null,null,null,null,null,null,null,null,null,null,null,null,"",""]
[null,null,null,null,null,null,null,null,null,null,null,null,null,null,null,null,null,null,null,null,null,null,null,null,null,null,null,null,null,null,null,null,null,null,null,null,null,null,null,null,null,null,null,null,null,null,null,null,null,null,null,null,null,"",""]
[null,null,null,null,null,null,null,null,null,null,null,null,null,null,null,null,null,null,null,null,null,null,null,null,null,null,null,null,null,null,null,null,null,null,null,null,null,null,null,null,null,null,null,null,null,null,null,null,null,null,null,null,null,"",""]
[null,null,null,null,null,null,null,null,null,null,null,null,null,null,null,null,null,null,null,null,null,null,null,null,null,null,null,null,null,null,null,null,null,null,null,null,null,null,null,null,null,null,null,null,null,null,null,null,null,null,null,null,null,"",""]
[null,null,null,null,null,null,null,null,null,null,null,null,null,null,null,null,null,null,null,null,null,null,null,null,null,null,null,null,null,null,null,null,null,null,null,null,null,null,null,null,null,null,null,null,null,null,null,null,null,null,null,null,null,"",""]
[null,null,null,null,null,null,null,null,null,null,null,null,null,null,null,null,null,null,null,null,null,null,null,null,null,null,null,null,null,null,null,null,null,null,null,null,null,null,null,null,null,null,null,null,null,null,null,null,null,null,null,null,null,"",""]
[null,null,null,null,null,null,null,null,null,null,null,null,null,null,null,null,null,null,null,null,null,null,null,null,null,null,null,null,null,null,null,null,null,null,null,null,null,null,null,null,null,null,null,null,null,null,null,null,null,null,null,null,null,"",""]
[null,null,null,null,null,null,null,null,null,null,null,null,null,null,null,null,null,null,null,null,null,null,null,null,null,null,null,null,null,null,null,null,null,null,null,null,null,null,null,null,null,null,null,null,null,null,null,null,null,null,null,null,null,"",""]
[null,null,null,null,null,null,null,null,null,null,null,null,null,null,null,null,null,null,null,null,null,null,null,null,null,null,null,null,null,null,null,null,null,null,null,null,null,null,null,null,null,null,null,null,null,null,null,null,null,null,null,null,null,"",""]
[null,null,null,null,null,null,null,null,null,null,null,null,null,null,null,null,null,null,null,null,null,null,null,null,null,null,null,null,null,null,null,null,null,null,null,null,null,null,null,null,null,null,null,null,null,null,null,null,null,null,null,null,null,"",""]
[null,null,null,null,null,null,null,null,null,null,null,null,null,null,null,null,null,null,null,null,null,null,null,null,null,null,null,null,null,null,null,null,null,null,null,null,null,null,null,null,null,null,null,null,null,null,null,null,null,null,null,null,null,"",""]
[null,null,null,null,null,null,null,null,null,null,null,null,null,null,null,null,null,null,null,null,null,null,null,null,null,null,null,null,null,null,null,null,null,null,null,null,null,null,null,null,null,null,null,null,null,null,null,null,null,null,null,null,null,"",""]
[null,null,null,null,null,null,null,null,null,null,null,null,null,null,null,null,null,null,null,null,null,null,null,null,null,null,null,null,null,null,null,null,null,null,null,null,null,null,null,null,null,null,null,null,null,null,null,null,null,null,null,null,null,"",""]
[null,null,null,null,null,null,null,null,null,null,null,null,null,null,null,null,null,null,null,null,null,null,null,null,null,null,null,null,null,null,null,null,null,null,null,null,null,null,null,null,null,null,null,null,null,null,null,null,null,null,null,null,null,"",""]
[null,null,null,null,null,null,null,null,null,null,null,null,null,null,null,null,null,null,null,null,null,null,null,null,null,null,null,null,null,null,null,null,null,null,null,null,null,null,null,null,null,null,null,null,null,null,null,null,null,null,null,null,null,"",""]
[null,null,null,null,null,null,null,null,null,null,null,null,null,null,null,null,null,null,null,null,null,null,null,null,null,null,null,null,null,null,null,null,null,null,null,null,null,null,null,null,null,null,null,null,null,null,null,null,null,null,null,null,null,"",""]
[null,null,null,null,null,null,null,null,null,null,null,null,null,null,null,null,null,null,null,null,null,null,null,null,null,null,null,null,null,null,null,null,null,null,null,null,null,null,null,null,null,null,null,null,null,null,null,null,null,null,null,null,null,"",""]
[null,null,null,null,null,null,null,null,null,null,null,null,null,null,null,null,null,null,null,null,null,null,null,null,null,null,null,null,null,null,null,null,null,null,null,null,null,null,null,null,null,null,null,null,null,null,null,null,null,null,null,null,null,"",""]
[null,null,null,null,null,null,null,null,null,null,null,null,null,null,null,null,null,null,null,null,null,null,null,null,null,null,null,null,null,null,null,null,null,null,null,null,null,null,null,null,null,null,null,null,null,null,null,null,null,null,null,null,null,"",""]
[null,null,null,null,null,null,null,null,null,null,null,null,null,null,null,null,null,null,null,null,null,null,null,null,null,null,null,null,null,null,null,null,null,null,null,null,null,null,null,null,null,null,null,null,null,null,null,null,null,null,null,null,null,"",""]
[null,null,null,null,null,null,null,null,null,null,null,null,null,null,null,null,null,null,null,null,null,null,null,null,null,null,null,null,null,null,null,null,null,null,null,null,null,null,null,null,null,null,null,null,null,null,null,null,null,null,null,null,null,"",""]
[null,null,null,null,null,null,null,null,null,null,null,null,null,null,null,null,null,null,null,null,null,null,null,null,null,null,null,null,null,null,null,null,null,null,null,null,null,null,null,null,null,null,null,null,null,null,null,null,null,null,null,null,null,"",""]
[null,null,null,null,null,null,null,null,null,null,null,null,null,null,null,null,null,null,null,null,null,null,null,null,null,null,null,null,null,null,null,null,null,null,null,null,null,null,null,null,null,null,null,null,null,null,null,null,null,null,null,null,null,"",""]
[null,null,null,null,null,null,null,null,null,null,null,null,null,null,null,null,null,null,null,null,null,null,null,null,null,null,null,null,null,null,null,null,null,null,null,null,null,null,null,null,null,null,null,null,null,null,null,null,null,null,null,null,null,"",""]
[null,null,null,null,null,null,null,null,null,null,null,null,null,null,null,null,null,null,null,null,null,null,null,null,null,null,null,null,null,null,null,null,null,null,null,null,null,null,null,null,null,null,null,null,null,null,null,null,null,null,null,null,null,"",""]
[null,null,null,null,null,null,null,null,null,null,null,null,null,null,null,null,null,null,null,null,null,null,null,null,null,null,null,null,null,null,null,null,null,null,null,null,null,null,null,null,null,null,null,null,null,null,null,null,null,null,null,null,null,"",""]
[null,null,null,null,null,null,null,null,null,null,null,null,null,null,null,null,null,null,null,null,null,null,null,null,null,null,null,null,null,null,null,null,null,null,null,null,null,null,null,null,null,null,null,null,null,null,null,null,null,null,null,null,null,"",""]
[null,null,null,null,null,null,null,null,null,null,null,null,null,null,null,null,null,null,null,null,null,null,null,null,null,null,null,null,null,null,null,null,null,null,null,null,null,null,null,null,null,null,null,null,null,null,null,null,null,null,null,null,null,"",""]
[null,null,null,null,null,null,null,null,null,null,null,null,null,null,null,null,null,null,null,null,null,null,null,null,null,null,null,null,null,null,null,null,null,null,null,null,null,null,null,null,null,null,null,null,null,null,null,null,null,null,null,null,null,"",""]
[null,null,null,null,null,null,null,null,null,null,null,null,null,null,null,null,null,null,null,null,null,null,null,null,null,null,null,null,null,null,null,null,null,null,null,null,null,null,null,null,null,null,null,null,null,null,null,null,null,null,null,null,null,"",""]
[null,null,null,null,null,null,null,null,null,null,null,null,null,null,null,null,null,null,null,null,null,null,null,null,null,null,null,null,null,null,null,null,null,null,null,null,null,null,null,null,null,null,null,null,null,null,null,null,null,null,null,null,null,"",""]
[null,null,null,null,null,null,null,null,null,null,null,null,null,null,null,null,null,null,null,null,null,null,null,null,null,null,null,null,null,null,null,null,null,null,null,null,null,null,null,null,null,null,null,null,null,null,null,null,null,null,null,null,null,"",""]
[null,null,null,null,null,null,null,null,null,null,null,null,null,null,null,null,null,null,null,null,null,null,null,null,null,null,null,null,null,null,null,null,null,null,null,null,null,null,null,null,null,null,null,null,null,null,null,null,null,null,null,null,null,"",""]
[null,null,null,null,null,null,null,null,null,null,null,null,null,null,null,null,null,null,null,null,null,null,null,null,null,null,null,null,null,null,null,null,null,null,null,null,null,null,null,null,null,null,null,null,null,null,null,null,null,null,null,null,null,{"$f":"H385&L385&M385","v":""},{"$f":"H385&L385&M385&N385&O385&P385","v":""}]
[null,null,null,null,null,null,null,null,null,null,null,null,null,null,null,null,null,null,null,null,null,null,null,null,null,null,null,null,null,null,null,null,null,null,null,null,null,null,null,null,null,null,null,null,null,null,null,null,null,null,null,null,null,"",""]
[null,null,null,null,null,null,null,null,null,null,null,null,null,null,null,null,null,null,null,null,null,null,null,null,null,null,null,null,null,null,null,null,null,null,null,null,null,null,null,null,null,null,null,null,null,null,null,null,null,null,null,null,null,"",""]
[null,null,null,null,null,null,null,null,null,null,null,null,null,null,null,null,null,null,null,null,null,null,null,null,null,null,null,null,null,null,null,null,null,null,null,null,null,null,null,null,null,null,null,null,null,null,null,null,null,null,null,null,null,"",""]
[null,null,null,null,null,null,null,null,null,null,null,null,null,null,null,null,null,null,null,null,null,null,null,null,null,null,null,null,null,null,null,null,null,null,null,null,null,null,null,null,null,null,null,null,null,null,null,null,null,null,null,null,null,"",""]
[null,null,null,null,null,null,null,null,null,null,null,null,null,null,null,null,null,null,null,null,null,null,null,null,null,null,null,null,null,null,null,null,null,null,null,null,null,null,null,null,null,null,null,null,null,null,null,null,null,null,null,null,null,"",""]
[null,null,null,null,null,null,null,null,null,null,null,null,null,null,null,null,null,null,null,null,null,null,null,null,null,null,null,null,null,null,null,null,null,null,null,null,null,null,null,null,null,null,null,null,null,null,null,null,null,null,null,null,null,"",""]
[null,null,null,null,null,null,null,null,null,null,null,null,null,null,null,null,null,null,null,null,null,null,null,null,null,null,null,null,null,null,null,null,null,null,null,null,null,null,null,null,null,null,null,null,null,null,null,null,null,null,null,null,null,"",""]
[null,null,null,null,null,null,null,null,null,null,null,null,null,null,null,null,null,null,null,null,null,null,null,null,null,null,null,null,null,null,null,null,null,null,null,null,null,null,null,null,null,null,null,null,null,null,null,null,null,null,null,null,null,"",""]
[null,null,null,null,null,null,null,null,null,null,null,null,null,null,null,null,null,null,null,null,null,null,null,null,null,null,null,null,null,null,null,null,null,null,null,null,null,null,null,null,null,null,null,null,null,null,null,null,null,null,null,null,null,"",""]
[null,null,null,null,null,null,null,null,null,null,null,null,null,null,null,null,null,null,null,null,null,null,null,null,null,null,null,null,null,null,null,null,null,null,null,null,null,null,null,null,null,null,null,null,null,null,null,null,null,null,null,null,null,"",""]
[null,null,null,null,null,null,null,null,null,null,null,null,null,null,null,null,null,null,null,null,null,null,null,null,null,null,null,null,null,null,null,null,null,null,null,null,null,null,null,null,null,null,null,null,null,null,null,null,null,null,null,null,null,"",""]
[null,null,null,null,null,null,null,null,null,null,null,null,null,null,null,null,null,null,null,null,null,null,null,null,null,null,null,null,null,null,null,null,null,null,null,null,null,null,null,null,null,null,null,null,null,null,null,null,null,null,null,null,null,"",""]
[null,null,null,null,null,null,null,null,null,null,null,null,null,null,null,null,null,null,null,null,null,null,null,null,null,null,null,null,null,null,null,null,null,null,null,null,null,null,null,null,null,null,null,null,null,null,null,null,null,null,null,null,null,"",""]
[null,null,null,null,null,null,null,null,null,null,null,null,null,null,null,null,null,null,null,null,null,null,null,null,null,null,null,null,null,null,null,null,null,null,null,null,null,null,null,null,null,null,null,null,null,null,null,null,null,null,null,null,null,"",""]
[null,null,null,null,null,null,null,null,null,null,null,null,null,null,null,null,null,null,null,null,null,null,null,null,null,null,null,null,null,null,null,null,null,null,null,null,null,null,null,null,null,null,null,null,null,null,null,null,null,null,null,null,null,"",""]
[null,null,null,null,null,null,null,null,null,null,null,null,null,null,null,null,null,null,null,null,null,null,null,null,null,null,null,null,null,null,null,null,null,null,null,null,null,null,null,null,null,null,null,null,null,null,null,null,null,null,null,null,null,"",""]
[null,null,null,null,null,null,null,null,null,null,null,null,null,null,null,null,null,null,null,null,null,null,null,null,null,null,null,null,null,null,null,null,null,null,null,null,null,null,null,null,null,null,null,null,null,null,null,null,null,null,null,null,null,"",""]
[null,null,null,null,null,null,null,null,null,null,null,null,null,null,null,null,null,null,null,null,null,null,null,null,null,null,null,null,null,null,null,null,null,null,null,null,null,null,null,null,null,null,null,null,null,null,null,null,null,null,null,null,null,"",""]
[null,null,null,null,null,null,null,null,null,null,null,null,null,null,null,null,null,null,null,null,null,null,null,null,null,null,null,null,null,null,null,null,null,null,null,null,null,null,null,null,null,null,null,null,null,null,null,null,null,null,null,null,null,"",""]
[null,null,null,null,null,null,null,null,null,null,null,null,null,null,null,null,null,null,null,null,null,null,null,null,null,null,null,null,null,null,null,null,null,null,null,null,null,null,null,null,null,null,null,null,null,null,null,null,null,null,null,null,null,"",""]
[null,null,null,null,null,null,null,null,null,null,null,null,null,null,null,null,null,null,null,null,null,null,null,null,null,null,null,null,null,null,null,null,null,null,null,null,null,null,null,null,null,null,null,null,null,null,null,null,null,null,null,null,null,"",""]
[null,null,null,null,null,null,null,null,null,null,null,null,null,null,null,null,null,null,null,null,null,null,null,null,null,null,null,null,null,null,null,null,null,null,null,null,null,null,null,null,null,null,null,null,null,null,null,null,null,null,null,null,null,"",""]
[null,null,null,null,null,null,null,null,null,null,null,null,null,null,null,null,null,null,null,null,null,null,null,null,null,null,null,null,null,null,null,null,null,null,null,null,null,null,null,null,null,null,null,null,null,null,null,null,null,null,null,null,null,"",""]
[null,null,null,null,null,null,null,null,null,null,null,null,null,null,null,null,null,null,null,null,null,null,null,null,null,null,null,null,null,null,null,null,null,null,null,null,null,null,null,null,null,null,null,null,null,null,null,null,null,null,null,null,null,"",""]
[null,null,null,null,null,null,null,null,null,null,null,null,null,null,null,null,null,null,null,null,null,null,null,null,null,null,null,null,null,null,null,null,null,null,null,null,null,null,null,null,null,null,null,null,null,null,null,null,null,null,null,null,null,"",""]
[null,null,null,null,null,null,null,null,null,null,null,null,null,null,null,null,null,null,null,null,null,null,null,null,null,null,null,null,null,null,null,null,null,null,null,null,null,null,null,null,null,null,null,null,null,null,null,null,null,null,null,null,null,"",""]
[null,null,null,null,null,null,null,null,null,null,null,null,null,null,null,null,null,null,null,null,null,null,null,null,null,null,null,null,null,null,null,null,null,null,null,null,null,null,null,null,null,null,null,null,null,null,null,null,null,null,null,null,null,"",""]
[null,null,null,null,null,null,null,null,null,null,null,null,null,null,null,null,null,null,null,null,null,null,null,null,null,null,null,null,null,null,null,null,null,null,null,null,null,null,null,null,null,null,null,null,null,null,null,null,null,null,null,null,null,"",""]
[null,null,null,null,null,null,null,null,null,null,null,null,null,null,null,null,null,null,null,null,null,null,null,null,null,null,null,null,null,null,null,null,null,null,null,null,null,null,null,null,null,null,null,null,null,null,null,null,null,null,null,null,null,"",""]
[null,null,null,null,null,null,null,null,null,null,null,null,null,null,null,null,null,null,null,null,null,null,null,null,null,null,null,null,null,null,null,null,null,null,null,null,null,null,null,null,null,null,null,null,null,null,null,null,null,null,null,null,null,"",""]
[null,null,null,null,null,null,null,null,null,null,null,null,null,null,null,null,null,null,null,null,null,null,null,null,null,null,null,null,null,null,null,null,null,null,null,null,null,null,null,null,null,null,null,null,null,null,null,null,null,null,null,null,null,"",""]
[null,null,null,null,null,null,null,null,null,null,null,null,null,null,null,null,null,null,null,null,null,null,null,null,null,null,null,null,null,null,null,null,null,null,null,null,null,null,null,null,null,null,null,null,null,null,null,null,null,null,null,null,null,"",""]
[null,null,null,null,null,null,null,null,null,null,null,null,null,null,null,null,null,null,null,null,null,null,null,null,null,null,null,null,null,null,null,null,null,null,null,null,null,null,null,null,null,null,null,null,null,null,null,null,null,null,null,null,null,"",""]
[null,null,null,null,null,null,null,null,null,null,null,null,null,null,null,null,null,null,null,null,null,null,null,null,null,null,null,null,null,null,null,null,null,null,null,null,null,null,null,null,null,null,null,null,null,null,null,null,null,null,null,null,null,"",""]
[null,null,null,null,null,null,null,null,null,null,null,null,null,null,null,null,null,null,null,null,null,null,null,null,null,null,null,null,null,null,null,null,null,null,null,null,null,null,null,null,null,null,null,null,null,null,null,null,null,null,null,null,null,"",""]
[null,null,null,null,null,null,null,null,null,null,null,null,null,null,null,null,null,null,null,null,null,null,null,null,null,null,null,null,null,null,null,null,null,null,null,null,null,null,null,null,null,null,null,null,null,null,null,null,null,null,null,null,null,"",""]
[null,null,null,null,null,null,null,null,null,null,null,null,null,null,null,null,null,null,null,null,null,null,null,null,null,null,null,null,null,null,null,null,null,null,null,null,null,null,null,null,null,null,null,null,null,null,null,null,null,null,null,null,null,"",""]
[null,null,null,null,null,null,null,null,null,null,null,null,null,null,null,null,null,null,null,null,null,null,null,null,null,null,null,null,null,null,null,null,null,null,null,null,null,null,null,null,null,null,null,null,null,null,null,null,null,null,null,null,null,"",""]
[null,null,null,null,null,null,null,null,null,null,null,null,null,null,null,null,null,null,null,null,null,null,null,null,null,null,null,null,null,null,null,null,null,null,null,null,null,null,null,null,null,null,null,null,null,null,null,null,null,null,null,null,null,"",""]
[null,null,null,null,null,null,null,null,null,null,null,null,null,null,null,null,null,null,null,null,null,null,null,null,null,null,null,null,null,null,null,null,null,null,null,null,null,null,null,null,null,null,null,null,null,null,null,null,null,null,null,null,null,"",""]
[null,null,null,null,null,null,null,null,null,null,null,null,null,null,null,null,null,null,null,null,null,null,null,null,null,null,null,null,null,null,null,null,null,null,null,null,null,null,null,null,null,null,null,null,null,null,null,null,null,null,null,null,null,"",""]
[null,null,null,null,null,null,null,null,null,null,null,null,null,null,null,null,null,null,null,null,null,null,null,null,null,null,null,null,null,null,null,null,null,null,null,null,null,null,null,null,null,null,null,null,null,null,null,null,null,null,null,null,null,"",""]
[null,null,null,null,null,null,null,null,null,null,null,null,null,null,null,null,null,null,null,null,null,null,null,null,null,null,null,null,null,null,null,null,null,null,null,null,null,null,null,null,null,null,null,null,null,null,null,null,null,null,null,null,null,"",""]
[null,null,null,null,null,null,null,null,null,null,null,null,null,null,null,null,null,null,null,null,null,null,null,null,null,null,null,null,null,null,null,null,null,null,null,null,null,null,null,null,null,null,null,null,null,null,null,null,null,null,null,null,null,"",""]
[null,null,null,null,null,null,null,null,null,null,null,null,null,null,null,null,null,null,null,null,null,null,null,null,null,null,null,null,null,null,null,null,null,null,null,null,null,null,null,null,null,null,null,null,null,null,null,null,null,null,null,null,null,"",""]
[null,null,null,null,null,null,null,null,null,null,null,null,null,null,null,null,null,null,null,null,null,null,null,null,null,null,null,null,null,null,null,null,null,null,null,null,null,null,null,null,null,null,null,null,null,null,null,null,null,null,null,null,null,"",""]
[null,null,null,null,null,null,null,null,null,null,null,null,null,null,null,null,null,null,null,null,null,null,null,null,null,null,null,null,null,null,null,null,null,null,null,null,null,null,null,null,null,null,null,null,null,null,null,null,null,null,null,null,null,"",""]
[null,null,null,null,null,null,null,null,null,null,null,null,null,null,null,null,null,null,null,null,null,null,null,null,null,null,null,null,null,null,null,null,null,null,null,null,null,null,null,null,null,null,null,null,null,null,null,null,null,null,null,null,null,"",""]
[null,null,null,null,null,null,null,null,null,null,null,null,null,null,null,null,null,null,null,null,null,null,null,null,null,null,null,null,null,null,null,null,null,null,null,null,null,null,null,null,null,null,null,null,null,null,null,null,null,null,null,null,null,"",""]
[null,null,null,null,null,null,null,null,null,null,null,null,null,null,null,null,null,null,null,null,null,null,null,null,null,null,null,null,null,null,null,null,null,null,null,null,null,null,null,null,null,null,null,null,null,null,null,null,null,null,null,null,null,"",""]
[null,null,null,null,null,null,null,null,null,null,null,null,null,null,null,null,null,null,null,null,null,null,null,null,null,null,null,null,null,null,null,null,null,null,null,null,null,null,null,null,null,null,null,null,null,null,null,null,null,null,null,null,null,"",""]
[null,null,null,null,null,null,null,null,null,null,null,null,null,null,null,null,null,null,null,null,null,null,null,null,null,null,null,null,null,null,null,null,null,null,null,null,null,null,null,null,null,null,null,null,null,null,null,null,null,null,null,null,null,"",""]
[null,null,null,null,null,null,null,null,null,null,null,null,null,null,null,null,null,null,null,null,null,null,null,null,null,null,null,null,null,null,null,null,null,null,null,null,null,null,null,null,null,null,null,null,null,null,null,null,null,null,null,null,null,"",""]
[null,null,null,null,null,null,null,null,null,null,null,null,null,null,null,null,null,null,null,null,null,null,null,null,null,null,null,null,null,null,null,null,null,null,null,null,null,null,null,null,null,null,null,null,null,null,null,null,null,null,null,null,null,"",""]
[null,null,null,null,null,null,null,null,null,null,null,null,null,null,null,null,null,null,null,null,null,null,null,null,null,null,null,null,null,null,null,null,null,null,null,null,null,null,null,null,null,null,null,null,null,null,null,null,null,null,null,null,null,"",""]
[null,null,null,null,null,null,null,null,null,null,null,null,null,null,null,null,null,null,null,null,null,null,null,null,null,null,null,null,null,null,null,null,null,null,null,null,null,null,null,null,null,null,null,null,null,null,null,null,null,null,null,null,null,"",""]
[null,null,null,null,null,null,null,null,null,null,null,null,null,null,null,null,null,null,null,null,null,null,null,null,null,null,null,null,null,null,null,null,null,null,null,null,null,null,null,null,null,null,null,null,null,null,null,null,null,null,null,null,null,"",""]
[null,null,null,null,null,null,null,null,null,null,null,null,null,null,null,null,null,null,null,null,null,null,null,null,null,null,null,null,null,null,null,null,null,null,null,null,null,null,null,null,null,null,null,null,null,null,null,null,null,null,null,null,null,"",""]
[null,null,null,null,null,null,null,null,null,null,null,null,null,null,null,null,null,null,null,null,null,null,null,null,null,null,null,null,null,null,null,null,null,null,null,null,null,null,null,null,null,null,null,null,null,null,null,null,null,null,null,null,null,"",""]
[null,null,null,null,null,null,null,null,null,null,null,null,null,null,null,null,null,null,null,null,null,null,null,null,null,null,null,null,null,null,null,null,null,null,null,null,null,null,null,null,null,null,null,null,null,null,null,null,null,null,null,null,null,"",""]
[null,null,null,null,null,null,null,null,null,null,null,null,null,null,null,null,null,null,null,null,null,null,null,null,null,null,null,null,null,null,null,null,null,null,null,null,null,null,null,null,null,null,null,null,null,null,null,null,null,null,null,null,null,"",""]
[null,null,null,null,null,null,null,null,null,null,null,null,null,null,null,null,null,null,null,null,null,null,null,null,null,null,null,null,null,null,null,null,null,null,null,null,null,null,null,null,null,null,null,null,null,null,null,null,null,null,null,null,null,"",""]
[null,null,null,null,null,null,null,null,null,null,null,null,null,null,null,null,null,null,null,null,null,null,null,null,null,null,null,null,null,null,null,null,null,null,null,null,null,null,null,null,null,null,null,null,null,null,null,null,null,null,null,null,null,"",""]
[null,null,null,null,null,null,null,null,null,null,null,null,null,null,null,null,null,null,null,null,null,null,null,null,null,null,null,null,null,null,null,null,null,null,null,null,null,null,null,null,null,null,null,null,null,null,null,null,null,null,null,null,null,{"$f":"H449&L449&M449","v":""},{"$f":"H449&L449&M449&N449&O449&P449","v":""}]
[null,null,null,null,null,null,null,null,null,null,null,null,null,null,null,null,null,null,null,null,null,null,null,null,null,null,null,null,null,null,null,null,null,null,null,null,null,null,null,null,null,null,null,null,null,null,null,null,null,null,null,null,null,"",""]
[null,null,null,null,null,null,null,null,null,null,null,null,null,null,null,null,null,null,null,null,null,null,null,null,null,null,null,null,null,null,null,null,null,null,null,null,null,null,null,null,null,null,null,null,null,null,null,null,null,null,null,null,null,"",""]
[null,null,null,null,null,null,null,null,null,null,null,null,null,null,null,null,null,null,null,null,null,null,null,null,null,null,null,null,null,null,null,null,null,null,null,null,null,null,null,null,null,null,null,null,null,null,null,null,null,null,null,null,null,"",""]
[null,null,null,null,null,null,null,null,null,null,null,null,null,null,null,null,null,null,null,null,null,null,null,null,null,null,null,null,null,null,null,null,null,null,null,null,null,null,null,null,null,null,null,null,null,null,null,null,null,null,null,null,null,"",""]
[null,null,null,null,null,null,null,null,null,null,null,null,null,null,null,null,null,null,null,null,null,null,null,null,null,null,null,null,null,null,null,null,null,null,null,null,null,null,null,null,null,null,null,null,null,null,null,null,null,null,null,null,null,"",""]
[null,null,null,null,null,null,null,null,null,null,null,null,null,null,null,null,null,null,null,null,null,null,null,null,null,null,null,null,null,null,null,null,null,null,null,null,null,null,null,null,null,null,null,null,null,null,null,null,null,null,null,null,null,"",""]
[null,null,null,null,null,null,null,null,null,null,null,null,null,null,null,null,null,null,null,null,null,null,null,null,null,null,null,null,null,null,null,null,null,null,null,null,null,null,null,null,null,null,null,null,null,null,null,null,null,null,null,null,null,"",""]

{"sheet":"Liste","index":2,"n_rows":38,"n_cols":7,"rows_kept":38,"cut":false,"hidden":true,"merged":[]}
["Liste des bancs",null,"Service maintenance","MDP","Fiche d'intervention","BDD","Liste"]
["Banc P1",null,"Christophe Gauvin","Christophe","X","X","X"]
["Banc P2",null,"David Garcia","motdepasse","X","X"]
["Banc PowerTrain",null,"Alexandre Delaunay",123456,"X","X"]
["Banc P5",null,"Jonhathan Boucher","changer","X","X"]
["Banc P7",null,"Thibault Hemart","Changer2016","X","X"]
["Banc P9",null,"Romain Dehan",940606,"X","X","X"]
["M73001 (Banc new P9)",null,"Benjamin Eyraud",null,"X","X"]
["Banc HP",null,"Angela Andrino",null,"X","X"]
["Banc Cisaillement",null,"Philippe Tavola",null,"X","X"]
["Banc 007",null,"Visiteur"]
["Banc 008"]
["Banc 101"]
["Banc 104"]
["Banc 111"]
["Banc 113"]
["Banc 115"]
["Banc 117"]
["Banc 117 bis"]
["Banc 119"]
["Banc 120"]
["Banc 120 bis"]
["Banc 121"]
["Banc 123"]
["Banc 124"]
["Banc 124 bis"]
["Banc 125"]
["Banc 126"]
["Banc 128"]
["Banc 129"]
["Banc 131"]
["Chambre sourde"]
["Banc 145"]
["Banc 156"]
["Chambre froide"]
["Banc W+B"]
["Ressort verticale"]
["Pompe à eau"]

{"sheet":"Indicateur Zone5","index":3,"n_rows":98,"n_cols":73,"rows_kept":98,"cut":false,"hidden":false,"merged":[[1,1,1,12],[31,1,31,12],[55,1,55,12],[56,1,56,2],[56,3,56,4],[56,5,56,6],[56,7,56,8],[56,9,56,10],[56,11,56,12],[56,23,56,24],[87,1,87,21],[88,1,88,6],[88,7,88,12],[88,13,88,18],[88,19,88,24],[56,13,56,14],[56,15,56,16],[56,17,56,18],[56,19,56,20],[56,21,56,22],[88,25,88,30],[88,31,88,36],[88,37,88,42],[88,43,88,48],[88,49,88,54],[88,55,88,60],[88,61,88,66],[88,67,88,72],[89,1,89,3],[89,4,89,6],[89,7,89,9],[89,10,89,12],[89,13,89,15],[89,16,89,18],[89,19,89,21],[89,22,89,24],[89,25,89,27],[89,28,89,30],[89,31,89,33],[89,34,89,36],[89,37,89,39],[89,40,89,42],[89,43,89,45],[89,46,89,48],[89,49,89,51],[89,52,89,54],[89,70,89,72],[89,55,89,57],[89,58,89,60],[89,61,89,63],[89,64,89,66],[89,67,89,69]]}
[]
[null,"Suivi des arrêts par banc"]
["Banc zone 5","Janvier","Février","Mars","Avril","Mai","Juin","Juillet","Août","Septembre","Octobre","Novembre","Décembre"]
["Banc 124",{"$f":"SUMIF(BDD!$H$2:$H$3,'Indicateur Zone5'!$A4,BDD!$V$2:$V$3)","v":0},{"$f":"SUMIF(BDD!$H$2:$H$3,'Indicateur Zone5'!$A4,BDD!$V$2:$V$3)","v":0},{"$f":"SUMIF(BDD!$H$2:$H$683,'Indicateur Zone5'!$A$4,BDD!$V$2:$V$683)","v":0.3},{"$f":"SUMIF(BDD!$H$2:$H$3,'Indicateur Zone5'!$A4,BDD!$V$2:$V$3)","v":0},{"$f":"SUMIF(BDD!$H$2:$H$3,'Indicateur Zone5'!$A4,BDD!$V$2:$V$3)","v":0},{"$f":"SUMIF(BDD!$H$2:$H$3,'Indicateur Zone5'!$A4,BDD!$V$2:$V$3)","v":0},{"$f":"SUMIF(BDD!$H$2:$H$3,'Indicateur Zone5'!$A4,BDD!$V$2:$V$3)","v":0},{"$f":"SUMIF(BDD!$H$2:$H$3,'Indicateur Zone5'!$A4,BDD!$V$2:$V$3)","v":0},{"$f":"SUMIF(BDD!$H$2:$H$3,'Indicateur Zone5'!$A4,BDD!$V$2:$V$3)","v":0},{"$f":"SUMIF(BDD!$H$2:$H$3,'Indicateur Zone5'!$A4,BDD!$V$2:$V$3)","v":0},{"$f":"SUMIF(BDD!$H$2:$H$3,'Indicateur Zone5'!$A4,BDD!$V$2:$V$3)","v":0},{"$f":"SUMIF(BDD!$H$2:$H$3,'Indicateur Zone5'!$A4,BDD!$V$2:$V$3)","v":0}]
["Banc 124 bis",{"$f":"SUMIF(BDD!$H$2:$H$3,'Indicateur Zone5'!$A5,BDD!$V$2:$V$3)","v":0},{"$f":"SUMIF(BDD!$H$2:$H$3,'Indicateur Zone5'!$A5,BDD!$V$2:$V$3)","v":0},{"$f":"SUMIF(BDD!$H$2:$H$683,'Indicateur Zone5'!$A$5,BDD!$V$2:$V$683)","v":0},{"$f":"SUMIF(BDD!$H$2:$H$3,'Indicateur Zone5'!$A5,BDD!$V$2:$V$3)","v":0},{"$f":"SUMIF(BDD!$H$2:$H$3,'Indicateur Zone5'!$A5,BDD!$V$2:$V$3)","v":0},{"$f":"SUMIF(BDD!$H$2:$H$3,'Indicateur Zone5'!$A5,BDD!$V$2:$V$3)","v":0},{"$f":"SUMIF(BDD!$H$2:$H$3,'Indicateur Zone5'!$A5,BDD!$V$2:$V$3)","v":0},{"$f":"SUMIF(BDD!$H$2:$H$3,'Indicateur Zone5'!$A5,BDD!$V$2:$V$3)","v":0},{"$f":"SUMIF(BDD!$H$2:$H$3,'Indicateur Zone5'!$A5,BDD!$V$2:$V$3)","v":0},{"$f":"SUMIF(BDD!$H$2:$H$3,'Indicateur Zone5'!$A5,BDD!$V$2:$V$3)","v":0},{"$f":"SUMIF(BDD!$H$2:$H$3,'Indicateur Zone5'!$A5,BDD!$V$2:$V$3)","v":0},{"$f":"SUMIF(BDD!$H$2:$H$3,'Indicateur Zone5'!$A5,BDD!$V$2:$V$3)","v":0}]
["Banc 145",{"$f":"SUMIF(BDD!$H$2:$H$3,'Indicateur Zone5'!$A6,BDD!$V$2:$V$3)","v":0},{"$f":"SUMIF(BDD!$H$2:$H$3,'Indicateur Zone5'!$A6,BDD!$V$2:$V$3)","v":0},{"$f":"SUMIF(BDD!$H$2:$H$683,'Indicateur Zone5'!$A$6,BDD!$V$2:$V$683)","v":0},{"$f":"SUMIF(BDD!$H$2:$H$3,'Indicateur Zone5'!$A6,BDD!$V$2:$V$3)","v":0},{"$f":"SUMIF(BDD!$H$2:$H$3,'Indicateur Zone5'!$A6,BDD!$V$2:$V$3)","v":0},{"$f":"SUMIF(BDD!$H$2:$H$3,'Indicateur Zone5'!$A6,BDD!$V$2:$V$3)","v":0},{"$f":"SUMIF(BDD!$H$2:$H$3,'Indicateur Zone5'!$A6,BDD!$V$2:$V$3)","v":0},{"$f":"SUMIF(BDD!$H$2:$H$3,'Indicateur Zone5'!$A6,BDD!$V$2:$V$3)","v":0},{"$f":"SUMIF(BDD!$H$2:$H$3,'Indicateur Zone5'!$A6,BDD!$V$2:$V$3)","v":0},{"$f":"SUMIF(BDD!$H$2:$H$3,'Indicateur Zone5'!$A6,BDD!$V$2:$V$3)","v":0},{"$f":"SUMIF(BDD!$H$2:$H$3,'Indicateur Zone5'!$A6,BDD!$V$2:$V$3)","v":0},{"$f":"SUMIF(BDD!$H$2:$H$3,'Indicateur Zone5'!$A6,BDD!$V$2:$V$3)","v":0}]
["Banc cisaillement",{"$f":"SUMIF(BDD!$H$2:$H$3,'Indicateur Zone5'!$A7,BDD!$V$2:$V$3)","v":0},{"$f":"SUMIF(BDD!$H$2:$H$3,'Indicateur Zone5'!$A7,BDD!$V$2:$V$3)","v":0},{"$f":"SUMIF(BDD!$H$2:$H$683,'Indicateur Zone5'!$A$7,BDD!$V$2:$V$683)","v":0},{"$f":"SUMIF(BDD!$H$2:$H$3,'Indicateur Zone5'!$A7,BDD!$V$2:$V$3)","v":0},{"$f":"SUMIF(BDD!$H$2:$H$3,'Indicateur Zone5'!$A7,BDD!$V$2:$V$3)","v":0},{"$f":"SUMIF(BDD!$H$2:$H$3,'Indicateur Zone5'!$A7,BDD!$V$2:$V$3)","v":0},{"$f":"SUMIF(BDD!$H$2:$H$3,'Indicateur Zone5'!$A7,BDD!$V$2:$V$3)","v":0},{"$f":"SUMIF(BDD!$H$2:$H$3,'Indicateur Zone5'!$A7,BDD!$V$2:$V$3)","v":0},{"$f":"SUMIF(BDD!$H$2:$H$3,'Indicateur Zone5'!$A7,BDD!$V$2:$V$3)","v":0},{"$f":"SUMIF(BDD!$H$2:$H$3,'Indicateur Zone5'!$A7,BDD!$V$2:$V$3)","v":0},{"$f":"SUMIF(BDD!$H$2:$H$3,'Indicateur Zone5'!$A7,BDD!$V$2:$V$3)","v":0},{"$f":"SUMIF(BDD!$H$2:$H$3,'Indicateur Zone5'!$A7,BDD!$V$2:$V$3)","v":0}]
["Banc HP",{"$f":"SUMIF(BDD!$H$2:$H$3,'Indicateur Zone5'!$A8,BDD!$V$2:$V$3)","v":0},{"$f":"SUMIF(BDD!$H$2:$H$3,'Indicateur Zone5'!$A8,BDD!$V$2:$V$3)","v":0},{"$f":"SUMIF(BDD!$H$2:$H$683,'Indicateur Zone5'!$A$8,BDD!$V$2:$V$683)","v":0},{"$f":"SUMIF(BDD!$H$2:$H$3,'Indicateur Zone5'!$A8,BDD!$V$2:$V$3)","v":0},{"$f":"SUMIF(BDD!$H$2:$H$3,'Indicateur Zone5'!$A8,BDD!$V$2:$V$3)","v":0},{"$f":"SUMIF(BDD!$H$2:$H$3,'Indicateur Zone5'!$A8,BDD!$V$2:$V$3)","v":0},{"$f":"SUMIF(BDD!$H$2:$H$3,'Indicateur Zone5'!$A8,BDD!$V$2:$V$3)","v":0},{"$f":"SUMIF(BDD!$H$2:$H$3,'Indicateur Zone5'!$A8,BDD!$V$2:$V$3)","v":0},{"$f":"SUMIF(BDD!$H$2:$H$3,'Indicateur Zone5'!$A8,BDD!$V$2:$V$3)","v":0},{"$f":"SUMIF(BDD!$H$2:$H$3,'Indicateur Zone5'!$A8,BDD!$V$2:$V$3)","v":0},{"$f":"SUMIF(BDD!$H$2:$H$3,'Indicateur Zone5'!$A8,BDD!$V$2:$V$3)","v":0},{"$f":"SUMIF(BDD!$H$2:$H$3,'Indicateur Zone5'!$A8,BDD!$V$2:$V$3)","v":0}]
["Banc W+B",{"$f":"SUMIF(BDD!$H$2:$H$3,'Indicateur Zone5'!$A9,BDD!$V$2:$V$3)","v":0},{"$f":"SUMIF(BDD!$H$2:$H$3,'Indicateur Zone5'!$A9,BDD!$V$2:$V$3)","v":0},{"$f":"SUMIF(BDD!$H$2:$H$683,'Indicateur Zone5'!$A$9,BDD!$V$2:$V$683)","v":0},{"$f":"SUMIF(BDD!$H$2:$H$3,'Indicateur Zone5'!$A9,BDD!$V$2:$V$3)","v":0},{"$f":"SUMIF(BDD!$H$2:$H$3,'Indicateur Zone5'!$A9,BDD!$V$2:$V$3)","v":0},{"$f":"SUMIF(BDD!$H$2:$H$3,'Indicateur Zone5'!$A9,BDD!$V$2:$V$3)","v":0},{"$f":"SUMIF(BDD!$H$2:$H$3,'Indicateur Zone5'!$A9,BDD!$V$2:$V$3)","v":0},{"$f":"SUMIF(BDD!$H$2:$H$3,'Indicateur Zone5'!$A9,BDD!$V$2:$V$3)","v":0},{"$f":"SUMIF(BDD!$H$2:$H$3,'Indicateur Zone5'!$A9,BDD!$V$2:$V$3)","v":0},{"$f":"SUMIF(BDD!$H$2:$H$3,'Indicateur Zone5'!$A9,BDD!$V$2:$V$3)","v":0},{"$f":"SUMIF(BDD!$H$2:$H$3,'Indicateur Zone5'!$A9,BDD!$V$2:$V$3)","v":0},{"$f":"SUMIF(BDD!$H$2:$H$3,'Indicateur Zone5'!$A9,BDD!$V$2:$V$3)","v":0}]
["Ressort verticale",{"$f":"SUMIF(BDD!$H$2:$H$3,'Indicateur Zone5'!$A10,BDD!$V$2:$V$3)","v":0},{"$f":"SUMIF(BDD!$H$2:$H$3,'Indicateur Zone5'!$A10,BDD!$V$2:$V$3)","v":0},{"$f":"SUMIF(BDD!$H$2:$H$683,'Indicateur Zone5'!$A$10,BDD!$V$2:$V$683)","v":0},{"$f":"SUMIF(BDD!$H$2:$H$3,'Indicateur Zone5'!$A10,BDD!$V$2:$V$3)","v":0},{"$f":"SUMIF(BDD!$H$2:$H$3,'Indicateur Zone5'!$A10,BDD!$V$2:$V$3)","v":0},{"$f":"SUMIF(BDD!$H$2:$H$3,'Indicateur Zone5'!$A10,BDD!$V$2:$V$3)","v":0},{"$f":"SUMIF(BDD!$H$2:$H$3,'Indicateur Zone5'!$A10,BDD!$V$2:$V$3)","v":0},{"$f":"SUMIF(BDD!$H$2:$H$3,'Indicateur Zone5'!$A10,BDD!$V$2:$V$3)","v":0},{"$f":"SUMIF(BDD!$H$2:$H$3,'Indicateur Zone5'!$A10,BDD!$V$2:$V$3)","v":0},{"$f":"SUMIF(BDD!$H$2:$H$3,'Indicateur Zone5'!$A10,BDD!$V$2:$V$3)","v":0},{"$f":"SUMIF(BDD!$H$2:$H$3,'Indicateur Zone5'!$A10,BDD!$V$2:$V$3)","v":0},{"$f":"SUMIF(BDD!$H$2:$H$3,'Indicateur Zone5'!$A10,BDD!$V$2:$V$3)","v":0}]
[]
[]
[]
[]
[]
[]
[]
[]
[]
[]
[]
[]
[]
[]
[]
[]
[]
[]
[]
[]
[]
[null,"Suivi du correctif et du préventif"]
["Type de maintenance","Janvier","Février","Mars","Avril","Mai","Juin","Juillet","Août","Septembre","Octobre","Novembre","Décembre"]
["Préventive",{"$f":"SUM(C59:C65)","v":0},{"$f":"SUM(E59:E65)","v":0},{"$f":"SUM(G59:G65)","v":0.3},{"$f":"SUM(I59:I65)","v":0},{"$f":"SUM(K59:K65)","v":0},{"$f":"SUM(M59:M65)","v":0},{"$f":"SUM(O59:O65)","v":0},{"$f":"SUM(Q59:Q65)","v":0},{"$f":"SUM(S59:S65)","v":0},{"$f":"SUM(U59:U65)","v":0},{"$f":"SUM(W59:W65)","v":0},{"$f":"SUM(Y59:Y65)","v":0}]
["Corrective",{"$f":"SUM(B59:B65)","v":0},{"$f":"SUM(D59:D65)","v":0},{"$f":"SUM(F59:F65)","v":0},{"$f":"SUM(H59:H65)","v":0},{"$f":"SUM(J59:J65)","v":0},{"$f":"SUM(L59:L65)","v":0},{"$f":"SUM(N59:N65)","v":0},{"$f":"SUM(N59:N65)","v":0},{"$f":"SUM(R59:R65)","v":0},{"$f":"SUM(T59:T65)","v":0},{"$f":"SUM(V59:V65)","v":0},{"$f":"SUM(X59:X65)","v":0}]
[]
[]
[]
[]
[]
[]
[]
[]
[]
[]
[]
[]
[]
[]
[]
[]
[]
[]
[]
[]
[null,"Suivi du correctif et du préventif par banc"]
[null,"Janvier",null,"Février",null,"Mars",null,"Avril",null,"Mai",null,"Juin",null,"Juillet",null,"Août",null,"Septembre",null,"Octobre",null,"Novembre",null,"Décembre"]
["Banc zone 5","Corrective","Préventive","Corrective","Préventive","Corrective","Préventive","Corrective","Préventive","Corrective","Préventive","Corrective","Préventive","Corrective","Préventive","Corrective","Préventive","Corrective","Préventive","Corrective","Préventive","Corrective","Préventive","Corrective","Préventive"]
["Banc 124",{"$f":"SUMIF(BDD!$BB$2:$BB$3,\"Banc 124VRAIFAUX\",BDD!$V$2:$V$3)","v":0},{"$f":"SUMIF(BDD!$BB$2:$BB$3,\"Banc 124FAUXVRAI\",BDD!$V$2:$V$3)","v":0},{"$f":"SUMIF(BDD!$BB$2:$BB$3,\"Banc 124VRAIFAUX\",BDD!$V$2:$V$3)","v":0},{"$f":"SUMIF(BDD!$BB$2:$BB$3,\"Banc 124FAUXVRAI\",BDD!$V$2:$V$3)","v":0},{"$f":"SUMIF(BDD!$BB$2:$BB$683,\"Banc 124VRAIFAUX\",BDD!$V$2:$V$683)","v":0},{"$f":"SUMIF(BDD!$BB$2:$BB$683,\"Banc 124FAUXvrai\",BDD!$V$2:$V$683)","v":0.3},{"$f":"SUMIF(BDD!$BB$2:$BB$3,\"Banc 124VRAIFAUX\",BDD!$V$2:$V$3)","v":0},{"$f":"SUMIF(BDD!$BB$2:$BB$3,\"Banc 124FAUXVRAI\",BDD!$V$2:$V$3)","v":0},{"$f":"SUMIF(BDD!$BB$2:$BB$3,\"Banc 124VRAIFAUX\",BDD!$V$2:$V$3)","v":0},{"$f":"SUMIF(BDD!$BB$2:$BB$3,\"Banc 124FAUXVRAI\",BDD!$V$2:$V$3)","v":0},{"$f":"SUMIF(BDD!$BB$2:$BB$3,\"Banc 124VRAIFAUX\",BDD!$V$2:$V$3)","v":0},{"$f":"SUMIF(BDD!$BB$2:$BB$3,\"Banc 124FAUXVRAI\",BDD!$V$2:$V$3)","v":0},{"$f":"SUMIF(BDD!$BB$2:$BB$3,\"Banc 124VRAIFAUX\",BDD!$V$2:$V$3)","v":0},{"$f":"SUMIF(BDD!$BB$2:$BB$3,\"Banc 124FAUXVRAI\",BDD!$V$2:$V$3)","v":0},{"$f":"SUMIF(BDD!$BB$2:$BB$3,\"Banc 124VRAIFAUX\",BDD!$V$2:$V$3)","v":0},{"$f":"SUMIF(BDD!$BB$2:$BB$3,\"Banc 124FAUXVRAI\",BDD!$V$2:$V$3)","v":0},{"$f":"SUMIF(BDD!$BB$2:$BB$3,\"Banc 124VRAIFAUX\",BDD!$V$2:$V$3)","v":0},{"$f":"SUMIF(BDD!$BB$2:$BB$3,\"Banc 124FAUXVRAI\",BDD!$V$2:$V$3)","v":0},{"$f":"SUMIF(BDD!$BB$2:$BB$3,\"Banc 124VRAIFAUX\",BDD!$V$2:$V$3)","v":0},{"$f":"SUMIF(BDD!$BB$2:$BB$3,\"Banc 124FAUXVRAI\",BDD!$V$2:$V$3)","v":0},{"$f":"SUMIF(BDD!$BB$2:$BB$3,\"Banc 124VRAIFAUX\",BDD!$V$2:$V$3)","v":0},{"$f":"SUMIF(BDD!$BB$2:$BB$3,\"Banc 124FAUXVRAI\",BDD!$V$2:$V$3)","v":0},{"$f":"SUMIF(BDD!$BB$2:$BB$3,\"Banc 124VRAIFAUX\",BDD!$V$2:$V$3)","v":0},{"$f":"SUMIF(BDD!$BB$2:$BB$3,\"Banc 124FAUXVRAI\",BDD!$V$2:$V$3)","v":0}]
["Banc 124 bis",{"$f":"SUMIF(BDD!$BB$2:$BB$3,\"Banc 124 bisVRAIFAUX\",BDD!$V$2:$V$3)","v":0},{"$f":"SUMIF(BDD!$BB$2:$BB$3,\"Banc 124 bisFAUXVRAI\",BDD!$V$2:$V$3)","v":0},{"$f":"SUMIF(BDD!$BB$2:$BB$3,\"Banc 124 bisVRAIFAUX\",BDD!$V$2:$V$3)","v":0},{"$f":"SUMIF(BDD!$BB$2:$BB$3,\"Banc 124 bisFAUXVRAI\",BDD!$V$2:$V$3)","v":0},{"$f":"SUMIF(BDD!$BB$2:$BB$683,\"Banc 124 bisVRAIFAUX\",BDD!$V$2:$V$683)","v":0},{"$f":"SUMIF(BDD!$BB$2:$BB$683,\"Banc 124 bisFAUXVRAI\",BDD!$V$2:$V$683)","v":0},{"$f":"SUMIF(BDD!$BB$2:$BB$3,\"Banc 124 bisVRAIFAUX\",BDD!$V$2:$V$3)","v":0},{"$f":"SUMIF(BDD!$BB$2:$BB$3,\"Banc 124 bisFAUXVRAI\",BDD!$V$2:$V$3)","v":0},{"$f":"SUMIF(BDD!$BB$2:$BB$3,\"Banc 124 bisVRAIFAUX\",BDD!$V$2:$V$3)","v":0},{"$f":"SUMIF(BDD!$BB$2:$BB$3,\"Banc 124 bisFAUXVRAI\",BDD!$V$2:$V$3)","v":0},{"$f":"SUMIF(BDD!$BB$2:$BB$3,\"Banc 124 bisVRAIFAUX\",BDD!$V$2:$V$3)","v":0},{"$f":"SUMIF(BDD!$BB$2:$BB$3,\"Banc 124 bisFAUXVRAI\",BDD!$V$2:$V$3)","v":0},{"$f":"SUMIF(BDD!$BB$2:$BB$3,\"Banc 124 bisVRAIFAUX\",BDD!$V$2:$V$3)","v":0},{"$f":"SUMIF(BDD!$BB$2:$BB$3,\"Banc 124 bisFAUXVRAI\",BDD!$V$2:$V$3)","v":0},{"$f":"SUMIF(BDD!$BB$2:$BB$3,\"Banc 124 bisVRAIFAUX\",BDD!$V$2:$V$3)","v":0},{"$f":"SUMIF(BDD!$BB$2:$BB$3,\"Banc 124 bisFAUXVRAI\",BDD!$V$2:$V$3)","v":0},{"$f":"SUMIF(BDD!$BB$2:$BB$3,\"Banc 124 bisVRAIFAUX\",BDD!$V$2:$V$3)","v":0},{"$f":"SUMIF(BDD!$BB$2:$BB$3,\"Banc 124 bisFAUXVRAI\",BDD!$V$2:$V$3)","v":0},{"$f":"SUMIF(BDD!$BB$2:$BB$3,\"Banc 124 bisVRAIFAUX\",BDD!$V$2:$V$3)","v":0},{"$f":"SUMIF(BDD!$BB$2:$BB$3,\"Banc 124 bisFAUXVRAI\",BDD!$V$2:$V$3)","v":0},{"$f":"SUMIF(BDD!$BB$2:$BB$3,\"Banc 124 bisVRAIFAUX\",BDD!$V$2:$V$3)","v":0},{"$f":"SUMIF(BDD!$BB$2:$BB$3,\"Banc 124 bisFAUXVRAI\",BDD!$V$2:$V$3)","v":0},{"$f":"SUMIF(BDD!$BB$2:$BB$3,\"Banc 124 bisVRAIFAUX\",BDD!$V$2:$V$3)","v":0},{"$f":"SUMIF(BDD!$BB$2:$BB$3,\"Banc 124 bisFAUXVRAI\",BDD!$V$2:$V$3)","v":0}]
["Banc 145",{"$f":"SUMIF(BDD!$BB$2:$BB$683,\"Banc 145VRAIFAUX\",BDD!$V$2:$V$683)","v":0},{"$f":"SUMIF(BDD!$BB$2:$BB$3,\"Banc 145FAUXVRAI\",BDD!$V$2:$V$3)","v":0},{"$f":"SUMIF(BDD!$BB$2:$BB$683,\"Banc 145VRAIFAUX\",BDD!$V$2:$V$683)","v":0},{"$f":"SUMIF(BDD!$BB$2:$BB$3,\"Banc 145FAUXVRAI\",BDD!$V$2:$V$3)","v":0},{"$f":"SUMIF(BDD!$BB$2:$BB$683,\"Banc 145VRAIFAUX\",BDD!$V$2:$V$683)","v":0},{"$f":"SUMIF(BDD!$BB$2:$BB$683,\"Banc 145FAUXVRAI\",BDD!$V$2:$V$683)","v":0},{"$f":"SUMIF(BDD!$BB$2:$BB$683,\"Banc 145VRAIFAUX\",BDD!$V$2:$V$683)","v":0},{"$f":"SUMIF(BDD!$BB$2:$BB$3,\"Banc 145FAUXVRAI\",BDD!$V$2:$V$3)","v":0},{"$f":"SUMIF(BDD!$BB$2:$BB$683,\"Banc 145VRAIFAUX\",BDD!$V$2:$V$683)","v":0},{"$f":"SUMIF(BDD!$BB$2:$BB$3,\"Banc 145FAUXVRAI\",BDD!$V$2:$V$3)","v":0},{"$f":"SUMIF(BDD!$BB$2:$BB$683,\"Banc 145VRAIFAUX\",BDD!$V$2:$V$683)","v":0},{"$f":"SUMIF(BDD!$BB$2:$BB$3,\"Banc 145FAUXVRAI\",BDD!$V$2:$V$3)","v":0},{"$f":"SUMIF(BDD!$BB$2:$BB$683,\"Banc 145VRAIFAUX\",BDD!$V$2:$V$683)","v":0},{"$f":"SUMIF(BDD!$BB$2:$BB$3,\"Banc 145FAUXVRAI\",BDD!$V$2:$V$3)","v":0},{"$f":"SUMIF(BDD!$BB$2:$BB$683,\"Banc 145VRAIFAUX\",BDD!$V$2:$V$683)","v":0},{"$f":"SUMIF(BDD!$BB$2:$BB$3,\"Banc 145FAUXVRAI\",BDD!$V$2:$V$3)","v":0},{"$f":"SUMIF(BDD!$BB$2:$BB$683,\"Banc 145VRAIFAUX\",BDD!$V$2:$V$683)","v":0},{"$f":"SUMIF(BDD!$BB$2:$BB$3,\"Banc 145FAUXVRAI\",BDD!$V$2:$V$3)","v":0},{"$f":"SUMIF(BDD!$BB$2:$BB$683,\"Banc 145VRAIFAUX\",BDD!$V$2:$V$683)","v":0},{"$f":"SUMIF(BDD!$BB$2:$BB$3,\"Banc 145FAUXVRAI\",BDD!$V$2:$V$3)","v":0},{"$f":"SUMIF(BDD!$BB$2:$BB$683,\"Banc 145VRAIFAUX\",BDD!$V$2:$V$683)","v":0},{"$f":"SUMIF(BDD!$BB$2:$BB$3,\"Banc 145FAUXVRAI\",BDD!$V$2:$V$3)","v":0},{"$f":"SUMIF(BDD!$BB$2:$BB$683,\"Banc 145VRAIFAUX\",BDD!$V$2:$V$683)","v":0},{"$f":"SUMIF(BDD!$BB$2:$BB$3,\"Banc 145FAUXVRAI\",BDD!$V$2:$V$3)","v":0}]
["Banc cisaillement",{"$f":"SUMIF(BDD!$BB$2:$BB$3,\"Banc cisaillementVRAIFAUX\",BDD!$V$2:$V$3)","v":0},{"$f":"SUMIF(BDD!$BB$2:$BB$3,\"Banc cisaillementFAUXVRAI\",BDD!$V$2:$V$3)","v":0},{"$f":"SUMIF(BDD!$BB$2:$BB$3,\"Banc cisaillementVRAIFAUX\",BDD!$V$2:$V$3)","v":0},{"$f":"SUMIF(BDD!$BB$2:$BB$3,\"Banc cisaillementFAUXVRAI\",BDD!$V$2:$V$3)","v":0},{"$f":"SUMIF(BDD!$BB$2:$BB$683,\"Banc cisaillementVRAIFAUX\",BDD!$V$2:$V$683)","v":0},{"$f":"SUMIF(BDD!$BB$2:$BB$683,\"Banc cisaillementFAUXVRAI\",BDD!$V$2:$V$683)","v":0},{"$f":"SUMIF(BDD!$BB$2:$BB$3,\"Banc cisaillementVRAIFAUX\",BDD!$V$2:$V$3)","v":0},{"$f":"SUMIF(BDD!$BB$2:$BB$3,\"Banc cisaillementFAUXVRAI\",BDD!$V$2:$V$3)","v":0},{"$f":"SUMIF(BDD!$BB$2:$BB$3,\"Banc cisaillementVRAIFAUX\",BDD!$V$2:$V$3)","v":0},{"$f":"SUMIF(BDD!$BB$2:$BB$3,\"Banc cisaillementFAUXVRAI\",BDD!$V$2:$V$3)","v":0},{"$f":"SUMIF(BDD!$BB$2:$BB$3,\"Banc cisaillementVRAIFAUX\",BDD!$V$2:$V$3)","v":0},{"$f":"SUMIF(BDD!$BB$2:$BB$3,\"Banc cisaillementFAUXVRAI\",BDD!$V$2:$V$3)","v":0},{"$f":"SUMIF(BDD!$BB$2:$BB$3,\"Banc cisaillementVRAIFAUX\",BDD!$V$2:$V$3)","v":0},{"$f":"SUMIF(BDD!$BB$2:$BB$3,\"Banc cisaillementFAUXVRAI\",BDD!$V$2:$V$3)","v":0},{"$f":"SUMIF(BDD!$BB$2:$BB$3,\"Banc cisaillementVRAIFAUX\",BDD!$V$2:$V$3)","v":0},{"$f":"SUMIF(BDD!$BB$2:$BB$3,\"Banc cisaillementFAUXVRAI\",BDD!$V$2:$V$3)","v":0},{"$f":"SUMIF(BDD!$BB$2:$BB$3,\"Banc cisaillementVRAIFAUX\",BDD!$V$2:$V$3)","v":0},{"$f":"SUMIF(BDD!$BB$2:$BB$3,\"Banc cisaillementFAUXVRAI\",BDD!$V$2:$V$3)","v":0},{"$f":"SUMIF(BDD!$BB$2:$BB$3,\"Banc cisaillementVRAIFAUX\",BDD!$V$2:$V$3)","v":0},{"$f":"SUMIF(BDD!$BB$2:$BB$3,\"Banc cisaillementFAUXVRAI\",BDD!$V$2:$V$3)","v":0},{"$f":"SUMIF(BDD!$BB$2:$BB$3,\"Banc cisaillementVRAIFAUX\",BDD!$V$2:$V$3)","v":0},{"$f":"SUMIF(BDD!$BB$2:$BB$3,\"Banc cisaillementFAUXVRAI\",BDD!$V$2:$V$3)","v":0},{"$f":"SUMIF(BDD!$BB$2:$BB$3,\"Banc cisaillementVRAIFAUX\",BDD!$V$2:$V$3)","v":0},{"$f":"SUMIF(BDD!$BB$2:$BB$3,\"Banc cisaillementFAUXVRAI\",BDD!$V$2:$V$3)","v":0}]
["Banc HP",{"$f":"SUMIF(BDD!$BB$2:$BB$3,\"Banc HPVRAIFAUX\",BDD!$V$2:$V$3)","v":0},{"$f":"SUMIF(BDD!$BB$2:$BB$3,\"Banc HPFAUXVRAI\",BDD!$V$2:$V$3)","v":0},{"$f":"SUMIF(BDD!$BB$2:$BB$3,\"Banc HPVRAIFAUX\",BDD!$V$2:$V$3)","v":0},{"$f":"SUMIF(BDD!$BB$2:$BB$3,\"Banc HPFAUXVRAI\",BDD!$V$2:$V$3)","v":0},{"$f":"SUMIF(BDD!$BB$2:$BB$683,\"Banc HPVRAIFAUX\",BDD!$V$2:$V$683)","v":0},{"$f":"SUMIF(BDD!$BB$2:$BB$683,\"Banc HPFAUXVRAI\",BDD!$V$2:$V$683)","v":0},{"$f":"SUMIF(BDD!$BB$2:$BB$3,\"Banc HPVRAIFAUX\",BDD!$V$2:$V$3)","v":0},{"$f":"SUMIF(BDD!$BB$2:$BB$3,\"Banc HPFAUXVRAI\",BDD!$V$2:$V$3)","v":0},{"$f":"SUMIF(BDD!$BB$2:$BB$3,\"Banc HPVRAIFAUX\",BDD!$V$2:$V$3)","v":0},{"$f":"SUMIF(BDD!$BB$2:$BB$3,\"Banc HPFAUXVRAI\",BDD!$V$2:$V$3)","v":0},{"$f":"SUMIF(BDD!$BB$2:$BB$3,\"Banc HPVRAIFAUX\",BDD!$V$2:$V$3)","v":0},{"$f":"SUMIF(BDD!$BB$2:$BB$3,\"Banc HPFAUXVRAI\",BDD!$V$2:$V$3)","v":0},{"$f":"SUMIF(BDD!$BB$2:$BB$3,\"Banc HPVRAIFAUX\",BDD!$V$2:$V$3)","v":0},{"$f":"SUMIF(BDD!$BB$2:$BB$3,\"Banc HPFAUXVRAI\",BDD!$V$2:$V$3)","v":0},{"$f":"SUMIF(BDD!$BB$2:$BB$3,\"Banc HPVRAIFAUX\",BDD!$V$2:$V$3)","v":0},{"$f":"SUMIF(BDD!$BB$2:$BB$3,\"Banc HPFAUXVRAI\",BDD!$V$2:$V$3)","v":0},{"$f":"SUMIF(BDD!$BB$2:$BB$3,\"Banc HPVRAIFAUX\",BDD!$V$2:$V$3)","v":0},{"$f":"SUMIF(BDD!$BB$2:$BB$3,\"Banc HPFAUXVRAI\",BDD!$V$2:$V$3)","v":0},{"$f":"SUMIF(BDD!$BB$2:$BB$3,\"Banc HPVRAIFAUX\",BDD!$V$2:$V$3)","v":0},{"$f":"SUMIF(BDD!$BB$2:$BB$3,\"Banc HPFAUXVRAI\",BDD!$V$2:$V$3)","v":0},{"$f":"SUMIF(BDD!$BB$2:$BB$3,\"Banc HPVRAIFAUX\",BDD!$V$2:$V$3)","v":0},{"$f":"SUMIF(BDD!$BB$2:$BB$3,\"Banc HPFAUXVRAI\",BDD!$V$2:$V$3)","v":0},{"$f":"SUMIF(BDD!$BB$2:$BB$3,\"Banc HPVRAIFAUX\",BDD!$V$2:$V$3)","v":0},{"$f":"SUMIF(BDD!$BB$2:$BB$3,\"Banc HPFAUXVRAI\",BDD!$V$2:$V$3)","v":0}]
["Banc W+B",{"$f":"SUMIF(BDD!$BB$2:$BB$3,\"Banc W+BVRAIFAUX\",BDD!$V$2:$V$3)","v":0},{"$f":"SUMIF(BDD!$BB$2:$BB$3,\"Banc W+BFAUXVRAI\",BDD!$V$2:$V$3)","v":0},{"$f":"SUMIF(BDD!$BB$2:$BB$3,\"Banc W+BVRAIFAUX\",BDD!$V$2:$V$3)","v":0},{"$f":"SUMIF(BDD!$BB$2:$BB$3,\"Banc W+BFAUXVRAI\",BDD!$V$2:$V$3)","v":0},{"$f":"SUMIF(BDD!$BB$2:$BB$683,\"Banc W+BVRAIFAUX\",BDD!$V$2:$V$683)","v":0},{"$f":"SUMIF(BDD!$BB$2:$BB$683,\"Banc W+BFAUXVRAI\",BDD!$V$2:$V$683)","v":0},{"$f":"SUMIF(BDD!$BB$2:$BB$3,\"Banc W+BVRAIFAUX\",BDD!$V$2:$V$3)","v":0},{"$f":"SUMIF(BDD!$BB$2:$BB$3,\"Banc W+BFAUXVRAI\",BDD!$V$2:$V$3)","v":0},{"$f":"SUMIF(BDD!$BB$2:$BB$3,\"Banc W+BVRAIFAUX\",BDD!$V$2:$V$3)","v":0},{"$f":"SUMIF(BDD!$BB$2:$BB$3,\"Banc W+BFAUXVRAI\",BDD!$V$2:$V$3)","v":0},{"$f":"SUMIF(BDD!$BB$2:$BB$3,\"Banc W+BVRAIFAUX\",BDD!$V$2:$V$3)","v":0},{"$f":"SUMIF(BDD!$BB$2:$BB$3,\"Banc W+BFAUXVRAI\",BDD!$V$2:$V$3)","v":0},{"$f":"SUMIF(BDD!$BB$2:$BB$3,\"Banc W+BVRAIFAUX\",BDD!$V$2:$V$3)","v":0},{"$f":"SUMIF(BDD!$BB$2:$BB$3,\"Banc W+BFAUXVRAI\",BDD!$V$2:$V$3)","v":0},{"$f":"SUMIF(BDD!$BB$2:$BB$3,\"Banc W+BVRAIFAUX\",BDD!$V$2:$V$3)","v":0},{"$f":"SUMIF(BDD!$BB$2:$BB$3,\"Banc W+BFAUXVRAI\",BDD!$V$2:$V$3)","v":0},{"$f":"SUMIF(BDD!$BB$2:$BB$3,\"Banc W+BVRAIFAUX\",BDD!$V$2:$V$3)","v":0},{"$f":"SUMIF(BDD!$BB$2:$BB$3,\"Banc W+BFAUXVRAI\",BDD!$V$2:$V$3)","v":0},{"$f":"SUMIF(BDD!$BB$2:$BB$3,\"Banc W+BVRAIFAUX\",BDD!$V$2:$V$3)","v":0},{"$f":"SUMIF(BDD!$BB$2:$BB$3,\"Banc W+BFAUXVRAI\",BDD!$V$2:$V$3)","v":0},{"$f":"SUMIF(BDD!$BB$2:$BB$3,\"Banc W+BVRAIFAUX\",BDD!$V$2:$V$3)","v":0},{"$f":"SUMIF(BDD!$BB$2:$BB$3,\"Banc W+BFAUXVRAI\",BDD!$V$2:$V$3)","v":0},{"$f":"SUMIF(BDD!$BB$2:$BB$3,\"Banc W+BVRAIFAUX\",BDD!$V$2:$V$3)","v":0},{"$f":"SUMIF(BDD!$BB$2:$BB$3,\"Banc W+BFAUXVRAI\",BDD!$V$2:$V$3)","v":0}]
["Ressort verticale",{"$f":"SUMIF(BDD!$BB$2:$BB$3,\"Ressort verticaleVRAIFAUX\",BDD!$V$2:$V$3)","v":0},{"$f":"SUMIF(BDD!$BB$2:$BB$3,\"Ressort verticaleFAUXVRAI\",BDD!$V$2:$V$3)","v":0},{"$f":"SUMIF(BDD!$BB$2:$BB$3,\"Ressort verticaleVRAIFAUX\",BDD!$V$2:$V$3)","v":0},{"$f":"SUMIF(BDD!$BB$2:$BB$3,\"Ressort verticaleFAUXVRAI\",BDD!$V$2:$V$3)","v":0},{"$f":"SUMIF(BDD!$BB$2:$BB$683,\"Ressort verticaleVRAIFAUX\",BDD!$V$2:$V$683)","v":0},{"$f":"SUMIF(BDD!$BB$2:$BB$683,\"Ressort verticaleFAUXVRAI\",BDD!$V$2:$V$683)","v":0},{"$f":"SUMIF(BDD!$BB$2:$BB$3,\"Ressort verticaleVRAIFAUX\",BDD!$V$2:$V$3)","v":0},{"$f":"SUMIF(BDD!$BB$2:$BB$3,\"Ressort verticaleFAUXVRAI\",BDD!$V$2:$V$3)","v":0},{"$f":"SUMIF(BDD!$BB$2:$BB$3,\"Ressort verticaleVRAIFAUX\",BDD!$V$2:$V$3)","v":0},{"$f":"SUMIF(BDD!$BB$2:$BB$3,\"Ressort verticaleFAUXVRAI\",BDD!$V$2:$V$3)","v":0},{"$f":"SUMIF(BDD!$BB$2:$BB$3,\"Ressort verticaleVRAIFAUX\",BDD!$V$2:$V$3)","v":0},{"$f":"SUMIF(BDD!$BB$2:$BB$3,\"Ressort verticaleFAUXVRAI\",BDD!$V$2:$V$3)","v":0},{"$f":"SUMIF(BDD!$BB$2:$BB$3,\"Ressort verticaleVRAIFAUX\",BDD!$V$2:$V$3)","v":0},{"$f":"SUMIF(BDD!$BB$2:$BB$3,\"Ressort verticaleFAUXVRAI\",BDD!$V$2:$V$3)","v":0},{"$f":"SUMIF(BDD!$BB$2:$BB$3,\"Ressort verticaleVRAIFAUX\",BDD!$V$2:$V$3)","v":0},{"$f":"SUMIF(BDD!$BB$2:$BB$3,\"Ressort verticaleFAUXVRAI\",BDD!$V$2:$V$3)","v":0},{"$f":"SUMIF(BDD!$BB$2:$BB$3,\"Ressort verticaleVRAIFAUX\",BDD!$V$2:$V$3)","v":0},{"$f":"SUMIF(BDD!$BB$2:$BB$3,\"Ressort verticaleFAUXVRAI\",BDD!$V$2:$V$3)","v":0},{"$f":"SUMIF(BDD!$BB$2:$BB$3,\"Ressort verticaleVRAIFAUX\",BDD!$V$2:$V$3)","v":0},{"$f":"SUMIF(BDD!$BB$2:$BB$3,\"Ressort verticaleFAUXVRAI\",BDD!$V$2:$V$3)","v":0},{"$f":"SUMIF(BDD!$BB$2:$BB$3,\"Ressort verticaleVRAIFAUX\",BDD!$V$2:$V$3)","v":0},{"$f":"SUMIF(BDD!$BB$2:$BB$3,\"Ressort verticaleFAUXVRAI\",BDD!$V$2:$V$3)","v":0},{"$f":"SUMIF(BDD!$BB$2:$BB$3,\"Ressort verticaleVRAIFAUX\",BDD!$V$2:$V$3)","v":0},{"$f":"SUMIF(BDD!$BB$2:$BB$3,\"Ressort verticaleFAUXVRAI\",BDD!$V$2:$V$3)","v":0}]
[]
[]
[]
[]
[]
[]
[]
[]
[]
[]
[]
[]
[]
[]
[]
[]
[]
[]
[]
[]
[]
[]
[null,"Suivi du correctif et du préventif par banc"]
[null,"Janvier",null,null,null,null,null,"Février",null,null,null,null,null,"Mars",null,null,null,null,null,"Avril",null,null,null,null,null,"Mai",null,null,null,null,null,"Juin",null,null,null,null,null,"Juillet",null,null,null,null,null,"Août",null,null,null,null,null,"Septembre",null,null,null,null,null,"Octobre",null,null,null,null,null,"Novembre",null,null,null,null,null,"Décembre"]
[null,"Corrective",null,null,"Préventive",null,null,"Corrective",null,null,"Préventive",null,null,"Corrective",null,null,"Préventive",null,null,"Corrective",null,null,"Préventive",null,null,"Corrective",null,null,"Préventive",null,null,"Corrective",null,null,"Préventive",null,null,"Corrective",null,null,"Préventive",null,null,"Corrective",null,null,"Préventive",null,null,"Corrective",null,null,"Préventive",null,null,"Corrective",null,null,"Préventive",null,null,"Corrective",null,null,"Préventive",null,null,"Corrective",null,null,"Préventive"]
["Banc zone 5","Electrique","Mécanique","Hydraulique","Electrique","Mécanique","Hydraulique","Electrique","Mécanique","Hydraulique","Electrique","Mécanique","Hydraulique","Electrique","Mécanique","Hydraulique","Electrique","Mécanique","Hydraulique","Electrique","Mécanique","Hydraulique","Electrique","Mécanique","Hydraulique","Electrique","Mécanique","Hydraulique","Electrique","Mécanique","Hydraulique","Electrique","Mécanique","Hydraulique","Electrique","Mécanique","Hydraulique","Electrique","Mécanique","Hydraulique","Electrique","Mécanique","Hydraulique","Electrique","Mécanique","Hydraulique","Electrique","Mécanique","Hydraulique","Electrique","Mécanique","Hydraulique","Electrique","Mécanique","Hydraulique","Electrique","Mécanique","Hydraulique","Electrique","Mécanique","Hydraulique","Electrique","Mécanique","Hydraulique","Electrique","Mécanique","Hydraulique","Electrique","Mécanique","Hydraulique","Electrique","Mécanique","Hydraulique"]
["Banc 124",{"$f":"SUMIF(BDD!$BC$2:$BC$3,\"Banc 124VRAIFAUXVRAIFAUXFAUX\",BDD!$V$2:$V$3)","v":0},{"$f":"SUMIF(BDD!$BC$2:$BC$3,\"Banc 124VRAIFAUXFAUXVRAIFAUX\",BDD!$V$2:$V$3)","v":0},{"$f":"SUMIF(BDD!$BC$2:$BC$3,\"Banc 124VRAIFAUXFAUXFAUXVRAI\",BDD!$V$2:$V$3)","v":0},{"$f":"SUMIF(BDD!$BC$2:$BC$3,\"Banc 124FAUXVRAIVRAIFAUXFAUX\",BDD!$V$2:$V$3)","v":0},{"$f":"SUMIF(BDD!$BC$2:$BC$3,\"Banc 124FAUXVRAIFAUXVRAIFAUX\",BDD!$V$2:$V$3)","v":0},{"$f":"SUMIF(BDD!$BC$2:$BC$3,\"Banc 124FAUXVRAIFAUXFAUXVRAI\",BDD!$V$2:$V$3)","v":0},{"$f":"SUMIF(BDD!$BC$2:$BC$3,\"Banc 124VRAIFAUXVRAIFAUXFAUX\",BDD!$V$2:$V$3)","v":0},{"$f":"SUMIF(BDD!$BC$2:$BC$3,\"Banc 124VRAIFAUXFAUXVRAIFAUX\",BDD!$V$2:$V$3)","v":0},{"$f":"SUMIF(BDD!$BC$2:$BC$3,\"Banc 124VRAIFAUXFAUXFAUXVRAI\",BDD!$V$2:$V$3)","v":0},{"$f":"SUMIF(BDD!$BC$2:$BC$3,\"Banc 124FAUXVRAIVRAIFAUXFAUX\",BDD!$V$2:$V$3)","v":0},{"$f":"SUMIF(BDD!$BC$2:$BC$3,\"Banc 124FAUXVRAIFAUXVRAIFAUX\",BDD!$V$2:$V$3)","v":0},{"$f":"SUMIF(BDD!$BC$2:$BC$3,\"Banc 124FAUXVRAIFAUXFAUXVRAI\",BDD!$V$2:$V$3)","v":0},{"$f":"SUMIF(BDD!$BC$2:$BC$683,\"Banc 124VRAIFAUXVRAIFAUXFAUX\",BDD!$V$2:$V$683)","v":0},{"$f":"SUMIF(BDD!$BC$2:$BC$683,\"Banc 124VRAIFAUXFAUXVRAIFAUX\",BDD!$V$2:$V$683)","v":0},{"$f":"SUMIF(BDD!$BC$2:$BC$683,\"Banc 124VRAIFAUXFAUXFAUXVRAI\",BDD!$V$2:$V$683)","v":0},{"$f":"SUMIF(BDD!$BC$2:$BC$683,\"Banc 124FAUXVRAIVRAIFAUXFAUX\",BDD!$V$2:$V$683)","v":0},{"$f":"SUMIF(BDD!$BC$2:$BC$683,\"Banc 124FAUXVRAIFAUXVRAIFAUX\",BDD!$V$2:$V$683)","v":0},{"$f":"SUMIF(BDD!$BC$2:$BC$683,\"Banc 124FAUXVRAIFAUXFAUXVRAI\",BDD!$V$2:$V$683)","v":0.3},{"$f":"SUMIF(BDD!$BC$2:$BC$3,\"Banc 124VRAIFAUXVRAIFAUXFAUX\",BDD!$V$2:$V$3)","v":0},{"$f":"SUMIF(BDD!$BC$2:$BC$3,\"Banc 124VRAIFAUXFAUXVRAIFAUX\",BDD!$V$2:$V$3)","v":0},{"$f":"SUMIF(BDD!$BC$2:$BC$3,\"Banc 124VRAIFAUXFAUXFAUXVRAI\",BDD!$V$2:$V$3)","v":0},{"$f":"SUMIF(BDD!$BC$2:$BC$3,\"Banc 124FAUXVRAIVRAIFAUXFAUX\",BDD!$V$2:$V$3)","v":0},{"$f":"SUMIF(BDD!$BC$2:$BC$3,\"Banc 124FAUXVRAIFAUXVRAIFAUX\",BDD!$V$2:$V$3)","v":0},{"$f":"SUMIF(BDD!$BC$2:$BC$3,\"Banc 124FAUXVRAIFAUXFAUXVRAI\",BDD!$V$2:$V$3)","v":0},{"$f":"SUMIF(BDD!$BC$2:$BC$3,\"Banc 124VRAIFAUXVRAIFAUXFAUX\",BDD!$V$2:$V$3)","v":0},{"$f":"SUMIF(BDD!$BC$2:$BC$3,\"Banc 124VRAIFAUXFAUXVRAIFAUX\",BDD!$V$2:$V$3)","v":0},{"$f":"SUMIF(BDD!$BC$2:$BC$3,\"Banc 124VRAIFAUXFAUXFAUXVRAI\",BDD!$V$2:$V$3)","v":0},{"$f":"SUMIF(BDD!$BC$2:$BC$3,\"Banc 124FAUXVRAIVRAIFAUXFAUX\",BDD!$V$2:$V$3)","v":0},{"$f":"SUMIF(BDD!$BC$2:$BC$3,\"Banc 124FAUXVRAIFAUXVRAIFAUX\",BDD!$V$2:$V$3)","v":0},{"$f":"SUMIF(BDD!$BC$2:$BC$3,\"Banc 124FAUXVRAIFAUXFAUXVRAI\",BDD!$V$2:$V$3)","v":0},{"$f":"SUMIF(BDD!$BC$2:$BC$3,\"Banc 124VRAIFAUXVRAIFAUXFAUX\",BDD!$V$2:$V$3)","v":0},{"$f":"SUMIF(BDD!$BC$2:$BC$3,\"Banc 124VRAIFAUXFAUXVRAIFAUX\",BDD!$V$2:$V$3)","v":0},{"$f":"SUMIF(BDD!$BC$2:$BC$3,\"Banc 124VRAIFAUXFAUXFAUXVRAI\",BDD!$V$2:$V$3)","v":0},{"$f":"SUMIF(BDD!$BC$2:$BC$3,\"Banc 124FAUXVRAIVRAIFAUXFAUX\",BDD!$V$2:$V$3)","v":0},{"$f":"SUMIF(BDD!$BC$2:$BC$3,\"Banc 124FAUXVRAIFAUXVRAIFAUX\",BDD!$V$2:$V$3)","v":0},{"$f":"SUMIF(BDD!$BC$2:$BC$3,\"Banc 124FAUXVRAIFAUXFAUXVRAI\",BDD!$V$2:$V$3)","v":0},{"$f":"SUMIF(BDD!$BC$2:$BC$3,\"Banc 124VRAIFAUXVRAIFAUXFAUX\",BDD!$V$2:$V$3)","v":0},{"$f":"SUMIF(BDD!$BC$2:$BC$3,\"Banc 124VRAIFAUXFAUXVRAIFAUX\",BDD!$V$2:$V$3)","v":0},{"$f":"SUMIF(BDD!$BC$2:$BC$3,\"Banc 124VRAIFAUXFAUXFAUXVRAI\",BDD!$V$2:$V$3)","v":0},{"$f":"SUMIF(BDD!$BC$2:$BC$3,\"Banc 124FAUXVRAIVRAIFAUXFAUX\",BDD!$V$2:$V$3)","v":0},{"$f":"SUMIF(BDD!$BC$2:$BC$3,\"Banc 124FAUXVRAIFAUXVRAIFAUX\",BDD!$V$2:$V$3)","v":0},{"$f":"SUMIF(BDD!$BC$2:$BC$3,\"Banc 124FAUXVRAIFAUXFAUXVRAI\",BDD!$V$2:$V$3)","v":0},{"$f":"SUMIF(BDD!$BC$2:$BC$3,\"Banc 124VRAIFAUXVRAIFAUXFAUX\",BDD!$V$2:$V$3)","v":0},{"$f":"SUMIF(BDD!$BC$2:$BC$3,\"Banc 124VRAIFAUXFAUXVRAIFAUX\",BDD!$V$2:$V$3)","v":0},{"$f":"SUMIF(BDD!$BC$2:$BC$3,\"Banc 124VRAIFAUXFAUXFAUXVRAI\",BDD!$V$2:$V$3)","v":0},{"$f":"SUMIF(BDD!$BC$2:$BC$3,\"Banc 124FAUXVRAIVRAIFAUXFAUX\",BDD!$V$2:$V$3)","v":0},{"$f":"SUMIF(BDD!$BC$2:$BC$3,\"Banc 124FAUXVRAIFAUXVRAIFAUX\",BDD!$V$2:$V$3)","v":0},{"$f":"SUMIF(BDD!$BC$2:$BC$3,\"Banc 124FAUXVRAIFAUXFAUXVRAI\",BDD!$V$2:$V$3)","v":0},{"$f":"SUMIF(BDD!$BC$2:$BC$3,\"Banc 124VRAIFAUXVRAIFAUXFAUX\",BDD!$V$2:$V$3)","v":0},{"$f":"SUMIF(BDD!$BC$2:$BC$3,\"Banc 124VRAIFAUXFAUXVRAIFAUX\",BDD!$V$2:$V$3)","v":0},{"$f":"SUMIF(BDD!$BC$2:$BC$3,\"Banc 124VRAIFAUXFAUXFAUXVRAI\",BDD!$V$2:$V$3)","v":0},{"$f":"SUMIF(BDD!$BC$2:$BC$3,\"Banc 124FAUXVRAIVRAIFAUXFAUX\",BDD!$V$2:$V$3)","v":0},{"$f":"SUMIF(BDD!$BC$2:$BC$3,\"Banc 124FAUXVRAIFAUXVRAIFAUX\",BDD!$V$2:$V$3)","v":0},{"$f":"SUMIF(BDD!$BC$2:$BC$3,\"Banc 124FAUXVRAIFAUXFAUXVRAI\",BDD!$V$2:$V$3)","v":0},{"$f":"SUMIF(BDD!$BC$2:$BC$3,\"Banc 124VRAIFAUXVRAIFAUXFAUX\",BDD!$V$2:$V$3)","v":0},{"$f":"SUMIF(BDD!$BC$2:$BC$3,\"Banc 124VRAIFAUXFAUXVRAIFAUX\",BDD!$V$2:$V$3)","v":0},{"$f":"SUMIF(BDD!$BC$2:$BC$3,\"Banc 124VRAIFAUXFAUXFAUXVRAI\",BDD!$V$2:$V$3)","v":0},{"$f":"SUMIF(BDD!$BC$2:$BC$3,\"Banc 124FAUXVRAIVRAIFAUXFAUX\",BDD!$V$2:$V$3)","v":0},{"$f":"SUMIF(BDD!$BC$2:$BC$3,\"Banc 124FAUXVRAIFAUXVRAIFAUX\",BDD!$V$2:$V$3)","v":0},{"$f":"SUMIF(BDD!$BC$2:$BC$3,\"Banc 124FAUXVRAIFAUXFAUXVRAI\",BDD!$V$2:$V$3)","v":0},{"$f":"SUMIF(BDD!$BC$2:$BC$3,\"Banc 124VRAIFAUXVRAIFAUXFAUX\",BDD!$V$2:$V$3)","v":0},{"$f":"SUMIF(BDD!$BC$2:$BC$3,\"Banc 124VRAIFAUXFAUXVRAIFAUX\",BDD!$V$2:$V$3)","v":0},{"$f":"SUMIF(BDD!$BC$2:$BC$3,\"Banc 124VRAIFAUXFAUXFAUXVRAI\",BDD!$V$2:$V$3)","v":0},{"$f":"SUMIF(BDD!$BC$2:$BC$3,\"Banc 124FAUXVRAIVRAIFAUXFAUX\",BDD!$V$2:$V$3)","v":0},{"$f":"SUMIF(BDD!$BC$2:$BC$3,\"Banc 124FAUXVRAIFAUXVRAIFAUX\",BDD!$V$2:$V$3)","v":0},{"$f":"SUMIF(BDD!$BC$2:$BC$3,\"Banc 124FAUXVRAIFAUXFAUXVRAI\",BDD!$V$2:$V$3)","v":0},{"$f":"SUMIF(BDD!$BC$2:$BC$3,\"Banc 124VRAIFAUXVRAIFAUXFAUX\",BDD!$V$2:$V$3)","v":0},{"$f":"SUMIF(BDD!$BC$2:$BC$3,\"Banc 124VRAIFAUXFAUXVRAIFAUX\",BDD!$V$2:$V$3)","v":0},{"$f":"SUMIF(BDD!$BC$2:$BC$3,\"Banc 124VRAIFAUXFAUXFAUXVRAI\",BDD!$V$2:$V$3)","v":0},{"$f":"SUMIF(BDD!$BC$2:$BC$3,\"Banc 124FAUXVRAIVRAIFAUXFAUX\",BDD!$V$2:$V$3)","v":0},{"$f":"SUMIF(BDD!$BC$2:$BC$3,\"Banc 124FAUXVRAIFAUXVRAIFAUX\",BDD!$V$2:$V$3)","v":0},{"$f":"SUMIF(BDD!$BC$2:$BC$3,\"Banc 124FAUXVRAIFAUXFAUXVRAI\",BDD!$V$2:$V$3)","v":0}]
["Banc 124 bis",{"$f":"SUMIF(BDD!$BC$2:$BC$3,\"Banc 124 bisVRAIFAUXVRAIFAUXFAUX\",BDD!$V$2:$V$3)","v":0},{"$f":"SUMIF(BDD!$BC$2:$BC$3,\"Banc 124 bisVRAIFAUXFAUXVRAIFAUX\",BDD!$V$2:$V$3)","v":0},{"$f":"SUMIF(BDD!$BC$2:$BC$3,\"Banc 124 bisVRAIFAUXFAUXFAUXVRAI\",BDD!$V$2:$V$3)","v":0},{"$f":"SUMIF(BDD!$BC$2:$BC$3,\"Banc 124 bisFAUXVRAIVRAIFAUXFAUX\",BDD!$V$2:$V$3)","v":0},{"$f":"SUMIF(BDD!$BC$2:$BC$3,\"Banc 124 bisFAUXVRAIFAUXVRAIFAUX\",BDD!$V$2:$V$3)","v":0},{"$f":"SUMIF(BDD!$BC$2:$BC$3,\"Banc 124 bisFAUXVRAIFAUXFAUXVRAI\",BDD!$V$2:$V$3)","v":0},{"$f":"SUMIF(BDD!$BC$2:$BC$3,\"Banc 124 bisVRAIFAUXVRAIFAUXFAUX\",BDD!$V$2:$V$3)","v":0},{"$f":"SUMIF(BDD!$BC$2:$BC$3,\"Banc 124 bisVRAIFAUXFAUXVRAIFAUX\",BDD!$V$2:$V$3)","v":0},{"$f":"SUMIF(BDD!$BC$2:$BC$3,\"Banc 124 bisVRAIFAUXFAUXFAUXVRAI\",BDD!$V$2:$V$3)","v":0},{"$f":"SUMIF(BDD!$BC$2:$BC$3,\"Banc 124 bisFAUXVRAIVRAIFAUXFAUX\",BDD!$V$2:$V$3)","v":0},{"$f":"SUMIF(BDD!$BC$2:$BC$3,\"Banc 124 bisFAUXVRAIFAUXVRAIFAUX\",BDD!$V$2:$V$3)","v":0},{"$f":"SUMIF(BDD!$BC$2:$BC$3,\"Banc 124 bisFAUXVRAIFAUXFAUXVRAI\",BDD!$V$2:$V$3)","v":0},{"$f":"SUMIF(BDD!$BC$2:$BC$683,\"Banc 124 bisVRAIFAUXVRAIFAUXFAUX\",BDD!$V$2:$V$683)","v":0},{"$f":"SUMIF(BDD!$BC$2:$BC$683,\"Banc 124 bisVRAIFAUXFAUXVRAIFAUX\",BDD!$V$2:$V$683)","v":0},{"$f":"SUMIF(BDD!$BC$2:$BC$683,\"Banc 124 bisVRAIFAUXFAUXFAUXVRAI\",BDD!$V$2:$V$683)","v":0},{"$f":"SUMIF(BDD!$BC$2:$BC$683,\"Banc 124 bisFAUXVRAIVRAIFAUXFAUX\",BDD!$V$2:$V$683)","v":0},{"$f":"SUMIF(BDD!$BC$2:$BC$683,\"Banc 124 bisFAUXVRAIFAUXVRAIFAUX\",BDD!$V$2:$V$683)","v":0},{"$f":"SUMIF(BDD!$BC$2:$BC$683,\"Banc 124 bisFAUXVRAIFAUXFAUXVRAI\",BDD!$V$2:$V$683)","v":0},{"$f":"SUMIF(BDD!$BC$2:$BC$3,\"Banc 124 bisVRAIFAUXVRAIFAUXFAUX\",BDD!$V$2:$V$3)","v":0},{"$f":"SUMIF(BDD!$BC$2:$BC$3,\"Banc 124 bisVRAIFAUXFAUXVRAIFAUX\",BDD!$V$2:$V$3)","v":0},{"$f":"SUMIF(BDD!$BC$2:$BC$3,\"Banc 124 bisVRAIFAUXFAUXFAUXVRAI\",BDD!$V$2:$V$3)","v":0},{"$f":"SUMIF(BDD!$BC$2:$BC$3,\"Banc 124 bisFAUXVRAIVRAIFAUXFAUX\",BDD!$V$2:$V$3)","v":0},{"$f":"SUMIF(BDD!$BC$2:$BC$3,\"Banc 124 bisFAUXVRAIFAUXVRAIFAUX\",BDD!$V$2:$V$3)","v":0},{"$f":"SUMIF(BDD!$BC$2:$BC$3,\"Banc 124 bisFAUXVRAIFAUXFAUXVRAI\",BDD!$V$2:$V$3)","v":0},{"$f":"SUMIF(BDD!$BC$2:$BC$3,\"Banc 124 bisVRAIFAUXVRAIFAUXFAUX\",BDD!$V$2:$V$3)","v":0},{"$f":"SUMIF(BDD!$BC$2:$BC$3,\"Banc 124 bisVRAIFAUXFAUXVRAIFAUX\",BDD!$V$2:$V$3)","v":0},{"$f":"SUMIF(BDD!$BC$2:$BC$3,\"Banc 124 bisVRAIFAUXFAUXFAUXVRAI\",BDD!$V$2:$V$3)","v":0},{"$f":"SUMIF(BDD!$BC$2:$BC$3,\"Banc 124 bisFAUXVRAIVRAIFAUXFAUX\",BDD!$V$2:$V$3)","v":0},{"$f":"SUMIF(BDD!$BC$2:$BC$3,\"Banc 124 bisFAUXVRAIFAUXVRAIFAUX\",BDD!$V$2:$V$3)","v":0},{"$f":"SUMIF(BDD!$BC$2:$BC$3,\"Banc 124 bisFAUXVRAIFAUXFAUXVRAI\",BDD!$V$2:$V$3)","v":0},{"$f":"SUMIF(BDD!$BC$2:$BC$3,\"Banc 124 bisVRAIFAUXVRAIFAUXFAUX\",BDD!$V$2:$V$3)","v":0},{"$f":"SUMIF(BDD!$BC$2:$BC$3,\"Banc 124 bisVRAIFAUXFAUXVRAIFAUX\",BDD!$V$2:$V$3)","v":0},{"$f":"SUMIF(BDD!$BC$2:$BC$3,\"Banc 124 bisVRAIFAUXFAUXFAUXVRAI\",BDD!$V$2:$V$3)","v":0},{"$f":"SUMIF(BDD!$BC$2:$BC$3,\"Banc 124 bisFAUXVRAIVRAIFAUXFAUX\",BDD!$V$2:$V$3)","v":0},{"$f":"SUMIF(BDD!$BC$2:$BC$3,\"Banc 124 bisFAUXVRAIFAUXVRAIFAUX\",BDD!$V$2:$V$3)","v":0},{"$f":"SUMIF(BDD!$BC$2:$BC$3,\"Banc 124 bisFAUXVRAIFAUXFAUXVRAI\",BDD!$V$2:$V$3)","v":0},{"$f":"SUMIF(BDD!$BC$2:$BC$3,\"Banc 124 bisVRAIFAUXVRAIFAUXFAUX\",BDD!$V$2:$V$3)","v":0},{"$f":"SUMIF(BDD!$BC$2:$BC$3,\"Banc 124 bisVRAIFAUXFAUXVRAIFAUX\",BDD!$V$2:$V$3)","v":0},{"$f":"SUMIF(BDD!$BC$2:$BC$3,\"Banc 124 bisVRAIFAUXFAUXFAUXVRAI\",BDD!$V$2:$V$3)","v":0},{"$f":"SUMIF(BDD!$BC$2:$BC$3,\"Banc 124 bisFAUXVRAIVRAIFAUXFAUX\",BDD!$V$2:$V$3)","v":0},{"$f":"SUMIF(BDD!$BC$2:$BC$3,\"Banc 124 bisFAUXVRAIFAUXVRAIFAUX\",BDD!$V$2:$V$3)","v":0},{"$f":"SUMIF(BDD!$BC$2:$BC$3,\"Banc 124 bisFAUXVRAIFAUXFAUXVRAI\",BDD!$V$2:$V$3)","v":0},{"$f":"SUMIF(BDD!$BC$2:$BC$3,\"Banc 124 bisVRAIFAUXVRAIFAUXFAUX\",BDD!$V$2:$V$3)","v":0},{"$f":"SUMIF(BDD!$BC$2:$BC$3,\"Banc 124 bisVRAIFAUXFAUXVRAIFAUX\",BDD!$V$2:$V$3)","v":0},{"$f":"SUMIF(BDD!$BC$2:$BC$3,\"Banc 124 bisVRAIFAUXFAUXFAUXVRAI\",BDD!$V$2:$V$3)","v":0},{"$f":"SUMIF(BDD!$BC$2:$BC$3,\"Banc 124 bisFAUXVRAIVRAIFAUXFAUX\",BDD!$V$2:$V$3)","v":0},{"$f":"SUMIF(BDD!$BC$2:$BC$3,\"Banc 124 bisFAUXVRAIFAUXVRAIFAUX\",BDD!$V$2:$V$3)","v":0},{"$f":"SUMIF(BDD!$BC$2:$BC$3,\"Banc 124 bisFAUXVRAIFAUXFAUXVRAI\",BDD!$V$2:$V$3)","v":0},{"$f":"SUMIF(BDD!$BC$2:$BC$3,\"Banc 124 bisVRAIFAUXVRAIFAUXFAUX\",BDD!$V$2:$V$3)","v":0},{"$f":"SUMIF(BDD!$BC$2:$BC$3,\"Banc 124 bisVRAIFAUXFAUXVRAIFAUX\",BDD!$V$2:$V$3)","v":0},{"$f":"SUMIF(BDD!$BC$2:$BC$3,\"Banc 124 bisVRAIFAUXFAUXFAUXVRAI\",BDD!$V$2:$V$3)","v":0},{"$f":"SUMIF(BDD!$BC$2:$BC$3,\"Banc 124 bisFAUXVRAIVRAIFAUXFAUX\",BDD!$V$2:$V$3)","v":0},{"$f":"SUMIF(BDD!$BC$2:$BC$3,\"Banc 124 bisFAUXVRAIFAUXVRAIFAUX\",BDD!$V$2:$V$3)","v":0},{"$f":"SUMIF(BDD!$BC$2:$BC$3,\"Banc 124 bisFAUXVRAIFAUXFAUXVRAI\",BDD!$V$2:$V$3)","v":0},{"$f":"SUMIF(BDD!$BC$2:$BC$3,\"Banc 124 bisVRAIFAUXVRAIFAUXFAUX\",BDD!$V$2:$V$3)","v":0},{"$f":"SUMIF(BDD!$BC$2:$BC$3,\"Banc 124 bisVRAIFAUXFAUXVRAIFAUX\",BDD!$V$2:$V$3)","v":0},{"$f":"SUMIF(BDD!$BC$2:$BC$3,\"Banc 124 bisVRAIFAUXFAUXFAUXVRAI\",BDD!$V$2:$V$3)","v":0},{"$f":"SUMIF(BDD!$BC$2:$BC$3,\"Banc 124 bisFAUXVRAIVRAIFAUXFAUX\",BDD!$V$2:$V$3)","v":0},{"$f":"SUMIF(BDD!$BC$2:$BC$3,\"Banc 124 bisFAUXVRAIFAUXVRAIFAUX\",BDD!$V$2:$V$3)","v":0},{"$f":"SUMIF(BDD!$BC$2:$BC$3,\"Banc 124 bisFAUXVRAIFAUXFAUXVRAI\",BDD!$V$2:$V$3)","v":0},{"$f":"SUMIF(BDD!$BC$2:$BC$3,\"Banc 124 bisVRAIFAUXVRAIFAUXFAUX\",BDD!$V$2:$V$3)","v":0},{"$f":"SUMIF(BDD!$BC$2:$BC$3,\"Banc 124 bisVRAIFAUXFAUXVRAIFAUX\",BDD!$V$2:$V$3)","v":0},{"$f":"SUMIF(BDD!$BC$2:$BC$3,\"Banc 124 bisVRAIFAUXFAUXFAUXVRAI\",BDD!$V$2:$V$3)","v":0},{"$f":"SUMIF(BDD!$BC$2:$BC$3,\"Banc 124 bisFAUXVRAIVRAIFAUXFAUX\",BDD!$V$2:$V$3)","v":0},{"$f":"SUMIF(BDD!$BC$2:$BC$3,\"Banc 124 bisFAUXVRAIFAUXVRAIFAUX\",BDD!$V$2:$V$3)","v":0},{"$f":"SUMIF(BDD!$BC$2:$BC$3,\"Banc 124 bisFAUXVRAIFAUXFAUXVRAI\",BDD!$V$2:$V$3)","v":0},{"$f":"SUMIF(BDD!$BC$2:$BC$3,\"Banc 124 bisVRAIFAUXVRAIFAUXFAUX\",BDD!$V$2:$V$3)","v":0},{"$f":"SUMIF(BDD!$BC$2:$BC$3,\"Banc 124 bisVRAIFAUXFAUXVRAIFAUX\",BDD!$V$2:$V$3)","v":0},{"$f":"SUMIF(BDD!$BC$2:$BC$3,\"Banc 124 bisVRAIFAUXFAUXFAUXVRAI\",BDD!$V$2:$V$3)","v":0},{"$f":"SUMIF(BDD!$BC$2:$BC$3,\"Banc 124 bisFAUXVRAIVRAIFAUXFAUX\",BDD!$V$2:$V$3)","v":0},{"$f":"SUMIF(BDD!$BC$2:$BC$3,\"Banc 124 bisFAUXVRAIFAUXVRAIFAUX\",BDD!$V$2:$V$3)","v":0},{"$f":"SUMIF(BDD!$BC$2:$BC$3,\"Banc 124 bisFAUXVRAIFAUXFAUXVRAI\",BDD!$V$2:$V$3)","v":0}]
["Banc 145",{"$f":"SUMIF(BDD!$BC$2:$BC$3,\"Banc 145VRAIFAUXVRAIFAUXFAUX\",BDD!$V$2:$V$3)","v":0},{"$f":"SUMIF(BDD!$BC$2:$BC$3,\"Banc 145VRAIFAUXFAUXVRAIFAUX\",BDD!$V$2:$V$3)","v":0},{"$f":"SUMIF(BDD!$BC$2:$BC$3,\"Banc 145VRAIFAUXFAUXFAUXVRAI\",BDD!$V$2:$V$3)","v":0},{"$f":"SUMIF(BDD!$BC$2:$BC$3,\"Banc 145FAUXVRAIVRAIFAUXFAUX\",BDD!$V$2:$V$3)","v":0},{"$f":"SUMIF(BDD!$BC$2:$BC$3,\"Banc 145FAUXVRAIFAUXVRAIFAUX\",BDD!$V$2:$V$3)","v":0},{"$f":"SUMIF(BDD!$BC$2:$BC$3,\"Banc 145FAUXVRAIFAUXFAUXVRAI\",BDD!$V$2:$V$3)","v":0},{"$f":"SUMIF(BDD!$BC$2:$BC$3,\"Banc 145VRAIFAUXVRAIFAUXFAUX\",BDD!$V$2:$V$3)","v":0},{"$f":"SUMIF(BDD!$BC$2:$BC$3,\"Banc 145VRAIFAUXFAUXVRAIFAUX\",BDD!$V$2:$V$3)","v":0},{"$f":"SUMIF(BDD!$BC$2:$BC$3,\"Banc 145VRAIFAUXFAUXFAUXVRAI\",BDD!$V$2:$V$3)","v":0},{"$f":"SUMIF(BDD!$BC$2:$BC$3,\"Banc 145FAUXVRAIVRAIFAUXFAUX\",BDD!$V$2:$V$3)","v":0},{"$f":"SUMIF(BDD!$BC$2:$BC$3,\"Banc 145FAUXVRAIFAUXVRAIFAUX\",BDD!$V$2:$V$3)","v":0},{"$f":"SUMIF(BDD!$BC$2:$BC$3,\"Banc 145FAUXVRAIFAUXFAUXVRAI\",BDD!$V$2:$V$3)","v":0},{"$f":"SUMIF(BDD!$BC$2:$BC$683,\"Banc 145VRAIFAUXVRAIFAUXFAUX\",BDD!$V$2:$V$683)","v":0},{"$f":"SUMIF(BDD!$BC$2:$BC$683,\"Banc 145VRAIFAUXFAUXVRAIFAUX\",BDD!$V$2:$V$683)","v":0},{"$f":"SUMIF(BDD!$BC$2:$BC$683,\"Banc 145VRAIFAUXFAUXFAUXVRAI\",BDD!$V$2:$V$683)","v":0},{"$f":"SUMIF(BDD!$BC$2:$BC$683,\"Banc 145FAUXVRAIVRAIFAUXFAUX\",BDD!$V$2:$V$683)","v":0},{"$f":"SUMIF(BDD!$BC$2:$BC$683,\"Banc 145FAUXVRAIFAUXVRAIFAUX\",BDD!$V$2:$V$683)","v":0},{"$f":"SUMIF(BDD!$BC$2:$BC$683,\"Banc 145FAUXVRAIFAUXFAUXVRAI\",BDD!$V$2:$V$683)","v":0},{"$f":"SUMIF(BDD!$BC$2:$BC$3,\"Banc 145VRAIFAUXVRAIFAUXFAUX\",BDD!$V$2:$V$3)","v":0},{"$f":"SUMIF(BDD!$BC$2:$BC$3,\"Banc 145VRAIFAUXFAUXVRAIFAUX\",BDD!$V$2:$V$3)","v":0},{"$f":"SUMIF(BDD!$BC$2:$BC$3,\"Banc 145VRAIFAUXFAUXFAUXVRAI\",BDD!$V$2:$V$3)","v":0},{"$f":"SUMIF(BDD!$BC$2:$BC$3,\"Banc 145FAUXVRAIVRAIFAUXFAUX\",BDD!$V$2:$V$3)","v":0},{"$f":"SUMIF(BDD!$BC$2:$BC$3,\"Banc 145FAUXVRAIFAUXVRAIFAUX\",BDD!$V$2:$V$3)","v":0},{"$f":"SUMIF(BDD!$BC$2:$BC$3,\"Banc 145FAUXVRAIFAUXFAUXVRAI\",BDD!$V$2:$V$3)","v":0},{"$f":"SUMIF(BDD!$BC$2:$BC$3,\"Banc 145VRAIFAUXVRAIFAUXFAUX\",BDD!$V$2:$V$3)","v":0},{"$f":"SUMIF(BDD!$BC$2:$BC$3,\"Banc 145VRAIFAUXFAUXVRAIFAUX\",BDD!$V$2:$V$3)","v":0},{"$f":"SUMIF(BDD!$BC$2:$BC$3,\"Banc 145VRAIFAUXFAUXFAUXVRAI\",BDD!$V$2:$V$3)","v":0},{"$f":"SUMIF(BDD!$BC$2:$BC$3,\"Banc 145FAUXVRAIVRAIFAUXFAUX\",BDD!$V$2:$V$3)","v":0},{"$f":"SUMIF(BDD!$BC$2:$BC$3,\"Banc 145FAUXVRAIFAUXVRAIFAUX\",BDD!$V$2:$V$3)","v":0},{"$f":"SUMIF(BDD!$BC$2:$BC$3,\"Banc 145FAUXVRAIFAUXFAUXVRAI\",BDD!$V$2:$V$3)","v":0},{"$f":"SUMIF(BDD!$BC$2:$BC$3,\"Banc 145VRAIFAUXVRAIFAUXFAUX\",BDD!$V$2:$V$3)","v":0},{"$f":"SUMIF(BDD!$BC$2:$BC$3,\"Banc 145VRAIFAUXFAUXVRAIFAUX\",BDD!$V$2:$V$3)","v":0},{"$f":"SUMIF(BDD!$BC$2:$BC$3,\"Banc 145VRAIFAUXFAUXFAUXVRAI\",BDD!$V$2:$V$3)","v":0},{"$f":"SUMIF(BDD!$BC$2:$BC$3,\"Banc 145FAUXVRAIVRAIFAUXFAUX\",BDD!$V$2:$V$3)","v":0},{"$f":"SUMIF(BDD!$BC$2:$BC$3,\"Banc 145FAUXVRAIFAUXVRAIFAUX\",BDD!$V$2:$V$3)","v":0},{"$f":"SUMIF(BDD!$BC$2:$BC$3,\"Banc 145FAUXVRAIFAUXFAUXVRAI\",BDD!$V$2:$V$3)","v":0},{"$f":"SUMIF(BDD!$BC$2:$BC$3,\"Banc 145VRAIFAUXVRAIFAUXFAUX\",BDD!$V$2:$V$3)","v":0},{"$f":"SUMIF(BDD!$BC$2:$BC$3,\"Banc 145VRAIFAUXFAUXVRAIFAUX\",BDD!$V$2:$V$3)","v":0},{"$f":"SUMIF(BDD!$BC$2:$BC$3,\"Banc 145VRAIFAUXFAUXFAUXVRAI\",BDD!$V$2:$V$3)","v":0},{"$f":"SUMIF(BDD!$BC$2:$BC$3,\"Banc 145FAUXVRAIVRAIFAUXFAUX\",BDD!$V$2:$V$3)","v":0},{"$f":"SUMIF(BDD!$BC$2:$BC$3,\"Banc 145FAUXVRAIFAUXVRAIFAUX\",BDD!$V$2:$V$3)","v":0},{"$f":"SUMIF(BDD!$BC$2:$BC$3,\"Banc 145FAUXVRAIFAUXFAUXVRAI\",BDD!$V$2:$V$3)","v":0},{"$f":"SUMIF(BDD!$BC$2:$BC$3,\"Banc 145VRAIFAUXVRAIFAUXFAUX\",BDD!$V$2:$V$3)","v":0},{"$f":"SUMIF(BDD!$BC$2:$BC$3,\"Banc 145VRAIFAUXFAUXVRAIFAUX\",BDD!$V$2:$V$3)","v":0},{"$f":"SUMIF(BDD!$BC$2:$BC$3,\"Banc 145VRAIFAUXFAUXFAUXVRAI\",BDD!$V$2:$V$3)","v":0},{"$f":"SUMIF(BDD!$BC$2:$BC$3,\"Banc 145FAUXVRAIVRAIFAUXFAUX\",BDD!$V$2:$V$3)","v":0},{"$f":"SUMIF(BDD!$BC$2:$BC$3,\"Banc 145FAUXVRAIFAUXVRAIFAUX\",BDD!$V$2:$V$3)","v":0},{"$f":"SUMIF(BDD!$BC$2:$BC$3,\"Banc 145FAUXVRAIFAUXFAUXVRAI\",BDD!$V$2:$V$3)","v":0},{"$f":"SUMIF(BDD!$BC$2:$BC$3,\"Banc 145VRAIFAUXVRAIFAUXFAUX\",BDD!$V$2:$V$3)","v":0},{"$f":"SUMIF(BDD!$BC$2:$BC$3,\"Banc 145VRAIFAUXFAUXVRAIFAUX\",BDD!$V$2:$V$3)","v":0},{"$f":"SUMIF(BDD!$BC$2:$BC$3,\"Banc 145VRAIFAUXFAUXFAUXVRAI\",BDD!$V$2:$V$3)","v":0},{"$f":"SUMIF(BDD!$BC$2:$BC$3,\"Banc 145FAUXVRAIVRAIFAUXFAUX\",BDD!$V$2:$V$3)","v":0},{"$f":"SUMIF(BDD!$BC$2:$BC$3,\"Banc 145FAUXVRAIFAUXVRAIFAUX\",BDD!$V$2:$V$3)","v":0},{"$f":"SUMIF(BDD!$BC$2:$BC$3,\"Banc 145FAUXVRAIFAUXFAUXVRAI\",BDD!$V$2:$V$3)","v":0},{"$f":"SUMIF(BDD!$BC$2:$BC$3,\"Banc 145VRAIFAUXVRAIFAUXFAUX\",BDD!$V$2:$V$3)","v":0},{"$f":"SUMIF(BDD!$BC$2:$BC$3,\"Banc 145VRAIFAUXFAUXVRAIFAUX\",BDD!$V$2:$V$3)","v":0},{"$f":"SUMIF(BDD!$BC$2:$BC$3,\"Banc 145VRAIFAUXFAUXFAUXVRAI\",BDD!$V$2:$V$3)","v":0},{"$f":"SUMIF(BDD!$BC$2:$BC$3,\"Banc 145FAUXVRAIVRAIFAUXFAUX\",BDD!$V$2:$V$3)","v":0},{"$f":"SUMIF(BDD!$BC$2:$BC$3,\"Banc 145FAUXVRAIFAUXVRAIFAUX\",BDD!$V$2:$V$3)","v":0},{"$f":"SUMIF(BDD!$BC$2:$BC$3,\"Banc 145FAUXVRAIFAUXFAUXVRAI\",BDD!$V$2:$V$3)","v":0},{"$f":"SUMIF(BDD!$BC$2:$BC$3,\"Banc 145VRAIFAUXVRAIFAUXFAUX\",BDD!$V$2:$V$3)","v":0},{"$f":"SUMIF(BDD!$BC$2:$BC$3,\"Banc 145VRAIFAUXFAUXVRAIFAUX\",BDD!$V$2:$V$3)","v":0},{"$f":"SUMIF(BDD!$BC$2:$BC$3,\"Banc 145VRAIFAUXFAUXFAUXVRAI\",BDD!$V$2:$V$3)","v":0},{"$f":"SUMIF(BDD!$BC$2:$BC$3,\"Banc 145FAUXVRAIVRAIFAUXFAUX\",BDD!$V$2:$V$3)","v":0},{"$f":"SUMIF(BDD!$BC$2:$BC$3,\"Banc 145FAUXVRAIFAUXVRAIFAUX\",BDD!$V$2:$V$3)","v":0},{"$f":"SUMIF(BDD!$BC$2:$BC$3,\"Banc 145FAUXVRAIFAUXFAUXVRAI\",BDD!$V$2:$V$3)","v":0},{"$f":"SUMIF(BDD!$BC$2:$BC$3,\"Banc 145VRAIFAUXVRAIFAUXFAUX\",BDD!$V$2:$V$3)","v":0},{"$f":"SUMIF(BDD!$BC$2:$BC$3,\"Banc 145VRAIFAUXFAUXVRAIFAUX\",BDD!$V$2:$V$3)","v":0},{"$f":"SUMIF(BDD!$BC$2:$BC$3,\"Banc 145VRAIFAUXFAUXFAUXVRAI\",BDD!$V$2:$V$3)","v":0},{"$f":"SUMIF(BDD!$BC$2:$BC$3,\"Banc 145FAUXVRAIVRAIFAUXFAUX\",BDD!$V$2:$V$3)","v":0},{"$f":"SUMIF(BDD!$BC$2:$BC$3,\"Banc 145FAUXVRAIFAUXVRAIFAUX\",BDD!$V$2:$V$3)","v":0},{"$f":"SUMIF(BDD!$BC$2:$BC$3,\"Banc 145FAUXVRAIFAUXFAUXVRAI\",BDD!$V$2:$V$3)","v":0}]
["Banc cisaillement",{"$f":"SUMIF(BDD!$BC$2:$BC$3,\"Banc cisaillementVRAIFAUXVRAIFAUXFAUX\",BDD!$V$2:$V$3)","v":0},{"$f":"SUMIF(BDD!$BC$2:$BC$3,\"Banc cisaillementVRAIFAUXFAUXVRAIFAUX\",BDD!$V$2:$V$3)","v":0},{"$f":"SUMIF(BDD!$BC$2:$BC$3,\"Banc cisaillementVRAIFAUXFAUXFAUXVRAI\",BDD!$V$2:$V$3)","v":0},{"$f":"SUMIF(BDD!$BC$2:$BC$3,\"Banc cisaillementFAUXVRAIVRAIFAUXFAUX\",BDD!$V$2:$V$3)","v":0},{"$f":"SUMIF(BDD!$BC$2:$BC$3,\"Banc cisaillementFAUXVRAIFAUXVRAIFAUX\",BDD!$V$2:$V$3)","v":0},{"$f":"SUMIF(BDD!$BC$2:$BC$3,\"Banc cisaillementFAUXVRAIFAUXFAUXVRAI\",BDD!$V$2:$V$3)","v":0},{"$f":"SUMIF(BDD!$BC$2:$BC$3,\"Banc cisaillementVRAIFAUXVRAIFAUXFAUX\",BDD!$V$2:$V$3)","v":0},{"$f":"SUMIF(BDD!$BC$2:$BC$3,\"Banc cisaillementVRAIFAUXFAUXVRAIFAUX\",BDD!$V$2:$V$3)","v":0},{"$f":"SUMIF(BDD!$BC$2:$BC$3,\"Banc cisaillementVRAIFAUXFAUXFAUXVRAI\",BDD!$V$2:$V$3)","v":0},{"$f":"SUMIF(BDD!$BC$2:$BC$3,\"Banc cisaillementFAUXVRAIVRAIFAUXFAUX\",BDD!$V$2:$V$3)","v":0},{"$f":"SUMIF(BDD!$BC$2:$BC$3,\"Banc cisaillementFAUXVRAIFAUXVRAIFAUX\",BDD!$V$2:$V$3)","v":0},{"$f":"SUMIF(BDD!$BC$2:$BC$3,\"Banc cisaillementFAUXVRAIFAUXFAUXVRAI\",BDD!$V$2:$V$3)","v":0},{"$f":"SUMIF(BDD!$BC$2:$BC$683,\"Banc cisaillementVRAIFAUXVRAIFAUXFAUX\",BDD!$V$2:$V$683)","v":0},{"$f":"SUMIF(BDD!$BC$2:$BC$683,\"Banc cisaillementVRAIFAUXFAUXVRAIFAUX\",BDD!$V$2:$V$683)","v":0},{"$f":"SUMIF(BDD!$BC$2:$BC$683,\"Banc cisaillementVRAIFAUXFAUXFAUXVRAI\",BDD!$V$2:$V$683)","v":0},{"$f":"SUMIF(BDD!$BC$2:$BC$683,\"Banc cisaillementFAUXVRAIVRAIFAUXFAUX\",BDD!$V$2:$V$683)","v":0},{"$f":"SUMIF(BDD!$BC$2:$BC$683,\"Banc cisaillementFAUXVRAIFAUXVRAIFAUX\",BDD!$V$2:$V$683)","v":0},{"$f":"SUMIF(BDD!$BC$2:$BC$683,\"Banc cisaillementFAUXVRAIFAUXFAUXVRAI\",BDD!$V$2:$V$683)","v":0},{"$f":"SUMIF(BDD!$BC$2:$BC$3,\"Banc cisaillementVRAIFAUXVRAIFAUXFAUX\",BDD!$V$2:$V$3)","v":0},{"$f":"SUMIF(BDD!$BC$2:$BC$3,\"Banc cisaillementVRAIFAUXFAUXVRAIFAUX\",BDD!$V$2:$V$3)","v":0},{"$f":"SUMIF(BDD!$BC$2:$BC$3,\"Banc cisaillementVRAIFAUXFAUXFAUXVRAI\",BDD!$V$2:$V$3)","v":0},{"$f":"SUMIF(BDD!$BC$2:$BC$3,\"Banc cisaillementFAUXVRAIVRAIFAUXFAUX\",BDD!$V$2:$V$3)","v":0},{"$f":"SUMIF(BDD!$BC$2:$BC$3,\"Banc cisaillementFAUXVRAIFAUXVRAIFAUX\",BDD!$V$2:$V$3)","v":0},{"$f":"SUMIF(BDD!$BC$2:$BC$3,\"Banc cisaillementFAUXVRAIFAUXFAUXVRAI\",BDD!$V$2:$V$3)","v":0},{"$f":"SUMIF(BDD!$BC$2:$BC$3,\"Banc cisaillementVRAIFAUXVRAIFAUXFAUX\",BDD!$V$2:$V$3)","v":0},{"$f":"SUMIF(BDD!$BC$2:$BC$3,\"Banc cisaillementVRAIFAUXFAUXVRAIFAUX\",BDD!$V$2:$V$3)","v":0},{"$f":"SUMIF(BDD!$BC$2:$BC$3,\"Banc cisaillementVRAIFAUXFAUXFAUXVRAI\",BDD!$V$2:$V$3)","v":0},{"$f":"SUMIF(BDD!$BC$2:$BC$3,\"Banc cisaillementFAUXVRAIVRAIFAUXFAUX\",BDD!$V$2:$V$3)","v":0},{"$f":"SUMIF(BDD!$BC$2:$BC$3,\"Banc cisaillementFAUXVRAIFAUXVRAIFAUX\",BDD!$V$2:$V$3)","v":0},{"$f":"SUMIF(BDD!$BC$2:$BC$3,\"Banc cisaillementFAUXVRAIFAUXFAUXVRAI\",BDD!$V$2:$V$3)","v":0},{"$f":"SUMIF(BDD!$BC$2:$BC$3,\"Banc cisaillementVRAIFAUXVRAIFAUXFAUX\",BDD!$V$2:$V$3)","v":0},{"$f":"SUMIF(BDD!$BC$2:$BC$3,\"Banc cisaillementVRAIFAUXFAUXVRAIFAUX\",BDD!$V$2:$V$3)","v":0},{"$f":"SUMIF(BDD!$BC$2:$BC$3,\"Banc cisaillementVRAIFAUXFAUXFAUXVRAI\",BDD!$V$2:$V$3)","v":0},{"$f":"SUMIF(BDD!$BC$2:$BC$3,\"Banc cisaillementFAUXVRAIVRAIFAUXFAUX\",BDD!$V$2:$V$3)","v":0},{"$f":"SUMIF(BDD!$BC$2:$BC$3,\"Banc cisaillementFAUXVRAIFAUXVRAIFAUX\",BDD!$V$2:$V$3)","v":0},{"$f":"SUMIF(BDD!$BC$2:$BC$3,\"Banc cisaillementFAUXVRAIFAUXFAUXVRAI\",BDD!$V$2:$V$3)","v":0},{"$f":"SUMIF(BDD!$BC$2:$BC$3,\"Banc cisaillementVRAIFAUXVRAIFAUXFAUX\",BDD!$V$2:$V$3)","v":0},{"$f":"SUMIF(BDD!$BC$2:$BC$3,\"Banc cisaillementVRAIFAUXFAUXVRAIFAUX\",BDD!$V$2:$V$3)","v":0},{"$f":"SUMIF(BDD!$BC$2:$BC$3,\"Banc cisaillementVRAIFAUXFAUXFAUXVRAI\",BDD!$V$2:$V$3)","v":0},{"$f":"SUMIF(BDD!$BC$2:$BC$3,\"Banc cisaillementFAUXVRAIVRAIFAUXFAUX\",BDD!$V$2:$V$3)","v":0},{"$f":"SUMIF(BDD!$BC$2:$BC$3,\"Banc cisaillementFAUXVRAIFAUXVRAIFAUX\",BDD!$V$2:$V$3)","v":0},{"$f":"SUMIF(BDD!$BC$2:$BC$3,\"Banc cisaillementFAUXVRAIFAUXFAUXVRAI\",BDD!$V$2:$V$3)","v":0},{"$f":"SUMIF(BDD!$BC$2:$BC$3,\"Banc cisaillementVRAIFAUXVRAIFAUXFAUX\",BDD!$V$2:$V$3)","v":0},{"$f":"SUMIF(BDD!$BC$2:$BC$3,\"Banc cisaillementVRAIFAUXFAUXVRAIFAUX\",BDD!$V$2:$V$3)","v":0},{"$f":"SUMIF(BDD!$BC$2:$BC$3,\"Banc cisaillementVRAIFAUXFAUXFAUXVRAI\",BDD!$V$2:$V$3)","v":0},{"$f":"SUMIF(BDD!$BC$2:$BC$3,\"Banc cisaillementFAUXVRAIVRAIFAUXFAUX\",BDD!$V$2:$V$3)","v":0},{"$f":"SUMIF(BDD!$BC$2:$BC$3,\"Banc cisaillementFAUXVRAIFAUXVRAIFAUX\",BDD!$V$2:$V$3)","v":0},{"$f":"SUMIF(BDD!$BC$2:$BC$3,\"Banc cisaillementFAUXVRAIFAUXFAUXVRAI\",BDD!$V$2:$V$3)","v":0},{"$f":"SUMIF(BDD!$BC$2:$BC$3,\"Banc cisaillementVRAIFAUXVRAIFAUXFAUX\",BDD!$V$2:$V$3)","v":0},{"$f":"SUMIF(BDD!$BC$2:$BC$3,\"Banc cisaillementVRAIFAUXFAUXVRAIFAUX\",BDD!$V$2:$V$3)","v":0},{"$f":"SUMIF(BDD!$BC$2:$BC$3,\"Banc cisaillementVRAIFAUXFAUXFAUXVRAI\",BDD!$V$2:$V$3)","v":0},{"$f":"SUMIF(BDD!$BC$2:$BC$3,\"Banc cisaillementFAUXVRAIVRAIFAUXFAUX\",BDD!$V$2:$V$3)","v":0},{"$f":"SUMIF(BDD!$BC$2:$BC$3,\"Banc cisaillementFAUXVRAIFAUXVRAIFAUX\",BDD!$V$2:$V$3)","v":0},{"$f":"SUMIF(BDD!$BC$2:$BC$3,\"Banc cisaillementFAUXVRAIFAUXFAUXVRAI\",BDD!$V$2:$V$3)","v":0},{"$f":"SUMIF(BDD!$BC$2:$BC$3,\"Banc cisaillementVRAIFAUXVRAIFAUXFAUX\",BDD!$V$2:$V$3)","v":0},{"$f":"SUMIF(BDD!$BC$2:$BC$3,\"Banc cisaillementVRAIFAUXFAUXVRAIFAUX\",BDD!$V$2:$V$3)","v":0},{"$f":"SUMIF(BDD!$BC$2:$BC$3,\"Banc cisaillementVRAIFAUXFAUXFAUXVRAI\",BDD!$V$2:$V$3)","v":0},{"$f":"SUMIF(BDD!$BC$2:$BC$3,\"Banc cisaillementFAUXVRAIVRAIFAUXFAUX\",BDD!$V$2:$V$3)","v":0},{"$f":"SUMIF(BDD!$BC$2:$BC$3,\"Banc cisaillementFAUXVRAIFAUXVRAIFAUX\",BDD!$V$2:$V$3)","v":0},{"$f":"SUMIF(BDD!$BC$2:$BC$3,\"Banc cisaillementFAUXVRAIFAUXFAUXVRAI\",BDD!$V$2:$V$3)","v":0},{"$f":"SUMIF(BDD!$BC$2:$BC$3,\"Banc cisaillementVRAIFAUXVRAIFAUXFAUX\",BDD!$V$2:$V$3)","v":0},{"$f":"SUMIF(BDD!$BC$2:$BC$3,\"Banc cisaillementVRAIFAUXFAUXVRAIFAUX\",BDD!$V$2:$V$3)","v":0},{"$f":"SUMIF(BDD!$BC$2:$BC$3,\"Banc cisaillementVRAIFAUXFAUXFAUXVRAI\",BDD!$V$2:$V$3)","v":0},{"$f":"SUMIF(BDD!$BC$2:$BC$3,\"Banc cisaillementFAUXVRAIVRAIFAUXFAUX\",BDD!$V$2:$V$3)","v":0},{"$f":"SUMIF(BDD!$BC$2:$BC$3,\"Banc cisaillementFAUXVRAIFAUXVRAIFAUX\",BDD!$V$2:$V$3)","v":0},{"$f":"SUMIF(BDD!$BC$2:$BC$3,\"Banc cisaillementFAUXVRAIFAUXFAUXVRAI\",BDD!$V$2:$V$3)","v":0},{"$f":"SUMIF(BDD!$BC$2:$BC$3,\"Banc cisaillementVRAIFAUXVRAIFAUXFAUX\",BDD!$V$2:$V$3)","v":0},{"$f":"SUMIF(BDD!$BC$2:$BC$3,\"Banc cisaillementVRAIFAUXFAUXVRAIFAUX\",BDD!$V$2:$V$3)","v":0},{"$f":"SUMIF(BDD!$BC$2:$BC$3,\"Banc cisaillementVRAIFAUXFAUXFAUXVRAI\",BDD!$V$2:$V$3)","v":0},{"$f":"SUMIF(BDD!$BC$2:$BC$3,\"Banc cisaillementFAUXVRAIVRAIFAUXFAUX\",BDD!$V$2:$V$3)","v":0},{"$f":"SUMIF(BDD!$BC$2:$BC$3,\"Banc cisaillementFAUXVRAIFAUXVRAIFAUX\",BDD!$V$2:$V$3)","v":0},{"$f":"SUMIF(BDD!$BC$2:$BC$3,\"Banc cisaillementFAUXVRAIFAUXFAUXVRAI\",BDD!$V$2:$V$3)","v":0}]
["Banc HP",{"$f":"SUMIF(BDD!$BC$2:$BC$3,\"Banc HPVRAIFAUXVRAIFAUXFAUX\",BDD!$V$2:$V$3)","v":0},{"$f":"SUMIF(BDD!$BC$2:$BC$3,\"Banc HPVRAIFAUXFAUXVRAIFAUX\",BDD!$V$2:$V$3)","v":0},{"$f":"SUMIF(BDD!$BC$2:$BC$3,\"Banc HPVRAIFAUXFAUXFAUXVRAI\",BDD!$V$2:$V$3)","v":0},{"$f":"SUMIF(BDD!$BC$2:$BC$3,\"Banc HPFAUXVRAIVRAIFAUXFAUX\",BDD!$V$2:$V$3)","v":0},{"$f":"SUMIF(BDD!$BC$2:$BC$3,\"Banc HPFAUXVRAIFAUXVRAIFAUX\",BDD!$V$2:$V$3)","v":0},{"$f":"SUMIF(BDD!$BC$2:$BC$3,\"Banc HPFAUXVRAIFAUXFAUXVRAI\",BDD!$V$2:$V$3)","v":0},{"$f":"SUMIF(BDD!$BC$2:$BC$3,\"Banc HPVRAIFAUXVRAIFAUXFAUX\",BDD!$V$2:$V$3)","v":0},{"$f":"SUMIF(BDD!$BC$2:$BC$3,\"Banc HPVRAIFAUXFAUXVRAIFAUX\",BDD!$V$2:$V$3)","v":0},{"$f":"SUMIF(BDD!$BC$2:$BC$3,\"Banc HPVRAIFAUXFAUXFAUXVRAI\",BDD!$V$2:$V$3)","v":0},{"$f":"SUMIF(BDD!$BC$2:$BC$3,\"Banc HPFAUXVRAIVRAIFAUXFAUX\",BDD!$V$2:$V$3)","v":0},{"$f":"SUMIF(BDD!$BC$2:$BC$3,\"Banc HPFAUXVRAIFAUXVRAIFAUX\",BDD!$V$2:$V$3)","v":0},{"$f":"SUMIF(BDD!$BC$2:$BC$3,\"Banc HPFAUXVRAIFAUXFAUXVRAI\",BDD!$V$2:$V$3)","v":0},{"$f":"SUMIF(BDD!$BC$2:$BC$683,\"Banc HPVRAIFAUXVRAIFAUXFAUX\",BDD!$V$2:$V$683)","v":0},{"$f":"SUMIF(BDD!$BC$2:$BC$683,\"Banc HPVRAIFAUXFAUXVRAIFAUX\",BDD!$V$2:$V$683)","v":0},{"$f":"SUMIF(BDD!$BC$2:$BC$683,\"Banc HPVRAIFAUXFAUXFAUXVRAI\",BDD!$V$2:$V$683)","v":0},{"$f":"SUMIF(BDD!$BC$2:$BC$683,\"Banc HPFAUXVRAIVRAIFAUXFAUX\",BDD!$V$2:$V$683)","v":0},{"$f":"SUMIF(BDD!$BC$2:$BC$683,\"Banc HPFAUXVRAIFAUXVRAIFAUX\",BDD!$V$2:$V$683)","v":0},{"$f":"SUMIF(BDD!$BC$2:$BC$683,\"Banc HPFAUXVRAIFAUXFAUXVRAI\",BDD!$V$2:$V$683)","v":0},{"$f":"SUMIF(BDD!$BC$2:$BC$3,\"Banc HPVRAIFAUXVRAIFAUXFAUX\",BDD!$V$2:$V$3)","v":0},{"$f":"SUMIF(BDD!$BC$2:$BC$3,\"Banc HPVRAIFAUXFAUXVRAIFAUX\",BDD!$V$2:$V$3)","v":0},{"$f":"SUMIF(BDD!$BC$2:$BC$3,\"Banc HPVRAIFAUXFAUXFAUXVRAI\",BDD!$V$2:$V$3)","v":0},{"$f":"SUMIF(BDD!$BC$2:$BC$3,\"Banc HPFAUXVRAIVRAIFAUXFAUX\",BDD!$V$2:$V$3)","v":0},{"$f":"SUMIF(BDD!$BC$2:$BC$3,\"Banc HPFAUXVRAIFAUXVRAIFAUX\",BDD!$V$2:$V$3)","v":0},{"$f":"SUMIF(BDD!$BC$2:$BC$3,\"Banc HPFAUXVRAIFAUXFAUXVRAI\",BDD!$V$2:$V$3)","v":0},{"$f":"SUMIF(BDD!$BC$2:$BC$3,\"Banc HPVRAIFAUXVRAIFAUXFAUX\",BDD!$V$2:$V$3)","v":0},{"$f":"SUMIF(BDD!$BC$2:$BC$3,\"Banc HPVRAIFAUXFAUXVRAIFAUX\",BDD!$V$2:$V$3)","v":0},{"$f":"SUMIF(BDD!$BC$2:$BC$3,\"Banc HPVRAIFAUXFAUXFAUXVRAI\",BDD!$V$2:$V$3)","v":0},{"$f":"SUMIF(BDD!$BC$2:$BC$3,\"Banc HPFAUXVRAIVRAIFAUXFAUX\",BDD!$V$2:$V$3)","v":0},{"$f":"SUMIF(BDD!$BC$2:$BC$3,\"Banc HPFAUXVRAIFAUXVRAIFAUX\",BDD!$V$2:$V$3)","v":0},{"$f":"SUMIF(BDD!$BC$2:$BC$3,\"Banc HPFAUXVRAIFAUXFAUXVRAI\",BDD!$V$2:$V$3)","v":0},{"$f":"SUMIF(BDD!$BC$2:$BC$3,\"Banc HPVRAIFAUXVRAIFAUXFAUX\",BDD!$V$2:$V$3)","v":0},{"$f":"SUMIF(BDD!$BC$2:$BC$3,\"Banc HPVRAIFAUXFAUXVRAIFAUX\",BDD!$V$2:$V$3)","v":0},{"$f":"SUMIF(BDD!$BC$2:$BC$3,\"Banc HPVRAIFAUXFAUXFAUXVRAI\",BDD!$V$2:$V$3)","v":0},{"$f":"SUMIF(BDD!$BC$2:$BC$3,\"Banc HPFAUXVRAIVRAIFAUXFAUX\",BDD!$V$2:$V$3)","v":0},{"$f":"SUMIF(BDD!$BC$2:$BC$3,\"Banc HPFAUXVRAIFAUXVRAIFAUX\",BDD!$V$2:$V$3)","v":0},{"$f":"SUMIF(BDD!$BC$2:$BC$3,\"Banc HPFAUXVRAIFAUXFAUXVRAI\",BDD!$V$2:$V$3)","v":0},{"$f":"SUMIF(BDD!$BC$2:$BC$3,\"Banc HPVRAIFAUXVRAIFAUXFAUX\",BDD!$V$2:$V$3)","v":0},{"$f":"SUMIF(BDD!$BC$2:$BC$3,\"Banc HPVRAIFAUXFAUXVRAIFAUX\",BDD!$V$2:$V$3)","v":0},{"$f":"SUMIF(BDD!$BC$2:$BC$3,\"Banc HPVRAIFAUXFAUXFAUXVRAI\",BDD!$V$2:$V$3)","v":0},{"$f":"SUMIF(BDD!$BC$2:$BC$3,\"Banc HPFAUXVRAIVRAIFAUXFAUX\",BDD!$V$2:$V$3)","v":0},{"$f":"SUMIF(BDD!$BC$2:$BC$3,\"Banc HPFAUXVRAIFAUXVRAIFAUX\",BDD!$V$2:$V$3)","v":0},{"$f":"SUMIF(BDD!$BC$2:$BC$3,\"Banc HPFAUXVRAIFAUXFAUXVRAI\",BDD!$V$2:$V$3)","v":0},{"$f":"SUMIF(BDD!$BC$2:$BC$3,\"Banc HPVRAIFAUXVRAIFAUXFAUX\",BDD!$V$2:$V$3)","v":0},{"$f":"SUMIF(BDD!$BC$2:$BC$3,\"Banc HPVRAIFAUXFAUXVRAIFAUX\",BDD!$V$2:$V$3)","v":0},{"$f":"SUMIF(BDD!$BC$2:$BC$3,\"Banc HPVRAIFAUXFAUXFAUXVRAI\",BDD!$V$2:$V$3)","v":0},{"$f":"SUMIF(BDD!$BC$2:$BC$3,\"Banc HPFAUXVRAIVRAIFAUXFAUX\",BDD!$V$2:$V$3)","v":0},{"$f":"SUMIF(BDD!$BC$2:$BC$3,\"Banc HPFAUXVRAIFAUXVRAIFAUX\",BDD!$V$2:$V$3)","v":0},{"$f":"SUMIF(BDD!$BC$2:$BC$3,\"Banc HPFAUXVRAIFAUXFAUXVRAI\",BDD!$V$2:$V$3)","v":0},{"$f":"SUMIF(BDD!$BC$2:$BC$3,\"Banc HPVRAIFAUXVRAIFAUXFAUX\",BDD!$V$2:$V$3)","v":0},{"$f":"SUMIF(BDD!$BC$2:$BC$3,\"Banc HPVRAIFAUXFAUXVRAIFAUX\",BDD!$V$2:$V$3)","v":0},{"$f":"SUMIF(BDD!$BC$2:$BC$3,\"Banc HPVRAIFAUXFAUXFAUXVRAI\",BDD!$V$2:$V$3)","v":0},{"$f":"SUMIF(BDD!$BC$2:$BC$3,\"Banc HPFAUXVRAIVRAIFAUXFAUX\",BDD!$V$2:$V$3)","v":0},{"$f":"SUMIF(BDD!$BC$2:$BC$3,\"Banc HPFAUXVRAIFAUXVRAIFAUX\",BDD!$V$2:$V$3)","v":0},{"$f":"SUMIF(BDD!$BC$2:$BC$3,\"Banc HPFAUXVRAIFAUXFAUXVRAI\",BDD!$V$2:$V$3)","v":0},{"$f":"SUMIF(BDD!$BC$2:$BC$3,\"Banc HPVRAIFAUXVRAIFAUXFAUX\",BDD!$V$2:$V$3)","v":0},{"$f":"SUMIF(BDD!$BC$2:$BC$3,\"Banc HPVRAIFAUXFAUXVRAIFAUX\",BDD!$V$2:$V$3)","v":0},{"$f":"SUMIF(BDD!$BC$2:$BC$3,\"Banc HPVRAIFAUXFAUXFAUXVRAI\",BDD!$V$2:$V$3)","v":0},{"$f":"SUMIF(BDD!$BC$2:$BC$3,\"Banc HPFAUXVRAIVRAIFAUXFAUX\",BDD!$V$2:$V$3)","v":0},{"$f":"SUMIF(BDD!$BC$2:$BC$3,\"Banc HPFAUXVRAIFAUXVRAIFAUX\",BDD!$V$2:$V$3)","v":0},{"$f":"SUMIF(BDD!$BC$2:$BC$3,\"Banc HPFAUXVRAIFAUXFAUXVRAI\",BDD!$V$2:$V$3)","v":0},{"$f":"SUMIF(BDD!$BC$2:$BC$3,\"Banc HPVRAIFAUXVRAIFAUXFAUX\",BDD!$V$2:$V$3)","v":0},{"$f":"SUMIF(BDD!$BC$2:$BC$3,\"Banc HPVRAIFAUXFAUXVRAIFAUX\",BDD!$V$2:$V$3)","v":0},{"$f":"SUMIF(BDD!$BC$2:$BC$3,\"Banc HPVRAIFAUXFAUXFAUXVRAI\",BDD!$V$2:$V$3)","v":0},{"$f":"SUMIF(BDD!$BC$2:$BC$3,\"Banc HPFAUXVRAIVRAIFAUXFAUX\",BDD!$V$2:$V$3)","v":0},{"$f":"SUMIF(BDD!$BC$2:$BC$3,\"Banc HPFAUXVRAIFAUXVRAIFAUX\",BDD!$V$2:$V$3)","v":0},{"$f":"SUMIF(BDD!$BC$2:$BC$3,\"Banc HPFAUXVRAIFAUXFAUXVRAI\",BDD!$V$2:$V$3)","v":0},{"$f":"SUMIF(BDD!$BC$2:$BC$3,\"Banc HPVRAIFAUXVRAIFAUXFAUX\",BDD!$V$2:$V$3)","v":0},{"$f":"SUMIF(BDD!$BC$2:$BC$3,\"Banc HPVRAIFAUXFAUXVRAIFAUX\",BDD!$V$2:$V$3)","v":0},{"$f":"SUMIF(BDD!$BC$2:$BC$3,\"Banc HPVRAIFAUXFAUXFAUXVRAI\",BDD!$V$2:$V$3)","v":0},{"$f":"SUMIF(BDD!$BC$2:$BC$3,\"Banc HPFAUXVRAIVRAIFAUXFAUX\",BDD!$V$2:$V$3)","v":0},{"$f":"SUMIF(BDD!$BC$2:$BC$3,\"Banc HPFAUXVRAIFAUXVRAIFAUX\",BDD!$V$2:$V$3)","v":0},{"$f":"SUMIF(BDD!$BC$2:$BC$3,\"Banc HPFAUXVRAIFAUXFAUXVRAI\",BDD!$V$2:$V$3)","v":0}]
["Banc W+B",{"$f":"SUMIF(BDD!$BC$2:$BC$3,\"Banc W+BVRAIFAUXVRAIFAUXFAUX\",BDD!$V$2:$V$3)","v":0},{"$f":"SUMIF(BDD!$BC$2:$BC$3,\"Banc W+BVRAIFAUXFAUXVRAIFAUX\",BDD!$V$2:$V$3)","v":0},{"$f":"SUMIF(BDD!$BC$2:$BC$3,\"Banc W+BVRAIFAUXFAUXFAUXVRAI\",BDD!$V$2:$V$3)","v":0},{"$f":"SUMIF(BDD!$BC$2:$BC$3,\"Banc W+BFAUXVRAIVRAIFAUXFAUX\",BDD!$V$2:$V$3)","v":0},{"$f":"SUMIF(BDD!$BC$2:$BC$3,\"Banc W+BFAUXVRAIFAUXVRAIFAUX\",BDD!$V$2:$V$3)","v":0},{"$f":"SUMIF(BDD!$BC$2:$BC$3,\"Banc W+BFAUXVRAIFAUXFAUXVRAI\",BDD!$V$2:$V$3)","v":0},{"$f":"SUMIF(BDD!$BC$2:$BC$3,\"Banc W+BVRAIFAUXVRAIFAUXFAUX\",BDD!$V$2:$V$3)","v":0},{"$f":"SUMIF(BDD!$BC$2:$BC$3,\"Banc W+BVRAIFAUXFAUXVRAIFAUX\",BDD!$V$2:$V$3)","v":0},{"$f":"SUMIF(BDD!$BC$2:$BC$3,\"Banc W+BVRAIFAUXFAUXFAUXVRAI\",BDD!$V$2:$V$3)","v":0},{"$f":"SUMIF(BDD!$BC$2:$BC$3,\"Banc W+BFAUXVRAIVRAIFAUXFAUX\",BDD!$V$2:$V$3)","v":0},{"$f":"SUMIF(BDD!$BC$2:$BC$3,\"Banc W+BFAUXVRAIFAUXVRAIFAUX\",BDD!$V$2:$V$3)","v":0},{"$f":"SUMIF(BDD!$BC$2:$BC$3,\"Banc W+BFAUXVRAIFAUXFAUXVRAI\",BDD!$V$2:$V$3)","v":0},{"$f":"SUMIF(BDD!$BC$2:$BC$683,\"Banc W+BVRAIFAUXVRAIFAUXFAUX\",BDD!$V$2:$V$683)","v":0},{"$f":"SUMIF(BDD!$BC$2:$BC$683,\"Banc W+BVRAIFAUXFAUXVRAIFAUX\",BDD!$V$2:$V$683)","v":0},{"$f":"SUMIF(BDD!$BC$2:$BC$683,\"Banc W+BVRAIFAUXFAUXFAUXVRAI\",BDD!$V$2:$V$683)","v":0},{"$f":"SUMIF(BDD!$BC$2:$BC$683,\"Banc W+BFAUXVRAIVRAIFAUXFAUX\",BDD!$V$2:$V$683)","v":0},{"$f":"SUMIF(BDD!$BC$2:$BC$683,\"Banc W+BFAUXVRAIFAUXVRAIFAUX\",BDD!$V$2:$V$683)","v":0},{"$f":"SUMIF(BDD!$BC$2:$BC$683,\"Banc W+BFAUXVRAIFAUXFAUXVRAI\",BDD!$V$2:$V$683)","v":0},{"$f":"SUMIF(BDD!$BC$2:$BC$3,\"Banc W+BVRAIFAUXVRAIFAUXFAUX\",BDD!$V$2:$V$3)","v":0},{"$f":"SUMIF(BDD!$BC$2:$BC$3,\"Banc W+BVRAIFAUXFAUXVRAIFAUX\",BDD!$V$2:$V$3)","v":0},{"$f":"SUMIF(BDD!$BC$2:$BC$3,\"Banc W+BVRAIFAUXFAUXFAUXVRAI\",BDD!$V$2:$V$3)","v":0},{"$f":"SUMIF(BDD!$BC$2:$BC$3,\"Banc W+BFAUXVRAIVRAIFAUXFAUX\",BDD!$V$2:$V$3)","v":0},{"$f":"SUMIF(BDD!$BC$2:$BC$3,\"Banc W+BFAUXVRAIFAUXVRAIFAUX\",BDD!$V$2:$V$3)","v":0},{"$f":"SUMIF(BDD!$BC$2:$BC$3,\"Banc W+BFAUXVRAIFAUXFAUXVRAI\",BDD!$V$2:$V$3)","v":0},{"$f":"SUMIF(BDD!$BC$2:$BC$3,\"Banc W+BVRAIFAUXVRAIFAUXFAUX\",BDD!$V$2:$V$3)","v":0},{"$f":"SUMIF(BDD!$BC$2:$BC$3,\"Banc W+BVRAIFAUXFAUXVRAIFAUX\",BDD!$V$2:$V$3)","v":0},{"$f":"SUMIF(BDD!$BC$2:$BC$3,\"Banc W+BVRAIFAUXFAUXFAUXVRAI\",BDD!$V$2:$V$3)","v":0},{"$f":"SUMIF(BDD!$BC$2:$BC$3,\"Banc W+BFAUXVRAIVRAIFAUXFAUX\",BDD!$V$2:$V$3)","v":0},{"$f":"SUMIF(BDD!$BC$2:$BC$3,\"Banc W+BFAUXVRAIFAUXVRAIFAUX\",BDD!$V$2:$V$3)","v":0},{"$f":"SUMIF(BDD!$BC$2:$BC$3,\"Banc W+BFAUXVRAIFAUXFAUXVRAI\",BDD!$V$2:$V$3)","v":0},{"$f":"SUMIF(BDD!$BC$2:$BC$3,\"Banc W+BVRAIFAUXVRAIFAUXFAUX\",BDD!$V$2:$V$3)","v":0},{"$f":"SUMIF(BDD!$BC$2:$BC$3,\"Banc W+BVRAIFAUXFAUXVRAIFAUX\",BDD!$V$2:$V$3)","v":0},{"$f":"SUMIF(BDD!$BC$2:$BC$3,\"Banc W+BVRAIFAUXFAUXFAUXVRAI\",BDD!$V$2:$V$3)","v":0},{"$f":"SUMIF(BDD!$BC$2:$BC$3,\"Banc W+BFAUXVRAIVRAIFAUXFAUX\",BDD!$V$2:$V$3)","v":0},{"$f":"SUMIF(BDD!$BC$2:$BC$3,\"Banc W+BFAUXVRAIFAUXVRAIFAUX\",BDD!$V$2:$V$3)","v":0},{"$f":"SUMIF(BDD!$BC$2:$BC$3,\"Banc W+BFAUXVRAIFAUXFAUXVRAI\",BDD!$V$2:$V$3)","v":0},{"$f":"SUMIF(BDD!$BC$2:$BC$3,\"Banc W+BVRAIFAUXVRAIFAUXFAUX\",BDD!$V$2:$V$3)","v":0},{"$f":"SUMIF(BDD!$BC$2:$BC$3,\"Banc W+BVRAIFAUXFAUXVRAIFAUX\",BDD!$V$2:$V$3)","v":0},{"$f":"SUMIF(BDD!$BC$2:$BC$3,\"Banc W+BVRAIFAUXFAUXFAUXVRAI\",BDD!$V$2:$V$3)","v":0},{"$f":"SUMIF(BDD!$BC$2:$BC$3,\"Banc W+BFAUXVRAIVRAIFAUXFAUX\",BDD!$V$2:$V$3)","v":0},{"$f":"SUMIF(BDD!$BC$2:$BC$3,\"Banc W+BFAUXVRAIFAUXVRAIFAUX\",BDD!$V$2:$V$3)","v":0},{"$f":"SUMIF(BDD!$BC$2:$BC$3,\"Banc W+BFAUXVRAIFAUXFAUXVRAI\",BDD!$V$2:$V$3)","v":0},{"$f":"SUMIF(BDD!$BC$2:$BC$3,\"Banc W+BVRAIFAUXVRAIFAUXFAUX\",BDD!$V$2:$V$3)","v":0},{"$f":"SUMIF(BDD!$BC$2:$BC$3,\"Banc W+BVRAIFAUXFAUXVRAIFAUX\",BDD!$V$2:$V$3)","v":0},{"$f":"SUMIF(BDD!$BC$2:$BC$3,\"Banc W+BVRAIFAUXFAUXFAUXVRAI\",BDD!$V$2:$V$3)","v":0},{"$f":"SUMIF(BDD!$BC$2:$BC$3,\"Banc W+BFAUXVRAIVRAIFAUXFAUX\",BDD!$V$2:$V$3)","v":0},{"$f":"SUMIF(BDD!$BC$2:$BC$3,\"Banc W+BFAUXVRAIFAUXVRAIFAUX\",BDD!$V$2:$V$3)","v":0},{"$f":"SUMIF(BDD!$BC$2:$BC$3,\"Banc W+BFAUXVRAIFAUXFAUXVRAI\",BDD!$V$2:$V$3)","v":0},{"$f":"SUMIF(BDD!$BC$2:$BC$3,\"Banc W+BVRAIFAUXVRAIFAUXFAUX\",BDD!$V$2:$V$3)","v":0},{"$f":"SUMIF(BDD!$BC$2:$BC$3,\"Banc W+BVRAIFAUXFAUXVRAIFAUX\",BDD!$V$2:$V$3)","v":0},{"$f":"SUMIF(BDD!$BC$2:$BC$3,\"Banc W+BVRAIFAUXFAUXFAUXVRAI\",BDD!$V$2:$V$3)","v":0},{"$f":"SUMIF(BDD!$BC$2:$BC$3,\"Banc W+BFAUXVRAIVRAIFAUXFAUX\",BDD!$V$2:$V$3)","v":0},{"$f":"SUMIF(BDD!$BC$2:$BC$3,\"Banc W+BFAUXVRAIFAUXVRAIFAUX\",BDD!$V$2:$V$3)","v":0},{"$f":"SUMIF(BDD!$BC$2:$BC$3,\"Banc W+BFAUXVRAIFAUXFAUXVRAI\",BDD!$V$2:$V$3)","v":0},{"$f":"SUMIF(BDD!$BC$2:$BC$3,\"Banc W+BVRAIFAUXVRAIFAUXFAUX\",BDD!$V$2:$V$3)","v":0},{"$f":"SUMIF(BDD!$BC$2:$BC$3,\"Banc W+BVRAIFAUXFAUXVRAIFAUX\",BDD!$V$2:$V$3)","v":0},{"$f":"SUMIF(BDD!$BC$2:$BC$3,\"Banc W+BVRAIFAUXFAUXFAUXVRAI\",BDD!$V$2:$V$3)","v":0},{"$f":"SUMIF(BDD!$BC$2:$BC$3,\"Banc W+BFAUXVRAIVRAIFAUXFAUX\",BDD!$V$2:$V$3)","v":0},{"$f":"SUMIF(BDD!$BC$2:$BC$3,\"Banc W+BFAUXVRAIFAUXVRAIFAUX\",BDD!$V$2:$V$3)","v":0},{"$f":"SUMIF(BDD!$BC$2:$BC$3,\"Banc W+BFAUXVRAIFAUXFAUXVRAI\",BDD!$V$2:$V$3)","v":0},{"$f":"SUMIF(BDD!$BC$2:$BC$3,\"Banc W+BVRAIFAUXVRAIFAUXFAUX\",BDD!$V$2:$V$3)","v":0},{"$f":"SUMIF(BDD!$BC$2:$BC$3,\"Banc W+BVRAIFAUXFAUXVRAIFAUX\",BDD!$V$2:$V$3)","v":0},{"$f":"SUMIF(BDD!$BC$2:$BC$3,\"Banc W+BVRAIFAUXFAUXFAUXVRAI\",BDD!$V$2:$V$3)","v":0},{"$f":"SUMIF(BDD!$BC$2:$BC$3,\"Banc W+BFAUXVRAIVRAIFAUXFAUX\",BDD!$V$2:$V$3)","v":0},{"$f":"SUMIF(BDD!$BC$2:$BC$3,\"Banc W+BFAUXVRAIFAUXVRAIFAUX\",BDD!$V$2:$V$3)","v":0},{"$f":"SUMIF(BDD!$BC$2:$BC$3,\"Banc W+BFAUXVRAIFAUXFAUXVRAI\",BDD!$V$2:$V$3)","v":0},{"$f":"SUMIF(BDD!$BC$2:$BC$3,\"Banc W+BVRAIFAUXVRAIFAUXFAUX\",BDD!$V$2:$V$3)","v":0},{"$f":"SUMIF(BDD!$BC$2:$BC$3,\"Banc W+BVRAIFAUXFAUXVRAIFAUX\",BDD!$V$2:$V$3)","v":0},{"$f":"SUMIF(BDD!$BC$2:$BC$3,\"Banc W+BVRAIFAUXFAUXFAUXVRAI\",BDD!$V$2:$V$3)","v":0},{"$f":"SUMIF(BDD!$BC$2:$BC$3,\"Banc W+BFAUXVRAIVRAIFAUXFAUX\",BDD!$V$2:$V$3)","v":0},{"$f":"SUMIF(BDD!$BC$2:$BC$3,\"Banc W+BFAUXVRAIFAUXVRAIFAUX\",BDD!$V$2:$V$3)","v":0},{"$f":"SUMIF(BDD!$BC$2:$BC$3,\"Banc W+BFAUXVRAIFAUXFAUXVRAI\",BDD!$V$2:$V$3)","v":0}]
["Ressort verticale",{"$f":"SUMIF(BDD!$BC$2:$BC$3,\"Ressort verticaleVRAIFAUXVRAIFAUXFAUX\",BDD!$V$2:$V$3)","v":0},{"$f":"SUMIF(BDD!$BC$2:$BC$3,\"Ressort verticaleVRAIFAUXFAUXVRAIFAUX\",BDD!$V$2:$V$3)","v":0},{"$f":"SUMIF(BDD!$BC$2:$BC$3,\"Ressort verticaleVRAIFAUXFAUXFAUXVRAI\",BDD!$V$2:$V$3)","v":0},{"$f":"SUMIF(BDD!$BC$2:$BC$3,\"Ressort verticaleFAUXVRAIVRAIFAUXFAUX\",BDD!$V$2:$V$3)","v":0},{"$f":"SUMIF(BDD!$BC$2:$BC$3,\"Ressort verticaleFAUXVRAIFAUXVRAIFAUX\",BDD!$V$2:$V$3)","v":0},{"$f":"SUMIF(BDD!$BC$2:$BC$3,\"Ressort verticaleFAUXVRAIFAUXFAUXVRAI\",BDD!$V$2:$V$3)","v":0},{"$f":"SUMIF(BDD!$BC$2:$BC$3,\"Ressort verticaleVRAIFAUXVRAIFAUXFAUX\",BDD!$V$2:$V$3)","v":0},{"$f":"SUMIF(BDD!$BC$2:$BC$3,\"Ressort verticaleVRAIFAUXFAUXVRAIFAUX\",BDD!$V$2:$V$3)","v":0},{"$f":"SUMIF(BDD!$BC$2:$BC$3,\"Ressort verticaleVRAIFAUXFAUXFAUXVRAI\",BDD!$V$2:$V$3)","v":0},{"$f":"SUMIF(BDD!$BC$2:$BC$3,\"Ressort verticaleFAUXVRAIVRAIFAUXFAUX\",BDD!$V$2:$V$3)","v":0},{"$f":"SUMIF(BDD!$BC$2:$BC$3,\"Ressort verticaleFAUXVRAIFAUXVRAIFAUX\",BDD!$V$2:$V$3)","v":0},{"$f":"SUMIF(BDD!$BC$2:$BC$3,\"Ressort verticaleFAUXVRAIFAUXFAUXVRAI\",BDD!$V$2:$V$3)","v":0},{"$f":"SUMIF(BDD!$BC$2:$BC$683,\"Ressort verticaleVRAIFAUXVRAIFAUXFAUX\",BDD!$V$2:$V$683)","v":0},{"$f":"SUMIF(BDD!$BC$2:$BC$683,\"Ressort verticaleVRAIFAUXFAUXVRAIFAUX\",BDD!$V$2:$V$683)","v":0},{"$f":"SUMIF(BDD!$BC$2:$BC$683,\"Ressort verticaleVRAIFAUXFAUXFAUXVRAI\",BDD!$V$2:$V$683)","v":0},{"$f":"SUMIF(BDD!$BC$2:$BC$683,\"Ressort verticaleFAUXVRAIVRAIFAUXFAUX\",BDD!$V$2:$V$683)","v":0},{"$f":"SUMIF(BDD!$BC$2:$BC$683,\"Ressort verticaleFAUXVRAIFAUXVRAIFAUX\",BDD!$V$2:$V$683)","v":0},{"$f":"SUMIF(BDD!$BC$2:$BC$683,\"Ressort verticaleFAUXVRAIFAUXFAUXVRAI\",BDD!$V$2:$V$683)","v":0},{"$f":"SUMIF(BDD!$BC$2:$BC$3,\"Ressort verticaleVRAIFAUXVRAIFAUXFAUX\",BDD!$V$2:$V$3)","v":0},{"$f":"SUMIF(BDD!$BC$2:$BC$3,\"Ressort verticaleVRAIFAUXFAUXVRAIFAUX\",BDD!$V$2:$V$3)","v":0},{"$f":"SUMIF(BDD!$BC$2:$BC$3,\"Ressort verticaleVRAIFAUXFAUXFAUXVRAI\",BDD!$V$2:$V$3)","v":0},{"$f":"SUMIF(BDD!$BC$2:$BC$3,\"Ressort verticaleFAUXVRAIVRAIFAUXFAUX\",BDD!$V$2:$V$3)","v":0},{"$f":"SUMIF(BDD!$BC$2:$BC$3,\"Ressort verticaleFAUXVRAIFAUXVRAIFAUX\",BDD!$V$2:$V$3)","v":0},{"$f":"SUMIF(BDD!$BC$2:$BC$3,\"Ressort verticaleFAUXVRAIFAUXFAUXVRAI\",BDD!$V$2:$V$3)","v":0},{"$f":"SUMIF(BDD!$BC$2:$BC$3,\"Ressort verticaleVRAIFAUXVRAIFAUXFAUX\",BDD!$V$2:$V$3)","v":0},{"$f":"SUMIF(BDD!$BC$2:$BC$3,\"Ressort verticaleVRAIFAUXFAUXVRAIFAUX\",BDD!$V$2:$V$3)","v":0},{"$f":"SUMIF(BDD!$BC$2:$BC$3,\"Ressort verticaleVRAIFAUXFAUXFAUXVRAI\",BDD!$V$2:$V$3)","v":0},{"$f":"SUMIF(BDD!$BC$2:$BC$3,\"Ressort verticaleFAUXVRAIVRAIFAUXFAUX\",BDD!$V$2:$V$3)","v":0},{"$f":"SUMIF(BDD!$BC$2:$BC$3,\"Ressort verticaleFAUXVRAIFAUXVRAIFAUX\",BDD!$V$2:$V$3)","v":0},{"$f":"SUMIF(BDD!$BC$2:$BC$3,\"Ressort verticaleFAUXVRAIFAUXFAUXVRAI\",BDD!$V$2:$V$3)","v":0},{"$f":"SUMIF(BDD!$BC$2:$BC$3,\"Ressort verticaleVRAIFAUXVRAIFAUXFAUX\",BDD!$V$2:$V$3)","v":0},{"$f":"SUMIF(BDD!$BC$2:$BC$3,\"Ressort verticaleVRAIFAUXFAUXVRAIFAUX\",BDD!$V$2:$V$3)","v":0},{"$f":"SUMIF(BDD!$BC$2:$BC$3,\"Ressort verticaleVRAIFAUXFAUXFAUXVRAI\",BDD!$V$2:$V$3)","v":0},{"$f":"SUMIF(BDD!$BC$2:$BC$3,\"Ressort verticaleFAUXVRAIVRAIFAUXFAUX\",BDD!$V$2:$V$3)","v":0},{"$f":"SUMIF(BDD!$BC$2:$BC$3,\"Ressort verticaleFAUXVRAIFAUXVRAIFAUX\",BDD!$V$2:$V$3)","v":0},{"$f":"SUMIF(BDD!$BC$2:$BC$3,\"Ressort verticaleFAUXVRAIFAUXFAUXVRAI\",BDD!$V$2:$V$3)","v":0},{"$f":"SUMIF(BDD!$BC$2:$BC$3,\"Ressort verticaleVRAIFAUXVRAIFAUXFAUX\",BDD!$V$2:$V$3)","v":0},{"$f":"SUMIF(BDD!$BC$2:$BC$3,\"Ressort verticaleVRAIFAUXFAUXVRAIFAUX\",BDD!$V$2:$V$3)","v":0},{"$f":"SUMIF(BDD!$BC$2:$BC$3,\"Ressort verticaleVRAIFAUXFAUXFAUXVRAI\",BDD!$V$2:$V$3)","v":0},{"$f":"SUMIF(BDD!$BC$2:$BC$3,\"Ressort verticaleFAUXVRAIVRAIFAUXFAUX\",BDD!$V$2:$V$3)","v":0},{"$f":"SUMIF(BDD!$BC$2:$BC$3,\"Ressort verticaleFAUXVRAIFAUXVRAIFAUX\",BDD!$V$2:$V$3)","v":0},{"$f":"SUMIF(BDD!$BC$2:$BC$3,\"Ressort verticaleFAUXVRAIFAUXFAUXVRAI\",BDD!$V$2:$V$3)","v":0},{"$f":"SUMIF(BDD!$BC$2:$BC$3,\"Ressort verticaleVRAIFAUXVRAIFAUXFAUX\",BDD!$V$2:$V$3)","v":0},{"$f":"SUMIF(BDD!$BC$2:$BC$3,\"Ressort verticaleVRAIFAUXFAUXVRAIFAUX\",BDD!$V$2:$V$3)","v":0},{"$f":"SUMIF(BDD!$BC$2:$BC$3,\"Ressort verticaleVRAIFAUXFAUXFAUXVRAI\",BDD!$V$2:$V$3)","v":0},{"$f":"SUMIF(BDD!$BC$2:$BC$3,\"Ressort verticaleFAUXVRAIVRAIFAUXFAUX\",BDD!$V$2:$V$3)","v":0},{"$f":"SUMIF(BDD!$BC$2:$BC$3,\"Ressort verticaleFAUXVRAIFAUXVRAIFAUX\",BDD!$V$2:$V$3)","v":0},{"$f":"SUMIF(BDD!$BC$2:$BC$3,\"Ressort verticaleFAUXVRAIFAUXFAUXVRAI\",BDD!$V$2:$V$3)","v":0},{"$f":"SUMIF(BDD!$BC$2:$BC$3,\"Ressort verticaleVRAIFAUXVRAIFAUXFAUX\",BDD!$V$2:$V$3)","v":0},{"$f":"SUMIF(BDD!$BC$2:$BC$3,\"Ressort verticaleVRAIFAUXFAUXVRAIFAUX\",BDD!$V$2:$V$3)","v":0},{"$f":"SUMIF(BDD!$BC$2:$BC$3,\"Ressort verticaleVRAIFAUXFAUXFAUXVRAI\",BDD!$V$2:$V$3)","v":0},{"$f":"SUMIF(BDD!$BC$2:$BC$3,\"Ressort verticaleFAUXVRAIVRAIFAUXFAUX\",BDD!$V$2:$V$3)","v":0},{"$f":"SUMIF(BDD!$BC$2:$BC$3,\"Ressort verticaleFAUXVRAIFAUXVRAIFAUX\",BDD!$V$2:$V$3)","v":0},{"$f":"SUMIF(BDD!$BC$2:$BC$3,\"Ressort verticaleFAUXVRAIFAUXFAUXVRAI\",BDD!$V$2:$V$3)","v":0},{"$f":"SUMIF(BDD!$BC$2:$BC$3,\"Ressort verticaleVRAIFAUXVRAIFAUXFAUX\",BDD!$V$2:$V$3)","v":0},{"$f":"SUMIF(BDD!$BC$2:$BC$3,\"Ressort verticaleVRAIFAUXFAUXVRAIFAUX\",BDD!$V$2:$V$3)","v":0},{"$f":"SUMIF(BDD!$BC$2:$BC$3,\"Ressort verticaleVRAIFAUXFAUXFAUXVRAI\",BDD!$V$2:$V$3)","v":0},{"$f":"SUMIF(BDD!$BC$2:$BC$3,\"Ressort verticaleFAUXVRAIVRAIFAUXFAUX\",BDD!$V$2:$V$3)","v":0},{"$f":"SUMIF(BDD!$BC$2:$BC$3,\"Ressort verticaleFAUXVRAIFAUXVRAIFAUX\",BDD!$V$2:$V$3)","v":0},{"$f":"SUMIF(BDD!$BC$2:$BC$3,\"Ressort verticaleFAUXVRAIFAUXFAUXVRAI\",BDD!$V$2:$V$3)","v":0},{"$f":"SUMIF(BDD!$BC$2:$BC$3,\"Ressort verticaleVRAIFAUXVRAIFAUXFAUX\",BDD!$V$2:$V$3)","v":0},{"$f":"SUMIF(BDD!$BC$2:$BC$3,\"Ressort verticaleVRAIFAUXFAUXVRAIFAUX\",BDD!$V$2:$V$3)","v":0},{"$f":"SUMIF(BDD!$BC$2:$BC$3,\"Ressort verticaleVRAIFAUXFAUXFAUXVRAI\",BDD!$V$2:$V$3)","v":0},{"$f":"SUMIF(BDD!$BC$2:$BC$3,\"Ressort verticaleFAUXVRAIVRAIFAUXFAUX\",BDD!$V$2:$V$3)","v":0},{"$f":"SUMIF(BDD!$BC$2:$BC$3,\"Ressort verticaleFAUXVRAIFAUXVRAIFAUX\",BDD!$V$2:$V$3)","v":0},{"$f":"SUMIF(BDD!$BC$2:$BC$3,\"Ressort verticaleFAUXVRAIFAUXFAUXVRAI\",BDD!$V$2:$V$3)","v":0},{"$f":"SUMIF(BDD!$BC$2:$BC$3,\"Ressort verticaleVRAIFAUXVRAIFAUXFAUX\",BDD!$V$2:$V$3)","v":0},{"$f":"SUMIF(BDD!$BC$2:$BC$3,\"Ressort verticaleVRAIFAUXFAUXVRAIFAUX\",BDD!$V$2:$V$3)","v":0},{"$f":"SUMIF(BDD!$BC$2:$BC$3,\"Ressort verticaleVRAIFAUXFAUXFAUXVRAI\",BDD!$V$2:$V$3)","v":0},{"$f":"SUMIF(BDD!$BC$2:$BC$3,\"Ressort verticaleFAUXVRAIVRAIFAUXFAUX\",BDD!$V$2:$V$3)","v":0},{"$f":"SUMIF(BDD!$BC$2:$BC$3,\"Ressort verticaleFAUXVRAIFAUXVRAIFAUX\",BDD!$V$2:$V$3)","v":0},{"$f":"SUMIF(BDD!$BC$2:$BC$3,\"Ressort verticaleFAUXVRAIFAUXFAUXVRAI\",BDD!$V$2:$V$3)","v":0}]

{"sheet":"Indicateur Zone6","index":4,"n_rows":96,"n_cols":73,"rows_kept":96,"cut":false,"hidden":false,"merged":[[1,1,1,12],[31,1,31,12],[55,1,55,12],[56,1,56,2],[56,3,56,4],[56,5,56,6],[56,7,56,8],[56,9,56,10],[56,11,56,12],[56,23,56,24],[86,1,86,21],[87,1,87,6],[87,7,87,12],[87,13,87,18],[87,19,87,24],[56,13,56,14],[56,15,56,16],[56,17,56,18],[56,19,56,20],[56,21,56,22],[87,25,87,30],[87,31,87,36],[87,37,87,42],[87,43,87,48],[87,49,87,54],[87,55,87,60],[87,61,87,66],[87,67,87,72],[88,1,88,3],[88,4,88,6],[88,7,88,9],[88,10,88,12],[88,13,88,15],[88,16,88,18],[88,19,88,21],[88,22,88,24],[88,25,88,27],[88,28,88,30],[88,31,88,33],[88,34,88,36],[88,37,88,39],[88,40,88,42],[88,43,88,45],[88,46,88,48],[88,49,88,51],[88,52,88,54],[88,70,88,72],[88,55,88,57],[88,58,88,60],[88,61,88,63],[88,64,88,66],[88,67,88,69]]}
[]
[null,"Suivi des arrêts par banc"]
["Banc zone 6","Janvier","Février","Mars","Avril","Mai","Juin","Juillet","Août","Septembre","Octobre","Novembre","Décembre"]
["M73001 (Banc new P9)",{"$f":"SUMIF(BDD!$H$2:$H$3,'Indicateur Zone6'!$A4,BDD!$V$2:$V$3)","v":0},{"$f":"SUMIF(BDD!$H$2:$H$3,'Indicateur Zone6'!$A4,BDD!$V$2:$V$3)","v":0},{"$f":"SUMIF(BDD!$H$2:$H$683,'Indicateur Zone6'!$A$4,BDD!$V$2:$V$683)","v":0},{"$f":"SUMIF(BDD!$H$2:$H$3,'Indicateur Zone6'!$A4,BDD!$V$2:$V$3)","v":0},{"$f":"SUMIF(BDD!$H$2:$H$3,'Indicateur Zone6'!$A4,BDD!$V$2:$V$3)","v":0},{"$f":"SUMIF(BDD!$H$2:$H$3,'Indicateur Zone6'!$A4,BDD!$V$2:$V$3)","v":0},{"$f":"SUMIF(BDD!$H$2:$H$3,'Indicateur Zone6'!$A4,BDD!$V$2:$V$3)","v":0},{"$f":"SUMIF(BDD!$H$2:$H$3,'Indicateur Zone6'!$A4,BDD!$V$2:$V$3)","v":0},{"$f":"SUMIF(BDD!$H$2:$H$3,'Indicateur Zone6'!$A4,BDD!$V$2:$V$3)","v":0},{"$f":"SUMIF(BDD!$H$2:$H$3,'Indicateur Zone6'!$A4,BDD!$V$2:$V$3)","v":0},{"$f":"SUMIF(BDD!$H$2:$H$3,'Indicateur Zone6'!$A4,BDD!$V$2:$V$3)","v":0},{"$f":"SUMIF(BDD!$H$2:$H$3,'Indicateur Zone6'!$A4,BDD!$V$2:$V$3)","v":0}]
["Banc P1",{"$f":"SUMIF(BDD!$H$2:$H$3,'Indicateur Zone6'!$A5,BDD!$V$2:$V$3)","v":0},{"$f":"SUMIF(BDD!$H$2:$H$3,'Indicateur Zone6'!$A5,BDD!$V$2:$V$3)","v":0},{"$f":"SUMIF(BDD!$H$2:$H$683,'Indicateur Zone6'!$A$5,BDD!$V$2:$V$683)","v":0.02},{"$f":"SUMIF(BDD!$H$2:$H$3,'Indicateur Zone6'!$A5,BDD!$V$2:$V$3)","v":0},{"$f":"SUMIF(BDD!$H$2:$H$3,'Indicateur Zone6'!$A5,BDD!$V$2:$V$3)","v":0},{"$f":"SUMIF(BDD!$H$2:$H$3,'Indicateur Zone6'!$A5,BDD!$V$2:$V$3)","v":0},{"$f":"SUMIF(BDD!$H$2:$H$3,'Indicateur Zone6'!$A5,BDD!$V$2:$V$3)","v":0},{"$f":"SUMIF(BDD!$H$2:$H$3,'Indicateur Zone6'!$A5,BDD!$V$2:$V$3)","v":0},{"$f":"SUMIF(BDD!$H$2:$H$3,'Indicateur Zone6'!$A5,BDD!$V$2:$V$3)","v":0},{"$f":"SUMIF(BDD!$H$2:$H$3,'Indicateur Zone6'!$A5,BDD!$V$2:$V$3)","v":0},{"$f":"SUMIF(BDD!$H$2:$H$3,'Indicateur Zone6'!$A5,BDD!$V$2:$V$3)","v":0},{"$f":"SUMIF(BDD!$H$2:$H$3,'Indicateur Zone6'!$A5,BDD!$V$2:$V$3)","v":0}]
["Banc P2",{"$f":"SUMIF(BDD!$H$2:$H$3,'Indicateur Zone6'!$A6,BDD!$V$2:$V$3)","v":0},{"$f":"SUMIF(BDD!$H$2:$H$3,'Indicateur Zone6'!$A6,BDD!$V$2:$V$3)","v":0},{"$f":"SUMIF(BDD!$H$2:$H$683,'Indicateur Zone6'!$A$6,BDD!$V$2:$V$683)","v":0},{"$f":"SUMIF(BDD!$H$2:$H$3,'Indicateur Zone6'!$A6,BDD!$V$2:$V$3)","v":0},{"$f":"SUMIF(BDD!$H$2:$H$3,'Indicateur Zone6'!$A6,BDD!$V$2:$V$3)","v":0},{"$f":"SUMIF(BDD!$H$2:$H$3,'Indicateur Zone6'!$A6,BDD!$V$2:$V$3)","v":0},{"$f":"SUMIF(BDD!$H$2:$H$3,'Indicateur Zone6'!$A6,BDD!$V$2:$V$3)","v":0},{"$f":"SUMIF(BDD!$H$2:$H$3,'Indicateur Zone6'!$A6,BDD!$V$2:$V$3)","v":0},{"$f":"SUMIF(BDD!$H$2:$H$3,'Indicateur Zone6'!$A6,BDD!$V$2:$V$3)","v":0},{"$f":"SUMIF(BDD!$H$2:$H$3,'Indicateur Zone6'!$A6,BDD!$V$2:$V$3)","v":0},{"$f":"SUMIF(BDD!$H$2:$H$3,'Indicateur Zone6'!$A6,BDD!$V$2:$V$3)","v":0},{"$f":"SUMIF(BDD!$H$2:$H$3,'Indicateur Zone6'!$A6,BDD!$V$2:$V$3)","v":0}]
["Banc 156",{"$f":"SUMIF(BDD!$H$2:$H$3,'Indicateur Zone6'!$A7,BDD!$V$2:$V$3)","v":0},{"$f":"SUMIF(BDD!$H$2:$H$3,'Indicateur Zone6'!$A7,BDD!$V$2:$V$3)","v":0},{"$f":"SUMIF(BDD!$H$2:$H$683,'Indicateur Zone6'!$A$7,BDD!$V$2:$V$683)","v":0},{"$f":"SUMIF(BDD!$H$2:$H$3,'Indicateur Zone6'!$A7,BDD!$V$2:$V$3)","v":0},{"$f":"SUMIF(BDD!$H$2:$H$3,'Indicateur Zone6'!$A7,BDD!$V$2:$V$3)","v":0},{"$f":"SUMIF(BDD!$H$2:$H$3,'Indicateur Zone6'!$A7,BDD!$V$2:$V$3)","v":0},{"$f":"SUMIF(BDD!$H$2:$H$3,'Indicateur Zone6'!$A7,BDD!$V$2:$V$3)","v":0},{"$f":"SUMIF(BDD!$H$2:$H$3,'Indicateur Zone6'!$A7,BDD!$V$2:$V$3)","v":0},{"$f":"SUMIF(BDD!$H$2:$H$3,'Indicateur Zone6'!$A7,BDD!$V$2:$V$3)","v":0},{"$f":"SUMIF(BDD!$H$2:$H$3,'Indicateur Zone6'!$A7,BDD!$V$2:$V$3)","v":0},{"$f":"SUMIF(BDD!$H$2:$H$3,'Indicateur Zone6'!$A7,BDD!$V$2:$V$3)","v":0},{"$f":"SUMIF(BDD!$H$2:$H$3,'Indicateur Zone6'!$A7,BDD!$V$2:$V$3)","v":0}]
["Chambre Froide",{"$f":"SUMIF(BDD!$H$2:$H$3,'Indicateur Zone6'!$A8,BDD!$V$2:$V$3)","v":0},{"$f":"SUMIF(BDD!$H$2:$H$3,'Indicateur Zone6'!$A8,BDD!$V$2:$V$3)","v":0},{"$f":"SUMIF(BDD!$H$2:$H$683,'Indicateur Zone6'!$A$8,BDD!$V$2:$V$683)","v":0},{"$f":"SUMIF(BDD!$H$2:$H$3,'Indicateur Zone6'!$A8,BDD!$V$2:$V$3)","v":0},{"$f":"SUMIF(BDD!$H$2:$H$3,'Indicateur Zone6'!$A8,BDD!$V$2:$V$3)","v":0},{"$f":"SUMIF(BDD!$H$2:$H$3,'Indicateur Zone6'!$A8,BDD!$V$2:$V$3)","v":0},{"$f":"SUMIF(BDD!$H$2:$H$3,'Indicateur Zone6'!$A8,BDD!$V$2:$V$3)","v":0},{"$f":"SUMIF(BDD!$H$2:$H$3,'Indicateur Zone6'!$A8,BDD!$V$2:$V$3)","v":0},{"$f":"SUMIF(BDD!$H$2:$H$3,'Indicateur Zone6'!$A8,BDD!$V$2:$V$3)","v":0},{"$f":"SUMIF(BDD!$H$2:$H$3,'Indicateur Zone6'!$A8,BDD!$V$2:$V$3)","v":0},{"$f":"SUMIF(BDD!$H$2:$H$3,'Indicateur Zone6'!$A8,BDD!$V$2:$V$3)","v":0},{"$f":"SUMIF(BDD!$H$2:$H$3,'Indicateur Zone6'!$A8,BDD!$V$2:$V$3)","v":0}]
["Chambre Sourde",{"$f":"SUMIF(BDD!$H$2:$H$3,'Indicateur Zone6'!$A9,BDD!$V$2:$V$3)","v":0},{"$f":"SUMIF(BDD!$H$2:$H$3,'Indicateur Zone6'!$A9,BDD!$V$2:$V$3)","v":0},{"$f":"SUMIF(BDD!$H$2:$H$683,'Indicateur Zone6'!$A$9,BDD!$V$2:$V$683)","v":0},{"$f":"SUMIF(BDD!$H$2:$H$3,'Indicateur Zone6'!$A9,BDD!$V$2:$V$3)","v":0},{"$f":"SUMIF(BDD!$H$2:$H$3,'Indicateur Zone6'!$A9,BDD!$V$2:$V$3)","v":0},{"$f":"SUMIF(BDD!$H$2:$H$3,'Indicateur Zone6'!$A9,BDD!$V$2:$V$3)","v":0},{"$f":"SUMIF(BDD!$H$2:$H$3,'Indicateur Zone6'!$A9,BDD!$V$2:$V$3)","v":0},{"$f":"SUMIF(BDD!$H$2:$H$3,'Indicateur Zone6'!$A9,BDD!$V$2:$V$3)","v":0},{"$f":"SUMIF(BDD!$H$2:$H$3,'Indicateur Zone6'!$A9,BDD!$V$2:$V$3)","v":0},{"$f":"SUMIF(BDD!$H$2:$H$3,'Indicateur Zone6'!$A9,BDD!$V$2:$V$3)","v":0},{"$f":"SUMIF(BDD!$H$2:$H$3,'Indicateur Zone6'!$A9,BDD!$V$2:$V$3)","v":0},{"$f":"SUMIF(BDD!$H$2:$H$3,'Indicateur Zone6'!$A9,BDD!$V$2:$V$3)","v":0}]
[]
[]
[]
[]
[]
[]
[]
[]
[]
[]
[]
[]
[]
[]
[]
[]
[]
[]
[]
[]
[]
[]
[null,"Suivi du correctif et du préventif"]
["Type de maintenance","Janvier","Février","Mars","Avril","Mai","Juin","Juillet","Août","Septembre","Octobre","Novembre","Décembre"]
["Préventive",{"$f":"SUM(C59:C64)","v":0},{"$f":"SUM(E59:E64)","v":0},{"$f":"SUM(G59:G64)","v":0},{"$f":"SUM(I59:I64)","v":0},{"$f":"SUM(K59:K64)","v":0},{"$f":"SUM(M59:M64)","v":0},{"$f":"SUM(O59:O64)","v":0},{"$f":"SUM(Q59:Q64)","v":0},{"$f":"SUM(S59:S64)","v":0},{"$f":"SUM(U59:U64)","v":0},{"$f":"SUM(W59:W64)","v":0},{"$f":"SUM(Y59:Y64)","v":0}]
["Corrective",{"$f":"SUM(B59:B64)","v":0},{"$f":"SUM(D59:D64)","v":0},{"$f":"SUM(F59:F64)","v":0.02},{"$f":"SUM(H59:H64)","v":0},{"$f":"SUM(J59:J64)","v":0},{"$f":"SUM(L59:L64)","v":0},{"$f":"SUM(N59:N64)","v":0},{"$f":"SUM(N59:N64)","v":0},{"$f":"SUM(R59:R64)","v":0},{"$f":"SUM(T59:T64)","v":0},{"$f":"SUM(V59:V64)","v":0},{"$f":"SUM(X59:X64)","v":0}]
[]
[]
[]
[]
[]
[]
[]
[]
[]
[]
[]
[]
[]
[]
[]
[]
[]
[]
[]
[]
[null,"Suivi du correctif et du préventif par banc"]
[null,"Janvier",null,"Février",null,"Mars",null,"Avril",null,"Mai",null,"Juin",null,"Juillet",null,"Août",null,"Septembre",null,"Octobre",null,"Novembre",null,"Décembre"]
["Banc zone 6","Corrective","Préventive","Corrective","Préventive","Corrective","Préventive","Corrective","Préventive","Corrective","Préventive","Corrective","Préventive","Corrective","Préventive","Corrective","Préventive","Corrective","Préventive","Corrective","Préventive","Corrective","Préventive","Corrective","Préventive"]
["M73001 (Banc new P9)",{"$f":"SUMIF(BDD!$BB$2:$BB$3,\"M73001 (Banc new P9)VRAIFAUX\",BDD!$V$2:$V$3)","v":0},{"$f":"SUMIF(BDD!$BB$2:$BB$3,\"M73001 (Banc new P9)FAUXVRAI\",BDD!$V$2:$V$3)","v":0},{"$f":"SUMIF(BDD!$BB$2:$BB$3,\"M73001 (Banc new P9)VRAIFAUX\",BDD!$V$2:$V$3)","v":0},{"$f":"SUMIF(BDD!$BB$2:$BB$3,\"M73001 (Banc new P9)FAUXVRAI\",BDD!$V$2:$V$3)","v":0},{"$f":"SUMIF(BDD!$BB$2:$BB$683,\"M73001 (Banc new P9)VRAIFAUX\",BDD!$V$2:$V$683)","v":0},{"$f":"SUMIF(BDD!$BB$2:$BB$683,\"M73001 (Banc new P9)FAUXvrai\",BDD!$V$2:$V$683)","v":0},{"$f":"SUMIF(BDD!$BB$2:$BB$3,\"M73001 (Banc new P9)VRAIFAUX\",BDD!$V$2:$V$3)","v":0},{"$f":"SUMIF(BDD!$BB$2:$BB$3,\"M73001 (Banc new P9)FAUXVRAI\",BDD!$V$2:$V$3)","v":0},{"$f":"SUMIF(BDD!$BB$2:$BB$3,\"M73001 (Banc new P9)VRAIFAUX\",BDD!$V$2:$V$3)","v":0},{"$f":"SUMIF(BDD!$BB$2:$BB$3,\"M73001 (Banc new P9)FAUXVRAI\",BDD!$V$2:$V$3)","v":0},{"$f":"SUMIF(BDD!$BB$2:$BB$3,\"M73001 (Banc new P9)VRAIFAUX\",BDD!$V$2:$V$3)","v":0},{"$f":"SUMIF(BDD!$BB$2:$BB$3,\"M73001 (Banc new P9)FAUXVRAI\",BDD!$V$2:$V$3)","v":0},{"$f":"SUMIF(BDD!$BB$2:$BB$3,\"M73001 (Banc new P9)VRAIFAUX\",BDD!$V$2:$V$3)","v":0},{"$f":"SUMIF(BDD!$BB$2:$BB$3,\"M73001 (Banc new P9)FAUXVRAI\",BDD!$V$2:$V$3)","v":0},{"$f":"SUMIF(BDD!$BB$2:$BB$3,\"M73001 (Banc new P9)VRAIFAUX\",BDD!$V$2:$V$3)","v":0},{"$f":"SUMIF(BDD!$BB$2:$BB$3,\"M73001 (Banc new P9)FAUXVRAI\",BDD!$V$2:$V$3)","v":0},{"$f":"SUMIF(BDD!$BB$2:$BB$3,\"M73001 (Banc new P9)VRAIFAUX\",BDD!$V$2:$V$3)","v":0},{"$f":"SUMIF(BDD!$BB$2:$BB$3,\"M73001 (Banc new P9)FAUXVRAI\",BDD!$V$2:$V$3)","v":0},{"$f":"SUMIF(BDD!$BB$2:$BB$3,\"M73001 (Banc new P9)VRAIFAUX\",BDD!$V$2:$V$3)","v":0},{"$f":"SUMIF(BDD!$BB$2:$BB$3,\"M73001 (Banc new P9)FAUXVRAI\",BDD!$V$2:$V$3)","v":0},{"$f":"SUMIF(BDD!$BB$2:$BB$3,\"M73001 (Banc new P9)VRAIFAUX\",BDD!$V$2:$V$3)","v":0},{"$f":"SUMIF(BDD!$BB$2:$BB$3,\"M73001 (Banc new P9)FAUXVRAI\",BDD!$V$2:$V$3)","v":0},{"$f":"SUMIF(BDD!$BB$2:$BB$3,\"M73001 (Banc new P9)VRAIFAUX\",BDD!$V$2:$V$3)","v":0},{"$f":"SUMIF(BDD!$BB$2:$BB$3,\"M73001 (Banc new P9)FAUXVRAI\",BDD!$V$2:$V$3)","v":0}]
["Banc P1",{"$f":"SUMIF(BDD!$BB$2:$BB$3,\"Banc P1VRAIFAUX\",BDD!$V$2:$V$3)","v":0},{"$f":"SUMIF(BDD!$BB$2:$BB$3,\"Banc P1FAUXVRAI\",BDD!$V$2:$V$3)","v":0},{"$f":"SUMIF(BDD!$BB$2:$BB$3,\"Banc P1VRAIFAUX\",BDD!$V$2:$V$3)","v":0},{"$f":"SUMIF(BDD!$BB$2:$BB$3,\"Banc P1FAUXVRAI\",BDD!$V$2:$V$3)","v":0},{"$f":"SUMIF(BDD!$BB$2:$BB$683,\"Banc P1VRAIFAUX\",BDD!$V$2:$V$683)","v":0.02},{"$f":"SUMIF(BDD!$BB$2:$BB$683,\"Banc P1FAUXVRAI\",BDD!$V$2:$V$683)","v":0},{"$f":"SUMIF(BDD!$BB$2:$BB$3,\"Banc P1VRAIFAUX\",BDD!$V$2:$V$3)","v":0},{"$f":"SUMIF(BDD!$BB$2:$BB$3,\"Banc P1FAUXVRAI\",BDD!$V$2:$V$3)","v":0},{"$f":"SUMIF(BDD!$BB$2:$BB$3,\"Banc P1VRAIFAUX\",BDD!$V$2:$V$3)","v":0},{"$f":"SUMIF(BDD!$BB$2:$BB$3,\"Banc P1FAUXVRAI\",BDD!$V$2:$V$3)","v":0},{"$f":"SUMIF(BDD!$BB$2:$BB$3,\"Banc P1VRAIFAUX\",BDD!$V$2:$V$3)","v":0},{"$f":"SUMIF(BDD!$BB$2:$BB$3,\"Banc P1FAUXVRAI\",BDD!$V$2:$V$3)","v":0},{"$f":"SUMIF(BDD!$BB$2:$BB$3,\"Banc P1VRAIFAUX\",BDD!$V$2:$V$3)","v":0},{"$f":"SUMIF(BDD!$BB$2:$BB$3,\"Banc P1FAUXVRAI\",BDD!$V$2:$V$3)","v":0},{"$f":"SUMIF(BDD!$BB$2:$BB$3,\"Banc P1VRAIFAUX\",BDD!$V$2:$V$3)","v":0},{"$f":"SUMIF(BDD!$BB$2:$BB$3,\"Banc P1FAUXVRAI\",BDD!$V$2:$V$3)","v":0},{"$f":"SUMIF(BDD!$BB$2:$BB$3,\"Banc P1VRAIFAUX\",BDD!$V$2:$V$3)","v":0},{"$f":"SUMIF(BDD!$BB$2:$BB$3,\"Banc P1FAUXVRAI\",BDD!$V$2:$V$3)","v":0},{"$f":"SUMIF(BDD!$BB$2:$BB$3,\"Banc P1VRAIFAUX\",BDD!$V$2:$V$3)","v":0},{"$f":"SUMIF(BDD!$BB$2:$BB$3,\"Banc P1FAUXVRAI\",BDD!$V$2:$V$3)","v":0},{"$f":"SUMIF(BDD!$BB$2:$BB$3,\"Banc P1VRAIFAUX\",BDD!$V$2:$V$3)","v":0},{"$f":"SUMIF(BDD!$BB$2:$BB$3,\"Banc P1FAUXVRAI\",BDD!$V$2:$V$3)","v":0},{"$f":"SUMIF(BDD!$BB$2:$BB$3,\"Banc P1VRAIFAUX\",BDD!$V$2:$V$3)","v":0},{"$f":"SUMIF(BDD!$BB$2:$BB$3,\"Banc P1FAUXVRAI\",BDD!$V$2:$V$3)","v":0}]
["Banc P2",{"$f":"SUMIF(BDD!$BB$2:$BB$683,\"Banc P2VRAIFAUX\",BDD!$V$2:$V$683)","v":0},{"$f":"SUMIF(BDD!$BB$2:$BB$3,\"Banc P2FAUXVRAI\",BDD!$V$2:$V$3)","v":0},{"$f":"SUMIF(BDD!$BB$2:$BB$683,\"Banc P2VRAIFAUX\",BDD!$V$2:$V$683)","v":0},{"$f":"SUMIF(BDD!$BB$2:$BB$3,\"Banc P2FAUXVRAI\",BDD!$V$2:$V$3)","v":0},{"$f":"SUMIF(BDD!$BB$2:$BB$683,\"Banc P2VRAIFAUX\",BDD!$V$2:$V$683)","v":0},{"$f":"SUMIF(BDD!$BB$2:$BB$683,\"Banc P2FAUXVRAI\",BDD!$V$2:$V$683)","v":0},{"$f":"SUMIF(BDD!$BB$2:$BB$683,\"Banc P2VRAIFAUX\",BDD!$V$2:$V$683)","v":0},{"$f":"SUMIF(BDD!$BB$2:$BB$3,\"Banc P2FAUXVRAI\",BDD!$V$2:$V$3)","v":0},{"$f":"SUMIF(BDD!$BB$2:$BB$683,\"Banc P2VRAIFAUX\",BDD!$V$2:$V$683)","v":0},{"$f":"SUMIF(BDD!$BB$2:$BB$3,\"Banc P2FAUXVRAI\",BDD!$V$2:$V$3)","v":0},{"$f":"SUMIF(BDD!$BB$2:$BB$683,\"Banc P2VRAIFAUX\",BDD!$V$2:$V$683)","v":0},{"$f":"SUMIF(BDD!$BB$2:$BB$3,\"Banc P2FAUXVRAI\",BDD!$V$2:$V$3)","v":0},{"$f":"SUMIF(BDD!$BB$2:$BB$683,\"Banc P2VRAIFAUX\",BDD!$V$2:$V$683)","v":0},{"$f":"SUMIF(BDD!$BB$2:$BB$3,\"Banc P2FAUXVRAI\",BDD!$V$2:$V$3)","v":0},{"$f":"SUMIF(BDD!$BB$2:$BB$683,\"Banc P2VRAIFAUX\",BDD!$V$2:$V$683)","v":0},{"$f":"SUMIF(BDD!$BB$2:$BB$3,\"Banc P2FAUXVRAI\",BDD!$V$2:$V$3)","v":0},{"$f":"SUMIF(BDD!$BB$2:$BB$683,\"Banc P2VRAIFAUX\",BDD!$V$2:$V$683)","v":0},{"$f":"SUMIF(BDD!$BB$2:$BB$3,\"Banc P2FAUXVRAI\",BDD!$V$2:$V$3)","v":0},{"$f":"SUMIF(BDD!$BB$2:$BB$683,\"Banc P2VRAIFAUX\",BDD!$V$2:$V$683)","v":0},{"$f":"SUMIF(BDD!$BB$2:$BB$3,\"Banc P2FAUXVRAI\",BDD!$V$2:$V$3)","v":0},{"$f":"SUMIF(BDD!$BB$2:$BB$683,\"Banc P2VRAIFAUX\",BDD!$V$2:$V$683)","v":0},{"$f":"SUMIF(BDD!$BB$2:$BB$3,\"Banc P2FAUXVRAI\",BDD!$V$2:$V$3)","v":0},{"$f":"SUMIF(BDD!$BB$2:$BB$683,\"Banc P2VRAIFAUX\",BDD!$V$2:$V$683)","v":0},{"$f":"SUMIF(BDD!$BB$2:$BB$3,\"Banc P2FAUXVRAI\",BDD!$V$2:$V$3)","v":0}]
["Banc 156",{"$f":"SUMIF(BDD!$BB$2:$BB$3,\"Banc 156VRAIFAUX\",BDD!$V$2:$V$3)","v":0},{"$f":"SUMIF(BDD!$BB$2:$BB$3,\"Banc 156FAUXVRAI\",BDD!$V$2:$V$3)","v":0},{"$f":"SUMIF(BDD!$BB$2:$BB$3,\"Banc 156VRAIFAUX\",BDD!$V$2:$V$3)","v":0},{"$f":"SUMIF(BDD!$BB$2:$BB$3,\"Banc 156FAUXVRAI\",BDD!$V$2:$V$3)","v":0},{"$f":"SUMIF(BDD!$BB$2:$BB$683,\"Banc 156VRAIFAUX\",BDD!$V$2:$V$683)","v":0},{"$f":"SUMIF(BDD!$BB$2:$BB$683,\"Banc 156FAUXVRAI\",BDD!$V$2:$V$683)","v":0},{"$f":"SUMIF(BDD!$BB$2:$BB$3,\"Banc 156VRAIFAUX\",BDD!$V$2:$V$3)","v":0},{"$f":"SUMIF(BDD!$BB$2:$BB$3,\"Banc 156FAUXVRAI\",BDD!$V$2:$V$3)","v":0},{"$f":"SUMIF(BDD!$BB$2:$BB$3,\"Banc 156VRAIFAUX\",BDD!$V$2:$V$3)","v":0},{"$f":"SUMIF(BDD!$BB$2:$BB$3,\"Banc 156FAUXVRAI\",BDD!$V$2:$V$3)","v":0},{"$f":"SUMIF(BDD!$BB$2:$BB$3,\"Banc 156VRAIFAUX\",BDD!$V$2:$V$3)","v":0},{"$f":"SUMIF(BDD!$BB$2:$BB$3,\"Banc 156FAUXVRAI\",BDD!$V$2:$V$3)","v":0},{"$f":"SUMIF(BDD!$BB$2:$BB$3,\"Banc 156VRAIFAUX\",BDD!$V$2:$V$3)","v":0},{"$f":"SUMIF(BDD!$BB$2:$BB$3,\"Banc 156FAUXVRAI\",BDD!$V$2:$V$3)","v":0},{"$f":"SUMIF(BDD!$BB$2:$BB$3,\"Banc 156VRAIFAUX\",BDD!$V$2:$V$3)","v":0},{"$f":"SUMIF(BDD!$BB$2:$BB$3,\"Banc 156FAUXVRAI\",BDD!$V$2:$V$3)","v":0},{"$f":"SUMIF(BDD!$BB$2:$BB$3,\"Banc 156VRAIFAUX\",BDD!$V$2:$V$3)","v":0},{"$f":"SUMIF(BDD!$BB$2:$BB$3,\"Banc 156FAUXVRAI\",BDD!$V$2:$V$3)","v":0},{"$f":"SUMIF(BDD!$BB$2:$BB$3,\"Banc 156VRAIFAUX\",BDD!$V$2:$V$3)","v":0},{"$f":"SUMIF(BDD!$BB$2:$BB$3,\"Banc 156FAUXVRAI\",BDD!$V$2:$V$3)","v":0},{"$f":"SUMIF(BDD!$BB$2:$BB$3,\"Banc 156VRAIFAUX\",BDD!$V$2:$V$3)","v":0},{"$f":"SUMIF(BDD!$BB$2:$BB$3,\"Banc 156FAUXVRAI\",BDD!$V$2:$V$3)","v":0},{"$f":"SUMIF(BDD!$BB$2:$BB$3,\"Banc 156VRAIFAUX\",BDD!$V$2:$V$3)","v":0},{"$f":"SUMIF(BDD!$BB$2:$BB$3,\"Banc 156FAUXVRAI\",BDD!$V$2:$V$3)","v":0}]
["Chambre Froide",{"$f":"SUMIF(BDD!$BB$2:$BB$3,\"Chambre FroideVRAIFAUX\",BDD!$V$2:$V$3)","v":0},{"$f":"SUMIF(BDD!$BB$2:$BB$3,\"Chambre FroideFAUXVRAI\",BDD!$V$2:$V$3)","v":0},{"$f":"SUMIF(BDD!$BB$2:$BB$3,\"Chambre FroideVRAIFAUX\",BDD!$V$2:$V$3)","v":0},{"$f":"SUMIF(BDD!$BB$2:$BB$3,\"Chambre FroideFAUXVRAI\",BDD!$V$2:$V$3)","v":0},{"$f":"SUMIF(BDD!$BB$2:$BB$683,\"Chambre FroideVRAIFAUX\",BDD!$V$2:$V$683)","v":0},{"$f":"SUMIF(BDD!$BB$2:$BB$683,\"Chambre FroideFAUXVRAI\",BDD!$V$2:$V$683)","v":0},{"$f":"SUMIF(BDD!$BB$2:$BB$3,\"Chambre FroideVRAIFAUX\",BDD!$V$2:$V$3)","v":0},{"$f":"SUMIF(BDD!$BB$2:$BB$3,\"Chambre FroideFAUXVRAI\",BDD!$V$2:$V$3)","v":0},{"$f":"SUMIF(BDD!$BB$2:$BB$3,\"Chambre FroideVRAIFAUX\",BDD!$V$2:$V$3)","v":0},{"$f":"SUMIF(BDD!$BB$2:$BB$3,\"Chambre FroideFAUXVRAI\",BDD!$V$2:$V$3)","v":0},{"$f":"SUMIF(BDD!$BB$2:$BB$3,\"Chambre FroideVRAIFAUX\",BDD!$V$2:$V$3)","v":0},{"$f":"SUMIF(BDD!$BB$2:$BB$3,\"Chambre FroideFAUXVRAI\",BDD!$V$2:$V$3)","v":0},{"$f":"SUMIF(BDD!$BB$2:$BB$3,\"Chambre FroideVRAIFAUX\",BDD!$V$2:$V$3)","v":0},{"$f":"SUMIF(BDD!$BB$2:$BB$3,\"Chambre FroideFAUXVRAI\",BDD!$V$2:$V$3)","v":0},{"$f":"SUMIF(BDD!$BB$2:$BB$3,\"Chambre FroideVRAIFAUX\",BDD!$V$2:$V$3)","v":0},{"$f":"SUMIF(BDD!$BB$2:$BB$3,\"Chambre FroideFAUXVRAI\",BDD!$V$2:$V$3)","v":0},{"$f":"SUMIF(BDD!$BB$2:$BB$3,\"Chambre FroideVRAIFAUX\",BDD!$V$2:$V$3)","v":0},{"$f":"SUMIF(BDD!$BB$2:$BB$3,\"Chambre FroideFAUXVRAI\",BDD!$V$2:$V$3)","v":0},{"$f":"SUMIF(BDD!$BB$2:$BB$3,\"Chambre FroideVRAIFAUX\",BDD!$V$2:$V$3)","v":0},{"$f":"SUMIF(BDD!$BB$2:$BB$3,\"Chambre FroideFAUXVRAI\",BDD!$V$2:$V$3)","v":0},{"$f":"SUMIF(BDD!$BB$2:$BB$3,\"Chambre FroideVRAIFAUX\",BDD!$V$2:$V$3)","v":0},{"$f":"SUMIF(BDD!$BB$2:$BB$3,\"Chambre FroideFAUXVRAI\",BDD!$V$2:$V$3)","v":0},{"$f":"SUMIF(BDD!$BB$2:$BB$3,\"Chambre FroideVRAIFAUX\",BDD!$V$2:$V$3)","v":0},{"$f":"SUMIF(BDD!$BB$2:$BB$3,\"Chambre FroideFAUXVRAI\",BDD!$V$2:$V$3)","v":0}]
["Chambre Sourde",{"$f":"SUMIF(BDD!$BB$2:$BB$3,\"Chambre SourdeVRAIFAUX\",BDD!$V$2:$V$3)","v":0},{"$f":"SUMIF(BDD!$BB$2:$BB$3,\"Chambre SourdeFAUXVRAI\",BDD!$V$2:$V$3)","v":0},{"$f":"SUMIF(BDD!$BB$2:$BB$3,\"Chambre SourdeVRAIFAUX\",BDD!$V$2:$V$3)","v":0},{"$f":"SUMIF(BDD!$BB$2:$BB$3,\"Chambre SourdeFAUXVRAI\",BDD!$V$2:$V$3)","v":0},{"$f":"SUMIF(BDD!$BB$2:$BB$683,\"Chambre SourdeVRAIFAUX\",BDD!$V$2:$V$683)","v":0},{"$f":"SUMIF(BDD!$BB$2:$BB$683,\"Chambre SourdeFAUXVRAI\",BDD!$V$2:$V$683)","v":0},{"$f":"SUMIF(BDD!$BB$2:$BB$3,\"Chambre SourdeVRAIFAUX\",BDD!$V$2:$V$3)","v":0},{"$f":"SUMIF(BDD!$BB$2:$BB$3,\"Chambre SourdeFAUXVRAI\",BDD!$V$2:$V$3)","v":0},{"$f":"SUMIF(BDD!$BB$2:$BB$3,\"Chambre SourdeVRAIFAUX\",BDD!$V$2:$V$3)","v":0},{"$f":"SUMIF(BDD!$BB$2:$BB$3,\"Chambre SourdeFAUXVRAI\",BDD!$V$2:$V$3)","v":0},{"$f":"SUMIF(BDD!$BB$2:$BB$3,\"Chambre SourdeVRAIFAUX\",BDD!$V$2:$V$3)","v":0},{"$f":"SUMIF(BDD!$BB$2:$BB$3,\"Chambre SourdeFAUXVRAI\",BDD!$V$2:$V$3)","v":0},{"$f":"SUMIF(BDD!$BB$2:$BB$3,\"Chambre SourdeVRAIFAUX\",BDD!$V$2:$V$3)","v":0},{"$f":"SUMIF(BDD!$BB$2:$BB$3,\"Chambre SourdeFAUXVRAI\",BDD!$V$2:$V$3)","v":0},{"$f":"SUMIF(BDD!$BB$2:$BB$3,\"Chambre SourdeVRAIFAUX\",BDD!$V$2:$V$3)","v":0},{"$f":"SUMIF(BDD!$BB$2:$BB$3,\"Chambre SourdeFAUXVRAI\",BDD!$V$2:$V$3)","v":0},{"$f":"SUMIF(BDD!$BB$2:$BB$3,\"Chambre SourdeVRAIFAUX\",BDD!$V$2:$V$3)","v":0},{"$f":"SUMIF(BDD!$BB$2:$BB$3,\"Chambre SourdeFAUXVRAI\",BDD!$V$2:$V$3)","v":0},{"$f":"SUMIF(BDD!$BB$2:$BB$3,\"Chambre SourdeVRAIFAUX\",BDD!$V$2:$V$3)","v":0},{"$f":"SUMIF(BDD!$BB$2:$BB$3,\"Chambre SourdeFAUXVRAI\",BDD!$V$2:$V$3)","v":0},{"$f":"SUMIF(BDD!$BB$2:$BB$3,\"Chambre SourdeVRAIFAUX\",BDD!$V$2:$V$3)","v":0},{"$f":"SUMIF(BDD!$BB$2:$BB$3,\"Chambre SourdeFAUXVRAI\",BDD!$V$2:$V$3)","v":0},{"$f":"SUMIF(BDD!$BB$2:$BB$3,\"Chambre SourdeVRAIFAUX\",BDD!$V$2:$V$3)","v":0},{"$f":"SUMIF(BDD!$BB$2:$BB$3,\"Chambre SourdeFAUXVRAI\",BDD!$V$2:$V$3)","v":0}]
[]
[]
[]
[]
[]
[]
[]
[]
[]
[]
[]
[]
[]
[]
[]
[]
[]
[]
[]
[]
[]
[]
[null,"Suivi du correctif et du préventif par banc"]
[null,"Janvier",null,null,null,null,null,"Février",null,null,null,null,null,"Mars",null,null,null,null,null,"Avril",null,null,null,null,null,"Mai",null,null,null,null,null,"Juin",null,null,null,null,null,"Juillet",null,null,null,null,null,"Août",null,null,null,null,null,"Septembre",null,null,null,null,null,"Octobre",null,null,null,null,null,"Novembre",null,null,null,null,null,"Décembre"]
[null,"Corrective",null,null,"Préventive",null,null,"Corrective",null,null,"Préventive",null,null,"Corrective",null,null,"Préventive",null,null,"Corrective",null,null,"Préventive",null,null,"Corrective",null,null,"Préventive",null,null,"Corrective",null,null,"Préventive",null,null,"Corrective",null,null,"Préventive",null,null,"Corrective",null,null,"Préventive",null,null,"Corrective",null,null,"Préventive",null,null,"Corrective",null,null,"Préventive",null,null,"Corrective",null,null,"Préventive",null,null,"Corrective",null,null,"Préventive"]
["Banc zone 6","Electrique","Mécanique","Hydraulique","Electrique","Mécanique","Hydraulique","Electrique","Mécanique","Hydraulique","Electrique","Mécanique","Hydraulique","Electrique","Mécanique","Hydraulique","Electrique","Mécanique","Hydraulique","Electrique","Mécanique","Hydraulique","Electrique","Mécanique","Hydraulique","Electrique","Mécanique","Hydraulique","Electrique","Mécanique","Hydraulique","Electrique","Mécanique","Hydraulique","Electrique","Mécanique","Hydraulique","Electrique","Mécanique","Hydraulique","Electrique","Mécanique","Hydraulique","Electrique","Mécanique","Hydraulique","Electrique","Mécanique","Hydraulique","Electrique","Mécanique","Hydraulique","Electrique","Mécanique","Hydraulique","Electrique","Mécanique","Hydraulique","Electrique","Mécanique","Hydraulique","Electrique","Mécanique","Hydraulique","Electrique","Mécanique","Hydraulique","Electrique","Mécanique","Hydraulique","Electrique","Mécanique","Hydraulique"]
["M73001 (Banc new P9)",{"$f":"SUMIF(BDD!$BC$2:$BC$3,\"M73001 (Banc new P9)VRAIFAUXVRAIFAUXFAUX\",BDD!$V$2:$V$3)","v":0},{"$f":"SUMIF(BDD!$BC$2:$BC$3,\"M73001 (Banc new P9)VRAIFAUXFAUXVRAIFAUX\",BDD!$V$2:$V$3)","v":0},{"$f":"SUMIF(BDD!$BC$2:$BC$3,\"M73001 (Banc new P9)VRAIFAUXFAUXFAUXVRAI\",BDD!$V$2:$V$3)","v":0},{"$f":"SUMIF(BDD!$BC$2:$BC$3,\"M73001 (Banc new P9)FAUXVRAIVRAIFAUXFAUX\",BDD!$V$2:$V$3)","v":0},{"$f":"SUMIF(BDD!$BC$2:$BC$3,\"M73001 (Banc new P9)FAUXVRAIFAUXVRAIFAUX\",BDD!$V$2:$V$3)","v":0},{"$f":"SUMIF(BDD!$BC$2:$BC$3,\"M73001 (Banc new P9)FAUXVRAIFAUXFAUXVRAI\",BDD!$V$2:$V$3)","v":0},{"$f":"SUMIF(BDD!$BC$2:$BC$3,\"M73001 (Banc new P9)VRAIFAUXVRAIFAUXFAUX\",BDD!$V$2:$V$3)","v":0},{"$f":"SUMIF(BDD!$BC$2:$BC$3,\"M73001 (Banc new P9)VRAIFAUXFAUXVRAIFAUX\",BDD!$V$2:$V$3)","v":0},{"$f":"SUMIF(BDD!$BC$2:$BC$3,\"M73001 (Banc new P9)VRAIFAUXFAUXFAUXVRAI\",BDD!$V$2:$V$3)","v":0},{"$f":"SUMIF(BDD!$BC$2:$BC$3,\"M73001 (Banc new P9)FAUXVRAIVRAIFAUXFAUX\",BDD!$V$2:$V$3)","v":0},{"$f":"SUMIF(BDD!$BC$2:$BC$3,\"M73001 (Banc new P9)FAUXVRAIFAUXVRAIFAUX\",BDD!$V$2:$V$3)","v":0},{"$f":"SUMIF(BDD!$BC$2:$BC$3,\"M73001 (Banc new P9)FAUXVRAIFAUXFAUXVRAI\",BDD!$V$2:$V$3)","v":0},{"$f":"SUMIF(BDD!$BC$2:$BC$683,\"M73001 (Banc new P9)VRAIFAUXVRAIFAUXFAUX\",BDD!$V$2:$V$683)","v":0},{"$f":"SUMIF(BDD!$BC$2:$BC$683,\"M73001 (Banc new P9)VRAIFAUXFAUXVRAIFAUX\",BDD!$V$2:$V$683)","v":0},{"$f":"SUMIF(BDD!$BC$2:$BC$683,\"M73001 (Banc new P9)VRAIFAUXFAUXFAUXVRAI\",BDD!$V$2:$V$683)","v":0},{"$f":"SUMIF(BDD!$BC$2:$BC$683,\"M73001 (Banc new P9)FAUXVRAIVRAIFAUXFAUX\",BDD!$V$2:$V$683)","v":0},{"$f":"SUMIF(BDD!$BC$2:$BC$683,\"M73001 (Banc new P9)FAUXVRAIFAUXVRAIFAUX\",BDD!$V$2:$V$683)","v":0},{"$f":"SUMIF(BDD!$BC$2:$BC$683,\"M73001 (Banc new P9)FAUXVRAIFAUXFAUXVRAI\",BDD!$V$2:$V$683)","v":0},{"$f":"SUMIF(BDD!$BC$2:$BC$3,\"M73001 (Banc new P9)VRAIFAUXVRAIFAUXFAUX\",BDD!$V$2:$V$3)","v":0},{"$f":"SUMIF(BDD!$BC$2:$BC$3,\"M73001 (Banc new P9)VRAIFAUXFAUXVRAIFAUX\",BDD!$V$2:$V$3)","v":0},{"$f":"SUMIF(BDD!$BC$2:$BC$3,\"M73001 (Banc new P9)VRAIFAUXFAUXFAUXVRAI\",BDD!$V$2:$V$3)","v":0},{"$f":"SUMIF(BDD!$BC$2:$BC$3,\"M73001 (Banc new P9)FAUXVRAIVRAIFAUXFAUX\",BDD!$V$2:$V$3)","v":0},{"$f":"SUMIF(BDD!$BC$2:$BC$3,\"M73001 (Banc new P9)FAUXVRAIFAUXVRAIFAUX\",BDD!$V$2:$V$3)","v":0},{"$f":"SUMIF(BDD!$BC$2:$BC$3,\"M73001 (Banc new P9)FAUXVRAIFAUXFAUXVRAI\",BDD!$V$2:$V$3)","v":0},{"$f":"SUMIF(BDD!$BC$2:$BC$3,\"M73001 (Banc new P9)VRAIFAUXVRAIFAUXFAUX\",BDD!$V$2:$V$3)","v":0},{"$f":"SUMIF(BDD!$BC$2:$BC$3,\"M73001 (Banc new P9)VRAIFAUXFAUXVRAIFAUX\",BDD!$V$2:$V$3)","v":0},{"$f":"SUMIF(BDD!$BC$2:$BC$3,\"M73001 (Banc new P9)VRAIFAUXFAUXFAUXVRAI\",BDD!$V$2:$V$3)","v":0},{"$f":"SUMIF(BDD!$BC$2:$BC$3,\"M73001 (Banc new P9)FAUXVRAIVRAIFAUXFAUX\",BDD!$V$2:$V$3)","v":0},{"$f":"SUMIF(BDD!$BC$2:$BC$3,\"M73001 (Banc new P9)FAUXVRAIFAUXVRAIFAUX\",BDD!$V$2:$V$3)","v":0},{"$f":"SUMIF(BDD!$BC$2:$BC$3,\"M73001 (Banc new P9)FAUXVRAIFAUXFAUXVRAI\",BDD!$V$2:$V$3)","v":0},{"$f":"SUMIF(BDD!$BC$2:$BC$3,\"M73001 (Banc new P9)VRAIFAUXVRAIFAUXFAUX\",BDD!$V$2:$V$3)","v":0},{"$f":"SUMIF(BDD!$BC$2:$BC$3,\"M73001 (Banc new P9)VRAIFAUXFAUXVRAIFAUX\",BDD!$V$2:$V$3)","v":0},{"$f":"SUMIF(BDD!$BC$2:$BC$3,\"M73001 (Banc new P9)VRAIFAUXFAUXFAUXVRAI\",BDD!$V$2:$V$3)","v":0},{"$f":"SUMIF(BDD!$BC$2:$BC$3,\"M73001 (Banc new P9)FAUXVRAIVRAIFAUXFAUX\",BDD!$V$2:$V$3)","v":0},{"$f":"SUMIF(BDD!$BC$2:$BC$3,\"M73001 (Banc new P9)FAUXVRAIFAUXVRAIFAUX\",BDD!$V$2:$V$3)","v":0},{"$f":"SUMIF(BDD!$BC$2:$BC$3,\"M73001 (Banc new P9)FAUXVRAIFAUXFAUXVRAI\",BDD!$V$2:$V$3)","v":0},{"$f":"SUMIF(BDD!$BC$2:$BC$3,\"M73001 (Banc new P9)VRAIFAUXVRAIFAUXFAUX\",BDD!$V$2:$V$3)","v":0},{"$f":"SUMIF(BDD!$BC$2:$BC$3,\"M73001 (Banc new P9)VRAIFAUXFAUXVRAIFAUX\",BDD!$V$2:$V$3)","v":0},{"$f":"SUMIF(BDD!$BC$2:$BC$3,\"M73001 (Banc new P9)VRAIFAUXFAUXFAUXVRAI\",BDD!$V$2:$V$3)","v":0},{"$f":"SUMIF(BDD!$BC$2:$BC$3,\"M73001 (Banc new P9)FAUXVRAIVRAIFAUXFAUX\",BDD!$V$2:$V$3)","v":0},{"$f":"SUMIF(BDD!$BC$2:$BC$3,\"M73001 (Banc new P9)FAUXVRAIFAUXVRAIFAUX\",BDD!$V$2:$V$3)","v":0},{"$f":"SUMIF(BDD!$BC$2:$BC$3,\"M73001 (Banc new P9)FAUXVRAIFAUXFAUXVRAI\",BDD!$V$2:$V$3)","v":0},{"$f":"SUMIF(BDD!$BC$2:$BC$3,\"M73001 (Banc new P9)VRAIFAUXVRAIFAUXFAUX\",BDD!$V$2:$V$3)","v":0},{"$f":"SUMIF(BDD!$BC$2:$BC$3,\"M73001 (Banc new P9)VRAIFAUXFAUXVRAIFAUX\",BDD!$V$2:$V$3)","v":0},{"$f":"SUMIF(BDD!$BC$2:$BC$3,\"M73001 (Banc new P9)VRAIFAUXFAUXFAUXVRAI\",BDD!$V$2:$V$3)","v":0},{"$f":"SUMIF(BDD!$BC$2:$BC$3,\"M73001 (Banc new P9)FAUXVRAIVRAIFAUXFAUX\",BDD!$V$2:$V$3)","v":0},{"$f":"SUMIF(BDD!$BC$2:$BC$3,\"M73001 (Banc new P9)FAUXVRAIFAUXVRAIFAUX\",BDD!$V$2:$V$3)","v":0},{"$f":"SUMIF(BDD!$BC$2:$BC$3,\"M73001 (Banc new P9)FAUXVRAIFAUXFAUXVRAI\",BDD!$V$2:$V$3)","v":0},{"$f":"SUMIF(BDD!$BC$2:$BC$3,\"M73001 (Banc new P9)VRAIFAUXVRAIFAUXFAUX\",BDD!$V$2:$V$3)","v":0},{"$f":"SUMIF(BDD!$BC$2:$BC$3,\"M73001 (Banc new P9)VRAIFAUXFAUXVRAIFAUX\",BDD!$V$2:$V$3)","v":0},{"$f":"SUMIF(BDD!$BC$2:$BC$3,\"M73001 (Banc new P9)VRAIFAUXFAUXFAUXVRAI\",BDD!$V$2:$V$3)","v":0},{"$f":"SUMIF(BDD!$BC$2:$BC$3,\"M73001 (Banc new P9)FAUXVRAIVRAIFAUXFAUX\",BDD!$V$2:$V$3)","v":0},{"$f":"SUMIF(BDD!$BC$2:$BC$3,\"M73001 (Banc new P9)FAUXVRAIFAUXVRAIFAUX\",BDD!$V$2:$V$3)","v":0},{"$f":"SUMIF(BDD!$BC$2:$BC$3,\"M73001 (Banc new P9)FAUXVRAIFAUXFAUXVRAI\",BDD!$V$2:$V$3)","v":0},{"$f":"SUMIF(BDD!$BC$2:$BC$3,\"M73001 (Banc new P9)VRAIFAUXVRAIFAUXFAUX\",BDD!$V$2:$V$3)","v":0},{"$f":"SUMIF(BDD!$BC$2:$BC$3,\"M73001 (Banc new P9)VRAIFAUXFAUXVRAIFAUX\",BDD!$V$2:$V$3)","v":0},{"$f":"SUMIF(BDD!$BC$2:$BC$3,\"M73001 (Banc new P9)VRAIFAUXFAUXFAUXVRAI\",BDD!$V$2:$V$3)","v":0},{"$f":"SUMIF(BDD!$BC$2:$BC$3,\"M73001 (Banc new P9)FAUXVRAIVRAIFAUXFAUX\",BDD!$V$2:$V$3)","v":0},{"$f":"SUMIF(BDD!$BC$2:$BC$3,\"M73001 (Banc new P9)FAUXVRAIFAUXVRAIFAUX\",BDD!$V$2:$V$3)","v":0},{"$f":"SUMIF(BDD!$BC$2:$BC$3,\"M73001 (Banc new P9)FAUXVRAIFAUXFAUXVRAI\",BDD!$V$2:$V$3)","v":0},{"$f":"SUMIF(BDD!$BC$2:$BC$3,\"M73001 (Banc new P9)VRAIFAUXVRAIFAUXFAUX\",BDD!$V$2:$V$3)","v":0},{"$f":"SUMIF(BDD!$BC$2:$BC$3,\"M73001 (Banc new P9)VRAIFAUXFAUXVRAIFAUX\",BDD!$V$2:$V$3)","v":0},{"$f":"SUMIF(BDD!$BC$2:$BC$3,\"M73001 (Banc new P9)VRAIFAUXFAUXFAUXVRAI\",BDD!$V$2:$V$3)","v":0},{"$f":"SUMIF(BDD!$BC$2:$BC$3,\"M73001 (Banc new P9)FAUXVRAIVRAIFAUXFAUX\",BDD!$V$2:$V$3)","v":0},{"$f":"SUMIF(BDD!$BC$2:$BC$3,\"M73001 (Banc new P9)FAUXVRAIFAUXVRAIFAUX\",BDD!$V$2:$V$3)","v":0},{"$f":"SUMIF(BDD!$BC$2:$BC$3,\"M73001 (Banc new P9)FAUXVRAIFAUXFAUXVRAI\",BDD!$V$2:$V$3)","v":0},{"$f":"SUMIF(BDD!$BC$2:$BC$3,\"M73001 (Banc new P9)VRAIFAUXVRAIFAUXFAUX\",BDD!$V$2:$V$3)","v":0},{"$f":"SUMIF(BDD!$BC$2:$BC$3,\"M73001 (Banc new P9)VRAIFAUXFAUXVRAIFAUX\",BDD!$V$2:$V$3)","v":0},{"$f":"SUMIF(BDD!$BC$2:$BC$3,\"M73001 (Banc new P9)VRAIFAUXFAUXFAUXVRAI\",BDD!$V$2:$V$3)","v":0},{"$f":"SUMIF(BDD!$BC$2:$BC$3,\"M73001 (Banc new P9)FAUXVRAIVRAIFAUXFAUX\",BDD!$V$2:$V$3)","v":0},{"$f":"SUMIF(BDD!$BC$2:$BC$3,\"M73001 (Banc new P9)FAUXVRAIFAUXVRAIFAUX\",BDD!$V$2:$V$3)","v":0},{"$f":"SUMIF(BDD!$BC$2:$BC$3,\"M73001 (Banc new P9)FAUXVRAIFAUXFAUXVRAI\",BDD!$V$2:$V$3)","v":0}]
["Banc P1",{"$f":"SUMIF(BDD!$BC$2:$BC$3,\"Banc P1VRAIFAUXVRAIFAUXFAUX\",BDD!$V$2:$V$3)","v":0},{"$f":"SUMIF(BDD!$BC$2:$BC$3,\"Banc P1VRAIFAUXFAUXVRAIFAUX\",BDD!$V$2:$V$3)","v":0},{"$f":"SUMIF(BDD!$BC$2:$BC$3,\"Banc P1VRAIFAUXFAUXFAUXVRAI\",BDD!$V$2:$V$3)","v":0},{"$f":"SUMIF(BDD!$BC$2:$BC$3,\"Banc P1FAUXVRAIVRAIFAUXFAUX\",BDD!$V$2:$V$3)","v":0},{"$f":"SUMIF(BDD!$BC$2:$BC$3,\"Banc P1FAUXVRAIFAUXVRAIFAUX\",BDD!$V$2:$V$3)","v":0},{"$f":"SUMIF(BDD!$BC$2:$BC$3,\"Banc P1FAUXVRAIFAUXFAUXVRAI\",BDD!$V$2:$V$3)","v":0},{"$f":"SUMIF(BDD!$BC$2:$BC$3,\"Banc P1VRAIFAUXVRAIFAUXFAUX\",BDD!$V$2:$V$3)","v":0},{"$f":"SUMIF(BDD!$BC$2:$BC$3,\"Banc P1VRAIFAUXFAUXVRAIFAUX\",BDD!$V$2:$V$3)","v":0},{"$f":"SUMIF(BDD!$BC$2:$BC$3,\"Banc P1VRAIFAUXFAUXFAUXVRAI\",BDD!$V$2:$V$3)","v":0},{"$f":"SUMIF(BDD!$BC$2:$BC$3,\"Banc P1FAUXVRAIVRAIFAUXFAUX\",BDD!$V$2:$V$3)","v":0},{"$f":"SUMIF(BDD!$BC$2:$BC$3,\"Banc P1FAUXVRAIFAUXVRAIFAUX\",BDD!$V$2:$V$3)","v":0},{"$f":"SUMIF(BDD!$BC$2:$BC$3,\"Banc P1FAUXVRAIFAUXFAUXVRAI\",BDD!$V$2:$V$3)","v":0},{"$f":"SUMIF(BDD!$BC$2:$BC$683,\"Banc P1VRAIFAUXVRAIFAUXFAUX\",BDD!$V$2:$V$683)","v":0.02},{"$f":"SUMIF(BDD!$BC$2:$BC$683,\"Banc P1VRAIFAUXFAUXVRAIFAUX\",BDD!$V$2:$V$683)","v":0},{"$f":"SUMIF(BDD!$BC$2:$BC$683,\"Banc P1VRAIFAUXFAUXFAUXVRAI\",BDD!$V$2:$V$683)","v":0},{"$f":"SUMIF(BDD!$BC$2:$BC$683,\"Banc P1FAUXVRAIVRAIFAUXFAUX\",BDD!$V$2:$V$683)","v":0},{"$f":"SUMIF(BDD!$BC$2:$BC$683,\"Banc P1FAUXVRAIFAUXVRAIFAUX\",BDD!$V$2:$V$683)","v":0},{"$f":"SUMIF(BDD!$BC$2:$BC$683,\"Banc P1FAUXVRAIFAUXFAUXVRAI\",BDD!$V$2:$V$683)","v":0},{"$f":"SUMIF(BDD!$BC$2:$BC$3,\"Banc P1VRAIFAUXVRAIFAUXFAUX\",BDD!$V$2:$V$3)","v":0},{"$f":"SUMIF(BDD!$BC$2:$BC$3,\"Banc P1VRAIFAUXFAUXVRAIFAUX\",BDD!$V$2:$V$3)","v":0},{"$f":"SUMIF(BDD!$BC$2:$BC$3,\"Banc P1VRAIFAUXFAUXFAUXVRAI\",BDD!$V$2:$V$3)","v":0},{"$f":"SUMIF(BDD!$BC$2:$BC$3,\"Banc P1FAUXVRAIVRAIFAUXFAUX\",BDD!$V$2:$V$3)","v":0},{"$f":"SUMIF(BDD!$BC$2:$BC$3,\"Banc P1FAUXVRAIFAUXVRAIFAUX\",BDD!$V$2:$V$3)","v":0},{"$f":"SUMIF(BDD!$BC$2:$BC$3,\"Banc P1FAUXVRAIFAUXFAUXVRAI\",BDD!$V$2:$V$3)","v":0},{"$f":"SUMIF(BDD!$BC$2:$BC$3,\"Banc P1VRAIFAUXVRAIFAUXFAUX\",BDD!$V$2:$V$3)","v":0},{"$f":"SUMIF(BDD!$BC$2:$BC$3,\"Banc P1VRAIFAUXFAUXVRAIFAUX\",BDD!$V$2:$V$3)","v":0},{"$f":"SUMIF(BDD!$BC$2:$BC$3,\"Banc P1VRAIFAUXFAUXFAUXVRAI\",BDD!$V$2:$V$3)","v":0},{"$f":"SUMIF(BDD!$BC$2:$BC$3,\"Banc P1FAUXVRAIVRAIFAUXFAUX\",BDD!$V$2:$V$3)","v":0},{"$f":"SUMIF(BDD!$BC$2:$BC$3,\"Banc P1FAUXVRAIFAUXVRAIFAUX\",BDD!$V$2:$V$3)","v":0},{"$f":"SUMIF(BDD!$BC$2:$BC$3,\"Banc P1FAUXVRAIFAUXFAUXVRAI\",BDD!$V$2:$V$3)","v":0},{"$f":"SUMIF(BDD!$BC$2:$BC$3,\"Banc P1VRAIFAUXVRAIFAUXFAUX\",BDD!$V$2:$V$3)","v":0},{"$f":"SUMIF(BDD!$BC$2:$BC$3,\"Banc P1VRAIFAUXFAUXVRAIFAUX\",BDD!$V$2:$V$3)","v":0},{"$f":"SUMIF(BDD!$BC$2:$BC$3,\"Banc P1VRAIFAUXFAUXFAUXVRAI\",BDD!$V$2:$V$3)","v":0},{"$f":"SUMIF(BDD!$BC$2:$BC$3,\"Banc P1FAUXVRAIVRAIFAUXFAUX\",BDD!$V$2:$V$3)","v":0},{"$f":"SUMIF(BDD!$BC$2:$BC$3,\"Banc P1FAUXVRAIFAUXVRAIFAUX\",BDD!$V$2:$V$3)","v":0},{"$f":"SUMIF(BDD!$BC$2:$BC$3,\"Banc P1FAUXVRAIFAUXFAUXVRAI\",BDD!$V$2:$V$3)","v":0},{"$f":"SUMIF(BDD!$BC$2:$BC$3,\"Banc P1VRAIFAUXVRAIFAUXFAUX\",BDD!$V$2:$V$3)","v":0},{"$f":"SUMIF(BDD!$BC$2:$BC$3,\"Banc P1VRAIFAUXFAUXVRAIFAUX\",BDD!$V$2:$V$3)","v":0},{"$f":"SUMIF(BDD!$BC$2:$BC$3,\"Banc P1VRAIFAUXFAUXFAUXVRAI\",BDD!$V$2:$V$3)","v":0},{"$f":"SUMIF(BDD!$BC$2:$BC$3,\"Banc P1FAUXVRAIVRAIFAUXFAUX\",BDD!$V$2:$V$3)","v":0},{"$f":"SUMIF(BDD!$BC$2:$BC$3,\"Banc P1FAUXVRAIFAUXVRAIFAUX\",BDD!$V$2:$V$3)","v":0},{"$f":"SUMIF(BDD!$BC$2:$BC$3,\"Banc P1FAUXVRAIFAUXFAUXVRAI\",BDD!$V$2:$V$3)","v":0},{"$f":"SUMIF(BDD!$BC$2:$BC$3,\"Banc P1VRAIFAUXVRAIFAUXFAUX\",BDD!$V$2:$V$3)","v":0},{"$f":"SUMIF(BDD!$BC$2:$BC$3,\"Banc P1VRAIFAUXFAUXVRAIFAUX\",BDD!$V$2:$V$3)","v":0},{"$f":"SUMIF(BDD!$BC$2:$BC$3,\"Banc P1VRAIFAUXFAUXFAUXVRAI\",BDD!$V$2:$V$3)","v":0},{"$f":"SUMIF(BDD!$BC$2:$BC$3,\"Banc P1FAUXVRAIVRAIFAUXFAUX\",BDD!$V$2:$V$3)","v":0},{"$f":"SUMIF(BDD!$BC$2:$BC$3,\"Banc P1FAUXVRAIFAUXVRAIFAUX\",BDD!$V$2:$V$3)","v":0},{"$f":"SUMIF(BDD!$BC$2:$BC$3,\"Banc P1FAUXVRAIFAUXFAUXVRAI\",BDD!$V$2:$V$3)","v":0},{"$f":"SUMIF(BDD!$BC$2:$BC$3,\"Banc P1VRAIFAUXVRAIFAUXFAUX\",BDD!$V$2:$V$3)","v":0},{"$f":"SUMIF(BDD!$BC$2:$BC$3,\"Banc P1VRAIFAUXFAUXVRAIFAUX\",BDD!$V$2:$V$3)","v":0},{"$f":"SUMIF(BDD!$BC$2:$BC$3,\"Banc P1VRAIFAUXFAUXFAUXVRAI\",BDD!$V$2:$V$3)","v":0},{"$f":"SUMIF(BDD!$BC$2:$BC$3,\"Banc P1FAUXVRAIVRAIFAUXFAUX\",BDD!$V$2:$V$3)","v":0},{"$f":"SUMIF(BDD!$BC$2:$BC$3,\"Banc P1FAUXVRAIFAUXVRAIFAUX\",BDD!$V$2:$V$3)","v":0},{"$f":"SUMIF(BDD!$BC$2:$BC$3,\"Banc P1FAUXVRAIFAUXFAUXVRAI\",BDD!$V$2:$V$3)","v":0},{"$f":"SUMIF(BDD!$BC$2:$BC$3,\"Banc P1VRAIFAUXVRAIFAUXFAUX\",BDD!$V$2:$V$3)","v":0},{"$f":"SUMIF(BDD!$BC$2:$BC$3,\"Banc P1VRAIFAUXFAUXVRAIFAUX\",BDD!$V$2:$V$3)","v":0},{"$f":"SUMIF(BDD!$BC$2:$BC$3,\"Banc P1VRAIFAUXFAUXFAUXVRAI\",BDD!$V$2:$V$3)","v":0},{"$f":"SUMIF(BDD!$BC$2:$BC$3,\"Banc P1FAUXVRAIVRAIFAUXFAUX\",BDD!$V$2:$V$3)","v":0},{"$f":"SUMIF(BDD!$BC$2:$BC$3,\"Banc P1FAUXVRAIFAUXVRAIFAUX\",BDD!$V$2:$V$3)","v":0},{"$f":"SUMIF(BDD!$BC$2:$BC$3,\"Banc P1FAUXVRAIFAUXFAUXVRAI\",BDD!$V$2:$V$3)","v":0},{"$f":"SUMIF(BDD!$BC$2:$BC$3,\"Banc P1VRAIFAUXVRAIFAUXFAUX\",BDD!$V$2:$V$3)","v":0},{"$f":"SUMIF(BDD!$BC$2:$BC$3,\"Banc P1VRAIFAUXFAUXVRAIFAUX\",BDD!$V$2:$V$3)","v":0},{"$f":"SUMIF(BDD!$BC$2:$BC$3,\"Banc P1VRAIFAUXFAUXFAUXVRAI\",BDD!$V$2:$V$3)","v":0},{"$f":"SUMIF(BDD!$BC$2:$BC$3,\"Banc P1FAUXVRAIVRAIFAUXFAUX\",BDD!$V$2:$V$3)","v":0},{"$f":"SUMIF(BDD!$BC$2:$BC$3,\"Banc P1FAUXVRAIFAUXVRAIFAUX\",BDD!$V$2:$V$3)","v":0},{"$f":"SUMIF(BDD!$BC$2:$BC$3,\"Banc P1FAUXVRAIFAUXFAUXVRAI\",BDD!$V$2:$V$3)","v":0},{"$f":"SUMIF(BDD!$BC$2:$BC$3,\"Banc P1VRAIFAUXVRAIFAUXFAUX\",BDD!$V$2:$V$3)","v":0},{"$f":"SUMIF(BDD!$BC$2:$BC$3,\"Banc P1VRAIFAUXFAUXVRAIFAUX\",BDD!$V$2:$V$3)","v":0},{"$f":"SUMIF(BDD!$BC$2:$BC$3,\"Banc P1VRAIFAUXFAUXFAUXVRAI\",BDD!$V$2:$V$3)","v":0},{"$f":"SUMIF(BDD!$BC$2:$BC$3,\"Banc P1FAUXVRAIVRAIFAUXFAUX\",BDD!$V$2:$V$3)","v":0},{"$f":"SUMIF(BDD!$BC$2:$BC$3,\"Banc P1FAUXVRAIFAUXVRAIFAUX\",BDD!$V$2:$V$3)","v":0},{"$f":"SUMIF(BDD!$BC$2:$BC$3,\"Banc P1FAUXVRAIFAUXFAUXVRAI\",BDD!$V$2:$V$3)","v":0}]
["Banc P2",{"$f":"SUMIF(BDD!$BC$2:$BC$3,\"Banc P2VRAIFAUXVRAIFAUXFAUX\",BDD!$V$2:$V$3)","v":0},{"$f":"SUMIF(BDD!$BC$2:$BC$3,\"Banc P2VRAIFAUXFAUXVRAIFAUX\",BDD!$V$2:$V$3)","v":0},{"$f":"SUMIF(BDD!$BC$2:$BC$3,\"Banc P2VRAIFAUXFAUXFAUXVRAI\",BDD!$V$2:$V$3)","v":0},{"$f":"SUMIF(BDD!$BC$2:$BC$3,\"Banc P2FAUXVRAIVRAIFAUXFAUX\",BDD!$V$2:$V$3)","v":0},{"$f":"SUMIF(BDD!$BC$2:$BC$3,\"Banc P2FAUXVRAIFAUXVRAIFAUX\",BDD!$V$2:$V$3)","v":0},{"$f":"SUMIF(BDD!$BC$2:$BC$3,\"Banc P2FAUXVRAIFAUXFAUXVRAI\",BDD!$V$2:$V$3)","v":0},{"$f":"SUMIF(BDD!$BC$2:$BC$3,\"Banc P2VRAIFAUXVRAIFAUXFAUX\",BDD!$V$2:$V$3)","v":0},{"$f":"SUMIF(BDD!$BC$2:$BC$3,\"Banc P2VRAIFAUXFAUXVRAIFAUX\",BDD!$V$2:$V$3)","v":0},{"$f":"SUMIF(BDD!$BC$2:$BC$3,\"Banc P2VRAIFAUXFAUXFAUXVRAI\",BDD!$V$2:$V$3)","v":0},{"$f":"SUMIF(BDD!$BC$2:$BC$3,\"Banc P2FAUXVRAIVRAIFAUXFAUX\",BDD!$V$2:$V$3)","v":0},{"$f":"SUMIF(BDD!$BC$2:$BC$3,\"Banc P2FAUXVRAIFAUXVRAIFAUX\",BDD!$V$2:$V$3)","v":0},{"$f":"SUMIF(BDD!$BC$2:$BC$3,\"Banc P2FAUXVRAIFAUXFAUXVRAI\",BDD!$V$2:$V$3)","v":0},{"$f":"SUMIF(BDD!$BC$2:$BC$683,\"Banc P2VRAIFAUXVRAIFAUXFAUX\",BDD!$V$2:$V$683)","v":0},{"$f":"SUMIF(BDD!$BC$2:$BC$683,\"Banc P2VRAIFAUXFAUXVRAIFAUX\",BDD!$V$2:$V$683)","v":0},{"$f":"SUMIF(BDD!$BC$2:$BC$683,\"Banc P2VRAIFAUXFAUXFAUXVRAI\",BDD!$V$2:$V$683)","v":0},{"$f":"SUMIF(BDD!$BC$2:$BC$683,\"Banc P2FAUXVRAIVRAIFAUXFAUX\",BDD!$V$2:$V$683)","v":0},{"$f":"SUMIF(BDD!$BC$2:$BC$683,\"Banc P2FAUXVRAIFAUXVRAIFAUX\",BDD!$V$2:$V$683)","v":0},{"$f":"SUMIF(BDD!$BC$2:$BC$683,\"Banc P2FAUXVRAIFAUXFAUXVRAI\",BDD!$V$2:$V$683)","v":0},{"$f":"SUMIF(BDD!$BC$2:$BC$3,\"Banc P2VRAIFAUXVRAIFAUXFAUX\",BDD!$V$2:$V$3)","v":0},{"$f":"SUMIF(BDD!$BC$2:$BC$3,\"Banc P2VRAIFAUXFAUXVRAIFAUX\",BDD!$V$2:$V$3)","v":0},{"$f":"SUMIF(BDD!$BC$2:$BC$3,\"Banc P2VRAIFAUXFAUXFAUXVRAI\",BDD!$V$2:$V$3)","v":0},{"$f":"SUMIF(BDD!$BC$2:$BC$3,\"Banc P2FAUXVRAIVRAIFAUXFAUX\",BDD!$V$2:$V$3)","v":0},{"$f":"SUMIF(BDD!$BC$2:$BC$3,\"Banc P2FAUXVRAIFAUXVRAIFAUX\",BDD!$V$2:$V$3)","v":0},{"$f":"SUMIF(BDD!$BC$2:$BC$3,\"Banc P2FAUXVRAIFAUXFAUXVRAI\",BDD!$V$2:$V$3)","v":0},{"$f":"SUMIF(BDD!$BC$2:$BC$3,\"Banc P2VRAIFAUXVRAIFAUXFAUX\",BDD!$V$2:$V$3)","v":0},{"$f":"SUMIF(BDD!$BC$2:$BC$3,\"Banc P2VRAIFAUXFAUXVRAIFAUX\",BDD!$V$2:$V$3)","v":0},{"$f":"SUMIF(BDD!$BC$2:$BC$3,\"Banc P2VRAIFAUXFAUXFAUXVRAI\",BDD!$V$2:$V$3)","v":0},{"$f":"SUMIF(BDD!$BC$2:$BC$3,\"Banc P2FAUXVRAIVRAIFAUXFAUX\",BDD!$V$2:$V$3)","v":0},{"$f":"SUMIF(BDD!$BC$2:$BC$3,\"Banc P2FAUXVRAIFAUXVRAIFAUX\",BDD!$V$2:$V$3)","v":0},{"$f":"SUMIF(BDD!$BC$2:$BC$3,\"Banc P2FAUXVRAIFAUXFAUXVRAI\",BDD!$V$2:$V$3)","v":0},{"$f":"SUMIF(BDD!$BC$2:$BC$3,\"Banc P2VRAIFAUXVRAIFAUXFAUX\",BDD!$V$2:$V$3)","v":0},{"$f":"SUMIF(BDD!$BC$2:$BC$3,\"Banc P2VRAIFAUXFAUXVRAIFAUX\",BDD!$V$2:$V$3)","v":0},{"$f":"SUMIF(BDD!$BC$2:$BC$3,\"Banc P2VRAIFAUXFAUXFAUXVRAI\",BDD!$V$2:$V$3)","v":0},{"$f":"SUMIF(BDD!$BC$2:$BC$3,\"Banc P2FAUXVRAIVRAIFAUXFAUX\",BDD!$V$2:$V$3)","v":0},{"$f":"SUMIF(BDD!$BC$2:$BC$3,\"Banc P2FAUXVRAIFAUXVRAIFAUX\",BDD!$V$2:$V$3)","v":0},{"$f":"SUMIF(BDD!$BC$2:$BC$3,\"Banc P2FAUXVRAIFAUXFAUXVRAI\",BDD!$V$2:$V$3)","v":0},{"$f":"SUMIF(BDD!$BC$2:$BC$3,\"Banc P2VRAIFAUXVRAIFAUXFAUX\",BDD!$V$2:$V$3)","v":0},{"$f":"SUMIF(BDD!$BC$2:$BC$3,\"Banc P2VRAIFAUXFAUXVRAIFAUX\",BDD!$V$2:$V$3)","v":0},{"$f":"SUMIF(BDD!$BC$2:$BC$3,\"Banc P2VRAIFAUXFAUXFAUXVRAI\",BDD!$V$2:$V$3)","v":0},{"$f":"SUMIF(BDD!$BC$2:$BC$3,\"Banc P2FAUXVRAIVRAIFAUXFAUX\",BDD!$V$2:$V$3)","v":0},{"$f":"SUMIF(BDD!$BC$2:$BC$3,\"Banc P2FAUXVRAIFAUXVRAIFAUX\",BDD!$V$2:$V$3)","v":0},{"$f":"SUMIF(BDD!$BC$2:$BC$3,\"Banc P2FAUXVRAIFAUXFAUXVRAI\",BDD!$V$2:$V$3)","v":0},{"$f":"SUMIF(BDD!$BC$2:$BC$3,\"Banc P2VRAIFAUXVRAIFAUXFAUX\",BDD!$V$2:$V$3)","v":0},{"$f":"SUMIF(BDD!$BC$2:$BC$3,\"Banc P2VRAIFAUXFAUXVRAIFAUX\",BDD!$V$2:$V$3)","v":0},{"$f":"SUMIF(BDD!$BC$2:$BC$3,\"Banc P2VRAIFAUXFAUXFAUXVRAI\",BDD!$V$2:$V$3)","v":0},{"$f":"SUMIF(BDD!$BC$2:$BC$3,\"Banc P2FAUXVRAIVRAIFAUXFAUX\",BDD!$V$2:$V$3)","v":0},{"$f":"SUMIF(BDD!$BC$2:$BC$3,\"Banc P2FAUXVRAIFAUXVRAIFAUX\",BDD!$V$2:$V$3)","v":0},{"$f":"SUMIF(BDD!$BC$2:$BC$3,\"Banc P2FAUXVRAIFAUXFAUXVRAI\",BDD!$V$2:$V$3)","v":0},{"$f":"SUMIF(BDD!$BC$2:$BC$3,\"Banc P2VRAIFAUXVRAIFAUXFAUX\",BDD!$V$2:$V$3)","v":0},{"$f":"SUMIF(BDD!$BC$2:$BC$3,\"Banc P2VRAIFAUXFAUXVRAIFAUX\",BDD!$V$2:$V$3)","v":0},{"$f":"SUMIF(BDD!$BC$2:$BC$3,\"Banc P2VRAIFAUXFAUXFAUXVRAI\",BDD!$V$2:$V$3)","v":0},{"$f":"SUMIF(BDD!$BC$2:$BC$3,\"Banc P2FAUXVRAIVRAIFAUXFAUX\",BDD!$V$2:$V$3)","v":0},{"$f":"SUMIF(BDD!$BC$2:$BC$3,\"Banc P2FAUXVRAIFAUXVRAIFAUX\",BDD!$V$2:$V$3)","v":0},{"$f":"SUMIF(BDD!$BC$2:$BC$3,\"Banc P2FAUXVRAIFAUXFAUXVRAI\",BDD!$V$2:$V$3)","v":0},{"$f":"SUMIF(BDD!$BC$2:$BC$3,\"Banc P2VRAIFAUXVRAIFAUXFAUX\",BDD!$V$2:$V$3)","v":0},{"$f":"SUMIF(BDD!$BC$2:$BC$3,\"Banc P2VRAIFAUXFAUXVRAIFAUX\",BDD!$V$2:$V$3)","v":0},{"$f":"SUMIF(BDD!$BC$2:$BC$3,\"Banc P2VRAIFAUXFAUXFAUXVRAI\",BDD!$V$2:$V$3)","v":0},{"$f":"SUMIF(BDD!$BC$2:$BC$3,\"Banc P2FAUXVRAIVRAIFAUXFAUX\",BDD!$V$2:$V$3)","v":0},{"$f":"SUMIF(BDD!$BC$2:$BC$3,\"Banc P2FAUXVRAIFAUXVRAIFAUX\",BDD!$V$2:$V$3)","v":0},{"$f":"SUMIF(BDD!$BC$2:$BC$3,\"Banc P2FAUXVRAIFAUXFAUXVRAI\",BDD!$V$2:$V$3)","v":0},{"$f":"SUMIF(BDD!$BC$2:$BC$3,\"Banc P2VRAIFAUXVRAIFAUXFAUX\",BDD!$V$2:$V$3)","v":0},{"$f":"SUMIF(BDD!$BC$2:$BC$3,\"Banc P2VRAIFAUXFAUXVRAIFAUX\",BDD!$V$2:$V$3)","v":0},{"$f":"SUMIF(BDD!$BC$2:$BC$3,\"Banc P2VRAIFAUXFAUXFAUXVRAI\",BDD!$V$2:$V$3)","v":0},{"$f":"SUMIF(BDD!$BC$2:$BC$3,\"Banc P2FAUXVRAIVRAIFAUXFAUX\",BDD!$V$2:$V$3)","v":0},{"$f":"SUMIF(BDD!$BC$2:$BC$3,\"Banc P2FAUXVRAIFAUXVRAIFAUX\",BDD!$V$2:$V$3)","v":0},{"$f":"SUMIF(BDD!$BC$2:$BC$3,\"Banc P2FAUXVRAIFAUXFAUXVRAI\",BDD!$V$2:$V$3)","v":0},{"$f":"SUMIF(BDD!$BC$2:$BC$3,\"Banc P2VRAIFAUXVRAIFAUXFAUX\",BDD!$V$2:$V$3)","v":0},{"$f":"SUMIF(BDD!$BC$2:$BC$3,\"Banc P2VRAIFAUXFAUXVRAIFAUX\",BDD!$V$2:$V$3)","v":0},{"$f":"SUMIF(BDD!$BC$2:$BC$3,\"Banc P2VRAIFAUXFAUXFAUXVRAI\",BDD!$V$2:$V$3)","v":0},{"$f":"SUMIF(BDD!$BC$2:$BC$3,\"Banc P2FAUXVRAIVRAIFAUXFAUX\",BDD!$V$2:$V$3)","v":0},{"$f":"SUMIF(BDD!$BC$2:$BC$3,\"Banc P2FAUXVRAIFAUXVRAIFAUX\",BDD!$V$2:$V$3)","v":0},{"$f":"SUMIF(BDD!$BC$2:$BC$3,\"Banc P2FAUXVRAIFAUXFAUXVRAI\",BDD!$V$2:$V$3)","v":0}]
["Banc 156",{"$f":"SUMIF(BDD!$BC$2:$BC$3,\"Banc 156VRAIFAUXVRAIFAUXFAUX\",BDD!$V$2:$V$3)","v":0},{"$f":"SUMIF(BDD!$BC$2:$BC$3,\"Banc 156VRAIFAUXFAUXVRAIFAUX\",BDD!$V$2:$V$3)","v":0},{"$f":"SUMIF(BDD!$BC$2:$BC$3,\"Banc 156VRAIFAUXFAUXFAUXVRAI\",BDD!$V$2:$V$3)","v":0},{"$f":"SUMIF(BDD!$BC$2:$BC$3,\"Banc 156FAUXVRAIVRAIFAUXFAUX\",BDD!$V$2:$V$3)","v":0},{"$f":"SUMIF(BDD!$BC$2:$BC$3,\"Banc 156FAUXVRAIFAUXVRAIFAUX\",BDD!$V$2:$V$3)","v":0},{"$f":"SUMIF(BDD!$BC$2:$BC$3,\"Banc 156FAUXVRAIFAUXFAUXVRAI\",BDD!$V$2:$V$3)","v":0},{"$f":"SUMIF(BDD!$BC$2:$BC$3,\"Banc 156VRAIFAUXVRAIFAUXFAUX\",BDD!$V$2:$V$3)","v":0},{"$f":"SUMIF(BDD!$BC$2:$BC$3,\"Banc 156VRAIFAUXFAUXVRAIFAUX\",BDD!$V$2:$V$3)","v":0},{"$f":"SUMIF(BDD!$BC$2:$BC$3,\"Banc 156VRAIFAUXFAUXFAUXVRAI\",BDD!$V$2:$V$3)","v":0},{"$f":"SUMIF(BDD!$BC$2:$BC$3,\"Banc 156FAUXVRAIVRAIFAUXFAUX\",BDD!$V$2:$V$3)","v":0},{"$f":"SUMIF(BDD!$BC$2:$BC$3,\"Banc 156FAUXVRAIFAUXVRAIFAUX\",BDD!$V$2:$V$3)","v":0},{"$f":"SUMIF(BDD!$BC$2:$BC$3,\"Banc 156FAUXVRAIFAUXFAUXVRAI\",BDD!$V$2:$V$3)","v":0},{"$f":"SUMIF(BDD!$BC$2:$BC$683,\"Banc 156VRAIFAUXVRAIFAUXFAUX\",BDD!$V$2:$V$683)","v":0},{"$f":"SUMIF(BDD!$BC$2:$BC$683,\"Banc 156VRAIFAUXFAUXVRAIFAUX\",BDD!$V$2:$V$683)","v":0},{"$f":"SUMIF(BDD!$BC$2:$BC$683,\"Banc 156VRAIFAUXFAUXFAUXVRAI\",BDD!$V$2:$V$683)","v":0},{"$f":"SUMIF(BDD!$BC$2:$BC$683,\"Banc 156FAUXVRAIVRAIFAUXFAUX\",BDD!$V$2:$V$683)","v":0},{"$f":"SUMIF(BDD!$BC$2:$BC$683,\"Banc 156FAUXVRAIFAUXVRAIFAUX\",BDD!$V$2:$V$683)","v":0},{"$f":"SUMIF(BDD!$BC$2:$BC$683,\"Banc 156FAUXVRAIFAUXFAUXVRAI\",BDD!$V$2:$V$683)","v":0},{"$f":"SUMIF(BDD!$BC$2:$BC$3,\"Banc 156VRAIFAUXVRAIFAUXFAUX\",BDD!$V$2:$V$3)","v":0},{"$f":"SUMIF(BDD!$BC$2:$BC$3,\"Banc 156VRAIFAUXFAUXVRAIFAUX\",BDD!$V$2:$V$3)","v":0},{"$f":"SUMIF(BDD!$BC$2:$BC$3,\"Banc 156VRAIFAUXFAUXFAUXVRAI\",BDD!$V$2:$V$3)","v":0},{"$f":"SUMIF(BDD!$BC$2:$BC$3,\"Banc 156FAUXVRAIVRAIFAUXFAUX\",BDD!$V$2:$V$3)","v":0},{"$f":"SUMIF(BDD!$BC$2:$BC$3,\"Banc 156FAUXVRAIFAUXVRAIFAUX\",BDD!$V$2:$V$3)","v":0},{"$f":"SUMIF(BDD!$BC$2:$BC$3,\"Banc 156FAUXVRAIFAUXFAUXVRAI\",BDD!$V$2:$V$3)","v":0},{"$f":"SUMIF(BDD!$BC$2:$BC$3,\"Banc 156VRAIFAUXVRAIFAUXFAUX\",BDD!$V$2:$V$3)","v":0},{"$f":"SUMIF(BDD!$BC$2:$BC$3,\"Banc 156VRAIFAUXFAUXVRAIFAUX\",BDD!$V$2:$V$3)","v":0},{"$f":"SUMIF(BDD!$BC$2:$BC$3,\"Banc 156VRAIFAUXFAUXFAUXVRAI\",BDD!$V$2:$V$3)","v":0},{"$f":"SUMIF(BDD!$BC$2:$BC$3,\"Banc 156FAUXVRAIVRAIFAUXFAUX\",BDD!$V$2:$V$3)","v":0},{"$f":"SUMIF(BDD!$BC$2:$BC$3,\"Banc 156FAUXVRAIFAUXVRAIFAUX\",BDD!$V$2:$V$3)","v":0},{"$f":"SUMIF(BDD!$BC$2:$BC$3,\"Banc 156FAUXVRAIFAUXFAUXVRAI\",BDD!$V$2:$V$3)","v":0},{"$f":"SUMIF(BDD!$BC$2:$BC$3,\"Banc 156VRAIFAUXVRAIFAUXFAUX\",BDD!$V$2:$V$3)","v":0},{"$f":"SUMIF(BDD!$BC$2:$BC$3,\"Banc 156VRAIFAUXFAUXVRAIFAUX\",BDD!$V$2:$V$3)","v":0},{"$f":"SUMIF(BDD!$BC$2:$BC$3,\"Banc 156VRAIFAUXFAUXFAUXVRAI\",BDD!$V$2:$V$3)","v":0},{"$f":"SUMIF(BDD!$BC$2:$BC$3,\"Banc 156FAUXVRAIVRAIFAUXFAUX\",BDD!$V$2:$V$3)","v":0},{"$f":"SUMIF(BDD!$BC$2:$BC$3,\"Banc 156FAUXVRAIFAUXVRAIFAUX\",BDD!$V$2:$V$3)","v":0},{"$f":"SUMIF(BDD!$BC$2:$BC$3,\"Banc 156FAUXVRAIFAUXFAUXVRAI\",BDD!$V$2:$V$3)","v":0},{"$f":"SUMIF(BDD!$BC$2:$BC$3,\"Banc 156VRAIFAUXVRAIFAUXFAUX\",BDD!$V$2:$V$3)","v":0},{"$f":"SUMIF(BDD!$BC$2:$BC$3,\"Banc 156VRAIFAUXFAUXVRAIFAUX\",BDD!$V$2:$V$3)","v":0},{"$f":"SUMIF(BDD!$BC$2:$BC$3,\"Banc 156VRAIFAUXFAUXFAUXVRAI\",BDD!$V$2:$V$3)","v":0},{"$f":"SUMIF(BDD!$BC$2:$BC$3,\"Banc 156FAUXVRAIVRAIFAUXFAUX\",BDD!$V$2:$V$3)","v":0},{"$f":"SUMIF(BDD!$BC$2:$BC$3,\"Banc 156FAUXVRAIFAUXVRAIFAUX\",BDD!$V$2:$V$3)","v":0},{"$f":"SUMIF(BDD!$BC$2:$BC$3,\"Banc 156FAUXVRAIFAUXFAUXVRAI\",BDD!$V$2:$V$3)","v":0},{"$f":"SUMIF(BDD!$BC$2:$BC$3,\"Banc 156VRAIFAUXVRAIFAUXFAUX\",BDD!$V$2:$V$3)","v":0},{"$f":"SUMIF(BDD!$BC$2:$BC$3,\"Banc 156VRAIFAUXFAUXVRAIFAUX\",BDD!$V$2:$V$3)","v":0},{"$f":"SUMIF(BDD!$BC$2:$BC$3,\"Banc 156VRAIFAUXFAUXFAUXVRAI\",BDD!$V$2:$V$3)","v":0},{"$f":"SUMIF(BDD!$BC$2:$BC$3,\"Banc 156FAUXVRAIVRAIFAUXFAUX\",BDD!$V$2:$V$3)","v":0},{"$f":"SUMIF(BDD!$BC$2:$BC$3,\"Banc 156FAUXVRAIFAUXVRAIFAUX\",BDD!$V$2:$V$3)","v":0},{"$f":"SUMIF(BDD!$BC$2:$BC$3,\"Banc 156FAUXVRAIFAUXFAUXVRAI\",BDD!$V$2:$V$3)","v":0},{"$f":"SUMIF(BDD!$BC$2:$BC$3,\"Banc 156VRAIFAUXVRAIFAUXFAUX\",BDD!$V$2:$V$3)","v":0},{"$f":"SUMIF(BDD!$BC$2:$BC$3,\"Banc 156VRAIFAUXFAUXVRAIFAUX\",BDD!$V$2:$V$3)","v":0},{"$f":"SUMIF(BDD!$BC$2:$BC$3,\"Banc 156VRAIFAUXFAUXFAUXVRAI\",BDD!$V$2:$V$3)","v":0},{"$f":"SUMIF(BDD!$BC$2:$BC$3,\"Banc 156FAUXVRAIVRAIFAUXFAUX\",BDD!$V$2:$V$3)","v":0},{"$f":"SUMIF(BDD!$BC$2:$BC$3,\"Banc 156FAUXVRAIFAUXVRAIFAUX\",BDD!$V$2:$V$3)","v":0},{"$f":"SUMIF(BDD!$BC$2:$BC$3,\"Banc 156FAUXVRAIFAUXFAUXVRAI\",BDD!$V$2:$V$3)","v":0},{"$f":"SUMIF(BDD!$BC$2:$BC$3,\"Banc 156VRAIFAUXVRAIFAUXFAUX\",BDD!$V$2:$V$3)","v":0},{"$f":"SUMIF(BDD!$BC$2:$BC$3,\"Banc 156VRAIFAUXFAUXVRAIFAUX\",BDD!$V$2:$V$3)","v":0},{"$f":"SUMIF(BDD!$BC$2:$BC$3,\"Banc 156VRAIFAUXFAUXFAUXVRAI\",BDD!$V$2:$V$3)","v":0},{"$f":"SUMIF(BDD!$BC$2:$BC$3,\"Banc 156FAUXVRAIVRAIFAUXFAUX\",BDD!$V$2:$V$3)","v":0},{"$f":"SUMIF(BDD!$BC$2:$BC$3,\"Banc 156FAUXVRAIFAUXVRAIFAUX\",BDD!$V$2:$V$3)","v":0},{"$f":"SUMIF(BDD!$BC$2:$BC$3,\"Banc 156FAUXVRAIFAUXFAUXVRAI\",BDD!$V$2:$V$3)","v":0},{"$f":"SUMIF(BDD!$BC$2:$BC$3,\"Banc 156VRAIFAUXVRAIFAUXFAUX\",BDD!$V$2:$V$3)","v":0},{"$f":"SUMIF(BDD!$BC$2:$BC$3,\"Banc 156VRAIFAUXFAUXVRAIFAUX\",BDD!$V$2:$V$3)","v":0},{"$f":"SUMIF(BDD!$BC$2:$BC$3,\"Banc 156VRAIFAUXFAUXFAUXVRAI\",BDD!$V$2:$V$3)","v":0},{"$f":"SUMIF(BDD!$BC$2:$BC$3,\"Banc 156FAUXVRAIVRAIFAUXFAUX\",BDD!$V$2:$V$3)","v":0},{"$f":"SUMIF(BDD!$BC$2:$BC$3,\"Banc 156FAUXVRAIFAUXVRAIFAUX\",BDD!$V$2:$V$3)","v":0},{"$f":"SUMIF(BDD!$BC$2:$BC$3,\"Banc 156FAUXVRAIFAUXFAUXVRAI\",BDD!$V$2:$V$3)","v":0},{"$f":"SUMIF(BDD!$BC$2:$BC$3,\"Banc 156VRAIFAUXVRAIFAUXFAUX\",BDD!$V$2:$V$3)","v":0},{"$f":"SUMIF(BDD!$BC$2:$BC$3,\"Banc 156VRAIFAUXFAUXVRAIFAUX\",BDD!$V$2:$V$3)","v":0},{"$f":"SUMIF(BDD!$BC$2:$BC$3,\"Banc 156VRAIFAUXFAUXFAUXVRAI\",BDD!$V$2:$V$3)","v":0},{"$f":"SUMIF(BDD!$BC$2:$BC$3,\"Banc 156FAUXVRAIVRAIFAUXFAUX\",BDD!$V$2:$V$3)","v":0},{"$f":"SUMIF(BDD!$BC$2:$BC$3,\"Banc 156FAUXVRAIFAUXVRAIFAUX\",BDD!$V$2:$V$3)","v":0},{"$f":"SUMIF(BDD!$BC$2:$BC$3,\"Banc 156FAUXVRAIFAUXFAUXVRAI\",BDD!$V$2:$V$3)","v":0}]
["Chambre Froide",{"$f":"SUMIF(BDD!$BC$2:$BC$3,\"Chambre FroideVRAIFAUXVRAIFAUXFAUX\",BDD!$V$2:$V$3)","v":0},{"$f":"SUMIF(BDD!$BC$2:$BC$3,\"Chambre FroideVRAIFAUXFAUXVRAIFAUX\",BDD!$V$2:$V$3)","v":0},{"$f":"SUMIF(BDD!$BC$2:$BC$3,\"Chambre FroideVRAIFAUXFAUXFAUXVRAI\",BDD!$V$2:$V$3)","v":0},{"$f":"SUMIF(BDD!$BC$2:$BC$3,\"Chambre FroideFAUXVRAIVRAIFAUXFAUX\",BDD!$V$2:$V$3)","v":0},{"$f":"SUMIF(BDD!$BC$2:$BC$3,\"Chambre FroideFAUXVRAIFAUXVRAIFAUX\",BDD!$V$2:$V$3)","v":0},{"$f":"SUMIF(BDD!$BC$2:$BC$3,\"Chambre FroideFAUXVRAIFAUXFAUXVRAI\",BDD!$V$2:$V$3)","v":0},{"$f":"SUMIF(BDD!$BC$2:$BC$3,\"Chambre FroideVRAIFAUXVRAIFAUXFAUX\",BDD!$V$2:$V$3)","v":0},{"$f":"SUMIF(BDD!$BC$2:$BC$3,\"Chambre FroideVRAIFAUXFAUXVRAIFAUX\",BDD!$V$2:$V$3)","v":0},{"$f":"SUMIF(BDD!$BC$2:$BC$3,\"Chambre FroideVRAIFAUXFAUXFAUXVRAI\",BDD!$V$2:$V$3)","v":0},{"$f":"SUMIF(BDD!$BC$2:$BC$3,\"Chambre FroideFAUXVRAIVRAIFAUXFAUX\",BDD!$V$2:$V$3)","v":0},{"$f":"SUMIF(BDD!$BC$2:$BC$3,\"Chambre FroideFAUXVRAIFAUXVRAIFAUX\",BDD!$V$2:$V$3)","v":0},{"$f":"SUMIF(BDD!$BC$2:$BC$3,\"Chambre FroideFAUXVRAIFAUXFAUXVRAI\",BDD!$V$2:$V$3)","v":0},{"$f":"SUMIF(BDD!$BC$2:$BC$683,\"Chambre FroideVRAIFAUXVRAIFAUXFAUX\",BDD!$V$2:$V$683)","v":0},{"$f":"SUMIF(BDD!$BC$2:$BC$683,\"Chambre FroideVRAIFAUXFAUXVRAIFAUX\",BDD!$V$2:$V$683)","v":0},{"$f":"SUMIF(BDD!$BC$2:$BC$683,\"Chambre FroideVRAIFAUXFAUXFAUXVRAI\",BDD!$V$2:$V$683)","v":0},{"$f":"SUMIF(BDD!$BC$2:$BC$683,\"Chambre FroideFAUXVRAIVRAIFAUXFAUX\",BDD!$V$2:$V$683)","v":0},{"$f":"SUMIF(BDD!$BC$2:$BC$683,\"Chambre FroideFAUXVRAIFAUXVRAIFAUX\",BDD!$V$2:$V$683)","v":0},{"$f":"SUMIF(BDD!$BC$2:$BC$683,\"Chambre FroideFAUXVRAIFAUXFAUXVRAI\",BDD!$V$2:$V$683)","v":0},{"$f":"SUMIF(BDD!$BC$2:$BC$3,\"Chambre FroideVRAIFAUXVRAIFAUXFAUX\",BDD!$V$2:$V$3)","v":0},{"$f":"SUMIF(BDD!$BC$2:$BC$3,\"Chambre FroideVRAIFAUXFAUXVRAIFAUX\",BDD!$V$2:$V$3)","v":0},{"$f":"SUMIF(BDD!$BC$2:$BC$3,\"Chambre FroideVRAIFAUXFAUXFAUXVRAI\",BDD!$V$2:$V$3)","v":0},{"$f":"SUMIF(BDD!$BC$2:$BC$3,\"Chambre FroideFAUXVRAIVRAIFAUXFAUX\",BDD!$V$2:$V$3)","v":0},{"$f":"SUMIF(BDD!$BC$2:$BC$3,\"Chambre FroideFAUXVRAIFAUXVRAIFAUX\",BDD!$V$2:$V$3)","v":0},{"$f":"SUMIF(BDD!$BC$2:$BC$3,\"Chambre FroideFAUXVRAIFAUXFAUXVRAI\",BDD!$V$2:$V$3)","v":0},{"$f":"SUMIF(BDD!$BC$2:$BC$3,\"Chambre FroideVRAIFAUXVRAIFAUXFAUX\",BDD!$V$2:$V$3)","v":0},{"$f":"SUMIF(BDD!$BC$2:$BC$3,\"Chambre FroideVRAIFAUXFAUXVRAIFAUX\",BDD!$V$2:$V$3)","v":0},{"$f":"SUMIF(BDD!$BC$2:$BC$3,\"Chambre FroideVRAIFAUXFAUXFAUXVRAI\",BDD!$V$2:$V$3)","v":0},{"$f":"SUMIF(BDD!$BC$2:$BC$3,\"Chambre FroideFAUXVRAIVRAIFAUXFAUX\",BDD!$V$2:$V$3)","v":0},{"$f":"SUMIF(BDD!$BC$2:$BC$3,\"Chambre FroideFAUXVRAIFAUXVRAIFAUX\",BDD!$V$2:$V$3)","v":0},{"$f":"SUMIF(BDD!$BC$2:$BC$3,\"Chambre FroideFAUXVRAIFAUXFAUXVRAI\",BDD!$V$2:$V$3)","v":0},{"$f":"SUMIF(BDD!$BC$2:$BC$3,\"Chambre FroideVRAIFAUXVRAIFAUXFAUX\",BDD!$V$2:$V$3)","v":0},{"$f":"SUMIF(BDD!$BC$2:$BC$3,\"Chambre FroideVRAIFAUXFAUXVRAIFAUX\",BDD!$V$2:$V$3)","v":0},{"$f":"SUMIF(BDD!$BC$2:$BC$3,\"Chambre FroideVRAIFAUXFAUXFAUXVRAI\",BDD!$V$2:$V$3)","v":0},{"$f":"SUMIF(BDD!$BC$2:$BC$3,\"Chambre FroideFAUXVRAIVRAIFAUXFAUX\",BDD!$V$2:$V$3)","v":0},{"$f":"SUMIF(BDD!$BC$2:$BC$3,\"Chambre FroideFAUXVRAIFAUXVRAIFAUX\",BDD!$V$2:$V$3)","v":0},{"$f":"SUMIF(BDD!$BC$2:$BC$3,\"Chambre FroideFAUXVRAIFAUXFAUXVRAI\",BDD!$V$2:$V$3)","v":0},{"$f":"SUMIF(BDD!$BC$2:$BC$3,\"Chambre FroideVRAIFAUXVRAIFAUXFAUX\",BDD!$V$2:$V$3)","v":0},{"$f":"SUMIF(BDD!$BC$2:$BC$3,\"Chambre FroideVRAIFAUXFAUXVRAIFAUX\",BDD!$V$2:$V$3)","v":0},{"$f":"SUMIF(BDD!$BC$2:$BC$3,\"Chambre FroideVRAIFAUXFAUXFAUXVRAI\",BDD!$V$2:$V$3)","v":0},{"$f":"SUMIF(BDD!$BC$2:$BC$3,\"Chambre FroideFAUXVRAIVRAIFAUXFAUX\",BDD!$V$2:$V$3)","v":0},{"$f":"SUMIF(BDD!$BC$2:$BC$3,\"Chambre FroideFAUXVRAIFAUXVRAIFAUX\",BDD!$V$2:$V$3)","v":0},{"$f":"SUMIF(BDD!$BC$2:$BC$3,\"Chambre FroideFAUXVRAIFAUXFAUXVRAI\",BDD!$V$2:$V$3)","v":0},{"$f":"SUMIF(BDD!$BC$2:$BC$3,\"Chambre FroideVRAIFAUXVRAIFAUXFAUX\",BDD!$V$2:$V$3)","v":0},{"$f":"SUMIF(BDD!$BC$2:$BC$3,\"Chambre FroideVRAIFAUXFAUXVRAIFAUX\",BDD!$V$2:$V$3)","v":0},{"$f":"SUMIF(BDD!$BC$2:$BC$3,\"Chambre FroideVRAIFAUXFAUXFAUXVRAI\",BDD!$V$2:$V$3)","v":0},{"$f":"SUMIF(BDD!$BC$2:$BC$3,\"Chambre FroideFAUXVRAIVRAIFAUXFAUX\",BDD!$V$2:$V$3)","v":0},{"$f":"SUMIF(BDD!$BC$2:$BC$3,\"Chambre FroideFAUXVRAIFAUXVRAIFAUX\",BDD!$V$2:$V$3)","v":0},{"$f":"SUMIF(BDD!$BC$2:$BC$3,\"Chambre FroideFAUXVRAIFAUXFAUXVRAI\",BDD!$V$2:$V$3)","v":0},{"$f":"SUMIF(BDD!$BC$2:$BC$3,\"Chambre FroideVRAIFAUXVRAIFAUXFAUX\",BDD!$V$2:$V$3)","v":0},{"$f":"SUMIF(BDD!$BC$2:$BC$3,\"Chambre FroideVRAIFAUXFAUXVRAIFAUX\",BDD!$V$2:$V$3)","v":0},{"$f":"SUMIF(BDD!$BC$2:$BC$3,\"Chambre FroideVRAIFAUXFAUXFAUXVRAI\",BDD!$V$2:$V$3)","v":0},{"$f":"SUMIF(BDD!$BC$2:$BC$3,\"Chambre FroideFAUXVRAIVRAIFAUXFAUX\",BDD!$V$2:$V$3)","v":0},{"$f":"SUMIF(BDD!$BC$2:$BC$3,\"Chambre FroideFAUXVRAIFAUXVRAIFAUX\",BDD!$V$2:$V$3)","v":0},{"$f":"SUMIF(BDD!$BC$2:$BC$3,\"Chambre FroideFAUXVRAIFAUXFAUXVRAI\",BDD!$V$2:$V$3)","v":0},{"$f":"SUMIF(BDD!$BC$2:$BC$3,\"Chambre FroideVRAIFAUXVRAIFAUXFAUX\",BDD!$V$2:$V$3)","v":0},{"$f":"SUMIF(BDD!$BC$2:$BC$3,\"Chambre FroideVRAIFAUXFAUXVRAIFAUX\",BDD!$V$2:$V$3)","v":0},{"$f":"SUMIF(BDD!$BC$2:$BC$3,\"Chambre FroideVRAIFAUXFAUXFAUXVRAI\",BDD!$V$2:$V$3)","v":0},{"$f":"SUMIF(BDD!$BC$2:$BC$3,\"Chambre FroideFAUXVRAIVRAIFAUXFAUX\",BDD!$V$2:$V$3)","v":0},{"$f":"SUMIF(BDD!$BC$2:$BC$3,\"Chambre FroideFAUXVRAIFAUXVRAIFAUX\",BDD!$V$2:$V$3)","v":0},{"$f":"SUMIF(BDD!$BC$2:$BC$3,\"Chambre FroideFAUXVRAIFAUXFAUXVRAI\",BDD!$V$2:$V$3)","v":0},{"$f":"SUMIF(BDD!$BC$2:$BC$3,\"Chambre FroideVRAIFAUXVRAIFAUXFAUX\",BDD!$V$2:$V$3)","v":0},{"$f":"SUMIF(BDD!$BC$2:$BC$3,\"Chambre FroideVRAIFAUXFAUXVRAIFAUX\",BDD!$V$2:$V$3)","v":0},{"$f":"SUMIF(BDD!$BC$2:$BC$3,\"Chambre FroideVRAIFAUXFAUXFAUXVRAI\",BDD!$V$2:$V$3)","v":0},{"$f":"SUMIF(BDD!$BC$2:$BC$3,\"Chambre FroideFAUXVRAIVRAIFAUXFAUX\",BDD!$V$2:$V$3)","v":0},{"$f":"SUMIF(BDD!$BC$2:$BC$3,\"Chambre FroideFAUXVRAIFAUXVRAIFAUX\",BDD!$V$2:$V$3)","v":0},{"$f":"SUMIF(BDD!$BC$2:$BC$3,\"Chambre FroideFAUXVRAIFAUXFAUXVRAI\",BDD!$V$2:$V$3)","v":0},{"$f":"SUMIF(BDD!$BC$2:$BC$3,\"Chambre FroideVRAIFAUXVRAIFAUXFAUX\",BDD!$V$2:$V$3)","v":0},{"$f":"SUMIF(BDD!$BC$2:$BC$3,\"Chambre FroideVRAIFAUXFAUXVRAIFAUX\",BDD!$V$2:$V$3)","v":0},{"$f":"SUMIF(BDD!$BC$2:$BC$3,\"Chambre FroideVRAIFAUXFAUXFAUXVRAI\",BDD!$V$2:$V$3)","v":0},{"$f":"SUMIF(BDD!$BC$2:$BC$3,\"Chambre FroideFAUXVRAIVRAIFAUXFAUX\",BDD!$V$2:$V$3)","v":0},{"$f":"SUMIF(BDD!$BC$2:$BC$3,\"Chambre FroideFAUXVRAIFAUXVRAIFAUX\",BDD!$V$2:$V$3)","v":0},{"$f":"SUMIF(BDD!$BC$2:$BC$3,\"Chambre FroideFAUXVRAIFAUXFAUXVRAI\",BDD!$V$2:$V$3)","v":0}]
["Chambre Sourde",{"$f":"SUMIF(BDD!$BC$2:$BC$3,\"Chambre SourdeVRAIFAUXVRAIFAUXFAUX\",BDD!$V$2:$V$3)","v":0},{"$f":"SUMIF(BDD!$BC$2:$BC$3,\"Chambre SourdeVRAIFAUXFAUXVRAIFAUX\",BDD!$V$2:$V$3)","v":0},{"$f":"SUMIF(BDD!$BC$2:$BC$3,\"Chambre SourdeVRAIFAUXFAUXFAUXVRAI\",BDD!$V$2:$V$3)","v":0},{"$f":"SUMIF(BDD!$BC$2:$BC$3,\"Chambre SourdeFAUXVRAIVRAIFAUXFAUX\",BDD!$V$2:$V$3)","v":0},{"$f":"SUMIF(BDD!$BC$2:$BC$3,\"Chambre SourdeFAUXVRAIFAUXVRAIFAUX\",BDD!$V$2:$V$3)","v":0},{"$f":"SUMIF(BDD!$BC$2:$BC$3,\"Chambre SourdeFAUXVRAIFAUXFAUXVRAI\",BDD!$V$2:$V$3)","v":0},{"$f":"SUMIF(BDD!$BC$2:$BC$3,\"Chambre SourdeVRAIFAUXVRAIFAUXFAUX\",BDD!$V$2:$V$3)","v":0},{"$f":"SUMIF(BDD!$BC$2:$BC$3,\"Chambre SourdeVRAIFAUXFAUXVRAIFAUX\",BDD!$V$2:$V$3)","v":0},{"$f":"SUMIF(BDD!$BC$2:$BC$3,\"Chambre SourdeVRAIFAUXFAUXFAUXVRAI\",BDD!$V$2:$V$3)","v":0},{"$f":"SUMIF(BDD!$BC$2:$BC$3,\"Chambre SourdeFAUXVRAIVRAIFAUXFAUX\",BDD!$V$2:$V$3)","v":0},{"$f":"SUMIF(BDD!$BC$2:$BC$3,\"Chambre SourdeFAUXVRAIFAUXVRAIFAUX\",BDD!$V$2:$V$3)","v":0},{"$f":"SUMIF(BDD!$BC$2:$BC$3,\"Chambre SourdeFAUXVRAIFAUXFAUXVRAI\",BDD!$V$2:$V$3)","v":0},{"$f":"SUMIF(BDD!$BC$2:$BC$683,\"Chambre SourdeVRAIFAUXVRAIFAUXFAUX\",BDD!$V$2:$V$683)","v":0},{"$f":"SUMIF(BDD!$BC$2:$BC$683,\"Chambre SourdeVRAIFAUXFAUXVRAIFAUX\",BDD!$V$2:$V$683)","v":0},{"$f":"SUMIF(BDD!$BC$2:$BC$683,\"Chambre SourdeVRAIFAUXFAUXFAUXVRAI\",BDD!$V$2:$V$683)","v":0},{"$f":"SUMIF(BDD!$BC$2:$BC$683,\"Chambre SourdeFAUXVRAIVRAIFAUXFAUX\",BDD!$V$2:$V$683)","v":0},{"$f":"SUMIF(BDD!$BC$2:$BC$683,\"Chambre SourdeFAUXVRAIFAUXVRAIFAUX\",BDD!$V$2:$V$683)","v":0},{"$f":"SUMIF(BDD!$BC$2:$BC$683,\"Chambre SourdeFAUXVRAIFAUXFAUXVRAI\",BDD!$V$2:$V$683)","v":0},{"$f":"SUMIF(BDD!$BC$2:$BC$3,\"Chambre SourdeVRAIFAUXVRAIFAUXFAUX\",BDD!$V$2:$V$3)","v":0},{"$f":"SUMIF(BDD!$BC$2:$BC$3,\"Chambre SourdeVRAIFAUXFAUXVRAIFAUX\",BDD!$V$2:$V$3)","v":0},{"$f":"SUMIF(BDD!$BC$2:$BC$3,\"Chambre SourdeVRAIFAUXFAUXFAUXVRAI\",BDD!$V$2:$V$3)","v":0},{"$f":"SUMIF(BDD!$BC$2:$BC$3,\"Chambre SourdeFAUXVRAIVRAIFAUXFAUX\",BDD!$V$2:$V$3)","v":0},{"$f":"SUMIF(BDD!$BC$2:$BC$3,\"Chambre SourdeFAUXVRAIFAUXVRAIFAUX\",BDD!$V$2:$V$3)","v":0},{"$f":"SUMIF(BDD!$BC$2:$BC$3,\"Chambre SourdeFAUXVRAIFAUXFAUXVRAI\",BDD!$V$2:$V$3)","v":0},{"$f":"SUMIF(BDD!$BC$2:$BC$3,\"Chambre SourdeVRAIFAUXVRAIFAUXFAUX\",BDD!$V$2:$V$3)","v":0},{"$f":"SUMIF(BDD!$BC$2:$BC$3,\"Chambre SourdeVRAIFAUXFAUXVRAIFAUX\",BDD!$V$2:$V$3)","v":0},{"$f":"SUMIF(BDD!$BC$2:$BC$3,\"Chambre SourdeVRAIFAUXFAUXFAUXVRAI\",BDD!$V$2:$V$3)","v":0},{"$f":"SUMIF(BDD!$BC$2:$BC$3,\"Chambre SourdeFAUXVRAIVRAIFAUXFAUX\",BDD!$V$2:$V$3)","v":0},{"$f":"SUMIF(BDD!$BC$2:$BC$3,\"Chambre SourdeFAUXVRAIFAUXVRAIFAUX\",BDD!$V$2:$V$3)","v":0},{"$f":"SUMIF(BDD!$BC$2:$BC$3,\"Chambre SourdeFAUXVRAIFAUXFAUXVRAI\",BDD!$V$2:$V$3)","v":0},{"$f":"SUMIF(BDD!$BC$2:$BC$3,\"Chambre SourdeVRAIFAUXVRAIFAUXFAUX\",BDD!$V$2:$V$3)","v":0},{"$f":"SUMIF(BDD!$BC$2:$BC$3,\"Chambre SourdeVRAIFAUXFAUXVRAIFAUX\",BDD!$V$2:$V$3)","v":0},{"$f":"SUMIF(BDD!$BC$2:$BC$3,\"Chambre SourdeVRAIFAUXFAUXFAUXVRAI\",BDD!$V$2:$V$3)","v":0},{"$f":"SUMIF(BDD!$BC$2:$BC$3,\"Chambre SourdeFAUXVRAIVRAIFAUXFAUX\",BDD!$V$2:$V$3)","v":0},{"$f":"SUMIF(BDD!$BC$2:$BC$3,\"Chambre SourdeFAUXVRAIFAUXVRAIFAUX\",BDD!$V$2:$V$3)","v":0},{"$f":"SUMIF(BDD!$BC$2:$BC$3,\"Chambre SourdeFAUXVRAIFAUXFAUXVRAI\",BDD!$V$2:$V$3)","v":0},{"$f":"SUMIF(BDD!$BC$2:$BC$3,\"Chambre SourdeVRAIFAUXVRAIFAUXFAUX\",BDD!$V$2:$V$3)","v":0},{"$f":"SUMIF(BDD!$BC$2:$BC$3,\"Chambre SourdeVRAIFAUXFAUXVRAIFAUX\",BDD!$V$2:$V$3)","v":0},{"$f":"SUMIF(BDD!$BC$2:$BC$3,\"Chambre SourdeVRAIFAUXFAUXFAUXVRAI\",BDD!$V$2:$V$3)","v":0},{"$f":"SUMIF(BDD!$BC$2:$BC$3,\"Chambre SourdeFAUXVRAIVRAIFAUXFAUX\",BDD!$V$2:$V$3)","v":0},{"$f":"SUMIF(BDD!$BC$2:$BC$3,\"Chambre SourdeFAUXVRAIFAUXVRAIFAUX\",BDD!$V$2:$V$3)","v":0},{"$f":"SUMIF(BDD!$BC$2:$BC$3,\"Chambre SourdeFAUXVRAIFAUXFAUXVRAI\",BDD!$V$2:$V$3)","v":0},{"$f":"SUMIF(BDD!$BC$2:$BC$3,\"Chambre SourdeVRAIFAUXVRAIFAUXFAUX\",BDD!$V$2:$V$3)","v":0},{"$f":"SUMIF(BDD!$BC$2:$BC$3,\"Chambre SourdeVRAIFAUXFAUXVRAIFAUX\",BDD!$V$2:$V$3)","v":0},{"$f":"SUMIF(BDD!$BC$2:$BC$3,\"Chambre SourdeVRAIFAUXFAUXFAUXVRAI\",BDD!$V$2:$V$3)","v":0},{"$f":"SUMIF(BDD!$BC$2:$BC$3,\"Chambre SourdeFAUXVRAIVRAIFAUXFAUX\",BDD!$V$2:$V$3)","v":0},{"$f":"SUMIF(BDD!$BC$2:$BC$3,\"Chambre SourdeFAUXVRAIFAUXVRAIFAUX\",BDD!$V$2:$V$3)","v":0},{"$f":"SUMIF(BDD!$BC$2:$BC$3,\"Chambre SourdeFAUXVRAIFAUXFAUXVRAI\",BDD!$V$2:$V$3)","v":0},{"$f":"SUMIF(BDD!$BC$2:$BC$3,\"Chambre SourdeVRAIFAUXVRAIFAUXFAUX\",BDD!$V$2:$V$3)","v":0},{"$f":"SUMIF(BDD!$BC$2:$BC$3,\"Chambre SourdeVRAIFAUXFAUXVRAIFAUX\",BDD!$V$2:$V$3)","v":0},{"$f":"SUMIF(BDD!$BC$2:$BC$3,\"Chambre SourdeVRAIFAUXFAUXFAUXVRAI\",BDD!$V$2:$V$3)","v":0},{"$f":"SUMIF(BDD!$BC$2:$BC$3,\"Chambre SourdeFAUXVRAIVRAIFAUXFAUX\",BDD!$V$2:$V$3)","v":0},{"$f":"SUMIF(BDD!$BC$2:$BC$3,\"Chambre SourdeFAUXVRAIFAUXVRAIFAUX\",BDD!$V$2:$V$3)","v":0},{"$f":"SUMIF(BDD!$BC$2:$BC$3,\"Chambre SourdeFAUXVRAIFAUXFAUXVRAI\",BDD!$V$2:$V$3)","v":0},{"$f":"SUMIF(BDD!$BC$2:$BC$3,\"Chambre SourdeVRAIFAUXVRAIFAUXFAUX\",BDD!$V$2:$V$3)","v":0},{"$f":"SUMIF(BDD!$BC$2:$BC$3,\"Chambre SourdeVRAIFAUXFAUXVRAIFAUX\",BDD!$V$2:$V$3)","v":0},{"$f":"SUMIF(BDD!$BC$2:$BC$3,\"Chambre SourdeVRAIFAUXFAUXFAUXVRAI\",BDD!$V$2:$V$3)","v":0},{"$f":"SUMIF(BDD!$BC$2:$BC$3,\"Chambre SourdeFAUXVRAIVRAIFAUXFAUX\",BDD!$V$2:$V$3)","v":0},{"$f":"SUMIF(BDD!$BC$2:$BC$3,\"Chambre SourdeFAUXVRAIFAUXVRAIFAUX\",BDD!$V$2:$V$3)","v":0},{"$f":"SUMIF(BDD!$BC$2:$BC$3,\"Chambre SourdeFAUXVRAIFAUXFAUXVRAI\",BDD!$V$2:$V$3)","v":0},{"$f":"SUMIF(BDD!$BC$2:$BC$3,\"Chambre SourdeVRAIFAUXVRAIFAUXFAUX\",BDD!$V$2:$V$3)","v":0},{"$f":"SUMIF(BDD!$BC$2:$BC$3,\"Chambre SourdeVRAIFAUXFAUXVRAIFAUX\",BDD!$V$2:$V$3)","v":0},{"$f":"SUMIF(BDD!$BC$2:$BC$3,\"Chambre SourdeVRAIFAUXFAUXFAUXVRAI\",BDD!$V$2:$V$3)","v":0},{"$f":"SUMIF(BDD!$BC$2:$BC$3,\"Chambre SourdeFAUXVRAIVRAIFAUXFAUX\",BDD!$V$2:$V$3)","v":0},{"$f":"SUMIF(BDD!$BC$2:$BC$3,\"Chambre SourdeFAUXVRAIFAUXVRAIFAUX\",BDD!$V$2:$V$3)","v":0},{"$f":"SUMIF(BDD!$BC$2:$BC$3,\"Chambre SourdeFAUXVRAIFAUXFAUXVRAI\",BDD!$V$2:$V$3)","v":0},{"$f":"SUMIF(BDD!$BC$2:$BC$3,\"Chambre SourdeVRAIFAUXVRAIFAUXFAUX\",BDD!$V$2:$V$3)","v":0},{"$f":"SUMIF(BDD!$BC$2:$BC$3,\"Chambre SourdeVRAIFAUXFAUXVRAIFAUX\",BDD!$V$2:$V$3)","v":0},{"$f":"SUMIF(BDD!$BC$2:$BC$3,\"Chambre SourdeVRAIFAUXFAUXFAUXVRAI\",BDD!$V$2:$V$3)","v":0},{"$f":"SUMIF(BDD!$BC$2:$BC$3,\"Chambre SourdeFAUXVRAIVRAIFAUXFAUX\",BDD!$V$2:$V$3)","v":0},{"$f":"SUMIF(BDD!$BC$2:$BC$3,\"Chambre SourdeFAUXVRAIFAUXVRAIFAUX\",BDD!$V$2:$V$3)","v":0},{"$f":"SUMIF(BDD!$BC$2:$BC$3,\"Chambre SourdeFAUXVRAIFAUXFAUXVRAI\",BDD!$V$2:$V$3)","v":0}]

{"sheet":"Indicateur Zone8","index":5,"n_rows":97,"n_cols":73,"rows_kept":97,"cut":false,"hidden":false,"merged":[[88,70,88,72],[88,55,88,57],[88,58,88,60],[88,61,88,63],[88,64,88,66],[88,67,88,69],[88,40,88,42],[88,43,88,45],[88,46,88,48],[88,49,88,51],[88,52,88,54],[87,55,87,60],[87,61,87,66],[87,67,87,72],[88,1,88,3],[88,4,88,6],[88,7,88,9],[88,10,88,12],[88,13,88,15],[88,16,88,18],[88,19,88,21],[88,22,88,24],[88,25,88,27],[88,28,88,30],[88,31,88,33],[88,34,88,36],[88,37,88,39],[87,25,87,30],[87,31,87,36],[87,37,87,42],[87,43,87,48],[87,49,87,54],[55,23,55,24],[86,1,86,21],[87,1,87,6],[87,7,87,12],[87,13,87,18],[87,19,87,24],[55,13,55,14],[55,15,55,16],[55,17,55,18],[55,19,55,20],[55,21,55,22],[1,1,1,12],[30,1,30,12],[54,1,54,12],[55,1,55,2],[55,3,55,4],[55,5,55,6],[55,7,55,8],[55,9,55,10],[55,11,55,12]]}
[]
[null,"Suivi des arrêts par banc"]
["Banc zone 8","Janvier","Février","Mars","Avril","Mai","Juin","Juillet","Août","Septembre","Octobre","Novembre","Décembre"]
["Banc P5",{"$f":"SUMIF(BDD!$H$2:$H$3,'Indicateur Zone8'!$A4,BDD!$V$2:$V$3)","v":0},{"$f":"SUMIF(BDD!$H$2:$H$3,'Indicateur Zone8'!$A4,BDD!$V$2:$V$3)","v":0},{"$f":"SUMIF(BDD!$H$2:$H$683,'Indicateur Zone8'!$A$4,BDD!$V$2:$V$683)","v":0},{"$f":"SUMIF(BDD!$H$2:$H$3,'Indicateur Zone8'!$A4,BDD!$V$2:$V$3)","v":0},{"$f":"SUMIF(BDD!$H$2:$H$3,'Indicateur Zone8'!$A4,BDD!$V$2:$V$3)","v":0},{"$f":"SUMIF(BDD!$H$2:$H$3,'Indicateur Zone8'!$A4,BDD!$V$2:$V$3)","v":0},{"$f":"SUMIF(BDD!$H$2:$H$3,'Indicateur Zone8'!$A4,BDD!$V$2:$V$3)","v":0},{"$f":"SUMIF(BDD!$H$2:$H$3,'Indicateur Zone8'!$A4,BDD!$V$2:$V$3)","v":0},{"$f":"SUMIF(BDD!$H$2:$H$3,'Indicateur Zone8'!$A4,BDD!$V$2:$V$3)","v":0},{"$f":"SUMIF(BDD!$H$2:$H$3,'Indicateur Zone8'!$A4,BDD!$V$2:$V$3)","v":0},{"$f":"SUMIF(BDD!$H$2:$H$3,'Indicateur Zone8'!$A4,BDD!$V$2:$V$3)","v":0},{"$f":"SUMIF(BDD!$H$2:$H$3,'Indicateur Zone8'!$A4,BDD!$V$2:$V$3)","v":0}]
["Banc P7",{"$f":"SUMIF(BDD!$H$2:$H$3,'Indicateur Zone8'!$A5,BDD!$V$2:$V$3)","v":0},{"$f":"SUMIF(BDD!$H$2:$H$3,'Indicateur Zone8'!$A5,BDD!$V$2:$V$3)","v":0},{"$f":"SUMIF(BDD!$H$2:$H$683,'Indicateur Zone8'!$A$5,BDD!$V$2:$V$683)","v":0.15},{"$f":"SUMIF(BDD!$H$2:$H$3,'Indicateur Zone8'!$A5,BDD!$V$2:$V$3)","v":0},{"$f":"SUMIF(BDD!$H$2:$H$3,'Indicateur Zone8'!$A5,BDD!$V$2:$V$3)","v":0},{"$f":"SUMIF(BDD!$H$2:$H$3,'Indicateur Zone8'!$A5,BDD!$V$2:$V$3)","v":0},{"$f":"SUMIF(BDD!$H$2:$H$3,'Indicateur Zone8'!$A5,BDD!$V$2:$V$3)","v":0},{"$f":"SUMIF(BDD!$H$2:$H$3,'Indicateur Zone8'!$A5,BDD!$V$2:$V$3)","v":0},{"$f":"SUMIF(BDD!$H$2:$H$3,'Indicateur Zone8'!$A5,BDD!$V$2:$V$3)","v":0},{"$f":"SUMIF(BDD!$H$2:$H$3,'Indicateur Zone8'!$A5,BDD!$V$2:$V$3)","v":0},{"$f":"SUMIF(BDD!$H$2:$H$3,'Indicateur Zone8'!$A5,BDD!$V$2:$V$3)","v":0},{"$f":"SUMIF(BDD!$H$2:$H$3,'Indicateur Zone8'!$A5,BDD!$V$2:$V$3)","v":0}]
["Banc 101",{"$f":"SUMIF(BDD!$H$2:$H$3,'Indicateur Zone8'!$A6,BDD!$V$2:$V$3)","v":0},{"$f":"SUMIF(BDD!$H$2:$H$3,'Indicateur Zone8'!$A6,BDD!$V$2:$V$3)","v":0},{"$f":"SUMIF(BDD!$H$2:$H$683,'Indicateur Zone8'!$A$6,BDD!$V$2:$V$683)","v":0},{"$f":"SUMIF(BDD!$H$2:$H$3,'Indicateur Zone8'!$A6,BDD!$V$2:$V$3)","v":0},{"$f":"SUMIF(BDD!$H$2:$H$3,'Indicateur Zone8'!$A6,BDD!$V$2:$V$3)","v":0},{"$f":"SUMIF(BDD!$H$2:$H$3,'Indicateur Zone8'!$A6,BDD!$V$2:$V$3)","v":0},{"$f":"SUMIF(BDD!$H$2:$H$3,'Indicateur Zone8'!$A6,BDD!$V$2:$V$3)","v":0},{"$f":"SUMIF(BDD!$H$2:$H$3,'Indicateur Zone8'!$A6,BDD!$V$2:$V$3)","v":0},{"$f":"SUMIF(BDD!$H$2:$H$3,'Indicateur Zone8'!$A6,BDD!$V$2:$V$3)","v":0},{"$f":"SUMIF(BDD!$H$2:$H$3,'Indicateur Zone8'!$A6,BDD!$V$2:$V$3)","v":0},{"$f":"SUMIF(BDD!$H$2:$H$3,'Indicateur Zone8'!$A6,BDD!$V$2:$V$3)","v":0},{"$f":"SUMIF(BDD!$H$2:$H$3,'Indicateur Zone8'!$A6,BDD!$V$2:$V$3)","v":0}]
["Banc 104",{"$f":"SUMIF(BDD!$H$2:$H$3,'Indicateur Zone8'!$A7,BDD!$V$2:$V$3)","v":0},{"$f":"SUMIF(BDD!$H$2:$H$3,'Indicateur Zone8'!$A7,BDD!$V$2:$V$3)","v":0},{"$f":"SUMIF(BDD!$H$2:$H$683,'Indicateur Zone8'!$A$7,BDD!$V$2:$V$683)","v":3},{"$f":"SUMIF(BDD!$H$2:$H$3,'Indicateur Zone8'!$A7,BDD!$V$2:$V$3)","v":0},{"$f":"SUMIF(BDD!$H$2:$H$3,'Indicateur Zone8'!$A7,BDD!$V$2:$V$3)","v":0},{"$f":"SUMIF(BDD!$H$2:$H$3,'Indicateur Zone8'!$A7,BDD!$V$2:$V$3)","v":0},{"$f":"SUMIF(BDD!$H$2:$H$3,'Indicateur Zone8'!$A7,BDD!$V$2:$V$3)","v":0},{"$f":"SUMIF(BDD!$H$2:$H$3,'Indicateur Zone8'!$A7,BDD!$V$2:$V$3)","v":0},{"$f":"SUMIF(BDD!$H$2:$H$3,'Indicateur Zone8'!$A7,BDD!$V$2:$V$3)","v":0},{"$f":"SUMIF(BDD!$H$2:$H$3,'Indicateur Zone8'!$A7,BDD!$V$2:$V$3)","v":0},{"$f":"SUMIF(BDD!$H$2:$H$3,'Indicateur Zone8'!$A7,BDD!$V$2:$V$3)","v":0},{"$f":"SUMIF(BDD!$H$2:$H$3,'Indicateur Zone8'!$A7,BDD!$V$2:$V$3)","v":0}]
["Banc 121",{"$f":"SUMIF(BDD!$H$2:$H$3,'Indicateur Zone8'!$A8,BDD!$V$2:$V$3)","v":0},{"$f":"SUMIF(BDD!$H$2:$H$3,'Indicateur Zone8'!$A8,BDD!$V$2:$V$3)","v":0},{"$f":"SUMIF(BDD!$H$2:$H$683,'Indicateur Zone8'!$A$8,BDD!$V$2:$V$683)","v":0},{"$f":"SUMIF(BDD!$H$2:$H$3,'Indicateur Zone8'!$A8,BDD!$V$2:$V$3)","v":0},{"$f":"SUMIF(BDD!$H$2:$H$3,'Indicateur Zone8'!$A8,BDD!$V$2:$V$3)","v":0},{"$f":"SUMIF(BDD!$H$2:$H$3,'Indicateur Zone8'!$A8,BDD!$V$2:$V$3)","v":0},{"$f":"SUMIF(BDD!$H$2:$H$3,'Indicateur Zone8'!$A8,BDD!$V$2:$V$3)","v":0},{"$f":"SUMIF(BDD!$H$2:$H$3,'Indicateur Zone8'!$A8,BDD!$V$2:$V$3)","v":0},{"$f":"SUMIF(BDD!$H$2:$H$3,'Indicateur Zone8'!$A8,BDD!$V$2:$V$3)","v":0},{"$f":"SUMIF(BDD!$H$2:$H$3,'Indicateur Zone8'!$A8,BDD!$V$2:$V$3)","v":0},{"$f":"SUMIF(BDD!$H$2:$H$3,'Indicateur Zone8'!$A8,BDD!$V$2:$V$3)","v":0},{"$f":"SUMIF(BDD!$H$2:$H$3,'Indicateur Zone8'!$A8,BDD!$V$2:$V$3)","v":0}]
["Pompe à eau",{"$f":"SUMIF(BDD!$H$2:$H$3,'Indicateur Zone8'!$A9,BDD!$V$2:$V$3)","v":0},{"$f":"SUMIF(BDD!$H$2:$H$3,'Indicateur Zone8'!$A9,BDD!$V$2:$V$3)","v":0},{"$f":"SUMIF(BDD!$H$2:$H$683,'Indicateur Zone8'!$A$9,BDD!$V$2:$V$683)","v":0},{"$f":"SUMIF(BDD!$H$2:$H$3,'Indicateur Zone8'!$A9,BDD!$V$2:$V$3)","v":0},{"$f":"SUMIF(BDD!$H$2:$H$3,'Indicateur Zone8'!$A9,BDD!$V$2:$V$3)","v":0},{"$f":"SUMIF(BDD!$H$2:$H$3,'Indicateur Zone8'!$A9,BDD!$V$2:$V$3)","v":0},{"$f":"SUMIF(BDD!$H$2:$H$3,'Indicateur Zone8'!$A9,BDD!$V$2:$V$3)","v":0},{"$f":"SUMIF(BDD!$H$2:$H$3,'Indicateur Zone8'!$A9,BDD!$V$2:$V$3)","v":0},{"$f":"SUMIF(BDD!$H$2:$H$3,'Indicateur Zone8'!$A9,BDD!$V$2:$V$3)","v":0},{"$f":"SUMIF(BDD!$H$2:$H$3,'Indicateur Zone8'!$A9,BDD!$V$2:$V$3)","v":0},{"$f":"SUMIF(BDD!$H$2:$H$3,'Indicateur Zone8'!$A9,BDD!$V$2:$V$3)","v":0},{"$f":"SUMIF(BDD!$H$2:$H$3,'Indicateur Zone8'!$A9,BDD!$V$2:$V$3)","v":0}]
["Banc PowerTrain",{"$f":"SUMIF(BDD!$H$2:$H$3,'Indicateur Zone8'!$A10,BDD!$V$2:$V$3)","v":0},{"$f":"SUMIF(BDD!$H$2:$H$3,'Indicateur Zone8'!$A10,BDD!$V$2:$V$3)","v":0},{"$f":"SUMIF(BDD!$H$2:$H$683,'Indicateur Zone8'!$A$10,BDD!$V$2:$V$683)","v":0},{"$f":"SUMIF(BDD!$H$2:$H$3,'Indicateur Zone8'!$A10,BDD!$V$2:$V$3)","v":0},{"$f":"SUMIF(BDD!$H$2:$H$3,'Indicateur Zone8'!$A10,BDD!$V$2:$V$3)","v":0},{"$f":"SUMIF(BDD!$H$2:$H$3,'Indicateur Zone8'!$A10,BDD!$V$2:$V$3)","v":0},{"$f":"SUMIF(BDD!$H$2:$H$3,'Indicateur Zone8'!$A10,BDD!$V$2:$V$3)","v":0},{"$f":"SUMIF(BDD!$H$2:$H$3,'Indicateur Zone8'!$A10,BDD!$V$2:$V$3)","v":0},{"$f":"SUMIF(BDD!$H$2:$H$3,'Indicateur Zone8'!$A10,BDD!$V$2:$V$3)","v":0},{"$f":"SUMIF(BDD!$H$2:$H$3,'Indicateur Zone8'!$A10,BDD!$V$2:$V$3)","v":0},{"$f":"SUMIF(BDD!$H$2:$H$3,'Indicateur Zone8'!$A10,BDD!$V$2:$V$3)","v":0},{"$f":"SUMIF(BDD!$H$2:$H$3,'Indicateur Zone8'!$A10,BDD!$V$2:$V$3)","v":0}]
[]
[]
[]
[]
[]
[]
[]
[]
[]
[]
[]
[]
[]
[]
[]
[]
[]
[]
[]
[]
[null,"Suivi du correctif et du préventif"]
["Type de maintenance","Janvier","Février","Mars","Avril","Mai","Juin","Juillet","Août","Septembre","Octobre","Novembre","Décembre"]
["Préventive",{"$f":"SUM(C58:C64)","v":0},{"$f":"SUM(E58:E64)","v":0},{"$f":"SUM(G58:G64)","v":1},{"$f":"SUM(I58:I64)","v":0},{"$f":"SUM(K58:K64)","v":0},{"$f":"SUM(M58:M64)","v":0},{"$f":"SUM(O58:O64)","v":0},{"$f":"SUM(Q58:Q64)","v":0},{"$f":"SUM(S58:S64)","v":0},{"$f":"SUM(U58:U64)","v":0},{"$f":"SUM(W58:W64)","v":0},{"$f":"SUM(Y58:Y64)","v":0}]
["Corrective",{"$f":"SUM(B58:B64)","v":0},{"$f":"SUM(D58:D64)","v":0},{"$f":"SUM(F58:F64)","v":2.15},{"$f":"SUM(H58:H64)","v":0},{"$f":"SUM(J58:J64)","v":0},{"$f":"SUM(L58:L64)","v":0},{"$f":"SUM(N58:N64)","v":0},{"$f":"SUM(N58:N64)","v":0},{"$f":"SUM(R58:R64)","v":0},{"$f":"SUM(T58:T64)","v":0},{"$f":"SUM(V58:V64)","v":0},{"$f":"SUM(X58:X64)","v":0}]
[]
[]
[]
[]
[]
[]
[]
[]
[]
[]
[]
[]
[]
[]
[]
[]
[]
[]
[]
[]
[null,"Suivi du correctif et du préventif par banc"]
[null,"Janvier",null,"Février",null,"Mars",null,"Avril",null,"Mai",null,"Juin",null,"Juillet",null,"Août",null,"Septembre",null,"Octobre",null,"Novembre",null,"Décembre"]
["Banc zone 8","Corrective","Préventive","Corrective","Préventive","Corrective","Préventive","Corrective","Préventive","Corrective","Préventive","Corrective","Préventive","Corrective","Préventive","Corrective","Préventive","Corrective","Préventive","Corrective","Préventive","Corrective","Préventive","Corrective","Préventive"]
["Banc P5",{"$f":"SUMIF(BDD!$BB$2:$BB$3,\"Banc P5VRAIFAUX\",BDD!$V$2:$V$3)","v":0},{"$f":"SUMIF(BDD!$BB$2:$BB$3,\"Banc P5FAUXVRAI\",BDD!$V$2:$V$3)","v":0},{"$f":"SUMIF(BDD!$BB$2:$BB$3,\"Banc P5VRAIFAUX\",BDD!$V$2:$V$3)","v":0},{"$f":"SUMIF(BDD!$BB$2:$BB$3,\"Banc P5FAUXVRAI\",BDD!$V$2:$V$3)","v":0},{"$f":"SUMIF(BDD!$BB$2:$BB$683,\"Banc P5VRAIFAUX\",BDD!$V$2:$V$683)","v":0},{"$f":"SUMIF(BDD!$BB$2:$BB$683,\"Banc P5FAUXvrai\",BDD!$V$2:$V$683)","v":0},{"$f":"SUMIF(BDD!$BB$2:$BB$3,\"Banc P5VRAIFAUX\",BDD!$V$2:$V$3)","v":0},{"$f":"SUMIF(BDD!$BB$2:$BB$3,\"Banc P5FAUXVRAI\",BDD!$V$2:$V$3)","v":0},{"$f":"SUMIF(BDD!$BB$2:$BB$3,\"Banc P5VRAIFAUX\",BDD!$V$2:$V$3)","v":0},{"$f":"SUMIF(BDD!$BB$2:$BB$3,\"Banc P5FAUXVRAI\",BDD!$V$2:$V$3)","v":0},{"$f":"SUMIF(BDD!$BB$2:$BB$3,\"Banc P5VRAIFAUX\",BDD!$V$2:$V$3)","v":0},{"$f":"SUMIF(BDD!$BB$2:$BB$3,\"Banc P5FAUXVRAI\",BDD!$V$2:$V$3)","v":0},{"$f":"SUMIF(BDD!$BB$2:$BB$3,\"Banc P5VRAIFAUX\",BDD!$V$2:$V$3)","v":0},{"$f":"SUMIF(BDD!$BB$2:$BB$3,\"Banc P5FAUXVRAI\",BDD!$V$2:$V$3)","v":0},{"$f":"SUMIF(BDD!$BB$2:$BB$3,\"Banc P5VRAIFAUX\",BDD!$V$2:$V$3)","v":0},{"$f":"SUMIF(BDD!$BB$2:$BB$3,\"Banc P5FAUXVRAI\",BDD!$V$2:$V$3)","v":0},{"$f":"SUMIF(BDD!$BB$2:$BB$3,\"Banc P5VRAIFAUX\",BDD!$V$2:$V$3)","v":0},{"$f":"SUMIF(BDD!$BB$2:$BB$3,\"Banc P5FAUXVRAI\",BDD!$V$2:$V$3)","v":0},{"$f":"SUMIF(BDD!$BB$2:$BB$3,\"Banc P5VRAIFAUX\",BDD!$V$2:$V$3)","v":0},{"$f":"SUMIF(BDD!$BB$2:$BB$3,\"Banc P5FAUXVRAI\",BDD!$V$2:$V$3)","v":0},{"$f":"SUMIF(BDD!$BB$2:$BB$3,\"Banc P5VRAIFAUX\",BDD!$V$2:$V$3)","v":0},{"$f":"SUMIF(BDD!$BB$2:$BB$3,\"Banc P5FAUXVRAI\",BDD!$V$2:$V$3)","v":0},{"$f":"SUMIF(BDD!$BB$2:$BB$3,\"Banc P5VRAIFAUX\",BDD!$V$2:$V$3)","v":0},{"$f":"SUMIF(BDD!$BB$2:$BB$3,\"Banc P5FAUXVRAI\",BDD!$V$2:$V$3)","v":0}]
["Banc P7",{"$f":"SUMIF(BDD!$BB$2:$BB$3,\"Banc P7VRAIFAUX\",BDD!$V$2:$V$3)","v":0},{"$f":"SUMIF(BDD!$BB$2:$BB$3,\"Banc P7FAUXVRAI\",BDD!$V$2:$V$3)","v":0},{"$f":"SUMIF(BDD!$BB$2:$BB$3,\"Banc P7VRAIFAUX\",BDD!$V$2:$V$3)","v":0},{"$f":"SUMIF(BDD!$BB$2:$BB$3,\"Banc P7FAUXVRAI\",BDD!$V$2:$V$3)","v":0},{"$f":"SUMIF(BDD!$BB$2:$BB$683,\"Banc P7VRAIFAUX\",BDD!$V$2:$V$683)","v":0.15},{"$f":"SUMIF(BDD!$BB$2:$BB$683,\"Banc P7FAUXVRAI\",BDD!$V$2:$V$683)","v":0},{"$f":"SUMIF(BDD!$BB$2:$BB$3,\"Banc P7VRAIFAUX\",BDD!$V$2:$V$3)","v":0},{"$f":"SUMIF(BDD!$BB$2:$BB$3,\"Banc P7FAUXVRAI\",BDD!$V$2:$V$3)","v":0},{"$f":"SUMIF(BDD!$BB$2:$BB$3,\"Banc P7VRAIFAUX\",BDD!$V$2:$V$3)","v":0},{"$f":"SUMIF(BDD!$BB$2:$BB$3,\"Banc P7FAUXVRAI\",BDD!$V$2:$V$3)","v":0},{"$f":"SUMIF(BDD!$BB$2:$BB$3,\"Banc P7VRAIFAUX\",BDD!$V$2:$V$3)","v":0},{"$f":"SUMIF(BDD!$BB$2:$BB$3,\"Banc P7FAUXVRAI\",BDD!$V$2:$V$3)","v":0},{"$f":"SUMIF(BDD!$BB$2:$BB$3,\"Banc P7VRAIFAUX\",BDD!$V$2:$V$3)","v":0},{"$f":"SUMIF(BDD!$BB$2:$BB$3,\"Banc P7FAUXVRAI\",BDD!$V$2:$V$3)","v":0},{"$f":"SUMIF(BDD!$BB$2:$BB$3,\"Banc P7VRAIFAUX\",BDD!$V$2:$V$3)","v":0},{"$f":"SUMIF(BDD!$BB$2:$BB$3,\"Banc P7FAUXVRAI\",BDD!$V$2:$V$3)","v":0},{"$f":"SUMIF(BDD!$BB$2:$BB$3,\"Banc P7VRAIFAUX\",BDD!$V$2:$V$3)","v":0},{"$f":"SUMIF(BDD!$BB$2:$BB$3,\"Banc P7FAUXVRAI\",BDD!$V$2:$V$3)","v":0},{"$f":"SUMIF(BDD!$BB$2:$BB$3,\"Banc P7VRAIFAUX\",BDD!$V$2:$V$3)","v":0},{"$f":"SUMIF(BDD!$BB$2:$BB$3,\"Banc P7FAUXVRAI\",BDD!$V$2:$V$3)","v":0},{"$f":"SUMIF(BDD!$BB$2:$BB$3,\"Banc P7VRAIFAUX\",BDD!$V$2:$V$3)","v":0},{"$f":"SUMIF(BDD!$BB$2:$BB$3,\"Banc P7FAUXVRAI\",BDD!$V$2:$V$3)","v":0},{"$f":"SUMIF(BDD!$BB$2:$BB$3,\"Banc P7VRAIFAUX\",BDD!$V$2:$V$3)","v":0},{"$f":"SUMIF(BDD!$BB$2:$BB$3,\"Banc P7FAUXVRAI\",BDD!$V$2:$V$3)","v":0}]
["Banc 101",{"$f":"SUMIF(BDD!$BB$2:$BB$683,\"Banc 101VRAIFAUX\",BDD!$V$2:$V$683)","v":0},{"$f":"SUMIF(BDD!$BB$2:$BB$3,\"Banc 101FAUXVRAI\",BDD!$V$2:$V$3)","v":0},{"$f":"SUMIF(BDD!$BB$2:$BB$683,\"Banc 101VRAIFAUX\",BDD!$V$2:$V$683)","v":0},{"$f":"SUMIF(BDD!$BB$2:$BB$3,\"Banc 101FAUXVRAI\",BDD!$V$2:$V$3)","v":0},{"$f":"SUMIF(BDD!$BB$2:$BB$683,\"Banc 101VRAIFAUX\",BDD!$V$2:$V$683)","v":0},{"$f":"SUMIF(BDD!$BB$2:$BB$683,\"Banc 101FAUXVRAI\",BDD!$V$2:$V$683)","v":0},{"$f":"SUMIF(BDD!$BB$2:$BB$683,\"Banc 101VRAIFAUX\",BDD!$V$2:$V$683)","v":0},{"$f":"SUMIF(BDD!$BB$2:$BB$3,\"Banc 101FAUXVRAI\",BDD!$V$2:$V$3)","v":0},{"$f":"SUMIF(BDD!$BB$2:$BB$683,\"Banc 101VRAIFAUX\",BDD!$V$2:$V$683)","v":0},{"$f":"SUMIF(BDD!$BB$2:$BB$3,\"Banc 101FAUXVRAI\",BDD!$V$2:$V$3)","v":0},{"$f":"SUMIF(BDD!$BB$2:$BB$683,\"Banc 101VRAIFAUX\",BDD!$V$2:$V$683)","v":0},{"$f":"SUMIF(BDD!$BB$2:$BB$3,\"Banc 101FAUXVRAI\",BDD!$V$2:$V$3)","v":0},{"$f":"SUMIF(BDD!$BB$2:$BB$683,\"Banc 101VRAIFAUX\",BDD!$V$2:$V$683)","v":0},{"$f":"SUMIF(BDD!$BB$2:$BB$3,\"Banc 101FAUXVRAI\",BDD!$V$2:$V$3)","v":0},{"$f":"SUMIF(BDD!$BB$2:$BB$683,\"Banc 101VRAIFAUX\",BDD!$V$2:$V$683)","v":0},{"$f":"SUMIF(BDD!$BB$2:$BB$3,\"Banc 101FAUXVRAI\",BDD!$V$2:$V$3)","v":0},{"$f":"SUMIF(BDD!$BB$2:$BB$683,\"Banc 101VRAIFAUX\",BDD!$V$2:$V$683)","v":0},{"$f":"SUMIF(BDD!$BB$2:$BB$3,\"Banc 101FAUXVRAI\",BDD!$V$2:$V$3)","v":0},{"$f":"SUMIF(BDD!$BB$2:$BB$683,\"Banc 101VRAIFAUX\",BDD!$V$2:$V$683)","v":0},{"$f":"SUMIF(BDD!$BB$2:$BB$3,\"Banc 101FAUXVRAI\",BDD!$V$2:$V$3)","v":0},{"$f":"SUMIF(BDD!$BB$2:$BB$683,\"Banc 101VRAIFAUX\",BDD!$V$2:$V$683)","v":0},{"$f":"SUMIF(BDD!$BB$2:$BB$3,\"Banc 101FAUXVRAI\",BDD!$V$2:$V$3)","v":0},{"$f":"SUMIF(BDD!$BB$2:$BB$683,\"Banc 101VRAIFAUX\",BDD!$V$2:$V$683)","v":0},{"$f":"SUMIF(BDD!$BB$2:$BB$3,\"Banc 101FAUXVRAI\",BDD!$V$2:$V$3)","v":0}]
["Banc 104",{"$f":"SUMIF(BDD!$BB$2:$BB$3,\"Banc 104VRAIFAUX\",BDD!$V$2:$V$3)","v":0},{"$f":"SUMIF(BDD!$BB$2:$BB$3,\"Banc 104FAUXVRAI\",BDD!$V$2:$V$3)","v":0},{"$f":"SUMIF(BDD!$BB$2:$BB$3,\"Banc 104VRAIFAUX\",BDD!$V$2:$V$3)","v":0},{"$f":"SUMIF(BDD!$BB$2:$BB$3,\"Banc 104FAUXVRAI\",BDD!$V$2:$V$3)","v":0},{"$f":"SUMIF(BDD!$BB$2:$BB$683,\"Banc 104VRAIFAUX\",BDD!$V$2:$V$683)","v":2},{"$f":"SUMIF(BDD!$BB$2:$BB$683,\"Banc 104FAUXVRAI\",BDD!$V$2:$V$683)","v":1},{"$f":"SUMIF(BDD!$BB$2:$BB$3,\"Banc 104VRAIFAUX\",BDD!$V$2:$V$3)","v":0},{"$f":"SUMIF(BDD!$BB$2:$BB$3,\"Banc 104FAUXVRAI\",BDD!$V$2:$V$3)","v":0},{"$f":"SUMIF(BDD!$BB$2:$BB$3,\"Banc 104VRAIFAUX\",BDD!$V$2:$V$3)","v":0},{"$f":"SUMIF(BDD!$BB$2:$BB$3,\"Banc 104FAUXVRAI\",BDD!$V$2:$V$3)","v":0},{"$f":"SUMIF(BDD!$BB$2:$BB$3,\"Banc 104VRAIFAUX\",BDD!$V$2:$V$3)","v":0},{"$f":"SUMIF(BDD!$BB$2:$BB$3,\"Banc 104FAUXVRAI\",BDD!$V$2:$V$3)","v":0},{"$f":"SUMIF(BDD!$BB$2:$BB$3,\"Banc 104VRAIFAUX\",BDD!$V$2:$V$3)","v":0},{"$f":"SUMIF(BDD!$BB$2:$BB$3,\"Banc 104FAUXVRAI\",BDD!$V$2:$V$3)","v":0},{"$f":"SUMIF(BDD!$BB$2:$BB$3,\"Banc 104VRAIFAUX\",BDD!$V$2:$V$3)","v":0},{"$f":"SUMIF(BDD!$BB$2:$BB$3,\"Banc 104FAUXVRAI\",BDD!$V$2:$V$3)","v":0},{"$f":"SUMIF(BDD!$BB$2:$BB$3,\"Banc 104VRAIFAUX\",BDD!$V$2:$V$3)","v":0},{"$f":"SUMIF(BDD!$BB$2:$BB$3,\"Banc 104FAUXVRAI\",BDD!$V$2:$V$3)","v":0},{"$f":"SUMIF(BDD!$BB$2:$BB$3,\"Banc 104VRAIFAUX\",BDD!$V$2:$V$3)","v":0},{"$f":"SUMIF(BDD!$BB$2:$BB$3,\"Banc 104FAUXVRAI\",BDD!$V$2:$V$3)","v":0},{"$f":"SUMIF(BDD!$BB$2:$BB$3,\"Banc 104VRAIFAUX\",BDD!$V$2:$V$3)","v":0},{"$f":"SUMIF(BDD!$BB$2:$BB$3,\"Banc 104FAUXVRAI\",BDD!$V$2:$V$3)","v":0},{"$f":"SUMIF(BDD!$BB$2:$BB$3,\"Banc 104VRAIFAUX\",BDD!$V$2:$V$3)","v":0},{"$f":"SUMIF(BDD!$BB$2:$BB$3,\"Banc 104FAUXVRAI\",BDD!$V$2:$V$3)","v":0}]
["Banc 121",{"$f":"SUMIF(BDD!$BB$2:$BB$3,\"Banc 121VRAIFAUX\",BDD!$V$2:$V$3)","v":0},{"$f":"SUMIF(BDD!$BB$2:$BB$3,\"Banc 121FAUXVRAI\",BDD!$V$2:$V$3)","v":0},{"$f":"SUMIF(BDD!$BB$2:$BB$3,\"Banc 121VRAIFAUX\",BDD!$V$2:$V$3)","v":0},{"$f":"SUMIF(BDD!$BB$2:$BB$3,\"Banc 121FAUXVRAI\",BDD!$V$2:$V$3)","v":0},{"$f":"SUMIF(BDD!$BB$2:$BB$683,\"Banc 121VRAIFAUX\",BDD!$V$2:$V$683)","v":0},{"$f":"SUMIF(BDD!$BB$2:$BB$683,\"Banc 121FAUXVRAI\",BDD!$V$2:$V$683)","v":0},{"$f":"SUMIF(BDD!$BB$2:$BB$3,\"Banc 121VRAIFAUX\",BDD!$V$2:$V$3)","v":0},{"$f":"SUMIF(BDD!$BB$2:$BB$3,\"Banc 121FAUXVRAI\",BDD!$V$2:$V$3)","v":0},{"$f":"SUMIF(BDD!$BB$2:$BB$3,\"Banc 121VRAIFAUX\",BDD!$V$2:$V$3)","v":0},{"$f":"SUMIF(BDD!$BB$2:$BB$3,\"Banc 121FAUXVRAI\",BDD!$V$2:$V$3)","v":0},{"$f":"SUMIF(BDD!$BB$2:$BB$3,\"Banc 121VRAIFAUX\",BDD!$V$2:$V$3)","v":0},{"$f":"SUMIF(BDD!$BB$2:$BB$3,\"Banc 121FAUXVRAI\",BDD!$V$2:$V$3)","v":0},{"$f":"SUMIF(BDD!$BB$2:$BB$3,\"Banc 121VRAIFAUX\",BDD!$V$2:$V$3)","v":0},{"$f":"SUMIF(BDD!$BB$2:$BB$3,\"Banc 121FAUXVRAI\",BDD!$V$2:$V$3)","v":0},{"$f":"SUMIF(BDD!$BB$2:$BB$3,\"Banc 121VRAIFAUX\",BDD!$V$2:$V$3)","v":0},{"$f":"SUMIF(BDD!$BB$2:$BB$3,\"Banc 121FAUXVRAI\",BDD!$V$2:$V$3)","v":0},{"$f":"SUMIF(BDD!$BB$2:$BB$3,\"Banc 121VRAIFAUX\",BDD!$V$2:$V$3)","v":0},{"$f":"SUMIF(BDD!$BB$2:$BB$3,\"Banc 121FAUXVRAI\",BDD!$V$2:$V$3)","v":0},{"$f":"SUMIF(BDD!$BB$2:$BB$3,\"Banc 121VRAIFAUX\",BDD!$V$2:$V$3)","v":0},{"$f":"SUMIF(BDD!$BB$2:$BB$3,\"Banc 121FAUXVRAI\",BDD!$V$2:$V$3)","v":0},{"$f":"SUMIF(BDD!$BB$2:$BB$3,\"Banc 121VRAIFAUX\",BDD!$V$2:$V$3)","v":0},{"$f":"SUMIF(BDD!$BB$2:$BB$3,\"Banc 121FAUXVRAI\",BDD!$V$2:$V$3)","v":0},{"$f":"SUMIF(BDD!$BB$2:$BB$3,\"Banc 121VRAIFAUX\",BDD!$V$2:$V$3)","v":0},{"$f":"SUMIF(BDD!$BB$2:$BB$3,\"Banc 121FAUXVRAI\",BDD!$V$2:$V$3)","v":0}]
["Pompe à eau",{"$f":"SUMIF(BDD!$BB$2:$BB$3,\"Pompe à eauVRAIFAUX\",BDD!$V$2:$V$3)","v":0},{"$f":"SUMIF(BDD!$BB$2:$BB$3,\"Pompe à eauFAUXVRAI\",BDD!$V$2:$V$3)","v":0},{"$f":"SUMIF(BDD!$BB$2:$BB$3,\"Pompe à eauVRAIFAUX\",BDD!$V$2:$V$3)","v":0},{"$f":"SUMIF(BDD!$BB$2:$BB$3,\"Pompe à eauFAUXVRAI\",BDD!$V$2:$V$3)","v":0},{"$f":"SUMIF(BDD!$BB$2:$BB$683,\"Pompe à eauVRAIFAUX\",BDD!$V$2:$V$683)","v":0},{"$f":"SUMIF(BDD!$BB$2:$BB$683,\"Pompe à eauFAUXVRAI\",BDD!$V$2:$V$683)","v":0},{"$f":"SUMIF(BDD!$BB$2:$BB$3,\"Pompe à eauVRAIFAUX\",BDD!$V$2:$V$3)","v":0},{"$f":"SUMIF(BDD!$BB$2:$BB$3,\"Pompe à eauFAUXVRAI\",BDD!$V$2:$V$3)","v":0},{"$f":"SUMIF(BDD!$BB$2:$BB$3,\"Pompe à eauVRAIFAUX\",BDD!$V$2:$V$3)","v":0},{"$f":"SUMIF(BDD!$BB$2:$BB$3,\"Pompe à eauFAUXVRAI\",BDD!$V$2:$V$3)","v":0},{"$f":"SUMIF(BDD!$BB$2:$BB$3,\"Pompe à eauVRAIFAUX\",BDD!$V$2:$V$3)","v":0},{"$f":"SUMIF(BDD!$BB$2:$BB$3,\"Pompe à eauFAUXVRAI\",BDD!$V$2:$V$3)","v":0},{"$f":"SUMIF(BDD!$BB$2:$BB$3,\"Pompe à eauVRAIFAUX\",BDD!$V$2:$V$3)","v":0},{"$f":"SUMIF(BDD!$BB$2:$BB$3,\"Pompe à eauFAUXVRAI\",BDD!$V$2:$V$3)","v":0},{"$f":"SUMIF(BDD!$BB$2:$BB$3,\"Pompe à eauVRAIFAUX\",BDD!$V$2:$V$3)","v":0},{"$f":"SUMIF(BDD!$BB$2:$BB$3,\"Pompe à eauFAUXVRAI\",BDD!$V$2:$V$3)","v":0},{"$f":"SUMIF(BDD!$BB$2:$BB$3,\"Pompe à eauVRAIFAUX\",BDD!$V$2:$V$3)","v":0},{"$f":"SUMIF(BDD!$BB$2:$BB$3,\"Pompe à eauFAUXVRAI\",BDD!$V$2:$V$3)","v":0},{"$f":"SUMIF(BDD!$BB$2:$BB$3,\"Pompe à eauVRAIFAUX\",BDD!$V$2:$V$3)","v":0},{"$f":"SUMIF(BDD!$BB$2:$BB$3,\"Pompe à eauFAUXVRAI\",BDD!$V$2:$V$3)","v":0},{"$f":"SUMIF(BDD!$BB$2:$BB$3,\"Pompe à eauVRAIFAUX\",BDD!$V$2:$V$3)","v":0},{"$f":"SUMIF(BDD!$BB$2:$BB$3,\"Pompe à eauFAUXVRAI\",BDD!$V$2:$V$3)","v":0},{"$f":"SUMIF(BDD!$BB$2:$BB$3,\"Pompe à eauVRAIFAUX\",BDD!$V$2:$V$3)","v":0},{"$f":"SUMIF(BDD!$BB$2:$BB$3,\"Pompe à eauFAUXVRAI\",BDD!$V$2:$V$3)","v":0}]
["Banc PowerTrain",{"$f":"SUMIF(BDD!$BB$2:$BB$3,\"Banc PowerTrainVRAIFAUX\",BDD!$V$2:$V$3)","v":0},{"$f":"SUMIF(BDD!$BB$2:$BB$3,\"Banc PowerTrainFAUXVRAI\",BDD!$V$2:$V$3)","v":0},{"$f":"SUMIF(BDD!$BB$2:$BB$3,\"Banc PowerTrainVRAIFAUX\",BDD!$V$2:$V$3)","v":0},{"$f":"SUMIF(BDD!$BB$2:$BB$3,\"Banc PowerTrainFAUXVRAI\",BDD!$V$2:$V$3)","v":0},{"$f":"SUMIF(BDD!$BB$2:$BB$683,\"Banc PowerTrainVRAIFAUX\",BDD!$V$2:$V$683)","v":0},{"$f":"SUMIF(BDD!$BB$2:$BB$683,\"Banc PowerTrainFAUXVRAI\",BDD!$V$2:$V$683)","v":0},{"$f":"SUMIF(BDD!$BB$2:$BB$3,\"Banc PowerTrainVRAIFAUX\",BDD!$V$2:$V$3)","v":0},{"$f":"SUMIF(BDD!$BB$2:$BB$3,\"Banc PowerTrainFAUXVRAI\",BDD!$V$2:$V$3)","v":0},{"$f":"SUMIF(BDD!$BB$2:$BB$3,\"Banc PowerTrainVRAIFAUX\",BDD!$V$2:$V$3)","v":0},{"$f":"SUMIF(BDD!$BB$2:$BB$3,\"Banc PowerTrainFAUXVRAI\",BDD!$V$2:$V$3)","v":0},{"$f":"SUMIF(BDD!$BB$2:$BB$3,\"Banc PowerTrainVRAIFAUX\",BDD!$V$2:$V$3)","v":0},{"$f":"SUMIF(BDD!$BB$2:$BB$3,\"Banc PowerTrainFAUXVRAI\",BDD!$V$2:$V$3)","v":0},{"$f":"SUMIF(BDD!$BB$2:$BB$3,\"Banc PowerTrainVRAIFAUX\",BDD!$V$2:$V$3)","v":0},{"$f":"SUMIF(BDD!$BB$2:$BB$3,\"Banc PowerTrainFAUXVRAI\",BDD!$V$2:$V$3)","v":0},{"$f":"SUMIF(BDD!$BB$2:$BB$3,\"Banc PowerTrainVRAIFAUX\",BDD!$V$2:$V$3)","v":0},{"$f":"SUMIF(BDD!$BB$2:$BB$3,\"Banc PowerTrainFAUXVRAI\",BDD!$V$2:$V$3)","v":0},{"$f":"SUMIF(BDD!$BB$2:$BB$3,\"Banc PowerTrainVRAIFAUX\",BDD!$V$2:$V$3)","v":0},{"$f":"SUMIF(BDD!$BB$2:$BB$3,\"Banc PowerTrainFAUXVRAI\",BDD!$V$2:$V$3)","v":0},{"$f":"SUMIF(BDD!$BB$2:$BB$3,\"Banc PowerTrainVRAIFAUX\",BDD!$V$2:$V$3)","v":0},{"$f":"SUMIF(BDD!$BB$2:$BB$3,\"Banc PowerTrainFAUXVRAI\",BDD!$V$2:$V$3)","v":0},{"$f":"SUMIF(BDD!$BB$2:$BB$3,\"Banc PowerTrainVRAIFAUX\",BDD!$V$2:$V$3)","v":0},{"$f":"SUMIF(BDD!$BB$2:$BB$3,\"Banc PowerTrainFAUXVRAI\",BDD!$V$2:$V$3)","v":0},{"$f":"SUMIF(BDD!$BB$2:$BB$3,\"Banc PowerTrainVRAIFAUX\",BDD!$V$2:$V$3)","v":0},{"$f":"SUMIF(BDD!$BB$2:$BB$3,\"Banc PowerTrainFAUXVRAI\",BDD!$V$2:$V$3)","v":0}]
[]
[]
[]
[]
[]
[]
[]
[]
[]
[]
[]
[]
[]
[]
[]
[]
[]
[]
[]
[]
[]
[]
[null,"Suivi du correctif et du préventif par banc"]
[null,"Janvier",null,null,null,null,null,"Février",null,null,null,null,null,"Mars",null,null,null,null,null,"Avril",null,null,null,null,null,"Mai",null,null,null,null,null,"Juin",null,null,null,null,null,"Juillet",null,null,null,null,null,"Août",null,null,null,null,null,"Septembre",null,null,null,null,null,"Octobre",null,null,null,null,null,"Novembre",null,null,null,null,null,"Décembre"]
[null,"Corrective",null,null,"Préventive",null,null,"Corrective",null,null,"Préventive",null,null,"Corrective",null,null,"Préventive",null,null,"Corrective",null,null,"Préventive",null,null,"Corrective",null,null,"Préventive",null,null,"Corrective",null,null,"Préventive",null,null,"Corrective",null,null,"Préventive",null,null,"Corrective",null,null,"Préventive",null,null,"Corrective",null,null,"Préventive",null,null,"Corrective",null,null,"Préventive",null,null,"Corrective",null,null,"Préventive",null,null,"Corrective",null,null,"Préventive"]
["Banc zone 8","Electrique","Mécanique","Hydraulique","Electrique","Mécanique","Hydraulique","Electrique","Mécanique","Hydraulique","Electrique","Mécanique","Hydraulique","Electrique","Mécanique","Hydraulique","Electrique","Mécanique","Hydraulique","Electrique","Mécanique","Hydraulique","Electrique","Mécanique","Hydraulique","Electrique","Mécanique","Hydraulique","Electrique","Mécanique","Hydraulique","Electrique","Mécanique","Hydraulique","Electrique","Mécanique","Hydraulique","Electrique","Mécanique","Hydraulique","Electrique","Mécanique","Hydraulique","Electrique","Mécanique","Hydraulique","Electrique","Mécanique","Hydraulique","Electrique","Mécanique","Hydraulique","Electrique","Mécanique","Hydraulique","Electrique","Mécanique","Hydraulique","Electrique","Mécanique","Hydraulique","Electrique","Mécanique","Hydraulique","Electrique","Mécanique","Hydraulique","Electrique","Mécanique","Hydraulique","Electrique","Mécanique","Hydraulique"]
["Banc P5",{"$f":"SUMIF(BDD!$BC$2:$BC$3,\"Banc P5VRAIFAUXVRAIFAUXFAUX\",BDD!$V$2:$V$3)","v":0},{"$f":"SUMIF(BDD!$BC$2:$BC$3,\"Banc P5VRAIFAUXFAUXVRAIFAUX\",BDD!$V$2:$V$3)","v":0},{"$f":"SUMIF(BDD!$BC$2:$BC$3,\"Banc P5VRAIFAUXFAUXFAUXVRAI\",BDD!$V$2:$V$3)","v":0},{"$f":"SUMIF(BDD!$BC$2:$BC$3,\"Banc P5FAUXVRAIVRAIFAUXFAUX\",BDD!$V$2:$V$3)","v":0},{"$f":"SUMIF(BDD!$BC$2:$BC$3,\"Banc P5FAUXVRAIFAUXVRAIFAUX\",BDD!$V$2:$V$3)","v":0},{"$f":"SUMIF(BDD!$BC$2:$BC$3,\"Banc P5FAUXVRAIFAUXFAUXVRAI\",BDD!$V$2:$V$3)","v":0},{"$f":"SUMIF(BDD!$BC$2:$BC$3,\"Banc P5VRAIFAUXVRAIFAUXFAUX\",BDD!$V$2:$V$3)","v":0},{"$f":"SUMIF(BDD!$BC$2:$BC$3,\"Banc P5VRAIFAUXFAUXVRAIFAUX\",BDD!$V$2:$V$3)","v":0},{"$f":"SUMIF(BDD!$BC$2:$BC$3,\"Banc P5VRAIFAUXFAUXFAUXVRAI\",BDD!$V$2:$V$3)","v":0},{"$f":"SUMIF(BDD!$BC$2:$BC$3,\"Banc P5FAUXVRAIVRAIFAUXFAUX\",BDD!$V$2:$V$3)","v":0},{"$f":"SUMIF(BDD!$BC$2:$BC$3,\"Banc P5FAUXVRAIFAUXVRAIFAUX\",BDD!$V$2:$V$3)","v":0},{"$f":"SUMIF(BDD!$BC$2:$BC$3,\"Banc P5FAUXVRAIFAUXFAUXVRAI\",BDD!$V$2:$V$3)","v":0},{"$f":"SUMIF(BDD!$BC$2:$BC$683,\"Banc P5VRAIFAUXVRAIFAUXFAUX\",BDD!$V$2:$V$683)","v":0},{"$f":"SUMIF(BDD!$BC$2:$BC$683,\"Banc P5VRAIFAUXFAUXVRAIFAUX\",BDD!$V$2:$V$683)","v":0},{"$f":"SUMIF(BDD!$BC$2:$BC$683,\"Banc P5VRAIFAUXFAUXFAUXVRAI\",BDD!$V$2:$V$683)","v":0},{"$f":"SUMIF(BDD!$BC$2:$BC$683,\"Banc P5FAUXVRAIVRAIFAUXFAUX\",BDD!$V$2:$V$683)","v":0},{"$f":"SUMIF(BDD!$BC$2:$BC$683,\"Banc P5FAUXVRAIFAUXVRAIFAUX\",BDD!$V$2:$V$683)","v":0},{"$f":"SUMIF(BDD!$BC$2:$BC$683,\"Banc P5FAUXVRAIFAUXFAUXVRAI\",BDD!$V$2:$V$683)","v":0},{"$f":"SUMIF(BDD!$BC$2:$BC$3,\"Banc P5VRAIFAUXVRAIFAUXFAUX\",BDD!$V$2:$V$3)","v":0},{"$f":"SUMIF(BDD!$BC$2:$BC$3,\"Banc P5VRAIFAUXFAUXVRAIFAUX\",BDD!$V$2:$V$3)","v":0},{"$f":"SUMIF(BDD!$BC$2:$BC$3,\"Banc P5VRAIFAUXFAUXFAUXVRAI\",BDD!$V$2:$V$3)","v":0},{"$f":"SUMIF(BDD!$BC$2:$BC$3,\"Banc P5FAUXVRAIVRAIFAUXFAUX\",BDD!$V$2:$V$3)","v":0},{"$f":"SUMIF(BDD!$BC$2:$BC$3,\"Banc P5FAUXVRAIFAUXVRAIFAUX\",BDD!$V$2:$V$3)","v":0},{"$f":"SUMIF(BDD!$BC$2:$BC$3,\"Banc P5FAUXVRAIFAUXFAUXVRAI\",BDD!$V$2:$V$3)","v":0},{"$f":"SUMIF(BDD!$BC$2:$BC$3,\"Banc P5VRAIFAUXVRAIFAUXFAUX\",BDD!$V$2:$V$3)","v":0},{"$f":"SUMIF(BDD!$BC$2:$BC$3,\"Banc P5VRAIFAUXFAUXVRAIFAUX\",BDD!$V$2:$V$3)","v":0},{"$f":"SUMIF(BDD!$BC$2:$BC$3,\"Banc P5VRAIFAUXFAUXFAUXVRAI\",BDD!$V$2:$V$3)","v":0},{"$f":"SUMIF(BDD!$BC$2:$BC$3,\"Banc P5FAUXVRAIVRAIFAUXFAUX\",BDD!$V$2:$V$3)","v":0},{"$f":"SUMIF(BDD!$BC$2:$BC$3,\"Banc P5FAUXVRAIFAUXVRAIFAUX\",BDD!$V$2:$V$3)","v":0},{"$f":"SUMIF(BDD!$BC$2:$BC$3,\"Banc P5FAUXVRAIFAUXFAUXVRAI\",BDD!$V$2:$V$3)","v":0},{"$f":"SUMIF(BDD!$BC$2:$BC$3,\"Banc P5VRAIFAUXVRAIFAUXFAUX\",BDD!$V$2:$V$3)","v":0},{"$f":"SUMIF(BDD!$BC$2:$BC$3,\"Banc P5VRAIFAUXFAUXVRAIFAUX\",BDD!$V$2:$V$3)","v":0},{"$f":"SUMIF(BDD!$BC$2:$BC$3,\"Banc P5VRAIFAUXFAUXFAUXVRAI\",BDD!$V$2:$V$3)","v":0},{"$f":"SUMIF(BDD!$BC$2:$BC$3,\"Banc P5FAUXVRAIVRAIFAUXFAUX\",BDD!$V$2:$V$3)","v":0},{"$f":"SUMIF(BDD!$BC$2:$BC$3,\"Banc P5FAUXVRAIFAUXVRAIFAUX\",BDD!$V$2:$V$3)","v":0},{"$f":"SUMIF(BDD!$BC$2:$BC$3,\"Banc P5FAUXVRAIFAUXFAUXVRAI\",BDD!$V$2:$V$3)","v":0},{"$f":"SUMIF(BDD!$BC$2:$BC$3,\"Banc P5VRAIFAUXVRAIFAUXFAUX\",BDD!$V$2:$V$3)","v":0},{"$f":"SUMIF(BDD!$BC$2:$BC$3,\"Banc P5VRAIFAUXFAUXVRAIFAUX\",BDD!$V$2:$V$3)","v":0},{"$f":"SUMIF(BDD!$BC$2:$BC$3,\"Banc P5VRAIFAUXFAUXFAUXVRAI\",BDD!$V$2:$V$3)","v":0},{"$f":"SUMIF(BDD!$BC$2:$BC$3,\"Banc P5FAUXVRAIVRAIFAUXFAUX\",BDD!$V$2:$V$3)","v":0},{"$f":"SUMIF(BDD!$BC$2:$BC$3,\"Banc P5FAUXVRAIFAUXVRAIFAUX\",BDD!$V$2:$V$3)","v":0},{"$f":"SUMIF(BDD!$BC$2:$BC$3,\"Banc P5FAUXVRAIFAUXFAUXVRAI\",BDD!$V$2:$V$3)","v":0},{"$f":"SUMIF(BDD!$BC$2:$BC$3,\"Banc P5VRAIFAUXVRAIFAUXFAUX\",BDD!$V$2:$V$3)","v":0},{"$f":"SUMIF(BDD!$BC$2:$BC$3,\"Banc P5VRAIFAUXFAUXVRAIFAUX\",BDD!$V$2:$V$3)","v":0},{"$f":"SUMIF(BDD!$BC$2:$BC$3,\"Banc P5VRAIFAUXFAUXFAUXVRAI\",BDD!$V$2:$V$3)","v":0},{"$f":"SUMIF(BDD!$BC$2:$BC$3,\"Banc P5FAUXVRAIVRAIFAUXFAUX\",BDD!$V$2:$V$3)","v":0},{"$f":"SUMIF(BDD!$BC$2:$BC$3,\"Banc P5FAUXVRAIFAUXVRAIFAUX\",BDD!$V$2:$V$3)","v":0},{"$f":"SUMIF(BDD!$BC$2:$BC$3,\"Banc P5FAUXVRAIFAUXFAUXVRAI\",BDD!$V$2:$V$3)","v":0},{"$f":"SUMIF(BDD!$BC$2:$BC$3,\"Banc P5VRAIFAUXVRAIFAUXFAUX\",BDD!$V$2:$V$3)","v":0},{"$f":"SUMIF(BDD!$BC$2:$BC$3,\"Banc P5VRAIFAUXFAUXVRAIFAUX\",BDD!$V$2:$V$3)","v":0},{"$f":"SUMIF(BDD!$BC$2:$BC$3,\"Banc P5VRAIFAUXFAUXFAUXVRAI\",BDD!$V$2:$V$3)","v":0},{"$f":"SUMIF(BDD!$BC$2:$BC$3,\"Banc P5FAUXVRAIVRAIFAUXFAUX\",BDD!$V$2:$V$3)","v":0},{"$f":"SUMIF(BDD!$BC$2:$BC$3,\"Banc P5FAUXVRAIFAUXVRAIFAUX\",BDD!$V$2:$V$3)","v":0},{"$f":"SUMIF(BDD!$BC$2:$BC$3,\"Banc P5FAUXVRAIFAUXFAUXVRAI\",BDD!$V$2:$V$3)","v":0},{"$f":"SUMIF(BDD!$BC$2:$BC$3,\"Banc P5VRAIFAUXVRAIFAUXFAUX\",BDD!$V$2:$V$3)","v":0},{"$f":"SUMIF(BDD!$BC$2:$BC$3,\"Banc P5VRAIFAUXFAUXVRAIFAUX\",BDD!$V$2:$V$3)","v":0},{"$f":"SUMIF(BDD!$BC$2:$BC$3,\"Banc P5VRAIFAUXFAUXFAUXVRAI\",BDD!$V$2:$V$3)","v":0},{"$f":"SUMIF(BDD!$BC$2:$BC$3,\"Banc P5FAUXVRAIVRAIFAUXFAUX\",BDD!$V$2:$V$3)","v":0},{"$f":"SUMIF(BDD!$BC$2:$BC$3,\"Banc P5FAUXVRAIFAUXVRAIFAUX\",BDD!$V$2:$V$3)","v":0},{"$f":"SUMIF(BDD!$BC$2:$BC$3,\"Banc P5FAUXVRAIFAUXFAUXVRAI\",BDD!$V$2:$V$3)","v":0},{"$f":"SUMIF(BDD!$BC$2:$BC$3,\"Banc P5VRAIFAUXVRAIFAUXFAUX\",BDD!$V$2:$V$3)","v":0},{"$f":"SUMIF(BDD!$BC$2:$BC$3,\"Banc P5VRAIFAUXFAUXVRAIFAUX\",BDD!$V$2:$V$3)","v":0},{"$f":"SUMIF(BDD!$BC$2:$BC$3,\"Banc P5VRAIFAUXFAUXFAUXVRAI\",BDD!$V$2:$V$3)","v":0},{"$f":"SUMIF(BDD!$BC$2:$BC$3,\"Banc P5FAUXVRAIVRAIFAUXFAUX\",BDD!$V$2:$V$3)","v":0},{"$f":"SUMIF(BDD!$BC$2:$BC$3,\"Banc P5FAUXVRAIFAUXVRAIFAUX\",BDD!$V$2:$V$3)","v":0},{"$f":"SUMIF(BDD!$BC$2:$BC$3,\"Banc P5FAUXVRAIFAUXFAUXVRAI\",BDD!$V$2:$V$3)","v":0},{"$f":"SUMIF(BDD!$BC$2:$BC$3,\"Banc P5VRAIFAUXVRAIFAUXFAUX\",BDD!$V$2:$V$3)","v":0},{"$f":"SUMIF(BDD!$BC$2:$BC$3,\"Banc P5VRAIFAUXFAUXVRAIFAUX\",BDD!$V$2:$V$3)","v":0},{"$f":"SUMIF(BDD!$BC$2:$BC$3,\"Banc P5VRAIFAUXFAUXFAUXVRAI\",BDD!$V$2:$V$3)","v":0},{"$f":"SUMIF(BDD!$BC$2:$BC$3,\"Banc P5FAUXVRAIVRAIFAUXFAUX\",BDD!$V$2:$V$3)","v":0},{"$f":"SUMIF(BDD!$BC$2:$BC$3,\"Banc P5FAUXVRAIFAUXVRAIFAUX\",BDD!$V$2:$V$3)","v":0},{"$f":"SUMIF(BDD!$BC$2:$BC$3,\"Banc P5FAUXVRAIFAUXFAUXVRAI\",BDD!$V$2:$V$3)","v":0}]
["Banc P7",{"$f":"SUMIF(BDD!$BC$2:$BC$3,\"Banc P7VRAIFAUXVRAIFAUXFAUX\",BDD!$V$2:$V$3)","v":0},{"$f":"SUMIF(BDD!$BC$2:$BC$3,\"Banc P7VRAIFAUXFAUXVRAIFAUX\",BDD!$V$2:$V$3)","v":0},{"$f":"SUMIF(BDD!$BC$2:$BC$3,\"Banc P7VRAIFAUXFAUXFAUXVRAI\",BDD!$V$2:$V$3)","v":0},{"$f":"SUMIF(BDD!$BC$2:$BC$3,\"Banc P7FAUXVRAIVRAIFAUXFAUX\",BDD!$V$2:$V$3)","v":0},{"$f":"SUMIF(BDD!$BC$2:$BC$3,\"Banc P7FAUXVRAIFAUXVRAIFAUX\",BDD!$V$2:$V$3)","v":0},{"$f":"SUMIF(BDD!$BC$2:$BC$3,\"Banc P7FAUXVRAIFAUXFAUXVRAI\",BDD!$V$2:$V$3)","v":0},{"$f":"SUMIF(BDD!$BC$2:$BC$3,\"Banc P7VRAIFAUXVRAIFAUXFAUX\",BDD!$V$2:$V$3)","v":0},{"$f":"SUMIF(BDD!$BC$2:$BC$3,\"Banc P7VRAIFAUXFAUXVRAIFAUX\",BDD!$V$2:$V$3)","v":0},{"$f":"SUMIF(BDD!$BC$2:$BC$3,\"Banc P7VRAIFAUXFAUXFAUXVRAI\",BDD!$V$2:$V$3)","v":0},{"$f":"SUMIF(BDD!$BC$2:$BC$3,\"Banc P7FAUXVRAIVRAIFAUXFAUX\",BDD!$V$2:$V$3)","v":0},{"$f":"SUMIF(BDD!$BC$2:$BC$3,\"Banc P7FAUXVRAIFAUXVRAIFAUX\",BDD!$V$2:$V$3)","v":0},{"$f":"SUMIF(BDD!$BC$2:$BC$3,\"Banc P7FAUXVRAIFAUXFAUXVRAI\",BDD!$V$2:$V$3)","v":0},{"$f":"SUMIF(BDD!$BC$2:$BC$683,\"Banc P7VRAIFAUXVRAIFAUXFAUX\",BDD!$V$2:$V$683)","v":0.15},{"$f":"SUMIF(BDD!$BC$2:$BC$683,\"Banc P7VRAIFAUXFAUXVRAIFAUX\",BDD!$V$2:$V$683)","v":0},{"$f":"SUMIF(BDD!$BC$2:$BC$683,\"Banc P7VRAIFAUXFAUXFAUXVRAI\",BDD!$V$2:$V$683)","v":0},{"$f":"SUMIF(BDD!$BC$2:$BC$683,\"Banc P7FAUXVRAIVRAIFAUXFAUX\",BDD!$V$2:$V$683)","v":0},{"$f":"SUMIF(BDD!$BC$2:$BC$683,\"Banc P7FAUXVRAIFAUXVRAIFAUX\",BDD!$V$2:$V$683)","v":0},{"$f":"SUMIF(BDD!$BC$2:$BC$683,\"Banc P7FAUXVRAIFAUXFAUXVRAI\",BDD!$V$2:$V$683)","v":0},{"$f":"SUMIF(BDD!$BC$2:$BC$3,\"Banc P7VRAIFAUXVRAIFAUXFAUX\",BDD!$V$2:$V$3)","v":0},{"$f":"SUMIF(BDD!$BC$2:$BC$3,\"Banc P7VRAIFAUXFAUXVRAIFAUX\",BDD!$V$2:$V$3)","v":0},{"$f":"SUMIF(BDD!$BC$2:$BC$3,\"Banc P7VRAIFAUXFAUXFAUXVRAI\",BDD!$V$2:$V$3)","v":0},{"$f":"SUMIF(BDD!$BC$2:$BC$3,\"Banc P7FAUXVRAIVRAIFAUXFAUX\",BDD!$V$2:$V$3)","v":0},{"$f":"SUMIF(BDD!$BC$2:$BC$3,\"Banc P7FAUXVRAIFAUXVRAIFAUX\",BDD!$V$2:$V$3)","v":0},{"$f":"SUMIF(BDD!$BC$2:$BC$3,\"Banc P7FAUXVRAIFAUXFAUXVRAI\",BDD!$V$2:$V$3)","v":0},{"$f":"SUMIF(BDD!$BC$2:$BC$3,\"Banc P7VRAIFAUXVRAIFAUXFAUX\",BDD!$V$2:$V$3)","v":0},{"$f":"SUMIF(BDD!$BC$2:$BC$3,\"Banc P7VRAIFAUXFAUXVRAIFAUX\",BDD!$V$2:$V$3)","v":0},{"$f":"SUMIF(BDD!$BC$2:$BC$3,\"Banc P7VRAIFAUXFAUXFAUXVRAI\",BDD!$V$2:$V$3)","v":0},{"$f":"SUMIF(BDD!$BC$2:$BC$3,\"Banc P7FAUXVRAIVRAIFAUXFAUX\",BDD!$V$2:$V$3)","v":0},{"$f":"SUMIF(BDD!$BC$2:$BC$3,\"Banc P7FAUXVRAIFAUXVRAIFAUX\",BDD!$V$2:$V$3)","v":0},{"$f":"SUMIF(BDD!$BC$2:$BC$3,\"Banc P7FAUXVRAIFAUXFAUXVRAI\",BDD!$V$2:$V$3)","v":0},{"$f":"SUMIF(BDD!$BC$2:$BC$3,\"Banc P7VRAIFAUXVRAIFAUXFAUX\",BDD!$V$2:$V$3)","v":0},{"$f":"SUMIF(BDD!$BC$2:$BC$3,\"Banc P7VRAIFAUXFAUXVRAIFAUX\",BDD!$V$2:$V$3)","v":0},{"$f":"SUMIF(BDD!$BC$2:$BC$3,\"Banc P7VRAIFAUXFAUXFAUXVRAI\",BDD!$V$2:$V$3)","v":0},{"$f":"SUMIF(BDD!$BC$2:$BC$3,\"Banc P7FAUXVRAIVRAIFAUXFAUX\",BDD!$V$2:$V$3)","v":0},{"$f":"SUMIF(BDD!$BC$2:$BC$3,\"Banc P7FAUXVRAIFAUXVRAIFAUX\",BDD!$V$2:$V$3)","v":0},{"$f":"SUMIF(BDD!$BC$2:$BC$3,\"Banc P7FAUXVRAIFAUXFAUXVRAI\",BDD!$V$2:$V$3)","v":0},{"$f":"SUMIF(BDD!$BC$2:$BC$3,\"Banc P7VRAIFAUXVRAIFAUXFAUX\",BDD!$V$2:$V$3)","v":0},{"$f":"SUMIF(BDD!$BC$2:$BC$3,\"Banc P7VRAIFAUXFAUXVRAIFAUX\",BDD!$V$2:$V$3)","v":0},{"$f":"SUMIF(BDD!$BC$2:$BC$3,\"Banc P7VRAIFAUXFAUXFAUXVRAI\",BDD!$V$2:$V$3)","v":0},{"$f":"SUMIF(BDD!$BC$2:$BC$3,\"Banc P7FAUXVRAIVRAIFAUXFAUX\",BDD!$V$2:$V$3)","v":0},{"$f":"SUMIF(BDD!$BC$2:$BC$3,\"Banc P7FAUXVRAIFAUXVRAIFAUX\",BDD!$V$2:$V$3)","v":0},{"$f":"SUMIF(BDD!$BC$2:$BC$3,\"Banc P7FAUXVRAIFAUXFAUXVRAI\",BDD!$V$2:$V$3)","v":0},{"$f":"SUMIF(BDD!$BC$2:$BC$3,\"Banc P7VRAIFAUXVRAIFAUXFAUX\",BDD!$V$2:$V$3)","v":0},{"$f":"SUMIF(BDD!$BC$2:$BC$3,\"Banc P7VRAIFAUXFAUXVRAIFAUX\",BDD!$V$2:$V$3)","v":0},{"$f":"SUMIF(BDD!$BC$2:$BC$3,\"Banc P7VRAIFAUXFAUXFAUXVRAI\",BDD!$V$2:$V$3)","v":0},{"$f":"SUMIF(BDD!$BC$2:$BC$3,\"Banc P7FAUXVRAIVRAIFAUXFAUX\",BDD!$V$2:$V$3)","v":0},{"$f":"SUMIF(BDD!$BC$2:$BC$3,\"Banc P7FAUXVRAIFAUXVRAIFAUX\",BDD!$V$2:$V$3)","v":0},{"$f":"SUMIF(BDD!$BC$2:$BC$3,\"Banc P7FAUXVRAIFAUXFAUXVRAI\",BDD!$V$2:$V$3)","v":0},{"$f":"SUMIF(BDD!$BC$2:$BC$3,\"Banc P7VRAIFAUXVRAIFAUXFAUX\",BDD!$V$2:$V$3)","v":0},{"$f":"SUMIF(BDD!$BC$2:$BC$3,\"Banc P7VRAIFAUXFAUXVRAIFAUX\",BDD!$V$2:$V$3)","v":0},{"$f":"SUMIF(BDD!$BC$2:$BC$3,\"Banc P7VRAIFAUXFAUXFAUXVRAI\",BDD!$V$2:$V$3)","v":0},{"$f":"SUMIF(BDD!$BC$2:$BC$3,\"Banc P7FAUXVRAIVRAIFAUXFAUX\",BDD!$V$2:$V$3)","v":0},{"$f":"SUMIF(BDD!$BC$2:$BC$3,\"Banc P7FAUXVRAIFAUXVRAIFAUX\",BDD!$V$2:$V$3)","v":0},{"$f":"SUMIF(BDD!$BC$2:$BC$3,\"Banc P7FAUXVRAIFAUXFAUXVRAI\",BDD!$V$2:$V$3)","v":0},{"$f":"SUMIF(BDD!$BC$2:$BC$3,\"Banc P7VRAIFAUXVRAIFAUXFAUX\",BDD!$V$2:$V$3)","v":0},{"$f":"SUMIF(BDD!$BC$2:$BC$3,\"Banc P7VRAIFAUXFAUXVRAIFAUX\",BDD!$V$2:$V$3)","v":0},{"$f":"SUMIF(BDD!$BC$2:$BC$3,\"Banc P7VRAIFAUXFAUXFAUXVRAI\",BDD!$V$2:$V$3)","v":0},{"$f":"SUMIF(BDD!$BC$2:$BC$3,\"Banc P7FAUXVRAIVRAIFAUXFAUX\",BDD!$V$2:$V$3)","v":0},{"$f":"SUMIF(BDD!$BC$2:$BC$3,\"Banc P7FAUXVRAIFAUXVRAIFAUX\",BDD!$V$2:$V$3)","v":0},{"$f":"SUMIF(BDD!$BC$2:$BC$3,\"Banc P7FAUXVRAIFAUXFAUXVRAI\",BDD!$V$2:$V$3)","v":0},{"$f":"SUMIF(BDD!$BC$2:$BC$3,\"Banc P7VRAIFAUXVRAIFAUXFAUX\",BDD!$V$2:$V$3)","v":0},{"$f":"SUMIF(BDD!$BC$2:$BC$3,\"Banc P7VRAIFAUXFAUXVRAIFAUX\",BDD!$V$2:$V$3)","v":0},{"$f":"SUMIF(BDD!$BC$2:$BC$3,\"Banc P7VRAIFAUXFAUXFAUXVRAI\",BDD!$V$2:$V$3)","v":0},{"$f":"SUMIF(BDD!$BC$2:$BC$3,\"Banc P7FAUXVRAIVRAIFAUXFAUX\",BDD!$V$2:$V$3)","v":0},{"$f":"SUMIF(BDD!$BC$2:$BC$3,\"Banc P7FAUXVRAIFAUXVRAIFAUX\",BDD!$V$2:$V$3)","v":0},{"$f":"SUMIF(BDD!$BC$2:$BC$3,\"Banc P7FAUXVRAIFAUXFAUXVRAI\",BDD!$V$2:$V$3)","v":0},{"$f":"SUMIF(BDD!$BC$2:$BC$3,\"Banc P7VRAIFAUXVRAIFAUXFAUX\",BDD!$V$2:$V$3)","v":0},{"$f":"SUMIF(BDD!$BC$2:$BC$3,\"Banc P7VRAIFAUXFAUXVRAIFAUX\",BDD!$V$2:$V$3)","v":0},{"$f":"SUMIF(BDD!$BC$2:$BC$3,\"Banc P7VRAIFAUXFAUXFAUXVRAI\",BDD!$V$2:$V$3)","v":0},{"$f":"SUMIF(BDD!$BC$2:$BC$3,\"Banc P7FAUXVRAIVRAIFAUXFAUX\",BDD!$V$2:$V$3)","v":0},{"$f":"SUMIF(BDD!$BC$2:$BC$3,\"Banc P7FAUXVRAIFAUXVRAIFAUX\",BDD!$V$2:$V$3)","v":0},{"$f":"SUMIF(BDD!$BC$2:$BC$3,\"Banc P7FAUXVRAIFAUXFAUXVRAI\",BDD!$V$2:$V$3)","v":0}]
["Banc 101",{"$f":"SUMIF(BDD!$BC$2:$BC$3,\"Banc 101VRAIFAUXVRAIFAUXFAUX\",BDD!$V$2:$V$3)","v":0},{"$f":"SUMIF(BDD!$BC$2:$BC$3,\"Banc 101VRAIFAUXFAUXVRAIFAUX\",BDD!$V$2:$V$3)","v":0},{"$f":"SUMIF(BDD!$BC$2:$BC$3,\"Banc 101VRAIFAUXFAUXFAUXVRAI\",BDD!$V$2:$V$3)","v":0},{"$f":"SUMIF(BDD!$BC$2:$BC$3,\"Banc 101FAUXVRAIVRAIFAUXFAUX\",BDD!$V$2:$V$3)","v":0},{"$f":"SUMIF(BDD!$BC$2:$BC$3,\"Banc 101FAUXVRAIFAUXVRAIFAUX\",BDD!$V$2:$V$3)","v":0},{"$f":"SUMIF(BDD!$BC$2:$BC$3,\"Banc 101FAUXVRAIFAUXFAUXVRAI\",BDD!$V$2:$V$3)","v":0},{"$f":"SUMIF(BDD!$BC$2:$BC$3,\"Banc 101VRAIFAUXVRAIFAUXFAUX\",BDD!$V$2:$V$3)","v":0},{"$f":"SUMIF(BDD!$BC$2:$BC$3,\"Banc 101VRAIFAUXFAUXVRAIFAUX\",BDD!$V$2:$V$3)","v":0},{"$f":"SUMIF(BDD!$BC$2:$BC$3,\"Banc 101VRAIFAUXFAUXFAUXVRAI\",BDD!$V$2:$V$3)","v":0},{"$f":"SUMIF(BDD!$BC$2:$BC$3,\"Banc 101FAUXVRAIVRAIFAUXFAUX\",BDD!$V$2:$V$3)","v":0},{"$f":"SUMIF(BDD!$BC$2:$BC$3,\"Banc 101FAUXVRAIFAUXVRAIFAUX\",BDD!$V$2:$V$3)","v":0},{"$f":"SUMIF(BDD!$BC$2:$BC$3,\"Banc 101FAUXVRAIFAUXFAUXVRAI\",BDD!$V$2:$V$3)","v":0},{"$f":"SUMIF(BDD!$BC$2:$BC$683,\"Banc 101VRAIFAUXVRAIFAUXFAUX\",BDD!$V$2:$V$683)","v":0},{"$f":"SUMIF(BDD!$BC$2:$BC$683,\"Banc 101VRAIFAUXFAUXVRAIFAUX\",BDD!$V$2:$V$683)","v":0},{"$f":"SUMIF(BDD!$BC$2:$BC$683,\"Banc 101VRAIFAUXFAUXFAUXVRAI\",BDD!$V$2:$V$683)","v":0},{"$f":"SUMIF(BDD!$BC$2:$BC$683,\"Banc 101FAUXVRAIVRAIFAUXFAUX\",BDD!$V$2:$V$683)","v":0},{"$f":"SUMIF(BDD!$BC$2:$BC$683,\"Banc 101FAUXVRAIFAUXVRAIFAUX\",BDD!$V$2:$V$683)","v":0},{"$f":"SUMIF(BDD!$BC$2:$BC$683,\"Banc 101FAUXVRAIFAUXFAUXVRAI\",BDD!$V$2:$V$683)","v":0},{"$f":"SUMIF(BDD!$BC$2:$BC$3,\"Banc 101VRAIFAUXVRAIFAUXFAUX\",BDD!$V$2:$V$3)","v":0},{"$f":"SUMIF(BDD!$BC$2:$BC$3,\"Banc 101VRAIFAUXFAUXVRAIFAUX\",BDD!$V$2:$V$3)","v":0},{"$f":"SUMIF(BDD!$BC$2:$BC$3,\"Banc 101VRAIFAUXFAUXFAUXVRAI\",BDD!$V$2:$V$3)","v":0},{"$f":"SUMIF(BDD!$BC$2:$BC$3,\"Banc 101FAUXVRAIVRAIFAUXFAUX\",BDD!$V$2:$V$3)","v":0},{"$f":"SUMIF(BDD!$BC$2:$BC$3,\"Banc 101FAUXVRAIFAUXVRAIFAUX\",BDD!$V$2:$V$3)","v":0},{"$f":"SUMIF(BDD!$BC$2:$BC$3,\"Banc 101FAUXVRAIFAUXFAUXVRAI\",BDD!$V$2:$V$3)","v":0},{"$f":"SUMIF(BDD!$BC$2:$BC$3,\"Banc 101VRAIFAUXVRAIFAUXFAUX\",BDD!$V$2:$V$3)","v":0},{"$f":"SUMIF(BDD!$BC$2:$BC$3,\"Banc 101VRAIFAUXFAUXVRAIFAUX\",BDD!$V$2:$V$3)","v":0},{"$f":"SUMIF(BDD!$BC$2:$BC$3,\"Banc 101VRAIFAUXFAUXFAUXVRAI\",BDD!$V$2:$V$3)","v":0},{"$f":"SUMIF(BDD!$BC$2:$BC$3,\"Banc 101FAUXVRAIVRAIFAUXFAUX\",BDD!$V$2:$V$3)","v":0},{"$f":"SUMIF(BDD!$BC$2:$BC$3,\"Banc 101FAUXVRAIFAUXVRAIFAUX\",BDD!$V$2:$V$3)","v":0},{"$f":"SUMIF(BDD!$BC$2:$BC$3,\"Banc 101FAUXVRAIFAUXFAUXVRAI\",BDD!$V$2:$V$3)","v":0},{"$f":"SUMIF(BDD!$BC$2:$BC$3,\"Banc 101VRAIFAUXVRAIFAUXFAUX\",BDD!$V$2:$V$3)","v":0},{"$f":"SUMIF(BDD!$BC$2:$BC$3,\"Banc 101VRAIFAUXFAUXVRAIFAUX\",BDD!$V$2:$V$3)","v":0},{"$f":"SUMIF(BDD!$BC$2:$BC$3,\"Banc 101VRAIFAUXFAUXFAUXVRAI\",BDD!$V$2:$V$3)","v":0},{"$f":"SUMIF(BDD!$BC$2:$BC$3,\"Banc 101FAUXVRAIVRAIFAUXFAUX\",BDD!$V$2:$V$3)","v":0},{"$f":"SUMIF(BDD!$BC$2:$BC$3,\"Banc 101FAUXVRAIFAUXVRAIFAUX\",BDD!$V$2:$V$3)","v":0},{"$f":"SUMIF(BDD!$BC$2:$BC$3,\"Banc 101FAUXVRAIFAUXFAUXVRAI\",BDD!$V$2:$V$3)","v":0},{"$f":"SUMIF(BDD!$BC$2:$BC$3,\"Banc 101VRAIFAUXVRAIFAUXFAUX\",BDD!$V$2:$V$3)","v":0},{"$f":"SUMIF(BDD!$BC$2:$BC$3,\"Banc 101VRAIFAUXFAUXVRAIFAUX\",BDD!$V$2:$V$3)","v":0},{"$f":"SUMIF(BDD!$BC$2:$BC$3,\"Banc 101VRAIFAUXFAUXFAUXVRAI\",BDD!$V$2:$V$3)","v":0},{"$f":"SUMIF(BDD!$BC$2:$BC$3,\"Banc 101FAUXVRAIVRAIFAUXFAUX\",BDD!$V$2:$V$3)","v":0},{"$f":"SUMIF(BDD!$BC$2:$BC$3,\"Banc 101FAUXVRAIFAUXVRAIFAUX\",BDD!$V$2:$V$3)","v":0},{"$f":"SUMIF(BDD!$BC$2:$BC$3,\"Banc 101FAUXVRAIFAUXFAUXVRAI\",BDD!$V$2:$V$3)","v":0},{"$f":"SUMIF(BDD!$BC$2:$BC$3,\"Banc 101VRAIFAUXVRAIFAUXFAUX\",BDD!$V$2:$V$3)","v":0},{"$f":"SUMIF(BDD!$BC$2:$BC$3,\"Banc 101VRAIFAUXFAUXVRAIFAUX\",BDD!$V$2:$V$3)","v":0},{"$f":"SUMIF(BDD!$BC$2:$BC$3,\"Banc 101VRAIFAUXFAUXFAUXVRAI\",BDD!$V$2:$V$3)","v":0},{"$f":"SUMIF(BDD!$BC$2:$BC$3,\"Banc 101FAUXVRAIVRAIFAUXFAUX\",BDD!$V$2:$V$3)","v":0},{"$f":"SUMIF(BDD!$BC$2:$BC$3,\"Banc 101FAUXVRAIFAUXVRAIFAUX\",BDD!$V$2:$V$3)","v":0},{"$f":"SUMIF(BDD!$BC$2:$BC$3,\"Banc 101FAUXVRAIFAUXFAUXVRAI\",BDD!$V$2:$V$3)","v":0},{"$f":"SUMIF(BDD!$BC$2:$BC$3,\"Banc 101VRAIFAUXVRAIFAUXFAUX\",BDD!$V$2:$V$3)","v":0},{"$f":"SUMIF(BDD!$BC$2:$BC$3,\"Banc 101VRAIFAUXFAUXVRAIFAUX\",BDD!$V$2:$V$3)","v":0},{"$f":"SUMIF(BDD!$BC$2:$BC$3,\"Banc 101VRAIFAUXFAUXFAUXVRAI\",BDD!$V$2:$V$3)","v":0},{"$f":"SUMIF(BDD!$BC$2:$BC$3,\"Banc 101FAUXVRAIVRAIFAUXFAUX\",BDD!$V$2:$V$3)","v":0},{"$f":"SUMIF(BDD!$BC$2:$BC$3,\"Banc 101FAUXVRAIFAUXVRAIFAUX\",BDD!$V$2:$V$3)","v":0},{"$f":"SUMIF(BDD!$BC$2:$BC$3,\"Banc 101FAUXVRAIFAUXFAUXVRAI\",BDD!$V$2:$V$3)","v":0},{"$f":"SUMIF(BDD!$BC$2:$BC$3,\"Banc 101VRAIFAUXVRAIFAUXFAUX\",BDD!$V$2:$V$3)","v":0},{"$f":"SUMIF(BDD!$BC$2:$BC$3,\"Banc 101VRAIFAUXFAUXVRAIFAUX\",BDD!$V$2:$V$3)","v":0},{"$f":"SUMIF(BDD!$BC$2:$BC$3,\"Banc 101VRAIFAUXFAUXFAUXVRAI\",BDD!$V$2:$V$3)","v":0},{"$f":"SUMIF(BDD!$BC$2:$BC$3,\"Banc 101FAUXVRAIVRAIFAUXFAUX\",BDD!$V$2:$V$3)","v":0},{"$f":"SUMIF(BDD!$BC$2:$BC$3,\"Banc 101FAUXVRAIFAUXVRAIFAUX\",BDD!$V$2:$V$3)","v":0},{"$f":"SUMIF(BDD!$BC$2:$BC$3,\"Banc 101FAUXVRAIFAUXFAUXVRAI\",BDD!$V$2:$V$3)","v":0},{"$f":"SUMIF(BDD!$BC$2:$BC$3,\"Banc 101VRAIFAUXVRAIFAUXFAUX\",BDD!$V$2:$V$3)","v":0},{"$f":"SUMIF(BDD!$BC$2:$BC$3,\"Banc 101VRAIFAUXFAUXVRAIFAUX\",BDD!$V$2:$V$3)","v":0},{"$f":"SUMIF(BDD!$BC$2:$BC$3,\"Banc 101VRAIFAUXFAUXFAUXVRAI\",BDD!$V$2:$V$3)","v":0},{"$f":"SUMIF(BDD!$BC$2:$BC$3,\"Banc 101FAUXVRAIVRAIFAUXFAUX\",BDD!$V$2:$V$3)","v":0},{"$f":"SUMIF(BDD!$BC$2:$BC$3,\"Banc 101FAUXVRAIFAUXVRAIFAUX\",BDD!$V$2:$V$3)","v":0},{"$f":"SUMIF(BDD!$BC$2:$BC$3,\"Banc 101FAUXVRAIFAUXFAUXVRAI\",BDD!$V$2:$V$3)","v":0},{"$f":"SUMIF(BDD!$BC$2:$BC$3,\"Banc 101VRAIFAUXVRAIFAUXFAUX\",BDD!$V$2:$V$3)","v":0},{"$f":"SUMIF(BDD!$BC$2:$BC$3,\"Banc 101VRAIFAUXFAUXVRAIFAUX\",BDD!$V$2:$V$3)","v":0},{"$f":"SUMIF(BDD!$BC$2:$BC$3,\"Banc 101VRAIFAUXFAUXFAUXVRAI\",BDD!$V$2:$V$3)","v":0},{"$f":"SUMIF(BDD!$BC$2:$BC$3,\"Banc 101FAUXVRAIVRAIFAUXFAUX\",BDD!$V$2:$V$3)","v":0},{"$f":"SUMIF(BDD!$BC$2:$BC$3,\"Banc 101FAUXVRAIFAUXVRAIFAUX\",BDD!$V$2:$V$3)","v":0},{"$f":"SUMIF(BDD!$BC$2:$BC$3,\"Banc 101FAUXVRAIFAUXFAUXVRAI\",BDD!$V$2:$V$3)","v":0}]
["Banc 104",{"$f":"SUMIF(BDD!$BC$2:$BC$3,\"Banc 104VRAIFAUXVRAIFAUXFAUX\",BDD!$V$2:$V$3)","v":0},{"$f":"SUMIF(BDD!$BC$2:$BC$3,\"Banc 104VRAIFAUXFAUXVRAIFAUX\",BDD!$V$2:$V$3)","v":0},{"$f":"SUMIF(BDD!$BC$2:$BC$3,\"Banc 104VRAIFAUXFAUXFAUXVRAI\",BDD!$V$2:$V$3)","v":0},{"$f":"SUMIF(BDD!$BC$2:$BC$3,\"Banc 104FAUXVRAIVRAIFAUXFAUX\",BDD!$V$2:$V$3)","v":0},{"$f":"SUMIF(BDD!$BC$2:$BC$3,\"Banc 104FAUXVRAIFAUXVRAIFAUX\",BDD!$V$2:$V$3)","v":0},{"$f":"SUMIF(BDD!$BC$2:$BC$3,\"Banc 104FAUXVRAIFAUXFAUXVRAI\",BDD!$V$2:$V$3)","v":0},{"$f":"SUMIF(BDD!$BC$2:$BC$3,\"Banc 104VRAIFAUXVRAIFAUXFAUX\",BDD!$V$2:$V$3)","v":0},{"$f":"SUMIF(BDD!$BC$2:$BC$3,\"Banc 104VRAIFAUXFAUXVRAIFAUX\",BDD!$V$2:$V$3)","v":0},{"$f":"SUMIF(BDD!$BC$2:$BC$3,\"Banc 104VRAIFAUXFAUXFAUXVRAI\",BDD!$V$2:$V$3)","v":0},{"$f":"SUMIF(BDD!$BC$2:$BC$3,\"Banc 104FAUXVRAIVRAIFAUXFAUX\",BDD!$V$2:$V$3)","v":0},{"$f":"SUMIF(BDD!$BC$2:$BC$3,\"Banc 104FAUXVRAIFAUXVRAIFAUX\",BDD!$V$2:$V$3)","v":0},{"$f":"SUMIF(BDD!$BC$2:$BC$3,\"Banc 104FAUXVRAIFAUXFAUXVRAI\",BDD!$V$2:$V$3)","v":0},{"$f":"SUMIF(BDD!$BC$2:$BC$683,\"Banc 104VRAIFAUXVRAIFAUXFAUX\",BDD!$V$2:$V$683)","v":0},{"$f":"SUMIF(BDD!$BC$2:$BC$683,\"Banc 104VRAIFAUXFAUXVRAIFAUX\",BDD!$V$2:$V$683)","v":0},{"$f":"SUMIF(BDD!$BC$2:$BC$683,\"Banc 104VRAIFAUXFAUXFAUXVRAI\",BDD!$V$2:$V$683)","v":2},{"$f":"SUMIF(BDD!$BC$2:$BC$683,\"Banc 104FAUXVRAIVRAIFAUXFAUX\",BDD!$V$2:$V$683)","v":0},{"$f":"SUMIF(BDD!$BC$2:$BC$683,\"Banc 104FAUXVRAIFAUXVRAIFAUX\",BDD!$V$2:$V$683)","v":0},{"$f":"SUMIF(BDD!$BC$2:$BC$683,\"Banc 104FAUXVRAIFAUXFAUXVRAI\",BDD!$V$2:$V$683)","v":1},{"$f":"SUMIF(BDD!$BC$2:$BC$3,\"Banc 104VRAIFAUXVRAIFAUXFAUX\",BDD!$V$2:$V$3)","v":0},{"$f":"SUMIF(BDD!$BC$2:$BC$3,\"Banc 104VRAIFAUXFAUXVRAIFAUX\",BDD!$V$2:$V$3)","v":0},{"$f":"SUMIF(BDD!$BC$2:$BC$3,\"Banc 104VRAIFAUXFAUXFAUXVRAI\",BDD!$V$2:$V$3)","v":0},{"$f":"SUMIF(BDD!$BC$2:$BC$3,\"Banc 104FAUXVRAIVRAIFAUXFAUX\",BDD!$V$2:$V$3)","v":0},{"$f":"SUMIF(BDD!$BC$2:$BC$3,\"Banc 104FAUXVRAIFAUXVRAIFAUX\",BDD!$V$2:$V$3)","v":0},{"$f":"SUMIF(BDD!$BC$2:$BC$3,\"Banc 104FAUXVRAIFAUXFAUXVRAI\",BDD!$V$2:$V$3)","v":0},{"$f":"SUMIF(BDD!$BC$2:$BC$3,\"Banc 104VRAIFAUXVRAIFAUXFAUX\",BDD!$V$2:$V$3)","v":0},{"$f":"SUMIF(BDD!$BC$2:$BC$3,\"Banc 104VRAIFAUXFAUXVRAIFAUX\",BDD!$V$2:$V$3)","v":0},{"$f":"SUMIF(BDD!$BC$2:$BC$3,\"Banc 104VRAIFAUXFAUXFAUXVRAI\",BDD!$V$2:$V$3)","v":0},{"$f":"SUMIF(BDD!$BC$2:$BC$3,\"Banc 104FAUXVRAIVRAIFAUXFAUX\",BDD!$V$2:$V$3)","v":0},{"$f":"SUMIF(BDD!$BC$2:$BC$3,\"Banc 104FAUXVRAIFAUXVRAIFAUX\",BDD!$V$2:$V$3)","v":0},{"$f":"SUMIF(BDD!$BC$2:$BC$3,\"Banc 104FAUXVRAIFAUXFAUXVRAI\",BDD!$V$2:$V$3)","v":0},{"$f":"SUMIF(BDD!$BC$2:$BC$3,\"Banc 104VRAIFAUXVRAIFAUXFAUX\",BDD!$V$2:$V$3)","v":0},{"$f":"SUMIF(BDD!$BC$2:$BC$3,\"Banc 104VRAIFAUXFAUXVRAIFAUX\",BDD!$V$2:$V$3)","v":0},{"$f":"SUMIF(BDD!$BC$2:$BC$3,\"Banc 104VRAIFAUXFAUXFAUXVRAI\",BDD!$V$2:$V$3)","v":0},{"$f":"SUMIF(BDD!$BC$2:$BC$3,\"Banc 104FAUXVRAIVRAIFAUXFAUX\",BDD!$V$2:$V$3)","v":0},{"$f":"SUMIF(BDD!$BC$2:$BC$3,\"Banc 104FAUXVRAIFAUXVRAIFAUX\",BDD!$V$2:$V$3)","v":0},{"$f":"SUMIF(BDD!$BC$2:$BC$3,\"Banc 104FAUXVRAIFAUXFAUXVRAI\",BDD!$V$2:$V$3)","v":0},{"$f":"SUMIF(BDD!$BC$2:$BC$3,\"Banc 104VRAIFAUXVRAIFAUXFAUX\",BDD!$V$2:$V$3)","v":0},{"$f":"SUMIF(BDD!$BC$2:$BC$3,\"Banc 104VRAIFAUXFAUXVRAIFAUX\",BDD!$V$2:$V$3)","v":0},{"$f":"SUMIF(BDD!$BC$2:$BC$3,\"Banc 104VRAIFAUXFAUXFAUXVRAI\",BDD!$V$2:$V$3)","v":0},{"$f":"SUMIF(BDD!$BC$2:$BC$3,\"Banc 104FAUXVRAIVRAIFAUXFAUX\",BDD!$V$2:$V$3)","v":0},{"$f":"SUMIF(BDD!$BC$2:$BC$3,\"Banc 104FAUXVRAIFAUXVRAIFAUX\",BDD!$V$2:$V$3)","v":0},{"$f":"SUMIF(BDD!$BC$2:$BC$3,\"Banc 104FAUXVRAIFAUXFAUXVRAI\",BDD!$V$2:$V$3)","v":0},{"$f":"SUMIF(BDD!$BC$2:$BC$3,\"Banc 104VRAIFAUXVRAIFAUXFAUX\",BDD!$V$2:$V$3)","v":0},{"$f":"SUMIF(BDD!$BC$2:$BC$3,\"Banc 104VRAIFAUXFAUXVRAIFAUX\",BDD!$V$2:$V$3)","v":0},{"$f":"SUMIF(BDD!$BC$2:$BC$3,\"Banc 104VRAIFAUXFAUXFAUXVRAI\",BDD!$V$2:$V$3)","v":0},{"$f":"SUMIF(BDD!$BC$2:$BC$3,\"Banc 104FAUXVRAIVRAIFAUXFAUX\",BDD!$V$2:$V$3)","v":0},{"$f":"SUMIF(BDD!$BC$2:$BC$3,\"Banc 104FAUXVRAIFAUXVRAIFAUX\",BDD!$V$2:$V$3)","v":0},{"$f":"SUMIF(BDD!$BC$2:$BC$3,\"Banc 104FAUXVRAIFAUXFAUXVRAI\",BDD!$V$2:$V$3)","v":0},{"$f":"SUMIF(BDD!$BC$2:$BC$3,\"Banc 104VRAIFAUXVRAIFAUXFAUX\",BDD!$V$2:$V$3)","v":0},{"$f":"SUMIF(BDD!$BC$2:$BC$3,\"Banc 104VRAIFAUXFAUXVRAIFAUX\",BDD!$V$2:$V$3)","v":0},{"$f":"SUMIF(BDD!$BC$2:$BC$3,\"Banc 104VRAIFAUXFAUXFAUXVRAI\",BDD!$V$2:$V$3)","v":0},{"$f":"SUMIF(BDD!$BC$2:$BC$3,\"Banc 104FAUXVRAIVRAIFAUXFAUX\",BDD!$V$2:$V$3)","v":0},{"$f":"SUMIF(BDD!$BC$2:$BC$3,\"Banc 104FAUXVRAIFAUXVRAIFAUX\",BDD!$V$2:$V$3)","v":0},{"$f":"SUMIF(BDD!$BC$2:$BC$3,\"Banc 104FAUXVRAIFAUXFAUXVRAI\",BDD!$V$2:$V$3)","v":0},{"$f":"SUMIF(BDD!$BC$2:$BC$3,\"Banc 104VRAIFAUXVRAIFAUXFAUX\",BDD!$V$2:$V$3)","v":0},{"$f":"SUMIF(BDD!$BC$2:$BC$3,\"Banc 104VRAIFAUXFAUXVRAIFAUX\",BDD!$V$2:$V$3)","v":0},{"$f":"SUMIF(BDD!$BC$2:$BC$3,\"Banc 104VRAIFAUXFAUXFAUXVRAI\",BDD!$V$2:$V$3)","v":0},{"$f":"SUMIF(BDD!$BC$2:$BC$3,\"Banc 104FAUXVRAIVRAIFAUXFAUX\",BDD!$V$2:$V$3)","v":0},{"$f":"SUMIF(BDD!$BC$2:$BC$3,\"Banc 104FAUXVRAIFAUXVRAIFAUX\",BDD!$V$2:$V$3)","v":0},{"$f":"SUMIF(BDD!$BC$2:$BC$3,\"Banc 104FAUXVRAIFAUXFAUXVRAI\",BDD!$V$2:$V$3)","v":0},{"$f":"SUMIF(BDD!$BC$2:$BC$3,\"Banc 104VRAIFAUXVRAIFAUXFAUX\",BDD!$V$2:$V$3)","v":0},{"$f":"SUMIF(BDD!$BC$2:$BC$3,\"Banc 104VRAIFAUXFAUXVRAIFAUX\",BDD!$V$2:$V$3)","v":0},{"$f":"SUMIF(BDD!$BC$2:$BC$3,\"Banc 104VRAIFAUXFAUXFAUXVRAI\",BDD!$V$2:$V$3)","v":0},{"$f":"SUMIF(BDD!$BC$2:$BC$3,\"Banc 104FAUXVRAIVRAIFAUXFAUX\",BDD!$V$2:$V$3)","v":0},{"$f":"SUMIF(BDD!$BC$2:$BC$3,\"Banc 104FAUXVRAIFAUXVRAIFAUX\",BDD!$V$2:$V$3)","v":0},{"$f":"SUMIF(BDD!$BC$2:$BC$3,\"Banc 104FAUXVRAIFAUXFAUXVRAI\",BDD!$V$2:$V$3)","v":0},{"$f":"SUMIF(BDD!$BC$2:$BC$3,\"Banc 104VRAIFAUXVRAIFAUXFAUX\",BDD!$V$2:$V$3)","v":0},{"$f":"SUMIF(BDD!$BC$2:$BC$3,\"Banc 104VRAIFAUXFAUXVRAIFAUX\",BDD!$V$2:$V$3)","v":0},{"$f":"SUMIF(BDD!$BC$2:$BC$3,\"Banc 104VRAIFAUXFAUXFAUXVRAI\",BDD!$V$2:$V$3)","v":0},{"$f":"SUMIF(BDD!$BC$2:$BC$3,\"Banc 104FAUXVRAIVRAIFAUXFAUX\",BDD!$V$2:$V$3)","v":0},{"$f":"SUMIF(BDD!$BC$2:$BC$3,\"Banc 104FAUXVRAIFAUXVRAIFAUX\",BDD!$V$2:$V$3)","v":0},{"$f":"SUMIF(BDD!$BC$2:$BC$3,\"Banc 104FAUXVRAIFAUXFAUXVRAI\",BDD!$V$2:$V$3)","v":0}]
["Banc 121",{"$f":"SUMIF(BDD!$BC$2:$BC$3,\"Banc 121VRAIFAUXVRAIFAUXFAUX\",BDD!$V$2:$V$3)","v":0},{"$f":"SUMIF(BDD!$BC$2:$BC$3,\"Banc 121VRAIFAUXFAUXVRAIFAUX\",BDD!$V$2:$V$3)","v":0},{"$f":"SUMIF(BDD!$BC$2:$BC$3,\"Banc 121VRAIFAUXFAUXFAUXVRAI\",BDD!$V$2:$V$3)","v":0},{"$f":"SUMIF(BDD!$BC$2:$BC$3,\"Banc 121FAUXVRAIVRAIFAUXFAUX\",BDD!$V$2:$V$3)","v":0},{"$f":"SUMIF(BDD!$BC$2:$BC$3,\"Banc 121FAUXVRAIFAUXVRAIFAUX\",BDD!$V$2:$V$3)","v":0},{"$f":"SUMIF(BDD!$BC$2:$BC$3,\"Banc 121FAUXVRAIFAUXFAUXVRAI\",BDD!$V$2:$V$3)","v":0},{"$f":"SUMIF(BDD!$BC$2:$BC$3,\"Banc 121VRAIFAUXVRAIFAUXFAUX\",BDD!$V$2:$V$3)","v":0},{"$f":"SUMIF(BDD!$BC$2:$BC$3,\"Banc 121VRAIFAUXFAUXVRAIFAUX\",BDD!$V$2:$V$3)","v":0},{"$f":"SUMIF(BDD!$BC$2:$BC$3,\"Banc 121VRAIFAUXFAUXFAUXVRAI\",BDD!$V$2:$V$3)","v":0},{"$f":"SUMIF(BDD!$BC$2:$BC$3,\"Banc 121FAUXVRAIVRAIFAUXFAUX\",BDD!$V$2:$V$3)","v":0},{"$f":"SUMIF(BDD!$BC$2:$BC$3,\"Banc 121FAUXVRAIFAUXVRAIFAUX\",BDD!$V$2:$V$3)","v":0},{"$f":"SUMIF(BDD!$BC$2:$BC$3,\"Banc 121FAUXVRAIFAUXFAUXVRAI\",BDD!$V$2:$V$3)","v":0},{"$f":"SUMIF(BDD!$BC$2:$BC$683,\"Banc 121VRAIFAUXVRAIFAUXFAUX\",BDD!$V$2:$V$683)","v":0},{"$f":"SUMIF(BDD!$BC$2:$BC$683,\"Banc 121VRAIFAUXFAUXVRAIFAUX\",BDD!$V$2:$V$683)","v":0},{"$f":"SUMIF(BDD!$BC$2:$BC$683,\"Banc 121VRAIFAUXFAUXFAUXVRAI\",BDD!$V$2:$V$683)","v":0},{"$f":"SUMIF(BDD!$BC$2:$BC$683,\"Banc 121FAUXVRAIVRAIFAUXFAUX\",BDD!$V$2:$V$683)","v":0},{"$f":"SUMIF(BDD!$BC$2:$BC$683,\"Banc 121FAUXVRAIFAUXVRAIFAUX\",BDD!$V$2:$V$683)","v":0},{"$f":"SUMIF(BDD!$BC$2:$BC$683,\"Banc 121FAUXVRAIFAUXFAUXVRAI\",BDD!$V$2:$V$683)","v":0},{"$f":"SUMIF(BDD!$BC$2:$BC$3,\"Banc 121VRAIFAUXVRAIFAUXFAUX\",BDD!$V$2:$V$3)","v":0},{"$f":"SUMIF(BDD!$BC$2:$BC$3,\"Banc 121VRAIFAUXFAUXVRAIFAUX\",BDD!$V$2:$V$3)","v":0},{"$f":"SUMIF(BDD!$BC$2:$BC$3,\"Banc 121VRAIFAUXFAUXFAUXVRAI\",BDD!$V$2:$V$3)","v":0},{"$f":"SUMIF(BDD!$BC$2:$BC$3,\"Banc 121FAUXVRAIVRAIFAUXFAUX\",BDD!$V$2:$V$3)","v":0},{"$f":"SUMIF(BDD!$BC$2:$BC$3,\"Banc 121FAUXVRAIFAUXVRAIFAUX\",BDD!$V$2:$V$3)","v":0},{"$f":"SUMIF(BDD!$BC$2:$BC$3,\"Banc 121FAUXVRAIFAUXFAUXVRAI\",BDD!$V$2:$V$3)","v":0},{"$f":"SUMIF(BDD!$BC$2:$BC$3,\"Banc 121VRAIFAUXVRAIFAUXFAUX\",BDD!$V$2:$V$3)","v":0},{"$f":"SUMIF(BDD!$BC$2:$BC$3,\"Banc 121VRAIFAUXFAUXVRAIFAUX\",BDD!$V$2:$V$3)","v":0},{"$f":"SUMIF(BDD!$BC$2:$BC$3,\"Banc 121VRAIFAUXFAUXFAUXVRAI\",BDD!$V$2:$V$3)","v":0},{"$f":"SUMIF(BDD!$BC$2:$BC$3,\"Banc 121FAUXVRAIVRAIFAUXFAUX\",BDD!$V$2:$V$3)","v":0},{"$f":"SUMIF(BDD!$BC$2:$BC$3,\"Banc 121FAUXVRAIFAUXVRAIFAUX\",BDD!$V$2:$V$3)","v":0},{"$f":"SUMIF(BDD!$BC$2:$BC$3,\"Banc 121FAUXVRAIFAUXFAUXVRAI\",BDD!$V$2:$V$3)","v":0},{"$f":"SUMIF(BDD!$BC$2:$BC$3,\"Banc 121VRAIFAUXVRAIFAUXFAUX\",BDD!$V$2:$V$3)","v":0},{"$f":"SUMIF(BDD!$BC$2:$BC$3,\"Banc 121VRAIFAUXFAUXVRAIFAUX\",BDD!$V$2:$V$3)","v":0},{"$f":"SUMIF(BDD!$BC$2:$BC$3,\"Banc 121VRAIFAUXFAUXFAUXVRAI\",BDD!$V$2:$V$3)","v":0},{"$f":"SUMIF(BDD!$BC$2:$BC$3,\"Banc 121FAUXVRAIVRAIFAUXFAUX\",BDD!$V$2:$V$3)","v":0},{"$f":"SUMIF(BDD!$BC$2:$BC$3,\"Banc 121FAUXVRAIFAUXVRAIFAUX\",BDD!$V$2:$V$3)","v":0},{"$f":"SUMIF(BDD!$BC$2:$BC$3,\"Banc 121FAUXVRAIFAUXFAUXVRAI\",BDD!$V$2:$V$3)","v":0},{"$f":"SUMIF(BDD!$BC$2:$BC$3,\"Banc 121VRAIFAUXVRAIFAUXFAUX\",BDD!$V$2:$V$3)","v":0},{"$f":"SUMIF(BDD!$BC$2:$BC$3,\"Banc 121VRAIFAUXFAUXVRAIFAUX\",BDD!$V$2:$V$3)","v":0},{"$f":"SUMIF(BDD!$BC$2:$BC$3,\"Banc 121VRAIFAUXFAUXFAUXVRAI\",BDD!$V$2:$V$3)","v":0},{"$f":"SUMIF(BDD!$BC$2:$BC$3,\"Banc 121FAUXVRAIVRAIFAUXFAUX\",BDD!$V$2:$V$3)","v":0},{"$f":"SUMIF(BDD!$BC$2:$BC$3,\"Banc 121FAUXVRAIFAUXVRAIFAUX\",BDD!$V$2:$V$3)","v":0},{"$f":"SUMIF(BDD!$BC$2:$BC$3,\"Banc 121FAUXVRAIFAUXFAUXVRAI\",BDD!$V$2:$V$3)","v":0},{"$f":"SUMIF(BDD!$BC$2:$BC$3,\"Banc 121VRAIFAUXVRAIFAUXFAUX\",BDD!$V$2:$V$3)","v":0},{"$f":"SUMIF(BDD!$BC$2:$BC$3,\"Banc 121VRAIFAUXFAUXVRAIFAUX\",BDD!$V$2:$V$3)","v":0},{"$f":"SUMIF(BDD!$BC$2:$BC$3,\"Banc 121VRAIFAUXFAUXFAUXVRAI\",BDD!$V$2:$V$3)","v":0},{"$f":"SUMIF(BDD!$BC$2:$BC$3,\"Banc 121FAUXVRAIVRAIFAUXFAUX\",BDD!$V$2:$V$3)","v":0},{"$f":"SUMIF(BDD!$BC$2:$BC$3,\"Banc 121FAUXVRAIFAUXVRAIFAUX\",BDD!$V$2:$V$3)","v":0},{"$f":"SUMIF(BDD!$BC$2:$BC$3,\"Banc 121FAUXVRAIFAUXFAUXVRAI\",BDD!$V$2:$V$3)","v":0},{"$f":"SUMIF(BDD!$BC$2:$BC$3,\"Banc 121VRAIFAUXVRAIFAUXFAUX\",BDD!$V$2:$V$3)","v":0},{"$f":"SUMIF(BDD!$BC$2:$BC$3,\"Banc 121VRAIFAUXFAUXVRAIFAUX\",BDD!$V$2:$V$3)","v":0},{"$f":"SUMIF(BDD!$BC$2:$BC$3,\"Banc 121VRAIFAUXFAUXFAUXVRAI\",BDD!$V$2:$V$3)","v":0},{"$f":"SUMIF(BDD!$BC$2:$BC$3,\"Banc 121FAUXVRAIVRAIFAUXFAUX\",BDD!$V$2:$V$3)","v":0},{"$f":"SUMIF(BDD!$BC$2:$BC$3,\"Banc 121FAUXVRAIFAUXVRAIFAUX\",BDD!$V$2:$V$3)","v":0},{"$f":"SUMIF(BDD!$BC$2:$BC$3,\"Banc 121FAUXVRAIFAUXFAUXVRAI\",BDD!$V$2:$V$3)","v":0},{"$f":"SUMIF(BDD!$BC$2:$BC$3,\"Banc 121VRAIFAUXVRAIFAUXFAUX\",BDD!$V$2:$V$3)","v":0},{"$f":"SUMIF(BDD!$BC$2:$BC$3,\"Banc 121VRAIFAUXFAUXVRAIFAUX\",BDD!$V$2:$V$3)","v":0},{"$f":"SUMIF(BDD!$BC$2:$BC$3,\"Banc 121VRAIFAUXFAUXFAUXVRAI\",BDD!$V$2:$V$3)","v":0},{"$f":"SUMIF(BDD!$BC$2:$BC$3,\"Banc 121FAUXVRAIVRAIFAUXFAUX\",BDD!$V$2:$V$3)","v":0},{"$f":"SUMIF(BDD!$BC$2:$BC$3,\"Banc 121FAUXVRAIFAUXVRAIFAUX\",BDD!$V$2:$V$3)","v":0},{"$f":"SUMIF(BDD!$BC$2:$BC$3,\"Banc 121FAUXVRAIFAUXFAUXVRAI\",BDD!$V$2:$V$3)","v":0},{"$f":"SUMIF(BDD!$BC$2:$BC$3,\"Banc 121VRAIFAUXVRAIFAUXFAUX\",BDD!$V$2:$V$3)","v":0},{"$f":"SUMIF(BDD!$BC$2:$BC$3,\"Banc 121VRAIFAUXFAUXVRAIFAUX\",BDD!$V$2:$V$3)","v":0},{"$f":"SUMIF(BDD!$BC$2:$BC$3,\"Banc 121VRAIFAUXFAUXFAUXVRAI\",BDD!$V$2:$V$3)","v":0},{"$f":"SUMIF(BDD!$BC$2:$BC$3,\"Banc 121FAUXVRAIVRAIFAUXFAUX\",BDD!$V$2:$V$3)","v":0},{"$f":"SUMIF(BDD!$BC$2:$BC$3,\"Banc 121FAUXVRAIFAUXVRAIFAUX\",BDD!$V$2:$V$3)","v":0},{"$f":"SUMIF(BDD!$BC$2:$BC$3,\"Banc 121FAUXVRAIFAUXFAUXVRAI\",BDD!$V$2:$V$3)","v":0},{"$f":"SUMIF(BDD!$BC$2:$BC$3,\"Banc 121VRAIFAUXVRAIFAUXFAUX\",BDD!$V$2:$V$3)","v":0},{"$f":"SUMIF(BDD!$BC$2:$BC$3,\"Banc 121VRAIFAUXFAUXVRAIFAUX\",BDD!$V$2:$V$3)","v":0},{"$f":"SUMIF(BDD!$BC$2:$BC$3,\"Banc 121VRAIFAUXFAUXFAUXVRAI\",BDD!$V$2:$V$3)","v":0},{"$f":"SUMIF(BDD!$BC$2:$BC$3,\"Banc 121FAUXVRAIVRAIFAUXFAUX\",BDD!$V$2:$V$3)","v":0},{"$f":"SUMIF(BDD!$BC$2:$BC$3,\"Banc 121FAUXVRAIFAUXVRAIFAUX\",BDD!$V$2:$V$3)","v":0},{"$f":"SUMIF(BDD!$BC$2:$BC$3,\"Banc 121FAUXVRAIFAUXFAUXVRAI\",BDD!$V$2:$V$3)","v":0}]
["Pompe à eau",{"$f":"SUMIF(BDD!$BC$2:$BC$3,\"Pompe à eauVRAIFAUXVRAIFAUXFAUX\",BDD!$V$2:$V$3)","v":0},{"$f":"SUMIF(BDD!$BC$2:$BC$3,\"Pompe à eauVRAIFAUXFAUXVRAIFAUX\",BDD!$V$2:$V$3)","v":0},{"$f":"SUMIF(BDD!$BC$2:$BC$3,\"Pompe à eauVRAIFAUXFAUXFAUXVRAI\",BDD!$V$2:$V$3)","v":0},{"$f":"SUMIF(BDD!$BC$2:$BC$3,\"Pompe à eauFAUXVRAIVRAIFAUXFAUX\",BDD!$V$2:$V$3)","v":0},{"$f":"SUMIF(BDD!$BC$2:$BC$3,\"Pompe à eauFAUXVRAIFAUXVRAIFAUX\",BDD!$V$2:$V$3)","v":0},{"$f":"SUMIF(BDD!$BC$2:$BC$3,\"Pompe à eauFAUXVRAIFAUXFAUXVRAI\",BDD!$V$2:$V$3)","v":0},{"$f":"SUMIF(BDD!$BC$2:$BC$3,\"Pompe à eauVRAIFAUXVRAIFAUXFAUX\",BDD!$V$2:$V$3)","v":0},{"$f":"SUMIF(BDD!$BC$2:$BC$3,\"Pompe à eauVRAIFAUXFAUXVRAIFAUX\",BDD!$V$2:$V$3)","v":0},{"$f":"SUMIF(BDD!$BC$2:$BC$3,\"Pompe à eauVRAIFAUXFAUXFAUXVRAI\",BDD!$V$2:$V$3)","v":0},{"$f":"SUMIF(BDD!$BC$2:$BC$3,\"Pompe à eauFAUXVRAIVRAIFAUXFAUX\",BDD!$V$2:$V$3)","v":0},{"$f":"SUMIF(BDD!$BC$2:$BC$3,\"Pompe à eauFAUXVRAIFAUXVRAIFAUX\",BDD!$V$2:$V$3)","v":0},{"$f":"SUMIF(BDD!$BC$2:$BC$3,\"Pompe à eauFAUXVRAIFAUXFAUXVRAI\",BDD!$V$2:$V$3)","v":0},{"$f":"SUMIF(BDD!$BC$2:$BC$683,\"Pompe à eauVRAIFAUXVRAIFAUXFAUX\",BDD!$V$2:$V$683)","v":0},{"$f":"SUMIF(BDD!$BC$2:$BC$683,\"Pompe à eauVRAIFAUXFAUXVRAIFAUX\",BDD!$V$2:$V$683)","v":0},{"$f":"SUMIF(BDD!$BC$2:$BC$683,\"Pompe à eauVRAIFAUXFAUXFAUXVRAI\",BDD!$V$2:$V$683)","v":0},{"$f":"SUMIF(BDD!$BC$2:$BC$683,\"Pompe à eauFAUXVRAIVRAIFAUXFAUX\",BDD!$V$2:$V$683)","v":0},{"$f":"SUMIF(BDD!$BC$2:$BC$683,\"Pompe à eauFAUXVRAIFAUXVRAIFAUX\",BDD!$V$2:$V$683)","v":0},{"$f":"SUMIF(BDD!$BC$2:$BC$683,\"Pompe à eauFAUXVRAIFAUXFAUXVRAI\",BDD!$V$2:$V$683)","v":0},{"$f":"SUMIF(BDD!$BC$2:$BC$3,\"Pompe à eauVRAIFAUXVRAIFAUXFAUX\",BDD!$V$2:$V$3)","v":0},{"$f":"SUMIF(BDD!$BC$2:$BC$3,\"Pompe à eauVRAIFAUXFAUXVRAIFAUX\",BDD!$V$2:$V$3)","v":0},{"$f":"SUMIF(BDD!$BC$2:$BC$3,\"Pompe à eauVRAIFAUXFAUXFAUXVRAI\",BDD!$V$2:$V$3)","v":0},{"$f":"SUMIF(BDD!$BC$2:$BC$3,\"Pompe à eauFAUXVRAIVRAIFAUXFAUX\",BDD!$V$2:$V$3)","v":0},{"$f":"SUMIF(BDD!$BC$2:$BC$3,\"Pompe à eauFAUXVRAIFAUXVRAIFAUX\",BDD!$V$2:$V$3)","v":0},{"$f":"SUMIF(BDD!$BC$2:$BC$3,\"Pompe à eauFAUXVRAIFAUXFAUXVRAI\",BDD!$V$2:$V$3)","v":0},{"$f":"SUMIF(BDD!$BC$2:$BC$3,\"Pompe à eauVRAIFAUXVRAIFAUXFAUX\",BDD!$V$2:$V$3)","v":0},{"$f":"SUMIF(BDD!$BC$2:$BC$3,\"Pompe à eauVRAIFAUXFAUXVRAIFAUX\",BDD!$V$2:$V$3)","v":0},{"$f":"SUMIF(BDD!$BC$2:$BC$3,\"Pompe à eauVRAIFAUXFAUXFAUXVRAI\",BDD!$V$2:$V$3)","v":0},{"$f":"SUMIF(BDD!$BC$2:$BC$3,\"Pompe à eauFAUXVRAIVRAIFAUXFAUX\",BDD!$V$2:$V$3)","v":0},{"$f":"SUMIF(BDD!$BC$2:$BC$3,\"Pompe à eauFAUXVRAIFAUXVRAIFAUX\",BDD!$V$2:$V$3)","v":0},{"$f":"SUMIF(BDD!$BC$2:$BC$3,\"Pompe à eauFAUXVRAIFAUXFAUXVRAI\",BDD!$V$2:$V$3)","v":0},{"$f":"SUMIF(BDD!$BC$2:$BC$3,\"Pompe à eauVRAIFAUXVRAIFAUXFAUX\",BDD!$V$2:$V$3)","v":0},{"$f":"SUMIF(BDD!$BC$2:$BC$3,\"Pompe à eauVRAIFAUXFAUXVRAIFAUX\",BDD!$V$2:$V$3)","v":0},{"$f":"SUMIF(BDD!$BC$2:$BC$3,\"Pompe à eauVRAIFAUXFAUXFAUXVRAI\",BDD!$V$2:$V$3)","v":0},{"$f":"SUMIF(BDD!$BC$2:$BC$3,\"Pompe à eauFAUXVRAIVRAIFAUXFAUX\",BDD!$V$2:$V$3)","v":0},{"$f":"SUMIF(BDD!$BC$2:$BC$3,\"Pompe à eauFAUXVRAIFAUXVRAIFAUX\",BDD!$V$2:$V$3)","v":0},{"$f":"SUMIF(BDD!$BC$2:$BC$3,\"Pompe à eauFAUXVRAIFAUXFAUXVRAI\",BDD!$V$2:$V$3)","v":0},{"$f":"SUMIF(BDD!$BC$2:$BC$3,\"Pompe à eauVRAIFAUXVRAIFAUXFAUX\",BDD!$V$2:$V$3)","v":0},{"$f":"SUMIF(BDD!$BC$2:$BC$3,\"Pompe à eauVRAIFAUXFAUXVRAIFAUX\",BDD!$V$2:$V$3)","v":0},{"$f":"SUMIF(BDD!$BC$2:$BC$3,\"Pompe à eauVRAIFAUXFAUXFAUXVRAI\",BDD!$V$2:$V$3)","v":0},{"$f":"SUMIF(BDD!$BC$2:$BC$3,\"Pompe à eauFAUXVRAIVRAIFAUXFAUX\",BDD!$V$2:$V$3)","v":0},{"$f":"SUMIF(BDD!$BC$2:$BC$3,\"Pompe à eauFAUXVRAIFAUXVRAIFAUX\",BDD!$V$2:$V$3)","v":0},{"$f":"SUMIF(BDD!$BC$2:$BC$3,\"Pompe à eauFAUXVRAIFAUXFAUXVRAI\",BDD!$V$2:$V$3)","v":0},{"$f":"SUMIF(BDD!$BC$2:$BC$3,\"Pompe à eauVRAIFAUXVRAIFAUXFAUX\",BDD!$V$2:$V$3)","v":0},{"$f":"SUMIF(BDD!$BC$2:$BC$3,\"Pompe à eauVRAIFAUXFAUXVRAIFAUX\",BDD!$V$2:$V$3)","v":0},{"$f":"SUMIF(BDD!$BC$2:$BC$3,\"Pompe à eauVRAIFAUXFAUXFAUXVRAI\",BDD!$V$2:$V$3)","v":0},{"$f":"SUMIF(BDD!$BC$2:$BC$3,\"Pompe à eauFAUXVRAIVRAIFAUXFAUX\",BDD!$V$2:$V$3)","v":0},{"$f":"SUMIF(BDD!$BC$2:$BC$3,\"Pompe à eauFAUXVRAIFAUXVRAIFAUX\",BDD!$V$2:$V$3)","v":0},{"$f":"SUMIF(BDD!$BC$2:$BC$3,\"Pompe à eauFAUXVRAIFAUXFAUXVRAI\",BDD!$V$2:$V$3)","v":0},{"$f":"SUMIF(BDD!$BC$2:$BC$3,\"Pompe à eauVRAIFAUXVRAIFAUXFAUX\",BDD!$V$2:$V$3)","v":0},{"$f":"SUMIF(BDD!$BC$2:$BC$3,\"Pompe à eauVRAIFAUXFAUXVRAIFAUX\",BDD!$V$2:$V$3)","v":0},{"$f":"SUMIF(BDD!$BC$2:$BC$3,\"Pompe à eauVRAIFAUXFAUXFAUXVRAI\",BDD!$V$2:$V$3)","v":0},{"$f":"SUMIF(BDD!$BC$2:$BC$3,\"Pompe à eauFAUXVRAIVRAIFAUXFAUX\",BDD!$V$2:$V$3)","v":0},{"$f":"SUMIF(BDD!$BC$2:$BC$3,\"Pompe à eauFAUXVRAIFAUXVRAIFAUX\",BDD!$V$2:$V$3)","v":0},{"$f":"SUMIF(BDD!$BC$2:$BC$3,\"Pompe à eauFAUXVRAIFAUXFAUXVRAI\",BDD!$V$2:$V$3)","v":0},{"$f":"SUMIF(BDD!$BC$2:$BC$3,\"Pompe à eauVRAIFAUXVRAIFAUXFAUX\",BDD!$V$2:$V$3)","v":0},{"$f":"SUMIF(BDD!$BC$2:$BC$3,\"Pompe à eauVRAIFAUXFAUXVRAIFAUX\",BDD!$V$2:$V$3)","v":0},{"$f":"SUMIF(BDD!$BC$2:$BC$3,\"Pompe à eauVRAIFAUXFAUXFAUXVRAI\",BDD!$V$2:$V$3)","v":0},{"$f":"SUMIF(BDD!$BC$2:$BC$3,\"Pompe à eauFAUXVRAIVRAIFAUXFAUX\",BDD!$V$2:$V$3)","v":0},{"$f":"SUMIF(BDD!$BC$2:$BC$3,\"Pompe à eauFAUXVRAIFAUXVRAIFAUX\",BDD!$V$2:$V$3)","v":0},{"$f":"SUMIF(BDD!$BC$2:$BC$3,\"Pompe à eauFAUXVRAIFAUXFAUXVRAI\",BDD!$V$2:$V$3)","v":0},{"$f":"SUMIF(BDD!$BC$2:$BC$3,\"Pompe à eauVRAIFAUXVRAIFAUXFAUX\",BDD!$V$2:$V$3)","v":0},{"$f":"SUMIF(BDD!$BC$2:$BC$3,\"Pompe à eauVRAIFAUXFAUXVRAIFAUX\",BDD!$V$2:$V$3)","v":0},{"$f":"SUMIF(BDD!$BC$2:$BC$3,\"Pompe à eauVRAIFAUXFAUXFAUXVRAI\",BDD!$V$2:$V$3)","v":0},{"$f":"SUMIF(BDD!$BC$2:$BC$3,\"Pompe à eauFAUXVRAIVRAIFAUXFAUX\",BDD!$V$2:$V$3)","v":0},{"$f":"SUMIF(BDD!$BC$2:$BC$3,\"Pompe à eauFAUXVRAIFAUXVRAIFAUX\",BDD!$V$2:$V$3)","v":0},{"$f":"SUMIF(BDD!$BC$2:$BC$3,\"Pompe à eauFAUXVRAIFAUXFAUXVRAI\",BDD!$V$2:$V$3)","v":0},{"$f":"SUMIF(BDD!$BC$2:$BC$3,\"Pompe à eauVRAIFAUXVRAIFAUXFAUX\",BDD!$V$2:$V$3)","v":0},{"$f":"SUMIF(BDD!$BC$2:$BC$3,\"Pompe à eauVRAIFAUXFAUXVRAIFAUX\",BDD!$V$2:$V$3)","v":0},{"$f":"SUMIF(BDD!$BC$2:$BC$3,\"Pompe à eauVRAIFAUXFAUXFAUXVRAI\",BDD!$V$2:$V$3)","v":0},{"$f":"SUMIF(BDD!$BC$2:$BC$3,\"Pompe à eauFAUXVRAIVRAIFAUXFAUX\",BDD!$V$2:$V$3)","v":0},{"$f":"SUMIF(BDD!$BC$2:$BC$3,\"Pompe à eauFAUXVRAIFAUXVRAIFAUX\",BDD!$V$2:$V$3)","v":0},{"$f":"SUMIF(BDD!$BC$2:$BC$3,\"Pompe à eauFAUXVRAIFAUXFAUXVRAI\",BDD!$V$2:$V$3)","v":0}]
["Banc PowerTrain",{"$f":"SUMIF(BDD!$BC$2:$BC$3,\"Banc PowerTrainVRAIFAUXVRAIFAUXFAUX\",BDD!$V$2:$V$3)","v":0},{"$f":"SUMIF(BDD!$BC$2:$BC$3,\"Banc PowerTrainVRAIFAUXFAUXVRAIFAUX\",BDD!$V$2:$V$3)","v":0},{"$f":"SUMIF(BDD!$BC$2:$BC$3,\"Banc PowerTrainVRAIFAUXFAUXFAUXVRAI\",BDD!$V$2:$V$3)","v":0},{"$f":"SUMIF(BDD!$BC$2:$BC$3,\"Banc PowerTrainFAUXVRAIVRAIFAUXFAUX\",BDD!$V$2:$V$3)","v":0},{"$f":"SUMIF(BDD!$BC$2:$BC$3,\"Banc PowerTrainFAUXVRAIFAUXVRAIFAUX\",BDD!$V$2:$V$3)","v":0},{"$f":"SUMIF(BDD!$BC$2:$BC$3,\"Banc PowerTrainFAUXVRAIFAUXFAUXVRAI\",BDD!$V$2:$V$3)","v":0},{"$f":"SUMIF(BDD!$BC$2:$BC$3,\"Banc PowerTrainVRAIFAUXVRAIFAUXFAUX\",BDD!$V$2:$V$3)","v":0},{"$f":"SUMIF(BDD!$BC$2:$BC$3,\"Banc PowerTrainVRAIFAUXFAUXVRAIFAUX\",BDD!$V$2:$V$3)","v":0},{"$f":"SUMIF(BDD!$BC$2:$BC$3,\"Banc PowerTrainVRAIFAUXFAUXFAUXVRAI\",BDD!$V$2:$V$3)","v":0},{"$f":"SUMIF(BDD!$BC$2:$BC$3,\"Banc PowerTrainFAUXVRAIVRAIFAUXFAUX\",BDD!$V$2:$V$3)","v":0},{"$f":"SUMIF(BDD!$BC$2:$BC$3,\"Banc PowerTrainFAUXVRAIFAUXVRAIFAUX\",BDD!$V$2:$V$3)","v":0},{"$f":"SUMIF(BDD!$BC$2:$BC$3,\"Banc PowerTrainFAUXVRAIFAUXFAUXVRAI\",BDD!$V$2:$V$3)","v":0},{"$f":"SUMIF(BDD!$BC$2:$BC$683,\"Banc PowerTrainVRAIFAUXVRAIFAUXFAUX\",BDD!$V$2:$V$683)","v":0},{"$f":"SUMIF(BDD!$BC$2:$BC$683,\"Banc PowerTrainVRAIFAUXFAUXVRAIFAUX\",BDD!$V$2:$V$683)","v":0},{"$f":"SUMIF(BDD!$BC$2:$BC$683,\"Banc PowerTrainVRAIFAUXFAUXFAUXVRAI\",BDD!$V$2:$V$683)","v":0},{"$f":"SUMIF(BDD!$BC$2:$BC$683,\"Banc PowerTrainFAUXVRAIVRAIFAUXFAUX\",BDD!$V$2:$V$683)","v":0},{"$f":"SUMIF(BDD!$BC$2:$BC$683,\"Banc PowerTrainFAUXVRAIFAUXVRAIFAUX\",BDD!$V$2:$V$683)","v":0},{"$f":"SUMIF(BDD!$BC$2:$BC$683,\"Banc PowerTrainFAUXVRAIFAUXFAUXVRAI\",BDD!$V$2:$V$683)","v":0},{"$f":"SUMIF(BDD!$BC$2:$BC$3,\"Banc PowerTrainVRAIFAUXVRAIFAUXFAUX\",BDD!$V$2:$V$3)","v":0},{"$f":"SUMIF(BDD!$BC$2:$BC$3,\"Banc PowerTrainVRAIFAUXFAUXVRAIFAUX\",BDD!$V$2:$V$3)","v":0},{"$f":"SUMIF(BDD!$BC$2:$BC$3,\"Banc PowerTrainVRAIFAUXFAUXFAUXVRAI\",BDD!$V$2:$V$3)","v":0},{"$f":"SUMIF(BDD!$BC$2:$BC$3,\"Banc PowerTrainFAUXVRAIVRAIFAUXFAUX\",BDD!$V$2:$V$3)","v":0},{"$f":"SUMIF(BDD!$BC$2:$BC$3,\"Banc PowerTrainFAUXVRAIFAUXVRAIFAUX\",BDD!$V$2:$V$3)","v":0},{"$f":"SUMIF(BDD!$BC$2:$BC$3,\"Banc PowerTrainFAUXVRAIFAUXFAUXVRAI\",BDD!$V$2:$V$3)","v":0},{"$f":"SUMIF(BDD!$BC$2:$BC$3,\"Banc PowerTrainVRAIFAUXVRAIFAUXFAUX\",BDD!$V$2:$V$3)","v":0},{"$f":"SUMIF(BDD!$BC$2:$BC$3,\"Banc PowerTrainVRAIFAUXFAUXVRAIFAUX\",BDD!$V$2:$V$3)","v":0},{"$f":"SUMIF(BDD!$BC$2:$BC$3,\"Banc PowerTrainVRAIFAUXFAUXFAUXVRAI\",BDD!$V$2:$V$3)","v":0},{"$f":"SUMIF(BDD!$BC$2:$BC$3,\"Banc PowerTrainFAUXVRAIVRAIFAUXFAUX\",BDD!$V$2:$V$3)","v":0},{"$f":"SUMIF(BDD!$BC$2:$BC$3,\"Banc PowerTrainFAUXVRAIFAUXVRAIFAUX\",BDD!$V$2:$V$3)","v":0},{"$f":"SUMIF(BDD!$BC$2:$BC$3,\"Banc PowerTrainFAUXVRAIFAUXFAUXVRAI\",BDD!$V$2:$V$3)","v":0},{"$f":"SUMIF(BDD!$BC$2:$BC$3,\"Banc PowerTrainVRAIFAUXVRAIFAUXFAUX\",BDD!$V$2:$V$3)","v":0},{"$f":"SUMIF(BDD!$BC$2:$BC$3,\"Banc PowerTrainVRAIFAUXFAUXVRAIFAUX\",BDD!$V$2:$V$3)","v":0},{"$f":"SUMIF(BDD!$BC$2:$BC$3,\"Banc PowerTrainVRAIFAUXFAUXFAUXVRAI\",BDD!$V$2:$V$3)","v":0},{"$f":"SUMIF(BDD!$BC$2:$BC$3,\"Banc PowerTrainFAUXVRAIVRAIFAUXFAUX\",BDD!$V$2:$V$3)","v":0},{"$f":"SUMIF(BDD!$BC$2:$BC$3,\"Banc PowerTrainFAUXVRAIFAUXVRAIFAUX\",BDD!$V$2:$V$3)","v":0},{"$f":"SUMIF(BDD!$BC$2:$BC$3,\"Banc PowerTrainFAUXVRAIFAUXFAUXVRAI\",BDD!$V$2:$V$3)","v":0},{"$f":"SUMIF(BDD!$BC$2:$BC$3,\"Banc PowerTrainVRAIFAUXVRAIFAUXFAUX\",BDD!$V$2:$V$3)","v":0},{"$f":"SUMIF(BDD!$BC$2:$BC$3,\"Banc PowerTrainVRAIFAUXFAUXVRAIFAUX\",BDD!$V$2:$V$3)","v":0},{"$f":"SUMIF(BDD!$BC$2:$BC$3,\"Banc PowerTrainVRAIFAUXFAUXFAUXVRAI\",BDD!$V$2:$V$3)","v":0},{"$f":"SUMIF(BDD!$BC$2:$BC$3,\"Banc PowerTrainFAUXVRAIVRAIFAUXFAUX\",BDD!$V$2:$V$3)","v":0},{"$f":"SUMIF(BDD!$BC$2:$BC$3,\"Banc PowerTrainFAUXVRAIFAUXVRAIFAUX\",BDD!$V$2:$V$3)","v":0},{"$f":"SUMIF(BDD!$BC$2:$BC$3,\"Banc PowerTrainFAUXVRAIFAUXFAUXVRAI\",BDD!$V$2:$V$3)","v":0},{"$f":"SUMIF(BDD!$BC$2:$BC$3,\"Banc PowerTrainVRAIFAUXVRAIFAUXFAUX\",BDD!$V$2:$V$3)","v":0},{"$f":"SUMIF(BDD!$BC$2:$BC$3,\"Banc PowerTrainVRAIFAUXFAUXVRAIFAUX\",BDD!$V$2:$V$3)","v":0},{"$f":"SUMIF(BDD!$BC$2:$BC$3,\"Banc PowerTrainVRAIFAUXFAUXFAUXVRAI\",BDD!$V$2:$V$3)","v":0},{"$f":"SUMIF(BDD!$BC$2:$BC$3,\"Banc PowerTrainFAUXVRAIVRAIFAUXFAUX\",BDD!$V$2:$V$3)","v":0},{"$f":"SUMIF(BDD!$BC$2:$BC$3,\"Banc PowerTrainFAUXVRAIFAUXVRAIFAUX\",BDD!$V$2:$V$3)","v":0},{"$f":"SUMIF(BDD!$BC$2:$BC$3,\"Banc PowerTrainFAUXVRAIFAUXFAUXVRAI\",BDD!$V$2:$V$3)","v":0},{"$f":"SUMIF(BDD!$BC$2:$BC$3,\"Banc PowerTrainVRAIFAUXVRAIFAUXFAUX\",BDD!$V$2:$V$3)","v":0},{"$f":"SUMIF(BDD!$BC$2:$BC$3,\"Banc PowerTrainVRAIFAUXFAUXVRAIFAUX\",BDD!$V$2:$V$3)","v":0},{"$f":"SUMIF(BDD!$BC$2:$BC$3,\"Banc PowerTrainVRAIFAUXFAUXFAUXVRAI\",BDD!$V$2:$V$3)","v":0},{"$f":"SUMIF(BDD!$BC$2:$BC$3,\"Banc PowerTrainFAUXVRAIVRAIFAUXFAUX\",BDD!$V$2:$V$3)","v":0},{"$f":"SUMIF(BDD!$BC$2:$BC$3,\"Banc PowerTrainFAUXVRAIFAUXVRAIFAUX\",BDD!$V$2:$V$3)","v":0},{"$f":"SUMIF(BDD!$BC$2:$BC$3,\"Banc PowerTrainFAUXVRAIFAUXFAUXVRAI\",BDD!$V$2:$V$3)","v":0},{"$f":"SUMIF(BDD!$BC$2:$BC$3,\"Banc PowerTrainVRAIFAUXVRAIFAUXFAUX\",BDD!$V$2:$V$3)","v":0},{"$f":"SUMIF(BDD!$BC$2:$BC$3,\"Banc PowerTrainVRAIFAUXFAUXVRAIFAUX\",BDD!$V$2:$V$3)","v":0},{"$f":"SUMIF(BDD!$BC$2:$BC$3,\"Banc PowerTrainVRAIFAUXFAUXFAUXVRAI\",BDD!$V$2:$V$3)","v":0},{"$f":"SUMIF(BDD!$BC$2:$BC$3,\"Banc PowerTrainFAUXVRAIVRAIFAUXFAUX\",BDD!$V$2:$V$3)","v":0},{"$f":"SUMIF(BDD!$BC$2:$BC$3,\"Banc PowerTrainFAUXVRAIFAUXVRAIFAUX\",BDD!$V$2:$V$3)","v":0},{"$f":"SUMIF(BDD!$BC$2:$BC$3,\"Banc PowerTrainFAUXVRAIFAUXFAUXVRAI\",BDD!$V$2:$V$3)","v":0},{"$f":"SUMIF(BDD!$BC$2:$BC$3,\"Banc PowerTrainVRAIFAUXVRAIFAUXFAUX\",BDD!$V$2:$V$3)","v":0},{"$f":"SUMIF(BDD!$BC$2:$BC$3,\"Banc PowerTrainVRAIFAUXFAUXVRAIFAUX\",BDD!$V$2:$V$3)","v":0},{"$f":"SUMIF(BDD!$BC$2:$BC$3,\"Banc PowerTrainVRAIFAUXFAUXFAUXVRAI\",BDD!$V$2:$V$3)","v":0},{"$f":"SUMIF(BDD!$BC$2:$BC$3,\"Banc PowerTrainFAUXVRAIVRAIFAUXFAUX\",BDD!$V$2:$V$3)","v":0},{"$f":"SUMIF(BDD!$BC$2:$BC$3,\"Banc PowerTrainFAUXVRAIFAUXVRAIFAUX\",BDD!$V$2:$V$3)","v":0},{"$f":"SUMIF(BDD!$BC$2:$BC$3,\"Banc PowerTrainFAUXVRAIFAUXFAUXVRAI\",BDD!$V$2:$V$3)","v":0},{"$f":"SUMIF(BDD!$BC$2:$BC$3,\"Banc PowerTrainVRAIFAUXVRAIFAUXFAUX\",BDD!$V$2:$V$3)","v":0},{"$f":"SUMIF(BDD!$BC$2:$BC$3,\"Banc PowerTrainVRAIFAUXFAUXVRAIFAUX\",BDD!$V$2:$V$3)","v":0},{"$f":"SUMIF(BDD!$BC$2:$BC$3,\"Banc PowerTrainVRAIFAUXFAUXFAUXVRAI\",BDD!$V$2:$V$3)","v":0},{"$f":"SUMIF(BDD!$BC$2:$BC$3,\"Banc PowerTrainFAUXVRAIVRAIFAUXFAUX\",BDD!$V$2:$V$3)","v":0},{"$f":"SUMIF(BDD!$BC$2:$BC$3,\"Banc PowerTrainFAUXVRAIFAUXVRAIFAUX\",BDD!$V$2:$V$3)","v":0},{"$f":"SUMIF(BDD!$BC$2:$BC$3,\"Banc PowerTrainFAUXVRAIFAUXFAUXVRAI\",BDD!$V$2:$V$3)","v":0}]

{"sheet":"Indicateur Zone9","index":6,"n_rows":100,"n_cols":73,"rows_kept":100,"cut":false,"hidden":false,"merged":[[90,58,90,60],[90,61,90,63],[90,64,90,66],[90,67,90,69],[90,70,90,72],[90,43,90,45],[90,46,90,48],[90,49,90,51],[90,52,90,54],[90,55,90,57],[89,43,89,48],[89,49,89,54],[89,55,89,60],[89,61,89,66],[89,67,89,72],[89,31,89,36],[89,37,89,42],[90,31,90,33],[90,34,90,36],[90,37,90,39],[90,40,90,42],[1,1,1,12],[55,1,55,12],[89,25,89,30],[90,25,90,27],[90,28,90,30],[56,1,56,2],[56,3,56,4],[56,5,56,6],[56,7,56,8],[56,9,56,10],[56,11,56,12],[56,13,56,14],[56,15,56,16],[56,17,56,18],[56,19,56,20],[90,16,90,18],[90,19,90,21],[90,22,90,24],[31,1,31,12],[90,1,90,3],[90,4,90,6],[90,7,90,9],[90,10,90,12],[90,13,90,15],[56,21,56,22],[56,23,56,24],[88,1,88,21],[89,1,89,6],[89,7,89,12],[89,13,89,18],[89,19,89,24]]}
[]
[null,"Suivi des arrêts par banc"]
["Banc zone 9","Janvier","Février","Mars","Avril","Mai","Juin","Juillet","Août","Septembre","Octobre","Novembre","Décembre"]
["Banc P5",{"$f":"SUMIF(BDD!$H$2:$H$3,'Indicateur Zone9'!$A4,BDD!$V$2:$V$3)","v":0},{"$f":"SUMIF(BDD!$H$2:$H$3,'Indicateur Zone9'!$A4,BDD!$V$2:$V$3)","v":0},{"$f":"SUMIF(BDD!$H$2:$H$683,'Indicateur Zone9'!$A$4,BDD!$V$2:$V$683)","v":0},{"$f":"SUMIF(BDD!$H$2:$H$3,'Indicateur Zone9'!$A4,BDD!$V$2:$V$3)","v":0},{"$f":"SUMIF(BDD!$H$2:$H$3,'Indicateur Zone9'!$A4,BDD!$V$2:$V$3)","v":0},{"$f":"SUMIF(BDD!$H$2:$H$3,'Indicateur Zone9'!$A4,BDD!$V$2:$V$3)","v":0},{"$f":"SUMIF(BDD!$H$2:$H$3,'Indicateur Zone9'!$A4,BDD!$V$2:$V$3)","v":0},{"$f":"SUMIF(BDD!$H$2:$H$3,'Indicateur Zone9'!$A4,BDD!$V$2:$V$3)","v":0},{"$f":"SUMIF(BDD!$H$2:$H$3,'Indicateur Zone9'!$A4,BDD!$V$2:$V$3)","v":0},{"$f":"SUMIF(BDD!$H$2:$H$3,'Indicateur Zone9'!$A4,BDD!$V$2:$V$3)","v":0},{"$f":"SUMIF(BDD!$H$2:$H$3,'Indicateur Zone9'!$A4,BDD!$V$2:$V$3)","v":0},{"$f":"SUMIF(BDD!$H$2:$H$3,'Indicateur Zone9'!$A4,BDD!$V$2:$V$3)","v":0}]
["Banc 111",{"$f":"SUMIF(BDD!$H$2:$H$3,'Indicateur Zone9'!$A5,BDD!$V$2:$V$3)","v":0},{"$f":"SUMIF(BDD!$H$2:$H$3,'Indicateur Zone9'!$A5,BDD!$V$2:$V$3)","v":0},{"$f":"SUMIF(BDD!$H$2:$H$683,'Indicateur Zone9'!$A$5,BDD!$V$2:$V$683)","v":0},{"$f":"SUMIF(BDD!$H$2:$H$3,'Indicateur Zone9'!$A5,BDD!$V$2:$V$3)","v":0},{"$f":"SUMIF(BDD!$H$2:$H$3,'Indicateur Zone9'!$A5,BDD!$V$2:$V$3)","v":0},{"$f":"SUMIF(BDD!$H$2:$H$3,'Indicateur Zone9'!$A5,BDD!$V$2:$V$3)","v":0},{"$f":"SUMIF(BDD!$H$2:$H$3,'Indicateur Zone9'!$A5,BDD!$V$2:$V$3)","v":0},{"$f":"SUMIF(BDD!$H$2:$H$3,'Indicateur Zone9'!$A5,BDD!$V$2:$V$3)","v":0},{"$f":"SUMIF(BDD!$H$2:$H$3,'Indicateur Zone9'!$A5,BDD!$V$2:$V$3)","v":0},{"$f":"SUMIF(BDD!$H$2:$H$3,'Indicateur Zone9'!$A5,BDD!$V$2:$V$3)","v":0},{"$f":"SUMIF(BDD!$H$2:$H$3,'Indicateur Zone9'!$A5,BDD!$V$2:$V$3)","v":0},{"$f":"SUMIF(BDD!$H$2:$H$3,'Indicateur Zone9'!$A5,BDD!$V$2:$V$3)","v":0}]
["Banc 117",{"$f":"SUMIF(BDD!$H$2:$H$3,'Indicateur Zone9'!$A6,BDD!$V$2:$V$3)","v":0},{"$f":"SUMIF(BDD!$H$2:$H$3,'Indicateur Zone9'!$A6,BDD!$V$2:$V$3)","v":0},{"$f":"SUMIF(BDD!$H$2:$H$683,'Indicateur Zone9'!$A$6,BDD!$V$2:$V$683)","v":0},{"$f":"SUMIF(BDD!$H$2:$H$3,'Indicateur Zone9'!$A6,BDD!$V$2:$V$3)","v":0},{"$f":"SUMIF(BDD!$H$2:$H$3,'Indicateur Zone9'!$A6,BDD!$V$2:$V$3)","v":0},{"$f":"SUMIF(BDD!$H$2:$H$3,'Indicateur Zone9'!$A6,BDD!$V$2:$V$3)","v":0},{"$f":"SUMIF(BDD!$H$2:$H$3,'Indicateur Zone9'!$A6,BDD!$V$2:$V$3)","v":0},{"$f":"SUMIF(BDD!$H$2:$H$3,'Indicateur Zone9'!$A6,BDD!$V$2:$V$3)","v":0},{"$f":"SUMIF(BDD!$H$2:$H$3,'Indicateur Zone9'!$A6,BDD!$V$2:$V$3)","v":0},{"$f":"SUMIF(BDD!$H$2:$H$3,'Indicateur Zone9'!$A6,BDD!$V$2:$V$3)","v":0},{"$f":"SUMIF(BDD!$H$2:$H$3,'Indicateur Zone9'!$A6,BDD!$V$2:$V$3)","v":0},{"$f":"SUMIF(BDD!$H$2:$H$3,'Indicateur Zone9'!$A6,BDD!$V$2:$V$3)","v":0}]
["Banc 117 bis",{"$f":"SUMIF(BDD!$H$2:$H$3,'Indicateur Zone9'!$A7,BDD!$V$2:$V$3)","v":0},{"$f":"SUMIF(BDD!$H$2:$H$3,'Indicateur Zone9'!$A7,BDD!$V$2:$V$3)","v":0},{"$f":"SUMIF(BDD!$H$2:$H$683,'Indicateur Zone9'!$A$7,BDD!$V$2:$V$683)","v":0},{"$f":"SUMIF(BDD!$H$2:$H$3,'Indicateur Zone9'!$A7,BDD!$V$2:$V$3)","v":0},{"$f":"SUMIF(BDD!$H$2:$H$3,'Indicateur Zone9'!$A7,BDD!$V$2:$V$3)","v":0},{"$f":"SUMIF(BDD!$H$2:$H$3,'Indicateur Zone9'!$A7,BDD!$V$2:$V$3)","v":0},{"$f":"SUMIF(BDD!$H$2:$H$3,'Indicateur Zone9'!$A7,BDD!$V$2:$V$3)","v":0},{"$f":"SUMIF(BDD!$H$2:$H$3,'Indicateur Zone9'!$A7,BDD!$V$2:$V$3)","v":0},{"$f":"SUMIF(BDD!$H$2:$H$3,'Indicateur Zone9'!$A7,BDD!$V$2:$V$3)","v":0},{"$f":"SUMIF(BDD!$H$2:$H$3,'Indicateur Zone9'!$A7,BDD!$V$2:$V$3)","v":0},{"$f":"SUMIF(BDD!$H$2:$H$3,'Indicateur Zone9'!$A7,BDD!$V$2:$V$3)","v":0},{"$f":"SUMIF(BDD!$H$2:$H$3,'Indicateur Zone9'!$A7,BDD!$V$2:$V$3)","v":0}]
["Banc 119",{"$f":"SUMIF(BDD!$H$2:$H$3,'Indicateur Zone9'!$A8,BDD!$V$2:$V$3)","v":0},{"$f":"SUMIF(BDD!$H$2:$H$3,'Indicateur Zone9'!$A8,BDD!$V$2:$V$3)","v":0},{"$f":"SUMIF(BDD!$H$2:$H$683,'Indicateur Zone9'!$A$8,BDD!$V$2:$V$683)","v":0},{"$f":"SUMIF(BDD!$H$2:$H$3,'Indicateur Zone9'!$A8,BDD!$V$2:$V$3)","v":0},{"$f":"SUMIF(BDD!$H$2:$H$3,'Indicateur Zone9'!$A8,BDD!$V$2:$V$3)","v":0},{"$f":"SUMIF(BDD!$H$2:$H$3,'Indicateur Zone9'!$A8,BDD!$V$2:$V$3)","v":0},{"$f":"SUMIF(BDD!$H$2:$H$3,'Indicateur Zone9'!$A8,BDD!$V$2:$V$3)","v":0},{"$f":"SUMIF(BDD!$H$2:$H$3,'Indicateur Zone9'!$A8,BDD!$V$2:$V$3)","v":0},{"$f":"SUMIF(BDD!$H$2:$H$3,'Indicateur Zone9'!$A8,BDD!$V$2:$V$3)","v":0},{"$f":"SUMIF(BDD!$H$2:$H$3,'Indicateur Zone9'!$A8,BDD!$V$2:$V$3)","v":0},{"$f":"SUMIF(BDD!$H$2:$H$3,'Indicateur Zone9'!$A8,BDD!$V$2:$V$3)","v":0},{"$f":"SUMIF(BDD!$H$2:$H$3,'Indicateur Zone9'!$A8,BDD!$V$2:$V$3)","v":0}]
["Banc 123",{"$f":"SUMIF(BDD!$H$2:$H$3,'Indicateur Zone9'!$A9,BDD!$V$2:$V$3)","v":0},{"$f":"SUMIF(BDD!$H$2:$H$3,'Indicateur Zone9'!$A9,BDD!$V$2:$V$3)","v":0},{"$f":"SUMIF(BDD!$H$2:$H$683,'Indicateur Zone9'!$A$9,BDD!$V$2:$V$683)","v":32},{"$f":"SUMIF(BDD!$H$2:$H$3,'Indicateur Zone9'!$A9,BDD!$V$2:$V$3)","v":0},{"$f":"SUMIF(BDD!$H$2:$H$3,'Indicateur Zone9'!$A9,BDD!$V$2:$V$3)","v":0},{"$f":"SUMIF(BDD!$H$2:$H$3,'Indicateur Zone9'!$A9,BDD!$V$2:$V$3)","v":0},{"$f":"SUMIF(BDD!$H$2:$H$3,'Indicateur Zone9'!$A9,BDD!$V$2:$V$3)","v":0},{"$f":"SUMIF(BDD!$H$2:$H$3,'Indicateur Zone9'!$A9,BDD!$V$2:$V$3)","v":0},{"$f":"SUMIF(BDD!$H$2:$H$3,'Indicateur Zone9'!$A9,BDD!$V$2:$V$3)","v":0},{"$f":"SUMIF(BDD!$H$2:$H$3,'Indicateur Zone9'!$A9,BDD!$V$2:$V$3)","v":0},{"$f":"SUMIF(BDD!$H$2:$H$3,'Indicateur Zone9'!$A9,BDD!$V$2:$V$3)","v":0},{"$f":"SUMIF(BDD!$H$2:$H$3,'Indicateur Zone9'!$A9,BDD!$V$2:$V$3)","v":0}]
["Banc 126",{"$f":"SUMIF(BDD!$H$2:$H$3,'Indicateur Zone9'!$A10,BDD!$V$2:$V$3)","v":0},{"$f":"SUMIF(BDD!$H$2:$H$3,'Indicateur Zone9'!$A10,BDD!$V$2:$V$3)","v":0},{"$f":"SUMIF(BDD!$H$2:$H$683,'Indicateur Zone9'!$A$10,BDD!$V$2:$V$683)","v":0.3},{"$f":"SUMIF(BDD!$H$2:$H$3,'Indicateur Zone9'!$A10,BDD!$V$2:$V$3)","v":0},{"$f":"SUMIF(BDD!$H$2:$H$3,'Indicateur Zone9'!$A10,BDD!$V$2:$V$3)","v":0},{"$f":"SUMIF(BDD!$H$2:$H$3,'Indicateur Zone9'!$A10,BDD!$V$2:$V$3)","v":0},{"$f":"SUMIF(BDD!$H$2:$H$3,'Indicateur Zone9'!$A10,BDD!$V$2:$V$3)","v":0},{"$f":"SUMIF(BDD!$H$2:$H$3,'Indicateur Zone9'!$A10,BDD!$V$2:$V$3)","v":0},{"$f":"SUMIF(BDD!$H$2:$H$3,'Indicateur Zone9'!$A10,BDD!$V$2:$V$3)","v":0},{"$f":"SUMIF(BDD!$H$2:$H$3,'Indicateur Zone9'!$A10,BDD!$V$2:$V$3)","v":0},{"$f":"SUMIF(BDD!$H$2:$H$3,'Indicateur Zone9'!$A10,BDD!$V$2:$V$3)","v":0},{"$f":"SUMIF(BDD!$H$2:$H$3,'Indicateur Zone9'!$A10,BDD!$V$2:$V$3)","v":0}]
["Banc 156",{"$f":"SUMIF(BDD!$H$2:$H$3,'Indicateur Zone9'!$A11,BDD!$V$2:$V$3)","v":0},{"$f":"SUMIF(BDD!$H$2:$H$3,'Indicateur Zone9'!$A11,BDD!$V$2:$V$3)","v":0},{"$f":"SUMIF(BDD!$H$2:$H$683,'Indicateur Zone9'!$A$11,BDD!$V$2:$V$683)","v":0},{"$f":"SUMIF(BDD!$H$2:$H$3,'Indicateur Zone9'!$A11,BDD!$V$2:$V$3)","v":0},{"$f":"SUMIF(BDD!$H$2:$H$3,'Indicateur Zone9'!$A11,BDD!$V$2:$V$3)","v":0},{"$f":"SUMIF(BDD!$H$2:$H$3,'Indicateur Zone9'!$A11,BDD!$V$2:$V$3)","v":0},{"$f":"SUMIF(BDD!$H$2:$H$3,'Indicateur Zone9'!$A11,BDD!$V$2:$V$3)","v":0},{"$f":"SUMIF(BDD!$H$2:$H$3,'Indicateur Zone9'!$A11,BDD!$V$2:$V$3)","v":0},{"$f":"SUMIF(BDD!$H$2:$H$3,'Indicateur Zone9'!$A11,BDD!$V$2:$V$3)","v":0},{"$f":"SUMIF(BDD!$H$2:$H$3,'Indicateur Zone9'!$A11,BDD!$V$2:$V$3)","v":0},{"$f":"SUMIF(BDD!$H$2:$H$3,'Indicateur Zone9'!$A11,BDD!$V$2:$V$3)","v":0},{"$f":"SUMIF(BDD!$H$2:$H$3,'Indicateur Zone9'!$A11,BDD!$V$2:$V$3)","v":0}]
[]
[]
[]
[]
[]
[]
[]
[]
[]
[]
[]
[]
[]
[]
[]
[]
[]
[]
[]
[]
[null,"Suivi du correctif et du préventif"]
["Type de maintenance","Janvier","Février","Mars","Avril","Mai","Juin","Juillet","Août","Septembre","Octobre","Novembre","Décembre"]
["Préventive",{"$f":"SUM(C59:C66)","v":0},{"$f":"SUM(E59:E66)","v":0},{"$f":"SUM(G59:G66)","v":32.299999999999997},{"$f":"SUM(I59:I66)","v":0},{"$f":"SUM(K59:K66)","v":0},{"$f":"SUM(M59:M66)","v":0},{"$f":"SUM(O59:O66)","v":0},{"$f":"SUM(Q59:Q66)","v":0},{"$f":"SUM(S59:S66)","v":0},{"$f":"SUM(U59:U66)","v":0},{"$f":"SUM(W59:W66)","v":0},{"$f":"SUM(Y59:Y66)","v":0}]
["Corrective",{"$f":"SUM(B59:B66)","v":0},{"$f":"SUM(D59:D66)","v":0},{"$f":"SUM(F59:F66)","v":0},{"$f":"SUM(H59:H66)","v":0},{"$f":"SUM(J59:J66)","v":0},{"$f":"SUM(L59:L66)","v":0},{"$f":"SUM(N59:N66)","v":0},{"$f":"SUM(N59:N66)","v":0},{"$f":"SUM(R59:R66)","v":0},{"$f":"SUM(T59:T66)","v":0},{"$f":"SUM(V59:V66)","v":0},{"$f":"SUM(X59:X66)","v":0}]
[]
[]
[]
[]
[]
[]
[]
[]
[]
[]
[]
[]
[]
[]
[]
[]
[]
[]
[]
[]
[null,"Suivi du correctif et du préventif par banc"]
[null,"Janvier",null,"Février",null,"Mars",null,"Avril",null,"Mai",null,"Juin",null,"Juillet",null,"Août",null,"Septembre",null,"Octobre",null,"Novembre",null,"Décembre"]
["Banc zone 9","Corrective","Préventive","Corrective","Préventive","Corrective","Préventive","Corrective","Préventive","Corrective","Préventive","Corrective","Préventive","Corrective","Préventive","Corrective","Préventive","Corrective","Préventive","Corrective","Préventive","Corrective","Préventive","Corrective","Préventive"]
["Banc P5",{"$f":"SUMIF(BDD!$BB$2:$BB$3,\"Banc P5VRAIFAUX\",BDD!$V$2:$V$3)","v":0},{"$f":"SUMIF(BDD!$BB$2:$BB$3,\"Banc P5FAUXVRAI\",BDD!$V$2:$V$3)","v":0},{"$f":"SUMIF(BDD!$BB$2:$BB$3,\"Banc P5VRAIFAUX\",BDD!$V$2:$V$3)","v":0},{"$f":"SUMIF(BDD!$BB$2:$BB$3,\"Banc P5FAUXVRAI\",BDD!$V$2:$V$3)","v":0},{"$f":"SUMIF(BDD!$BB$2:$BB$683,\"Banc P5VRAIFAUX\",BDD!$V$2:$V$683)","v":0},{"$f":"SUMIF(BDD!$BB$2:$BB$683,\"Banc P5FAUXvrai\",BDD!$V$2:$V$683)","v":0},{"$f":"SUMIF(BDD!$BB$2:$BB$3,\"Banc P5VRAIFAUX\",BDD!$V$2:$V$3)","v":0},{"$f":"SUMIF(BDD!$BB$2:$BB$3,\"Banc P5FAUXVRAI\",BDD!$V$2:$V$3)","v":0},{"$f":"SUMIF(BDD!$BB$2:$BB$3,\"Banc P5VRAIFAUX\",BDD!$V$2:$V$3)","v":0},{"$f":"SUMIF(BDD!$BB$2:$BB$3,\"Banc P5FAUXVRAI\",BDD!$V$2:$V$3)","v":0},{"$f":"SUMIF(BDD!$BB$2:$BB$3,\"Banc P5VRAIFAUX\",BDD!$V$2:$V$3)","v":0},{"$f":"SUMIF(BDD!$BB$2:$BB$3,\"Banc P5FAUXVRAI\",BDD!$V$2:$V$3)","v":0},{"$f":"SUMIF(BDD!$BB$2:$BB$3,\"Banc P5VRAIFAUX\",BDD!$V$2:$V$3)","v":0},{"$f":"SUMIF(BDD!$BB$2:$BB$3,\"Banc P5FAUXVRAI\",BDD!$V$2:$V$3)","v":0},{"$f":"SUMIF(BDD!$BB$2:$BB$3,\"Banc P5VRAIFAUX\",BDD!$V$2:$V$3)","v":0},{"$f":"SUMIF(BDD!$BB$2:$BB$3,\"Banc P5FAUXVRAI\",BDD!$V$2:$V$3)","v":0},{"$f":"SUMIF(BDD!$BB$2:$BB$3,\"Banc P5VRAIFAUX\",BDD!$V$2:$V$3)","v":0},{"$f":"SUMIF(BDD!$BB$2:$BB$3,\"Banc P5FAUXVRAI\",BDD!$V$2:$V$3)","v":0},{"$f":"SUMIF(BDD!$BB$2:$BB$3,\"Banc P5VRAIFAUX\",BDD!$V$2:$V$3)","v":0},{"$f":"SUMIF(BDD!$BB$2:$BB$3,\"Banc P5FAUXVRAI\",BDD!$V$2:$V$3)","v":0},{"$f":"SUMIF(BDD!$BB$2:$BB$3,\"Banc P5VRAIFAUX\",BDD!$V$2:$V$3)","v":0},{"$f":"SUMIF(BDD!$BB$2:$BB$3,\"Banc P5FAUXVRAI\",BDD!$V$2:$V$3)","v":0},{"$f":"SUMIF(BDD!$BB$2:$BB$3,\"Banc P5VRAIFAUX\",BDD!$V$2:$V$3)","v":0},{"$f":"SUMIF(BDD!$BB$2:$BB$3,\"Banc P5FAUXVRAI\",BDD!$V$2:$V$3)","v":0}]
["Banc 111",{"$f":"SUMIF(BDD!$BB$2:$BB$3,\"Banc 111VRAIFAUX\",BDD!$V$2:$V$3)","v":0},{"$f":"SUMIF(BDD!$BB$2:$BB$3,\"Banc 111FAUXVRAI\",BDD!$V$2:$V$3)","v":0},{"$f":"SUMIF(BDD!$BB$2:$BB$3,\"Banc 111VRAIFAUX\",BDD!$V$2:$V$3)","v":0},{"$f":"SUMIF(BDD!$BB$2:$BB$3,\"Banc 111FAUXVRAI\",BDD!$V$2:$V$3)","v":0},{"$f":"SUMIF(BDD!$BB$2:$BB$683,\"Banc 111VRAIFAUX\",BDD!$V$2:$V$683)","v":0},{"$f":"SUMIF(BDD!$BB$2:$BB$683,\"Banc 111FAUXVRAI\",BDD!$V$2:$V$683)","v":0},{"$f":"SUMIF(BDD!$BB$2:$BB$3,\"Banc 111VRAIFAUX\",BDD!$V$2:$V$3)","v":0},{"$f":"SUMIF(BDD!$BB$2:$BB$3,\"Banc 111FAUXVRAI\",BDD!$V$2:$V$3)","v":0},{"$f":"SUMIF(BDD!$BB$2:$BB$3,\"Banc 111VRAIFAUX\",BDD!$V$2:$V$3)","v":0},{"$f":"SUMIF(BDD!$BB$2:$BB$3,\"Banc 111FAUXVRAI\",BDD!$V$2:$V$3)","v":0},{"$f":"SUMIF(BDD!$BB$2:$BB$3,\"Banc 111VRAIFAUX\",BDD!$V$2:$V$3)","v":0},{"$f":"SUMIF(BDD!$BB$2:$BB$3,\"Banc 111FAUXVRAI\",BDD!$V$2:$V$3)","v":0},{"$f":"SUMIF(BDD!$BB$2:$BB$3,\"Banc 111VRAIFAUX\",BDD!$V$2:$V$3)","v":0},{"$f":"SUMIF(BDD!$BB$2:$BB$3,\"Banc 111FAUXVRAI\",BDD!$V$2:$V$3)","v":0},{"$f":"SUMIF(BDD!$BB$2:$BB$3,\"Banc 111VRAIFAUX\",BDD!$V$2:$V$3)","v":0},{"$f":"SUMIF(BDD!$BB$2:$BB$3,\"Banc 111FAUXVRAI\",BDD!$V$2:$V$3)","v":0},{"$f":"SUMIF(BDD!$BB$2:$BB$3,\"Banc 111VRAIFAUX\",BDD!$V$2:$V$3)","v":0},{"$f":"SUMIF(BDD!$BB$2:$BB$3,\"Banc 111FAUXVRAI\",BDD!$V$2:$V$3)","v":0},{"$f":"SUMIF(BDD!$BB$2:$BB$3,\"Banc 111VRAIFAUX\",BDD!$V$2:$V$3)","v":0},{"$f":"SUMIF(BDD!$BB$2:$BB$3,\"Banc 111FAUXVRAI\",BDD!$V$2:$V$3)","v":0},{"$f":"SUMIF(BDD!$BB$2:$BB$3,\"Banc 111VRAIFAUX\",BDD!$V$2:$V$3)","v":0},{"$f":"SUMIF(BDD!$BB$2:$BB$3,\"Banc 111FAUXVRAI\",BDD!$V$2:$V$3)","v":0},{"$f":"SUMIF(BDD!$BB$2:$BB$3,\"Banc 111VRAIFAUX\",BDD!$V$2:$V$3)","v":0},{"$f":"SUMIF(BDD!$BB$2:$BB$3,\"Banc 111FAUXVRAI\",BDD!$V$2:$V$3)","v":0}]
["Banc 117",{"$f":"SUMIF(BDD!$BB$2:$BB$683,\"Banc 117VRAIFAUX\",BDD!$V$2:$V$683)","v":0},{"$f":"SUMIF(BDD!$BB$2:$BB$3,\"Banc 117FAUXVRAI\",BDD!$V$2:$V$3)","v":0},{"$f":"SUMIF(BDD!$BB$2:$BB$683,\"Banc 117VRAIFAUX\",BDD!$V$2:$V$683)","v":0},{"$f":"SUMIF(BDD!$BB$2:$BB$3,\"Banc 117FAUXVRAI\",BDD!$V$2:$V$3)","v":0},{"$f":"SUMIF(BDD!$BB$2:$BB$683,\"Banc 117VRAIFAUX\",BDD!$V$2:$V$683)","v":0},{"$f":"SUMIF(BDD!$BB$2:$BB$683,\"Banc 117FAUXVRAI\",BDD!$V$2:$V$683)","v":0},{"$f":"SUMIF(BDD!$BB$2:$BB$683,\"Banc 117VRAIFAUX\",BDD!$V$2:$V$683)","v":0},{"$f":"SUMIF(BDD!$BB$2:$BB$3,\"Banc 117FAUXVRAI\",BDD!$V$2:$V$3)","v":0},{"$f":"SUMIF(BDD!$BB$2:$BB$683,\"Banc 117VRAIFAUX\",BDD!$V$2:$V$683)","v":0},{"$f":"SUMIF(BDD!$BB$2:$BB$3,\"Banc 117FAUXVRAI\",BDD!$V$2:$V$3)","v":0},{"$f":"SUMIF(BDD!$BB$2:$BB$683,\"Banc 117VRAIFAUX\",BDD!$V$2:$V$683)","v":0},{"$f":"SUMIF(BDD!$BB$2:$BB$3,\"Banc 117FAUXVRAI\",BDD!$V$2:$V$3)","v":0},{"$f":"SUMIF(BDD!$BB$2:$BB$683,\"Banc 117VRAIFAUX\",BDD!$V$2:$V$683)","v":0},{"$f":"SUMIF(BDD!$BB$2:$BB$3,\"Banc 117FAUXVRAI\",BDD!$V$2:$V$3)","v":0},{"$f":"SUMIF(BDD!$BB$2:$BB$683,\"Banc 117VRAIFAUX\",BDD!$V$2:$V$683)","v":0},{"$f":"SUMIF(BDD!$BB$2:$BB$3,\"Banc 117FAUXVRAI\",BDD!$V$2:$V$3)","v":0},{"$f":"SUMIF(BDD!$BB$2:$BB$683,\"Banc 117VRAIFAUX\",BDD!$V$2:$V$683)","v":0},{"$f":"SUMIF(BDD!$BB$2:$BB$3,\"Banc 117FAUXVRAI\",BDD!$V$2:$V$3)","v":0},{"$f":"SUMIF(BDD!$BB$2:$BB$683,\"Banc 117VRAIFAUX\",BDD!$V$2:$V$683)","v":0},{"$f":"SUMIF(BDD!$BB$2:$BB$3,\"Banc 117FAUXVRAI\",BDD!$V$2:$V$3)","v":0},{"$f":"SUMIF(BDD!$BB$2:$BB$683,\"Banc 117VRAIFAUX\",BDD!$V$2:$V$683)","v":0},{"$f":"SUMIF(BDD!$BB$2:$BB$3,\"Banc 117FAUXVRAI\",BDD!$V$2:$V$3)","v":0},{"$f":"SUMIF(BDD!$BB$2:$BB$683,\"Banc 117VRAIFAUX\",BDD!$V$2:$V$683)","v":0},{"$f":"SUMIF(BDD!$BB$2:$BB$3,\"Banc 117FAUXVRAI\",BDD!$V$2:$V$3)","v":0}]
["Banc 117 bis",{"$f":"SUMIF(BDD!$BB$2:$BB$3,\"Banc 117 bisVRAIFAUX\",BDD!$V$2:$V$3)","v":0},{"$f":"SUMIF(BDD!$BB$2:$BB$3,\"Banc 117 bisFAUXVRAI\",BDD!$V$2:$V$3)","v":0},{"$f":"SUMIF(BDD!$BB$2:$BB$3,\"Banc 117 bisVRAIFAUX\",BDD!$V$2:$V$3)","v":0},{"$f":"SUMIF(BDD!$BB$2:$BB$3,\"Banc 117 bisFAUXVRAI\",BDD!$V$2:$V$3)","v":0},{"$f":"SUMIF(BDD!$BB$2:$BB$683,\"Banc 117 bisVRAIFAUX\",BDD!$V$2:$V$683)","v":0},{"$f":"SUMIF(BDD!$BB$2:$BB$683,\"Banc 117 bisFAUXVRAI\",BDD!$V$2:$V$683)","v":0},{"$f":"SUMIF(BDD!$BB$2:$BB$3,\"Banc 117 bisVRAIFAUX\",BDD!$V$2:$V$3)","v":0},{"$f":"SUMIF(BDD!$BB$2:$BB$3,\"Banc 117 bisFAUXVRAI\",BDD!$V$2:$V$3)","v":0},{"$f":"SUMIF(BDD!$BB$2:$BB$3,\"Banc 117 bisVRAIFAUX\",BDD!$V$2:$V$3)","v":0},{"$f":"SUMIF(BDD!$BB$2:$BB$3,\"Banc 117 bisFAUXVRAI\",BDD!$V$2:$V$3)","v":0},{"$f":"SUMIF(BDD!$BB$2:$BB$3,\"Banc 117 bisVRAIFAUX\",BDD!$V$2:$V$3)","v":0},{"$f":"SUMIF(BDD!$BB$2:$BB$3,\"Banc 117 bisFAUXVRAI\",BDD!$V$2:$V$3)","v":0},{"$f":"SUMIF(BDD!$BB$2:$BB$3,\"Banc 117 bisVRAIFAUX\",BDD!$V$2:$V$3)","v":0},{"$f":"SUMIF(BDD!$BB$2:$BB$3,\"Banc 117 bisFAUXVRAI\",BDD!$V$2:$V$3)","v":0},{"$f":"SUMIF(BDD!$BB$2:$BB$3,\"Banc 117 bisVRAIFAUX\",BDD!$V$2:$V$3)","v":0},{"$f":"SUMIF(BDD!$BB$2:$BB$3,\"Banc 117 bisFAUXVRAI\",BDD!$V$2:$V$3)","v":0},{"$f":"SUMIF(BDD!$BB$2:$BB$3,\"Banc 117 bisVRAIFAUX\",BDD!$V$2:$V$3)","v":0},{"$f":"SUMIF(BDD!$BB$2:$BB$3,\"Banc 117 bisFAUXVRAI\",BDD!$V$2:$V$3)","v":0},{"$f":"SUMIF(BDD!$BB$2:$BB$3,\"Banc 117 bisVRAIFAUX\",BDD!$V$2:$V$3)","v":0},{"$f":"SUMIF(BDD!$BB$2:$BB$3,\"Banc 117 bisFAUXVRAI\",BDD!$V$2:$V$3)","v":0},{"$f":"SUMIF(BDD!$BB$2:$BB$3,\"Banc 117 bisVRAIFAUX\",BDD!$V$2:$V$3)","v":0},{"$f":"SUMIF(BDD!$BB$2:$BB$3,\"Banc 117 bisFAUXVRAI\",BDD!$V$2:$V$3)","v":0},{"$f":"SUMIF(BDD!$BB$2:$BB$3,\"Banc 117 bisVRAIFAUX\",BDD!$V$2:$V$3)","v":0},{"$f":"SUMIF(BDD!$BB$2:$BB$3,\"Banc 117 bisFAUXVRAI\",BDD!$V$2:$V$3)","v":0}]
["Banc 119",{"$f":"SUMIF(BDD!$BB$2:$BB$3,\"Banc 119VRAIFAUX\",BDD!$V$2:$V$3)","v":0},{"$f":"SUMIF(BDD!$BB$2:$BB$3,\"Banc 119FAUXVRAI\",BDD!$V$2:$V$3)","v":0},{"$f":"SUMIF(BDD!$BB$2:$BB$3,\"Banc 119VRAIFAUX\",BDD!$V$2:$V$3)","v":0},{"$f":"SUMIF(BDD!$BB$2:$BB$3,\"Banc 119FAUXVRAI\",BDD!$V$2:$V$3)","v":0},{"$f":"SUMIF(BDD!$BB$2:$BB$683,\"Banc 119VRAIFAUX\",BDD!$V$2:$V$683)","v":0},{"$f":"SUMIF(BDD!$BB$2:$BB$683,\"Banc 119FAUXVRAI\",BDD!$V$2:$V$683)","v":0},{"$f":"SUMIF(BDD!$BB$2:$BB$3,\"Banc 119VRAIFAUX\",BDD!$V$2:$V$3)","v":0},{"$f":"SUMIF(BDD!$BB$2:$BB$3,\"Banc 119FAUXVRAI\",BDD!$V$2:$V$3)","v":0},{"$f":"SUMIF(BDD!$BB$2:$BB$3,\"Banc 119VRAIFAUX\",BDD!$V$2:$V$3)","v":0},{"$f":"SUMIF(BDD!$BB$2:$BB$3,\"Banc 119FAUXVRAI\",BDD!$V$2:$V$3)","v":0},{"$f":"SUMIF(BDD!$BB$2:$BB$3,\"Banc 119VRAIFAUX\",BDD!$V$2:$V$3)","v":0},{"$f":"SUMIF(BDD!$BB$2:$BB$3,\"Banc 119FAUXVRAI\",BDD!$V$2:$V$3)","v":0},{"$f":"SUMIF(BDD!$BB$2:$BB$3,\"Banc 119VRAIFAUX\",BDD!$V$2:$V$3)","v":0},{"$f":"SUMIF(BDD!$BB$2:$BB$3,\"Banc 119FAUXVRAI\",BDD!$V$2:$V$3)","v":0},{"$f":"SUMIF(BDD!$BB$2:$BB$3,\"Banc 119VRAIFAUX\",BDD!$V$2:$V$3)","v":0},{"$f":"SUMIF(BDD!$BB$2:$BB$3,\"Banc 119FAUXVRAI\",BDD!$V$2:$V$3)","v":0},{"$f":"SUMIF(BDD!$BB$2:$BB$3,\"Banc 119VRAIFAUX\",BDD!$V$2:$V$3)","v":0},{"$f":"SUMIF(BDD!$BB$2:$BB$3,\"Banc 119FAUXVRAI\",BDD!$V$2:$V$3)","v":0},{"$f":"SUMIF(BDD!$BB$2:$BB$3,\"Banc 119VRAIFAUX\",BDD!$V$2:$V$3)","v":0},{"$f":"SUMIF(BDD!$BB$2:$BB$3,\"Banc 119FAUXVRAI\",BDD!$V$2:$V$3)","v":0},{"$f":"SUMIF(BDD!$BB$2:$BB$3,\"Banc 119VRAIFAUX\",BDD!$V$2:$V$3)","v":0},{"$f":"SUMIF(BDD!$BB$2:$BB$3,\"Banc 119FAUXVRAI\",BDD!$V$2:$V$3)","v":0},{"$f":"SUMIF(BDD!$BB$2:$BB$3,\"Banc 119VRAIFAUX\",BDD!$V$2:$V$3)","v":0},{"$f":"SUMIF(BDD!$BB$2:$BB$3,\"Banc 119FAUXVRAI\",BDD!$V$2:$V$3)","v":0}]
["Banc 123",{"$f":"SUMIF(BDD!$BB$2:$BB$3,\"Banc 123VRAIFAUX\",BDD!$V$2:$V$3)","v":0},{"$f":"SUMIF(BDD!$BB$2:$BB$3,\"Banc 123FAUXVRAI\",BDD!$V$2:$V$3)","v":0},{"$f":"SUMIF(BDD!$BB$2:$BB$3,\"Banc 123VRAIFAUX\",BDD!$V$2:$V$3)","v":0},{"$f":"SUMIF(BDD!$BB$2:$BB$3,\"Banc 123FAUXVRAI\",BDD!$V$2:$V$3)","v":0},{"$f":"SUMIF(BDD!$BB$2:$BB$683,\"Banc 123VRAIFAUX\",BDD!$V$2:$V$683)","v":0},{"$f":"SUMIF(BDD!$BB$2:$BB$683,\"Banc 123FAUXVRAI\",BDD!$V$2:$V$683)","v":32},{"$f":"SUMIF(BDD!$BB$2:$BB$3,\"Banc 123VRAIFAUX\",BDD!$V$2:$V$3)","v":0},{"$f":"SUMIF(BDD!$BB$2:$BB$3,\"Banc 123FAUXVRAI\",BDD!$V$2:$V$3)","v":0},{"$f":"SUMIF(BDD!$BB$2:$BB$3,\"Banc 123VRAIFAUX\",BDD!$V$2:$V$3)","v":0},{"$f":"SUMIF(BDD!$BB$2:$BB$3,\"Banc 123FAUXVRAI\",BDD!$V$2:$V$3)","v":0},{"$f":"SUMIF(BDD!$BB$2:$BB$3,\"Banc 123VRAIFAUX\",BDD!$V$2:$V$3)","v":0},{"$f":"SUMIF(BDD!$BB$2:$BB$3,\"Banc 123FAUXVRAI\",BDD!$V$2:$V$3)","v":0},{"$f":"SUMIF(BDD!$BB$2:$BB$3,\"Banc 123VRAIFAUX\",BDD!$V$2:$V$3)","v":0},{"$f":"SUMIF(BDD!$BB$2:$BB$3,\"Banc 123FAUXVRAI\",BDD!$V$2:$V$3)","v":0},{"$f":"SUMIF(BDD!$BB$2:$BB$3,\"Banc 123VRAIFAUX\",BDD!$V$2:$V$3)","v":0},{"$f":"SUMIF(BDD!$BB$2:$BB$3,\"Banc 123FAUXVRAI\",BDD!$V$2:$V$3)","v":0},{"$f":"SUMIF(BDD!$BB$2:$BB$3,\"Banc 123VRAIFAUX\",BDD!$V$2:$V$3)","v":0},{"$f":"SUMIF(BDD!$BB$2:$BB$3,\"Banc 123FAUXVRAI\",BDD!$V$2:$V$3)","v":0},{"$f":"SUMIF(BDD!$BB$2:$BB$3,\"Banc 123VRAIFAUX\",BDD!$V$2:$V$3)","v":0},{"$f":"SUMIF(BDD!$BB$2:$BB$3,\"Banc 123FAUXVRAI\",BDD!$V$2:$V$3)","v":0},{"$f":"SUMIF(BDD!$BB$2:$BB$3,\"Banc 123VRAIFAUX\",BDD!$V$2:$V$3)","v":0},{"$f":"SUMIF(BDD!$BB$2:$BB$3,\"Banc 123FAUXVRAI\",BDD!$V$2:$V$3)","v":0},{"$f":"SUMIF(BDD!$BB$2:$BB$3,\"Banc 123VRAIFAUX\",BDD!$V$2:$V$3)","v":0},{"$f":"SUMIF(BDD!$BB$2:$BB$3,\"Banc 123FAUXVRAI\",BDD!$V$2:$V$3)","v":0}]
["Banc 126",{"$f":"SUMIF(BDD!$BB$2:$BB$3,\"Banc 126VRAIFAUX\",BDD!$V$2:$V$3)","v":0},{"$f":"SUMIF(BDD!$BB$2:$BB$3,\"Banc 126FAUXVRAI\",BDD!$V$2:$V$3)","v":0},{"$f":"SUMIF(BDD!$BB$2:$BB$3,\"Banc 126VRAIFAUX\",BDD!$V$2:$V$3)","v":0},{"$f":"SUMIF(BDD!$BB$2:$BB$3,\"Banc 126FAUXVRAI\",BDD!$V$2:$V$3)","v":0},{"$f":"SUMIF(BDD!$BB$2:$BB$683,\"Banc 126VRAIFAUX\",BDD!$V$2:$V$683)","v":0},{"$f":"SUMIF(BDD!$BB$2:$BB$683,\"Banc 126FAUXVRAI\",BDD!$V$2:$V$683)","v":0.3},{"$f":"SUMIF(BDD!$BB$2:$BB$3,\"Banc 126VRAIFAUX\",BDD!$V$2:$V$3)","v":0},{"$f":"SUMIF(BDD!$BB$2:$BB$3,\"Banc 126FAUXVRAI\",BDD!$V$2:$V$3)","v":0},{"$f":"SUMIF(BDD!$BB$2:$BB$3,\"Banc 126VRAIFAUX\",BDD!$V$2:$V$3)","v":0},{"$f":"SUMIF(BDD!$BB$2:$BB$3,\"Banc 126FAUXVRAI\",BDD!$V$2:$V$3)","v":0},{"$f":"SUMIF(BDD!$BB$2:$BB$3,\"Banc 126VRAIFAUX\",BDD!$V$2:$V$3)","v":0},{"$f":"SUMIF(BDD!$BB$2:$BB$3,\"Banc 126FAUXVRAI\",BDD!$V$2:$V$3)","v":0},{"$f":"SUMIF(BDD!$BB$2:$BB$3,\"Banc 126VRAIFAUX\",BDD!$V$2:$V$3)","v":0},{"$f":"SUMIF(BDD!$BB$2:$BB$3,\"Banc 126FAUXVRAI\",BDD!$V$2:$V$3)","v":0},{"$f":"SUMIF(BDD!$BB$2:$BB$3,\"Banc 126VRAIFAUX\",BDD!$V$2:$V$3)","v":0},{"$f":"SUMIF(BDD!$BB$2:$BB$3,\"Banc 126FAUXVRAI\",BDD!$V$2:$V$3)","v":0},{"$f":"SUMIF(BDD!$BB$2:$BB$3,\"Banc 126VRAIFAUX\",BDD!$V$2:$V$3)","v":0},{"$f":"SUMIF(BDD!$BB$2:$BB$3,\"Banc 126FAUXVRAI\",BDD!$V$2:$V$3)","v":0},{"$f":"SUMIF(BDD!$BB$2:$BB$3,\"Banc 126VRAIFAUX\",BDD!$V$2:$V$3)","v":0},{"$f":"SUMIF(BDD!$BB$2:$BB$3,\"Banc 126FAUXVRAI\",BDD!$V$2:$V$3)","v":0},{"$f":"SUMIF(BDD!$BB$2:$BB$3,\"Banc 126VRAIFAUX\",BDD!$V$2:$V$3)","v":0},{"$f":"SUMIF(BDD!$BB$2:$BB$3,\"Banc 126FAUXVRAI\",BDD!$V$2:$V$3)","v":0},{"$f":"SUMIF(BDD!$BB$2:$BB$3,\"Banc 126VRAIFAUX\",BDD!$V$2:$V$3)","v":0},{"$f":"SUMIF(BDD!$BB$2:$BB$3,\"Banc 126FAUXVRAI\",BDD!$V$2:$V$3)","v":0}]
["Banc 156",{"$f":"SUMIF(BDD!$BB$2:$BB$3,\"Banc 156VRAIFAUX\",BDD!$V$2:$V$3)","v":0},{"$f":"SUMIF(BDD!$BB$2:$BB$3,\"Banc 156FAUXVRAI\",BDD!$V$2:$V$3)","v":0},{"$f":"SUMIF(BDD!$BB$2:$BB$3,\"Banc 156VRAIFAUX\",BDD!$V$2:$V$3)","v":0},{"$f":"SUMIF(BDD!$BB$2:$BB$3,\"Banc 156FAUXVRAI\",BDD!$V$2:$V$3)","v":0},{"$f":"SUMIF(BDD!$BB$2:$BB$683,\"Banc 156VRAIFAUX\",BDD!$V$2:$V$683)","v":0},{"$f":"SUMIF(BDD!$BB$2:$BB$683,\"Banc 156FAUXVRAI\",BDD!$V$2:$V$683)","v":0},{"$f":"SUMIF(BDD!$BB$2:$BB$3,\"Banc 156VRAIFAUX\",BDD!$V$2:$V$3)","v":0},{"$f":"SUMIF(BDD!$BB$2:$BB$3,\"Banc 156FAUXVRAI\",BDD!$V$2:$V$3)","v":0},{"$f":"SUMIF(BDD!$BB$2:$BB$3,\"Banc 156VRAIFAUX\",BDD!$V$2:$V$3)","v":0},{"$f":"SUMIF(BDD!$BB$2:$BB$3,\"Banc 156FAUXVRAI\",BDD!$V$2:$V$3)","v":0},{"$f":"SUMIF(BDD!$BB$2:$BB$3,\"Banc 156VRAIFAUX\",BDD!$V$2:$V$3)","v":0},{"$f":"SUMIF(BDD!$BB$2:$BB$3,\"Banc 156FAUXVRAI\",BDD!$V$2:$V$3)","v":0},{"$f":"SUMIF(BDD!$BB$2:$BB$3,\"Banc 156VRAIFAUX\",BDD!$V$2:$V$3)","v":0},{"$f":"SUMIF(BDD!$BB$2:$BB$3,\"Banc 156FAUXVRAI\",BDD!$V$2:$V$3)","v":0},{"$f":"SUMIF(BDD!$BB$2:$BB$3,\"Banc 156VRAIFAUX\",BDD!$V$2:$V$3)","v":0},{"$f":"SUMIF(BDD!$BB$2:$BB$3,\"Banc 156FAUXVRAI\",BDD!$V$2:$V$3)","v":0},{"$f":"SUMIF(BDD!$BB$2:$BB$3,\"Banc 156VRAIFAUX\",BDD!$V$2:$V$3)","v":0},{"$f":"SUMIF(BDD!$BB$2:$BB$3,\"Banc 156FAUXVRAI\",BDD!$V$2:$V$3)","v":0},{"$f":"SUMIF(BDD!$BB$2:$BB$3,\"Banc 156VRAIFAUX\",BDD!$V$2:$V$3)","v":0},{"$f":"SUMIF(BDD!$BB$2:$BB$3,\"Banc 156FAUXVRAI\",BDD!$V$2:$V$3)","v":0},{"$f":"SUMIF(BDD!$BB$2:$BB$3,\"Banc 156VRAIFAUX\",BDD!$V$2:$V$3)","v":0},{"$f":"SUMIF(BDD!$BB$2:$BB$3,\"Banc 156FAUXVRAI\",BDD!$V$2:$V$3)","v":0},{"$f":"SUMIF(BDD!$BB$2:$BB$3,\"Banc 156VRAIFAUX\",BDD!$V$2:$V$3)","v":0},{"$f":"SUMIF(BDD!$BB$2:$BB$3,\"Banc 156FAUXVRAI\",BDD!$V$2:$V$3)","v":0}]
[]
[]
[]
[]
[]
[]
[]
[]
[]
[]
[]
[]
[]
[]
[]
[]
[]
[]
[]
[]
[]
[]
[null,"Suivi du correctif et du préventif par banc"]
[null,"Janvier",null,null,null,null,null,"Février",null,null,null,null,null,"Mars",null,null,null,null,null,"Avril",null,null,null,null,null,"Mai",null,null,null,null,null,"Juin",null,null,null,null,null,"Juillet",null,null,null,null,null,"Août",null,null,null,null,null,"Septembre",null,null,null,null,null,"Octobre",null,null,null,null,null,"Novembre",null,null,null,null,null,"Décembre"]
[null,"Corrective",null,null,"Préventive",null,null,"Corrective",null,null,"Préventive",null,null,"Corrective",null,null,"Préventive",null,null,"Corrective",null,null,"Préventive",null,null,"Corrective",null,null,"Préventive",null,null,"Corrective",null,null,"Préventive",null,null,"Corrective",null,null,"Préventive",null,null,"Corrective",null,null,"Préventive",null,null,"Corrective",null,null,"Préventive",null,null,"Corrective",null,null,"Préventive",null,null,"Corrective",null,null,"Préventive",null,null,"Corrective",null,null,"Préventive"]
["Banc zone 9","Electrique","Mécanique","Hydraulique","Electrique","Mécanique","Hydraulique","Electrique","Mécanique","Hydraulique","Electrique","Mécanique","Hydraulique","Electrique","Mécanique","Hydraulique","Electrique","Mécanique","Hydraulique","Electrique","Mécanique","Hydraulique","Electrique","Mécanique","Hydraulique","Electrique","Mécanique","Hydraulique","Electrique","Mécanique","Hydraulique","Electrique","Mécanique","Hydraulique","Electrique","Mécanique","Hydraulique","Electrique","Mécanique","Hydraulique","Electrique","Mécanique","Hydraulique","Electrique","Mécanique","Hydraulique","Electrique","Mécanique","Hydraulique","Electrique","Mécanique","Hydraulique","Electrique","Mécanique","Hydraulique","Electrique","Mécanique","Hydraulique","Electrique","Mécanique","Hydraulique","Electrique","Mécanique","Hydraulique","Electrique","Mécanique","Hydraulique","Electrique","Mécanique","Hydraulique","Electrique","Mécanique","Hydraulique"]
["Banc P5",{"$f":"SUMIF(BDD!$BC$2:$BC$3,\"Banc P5VRAIFAUXVRAIFAUXFAUX\",BDD!$V$2:$V$3)","v":0},{"$f":"SUMIF(BDD!$BC$2:$BC$3,\"Banc P5VRAIFAUXFAUXVRAIFAUX\",BDD!$V$2:$V$3)","v":0},{"$f":"SUMIF(BDD!$BC$2:$BC$3,\"Banc P5VRAIFAUXFAUXFAUXVRAI\",BDD!$V$2:$V$3)","v":0},{"$f":"SUMIF(BDD!$BC$2:$BC$3,\"Banc P5FAUXVRAIVRAIFAUXFAUX\",BDD!$V$2:$V$3)","v":0},{"$f":"SUMIF(BDD!$BC$2:$BC$3,\"Banc P5FAUXVRAIFAUXVRAIFAUX\",BDD!$V$2:$V$3)","v":0},{"$f":"SUMIF(BDD!$BC$2:$BC$3,\"Banc P5FAUXVRAIFAUXFAUXVRAI\",BDD!$V$2:$V$3)","v":0},{"$f":"SUMIF(BDD!$BC$2:$BC$3,\"Banc P5VRAIFAUXVRAIFAUXFAUX\",BDD!$V$2:$V$3)","v":0},{"$f":"SUMIF(BDD!$BC$2:$BC$3,\"Banc P5VRAIFAUXFAUXVRAIFAUX\",BDD!$V$2:$V$3)","v":0},{"$f":"SUMIF(BDD!$BC$2:$BC$3,\"Banc P5VRAIFAUXFAUXFAUXVRAI\",BDD!$V$2:$V$3)","v":0},{"$f":"SUMIF(BDD!$BC$2:$BC$3,\"Banc P5FAUXVRAIVRAIFAUXFAUX\",BDD!$V$2:$V$3)","v":0},{"$f":"SUMIF(BDD!$BC$2:$BC$3,\"Banc P5FAUXVRAIFAUXVRAIFAUX\",BDD!$V$2:$V$3)","v":0},{"$f":"SUMIF(BDD!$BC$2:$BC$3,\"Banc P5FAUXVRAIFAUXFAUXVRAI\",BDD!$V$2:$V$3)","v":0},{"$f":"SUMIF(BDD!$BC$2:$BC$683,\"Banc P5VRAIFAUXVRAIFAUXFAUX\",BDD!$V$2:$V$683)","v":0},{"$f":"SUMIF(BDD!$BC$2:$BC$683,\"Banc P5VRAIFAUXFAUXVRAIFAUX\",BDD!$V$2:$V$683)","v":0},{"$f":"SUMIF(BDD!$BC$2:$BC$683,\"Banc P5VRAIFAUXFAUXFAUXVRAI\",BDD!$V$2:$V$683)","v":0},{"$f":"SUMIF(BDD!$BC$2:$BC$683,\"Banc P5FAUXVRAIVRAIFAUXFAUX\",BDD!$V$2:$V$683)","v":0},{"$f":"SUMIF(BDD!$BC$2:$BC$683,\"Banc P5FAUXVRAIFAUXVRAIFAUX\",BDD!$V$2:$V$683)","v":0},{"$f":"SUMIF(BDD!$BC$2:$BC$683,\"Banc P5FAUXVRAIFAUXFAUXVRAI\",BDD!$V$2:$V$683)","v":0},{"$f":"SUMIF(BDD!$BC$2:$BC$3,\"Banc P5VRAIFAUXVRAIFAUXFAUX\",BDD!$V$2:$V$3)","v":0},{"$f":"SUMIF(BDD!$BC$2:$BC$3,\"Banc P5VRAIFAUXFAUXVRAIFAUX\",BDD!$V$2:$V$3)","v":0},{"$f":"SUMIF(BDD!$BC$2:$BC$3,\"Banc P5VRAIFAUXFAUXFAUXVRAI\",BDD!$V$2:$V$3)","v":0},{"$f":"SUMIF(BDD!$BC$2:$BC$3,\"Banc P5FAUXVRAIVRAIFAUXFAUX\",BDD!$V$2:$V$3)","v":0},{"$f":"SUMIF(BDD!$BC$2:$BC$3,\"Banc P5FAUXVRAIFAUXVRAIFAUX\",BDD!$V$2:$V$3)","v":0},{"$f":"SUMIF(BDD!$BC$2:$BC$3,\"Banc P5FAUXVRAIFAUXFAUXVRAI\",BDD!$V$2:$V$3)","v":0},{"$f":"SUMIF(BDD!$BC$2:$BC$3,\"Banc P5VRAIFAUXVRAIFAUXFAUX\",BDD!$V$2:$V$3)","v":0},{"$f":"SUMIF(BDD!$BC$2:$BC$3,\"Banc P5VRAIFAUXFAUXVRAIFAUX\",BDD!$V$2:$V$3)","v":0},{"$f":"SUMIF(BDD!$BC$2:$BC$3,\"Banc P5VRAIFAUXFAUXFAUXVRAI\",BDD!$V$2:$V$3)","v":0},{"$f":"SUMIF(BDD!$BC$2:$BC$3,\"Banc P5FAUXVRAIVRAIFAUXFAUX\",BDD!$V$2:$V$3)","v":0},{"$f":"SUMIF(BDD!$BC$2:$BC$3,\"Banc P5FAUXVRAIFAUXVRAIFAUX\",BDD!$V$2:$V$3)","v":0},{"$f":"SUMIF(BDD!$BC$2:$BC$3,\"Banc P5FAUXVRAIFAUXFAUXVRAI\",BDD!$V$2:$V$3)","v":0},{"$f":"SUMIF(BDD!$BC$2:$BC$3,\"Banc P5VRAIFAUXVRAIFAUXFAUX\",BDD!$V$2:$V$3)","v":0},{"$f":"SUMIF(BDD!$BC$2:$BC$3,\"Banc P5VRAIFAUXFAUXVRAIFAUX\",BDD!$V$2:$V$3)","v":0},{"$f":"SUMIF(BDD!$BC$2:$BC$3,\"Banc P5VRAIFAUXFAUXFAUXVRAI\",BDD!$V$2:$V$3)","v":0},{"$f":"SUMIF(BDD!$BC$2:$BC$3,\"Banc P5FAUXVRAIVRAIFAUXFAUX\",BDD!$V$2:$V$3)","v":0},{"$f":"SUMIF(BDD!$BC$2:$BC$3,\"Banc P5FAUXVRAIFAUXVRAIFAUX\",BDD!$V$2:$V$3)","v":0},{"$f":"SUMIF(BDD!$BC$2:$BC$3,\"Banc P5FAUXVRAIFAUXFAUXVRAI\",BDD!$V$2:$V$3)","v":0},{"$f":"SUMIF(BDD!$BC$2:$BC$3,\"Banc P5VRAIFAUXVRAIFAUXFAUX\",BDD!$V$2:$V$3)","v":0},{"$f":"SUMIF(BDD!$BC$2:$BC$3,\"Banc P5VRAIFAUXFAUXVRAIFAUX\",BDD!$V$2:$V$3)","v":0},{"$f":"SUMIF(BDD!$BC$2:$BC$3,\"Banc P5VRAIFAUXFAUXFAUXVRAI\",BDD!$V$2:$V$3)","v":0},{"$f":"SUMIF(BDD!$BC$2:$BC$3,\"Banc P5FAUXVRAIVRAIFAUXFAUX\",BDD!$V$2:$V$3)","v":0},{"$f":"SUMIF(BDD!$BC$2:$BC$3,\"Banc P5FAUXVRAIFAUXVRAIFAUX\",BDD!$V$2:$V$3)","v":0},{"$f":"SUMIF(BDD!$BC$2:$BC$3,\"Banc P5FAUXVRAIFAUXFAUXVRAI\",BDD!$V$2:$V$3)","v":0},{"$f":"SUMIF(BDD!$BC$2:$BC$3,\"Banc P5VRAIFAUXVRAIFAUXFAUX\",BDD!$V$2:$V$3)","v":0},{"$f":"SUMIF(BDD!$BC$2:$BC$3,\"Banc P5VRAIFAUXFAUXVRAIFAUX\",BDD!$V$2:$V$3)","v":0},{"$f":"SUMIF(BDD!$BC$2:$BC$3,\"Banc P5VRAIFAUXFAUXFAUXVRAI\",BDD!$V$2:$V$3)","v":0},{"$f":"SUMIF(BDD!$BC$2:$BC$3,\"Banc P5FAUXVRAIVRAIFAUXFAUX\",BDD!$V$2:$V$3)","v":0},{"$f":"SUMIF(BDD!$BC$2:$BC$3,\"Banc P5FAUXVRAIFAUXVRAIFAUX\",BDD!$V$2:$V$3)","v":0},{"$f":"SUMIF(BDD!$BC$2:$BC$3,\"Banc P5FAUXVRAIFAUXFAUXVRAI\",BDD!$V$2:$V$3)","v":0},{"$f":"SUMIF(BDD!$BC$2:$BC$3,\"Banc P5VRAIFAUXVRAIFAUXFAUX\",BDD!$V$2:$V$3)","v":0},{"$f":"SUMIF(BDD!$BC$2:$BC$3,\"Banc P5VRAIFAUXFAUXVRAIFAUX\",BDD!$V$2:$V$3)","v":0},{"$f":"SUMIF(BDD!$BC$2:$BC$3,\"Banc P5VRAIFAUXFAUXFAUXVRAI\",BDD!$V$2:$V$3)","v":0},{"$f":"SUMIF(BDD!$BC$2:$BC$3,\"Banc P5FAUXVRAIVRAIFAUXFAUX\",BDD!$V$2:$V$3)","v":0},{"$f":"SUMIF(BDD!$BC$2:$BC$3,\"Banc P5FAUXVRAIFAUXVRAIFAUX\",BDD!$V$2:$V$3)","v":0},{"$f":"SUMIF(BDD!$BC$2:$BC$3,\"Banc P5FAUXVRAIFAUXFAUXVRAI\",BDD!$V$2:$V$3)","v":0},{"$f":"SUMIF(BDD!$BC$2:$BC$3,\"Banc P5VRAIFAUXVRAIFAUXFAUX\",BDD!$V$2:$V$3)","v":0},{"$f":"SUMIF(BDD!$BC$2:$BC$3,\"Banc P5VRAIFAUXFAUXVRAIFAUX\",BDD!$V$2:$V$3)","v":0},{"$f":"SUMIF(BDD!$BC$2:$BC$3,\"Banc P5VRAIFAUXFAUXFAUXVRAI\",BDD!$V$2:$V$3)","v":0},{"$f":"SUMIF(BDD!$BC$2:$BC$3,\"Banc P5FAUXVRAIVRAIFAUXFAUX\",BDD!$V$2:$V$3)","v":0},{"$f":"SUMIF(BDD!$BC$2:$BC$3,\"Banc P5FAUXVRAIFAUXVRAIFAUX\",BDD!$V$2:$V$3)","v":0},{"$f":"SUMIF(BDD!$BC$2:$BC$3,\"Banc P5FAUXVRAIFAUXFAUXVRAI\",BDD!$V$2:$V$3)","v":0},{"$f":"SUMIF(BDD!$BC$2:$BC$3,\"Banc P5VRAIFAUXVRAIFAUXFAUX\",BDD!$V$2:$V$3)","v":0},{"$f":"SUMIF(BDD!$BC$2:$BC$3,\"Banc P5VRAIFAUXFAUXVRAIFAUX\",BDD!$V$2:$V$3)","v":0},{"$f":"SUMIF(BDD!$BC$2:$BC$3,\"Banc P5VRAIFAUXFAUXFAUXVRAI\",BDD!$V$2:$V$3)","v":0},{"$f":"SUMIF(BDD!$BC$2:$BC$3,\"Banc P5FAUXVRAIVRAIFAUXFAUX\",BDD!$V$2:$V$3)","v":0},{"$f":"SUMIF(BDD!$BC$2:$BC$3,\"Banc P5FAUXVRAIFAUXVRAIFAUX\",BDD!$V$2:$V$3)","v":0},{"$f":"SUMIF(BDD!$BC$2:$BC$3,\"Banc P5FAUXVRAIFAUXFAUXVRAI\",BDD!$V$2:$V$3)","v":0},{"$f":"SUMIF(BDD!$BC$2:$BC$3,\"Banc P5VRAIFAUXVRAIFAUXFAUX\",BDD!$V$2:$V$3)","v":0},{"$f":"SUMIF(BDD!$BC$2:$BC$3,\"Banc P5VRAIFAUXFAUXVRAIFAUX\",BDD!$V$2:$V$3)","v":0},{"$f":"SUMIF(BDD!$BC$2:$BC$3,\"Banc P5VRAIFAUXFAUXFAUXVRAI\",BDD!$V$2:$V$3)","v":0},{"$f":"SUMIF(BDD!$BC$2:$BC$3,\"Banc P5FAUXVRAIVRAIFAUXFAUX\",BDD!$V$2:$V$3)","v":0},{"$f":"SUMIF(BDD!$BC$2:$BC$3,\"Banc P5FAUXVRAIFAUXVRAIFAUX\",BDD!$V$2:$V$3)","v":0},{"$f":"SUMIF(BDD!$BC$2:$BC$3,\"Banc P5FAUXVRAIFAUXFAUXVRAI\",BDD!$V$2:$V$3)","v":0}]
["Banc 111",{"$f":"SUMIF(BDD!$BC$2:$BC$3,\"Banc 111VRAIFAUXVRAIFAUXFAUX\",BDD!$V$2:$V$3)","v":0},{"$f":"SUMIF(BDD!$BC$2:$BC$3,\"Banc 111VRAIFAUXFAUXVRAIFAUX\",BDD!$V$2:$V$3)","v":0},{"$f":"SUMIF(BDD!$BC$2:$BC$3,\"Banc 111VRAIFAUXFAUXFAUXVRAI\",BDD!$V$2:$V$3)","v":0},{"$f":"SUMIF(BDD!$BC$2:$BC$3,\"Banc 111FAUXVRAIVRAIFAUXFAUX\",BDD!$V$2:$V$3)","v":0},{"$f":"SUMIF(BDD!$BC$2:$BC$3,\"Banc 111FAUXVRAIFAUXVRAIFAUX\",BDD!$V$2:$V$3)","v":0},{"$f":"SUMIF(BDD!$BC$2:$BC$3,\"Banc 111FAUXVRAIFAUXFAUXVRAI\",BDD!$V$2:$V$3)","v":0},{"$f":"SUMIF(BDD!$BC$2:$BC$3,\"Banc 111VRAIFAUXVRAIFAUXFAUX\",BDD!$V$2:$V$3)","v":0},{"$f":"SUMIF(BDD!$BC$2:$BC$3,\"Banc 111VRAIFAUXFAUXVRAIFAUX\",BDD!$V$2:$V$3)","v":0},{"$f":"SUMIF(BDD!$BC$2:$BC$3,\"Banc 111VRAIFAUXFAUXFAUXVRAI\",BDD!$V$2:$V$3)","v":0},{"$f":"SUMIF(BDD!$BC$2:$BC$3,\"Banc 111FAUXVRAIVRAIFAUXFAUX\",BDD!$V$2:$V$3)","v":0},{"$f":"SUMIF(BDD!$BC$2:$BC$3,\"Banc 111FAUXVRAIFAUXVRAIFAUX\",BDD!$V$2:$V$3)","v":0},{"$f":"SUMIF(BDD!$BC$2:$BC$3,\"Banc 111FAUXVRAIFAUXFAUXVRAI\",BDD!$V$2:$V$3)","v":0},{"$f":"SUMIF(BDD!$BC$2:$BC$683,\"Banc 111VRAIFAUXVRAIFAUXFAUX\",BDD!$V$2:$V$683)","v":0},{"$f":"SUMIF(BDD!$BC$2:$BC$683,\"Banc 111VRAIFAUXFAUXVRAIFAUX\",BDD!$V$2:$V$683)","v":0},{"$f":"SUMIF(BDD!$BC$2:$BC$683,\"Banc 111VRAIFAUXFAUXFAUXVRAI\",BDD!$V$2:$V$683)","v":0},{"$f":"SUMIF(BDD!$BC$2:$BC$683,\"Banc 111FAUXVRAIVRAIFAUXFAUX\",BDD!$V$2:$V$683)","v":0},{"$f":"SUMIF(BDD!$BC$2:$BC$683,\"Banc 111FAUXVRAIFAUXVRAIFAUX\",BDD!$V$2:$V$683)","v":0},{"$f":"SUMIF(BDD!$BC$2:$BC$683,\"Banc 111FAUXVRAIFAUXFAUXVRAI\",BDD!$V$2:$V$683)","v":0},{"$f":"SUMIF(BDD!$BC$2:$BC$3,\"Banc 111VRAIFAUXVRAIFAUXFAUX\",BDD!$V$2:$V$3)","v":0},{"$f":"SUMIF(BDD!$BC$2:$BC$3,\"Banc 111VRAIFAUXFAUXVRAIFAUX\",BDD!$V$2:$V$3)","v":0},{"$f":"SUMIF(BDD!$BC$2:$BC$3,\"Banc 111VRAIFAUXFAUXFAUXVRAI\",BDD!$V$2:$V$3)","v":0},{"$f":"SUMIF(BDD!$BC$2:$BC$3,\"Banc 111FAUXVRAIVRAIFAUXFAUX\",BDD!$V$2:$V$3)","v":0},{"$f":"SUMIF(BDD!$BC$2:$BC$3,\"Banc 111FAUXVRAIFAUXVRAIFAUX\",BDD!$V$2:$V$3)","v":0},{"$f":"SUMIF(BDD!$BC$2:$BC$3,\"Banc 111FAUXVRAIFAUXFAUXVRAI\",BDD!$V$2:$V$3)","v":0},{"$f":"SUMIF(BDD!$BC$2:$BC$3,\"Banc 111VRAIFAUXVRAIFAUXFAUX\",BDD!$V$2:$V$3)","v":0},{"$f":"SUMIF(BDD!$BC$2:$BC$3,\"Banc 111VRAIFAUXFAUXVRAIFAUX\",BDD!$V$2:$V$3)","v":0},{"$f":"SUMIF(BDD!$BC$2:$BC$3,\"Banc 111VRAIFAUXFAUXFAUXVRAI\",BDD!$V$2:$V$3)","v":0},{"$f":"SUMIF(BDD!$BC$2:$BC$3,\"Banc 111FAUXVRAIVRAIFAUXFAUX\",BDD!$V$2:$V$3)","v":0},{"$f":"SUMIF(BDD!$BC$2:$BC$3,\"Banc 111FAUXVRAIFAUXVRAIFAUX\",BDD!$V$2:$V$3)","v":0},{"$f":"SUMIF(BDD!$BC$2:$BC$3,\"Banc 111FAUXVRAIFAUXFAUXVRAI\",BDD!$V$2:$V$3)","v":0},{"$f":"SUMIF(BDD!$BC$2:$BC$3,\"Banc 111VRAIFAUXVRAIFAUXFAUX\",BDD!$V$2:$V$3)","v":0},{"$f":"SUMIF(BDD!$BC$2:$BC$3,\"Banc 111VRAIFAUXFAUXVRAIFAUX\",BDD!$V$2:$V$3)","v":0},{"$f":"SUMIF(BDD!$BC$2:$BC$3,\"Banc 111VRAIFAUXFAUXFAUXVRAI\",BDD!$V$2:$V$3)","v":0},{"$f":"SUMIF(BDD!$BC$2:$BC$3,\"Banc 111FAUXVRAIVRAIFAUXFAUX\",BDD!$V$2:$V$3)","v":0},{"$f":"SUMIF(BDD!$BC$2:$BC$3,\"Banc 111FAUXVRAIFAUXVRAIFAUX\",BDD!$V$2:$V$3)","v":0},{"$f":"SUMIF(BDD!$BC$2:$BC$3,\"Banc 111FAUXVRAIFAUXFAUXVRAI\",BDD!$V$2:$V$3)","v":0},{"$f":"SUMIF(BDD!$BC$2:$BC$3,\"Banc 111VRAIFAUXVRAIFAUXFAUX\",BDD!$V$2:$V$3)","v":0},{"$f":"SUMIF(BDD!$BC$2:$BC$3,\"Banc 111VRAIFAUXFAUXVRAIFAUX\",BDD!$V$2:$V$3)","v":0},{"$f":"SUMIF(BDD!$BC$2:$BC$3,\"Banc 111VRAIFAUXFAUXFAUXVRAI\",BDD!$V$2:$V$3)","v":0},{"$f":"SUMIF(BDD!$BC$2:$BC$3,\"Banc 111FAUXVRAIVRAIFAUXFAUX\",BDD!$V$2:$V$3)","v":0},{"$f":"SUMIF(BDD!$BC$2:$BC$3,\"Banc 111FAUXVRAIFAUXVRAIFAUX\",BDD!$V$2:$V$3)","v":0},{"$f":"SUMIF(BDD!$BC$2:$BC$3,\"Banc 111FAUXVRAIFAUXFAUXVRAI\",BDD!$V$2:$V$3)","v":0},{"$f":"SUMIF(BDD!$BC$2:$BC$3,\"Banc 111VRAIFAUXVRAIFAUXFAUX\",BDD!$V$2:$V$3)","v":0},{"$f":"SUMIF(BDD!$BC$2:$BC$3,\"Banc 111VRAIFAUXFAUXVRAIFAUX\",BDD!$V$2:$V$3)","v":0},{"$f":"SUMIF(BDD!$BC$2:$BC$3,\"Banc 111VRAIFAUXFAUXFAUXVRAI\",BDD!$V$2:$V$3)","v":0},{"$f":"SUMIF(BDD!$BC$2:$BC$3,\"Banc 111FAUXVRAIVRAIFAUXFAUX\",BDD!$V$2:$V$3)","v":0},{"$f":"SUMIF(BDD!$BC$2:$BC$3,\"Banc 111FAUXVRAIFAUXVRAIFAUX\",BDD!$V$2:$V$3)","v":0},{"$f":"SUMIF(BDD!$BC$2:$BC$3,\"Banc 111FAUXVRAIFAUXFAUXVRAI\",BDD!$V$2:$V$3)","v":0},{"$f":"SUMIF(BDD!$BC$2:$BC$3,\"Banc 111VRAIFAUXVRAIFAUXFAUX\",BDD!$V$2:$V$3)","v":0},{"$f":"SUMIF(BDD!$BC$2:$BC$3,\"Banc 111VRAIFAUXFAUXVRAIFAUX\",BDD!$V$2:$V$3)","v":0},{"$f":"SUMIF(BDD!$BC$2:$BC$3,\"Banc 111VRAIFAUXFAUXFAUXVRAI\",BDD!$V$2:$V$3)","v":0},{"$f":"SUMIF(BDD!$BC$2:$BC$3,\"Banc 111FAUXVRAIVRAIFAUXFAUX\",BDD!$V$2:$V$3)","v":0},{"$f":"SUMIF(BDD!$BC$2:$BC$3,\"Banc 111FAUXVRAIFAUXVRAIFAUX\",BDD!$V$2:$V$3)","v":0},{"$f":"SUMIF(BDD!$BC$2:$BC$3,\"Banc 111FAUXVRAIFAUXFAUXVRAI\",BDD!$V$2:$V$3)","v":0},{"$f":"SUMIF(BDD!$BC$2:$BC$3,\"Banc 111VRAIFAUXVRAIFAUXFAUX\",BDD!$V$2:$V$3)","v":0},{"$f":"SUMIF(BDD!$BC$2:$BC$3,\"Banc 111VRAIFAUXFAUXVRAIFAUX\",BDD!$V$2:$V$3)","v":0},{"$f":"SUMIF(BDD!$BC$2:$BC$3,\"Banc 111VRAIFAUXFAUXFAUXVRAI\",BDD!$V$2:$V$3)","v":0},{"$f":"SUMIF(BDD!$BC$2:$BC$3,\"Banc 111FAUXVRAIVRAIFAUXFAUX\",BDD!$V$2:$V$3)","v":0},{"$f":"SUMIF(BDD!$BC$2:$BC$3,\"Banc 111FAUXVRAIFAUXVRAIFAUX\",BDD!$V$2:$V$3)","v":0},{"$f":"SUMIF(BDD!$BC$2:$BC$3,\"Banc 111FAUXVRAIFAUXFAUXVRAI\",BDD!$V$2:$V$3)","v":0},{"$f":"SUMIF(BDD!$BC$2:$BC$3,\"Banc 111VRAIFAUXVRAIFAUXFAUX\",BDD!$V$2:$V$3)","v":0},{"$f":"SUMIF(BDD!$BC$2:$BC$3,\"Banc 111VRAIFAUXFAUXVRAIFAUX\",BDD!$V$2:$V$3)","v":0},{"$f":"SUMIF(BDD!$BC$2:$BC$3,\"Banc 111VRAIFAUXFAUXFAUXVRAI\",BDD!$V$2:$V$3)","v":0},{"$f":"SUMIF(BDD!$BC$2:$BC$3,\"Banc 111FAUXVRAIVRAIFAUXFAUX\",BDD!$V$2:$V$3)","v":0},{"$f":"SUMIF(BDD!$BC$2:$BC$3,\"Banc 111FAUXVRAIFAUXVRAIFAUX\",BDD!$V$2:$V$3)","v":0},{"$f":"SUMIF(BDD!$BC$2:$BC$3,\"Banc 111FAUXVRAIFAUXFAUXVRAI\",BDD!$V$2:$V$3)","v":0},{"$f":"SUMIF(BDD!$BC$2:$BC$3,\"Banc 111VRAIFAUXVRAIFAUXFAUX\",BDD!$V$2:$V$3)","v":0},{"$f":"SUMIF(BDD!$BC$2:$BC$3,\"Banc 111VRAIFAUXFAUXVRAIFAUX\",BDD!$V$2:$V$3)","v":0},{"$f":"SUMIF(BDD!$BC$2:$BC$3,\"Banc 111VRAIFAUXFAUXFAUXVRAI\",BDD!$V$2:$V$3)","v":0},{"$f":"SUMIF(BDD!$BC$2:$BC$3,\"Banc 111FAUXVRAIVRAIFAUXFAUX\",BDD!$V$2:$V$3)","v":0},{"$f":"SUMIF(BDD!$BC$2:$BC$3,\"Banc 111FAUXVRAIFAUXVRAIFAUX\",BDD!$V$2:$V$3)","v":0},{"$f":"SUMIF(BDD!$BC$2:$BC$3,\"Banc 111FAUXVRAIFAUXFAUXVRAI\",BDD!$V$2:$V$3)","v":0}]
["Banc 117",{"$f":"SUMIF(BDD!$BC$2:$BC$3,\"Banc 117VRAIFAUXVRAIFAUXFAUX\",BDD!$V$2:$V$3)","v":0},{"$f":"SUMIF(BDD!$BC$2:$BC$3,\"Banc 117VRAIFAUXFAUXVRAIFAUX\",BDD!$V$2:$V$3)","v":0},{"$f":"SUMIF(BDD!$BC$2:$BC$3,\"Banc 117VRAIFAUXFAUXFAUXVRAI\",BDD!$V$2:$V$3)","v":0},{"$f":"SUMIF(BDD!$BC$2:$BC$3,\"Banc 117FAUXVRAIVRAIFAUXFAUX\",BDD!$V$2:$V$3)","v":0},{"$f":"SUMIF(BDD!$BC$2:$BC$3,\"Banc 117FAUXVRAIFAUXVRAIFAUX\",BDD!$V$2:$V$3)","v":0},{"$f":"SUMIF(BDD!$BC$2:$BC$3,\"Banc 117FAUXVRAIFAUXFAUXVRAI\",BDD!$V$2:$V$3)","v":0},{"$f":"SUMIF(BDD!$BC$2:$BC$3,\"Banc 117VRAIFAUXVRAIFAUXFAUX\",BDD!$V$2:$V$3)","v":0},{"$f":"SUMIF(BDD!$BC$2:$BC$3,\"Banc 117VRAIFAUXFAUXVRAIFAUX\",BDD!$V$2:$V$3)","v":0},{"$f":"SUMIF(BDD!$BC$2:$BC$3,\"Banc 117VRAIFAUXFAUXFAUXVRAI\",BDD!$V$2:$V$3)","v":0},{"$f":"SUMIF(BDD!$BC$2:$BC$3,\"Banc 117FAUXVRAIVRAIFAUXFAUX\",BDD!$V$2:$V$3)","v":0},{"$f":"SUMIF(BDD!$BC$2:$BC$3,\"Banc 117FAUXVRAIFAUXVRAIFAUX\",BDD!$V$2:$V$3)","v":0},{"$f":"SUMIF(BDD!$BC$2:$BC$3,\"Banc 117FAUXVRAIFAUXFAUXVRAI\",BDD!$V$2:$V$3)","v":0},{"$f":"SUMIF(BDD!$BC$2:$BC$683,\"Banc 117VRAIFAUXVRAIFAUXFAUX\",BDD!$V$2:$V$683)","v":0},{"$f":"SUMIF(BDD!$BC$2:$BC$683,\"Banc 117VRAIFAUXFAUXVRAIFAUX\",BDD!$V$2:$V$683)","v":0},{"$f":"SUMIF(BDD!$BC$2:$BC$683,\"Banc 117VRAIFAUXFAUXFAUXVRAI\",BDD!$V$2:$V$683)","v":0},{"$f":"SUMIF(BDD!$BC$2:$BC$683,\"Banc 117FAUXVRAIVRAIFAUXFAUX\",BDD!$V$2:$V$683)","v":0},{"$f":"SUMIF(BDD!$BC$2:$BC$683,\"Banc 117FAUXVRAIFAUXVRAIFAUX\",BDD!$V$2:$V$683)","v":0},{"$f":"SUMIF(BDD!$BC$2:$BC$683,\"Banc 117FAUXVRAIFAUXFAUXVRAI\",BDD!$V$2:$V$683)","v":0},{"$f":"SUMIF(BDD!$BC$2:$BC$3,\"Banc 117VRAIFAUXVRAIFAUXFAUX\",BDD!$V$2:$V$3)","v":0},{"$f":"SUMIF(BDD!$BC$2:$BC$3,\"Banc 117VRAIFAUXFAUXVRAIFAUX\",BDD!$V$2:$V$3)","v":0},{"$f":"SUMIF(BDD!$BC$2:$BC$3,\"Banc 117VRAIFAUXFAUXFAUXVRAI\",BDD!$V$2:$V$3)","v":0},{"$f":"SUMIF(BDD!$BC$2:$BC$3,\"Banc 117FAUXVRAIVRAIFAUXFAUX\",BDD!$V$2:$V$3)","v":0},{"$f":"SUMIF(BDD!$BC$2:$BC$3,\"Banc 117FAUXVRAIFAUXVRAIFAUX\",BDD!$V$2:$V$3)","v":0},{"$f":"SUMIF(BDD!$BC$2:$BC$3,\"Banc 117FAUXVRAIFAUXFAUXVRAI\",BDD!$V$2:$V$3)","v":0},{"$f":"SUMIF(BDD!$BC$2:$BC$3,\"Banc 117VRAIFAUXVRAIFAUXFAUX\",BDD!$V$2:$V$3)","v":0},{"$f":"SUMIF(BDD!$BC$2:$BC$3,\"Banc 117VRAIFAUXFAUXVRAIFAUX\",BDD!$V$2:$V$3)","v":0},{"$f":"SUMIF(BDD!$BC$2:$BC$3,\"Banc 117VRAIFAUXFAUXFAUXVRAI\",BDD!$V$2:$V$3)","v":0},{"$f":"SUMIF(BDD!$BC$2:$BC$3,\"Banc 117FAUXVRAIVRAIFAUXFAUX\",BDD!$V$2:$V$3)","v":0},{"$f":"SUMIF(BDD!$BC$2:$BC$3,\"Banc 117FAUXVRAIFAUXVRAIFAUX\",BDD!$V$2:$V$3)","v":0},{"$f":"SUMIF(BDD!$BC$2:$BC$3,\"Banc 117FAUXVRAIFAUXFAUXVRAI\",BDD!$V$2:$V$3)","v":0},{"$f":"SUMIF(BDD!$BC$2:$BC$3,\"Banc 117VRAIFAUXVRAIFAUXFAUX\",BDD!$V$2:$V$3)","v":0},{"$f":"SUMIF(BDD!$BC$2:$BC$3,\"Banc 117VRAIFAUXFAUXVRAIFAUX\",BDD!$V$2:$V$3)","v":0},{"$f":"SUMIF(BDD!$BC$2:$BC$3,\"Banc 117VRAIFAUXFAUXFAUXVRAI\",BDD!$V$2:$V$3)","v":0},{"$f":"SUMIF(BDD!$BC$2:$BC$3,\"Banc 117FAUXVRAIVRAIFAUXFAUX\",BDD!$V$2:$V$3)","v":0},{"$f":"SUMIF(BDD!$BC$2:$BC$3,\"Banc 117FAUXVRAIFAUXVRAIFAUX\",BDD!$V$2:$V$3)","v":0},{"$f":"SUMIF(BDD!$BC$2:$BC$3,\"Banc 117FAUXVRAIFAUXFAUXVRAI\",BDD!$V$2:$V$3)","v":0},{"$f":"SUMIF(BDD!$BC$2:$BC$3,\"Banc 117VRAIFAUXVRAIFAUXFAUX\",BDD!$V$2:$V$3)","v":0},{"$f":"SUMIF(BDD!$BC$2:$BC$3,\"Banc 117VRAIFAUXFAUXVRAIFAUX\",BDD!$V$2:$V$3)","v":0},{"$f":"SUMIF(BDD!$BC$2:$BC$3,\"Banc 117VRAIFAUXFAUXFAUXVRAI\",BDD!$V$2:$V$3)","v":0},{"$f":"SUMIF(BDD!$BC$2:$BC$3,\"Banc 117FAUXVRAIVRAIFAUXFAUX\",BDD!$V$2:$V$3)","v":0},{"$f":"SUMIF(BDD!$BC$2:$BC$3,\"Banc 117FAUXVRAIFAUXVRAIFAUX\",BDD!$V$2:$V$3)","v":0},{"$f":"SUMIF(BDD!$BC$2:$BC$3,\"Banc 117FAUXVRAIFAUXFAUXVRAI\",BDD!$V$2:$V$3)","v":0},{"$f":"SUMIF(BDD!$BC$2:$BC$3,\"Banc 117VRAIFAUXVRAIFAUXFAUX\",BDD!$V$2:$V$3)","v":0},{"$f":"SUMIF(BDD!$BC$2:$BC$3,\"Banc 117VRAIFAUXFAUXVRAIFAUX\",BDD!$V$2:$V$3)","v":0},{"$f":"SUMIF(BDD!$BC$2:$BC$3,\"Banc 117VRAIFAUXFAUXFAUXVRAI\",BDD!$V$2:$V$3)","v":0},{"$f":"SUMIF(BDD!$BC$2:$BC$3,\"Banc 117FAUXVRAIVRAIFAUXFAUX\",BDD!$V$2:$V$3)","v":0},{"$f":"SUMIF(BDD!$BC$2:$BC$3,\"Banc 117FAUXVRAIFAUXVRAIFAUX\",BDD!$V$2:$V$3)","v":0},{"$f":"SUMIF(BDD!$BC$2:$BC$3,\"Banc 117FAUXVRAIFAUXFAUXVRAI\",BDD!$V$2:$V$3)","v":0},{"$f":"SUMIF(BDD!$BC$2:$BC$3,\"Banc 117VRAIFAUXVRAIFAUXFAUX\",BDD!$V$2:$V$3)","v":0},{"$f":"SUMIF(BDD!$BC$2:$BC$3,\"Banc 117VRAIFAUXFAUXVRAIFAUX\",BDD!$V$2:$V$3)","v":0},{"$f":"SUMIF(BDD!$BC$2:$BC$3,\"Banc 117VRAIFAUXFAUXFAUXVRAI\",BDD!$V$2:$V$3)","v":0},{"$f":"SUMIF(BDD!$BC$2:$BC$3,\"Banc 117FAUXVRAIVRAIFAUXFAUX\",BDD!$V$2:$V$3)","v":0},{"$f":"SUMIF(BDD!$BC$2:$BC$3,\"Banc 117FAUXVRAIFAUXVRAIFAUX\",BDD!$V$2:$V$3)","v":0},{"$f":"SUMIF(BDD!$BC$2:$BC$3,\"Banc 117FAUXVRAIFAUXFAUXVRAI\",BDD!$V$2:$V$3)","v":0},{"$f":"SUMIF(BDD!$BC$2:$BC$3,\"Banc 117VRAIFAUXVRAIFAUXFAUX\",BDD!$V$2:$V$3)","v":0},{"$f":"SUMIF(BDD!$BC$2:$BC$3,\"Banc 117VRAIFAUXFAUXVRAIFAUX\",BDD!$V$2:$V$3)","v":0},{"$f":"SUMIF(BDD!$BC$2:$BC$3,\"Banc 117VRAIFAUXFAUXFAUXVRAI\",BDD!$V$2:$V$3)","v":0},{"$f":"SUMIF(BDD!$BC$2:$BC$3,\"Banc 117FAUXVRAIVRAIFAUXFAUX\",BDD!$V$2:$V$3)","v":0},{"$f":"SUMIF(BDD!$BC$2:$BC$3,\"Banc 117FAUXVRAIFAUXVRAIFAUX\",BDD!$V$2:$V$3)","v":0},{"$f":"SUMIF(BDD!$BC$2:$BC$3,\"Banc 117FAUXVRAIFAUXFAUXVRAI\",BDD!$V$2:$V$3)","v":0},{"$f":"SUMIF(BDD!$BC$2:$BC$3,\"Banc 117VRAIFAUXVRAIFAUXFAUX\",BDD!$V$2:$V$3)","v":0},{"$f":"SUMIF(BDD!$BC$2:$BC$3,\"Banc 117VRAIFAUXFAUXVRAIFAUX\",BDD!$V$2:$V$3)","v":0},{"$f":"SUMIF(BDD!$BC$2:$BC$3,\"Banc 117VRAIFAUXFAUXFAUXVRAI\",BDD!$V$2:$V$3)","v":0},{"$f":"SUMIF(BDD!$BC$2:$BC$3,\"Banc 117FAUXVRAIVRAIFAUXFAUX\",BDD!$V$2:$V$3)","v":0},{"$f":"SUMIF(BDD!$BC$2:$BC$3,\"Banc 117FAUXVRAIFAUXVRAIFAUX\",BDD!$V$2:$V$3)","v":0},{"$f":"SUMIF(BDD!$BC$2:$BC$3,\"Banc 117FAUXVRAIFAUXFAUXVRAI\",BDD!$V$2:$V$3)","v":0},{"$f":"SUMIF(BDD!$BC$2:$BC$3,\"Banc 117VRAIFAUXVRAIFAUXFAUX\",BDD!$V$2:$V$3)","v":0},{"$f":"SUMIF(BDD!$BC$2:$BC$3,\"Banc 117VRAIFAUXFAUXVRAIFAUX\",BDD!$V$2:$V$3)","v":0},{"$f":"SUMIF(BDD!$BC$2:$BC$3,\"Banc 117VRAIFAUXFAUXFAUXVRAI\",BDD!$V$2:$V$3)","v":0},{"$f":"SUMIF(BDD!$BC$2:$BC$3,\"Banc 117FAUXVRAIVRAIFAUXFAUX\",BDD!$V$2:$V$3)","v":0},{"$f":"SUMIF(BDD!$BC$2:$BC$3,\"Banc 117FAUXVRAIFAUXVRAIFAUX\",BDD!$V$2:$V$3)","v":0},{"$f":"SUMIF(BDD!$BC$2:$BC$3,\"Banc 117FAUXVRAIFAUXFAUXVRAI\",BDD!$V$2:$V$3)","v":0}]
["Banc 117 bis",{"$f":"SUMIF(BDD!$BC$2:$BC$3,\"Banc 117 bisVRAIFAUXVRAIFAUXFAUX\",BDD!$V$2:$V$3)","v":0},{"$f":"SUMIF(BDD!$BC$2:$BC$3,\"Banc 117 bisVRAIFAUXFAUXVRAIFAUX\",BDD!$V$2:$V$3)","v":0},{"$f":"SUMIF(BDD!$BC$2:$BC$3,\"Banc 117 bisVRAIFAUXFAUXFAUXVRAI\",BDD!$V$2:$V$3)","v":0},{"$f":"SUMIF(BDD!$BC$2:$BC$3,\"Banc 117 bisFAUXVRAIVRAIFAUXFAUX\",BDD!$V$2:$V$3)","v":0},{"$f":"SUMIF(BDD!$BC$2:$BC$3,\"Banc 117 bisFAUXVRAIFAUXVRAIFAUX\",BDD!$V$2:$V$3)","v":0},{"$f":"SUMIF(BDD!$BC$2:$BC$3,\"Banc 117 bisFAUXVRAIFAUXFAUXVRAI\",BDD!$V$2:$V$3)","v":0},{"$f":"SUMIF(BDD!$BC$2:$BC$3,\"Banc 117 bisVRAIFAUXVRAIFAUXFAUX\",BDD!$V$2:$V$3)","v":0},{"$f":"SUMIF(BDD!$BC$2:$BC$3,\"Banc 117 bisVRAIFAUXFAUXVRAIFAUX\",BDD!$V$2:$V$3)","v":0},{"$f":"SUMIF(BDD!$BC$2:$BC$3,\"Banc 117 bisVRAIFAUXFAUXFAUXVRAI\",BDD!$V$2:$V$3)","v":0},{"$f":"SUMIF(BDD!$BC$2:$BC$3,\"Banc 117 bisFAUXVRAIVRAIFAUXFAUX\",BDD!$V$2:$V$3)","v":0},{"$f":"SUMIF(BDD!$BC$2:$BC$3,\"Banc 117 bisFAUXVRAIFAUXVRAIFAUX\",BDD!$V$2:$V$3)","v":0},{"$f":"SUMIF(BDD!$BC$2:$BC$3,\"Banc 117 bisFAUXVRAIFAUXFAUXVRAI\",BDD!$V$2:$V$3)","v":0},{"$f":"SUMIF(BDD!$BC$2:$BC$683,\"Banc 117 bisVRAIFAUXVRAIFAUXFAUX\",BDD!$V$2:$V$683)","v":0},{"$f":"SUMIF(BDD!$BC$2:$BC$683,\"Banc 117 bisVRAIFAUXFAUXVRAIFAUX\",BDD!$V$2:$V$683)","v":0},{"$f":"SUMIF(BDD!$BC$2:$BC$683,\"Banc 117 bisVRAIFAUXFAUXFAUXVRAI\",BDD!$V$2:$V$683)","v":0},{"$f":"SUMIF(BDD!$BC$2:$BC$683,\"Banc 117 bisFAUXVRAIVRAIFAUXFAUX\",BDD!$V$2:$V$683)","v":0},{"$f":"SUMIF(BDD!$BC$2:$BC$683,\"Banc 117 bisFAUXVRAIFAUXVRAIFAUX\",BDD!$V$2:$V$683)","v":0},{"$f":"SUMIF(BDD!$BC$2:$BC$683,\"Banc 117 bisFAUXVRAIFAUXFAUXVRAI\",BDD!$V$2:$V$683)","v":0},{"$f":"SUMIF(BDD!$BC$2:$BC$3,\"Banc 117 bisVRAIFAUXVRAIFAUXFAUX\",BDD!$V$2:$V$3)","v":0},{"$f":"SUMIF(BDD!$BC$2:$BC$3,\"Banc 117 bisVRAIFAUXFAUXVRAIFAUX\",BDD!$V$2:$V$3)","v":0},{"$f":"SUMIF(BDD!$BC$2:$BC$3,\"Banc 117 bisVRAIFAUXFAUXFAUXVRAI\",BDD!$V$2:$V$3)","v":0},{"$f":"SUMIF(BDD!$BC$2:$BC$3,\"Banc 117 bisFAUXVRAIVRAIFAUXFAUX\",BDD!$V$2:$V$3)","v":0},{"$f":"SUMIF(BDD!$BC$2:$BC$3,\"Banc 117 bisFAUXVRAIFAUXVRAIFAUX\",BDD!$V$2:$V$3)","v":0},{"$f":"SUMIF(BDD!$BC$2:$BC$3,\"Banc 117 bisFAUXVRAIFAUXFAUXVRAI\",BDD!$V$2:$V$3)","v":0},{"$f":"SUMIF(BDD!$BC$2:$BC$3,\"Banc 117 bisVRAIFAUXVRAIFAUXFAUX\",BDD!$V$2:$V$3)","v":0},{"$f":"SUMIF(BDD!$BC$2:$BC$3,\"Banc 117 bisVRAIFAUXFAUXVRAIFAUX\",BDD!$V$2:$V$3)","v":0},{"$f":"SUMIF(BDD!$BC$2:$BC$3,\"Banc 117 bisVRAIFAUXFAUXFAUXVRAI\",BDD!$V$2:$V$3)","v":0},{"$f":"SUMIF(BDD!$BC$2:$BC$3,\"Banc 117 bisFAUXVRAIVRAIFAUXFAUX\",BDD!$V$2:$V$3)","v":0},{"$f":"SUMIF(BDD!$BC$2:$BC$3,\"Banc 117 bisFAUXVRAIFAUXVRAIFAUX\",BDD!$V$2:$V$3)","v":0},{"$f":"SUMIF(BDD!$BC$2:$BC$3,\"Banc 117 bisFAUXVRAIFAUXFAUXVRAI\",BDD!$V$2:$V$3)","v":0},{"$f":"SUMIF(BDD!$BC$2:$BC$3,\"Banc 117 bisVRAIFAUXVRAIFAUXFAUX\",BDD!$V$2:$V$3)","v":0},{"$f":"SUMIF(BDD!$BC$2:$BC$3,\"Banc 117 bisVRAIFAUXFAUXVRAIFAUX\",BDD!$V$2:$V$3)","v":0},{"$f":"SUMIF(BDD!$BC$2:$BC$3,\"Banc 117 bisVRAIFAUXFAUXFAUXVRAI\",BDD!$V$2:$V$3)","v":0},{"$f":"SUMIF(BDD!$BC$2:$BC$3,\"Banc 117 bisFAUXVRAIVRAIFAUXFAUX\",BDD!$V$2:$V$3)","v":0},{"$f":"SUMIF(BDD!$BC$2:$BC$3,\"Banc 117 bisFAUXVRAIFAUXVRAIFAUX\",BDD!$V$2:$V$3)","v":0},{"$f":"SUMIF(BDD!$BC$2:$BC$3,\"Banc 117 bisFAUXVRAIFAUXFAUXVRAI\",BDD!$V$2:$V$3)","v":0},{"$f":"SUMIF(BDD!$BC$2:$BC$3,\"Banc 117 bisVRAIFAUXVRAIFAUXFAUX\",BDD!$V$2:$V$3)","v":0},{"$f":"SUMIF(BDD!$BC$2:$BC$3,\"Banc 117 bisVRAIFAUXFAUXVRAIFAUX\",BDD!$V$2:$V$3)","v":0},{"$f":"SUMIF(BDD!$BC$2:$BC$3,\"Banc 117 bisVRAIFAUXFAUXFAUXVRAI\",BDD!$V$2:$V$3)","v":0},{"$f":"SUMIF(BDD!$BC$2:$BC$3,\"Banc 117 bisFAUXVRAIVRAIFAUXFAUX\",BDD!$V$2:$V$3)","v":0},{"$f":"SUMIF(BDD!$BC$2:$BC$3,\"Banc 117 bisFAUXVRAIFAUXVRAIFAUX\",BDD!$V$2:$V$3)","v":0},{"$f":"SUMIF(BDD!$BC$2:$BC$3,\"Banc 117 bisFAUXVRAIFAUXFAUXVRAI\",BDD!$V$2:$V$3)","v":0},{"$f":"SUMIF(BDD!$BC$2:$BC$3,\"Banc 117 bisVRAIFAUXVRAIFAUXFAUX\",BDD!$V$2:$V$3)","v":0},{"$f":"SUMIF(BDD!$BC$2:$BC$3,\"Banc 117 bisVRAIFAUXFAUXVRAIFAUX\",BDD!$V$2:$V$3)","v":0},{"$f":"SUMIF(BDD!$BC$2:$BC$3,\"Banc 117 bisVRAIFAUXFAUXFAUXVRAI\",BDD!$V$2:$V$3)","v":0},{"$f":"SUMIF(BDD!$BC$2:$BC$3,\"Banc 117 bisFAUXVRAIVRAIFAUXFAUX\",BDD!$V$2:$V$3)","v":0},{"$f":"SUMIF(BDD!$BC$2:$BC$3,\"Banc 117 bisFAUXVRAIFAUXVRAIFAUX\",BDD!$V$2:$V$3)","v":0},{"$f":"SUMIF(BDD!$BC$2:$BC$3,\"Banc 117 bisFAUXVRAIFAUXFAUXVRAI\",BDD!$V$2:$V$3)","v":0},{"$f":"SUMIF(BDD!$BC$2:$BC$3,\"Banc 117 bisVRAIFAUXVRAIFAUXFAUX\",BDD!$V$2:$V$3)","v":0},{"$f":"SUMIF(BDD!$BC$2:$BC$3,\"Banc 117 bisVRAIFAUXFAUXVRAIFAUX\",BDD!$V$2:$V$3)","v":0},{"$f":"SUMIF(BDD!$BC$2:$BC$3,\"Banc 117 bisVRAIFAUXFAUXFAUXVRAI\",BDD!$V$2:$V$3)","v":0},{"$f":"SUMIF(BDD!$BC$2:$BC$3,\"Banc 117 bisFAUXVRAIVRAIFAUXFAUX\",BDD!$V$2:$V$3)","v":0},{"$f":"SUMIF(BDD!$BC$2:$BC$3,\"Banc 117 bisFAUXVRAIFAUXVRAIFAUX\",BDD!$V$2:$V$3)","v":0},{"$f":"SUMIF(BDD!$BC$2:$BC$3,\"Banc 117 bisFAUXVRAIFAUXFAUXVRAI\",BDD!$V$2:$V$3)","v":0},{"$f":"SUMIF(BDD!$BC$2:$BC$3,\"Banc 117 bisVRAIFAUXVRAIFAUXFAUX\",BDD!$V$2:$V$3)","v":0},{"$f":"SUMIF(BDD!$BC$2:$BC$3,\"Banc 117 bisVRAIFAUXFAUXVRAIFAUX\",BDD!$V$2:$V$3)","v":0},{"$f":"SUMIF(BDD!$BC$2:$BC$3,\"Banc 117 bisVRAIFAUXFAUXFAUXVRAI\",BDD!$V$2:$V$3)","v":0},{"$f":"SUMIF(BDD!$BC$2:$BC$3,\"Banc 117 bisFAUXVRAIVRAIFAUXFAUX\",BDD!$V$2:$V$3)","v":0},{"$f":"SUMIF(BDD!$BC$2:$BC$3,\"Banc 117 bisFAUXVRAIFAUXVRAIFAUX\",BDD!$V$2:$V$3)","v":0},{"$f":"SUMIF(BDD!$BC$2:$BC$3,\"Banc 117 bisFAUXVRAIFAUXFAUXVRAI\",BDD!$V$2:$V$3)","v":0},{"$f":"SUMIF(BDD!$BC$2:$BC$3,\"Banc 117 bisVRAIFAUXVRAIFAUXFAUX\",BDD!$V$2:$V$3)","v":0},{"$f":"SUMIF(BDD!$BC$2:$BC$3,\"Banc 117 bisVRAIFAUXFAUXVRAIFAUX\",BDD!$V$2:$V$3)","v":0},{"$f":"SUMIF(BDD!$BC$2:$BC$3,\"Banc 117 bisVRAIFAUXFAUXFAUXVRAI\",BDD!$V$2:$V$3)","v":0},{"$f":"SUMIF(BDD!$BC$2:$BC$3,\"Banc 117 bisFAUXVRAIVRAIFAUXFAUX\",BDD!$V$2:$V$3)","v":0},{"$f":"SUMIF(BDD!$BC$2:$BC$3,\"Banc 117 bisFAUXVRAIFAUXVRAIFAUX\",BDD!$V$2:$V$3)","v":0},{"$f":"SUMIF(BDD!$BC$2:$BC$3,\"Banc 117 bisFAUXVRAIFAUXFAUXVRAI\",BDD!$V$2:$V$3)","v":0},{"$f":"SUMIF(BDD!$BC$2:$BC$3,\"Banc 117 bisVRAIFAUXVRAIFAUXFAUX\",BDD!$V$2:$V$3)","v":0},{"$f":"SUMIF(BDD!$BC$2:$BC$3,\"Banc 117 bisVRAIFAUXFAUXVRAIFAUX\",BDD!$V$2:$V$3)","v":0},{"$f":"SUMIF(BDD!$BC$2:$BC$3,\"Banc 117 bisVRAIFAUXFAUXFAUXVRAI\",BDD!$V$2:$V$3)","v":0},{"$f":"SUMIF(BDD!$BC$2:$BC$3,\"Banc 117 bisFAUXVRAIVRAIFAUXFAUX\",BDD!$V$2:$V$3)","v":0},{"$f":"SUMIF(BDD!$BC$2:$BC$3,\"Banc 117 bisFAUXVRAIFAUXVRAIFAUX\",BDD!$V$2:$V$3)","v":0},{"$f":"SUMIF(BDD!$BC$2:$BC$3,\"Banc 117 bisFAUXVRAIFAUXFAUXVRAI\",BDD!$V$2:$V$3)","v":0}]
["Banc 119",{"$f":"SUMIF(BDD!$BC$2:$BC$3,\"Banc 119VRAIFAUXVRAIFAUXFAUX\",BDD!$V$2:$V$3)","v":0},{"$f":"SUMIF(BDD!$BC$2:$BC$3,\"Banc 119VRAIFAUXFAUXVRAIFAUX\",BDD!$V$2:$V$3)","v":0},{"$f":"SUMIF(BDD!$BC$2:$BC$3,\"Banc 119VRAIFAUXFAUXFAUXVRAI\",BDD!$V$2:$V$3)","v":0},{"$f":"SUMIF(BDD!$BC$2:$BC$3,\"Banc 119FAUXVRAIVRAIFAUXFAUX\",BDD!$V$2:$V$3)","v":0},{"$f":"SUMIF(BDD!$BC$2:$BC$3,\"Banc 119FAUXVRAIFAUXVRAIFAUX\",BDD!$V$2:$V$3)","v":0},{"$f":"SUMIF(BDD!$BC$2:$BC$3,\"Banc 119FAUXVRAIFAUXFAUXVRAI\",BDD!$V$2:$V$3)","v":0},{"$f":"SUMIF(BDD!$BC$2:$BC$3,\"Banc 119VRAIFAUXVRAIFAUXFAUX\",BDD!$V$2:$V$3)","v":0},{"$f":"SUMIF(BDD!$BC$2:$BC$3,\"Banc 119VRAIFAUXFAUXVRAIFAUX\",BDD!$V$2:$V$3)","v":0},{"$f":"SUMIF(BDD!$BC$2:$BC$3,\"Banc 119VRAIFAUXFAUXFAUXVRAI\",BDD!$V$2:$V$3)","v":0},{"$f":"SUMIF(BDD!$BC$2:$BC$3,\"Banc 119FAUXVRAIVRAIFAUXFAUX\",BDD!$V$2:$V$3)","v":0},{"$f":"SUMIF(BDD!$BC$2:$BC$3,\"Banc 119FAUXVRAIFAUXVRAIFAUX\",BDD!$V$2:$V$3)","v":0},{"$f":"SUMIF(BDD!$BC$2:$BC$3,\"Banc 119FAUXVRAIFAUXFAUXVRAI\",BDD!$V$2:$V$3)","v":0},{"$f":"SUMIF(BDD!$BC$2:$BC$683,\"Banc 119VRAIFAUXVRAIFAUXFAUX\",BDD!$V$2:$V$683)","v":0},{"$f":"SUMIF(BDD!$BC$2:$BC$683,\"Banc 119VRAIFAUXFAUXVRAIFAUX\",BDD!$V$2:$V$683)","v":0},{"$f":"SUMIF(BDD!$BC$2:$BC$683,\"Banc 119VRAIFAUXFAUXFAUXVRAI\",BDD!$V$2:$V$683)","v":0},{"$f":"SUMIF(BDD!$BC$2:$BC$683,\"Banc 119FAUXVRAIVRAIFAUXFAUX\",BDD!$V$2:$V$683)","v":0},{"$f":"SUMIF(BDD!$BC$2:$BC$683,\"Banc 119FAUXVRAIFAUXVRAIFAUX\",BDD!$V$2:$V$683)","v":0},{"$f":"SUMIF(BDD!$BC$2:$BC$683,\"Banc 119FAUXVRAIFAUXFAUXVRAI\",BDD!$V$2:$V$683)","v":0},{"$f":"SUMIF(BDD!$BC$2:$BC$3,\"Banc 119VRAIFAUXVRAIFAUXFAUX\",BDD!$V$2:$V$3)","v":0},{"$f":"SUMIF(BDD!$BC$2:$BC$3,\"Banc 119VRAIFAUXFAUXVRAIFAUX\",BDD!$V$2:$V$3)","v":0},{"$f":"SUMIF(BDD!$BC$2:$BC$3,\"Banc 119VRAIFAUXFAUXFAUXVRAI\",BDD!$V$2:$V$3)","v":0},{"$f":"SUMIF(BDD!$BC$2:$BC$3,\"Banc 119FAUXVRAIVRAIFAUXFAUX\",BDD!$V$2:$V$3)","v":0},{"$f":"SUMIF(BDD!$BC$2:$BC$3,\"Banc 119FAUXVRAIFAUXVRAIFAUX\",BDD!$V$2:$V$3)","v":0},{"$f":"SUMIF(BDD!$BC$2:$BC$3,\"Banc 119FAUXVRAIFAUXFAUXVRAI\",BDD!$V$2:$V$3)","v":0},{"$f":"SUMIF(BDD!$BC$2:$BC$3,\"Banc 119VRAIFAUXVRAIFAUXFAUX\",BDD!$V$2:$V$3)","v":0},{"$f":"SUMIF(BDD!$BC$2:$BC$3,\"Banc 119VRAIFAUXFAUXVRAIFAUX\",BDD!$V$2:$V$3)","v":0},{"$f":"SUMIF(BDD!$BC$2:$BC$3,\"Banc 119VRAIFAUXFAUXFAUXVRAI\",BDD!$V$2:$V$3)","v":0},{"$f":"SUMIF(BDD!$BC$2:$BC$3,\"Banc 119FAUXVRAIVRAIFAUXFAUX\",BDD!$V$2:$V$3)","v":0},{"$f":"SUMIF(BDD!$BC$2:$BC$3,\"Banc 119FAUXVRAIFAUXVRAIFAUX\",BDD!$V$2:$V$3)","v":0},{"$f":"SUMIF(BDD!$BC$2:$BC$3,\"Banc 119FAUXVRAIFAUXFAUXVRAI\",BDD!$V$2:$V$3)","v":0},{"$f":"SUMIF(BDD!$BC$2:$BC$3,\"Banc 119VRAIFAUXVRAIFAUXFAUX\",BDD!$V$2:$V$3)","v":0},{"$f":"SUMIF(BDD!$BC$2:$BC$3,\"Banc 119VRAIFAUXFAUXVRAIFAUX\",BDD!$V$2:$V$3)","v":0},{"$f":"SUMIF(BDD!$BC$2:$BC$3,\"Banc 119VRAIFAUXFAUXFAUXVRAI\",BDD!$V$2:$V$3)","v":0},{"$f":"SUMIF(BDD!$BC$2:$BC$3,\"Banc 119FAUXVRAIVRAIFAUXFAUX\",BDD!$V$2:$V$3)","v":0},{"$f":"SUMIF(BDD!$BC$2:$BC$3,\"Banc 119FAUXVRAIFAUXVRAIFAUX\",BDD!$V$2:$V$3)","v":0},{"$f":"SUMIF(BDD!$BC$2:$BC$3,\"Banc 119FAUXVRAIFAUXFAUXVRAI\",BDD!$V$2:$V$3)","v":0},{"$f":"SUMIF(BDD!$BC$2:$BC$3,\"Banc 119VRAIFAUXVRAIFAUXFAUX\",BDD!$V$2:$V$3)","v":0},{"$f":"SUMIF(BDD!$BC$2:$BC$3,\"Banc 119VRAIFAUXFAUXVRAIFAUX\",BDD!$V$2:$V$3)","v":0},{"$f":"SUMIF(BDD!$BC$2:$BC$3,\"Banc 119VRAIFAUXFAUXFAUXVRAI\",BDD!$V$2:$V$3)","v":0},{"$f":"SUMIF(BDD!$BC$2:$BC$3,\"Banc 119FAUXVRAIVRAIFAUXFAUX\",BDD!$V$2:$V$3)","v":0},{"$f":"SUMIF(BDD!$BC$2:$BC$3,\"Banc 119FAUXVRAIFAUXVRAIFAUX\",BDD!$V$2:$V$3)","v":0},{"$f":"SUMIF(BDD!$BC$2:$BC$3,\"Banc 119FAUXVRAIFAUXFAUXVRAI\",BDD!$V$2:$V$3)","v":0},{"$f":"SUMIF(BDD!$BC$2:$BC$3,\"Banc 119VRAIFAUXVRAIFAUXFAUX\",BDD!$V$2:$V$3)","v":0},{"$f":"SUMIF(BDD!$BC$2:$BC$3,\"Banc 119VRAIFAUXFAUXVRAIFAUX\",BDD!$V$2:$V$3)","v":0},{"$f":"SUMIF(BDD!$BC$2:$BC$3,\"Banc 119VRAIFAUXFAUXFAUXVRAI\",BDD!$V$2:$V$3)","v":0},{"$f":"SUMIF(BDD!$BC$2:$BC$3,\"Banc 119FAUXVRAIVRAIFAUXFAUX\",BDD!$V$2:$V$3)","v":0},{"$f":"SUMIF(BDD!$BC$2:$BC$3,\"Banc 119FAUXVRAIFAUXVRAIFAUX\",BDD!$V$2:$V$3)","v":0},{"$f":"SUMIF(BDD!$BC$2:$BC$3,\"Banc 119FAUXVRAIFAUXFAUXVRAI\",BDD!$V$2:$V$3)","v":0},{"$f":"SUMIF(BDD!$BC$2:$BC$3,\"Banc 119VRAIFAUXVRAIFAUXFAUX\",BDD!$V$2:$V$3)","v":0},{"$f":"SUMIF(BDD!$BC$2:$BC$3,\"Banc 119VRAIFAUXFAUXVRAIFAUX\",BDD!$V$2:$V$3)","v":0},{"$f":"SUMIF(BDD!$BC$2:$BC$3,\"Banc 119VRAIFAUXFAUXFAUXVRAI\",BDD!$V$2:$V$3)","v":0},{"$f":"SUMIF(BDD!$BC$2:$BC$3,\"Banc 119FAUXVRAIVRAIFAUXFAUX\",BDD!$V$2:$V$3)","v":0},{"$f":"SUMIF(BDD!$BC$2:$BC$3,\"Banc 119FAUXVRAIFAUXVRAIFAUX\",BDD!$V$2:$V$3)","v":0},{"$f":"SUMIF(BDD!$BC$2:$BC$3,\"Banc 119FAUXVRAIFAUXFAUXVRAI\",BDD!$V$2:$V$3)","v":0},{"$f":"SUMIF(BDD!$BC$2:$BC$3,\"Banc 119VRAIFAUXVRAIFAUXFAUX\",BDD!$V$2:$V$3)","v":0},{"$f":"SUMIF(BDD!$BC$2:$BC$3,\"Banc 119VRAIFAUXFAUXVRAIFAUX\",BDD!$V$2:$V$3)","v":0},{"$f":"SUMIF(BDD!$BC$2:$BC$3,\"Banc 119VRAIFAUXFAUXFAUXVRAI\",BDD!$V$2:$V$3)","v":0},{"$f":"SUMIF(BDD!$BC$2:$BC$3,\"Banc 119FAUXVRAIVRAIFAUXFAUX\",BDD!$V$2:$V$3)","v":0},{"$f":"SUMIF(BDD!$BC$2:$BC$3,\"Banc 119FAUXVRAIFAUXVRAIFAUX\",BDD!$V$2:$V$3)","v":0},{"$f":"SUMIF(BDD!$BC$2:$BC$3,\"Banc 119FAUXVRAIFAUXFAUXVRAI\",BDD!$V$2:$V$3)","v":0},{"$f":"SUMIF(BDD!$BC$2:$BC$3,\"Banc 119VRAIFAUXVRAIFAUXFAUX\",BDD!$V$2:$V$3)","v":0},{"$f":"SUMIF(BDD!$BC$2:$BC$3,\"Banc 119VRAIFAUXFAUXVRAIFAUX\",BDD!$V$2:$V$3)","v":0},{"$f":"SUMIF(BDD!$BC$2:$BC$3,\"Banc 119VRAIFAUXFAUXFAUXVRAI\",BDD!$V$2:$V$3)","v":0},{"$f":"SUMIF(BDD!$BC$2:$BC$3,\"Banc 119FAUXVRAIVRAIFAUXFAUX\",BDD!$V$2:$V$3)","v":0},{"$f":"SUMIF(BDD!$BC$2:$BC$3,\"Banc 119FAUXVRAIFAUXVRAIFAUX\",BDD!$V$2:$V$3)","v":0},{"$f":"SUMIF(BDD!$BC$2:$BC$3,\"Banc 119FAUXVRAIFAUXFAUXVRAI\",BDD!$V$2:$V$3)","v":0},{"$f":"SUMIF(BDD!$BC$2:$BC$3,\"Banc 119VRAIFAUXVRAIFAUXFAUX\",BDD!$V$2:$V$3)","v":0},{"$f":"SUMIF(BDD!$BC$2:$BC$3,\"Banc 119VRAIFAUXFAUXVRAIFAUX\",BDD!$V$2:$V$3)","v":0},{"$f":"SUMIF(BDD!$BC$2:$BC$3,\"Banc 119VRAIFAUXFAUXFAUXVRAI\",BDD!$V$2:$V$3)","v":0},{"$f":"SUMIF(BDD!$BC$2:$BC$3,\"Banc 119FAUXVRAIVRAIFAUXFAUX\",BDD!$V$2:$V$3)","v":0},{"$f":"SUMIF(BDD!$BC$2:$BC$3,\"Banc 119FAUXVRAIFAUXVRAIFAUX\",BDD!$V$2:$V$3)","v":0},{"$f":"SUMIF(BDD!$BC$2:$BC$3,\"Banc 119FAUXVRAIFAUXFAUXVRAI\",BDD!$V$2:$V$3)","v":0}]
["Banc 123",{"$f":"SUMIF(BDD!$BC$2:$BC$3,\"Banc 123VRAIFAUXVRAIFAUXFAUX\",BDD!$V$2:$V$3)","v":0},{"$f":"SUMIF(BDD!$BC$2:$BC$3,\"Banc 123VRAIFAUXFAUXVRAIFAUX\",BDD!$V$2:$V$3)","v":0},{"$f":"SUMIF(BDD!$BC$2:$BC$3,\"Banc 123VRAIFAUXFAUXFAUXVRAI\",BDD!$V$2:$V$3)","v":0},{"$f":"SUMIF(BDD!$BC$2:$BC$3,\"Banc 123FAUXVRAIVRAIFAUXFAUX\",BDD!$V$2:$V$3)","v":0},{"$f":"SUMIF(BDD!$BC$2:$BC$3,\"Banc 123FAUXVRAIFAUXVRAIFAUX\",BDD!$V$2:$V$3)","v":0},{"$f":"SUMIF(BDD!$BC$2:$BC$3,\"Banc 123FAUXVRAIFAUXFAUXVRAI\",BDD!$V$2:$V$3)","v":0},{"$f":"SUMIF(BDD!$BC$2:$BC$3,\"Banc 123VRAIFAUXVRAIFAUXFAUX\",BDD!$V$2:$V$3)","v":0},{"$f":"SUMIF(BDD!$BC$2:$BC$3,\"Banc 123VRAIFAUXFAUXVRAIFAUX\",BDD!$V$2:$V$3)","v":0},{"$f":"SUMIF(BDD!$BC$2:$BC$3,\"Banc 123VRAIFAUXFAUXFAUXVRAI\",BDD!$V$2:$V$3)","v":0},{"$f":"SUMIF(BDD!$BC$2:$BC$3,\"Banc 123FAUXVRAIVRAIFAUXFAUX\",BDD!$V$2:$V$3)","v":0},{"$f":"SUMIF(BDD!$BC$2:$BC$3,\"Banc 123FAUXVRAIFAUXVRAIFAUX\",BDD!$V$2:$V$3)","v":0},{"$f":"SUMIF(BDD!$BC$2:$BC$3,\"Banc 123FAUXVRAIFAUXFAUXVRAI\",BDD!$V$2:$V$3)","v":0},{"$f":"SUMIF(BDD!$BC$2:$BC$683,\"Banc 123VRAIFAUXVRAIFAUXFAUX\",BDD!$V$2:$V$683)","v":0},{"$f":"SUMIF(BDD!$BC$2:$BC$683,\"Banc 123VRAIFAUXFAUXVRAIFAUX\",BDD!$V$2:$V$683)","v":0},{"$f":"SUMIF(BDD!$BC$2:$BC$683,\"Banc 123VRAIFAUXFAUXFAUXVRAI\",BDD!$V$2:$V$683)","v":0},{"$f":"SUMIF(BDD!$BC$2:$BC$683,\"Banc 123FAUXVRAIVRAIFAUXFAUX\",BDD!$V$2:$V$683)","v":0},{"$f":"SUMIF(BDD!$BC$2:$BC$683,\"Banc 123FAUXVRAIFAUXVRAIFAUX\",BDD!$V$2:$V$683)","v":0},{"$f":"SUMIF(BDD!$BC$2:$BC$683,\"Banc 123FAUXVRAIFAUXFAUXVRAI\",BDD!$V$2:$V$683)","v":32},{"$f":"SUMIF(BDD!$BC$2:$BC$3,\"Banc 123VRAIFAUXVRAIFAUXFAUX\",BDD!$V$2:$V$3)","v":0},{"$f":"SUMIF(BDD!$BC$2:$BC$3,\"Banc 123VRAIFAUXFAUXVRAIFAUX\",BDD!$V$2:$V$3)","v":0},{"$f":"SUMIF(BDD!$BC$2:$BC$3,\"Banc 123VRAIFAUXFAUXFAUXVRAI\",BDD!$V$2:$V$3)","v":0},{"$f":"SUMIF(BDD!$BC$2:$BC$3,\"Banc 123FAUXVRAIVRAIFAUXFAUX\",BDD!$V$2:$V$3)","v":0},{"$f":"SUMIF(BDD!$BC$2:$BC$3,\"Banc 123FAUXVRAIFAUXVRAIFAUX\",BDD!$V$2:$V$3)","v":0},{"$f":"SUMIF(BDD!$BC$2:$BC$3,\"Banc 123FAUXVRAIFAUXFAUXVRAI\",BDD!$V$2:$V$3)","v":0},{"$f":"SUMIF(BDD!$BC$2:$BC$3,\"Banc 123VRAIFAUXVRAIFAUXFAUX\",BDD!$V$2:$V$3)","v":0},{"$f":"SUMIF(BDD!$BC$2:$BC$3,\"Banc 123VRAIFAUXFAUXVRAIFAUX\",BDD!$V$2:$V$3)","v":0},{"$f":"SUMIF(BDD!$BC$2:$BC$3,\"Banc 123VRAIFAUXFAUXFAUXVRAI\",BDD!$V$2:$V$3)","v":0},{"$f":"SUMIF(BDD!$BC$2:$BC$3,\"Banc 123FAUXVRAIVRAIFAUXFAUX\",BDD!$V$2:$V$3)","v":0},{"$f":"SUMIF(BDD!$BC$2:$BC$3,\"Banc 123FAUXVRAIFAUXVRAIFAUX\",BDD!$V$2:$V$3)","v":0},{"$f":"SUMIF(BDD!$BC$2:$BC$3,\"Banc 123FAUXVRAIFAUXFAUXVRAI\",BDD!$V$2:$V$3)","v":0},{"$f":"SUMIF(BDD!$BC$2:$BC$3,\"Banc 123VRAIFAUXVRAIFAUXFAUX\",BDD!$V$2:$V$3)","v":0},{"$f":"SUMIF(BDD!$BC$2:$BC$3,\"Banc 123VRAIFAUXFAUXVRAIFAUX\",BDD!$V$2:$V$3)","v":0},{"$f":"SUMIF(BDD!$BC$2:$BC$3,\"Banc 123VRAIFAUXFAUXFAUXVRAI\",BDD!$V$2:$V$3)","v":0},{"$f":"SUMIF(BDD!$BC$2:$BC$3,\"Banc 123FAUXVRAIVRAIFAUXFAUX\",BDD!$V$2:$V$3)","v":0},{"$f":"SUMIF(BDD!$BC$2:$BC$3,\"Banc 123FAUXVRAIFAUXVRAIFAUX\",BDD!$V$2:$V$3)","v":0},{"$f":"SUMIF(BDD!$BC$2:$BC$3,\"Banc 123FAUXVRAIFAUXFAUXVRAI\",BDD!$V$2:$V$3)","v":0},{"$f":"SUMIF(BDD!$BC$2:$BC$3,\"Banc 123VRAIFAUXVRAIFAUXFAUX\",BDD!$V$2:$V$3)","v":0},{"$f":"SUMIF(BDD!$BC$2:$BC$3,\"Banc 123VRAIFAUXFAUXVRAIFAUX\",BDD!$V$2:$V$3)","v":0},{"$f":"SUMIF(BDD!$BC$2:$BC$3,\"Banc 123VRAIFAUXFAUXFAUXVRAI\",BDD!$V$2:$V$3)","v":0},{"$f":"SUMIF(BDD!$BC$2:$BC$3,\"Banc 123FAUXVRAIVRAIFAUXFAUX\",BDD!$V$2:$V$3)","v":0},{"$f":"SUMIF(BDD!$BC$2:$BC$3,\"Banc 123FAUXVRAIFAUXVRAIFAUX\",BDD!$V$2:$V$3)","v":0},{"$f":"SUMIF(BDD!$BC$2:$BC$3,\"Banc 123FAUXVRAIFAUXFAUXVRAI\",BDD!$V$2:$V$3)","v":0},{"$f":"SUMIF(BDD!$BC$2:$BC$3,\"Banc 123VRAIFAUXVRAIFAUXFAUX\",BDD!$V$2:$V$3)","v":0},{"$f":"SUMIF(BDD!$BC$2:$BC$3,\"Banc 123VRAIFAUXFAUXVRAIFAUX\",BDD!$V$2:$V$3)","v":0},{"$f":"SUMIF(BDD!$BC$2:$BC$3,\"Banc 123VRAIFAUXFAUXFAUXVRAI\",BDD!$V$2:$V$3)","v":0},{"$f":"SUMIF(BDD!$BC$2:$BC$3,\"Banc 123FAUXVRAIVRAIFAUXFAUX\",BDD!$V$2:$V$3)","v":0},{"$f":"SUMIF(BDD!$BC$2:$BC$3,\"Banc 123FAUXVRAIFAUXVRAIFAUX\",BDD!$V$2:$V$3)","v":0},{"$f":"SUMIF(BDD!$BC$2:$BC$3,\"Banc 123FAUXVRAIFAUXFAUXVRAI\",BDD!$V$2:$V$3)","v":0},{"$f":"SUMIF(BDD!$BC$2:$BC$3,\"Banc 123VRAIFAUXVRAIFAUXFAUX\",BDD!$V$2:$V$3)","v":0},{"$f":"SUMIF(BDD!$BC$2:$BC$3,\"Banc 123VRAIFAUXFAUXVRAIFAUX\",BDD!$V$2:$V$3)","v":0},{"$f":"SUMIF(BDD!$BC$2:$BC$3,\"Banc 123VRAIFAUXFAUXFAUXVRAI\",BDD!$V$2:$V$3)","v":0},{"$f":"SUMIF(BDD!$BC$2:$BC$3,\"Banc 123FAUXVRAIVRAIFAUXFAUX\",BDD!$V$2:$V$3)","v":0},{"$f":"SUMIF(BDD!$BC$2:$BC$3,\"Banc 123FAUXVRAIFAUXVRAIFAUX\",BDD!$V$2:$V$3)","v":0},{"$f":"SUMIF(BDD!$BC$2:$BC$3,\"Banc 123FAUXVRAIFAUXFAUXVRAI\",BDD!$V$2:$V$3)","v":0},{"$f":"SUMIF(BDD!$BC$2:$BC$3,\"Banc 123VRAIFAUXVRAIFAUXFAUX\",BDD!$V$2:$V$3)","v":0},{"$f":"SUMIF(BDD!$BC$2:$BC$3,\"Banc 123VRAIFAUXFAUXVRAIFAUX\",BDD!$V$2:$V$3)","v":0},{"$f":"SUMIF(BDD!$BC$2:$BC$3,\"Banc 123VRAIFAUXFAUXFAUXVRAI\",BDD!$V$2:$V$3)","v":0},{"$f":"SUMIF(BDD!$BC$2:$BC$3,\"Banc 123FAUXVRAIVRAIFAUXFAUX\",BDD!$V$2:$V$3)","v":0},{"$f":"SUMIF(BDD!$BC$2:$BC$3,\"Banc 123FAUXVRAIFAUXVRAIFAUX\",BDD!$V$2:$V$3)","v":0},{"$f":"SUMIF(BDD!$BC$2:$BC$3,\"Banc 123FAUXVRAIFAUXFAUXVRAI\",BDD!$V$2:$V$3)","v":0},{"$f":"SUMIF(BDD!$BC$2:$BC$3,\"Banc 123VRAIFAUXVRAIFAUXFAUX\",BDD!$V$2:$V$3)","v":0},{"$f":"SUMIF(BDD!$BC$2:$BC$3,\"Banc 123VRAIFAUXFAUXVRAIFAUX\",BDD!$V$2:$V$3)","v":0},{"$f":"SUMIF(BDD!$BC$2:$BC$3,\"Banc 123VRAIFAUXFAUXFAUXVRAI\",BDD!$V$2:$V$3)","v":0},{"$f":"SUMIF(BDD!$BC$2:$BC$3,\"Banc 123FAUXVRAIVRAIFAUXFAUX\",BDD!$V$2:$V$3)","v":0},{"$f":"SUMIF(BDD!$BC$2:$BC$3,\"Banc 123FAUXVRAIFAUXVRAIFAUX\",BDD!$V$2:$V$3)","v":0},{"$f":"SUMIF(BDD!$BC$2:$BC$3,\"Banc 123FAUXVRAIFAUXFAUXVRAI\",BDD!$V$2:$V$3)","v":0},{"$f":"SUMIF(BDD!$BC$2:$BC$3,\"Banc 123VRAIFAUXVRAIFAUXFAUX\",BDD!$V$2:$V$3)","v":0},{"$f":"SUMIF(BDD!$BC$2:$BC$3,\"Banc 123VRAIFAUXFAUXVRAIFAUX\",BDD!$V$2:$V$3)","v":0},{"$f":"SUMIF(BDD!$BC$2:$BC$3,\"Banc 123VRAIFAUXFAUXFAUXVRAI\",BDD!$V$2:$V$3)","v":0},{"$f":"SUMIF(BDD!$BC$2:$BC$3,\"Banc 123FAUXVRAIVRAIFAUXFAUX\",BDD!$V$2:$V$3)","v":0},{"$f":"SUMIF(BDD!$BC$2:$BC$3,\"Banc 123FAUXVRAIFAUXVRAIFAUX\",BDD!$V$2:$V$3)","v":0},{"$f":"SUMIF(BDD!$BC$2:$BC$3,\"Banc 123FAUXVRAIFAUXFAUXVRAI\",BDD!$V$2:$V$3)","v":0}]
["Banc 126",{"$f":"SUMIF(BDD!$BC$2:$BC$3,\"Banc 126VRAIFAUXVRAIFAUXFAUX\",BDD!$V$2:$V$3)","v":0},{"$f":"SUMIF(BDD!$BC$2:$BC$3,\"Banc 126VRAIFAUXFAUXVRAIFAUX\",BDD!$V$2:$V$3)","v":0},{"$f":"SUMIF(BDD!$BC$2:$BC$3,\"Banc 126VRAIFAUXFAUXFAUXVRAI\",BDD!$V$2:$V$3)","v":0},{"$f":"SUMIF(BDD!$BC$2:$BC$3,\"Banc 126FAUXVRAIVRAIFAUXFAUX\",BDD!$V$2:$V$3)","v":0},{"$f":"SUMIF(BDD!$BC$2:$BC$3,\"Banc 126FAUXVRAIFAUXVRAIFAUX\",BDD!$V$2:$V$3)","v":0},{"$f":"SUMIF(BDD!$BC$2:$BC$3,\"Banc 126FAUXVRAIFAUXFAUXVRAI\",BDD!$V$2:$V$3)","v":0},{"$f":"SUMIF(BDD!$BC$2:$BC$3,\"Banc 126VRAIFAUXVRAIFAUXFAUX\",BDD!$V$2:$V$3)","v":0},{"$f":"SUMIF(BDD!$BC$2:$BC$3,\"Banc 126VRAIFAUXFAUXVRAIFAUX\",BDD!$V$2:$V$3)","v":0},{"$f":"SUMIF(BDD!$BC$2:$BC$3,\"Banc 126VRAIFAUXFAUXFAUXVRAI\",BDD!$V$2:$V$3)","v":0},{"$f":"SUMIF(BDD!$BC$2:$BC$3,\"Banc 126FAUXVRAIVRAIFAUXFAUX\",BDD!$V$2:$V$3)","v":0},{"$f":"SUMIF(BDD!$BC$2:$BC$3,\"Banc 126FAUXVRAIFAUXVRAIFAUX\",BDD!$V$2:$V$3)","v":0},{"$f":"SUMIF(BDD!$BC$2:$BC$3,\"Banc 126FAUXVRAIFAUXFAUXVRAI\",BDD!$V$2:$V$3)","v":0},{"$f":"SUMIF(BDD!$BC$2:$BC$683,\"Banc 126VRAIFAUXVRAIFAUXFAUX\",BDD!$V$2:$V$683)","v":0},{"$f":"SUMIF(BDD!$BC$2:$BC$683,\"Banc 126VRAIFAUXFAUXVRAIFAUX\",BDD!$V$2:$V$683)","v":0},{"$f":"SUMIF(BDD!$BC$2:$BC$683,\"Banc 126VRAIFAUXFAUXFAUXVRAI\",BDD!$V$2:$V$683)","v":0},{"$f":"SUMIF(BDD!$BC$2:$BC$683,\"Banc 126FAUXVRAIVRAIFAUXFAUX\",BDD!$V$2:$V$683)","v":0.3},{"$f":"SUMIF(BDD!$BC$2:$BC$683,\"Banc 126FAUXVRAIFAUXVRAIFAUX\",BDD!$V$2:$V$683)","v":0},{"$f":"SUMIF(BDD!$BC$2:$BC$683,\"Banc 126FAUXVRAIFAUXFAUXVRAI\",BDD!$V$2:$V$683)","v":0},{"$f":"SUMIF(BDD!$BC$2:$BC$3,\"Banc 126VRAIFAUXVRAIFAUXFAUX\",BDD!$V$2:$V$3)","v":0},{"$f":"SUMIF(BDD!$BC$2:$BC$3,\"Banc 126VRAIFAUXFAUXVRAIFAUX\",BDD!$V$2:$V$3)","v":0},{"$f":"SUMIF(BDD!$BC$2:$BC$3,\"Banc 126VRAIFAUXFAUXFAUXVRAI\",BDD!$V$2:$V$3)","v":0},{"$f":"SUMIF(BDD!$BC$2:$BC$3,\"Banc 126FAUXVRAIVRAIFAUXFAUX\",BDD!$V$2:$V$3)","v":0},{"$f":"SUMIF(BDD!$BC$2:$BC$3,\"Banc 126FAUXVRAIFAUXVRAIFAUX\",BDD!$V$2:$V$3)","v":0},{"$f":"SUMIF(BDD!$BC$2:$BC$3,\"Banc 126FAUXVRAIFAUXFAUXVRAI\",BDD!$V$2:$V$3)","v":0},{"$f":"SUMIF(BDD!$BC$2:$BC$3,\"Banc 126VRAIFAUXVRAIFAUXFAUX\",BDD!$V$2:$V$3)","v":0},{"$f":"SUMIF(BDD!$BC$2:$BC$3,\"Banc 126VRAIFAUXFAUXVRAIFAUX\",BDD!$V$2:$V$3)","v":0},{"$f":"SUMIF(BDD!$BC$2:$BC$3,\"Banc 126VRAIFAUXFAUXFAUXVRAI\",BDD!$V$2:$V$3)","v":0},{"$f":"SUMIF(BDD!$BC$2:$BC$3,\"Banc 126FAUXVRAIVRAIFAUXFAUX\",BDD!$V$2:$V$3)","v":0},{"$f":"SUMIF(BDD!$BC$2:$BC$3,\"Banc 126FAUXVRAIFAUXVRAIFAUX\",BDD!$V$2:$V$3)","v":0},{"$f":"SUMIF(BDD!$BC$2:$BC$3,\"Banc 126FAUXVRAIFAUXFAUXVRAI\",BDD!$V$2:$V$3)","v":0},{"$f":"SUMIF(BDD!$BC$2:$BC$3,\"Banc 126VRAIFAUXVRAIFAUXFAUX\",BDD!$V$2:$V$3)","v":0},{"$f":"SUMIF(BDD!$BC$2:$BC$3,\"Banc 126VRAIFAUXFAUXVRAIFAUX\",BDD!$V$2:$V$3)","v":0},{"$f":"SUMIF(BDD!$BC$2:$BC$3,\"Banc 126VRAIFAUXFAUXFAUXVRAI\",BDD!$V$2:$V$3)","v":0},{"$f":"SUMIF(BDD!$BC$2:$BC$3,\"Banc 126FAUXVRAIVRAIFAUXFAUX\",BDD!$V$2:$V$3)","v":0},{"$f":"SUMIF(BDD!$BC$2:$BC$3,\"Banc 126FAUXVRAIFAUXVRAIFAUX\",BDD!$V$2:$V$3)","v":0},{"$f":"SUMIF(BDD!$BC$2:$BC$3,\"Banc 126FAUXVRAIFAUXFAUXVRAI\",BDD!$V$2:$V$3)","v":0},{"$f":"SUMIF(BDD!$BC$2:$BC$3,\"Banc 126VRAIFAUXVRAIFAUXFAUX\",BDD!$V$2:$V$3)","v":0},{"$f":"SUMIF(BDD!$BC$2:$BC$3,\"Banc 126VRAIFAUXFAUXVRAIFAUX\",BDD!$V$2:$V$3)","v":0},{"$f":"SUMIF(BDD!$BC$2:$BC$3,\"Banc 126VRAIFAUXFAUXFAUXVRAI\",BDD!$V$2:$V$3)","v":0},{"$f":"SUMIF(BDD!$BC$2:$BC$3,\"Banc 126FAUXVRAIVRAIFAUXFAUX\",BDD!$V$2:$V$3)","v":0},{"$f":"SUMIF(BDD!$BC$2:$BC$3,\"Banc 126FAUXVRAIFAUXVRAIFAUX\",BDD!$V$2:$V$3)","v":0},{"$f":"SUMIF(BDD!$BC$2:$BC$3,\"Banc 126FAUXVRAIFAUXFAUXVRAI\",BDD!$V$2:$V$3)","v":0},{"$f":"SUMIF(BDD!$BC$2:$BC$3,\"Banc 126VRAIFAUXVRAIFAUXFAUX\",BDD!$V$2:$V$3)","v":0},{"$f":"SUMIF(BDD!$BC$2:$BC$3,\"Banc 126VRAIFAUXFAUXVRAIFAUX\",BDD!$V$2:$V$3)","v":0},{"$f":"SUMIF(BDD!$BC$2:$BC$3,\"Banc 126VRAIFAUXFAUXFAUXVRAI\",BDD!$V$2:$V$3)","v":0},{"$f":"SUMIF(BDD!$BC$2:$BC$3,\"Banc 126FAUXVRAIVRAIFAUXFAUX\",BDD!$V$2:$V$3)","v":0},{"$f":"SUMIF(BDD!$BC$2:$BC$3,\"Banc 126FAUXVRAIFAUXVRAIFAUX\",BDD!$V$2:$V$3)","v":0},{"$f":"SUMIF(BDD!$BC$2:$BC$3,\"Banc 126FAUXVRAIFAUXFAUXVRAI\",BDD!$V$2:$V$3)","v":0},{"$f":"SUMIF(BDD!$BC$2:$BC$3,\"Banc 126VRAIFAUXVRAIFAUXFAUX\",BDD!$V$2:$V$3)","v":0},{"$f":"SUMIF(BDD!$BC$2:$BC$3,\"Banc 126VRAIFAUXFAUXVRAIFAUX\",BDD!$V$2:$V$3)","v":0},{"$f":"SUMIF(BDD!$BC$2:$BC$3,\"Banc 126VRAIFAUXFAUXFAUXVRAI\",BDD!$V$2:$V$3)","v":0},{"$f":"SUMIF(BDD!$BC$2:$BC$3,\"Banc 126FAUXVRAIVRAIFAUXFAUX\",BDD!$V$2:$V$3)","v":0},{"$f":"SUMIF(BDD!$BC$2:$BC$3,\"Banc 126FAUXVRAIFAUXVRAIFAUX\",BDD!$V$2:$V$3)","v":0},{"$f":"SUMIF(BDD!$BC$2:$BC$3,\"Banc 126FAUXVRAIFAUXFAUXVRAI\",BDD!$V$2:$V$3)","v":0},{"$f":"SUMIF(BDD!$BC$2:$BC$3,\"Banc 126VRAIFAUXVRAIFAUXFAUX\",BDD!$V$2:$V$3)","v":0},{"$f":"SUMIF(BDD!$BC$2:$BC$3,\"Banc 126VRAIFAUXFAUXVRAIFAUX\",BDD!$V$2:$V$3)","v":0},{"$f":"SUMIF(BDD!$BC$2:$BC$3,\"Banc 126VRAIFAUXFAUXFAUXVRAI\",BDD!$V$2:$V$3)","v":0},{"$f":"SUMIF(BDD!$BC$2:$BC$3,\"Banc 126FAUXVRAIVRAIFAUXFAUX\",BDD!$V$2:$V$3)","v":0},{"$f":"SUMIF(BDD!$BC$2:$BC$3,\"Banc 126FAUXVRAIFAUXVRAIFAUX\",BDD!$V$2:$V$3)","v":0},{"$f":"SUMIF(BDD!$BC$2:$BC$3,\"Banc 126FAUXVRAIFAUXFAUXVRAI\",BDD!$V$2:$V$3)","v":0},{"$f":"SUMIF(BDD!$BC$2:$BC$3,\"Banc 126VRAIFAUXVRAIFAUXFAUX\",BDD!$V$2:$V$3)","v":0},{"$f":"SUMIF(BDD!$BC$2:$BC$3,\"Banc 126VRAIFAUXFAUXVRAIFAUX\",BDD!$V$2:$V$3)","v":0},{"$f":"SUMIF(BDD!$BC$2:$BC$3,\"Banc 126VRAIFAUXFAUXFAUXVRAI\",BDD!$V$2:$V$3)","v":0},{"$f":"SUMIF(BDD!$BC$2:$BC$3,\"Banc 126FAUXVRAIVRAIFAUXFAUX\",BDD!$V$2:$V$3)","v":0},{"$f":"SUMIF(BDD!$BC$2:$BC$3,\"Banc 126FAUXVRAIFAUXVRAIFAUX\",BDD!$V$2:$V$3)","v":0},{"$f":"SUMIF(BDD!$BC$2:$BC$3,\"Banc 126FAUXVRAIFAUXFAUXVRAI\",BDD!$V$2:$V$3)","v":0},{"$f":"SUMIF(BDD!$BC$2:$BC$3,\"Banc 126VRAIFAUXVRAIFAUXFAUX\",BDD!$V$2:$V$3)","v":0},{"$f":"SUMIF(BDD!$BC$2:$BC$3,\"Banc 126VRAIFAUXFAUXVRAIFAUX\",BDD!$V$2:$V$3)","v":0},{"$f":"SUMIF(BDD!$BC$2:$BC$3,\"Banc 126VRAIFAUXFAUXFAUXVRAI\",BDD!$V$2:$V$3)","v":0},{"$f":"SUMIF(BDD!$BC$2:$BC$3,\"Banc 126FAUXVRAIVRAIFAUXFAUX\",BDD!$V$2:$V$3)","v":0},{"$f":"SUMIF(BDD!$BC$2:$BC$3,\"Banc 126FAUXVRAIFAUXVRAIFAUX\",BDD!$V$2:$V$3)","v":0},{"$f":"SUMIF(BDD!$BC$2:$BC$3,\"Banc 126FAUXVRAIFAUXFAUXVRAI\",BDD!$V$2:$V$3)","v":0}]
["Banc 156",{"$f":"SUMIF(BDD!$BC$2:$BC$3,\"Banc 156VRAIFAUXVRAIFAUXFAUX\",BDD!$V$2:$V$3)","v":0},{"$f":"SUMIF(BDD!$BC$2:$BC$3,\"Banc 156VRAIFAUXFAUXVRAIFAUX\",BDD!$V$2:$V$3)","v":0},{"$f":"SUMIF(BDD!$BC$2:$BC$3,\"Banc 156VRAIFAUXFAUXFAUXVRAI\",BDD!$V$2:$V$3)","v":0},{"$f":"SUMIF(BDD!$BC$2:$BC$3,\"Banc 156FAUXVRAIVRAIFAUXFAUX\",BDD!$V$2:$V$3)","v":0},{"$f":"SUMIF(BDD!$BC$2:$BC$3,\"Banc 156FAUXVRAIFAUXVRAIFAUX\",BDD!$V$2:$V$3)","v":0},{"$f":"SUMIF(BDD!$BC$2:$BC$3,\"Banc 156FAUXVRAIFAUXFAUXVRAI\",BDD!$V$2:$V$3)","v":0},{"$f":"SUMIF(BDD!$BC$2:$BC$3,\"Banc 156VRAIFAUXVRAIFAUXFAUX\",BDD!$V$2:$V$3)","v":0},{"$f":"SUMIF(BDD!$BC$2:$BC$3,\"Banc 156VRAIFAUXFAUXVRAIFAUX\",BDD!$V$2:$V$3)","v":0},{"$f":"SUMIF(BDD!$BC$2:$BC$3,\"Banc 156VRAIFAUXFAUXFAUXVRAI\",BDD!$V$2:$V$3)","v":0},{"$f":"SUMIF(BDD!$BC$2:$BC$3,\"Banc 156FAUXVRAIVRAIFAUXFAUX\",BDD!$V$2:$V$3)","v":0},{"$f":"SUMIF(BDD!$BC$2:$BC$3,\"Banc 156FAUXVRAIFAUXVRAIFAUX\",BDD!$V$2:$V$3)","v":0},{"$f":"SUMIF(BDD!$BC$2:$BC$3,\"Banc 156FAUXVRAIFAUXFAUXVRAI\",BDD!$V$2:$V$3)","v":0},{"$f":"SUMIF(BDD!$BC$2:$BC$683,\"Banc 156VRAIFAUXVRAIFAUXFAUX\",BDD!$V$2:$V$683)","v":0},{"$f":"SUMIF(BDD!$BC$2:$BC$683,\"Banc 156VRAIFAUXFAUXVRAIFAUX\",BDD!$V$2:$V$683)","v":0},{"$f":"SUMIF(BDD!$BC$2:$BC$683,\"Banc 156VRAIFAUXFAUXFAUXVRAI\",BDD!$V$2:$V$683)","v":0},{"$f":"SUMIF(BDD!$BC$2:$BC$683,\"Banc 156FAUXVRAIVRAIFAUXFAUX\",BDD!$V$2:$V$683)","v":0},{"$f":"SUMIF(BDD!$BC$2:$BC$683,\"Banc 156FAUXVRAIFAUXVRAIFAUX\",BDD!$V$2:$V$683)","v":0},{"$f":"SUMIF(BDD!$BC$2:$BC$683,\"Banc 156FAUXVRAIFAUXFAUXVRAI\",BDD!$V$2:$V$683)","v":0},{"$f":"SUMIF(BDD!$BC$2:$BC$3,\"Banc 156VRAIFAUXVRAIFAUXFAUX\",BDD!$V$2:$V$3)","v":0},{"$f":"SUMIF(BDD!$BC$2:$BC$3,\"Banc 156VRAIFAUXFAUXVRAIFAUX\",BDD!$V$2:$V$3)","v":0},{"$f":"SUMIF(BDD!$BC$2:$BC$3,\"Banc 156VRAIFAUXFAUXFAUXVRAI\",BDD!$V$2:$V$3)","v":0},{"$f":"SUMIF(BDD!$BC$2:$BC$3,\"Banc 156FAUXVRAIVRAIFAUXFAUX\",BDD!$V$2:$V$3)","v":0},{"$f":"SUMIF(BDD!$BC$2:$BC$3,\"Banc 156FAUXVRAIFAUXVRAIFAUX\",BDD!$V$2:$V$3)","v":0},{"$f":"SUMIF(BDD!$BC$2:$BC$3,\"Banc 156FAUXVRAIFAUXFAUXVRAI\",BDD!$V$2:$V$3)","v":0},{"$f":"SUMIF(BDD!$BC$2:$BC$3,\"Banc 156VRAIFAUXVRAIFAUXFAUX\",BDD!$V$2:$V$3)","v":0},{"$f":"SUMIF(BDD!$BC$2:$BC$3,\"Banc 156VRAIFAUXFAUXVRAIFAUX\",BDD!$V$2:$V$3)","v":0},{"$f":"SUMIF(BDD!$BC$2:$BC$3,\"Banc 156VRAIFAUXFAUXFAUXVRAI\",BDD!$V$2:$V$3)","v":0},{"$f":"SUMIF(BDD!$BC$2:$BC$3,\"Banc 156FAUXVRAIVRAIFAUXFAUX\",BDD!$V$2:$V$3)","v":0},{"$f":"SUMIF(BDD!$BC$2:$BC$3,\"Banc 156FAUXVRAIFAUXVRAIFAUX\",BDD!$V$2:$V$3)","v":0},{"$f":"SUMIF(BDD!$BC$2:$BC$3,\"Banc 156FAUXVRAIFAUXFAUXVRAI\",BDD!$V$2:$V$3)","v":0},{"$f":"SUMIF(BDD!$BC$2:$BC$3,\"Banc 156VRAIFAUXVRAIFAUXFAUX\",BDD!$V$2:$V$3)","v":0},{"$f":"SUMIF(BDD!$BC$2:$BC$3,\"Banc 156VRAIFAUXFAUXVRAIFAUX\",BDD!$V$2:$V$3)","v":0},{"$f":"SUMIF(BDD!$BC$2:$BC$3,\"Banc 156VRAIFAUXFAUXFAUXVRAI\",BDD!$V$2:$V$3)","v":0},{"$f":"SUMIF(BDD!$BC$2:$BC$3,\"Banc 156FAUXVRAIVRAIFAUXFAUX\",BDD!$V$2:$V$3)","v":0},{"$f":"SUMIF(BDD!$BC$2:$BC$3,\"Banc 156FAUXVRAIFAUXVRAIFAUX\",BDD!$V$2:$V$3)","v":0},{"$f":"SUMIF(BDD!$BC$2:$BC$3,\"Banc 156FAUXVRAIFAUXFAUXVRAI\",BDD!$V$2:$V$3)","v":0},{"$f":"SUMIF(BDD!$BC$2:$BC$3,\"Banc 156VRAIFAUXVRAIFAUXFAUX\",BDD!$V$2:$V$3)","v":0},{"$f":"SUMIF(BDD!$BC$2:$BC$3,\"Banc 156VRAIFAUXFAUXVRAIFAUX\",BDD!$V$2:$V$3)","v":0},{"$f":"SUMIF(BDD!$BC$2:$BC$3,\"Banc 156VRAIFAUXFAUXFAUXVRAI\",BDD!$V$2:$V$3)","v":0},{"$f":"SUMIF(BDD!$BC$2:$BC$3,\"Banc 156FAUXVRAIVRAIFAUXFAUX\",BDD!$V$2:$V$3)","v":0},{"$f":"SUMIF(BDD!$BC$2:$BC$3,\"Banc 156FAUXVRAIFAUXVRAIFAUX\",BDD!$V$2:$V$3)","v":0},{"$f":"SUMIF(BDD!$BC$2:$BC$3,\"Banc 156FAUXVRAIFAUXFAUXVRAI\",BDD!$V$2:$V$3)","v":0},{"$f":"SUMIF(BDD!$BC$2:$BC$3,\"Banc 156VRAIFAUXVRAIFAUXFAUX\",BDD!$V$2:$V$3)","v":0},{"$f":"SUMIF(BDD!$BC$2:$BC$3,\"Banc 156VRAIFAUXFAUXVRAIFAUX\",BDD!$V$2:$V$3)","v":0},{"$f":"SUMIF(BDD!$BC$2:$BC$3,\"Banc 156VRAIFAUXFAUXFAUXVRAI\",BDD!$V$2:$V$3)","v":0},{"$f":"SUMIF(BDD!$BC$2:$BC$3,\"Banc 156FAUXVRAIVRAIFAUXFAUX\",BDD!$V$2:$V$3)","v":0},{"$f":"SUMIF(BDD!$BC$2:$BC$3,\"Banc 156FAUXVRAIFAUXVRAIFAUX\",BDD!$V$2:$V$3)","v":0},{"$f":"SUMIF(BDD!$BC$2:$BC$3,\"Banc 156FAUXVRAIFAUXFAUXVRAI\",BDD!$V$2:$V$3)","v":0},{"$f":"SUMIF(BDD!$BC$2:$BC$3,\"Banc 156VRAIFAUXVRAIFAUXFAUX\",BDD!$V$2:$V$3)","v":0},{"$f":"SUMIF(BDD!$BC$2:$BC$3,\"Banc 156VRAIFAUXFAUXVRAIFAUX\",BDD!$V$2:$V$3)","v":0},{"$f":"SUMIF(BDD!$BC$2:$BC$3,\"Banc 156VRAIFAUXFAUXFAUXVRAI\",BDD!$V$2:$V$3)","v":0},{"$f":"SUMIF(BDD!$BC$2:$BC$3,\"Banc 156FAUXVRAIVRAIFAUXFAUX\",BDD!$V$2:$V$3)","v":0},{"$f":"SUMIF(BDD!$BC$2:$BC$3,\"Banc 156FAUXVRAIFAUXVRAIFAUX\",BDD!$V$2:$V$3)","v":0},{"$f":"SUMIF(BDD!$BC$2:$BC$3,\"Banc 156FAUXVRAIFAUXFAUXVRAI\",BDD!$V$2:$V$3)","v":0},{"$f":"SUMIF(BDD!$BC$2:$BC$3,\"Banc 156VRAIFAUXVRAIFAUXFAUX\",BDD!$V$2:$V$3)","v":0},{"$f":"SUMIF(BDD!$BC$2:$BC$3,\"Banc 156VRAIFAUXFAUXVRAIFAUX\",BDD!$V$2:$V$3)","v":0},{"$f":"SUMIF(BDD!$BC$2:$BC$3,\"Banc 156VRAIFAUXFAUXFAUXVRAI\",BDD!$V$2:$V$3)","v":0},{"$f":"SUMIF(BDD!$BC$2:$BC$3,\"Banc 156FAUXVRAIVRAIFAUXFAUX\",BDD!$V$2:$V$3)","v":0},{"$f":"SUMIF(BDD!$BC$2:$BC$3,\"Banc 156FAUXVRAIFAUXVRAIFAUX\",BDD!$V$2:$V$3)","v":0},{"$f":"SUMIF(BDD!$BC$2:$BC$3,\"Banc 156FAUXVRAIFAUXFAUXVRAI\",BDD!$V$2:$V$3)","v":0},{"$f":"SUMIF(BDD!$BC$2:$BC$3,\"Banc 156VRAIFAUXVRAIFAUXFAUX\",BDD!$V$2:$V$3)","v":0},{"$f":"SUMIF(BDD!$BC$2:$BC$3,\"Banc 156VRAIFAUXFAUXVRAIFAUX\",BDD!$V$2:$V$3)","v":0},{"$f":"SUMIF(BDD!$BC$2:$BC$3,\"Banc 156VRAIFAUXFAUXFAUXVRAI\",BDD!$V$2:$V$3)","v":0},{"$f":"SUMIF(BDD!$BC$2:$BC$3,\"Banc 156FAUXVRAIVRAIFAUXFAUX\",BDD!$V$2:$V$3)","v":0},{"$f":"SUMIF(BDD!$BC$2:$BC$3,\"Banc 156FAUXVRAIFAUXVRAIFAUX\",BDD!$V$2:$V$3)","v":0},{"$f":"SUMIF(BDD!$BC$2:$BC$3,\"Banc 156FAUXVRAIFAUXFAUXVRAI\",BDD!$V$2:$V$3)","v":0},{"$f":"SUMIF(BDD!$BC$2:$BC$3,\"Banc 156VRAIFAUXVRAIFAUXFAUX\",BDD!$V$2:$V$3)","v":0},{"$f":"SUMIF(BDD!$BC$2:$BC$3,\"Banc 156VRAIFAUXFAUXVRAIFAUX\",BDD!$V$2:$V$3)","v":0},{"$f":"SUMIF(BDD!$BC$2:$BC$3,\"Banc 156VRAIFAUXFAUXFAUXVRAI\",BDD!$V$2:$V$3)","v":0},{"$f":"SUMIF(BDD!$BC$2:$BC$3,\"Banc 156FAUXVRAIVRAIFAUXFAUX\",BDD!$V$2:$V$3)","v":0},{"$f":"SUMIF(BDD!$BC$2:$BC$3,\"Banc 156FAUXVRAIFAUXVRAIFAUX\",BDD!$V$2:$V$3)","v":0},{"$f":"SUMIF(BDD!$BC$2:$BC$3,\"Banc 156FAUXVRAIFAUXFAUXVRAI\",BDD!$V$2:$V$3)","v":0}]

{"sheet":"Indicateur Zone10","index":7,"n_rows":100,"n_cols":73,"rows_kept":100,"cut":false,"hidden":false,"merged":[[89,70,89,72],[89,55,89,57],[89,58,89,60],[89,61,89,63],[89,64,89,66],[89,67,89,69],[89,40,89,42],[89,43,89,45],[89,46,89,48],[89,49,89,51],[89,52,89,54],[88,55,88,60],[88,61,88,66],[88,67,88,72],[89,1,89,3],[89,4,89,6],[89,7,89,9],[89,10,89,12],[89,13,89,15],[89,16,89,18],[89,19,89,21],[89,22,89,24],[89,25,89,27],[89,28,89,30],[89,31,89,33],[89,34,89,36],[89,37,89,39],[88,25,88,30],[88,31,88,36],[88,37,88,42],[88,43,88,48],[88,49,88,54],[87,1,87,21],[88,1,88,6],[88,7,88,12],[88,13,88,18],[88,19,88,24],[54,19,54,20],[54,21,54,22],[54,23,54,24],[54,7,54,8],[54,13,54,14],[54,11,54,12],[54,17,54,18],[54,15,54,16],[1,1,1,12],[32,1,32,12],[53,1,53,12],[54,1,54,2],[54,5,54,6],[54,9,54,10],[54,3,54,4]]}
[]
[null,"Suivi des arrêts par banc"]
["Banc zone 10","Janvier","Février","Mars","Avril","Mai","Juin","Juillet","Août","Septembre","Octobre","Novembre","Décembre"]
["Banc 007",{"$f":"SUMIF(BDD!$H$2:$H$3,'Indicateur Zone10'!$A4,BDD!$V$2:$V$3)","v":0},{"$f":"SUMIF(BDD!$H$2:$H$3,'Indicateur Zone10'!$A4,BDD!$V$2:$V$3)","v":0},{"$f":"SUMIF(BDD!$H$2:$H$683,'Indicateur Zone10'!$A$4,BDD!$V$2:$V$683)","v":0},{"$f":"SUMIF(BDD!$H$2:$H$3,'Indicateur Zone10'!$A4,BDD!$V$2:$V$3)","v":0},{"$f":"SUMIF(BDD!$H$2:$H$3,'Indicateur Zone10'!$A4,BDD!$V$2:$V$3)","v":0},{"$f":"SUMIF(BDD!$H$2:$H$3,'Indicateur Zone10'!$A4,BDD!$V$2:$V$3)","v":0},{"$f":"SUMIF(BDD!$H$2:$H$3,'Indicateur Zone10'!$A4,BDD!$V$2:$V$3)","v":0},{"$f":"SUMIF(BDD!$H$2:$H$3,'Indicateur Zone10'!$A4,BDD!$V$2:$V$3)","v":0},{"$f":"SUMIF(BDD!$H$2:$H$3,'Indicateur Zone10'!$A4,BDD!$V$2:$V$3)","v":0},{"$f":"SUMIF(BDD!$H$2:$H$3,'Indicateur Zone10'!$A4,BDD!$V$2:$V$3)","v":0},{"$f":"SUMIF(BDD!$H$2:$H$3,'Indicateur Zone10'!$A4,BDD!$V$2:$V$3)","v":0},{"$f":"SUMIF(BDD!$H$2:$H$3,'Indicateur Zone10'!$A4,BDD!$V$2:$V$3)","v":0}]
["Banc 008",{"$f":"SUMIF(BDD!$H$2:$H$3,'Indicateur Zone10'!$A5,BDD!$V$2:$V$3)","v":0},{"$f":"SUMIF(BDD!$H$2:$H$3,'Indicateur Zone10'!$A5,BDD!$V$2:$V$3)","v":0},{"$f":"SUMIF(BDD!$H$2:$H$683,'Indicateur Zone10'!$A$5,BDD!$V$2:$V$683)","v":0},{"$f":"SUMIF(BDD!$H$2:$H$3,'Indicateur Zone10'!$A5,BDD!$V$2:$V$3)","v":0},{"$f":"SUMIF(BDD!$H$2:$H$3,'Indicateur Zone10'!$A5,BDD!$V$2:$V$3)","v":0},{"$f":"SUMIF(BDD!$H$2:$H$3,'Indicateur Zone10'!$A5,BDD!$V$2:$V$3)","v":0},{"$f":"SUMIF(BDD!$H$2:$H$3,'Indicateur Zone10'!$A5,BDD!$V$2:$V$3)","v":0},{"$f":"SUMIF(BDD!$H$2:$H$3,'Indicateur Zone10'!$A5,BDD!$V$2:$V$3)","v":0},{"$f":"SUMIF(BDD!$H$2:$H$3,'Indicateur Zone10'!$A5,BDD!$V$2:$V$3)","v":0},{"$f":"SUMIF(BDD!$H$2:$H$3,'Indicateur Zone10'!$A5,BDD!$V$2:$V$3)","v":0},{"$f":"SUMIF(BDD!$H$2:$H$3,'Indicateur Zone10'!$A5,BDD!$V$2:$V$3)","v":0},{"$f":"SUMIF(BDD!$H$2:$H$3,'Indicateur Zone10'!$A5,BDD!$V$2:$V$3)","v":0}]
["Banc 113",{"$f":"SUMIF(BDD!$H$2:$H$3,'Indicateur Zone10'!$A6,BDD!$V$2:$V$3)","v":0},{"$f":"SUMIF(BDD!$H$2:$H$3,'Indicateur Zone10'!$A6,BDD!$V$2:$V$3)","v":0},{"$f":"SUMIF(BDD!$H$2:$H$683,'Indicateur Zone10'!$A$6,BDD!$V$2:$V$683)","v":0},{"$f":"SUMIF(BDD!$H$2:$H$3,'Indicateur Zone10'!$A6,BDD!$V$2:$V$3)","v":0},{"$f":"SUMIF(BDD!$H$2:$H$3,'Indicateur Zone10'!$A6,BDD!$V$2:$V$3)","v":0},{"$f":"SUMIF(BDD!$H$2:$H$3,'Indicateur Zone10'!$A6,BDD!$V$2:$V$3)","v":0},{"$f":"SUMIF(BDD!$H$2:$H$3,'Indicateur Zone10'!$A6,BDD!$V$2:$V$3)","v":0},{"$f":"SUMIF(BDD!$H$2:$H$3,'Indicateur Zone10'!$A6,BDD!$V$2:$V$3)","v":0},{"$f":"SUMIF(BDD!$H$2:$H$3,'Indicateur Zone10'!$A6,BDD!$V$2:$V$3)","v":0},{"$f":"SUMIF(BDD!$H$2:$H$3,'Indicateur Zone10'!$A6,BDD!$V$2:$V$3)","v":0},{"$f":"SUMIF(BDD!$H$2:$H$3,'Indicateur Zone10'!$A6,BDD!$V$2:$V$3)","v":0},{"$f":"SUMIF(BDD!$H$2:$H$3,'Indicateur Zone10'!$A6,BDD!$V$2:$V$3)","v":0}]
["Banc 115",{"$f":"SUMIF(BDD!$H$2:$H$3,'Indicateur Zone10'!$A7,BDD!$V$2:$V$3)","v":0},{"$f":"SUMIF(BDD!$H$2:$H$3,'Indicateur Zone10'!$A7,BDD!$V$2:$V$3)","v":0},{"$f":"SUMIF(BDD!$H$2:$H$683,'Indicateur Zone10'!$A$7,BDD!$V$2:$V$683)","v":0},{"$f":"SUMIF(BDD!$H$2:$H$3,'Indicateur Zone10'!$A7,BDD!$V$2:$V$3)","v":0},{"$f":"SUMIF(BDD!$H$2:$H$3,'Indicateur Zone10'!$A7,BDD!$V$2:$V$3)","v":0},{"$f":"SUMIF(BDD!$H$2:$H$3,'Indicateur Zone10'!$A7,BDD!$V$2:$V$3)","v":0},{"$f":"SUMIF(BDD!$H$2:$H$3,'Indicateur Zone10'!$A7,BDD!$V$2:$V$3)","v":0},{"$f":"SUMIF(BDD!$H$2:$H$3,'Indicateur Zone10'!$A7,BDD!$V$2:$V$3)","v":0},{"$f":"SUMIF(BDD!$H$2:$H$3,'Indicateur Zone10'!$A7,BDD!$V$2:$V$3)","v":0},{"$f":"SUMIF(BDD!$H$2:$H$3,'Indicateur Zone10'!$A7,BDD!$V$2:$V$3)","v":0},{"$f":"SUMIF(BDD!$H$2:$H$3,'Indicateur Zone10'!$A7,BDD!$V$2:$V$3)","v":0},{"$f":"SUMIF(BDD!$H$2:$H$3,'Indicateur Zone10'!$A7,BDD!$V$2:$V$3)","v":0}]
["Banc 120",{"$f":"SUMIF(BDD!$H$2:$H$3,'Indicateur Zone10'!$A8,BDD!$V$2:$V$3)","v":0},{"$f":"SUMIF(BDD!$H$2:$H$3,'Indicateur Zone10'!$A8,BDD!$V$2:$V$3)","v":0},{"$f":"SUMIF(BDD!$H$2:$H$683,'Indicateur Zone10'!$A$8,BDD!$V$2:$V$683)","v":0},{"$f":"SUMIF(BDD!$H$2:$H$3,'Indicateur Zone10'!$A8,BDD!$V$2:$V$3)","v":0},{"$f":"SUMIF(BDD!$H$2:$H$3,'Indicateur Zone10'!$A8,BDD!$V$2:$V$3)","v":0},{"$f":"SUMIF(BDD!$H$2:$H$3,'Indicateur Zone10'!$A8,BDD!$V$2:$V$3)","v":0},{"$f":"SUMIF(BDD!$H$2:$H$3,'Indicateur Zone10'!$A8,BDD!$V$2:$V$3)","v":0},{"$f":"SUMIF(BDD!$H$2:$H$3,'Indicateur Zone10'!$A8,BDD!$V$2:$V$3)","v":0},{"$f":"SUMIF(BDD!$H$2:$H$3,'Indicateur Zone10'!$A8,BDD!$V$2:$V$3)","v":0},{"$f":"SUMIF(BDD!$H$2:$H$3,'Indicateur Zone10'!$A8,BDD!$V$2:$V$3)","v":0},{"$f":"SUMIF(BDD!$H$2:$H$3,'Indicateur Zone10'!$A8,BDD!$V$2:$V$3)","v":0},{"$f":"SUMIF(BDD!$H$2:$H$3,'Indicateur Zone10'!$A8,BDD!$V$2:$V$3)","v":0}]
["Banc 120 bis",{"$f":"SUMIF(BDD!$H$2:$H$3,'Indicateur Zone10'!$A9,BDD!$V$2:$V$3)","v":0},{"$f":"SUMIF(BDD!$H$2:$H$3,'Indicateur Zone10'!$A9,BDD!$V$2:$V$3)","v":0},{"$f":"SUMIF(BDD!$H$2:$H$683,'Indicateur Zone10'!$A$9,BDD!$V$2:$V$683)","v":0},{"$f":"SUMIF(BDD!$H$2:$H$3,'Indicateur Zone10'!$A9,BDD!$V$2:$V$3)","v":0},{"$f":"SUMIF(BDD!$H$2:$H$3,'Indicateur Zone10'!$A9,BDD!$V$2:$V$3)","v":0},{"$f":"SUMIF(BDD!$H$2:$H$3,'Indicateur Zone10'!$A9,BDD!$V$2:$V$3)","v":0},{"$f":"SUMIF(BDD!$H$2:$H$3,'Indicateur Zone10'!$A9,BDD!$V$2:$V$3)","v":0},{"$f":"SUMIF(BDD!$H$2:$H$3,'Indicateur Zone10'!$A9,BDD!$V$2:$V$3)","v":0},{"$f":"SUMIF(BDD!$H$2:$H$3,'Indicateur Zone10'!$A9,BDD!$V$2:$V$3)","v":0},{"$f":"SUMIF(BDD!$H$2:$H$3,'Indicateur Zone10'!$A9,BDD!$V$2:$V$3)","v":0},{"$f":"SUMIF(BDD!$H$2:$H$3,'Indicateur Zone10'!$A9,BDD!$V$2:$V$3)","v":0},{"$f":"SUMIF(BDD!$H$2:$H$3,'Indicateur Zone10'!$A9,BDD!$V$2:$V$3)","v":0}]
["Banc 125",{"$f":"SUMIF(BDD!$H$2:$H$3,'Indicateur Zone10'!$A10,BDD!$V$2:$V$3)","v":0},{"$f":"SUMIF(BDD!$H$2:$H$3,'Indicateur Zone10'!$A10,BDD!$V$2:$V$3)","v":0},{"$f":"SUMIF(BDD!$H$2:$H$683,'Indicateur Zone10'!$A$10,BDD!$V$2:$V$683)","v":2.2999999999999998},{"$f":"SUMIF(BDD!$H$2:$H$3,'Indicateur Zone10'!$A10,BDD!$V$2:$V$3)","v":0},{"$f":"SUMIF(BDD!$H$2:$H$3,'Indicateur Zone10'!$A10,BDD!$V$2:$V$3)","v":0},{"$f":"SUMIF(BDD!$H$2:$H$3,'Indicateur Zone10'!$A10,BDD!$V$2:$V$3)","v":0},{"$f":"SUMIF(BDD!$H$2:$H$3,'Indicateur Zone10'!$A10,BDD!$V$2:$V$3)","v":0},{"$f":"SUMIF(BDD!$H$2:$H$3,'Indicateur Zone10'!$A10,BDD!$V$2:$V$3)","v":0},{"$f":"SUMIF(BDD!$H$2:$H$3,'Indicateur Zone10'!$A10,BDD!$V$2:$V$3)","v":0},{"$f":"SUMIF(BDD!$H$2:$H$3,'Indicateur Zone10'!$A10,BDD!$V$2:$V$3)","v":0},{"$f":"SUMIF(BDD!$H$2:$H$3,'Indicateur Zone10'!$A10,BDD!$V$2:$V$3)","v":0},{"$f":"SUMIF(BDD!$H$2:$H$3,'Indicateur Zone10'!$A10,BDD!$V$2:$V$3)","v":0}]
["Banc 128",{"$f":"SUMIF(BDD!$H$2:$H$3,'Indicateur Zone10'!$A11,BDD!$V$2:$V$3)","v":0},{"$f":"SUMIF(BDD!$H$2:$H$3,'Indicateur Zone10'!$A11,BDD!$V$2:$V$3)","v":0},{"$f":"SUMIF(BDD!$H$2:$H$683,'Indicateur Zone10'!$A$11,BDD!$V$2:$V$683)","v":1},{"$f":"SUMIF(BDD!$H$2:$H$3,'Indicateur Zone10'!$A11,BDD!$V$2:$V$3)","v":0},{"$f":"SUMIF(BDD!$H$2:$H$3,'Indicateur Zone10'!$A11,BDD!$V$2:$V$3)","v":0},{"$f":"SUMIF(BDD!$H$2:$H$3,'Indicateur Zone10'!$A11,BDD!$V$2:$V$3)","v":0},{"$f":"SUMIF(BDD!$H$2:$H$3,'Indicateur Zone10'!$A11,BDD!$V$2:$V$3)","v":0},{"$f":"SUMIF(BDD!$H$2:$H$3,'Indicateur Zone10'!$A11,BDD!$V$2:$V$3)","v":0},{"$f":"SUMIF(BDD!$H$2:$H$3,'Indicateur Zone10'!$A11,BDD!$V$2:$V$3)","v":0},{"$f":"SUMIF(BDD!$H$2:$H$3,'Indicateur Zone10'!$A11,BDD!$V$2:$V$3)","v":0},{"$f":"SUMIF(BDD!$H$2:$H$3,'Indicateur Zone10'!$A11,BDD!$V$2:$V$3)","v":0},{"$f":"SUMIF(BDD!$H$2:$H$3,'Indicateur Zone10'!$A11,BDD!$V$2:$V$3)","v":0}]
["Banc 131",{"$f":"SUMIF(BDD!$H$2:$H$3,'Indicateur Zone10'!$A12,BDD!$V$2:$V$3)","v":0},{"$f":"SUMIF(BDD!$H$2:$H$3,'Indicateur Zone10'!$A12,BDD!$V$2:$V$3)","v":0},{"$f":"SUMIF(BDD!$H$2:$H$683,'Indicateur Zone10'!$A$4,BDD!$V$2:$V$683)","v":0},{"$f":"SUMIF(BDD!$H$2:$H$3,'Indicateur Zone10'!$A12,BDD!$V$2:$V$3)","v":0},{"$f":"SUMIF(BDD!$H$2:$H$3,'Indicateur Zone10'!$A12,BDD!$V$2:$V$3)","v":0},{"$f":"SUMIF(BDD!$H$2:$H$3,'Indicateur Zone10'!$A12,BDD!$V$2:$V$3)","v":0},{"$f":"SUMIF(BDD!$H$2:$H$3,'Indicateur Zone10'!$A12,BDD!$V$2:$V$3)","v":0},{"$f":"SUMIF(BDD!$H$2:$H$3,'Indicateur Zone10'!$A12,BDD!$V$2:$V$3)","v":0},{"$f":"SUMIF(BDD!$H$2:$H$3,'Indicateur Zone10'!$A12,BDD!$V$2:$V$3)","v":0},{"$f":"SUMIF(BDD!$H$2:$H$3,'Indicateur Zone10'!$A12,BDD!$V$2:$V$3)","v":0},{"$f":"SUMIF(BDD!$H$2:$H$3,'Indicateur Zone10'!$A12,BDD!$V$2:$V$3)","v":0},{"$f":"SUMIF(BDD!$H$2:$H$3,'Indicateur Zone10'!$A12,BDD!$V$2:$V$3)","v":0}]
[]
[]
[]
[]
[]
[]
[]
[]
[]
[]
[]
[]
[]
[]
[]
[]
[]
[]
[]
[]
[null,"Suivi du correctif et du préventif"]
["Type de maintenance","Janvier","Février","Mars","Avril","Mai","Juin","Juillet","Août","Septembre","Octobre","Novembre","Décembre"]
["Corrective",{"$f":"SUM(B57:B65)","v":0},{"$f":"SUM(D57:D65)","v":0},{"$f":"SUM(F57:F65)","v":3.3},{"$f":"SUM(H57:H65)","v":0},{"$f":"SUM(J57:J65)","v":0},{"$f":"SUM(L57:L65)","v":0},{"$f":"SUM(N57:N65)","v":0},{"$f":"SUM(P57:P65)","v":0},{"$f":"SUM(R57:R65)","v":0},{"$f":"SUM(T57:T65)","v":0},{"$f":"SUM(V57:V65)","v":0},{"$f":"SUM(X57:X65)","v":0}]
["Préventive",{"$f":"SUM(C57:C65)","v":0},{"$f":"SUM(E57:E65)","v":0},{"$f":"SUM(G57:G65)","v":0},{"$f":"SUM(I57:I65)","v":0},{"$f":"SUM(K57:K65)","v":0},{"$f":"SUM(M57:M65)","v":0},{"$f":"SUM(O57:O65)","v":0},{"$f":"SUM(Q57:Q65)","v":0},{"$f":"SUM(S57:S65)","v":0},{"$f":"SUM(U57:U65)","v":0},{"$f":"SUM(W57:W65)","v":0},{"$f":"SUM(Y57:Y65)","v":0}]
[]
[]
[]
[]
[]
[]
[]
[]
[]
[]
[]
[]
[]
[]
[]
[]
[]
[null,"Suivi du correctif et du préventif par banc"]
[null,"Janvier",null,"Février",null,"Mars",null,"Avril",null,"Mai",null,"Juin",null,"Juillet",null,"Août",null,"Septembre",null,"Octobre",null,"Novembre",null,"Décembre"]
["Banc zone 10","Corrective","Préventive","Corrective","Préventive","Corrective","Préventive","Corrective","Préventive","Corrective","Préventive","Corrective","Préventive","Corrective","Préventive","Corrective","Préventive","Corrective","Préventive","Corrective","Préventive","Corrective","Préventive","Corrective","Préventive"]
["Banc 007",{"$f":"SUMIF(BDD!$BB$2:$BB$3,\"Banc 007VRAIFAUX\",BDD!$V$2:$V$3)","v":0},{"$f":"SUMIF(BDD!$BB$2:$BB$3,\"Banc 007FAUXVRAI\",BDD!$V$2:$V$3)","v":0},{"$f":"SUMIF(BDD!$BB$2:$BB$3,\"Banc 007VRAIFAUX\",BDD!$V$2:$V$3)","v":0},{"$f":"SUMIF(BDD!$BB$2:$BB$3,\"Banc 007FAUXVRAI\",BDD!$V$2:$V$3)","v":0},{"$f":"SUMIF(BDD!$BB$2:$BB$683,\"Banc 007VRAIFAUX\",BDD!$V$2:$V$683)","v":0},{"$f":"SUMIF(BDD!$BB$2:$BB$683,\"Banc 007FAUXvrai\",BDD!$V$2:$V$683)","v":0},{"$f":"SUMIF(BDD!$BB$2:$BB$3,\"Banc 007VRAIFAUX\",BDD!$V$2:$V$3)","v":0},{"$f":"SUMIF(BDD!$BB$2:$BB$3,\"Banc 007FAUXVRAI\",BDD!$V$2:$V$3)","v":0},{"$f":"SUMIF(BDD!$BB$2:$BB$3,\"Banc 007VRAIFAUX\",BDD!$V$2:$V$3)","v":0},{"$f":"SUMIF(BDD!$BB$2:$BB$3,\"Banc 007FAUXVRAI\",BDD!$V$2:$V$3)","v":0},{"$f":"SUMIF(BDD!$BB$2:$BB$3,\"Banc 007VRAIFAUX\",BDD!$V$2:$V$3)","v":0},{"$f":"SUMIF(BDD!$BB$2:$BB$3,\"Banc 007FAUXVRAI\",BDD!$V$2:$V$3)","v":0},{"$f":"SUMIF(BDD!$BB$2:$BB$3,\"Banc 007VRAIFAUX\",BDD!$V$2:$V$3)","v":0},{"$f":"SUMIF(BDD!$BB$2:$BB$3,\"Banc 007FAUXVRAI\",BDD!$V$2:$V$3)","v":0},{"$f":"SUMIF(BDD!$BB$2:$BB$3,\"Banc 007VRAIFAUX\",BDD!$V$2:$V$3)","v":0},{"$f":"SUMIF(BDD!$BB$2:$BB$3,\"Banc 007FAUXVRAI\",BDD!$V$2:$V$3)","v":0},{"$f":"SUMIF(BDD!$BB$2:$BB$3,\"Banc 007VRAIFAUX\",BDD!$V$2:$V$3)","v":0},{"$f":"SUMIF(BDD!$BB$2:$BB$3,\"Banc 007FAUXVRAI\",BDD!$V$2:$V$3)","v":0},{"$f":"SUMIF(BDD!$BB$2:$BB$3,\"Banc 007VRAIFAUX\",BDD!$V$2:$V$3)","v":0},{"$f":"SUMIF(BDD!$BB$2:$BB$3,\"Banc 007FAUXVRAI\",BDD!$V$2:$V$3)","v":0},{"$f":"SUMIF(BDD!$BB$2:$BB$3,\"Banc 007VRAIFAUX\",BDD!$V$2:$V$3)","v":0},{"$f":"SUMIF(BDD!$BB$2:$BB$3,\"Banc 007FAUXVRAI\",BDD!$V$2:$V$3)","v":0},{"$f":"SUMIF(BDD!$BB$2:$BB$3,\"Banc 007VRAIFAUX\",BDD!$V$2:$V$3)","v":0},{"$f":"SUMIF(BDD!$BB$2:$BB$3,\"Banc 007FAUXVRAI\",BDD!$V$2:$V$3)","v":0}]
["Banc 008",{"$f":"SUMIF(BDD!$BB$2:$BB$3,\"Banc 008VRAIFAUX\",BDD!$V$2:$V$3)","v":0},{"$f":"SUMIF(BDD!$BB$2:$BB$3,\"Banc 008FAUXVRAI\",BDD!$V$2:$V$3)","v":0},{"$f":"SUMIF(BDD!$BB$2:$BB$3,\"Banc 008VRAIFAUX\",BDD!$V$2:$V$3)","v":0},{"$f":"SUMIF(BDD!$BB$2:$BB$3,\"Banc 008FAUXVRAI\",BDD!$V$2:$V$3)","v":0},{"$f":"SUMIF(BDD!$BB$2:$BB$683,\"Banc 008VRAIFAUX\",BDD!$V$2:$V$683)","v":0},{"$f":"SUMIF(BDD!$BB$2:$BB$683,\"Banc 008FAUXVRAI\",BDD!$V$2:$V$683)","v":0},{"$f":"SUMIF(BDD!$BB$2:$BB$3,\"Banc 008VRAIFAUX\",BDD!$V$2:$V$3)","v":0},{"$f":"SUMIF(BDD!$BB$2:$BB$3,\"Banc 008FAUXVRAI\",BDD!$V$2:$V$3)","v":0},{"$f":"SUMIF(BDD!$BB$2:$BB$3,\"Banc 008VRAIFAUX\",BDD!$V$2:$V$3)","v":0},{"$f":"SUMIF(BDD!$BB$2:$BB$3,\"Banc 008FAUXVRAI\",BDD!$V$2:$V$3)","v":0},{"$f":"SUMIF(BDD!$BB$2:$BB$3,\"Banc 008VRAIFAUX\",BDD!$V$2:$V$3)","v":0},{"$f":"SUMIF(BDD!$BB$2:$BB$3,\"Banc 008FAUXVRAI\",BDD!$V$2:$V$3)","v":0},{"$f":"SUMIF(BDD!$BB$2:$BB$3,\"Banc 008VRAIFAUX\",BDD!$V$2:$V$3)","v":0},{"$f":"SUMIF(BDD!$BB$2:$BB$3,\"Banc 008FAUXVRAI\",BDD!$V$2:$V$3)","v":0},{"$f":"SUMIF(BDD!$BB$2:$BB$3,\"Banc 008VRAIFAUX\",BDD!$V$2:$V$3)","v":0},{"$f":"SUMIF(BDD!$BB$2:$BB$3,\"Banc 008FAUXVRAI\",BDD!$V$2:$V$3)","v":0},{"$f":"SUMIF(BDD!$BB$2:$BB$3,\"Banc 008VRAIFAUX\",BDD!$V$2:$V$3)","v":0},{"$f":"SUMIF(BDD!$BB$2:$BB$3,\"Banc 008FAUXVRAI\",BDD!$V$2:$V$3)","v":0},{"$f":"SUMIF(BDD!$BB$2:$BB$3,\"Banc 008VRAIFAUX\",BDD!$V$2:$V$3)","v":0},{"$f":"SUMIF(BDD!$BB$2:$BB$3,\"Banc 008FAUXVRAI\",BDD!$V$2:$V$3)","v":0},{"$f":"SUMIF(BDD!$BB$2:$BB$3,\"Banc 008VRAIFAUX\",BDD!$V$2:$V$3)","v":0},{"$f":"SUMIF(BDD!$BB$2:$BB$3,\"Banc 008FAUXVRAI\",BDD!$V$2:$V$3)","v":0},{"$f":"SUMIF(BDD!$BB$2:$BB$3,\"Banc 008VRAIFAUX\",BDD!$V$2:$V$3)","v":0},{"$f":"SUMIF(BDD!$BB$2:$BB$3,\"Banc 008FAUXVRAI\",BDD!$V$2:$V$3)","v":0}]
["Banc 113",{"$f":"SUMIF(BDD!$BB$2:$BB$683,\"Banc 113VRAIFAUX\",BDD!$V$2:$V$683)","v":0},{"$f":"SUMIF(BDD!$BB$2:$BB$3,\"Banc 113FAUXVRAI\",BDD!$V$2:$V$3)","v":0},{"$f":"SUMIF(BDD!$BB$2:$BB$683,\"Banc 113VRAIFAUX\",BDD!$V$2:$V$683)","v":0},{"$f":"SUMIF(BDD!$BB$2:$BB$3,\"Banc 113FAUXVRAI\",BDD!$V$2:$V$3)","v":0},{"$f":"SUMIF(BDD!$BB$2:$BB$683,\"Banc 113VRAIFAUX\",BDD!$V$2:$V$683)","v":0},{"$f":"SUMIF(BDD!$BB$2:$BB$683,\"Banc 113FAUXVRAI\",BDD!$V$2:$V$683)","v":0},{"$f":"SUMIF(BDD!$BB$2:$BB$683,\"Banc 113VRAIFAUX\",BDD!$V$2:$V$683)","v":0},{"$f":"SUMIF(BDD!$BB$2:$BB$3,\"Banc 113FAUXVRAI\",BDD!$V$2:$V$3)","v":0},{"$f":"SUMIF(BDD!$BB$2:$BB$683,\"Banc 113VRAIFAUX\",BDD!$V$2:$V$683)","v":0},{"$f":"SUMIF(BDD!$BB$2:$BB$3,\"Banc 113FAUXVRAI\",BDD!$V$2:$V$3)","v":0},{"$f":"SUMIF(BDD!$BB$2:$BB$683,\"Banc 113VRAIFAUX\",BDD!$V$2:$V$683)","v":0},{"$f":"SUMIF(BDD!$BB$2:$BB$3,\"Banc 113FAUXVRAI\",BDD!$V$2:$V$3)","v":0},{"$f":"SUMIF(BDD!$BB$2:$BB$683,\"Banc 113VRAIFAUX\",BDD!$V$2:$V$683)","v":0},{"$f":"SUMIF(BDD!$BB$2:$BB$3,\"Banc 113FAUXVRAI\",BDD!$V$2:$V$3)","v":0},{"$f":"SUMIF(BDD!$BB$2:$BB$683,\"Banc 113VRAIFAUX\",BDD!$V$2:$V$683)","v":0},{"$f":"SUMIF(BDD!$BB$2:$BB$3,\"Banc 113FAUXVRAI\",BDD!$V$2:$V$3)","v":0},{"$f":"SUMIF(BDD!$BB$2:$BB$683,\"Banc 113VRAIFAUX\",BDD!$V$2:$V$683)","v":0},{"$f":"SUMIF(BDD!$BB$2:$BB$3,\"Banc 113FAUXVRAI\",BDD!$V$2:$V$3)","v":0},{"$f":"SUMIF(BDD!$BB$2:$BB$683,\"Banc 113VRAIFAUX\",BDD!$V$2:$V$683)","v":0},{"$f":"SUMIF(BDD!$BB$2:$BB$3,\"Banc 113FAUXVRAI\",BDD!$V$2:$V$3)","v":0},{"$f":"SUMIF(BDD!$BB$2:$BB$683,\"Banc 113VRAIFAUX\",BDD!$V$2:$V$683)","v":0},{"$f":"SUMIF(BDD!$BB$2:$BB$3,\"Banc 113FAUXVRAI\",BDD!$V$2:$V$3)","v":0},{"$f":"SUMIF(BDD!$BB$2:$BB$683,\"Banc 113VRAIFAUX\",BDD!$V$2:$V$683)","v":0},{"$f":"SUMIF(BDD!$BB$2:$BB$3,\"Banc 113FAUXVRAI\",BDD!$V$2:$V$3)","v":0}]
["Banc 115",{"$f":"SUMIF(BDD!$BB$2:$BB$3,\"Banc 115VRAIFAUX\",BDD!$V$2:$V$3)","v":0},{"$f":"SUMIF(BDD!$BB$2:$BB$3,\"Banc 115FAUXVRAI\",BDD!$V$2:$V$3)","v":0},{"$f":"SUMIF(BDD!$BB$2:$BB$3,\"Banc 115VRAIFAUX\",BDD!$V$2:$V$3)","v":0},{"$f":"SUMIF(BDD!$BB$2:$BB$3,\"Banc 115FAUXVRAI\",BDD!$V$2:$V$3)","v":0},{"$f":"SUMIF(BDD!$BB$2:$BB$683,\"Banc 115VRAIFAUX\",BDD!$V$2:$V$683)","v":0},{"$f":"SUMIF(BDD!$BB$2:$BB$683,\"Banc 115FAUXVRAI\",BDD!$V$2:$V$683)","v":0},{"$f":"SUMIF(BDD!$BB$2:$BB$3,\"Banc 115VRAIFAUX\",BDD!$V$2:$V$3)","v":0},{"$f":"SUMIF(BDD!$BB$2:$BB$3,\"Banc 115FAUXVRAI\",BDD!$V$2:$V$3)","v":0},{"$f":"SUMIF(BDD!$BB$2:$BB$3,\"Banc 115VRAIFAUX\",BDD!$V$2:$V$3)","v":0},{"$f":"SUMIF(BDD!$BB$2:$BB$3,\"Banc 115FAUXVRAI\",BDD!$V$2:$V$3)","v":0},{"$f":"SUMIF(BDD!$BB$2:$BB$3,\"Banc 115VRAIFAUX\",BDD!$V$2:$V$3)","v":0},{"$f":"SUMIF(BDD!$BB$2:$BB$3,\"Banc 115FAUXVRAI\",BDD!$V$2:$V$3)","v":0},{"$f":"SUMIF(BDD!$BB$2:$BB$3,\"Banc 115VRAIFAUX\",BDD!$V$2:$V$3)","v":0},{"$f":"SUMIF(BDD!$BB$2:$BB$3,\"Banc 115FAUXVRAI\",BDD!$V$2:$V$3)","v":0},{"$f":"SUMIF(BDD!$BB$2:$BB$3,\"Banc 115VRAIFAUX\",BDD!$V$2:$V$3)","v":0},{"$f":"SUMIF(BDD!$BB$2:$BB$3,\"Banc 115FAUXVRAI\",BDD!$V$2:$V$3)","v":0},{"$f":"SUMIF(BDD!$BB$2:$BB$3,\"Banc 115VRAIFAUX\",BDD!$V$2:$V$3)","v":0},{"$f":"SUMIF(BDD!$BB$2:$BB$3,\"Banc 115FAUXVRAI\",BDD!$V$2:$V$3)","v":0},{"$f":"SUMIF(BDD!$BB$2:$BB$3,\"Banc 115VRAIFAUX\",BDD!$V$2:$V$3)","v":0},{"$f":"SUMIF(BDD!$BB$2:$BB$3,\"Banc 115FAUXVRAI\",BDD!$V$2:$V$3)","v":0},{"$f":"SUMIF(BDD!$BB$2:$BB$3,\"Banc 115VRAIFAUX\",BDD!$V$2:$V$3)","v":0},{"$f":"SUMIF(BDD!$BB$2:$BB$3,\"Banc 115FAUXVRAI\",BDD!$V$2:$V$3)","v":0},{"$f":"SUMIF(BDD!$BB$2:$BB$3,\"Banc 115VRAIFAUX\",BDD!$V$2:$V$3)","v":0},{"$f":"SUMIF(BDD!$BB$2:$BB$3,\"Banc 115FAUXVRAI\",BDD!$V$2:$V$3)","v":0}]
["Banc 120",{"$f":"SUMIF(BDD!$BB$2:$BB$3,\"Banc 120VRAIFAUX\",BDD!$V$2:$V$3)","v":0},{"$f":"SUMIF(BDD!$BB$2:$BB$3,\"Banc 120FAUXVRAI\",BDD!$V$2:$V$3)","v":0},{"$f":"SUMIF(BDD!$BB$2:$BB$3,\"Banc 120VRAIFAUX\",BDD!$V$2:$V$3)","v":0},{"$f":"SUMIF(BDD!$BB$2:$BB$3,\"Banc 120FAUXVRAI\",BDD!$V$2:$V$3)","v":0},{"$f":"SUMIF(BDD!$BB$2:$BB$683,\"Banc 120VRAIFAUX\",BDD!$V$2:$V$683)","v":0},{"$f":"SUMIF(BDD!$BB$2:$BB$683,\"Banc 120FAUXVRAI\",BDD!$V$2:$V$683)","v":0},{"$f":"SUMIF(BDD!$BB$2:$BB$3,\"Banc 120VRAIFAUX\",BDD!$V$2:$V$3)","v":0},{"$f":"SUMIF(BDD!$BB$2:$BB$3,\"Banc 120FAUXVRAI\",BDD!$V$2:$V$3)","v":0},{"$f":"SUMIF(BDD!$BB$2:$BB$3,\"Banc 120VRAIFAUX\",BDD!$V$2:$V$3)","v":0},{"$f":"SUMIF(BDD!$BB$2:$BB$3,\"Banc 120FAUXVRAI\",BDD!$V$2:$V$3)","v":0},{"$f":"SUMIF(BDD!$BB$2:$BB$3,\"Banc 120VRAIFAUX\",BDD!$V$2:$V$3)","v":0},{"$f":"SUMIF(BDD!$BB$2:$BB$3,\"Banc 120FAUXVRAI\",BDD!$V$2:$V$3)","v":0},{"$f":"SUMIF(BDD!$BB$2:$BB$3,\"Banc 120VRAIFAUX\",BDD!$V$2:$V$3)","v":0},{"$f":"SUMIF(BDD!$BB$2:$BB$3,\"Banc 120FAUXVRAI\",BDD!$V$2:$V$3)","v":0},{"$f":"SUMIF(BDD!$BB$2:$BB$3,\"Banc 120VRAIFAUX\",BDD!$V$2:$V$3)","v":0},{"$f":"SUMIF(BDD!$BB$2:$BB$3,\"Banc 120FAUXVRAI\",BDD!$V$2:$V$3)","v":0},{"$f":"SUMIF(BDD!$BB$2:$BB$3,\"Banc 120VRAIFAUX\",BDD!$V$2:$V$3)","v":0},{"$f":"SUMIF(BDD!$BB$2:$BB$3,\"Banc 120FAUXVRAI\",BDD!$V$2:$V$3)","v":0},{"$f":"SUMIF(BDD!$BB$2:$BB$3,\"Banc 120VRAIFAUX\",BDD!$V$2:$V$3)","v":0},{"$f":"SUMIF(BDD!$BB$2:$BB$3,\"Banc 120FAUXVRAI\",BDD!$V$2:$V$3)","v":0},{"$f":"SUMIF(BDD!$BB$2:$BB$3,\"Banc 120VRAIFAUX\",BDD!$V$2:$V$3)","v":0},{"$f":"SUMIF(BDD!$BB$2:$BB$3,\"Banc 120FAUXVRAI\",BDD!$V$2:$V$3)","v":0},{"$f":"SUMIF(BDD!$BB$2:$BB$3,\"Banc 120VRAIFAUX\",BDD!$V$2:$V$3)","v":0},{"$f":"SUMIF(BDD!$BB$2:$BB$3,\"Banc 120FAUXVRAI\",BDD!$V$2:$V$3)","v":0}]
["Banc 120 bis",{"$f":"SUMIF(BDD!$BB$2:$BB$3,\"Banc 120 bisVRAIFAUX\",BDD!$V$2:$V$3)","v":0},{"$f":"SUMIF(BDD!$BB$2:$BB$3,\"Banc 120 bisFAUXVRAI\",BDD!$V$2:$V$3)","v":0},{"$f":"SUMIF(BDD!$BB$2:$BB$3,\"Banc 120 bisVRAIFAUX\",BDD!$V$2:$V$3)","v":0},{"$f":"SUMIF(BDD!$BB$2:$BB$3,\"Banc 120 bisFAUXVRAI\",BDD!$V$2:$V$3)","v":0},{"$f":"SUMIF(BDD!$BB$2:$BB$683,\"Banc 120 bisVRAIFAUX\",BDD!$V$2:$V$683)","v":0},{"$f":"SUMIF(BDD!$BB$2:$BB$683,\"Banc 120 bisFAUXVRAI\",BDD!$V$2:$V$683)","v":0},{"$f":"SUMIF(BDD!$BB$2:$BB$3,\"Banc 120 bisVRAIFAUX\",BDD!$V$2:$V$3)","v":0},{"$f":"SUMIF(BDD!$BB$2:$BB$3,\"Banc 120 bisFAUXVRAI\",BDD!$V$2:$V$3)","v":0},{"$f":"SUMIF(BDD!$BB$2:$BB$3,\"Banc 120 bisVRAIFAUX\",BDD!$V$2:$V$3)","v":0},{"$f":"SUMIF(BDD!$BB$2:$BB$3,\"Banc 120 bisFAUXVRAI\",BDD!$V$2:$V$3)","v":0},{"$f":"SUMIF(BDD!$BB$2:$BB$3,\"Banc 120 bisVRAIFAUX\",BDD!$V$2:$V$3)","v":0},{"$f":"SUMIF(BDD!$BB$2:$BB$3,\"Banc 120 bisFAUXVRAI\",BDD!$V$2:$V$3)","v":0},{"$f":"SUMIF(BDD!$BB$2:$BB$3,\"Banc 120 bisVRAIFAUX\",BDD!$V$2:$V$3)","v":0},{"$f":"SUMIF(BDD!$BB$2:$BB$3,\"Banc 120 bisFAUXVRAI\",BDD!$V$2:$V$3)","v":0},{"$f":"SUMIF(BDD!$BB$2:$BB$3,\"Banc 120 bisVRAIFAUX\",BDD!$V$2:$V$3)","v":0},{"$f":"SUMIF(BDD!$BB$2:$BB$3,\"Banc 120 bisFAUXVRAI\",BDD!$V$2:$V$3)","v":0},{"$f":"SUMIF(BDD!$BB$2:$BB$3,\"Banc 120 bisVRAIFAUX\",BDD!$V$2:$V$3)","v":0},{"$f":"SUMIF(BDD!$BB$2:$BB$3,\"Banc 120 bisFAUXVRAI\",BDD!$V$2:$V$3)","v":0},{"$f":"SUMIF(BDD!$BB$2:$BB$3,\"Banc 120 bisVRAIFAUX\",BDD!$V$2:$V$3)","v":0},{"$f":"SUMIF(BDD!$BB$2:$BB$3,\"Banc 120 bisFAUXVRAI\",BDD!$V$2:$V$3)","v":0},{"$f":"SUMIF(BDD!$BB$2:$BB$3,\"Banc 120 bisVRAIFAUX\",BDD!$V$2:$V$3)","v":0},{"$f":"SUMIF(BDD!$BB$2:$BB$3,\"Banc 120 bisFAUXVRAI\",BDD!$V$2:$V$3)","v":0},{"$f":"SUMIF(BDD!$BB$2:$BB$3,\"Banc 120 bisVRAIFAUX\",BDD!$V$2:$V$3)","v":0},{"$f":"SUMIF(BDD!$BB$2:$BB$3,\"Banc 120 bisFAUXVRAI\",BDD!$V$2:$V$3)","v":0}]
["Banc 125",{"$f":"SUMIF(BDD!$BB$2:$BB$3,\"Banc 125VRAIFAUX\",BDD!$V$2:$V$3)","v":0},{"$f":"SUMIF(BDD!$BB$2:$BB$3,\"Banc 125FAUXVRAI\",BDD!$V$2:$V$3)","v":0},{"$f":"SUMIF(BDD!$BB$2:$BB$3,\"Banc 125VRAIFAUX\",BDD!$V$2:$V$3)","v":0},{"$f":"SUMIF(BDD!$BB$2:$BB$3,\"Banc 125FAUXVRAI\",BDD!$V$2:$V$3)","v":0},{"$f":"SUMIF(BDD!$BB$2:$BB$683,\"Banc 125VRAIFAUX\",BDD!$V$2:$V$683)","v":2.2999999999999998},{"$f":"SUMIF(BDD!$BB$2:$BB$683,\"Banc 125FAUXVRAI\",BDD!$V$2:$V$683)","v":0},{"$f":"SUMIF(BDD!$BB$2:$BB$3,\"Banc 125VRAIFAUX\",BDD!$V$2:$V$3)","v":0},{"$f":"SUMIF(BDD!$BB$2:$BB$3,\"Banc 125FAUXVRAI\",BDD!$V$2:$V$3)","v":0},{"$f":"SUMIF(BDD!$BB$2:$BB$3,\"Banc 125VRAIFAUX\",BDD!$V$2:$V$3)","v":0},{"$f":"SUMIF(BDD!$BB$2:$BB$3,\"Banc 125FAUXVRAI\",BDD!$V$2:$V$3)","v":0},{"$f":"SUMIF(BDD!$BB$2:$BB$3,\"Banc 125VRAIFAUX\",BDD!$V$2:$V$3)","v":0},{"$f":"SUMIF(BDD!$BB$2:$BB$3,\"Banc 125FAUXVRAI\",BDD!$V$2:$V$3)","v":0},{"$f":"SUMIF(BDD!$BB$2:$BB$3,\"Banc 125VRAIFAUX\",BDD!$V$2:$V$3)","v":0},{"$f":"SUMIF(BDD!$BB$2:$BB$3,\"Banc 125FAUXVRAI\",BDD!$V$2:$V$3)","v":0},{"$f":"SUMIF(BDD!$BB$2:$BB$3,\"Banc 125VRAIFAUX\",BDD!$V$2:$V$3)","v":0},{"$f":"SUMIF(BDD!$BB$2:$BB$3,\"Banc 125FAUXVRAI\",BDD!$V$2:$V$3)","v":0},{"$f":"SUMIF(BDD!$BB$2:$BB$3,\"Banc 125VRAIFAUX\",BDD!$V$2:$V$3)","v":0},{"$f":"SUMIF(BDD!$BB$2:$BB$3,\"Banc 125FAUXVRAI\",BDD!$V$2:$V$3)","v":0},{"$f":"SUMIF(BDD!$BB$2:$BB$3,\"Banc 125VRAIFAUX\",BDD!$V$2:$V$3)","v":0},{"$f":"SUMIF(BDD!$BB$2:$BB$3,\"Banc 125FAUXVRAI\",BDD!$V$2:$V$3)","v":0},{"$f":"SUMIF(BDD!$BB$2:$BB$3,\"Banc 125VRAIFAUX\",BDD!$V$2:$V$3)","v":0},{"$f":"SUMIF(BDD!$BB$2:$BB$3,\"Banc 125FAUXVRAI\",BDD!$V$2:$V$3)","v":0},{"$f":"SUMIF(BDD!$BB$2:$BB$3,\"Banc 125VRAIFAUX\",BDD!$V$2:$V$3)","v":0},{"$f":"SUMIF(BDD!$BB$2:$BB$3,\"Banc 125FAUXVRAI\",BDD!$V$2:$V$3)","v":0}]
["Banc 128",{"$f":"SUMIF(BDD!$BB$2:$BB$3,\"Banc 128VRAIFAUX\",BDD!$V$2:$V$3)","v":0},{"$f":"SUMIF(BDD!$BB$2:$BB$3,\"Banc 128FAUXVRAI\",BDD!$V$2:$V$3)","v":0},{"$f":"SUMIF(BDD!$BB$2:$BB$3,\"Banc 128VRAIFAUX\",BDD!$V$2:$V$3)","v":0},{"$f":"SUMIF(BDD!$BB$2:$BB$3,\"Banc 128FAUXVRAI\",BDD!$V$2:$V$3)","v":0},{"$f":"SUMIF(BDD!$BB$2:$BB$683,\"Banc 128VRAIFAUX\",BDD!$V$2:$V$683)","v":1},{"$f":"SUMIF(BDD!$BB$2:$BB$683,\"Banc 128FAUXVRAI\",BDD!$V$2:$V$683)","v":0},{"$f":"SUMIF(BDD!$BB$2:$BB$3,\"Banc 128VRAIFAUX\",BDD!$V$2:$V$3)","v":0},{"$f":"SUMIF(BDD!$BB$2:$BB$3,\"Banc 128FAUXVRAI\",BDD!$V$2:$V$3)","v":0},{"$f":"SUMIF(BDD!$BB$2:$BB$3,\"Banc 128VRAIFAUX\",BDD!$V$2:$V$3)","v":0},{"$f":"SUMIF(BDD!$BB$2:$BB$3,\"Banc 128FAUXVRAI\",BDD!$V$2:$V$3)","v":0},{"$f":"SUMIF(BDD!$BB$2:$BB$3,\"Banc 128VRAIFAUX\",BDD!$V$2:$V$3)","v":0},{"$f":"SUMIF(BDD!$BB$2:$BB$3,\"Banc 128FAUXVRAI\",BDD!$V$2:$V$3)","v":0},{"$f":"SUMIF(BDD!$BB$2:$BB$3,\"Banc 128VRAIFAUX\",BDD!$V$2:$V$3)","v":0},{"$f":"SUMIF(BDD!$BB$2:$BB$3,\"Banc 128FAUXVRAI\",BDD!$V$2:$V$3)","v":0},{"$f":"SUMIF(BDD!$BB$2:$BB$3,\"Banc 128VRAIFAUX\",BDD!$V$2:$V$3)","v":0},{"$f":"SUMIF(BDD!$BB$2:$BB$3,\"Banc 128FAUXVRAI\",BDD!$V$2:$V$3)","v":0},{"$f":"SUMIF(BDD!$BB$2:$BB$3,\"Banc 128VRAIFAUX\",BDD!$V$2:$V$3)","v":0},{"$f":"SUMIF(BDD!$BB$2:$BB$3,\"Banc 128FAUXVRAI\",BDD!$V$2:$V$3)","v":0},{"$f":"SUMIF(BDD!$BB$2:$BB$3,\"Banc 128VRAIFAUX\",BDD!$V$2:$V$3)","v":0},{"$f":"SUMIF(BDD!$BB$2:$BB$3,\"Banc 128FAUXVRAI\",BDD!$V$2:$V$3)","v":0},{"$f":"SUMIF(BDD!$BB$2:$BB$3,\"Banc 128VRAIFAUX\",BDD!$V$2:$V$3)","v":0},{"$f":"SUMIF(BDD!$BB$2:$BB$3,\"Banc 128FAUXVRAI\",BDD!$V$2:$V$3)","v":0},{"$f":"SUMIF(BDD!$BB$2:$BB$3,\"Banc 128VRAIFAUX\",BDD!$V$2:$V$3)","v":0},{"$f":"SUMIF(BDD!$BB$2:$BB$3,\"Banc 128FAUXVRAI\",BDD!$V$2:$V$3)","v":0}]
["Banc 131",{"$f":"SUMIF(BDD!$BB$2:$BB$3,\"Banc 131VRAIFAUX\",BDD!$V$2:$V$3)","v":0},{"$f":"SUMIF(BDD!$BB$2:$BB$3,\"Banc 131FAUXVRAI\",BDD!$V$2:$V$3)","v":0},{"$f":"SUMIF(BDD!$BB$2:$BB$3,\"Banc 131VRAIFAUX\",BDD!$V$2:$V$3)","v":0},{"$f":"SUMIF(BDD!$BB$2:$BB$3,\"Banc 131FAUXVRAI\",BDD!$V$2:$V$3)","v":0},{"$f":"SUMIF(BDD!$BB$2:$BB$683,\"Banc 131VRAIFAUX\",BDD!$V$2:$V$683)","v":0},{"$f":"SUMIF(BDD!$BB$2:$BB$683,\"Banc 131FAUXvrai\",BDD!$V$2:$V$683)","v":0},{"$f":"SUMIF(BDD!$BB$2:$BB$3,\"Banc 131VRAIFAUX\",BDD!$V$2:$V$3)","v":0},{"$f":"SUMIF(BDD!$BB$2:$BB$3,\"Banc 131FAUXVRAI\",BDD!$V$2:$V$3)","v":0},{"$f":"SUMIF(BDD!$BB$2:$BB$3,\"Banc 131VRAIFAUX\",BDD!$V$2:$V$3)","v":0},{"$f":"SUMIF(BDD!$BB$2:$BB$3,\"Banc 131FAUXVRAI\",BDD!$V$2:$V$3)","v":0},{"$f":"SUMIF(BDD!$BB$2:$BB$3,\"Banc 131VRAIFAUX\",BDD!$V$2:$V$3)","v":0},{"$f":"SUMIF(BDD!$BB$2:$BB$3,\"Banc 131FAUXVRAI\",BDD!$V$2:$V$3)","v":0},{"$f":"SUMIF(BDD!$BB$2:$BB$3,\"Banc 131VRAIFAUX\",BDD!$V$2:$V$3)","v":0},{"$f":"SUMIF(BDD!$BB$2:$BB$3,\"Banc 131FAUXVRAI\",BDD!$V$2:$V$3)","v":0},{"$f":"SUMIF(BDD!$BB$2:$BB$3,\"Banc 131VRAIFAUX\",BDD!$V$2:$V$3)","v":0},{"$f":"SUMIF(BDD!$BB$2:$BB$3,\"Banc 131FAUXVRAI\",BDD!$V$2:$V$3)","v":0},{"$f":"SUMIF(BDD!$BB$2:$BB$3,\"Banc 131VRAIFAUX\",BDD!$V$2:$V$3)","v":0},{"$f":"SUMIF(BDD!$BB$2:$BB$3,\"Banc 131FAUXVRAI\",BDD!$V$2:$V$3)","v":0},{"$f":"SUMIF(BDD!$BB$2:$BB$3,\"Banc 131VRAIFAUX\",BDD!$V$2:$V$3)","v":0},{"$f":"SUMIF(BDD!$BB$2:$BB$3,\"Banc 131FAUXVRAI\",BDD!$V$2:$V$3)","v":0},{"$f":"SUMIF(BDD!$BB$2:$BB$3,\"Banc 131VRAIFAUX\",BDD!$V$2:$V$3)","v":0},{"$f":"SUMIF(BDD!$BB$2:$BB$3,\"Banc 131FAUXVRAI\",BDD!$V$2:$V$3)","v":0},{"$f":"SUMIF(BDD!$BB$2:$BB$3,\"Banc 131VRAIFAUX\",BDD!$V$2:$V$3)","v":0},{"$f":"SUMIF(BDD!$BB$2:$BB$3,\"Banc 131FAUXVRAI\",BDD!$V$2:$V$3)","v":0}]
[]
[]
[]
[]
[]
[]
[]
[]
[]
[]
[]
[]
[]
[]
[]
[]
[]
[]
[]
[]
[]
[]
[null,"Suivi du correctif et du préventif par banc"]
[null,"Janvier",null,null,null,null,null,"Février",null,null,null,null,null,"Mars",null,null,null,null,null,"Avril",null,null,null,null,null,"Mai",null,null,null,null,null,"Juin",null,null,null,null,null,"Juillet",null,null,null,null,null,"Août",null,null,null,null,null,"Septembre",null,null,null,null,null,"Octobre",null,null,null,null,null,"Novembre",null,null,null,null,null,"Décembre"]
[null,"Corrective",null,null,"Préventive",null,null,"Corrective",null,null,"Préventive",null,null,"Corrective",null,null,"Préventive",null,null,"Corrective",null,null,"Préventive",null,null,"Corrective",null,null,"Préventive",null,null,"Corrective",null,null,"Préventive",null,null,"Corrective",null,null,"Préventive",null,null,"Corrective",null,null,"Préventive",null,null,"Corrective",null,null,"Préventive",null,null,"Corrective",null,null,"Préventive",null,null,"Corrective",null,null,"Préventive",null,null,"Corrective",null,null,"Préventive"]
["Banc zone 10","Electrique","Mécanique","Hydraulique","Electrique","Mécanique","Hydraulique","Electrique","Mécanique","Hydraulique","Electrique","Mécanique","Hydraulique","Electrique","Mécanique","Hydraulique","Electrique","Mécanique","Hydraulique","Electrique","Mécanique","Hydraulique","Electrique","Mécanique","Hydraulique","Electrique","Mécanique","Hydraulique","Electrique","Mécanique","Hydraulique","Electrique","Mécanique","Hydraulique","Electrique","Mécanique","Hydraulique","Electrique","Mécanique","Hydraulique","Electrique","Mécanique","Hydraulique","Electrique","Mécanique","Hydraulique","Electrique","Mécanique","Hydraulique","Electrique","Mécanique","Hydraulique","Electrique","Mécanique","Hydraulique","Electrique","Mécanique","Hydraulique","Electrique","Mécanique","Hydraulique","Electrique","Mécanique","Hydraulique","Electrique","Mécanique","Hydraulique","Electrique","Mécanique","Hydraulique","Electrique","Mécanique","Hydraulique"]
["Banc 007",{"$f":"SUMIF(BDD!$BC$2:$BC$3,\"Banc 131VRAIFAUXVRAIFAUXFAUX\",BDD!$V$2:$V$3)","v":0},{"$f":"SUMIF(BDD!$BC$2:$BC$3,\"Banc 131VRAIFAUXFAUXVRAIFAUX\",BDD!$V$2:$V$3)","v":0},{"$f":"SUMIF(BDD!$BC$2:$BC$3,\"Banc 131VRAIFAUXFAUXFAUXVRAI\",BDD!$V$2:$V$3)","v":0},{"$f":"SUMIF(BDD!$BC$2:$BC$3,\"Banc 131FAUXVRAIVRAIFAUXFAUX\",BDD!$V$2:$V$3)","v":0},{"$f":"SUMIF(BDD!$BC$2:$BC$3,\"Banc 131FAUXVRAIFAUXVRAIFAUX\",BDD!$V$2:$V$3)","v":0},{"$f":"SUMIF(BDD!$BC$2:$BC$3,\"Banc 131FAUXVRAIFAUXFAUXVRAI\",BDD!$V$2:$V$3)","v":0},{"$f":"SUMIF(BDD!$BC$2:$BC$3,\"Banc 131VRAIFAUXVRAIFAUXFAUX\",BDD!$V$2:$V$3)","v":0},{"$f":"SUMIF(BDD!$BC$2:$BC$3,\"Banc 131VRAIFAUXFAUXVRAIFAUX\",BDD!$V$2:$V$3)","v":0},{"$f":"SUMIF(BDD!$BC$2:$BC$3,\"Banc 131VRAIFAUXFAUXFAUXVRAI\",BDD!$V$2:$V$3)","v":0},{"$f":"SUMIF(BDD!$BC$2:$BC$3,\"Banc 131FAUXVRAIVRAIFAUXFAUX\",BDD!$V$2:$V$3)","v":0},{"$f":"SUMIF(BDD!$BC$2:$BC$3,\"Banc 131FAUXVRAIFAUXVRAIFAUX\",BDD!$V$2:$V$3)","v":0},{"$f":"SUMIF(BDD!$BC$2:$BC$3,\"Banc 131FAUXVRAIFAUXFAUXVRAI\",BDD!$V$2:$V$3)","v":0},{"$f":"SUMIF(BDD!$BC$2:$BC$683,\"Banc 131VRAIFAUXVRAIFAUXFAUX\",BDD!$V$2:$V$683)","v":0},{"$f":"SUMIF(BDD!$BC$2:$BC$683,\"Banc 131VRAIFAUXFAUXVRAIFAUX\",BDD!$V$2:$V$683)","v":0},{"$f":"SUMIF(BDD!$BC$2:$BC$683,\"Banc 131VRAIFAUXFAUXFAUXVRAI\",BDD!$V$2:$V$683)","v":0},{"$f":"SUMIF(BDD!$BC$2:$BC$683,\"Banc 131FAUXVRAIVRAIFAUXFAUX\",BDD!$V$2:$V$683)","v":0},{"$f":"SUMIF(BDD!$BC$2:$BC$683,\"Banc 131FAUXVRAIFAUXVRAIFAUX\",BDD!$V$2:$V$683)","v":0},{"$f":"SUMIF(BDD!$BC$2:$BC$683,\"Banc 131FAUXVRAIFAUXFAUXVRAI\",BDD!$V$2:$V$683)","v":0},{"$f":"SUMIF(BDD!$BC$2:$BC$3,\"Banc 131VRAIFAUXVRAIFAUXFAUX\",BDD!$V$2:$V$3)","v":0},{"$f":"SUMIF(BDD!$BC$2:$BC$3,\"Banc 131VRAIFAUXFAUXVRAIFAUX\",BDD!$V$2:$V$3)","v":0},{"$f":"SUMIF(BDD!$BC$2:$BC$3,\"Banc 131VRAIFAUXFAUXFAUXVRAI\",BDD!$V$2:$V$3)","v":0},{"$f":"SUMIF(BDD!$BC$2:$BC$3,\"Banc 131FAUXVRAIVRAIFAUXFAUX\",BDD!$V$2:$V$3)","v":0},{"$f":"SUMIF(BDD!$BC$2:$BC$3,\"Banc 131FAUXVRAIFAUXVRAIFAUX\",BDD!$V$2:$V$3)","v":0},{"$f":"SUMIF(BDD!$BC$2:$BC$3,\"Banc 131FAUXVRAIFAUXFAUXVRAI\",BDD!$V$2:$V$3)","v":0},{"$f":"SUMIF(BDD!$BC$2:$BC$3,\"Banc 131VRAIFAUXVRAIFAUXFAUX\",BDD!$V$2:$V$3)","v":0},{"$f":"SUMIF(BDD!$BC$2:$BC$3,\"Banc 131VRAIFAUXFAUXVRAIFAUX\",BDD!$V$2:$V$3)","v":0},{"$f":"SUMIF(BDD!$BC$2:$BC$3,\"Banc 131VRAIFAUXFAUXFAUXVRAI\",BDD!$V$2:$V$3)","v":0},{"$f":"SUMIF(BDD!$BC$2:$BC$3,\"Banc 131FAUXVRAIVRAIFAUXFAUX\",BDD!$V$2:$V$3)","v":0},{"$f":"SUMIF(BDD!$BC$2:$BC$3,\"Banc 131FAUXVRAIFAUXVRAIFAUX\",BDD!$V$2:$V$3)","v":0},{"$f":"SUMIF(BDD!$BC$2:$BC$3,\"Banc 131FAUXVRAIFAUXFAUXVRAI\",BDD!$V$2:$V$3)","v":0},{"$f":"SUMIF(BDD!$BC$2:$BC$3,\"Banc 131VRAIFAUXVRAIFAUXFAUX\",BDD!$V$2:$V$3)","v":0},{"$f":"SUMIF(BDD!$BC$2:$BC$3,\"Banc 131VRAIFAUXFAUXVRAIFAUX\",BDD!$V$2:$V$3)","v":0},{"$f":"SUMIF(BDD!$BC$2:$BC$3,\"Banc 131VRAIFAUXFAUXFAUXVRAI\",BDD!$V$2:$V$3)","v":0},{"$f":"SUMIF(BDD!$BC$2:$BC$3,\"Banc 131FAUXVRAIVRAIFAUXFAUX\",BDD!$V$2:$V$3)","v":0},{"$f":"SUMIF(BDD!$BC$2:$BC$3,\"Banc 131FAUXVRAIFAUXVRAIFAUX\",BDD!$V$2:$V$3)","v":0},{"$f":"SUMIF(BDD!$BC$2:$BC$3,\"Banc 131FAUXVRAIFAUXFAUXVRAI\",BDD!$V$2:$V$3)","v":0},{"$f":"SUMIF(BDD!$BC$2:$BC$3,\"Banc 131VRAIFAUXVRAIFAUXFAUX\",BDD!$V$2:$V$3)","v":0},{"$f":"SUMIF(BDD!$BC$2:$BC$3,\"Banc 131VRAIFAUXFAUXVRAIFAUX\",BDD!$V$2:$V$3)","v":0},{"$f":"SUMIF(BDD!$BC$2:$BC$3,\"Banc 131VRAIFAUXFAUXFAUXVRAI\",BDD!$V$2:$V$3)","v":0},{"$f":"SUMIF(BDD!$BC$2:$BC$3,\"Banc 131FAUXVRAIVRAIFAUXFAUX\",BDD!$V$2:$V$3)","v":0},{"$f":"SUMIF(BDD!$BC$2:$BC$3,\"Banc 131FAUXVRAIFAUXVRAIFAUX\",BDD!$V$2:$V$3)","v":0},{"$f":"SUMIF(BDD!$BC$2:$BC$3,\"Banc 131FAUXVRAIFAUXFAUXVRAI\",BDD!$V$2:$V$3)","v":0},{"$f":"SUMIF(BDD!$BC$2:$BC$3,\"Banc 131VRAIFAUXVRAIFAUXFAUX\",BDD!$V$2:$V$3)","v":0},{"$f":"SUMIF(BDD!$BC$2:$BC$3,\"Banc 131VRAIFAUXFAUXVRAIFAUX\",BDD!$V$2:$V$3)","v":0},{"$f":"SUMIF(BDD!$BC$2:$BC$3,\"Banc 131VRAIFAUXFAUXFAUXVRAI\",BDD!$V$2:$V$3)","v":0},{"$f":"SUMIF(BDD!$BC$2:$BC$3,\"Banc 131FAUXVRAIVRAIFAUXFAUX\",BDD!$V$2:$V$3)","v":0},{"$f":"SUMIF(BDD!$BC$2:$BC$3,\"Banc 131FAUXVRAIFAUXVRAIFAUX\",BDD!$V$2:$V$3)","v":0},{"$f":"SUMIF(BDD!$BC$2:$BC$3,\"Banc 131FAUXVRAIFAUXFAUXVRAI\",BDD!$V$2:$V$3)","v":0},{"$f":"SUMIF(BDD!$BC$2:$BC$3,\"Banc 131VRAIFAUXVRAIFAUXFAUX\",BDD!$V$2:$V$3)","v":0},{"$f":"SUMIF(BDD!$BC$2:$BC$3,\"Banc 131VRAIFAUXFAUXVRAIFAUX\",BDD!$V$2:$V$3)","v":0},{"$f":"SUMIF(BDD!$BC$2:$BC$3,\"Banc 131VRAIFAUXFAUXFAUXVRAI\",BDD!$V$2:$V$3)","v":0},{"$f":"SUMIF(BDD!$BC$2:$BC$3,\"Banc 131FAUXVRAIVRAIFAUXFAUX\",BDD!$V$2:$V$3)","v":0},{"$f":"SUMIF(BDD!$BC$2:$BC$3,\"Banc 131FAUXVRAIFAUXVRAIFAUX\",BDD!$V$2:$V$3)","v":0},{"$f":"SUMIF(BDD!$BC$2:$BC$3,\"Banc 131FAUXVRAIFAUXFAUXVRAI\",BDD!$V$2:$V$3)","v":0},{"$f":"SUMIF(BDD!$BC$2:$BC$3,\"Banc 131VRAIFAUXVRAIFAUXFAUX\",BDD!$V$2:$V$3)","v":0},{"$f":"SUMIF(BDD!$BC$2:$BC$3,\"Banc 131VRAIFAUXFAUXVRAIFAUX\",BDD!$V$2:$V$3)","v":0},{"$f":"SUMIF(BDD!$BC$2:$BC$3,\"Banc 131VRAIFAUXFAUXFAUXVRAI\",BDD!$V$2:$V$3)","v":0},{"$f":"SUMIF(BDD!$BC$2:$BC$3,\"Banc 131FAUXVRAIVRAIFAUXFAUX\",BDD!$V$2:$V$3)","v":0},{"$f":"SUMIF(BDD!$BC$2:$BC$3,\"Banc 131FAUXVRAIFAUXVRAIFAUX\",BDD!$V$2:$V$3)","v":0},{"$f":"SUMIF(BDD!$BC$2:$BC$3,\"Banc 131FAUXVRAIFAUXFAUXVRAI\",BDD!$V$2:$V$3)","v":0},{"$f":"SUMIF(BDD!$BC$2:$BC$3,\"Banc 131VRAIFAUXVRAIFAUXFAUX\",BDD!$V$2:$V$3)","v":0},{"$f":"SUMIF(BDD!$BC$2:$BC$3,\"Banc 131VRAIFAUXFAUXVRAIFAUX\",BDD!$V$2:$V$3)","v":0},{"$f":"SUMIF(BDD!$BC$2:$BC$3,\"Banc 131VRAIFAUXFAUXFAUXVRAI\",BDD!$V$2:$V$3)","v":0},{"$f":"SUMIF(BDD!$BC$2:$BC$3,\"Banc 131FAUXVRAIVRAIFAUXFAUX\",BDD!$V$2:$V$3)","v":0},{"$f":"SUMIF(BDD!$BC$2:$BC$3,\"Banc 131FAUXVRAIFAUXVRAIFAUX\",BDD!$V$2:$V$3)","v":0},{"$f":"SUMIF(BDD!$BC$2:$BC$3,\"Banc 131FAUXVRAIFAUXFAUXVRAI\",BDD!$V$2:$V$3)","v":0},{"$f":"SUMIF(BDD!$BC$2:$BC$3,\"Banc 131VRAIFAUXVRAIFAUXFAUX\",BDD!$V$2:$V$3)","v":0},{"$f":"SUMIF(BDD!$BC$2:$BC$3,\"Banc 131VRAIFAUXFAUXVRAIFAUX\",BDD!$V$2:$V$3)","v":0},{"$f":"SUMIF(BDD!$BC$2:$BC$3,\"Banc 131VRAIFAUXFAUXFAUXVRAI\",BDD!$V$2:$V$3)","v":0},{"$f":"SUMIF(BDD!$BC$2:$BC$3,\"Banc 131FAUXVRAIVRAIFAUXFAUX\",BDD!$V$2:$V$3)","v":0},{"$f":"SUMIF(BDD!$BC$2:$BC$3,\"Banc 131FAUXVRAIFAUXVRAIFAUX\",BDD!$V$2:$V$3)","v":0},{"$f":"SUMIF(BDD!$BC$2:$BC$3,\"Banc 131FAUXVRAIFAUXFAUXVRAI\",BDD!$V$2:$V$3)","v":0}]
["Banc 008",{"$f":"SUMIF(BDD!$BC$2:$BC$3,\"Banc 008VRAIFAUXVRAIFAUXFAUX\",BDD!$V$2:$V$3)","v":0},{"$f":"SUMIF(BDD!$BC$2:$BC$3,\"Banc 008VRAIFAUXFAUXVRAIFAUX\",BDD!$V$2:$V$3)","v":0},{"$f":"SUMIF(BDD!$BC$2:$BC$3,\"Banc 008VRAIFAUXFAUXFAUXVRAI\",BDD!$V$2:$V$3)","v":0},{"$f":"SUMIF(BDD!$BC$2:$BC$3,\"Banc 008FAUXVRAIVRAIFAUXFAUX\",BDD!$V$2:$V$3)","v":0},{"$f":"SUMIF(BDD!$BC$2:$BC$3,\"Banc 008FAUXVRAIFAUXVRAIFAUX\",BDD!$V$2:$V$3)","v":0},{"$f":"SUMIF(BDD!$BC$2:$BC$3,\"Banc 008FAUXVRAIFAUXFAUXVRAI\",BDD!$V$2:$V$3)","v":0},{"$f":"SUMIF(BDD!$BC$2:$BC$3,\"Banc 008VRAIFAUXVRAIFAUXFAUX\",BDD!$V$2:$V$3)","v":0},{"$f":"SUMIF(BDD!$BC$2:$BC$3,\"Banc 008VRAIFAUXFAUXVRAIFAUX\",BDD!$V$2:$V$3)","v":0},{"$f":"SUMIF(BDD!$BC$2:$BC$3,\"Banc 008VRAIFAUXFAUXFAUXVRAI\",BDD!$V$2:$V$3)","v":0},{"$f":"SUMIF(BDD!$BC$2:$BC$3,\"Banc 008FAUXVRAIVRAIFAUXFAUX\",BDD!$V$2:$V$3)","v":0},{"$f":"SUMIF(BDD!$BC$2:$BC$3,\"Banc 008FAUXVRAIFAUXVRAIFAUX\",BDD!$V$2:$V$3)","v":0},{"$f":"SUMIF(BDD!$BC$2:$BC$3,\"Banc 008FAUXVRAIFAUXFAUXVRAI\",BDD!$V$2:$V$3)","v":0},{"$f":"SUMIF(BDD!$BC$2:$BC$683,\"Banc 008VRAIFAUXVRAIFAUXFAUX\",BDD!$V$2:$V$683)","v":0},{"$f":"SUMIF(BDD!$BC$2:$BC$683,\"Banc 008VRAIFAUXFAUXVRAIFAUX\",BDD!$V$2:$V$683)","v":0},{"$f":"SUMIF(BDD!$BC$2:$BC$683,\"Banc 008VRAIFAUXFAUXFAUXVRAI\",BDD!$V$2:$V$683)","v":0},{"$f":"SUMIF(BDD!$BC$2:$BC$683,\"Banc 008FAUXVRAIVRAIFAUXFAUX\",BDD!$V$2:$V$683)","v":0},{"$f":"SUMIF(BDD!$BC$2:$BC$683,\"Banc 008FAUXVRAIFAUXVRAIFAUX\",BDD!$V$2:$V$683)","v":0},{"$f":"SUMIF(BDD!$BC$2:$BC$683,\"Banc 008FAUXVRAIFAUXFAUXVRAI\",BDD!$V$2:$V$683)","v":0},{"$f":"SUMIF(BDD!$BC$2:$BC$3,\"Banc 008VRAIFAUXVRAIFAUXFAUX\",BDD!$V$2:$V$3)","v":0},{"$f":"SUMIF(BDD!$BC$2:$BC$3,\"Banc 008VRAIFAUXFAUXVRAIFAUX\",BDD!$V$2:$V$3)","v":0},{"$f":"SUMIF(BDD!$BC$2:$BC$3,\"Banc 008VRAIFAUXFAUXFAUXVRAI\",BDD!$V$2:$V$3)","v":0},{"$f":"SUMIF(BDD!$BC$2:$BC$3,\"Banc 008FAUXVRAIVRAIFAUXFAUX\",BDD!$V$2:$V$3)","v":0},{"$f":"SUMIF(BDD!$BC$2:$BC$3,\"Banc 008FAUXVRAIFAUXVRAIFAUX\",BDD!$V$2:$V$3)","v":0},{"$f":"SUMIF(BDD!$BC$2:$BC$3,\"Banc 008FAUXVRAIFAUXFAUXVRAI\",BDD!$V$2:$V$3)","v":0},{"$f":"SUMIF(BDD!$BC$2:$BC$3,\"Banc 008VRAIFAUXVRAIFAUXFAUX\",BDD!$V$2:$V$3)","v":0},{"$f":"SUMIF(BDD!$BC$2:$BC$3,\"Banc 008VRAIFAUXFAUXVRAIFAUX\",BDD!$V$2:$V$3)","v":0},{"$f":"SUMIF(BDD!$BC$2:$BC$3,\"Banc 008VRAIFAUXFAUXFAUXVRAI\",BDD!$V$2:$V$3)","v":0},{"$f":"SUMIF(BDD!$BC$2:$BC$3,\"Banc 008FAUXVRAIVRAIFAUXFAUX\",BDD!$V$2:$V$3)","v":0},{"$f":"SUMIF(BDD!$BC$2:$BC$3,\"Banc 008FAUXVRAIFAUXVRAIFAUX\",BDD!$V$2:$V$3)","v":0},{"$f":"SUMIF(BDD!$BC$2:$BC$3,\"Banc 008FAUXVRAIFAUXFAUXVRAI\",BDD!$V$2:$V$3)","v":0},{"$f":"SUMIF(BDD!$BC$2:$BC$3,\"Banc 008VRAIFAUXVRAIFAUXFAUX\",BDD!$V$2:$V$3)","v":0},{"$f":"SUMIF(BDD!$BC$2:$BC$3,\"Banc 008VRAIFAUXFAUXVRAIFAUX\",BDD!$V$2:$V$3)","v":0},{"$f":"SUMIF(BDD!$BC$2:$BC$3,\"Banc 008VRAIFAUXFAUXFAUXVRAI\",BDD!$V$2:$V$3)","v":0},{"$f":"SUMIF(BDD!$BC$2:$BC$3,\"Banc 008FAUXVRAIVRAIFAUXFAUX\",BDD!$V$2:$V$3)","v":0},{"$f":"SUMIF(BDD!$BC$2:$BC$3,\"Banc 008FAUXVRAIFAUXVRAIFAUX\",BDD!$V$2:$V$3)","v":0},{"$f":"SUMIF(BDD!$BC$2:$BC$3,\"Banc 008FAUXVRAIFAUXFAUXVRAI\",BDD!$V$2:$V$3)","v":0},{"$f":"SUMIF(BDD!$BC$2:$BC$3,\"Banc 008VRAIFAUXVRAIFAUXFAUX\",BDD!$V$2:$V$3)","v":0},{"$f":"SUMIF(BDD!$BC$2:$BC$3,\"Banc 008VRAIFAUXFAUXVRAIFAUX\",BDD!$V$2:$V$3)","v":0},{"$f":"SUMIF(BDD!$BC$2:$BC$3,\"Banc 008VRAIFAUXFAUXFAUXVRAI\",BDD!$V$2:$V$3)","v":0},{"$f":"SUMIF(BDD!$BC$2:$BC$3,\"Banc 008FAUXVRAIVRAIFAUXFAUX\",BDD!$V$2:$V$3)","v":0},{"$f":"SUMIF(BDD!$BC$2:$BC$3,\"Banc 008FAUXVRAIFAUXVRAIFAUX\",BDD!$V$2:$V$3)","v":0},{"$f":"SUMIF(BDD!$BC$2:$BC$3,\"Banc 008FAUXVRAIFAUXFAUXVRAI\",BDD!$V$2:$V$3)","v":0},{"$f":"SUMIF(BDD!$BC$2:$BC$3,\"Banc 008VRAIFAUXVRAIFAUXFAUX\",BDD!$V$2:$V$3)","v":0},{"$f":"SUMIF(BDD!$BC$2:$BC$3,\"Banc 008VRAIFAUXFAUXVRAIFAUX\",BDD!$V$2:$V$3)","v":0},{"$f":"SUMIF(BDD!$BC$2:$BC$3,\"Banc 008VRAIFAUXFAUXFAUXVRAI\",BDD!$V$2:$V$3)","v":0},{"$f":"SUMIF(BDD!$BC$2:$BC$3,\"Banc 008FAUXVRAIVRAIFAUXFAUX\",BDD!$V$2:$V$3)","v":0},{"$f":"SUMIF(BDD!$BC$2:$BC$3,\"Banc 008FAUXVRAIFAUXVRAIFAUX\",BDD!$V$2:$V$3)","v":0},{"$f":"SUMIF(BDD!$BC$2:$BC$3,\"Banc 008FAUXVRAIFAUXFAUXVRAI\",BDD!$V$2:$V$3)","v":0},{"$f":"SUMIF(BDD!$BC$2:$BC$3,\"Banc 008VRAIFAUXVRAIFAUXFAUX\",BDD!$V$2:$V$3)","v":0},{"$f":"SUMIF(BDD!$BC$2:$BC$3,\"Banc 008VRAIFAUXFAUXVRAIFAUX\",BDD!$V$2:$V$3)","v":0},{"$f":"SUMIF(BDD!$BC$2:$BC$3,\"Banc 008VRAIFAUXFAUXFAUXVRAI\",BDD!$V$2:$V$3)","v":0},{"$f":"SUMIF(BDD!$BC$2:$BC$3,\"Banc 008FAUXVRAIVRAIFAUXFAUX\",BDD!$V$2:$V$3)","v":0},{"$f":"SUMIF(BDD!$BC$2:$BC$3,\"Banc 008FAUXVRAIFAUXVRAIFAUX\",BDD!$V$2:$V$3)","v":0},{"$f":"SUMIF(BDD!$BC$2:$BC$3,\"Banc 008FAUXVRAIFAUXFAUXVRAI\",BDD!$V$2:$V$3)","v":0},{"$f":"SUMIF(BDD!$BC$2:$BC$3,\"Banc 008VRAIFAUXVRAIFAUXFAUX\",BDD!$V$2:$V$3)","v":0},{"$f":"SUMIF(BDD!$BC$2:$BC$3,\"Banc 008VRAIFAUXFAUXVRAIFAUX\",BDD!$V$2:$V$3)","v":0},{"$f":"SUMIF(BDD!$BC$2:$BC$3,\"Banc 008VRAIFAUXFAUXFAUXVRAI\",BDD!$V$2:$V$3)","v":0},{"$f":"SUMIF(BDD!$BC$2:$BC$3,\"Banc 008FAUXVRAIVRAIFAUXFAUX\",BDD!$V$2:$V$3)","v":0},{"$f":"SUMIF(BDD!$BC$2:$BC$3,\"Banc 008FAUXVRAIFAUXVRAIFAUX\",BDD!$V$2:$V$3)","v":0},{"$f":"SUMIF(BDD!$BC$2:$BC$3,\"Banc 008FAUXVRAIFAUXFAUXVRAI\",BDD!$V$2:$V$3)","v":0},{"$f":"SUMIF(BDD!$BC$2:$BC$3,\"Banc 008VRAIFAUXVRAIFAUXFAUX\",BDD!$V$2:$V$3)","v":0},{"$f":"SUMIF(BDD!$BC$2:$BC$3,\"Banc 008VRAIFAUXFAUXVRAIFAUX\",BDD!$V$2:$V$3)","v":0},{"$f":"SUMIF(BDD!$BC$2:$BC$3,\"Banc 008VRAIFAUXFAUXFAUXVRAI\",BDD!$V$2:$V$3)","v":0},{"$f":"SUMIF(BDD!$BC$2:$BC$3,\"Banc 008FAUXVRAIVRAIFAUXFAUX\",BDD!$V$2:$V$3)","v":0},{"$f":"SUMIF(BDD!$BC$2:$BC$3,\"Banc 008FAUXVRAIFAUXVRAIFAUX\",BDD!$V$2:$V$3)","v":0},{"$f":"SUMIF(BDD!$BC$2:$BC$3,\"Banc 008FAUXVRAIFAUXFAUXVRAI\",BDD!$V$2:$V$3)","v":0},{"$f":"SUMIF(BDD!$BC$2:$BC$3,\"Banc 008VRAIFAUXVRAIFAUXFAUX\",BDD!$V$2:$V$3)","v":0},{"$f":"SUMIF(BDD!$BC$2:$BC$3,\"Banc 008VRAIFAUXFAUXVRAIFAUX\",BDD!$V$2:$V$3)","v":0},{"$f":"SUMIF(BDD!$BC$2:$BC$3,\"Banc 008VRAIFAUXFAUXFAUXVRAI\",BDD!$V$2:$V$3)","v":0},{"$f":"SUMIF(BDD!$BC$2:$BC$3,\"Banc 008FAUXVRAIVRAIFAUXFAUX\",BDD!$V$2:$V$3)","v":0},{"$f":"SUMIF(BDD!$BC$2:$BC$3,\"Banc 008FAUXVRAIFAUXVRAIFAUX\",BDD!$V$2:$V$3)","v":0},{"$f":"SUMIF(BDD!$BC$2:$BC$3,\"Banc 008FAUXVRAIFAUXFAUXVRAI\",BDD!$V$2:$V$3)","v":0}]
["Banc 113",{"$f":"SUMIF(BDD!$BC$2:$BC$3,\"Banc 113VRAIFAUXVRAIFAUXFAUX\",BDD!$V$2:$V$3)","v":0},{"$f":"SUMIF(BDD!$BC$2:$BC$3,\"Banc 113VRAIFAUXFAUXVRAIFAUX\",BDD!$V$2:$V$3)","v":0},{"$f":"SUMIF(BDD!$BC$2:$BC$3,\"Banc 113VRAIFAUXFAUXFAUXVRAI\",BDD!$V$2:$V$3)","v":0},{"$f":"SUMIF(BDD!$BC$2:$BC$3,\"Banc 113FAUXVRAIVRAIFAUXFAUX\",BDD!$V$2:$V$3)","v":0},{"$f":"SUMIF(BDD!$BC$2:$BC$3,\"Banc 113FAUXVRAIFAUXVRAIFAUX\",BDD!$V$2:$V$3)","v":0},{"$f":"SUMIF(BDD!$BC$2:$BC$3,\"Banc 113FAUXVRAIFAUXFAUXVRAI\",BDD!$V$2:$V$3)","v":0},{"$f":"SUMIF(BDD!$BC$2:$BC$3,\"Banc 113VRAIFAUXVRAIFAUXFAUX\",BDD!$V$2:$V$3)","v":0},{"$f":"SUMIF(BDD!$BC$2:$BC$3,\"Banc 113VRAIFAUXFAUXVRAIFAUX\",BDD!$V$2:$V$3)","v":0},{"$f":"SUMIF(BDD!$BC$2:$BC$3,\"Banc 113VRAIFAUXFAUXFAUXVRAI\",BDD!$V$2:$V$3)","v":0},{"$f":"SUMIF(BDD!$BC$2:$BC$3,\"Banc 113FAUXVRAIVRAIFAUXFAUX\",BDD!$V$2:$V$3)","v":0},{"$f":"SUMIF(BDD!$BC$2:$BC$3,\"Banc 113FAUXVRAIFAUXVRAIFAUX\",BDD!$V$2:$V$3)","v":0},{"$f":"SUMIF(BDD!$BC$2:$BC$3,\"Banc 113FAUXVRAIFAUXFAUXVRAI\",BDD!$V$2:$V$3)","v":0},{"$f":"SUMIF(BDD!$BC$2:$BC$683,\"Banc 113VRAIFAUXVRAIFAUXFAUX\",BDD!$V$2:$V$683)","v":0},{"$f":"SUMIF(BDD!$BC$2:$BC$683,\"Banc 113VRAIFAUXFAUXVRAIFAUX\",BDD!$V$2:$V$683)","v":0},{"$f":"SUMIF(BDD!$BC$2:$BC$683,\"Banc 113VRAIFAUXFAUXFAUXVRAI\",BDD!$V$2:$V$683)","v":0},{"$f":"SUMIF(BDD!$BC$2:$BC$683,\"Banc 113FAUXVRAIVRAIFAUXFAUX\",BDD!$V$2:$V$683)","v":0},{"$f":"SUMIF(BDD!$BC$2:$BC$683,\"Banc 113FAUXVRAIFAUXVRAIFAUX\",BDD!$V$2:$V$683)","v":0},{"$f":"SUMIF(BDD!$BC$2:$BC$683,\"Banc 113FAUXVRAIFAUXFAUXVRAI\",BDD!$V$2:$V$683)","v":0},{"$f":"SUMIF(BDD!$BC$2:$BC$3,\"Banc 113VRAIFAUXVRAIFAUXFAUX\",BDD!$V$2:$V$3)","v":0},{"$f":"SUMIF(BDD!$BC$2:$BC$3,\"Banc 113VRAIFAUXFAUXVRAIFAUX\",BDD!$V$2:$V$3)","v":0},{"$f":"SUMIF(BDD!$BC$2:$BC$3,\"Banc 113VRAIFAUXFAUXFAUXVRAI\",BDD!$V$2:$V$3)","v":0},{"$f":"SUMIF(BDD!$BC$2:$BC$3,\"Banc 113FAUXVRAIVRAIFAUXFAUX\",BDD!$V$2:$V$3)","v":0},{"$f":"SUMIF(BDD!$BC$2:$BC$3,\"Banc 113FAUXVRAIFAUXVRAIFAUX\",BDD!$V$2:$V$3)","v":0},{"$f":"SUMIF(BDD!$BC$2:$BC$3,\"Banc 113FAUXVRAIFAUXFAUXVRAI\",BDD!$V$2:$V$3)","v":0},{"$f":"SUMIF(BDD!$BC$2:$BC$3,\"Banc 113VRAIFAUXVRAIFAUXFAUX\",BDD!$V$2:$V$3)","v":0},{"$f":"SUMIF(BDD!$BC$2:$BC$3,\"Banc 113VRAIFAUXFAUXVRAIFAUX\",BDD!$V$2:$V$3)","v":0},{"$f":"SUMIF(BDD!$BC$2:$BC$3,\"Banc 113VRAIFAUXFAUXFAUXVRAI\",BDD!$V$2:$V$3)","v":0},{"$f":"SUMIF(BDD!$BC$2:$BC$3,\"Banc 113FAUXVRAIVRAIFAUXFAUX\",BDD!$V$2:$V$3)","v":0},{"$f":"SUMIF(BDD!$BC$2:$BC$3,\"Banc 113FAUXVRAIFAUXVRAIFAUX\",BDD!$V$2:$V$3)","v":0},{"$f":"SUMIF(BDD!$BC$2:$BC$3,\"Banc 113FAUXVRAIFAUXFAUXVRAI\",BDD!$V$2:$V$3)","v":0},{"$f":"SUMIF(BDD!$BC$2:$BC$3,\"Banc 113VRAIFAUXVRAIFAUXFAUX\",BDD!$V$2:$V$3)","v":0},{"$f":"SUMIF(BDD!$BC$2:$BC$3,\"Banc 113VRAIFAUXFAUXVRAIFAUX\",BDD!$V$2:$V$3)","v":0},{"$f":"SUMIF(BDD!$BC$2:$BC$3,\"Banc 113VRAIFAUXFAUXFAUXVRAI\",BDD!$V$2:$V$3)","v":0},{"$f":"SUMIF(BDD!$BC$2:$BC$3,\"Banc 113FAUXVRAIVRAIFAUXFAUX\",BDD!$V$2:$V$3)","v":0},{"$f":"SUMIF(BDD!$BC$2:$BC$3,\"Banc 113FAUXVRAIFAUXVRAIFAUX\",BDD!$V$2:$V$3)","v":0},{"$f":"SUMIF(BDD!$BC$2:$BC$3,\"Banc 113FAUXVRAIFAUXFAUXVRAI\",BDD!$V$2:$V$3)","v":0},{"$f":"SUMIF(BDD!$BC$2:$BC$3,\"Banc 113VRAIFAUXVRAIFAUXFAUX\",BDD!$V$2:$V$3)","v":0},{"$f":"SUMIF(BDD!$BC$2:$BC$3,\"Banc 113VRAIFAUXFAUXVRAIFAUX\",BDD!$V$2:$V$3)","v":0},{"$f":"SUMIF(BDD!$BC$2:$BC$3,\"Banc 113VRAIFAUXFAUXFAUXVRAI\",BDD!$V$2:$V$3)","v":0},{"$f":"SUMIF(BDD!$BC$2:$BC$3,\"Banc 113FAUXVRAIVRAIFAUXFAUX\",BDD!$V$2:$V$3)","v":0},{"$f":"SUMIF(BDD!$BC$2:$BC$3,\"Banc 113FAUXVRAIFAUXVRAIFAUX\",BDD!$V$2:$V$3)","v":0},{"$f":"SUMIF(BDD!$BC$2:$BC$3,\"Banc 113FAUXVRAIFAUXFAUXVRAI\",BDD!$V$2:$V$3)","v":0},{"$f":"SUMIF(BDD!$BC$2:$BC$3,\"Banc 113VRAIFAUXVRAIFAUXFAUX\",BDD!$V$2:$V$3)","v":0},{"$f":"SUMIF(BDD!$BC$2:$BC$3,\"Banc 113VRAIFAUXFAUXVRAIFAUX\",BDD!$V$2:$V$3)","v":0},{"$f":"SUMIF(BDD!$BC$2:$BC$3,\"Banc 113VRAIFAUXFAUXFAUXVRAI\",BDD!$V$2:$V$3)","v":0},{"$f":"SUMIF(BDD!$BC$2:$BC$3,\"Banc 113FAUXVRAIVRAIFAUXFAUX\",BDD!$V$2:$V$3)","v":0},{"$f":"SUMIF(BDD!$BC$2:$BC$3,\"Banc 113FAUXVRAIFAUXVRAIFAUX\",BDD!$V$2:$V$3)","v":0},{"$f":"SUMIF(BDD!$BC$2:$BC$3,\"Banc 113FAUXVRAIFAUXFAUXVRAI\",BDD!$V$2:$V$3)","v":0},{"$f":"SUMIF(BDD!$BC$2:$BC$3,\"Banc 113VRAIFAUXVRAIFAUXFAUX\",BDD!$V$2:$V$3)","v":0},{"$f":"SUMIF(BDD!$BC$2:$BC$3,\"Banc 113VRAIFAUXFAUXVRAIFAUX\",BDD!$V$2:$V$3)","v":0},{"$f":"SUMIF(BDD!$BC$2:$BC$3,\"Banc 113VRAIFAUXFAUXFAUXVRAI\",BDD!$V$2:$V$3)","v":0},{"$f":"SUMIF(BDD!$BC$2:$BC$3,\"Banc 113FAUXVRAIVRAIFAUXFAUX\",BDD!$V$2:$V$3)","v":0},{"$f":"SUMIF(BDD!$BC$2:$BC$3,\"Banc 113FAUXVRAIFAUXVRAIFAUX\",BDD!$V$2:$V$3)","v":0},{"$f":"SUMIF(BDD!$BC$2:$BC$3,\"Banc 113FAUXVRAIFAUXFAUXVRAI\",BDD!$V$2:$V$3)","v":0},{"$f":"SUMIF(BDD!$BC$2:$BC$3,\"Banc 113VRAIFAUXVRAIFAUXFAUX\",BDD!$V$2:$V$3)","v":0},{"$f":"SUMIF(BDD!$BC$2:$BC$3,\"Banc 113VRAIFAUXFAUXVRAIFAUX\",BDD!$V$2:$V$3)","v":0},{"$f":"SUMIF(BDD!$BC$2:$BC$3,\"Banc 113VRAIFAUXFAUXFAUXVRAI\",BDD!$V$2:$V$3)","v":0},{"$f":"SUMIF(BDD!$BC$2:$BC$3,\"Banc 113FAUXVRAIVRAIFAUXFAUX\",BDD!$V$2:$V$3)","v":0},{"$f":"SUMIF(BDD!$BC$2:$BC$3,\"Banc 113FAUXVRAIFAUXVRAIFAUX\",BDD!$V$2:$V$3)","v":0},{"$f":"SUMIF(BDD!$BC$2:$BC$3,\"Banc 113FAUXVRAIFAUXFAUXVRAI\",BDD!$V$2:$V$3)","v":0},{"$f":"SUMIF(BDD!$BC$2:$BC$3,\"Banc 113VRAIFAUXVRAIFAUXFAUX\",BDD!$V$2:$V$3)","v":0},{"$f":"SUMIF(BDD!$BC$2:$BC$3,\"Banc 113VRAIFAUXFAUXVRAIFAUX\",BDD!$V$2:$V$3)","v":0},{"$f":"SUMIF(BDD!$BC$2:$BC$3,\"Banc 113VRAIFAUXFAUXFAUXVRAI\",BDD!$V$2:$V$3)","v":0},{"$f":"SUMIF(BDD!$BC$2:$BC$3,\"Banc 113FAUXVRAIVRAIFAUXFAUX\",BDD!$V$2:$V$3)","v":0},{"$f":"SUMIF(BDD!$BC$2:$BC$3,\"Banc 113FAUXVRAIFAUXVRAIFAUX\",BDD!$V$2:$V$3)","v":0},{"$f":"SUMIF(BDD!$BC$2:$BC$3,\"Banc 113FAUXVRAIFAUXFAUXVRAI\",BDD!$V$2:$V$3)","v":0},{"$f":"SUMIF(BDD!$BC$2:$BC$3,\"Banc 113VRAIFAUXVRAIFAUXFAUX\",BDD!$V$2:$V$3)","v":0},{"$f":"SUMIF(BDD!$BC$2:$BC$3,\"Banc 113VRAIFAUXFAUXVRAIFAUX\",BDD!$V$2:$V$3)","v":0},{"$f":"SUMIF(BDD!$BC$2:$BC$3,\"Banc 113VRAIFAUXFAUXFAUXVRAI\",BDD!$V$2:$V$3)","v":0},{"$f":"SUMIF(BDD!$BC$2:$BC$3,\"Banc 113FAUXVRAIVRAIFAUXFAUX\",BDD!$V$2:$V$3)","v":0},{"$f":"SUMIF(BDD!$BC$2:$BC$3,\"Banc 113FAUXVRAIFAUXVRAIFAUX\",BDD!$V$2:$V$3)","v":0},{"$f":"SUMIF(BDD!$BC$2:$BC$3,\"Banc 113FAUXVRAIFAUXFAUXVRAI\",BDD!$V$2:$V$3)","v":0}]
["Banc 115",{"$f":"SUMIF(BDD!$BC$2:$BC$3,\"Banc 115VRAIFAUXVRAIFAUXFAUX\",BDD!$V$2:$V$3)","v":0},{"$f":"SUMIF(BDD!$BC$2:$BC$3,\"Banc 115VRAIFAUXFAUXVRAIFAUX\",BDD!$V$2:$V$3)","v":0},{"$f":"SUMIF(BDD!$BC$2:$BC$3,\"Banc 115VRAIFAUXFAUXFAUXVRAI\",BDD!$V$2:$V$3)","v":0},{"$f":"SUMIF(BDD!$BC$2:$BC$3,\"Banc 115FAUXVRAIVRAIFAUXFAUX\",BDD!$V$2:$V$3)","v":0},{"$f":"SUMIF(BDD!$BC$2:$BC$3,\"Banc 115FAUXVRAIFAUXVRAIFAUX\",BDD!$V$2:$V$3)","v":0},{"$f":"SUMIF(BDD!$BC$2:$BC$3,\"Banc 115FAUXVRAIFAUXFAUXVRAI\",BDD!$V$2:$V$3)","v":0},{"$f":"SUMIF(BDD!$BC$2:$BC$3,\"Banc 115VRAIFAUXVRAIFAUXFAUX\",BDD!$V$2:$V$3)","v":0},{"$f":"SUMIF(BDD!$BC$2:$BC$3,\"Banc 115VRAIFAUXFAUXVRAIFAUX\",BDD!$V$2:$V$3)","v":0},{"$f":"SUMIF(BDD!$BC$2:$BC$3,\"Banc 115VRAIFAUXFAUXFAUXVRAI\",BDD!$V$2:$V$3)","v":0},{"$f":"SUMIF(BDD!$BC$2:$BC$3,\"Banc 115FAUXVRAIVRAIFAUXFAUX\",BDD!$V$2:$V$3)","v":0},{"$f":"SUMIF(BDD!$BC$2:$BC$3,\"Banc 115FAUXVRAIFAUXVRAIFAUX\",BDD!$V$2:$V$3)","v":0},{"$f":"SUMIF(BDD!$BC$2:$BC$3,\"Banc 115FAUXVRAIFAUXFAUXVRAI\",BDD!$V$2:$V$3)","v":0},{"$f":"SUMIF(BDD!$BC$2:$BC$683,\"Banc 115VRAIFAUXVRAIFAUXFAUX\",BDD!$V$2:$V$683)","v":0},{"$f":"SUMIF(BDD!$BC$2:$BC$683,\"Banc 115VRAIFAUXFAUXVRAIFAUX\",BDD!$V$2:$V$683)","v":0},{"$f":"SUMIF(BDD!$BC$2:$BC$683,\"Banc 115VRAIFAUXFAUXFAUXVRAI\",BDD!$V$2:$V$683)","v":0},{"$f":"SUMIF(BDD!$BC$2:$BC$683,\"Banc 115FAUXVRAIVRAIFAUXFAUX\",BDD!$V$2:$V$683)","v":0},{"$f":"SUMIF(BDD!$BC$2:$BC$683,\"Banc 115FAUXVRAIFAUXVRAIFAUX\",BDD!$V$2:$V$683)","v":0},{"$f":"SUMIF(BDD!$BC$2:$BC$683,\"Banc 115FAUXVRAIFAUXFAUXVRAI\",BDD!$V$2:$V$683)","v":0},{"$f":"SUMIF(BDD!$BC$2:$BC$3,\"Banc 115VRAIFAUXVRAIFAUXFAUX\",BDD!$V$2:$V$3)","v":0},{"$f":"SUMIF(BDD!$BC$2:$BC$3,\"Banc 115VRAIFAUXFAUXVRAIFAUX\",BDD!$V$2:$V$3)","v":0},{"$f":"SUMIF(BDD!$BC$2:$BC$3,\"Banc 115VRAIFAUXFAUXFAUXVRAI\",BDD!$V$2:$V$3)","v":0},{"$f":"SUMIF(BDD!$BC$2:$BC$3,\"Banc 115FAUXVRAIVRAIFAUXFAUX\",BDD!$V$2:$V$3)","v":0},{"$f":"SUMIF(BDD!$BC$2:$BC$3,\"Banc 115FAUXVRAIFAUXVRAIFAUX\",BDD!$V$2:$V$3)","v":0},{"$f":"SUMIF(BDD!$BC$2:$BC$3,\"Banc 115FAUXVRAIFAUXFAUXVRAI\",BDD!$V$2:$V$3)","v":0},{"$f":"SUMIF(BDD!$BC$2:$BC$3,\"Banc 115VRAIFAUXVRAIFAUXFAUX\",BDD!$V$2:$V$3)","v":0},{"$f":"SUMIF(BDD!$BC$2:$BC$3,\"Banc 115VRAIFAUXFAUXVRAIFAUX\",BDD!$V$2:$V$3)","v":0},{"$f":"SUMIF(BDD!$BC$2:$BC$3,\"Banc 115VRAIFAUXFAUXFAUXVRAI\",BDD!$V$2:$V$3)","v":0},{"$f":"SUMIF(BDD!$BC$2:$BC$3,\"Banc 115FAUXVRAIVRAIFAUXFAUX\",BDD!$V$2:$V$3)","v":0},{"$f":"SUMIF(BDD!$BC$2:$BC$3,\"Banc 115FAUXVRAIFAUXVRAIFAUX\",BDD!$V$2:$V$3)","v":0},{"$f":"SUMIF(BDD!$BC$2:$BC$3,\"Banc 115FAUXVRAIFAUXFAUXVRAI\",BDD!$V$2:$V$3)","v":0},{"$f":"SUMIF(BDD!$BC$2:$BC$3,\"Banc 115VRAIFAUXVRAIFAUXFAUX\",BDD!$V$2:$V$3)","v":0},{"$f":"SUMIF(BDD!$BC$2:$BC$3,\"Banc 115VRAIFAUXFAUXVRAIFAUX\",BDD!$V$2:$V$3)","v":0},{"$f":"SUMIF(BDD!$BC$2:$BC$3,\"Banc 115VRAIFAUXFAUXFAUXVRAI\",BDD!$V$2:$V$3)","v":0},{"$f":"SUMIF(BDD!$BC$2:$BC$3,\"Banc 115FAUXVRAIVRAIFAUXFAUX\",BDD!$V$2:$V$3)","v":0},{"$f":"SUMIF(BDD!$BC$2:$BC$3,\"Banc 115FAUXVRAIFAUXVRAIFAUX\",BDD!$V$2:$V$3)","v":0},{"$f":"SUMIF(BDD!$BC$2:$BC$3,\"Banc 115FAUXVRAIFAUXFAUXVRAI\",BDD!$V$2:$V$3)","v":0},{"$f":"SUMIF(BDD!$BC$2:$BC$3,\"Banc 115VRAIFAUXVRAIFAUXFAUX\",BDD!$V$2:$V$3)","v":0},{"$f":"SUMIF(BDD!$BC$2:$BC$3,\"Banc 115VRAIFAUXFAUXVRAIFAUX\",BDD!$V$2:$V$3)","v":0},{"$f":"SUMIF(BDD!$BC$2:$BC$3,\"Banc 115VRAIFAUXFAUXFAUXVRAI\",BDD!$V$2:$V$3)","v":0},{"$f":"SUMIF(BDD!$BC$2:$BC$3,\"Banc 115FAUXVRAIVRAIFAUXFAUX\",BDD!$V$2:$V$3)","v":0},{"$f":"SUMIF(BDD!$BC$2:$BC$3,\"Banc 115FAUXVRAIFAUXVRAIFAUX\",BDD!$V$2:$V$3)","v":0},{"$f":"SUMIF(BDD!$BC$2:$BC$3,\"Banc 115FAUXVRAIFAUXFAUXVRAI\",BDD!$V$2:$V$3)","v":0},{"$f":"SUMIF(BDD!$BC$2:$BC$3,\"Banc 115VRAIFAUXVRAIFAUXFAUX\",BDD!$V$2:$V$3)","v":0},{"$f":"SUMIF(BDD!$BC$2:$BC$3,\"Banc 115VRAIFAUXFAUXVRAIFAUX\",BDD!$V$2:$V$3)","v":0},{"$f":"SUMIF(BDD!$BC$2:$BC$3,\"Banc 115VRAIFAUXFAUXFAUXVRAI\",BDD!$V$2:$V$3)","v":0},{"$f":"SUMIF(BDD!$BC$2:$BC$3,\"Banc 115FAUXVRAIVRAIFAUXFAUX\",BDD!$V$2:$V$3)","v":0},{"$f":"SUMIF(BDD!$BC$2:$BC$3,\"Banc 115FAUXVRAIFAUXVRAIFAUX\",BDD!$V$2:$V$3)","v":0},{"$f":"SUMIF(BDD!$BC$2:$BC$3,\"Banc 115FAUXVRAIFAUXFAUXVRAI\",BDD!$V$2:$V$3)","v":0},{"$f":"SUMIF(BDD!$BC$2:$BC$3,\"Banc 115VRAIFAUXVRAIFAUXFAUX\",BDD!$V$2:$V$3)","v":0},{"$f":"SUMIF(BDD!$BC$2:$BC$3,\"Banc 115VRAIFAUXFAUXVRAIFAUX\",BDD!$V$2:$V$3)","v":0},{"$f":"SUMIF(BDD!$BC$2:$BC$3,\"Banc 115VRAIFAUXFAUXFAUXVRAI\",BDD!$V$2:$V$3)","v":0},{"$f":"SUMIF(BDD!$BC$2:$BC$3,\"Banc 115FAUXVRAIVRAIFAUXFAUX\",BDD!$V$2:$V$3)","v":0},{"$f":"SUMIF(BDD!$BC$2:$BC$3,\"Banc 115FAUXVRAIFAUXVRAIFAUX\",BDD!$V$2:$V$3)","v":0},{"$f":"SUMIF(BDD!$BC$2:$BC$3,\"Banc 115FAUXVRAIFAUXFAUXVRAI\",BDD!$V$2:$V$3)","v":0},{"$f":"SUMIF(BDD!$BC$2:$BC$3,\"Banc 115VRAIFAUXVRAIFAUXFAUX\",BDD!$V$2:$V$3)","v":0},{"$f":"SUMIF(BDD!$BC$2:$BC$3,\"Banc 115VRAIFAUXFAUXVRAIFAUX\",BDD!$V$2:$V$3)","v":0},{"$f":"SUMIF(BDD!$BC$2:$BC$3,\"Banc 115VRAIFAUXFAUXFAUXVRAI\",BDD!$V$2:$V$3)","v":0},{"$f":"SUMIF(BDD!$BC$2:$BC$3,\"Banc 115FAUXVRAIVRAIFAUXFAUX\",BDD!$V$2:$V$3)","v":0},{"$f":"SUMIF(BDD!$BC$2:$BC$3,\"Banc 115FAUXVRAIFAUXVRAIFAUX\",BDD!$V$2:$V$3)","v":0},{"$f":"SUMIF(BDD!$BC$2:$BC$3,\"Banc 115FAUXVRAIFAUXFAUXVRAI\",BDD!$V$2:$V$3)","v":0},{"$f":"SUMIF(BDD!$BC$2:$BC$3,\"Banc 115VRAIFAUXVRAIFAUXFAUX\",BDD!$V$2:$V$3)","v":0},{"$f":"SUMIF(BDD!$BC$2:$BC$3,\"Banc 115VRAIFAUXFAUXVRAIFAUX\",BDD!$V$2:$V$3)","v":0},{"$f":"SUMIF(BDD!$BC$2:$BC$3,\"Banc 115VRAIFAUXFAUXFAUXVRAI\",BDD!$V$2:$V$3)","v":0},{"$f":"SUMIF(BDD!$BC$2:$BC$3,\"Banc 115FAUXVRAIVRAIFAUXFAUX\",BDD!$V$2:$V$3)","v":0},{"$f":"SUMIF(BDD!$BC$2:$BC$3,\"Banc 115FAUXVRAIFAUXVRAIFAUX\",BDD!$V$2:$V$3)","v":0},{"$f":"SUMIF(BDD!$BC$2:$BC$3,\"Banc 115FAUXVRAIFAUXFAUXVRAI\",BDD!$V$2:$V$3)","v":0},{"$f":"SUMIF(BDD!$BC$2:$BC$3,\"Banc 115VRAIFAUXVRAIFAUXFAUX\",BDD!$V$2:$V$3)","v":0},{"$f":"SUMIF(BDD!$BC$2:$BC$3,\"Banc 115VRAIFAUXFAUXVRAIFAUX\",BDD!$V$2:$V$3)","v":0},{"$f":"SUMIF(BDD!$BC$2:$BC$3,\"Banc 115VRAIFAUXFAUXFAUXVRAI\",BDD!$V$2:$V$3)","v":0},{"$f":"SUMIF(BDD!$BC$2:$BC$3,\"Banc 115FAUXVRAIVRAIFAUXFAUX\",BDD!$V$2:$V$3)","v":0},{"$f":"SUMIF(BDD!$BC$2:$BC$3,\"Banc 115FAUXVRAIFAUXVRAIFAUX\",BDD!$V$2:$V$3)","v":0},{"$f":"SUMIF(BDD!$BC$2:$BC$3,\"Banc 115FAUXVRAIFAUXFAUXVRAI\",BDD!$V$2:$V$3)","v":0}]
["Banc 120",{"$f":"SUMIF(BDD!$BC$2:$BC$3,\"Banc 120VRAIFAUXVRAIFAUXFAUX\",BDD!$V$2:$V$3)","v":0},{"$f":"SUMIF(BDD!$BC$2:$BC$3,\"Banc 120VRAIFAUXFAUXVRAIFAUX\",BDD!$V$2:$V$3)","v":0},{"$f":"SUMIF(BDD!$BC$2:$BC$3,\"Banc 120VRAIFAUXFAUXFAUXVRAI\",BDD!$V$2:$V$3)","v":0},{"$f":"SUMIF(BDD!$BC$2:$BC$3,\"Banc 120FAUXVRAIVRAIFAUXFAUX\",BDD!$V$2:$V$3)","v":0},{"$f":"SUMIF(BDD!$BC$2:$BC$3,\"Banc 120FAUXVRAIFAUXVRAIFAUX\",BDD!$V$2:$V$3)","v":0},{"$f":"SUMIF(BDD!$BC$2:$BC$3,\"Banc 120FAUXVRAIFAUXFAUXVRAI\",BDD!$V$2:$V$3)","v":0},{"$f":"SUMIF(BDD!$BC$2:$BC$3,\"Banc 120VRAIFAUXVRAIFAUXFAUX\",BDD!$V$2:$V$3)","v":0},{"$f":"SUMIF(BDD!$BC$2:$BC$3,\"Banc 120VRAIFAUXFAUXVRAIFAUX\",BDD!$V$2:$V$3)","v":0},{"$f":"SUMIF(BDD!$BC$2:$BC$3,\"Banc 120VRAIFAUXFAUXFAUXVRAI\",BDD!$V$2:$V$3)","v":0},{"$f":"SUMIF(BDD!$BC$2:$BC$3,\"Banc 120FAUXVRAIVRAIFAUXFAUX\",BDD!$V$2:$V$3)","v":0},{"$f":"SUMIF(BDD!$BC$2:$BC$3,\"Banc 120FAUXVRAIFAUXVRAIFAUX\",BDD!$V$2:$V$3)","v":0},{"$f":"SUMIF(BDD!$BC$2:$BC$3,\"Banc 120FAUXVRAIFAUXFAUXVRAI\",BDD!$V$2:$V$3)","v":0},{"$f":"SUMIF(BDD!$BC$2:$BC$683,\"Banc 120VRAIFAUXVRAIFAUXFAUX\",BDD!$V$2:$V$683)","v":0},{"$f":"SUMIF(BDD!$BC$2:$BC$683,\"Banc 120VRAIFAUXFAUXVRAIFAUX\",BDD!$V$2:$V$683)","v":0},{"$f":"SUMIF(BDD!$BC$2:$BC$683,\"Banc 120VRAIFAUXFAUXFAUXVRAI\",BDD!$V$2:$V$683)","v":0},{"$f":"SUMIF(BDD!$BC$2:$BC$683,\"Banc 120FAUXVRAIVRAIFAUXFAUX\",BDD!$V$2:$V$683)","v":0},{"$f":"SUMIF(BDD!$BC$2:$BC$683,\"Banc 120FAUXVRAIFAUXVRAIFAUX\",BDD!$V$2:$V$683)","v":0},{"$f":"SUMIF(BDD!$BC$2:$BC$683,\"Banc 120FAUXVRAIFAUXFAUXVRAI\",BDD!$V$2:$V$683)","v":0},{"$f":"SUMIF(BDD!$BC$2:$BC$3,\"Banc 120VRAIFAUXVRAIFAUXFAUX\",BDD!$V$2:$V$3)","v":0},{"$f":"SUMIF(BDD!$BC$2:$BC$3,\"Banc 120VRAIFAUXFAUXVRAIFAUX\",BDD!$V$2:$V$3)","v":0},{"$f":"SUMIF(BDD!$BC$2:$BC$3,\"Banc 120VRAIFAUXFAUXFAUXVRAI\",BDD!$V$2:$V$3)","v":0},{"$f":"SUMIF(BDD!$BC$2:$BC$3,\"Banc 120FAUXVRAIVRAIFAUXFAUX\",BDD!$V$2:$V$3)","v":0},{"$f":"SUMIF(BDD!$BC$2:$BC$3,\"Banc 120FAUXVRAIFAUXVRAIFAUX\",BDD!$V$2:$V$3)","v":0},{"$f":"SUMIF(BDD!$BC$2:$BC$3,\"Banc 120FAUXVRAIFAUXFAUXVRAI\",BDD!$V$2:$V$3)","v":0},{"$f":"SUMIF(BDD!$BC$2:$BC$3,\"Banc 120VRAIFAUXVRAIFAUXFAUX\",BDD!$V$2:$V$3)","v":0},{"$f":"SUMIF(BDD!$BC$2:$BC$3,\"Banc 120VRAIFAUXFAUXVRAIFAUX\",BDD!$V$2:$V$3)","v":0},{"$f":"SUMIF(BDD!$BC$2:$BC$3,\"Banc 120VRAIFAUXFAUXFAUXVRAI\",BDD!$V$2:$V$3)","v":0},{"$f":"SUMIF(BDD!$BC$2:$BC$3,\"Banc 120FAUXVRAIVRAIFAUXFAUX\",BDD!$V$2:$V$3)","v":0},{"$f":"SUMIF(BDD!$BC$2:$BC$3,\"Banc 120FAUXVRAIFAUXVRAIFAUX\",BDD!$V$2:$V$3)","v":0},{"$f":"SUMIF(BDD!$BC$2:$BC$3,\"Banc 120FAUXVRAIFAUXFAUXVRAI\",BDD!$V$2:$V$3)","v":0},{"$f":"SUMIF(BDD!$BC$2:$BC$3,\"Banc 120VRAIFAUXVRAIFAUXFAUX\",BDD!$V$2:$V$3)","v":0},{"$f":"SUMIF(BDD!$BC$2:$BC$3,\"Banc 120VRAIFAUXFAUXVRAIFAUX\",BDD!$V$2:$V$3)","v":0},{"$f":"SUMIF(BDD!$BC$2:$BC$3,\"Banc 120VRAIFAUXFAUXFAUXVRAI\",BDD!$V$2:$V$3)","v":0},{"$f":"SUMIF(BDD!$BC$2:$BC$3,\"Banc 120FAUXVRAIVRAIFAUXFAUX\",BDD!$V$2:$V$3)","v":0},{"$f":"SUMIF(BDD!$BC$2:$BC$3,\"Banc 120FAUXVRAIFAUXVRAIFAUX\",BDD!$V$2:$V$3)","v":0},{"$f":"SUMIF(BDD!$BC$2:$BC$3,\"Banc 120FAUXVRAIFAUXFAUXVRAI\",BDD!$V$2:$V$3)","v":0},{"$f":"SUMIF(BDD!$BC$2:$BC$3,\"Banc 120VRAIFAUXVRAIFAUXFAUX\",BDD!$V$2:$V$3)","v":0},{"$f":"SUMIF(BDD!$BC$2:$BC$3,\"Banc 120VRAIFAUXFAUXVRAIFAUX\",BDD!$V$2:$V$3)","v":0},{"$f":"SUMIF(BDD!$BC$2:$BC$3,\"Banc 120VRAIFAUXFAUXFAUXVRAI\",BDD!$V$2:$V$3)","v":0},{"$f":"SUMIF(BDD!$BC$2:$BC$3,\"Banc 120FAUXVRAIVRAIFAUXFAUX\",BDD!$V$2:$V$3)","v":0},{"$f":"SUMIF(BDD!$BC$2:$BC$3,\"Banc 120FAUXVRAIFAUXVRAIFAUX\",BDD!$V$2:$V$3)","v":0},{"$f":"SUMIF(BDD!$BC$2:$BC$3,\"Banc 120FAUXVRAIFAUXFAUXVRAI\",BDD!$V$2:$V$3)","v":0},{"$f":"SUMIF(BDD!$BC$2:$BC$3,\"Banc 120VRAIFAUXVRAIFAUXFAUX\",BDD!$V$2:$V$3)","v":0},{"$f":"SUMIF(BDD!$BC$2:$BC$3,\"Banc 120VRAIFAUXFAUXVRAIFAUX\",BDD!$V$2:$V$3)","v":0},{"$f":"SUMIF(BDD!$BC$2:$BC$3,\"Banc 120VRAIFAUXFAUXFAUXVRAI\",BDD!$V$2:$V$3)","v":0},{"$f":"SUMIF(BDD!$BC$2:$BC$3,\"Banc 120FAUXVRAIVRAIFAUXFAUX\",BDD!$V$2:$V$3)","v":0},{"$f":"SUMIF(BDD!$BC$2:$BC$3,\"Banc 120FAUXVRAIFAUXVRAIFAUX\",BDD!$V$2:$V$3)","v":0},{"$f":"SUMIF(BDD!$BC$2:$BC$3,\"Banc 120FAUXVRAIFAUXFAUXVRAI\",BDD!$V$2:$V$3)","v":0},{"$f":"SUMIF(BDD!$BC$2:$BC$3,\"Banc 120VRAIFAUXVRAIFAUXFAUX\",BDD!$V$2:$V$3)","v":0},{"$f":"SUMIF(BDD!$BC$2:$BC$3,\"Banc 120VRAIFAUXFAUXVRAIFAUX\",BDD!$V$2:$V$3)","v":0},{"$f":"SUMIF(BDD!$BC$2:$BC$3,\"Banc 120VRAIFAUXFAUXFAUXVRAI\",BDD!$V$2:$V$3)","v":0},{"$f":"SUMIF(BDD!$BC$2:$BC$3,\"Banc 120FAUXVRAIVRAIFAUXFAUX\",BDD!$V$2:$V$3)","v":0},{"$f":"SUMIF(BDD!$BC$2:$BC$3,\"Banc 120FAUXVRAIFAUXVRAIFAUX\",BDD!$V$2:$V$3)","v":0},{"$f":"SUMIF(BDD!$BC$2:$BC$3,\"Banc 120FAUXVRAIFAUXFAUXVRAI\",BDD!$V$2:$V$3)","v":0},{"$f":"SUMIF(BDD!$BC$2:$BC$3,\"Banc 120VRAIFAUXVRAIFAUXFAUX\",BDD!$V$2:$V$3)","v":0},{"$f":"SUMIF(BDD!$BC$2:$BC$3,\"Banc 120VRAIFAUXFAUXVRAIFAUX\",BDD!$V$2:$V$3)","v":0},{"$f":"SUMIF(BDD!$BC$2:$BC$3,\"Banc 120VRAIFAUXFAUXFAUXVRAI\",BDD!$V$2:$V$3)","v":0},{"$f":"SUMIF(BDD!$BC$2:$BC$3,\"Banc 120FAUXVRAIVRAIFAUXFAUX\",BDD!$V$2:$V$3)","v":0},{"$f":"SUMIF(BDD!$BC$2:$BC$3,\"Banc 120FAUXVRAIFAUXVRAIFAUX\",BDD!$V$2:$V$3)","v":0},{"$f":"SUMIF(BDD!$BC$2:$BC$3,\"Banc 120FAUXVRAIFAUXFAUXVRAI\",BDD!$V$2:$V$3)","v":0},{"$f":"SUMIF(BDD!$BC$2:$BC$3,\"Banc 120VRAIFAUXVRAIFAUXFAUX\",BDD!$V$2:$V$3)","v":0},{"$f":"SUMIF(BDD!$BC$2:$BC$3,\"Banc 120VRAIFAUXFAUXVRAIFAUX\",BDD!$V$2:$V$3)","v":0},{"$f":"SUMIF(BDD!$BC$2:$BC$3,\"Banc 120VRAIFAUXFAUXFAUXVRAI\",BDD!$V$2:$V$3)","v":0},{"$f":"SUMIF(BDD!$BC$2:$BC$3,\"Banc 120FAUXVRAIVRAIFAUXFAUX\",BDD!$V$2:$V$3)","v":0},{"$f":"SUMIF(BDD!$BC$2:$BC$3,\"Banc 120FAUXVRAIFAUXVRAIFAUX\",BDD!$V$2:$V$3)","v":0},{"$f":"SUMIF(BDD!$BC$2:$BC$3,\"Banc 120FAUXVRAIFAUXFAUXVRAI\",BDD!$V$2:$V$3)","v":0},{"$f":"SUMIF(BDD!$BC$2:$BC$3,\"Banc 120VRAIFAUXVRAIFAUXFAUX\",BDD!$V$2:$V$3)","v":0},{"$f":"SUMIF(BDD!$BC$2:$BC$3,\"Banc 120VRAIFAUXFAUXVRAIFAUX\",BDD!$V$2:$V$3)","v":0},{"$f":"SUMIF(BDD!$BC$2:$BC$3,\"Banc 120VRAIFAUXFAUXFAUXVRAI\",BDD!$V$2:$V$3)","v":0},{"$f":"SUMIF(BDD!$BC$2:$BC$3,\"Banc 120FAUXVRAIVRAIFAUXFAUX\",BDD!$V$2:$V$3)","v":0},{"$f":"SUMIF(BDD!$BC$2:$BC$3,\"Banc 120FAUXVRAIFAUXVRAIFAUX\",BDD!$V$2:$V$3)","v":0},{"$f":"SUMIF(BDD!$BC$2:$BC$3,\"Banc 120FAUXVRAIFAUXFAUXVRAI\",BDD!$V$2:$V$3)","v":0}]
["Banc 120 bis",{"$f":"SUMIF(BDD!$BC$2:$BC$3,\"Banc 120 bisVRAIFAUXVRAIFAUXFAUX\",BDD!$V$2:$V$3)","v":0},{"$f":"SUMIF(BDD!$BC$2:$BC$3,\"Banc 120 bisVRAIFAUXFAUXVRAIFAUX\",BDD!$V$2:$V$3)","v":0},{"$f":"SUMIF(BDD!$BC$2:$BC$3,\"Banc 120 bisVRAIFAUXFAUXFAUXVRAI\",BDD!$V$2:$V$3)","v":0},{"$f":"SUMIF(BDD!$BC$2:$BC$3,\"Banc 120 bisFAUXVRAIVRAIFAUXFAUX\",BDD!$V$2:$V$3)","v":0},{"$f":"SUMIF(BDD!$BC$2:$BC$3,\"Banc 120 bisFAUXVRAIFAUXVRAIFAUX\",BDD!$V$2:$V$3)","v":0},{"$f":"SUMIF(BDD!$BC$2:$BC$3,\"Banc 120 bisFAUXVRAIFAUXFAUXVRAI\",BDD!$V$2:$V$3)","v":0},{"$f":"SUMIF(BDD!$BC$2:$BC$3,\"Banc 120 bisVRAIFAUXVRAIFAUXFAUX\",BDD!$V$2:$V$3)","v":0},{"$f":"SUMIF(BDD!$BC$2:$BC$3,\"Banc 120 bisVRAIFAUXFAUXVRAIFAUX\",BDD!$V$2:$V$3)","v":0},{"$f":"SUMIF(BDD!$BC$2:$BC$3,\"Banc 120 bisVRAIFAUXFAUXFAUXVRAI\",BDD!$V$2:$V$3)","v":0},{"$f":"SUMIF(BDD!$BC$2:$BC$3,\"Banc 120 bisFAUXVRAIVRAIFAUXFAUX\",BDD!$V$2:$V$3)","v":0},{"$f":"SUMIF(BDD!$BC$2:$BC$3,\"Banc 120 bisFAUXVRAIFAUXVRAIFAUX\",BDD!$V$2:$V$3)","v":0},{"$f":"SUMIF(BDD!$BC$2:$BC$3,\"Banc 120 bisFAUXVRAIFAUXFAUXVRAI\",BDD!$V$2:$V$3)","v":0},{"$f":"SUMIF(BDD!$BC$2:$BC$683,\"Banc 120 bisVRAIFAUXVRAIFAUXFAUX\",BDD!$V$2:$V$683)","v":0},{"$f":"SUMIF(BDD!$BC$2:$BC$683,\"Banc 120 bisVRAIFAUXFAUXVRAIFAUX\",BDD!$V$2:$V$683)","v":0},{"$f":"SUMIF(BDD!$BC$2:$BC$683,\"Banc 120 bisVRAIFAUXFAUXFAUXVRAI\",BDD!$V$2:$V$683)","v":0},{"$f":"SUMIF(BDD!$BC$2:$BC$683,\"Banc 120 bisFAUXVRAIVRAIFAUXFAUX\",BDD!$V$2:$V$683)","v":0},{"$f":"SUMIF(BDD!$BC$2:$BC$683,\"Banc 120 bisFAUXVRAIFAUXVRAIFAUX\",BDD!$V$2:$V$683)","v":0},{"$f":"SUMIF(BDD!$BC$2:$BC$683,\"Banc 120 bisFAUXVRAIFAUXFAUXVRAI\",BDD!$V$2:$V$683)","v":0},{"$f":"SUMIF(BDD!$BC$2:$BC$3,\"Banc 120 bisVRAIFAUXVRAIFAUXFAUX\",BDD!$V$2:$V$3)","v":0},{"$f":"SUMIF(BDD!$BC$2:$BC$3,\"Banc 120 bisVRAIFAUXFAUXVRAIFAUX\",BDD!$V$2:$V$3)","v":0},{"$f":"SUMIF(BDD!$BC$2:$BC$3,\"Banc 120 bisVRAIFAUXFAUXFAUXVRAI\",BDD!$V$2:$V$3)","v":0},{"$f":"SUMIF(BDD!$BC$2:$BC$3,\"Banc 120 bisFAUXVRAIVRAIFAUXFAUX\",BDD!$V$2:$V$3)","v":0},{"$f":"SUMIF(BDD!$BC$2:$BC$3,\"Banc 120 bisFAUXVRAIFAUXVRAIFAUX\",BDD!$V$2:$V$3)","v":0},{"$f":"SUMIF(BDD!$BC$2:$BC$3,\"Banc 120 bisFAUXVRAIFAUXFAUXVRAI\",BDD!$V$2:$V$3)","v":0},{"$f":"SUMIF(BDD!$BC$2:$BC$3,\"Banc 120 bisVRAIFAUXVRAIFAUXFAUX\",BDD!$V$2:$V$3)","v":0},{"$f":"SUMIF(BDD!$BC$2:$BC$3,\"Banc 120 bisVRAIFAUXFAUXVRAIFAUX\",BDD!$V$2:$V$3)","v":0},{"$f":"SUMIF(BDD!$BC$2:$BC$3,\"Banc 120 bisVRAIFAUXFAUXFAUXVRAI\",BDD!$V$2:$V$3)","v":0},{"$f":"SUMIF(BDD!$BC$2:$BC$3,\"Banc 120 bisFAUXVRAIVRAIFAUXFAUX\",BDD!$V$2:$V$3)","v":0},{"$f":"SUMIF(BDD!$BC$2:$BC$3,\"Banc 120 bisFAUXVRAIFAUXVRAIFAUX\",BDD!$V$2:$V$3)","v":0},{"$f":"SUMIF(BDD!$BC$2:$BC$3,\"Banc 120 bisFAUXVRAIFAUXFAUXVRAI\",BDD!$V$2:$V$3)","v":0},{"$f":"SUMIF(BDD!$BC$2:$BC$3,\"Banc 120 bisVRAIFAUXVRAIFAUXFAUX\",BDD!$V$2:$V$3)","v":0},{"$f":"SUMIF(BDD!$BC$2:$BC$3,\"Banc 120 bisVRAIFAUXFAUXVRAIFAUX\",BDD!$V$2:$V$3)","v":0},{"$f":"SUMIF(BDD!$BC$2:$BC$3,\"Banc 120 bisVRAIFAUXFAUXFAUXVRAI\",BDD!$V$2:$V$3)","v":0},{"$f":"SUMIF(BDD!$BC$2:$BC$3,\"Banc 120 bisFAUXVRAIVRAIFAUXFAUX\",BDD!$V$2:$V$3)","v":0},{"$f":"SUMIF(BDD!$BC$2:$BC$3,\"Banc 120 bisFAUXVRAIFAUXVRAIFAUX\",BDD!$V$2:$V$3)","v":0},{"$f":"SUMIF(BDD!$BC$2:$BC$3,\"Banc 120 bisFAUXVRAIFAUXFAUXVRAI\",BDD!$V$2:$V$3)","v":0},{"$f":"SUMIF(BDD!$BC$2:$BC$3,\"Banc 120 bisVRAIFAUXVRAIFAUXFAUX\",BDD!$V$2:$V$3)","v":0},{"$f":"SUMIF(BDD!$BC$2:$BC$3,\"Banc 120 bisVRAIFAUXFAUXVRAIFAUX\",BDD!$V$2:$V$3)","v":0},{"$f":"SUMIF(BDD!$BC$2:$BC$3,\"Banc 120 bisVRAIFAUXFAUXFAUXVRAI\",BDD!$V$2:$V$3)","v":0},{"$f":"SUMIF(BDD!$BC$2:$BC$3,\"Banc 120 bisFAUXVRAIVRAIFAUXFAUX\",BDD!$V$2:$V$3)","v":0},{"$f":"SUMIF(BDD!$BC$2:$BC$3,\"Banc 120 bisFAUXVRAIFAUXVRAIFAUX\",BDD!$V$2:$V$3)","v":0},{"$f":"SUMIF(BDD!$BC$2:$BC$3,\"Banc 120 bisFAUXVRAIFAUXFAUXVRAI\",BDD!$V$2:$V$3)","v":0},{"$f":"SUMIF(BDD!$BC$2:$BC$3,\"Banc 120 bisVRAIFAUXVRAIFAUXFAUX\",BDD!$V$2:$V$3)","v":0},{"$f":"SUMIF(BDD!$BC$2:$BC$3,\"Banc 120 bisVRAIFAUXFAUXVRAIFAUX\",BDD!$V$2:$V$3)","v":0},{"$f":"SUMIF(BDD!$BC$2:$BC$3,\"Banc 120 bisVRAIFAUXFAUXFAUXVRAI\",BDD!$V$2:$V$3)","v":0},{"$f":"SUMIF(BDD!$BC$2:$BC$3,\"Banc 120 bisFAUXVRAIVRAIFAUXFAUX\",BDD!$V$2:$V$3)","v":0},{"$f":"SUMIF(BDD!$BC$2:$BC$3,\"Banc 120 bisFAUXVRAIFAUXVRAIFAUX\",BDD!$V$2:$V$3)","v":0},{"$f":"SUMIF(BDD!$BC$2:$BC$3,\"Banc 120 bisFAUXVRAIFAUXFAUXVRAI\",BDD!$V$2:$V$3)","v":0},{"$f":"SUMIF(BDD!$BC$2:$BC$3,\"Banc 120 bisVRAIFAUXVRAIFAUXFAUX\",BDD!$V$2:$V$3)","v":0},{"$f":"SUMIF(BDD!$BC$2:$BC$3,\"Banc 120 bisVRAIFAUXFAUXVRAIFAUX\",BDD!$V$2:$V$3)","v":0},{"$f":"SUMIF(BDD!$BC$2:$BC$3,\"Banc 120 bisVRAIFAUXFAUXFAUXVRAI\",BDD!$V$2:$V$3)","v":0},{"$f":"SUMIF(BDD!$BC$2:$BC$3,\"Banc 120 bisFAUXVRAIVRAIFAUXFAUX\",BDD!$V$2:$V$3)","v":0},{"$f":"SUMIF(BDD!$BC$2:$BC$3,\"Banc 120 bisFAUXVRAIFAUXVRAIFAUX\",BDD!$V$2:$V$3)","v":0},{"$f":"SUMIF(BDD!$BC$2:$BC$3,\"Banc 120 bisFAUXVRAIFAUXFAUXVRAI\",BDD!$V$2:$V$3)","v":0},{"$f":"SUMIF(BDD!$BC$2:$BC$3,\"Banc 120 bisVRAIFAUXVRAIFAUXFAUX\",BDD!$V$2:$V$3)","v":0},{"$f":"SUMIF(BDD!$BC$2:$BC$3,\"Banc 120 bisVRAIFAUXFAUXVRAIFAUX\",BDD!$V$2:$V$3)","v":0},{"$f":"SUMIF(BDD!$BC$2:$BC$3,\"Banc 120 bisVRAIFAUXFAUXFAUXVRAI\",BDD!$V$2:$V$3)","v":0},{"$f":"SUMIF(BDD!$BC$2:$BC$3,\"Banc 120 bisFAUXVRAIVRAIFAUXFAUX\",BDD!$V$2:$V$3)","v":0},{"$f":"SUMIF(BDD!$BC$2:$BC$3,\"Banc 120 bisFAUXVRAIFAUXVRAIFAUX\",BDD!$V$2:$V$3)","v":0},{"$f":"SUMIF(BDD!$BC$2:$BC$3,\"Banc 120 bisFAUXVRAIFAUXFAUXVRAI\",BDD!$V$2:$V$3)","v":0},{"$f":"SUMIF(BDD!$BC$2:$BC$3,\"Banc 120 bisVRAIFAUXVRAIFAUXFAUX\",BDD!$V$2:$V$3)","v":0},{"$f":"SUMIF(BDD!$BC$2:$BC$3,\"Banc 120 bisVRAIFAUXFAUXVRAIFAUX\",BDD!$V$2:$V$3)","v":0},{"$f":"SUMIF(BDD!$BC$2:$BC$3,\"Banc 120 bisVRAIFAUXFAUXFAUXVRAI\",BDD!$V$2:$V$3)","v":0},{"$f":"SUMIF(BDD!$BC$2:$BC$3,\"Banc 120 bisFAUXVRAIVRAIFAUXFAUX\",BDD!$V$2:$V$3)","v":0},{"$f":"SUMIF(BDD!$BC$2:$BC$3,\"Banc 120 bisFAUXVRAIFAUXVRAIFAUX\",BDD!$V$2:$V$3)","v":0},{"$f":"SUMIF(BDD!$BC$2:$BC$3,\"Banc 120 bisFAUXVRAIFAUXFAUXVRAI\",BDD!$V$2:$V$3)","v":0},{"$f":"SUMIF(BDD!$BC$2:$BC$3,\"Banc 120 bisVRAIFAUXVRAIFAUXFAUX\",BDD!$V$2:$V$3)","v":0},{"$f":"SUMIF(BDD!$BC$2:$BC$3,\"Banc 120 bisVRAIFAUXFAUXVRAIFAUX\",BDD!$V$2:$V$3)","v":0},{"$f":"SUMIF(BDD!$BC$2:$BC$3,\"Banc 120 bisVRAIFAUXFAUXFAUXVRAI\",BDD!$V$2:$V$3)","v":0},{"$f":"SUMIF(BDD!$BC$2:$BC$3,\"Banc 120 bisFAUXVRAIVRAIFAUXFAUX\",BDD!$V$2:$V$3)","v":0},{"$f":"SUMIF(BDD!$BC$2:$BC$3,\"Banc 120 bisFAUXVRAIFAUXVRAIFAUX\",BDD!$V$2:$V$3)","v":0},{"$f":"SUMIF(BDD!$BC$2:$BC$3,\"Banc 120 bisFAUXVRAIFAUXFAUXVRAI\",BDD!$V$2:$V$3)","v":0}]
["Banc 125",{"$f":"SUMIF(BDD!$BC$2:$BC$3,\"Banc 125VRAIFAUXVRAIFAUXFAUX\",BDD!$V$2:$V$3)","v":0},{"$f":"SUMIF(BDD!$BC$2:$BC$3,\"Banc 125VRAIFAUXFAUXVRAIFAUX\",BDD!$V$2:$V$3)","v":0},{"$f":"SUMIF(BDD!$BC$2:$BC$3,\"Banc 125VRAIFAUXFAUXFAUXVRAI\",BDD!$V$2:$V$3)","v":0},{"$f":"SUMIF(BDD!$BC$2:$BC$3,\"Banc 125FAUXVRAIVRAIFAUXFAUX\",BDD!$V$2:$V$3)","v":0},{"$f":"SUMIF(BDD!$BC$2:$BC$3,\"Banc 125FAUXVRAIFAUXVRAIFAUX\",BDD!$V$2:$V$3)","v":0},{"$f":"SUMIF(BDD!$BC$2:$BC$3,\"Banc 125FAUXVRAIFAUXFAUXVRAI\",BDD!$V$2:$V$3)","v":0},{"$f":"SUMIF(BDD!$BC$2:$BC$3,\"Banc 125VRAIFAUXVRAIFAUXFAUX\",BDD!$V$2:$V$3)","v":0},{"$f":"SUMIF(BDD!$BC$2:$BC$3,\"Banc 125VRAIFAUXFAUXVRAIFAUX\",BDD!$V$2:$V$3)","v":0},{"$f":"SUMIF(BDD!$BC$2:$BC$3,\"Banc 125VRAIFAUXFAUXFAUXVRAI\",BDD!$V$2:$V$3)","v":0},{"$f":"SUMIF(BDD!$BC$2:$BC$3,\"Banc 125FAUXVRAIVRAIFAUXFAUX\",BDD!$V$2:$V$3)","v":0},{"$f":"SUMIF(BDD!$BC$2:$BC$3,\"Banc 125FAUXVRAIFAUXVRAIFAUX\",BDD!$V$2:$V$3)","v":0},{"$f":"SUMIF(BDD!$BC$2:$BC$3,\"Banc 125FAUXVRAIFAUXFAUXVRAI\",BDD!$V$2:$V$3)","v":0},{"$f":"SUMIF(BDD!$BC$2:$BC$683,\"Banc 125VRAIFAUXVRAIFAUXFAUX\",BDD!$V$2:$V$683)","v":0},{"$f":"SUMIF(BDD!$BC$2:$BC$683,\"Banc 125VRAIFAUXFAUXVRAIFAUX\",BDD!$V$2:$V$683)","v":0},{"$f":"SUMIF(BDD!$BC$2:$BC$683,\"Banc 125VRAIFAUXFAUXFAUXVRAI\",BDD!$V$2:$V$683)","v":2.2999999999999998},{"$f":"SUMIF(BDD!$BC$2:$BC$683,\"Banc 125FAUXVRAIVRAIFAUXFAUX\",BDD!$V$2:$V$683)","v":0},{"$f":"SUMIF(BDD!$BC$2:$BC$683,\"Banc 125FAUXVRAIFAUXVRAIFAUX\",BDD!$V$2:$V$683)","v":0},{"$f":"SUMIF(BDD!$BC$2:$BC$683,\"Banc 125FAUXVRAIFAUXFAUXVRAI\",BDD!$V$2:$V$683)","v":0},{"$f":"SUMIF(BDD!$BC$2:$BC$3,\"Banc 125VRAIFAUXVRAIFAUXFAUX\",BDD!$V$2:$V$3)","v":0},{"$f":"SUMIF(BDD!$BC$2:$BC$3,\"Banc 125VRAIFAUXFAUXVRAIFAUX\",BDD!$V$2:$V$3)","v":0},{"$f":"SUMIF(BDD!$BC$2:$BC$3,\"Banc 125VRAIFAUXFAUXFAUXVRAI\",BDD!$V$2:$V$3)","v":0},{"$f":"SUMIF(BDD!$BC$2:$BC$3,\"Banc 125FAUXVRAIVRAIFAUXFAUX\",BDD!$V$2:$V$3)","v":0},{"$f":"SUMIF(BDD!$BC$2:$BC$3,\"Banc 125FAUXVRAIFAUXVRAIFAUX\",BDD!$V$2:$V$3)","v":0},{"$f":"SUMIF(BDD!$BC$2:$BC$3,\"Banc 125FAUXVRAIFAUXFAUXVRAI\",BDD!$V$2:$V$3)","v":0},{"$f":"SUMIF(BDD!$BC$2:$BC$3,\"Banc 125VRAIFAUXVRAIFAUXFAUX\",BDD!$V$2:$V$3)","v":0},{"$f":"SUMIF(BDD!$BC$2:$BC$3,\"Banc 125VRAIFAUXFAUXVRAIFAUX\",BDD!$V$2:$V$3)","v":0},{"$f":"SUMIF(BDD!$BC$2:$BC$3,\"Banc 125VRAIFAUXFAUXFAUXVRAI\",BDD!$V$2:$V$3)","v":0},{"$f":"SUMIF(BDD!$BC$2:$BC$3,\"Banc 125FAUXVRAIVRAIFAUXFAUX\",BDD!$V$2:$V$3)","v":0},{"$f":"SUMIF(BDD!$BC$2:$BC$3,\"Banc 125FAUXVRAIFAUXVRAIFAUX\",BDD!$V$2:$V$3)","v":0},{"$f":"SUMIF(BDD!$BC$2:$BC$3,\"Banc 125FAUXVRAIFAUXFAUXVRAI\",BDD!$V$2:$V$3)","v":0},{"$f":"SUMIF(BDD!$BC$2:$BC$3,\"Banc 125VRAIFAUXVRAIFAUXFAUX\",BDD!$V$2:$V$3)","v":0},{"$f":"SUMIF(BDD!$BC$2:$BC$3,\"Banc 125VRAIFAUXFAUXVRAIFAUX\",BDD!$V$2:$V$3)","v":0},{"$f":"SUMIF(BDD!$BC$2:$BC$3,\"Banc 125VRAIFAUXFAUXFAUXVRAI\",BDD!$V$2:$V$3)","v":0},{"$f":"SUMIF(BDD!$BC$2:$BC$3,\"Banc 125FAUXVRAIVRAIFAUXFAUX\",BDD!$V$2:$V$3)","v":0},{"$f":"SUMIF(BDD!$BC$2:$BC$3,\"Banc 125FAUXVRAIFAUXVRAIFAUX\",BDD!$V$2:$V$3)","v":0},{"$f":"SUMIF(BDD!$BC$2:$BC$3,\"Banc 125FAUXVRAIFAUXFAUXVRAI\",BDD!$V$2:$V$3)","v":0},{"$f":"SUMIF(BDD!$BC$2:$BC$3,\"Banc 125VRAIFAUXVRAIFAUXFAUX\",BDD!$V$2:$V$3)","v":0},{"$f":"SUMIF(BDD!$BC$2:$BC$3,\"Banc 125VRAIFAUXFAUXVRAIFAUX\",BDD!$V$2:$V$3)","v":0},{"$f":"SUMIF(BDD!$BC$2:$BC$3,\"Banc 125VRAIFAUXFAUXFAUXVRAI\",BDD!$V$2:$V$3)","v":0},{"$f":"SUMIF(BDD!$BC$2:$BC$3,\"Banc 125FAUXVRAIVRAIFAUXFAUX\",BDD!$V$2:$V$3)","v":0},{"$f":"SUMIF(BDD!$BC$2:$BC$3,\"Banc 125FAUXVRAIFAUXVRAIFAUX\",BDD!$V$2:$V$3)","v":0},{"$f":"SUMIF(BDD!$BC$2:$BC$3,\"Banc 125FAUXVRAIFAUXFAUXVRAI\",BDD!$V$2:$V$3)","v":0},{"$f":"SUMIF(BDD!$BC$2:$BC$3,\"Banc 125VRAIFAUXVRAIFAUXFAUX\",BDD!$V$2:$V$3)","v":0},{"$f":"SUMIF(BDD!$BC$2:$BC$3,\"Banc 125VRAIFAUXFAUXVRAIFAUX\",BDD!$V$2:$V$3)","v":0},{"$f":"SUMIF(BDD!$BC$2:$BC$3,\"Banc 125VRAIFAUXFAUXFAUXVRAI\",BDD!$V$2:$V$3)","v":0},{"$f":"SUMIF(BDD!$BC$2:$BC$3,\"Banc 125FAUXVRAIVRAIFAUXFAUX\",BDD!$V$2:$V$3)","v":0},{"$f":"SUMIF(BDD!$BC$2:$BC$3,\"Banc 125FAUXVRAIFAUXVRAIFAUX\",BDD!$V$2:$V$3)","v":0},{"$f":"SUMIF(BDD!$BC$2:$BC$3,\"Banc 125FAUXVRAIFAUXFAUXVRAI\",BDD!$V$2:$V$3)","v":0},{"$f":"SUMIF(BDD!$BC$2:$BC$3,\"Banc 125VRAIFAUXVRAIFAUXFAUX\",BDD!$V$2:$V$3)","v":0},{"$f":"SUMIF(BDD!$BC$2:$BC$3,\"Banc 125VRAIFAUXFAUXVRAIFAUX\",BDD!$V$2:$V$3)","v":0},{"$f":"SUMIF(BDD!$BC$2:$BC$3,\"Banc 125VRAIFAUXFAUXFAUXVRAI\",BDD!$V$2:$V$3)","v":0},{"$f":"SUMIF(BDD!$BC$2:$BC$3,\"Banc 125FAUXVRAIVRAIFAUXFAUX\",BDD!$V$2:$V$3)","v":0},{"$f":"SUMIF(BDD!$BC$2:$BC$3,\"Banc 125FAUXVRAIFAUXVRAIFAUX\",BDD!$V$2:$V$3)","v":0},{"$f":"SUMIF(BDD!$BC$2:$BC$3,\"Banc 125FAUXVRAIFAUXFAUXVRAI\",BDD!$V$2:$V$3)","v":0},{"$f":"SUMIF(BDD!$BC$2:$BC$3,\"Banc 125VRAIFAUXVRAIFAUXFAUX\",BDD!$V$2:$V$3)","v":0},{"$f":"SUMIF(BDD!$BC$2:$BC$3,\"Banc 125VRAIFAUXFAUXVRAIFAUX\",BDD!$V$2:$V$3)","v":0},{"$f":"SUMIF(BDD!$BC$2:$BC$3,\"Banc 125VRAIFAUXFAUXFAUXVRAI\",BDD!$V$2:$V$3)","v":0},{"$f":"SUMIF(BDD!$BC$2:$BC$3,\"Banc 125FAUXVRAIVRAIFAUXFAUX\",BDD!$V$2:$V$3)","v":0},{"$f":"SUMIF(BDD!$BC$2:$BC$3,\"Banc 125FAUXVRAIFAUXVRAIFAUX\",BDD!$V$2:$V$3)","v":0},{"$f":"SUMIF(BDD!$BC$2:$BC$3,\"Banc 125FAUXVRAIFAUXFAUXVRAI\",BDD!$V$2:$V$3)","v":0},{"$f":"SUMIF(BDD!$BC$2:$BC$3,\"Banc 125VRAIFAUXVRAIFAUXFAUX\",BDD!$V$2:$V$3)","v":0},{"$f":"SUMIF(BDD!$BC$2:$BC$3,\"Banc 125VRAIFAUXFAUXVRAIFAUX\",BDD!$V$2:$V$3)","v":0},{"$f":"SUMIF(BDD!$BC$2:$BC$3,\"Banc 125VRAIFAUXFAUXFAUXVRAI\",BDD!$V$2:$V$3)","v":0},{"$f":"SUMIF(BDD!$BC$2:$BC$3,\"Banc 125FAUXVRAIVRAIFAUXFAUX\",BDD!$V$2:$V$3)","v":0},{"$f":"SUMIF(BDD!$BC$2:$BC$3,\"Banc 125FAUXVRAIFAUXVRAIFAUX\",BDD!$V$2:$V$3)","v":0},{"$f":"SUMIF(BDD!$BC$2:$BC$3,\"Banc 125FAUXVRAIFAUXFAUXVRAI\",BDD!$V$2:$V$3)","v":0},{"$f":"SUMIF(BDD!$BC$2:$BC$3,\"Banc 125VRAIFAUXVRAIFAUXFAUX\",BDD!$V$2:$V$3)","v":0},{"$f":"SUMIF(BDD!$BC$2:$BC$3,\"Banc 125VRAIFAUXFAUXVRAIFAUX\",BDD!$V$2:$V$3)","v":0},{"$f":"SUMIF(BDD!$BC$2:$BC$3,\"Banc 125VRAIFAUXFAUXFAUXVRAI\",BDD!$V$2:$V$3)","v":0},{"$f":"SUMIF(BDD!$BC$2:$BC$3,\"Banc 125FAUXVRAIVRAIFAUXFAUX\",BDD!$V$2:$V$3)","v":0},{"$f":"SUMIF(BDD!$BC$2:$BC$3,\"Banc 125FAUXVRAIFAUXVRAIFAUX\",BDD!$V$2:$V$3)","v":0},{"$f":"SUMIF(BDD!$BC$2:$BC$3,\"Banc 125FAUXVRAIFAUXFAUXVRAI\",BDD!$V$2:$V$3)","v":0}]
["Banc 128",{"$f":"SUMIF(BDD!$BC$2:$BC$3,\"Banc 128VRAIFAUXVRAIFAUXFAUX\",BDD!$V$2:$V$3)","v":0},{"$f":"SUMIF(BDD!$BC$2:$BC$3,\"Banc 128VRAIFAUXFAUXVRAIFAUX\",BDD!$V$2:$V$3)","v":0},{"$f":"SUMIF(BDD!$BC$2:$BC$3,\"Banc 128VRAIFAUXFAUXFAUXVRAI\",BDD!$V$2:$V$3)","v":0},{"$f":"SUMIF(BDD!$BC$2:$BC$3,\"Banc 128FAUXVRAIVRAIFAUXFAUX\",BDD!$V$2:$V$3)","v":0},{"$f":"SUMIF(BDD!$BC$2:$BC$3,\"Banc 128FAUXVRAIFAUXVRAIFAUX\",BDD!$V$2:$V$3)","v":0},{"$f":"SUMIF(BDD!$BC$2:$BC$3,\"Banc 128FAUXVRAIFAUXFAUXVRAI\",BDD!$V$2:$V$3)","v":0},{"$f":"SUMIF(BDD!$BC$2:$BC$3,\"Banc 128VRAIFAUXVRAIFAUXFAUX\",BDD!$V$2:$V$3)","v":0},{"$f":"SUMIF(BDD!$BC$2:$BC$3,\"Banc 128VRAIFAUXFAUXVRAIFAUX\",BDD!$V$2:$V$3)","v":0},{"$f":"SUMIF(BDD!$BC$2:$BC$3,\"Banc 128VRAIFAUXFAUXFAUXVRAI\",BDD!$V$2:$V$3)","v":0},{"$f":"SUMIF(BDD!$BC$2:$BC$3,\"Banc 128FAUXVRAIVRAIFAUXFAUX\",BDD!$V$2:$V$3)","v":0},{"$f":"SUMIF(BDD!$BC$2:$BC$3,\"Banc 128FAUXVRAIFAUXVRAIFAUX\",BDD!$V$2:$V$3)","v":0},{"$f":"SUMIF(BDD!$BC$2:$BC$3,\"Banc 128FAUXVRAIFAUXFAUXVRAI\",BDD!$V$2:$V$3)","v":0},{"$f":"SUMIF(BDD!$BC$2:$BC$683,\"Banc 128VRAIFAUXVRAIFAUXFAUX\",BDD!$V$2:$V$683)","v":0},{"$f":"SUMIF(BDD!$BC$2:$BC$683,\"Banc 128VRAIFAUXFAUXVRAIFAUX\",BDD!$V$2:$V$683)","v":0},{"$f":"SUMIF(BDD!$BC$2:$BC$683,\"Banc 128VRAIFAUXFAUXFAUXVRAI\",BDD!$V$2:$V$683)","v":1},{"$f":"SUMIF(BDD!$BC$2:$BC$683,\"Banc 128FAUXVRAIVRAIFAUXFAUX\",BDD!$V$2:$V$683)","v":0},{"$f":"SUMIF(BDD!$BC$2:$BC$683,\"Banc 128FAUXVRAIFAUXVRAIFAUX\",BDD!$V$2:$V$683)","v":0},{"$f":"SUMIF(BDD!$BC$2:$BC$683,\"Banc 128FAUXVRAIFAUXFAUXVRAI\",BDD!$V$2:$V$683)","v":0},{"$f":"SUMIF(BDD!$BC$2:$BC$3,\"Banc 128VRAIFAUXVRAIFAUXFAUX\",BDD!$V$2:$V$3)","v":0},{"$f":"SUMIF(BDD!$BC$2:$BC$3,\"Banc 128VRAIFAUXFAUXVRAIFAUX\",BDD!$V$2:$V$3)","v":0},{"$f":"SUMIF(BDD!$BC$2:$BC$3,\"Banc 128VRAIFAUXFAUXFAUXVRAI\",BDD!$V$2:$V$3)","v":0},{"$f":"SUMIF(BDD!$BC$2:$BC$3,\"Banc 128FAUXVRAIVRAIFAUXFAUX\",BDD!$V$2:$V$3)","v":0},{"$f":"SUMIF(BDD!$BC$2:$BC$3,\"Banc 128FAUXVRAIFAUXVRAIFAUX\",BDD!$V$2:$V$3)","v":0},{"$f":"SUMIF(BDD!$BC$2:$BC$3,\"Banc 128FAUXVRAIFAUXFAUXVRAI\",BDD!$V$2:$V$3)","v":0},{"$f":"SUMIF(BDD!$BC$2:$BC$3,\"Banc 128VRAIFAUXVRAIFAUXFAUX\",BDD!$V$2:$V$3)","v":0},{"$f":"SUMIF(BDD!$BC$2:$BC$3,\"Banc 128VRAIFAUXFAUXVRAIFAUX\",BDD!$V$2:$V$3)","v":0},{"$f":"SUMIF(BDD!$BC$2:$BC$3,\"Banc 128VRAIFAUXFAUXFAUXVRAI\",BDD!$V$2:$V$3)","v":0},{"$f":"SUMIF(BDD!$BC$2:$BC$3,\"Banc 128FAUXVRAIVRAIFAUXFAUX\",BDD!$V$2:$V$3)","v":0},{"$f":"SUMIF(BDD!$BC$2:$BC$3,\"Banc 128FAUXVRAIFAUXVRAIFAUX\",BDD!$V$2:$V$3)","v":0},{"$f":"SUMIF(BDD!$BC$2:$BC$3,\"Banc 128FAUXVRAIFAUXFAUXVRAI\",BDD!$V$2:$V$3)","v":0},{"$f":"SUMIF(BDD!$BC$2:$BC$3,\"Banc 128VRAIFAUXVRAIFAUXFAUX\",BDD!$V$2:$V$3)","v":0},{"$f":"SUMIF(BDD!$BC$2:$BC$3,\"Banc 128VRAIFAUXFAUXVRAIFAUX\",BDD!$V$2:$V$3)","v":0},{"$f":"SUMIF(BDD!$BC$2:$BC$3,\"Banc 128VRAIFAUXFAUXFAUXVRAI\",BDD!$V$2:$V$3)","v":0},{"$f":"SUMIF(BDD!$BC$2:$BC$3,\"Banc 128FAUXVRAIVRAIFAUXFAUX\",BDD!$V$2:$V$3)","v":0},{"$f":"SUMIF(BDD!$BC$2:$BC$3,\"Banc 128FAUXVRAIFAUXVRAIFAUX\",BDD!$V$2:$V$3)","v":0},{"$f":"SUMIF(BDD!$BC$2:$BC$3,\"Banc 128FAUXVRAIFAUXFAUXVRAI\",BDD!$V$2:$V$3)","v":0},{"$f":"SUMIF(BDD!$BC$2:$BC$3,\"Banc 128VRAIFAUXVRAIFAUXFAUX\",BDD!$V$2:$V$3)","v":0},{"$f":"SUMIF(BDD!$BC$2:$BC$3,\"Banc 128VRAIFAUXFAUXVRAIFAUX\",BDD!$V$2:$V$3)","v":0},{"$f":"SUMIF(BDD!$BC$2:$BC$3,\"Banc 128VRAIFAUXFAUXFAUXVRAI\",BDD!$V$2:$V$3)","v":0},{"$f":"SUMIF(BDD!$BC$2:$BC$3,\"Banc 128FAUXVRAIVRAIFAUXFAUX\",BDD!$V$2:$V$3)","v":0},{"$f":"SUMIF(BDD!$BC$2:$BC$3,\"Banc 128FAUXVRAIFAUXVRAIFAUX\",BDD!$V$2:$V$3)","v":0},{"$f":"SUMIF(BDD!$BC$2:$BC$3,\"Banc 128FAUXVRAIFAUXFAUXVRAI\",BDD!$V$2:$V$3)","v":0},{"$f":"SUMIF(BDD!$BC$2:$BC$3,\"Banc 128VRAIFAUXVRAIFAUXFAUX\",BDD!$V$2:$V$3)","v":0},{"$f":"SUMIF(BDD!$BC$2:$BC$3,\"Banc 128VRAIFAUXFAUXVRAIFAUX\",BDD!$V$2:$V$3)","v":0},{"$f":"SUMIF(BDD!$BC$2:$BC$3,\"Banc 128VRAIFAUXFAUXFAUXVRAI\",BDD!$V$2:$V$3)","v":0},{"$f":"SUMIF(BDD!$BC$2:$BC$3,\"Banc 128FAUXVRAIVRAIFAUXFAUX\",BDD!$V$2:$V$3)","v":0},{"$f":"SUMIF(BDD!$BC$2:$BC$3,\"Banc 128FAUXVRAIFAUXVRAIFAUX\",BDD!$V$2:$V$3)","v":0},{"$f":"SUMIF(BDD!$BC$2:$BC$3,\"Banc 128FAUXVRAIFAUXFAUXVRAI\",BDD!$V$2:$V$3)","v":0},{"$f":"SUMIF(BDD!$BC$2:$BC$3,\"Banc 128VRAIFAUXVRAIFAUXFAUX\",BDD!$V$2:$V$3)","v":0},{"$f":"SUMIF(BDD!$BC$2:$BC$3,\"Banc 128VRAIFAUXFAUXVRAIFAUX\",BDD!$V$2:$V$3)","v":0},{"$f":"SUMIF(BDD!$BC$2:$BC$3,\"Banc 128VRAIFAUXFAUXFAUXVRAI\",BDD!$V$2:$V$3)","v":0},{"$f":"SUMIF(BDD!$BC$2:$BC$3,\"Banc 128FAUXVRAIVRAIFAUXFAUX\",BDD!$V$2:$V$3)","v":0},{"$f":"SUMIF(BDD!$BC$2:$BC$3,\"Banc 128FAUXVRAIFAUXVRAIFAUX\",BDD!$V$2:$V$3)","v":0},{"$f":"SUMIF(BDD!$BC$2:$BC$3,\"Banc 128FAUXVRAIFAUXFAUXVRAI\",BDD!$V$2:$V$3)","v":0},{"$f":"SUMIF(BDD!$BC$2:$BC$3,\"Banc 128VRAIFAUXVRAIFAUXFAUX\",BDD!$V$2:$V$3)","v":0},{"$f":"SUMIF(BDD!$BC$2:$BC$3,\"Banc 128VRAIFAUXFAUXVRAIFAUX\",BDD!$V$2:$V$3)","v":0},{"$f":"SUMIF(BDD!$BC$2:$BC$3,\"Banc 128VRAIFAUXFAUXFAUXVRAI\",BDD!$V$2:$V$3)","v":0},{"$f":"SUMIF(BDD!$BC$2:$BC$3,\"Banc 128FAUXVRAIVRAIFAUXFAUX\",BDD!$V$2:$V$3)","v":0},{"$f":"SUMIF(BDD!$BC$2:$BC$3,\"Banc 128FAUXVRAIFAUXVRAIFAUX\",BDD!$V$2:$V$3)","v":0},{"$f":"SUMIF(BDD!$BC$2:$BC$3,\"Banc 128FAUXVRAIFAUXFAUXVRAI\",BDD!$V$2:$V$3)","v":0},{"$f":"SUMIF(BDD!$BC$2:$BC$3,\"Banc 128VRAIFAUXVRAIFAUXFAUX\",BDD!$V$2:$V$3)","v":0},{"$f":"SUMIF(BDD!$BC$2:$BC$3,\"Banc 128VRAIFAUXFAUXVRAIFAUX\",BDD!$V$2:$V$3)","v":0},{"$f":"SUMIF(BDD!$BC$2:$BC$3,\"Banc 128VRAIFAUXFAUXFAUXVRAI\",BDD!$V$2:$V$3)","v":0},{"$f":"SUMIF(BDD!$BC$2:$BC$3,\"Banc 128FAUXVRAIVRAIFAUXFAUX\",BDD!$V$2:$V$3)","v":0},{"$f":"SUMIF(BDD!$BC$2:$BC$3,\"Banc 128FAUXVRAIFAUXVRAIFAUX\",BDD!$V$2:$V$3)","v":0},{"$f":"SUMIF(BDD!$BC$2:$BC$3,\"Banc 128FAUXVRAIFAUXFAUXVRAI\",BDD!$V$2:$V$3)","v":0},{"$f":"SUMIF(BDD!$BC$2:$BC$3,\"Banc 128VRAIFAUXVRAIFAUXFAUX\",BDD!$V$2:$V$3)","v":0},{"$f":"SUMIF(BDD!$BC$2:$BC$3,\"Banc 128VRAIFAUXFAUXVRAIFAUX\",BDD!$V$2:$V$3)","v":0},{"$f":"SUMIF(BDD!$BC$2:$BC$3,\"Banc 128VRAIFAUXFAUXFAUXVRAI\",BDD!$V$2:$V$3)","v":0},{"$f":"SUMIF(BDD!$BC$2:$BC$3,\"Banc 128FAUXVRAIVRAIFAUXFAUX\",BDD!$V$2:$V$3)","v":0},{"$f":"SUMIF(BDD!$BC$2:$BC$3,\"Banc 128FAUXVRAIFAUXVRAIFAUX\",BDD!$V$2:$V$3)","v":0},{"$f":"SUMIF(BDD!$BC$2:$BC$3,\"Banc 128FAUXVRAIFAUXFAUXVRAI\",BDD!$V$2:$V$3)","v":0}]
["Banc 131",{"$f":"SUMIF(BDD!$BC$2:$BC$3,\"Banc 131VRAIFAUXVRAIFAUXFAUX\",BDD!$V$2:$V$3)","v":0},{"$f":"SUMIF(BDD!$BC$2:$BC$3,\"Banc 131VRAIFAUXFAUXVRAIFAUX\",BDD!$V$2:$V$3)","v":0},{"$f":"SUMIF(BDD!$BC$2:$BC$3,\"Banc 131VRAIFAUXFAUXFAUXVRAI\",BDD!$V$2:$V$3)","v":0},{"$f":"SUMIF(BDD!$BC$2:$BC$3,\"Banc 131FAUXVRAIVRAIFAUXFAUX\",BDD!$V$2:$V$3)","v":0},{"$f":"SUMIF(BDD!$BC$2:$BC$3,\"Banc 131FAUXVRAIFAUXVRAIFAUX\",BDD!$V$2:$V$3)","v":0},{"$f":"SUMIF(BDD!$BC$2:$BC$3,\"Banc 131FAUXVRAIFAUXFAUXVRAI\",BDD!$V$2:$V$3)","v":0},{"$f":"SUMIF(BDD!$BC$2:$BC$3,\"Banc 131VRAIFAUXVRAIFAUXFAUX\",BDD!$V$2:$V$3)","v":0},{"$f":"SUMIF(BDD!$BC$2:$BC$3,\"Banc 131VRAIFAUXFAUXVRAIFAUX\",BDD!$V$2:$V$3)","v":0},{"$f":"SUMIF(BDD!$BC$2:$BC$3,\"Banc 131VRAIFAUXFAUXFAUXVRAI\",BDD!$V$2:$V$3)","v":0},{"$f":"SUMIF(BDD!$BC$2:$BC$3,\"Banc 131FAUXVRAIVRAIFAUXFAUX\",BDD!$V$2:$V$3)","v":0},{"$f":"SUMIF(BDD!$BC$2:$BC$3,\"Banc 131FAUXVRAIFAUXVRAIFAUX\",BDD!$V$2:$V$3)","v":0},{"$f":"SUMIF(BDD!$BC$2:$BC$3,\"Banc 131FAUXVRAIFAUXFAUXVRAI\",BDD!$V$2:$V$3)","v":0},{"$f":"SUMIF(BDD!$BC$2:$BC$683,\"Banc 131VRAIFAUXVRAIFAUXFAUX\",BDD!$V$2:$V$683)","v":0},{"$f":"SUMIF(BDD!$BC$2:$BC$683,\"Banc 131VRAIFAUXFAUXVRAIFAUX\",BDD!$V$2:$V$683)","v":0},{"$f":"SUMIF(BDD!$BC$2:$BC$683,\"Banc 131VRAIFAUXFAUXFAUXVRAI\",BDD!$V$2:$V$683)","v":0},{"$f":"SUMIF(BDD!$BC$2:$BC$683,\"Banc 131FAUXVRAIVRAIFAUXFAUX\",BDD!$V$2:$V$683)","v":0},{"$f":"SUMIF(BDD!$BC$2:$BC$683,\"Banc 131FAUXVRAIFAUXVRAIFAUX\",BDD!$V$2:$V$683)","v":0},{"$f":"SUMIF(BDD!$BC$2:$BC$683,\"Banc 131FAUXVRAIFAUXFAUXVRAI\",BDD!$V$2:$V$683)","v":0},{"$f":"SUMIF(BDD!$BC$2:$BC$3,\"Banc 131VRAIFAUXVRAIFAUXFAUX\",BDD!$V$2:$V$3)","v":0},{"$f":"SUMIF(BDD!$BC$2:$BC$3,\"Banc 131VRAIFAUXFAUXVRAIFAUX\",BDD!$V$2:$V$3)","v":0},{"$f":"SUMIF(BDD!$BC$2:$BC$3,\"Banc 131VRAIFAUXFAUXFAUXVRAI\",BDD!$V$2:$V$3)","v":0},{"$f":"SUMIF(BDD!$BC$2:$BC$3,\"Banc 131FAUXVRAIVRAIFAUXFAUX\",BDD!$V$2:$V$3)","v":0},{"$f":"SUMIF(BDD!$BC$2:$BC$3,\"Banc 131FAUXVRAIFAUXVRAIFAUX\",BDD!$V$2:$V$3)","v":0},{"$f":"SUMIF(BDD!$BC$2:$BC$3,\"Banc 131FAUXVRAIFAUXFAUXVRAI\",BDD!$V$2:$V$3)","v":0},{"$f":"SUMIF(BDD!$BC$2:$BC$3,\"Banc 131VRAIFAUXVRAIFAUXFAUX\",BDD!$V$2:$V$3)","v":0},{"$f":"SUMIF(BDD!$BC$2:$BC$3,\"Banc 131VRAIFAUXFAUXVRAIFAUX\",BDD!$V$2:$V$3)","v":0},{"$f":"SUMIF(BDD!$BC$2:$BC$3,\"Banc 131VRAIFAUXFAUXFAUXVRAI\",BDD!$V$2:$V$3)","v":0},{"$f":"SUMIF(BDD!$BC$2:$BC$3,\"Banc 131FAUXVRAIVRAIFAUXFAUX\",BDD!$V$2:$V$3)","v":0},{"$f":"SUMIF(BDD!$BC$2:$BC$3,\"Banc 131FAUXVRAIFAUXVRAIFAUX\",BDD!$V$2:$V$3)","v":0},{"$f":"SUMIF(BDD!$BC$2:$BC$3,\"Banc 131FAUXVRAIFAUXFAUXVRAI\",BDD!$V$2:$V$3)","v":0},{"$f":"SUMIF(BDD!$BC$2:$BC$3,\"Banc 131VRAIFAUXVRAIFAUXFAUX\",BDD!$V$2:$V$3)","v":0},{"$f":"SUMIF(BDD!$BC$2:$BC$3,\"Banc 131VRAIFAUXFAUXVRAIFAUX\",BDD!$V$2:$V$3)","v":0},{"$f":"SUMIF(BDD!$BC$2:$BC$3,\"Banc 131VRAIFAUXFAUXFAUXVRAI\",BDD!$V$2:$V$3)","v":0},{"$f":"SUMIF(BDD!$BC$2:$BC$3,\"Banc 131FAUXVRAIVRAIFAUXFAUX\",BDD!$V$2:$V$3)","v":0},{"$f":"SUMIF(BDD!$BC$2:$BC$3,\"Banc 131FAUXVRAIFAUXVRAIFAUX\",BDD!$V$2:$V$3)","v":0},{"$f":"SUMIF(BDD!$BC$2:$BC$3,\"Banc 131FAUXVRAIFAUXFAUXVRAI\",BDD!$V$2:$V$3)","v":0},{"$f":"SUMIF(BDD!$BC$2:$BC$3,\"Banc 131VRAIFAUXVRAIFAUXFAUX\",BDD!$V$2:$V$3)","v":0},{"$f":"SUMIF(BDD!$BC$2:$BC$3,\"Banc 131VRAIFAUXFAUXVRAIFAUX\",BDD!$V$2:$V$3)","v":0},{"$f":"SUMIF(BDD!$BC$2:$BC$3,\"Banc 131VRAIFAUXFAUXFAUXVRAI\",BDD!$V$2:$V$3)","v":0},{"$f":"SUMIF(BDD!$BC$2:$BC$3,\"Banc 131FAUXVRAIVRAIFAUXFAUX\",BDD!$V$2:$V$3)","v":0},{"$f":"SUMIF(BDD!$BC$2:$BC$3,\"Banc 131FAUXVRAIFAUXVRAIFAUX\",BDD!$V$2:$V$3)","v":0},{"$f":"SUMIF(BDD!$BC$2:$BC$3,\"Banc 131FAUXVRAIFAUXFAUXVRAI\",BDD!$V$2:$V$3)","v":0},{"$f":"SUMIF(BDD!$BC$2:$BC$3,\"Banc 131VRAIFAUXVRAIFAUXFAUX\",BDD!$V$2:$V$3)","v":0},{"$f":"SUMIF(BDD!$BC$2:$BC$3,\"Banc 131VRAIFAUXFAUXVRAIFAUX\",BDD!$V$2:$V$3)","v":0},{"$f":"SUMIF(BDD!$BC$2:$BC$3,\"Banc 131VRAIFAUXFAUXFAUXVRAI\",BDD!$V$2:$V$3)","v":0},{"$f":"SUMIF(BDD!$BC$2:$BC$3,\"Banc 131FAUXVRAIVRAIFAUXFAUX\",BDD!$V$2:$V$3)","v":0},{"$f":"SUMIF(BDD!$BC$2:$BC$3,\"Banc 131FAUXVRAIFAUXVRAIFAUX\",BDD!$V$2:$V$3)","v":0},{"$f":"SUMIF(BDD!$BC$2:$BC$3,\"Banc 131FAUXVRAIFAUXFAUXVRAI\",BDD!$V$2:$V$3)","v":0},{"$f":"SUMIF(BDD!$BC$2:$BC$3,\"Banc 131VRAIFAUXVRAIFAUXFAUX\",BDD!$V$2:$V$3)","v":0},{"$f":"SUMIF(BDD!$BC$2:$BC$3,\"Banc 131VRAIFAUXFAUXVRAIFAUX\",BDD!$V$2:$V$3)","v":0},{"$f":"SUMIF(BDD!$BC$2:$BC$3,\"Banc 131VRAIFAUXFAUXFAUXVRAI\",BDD!$V$2:$V$3)","v":0},{"$f":"SUMIF(BDD!$BC$2:$BC$3,\"Banc 131FAUXVRAIVRAIFAUXFAUX\",BDD!$V$2:$V$3)","v":0},{"$f":"SUMIF(BDD!$BC$2:$BC$3,\"Banc 131FAUXVRAIFAUXVRAIFAUX\",BDD!$V$2:$V$3)","v":0},{"$f":"SUMIF(BDD!$BC$2:$BC$3,\"Banc 131FAUXVRAIFAUXFAUXVRAI\",BDD!$V$2:$V$3)","v":0},{"$f":"SUMIF(BDD!$BC$2:$BC$3,\"Banc 131VRAIFAUXVRAIFAUXFAUX\",BDD!$V$2:$V$3)","v":0},{"$f":"SUMIF(BDD!$BC$2:$BC$3,\"Banc 131VRAIFAUXFAUXVRAIFAUX\",BDD!$V$2:$V$3)","v":0},{"$f":"SUMIF(BDD!$BC$2:$BC$3,\"Banc 131VRAIFAUXFAUXFAUXVRAI\",BDD!$V$2:$V$3)","v":0},{"$f":"SUMIF(BDD!$BC$2:$BC$3,\"Banc 131FAUXVRAIVRAIFAUXFAUX\",BDD!$V$2:$V$3)","v":0},{"$f":"SUMIF(BDD!$BC$2:$BC$3,\"Banc 131FAUXVRAIFAUXVRAIFAUX\",BDD!$V$2:$V$3)","v":0},{"$f":"SUMIF(BDD!$BC$2:$BC$3,\"Banc 131FAUXVRAIFAUXFAUXVRAI\",BDD!$V$2:$V$3)","v":0},{"$f":"SUMIF(BDD!$BC$2:$BC$3,\"Banc 131VRAIFAUXVRAIFAUXFAUX\",BDD!$V$2:$V$3)","v":0},{"$f":"SUMIF(BDD!$BC$2:$BC$3,\"Banc 131VRAIFAUXFAUXVRAIFAUX\",BDD!$V$2:$V$3)","v":0},{"$f":"SUMIF(BDD!$BC$2:$BC$3,\"Banc 131VRAIFAUXFAUXFAUXVRAI\",BDD!$V$2:$V$3)","v":0},{"$f":"SUMIF(BDD!$BC$2:$BC$3,\"Banc 131FAUXVRAIVRAIFAUXFAUX\",BDD!$V$2:$V$3)","v":0},{"$f":"SUMIF(BDD!$BC$2:$BC$3,\"Banc 131FAUXVRAIFAUXVRAIFAUX\",BDD!$V$2:$V$3)","v":0},{"$f":"SUMIF(BDD!$BC$2:$BC$3,\"Banc 131FAUXVRAIFAUXFAUXVRAI\",BDD!$V$2:$V$3)","v":0},{"$f":"SUMIF(BDD!$BC$2:$BC$3,\"Banc 131VRAIFAUXVRAIFAUXFAUX\",BDD!$V$2:$V$3)","v":0},{"$f":"SUMIF(BDD!$BC$2:$BC$3,\"Banc 131VRAIFAUXFAUXVRAIFAUX\",BDD!$V$2:$V$3)","v":0},{"$f":"SUMIF(BDD!$BC$2:$BC$3,\"Banc 131VRAIFAUXFAUXFAUXVRAI\",BDD!$V$2:$V$3)","v":0},{"$f":"SUMIF(BDD!$BC$2:$BC$3,\"Banc 131FAUXVRAIVRAIFAUXFAUX\",BDD!$V$2:$V$3)","v":0},{"$f":"SUMIF(BDD!$BC$2:$BC$3,\"Banc 131FAUXVRAIFAUXVRAIFAUX\",BDD!$V$2:$V$3)","v":0},{"$f":"SUMIF(BDD!$BC$2:$BC$3,\"Banc 131FAUXVRAIFAUXFAUXVRAI\",BDD!$V$2:$V$3)","v":0}]

{"sheet":"Indicateur Banc","index":8,"n_rows":8,"n_cols":13,"rows_kept":8,"cut":false,"hidden":false,"merged":[[2,1,2,12],[4,1,4,12],[6,1,6,12]]}
[]
[]
[null,"Suivi du correctif et du préventif"]
["Type de maintenance","Janvier","Février","Mars","Avril","Mai","Juin","Juillet","Août","Septembre","Octobre","Novembre","Décembre"]
[null,"Préventif"]
[true,{"$f":"SUMIF(BDD!$M$2:$M$3,'Indicateur Banc'!$A$6,BDD!$V$2:$V$3)","v":0},{"$f":"SUMIF(BDD!$M$2:$M$3,'Indicateur Banc'!$A$6,BDD!$V$2:$V$3)","v":0},{"$f":"SUMIF(BDD!$M$2:$M$30,'Indicateur Banc'!$A$6,BDD!$V$2:$V$30)","v":33.599999999999994},{"$f":"SUMIF(BDD!$M$2:$M$3,'Indicateur Banc'!$A$6,BDD!$V$2:$V$3)","v":0},{"$f":"SUMIF(BDD!$M$2:$M$3,'Indicateur Banc'!$A$6,BDD!$V$2:$V$3)","v":0},{"$f":"SUMIF(BDD!$M$2:$M$3,'Indicateur Banc'!$A$6,BDD!$V$2:$V$3)","v":0},{"$f":"SUMIF(BDD!$M$2:$M$3,'Indicateur Banc'!$A$6,BDD!$V$2:$V$3)","v":0},{"$f":"SUMIF(BDD!$M$2:$M$3,'Indicateur Banc'!$A$6,BDD!$V$2:$V$3)","v":0},{"$f":"SUMIF(BDD!$M$2:$M$3,'Indicateur Banc'!$A$6,BDD!$V$2:$V$3)","v":0},{"$f":"SUMIF(BDD!$M$2:$M$3,'Indicateur Banc'!$A$6,BDD!$V$2:$V$3)","v":0},{"$f":"SUMIF(BDD!$M$2:$M$3,'Indicateur Banc'!$A$6,BDD!$V$2:$V$3)","v":0},{"$f":"SUMIF(BDD!$M$2:$M$3,'Indicateur Banc'!$A$6,BDD!$V$2:$V$3)","v":0}]
[null,"Correctif"]
[true,{"$f":"SUMIF(BDD!$L$2:$L$3,'Indicateur Banc'!$A$8,BDD!$V$2:$V$3)","v":0},{"$f":"SUMIF(BDD!$L$2:$L$3,'Indicateur Banc'!$A$8,BDD!$V$2:$V$3)","v":0},{"$f":"SUMIF(BDD!$L$2:$L$30,'Indicateur Banc'!$A$8,BDD!$V$2:$V$30)","v":5.4699999999999989},{"$f":"SUMIF(BDD!$L$2:$L$3,'Indicateur Banc'!$A$8,BDD!$V$2:$V$3)","v":0},{"$f":"SUMIF(BDD!$L$2:$L$3,'Indicateur Banc'!$A$8,BDD!$V$2:$V$3)","v":0},{"$f":"SUMIF(BDD!$L$2:$L$3,'Indicateur Banc'!$A$8,BDD!$V$2:$V$3)","v":0},{"$f":"SUMIF(BDD!$L$2:$L$3,'Indicateur Banc'!$A$8,BDD!$V$2:$V$3)","v":0},{"$f":"SUMIF(BDD!$L$2:$L$3,'Indicateur Banc'!$A$8,BDD!$V$2:$V$3)","v":0},{"$f":"SUMIF(BDD!$L$2:$L$3,'Indicateur Banc'!$A$8,BDD!$V$2:$V$3)","v":0},{"$f":"SUMIF(BDD!$L$2:$L$3,'Indicateur Banc'!$A$8,BDD!$V$2:$V$3)","v":0},{"$f":"SUMIF(BDD!$L$2:$L$3,'Indicateur Banc'!$A$8,BDD!$V$2:$V$3)","v":0},{"$f":"SUMIF(BDD!$L$2:$L$3,'Indicateur Banc'!$A$8,BDD!$V$2:$V$3)","v":0}]