{"text_format":"1","workbook":"xlsx","n_sheets":9,"sheets":["Fiche d'intervention","BDD","Liste","Indicateur Zone5","Indicateur Zone6","Indicateur Zone8","Indicateur Zone9","Indicateur Zone10","Indicateur Banc"],"not_rendered":{"charts":21,"images":4,"macros":1,"external_links":0,"defined_names":3,"comments":0,"pivot_tables":0},"unopened":[],"bounds":{"document_bytes":16777216,"sheet_cells":100000,"rows_first":2000,"rows_last":500,"rows_between":2000,"halvings":0,"cell_chars":16384,"cell_head_chars":4096},"cells_cut":0,"cells_raw":0,"read":"whole","date_system":"1900"}

{"sheet":"Fiche d'intervention","index":0,"n_rows":51,"n_cols":16,"rows_kept":51,"cut":false,"hidden":true,"merged":[[24,2,25,4],[24,5,25,9],[33,12,35,13],[36,12,36,13],[37,12,38,13],[12,15,12,16],[13,15,13,16],[14,15,14,16],[8,15,8,16],[1,18,9,20],[15,15,16,16],[15,17,16,17],[17,15,17,16],[29,8,29,9],[9,8,10,11],[9,12,10,13],[11,10,11,13],[11,6,11,9],[14,6,14,7],[12,8,12,9],[13,8,13,9],[14,8,14,9],[17,2,17,13],[18,2,23,13],[15,2,16,13],[24,10,25,13],[56,2,56,6],[56,7,56,10],[56,11,56,13],[30,2,31,13],[26,8,26,9],[27,8,27,9],[28,8,28,9],[28,10,28,12],[29,10,29,12],[26,10,26,12],[27,10,27,12],[26,2,26,3],[27,2,27,3],[28,2,28,3],[29,2,29,3],[51,7,52,10],[60,2,60,6],[60,7,60,10],[60,11,60,13],[57,2,57,6],[57,7,57,10],[57,11,57,13],[58,2,58,6],[58,7,58,10],[58,11,58,13],[59,2,59,6],[59,7,59,10],[59,11,59,13],[51,11,52,13],[32,2,38,11],[50,7,50,10],[50,11,50,13],[48,2,49,13],[39,2,40,13],[41,2,47,13],[32,12,32,13],[55,11,55,13],[54,11,54,13],[53,11,53,13],[55,7,55,10],[54,7,54,10],[53,7,53,10],[6,2,7,13],[0,13,4,13],[0,5,4,12],[8,2,8,7],[10,2,10,7],[14,2,14,5],[12,6,12,7],[8,8,8,11],[8,12,8,13],[11,2,11,5],[9,3,9,7],[12,3,12,5],[13,3,13,5],[13,6,13,7],[12,10,14,13],[55,2,55,6],[50,2,50,6],[54,2,54,6],[53,2,53,6],[51,2,52,6]]}
[null,null,null,null,null,"FICHE D'INTERVENTION MAINTENANCE",null,null,null,null,null,null,null,"FI23"]
[]
[]
[]
[]
[]
[null,null,"Compte-rendu d'intervention"]
[]
[null,null,"Demandeur",null,null,null,null,null,"Système",null,null,null,"Compteur machine",null,null,"Statut fiche d'intervention"]
[null,null,"Nom:","romain.dehan",null,null,null,null,"Machine à laver",null,null,null,0]
[]
[null,null,"Intervenant(s)",null,null,null,"Priorité",null,null,null,"Date de création de la demande"]
[null,null,"Nom :","T.HEMART",null,null,1,null,true,null,"2016-03-30"]
[null,null,"Nom :",null,null,null,2,null,false,null,null,null,null,null,null,"Intervention en attente"]
[null,null,"Secteur Maintenance",null,null,null,3,true,false,null,null,null,null,null,null,"Intervention  finalisée"]
[null,null,"Localisation de l'intervention",null,null,null,null,null,null,null,null,null,null,null,null,"Intervention en attente de pièce"]
[]
[null,null,"Description de la demande",null,null,null,null,null,null,null,null,null,null,null,null,"Intervention en cours"]
[null,null,"La machine à laver ne fonctionne plus."]
[]
[]
[]
[]
[]
[null,null,"Type de maintenance",null,null,"Type d'intervention",null,null,null,null,"Cause de défaillance"]
[]
[null,null,"Corrective",null,true,"Electrique",false,"Mesure",false,null,"Usure normale",null,null,true]
[null,null,"Préventive",null,false,"Mécanique",true,null,true,null,"Défaut utilisateur",null,null,false]
[null,null,"Préparation essais",null,null,"Hydraulique",false,null,false,null,"Défaut produit",null,null,false]
[null,null,"Amélioration",null,null,"Informatique",null,null,null,null,"Autre",null,null,false]
[null,null,"Cause liée à la défaillance"]
[]
[null,null,null,null,null,null,null,null,null,null,null,null,"Temps d'intervention en heure"]
[]
[]
[]
[null,null,null,null,null,null,null,null,null,null,null,null,"Date de fin d'intervention"]
[]
[]
[null,null,"Rapport d'intervention"]
[]
[null,null,"La DA pour la pompe est faite et validée par Philippe. L'envoi de la pompe a été anticipé par le fournisseur JEAN BREL S.A."]
[]
[]
[]
[]
[]
[]
[null,null,"Pièces de rechange et consommables"]
[]
[null,null,"Désignation",null,null,null,null,"Marque / Référence",null,null,null,"Quantité"]

{"sheet":"BDD","index":1,"n_rows":456,"n_cols":60,"rows_kept":456,"cut":false,"hidden":true,"merged":[[0,28,0,37],[0,38,0,47],[0,48,0,57],[0,4,0,6]]}
["N° intervention","Demandeur","Nom Intervenant","Nom intervenant ","Priorité                                            1                    2                   3",null,null,"Systéme","Compteur machine","Date","Description de la demande","Corrective","Préventive","Préparation essai","Amélioration","Electrique","Mécanique","Hydraulique","Informatique","Mesure","Usure normale","Défaut utilisateur","Défaut produit","Autre","Cause lié à la défaillance","Temps d'intervention","Date de fin d'intervention","Rapport d'intervention","Désignation",null,null,null,null,null,null,null,null,null,"Marque / Référence",null,null,null,null,null,null,null,null,null,"Quantité",null,null,null,null,null,null,null,null,null,"Formule","Formule"]
[]
[]
[]
[]
[]
["FI6","GUILLAUME SEBASTIEN","HEMART",null,true,false,false,"Banc 128",1234,"2016-03-18","Problème sur limiteur de pression Ligne M",true,false,null,null,false,false,true,null,null,false,false,true,false,"Pollution",1,null,"DEMONTAGE NETTOYAGE ET REMONTAGE DU LIMIEUR DE PRESSION",null,null,null,null,null,null,null,null,null,null,null,null,null,null,null,null,null,null,null,null,null,null,null,null,null,null,null,null,null,null,{"$f":"H7&L7&M7","v":"Banc 128VRAIFAUX"},{"$f":"H7&L7&M7&P7&Q7&R7","v":"Banc 128VRAIFAUXFAUXFAUXVRAI"}]
["FI7","C.GAUVIN","A.DELAUNAY",null,true,false,false,"Banc 126",9316,"2016-03-18","TLC_RPP-516-941 prog automate + câblage bobines voir Jonathan BARRA - Chronogramme dans la TLC",false,true,null,null,true,false,false,null,null,false,false,false,true,"AUCUNE",0.3,null,"Programme finalisé, en attente par la suite du montage de l'essai sur le banc.",null,null,null,null,null,null,null,null,null,null,null,null,null,null,null,null,null,null,null,null,null,null,null,null,null,null,null,null,null,null,"Banc 126FAUXVRAI","Banc 126FAUXVRAIVRAIFAUXFAUX"]
["FI8","C.GAUVIN","T.HEMART",null,true,false,false,"Banc 125",59195,"2016-03-22","VIBRATIONS ANORMALES DES 2 RETOURS P10 SUR REFRIGERANTS",true,false,null,null,false,false,true,null,null,true,false,false,false,"VIEILLISSEMENT DES 2 P10 SUR RETOUR REFRIGERANT",2.2999999999999998,null,"CHANGEMENT DES 2 P10 PAR DES NEUFS",null,null,null,null,null,null,null,null,null,null,null,null,null,null,null,null,null,null,null,null,null,null,null,null,null,null,null,null,null,null,"Banc 125VRAIFAUX","Banc 125VRAIFAUXFAUXFAUXVRAI"]
["FI9","C.GAUVIN","T.HEMART","J.BOUCHER",true,false,false,"Banc 123",75697,"2016-03-22","VIDANGE DE L'HUILE XV32 / RINCAGE / REMPLISSAGE EN HUILE HV46\nDISPONIBILITE DU BANC POUR VENDREDI MATIN",false,true,null,null,false,false,true,null,null,false,false,false,false,"USURE DE L'HUILE XV32 PREMATUREE",32,null,"Vidange, rinçage, nettoyage, remplissage en HV 46 et changement de tout les filtres","Filtre",null,null,null,null,null,null,null,null,null,"Relumix 483-4/P10",null,null,null,null,null,null,null,null,null,3,null,null,null,null,null,null,null,null,null,"Banc 123FAUXVRAI","Banc 123FAUXVRAIFAUXFAUXVRAI"]
["FI10","GARCIA SANCHEZ","GARCIA SANCHEZ",null,true,false,false,"Banc P7",7569,"2016-03-22","Le variateur ne demarre pas ",true,false,null,null,true,false,false,null,null,false,true,false,false,"Arrêt d'urgence variateur activer",0.15,null,"Désactivation arrêt d'urgence",null,null,null,null,null,null,null,null,null,null,null,null,null,null,null,null,null,null,null,null,null,null,null,null,null,null,null,null,null,null,"Banc P7VRAIFAUX","Banc P7VRAIFAUXVRAIFAUXFAUX"]
["FI11","BARRA","J.BOUCHER",null,true,false,false,"Banc 104","4210,35","2016-03-22","LA PRESSION N'EST PAS STABLE SUR LA LIGNE 8",false,true,null,null,false,false,true,null,null,false,false,false,true,"AUCUNE",1,null,"DEMONTAGE / NETTOYAGE / REMONTAGE DU LP8","LIMITEUR DE PRESSION 8",null,null,null,null,null,null,null,null,null,null,null,null,null,null,null,null,null,null,null,1,null,null,null,null,null,null,null,null,null,"Banc 104FAUXVRAI","Banc 104FAUXVRAIFAUXFAUXVRAI"]
["FI12","BARRA","J.BOUCHER",null,true,false,false,"Banc 104","4210,35","2016-03-22","Probleme de régulation de RD8 (vitesse du moteur en test trop instable en PEV)",true,false,null,null,false,false,true,null,null,false,false,false,false,null,2,null,"Remplacement du RD8 par RD9","Réducteur de debit",null,null,null,null,null,null,null,null,null,null,null,null,null,null,null,null,null,null,null,"1 envoyer chez équipe",null,null,null,null,null,null,null,null,null,"Banc 104VRAIFAUX","Banc 104VRAIFAUXFAUXFAUXVRAI"]
["FI13","romain.dehan","Boucher",null,false,true,false,"Banc 124",12795,"2016-03-21","REFAIRE LE NIVEAU D'HUILE JUSQU'AU MILIEU DE LA SECONDE BULLE",false,true,null,null,false,false,true,null,null,false,false,false,true,"Fuite dans le recepteur du 124bis.",0.3,null,"RAS",null,null,null,null,null,null,null,null,null,null,null,null,null,null,null,null,null,null,null,null,null,null,null,null,null,null,null,null,null,null,"Banc 124FAUXVRAI","Banc 124FAUXVRAIFAUXFAUXVRAI"]
["FI15","christophe.gauvin","A. DELAUNAY",null,true,false,false,"Chambre froide",2731,"2016-03-24","RPP_624-500-965 Installation d'un clignoteur pour le pilotage d'un distributeur. Voir Aëlig",false,true,null,null,true,false,false,null,null,false,false,false,false,"Installation a réaliser dans le cdre d'un essai RPP_624-500-965",0.3,null,"Installation du clignoteur effectué, branchement de la bobine du distributeur faite et relié à une alimentation 24VDC se situant au banc d'essais P1","Câble\n",null,null,null,null,null,null,null,null,null,"2X1 HO7RNF",null,null,null,null,null,null,null,null,null,"10 M",null,null,null,null,null,null,null,null,null,"Chambre froideFAUXVRAI","Chambre froideFAUXVRAIVRAIFAUXFAUX"]
[]
["FI16","romain.dehan","J. BOUCHER",null,false,true,false,"Banc 120",26687,"2016-03-29","Refaire 3 plaques de fermeture sur le réservoir dont une équiper d'un filtre à air",false,true,null,null,false,false,true,null,null,false,false,false,true,"Perte des bouchons de réservoir liés à l'installation des retours directs dans le réservoir",0.1,null,"Mise en place de 2 bouchons et changement de la 3eme plaque par une plaque pleine."]
["FI17","romain.dehan",null,null,false,false,false,"Banc 104",4206,"2016-03-30","Intervertir RD8 et RD9 pour test de pilotage",false,false,null,null,false,false,false,null,null,false,false,false,false]
["FI18","romain.dehan","HEMART Thibault",null,false,false,false,"Banc 125",59350,"2016-03-30","Remplacement du bloc pelle par un gros CETOP 5 avant le contrôle des débits sur HP MENANT",true,false,null,null,false,false,true,null,null,false,false,false,true,null,2.5,null,"Changement du distributeur afin de déterminer si celui-ci est la cause des oscillations de pressions enregistrées sur le banc.","Distributeur électro-hydraulique 4/3 croisé parallèle centre en H",null,null,null,null,null,null,null,null,null,"ATOS",null,null,null,null,null,null,null,null,null,1]
["FI19","romain.dehan","Delaunay Alexandre",null,false,false,false,"Porte bâtiment",0,"2016-03-30","Problème détection du capteur de porte déroulante côté véhicule",true,false,null,null,true,false,false,null,null,false,false,false,false,"Capteur mal régleé par l'installateur sous traitant",0.5,null,"Réglage des axes x et y du capteur"]
["FI20","romain.dehan",null,null,false,false,false,"Banc 104",4206,"2016-03-30","Intervertir RD8 et RD9 pour test de pilotage",false,false,null,null,false,false,false,null,null,false,false,false,false]
["FI21","romain.dehan","David Garcia",null,true,false,false,"Banc P1",59173,"2016-03-24","Variateur en défaut",true,false,null,null,true,false,false,null,null,false,false,false,true,"Moteur chauffe trop par rapport a l'essai demander",0.02,null,"Reset défaut variateur"]
["FI22","romain.dehan","Delaunay Alexandre","Potier Hubert",false,false,false,"Banc 123",75740,"30/30/2016","Refixer l'armoire à Mano + fixer le mano se trouvant au sol sur celle-ci",true,false,null,null,false,true,false,null,null,false,false,false,true,null,0.5,null,"Coffret des manos soudé sur le pupitre, le mano se trouvant sur le sol n'a pas été fixer car le banc va être très bientôt rénové."]
["FI23","romain.dehan","T.HEMART",null,true,false,false,"Machine à laver",0,"2016-03-30","La machine à laver ne fonctionne plus.",true,false,null,null,false,true,false,null,false,true,false,false,false,null,null,null,"La DA pour la pompe est faite et validée par Philippe. L'envoi de la pompe a été anticipé par le fournisseur JEAN BREL S.A."]
["FI24","romain.dehan",null,null,false,false,false,"Banc 128",4124,"31/04/2016","Le réducteur de débit RD BAL présente  des signes de collage. ",false,false,null,null,false,false,false,null,null,false,false,false,false]
["FI25","lilian.charlier",null,null,false,false,false,"Banc électroniques",0,"2016-04-04","Demande officielle pour le déplacement des bancs électroniques situés derrière le nouveau P9 (bancs + armoires). Ils sont à replacer en face du magasin de raccords (au niveau des poteaux à coté de la TY45). Il faut aussi les raccorder électriquement. Merci d'avance, Lilian.",false,false,null,null,false,false,false,null,null,false,false,false,false,null,null,null,null,null,null,null,null,null,null,null,null,null,null,null,null,null,null,null,null,null,null,null,null,null,null,null,null,null,null,null,null,null,null,"Banc électroniquesFAUXFAUX","Banc électroniquesFAUXFAUXFAUXFAUXFAUX"]
["FI26","romain.dehan",null,null,false,false,false,"Banc 124 bis",7,"2016-04-04"," Raccorder la remontée d’huile sur le bac de rétention de la platine d’essai\n",false,false,null,null,false,false,false,null,null,false,false,false,false,null,null,null,null,null,null,null,null,null,null,null,null,null,null,null,null,null,null,null,null,null,null,null,null,null,null,null,null,null,null,null,null,null,null,"Banc 124 bisFAUXFAUX","Banc 124 bisFAUXFAUXFAUXFAUXFAUX"]
["FI27","yann.nourricier",null,null,false,false,false,"Banc 128",4128,"2016-04-05","Suite à la maintenance préventive d'InTest, il faut : Mettre en place des borniers, repérer les câbles et passé sur des plus petite section.",false,false,null,null,false,false,false,null,null,false,false,false,false,null,null,null,null,null,null,null,null,null,null,null,null,null,null,null,null,null,null,null,null,null,null,null,null,null,null,null,null,null,null,null,null,null,null,"Banc 128FAUXFAUX","Banc 128FAUXFAUXFAUXFAUXFAUX"]
["FI28","yann.nourricier",null,null,false,false,false,"Banc 128",4128,"2016-04-05","Suite à la maintenance préventive d'InTest, il y a une fuite d'huile dans la centrale hydraulique dans le bac de rétention",false,false,null,null,false,false,false,null,null,false,false,false,false,null,null,null,null,null,null,null,null,null,null,null,null,null,null,null,null,null,null,null,null,null,null,null,null,null,null,null,null,null,null,null,null,null,null,"Banc 128FAUXFAUX","Banc 128FAUXFAUXFAUXFAUXFAUX"]
["FI29","yann.nourricier",null,null,false,false,false,"Banc 128",4128,"2016-04-05","Il faudrait mettre à jours les schémas électrique.",false,false,null,null,false,false,false,null,null,false,false,false,false,null,null,null,null,null,null,null,null,null,null,null,null,null,null,null,null,null,null,null,null,null,null,null,null,null,null,null,null,null,null,null,null,null,null,"Banc 128FAUXFAUX","Banc 128FAUXFAUXFAUXFAUXFAUX"]
["FI30","yann.nourricier","A.Delaunay",null,false,true,false,"Banc 131",2309,"2016-04-05","Les relais de l'armoire de puissance n'ont pas de diode de roue libre. Est-il intéressant d'en mettre avec diode ? (pour éviter les arcs électrique)",false,true,null,null,true,false,false,null,null,false,false,false,true,null,0.1,null,"Les relais actuel supportent les arcs électriques",null,null,null,null,null,null,null,null,null,null,null,null,null,null,null,null,null,null,null,null,null,null,null,null,null,null,null,null,null,null,"Banc 131FAUXVRAI","Banc 131FAUXVRAIVRAIFAUXFAUX"]
["FI31","yann.nourricier",null,null,false,false,false,"Banc 131",2309,"2016-04-05","Il faudrait mettre à jours le schéma électrique du banc suite aux modifications apportées",false,false,null,null,false,false,false,null,null,false,false,false,false,null,null,null,null,null,null,null,null,null,null,null,null,null,null,null,null,null,null,null,null,null,null,null,null,null,null,null,null,null,null,null,null,null,null,"Banc 131FAUXFAUX","Banc 131FAUXFAUXFAUXFAUXFAUX"]
["FI32","yann.nourricier",null,null,false,false,false,"Banc 131",2309,"2016-04-05","Le banc possède une centrale MX879 dans l'armoire de puissance. il faudrait la retirer et déplacer le câble connecté dessus (Pilotage de la pompe P90) vers la tranche AO2 du barreau phoenix.",false,false,null,null,false,false,false,null,null,false,false,false,false,null,null,null,null,null,null,null,null,null,null,null,null,null,null,null,null,null,null,null,null,null,null,null,null,null,null,null,null,null,null,null,null,null,null,"Banc 131FAUXFAUX","Banc 131FAUXFAUXFAUXFAUXFAUX"]
["FI33","yann.nourricier","A.Delaunay",null,false,true,false,"Banc 104",4217,"2016-04-05","La grille de ventillation de l'armoire est cassé.",true,false,null,null,true,false,false,null,null,false,false,false,true,"Bloc du ventilateur cassé",0.1,null,"Pas de changement du bloc --> 500€/p le bloc ventilo, non génant pour son fonctionnement et pour la sécurité des personnes",null,null,null,null,null,null,null,null,null,null,null,null,null,null,null,null,null,null,null,null,null,null,null,null,null,null,null,null,null,null,"Banc 104VRAIFAUX","Banc 104VRAIFAUXVRAIFAUXFAUX"]
["FI34","yann.nourricier","A.Delaunay",null,false,false,true,"Banc 007",840,"2016-04-05","Il manque le cache de la goullotte dans le coffret de mesure dans l'enceinte du banc.",true,false,null,null,true,false,false,null,null,false,false,false,true,"Câble de mesure gênant pour la remise en place d'un couvercle",0.2,null,"Goulotte laissé sans couvercle qui n'est en rien génant pour le coffret tant esthétique que fonctionnel",null,null,null,null,null,null,null,null,null,null,null,null,null,null,null,null,null,null,null,null,null,null,null,null,null,null,null,null,null,null,"Banc 007VRAIFAUX","Banc 007VRAIFAUXVRAIFAUXFAUX"]
["FI35","yann.nourricier",null,null,false,false,false,"Banc 008",954,"2016-04-05","Il y a une fuite dans la centrale hydraulique.",false,false,null,null,false,false,false,null,null,false,false,false,false,null,null,null,null,null,null,null,null,null,null,null,null,null,null,null,null,null,null,null,null,null,null,null,null,null,null,null,null,null,null,null,null,null,null,"Banc 008FAUXFAUX","Banc 008FAUXFAUXFAUXFAUXFAUX"]
["FI36","yann.nourricier","A.Delaunay",null,false,false,true,"Banc 008",954,"2016-04-05","Il faudrait remplacer les filtres de l'armoire de puissance du banc et remettre en place un porte document dans l'armoire.",true,false,null,null,true,false,false,null,null,false,false,true,false,"Porte document de qualité médiocre",0.1,null,"Mise en place d'un porte document, filtre changé tous les 6 mois (aout, décembre)",null,null,null,null,null,null,null,null,null,null,null,null,null,null,null,null,null,null,null,null,null,null,null,null,null,null,null,null,null,null,"Banc 008VRAIFAUX","Banc 008VRAIFAUXVRAIFAUXFAUX"]
["FI37","yann.nourricier","GARCIA",null,false,true,false,"Banc 101",5376,"2016-04-05","Il faudrait changer les filtres de l'armoire électrique et un repérage manque sur un contact aux à côter de 42KM07",false,true,null,null,true,false,false,null,null,false,false,false,true,null,0.1,null," Mis en place de repères sur les fils du contact 42KM03 ainsi que sur le compteur car ce sont les fils qui vont du contact au compteur/ modification des schémas",null,null,null,null,null,null,null,null,null,null,null,null,null,null,null,null,null,null,null,null,null,null,null,null,null,null,null,null,null,null,"Banc 101FAUXVRAI","Banc 101FAUXVRAIVRAIFAUXFAUX"]
["FI38","yann.nourricier",null,null,false,false,false,"Banc 101",5376,"2016-04-05","Fuite d'huile dans la centrale hydraulique.",false,false,null,null,false,false,false,null,null,false,false,false,false,null,null,null,null,null,null,null,null,null,null,null,null,null,null,null,null,null,null,null,null,null,null,null,null,null,null,null,null,null,null,null,null,null,null,"Banc 101FAUXFAUX","Banc 101FAUXFAUXFAUXFAUXFAUX"]
["FI39","benjamin.eyraud","HEMART Thibault",null,true,false,false,"Pompe à eau",27949,"2016-04-05","les ventilateurs des tours couinent de manière très audible.",true,false,null,null,false,true,false,null,null,true,false,false,false,"Courroies détendues",1.3,null,"Tension des courroies"]
["FI40","romain.dehan",null,null,false,false,false,"Banc 124 bis",7,"2016-04-05","- Modifier le pont de clapet actuelle en correspondance avec le schéma hydraulique",false,false,null,null,false,false,false,null,null,false,false,false,false,null,null,null,null,null,null,null,null,null,null,null,null,null,null,null,null,null,null,null,null,null,null,null,null,null,null,null,null,null,null,null,null,null,null,"Banc 124 bisFAUXFAUX","Banc 124 bisFAUXFAUXFAUXFAUXFAUX"]
["FI41","romain.dehan","A.Delaunay",null,true,false,false,"Banc 124 bis",7,"2016-04-05","- Mettre à jours le schéma électrique du banc",true,false,null,null,true,false,false,null,null,false,false,false,true,null,1,null,"Mise à jours des chémas électrique",null,null,null,null,null,null,null,null,null,null,null,null,null,null,null,null,null,null,null,null,null,null,null,null,null,null,null,null,null,null,"Banc 124 bisVRAIFAUX","Banc 124 bisVRAIFAUXVRAIFAUXFAUX"]
["FI42","christophe.gauvin","T. HEMART",null,true,false,false,"Pompe à eau",0,"2016-04-05","Fuite d'eau se trouvant sur le haut du bromisateur",true,false,null,null,false,false,true,null,null,true,false,false,false,null,1,null,1,null,null,null,null,null,null,null,null,null,null,null,null,null,null,null,null,null,null,null,null,null,null,null,null,null,null,null,null,null,null,"Pompe à eauVRAIFAUX","Pompe à eauVRAIFAUXFAUXFAUXVRAI"]
["FI43","romain.dehan","HEMART Thibault",null,true,false,false,"Banc 113",19594,"2016-04-05","La presssion carter est trop élevé 3 bars",false,true,null,null,false,false,true,null,null,true,false,false,false,null,0.05,null,"Nettoyage du filtre magnétique situé sur le côté du reservoir",null,null,null,null,null,null,null,null,null,null,null,null,null,null,null,null,null,null,null,null,null,null,null,null,null,null,null,null,null,null,"Banc 113FAUXVRAI","Banc 113FAUXVRAIFAUXFAUXVRAI"]
["FI44","romain.dehan","D.GARCIA",null,false,false,false,"Banc 124 bis",7,"2016-04-05","Recopie distributeur proportionnel démonté. Cable électrique des contacts de fin de course des limiteurs de pression décablé. Finir quand société extérieur viendra",false,false,true,null,true,false,false,null,false,false,false,false,true,null,null,null,"Devis fais mais attente intervention Eqhyp lorsque l'essai en cours sera terminer.",null,null,null,null,null,null,null,null,null,null,null,null,null,null,null,null,null,null,null,null,null,null,null,null,null,null,null,null,null,null,"Banc 124 bisFAUXFAUX","Banc 124 bisFAUXFAUXVRAIFAUXFAUX"]
["FI45","romain.dehan",null,null,false,false,false,"Banc 124",12924,"2016-04-05","Bruit anormale de la pompe de recirculation et intensité moteur trop importante.",false,false,null,null,false,false,false,null,null,false,false,false,false,null,null,null,null,null,null,null,null,null,null,null,null,null,null,null,null,null,null,null,null,null,null,null,null,null,null,null,null,null,null,null,null,null,null,"Banc 124FAUXFAUX","Banc 124FAUXFAUXFAUXFAUXFAUX"]
["FI46","romain.dehan","J.BOUCHER","T.HEMART",false,true,false,"Banc 124",12924,"2016-04-05","Prévoir le perçage de la lanterne pour contrôler l'accouplement de GMP1",true,false,null,null,false,true,false,null,false,false,false,false,true,null,null,null,null,null,null,null,null,null,null,null,null,null,null,null,null,null,null,null,null,null,null,null,null,null,null,null,null,null,null,null,null,null,null,"Banc 124VRAIFAUX","Banc 124VRAIFAUXFAUXVRAIFAUX"]
["FI47","romain.dehan","T.HEMART","J.BOUCHER",true,false,false,"Banc 124",12924,"2016-04-05","Presence d'huile sur dessus du réservoir (joint de la pompe fuyard ???)",true,false,null,null,false,false,true,null,false,false,false,false,true,null,null,null,null,null,null,null,null,null,null,null,null,null,null,null,null,null,null,null,null,null,null,null,null,null,null,null,null,null,null,null,null,null,null,"Banc 124VRAIFAUX","Banc 124VRAIFAUXFAUXFAUXVRAI"]
["FI48","romain.dehan",null,null,false,false,false,"Banc 117 bis",9668,"2016-04-05","Prélèvement Huile",false,false,null,null,false,false,false,null,false,false,false,false,false,null,null,null,null,null,null,null,null,null,null,null,null,null,null,null,null,null,null,null,null,null,null,null,null,null,null,null,null,null,null,null,null,null,null,"Banc 117 bisFAUXFAUX","Banc 117 bisFAUXFAUXFAUXFAUXFAUX"]
["FI49","romain.dehan",null,null,false,false,false,"Banc 117 bis",9668,"2016-04-05","Fuite huile sur couvercle échangeur",false,false,null,null,false,false,false,null,null,false,false,false,false,null,null,null,null,null,null,null,null,null,null,null,null,null,null,null,null,null,null,null,null,null,null,null,null,null,null,null,null,null,null,null,null,null,null,"Banc 117 bisFAUXFAUX","Banc 117 bisFAUXFAUXFAUXFAUXFAUX"]
["FI50","romain.dehan",null,null,false,false,false,"Banc 117 bis",9668,"2016-04-05","niveau non isolé et non fixé",false,false,null,null,false,false,false,null,null,false,false,false,false,null,null,null,null,null,null,null,null,null,null,null,null,null,null,null,null,null,null,null,null,null,null,null,null,null,null,null,null,null,null,null,null,null,null,"Banc 117 bisFAUXFAUX","Banc 117 bisFAUXFAUXFAUXFAUXFAUX"]
["FI51","romain.dehan",null,null,false,false,false,"Banc 117 bis",9668,"2016-04-05","indicateur de colmatage non cablé",false,false,null,null,false,false,false,null,null,false,false,false,false,null,null,null,null,null,null,null,null,null,null,null,null,null,null,null,null,null,null,null,null,null,null,null,null,null,null,null,null,null,null,null,null,null,null,"Banc 117 bisFAUXFAUX","Banc 117 bisFAUXFAUXFAUXFAUXFAUX"]
["FI52","romain.dehan",null,null,false,false,false,"Banc 117 bis",9668,"2016-04-05","Resserage raccords et support tuyauterie BP",false,false,null,null,false,false,false,null,null,false,false,false,false,null,null,null,null,null,null,null,null,null,null,null,null,null,null,null,null,null,null,null,null,null,null,null,null,null,null,null,null,null,null,null,null,null,null,"Banc 117 bisFAUXFAUX","Banc 117 bisFAUXFAUXFAUXFAUXFAUX"]
["FI53","romain.dehan",null,null,false,false,false,"Banc 117 bis",9668,"2016-04-05","remplacement filtre \"arlon\" attention pas d'indicateur de colmatage",false,false,null,null,false,false,false,null,null,false,false,false,false,null,null,null,null,null,null,null,null,null,null,null,null,null,null,null,null,null,null,null,null,null,null,null,null,null,null,null,null,null,null,null,null,null,null,"Banc 117 bisFAUXFAUX","Banc 117 bisFAUXFAUXFAUXFAUXFAUX"]
["FI54","romain.dehan",null,null,false,false,false,"Banc 117 bis",9668,"2016-04-05","Moteur Limiteur de pression HP non isolé. Cable alimentation distributeur HP dénudé",false,false,null,null,false,false,false,null,null,false,false,false,false,null,null,null,null,null,null,null,null,null,null,null,null,null,null,null,null,null,null,null,null,null,null,null,null,null,null,null,null,null,null,null,null,null,null,"Banc 117 bisFAUXFAUX","Banc 117 bisFAUXFAUXFAUXFAUXFAUX"]
["FI55","romain.dehan",null,null,false,false,false,"Banc 117 bis",9668,"2016-04-05","Fuite sur vis de réglage limiteur de pression et sur plan de pose du distributeur NG10 ATOS du circuit BP.",false,false,null,null,false,false,false,null,null,false,false,false,false,null,null,null,null,null,null,null,null,null,null,null,null,null,null,null,null,null,null,null,null,null,null,null,null,null,null,null,null,null,null,null,null,null,null,"Banc 117 bisFAUXFAUX","Banc 117 bisFAUXFAUXFAUXFAUXFAUX"]
["FI56","romain.dehan",null,null,false,false,false,"Banc 117 bis",9668,"2016-04-05","Jeu sur canlures entre chaque tête de cardan.",false,false,null,null,false,false,false,null,null,false,false,false,false,null,null,null,null,null,null,null,null,null,null,null,null,null,null,null,null,null,null,null,null,null,null,null,null,null,null,null,null,null,null,null,null,null,null,"Banc 117 bisFAUXFAUX","Banc 117 bisFAUXFAUXFAUXFAUXFAUX"]
["FI57","romain.dehan","T.Hemart",null,false,false,false,"Banc 115",29024,"2016-04-05","Faire Prélèvement d'huile",false,true,null,null,false,false,true,null,false,false,false,false,true,null,null,null,null,null,null,null,null,null,null,null,null,null,null,null,null,null,null,null,null,null,null,null,null,null,null,null,null,null,null,null,null,null,null,"Banc 115FAUXVRAI","Banc 115FAUXVRAIFAUXFAUXVRAI"]
["FI58","romain.dehan",null,null,false,false,false,"Banc 115",29024,"2016-04-05","indicateur de niveau non isolé et non fixé",false,false,null,null,false,false,false,null,null,false,false,false,false,null,null,null,null,null,null,null,null,null,null,null,null,null,null,null,null,null,null,null,null,null,null,null,null,null,null,null,null,null,null,null,null,null,null,"Banc 115FAUXFAUX","Banc 115FAUXFAUXFAUXFAUXFAUX"]
["FI59","romain.dehan",null,null,false,false,false,"Banc 115",29024,"2016-04-05","Prévoir la vidange suite au résultat du prélèvement                                                                                                                            Contrôle colmatage des 2 filtres \"pall + filtre gris pall",false,false,false,false,false,false,false,false,false,false,false,false,false,null,null,null,null,null,null,null,null,null,null,null,null,null,null,null,null,null,null,null,null,null,null,null,null,null,null,null,null,null,null,null,null,null,null,"Banc 115FAUXFAUX","Banc 115FAUXFAUXFAUXFAUXFAUX"]
["FI60","romain.dehan",null,null,false,false,false,"Banc 117 bis",9668,"2016-04-06","Prévoir la vidange du banc si prélèvement d'huile négatif",false,false,null,null,false,false,false,null,false,false,false,false,false,null,null,null,null,null,null,null,null,null,null,null,null,null,null,null,null,null,null,null,null,null,null,null,null,null,null,null,null,null,null,null,null,null,null,"Banc 117 bisFAUXFAUX","Banc 117 bisFAUXFAUXFAUXFAUXFAUX"]
["FI61","romain.dehan",null,null,false,false,false,"Banc 104",4217,"2016-04-06","Colmatage du filtre de la ligne D détecté (HC 9801 FDS 4Z)",false,false,null,null,false,false,false,null,false,false,false,false,false,null,null,null,null,null,null,null,null,null,null,null,null,null,null,null,null,null,null,null,null,null,null,null,null,null,null,null,null,null,null,null,null,null,null,"Banc 104FAUXFAUX","Banc 104FAUXFAUXFAUXFAUXFAUX"]
["FI62","romain.dehan",null,null,false,false,false,"Banc 008",954,"2016-04-06","Alarme Colmatage FC (UE219AN04Z) ainsi que Colmatage F8 (UE319AN40Z) Merci de changer les filtres",false,false,null,null,false,false,false,null,false,false,false,false,false,null,null,null,null,null,null,null,null,null,null,null,null,null,null,null,null,null,null,null,null,null,null,null,null,null,null,null,null,null,null,null,null,null,null,"Banc 008FAUXFAUX","Banc 008FAUXFAUXFAUXFAUXFAUX"]
["FI63","romain.dehan",null,null,false,false,false,"Banc 124",12924,"2016-04-05","Prélèvement pour analyse d'huile",false,false,false,false,false,false,false,false,false,false,false,false,false,null,null,null,null,null,null,null,null,null,null,null,null,null,null,null,null,null,null,null,null,null,null,null,null,null,null,null,null,null,null,null,null,null,null,"Banc 124FAUXFAUX","Banc 124FAUXFAUXFAUXFAUXFAUX"]
["FI64","christophe.gauvin","D.GARCIA SANCHEZ",null,true,false,false,"Banc 145",7200,"2016-04-06","Faire un programme automate sur le banc 145 en rapport avec la TLC de l’essai 790-020-1038. Voir avec Jérôme MUNTREZ",false,false,true,false,true,false,false,false,false,false,false,false,true,null,null,null,null,null,null,null,null,null,null,null,null,null,null,null,null,null,null,null,null,null,null,null,null,null,null,null,null,null,null,null,null,null,null,"Banc 145FAUXFAUX","Banc 145FAUXFAUXVRAIFAUXFAUX"]
[null,null,null,null,null,null,null,null,null,null,null,null,null,null,null,null,null,null,null,null,null,null,null,null,null,null,null,null,null,null,null,null,null,null,null,null,null,null,null,null,null,null,null,null,null,null,null,null,null,null,null,null,null,null,null,null,null,null,"",""]
[null,null,null,null,null,null,null,null,null,null,null,null,null,null,null,null,null,null,null,null,null,null,null,null,null,null,null,null,null,null,null,null,null,null,null,null,null,null,null,null,null,null,null,null,null,null,null,null,null,null,null,null,null,null,null,null,null,null,"",""]
[null,null,null,null,null,null,null,null,null,null,null,null,null,null,null,null,null,null,null,null,null,null,null,null,null,null,null,null,null,null,null,null,null,null,null,null,null,null,null,null,null,null,null,null,null,null,null,null,null,null,null,null,null,null,null,null,null,null,"",""]
[null,null,null,null,null,null,null,null,null,null,null,null,null,null,null,null,null,null,null,null,null,null,null,null,null,null,null,null,null,null,null,null,null,null,null,null,null,null,null,null,null,null,null,null,null,null,null,null,null,null,null,null,null,null,null,null,null,null,"",""]
[null,null,null,null,null,null,null,null,null,null,null,null,null,null,null,null,null,null,null,null,null,null,null,null,null,null,null,null,null,null,null,null,null,null,null,null,null,null,null,null,null,null,null,null,null,null,null,null,null,null,null,null,null,null,null,null,null,null,"",""]
[null,null,null,null,null,null,null,null,null,null,null,null,null,null,null,null,null,null,null,null,null,null,null,null,null,null,null,null,null,null,null,null,null,null,null,null,null,null,null,null,null,null,null,null,null,null,null,null,null,null,null,null,null,null,null,null,null,null,{"$f":"H71&L71&M71","v":""},{"$f":"H71&L71&M71&P71&Q71&R71","v":""}]
[null,null,null,null,null,null,null,null,null,null,null,null,null,null,null,null,null,null,null,null,null,null,null,null,null,null,null,null,null,null,null,null,null,null,null,null,null,null,null,null,null,null,null,null,null,null,null,null,null,null,null,null,null,null,null,null,null,null,"",""]
[null,null,null,null,null,null,null,null,null,null,null,null,null,null,null,null,null,null,null,null,null,null,null,null,null,null,null,null,null,null,null,null,null,null,null,null,null,null,null,null,null,null,null,null,null,null,null,null,null,null,null,null,null,null,null,null,null,null,"",""]
[null,null,null,null,null,null,null,null,null,null,null,null,null,null,null,null,null,null,null,null,null,null,null,null,null,null,null,null,null,null,null,null,null,null,null,null,null,null,null,null,null,null,null,null,null,null,null,null,null,null,null,null,null,null,null,null,null,null,"",""]
[null,null,null,null,null,null,null,null,null,null,null,null,null,null,null,null,null,null,null,null,null,null,null,null,null,null,null,null,null,null,null,null,null,null,null,null,null,null,null,null,null,null,null,null,null,null,null,null,null,null,null,null,null,null,null,null,null,null,"",""]
[null,null,null,null,null,null,null,null,null,null,null,null,null,null,null,null,null,null,null,null,null,null,null,null,null,null,null,null,null,null,null,null,null,null,null,null,null,null,null,null,null,null,null,null,null,null,null,null,null,null,null,null,null,null,null,null,null,null,"",""]
[null,null,null,null,null,null,null,null,null,null,null,null,null,null,null,null,null,null,null,null,null,null,null,null,null,null,null,null,null,null,null,null,null,null,null,null,null,null,null,null,null,null,null,null,null,null,null,null,null,null,null,null,null,null,null,null,null,null,"",""]
[null,null,null,null,null,null,null,null,null,null,null,null,null,null,null,null,null,null,null,null,null,null,null,null,null,null,null,null,null,null,null,null,null,null,null,null,null,null,null,null,null,null,null,null,null,null,null,null,null,null,null,null,null,null,null,null,null,null,"",""]
[null,null,null,null,null,null,null,null,null,null,null,null,null,null,null,null,null,null,null,null,null,null,null,null,null,null,null,null,null,null,null,null,null,null,null,null,null,null,null,null,null,null,null,null,null,null,null,null,null,null,null,null,null,null,null,null,null,null,"",""]
[null,null,null,null,null,null,null,null,null,null,null,null,null,null,null,null,null,null,null,null,null,null,null,null,null,null,null,null,null,null,null,null,null,null,null,null,null,null,null,null,null,null,null,null,null,null,null,null,null,null,null,null,null,null,null,null,null,null,"",""]
[null,null,null,null,null,null,null,null,null,null,null,null,null,null,null,null,null,null,null,null,null,null,null,null,null,null,null,null,null,null,null,null,null,null,null,null,null,null,null,null,null,null,null,null,null,null,null,null,null,null,null,null,null,null,null,null,null,null,"",""]
[null,null,null,null,null,null,null,null,null,null,null,null,null,null,null,null,null,null,null,null,null,null,null,null,null,null,null,null,null,null,null,null,null,null,null,null,null,null,null,null,null,null,null,null,null,null,null,null,null,null,null,null,null,null,null,null,null,null,"",""]
[null,null,null,null,null,null,null,null,null,null,null,null,null,null,null,null,null,null,null,null,null,null,null,null,null,null,null,null,null,null,null,null,null,null,null,null,null,null,null,null,null,null,null,null,null,null,null,null,null,null,null,null,null,null,null,null,null,null,"",""]
[null,null,null,null,null,null,null,null,null,null,null,null,null,null,null,null,null,null,null,null,null,null,null,null,null,null,null,null,null,null,null,null,null,null,null,null,null,null,null,null,null,null,null,null,null,null,null,null,null,null,null,null,null,null,null,null,null,null,"",""]
[null,null,null,null,null,null,null,null,null,null,null,null,null,null,null,null,null,null,null,null,null,null,null,null,null,null,null,null,null,null,null,null,null,null,null,null,null,null,null,null,null,null,null,null,null,null,null,null,null,null,null,null,null,null,null,null,null,null,"",""]
[null,null,null,null,null,null,null,null,null,null,null,null,null,null,null,null,null,null,null,null,null,null,null,null,null,null,null,null,null,null,null,null,null,null,null,null,null,null,null,null,null,null,null,null,null,null,null,null,null,null,null,null,null,null,null,null,null,null,"",""]
[null,null,null,null,null,null,null,null,null,null,null,null,null,null,null,null,null,null,null,null,null,null,null,null,null,null,null,null,null,null,null,null,null,null,null,null,null,null,null,null,null,null,null,null,null,null,null,null,null,null,null,null,null,null,null,null,null,null,"",""]
[null,null,null,null,null,null,null,null,null,null,null,null,null,null,null,null,null,null,null,null,null,null,null,null,null,null,null,null,null,null,null,null,null,null,null,null,null,null,null,null,null,null,null,null,null,null,null,null,null,null,null,null,null,null,null,null,null,null,"",""]
[null,null,null,null,null,null,null,null,null,null,null,null,null,null,null,null,null,null,null,null,null,null,null,null,null,null,null,null,null,null,null,null,null,null,null,null,null,null,null,null,null,null,null,null,null,null,null,null,null,null,null,null,null,null,null,null,null,null,"",""]
[null,null,null,null,null,null,null,null,null,null,null,null,null,null,null,null,null,null,null,null,null,null,null,null,null,null,null,null,null,null,null,null,null,null,null,null,null,null,null,null,null,null,null,null,null,null,null,null,null,null,null,null,null,null,null,null,null,null,"",""]
[null,null,null,null,null,null,null,null,null,null,null,null,null,null,null,null,null,null,null,null,null,null,null,null,null,null,null,null,null,null,null,null,null,null,null,null,null,null,null,null,null,null,null,null,null,null,null,null,null,null,null,null,null,null,null,null,null,null,"",""]
[null,null,null,null,null,null,null,null,null,null,null,null,null,null,null,null,null,null,null,null,null,null,null,null,null,null,null,null,null,null,null,null,null,null,null,null,null,null,null,null,null,null,null,null,null,null,null,null,null,null,null,null,null,null,null,null,null,null,"",""]
[null,null,null,null,null,null,null,null,null,null,null,null,null,null,null,null,null,null,null,null,null,null,null,null,null,null,null,null,null,null,null,null,null,null,null,null,null,null,null,null,null,null,null,null,null,null,null,null,null,null,null,null,null,null,null,null,null,null,"",""]
[null,null,null,null,null,null,null,null,null,null,null,null,null,null,null,null,null,null,null,null,null,null,null,null,null,null,null,null,null,null,null,null,null,null,null,null,null,null,null,null,null,null,null,null,null,null,null,null,null,null,null,null,null,null,null,null,null,null,"",""]
[null,null,null,null,null,null,null,null,null,null,null,null,null,null,null,null,null,null,null,null,null,null,null,null,null,null,null,null,null,null,null,null,null,null,null,null,null,null,null,null,null,null,null,null,null,null,null,null,null,null,null,null,null,null,null,null,null,null,"",""]
[null,null,null,null,null,null,null,null,null,null,null,null,null,null,null,null,null,null,null,null,null,null,null,null,null,null,null,null,null,null,null,null,null,null,null,null,null,null,null,null,null,null,null,null,null,null,null,null,null,null,null,null,null,null,null,null,null,null,"",""]
[null,null,null,null,null,null,null,null,null,null,null,null,null,null,null,null,null,null,null,null,null,null,null,null,null,null,null,null,null,null,null,null,null,null,null,null,null,null,null,null,null,null,null,null,null,null,null,null,null,null,null,null,null,null,null,null,null,null,"",""]
[null,null,null,null,null,null,null,null,null,null,null,null,null,null,null,null,null,null,null,null,null,null,null,null,null,null,null,null,null,null,null,null,null,null,null,null,null,null,null,null,null,null,null,null,null,null,null,null,null,null,null,null,null,null,null,null,null,null,"",""]
[null,null,null,null,null,null,null,null,null,null,null,null,null,null,null,null,null,null,null,null,null,null,null,null,null,null,null,null,null,null,null,null,null,null,null,null,null,null,null,null,null,null,null,null,null,null,null,null,null,null,null,null,null,null,null,null,null,null,"",""]
[null,null,null,null,null,null,null,null,null,null,null,null,null,null,null,null,null,null,null,null,null,null,null,null,null,null,null,null,null,null,null,null,null,null,null,null,null,null,null,null,null,null,null,null,null,null,null,null,null,null,null,null,null,null,null,null,null,null,"",""]
[null,null,null,null,null,null,null,null,null,null,null,null,null,null,null,null,null,null,null,null,null,null,null,null,null,null,null,null,null,null,null,null,null,null,null,null,null,null,null,null,null,null,null,null,null,null,null,null,null,null,null,null,null,null,null,null,null,null,"",""]
[null,null,null,null,null,null,null,null,null,null,null,null,null,null,null,null,null,null,null,null,null,null,null,null,null,null,null,null,null,null,null,null,null,null,null,null,null,null,null,null,null,null,null,null,null,null,null,null,null,null,null,null,null,null,null,null,null,null,"",""]
[null,null,null,null,null,null,null,null,null,null,null,null,null,null,null,null,null,null,null,null,null,null,null,null,null,null,null,null,null,null,null,null,null,null,null,null,null,null,null,null,null,null,null,null,null,null,null,null,null,null,null,null,null,null,null,null,null,null,"",""]
[null,null,null,null,null,null,null,null,null,null,null,null,null,null,null,null,null,null,null,null,null,null,null,null,null,null,null,null,null,null,null,null,null,null,null,null,null,null,null,null,null,null,null,null,null,null,null,null,null,null,null,null,null,null,null,null,null,null,"",""]
[null,null,null,null,null,null,null,null,null,null,null,null,null,null,null,null,null,null,null,null,null,null,null,null,null,null,null,null,null,null,null,null,null,null,null,null,null,null,null,null,null,null,null,null,null,null,null,null,null,null,null,null,null,null,null,null,null,null,"",""]
[null,null,null,null,null,null,null,null,null,null,null,null,null,null,null,null,null,null,null,null,null,null,null,null,null,null,null,null,null,null,null,null,null,null,null,null,null,null,null,null,null,null,null,null,null,null,null,null,null,null,null,null,null,null,null,null,null,null,"",""]
[null,null,null,null,null,null,null,null,null,null,null,null,null,null,null,null,null,null,null,null,null,null,null,null,null,null,null,null,null,null,null,null,null,null,null,null,null,null,null,null,null,null,null,null,null,null,null,null,null,null,null,null,null,null,null,null,null,null,"",""]
[null,null,null,null,null,null,null,null,null,null,null,null,null,null,null,null,null,null,null,null,null,null,null,null,null,null,null,null,null,null,null,null,null,null,null,null,null,null,null,null,null,null,null,null,null,null,null,null,null,null,null,null,null,null,null,null,null,null,"",""]
[null,null,null,null,null,null,null,null,null,null,null,null,null,null,null,null,null,null,null,null,null,null,null,null,null,null,null,null,null,null,null,null,null,null,null,null,null,null,null,null,null,null,null,null,null,null,null,null,null,null,null,null,null,null,null,null,null,null,"",""]
[null,null,null,null,null,null,null,null,null,null,null,null,null,null,null,null,null,null,null,null,null,null,null,null,null,null,null,null,null,null,null,null,null,null,null,null,null,null,null,null,null,null,null,null,null,null,null,null,null,null,null,null,null,null,null,null,null,null,"",""]
[null,null,null,null,null,null,null,null,null,null,null,null,null,null,null,null,null,null,null,null,null,null,null,null,null,null,null,null,null,null,null,null,null,null,null,null,null,null,null,null,null,null,null,null,null,null,null,null,null,null,null,null,null,null,null,null,null,null,"",""]
[null,null,null,null,null,null,null,null,null,null,null,null,null,null,null,null,null,null,null,null,null,null,null,null,null,null,null,null,null,null,null,null,null,null,null,null,null,null,null,null,null,null,null,null,null,null,null,null,null,null,null,null,null,null,null,null,null,null,"",""]
[null,null,null,null,null,null,null,null,null,null,null,null,null,null,null,null,null,null,null,null,null,null,null,null,null,null,null,null,null,null,null,null,null,null,null,null,null,null,null,null,null,null,null,null,null,null,null,null,null,null,null,null,null,null,null,null,null,null,"",""]
[null,null,null,null,null,null,null,null,null,null,null,null,null,null,null,null,null,null,null,null,null,null,null,null,null,null,null,null,null,null,null,null,null,null,null,null,null,null,null,null,null,null,null,null,null,null,null,null,null,null,null,null,null,null,null,null,null,null,"",""]
[null,null,null,null,null,null,null,null,null,null,null,null,null,null,null,null,null,null,null,null,null,null,null,null,null,null,null,null,null,null,null,null,null,null,null,null,null,null,null,null,null,null,null,null,null,null,null,null,null,null,null,null,null,null,null,null,null,null,"",""]
[null,null,null,null,null,null,null,null,null,null,null,null,null,null,null,null,null,null,null,null,null,null,null,null,null,null,null,null,null,null,null,null,null,null,null,null,null,null,null,null,null,null,null,null,null,null,null,null,null,null,null,null,null,null,null,null,null,null,"",""]
[null,null,null,null,null,null,null,null,null,null,null,null,null,null,null,null,null,null,null,null,null,null,null,null,null,null,null,null,null,null,null,null,null,null,null,null,null,null,null,null,null,null,null,null,null,null,null,null,null,null,null,null,null,null,null,null,null,null,"",""]
[null,null,null,null,null,null,null,null,null,null,null,null,null,null,null,null,null,null,null,null,null,null,null,null,null,null,null,null,null,null,null,null,null,null,null,null,null,null,null,null,null,null,null,null,null,null,null,null,null,null,null,null,null,null,null,null,null,null,"",""]
[null,null,null,null,null,null,null,null,null,null,null,null,null,null,null,null,null,null,null,null,null,null,null,null,null,null,null,null,null,null,null,null,null,null,null,null,null,null,null,null,null,null,null,null,null,null,null,null,null,null,null,null,null,null,null,null,null,null,"",""]
[null,null,null,null,null,null,null,null,null,null,null,null,null,null,null,null,null,null,null,null,null,null,null,null,null,null,null,null,null,null,null,null,null,null,null,null,null,null,null,null,null,null,null,null,null,null,null,null,null,null,null,null,null,null,null,null,null,null,"",""]
[null,null,null,null,null,null,null,null,null,null,null,null,null,null,null,null,null,null,null,null,null,null,null,null,null,null,null,null,null,null,null,null,null,null,null,null,null,null,null,null,null,null,null,null,null,null,null,null,null,null,null,null,null,null,null,null,null,null,"",""]
[null,null,null,null,null,null,null,null,null,null,null,null,null,null,null,null,null,null,null,null,null,null,null,null,null,null,null,null,null,null,null,null,null,null,null,null,null,null,null,null,null,null,null,null,null,null,null,null,null,null,null,null,null,null,null,null,null,null,"",""]
[null,null,null,null,null,null,null,null,null,null,null,null,null,null,null,null,null,null,null,null,null,null,null,null,null,null,null,null,null,null,null,null,null,null,null,null,null,null,null,null,null,null,null,null,null,null,null,null,null,null,null,null,null,null,null,null,null,null,"",""]
[null,null,null,null,null,null,null,null,null,null,null,null,null,null,null,null,null,null,null,null,null,null,null,null,null,null,null,null,null,null,null,null,null,null,null,null,null,null,null,null,null,null,null,null,null,null,null,null,null,null,null,null,null,null,null,null,null,null,"",""]
[null,null,null,null,null,null,null,null,null,null,null,null,null,null,null,null,null,null,null,null,null,null,null,null,null,null,null,null,null,null,null,null,null,null,null,null,null,null,null,null,null,null,null,null,null,null,null,null,null,null,null,null,null,null,null,null,null,null,"",""]
[null,null,null,null,null,null,null,null,null,null,null,null,null,null,null,null,null,null,null,null,null,null,null,null,null,null,null,null,null,null,null,null,null,null,null,null,null,null,null,null,null,null,null,null,null,null,null,null,null,null,null,null,null,null,null,null,null,null,"",""]
[null,null,null,null,null,null,null,null,null,null,null,null,null,null,null,null,null,null,null,null,null,null,null,null,null,null,null,null,null,null,null,null,null,null,null,null,null,null,null,null,null,null,null,null,null,null,null,null,null,null,null,null,null,null,null,null,null,null,"",""]
[null,null,null,null,null,null,null,null,null,null,null,null,null,null,null,null,null,null,null,null,null,null,null,null,null,null,null,null,null,null,null,null,null,null,null,null,null,null,null,null,null,null,null,null,null,null,null,null,null,null,null,null,null,null,null,null,null,null,"",""]
[null,null,null,null,null,null,null,null,null,null,null,null,null,null,null,null,null,null,null,null,null,null,null,null,null,null,null,null,null,null,null,null,null,null,null,null,null,null,null,null,null,null,null,null,null,null,null,null,null,null,null,null,null,null,null,null,null,null,"",""]
[null,null,null,null,null,null,null,null,null,null,null,null,null,null,null,null,null,null,null,null,null,null,null,null,null,null,null,null,null,null,null,null,null,null,null,null,null,null,null,null,null,null,null,null,null,null,null,null,null,null,null,null,null,null,null,null,null,null,"",""]
[null,null,null,null,null,null,null,null,null,null,null,null,null,null,null,null,null,null,null,null,null,null,null,null,null,null,null,null,null,null,null,null,null,null,null,null,null,null,null,null,null,null,null,null,null,null,null,null,null,null,null,null,null,null,null,null,null,null,"",""]
[null,null,null,null,null,null,null,null,null,null,null,null,null,null,null,null,null,null,null,null,null,null,null,null,null,null,null,null,null,null,null,null,null,null,null,null,null,null,null,null,null,null,null,null,null,null,null,null,null,null,null,null,null,null,null,null,null,null,"",""]
[null,null,null,null,null,null,null,null,null,null,null,null,null,null,null,null,null,null,null,null,null,null,null,null,null,null,null,null,null,null,null,null,null,null,null,null,null,null,null,null,null,null,null,null,null,null,null,null,null,null,null,null,null,null,null,null,null,null,"",""]
[null,null,null,null,null,null,null,null,null,null,null,null,null,null,null,null,null,null,null,null,null,null,null,null,null,null,null,null,null,null,null,null,null,null,null,null,null,null,null,null,null,null,null,null,null,null,null,null,null,null,null,null,null,null,null,null,null,null,"",""]
[null,null,null,null,null,null,null,null,null,null,null,null,null,null,null,null,null,null,null,null,null,null,null,null,null,null,null,null,null,null,null,null,null,null,null,null,null,null,null,null,null,null,null,null,null,null,null,null,null,null,null,null,null,null,null,null,null,null,{"$f":"H135&L135&M135","v":""},{"$f":"H135&L135&M135&P135&Q135&R135","v":""}]
[null,null,null,null,null,null,null,null,null,null,null,null,null,null,null,null,null,null,null,null,null,null,null,null,null,null,null,null,null,null,null,null,null,null,null,null,null,null,null,null,null,null,null,null,null,null,null,null,null,null,null,null,null,null,null,null,null,null,"",""]
[null,null,null,null,null,null,null,null,null,null,null,null,null,null,null,null,null,null,null,null,null,null,null,null,null,null,null,null,null,null,null,null,null,null,null,null,null,null,null,null,null,null,null,null,null,null,null,null,null,null,null,null,null,null,null,null,null,null,"",""]
[null,null,null,null,null,null,null,null,null,null,null,null,null,null,null,null,null,null,null,null,null,null,null,null,null,null,null,null,null,null,null,null,null,null,null,null,null,null,null,null,null,null,null,null,null,null,null,null,null,null,null,null,null,null,null,null,null,null,"",""]
[null,null,null,null,null,null,null,null,null,null,null,null,null,null,null,null,null,null,null,null,null,null,null,null,null,null,null,null,null,null,null,null,null,null,null,null,null,null,null,null,null,null,null,null,null,null,null,null,null,null,null,null,null,null,null,null,null,null,"",""]
[null,null,null,null,null,null,null,null,null,null,null,null,null,null,null,null,null,null,null,null,null,null,null,null,null,null,null,null,null,null,null,null,null,null,null,null,null,null,null,null,null,null,null,null,null,null,null,null,null,null,null,null,null,null,null,null,null,null,"",""]
[null,null,null,null,null,null,null,null,null,null,null,null,null,null,null,null,null,null,null,null,null,null,null,null,null,null,null,null,null,null,null,null,null,null,null,null,null,null,null,null,null,null,null,null,null,null,null,null,null,null,null,null,null,null,null,null,null,null,"",""]
[null,null,null,null,null,null,null,null,null,null,null,null,null,null,null,null,null,null,null,null,null,null,null,null,null,null,null,null,null,null,null,null,null,null,null,null,null,null,null,null,null,null,null,null,null,null,null,null,null,null,null,null,null,null,null,null,null,null,"",""]
[null,null,null,null,null,null,null,null,null,null,null,null,null,null,null,null,null,null,null,null,null,null,null,null,null,null,null,null,null,null,null,null,null,null,null,null,null,null,null,null,null,null,null,null,null,null,null,null,null,null,null,null,null,null,null,null,null,null,"",""]
[null,null,null,null,null,null,null,null,null,null,null,null,null,null,null,null,null,null,null,null,null,null,null,null,null,null,null,null,null,null,null,null,null,null,null,null,null,null,null,null,null,null,null,null,null,null,null,null,null,null,null,null,null,null,null,null,null,null,"",""]
[null,null,null,null,null,null,null,null,null,null,null,null,null,null,null,null,null,null,null,null,null,null,null,null,null,null,null,null,null,null,null,null,null,null,null,null,null,null,null,null,null,null,null,null,null,null,null,null,null,null,null,null,null,null,null,null,null,null,"",""]
[null,null,null,null,null,null,null,null,null,null,null,null,null,null,null,null,null,null,null,null,null,null,null,null,null,null,null,null,null,null,null,null,null,null,null,null,null,null,null,null,null,null,null,null,null,null,null,null,null,null,null,null,null,null,null,null,null,null,"",""]
[null,null,null,null,null,null,null,null,null,null,null,null,null,null,null,null,null,null,null,null,null,null,null,null,null,null,null,null,null,null,null,null,null,null,null,null,null,null,null,null,null,null,null,null,null,null,null,null,null,null,null,null,null,null,null,null,null,null,"",""]
[null,null,null,null,null,null,null,null,null,null,null,null,null,null,null,null,null,null,null,null,null,null,null,null,null,null,null,null,null,null,null,null,null,null,null,null,null,null,null,null,null,null,null,null,null,null,null,null,null,null,null,null,null,null,null,null,null,null,"",""]
[null,null,null,null,null,null,null,null,null,null,null,null,null,null,null,null,null,null,null,null,null,null,null,null,null,null,null,null,null,null,null,null,null,null,null,null,null,null,null,null,null,null,null,null,null,null,null,null,null,null,null,null,null,null,null,null,null,null,"",""]
[null,null,null,null,null,null,null,null,null,null,null,null,null,null,null,null,null,null,null,null,null,null,null,null,null,null,null,null,null,null,null,null,null,null,null,null,null,null,null,null,null,null,null,null,null,null,null,null,null,null,null,null,null,null,null,null,null,null,"",""]
[null,null,null,null,null,null,null,null,null,null,null,null,null,null,null,null,null,null,null,null,null,null,null,null,null,null,null,null,null,null,null,null,null,null,null,null,null,null,null,null,null,null,null,null,null,null,null,null,null,null,null,null,null,null,null,null,null,null,"",""]
[null,null,null,null,null,null,null,null,null,null,null,null,null,null,null,null,null,null,null,null,null,null,null,null,null,null,null,null,null,null,null,null,null,null,null,null,null,null,null,null,null,null,null,null,null,null,null,null,null,null,null,null,null,null,null,null,null,null,"",""]
[null,null,null,null,null,null,null,null,null,null,null,null,null,null,null,null,null,null,null,null,null,null,null,null,null,null,null,null,null,null,null,null,null,null,null,null,null,null,null,null,null,null,null,null,null,null,null,null,null,null,null,null,null,null,null,null,null,null,"",""]
[null,null,null,null,null,null,null,null,null,null,null,null,null,null,null,null,null,null,null,null,null,null,null,null,null,null,null,null,null,null,null,null,null,null,null,null,null,null,null,null,null,null,null,null,null,null,null,null,null,null,null,null,null,null,null,null,null,null,"",""]
[null,null,null,null,null,null,null,null,null,null,null,null,null,null,null,null,null,null,null,null,null,null,null,null,null,null,null,null,null,null,null,null,null,null,null,null,null,null,null,null,null,null,null,null,null,null,null,null,null,null,null,null,null,null,null,null,null,null,"",""]
[null,null,null,null,null,null,null,null,null,null,null,null,null,null,null,null,null,null,null,null,null,null,null,null,null,null,null,null,null,null,null,null,null,null,null,null,null,null,null,null,null,null,null,null,null,null,null,null,null,null,null,null,null,null,null,null,null,null,"",""]
[null,null,null,null,null,null,null,null,null,null,null,null,null,null,null,null,null,null,null,null,null,null,null,null,null,null,null,null,null,null,null,null,null,null,null,null,null,null,null,null,null,null,null,null,null,null,null,null,null,null,null,null,null,null,null,null,null,null,"",""]
[null,null,null,null,null,null,null,null,null,null,null,null,null,null,null,null,null,null,null,null,null,null,null,null,null,null,null,null,null,null,null,null,null,null,null,null,null,null,null,null,null,null,null,null,null,null,null,null,null,null,null,null,null,null,null,null,null,null,"",""]
[null,null,null,null,null,null,null,null,null,null,null,null,null,null,null,null,null,null,null,null,null,null,null,null,null,null,null,null,null,null,null,null,null,null,null,null,null,null,null,null,null,null,null,null,null,null,null,null,null,null,null,null,null,null,null,null,null,null,"",""]
[null,null,null,null,null,null,null,null,null,null,null,null,null,null,null,null,null,null,null,null,null,null,null,null,null,null,null,null,null,null,null,null,null,null,null,null,null,null,null,null,null,null,null,null,null,null,null,null,null,null,null,null,null,null,null,null,null,null,"",""]
[null,null,null,null,null,null,null,null,null,null,null,null,null,null,null,null,null,null,null,null,null,null,null,null,null,null,null,null,null,null,null,null,null,null,null,null,null,null,null,null,null,null,null,null,null,null,null,null,null,null,null,null,null,null,null,null,null,null,"",""]
[null,null,null,null,null,null,null,null,null,null,null,null,null,null,null,null,null,null,null,null,null,null,null,null,null,null,null,null,null,null,null,null,null,null,null,null,null,null,null,null,null,null,null,null,null,null,null,null,null,null,null,null,null,null,null,null,null,null,"",""]
[null,null,null,null,null,null,null,null,null,null,null,null,null,null,null,null,null,null,null,null,null,null,null,null,null,null,null,null,null,null,null,null,null,null,null,null,null,null,null,null,null,null,null,null,null,null,null,null,null,null,null,null,null,null,null,null,null,null,"",""]
[null,null,null,null,null,null,null,null,null,null,null,null,null,null,null,null,null,null,null,null,null,null,null,null,null,null,null,null,null,null,null,null,null,null,null,null,null,null,null,null,null,null,null,null,null,null,null,null,null,null,null,null,null,null,null,null,null,null,"",""]
[null,null,null,null,null,null,null,null,null,null,null,null,null,null,null,null,null,null,null,null,null,null,null,null,null,null,null,null,null,null,null,null,null,null,null,null,null,null,null,null,null,null,null,null,null,null,null,null,null,null,null,null,null,null,null,null,null,null,"",""]
[null,null,null,null,null,null,null,null,null,null,null,null,null,null,null,null,null,null,null,null,null,null,null,null,null,null,null,null,null,null,null,null,null,null,null,null,null,null,null,null,null,null,null,null,null,null,null,null,null,null,null,null,null,null,null,null,null,null,"",""]
[null,null,null,null,null,null,null,null,null,null,null,null,null,null,null,null,null,null,null,null,null,null,null,null,null,null,null,null,null,null,null,null,null,null,null,null,null,null,null,null,null,null,null,null,null,null,null,null,null,null,null,null,null,null,null,null,null,null,"",""]
[null,null,null,null,null,null,null,null,null,null,null,null,null,null,null,null,null,null,null,null,null,null,null,null,null,null,null,null,null,null,null,null,null,null,null,null,null,null,null,null,null,null,null,null,null,null,null,null,null,null,null,null,null,null,null,null,null,null,"",""]
[null,null,null,null,null,null,null,null,null,null,null,null,null,null,null,null,null,null,null,null,null,null,null,null,null,null,null,null,null,null,null,null,null,null,null,null,null,null,null,null,null,null,null,null,null,null,null,null,null,null,null,null,null,null,null,null,null,null,"",""]
[null,null,null,null,null,null,null,null,null,null,null,null,null,null,null,null,null,null,null,null,null,null,null,null,null,null,null,null,null,null,null,null,null,null,null,null,null,null,null,null,null,null,null,null,null,null,null,null,null,null,null,null,null,null,null,null,null,null,"",""]
[null,null,null,null,null,null,null,null,null,null,null,null,null,null,null,null,null,null,null,null,null,null,null,null,null,null,null,null,null,null,null,null,null,null,null,null,null,null,null,null,null,null,null,null,null,null,null,null,null,null,null,null,null,null,null,null,null,null,"",""]
[null,null,null,null,null,null,null,null,null,null,null,null,null,null,null,null,null,null,null,null,null,null,null,null,null,null,null,null,null,null,null,null,null,null,null,null,null,null,null,null,null,null,null,null,null,null,null,null,null,null,null,null,null,null,null,null,null,null,"",""]
[null,null,null,null,null,null,null,null,null,null,null,null,null,null,null,null,null,null,null,null,null,null,null,null,null,null,null,null,null,null,null,null,null,null,null,null,null,null,null,null,null,null,null,null,null,null,null,null,null,null,null,null,null,null,null,null,null,null,"",""]
[null,null,null,null,null,null,null,null,null,null,null,null,null,null,null,null,null,null,null,null,null,null,null,null,null,null,null,null,null,null,null,null,null,null,null,null,null,null,null,null,null,null,null,null,null,null,null,null,null,null,null,null,null,null,null,null,null,null,"",""]
[null,null,null,null,null,null,null,null,null,null,null,null,null,null,null,null,null,null,null,null,null,null,null,null,null,null,null,null,null,null,null,null,null,null,null,null,null,null,null,null,null,null,null,null,null,null,null,null,null,null,null,null,null,null,null,null,null,null,"",""]
[null,null,null,null,null,null,null,null,null,null,null,null,null,null,null,null,null,null,null,null,null,null,null,null,null,null,null,null,null,null,null,null,null,null,null,null,null,null,null,null,null,null,null,null,null,null,null,null,null,null,null,null,null,null,null,null,null,null,"",""]
[null,null,null,null,null,null,null,null,null,null,null,null,null,null,null,null,null,null,null,null,null,null,null,null,null,null,null,null,null,null,null,null,null,null,null,null,null,null,null,null,null,null,null,null,null,null,null,null,null,null,null,null,null,null,null,null,null,null,"",""]
[null,null,null,null,null,null,null,null,null,null,null,null,null,null,null,null,null,null,null,null,null,null,null,null,null,null,null,null,null,null,null,null,null,null,null,null,null,null,null,null,null,null,null,null,null,null,null,null,null,null,null,null,null,null,null,null,null,null,"",""]
[null,null,null,null,null,null,null,null,null,null,null,null,null,null,null,null,null,null,null,null,null,null,null,null,null,null,null,null,null,null,null,null,null,null,null,null,null,null,null,null,null,null,null,null,null,null,null,null,null,null,null,null,null,null,null,null,null,null,"",""]
[null,null,null,null,null,null,null,null,null,null,null,null,null,null,null,null,null,null,null,null,null,null,null,null,null,null,null,null,null,null,null,null,null,null,null,null,null,null,null,null,null,null,null,null,null,null,null,null,null,null,null,null,null,null,null,null,null,null,"",""]
[null,null,null,null,null,null,null,null,null,null,null,null,null,null,null,null,null,null,null,null,null,null,null,null,null,null,null,null,null,null,null,null,null,null,null,null,null,null,null,null,null,null,null,null,null,null,null,null,null,null,null,null,null,null,null,null,null,null,"",""]
[null,null,null,null,null,null,null,null,null,null,null,null,null,null,null,null,null,null,null,null,null,null,null,null,null,null,null,null,null,null,null,null,null,null,null,null,null,null,null,null,null,null,null,null,null,null,null,null,null,null,null,null,null,null,null,null,null,null,"",""]
[null,null,null,null,null,null,null,null,null,null,null,null,null,null,null,null,null,null,null,null,null,null,null,null,null,null,null,null,null,null,null,null,null,null,null,null,null,null,null,null,null,null,null,null,null,null,null,null,null,null,null,null,null,null,null,null,null,null,"",""]
[null,null,null,null,null,null,null,null,null,null,null,null,null,null,null,null,null,null,null,null,null,null,null,null,null,null,null,null,null,null,null,null,null,null,null,null,null,null,null,null,null,null,null,null,null,null,null,null,null,null,null,null,null,null,null,null,null,null,"",""]
[null,null,null,null,null,null,null,null,null,null,null,null,null,null,null,null,null,null,null,null,null,null,null,null,null,null,null,null,null,null,null,null,null,null,null,null,null,null,null,null,null,null,null,null,null,null,null,null,null,null,null,null,null,null,null,null,null,null,"",""]
[null,null,null,null,null,null,null,null,null,null,null,null,null,null,null,null,null,null,null,null,null,null,null,null,null,null,null,null,null,null,null,null,null,null,null,null,null,null,null,null,null,null,null,null,null,null,null,null,null,null,null,null,null,null,null,null,null,null,"",""]
[null,null,null,null,null,null,null,null,null,null,null,null,null,null,null,null,null,null,null,null,null,null,null,null,null,null,null,null,null,null,null,null,null,null,null,null,null,null,null,null,null,null,null,null,null,null,null,null,null,null,null,null,null,null,null,null,null,null,"",""]
[null,null,null,null,null,null,null,null,null,null,null,null,null,null,null,null,null,null,null,null,null,null,null,null,null,null,null,null,null,null,null,null,null,null,null,null,null,null,null,null,null,null,null,null,null,null,null,null,null,null,null,null,null,null,null,null,null,null,"",""]
[null,null,null,null,null,null,null,null,null,null,null,null,null,null,null,null,null,null,null,null,null,null,null,null,null,null,null,null,null,null,null,null,null,null,null,null,null,null,null,null,null,null,null,null,null,null,null,null,null,null,null,null,null,null,null,null,null,null,"",""]
[null,null,null,null,null,null,null,null,null,null,null,null,null,null,null,null,null,null,null,null,null,null,null,null,null,null,null,null,null,null,null,null,null,null,null,null,null,null,null,null,null,null,null,null,null,null,null,null,null,null,null,null,null,null,null,null,null,null,"",""]
[null,null,null,null,null,null,null,null,null,null,null,null,null,null,null,null,null,null,null,null,null,null,null,null,null,null,null,null,null,null,null,null,null,null,null,null,null,null,null,null,null,null,null,null,null,null,null,null,null,null,null,null,null,null,null,null,null,null,"",""]
[null,null,null,null,null,null,null,null,null,null,null,null,null,null,null,null,null,null,null,null,null,null,null,null,null,null,null,null,null,null,null,null,null,null,null,null,null,null,null,null,null,null,null,null,null,null,null,null,null,null,null,null,null,null,null,null,null,null,"",""]
[null,null,null,null,null,null,null,null,null,null,null,null,null,null,null,null,null,null,null,null,null,null,null,null,null,null,null,null,null,null,null,null,null,null,null,null,null,null,null,null,null,null,null,null,null,null,null,null,null,null,null,null,null,null,null,null,null,null,"",""]
[null,null,null,null,null,null,null,null,null,null,null,null,null,null,null,null,null,null,null,null,null,null,null,null,null,null,null,null,null,null,null,null,null,null,null,null,null,null,null,null,null,null,null,null,null,null,null,null,null,null,null,null,null,null,null,null,null,null,"",""]
[null,null,null,null,null,null,null,null,null,null,null,null,null,null,null,null,null,null,null,null,null,null,null,null,null,null,null,null,null,null,null,null,null,null,null,null,null,null,null,null,null,null,null,null,null,null,null,null,null,null,null,null,null,null,null,null,null,null,"",""]
[null,null,null,null,null,null,null,null,null,null,null,null,null,null,null,null,null,null,null,null,null,null,null,null,null,null,null,null,null,null,null,null,null,null,null,null,null,null,null,null,null,null,null,null,null,null,null,null,null,null,null,null,null,null,null,null,null,null,"",""]
[null,null,null,null,null,null,null,null,null,null,null,null,null,null,null,null,null,null,null,null,null,null,null,null,null,null,null,null,null,null,null,null,null,null,null,null,null,null,null,null,null,null,null,null,null,null,null,null,null,null,null,null,null,null,null,null,null,null,"",""]
[null,null,null,null,null,null,null,null,null,null,null,null,null,null,null,null,null,null,null,null,null,null,null,null,null,null,null,null,null,null,null,null,null,null,null,null,null,null,null,null,null,null,null,null,null,null,null,null,null,null,null,null,null,null,null,null,null,null,"",""]
[null,null,null,null,null,null,null,null,null,null,null,null,null,null,null,null,null,null,null,null,null,null,null,null,null,null,null,null,null,null,null,null,null,null,null,null,null,null,null,null,null,null,null,null,null,null,null,null,null,null,null,null,null,null,null,null,null,null,{"$f":"H199&L199&M199","v":""},{"$f":"H199&L199&M199&P199&Q199&R199","v":""}]
[null,null,null,null,null,null,null,null,null,null,null,null,null,null,null,null,null,null,null,null,null,null,null,null,null,null,null,null,null,null,null,null,null,null,null,null,null,null,null,null,null,null,null,null,null,null,null,null,null,null,null,null,null,null,null,null,null,null,"",""]
[null,null,null,null,null,null,null,null,null,null,null,null,null,null,null,null,null,null,null,null,null,null,null,null,null,null,null,null,null,null,null,null,null,null,null,null,null,null,null,null,null,null,null,null,null,null,null,null,null,null,null,null,null,null,null,null,null,null,"",""]
[null,null,null,null,null,null,null,null,null,null,null,null,null,null,null,null,null,null,null,null,null,null,null,null,null,null,null,null,null,null,null,null,null,null,null,null,null,null,null,null,null,null,null,null,null,null,null,null,null,null,null,null,null,null,null,null,null,null,"",""]
[null,null,null,null,null,null,null,null,null,null,null,null,null,null,null,null,null,null,null,null,null,null,null,null,null,null,null,null,null,null,null,null,null,null,null,null,null,null,null,null,null,null,null,null,null,null,null,null,null,null,null,null,null,null,null,null,null,null,"",""]
[null,null,null,null,null,null,null,null,null,null,null,null,null,null,null,null,null,null,null,null,null,null,null,null,null,null,null,null,null,null,null,null,null,null,null,null,null,null,null,null,null,null,null,null,null,null,null,null,null,null,null,null,null,null,null,null,null,null,"",""]
[null,null,null,null,null,null,null,null,null,null,null,null,null,null,null,null,null,null,null,null,null,null,null,null,null,null,null,null,null,null,null,null,null,null,null,null,null,null,null,null,null,null,null,null,null,null,null,null,null,null,null,null,null,null,null,null,null,null,"",""]
[null,null,null,null,null,null,null,null,null,null,null,null,null,null,null,null,null,null,null,null,null,null,null,null,null,null,null,null,null,null,null,null,null,null,null,null,null,null,null,null,null,null,null,null,null,null,null,null,null,null,null,null,null,null,null,null,null,null,"",""]
[null,null,null,null,null,null,null,null,null,null,null,null,null,null,null,null,null,null,null,null,null,null,null,null,null,null,null,null,null,null,null,null,null,null,null,null,null,null,null,null,null,null,null,null,null,null,null,null,null,null,null,null,null,null,null,null,null,null,"",""]
[null,null,null,null,null,null,null,null,null,null,null,null,null,null,null,null,null,null,null,null,null,null,null,null,null,null,null,null,null,null,null,null,null,null,null,null,null,null,null,null,null,null,null,null,null,null,null,null,null,null,null,null,null,null,null,null,null,null,"",""]
[null,null,null,null,null,null,null,null,null,null,null,null,null,null,null,null,null,null,null,null,null,null,null,null,null,null,null,null,null,null,null,null,null,null,null,null,null,null,null,null,null,null,null,null,null,null,null,null,null,null,null,null,null,null,null,null,null,null,"",""]
[null,null,null,null,null,null,null,null,null,null,null,null,null,null,null,null,null,null,null,null,null,null,null,null,null,null,null,null,null,null,null,null,null,null,null,null,null,null,null,null,null,null,null,null,null,null,null,null,null,null,null,null,null,null,null,null,null,null,"",""]
[null,null,null,null,null,null,null,null,null,null,null,null,null,null,null,null,null,null,null,null,null,null,null,null,null,null,null,null,null,null,null,null,null,null,null,null,null,null,null,null,null,null,null,null,null,null,null,null,null,null,null,null,null,null,null,null,null,null,"",""]
[null,null,null,null,null,null,null,null,null,null,null,null,null,null,null,null,null,null,null,null,null,null,null,null,null,null,null,null,null,null,null,null,null,null,null,null,null,null,null,null,null,null,null,null,null,null,null,null,null,null,null,null,null,null,null,null,null,null,"",""]
[null,null,null,null,null,null,null,null,null,null,null,null,null,null,null,null,null,null,null,null,null,null,null,null,null,null,null,null,null,null,null,null,null,null,null,null,null,null,null,null,null,null,null,null,null,null,null,null,null,null,null,null,null,null,null,null,null,null,"",""]
[null,null,null,null,null,null,null,null,null,null,null,null,null,null,null,null,null,null,null,null,null,null,null,null,null,null,null,null,null,null,null,null,null,null,null,null,null,null,null,null,null,null,null,null,null,null,null,null,null,null,null,null,null,null,null,null,null,null,"",""]
[null,null,null,null,null,null,null,null,null,null,null,null,null,null,null,null,null,null,null,null,null,null,null,null,null,null,null,null,null,null,null,null,null,null,null,null,null,null,null,null,null,null,null,null,null,null,null,null,null,null,null,null,null,null,null,null,null,null,"",""]
[null,null,null,null,null,null,null,null,null,null,null,null,null,null,null,null,null,null,null,null,null,null,null,null,null,null,null,null,null,null,null,null,null,null,null,null,null,null,null,null,null,null,null,null,null,null,null,null,null,null,null,null,null,null,null,null,null,null,"",""]
[null,null,null,null,null,null,null,null,null,null,null,null,null,null,null,null,null,null,null,null,null,null,null,null,null,null,null,null,null,null,null,null,null,null,null,null,null,null,null,null,null,null,null,null,null,null,null,null,null,null,null,null,null,null,null,null,null,null,"",""]
[null,null,null,null,null,null,null,null,null,null,null,null,null,null,null,null,null,null,null,null,null,null,null,null,null,null,null,null,null,null,null,null,null,null,null,null,null,null,null,null,null,null,null,null,null,null,null,null,null,null,null,null,null,null,null,null,null,null,"",""]
[null,null,null,null,null,null,null,null,null,null,null,null,null,null,null,null,null,null,null,null,null,null,null,null,null,null,null,null,null,null,null,null,null,null,null,null,null,null,null,null,null,null,null,null,null,null,null,null,null,null,null,null,null,null,null,null,null,null,"",""]
[null,null,null,null,null,null,null,null,null,null,null,null,null,null,null,null,null,null,null,null,null,null,null,null,null,null,null,null,null,null,null,null,null,null,null,null,null,null,null,null,null,null,null,null,null,null,null,null,null,null,null,null,null,null,null,null,null,null,{"$f":"H220&L220&M220","v":""},""]
[null,null,null,null,null,null,null,null,null,null,null,null,null,null,null,null,null,null,null,null,null,null,null,null,null,null,null,null,null,null,null,null,null,null,null,null,null,null,null,null,null,null,null,null,null,null,null,null,null,null,null,null,null,null,null,null,null,null,"",""]
[null,null,null,null,null,null,null,null,null,null,null,null,null,null,null,null,null,null,null,null,null,null,null,null,null,null,null,null,null,null,null,null,null,null,null,null,null,null,null,null,null,null,null,null,null,null,null,null,null,null,null,null,null,null,null,null,null,null,"",""]
[null,null,null,null,null,null,null,null,null,null,null,null,null,null,null,null,null,null,null,null,null,null,null,null,null,null,null,null,null,null,null,null,null,null,null,null,null,null,null,null,null,null,null,null,null,null,null,null,null,null,null,null,null,null,null,null,null,null,"",""]
[null,null,null,null,null,null,null,null,null,null,null,null,null,null,null,null,null,null,null,null,null,null,null,null,null,null,null,null,null,null,null,null,null,null,null,null,null,null,null,null,null,null,null,null,null,null,null,null,null,null,null,null,null,null,null,null,null,null,"",""]
[null,null,null,null,null,null,null,null,null,null,null,null,null,null,null,null,null,null,null,null,null,null,null,null,null,null,null,null,null,null,null,null,null,null,null,null,null,null,null,null,null,null,null,null,null,null,null,null,null,null,null,null,null,null,null,null,null,null,"",""]
[null,null,null,null,null,null,null,null,null,null,null,null,null,null,null,null,null,null,null,null,null,null,null,null,null,null,null,null,null,null,null,null,null,null,null,null,null,null,null,null,null,null,null,null,null,null,null,null,null,null,null,null,null,null,null,null,null,null,"",""]
[null,null,null,null,null,null,null,null,null,null,null,null,null,null,null,null,null,null,null,null,null,null,null,null,null,null,null,null,null,null,null,null,null,null,null,null,null,null,null,null,null,null,null,null,null,null,null,null,null,null,null,null,null,null,null,null,null,null,"",""]
[null,null,null,null,null,null,null,null,null,null,null,null,null,null,null,null,null,null,null,null,null,null,null,null,null,null,null,null,null,null,null,null,null,null,null,null,null,null,null,null,null,null,null,null,null,null,null,null,null,null,null,null,null,null,null,null,null,null,"",""]
[null,null,null,null,null,null,null,null,null,null,null,null,null,null,null,null,null,null,null,null,null,null,null,null,null,null,null,null,null,null,null,null,null,null,null,null,null,null,null,null,null,null,null,null,null,null,null,null,null,null,null,null,null,null,null,null,null,null,"",""]
[null,null,null,null,null,null,null,null,null,null,null,null,null,null,null,null,null,null,null,null,null,null,null,null,null,null,null,null,null,null,null,null,null,null,null,null,null,null,null,null,null,null,null,null,null,null,null,null,null,null,null,null,null,null,null,null,null,null,"",""]
[null,null,null,null,null,null,null,null,null,null,null,null,null,null,null,null,null,null,null,null,null,null,null,null,null,null,null,null,null,null,null,null,null,null,null,null,null,null,null,null,null,null,null,null,null,null,null,null,null,null,null,null,null,null,null,null,null,null,"",""]
[null,null,null,null,null,null,null,null,null,null,null,null,null,null,null,null,null,null,null,null,null,null,null,null,null,null,null,null,null,null,null,null,null,null,null,null,null,null,null,null,null,null,null,null,null,null,null,null,null,null,null,null,null,null,null,null,null,null,"",""]
[null,null,null,null,null,null,null,null,null,null,null,null,null,null,null,null,null,null,null,null,null,null,null,null,null,null,null,null,null,null,null,null,null,null,null,null,null,null,null,null,null,null,null,null,null,null,null,null,null,null,null,null,null,null,null,null,null,null,"",""]
[null,null,null,null,null,null,null,null,null,null,null,null,null,null,null,null,null,null,null,null,null,null,null,null,null,null,null,null,null,null,null,null,null,null,null,null,null,null,null,null,null,null,null,null,null,null,null,null,null,null,null,null,null,null,null,null,null,null,"",""]
[null,null,null,null,null,null,null,null,null,null,null,null,null,null,null,null,null,null,null,null,null,null,null,null,null,null,null,null,null,null,null,null,null,null,null,null,null,null,null,null,null,null,null,null,null,null,null,null,null,null,null,null,null,null,null,null,null,null,"",""]
[null,null,null,null,null,null,null,null,null,null,null,null,null,null,null,null,null,null,null,null,null,null,null,null,null,null,null,null,null,null,null,null,null,null,null,null,null,null,null,null,null,null,null,null,null,null,null,null,null,null,null,null,null,null,null,null,null,null,"",""]
[null,null,null,null,null,null,null,null,null,null,null,null,null,null,null,null,null,null,null,null,null,null,null,null,null,null,null,null,null,null,null,null,null,null,null,null,null,null,null,null,null,null,null,null,null,null,null,null,null,null,null,null,null,null,null,null,null,null,"",""]
[null,null,null,null,null,null,null,null,null,null,null,null,null,null,null,null,null,null,null,null,null,null,null,null,null,null,null,null,null,null,null,null,null,null,null,null,null,null,null,null,null,null,null,null,null,null,null,null,null,null,null,null,null,null,null,null,null,null,"",""]
[null,null,null,null,null,null,null,null,null,null,null,null,null,null,null,null,null,null,null,null,null,null,null,null,null,null,null,null,null,null,null,null,null,null,null,null,null,null,null,null,null,null,null,null,null,null,null,null,null,null,null,null,null,null,null,null,null,null,"",""]
[null,null,null,null,null,null,null,null,null,null,null,null,null,null,null,null,null,null,null,null,null,null,null,null,null,null,null,null,null,null,null,null,null,null,null,null,null,null,null,null,null,null,null,null,null,null,null,null,null,null,null,null,null,null,null,null,null,null,"",""]
[null,null,null,null,null,null,null,null,null,null,null,null,null,null,null,null,null,null,null,null,null,null,null,null,null,null,null,null,null,null,null,null,null,null,null,null,null,null,null,null,null,null,null,null,null,null,null,null,null,null,null,null,null,null,null,null,null,null,"",""]
[null,null,null,null,null,null,null,null,null,null,null,null,null,null,null,null,null,null,null,null,null,null,null,null,null,null,null,null,null,null,null,null,null,null,null,null,null,null,null,null,null,null,null,null,null,null,null,null,null,null,null,null,null,null,null,null,null,null,"",""]
[null,null,null,null,null,null,null,null,null,null,null,null,null,null,null,null,null,null,null,null,null,null,null,null,null,null,null,null,null,null,null,null,null,null,null,null,null,null,null,null,null,null,null,null,null,null,null,null,null,null,null,null,null,null,null,null,null,null,"",{"$f":"H243&L243&M243&P243&Q243&R243","v":""}]
[null,null,null,null,null,null,null,null,null,null,null,null,null,null,null,null,null,null,null,null,null,null,null,null,null,null,null,null,null,null,null,null,null,null,null,null,null,null,null,null,null,null,null,null,null,null,null,null,null,null,null,null,null,null,null,null,null,null,"",""]
[null,null,null,null,null,null,null,null,null,null,null,null,null,null,null,null,null,null,null,null,null,null,null,null,null,null,null,null,null,null,null,null,null,null,null,null,null,null,null,null,null,null,null,null,null,null,null,null,null,null,null,null,null,null,null,null,null,null,"",""]
[null,null,null,null,null,null,null,null,null,null,null,null,null,null,null,null,null,null,null,null,null,null,null,null,null,null,null,null,null,null,null,null,null,null,null,null,null,null,null,null,null,null,null,null,null,null,null,null,null,null,null,null,null,null,null,null,null,null,"",""]
[null,null,null,null,null,null,null,null,null,null,null,null,null,null,null,null,null,null,null,null,null,null,null,null,null,null,null,null,null,null,null,null,null,null,null,null,null,null,null,null,null,null,null,null,null,null,null,null,null,null,null,null,null,null,null,null,null,null,"",""]
[null,null,null,null,null,null,null,null,null,null,null,null,null,null,null,null,null,null,null,null,null,null,null,null,null,null,null,null,null,null,null,null,null,null,null,null,null,null,null,null,null,null,null,null,null,null,null,null,null,null,null,null,null,null,null,null,null,null,"",""]
[null,null,null,null,null,null,null,null,null,null,null,null,null,null,null,null,null,null,null,null,null,null,null,null,null,null,null,null,null,null,null,null,null,null,null,null,null,null,null,null,null,null,null,null,null,null,null,null,null,null,null,null,null,null,null,null,null,null,"",""]
[null,null,null,null,null,null,null,null,null,null,null,null,null,null,null,null,null,null,null,null,null,null,null,null,null,null,null,null,null,null,null,null,null,null,null,null,null,null,null,null,null,null,null,null,null,null,null,null,null,null,null,null,null,null,null,null,null,null,"",""]
[null,null,null,null,null,null,null,null,null,null,null,null,null,null,null,null,null,null,null,null,null,null,null,null,null,null,null,null,null,null,null,null,null,null,null,null,null,null,null,null,null,null,null,null,null,null,null,null,null,null,null,null,null,null,null,null,null,null,"",""]
[null,null,null,null,null,null,null,null,null,null,null,null,null,null,null,null,null,null,null,null,null,null,null,null,null,null,null,null,null,null,null,null,null,null,null,null,null,null,null,null,null,null,null,null,null,null,null,null,null,null,null,null,null,null,null,null,null,null,"",""]
[null,null,null,null,null,null,null,null,null,null,null,null,null,null,null,null,null,null,null,null,null,null,null,null,null,null,null,null,null,null,null,null,null,null,null,null,null,null,null,null,null,null,null,null,null,null,null,null,null,null,null,null,null,null,null,null,null,null,"",""]
[null,null,null,null,null,null,null,null,null,null,null,null,null,null,null,null,null,null,null,null,null,null,null,null,null,null,null,null,null,null,null,null,null,null,null,null,null,null,null,null,null,null,null,null,null,null,null,null,null,null,null,null,null,null,null,null,null,null,"",""]
[null,null,null,null,null,null,null,null,null,null,null,null,null,null,null,null,null,null,null,null,null,null,null,null,null,null,null,null,null,null,null,null,null,null,null,null,null,null,null,null,null,null,null,null,null,null,null,null,null,null,null,null,null,null,null,null,null,null,"",""]
[null,null,null,null,null,null,null,null,null,null,null,null,null,null,null,null,null,null,null,null,null,null,null,null,null,null,null,null,null,null,null,null,null,null,null,null,null,null,null,null,null,null,null,null,null,null,null,null,null,null,null,null,null,null,null,null,null,null,"",""]
[null,null,null,null,null,null,null,null,null,null,null,null,null,null,null,null,null,null,null,null,null,null,null,null,null,null,null,null,null,null,null,null,null,null,null,null,null,null,null,null,null,null,null,null,null,null,null,null,null,null,null,null,null,null,null,null,null,null,{"$f":"H257&L257&M257","v":""},{"$f":"H257&L257&M257&P257&Q257&R257","v":""}]
[null,null,null,null,null,null,null,null,null,null,null,null,null,null,null,null,null,null,null,null,null,null,null,null,null,null,null,null,null,null,null,null,null,null,null,null,null,null,null,null,null,null,null,null,null,null,null,null,null,null,null,null,null,null,null,null,null,null,"",""]
[null,null,null,null,null,null,null,null,null,null,null,null,null,null,null,null,null,null,null,null,null,null,null,null,null,null,null,null,null,null,null,null,null,null,null,null,null,null,null,null,null,null,null,null,null,null,null,null,null,null,null,null,null,null,null,null,null,null,"",""]
[null,null,null,null,null,null,null,null,null,null,null,null,null,null,null,null,null,null,null,null,null,null,null,null,null,null,null,null,null,null,null,null,null,null,null,null,null,null,null,null,null,null,null,null,null,null,null,null,null,null,null,null,null,null,null,null,null,null,"",""]
[null,null,null,null,null,null,null,null,null,null,null,null,null,null,null,null,null,null,null,null,null,null,null,null,null,null,null,null,null,null,null,null,null,null,null,null,null,null,null,null,null,null,null,null,null,null,null,null,null,null,null,null,null,null,null,null,null,null,"",""]
[null,null,null,null,null,null,null,null,null,null,null,null,null,null,null,null,null,null,null,null,null,null,null,null,null,null,null,null,null,null,null,null,null,null,null,null,null,null,null,null,null,null,null,null,null,null,null,null,null,null,null,null,null,null,null,null,null,null,"",""]
[null,null,null,null,null,null,null,null,null,null,null,null,null,null,null,null,null,null,null,null,null,null,null,null,null,null,null,null,null,null,null,null,null,null,null,null,null,null,null,null,null,null,null,null,null,null,null,null,null,null,null,null,null,null,null,null,null,null,"",""]
[null,null,null,null,null,null,null,null,null,null,null,null,null,null,null,null,null,null,null,null,null,null,null,null,null,null,null,null,null,null,null,null,null,null,null,null,null,null,null,null,null,null,null,null,null,null,null,null,null,null,null,null,null,null,null,null,null,null,"",""]
[null,null,null,null,null,null,null,null,null,null,null,null,null,null,null,null,null,null,null,null,null,null,null,null,null,null,null,null,null,null,null,null,null,null,null,null,null,null,null,null,null,null,null,null,null,null,null,null,null,null,null,null,null,null,null,null,null,null,"",""]
[null,null,null,null,null,null,null,null,null,null,null,null,null,null,null,null,null,null,null,null,null,null,null,null,null,null,null,null,null,null,null,null,null,null,null,null,null,null,null,null,null,null,null,null,null,null,null,null,null,null,null,null,null,null,null,null,null,null,"",""]
[null,null,null,null,null,null,null,null,null,null,null,null,null,null,null,null,null,null,null,null,null,null,null,null,null,null,null,null,null,null,null,null,null,null,null,null,null,null,null,null,null,null,null,null,null,null,null,null,null,null,null,null,null,null,null,null,null,null,"",""]
[null,null,null,null,null,null,null,null,null,null,null,null,null,null,null,null,null,null,null,null,null,null,null,null,null,null,null,null,null,null,null,null,null,null,null,null,null,null,null,null,null,null,null,null,null,null,null,null,null,null,null,null,null,null,null,null,null,null,"",""]
[null,null,null,null,null,null,null,null,null,null,null,null,null,null,null,null,null,null,null,null,null,null,null,null,null,null,null,null,null,null,null,null,null,null,null,null,null,null,null,null,null,null,null,null,null,null,null,null,null,null,null,null,null,null,null,null,null,null,"",""]
[null,null,null,null,null,null,null,null,null,null,null,null,null,null,null,null,null,null,null,null,null,null,null,null,null,null,null,null,null,null,null,null,null,null,null,null,null,null,null,null,null,null,null,null,null,null,null,null,null,null,null,null,null,null,null,null,null,null,"",""]
[null,null,null,null,null,null,null,null,null,null,null,null,null,null,null,null,null,null,null,null,null,null,null,null,null,null,null,null,null,null,null,null,null,null,null,null,null,null,null,null,null,null,null,null,null,null,null,null,null,null,null,null,null,null,null,null,null,null,"",""]
[null,null,null,null,null,null,null,null,null,null,null,null,null,null,null,null,null,null,null,null,null,null,null,null,null,null,null,null,null,null,null,null,null,null,null,null,null,null,null,null,null,null,null,null,null,null,null,null,null,null,null,null,null,null,null,null,null,null,"",""]
[null,null,null,null,null,null,null,null,null,null,null,null,null,null,null,null,null,null,null,null,null,null,null,null,null,null,null,null,null,null,null,null,null,null,null,null,null,null,null,null,null,null,null,null,null,null,null,null,null,null,null,null,null,null,null,null,null,null,"",""]
[null,null,null,null,null,null,null,null,null,null,null,null,null,null,null,null,null,null,null,null,null,null,null,null,null,null,null,null,null,null,null,null,null,null,null,null,null,null,null,null,null,null,null,null,null,null,null,null,null,null,null,null,null,null,null,null,null,null,"",""]
[null,null,null,null,null,null,null,null,null,null,null,null,null,null,null,null,null,null,null,null,null,null,null,null,null,null,null,null,null,null,null,null,null,null,null,null,null,null,null,null,null,null,null,null,null,null,null,null,null,null,null,null,null,null,null,null,null,null,"",""]
[null,null,null,null,null,null,null,null,null,null,null,null,null,null,null,null,null,null,null,null,null,null,null,null,null,null,null,null,null,null,null,null,null,null,null,null,null,null,null,null,null,null,null,null,null,null,null,null,null,null,null,null,null,null,null,null,null,null,"",""]
[null,null,null,null,null,null,null,null,null,null,null,null,null,null,null,null,null,null,null,null,null,null,null,null,null,null,null,null,null,null,null,null,null,null,null,null,null,null,null,null,null,null,null,null,null,null,null,null,null,null,null,null,null,null,null,null,null,null,"",""]
[null,null,null,null,null,null,null,null,null,null,null,null,null,null,null,null,null,null,null,null,null,null,null,null,null,null,null,null,null,null,null,null,null,null,null,null,null,null,null,null,null,null,null,null,null,null,null,null,null,null,null,null,null,null,null,null,null,null,"",""]
[null,null,null,null,null,null,null,null,null,null,null,null,null,null,null,null,null,null,null,null,null,null,null,null,null,null,null,null,null,null,null,null,null,null,null,null,null,null,null,null,null,null,null,null,null,null,null,null,null,null,null,null,null,null,null,null,null,null,"",""]
[null,null,null,null,null,null,null,null,null,null,null,null,null,null,null,null,null,null,null,null,null,null,null,null,null,null,null,null,null,null,null,null,null,null,null,null,null,null,null,null,null,null,null,null,null,null,null,null,null,null,null,null,null,null,null,null,null,null,"",""]
[null,null,null,null,null,null,null,null,null,null,null,null,null,null,null,null,null,null,null,null,null,null,null,null,null,null,null,null,null,null,null,null,null,null,null,null,null,null,null,null,null,null,null,null,null,null,null,null,null,null,null,null,null,null,null,null,null,null,"",""]
[null,null,null,null,null,null,null,null,null,null,null,null,null,null,null,null,null,null,null,null,null,null,null,null,null,null,null,null,null,null,null,null,null,null,null,null,null,null,null,null,null,null,null,null,null,null,null,null,null,null,null,null,null,null,null,null,null,null,"",""]
[null,null,null,null,null,null,null,null,null,null,null,null,null,null,null,null,null,null,null,null,null,null,null,null,null,null,null,null,null,null,null,null,null,null,null,null,null,null,null,null,null,null,null,null,null,null,null,null,null,null,null,null,null,null,null,null,null,null,"",""]
[null,null,null,null,null,null,null,null,null,null,null,null,null,null,null,null,null,null,null,null,null,null,null,null,null,null,null,null,null,null,null,null,null,null,null,null,null,null,null,null,null,null,null,null,null,null,null,null,null,null,null,null,null,null,null,null,null,null,"",""]
[null,null,null,null,null,null,null,null,null,null,null,null,null,null,null,null,null,null,null,null,null,null,null,null,null,null,null,null,null,null,null,null,null,null,null,null,null,null,null,null,null,null,null,null,null,null,null,null,null,null,null,null,null,null,null,null,null,null,"",""]
[null,null,null,null,null,null,null,null,null,null,null,null,null,null,null,null,null,null,null,null,null,null,null,null,null,null,null,null,null,null,null,null,null,null,null,null,null,null,null,null,null,null,null,null,null,null,null,null,null,null,null,null,null,null,null,null,null,null,"",""]
[null,null,null,null,null,null,null,null,null,null,null,null,null,null,null,null,null,null,null,null,null,null,null,null,null,null,null,null,null,null,null,null,null,null,null,null,null,null,null,null,null,null,null,null,null,null,null,null,null,null,null,null,null,null,null,null,null,null,"",""]
[null,null,null,null,null,null,null,null,null,null,null,null,null,null,null,null,null,null,null,null,null,null,null,null,null,null,null,null,null,null,null,null,null,null,null,null,null,null,null,null,null,null,null,null,null,null,null,null,null,null,null,null,null,null,null,null,null,null,"",""]
[null,null,null,null,null,null,null,null,null,null,null,null,null,null,null,null,null,null,null,null,null,null,null,null,null,null,null,null,null,null,null,null,null,null,null,null,null,null,null,null,null,null,null,null,null,null,null,null,null,null,null,null,null,null,null,null,null,null,"",""]
[null,null,null,null,null,null,null,null,null,null,null,null,null,null,null,null,null,null,null,null,null,null,null,null,null,null,null,null,null,null,null,null,null,null,null,null,null,null,null,null,null,null,null,null,null,null,null,null,null,null,null,null,null,null,null,null,null,null,"",""]
[null,null,null,null,null,null,null,null,null,null,null,null,null,null,null,null,null,null,null,null,null,null,null,null,null,null,null,null,null,null,null,null,null,null,null,null,null,null,null,null,null,null,null,null,null,null,null,null,null,null,null,null,null,null,null,null,null,null,"",""]
[null,null,null,null,null,null,null,null,null,null,null,null,null,null,null,null,null,null,null,null,null,null,null,null,null,null,null,null,null,null,null,null,null,null,null,null,null,null,null,null,null,null,null,null,null,null,null,null,null,null,null,null,null,null,null,null,null,null,"",""]
[null,null,null,null,null,null,null,null,null,null,null,null,null,null,null,null,null,null,null,null,null,null,null,null,null,null,null,null,null,null,null,null,null,null,null,null,null,null,null,null,null,null,null,null,null,null,null,null,null,null,null,null,null,null,null,null,null,null,"",""]
[null,null,null,null,null,null,null,null,null,null,null,null,null,null,null,null,null,null,null,null,null,null,null,null,null,null,null,null,null,null,null,null,null,null,null,null,null,null,null,null,null,null,null,null,null,null,null,null,null,null,null,null,null,null,null,null,null,null,"",""]
[null,null,null,null,null,null,null,null,null,null,null,null,null,null,null,null,null,null,null,null,null,null,null,null,null,null,null,null,null,null,null,null,null,null,null,null,null,null,null,null,null,null,null,null,null,null,null,null,null,null,null,null,null,null,null,null,null,null,"",""]
[null,null,null,null,null,null,null,null,null,null,null,null,null,null,null,null,null,null,null,null,null,null,null,null,null,null,null,null,null,null,null,null,null,null,null,null,null,null,null,null,null,null,null,null,null,null,null,null,null,null,null,null,null,null,null,null,null,null,"",""]
[null,null,null,null,null,null,null,null,null,null,null,null,null,null,null,null,null,null,null,null,null,null,null,null,null,null,null,null,null,null,null,null,null,null,null,null,null,null,null,null,null,null,null,null,null,null,null,null,null,null,null,null,null,null,null,null,null,null,"",""]
[null,null,null,null,null,null,null,null,null,null,null,null,null,null,null,null,null,null,null,null,null,null,null,null,null,null,null,null,null,null,null,null,null,null,null,null,null,null,null,null,null,null,null,null,null,null,null,null,null,null,null,null,null,null,null,null,null,null,"",""]
[null,null,null,null,null,null,null,null,null,null,null,null,null,null,null,null,null,null,null,null,null,null,null,null,null,null,null,null,null,null,null,null,null,null,null,null,null,null,null,null,null,null,null,null,null,null,null,null,null,null,null,null,null,null,null,null,null,null,"",""]
[null,null,null,null,null,null,null,null,null,null,null,null,null,null,null,null,null,null,null,null,null,null,null,null,null,null,null,null,null,null,null,null,null,null,null,null,null,null,null,null,null,null,null,null,null,null,null,null,null,null,null,null,null,null,null,null,null,null,"",""]
[null,null,null,null,null,null,null,null,null,null,null,null,null,null,null,null,null,null,null,null,null,null,null,null,null,null,null,null,null,null,null,null,null,null,null,null,null,null,null,null,null,null,null,null,null,null,null,null,null,null,null,null,null,null,null,null,null,null,"",""]
[null,null,null,null,null,null,null,null,null,null,null,null,null,null,null,null,null,null,null,null,null,null,null,null,null,null,null,null,null,null,null,null,null,null,null,null,null,null,null,null,null,null,null,null,null,null,null,null,null,null,null,null,null,null,null,null,null,null,"",""]
[null,null,null,null,null,null,null,null,null,null,null,null,null,null,null,null,null,null,null,null,null,null,null,null,null,null,null,null,null,null,null,null,null,null,null,null,null,null,null,null,null,null,null,null,null,null,null,null,null,null,null,null,null,null,null,null,null,null,"",""]
[null,null,null,null,null,null,null,null,null,null,null,null,null,null,null,null,null,null,null,null,null,null,null,null,null,null,null,null,null,null,null,null,null,null,null,null,null,null,null,null,null,null,null,null,null,null,null,null,null,null,null,null,null,null,null,null,null,null,"",""]
[null,null,null,null,null,null,null,null,null,null,null,null,null,null,null,null,null,null,null,null,null,null,null,null,null,null,null,null,null,null,null,null,null,null,null,null,null,null,null,null,null,null,null,null,null,null,null,null,null,null,null,null,null,null,null,null,null,null,"",""]
[null,null,null,null,null,null,null,null,null,null,null,null,null,null,null,null,null,null,null,null,null,null,null,null,null,null,null,null,null,null,null,null,null,null,null,null,null,null,null,null,null,null,null,null,null,null,null,null,null,null,null,null,null,null,null,null,null,null,"",""]
[null,null,null,null,null,null,null,null,null,null,null,null,null,null,null,null,null,null,null,null,null,null,null,null,null,null,null,null,null,null,null,null,null,null,null,null,null,null,null,null,null,null,null,null,null,null,null,null,null,null,null,null,null,null,null,null,null,null,"",""]
[null,null,null,null,null,null,null,null,null,null,null,null,null,null,null,null,null,null,null,null,null,null,null,null,null,null,null,null,null,null,null,null,null,null,null,null,null,null,null,null,null,null,null,null,null,null,null,null,null,null,null,null,null,null,null,null,null,null,"",""]
[null,null,null,null,null,null,null,null,null,null,null,null,null,null,null,null,null,null,null,null,null,null,null,null,null,null,null,null,null,null,null,null,null,null,null,null,null,null,null,null,null,null,null,null,null,null,null,null,null,null,null,null,null,null,null,null,null,null,"",""]
[null,null,null,null,null,null,null,null,null,null,null,null,null,null,null,null,null,null,null,null,null,null,null,null,null,null,null,null,null,null,null,null,null,null,null,null,null,null,null,null,null,null,null,null,null,null,null,null,null,null,null,null,null,null,null,null,null,null,"",""]
[null,null,null,null,null,null,null,null,null,null,null,null,null,null,null,null,null,null,null,null,null,null,null,null,null,null,null,null,null,null,null,null,null,null,null,null,null,null,null,null,null,null,null,null,null,null,null,null,null,null,null,null,null,null,null,null,null,null,"",""]
[null,null,null,null,null,null,null,null,null,null,null,null,null,null,null,null,null,null,null,null,null,null,null,null,null,null,null,null,null,null,null,null,null,null,null,null,null,null,null,null,null,null,null,null,null,null,null,null,null,null,null,null,null,null,null,null,null,null,"",""]
[null,null,null,null,null,null,null,null,null,null,null,null,null,null,null,null,null,null,null,null,null,null,null,null,null,null,null,null,null,null,null,null,null,null,null,null,null,null,null,null,null,null,null,null,null,null,null,null,null,null,null,null,null,null,null,null,null,null,"",""]
[null,null,null,null,null,null,null,null,null,null,null,null,null,null,null,null,null,null,null,null,null,null,null,null,null,null,null,null,null,null,null,null,null,null,null,null,null,null,null,null,null,null,null,null,null,null,null,null,null,null,null,null,null,null,null,null,null,null,"",""]
[null,null,null,null,null,null,null,null,null,null,null,null,null,null,null,null,null,null,null,null,null,null,null,null,null,null,null,null,null,null,null,null,null,null,null,null,null,null,null,null,null,null,null,null,null,null,null,null,null,null,null,null,null,null,null,null,null,null,"",""]
[null,null,null,null,null,null,null,null,null,null,null,null,null,null,null,null,null,null,null,null,null,null,null,null,null,null,null,null,null,null,null,null,null,null,null,null,null,null,null,null,null,null,null,null,null,null,null,null,null,null,null,null,null,null,null,null,null,null,"",""]
[null,null,null,null,null,null,null,null,null,null,null,null,null,null,null,null,null,null,null,null,null,null,null,null,null,null,null,null,null,null,null,null,null,null,null,null,null,null,null,null,null,null,null,null,null,null,null,null,null,null,null,null,null,null,null,null,null,null,"",""]
[null,null,null,null,null,null,null,null,null,null,null,null,null,null,null,null,null,null,null,null,null,null,null,null,null,null,null,null,null,null,null,null,null,null,null,null,null,null,null,null,null,null,null,null,null,null,null,null,null,null,null,null,null,null,null,null,null,null,"",""]
[null,null,null,null,null,null,null,null,null,null,null,null,null,null,null,null,null,null,null,null,null,null,null,null,null,null,null,null,null,null,null,null,null,null,null,null,null,null,null,null,null,null,null,null,null,null,null,null,null,null,null,null,null,null,null,null,null,null,"",""]
[null,null,null,null,null,null,null,null,null,null,null,null,null,null,null,null,null,null,null,null,null,null,null,null,null,null,null,null,null,null,null,null,null,null,null,null,null,null,null,null,null,null,null,null,null,null,null,null,null,null,null,null,null,null,null,null,null,null,"",""]
[null,null,null,null,null,null,null,null,null,null,null,null,null,null,null,null,null,null,null,null,null,null,null,null,null,null,null,null,null,null,null,null,null,null,null,null,null,null,null,null,null,null,null,null,null,null,null,null,null,null,null,null,null,null,null,null,null,null,{"$f":"H321&L321&M321","v":""},{"$f":"H321&L321&M321&P321&Q321&R321","v":""}]
[null,null,null,null,null,null,null,null,null,null,null,null,null,null,null,null,null,null,null,null,null,null,null,null,null,null,null,null,null,null,null,null,null,null,null,null,null,null,null,null,null,null,null,null,null,null,null,null,null,null,null,null,null,null,null,null,null,null,"",""]
[null,null,null,null,null,null,null,null,null,null,null,null,null,null,null,null,null,null,null,null,null,null,null,null,null,null,null,null,null,null,null,null,null,null,null,null,null,null,null,null,null,null,null,null,null,null,null,null,null,null,null,null,null,null,null,null,null,null,"",""]
[null,null,null,null,null,null,null,null,null,null,null,null,null,null,null,null,null,null,null,null,null,null,null,null,null,null,null,null,null,null,null,null,null,null,null,null,null,null,null,null,null,null,null,null,null,null,null,null,null,null,null,null,null,null,null,null,null,null,"",""]
[null,null,null,null,null,null,null,null,null,null,null,null,null,null,null,null,null,null,null,null,null,null,null,null,null,null,null,null,null,null,null,null,null,null,null,null,null,null,null,null,null,null,null,null,null,null,null,null,null,null,null,null,null,null,null,null,null,null,"",""]
[null,null,null,null,null,null,null,null,null,null,null,null,null,null,null,null,null,null,null,null,null,null,null,null,null,null,null,null,null,null,null,null,null,null,null,null,null,null,null,null,null,null,null,null,null,null,null,null,null,null,null,null,null,null,null,null,null,null,"",""]
[null,null,null,null,null,null,null,null,null,null,null,null,null,null,null,null,null,null,null,null,null,null,null,null,null,null,null,null,null,null,null,null,null,null,null,null,null,null,null,null,null,null,null,null,null,null,null,null,null,null,null,null,null,null,null,null,null,null,"",""]
[null,null,null,null,null,null,null,null,null,null,null,null,null,null,null,null,null,null,null,null,null,null,null,null,null,null,null,null,null,null,null,null,null,null,null,null,null,null,null,null,null,null,null,null,null,null,null,null,null,null,null,null,null,null,null,null,null,null,"",""]
[null,null,null,null,null,null,null,null,null,null,null,null,null,null,null,null,null,null,null,null,null,null,null,null,null,null,null,null,null,null,null,null,null,null,null,null,null,null,null,null,null,null,null,null,null,null,null,null,null,null,null,null,null,null,null,null,null,null,"",""]
[null,null,null,null,null,null,null,null,null,null,null,null,null,null,null,null,null,null,null,null,null,null,null,null,null,null,null,null,null,null,null,null,null,null,null,null,null,null,null,null,null,null,null,null,null,null,null,null,null,null,null,null,null,null,null,null,null,null,"",""]
[null,null,null,null,null,null,null,null,null,null,null,null,null,null,null,null,null,null,null,null,null,null,null,null,null,null,null,null,null,null,null,null,null,null,null,null,null,null,null,null,null,null,null,null,null,null,null,null,null,null,null,null,null,null,null,null,null,null,"",""]
[null,null,null,null,null,null,null,null,null,null,null,null,null,null,null,null,null,null,null,null,null,null,null,null,null,null,null,null,null,null,null,null,null,null,null,null,null,null,null,null,null,null,null,null,null,null,null,null,null,null,null,null,null,null,null,null,null,null,"",""]
[null,null,null,null,null,null,null,null,null,null,null,null,null,null,null,null,null,null,null,null,null,null,null,null,null,null,null,null,null,null,null,null,null,null,null,null,null,null,null,null,null,null,null,null,null,null,null,null,null,null,null,null,null,null,null,null,null,null,"",""]
[null,null,null,null,null,null,null,null,null,null,null,null,null,null,null,null,null,null,null,null,null,null,null,null,null,null,null,null,null,null,null,null,null,null,null,null,null,null,null,null,null,null,null,null,null,null,null,null,null,null,null,null,null,null,null,null,null,null,"",""]
[null,null,null,null,null,null,null,null,null,null,null,null,null,null,null,null,null,null,null,null,null,null,null,null,null,null,null,null,null,null,null,null,null,null,null,null,null,null,null,null,null,null,null,null,null,null,null,null,null,null,null,null,null,null,null,null,null,null,"",""]
[null,null,null,null,null,null,null,null,null,null,null,null,null,null,null,null,null,null,null,null,null,null,null,null,null,null,null,null,null,null,null,null,null,null,null,null,null,null,null,null,null,null,null,null,null,null,null,null,null,null,null,null,null,null,null,null,null,null,"",""]
[null,null,null,null,null,null,null,null,null,null,null,null,null,null,null,null,null,null,null,null,null,null,null,null,null,null,null,null,null,null,null,null,null,null,null,null,null,null,null,null,null,null,null,null,null,null,null,null,null,null,null,null,null,null,null,null,null,null,"",""]
[null,null,null,null,null,null,null,null,null,null,null,null,null,null,null,null,null,null,null,null,null,null,null,null,null,null,null,null,null,null,null,null,null,null,null,null,null,null,null,null,null,null,null,null,null,null,null,null,null,null,null,null,null,null,null,null,null,null,"",""]
[null,null,null,null,null,null,null,null,null,null,null,null,null,null,null,null,null,null,null,null,null,null,null,null,null,null,null,null,null,null,null,null,null,null,null,null,null,null,null,null,null,null,null,null,null,null,null,null,null,null,null,null,null,null,null,null,null,null,"",""]
[null,null,null,null,null,null,null,null,null,null,null,null,null,null,null,null,null,null,null,null,null,null,null,null,null,null,null,null,null,null,null,null,null,null,null,null,null,null,null,null,null,null,null,null,null,null,null,null,null,null,null,null,null,null,null,null,null,null,"",""]
[null,null,null,null,null,null,null,null,null,null,null,null,null,null,null,null,null,null,null,null,null,null,null,null,null,null,null,null,null,null,null,null,null,null,null,null,null,null,null,null,null,null,null,null,null,null,null,null,null,null,null,null,null,null,null,null,null,null,"",""]
[null,null,null,null,null,null,null,null,null,null,null,null,null,null,null,null,null,null,null,null,null,null,null,null,null,null,null,null,null,null,null,null,null,null,null,null,null,null,null,null,null,null,null,null,null,null,null,null,null,null,null,null,null,null,null,null,null,null,"",""]
[null,null,null,null,null,null,null,null,null,null,null,null,null,null,null,null,null,null,null,null,null,null,null,null,null,null,null,null,null,null,null,null,null,null,null,null,null,null,null,null,null,null,null,null,null,null,null,null,null,null,null,null,null,null,null,null,null,null,"",""]
[null,null,null,null,null,null,null,null,null,null,null,null,null,null,null,null,null,null,null,null,null,null,null,null,null,null,null,null,null,null,null,null,null,null,null,null,null,null,null,null,null,null,null,null,null,null,null,null,null,null,null,null,null,null,null,null,null,null,"",""]
[null,null,null,null,null,null,null,null,null,null,null,null,null,null,null,null,null,null,null,null,null,null,null,null,null,null,null,null,null,null,null,null,null,null,null,null,null,null,null,null,null,null,null,null,null,null,null,null,null,null,null,null,null,null,null,null,null,null,"",""]
[null,null,null,null,null,null,null,null,null,null,null,null,null,null,null,null,null,null,null,null,null,null,null,null,null,null,null,null,null,null,null,null,null,null,null,null,null,null,null,null,null,null,null,null,null,null,null,null,null,null,null,null,null,null,null,null,null,null,"",""]
[null,null,null,null,null,null,null,null,null,null,null,null,null,null,null,null,null,null,null,null,null,null,null,null,null,null,null,null,null,null,null,null,null,null,null,null,null,null,null,null,null,null,null,null,null,null,null,null,null,null,null,null,null,null,null,null,null,null,"",""]
[null,null,null,null,null,null,null,null,null,null,null,null,null,null,null,null,null,null,null,null,null,null,null,null,null,null,null,null,null,null,null,null,null,null,null,null,null,null,null,null,null,null,null,null,null,null,null,null,null,null,null,null,null,null,null,null,null,null,"",""]
[null,null,null,null,null,null,null,null,null,null,null,null,null,null,null,null,null,null,null,null,null,null,null,null,null,null,null,null,null,null,null,null,null,null,null,null,null,null,null,null,null,null,null,null,null,null,null,null,null,null,null,null,null,null,null,null,null,null,"",""]
[null,null,null,null,null,null,null,null,null,null,null,null,null,null,null,null,null,null,null,null,null,null,null,null,null,null,null,null,null,null,null,null,null,null,null,null,null,null,null,null,null,null,null,null,null,null,null,null,null,null,null,null,null,null,null,null,null,null,"",""]
[null,null,null,null,null,null,null,null,null,null,null,null,null,null,null,null,null,null,null,null,null,null,null,null,null,null,null,null,null,null,null,null,null,null,null,null,null,null,null,null,null,null,null,null,null,null,null,null,null,null,null,null,null,null,null,null,null,null,"",""]
[null,null,null,null,null,null,null,null,null,null,null,null,null,null,null,null,null,null,null,null,null,null,null,null,null,null,null,null,null,null,null,null,null,null,null,null,null,null,null,null,null,null,null,null,null,null,null,null,null,null,null,null,null,null,null,null,null,null,"",""]
[null,null,null,null,null,null,null,null,null,null,null,null,null,null,null,null,null,null,null,null,null,null,null,null,null,null,null,null,null,null,null,null,null,null,null,null,null,null,null,null,null,null,null,null,null,null,null,null,null,null,null,null,null,null,null,null,null,null,"",""]
[null,null,null,null,null,null,null,null,null,null,null,null,null,null,null,null,null,null,null,null,null,null,null,null,null,null,null,null,null,null,null,null,null,null,null,null,null,null,null,null,null,null,null,null,null,null,null,null,null,null,null,null,null,null,null,null,null,null,"",""]
[null,null,null,null,null,null,null,null,null,null,null,null,null,null,null,null,null,null,null,null,null,null,null,null,null,null,null,null,null,null,null,null,null,null,null,null,null,null,null,null,null,null,null,null,null,null,null,null,null,null,null,null,null,null,null,null,null,null,"",""]
[null,null,null,null,null,null,null,null,null,null,null,null,null,null,null,null,null,null,null,null,null,null,null,null,null,null,null,null,null,null,null,null,null,null,null,null,null,null,null,null,null,null,null,null,null,null,null,null,null,null,null,null,null,null,null,null,null,null,"",""]
[null,null,null,null,null,null,null,null,null,null,null,null,null,null,null,null,null,null,null,null,null,null,null,null,null,null,null,null,null,null,null,null,null,null,null,null,null,null,null,null,null,null,null,null,null,null,null,null,null,null,null,null,null,null,null,null,null,null,"",""]
[null,null,null,null,null,null,null,null,null,null,null,null,null,null,null,null,null,null,null,null,null,null,null,null,null,null,null,null,null,null,null,null,null,null,null,null,null,null,null,null,null,null,null,null,null,null,null,null,null,null,null,null,null,null,null,null,null,null,"",""]
[null,null,null,null,null,null,null,null,null,null,null,null,null,null,null,null,null,null,null,null,null,null,null,null,null,null,null,null,null,null,null,null,null,null,null,null,null,null,null,null,null,null,null,null,null,null,null,null,null,null,null,null,null,null,null,null,null,null,"",""]
[null,null,null,null,null,null,null,null,null,null,null,null,null,null,null,null,null,null,null,null,null,null,null,null,null,null,null,null,null,null,null,null,null,null,null,null,null,null,null,null,null,null,null,null,null,null,null,null,null,null,null,null,null,null,null,null,null,null,"",""]
[null,null,null,null,null,null,null,null,null,null,null,null,null,null,null,null,null,null,null,null,null,null,null,null,null,null,null,null,null,null,null,null,null,null,null,null,null,null,null,null,null,null,null,null,null,null,null,null,null,null,null,null,null,null,null,null,null,null,"",""]
[null,null,null,null,null,null,null,null,null,null,null,null,null,null,null,null,null,null,null,null,null,null,null,null,null,null,null,null,null,null,null,null,null,null,null,null,null,null,null,null,null,null,null,null,null,null,null,null,null,null,null,null,null,null,null,null,null,null,"",""]
[null,null,null,null,null,null,null,null,null,null,null,null,null,null,null,null,null,null,null,null,null,null,null,null,null,null,null,null,null,null,null,null,null,null,null,null,null,null,null,null,null,null,null,null,null,null,null,null,null,null,null,null,null,null,null,null,null,null,"",""]
[null,null,null,null,null,null,null,null,null,null,null,null,null,null,null,null,null,null,null,null,null,null,null,null,null,null,null,null,null,null,null,null,null,null,null,null,null,null,null,null,null,null,null,null,null,null,null,null,null,null,null,null,null,null,null,null,null,null,"",""]
[null,null,null,null,null,null,null,null,null,null,null,null,null,null,null,null,null,null,null,null,null,null,null,null,null,null,null,null,null,null,null,null,null,null,null,null,null,null,null,null,null,null,null,null,null,null,null,null,null,null,null,null,null,null,null,null,null,null,"",""]
[null,null,null,null,null,null,null,null,null,null,null,null,null,null,null,null,null,null,null,null,null,null,null,null,null,null,null,null,null,null,null,null,null,null,null,null,null,null,null,null,null,null,null,null,null,null,null,null,null,null,null,null,null,null,null,null,null,null,"",""]
[null,null,null,null,null,null,null,null,null,null,null,null,null,null,null,null,null,null,null,null,null,null,null,null,null,null,null,null,null,null,null,null,null,null,null,null,null,null,null,null,null,null,null,null,null,null,null,null,null,null,null,null,null,null,null,null,null,null,"",""]
[null,null,null,null,null,null,null,null,null,null,null,null,null,null,null,null,null,null,null,null,null,null,null,null,null,null,null,null,null,null,null,null,null,null,null,null,null,null,null,null,null,null,null,null,null,null,null,null,null,null,null,null,null,null,null,null,null,null,"",""]
[null,null,null,null,null,null,null,null,null,null,null,null,null,null,null,null,null,null,null,null,null,null,null,null,null,null,null,null,null,null,null,null,null,null,null,null,null,null,null,null,null,null,null,null,null,null,null,null,null,null,null,null,null,null,null,null,null,null,"",""]
[null,null,null,null,null,null,null,null,null,null,null,null,null,null,null,null,null,null,null,null,null,null,null,null,null,null,null,null,null,null,null,null,null,null,null,null,null,null,null,null,null,null,null,null,null,null,null,null,null,null,null,null,null,null,null,null,null,null,"",""]
[null,null,null,null,null,null,null,null,null,null,null,null,null,null,null,null,null,null,null,null,null,null,null,null,null,null,null,null,null,null,null,null,null,null,null,null,null,null,null,null,null,null,null,null,null,null,null,null,null,null,null,null,null,null,null,null,null,null,"",""]
[null,null,null,null,null,null,null,null,null,null,null,null,null,null,null,null,null,null,null,null,null,null,null,null,null,null,null,null,null,null,null,null,null,null,null,null,null,null,null,null,null,null,null,null,null,null,null,null,null,null,null,null,null,null,null,null,null,null,"",""]
[null,null,null,null,null,null,null,null,null,null,null,null,null,null,null,null,null,null,null,null,null,null,null,null,null,null,null,null,null,null,null,null,null,null,null,null,null,null,null,null,null,null,null,null,null,null,null,null,null,null,null,null,null,null,null,null,null,null,"",""]
[null,null,null,null,null,null,null,null,null,null,null,null,null,null,null,null,null,null,null,null,null,null,null,null,null,null,null,null,null,null,null,null,null,null,null,null,null,null,null,null,null,null,null,null,null,null,null,null,null,null,null,null,null,null,null,null,null,null,"",""]
[null,null,null,null,null,null,null,null,null,null,null,null,null,null,null,null,null,null,null,null,null,null,null,null,null,null,null,null,null,null,null,null,null,null,null,null,null,null,null,null,null,null,null,null,null,null,null,null,null,null,null,null,null,null,null,null,null,null,"",""]
[null,null,null,null,null,null,null,null,null,null,null,null,null,null,null,null,null,null,null,null,null,null,null,null,null,null,null,null,null,null,null,null,null,null,null,null,null,null,null,null,null,null,null,null,null,null,null,null,null,null,null,null,null,null,null,null,null,null,"",""]
[null,null,null,null,null,null,null,null,null,null,null,null,null,null,null,null,null,null,null,null,null,null,null,null,null,null,null,null,null,null,null,null,null,null,null,null,null,null,null,null,null,null,null,null,null,null,null,null,null,null,null,null,null,null,null,null,null,null,"",""]
[null,null,null,null,null,null,null,null,null,null,null,null,null,null,null,null,null,null,null,null,null,null,null,null,null,null,null,null,null,null,null,null,null,null,null,null,null,null,null,null,null,null,null,null,null,null,null,null,null,null,null,null,null,null,null,null,null,null,"",""]
[null,null,null,null,null,null,null,null,null,null,null,null,null,null,null,null,null,null,null,null,null,null,null,null,null,null,null,null,null,null,null,null,null,null,null,null,null,null,null,null,null,null,null,null,null,null,null,null,null,null,null,null,null,null,null,null,null,null,"",""]
[null,null,null,null,null,null,null,null,null,null,null,null,null,null,null,null,null,null,null,null,null,null,null,null,null,null,null,null,null,null,null,null,null,null,null,null,null,null,null,null,null,null,null,null,null,null,null,null,null,null,null,null,null,null,null,null,null,null,"",""]
[null,null,null,null,null,null,null,null,null,null,null,null,null,null,null,null,null,null,null,null,null,null,null,null,null,null,null,null,null,null,null,null,null,null,null,null,null,null,null,null,null,null,null,null,null,null,null,null,null,null,null,null,null,null,null,null,null,null,"",""]
[null,null,null,null,null,null,null,null,null,null,null,null,null,null,null,null,null,null,null,null,null,null,null,null,null,null,null,null,null,null,null,null,null,null,null,null,null,null,null,null,null,null,null,null,null,null,null,null,null,null,null,null,null,null,null,null,null,null,"",""]
[null,null,null,null,null,null,null,null,null,null,null,null,null,null,null,null,null,null,null,null,null,null,null,null,null,null,null,null,null,null,null,null,null,null,null,null,null,null,null,null,null,null,null,null,null,null,null,null,null,null,null,null,null,null,null,null,null,null,"",""]
[null,null,null,null,null,null,null,null,null,null,null,null,null,null,null,null,null,null,null,null,null,null,null,null,null,null,null,null,null,null,null,null,null,null,null,null,null,null,null,null,null,null,null,null,null,null,null,null,null,null,null,null,null,null,null,null,null,null,"",""]
[null,null,null,null,null,null,null,null,null,null,null,null,null,null,null,null,null,null,null,null,null,null,null,null,null,null,null,null,null,null,null,null,null,null,null,null,null,null,null,null,null,null,null,null,null,null,null,null,null,null,null,null,null,null,null,null,null,null,{"$f":"H385&L385&M385","v":""},{"$f":"H385&L385&M385&P385&Q385&R385","v":""}]
[null,null,null,null,null,null,null,null,null,null,null,null,null,null,null,null,null,null,null,null,null,null,null,null,null,null,null,null,null,null,null,null,null,null,null,null,null,null,null,null,null,null,null,null,null,null,null,null,null,null,null,null,null,null,null,null,null,null,"",""]
[null,null,null,null,null,null,null,null,null,null,null,null,null,null,null,null,null,null,null,null,null,null,null,null,null,null,null,null,null,null,null,null,null,null,null,null,null,null,null,null,null,null,null,null,null,null,null,null,null,null,null,null,null,null,null,null,null,null,"",""]
[null,null,null,null,null,null,null,null,null,null,null,null,null,null,null,null,null,null,null,null,null,null,null,null,null,null,null,null,null,null,null,null,null,null,null,null,null,null,null,null,null,null,null,null,null,null,null,null,null,null,null,null,null,null,null,null,null,null,"",""]
[null,null,null,null,null,null,null,null,null,null,null,null,null,null,null,null,null,null,null,null,null,null,null,null,null,null,null,null,null,null,null,null,null,null,null,null,null,null,null,null,null,null,null,null,null,null,null,null,null,null,null,null,null,null,null,null,null,null,"",""]
[null,null,null,null,null,null,null,null,null,null,null,null,null,null,null,null,null,null,null,null,null,null,null,null,null,null,null,null,null,null,null,null,null,null,null,null,null,null,null,null,null,null,null,null,null,null,null,null,null,null,null,null,null,null,null,null,null,null,"",""]
[null,null,null,null,null,null,null,null,null,null,null,null,null,null,null,null,null,null,null,null,null,null,null,null,null,null,null,null,null,null,null,null,null,null,null,null,null,null,null,null,null,null,null,null,null,null,null,null,null,null,null,null,null,null,null,null,null,null,"",""]
[null,null,null,null,null,null,null,null,null,null,null,null,null,null,null,null,null,null,null,null,null,null,null,null,null,null,null,null,null,null,null,null,null,null,null,null,null,null,null,null,null,null,null,null,null,null,null,null,null,null,null,null,null,null,null,null,null,null,"",""]
[null,null,null,null,null,null,null,null,null,null,null,null,null,null,null,null,null,null,null,null,null,null,null,null,null,null,null,null,null,null,null,null,null,null,null,null,null,null,null,null,null,null,null,null,null,null,null,null,null,null,null,null,null,null,null,null,null,null,"",""]
[null,null,null,null,null,null,null,null,null,null,null,null,null,null,null,null,null,null,null,null,null,null,null,null,null,null,null,null,null,null,null,null,null,null,null,null,null,null,null,null,null,null,null,null,null,null,null,null,null,null,null,null,null,null,null,null,null,null,"",""]
[null,null,null,null,null,null,null,null,null,null,null,null,null,null,null,null,null,null,null,null,null,null,null,null,null,null,null,null,null,null,null,null,null,null,null,null,null,null,null,null,null,null,null,null,null,null,null,null,null,null,null,null,null,null,null,null,null,null,"",""]
[null,null,null,null,null,null,null,null,null,null,null,null,null,null,null,null,null,null,null,null,null,null,null,null,null,null,null,null,null,null,null,null,null,null,null,null,null,null,null,null,null,null,null,null,null,null,null,null,null,null,null,null,null,null,null,null,null,null,"",""]
[null,null,null,null,null,null,null,null,null,null,null,null,null,null,null,null,null,null,null,null,null,null,null,null,null,null,null,null,null,null,null,null,null,null,null,null,null,null,null,null,null,null,null,null,null,null,null,null,null,null,null,null,null,null,null,null,null,null,"",""]
[null,null,null,null,null,null,null,null,null,null,null,null,null,null,null,null,null,null,null,null,null,null,null,null,null,null,null,null,null,null,null,null,null,null,null,null,null,null,null,null,null,null,null,null,null,null,null,null,null,null,null,null,null,null,null,null,null,null,"",""]
[null,null,null,null,null,null,null,null,null,null,null,null,null,null,null,null,null,null,null,null,null,null,null,null,null,null,null,null,null,null,null,null,null,null,null,null,null,null,null,null,null,null,null,null,null,null,null,null,null,null,null,null,null,null,null,null,null,null,"",""]
[null,null,null,null,null,null,null,null,null,null,null,null,null,null,null,null,null,null,null,null,null,null,null,null,null,null,null,null,null,null,null,null,null,null,null,null,null,null,null,null,null,null,null,null,null,null,null,null,null,null,null,null,null,null,null,null,null,null,"",""]
[null,null,null,null,null,null,null,null,null,null,null,null,null,null,null,null,null,null,null,null,null,null,null,null,null,null,null,null,null,null,null,null,null,null,null,null,null,null,null,null,null,null,null,null,null,null,null,null,null,null,null,null,null,null,null,null,null,null,"",""]
[null,null,null,null,null,null,null,null,null,null,null,null,null,null,null,null,null,null,null,null,null,null,null,null,null,null,null,null,null,null,null,null,null,null,null,null,null,null,null,null,null,null,null,null,null,null,null,null,null,null,null,null,null,null,null,null,null,null,"",""]
[null,null,null,null,null,null,null,null,null,null,null,null,null,null,null,null,null,null,null,null,null,null,null,null,null,null,null,null,null,null,null,null,null,null,null,null,null,null,null,null,null,null,null,null,null,null,null,null,null,null,null,null,null,null,null,null,null,null,"",""]
[null,null,null,null,null,null,null,null,null,null,null,null,null,null,null,null,null,null,null,null,null,null,null,null,null,null,null,null,null,null,null,null,null,null,null,null,null,null,null,null,null,null,null,null,null,null,null,null,null,null,null,null,null,null,null,null,null,null,"",""]
[null,null,null,null,null,null,null,null,null,null,null,null,null,null,null,null,null,null,null,null,null,null,null,null,null,null,null,null,null,null,null,null,null,null,null,null,null,null,null,null,null,null,null,null,null,null,null,null,null,null,null,null,null,null,null,null,null,null,"",""]
[null,null,null,null,null,null,null,null,null,null,null,null,null,null,null,null,null,null,null,null,null,null,null,null,null,null,null,null,null,null,null,null,null,null,null,null,null,null,null,null,null,null,null,null,null,null,null,null,null,null,null,null,null,null,null,null,null,null,"",""]
[null,null,null,null,null,null,null,null,null,null,null,null,null,null,null,null,null,null,null,null,null,null,null,null,null,null,null,null,null,null,null,null,null,null,null,null,null,null,null,null,null,null,null,null,null,null,null,null,null,null,null,null,null,null,null,null,null,null,"",""]
[null,null,null,null,null,null,null,null,null,null,null,null,null,null,null,null,null,null,null,null,null,null,null,null,null,null,null,null,null,null,null,null,null,null,null,null,null,null,null,null,null,null,null,null,null,null,null,null,null,null,null,null,null,null,null,null,null,null,"",""]
[null,null,null,null,null,null,null,null,null,null,null,null,null,null,null,null,null,null,null,null,null,null,null,null,null,null,null,null,null,null,null,null,null,null,null,null,null,null,null,null,null,null,null,null,null,null,null,null,null,null,null,null,null,null,null,null,null,null,"",""]
[null,null,null,null,null,null,null,null,null,null,null,null,null,null,null,null,null,null,null,null,null,null,null,null,null,null,null,null,null,null,null,null,null,null,null,null,null,null,null,null,null,null,null,null,null,null,null,null,null,null,null,null,null,null,null,null,null,null,"",""]
[null,null,null,null,null,null,null,null,null,null,null,null,null,null,null,null,null,null,null,null,null,null,null,null,null,null,null,null,null,null,null,null,null,null,null,null,null,null,null,null,null,null,null,null,null,null,null,null,null,null,null,null,null,null,null,null,null,null,"",""]
[null,null,null,null,null,null,null,null,null,null,null,null,null,null,null,null,null,null,null,null,null,null,null,null,null,null,null,null,null,null,null,null,null,null,null,null,null,null,null,null,null,null,null,null,null,null,null,null,null,null,null,null,null,null,null,null,null,null,"",""]
[null,null,null,null,null,null,null,null,null,null,null,null,null,null,null,null,null,null,null,null,null,null,null,null,null,null,null,null,null,null,null,null,null,null,null,null,null,null,null,null,null,null,null,null,null,null,null,null,null,null,null,null,null,null,null,null,null,null,"",""]
[null,null,null,null,null,null,null,null,null,null,null,null,null,null,null,null,null,null,null,null,null,null,null,null,null,null,null,null,null,null,null,null,null,null,null,null,null,null,null,null,null,null,null,null,null,null,null,null,null,null,null,null,null,null,null,null,null,null,"",""]
[null,null,null,null,null,null,null,null,null,null,null,null,null,null,null,null,null,null,null,null,null,null,null,null,null,null,null,null,null,null,null,null,null,null,null,null,null,null,null,null,null,null,null,null,null,null,null,null,null,null,null,null,null,null,null,null,null,null,"",""]
[null,null,null,null,null,null,null,null,null,null,null,null,null,null,null,null,null,null,null,null,null,null,null,null,null,null,null,null,null,null,null,null,null,null,null,null,null,null,null,null,null,null,null,null,null,null,null,null,null,null,null,null,null,null,null,null,null,null,"",""]
[null,null,null,null,null,null,null,null,null,null,null,null,null,null,null,null,null,null,null,null,null,null,null,null,null,null,null,null,null,null,null,null,null,null,null,null,null,null,null,null,null,null,null,null,null,null,null,null,null,null,null,null,null,null,null,null,null,null,"",""]
[null,null,null,null,null,null,null,null,null,null,null,null,null,null,null,null,null,null,null,null,null,null,null,null,null,null,null,null,null,null,null,null,null,null,null,null,null,null,null,null,null,null,null,null,null,null,null,null,null,null,null,null,null,null,null,null,null,null,"",""]
[null,null,null,null,null,null,null,null,null,null,null,null,null,null,null,null,null,null,null,null,null,null,null,null,null,null,null,null,null,null,null,null,null,null,null,null,null,null,null,null,null,null,null,null,null,null,null,null,null,null,null,null,null,null,null,null,null,null,"",""]
[null,null,null,null,null,null,null,null,null,null,null,null,null,null,null,null,null,null,null,null,null,null,null,null,null,null,null,null,null,null,null,null,null,null,null,null,null,null,null,null,null,null,null,null,null,null,null,null,null,null,null,null,null,null,null,null,null,null,"",""]
[null,null,null,null,null,null,null,null,null,null,null,null,null,null,null,null,null,null,null,null,null,null,null,null,null,null,null,null,null,null,null,null,null,null,null,null,null,null,null,null,null,null,null,null,null,null,null,null,null,null,null,null,null,null,null,null,null,null,"",""]
[null,null,null,null,null,null,null,null,null,null,null,null,null,null,null,null,null,null,null,null,null,null,null,null,null,null,null,null,null,null,null,null,null,null,null,null,null,null,null,null,null,null,null,null,null,null,null,null,null,null,null,null,null,null,null,null,null,null,"",""]
[null,null,null,null,null,null,null,null,null,null,null,null,null,null,null,null,null,null,null,null,null,null,null,null,null,null,null,null,null,null,null,null,null,null,null,null,null,null,null,null,null,null,null,null,null,null,null,null,null,null,null,null,null,null,null,null,null,null,"",""]
[null,null,null,null,null,null,null,null,null,null,null,null,null,null,null,null,null,null,null,null,null,null,null,null,null,null,null,null,null,null,null,null,null,null,null,null,null,null,null,null,null,null,null,null,null,null,null,null,null,null,null,null,null,null,null,null,null,null,"",""]
[null,null,null,null,null,null,null,null,null,null,null,null,null,null,null,null,null,null,null,null,null,null,null,null,null,null,null,null,null,null,null,null,null,null,null,null,null,null,null,null,null,null,null,null,null,null,null,null,null,null,null,null,null,null,null,null,null,null,"",""]
[null,null,null,null,null,null,null,null,null,null,null,null,null,null,null,null,null,null,null,null,null,null,null,null,null,null,null,null,null,null,null,null,null,null,null,null,null,null,null,null,null,null,null,null,null,null,null,null,null,null,null,null,null,null,null,null,null,null,"",""]
[null,null,null,null,null,null,null,null,null,null,null,null,null,null,null,null,null,null,null,null,null,null,null,null,null,null,null,null,null,null,null,null,null,null,null,null,null,null,null,null,null,null,null,null,null,null,null,null,null,null,null,null,null,null,null,null,null,null,"",""]
[null,null,null,null,null,null,null,null,null,null,null,null,null,null,null,null,null,null,null,null,null,null,null,null,null,null,null,null,null,null,null,null,null,null,null,null,null,null,null,null,null,null,null,null,null,null,null,null,null,null,null,null,null,null,null,null,null,null,"",""]
[null,null,null,null,null,null,null,null,null,null,null,null,null,null,null,null,null,null,null,null,null,null,null,null,null,null,null,null,null,null,null,null,null,null,null,null,null,null,null,null,null,null,null,null,null,null,null,null,null,null,null,null,null,null,null,null,null,null,"",""]
[null,null,null,null,null,null,null,null,null,null,null,null,null,null,null,null,null,null,null,null,null,null,null,null,null,null,null,null,null,null,null,null,null,null,null,null,null,null,null,null,null,null,null,null,null,null,null,null,null,null,null,null,null,null,null,null,null,null,"",""]
[null,null,null,null,null,null,null,null,null,null,null,null,null,null,null,null,null,null,null,null,null,null,null,null,null,null,null,null,null,null,null,null,null,null,null,null,null,null,null,null,null,null,null,null,null,null,null,null,null,null,null,null,null,null,null,null,null,null,"",""]
[null,null,null,null,null,null,null,null,null,null,null,null,null,null,null,null,null,null,null,null,null,null,null,null,null,null,null,null,null,null,null,null,null,null,null,null,null,null,null,null,null,null,null,null,null,null,null,null,null,null,null,null,null,null,null,null,null,null,"",""]
[null,null,null,null,null,null,null,null,null,null,null,null,null,null,null,null,null,null,null,null,null,null,null,null,null,null,null,null,null,null,null,null,null,null,null,null,null,null,null,null,null,null,null,null,null,null,null,null,null,null,null,null,null,null,null,null,null,null,"",""]
[null,null,null,null,null,null,null,null,null,null,null,null,null,null,null,null,null,null,null,null,null,null,null,null,null,null,null,null,null,null,null,null,null,null,null,null,null,null,null,null,null,null,null,null,null,null,null,null,null,null,null,null,null,null,null,null,null,null,"",""]
[null,null,null,null,null,null,null,null,null,null,null,null,null,null,null,null,null,null,null,null,null,null,null,null,null,null,null,null,null,null,null,null,null,null,null,null,null,null,null,null,null,null,null,null,null,null,null,null,null,null,null,null,null,null,null,null,null,null,"",""]
[null,null,null,null,null,null,null,null,null,null,null,null,null,null,null,null,null,null,null,null,null,null,null,null,null,null,null,null,null,null,null,null,null,null,null,null,null,null,null,null,null,null,null,null,null,null,null,null,null,null,null,null,null,null,null,null,null,null,"",""]
[null,null,null,null,null,null,null,null,null,null,null,null,null,null,null,null,null,null,null,null,null,null,null,null,null,null,null,null,null,null,null,null,null,null,null,null,null,null,null,null,null,null,null,null,null,null,null,null,null,null,null,null,null,null,null,null,null,null,"",""]
[null,null,null,null,null,null,null,null,null,null,null,null,null,null,null,null,null,null,null,null,null,null,null,null,null,null,null,null,null,null,null,null,null,null,null,null,null,null,null,null,null,null,null,null,null,null,null,null,null,null,null,null,null,null,null,null,null,null,"",""]
[null,null,null,null,null,null,null,null,null,null,null,null,null,null,null,null,null,null,null,null,null,null,null,null,null,null,null,null,null,null,null,null,null,null,null,null,null,null,null,null,null,null,null,null,null,null,null,null,null,null,null,null,null,null,null,null,null,null,"",""]
[null,null,null,null,null,null,null,null,null,null,null,null,null,null,null,null,null,null,null,null,null,null,null,null,null,null,null,null,null,null,null,null,null,null,null,null,null,null,null,null,null,null,null,null,null,null,null,null,null,null,null,null,null,null,null,null,null,null,"",""]
[null,null,null,null,null,null,null,null,null,null,null,null,null,null,null,null,null,null,null,null,null,null,null,null,null,null,null,null,null,null,null,null,null,null,null,null,null,null,null,null,null,null,null,null,null,null,null,null,null,null,null,null,null,null,null,null,null,null,"",""]
[null,null,null,null,null,null,null,null,null,null,null,null,null,null,null,null,null,null,null,null,null,null,null,null,null,null,null,null,null,null,null,null,null,null,null,null,null,null,null,null,null,null,null,null,null,null,null,null,null,null,null,null,null,null,null,null,null,null,"",""]
[null,null,null,null,null,null,null,null,null,null,null,null,null,null,null,null,null,null,null,null,null,null,null,null,null,null,null,null,null,null,null,null,null,null,null,null,null,null,null,null,null,null,null,null,null,null,null,null,null,null,null,null,null,null,null,null,null,null,"",""]
[null,null,null,null,null,null,null,null,null,null,null,null,null,null,null,null,null,null,null,null,null,null,null,null,null,null,null,null,null,null,null,null,null,null,null,null,null,null,null,null,null,null,null,null,null,null,null,null,null,null,null,null,null,null,null,null,null,null,"",""]
[null,null,null,null,null,null,null,null,null,null,null,null,null,null,null,null,null,null,null,null,null,null,null,null,null,null,null,null,null,null,null,null,null,null,null,null,null,null,null,null,null,null,null,null,null,null,null,null,null,null,null,null,null,null,null,null,null,null,"",""]
[null,null,null,null,null,null,null,null,null,null,null,null,null,null,null,null,null,null,null,null,null,null,null,null,null,null,null,null,null,null,null,null,null,null,null,null,null,null,null,null,null,null,null,null,null,null,null,null,null,null,null,null,null,null,null,null,null,null,"",""]
[null,null,null,null,null,null,null,null,null,null,null,null,null,null,null,null,null,null,null,null,null,null,null,null,null,null,null,null,null,null,null,null,null,null,null,null,null,null,null,null,null,null,null,null,null,null,null,null,null,null,null,null,null,null,null,null,null,null,"",""]
[null,null,null,null,null,null,null,null,null,null,null,null,null,null,null,null,null,null,null,null,null,null,null,null,null,null,null,null,null,null,null,null,null,null,null,null,null,null,null,null,null,null,null,null,null,null,null,null,null,null,null,null,null,null,null,null,null,null,"",""]
[null,null,null,null,null,null,null,null,null,null,null,null,null,null,null,null,null,null,null,null,null,null,null,null,null,null,null,null,null,null,null,null,null,null,null,null,null,null,null,null,null,null,null,null,null,null,null,null,null,null,null,null,null,null,null,null,null,null,{"$f":"H449&L449&M449","v":""},{"$f":"H449&L449&M449&P449&Q449&R449","v":""}]
[null,null,null,null,null,null,null,null,null,null,null,null,null,null,null,null,null,null,null,null,null,null,null,null,null,null,null,null,null,null,null,null,null,null,null,null,null,null,null,null,null,null,null,null,null,null,null,null,null,null,null,null,null,null,null,null,null,null,"",""]
[null,null,null,null,null,null,null,null,null,null,null,null,null,null,null,null,null,null,null,null,null,null,null,null,null,null,null,null,null,null,null,null,null,null,null,null,null,null,null,null,null,null,null,null,null,null,null,null,null,null,null,null,null,null,null,null,null,null,"",""]
[null,null,null,null,null,null,null,null,null,null,null,null,null,null,null,null,null,null,null,null,null,null,null,null,null,null,null,null,null,null,null,null,null,null,null,null,null,null,null,null,null,null,null,null,null,null,null,null,null,null,null,null,null,null,null,null,null,null,"",""]
[null,null,null,null,null,null,null,null,null,null,null,null,null,null,null,null,null,null,null,null,null,null,null,null,null,null,null,null,null,null,null,null,null,null,null,null,null,null,null,null,null,null,null,null,null,null,null,null,null,null,null,null,null,null,null,null,null,null,"",""]
[null,null,null,null,null,null,null,null,null,null,null,null,null,null,null,null,null,null,null,null,null,null,null,null,null,null,null,null,null,null,null,null,null,null,null,null,null,null,null,null,null,null,null,null,null,null,null,null,null,null,null,null,null,null,null,null,null,null,"",""]
[null,null,null,null,null,null,null,null,null,null,null,null,null,null,null,null,null,null,null,null,null,null,null,null,null,null,null,null,null,null,null,null,null,null,null,null,null,null,null,null,null,null,null,null,null,null,null,null,null,null,null,null,null,null,null,null,null,null,"",""]
[null,null,null,null,null,null,null,null,null,null,null,null,null,null,null,null,null,null,null,null,null,null,null,null,null,null,null,null,null,null,null,null,null,null,null,null,null,null,null,null,null,null,null,null,null,null,null,null,null,null,null,null,null,null,null,null,null,null,"",""]

{"sheet":"Liste","index":2,"n_rows":59,"n_cols":7,"rows_kept":59,"cut":false,"hidden":true,"merged":[]}
["Liste des bancs",null,"Service maintenance","MDP","Fiche d'intervention","BDD","Liste"]
["Banc P1",null,"Christophe Gauvin","Christophe","X","X","X"]
["Banc P2",null,"David Garcia","motdepasse","X","X"]
["Banc PowerTrain",null,"Alexandre Delaunay",123456,"X","X"]
["Banc P5",null,"Jonhathan Boucher","changer","X","X"]
["Banc P7",null,"Thibault Hemart","Changer2016","X","X"]
["Banc P9",null,"Romain Dehan",940606,"X","X","X"]
["M73001 (Banc new P9)",null,"Benjamin Eyraud",null,"X","X"]
["Banc HP",null,"Angela Andrino",null,"X","X"]
["Banc Cisaillement",null,"Philippe Tavola",null,"X","X"]
["Banc 007",null,"Visiteur"]
["Banc 008"]
["Banc 101"]
["Banc 104"]
["Banc 111"]
["Banc 113"]
["Banc 115"]
["Banc 117"]
["Banc 117 bis"]
["Banc 119"]
["Banc 120"]
["Banc 120 bis"]
["Banc 121"]
["Banc 123"]
["Banc 124"]
["Banc 124 bis"]
["Banc 125"]
["Banc 126"]
["Banc 128"]
["Banc 129"]
["Banc 131"]
["Chambre sourde"]
["Banc 145"]
["Banc 156"]
["Chambre froide"]
["Banc W+B"]
["Ressort verticale"]
["Pompe à eau"]
["Porte bâtiment"]
["Mulet Alpha"]
["Mulet Househam"]
["Démo Truck"]
["Tech Truck"]
["Hamm HD130"]
["Volvo EC160"]
["Chariot C"]
["SSL John Deere"]
["Multi Phunction"]
["Volvo EC35"]
["Brodd SurPH"]
["TY45"]
["Boxer New"]
["CSF"]
["CNH BC2"]
[208]
["Renault Truck C460"]
["Plateau Lider"]
["Chariot BT2"]
["Machine à laver"]

{"sheet":"Indicateur Zone5","index":3,"n_rows":98,"n_cols":73,"rows_kept":98,"cut":false,"hidden":false,"merged":[[1,1,1,12],[31,1,31,12],[55,1,55,12],[56,1,56,2],[56,3,56,4],[56,5,56,6],[56,7,56,8],[56,9,56,10],[56,11,56,12],[56,23,56,24],[87,1,87,21],[88,1,88,6],[88,7,88,12],[88,13,88,18],[88,19,88,24],[56,13,56,14],[56,15,56,16],[56,17,56,18],[56,19,56,20],[56,21,56,22],[88,25,88,30],[88,31,88,36],[88,37,88,42],[88,43,88,48],[88,49,88,54],[88,55,88,60],[88,61,88,66],[88,67,88,72],[89,1,89,3],[89,4,89,6],[89,7,89,9],[89,10,89,12],[89,13,89,15],[89,16,89,18],[89,19,89,21],[89,22,89,24],[89,25,89,27],[89,28,89,30],[89,31,89,33],[89,34,89,36],[89,37,89,39],[89,40,89,42],[89,43,89,45],[89,46,89,48],[89,49,89,51],[89,52,89,54],[89,70,89,72],[89,55,89,57],[89,58,89,60],[89,61,89,63],[89,64,89,66],[89,67,89,69]]}
[]
[null,"Suivi des arrêts par banc"]
["Banc zone 5","Janvier","Février","Mars","Avril","Mai","Juin","Juillet","Août","Septembre","Octobre","Novembre","Décembre"]
["Banc 124",{"$f":"SUMIF(BDD!$H$2:$H$3,'Indicateur Zone5'!$A4,BDD!$Z$2:$Z$3)","v":0},{"$f":"SUMIF(BDD!$H$2:$H$3,'Indicateur Zone5'!$A4,BDD!$Z$2:$Z$3)","v":0},{"$f":"SUMIF(BDD!$H$2:$H$25,'Indicateur Zone5'!$A4,BDD!$Z$2:$Z$25)","v":0.3},{"$f":"SUMIF(BDD!$H$26:$H$600,'Indicateur Zone5'!$A4,BDD!$Z$26:$Z$600)","v":0},{"$f":"SUMIF(BDD!$H$2:$H$3,'Indicateur Zone5'!$A4,BDD!$Z$2:$Z$3)","v":0},{"$f":"SUMIF(BDD!$H$2:$H$3,'Indicateur Zone5'!$A4,BDD!$Z$2:$Z$3)","v":0},{"$f":"SUMIF(BDD!$H$2:$H$3,'Indicateur Zone5'!$A4,BDD!$Z$2:$Z$3)","v":0},{"$f":"SUMIF(BDD!$H$2:$H$3,'Indicateur Zone5'!$A4,BDD!$Z$2:$Z$3)","v":0},{"$f":"SUMIF(BDD!$H$2:$H$3,'Indicateur Zone5'!$A4,BDD!$Z$2:$Z$3)","v":0},{"$f":"SUMIF(BDD!$H$2:$H$3,'Indicateur Zone5'!$A4,BDD!$Z$2:$Z$3)","v":0},{"$f":"SUMIF(BDD!$H$2:$H$3,'Indicateur Zone5'!$A4,BDD!$Z$2:$Z$3)","v":0},{"$f":"SUMIF(BDD!$H$2:$H$3,'Indicateur Zone5'!$A4,BDD!$Z$2:$Z$3)","v":0}]
["Banc 124 bis",{"$f":"SUMIF(BDD!$H$2:$H$3,'Indicateur Zone5'!$A5,BDD!$Z$2:$Z$3)","v":0},{"$f":"SUMIF(BDD!$H$2:$H$3,'Indicateur Zone5'!$A5,BDD!$Z$2:$Z$3)","v":0},{"$f":"SUMIF(BDD!$H$2:$H$25,'Indicateur Zone5'!$A5,BDD!$Z$2:$Z$25)","v":0},{"$f":"SUMIF(BDD!$H$26:$H$600,'Indicateur Zone5'!$A5,BDD!$Z$26:$Z$600)","v":1},{"$f":"SUMIF(BDD!$H$2:$H$3,'Indicateur Zone5'!$A5,BDD!$Z$2:$Z$3)","v":0},{"$f":"SUMIF(BDD!$H$2:$H$3,'Indicateur Zone5'!$A5,BDD!$Z$2:$Z$3)","v":0},{"$f":"SUMIF(BDD!$H$2:$H$3,'Indicateur Zone5'!$A5,BDD!$Z$2:$Z$3)","v":0},{"$f":"SUMIF(BDD!$H$2:$H$3,'Indicateur Zone5'!$A5,BDD!$Z$2:$Z$3)","v":0},{"$f":"SUMIF(BDD!$H$2:$H$3,'Indicateur Zone5'!$A5,BDD!$Z$2:$Z$3)","v":0},{"$f":"SUMIF(BDD!$H$2:$H$3,'Indicateur Zone5'!$A5,BDD!$Z$2:$Z$3)","v":0},{"$f":"SUMIF(BDD!$H$2:$H$3,'Indicateur Zone5'!$A5,BDD!$Z$2:$Z$3)","v":0},{"$f":"SUMIF(BDD!$H$2:$H$3,'Indicateur Zone5'!$A5,BDD!$Z$2:$Z$3)","v":0}]
["Banc 145",{"$f":"SUMIF(BDD!$H$2:$H$3,'Indicateur Zone5'!$A6,BDD!$Z$2:$Z$3)","v":0},{"$f":"SUMIF(BDD!$H$2:$H$3,'Indicateur Zone5'!$A6,BDD!$Z$2:$Z$3)","v":0},{"$f":"SUMIF(BDD!$H$2:$H$25,'Indicateur Zone5'!$A6,BDD!$Z$2:$Z$25)","v":0},{"$f":"SUMIF(BDD!$H$26:$H$600,'Indicateur Zone5'!$A6,BDD!$Z$26:$Z$600)","v":0},{"$f":"SUMIF(BDD!$H$2:$H$3,'Indicateur Zone5'!$A6,BDD!$Z$2:$Z$3)","v":0},{"$f":"SUMIF(BDD!$H$2:$H$3,'Indicateur Zone5'!$A6,BDD!$Z$2:$Z$3)","v":0},{"$f":"SUMIF(BDD!$H$2:$H$3,'Indicateur Zone5'!$A6,BDD!$Z$2:$Z$3)","v":0},{"$f":"SUMIF(BDD!$H$2:$H$3,'Indicateur Zone5'!$A6,BDD!$Z$2:$Z$3)","v":0},{"$f":"SUMIF(BDD!$H$2:$H$3,'Indicateur Zone5'!$A6,BDD!$Z$2:$Z$3)","v":0},{"$f":"SUMIF(BDD!$H$2:$H$3,'Indicateur Zone5'!$A6,BDD!$Z$2:$Z$3)","v":0},{"$f":"SUMIF(BDD!$H$2:$H$3,'Indicateur Zone5'!$A6,BDD!$Z$2:$Z$3)","v":0},{"$f":"SUMIF(BDD!$H$2:$H$3,'Indicateur Zone5'!$A6,BDD!$Z$2:$Z$3)","v":0}]
["Banc cisaillement",{"$f":"SUMIF(BDD!$H$2:$H$3,'Indicateur Zone5'!$A7,BDD!$Z$2:$Z$3)","v":0},{"$f":"SUMIF(BDD!$H$2:$H$3,'Indicateur Zone5'!$A7,BDD!$Z$2:$Z$3)","v":0},{"$f":"SUMIF(BDD!$H$2:$H$25,'Indicateur Zone5'!$A7,BDD!$Z$2:$Z$25)","v":0},{"$f":"SUMIF(BDD!$H$26:$H$600,'Indicateur Zone5'!$A7,BDD!$Z$26:$Z$600)","v":0},{"$f":"SUMIF(BDD!$H$2:$H$3,'Indicateur Zone5'!$A7,BDD!$Z$2:$Z$3)","v":0},{"$f":"SUMIF(BDD!$H$2:$H$3,'Indicateur Zone5'!$A7,BDD!$Z$2:$Z$3)","v":0},{"$f":"SUMIF(BDD!$H$2:$H$3,'Indicateur Zone5'!$A7,BDD!$Z$2:$Z$3)","v":0},{"$f":"SUMIF(BDD!$H$2:$H$3,'Indicateur Zone5'!$A7,BDD!$Z$2:$Z$3)","v":0},{"$f":"SUMIF(BDD!$H$2:$H$3,'Indicateur Zone5'!$A7,BDD!$Z$2:$Z$3)","v":0},{"$f":"SUMIF(BDD!$H$2:$H$3,'Indicateur Zone5'!$A7,BDD!$Z$2:$Z$3)","v":0},{"$f":"SUMIF(BDD!$H$2:$H$3,'Indicateur Zone5'!$A7,BDD!$Z$2:$Z$3)","v":0},{"$f":"SUMIF(BDD!$H$2:$H$3,'Indicateur Zone5'!$A7,BDD!$Z$2:$Z$3)","v":0}]
["Banc HP",{"$f":"SUMIF(BDD!$H$2:$H$3,'Indicateur Zone5'!$A8,BDD!$Z$2:$Z$3)","v":0},{"$f":"SUMIF(BDD!$H$2:$H$3,'Indicateur Zone5'!$A8,BDD!$Z$2:$Z$3)","v":0},{"$f":"SUMIF(BDD!$H$2:$H$25,'Indicateur Zone5'!$A8,BDD!$Z$2:$Z$25)","v":0},{"$f":"SUMIF(BDD!$H$26:$H$600,'Indicateur Zone5'!$A8,BDD!$Z$26:$Z$600)","v":0},{"$f":"SUMIF(BDD!$H$2:$H$3,'Indicateur Zone5'!$A8,BDD!$Z$2:$Z$3)","v":0},{"$f":"SUMIF(BDD!$H$2:$H$3,'Indicateur Zone5'!$A8,BDD!$Z$2:$Z$3)","v":0},{"$f":"SUMIF(BDD!$H$2:$H$3,'Indicateur Zone5'!$A8,BDD!$Z$2:$Z$3)","v":0},{"$f":"SUMIF(BDD!$H$2:$H$3,'Indicateur Zone5'!$A8,BDD!$Z$2:$Z$3)","v":0},{"$f":"SUMIF(BDD!$H$2:$H$3,'Indicateur Zone5'!$A8,BDD!$Z$2:$Z$3)","v":0},{"$f":"SUMIF(BDD!$H$2:$H$3,'Indicateur Zone5'!$A8,BDD!$Z$2:$Z$3)","v":0},{"$f":"SUMIF(BDD!$H$2:$H$3,'Indicateur Zone5'!$A8,BDD!$Z$2:$Z$3)","v":0},{"$f":"SUMIF(BDD!$H$2:$H$3,'Indicateur Zone5'!$A8,BDD!$Z$2:$Z$3)","v":0}]
["Banc W+B",{"$f":"SUMIF(BDD!$H$2:$H$3,'Indicateur Zone5'!$A9,BDD!$Z$2:$Z$3)","v":0},{"$f":"SUMIF(BDD!$H$2:$H$3,'Indicateur Zone5'!$A9,BDD!$Z$2:$Z$3)","v":0},{"$f":"SUMIF(BDD!$H$2:$H$25,'Indicateur Zone5'!$A9,BDD!$Z$2:$Z$25)","v":0},{"$f":"SUMIF(BDD!$H$26:$H$600,'Indicateur Zone5'!$A9,BDD!$Z$26:$Z$600)","v":0},{"$f":"SUMIF(BDD!$H$2:$H$3,'Indicateur Zone5'!$A9,BDD!$Z$2:$Z$3)","v":0},{"$f":"SUMIF(BDD!$H$2:$H$3,'Indicateur Zone5'!$A9,BDD!$Z$2:$Z$3)","v":0},{"$f":"SUMIF(BDD!$H$2:$H$3,'Indicateur Zone5'!$A9,BDD!$Z$2:$Z$3)","v":0},{"$f":"SUMIF(BDD!$H$2:$H$3,'Indicateur Zone5'!$A9,BDD!$Z$2:$Z$3)","v":0},{"$f":"SUMIF(BDD!$H$2:$H$3,'Indicateur Zone5'!$A9,BDD!$Z$2:$Z$3)","v":0},{"$f":"SUMIF(BDD!$H$2:$H$3,'Indicateur Zone5'!$A9,BDD!$Z$2:$Z$3)","v":0},{"$f":"SUMIF(BDD!$H$2:$H$3,'Indicateur Zone5'!$A9,BDD!$Z$2:$Z$3)","v":0},{"$f":"SUMIF(BDD!$H$2:$H$3,'Indicateur Zone5'!$A9,BDD!$Z$2:$Z$3)","v":0}]
["Ressort verticale",{"$f":"SUMIF(BDD!$H$2:$H$3,'Indicateur Zone5'!$A10,BDD!$Z$2:$Z$3)","v":0},{"$f":"SUMIF(BDD!$H$2:$H$3,'Indicateur Zone5'!$A10,BDD!$Z$2:$Z$3)","v":0},{"$f":"SUMIF(BDD!$H$2:$H$25,'Indicateur Zone5'!$A10,BDD!$Z$2:$Z$25)","v":0},{"$f":"SUMIF(BDD!$H$26:$H$600,'Indicateur Zone5'!$A10,BDD!$Z$26:$Z$600)","v":0},{"$f":"SUMIF(BDD!$H$2:$H$3,'Indicateur Zone5'!$A10,BDD!$Z$2:$Z$3)","v":0},{"$f":"SUMIF(BDD!$H$2:$H$3,'Indicateur Zone5'!$A10,BDD!$Z$2:$Z$3)","v":0},{"$f":"SUMIF(BDD!$H$2:$H$3,'Indicateur Zone5'!$A10,BDD!$Z$2:$Z$3)","v":0},{"$f":"SUMIF(BDD!$H$2:$H$3,'Indicateur Zone5'!$A10,BDD!$Z$2:$Z$3)","v":0},{"$f":"SUMIF(BDD!$H$2:$H$3,'Indicateur Zone5'!$A10,BDD!$Z$2:$Z$3)","v":0},{"$f":"SUMIF(BDD!$H$2:$H$3,'Indicateur Zone5'!$A10,BDD!$Z$2:$Z$3)","v":0},{"$f":"SUMIF(BDD!$H$2:$H$3,'Indicateur Zone5'!$A10,BDD!$Z$2:$Z$3)","v":0},{"$f":"SUMIF(BDD!$H$2:$H$3,'Indicateur Zone5'!$A10,BDD!$Z$2:$Z$3)","v":0}]
[]
[]
[]
[]
[]
[]
[]
[]
[]
[]
[]
[]
[]
[]
[]
[]
[]
[]
[]
[]
[]
[null,"Suivi du correctif et du préventif"]
["Type de maintenance","Janvier","Février","Mars","Avril","Mai","Juin","Juillet","Août","Septembre","Octobre","Novembre","Décembre"]
["Préventive",{"$f":"SUM(C59:C65)","v":0},{"$f":"SUM(E59:E65)","v":0},{"$f":"SUM(G59:G65)","v":0.3},{"$f":"SUM(I59:I65)","v":0},{"$f":"SUM(K59:K65)","v":0},{"$f":"SUM(M59:M65)","v":0},{"$f":"SUM(O59:O65)","v":0},{"$f":"SUM(Q59:Q65)","v":0},{"$f":"SUM(S59:S65)","v":0},{"$f":"SUM(U59:U65)","v":0},{"$f":"SUM(W59:W65)","v":0},{"$f":"SUM(Y59:Y65)","v":0}]
["Corrective",{"$f":"SUM(B59:B65)","v":0},{"$f":"SUM(D59:D65)","v":0},{"$f":"SUM(F59:F65)","v":0},{"$f":"SUM(H59:H65)","v":1},{"$f":"SUM(J59:J65)","v":0},{"$f":"SUM(L59:L65)","v":0},{"$f":"SUM(N59:N65)","v":0},{"$f":"SUM(N59:N65)","v":0},{"$f":"SUM(R59:R65)","v":0},{"$f":"SUM(T59:T65)","v":0},{"$f":"SUM(V59:V65)","v":0},{"$f":"SUM(X59:X65)","v":0}]
[]
[]
[]
[]
[]
[]
[]
[]
[]
[]
[]
[]
[]
[]
[]
[]
[]
[]
[]
[]
[null,"Suivi du correctif et du préventif par banc"]
[null,"Janvier",null,"Février",null,"Mars",null,"Avril",null,"Mai",null,"Juin",null,"Juillet",null,"Août",null,"Septembre",null,"Octobre",null,"Novembre",null,"Décembre"]
["Banc zone 5","Corrective","Préventive","Corrective","Préventive","Corrective","Préventive","Corrective","Préventive","Corrective","Préventive","Corrective","Préventive","Corrective","Préventive","Corrective","Préventive","Corrective","Préventive","Corrective","Préventive","Corrective","Préventive","Corrective","Préventive"]
["Banc 124",{"$f":"SUMIF(BDD!$BG$2:$BG$3,\"Banc 124VRAIFAUX\",BDD!$Z$2:$Z$3)","v":0},{"$f":"SUMIF(BDD!$BG$2:$BG$3,\"Banc 124FAUXVRAI\",BDD!$Z$2:$Z$3)","v":0},{"$f":"SUMIF(BDD!$BG$2:$BG$3,\"Banc 124VRAIFAUX\",BDD!$Z$2:$Z$3)","v":0},{"$f":"SUMIF(BDD!$BG$2:$BG$3,\"Banc 124FAUXVRAI\",BDD!$Z$2:$Z$3)","v":0},{"$f":"SUMIF(BDD!$BG$2:$BG$25,\"Banc 124VRAIFAUX\",BDD!$Z$2:$Z$25)","v":0},{"$f":"SUMIF(BDD!$BG$2:$BG$25,\"Banc 124FAUXvrai\",BDD!$Z$2:$Z$25)","v":0.3},{"$f":"SUMIF(BDD!$BG$26:$BG$600,\"Banc 124VRAIFAUX\",BDD!$Z$26:$Z$600)","v":0},{"$f":"SUMIF(BDD!$BG$26:$BG$600,\"Banc 124FAUXVRAI\",BDD!$Z$26:$Z$600)","v":0},{"$f":"SUMIF(BDD!$BG$2:$BG$3,\"Banc 124VRAIFAUX\",BDD!$Z$2:$Z$3)","v":0},{"$f":"SUMIF(BDD!$BG$2:$BG$3,\"Banc 124FAUXVRAI\",BDD!$Z$2:$Z$3)","v":0},{"$f":"SUMIF(BDD!$BG$2:$BG$3,\"Banc 124VRAIFAUX\",BDD!$Z$2:$Z$3)","v":0},{"$f":"SUMIF(BDD!$BG$2:$BG$3,\"Banc 124FAUXVRAI\",BDD!$Z$2:$Z$3)","v":0},{"$f":"SUMIF(BDD!$BG$2:$BG$3,\"Banc 124VRAIFAUX\",BDD!$Z$2:$Z$3)","v":0},{"$f":"SUMIF(BDD!$BG$2:$BG$3,\"Banc 124FAUXVRAI\",BDD!$Z$2:$Z$3)","v":0},{"$f":"SUMIF(BDD!$BG$2:$BG$3,\"Banc 124VRAIFAUX\",BDD!$Z$2:$Z$3)","v":0},{"$f":"SUMIF(BDD!$BG$2:$BG$3,\"Banc 124FAUXVRAI\",BDD!$Z$2:$Z$3)","v":0},{"$f":"SUMIF(BDD!$BG$2:$BG$3,\"Banc 124VRAIFAUX\",BDD!$Z$2:$Z$3)","v":0},{"$f":"SUMIF(BDD!$BG$2:$BG$3,\"Banc 124FAUXVRAI\",BDD!$Z$2:$Z$3)","v":0},{"$f":"SUMIF(BDD!$BG$2:$BG$3,\"Banc 124VRAIFAUX\",BDD!$Z$2:$Z$3)","v":0},{"$f":"SUMIF(BDD!$BG$2:$BG$3,\"Banc 124FAUXVRAI\",BDD!$Z$2:$Z$3)","v":0},{"$f":"SUMIF(BDD!$BG$2:$BG$3,\"Banc 124VRAIFAUX\",BDD!$Z$2:$Z$3)","v":0},{"$f":"SUMIF(BDD!$BG$2:$BG$3,\"Banc 124FAUXVRAI\",BDD!$Z$2:$Z$3)","v":0},{"$f":"SUMIF(BDD!$BG$2:$BG$3,\"Banc 124VRAIFAUX\",BDD!$Z$2:$Z$3)","v":0},{"$f":"SUMIF(BDD!$BG$2:$BG$3,\"Banc 124FAUXVRAI\",BDD!$Z$2:$Z$3)","v":0}]
["Banc 124 bis",{"$f":"SUMIF(BDD!$BG$2:$BG$3,\"Banc 124 bisVRAIFAUX\",BDD!$Z$2:$Z$3)","v":0},{"$f":"SUMIF(BDD!$BG$2:$BG$3,\"Banc 124 bisFAUXVRAI\",BDD!$Z$2:$Z$3)","v":0},{"$f":"SUMIF(BDD!$BG$2:$BG$3,\"Banc 124 bisVRAIFAUX\",BDD!$Z$2:$Z$3)","v":0},{"$f":"SUMIF(BDD!$BG$2:$BG$3,\"Banc 124 bisFAUXVRAI\",BDD!$Z$2:$Z$3)","v":0},{"$f":"SUMIF(BDD!$BG$2:$BG$25,\"Banc 124 bisVRAIFAUX\",BDD!$Z$2:$Z$25)","v":0},{"$f":"SUMIF(BDD!$BG$2:$BG$25,\"Banc 124 bisFAUXVRAI\",BDD!$Z$2:$Z$25)","v":0},{"$f":"SUMIF(BDD!$BG$26:$BG$600,\"Banc 124 bisVRAIFAUX\",BDD!$Z$26:$Z$600)","v":1},{"$f":"SUMIF(BDD!$BG$26:$BG$600,\"Banc 124 bisFAUXVRAI\",BDD!$Z$26:$Z$600)","v":0},{"$f":"SUMIF(BDD!$BG$2:$BG$3,\"Banc 124 bisVRAIFAUX\",BDD!$Z$2:$Z$3)","v":0},{"$f":"SUMIF(BDD!$BG$2:$BG$3,\"Banc 124 bisFAUXVRAI\",BDD!$Z$2:$Z$3)","v":0},{"$f":"SUMIF(BDD!$BG$2:$BG$3,\"Banc 124 bisVRAIFAUX\",BDD!$Z$2:$Z$3)","v":0},{"$f":"SUMIF(BDD!$BG$2:$BG$3,\"Banc 124 bisFAUXVRAI\",BDD!$Z$2:$Z$3)","v":0},{"$f":"SUMIF(BDD!$BG$2:$BG$3,\"Banc 124 bisVRAIFAUX\",BDD!$Z$2:$Z$3)","v":0},{"$f":"SUMIF(BDD!$BG$2:$BG$3,\"Banc 124 bisFAUXVRAI\",BDD!$Z$2:$Z$3)","v":0},{"$f":"SUMIF(BDD!$BG$2:$BG$3,\"Banc 124 bisVRAIFAUX\",BDD!$Z$2:$Z$3)","v":0},{"$f":"SUMIF(BDD!$BG$2:$BG$3,\"Banc 124 bisFAUXVRAI\",BDD!$Z$2:$Z$3)","v":0},{"$f":"SUMIF(BDD!$BG$2:$BG$3,\"Banc 124 bisVRAIFAUX\",BDD!$Z$2:$Z$3)","v":0},{"$f":"SUMIF(BDD!$BG$2:$BG$3,\"Banc 124 bisFAUXVRAI\",BDD!$Z$2:$Z$3)","v":0},{"$f":"SUMIF(BDD!$BG$2:$BG$3,\"Banc 124 bisVRAIFAUX\",BDD!$Z$2:$Z$3)","v":0},{"$f":"SUMIF(BDD!$BG$2:$BG$3,\"Banc 124 bisFAUXVRAI\",BDD!$Z$2:$Z$3)","v":0},{"$f":"SUMIF(BDD!$BG$2:$BG$3,\"Banc 124 bisVRAIFAUX\",BDD!$Z$2:$Z$3)","v":0},{"$f":"SUMIF(BDD!$BG$2:$BG$3,\"Banc 124 bisFAUXVRAI\",BDD!$Z$2:$Z$3)","v":0},{"$f":"SUMIF(BDD!$BG$2:$BG$3,\"Banc 124 bisVRAIFAUX\",BDD!$Z$2:$Z$3)","v":0},{"$f":"SUMIF(BDD!$BG$2:$BG$3,\"Banc 124 bisFAUXVRAI\",BDD!$Z$2:$Z$3)","v":0}]
["Banc 145",{"$f":"SUMIF(BDD!$BG$2:$BG$683,\"Banc 145VRAIFAUX\",BDD!$Z$2:$Z$683)","v":0},{"$f":"SUMIF(BDD!$BG$2:$BG$3,\"Banc 145FAUXVRAI\",BDD!$Z$2:$Z$3)","v":0},{"$f":"SUMIF(BDD!$BG$2:$BG$683,\"Banc 145VRAIFAUX\",BDD!$Z$2:$Z$683)","v":0},{"$f":"SUMIF(BDD!$BG$2:$BG$3,\"Banc 145FAUXVRAI\",BDD!$Z$2:$Z$3)","v":0},{"$f":"SUMIF(BDD!$BG$2:$BG$25,\"Banc 145VRAIFAUX\",BDD!$Z$2:$Z$25)","v":0},{"$f":"SUMIF(BDD!$BG$2:$BG$25,\"Banc 145FAUXVRAI\",BDD!$Z$2:$Z$25)","v":0},{"$f":"SUMIF(BDD!$BG$26:$BG$600,\"Banc 145VRAIFAUX\",BDD!$Z$26:$Z$600)","v":0},{"$f":"SUMIF(BDD!$BG$26:$BG$600,\"Banc 145FAUXVRAI\",BDD!$Z$26:$Z$600)","v":0},{"$f":"SUMIF(BDD!$BG$2:$BG$683,\"Banc 145VRAIFAUX\",BDD!$Z$2:$Z$683)","v":0},{"$f":"SUMIF(BDD!$BG$2:$BG$3,\"Banc 145FAUXVRAI\",BDD!$Z$2:$Z$3)","v":0},{"$f":"SUMIF(BDD!$BG$2:$BG$683,\"Banc 145VRAIFAUX\",BDD!$Z$2:$Z$683)","v":0},{"$f":"SUMIF(BDD!$BG$2:$BG$3,\"Banc 145FAUXVRAI\",BDD!$Z$2:$Z$3)","v":0},{"$f":"SUMIF(BDD!$BG$2:$BG$683,\"Banc 145VRAIFAUX\",BDD!$Z$2:$Z$683)","v":0},{"$f":"SUMIF(BDD!$BG$2:$BG$3,\"Banc 145FAUXVRAI\",BDD!$Z$2:$Z$3)","v":0},{"$f":"SUMIF(BDD!$BG$2:$BG$683,\"Banc 145VRAIFAUX\",BDD!$Z$2:$Z$683)","v":0},{"$f":"SUMIF(BDD!$BG$2:$BG$3,\"Banc 145FAUXVRAI\",BDD!$Z$2:$Z$3)","v":0},{"$f":"SUMIF(BDD!$BG$2:$BG$683,\"Banc 145VRAIFAUX\",BDD!$Z$2:$Z$683)","v":0},{"$f":"SUMIF(BDD!$BG$2:$BG$3,\"Banc 145FAUXVRAI\",BDD!$Z$2:$Z$3)","v":0},{"$f":"SUMIF(BDD!$BG$2:$BG$683,\"Banc 145VRAIFAUX\",BDD!$Z$2:$Z$683)","v":0},{"$f":"SUMIF(BDD!$BG$2:$BG$3,\"Banc 145FAUXVRAI\",BDD!$Z$2:$Z$3)","v":0},{"$f":"SUMIF(BDD!$BG$2:$BG$683,\"Banc 145VRAIFAUX\",BDD!$Z$2:$Z$683)","v":0},{"$f":"SUMIF(BDD!$BG$2:$BG$3,\"Banc 145FAUXVRAI\",BDD!$Z$2:$Z$3)","v":0},{"$f":"SUMIF(BDD!$BG$2:$BG$683,\"Banc 145VRAIFAUX\",BDD!$Z$2:$Z$683)","v":0},{"$f":"SUMIF(BDD!$BG$2:$BG$3,\"Banc 145FAUXVRAI\",BDD!$Z$2:$Z$3)","v":0}]
["Banc cisaillement",{"$f":"SUMIF(BDD!$BG$2:$BG$3,\"Banc cisaillementVRAIFAUX\",BDD!$Z$2:$Z$3)","v":0},{"$f":"SUMIF(BDD!$BG$2:$BG$3,\"Banc cisaillementFAUXVRAI\",BDD!$Z$2:$Z$3)","v":0},{"$f":"SUMIF(BDD!$BG$2:$BG$3,\"Banc cisaillementVRAIFAUX\",BDD!$Z$2:$Z$3)","v":0},{"$f":"SUMIF(BDD!$BG$2:$BG$3,\"Banc cisaillementFAUXVRAI\",BDD!$Z$2:$Z$3)","v":0},{"$f":"SUMIF(BDD!$BG$2:$BG$25,\"Banc cisaillementVRAIFAUX\",BDD!$Z$2:$Z$25)","v":0},{"$f":"SUMIF(BDD!$BG$2:$BG$25,\"Banc cisaillementFAUXVRAI\",BDD!$Z$2:$Z$25)","v":0},{"$f":"SUMIF(BDD!$BG$26:$BG$600,\"Banc cisaillementVRAIFAUX\",BDD!$Z$26:$Z$600)","v":0},{"$f":"SUMIF(BDD!$BG$26:$BG$600,\"Banc cisaillementFAUXVRAI\",BDD!$Z$26:$Z$600)","v":0},{"$f":"SUMIF(BDD!$BG$2:$BG$3,\"Banc cisaillementVRAIFAUX\",BDD!$Z$2:$Z$3)","v":0},{"$f":"SUMIF(BDD!$BG$2:$BG$3,\"Banc cisaillementFAUXVRAI\",BDD!$Z$2:$Z$3)","v":0},{"$f":"SUMIF(BDD!$BG$2:$BG$3,\"Banc cisaillementVRAIFAUX\",BDD!$Z$2:$Z$3)","v":0},{"$f":"SUMIF(BDD!$BG$2:$BG$3,\"Banc cisaillementFAUXVRAI\",BDD!$Z$2:$Z$3)","v":0},{"$f":"SUMIF(BDD!$BG$2:$BG$3,\"Banc cisaillementVRAIFAUX\",BDD!$Z$2:$Z$3)","v":0},{"$f":"SUMIF(BDD!$BG$2:$BG$3,\"Banc cisaillementFAUXVRAI\",BDD!$Z$2:$Z$3)","v":0},{"$f":"SUMIF(BDD!$BG$2:$BG$3,\"Banc cisaillementVRAIFAUX\",BDD!$Z$2:$Z$3)","v":0},{"$f":"SUMIF(BDD!$BG$2:$BG$3,\"Banc cisaillementFAUXVRAI\",BDD!$Z$2:$Z$3)","v":0},{"$f":"SUMIF(BDD!$BG$2:$BG$3,\"Banc cisaillementVRAIFAUX\",BDD!$Z$2:$Z$3)","v":0},{"$f":"SUMIF(BDD!$BG$2:$BG$3,\"Banc cisaillementFAUXVRAI\",BDD!$Z$2:$Z$3)","v":0},{"$f":"SUMIF(BDD!$BG$2:$BG$3,\"Banc cisaillementVRAIFAUX\",BDD!$Z$2:$Z$3)","v":0},{"$f":"SUMIF(BDD!$BG$2:$BG$3,\"Banc cisaillementFAUXVRAI\",BDD!$Z$2:$Z$3)","v":0},{"$f":"SUMIF(BDD!$BG$2:$BG$3,\"Banc cisaillementVRAIFAUX\",BDD!$Z$2:$Z$3)","v":0},{"$f":"SUMIF(BDD!$BG$2:$BG$3,\"Banc cisaillementFAUXVRAI\",BDD!$Z$2:$Z$3)","v":0},{"$f":"SUMIF(BDD!$BG$2:$BG$3,\"Banc cisaillementVRAIFAUX\",BDD!$Z$2:$Z$3)","v":0},{"$f":"SUMIF(BDD!$BG$2:$BG$3,\"Banc cisaillementFAUXVRAI\",BDD!$Z$2:$Z$3)","v":0}]
["Banc HP",{"$f":"SUMIF(BDD!$BG$2:$BG$3,\"Banc HPVRAIFAUX\",BDD!$Z$2:$Z$3)","v":0},{"$f":"SUMIF(BDD!$BG$2:$BG$3,\"Banc HPFAUXVRAI\",BDD!$Z$2:$Z$3)","v":0},{"$f":"SUMIF(BDD!$BG$2:$BG$3,\"Banc HPVRAIFAUX\",BDD!$Z$2:$Z$3)","v":0},{"$f":"SUMIF(BDD!$BG$2:$BG$3,\"Banc HPFAUXVRAI\",BDD!$Z$2:$Z$3)","v":0},{"$f":"SUMIF(BDD!$BG$2:$BG$25,\"Banc HPVRAIFAUX\",BDD!$Z$2:$Z$25)","v":0},{"$f":"SUMIF(BDD!$BG$2:$BG$25,\"Banc HPFAUXVRAI\",BDD!$Z$2:$Z$25)","v":0},{"$f":"SUMIF(BDD!$BG$26:$BG$600,\"Banc HPVRAIFAUX\",BDD!$Z$26:$Z$600)","v":0},{"$f":"SUMIF(BDD!$BG$26:$BG$600,\"Banc HPFAUXVRAI\",BDD!$Z$26:$Z$600)","v":0},{"$f":"SUMIF(BDD!$BG$2:$BG$3,\"Banc HPVRAIFAUX\",BDD!$Z$2:$Z$3)","v":0},{"$f":"SUMIF(BDD!$BG$2:$BG$3,\"Banc HPFAUXVRAI\",BDD!$Z$2:$Z$3)","v":0},{"$f":"SUMIF(BDD!$BG$2:$BG$3,\"Banc HPVRAIFAUX\",BDD!$Z$2:$Z$3)","v":0},{"$f":"SUMIF(BDD!$BG$2:$BG$3,\"Banc HPFAUXVRAI\",BDD!$Z$2:$Z$3)","v":0},{"$f":"SUMIF(BDD!$BG$2:$BG$3,\"Banc HPVRAIFAUX\",BDD!$Z$2:$Z$3)","v":0},{"$f":"SUMIF(BDD!$BG$2:$BG$3,\"Banc HPFAUXVRAI\",BDD!$Z$2:$Z$3)","v":0},{"$f":"SUMIF(BDD!$BG$2:$BG$3,\"Banc HPVRAIFAUX\",BDD!$Z$2:$Z$3)","v":0},{"$f":"SUMIF(BDD!$BG$2:$BG$3,\"Banc HPFAUXVRAI\",BDD!$Z$2:$Z$3)","v":0},{"$f":"SUMIF(BDD!$BG$2:$BG$3,\"Banc HPVRAIFAUX\",BDD!$Z$2:$Z$3)","v":0},{"$f":"SUMIF(BDD!$BG$2:$BG$3,\"Banc HPFAUXVRAI\",BDD!$Z$2:$Z$3)","v":0},{"$f":"SUMIF(BDD!$BG$2:$BG$3,\"Banc HPVRAIFAUX\",BDD!$Z$2:$Z$3)","v":0},{"$f":"SUMIF(BDD!$BG$2:$BG$3,\"Banc HPFAUXVRAI\",BDD!$Z$2:$Z$3)","v":0},{"$f":"SUMIF(BDD!$BG$2:$BG$3,\"Banc HPVRAIFAUX\",BDD!$Z$2:$Z$3)","v":0},{"$f":"SUMIF(BDD!$BG$2:$BG$3,\"Banc HPFAUXVRAI\",BDD!$Z$2:$Z$3)","v":0},{"$f":"SUMIF(BDD!$BG$2:$BG$3,\"Banc HPVRAIFAUX\",BDD!$Z$2:$Z$3)","v":0},{"$f":"SUMIF(BDD!$BG$2:$BG$3,\"Banc HPFAUXVRAI\",BDD!$Z$2:$Z$3)","v":0}]
["Banc W+B",{"$f":"SUMIF(BDD!$BG$2:$BG$3,\"Banc W+BVRAIFAUX\",BDD!$Z$2:$Z$3)","v":0},{"$f":"SUMIF(BDD!$BG$2:$BG$3,\"Banc W+BFAUXVRAI\",BDD!$Z$2:$Z$3)","v":0},{"$f":"SUMIF(BDD!$BG$2:$BG$3,\"Banc W+BVRAIFAUX\",BDD!$Z$2:$Z$3)","v":0},{"$f":"SUMIF(BDD!$BG$2:$BG$3,\"Banc W+BFAUXVRAI\",BDD!$Z$2:$Z$3)","v":0},{"$f":"SUMIF(BDD!$BG$2:$BG$25,\"Banc W+BVRAIFAUX\",BDD!$Z$2:$Z$25)","v":0},{"$f":"SUMIF(BDD!$BG$2:$BG$25,\"Banc W+BFAUXVRAI\",BDD!$Z$2:$Z$25)","v":0},{"$f":"SUMIF(BDD!$BG$26:$BG$600,\"Banc W+BVRAIFAUX\",BDD!$Z$26:$Z$600)","v":0},{"$f":"SUMIF(BDD!$BG$26:$BG$600,\"Banc W+BFAUXVRAI\",BDD!$Z$26:$Z$600)","v":0},{"$f":"SUMIF(BDD!$BG$2:$BG$3,\"Banc W+BVRAIFAUX\",BDD!$Z$2:$Z$3)","v":0},{"$f":"SUMIF(BDD!$BG$2:$BG$3,\"Banc W+BFAUXVRAI\",BDD!$Z$2:$Z$3)","v":0},{"$f":"SUMIF(BDD!$BG$2:$BG$3,\"Banc W+BVRAIFAUX\",BDD!$Z$2:$Z$3)","v":0},{"$f":"SUMIF(BDD!$BG$2:$BG$3,\"Banc W+BFAUXVRAI\",BDD!$Z$2:$Z$3)","v":0},{"$f":"SUMIF(BDD!$BG$2:$BG$3,\"Banc W+BVRAIFAUX\",BDD!$Z$2:$Z$3)","v":0},{"$f":"SUMIF(BDD!$BG$2:$BG$3,\"Banc W+BFAUXVRAI\",BDD!$Z$2:$Z$3)","v":0},{"$f":"SUMIF(BDD!$BG$2:$BG$3,\"Banc W+BVRAIFAUX\",BDD!$Z$2:$Z$3)","v":0},{"$f":"SUMIF(BDD!$BG$2:$BG$3,\"Banc W+BFAUXVRAI\",BDD!$Z$2:$Z$3)","v":0},{"$f":"SUMIF(BDD!$BG$2:$BG$3,\"Banc W+BVRAIFAUX\",BDD!$Z$2:$Z$3)","v":0},{"$f":"SUMIF(BDD!$BG$2:$BG$3,\"Banc W+BFAUXVRAI\",BDD!$Z$2:$Z$3)","v":0},{"$f":"SUMIF(BDD!$BG$2:$BG$3,\"Banc W+BVRAIFAUX\",BDD!$Z$2:$Z$3)","v":0},{"$f":"SUMIF(BDD!$BG$2:$BG$3,\"Banc W+BFAUXVRAI\",BDD!$Z$2:$Z$3)","v":0},{"$f":"SUMIF(BDD!$BG$2:$BG$3,\"Banc W+BVRAIFAUX\",BDD!$Z$2:$Z$3)","v":0},{"$f":"SUMIF(BDD!$BG$2:$BG$3,\"Banc W+BFAUXVRAI\",BDD!$Z$2:$Z$3)","v":0},{"$f":"SUMIF(BDD!$BG$2:$BG$3,\"Banc W+BVRAIFAUX\",BDD!$Z$2:$Z$3)","v":0},{"$f":"SUMIF(BDD!$BG$2:$BG$3,\"Banc W+BFAUXVRAI\",BDD!$Z$2:$Z$3)","v":0}]
["Ressort verticale",{"$f":"SUMIF(BDD!$BG$2:$BG$3,\"Ressort verticaleVRAIFAUX\",BDD!$Z$2:$Z$3)","v":0},{"$f":"SUMIF(BDD!$BG$2:$BG$3,\"Ressort verticaleFAUXVRAI\",BDD!$Z$2:$Z$3)","v":0},{"$f":"SUMIF(BDD!$BG$2:$BG$3,\"Ressort verticaleVRAIFAUX\",BDD!$Z$2:$Z$3)","v":0},{"$f":"SUMIF(BDD!$BG$2:$BG$3,\"Ressort verticaleFAUXVRAI\",BDD!$Z$2:$Z$3)","v":0},{"$f":"SUMIF(BDD!$BG$2:$BG$25,\"Ressort verticaleVRAIFAUX\",BDD!$Z$2:$Z$25)","v":0},{"$f":"SUMIF(BDD!$BG$2:$BG$25,\"Ressort verticaleFAUXVRAI\",BDD!$Z$2:$Z$25)","v":0},{"$f":"SUMIF(BDD!$BG$26:$BG$600,\"Ressort verticaleVRAIFAUX\",BDD!$Z$26:$Z$600)","v":0},{"$f":"SUMIF(BDD!$BG$26:$BG$600,\"Ressort verticaleFAUXVRAI\",BDD!$Z$26:$Z$600)","v":0},{"$f":"SUMIF(BDD!$BG$2:$BG$3,\"Ressort verticaleVRAIFAUX\",BDD!$Z$2:$Z$3)","v":0},{"$f":"SUMIF(BDD!$BG$2:$BG$3,\"Ressort verticaleFAUXVRAI\",BDD!$Z$2:$Z$3)","v":0},{"$f":"SUMIF(BDD!$BG$2:$BG$3,\"Ressort verticaleVRAIFAUX\",BDD!$Z$2:$Z$3)","v":0},{"$f":"SUMIF(BDD!$BG$2:$BG$3,\"Ressort verticaleFAUXVRAI\",BDD!$Z$2:$Z$3)","v":0},{"$f":"SUMIF(BDD!$BG$2:$BG$3,\"Ressort verticaleVRAIFAUX\",BDD!$Z$2:$Z$3)","v":0},{"$f":"SUMIF(BDD!$BG$2:$BG$3,\"Ressort verticaleFAUXVRAI\",BDD!$Z$2:$Z$3)","v":0},{"$f":"SUMIF(BDD!$BG$2:$BG$3,\"Ressort verticaleVRAIFAUX\",BDD!$Z$2:$Z$3)","v":0},{"$f":"SUMIF(BDD!$BG$2:$BG$3,\"Ressort verticaleFAUXVRAI\",BDD!$Z$2:$Z$3)","v":0},{"$f":"SUMIF(BDD!$BG$2:$BG$3,\"Ressort verticaleVRAIFAUX\",BDD!$Z$2:$Z$3)","v":0},{"$f":"SUMIF(BDD!$BG$2:$BG$3,\"Ressort verticaleFAUXVRAI\",BDD!$Z$2:$Z$3)","v":0},{"$f":"SUMIF(BDD!$BG$2:$BG$3,\"Ressort verticaleVRAIFAUX\",BDD!$Z$2:$Z$3)","v":0},{"$f":"SUMIF(BDD!$BG$2:$BG$3,\"Ressort verticaleFAUXVRAI\",BDD!$Z$2:$Z$3)","v":0},{"$f":"SUMIF(BDD!$BG$2:$BG$3,\"Ressort verticaleVRAIFAUX\",BDD!$Z$2:$Z$3)","v":0},{"$f":"SUMIF(BDD!$BG$2:$BG$3,\"Ressort verticaleFAUXVRAI\",BDD!$Z$2:$Z$3)","v":0},{"$f":"SUMIF(BDD!$BG$2:$BG$3,\"Ressort verticaleVRAIFAUX\",BDD!$Z$2:$Z$3)","v":0},{"$f":"SUMIF(BDD!$BG$2:$BG$3,\"Ressort verticaleFAUXVRAI\",BDD!$Z$2:$Z$3)","v":0}]
[]
[]
[]
[]
[]
[]
[]
[]
[]
[]
[]
[]
[]
[]
[]
[]
[]
[]
[]
[]
[]
[]
[null,"Suivi du correctif et du préventif par banc"]
[null,"Janvier",null,null,null,null,null,"Février",null,null,null,null,null,"Mars",null,null,null,null,null,"Avril",null,null,null,null,null,"Mai",null,null,null,null,null,"Juin",null,null,null,null,null,"Juillet",null,null,null,null,null,"Août",null,null,null,null,null,"Septembre",null,null,null,null,null,"Octobre",null,null,null,null,null,"Novembre",null,null,null,null,null,"Décembre"]
[null,"Corrective",null,null,"Préventive",null,null,"Corrective",null,null,"Préventive",null,null,"Corrective",null,null,"Préventive",null,null,"Corrective",null,null,"Préventive",null,null,"Corrective",null,null,"Préventive",null,null,"Corrective",null,null,"Préventive",null,null,"Corrective",null,null,"Préventive",null,null,"Corrective",null,null,"Préventive",null,null,"Corrective",null,null,"Préventive",null,null,"Corrective",null,null,"Préventive",null,null,"Corrective",null,null,"Préventive",null,null,"Corrective",null,null,"Préventive"]
["Banc zone 5","Electrique","Mécanique","Hydraulique","Electrique","Mécanique","Hydraulique","Electrique","Mécanique","Hydraulique","Electrique","Mécanique","Hydraulique","Electrique","Mécanique","Hydraulique","Electrique","Mécanique","Hydraulique","Electrique","Mécanique","Hydraulique","Electrique","Mécanique","Hydraulique","Electrique","Mécanique","Hydraulique","Electrique","Mécanique","Hydraulique","Electrique","Mécanique","Hydraulique","Electrique","Mécanique","Hydraulique","Electrique","Mécanique","Hydraulique","Electrique","Mécanique","Hydraulique","Electrique","Mécanique","Hydraulique","Electrique","Mécanique","Hydraulique","Electrique","Mécanique","Hydraulique","Electrique","Mécanique","Hydraulique","Electrique","Mécanique","Hydraulique","Electrique","Mécanique","Hydraulique","Electrique","Mécanique","Hydraulique","Electrique","Mécanique","Hydraulique","Electrique","Mécanique","Hydraulique","Electrique","Mécanique","Hydraulique"]
["Banc 124",{"$f":"SUMIF(BDD!$BH$2:$BH$3,\"Banc 124VRAIFAUXVRAIFAUXFAUX\",BDD!$Z$2:$Z$3)","v":0},{"$f":"SUMIF(BDD!$BH$2:$BH$3,\"Banc 124VRAIFAUXFAUXVRAIFAUX\",BDD!$Z$2:$Z$3)","v":0},{"$f":"SUMIF(BDD!$BH$2:$BH$3,\"Banc 124VRAIFAUXFAUXFAUXVRAI\",BDD!$Z$2:$Z$3)","v":0},{"$f":"SUMIF(BDD!$BH$2:$BH$3,\"Banc 124FAUXVRAIVRAIFAUXFAUX\",BDD!$Z$2:$Z$3)","v":0},{"$f":"SUMIF(BDD!$BH$2:$BH$3,\"Banc 124FAUXVRAIFAUXVRAIFAUX\",BDD!$Z$2:$Z$3)","v":0},{"$f":"SUMIF(BDD!$BH$2:$BH$3,\"Banc 124FAUXVRAIFAUXFAUXVRAI\",BDD!$Z$2:$Z$3)","v":0},{"$f":"SUMIF(BDD!$BH$2:$BH$3,\"Banc 124VRAIFAUXVRAIFAUXFAUX\",BDD!$Z$2:$Z$3)","v":0},{"$f":"SUMIF(BDD!$BH$2:$BH$3,\"Banc 124VRAIFAUXFAUXVRAIFAUX\",BDD!$Z$2:$Z$3)","v":0},{"$f":"SUMIF(BDD!$BH$2:$BH$3,\"Banc 124VRAIFAUXFAUXFAUXVRAI\",BDD!$Z$2:$Z$3)","v":0},{"$f":"SUMIF(BDD!$BH$2:$BH$3,\"Banc 124FAUXVRAIVRAIFAUXFAUX\",BDD!$Z$2:$Z$3)","v":0},{"$f":"SUMIF(BDD!$BH$2:$BH$3,\"Banc 124FAUXVRAIFAUXVRAIFAUX\",BDD!$Z$2:$Z$3)","v":0},{"$f":"SUMIF(BDD!$BH$2:$BH$3,\"Banc 124FAUXVRAIFAUXFAUXVRAI\",BDD!$Z$2:$Z$3)","v":0},{"$f":"SUMIF(BDD!$BH$2:$BH$25,\"Banc 124VRAIFAUXVRAIFAUXFAUX\",BDD!$Z$2:$Z$25)","v":0},{"$f":"SUMIF(BDD!$BH$2:$BH$25,\"Banc 124VRAIFAUXFAUXVRAIFAUX\",BDD!$Z$2:$Z$25)","v":0},{"$f":"SUMIF(BDD!$BH$2:$BH$25,\"Banc 124VRAIFAUXFAUXFAUXVRAI\",BDD!$Z$2:$Z$25)","v":0},{"$f":"SUMIF(BDD!$BH$2:$BH$25,\"Banc 124FAUXVRAIVRAIFAUXFAUX\",BDD!$Z$2:$Z$25)","v":0},{"$f":"SUMIF(BDD!$BH$2:$BH$25,\"Banc 124FAUXVRAIFAUXVRAIFAUX\",BDD!$Z$2:$Z$25)","v":0},{"$f":"SUMIF(BDD!$BH$2:$BH$25,\"Banc 124FAUXVRAIFAUXFAUXVRAI\",BDD!$Z$2:$Z$25)","v":0.3},{"$f":"SUMIF(BDD!$BH$26:$BH$266,\"Banc 12664VRAIFAUXVRAIFAUXFAUX\",BDD!$Z$26:$Z$266)","v":0},{"$f":"SUMIF(BDD!$BH$26:$BH$266,\"Banc 12664VRAIFAUXFAUXVRAIFAUX\",BDD!$Z$26:$Z$266)","v":0},{"$f":"SUMIF(BDD!$BH$26:$BH$266,\"Banc 12664VRAIFAUXFAUXFAUXVRAI\",BDD!$Z$26:$Z$266)","v":0},{"$f":"SUMIF(BDD!$BH$26:$BH$266,\"Banc 12664FAUXVRAIVRAIFAUXFAUX\",BDD!$Z$26:$Z$266)","v":0},{"$f":"SUMIF(BDD!$BH$26:$BH$266,\"Banc 12664FAUXVRAIFAUXVRAIFAUX\",BDD!$Z$26:$Z$266)","v":0},{"$f":"SUMIF(BDD!$BH$26:$BH$266,\"Banc 12664FAUXVRAIFAUXFAUXVRAI\",BDD!$Z$26:$Z$266)","v":0},{"$f":"SUMIF(BDD!$BH$2:$BH$3,\"Banc 124VRAIFAUXVRAIFAUXFAUX\",BDD!$Z$2:$Z$3)","v":0},{"$f":"SUMIF(BDD!$BH$2:$BH$3,\"Banc 124VRAIFAUXFAUXVRAIFAUX\",BDD!$Z$2:$Z$3)","v":0},{"$f":"SUMIF(BDD!$BH$2:$BH$3,\"Banc 124VRAIFAUXFAUXFAUXVRAI\",BDD!$Z$2:$Z$3)","v":0},{"$f":"SUMIF(BDD!$BH$2:$BH$3,\"Banc 124FAUXVRAIVRAIFAUXFAUX\",BDD!$Z$2:$Z$3)","v":0},{"$f":"SUMIF(BDD!$BH$2:$BH$3,\"Banc 124FAUXVRAIFAUXVRAIFAUX\",BDD!$Z$2:$Z$3)","v":0},{"$f":"SUMIF(BDD!$BH$2:$BH$3,\"Banc 124FAUXVRAIFAUXFAUXVRAI\",BDD!$Z$2:$Z$3)","v":0},{"$f":"SUMIF(BDD!$BH$2:$BH$3,\"Banc 124VRAIFAUXVRAIFAUXFAUX\",BDD!$Z$2:$Z$3)","v":0},{"$f":"SUMIF(BDD!$BH$2:$BH$3,\"Banc 124VRAIFAUXFAUXVRAIFAUX\",BDD!$Z$2:$Z$3)","v":0},{"$f":"SUMIF(BDD!$BH$2:$BH$3,\"Banc 124VRAIFAUXFAUXFAUXVRAI\",BDD!$Z$2:$Z$3)","v":0},{"$f":"SUMIF(BDD!$BH$2:$BH$3,\"Banc 124FAUXVRAIVRAIFAUXFAUX\",BDD!$Z$2:$Z$3)","v":0},{"$f":"SUMIF(BDD!$BH$2:$BH$3,\"Banc 124FAUXVRAIFAUXVRAIFAUX\",BDD!$Z$2:$Z$3)","v":0},{"$f":"SUMIF(BDD!$BH$2:$BH$3,\"Banc 124FAUXVRAIFAUXFAUXVRAI\",BDD!$Z$2:$Z$3)","v":0},{"$f":"SUMIF(BDD!$BH$2:$BH$3,\"Banc 124VRAIFAUXVRAIFAUXFAUX\",BDD!$Z$2:$Z$3)","v":0},{"$f":"SUMIF(BDD!$BH$2:$BH$3,\"Banc 124VRAIFAUXFAUXVRAIFAUX\",BDD!$Z$2:$Z$3)","v":0},{"$f":"SUMIF(BDD!$BH$2:$BH$3,\"Banc 124VRAIFAUXFAUXFAUXVRAI\",BDD!$Z$2:$Z$3)","v":0},{"$f":"SUMIF(BDD!$BH$2:$BH$3,\"Banc 124FAUXVRAIVRAIFAUXFAUX\",BDD!$Z$2:$Z$3)","v":0},{"$f":"SUMIF(BDD!$BH$2:$BH$3,\"Banc 124FAUXVRAIFAUXVRAIFAUX\",BDD!$Z$2:$Z$3)","v":0},{"$f":"SUMIF(BDD!$BH$2:$BH$3,\"Banc 124FAUXVRAIFAUXFAUXVRAI\",BDD!$Z$2:$Z$3)","v":0},{"$f":"SUMIF(BDD!$BH$2:$BH$3,\"Banc 124VRAIFAUXVRAIFAUXFAUX\",BDD!$Z$2:$Z$3)","v":0},{"$f":"SUMIF(BDD!$BH$2:$BH$3,\"Banc 124VRAIFAUXFAUXVRAIFAUX\",BDD!$Z$2:$Z$3)","v":0},{"$f":"SUMIF(BDD!$BH$2:$BH$3,\"Banc 124VRAIFAUXFAUXFAUXVRAI\",BDD!$Z$2:$Z$3)","v":0},{"$f":"SUMIF(BDD!$BH$2:$BH$3,\"Banc 124FAUXVRAIVRAIFAUXFAUX\",BDD!$Z$2:$Z$3)","v":0},{"$f":"SUMIF(BDD!$BH$2:$BH$3,\"Banc 124FAUXVRAIFAUXVRAIFAUX\",BDD!$Z$2:$Z$3)","v":0},{"$f":"SUMIF(BDD!$BH$2:$BH$3,\"Banc 124FAUXVRAIFAUXFAUXVRAI\",BDD!$Z$2:$Z$3)","v":0},{"$f":"SUMIF(BDD!$BH$2:$BH$3,\"Banc 124VRAIFAUXVRAIFAUXFAUX\",BDD!$Z$2:$Z$3)","v":0},{"$f":"SUMIF(BDD!$BH$2:$BH$3,\"Banc 124VRAIFAUXFAUXVRAIFAUX\",BDD!$Z$2:$Z$3)","v":0},{"$f":"SUMIF(BDD!$BH$2:$BH$3,\"Banc 124VRAIFAUXFAUXFAUXVRAI\",BDD!$Z$2:$Z$3)","v":0},{"$f":"SUMIF(BDD!$BH$2:$BH$3,\"Banc 124FAUXVRAIVRAIFAUXFAUX\",BDD!$Z$2:$Z$3)","v":0},{"$f":"SUMIF(BDD!$BH$2:$BH$3,\"Banc 124FAUXVRAIFAUXVRAIFAUX\",BDD!$Z$2:$Z$3)","v":0},{"$f":"SUMIF(BDD!$BH$2:$BH$3,\"Banc 124FAUXVRAIFAUXFAUXVRAI\",BDD!$Z$2:$Z$3)","v":0},{"$f":"SUMIF(BDD!$BH$2:$BH$3,\"Banc 124VRAIFAUXVRAIFAUXFAUX\",BDD!$Z$2:$Z$3)","v":0},{"$f":"SUMIF(BDD!$BH$2:$BH$3,\"Banc 124VRAIFAUXFAUXVRAIFAUX\",BDD!$Z$2:$Z$3)","v":0},{"$f":"SUMIF(BDD!$BH$2:$BH$3,\"Banc 124VRAIFAUXFAUXFAUXVRAI\",BDD!$Z$2:$Z$3)","v":0},{"$f":"SUMIF(BDD!$BH$2:$BH$3,\"Banc 124FAUXVRAIVRAIFAUXFAUX\",BDD!$Z$2:$Z$3)","v":0},{"$f":"SUMIF(BDD!$BH$2:$BH$3,\"Banc 124FAUXVRAIFAUXVRAIFAUX\",BDD!$Z$2:$Z$3)","v":0},{"$f":"SUMIF(BDD!$BH$2:$BH$3,\"Banc 124FAUXVRAIFAUXFAUXVRAI\",BDD!$Z$2:$Z$3)","v":0},{"$f":"SUMIF(BDD!$BH$2:$BH$3,\"Banc 124VRAIFAUXVRAIFAUXFAUX\",BDD!$Z$2:$Z$3)","v":0},{"$f":"SUMIF(BDD!$BH$2:$BH$3,\"Banc 124VRAIFAUXFAUXVRAIFAUX\",BDD!$Z$2:$Z$3)","v":0},{"$f":"SUMIF(BDD!$BH$2:$BH$3,\"Banc 124VRAIFAUXFAUXFAUXVRAI\",BDD!$Z$2:$Z$3)","v":0},{"$f":"SUMIF(BDD!$BH$2:$BH$3,\"Banc 124FAUXVRAIVRAIFAUXFAUX\",BDD!$Z$2:$Z$3)","v":0},{"$f":"SUMIF(BDD!$BH$2:$BH$3,\"Banc 124FAUXVRAIFAUXVRAIFAUX\",BDD!$Z$2:$Z$3)","v":0},{"$f":"SUMIF(BDD!$BH$2:$BH$3,\"Banc 124FAUXVRAIFAUXFAUXVRAI\",BDD!$Z$2:$Z$3)","v":0},{"$f":"SUMIF(BDD!$BH$2:$BH$3,\"Banc 124VRAIFAUXVRAIFAUXFAUX\",BDD!$Z$2:$Z$3)","v":0},{"$f":"SUMIF(BDD!$BH$2:$BH$3,\"Banc 124VRAIFAUXFAUXVRAIFAUX\",BDD!$Z$2:$Z$3)","v":0},{"$f":"SUMIF(BDD!$BH$2:$BH$3,\"Banc 124VRAIFAUXFAUXFAUXVRAI\",BDD!$Z$2:$Z$3)","v":0},{"$f":"SUMIF(BDD!$BH$2:$BH$3,\"Banc 124FAUXVRAIVRAIFAUXFAUX\",BDD!$Z$2:$Z$3)","v":0},{"$f":"SUMIF(BDD!$BH$2:$BH$3,\"Banc 124FAUXVRAIFAUXVRAIFAUX\",BDD!$Z$2:$Z$3)","v":0},{"$f":"SUMIF(BDD!$BH$2:$BH$3,\"Banc 124FAUXVRAIFAUXFAUXVRAI\",BDD!$Z$2:$Z$3)","v":0}]
["Banc 124 bis",{"$f":"SUMIF(BDD!$BH$2:$BH$3,\"Banc 124 bisVRAIFAUXVRAIFAUXFAUX\",BDD!$Z$2:$Z$3)","v":0},{"$f":"SUMIF(BDD!$BH$2:$BH$3,\"Banc 124 bisVRAIFAUXFAUXVRAIFAUX\",BDD!$Z$2:$Z$3)","v":0},{"$f":"SUMIF(BDD!$BH$2:$BH$3,\"Banc 124 bisVRAIFAUXFAUXFAUXVRAI\",BDD!$Z$2:$Z$3)","v":0},{"$f":"SUMIF(BDD!$BH$2:$BH$3,\"Banc 124 bisFAUXVRAIVRAIFAUXFAUX\",BDD!$Z$2:$Z$3)","v":0},{"$f":"SUMIF(BDD!$BH$2:$BH$3,\"Banc 124 bisFAUXVRAIFAUXVRAIFAUX\",BDD!$Z$2:$Z$3)","v":0},{"$f":"SUMIF(BDD!$BH$2:$BH$3,\"Banc 124 bisFAUXVRAIFAUXFAUXVRAI\",BDD!$Z$2:$Z$3)","v":0},{"$f":"SUMIF(BDD!$BH$2:$BH$3,\"Banc 124 bisVRAIFAUXVRAIFAUXFAUX\",BDD!$Z$2:$Z$3)","v":0},{"$f":"SUMIF(BDD!$BH$2:$BH$3,\"Banc 124 bisVRAIFAUXFAUXVRAIFAUX\",BDD!$Z$2:$Z$3)","v":0},{"$f":"SUMIF(BDD!$BH$2:$BH$3,\"Banc 124 bisVRAIFAUXFAUXFAUXVRAI\",BDD!$Z$2:$Z$3)","v":0},{"$f":"SUMIF(BDD!$BH$2:$BH$3,\"Banc 124 bisFAUXVRAIVRAIFAUXFAUX\",BDD!$Z$2:$Z$3)","v":0},{"$f":"SUMIF(BDD!$BH$2:$BH$3,\"Banc 124 bisFAUXVRAIFAUXVRAIFAUX\",BDD!$Z$2:$Z$3)","v":0},{"$f":"SUMIF(BDD!$BH$2:$BH$3,\"Banc 124 bisFAUXVRAIFAUXFAUXVRAI\",BDD!$Z$2:$Z$3)","v":0},{"$f":"SUMIF(BDD!$BH$2:$BH$25,\"Banc 124 bisVRAIFAUXVRAIFAUXFAUX\",BDD!$Z$2:$Z$25)","v":0},{"$f":"SUMIF(BDD!$BH$2:$BH$25,\"Banc 124 bisVRAIFAUXFAUXVRAIFAUX\",BDD!$Z$2:$Z$25)","v":0},{"$f":"SUMIF(BDD!$BH$2:$BH$25,\"Banc 124 bisVRAIFAUXFAUXFAUXVRAI\",BDD!$Z$2:$Z$25)","v":0},{"$f":"SUMIF(BDD!$BH$2:$BH$25,\"Banc 124 bisFAUXVRAIVRAIFAUXFAUX\",BDD!$Z$2:$Z$25)","v":0},{"$f":"SUMIF(BDD!$BH$2:$BH$25,\"Banc 124 bisFAUXVRAIFAUXVRAIFAUX\",BDD!$Z$2:$Z$25)","v":0},{"$f":"SUMIF(BDD!$BH$2:$BH$25,\"Banc 124 bisFAUXVRAIFAUXFAUXVRAI\",BDD!$Z$2:$Z$25)","v":0},{"$f":"SUMIF(BDD!$BH$26:$BH$266,\"Banc 12664 bisVRAIFAUXVRAIFAUXFAUX\",BDD!$Z$26:$Z$266)","v":0},{"$f":"SUMIF(BDD!$BH$26:$BH$266,\"Banc 12664 bisVRAIFAUXFAUXVRAIFAUX\",BDD!$Z$26:$Z$266)","v":0},{"$f":"SUMIF(BDD!$BH$26:$BH$266,\"Banc 12664 bisVRAIFAUXFAUXFAUXVRAI\",BDD!$Z$26:$Z$266)","v":0},{"$f":"SUMIF(BDD!$BH$26:$BH$266,\"Banc 12664 bisFAUXVRAIVRAIFAUXFAUX\",BDD!$Z$26:$Z$266)","v":0},{"$f":"SUMIF(BDD!$BH$26:$BH$266,\"Banc 12664 bisFAUXVRAIFAUXVRAIFAUX\",BDD!$Z$26:$Z$266)","v":0},{"$f":"SUMIF(BDD!$BH$26:$BH$266,\"Banc 12664 bisFAUXVRAIFAUXFAUXVRAI\",BDD!$Z$26:$Z$266)","v":0},{"$f":"SUMIF(BDD!$BH$2:$BH$3,\"Banc 124 bisVRAIFAUXVRAIFAUXFAUX\",BDD!$Z$2:$Z$3)","v":0},{"$f":"SUMIF(BDD!$BH$2:$BH$3,\"Banc 124 bisVRAIFAUXFAUXVRAIFAUX\",BDD!$Z$2:$Z$3)","v":0},{"$f":"SUMIF(BDD!$BH$2:$BH$3,\"Banc 124 bisVRAIFAUXFAUXFAUXVRAI\",BDD!$Z$2:$Z$3)","v":0},{"$f":"SUMIF(BDD!$BH$2:$BH$3,\"Banc 124 bisFAUXVRAIVRAIFAUXFAUX\",BDD!$Z$2:$Z$3)","v":0},{"$f":"SUMIF(BDD!$BH$2:$BH$3,\"Banc 124 bisFAUXVRAIFAUXVRAIFAUX\",BDD!$Z$2:$Z$3)","v":0},{"$f":"SUMIF(BDD!$BH$2:$BH$3,\"Banc 124 bisFAUXVRAIFAUXFAUXVRAI\",BDD!$Z$2:$Z$3)","v":0},{"$f":"SUMIF(BDD!$BH$2:$BH$3,\"Banc 124 bisVRAIFAUXVRAIFAUXFAUX\",BDD!$Z$2:$Z$3)","v":0},{"$f":"SUMIF(BDD!$BH$2:$BH$3,\"Banc 124 bisVRAIFAUXFAUXVRAIFAUX\",BDD!$Z$2:$Z$3)","v":0},{"$f":"SUMIF(BDD!$BH$2:$BH$3,\"Banc 124 bisVRAIFAUXFAUXFAUXVRAI\",BDD!$Z$2:$Z$3)","v":0},{"$f":"SUMIF(BDD!$BH$2:$BH$3,\"Banc 124 bisFAUXVRAIVRAIFAUXFAUX\",BDD!$Z$2:$Z$3)","v":0},{"$f":"SUMIF(BDD!$BH$2:$BH$3,\"Banc 124 bisFAUXVRAIFAUXVRAIFAUX\",BDD!$Z$2:$Z$3)","v":0},{"$f":"SUMIF(BDD!$BH$2:$BH$3,\"Banc 124 bisFAUXVRAIFAUXFAUXVRAI\",BDD!$Z$2:$Z$3)","v":0},{"$f":"SUMIF(BDD!$BH$2:$BH$3,\"Banc 124 bisVRAIFAUXVRAIFAUXFAUX\",BDD!$Z$2:$Z$3)","v":0},{"$f":"SUMIF(BDD!$BH$2:$BH$3,\"Banc 124 bisVRAIFAUXFAUXVRAIFAUX\",BDD!$Z$2:$Z$3)","v":0},{"$f":"SUMIF(BDD!$BH$2:$BH$3,\"Banc 124 bisVRAIFAUXFAUXFAUXVRAI\",BDD!$Z$2:$Z$3)","v":0},{"$f":"SUMIF(BDD!$BH$2:$BH$3,\"Banc 124 bisFAUXVRAIVRAIFAUXFAUX\",BDD!$Z$2:$Z$3)","v":0},{"$f":"SUMIF(BDD!$BH$2:$BH$3,\"Banc 124 bisFAUXVRAIFAUXVRAIFAUX\",BDD!$Z$2:$Z$3)","v":0},{"$f":"SUMIF(BDD!$BH$2:$BH$3,\"Banc 124 bisFAUXVRAIFAUXFAUXVRAI\",BDD!$Z$2:$Z$3)","v":0},{"$f":"SUMIF(BDD!$BH$2:$BH$3,\"Banc 124 bisVRAIFAUXVRAIFAUXFAUX\",BDD!$Z$2:$Z$3)","v":0},{"$f":"SUMIF(BDD!$BH$2:$BH$3,\"Banc 124 bisVRAIFAUXFAUXVRAIFAUX\",BDD!$Z$2:$Z$3)","v":0},{"$f":"SUMIF(BDD!$BH$2:$BH$3,\"Banc 124 bisVRAIFAUXFAUXFAUXVRAI\",BDD!$Z$2:$Z$3)","v":0},{"$f":"SUMIF(BDD!$BH$2:$BH$3,\"Banc 124 bisFAUXVRAIVRAIFAUXFAUX\",BDD!$Z$2:$Z$3)","v":0},{"$f":"SUMIF(BDD!$BH$2:$BH$3,\"Banc 124 bisFAUXVRAIFAUXVRAIFAUX\",BDD!$Z$2:$Z$3)","v":0},{"$f":"SUMIF(BDD!$BH$2:$BH$3,\"Banc 124 bisFAUXVRAIFAUXFAUXVRAI\",BDD!$Z$2:$Z$3)","v":0},{"$f":"SUMIF(BDD!$BH$2:$BH$3,\"Banc 124 bisVRAIFAUXVRAIFAUXFAUX\",BDD!$Z$2:$Z$3)","v":0},{"$f":"SUMIF(BDD!$BH$2:$BH$3,\"Banc 124 bisVRAIFAUXFAUXVRAIFAUX\",BDD!$Z$2:$Z$3)","v":0},{"$f":"SUMIF(BDD!$BH$2:$BH$3,\"Banc 124 bisVRAIFAUXFAUXFAUXVRAI\",BDD!$Z$2:$Z$3)","v":0},{"$f":"SUMIF(BDD!$BH$2:$BH$3,\"Banc 124 bisFAUXVRAIVRAIFAUXFAUX\",BDD!$Z$2:$Z$3)","v":0},{"$f":"SUMIF(BDD!$BH$2:$BH$3,\"Banc 124 bisFAUXVRAIFAUXVRAIFAUX\",BDD!$Z$2:$Z$3)","v":0},{"$f":"SUMIF(BDD!$BH$2:$BH$3,\"Banc 124 bisFAUXVRAIFAUXFAUXVRAI\",BDD!$Z$2:$Z$3)","v":0},{"$f":"SUMIF(BDD!$BH$2:$BH$3,\"Banc 124 bisVRAIFAUXVRAIFAUXFAUX\",BDD!$Z$2:$Z$3)","v":0},{"$f":"SUMIF(BDD!$BH$2:$BH$3,\"Banc 124 bisVRAIFAUXFAUXVRAIFAUX\",BDD!$Z$2:$Z$3)","v":0},{"$f":"SUMIF(BDD!$BH$2:$BH$3,\"Banc 124 bisVRAIFAUXFAUXFAUXVRAI\",BDD!$Z$2:$Z$3)","v":0},{"$f":"SUMIF(BDD!$BH$2:$BH$3,\"Banc 124 bisFAUXVRAIVRAIFAUXFAUX\",BDD!$Z$2:$Z$3)","v":0},{"$f":"SUMIF(BDD!$BH$2:$BH$3,\"Banc 124 bisFAUXVRAIFAUXVRAIFAUX\",BDD!$Z$2:$Z$3)","v":0},{"$f":"SUMIF(BDD!$BH$2:$BH$3,\"Banc 124 bisFAUXVRAIFAUXFAUXVRAI\",BDD!$Z$2:$Z$3)","v":0},{"$f":"SUMIF(BDD!$BH$2:$BH$3,\"Banc 124 bisVRAIFAUXVRAIFAUXFAUX\",BDD!$Z$2:$Z$3)","v":0},{"$f":"SUMIF(BDD!$BH$2:$BH$3,\"Banc 124 bisVRAIFAUXFAUXVRAIFAUX\",BDD!$Z$2:$Z$3)","v":0},{"$f":"SUMIF(BDD!$BH$2:$BH$3,\"Banc 124 bisVRAIFAUXFAUXFAUXVRAI\",BDD!$Z$2:$Z$3)","v":0},{"$f":"SUMIF(BDD!$BH$2:$BH$3,\"Banc 124 bisFAUXVRAIVRAIFAUXFAUX\",BDD!$Z$2:$Z$3)","v":0},{"$f":"SUMIF(BDD!$BH$2:$BH$3,\"Banc 124 bisFAUXVRAIFAUXVRAIFAUX\",BDD!$Z$2:$Z$3)","v":0},{"$f":"SUMIF(BDD!$BH$2:$BH$3,\"Banc 124 bisFAUXVRAIFAUXFAUXVRAI\",BDD!$Z$2:$Z$3)","v":0},{"$f":"SUMIF(BDD!$BH$2:$BH$3,\"Banc 124 bisVRAIFAUXVRAIFAUXFAUX\",BDD!$Z$2:$Z$3)","v":0},{"$f":"SUMIF(BDD!$BH$2:$BH$3,\"Banc 124 bisVRAIFAUXFAUXVRAIFAUX\",BDD!$Z$2:$Z$3)","v":0},{"$f":"SUMIF(BDD!$BH$2:$BH$3,\"Banc 124 bisVRAIFAUXFAUXFAUXVRAI\",BDD!$Z$2:$Z$3)","v":0},{"$f":"SUMIF(BDD!$BH$2:$BH$3,\"Banc 124 bisFAUXVRAIVRAIFAUXFAUX\",BDD!$Z$2:$Z$3)","v":0},{"$f":"SUMIF(BDD!$BH$2:$BH$3,\"Banc 124 bisFAUXVRAIFAUXVRAIFAUX\",BDD!$Z$2:$Z$3)","v":0},{"$f":"SUMIF(BDD!$BH$2:$BH$3,\"Banc 124 bisFAUXVRAIFAUXFAUXVRAI\",BDD!$Z$2:$Z$3)","v":0}]
["Banc 145",{"$f":"SUMIF(BDD!$BH$2:$BH$3,\"Banc 145VRAIFAUXVRAIFAUXFAUX\",BDD!$Z$2:$Z$3)","v":0},{"$f":"SUMIF(BDD!$BH$2:$BH$3,\"Banc 145VRAIFAUXFAUXVRAIFAUX\",BDD!$Z$2:$Z$3)","v":0},{"$f":"SUMIF(BDD!$BH$2:$BH$3,\"Banc 145VRAIFAUXFAUXFAUXVRAI\",BDD!$Z$2:$Z$3)","v":0},{"$f":"SUMIF(BDD!$BH$2:$BH$3,\"Banc 145FAUXVRAIVRAIFAUXFAUX\",BDD!$Z$2:$Z$3)","v":0},{"$f":"SUMIF(BDD!$BH$2:$BH$3,\"Banc 145FAUXVRAIFAUXVRAIFAUX\",BDD!$Z$2:$Z$3)","v":0},{"$f":"SUMIF(BDD!$BH$2:$BH$3,\"Banc 145FAUXVRAIFAUXFAUXVRAI\",BDD!$Z$2:$Z$3)","v":0},{"$f":"SUMIF(BDD!$BH$2:$BH$3,\"Banc 145VRAIFAUXVRAIFAUXFAUX\",BDD!$Z$2:$Z$3)","v":0},{"$f":"SUMIF(BDD!$BH$2:$BH$3,\"Banc 145VRAIFAUXFAUXVRAIFAUX\",BDD!$Z$2:$Z$3)","v":0},{"$f":"SUMIF(BDD!$BH$2:$BH$3,\"Banc 145VRAIFAUXFAUXFAUXVRAI\",BDD!$Z$2:$Z$3)","v":0},{"$f":"SUMIF(BDD!$BH$2:$BH$3,\"Banc 145FAUXVRAIVRAIFAUXFAUX\",BDD!$Z$2:$Z$3)","v":0},{"$f":"SUMIF(BDD!$BH$2:$BH$3,\"Banc 145FAUXVRAIFAUXVRAIFAUX\",BDD!$Z$2:$Z$3)","v":0},{"$f":"SUMIF(BDD!$BH$2:$BH$3,\"Banc 145FAUXVRAIFAUXFAUXVRAI\",BDD!$Z$2:$Z$3)","v":0},{"$f":"SUMIF(BDD!$BH$2:$BH$25,\"Banc 145VRAIFAUXVRAIFAUXFAUX\",BDD!$Z$2:$Z$25)","v":0},{"$f":"SUMIF(BDD!$BH$2:$BH$25,\"Banc 145VRAIFAUXFAUXVRAIFAUX\",BDD!$Z$2:$Z$25)","v":0},{"$f":"SUMIF(BDD!$BH$2:$BH$25,\"Banc 145VRAIFAUXFAUXFAUXVRAI\",BDD!$Z$2:$Z$25)","v":0},{"$f":"SUMIF(BDD!$BH$2:$BH$25,\"Banc 145FAUXVRAIVRAIFAUXFAUX\",BDD!$Z$2:$Z$25)","v":0},{"$f":"SUMIF(BDD!$BH$2:$BH$25,\"Banc 145FAUXVRAIFAUXVRAIFAUX\",BDD!$Z$2:$Z$25)","v":0},{"$f":"SUMIF(BDD!$BH$2:$BH$25,\"Banc 145FAUXVRAIFAUXFAUXVRAI\",BDD!$Z$2:$Z$25)","v":0},{"$f":"SUMIF(BDD!$BH$26:$BH$266,\"Banc 145VRAIFAUXVRAIFAUXFAUX\",BDD!$Z$26:$Z$266)","v":0},{"$f":"SUMIF(BDD!$BH$26:$BH$266,\"Banc 145VRAIFAUXFAUXVRAIFAUX\",BDD!$Z$26:$Z$266)","v":0},{"$f":"SUMIF(BDD!$BH$26:$BH$266,\"Banc 145VRAIFAUXFAUXFAUXVRAI\",BDD!$Z$26:$Z$266)","v":0},{"$f":"SUMIF(BDD!$BH$26:$BH$266,\"Banc 145FAUXVRAIVRAIFAUXFAUX\",BDD!$Z$26:$Z$266)","v":0},{"$f":"SUMIF(BDD!$BH$26:$BH$266,\"Banc 145FAUXVRAIFAUXVRAIFAUX\",BDD!$Z$26:$Z$266)","v":0},{"$f":"SUMIF(BDD!$BH$26:$BH$266,\"Banc 145FAUXVRAIFAUXFAUXVRAI\",BDD!$Z$26:$Z$266)","v":0},{"$f":"SUMIF(BDD!$BH$2:$BH$3,\"Banc 145VRAIFAUXVRAIFAUXFAUX\",BDD!$Z$2:$Z$3)","v":0},{"$f":"SUMIF(BDD!$BH$2:$BH$3,\"Banc 145VRAIFAUXFAUXVRAIFAUX\",BDD!$Z$2:$Z$3)","v":0},{"$f":"SUMIF(BDD!$BH$2:$BH$3,\"Banc 145VRAIFAUXFAUXFAUXVRAI\",BDD!$Z$2:$Z$3)","v":0},{"$f":"SUMIF(BDD!$BH$2:$BH$3,\"Banc 145FAUXVRAIVRAIFAUXFAUX\",BDD!$Z$2:$Z$3)","v":0},{"$f":"SUMIF(BDD!$BH$2:$BH$3,\"Banc 145FAUXVRAIFAUXVRAIFAUX\",BDD!$Z$2:$Z$3)","v":0},{"$f":"SUMIF(BDD!$BH$2:$BH$3,\"Banc 145FAUXVRAIFAUXFAUXVRAI\",BDD!$Z$2:$Z$3)","v":0},{"$f":"SUMIF(BDD!$BH$2:$BH$3,\"Banc 145VRAIFAUXVRAIFAUXFAUX\",BDD!$Z$2:$Z$3)","v":0},{"$f":"SUMIF(BDD!$BH$2:$BH$3,\"Banc 145VRAIFAUXFAUXVRAIFAUX\",BDD!$Z$2:$Z$3)","v":0},{"$f":"SUMIF(BDD!$BH$2:$BH$3,\"Banc 145VRAIFAUXFAUXFAUXVRAI\",BDD!$Z$2:$Z$3)","v":0},{"$f":"SUMIF(BDD!$BH$2:$BH$3,\"Banc 145FAUXVRAIVRAIFAUXFAUX\",BDD!$Z$2:$Z$3)","v":0},{"$f":"SUMIF(BDD!$BH$2:$BH$3,\"Banc 145FAUXVRAIFAUXVRAIFAUX\",BDD!$Z$2:$Z$3)","v":0},{"$f":"SUMIF(BDD!$BH$2:$BH$3,\"Banc 145FAUXVRAIFAUXFAUXVRAI\",BDD!$Z$2:$Z$3)","v":0},{"$f":"SUMIF(BDD!$BH$2:$BH$3,\"Banc 145VRAIFAUXVRAIFAUXFAUX\",BDD!$Z$2:$Z$3)","v":0},{"$f":"SUMIF(BDD!$BH$2:$BH$3,\"Banc 145VRAIFAUXFAUXVRAIFAUX\",BDD!$Z$2:$Z$3)","v":0},{"$f":"SUMIF(BDD!$BH$2:$BH$3,\"Banc 145VRAIFAUXFAUXFAUXVRAI\",BDD!$Z$2:$Z$3)","v":0},{"$f":"SUMIF(BDD!$BH$2:$BH$3,\"Banc 145FAUXVRAIVRAIFAUXFAUX\",BDD!$Z$2:$Z$3)","v":0},{"$f":"SUMIF(BDD!$BH$2:$BH$3,\"Banc 145FAUXVRAIFAUXVRAIFAUX\",BDD!$Z$2:$Z$3)","v":0},{"$f":"SUMIF(BDD!$BH$2:$BH$3,\"Banc 145FAUXVRAIFAUXFAUXVRAI\",BDD!$Z$2:$Z$3)","v":0},{"$f":"SUMIF(BDD!$BH$2:$BH$3,\"Banc 145VRAIFAUXVRAIFAUXFAUX\",BDD!$Z$2:$Z$3)","v":0},{"$f":"SUMIF(BDD!$BH$2:$BH$3,\"Banc 145VRAIFAUXFAUXVRAIFAUX\",BDD!$Z$2:$Z$3)","v":0},{"$f":"SUMIF(BDD!$BH$2:$BH$3,\"Banc 145VRAIFAUXFAUXFAUXVRAI\",BDD!$Z$2:$Z$3)","v":0},{"$f":"SUMIF(BDD!$BH$2:$BH$3,\"Banc 145FAUXVRAIVRAIFAUXFAUX\",BDD!$Z$2:$Z$3)","v":0},{"$f":"SUMIF(BDD!$BH$2:$BH$3,\"Banc 145FAUXVRAIFAUXVRAIFAUX\",BDD!$Z$2:$Z$3)","v":0},{"$f":"SUMIF(BDD!$BH$2:$BH$3,\"Banc 145FAUXVRAIFAUXFAUXVRAI\",BDD!$Z$2:$Z$3)","v":0},{"$f":"SUMIF(BDD!$BH$2:$BH$3,\"Banc 145VRAIFAUXVRAIFAUXFAUX\",BDD!$Z$2:$Z$3)","v":0},{"$f":"SUMIF(BDD!$BH$2:$BH$3,\"Banc 145VRAIFAUXFAUXVRAIFAUX\",BDD!$Z$2:$Z$3)","v":0},{"$f":"SUMIF(BDD!$BH$2:$BH$3,\"Banc 145VRAIFAUXFAUXFAUXVRAI\",BDD!$Z$2:$Z$3)","v":0},{"$f":"SUMIF(BDD!$BH$2:$BH$3,\"Banc 145FAUXVRAIVRAIFAUXFAUX\",BDD!$Z$2:$Z$3)","v":0},{"$f":"SUMIF(BDD!$BH$2:$BH$3,\"Banc 145FAUXVRAIFAUXVRAIFAUX\",BDD!$Z$2:$Z$3)","v":0},{"$f":"SUMIF(BDD!$BH$2:$BH$3,\"Banc 145FAUXVRAIFAUXFAUXVRAI\",BDD!$Z$2:$Z$3)","v":0},{"$f":"SUMIF(BDD!$BH$2:$BH$3,\"Banc 145VRAIFAUXVRAIFAUXFAUX\",BDD!$Z$2:$Z$3)","v":0},{"$f":"SUMIF(BDD!$BH$2:$BH$3,\"Banc 145VRAIFAUXFAUXVRAIFAUX\",BDD!$Z$2:$Z$3)","v":0},{"$f":"SUMIF(BDD!$BH$2:$BH$3,\"Banc 145VRAIFAUXFAUXFAUXVRAI\",BDD!$Z$2:$Z$3)","v":0},{"$f":"SUMIF(BDD!$BH$2:$BH$3,\"Banc 145FAUXVRAIVRAIFAUXFAUX\",BDD!$Z$2:$Z$3)","v":0},{"$f":"SUMIF(BDD!$BH$2:$BH$3,\"Banc 145FAUXVRAIFAUXVRAIFAUX\",BDD!$Z$2:$Z$3)","v":0},{"$f":"SUMIF(BDD!$BH$2:$BH$3,\"Banc 145FAUXVRAIFAUXFAUXVRAI\",BDD!$Z$2:$Z$3)","v":0},{"$f":"SUMIF(BDD!$BH$2:$BH$3,\"Banc 145VRAIFAUXVRAIFAUXFAUX\",BDD!$Z$2:$Z$3)","v":0},{"$f":"SUMIF(BDD!$BH$2:$BH$3,\"Banc 145VRAIFAUXFAUXVRAIFAUX\",BDD!$Z$2:$Z$3)","v":0},{"$f":"SUMIF(BDD!$BH$2:$BH$3,\"Banc 145VRAIFAUXFAUXFAUXVRAI\",BDD!$Z$2:$Z$3)","v":0},{"$f":"SUMIF(BDD!$BH$2:$BH$3,\"Banc 145FAUXVRAIVRAIFAUXFAUX\",BDD!$Z$2:$Z$3)","v":0},{"$f":"SUMIF(BDD!$BH$2:$BH$3,\"Banc 145FAUXVRAIFAUXVRAIFAUX\",BDD!$Z$2:$Z$3)","v":0},{"$f":"SUMIF(BDD!$BH$2:$BH$3,\"Banc 145FAUXVRAIFAUXFAUXVRAI\",BDD!$Z$2:$Z$3)","v":0},{"$f":"SUMIF(BDD!$BH$2:$BH$3,\"Banc 145VRAIFAUXVRAIFAUXFAUX\",BDD!$Z$2:$Z$3)","v":0},{"$f":"SUMIF(BDD!$BH$2:$BH$3,\"Banc 145VRAIFAUXFAUXVRAIFAUX\",BDD!$Z$2:$Z$3)","v":0},{"$f":"SUMIF(BDD!$BH$2:$BH$3,\"Banc 145VRAIFAUXFAUXFAUXVRAI\",BDD!$Z$2:$Z$3)","v":0},{"$f":"SUMIF(BDD!$BH$2:$BH$3,\"Banc 145FAUXVRAIVRAIFAUXFAUX\",BDD!$Z$2:$Z$3)","v":0},{"$f":"SUMIF(BDD!$BH$2:$BH$3,\"Banc 145FAUXVRAIFAUXVRAIFAUX\",BDD!$Z$2:$Z$3)","v":0},{"$f":"SUMIF(BDD!$BH$2:$BH$3,\"Banc 145FAUXVRAIFAUXFAUXVRAI\",BDD!$Z$2:$Z$3)","v":0}]
["Banc cisaillement",{"$f":"SUMIF(BDD!$BH$2:$BH$3,\"Banc cisaillementVRAIFAUXVRAIFAUXFAUX\",BDD!$Z$2:$Z$3)","v":0},{"$f":"SUMIF(BDD!$BH$2:$BH$3,\"Banc cisaillementVRAIFAUXFAUXVRAIFAUX\",BDD!$Z$2:$Z$3)","v":0},{"$f":"SUMIF(BDD!$BH$2:$BH$3,\"Banc cisaillementVRAIFAUXFAUXFAUXVRAI\",BDD!$Z$2:$Z$3)","v":0},{"$f":"SUMIF(BDD!$BH$2:$BH$3,\"Banc cisaillementFAUXVRAIVRAIFAUXFAUX\",BDD!$Z$2:$Z$3)","v":0},{"$f":"SUMIF(BDD!$BH$2:$BH$3,\"Banc cisaillementFAUXVRAIFAUXVRAIFAUX\",BDD!$Z$2:$Z$3)","v":0},{"$f":"SUMIF(BDD!$BH$2:$BH$3,\"Banc cisaillementFAUXVRAIFAUXFAUXVRAI\",BDD!$Z$2:$Z$3)","v":0},{"$f":"SUMIF(BDD!$BH$2:$BH$3,\"Banc cisaillementVRAIFAUXVRAIFAUXFAUX\",BDD!$Z$2:$Z$3)","v":0},{"$f":"SUMIF(BDD!$BH$2:$BH$3,\"Banc cisaillementVRAIFAUXFAUXVRAIFAUX\",BDD!$Z$2:$Z$3)","v":0},{"$f":"SUMIF(BDD!$BH$2:$BH$3,\"Banc cisaillementVRAIFAUXFAUXFAUXVRAI\",BDD!$Z$2:$Z$3)","v":0},{"$f":"SUMIF(BDD!$BH$2:$BH$3,\"Banc cisaillementFAUXVRAIVRAIFAUXFAUX\",BDD!$Z$2:$Z$3)","v":0},{"$f":"SUMIF(BDD!$BH$2:$BH$3,\"Banc cisaillementFAUXVRAIFAUXVRAIFAUX\",BDD!$Z$2:$Z$3)","v":0},{"$f":"SUMIF(BDD!$BH$2:$BH$3,\"Banc cisaillementFAUXVRAIFAUXFAUXVRAI\",BDD!$Z$2:$Z$3)","v":0},{"$f":"SUMIF(BDD!$BH$2:$BH$25,\"Banc cisaillementVRAIFAUXVRAIFAUXFAUX\",BDD!$Z$2:$Z$25)","v":0},{"$f":"SUMIF(BDD!$BH$2:$BH$25,\"Banc cisaillementVRAIFAUXFAUXVRAIFAUX\",BDD!$Z$2:$Z$25)","v":0},{"$f":"SUMIF(BDD!$BH$2:$BH$25,\"Banc cisaillementVRAIFAUXFAUXFAUXVRAI\",BDD!$Z$2:$Z$25)","v":0},{"$f":"SUMIF(BDD!$BH$2:$BH$25,\"Banc cisaillementFAUXVRAIVRAIFAUXFAUX\",BDD!$Z$2:$Z$25)","v":0},{"$f":"SUMIF(BDD!$BH$2:$BH$25,\"Banc cisaillementFAUXVRAIFAUXVRAIFAUX\",BDD!$Z$2:$Z$25)","v":0},{"$f":"SUMIF(BDD!$BH$2:$BH$25,\"Banc cisaillementFAUXVRAIFAUXFAUXVRAI\",BDD!$Z$2:$Z$25)","v":0},{"$f":"SUMIF(BDD!$BH$26:$BH$26,\"Banc cisaillementVRAIFAUXVRAIFAUXFAUX\",BDD!$Z$26:$Z$26)","v":0},{"$f":"SUMIF(BDD!$BH$26:$BH$26,\"Banc cisaillementVRAIFAUXFAUXVRAIFAUX\",BDD!$Z$26:$Z$26)","v":0},{"$f":"SUMIF(BDD!$BH$26:$BH$26,\"Banc cisaillementVRAIFAUXFAUXFAUXVRAI\",BDD!$Z$26:$Z$26)","v":0},{"$f":"SUMIF(BDD!$BH$26:$BH$26,\"Banc cisaillementFAUXVRAIVRAIFAUXFAUX\",BDD!$Z$26:$Z$26)","v":0},{"$f":"SUMIF(BDD!$BH$26:$BH$26,\"Banc cisaillementFAUXVRAIFAUXVRAIFAUX\",BDD!$Z$26:$Z$26)","v":0},{"$f":"SUMIF(BDD!$BH$26:$BH$26,\"Banc cisaillementFAUXVRAIFAUXFAUXVRAI\",BDD!$Z$26:$Z$26)","v":0},{"$f":"SUMIF(BDD!$BH$2:$BH$3,\"Banc cisaillementVRAIFAUXVRAIFAUXFAUX\",BDD!$Z$2:$Z$3)","v":0},{"$f":"SUMIF(BDD!$BH$2:$BH$3,\"Banc cisaillementVRAIFAUXFAUXVRAIFAUX\",BDD!$Z$2:$Z$3)","v":0},{"$f":"SUMIF(BDD!$BH$2:$BH$3,\"Banc cisaillementVRAIFAUXFAUXFAUXVRAI\",BDD!$Z$2:$Z$3)","v":0},{"$f":"SUMIF(BDD!$BH$2:$BH$3,\"Banc cisaillementFAUXVRAIVRAIFAUXFAUX\",BDD!$Z$2:$Z$3)","v":0},{"$f":"SUMIF(BDD!$BH$2:$BH$3,\"Banc cisaillementFAUXVRAIFAUXVRAIFAUX\",BDD!$Z$2:$Z$3)","v":0},{"$f":"SUMIF(BDD!$BH$2:$BH$3,\"Banc cisaillementFAUXVRAIFAUXFAUXVRAI\",BDD!$Z$2:$Z$3)","v":0},{"$f":"SUMIF(BDD!$BH$2:$BH$3,\"Banc cisaillementVRAIFAUXVRAIFAUXFAUX\",BDD!$Z$2:$Z$3)","v":0},{"$f":"SUMIF(BDD!$BH$2:$BH$3,\"Banc cisaillementVRAIFAUXFAUXVRAIFAUX\",BDD!$Z$2:$Z$3)","v":0},{"$f":"SUMIF(BDD!$BH$2:$BH$3,\"Banc cisaillementVRAIFAUXFAUXFAUXVRAI\",BDD!$Z$2:$Z$3)","v":0},{"$f":"SUMIF(BDD!$BH$2:$BH$3,\"Banc cisaillementFAUXVRAIVRAIFAUXFAUX\",BDD!$Z$2:$Z$3)","v":0},{"$f":"SUMIF(BDD!$BH$2:$BH$3,\"Banc cisaillementFAUXVRAIFAUXVRAIFAUX\",BDD!$Z$2:$Z$3)","v":0},{"$f":"SUMIF(BDD!$BH$2:$BH$3,\"Banc cisaillementFAUXVRAIFAUXFAUXVRAI\",BDD!$Z$2:$Z$3)","v":0},{"$f":"SUMIF(BDD!$BH$2:$BH$3,\"Banc cisaillementVRAIFAUXVRAIFAUXFAUX\",BDD!$Z$2:$Z$3)","v":0},{"$f":"SUMIF(BDD!$BH$2:$BH$3,\"Banc cisaillementVRAIFAUXFAUXVRAIFAUX\",BDD!$Z$2:$Z$3)","v":0},{"$f":"SUMIF(BDD!$BH$2:$BH$3,\"Banc cisaillementVRAIFAUXFAUXFAUXVRAI\",BDD!$Z$2:$Z$3)","v":0},{"$f":"SUMIF(BDD!$BH$2:$BH$3,\"Banc cisaillementFAUXVRAIVRAIFAUXFAUX\",BDD!$Z$2:$Z$3)","v":0},{"$f":"SUMIF(BDD!$BH$2:$BH$3,\"Banc cisaillementFAUXVRAIFAUXVRAIFAUX\",BDD!$Z$2:$Z$3)","v":0},{"$f":"SUMIF(BDD!$BH$2:$BH$3,\"Banc cisaillementFAUXVRAIFAUXFAUXVRAI\",BDD!$Z$2:$Z$3)","v":0},{"$f":"SUMIF(BDD!$BH$2:$BH$3,\"Banc cisaillementVRAIFAUXVRAIFAUXFAUX\",BDD!$Z$2:$Z$3)","v":0},{"$f":"SUMIF(BDD!$BH$2:$BH$3,\"Banc cisaillementVRAIFAUXFAUXVRAIFAUX\",BDD!$Z$2:$Z$3)","v":0},{"$f":"SUMIF(BDD!$BH$2:$BH$3,\"Banc cisaillementVRAIFAUXFAUXFAUXVRAI\",BDD!$Z$2:$Z$3)","v":0},{"$f":"SUMIF(BDD!$BH$2:$BH$3,\"Banc cisaillementFAUXVRAIVRAIFAUXFAUX\",BDD!$Z$2:$Z$3)","v":0},{"$f":"SUMIF(BDD!$BH$2:$BH$3,\"Banc cisaillementFAUXVRAIFAUXVRAIFAUX\",BDD!$Z$2:$Z$3)","v":0},{"$f":"SUMIF(BDD!$BH$2:$BH$3,\"Banc cisaillementFAUXVRAIFAUXFAUXVRAI\",BDD!$Z$2:$Z$3)","v":0},{"$f":"SUMIF(BDD!$BH$2:$BH$3,\"Banc cisaillementVRAIFAUXVRAIFAUXFAUX\",BDD!$Z$2:$Z$3)","v":0},{"$f":"SUMIF(BDD!$BH$2:$BH$3,\"Banc cisaillementVRAIFAUXFAUXVRAIFAUX\",BDD!$Z$2:$Z$3)","v":0},{"$f":"SUMIF(BDD!$BH$2:$BH$3,\"Banc cisaillementVRAIFAUXFAUXFAUXVRAI\",BDD!$Z$2:$Z$3)","v":0},{"$f":"SUMIF(BDD!$BH$2:$BH$3,\"Banc cisaillementFAUXVRAIVRAIFAUXFAUX\",BDD!$Z$2:$Z$3)","v":0},{"$f":"SUMIF(BDD!$BH$2:$BH$3,\"Banc cisaillementFAUXVRAIFAUXVRAIFAUX\",BDD!$Z$2:$Z$3)","v":0},{"$f":"SUMIF(BDD!$BH$2:$BH$3,\"Banc cisaillementFAUXVRAIFAUXFAUXVRAI\",BDD!$Z$2:$Z$3)","v":0},{"$f":"SUMIF(BDD!$BH$2:$BH$3,\"Banc cisaillementVRAIFAUXVRAIFAUXFAUX\",BDD!$Z$2:$Z$3)","v":0},{"$f":"SUMIF(BDD!$BH$2:$BH$3,\"Banc cisaillementVRAIFAUXFAUXVRAIFAUX\",BDD!$Z$2:$Z$3)","v":0},{"$f":"SUMIF(BDD!$BH$2:$BH$3,\"Banc cisaillementVRAIFAUXFAUXFAUXVRAI\",BDD!$Z$2:$Z$3)","v":0},{"$f":"SUMIF(BDD!$BH$2:$BH$3,\"Banc cisaillementFAUXVRAIVRAIFAUXFAUX\",BDD!$Z$2:$Z$3)","v":0},{"$f":"SUMIF(BDD!$BH$2:$BH$3,\"Banc cisaillementFAUXVRAIFAUXVRAIFAUX\",BDD!$Z$2:$Z$3)","v":0},{"$f":"SUMIF(BDD!$BH$2:$BH$3,\"Banc cisaillementFAUXVRAIFAUXFAUXVRAI\",BDD!$Z$2:$Z$3)","v":0},{"$f":"SUMIF(BDD!$BH$2:$BH$3,\"Banc cisaillementVRAIFAUXVRAIFAUXFAUX\",BDD!$Z$2:$Z$3)","v":0},{"$f":"SUMIF(BDD!$BH$2:$BH$3,\"Banc cisaillementVRAIFAUXFAUXVRAIFAUX\",BDD!$Z$2:$Z$3)","v":0},{"$f":"SUMIF(BDD!$BH$2:$BH$3,\"Banc cisaillementVRAIFAUXFAUXFAUXVRAI\",BDD!$Z$2:$Z$3)","v":0},{"$f":"SUMIF(BDD!$BH$2:$BH$3,\"Banc cisaillementFAUXVRAIVRAIFAUXFAUX\",BDD!$Z$2:$Z$3)","v":0},{"$f":"SUMIF(BDD!$BH$2:$BH$3,\"Banc cisaillementFAUXVRAIFAUXVRAIFAUX\",BDD!$Z$2:$Z$3)","v":0},{"$f":"SUMIF(BDD!$BH$2:$BH$3,\"Banc cisaillementFAUXVRAIFAUXFAUXVRAI\",BDD!$Z$2:$Z$3)","v":0},{"$f":"SUMIF(BDD!$BH$2:$BH$3,\"Banc cisaillementVRAIFAUXVRAIFAUXFAUX\",BDD!$Z$2:$Z$3)","v":0},{"$f":"SUMIF(BDD!$BH$2:$BH$3,\"Banc cisaillementVRAIFAUXFAUXVRAIFAUX\",BDD!$Z$2:$Z$3)","v":0},{"$f":"SUMIF(BDD!$BH$2:$BH$3,\"Banc cisaillementVRAIFAUXFAUXFAUXVRAI\",BDD!$Z$2:$Z$3)","v":0},{"$f":"SUMIF(BDD!$BH$2:$BH$3,\"Banc cisaillementFAUXVRAIVRAIFAUXFAUX\",BDD!$Z$2:$Z$3)","v":0},{"$f":"SUMIF(BDD!$BH$2:$BH$3,\"Banc cisaillementFAUXVRAIFAUXVRAIFAUX\",BDD!$Z$2:$Z$3)","v":0},{"$f":"SUMIF(BDD!$BH$2:$BH$3,\"Banc cisaillementFAUXVRAIFAUXFAUXVRAI\",BDD!$Z$2:$Z$3)","v":0}]
["Banc HP",{"$f":"SUMIF(BDD!$BH$2:$BH$3,\"Banc HPVRAIFAUXVRAIFAUXFAUX\",BDD!$Z$2:$Z$3)","v":0},{"$f":"SUMIF(BDD!$BH$2:$BH$3,\"Banc HPVRAIFAUXFAUXVRAIFAUX\",BDD!$Z$2:$Z$3)","v":0},{"$f":"SUMIF(BDD!$BH$2:$BH$3,\"Banc HPVRAIFAUXFAUXFAUXVRAI\",BDD!$Z$2:$Z$3)","v":0},{"$f":"SUMIF(BDD!$BH$2:$BH$3,\"Banc HPFAUXVRAIVRAIFAUXFAUX\",BDD!$Z$2:$Z$3)","v":0},{"$f":"SUMIF(BDD!$BH$2:$BH$3,\"Banc HPFAUXVRAIFAUXVRAIFAUX\",BDD!$Z$2:$Z$3)","v":0},{"$f":"SUMIF(BDD!$BH$2:$BH$3,\"Banc HPFAUXVRAIFAUXFAUXVRAI\",BDD!$Z$2:$Z$3)","v":0},{"$f":"SUMIF(BDD!$BH$2:$BH$3,\"Banc HPVRAIFAUXVRAIFAUXFAUX\",BDD!$Z$2:$Z$3)","v":0},{"$f":"SUMIF(BDD!$BH$2:$BH$3,\"Banc HPVRAIFAUXFAUXVRAIFAUX\",BDD!$Z$2:$Z$3)","v":0},{"$f":"SUMIF(BDD!$BH$2:$BH$3,\"Banc HPVRAIFAUXFAUXFAUXVRAI\",BDD!$Z$2:$Z$3)","v":0},{"$f":"SUMIF(BDD!$BH$2:$BH$3,\"Banc HPFAUXVRAIVRAIFAUXFAUX\",BDD!$Z$2:$Z$3)","v":0},{"$f":"SUMIF(BDD!$BH$2:$BH$3,\"Banc HPFAUXVRAIFAUXVRAIFAUX\",BDD!$Z$2:$Z$3)","v":0},{"$f":"SUMIF(BDD!$BH$2:$BH$3,\"Banc HPFAUXVRAIFAUXFAUXVRAI\",BDD!$Z$2:$Z$3)","v":0},{"$f":"SUMIF(BDD!$BH$2:$BH$25,\"Banc HPVRAIFAUXVRAIFAUXFAUX\",BDD!$Z$2:$Z$25)","v":0},{"$f":"SUMIF(BDD!$BH$2:$BH$25,\"Banc HPVRAIFAUXFAUXVRAIFAUX\",BDD!$Z$2:$Z$25)","v":0},{"$f":"SUMIF(BDD!$BH$2:$BH$25,\"Banc HPVRAIFAUXFAUXFAUXVRAI\",BDD!$Z$2:$Z$25)","v":0},{"$f":"SUMIF(BDD!$BH$2:$BH$25,\"Banc HPFAUXVRAIVRAIFAUXFAUX\",BDD!$Z$2:$Z$25)","v":0},{"$f":"SUMIF(BDD!$BH$2:$BH$25,\"Banc HPFAUXVRAIFAUXVRAIFAUX\",BDD!$Z$2:$Z$25)","v":0},{"$f":"SUMIF(BDD!$BH$2:$BH$25,\"Banc HPFAUXVRAIFAUXFAUXVRAI\",BDD!$Z$2:$Z$25)","v":0},{"$f":"SUMIF(BDD!$BH$26:$BH$26,\"Banc HPVRAIFAUXVRAIFAUXFAUX\",BDD!$Z$26:$Z$26)","v":0},{"$f":"SUMIF(BDD!$BH$26:$BH$26,\"Banc HPVRAIFAUXFAUXVRAIFAUX\",BDD!$Z$26:$Z$26)","v":0},{"$f":"SUMIF(BDD!$BH$26:$BH$26,\"Banc HPVRAIFAUXFAUXFAUXVRAI\",BDD!$Z$26:$Z$26)","v":0},{"$f":"SUMIF(BDD!$BH$26:$BH$26,\"Banc HPFAUXVRAIVRAIFAUXFAUX\",BDD!$Z$26:$Z$26)","v":0},{"$f":"SUMIF(BDD!$BH$26:$BH$26,\"Banc HPFAUXVRAIFAUXVRAIFAUX\",BDD!$Z$26:$Z$26)","v":0},{"$f":"SUMIF(BDD!$BH$26:$BH$26,\"Banc HPFAUXVRAIFAUXFAUXVRAI\",BDD!$Z$26:$Z$26)","v":0},{"$f":"SUMIF(BDD!$BH$2:$BH$3,\"Banc HPVRAIFAUXVRAIFAUXFAUX\",BDD!$Z$2:$Z$3)","v":0},{"$f":"SUMIF(BDD!$BH$2:$BH$3,\"Banc HPVRAIFAUXFAUXVRAIFAUX\",BDD!$Z$2:$Z$3)","v":0},{"$f":"SUMIF(BDD!$BH$2:$BH$3,\"Banc HPVRAIFAUXFAUXFAUXVRAI\",BDD!$Z$2:$Z$3)","v":0},{"$f":"SUMIF(BDD!$BH$2:$BH$3,\"Banc HPFAUXVRAIVRAIFAUXFAUX\",BDD!$Z$2:$Z$3)","v":0},{"$f":"SUMIF(BDD!$BH$2:$BH$3,\"Banc HPFAUXVRAIFAUXVRAIFAUX\",BDD!$Z$2:$Z$3)","v":0},{"$f":"SUMIF(BDD!$BH$2:$BH$3,\"Banc HPFAUXVRAIFAUXFAUXVRAI\",BDD!$Z$2:$Z$3)","v":0},{"$f":"SUMIF(BDD!$BH$2:$BH$3,\"Banc HPVRAIFAUXVRAIFAUXFAUX\",BDD!$Z$2:$Z$3)","v":0},{"$f":"SUMIF(BDD!$BH$2:$BH$3,\"Banc HPVRAIFAUXFAUXVRAIFAUX\",BDD!$Z$2:$Z$3)","v":0},{"$f":"SUMIF(BDD!$BH$2:$BH$3,\"Banc HPVRAIFAUXFAUXFAUXVRAI\",BDD!$Z$2:$Z$3)","v":0},{"$f":"SUMIF(BDD!$BH$2:$BH$3,\"Banc HPFAUXVRAIVRAIFAUXFAUX\",BDD!$Z$2:$Z$3)","v":0},{"$f":"SUMIF(BDD!$BH$2:$BH$3,\"Banc HPFAUXVRAIFAUXVRAIFAUX\",BDD!$Z$2:$Z$3)","v":0},{"$f":"SUMIF(BDD!$BH$2:$BH$3,\"Banc HPFAUXVRAIFAUXFAUXVRAI\",BDD!$Z$2:$Z$3)","v":0},{"$f":"SUMIF(BDD!$BH$2:$BH$3,\"Banc HPVRAIFAUXVRAIFAUXFAUX\",BDD!$Z$2:$Z$3)","v":0},{"$f":"SUMIF(BDD!$BH$2:$BH$3,\"Banc HPVRAIFAUXFAUXVRAIFAUX\",BDD!$Z$2:$Z$3)","v":0},{"$f":"SUMIF(BDD!$BH$2:$BH$3,\"Banc HPVRAIFAUXFAUXFAUXVRAI\",BDD!$Z$2:$Z$3)","v":0},{"$f":"SUMIF(BDD!$BH$2:$BH$3,\"Banc HPFAUXVRAIVRAIFAUXFAUX\",BDD!$Z$2:$Z$3)","v":0},{"$f":"SUMIF(BDD!$BH$2:$BH$3,\"Banc HPFAUXVRAIFAUXVRAIFAUX\",BDD!$Z$2:$Z$3)","v":0},{"$f":"SUMIF(BDD!$BH$2:$BH$3,\"Banc HPFAUXVRAIFAUXFAUXVRAI\",BDD!$Z$2:$Z$3)","v":0},{"$f":"SUMIF(BDD!$BH$2:$BH$3,\"Banc HPVRAIFAUXVRAIFAUXFAUX\",BDD!$Z$2:$Z$3)","v":0},{"$f":"SUMIF(BDD!$BH$2:$BH$3,\"Banc HPVRAIFAUXFAUXVRAIFAUX\",BDD!$Z$2:$Z$3)","v":0},{"$f":"SUMIF(BDD!$BH$2:$BH$3,\"Banc HPVRAIFAUXFAUXFAUXVRAI\",BDD!$Z$2:$Z$3)","v":0},{"$f":"SUMIF(BDD!$BH$2:$BH$3,\"Banc HPFAUXVRAIVRAIFAUXFAUX\",BDD!$Z$2:$Z$3)","v":0},{"$f":"SUMIF(BDD!$BH$2:$BH$3,\"Banc HPFAUXVRAIFAUXVRAIFAUX\",BDD!$Z$2:$Z$3)","v":0},{"$f":"SUMIF(BDD!$BH$2:$BH$3,\"Banc HPFAUXVRAIFAUXFAUXVRAI\",BDD!$Z$2:$Z$3)","v":0},{"$f":"SUMIF(BDD!$BH$2:$BH$3,\"Banc HPVRAIFAUXVRAIFAUXFAUX\",BDD!$Z$2:$Z$3)","v":0},{"$f":"SUMIF(BDD!$BH$2:$BH$3,\"Banc HPVRAIFAUXFAUXVRAIFAUX\",BDD!$Z$2:$Z$3)","v":0},{"$f":"SUMIF(BDD!$BH$2:$BH$3,\"Banc HPVRAIFAUXFAUXFAUXVRAI\",BDD!$Z$2:$Z$3)","v":0},{"$f":"SUMIF(BDD!$BH$2:$BH$3,\"Banc HPFAUXVRAIVRAIFAUXFAUX\",BDD!$Z$2:$Z$3)","v":0},{"$f":"SUMIF(BDD!$BH$2:$BH$3,\"Banc HPFAUXVRAIFAUXVRAIFAUX\",BDD!$Z$2:$Z$3)","v":0},{"$f":"SUMIF(BDD!$BH$2:$BH$3,\"Banc HPFAUXVRAIFAUXFAUXVRAI\",BDD!$Z$2:$Z$3)","v":0},{"$f":"SUMIF(BDD!$BH$2:$BH$3,\"Banc HPVRAIFAUXVRAIFAUXFAUX\",BDD!$Z$2:$Z$3)","v":0},{"$f":"SUMIF(BDD!$BH$2:$BH$3,\"Banc HPVRAIFAUXFAUXVRAIFAUX\",BDD!$Z$2:$Z$3)","v":0},{"$f":"SUMIF(BDD!$BH$2:$BH$3,\"Banc HPVRAIFAUXFAUXFAUXVRAI\",BDD!$Z$2:$Z$3)","v":0},{"$f":"SUMIF(BDD!$BH$2:$BH$3,\"Banc HPFAUXVRAIVRAIFAUXFAUX\",BDD!$Z$2:$Z$3)","v":0},{"$f":"SUMIF(BDD!$BH$2:$BH$3,\"Banc HPFAUXVRAIFAUXVRAIFAUX\",BDD!$Z$2:$Z$3)","v":0},{"$f":"SUMIF(BDD!$BH$2:$BH$3,\"Banc HPFAUXVRAIFAUXFAUXVRAI\",BDD!$Z$2:$Z$3)","v":0},{"$f":"SUMIF(BDD!$BH$2:$BH$3,\"Banc HPVRAIFAUXVRAIFAUXFAUX\",BDD!$Z$2:$Z$3)","v":0},{"$f":"SUMIF(BDD!$BH$2:$BH$3,\"Banc HPVRAIFAUXFAUXVRAIFAUX\",BDD!$Z$2:$Z$3)","v":0},{"$f":"SUMIF(BDD!$BH$2:$BH$3,\"Banc HPVRAIFAUXFAUXFAUXVRAI\",BDD!$Z$2:$Z$3)","v":0},{"$f":"SUMIF(BDD!$BH$2:$BH$3,\"Banc HPFAUXVRAIVRAIFAUXFAUX\",BDD!$Z$2:$Z$3)","v":0},{"$f":"SUMIF(BDD!$BH$2:$BH$3,\"Banc HPFAUXVRAIFAUXVRAIFAUX\",BDD!$Z$2:$Z$3)","v":0},{"$f":"SUMIF(BDD!$BH$2:$BH$3,\"Banc HPFAUXVRAIFAUXFAUXVRAI\",BDD!$Z$2:$Z$3)","v":0},{"$f":"SUMIF(BDD!$BH$2:$BH$3,\"Banc HPVRAIFAUXVRAIFAUXFAUX\",BDD!$Z$2:$Z$3)","v":0},{"$f":"SUMIF(BDD!$BH$2:$BH$3,\"Banc HPVRAIFAUXFAUXVRAIFAUX\",BDD!$Z$2:$Z$3)","v":0},{"$f":"SUMIF(BDD!$BH$2:$BH$3,\"Banc HPVRAIFAUXFAUXFAUXVRAI\",BDD!$Z$2:$Z$3)","v":0},{"$f":"SUMIF(BDD!$BH$2:$BH$3,\"Banc HPFAUXVRAIVRAIFAUXFAUX\",BDD!$Z$2:$Z$3)","v":0},{"$f":"SUMIF(BDD!$BH$2:$BH$3,\"Banc HPFAUXVRAIFAUXVRAIFAUX\",BDD!$Z$2:$Z$3)","v":0},{"$f":"SUMIF(BDD!$BH$2:$BH$3,\"Banc HPFAUXVRAIFAUXFAUXVRAI\",BDD!$Z$2:$Z$3)","v":0}]
["Banc W+B",{"$f":"SUMIF(BDD!$BH$2:$BH$3,\"Banc W+BVRAIFAUXVRAIFAUXFAUX\",BDD!$Z$2:$Z$3)","v":0},{"$f":"SUMIF(BDD!$BH$2:$BH$3,\"Banc W+BVRAIFAUXFAUXVRAIFAUX\",BDD!$Z$2:$Z$3)","v":0},{"$f":"SUMIF(BDD!$BH$2:$BH$3,\"Banc W+BVRAIFAUXFAUXFAUXVRAI\",BDD!$Z$2:$Z$3)","v":0},{"$f":"SUMIF(BDD!$BH$2:$BH$3,\"Banc W+BFAUXVRAIVRAIFAUXFAUX\",BDD!$Z$2:$Z$3)","v":0},{"$f":"SUMIF(BDD!$BH$2:$BH$3,\"Banc W+BFAUXVRAIFAUXVRAIFAUX\",BDD!$Z$2:$Z$3)","v":0},{"$f":"SUMIF(BDD!$BH$2:$BH$3,\"Banc W+BFAUXVRAIFAUXFAUXVRAI\",BDD!$Z$2:$Z$3)","v":0},{"$f":"SUMIF(BDD!$BH$2:$BH$3,\"Banc W+BVRAIFAUXVRAIFAUXFAUX\",BDD!$Z$2:$Z$3)","v":0},{"$f":"SUMIF(BDD!$BH$2:$BH$3,\"Banc W+BVRAIFAUXFAUXVRAIFAUX\",BDD!$Z$2:$Z$3)","v":0},{"$f":"SUMIF(BDD!$BH$2:$BH$3,\"Banc W+BVRAIFAUXFAUXFAUXVRAI\",BDD!$Z$2:$Z$3)","v":0},{"$f":"SUMIF(BDD!$BH$2:$BH$3,\"Banc W+BFAUXVRAIVRAIFAUXFAUX\",BDD!$Z$2:$Z$3)","v":0},{"$f":"SUMIF(BDD!$BH$2:$BH$3,\"Banc W+BFAUXVRAIFAUXVRAIFAUX\",BDD!$Z$2:$Z$3)","v":0},{"$f":"SUMIF(BDD!$BH$2:$BH$3,\"Banc W+BFAUXVRAIFAUXFAUXVRAI\",BDD!$Z$2:$Z$3)","v":0},{"$f":"SUMIF(BDD!$BH$2:$BH$25,\"Banc W+BVRAIFAUXVRAIFAUXFAUX\",BDD!$Z$2:$Z$25)","v":0},{"$f":"SUMIF(BDD!$BH$2:$BH$25,\"Banc W+BVRAIFAUXFAUXVRAIFAUX\",BDD!$Z$2:$Z$25)","v":0},{"$f":"SUMIF(BDD!$BH$2:$BH$25,\"Banc W+BVRAIFAUXFAUXFAUXVRAI\",BDD!$Z$2:$Z$25)","v":0},{"$f":"SUMIF(BDD!$BH$2:$BH$25,\"Banc W+BFAUXVRAIVRAIFAUXFAUX\",BDD!$Z$2:$Z$25)","v":0},{"$f":"SUMIF(BDD!$BH$2:$BH$25,\"Banc W+BFAUXVRAIFAUXVRAIFAUX\",BDD!$Z$2:$Z$25)","v":0},{"$f":"SUMIF(BDD!$BH$2:$BH$25,\"Banc W+BFAUXVRAIFAUXFAUXVRAI\",BDD!$Z$2:$Z$25)","v":0},{"$f":"SUMIF(BDD!$BH$26:$BH$26,\"Banc W+BVRAIFAUXVRAIFAUXFAUX\",BDD!$Z$26:$Z$26)","v":0},{"$f":"SUMIF(BDD!$BH$26:$BH$26,\"Banc W+BVRAIFAUXFAUXVRAIFAUX\",BDD!$Z$26:$Z$26)","v":0},{"$f":"SUMIF(BDD!$BH$26:$BH$26,\"Banc W+BVRAIFAUXFAUXFAUXVRAI\",BDD!$Z$26:$Z$26)","v":0},{"$f":"SUMIF(BDD!$BH$26:$BH$26,\"Banc W+BFAUXVRAIVRAIFAUXFAUX\",BDD!$Z$26:$Z$26)","v":0},{"$f":"SUMIF(BDD!$BH$26:$BH$26,\"Banc W+BFAUXVRAIFAUXVRAIFAUX\",BDD!$Z$26:$Z$26)","v":0},{"$f":"SUMIF(BDD!$BH$26:$BH$26,\"Banc W+BFAUXVRAIFAUXFAUXVRAI\",BDD!$Z$26:$Z$26)","v":0},{"$f":"SUMIF(BDD!$BH$2:$BH$3,\"Banc W+BVRAIFAUXVRAIFAUXFAUX\",BDD!$Z$2:$Z$3)","v":0},{"$f":"SUMIF(BDD!$BH$2:$BH$3,\"Banc W+BVRAIFAUXFAUXVRAIFAUX\",BDD!$Z$2:$Z$3)","v":0},{"$f":"SUMIF(BDD!$BH$2:$BH$3,\"Banc W+BVRAIFAUXFAUXFAUXVRAI\",BDD!$Z$2:$Z$3)","v":0},{"$f":"SUMIF(BDD!$BH$2:$BH$3,\"Banc W+BFAUXVRAIVRAIFAUXFAUX\",BDD!$Z$2:$Z$3)","v":0},{"$f":"SUMIF(BDD!$BH$2:$BH$3,\"Banc W+BFAUXVRAIFAUXVRAIFAUX\",BDD!$Z$2:$Z$3)","v":0},{"$f":"SUMIF(BDD!$BH$2:$BH$3,\"Banc W+BFAUXVRAIFAUXFAUXVRAI\",BDD!$Z$2:$Z$3)","v":0},{"$f":"SUMIF(BDD!$BH$2:$BH$3,\"Banc W+BVRAIFAUXVRAIFAUXFAUX\",BDD!$Z$2:$Z$3)","v":0},{"$f":"SUMIF(BDD!$BH$2:$BH$3,\"Banc W+BVRAIFAUXFAUXVRAIFAUX\",BDD!$Z$2:$Z$3)","v":0},{"$f":"SUMIF(BDD!$BH$2:$BH$3,\"Banc W+BVRAIFAUXFAUXFAUXVRAI\",BDD!$Z$2:$Z$3)","v":0},{"$f":"SUMIF(BDD!$BH$2:$BH$3,\"Banc W+BFAUXVRAIVRAIFAUXFAUX\",BDD!$Z$2:$Z$3)","v":0},{"$f":"SUMIF(BDD!$BH$2:$BH$3,\"Banc W+BFAUXVRAIFAUXVRAIFAUX\",BDD!$Z$2:$Z$3)","v":0},{"$f":"SUMIF(BDD!$BH$2:$BH$3,\"Banc W+BFAUXVRAIFAUXFAUXVRAI\",BDD!$Z$2:$Z$3)","v":0},{"$f":"SUMIF(BDD!$BH$2:$BH$3,\"Banc W+BVRAIFAUXVRAIFAUXFAUX\",BDD!$Z$2:$Z$3)","v":0},{"$f":"SUMIF(BDD!$BH$2:$BH$3,\"Banc W+BVRAIFAUXFAUXVRAIFAUX\",BDD!$Z$2:$Z$3)","v":0},{"$f":"SUMIF(BDD!$BH$2:$BH$3,\"Banc W+BVRAIFAUXFAUXFAUXVRAI\",BDD!$Z$2:$Z$3)","v":0},{"$f":"SUMIF(BDD!$BH$2:$BH$3,\"Banc W+BFAUXVRAIVRAIFAUXFAUX\",BDD!$Z$2:$Z$3)","v":0},{"$f":"SUMIF(BDD!$BH$2:$BH$3,\"Banc W+BFAUXVRAIFAUXVRAIFAUX\",BDD!$Z$2:$Z$3)","v":0},{"$f":"SUMIF(BDD!$BH$2:$BH$3,\"Banc W+BFAUXVRAIFAUXFAUXVRAI\",BDD!$Z$2:$Z$3)","v":0},{"$f":"SUMIF(BDD!$BH$2:$BH$3,\"Banc W+BVRAIFAUXVRAIFAUXFAUX\",BDD!$Z$2:$Z$3)","v":0},{"$f":"SUMIF(BDD!$BH$2:$BH$3,\"Banc W+BVRAIFAUXFAUXVRAIFAUX\",BDD!$Z$2:$Z$3)","v":0},{"$f":"SUMIF(BDD!$BH$2:$BH$3,\"Banc W+BVRAIFAUXFAUXFAUXVRAI\",BDD!$Z$2:$Z$3)","v":0},{"$f":"SUMIF(BDD!$BH$2:$BH$3,\"Banc W+BFAUXVRAIVRAIFAUXFAUX\",BDD!$Z$2:$Z$3)","v":0},{"$f":"SUMIF(BDD!$BH$2:$BH$3,\"Banc W+BFAUXVRAIFAUXVRAIFAUX\",BDD!$Z$2:$Z$3)","v":0},{"$f":"SUMIF(BDD!$BH$2:$BH$3,\"Banc W+BFAUXVRAIFAUXFAUXVRAI\",BDD!$Z$2:$Z$3)","v":0},{"$f":"SUMIF(BDD!$BH$2:$BH$3,\"Banc W+BVRAIFAUXVRAIFAUXFAUX\",BDD!$Z$2:$Z$3)","v":0},{"$f":"SUMIF(BDD!$BH$2:$BH$3,\"Banc W+BVRAIFAUXFAUXVRAIFAUX\",BDD!$Z$2:$Z$3)","v":0},{"$f":"SUMIF(BDD!$BH$2:$BH$3,\"Banc W+BVRAIFAUXFAUXFAUXVRAI\",BDD!$Z$2:$Z$3)","v":0},{"$f":"SUMIF(BDD!$BH$2:$BH$3,\"Banc W+BFAUXVRAIVRAIFAUXFAUX\",BDD!$Z$2:$Z$3)","v":0},{"$f":"SUMIF(BDD!$BH$2:$BH$3,\"Banc W+BFAUXVRAIFAUXVRAIFAUX\",BDD!$Z$2:$Z$3)","v":0},{"$f":"SUMIF(BDD!$BH$2:$BH$3,\"Banc W+BFAUXVRAIFAUXFAUXVRAI\",BDD!$Z$2:$Z$3)","v":0},{"$f":"SUMIF(BDD!$BH$2:$BH$3,\"Banc W+BVRAIFAUXVRAIFAUXFAUX\",BDD!$Z$2:$Z$3)","v":0},{"$f":"SUMIF(BDD!$BH$2:$BH$3,\"Banc W+BVRAIFAUXFAUXVRAIFAUX\",BDD!$Z$2:$Z$3)","v":0},{"$f":"SUMIF(BDD!$BH$2:$BH$3,\"Banc W+BVRAIFAUXFAUXFAUXVRAI\",BDD!$Z$2:$Z$3)","v":0},{"$f":"SUMIF(BDD!$BH$2:$BH$3,\"Banc W+BFAUXVRAIVRAIFAUXFAUX\",BDD!$Z$2:$Z$3)","v":0},{"$f":"SUMIF(BDD!$BH$2:$BH$3,\"Banc W+BFAUXVRAIFAUXVRAIFAUX\",BDD!$Z$2:$Z$3)","v":0},{"$f":"SUMIF(BDD!$BH$2:$BH$3,\"Banc W+BFAUXVRAIFAUXFAUXVRAI\",BDD!$Z$2:$Z$3)","v":0},{"$f":"SUMIF(BDD!$BH$2:$BH$3,\"Banc W+BVRAIFAUXVRAIFAUXFAUX\",BDD!$Z$2:$Z$3)","v":0},{"$f":"SUMIF(BDD!$BH$2:$BH$3,\"Banc W+BVRAIFAUXFAUXVRAIFAUX\",BDD!$Z$2:$Z$3)","v":0},{"$f":"SUMIF(BDD!$BH$2:$BH$3,\"Banc W+BVRAIFAUXFAUXFAUXVRAI\",BDD!$Z$2:$Z$3)","v":0},{"$f":"SUMIF(BDD!$BH$2:$BH$3,\"Banc W+BFAUXVRAIVRAIFAUXFAUX\",BDD!$Z$2:$Z$3)","v":0},{"$f":"SUMIF(BDD!$BH$2:$BH$3,\"Banc W+BFAUXVRAIFAUXVRAIFAUX\",BDD!$Z$2:$Z$3)","v":0},{"$f":"SUMIF(BDD!$BH$2:$BH$3,\"Banc W+BFAUXVRAIFAUXFAUXVRAI\",BDD!$Z$2:$Z$3)","v":0},{"$f":"SUMIF(BDD!$BH$2:$BH$3,\"Banc W+BVRAIFAUXVRAIFAUXFAUX\",BDD!$Z$2:$Z$3)","v":0},{"$f":"SUMIF(BDD!$BH$2:$BH$3,\"Banc W+BVRAIFAUXFAUXVRAIFAUX\",BDD!$Z$2:$Z$3)","v":0},{"$f":"SUMIF(BDD!$BH$2:$BH$3,\"Banc W+BVRAIFAUXFAUXFAUXVRAI\",BDD!$Z$2:$Z$3)","v":0},{"$f":"SUMIF(BDD!$BH$2:$BH$3,\"Banc W+BFAUXVRAIVRAIFAUXFAUX\",BDD!$Z$2:$Z$3)","v":0},{"$f":"SUMIF(BDD!$BH$2:$BH$3,\"Banc W+BFAUXVRAIFAUXVRAIFAUX\",BDD!$Z$2:$Z$3)","v":0},{"$f":"SUMIF(BDD!$BH$2:$BH$3,\"Banc W+BFAUXVRAIFAUXFAUXVRAI\",BDD!$Z$2:$Z$3)","v":0}]
["Ressort verticale",{"$f":"SUMIF(BDD!$BH$2:$BH$3,\"Ressort verticaleVRAIFAUXVRAIFAUXFAUX\",BDD!$Z$2:$Z$3)","v":0},{"$f":"SUMIF(BDD!$BH$2:$BH$3,\"Ressort verticaleVRAIFAUXFAUXVRAIFAUX\",BDD!$Z$2:$Z$3)","v":0},{"$f":"SUMIF(BDD!$BH$2:$BH$3,\"Ressort verticaleVRAIFAUXFAUXFAUXVRAI\",BDD!$Z$2:$Z$3)","v":0},{"$f":"SUMIF(BDD!$BH$2:$BH$3,\"Ressort verticaleFAUXVRAIVRAIFAUXFAUX\",BDD!$Z$2:$Z$3)","v":0},{"$f":"SUMIF(BDD!$BH$2:$BH$3,\"Ressort verticaleFAUXVRAIFAUXVRAIFAUX\",BDD!$Z$2:$Z$3)","v":0},{"$f":"SUMIF(BDD!$BH$2:$BH$3,\"Ressort verticaleFAUXVRAIFAUXFAUXVRAI\",BDD!$Z$2:$Z$3)","v":0},{"$f":"SUMIF(BDD!$BH$2:$BH$3,\"Ressort verticaleVRAIFAUXVRAIFAUXFAUX\",BDD!$Z$2:$Z$3)","v":0},{"$f":"SUMIF(BDD!$BH$2:$BH$3,\"Ressort verticaleVRAIFAUXFAUXVRAIFAUX\",BDD!$Z$2:$Z$3)","v":0},{"$f":"SUMIF(BDD!$BH$2:$BH$3,\"Ressort verticaleVRAIFAUXFAUXFAUXVRAI\",BDD!$Z$2:$Z$3)","v":0},{"$f":"SUMIF(BDD!$BH$2:$BH$3,\"Ressort verticaleFAUXVRAIVRAIFAUXFAUX\",BDD!$Z$2:$Z$3)","v":0},{"$f":"SUMIF(BDD!$BH$2:$BH$3,\"Ressort verticaleFAUXVRAIFAUXVRAIFAUX\",BDD!$Z$2:$Z$3)","v":0},{"$f":"SUMIF(BDD!$BH$2:$BH$3,\"Ressort verticaleFAUXVRAIFAUXFAUXVRAI\",BDD!$Z$2:$Z$3)","v":0},{"$f":"SUMIF(BDD!$BH$2:$BH$25,\"Ressort verticaleVRAIFAUXVRAIFAUXFAUX\",BDD!$Z$2:$Z$25)","v":0},{"$f":"SUMIF(BDD!$BH$2:$BH$25,\"Ressort verticaleVRAIFAUXFAUXVRAIFAUX\",BDD!$Z$2:$Z$25)","v":0},{"$f":"SUMIF(BDD!$BH$2:$BH$25,\"Ressort verticaleVRAIFAUXFAUXFAUXVRAI\",BDD!$Z$2:$Z$25)","v":0},{"$f":"SUMIF(BDD!$BH$2:$BH$25,\"Ressort verticaleFAUXVRAIVRAIFAUXFAUX\",BDD!$Z$2:$Z$25)","v":0},{"$f":"SUMIF(BDD!$BH$2:$BH$25,\"Ressort verticaleFAUXVRAIFAUXVRAIFAUX\",BDD!$Z$2:$Z$25)","v":0},{"$f":"SUMIF(BDD!$BH$2:$BH$25,\"Ressort verticaleFAUXVRAIFAUXFAUXVRAI\",BDD!$Z$2:$Z$25)","v":0},{"$f":"SUMIF(BDD!$BH$26:$BH$26,\"Ressort verticaleVRAIFAUXVRAIFAUXFAUX\",BDD!$Z$26:$Z$26)","v":0},{"$f":"SUMIF(BDD!$BH$26:$BH$26,\"Ressort verticaleVRAIFAUXFAUXVRAIFAUX\",BDD!$Z$26:$Z$26)","v":0},{"$f":"SUMIF(BDD!$BH$26:$BH$26,\"Ressort verticaleVRAIFAUXFAUXFAUXVRAI\",BDD!$Z$26:$Z$26)","v":0},{"$f":"SUMIF(BDD!$BH$26:$BH$26,\"Ressort verticaleFAUXVRAIVRAIFAUXFAUX\",BDD!$Z$26:$Z$26)","v":0},{"$f":"SUMIF(BDD!$BH$26:$BH$26,\"Ressort verticaleFAUXVRAIFAUXVRAIFAUX\",BDD!$Z$26:$Z$26)","v":0},{"$f":"SUMIF(BDD!$BH$26:$BH$26,\"Ressort verticaleFAUXVRAIFAUXFAUXVRAI\",BDD!$Z$26:$Z$26)","v":0},{"$f":"SUMIF(BDD!$BH$2:$BH$3,\"Ressort verticaleVRAIFAUXVRAIFAUXFAUX\",BDD!$Z$2:$Z$3)","v":0},{"$f":"SUMIF(BDD!$BH$2:$BH$3,\"Ressort verticaleVRAIFAUXFAUXVRAIFAUX\",BDD!$Z$2:$Z$3)","v":0},{"$f":"SUMIF(BDD!$BH$2:$BH$3,\"Ressort verticaleVRAIFAUXFAUXFAUXVRAI\",BDD!$Z$2:$Z$3)","v":0},{"$f":"SUMIF(BDD!$BH$2:$BH$3,\"Ressort verticaleFAUXVRAIVRAIFAUXFAUX\",BDD!$Z$2:$Z$3)","v":0},{"$f":"SUMIF(BDD!$BH$2:$BH$3,\"Ressort verticaleFAUXVRAIFAUXVRAIFAUX\",BDD!$Z$2:$Z$3)","v":0},{"$f":"SUMIF(BDD!$BH$2:$BH$3,\"Ressort verticaleFAUXVRAIFAUXFAUXVRAI\",BDD!$Z$2:$Z$3)","v":0},{"$f":"SUMIF(BDD!$BH$2:$BH$3,\"Ressort verticaleVRAIFAUXVRAIFAUXFAUX\",BDD!$Z$2:$Z$3)","v":0},{"$f":"SUMIF(BDD!$BH$2:$BH$3,\"Ressort verticaleVRAIFAUXFAUXVRAIFAUX\",BDD!$Z$2:$Z$3)","v":0},{"$f":"SUMIF(BDD!$BH$2:$BH$3,\"Ressort verticaleVRAIFAUXFAUXFAUXVRAI\",BDD!$Z$2:$Z$3)","v":0},{"$f":"SUMIF(BDD!$BH$2:$BH$3,\"Ressort verticaleFAUXVRAIVRAIFAUXFAUX\",BDD!$Z$2:$Z$3)","v":0},{"$f":"SUMIF(BDD!$BH$2:$BH$3,\"Ressort verticaleFAUXVRAIFAUXVRAIFAUX\",BDD!$Z$2:$Z$3)","v":0},{"$f":"SUMIF(BDD!$BH$2:$BH$3,\"Ressort verticaleFAUXVRAIFAUXFAUXVRAI\",BDD!$Z$2:$Z$3)","v":0},{"$f":"SUMIF(BDD!$BH$2:$BH$3,\"Ressort verticaleVRAIFAUXVRAIFAUXFAUX\",BDD!$Z$2:$Z$3)","v":0},{"$f":"SUMIF(BDD!$BH$2:$BH$3,\"Ressort verticaleVRAIFAUXFAUXVRAIFAUX\",BDD!$Z$2:$Z$3)","v":0},{"$f":"SUMIF(BDD!$BH$2:$BH$3,\"Ressort verticaleVRAIFAUXFAUXFAUXVRAI\",BDD!$Z$2:$Z$3)","v":0},{"$f":"SUMIF(BDD!$BH$2:$BH$3,\"Ressort verticaleFAUXVRAIVRAIFAUXFAUX\",BDD!$Z$2:$Z$3)","v":0},{"$f":"SUMIF(BDD!$BH$2:$BH$3,\"Ressort verticaleFAUXVRAIFAUXVRAIFAUX\",BDD!$Z$2:$Z$3)","v":0},{"$f":"SUMIF(BDD!$BH$2:$BH$3,\"Ressort verticaleFAUXVRAIFAUXFAUXVRAI\",BDD!$Z$2:$Z$3)","v":0},{"$f":"SUMIF(BDD!$BH$2:$BH$3,\"Ressort verticaleVRAIFAUXVRAIFAUXFAUX\",BDD!$Z$2:$Z$3)","v":0},{"$f":"SUMIF(BDD!$BH$2:$BH$3,\"Ressort verticaleVRAIFAUXFAUXVRAIFAUX\",BDD!$Z$2:$Z$3)","v":0},{"$f":"SUMIF(BDD!$BH$2:$BH$3,\"Ressort verticaleVRAIFAUXFAUXFAUXVRAI\",BDD!$Z$2:$Z$3)","v":0},{"$f":"SUMIF(BDD!$BH$2:$BH$3,\"Ressort verticaleFAUXVRAIVRAIFAUXFAUX\",BDD!$Z$2:$Z$3)","v":0},{"$f":"SUMIF(BDD!$BH$2:$BH$3,\"Ressort verticaleFAUXVRAIFAUXVRAIFAUX\",BDD!$Z$2:$Z$3)","v":0},{"$f":"SUMIF(BDD!$BH$2:$BH$3,\"Ressort verticaleFAUXVRAIFAUXFAUXVRAI\",BDD!$Z$2:$Z$3)","v":0},{"$f":"SUMIF(BDD!$BH$2:$BH$3,\"Ressort verticaleVRAIFAUXVRAIFAUXFAUX\",BDD!$Z$2:$Z$3)","v":0},{"$f":"SUMIF(BDD!$BH$2:$BH$3,\"Ressort verticaleVRAIFAUXFAUXVRAIFAUX\",BDD!$Z$2:$Z$3)","v":0},{"$f":"SUMIF(BDD!$BH$2:$BH$3,\"Ressort verticaleVRAIFAUXFAUXFAUXVRAI\",BDD!$Z$2:$Z$3)","v":0},{"$f":"SUMIF(BDD!$BH$2:$BH$3,\"Ressort verticaleFAUXVRAIVRAIFAUXFAUX\",BDD!$Z$2:$Z$3)","v":0},{"$f":"SUMIF(BDD!$BH$2:$BH$3,\"Ressort verticaleFAUXVRAIFAUXVRAIFAUX\",BDD!$Z$2:$Z$3)","v":0},{"$f":"SUMIF(BDD!$BH$2:$BH$3,\"Ressort verticaleFAUXVRAIFAUXFAUXVRAI\",BDD!$Z$2:$Z$3)","v":0},{"$f":"SUMIF(BDD!$BH$2:$BH$3,\"Ressort verticaleVRAIFAUXVRAIFAUXFAUX\",BDD!$Z$2:$Z$3)","v":0},{"$f":"SUMIF(BDD!$BH$2:$BH$3,\"Ressort verticaleVRAIFAUXFAUXVRAIFAUX\",BDD!$Z$2:$Z$3)","v":0},{"$f":"SUMIF(BDD!$BH$2:$BH$3,\"Ressort verticaleVRAIFAUXFAUXFAUXVRAI\",BDD!$Z$2:$Z$3)","v":0},{"$f":"SUMIF(BDD!$BH$2:$BH$3,\"Ressort verticaleFAUXVRAIVRAIFAUXFAUX\",BDD!$Z$2:$Z$3)","v":0},{"$f":"SUMIF(BDD!$BH$2:$BH$3,\"Ressort verticaleFAUXVRAIFAUXVRAIFAUX\",BDD!$Z$2:$Z$3)","v":0},{"$f":"SUMIF(BDD!$BH$2:$BH$3,\"Ressort verticaleFAUXVRAIFAUXFAUXVRAI\",BDD!$Z$2:$Z$3)","v":0},{"$f":"SUMIF(BDD!$BH$2:$BH$3,\"Ressort verticaleVRAIFAUXVRAIFAUXFAUX\",BDD!$Z$2:$Z$3)","v":0},{"$f":"SUMIF(BDD!$BH$2:$BH$3,\"Ressort verticaleVRAIFAUXFAUXVRAIFAUX\",BDD!$Z$2:$Z$3)","v":0},{"$f":"SUMIF(BDD!$BH$2:$BH$3,\"Ressort verticaleVRAIFAUXFAUXFAUXVRAI\",BDD!$Z$2:$Z$3)","v":0},{"$f":"SUMIF(BDD!$BH$2:$BH$3,\"Ressort verticaleFAUXVRAIVRAIFAUXFAUX\",BDD!$Z$2:$Z$3)","v":0},{"$f":"SUMIF(BDD!$BH$2:$BH$3,\"Ressort verticaleFAUXVRAIFAUXVRAIFAUX\",BDD!$Z$2:$Z$3)","v":0},{"$f":"SUMIF(BDD!$BH$2:$BH$3,\"Ressort verticaleFAUXVRAIFAUXFAUXVRAI\",BDD!$Z$2:$Z$3)","v":0},{"$f":"SUMIF(BDD!$BH$2:$BH$3,\"Ressort verticaleVRAIFAUXVRAIFAUXFAUX\",BDD!$Z$2:$Z$3)","v":0},{"$f":"SUMIF(BDD!$BH$2:$BH$3,\"Ressort verticaleVRAIFAUXFAUXVRAIFAUX\",BDD!$Z$2:$Z$3)","v":0},{"$f":"SUMIF(BDD!$BH$2:$BH$3,\"Ressort verticaleVRAIFAUXFAUXFAUXVRAI\",BDD!$Z$2:$Z$3)","v":0},{"$f":"SUMIF(BDD!$BH$2:$BH$3,\"Ressort verticaleFAUXVRAIVRAIFAUXFAUX\",BDD!$Z$2:$Z$3)","v":0},{"$f":"SUMIF(BDD!$BH$2:$BH$3,\"Ressort verticaleFAUXVRAIFAUXVRAIFAUX\",BDD!$Z$2:$Z$3)","v":0},{"$f":"SUMIF(BDD!$BH$2:$BH$3,\"Ressort verticaleFAUXVRAIFAUXFAUXVRAI\",BDD!$Z$2:$Z$3)","v":0}]

{"sheet":"Indicateur Zone6","index":4,"n_rows":96,"n_cols":73,"rows_kept":96,"cut":false,"hidden":false,"merged":[[1,1,1,12],[31,1,31,12],[55,1,55,12],[56,1,56,2],[56,3,56,4],[56,5,56,6],[56,7,56,8],[56,9,56,10],[56,11,56,12],[56,23,56,24],[86,1,86,21],[87,1,87,6],[87,7,87,12],[87,13,87,18],[87,19,87,24],[56,13,56,14],[56,15,56,16],[56,17,56,18],[56,19,56,20],[56,21,56,22],[87,25,87,30],[87,31,87,36],[87,37,87,42],[87,43,87,48],[87,49,87,54],[87,55,87,60],[87,61,87,66],[87,67,87,72],[88,1,88,3],[88,4,88,6],[88,7,88,9],[88,10,88,12],[88,13,88,15],[88,16,88,18],[88,19,88,21],[88,22,88,24],[88,25,88,27],[88,28,88,30],[88,31,88,33],[88,34,88,36],[88,37,88,39],[88,40,88,42],[88,43,88,45],[88,46,88,48],[88,49,88,51],[88,52,88,54],[88,70,88,72],[88,55,88,57],[88,58,88,60],[88,61,88,63],[88,64,88,66],[88,67,88,69]]}
[]
[null,"Suivi des arrêts par banc"]
["Banc zone 6","Janvier","Février","Mars","Avril","Mai","Juin","Juillet","Août","Septembre","Octobre","Novembre","Décembre"]
["M73001 (Banc new P9)",{"$f":"SUMIF(BDD!$H$2:$H$3,'Indicateur Zone6'!$A4,BDD!$Z$2:$Z$3)","v":0},{"$f":"SUMIF(BDD!$H$2:$H$3,'Indicateur Zone6'!$A4,BDD!$Z$2:$Z$3)","v":0},{"$f":"SUMIF(BDD!$H$2:$H$683,'Indicateur Zone6'!$A$4,BDD!$Z$2:$Z$683)","v":0},{"$f":"SUMIF(BDD!$H$2:$H$3,'Indicateur Zone6'!$A4,BDD!$Z$2:$Z$3)","v":0},{"$f":"SUMIF(BDD!$H$2:$H$3,'Indicateur Zone6'!$A4,BDD!$Z$2:$Z$3)","v":0},{"$f":"SUMIF(BDD!$H$2:$H$3,'Indicateur Zone6'!$A4,BDD!$Z$2:$Z$3)","v":0},{"$f":"SUMIF(BDD!$H$2:$H$3,'Indicateur Zone6'!$A4,BDD!$Z$2:$Z$3)","v":0},{"$f":"SUMIF(BDD!$H$2:$H$3,'Indicateur Zone6'!$A4,BDD!$Z$2:$Z$3)","v":0},{"$f":"SUMIF(BDD!$H$2:$H$3,'Indicateur Zone6'!$A4,BDD!$Z$2:$Z$3)","v":0},{"$f":"SUMIF(BDD!$H$2:$H$3,'Indicateur Zone6'!$A4,BDD!$Z$2:$Z$3)","v":0},{"$f":"SUMIF(BDD!$H$2:$H$3,'Indicateur Zone6'!$A4,BDD!$Z$2:$Z$3)","v":0},{"$f":"SUMIF(BDD!$H$2:$H$3,'Indicateur Zone6'!$A4,BDD!$Z$2:$Z$3)","v":0}]
["Banc P1",{"$f":"SUMIF(BDD!$H$2:$H$3,'Indicateur Zone6'!$A5,BDD!$Z$2:$Z$3)","v":0},{"$f":"SUMIF(BDD!$H$2:$H$3,'Indicateur Zone6'!$A5,BDD!$Z$2:$Z$3)","v":0},{"$f":"SUMIF(BDD!$H$2:$H$683,'Indicateur Zone6'!$A$5,BDD!$Z$2:$Z$683)","v":0.02},{"$f":"SUMIF(BDD!$H$2:$H$3,'Indicateur Zone6'!$A5,BDD!$Z$2:$Z$3)","v":0},{"$f":"SUMIF(BDD!$H$2:$H$3,'Indicateur Zone6'!$A5,BDD!$Z$2:$Z$3)","v":0},{"$f":"SUMIF(BDD!$H$2:$H$3,'Indicateur Zone6'!$A5,BDD!$Z$2:$Z$3)","v":0},{"$f":"SUMIF(BDD!$H$2:$H$3,'Indicateur Zone6'!$A5,BDD!$Z$2:$Z$3)","v":0},{"$f":"SUMIF(BDD!$H$2:$H$3,'Indicateur Zone6'!$A5,BDD!$Z$2:$Z$3)","v":0},{"$f":"SUMIF(BDD!$H$2:$H$3,'Indicateur Zone6'!$A5,BDD!$Z$2:$Z$3)","v":0},{"$f":"SUMIF(BDD!$H$2:$H$3,'Indicateur Zone6'!$A5,BDD!$Z$2:$Z$3)","v":0},{"$f":"SUMIF(BDD!$H$2:$H$3,'Indicateur Zone6'!$A5,BDD!$Z$2:$Z$3)","v":0},{"$f":"SUMIF(BDD!$H$2:$H$3,'Indicateur Zone6'!$A5,BDD!$Z$2:$Z$3)","v":0}]
["Banc P2",{"$f":"SUMIF(BDD!$H$2:$H$3,'Indicateur Zone6'!$A6,BDD!$Z$2:$Z$3)","v":0},{"$f":"SUMIF(BDD!$H$2:$H$3,'Indicateur Zone6'!$A6,BDD!$Z$2:$Z$3)","v":0},{"$f":"SUMIF(BDD!$H$2:$H$683,'Indicateur Zone6'!$A$6,BDD!$Z$2:$Z$683)","v":0},{"$f":"SUMIF(BDD!$H$2:$H$3,'Indicateur Zone6'!$A6,BDD!$Z$2:$Z$3)","v":0},{"$f":"SUMIF(BDD!$H$2:$H$3,'Indicateur Zone6'!$A6,BDD!$Z$2:$Z$3)","v":0},{"$f":"SUMIF(BDD!$H$2:$H$3,'Indicateur Zone6'!$A6,BDD!$Z$2:$Z$3)","v":0},{"$f":"SUMIF(BDD!$H$2:$H$3,'Indicateur Zone6'!$A6,BDD!$Z$2:$Z$3)","v":0},{"$f":"SUMIF(BDD!$H$2:$H$3,'Indicateur Zone6'!$A6,BDD!$Z$2:$Z$3)","v":0},{"$f":"SUMIF(BDD!$H$2:$H$3,'Indicateur Zone6'!$A6,BDD!$Z$2:$Z$3)","v":0},{"$f":"SUMIF(BDD!$H$2:$H$3,'Indicateur Zone6'!$A6,BDD!$Z$2:$Z$3)","v":0},{"$f":"SUMIF(BDD!$H$2:$H$3,'Indicateur Zone6'!$A6,BDD!$Z$2:$Z$3)","v":0},{"$f":"SUMIF(BDD!$H$2:$H$3,'Indicateur Zone6'!$A6,BDD!$Z$2:$Z$3)","v":0}]
["Banc 156",{"$f":"SUMIF(BDD!$H$2:$H$3,'Indicateur Zone6'!$A7,BDD!$Z$2:$Z$3)","v":0},{"$f":"SUMIF(BDD!$H$2:$H$3,'Indicateur Zone6'!$A7,BDD!$Z$2:$Z$3)","v":0},{"$f":"SUMIF(BDD!$H$2:$H$683,'Indicateur Zone6'!$A$7,BDD!$Z$2:$Z$683)","v":0},{"$f":"SUMIF(BDD!$H$2:$H$3,'Indicateur Zone6'!$A7,BDD!$Z$2:$Z$3)","v":0},{"$f":"SUMIF(BDD!$H$2:$H$3,'Indicateur Zone6'!$A7,BDD!$Z$2:$Z$3)","v":0},{"$f":"SUMIF(BDD!$H$2:$H$3,'Indicateur Zone6'!$A7,BDD!$Z$2:$Z$3)","v":0},{"$f":"SUMIF(BDD!$H$2:$H$3,'Indicateur Zone6'!$A7,BDD!$Z$2:$Z$3)","v":0},{"$f":"SUMIF(BDD!$H$2:$H$3,'Indicateur Zone6'!$A7,BDD!$Z$2:$Z$3)","v":0},{"$f":"SUMIF(BDD!$H$2:$H$3,'Indicateur Zone6'!$A7,BDD!$Z$2:$Z$3)","v":0},{"$f":"SUMIF(BDD!$H$2:$H$3,'Indicateur Zone6'!$A7,BDD!$Z$2:$Z$3)","v":0},{"$f":"SUMIF(BDD!$H$2:$H$3,'Indicateur Zone6'!$A7,BDD!$Z$2:$Z$3)","v":0},{"$f":"SUMIF(BDD!$H$2:$H$3,'Indicateur Zone6'!$A7,BDD!$Z$2:$Z$3)","v":0}]
["Chambre Froide",{"$f":"SUMIF(BDD!$H$2:$H$3,'Indicateur Zone6'!$A8,BDD!$Z$2:$Z$3)","v":0},{"$f":"SUMIF(BDD!$H$2:$H$3,'Indicateur Zone6'!$A8,BDD!$Z$2:$Z$3)","v":0},{"$f":"SUMIF(BDD!$H$2:$H$683,'Indicateur Zone6'!$A$8,BDD!$Z$2:$Z$683)","v":0.3},{"$f":"SUMIF(BDD!$H$2:$H$3,'Indicateur Zone6'!$A8,BDD!$Z$2:$Z$3)","v":0},{"$f":"SUMIF(BDD!$H$2:$H$3,'Indicateur Zone6'!$A8,BDD!$Z$2:$Z$3)","v":0},{"$f":"SUMIF(BDD!$H$2:$H$3,'Indicateur Zone6'!$A8,BDD!$Z$2:$Z$3)","v":0},{"$f":"SUMIF(BDD!$H$2:$H$3,'Indicateur Zone6'!$A8,BDD!$Z$2:$Z$3)","v":0},{"$f":"SUMIF(BDD!$H$2:$H$3,'Indicateur Zone6'!$A8,BDD!$Z$2:$Z$3)","v":0},{"$f":"SUMIF(BDD!$H$2:$H$3,'Indicateur Zone6'!$A8,BDD!$Z$2:$Z$3)","v":0},{"$f":"SUMIF(BDD!$H$2:$H$3,'Indicateur Zone6'!$A8,BDD!$Z$2:$Z$3)","v":0},{"$f":"SUMIF(BDD!$H$2:$H$3,'Indicateur Zone6'!$A8,BDD!$Z$2:$Z$3)","v":0},{"$f":"SUMIF(BDD!$H$2:$H$3,'Indicateur Zone6'!$A8,BDD!$Z$2:$Z$3)","v":0}]
["Chambre Sourde",{"$f":"SUMIF(BDD!$H$2:$H$3,'Indicateur Zone6'!$A9,BDD!$Z$2:$Z$3)","v":0},{"$f":"SUMIF(BDD!$H$2:$H$3,'Indicateur Zone6'!$A9,BDD!$Z$2:$Z$3)","v":0},{"$f":"SUMIF(BDD!$H$2:$H$683,'Indicateur Zone6'!$A$9,BDD!$Z$2:$Z$683)","v":0},{"$f":"SUMIF(BDD!$H$2:$H$3,'Indicateur Zone6'!$A9,BDD!$Z$2:$Z$3)","v":0},{"$f":"SUMIF(BDD!$H$2:$H$3,'Indicateur Zone6'!$A9,BDD!$Z$2:$Z$3)","v":0},{"$f":"SUMIF(BDD!$H$2:$H$3,'Indicateur Zone6'!$A9,BDD!$Z$2:$Z$3)","v":0},{"$f":"SUMIF(BDD!$H$2:$H$3,'Indicateur Zone6'!$A9,BDD!$Z$2:$Z$3)","v":0},{"$f":"SUMIF(BDD!$H$2:$H$3,'Indicateur Zone6'!$A9,BDD!$Z$2:$Z$3)","v":0},{"$f":"SUMIF(BDD!$H$2:$H$3,'Indicateur Zone6'!$A9,BDD!$Z$2:$Z$3)","v":0},{"$f":"SUMIF(BDD!$H$2:$H$3,'Indicateur Zone6'!$A9,BDD!$Z$2:$Z$3)","v":0},{"$f":"SUMIF(BDD!$H$2:$H$3,'Indicateur Zone6'!$A9,BDD!$Z$2:$Z$3)","v":0},{"$f":"SUMIF(BDD!$H$2:$H$3,'Indicateur Zone6'!$A9,BDD!$Z$2:$Z$3)","v":0}]
[]
[]
[]
[]
[]
[]
[]
[]
[]
[]
[]
[]
[]
[]
[]
[]
[]
[]
[]
[]
[]
[]
[null,"Suivi du correctif et du préventif"]
["Type de maintenance","Janvier","Février","Mars","Avril","Mai","Juin","Juillet","Août","Septembre","Octobre","Novembre","Décembre"]
["Préventive",{"$f":"SUM(C59:C64)","v":0},{"$f":"SUM(E59:E64)","v":0},{"$f":"SUM(G59:G64)","v":0.3},{"$f":"SUM(I59:I64)","v":0},{"$f":"SUM(K59:K64)","v":0},{"$f":"SUM(M59:M64)","v":0},{"$f":"SUM(O59:O64)","v":0},{"$f":"SUM(Q59:Q64)","v":0},{"$f":"SUM(S59:S64)","v":0},{"$f":"SUM(U59:U64)","v":0},{"$f":"SUM(W59:W64)","v":0},{"$f":"SUM(Y59:Y64)","v":0}]
["Corrective",{"$f":"SUM(B59:B64)","v":0},{"$f":"SUM(D59:D64)","v":0},{"$f":"SUM(F59:F64)","v":0},{"$f":"SUM(H59:H64)","v":0},{"$f":"SUM(J59:J64)","v":0},{"$f":"SUM(L59:L64)","v":0},{"$f":"SUM(N59:N64)","v":0},{"$f":"SUM(N59:N64)","v":0},{"$f":"SUM(R59:R64)","v":0},{"$f":"SUM(T59:T64)","v":0},{"$f":"SUM(V59:V64)","v":0},{"$f":"SUM(X59:X64)","v":0}]
[]
[]
[]
[]
[]
[]
[]
[]
[]
[]
[]
[]
[]
[]
[]
[]
[]
[]
[]
[]
[null,"Suivi du correctif et du préventif par banc"]
[null,"Janvier",null,"Février",null,"Mars",null,"Avril",null,"Mai",null,"Juin",null,"Juillet",null,"Août",null,"Septembre",null,"Octobre",null,"Novembre",null,"Décembre"]
["Banc zone 6","Corrective","Préventive","Corrective","Préventive","Corrective","Préventive","Corrective","Préventive","Corrective","Préventive","Corrective","Préventive","Corrective","Préventive","Corrective","Préventive","Corrective","Préventive","Corrective","Préventive","Corrective","Préventive","Corrective","Préventive"]
["M73001 (Banc new P9)",{"$f":"SUMIF(BDD!$BG$2:$BG$3,\"M73001 (Banc new P9)VRAIFAUX\",BDD!$Z$2:$Z$3)","v":0},{"$f":"SUMIF(BDD!$BG$2:$BG$3,\"M73001 (Banc new P9)FAUXVRAI\",BDD!$Z$2:$Z$3)","v":0},{"$f":"SUMIF(BDD!$BG$2:$BG$3,\"M73001 (Banc new P9)VRAIFAUX\",BDD!$Z$2:$Z$3)","v":0},{"$f":"SUMIF(BDD!$BG$2:$BG$3,\"M73001 (Banc new P9)FAUXVRAI\",BDD!$Z$2:$Z$3)","v":0},{"$f":"SUMIF(BDD!$BG$2:$BG$683,\"M73001 (Banc new P9)VRAIFAUX\",BDD!$Z$2:$Z$683)","v":0},{"$f":"SUMIF(BDD!$BG$2:$BG$683,\"M73001 (Banc new P9)FAUXvrai\",BDD!$Z$2:$Z$683)","v":0},{"$f":"SUMIF(BDD!$BG$2:$BG$3,\"M73001 (Banc new P9)VRAIFAUX\",BDD!$Z$2:$Z$3)","v":0},{"$f":"SUMIF(BDD!$BG$2:$BG$3,\"M73001 (Banc new P9)FAUXVRAI\",BDD!$Z$2:$Z$3)","v":0},{"$f":"SUMIF(BDD!$BG$2:$BG$3,\"M73001 (Banc new P9)VRAIFAUX\",BDD!$Z$2:$Z$3)","v":0},{"$f":"SUMIF(BDD!$BG$2:$BG$3,\"M73001 (Banc new P9)FAUXVRAI\",BDD!$Z$2:$Z$3)","v":0},{"$f":"SUMIF(BDD!$BG$2:$BG$3,\"M73001 (Banc new P9)VRAIFAUX\",BDD!$Z$2:$Z$3)","v":0},{"$f":"SUMIF(BDD!$BG$2:$BG$3,\"M73001 (Banc new P9)FAUXVRAI\",BDD!$Z$2:$Z$3)","v":0},{"$f":"SUMIF(BDD!$BG$2:$BG$3,\"M73001 (Banc new P9)VRAIFAUX\",BDD!$Z$2:$Z$3)","v":0},{"$f":"SUMIF(BDD!$BG$2:$BG$3,\"M73001 (Banc new P9)FAUXVRAI\",BDD!$Z$2:$Z$3)","v":0},{"$f":"SUMIF(BDD!$BG$2:$BG$3,\"M73001 (Banc new P9)VRAIFAUX\",BDD!$Z$2:$Z$3)","v":0},{"$f":"SUMIF(BDD!$BG$2:$BG$3,\"M73001 (Banc new P9)FAUXVRAI\",BDD!$Z$2:$Z$3)","v":0},{"$f":"SUMIF(BDD!$BG$2:$BG$3,\"M73001 (Banc new P9)VRAIFAUX\",BDD!$Z$2:$Z$3)","v":0},{"$f":"SUMIF(BDD!$BG$2:$BG$3,\"M73001 (Banc new P9)FAUXVRAI\",BDD!$Z$2:$Z$3)","v":0},{"$f":"SUMIF(BDD!$BG$2:$BG$3,\"M73001 (Banc new P9)VRAIFAUX\",BDD!$Z$2:$Z$3)","v":0},{"$f":"SUMIF(BDD!$BG$2:$BG$3,\"M73001 (Banc new P9)FAUXVRAI\",BDD!$Z$2:$Z$3)","v":0},{"$f":"SUMIF(BDD!$BG$2:$BG$3,\"M73001 (Banc new P9)VRAIFAUX\",BDD!$Z$2:$Z$3)","v":0},{"$f":"SUMIF(BDD!$BG$2:$BG$3,\"M73001 (Banc new P9)FAUXVRAI\",BDD!$Z$2:$Z$3)","v":0},{"$f":"SUMIF(BDD!$BG$2:$BG$3,\"M73001 (Banc new P9)VRAIFAUX\",BDD!$Z$2:$Z$3)","v":0},{"$f":"SUMIF(BDD!$BG$2:$BG$3,\"M73001 (Banc new P9)FAUXVRAI\",BDD!$Z$2:$Z$3)","v":0}]
["Banc P1",{"$f":"SUMIF(BDD!$BG$2:$BG$3,\"Banc P1VRAIFAUX\",BDD!$Z$2:$Z$3)","v":0},{"$f":"SUMIF(BDD!$BG$2:$BG$3,\"Banc P1FAUXVRAI\",BDD!$Z$2:$Z$3)","v":0},{"$f":"SUMIF(BDD!$BG$2:$BG$3,\"Banc P1VRAIFAUX\",BDD!$Z$2:$Z$3)","v":0},{"$f":"SUMIF(BDD!$BG$2:$BG$3,\"Banc P1FAUXVRAI\",BDD!$Z$2:$Z$3)","v":0},{"$f":"SUMIF(BDD!$BG$2:$BG$683,\"Banc P1VRAIFAUX\",BDD!$Z$2:$Z$683)","v":0},{"$f":"SUMIF(BDD!$BG$2:$BG$683,\"Banc P1FAUXVRAI\",BDD!$Z$2:$Z$683)","v":0},{"$f":"SUMIF(BDD!$BG$2:$BG$3,\"Banc P1VRAIFAUX\",BDD!$Z$2:$Z$3)","v":0},{"$f":"SUMIF(BDD!$BG$2:$BG$3,\"Banc P1FAUXVRAI\",BDD!$Z$2:$Z$3)","v":0},{"$f":"SUMIF(BDD!$BG$2:$BG$3,\"Banc P1VRAIFAUX\",BDD!$Z$2:$Z$3)","v":0},{"$f":"SUMIF(BDD!$BG$2:$BG$3,\"Banc P1FAUXVRAI\",BDD!$Z$2:$Z$3)","v":0},{"$f":"SUMIF(BDD!$BG$2:$BG$3,\"Banc P1VRAIFAUX\",BDD!$Z$2:$Z$3)","v":0},{"$f":"SUMIF(BDD!$BG$2:$BG$3,\"Banc P1FAUXVRAI\",BDD!$Z$2:$Z$3)","v":0},{"$f":"SUMIF(BDD!$BG$2:$BG$3,\"Banc P1VRAIFAUX\",BDD!$Z$2:$Z$3)","v":0},{"$f":"SUMIF(BDD!$BG$2:$BG$3,\"Banc P1FAUXVRAI\",BDD!$Z$2:$Z$3)","v":0},{"$f":"SUMIF(BDD!$BG$2:$BG$3,\"Banc P1VRAIFAUX\",BDD!$Z$2:$Z$3)","v":0},{"$f":"SUMIF(BDD!$BG$2:$BG$3,\"Banc P1FAUXVRAI\",BDD!$Z$2:$Z$3)","v":0},{"$f":"SUMIF(BDD!$BG$2:$BG$3,\"Banc P1VRAIFAUX\",BDD!$Z$2:$Z$3)","v":0},{"$f":"SUMIF(BDD!$BG$2:$BG$3,\"Banc P1FAUXVRAI\",BDD!$Z$2:$Z$3)","v":0},{"$f":"SUMIF(BDD!$BG$2:$BG$3,\"Banc P1VRAIFAUX\",BDD!$Z$2:$Z$3)","v":0},{"$f":"SUMIF(BDD!$BG$2:$BG$3,\"Banc P1FAUXVRAI\",BDD!$Z$2:$Z$3)","v":0},{"$f":"SUMIF(BDD!$BG$2:$BG$3,\"Banc P1VRAIFAUX\",BDD!$Z$2:$Z$3)","v":0},{"$f":"SUMIF(BDD!$BG$2:$BG$3,\"Banc P1FAUXVRAI\",BDD!$Z$2:$Z$3)","v":0},{"$f":"SUMIF(BDD!$BG$2:$BG$3,\"Banc P1VRAIFAUX\",BDD!$Z$2:$Z$3)","v":0},{"$f":"SUMIF(BDD!$BG$2:$BG$3,\"Banc P1FAUXVRAI\",BDD!$Z$2:$Z$3)","v":0}]
["Banc P2",{"$f":"SUMIF(BDD!$BG$2:$BG$683,\"Banc P2VRAIFAUX\",BDD!$Z$2:$Z$683)","v":0},{"$f":"SUMIF(BDD!$BG$2:$BG$3,\"Banc P2FAUXVRAI\",BDD!$Z$2:$Z$3)","v":0},{"$f":"SUMIF(BDD!$BG$2:$BG$683,\"Banc P2VRAIFAUX\",BDD!$Z$2:$Z$683)","v":0},{"$f":"SUMIF(BDD!$BG$2:$BG$3,\"Banc P2FAUXVRAI\",BDD!$Z$2:$Z$3)","v":0},{"$f":"SUMIF(BDD!$BG$2:$BG$683,\"Banc P2VRAIFAUX\",BDD!$Z$2:$Z$683)","v":0},{"$f":"SUMIF(BDD!$BG$2:$BG$683,\"Banc P2FAUXVRAI\",BDD!$Z$2:$Z$683)","v":0},{"$f":"SUMIF(BDD!$BG$2:$BG$683,\"Banc P2VRAIFAUX\",BDD!$Z$2:$Z$683)","v":0},{"$f":"SUMIF(BDD!$BG$2:$BG$3,\"Banc P2FAUXVRAI\",BDD!$Z$2:$Z$3)","v":0},{"$f":"SUMIF(BDD!$BG$2:$BG$683,\"Banc P2VRAIFAUX\",BDD!$Z$2:$Z$683)","v":0},{"$f":"SUMIF(BDD!$BG$2:$BG$3,\"Banc P2FAUXVRAI\",BDD!$Z$2:$Z$3)","v":0},{"$f":"SUMIF(BDD!$BG$2:$BG$683,\"Banc P2VRAIFAUX\",BDD!$Z$2:$Z$683)","v":0},{"$f":"SUMIF(BDD!$BG$2:$BG$3,\"Banc P2FAUXVRAI\",BDD!$Z$2:$Z$3)","v":0},{"$f":"SUMIF(BDD!$BG$2:$BG$683,\"Banc P2VRAIFAUX\",BDD!$Z$2:$Z$683)","v":0},{"$f":"SUMIF(BDD!$BG$2:$BG$3,\"Banc P2FAUXVRAI\",BDD!$Z$2:$Z$3)","v":0},{"$f":"SUMIF(BDD!$BG$2:$BG$683,\"Banc P2VRAIFAUX\",BDD!$Z$2:$Z$683)","v":0},{"$f":"SUMIF(BDD!$BG$2:$BG$3,\"Banc P2FAUXVRAI\",BDD!$Z$2:$Z$3)","v":0},{"$f":"SUMIF(BDD!$BG$2:$BG$683,\"Banc P2VRAIFAUX\",BDD!$Z$2:$Z$683)","v":0},{"$f":"SUMIF(BDD!$BG$2:$BG$3,\"Banc P2FAUXVRAI\",BDD!$Z$2:$Z$3)","v":0},{"$f":"SUMIF(BDD!$BG$2:$BG$683,\"Banc P2VRAIFAUX\",BDD!$Z$2:$Z$683)","v":0},{"$f":"SUMIF(BDD!$BG$2:$BG$3,\"Banc P2FAUXVRAI\",BDD!$Z$2:$Z$3)","v":0},{"$f":"SUMIF(BDD!$BG$2:$BG$683,\"Banc P2VRAIFAUX\",BDD!$Z$2:$Z$683)","v":0},{"$f":"SUMIF(BDD!$BG$2:$BG$3,\"Banc P2FAUXVRAI\",BDD!$Z$2:$Z$3)","v":0},{"$f":"SUMIF(BDD!$BG$2:$BG$683,\"Banc P2VRAIFAUX\",BDD!$Z$2:$Z$683)","v":0},{"$f":"SUMIF(BDD!$BG$2:$BG$3,\"Banc P2FAUXVRAI\",BDD!$Z$2:$Z$3)","v":0}]
["Banc 156",{"$f":"SUMIF(BDD!$BG$2:$BG$3,\"Banc 156VRAIFAUX\",BDD!$Z$2:$Z$3)","v":0},{"$f":"SUMIF(BDD!$BG$2:$BG$3,\"Banc 156FAUXVRAI\",BDD!$Z$2:$Z$3)","v":0},{"$f":"SUMIF(BDD!$BG$2:$BG$3,\"Banc 156VRAIFAUX\",BDD!$Z$2:$Z$3)","v":0},{"$f":"SUMIF(BDD!$BG$2:$BG$3,\"Banc 156FAUXVRAI\",BDD!$Z$2:$Z$3)","v":0},{"$f":"SUMIF(BDD!$BG$2:$BG$683,\"Banc 156VRAIFAUX\",BDD!$Z$2:$Z$683)","v":0},{"$f":"SUMIF(BDD!$BG$2:$BG$683,\"Banc 156FAUXVRAI\",BDD!$Z$2:$Z$683)","v":0},{"$f":"SUMIF(BDD!$BG$2:$BG$3,\"Banc 156VRAIFAUX\",BDD!$Z$2:$Z$3)","v":0},{"$f":"SUMIF(BDD!$BG$2:$BG$3,\"Banc 156FAUXVRAI\",BDD!$Z$2:$Z$3)","v":0},{"$f":"SUMIF(BDD!$BG$2:$BG$3,\"Banc 156VRAIFAUX\",BDD!$Z$2:$Z$3)","v":0},{"$f":"SUMIF(BDD!$BG$2:$BG$3,\"Banc 156FAUXVRAI\",BDD!$Z$2:$Z$3)","v":0},{"$f":"SUMIF(BDD!$BG$2:$BG$3,\"Banc 156VRAIFAUX\",BDD!$Z$2:$Z$3)","v":0},{"$f":"SUMIF(BDD!$BG$2:$BG$3,\"Banc 156FAUXVRAI\",BDD!$Z$2:$Z$3)","v":0},{"$f":"SUMIF(BDD!$BG$2:$BG$3,\"Banc 156VRAIFAUX\",BDD!$Z$2:$Z$3)","v":0},{"$f":"SUMIF(BDD!$BG$2:$BG$3,\"Banc 156FAUXVRAI\",BDD!$Z$2:$Z$3)","v":0},{"$f":"SUMIF(BDD!$BG$2:$BG$3,\"Banc 156VRAIFAUX\",BDD!$Z$2:$Z$3)","v":0},{"$f":"SUMIF(BDD!$BG$2:$BG$3,\"Banc 156FAUXVRAI\",BDD!$Z$2:$Z$3)","v":0},{"$f":"SUMIF(BDD!$BG$2:$BG$3,\"Banc 156VRAIFAUX\",BDD!$Z$2:$Z$3)","v":0},{"$f":"SUMIF(BDD!$BG$2:$BG$3,\"Banc 156FAUXVRAI\",BDD!$Z$2:$Z$3)","v":0},{"$f":"SUMIF(BDD!$BG$2:$BG$3,\"Banc 156VRAIFAUX\",BDD!$Z$2:$Z$3)","v":0},{"$f":"SUMIF(BDD!$BG$2:$BG$3,\"Banc 156FAUXVRAI\",BDD!$Z$2:$Z$3)","v":0},{"$f":"SUMIF(BDD!$BG$2:$BG$3,\"Banc 156VRAIFAUX\",BDD!$Z$2:$Z$3)","v":0},{"$f":"SUMIF(BDD!$BG$2:$BG$3,\"Banc 156FAUXVRAI\",BDD!$Z$2:$Z$3)","v":0},{"$f":"SUMIF(BDD!$BG$2:$BG$3,\"Banc 156VRAIFAUX\",BDD!$Z$2:$Z$3)","v":0},{"$f":"SUMIF(BDD!$BG$2:$BG$3,\"Banc 156FAUXVRAI\",BDD!$Z$2:$Z$3)","v":0}]
["Chambre Froide",{"$f":"SUMIF(BDD!$BG$2:$BG$3,\"Chambre FroideVRAIFAUX\",BDD!$Z$2:$Z$3)","v":0},{"$f":"SUMIF(BDD!$BG$2:$BG$3,\"Chambre FroideFAUXVRAI\",BDD!$Z$2:$Z$3)","v":0},{"$f":"SUMIF(BDD!$BG$2:$BG$3,\"Chambre FroideVRAIFAUX\",BDD!$Z$2:$Z$3)","v":0},{"$f":"SUMIF(BDD!$BG$2:$BG$3,\"Chambre FroideFAUXVRAI\",BDD!$Z$2:$Z$3)","v":0},{"$f":"SUMIF(BDD!$BG$2:$BG$683,\"Chambre FroideVRAIFAUX\",BDD!$Z$2:$Z$683)","v":0},{"$f":"SUMIF(BDD!$BG$2:$BG$683,\"Chambre FroideFAUXVRAI\",BDD!$Z$2:$Z$683)","v":0.3},{"$f":"SUMIF(BDD!$BG$2:$BG$3,\"Chambre FroideVRAIFAUX\",BDD!$Z$2:$Z$3)","v":0},{"$f":"SUMIF(BDD!$BG$2:$BG$3,\"Chambre FroideFAUXVRAI\",BDD!$Z$2:$Z$3)","v":0},{"$f":"SUMIF(BDD!$BG$2:$BG$3,\"Chambre FroideVRAIFAUX\",BDD!$Z$2:$Z$3)","v":0},{"$f":"SUMIF(BDD!$BG$2:$BG$3,\"Chambre FroideFAUXVRAI\",BDD!$Z$2:$Z$3)","v":0},{"$f":"SUMIF(BDD!$BG$2:$BG$3,\"Chambre FroideVRAIFAUX\",BDD!$Z$2:$Z$3)","v":0},{"$f":"SUMIF(BDD!$BG$2:$BG$3,\"Chambre FroideFAUXVRAI\",BDD!$Z$2:$Z$3)","v":0},{"$f":"SUMIF(BDD!$BG$2:$BG$3,\"Chambre FroideVRAIFAUX\",BDD!$Z$2:$Z$3)","v":0},{"$f":"SUMIF(BDD!$BG$2:$BG$3,\"Chambre FroideFAUXVRAI\",BDD!$Z$2:$Z$3)","v":0},{"$f":"SUMIF(BDD!$BG$2:$BG$3,\"Chambre FroideVRAIFAUX\",BDD!$Z$2:$Z$3)","v":0},{"$f":"SUMIF(BDD!$BG$2:$BG$3,\"Chambre FroideFAUXVRAI\",BDD!$Z$2:$Z$3)","v":0},{"$f":"SUMIF(BDD!$BG$2:$BG$3,\"Chambre FroideVRAIFAUX\",BDD!$Z$2:$Z$3)","v":0},{"$f":"SUMIF(BDD!$BG$2:$BG$3,\"Chambre FroideFAUXVRAI\",BDD!$Z$2:$Z$3)","v":0},{"$f":"SUMIF(BDD!$BG$2:$BG$3,\"Chambre FroideVRAIFAUX\",BDD!$Z$2:$Z$3)","v":0},{"$f":"SUMIF(BDD!$BG$2:$BG$3,\"Chambre FroideFAUXVRAI\",BDD!$Z$2:$Z$3)","v":0},{"$f":"SUMIF(BDD!$BG$2:$BG$3,\"Chambre FroideVRAIFAUX\",BDD!$Z$2:$Z$3)","v":0},{"$f":"SUMIF(BDD!$BG$2:$BG$3,\"Chambre FroideFAUXVRAI\",BDD!$Z$2:$Z$3)","v":0},{"$f":"SUMIF(BDD!$BG$2:$BG$3,\"Chambre FroideVRAIFAUX\",BDD!$Z$2:$Z$3)","v":0},{"$f":"SUMIF(BDD!$BG$2:$BG$3,\"Chambre FroideFAUXVRAI\",BDD!$Z$2:$Z$3)","v":0}]
["Chambre Sourde",{"$f":"SUMIF(BDD!$BG$2:$BG$3,\"Chambre SourdeVRAIFAUX\",BDD!$Z$2:$Z$3)","v":0},{"$f":"SUMIF(BDD!$BG$2:$BG$3,\"Chambre SourdeFAUXVRAI\",BDD!$Z$2:$Z$3)","v":0},{"$f":"SUMIF(BDD!$BG$2:$BG$3,\"Chambre SourdeVRAIFAUX\",BDD!$Z$2:$Z$3)","v":0},{"$f":"SUMIF(BDD!$BG$2:$BG$3,\"Chambre SourdeFAUXVRAI\",BDD!$Z$2:$Z$3)","v":0},{"$f":"SUMIF(BDD!$BG$2:$BG$683,\"Chambre SourdeVRAIFAUX\",BDD!$Z$2:$Z$683)","v":0},{"$f":"SUMIF(BDD!$BG$2:$BG$683,\"Chambre SourdeFAUXVRAI\",BDD!$Z$2:$Z$683)","v":0},{"$f":"SUMIF(BDD!$BG$2:$BG$3,\"Chambre SourdeVRAIFAUX\",BDD!$Z$2:$Z$3)","v":0},{"$f":"SUMIF(BDD!$BG$2:$BG$3,\"Chambre SourdeFAUXVRAI\",BDD!$Z$2:$Z$3)","v":0},{"$f":"SUMIF(BDD!$BG$2:$BG$3,\"Chambre SourdeVRAIFAUX\",BDD!$Z$2:$Z$3)","v":0},{"$f":"SUMIF(BDD!$BG$2:$BG$3,\"Chambre SourdeFAUXVRAI\",BDD!$Z$2:$Z$3)","v":0},{"$f":"SUMIF(BDD!$BG$2:$BG$3,\"Chambre SourdeVRAIFAUX\",BDD!$Z$2:$Z$3)","v":0},{"$f":"SUMIF(BDD!$BG$2:$BG$3,\"Chambre SourdeFAUXVRAI\",BDD!$Z$2:$Z$3)","v":0},{"$f":"SUMIF(BDD!$BG$2:$BG$3,\"Chambre SourdeVRAIFAUX\",BDD!$Z$2:$Z$3)","v":0},{"$f":"SUMIF(BDD!$BG$2:$BG$3,\"Chambre SourdeFAUXVRAI\",BDD!$Z$2:$Z$3)","v":0},{"$f":"SUMIF(BDD!$BG$2:$BG$3,\"Chambre SourdeVRAIFAUX\",BDD!$Z$2:$Z$3)","v":0},{"$f":"SUMIF(BDD!$BG$2:$BG$3,\"Chambre SourdeFAUXVRAI\",BDD!$Z$2:$Z$3)","v":0},{"$f":"SUMIF(BDD!$BG$2:$BG$3,\"Chambre SourdeVRAIFAUX\",BDD!$Z$2:$Z$3)","v":0},{"$f":"SUMIF(BDD!$BG$2:$BG$3,\"Chambre SourdeFAUXVRAI\",BDD!$Z$2:$Z$3)","v":0},{"$f":"SUMIF(BDD!$BG$2:$BG$3,\"Chambre SourdeVRAIFAUX\",BDD!$Z$2:$Z$3)","v":0},{"$f":"SUMIF(BDD!$BG$2:$BG$3,\"Chambre SourdeFAUXVRAI\",BDD!$Z$2:$Z$3)","v":0},{"$f":"SUMIF(BDD!$BG$2:$BG$3,\"Chambre SourdeVRAIFAUX\",BDD!$Z$2:$Z$3)","v":0},{"$f":"SUMIF(BDD!$BG$2:$BG$3,\"Chambre SourdeFAUXVRAI\",BDD!$Z$2:$Z$3)","v":0},{"$f":"SUMIF(BDD!$BG$2:$BG$3,\"Chambre SourdeVRAIFAUX\",BDD!$Z$2:$Z$3)","v":0},{"$f":"SUMIF(BDD!$BG$2:$BG$3,\"Chambre SourdeFAUXVRAI\",BDD!$Z$2:$Z$3)","v":0}]
[]
[]
[]
[]
[]
[]
[]
[]
[]
[]
[]
[]
[]
[]
[]
[]
[]
[]
[]
[]
[]
[]
[null,"Suivi du correctif et du préventif par banc"]
[null,"Janvier",null,null,null,null,null,"Février",null,null,null,null,null,"Mars",null,null,null,null,null,"Avril",null,null,null,null,null,"Mai",null,null,null,null,null,"Juin",null,null,null,null,null,"Juillet",null,null,null,null,null,"Août",null,null,null,null,null,"Septembre",null,null,null,null,null,"Octobre",null,null,null,null,null,"Novembre",null,null,null,null,null,"Décembre"]
[null,"Corrective",null,null,"Préventive",null,null,"Corrective",null,null,"Préventive",null,null,"Corrective",null,null,"Préventive",null,null,"Corrective",null,null,"Préventive",null,null,"Corrective",null,null,"Préventive",null,null,"Corrective",null,null,"Préventive",null,null,"Corrective",null,null,"Préventive",null,null,"Corrective",null,null,"Préventive",null,null,"Corrective",null,null,"Préventive",null,null,"Corrective",null,null,"Préventive",null,null,"Corrective",null,null,"Préventive",null,null,"Corrective",null,null,"Préventive"]
["Banc zone 6","Electrique","Mécanique","Hydraulique","Electrique","Mécanique","Hydraulique","Electrique","Mécanique","Hydraulique","Electrique","Mécanique","Hydraulique","Electrique","Mécanique","Hydraulique","Electrique","Mécanique","Hydraulique","Electrique","Mécanique","Hydraulique","Electrique","Mécanique","Hydraulique","Electrique","Mécanique","Hydraulique","Electrique","Mécanique","Hydraulique","Electrique","Mécanique","Hydraulique","Electrique","Mécanique","Hydraulique","Electrique","Mécanique","Hydraulique","Electrique","Mécanique","Hydraulique","Electrique","Mécanique","Hydraulique","Electrique","Mécanique","Hydraulique","Electrique","Mécanique","Hydraulique","Electrique","Mécanique","Hydraulique","Electrique","Mécanique","Hydraulique","Electrique","Mécanique","Hydraulique","Electrique","Mécanique","Hydraulique","Electrique","Mécanique","Hydraulique","Electrique","Mécanique","Hydraulique","Electrique","Mécanique","Hydraulique"]
["M73001 (Banc new P9)",{"$f":"SUMIF(BDD!$BH$2:$BH$3,\"M73001 (Banc new P9)VRAIFAUXVRAIFAUXFAUX\",BDD!$Z$2:$Z$3)","v":0},{"$f":"SUMIF(BDD!$BH$2:$BH$3,\"M73001 (Banc new P9)VRAIFAUXFAUXVRAIFAUX\",BDD!$Z$2:$Z$3)","v":0},{"$f":"SUMIF(BDD!$BH$2:$BH$3,\"M73001 (Banc new P9)VRAIFAUXFAUXFAUXVRAI\",BDD!$Z$2:$Z$3)","v":0},{"$f":"SUMIF(BDD!$BH$2:$BH$3,\"M73001 (Banc new P9)FAUXVRAIVRAIFAUXFAUX\",BDD!$Z$2:$Z$3)","v":0},{"$f":"SUMIF(BDD!$BH$2:$BH$3,\"M73001 (Banc new P9)FAUXVRAIFAUXVRAIFAUX\",BDD!$Z$2:$Z$3)","v":0},{"$f":"SUMIF(BDD!$BH$2:$BH$3,\"M73001 (Banc new P9)FAUXVRAIFAUXFAUXVRAI\",BDD!$Z$2:$Z$3)","v":0},{"$f":"SUMIF(BDD!$BH$2:$BH$3,\"M73001 (Banc new P9)VRAIFAUXVRAIFAUXFAUX\",BDD!$Z$2:$Z$3)","v":0},{"$f":"SUMIF(BDD!$BH$2:$BH$3,\"M73001 (Banc new P9)VRAIFAUXFAUXVRAIFAUX\",BDD!$Z$2:$Z$3)","v":0},{"$f":"SUMIF(BDD!$BH$2:$BH$3,\"M73001 (Banc new P9)VRAIFAUXFAUXFAUXVRAI\",BDD!$Z$2:$Z$3)","v":0},{"$f":"SUMIF(BDD!$BH$2:$BH$3,\"M73001 (Banc new P9)FAUXVRAIVRAIFAUXFAUX\",BDD!$Z$2:$Z$3)","v":0},{"$f":"SUMIF(BDD!$BH$2:$BH$3,\"M73001 (Banc new P9)FAUXVRAIFAUXVRAIFAUX\",BDD!$Z$2:$Z$3)","v":0},{"$f":"SUMIF(BDD!$BH$2:$BH$3,\"M73001 (Banc new P9)FAUXVRAIFAUXFAUXVRAI\",BDD!$Z$2:$Z$3)","v":0},{"$f":"SUMIF(BDD!$BH$2:$BH$683,\"M73001 (Banc new P9)VRAIFAUXVRAIFAUXFAUX\",BDD!$Z$2:$Z$683)","v":0},{"$f":"SUMIF(BDD!$BH$2:$BH$683,\"M73001 (Banc new P9)VRAIFAUXFAUXVRAIFAUX\",BDD!$Z$2:$Z$683)","v":0},{"$f":"SUMIF(BDD!$BH$2:$BH$683,\"M73001 (Banc new P9)VRAIFAUXFAUXFAUXVRAI\",BDD!$Z$2:$Z$683)","v":0},{"$f":"SUMIF(BDD!$BH$2:$BH$683,\"M73001 (Banc new P9)FAUXVRAIVRAIFAUXFAUX\",BDD!$Z$2:$Z$683)","v":0},{"$f":"SUMIF(BDD!$BH$2:$BH$683,\"M73001 (Banc new P9)FAUXVRAIFAUXVRAIFAUX\",BDD!$Z$2:$Z$683)","v":0},{"$f":"SUMIF(BDD!$BH$2:$BH$683,\"M73001 (Banc new P9)FAUXVRAIFAUXFAUXVRAI\",BDD!$Z$2:$Z$683)","v":0},{"$f":"SUMIF(BDD!$BH$2:$BH$3,\"M73001 (Banc new P9)VRAIFAUXVRAIFAUXFAUX\",BDD!$Z$2:$Z$3)","v":0},{"$f":"SUMIF(BDD!$BH$2:$BH$3,\"M73001 (Banc new P9)VRAIFAUXFAUXVRAIFAUX\",BDD!$Z$2:$Z$3)","v":0},{"$f":"SUMIF(BDD!$BH$2:$BH$3,\"M73001 (Banc new P9)VRAIFAUXFAUXFAUXVRAI\",BDD!$Z$2:$Z$3)","v":0},{"$f":"SUMIF(BDD!$BH$2:$BH$3,\"M73001 (Banc new P9)FAUXVRAIVRAIFAUXFAUX\",BDD!$Z$2:$Z$3)","v":0},{"$f":"SUMIF(BDD!$BH$2:$BH$3,\"M73001 (Banc new P9)FAUXVRAIFAUXVRAIFAUX\",BDD!$Z$2:$Z$3)","v":0},{"$f":"SUMIF(BDD!$BH$2:$BH$3,\"M73001 (Banc new P9)FAUXVRAIFAUXFAUXVRAI\",BDD!$Z$2:$Z$3)","v":0},{"$f":"SUMIF(BDD!$BH$2:$BH$3,\"M73001 (Banc new P9)VRAIFAUXVRAIFAUXFAUX\",BDD!$Z$2:$Z$3)","v":0},{"$f":"SUMIF(BDD!$BH$2:$BH$3,\"M73001 (Banc new P9)VRAIFAUXFAUXVRAIFAUX\",BDD!$Z$2:$Z$3)","v":0},{"$f":"SUMIF(BDD!$BH$2:$BH$3,\"M73001 (Banc new P9)VRAIFAUXFAUXFAUXVRAI\",BDD!$Z$2:$Z$3)","v":0},{"$f":"SUMIF(BDD!$BH$2:$BH$3,\"M73001 (Banc new P9)FAUXVRAIVRAIFAUXFAUX\",BDD!$Z$2:$Z$3)","v":0},{"$f":"SUMIF(BDD!$BH$2:$BH$3,\"M73001 (Banc new P9)FAUXVRAIFAUXVRAIFAUX\",BDD!$Z$2:$Z$3)","v":0},{"$f":"SUMIF(BDD!$BH$2:$BH$3,\"M73001 (Banc new P9)FAUXVRAIFAUXFAUXVRAI\",BDD!$Z$2:$Z$3)","v":0},{"$f":"SUMIF(BDD!$BH$2:$BH$3,\"M73001 (Banc new P9)VRAIFAUXVRAIFAUXFAUX\",BDD!$Z$2:$Z$3)","v":0},{"$f":"SUMIF(BDD!$BH$2:$BH$3,\"M73001 (Banc new P9)VRAIFAUXFAUXVRAIFAUX\",BDD!$Z$2:$Z$3)","v":0},{"$f":"SUMIF(BDD!$BH$2:$BH$3,\"M73001 (Banc new P9)VRAIFAUXFAUXFAUXVRAI\",BDD!$Z$2:$Z$3)","v":0},{"$f":"SUMIF(BDD!$BH$2:$BH$3,\"M73001 (Banc new P9)FAUXVRAIVRAIFAUXFAUX\",BDD!$Z$2:$Z$3)","v":0},{"$f":"SUMIF(BDD!$BH$2:$BH$3,\"M73001 (Banc new P9)FAUXVRAIFAUXVRAIFAUX\",BDD!$Z$2:$Z$3)","v":0},{"$f":"SUMIF(BDD!$BH$2:$BH$3,\"M73001 (Banc new P9)FAUXVRAIFAUXFAUXVRAI\",BDD!$Z$2:$Z$3)","v":0},{"$f":"SUMIF(BDD!$BH$2:$BH$3,\"M73001 (Banc new P9)VRAIFAUXVRAIFAUXFAUX\",BDD!$Z$2:$Z$3)","v":0},{"$f":"SUMIF(BDD!$BH$2:$BH$3,\"M73001 (Banc new P9)VRAIFAUXFAUXVRAIFAUX\",BDD!$Z$2:$Z$3)","v":0},{"$f":"SUMIF(BDD!$BH$2:$BH$3,\"M73001 (Banc new P9)VRAIFAUXFAUXFAUXVRAI\",BDD!$Z$2:$Z$3)","v":0},{"$f":"SUMIF(BDD!$BH$2:$BH$3,\"M73001 (Banc new P9)FAUXVRAIVRAIFAUXFAUX\",BDD!$Z$2:$Z$3)","v":0},{"$f":"SUMIF(BDD!$BH$2:$BH$3,\"M73001 (Banc new P9)FAUXVRAIFAUXVRAIFAUX\",BDD!$Z$2:$Z$3)","v":0},{"$f":"SUMIF(BDD!$BH$2:$BH$3,\"M73001 (Banc new P9)FAUXVRAIFAUXFAUXVRAI\",BDD!$Z$2:$Z$3)","v":0},{"$f":"SUMIF(BDD!$BH$2:$BH$3,\"M73001 (Banc new P9)VRAIFAUXVRAIFAUXFAUX\",BDD!$Z$2:$Z$3)","v":0},{"$f":"SUMIF(BDD!$BH$2:$BH$3,\"M73001 (Banc new P9)VRAIFAUXFAUXVRAIFAUX\",BDD!$Z$2:$Z$3)","v":0},{"$f":"SUMIF(BDD!$BH$2:$BH$3,\"M73001 (Banc new P9)VRAIFAUXFAUXFAUXVRAI\",BDD!$Z$2:$Z$3)","v":0},{"$f":"SUMIF(BDD!$BH$2:$BH$3,\"M73001 (Banc new P9)FAUXVRAIVRAIFAUXFAUX\",BDD!$Z$2:$Z$3)","v":0},{"$f":"SUMIF(BDD!$BH$2:$BH$3,\"M73001 (Banc new P9)FAUXVRAIFAUXVRAIFAUX\",BDD!$Z$2:$Z$3)","v":0},{"$f":"SUMIF(BDD!$BH$2:$BH$3,\"M73001 (Banc new P9)FAUXVRAIFAUXFAUXVRAI\",BDD!$Z$2:$Z$3)","v":0},{"$f":"SUMIF(BDD!$BH$2:$BH$3,\"M73001 (Banc new P9)VRAIFAUXVRAIFAUXFAUX\",BDD!$Z$2:$Z$3)","v":0},{"$f":"SUMIF(BDD!$BH$2:$BH$3,\"M73001 (Banc new P9)VRAIFAUXFAUXVRAIFAUX\",BDD!$Z$2:$Z$3)","v":0},{"$f":"SUMIF(BDD!$BH$2:$BH$3,\"M73001 (Banc new P9)VRAIFAUXFAUXFAUXVRAI\",BDD!$Z$2:$Z$3)","v":0},{"$f":"SUMIF(BDD!$BH$2:$BH$3,\"M73001 (Banc new P9)FAUXVRAIVRAIFAUXFAUX\",BDD!$Z$2:$Z$3)","v":0},{"$f":"SUMIF(BDD!$BH$2:$BH$3,\"M73001 (Banc new P9)FAUXVRAIFAUXVRAIFAUX\",BDD!$Z$2:$Z$3)","v":0},{"$f":"SUMIF(BDD!$BH$2:$BH$3,\"M73001 (Banc new P9)FAUXVRAIFAUXFAUXVRAI\",BDD!$Z$2:$Z$3)","v":0},{"$f":"SUMIF(BDD!$BH$2:$BH$3,\"M73001 (Banc new P9)VRAIFAUXVRAIFAUXFAUX\",BDD!$Z$2:$Z$3)","v":0},{"$f":"SUMIF(BDD!$BH$2:$BH$3,\"M73001 (Banc new P9)VRAIFAUXFAUXVRAIFAUX\",BDD!$Z$2:$Z$3)","v":0},{"$f":"SUMIF(BDD!$BH$2:$BH$3,\"M73001 (Banc new P9)VRAIFAUXFAUXFAUXVRAI\",BDD!$Z$2:$Z$3)","v":0},{"$f":"SUMIF(BDD!$BH$2:$BH$3,\"M73001 (Banc new P9)FAUXVRAIVRAIFAUXFAUX\",BDD!$Z$2:$Z$3)","v":0},{"$f":"SUMIF(BDD!$BH$2:$BH$3,\"M73001 (Banc new P9)FAUXVRAIFAUXVRAIFAUX\",BDD!$Z$2:$Z$3)","v":0},{"$f":"SUMIF(BDD!$BH$2:$BH$3,\"M73001 (Banc new P9)FAUXVRAIFAUXFAUXVRAI\",BDD!$Z$2:$Z$3)","v":0},{"$f":"SUMIF(BDD!$BH$2:$BH$3,\"M73001 (Banc new P9)VRAIFAUXVRAIFAUXFAUX\",BDD!$Z$2:$Z$3)","v":0},{"$f":"SUMIF(BDD!$BH$2:$BH$3,\"M73001 (Banc new P9)VRAIFAUXFAUXVRAIFAUX\",BDD!$Z$2:$Z$3)","v":0},{"$f":"SUMIF(BDD!$BH$2:$BH$3,\"M73001 (Banc new P9)VRAIFAUXFAUXFAUXVRAI\",BDD!$Z$2:$Z$3)","v":0},{"$f":"SUMIF(BDD!$BH$2:$BH$3,\"M73001 (Banc new P9)FAUXVRAIVRAIFAUXFAUX\",BDD!$Z$2:$Z$3)","v":0},{"$f":"SUMIF(BDD!$BH$2:$BH$3,\"M73001 (Banc new P9)FAUXVRAIFAUXVRAIFAUX\",BDD!$Z$2:$Z$3)","v":0},{"$f":"SUMIF(BDD!$BH$2:$BH$3,\"M73001 (Banc new P9)FAUXVRAIFAUXFAUXVRAI\",BDD!$Z$2:$Z$3)","v":0},{"$f":"SUMIF(BDD!$BH$2:$BH$3,\"M73001 (Banc new P9)VRAIFAUXVRAIFAUXFAUX\",BDD!$Z$2:$Z$3)","v":0},{"$f":"SUMIF(BDD!$BH$2:$BH$3,\"M73001 (Banc new P9)VRAIFAUXFAUXVRAIFAUX\",BDD!$Z$2:$Z$3)","v":0},{"$f":"SUMIF(BDD!$BH$2:$BH$3,\"M73001 (Banc new P9)VRAIFAUXFAUXFAUXVRAI\",BDD!$Z$2:$Z$3)","v":0},{"$f":"SUMIF(BDD!$BH$2:$BH$3,\"M73001 (Banc new P9)FAUXVRAIVRAIFAUXFAUX\",BDD!$Z$2:$Z$3)","v":0},{"$f":"SUMIF(BDD!$BH$2:$BH$3,\"M73001 (Banc new P9)FAUXVRAIFAUXVRAIFAUX\",BDD!$Z$2:$Z$3)","v":0},{"$f":"SUMIF(BDD!$BH$2:$BH$3,\"M73001 (Banc new P9)FAUXVRAIFAUXFAUXVRAI\",BDD!$Z$2:$Z$3)","v":0}]
["Banc P1",{"$f":"SUMIF(BDD!$BH$2:$BH$3,\"Banc P1VRAIFAUXVRAIFAUXFAUX\",BDD!$Z$2:$Z$3)","v":0},{"$f":"SUMIF(BDD!$BH$2:$BH$3,\"Banc P1VRAIFAUXFAUXVRAIFAUX\",BDD!$Z$2:$Z$3)","v":0},{"$f":"SUMIF(BDD!$BH$2:$BH$3,\"Banc P1VRAIFAUXFAUXFAUXVRAI\",BDD!$Z$2:$Z$3)","v":0},{"$f":"SUMIF(BDD!$BH$2:$BH$3,\"Banc P1FAUXVRAIVRAIFAUXFAUX\",BDD!$Z$2:$Z$3)","v":0},{"$f":"SUMIF(BDD!$BH$2:$BH$3,\"Banc P1FAUXVRAIFAUXVRAIFAUX\",BDD!$Z$2:$Z$3)","v":0},{"$f":"SUMIF(BDD!$BH$2:$BH$3,\"Banc P1FAUXVRAIFAUXFAUXVRAI\",BDD!$Z$2:$Z$3)","v":0},{"$f":"SUMIF(BDD!$BH$2:$BH$3,\"Banc P1VRAIFAUXVRAIFAUXFAUX\",BDD!$Z$2:$Z$3)","v":0},{"$f":"SUMIF(BDD!$BH$2:$BH$3,\"Banc P1VRAIFAUXFAUXVRAIFAUX\",BDD!$Z$2:$Z$3)","v":0},{"$f":"SUMIF(BDD!$BH$2:$BH$3,\"Banc P1VRAIFAUXFAUXFAUXVRAI\",BDD!$Z$2:$Z$3)","v":0},{"$f":"SUMIF(BDD!$BH$2:$BH$3,\"Banc P1FAUXVRAIVRAIFAUXFAUX\",BDD!$Z$2:$Z$3)","v":0},{"$f":"SUMIF(BDD!$BH$2:$BH$3,\"Banc P1FAUXVRAIFAUXVRAIFAUX\",BDD!$Z$2:$Z$3)","v":0},{"$f":"SUMIF(BDD!$BH$2:$BH$3,\"Banc P1FAUXVRAIFAUXFAUXVRAI\",BDD!$Z$2:$Z$3)","v":0},{"$f":"SUMIF(BDD!$BH$2:$BH$683,\"Banc P1VRAIFAUXVRAIFAUXFAUX\",BDD!$Z$2:$Z$683)","v":0},{"$f":"SUMIF(BDD!$BH$2:$BH$683,\"Banc P1VRAIFAUXFAUXVRAIFAUX\",BDD!$Z$2:$Z$683)","v":0},{"$f":"SUMIF(BDD!$BH$2:$BH$683,\"Banc P1VRAIFAUXFAUXFAUXVRAI\",BDD!$Z$2:$Z$683)","v":0},{"$f":"SUMIF(BDD!$BH$2:$BH$683,\"Banc P1FAUXVRAIVRAIFAUXFAUX\",BDD!$Z$2:$Z$683)","v":0},{"$f":"SUMIF(BDD!$BH$2:$BH$683,\"Banc P1FAUXVRAIFAUXVRAIFAUX\",BDD!$Z$2:$Z$683)","v":0},{"$f":"SUMIF(BDD!$BH$2:$BH$683,\"Banc P1FAUXVRAIFAUXFAUXVRAI\",BDD!$Z$2:$Z$683)","v":0},{"$f":"SUMIF(BDD!$BH$2:$BH$3,\"Banc P1VRAIFAUXVRAIFAUXFAUX\",BDD!$Z$2:$Z$3)","v":0},{"$f":"SUMIF(BDD!$BH$2:$BH$3,\"Banc P1VRAIFAUXFAUXVRAIFAUX\",BDD!$Z$2:$Z$3)","v":0},{"$f":"SUMIF(BDD!$BH$2:$BH$3,\"Banc P1VRAIFAUXFAUXFAUXVRAI\",BDD!$Z$2:$Z$3)","v":0},{"$f":"SUMIF(BDD!$BH$2:$BH$3,\"Banc P1FAUXVRAIVRAIFAUXFAUX\",BDD!$Z$2:$Z$3)","v":0},{"$f":"SUMIF(BDD!$BH$2:$BH$3,\"Banc P1FAUXVRAIFAUXVRAIFAUX\",BDD!$Z$2:$Z$3)","v":0},{"$f":"SUMIF(BDD!$BH$2:$BH$3,\"Banc P1FAUXVRAIFAUXFAUXVRAI\",BDD!$Z$2:$Z$3)","v":0},{"$f":"SUMIF(BDD!$BH$2:$BH$3,\"Banc P1VRAIFAUXVRAIFAUXFAUX\",BDD!$Z$2:$Z$3)","v":0},{"$f":"SUMIF(BDD!$BH$2:$BH$3,\"Banc P1VRAIFAUXFAUXVRAIFAUX\",BDD!$Z$2:$Z$3)","v":0},{"$f":"SUMIF(BDD!$BH$2:$BH$3,\"Banc P1VRAIFAUXFAUXFAUXVRAI\",BDD!$Z$2:$Z$3)","v":0},{"$f":"SUMIF(BDD!$BH$2:$BH$3,\"Banc P1FAUXVRAIVRAIFAUXFAUX\",BDD!$Z$2:$Z$3)","v":0},{"$f":"SUMIF(BDD!$BH$2:$BH$3,\"Banc P1FAUXVRAIFAUXVRAIFAUX\",BDD!$Z$2:$Z$3)","v":0},{"$f":"SUMIF(BDD!$BH$2:$BH$3,\"Banc P1FAUXVRAIFAUXFAUXVRAI\",BDD!$Z$2:$Z$3)","v":0},{"$f":"SUMIF(BDD!$BH$2:$BH$3,\"Banc P1VRAIFAUXVRAIFAUXFAUX\",BDD!$Z$2:$Z$3)","v":0},{"$f":"SUMIF(BDD!$BH$2:$BH$3,\"Banc P1VRAIFAUXFAUXVRAIFAUX\",BDD!$Z$2:$Z$3)","v":0},{"$f":"SUMIF(BDD!$BH$2:$BH$3,\"Banc P1VRAIFAUXFAUXFAUXVRAI\",BDD!$Z$2:$Z$3)","v":0},{"$f":"SUMIF(BDD!$BH$2:$BH$3,\"Banc P1FAUXVRAIVRAIFAUXFAUX\",BDD!$Z$2:$Z$3)","v":0},{"$f":"SUMIF(BDD!$BH$2:$BH$3,\"Banc P1FAUXVRAIFAUXVRAIFAUX\",BDD!$Z$2:$Z$3)","v":0},{"$f":"SUMIF(BDD!$BH$2:$BH$3,\"Banc P1FAUXVRAIFAUXFAUXVRAI\",BDD!$Z$2:$Z$3)","v":0},{"$f":"SUMIF(BDD!$BH$2:$BH$3,\"Banc P1VRAIFAUXVRAIFAUXFAUX\",BDD!$Z$2:$Z$3)","v":0},{"$f":"SUMIF(BDD!$BH$2:$BH$3,\"Banc P1VRAIFAUXFAUXVRAIFAUX\",BDD!$Z$2:$Z$3)","v":0},{"$f":"SUMIF(BDD!$BH$2:$BH$3,\"Banc P1VRAIFAUXFAUXFAUXVRAI\",BDD!$Z$2:$Z$3)","v":0},{"$f":"SUMIF(BDD!$BH$2:$BH$3,\"Banc P1FAUXVRAIVRAIFAUXFAUX\",BDD!$Z$2:$Z$3)","v":0},{"$f":"SUMIF(BDD!$BH$2:$BH$3,\"Banc P1FAUXVRAIFAUXVRAIFAUX\",BDD!$Z$2:$Z$3)","v":0},{"$f":"SUMIF(BDD!$BH$2:$BH$3,\"Banc P1FAUXVRAIFAUXFAUXVRAI\",BDD!$Z$2:$Z$3)","v":0},{"$f":"SUMIF(BDD!$BH$2:$BH$3,\"Banc P1VRAIFAUXVRAIFAUXFAUX\",BDD!$Z$2:$Z$3)","v":0},{"$f":"SUMIF(BDD!$BH$2:$BH$3,\"Banc P1VRAIFAUXFAUXVRAIFAUX\",BDD!$Z$2:$Z$3)","v":0},{"$f":"SUMIF(BDD!$BH$2:$BH$3,\"Banc P1VRAIFAUXFAUXFAUXVRAI\",BDD!$Z$2:$Z$3)","v":0},{"$f":"SUMIF(BDD!$BH$2:$BH$3,\"Banc P1FAUXVRAIVRAIFAUXFAUX\",BDD!$Z$2:$Z$3)","v":0},{"$f":"SUMIF(BDD!$BH$2:$BH$3,\"Banc P1FAUXVRAIFAUXVRAIFAUX\",BDD!$Z$2:$Z$3)","v":0},{"$f":"SUMIF(BDD!$BH$2:$BH$3,\"Banc P1FAUXVRAIFAUXFAUXVRAI\",BDD!$Z$2:$Z$3)","v":0},{"$f":"SUMIF(BDD!$BH$2:$BH$3,\"Banc P1VRAIFAUXVRAIFAUXFAUX\",BDD!$Z$2:$Z$3)","v":0},{"$f":"SUMIF(BDD!$BH$2:$BH$3,\"Banc P1VRAIFAUXFAUXVRAIFAUX\",BDD!$Z$2:$Z$3)","v":0},{"$f":"SUMIF(BDD!$BH$2:$BH$3,\"Banc P1VRAIFAUXFAUXFAUXVRAI\",BDD!$Z$2:$Z$3)","v":0},{"$f":"SUMIF(BDD!$BH$2:$BH$3,\"Banc P1FAUXVRAIVRAIFAUXFAUX\",BDD!$Z$2:$Z$3)","v":0},{"$f":"SUMIF(BDD!$BH$2:$BH$3,\"Banc P1FAUXVRAIFAUXVRAIFAUX\",BDD!$Z$2:$Z$3)","v":0},{"$f":"SUMIF(BDD!$BH$2:$BH$3,\"Banc P1FAUXVRAIFAUXFAUXVRAI\",BDD!$Z$2:$Z$3)","v":0},{"$f":"SUMIF(BDD!$BH$2:$BH$3,\"Banc P1VRAIFAUXVRAIFAUXFAUX\",BDD!$Z$2:$Z$3)","v":0},{"$f":"SUMIF(BDD!$BH$2:$BH$3,\"Banc P1VRAIFAUXFAUXVRAIFAUX\",BDD!$Z$2:$Z$3)","v":0},{"$f":"SUMIF(BDD!$BH$2:$BH$3,\"Banc P1VRAIFAUXFAUXFAUXVRAI\",BDD!$Z$2:$Z$3)","v":0},{"$f":"SUMIF(BDD!$BH$2:$BH$3,\"Banc P1FAUXVRAIVRAIFAUXFAUX\",BDD!$Z$2:$Z$3)","v":0},{"$f":"SUMIF(BDD!$BH$2:$BH$3,\"Banc P1FAUXVRAIFAUXVRAIFAUX\",BDD!$Z$2:$Z$3)","v":0},{"$f":"SUMIF(BDD!$BH$2:$BH$3,\"Banc P1FAUXVRAIFAUXFAUXVRAI\",BDD!$Z$2:$Z$3)","v":0},{"$f":"SUMIF(BDD!$BH$2:$BH$3,\"Banc P1VRAIFAUXVRAIFAUXFAUX\",BDD!$Z$2:$Z$3)","v":0},{"$f":"SUMIF(BDD!$BH$2:$BH$3,\"Banc P1VRAIFAUXFAUXVRAIFAUX\",BDD!$Z$2:$Z$3)","v":0},{"$f":"SUMIF(BDD!$BH$2:$BH$3,\"Banc P1VRAIFAUXFAUXFAUXVRAI\",BDD!$Z$2:$Z$3)","v":0},{"$f":"SUMIF(BDD!$BH$2:$BH$3,\"Banc P1FAUXVRAIVRAIFAUXFAUX\",BDD!$Z$2:$Z$3)","v":0},{"$f":"SUMIF(BDD!$BH$2:$BH$3,\"Banc P1FAUXVRAIFAUXVRAIFAUX\",BDD!$Z$2:$Z$3)","v":0},{"$f":"SUMIF(BDD!$BH$2:$BH$3,\"Banc P1FAUXVRAIFAUXFAUXVRAI\",BDD!$Z$2:$Z$3)","v":0},{"$f":"SUMIF(BDD!$BH$2:$BH$3,\"Banc P1VRAIFAUXVRAIFAUXFAUX\",BDD!$Z$2:$Z$3)","v":0},{"$f":"SUMIF(BDD!$BH$2:$BH$3,\"Banc P1VRAIFAUXFAUXVRAIFAUX\",BDD!$Z$2:$Z$3)","v":0},{"$f":"SUMIF(BDD!$BH$2:$BH$3,\"Banc P1VRAIFAUXFAUXFAUXVRAI\",BDD!$Z$2:$Z$3)","v":0},{"$f":"SUMIF(BDD!$BH$2:$BH$3,\"Banc P1FAUXVRAIVRAIFAUXFAUX\",BDD!$Z$2:$Z$3)","v":0},{"$f":"SUMIF(BDD!$BH$2:$BH$3,\"Banc P1FAUXVRAIFAUXVRAIFAUX\",BDD!$Z$2:$Z$3)","v":0},{"$f":"SUMIF(BDD!$BH$2:$BH$3,\"Banc P1FAUXVRAIFAUXFAUXVRAI\",BDD!$Z$2:$Z$3)","v":0}]
["Banc P2",{"$f":"SUMIF(BDD!$BH$2:$BH$3,\"Banc P2VRAIFAUXVRAIFAUXFAUX\",BDD!$Z$2:$Z$3)","v":0},{"$f":"SUMIF(BDD!$BH$2:$BH$3,\"Banc P2VRAIFAUXFAUXVRAIFAUX\",BDD!$Z$2:$Z$3)","v":0},{"$f":"SUMIF(BDD!$BH$2:$BH$3,\"Banc P2VRAIFAUXFAUXFAUXVRAI\",BDD!$Z$2:$Z$3)","v":0},{"$f":"SUMIF(BDD!$BH$2:$BH$3,\"Banc P2FAUXVRAIVRAIFAUXFAUX\",BDD!$Z$2:$Z$3)","v":0},{"$f":"SUMIF(BDD!$BH$2:$BH$3,\"Banc P2FAUXVRAIFAUXVRAIFAUX\",BDD!$Z$2:$Z$3)","v":0},{"$f":"SUMIF(BDD!$BH$2:$BH$3,\"Banc P2FAUXVRAIFAUXFAUXVRAI\",BDD!$Z$2:$Z$3)","v":0},{"$f":"SUMIF(BDD!$BH$2:$BH$3,\"Banc P2VRAIFAUXVRAIFAUXFAUX\",BDD!$Z$2:$Z$3)","v":0},{"$f":"SUMIF(BDD!$BH$2:$BH$3,\"Banc P2VRAIFAUXFAUXVRAIFAUX\",BDD!$Z$2:$Z$3)","v":0},{"$f":"SUMIF(BDD!$BH$2:$BH$3,\"Banc P2VRAIFAUXFAUXFAUXVRAI\",BDD!$Z$2:$Z$3)","v":0},{"$f":"SUMIF(BDD!$BH$2:$BH$3,\"Banc P2FAUXVRAIVRAIFAUXFAUX\",BDD!$Z$2:$Z$3)","v":0},{"$f":"SUMIF(BDD!$BH$2:$BH$3,\"Banc P2FAUXVRAIFAUXVRAIFAUX\",BDD!$Z$2:$Z$3)","v":0},{"$f":"SUMIF(BDD!$BH$2:$BH$3,\"Banc P2FAUXVRAIFAUXFAUXVRAI\",BDD!$Z$2:$Z$3)","v":0},{"$f":"SUMIF(BDD!$BH$2:$BH$683,\"Banc P2VRAIFAUXVRAIFAUXFAUX\",BDD!$Z$2:$Z$683)","v":0},{"$f":"SUMIF(BDD!$BH$2:$BH$683,\"Banc P2VRAIFAUXFAUXVRAIFAUX\",BDD!$Z$2:$Z$683)","v":0},{"$f":"SUMIF(BDD!$BH$2:$BH$683,\"Banc P2VRAIFAUXFAUXFAUXVRAI\",BDD!$Z$2:$Z$683)","v":0},{"$f":"SUMIF(BDD!$BH$2:$BH$683,\"Banc P2FAUXVRAIVRAIFAUXFAUX\",BDD!$Z$2:$Z$683)","v":0},{"$f":"SUMIF(BDD!$BH$2:$BH$683,\"Banc P2FAUXVRAIFAUXVRAIFAUX\",BDD!$Z$2:$Z$683)","v":0},{"$f":"SUMIF(BDD!$BH$2:$BH$683,\"Banc P2FAUXVRAIFAUXFAUXVRAI\",BDD!$Z$2:$Z$683)","v":0},{"$f":"SUMIF(BDD!$BH$2:$BH$3,\"Banc P2VRAIFAUXVRAIFAUXFAUX\",BDD!$Z$2:$Z$3)","v":0},{"$f":"SUMIF(BDD!$BH$2:$BH$3,\"Banc P2VRAIFAUXFAUXVRAIFAUX\",BDD!$Z$2:$Z$3)","v":0},{"$f":"SUMIF(BDD!$BH$2:$BH$3,\"Banc P2VRAIFAUXFAUXFAUXVRAI\",BDD!$Z$2:$Z$3)","v":0},{"$f":"SUMIF(BDD!$BH$2:$BH$3,\"Banc P2FAUXVRAIVRAIFAUXFAUX\",BDD!$Z$2:$Z$3)","v":0},{"$f":"SUMIF(BDD!$BH$2:$BH$3,\"Banc P2FAUXVRAIFAUXVRAIFAUX\",BDD!$Z$2:$Z$3)","v":0},{"$f":"SUMIF(BDD!$BH$2:$BH$3,\"Banc P2FAUXVRAIFAUXFAUXVRAI\",BDD!$Z$2:$Z$3)","v":0},{"$f":"SUMIF(BDD!$BH$2:$BH$3,\"Banc P2VRAIFAUXVRAIFAUXFAUX\",BDD!$Z$2:$Z$3)","v":0},{"$f":"SUMIF(BDD!$BH$2:$BH$3,\"Banc P2VRAIFAUXFAUXVRAIFAUX\",BDD!$Z$2:$Z$3)","v":0},{"$f":"SUMIF(BDD!$BH$2:$BH$3,\"Banc P2VRAIFAUXFAUXFAUXVRAI\",BDD!$Z$2:$Z$3)","v":0},{"$f":"SUMIF(BDD!$BH$2:$BH$3,\"Banc P2FAUXVRAIVRAIFAUXFAUX\",BDD!$Z$2:$Z$3)","v":0},{"$f":"SUMIF(BDD!$BH$2:$BH$3,\"Banc P2FAUXVRAIFAUXVRAIFAUX\",BDD!$Z$2:$Z$3)","v":0},{"$f":"SUMIF(BDD!$BH$2:$BH$3,\"Banc P2FAUXVRAIFAUXFAUXVRAI\",BDD!$Z$2:$Z$3)","v":0},{"$f":"SUMIF(BDD!$BH$2:$BH$3,\"Banc P2VRAIFAUXVRAIFAUXFAUX\",BDD!$Z$2:$Z$3)","v":0},{"$f":"SUMIF(BDD!$BH$2:$BH$3,\"Banc P2VRAIFAUXFAUXVRAIFAUX\",BDD!$Z$2:$Z$3)","v":0},{"$f":"SUMIF(BDD!$BH$2:$BH$3,\"Banc P2VRAIFAUXFAUXFAUXVRAI\",BDD!$Z$2:$Z$3)","v":0},{"$f":"SUMIF(BDD!$BH$2:$BH$3,\"Banc P2FAUXVRAIVRAIFAUXFAUX\",BDD!$Z$2:$Z$3)","v":0},{"$f":"SUMIF(BDD!$BH$2:$BH$3,\"Banc P2FAUXVRAIFAUXVRAIFAUX\",BDD!$Z$2:$Z$3)","v":0},{"$f":"SUMIF(BDD!$BH$2:$BH$3,\"Banc P2FAUXVRAIFAUXFAUXVRAI\",BDD!$Z$2:$Z$3)","v":0},{"$f":"SUMIF(BDD!$BH$2:$BH$3,\"Banc P2VRAIFAUXVRAIFAUXFAUX\",BDD!$Z$2:$Z$3)","v":0},{"$f":"SUMIF(BDD!$BH$2:$BH$3,\"Banc P2VRAIFAUXFAUXVRAIFAUX\",BDD!$Z$2:$Z$3)","v":0},{"$f":"SUMIF(BDD!$BH$2:$BH$3,\"Banc P2VRAIFAUXFAUXFAUXVRAI\",BDD!$Z$2:$Z$3)","v":0},{"$f":"SUMIF(BDD!$BH$2:$BH$3,\"Banc P2FAUXVRAIVRAIFAUXFAUX\",BDD!$Z$2:$Z$3)","v":0},{"$f":"SUMIF(BDD!$BH$2:$BH$3,\"Banc P2FAUXVRAIFAUXVRAIFAUX\",BDD!$Z$2:$Z$3)","v":0},{"$f":"SUMIF(BDD!$BH$2:$BH$3,\"Banc P2FAUXVRAIFAUXFAUXVRAI\",BDD!$Z$2:$Z$3)","v":0},{"$f":"SUMIF(BDD!$BH$2:$BH$3,\"Banc P2VRAIFAUXVRAIFAUXFAUX\",BDD!$Z$2:$Z$3)","v":0},{"$f":"SUMIF(BDD!$BH$2:$BH$3,\"Banc P2VRAIFAUXFAUXVRAIFAUX\",BDD!$Z$2:$Z$3)","v":0},{"$f":"SUMIF(BDD!$BH$2:$BH$3,\"Banc P2VRAIFAUXFAUXFAUXVRAI\",BDD!$Z$2:$Z$3)","v":0},{"$f":"SUMIF(BDD!$BH$2:$BH$3,\"Banc P2FAUXVRAIVRAIFAUXFAUX\",BDD!$Z$2:$Z$3)","v":0},{"$f":"SUMIF(BDD!$BH$2:$BH$3,\"Banc P2FAUXVRAIFAUXVRAIFAUX\",BDD!$Z$2:$Z$3)","v":0},{"$f":"SUMIF(BDD!$BH$2:$BH$3,\"Banc P2FAUXVRAIFAUXFAUXVRAI\",BDD!$Z$2:$Z$3)","v":0},{"$f":"SUMIF(BDD!$BH$2:$BH$3,\"Banc P2VRAIFAUXVRAIFAUXFAUX\",BDD!$Z$2:$Z$3)","v":0},{"$f":"SUMIF(BDD!$BH$2:$BH$3,\"Banc P2VRAIFAUXFAUXVRAIFAUX\",BDD!$Z$2:$Z$3)","v":0},{"$f":"SUMIF(BDD!$BH$2:$BH$3,\"Banc P2VRAIFAUXFAUXFAUXVRAI\",BDD!$Z$2:$Z$3)","v":0},{"$f":"SUMIF(BDD!$BH$2:$BH$3,\"Banc P2FAUXVRAIVRAIFAUXFAUX\",BDD!$Z$2:$Z$3)","v":0},{"$f":"SUMIF(BDD!$BH$2:$BH$3,\"Banc P2FAUXVRAIFAUXVRAIFAUX\",BDD!$Z$2:$Z$3)","v":0},{"$f":"SUMIF(BDD!$BH$2:$BH$3,\"Banc P2FAUXVRAIFAUXFAUXVRAI\",BDD!$Z$2:$Z$3)","v":0},{"$f":"SUMIF(BDD!$BH$2:$BH$3,\"Banc P2VRAIFAUXVRAIFAUXFAUX\",BDD!$Z$2:$Z$3)","v":0},{"$f":"SUMIF(BDD!$BH$2:$BH$3,\"Banc P2VRAIFAUXFAUXVRAIFAUX\",BDD!$Z$2:$Z$3)","v":0},{"$f":"SUMIF(BDD!$BH$2:$BH$3,\"Banc P2VRAIFAUXFAUXFAUXVRAI\",BDD!$Z$2:$Z$3)","v":0},{"$f":"SUMIF(BDD!$BH$2:$BH$3,\"Banc P2FAUXVRAIVRAIFAUXFAUX\",BDD!$Z$2:$Z$3)","v":0},{"$f":"SUMIF(BDD!$BH$2:$BH$3,\"Banc P2FAUXVRAIFAUXVRAIFAUX\",BDD!$Z$2:$Z$3)","v":0},{"$f":"SUMIF(BDD!$BH$2:$BH$3,\"Banc P2FAUXVRAIFAUXFAUXVRAI\",BDD!$Z$2:$Z$3)","v":0},{"$f":"SUMIF(BDD!$BH$2:$BH$3,\"Banc P2VRAIFAUXVRAIFAUXFAUX\",BDD!$Z$2:$Z$3)","v":0},{"$f":"SUMIF(BDD!$BH$2:$BH$3,\"Banc P2VRAIFAUXFAUXVRAIFAUX\",BDD!$Z$2:$Z$3)","v":0},{"$f":"SUMIF(BDD!$BH$2:$BH$3,\"Banc P2VRAIFAUXFAUXFAUXVRAI\",BDD!$Z$2:$Z$3)","v":0},{"$f":"SUMIF(BDD!$BH$2:$BH$3,\"Banc P2FAUXVRAIVRAIFAUXFAUX\",BDD!$Z$2:$Z$3)","v":0},{"$f":"SUMIF(BDD!$BH$2:$BH$3,\"Banc P2FAUXVRAIFAUXVRAIFAUX\",BDD!$Z$2:$Z$3)","v":0},{"$f":"SUMIF(BDD!$BH$2:$BH$3,\"Banc P2FAUXVRAIFAUXFAUXVRAI\",BDD!$Z$2:$Z$3)","v":0},{"$f":"SUMIF(BDD!$BH$2:$BH$3,\"Banc P2VRAIFAUXVRAIFAUXFAUX\",BDD!$Z$2:$Z$3)","v":0},{"$f":"SUMIF(BDD!$BH$2:$BH$3,\"Banc P2VRAIFAUXFAUXVRAIFAUX\",BDD!$Z$2:$Z$3)","v":0},{"$f":"SUMIF(BDD!$BH$2:$BH$3,\"Banc P2VRAIFAUXFAUXFAUXVRAI\",BDD!$Z$2:$Z$3)","v":0},{"$f":"SUMIF(BDD!$BH$2:$BH$3,\"Banc P2FAUXVRAIVRAIFAUXFAUX\",BDD!$Z$2:$Z$3)","v":0},{"$f":"SUMIF(BDD!$BH$2:$BH$3,\"Banc P2FAUXVRAIFAUXVRAIFAUX\",BDD!$Z$2:$Z$3)","v":0},{"$f":"SUMIF(BDD!$BH$2:$BH$3,\"Banc P2FAUXVRAIFAUXFAUXVRAI\",BDD!$Z$2:$Z$3)","v":0}]
["Banc 156",{"$f":"SUMIF(BDD!$BH$2:$BH$3,\"Banc 156VRAIFAUXVRAIFAUXFAUX\",BDD!$Z$2:$Z$3)","v":0},{"$f":"SUMIF(BDD!$BH$2:$BH$3,\"Banc 156VRAIFAUXFAUXVRAIFAUX\",BDD!$Z$2:$Z$3)","v":0},{"$f":"SUMIF(BDD!$BH$2:$BH$3,\"Banc 156VRAIFAUXFAUXFAUXVRAI\",BDD!$Z$2:$Z$3)","v":0},{"$f":"SUMIF(BDD!$BH$2:$BH$3,\"Banc 156FAUXVRAIVRAIFAUXFAUX\",BDD!$Z$2:$Z$3)","v":0},{"$f":"SUMIF(BDD!$BH$2:$BH$3,\"Banc 156FAUXVRAIFAUXVRAIFAUX\",BDD!$Z$2:$Z$3)","v":0},{"$f":"SUMIF(BDD!$BH$2:$BH$3,\"Banc 156FAUXVRAIFAUXFAUXVRAI\",BDD!$Z$2:$Z$3)","v":0},{"$f":"SUMIF(BDD!$BH$2:$BH$3,\"Banc 156VRAIFAUXVRAIFAUXFAUX\",BDD!$Z$2:$Z$3)","v":0},{"$f":"SUMIF(BDD!$BH$2:$BH$3,\"Banc 156VRAIFAUXFAUXVRAIFAUX\",BDD!$Z$2:$Z$3)","v":0},{"$f":"SUMIF(BDD!$BH$2:$BH$3,\"Banc 156VRAIFAUXFAUXFAUXVRAI\",BDD!$Z$2:$Z$3)","v":0},{"$f":"SUMIF(BDD!$BH$2:$BH$3,\"Banc 156FAUXVRAIVRAIFAUXFAUX\",BDD!$Z$2:$Z$3)","v":0},{"$f":"SUMIF(BDD!$BH$2:$BH$3,\"Banc 156FAUXVRAIFAUXVRAIFAUX\",BDD!$Z$2:$Z$3)","v":0},{"$f":"SUMIF(BDD!$BH$2:$BH$3,\"Banc 156FAUXVRAIFAUXFAUXVRAI\",BDD!$Z$2:$Z$3)","v":0},{"$f":"SUMIF(BDD!$BH$2:$BH$683,\"Banc 156VRAIFAUXVRAIFAUXFAUX\",BDD!$Z$2:$Z$683)","v":0},{"$f":"SUMIF(BDD!$BH$2:$BH$683,\"Banc 156VRAIFAUXFAUXVRAIFAUX\",BDD!$Z$2:$Z$683)","v":0},{"$f":"SUMIF(BDD!$BH$2:$BH$683,\"Banc 156VRAIFAUXFAUXFAUXVRAI\",BDD!$Z$2:$Z$683)","v":0},{"$f":"SUMIF(BDD!$BH$2:$BH$683,\"Banc 156FAUXVRAIVRAIFAUXFAUX\",BDD!$Z$2:$Z$683)","v":0},{"$f":"SUMIF(BDD!$BH$2:$BH$683,\"Banc 156FAUXVRAIFAUXVRAIFAUX\",BDD!$Z$2:$Z$683)","v":0},{"$f":"SUMIF(BDD!$BH$2:$BH$683,\"Banc 156FAUXVRAIFAUXFAUXVRAI\",BDD!$Z$2:$Z$683)","v":0},{"$f":"SUMIF(BDD!$BH$2:$BH$3,\"Banc 156VRAIFAUXVRAIFAUXFAUX\",BDD!$Z$2:$Z$3)","v":0},{"$f":"SUMIF(BDD!$BH$2:$BH$3,\"Banc 156VRAIFAUXFAUXVRAIFAUX\",BDD!$Z$2:$Z$3)","v":0},{"$f":"SUMIF(BDD!$BH$2:$BH$3,\"Banc 156VRAIFAUXFAUXFAUXVRAI\",BDD!$Z$2:$Z$3)","v":0},{"$f":"SUMIF(BDD!$BH$2:$BH$3,\"Banc 156FAUXVRAIVRAIFAUXFAUX\",BDD!$Z$2:$Z$3)","v":0},{"$f":"SUMIF(BDD!$BH$2:$BH$3,\"Banc 156FAUXVRAIFAUXVRAIFAUX\",BDD!$Z$2:$Z$3)","v":0},{"$f":"SUMIF(BDD!$BH$2:$BH$3,\"Banc 156FAUXVRAIFAUXFAUXVRAI\",BDD!$Z$2:$Z$3)","v":0},{"$f":"SUMIF(BDD!$BH$2:$BH$3,\"Banc 156VRAIFAUXVRAIFAUXFAUX\",BDD!$Z$2:$Z$3)","v":0},{"$f":"SUMIF(BDD!$BH$2:$BH$3,\"Banc 156VRAIFAUXFAUXVRAIFAUX\",BDD!$Z$2:$Z$3)","v":0},{"$f":"SUMIF(BDD!$BH$2:$BH$3,\"Banc 156VRAIFAUXFAUXFAUXVRAI\",BDD!$Z$2:$Z$3)","v":0},{"$f":"SUMIF(BDD!$BH$2:$BH$3,\"Banc 156FAUXVRAIVRAIFAUXFAUX\",BDD!$Z$2:$Z$3)","v":0},{"$f":"SUMIF(BDD!$BH$2:$BH$3,\"Banc 156FAUXVRAIFAUXVRAIFAUX\",BDD!$Z$2:$Z$3)","v":0},{"$f":"SUMIF(BDD!$BH$2:$BH$3,\"Banc 156FAUXVRAIFAUXFAUXVRAI\",BDD!$Z$2:$Z$3)","v":0},{"$f":"SUMIF(BDD!$BH$2:$BH$3,\"Banc 156VRAIFAUXVRAIFAUXFAUX\",BDD!$Z$2:$Z$3)","v":0},{"$f":"SUMIF(BDD!$BH$2:$BH$3,\"Banc 156VRAIFAUXFAUXVRAIFAUX\",BDD!$Z$2:$Z$3)","v":0},{"$f":"SUMIF(BDD!$BH$2:$BH$3,\"Banc 156VRAIFAUXFAUXFAUXVRAI\",BDD!$Z$2:$Z$3)","v":0},{"$f":"SUMIF(BDD!$BH$2:$BH$3,\"Banc 156FAUXVRAIVRAIFAUXFAUX\",BDD!$Z$2:$Z$3)","v":0},{"$f":"SUMIF(BDD!$BH$2:$BH$3,\"Banc 156FAUXVRAIFAUXVRAIFAUX\",BDD!$Z$2:$Z$3)","v":0},{"$f":"SUMIF(BDD!$BH$2:$BH$3,\"Banc 156FAUXVRAIFAUXFAUXVRAI\",BDD!$Z$2:$Z$3)","v":0},{"$f":"SUMIF(BDD!$BH$2:$BH$3,\"Banc 156VRAIFAUXVRAIFAUXFAUX\",BDD!$Z$2:$Z$3)","v":0},{"$f":"SUMIF(BDD!$BH$2:$BH$3,\"Banc 156VRAIFAUXFAUXVRAIFAUX\",BDD!$Z$2:$Z$3)","v":0},{"$f":"SUMIF(BDD!$BH$2:$BH$3,\"Banc 156VRAIFAUXFAUXFAUXVRAI\",BDD!$Z$2:$Z$3)","v":0},{"$f":"SUMIF(BDD!$BH$2:$BH$3,\"Banc 156FAUXVRAIVRAIFAUXFAUX\",BDD!$Z$2:$Z$3)","v":0},{"$f":"SUMIF(BDD!$BH$2:$BH$3,\"Banc 156FAUXVRAIFAUXVRAIFAUX\",BDD!$Z$2:$Z$3)","v":0},{"$f":"SUMIF(BDD!$BH$2:$BH$3,\"Banc 156FAUXVRAIFAUXFAUXVRAI\",BDD!$Z$2:$Z$3)","v":0},{"$f":"SUMIF(BDD!$BH$2:$BH$3,\"Banc 156VRAIFAUXVRAIFAUXFAUX\",BDD!$Z$2:$Z$3)","v":0},{"$f":"SUMIF(BDD!$BH$2:$BH$3,\"Banc 156VRAIFAUXFAUXVRAIFAUX\",BDD!$Z$2:$Z$3)","v":0},{"$f":"SUMIF(BDD!$BH$2:$BH$3,\"Banc 156VRAIFAUXFAUXFAUXVRAI\",BDD!$Z$2:$Z$3)","v":0},{"$f":"SUMIF(BDD!$BH$2:$BH$3,\"Banc 156FAUXVRAIVRAIFAUXFAUX\",BDD!$Z$2:$Z$3)","v":0},{"$f":"SUMIF(BDD!$BH$2:$BH$3,\"Banc 156FAUXVRAIFAUXVRAIFAUX\",BDD!$Z$2:$Z$3)","v":0},{"$f":"SUMIF(BDD!$BH$2:$BH$3,\"Banc 156FAUXVRAIFAUXFAUXVRAI\",BDD!$Z$2:$Z$3)","v":0},{"$f":"SUMIF(BDD!$BH$2:$BH$3,\"Banc 156VRAIFAUXVRAIFAUXFAUX\",BDD!$Z$2:$Z$3)","v":0},{"$f":"SUMIF(BDD!$BH$2:$BH$3,\"Banc 156VRAIFAUXFAUXVRAIFAUX\",BDD!$Z$2:$Z$3)","v":0},{"$f":"SUMIF(BDD!$BH$2:$BH$3,\"Banc 156VRAIFAUXFAUXFAUXVRAI\",BDD!$Z$2:$Z$3)","v":0},{"$f":"SUMIF(BDD!$BH$2:$BH$3,\"Banc 156FAUXVRAIVRAIFAUXFAUX\",BDD!$Z$2:$Z$3)","v":0},{"$f":"SUMIF(BDD!$BH$2:$BH$3,\"Banc 156FAUXVRAIFAUXVRAIFAUX\",BDD!$Z$2:$Z$3)","v":0},{"$f":"SUMIF(BDD!$BH$2:$BH$3,\"Banc 156FAUXVRAIFAUXFAUXVRAI\",BDD!$Z$2:$Z$3)","v":0},{"$f":"SUMIF(BDD!$BH$2:$BH$3,\"Banc 156VRAIFAUXVRAIFAUXFAUX\",BDD!$Z$2:$Z$3)","v":0},{"$f":"SUMIF(BDD!$BH$2:$BH$3,\"Banc 156VRAIFAUXFAUXVRAIFAUX\",BDD!$Z$2:$Z$3)","v":0},{"$f":"SUMIF(BDD!$BH$2:$BH$3,\"Banc 156VRAIFAUXFAUXFAUXVRAI\",BDD!$Z$2:$Z$3)","v":0},{"$f":"SUMIF(BDD!$BH$2:$BH$3,\"Banc 156FAUXVRAIVRAIFAUXFAUX\",BDD!$Z$2:$Z$3)","v":0},{"$f":"SUMIF(BDD!$BH$2:$BH$3,\"Banc 156FAUXVRAIFAUXVRAIFAUX\",BDD!$Z$2:$Z$3)","v":0},{"$f":"SUMIF(BDD!$BH$2:$BH$3,\"Banc 156FAUXVRAIFAUXFAUXVRAI\",BDD!$Z$2:$Z$3)","v":0},{"$f":"SUMIF(BDD!$BH$2:$BH$3,\"Banc 156VRAIFAUXVRAIFAUXFAUX\",BDD!$Z$2:$Z$3)","v":0},{"$f":"SUMIF(BDD!$BH$2:$BH$3,\"Banc 156VRAIFAUXFAUXVRAIFAUX\",BDD!$Z$2:$Z$3)","v":0},{"$f":"SUMIF(BDD!$BH$2:$BH$3,\"Banc 156VRAIFAUXFAUXFAUXVRAI\",BDD!$Z$2:$Z$3)","v":0},{"$f":"SUMIF(BDD!$BH$2:$BH$3,\"Banc 156FAUXVRAIVRAIFAUXFAUX\",BDD!$Z$2:$Z$3)","v":0},{"$f":"SUMIF(BDD!$BH$2:$BH$3,\"Banc 156FAUXVRAIFAUXVRAIFAUX\",BDD!$Z$2:$Z$3)","v":0},{"$f":"SUMIF(BDD!$BH$2:$BH$3,\"Banc 156FAUXVRAIFAUXFAUXVRAI\",BDD!$Z$2:$Z$3)","v":0},{"$f":"SUMIF(BDD!$BH$2:$BH$3,\"Banc 156VRAIFAUXVRAIFAUXFAUX\",BDD!$Z$2:$Z$3)","v":0},{"$f":"SUMIF(BDD!$BH$2:$BH$3,\"Banc 156VRAIFAUXFAUXVRAIFAUX\",BDD!$Z$2:$Z$3)","v":0},{"$f":"SUMIF(BDD!$BH$2:$BH$3,\"Banc 156VRAIFAUXFAUXFAUXVRAI\",BDD!$Z$2:$Z$3)","v":0},{"$f":"SUMIF(BDD!$BH$2:$BH$3,\"Banc 156FAUXVRAIVRAIFAUXFAUX\",BDD!$Z$2:$Z$3)","v":0},{"$f":"SUMIF(BDD!$BH$2:$BH$3,\"Banc 156FAUXVRAIFAUXVRAIFAUX\",BDD!$Z$2:$Z$3)","v":0},{"$f":"SUMIF(BDD!$BH$2:$BH$3,\"Banc 156FAUXVRAIFAUXFAUXVRAI\",BDD!$Z$2:$Z$3)","v":0}]
["Chambre Froide",{"$f":"SUMIF(BDD!$BH$2:$BH$3,\"Chambre FroideVRAIFAUXVRAIFAUXFAUX\",BDD!$Z$2:$Z$3)","v":0},{"$f":"SUMIF(BDD!$BH$2:$BH$3,\"Chambre FroideVRAIFAUXFAUXVRAIFAUX\",BDD!$Z$2:$Z$3)","v":0},{"$f":"SUMIF(BDD!$BH$2:$BH$3,\"Chambre FroideVRAIFAUXFAUXFAUXVRAI\",BDD!$Z$2:$Z$3)","v":0},{"$f":"SUMIF(BDD!$BH$2:$BH$3,\"Chambre FroideFAUXVRAIVRAIFAUXFAUX\",BDD!$Z$2:$Z$3)","v":0},{"$f":"SUMIF(BDD!$BH$2:$BH$3,\"Chambre FroideFAUXVRAIFAUXVRAIFAUX\",BDD!$Z$2:$Z$3)","v":0},{"$f":"SUMIF(BDD!$BH$2:$BH$3,\"Chambre FroideFAUXVRAIFAUXFAUXVRAI\",BDD!$Z$2:$Z$3)","v":0},{"$f":"SUMIF(BDD!$BH$2:$BH$3,\"Chambre FroideVRAIFAUXVRAIFAUXFAUX\",BDD!$Z$2:$Z$3)","v":0},{"$f":"SUMIF(BDD!$BH$2:$BH$3,\"Chambre FroideVRAIFAUXFAUXVRAIFAUX\",BDD!$Z$2:$Z$3)","v":0},{"$f":"SUMIF(BDD!$BH$2:$BH$3,\"Chambre FroideVRAIFAUXFAUXFAUXVRAI\",BDD!$Z$2:$Z$3)","v":0},{"$f":"SUMIF(BDD!$BH$2:$BH$3,\"Chambre FroideFAUXVRAIVRAIFAUXFAUX\",BDD!$Z$2:$Z$3)","v":0},{"$f":"SUMIF(BDD!$BH$2:$BH$3,\"Chambre FroideFAUXVRAIFAUXVRAIFAUX\",BDD!$Z$2:$Z$3)","v":0},{"$f":"SUMIF(BDD!$BH$2:$BH$3,\"Chambre FroideFAUXVRAIFAUXFAUXVRAI\",BDD!$Z$2:$Z$3)","v":0},{"$f":"SUMIF(BDD!$BH$2:$BH$683,\"Chambre FroideVRAIFAUXVRAIFAUXFAUX\",BDD!$Z$2:$Z$683)","v":0},{"$f":"SUMIF(BDD!$BH$2:$BH$683,\"Chambre FroideVRAIFAUXFAUXVRAIFAUX\",BDD!$Z$2:$Z$683)","v":0},{"$f":"SUMIF(BDD!$BH$2:$BH$683,\"Chambre FroideVRAIFAUXFAUXFAUXVRAI\",BDD!$Z$2:$Z$683)","v":0},{"$f":"SUMIF(BDD!$BH$2:$BH$683,\"Chambre FroideFAUXVRAIVRAIFAUXFAUX\",BDD!$Z$2:$Z$683)","v":0.3},{"$f":"SUMIF(BDD!$BH$2:$BH$683,\"Chambre FroideFAUXVRAIFAUXVRAIFAUX\",BDD!$Z$2:$Z$683)","v":0},{"$f":"SUMIF(BDD!$BH$2:$BH$683,\"Chambre FroideFAUXVRAIFAUXFAUXVRAI\",BDD!$Z$2:$Z$683)","v":0},{"$f":"SUMIF(BDD!$BH$2:$BH$3,\"Chambre FroideVRAIFAUXVRAIFAUXFAUX\",BDD!$Z$2:$Z$3)","v":0},{"$f":"SUMIF(BDD!$BH$2:$BH$3,\"Chambre FroideVRAIFAUXFAUXVRAIFAUX\",BDD!$Z$2:$Z$3)","v":0},{"$f":"SUMIF(BDD!$BH$2:$BH$3,\"Chambre FroideVRAIFAUXFAUXFAUXVRAI\",BDD!$Z$2:$Z$3)","v":0},{"$f":"SUMIF(BDD!$BH$2:$BH$3,\"Chambre FroideFAUXVRAIVRAIFAUXFAUX\",BDD!$Z$2:$Z$3)","v":0},{"$f":"SUMIF(BDD!$BH$2:$BH$3,\"Chambre FroideFAUXVRAIFAUXVRAIFAUX\",BDD!$Z$2:$Z$3)","v":0},{"$f":"SUMIF(BDD!$BH$2:$BH$3,\"Chambre FroideFAUXVRAIFAUXFAUXVRAI\",BDD!$Z$2:$Z$3)","v":0},{"$f":"SUMIF(BDD!$BH$2:$BH$3,\"Chambre FroideVRAIFAUXVRAIFAUXFAUX\",BDD!$Z$2:$Z$3)","v":0},{"$f":"SUMIF(BDD!$BH$2:$BH$3,\"Chambre FroideVRAIFAUXFAUXVRAIFAUX\",BDD!$Z$2:$Z$3)","v":0},{"$f":"SUMIF(BDD!$BH$2:$BH$3,\"Chambre FroideVRAIFAUXFAUXFAUXVRAI\",BDD!$Z$2:$Z$3)","v":0},{"$f":"SUMIF(BDD!$BH$2:$BH$3,\"Chambre FroideFAUXVRAIVRAIFAUXFAUX\",BDD!$Z$2:$Z$3)","v":0},{"$f":"SUMIF(BDD!$BH$2:$BH$3,\"Chambre FroideFAUXVRAIFAUXVRAIFAUX\",BDD!$Z$2:$Z$3)","v":0},{"$f":"SUMIF(BDD!$BH$2:$BH$3,\"Chambre FroideFAUXVRAIFAUXFAUXVRAI\",BDD!$Z$2:$Z$3)","v":0},{"$f":"SUMIF(BDD!$BH$2:$BH$3,\"Chambre FroideVRAIFAUXVRAIFAUXFAUX\",BDD!$Z$2:$Z$3)","v":0},{"$f":"SUMIF(BDD!$BH$2:$BH$3,\"Chambre FroideVRAIFAUXFAUXVRAIFAUX\",BDD!$Z$2:$Z$3)","v":0},{"$f":"SUMIF(BDD!$BH$2:$BH$3,\"Chambre FroideVRAIFAUXFAUXFAUXVRAI\",BDD!$Z$2:$Z$3)","v":0},{"$f":"SUMIF(BDD!$BH$2:$BH$3,\"Chambre FroideFAUXVRAIVRAIFAUXFAUX\",BDD!$Z$2:$Z$3)","v":0},{"$f":"SUMIF(BDD!$BH$2:$BH$3,\"Chambre FroideFAUXVRAIFAUXVRAIFAUX\",BDD!$Z$2:$Z$3)","v":0},{"$f":"SUMIF(BDD!$BH$2:$BH$3,\"Chambre FroideFAUXVRAIFAUXFAUXVRAI\",BDD!$Z$2:$Z$3)","v":0},{"$f":"SUMIF(BDD!$BH$2:$BH$3,\"Chambre FroideVRAIFAUXVRAIFAUXFAUX\",BDD!$Z$2:$Z$3)","v":0},{"$f":"SUMIF(BDD!$BH$2:$BH$3,\"Chambre FroideVRAIFAUXFAUXVRAIFAUX\",BDD!$Z$2:$Z$3)","v":0},{"$f":"SUMIF(BDD!$BH$2:$BH$3,\"Chambre FroideVRAIFAUXFAUXFAUXVRAI\",BDD!$Z$2:$Z$3)","v":0},{"$f":"SUMIF(BDD!$BH$2:$BH$3,\"Chambre FroideFAUXVRAIVRAIFAUXFAUX\",BDD!$Z$2:$Z$3)","v":0},{"$f":"SUMIF(BDD!$BH$2:$BH$3,\"Chambre FroideFAUXVRAIFAUXVRAIFAUX\",BDD!$Z$2:$Z$3)","v":0},{"$f":"SUMIF(BDD!$BH$2:$BH$3,\"Chambre FroideFAUXVRAIFAUXFAUXVRAI\",BDD!$Z$2:$Z$3)","v":0},{"$f":"SUMIF(BDD!$BH$2:$BH$3,\"Chambre FroideVRAIFAUXVRAIFAUXFAUX\",BDD!$Z$2:$Z$3)","v":0},{"$f":"SUMIF(BDD!$BH$2:$BH$3,\"Chambre FroideVRAIFAUXFAUXVRAIFAUX\",BDD!$Z$2:$Z$3)","v":0},{"$f":"SUMIF(BDD!$BH$2:$BH$3,\"Chambre FroideVRAIFAUXFAUXFAUXVRAI\",BDD!$Z$2:$Z$3)","v":0},{"$f":"SUMIF(BDD!$BH$2:$BH$3,\"Chambre FroideFAUXVRAIVRAIFAUXFAUX\",BDD!$Z$2:$Z$3)","v":0},{"$f":"SUMIF(BDD!$BH$2:$BH$3,\"Chambre FroideFAUXVRAIFAUXVRAIFAUX\",BDD!$Z$2:$Z$3)","v":0},{"$f":"SUMIF(BDD!$BH$2:$BH$3,\"Chambre FroideFAUXVRAIFAUXFAUXVRAI\",BDD!$Z$2:$Z$3)","v":0},{"$f":"SUMIF(BDD!$BH$2:$BH$3,\"Chambre FroideVRAIFAUXVRAIFAUXFAUX\",BDD!$Z$2:$Z$3)","v":0},{"$f":"SUMIF(BDD!$BH$2:$BH$3,\"Chambre FroideVRAIFAUXFAUXVRAIFAUX\",BDD!$Z$2:$Z$3)","v":0},{"$f":"SUMIF(BDD!$BH$2:$BH$3,\"Chambre FroideVRAIFAUXFAUXFAUXVRAI\",BDD!$Z$2:$Z$3)","v":0},{"$f":"SUMIF(BDD!$BH$2:$BH$3,\"Chambre FroideFAUXVRAIVRAIFAUXFAUX\",BDD!$Z$2:$Z$3)","v":0},{"$f":"SUMIF(BDD!$BH$2:$BH$3,\"Chambre FroideFAUXVRAIFAUXVRAIFAUX\",BDD!$Z$2:$Z$3)","v":0},{"$f":"SUMIF(BDD!$BH$2:$BH$3,\"Chambre FroideFAUXVRAIFAUXFAUXVRAI\",BDD!$Z$2:$Z$3)","v":0},{"$f":"SUMIF(BDD!$BH$2:$BH$3,\"Chambre FroideVRAIFAUXVRAIFAUXFAUX\",BDD!$Z$2:$Z$3)","v":0},{"$f":"SUMIF(BDD!$BH$2:$BH$3,\"Chambre FroideVRAIFAUXFAUXVRAIFAUX\",BDD!$Z$2:$Z$3)","v":0},{"$f":"SUMIF(BDD!$BH$2:$BH$3,\"Chambre FroideVRAIFAUXFAUXFAUXVRAI\",BDD!$Z$2:$Z$3)","v":0},{"$f":"SUMIF(BDD!$BH$2:$BH$3,\"Chambre FroideFAUXVRAIVRAIFAUXFAUX\",BDD!$Z$2:$Z$3)","v":0},{"$f":"SUMIF(BDD!$BH$2:$BH$3,\"Chambre FroideFAUXVRAIFAUXVRAIFAUX\",BDD!$Z$2:$Z$3)","v":0},{"$f":"SUMIF(BDD!$BH$2:$BH$3,\"Chambre FroideFAUXVRAIFAUXFAUXVRAI\",BDD!$Z$2:$Z$3)","v":0},{"$f":"SUMIF(BDD!$BH$2:$BH$3,\"Chambre FroideVRAIFAUXVRAIFAUXFAUX\",BDD!$Z$2:$Z$3)","v":0},{"$f":"SUMIF(BDD!$BH$2:$BH$3,\"Chambre FroideVRAIFAUXFAUXVRAIFAUX\",BDD!$Z$2:$Z$3)","v":0},{"$f":"SUMIF(BDD!$BH$2:$BH$3,\"Chambre FroideVRAIFAUXFAUXFAUXVRAI\",BDD!$Z$2:$Z$3)","v":0},{"$f":"SUMIF(BDD!$BH$2:$BH$3,\"Chambre FroideFAUXVRAIVRAIFAUXFAUX\",BDD!$Z$2:$Z$3)","v":0},{"$f":"SUMIF(BDD!$BH$2:$BH$3,\"Chambre FroideFAUXVRAIFAUXVRAIFAUX\",BDD!$Z$2:$Z$3)","v":0},{"$f":"SUMIF(BDD!$BH$2:$BH$3,\"Chambre FroideFAUXVRAIFAUXFAUXVRAI\",BDD!$Z$2:$Z$3)","v":0},{"$f":"SUMIF(BDD!$BH$2:$BH$3,\"Chambre FroideVRAIFAUXVRAIFAUXFAUX\",BDD!$Z$2:$Z$3)","v":0},{"$f":"SUMIF(BDD!$BH$2:$BH$3,\"Chambre FroideVRAIFAUXFAUXVRAIFAUX\",BDD!$Z$2:$Z$3)","v":0},{"$f":"SUMIF(BDD!$BH$2:$BH$3,\"Chambre FroideVRAIFAUXFAUXFAUXVRAI\",BDD!$Z$2:$Z$3)","v":0},{"$f":"SUMIF(BDD!$BH$2:$BH$3,\"Chambre FroideFAUXVRAIVRAIFAUXFAUX\",BDD!$Z$2:$Z$3)","v":0},{"$f":"SUMIF(BDD!$BH$2:$BH$3,\"Chambre FroideFAUXVRAIFAUXVRAIFAUX\",BDD!$Z$2:$Z$3)","v":0},{"$f":"SUMIF(BDD!$BH$2:$BH$3,\"Chambre FroideFAUXVRAIFAUXFAUXVRAI\",BDD!$Z$2:$Z$3)","v":0}]
["Chambre Sourde",{"$f":"SUMIF(BDD!$BH$2:$BH$3,\"Chambre SourdeVRAIFAUXVRAIFAUXFAUX\",BDD!$Z$2:$Z$3)","v":0},{"$f":"SUMIF(BDD!$BH$2:$BH$3,\"Chambre SourdeVRAIFAUXFAUXVRAIFAUX\",BDD!$Z$2:$Z$3)","v":0},{"$f":"SUMIF(BDD!$BH$2:$BH$3,\"Chambre SourdeVRAIFAUXFAUXFAUXVRAI\",BDD!$Z$2:$Z$3)","v":0},{"$f":"SUMIF(BDD!$BH$2:$BH$3,\"Chambre SourdeFAUXVRAIVRAIFAUXFAUX\",BDD!$Z$2:$Z$3)","v":0},{"$f":"SUMIF(BDD!$BH$2:$BH$3,\"Chambre SourdeFAUXVRAIFAUXVRAIFAUX\",BDD!$Z$2:$Z$3)","v":0},{"$f":"SUMIF(BDD!$BH$2:$BH$3,\"Chambre SourdeFAUXVRAIFAUXFAUXVRAI\",BDD!$Z$2:$Z$3)","v":0},{"$f":"SUMIF(BDD!$BH$2:$BH$3,\"Chambre SourdeVRAIFAUXVRAIFAUXFAUX\",BDD!$Z$2:$Z$3)","v":0},{"$f":"SUMIF(BDD!$BH$2:$BH$3,\"Chambre SourdeVRAIFAUXFAUXVRAIFAUX\",BDD!$Z$2:$Z$3)","v":0},{"$f":"SUMIF(BDD!$BH$2:$BH$3,\"Chambre SourdeVRAIFAUXFAUXFAUXVRAI\",BDD!$Z$2:$Z$3)","v":0},{"$f":"SUMIF(BDD!$BH$2:$BH$3,\"Chambre SourdeFAUXVRAIVRAIFAUXFAUX\",BDD!$Z$2:$Z$3)","v":0},{"$f":"SUMIF(BDD!$BH$2:$BH$3,\"Chambre SourdeFAUXVRAIFAUXVRAIFAUX\",BDD!$Z$2:$Z$3)","v":0},{"$f":"SUMIF(BDD!$BH$2:$BH$3,\"Chambre SourdeFAUXVRAIFAUXFAUXVRAI\",BDD!$Z$2:$Z$3)","v":0},{"$f":"SUMIF(BDD!$BH$2:$BH$683,\"Chambre SourdeVRAIFAUXVRAIFAUXFAUX\",BDD!$Z$2:$Z$683)","v":0},{"$f":"SUMIF(BDD!$BH$2:$BH$683,\"Chambre SourdeVRAIFAUXFAUXVRAIFAUX\",BDD!$Z$2:$Z$683)","v":0},{"$f":"SUMIF(BDD!$BH$2:$BH$683,\"Chambre SourdeVRAIFAUXFAUXFAUXVRAI\",BDD!$Z$2:$Z$683)","v":0},{"$f":"SUMIF(BDD!$BH$2:$BH$683,\"Chambre SourdeFAUXVRAIVRAIFAUXFAUX\",BDD!$Z$2:$Z$683)","v":0},{"$f":"SUMIF(BDD!$BH$2:$BH$683,\"Chambre SourdeFAUXVRAIFAUXVRAIFAUX\",BDD!$Z$2:$Z$683)","v":0},{"$f":"SUMIF(BDD!$BH$2:$BH$683,\"Chambre SourdeFAUXVRAIFAUXFAUXVRAI\",BDD!$Z$2:$Z$683)","v":0},{"$f":"SUMIF(BDD!$BH$2:$BH$3,\"Chambre SourdeVRAIFAUXVRAIFAUXFAUX\",BDD!$Z$2:$Z$3)","v":0},{"$f":"SUMIF(BDD!$BH$2:$BH$3,\"Chambre SourdeVRAIFAUXFAUXVRAIFAUX\",BDD!$Z$2:$Z$3)","v":0},{"$f":"SUMIF(BDD!$BH$2:$BH$3,\"Chambre SourdeVRAIFAUXFAUXFAUXVRAI\",BDD!$Z$2:$Z$3)","v":0},{"$f":"SUMIF(BDD!$BH$2:$BH$3,\"Chambre SourdeFAUXVRAIVRAIFAUXFAUX\",BDD!$Z$2:$Z$3)","v":0},{"$f":"SUMIF(BDD!$BH$2:$BH$3,\"Chambre SourdeFAUXVRAIFAUXVRAIFAUX\",BDD!$Z$2:$Z$3)","v":0},{"$f":"SUMIF(BDD!$BH$2:$BH$3,\"Chambre SourdeFAUXVRAIFAUXFAUXVRAI\",BDD!$Z$2:$Z$3)","v":0},{"$f":"SUMIF(BDD!$BH$2:$BH$3,\"Chambre SourdeVRAIFAUXVRAIFAUXFAUX\",BDD!$Z$2:$Z$3)","v":0},{"$f":"SUMIF(BDD!$BH$2:$BH$3,\"Chambre SourdeVRAIFAUXFAUXVRAIFAUX\",BDD!$Z$2:$Z$3)","v":0},{"$f":"SUMIF(BDD!$BH$2:$BH$3,\"Chambre SourdeVRAIFAUXFAUXFAUXVRAI\",BDD!$Z$2:$Z$3)","v":0},{"$f":"SUMIF(BDD!$BH$2:$BH$3,\"Chambre SourdeFAUXVRAIVRAIFAUXFAUX\",BDD!$Z$2:$Z$3)","v":0},{"$f":"SUMIF(BDD!$BH$2:$BH$3,\"Chambre SourdeFAUXVRAIFAUXVRAIFAUX\",BDD!$Z$2:$Z$3)","v":0},{"$f":"SUMIF(BDD!$BH$2:$BH$3,\"Chambre SourdeFAUXVRAIFAUXFAUXVRAI\",BDD!$Z$2:$Z$3)","v":0},{"$f":"SUMIF(BDD!$BH$2:$BH$3,\"Chambre SourdeVRAIFAUXVRAIFAUXFAUX\",BDD!$Z$2:$Z$3)","v":0},{"$f":"SUMIF(BDD!$BH$2:$BH$3,\"Chambre SourdeVRAIFAUXFAUXVRAIFAUX\",BDD!$Z$2:$Z$3)","v":0},{"$f":"SUMIF(BDD!$BH$2:$BH$3,\"Chambre SourdeVRAIFAUXFAUXFAUXVRAI\",BDD!$Z$2:$Z$3)","v":0},{"$f":"SUMIF(BDD!$BH$2:$BH$3,\"Chambre SourdeFAUXVRAIVRAIFAUXFAUX\",BDD!$Z$2:$Z$3)","v":0},{"$f":"SUMIF(BDD!$BH$2:$BH$3,\"Chambre SourdeFAUXVRAIFAUXVRAIFAUX\",BDD!$Z$2:$Z$3)","v":0},{"$f":"SUMIF(BDD!$BH$2:$BH$3,\"Chambre SourdeFAUXVRAIFAUXFAUXVRAI\",BDD!$Z$2:$Z$3)","v":0},{"$f":"SUMIF(BDD!$BH$2:$BH$3,\"Chambre SourdeVRAIFAUXVRAIFAUXFAUX\",BDD!$Z$2:$Z$3)","v":0},{"$f":"SUMIF(BDD!$BH$2:$BH$3,\"Chambre SourdeVRAIFAUXFAUXVRAIFAUX\",BDD!$Z$2:$Z$3)","v":0},{"$f":"SUMIF(BDD!$BH$2:$BH$3,\"Chambre SourdeVRAIFAUXFAUXFAUXVRAI\",BDD!$Z$2:$Z$3)","v":0},{"$f":"SUMIF(BDD!$BH$2:$BH$3,\"Chambre SourdeFAUXVRAIVRAIFAUXFAUX\",BDD!$Z$2:$Z$3)","v":0},{"$f":"SUMIF(BDD!$BH$2:$BH$3,\"Chambre SourdeFAUXVRAIFAUXVRAIFAUX\",BDD!$Z$2:$Z$3)","v":0},{"$f":"SUMIF(BDD!$BH$2:$BH$3,\"Chambre SourdeFAUXVRAIFAUXFAUXVRAI\",BDD!$Z$2:$Z$3)","v":0},{"$f":"SUMIF(BDD!$BH$2:$BH$3,\"Chambre SourdeVRAIFAUXVRAIFAUXFAUX\",BDD!$Z$2:$Z$3)","v":0},{"$f":"SUMIF(BDD!$BH$2:$BH$3,\"Chambre SourdeVRAIFAUXFAUXVRAIFAUX\",BDD!$Z$2:$Z$3)","v":0},{"$f":"SUMIF(BDD!$BH$2:$BH$3,\"Chambre SourdeVRAIFAUXFAUXFAUXVRAI\",BDD!$Z$2:$Z$3)","v":0},{"$f":"SUMIF(BDD!$BH$2:$BH$3,\"Chambre SourdeFAUXVRAIVRAIFAUXFAUX\",BDD!$Z$2:$Z$3)","v":0},{"$f":"SUMIF(BDD!$BH$2:$BH$3,\"Chambre SourdeFAUXVRAIFAUXVRAIFAUX\",BDD!$Z$2:$Z$3)","v":0},{"$f":"SUMIF(BDD!$BH$2:$BH$3,\"Chambre SourdeFAUXVRAIFAUXFAUXVRAI\",BDD!$Z$2:$Z$3)","v":0},{"$f":"SUMIF(BDD!$BH$2:$BH$3,\"Chambre SourdeVRAIFAUXVRAIFAUXFAUX\",BDD!$Z$2:$Z$3)","v":0},{"$f":"SUMIF(BDD!$BH$2:$BH$3,\"Chambre SourdeVRAIFAUXFAUXVRAIFAUX\",BDD!$Z$2:$Z$3)","v":0},{"$f":"SUMIF(BDD!$BH$2:$BH$3,\"Chambre SourdeVRAIFAUXFAUXFAUXVRAI\",BDD!$Z$2:$Z$3)","v":0},{"$f":"SUMIF(BDD!$BH$2:$BH$3,\"Chambre SourdeFAUXVRAIVRAIFAUXFAUX\",BDD!$Z$2:$Z$3)","v":0},{"$f":"SUMIF(BDD!$BH$2:$BH$3,\"Chambre SourdeFAUXVRAIFAUXVRAIFAUX\",BDD!$Z$2:$Z$3)","v":0},{"$f":"SUMIF(BDD!$BH$2:$BH$3,\"Chambre SourdeFAUXVRAIFAUXFAUXVRAI\",BDD!$Z$2:$Z$3)","v":0},{"$f":"SUMIF(BDD!$BH$2:$BH$3,\"Chambre SourdeVRAIFAUXVRAIFAUXFAUX\",BDD!$Z$2:$Z$3)","v":0},{"$f":"SUMIF(BDD!$BH$2:$BH$3,\"Chambre SourdeVRAIFAUXFAUXVRAIFAUX\",BDD!$Z$2:$Z$3)","v":0},{"$f":"SUMIF(BDD!$BH$2:$BH$3,\"Chambre SourdeVRAIFAUXFAUXFAUXVRAI\",BDD!$Z$2:$Z$3)","v":0},{"$f":"SUMIF(BDD!$BH$2:$BH$3,\"Chambre SourdeFAUXVRAIVRAIFAUXFAUX\",BDD!$Z$2:$Z$3)","v":0},{"$f":"SUMIF(BDD!$BH$2:$BH$3,\"Chambre SourdeFAUXVRAIFAUXVRAIFAUX\",BDD!$Z$2:$Z$3)","v":0},{"$f":"SUMIF(BDD!$BH$2:$BH$3,\"Chambre SourdeFAUXVRAIFAUXFAUXVRAI\",BDD!$Z$2:$Z$3)","v":0},{"$f":"SUMIF(BDD!$BH$2:$BH$3,\"Chambre SourdeVRAIFAUXVRAIFAUXFAUX\",BDD!$Z$2:$Z$3)","v":0},{"$f":"SUMIF(BDD!$BH$2:$BH$3,\"Chambre SourdeVRAIFAUXFAUXVRAIFAUX\",BDD!$Z$2:$Z$3)","v":0},{"$f":"SUMIF(BDD!$BH$2:$BH$3,\"Chambre SourdeVRAIFAUXFAUXFAUXVRAI\",BDD!$Z$2:$Z$3)","v":0},{"$f":"SUMIF(BDD!$BH$2:$BH$3,\"Chambre SourdeFAUXVRAIVRAIFAUXFAUX\",BDD!$Z$2:$Z$3)","v":0},{"$f":"SUMIF(BDD!$BH$2:$BH$3,\"Chambre SourdeFAUXVRAIFAUXVRAIFAUX\",BDD!$Z$2:$Z$3)","v":0},{"$f":"SUMIF(BDD!$BH$2:$BH$3,\"Chambre SourdeFAUXVRAIFAUXFAUXVRAI\",BDD!$Z$2:$Z$3)","v":0},{"$f":"SUMIF(BDD!$BH$2:$BH$3,\"Chambre SourdeVRAIFAUXVRAIFAUXFAUX\",BDD!$Z$2:$Z$3)","v":0},{"$f":"SUMIF(BDD!$BH$2:$BH$3,\"Chambre SourdeVRAIFAUXFAUXVRAIFAUX\",BDD!$Z$2:$Z$3)","v":0},{"$f":"SUMIF(BDD!$BH$2:$BH$3,\"Chambre SourdeVRAIFAUXFAUXFAUXVRAI\",BDD!$Z$2:$Z$3)","v":0},{"$f":"SUMIF(BDD!$BH$2:$BH$3,\"Chambre SourdeFAUXVRAIVRAIFAUXFAUX\",BDD!$Z$2:$Z$3)","v":0},{"$f":"SUMIF(BDD!$BH$2:$BH$3,\"Chambre SourdeFAUXVRAIFAUXVRAIFAUX\",BDD!$Z$2:$Z$3)","v":0},{"$f":"SUMIF(BDD!$BH$2:$BH$3,\"Chambre SourdeFAUXVRAIFAUXFAUXVRAI\",BDD!$Z$2:$Z$3)","v":0}]

{"sheet":"Indicateur Zone8","index":5,"n_rows":97,"n_cols":73,"rows_kept":97,"cut":false,"hidden":false,"merged":[[88,70,88,72],[88,55,88,57],[88,58,88,60],[88,61,88,63],[88,64,88,66],[88,67,88,69],[88,40,88,42],[88,43,88,45],[88,46,88,48],[88,49,88,51],[88,52,88,54],[87,55,87,60],[87,61,87,66],[87,67,87,72],[88,1,88,3],[88,4,88,6],[88,7,88,9],[88,10,88,12],[88,13,88,15],[88,16,88,18],[88,19,88,21],[88,22,88,24],[88,25,88,27],[88,28,88,30],[88,31,88,33],[88,34,88,36],[88,37,88,39],[87,25,87,30],[87,31,87,36],[87,37,87,42],[87,43,87,48],[87,49,87,54],[55,23,55,24],[86,1,86,21],[87,1,87,6],[87,7,87,12],[87,13,87,18],[87,19,87,24],[55,13,55,14],[55,15,55,16],[55,17,55,18],[55,19,55,20],[55,21,55,22],[1,1,1,12],[30,1,30,12],[54,1,54,12],[55,1,55,2],[55,3,55,4],[55,5,55,6],[55,7,55,8],[55,9,55,10],[55,11,55,12]]}
[]
[null,"Suivi des arrêts par banc"]
["Banc zone 8","Janvier","Février","Mars","Avril","Mai","Juin","Juillet","Août","Septembre","Octobre","Novembre","Décembre"]
["Banc P5",{"$f":"SUMIF(BDD!$H$2:$H$3,'Indicateur Zone8'!$A4,BDD!$Z$2:$Z$3)","v":0},{"$f":"SUMIF(BDD!$H$2:$H$3,'Indicateur Zone8'!$A4,BDD!$Z$2:$Z$3)","v":0},{"$f":"SUMIF(BDD!$H$2:$H$683,'Indicateur Zone8'!$A$4,BDD!$Z$2:$Z$683)","v":0},{"$f":"SUMIF(BDD!$H$2:$H$3,'Indicateur Zone8'!$A4,BDD!$Z$2:$Z$3)","v":0},{"$f":"SUMIF(BDD!$H$2:$H$3,'Indicateur Zone8'!$A4,BDD!$Z$2:$Z$3)","v":0},{"$f":"SUMIF(BDD!$H$2:$H$3,'Indicateur Zone8'!$A4,BDD!$Z$2:$Z$3)","v":0},{"$f":"SUMIF(BDD!$H$2:$H$3,'Indicateur Zone8'!$A4,BDD!$Z$2:$Z$3)","v":0},{"$f":"SUMIF(BDD!$H$2:$H$3,'Indicateur Zone8'!$A4,BDD!$Z$2:$Z$3)","v":0},{"$f":"SUMIF(BDD!$H$2:$H$3,'Indicateur Zone8'!$A4,BDD!$Z$2:$Z$3)","v":0},{"$f":"SUMIF(BDD!$H$2:$H$3,'Indicateur Zone8'!$A4,BDD!$Z$2:$Z$3)","v":0},{"$f":"SUMIF(BDD!$H$2:$H$3,'Indicateur Zone8'!$A4,BDD!$Z$2:$Z$3)","v":0},{"$f":"SUMIF(BDD!$H$2:$H$3,'Indicateur Zone8'!$A4,BDD!$Z$2:$Z$3)","v":0}]
["Banc P7",{"$f":"SUMIF(BDD!$H$2:$H$3,'Indicateur Zone8'!$A5,BDD!$Z$2:$Z$3)","v":0},{"$f":"SUMIF(BDD!$H$2:$H$3,'Indicateur Zone8'!$A5,BDD!$Z$2:$Z$3)","v":0},{"$f":"SUMIF(BDD!$H$2:$H$683,'Indicateur Zone8'!$A$5,BDD!$Z$2:$Z$683)","v":0.15},{"$f":"SUMIF(BDD!$H$2:$H$3,'Indicateur Zone8'!$A5,BDD!$Z$2:$Z$3)","v":0},{"$f":"SUMIF(BDD!$H$2:$H$3,'Indicateur Zone8'!$A5,BDD!$Z$2:$Z$3)","v":0},{"$f":"SUMIF(BDD!$H$2:$H$3,'Indicateur Zone8'!$A5,BDD!$Z$2:$Z$3)","v":0},{"$f":"SUMIF(BDD!$H$2:$H$3,'Indicateur Zone8'!$A5,BDD!$Z$2:$Z$3)","v":0},{"$f":"SUMIF(BDD!$H$2:$H$3,'Indicateur Zone8'!$A5,BDD!$Z$2:$Z$3)","v":0},{"$f":"SUMIF(BDD!$H$2:$H$3,'Indicateur Zone8'!$A5,BDD!$Z$2:$Z$3)","v":0},{"$f":"SUMIF(BDD!$H$2:$H$3,'Indicateur Zone8'!$A5,BDD!$Z$2:$Z$3)","v":0},{"$f":"SUMIF(BDD!$H$2:$H$3,'Indicateur Zone8'!$A5,BDD!$Z$2:$Z$3)","v":0},{"$f":"SUMIF(BDD!$H$2:$H$3,'Indicateur Zone8'!$A5,BDD!$Z$2:$Z$3)","v":0}]
["Banc 101",{"$f":"SUMIF(BDD!$H$2:$H$3,'Indicateur Zone8'!$A6,BDD!$Z$2:$Z$3)","v":0},{"$f":"SUMIF(BDD!$H$2:$H$3,'Indicateur Zone8'!$A6,BDD!$Z$2:$Z$3)","v":0},{"$f":"SUMIF(BDD!$H$2:$H$683,'Indicateur Zone8'!$A$6,BDD!$Z$2:$Z$683)","v":0.1},{"$f":"SUMIF(BDD!$H$2:$H$3,'Indicateur Zone8'!$A6,BDD!$Z$2:$Z$3)","v":0},{"$f":"SUMIF(BDD!$H$2:$H$3,'Indicateur Zone8'!$A6,BDD!$Z$2:$Z$3)","v":0},{"$f":"SUMIF(BDD!$H$2:$H$3,'Indicateur Zone8'!$A6,BDD!$Z$2:$Z$3)","v":0},{"$f":"SUMIF(BDD!$H$2:$H$3,'Indicateur Zone8'!$A6,BDD!$Z$2:$Z$3)","v":0},{"$f":"SUMIF(BDD!$H$2:$H$3,'Indicateur Zone8'!$A6,BDD!$Z$2:$Z$3)","v":0},{"$f":"SUMIF(BDD!$H$2:$H$3,'Indicateur Zone8'!$A6,BDD!$Z$2:$Z$3)","v":0},{"$f":"SUMIF(BDD!$H$2:$H$3,'Indicateur Zone8'!$A6,BDD!$Z$2:$Z$3)","v":0},{"$f":"SUMIF(BDD!$H$2:$H$3,'Indicateur Zone8'!$A6,BDD!$Z$2:$Z$3)","v":0},{"$f":"SUMIF(BDD!$H$2:$H$3,'Indicateur Zone8'!$A6,BDD!$Z$2:$Z$3)","v":0}]
["Banc 104",{"$f":"SUMIF(BDD!$H$2:$H$3,'Indicateur Zone8'!$A7,BDD!$Z$2:$Z$3)","v":0},{"$f":"SUMIF(BDD!$H$2:$H$3,'Indicateur Zone8'!$A7,BDD!$Z$2:$Z$3)","v":0},{"$f":"SUMIF(BDD!$H$2:$H$683,'Indicateur Zone8'!$A$7,BDD!$Z$2:$Z$683)","v":3.1},{"$f":"SUMIF(BDD!$H$2:$H$3,'Indicateur Zone8'!$A7,BDD!$Z$2:$Z$3)","v":0},{"$f":"SUMIF(BDD!$H$2:$H$3,'Indicateur Zone8'!$A7,BDD!$Z$2:$Z$3)","v":0},{"$f":"SUMIF(BDD!$H$2:$H$3,'Indicateur Zone8'!$A7,BDD!$Z$2:$Z$3)","v":0},{"$f":"SUMIF(BDD!$H$2:$H$3,'Indicateur Zone8'!$A7,BDD!$Z$2:$Z$3)","v":0},{"$f":"SUMIF(BDD!$H$2:$H$3,'Indicateur Zone8'!$A7,BDD!$Z$2:$Z$3)","v":0},{"$f":"SUMIF(BDD!$H$2:$H$3,'Indicateur Zone8'!$A7,BDD!$Z$2:$Z$3)","v":0},{"$f":"SUMIF(BDD!$H$2:$H$3,'Indicateur Zone8'!$A7,BDD!$Z$2:$Z$3)","v":0},{"$f":"SUMIF(BDD!$H$2:$H$3,'Indicateur Zone8'!$A7,BDD!$Z$2:$Z$3)","v":0},{"$f":"SUMIF(BDD!$H$2:$H$3,'Indicateur Zone8'!$A7,BDD!$Z$2:$Z$3)","v":0}]
["Banc 121",{"$f":"SUMIF(BDD!$H$2:$H$3,'Indicateur Zone8'!$A8,BDD!$Z$2:$Z$3)","v":0},{"$f":"SUMIF(BDD!$H$2:$H$3,'Indicateur Zone8'!$A8,BDD!$Z$2:$Z$3)","v":0},{"$f":"SUMIF(BDD!$H$2:$H$683,'Indicateur Zone8'!$A$8,BDD!$Z$2:$Z$683)","v":0},{"$f":"SUMIF(BDD!$H$2:$H$3,'Indicateur Zone8'!$A8,BDD!$Z$2:$Z$3)","v":0},{"$f":"SUMIF(BDD!$H$2:$H$3,'Indicateur Zone8'!$A8,BDD!$Z$2:$Z$3)","v":0},{"$f":"SUMIF(BDD!$H$2:$H$3,'Indicateur Zone8'!$A8,BDD!$Z$2:$Z$3)","v":0},{"$f":"SUMIF(BDD!$H$2:$H$3,'Indicateur Zone8'!$A8,BDD!$Z$2:$Z$3)","v":0},{"$f":"SUMIF(BDD!$H$2:$H$3,'Indicateur Zone8'!$A8,BDD!$Z$2:$Z$3)","v":0},{"$f":"SUMIF(BDD!$H$2:$H$3,'Indicateur Zone8'!$A8,BDD!$Z$2:$Z$3)","v":0},{"$f":"SUMIF(BDD!$H$2:$H$3,'Indicateur Zone8'!$A8,BDD!$Z$2:$Z$3)","v":0},{"$f":"SUMIF(BDD!$H$2:$H$3,'Indicateur Zone8'!$A8,BDD!$Z$2:$Z$3)","v":0},{"$f":"SUMIF(BDD!$H$2:$H$3,'Indicateur Zone8'!$A8,BDD!$Z$2:$Z$3)","v":0}]
["Pompe à eau",{"$f":"SUMIF(BDD!$H$2:$H$3,'Indicateur Zone8'!$A9,BDD!$Z$2:$Z$3)","v":0},{"$f":"SUMIF(BDD!$H$2:$H$3,'Indicateur Zone8'!$A9,BDD!$Z$2:$Z$3)","v":0},{"$f":"SUMIF(BDD!$H$2:$H$683,'Indicateur Zone8'!$A$9,BDD!$Z$2:$Z$683)","v":2.2999999999999998},{"$f":"SUMIF(BDD!$H$2:$H$3,'Indicateur Zone8'!$A9,BDD!$Z$2:$Z$3)","v":0},{"$f":"SUMIF(BDD!$H$2:$H$3,'Indicateur Zone8'!$A9,BDD!$Z$2:$Z$3)","v":0},{"$f":"SUMIF(BDD!$H$2:$H$3,'Indicateur Zone8'!$A9,BDD!$Z$2:$Z$3)","v":0},{"$f":"SUMIF(BDD!$H$2:$H$3,'Indicateur Zone8'!$A9,BDD!$Z$2:$Z$3)","v":0},{"$f":"SUMIF(BDD!$H$2:$H$3,'Indicateur Zone8'!$A9,BDD!$Z$2:$Z$3)","v":0},{"$f":"SUMIF(BDD!$H$2:$H$3,'Indicateur Zone8'!$A9,BDD!$Z$2:$Z$3)","v":0},{"$f":"SUMIF(BDD!$H$2:$H$3,'Indicateur Zone8'!$A9,BDD!$Z$2:$Z$3)","v":0},{"$f":"SUMIF(BDD!$H$2:$H$3,'Indicateur Zone8'!$A9,BDD!$Z$2:$Z$3)","v":0},{"$f":"SUMIF(BDD!$H$2:$H$3,'Indicateur Zone8'!$A9,BDD!$Z$2:$Z$3)","v":0}]
["Banc PowerTrain",{"$f":"SUMIF(BDD!$H$2:$H$3,'Indicateur Zone8'!$A10,BDD!$Z$2:$Z$3)","v":0},{"$f":"SUMIF(BDD!$H$2:$H$3,'Indicateur Zone8'!$A10,BDD!$Z$2:$Z$3)","v":0},{"$f":"SUMIF(BDD!$H$2:$H$683,'Indicateur Zone8'!$A$10,BDD!$Z$2:$Z$683)","v":0},{"$f":"SUMIF(BDD!$H$2:$H$3,'Indicateur Zone8'!$A10,BDD!$Z$2:$Z$3)","v":0},{"$f":"SUMIF(BDD!$H$2:$H$3,'Indicateur Zone8'!$A10,BDD!$Z$2:$Z$3)","v":0},{"$f":"SUMIF(BDD!$H$2:$H$3,'Indicateur Zone8'!$A10,BDD!$Z$2:$Z$3)","v":0},{"$f":"SUMIF(BDD!$H$2:$H$3,'Indicateur Zone8'!$A10,BDD!$Z$2:$Z$3)","v":0},{"$f":"SUMIF(BDD!$H$2:$H$3,'Indicateur Zone8'!$A10,BDD!$Z$2:$Z$3)","v":0},{"$f":"SUMIF(BDD!$H$2:$H$3,'Indicateur Zone8'!$A10,BDD!$Z$2:$Z$3)","v":0},{"$f":"SUMIF(BDD!$H$2:$H$3,'Indicateur Zone8'!$A10,BDD!$Z$2:$Z$3)","v":0},{"$f":"SUMIF(BDD!$H$2:$H$3,'Indicateur Zone8'!$A10,BDD!$Z$2:$Z$3)","v":0},{"$f":"SUMIF(BDD!$H$2:$H$3,'Indicateur Zone8'!$A10,BDD!$Z$2:$Z$3)","v":0}]
[]
[]
[]
[]
[]
[]
[]
[]
[]
[]
[]
[]
[]
[]
[]
[]
[]
[]
[]
[]
[null,"Suivi du correctif et du préventif"]
["Type de maintenance","Janvier","Février","Mars","Avril","Mai","Juin","Juillet","Août","Septembre","Octobre","Novembre","Décembre"]
["Préventive",{"$f":"SUM(C58:C64)","v":0},{"$f":"SUM(E58:E64)","v":0},{"$f":"SUM(G58:G64)","v":1.1000000000000001},{"$f":"SUM(I58:I64)","v":0},{"$f":"SUM(K58:K64)","v":0},{"$f":"SUM(M58:M64)","v":0},{"$f":"SUM(O58:O64)","v":0},{"$f":"SUM(Q58:Q64)","v":0},{"$f":"SUM(S58:S64)","v":0},{"$f":"SUM(U58:U64)","v":0},{"$f":"SUM(W58:W64)","v":0},{"$f":"SUM(Y58:Y64)","v":0}]
["Corrective",{"$f":"SUM(B58:B64)","v":0},{"$f":"SUM(D58:D64)","v":0},{"$f":"SUM(F58:F64)","v":3.25},{"$f":"SUM(H58:H64)","v":0},{"$f":"SUM(J58:J64)","v":0},{"$f":"SUM(L58:L64)","v":0},{"$f":"SUM(N58:N64)","v":0},{"$f":"SUM(N58:N64)","v":0},{"$f":"SUM(R58:R64)","v":0},{"$f":"SUM(T58:T64)","v":0},{"$f":"SUM(V58:V64)","v":0},{"$f":"SUM(X58:X64)","v":0}]
[]
[]
[]
[]
[]
[]
[]
[]
[]
[]
[]
[]
[]
[]
[]
[]
[]
[]
[]
[]
[null,"Suivi du correctif et du préventif par banc"]
[null,"Janvier",null,"Février",null,"Mars",null,"Avril",null,"Mai",null,"Juin",null,"Juillet",null,"Août",null,"Septembre",null,"Octobre",null,"Novembre",null,"Décembre"]
["Banc zone 8","Corrective","Préventive","Corrective","Préventive","Corrective","Préventive","Corrective","Préventive","Corrective","Préventive","Corrective","Préventive","Corrective","Préventive","Corrective","Préventive","Corrective","Préventive","Corrective","Préventive","Corrective","Préventive","Corrective","Préventive"]
["Banc P5",{"$f":"SUMIF(BDD!$BG$2:$BG$3,\"Banc P5VRAIFAUX\",BDD!$Z$2:$Z$3)","v":0},{"$f":"SUMIF(BDD!$BG$2:$BG$3,\"Banc P5FAUXVRAI\",BDD!$Z$2:$Z$3)","v":0},{"$f":"SUMIF(BDD!$BG$2:$BG$3,\"Banc P5VRAIFAUX\",BDD!$Z$2:$Z$3)","v":0},{"$f":"SUMIF(BDD!$BG$2:$BG$3,\"Banc P5FAUXVRAI\",BDD!$Z$2:$Z$3)","v":0},{"$f":"SUMIF(BDD!$BG$2:$BG$683,\"Banc P5VRAIFAUX\",BDD!$Z$2:$Z$683)","v":0},{"$f":"SUMIF(BDD!$BG$2:$BG$683,\"Banc P5FAUXvrai\",BDD!$Z$2:$Z$683)","v":0},{"$f":"SUMIF(BDD!$BG$2:$BG$3,\"Banc P5VRAIFAUX\",BDD!$Z$2:$Z$3)","v":0},{"$f":"SUMIF(BDD!$BG$2:$BG$3,\"Banc P5FAUXVRAI\",BDD!$Z$2:$Z$3)","v":0},{"$f":"SUMIF(BDD!$BG$2:$BG$3,\"Banc P5VRAIFAUX\",BDD!$Z$2:$Z$3)","v":0},{"$f":"SUMIF(BDD!$BG$2:$BG$3,\"Banc P5FAUXVRAI\",BDD!$Z$2:$Z$3)","v":0},{"$f":"SUMIF(BDD!$BG$2:$BG$3,\"Banc P5VRAIFAUX\",BDD!$Z$2:$Z$3)","v":0},{"$f":"SUMIF(BDD!$BG$2:$BG$3,\"Banc P5FAUXVRAI\",BDD!$Z$2:$Z$3)","v":0},{"$f":"SUMIF(BDD!$BG$2:$BG$3,\"Banc P5VRAIFAUX\",BDD!$Z$2:$Z$3)","v":0},{"$f":"SUMIF(BDD!$BG$2:$BG$3,\"Banc P5FAUXVRAI\",BDD!$Z$2:$Z$3)","v":0},{"$f":"SUMIF(BDD!$BG$2:$BG$3,\"Banc P5VRAIFAUX\",BDD!$Z$2:$Z$3)","v":0},{"$f":"SUMIF(BDD!$BG$2:$BG$3,\"Banc P5FAUXVRAI\",BDD!$Z$2:$Z$3)","v":0},{"$f":"SUMIF(BDD!$BG$2:$BG$3,\"Banc P5VRAIFAUX\",BDD!$Z$2:$Z$3)","v":0},{"$f":"SUMIF(BDD!$BG$2:$BG$3,\"Banc P5FAUXVRAI\",BDD!$Z$2:$Z$3)","v":0},{"$f":"SUMIF(BDD!$BG$2:$BG$3,\"Banc P5VRAIFAUX\",BDD!$Z$2:$Z$3)","v":0},{"$f":"SUMIF(BDD!$BG$2:$BG$3,\"Banc P5FAUXVRAI\",BDD!$Z$2:$Z$3)","v":0},{"$f":"SUMIF(BDD!$BG$2:$BG$3,\"Banc P5VRAIFAUX\",BDD!$Z$2:$Z$3)","v":0},{"$f":"SUMIF(BDD!$BG$2:$BG$3,\"Banc P5FAUXVRAI\",BDD!$Z$2:$Z$3)","v":0},{"$f":"SUMIF(BDD!$BG$2:$BG$3,\"Banc P5VRAIFAUX\",BDD!$Z$2:$Z$3)","v":0},{"$f":"SUMIF(BDD!$BG$2:$BG$3,\"Banc P5FAUXVRAI\",BDD!$Z$2:$Z$3)","v":0}]
["Banc P7",{"$f":"SUMIF(BDD!$BG$2:$BG$3,\"Banc P7VRAIFAUX\",BDD!$Z$2:$Z$3)","v":0},{"$f":"SUMIF(BDD!$BG$2:$BG$3,\"Banc P7FAUXVRAI\",BDD!$Z$2:$Z$3)","v":0},{"$f":"SUMIF(BDD!$BG$2:$BG$3,\"Banc P7VRAIFAUX\",BDD!$Z$2:$Z$3)","v":0},{"$f":"SUMIF(BDD!$BG$2:$BG$3,\"Banc P7FAUXVRAI\",BDD!$Z$2:$Z$3)","v":0},{"$f":"SUMIF(BDD!$BG$2:$BG$683,\"Banc P7VRAIFAUX\",BDD!$Z$2:$Z$683)","v":0.15},{"$f":"SUMIF(BDD!$BG$2:$BG$683,\"Banc P7FAUXVRAI\",BDD!$Z$2:$Z$683)","v":0},{"$f":"SUMIF(BDD!$BG$2:$BG$3,\"Banc P7VRAIFAUX\",BDD!$Z$2:$Z$3)","v":0},{"$f":"SUMIF(BDD!$BG$2:$BG$3,\"Banc P7FAUXVRAI\",BDD!$Z$2:$Z$3)","v":0},{"$f":"SUMIF(BDD!$BG$2:$BG$3,\"Banc P7VRAIFAUX\",BDD!$Z$2:$Z$3)","v":0},{"$f":"SUMIF(BDD!$BG$2:$BG$3,\"Banc P7FAUXVRAI\",BDD!$Z$2:$Z$3)","v":0},{"$f":"SUMIF(BDD!$BG$2:$BG$3,\"Banc P7VRAIFAUX\",BDD!$Z$2:$Z$3)","v":0},{"$f":"SUMIF(BDD!$BG$2:$BG$3,\"Banc P7FAUXVRAI\",BDD!$Z$2:$Z$3)","v":0},{"$f":"SUMIF(BDD!$BG$2:$BG$3,\"Banc P7VRAIFAUX\",BDD!$Z$2:$Z$3)","v":0},{"$f":"SUMIF(BDD!$BG$2:$BG$3,\"Banc P7FAUXVRAI\",BDD!$Z$2:$Z$3)","v":0},{"$f":"SUMIF(BDD!$BG$2:$BG$3,\"Banc P7VRAIFAUX\",BDD!$Z$2:$Z$3)","v":0},{"$f":"SUMIF(BDD!$BG$2:$BG$3,\"Banc P7FAUXVRAI\",BDD!$Z$2:$Z$3)","v":0},{"$f":"SUMIF(BDD!$BG$2:$BG$3,\"Banc P7VRAIFAUX\",BDD!$Z$2:$Z$3)","v":0},{"$f":"SUMIF(BDD!$BG$2:$BG$3,\"Banc P7FAUXVRAI\",BDD!$Z$2:$Z$3)","v":0},{"$f":"SUMIF(BDD!$BG$2:$BG$3,\"Banc P7VRAIFAUX\",BDD!$Z$2:$Z$3)","v":0},{"$f":"SUMIF(BDD!$BG$2:$BG$3,\"Banc P7FAUXVRAI\",BDD!$Z$2:$Z$3)","v":0},{"$f":"SUMIF(BDD!$BG$2:$BG$3,\"Banc P7VRAIFAUX\",BDD!$Z$2:$Z$3)","v":0},{"$f":"SUMIF(BDD!$BG$2:$BG$3,\"Banc P7FAUXVRAI\",BDD!$Z$2:$Z$3)","v":0},{"$f":"SUMIF(BDD!$BG$2:$BG$3,\"Banc P7VRAIFAUX\",BDD!$Z$2:$Z$3)","v":0},{"$f":"SUMIF(BDD!$BG$2:$BG$3,\"Banc P7FAUXVRAI\",BDD!$Z$2:$Z$3)","v":0}]
["Banc 101",{"$f":"SUMIF(BDD!$BG$2:$BG$683,\"Banc 101VRAIFAUX\",BDD!$Z$2:$Z$683)","v":0},{"$f":"SUMIF(BDD!$BG$2:$BG$3,\"Banc 101FAUXVRAI\",BDD!$Z$2:$Z$3)","v":0},{"$f":"SUMIF(BDD!$BG$2:$BG$683,\"Banc 101VRAIFAUX\",BDD!$Z$2:$Z$683)","v":0},{"$f":"SUMIF(BDD!$BG$2:$BG$3,\"Banc 101FAUXVRAI\",BDD!$Z$2:$Z$3)","v":0},{"$f":"SUMIF(BDD!$BG$2:$BG$683,\"Banc 101VRAIFAUX\",BDD!$Z$2:$Z$683)","v":0},{"$f":"SUMIF(BDD!$BG$2:$BG$683,\"Banc 101FAUXVRAI\",BDD!$Z$2:$Z$683)","v":0.1},{"$f":"SUMIF(BDD!$BG$2:$BG$683,\"Banc 101VRAIFAUX\",BDD!$Z$2:$Z$683)","v":0},{"$f":"SUMIF(BDD!$BG$2:$BG$3,\"Banc 101FAUXVRAI\",BDD!$Z$2:$Z$3)","v":0},{"$f":"SUMIF(BDD!$BG$2:$BG$683,\"Banc 101VRAIFAUX\",BDD!$Z$2:$Z$683)","v":0},{"$f":"SUMIF(BDD!$BG$2:$BG$3,\"Banc 101FAUXVRAI\",BDD!$Z$2:$Z$3)","v":0},{"$f":"SUMIF(BDD!$BG$2:$BG$683,\"Banc 101VRAIFAUX\",BDD!$Z$2:$Z$683)","v":0},{"$f":"SUMIF(BDD!$BG$2:$BG$3,\"Banc 101FAUXVRAI\",BDD!$Z$2:$Z$3)","v":0},{"$f":"SUMIF(BDD!$BG$2:$BG$683,\"Banc 101VRAIFAUX\",BDD!$Z$2:$Z$683)","v":0},{"$f":"SUMIF(BDD!$BG$2:$BG$3,\"Banc 101FAUXVRAI\",BDD!$Z$2:$Z$3)","v":0},{"$f":"SUMIF(BDD!$BG$2:$BG$683,\"Banc 101VRAIFAUX\",BDD!$Z$2:$Z$683)","v":0},{"$f":"SUMIF(BDD!$BG$2:$BG$3,\"Banc 101FAUXVRAI\",BDD!$Z$2:$Z$3)","v":0},{"$f":"SUMIF(BDD!$BG$2:$BG$683,\"Banc 101VRAIFAUX\",BDD!$Z$2:$Z$683)","v":0},{"$f":"SUMIF(BDD!$BG$2:$BG$3,\"Banc 101FAUXVRAI\",BDD!$Z$2:$Z$3)","v":0},{"$f":"SUMIF(BDD!$BG$2:$BG$683,\"Banc 101VRAIFAUX\",BDD!$Z$2:$Z$683)","v":0},{"$f":"SUMIF(BDD!$BG$2:$BG$3,\"Banc 101FAUXVRAI\",BDD!$Z$2:$Z$3)","v":0},{"$f":"SUMIF(BDD!$BG$2:$BG$683,\"Banc 101VRAIFAUX\",BDD!$Z$2:$Z$683)","v":0},{"$f":"SUMIF(BDD!$BG$2:$BG$3,\"Banc 101FAUXVRAI\",BDD!$Z$2:$Z$3)","v":0},{"$f":"SUMIF(BDD!$BG$2:$BG$683,\"Banc 101VRAIFAUX\",BDD!$Z$2:$Z$683)","v":0},{"$f":"SUMIF(BDD!$BG$2:$BG$3,\"Banc 101FAUXVRAI\",BDD!$Z$2:$Z$3)","v":0}]
["Banc 104",{"$f":"SUMIF(BDD!$BG$2:$BG$3,\"Banc 104VRAIFAUX\",BDD!$Z$2:$Z$3)","v":0},{"$f":"SUMIF(BDD!$BG$2:$BG$3,\"Banc 104FAUXVRAI\",BDD!$Z$2:$Z$3)","v":0},{"$f":"SUMIF(BDD!$BG$2:$BG$3,\"Banc 104VRAIFAUX\",BDD!$Z$2:$Z$3)","v":0},{"$f":"SUMIF(BDD!$BG$2:$BG$3,\"Banc 104FAUXVRAI\",BDD!$Z$2:$Z$3)","v":0},{"$f":"SUMIF(BDD!$BG$2:$BG$683,\"Banc 104VRAIFAUX\",BDD!$Z$2:$Z$683)","v":2.1},{"$f":"SUMIF(BDD!$BG$2:$BG$683,\"Banc 104FAUXVRAI\",BDD!$Z$2:$Z$683)","v":1},{"$f":"SUMIF(BDD!$BG$2:$BG$3,\"Banc 104VRAIFAUX\",BDD!$Z$2:$Z$3)","v":0},{"$f":"SUMIF(BDD!$BG$2:$BG$3,\"Banc 104FAUXVRAI\",BDD!$Z$2:$Z$3)","v":0},{"$f":"SUMIF(BDD!$BG$2:$BG$3,\"Banc 104VRAIFAUX\",BDD!$Z$2:$Z$3)","v":0},{"$f":"SUMIF(BDD!$BG$2:$BG$3,\"Banc 104FAUXVRAI\",BDD!$Z$2:$Z$3)","v":0},{"$f":"SUMIF(BDD!$BG$2:$BG$3,\"Banc 104VRAIFAUX\",BDD!$Z$2:$Z$3)","v":0},{"$f":"SUMIF(BDD!$BG$2:$BG$3,\"Banc 104FAUXVRAI\",BDD!$Z$2:$Z$3)","v":0},{"$f":"SUMIF(BDD!$BG$2:$BG$3,\"Banc 104VRAIFAUX\",BDD!$Z$2:$Z$3)","v":0},{"$f":"SUMIF(BDD!$BG$2:$BG$3,\"Banc 104FAUXVRAI\",BDD!$Z$2:$Z$3)","v":0},{"$f":"SUMIF(BDD!$BG$2:$BG$3,\"Banc 104VRAIFAUX\",BDD!$Z$2:$Z$3)","v":0},{"$f":"SUMIF(BDD!$BG$2:$BG$3,\"Banc 104FAUXVRAI\",BDD!$Z$2:$Z$3)","v":0},{"$f":"SUMIF(BDD!$BG$2:$BG$3,\"Banc 104VRAIFAUX\",BDD!$Z$2:$Z$3)","v":0},{"$f":"SUMIF(BDD!$BG$2:$BG$3,\"Banc 104FAUXVRAI\",BDD!$Z$2:$Z$3)","v":0},{"$f":"SUMIF(BDD!$BG$2:$BG$3,\"Banc 104VRAIFAUX\",BDD!$Z$2:$Z$3)","v":0},{"$f":"SUMIF(BDD!$BG$2:$BG$3,\"Banc 104FAUXVRAI\",BDD!$Z$2:$Z$3)","v":0},{"$f":"SUMIF(BDD!$BG$2:$BG$3,\"Banc 104VRAIFAUX\",BDD!$Z$2:$Z$3)","v":0},{"$f":"SUMIF(BDD!$BG$2:$BG$3,\"Banc 104FAUXVRAI\",BDD!$Z$2:$Z$3)","v":0},{"$f":"SUMIF(BDD!$BG$2:$BG$3,\"Banc 104VRAIFAUX\",BDD!$Z$2:$Z$3)","v":0},{"$f":"SUMIF(BDD!$BG$2:$BG$3,\"Banc 104FAUXVRAI\",BDD!$Z$2:$Z$3)","v":0}]
["Banc 121",{"$f":"SUMIF(BDD!$BG$2:$BG$3,\"Banc 121VRAIFAUX\",BDD!$Z$2:$Z$3)","v":0},{"$f":"SUMIF(BDD!$BG$2:$BG$3,\"Banc 121FAUXVRAI\",BDD!$Z$2:$Z$3)","v":0},{"$f":"SUMIF(BDD!$BG$2:$BG$3,\"Banc 121VRAIFAUX\",BDD!$Z$2:$Z$3)","v":0},{"$f":"SUMIF(BDD!$BG$2:$BG$3,\"Banc 121FAUXVRAI\",BDD!$Z$2:$Z$3)","v":0},{"$f":"SUMIF(BDD!$BG$2:$BG$683,\"Banc 121VRAIFAUX\",BDD!$Z$2:$Z$683)","v":0},{"$f":"SUMIF(BDD!$BG$2:$BG$683,\"Banc 121FAUXVRAI\",BDD!$Z$2:$Z$683)","v":0},{"$f":"SUMIF(BDD!$BG$2:$BG$3,\"Banc 121VRAIFAUX\",BDD!$Z$2:$Z$3)","v":0},{"$f":"SUMIF(BDD!$BG$2:$BG$3,\"Banc 121FAUXVRAI\",BDD!$Z$2:$Z$3)","v":0},{"$f":"SUMIF(BDD!$BG$2:$BG$3,\"Banc 121VRAIFAUX\",BDD!$Z$2:$Z$3)","v":0},{"$f":"SUMIF(BDD!$BG$2:$BG$3,\"Banc 121FAUXVRAI\",BDD!$Z$2:$Z$3)","v":0},{"$f":"SUMIF(BDD!$BG$2:$BG$3,\"Banc 121VRAIFAUX\",BDD!$Z$2:$Z$3)","v":0},{"$f":"SUMIF(BDD!$BG$2:$BG$3,\"Banc 121FAUXVRAI\",BDD!$Z$2:$Z$3)","v":0},{"$f":"SUMIF(BDD!$BG$2:$BG$3,\"Banc 121VRAIFAUX\",BDD!$Z$2:$Z$3)","v":0},{"$f":"SUMIF(BDD!$BG$2:$BG$3,\"Banc 121FAUXVRAI\",BDD!$Z$2:$Z$3)","v":0},{"$f":"SUMIF(BDD!$BG$2:$BG$3,\"Banc 121VRAIFAUX\",BDD!$Z$2:$Z$3)","v":0},{"$f":"SUMIF(BDD!$BG$2:$BG$3,\"Banc 121FAUXVRAI\",BDD!$Z$2:$Z$3)","v":0},{"$f":"SUMIF(BDD!$BG$2:$BG$3,\"Banc 121VRAIFAUX\",BDD!$Z$2:$Z$3)","v":0},{"$f":"SUMIF(BDD!$BG$2:$BG$3,\"Banc 121FAUXVRAI\",BDD!$Z$2:$Z$3)","v":0},{"$f":"SUMIF(BDD!$BG$2:$BG$3,\"Banc 121VRAIFAUX\",BDD!$Z$2:$Z$3)","v":0},{"$f":"SUMIF(BDD!$BG$2:$BG$3,\"Banc 121FAUXVRAI\",BDD!$Z$2:$Z$3)","v":0},{"$f":"SUMIF(BDD!$BG$2:$BG$3,\"Banc 121VRAIFAUX\",BDD!$Z$2:$Z$3)","v":0},{"$f":"SUMIF(BDD!$BG$2:$BG$3,\"Banc 121FAUXVRAI\",BDD!$Z$2:$Z$3)","v":0},{"$f":"SUMIF(BDD!$BG$2:$BG$3,\"Banc 121VRAIFAUX\",BDD!$Z$2:$Z$3)","v":0},{"$f":"SUMIF(BDD!$BG$2:$BG$3,\"Banc 121FAUXVRAI\",BDD!$Z$2:$Z$3)","v":0}]
["Pompe à eau",{"$f":"SUMIF(BDD!$BG$2:$BG$3,\"Pompe à eauVRAIFAUX\",BDD!$Z$2:$Z$3)","v":0},{"$f":"SUMIF(BDD!$BG$2:$BG$3,\"Pompe à eauFAUXVRAI\",BDD!$Z$2:$Z$3)","v":0},{"$f":"SUMIF(BDD!$BG$2:$BG$3,\"Pompe à eauVRAIFAUX\",BDD!$Z$2:$Z$3)","v":0},{"$f":"SUMIF(BDD!$BG$2:$BG$3,\"Pompe à eauFAUXVRAI\",BDD!$Z$2:$Z$3)","v":0},{"$f":"SUMIF(BDD!$BG$2:$BG$683,\"Pompe à eauVRAIFAUX\",BDD!$Z$2:$Z$683)","v":1},{"$f":"SUMIF(BDD!$BG$2:$BG$683,\"Pompe à eauFAUXVRAI\",BDD!$Z$2:$Z$683)","v":0},{"$f":"SUMIF(BDD!$BG$2:$BG$3,\"Pompe à eauVRAIFAUX\",BDD!$Z$2:$Z$3)","v":0},{"$f":"SUMIF(BDD!$BG$2:$BG$3,\"Pompe à eauFAUXVRAI\",BDD!$Z$2:$Z$3)","v":0},{"$f":"SUMIF(BDD!$BG$2:$BG$3,\"Pompe à eauVRAIFAUX\",BDD!$Z$2:$Z$3)","v":0},{"$f":"SUMIF(BDD!$BG$2:$BG$3,\"Pompe à eauFAUXVRAI\",BDD!$Z$2:$Z$3)","v":0},{"$f":"SUMIF(BDD!$BG$2:$BG$3,\"Pompe à eauVRAIFAUX\",BDD!$Z$2:$Z$3)","v":0},{"$f":"SUMIF(BDD!$BG$2:$BG$3,\"Pompe à eauFAUXVRAI\",BDD!$Z$2:$Z$3)","v":0},{"$f":"SUMIF(BDD!$BG$2:$BG$3,\"Pompe à eauVRAIFAUX\",BDD!$Z$2:$Z$3)","v":0},{"$f":"SUMIF(BDD!$BG$2:$BG$3,\"Pompe à eauFAUXVRAI\",BDD!$Z$2:$Z$3)","v":0},{"$f":"SUMIF(BDD!$BG$2:$BG$3,\"Pompe à eauVRAIFAUX\",BDD!$Z$2:$Z$3)","v":0},{"$f":"SUMIF(BDD!$BG$2:$BG$3,\"Pompe à eauFAUXVRAI\",BDD!$Z$2:$Z$3)","v":0},{"$f":"SUMIF(BDD!$BG$2:$BG$3,\"Pompe à eauVRAIFAUX\",BDD!$Z$2:$Z$3)","v":0},{"$f":"SUMIF(BDD!$BG$2:$BG$3,\"Pompe à eauFAUXVRAI\",BDD!$Z$2:$Z$3)","v":0},{"$f":"SUMIF(BDD!$BG$2:$BG$3,\"Pompe à eauVRAIFAUX\",BDD!$Z$2:$Z$3)","v":0},{"$f":"SUMIF(BDD!$BG$2:$BG$3,\"Pompe à eauFAUXVRAI\",BDD!$Z$2:$Z$3)","v":0},{"$f":"SUMIF(BDD!$BG$2:$BG$3,\"Pompe à eauVRAIFAUX\",BDD!$Z$2:$Z$3)","v":0},{"$f":"SUMIF(BDD!$BG$2:$BG$3,\"Pompe à eauFAUXVRAI\",BDD!$Z$2:$Z$3)","v":0},{"$f":"SUMIF(BDD!$BG$2:$BG$3,\"Pompe à eauVRAIFAUX\",BDD!$Z$2:$Z$3)","v":0},{"$f":"SUMIF(BDD!$BG$2:$BG$3,\"Pompe à eauFAUXVRAI\",BDD!$Z$2:$Z$3)","v":0}]
["Banc PowerTrain",{"$f":"SUMIF(BDD!$BG$2:$BG$3,\"Banc PowerTrainVRAIFAUX\",BDD!$Z$2:$Z$3)","v":0},{"$f":"SUMIF(BDD!$BG$2:$BG$3,\"Banc PowerTrainFAUXVRAI\",BDD!$Z$2:$Z$3)","v":0},{"$f":"SUMIF(BDD!$BG$2:$BG$3,\"Banc PowerTrainVRAIFAUX\",BDD!$Z$2:$Z$3)","v":0},{"$f":"SUMIF(BDD!$BG$2:$BG$3,\"Banc PowerTrainFAUXVRAI\",BDD!$Z$2:$Z$3)","v":0},{"$f":"SUMIF(BDD!$BG$2:$BG$683,\"Banc PowerTrainVRAIFAUX\",BDD!$Z$2:$Z$683)","v":0},{"$f":"SUMIF(BDD!$BG$2:$BG$683,\"Banc PowerTrainFAUXVRAI\",BDD!$Z$2:$Z$683)","v":0},{"$f":"SUMIF(BDD!$BG$2:$BG$3,\"Banc PowerTrainVRAIFAUX\",BDD!$Z$2:$Z$3)","v":0},{"$f":"SUMIF(BDD!$BG$2:$BG$3,\"Banc PowerTrainFAUXVRAI\",BDD!$Z$2:$Z$3)","v":0},{"$f":"SUMIF(BDD!$BG$2:$BG$3,\"Banc PowerTrainVRAIFAUX\",BDD!$Z$2:$Z$3)","v":0},{"$f":"SUMIF(BDD!$BG$2:$BG$3,\"Banc PowerTrainFAUXVRAI\",BDD!$Z$2:$Z$3)","v":0},{"$f":"SUMIF(BDD!$BG$2:$BG$3,\"Banc PowerTrainVRAIFAUX\",BDD!$Z$2:$Z$3)","v":0},{"$f":"SUMIF(BDD!$BG$2:$BG$3,\"Banc PowerTrainFAUXVRAI\",BDD!$Z$2:$Z$3)","v":0},{"$f":"SUMIF(BDD!$BG$2:$BG$3,\"Banc PowerTrainVRAIFAUX\",BDD!$Z$2:$Z$3)","v":0},{"$f":"SUMIF(BDD!$BG$2:$BG$3,\"Banc PowerTrainFAUXVRAI\",BDD!$Z$2:$Z$3)","v":0},{"$f":"SUMIF(BDD!$BG$2:$BG$3,\"Banc PowerTrainVRAIFAUX\",BDD!$Z$2:$Z$3)","v":0},{"$f":"SUMIF(BDD!$BG$2:$BG$3,\"Banc PowerTrainFAUXVRAI\",BDD!$Z$2:$Z$3)","v":0},{"$f":"SUMIF(BDD!$BG$2:$BG$3,\"Banc PowerTrainVRAIFAUX\",BDD!$Z$2:$Z$3)","v":0},{"$f":"SUMIF(BDD!$BG$2:$BG$3,\"Banc PowerTrainFAUXVRAI\",BDD!$Z$2:$Z$3)","v":0},{"$f":"SUMIF(BDD!$BG$2:$BG$3,\"Banc PowerTrainVRAIFAUX\",BDD!$Z$2:$Z$3)","v":0},{"$f":"SUMIF(BDD!$BG$2:$BG$3,\"Banc PowerTrainFAUXVRAI\",BDD!$Z$2:$Z$3)","v":0},{"$f":"SUMIF(BDD!$BG$2:$BG$3,\"Banc PowerTrainVRAIFAUX\",BDD!$Z$2:$Z$3)","v":0},{"$f":"SUMIF(BDD!$BG$2:$BG$3,\"Banc PowerTrainFAUXVRAI\",BDD!$Z$2:$Z$3)","v":0},{"$f":"SUMIF(BDD!$BG$2:$BG$3,\"Banc PowerTrainVRAIFAUX\",BDD!$Z$2:$Z$3)","v":0},{"$f":"SUMIF(BDD!$BG$2:$BG$3,\"Banc PowerTrainFAUXVRAI\",BDD!$Z$2:$Z$3)","v":0}]
[]
[]
[]
[]
[]
[]
[]
[]
[]
[]
[]
[]
[]
[]
[]
[]
[]
[]
[]
[]
[]
[]
[null,"Suivi du correctif et du préventif par banc"]
[null,"Janvier",null,null,null,null,null,"Février",null,null,null,null,null,"Mars",null,null,null,null,null,"Avril",null,null,null,null,null,"Mai",null,null,null,null,null,"Juin",null,null,null,null,null,"Juillet",null,null,null,null,null,"Août",null,null,null,null,null,"Septembre",null,null,null,null,null,"Octobre",null,null,null,null,null,"Novembre",null,null,null,null,null,"Décembre"]
[null,"Corrective",null,null,"Préventive",null,null,"Corrective",null,null,"Préventive",null,null,"Corrective",null,null,"Préventive",null,null,"Corrective",null,null,"Préventive",null,null,"Corrective",null,null,"Préventive",null,null,"Corrective",null,null,"Préventive",null,null,"Corrective",null,null,"Préventive",null,null,"Corrective",null,null,"Préventive",null,null,"Corrective",null,null,"Préventive",null,null,"Corrective",null,null,"Préventive",null,null,"Corrective",null,null,"Préventive",null,null,"Corrective",null,null,"Préventive"]
["Banc zone 8","Electrique","Mécanique","Hydraulique","Electrique","Mécanique","Hydraulique","Electrique","Mécanique","Hydraulique","Electrique","Mécanique","Hydraulique","Electrique","Mécanique","Hydraulique","Electrique","Mécanique","Hydraulique","Electrique","Mécanique","Hydraulique","Electrique","Mécanique","Hydraulique","Electrique","Mécanique","Hydraulique","Electrique","Mécanique","Hydraulique","Electrique","Mécanique","Hydraulique","Electrique","Mécanique","Hydraulique","Electrique","Mécanique","Hydraulique","Electrique","Mécanique","Hydraulique","Electrique","Mécanique","Hydraulique","Electrique","Mécanique","Hydraulique","Electrique","Mécanique","Hydraulique","Electrique","Mécanique","Hydraulique","Electrique","Mécanique","Hydraulique","Electrique","Mécanique","Hydraulique","Electrique","Mécanique","Hydraulique","Electrique","Mécanique","Hydraulique","Electrique","Mécanique","Hydraulique","Electrique","Mécanique","Hydraulique"]
["Banc P5",{"$f":"SUMIF(BDD!$BH$2:$BH$3,\"Banc P5VRAIFAUXVRAIFAUXFAUX\",BDD!$Z$2:$Z$3)","v":0},{"$f":"SUMIF(BDD!$BH$2:$BH$3,\"Banc P5VRAIFAUXFAUXVRAIFAUX\",BDD!$Z$2:$Z$3)","v":0},{"$f":"SUMIF(BDD!$BH$2:$BH$3,\"Banc P5VRAIFAUXFAUXFAUXVRAI\",BDD!$Z$2:$Z$3)","v":0},{"$f":"SUMIF(BDD!$BH$2:$BH$3,\"Banc P5FAUXVRAIVRAIFAUXFAUX\",BDD!$Z$2:$Z$3)","v":0},{"$f":"SUMIF(BDD!$BH$2:$BH$3,\"Banc P5FAUXVRAIFAUXVRAIFAUX\",BDD!$Z$2:$Z$3)","v":0},{"$f":"SUMIF(BDD!$BH$2:$BH$3,\"Banc P5FAUXVRAIFAUXFAUXVRAI\",BDD!$Z$2:$Z$3)","v":0},{"$f":"SUMIF(BDD!$BH$2:$BH$3,\"Banc P5VRAIFAUXVRAIFAUXFAUX\",BDD!$Z$2:$Z$3)","v":0},{"$f":"SUMIF(BDD!$BH$2:$BH$3,\"Banc P5VRAIFAUXFAUXVRAIFAUX\",BDD!$Z$2:$Z$3)","v":0},{"$f":"SUMIF(BDD!$BH$2:$BH$3,\"Banc P5VRAIFAUXFAUXFAUXVRAI\",BDD!$Z$2:$Z$3)","v":0},{"$f":"SUMIF(BDD!$BH$2:$BH$3,\"Banc P5FAUXVRAIVRAIFAUXFAUX\",BDD!$Z$2:$Z$3)","v":0},{"$f":"SUMIF(BDD!$BH$2:$BH$3,\"Banc P5FAUXVRAIFAUXVRAIFAUX\",BDD!$Z$2:$Z$3)","v":0},{"$f":"SUMIF(BDD!$BH$2:$BH$3,\"Banc P5FAUXVRAIFAUXFAUXVRAI\",BDD!$Z$2:$Z$3)","v":0},{"$f":"SUMIF(BDD!$BH$2:$BH$683,\"Banc P5VRAIFAUXVRAIFAUXFAUX\",BDD!$Z$2:$Z$683)","v":0},{"$f":"SUMIF(BDD!$BH$2:$BH$683,\"Banc P5VRAIFAUXFAUXVRAIFAUX\",BDD!$Z$2:$Z$683)","v":0},{"$f":"SUMIF(BDD!$BH$2:$BH$683,\"Banc P5VRAIFAUXFAUXFAUXVRAI\",BDD!$Z$2:$Z$683)","v":0},{"$f":"SUMIF(BDD!$BH$2:$BH$683,\"Banc P5FAUXVRAIVRAIFAUXFAUX\",BDD!$Z$2:$Z$683)","v":0},{"$f":"SUMIF(BDD!$BH$2:$BH$683,\"Banc P5FAUXVRAIFAUXVRAIFAUX\",BDD!$Z$2:$Z$683)","v":0},{"$f":"SUMIF(BDD!$BH$2:$BH$683,\"Banc P5FAUXVRAIFAUXFAUXVRAI\",BDD!$Z$2:$Z$683)","v":0},{"$f":"SUMIF(BDD!$BH$2:$BH$3,\"Banc P5VRAIFAUXVRAIFAUXFAUX\",BDD!$Z$2:$Z$3)","v":0},{"$f":"SUMIF(BDD!$BH$2:$BH$3,\"Banc P5VRAIFAUXFAUXVRAIFAUX\",BDD!$Z$2:$Z$3)","v":0},{"$f":"SUMIF(BDD!$BH$2:$BH$3,\"Banc P5VRAIFAUXFAUXFAUXVRAI\",BDD!$Z$2:$Z$3)","v":0},{"$f":"SUMIF(BDD!$BH$2:$BH$3,\"Banc P5FAUXVRAIVRAIFAUXFAUX\",BDD!$Z$2:$Z$3)","v":0},{"$f":"SUMIF(BDD!$BH$2:$BH$3,\"Banc P5FAUXVRAIFAUXVRAIFAUX\",BDD!$Z$2:$Z$3)","v":0},{"$f":"SUMIF(BDD!$BH$2:$BH$3,\"Banc P5FAUXVRAIFAUXFAUXVRAI\",BDD!$Z$2:$Z$3)","v":0},{"$f":"SUMIF(BDD!$BH$2:$BH$3,\"Banc P5VRAIFAUXVRAIFAUXFAUX\",BDD!$Z$2:$Z$3)","v":0},{"$f":"SUMIF(BDD!$BH$2:$BH$3,\"Banc P5VRAIFAUXFAUXVRAIFAUX\",BDD!$Z$2:$Z$3)","v":0},{"$f":"SUMIF(BDD!$BH$2:$BH$3,\"Banc P5VRAIFAUXFAUXFAUXVRAI\",BDD!$Z$2:$Z$3)","v":0},{"$f":"SUMIF(BDD!$BH$2:$BH$3,\"Banc P5FAUXVRAIVRAIFAUXFAUX\",BDD!$Z$2:$Z$3)","v":0},{"$f":"SUMIF(BDD!$BH$2:$BH$3,\"Banc P5FAUXVRAIFAUXVRAIFAUX\",BDD!$Z$2:$Z$3)","v":0},{"$f":"SUMIF(BDD!$BH$2:$BH$3,\"Banc P5FAUXVRAIFAUXFAUXVRAI\",BDD!$Z$2:$Z$3)","v":0},{"$f":"SUMIF(BDD!$BH$2:$BH$3,\"Banc P5VRAIFAUXVRAIFAUXFAUX\",BDD!$Z$2:$Z$3)","v":0},{"$f":"SUMIF(BDD!$BH$2:$BH$3,\"Banc P5VRAIFAUXFAUXVRAIFAUX\",BDD!$Z$2:$Z$3)","v":0},{"$f":"SUMIF(BDD!$BH$2:$BH$3,\"Banc P5VRAIFAUXFAUXFAUXVRAI\",BDD!$Z$2:$Z$3)","v":0},{"$f":"SUMIF(BDD!$BH$2:$BH$3,\"Banc P5FAUXVRAIVRAIFAUXFAUX\",BDD!$Z$2:$Z$3)","v":0},{"$f":"SUMIF(BDD!$BH$2:$BH$3,\"Banc P5FAUXVRAIFAUXVRAIFAUX\",BDD!$Z$2:$Z$3)","v":0},{"$f":"SUMIF(BDD!$BH$2:$BH$3,\"Banc P5FAUXVRAIFAUXFAUXVRAI\",BDD!$Z$2:$Z$3)","v":0},{"$f":"SUMIF(BDD!$BH$2:$BH$3,\"Banc P5VRAIFAUXVRAIFAUXFAUX\",BDD!$Z$2:$Z$3)","v":0},{"$f":"SUMIF(BDD!$BH$2:$BH$3,\"Banc P5VRAIFAUXFAUXVRAIFAUX\",BDD!$Z$2:$Z$3)","v":0},{"$f":"SUMIF(BDD!$BH$2:$BH$3,\"Banc P5VRAIFAUXFAUXFAUXVRAI\",BDD!$Z$2:$Z$3)","v":0},{"$f":"SUMIF(BDD!$BH$2:$BH$3,\"Banc P5FAUXVRAIVRAIFAUXFAUX\",BDD!$Z$2:$Z$3)","v":0},{"$f":"SUMIF(BDD!$BH$2:$BH$3,\"Banc P5FAUXVRAIFAUXVRAIFAUX\",BDD!$Z$2:$Z$3)","v":0},{"$f":"SUMIF(BDD!$BH$2:$BH$3,\"Banc P5FAUXVRAIFAUXFAUXVRAI\",BDD!$Z$2:$Z$3)","v":0},{"$f":"SUMIF(BDD!$BH$2:$BH$3,\"Banc P5VRAIFAUXVRAIFAUXFAUX\",BDD!$Z$2:$Z$3)","v":0},{"$f":"SUMIF(BDD!$BH$2:$BH$3,\"Banc P5VRAIFAUXFAUXVRAIFAUX\",BDD!$Z$2:$Z$3)","v":0},{"$f":"SUMIF(BDD!$BH$2:$BH$3,\"Banc P5VRAIFAUXFAUXFAUXVRAI\",BDD!$Z$2:$Z$3)","v":0},{"$f":"SUMIF(BDD!$BH$2:$BH$3,\"Banc P5FAUXVRAIVRAIFAUXFAUX\",BDD!$Z$2:$Z$3)","v":0},{"$f":"SUMIF(BDD!$BH$2:$BH$3,\"Banc P5FAUXVRAIFAUXVRAIFAUX\",BDD!$Z$2:$Z$3)","v":0},{"$f":"SUMIF(BDD!$BH$2:$BH$3,\"Banc P5FAUXVRAIFAUXFAUXVRAI\",BDD!$Z$2:$Z$3)","v":0},{"$f":"SUMIF(BDD!$BH$2:$BH$3,\"Banc P5VRAIFAUXVRAIFAUXFAUX\",BDD!$Z$2:$Z$3)","v":0},{"$f":"SUMIF(BDD!$BH$2:$BH$3,\"Banc P5VRAIFAUXFAUXVRAIFAUX\",BDD!$Z$2:$Z$3)","v":0},{"$f":"SUMIF(BDD!$BH$2:$BH$3,\"Banc P5VRAIFAUXFAUXFAUXVRAI\",BDD!$Z$2:$Z$3)","v":0},{"$f":"SUMIF(BDD!$BH$2:$BH$3,\"Banc P5FAUXVRAIVRAIFAUXFAUX\",BDD!$Z$2:$Z$3)","v":0},{"$f":"SUMIF(BDD!$BH$2:$BH$3,\"Banc P5FAUXVRAIFAUXVRAIFAUX\",BDD!$Z$2:$Z$3)","v":0},{"$f":"SUMIF(BDD!$BH$2:$BH$3,\"Banc P5FAUXVRAIFAUXFAUXVRAI\",BDD!$Z$2:$Z$3)","v":0},{"$f":"SUMIF(BDD!$BH$2:$BH$3,\"Banc P5VRAIFAUXVRAIFAUXFAUX\",BDD!$Z$2:$Z$3)","v":0},{"$f":"SUMIF(BDD!$BH$2:$BH$3,\"Banc P5VRAIFAUXFAUXVRAIFAUX\",BDD!$Z$2:$Z$3)","v":0},{"$f":"SUMIF(BDD!$BH$2:$BH$3,\"Banc P5VRAIFAUXFAUXFAUXVRAI\",BDD!$Z$2:$Z$3)","v":0},{"$f":"SUMIF(BDD!$BH$2:$BH$3,\"Banc P5FAUXVRAIVRAIFAUXFAUX\",BDD!$Z$2:$Z$3)","v":0},{"$f":"SUMIF(BDD!$BH$2:$BH$3,\"Banc P5FAUXVRAIFAUXVRAIFAUX\",BDD!$Z$2:$Z$3)","v":0},{"$f":"SUMIF(BDD!$BH$2:$BH$3,\"Banc P5FAUXVRAIFAUXFAUXVRAI\",BDD!$Z$2:$Z$3)","v":0},{"$f":"SUMIF(BDD!$BH$2:$BH$3,\"Banc P5VRAIFAUXVRAIFAUXFAUX\",BDD!$Z$2:$Z$3)","v":0},{"$f":"SUMIF(BDD!$BH$2:$BH$3,\"Banc P5VRAIFAUXFAUXVRAIFAUX\",BDD!$Z$2:$Z$3)","v":0},{"$f":"SUMIF(BDD!$BH$2:$BH$3,\"Banc P5VRAIFAUXFAUXFAUXVRAI\",BDD!$Z$2:$Z$3)","v":0},{"$f":"SUMIF(BDD!$BH$2:$BH$3,\"Banc P5FAUXVRAIVRAIFAUXFAUX\",BDD!$Z$2:$Z$3)","v":0},{"$f":"SUMIF(BDD!$BH$2:$BH$3,\"Banc P5FAUXVRAIFAUXVRAIFAUX\",BDD!$Z$2:$Z$3)","v":0},{"$f":"SUMIF(BDD!$BH$2:$BH$3,\"Banc P5FAUXVRAIFAUXFAUXVRAI\",BDD!$Z$2:$Z$3)","v":0},{"$f":"SUMIF(BDD!$BH$2:$BH$3,\"Banc P5VRAIFAUXVRAIFAUXFAUX\",BDD!$Z$2:$Z$3)","v":0},{"$f":"SUMIF(BDD!$BH$2:$BH$3,\"Banc P5VRAIFAUXFAUXVRAIFAUX\",BDD!$Z$2:$Z$3)","v":0},{"$f":"SUMIF(BDD!$BH$2:$BH$3,\"Banc P5VRAIFAUXFAUXFAUXVRAI\",BDD!$Z$2:$Z$3)","v":0},{"$f":"SUMIF(BDD!$BH$2:$BH$3,\"Banc P5FAUXVRAIVRAIFAUXFAUX\",BDD!$Z$2:$Z$3)","v":0},{"$f":"SUMIF(BDD!$BH$2:$BH$3,\"Banc P5FAUXVRAIFAUXVRAIFAUX\",BDD!$Z$2:$Z$3)","v":0},{"$f":"SUMIF(BDD!$BH$2:$BH$3,\"Banc P5FAUXVRAIFAUXFAUXVRAI\",BDD!$Z$2:$Z$3)","v":0}]
["Banc P7",{"$f":"SUMIF(BDD!$BH$2:$BH$3,\"Banc P7VRAIFAUXVRAIFAUXFAUX\",BDD!$Z$2:$Z$3)","v":0},{"$f":"SUMIF(BDD!$BH$2:$BH$3,\"Banc P7VRAIFAUXFAUXVRAIFAUX\",BDD!$Z$2:$Z$3)","v":0},{"$f":"SUMIF(BDD!$BH$2:$BH$3,\"Banc P7VRAIFAUXFAUXFAUXVRAI\",BDD!$Z$2:$Z$3)","v":0},{"$f":"SUMIF(BDD!$BH$2:$BH$3,\"Banc P7FAUXVRAIVRAIFAUXFAUX\",BDD!$Z$2:$Z$3)","v":0},{"$f":"SUMIF(BDD!$BH$2:$BH$3,\"Banc P7FAUXVRAIFAUXVRAIFAUX\",BDD!$Z$2:$Z$3)","v":0},{"$f":"SUMIF(BDD!$BH$2:$BH$3,\"Banc P7FAUXVRAIFAUXFAUXVRAI\",BDD!$Z$2:$Z$3)","v":0},{"$f":"SUMIF(BDD!$BH$2:$BH$3,\"Banc P7VRAIFAUXVRAIFAUXFAUX\",BDD!$Z$2:$Z$3)","v":0},{"$f":"SUMIF(BDD!$BH$2:$BH$3,\"Banc P7VRAIFAUXFAUXVRAIFAUX\",BDD!$Z$2:$Z$3)","v":0},{"$f":"SUMIF(BDD!$BH$2:$BH$3,\"Banc P7VRAIFAUXFAUXFAUXVRAI\",BDD!$Z$2:$Z$3)","v":0},{"$f":"SUMIF(BDD!$BH$2:$BH$3,\"Banc P7FAUXVRAIVRAIFAUXFAUX\",BDD!$Z$2:$Z$3)","v":0},{"$f":"SUMIF(BDD!$BH$2:$BH$3,\"Banc P7FAUXVRAIFAUXVRAIFAUX\",BDD!$Z$2:$Z$3)","v":0},{"$f":"SUMIF(BDD!$BH$2:$BH$3,\"Banc P7FAUXVRAIFAUXFAUXVRAI\",BDD!$Z$2:$Z$3)","v":0},{"$f":"SUMIF(BDD!$BH$2:$BH$683,\"Banc P7VRAIFAUXVRAIFAUXFAUX\",BDD!$Z$2:$Z$683)","v":0.15},{"$f":"SUMIF(BDD!$BH$2:$BH$683,\"Banc P7VRAIFAUXFAUXVRAIFAUX\",BDD!$Z$2:$Z$683)","v":0},{"$f":"SUMIF(BDD!$BH$2:$BH$683,\"Banc P7VRAIFAUXFAUXFAUXVRAI\",BDD!$Z$2:$Z$683)","v":0},{"$f":"SUMIF(BDD!$BH$2:$BH$683,\"Banc P7FAUXVRAIVRAIFAUXFAUX\",BDD!$Z$2:$Z$683)","v":0},{"$f":"SUMIF(BDD!$BH$2:$BH$683,\"Banc P7FAUXVRAIFAUXVRAIFAUX\",BDD!$Z$2:$Z$683)","v":0},{"$f":"SUMIF(BDD!$BH$2:$BH$683,\"Banc P7FAUXVRAIFAUXFAUXVRAI\",BDD!$Z$2:$Z$683)","v":0},{"$f":"SUMIF(BDD!$BH$2:$BH$3,\"Banc P7VRAIFAUXVRAIFAUXFAUX\",BDD!$Z$2:$Z$3)","v":0},{"$f":"SUMIF(BDD!$BH$2:$BH$3,\"Banc P7VRAIFAUXFAUXVRAIFAUX\",BDD!$Z$2:$Z$3)","v":0},{"$f":"SUMIF(BDD!$BH$2:$BH$3,\"Banc P7VRAIFAUXFAUXFAUXVRAI\",BDD!$Z$2:$Z$3)","v":0},{"$f":"SUMIF(BDD!$BH$2:$BH$3,\"Banc P7FAUXVRAIVRAIFAUXFAUX\",BDD!$Z$2:$Z$3)","v":0},{"$f":"SUMIF(BDD!$BH$2:$BH$3,\"Banc P7FAUXVRAIFAUXVRAIFAUX\",BDD!$Z$2:$Z$3)","v":0},{"$f":"SUMIF(BDD!$BH$2:$BH$3,\"Banc P7FAUXVRAIFAUXFAUXVRAI\",BDD!$Z$2:$Z$3)","v":0},{"$f":"SUMIF(BDD!$BH$2:$BH$3,\"Banc P7VRAIFAUXVRAIFAUXFAUX\",BDD!$Z$2:$Z$3)","v":0},{"$f":"SUMIF(BDD!$BH$2:$BH$3,\"Banc P7VRAIFAUXFAUXVRAIFAUX\",BDD!$Z$2:$Z$3)","v":0},{"$f":"SUMIF(BDD!$BH$2:$BH$3,\"Banc P7VRAIFAUXFAUXFAUXVRAI\",BDD!$Z$2:$Z$3)","v":0},{"$f":"SUMIF(BDD!$BH$2:$BH$3,\"Banc P7FAUXVRAIVRAIFAUXFAUX\",BDD!$Z$2:$Z$3)","v":0},{"$f":"SUMIF(BDD!$BH$2:$BH$3,\"Banc P7FAUXVRAIFAUXVRAIFAUX\",BDD!$Z$2:$Z$3)","v":0},{"$f":"SUMIF(BDD!$BH$2:$BH$3,\"Banc P7FAUXVRAIFAUXFAUXVRAI\",BDD!$Z$2:$Z$3)","v":0},{"$f":"SUMIF(BDD!$BH$2:$BH$3,\"Banc P7VRAIFAUXVRAIFAUXFAUX\",BDD!$Z$2:$Z$3)","v":0},{"$f":"SUMIF(BDD!$BH$2:$BH$3,\"Banc P7VRAIFAUXFAUXVRAIFAUX\",BDD!$Z$2:$Z$3)","v":0},{"$f":"SUMIF(BDD!$BH$2:$BH$3,\"Banc P7VRAIFAUXFAUXFAUXVRAI\",BDD!$Z$2:$Z$3)","v":0},{"$f":"SUMIF(BDD!$BH$2:$BH$3,\"Banc P7FAUXVRAIVRAIFAUXFAUX\",BDD!$Z$2:$Z$3)","v":0},{"$f":"SUMIF(BDD!$BH$2:$BH$3,\"Banc P7FAUXVRAIFAUXVRAIFAUX\",BDD!$Z$2:$Z$3)","v":0},{"$f":"SUMIF(BDD!$BH$2:$BH$3,\"Banc P7FAUXVRAIFAUXFAUXVRAI\",BDD!$Z$2:$Z$3)","v":0},{"$f":"SUMIF(BDD!$BH$2:$BH$3,\"Banc P7VRAIFAUXVRAIFAUXFAUX\",BDD!$Z$2:$Z$3)","v":0},{"$f":"SUMIF(BDD!$BH$2:$BH$3,\"Banc P7VRAIFAUXFAUXVRAIFAUX\",BDD!$Z$2:$Z$3)","v":0},{"$f":"SUMIF(BDD!$BH$2:$BH$3,\"Banc P7VRAIFAUXFAUXFAUXVRAI\",BDD!$Z$2:$Z$3)","v":0},{"$f":"SUMIF(BDD!$BH$2:$BH$3,\"Banc P7FAUXVRAIVRAIFAUXFAUX\",BDD!$Z$2:$Z$3)","v":0},{"$f":"SUMIF(BDD!$BH$2:$BH$3,\"Banc P7FAUXVRAIFAUXVRAIFAUX\",BDD!$Z$2:$Z$3)","v":0},{"$f":"SUMIF(BDD!$BH$2:$BH$3,\"Banc P7FAUXVRAIFAUXFAUXVRAI\",BDD!$Z$2:$Z$3)","v":0},{"$f":"SUMIF(BDD!$BH$2:$BH$3,\"Banc P7VRAIFAUXVRAIFAUXFAUX\",BDD!$Z$2:$Z$3)","v":0},{"$f":"SUMIF(BDD!$BH$2:$BH$3,\"Banc P7VRAIFAUXFAUXVRAIFAUX\",BDD!$Z$2:$Z$3)","v":0},{"$f":"SUMIF(BDD!$BH$2:$BH$3,\"Banc P7VRAIFAUXFAUXFAUXVRAI\",BDD!$Z$2:$Z$3)","v":0},{"$f":"SUMIF(BDD!$BH$2:$BH$3,\"Banc P7FAUXVRAIVRAIFAUXFAUX\",BDD!$Z$2:$Z$3)","v":0},{"$f":"SUMIF(BDD!$BH$2:$BH$3,\"Banc P7FAUXVRAIFAUXVRAIFAUX\",BDD!$Z$2:$Z$3)","v":0},{"$f":"SUMIF(BDD!$BH$2:$BH$3,\"Banc P7FAUXVRAIFAUXFAUXVRAI\",BDD!$Z$2:$Z$3)","v":0},{"$f":"SUMIF(BDD!$BH$2:$BH$3,\"Banc P7VRAIFAUXVRAIFAUXFAUX\",BDD!$Z$2:$Z$3)","v":0},{"$f":"SUMIF(BDD!$BH$2:$BH$3,\"Banc P7VRAIFAUXFAUXVRAIFAUX\",BDD!$Z$2:$Z$3)","v":0},{"$f":"SUMIF(BDD!$BH$2:$BH$3,\"Banc P7VRAIFAUXFAUXFAUXVRAI\",BDD!$Z$2:$Z$3)","v":0},{"$f":"SUMIF(BDD!$BH$2:$BH$3,\"Banc P7FAUXVRAIVRAIFAUXFAUX\",BDD!$Z$2:$Z$3)","v":0},{"$f":"SUMIF(BDD!$BH$2:$BH$3,\"Banc P7FAUXVRAIFAUXVRAIFAUX\",BDD!$Z$2:$Z$3)","v":0},{"$f":"SUMIF(BDD!$BH$2:$BH$3,\"Banc P7FAUXVRAIFAUXFAUXVRAI\",BDD!$Z$2:$Z$3)","v":0},{"$f":"SUMIF(BDD!$BH$2:$BH$3,\"Banc P7VRAIFAUXVRAIFAUXFAUX\",BDD!$Z$2:$Z$3)","v":0},{"$f":"SUMIF(BDD!$BH$2:$BH$3,\"Banc P7VRAIFAUXFAUXVRAIFAUX\",BDD!$Z$2:$Z$3)","v":0},{"$f":"SUMIF(BDD!$BH$2:$BH$3,\"Banc P7VRAIFAUXFAUXFAUXVRAI\",BDD!$Z$2:$Z$3)","v":0},{"$f":"SUMIF(BDD!$BH$2:$BH$3,\"Banc P7FAUXVRAIVRAIFAUXFAUX\",BDD!$Z$2:$Z$3)","v":0},{"$f":"SUMIF(BDD!$BH$2:$BH$3,\"Banc P7FAUXVRAIFAUXVRAIFAUX\",BDD!$Z$2:$Z$3)","v":0},{"$f":"SUMIF(BDD!$BH$2:$BH$3,\"Banc P7FAUXVRAIFAUXFAUXVRAI\",BDD!$Z$2:$Z$3)","v":0},{"$f":"SUMIF(BDD!$BH$2:$BH$3,\"Banc P7VRAIFAUXVRAIFAUXFAUX\",BDD!$Z$2:$Z$3)","v":0},{"$f":"SUMIF(BDD!$BH$2:$BH$3,\"Banc P7VRAIFAUXFAUXVRAIFAUX\",BDD!$Z$2:$Z$3)","v":0},{"$f":"SUMIF(BDD!$BH$2:$BH$3,\"Banc P7VRAIFAUXFAUXFAUXVRAI\",BDD!$Z$2:$Z$3)","v":0},{"$f":"SUMIF(BDD!$BH$2:$BH$3,\"Banc P7FAUXVRAIVRAIFAUXFAUX\",BDD!$Z$2:$Z$3)","v":0},{"$f":"SUMIF(BDD!$BH$2:$BH$3,\"Banc P7FAUXVRAIFAUXVRAIFAUX\",BDD!$Z$2:$Z$3)","v":0},{"$f":"SUMIF(BDD!$BH$2:$BH$3,\"Banc P7FAUXVRAIFAUXFAUXVRAI\",BDD!$Z$2:$Z$3)","v":0},{"$f":"SUMIF(BDD!$BH$2:$BH$3,\"Banc P7VRAIFAUXVRAIFAUXFAUX\",BDD!$Z$2:$Z$3)","v":0},{"$f":"SUMIF(BDD!$BH$2:$BH$3,\"Banc P7VRAIFAUXFAUXVRAIFAUX\",BDD!$Z$2:$Z$3)","v":0},{"$f":"SUMIF(BDD!$BH$2:$BH$3,\"Banc P7VRAIFAUXFAUXFAUXVRAI\",BDD!$Z$2:$Z$3)","v":0},{"$f":"SUMIF(BDD!$BH$2:$BH$3,\"Banc P7FAUXVRAIVRAIFAUXFAUX\",BDD!$Z$2:$Z$3)","v":0},{"$f":"SUMIF(BDD!$BH$2:$BH$3,\"Banc P7FAUXVRAIFAUXVRAIFAUX\",BDD!$Z$2:$Z$3)","v":0},{"$f":"SUMIF(BDD!$BH$2:$BH$3,\"Banc P7FAUXVRAIFAUXFAUXVRAI\",BDD!$Z$2:$Z$3)","v":0}]
["Banc 101",{"$f":"SUMIF(BDD!$BH$2:$BH$3,\"Banc 101VRAIFAUXVRAIFAUXFAUX\",BDD!$Z$2:$Z$3)","v":0},{"$f":"SUMIF(BDD!$BH$2:$BH$3,\"Banc 101VRAIFAUXFAUXVRAIFAUX\",BDD!$Z$2:$Z$3)","v":0},{"$f":"SUMIF(BDD!$BH$2:$BH$3,\"Banc 101VRAIFAUXFAUXFAUXVRAI\",BDD!$Z$2:$Z$3)","v":0},{"$f":"SUMIF(BDD!$BH$2:$BH$3,\"Banc 101FAUXVRAIVRAIFAUXFAUX\",BDD!$Z$2:$Z$3)","v":0},{"$f":"SUMIF(BDD!$BH$2:$BH$3,\"Banc 101FAUXVRAIFAUXVRAIFAUX\",BDD!$Z$2:$Z$3)","v":0},{"$f":"SUMIF(BDD!$BH$2:$BH$3,\"Banc 101FAUXVRAIFAUXFAUXVRAI\",BDD!$Z$2:$Z$3)","v":0},{"$f":"SUMIF(BDD!$BH$2:$BH$3,\"Banc 101VRAIFAUXVRAIFAUXFAUX\",BDD!$Z$2:$Z$3)","v":0},{"$f":"SUMIF(BDD!$BH$2:$BH$3,\"Banc 101VRAIFAUXFAUXVRAIFAUX\",BDD!$Z$2:$Z$3)","v":0},{"$f":"SUMIF(BDD!$BH$2:$BH$3,\"Banc 101VRAIFAUXFAUXFAUXVRAI\",BDD!$Z$2:$Z$3)","v":0},{"$f":"SUMIF(BDD!$BH$2:$BH$3,\"Banc 101FAUXVRAIVRAIFAUXFAUX\",BDD!$Z$2:$Z$3)","v":0},{"$f":"SUMIF(BDD!$BH$2:$BH$3,\"Banc 101FAUXVRAIFAUXVRAIFAUX\",BDD!$Z$2:$Z$3)","v":0},{"$f":"SUMIF(BDD!$BH$2:$BH$3,\"Banc 101FAUXVRAIFAUXFAUXVRAI\",BDD!$Z$2:$Z$3)","v":0},{"$f":"SUMIF(BDD!$BH$2:$BH$683,\"Banc 101VRAIFAUXVRAIFAUXFAUX\",BDD!$Z$2:$Z$683)","v":0},{"$f":"SUMIF(BDD!$BH$2:$BH$683,\"Banc 101VRAIFAUXFAUXVRAIFAUX\",BDD!$Z$2:$Z$683)","v":0},{"$f":"SUMIF(BDD!$BH$2:$BH$683,\"Banc 101VRAIFAUXFAUXFAUXVRAI\",BDD!$Z$2:$Z$683)","v":0},{"$f":"SUMIF(BDD!$BH$2:$BH$683,\"Banc 101FAUXVRAIVRAIFAUXFAUX\",BDD!$Z$2:$Z$683)","v":0.1},{"$f":"SUMIF(BDD!$BH$2:$BH$683,\"Banc 101FAUXVRAIFAUXVRAIFAUX\",BDD!$Z$2:$Z$683)","v":0},{"$f":"SUMIF(BDD!$BH$2:$BH$683,\"Banc 101FAUXVRAIFAUXFAUXVRAI\",BDD!$Z$2:$Z$683)","v":0},{"$f":"SUMIF(BDD!$BH$2:$BH$3,\"Banc 101VRAIFAUXVRAIFAUXFAUX\",BDD!$Z$2:$Z$3)","v":0},{"$f":"SUMIF(BDD!$BH$2:$BH$3,\"Banc 101VRAIFAUXFAUXVRAIFAUX\",BDD!$Z$2:$Z$3)","v":0},{"$f":"SUMIF(BDD!$BH$2:$BH$3,\"Banc 101VRAIFAUXFAUXFAUXVRAI\",BDD!$Z$2:$Z$3)","v":0},{"$f":"SUMIF(BDD!$BH$2:$BH$3,\"Banc 101FAUXVRAIVRAIFAUXFAUX\",BDD!$Z$2:$Z$3)","v":0},{"$f":"SUMIF(BDD!$BH$2:$BH$3,\"Banc 101FAUXVRAIFAUXVRAIFAUX\",BDD!$Z$2:$Z$3)","v":0},{"$f":"SUMIF(BDD!$BH$2:$BH$3,\"Banc 101FAUXVRAIFAUXFAUXVRAI\",BDD!$Z$2:$Z$3)","v":0},{"$f":"SUMIF(BDD!$BH$2:$BH$3,\"Banc 101VRAIFAUXVRAIFAUXFAUX\",BDD!$Z$2:$Z$3)","v":0},{"$f":"SUMIF(BDD!$BH$2:$BH$3,\"Banc 101VRAIFAUXFAUXVRAIFAUX\",BDD!$Z$2:$Z$3)","v":0},{"$f":"SUMIF(BDD!$BH$2:$BH$3,\"Banc 101VRAIFAUXFAUXFAUXVRAI\",BDD!$Z$2:$Z$3)","v":0},{"$f":"SUMIF(BDD!$BH$2:$BH$3,\"Banc 101FAUXVRAIVRAIFAUXFAUX\",BDD!$Z$2:$Z$3)","v":0},{"$f":"SUMIF(BDD!$BH$2:$BH$3,\"Banc 101FAUXVRAIFAUXVRAIFAUX\",BDD!$Z$2:$Z$3)","v":0},{"$f":"SUMIF(BDD!$BH$2:$BH$3,\"Banc 101FAUXVRAIFAUXFAUXVRAI\",BDD!$Z$2:$Z$3)","v":0},{"$f":"SUMIF(BDD!$BH$2:$BH$3,\"Banc 101VRAIFAUXVRAIFAUXFAUX\",BDD!$Z$2:$Z$3)","v":0},{"$f":"SUMIF(BDD!$BH$2:$BH$3,\"Banc 101VRAIFAUXFAUXVRAIFAUX\",BDD!$Z$2:$Z$3)","v":0},{"$f":"SUMIF(BDD!$BH$2:$BH$3,\"Banc 101VRAIFAUXFAUXFAUXVRAI\",BDD!$Z$2:$Z$3)","v":0},{"$f":"SUMIF(BDD!$BH$2:$BH$3,\"Banc 101FAUXVRAIVRAIFAUXFAUX\",BDD!$Z$2:$Z$3)","v":0},{"$f":"SUMIF(BDD!$BH$2:$BH$3,\"Banc 101FAUXVRAIFAUXVRAIFAUX\",BDD!$Z$2:$Z$3)","v":0},{"$f":"SUMIF(BDD!$BH$2:$BH$3,\"Banc 101FAUXVRAIFAUXFAUXVRAI\",BDD!$Z$2:$Z$3)","v":0},{"$f":"SUMIF(BDD!$BH$2:$BH$3,\"Banc 101VRAIFAUXVRAIFAUXFAUX\",BDD!$Z$2:$Z$3)","v":0},{"$f":"SUMIF(BDD!$BH$2:$BH$3,\"Banc 101VRAIFAUXFAUXVRAIFAUX\",BDD!$Z$2:$Z$3)","v":0},{"$f":"SUMIF(BDD!$BH$2:$BH$3,\"Banc 101VRAIFAUXFAUXFAUXVRAI\",BDD!$Z$2:$Z$3)","v":0},{"$f":"SUMIF(BDD!$BH$2:$BH$3,\"Banc 101FAUXVRAIVRAIFAUXFAUX\",BDD!$Z$2:$Z$3)","v":0},{"$f":"SUMIF(BDD!$BH$2:$BH$3,\"Banc 101FAUXVRAIFAUXVRAIFAUX\",BDD!$Z$2:$Z$3)","v":0},{"$f":"SUMIF(BDD!$BH$2:$BH$3,\"Banc 101FAUXVRAIFAUXFAUXVRAI\",BDD!$Z$2:$Z$3)","v":0},{"$f":"SUMIF(BDD!$BH$2:$BH$3,\"Banc 101VRAIFAUXVRAIFAUXFAUX\",BDD!$Z$2:$Z$3)","v":0},{"$f":"SUMIF(BDD!$BH$2:$BH$3,\"Banc 101VRAIFAUXFAUXVRAIFAUX\",BDD!$Z$2:$Z$3)","v":0},{"$f":"SUMIF(BDD!$BH$2:$BH$3,\"Banc 101VRAIFAUXFAUXFAUXVRAI\",BDD!$Z$2:$Z$3)","v":0},{"$f":"SUMIF(BDD!$BH$2:$BH$3,\"Banc 101FAUXVRAIVRAIFAUXFAUX\",BDD!$Z$2:$Z$3)","v":0},{"$f":"SUMIF(BDD!$BH$2:$BH$3,\"Banc 101FAUXVRAIFAUXVRAIFAUX\",BDD!$Z$2:$Z$3)","v":0},{"$f":"SUMIF(BDD!$BH$2:$BH$3,\"Banc 101FAUXVRAIFAUXFAUXVRAI\",BDD!$Z$2:$Z$3)","v":0},{"$f":"SUMIF(BDD!$BH$2:$BH$3,\"Banc 101VRAIFAUXVRAIFAUXFAUX\",BDD!$Z$2:$Z$3)","v":0},{"$f":"SUMIF(BDD!$BH$2:$BH$3,\"Banc 101VRAIFAUXFAUXVRAIFAUX\",BDD!$Z$2:$Z$3)","v":0},{"$f":"SUMIF(BDD!$BH$2:$BH$3,\"Banc 101VRAIFAUXFAUXFAUXVRAI\",BDD!$Z$2:$Z$3)","v":0},{"$f":"SUMIF(BDD!$BH$2:$BH$3,\"Banc 101FAUXVRAIVRAIFAUXFAUX\",BDD!$Z$2:$Z$3)","v":0},{"$f":"SUMIF(BDD!$BH$2:$BH$3,\"Banc 101FAUXVRAIFAUXVRAIFAUX\",BDD!$Z$2:$Z$3)","v":0},{"$f":"SUMIF(BDD!$BH$2:$BH$3,\"Banc 101FAUXVRAIFAUXFAUXVRAI\",BDD!$Z$2:$Z$3)","v":0},{"$f":"SUMIF(BDD!$BH$2:$BH$3,\"Banc 101VRAIFAUXVRAIFAUXFAUX\",BDD!$Z$2:$Z$3)","v":0},{"$f":"SUMIF(BDD!$BH$2:$BH$3,\"Banc 101VRAIFAUXFAUXVRAIFAUX\",BDD!$Z$2:$Z$3)","v":0},{"$f":"SUMIF(BDD!$BH$2:$BH$3,\"Banc 101VRAIFAUXFAUXFAUXVRAI\",BDD!$Z$2:$Z$3)","v":0},{"$f":"SUMIF(BDD!$BH$2:$BH$3,\"Banc 101FAUXVRAIVRAIFAUXFAUX\",BDD!$Z$2:$Z$3)","v":0},{"$f":"SUMIF(BDD!$BH$2:$BH$3,\"Banc 101FAUXVRAIFAUXVRAIFAUX\",BDD!$Z$2:$Z$3)","v":0},{"$f":"SUMIF(BDD!$BH$2:$BH$3,\"Banc 101FAUXVRAIFAUXFAUXVRAI\",BDD!$Z$2:$Z$3)","v":0},{"$f":"SUMIF(BDD!$BH$2:$BH$3,\"Banc 101VRAIFAUXVRAIFAUXFAUX\",BDD!$Z$2:$Z$3)","v":0},{"$f":"SUMIF(BDD!$BH$2:$BH$3,\"Banc 101VRAIFAUXFAUXVRAIFAUX\",BDD!$Z$2:$Z$3)","v":0},{"$f":"SUMIF(BDD!$BH$2:$BH$3,\"Banc 101VRAIFAUXFAUXFAUXVRAI\",BDD!$Z$2:$Z$3)","v":0},{"$f":"SUMIF(BDD!$BH$2:$BH$3,\"Banc 101FAUXVRAIVRAIFAUXFAUX\",BDD!$Z$2:$Z$3)","v":0},{"$f":"SUMIF(BDD!$BH$2:$BH$3,\"Banc 101FAUXVRAIFAUXVRAIFAUX\",BDD!$Z$2:$Z$3)","v":0},{"$f":"SUMIF(BDD!$BH$2:$BH$3,\"Banc 101FAUXVRAIFAUXFAUXVRAI\",BDD!$Z$2:$Z$3)","v":0},{"$f":"SUMIF(BDD!$BH$2:$BH$3,\"Banc 101VRAIFAUXVRAIFAUXFAUX\",BDD!$Z$2:$Z$3)","v":0},{"$f":"SUMIF(BDD!$BH$2:$BH$3,\"Banc 101VRAIFAUXFAUXVRAIFAUX\",BDD!$Z$2:$Z$3)","v":0},{"$f":"SUMIF(BDD!$BH$2:$BH$3,\"Banc 101VRAIFAUXFAUXFAUXVRAI\",BDD!$Z$2:$Z$3)","v":0},{"$f":"SUMIF(BDD!$BH$2:$BH$3,\"Banc 101FAUXVRAIVRAIFAUXFAUX\",BDD!$Z$2:$Z$3)","v":0},{"$f":"SUMIF(BDD!$BH$2:$BH$3,\"Banc 101FAUXVRAIFAUXVRAIFAUX\",BDD!$Z$2:$Z$3)","v":0},{"$f":"SUMIF(BDD!$BH$2:$BH$3,\"Banc 101FAUXVRAIFAUXFAUXVRAI\",BDD!$Z$2:$Z$3)","v":0}]
["Banc 104",{"$f":"SUMIF(BDD!$BH$2:$BH$3,\"Banc 104VRAIFAUXVRAIFAUXFAUX\",BDD!$Z$2:$Z$3)","v":0},{"$f":"SUMIF(BDD!$BH$2:$BH$3,\"Banc 104VRAIFAUXFAUXVRAIFAUX\",BDD!$Z$2:$Z$3)","v":0},{"$f":"SUMIF(BDD!$BH$2:$BH$3,\"Banc 104VRAIFAUXFAUXFAUXVRAI\",BDD!$Z$2:$Z$3)","v":0},{"$f":"SUMIF(BDD!$BH$2:$BH$3,\"Banc 104FAUXVRAIVRAIFAUXFAUX\",BDD!$Z$2:$Z$3)","v":0},{"$f":"SUMIF(BDD!$BH$2:$BH$3,\"Banc 104FAUXVRAIFAUXVRAIFAUX\",BDD!$Z$2:$Z$3)","v":0},{"$f":"SUMIF(BDD!$BH$2:$BH$3,\"Banc 104FAUXVRAIFAUXFAUXVRAI\",BDD!$Z$2:$Z$3)","v":0},{"$f":"SUMIF(BDD!$BH$2:$BH$3,\"Banc 104VRAIFAUXVRAIFAUXFAUX\",BDD!$Z$2:$Z$3)","v":0},{"$f":"SUMIF(BDD!$BH$2:$BH$3,\"Banc 104VRAIFAUXFAUXVRAIFAUX\",BDD!$Z$2:$Z$3)","v":0},{"$f":"SUMIF(BDD!$BH$2:$BH$3,\"Banc 104VRAIFAUXFAUXFAUXVRAI\",BDD!$Z$2:$Z$3)","v":0},{"$f":"SUMIF(BDD!$BH$2:$BH$3,\"Banc 104FAUXVRAIVRAIFAUXFAUX\",BDD!$Z$2:$Z$3)","v":0},{"$f":"SUMIF(BDD!$BH$2:$BH$3,\"Banc 104FAUXVRAIFAUXVRAIFAUX\",BDD!$Z$2:$Z$3)","v":0},{"$f":"SUMIF(BDD!$BH$2:$BH$3,\"Banc 104FAUXVRAIFAUXFAUXVRAI\",BDD!$Z$2:$Z$3)","v":0},{"$f":"SUMIF(BDD!$BH$2:$BH$683,\"Banc 104VRAIFAUXVRAIFAUXFAUX\",BDD!$Z$2:$Z$683)","v":0.1},{"$f":"SUMIF(BDD!$BH$2:$BH$683,\"Banc 104VRAIFAUXFAUXVRAIFAUX\",BDD!$Z$2:$Z$683)","v":0},{"$f":"SUMIF(BDD!$BH$2:$BH$683,\"Banc 104VRAIFAUXFAUXFAUXVRAI\",BDD!$Z$2:$Z$683)","v":2},{"$f":"SUMIF(BDD!$BH$2:$BH$683,\"Banc 104FAUXVRAIVRAIFAUXFAUX\",BDD!$Z$2:$Z$683)","v":0},{"$f":"SUMIF(BDD!$BH$2:$BH$683,\"Banc 104FAUXVRAIFAUXVRAIFAUX\",BDD!$Z$2:$Z$683)","v":0},{"$f":"SUMIF(BDD!$BH$2:$BH$683,\"Banc 104FAUXVRAIFAUXFAUXVRAI\",BDD!$Z$2:$Z$683)","v":1},{"$f":"SUMIF(BDD!$BH$2:$BH$3,\"Banc 104VRAIFAUXVRAIFAUXFAUX\",BDD!$Z$2:$Z$3)","v":0},{"$f":"SUMIF(BDD!$BH$2:$BH$3,\"Banc 104VRAIFAUXFAUXVRAIFAUX\",BDD!$Z$2:$Z$3)","v":0},{"$f":"SUMIF(BDD!$BH$2:$BH$3,\"Banc 104VRAIFAUXFAUXFAUXVRAI\",BDD!$Z$2:$Z$3)","v":0},{"$f":"SUMIF(BDD!$BH$2:$BH$3,\"Banc 104FAUXVRAIVRAIFAUXFAUX\",BDD!$Z$2:$Z$3)","v":0},{"$f":"SUMIF(BDD!$BH$2:$BH$3,\"Banc 104FAUXVRAIFAUXVRAIFAUX\",BDD!$Z$2:$Z$3)","v":0},{"$f":"SUMIF(BDD!$BH$2:$BH$3,\"Banc 104FAUXVRAIFAUXFAUXVRAI\",BDD!$Z$2:$Z$3)","v":0},{"$f":"SUMIF(BDD!$BH$2:$BH$3,\"Banc 104VRAIFAUXVRAIFAUXFAUX\",BDD!$Z$2:$Z$3)","v":0},{"$f":"SUMIF(BDD!$BH$2:$BH$3,\"Banc 104VRAIFAUXFAUXVRAIFAUX\",BDD!$Z$2:$Z$3)","v":0},{"$f":"SUMIF(BDD!$BH$2:$BH$3,\"Banc 104VRAIFAUXFAUXFAUXVRAI\",BDD!$Z$2:$Z$3)","v":0},{"$f":"SUMIF(BDD!$BH$2:$BH$3,\"Banc 104FAUXVRAIVRAIFAUXFAUX\",BDD!$Z$2:$Z$3)","v":0},{"$f":"SUMIF(BDD!$BH$2:$BH$3,\"Banc 104FAUXVRAIFAUXVRAIFAUX\",BDD!$Z$2:$Z$3)","v":0},{"$f":"SUMIF(BDD!$BH$2:$BH$3,\"Banc 104FAUXVRAIFAUXFAUXVRAI\",BDD!$Z$2:$Z$3)","v":0},{"$f":"SUMIF(BDD!$BH$2:$BH$3,\"Banc 104VRAIFAUXVRAIFAUXFAUX\",BDD!$Z$2:$Z$3)","v":0},{"$f":"SUMIF(BDD!$BH$2:$BH$3,\"Banc 104VRAIFAUXFAUXVRAIFAUX\",BDD!$Z$2:$Z$3)","v":0},{"$f":"SUMIF(BDD!$BH$2:$BH$3,\"Banc 104VRAIFAUXFAUXFAUXVRAI\",BDD!$Z$2:$Z$3)","v":0},{"$f":"SUMIF(BDD!$BH$2:$BH$3,\"Banc 104FAUXVRAIVRAIFAUXFAUX\",BDD!$Z$2:$Z$3)","v":0},{"$f":"SUMIF(BDD!$BH$2:$BH$3,\"Banc 104FAUXVRAIFAUXVRAIFAUX\",BDD!$Z$2:$Z$3)","v":0},{"$f":"SUMIF(BDD!$BH$2:$BH$3,\"Banc 104FAUXVRAIFAUXFAUXVRAI\",BDD!$Z$2:$Z$3)","v":0},{"$f":"SUMIF(BDD!$BH$2:$BH$3,\"Banc 104VRAIFAUXVRAIFAUXFAUX\",BDD!$Z$2:$Z$3)","v":0},{"$f":"SUMIF(BDD!$BH$2:$BH$3,\"Banc 104VRAIFAUXFAUXVRAIFAUX\",BDD!$Z$2:$Z$3)","v":0},{"$f":"SUMIF(BDD!$BH$2:$BH$3,\"Banc 104VRAIFAUXFAUXFAUXVRAI\",BDD!$Z$2:$Z$3)","v":0},{"$f":"SUMIF(BDD!$BH$2:$BH$3,\"Banc 104FAUXVRAIVRAIFAUXFAUX\",BDD!$Z$2:$Z$3)","v":0},{"$f":"SUMIF(BDD!$BH$2:$BH$3,\"Banc 104FAUXVRAIFAUXVRAIFAUX\",BDD!$Z$2:$Z$3)","v":0},{"$f":"SUMIF(BDD!$BH$2:$BH$3,\"Banc 104FAUXVRAIFAUXFAUXVRAI\",BDD!$Z$2:$Z$3)","v":0},{"$f":"SUMIF(BDD!$BH$2:$BH$3,\"Banc 104VRAIFAUXVRAIFAUXFAUX\",BDD!$Z$2:$Z$3)","v":0},{"$f":"SUMIF(BDD!$BH$2:$BH$3,\"Banc 104VRAIFAUXFAUXVRAIFAUX\",BDD!$Z$2:$Z$3)","v":0},{"$f":"SUMIF(BDD!$BH$2:$BH$3,\"Banc 104VRAIFAUXFAUXFAUXVRAI\",BDD!$Z$2:$Z$3)","v":0},{"$f":"SUMIF(BDD!$BH$2:$BH$3,\"Banc 104FAUXVRAIVRAIFAUXFAUX\",BDD!$Z$2:$Z$3)","v":0},{"$f":"SUMIF(BDD!$BH$2:$BH$3,\"Banc 104FAUXVRAIFAUXVRAIFAUX\",BDD!$Z$2:$Z$3)","v":0},{"$f":"SUMIF(BDD!$BH$2:$BH$3,\"Banc 104FAUXVRAIFAUXFAUXVRAI\",BDD!$Z$2:$Z$3)","v":0},{"$f":"SUMIF(BDD!$BH$2:$BH$3,\"Banc 104VRAIFAUXVRAIFAUXFAUX\",BDD!$Z$2:$Z$3)","v":0},{"$f":"SUMIF(BDD!$BH$2:$BH$3,\"Banc 104VRAIFAUXFAUXVRAIFAUX\",BDD!$Z$2:$Z$3)","v":0},{"$f":"SUMIF(BDD!$BH$2:$BH$3,\"Banc 104VRAIFAUXFAUXFAUXVRAI\",BDD!$Z$2:$Z$3)","v":0},{"$f":"SUMIF(BDD!$BH$2:$BH$3,\"Banc 104FAUXVRAIVRAIFAUXFAUX\",BDD!$Z$2:$Z$3)","v":0},{"$f":"SUMIF(BDD!$BH$2:$BH$3,\"Banc 104FAUXVRAIFAUXVRAIFAUX\",BDD!$Z$2:$Z$3)","v":0},{"$f":"SUMIF(BDD!$BH$2:$BH$3,\"Banc 104FAUXVRAIFAUXFAUXVRAI\",BDD!$Z$2:$Z$3)","v":0},{"$f":"SUMIF(BDD!$BH$2:$BH$3,\"Banc 104VRAIFAUXVRAIFAUXFAUX\",BDD!$Z$2:$Z$3)","v":0},{"$f":"SUMIF(BDD!$BH$2:$BH$3,\"Banc 104VRAIFAUXFAUXVRAIFAUX\",BDD!$Z$2:$Z$3)","v":0},{"$f":"SUMIF(BDD!$BH$2:$BH$3,\"Banc 104VRAIFAUXFAUXFAUXVRAI\",BDD!$Z$2:$Z$3)","v":0},{"$f":"SUMIF(BDD!$BH$2:$BH$3,\"Banc 104FAUXVRAIVRAIFAUXFAUX\",BDD!$Z$2:$Z$3)","v":0},{"$f":"SUMIF(BDD!$BH$2:$BH$3,\"Banc 104FAUXVRAIFAUXVRAIFAUX\",BDD!$Z$2:$Z$3)","v":0},{"$f":"SUMIF(BDD!$BH$2:$BH$3,\"Banc 104FAUXVRAIFAUXFAUXVRAI\",BDD!$Z$2:$Z$3)","v":0},{"$f":"SUMIF(BDD!$BH$2:$BH$3,\"Banc 104VRAIFAUXVRAIFAUXFAUX\",BDD!$Z$2:$Z$3)","v":0},{"$f":"SUMIF(BDD!$BH$2:$BH$3,\"Banc 104VRAIFAUXFAUXVRAIFAUX\",BDD!$Z$2:$Z$3)","v":0},{"$f":"SUMIF(BDD!$BH$2:$BH$3,\"Banc 104VRAIFAUXFAUXFAUXVRAI\",BDD!$Z$2:$Z$3)","v":0},{"$f":"SUMIF(BDD!$BH$2:$BH$3,\"Banc 104FAUXVRAIVRAIFAUXFAUX\",BDD!$Z$2:$Z$3)","v":0},{"$f":"SUMIF(BDD!$BH$2:$BH$3,\"Banc 104FAUXVRAIFAUXVRAIFAUX\",BDD!$Z$2:$Z$3)","v":0},{"$f":"SUMIF(BDD!$BH$2:$BH$3,\"Banc 104FAUXVRAIFAUXFAUXVRAI\",BDD!$Z$2:$Z$3)","v":0},{"$f":"SUMIF(BDD!$BH$2:$BH$3,\"Banc 104VRAIFAUXVRAIFAUXFAUX\",BDD!$Z$2:$Z$3)","v":0},{"$f":"SUMIF(BDD!$BH$2:$BH$3,\"Banc 104VRAIFAUXFAUXVRAIFAUX\",BDD!$Z$2:$Z$3)","v":0},{"$f":"SUMIF(BDD!$BH$2:$BH$3,\"Banc 104VRAIFAUXFAUXFAUXVRAI\",BDD!$Z$2:$Z$3)","v":0},{"$f":"SUMIF(BDD!$BH$2:$BH$3,\"Banc 104FAUXVRAIVRAIFAUXFAUX\",BDD!$Z$2:$Z$3)","v":0},{"$f":"SUMIF(BDD!$BH$2:$BH$3,\"Banc 104FAUXVRAIFAUXVRAIFAUX\",BDD!$Z$2:$Z$3)","v":0},{"$f":"SUMIF(BDD!$BH$2:$BH$3,\"Banc 104FAUXVRAIFAUXFAUXVRAI\",BDD!$Z$2:$Z$3)","v":0}]
["Banc 121",{"$f":"SUMIF(BDD!$BH$2:$BH$3,\"Banc 121VRAIFAUXVRAIFAUXFAUX\",BDD!$Z$2:$Z$3)","v":0},{"$f":"SUMIF(BDD!$BH$2:$BH$3,\"Banc 121VRAIFAUXFAUXVRAIFAUX\",BDD!$Z$2:$Z$3)","v":0},{"$f":"SUMIF(BDD!$BH$2:$BH$3,\"Banc 121VRAIFAUXFAUXFAUXVRAI\",BDD!$Z$2:$Z$3)","v":0},{"$f":"SUMIF(BDD!$BH$2:$BH$3,\"Banc 121FAUXVRAIVRAIFAUXFAUX\",BDD!$Z$2:$Z$3)","v":0},{"$f":"SUMIF(BDD!$BH$2:$BH$3,\"Banc 121FAUXVRAIFAUXVRAIFAUX\",BDD!$Z$2:$Z$3)","v":0},{"$f":"SUMIF(BDD!$BH$2:$BH$3,\"Banc 121FAUXVRAIFAUXFAUXVRAI\",BDD!$Z$2:$Z$3)","v":0},{"$f":"SUMIF(BDD!$BH$2:$BH$3,\"Banc 121VRAIFAUXVRAIFAUXFAUX\",BDD!$Z$2:$Z$3)","v":0},{"$f":"SUMIF(BDD!$BH$2:$BH$3,\"Banc 121VRAIFAUXFAUXVRAIFAUX\",BDD!$Z$2:$Z$3)","v":0},{"$f":"SUMIF(BDD!$BH$2:$BH$3,\"Banc 121VRAIFAUXFAUXFAUXVRAI\",BDD!$Z$2:$Z$3)","v":0},{"$f":"SUMIF(BDD!$BH$2:$BH$3,\"Banc 121FAUXVRAIVRAIFAUXFAUX\",BDD!$Z$2:$Z$3)","v":0},{"$f":"SUMIF(BDD!$BH$2:$BH$3,\"Banc 121FAUXVRAIFAUXVRAIFAUX\",BDD!$Z$2:$Z$3)","v":0},{"$f":"SUMIF(BDD!$BH$2:$BH$3,\"Banc 121FAUXVRAIFAUXFAUXVRAI\",BDD!$Z$2:$Z$3)","v":0},{"$f":"SUMIF(BDD!$BH$2:$BH$683,\"Banc 121VRAIFAUXVRAIFAUXFAUX\",BDD!$Z$2:$Z$683)","v":0},{"$f":"SUMIF(BDD!$BH$2:$BH$683,\"Banc 121VRAIFAUXFAUXVRAIFAUX\",BDD!$Z$2:$Z$683)","v":0},{"$f":"SUMIF(BDD!$BH$2:$BH$683,\"Banc 121VRAIFAUXFAUXFAUXVRAI\",BDD!$Z$2:$Z$683)","v":0},{"$f":"SUMIF(BDD!$BH$2:$BH$683,\"Banc 121FAUXVRAIVRAIFAUXFAUX\",BDD!$Z$2:$Z$683)","v":0},{"$f":"SUMIF(BDD!$BH$2:$BH$683,\"Banc 121FAUXVRAIFAUXVRAIFAUX\",BDD!$Z$2:$Z$683)","v":0},{"$f":"SUMIF(BDD!$BH$2:$BH$683,\"Banc 121FAUXVRAIFAUXFAUXVRAI\",BDD!$Z$2:$Z$683)","v":0},{"$f":"SUMIF(BDD!$BH$2:$BH$3,\"Banc 121VRAIFAUXVRAIFAUXFAUX\",BDD!$Z$2:$Z$3)","v":0},{"$f":"SUMIF(BDD!$BH$2:$BH$3,\"Banc 121VRAIFAUXFAUXVRAIFAUX\",BDD!$Z$2:$Z$3)","v":0},{"$f":"SUMIF(BDD!$BH$2:$BH$3,\"Banc 121VRAIFAUXFAUXFAUXVRAI\",BDD!$Z$2:$Z$3)","v":0},{"$f":"SUMIF(BDD!$BH$2:$BH$3,\"Banc 121FAUXVRAIVRAIFAUXFAUX\",BDD!$Z$2:$Z$3)","v":0},{"$f":"SUMIF(BDD!$BH$2:$BH$3,\"Banc 121FAUXVRAIFAUXVRAIFAUX\",BDD!$Z$2:$Z$3)","v":0},{"$f":"SUMIF(BDD!$BH$2:$BH$3,\"Banc 121FAUXVRAIFAUXFAUXVRAI\",BDD!$Z$2:$Z$3)","v":0},{"$f":"SUMIF(BDD!$BH$2:$BH$3,\"Banc 121VRAIFAUXVRAIFAUXFAUX\",BDD!$Z$2:$Z$3)","v":0},{"$f":"SUMIF(BDD!$BH$2:$BH$3,\"Banc 121VRAIFAUXFAUXVRAIFAUX\",BDD!$Z$2:$Z$3)","v":0},{"$f":"SUMIF(BDD!$BH$2:$BH$3,\"Banc 121VRAIFAUXFAUXFAUXVRAI\",BDD!$Z$2:$Z$3)","v":0},{"$f":"SUMIF(BDD!$BH$2:$BH$3,\"Banc 121FAUXVRAIVRAIFAUXFAUX\",BDD!$Z$2:$Z$3)","v":0},{"$f":"SUMIF(BDD!$BH$2:$BH$3,\"Banc 121FAUXVRAIFAUXVRAIFAUX\",BDD!$Z$2:$Z$3)","v":0},{"$f":"SUMIF(BDD!$BH$2:$BH$3,\"Banc 121FAUXVRAIFAUXFAUXVRAI\",BDD!$Z$2:$Z$3)","v":0},{"$f":"SUMIF(BDD!$BH$2:$BH$3,\"Banc 121VRAIFAUXVRAIFAUXFAUX\",BDD!$Z$2:$Z$3)","v":0},{"$f":"SUMIF(BDD!$BH$2:$BH$3,\"Banc 121VRAIFAUXFAUXVRAIFAUX\",BDD!$Z$2:$Z$3)","v":0},{"$f":"SUMIF(BDD!$BH$2:$BH$3,\"Banc 121VRAIFAUXFAUXFAUXVRAI\",BDD!$Z$2:$Z$3)","v":0},{"$f":"SUMIF(BDD!$BH$2:$BH$3,\"Banc 121FAUXVRAIVRAIFAUXFAUX\",BDD!$Z$2:$Z$3)","v":0},{"$f":"SUMIF(BDD!$BH$2:$BH$3,\"Banc 121FAUXVRAIFAUXVRAIFAUX\",BDD!$Z$2:$Z$3)","v":0},{"$f":"SUMIF(BDD!$BH$2:$BH$3,\"Banc 121FAUXVRAIFAUXFAUXVRAI\",BDD!$Z$2:$Z$3)","v":0},{"$f":"SUMIF(BDD!$BH$2:$BH$3,\"Banc 121VRAIFAUXVRAIFAUXFAUX\",BDD!$Z$2:$Z$3)","v":0},{"$f":"SUMIF(BDD!$BH$2:$BH$3,\"Banc 121VRAIFAUXFAUXVRAIFAUX\",BDD!$Z$2:$Z$3)","v":0},{"$f":"SUMIF(BDD!$BH$2:$BH$3,\"Banc 121VRAIFAUXFAUXFAUXVRAI\",BDD!$Z$2:$Z$3)","v":0},{"$f":"SUMIF(BDD!$BH$2:$BH$3,\"Banc 121FAUXVRAIVRAIFAUXFAUX\",BDD!$Z$2:$Z$3)","v":0},{"$f":"SUMIF(BDD!$BH$2:$BH$3,\"Banc 121FAUXVRAIFAUXVRAIFAUX\",BDD!$Z$2:$Z$3)","v":0},{"$f":"SUMIF(BDD!$BH$2:$BH$3,\"Banc 121FAUXVRAIFAUXFAUXVRAI\",BDD!$Z$2:$Z$3)","v":0},{"$f":"SUMIF(BDD!$BH$2:$BH$3,\"Banc 121VRAIFAUXVRAIFAUXFAUX\",BDD!$Z$2:$Z$3)","v":0},{"$f":"SUMIF(BDD!$BH$2:$BH$3,\"Banc 121VRAIFAUXFAUXVRAIFAUX\",BDD!$Z$2:$Z$3)","v":0},{"$f":"SUMIF(BDD!$BH$2:$BH$3,\"Banc 121VRAIFAUXFAUXFAUXVRAI\",BDD!$Z$2:$Z$3)","v":0},{"$f":"SUMIF(BDD!$BH$2:$BH$3,\"Banc 121FAUXVRAIVRAIFAUXFAUX\",BDD!$Z$2:$Z$3)","v":0},{"$f":"SUMIF(BDD!$BH$2:$BH$3,\"Banc 121FAUXVRAIFAUXVRAIFAUX\",BDD!$Z$2:$Z$3)","v":0},{"$f":"SUMIF(BDD!$BH$2:$BH$3,\"Banc 121FAUXVRAIFAUXFAUXVRAI\",BDD!$Z$2:$Z$3)","v":0},{"$f":"SUMIF(BDD!$BH$2:$BH$3,\"Banc 121VRAIFAUXVRAIFAUXFAUX\",BDD!$Z$2:$Z$3)","v":0},{"$f":"SUMIF(BDD!$BH$2:$BH$3,\"Banc 121VRAIFAUXFAUXVRAIFAUX\",BDD!$Z$2:$Z$3)","v":0},{"$f":"SUMIF(BDD!$BH$2:$BH$3,\"Banc 121VRAIFAUXFAUXFAUXVRAI\",BDD!$Z$2:$Z$3)","v":0},{"$f":"SUMIF(BDD!$BH$2:$BH$3,\"Banc 121FAUXVRAIVRAIFAUXFAUX\",BDD!$Z$2:$Z$3)","v":0},{"$f":"SUMIF(BDD!$BH$2:$BH$3,\"Banc 121FAUXVRAIFAUXVRAIFAUX\",BDD!$Z$2:$Z$3)","v":0},{"$f":"SUMIF(BDD!$BH$2:$BH$3,\"Banc 121FAUXVRAIFAUXFAUXVRAI\",BDD!$Z$2:$Z$3)","v":0},{"$f":"SUMIF(BDD!$BH$2:$BH$3,\"Banc 121VRAIFAUXVRAIFAUXFAUX\",BDD!$Z$2:$Z$3)","v":0},{"$f":"SUMIF(BDD!$BH$2:$BH$3,\"Banc 121VRAIFAUXFAUXVRAIFAUX\",BDD!$Z$2:$Z$3)","v":0},{"$f":"SUMIF(BDD!$BH$2:$BH$3,\"Banc 121VRAIFAUXFAUXFAUXVRAI\",BDD!$Z$2:$Z$3)","v":0},{"$f":"SUMIF(BDD!$BH$2:$BH$3,\"Banc 121FAUXVRAIVRAIFAUXFAUX\",BDD!$Z$2:$Z$3)","v":0},{"$f":"SUMIF(BDD!$BH$2:$BH$3,\"Banc 121FAUXVRAIFAUXVRAIFAUX\",BDD!$Z$2:$Z$3)","v":0},{"$f":"SUMIF(BDD!$BH$2:$BH$3,\"Banc 121FAUXVRAIFAUXFAUXVRAI\",BDD!$Z$2:$Z$3)","v":0},{"$f":"SUMIF(BDD!$BH$2:$BH$3,\"Banc 121VRAIFAUXVRAIFAUXFAUX\",BDD!$Z$2:$Z$3)","v":0},{"$f":"SUMIF(BDD!$BH$2:$BH$3,\"Banc 121VRAIFAUXFAUXVRAIFAUX\",BDD!$Z$2:$Z$3)","v":0},{"$f":"SUMIF(BDD!$BH$2:$BH$3,\"Banc 121VRAIFAUXFAUXFAUXVRAI\",BDD!$Z$2:$Z$3)","v":0},{"$f":"SUMIF(BDD!$BH$2:$BH$3,\"Banc 121FAUXVRAIVRAIFAUXFAUX\",BDD!$Z$2:$Z$3)","v":0},{"$f":"SUMIF(BDD!$BH$2:$BH$3,\"Banc 121FAUXVRAIFAUXVRAIFAUX\",BDD!$Z$2:$Z$3)","v":0},{"$f":"SUMIF(BDD!$BH$2:$BH$3,\"Banc 121FAUXVRAIFAUXFAUXVRAI\",BDD!$Z$2:$Z$3)","v":0},{"$f":"SUMIF(BDD!$BH$2:$BH$3,\"Banc 121VRAIFAUXVRAIFAUXFAUX\",BDD!$Z$2:$Z$3)","v":0},{"$f":"SUMIF(BDD!$BH$2:$BH$3,\"Banc 121VRAIFAUXFAUXVRAIFAUX\",BDD!$Z$2:$Z$3)","v":0},{"$f":"SUMIF(BDD!$BH$2:$BH$3,\"Banc 121VRAIFAUXFAUXFAUXVRAI\",BDD!$Z$2:$Z$3)","v":0},{"$f":"SUMIF(BDD!$BH$2:$BH$3,\"Banc 121FAUXVRAIVRAIFAUXFAUX\",BDD!$Z$2:$Z$3)","v":0},{"$f":"SUMIF(BDD!$BH$2:$BH$3,\"Banc 121FAUXVRAIFAUXVRAIFAUX\",BDD!$Z$2:$Z$3)","v":0},{"$f":"SUMIF(BDD!$BH$2:$BH$3,\"Banc 121FAUXVRAIFAUXFAUXVRAI\",BDD!$Z$2:$Z$3)","v":0}]
["Pompe à eau",{"$f":"SUMIF(BDD!$BH$2:$BH$3,\"Pompe à eauVRAIFAUXVRAIFAUXFAUX\",BDD!$Z$2:$Z$3)","v":0},{"$f":"SUMIF(BDD!$BH$2:$BH$3,\"Pompe à eauVRAIFAUXFAUXVRAIFAUX\",BDD!$Z$2:$Z$3)","v":0},{"$f":"SUMIF(BDD!$BH$2:$BH$3,\"Pompe à eauVRAIFAUXFAUXFAUXVRAI\",BDD!$Z$2:$Z$3)","v":0},{"$f":"SUMIF(BDD!$BH$2:$BH$3,\"Pompe à eauFAUXVRAIVRAIFAUXFAUX\",BDD!$Z$2:$Z$3)","v":0},{"$f":"SUMIF(BDD!$BH$2:$BH$3,\"Pompe à eauFAUXVRAIFAUXVRAIFAUX\",BDD!$Z$2:$Z$3)","v":0},{"$f":"SUMIF(BDD!$BH$2:$BH$3,\"Pompe à eauFAUXVRAIFAUXFAUXVRAI\",BDD!$Z$2:$Z$3)","v":0},{"$f":"SUMIF(BDD!$BH$2:$BH$3,\"Pompe à eauVRAIFAUXVRAIFAUXFAUX\",BDD!$Z$2:$Z$3)","v":0},{"$f":"SUMIF(BDD!$BH$2:$BH$3,\"Pompe à eauVRAIFAUXFAUXVRAIFAUX\",BDD!$Z$2:$Z$3)","v":0},{"$f":"SUMIF(BDD!$BH$2:$BH$3,\"Pompe à eauVRAIFAUXFAUXFAUXVRAI\",BDD!$Z$2:$Z$3)","v":0},{"$f":"SUMIF(BDD!$BH$2:$BH$3,\"Pompe à eauFAUXVRAIVRAIFAUXFAUX\",BDD!$Z$2:$Z$3)","v":0},{"$f":"SUMIF(BDD!$BH$2:$BH$3,\"Pompe à eauFAUXVRAIFAUXVRAIFAUX\",BDD!$Z$2:$Z$3)","v":0},{"$f":"SUMIF(BDD!$BH$2:$BH$3,\"Pompe à eauFAUXVRAIFAUXFAUXVRAI\",BDD!$Z$2:$Z$3)","v":0},{"$f":"SUMIF(BDD!$BH$2:$BH$683,\"Pompe à eauVRAIFAUXVRAIFAUXFAUX\",BDD!$Z$2:$Z$683)","v":0},{"$f":"SUMIF(BDD!$BH$2:$BH$683,\"Pompe à eauVRAIFAUXFAUXVRAIFAUX\",BDD!$Z$2:$Z$683)","v":0},{"$f":"SUMIF(BDD!$BH$2:$BH$683,\"Pompe à eauVRAIFAUXFAUXFAUXVRAI\",BDD!$Z$2:$Z$683)","v":1},{"$f":"SUMIF(BDD!$BH$2:$BH$683,\"Pompe à eauFAUXVRAIVRAIFAUXFAUX\",BDD!$Z$2:$Z$683)","v":0},{"$f":"SUMIF(BDD!$BH$2:$BH$683,\"Pompe à eauFAUXVRAIFAUXVRAIFAUX\",BDD!$Z$2:$Z$683)","v":0},{"$f":"SUMIF(BDD!$BH$2:$BH$683,\"Pompe à eauFAUXVRAIFAUXFAUXVRAI\",BDD!$Z$2:$Z$683)","v":0},{"$f":"SUMIF(BDD!$BH$2:$BH$3,\"Pompe à eauVRAIFAUXVRAIFAUXFAUX\",BDD!$Z$2:$Z$3)","v":0},{"$f":"SUMIF(BDD!$BH$2:$BH$3,\"Pompe à eauVRAIFAUXFAUXVRAIFAUX\",BDD!$Z$2:$Z$3)","v":0},{"$f":"SUMIF(BDD!$BH$2:$BH$3,\"Pompe à eauVRAIFAUXFAUXFAUXVRAI\",BDD!$Z$2:$Z$3)","v":0},{"$f":"SUMIF(BDD!$BH$2:$BH$3,\"Pompe à eauFAUXVRAIVRAIFAUXFAUX\",BDD!$Z$2:$Z$3)","v":0},{"$f":"SUMIF(BDD!$BH$2:$BH$3,\"Pompe à eauFAUXVRAIFAUXVRAIFAUX\",BDD!$Z$2:$Z$3)","v":0},{"$f":"SUMIF(BDD!$BH$2:$BH$3,\"Pompe à eauFAUXVRAIFAUXFAUXVRAI\",BDD!$Z$2:$Z$3)","v":0},{"$f":"SUMIF(BDD!$BH$2:$BH$3,\"Pompe à eauVRAIFAUXVRAIFAUXFAUX\",BDD!$Z$2:$Z$3)","v":0},{"$f":"SUMIF(BDD!$BH$2:$BH$3,\"Pompe à eauVRAIFAUXFAUXVRAIFAUX\",BDD!$Z$2:$Z$3)","v":0},{"$f":"SUMIF(BDD!$BH$2:$BH$3,\"Pompe à eauVRAIFAUXFAUXFAUXVRAI\",BDD!$Z$2:$Z$3)","v":0},{"$f":"SUMIF(BDD!$BH$2:$BH$3,\"Pompe à eauFAUXVRAIVRAIFAUXFAUX\",BDD!$Z$2:$Z$3)","v":0},{"$f":"SUMIF(BDD!$BH$2:$BH$3,\"Pompe à eauFAUXVRAIFAUXVRAIFAUX\",BDD!$Z$2:$Z$3)","v":0},{"$f":"SUMIF(BDD!$BH$2:$BH$3,\"Pompe à eauFAUXVRAIFAUXFAUXVRAI\",BDD!$Z$2:$Z$3)","v":0},{"$f":"SUMIF(BDD!$BH$2:$BH$3,\"Pompe à eauVRAIFAUXVRAIFAUXFAUX\",BDD!$Z$2:$Z$3)","v":0},{"$f":"SUMIF(BDD!$BH$2:$BH$3,\"Pompe à eauVRAIFAUXFAUXVRAIFAUX\",BDD!$Z$2:$Z$3)","v":0},{"$f":"SUMIF(BDD!$BH$2:$BH$3,\"Pompe à eauVRAIFAUXFAUXFAUXVRAI\",BDD!$Z$2:$Z$3)","v":0},{"$f":"SUMIF(BDD!$BH$2:$BH$3,\"Pompe à eauFAUXVRAIVRAIFAUXFAUX\",BDD!$Z$2:$Z$3)","v":0},{"$f":"SUMIF(BDD!$BH$2:$BH$3,\"Pompe à eauFAUXVRAIFAUXVRAIFAUX\",BDD!$Z$2:$Z$3)","v":0},{"$f":"SUMIF(BDD!$BH$2:$BH$3,\"Pompe à eauFAUXVRAIFAUXFAUXVRAI\",BDD!$Z$2:$Z$3)","v":0},{"$f":"SUMIF(BDD!$BH$2:$BH$3,\"Pompe à eauVRAIFAUXVRAIFAUXFAUX\",BDD!$Z$2:$Z$3)","v":0},{"$f":"SUMIF(BDD!$BH$2:$BH$3,\"Pompe à eauVRAIFAUXFAUXVRAIFAUX\",BDD!$Z$2:$Z$3)","v":0},{"$f":"SUMIF(BDD!$BH$2:$BH$3,\"Pompe à eauVRAIFAUXFAUXFAUXVRAI\",BDD!$Z$2:$Z$3)","v":0},{"$f":"SUMIF(BDD!$BH$2:$BH$3,\"Pompe à eauFAUXVRAIVRAIFAUXFAUX\",BDD!$Z$2:$Z$3)","v":0},{"$f":"SUMIF(BDD!$BH$2:$BH$3,\"Pompe à eauFAUXVRAIFAUXVRAIFAUX\",BDD!$Z$2:$Z$3)","v":0},{"$f":"SUMIF(BDD!$BH$2:$BH$3,\"Pompe à eauFAUXVRAIFAUXFAUXVRAI\",BDD!$Z$2:$Z$3)","v":0},{"$f":"SUMIF(BDD!$BH$2:$BH$3,\"Pompe à eauVRAIFAUXVRAIFAUXFAUX\",BDD!$Z$2:$Z$3)","v":0},{"$f":"SUMIF(BDD!$BH$2:$BH$3,\"Pompe à eauVRAIFAUXFAUXVRAIFAUX\",BDD!$Z$2:$Z$3)","v":0},{"$f":"SUMIF(BDD!$BH$2:$BH$3,\"Pompe à eauVRAIFAUXFAUXFAUXVRAI\",BDD!$Z$2:$Z$3)","v":0},{"$f":"SUMIF(BDD!$BH$2:$BH$3,\"Pompe à eauFAUXVRAIVRAIFAUXFAUX\",BDD!$Z$2:$Z$3)","v":0},{"$f":"SUMIF(BDD!$BH$2:$BH$3,\"Pompe à eauFAUXVRAIFAUXVRAIFAUX\",BDD!$Z$2:$Z$3)","v":0},{"$f":"SUMIF(BDD!$BH$2:$BH$3,\"Pompe à eauFAUXVRAIFAUXFAUXVRAI\",BDD!$Z$2:$Z$3)","v":0},{"$f":"SUMIF(BDD!$BH$2:$BH$3,\"Pompe à eauVRAIFAUXVRAIFAUXFAUX\",BDD!$Z$2:$Z$3)","v":0},{"$f":"SUMIF(BDD!$BH$2:$BH$3,\"Pompe à eauVRAIFAUXFAUXVRAIFAUX\",BDD!$Z$2:$Z$3)","v":0},{"$f":"SUMIF(BDD!$BH$2:$BH$3,\"Pompe à eauVRAIFAUXFAUXFAUXVRAI\",BDD!$Z$2:$Z$3)","v":0},{"$f":"SUMIF(BDD!$BH$2:$BH$3,\"Pompe à eauFAUXVRAIVRAIFAUXFAUX\",BDD!$Z$2:$Z$3)","v":0},{"$f":"SUMIF(BDD!$BH$2:$BH$3,\"Pompe à eauFAUXVRAIFAUXVRAIFAUX\",BDD!$Z$2:$Z$3)","v":0},{"$f":"SUMIF(BDD!$BH$2:$BH$3,\"Pompe à eauFAUXVRAIFAUXFAUXVRAI\",BDD!$Z$2:$Z$3)","v":0},{"$f":"SUMIF(BDD!$BH$2:$BH$3,\"Pompe à eauVRAIFAUXVRAIFAUXFAUX\",BDD!$Z$2:$Z$3)","v":0},{"$f":"SUMIF(BDD!$BH$2:$BH$3,\"Pompe à eauVRAIFAUXFAUXVRAIFAUX\",BDD!$Z$2:$Z$3)","v":0},{"$f":"SUMIF(BDD!$BH$2:$BH$3,\"Pompe à eauVRAIFAUXFAUXFAUXVRAI\",BDD!$Z$2:$Z$3)","v":0},{"$f":"SUMIF(BDD!$BH$2:$BH$3,\"Pompe à eauFAUXVRAIVRAIFAUXFAUX\",BDD!$Z$2:$Z$3)","v":0},{"$f":"SUMIF(BDD!$BH$2:$BH$3,\"Pompe à eauFAUXVRAIFAUXVRAIFAUX\",BDD!$Z$2:$Z$3)","v":0},{"$f":"SUMIF(BDD!$BH$2:$BH$3,\"Pompe à eauFAUXVRAIFAUXFAUXVRAI\",BDD!$Z$2:$Z$3)","v":0},{"$f":"SUMIF(BDD!$BH$2:$BH$3,\"Pompe à eauVRAIFAUXVRAIFAUXFAUX\",BDD!$Z$2:$Z$3)","v":0},{"$f":"SUMIF(BDD!$BH$2:$BH$3,\"Pompe à eauVRAIFAUXFAUXVRAIFAUX\",BDD!$Z$2:$Z$3)","v":0},{"$f":"SUMIF(BDD!$BH$2:$BH$3,\"Pompe à eauVRAIFAUXFAUXFAUXVRAI\",BDD!$Z$2:$Z$3)","v":0},{"$f":"SUMIF(BDD!$BH$2:$BH$3,\"Pompe à eauFAUXVRAIVRAIFAUXFAUX\",BDD!$Z$2:$Z$3)","v":0},{"$f":"SUMIF(BDD!$BH$2:$BH$3,\"Pompe à eauFAUXVRAIFAUXVRAIFAUX\",BDD!$Z$2:$Z$3)","v":0},{"$f":"SUMIF(BDD!$BH$2:$BH$3,\"Pompe à eauFAUXVRAIFAUXFAUXVRAI\",BDD!$Z$2:$Z$3)","v":0},{"$f":"SUMIF(BDD!$BH$2:$BH$3,\"Pompe à eauVRAIFAUXVRAIFAUXFAUX\",BDD!$Z$2:$Z$3)","v":0},{"$f":"SUMIF(BDD!$BH$2:$BH$3,\"Pompe à eauVRAIFAUXFAUXVRAIFAUX\",BDD!$Z$2:$Z$3)","v":0},{"$f":"SUMIF(BDD!$BH$2:$BH$3,\"Pompe à eauVRAIFAUXFAUXFAUXVRAI\",BDD!$Z$2:$Z$3)","v":0},{"$f":"SUMIF(BDD!$BH$2:$BH$3,\"Pompe à eauFAUXVRAIVRAIFAUXFAUX\",BDD!$Z$2:$Z$3)","v":0},{"$f":"SUMIF(BDD!$BH$2:$BH$3,\"Pompe à eauFAUXVRAIFAUXVRAIFAUX\",BDD!$Z$2:$Z$3)","v":0},{"$f":"SUMIF(BDD!$BH$2:$BH$3,\"Pompe à eauFAUXVRAIFAUXFAUXVRAI\",BDD!$Z$2:$Z$3)","v":0}]
["Banc PowerTrain",{"$f":"SUMIF(BDD!$BH$2:$BH$3,\"Banc PowerTrainVRAIFAUXVRAIFAUXFAUX\",BDD!$Z$2:$Z$3)","v":0},{"$f":"SUMIF(BDD!$BH$2:$BH$3,\"Banc PowerTrainVRAIFAUXFAUXVRAIFAUX\",BDD!$Z$2:$Z$3)","v":0},{"$f":"SUMIF(BDD!$BH$2:$BH$3,\"Banc PowerTrainVRAIFAUXFAUXFAUXVRAI\",BDD!$Z$2:$Z$3)","v":0},{"$f":"SUMIF(BDD!$BH$2:$BH$3,\"Banc PowerTrainFAUXVRAIVRAIFAUXFAUX\",BDD!$Z$2:$Z$3)","v":0},{"$f":"SUMIF(BDD!$BH$2:$BH$3,\"Banc PowerTrainFAUXVRAIFAUXVRAIFAUX\",BDD!$Z$2:$Z$3)","v":0},{"$f":"SUMIF(BDD!$BH$2:$BH$3,\"Banc PowerTrainFAUXVRAIFAUXFAUXVRAI\",BDD!$Z$2:$Z$3)","v":0},{"$f":"SUMIF(BDD!$BH$2:$BH$3,\"Banc PowerTrainVRAIFAUXVRAIFAUXFAUX\",BDD!$Z$2:$Z$3)","v":0},{"$f":"SUMIF(BDD!$BH$2:$BH$3,\"Banc PowerTrainVRAIFAUXFAUXVRAIFAUX\",BDD!$Z$2:$Z$3)","v":0},{"$f":"SUMIF(BDD!$BH$2:$BH$3,\"Banc PowerTrainVRAIFAUXFAUXFAUXVRAI\",BDD!$Z$2:$Z$3)","v":0},{"$f":"SUMIF(BDD!$BH$2:$BH$3,\"Banc PowerTrainFAUXVRAIVRAIFAUXFAUX\",BDD!$Z$2:$Z$3)","v":0},{"$f":"SUMIF(BDD!$BH$2:$BH$3,\"Banc PowerTrainFAUXVRAIFAUXVRAIFAUX\",BDD!$Z$2:$Z$3)","v":0},{"$f":"SUMIF(BDD!$BH$2:$BH$3,\"Banc PowerTrainFAUXVRAIFAUXFAUXVRAI\",BDD!$Z$2:$Z$3)","v":0},{"$f":"SUMIF(BDD!$BH$2:$BH$683,\"Banc PowerTrainVRAIFAUXVRAIFAUXFAUX\",BDD!$Z$2:$Z$683)","v":0},{"$f":"SUMIF(BDD!$BH$2:$BH$683,\"Banc PowerTrainVRAIFAUXFAUXVRAIFAUX\",BDD!$Z$2:$Z$683)","v":0},{"$f":"SUMIF(BDD!$BH$2:$BH$683,\"Banc PowerTrainVRAIFAUXFAUXFAUXVRAI\",BDD!$Z$2:$Z$683)","v":0},{"$f":"SUMIF(BDD!$BH$2:$BH$683,\"Banc PowerTrainFAUXVRAIVRAIFAUXFAUX\",BDD!$Z$2:$Z$683)","v":0},{"$f":"SUMIF(BDD!$BH$2:$BH$683,\"Banc PowerTrainFAUXVRAIFAUXVRAIFAUX\",BDD!$Z$2:$Z$683)","v":0},{"$f":"SUMIF(BDD!$BH$2:$BH$683,\"Banc PowerTrainFAUXVRAIFAUXFAUXVRAI\",BDD!$Z$2:$Z$683)","v":0},{"$f":"SUMIF(BDD!$BH$2:$BH$3,\"Banc PowerTrainVRAIFAUXVRAIFAUXFAUX\",BDD!$Z$2:$Z$3)","v":0},{"$f":"SUMIF(BDD!$BH$2:$BH$3,\"Banc PowerTrainVRAIFAUXFAUXVRAIFAUX\",BDD!$Z$2:$Z$3)","v":0},{"$f":"SUMIF(BDD!$BH$2:$BH$3,\"Banc PowerTrainVRAIFAUXFAUXFAUXVRAI\",BDD!$Z$2:$Z$3)","v":0},{"$f":"SUMIF(BDD!$BH$2:$BH$3,\"Banc PowerTrainFAUXVRAIVRAIFAUXFAUX\",BDD!$Z$2:$Z$3)","v":0},{"$f":"SUMIF(BDD!$BH$2:$BH$3,\"Banc PowerTrainFAUXVRAIFAUXVRAIFAUX\",BDD!$Z$2:$Z$3)","v":0},{"$f":"SUMIF(BDD!$BH$2:$BH$3,\"Banc PowerTrainFAUXVRAIFAUXFAUXVRAI\",BDD!$Z$2:$Z$3)","v":0},{"$f":"SUMIF(BDD!$BH$2:$BH$3,\"Banc PowerTrainVRAIFAUXVRAIFAUXFAUX\",BDD!$Z$2:$Z$3)","v":0},{"$f":"SUMIF(BDD!$BH$2:$BH$3,\"Banc PowerTrainVRAIFAUXFAUXVRAIFAUX\",BDD!$Z$2:$Z$3)","v":0},{"$f":"SUMIF(BDD!$BH$2:$BH$3,\"Banc PowerTrainVRAIFAUXFAUXFAUXVRAI\",BDD!$Z$2:$Z$3)","v":0},{"$f":"SUMIF(BDD!$BH$2:$BH$3,\"Banc PowerTrainFAUXVRAIVRAIFAUXFAUX\",BDD!$Z$2:$Z$3)","v":0},{"$f":"SUMIF(BDD!$BH$2:$BH$3,\"Banc PowerTrainFAUXVRAIFAUXVRAIFAUX\",BDD!$Z$2:$Z$3)","v":0},{"$f":"SUMIF(BDD!$BH$2:$BH$3,\"Banc PowerTrainFAUXVRAIFAUXFAUXVRAI\",BDD!$Z$2:$Z$3)","v":0},{"$f":"SUMIF(BDD!$BH$2:$BH$3,\"Banc PowerTrainVRAIFAUXVRAIFAUXFAUX\",BDD!$Z$2:$Z$3)","v":0},{"$f":"SUMIF(BDD!$BH$2:$BH$3,\"Banc PowerTrainVRAIFAUXFAUXVRAIFAUX\",BDD!$Z$2:$Z$3)","v":0},{"$f":"SUMIF(BDD!$BH$2:$BH$3,\"Banc PowerTrainVRAIFAUXFAUXFAUXVRAI\",BDD!$Z$2:$Z$3)","v":0},{"$f":"SUMIF(BDD!$BH$2:$BH$3,\"Banc PowerTrainFAUXVRAIVRAIFAUXFAUX\",BDD!$Z$2:$Z$3)","v":0},{"$f":"SUMIF(BDD!$BH$2:$BH$3,\"Banc PowerTrainFAUXVRAIFAUXVRAIFAUX\",BDD!$Z$2:$Z$3)","v":0},{"$f":"SUMIF(BDD!$BH$2:$BH$3,\"Banc PowerTrainFAUXVRAIFAUXFAUXVRAI\",BDD!$Z$2:$Z$3)","v":0},{"$f":"SUMIF(BDD!$BH$2:$BH$3,\"Banc PowerTrainVRAIFAUXVRAIFAUXFAUX\",BDD!$Z$2:$Z$3)","v":0},{"$f":"SUMIF(BDD!$BH$2:$BH$3,\"Banc PowerTrainVRAIFAUXFAUXVRAIFAUX\",BDD!$Z$2:$Z$3)","v":0},{"$f":"SUMIF(BDD!$BH$2:$BH$3,\"Banc PowerTrainVRAIFAUXFAUXFAUXVRAI\",BDD!$Z$2:$Z$3)","v":0},{"$f":"SUMIF(BDD!$BH$2:$BH$3,\"Banc PowerTrainFAUXVRAIVRAIFAUXFAUX\",BDD!$Z$2:$Z$3)","v":0},{"$f":"SUMIF(BDD!$BH$2:$BH$3,\"Banc PowerTrainFAUXVRAIFAUXVRAIFAUX\",BDD!$Z$2:$Z$3)","v":0},{"$f":"SUMIF(BDD!$BH$2:$BH$3,\"Banc PowerTrainFAUXVRAIFAUXFAUXVRAI\",BDD!$Z$2:$Z$3)","v":0},{"$f":"SUMIF(BDD!$BH$2:$BH$3,\"Banc PowerTrainVRAIFAUXVRAIFAUXFAUX\",BDD!$Z$2:$Z$3)","v":0},{"$f":"SUMIF(BDD!$BH$2:$BH$3,\"Banc PowerTrainVRAIFAUXFAUXVRAIFAUX\",BDD!$Z$2:$Z$3)","v":0},{"$f":"SUMIF(BDD!$BH$2:$BH$3,\"Banc PowerTrainVRAIFAUXFAUXFAUXVRAI\",BDD!$Z$2:$Z$3)","v":0},{"$f":"SUMIF(BDD!$BH$2:$BH$3,\"Banc PowerTrainFAUXVRAIVRAIFAUXFAUX\",BDD!$Z$2:$Z$3)","v":0},{"$f":"SUMIF(BDD!$BH$2:$BH$3,\"Banc PowerTrainFAUXVRAIFAUXVRAIFAUX\",BDD!$Z$2:$Z$3)","v":0},{"$f":"SUMIF(BDD!$BH$2:$BH$3,\"Banc PowerTrainFAUXVRAIFAUXFAUXVRAI\",BDD!$Z$2:$Z$3)","v":0},{"$f":"SUMIF(BDD!$BH$2:$BH$3,\"Banc PowerTrainVRAIFAUXVRAIFAUXFAUX\",BDD!$Z$2:$Z$3)","v":0},{"$f":"SUMIF(BDD!$BH$2:$BH$3,\"Banc PowerTrainVRAIFAUXFAUXVRAIFAUX\",BDD!$Z$2:$Z$3)","v":0},{"$f":"SUMIF(BDD!$BH$2:$BH$3,\"Banc PowerTrainVRAIFAUXFAUXFAUXVRAI\",BDD!$Z$2:$Z$3)","v":0},{"$f":"SUMIF(BDD!$BH$2:$BH$3,\"Banc PowerTrainFAUXVRAIVRAIFAUXFAUX\",BDD!$Z$2:$Z$3)","v":0},{"$f":"SUMIF(BDD!$BH$2:$BH$3,\"Banc PowerTrainFAUXVRAIFAUXVRAIFAUX\",BDD!$Z$2:$Z$3)","v":0},{"$f":"SUMIF(BDD!$BH$2:$BH$3,\"Banc PowerTrainFAUXVRAIFAUXFAUXVRAI\",BDD!$Z$2:$Z$3)","v":0},{"$f":"SUMIF(BDD!$BH$2:$BH$3,\"Banc PowerTrainVRAIFAUXVRAIFAUXFAUX\",BDD!$Z$2:$Z$3)","v":0},{"$f":"SUMIF(BDD!$BH$2:$BH$3,\"Banc PowerTrainVRAIFAUXFAUXVRAIFAUX\",BDD!$Z$2:$Z$3)","v":0},{"$f":"SUMIF(BDD!$BH$2:$BH$3,\"Banc PowerTrainVRAIFAUXFAUXFAUXVRAI\",BDD!$Z$2:$Z$3)","v":0},{"$f":"SUMIF(BDD!$BH$2:$BH$3,\"Banc PowerTrainFAUXVRAIVRAIFAUXFAUX\",BDD!$Z$2:$Z$3)","v":0},{"$f":"SUMIF(BDD!$BH$2:$BH$3,\"Banc PowerTrainFAUXVRAIFAUXVRAIFAUX\",BDD!$Z$2:$Z$3)","v":0},{"$f":"SUMIF(BDD!$BH$2:$BH$3,\"Banc PowerTrainFAUXVRAIFAUXFAUXVRAI\",BDD!$Z$2:$Z$3)","v":0},{"$f":"SUMIF(BDD!$BH$2:$BH$3,\"Banc PowerTrainVRAIFAUXVRAIFAUXFAUX\",BDD!$Z$2:$Z$3)","v":0},{"$f":"SUMIF(BDD!$BH$2:$BH$3,\"Banc PowerTrainVRAIFAUXFAUXVRAIFAUX\",BDD!$Z$2:$Z$3)","v":0},{"$f":"SUMIF(BDD!$BH$2:$BH$3,\"Banc PowerTrainVRAIFAUXFAUXFAUXVRAI\",BDD!$Z$2:$Z$3)","v":0},{"$f":"SUMIF(BDD!$BH$2:$BH$3,\"Banc PowerTrainFAUXVRAIVRAIFAUXFAUX\",BDD!$Z$2:$Z$3)","v":0},{"$f":"SUMIF(BDD!$BH$2:$BH$3,\"Banc PowerTrainFAUXVRAIFAUXVRAIFAUX\",BDD!$Z$2:$Z$3)","v":0},{"$f":"SUMIF(BDD!$BH$2:$BH$3,\"Banc PowerTrainFAUXVRAIFAUXFAUXVRAI\",BDD!$Z$2:$Z$3)","v":0},{"$f":"SUMIF(BDD!$BH$2:$BH$3,\"Banc PowerTrainVRAIFAUXVRAIFAUXFAUX\",BDD!$Z$2:$Z$3)","v":0},{"$f":"SUMIF(BDD!$BH$2:$BH$3,\"Banc PowerTrainVRAIFAUXFAUXVRAIFAUX\",BDD!$Z$2:$Z$3)","v":0},{"$f":"SUMIF(BDD!$BH$2:$BH$3,\"Banc PowerTrainVRAIFAUXFAUXFAUXVRAI\",BDD!$Z$2:$Z$3)","v":0},{"$f":"SUMIF(BDD!$BH$2:$BH$3,\"Banc PowerTrainFAUXVRAIVRAIFAUXFAUX\",BDD!$Z$2:$Z$3)","v":0},{"$f":"SUMIF(BDD!$BH$2:$BH$3,\"Banc PowerTrainFAUXVRAIFAUXVRAIFAUX\",BDD!$Z$2:$Z$3)","v":0},{"$f":"SUMIF(BDD!$BH$2:$BH$3,\"Banc PowerTrainFAUXVRAIFAUXFAUXVRAI\",BDD!$Z$2:$Z$3)","v":0}]

{"sheet":"Indicateur Zone9","index":6,"n_rows":100,"n_cols":73,"rows_kept":100,"cut":false,"hidden":false,"merged":[[90,58,90,60],[90,61,90,63],[90,64,90,66],[90,67,90,69],[90,70,90,72],[90,43,90,45],[90,46,90,48],[90,49,90,51],[90,52,90,54],[90,55,90,57],[89,43,89,48],[89,49,89,54],[89,55,89,60],[89,61,89,66],[89,67,89,72],[89,31,89,36],[89,37,89,42],[90,31,90,33],[90,34,90,36],[90,37,90,39],[90,40,90,42],[1,1,1,12],[55,1,55,12],[89,25,89,30],[90,25,90,27],[90,28,90,30],[56,1,56,2],[56,3,56,4],[56,5,56,6],[56,7,56,8],[56,9,56,10],[56,11,56,12],[56,13,56,14],[56,15,56,16],[56,17,56,18],[56,19,56,20],[90,16,90,18],[90,19,90,21],[90,22,90,24],[31,1,31,12],[90,1,90,3],[90,4,90,6],[90,7,90,9],[90,10,90,12],[90,13,90,15],[56,21,56,22],[56,23,56,24],[88,1,88,21],[89,1,89,6],[89,7,89,12],[89,13,89,18],[89,19,89,24]]}
[]
[null,"Suivi des arrêts par banc"]
["Banc zone 9","Janvier","Février","Mars","Avril","Mai","Juin","Juillet","Août","Septembre","Octobre","Novembre","Décembre"]
["Banc P5",{"$f":"SUMIF(BDD!$H$2:$H$3,'Indicateur Zone9'!$A4,BDD!$Z$2:$Z$3)","v":0},{"$f":"SUMIF(BDD!$H$2:$H$3,'Indicateur Zone9'!$A4,BDD!$Z$2:$Z$3)","v":0},{"$f":"SUMIF(BDD!$H$2:$H$683,'Indicateur Zone9'!$A$4,BDD!$Z$2:$Z$683)","v":0},{"$f":"SUMIF(BDD!$H$2:$H$3,'Indicateur Zone9'!$A4,BDD!$Z$2:$Z$3)","v":0},{"$f":"SUMIF(BDD!$H$2:$H$3,'Indicateur Zone9'!$A4,BDD!$Z$2:$Z$3)","v":0},{"$f":"SUMIF(BDD!$H$2:$H$3,'Indicateur Zone9'!$A4,BDD!$Z$2:$Z$3)","v":0},{"$f":"SUMIF(BDD!$H$2:$H$3,'Indicateur Zone9'!$A4,BDD!$Z$2:$Z$3)","v":0},{"$f":"SUMIF(BDD!$H$2:$H$3,'Indicateur Zone9'!$A4,BDD!$Z$2:$Z$3)","v":0},{"$f":"SUMIF(BDD!$H$2:$H$3,'Indicateur Zone9'!$A4,BDD!$Z$2:$Z$3)","v":0},{"$f":"SUMIF(BDD!$H$2:$H$3,'Indicateur Zone9'!$A4,BDD!$Z$2:$Z$3)","v":0},{"$f":"SUMIF(BDD!$H$2:$H$3,'Indicateur Zone9'!$A4,BDD!$Z$2:$Z$3)","v":0},{"$f":"SUMIF(BDD!$H$2:$H$3,'Indicateur Zone9'!$A4,BDD!$Z$2:$Z$3)","v":0}]
["Banc 111",{"$f":"SUMIF(BDD!$H$2:$H$3,'Indicateur Zone9'!$A5,BDD!$Z$2:$Z$3)","v":0},{"$f":"SUMIF(BDD!$H$2:$H$3,'Indicateur Zone9'!$A5,BDD!$Z$2:$Z$3)","v":0},{"$f":"SUMIF(BDD!$H$2:$H$683,'Indicateur Zone9'!$A$5,BDD!$Z$2:$Z$683)","v":0},{"$f":"SUMIF(BDD!$H$2:$H$3,'Indicateur Zone9'!$A5,BDD!$Z$2:$Z$3)","v":0},{"$f":"SUMIF(BDD!$H$2:$H$3,'Indicateur Zone9'!$A5,BDD!$Z$2:$Z$3)","v":0},{"$f":"SUMIF(BDD!$H$2:$H$3,'Indicateur Zone9'!$A5,BDD!$Z$2:$Z$3)","v":0},{"$f":"SUMIF(BDD!$H$2:$H$3,'Indicateur Zone9'!$A5,BDD!$Z$2:$Z$3)","v":0},{"$f":"SUMIF(BDD!$H$2:$H$3,'Indicateur Zone9'!$A5,BDD!$Z$2:$Z$3)","v":0},{"$f":"SUMIF(BDD!$H$2:$H$3,'Indicateur Zone9'!$A5,BDD!$Z$2:$Z$3)","v":0},{"$f":"SUMIF(BDD!$H$2:$H$3,'Indicateur Zone9'!$A5,BDD!$Z$2:$Z$3)","v":0},{"$f":"SUMIF(BDD!$H$2:$H$3,'Indicateur Zone9'!$A5,BDD!$Z$2:$Z$3)","v":0},{"$f":"SUMIF(BDD!$H$2:$H$3,'Indicateur Zone9'!$A5,BDD!$Z$2:$Z$3)","v":0}]
["Banc 117",{"$f":"SUMIF(BDD!$H$2:$H$3,'Indicateur Zone9'!$A6,BDD!$Z$2:$Z$3)","v":0},{"$f":"SUMIF(BDD!$H$2:$H$3,'Indicateur Zone9'!$A6,BDD!$Z$2:$Z$3)","v":0},{"$f":"SUMIF(BDD!$H$2:$H$683,'Indicateur Zone9'!$A$6,BDD!$Z$2:$Z$683)","v":0},{"$f":"SUMIF(BDD!$H$2:$H$3,'Indicateur Zone9'!$A6,BDD!$Z$2:$Z$3)","v":0},{"$f":"SUMIF(BDD!$H$2:$H$3,'Indicateur Zone9'!$A6,BDD!$Z$2:$Z$3)","v":0},{"$f":"SUMIF(BDD!$H$2:$H$3,'Indicateur Zone9'!$A6,BDD!$Z$2:$Z$3)","v":0},{"$f":"SUMIF(BDD!$H$2:$H$3,'Indicateur Zone9'!$A6,BDD!$Z$2:$Z$3)","v":0},{"$f":"SUMIF(BDD!$H$2:$H$3,'Indicateur Zone9'!$A6,BDD!$Z$2:$Z$3)","v":0},{"$f":"SUMIF(BDD!$H$2:$H$3,'Indicateur Zone9'!$A6,BDD!$Z$2:$Z$3)","v":0},{"$f":"SUMIF(BDD!$H$2:$H$3,'Indicateur Zone9'!$A6,BDD!$Z$2:$Z$3)","v":0},{"$f":"SUMIF(BDD!$H$2:$H$3,'Indicateur Zone9'!$A6,BDD!$Z$2:$Z$3)","v":0},{"$f":"SUMIF(BDD!$H$2:$H$3,'Indicateur Zone9'!$A6,BDD!$Z$2:$Z$3)","v":0}]
["Banc 117 bis",{"$f":"SUMIF(BDD!$H$2:$H$3,'Indicateur Zone9'!$A7,BDD!$Z$2:$Z$3)","v":0},{"$f":"SUMIF(BDD!$H$2:$H$3,'Indicateur Zone9'!$A7,BDD!$Z$2:$Z$3)","v":0},{"$f":"SUMIF(BDD!$H$2:$H$683,'Indicateur Zone9'!$A$7,BDD!$Z$2:$Z$683)","v":0},{"$f":"SUMIF(BDD!$H$2:$H$3,'Indicateur Zone9'!$A7,BDD!$Z$2:$Z$3)","v":0},{"$f":"SUMIF(BDD!$H$2:$H$3,'Indicateur Zone9'!$A7,BDD!$Z$2:$Z$3)","v":0},{"$f":"SUMIF(BDD!$H$2:$H$3,'Indicateur Zone9'!$A7,BDD!$Z$2:$Z$3)","v":0},{"$f":"SUMIF(BDD!$H$2:$H$3,'Indicateur Zone9'!$A7,BDD!$Z$2:$Z$3)","v":0},{"$f":"SUMIF(BDD!$H$2:$H$3,'Indicateur Zone9'!$A7,BDD!$Z$2:$Z$3)","v":0},{"$f":"SUMIF(BDD!$H$2:$H$3,'Indicateur Zone9'!$A7,BDD!$Z$2:$Z$3)","v":0},{"$f":"SUMIF(BDD!$H$2:$H$3,'Indicateur Zone9'!$A7,BDD!$Z$2:$Z$3)","v":0},{"$f":"SUMIF(BDD!$H$2:$H$3,'Indicateur Zone9'!$A7,BDD!$Z$2:$Z$3)","v":0},{"$f":"SUMIF(BDD!$H$2:$H$3,'Indicateur Zone9'!$A7,BDD!$Z$2:$Z$3)","v":0}]
["Banc 119",{"$f":"SUMIF(BDD!$H$2:$H$3,'Indicateur Zone9'!$A8,BDD!$Z$2:$Z$3)","v":0},{"$f":"SUMIF(BDD!$H$2:$H$3,'Indicateur Zone9'!$A8,BDD!$Z$2:$Z$3)","v":0},{"$f":"SUMIF(BDD!$H$2:$H$683,'Indicateur Zone9'!$A$8,BDD!$Z$2:$Z$683)","v":0},{"$f":"SUMIF(BDD!$H$2:$H$3,'Indicateur Zone9'!$A8,BDD!$Z$2:$Z$3)","v":0},{"$f":"SUMIF(BDD!$H$2:$H$3,'Indicateur Zone9'!$A8,BDD!$Z$2:$Z$3)","v":0},{"$f":"SUMIF(BDD!$H$2:$H$3,'Indicateur Zone9'!$A8,BDD!$Z$2:$Z$3)","v":0},{"$f":"SUMIF(BDD!$H$2:$H$3,'Indicateur Zone9'!$A8,BDD!$Z$2:$Z$3)","v":0},{"$f":"SUMIF(BDD!$H$2:$H$3,'Indicateur Zone9'!$A8,BDD!$Z$2:$Z$3)","v":0},{"$f":"SUMIF(BDD!$H$2:$H$3,'Indicateur Zone9'!$A8,BDD!$Z$2:$Z$3)","v":0},{"$f":"SUMIF(BDD!$H$2:$H$3,'Indicateur Zone9'!$A8,BDD!$Z$2:$Z$3)","v":0},{"$f":"SUMIF(BDD!$H$2:$H$3,'Indicateur Zone9'!$A8,BDD!$Z$2:$Z$3)","v":0},{"$f":"SUMIF(BDD!$H$2:$H$3,'Indicateur Zone9'!$A8,BDD!$Z$2:$Z$3)","v":0}]
["Banc 123",{"$f":"SUMIF(BDD!$H$2:$H$3,'Indicateur Zone9'!$A9,BDD!$Z$2:$Z$3)","v":0},{"$f":"SUMIF(BDD!$H$2:$H$3,'Indicateur Zone9'!$A9,BDD!$Z$2:$Z$3)","v":0},{"$f":"SUMIF(BDD!$H$2:$H$683,'Indicateur Zone9'!$A$9,BDD!$Z$2:$Z$683)","v":32.5},{"$f":"SUMIF(BDD!$H$2:$H$3,'Indicateur Zone9'!$A9,BDD!$Z$2:$Z$3)","v":0},{"$f":"SUMIF(BDD!$H$2:$H$3,'Indicateur Zone9'!$A9,BDD!$Z$2:$Z$3)","v":0},{"$f":"SUMIF(BDD!$H$2:$H$3,'Indicateur Zone9'!$A9,BDD!$Z$2:$Z$3)","v":0},{"$f":"SUMIF(BDD!$H$2:$H$3,'Indicateur Zone9'!$A9,BDD!$Z$2:$Z$3)","v":0},{"$f":"SUMIF(BDD!$H$2:$H$3,'Indicateur Zone9'!$A9,BDD!$Z$2:$Z$3)","v":0},{"$f":"SUMIF(BDD!$H$2:$H$3,'Indicateur Zone9'!$A9,BDD!$Z$2:$Z$3)","v":0},{"$f":"SUMIF(BDD!$H$2:$H$3,'Indicateur Zone9'!$A9,BDD!$Z$2:$Z$3)","v":0},{"$f":"SUMIF(BDD!$H$2:$H$3,'Indicateur Zone9'!$A9,BDD!$Z$2:$Z$3)","v":0},{"$f":"SUMIF(BDD!$H$2:$H$3,'Indicateur Zone9'!$A9,BDD!$Z$2:$Z$3)","v":0}]
["Banc 126",{"$f":"SUMIF(BDD!$H$2:$H$3,'Indicateur Zone9'!$A10,BDD!$Z$2:$Z$3)","v":0},{"$f":"SUMIF(BDD!$H$2:$H$3,'Indicateur Zone9'!$A10,BDD!$Z$2:$Z$3)","v":0},{"$f":"SUMIF(BDD!$H$2:$H$683,'Indicateur Zone9'!$A$10,BDD!$Z$2:$Z$683)","v":0.3},{"$f":"SUMIF(BDD!$H$2:$H$3,'Indicateur Zone9'!$A10,BDD!$Z$2:$Z$3)","v":0},{"$f":"SUMIF(BDD!$H$2:$H$3,'Indicateur Zone9'!$A10,BDD!$Z$2:$Z$3)","v":0},{"$f":"SUMIF(BDD!$H$2:$H$3,'Indicateur Zone9'!$A10,BDD!$Z$2:$Z$3)","v":0},{"$f":"SUMIF(BDD!$H$2:$H$3,'Indicateur Zone9'!$A10,BDD!$Z$2:$Z$3)","v":0},{"$f":"SUMIF(BDD!$H$2:$H$3,'Indicateur Zone9'!$A10,BDD!$Z$2:$Z$3)","v":0},{"$f":"SUMIF(BDD!$H$2:$H$3,'Indicateur Zone9'!$A10,BDD!$Z$2:$Z$3)","v":0},{"$f":"SUMIF(BDD!$H$2:$H$3,'Indicateur Zone9'!$A10,BDD!$Z$2:$Z$3)","v":0},{"$f":"SUMIF(BDD!$H$2:$H$3,'Indicateur Zone9'!$A10,BDD!$Z$2:$Z$3)","v":0},{"$f":"SUMIF(BDD!$H$2:$H$3,'Indicateur Zone9'!$A10,BDD!$Z$2:$Z$3)","v":0}]
["Banc 156",{"$f":"SUMIF(BDD!$H$2:$H$3,'Indicateur Zone9'!$A11,BDD!$Z$2:$Z$3)","v":0},{"$f":"SUMIF(BDD!$H$2:$H$3,'Indicateur Zone9'!$A11,BDD!$Z$2:$Z$3)","v":0},{"$f":"SUMIF(BDD!$H$2:$H$683,'Indicateur Zone9'!$A$11,BDD!$Z$2:$Z$683)","v":0},{"$f":"SUMIF(BDD!$H$2:$H$3,'Indicateur Zone9'!$A11,BDD!$Z$2:$Z$3)","v":0},{"$f":"SUMIF(BDD!$H$2:$H$3,'Indicateur Zone9'!$A11,BDD!$Z$2:$Z$3)","v":0},{"$f":"SUMIF(BDD!$H$2:$H$3,'Indicateur Zone9'!$A11,BDD!$Z$2:$Z$3)","v":0},{"$f":"SUMIF(BDD!$H$2:$H$3,'Indicateur Zone9'!$A11,BDD!$Z$2:$Z$3)","v":0},{"$f":"SUMIF(BDD!$H$2:$H$3,'Indicateur Zone9'!$A11,BDD!$Z$2:$Z$3)","v":0},{"$f":"SUMIF(BDD!$H$2:$H$3,'Indicateur Zone9'!$A11,BDD!$Z$2:$Z$3)","v":0},{"$f":"SUMIF(BDD!$H$2:$H$3,'Indicateur Zone9'!$A11,BDD!$Z$2:$Z$3)","v":0},{"$f":"SUMIF(BDD!$H$2:$H$3,'Indicateur Zone9'!$A11,BDD!$Z$2:$Z$3)","v":0},{"$f":"SUMIF(BDD!$H$2:$H$3,'Indicateur Zone9'!$A11,BDD!$Z$2:$Z$3)","v":0}]
[]
[]
[]
[]
[]
[]
[]
[]
[]
[]
[]
[]
[]
[]
[]
[]
[]
[]
[]
[]
[null,"Suivi du correctif et du préventif"]
["Type de maintenance","Janvier","Février","Mars","Avril","Mai","Juin","Juillet","Août","Septembre","Octobre","Novembre","Décembre"]
["Préventive",{"$f":"SUM(C59:C66)","v":0},{"$f":"SUM(E59:E66)","v":0},{"$f":"SUM(G59:G66)","v":32.299999999999997},{"$f":"SUM(I59:I66)","v":0},{"$f":"SUM(K59:K66)","v":0},{"$f":"SUM(M59:M66)","v":0},{"$f":"SUM(O59:O66)","v":0},{"$f":"SUM(Q59:Q66)","v":0},{"$f":"SUM(S59:S66)","v":0},{"$f":"SUM(U59:U66)","v":0},{"$f":"SUM(W59:W66)","v":0},{"$f":"SUM(Y59:Y66)","v":0}]
["Corrective",{"$f":"SUM(B59:B66)","v":0},{"$f":"SUM(D59:D66)","v":0},{"$f":"SUM(F59:F66)","v":0},{"$f":"SUM(H59:H66)","v":0},{"$f":"SUM(J59:J66)","v":0},{"$f":"SUM(L59:L66)","v":0},{"$f":"SUM(N59:N66)","v":0},{"$f":"SUM(N59:N66)","v":0},{"$f":"SUM(R59:R66)","v":0},{"$f":"SUM(T59:T66)","v":0},{"$f":"SUM(V59:V66)","v":0},{"$f":"SUM(X59:X66)","v":0}]
[]
[]
[]
[]
[]
[]
[]
[]
[]
[]
[]
[]
[]
[]
[]
[]
[]
[]
[]
[]
[null,"Suivi du correctif et du préventif par banc"]
[null,"Janvier",null,"Février",null,"Mars",null,"Avril",null,"Mai",null,"Juin",null,"Juillet",null,"Août",null,"Septembre",null,"Octobre",null,"Novembre",null,"Décembre"]
["Banc zone 9","Corrective","Préventive","Corrective","Préventive","Corrective","Préventive","Corrective","Préventive","Corrective","Préventive","Corrective","Préventive","Corrective","Préventive","Corrective","Préventive","Corrective","Préventive","Corrective","Préventive","Corrective","Préventive","Corrective","Préventive"]
["Banc P5",{"$f":"SUMIF(BDD!$BG$2:$BG$3,\"Banc P5VRAIFAUX\",BDD!$Z$2:$Z$3)","v":0},{"$f":"SUMIF(BDD!$BG$2:$BG$3,\"Banc P5FAUXVRAI\",BDD!$Z$2:$Z$3)","v":0},{"$f":"SUMIF(BDD!$BG$2:$BG$3,\"Banc P5VRAIFAUX\",BDD!$Z$2:$Z$3)","v":0},{"$f":"SUMIF(BDD!$BG$2:$BG$3,\"Banc P5FAUXVRAI\",BDD!$Z$2:$Z$3)","v":0},{"$f":"SUMIF(BDD!$BG$2:$BG$683,\"Banc P5VRAIFAUX\",BDD!$Z$2:$Z$683)","v":0},{"$f":"SUMIF(BDD!$BG$2:$BG$683,\"Banc P5FAUXvrai\",BDD!$Z$2:$Z$683)","v":0},{"$f":"SUMIF(BDD!$BG$2:$BG$3,\"Banc P5VRAIFAUX\",BDD!$Z$2:$Z$3)","v":0},{"$f":"SUMIF(BDD!$BG$2:$BG$3,\"Banc P5FAUXVRAI\",BDD!$Z$2:$Z$3)","v":0},{"$f":"SUMIF(BDD!$BG$2:$BG$3,\"Banc P5VRAIFAUX\",BDD!$Z$2:$Z$3)","v":0},{"$f":"SUMIF(BDD!$BG$2:$BG$3,\"Banc P5FAUXVRAI\",BDD!$Z$2:$Z$3)","v":0},{"$f":"SUMIF(BDD!$BG$2:$BG$3,\"Banc P5VRAIFAUX\",BDD!$Z$2:$Z$3)","v":0},{"$f":"SUMIF(BDD!$BG$2:$BG$3,\"Banc P5FAUXVRAI\",BDD!$Z$2:$Z$3)","v":0},{"$f":"SUMIF(BDD!$BG$2:$BG$3,\"Banc P5VRAIFAUX\",BDD!$Z$2:$Z$3)","v":0},{"$f":"SUMIF(BDD!$BG$2:$BG$3,\"Banc P5FAUXVRAI\",BDD!$Z$2:$Z$3)","v":0},{"$f":"SUMIF(BDD!$BG$2:$BG$3,\"Banc P5VRAIFAUX\",BDD!$Z$2:$Z$3)","v":0},{"$f":"SUMIF(BDD!$BG$2:$BG$3,\"Banc P5FAUXVRAI\",BDD!$Z$2:$Z$3)","v":0},{"$f":"SUMIF(BDD!$BG$2:$BG$3,\"Banc P5VRAIFAUX\",BDD!$Z$2:$Z$3)","v":0},{"$f":"SUMIF(BDD!$BG$2:$BG$3,\"Banc P5FAUXVRAI\",BDD!$Z$2:$Z$3)","v":0},{"$f":"SUMIF(BDD!$BG$2:$BG$3,\"Banc P5VRAIFAUX\",BDD!$Z$2:$Z$3)","v":0},{"$f":"SUMIF(BDD!$BG$2:$BG$3,\"Banc P5FAUXVRAI\",BDD!$Z$2:$Z$3)","v":0},{"$f":"SUMIF(BDD!$BG$2:$BG$3,\"Banc P5VRAIFAUX\",BDD!$Z$2:$Z$3)","v":0},{"$f":"SUMIF(BDD!$BG$2:$BG$3,\"Banc P5FAUXVRAI\",BDD!$Z$2:$Z$3)","v":0},{"$f":"SUMIF(BDD!$BG$2:$BG$3,\"Banc P5VRAIFAUX\",BDD!$Z$2:$Z$3)","v":0},{"$f":"SUMIF(BDD!$BG$2:$BG$3,\"Banc P5FAUXVRAI\",BDD!$Z$2:$Z$3)","v":0}]
["Banc 111",{"$f":"SUMIF(BDD!$BG$2:$BG$3,\"Banc 111VRAIFAUX\",BDD!$Z$2:$Z$3)","v":0},{"$f":"SUMIF(BDD!$BG$2:$BG$3,\"Banc 111FAUXVRAI\",BDD!$Z$2:$Z$3)","v":0},{"$f":"SUMIF(BDD!$BG$2:$BG$3,\"Banc 111VRAIFAUX\",BDD!$Z$2:$Z$3)","v":0},{"$f":"SUMIF(BDD!$BG$2:$BG$3,\"Banc 111FAUXVRAI\",BDD!$Z$2:$Z$3)","v":0},{"$f":"SUMIF(BDD!$BG$2:$BG$683,\"Banc 111VRAIFAUX\",BDD!$Z$2:$Z$683)","v":0},{"$f":"SUMIF(BDD!$BG$2:$BG$683,\"Banc 111FAUXVRAI\",BDD!$Z$2:$Z$683)","v":0},{"$f":"SUMIF(BDD!$BG$2:$BG$3,\"Banc 111VRAIFAUX\",BDD!$Z$2:$Z$3)","v":0},{"$f":"SUMIF(BDD!$BG$2:$BG$3,\"Banc 111FAUXVRAI\",BDD!$Z$2:$Z$3)","v":0},{"$f":"SUMIF(BDD!$BG$2:$BG$3,\"Banc 111VRAIFAUX\",BDD!$Z$2:$Z$3)","v":0},{"$f":"SUMIF(BDD!$BG$2:$BG$3,\"Banc 111FAUXVRAI\",BDD!$Z$2:$Z$3)","v":0},{"$f":"SUMIF(BDD!$BG$2:$BG$3,\"Banc 111VRAIFAUX\",BDD!$Z$2:$Z$3)","v":0},{"$f":"SUMIF(BDD!$BG$2:$BG$3,\"Banc 111FAUXVRAI\",BDD!$Z$2:$Z$3)","v":0},{"$f":"SUMIF(BDD!$BG$2:$BG$3,\"Banc 111VRAIFAUX\",BDD!$Z$2:$Z$3)","v":0},{"$f":"SUMIF(BDD!$BG$2:$BG$3,\"Banc 111FAUXVRAI\",BDD!$Z$2:$Z$3)","v":0},{"$f":"SUMIF(BDD!$BG$2:$BG$3,\"Banc 111VRAIFAUX\",BDD!$Z$2:$Z$3)","v":0},{"$f":"SUMIF(BDD!$BG$2:$BG$3,\"Banc 111FAUXVRAI\",BDD!$Z$2:$Z$3)","v":0},{"$f":"SUMIF(BDD!$BG$2:$BG$3,\"Banc 111VRAIFAUX\",BDD!$Z$2:$Z$3)","v":0},{"$f":"SUMIF(BDD!$BG$2:$BG$3,\"Banc 111FAUXVRAI\",BDD!$Z$2:$Z$3)","v":0},{"$f":"SUMIF(BDD!$BG$2:$BG$3,\"Banc 111VRAIFAUX\",BDD!$Z$2:$Z$3)","v":0},{"$f":"SUMIF(BDD!$BG$2:$BG$3,\"Banc 111FAUXVRAI\",BDD!$Z$2:$Z$3)","v":0},{"$f":"SUMIF(BDD!$BG$2:$BG$3,\"Banc 111VRAIFAUX\",BDD!$Z$2:$Z$3)","v":0},{"$f":"SUMIF(BDD!$BG$2:$BG$3,\"Banc 111FAUXVRAI\",BDD!$Z$2:$Z$3)","v":0},{"$f":"SUMIF(BDD!$BG$2:$BG$3,\"Banc 111VRAIFAUX\",BDD!$Z$2:$Z$3)","v":0},{"$f":"SUMIF(BDD!$BG$2:$BG$3,\"Banc 111FAUXVRAI\",BDD!$Z$2:$Z$3)","v":0}]
["Banc 117",{"$f":"SUMIF(BDD!$BG$2:$BG$683,\"Banc 117VRAIFAUX\",BDD!$Z$2:$Z$683)","v":0},{"$f":"SUMIF(BDD!$BG$2:$BG$3,\"Banc 117FAUXVRAI\",BDD!$Z$2:$Z$3)","v":0},{"$f":"SUMIF(BDD!$BG$2:$BG$683,\"Banc 117VRAIFAUX\",BDD!$Z$2:$Z$683)","v":0},{"$f":"SUMIF(BDD!$BG$2:$BG$3,\"Banc 117FAUXVRAI\",BDD!$Z$2:$Z$3)","v":0},{"$f":"SUMIF(BDD!$BG$2:$BG$683,\"Banc 117VRAIFAUX\",BDD!$Z$2:$Z$683)","v":0},{"$f":"SUMIF(BDD!$BG$2:$BG$683,\"Banc 117FAUXVRAI\",BDD!$Z$2:$Z$683)","v":0},{"$f":"SUMIF(BDD!$BG$2:$BG$683,\"Banc 117VRAIFAUX\",BDD!$Z$2:$Z$683)","v":0},{"$f":"SUMIF(BDD!$BG$2:$BG$3,\"Banc 117FAUXVRAI\",BDD!$Z$2:$Z$3)","v":0},{"$f":"SUMIF(BDD!$BG$2:$BG$683,\"Banc 117VRAIFAUX\",BDD!$Z$2:$Z$683)","v":0},{"$f":"SUMIF(BDD!$BG$2:$BG$3,\"Banc 117FAUXVRAI\",BDD!$Z$2:$Z$3)","v":0},{"$f":"SUMIF(BDD!$BG$2:$BG$683,\"Banc 117VRAIFAUX\",BDD!$Z$2:$Z$683)","v":0},{"$f":"SUMIF(BDD!$BG$2:$BG$3,\"Banc 117FAUXVRAI\",BDD!$Z$2:$Z$3)","v":0},{"$f":"SUMIF(BDD!$BG$2:$BG$683,\"Banc 117VRAIFAUX\",BDD!$Z$2:$Z$683)","v":0},{"$f":"SUMIF(BDD!$BG$2:$BG$3,\"Banc 117FAUXVRAI\",BDD!$Z$2:$Z$3)","v":0},{"$f":"SUMIF(BDD!$BG$2:$BG$683,\"Banc 117VRAIFAUX\",BDD!$Z$2:$Z$683)","v":0},{"$f":"SUMIF(BDD!$BG$2:$BG$3,\"Banc 117FAUXVRAI\",BDD!$Z$2:$Z$3)","v":0},{"$f":"SUMIF(BDD!$BG$2:$BG$683,\"Banc 117VRAIFAUX\",BDD!$Z$2:$Z$683)","v":0},{"$f":"SUMIF(BDD!$BG$2:$BG$3,\"Banc 117FAUXVRAI\",BDD!$Z$2:$Z$3)","v":0},{"$f":"SUMIF(BDD!$BG$2:$BG$683,\"Banc 117VRAIFAUX\",BDD!$Z$2:$Z$683)","v":0},{"$f":"SUMIF(BDD!$BG$2:$BG$3,\"Banc 117FAUXVRAI\",BDD!$Z$2:$Z$3)","v":0},{"$f":"SUMIF(BDD!$BG$2:$BG$683,\"Banc 117VRAIFAUX\",BDD!$Z$2:$Z$683)","v":0},{"$f":"SUMIF(BDD!$BG$2:$BG$3,\"Banc 117FAUXVRAI\",BDD!$Z$2:$Z$3)","v":0},{"$f":"SUMIF(BDD!$BG$2:$BG$683,\"Banc 117VRAIFAUX\",BDD!$Z$2:$Z$683)","v":0},{"$f":"SUMIF(BDD!$BG$2:$BG$3,\"Banc 117FAUXVRAI\",BDD!$Z$2:$Z$3)","v":0}]
["Banc 117 bis",{"$f":"SUMIF(BDD!$BG$2:$BG$3,\"Banc 117 bisVRAIFAUX\",BDD!$Z$2:$Z$3)","v":0},{"$f":"SUMIF(BDD!$BG$2:$BG$3,\"Banc 117 bisFAUXVRAI\",BDD!$Z$2:$Z$3)","v":0},{"$f":"SUMIF(BDD!$BG$2:$BG$3,\"Banc 117 bisVRAIFAUX\",BDD!$Z$2:$Z$3)","v":0},{"$f":"SUMIF(BDD!$BG$2:$BG$3,\"Banc 117 bisFAUXVRAI\",BDD!$Z$2:$Z$3)","v":0},{"$f":"SUMIF(BDD!$BG$2:$BG$683,\"Banc 117 bisVRAIFAUX\",BDD!$Z$2:$Z$683)","v":0},{"$f":"SUMIF(BDD!$BG$2:$BG$683,\"Banc 117 bisFAUXVRAI\",BDD!$Z$2:$Z$683)","v":0},{"$f":"SUMIF(BDD!$BG$2:$BG$3,\"Banc 117 bisVRAIFAUX\",BDD!$Z$2:$Z$3)","v":0},{"$f":"SUMIF(BDD!$BG$2:$BG$3,\"Banc 117 bisFAUXVRAI\",BDD!$Z$2:$Z$3)","v":0},{"$f":"SUMIF(BDD!$BG$2:$BG$3,\"Banc 117 bisVRAIFAUX\",BDD!$Z$2:$Z$3)","v":0},{"$f":"SUMIF(BDD!$BG$2:$BG$3,\"Banc 117 bisFAUXVRAI\",BDD!$Z$2:$Z$3)","v":0},{"$f":"SUMIF(BDD!$BG$2:$BG$3,\"Banc 117 bisVRAIFAUX\",BDD!$Z$2:$Z$3)","v":0},{"$f":"SUMIF(BDD!$BG$2:$BG$3,\"Banc 117 bisFAUXVRAI\",BDD!$Z$2:$Z$3)","v":0},{"$f":"SUMIF(BDD!$BG$2:$BG$3,\"Banc 117 bisVRAIFAUX\",BDD!$Z$2:$Z$3)","v":0},{"$f":"SUMIF(BDD!$BG$2:$BG$3,\"Banc 117 bisFAUXVRAI\",BDD!$Z$2:$Z$3)","v":0},{"$f":"SUMIF(BDD!$BG$2:$BG$3,\"Banc 117 bisVRAIFAUX\",BDD!$Z$2:$Z$3)","v":0},{"$f":"SUMIF(BDD!$BG$2:$BG$3,\"Banc 117 bisFAUXVRAI\",BDD!$Z$2:$Z$3)","v":0},{"$f":"SUMIF(BDD!$BG$2:$BG$3,\"Banc 117 bisVRAIFAUX\",BDD!$Z$2:$Z$3)","v":0},{"$f":"SUMIF(BDD!$BG$2:$BG$3,\"Banc 117 bisFAUXVRAI\",BDD!$Z$2:$Z$3)","v":0},{"$f":"SUMIF(BDD!$BG$2:$BG$3,\"Banc 117 bisVRAIFAUX\",BDD!$Z$2:$Z$3)","v":0},{"$f":"SUMIF(BDD!$BG$2:$BG$3,\"Banc 117 bisFAUXVRAI\",BDD!$Z$2:$Z$3)","v":0},{"$f":"SUMIF(BDD!$BG$2:$BG$3,\"Banc 117 bisVRAIFAUX\",BDD!$Z$2:$Z$3)","v":0},{"$f":"SUMIF(BDD!$BG$2:$BG$3,\"Banc 117 bisFAUXVRAI\",BDD!$Z$2:$Z$3)","v":0},{"$f":"SUMIF(BDD!$BG$2:$BG$3,\"Banc 117 bisVRAIFAUX\",BDD!$Z$2:$Z$3)","v":0},{"$f":"SUMIF(BDD!$BG$2:$BG$3,\"Banc 117 bisFAUXVRAI\",BDD!$Z$2:$Z$3)","v":0}]
["Banc 119",{"$f":"SUMIF(BDD!$BG$2:$BG$3,\"Banc 119VRAIFAUX\",BDD!$Z$2:$Z$3)","v":0},{"$f":"SUMIF(BDD!$BG$2:$BG$3,\"Banc 119FAUXVRAI\",BDD!$Z$2:$Z$3)","v":0},{"$f":"SUMIF(BDD!$BG$2:$BG$3,\"Banc 119VRAIFAUX\",BDD!$Z$2:$Z$3)","v":0},{"$f":"SUMIF(BDD!$BG$2:$BG$3,\"Banc 119FAUXVRAI\",BDD!$Z$2:$Z$3)","v":0},{"$f":"SUMIF(BDD!$BG$2:$BG$683,\"Banc 119VRAIFAUX\",BDD!$Z$2:$Z$683)","v":0},{"$f":"SUMIF(BDD!$BG$2:$BG$683,\"Banc 119FAUXVRAI\",BDD!$Z$2:$Z$683)","v":0},{"$f":"SUMIF(BDD!$BG$2:$BG$3,\"Banc 119VRAIFAUX\",BDD!$Z$2:$Z$3)","v":0},{"$f":"SUMIF(BDD!$BG$2:$BG$3,\"Banc 119FAUXVRAI\",BDD!$Z$2:$Z$3)","v":0},{"$f":"SUMIF(BDD!$BG$2:$BG$3,\"Banc 119VRAIFAUX\",BDD!$Z$2:$Z$3)","v":0},{"$f":"SUMIF(BDD!$BG$2:$BG$3,\"Banc 119FAUXVRAI\",BDD!$Z$2:$Z$3)","v":0},{"$f":"SUMIF(BDD!$BG$2:$BG$3,\"Banc 119VRAIFAUX\",BDD!$Z$2:$Z$3)","v":0},{"$f":"SUMIF(BDD!$BG$2:$BG$3,\"Banc 119FAUXVRAI\",BDD!$Z$2:$Z$3)","v":0},{"$f":"SUMIF(BDD!$BG$2:$BG$3,\"Banc 119VRAIFAUX\",BDD!$Z$2:$Z$3)","v":0},{"$f":"SUMIF(BDD!$BG$2:$BG$3,\"Banc 119FAUXVRAI\",BDD!$Z$2:$Z$3)","v":0},{"$f":"SUMIF(BDD!$BG$2:$BG$3,\"Banc 119VRAIFAUX\",BDD!$Z$2:$Z$3)","v":0},{"$f":"SUMIF(BDD!$BG$2:$BG$3,\"Banc 119FAUXVRAI\",BDD!$Z$2:$Z$3)","v":0},{"$f":"SUMIF(BDD!$BG$2:$BG$3,\"Banc 119VRAIFAUX\",BDD!$Z$2:$Z$3)","v":0},{"$f":"SUMIF(BDD!$BG$2:$BG$3,\"Banc 119FAUXVRAI\",BDD!$Z$2:$Z$3)","v":0},{"$f":"SUMIF(BDD!$BG$2:$BG$3,\"Banc 119VRAIFAUX\",BDD!$Z$2:$Z$3)","v":0},{"$f":"SUMIF(BDD!$BG$2:$BG$3,\"Banc 119FAUXVRAI\",BDD!$Z$2:$Z$3)","v":0},{"$f":"SUMIF(BDD!$BG$2:$BG$3,\"Banc 119VRAIFAUX\",BDD!$Z$2:$Z$3)","v":0},{"$f":"SUMIF(BDD!$BG$2:$BG$3,\"Banc 119FAUXVRAI\",BDD!$Z$2:$Z$3)","v":0},{"$f":"SUMIF(BDD!$BG$2:$BG$3,\"Banc 119VRAIFAUX\",BDD!$Z$2:$Z$3)","v":0},{"$f":"SUMIF(BDD!$BG$2:$BG$3,\"Banc 119FAUXVRAI\",BDD!$Z$2:$Z$3)","v":0}]
["Banc 123",{"$f":"SUMIF(BDD!$BG$2:$BG$3,\"Banc 123VRAIFAUX\",BDD!$Z$2:$Z$3)","v":0},{"$f":"SUMIF(BDD!$BG$2:$BG$3,\"Banc 123FAUXVRAI\",BDD!$Z$2:$Z$3)","v":0},{"$f":"SUMIF(BDD!$BG$2:$BG$3,\"Banc 123VRAIFAUX\",BDD!$Z$2:$Z$3)","v":0},{"$f":"SUMIF(BDD!$BG$2:$BG$3,\"Banc 123FAUXVRAI\",BDD!$Z$2:$Z$3)","v":0},{"$f":"SUMIF(BDD!$BG$2:$BG$683,\"Banc 123VRAIFAUX\",BDD!$Z$2:$Z$683)","v":0},{"$f":"SUMIF(BDD!$BG$2:$BG$683,\"Banc 123FAUXVRAI\",BDD!$Z$2:$Z$683)","v":32},{"$f":"SUMIF(BDD!$BG$2:$BG$3,\"Banc 123VRAIFAUX\",BDD!$Z$2:$Z$3)","v":0},{"$f":"SUMIF(BDD!$BG$2:$BG$3,\"Banc 123FAUXVRAI\",BDD!$Z$2:$Z$3)","v":0},{"$f":"SUMIF(BDD!$BG$2:$BG$3,\"Banc 123VRAIFAUX\",BDD!$Z$2:$Z$3)","v":0},{"$f":"SUMIF(BDD!$BG$2:$BG$3,\"Banc 123FAUXVRAI\",BDD!$Z$2:$Z$3)","v":0},{"$f":"SUMIF(BDD!$BG$2:$BG$3,\"Banc 123VRAIFAUX\",BDD!$Z$2:$Z$3)","v":0},{"$f":"SUMIF(BDD!$BG$2:$BG$3,\"Banc 123FAUXVRAI\",BDD!$Z$2:$Z$3)","v":0},{"$f":"SUMIF(BDD!$BG$2:$BG$3,\"Banc 123VRAIFAUX\",BDD!$Z$2:$Z$3)","v":0},{"$f":"SUMIF(BDD!$BG$2:$BG$3,\"Banc 123FAUXVRAI\",BDD!$Z$2:$Z$3)","v":0},{"$f":"SUMIF(BDD!$BG$2:$BG$3,\"Banc 123VRAIFAUX\",BDD!$Z$2:$Z$3)","v":0},{"$f":"SUMIF(BDD!$BG$2:$BG$3,\"Banc 123FAUXVRAI\",BDD!$Z$2:$Z$3)","v":0},{"$f":"SUMIF(BDD!$BG$2:$BG$3,\"Banc 123VRAIFAUX\",BDD!$Z$2:$Z$3)","v":0},{"$f":"SUMIF(BDD!$BG$2:$BG$3,\"Banc 123FAUXVRAI\",BDD!$Z$2:$Z$3)","v":0},{"$f":"SUMIF(BDD!$BG$2:$BG$3,\"Banc 123VRAIFAUX\",BDD!$Z$2:$Z$3)","v":0},{"$f":"SUMIF(BDD!$BG$2:$BG$3,\"Banc 123FAUXVRAI\",BDD!$Z$2:$Z$3)","v":0},{"$f":"SUMIF(BDD!$BG$2:$BG$3,\"Banc 123VRAIFAUX\",BDD!$Z$2:$Z$3)","v":0},{"$f":"SUMIF(BDD!$BG$2:$BG$3,\"Banc 123FAUXVRAI\",BDD!$Z$2:$Z$3)","v":0},{"$f":"SUMIF(BDD!$BG$2:$BG$3,\"Banc 123VRAIFAUX\",BDD!$Z$2:$Z$3)","v":0},{"$f":"SUMIF(BDD!$BG$2:$BG$3,\"Banc 123FAUXVRAI\",BDD!$Z$2:$Z$3)","v":0}]
["Banc 126",{"$f":"SUMIF(BDD!$BG$2:$BG$3,\"Banc 126VRAIFAUX\",BDD!$Z$2:$Z$3)","v":0},{"$f":"SUMIF(BDD!$BG$2:$BG$3,\"Banc 126FAUXVRAI\",BDD!$Z$2:$Z$3)","v":0},{"$f":"SUMIF(BDD!$BG$2:$BG$3,\"Banc 126VRAIFAUX\",BDD!$Z$2:$Z$3)","v":0},{"$f":"SUMIF(BDD!$BG$2:$BG$3,\"Banc 126FAUXVRAI\",BDD!$Z$2:$Z$3)","v":0},{"$f":"SUMIF(BDD!$BG$2:$BG$683,\"Banc 126VRAIFAUX\",BDD!$Z$2:$Z$683)","v":0},{"$f":"SUMIF(BDD!$BG$2:$BG$683,\"Banc 126FAUXVRAI\",BDD!$Z$2:$Z$683)","v":0.3},{"$f":"SUMIF(BDD!$BG$2:$BG$3,\"Banc 126VRAIFAUX\",BDD!$Z$2:$Z$3)","v":0},{"$f":"SUMIF(BDD!$BG$2:$BG$3,\"Banc 126FAUXVRAI\",BDD!$Z$2:$Z$3)","v":0},{"$f":"SUMIF(BDD!$BG$2:$BG$3,\"Banc 126VRAIFAUX\",BDD!$Z$2:$Z$3)","v":0},{"$f":"SUMIF(BDD!$BG$2:$BG$3,\"Banc 126FAUXVRAI\",BDD!$Z$2:$Z$3)","v":0},{"$f":"SUMIF(BDD!$BG$2:$BG$3,\"Banc 126VRAIFAUX\",BDD!$Z$2:$Z$3)","v":0},{"$f":"SUMIF(BDD!$BG$2:$BG$3,\"Banc 126FAUXVRAI\",BDD!$Z$2:$Z$3)","v":0},{"$f":"SUMIF(BDD!$BG$2:$BG$3,\"Banc 126VRAIFAUX\",BDD!$Z$2:$Z$3)","v":0},{"$f":"SUMIF(BDD!$BG$2:$BG$3,\"Banc 126FAUXVRAI\",BDD!$Z$2:$Z$3)","v":0},{"$f":"SUMIF(BDD!$BG$2:$BG$3,\"Banc 126VRAIFAUX\",BDD!$Z$2:$Z$3)","v":0},{"$f":"SUMIF(BDD!$BG$2:$BG$3,\"Banc 126FAUXVRAI\",BDD!$Z$2:$Z$3)","v":0},{"$f":"SUMIF(BDD!$BG$2:$BG$3,\"Banc 126VRAIFAUX\",BDD!$Z$2:$Z$3)","v":0},{"$f":"SUMIF(BDD!$BG$2:$BG$3,\"Banc 126FAUXVRAI\",BDD!$Z$2:$Z$3)","v":0},{"$f":"SUMIF(BDD!$BG$2:$BG$3,\"Banc 126VRAIFAUX\",BDD!$Z$2:$Z$3)","v":0},{"$f":"SUMIF(BDD!$BG$2:$BG$3,\"Banc 126FAUXVRAI\",BDD!$Z$2:$Z$3)","v":0},{"$f":"SUMIF(BDD!$BG$2:$BG$3,\"Banc 126VRAIFAUX\",BDD!$Z$2:$Z$3)","v":0},{"$f":"SUMIF(BDD!$BG$2:$BG$3,\"Banc 126FAUXVRAI\",BDD!$Z$2:$Z$3)","v":0},{"$f":"SUMIF(BDD!$BG$2:$BG$3,\"Banc 126VRAIFAUX\",BDD!$Z$2:$Z$3)","v":0},{"$f":"SUMIF(BDD!$BG$2:$BG$3,\"Banc 126FAUXVRAI\",BDD!$Z$2:$Z$3)","v":0}]
["Banc 156",{"$f":"SUMIF(BDD!$BG$2:$BG$3,\"Banc 156VRAIFAUX\",BDD!$Z$2:$Z$3)","v":0},{"$f":"SUMIF(BDD!$BG$2:$BG$3,\"Banc 156FAUXVRAI\",BDD!$Z$2:$Z$3)","v":0},{"$f":"SUMIF(BDD!$BG$2:$BG$3,\"Banc 156VRAIFAUX\",BDD!$Z$2:$Z$3)","v":0},{"$f":"SUMIF(BDD!$BG$2:$BG$3,\"Banc 156FAUXVRAI\",BDD!$Z$2:$Z$3)","v":0},{"$f":"SUMIF(BDD!$BG$2:$BG$683,\"Banc 156VRAIFAUX\",BDD!$Z$2:$Z$683)","v":0},{"$f":"SUMIF(BDD!$BG$2:$BG$683,\"Banc 156FAUXVRAI\",BDD!$Z$2:$Z$683)","v":0},{"$f":"SUMIF(BDD!$BG$2:$BG$3,\"Banc 156VRAIFAUX\",BDD!$Z$2:$Z$3)","v":0},{"$f":"SUMIF(BDD!$BG$2:$BG$3,\"Banc 156FAUXVRAI\",BDD!$Z$2:$Z$3)","v":0},{"$f":"SUMIF(BDD!$BG$2:$BG$3,\"Banc 156VRAIFAUX\",BDD!$Z$2:$Z$3)","v":0},{"$f":"SUMIF(BDD!$BG$2:$BG$3,\"Banc 156FAUXVRAI\",BDD!$Z$2:$Z$3)","v":0},{"$f":"SUMIF(BDD!$BG$2:$BG$3,\"Banc 156VRAIFAUX\",BDD!$Z$2:$Z$3)","v":0},{"$f":"SUMIF(BDD!$BG$2:$BG$3,\"Banc 156FAUXVRAI\",BDD!$Z$2:$Z$3)","v":0},{"$f":"SUMIF(BDD!$BG$2:$BG$3,\"Banc 156VRAIFAUX\",BDD!$Z$2:$Z$3)","v":0},{"$f":"SUMIF(BDD!$BG$2:$BG$3,\"Banc 156FAUXVRAI\",BDD!$Z$2:$Z$3)","v":0},{"$f":"SUMIF(BDD!$BG$2:$BG$3,\"Banc 156VRAIFAUX\",BDD!$Z$2:$Z$3)","v":0},{"$f":"SUMIF(BDD!$BG$2:$BG$3,\"Banc 156FAUXVRAI\",BDD!$Z$2:$Z$3)","v":0},{"$f":"SUMIF(BDD!$BG$2:$BG$3,\"Banc 156VRAIFAUX\",BDD!$Z$2:$Z$3)","v":0},{"$f":"SUMIF(BDD!$BG$2:$BG$3,\"Banc 156FAUXVRAI\",BDD!$Z$2:$Z$3)","v":0},{"$f":"SUMIF(BDD!$BG$2:$BG$3,\"Banc 156VRAIFAUX\",BDD!$Z$2:$Z$3)","v":0},{"$f":"SUMIF(BDD!$BG$2:$BG$3,\"Banc 156FAUXVRAI\",BDD!$Z$2:$Z$3)","v":0},{"$f":"SUMIF(BDD!$BG$2:$BG$3,\"Banc 156VRAIFAUX\",BDD!$Z$2:$Z$3)","v":0},{"$f":"SUMIF(BDD!$BG$2:$BG$3,\"Banc 156FAUXVRAI\",BDD!$Z$2:$Z$3)","v":0},{"$f":"SUMIF(BDD!$BG$2:$BG$3,\"Banc 156VRAIFAUX\",BDD!$Z$2:$Z$3)","v":0},{"$f":"SUMIF(BDD!$BG$2:$BG$3,\"Banc 156FAUXVRAI\",BDD!$Z$2:$Z$3)","v":0}]
[]
[]
[]
[]
[]
[]
[]
[]
[]
[]
[]
[]
[]
[]
[]
[]
[]
[]
[]
[]
[]
[]
[null,"Suivi du correctif et du préventif par banc"]
[null,"Janvier",null,null,null,null,null,"Février",null,null,null,null,null,"Mars",null,null,null,null,null,"Avril",null,null,null,null,null,"Mai",null,null,null,null,null,"Juin",null,null,null,null,null,"Juillet",null,null,null,null,null,"Août",null,null,null,null,null,"Septembre",null,null,null,null,null,"Octobre",null,null,null,null,null,"Novembre",null,null,null,null,null,"Décembre"]
[null,"Corrective",null,null,"Préventive",null,null,"Corrective",null,null,"Préventive",null,null,"Corrective",null,null,"Préventive",null,null,"Corrective",null,null,"Préventive",null,null,"Corrective",null,null,"Préventive",null,null,"Corrective",null,null,"Préventive",null,null,"Corrective",null,null,"Préventive",null,null,"Corrective",null,null,"Préventive",null,null,"Corrective",null,null,"Préventive",null,null,"Corrective",null,null,"Préventive",null,null,"Corrective",null,null,"Préventive",null,null,"Corrective",null,null,"Préventive"]
["Banc zone 9","Electrique","Mécanique","Hydraulique","Electrique","Mécanique","Hydraulique","Electrique","Mécanique","Hydraulique","Electrique","Mécanique","Hydraulique","Electrique","Mécanique","Hydraulique","Electrique","Mécanique","Hydraulique","Electrique","Mécanique","Hydraulique","Electrique","Mécanique","Hydraulique","Electrique","Mécanique","Hydraulique","Electrique","Mécanique","Hydraulique","Electrique","Mécanique","Hydraulique","Electrique","Mécanique","Hydraulique","Electrique","Mécanique","Hydraulique","Electrique","Mécanique","Hydraulique","Electrique","Mécanique","Hydraulique","Electrique","Mécanique","Hydraulique","Electrique","Mécanique","Hydraulique","Electrique","Mécanique","Hydraulique","Electrique","Mécanique","Hydraulique","Electrique","Mécanique","Hydraulique","Electrique","Mécanique","Hydraulique","Electrique","Mécanique","Hydraulique","Electrique","Mécanique","Hydraulique","Electrique","Mécanique","Hydraulique"]
["Banc P5",{"$f":"SUMIF(BDD!$BH$2:$BH$3,\"Banc P5VRAIFAUXVRAIFAUXFAUX\",BDD!$Z$2:$Z$3)","v":0},{"$f":"SUMIF(BDD!$BH$2:$BH$3,\"Banc P5VRAIFAUXFAUXVRAIFAUX\",BDD!$Z$2:$Z$3)","v":0},{"$f":"SUMIF(BDD!$BH$2:$BH$3,\"Banc P5VRAIFAUXFAUXFAUXVRAI\",BDD!$Z$2:$Z$3)","v":0},{"$f":"SUMIF(BDD!$BH$2:$BH$3,\"Banc P5FAUXVRAIVRAIFAUXFAUX\",BDD!$Z$2:$Z$3)","v":0},{"$f":"SUMIF(BDD!$BH$2:$BH$3,\"Banc P5FAUXVRAIFAUXVRAIFAUX\",BDD!$Z$2:$Z$3)","v":0},{"$f":"SUMIF(BDD!$BH$2:$BH$3,\"Banc P5FAUXVRAIFAUXFAUXVRAI\",BDD!$Z$2:$Z$3)","v":0},{"$f":"SUMIF(BDD!$BH$2:$BH$3,\"Banc P5VRAIFAUXVRAIFAUXFAUX\",BDD!$Z$2:$Z$3)","v":0},{"$f":"SUMIF(BDD!$BH$2:$BH$3,\"Banc P5VRAIFAUXFAUXVRAIFAUX\",BDD!$Z$2:$Z$3)","v":0},{"$f":"SUMIF(BDD!$BH$2:$BH$3,\"Banc P5VRAIFAUXFAUXFAUXVRAI\",BDD!$Z$2:$Z$3)","v":0},{"$f":"SUMIF(BDD!$BH$2:$BH$3,\"Banc P5FAUXVRAIVRAIFAUXFAUX\",BDD!$Z$2:$Z$3)","v":0},{"$f":"SUMIF(BDD!$BH$2:$BH$3,\"Banc P5FAUXVRAIFAUXVRAIFAUX\",BDD!$Z$2:$Z$3)","v":0},{"$f":"SUMIF(BDD!$BH$2:$BH$3,\"Banc P5FAUXVRAIFAUXFAUXVRAI\",BDD!$Z$2:$Z$3)","v":0},{"$f":"SUMIF(BDD!$BH$2:$BH$683,\"Banc P5VRAIFAUXVRAIFAUXFAUX\",BDD!$Z$2:$Z$683)","v":0},{"$f":"SUMIF(BDD!$BH$2:$BH$683,\"Banc P5VRAIFAUXFAUXVRAIFAUX\",BDD!$Z$2:$Z$683)","v":0},{"$f":"SUMIF(BDD!$BH$2:$BH$683,\"Banc P5VRAIFAUXFAUXFAUXVRAI\",BDD!$Z$2:$Z$683)","v":0},{"$f":"SUMIF(BDD!$BH$2:$BH$683,\"Banc P5FAUXVRAIVRAIFAUXFAUX\",BDD!$Z$2:$Z$683)","v":0},{"$f":"SUMIF(BDD!$BH$2:$BH$683,\"Banc P5FAUXVRAIFAUXVRAIFAUX\",BDD!$Z$2:$Z$683)","v":0},{"$f":"SUMIF(BDD!$BH$2:$BH$683,\"Banc P5FAUXVRAIFAUXFAUXVRAI\",BDD!$Z$2:$Z$683)","v":0},{"$f":"SUMIF(BDD!$BH$2:$BH$3,\"Banc P5VRAIFAUXVRAIFAUXFAUX\",BDD!$Z$2:$Z$3)","v":0},{"$f":"SUMIF(BDD!$BH$2:$BH$3,\"Banc P5VRAIFAUXFAUXVRAIFAUX\",BDD!$Z$2:$Z$3)","v":0},{"$f":"SUMIF(BDD!$BH$2:$BH$3,\"Banc P5VRAIFAUXFAUXFAUXVRAI\",BDD!$Z$2:$Z$3)","v":0},{"$f":"SUMIF(BDD!$BH$2:$BH$3,\"Banc P5FAUXVRAIVRAIFAUXFAUX\",BDD!$Z$2:$Z$3)","v":0},{"$f":"SUMIF(BDD!$BH$2:$BH$3,\"Banc P5FAUXVRAIFAUXVRAIFAUX\",BDD!$Z$2:$Z$3)","v":0},{"$f":"SUMIF(BDD!$BH$2:$BH$3,\"Banc P5FAUXVRAIFAUXFAUXVRAI\",BDD!$Z$2:$Z$3)","v":0},{"$f":"SUMIF(BDD!$BH$2:$BH$3,\"Banc P5VRAIFAUXVRAIFAUXFAUX\",BDD!$Z$2:$Z$3)","v":0},{"$f":"SUMIF(BDD!$BH$2:$BH$3,\"Banc P5VRAIFAUXFAUXVRAIFAUX\",BDD!$Z$2:$Z$3)","v":0},{"$f":"SUMIF(BDD!$BH$2:$BH$3,\"Banc P5VRAIFAUXFAUXFAUXVRAI\",BDD!$Z$2:$Z$3)","v":0},{"$f":"SUMIF(BDD!$BH$2:$BH$3,\"Banc P5FAUXVRAIVRAIFAUXFAUX\",BDD!$Z$2:$Z$3)","v":0},{"$f":"SUMIF(BDD!$BH$2:$BH$3,\"Banc P5FAUXVRAIFAUXVRAIFAUX\",BDD!$Z$2:$Z$3)","v":0},{"$f":"SUMIF(BDD!$BH$2:$BH$3,\"Banc P5FAUXVRAIFAUXFAUXVRAI\",BDD!$Z$2:$Z$3)","v":0},{"$f":"SUMIF(BDD!$BH$2:$BH$3,\"Banc P5VRAIFAUXVRAIFAUXFAUX\",BDD!$Z$2:$Z$3)","v":0},{"$f":"SUMIF(BDD!$BH$2:$BH$3,\"Banc P5VRAIFAUXFAUXVRAIFAUX\",BDD!$Z$2:$Z$3)","v":0},{"$f":"SUMIF(BDD!$BH$2:$BH$3,\"Banc P5VRAIFAUXFAUXFAUXVRAI\",BDD!$Z$2:$Z$3)","v":0},{"$f":"SUMIF(BDD!$BH$2:$BH$3,\"Banc P5FAUXVRAIVRAIFAUXFAUX\",BDD!$Z$2:$Z$3)","v":0},{"$f":"SUMIF(BDD!$BH$2:$BH$3,\"Banc P5FAUXVRAIFAUXVRAIFAUX\",BDD!$Z$2:$Z$3)","v":0},{"$f":"SUMIF(BDD!$BH$2:$BH$3,\"Banc P5FAUXVRAIFAUXFAUXVRAI\",BDD!$Z$2:$Z$3)","v":0},{"$f":"SUMIF(BDD!$BH$2:$BH$3,\"Banc P5VRAIFAUXVRAIFAUXFAUX\",BDD!$Z$2:$Z$3)","v":0},{"$f":"SUMIF(BDD!$BH$2:$BH$3,\"Banc P5VRAIFAUXFAUXVRAIFAUX\",BDD!$Z$2:$Z$3)","v":0},{"$f":"SUMIF(BDD!$BH$2:$BH$3,\"Banc P5VRAIFAUXFAUXFAUXVRAI\",BDD!$Z$2:$Z$3)","v":0},{"$f":"SUMIF(BDD!$BH$2:$BH$3,\"Banc P5FAUXVRAIVRAIFAUXFAUX\",BDD!$Z$2:$Z$3)","v":0},{"$f":"SUMIF(BDD!$BH$2:$BH$3,\"Banc P5FAUXVRAIFAUXVRAIFAUX\",BDD!$Z$2:$Z$3)","v":0},{"$f":"SUMIF(BDD!$BH$2:$BH$3,\"Banc P5FAUXVRAIFAUXFAUXVRAI\",BDD!$Z$2:$Z$3)","v":0},{"$f":"SUMIF(BDD!$BH$2:$BH$3,\"Banc P5VRAIFAUXVRAIFAUXFAUX\",BDD!$Z$2:$Z$3)","v":0},{"$f":"SUMIF(BDD!$BH$2:$BH$3,\"Banc P5VRAIFAUXFAUXVRAIFAUX\",BDD!$Z$2:$Z$3)","v":0},{"$f":"SUMIF(BDD!$BH$2:$BH$3,\"Banc P5VRAIFAUXFAUXFAUXVRAI\",BDD!$Z$2:$Z$3)","v":0},{"$f":"SUMIF(BDD!$BH$2:$BH$3,\"Banc P5FAUXVRAIVRAIFAUXFAUX\",BDD!$Z$2:$Z$3)","v":0},{"$f":"SUMIF(BDD!$BH$2:$BH$3,\"Banc P5FAUXVRAIFAUXVRAIFAUX\",BDD!$Z$2:$Z$3)","v":0},{"$f":"SUMIF(BDD!$BH$2:$BH$3,\"Banc P5FAUXVRAIFAUXFAUXVRAI\",BDD!$Z$2:$Z$3)","v":0},{"$f":"SUMIF(BDD!$BH$2:$BH$3,\"Banc P5VRAIFAUXVRAIFAUXFAUX\",BDD!$Z$2:$Z$3)","v":0},{"$f":"SUMIF(BDD!$BH$2:$BH$3,\"Banc P5VRAIFAUXFAUXVRAIFAUX\",BDD!$Z$2:$Z$3)","v":0},{"$f":"SUMIF(BDD!$BH$2:$BH$3,\"Banc P5VRAIFAUXFAUXFAUXVRAI\",BDD!$Z$2:$Z$3)","v":0},{"$f":"SUMIF(BDD!$BH$2:$BH$3,\"Banc P5FAUXVRAIVRAIFAUXFAUX\",BDD!$Z$2:$Z$3)","v":0},{"$f":"SUMIF(BDD!$BH$2:$BH$3,\"Banc P5FAUXVRAIFAUXVRAIFAUX\",BDD!$Z$2:$Z$3)","v":0},{"$f":"SUMIF(BDD!$BH$2:$BH$3,\"Banc P5FAUXVRAIFAUXFAUXVRAI\",BDD!$Z$2:$Z$3)","v":0},{"$f":"SUMIF(BDD!$BH$2:$BH$3,\"Banc P5VRAIFAUXVRAIFAUXFAUX\",BDD!$Z$2:$Z$3)","v":0},{"$f":"SUMIF(BDD!$BH$2:$BH$3,\"Banc P5VRAIFAUXFAUXVRAIFAUX\",BDD!$Z$2:$Z$3)","v":0},{"$f":"SUMIF(BDD!$BH$2:$BH$3,\"Banc P5VRAIFAUXFAUXFAUXVRAI\",BDD!$Z$2:$Z$3)","v":0},{"$f":"SUMIF(BDD!$BH$2:$BH$3,\"Banc P5FAUXVRAIVRAIFAUXFAUX\",BDD!$Z$2:$Z$3)","v":0},{"$f":"SUMIF(BDD!$BH$2:$BH$3,\"Banc P5FAUXVRAIFAUXVRAIFAUX\",BDD!$Z$2:$Z$3)","v":0},{"$f":"SUMIF(BDD!$BH$2:$BH$3,\"Banc P5FAUXVRAIFAUXFAUXVRAI\",BDD!$Z$2:$Z$3)","v":0},{"$f":"SUMIF(BDD!$BH$2:$BH$3,\"Banc P5VRAIFAUXVRAIFAUXFAUX\",BDD!$Z$2:$Z$3)","v":0},{"$f":"SUMIF(BDD!$BH$2:$BH$3,\"Banc P5VRAIFAUXFAUXVRAIFAUX\",BDD!$Z$2:$Z$3)","v":0},{"$f":"SUMIF(BDD!$BH$2:$BH$3,\"Banc P5VRAIFAUXFAUXFAUXVRAI\",BDD!$Z$2:$Z$3)","v":0},{"$f":"SUMIF(BDD!$BH$2:$BH$3,\"Banc P5FAUXVRAIVRAIFAUXFAUX\",BDD!$Z$2:$Z$3)","v":0},{"$f":"SUMIF(BDD!$BH$2:$BH$3,\"Banc P5FAUXVRAIFAUXVRAIFAUX\",BDD!$Z$2:$Z$3)","v":0},{"$f":"SUMIF(BDD!$BH$2:$BH$3,\"Banc P5FAUXVRAIFAUXFAUXVRAI\",BDD!$Z$2:$Z$3)","v":0},{"$f":"SUMIF(BDD!$BH$2:$BH$3,\"Banc P5VRAIFAUXVRAIFAUXFAUX\",BDD!$Z$2:$Z$3)","v":0},{"$f":"SUMIF(BDD!$BH$2:$BH$3,\"Banc P5VRAIFAUXFAUXVRAIFAUX\",BDD!$Z$2:$Z$3)","v":0},{"$f":"SUMIF(BDD!$BH$2:$BH$3,\"Banc P5VRAIFAUXFAUXFAUXVRAI\",BDD!$Z$2:$Z$3)","v":0},{"$f":"SUMIF(BDD!$BH$2:$BH$3,\"Banc P5FAUXVRAIVRAIFAUXFAUX\",BDD!$Z$2:$Z$3)","v":0},{"$f":"SUMIF(BDD!$BH$2:$BH$3,\"Banc P5FAUXVRAIFAUXVRAIFAUX\",BDD!$Z$2:$Z$3)","v":0},{"$f":"SUMIF(BDD!$BH$2:$BH$3,\"Banc P5FAUXVRAIFAUXFAUXVRAI\",BDD!$Z$2:$Z$3)","v":0}]
["Banc 111",{"$f":"SUMIF(BDD!$BH$2:$BH$3,\"Banc 111VRAIFAUXVRAIFAUXFAUX\",BDD!$Z$2:$Z$3)","v":0},{"$f":"SUMIF(BDD!$BH$2:$BH$3,\"Banc 111VRAIFAUXFAUXVRAIFAUX\",BDD!$Z$2:$Z$3)","v":0},{"$f":"SUMIF(BDD!$BH$2:$BH$3,\"Banc 111VRAIFAUXFAUXFAUXVRAI\",BDD!$Z$2:$Z$3)","v":0},{"$f":"SUMIF(BDD!$BH$2:$BH$3,\"Banc 111FAUXVRAIVRAIFAUXFAUX\",BDD!$Z$2:$Z$3)","v":0},{"$f":"SUMIF(BDD!$BH$2:$BH$3,\"Banc 111FAUXVRAIFAUXVRAIFAUX\",BDD!$Z$2:$Z$3)","v":0},{"$f":"SUMIF(BDD!$BH$2:$BH$3,\"Banc 111FAUXVRAIFAUXFAUXVRAI\",BDD!$Z$2:$Z$3)","v":0},{"$f":"SUMIF(BDD!$BH$2:$BH$3,\"Banc 111VRAIFAUXVRAIFAUXFAUX\",BDD!$Z$2:$Z$3)","v":0},{"$f":"SUMIF(BDD!$BH$2:$BH$3,\"Banc 111VRAIFAUXFAUXVRAIFAUX\",BDD!$Z$2:$Z$3)","v":0},{"$f":"SUMIF(BDD!$BH$2:$BH$3,\"Banc 111VRAIFAUXFAUXFAUXVRAI\",BDD!$Z$2:$Z$3)","v":0},{"$f":"SUMIF(BDD!$BH$2:$BH$3,\"Banc 111FAUXVRAIVRAIFAUXFAUX\",BDD!$Z$2:$Z$3)","v":0},{"$f":"SUMIF(BDD!$BH$2:$BH$3,\"Banc 111FAUXVRAIFAUXVRAIFAUX\",BDD!$Z$2:$Z$3)","v":0},{"$f":"SUMIF(BDD!$BH$2:$BH$3,\"Banc 111FAUXVRAIFAUXFAUXVRAI\",BDD!$Z$2:$Z$3)","v":0},{"$f":"SUMIF(BDD!$BH$2:$BH$683,\"Banc 111VRAIFAUXVRAIFAUXFAUX\",BDD!$Z$2:$Z$683)","v":0},{"$f":"SUMIF(BDD!$BH$2:$BH$683,\"Banc 111VRAIFAUXFAUXVRAIFAUX\",BDD!$Z$2:$Z$683)","v":0},{"$f":"SUMIF(BDD!$BH$2:$BH$683,\"Banc 111VRAIFAUXFAUXFAUXVRAI\",BDD!$Z$2:$Z$683)","v":0},{"$f":"SUMIF(BDD!$BH$2:$BH$683,\"Banc 111FAUXVRAIVRAIFAUXFAUX\",BDD!$Z$2:$Z$683)","v":0},{"$f":"SUMIF(BDD!$BH$2:$BH$683,\"Banc 111FAUXVRAIFAUXVRAIFAUX\",BDD!$Z$2:$Z$683)","v":0},{"$f":"SUMIF(BDD!$BH$2:$BH$683,\"Banc 111FAUXVRAIFAUXFAUXVRAI\",BDD!$Z$2:$Z$683)","v":0},{"$f":"SUMIF(BDD!$BH$2:$BH$3,\"Banc 111VRAIFAUXVRAIFAUXFAUX\",BDD!$Z$2:$Z$3)","v":0},{"$f":"SUMIF(BDD!$BH$2:$BH$3,\"Banc 111VRAIFAUXFAUXVRAIFAUX\",BDD!$Z$2:$Z$3)","v":0},{"$f":"SUMIF(BDD!$BH$2:$BH$3,\"Banc 111VRAIFAUXFAUXFAUXVRAI\",BDD!$Z$2:$Z$3)","v":0},{"$f":"SUMIF(BDD!$BH$2:$BH$3,\"Banc 111FAUXVRAIVRAIFAUXFAUX\",BDD!$Z$2:$Z$3)","v":0},{"$f":"SUMIF(BDD!$BH$2:$BH$3,\"Banc 111FAUXVRAIFAUXVRAIFAUX\",BDD!$Z$2:$Z$3)","v":0},{"$f":"SUMIF(BDD!$BH$2:$BH$3,\"Banc 111FAUXVRAIFAUXFAUXVRAI\",BDD!$Z$2:$Z$3)","v":0},{"$f":"SUMIF(BDD!$BH$2:$BH$3,\"Banc 111VRAIFAUXVRAIFAUXFAUX\",BDD!$Z$2:$Z$3)","v":0},{"$f":"SUMIF(BDD!$BH$2:$BH$3,\"Banc 111VRAIFAUXFAUXVRAIFAUX\",BDD!$Z$2:$Z$3)","v":0},{"$f":"SUMIF(BDD!$BH$2:$BH$3,\"Banc 111VRAIFAUXFAUXFAUXVRAI\",BDD!$Z$2:$Z$3)","v":0},{"$f":"SUMIF(BDD!$BH$2:$BH$3,\"Banc 111FAUXVRAIVRAIFAUXFAUX\",BDD!$Z$2:$Z$3)","v":0},{"$f":"SUMIF(BDD!$BH$2:$BH$3,\"Banc 111FAUXVRAIFAUXVRAIFAUX\",BDD!$Z$2:$Z$3)","v":0},{"$f":"SUMIF(BDD!$BH$2:$BH$3,\"Banc 111FAUXVRAIFAUXFAUXVRAI\",BDD!$Z$2:$Z$3)","v":0},{"$f":"SUMIF(BDD!$BH$2:$BH$3,\"Banc 111VRAIFAUXVRAIFAUXFAUX\",BDD!$Z$2:$Z$3)","v":0},{"$f":"SUMIF(BDD!$BH$2:$BH$3,\"Banc 111VRAIFAUXFAUXVRAIFAUX\",BDD!$Z$2:$Z$3)","v":0},{"$f":"SUMIF(BDD!$BH$2:$BH$3,\"Banc 111VRAIFAUXFAUXFAUXVRAI\",BDD!$Z$2:$Z$3)","v":0},{"$f":"SUMIF(BDD!$BH$2:$BH$3,\"Banc 111FAUXVRAIVRAIFAUXFAUX\",BDD!$Z$2:$Z$3)","v":0},{"$f":"SUMIF(BDD!$BH$2:$BH$3,\"Banc 111FAUXVRAIFAUXVRAIFAUX\",BDD!$Z$2:$Z$3)","v":0},{"$f":"SUMIF(BDD!$BH$2:$BH$3,\"Banc 111FAUXVRAIFAUXFAUXVRAI\",BDD!$Z$2:$Z$3)","v":0},{"$f":"SUMIF(BDD!$BH$2:$BH$3,\"Banc 111VRAIFAUXVRAIFAUXFAUX\",BDD!$Z$2:$Z$3)","v":0},{"$f":"SUMIF(BDD!$BH$2:$BH$3,\"Banc 111VRAIFAUXFAUXVRAIFAUX\",BDD!$Z$2:$Z$3)","v":0},{"$f":"SUMIF(BDD!$BH$2:$BH$3,\"Banc 111VRAIFAUXFAUXFAUXVRAI\",BDD!$Z$2:$Z$3)","v":0},{"$f":"SUMIF(BDD!$BH$2:$BH$3,\"Banc 111FAUXVRAIVRAIFAUXFAUX\",BDD!$Z$2:$Z$3)","v":0},{"$f":"SUMIF(BDD!$BH$2:$BH$3,\"Banc 111FAUXVRAIFAUXVRAIFAUX\",BDD!$Z$2:$Z$3)","v":0},{"$f":"SUMIF(BDD!$BH$2:$BH$3,\"Banc 111FAUXVRAIFAUXFAUXVRAI\",BDD!$Z$2:$Z$3)","v":0},{"$f":"SUMIF(BDD!$BH$2:$BH$3,\"Banc 111VRAIFAUXVRAIFAUXFAUX\",BDD!$Z$2:$Z$3)","v":0},{"$f":"SUMIF(BDD!$BH$2:$BH$3,\"Banc 111VRAIFAUXFAUXVRAIFAUX\",BDD!$Z$2:$Z$3)","v":0},{"$f":"SUMIF(BDD!$BH$2:$BH$3,\"Banc 111VRAIFAUXFAUXFAUXVRAI\",BDD!$Z$2:$Z$3)","v":0},{"$f":"SUMIF(BDD!$BH$2:$BH$3,\"Banc 111FAUXVRAIVRAIFAUXFAUX\",BDD!$Z$2:$Z$3)","v":0},{"$f":"SUMIF(BDD!$BH$2:$BH$3,\"Banc 111FAUXVRAIFAUXVRAIFAUX\",BDD!$Z$2:$Z$3)","v":0},{"$f":"SUMIF(BDD!$BH$2:$BH$3,\"Banc 111FAUXVRAIFAUXFAUXVRAI\",BDD!$Z$2:$Z$3)","v":0},{"$f":"SUMIF(BDD!$BH$2:$BH$3,\"Banc 111VRAIFAUXVRAIFAUXFAUX\",BDD!$Z$2:$Z$3)","v":0},{"$f":"SUMIF(BDD!$BH$2:$BH$3,\"Banc 111VRAIFAUXFAUXVRAIFAUX\",BDD!$Z$2:$Z$3)","v":0},{"$f":"SUMIF(BDD!$BH$2:$BH$3,\"Banc 111VRAIFAUXFAUXFAUXVRAI\",BDD!$Z$2:$Z$3)","v":0},{"$f":"SUMIF(BDD!$BH$2:$BH$3,\"Banc 111FAUXVRAIVRAIFAUXFAUX\",BDD!$Z$2:$Z$3)","v":0},{"$f":"SUMIF(BDD!$BH$2:$BH$3,\"Banc 111FAUXVRAIFAUXVRAIFAUX\",BDD!$Z$2:$Z$3)","v":0},{"$f":"SUMIF(BDD!$BH$2:$BH$3,\"Banc 111FAUXVRAIFAUXFAUXVRAI\",BDD!$Z$2:$Z$3)","v":0},{"$f":"SUMIF(BDD!$BH$2:$BH$3,\"Banc 111VRAIFAUXVRAIFAUXFAUX\",BDD!$Z$2:$Z$3)","v":0},{"$f":"SUMIF(BDD!$BH$2:$BH$3,\"Banc 111VRAIFAUXFAUXVRAIFAUX\",BDD!$Z$2:$Z$3)","v":0},{"$f":"SUMIF(BDD!$BH$2:$BH$3,\"Banc 111VRAIFAUXFAUXFAUXVRAI\",BDD!$Z$2:$Z$3)","v":0},{"$f":"SUMIF(BDD!$BH$2:$BH$3,\"Banc 111FAUXVRAIVRAIFAUXFAUX\",BDD!$Z$2:$Z$3)","v":0},{"$f":"SUMIF(BDD!$BH$2:$BH$3,\"Banc 111FAUXVRAIFAUXVRAIFAUX\",BDD!$Z$2:$Z$3)","v":0},{"$f":"SUMIF(BDD!$BH$2:$BH$3,\"Banc 111FAUXVRAIFAUXFAUXVRAI\",BDD!$Z$2:$Z$3)","v":0},{"$f":"SUMIF(BDD!$BH$2:$BH$3,\"Banc 111VRAIFAUXVRAIFAUXFAUX\",BDD!$Z$2:$Z$3)","v":0},{"$f":"SUMIF(BDD!$BH$2:$BH$3,\"Banc 111VRAIFAUXFAUXVRAIFAUX\",BDD!$Z$2:$Z$3)","v":0},{"$f":"SUMIF(BDD!$BH$2:$BH$3,\"Banc 111VRAIFAUXFAUXFAUXVRAI\",BDD!$Z$2:$Z$3)","v":0},{"$f":"SUMIF(BDD!$BH$2:$BH$3,\"Banc 111FAUXVRAIVRAIFAUXFAUX\",BDD!$Z$2:$Z$3)","v":0},{"$f":"SUMIF(BDD!$BH$2:$BH$3,\"Banc 111FAUXVRAIFAUXVRAIFAUX\",BDD!$Z$2:$Z$3)","v":0},{"$f":"SUMIF(BDD!$BH$2:$BH$3,\"Banc 111FAUXVRAIFAUXFAUXVRAI\",BDD!$Z$2:$Z$3)","v":0},{"$f":"SUMIF(BDD!$BH$2:$BH$3,\"Banc 111VRAIFAUXVRAIFAUXFAUX\",BDD!$Z$2:$Z$3)","v":0},{"$f":"SUMIF(BDD!$BH$2:$BH$3,\"Banc 111VRAIFAUXFAUXVRAIFAUX\",BDD!$Z$2:$Z$3)","v":0},{"$f":"SUMIF(BDD!$BH$2:$BH$3,\"Banc 111VRAIFAUXFAUXFAUXVRAI\",BDD!$Z$2:$Z$3)","v":0},{"$f":"SUMIF(BDD!$BH$2:$BH$3,\"Banc 111FAUXVRAIVRAIFAUXFAUX\",BDD!$Z$2:$Z$3)","v":0},{"$f":"SUMIF(BDD!$BH$2:$BH$3,\"Banc 111FAUXVRAIFAUXVRAIFAUX\",BDD!$Z$2:$Z$3)","v":0},{"$f":"SUMIF(BDD!$BH$2:$BH$3,\"Banc 111FAUXVRAIFAUXFAUXVRAI\",BDD!$Z$2:$Z$3)","v":0}]
["Banc 117",{"$f":"SUMIF(BDD!$BH$2:$BH$3,\"Banc 117VRAIFAUXVRAIFAUXFAUX\",BDD!$Z$2:$Z$3)","v":0},{"$f":"SUMIF(BDD!$BH$2:$BH$3,\"Banc 117VRAIFAUXFAUXVRAIFAUX\",BDD!$Z$2:$Z$3)","v":0},{"$f":"SUMIF(BDD!$BH$2:$BH$3,\"Banc 117VRAIFAUXFAUXFAUXVRAI\",BDD!$Z$2:$Z$3)","v":0},{"$f":"SUMIF(BDD!$BH$2:$BH$3,\"Banc 117FAUXVRAIVRAIFAUXFAUX\",BDD!$Z$2:$Z$3)","v":0},{"$f":"SUMIF(BDD!$BH$2:$BH$3,\"Banc 117FAUXVRAIFAUXVRAIFAUX\",BDD!$Z$2:$Z$3)","v":0},{"$f":"SUMIF(BDD!$BH$2:$BH$3,\"Banc 117FAUXVRAIFAUXFAUXVRAI\",BDD!$Z$2:$Z$3)","v":0},{"$f":"SUMIF(BDD!$BH$2:$BH$3,\"Banc 117VRAIFAUXVRAIFAUXFAUX\",BDD!$Z$2:$Z$3)","v":0},{"$f":"SUMIF(BDD!$BH$2:$BH$3,\"Banc 117VRAIFAUXFAUXVRAIFAUX\",BDD!$Z$2:$Z$3)","v":0},{"$f":"SUMIF(BDD!$BH$2:$BH$3,\"Banc 117VRAIFAUXFAUXFAUXVRAI\",BDD!$Z$2:$Z$3)","v":0},{"$f":"SUMIF(BDD!$BH$2:$BH$3,\"Banc 117FAUXVRAIVRAIFAUXFAUX\",BDD!$Z$2:$Z$3)","v":0},{"$f":"SUMIF(BDD!$BH$2:$BH$3,\"Banc 117FAUXVRAIFAUXVRAIFAUX\",BDD!$Z$2:$Z$3)","v":0},{"$f":"SUMIF(BDD!$BH$2:$BH$3,\"Banc 117FAUXVRAIFAUXFAUXVRAI\",BDD!$Z$2:$Z$3)","v":0},{"$f":"SUMIF(BDD!$BH$2:$BH$683,\"Banc 117VRAIFAUXVRAIFAUXFAUX\",BDD!$Z$2:$Z$683)","v":0},{"$f":"SUMIF(BDD!$BH$2:$BH$683,\"Banc 117VRAIFAUXFAUXVRAIFAUX\",BDD!$Z$2:$Z$683)","v":0},{"$f":"SUMIF(BDD!$BH$2:$BH$683,\"Banc 117VRAIFAUXFAUXFAUXVRAI\",BDD!$Z$2:$Z$683)","v":0},{"$f":"SUMIF(BDD!$BH$2:$BH$683,\"Banc 117FAUXVRAIVRAIFAUXFAUX\",BDD!$Z$2:$Z$683)","v":0},{"$f":"SUMIF(BDD!$BH$2:$BH$683,\"Banc 117FAUXVRAIFAUXVRAIFAUX\",BDD!$Z$2:$Z$683)","v":0},{"$f":"SUMIF(BDD!$BH$2:$BH$683,\"Banc 117FAUXVRAIFAUXFAUXVRAI\",BDD!$Z$2:$Z$683)","v":0},{"$f":"SUMIF(BDD!$BH$2:$BH$3,\"Banc 117VRAIFAUXVRAIFAUXFAUX\",BDD!$Z$2:$Z$3)","v":0},{"$f":"SUMIF(BDD!$BH$2:$BH$3,\"Banc 117VRAIFAUXFAUXVRAIFAUX\",BDD!$Z$2:$Z$3)","v":0},{"$f":"SUMIF(BDD!$BH$2:$BH$3,\"Banc 117VRAIFAUXFAUXFAUXVRAI\",BDD!$Z$2:$Z$3)","v":0},{"$f":"SUMIF(BDD!$BH$2:$BH$3,\"Banc 117FAUXVRAIVRAIFAUXFAUX\",BDD!$Z$2:$Z$3)","v":0},{"$f":"SUMIF(BDD!$BH$2:$BH$3,\"Banc 117FAUXVRAIFAUXVRAIFAUX\",BDD!$Z$2:$Z$3)","v":0},{"$f":"SUMIF(BDD!$BH$2:$BH$3,\"Banc 117FAUXVRAIFAUXFAUXVRAI\",BDD!$Z$2:$Z$3)","v":0},{"$f":"SUMIF(BDD!$BH$2:$BH$3,\"Banc 117VRAIFAUXVRAIFAUXFAUX\",BDD!$Z$2:$Z$3)","v":0},{"$f":"SUMIF(BDD!$BH$2:$BH$3,\"Banc 117VRAIFAUXFAUXVRAIFAUX\",BDD!$Z$2:$Z$3)","v":0},{"$f":"SUMIF(BDD!$BH$2:$BH$3,\"Banc 117VRAIFAUXFAUXFAUXVRAI\",BDD!$Z$2:$Z$3)","v":0},{"$f":"SUMIF(BDD!$BH$2:$BH$3,\"Banc 117FAUXVRAIVRAIFAUXFAUX\",BDD!$Z$2:$Z$3)","v":0},{"$f":"SUMIF(BDD!$BH$2:$BH$3,\"Banc 117FAUXVRAIFAUXVRAIFAUX\",BDD!$Z$2:$Z$3)","v":0},{"$f":"SUMIF(BDD!$BH$2:$BH$3,\"Banc 117FAUXVRAIFAUXFAUXVRAI\",BDD!$Z$2:$Z$3)","v":0},{"$f":"SUMIF(BDD!$BH$2:$BH$3,\"Banc 117VRAIFAUXVRAIFAUXFAUX\",BDD!$Z$2:$Z$3)","v":0},{"$f":"SUMIF(BDD!$BH$2:$BH$3,\"Banc 117VRAIFAUXFAUXVRAIFAUX\",BDD!$Z$2:$Z$3)","v":0},{"$f":"SUMIF(BDD!$BH$2:$BH$3,\"Banc 117VRAIFAUXFAUXFAUXVRAI\",BDD!$Z$2:$Z$3)","v":0},{"$f":"SUMIF(BDD!$BH$2:$BH$3,\"Banc 117FAUXVRAIVRAIFAUXFAUX\",BDD!$Z$2:$Z$3)","v":0},{"$f":"SUMIF(BDD!$BH$2:$BH$3,\"Banc 117FAUXVRAIFAUXVRAIFAUX\",BDD!$Z$2:$Z$3)","v":0},{"$f":"SUMIF(BDD!$BH$2:$BH$3,\"Banc 117FAUXVRAIFAUXFAUXVRAI\",BDD!$Z$2:$Z$3)","v":0},{"$f":"SUMIF(BDD!$BH$2:$BH$3,\"Banc 117VRAIFAUXVRAIFAUXFAUX\",BDD!$Z$2:$Z$3)","v":0},{"$f":"SUMIF(BDD!$BH$2:$BH$3,\"Banc 117VRAIFAUXFAUXVRAIFAUX\",BDD!$Z$2:$Z$3)","v":0},{"$f":"SUMIF(BDD!$BH$2:$BH$3,\"Banc 117VRAIFAUXFAUXFAUXVRAI\",BDD!$Z$2:$Z$3)","v":0},{"$f":"SUMIF(BDD!$BH$2:$BH$3,\"Banc 117FAUXVRAIVRAIFAUXFAUX\",BDD!$Z$2:$Z$3)","v":0},{"$f":"SUMIF(BDD!$BH$2:$BH$3,\"Banc 117FAUXVRAIFAUXVRAIFAUX\",BDD!$Z$2:$Z$3)","v":0},{"$f":"SUMIF(BDD!$BH$2:$BH$3,\"Banc 117FAUXVRAIFAUXFAUXVRAI\",BDD!$Z$2:$Z$3)","v":0},{"$f":"SUMIF(BDD!$BH$2:$BH$3,\"Banc 117VRAIFAUXVRAIFAUXFAUX\",BDD!$Z$2:$Z$3)","v":0},{"$f":"SUMIF(BDD!$BH$2:$BH$3,\"Banc 117VRAIFAUXFAUXVRAIFAUX\",BDD!$Z$2:$Z$3)","v":0},{"$f":"SUMIF(BDD!$BH$2:$BH$3,\"Banc 117VRAIFAUXFAUXFAUXVRAI\",BDD!$Z$2:$Z$3)","v":0},{"$f":"SUMIF(BDD!$BH$2:$BH$3,\"Banc 117FAUXVRAIVRAIFAUXFAUX\",BDD!$Z$2:$Z$3)","v":0},{"$f":"SUMIF(BDD!$BH$2:$BH$3,\"Banc 117FAUXVRAIFAUXVRAIFAUX\",BDD!$Z$2:$Z$3)","v":0},{"$f":"SUMIF(BDD!$BH$2:$BH$3,\"Banc 117FAUXVRAIFAUXFAUXVRAI\",BDD!$Z$2:$Z$3)","v":0},{"$f":"SUMIF(BDD!$BH$2:$BH$3,\"Banc 117VRAIFAUXVRAIFAUXFAUX\",BDD!$Z$2:$Z$3)","v":0},{"$f":"SUMIF(BDD!$BH$2:$BH$3,\"Banc 117VRAIFAUXFAUXVRAIFAUX\",BDD!$Z$2:$Z$3)","v":0},{"$f":"SUMIF(BDD!$BH$2:$BH$3,\"Banc 117VRAIFAUXFAUXFAUXVRAI\",BDD!$Z$2:$Z$3)","v":0},{"$f":"SUMIF(BDD!$BH$2:$BH$3,\"Banc 117FAUXVRAIVRAIFAUXFAUX\",BDD!$Z$2:$Z$3)","v":0},{"$f":"SUMIF(BDD!$BH$2:$BH$3,\"Banc 117FAUXVRAIFAUXVRAIFAUX\",BDD!$Z$2:$Z$3)","v":0},{"$f":"SUMIF(BDD!$BH$2:$BH$3,\"Banc 117FAUXVRAIFAUXFAUXVRAI\",BDD!$Z$2:$Z$3)","v":0},{"$f":"SUMIF(BDD!$BH$2:$BH$3,\"Banc 117VRAIFAUXVRAIFAUXFAUX\",BDD!$Z$2:$Z$3)","v":0},{"$f":"SUMIF(BDD!$BH$2:$BH$3,\"Banc 117VRAIFAUXFAUXVRAIFAUX\",BDD!$Z$2:$Z$3)","v":0},{"$f":"SUMIF(BDD!$BH$2:$BH$3,\"Banc 117VRAIFAUXFAUXFAUXVRAI\",BDD!$Z$2:$Z$3)","v":0},{"$f":"SUMIF(BDD!$BH$2:$BH$3,\"Banc 117FAUXVRAIVRAIFAUXFAUX\",BDD!$Z$2:$Z$3)","v":0},{"$f":"SUMIF(BDD!$BH$2:$BH$3,\"Banc 117FAUXVRAIFAUXVRAIFAUX\",BDD!$Z$2:$Z$3)","v":0},{"$f":"SUMIF(BDD!$BH$2:$BH$3,\"Banc 117FAUXVRAIFAUXFAUXVRAI\",BDD!$Z$2:$Z$3)","v":0},{"$f":"SUMIF(BDD!$BH$2:$BH$3,\"Banc 117VRAIFAUXVRAIFAUXFAUX\",BDD!$Z$2:$Z$3)","v":0},{"$f":"SUMIF(BDD!$BH$2:$BH$3,\"Banc 117VRAIFAUXFAUXVRAIFAUX\",BDD!$Z$2:$Z$3)","v":0},{"$f":"SUMIF(BDD!$BH$2:$BH$3,\"Banc 117VRAIFAUXFAUXFAUXVRAI\",BDD!$Z$2:$Z$3)","v":0},{"$f":"SUMIF(BDD!$BH$2:$BH$3,\"Banc 117FAUXVRAIVRAIFAUXFAUX\",BDD!$Z$2:$Z$3)","v":0},{"$f":"SUMIF(BDD!$BH$2:$BH$3,\"Banc 117FAUXVRAIFAUXVRAIFAUX\",BDD!$Z$2:$Z$3)","v":0},{"$f":"SUMIF(BDD!$BH$2:$BH$3,\"Banc 117FAUXVRAIFAUXFAUXVRAI\",BDD!$Z$2:$Z$3)","v":0},{"$f":"SUMIF(BDD!$BH$2:$BH$3,\"Banc 117VRAIFAUXVRAIFAUXFAUX\",BDD!$Z$2:$Z$3)","v":0},{"$f":"SUMIF(BDD!$BH$2:$BH$3,\"Banc 117VRAIFAUXFAUXVRAIFAUX\",BDD!$Z$2:$Z$3)","v":0},{"$f":"SUMIF(BDD!$BH$2:$BH$3,\"Banc 117VRAIFAUXFAUXFAUXVRAI\",BDD!$Z$2:$Z$3)","v":0},{"$f":"SUMIF(BDD!$BH$2:$BH$3,\"Banc 117FAUXVRAIVRAIFAUXFAUX\",BDD!$Z$2:$Z$3)","v":0},{"$f":"SUMIF(BDD!$BH$2:$BH$3,\"Banc 117FAUXVRAIFAUXVRAIFAUX\",BDD!$Z$2:$Z$3)","v":0},{"$f":"SUMIF(BDD!$BH$2:$BH$3,\"Banc 117FAUXVRAIFAUXFAUXVRAI\",BDD!$Z$2:$Z$3)","v":0}]
["Banc 117 bis",{"$f":"SUMIF(BDD!$BH$2:$BH$3,\"Banc 117 bisVRAIFAUXVRAIFAUXFAUX\",BDD!$Z$2:$Z$3)","v":0},{"$f":"SUMIF(BDD!$BH$2:$BH$3,\"Banc 117 bisVRAIFAUXFAUXVRAIFAUX\",BDD!$Z$2:$Z$3)","v":0},{"$f":"SUMIF(BDD!$BH$2:$BH$3,\"Banc 117 bisVRAIFAUXFAUXFAUXVRAI\",BDD!$Z$2:$Z$3)","v":0},{"$f":"SUMIF(BDD!$BH$2:$BH$3,\"Banc 117 bisFAUXVRAIVRAIFAUXFAUX\",BDD!$Z$2:$Z$3)","v":0},{"$f":"SUMIF(BDD!$BH$2:$BH$3,\"Banc 117 bisFAUXVRAIFAUXVRAIFAUX\",BDD!$Z$2:$Z$3)","v":0},{"$f":"SUMIF(BDD!$BH$2:$BH$3,\"Banc 117 bisFAUXVRAIFAUXFAUXVRAI\",BDD!$Z$2:$Z$3)","v":0},{"$f":"SUMIF(BDD!$BH$2:$BH$3,\"Banc 117 bisVRAIFAUXVRAIFAUXFAUX\",BDD!$Z$2:$Z$3)","v":0},{"$f":"SUMIF(BDD!$BH$2:$BH$3,\"Banc 117 bisVRAIFAUXFAUXVRAIFAUX\",BDD!$Z$2:$Z$3)","v":0},{"$f":"SUMIF(BDD!$BH$2:$BH$3,\"Banc 117 bisVRAIFAUXFAUXFAUXVRAI\",BDD!$Z$2:$Z$3)","v":0},{"$f":"SUMIF(BDD!$BH$2:$BH$3,\"Banc 117 bisFAUXVRAIVRAIFAUXFAUX\",BDD!$Z$2:$Z$3)","v":0},{"$f":"SUMIF(BDD!$BH$2:$BH$3,\"Banc 117 bisFAUXVRAIFAUXVRAIFAUX\",BDD!$Z$2:$Z$3)","v":0},{"$f":"SUMIF(BDD!$BH$2:$BH$3,\"Banc 117 bisFAUXVRAIFAUXFAUXVRAI\",BDD!$Z$2:$Z$3)","v":0},{"$f":"SUMIF(BDD!$BH$2:$BH$683,\"Banc 117 bisVRAIFAUXVRAIFAUXFAUX\",BDD!$Z$2:$Z$683)","v":0},{"$f":"SUMIF(BDD!$BH$2:$BH$683,\"Banc 117 bisVRAIFAUXFAUXVRAIFAUX\",BDD!$Z$2:$Z$683)","v":0},{"$f":"SUMIF(BDD!$BH$2:$BH$683,\"Banc 117 bisVRAIFAUXFAUXFAUXVRAI\",BDD!$Z$2:$Z$683)","v":0},{"$f":"SUMIF(BDD!$BH$2:$BH$683,\"Banc 117 bisFAUXVRAIVRAIFAUXFAUX\",BDD!$Z$2:$Z$683)","v":0},{"$f":"SUMIF(BDD!$BH$2:$BH$683,\"Banc 117 bisFAUXVRAIFAUXVRAIFAUX\",BDD!$Z$2:$Z$683)","v":0},{"$f":"SUMIF(BDD!$BH$2:$BH$683,\"Banc 117 bisFAUXVRAIFAUXFAUXVRAI\",BDD!$Z$2:$Z$683)","v":0},{"$f":"SUMIF(BDD!$BH$2:$BH$3,\"Banc 117 bisVRAIFAUXVRAIFAUXFAUX\",BDD!$Z$2:$Z$3)","v":0},{"$f":"SUMIF(BDD!$BH$2:$BH$3,\"Banc 117 bisVRAIFAUXFAUXVRAIFAUX\",BDD!$Z$2:$Z$3)","v":0},{"$f":"SUMIF(BDD!$BH$2:$BH$3,\"Banc 117 bisVRAIFAUXFAUXFAUXVRAI\",BDD!$Z$2:$Z$3)","v":0},{"$f":"SUMIF(BDD!$BH$2:$BH$3,\"Banc 117 bisFAUXVRAIVRAIFAUXFAUX\",BDD!$Z$2:$Z$3)","v":0},{"$f":"SUMIF(BDD!$BH$2:$BH$3,\"Banc 117 bisFAUXVRAIFAUXVRAIFAUX\",BDD!$Z$2:$Z$3)","v":0},{"$f":"SUMIF(BDD!$BH$2:$BH$3,\"Banc 117 bisFAUXVRAIFAUXFAUXVRAI\",BDD!$Z$2:$Z$3)","v":0},{"$f":"SUMIF(BDD!$BH$2:$BH$3,\"Banc 117 bisVRAIFAUXVRAIFAUXFAUX\",BDD!$Z$2:$Z$3)","v":0},{"$f":"SUMIF(BDD!$BH$2:$BH$3,\"Banc 117 bisVRAIFAUXFAUXVRAIFAUX\",BDD!$Z$2:$Z$3)","v":0},{"$f":"SUMIF(BDD!$BH$2:$BH$3,\"Banc 117 bisVRAIFAUXFAUXFAUXVRAI\",BDD!$Z$2:$Z$3)","v":0},{"$f":"SUMIF(BDD!$BH$2:$BH$3,\"Banc 117 bisFAUXVRAIVRAIFAUXFAUX\",BDD!$Z$2:$Z$3)","v":0},{"$f":"SUMIF(BDD!$BH$2:$BH$3,\"Banc 117 bisFAUXVRAIFAUXVRAIFAUX\",BDD!$Z$2:$Z$3)","v":0},{"$f":"SUMIF(BDD!$BH$2:$BH$3,\"Banc 117 bisFAUXVRAIFAUXFAUXVRAI\",BDD!$Z$2:$Z$3)","v":0},{"$f":"SUMIF(BDD!$BH$2:$BH$3,\"Banc 117 bisVRAIFAUXVRAIFAUXFAUX\",BDD!$Z$2:$Z$3)","v":0},{"$f":"SUMIF(BDD!$BH$2:$BH$3,\"Banc 117 bisVRAIFAUXFAUXVRAIFAUX\",BDD!$Z$2:$Z$3)","v":0},{"$f":"SUMIF(BDD!$BH$2:$BH$3,\"Banc 117 bisVRAIFAUXFAUXFAUXVRAI\",BDD!$Z$2:$Z$3)","v":0},{"$f":"SUMIF(BDD!$BH$2:$BH$3,\"Banc 117 bisFAUXVRAIVRAIFAUXFAUX\",BDD!$Z$2:$Z$3)","v":0},{"$f":"SUMIF(BDD!$BH$2:$BH$3,\"Banc 117 bisFAUXVRAIFAUXVRAIFAUX\",BDD!$Z$2:$Z$3)","v":0},{"$f":"SUMIF(BDD!$BH$2:$BH$3,\"Banc 117 bisFAUXVRAIFAUXFAUXVRAI\",BDD!$Z$2:$Z$3)","v":0},{"$f":"SUMIF(BDD!$BH$2:$BH$3,\"Banc 117 bisVRAIFAUXVRAIFAUXFAUX\",BDD!$Z$2:$Z$3)","v":0},{"$f":"SUMIF(BDD!$BH$2:$BH$3,\"Banc 117 bisVRAIFAUXFAUXVRAIFAUX\",BDD!$Z$2:$Z$3)","v":0},{"$f":"SUMIF(BDD!$BH$2:$BH$3,\"Banc 117 bisVRAIFAUXFAUXFAUXVRAI\",BDD!$Z$2:$Z$3)","v":0},{"$f":"SUMIF(BDD!$BH$2:$BH$3,\"Banc 117 bisFAUXVRAIVRAIFAUXFAUX\",BDD!$Z$2:$Z$3)","v":0},{"$f":"SUMIF(BDD!$BH$2:$BH$3,\"Banc 117 bisFAUXVRAIFAUXVRAIFAUX\",BDD!$Z$2:$Z$3)","v":0},{"$f":"SUMIF(BDD!$BH$2:$BH$3,\"Banc 117 bisFAUXVRAIFAUXFAUXVRAI\",BDD!$Z$2:$Z$3)","v":0},{"$f":"SUMIF(BDD!$BH$2:$BH$3,\"Banc 117 bisVRAIFAUXVRAIFAUXFAUX\",BDD!$Z$2:$Z$3)","v":0},{"$f":"SUMIF(BDD!$BH$2:$BH$3,\"Banc 117 bisVRAIFAUXFAUXVRAIFAUX\",BDD!$Z$2:$Z$3)","v":0},{"$f":"SUMIF(BDD!$BH$2:$BH$3,\"Banc 117 bisVRAIFAUXFAUXFAUXVRAI\",BDD!$Z$2:$Z$3)","v":0},{"$f":"SUMIF(BDD!$BH$2:$BH$3,\"Banc 117 bisFAUXVRAIVRAIFAUXFAUX\",BDD!$Z$2:$Z$3)","v":0},{"$f":"SUMIF(BDD!$BH$2:$BH$3,\"Banc 117 bisFAUXVRAIFAUXVRAIFAUX\",BDD!$Z$2:$Z$3)","v":0},{"$f":"SUMIF(BDD!$BH$2:$BH$3,\"Banc 117 bisFAUXVRAIFAUXFAUXVRAI\",BDD!$Z$2:$Z$3)","v":0},{"$f":"SUMIF(BDD!$BH$2:$BH$3,\"Banc 117 bisVRAIFAUXVRAIFAUXFAUX\",BDD!$Z$2:$Z$3)","v":0},{"$f":"SUMIF(BDD!$BH$2:$BH$3,\"Banc 117 bisVRAIFAUXFAUXVRAIFAUX\",BDD!$Z$2:$Z$3)","v":0},{"$f":"SUMIF(BDD!$BH$2:$BH$3,\"Banc 117 bisVRAIFAUXFAUXFAUXVRAI\",BDD!$Z$2:$Z$3)","v":0},{"$f":"SUMIF(BDD!$BH$2:$BH$3,\"Banc 117 bisFAUXVRAIVRAIFAUXFAUX\",BDD!$Z$2:$Z$3)","v":0},{"$f":"SUMIF(BDD!$BH$2:$BH$3,\"Banc 117 bisFAUXVRAIFAUXVRAIFAUX\",BDD!$Z$2:$Z$3)","v":0},{"$f":"SUMIF(BDD!$BH$2:$BH$3,\"Banc 117 bisFAUXVRAIFAUXFAUXVRAI\",BDD!$Z$2:$Z$3)","v":0},{"$f":"SUMIF(BDD!$BH$2:$BH$3,\"Banc 117 bisVRAIFAUXVRAIFAUXFAUX\",BDD!$Z$2:$Z$3)","v":0},{"$f":"SUMIF(BDD!$BH$2:$BH$3,\"Banc 117 bisVRAIFAUXFAUXVRAIFAUX\",BDD!$Z$2:$Z$3)","v":0},{"$f":"SUMIF(BDD!$BH$2:$BH$3,\"Banc 117 bisVRAIFAUXFAUXFAUXVRAI\",BDD!$Z$2:$Z$3)","v":0},{"$f":"SUMIF(BDD!$BH$2:$BH$3,\"Banc 117 bisFAUXVRAIVRAIFAUXFAUX\",BDD!$Z$2:$Z$3)","v":0},{"$f":"SUMIF(BDD!$BH$2:$BH$3,\"Banc 117 bisFAUXVRAIFAUXVRAIFAUX\",BDD!$Z$2:$Z$3)","v":0},{"$f":"SUMIF(BDD!$BH$2:$BH$3,\"Banc 117 bisFAUXVRAIFAUXFAUXVRAI\",BDD!$Z$2:$Z$3)","v":0},{"$f":"SUMIF(BDD!$BH$2:$BH$3,\"Banc 117 bisVRAIFAUXVRAIFAUXFAUX\",BDD!$Z$2:$Z$3)","v":0},{"$f":"SUMIF(BDD!$BH$2:$BH$3,\"Banc 117 bisVRAIFAUXFAUXVRAIFAUX\",BDD!$Z$2:$Z$3)","v":0},{"$f":"SUMIF(BDD!$BH$2:$BH$3,\"Banc 117 bisVRAIFAUXFAUXFAUXVRAI\",BDD!$Z$2:$Z$3)","v":0},{"$f":"SUMIF(BDD!$BH$2:$BH$3,\"Banc 117 bisFAUXVRAIVRAIFAUXFAUX\",BDD!$Z$2:$Z$3)","v":0},{"$f":"SUMIF(BDD!$BH$2:$BH$3,\"Banc 117 bisFAUXVRAIFAUXVRAIFAUX\",BDD!$Z$2:$Z$3)","v":0},{"$f":"SUMIF(BDD!$BH$2:$BH$3,\"Banc 117 bisFAUXVRAIFAUXFAUXVRAI\",BDD!$Z$2:$Z$3)","v":0},{"$f":"SUMIF(BDD!$BH$2:$BH$3,\"Banc 117 bisVRAIFAUXVRAIFAUXFAUX\",BDD!$Z$2:$Z$3)","v":0},{"$f":"SUMIF(BDD!$BH$2:$BH$3,\"Banc 117 bisVRAIFAUXFAUXVRAIFAUX\",BDD!$Z$2:$Z$3)","v":0},{"$f":"SUMIF(BDD!$BH$2:$BH$3,\"Banc 117 bisVRAIFAUXFAUXFAUXVRAI\",BDD!$Z$2:$Z$3)","v":0},{"$f":"SUMIF(BDD!$BH$2:$BH$3,\"Banc 117 bisFAUXVRAIVRAIFAUXFAUX\",BDD!$Z$2:$Z$3)","v":0},{"$f":"SUMIF(BDD!$BH$2:$BH$3,\"Banc 117 bisFAUXVRAIFAUXVRAIFAUX\",BDD!$Z$2:$Z$3)","v":0},{"$f":"SUMIF(BDD!$BH$2:$BH$3,\"Banc 117 bisFAUXVRAIFAUXFAUXVRAI\",BDD!$Z$2:$Z$3)","v":0}]
["Banc 119",{"$f":"SUMIF(BDD!$BH$2:$BH$3,\"Banc 119VRAIFAUXVRAIFAUXFAUX\",BDD!$Z$2:$Z$3)","v":0},{"$f":"SUMIF(BDD!$BH$2:$BH$3,\"Banc 119VRAIFAUXFAUXVRAIFAUX\",BDD!$Z$2:$Z$3)","v":0},{"$f":"SUMIF(BDD!$BH$2:$BH$3,\"Banc 119VRAIFAUXFAUXFAUXVRAI\",BDD!$Z$2:$Z$3)","v":0},{"$f":"SUMIF(BDD!$BH$2:$BH$3,\"Banc 119FAUXVRAIVRAIFAUXFAUX\",BDD!$Z$2:$Z$3)","v":0},{"$f":"SUMIF(BDD!$BH$2:$BH$3,\"Banc 119FAUXVRAIFAUXVRAIFAUX\",BDD!$Z$2:$Z$3)","v":0},{"$f":"SUMIF(BDD!$BH$2:$BH$3,\"Banc 119FAUXVRAIFAUXFAUXVRAI\",BDD!$Z$2:$Z$3)","v":0},{"$f":"SUMIF(BDD!$BH$2:$BH$3,\"Banc 119VRAIFAUXVRAIFAUXFAUX\",BDD!$Z$2:$Z$3)","v":0},{"$f":"SUMIF(BDD!$BH$2:$BH$3,\"Banc 119VRAIFAUXFAUXVRAIFAUX\",BDD!$Z$2:$Z$3)","v":0},{"$f":"SUMIF(BDD!$BH$2:$BH$3,\"Banc 119VRAIFAUXFAUXFAUXVRAI\",BDD!$Z$2:$Z$3)","v":0},{"$f":"SUMIF(BDD!$BH$2:$BH$3,\"Banc 119FAUXVRAIVRAIFAUXFAUX\",BDD!$Z$2:$Z$3)","v":0},{"$f":"SUMIF(BDD!$BH$2:$BH$3,\"Banc 119FAUXVRAIFAUXVRAIFAUX\",BDD!$Z$2:$Z$3)","v":0},{"$f":"SUMIF(BDD!$BH$2:$BH$3,\"Banc 119FAUXVRAIFAUXFAUXVRAI\",BDD!$Z$2:$Z$3)","v":0},{"$f":"SUMIF(BDD!$BH$2:$BH$683,\"Banc 119VRAIFAUXVRAIFAUXFAUX\",BDD!$Z$2:$Z$683)","v":0},{"$f":"SUMIF(BDD!$BH$2:$BH$683,\"Banc 119VRAIFAUXFAUXVRAIFAUX\",BDD!$Z$2:$Z$683)","v":0},{"$f":"SUMIF(BDD!$BH$2:$BH$683,\"Banc 119VRAIFAUXFAUXFAUXVRAI\",BDD!$Z$2:$Z$683)","v":0},{"$f":"SUMIF(BDD!$BH$2:$BH$683,\"Banc 119FAUXVRAIVRAIFAUXFAUX\",BDD!$Z$2:$Z$683)","v":0},{"$f":"SUMIF(BDD!$BH$2:$BH$683,\"Banc 119FAUXVRAIFAUXVRAIFAUX\",BDD!$Z$2:$Z$683)","v":0},{"$f":"SUMIF(BDD!$BH$2:$BH$683,\"Banc 119FAUXVRAIFAUXFAUXVRAI\",BDD!$Z$2:$Z$683)","v":0},{"$f":"SUMIF(BDD!$BH$2:$BH$3,\"Banc 119VRAIFAUXVRAIFAUXFAUX\",BDD!$Z$2:$Z$3)","v":0},{"$f":"SUMIF(BDD!$BH$2:$BH$3,\"Banc 119VRAIFAUXFAUXVRAIFAUX\",BDD!$Z$2:$Z$3)","v":0},{"$f":"SUMIF(BDD!$BH$2:$BH$3,\"Banc 119VRAIFAUXFAUXFAUXVRAI\",BDD!$Z$2:$Z$3)","v":0},{"$f":"SUMIF(BDD!$BH$2:$BH$3,\"Banc 119FAUXVRAIVRAIFAUXFAUX\",BDD!$Z$2:$Z$3)","v":0},{"$f":"SUMIF(BDD!$BH$2:$BH$3,\"Banc 119FAUXVRAIFAUXVRAIFAUX\",BDD!$Z$2:$Z$3)","v":0},{"$f":"SUMIF(BDD!$BH$2:$BH$3,\"Banc 119FAUXVRAIFAUXFAUXVRAI\",BDD!$Z$2:$Z$3)","v":0},{"$f":"SUMIF(BDD!$BH$2:$BH$3,\"Banc 119VRAIFAUXVRAIFAUXFAUX\",BDD!$Z$2:$Z$3)","v":0},{"$f":"SUMIF(BDD!$BH$2:$BH$3,\"Banc 119VRAIFAUXFAUXVRAIFAUX\",BDD!$Z$2:$Z$3)","v":0},{"$f":"SUMIF(BDD!$BH$2:$BH$3,\"Banc 119VRAIFAUXFAUXFAUXVRAI\",BDD!$Z$2:$Z$3)","v":0},{"$f":"SUMIF(BDD!$BH$2:$BH$3,\"Banc 119FAUXVRAIVRAIFAUXFAUX\",BDD!$Z$2:$Z$3)","v":0},{"$f":"SUMIF(BDD!$BH$2:$BH$3,\"Banc 119FAUXVRAIFAUXVRAIFAUX\",BDD!$Z$2:$Z$3)","v":0},{"$f":"SUMIF(BDD!$BH$2:$BH$3,\"Banc 119FAUXVRAIFAUXFAUXVRAI\",BDD!$Z$2:$Z$3)","v":0},{"$f":"SUMIF(BDD!$BH$2:$BH$3,\"Banc 119VRAIFAUXVRAIFAUXFAUX\",BDD!$Z$2:$Z$3)","v":0},{"$f":"SUMIF(BDD!$BH$2:$BH$3,\"Banc 119VRAIFAUXFAUXVRAIFAUX\",BDD!$Z$2:$Z$3)","v":0},{"$f":"SUMIF(BDD!$BH$2:$BH$3,\"Banc 119VRAIFAUXFAUXFAUXVRAI\",BDD!$Z$2:$Z$3)","v":0},{"$f":"SUMIF(BDD!$BH$2:$BH$3,\"Banc 119FAUXVRAIVRAIFAUXFAUX\",BDD!$Z$2:$Z$3)","v":0},{"$f":"SUMIF(BDD!$BH$2:$BH$3,\"Banc 119FAUXVRAIFAUXVRAIFAUX\",BDD!$Z$2:$Z$3)","v":0},{"$f":"SUMIF(BDD!$BH$2:$BH$3,\"Banc 119FAUXVRAIFAUXFAUXVRAI\",BDD!$Z$2:$Z$3)","v":0},{"$f":"SUMIF(BDD!$BH$2:$BH$3,\"Banc 119VRAIFAUXVRAIFAUXFAUX\",BDD!$Z$2:$Z$3)","v":0},{"$f":"SUMIF(BDD!$BH$2:$BH$3,\"Banc 119VRAIFAUXFAUXVRAIFAUX\",BDD!$Z$2:$Z$3)","v":0},{"$f":"SUMIF(BDD!$BH$2:$BH$3,\"Banc 119VRAIFAUXFAUXFAUXVRAI\",BDD!$Z$2:$Z$3)","v":0},{"$f":"SUMIF(BDD!$BH$2:$BH$3,\"Banc 119FAUXVRAIVRAIFAUXFAUX\",BDD!$Z$2:$Z$3)","v":0},{"$f":"SUMIF(BDD!$BH$2:$BH$3,\"Banc 119FAUXVRAIFAUXVRAIFAUX\",BDD!$Z$2:$Z$3)","v":0},{"$f":"SUMIF(BDD!$BH$2:$BH$3,\"Banc 119FAUXVRAIFAUXFAUXVRAI\",BDD!$Z$2:$Z$3)","v":0},{"$f":"SUMIF(BDD!$BH$2:$BH$3,\"Banc 119VRAIFAUXVRAIFAUXFAUX\",BDD!$Z$2:$Z$3)","v":0},{"$f":"SUMIF(BDD!$BH$2:$BH$3,\"Banc 119VRAIFAUXFAUXVRAIFAUX\",BDD!$Z$2:$Z$3)","v":0},{"$f":"SUMIF(BDD!$BH$2:$BH$3,\"Banc 119VRAIFAUXFAUXFAUXVRAI\",BDD!$Z$2:$Z$3)","v":0},{"$f":"SUMIF(BDD!$BH$2:$BH$3,\"Banc 119FAUXVRAIVRAIFAUXFAUX\",BDD!$Z$2:$Z$3)","v":0},{"$f":"SUMIF(BDD!$BH$2:$BH$3,\"Banc 119FAUXVRAIFAUXVRAIFAUX\",BDD!$Z$2:$Z$3)","v":0},{"$f":"SUMIF(BDD!$BH$2:$BH$3,\"Banc 119FAUXVRAIFAUXFAUXVRAI\",BDD!$Z$2:$Z$3)","v":0},{"$f":"SUMIF(BDD!$BH$2:$BH$3,\"Banc 119VRAIFAUXVRAIFAUXFAUX\",BDD!$Z$2:$Z$3)","v":0},{"$f":"SUMIF(BDD!$BH$2:$BH$3,\"Banc 119VRAIFAUXFAUXVRAIFAUX\",BDD!$Z$2:$Z$3)","v":0},{"$f":"SUMIF(BDD!$BH$2:$BH$3,\"Banc 119VRAIFAUXFAUXFAUXVRAI\",BDD!$Z$2:$Z$3)","v":0},{"$f":"SUMIF(BDD!$BH$2:$BH$3,\"Banc 119FAUXVRAIVRAIFAUXFAUX\",BDD!$Z$2:$Z$3)","v":0},{"$f":"SUMIF(BDD!$BH$2:$BH$3,\"Banc 119FAUXVRAIFAUXVRAIFAUX\",BDD!$Z$2:$Z$3)","v":0},{"$f":"SUMIF(BDD!$BH$2:$BH$3,\"Banc 119FAUXVRAIFAUXFAUXVRAI\",BDD!$Z$2:$Z$3)","v":0},{"$f":"SUMIF(BDD!$BH$2:$BH$3,\"Banc 119VRAIFAUXVRAIFAUXFAUX\",BDD!$Z$2:$Z$3)","v":0},{"$f":"SUMIF(BDD!$BH$2:$BH$3,\"Banc 119VRAIFAUXFAUXVRAIFAUX\",BDD!$Z$2:$Z$3)","v":0},{"$f":"SUMIF(BDD!$BH$2:$BH$3,\"Banc 119VRAIFAUXFAUXFAUXVRAI\",BDD!$Z$2:$Z$3)","v":0},{"$f":"SUMIF(BDD!$BH$2:$BH$3,\"Banc 119FAUXVRAIVRAIFAUXFAUX\",BDD!$Z$2:$Z$3)","v":0},{"$f":"SUMIF(BDD!$BH$2:$BH$3,\"Banc 119FAUXVRAIFAUXVRAIFAUX\",BDD!$Z$2:$Z$3)","v":0},{"$f":"SUMIF(BDD!$BH$2:$BH$3,\"Banc 119FAUXVRAIFAUXFAUXVRAI\",BDD!$Z$2:$Z$3)","v":0},{"$f":"SUMIF(BDD!$BH$2:$BH$3,\"Banc 119VRAIFAUXVRAIFAUXFAUX\",BDD!$Z$2:$Z$3)","v":0},{"$f":"SUMIF(BDD!$BH$2:$BH$3,\"Banc 119VRAIFAUXFAUXVRAIFAUX\",BDD!$Z$2:$Z$3)","v":0},{"$f":"SUMIF(BDD!$BH$2:$BH$3,\"Banc 119VRAIFAUXFAUXFAUXVRAI\",BDD!$Z$2:$Z$3)","v":0},{"$f":"SUMIF(BDD!$BH$2:$BH$3,\"Banc 119FAUXVRAIVRAIFAUXFAUX\",BDD!$Z$2:$Z$3)","v":0},{"$f":"SUMIF(BDD!$BH$2:$BH$3,\"Banc 119FAUXVRAIFAUXVRAIFAUX\",BDD!$Z$2:$Z$3)","v":0},{"$f":"SUMIF(BDD!$BH$2:$BH$3,\"Banc 119FAUXVRAIFAUXFAUXVRAI\",BDD!$Z$2:$Z$3)","v":0},{"$f":"SUMIF(BDD!$BH$2:$BH$3,\"Banc 119VRAIFAUXVRAIFAUXFAUX\",BDD!$Z$2:$Z$3)","v":0},{"$f":"SUMIF(BDD!$BH$2:$BH$3,\"Banc 119VRAIFAUXFAUXVRAIFAUX\",BDD!$Z$2:$Z$3)","v":0},{"$f":"SUMIF(BDD!$BH$2:$BH$3,\"Banc 119VRAIFAUXFAUXFAUXVRAI\",BDD!$Z$2:$Z$3)","v":0},{"$f":"SUMIF(BDD!$BH$2:$BH$3,\"Banc 119FAUXVRAIVRAIFAUXFAUX\",BDD!$Z$2:$Z$3)","v":0},{"$f":"SUMIF(BDD!$BH$2:$BH$3,\"Banc 119FAUXVRAIFAUXVRAIFAUX\",BDD!$Z$2:$Z$3)","v":0},{"$f":"SUMIF(BDD!$BH$2:$BH$3,\"Banc 119FAUXVRAIFAUXFAUXVRAI\",BDD!$Z$2:$Z$3)","v":0}]
["Banc 123",{"$f":"SUMIF(BDD!$BH$2:$BH$3,\"Banc 123VRAIFAUXVRAIFAUXFAUX\",BDD!$Z$2:$Z$3)","v":0},{"$f":"SUMIF(BDD!$BH$2:$BH$3,\"Banc 123VRAIFAUXFAUXVRAIFAUX\",BDD!$Z$2:$Z$3)","v":0},{"$f":"SUMIF(BDD!$BH$2:$BH$3,\"Banc 123VRAIFAUXFAUXFAUXVRAI\",BDD!$Z$2:$Z$3)","v":0},{"$f":"SUMIF(BDD!$BH$2:$BH$3,\"Banc 123FAUXVRAIVRAIFAUXFAUX\",BDD!$Z$2:$Z$3)","v":0},{"$f":"SUMIF(BDD!$BH$2:$BH$3,\"Banc 123FAUXVRAIFAUXVRAIFAUX\",BDD!$Z$2:$Z$3)","v":0},{"$f":"SUMIF(BDD!$BH$2:$BH$3,\"Banc 123FAUXVRAIFAUXFAUXVRAI\",BDD!$Z$2:$Z$3)","v":0},{"$f":"SUMIF(BDD!$BH$2:$BH$3,\"Banc 123VRAIFAUXVRAIFAUXFAUX\",BDD!$Z$2:$Z$3)","v":0},{"$f":"SUMIF(BDD!$BH$2:$BH$3,\"Banc 123VRAIFAUXFAUXVRAIFAUX\",BDD!$Z$2:$Z$3)","v":0},{"$f":"SUMIF(BDD!$BH$2:$BH$3,\"Banc 123VRAIFAUXFAUXFAUXVRAI\",BDD!$Z$2:$Z$3)","v":0},{"$f":"SUMIF(BDD!$BH$2:$BH$3,\"Banc 123FAUXVRAIVRAIFAUXFAUX\",BDD!$Z$2:$Z$3)","v":0},{"$f":"SUMIF(BDD!$BH$2:$BH$3,\"Banc 123FAUXVRAIFAUXVRAIFAUX\",BDD!$Z$2:$Z$3)","v":0},{"$f":"SUMIF(BDD!$BH$2:$BH$3,\"Banc 123FAUXVRAIFAUXFAUXVRAI\",BDD!$Z$2:$Z$3)","v":0},{"$f":"SUMIF(BDD!$BH$2:$BH$683,\"Banc 123VRAIFAUXVRAIFAUXFAUX\",BDD!$Z$2:$Z$683)","v":0},{"$f":"SUMIF(BDD!$BH$2:$BH$683,\"Banc 123VRAIFAUXFAUXVRAIFAUX\",BDD!$Z$2:$Z$683)","v":0},{"$f":"SUMIF(BDD!$BH$2:$BH$683,\"Banc 123VRAIFAUXFAUXFAUXVRAI\",BDD!$Z$2:$Z$683)","v":0},{"$f":"SUMIF(BDD!$BH$2:$BH$683,\"Banc 123FAUXVRAIVRAIFAUXFAUX\",BDD!$Z$2:$Z$683)","v":0},{"$f":"SUMIF(BDD!$BH$2:$BH$683,\"Banc 123FAUXVRAIFAUXVRAIFAUX\",BDD!$Z$2:$Z$683)","v":0},{"$f":"SUMIF(BDD!$BH$2:$BH$683,\"Banc 123FAUXVRAIFAUXFAUXVRAI\",BDD!$Z$2:$Z$683)","v":32},{"$f":"SUMIF(BDD!$BH$2:$BH$3,\"Banc 123VRAIFAUXVRAIFAUXFAUX\",BDD!$Z$2:$Z$3)","v":0},{"$f":"SUMIF(BDD!$BH$2:$BH$3,\"Banc 123VRAIFAUXFAUXVRAIFAUX\",BDD!$Z$2:$Z$3)","v":0},{"$f":"SUMIF(BDD!$BH$2:$BH$3,\"Banc 123VRAIFAUXFAUXFAUXVRAI\",BDD!$Z$2:$Z$3)","v":0},{"$f":"SUMIF(BDD!$BH$2:$BH$3,\"Banc 123FAUXVRAIVRAIFAUXFAUX\",BDD!$Z$2:$Z$3)","v":0},{"$f":"SUMIF(BDD!$BH$2:$BH$3,\"Banc 123FAUXVRAIFAUXVRAIFAUX\",BDD!$Z$2:$Z$3)","v":0},{"$f":"SUMIF(BDD!$BH$2:$BH$3,\"Banc 123FAUXVRAIFAUXFAUXVRAI\",BDD!$Z$2:$Z$3)","v":0},{"$f":"SUMIF(BDD!$BH$2:$BH$3,\"Banc 123VRAIFAUXVRAIFAUXFAUX\",BDD!$Z$2:$Z$3)","v":0},{"$f":"SUMIF(BDD!$BH$2:$BH$3,\"Banc 123VRAIFAUXFAUXVRAIFAUX\",BDD!$Z$2:$Z$3)","v":0},{"$f":"SUMIF(BDD!$BH$2:$BH$3,\"Banc 123VRAIFAUXFAUXFAUXVRAI\",BDD!$Z$2:$Z$3)","v":0},{"$f":"SUMIF(BDD!$BH$2:$BH$3,\"Banc 123FAUXVRAIVRAIFAUXFAUX\",BDD!$Z$2:$Z$3)","v":0},{"$f":"SUMIF(BDD!$BH$2:$BH$3,\"Banc 123FAUXVRAIFAUXVRAIFAUX\",BDD!$Z$2:$Z$3)","v":0},{"$f":"SUMIF(BDD!$BH$2:$BH$3,\"Banc 123FAUXVRAIFAUXFAUXVRAI\",BDD!$Z$2:$Z$3)","v":0},{"$f":"SUMIF(BDD!$BH$2:$BH$3,\"Banc 123VRAIFAUXVRAIFAUXFAUX\",BDD!$Z$2:$Z$3)","v":0},{"$f":"SUMIF(BDD!$BH$2:$BH$3,\"Banc 123VRAIFAUXFAUXVRAIFAUX\",BDD!$Z$2:$Z$3)","v":0},{"$f":"SUMIF(BDD!$BH$2:$BH$3,\"Banc 123VRAIFAUXFAUXFAUXVRAI\",BDD!$Z$2:$Z$3)","v":0},{"$f":"SUMIF(BDD!$BH$2:$BH$3,\"Banc 123FAUXVRAIVRAIFAUXFAUX\",BDD!$Z$2:$Z$3)","v":0},{"$f":"SUMIF(BDD!$BH$2:$BH$3,\"Banc 123FAUXVRAIFAUXVRAIFAUX\",BDD!$Z$2:$Z$3)","v":0},{"$f":"SUMIF(BDD!$BH$2:$BH$3,\"Banc 123FAUXVRAIFAUXFAUXVRAI\",BDD!$Z$2:$Z$3)","v":0},{"$f":"SUMIF(BDD!$BH$2:$BH$3,\"Banc 123VRAIFAUXVRAIFAUXFAUX\",BDD!$Z$2:$Z$3)","v":0},{"$f":"SUMIF(BDD!$BH$2:$BH$3,\"Banc 123VRAIFAUXFAUXVRAIFAUX\",BDD!$Z$2:$Z$3)","v":0},{"$f":"SUMIF(BDD!$BH$2:$BH$3,\"Banc 123VRAIFAUXFAUXFAUXVRAI\",BDD!$Z$2:$Z$3)","v":0},{"$f":"SUMIF(BDD!$BH$2:$BH$3,\"Banc 123FAUXVRAIVRAIFAUXFAUX\",BDD!$Z$2:$Z$3)","v":0},{"$f":"SUMIF(BDD!$BH$2:$BH$3,\"Banc 123FAUXVRAIFAUXVRAIFAUX\",BDD!$Z$2:$Z$3)","v":0},{"$f":"SUMIF(BDD!$BH$2:$BH$3,\"Banc 123FAUXVRAIFAUXFAUXVRAI\",BDD!$Z$2:$Z$3)","v":0},{"$f":"SUMIF(BDD!$BH$2:$BH$3,\"Banc 123VRAIFAUXVRAIFAUXFAUX\",BDD!$Z$2:$Z$3)","v":0},{"$f":"SUMIF(BDD!$BH$2:$BH$3,\"Banc 123VRAIFAUXFAUXVRAIFAUX\",BDD!$Z$2:$Z$3)","v":0},{"$f":"SUMIF(BDD!$BH$2:$BH$3,\"Banc 123VRAIFAUXFAUXFAUXVRAI\",BDD!$Z$2:$Z$3)","v":0},{"$f":"SUMIF(BDD!$BH$2:$BH$3,\"Banc 123FAUXVRAIVRAIFAUXFAUX\",BDD!$Z$2:$Z$3)","v":0},{"$f":"SUMIF(BDD!$BH$2:$BH$3,\"Banc 123FAUXVRAIFAUXVRAIFAUX\",BDD!$Z$2:$Z$3)","v":0},{"$f":"SUMIF(BDD!$BH$2:$BH$3,\"Banc 123FAUXVRAIFAUXFAUXVRAI\",BDD!$Z$2:$Z$3)","v":0},{"$f":"SUMIF(BDD!$BH$2:$BH$3,\"Banc 123VRAIFAUXVRAIFAUXFAUX\",BDD!$Z$2:$Z$3)","v":0},{"$f":"SUMIF(BDD!$BH$2:$BH$3,\"Banc 123VRAIFAUXFAUXVRAIFAUX\",BDD!$Z$2:$Z$3)","v":0},{"$f":"SUMIF(BDD!$BH$2:$BH$3,\"Banc 123VRAIFAUXFAUXFAUXVRAI\",BDD!$Z$2:$Z$3)","v":0},{"$f":"SUMIF(BDD!$BH$2:$BH$3,\"Banc 123FAUXVRAIVRAIFAUXFAUX\",BDD!$Z$2:$Z$3)","v":0},{"$f":"SUMIF(BDD!$BH$2:$BH$3,\"Banc 123FAUXVRAIFAUXVRAIFAUX\",BDD!$Z$2:$Z$3)","v":0},{"$f":"SUMIF(BDD!$BH$2:$BH$3,\"Banc 123FAUXVRAIFAUXFAUXVRAI\",BDD!$Z$2:$Z$3)","v":0},{"$f":"SUMIF(BDD!$BH$2:$BH$3,\"Banc 123VRAIFAUXVRAIFAUXFAUX\",BDD!$Z$2:$Z$3)","v":0},{"$f":"SUMIF(BDD!$BH$2:$BH$3,\"Banc 123VRAIFAUXFAUXVRAIFAUX\",BDD!$Z$2:$Z$3)","v":0},{"$f":"SUMIF(BDD!$BH$2:$BH$3,\"Banc 123VRAIFAUXFAUXFAUXVRAI\",BDD!$Z$2:$Z$3)","v":0},{"$f":"SUMIF(BDD!$BH$2:$BH$3,\"Banc 123FAUXVRAIVRAIFAUXFAUX\",BDD!$Z$2:$Z$3)","v":0},{"$f":"SUMIF(BDD!$BH$2:$BH$3,\"Banc 123FAUXVRAIFAUXVRAIFAUX\",BDD!$Z$2:$Z$3)","v":0},{"$f":"SUMIF(BDD!$BH$2:$BH$3,\"Banc 123FAUXVRAIFAUXFAUXVRAI\",BDD!$Z$2:$Z$3)","v":0},{"$f":"SUMIF(BDD!$BH$2:$BH$3,\"Banc 123VRAIFAUXVRAIFAUXFAUX\",BDD!$Z$2:$Z$3)","v":0},{"$f":"SUMIF(BDD!$BH$2:$BH$3,\"Banc 123VRAIFAUXFAUXVRAIFAUX\",BDD!$Z$2:$Z$3)","v":0},{"$f":"SUMIF(BDD!$BH$2:$BH$3,\"Banc 123VRAIFAUXFAUXFAUXVRAI\",BDD!$Z$2:$Z$3)","v":0},{"$f":"SUMIF(BDD!$BH$2:$BH$3,\"Banc 123FAUXVRAIVRAIFAUXFAUX\",BDD!$Z$2:$Z$3)","v":0},{"$f":"SUMIF(BDD!$BH$2:$BH$3,\"Banc 123FAUXVRAIFAUXVRAIFAUX\",BDD!$Z$2:$Z$3)","v":0},{"$f":"SUMIF(BDD!$BH$2:$BH$3,\"Banc 123FAUXVRAIFAUXFAUXVRAI\",BDD!$Z$2:$Z$3)","v":0},{"$f":"SUMIF(BDD!$BH$2:$BH$3,\"Banc 123VRAIFAUXVRAIFAUXFAUX\",BDD!$Z$2:$Z$3)","v":0},{"$f":"SUMIF(BDD!$BH$2:$BH$3,\"Banc 123VRAIFAUXFAUXVRAIFAUX\",BDD!$Z$2:$Z$3)","v":0},{"$f":"SUMIF(BDD!$BH$2:$BH$3,\"Banc 123VRAIFAUXFAUXFAUXVRAI\",BDD!$Z$2:$Z$3)","v":0},{"$f":"SUMIF(BDD!$BH$2:$BH$3,\"Banc 123FAUXVRAIVRAIFAUXFAUX\",BDD!$Z$2:$Z$3)","v":0},{"$f":"SUMIF(BDD!$BH$2:$BH$3,\"Banc 123FAUXVRAIFAUXVRAIFAUX\",BDD!$Z$2:$Z$3)","v":0},{"$f":"SUMIF(BDD!$BH$2:$BH$3,\"Banc 123FAUXVRAIFAUXFAUXVRAI\",BDD!$Z$2:$Z$3)","v":0}]
["Banc 126",{"$f":"SUMIF(BDD!$BH$2:$BH$3,\"Banc 126VRAIFAUXVRAIFAUXFAUX\",BDD!$Z$2:$Z$3)","v":0},{"$f":"SUMIF(BDD!$BH$2:$BH$3,\"Banc 126VRAIFAUXFAUXVRAIFAUX\",BDD!$Z$2:$Z$3)","v":0},{"$f":"SUMIF(BDD!$BH$2:$BH$3,\"Banc 126VRAIFAUXFAUXFAUXVRAI\",BDD!$Z$2:$Z$3)","v":0},{"$f":"SUMIF(BDD!$BH$2:$BH$3,\"Banc 126FAUXVRAIVRAIFAUXFAUX\",BDD!$Z$2:$Z$3)","v":0},{"$f":"SUMIF(BDD!$BH$2:$BH$3,\"Banc 126FAUXVRAIFAUXVRAIFAUX\",BDD!$Z$2:$Z$3)","v":0},{"$f":"SUMIF(BDD!$BH$2:$BH$3,\"Banc 126FAUXVRAIFAUXFAUXVRAI\",BDD!$Z$2:$Z$3)","v":0},{"$f":"SUMIF(BDD!$BH$2:$BH$3,\"Banc 126VRAIFAUXVRAIFAUXFAUX\",BDD!$Z$2:$Z$3)","v":0},{"$f":"SUMIF(BDD!$BH$2:$BH$3,\"Banc 126VRAIFAUXFAUXVRAIFAUX\",BDD!$Z$2:$Z$3)","v":0},{"$f":"SUMIF(BDD!$BH$2:$BH$3,\"Banc 126VRAIFAUXFAUXFAUXVRAI\",BDD!$Z$2:$Z$3)","v":0},{"$f":"SUMIF(BDD!$BH$2:$BH$3,\"Banc 126FAUXVRAIVRAIFAUXFAUX\",BDD!$Z$2:$Z$3)","v":0},{"$f":"SUMIF(BDD!$BH$2:$BH$3,\"Banc 126FAUXVRAIFAUXVRAIFAUX\",BDD!$Z$2:$Z$3)","v":0},{"$f":"SUMIF(BDD!$BH$2:$BH$3,\"Banc 126FAUXVRAIFAUXFAUXVRAI\",BDD!$Z$2:$Z$3)","v":0},{"$f":"SUMIF(BDD!$BH$2:$BH$683,\"Banc 126VRAIFAUXVRAIFAUXFAUX\",BDD!$Z$2:$Z$683)","v":0},{"$f":"SUMIF(BDD!$BH$2:$BH$683,\"Banc 126VRAIFAUXFAUXVRAIFAUX\",BDD!$Z$2:$Z$683)","v":0},{"$f":"SUMIF(BDD!$BH$2:$BH$683,\"Banc 126VRAIFAUXFAUXFAUXVRAI\",BDD!$Z$2:$Z$683)","v":0},{"$f":"SUMIF(BDD!$BH$2:$BH$683,\"Banc 126FAUXVRAIVRAIFAUXFAUX\",BDD!$Z$2:$Z$683)","v":0.3},{"$f":"SUMIF(BDD!$BH$2:$BH$683,\"Banc 126FAUXVRAIFAUXVRAIFAUX\",BDD!$Z$2:$Z$683)","v":0},{"$f":"SUMIF(BDD!$BH$2:$BH$683,\"Banc 126FAUXVRAIFAUXFAUXVRAI\",BDD!$Z$2:$Z$683)","v":0},{"$f":"SUMIF(BDD!$BH$2:$BH$3,\"Banc 126VRAIFAUXVRAIFAUXFAUX\",BDD!$Z$2:$Z$3)","v":0},{"$f":"SUMIF(BDD!$BH$2:$BH$3,\"Banc 126VRAIFAUXFAUXVRAIFAUX\",BDD!$Z$2:$Z$3)","v":0},{"$f":"SUMIF(BDD!$BH$2:$BH$3,\"Banc 126VRAIFAUXFAUXFAUXVRAI\",BDD!$Z$2:$Z$3)","v":0},{"$f":"SUMIF(BDD!$BH$2:$BH$3,\"Banc 126FAUXVRAIVRAIFAUXFAUX\",BDD!$Z$2:$Z$3)","v":0},{"$f":"SUMIF(BDD!$BH$2:$BH$3,\"Banc 126FAUXVRAIFAUXVRAIFAUX\",BDD!$Z$2:$Z$3)","v":0},{"$f":"SUMIF(BDD!$BH$2:$BH$3,\"Banc 126FAUXVRAIFAUXFAUXVRAI\",BDD!$Z$2:$Z$3)","v":0},{"$f":"SUMIF(BDD!$BH$2:$BH$3,\"Banc 126VRAIFAUXVRAIFAUXFAUX\",BDD!$Z$2:$Z$3)","v":0},{"$f":"SUMIF(BDD!$BH$2:$BH$3,\"Banc 126VRAIFAUXFAUXVRAIFAUX\",BDD!$Z$2:$Z$3)","v":0},{"$f":"SUMIF(BDD!$BH$2:$BH$3,\"Banc 126VRAIFAUXFAUXFAUXVRAI\",BDD!$Z$2:$Z$3)","v":0},{"$f":"SUMIF(BDD!$BH$2:$BH$3,\"Banc 126FAUXVRAIVRAIFAUXFAUX\",BDD!$Z$2:$Z$3)","v":0},{"$f":"SUMIF(BDD!$BH$2:$BH$3,\"Banc 126FAUXVRAIFAUXVRAIFAUX\",BDD!$Z$2:$Z$3)","v":0},{"$f":"SUMIF(BDD!$BH$2:$BH$3,\"Banc 126FAUXVRAIFAUXFAUXVRAI\",BDD!$Z$2:$Z$3)","v":0},{"$f":"SUMIF(BDD!$BH$2:$BH$3,\"Banc 126VRAIFAUXVRAIFAUXFAUX\",BDD!$Z$2:$Z$3)","v":0},{"$f":"SUMIF(BDD!$BH$2:$BH$3,\"Banc 126VRAIFAUXFAUXVRAIFAUX\",BDD!$Z$2:$Z$3)","v":0},{"$f":"SUMIF(BDD!$BH$2:$BH$3,\"Banc 126VRAIFAUXFAUXFAUXVRAI\",BDD!$Z$2:$Z$3)","v":0},{"$f":"SUMIF(BDD!$BH$2:$BH$3,\"Banc 126FAUXVRAIVRAIFAUXFAUX\",BDD!$Z$2:$Z$3)","v":0},{"$f":"SUMIF(BDD!$BH$2:$BH$3,\"Banc 126FAUXVRAIFAUXVRAIFAUX\",BDD!$Z$2:$Z$3)","v":0},{"$f":"SUMIF(BDD!$BH$2:$BH$3,\"Banc 126FAUXVRAIFAUXFAUXVRAI\",BDD!$Z$2:$Z$3)","v":0},{"$f":"SUMIF(BDD!$BH$2:$BH$3,\"Banc 126VRAIFAUXVRAIFAUXFAUX\",BDD!$Z$2:$Z$3)","v":0},{"$f":"SUMIF(BDD!$BH$2:$BH$3,\"Banc 126VRAIFAUXFAUXVRAIFAUX\",BDD!$Z$2:$Z$3)","v":0},{"$f":"SUMIF(BDD!$BH$2:$BH$3,\"Banc 126VRAIFAUXFAUXFAUXVRAI\",BDD!$Z$2:$Z$3)","v":0},{"$f":"SUMIF(BDD!$BH$2:$BH$3,\"Banc 126FAUXVRAIVRAIFAUXFAUX\",BDD!$Z$2:$Z$3)","v":0},{"$f":"SUMIF(BDD!$BH$2:$BH$3,\"Banc 126FAUXVRAIFAUXVRAIFAUX\",BDD!$Z$2:$Z$3)","v":0},{"$f":"SUMIF(BDD!$BH$2:$BH$3,\"Banc 126FAUXVRAIFAUXFAUXVRAI\",BDD!$Z$2:$Z$3)","v":0},{"$f":"SUMIF(BDD!$BH$2:$BH$3,\"Banc 126VRAIFAUXVRAIFAUXFAUX\",BDD!$Z$2:$Z$3)","v":0},{"$f":"SUMIF(BDD!$BH$2:$BH$3,\"Banc 126VRAIFAUXFAUXVRAIFAUX\",BDD!$Z$2:$Z$3)","v":0},{"$f":"SUMIF(BDD!$BH$2:$BH$3,\"Banc 126VRAIFAUXFAUXFAUXVRAI\",BDD!$Z$2:$Z$3)","v":0},{"$f":"SUMIF(BDD!$BH$2:$BH$3,\"Banc 126FAUXVRAIVRAIFAUXFAUX\",BDD!$Z$2:$Z$3)","v":0},{"$f":"SUMIF(BDD!$BH$2:$BH$3,\"Banc 126FAUXVRAIFAUXVRAIFAUX\",BDD!$Z$2:$Z$3)","v":0},{"$f":"SUMIF(BDD!$BH$2:$BH$3,\"Banc 126FAUXVRAIFAUXFAUXVRAI\",BDD!$Z$2:$Z$3)","v":0},{"$f":"SUMIF(BDD!$BH$2:$BH$3,\"Banc 126VRAIFAUXVRAIFAUXFAUX\",BDD!$Z$2:$Z$3)","v":0},{"$f":"SUMIF(BDD!$BH$2:$BH$3,\"Banc 126VRAIFAUXFAUXVRAIFAUX\",BDD!$Z$2:$Z$3)","v":0},{"$f":"SUMIF(BDD!$BH$2:$BH$3,\"Banc 126VRAIFAUXFAUXFAUXVRAI\",BDD!$Z$2:$Z$3)","v":0},{"$f":"SUMIF(BDD!$BH$2:$BH$3,\"Banc 126FAUXVRAIVRAIFAUXFAUX\",BDD!$Z$2:$Z$3)","v":0},{"$f":"SUMIF(BDD!$BH$2:$BH$3,\"Banc 126FAUXVRAIFAUXVRAIFAUX\",BDD!$Z$2:$Z$3)","v":0},{"$f":"SUMIF(BDD!$BH$2:$BH$3,\"Banc 126FAUXVRAIFAUXFAUXVRAI\",BDD!$Z$2:$Z$3)","v":0},{"$f":"SUMIF(BDD!$BH$2:$BH$3,\"Banc 126VRAIFAUXVRAIFAUXFAUX\",BDD!$Z$2:$Z$3)","v":0},{"$f":"SUMIF(BDD!$BH$2:$BH$3,\"Banc 126VRAIFAUXFAUXVRAIFAUX\",BDD!$Z$2:$Z$3)","v":0},{"$f":"SUMIF(BDD!$BH$2:$BH$3,\"Banc 126VRAIFAUXFAUXFAUXVRAI\",BDD!$Z$2:$Z$3)","v":0},{"$f":"SUMIF(BDD!$BH$2:$BH$3,\"Banc 126FAUXVRAIVRAIFAUXFAUX\",BDD!$Z$2:$Z$3)","v":0},{"$f":"SUMIF(BDD!$BH$2:$BH$3,\"Banc 126FAUXVRAIFAUXVRAIFAUX\",BDD!$Z$2:$Z$3)","v":0},{"$f":"SUMIF(BDD!$BH$2:$BH$3,\"Banc 126FAUXVRAIFAUXFAUXVRAI\",BDD!$Z$2:$Z$3)","v":0},{"$f":"SUMIF(BDD!$BH$2:$BH$3,\"Banc 126VRAIFAUXVRAIFAUXFAUX\",BDD!$Z$2:$Z$3)","v":0},{"$f":"SUMIF(BDD!$BH$2:$BH$3,\"Banc 126VRAIFAUXFAUXVRAIFAUX\",BDD!$Z$2:$Z$3)","v":0},{"$f":"SUMIF(BDD!$BH$2:$BH$3,\"Banc 126VRAIFAUXFAUXFAUXVRAI\",BDD!$Z$2:$Z$3)","v":0},{"$f":"SUMIF(BDD!$BH$2:$BH$3,\"Banc 126FAUXVRAIVRAIFAUXFAUX\",BDD!$Z$2:$Z$3)","v":0},{"$f":"SUMIF(BDD!$BH$2:$BH$3,\"Banc 126FAUXVRAIFAUXVRAIFAUX\",BDD!$Z$2:$Z$3)","v":0},{"$f":"SUMIF(BDD!$BH$2:$BH$3,\"Banc 126FAUXVRAIFAUXFAUXVRAI\",BDD!$Z$2:$Z$3)","v":0},{"$f":"SUMIF(BDD!$BH$2:$BH$3,\"Banc 126VRAIFAUXVRAIFAUXFAUX\",BDD!$Z$2:$Z$3)","v":0},{"$f":"SUMIF(BDD!$BH$2:$BH$3,\"Banc 126VRAIFAUXFAUXVRAIFAUX\",BDD!$Z$2:$Z$3)","v":0},{"$f":"SUMIF(BDD!$BH$2:$BH$3,\"Banc 126VRAIFAUXFAUXFAUXVRAI\",BDD!$Z$2:$Z$3)","v":0},{"$f":"SUMIF(BDD!$BH$2:$BH$3,\"Banc 126FAUXVRAIVRAIFAUXFAUX\",BDD!$Z$2:$Z$3)","v":0},{"$f":"SUMIF(BDD!$BH$2:$BH$3,\"Banc 126FAUXVRAIFAUXVRAIFAUX\",BDD!$Z$2:$Z$3)","v":0},{"$f":"SUMIF(BDD!$BH$2:$BH$3,\"Banc 126FAUXVRAIFAUXFAUXVRAI\",BDD!$Z$2:$Z$3)","v":0}]
["Banc 156",{"$f":"SUMIF(BDD!$BH$2:$BH$3,\"Banc 156VRAIFAUXVRAIFAUXFAUX\",BDD!$Z$2:$Z$3)","v":0},{"$f":"SUMIF(BDD!$BH$2:$BH$3,\"Banc 156VRAIFAUXFAUXVRAIFAUX\",BDD!$Z$2:$Z$3)","v":0},{"$f":"SUMIF(BDD!$BH$2:$BH$3,\"Banc 156VRAIFAUXFAUXFAUXVRAI\",BDD!$Z$2:$Z$3)","v":0},{"$f":"SUMIF(BDD!$BH$2:$BH$3,\"Banc 156FAUXVRAIVRAIFAUXFAUX\",BDD!$Z$2:$Z$3)","v":0},{"$f":"SUMIF(BDD!$BH$2:$BH$3,\"Banc 156FAUXVRAIFAUXVRAIFAUX\",BDD!$Z$2:$Z$3)","v":0},{"$f":"SUMIF(BDD!$BH$2:$BH$3,\"Banc 156FAUXVRAIFAUXFAUXVRAI\",BDD!$Z$2:$Z$3)","v":0},{"$f":"SUMIF(BDD!$BH$2:$BH$3,\"Banc 156VRAIFAUXVRAIFAUXFAUX\",BDD!$Z$2:$Z$3)","v":0},{"$f":"SUMIF(BDD!$BH$2:$BH$3,\"Banc 156VRAIFAUXFAUXVRAIFAUX\",BDD!$Z$2:$Z$3)","v":0},{"$f":"SUMIF(BDD!$BH$2:$BH$3,\"Banc 156VRAIFAUXFAUXFAUXVRAI\",BDD!$Z$2:$Z$3)","v":0},{"$f":"SUMIF(BDD!$BH$2:$BH$3,\"Banc 156FAUXVRAIVRAIFAUXFAUX\",BDD!$Z$2:$Z$3)","v":0},{"$f":"SUMIF(BDD!$BH$2:$BH$3,\"Banc 156FAUXVRAIFAUXVRAIFAUX\",BDD!$Z$2:$Z$3)","v":0},{"$f":"SUMIF(BDD!$BH$2:$BH$3,\"Banc 156FAUXVRAIFAUXFAUXVRAI\",BDD!$Z$2:$Z$3)","v":0},{"$f":"SUMIF(BDD!$BH$2:$BH$683,\"Banc 156VRAIFAUXVRAIFAUXFAUX\",BDD!$Z$2:$Z$683)","v":0},{"$f":"SUMIF(BDD!$BH$2:$BH$683,\"Banc 156VRAIFAUXFAUXVRAIFAUX\",BDD!$Z$2:$Z$683)","v":0},{"$f":"SUMIF(BDD!$BH$2:$BH$683,\"Banc 156VRAIFAUXFAUXFAUXVRAI\",BDD!$Z$2:$Z$683)","v":0},{"$f":"SUMIF(BDD!$BH$2:$BH$683,\"Banc 156FAUXVRAIVRAIFAUXFAUX\",BDD!$Z$2:$Z$683)","v":0},{"$f":"SUMIF(BDD!$BH$2:$BH$683,\"Banc 156FAUXVRAIFAUXVRAIFAUX\",BDD!$Z$2:$Z$683)","v":0},{"$f":"SUMIF(BDD!$BH$2:$BH$683,\"Banc 156FAUXVRAIFAUXFAUXVRAI\",BDD!$Z$2:$Z$683)","v":0},{"$f":"SUMIF(BDD!$BH$2:$BH$3,\"Banc 156VRAIFAUXVRAIFAUXFAUX\",BDD!$Z$2:$Z$3)","v":0},{"$f":"SUMIF(BDD!$BH$2:$BH$3,\"Banc 156VRAIFAUXFAUXVRAIFAUX\",BDD!$Z$2:$Z$3)","v":0},{"$f":"SUMIF(BDD!$BH$2:$BH$3,\"Banc 156VRAIFAUXFAUXFAUXVRAI\",BDD!$Z$2:$Z$3)","v":0},{"$f":"SUMIF(BDD!$BH$2:$BH$3,\"Banc 156FAUXVRAIVRAIFAUXFAUX\",BDD!$Z$2:$Z$3)","v":0},{"$f":"SUMIF(BDD!$BH$2:$BH$3,\"Banc 156FAUXVRAIFAUXVRAIFAUX\",BDD!$Z$2:$Z$3)","v":0},{"$f":"SUMIF(BDD!$BH$2:$BH$3,\"Banc 156FAUXVRAIFAUXFAUXVRAI\",BDD!$Z$2:$Z$3)","v":0},{"$f":"SUMIF(BDD!$BH$2:$BH$3,\"Banc 156VRAIFAUXVRAIFAUXFAUX\",BDD!$Z$2:$Z$3)","v":0},{"$f":"SUMIF(BDD!$BH$2:$BH$3,\"Banc 156VRAIFAUXFAUXVRAIFAUX\",BDD!$Z$2:$Z$3)","v":0},{"$f":"SUMIF(BDD!$BH$2:$BH$3,\"Banc 156VRAIFAUXFAUXFAUXVRAI\",BDD!$Z$2:$Z$3)","v":0},{"$f":"SUMIF(BDD!$BH$2:$BH$3,\"Banc 156FAUXVRAIVRAIFAUXFAUX\",BDD!$Z$2:$Z$3)","v":0},{"$f":"SUMIF(BDD!$BH$2:$BH$3,\"Banc 156FAUXVRAIFAUXVRAIFAUX\",BDD!$Z$2:$Z$3)","v":0},{"$f":"SUMIF(BDD!$BH$2:$BH$3,\"Banc 156FAUXVRAIFAUXFAUXVRAI\",BDD!$Z$2:$Z$3)","v":0},{"$f":"SUMIF(BDD!$BH$2:$BH$3,\"Banc 156VRAIFAUXVRAIFAUXFAUX\",BDD!$Z$2:$Z$3)","v":0},{"$f":"SUMIF(BDD!$BH$2:$BH$3,\"Banc 156VRAIFAUXFAUXVRAIFAUX\",BDD!$Z$2:$Z$3)","v":0},{"$f":"SUMIF(BDD!$BH$2:$BH$3,\"Banc 156VRAIFAUXFAUXFAUXVRAI\",BDD!$Z$2:$Z$3)","v":0},{"$f":"SUMIF(BDD!$BH$2:$BH$3,\"Banc 156FAUXVRAIVRAIFAUXFAUX\",BDD!$Z$2:$Z$3)","v":0},{"$f":"SUMIF(BDD!$BH$2:$BH$3,\"Banc 156FAUXVRAIFAUXVRAIFAUX\",BDD!$Z$2:$Z$3)","v":0},{"$f":"SUMIF(BDD!$BH$2:$BH$3,\"Banc 156FAUXVRAIFAUXFAUXVRAI\",BDD!$Z$2:$Z$3)","v":0},{"$f":"SUMIF(BDD!$BH$2:$BH$3,\"Banc 156VRAIFAUXVRAIFAUXFAUX\",BDD!$Z$2:$Z$3)","v":0},{"$f":"SUMIF(BDD!$BH$2:$BH$3,\"Banc 156VRAIFAUXFAUXVRAIFAUX\",BDD!$Z$2:$Z$3)","v":0},{"$f":"SUMIF(BDD!$BH$2:$BH$3,\"Banc 156VRAIFAUXFAUXFAUXVRAI\",BDD!$Z$2:$Z$3)","v":0},{"$f":"SUMIF(BDD!$BH$2:$BH$3,\"Banc 156FAUXVRAIVRAIFAUXFAUX\",BDD!$Z$2:$Z$3)","v":0},{"$f":"SUMIF(BDD!$BH$2:$BH$3,\"Banc 156FAUXVRAIFAUXVRAIFAUX\",BDD!$Z$2:$Z$3)","v":0},{"$f":"SUMIF(BDD!$BH$2:$BH$3,\"Banc 156FAUXVRAIFAUXFAUXVRAI\",BDD!$Z$2:$Z$3)","v":0},{"$f":"SUMIF(BDD!$BH$2:$BH$3,\"Banc 156VRAIFAUXVRAIFAUXFAUX\",BDD!$Z$2:$Z$3)","v":0},{"$f":"SUMIF(BDD!$BH$2:$BH$3,\"Banc 156VRAIFAUXFAUXVRAIFAUX\",BDD!$Z$2:$Z$3)","v":0},{"$f":"SUMIF(BDD!$BH$2:$BH$3,\"Banc 156VRAIFAUXFAUXFAUXVRAI\",BDD!$Z$2:$Z$3)","v":0},{"$f":"SUMIF(BDD!$BH$2:$BH$3,\"Banc 156FAUXVRAIVRAIFAUXFAUX\",BDD!$Z$2:$Z$3)","v":0},{"$f":"SUMIF(BDD!$BH$2:$BH$3,\"Banc 156FAUXVRAIFAUXVRAIFAUX\",BDD!$Z$2:$Z$3)","v":0},{"$f":"SUMIF(BDD!$BH$2:$BH$3,\"Banc 156FAUXVRAIFAUXFAUXVRAI\",BDD!$Z$2:$Z$3)","v":0},{"$f":"SUMIF(BDD!$BH$2:$BH$3,\"Banc 156VRAIFAUXVRAIFAUXFAUX\",BDD!$Z$2:$Z$3)","v":0},{"$f":"SUMIF(BDD!$BH$2:$BH$3,\"Banc 156VRAIFAUXFAUXVRAIFAUX\",BDD!$Z$2:$Z$3)","v":0},{"$f":"SUMIF(BDD!$BH$2:$BH$3,\"Banc 156VRAIFAUXFAUXFAUXVRAI\",BDD!$Z$2:$Z$3)","v":0},{"$f":"SUMIF(BDD!$BH$2:$BH$3,\"Banc 156FAUXVRAIVRAIFAUXFAUX\",BDD!$Z$2:$Z$3)","v":0},{"$f":"SUMIF(BDD!$BH$2:$BH$3,\"Banc 156FAUXVRAIFAUXVRAIFAUX\",BDD!$Z$2:$Z$3)","v":0},{"$f":"SUMIF(BDD!$BH$2:$BH$3,\"Banc 156FAUXVRAIFAUXFAUXVRAI\",BDD!$Z$2:$Z$3)","v":0},{"$f":"SUMIF(BDD!$BH$2:$BH$3,\"Banc 156VRAIFAUXVRAIFAUXFAUX\",BDD!$Z$2:$Z$3)","v":0},{"$f":"SUMIF(BDD!$BH$2:$BH$3,\"Banc 156VRAIFAUXFAUXVRAIFAUX\",BDD!$Z$2:$Z$3)","v":0},{"$f":"SUMIF(BDD!$BH$2:$BH$3,\"Banc 156VRAIFAUXFAUXFAUXVRAI\",BDD!$Z$2:$Z$3)","v":0},{"$f":"SUMIF(BDD!$BH$2:$BH$3,\"Banc 156FAUXVRAIVRAIFAUXFAUX\",BDD!$Z$2:$Z$3)","v":0},{"$f":"SUMIF(BDD!$BH$2:$BH$3,\"Banc 156FAUXVRAIFAUXVRAIFAUX\",BDD!$Z$2:$Z$3)","v":0},{"$f":"SUMIF(BDD!$BH$2:$BH$3,\"Banc 156FAUXVRAIFAUXFAUXVRAI\",BDD!$Z$2:$Z$3)","v":0},{"$f":"SUMIF(BDD!$BH$2:$BH$3,\"Banc 156VRAIFAUXVRAIFAUXFAUX\",BDD!$Z$2:$Z$3)","v":0},{"$f":"SUMIF(BDD!$BH$2:$BH$3,\"Banc 156VRAIFAUXFAUXVRAIFAUX\",BDD!$Z$2:$Z$3)","v":0},{"$f":"SUMIF(BDD!$BH$2:$BH$3,\"Banc 156VRAIFAUXFAUXFAUXVRAI\",BDD!$Z$2:$Z$3)","v":0},{"$f":"SUMIF(BDD!$BH$2:$BH$3,\"Banc 156FAUXVRAIVRAIFAUXFAUX\",BDD!$Z$2:$Z$3)","v":0},{"$f":"SUMIF(BDD!$BH$2:$BH$3,\"Banc 156FAUXVRAIFAUXVRAIFAUX\",BDD!$Z$2:$Z$3)","v":0},{"$f":"SUMIF(BDD!$BH$2:$BH$3,\"Banc 156FAUXVRAIFAUXFAUXVRAI\",BDD!$Z$2:$Z$3)","v":0},{"$f":"SUMIF(BDD!$BH$2:$BH$3,\"Banc 156VRAIFAUXVRAIFAUXFAUX\",BDD!$Z$2:$Z$3)","v":0},{"$f":"SUMIF(BDD!$BH$2:$BH$3,\"Banc 156VRAIFAUXFAUXVRAIFAUX\",BDD!$Z$2:$Z$3)","v":0},{"$f":"SUMIF(BDD!$BH$2:$BH$3,\"Banc 156VRAIFAUXFAUXFAUXVRAI\",BDD!$Z$2:$Z$3)","v":0},{"$f":"SUMIF(BDD!$BH$2:$BH$3,\"Banc 156FAUXVRAIVRAIFAUXFAUX\",BDD!$Z$2:$Z$3)","v":0},{"$f":"SUMIF(BDD!$BH$2:$BH$3,\"Banc 156FAUXVRAIFAUXVRAIFAUX\",BDD!$Z$2:$Z$3)","v":0},{"$f":"SUMIF(BDD!$BH$2:$BH$3,\"Banc 156FAUXVRAIFAUXFAUXVRAI\",BDD!$Z$2:$Z$3)","v":0}]

{"sheet":"Indicateur Zone10","index":7,"n_rows":100,"n_cols":73,"rows_kept":100,"cut":false,"hidden":false,"merged":[[89,70,89,72],[89,55,89,57],[89,58,89,60],[89,61,89,63],[89,64,89,66],[89,67,89,69],[89,40,89,42],[89,43,89,45],[89,46,89,48],[89,49,89,51],[89,52,89,54],[88,55,88,60],[88,61,88,66],[88,67,88,72],[89,1,89,3],[89,4,89,6],[89,7,89,9],[89,10,89,12],[89,13,89,15],[89,16,89,18],[89,19,89,21],[89,22,89,24],[89,25,89,27],[89,28,89,30],[89,31,89,33],[89,34,89,36],[89,37,89,39],[88,25,88,30],[88,31,88,36],[88,37,88,42],[88,43,88,48],[88,49,88,54],[87,1,87,21],[88,1,88,6],[88,7,88,12],[88,13,88,18],[88,19,88,24],[54,19,54,20],[54,21,54,22],[54,23,54,24],[54,7,54,8],[54,13,54,14],[54,11,54,12],[54,17,54,18],[54,15,54,16],[1,1,1,12],[32,1,32,12],[53,1,53,12],[54,1,54,2],[54,5,54,6],[54,9,54,10],[54,3,54,4]]}
[]
[null,"Suivi des arrêts par banc"]
["Banc zone 10","Janvier","Février","Mars","Avril","Mai","Juin","Juillet","Août","Septembre","Octobre","Novembre","Décembre"]
["Banc 007",{"$f":"SUMIF(BDD!$H$2:$H$3,'Indicateur Zone10'!$A4,BDD!$Z$2:$Z$3)","v":0},{"$f":"SUMIF(BDD!$H$2:$H$3,'Indicateur Zone10'!$A4,BDD!$Z$2:$Z$3)","v":0},{"$f":"SUMIF(BDD!$H$2:$H$683,'Indicateur Zone10'!$A$4,BDD!$Z$2:$Z$683)","v":0.2},{"$f":"SUMIF(BDD!$H$2:$H$3,'Indicateur Zone10'!$A4,BDD!$Z$2:$Z$3)","v":0},{"$f":"SUMIF(BDD!$H$2:$H$3,'Indicateur Zone10'!$A4,BDD!$Z$2:$Z$3)","v":0},{"$f":"SUMIF(BDD!$H$2:$H$3,'Indicateur Zone10'!$A4,BDD!$Z$2:$Z$3)","v":0},{"$f":"SUMIF(BDD!$H$2:$H$3,'Indicateur Zone10'!$A4,BDD!$Z$2:$Z$3)","v":0},{"$f":"SUMIF(BDD!$H$2:$H$3,'Indicateur Zone10'!$A4,BDD!$Z$2:$Z$3)","v":0},{"$f":"SUMIF(BDD!$H$2:$H$3,'Indicateur Zone10'!$A4,BDD!$Z$2:$Z$3)","v":0},{"$f":"SUMIF(BDD!$H$2:$H$3,'Indicateur Zone10'!$A4,BDD!$Z$2:$Z$3)","v":0},{"$f":"SUMIF(BDD!$H$2:$H$3,'Indicateur Zone10'!$A4,BDD!$Z$2:$Z$3)","v":0},{"$f":"SUMIF(BDD!$H$2:$H$3,'Indicateur Zone10'!$A4,BDD!$Z$2:$Z$3)","v":0}]
["Banc 008",{"$f":"SUMIF(BDD!$H$2:$H$3,'Indicateur Zone10'!$A5,BDD!$Z$2:$Z$3)","v":0},{"$f":"SUMIF(BDD!$H$2:$H$3,'Indicateur Zone10'!$A5,BDD!$Z$2:$Z$3)","v":0},{"$f":"SUMIF(BDD!$H$2:$H$683,'Indicateur Zone10'!$A$5,BDD!$Z$2:$Z$683)","v":0.1},{"$f":"SUMIF(BDD!$H$2:$H$3,'Indicateur Zone10'!$A5,BDD!$Z$2:$Z$3)","v":0},{"$f":"SUMIF(BDD!$H$2:$H$3,'Indicateur Zone10'!$A5,BDD!$Z$2:$Z$3)","v":0},{"$f":"SUMIF(BDD!$H$2:$H$3,'Indicateur Zone10'!$A5,BDD!$Z$2:$Z$3)","v":0},{"$f":"SUMIF(BDD!$H$2:$H$3,'Indicateur Zone10'!$A5,BDD!$Z$2:$Z$3)","v":0},{"$f":"SUMIF(BDD!$H$2:$H$3,'Indicateur Zone10'!$A5,BDD!$Z$2:$Z$3)","v":0},{"$f":"SUMIF(BDD!$H$2:$H$3,'Indicateur Zone10'!$A5,BDD!$Z$2:$Z$3)","v":0},{"$f":"SUMIF(BDD!$H$2:$H$3,'Indicateur Zone10'!$A5,BDD!$Z$2:$Z$3)","v":0},{"$f":"SUMIF(BDD!$H$2:$H$3,'Indicateur Zone10'!$A5,BDD!$Z$2:$Z$3)","v":0},{"$f":"SUMIF(BDD!$H$2:$H$3,'Indicateur Zone10'!$A5,BDD!$Z$2:$Z$3)","v":0}]
["Banc 113",{"$f":"SUMIF(BDD!$H$2:$H$3,'Indicateur Zone10'!$A6,BDD!$Z$2:$Z$3)","v":0},{"$f":"SUMIF(BDD!$H$2:$H$3,'Indicateur Zone10'!$A6,BDD!$Z$2:$Z$3)","v":0},{"$f":"SUMIF(BDD!$H$2:$H$683,'Indicateur Zone10'!$A$6,BDD!$Z$2:$Z$683)","v":0.05},{"$f":"SUMIF(BDD!$H$2:$H$3,'Indicateur Zone10'!$A6,BDD!$Z$2:$Z$3)","v":0},{"$f":"SUMIF(BDD!$H$2:$H$3,'Indicateur Zone10'!$A6,BDD!$Z$2:$Z$3)","v":0},{"$f":"SUMIF(BDD!$H$2:$H$3,'Indicateur Zone10'!$A6,BDD!$Z$2:$Z$3)","v":0},{"$f":"SUMIF(BDD!$H$2:$H$3,'Indicateur Zone10'!$A6,BDD!$Z$2:$Z$3)","v":0},{"$f":"SUMIF(BDD!$H$2:$H$3,'Indicateur Zone10'!$A6,BDD!$Z$2:$Z$3)","v":0},{"$f":"SUMIF(BDD!$H$2:$H$3,'Indicateur Zone10'!$A6,BDD!$Z$2:$Z$3)","v":0},{"$f":"SUMIF(BDD!$H$2:$H$3,'Indicateur Zone10'!$A6,BDD!$Z$2:$Z$3)","v":0},{"$f":"SUMIF(BDD!$H$2:$H$3,'Indicateur Zone10'!$A6,BDD!$Z$2:$Z$3)","v":0},{"$f":"SUMIF(BDD!$H$2:$H$3,'Indicateur Zone10'!$A6,BDD!$Z$2:$Z$3)","v":0}]
["Banc 115",{"$f":"SUMIF(BDD!$H$2:$H$3,'Indicateur Zone10'!$A7,BDD!$Z$2:$Z$3)","v":0},{"$f":"SUMIF(BDD!$H$2:$H$3,'Indicateur Zone10'!$A7,BDD!$Z$2:$Z$3)","v":0},{"$f":"SUMIF(BDD!$H$2:$H$683,'Indicateur Zone10'!$A$7,BDD!$Z$2:$Z$683)","v":0},{"$f":"SUMIF(BDD!$H$2:$H$3,'Indicateur Zone10'!$A7,BDD!$Z$2:$Z$3)","v":0},{"$f":"SUMIF(BDD!$H$2:$H$3,'Indicateur Zone10'!$A7,BDD!$Z$2:$Z$3)","v":0},{"$f":"SUMIF(BDD!$H$2:$H$3,'Indicateur Zone10'!$A7,BDD!$Z$2:$Z$3)","v":0},{"$f":"SUMIF(BDD!$H$2:$H$3,'Indicateur Zone10'!$A7,BDD!$Z$2:$Z$3)","v":0},{"$f":"SUMIF(BDD!$H$2:$H$3,'Indicateur Zone10'!$A7,BDD!$Z$2:$Z$3)","v":0},{"$f":"SUMIF(BDD!$H$2:$H$3,'Indicateur Zone10'!$A7,BDD!$Z$2:$Z$3)","v":0},{"$f":"SUMIF(BDD!$H$2:$H$3,'Indicateur Zone10'!$A7,BDD!$Z$2:$Z$3)","v":0},{"$f":"SUMIF(BDD!$H$2:$H$3,'Indicateur Zone10'!$A7,BDD!$Z$2:$Z$3)","v":0},{"$f":"SUMIF(BDD!$H$2:$H$3,'Indicateur Zone10'!$A7,BDD!$Z$2:$Z$3)","v":0}]
["Banc 120",{"$f":"SUMIF(BDD!$H$2:$H$3,'Indicateur Zone10'!$A8,BDD!$Z$2:$Z$3)","v":0},{"$f":"SUMIF(BDD!$H$2:$H$3,'Indicateur Zone10'!$A8,BDD!$Z$2:$Z$3)","v":0},{"$f":"SUMIF(BDD!$H$2:$H$683,'Indicateur Zone10'!$A$8,BDD!$Z$2:$Z$683)","v":0.1},{"$f":"SUMIF(BDD!$H$2:$H$3,'Indicateur Zone10'!$A8,BDD!$Z$2:$Z$3)","v":0},{"$f":"SUMIF(BDD!$H$2:$H$3,'Indicateur Zone10'!$A8,BDD!$Z$2:$Z$3)","v":0},{"$f":"SUMIF(BDD!$H$2:$H$3,'Indicateur Zone10'!$A8,BDD!$Z$2:$Z$3)","v":0},{"$f":"SUMIF(BDD!$H$2:$H$3,'Indicateur Zone10'!$A8,BDD!$Z$2:$Z$3)","v":0},{"$f":"SUMIF(BDD!$H$2:$H$3,'Indicateur Zone10'!$A8,BDD!$Z$2:$Z$3)","v":0},{"$f":"SUMIF(BDD!$H$2:$H$3,'Indicateur Zone10'!$A8,BDD!$Z$2:$Z$3)","v":0},{"$f":"SUMIF(BDD!$H$2:$H$3,'Indicateur Zone10'!$A8,BDD!$Z$2:$Z$3)","v":0},{"$f":"SUMIF(BDD!$H$2:$H$3,'Indicateur Zone10'!$A8,BDD!$Z$2:$Z$3)","v":0},{"$f":"SUMIF(BDD!$H$2:$H$3,'Indicateur Zone10'!$A8,BDD!$Z$2:$Z$3)","v":0}]
["Banc 120 bis",{"$f":"SUMIF(BDD!$H$2:$H$3,'Indicateur Zone10'!$A9,BDD!$Z$2:$Z$3)","v":0},{"$f":"SUMIF(BDD!$H$2:$H$3,'Indicateur Zone10'!$A9,BDD!$Z$2:$Z$3)","v":0},{"$f":"SUMIF(BDD!$H$2:$H$683,'Indicateur Zone10'!$A$9,BDD!$Z$2:$Z$683)","v":0},{"$f":"SUMIF(BDD!$H$2:$H$3,'Indicateur Zone10'!$A9,BDD!$Z$2:$Z$3)","v":0},{"$f":"SUMIF(BDD!$H$2:$H$3,'Indicateur Zone10'!$A9,BDD!$Z$2:$Z$3)","v":0},{"$f":"SUMIF(BDD!$H$2:$H$3,'Indicateur Zone10'!$A9,BDD!$Z$2:$Z$3)","v":0},{"$f":"SUMIF(BDD!$H$2:$H$3,'Indicateur Zone10'!$A9,BDD!$Z$2:$Z$3)","v":0},{"$f":"SUMIF(BDD!$H$2:$H$3,'Indicateur Zone10'!$A9,BDD!$Z$2:$Z$3)","v":0},{"$f":"SUMIF(BDD!$H$2:$H$3,'Indicateur Zone10'!$A9,BDD!$Z$2:$Z$3)","v":0},{"$f":"SUMIF(BDD!$H$2:$H$3,'Indicateur Zone10'!$A9,BDD!$Z$2:$Z$3)","v":0},{"$f":"SUMIF(BDD!$H$2:$H$3,'Indicateur Zone10'!$A9,BDD!$Z$2:$Z$3)","v":0},{"$f":"SUMIF(BDD!$H$2:$H$3,'Indicateur Zone10'!$A9,BDD!$Z$2:$Z$3)","v":0}]
["Banc 125",{"$f":"SUMIF(BDD!$H$2:$H$3,'Indicateur Zone10'!$A10,BDD!$Z$2:$Z$3)","v":0},{"$f":"SUMIF(BDD!$H$2:$H$3,'Indicateur Zone10'!$A10,BDD!$Z$2:$Z$3)","v":0},{"$f":"SUMIF(BDD!$H$2:$H$683,'Indicateur Zone10'!$A$10,BDD!$Z$2:$Z$683)","v":4.8},{"$f":"SUMIF(BDD!$H$2:$H$3,'Indicateur Zone10'!$A10,BDD!$Z$2:$Z$3)","v":0},{"$f":"SUMIF(BDD!$H$2:$H$3,'Indicateur Zone10'!$A10,BDD!$Z$2:$Z$3)","v":0},{"$f":"SUMIF(BDD!$H$2:$H$3,'Indicateur Zone10'!$A10,BDD!$Z$2:$Z$3)","v":0},{"$f":"SUMIF(BDD!$H$2:$H$3,'Indicateur Zone10'!$A10,BDD!$Z$2:$Z$3)","v":0},{"$f":"SUMIF(BDD!$H$2:$H$3,'Indicateur Zone10'!$A10,BDD!$Z$2:$Z$3)","v":0},{"$f":"SUMIF(BDD!$H$2:$H$3,'Indicateur Zone10'!$A10,BDD!$Z$2:$Z$3)","v":0},{"$f":"SUMIF(BDD!$H$2:$H$3,'Indicateur Zone10'!$A10,BDD!$Z$2:$Z$3)","v":0},{"$f":"SUMIF(BDD!$H$2:$H$3,'Indicateur Zone10'!$A10,BDD!$Z$2:$Z$3)","v":0},{"$f":"SUMIF(BDD!$H$2:$H$3,'Indicateur Zone10'!$A10,BDD!$Z$2:$Z$3)","v":0}]
["Banc 128",{"$f":"SUMIF(BDD!$H$2:$H$3,'Indicateur Zone10'!$A11,BDD!$Z$2:$Z$3)","v":0},{"$f":"SUMIF(BDD!$H$2:$H$3,'Indicateur Zone10'!$A11,BDD!$Z$2:$Z$3)","v":0},{"$f":"SUMIF(BDD!$H$2:$H$683,'Indicateur Zone10'!$A$11,BDD!$Z$2:$Z$683)","v":1},{"$f":"SUMIF(BDD!$H$2:$H$3,'Indicateur Zone10'!$A11,BDD!$Z$2:$Z$3)","v":0},{"$f":"SUMIF(BDD!$H$2:$H$3,'Indicateur Zone10'!$A11,BDD!$Z$2:$Z$3)","v":0},{"$f":"SUMIF(BDD!$H$2:$H$3,'Indicateur Zone10'!$A11,BDD!$Z$2:$Z$3)","v":0},{"$f":"SUMIF(BDD!$H$2:$H$3,'Indicateur Zone10'!$A11,BDD!$Z$2:$Z$3)","v":0},{"$f":"SUMIF(BDD!$H$2:$H$3,'Indicateur Zone10'!$A11,BDD!$Z$2:$Z$3)","v":0},{"$f":"SUMIF(BDD!$H$2:$H$3,'Indicateur Zone10'!$A11,BDD!$Z$2:$Z$3)","v":0},{"$f":"SUMIF(BDD!$H$2:$H$3,'Indicateur Zone10'!$A11,BDD!$Z$2:$Z$3)","v":0},{"$f":"SUMIF(BDD!$H$2:$H$3,'Indicateur Zone10'!$A11,BDD!$Z$2:$Z$3)","v":0},{"$f":"SUMIF(BDD!$H$2:$H$3,'Indicateur Zone10'!$A11,BDD!$Z$2:$Z$3)","v":0}]
["Banc 131",{"$f":"SUMIF(BDD!$H$2:$H$3,'Indicateur Zone10'!$A12,BDD!$Z$2:$Z$3)","v":0},{"$f":"SUMIF(BDD!$H$2:$H$3,'Indicateur Zone10'!$A12,BDD!$Z$2:$Z$3)","v":0},{"$f":"SUMIF(BDD!$H$2:$H$683,'Indicateur Zone10'!$A$4,BDD!$Z$2:$Z$683)","v":0.2},{"$f":"SUMIF(BDD!$H$2:$H$3,'Indicateur Zone10'!$A12,BDD!$Z$2:$Z$3)","v":0},{"$f":"SUMIF(BDD!$H$2:$H$3,'Indicateur Zone10'!$A12,BDD!$Z$2:$Z$3)","v":0},{"$f":"SUMIF(BDD!$H$2:$H$3,'Indicateur Zone10'!$A12,BDD!$Z$2:$Z$3)","v":0},{"$f":"SUMIF(BDD!$H$2:$H$3,'Indicateur Zone10'!$A12,BDD!$Z$2:$Z$3)","v":0},{"$f":"SUMIF(BDD!$H$2:$H$3,'Indicateur Zone10'!$A12,BDD!$Z$2:$Z$3)","v":0},{"$f":"SUMIF(BDD!$H$2:$H$3,'Indicateur Zone10'!$A12,BDD!$Z$2:$Z$3)","v":0},{"$f":"SUMIF(BDD!$H$2:$H$3,'Indicateur Zone10'!$A12,BDD!$Z$2:$Z$3)","v":0},{"$f":"SUMIF(BDD!$H$2:$H$3,'Indicateur Zone10'!$A12,BDD!$Z$2:$Z$3)","v":0},{"$f":"SUMIF(BDD!$H$2:$H$3,'Indicateur Zone10'!$A12,BDD!$Z$2:$Z$3)","v":0}]
[]
[]
[]
[]
[]
[]
[]
[]
[]
[]
[]
[]
[]
[]
[]
[]
[]
[]
[]
[]
[null,"Suivi du correctif et du préventif"]
["Type de maintenance","Janvier","Février","Mars","Avril","Mai","Juin","Juillet","Août","Septembre","Octobre","Novembre","Décembre"]
["Corrective",{"$f":"SUM(B57:B65)","v":0},{"$f":"SUM(D57:D65)","v":0},{"$f":"SUM(F57:F65)","v":3.5999999999999996},{"$f":"SUM(H57:H65)","v":0},{"$f":"SUM(J57:J65)","v":0},{"$f":"SUM(L57:L65)","v":0},{"$f":"SUM(N57:N65)","v":0},{"$f":"SUM(P57:P65)","v":0},{"$f":"SUM(R57:R65)","v":0},{"$f":"SUM(T57:T65)","v":0},{"$f":"SUM(V57:V65)","v":0},{"$f":"SUM(X57:X65)","v":0}]
["Préventive",{"$f":"SUM(C57:C65)","v":0},{"$f":"SUM(E57:E65)","v":0},{"$f":"SUM(G57:G65)","v":0.15000000000000002},{"$f":"SUM(I57:I65)","v":0},{"$f":"SUM(K57:K65)","v":0},{"$f":"SUM(M57:M65)","v":0},{"$f":"SUM(O57:O65)","v":0},{"$f":"SUM(Q57:Q65)","v":0},{"$f":"SUM(S57:S65)","v":0},{"$f":"SUM(U57:U65)","v":0},{"$f":"SUM(W57:W65)","v":0},{"$f":"SUM(Y57:Y65)","v":0}]
[]
[]
[]
[]
[]
[]
[]
[]
[]
[]
[]
[]
[]
[]
[]
[]
[]
[null,"Suivi du correctif et du préventif par banc"]
[null,"Janvier",null,"Février",null,"Mars",null,"Avril",null,"Mai",null,"Juin",null,"Juillet",null,"Août",null,"Septembre",null,"Octobre",null,"Novembre",null,"Décembre"]
["Banc zone 10","Corrective","Préventive","Corrective","Préventive","Corrective","Préventive","Corrective","Préventive","Corrective","Préventive","Corrective","Préventive","Corrective","Préventive","Corrective","Préventive","Corrective","Préventive","Corrective","Préventive","Corrective","Préventive","Corrective","Préventive"]
["Banc 007",{"$f":"SUMIF(BDD!$BG$2:$BG$3,\"Banc 007VRAIFAUX\",BDD!$Z$2:$Z$3)","v":0},{"$f":"SUMIF(BDD!$BG$2:$BG$3,\"Banc 007FAUXVRAI\",BDD!$Z$2:$Z$3)","v":0},{"$f":"SUMIF(BDD!$BG$2:$BG$3,\"Banc 007VRAIFAUX\",BDD!$Z$2:$Z$3)","v":0},{"$f":"SUMIF(BDD!$BG$2:$BG$3,\"Banc 007FAUXVRAI\",BDD!$Z$2:$Z$3)","v":0},{"$f":"SUMIF(BDD!$BG$2:$BG$683,\"Banc 007VRAIFAUX\",BDD!$Z$2:$Z$683)","v":0.2},{"$f":"SUMIF(BDD!$BG$2:$BG$683,\"Banc 007FAUXvrai\",BDD!$Z$2:$Z$683)","v":0},{"$f":"SUMIF(BDD!$BG$2:$BG$3,\"Banc 007VRAIFAUX\",BDD!$Z$2:$Z$3)","v":0},{"$f":"SUMIF(BDD!$BG$2:$BG$3,\"Banc 007FAUXVRAI\",BDD!$Z$2:$Z$3)","v":0},{"$f":"SUMIF(BDD!$BG$2:$BG$3,\"Banc 007VRAIFAUX\",BDD!$Z$2:$Z$3)","v":0},{"$f":"SUMIF(BDD!$BG$2:$BG$3,\"Banc 007FAUXVRAI\",BDD!$Z$2:$Z$3)","v":0},{"$f":"SUMIF(BDD!$BG$2:$BG$3,\"Banc 007VRAIFAUX\",BDD!$Z$2:$Z$3)","v":0},{"$f":"SUMIF(BDD!$BG$2:$BG$3,\"Banc 007FAUXVRAI\",BDD!$Z$2:$Z$3)","v":0},{"$f":"SUMIF(BDD!$BG$2:$BG$3,\"Banc 007VRAIFAUX\",BDD!$Z$2:$Z$3)","v":0},{"$f":"SUMIF(BDD!$BG$2:$BG$3,\"Banc 007FAUXVRAI\",BDD!$Z$2:$Z$3)","v":0},{"$f":"SUMIF(BDD!$BG$2:$BG$3,\"Banc 007VRAIFAUX\",BDD!$Z$2:$Z$3)","v":0},{"$f":"SUMIF(BDD!$BG$2:$BG$3,\"Banc 007FAUXVRAI\",BDD!$Z$2:$Z$3)","v":0},{"$f":"SUMIF(BDD!$BG$2:$BG$3,\"Banc 007VRAIFAUX\",BDD!$Z$2:$Z$3)","v":0},{"$f":"SUMIF(BDD!$BG$2:$BG$3,\"Banc 007FAUXVRAI\",BDD!$Z$2:$Z$3)","v":0},{"$f":"SUMIF(BDD!$BG$2:$BG$3,\"Banc 007VRAIFAUX\",BDD!$Z$2:$Z$3)","v":0},{"$f":"SUMIF(BDD!$BG$2:$BG$3,\"Banc 007FAUXVRAI\",BDD!$Z$2:$Z$3)","v":0},{"$f":"SUMIF(BDD!$BG$2:$BG$3,\"Banc 007VRAIFAUX\",BDD!$Z$2:$Z$3)","v":0},{"$f":"SUMIF(BDD!$BG$2:$BG$3,\"Banc 007FAUXVRAI\",BDD!$Z$2:$Z$3)","v":0},{"$f":"SUMIF(BDD!$BG$2:$BG$3,\"Banc 007VRAIFAUX\",BDD!$Z$2:$Z$3)","v":0},{"$f":"SUMIF(BDD!$BG$2:$BG$3,\"Banc 007FAUXVRAI\",BDD!$Z$2:$Z$3)","v":0}]
["Banc 008",{"$f":"SUMIF(BDD!$BG$2:$BG$3,\"Banc 008VRAIFAUX\",BDD!$Z$2:$Z$3)","v":0},{"$f":"SUMIF(BDD!$BG$2:$BG$3,\"Banc 008FAUXVRAI\",BDD!$Z$2:$Z$3)","v":0},{"$f":"SUMIF(BDD!$BG$2:$BG$3,\"Banc 008VRAIFAUX\",BDD!$Z$2:$Z$3)","v":0},{"$f":"SUMIF(BDD!$BG$2:$BG$3,\"Banc 008FAUXVRAI\",BDD!$Z$2:$Z$3)","v":0},{"$f":"SUMIF(BDD!$BG$2:$BG$683,\"Banc 008VRAIFAUX\",BDD!$Z$2:$Z$683)","v":0.1},{"$f":"SUMIF(BDD!$BG$2:$BG$683,\"Banc 008FAUXVRAI\",BDD!$Z$2:$Z$683)","v":0},{"$f":"SUMIF(BDD!$BG$2:$BG$3,\"Banc 008VRAIFAUX\",BDD!$Z$2:$Z$3)","v":0},{"$f":"SUMIF(BDD!$BG$2:$BG$3,\"Banc 008FAUXVRAI\",BDD!$Z$2:$Z$3)","v":0},{"$f":"SUMIF(BDD!$BG$2:$BG$3,\"Banc 008VRAIFAUX\",BDD!$Z$2:$Z$3)","v":0},{"$f":"SUMIF(BDD!$BG$2:$BG$3,\"Banc 008FAUXVRAI\",BDD!$Z$2:$Z$3)","v":0},{"$f":"SUMIF(BDD!$BG$2:$BG$3,\"Banc 008VRAIFAUX\",BDD!$Z$2:$Z$3)","v":0},{"$f":"SUMIF(BDD!$BG$2:$BG$3,\"Banc 008FAUXVRAI\",BDD!$Z$2:$Z$3)","v":0},{"$f":"SUMIF(BDD!$BG$2:$BG$3,\"Banc 008VRAIFAUX\",BDD!$Z$2:$Z$3)","v":0},{"$f":"SUMIF(BDD!$BG$2:$BG$3,\"Banc 008FAUXVRAI\",BDD!$Z$2:$Z$3)","v":0},{"$f":"SUMIF(BDD!$BG$2:$BG$3,\"Banc 008VRAIFAUX\",BDD!$Z$2:$Z$3)","v":0},{"$f":"SUMIF(BDD!$BG$2:$BG$3,\"Banc 008FAUXVRAI\",BDD!$Z$2:$Z$3)","v":0},{"$f":"SUMIF(BDD!$BG$2:$BG$3,\"Banc 008VRAIFAUX\",BDD!$Z$2:$Z$3)","v":0},{"$f":"SUMIF(BDD!$BG$2:$BG$3,\"Banc 008FAUXVRAI\",BDD!$Z$2:$Z$3)","v":0},{"$f":"SUMIF(BDD!$BG$2:$BG$3,\"Banc 008VRAIFAUX\",BDD!$Z$2:$Z$3)","v":0},{"$f":"SUMIF(BDD!$BG$2:$BG$3,\"Banc 008FAUXVRAI\",BDD!$Z$2:$Z$3)","v":0},{"$f":"SUMIF(BDD!$BG$2:$BG$3,\"Banc 008VRAIFAUX\",BDD!$Z$2:$Z$3)","v":0},{"$f":"SUMIF(BDD!$BG$2:$BG$3,\"Banc 008FAUXVRAI\",BDD!$Z$2:$Z$3)","v":0},{"$f":"SUMIF(BDD!$BG$2:$BG$3,\"Banc 008VRAIFAUX\",BDD!$Z$2:$Z$3)","v":0},{"$f":"SUMIF(BDD!$BG$2:$BG$3,\"Banc 008FAUXVRAI\",BDD!$Z$2:$Z$3)","v":0}]
["Banc 113",{"$f":"SUMIF(BDD!$BG$2:$BG$683,\"Banc 113VRAIFAUX\",BDD!$Z$2:$Z$683)","v":0},{"$f":"SUMIF(BDD!$BG$2:$BG$3,\"Banc 113FAUXVRAI\",BDD!$Z$2:$Z$3)","v":0},{"$f":"SUMIF(BDD!$BG$2:$BG$683,\"Banc 113VRAIFAUX\",BDD!$Z$2:$Z$683)","v":0},{"$f":"SUMIF(BDD!$BG$2:$BG$3,\"Banc 113FAUXVRAI\",BDD!$Z$2:$Z$3)","v":0},{"$f":"SUMIF(BDD!$BG$2:$BG$683,\"Banc 113VRAIFAUX\",BDD!$Z$2:$Z$683)","v":0},{"$f":"SUMIF(BDD!$BG$2:$BG$683,\"Banc 113FAUXVRAI\",BDD!$Z$2:$Z$683)","v":0.05},{"$f":"SUMIF(BDD!$BG$2:$BG$683,\"Banc 113VRAIFAUX\",BDD!$Z$2:$Z$683)","v":0},{"$f":"SUMIF(BDD!$BG$2:$BG$3,\"Banc 113FAUXVRAI\",BDD!$Z$2:$Z$3)","v":0},{"$f":"SUMIF(BDD!$BG$2:$BG$683,\"Banc 113VRAIFAUX\",BDD!$Z$2:$Z$683)","v":0},{"$f":"SUMIF(BDD!$BG$2:$BG$3,\"Banc 113FAUXVRAI\",BDD!$Z$2:$Z$3)","v":0},{"$f":"SUMIF(BDD!$BG$2:$BG$683,\"Banc 113VRAIFAUX\",BDD!$Z$2:$Z$683)","v":0},{"$f":"SUMIF(BDD!$BG$2:$BG$3,\"Banc 113FAUXVRAI\",BDD!$Z$2:$Z$3)","v":0},{"$f":"SUMIF(BDD!$BG$2:$BG$683,\"Banc 113VRAIFAUX\",BDD!$Z$2:$Z$683)","v":0},{"$f":"SUMIF(BDD!$BG$2:$BG$3,\"Banc 113FAUXVRAI\",BDD!$Z$2:$Z$3)","v":0},{"$f":"SUMIF(BDD!$BG$2:$BG$683,\"Banc 113VRAIFAUX\",BDD!$Z$2:$Z$683)","v":0},{"$f":"SUMIF(BDD!$BG$2:$BG$3,\"Banc 113FAUXVRAI\",BDD!$Z$2:$Z$3)","v":0},{"$f":"SUMIF(BDD!$BG$2:$BG$683,\"Banc 113VRAIFAUX\",BDD!$Z$2:$Z$683)","v":0},{"$f":"SUMIF(BDD!$BG$2:$BG$3,\"Banc 113FAUXVRAI\",BDD!$Z$2:$Z$3)","v":0},{"$f":"SUMIF(BDD!$BG$2:$BG$683,\"Banc 113VRAIFAUX\",BDD!$Z$2:$Z$683)","v":0},{"$f":"SUMIF(BDD!$BG$2:$BG$3,\"Banc 113FAUXVRAI\",BDD!$Z$2:$Z$3)","v":0},{"$f":"SUMIF(BDD!$BG$2:$BG$683,\"Banc 113VRAIFAUX\",BDD!$Z$2:$Z$683)","v":0},{"$f":"SUMIF(BDD!$BG$2:$BG$3,\"Banc 113FAUXVRAI\",BDD!$Z$2:$Z$3)","v":0},{"$f":"SUMIF(BDD!$BG$2:$BG$683,\"Banc 113VRAIFAUX\",BDD!$Z$2:$Z$683)","v":0},{"$f":"SUMIF(BDD!$BG$2:$BG$3,\"Banc 113FAUXVRAI\",BDD!$Z$2:$Z$3)","v":0}]
["Banc 115",{"$f":"SUMIF(BDD!$BG$2:$BG$3,\"Banc 115VRAIFAUX\",BDD!$Z$2:$Z$3)","v":0},{"$f":"SUMIF(BDD!$BG$2:$BG$3,\"Banc 115FAUXVRAI\",BDD!$Z$2:$Z$3)","v":0},{"$f":"SUMIF(BDD!$BG$2:$BG$3,\"Banc 115VRAIFAUX\",BDD!$Z$2:$Z$3)","v":0},{"$f":"SUMIF(BDD!$BG$2:$BG$3,\"Banc 115FAUXVRAI\",BDD!$Z$2:$Z$3)","v":0},{"$f":"SUMIF(BDD!$BG$2:$BG$683,\"Banc 115VRAIFAUX\",BDD!$Z$2:$Z$683)","v":0},{"$f":"SUMIF(BDD!$BG$2:$BG$683,\"Banc 115FAUXVRAI\",BDD!$Z$2:$Z$683)","v":0},{"$f":"SUMIF(BDD!$BG$2:$BG$3,\"Banc 115VRAIFAUX\",BDD!$Z$2:$Z$3)","v":0},{"$f":"SUMIF(BDD!$BG$2:$BG$3,\"Banc 115FAUXVRAI\",BDD!$Z$2:$Z$3)","v":0},{"$f":"SUMIF(BDD!$BG$2:$BG$3,\"Banc 115VRAIFAUX\",BDD!$Z$2:$Z$3)","v":0},{"$f":"SUMIF(BDD!$BG$2:$BG$3,\"Banc 115FAUXVRAI\",BDD!$Z$2:$Z$3)","v":0},{"$f":"SUMIF(BDD!$BG$2:$BG$3,\"Banc 115VRAIFAUX\",BDD!$Z$2:$Z$3)","v":0},{"$f":"SUMIF(BDD!$BG$2:$BG$3,\"Banc 115FAUXVRAI\",BDD!$Z$2:$Z$3)","v":0},{"$f":"SUMIF(BDD!$BG$2:$BG$3,\"Banc 115VRAIFAUX\",BDD!$Z$2:$Z$3)","v":0},{"$f":"SUMIF(BDD!$BG$2:$BG$3,\"Banc 115FAUXVRAI\",BDD!$Z$2:$Z$3)","v":0},{"$f":"SUMIF(BDD!$BG$2:$BG$3,\"Banc 115VRAIFAUX\",BDD!$Z$2:$Z$3)","v":0},{"$f":"SUMIF(BDD!$BG$2:$BG$3,\"Banc 115FAUXVRAI\",BDD!$Z$2:$Z$3)","v":0},{"$f":"SUMIF(BDD!$BG$2:$BG$3,\"Banc 115VRAIFAUX\",BDD!$Z$2:$Z$3)","v":0},{"$f":"SUMIF(BDD!$BG$2:$BG$3,\"Banc 115FAUXVRAI\",BDD!$Z$2:$Z$3)","v":0},{"$f":"SUMIF(BDD!$BG$2:$BG$3,\"Banc 115VRAIFAUX\",BDD!$Z$2:$Z$3)","v":0},{"$f":"SUMIF(BDD!$BG$2:$BG$3,\"Banc 115FAUXVRAI\",BDD!$Z$2:$Z$3)","v":0},{"$f":"SUMIF(BDD!$BG$2:$BG$3,\"Banc 115VRAIFAUX\",BDD!$Z$2:$Z$3)","v":0},{"$f":"SUMIF(BDD!$BG$2:$BG$3,\"Banc 115FAUXVRAI\",BDD!$Z$2:$Z$3)","v":0},{"$f":"SUMIF(BDD!$BG$2:$BG$3,\"Banc 115VRAIFAUX\",BDD!$Z$2:$Z$3)","v":0},{"$f":"SUMIF(BDD!$BG$2:$BG$3,\"Banc 115FAUXVRAI\",BDD!$Z$2:$Z$3)","v":0}]
["Banc 120",{"$f":"SUMIF(BDD!$BG$2:$BG$3,\"Banc 120VRAIFAUX\",BDD!$Z$2:$Z$3)","v":0},{"$f":"SUMIF(BDD!$BG$2:$BG$3,\"Banc 120FAUXVRAI\",BDD!$Z$2:$Z$3)","v":0},{"$f":"SUMIF(BDD!$BG$2:$BG$3,\"Banc 120VRAIFAUX\",BDD!$Z$2:$Z$3)","v":0},{"$f":"SUMIF(BDD!$BG$2:$BG$3,\"Banc 120FAUXVRAI\",BDD!$Z$2:$Z$3)","v":0},{"$f":"SUMIF(BDD!$BG$2:$BG$683,\"Banc 120VRAIFAUX\",BDD!$Z$2:$Z$683)","v":0},{"$f":"SUMIF(BDD!$BG$2:$BG$683,\"Banc 120FAUXVRAI\",BDD!$Z$2:$Z$683)","v":0},{"$f":"SUMIF(BDD!$BG$2:$BG$3,\"Banc 120VRAIFAUX\",BDD!$Z$2:$Z$3)","v":0},{"$f":"SUMIF(BDD!$BG$2:$BG$3,\"Banc 120FAUXVRAI\",BDD!$Z$2:$Z$3)","v":0},{"$f":"SUMIF(BDD!$BG$2:$BG$3,\"Banc 120VRAIFAUX\",BDD!$Z$2:$Z$3)","v":0},{"$f":"SUMIF(BDD!$BG$2:$BG$3,\"Banc 120FAUXVRAI\",BDD!$Z$2:$Z$3)","v":0},{"$f":"SUMIF(BDD!$BG$2:$BG$3,\"Banc 120VRAIFAUX\",BDD!$Z$2:$Z$3)","v":0},{"$f":"SUMIF(BDD!$BG$2:$BG$3,\"Banc 120FAUXVRAI\",BDD!$Z$2:$Z$3)","v":0},{"$f":"SUMIF(BDD!$BG$2:$BG$3,\"Banc 120VRAIFAUX\",BDD!$Z$2:$Z$3)","v":0},{"$f":"SUMIF(BDD!$BG$2:$BG$3,\"Banc 120FAUXVRAI\",BDD!$Z$2:$Z$3)","v":0},{"$f":"SUMIF(BDD!$BG$2:$BG$3,\"Banc 120VRAIFAUX\",BDD!$Z$2:$Z$3)","v":0},{"$f":"SUMIF(BDD!$BG$2:$BG$3,\"Banc 120FAUXVRAI\",BDD!$Z$2:$Z$3)","v":0},{"$f":"SUMIF(BDD!$BG$2:$BG$3,\"Banc 120VRAIFAUX\",BDD!$Z$2:$Z$3)","v":0},{"$f":"SUMIF(BDD!$BG$2:$BG$3,\"Banc 120FAUXVRAI\",BDD!$Z$2:$Z$3)","v":0},{"$f":"SUMIF(BDD!$BG$2:$BG$3,\"Banc 120VRAIFAUX\",BDD!$Z$2:$Z$3)","v":0},{"$f":"SUMIF(BDD!$BG$2:$BG$3,\"Banc 120FAUXVRAI\",BDD!$Z$2:$Z$3)","v":0},{"$f":"SUMIF(BDD!$BG$2:$BG$3,\"Banc 120VRAIFAUX\",BDD!$Z$2:$Z$3)","v":0},{"$f":"SUMIF(BDD!$BG$2:$BG$3,\"Banc 120FAUXVRAI\",BDD!$Z$2:$Z$3)","v":0},{"$f":"SUMIF(BDD!$BG$2:$BG$3,\"Banc 120VRAIFAUX\",BDD!$Z$2:$Z$3)","v":0},{"$f":"SUMIF(BDD!$BG$2:$BG$3,\"Banc 120FAUXVRAI\",BDD!$Z$2:$Z$3)","v":0}]
["Banc 120 bis",{"$f":"SUMIF(BDD!$BG$2:$BG$3,\"Banc 120 bisVRAIFAUX\",BDD!$Z$2:$Z$3)","v":0},{"$f":"SUMIF(BDD!$BG$2:$BG$3,\"Banc 120 bisFAUXVRAI\",BDD!$Z$2:$Z$3)","v":0},{"$f":"SUMIF(BDD!$BG$2:$BG$3,\"Banc 120 bisVRAIFAUX\",BDD!$Z$2:$Z$3)","v":0},{"$f":"SUMIF(BDD!$BG$2:$BG$3,\"Banc 120 bisFAUXVRAI\",BDD!$Z$2:$Z$3)","v":0},{"$f":"SUMIF(BDD!$BG$2:$BG$683,\"Banc 120 bisVRAIFAUX\",BDD!$Z$2:$Z$683)","v":0},{"$f":"SUMIF(BDD!$BG$2:$BG$683,\"Banc 120 bisFAUXVRAI\",BDD!$Z$2:$Z$683)","v":0},{"$f":"SUMIF(BDD!$BG$2:$BG$3,\"Banc 120 bisVRAIFAUX\",BDD!$Z$2:$Z$3)","v":0},{"$f":"SUMIF(BDD!$BG$2:$BG$3,\"Banc 120 bisFAUXVRAI\",BDD!$Z$2:$Z$3)","v":0},{"$f":"SUMIF(BDD!$BG$2:$BG$3,\"Banc 120 bisVRAIFAUX\",BDD!$Z$2:$Z$3)","v":0},{"$f":"SUMIF(BDD!$BG$2:$BG$3,\"Banc 120 bisFAUXVRAI\",BDD!$Z$2:$Z$3)","v":0},{"$f":"SUMIF(BDD!$BG$2:$BG$3,\"Banc 120 bisVRAIFAUX\",BDD!$Z$2:$Z$3)","v":0},{"$f":"SUMIF(BDD!$BG$2:$BG$3,\"Banc 120 bisFAUXVRAI\",BDD!$Z$2:$Z$3)","v":0},{"$f":"SUMIF(BDD!$BG$2:$BG$3,\"Banc 120 bisVRAIFAUX\",BDD!$Z$2:$Z$3)","v":0},{"$f":"SUMIF(BDD!$BG$2:$BG$3,\"Banc 120 bisFAUXVRAI\",BDD!$Z$2:$Z$3)","v":0},{"$f":"SUMIF(BDD!$BG$2:$BG$3,\"Banc 120 bisVRAIFAUX\",BDD!$Z$2:$Z$3)","v":0},{"$f":"SUMIF(BDD!$BG$2:$BG$3,\"Banc 120 bisFAUXVRAI\",BDD!$Z$2:$Z$3)","v":0},{"$f":"SUMIF(BDD!$BG$2:$BG$3,\"Banc 120 bisVRAIFAUX\",BDD!$Z$2:$Z$3)","v":0},{"$f":"SUMIF(BDD!$BG$2:$BG$3,\"Banc 120 bisFAUXVRAI\",BDD!$Z$2:$Z$3)","v":0},{"$f":"SUMIF(BDD!$BG$2:$BG$3,\"Banc 120 bisVRAIFAUX\",BDD!$Z$2:$Z$3)","v":0},{"$f":"SUMIF(BDD!$BG$2:$BG$3,\"Banc 120 bisFAUXVRAI\",BDD!$Z$2:$Z$3)","v":0},{"$f":"SUMIF(BDD!$BG$2:$BG$3,\"Banc 120 bisVRAIFAUX\",BDD!$Z$2:$Z$3)","v":0},{"$f":"SUMIF(BDD!$BG$2:$BG$3,\"Banc 120 bisFAUXVRAI\",BDD!$Z$2:$Z$3)","v":0},{"$f":"SUMIF(BDD!$BG$2:$BG$3,\"Banc 120 bisVRAIFAUX\",BDD!$Z$2:$Z$3)","v":0},{"$f":"SUMIF(BDD!$BG$2:$BG$3,\"Banc 120 bisFAUXVRAI\",BDD!$Z$2:$Z$3)","v":0}]
["Banc 125",{"$f":"SUMIF(BDD!$BG$2:$BG$3,\"Banc 125VRAIFAUX\",BDD!$Z$2:$Z$3)","v":0},{"$f":"SUMIF(BDD!$BG$2:$BG$3,\"Banc 125FAUXVRAI\",BDD!$Z$2:$Z$3)","v":0},{"$f":"SUMIF(BDD!$BG$2:$BG$3,\"Banc 125VRAIFAUX\",BDD!$Z$2:$Z$3)","v":0},{"$f":"SUMIF(BDD!$BG$2:$BG$3,\"Banc 125FAUXVRAI\",BDD!$Z$2:$Z$3)","v":0},{"$f":"SUMIF(BDD!$BG$2:$BG$683,\"Banc 125VRAIFAUX\",BDD!$Z$2:$Z$683)","v":2.2999999999999998},{"$f":"SUMIF(BDD!$BG$2:$BG$683,\"Banc 125FAUXVRAI\",BDD!$Z$2:$Z$683)","v":0},{"$f":"SUMIF(BDD!$BG$2:$BG$3,\"Banc 125VRAIFAUX\",BDD!$Z$2:$Z$3)","v":0},{"$f":"SUMIF(BDD!$BG$2:$BG$3,\"Banc 125FAUXVRAI\",BDD!$Z$2:$Z$3)","v":0},{"$f":"SUMIF(BDD!$BG$2:$BG$3,\"Banc 125VRAIFAUX\",BDD!$Z$2:$Z$3)","v":0},{"$f":"SUMIF(BDD!$BG$2:$BG$3,\"Banc 125FAUXVRAI\",BDD!$Z$2:$Z$3)","v":0},{"$f":"SUMIF(BDD!$BG$2:$BG$3,\"Banc 125VRAIFAUX\",BDD!$Z$2:$Z$3)","v":0},{"$f":"SUMIF(BDD!$BG$2:$BG$3,\"Banc 125FAUXVRAI\",BDD!$Z$2:$Z$3)","v":0},{"$f":"SUMIF(BDD!$BG$2:$BG$3,\"Banc 125VRAIFAUX\",BDD!$Z$2:$Z$3)","v":0},{"$f":"SUMIF(BDD!$BG$2:$BG$3,\"Banc 125FAUXVRAI\",BDD!$Z$2:$Z$3)","v":0},{"$f":"SUMIF(BDD!$BG$2:$BG$3,\"Banc 125VRAIFAUX\",BDD!$Z$2:$Z$3)","v":0},{"$f":"SUMIF(BDD!$BG$2:$BG$3,\"Banc 125FAUXVRAI\",BDD!$Z$2:$Z$3)","v":0},{"$f":"SUMIF(BDD!$BG$2:$BG$3,\"Banc 125VRAIFAUX\",BDD!$Z$2:$Z$3)","v":0},{"$f":"SUMIF(BDD!$BG$2:$BG$3,\"Banc 125FAUXVRAI\",BDD!$Z$2:$Z$3)","v":0},{"$f":"SUMIF(BDD!$BG$2:$BG$3,\"Banc 125VRAIFAUX\",BDD!$Z$2:$Z$3)","v":0},{"$f":"SUMIF(BDD!$BG$2:$BG$3,\"Banc 125FAUXVRAI\",BDD!$Z$2:$Z$3)","v":0},{"$f":"SUMIF(BDD!$BG$2:$BG$3,\"Banc 125VRAIFAUX\",BDD!$Z$2:$Z$3)","v":0},{"$f":"SUMIF(BDD!$BG$2:$BG$3,\"Banc 125FAUXVRAI\",BDD!$Z$2:$Z$3)","v":0},{"$f":"SUMIF(BDD!$BG$2:$BG$3,\"Banc 125VRAIFAUX\",BDD!$Z$2:$Z$3)","v":0},{"$f":"SUMIF(BDD!$BG$2:$BG$3,\"Banc 125FAUXVRAI\",BDD!$Z$2:$Z$3)","v":0}]
["Banc 128",{"$f":"SUMIF(BDD!$BG$2:$BG$3,\"Banc 128VRAIFAUX\",BDD!$Z$2:$Z$3)","v":0},{"$f":"SUMIF(BDD!$BG$2:$BG$3,\"Banc 128FAUXVRAI\",BDD!$Z$2:$Z$3)","v":0},{"$f":"SUMIF(BDD!$BG$2:$BG$3,\"Banc 128VRAIFAUX\",BDD!$Z$2:$Z$3)","v":0},{"$f":"SUMIF(BDD!$BG$2:$BG$3,\"Banc 128FAUXVRAI\",BDD!$Z$2:$Z$3)","v":0},{"$f":"SUMIF(BDD!$BG$2:$BG$683,\"Banc 128VRAIFAUX\",BDD!$Z$2:$Z$683)","v":1},{"$f":"SUMIF(BDD!$BG$2:$BG$683,\"Banc 128FAUXVRAI\",BDD!$Z$2:$Z$683)","v":0},{"$f":"SUMIF(BDD!$BG$2:$BG$3,\"Banc 128VRAIFAUX\",BDD!$Z$2:$Z$3)","v":0},{"$f":"SUMIF(BDD!$BG$2:$BG$3,\"Banc 128FAUXVRAI\",BDD!$Z$2:$Z$3)","v":0},{"$f":"SUMIF(BDD!$BG$2:$BG$3,\"Banc 128VRAIFAUX\",BDD!$Z$2:$Z$3)","v":0},{"$f":"SUMIF(BDD!$BG$2:$BG$3,\"Banc 128FAUXVRAI\",BDD!$Z$2:$Z$3)","v":0},{"$f":"SUMIF(BDD!$BG$2:$BG$3,\"Banc 128VRAIFAUX\",BDD!$Z$2:$Z$3)","v":0},{"$f":"SUMIF(BDD!$BG$2:$BG$3,\"Banc 128FAUXVRAI\",BDD!$Z$2:$Z$3)","v":0},{"$f":"SUMIF(BDD!$BG$2:$BG$3,\"Banc 128VRAIFAUX\",BDD!$Z$2:$Z$3)","v":0},{"$f":"SUMIF(BDD!$BG$2:$BG$3,\"Banc 128FAUXVRAI\",BDD!$Z$2:$Z$3)","v":0},{"$f":"SUMIF(BDD!$BG$2:$BG$3,\"Banc 128VRAIFAUX\",BDD!$Z$2:$Z$3)","v":0},{"$f":"SUMIF(BDD!$BG$2:$BG$3,\"Banc 128FAUXVRAI\",BDD!$Z$2:$Z$3)","v":0},{"$f":"SUMIF(BDD!$BG$2:$BG$3,\"Banc 128VRAIFAUX\",BDD!$Z$2:$Z$3)","v":0},{"$f":"SUMIF(BDD!$BG$2:$BG$3,\"Banc 128FAUXVRAI\",BDD!$Z$2:$Z$3)","v":0},{"$f":"SUMIF(BDD!$BG$2:$BG$3,\"Banc 128VRAIFAUX\",BDD!$Z$2:$Z$3)","v":0},{"$f":"SUMIF(BDD!$BG$2:$BG$3,\"Banc 128FAUXVRAI\",BDD!$Z$2:$Z$3)","v":0},{"$f":"SUMIF(BDD!$BG$2:$BG$3,\"Banc 128VRAIFAUX\",BDD!$Z$2:$Z$3)","v":0},{"$f":"SUMIF(BDD!$BG$2:$BG$3,\"Banc 128FAUXVRAI\",BDD!$Z$2:$Z$3)","v":0},{"$f":"SUMIF(BDD!$BG$2:$BG$3,\"Banc 128VRAIFAUX\",BDD!$Z$2:$Z$3)","v":0},{"$f":"SUMIF(BDD!$BG$2:$BG$3,\"Banc 128FAUXVRAI\",BDD!$Z$2:$Z$3)","v":0}]
["Banc 131",{"$f":"SUMIF(BDD!$BG$2:$BG$3,\"Banc 131VRAIFAUX\",BDD!$Z$2:$Z$3)","v":0},{"$f":"SUMIF(BDD!$BG$2:$BG$3,\"Banc 131FAUXVRAI\",BDD!$Z$2:$Z$3)","v":0},{"$f":"SUMIF(BDD!$BG$2:$BG$3,\"Banc 131VRAIFAUX\",BDD!$Z$2:$Z$3)","v":0},{"$f":"SUMIF(BDD!$BG$2:$BG$3,\"Banc 131FAUXVRAI\",BDD!$Z$2:$Z$3)","v":0},{"$f":"SUMIF(BDD!$BG$2:$BG$683,\"Banc 131VRAIFAUX\",BDD!$Z$2:$Z$683)","v":0},{"$f":"SUMIF(BDD!$BG$2:$BG$683,\"Banc 131FAUXvrai\",BDD!$Z$2:$Z$683)","v":0.1},{"$f":"SUMIF(BDD!$BG$2:$BG$3,\"Banc 131VRAIFAUX\",BDD!$Z$2:$Z$3)","v":0},{"$f":"SUMIF(BDD!$BG$2:$BG$3,\"Banc 131FAUXVRAI\",BDD!$Z$2:$Z$3)","v":0},{"$f":"SUMIF(BDD!$BG$2:$BG$3,\"Banc 131VRAIFAUX\",BDD!$Z$2:$Z$3)","v":0},{"$f":"SUMIF(BDD!$BG$2:$BG$3,\"Banc 131FAUXVRAI\",BDD!$Z$2:$Z$3)","v":0},{"$f":"SUMIF(BDD!$BG$2:$BG$3,\"Banc 131VRAIFAUX\",BDD!$Z$2:$Z$3)","v":0},{"$f":"SUMIF(BDD!$BG$2:$BG$3,\"Banc 131FAUXVRAI\",BDD!$Z$2:$Z$3)","v":0},{"$f":"SUMIF(BDD!$BG$2:$BG$3,\"Banc 131VRAIFAUX\",BDD!$Z$2:$Z$3)","v":0},{"$f":"SUMIF(BDD!$BG$2:$BG$3,\"Banc 131FAUXVRAI\",BDD!$Z$2:$Z$3)","v":0},{"$f":"SUMIF(BDD!$BG$2:$BG$3,\"Banc 131VRAIFAUX\",BDD!$Z$2:$Z$3)","v":0},{"$f":"SUMIF(BDD!$BG$2:$BG$3,\"Banc 131FAUXVRAI\",BDD!$Z$2:$Z$3)","v":0},{"$f":"SUMIF(BDD!$BG$2:$BG$3,\"Banc 131VRAIFAUX\",BDD!$Z$2:$Z$3)","v":0},{"$f":"SUMIF(BDD!$BG$2:$BG$3,\"Banc 131FAUXVRAI\",BDD!$Z$2:$Z$3)","v":0},{"$f":"SUMIF(BDD!$BG$2:$BG$3,\"Banc 131VRAIFAUX\",BDD!$Z$2:$Z$3)","v":0},{"$f":"SUMIF(BDD!$BG$2:$BG$3,\"Banc 131FAUXVRAI\",BDD!$Z$2:$Z$3)","v":0},{"$f":"SUMIF(BDD!$BG$2:$BG$3,\"Banc 131VRAIFAUX\",BDD!$Z$2:$Z$3)","v":0},{"$f":"SUMIF(BDD!$BG$2:$BG$3,\"Banc 131FAUXVRAI\",BDD!$Z$2:$Z$3)","v":0},{"$f":"SUMIF(BDD!$BG$2:$BG$3,\"Banc 131VRAIFAUX\",BDD!$Z$2:$Z$3)","v":0},{"$f":"SUMIF(BDD!$BG$2:$BG$3,\"Banc 131FAUXVRAI\",BDD!$Z$2:$Z$3)","v":0}]
[]
[]
[]
[]
[]
[]
[]
[]
[]
[]
[]
[]
[]
[]
[]
[]
[]
[]
[]
[]
[]
[]
[null,"Suivi du correctif et du préventif par banc"]
[null,"Janvier",null,null,null,null,null,"Février",null,null,null,null,null,"Mars",null,null,null,null,null,"Avril",null,null,null,null,null,"Mai",null,null,null,null,null,"Juin",null,null,null,null,null,"Juillet",null,null,null,null,null,"Août",null,null,null,null,null,"Septembre",null,null,null,null,null,"Octobre",null,null,null,null,null,"Novembre",null,null,null,null,null,"Décembre"]
[null,"Corrective",null,null,"Préventive",null,null,"Corrective",null,null,"Préventive",null,null,"Corrective",null,null,"Préventive",null,null,"Corrective",null,null,"Préventive",null,null,"Corrective",null,null,"Préventive",null,null,"Corrective",null,null,"Préventive",null,null,"Corrective",null,null,"Préventive",null,null,"Corrective",null,null,"Préventive",null,null,"Corrective",null,null,"Préventive",null,null,"Corrective",null,null,"Préventive",null,null,"Corrective",null,null,"Préventive",null,null,"Corrective",null,null,"Préventive"]
["Banc zone 10","Electrique","Mécanique","Hydraulique","Electrique","Mécanique","Hydraulique","Electrique","Mécanique","Hydraulique","Electrique","Mécanique","Hydraulique","Electrique","Mécanique","Hydraulique","Electrique","Mécanique","Hydraulique","Electrique","Mécanique","Hydraulique","Electrique","Mécanique","Hydraulique","Electrique","Mécanique","Hydraulique","Electrique","Mécanique","Hydraulique","Electrique","Mécanique","Hydraulique","Electrique","Mécanique","Hydraulique","Electrique","Mécanique","Hydraulique","Electrique","Mécanique","Hydraulique","Electrique","Mécanique","Hydraulique","Electrique","Mécanique","Hydraulique","Electrique","Mécanique","Hydraulique","Electrique","Mécanique","Hydraulique","Electrique","Mécanique","Hydraulique","Electrique","Mécanique","Hydraulique","Electrique","Mécanique","Hydraulique","Electrique","Mécanique","Hydraulique","Electrique","Mécanique","Hydraulique","Electrique","Mécanique","Hydraulique"]
["Banc 007",{"$f":"SUMIF(BDD!$BH$2:$BH$3,\"Banc 131VRAIFAUXVRAIFAUXFAUX\",BDD!$Z$2:$Z$3)","v":0},{"$f":"SUMIF(BDD!$BH$2:$BH$3,\"Banc 131VRAIFAUXFAUXVRAIFAUX\",BDD!$Z$2:$Z$3)","v":0},{"$f":"SUMIF(BDD!$BH$2:$BH$3,\"Banc 131VRAIFAUXFAUXFAUXVRAI\",BDD!$Z$2:$Z$3)","v":0},{"$f":"SUMIF(BDD!$BH$2:$BH$3,\"Banc 131FAUXVRAIVRAIFAUXFAUX\",BDD!$Z$2:$Z$3)","v":0},{"$f":"SUMIF(BDD!$BH$2:$BH$3,\"Banc 131FAUXVRAIFAUXVRAIFAUX\",BDD!$Z$2:$Z$3)","v":0},{"$f":"SUMIF(BDD!$BH$2:$BH$3,\"Banc 131FAUXVRAIFAUXFAUXVRAI\",BDD!$Z$2:$Z$3)","v":0},{"$f":"SUMIF(BDD!$BH$2:$BH$3,\"Banc 131VRAIFAUXVRAIFAUXFAUX\",BDD!$Z$2:$Z$3)","v":0},{"$f":"SUMIF(BDD!$BH$2:$BH$3,\"Banc 131VRAIFAUXFAUXVRAIFAUX\",BDD!$Z$2:$Z$3)","v":0},{"$f":"SUMIF(BDD!$BH$2:$BH$3,\"Banc 131VRAIFAUXFAUXFAUXVRAI\",BDD!$Z$2:$Z$3)","v":0},{"$f":"SUMIF(BDD!$BH$2:$BH$3,\"Banc 131FAUXVRAIVRAIFAUXFAUX\",BDD!$Z$2:$Z$3)","v":0},{"$f":"SUMIF(BDD!$BH$2:$BH$3,\"Banc 131FAUXVRAIFAUXVRAIFAUX\",BDD!$Z$2:$Z$3)","v":0},{"$f":"SUMIF(BDD!$BH$2:$BH$3,\"Banc 131FAUXVRAIFAUXFAUXVRAI\",BDD!$Z$2:$Z$3)","v":0},{"$f":"SUMIF(BDD!$BH$2:$BH$683,\"Banc 131VRAIFAUXVRAIFAUXFAUX\",BDD!$Z$2:$Z$683)","v":0},{"$f":"SUMIF(BDD!$BH$2:$BH$683,\"Banc 131VRAIFAUXFAUXVRAIFAUX\",BDD!$Z$2:$Z$683)","v":0},{"$f":"SUMIF(BDD!$BH$2:$BH$683,\"Banc 131VRAIFAUXFAUXFAUXVRAI\",BDD!$Z$2:$Z$683)","v":0},{"$f":"SUMIF(BDD!$BH$2:$BH$683,\"Banc 131FAUXVRAIVRAIFAUXFAUX\",BDD!$Z$2:$Z$683)","v":0.1},{"$f":"SUMIF(BDD!$BH$2:$BH$683,\"Banc 131FAUXVRAIFAUXVRAIFAUX\",BDD!$Z$2:$Z$683)","v":0},{"$f":"SUMIF(BDD!$BH$2:$BH$683,\"Banc 131FAUXVRAIFAUXFAUXVRAI\",BDD!$Z$2:$Z$683)","v":0},{"$f":"SUMIF(BDD!$BH$2:$BH$3,\"Banc 131VRAIFAUXVRAIFAUXFAUX\",BDD!$Z$2:$Z$3)","v":0},{"$f":"SUMIF(BDD!$BH$2:$BH$3,\"Banc 131VRAIFAUXFAUXVRAIFAUX\",BDD!$Z$2:$Z$3)","v":0},{"$f":"SUMIF(BDD!$BH$2:$BH$3,\"Banc 131VRAIFAUXFAUXFAUXVRAI\",BDD!$Z$2:$Z$3)","v":0},{"$f":"SUMIF(BDD!$BH$2:$BH$3,\"Banc 131FAUXVRAIVRAIFAUXFAUX\",BDD!$Z$2:$Z$3)","v":0},{"$f":"SUMIF(BDD!$BH$2:$BH$3,\"Banc 131FAUXVRAIFAUXVRAIFAUX\",BDD!$Z$2:$Z$3)","v":0},{"$f":"SUMIF(BDD!$BH$2:$BH$3,\"Banc 131FAUXVRAIFAUXFAUXVRAI\",BDD!$Z$2:$Z$3)","v":0},{"$f":"SUMIF(BDD!$BH$2:$BH$3,\"Banc 131VRAIFAUXVRAIFAUXFAUX\",BDD!$Z$2:$Z$3)","v":0},{"$f":"SUMIF(BDD!$BH$2:$BH$3,\"Banc 131VRAIFAUXFAUXVRAIFAUX\",BDD!$Z$2:$Z$3)","v":0},{"$f":"SUMIF(BDD!$BH$2:$BH$3,\"Banc 131VRAIFAUXFAUXFAUXVRAI\",BDD!$Z$2:$Z$3)","v":0},{"$f":"SUMIF(BDD!$BH$2:$BH$3,\"Banc 131FAUXVRAIVRAIFAUXFAUX\",BDD!$Z$2:$Z$3)","v":0},{"$f":"SUMIF(BDD!$BH$2:$BH$3,\"Banc 131FAUXVRAIFAUXVRAIFAUX\",BDD!$Z$2:$Z$3)","v":0},{"$f":"SUMIF(BDD!$BH$2:$BH$3,\"Banc 131FAUXVRAIFAUXFAUXVRAI\",BDD!$Z$2:$Z$3)","v":0},{"$f":"SUMIF(BDD!$BH$2:$BH$3,\"Banc 131VRAIFAUXVRAIFAUXFAUX\",BDD!$Z$2:$Z$3)","v":0},{"$f":"SUMIF(BDD!$BH$2:$BH$3,\"Banc 131VRAIFAUXFAUXVRAIFAUX\",BDD!$Z$2:$Z$3)","v":0},{"$f":"SUMIF(BDD!$BH$2:$BH$3,\"Banc 131VRAIFAUXFAUXFAUXVRAI\",BDD!$Z$2:$Z$3)","v":0},{"$f":"SUMIF(BDD!$BH$2:$BH$3,\"Banc 131FAUXVRAIVRAIFAUXFAUX\",BDD!$Z$2:$Z$3)","v":0},{"$f":"SUMIF(BDD!$BH$2:$BH$3,\"Banc 131FAUXVRAIFAUXVRAIFAUX\",BDD!$Z$2:$Z$3)","v":0},{"$f":"SUMIF(BDD!$BH$2:$BH$3,\"Banc 131FAUXVRAIFAUXFAUXVRAI\",BDD!$Z$2:$Z$3)","v":0},{"$f":"SUMIF(BDD!$BH$2:$BH$3,\"Banc 131VRAIFAUXVRAIFAUXFAUX\",BDD!$Z$2:$Z$3)","v":0},{"$f":"SUMIF(BDD!$BH$2:$BH$3,\"Banc 131VRAIFAUXFAUXVRAIFAUX\",BDD!$Z$2:$Z$3)","v":0},{"$f":"SUMIF(BDD!$BH$2:$BH$3,\"Banc 131VRAIFAUXFAUXFAUXVRAI\",BDD!$Z$2:$Z$3)","v":0},{"$f":"SUMIF(BDD!$BH$2:$BH$3,\"Banc 131FAUXVRAIVRAIFAUXFAUX\",BDD!$Z$2:$Z$3)","v":0},{"$f":"SUMIF(BDD!$BH$2:$BH$3,\"Banc 131FAUXVRAIFAUXVRAIFAUX\",BDD!$Z$2:$Z$3)","v":0},{"$f":"SUMIF(BDD!$BH$2:$BH$3,\"Banc 131FAUXVRAIFAUXFAUXVRAI\",BDD!$Z$2:$Z$3)","v":0},{"$f":"SUMIF(BDD!$BH$2:$BH$3,\"Banc 131VRAIFAUXVRAIFAUXFAUX\",BDD!$Z$2:$Z$3)","v":0},{"$f":"SUMIF(BDD!$BH$2:$BH$3,\"Banc 131VRAIFAUXFAUXVRAIFAUX\",BDD!$Z$2:$Z$3)","v":0},{"$f":"SUMIF(BDD!$BH$2:$BH$3,\"Banc 131VRAIFAUXFAUXFAUXVRAI\",BDD!$Z$2:$Z$3)","v":0},{"$f":"SUMIF(BDD!$BH$2:$BH$3,\"Banc 131FAUXVRAIVRAIFAUXFAUX\",BDD!$Z$2:$Z$3)","v":0},{"$f":"SUMIF(BDD!$BH$2:$BH$3,\"Banc 131FAUXVRAIFAUXVRAIFAUX\",BDD!$Z$2:$Z$3)","v":0},{"$f":"SUMIF(BDD!$BH$2:$BH$3,\"Banc 131FAUXVRAIFAUXFAUXVRAI\",BDD!$Z$2:$Z$3)","v":0},{"$f":"SUMIF(BDD!$BH$2:$BH$3,\"Banc 131VRAIFAUXVRAIFAUXFAUX\",BDD!$Z$2:$Z$3)","v":0},{"$f":"SUMIF(BDD!$BH$2:$BH$3,\"Banc 131VRAIFAUXFAUXVRAIFAUX\",BDD!$Z$2:$Z$3)","v":0},{"$f":"SUMIF(BDD!$BH$2:$BH$3,\"Banc 131VRAIFAUXFAUXFAUXVRAI\",BDD!$Z$2:$Z$3)","v":0},{"$f":"SUMIF(BDD!$BH$2:$BH$3,\"Banc 131FAUXVRAIVRAIFAUXFAUX\",BDD!$Z$2:$Z$3)","v":0},{"$f":"SUMIF(BDD!$BH$2:$BH$3,\"Banc 131FAUXVRAIFAUXVRAIFAUX\",BDD!$Z$2:$Z$3)","v":0},{"$f":"SUMIF(BDD!$BH$2:$BH$3,\"Banc 131FAUXVRAIFAUXFAUXVRAI\",BDD!$Z$2:$Z$3)","v":0},{"$f":"SUMIF(BDD!$BH$2:$BH$3,\"Banc 131VRAIFAUXVRAIFAUXFAUX\",BDD!$Z$2:$Z$3)","v":0},{"$f":"SUMIF(BDD!$BH$2:$BH$3,\"Banc 131VRAIFAUXFAUXVRAIFAUX\",BDD!$Z$2:$Z$3)","v":0},{"$f":"SUMIF(BDD!$BH$2:$BH$3,\"Banc 131VRAIFAUXFAUXFAUXVRAI\",BDD!$Z$2:$Z$3)","v":0},{"$f":"SUMIF(BDD!$BH$2:$BH$3,\"Banc 131FAUXVRAIVRAIFAUXFAUX\",BDD!$Z$2:$Z$3)","v":0},{"$f":"SUMIF(BDD!$BH$2:$BH$3,\"Banc 131FAUXVRAIFAUXVRAIFAUX\",BDD!$Z$2:$Z$3)","v":0},{"$f":"SUMIF(BDD!$BH$2:$BH$3,\"Banc 131FAUXVRAIFAUXFAUXVRAI\",BDD!$Z$2:$Z$3)","v":0},{"$f":"SUMIF(BDD!$BH$2:$BH$3,\"Banc 131VRAIFAUXVRAIFAUXFAUX\",BDD!$Z$2:$Z$3)","v":0},{"$f":"SUMIF(BDD!$BH$2:$BH$3,\"Banc 131VRAIFAUXFAUXVRAIFAUX\",BDD!$Z$2:$Z$3)","v":0},{"$f":"SUMIF(BDD!$BH$2:$BH$3,\"Banc 131VRAIFAUXFAUXFAUXVRAI\",BDD!$Z$2:$Z$3)","v":0},{"$f":"SUMIF(BDD!$BH$2:$BH$3,\"Banc 131FAUXVRAIVRAIFAUXFAUX\",BDD!$Z$2:$Z$3)","v":0},{"$f":"SUMIF(BDD!$BH$2:$BH$3,\"Banc 131FAUXVRAIFAUXVRAIFAUX\",BDD!$Z$2:$Z$3)","v":0},{"$f":"SUMIF(BDD!$BH$2:$BH$3,\"Banc 131FAUXVRAIFAUXFAUXVRAI\",BDD!$Z$2:$Z$3)","v":0},{"$f":"SUMIF(BDD!$BH$2:$BH$3,\"Banc 131VRAIFAUXVRAIFAUXFAUX\",BDD!$Z$2:$Z$3)","v":0},{"$f":"SUMIF(BDD!$BH$2:$BH$3,\"Banc 131VRAIFAUXFAUXVRAIFAUX\",BDD!$Z$2:$Z$3)","v":0},{"$f":"SUMIF(BDD!$BH$2:$BH$3,\"Banc 131VRAIFAUXFAUXFAUXVRAI\",BDD!$Z$2:$Z$3)","v":0},{"$f":"SUMIF(BDD!$BH$2:$BH$3,\"Banc 131FAUXVRAIVRAIFAUXFAUX\",BDD!$Z$2:$Z$3)","v":0},{"$f":"SUMIF(BDD!$BH$2:$BH$3,\"Banc 131FAUXVRAIFAUXVRAIFAUX\",BDD!$Z$2:$Z$3)","v":0},{"$f":"SUMIF(BDD!$BH$2:$BH$3,\"Banc 131FAUXVRAIFAUXFAUXVRAI\",BDD!$Z$2:$Z$3)","v":0}]
["Banc 008",{"$f":"SUMIF(BDD!$BH$2:$BH$3,\"Banc 008VRAIFAUXVRAIFAUXFAUX\",BDD!$Z$2:$Z$3)","v":0},{"$f":"SUMIF(BDD!$BH$2:$BH$3,\"Banc 008VRAIFAUXFAUXVRAIFAUX\",BDD!$Z$2:$Z$3)","v":0},{"$f":"SUMIF(BDD!$BH$2:$BH$3,\"Banc 008VRAIFAUXFAUXFAUXVRAI\",BDD!$Z$2:$Z$3)","v":0},{"$f":"SUMIF(BDD!$BH$2:$BH$3,\"Banc 008FAUXVRAIVRAIFAUXFAUX\",BDD!$Z$2:$Z$3)","v":0},{"$f":"SUMIF(BDD!$BH$2:$BH$3,\"Banc 008FAUXVRAIFAUXVRAIFAUX\",BDD!$Z$2:$Z$3)","v":0},{"$f":"SUMIF(BDD!$BH$2:$BH$3,\"Banc 008FAUXVRAIFAUXFAUXVRAI\",BDD!$Z$2:$Z$3)","v":0},{"$f":"SUMIF(BDD!$BH$2:$BH$3,\"Banc 008VRAIFAUXVRAIFAUXFAUX\",BDD!$Z$2:$Z$3)","v":0},{"$f":"SUMIF(BDD!$BH$2:$BH$3,\"Banc 008VRAIFAUXFAUXVRAIFAUX\",BDD!$Z$2:$Z$3)","v":0},{"$f":"SUMIF(BDD!$BH$2:$BH$3,\"Banc 008VRAIFAUXFAUXFAUXVRAI\",BDD!$Z$2:$Z$3)","v":0},{"$f":"SUMIF(BDD!$BH$2:$BH$3,\"Banc 008FAUXVRAIVRAIFAUXFAUX\",BDD!$Z$2:$Z$3)","v":0},{"$f":"SUMIF(BDD!$BH$2:$BH$3,\"Banc 008FAUXVRAIFAUXVRAIFAUX\",BDD!$Z$2:$Z$3)","v":0},{"$f":"SUMIF(BDD!$BH$2:$BH$3,\"Banc 008FAUXVRAIFAUXFAUXVRAI\",BDD!$Z$2:$Z$3)","v":0},{"$f":"SUMIF(BDD!$BH$2:$BH$683,\"Banc 008VRAIFAUXVRAIFAUXFAUX\",BDD!$Z$2:$Z$683)","v":0.1},{"$f":"SUMIF(BDD!$BH$2:$BH$683,\"Banc 008VRAIFAUXFAUXVRAIFAUX\",BDD!$Z$2:$Z$683)","v":0},{"$f":"SUMIF(BDD!$BH$2:$BH$683,\"Banc 008VRAIFAUXFAUXFAUXVRAI\",BDD!$Z$2:$Z$683)","v":0},{"$f":"SUMIF(BDD!$BH$2:$BH$683,\"Banc 008FAUXVRAIVRAIFAUXFAUX\",BDD!$Z$2:$Z$683)","v":0},{"$f":"SUMIF(BDD!$BH$2:$BH$683,\"Banc 008FAUXVRAIFAUXVRAIFAUX\",BDD!$Z$2:$Z$683)","v":0},{"$f":"SUMIF(BDD!$BH$2:$BH$683,\"Banc 008FAUXVRAIFAUXFAUXVRAI\",BDD!$Z$2:$Z$683)","v":0},{"$f":"SUMIF(BDD!$BH$2:$BH$3,\"Banc 008VRAIFAUXVRAIFAUXFAUX\",BDD!$Z$2:$Z$3)","v":0},{"$f":"SUMIF(BDD!$BH$2:$BH$3,\"Banc 008VRAIFAUXFAUXVRAIFAUX\",BDD!$Z$2:$Z$3)","v":0},{"$f":"SUMIF(BDD!$BH$2:$BH$3,\"Banc 008VRAIFAUXFAUXFAUXVRAI\",BDD!$Z$2:$Z$3)","v":0},{"$f":"SUMIF(BDD!$BH$2:$BH$3,\"Banc 008FAUXVRAIVRAIFAUXFAUX\",BDD!$Z$2:$Z$3)","v":0},{"$f":"SUMIF(BDD!$BH$2:$BH$3,\"Banc 008FAUXVRAIFAUXVRAIFAUX\",BDD!$Z$2:$Z$3)","v":0},{"$f":"SUMIF(BDD!$BH$2:$BH$3,\"Banc 008FAUXVRAIFAUXFAUXVRAI\",BDD!$Z$2:$Z$3)","v":0},{"$f":"SUMIF(BDD!$BH$2:$BH$3,\"Banc 008VRAIFAUXVRAIFAUXFAUX\",BDD!$Z$2:$Z$3)","v":0},{"$f":"SUMIF(BDD!$BH$2:$BH$3,\"Banc 008VRAIFAUXFAUXVRAIFAUX\",BDD!$Z$2:$Z$3)","v":0},{"$f":"SUMIF(BDD!$BH$2:$BH$3,\"Banc 008VRAIFAUXFAUXFAUXVRAI\",BDD!$Z$2:$Z$3)","v":0},{"$f":"SUMIF(BDD!$BH$2:$BH$3,\"Banc 008FAUXVRAIVRAIFAUXFAUX\",BDD!$Z$2:$Z$3)","v":0},{"$f":"SUMIF(BDD!$BH$2:$BH$3,\"Banc 008FAUXVRAIFAUXVRAIFAUX\",BDD!$Z$2:$Z$3)","v":0},{"$f":"SUMIF(BDD!$BH$2:$BH$3,\"Banc 008FAUXVRAIFAUXFAUXVRAI\",BDD!$Z$2:$Z$3)","v":0},{"$f":"SUMIF(BDD!$BH$2:$BH$3,\"Banc 008VRAIFAUXVRAIFAUXFAUX\",BDD!$Z$2:$Z$3)","v":0},{"$f":"SUMIF(BDD!$BH$2:$BH$3,\"Banc 008VRAIFAUXFAUXVRAIFAUX\",BDD!$Z$2:$Z$3)","v":0},{"$f":"SUMIF(BDD!$BH$2:$BH$3,\"Banc 008VRAIFAUXFAUXFAUXVRAI\",BDD!$Z$2:$Z$3)","v":0},{"$f":"SUMIF(BDD!$BH$2:$BH$3,\"Banc 008FAUXVRAIVRAIFAUXFAUX\",BDD!$Z$2:$Z$3)","v":0},{"$f":"SUMIF(BDD!$BH$2:$BH$3,\"Banc 008FAUXVRAIFAUXVRAIFAUX\",BDD!$Z$2:$Z$3)","v":0},{"$f":"SUMIF(BDD!$BH$2:$BH$3,\"Banc 008FAUXVRAIFAUXFAUXVRAI\",BDD!$Z$2:$Z$3)","v":0},{"$f":"SUMIF(BDD!$BH$2:$BH$3,\"Banc 008VRAIFAUXVRAIFAUXFAUX\",BDD!$Z$2:$Z$3)","v":0},{"$f":"SUMIF(BDD!$BH$2:$BH$3,\"Banc 008VRAIFAUXFAUXVRAIFAUX\",BDD!$Z$2:$Z$3)","v":0},{"$f":"SUMIF(BDD!$BH$2:$BH$3,\"Banc 008VRAIFAUXFAUXFAUXVRAI\",BDD!$Z$2:$Z$3)","v":0},{"$f":"SUMIF(BDD!$BH$2:$BH$3,\"Banc 008FAUXVRAIVRAIFAUXFAUX\",BDD!$Z$2:$Z$3)","v":0},{"$f":"SUMIF(BDD!$BH$2:$BH$3,\"Banc 008FAUXVRAIFAUXVRAIFAUX\",BDD!$Z$2:$Z$3)","v":0},{"$f":"SUMIF(BDD!$BH$2:$BH$3,\"Banc 008FAUXVRAIFAUXFAUXVRAI\",BDD!$Z$2:$Z$3)","v":0},{"$f":"SUMIF(BDD!$BH$2:$BH$3,\"Banc 008VRAIFAUXVRAIFAUXFAUX\",BDD!$Z$2:$Z$3)","v":0},{"$f":"SUMIF(BDD!$BH$2:$BH$3,\"Banc 008VRAIFAUXFAUXVRAIFAUX\",BDD!$Z$2:$Z$3)","v":0},{"$f":"SUMIF(BDD!$BH$2:$BH$3,\"Banc 008VRAIFAUXFAUXFAUXVRAI\",BDD!$Z$2:$Z$3)","v":0},{"$f":"SUMIF(BDD!$BH$2:$BH$3,\"Banc 008FAUXVRAIVRAIFAUXFAUX\",BDD!$Z$2:$Z$3)","v":0},{"$f":"SUMIF(BDD!$BH$2:$BH$3,\"Banc 008FAUXVRAIFAUXVRAIFAUX\",BDD!$Z$2:$Z$3)","v":0},{"$f":"SUMIF(BDD!$BH$2:$BH$3,\"Banc 008FAUXVRAIFAUXFAUXVRAI\",BDD!$Z$2:$Z$3)","v":0},{"$f":"SUMIF(BDD!$BH$2:$BH$3,\"Banc 008VRAIFAUXVRAIFAUXFAUX\",BDD!$Z$2:$Z$3)","v":0},{"$f":"SUMIF(BDD!$BH$2:$BH$3,\"Banc 008VRAIFAUXFAUXVRAIFAUX\",BDD!$Z$2:$Z$3)","v":0},{"$f":"SUMIF(BDD!$BH$2:$BH$3,\"Banc 008VRAIFAUXFAUXFAUXVRAI\",BDD!$Z$2:$Z$3)","v":0},{"$f":"SUMIF(BDD!$BH$2:$BH$3,\"Banc 008FAUXVRAIVRAIFAUXFAUX\",BDD!$Z$2:$Z$3)","v":0},{"$f":"SUMIF(BDD!$BH$2:$BH$3,\"Banc 008FAUXVRAIFAUXVRAIFAUX\",BDD!$Z$2:$Z$3)","v":0},{"$f":"SUMIF(BDD!$BH$2:$BH$3,\"Banc 008FAUXVRAIFAUXFAUXVRAI\",BDD!$Z$2:$Z$3)","v":0},{"$f":"SUMIF(BDD!$BH$2:$BH$3,\"Banc 008VRAIFAUXVRAIFAUXFAUX\",BDD!$Z$2:$Z$3)","v":0},{"$f":"SUMIF(BDD!$BH$2:$BH$3,\"Banc 008VRAIFAUXFAUXVRAIFAUX\",BDD!$Z$2:$Z$3)","v":0},{"$f":"SUMIF(BDD!$BH$2:$BH$3,\"Banc 008VRAIFAUXFAUXFAUXVRAI\",BDD!$Z$2:$Z$3)","v":0},{"$f":"SUMIF(BDD!$BH$2:$BH$3,\"Banc 008FAUXVRAIVRAIFAUXFAUX\",BDD!$Z$2:$Z$3)","v":0},{"$f":"SUMIF(BDD!$BH$2:$BH$3,\"Banc 008FAUXVRAIFAUXVRAIFAUX\",BDD!$Z$2:$Z$3)","v":0},{"$f":"SUMIF(BDD!$BH$2:$BH$3,\"Banc 008FAUXVRAIFAUXFAUXVRAI\",BDD!$Z$2:$Z$3)","v":0},{"$f":"SUMIF(BDD!$BH$2:$BH$3,\"Banc 008VRAIFAUXVRAIFAUXFAUX\",BDD!$Z$2:$Z$3)","v":0},{"$f":"SUMIF(BDD!$BH$2:$BH$3,\"Banc 008VRAIFAUXFAUXVRAIFAUX\",BDD!$Z$2:$Z$3)","v":0},{"$f":"SUMIF(BDD!$BH$2:$BH$3,\"Banc 008VRAIFAUXFAUXFAUXVRAI\",BDD!$Z$2:$Z$3)","v":0},{"$f":"SUMIF(BDD!$BH$2:$BH$3,\"Banc 008FAUXVRAIVRAIFAUXFAUX\",BDD!$Z$2:$Z$3)","v":0},{"$f":"SUMIF(BDD!$BH$2:$BH$3,\"Banc 008FAUXVRAIFAUXVRAIFAUX\",BDD!$Z$2:$Z$3)","v":0},{"$f":"SUMIF(BDD!$BH$2:$BH$3,\"Banc 008FAUXVRAIFAUXFAUXVRAI\",BDD!$Z$2:$Z$3)","v":0},{"$f":"SUMIF(BDD!$BH$2:$BH$3,\"Banc 008VRAIFAUXVRAIFAUXFAUX\",BDD!$Z$2:$Z$3)","v":0},{"$f":"SUMIF(BDD!$BH$2:$BH$3,\"Banc 008VRAIFAUXFAUXVRAIFAUX\",BDD!$Z$2:$Z$3)","v":0},{"$f":"SUMIF(BDD!$BH$2:$BH$3,\"Banc 008VRAIFAUXFAUXFAUXVRAI\",BDD!$Z$2:$Z$3)","v":0},{"$f":"SUMIF(BDD!$BH$2:$BH$3,\"Banc 008FAUXVRAIVRAIFAUXFAUX\",BDD!$Z$2:$Z$3)","v":0},{"$f":"SUMIF(BDD!$BH$2:$BH$3,\"Banc 008FAUXVRAIFAUXVRAIFAUX\",BDD!$Z$2:$Z$3)","v":0},{"$f":"SUMIF(BDD!$BH$2:$BH$3,\"Banc 008FAUXVRAIFAUXFAUXVRAI\",BDD!$Z$2:$Z$3)","v":0}]
["Banc 113",{"$f":"SUMIF(BDD!$BH$2:$BH$3,\"Banc 113VRAIFAUXVRAIFAUXFAUX\",BDD!$Z$2:$Z$3)","v":0},{"$f":"SUMIF(BDD!$BH$2:$BH$3,\"Banc 113VRAIFAUXFAUXVRAIFAUX\",BDD!$Z$2:$Z$3)","v":0},{"$f":"SUMIF(BDD!$BH$2:$BH$3,\"Banc 113VRAIFAUXFAUXFAUXVRAI\",BDD!$Z$2:$Z$3)","v":0},{"$f":"SUMIF(BDD!$BH$2:$BH$3,\"Banc 113FAUXVRAIVRAIFAUXFAUX\",BDD!$Z$2:$Z$3)","v":0},{"$f":"SUMIF(BDD!$BH$2:$BH$3,\"Banc 113FAUXVRAIFAUXVRAIFAUX\",BDD!$Z$2:$Z$3)","v":0},{"$f":"SUMIF(BDD!$BH$2:$BH$3,\"Banc 113FAUXVRAIFAUXFAUXVRAI\",BDD!$Z$2:$Z$3)","v":0},{"$f":"SUMIF(BDD!$BH$2:$BH$3,\"Banc 113VRAIFAUXVRAIFAUXFAUX\",BDD!$Z$2:$Z$3)","v":0},{"$f":"SUMIF(BDD!$BH$2:$BH$3,\"Banc 113VRAIFAUXFAUXVRAIFAUX\",BDD!$Z$2:$Z$3)","v":0},{"$f":"SUMIF(BDD!$BH$2:$BH$3,\"Banc 113VRAIFAUXFAUXFAUXVRAI\",BDD!$Z$2:$Z$3)","v":0},{"$f":"SUMIF(BDD!$BH$2:$BH$3,\"Banc 113FAUXVRAIVRAIFAUXFAUX\",BDD!$Z$2:$Z$3)","v":0},{"$f":"SUMIF(BDD!$BH$2:$BH$3,\"Banc 113FAUXVRAIFAUXVRAIFAUX\",BDD!$Z$2:$Z$3)","v":0},{"$f":"SUMIF(BDD!$BH$2:$BH$3,\"Banc 113FAUXVRAIFAUXFAUXVRAI\",BDD!$Z$2:$Z$3)","v":0},{"$f":"SUMIF(BDD!$BH$2:$BH$683,\"Banc 113VRAIFAUXVRAIFAUXFAUX\",BDD!$Z$2:$Z$683)","v":0},{"$f":"SUMIF(BDD!$BH$2:$BH$683,\"Banc 113VRAIFAUXFAUXVRAIFAUX\",BDD!$Z$2:$Z$683)","v":0},{"$f":"SUMIF(BDD!$BH$2:$BH$683,\"Banc 113VRAIFAUXFAUXFAUXVRAI\",BDD!$Z$2:$Z$683)","v":0},{"$f":"SUMIF(BDD!$BH$2:$BH$683,\"Banc 113FAUXVRAIVRAIFAUXFAUX\",BDD!$Z$2:$Z$683)","v":0},{"$f":"SUMIF(BDD!$BH$2:$BH$683,\"Banc 113FAUXVRAIFAUXVRAIFAUX\",BDD!$Z$2:$Z$683)","v":0},{"$f":"SUMIF(BDD!$BH$2:$BH$683,\"Banc 113FAUXVRAIFAUXFAUXVRAI\",BDD!$Z$2:$Z$683)","v":0.05},{"$f":"SUMIF(BDD!$BH$2:$BH$3,\"Banc 113VRAIFAUXVRAIFAUXFAUX\",BDD!$Z$2:$Z$3)","v":0},{"$f":"SUMIF(BDD!$BH$2:$BH$3,\"Banc 113VRAIFAUXFAUXVRAIFAUX\",BDD!$Z$2:$Z$3)","v":0},{"$f":"SUMIF(BDD!$BH$2:$BH$3,\"Banc 113VRAIFAUXFAUXFAUXVRAI\",BDD!$Z$2:$Z$3)","v":0},{"$f":"SUMIF(BDD!$BH$2:$BH$3,\"Banc 113FAUXVRAIVRAIFAUXFAUX\",BDD!$Z$2:$Z$3)","v":0},{"$f":"SUMIF(BDD!$BH$2:$BH$3,\"Banc 113FAUXVRAIFAUXVRAIFAUX\",BDD!$Z$2:$Z$3)","v":0},{"$f":"SUMIF(BDD!$BH$2:$BH$3,\"Banc 113FAUXVRAIFAUXFAUXVRAI\",BDD!$Z$2:$Z$3)","v":0},{"$f":"SUMIF(BDD!$BH$2:$BH$3,\"Banc 113VRAIFAUXVRAIFAUXFAUX\",BDD!$Z$2:$Z$3)","v":0},{"$f":"SUMIF(BDD!$BH$2:$BH$3,\"Banc 113VRAIFAUXFAUXVRAIFAUX\",BDD!$Z$2:$Z$3)","v":0},{"$f":"SUMIF(BDD!$BH$2:$BH$3,\"Banc 113VRAIFAUXFAUXFAUXVRAI\",BDD!$Z$2:$Z$3)","v":0},{"$f":"SUMIF(BDD!$BH$2:$BH$3,\"Banc 113FAUXVRAIVRAIFAUXFAUX\",BDD!$Z$2:$Z$3)","v":0},{"$f":"SUMIF(BDD!$BH$2:$BH$3,\"Banc 113FAUXVRAIFAUXVRAIFAUX\",BDD!$Z$2:$Z$3)","v":0},{"$f":"SUMIF(BDD!$BH$2:$BH$3,\"Banc 113FAUXVRAIFAUXFAUXVRAI\",BDD!$Z$2:$Z$3)","v":0},{"$f":"SUMIF(BDD!$BH$2:$BH$3,\"Banc 113VRAIFAUXVRAIFAUXFAUX\",BDD!$Z$2:$Z$3)","v":0},{"$f":"SUMIF(BDD!$BH$2:$BH$3,\"Banc 113VRAIFAUXFAUXVRAIFAUX\",BDD!$Z$2:$Z$3)","v":0},{"$f":"SUMIF(BDD!$BH$2:$BH$3,\"Banc 113VRAIFAUXFAUXFAUXVRAI\",BDD!$Z$2:$Z$3)","v":0},{"$f":"SUMIF(BDD!$BH$2:$BH$3,\"Banc 113FAUXVRAIVRAIFAUXFAUX\",BDD!$Z$2:$Z$3)","v":0},{"$f":"SUMIF(BDD!$BH$2:$BH$3,\"Banc 113FAUXVRAIFAUXVRAIFAUX\",BDD!$Z$2:$Z$3)","v":0},{"$f":"SUMIF(BDD!$BH$2:$BH$3,\"Banc 113FAUXVRAIFAUXFAUXVRAI\",BDD!$Z$2:$Z$3)","v":0},{"$f":"SUMIF(BDD!$BH$2:$BH$3,\"Banc 113VRAIFAUXVRAIFAUXFAUX\",BDD!$Z$2:$Z$3)","v":0},{"$f":"SUMIF(BDD!$BH$2:$BH$3,\"Banc 113VRAIFAUXFAUXVRAIFAUX\",BDD!$Z$2:$Z$3)","v":0},{"$f":"SUMIF(BDD!$BH$2:$BH$3,\"Banc 113VRAIFAUXFAUXFAUXVRAI\",BDD!$Z$2:$Z$3)","v":0},{"$f":"SUMIF(BDD!$BH$2:$BH$3,\"Banc 113FAUXVRAIVRAIFAUXFAUX\",BDD!$Z$2:$Z$3)","v":0},{"$f":"SUMIF(BDD!$BH$2:$BH$3,\"Banc 113FAUXVRAIFAUXVRAIFAUX\",BDD!$Z$2:$Z$3)","v":0},{"$f":"SUMIF(BDD!$BH$2:$BH$3,\"Banc 113FAUXVRAIFAUXFAUXVRAI\",BDD!$Z$2:$Z$3)","v":0},{"$f":"SUMIF(BDD!$BH$2:$BH$3,\"Banc 113VRAIFAUXVRAIFAUXFAUX\",BDD!$Z$2:$Z$3)","v":0},{"$f":"SUMIF(BDD!$BH$2:$BH$3,\"Banc 113VRAIFAUXFAUXVRAIFAUX\",BDD!$Z$2:$Z$3)","v":0},{"$f":"SUMIF(BDD!$BH$2:$BH$3,\"Banc 113VRAIFAUXFAUXFAUXVRAI\",BDD!$Z$2:$Z$3)","v":0},{"$f":"SUMIF(BDD!$BH$2:$BH$3,\"Banc 113FAUXVRAIVRAIFAUXFAUX\",BDD!$Z$2:$Z$3)","v":0},{"$f":"SUMIF(BDD!$BH$2:$BH$3,\"Banc 113FAUXVRAIFAUXVRAIFAUX\",BDD!$Z$2:$Z$3)","v":0},{"$f":"SUMIF(BDD!$BH$2:$BH$3,\"Banc 113FAUXVRAIFAUXFAUXVRAI\",BDD!$Z$2:$Z$3)","v":0},{"$f":"SUMIF(BDD!$BH$2:$BH$3,\"Banc 113VRAIFAUXVRAIFAUXFAUX\",BDD!$Z$2:$Z$3)","v":0},{"$f":"SUMIF(BDD!$BH$2:$BH$3,\"Banc 113VRAIFAUXFAUXVRAIFAUX\",BDD!$Z$2:$Z$3)","v":0},{"$f":"SUMIF(BDD!$BH$2:$BH$3,\"Banc 113VRAIFAUXFAUXFAUXVRAI\",BDD!$Z$2:$Z$3)","v":0},{"$f":"SUMIF(BDD!$BH$2:$BH$3,\"Banc 113FAUXVRAIVRAIFAUXFAUX\",BDD!$Z$2:$Z$3)","v":0},{"$f":"SUMIF(BDD!$BH$2:$BH$3,\"Banc 113FAUXVRAIFAUXVRAIFAUX\",BDD!$Z$2:$Z$3)","v":0},{"$f":"SUMIF(BDD!$BH$2:$BH$3,\"Banc 113FAUXVRAIFAUXFAUXVRAI\",BDD!$Z$2:$Z$3)","v":0},{"$f":"SUMIF(BDD!$BH$2:$BH$3,\"Banc 113VRAIFAUXVRAIFAUXFAUX\",BDD!$Z$2:$Z$3)","v":0},{"$f":"SUMIF(BDD!$BH$2:$BH$3,\"Banc 113VRAIFAUXFAUXVRAIFAUX\",BDD!$Z$2:$Z$3)","v":0},{"$f":"SUMIF(BDD!$BH$2:$BH$3,\"Banc 113VRAIFAUXFAUXFAUXVRAI\",BDD!$Z$2:$Z$3)","v":0},{"$f":"SUMIF(BDD!$BH$2:$BH$3,\"Banc 113FAUXVRAIVRAIFAUXFAUX\",BDD!$Z$2:$Z$3)","v":0},{"$f":"SUMIF(BDD!$BH$2:$BH$3,\"Banc 113FAUXVRAIFAUXVRAIFAUX\",BDD!$Z$2:$Z$3)","v":0},{"$f":"SUMIF(BDD!$BH$2:$BH$3,\"Banc 113FAUXVRAIFAUXFAUXVRAI\",BDD!$Z$2:$Z$3)","v":0},{"$f":"SUMIF(BDD!$BH$2:$BH$3,\"Banc 113VRAIFAUXVRAIFAUXFAUX\",BDD!$Z$2:$Z$3)","v":0},{"$f":"SUMIF(BDD!$BH$2:$BH$3,\"Banc 113VRAIFAUXFAUXVRAIFAUX\",BDD!$Z$2:$Z$3)","v":0},{"$f":"SUMIF(BDD!$BH$2:$BH$3,\"Banc 113VRAIFAUXFAUXFAUXVRAI\",BDD!$Z$2:$Z$3)","v":0},{"$f":"SUMIF(BDD!$BH$2:$BH$3,\"Banc 113FAUXVRAIVRAIFAUXFAUX\",BDD!$Z$2:$Z$3)","v":0},{"$f":"SUMIF(BDD!$BH$2:$BH$3,\"Banc 113FAUXVRAIFAUXVRAIFAUX\",BDD!$Z$2:$Z$3)","v":0},{"$f":"SUMIF(BDD!$BH$2:$BH$3,\"Banc 113FAUXVRAIFAUXFAUXVRAI\",BDD!$Z$2:$Z$3)","v":0},{"$f":"SUMIF(BDD!$BH$2:$BH$3,\"Banc 113VRAIFAUXVRAIFAUXFAUX\",BDD!$Z$2:$Z$3)","v":0},{"$f":"SUMIF(BDD!$BH$2:$BH$3,\"Banc 113VRAIFAUXFAUXVRAIFAUX\",BDD!$Z$2:$Z$3)","v":0},{"$f":"SUMIF(BDD!$BH$2:$BH$3,\"Banc 113VRAIFAUXFAUXFAUXVRAI\",BDD!$Z$2:$Z$3)","v":0},{"$f":"SUMIF(BDD!$BH$2:$BH$3,\"Banc 113FAUXVRAIVRAIFAUXFAUX\",BDD!$Z$2:$Z$3)","v":0},{"$f":"SUMIF(BDD!$BH$2:$BH$3,\"Banc 113FAUXVRAIFAUXVRAIFAUX\",BDD!$Z$2:$Z$3)","v":0},{"$f":"SUMIF(BDD!$BH$2:$BH$3,\"Banc 113FAUXVRAIFAUXFAUXVRAI\",BDD!$Z$2:$Z$3)","v":0}]
["Banc 115",{"$f":"SUMIF(BDD!$BH$2:$BH$3,\"Banc 115VRAIFAUXVRAIFAUXFAUX\",BDD!$Z$2:$Z$3)","v":0},{"$f":"SUMIF(BDD!$BH$2:$BH$3,\"Banc 115VRAIFAUXFAUXVRAIFAUX\",BDD!$Z$2:$Z$3)","v":0},{"$f":"SUMIF(BDD!$BH$2:$BH$3,\"Banc 115VRAIFAUXFAUXFAUXVRAI\",BDD!$Z$2:$Z$3)","v":0},{"$f":"SUMIF(BDD!$BH$2:$BH$3,\"Banc 115FAUXVRAIVRAIFAUXFAUX\",BDD!$Z$2:$Z$3)","v":0},{"$f":"SUMIF(BDD!$BH$2:$BH$3,\"Banc 115FAUXVRAIFAUXVRAIFAUX\",BDD!$Z$2:$Z$3)","v":0},{"$f":"SUMIF(BDD!$BH$2:$BH$3,\"Banc 115FAUXVRAIFAUXFAUXVRAI\",BDD!$Z$2:$Z$3)","v":0},{"$f":"SUMIF(BDD!$BH$2:$BH$3,\"Banc 115VRAIFAUXVRAIFAUXFAUX\",BDD!$Z$2:$Z$3)","v":0},{"$f":"SUMIF(BDD!$BH$2:$BH$3,\"Banc 115VRAIFAUXFAUXVRAIFAUX\",BDD!$Z$2:$Z$3)","v":0},{"$f":"SUMIF(BDD!$BH$2:$BH$3,\"Banc 115VRAIFAUXFAUXFAUXVRAI\",BDD!$Z$2:$Z$3)","v":0},{"$f":"SUMIF(BDD!$BH$2:$BH$3,\"Banc 115FAUXVRAIVRAIFAUXFAUX\",BDD!$Z$2:$Z$3)","v":0},{"$f":"SUMIF(BDD!$BH$2:$BH$3,\"Banc 115FAUXVRAIFAUXVRAIFAUX\",BDD!$Z$2:$Z$3)","v":0},{"$f":"SUMIF(BDD!$BH$2:$BH$3,\"Banc 115FAUXVRAIFAUXFAUXVRAI\",BDD!$Z$2:$Z$3)","v":0},{"$f":"SUMIF(BDD!$BH$2:$BH$683,\"Banc 115VRAIFAUXVRAIFAUXFAUX\",BDD!$Z$2:$Z$683)","v":0},{"$f":"SUMIF(BDD!$BH$2:$BH$683,\"Banc 115VRAIFAUXFAUXVRAIFAUX\",BDD!$Z$2:$Z$683)","v":0},{"$f":"SUMIF(BDD!$BH$2:$BH$683,\"Banc 115VRAIFAUXFAUXFAUXVRAI\",BDD!$Z$2:$Z$683)","v":0},{"$f":"SUMIF(BDD!$BH$2:$BH$683,\"Banc 115FAUXVRAIVRAIFAUXFAUX\",BDD!$Z$2:$Z$683)","v":0},{"$f":"SUMIF(BDD!$BH$2:$BH$683,\"Banc 115FAUXVRAIFAUXVRAIFAUX\",BDD!$Z$2:$Z$683)","v":0},{"$f":"SUMIF(BDD!$BH$2:$BH$683,\"Banc 115FAUXVRAIFAUXFAUXVRAI\",BDD!$Z$2:$Z$683)","v":0},{"$f":"SUMIF(BDD!$BH$2:$BH$3,\"Banc 115VRAIFAUXVRAIFAUXFAUX\",BDD!$Z$2:$Z$3)","v":0},{"$f":"SUMIF(BDD!$BH$2:$BH$3,\"Banc 115VRAIFAUXFAUXVRAIFAUX\",BDD!$Z$2:$Z$3)","v":0},{"$f":"SUMIF(BDD!$BH$2:$BH$3,\"Banc 115VRAIFAUXFAUXFAUXVRAI\",BDD!$Z$2:$Z$3)","v":0},{"$f":"SUMIF(BDD!$BH$2:$BH$3,\"Banc 115FAUXVRAIVRAIFAUXFAUX\",BDD!$Z$2:$Z$3)","v":0},{"$f":"SUMIF(BDD!$BH$2:$BH$3,\"Banc 115FAUXVRAIFAUXVRAIFAUX\",BDD!$Z$2:$Z$3)","v":0},{"$f":"SUMIF(BDD!$BH$2:$BH$3,\"Banc 115FAUXVRAIFAUXFAUXVRAI\",BDD!$Z$2:$Z$3)","v":0},{"$f":"SUMIF(BDD!$BH$2:$BH$3,\"Banc 115VRAIFAUXVRAIFAUXFAUX\",BDD!$Z$2:$Z$3)","v":0},{"$f":"SUMIF(BDD!$BH$2:$BH$3,\"Banc 115VRAIFAUXFAUXVRAIFAUX\",BDD!$Z$2:$Z$3)","v":0},{"$f":"SUMIF(BDD!$BH$2:$BH$3,\"Banc 115VRAIFAUXFAUXFAUXVRAI\",BDD!$Z$2:$Z$3)","v":0},{"$f":"SUMIF(BDD!$BH$2:$BH$3,\"Banc 115FAUXVRAIVRAIFAUXFAUX\",BDD!$Z$2:$Z$3)","v":0},{"$f":"SUMIF(BDD!$BH$2:$BH$3,\"Banc 115FAUXVRAIFAUXVRAIFAUX\",BDD!$Z$2:$Z$3)","v":0},{"$f":"SUMIF(BDD!$BH$2:$BH$3,\"Banc 115FAUXVRAIFAUXFAUXVRAI\",BDD!$Z$2:$Z$3)","v":0},{"$f":"SUMIF(BDD!$BH$2:$BH$3,\"Banc 115VRAIFAUXVRAIFAUXFAUX\",BDD!$Z$2:$Z$3)","v":0},{"$f":"SUMIF(BDD!$BH$2:$BH$3,\"Banc 115VRAIFAUXFAUXVRAIFAUX\",BDD!$Z$2:$Z$3)","v":0},{"$f":"SUMIF(BDD!$BH$2:$BH$3,\"Banc 115VRAIFAUXFAUXFAUXVRAI\",BDD!$Z$2:$Z$3)","v":0},{"$f":"SUMIF(BDD!$BH$2:$BH$3,\"Banc 115FAUXVRAIVRAIFAUXFAUX\",BDD!$Z$2:$Z$3)","v":0},{"$f":"SUMIF(BDD!$BH$2:$BH$3,\"Banc 115FAUXVRAIFAUXVRAIFAUX\",BDD!$Z$2:$Z$3)","v":0},{"$f":"SUMIF(BDD!$BH$2:$BH$3,\"Banc 115FAUXVRAIFAUXFAUXVRAI\",BDD!$Z$2:$Z$3)","v":0},{"$f":"SUMIF(BDD!$BH$2:$BH$3,\"Banc 115VRAIFAUXVRAIFAUXFAUX\",BDD!$Z$2:$Z$3)","v":0},{"$f":"SUMIF(BDD!$BH$2:$BH$3,\"Banc 115VRAIFAUXFAUXVRAIFAUX\",BDD!$Z$2:$Z$3)","v":0},{"$f":"SUMIF(BDD!$BH$2:$BH$3,\"Banc 115VRAIFAUXFAUXFAUXVRAI\",BDD!$Z$2:$Z$3)","v":0},{"$f":"SUMIF(BDD!$BH$2:$BH$3,\"Banc 115FAUXVRAIVRAIFAUXFAUX\",BDD!$Z$2:$Z$3)","v":0},{"$f":"SUMIF(BDD!$BH$2:$BH$3,\"Banc 115FAUXVRAIFAUXVRAIFAUX\",BDD!$Z$2:$Z$3)","v":0},{"$f":"SUMIF(BDD!$BH$2:$BH$3,\"Banc 115FAUXVRAIFAUXFAUXVRAI\",BDD!$Z$2:$Z$3)","v":0},{"$f":"SUMIF(BDD!$BH$2:$BH$3,\"Banc 115VRAIFAUXVRAIFAUXFAUX\",BDD!$Z$2:$Z$3)","v":0},{"$f":"SUMIF(BDD!$BH$2:$BH$3,\"Banc 115VRAIFAUXFAUXVRAIFAUX\",BDD!$Z$2:$Z$3)","v":0},{"$f":"SUMIF(BDD!$BH$2:$BH$3,\"Banc 115VRAIFAUXFAUXFAUXVRAI\",BDD!$Z$2:$Z$3)","v":0},{"$f":"SUMIF(BDD!$BH$2:$BH$3,\"Banc 115FAUXVRAIVRAIFAUXFAUX\",BDD!$Z$2:$Z$3)","v":0},{"$f":"SUMIF(BDD!$BH$2:$BH$3,\"Banc 115FAUXVRAIFAUXVRAIFAUX\",BDD!$Z$2:$Z$3)","v":0},{"$f":"SUMIF(BDD!$BH$2:$BH$3,\"Banc 115FAUXVRAIFAUXFAUXVRAI\",BDD!$Z$2:$Z$3)","v":0},{"$f":"SUMIF(BDD!$BH$2:$BH$3,\"Banc 115VRAIFAUXVRAIFAUXFAUX\",BDD!$Z$2:$Z$3)","v":0},{"$f":"SUMIF(BDD!$BH$2:$BH$3,\"Banc 115VRAIFAUXFAUXVRAIFAUX\",BDD!$Z$2:$Z$3)","v":0},{"$f":"SUMIF(BDD!$BH$2:$BH$3,\"Banc 115VRAIFAUXFAUXFAUXVRAI\",BDD!$Z$2:$Z$3)","v":0},{"$f":"SUMIF(BDD!$BH$2:$BH$3,\"Banc 115FAUXVRAIVRAIFAUXFAUX\",BDD!$Z$2:$Z$3)","v":0},{"$f":"SUMIF(BDD!$BH$2:$BH$3,\"Banc 115FAUXVRAIFAUXVRAIFAUX\",BDD!$Z$2:$Z$3)","v":0},{"$f":"SUMIF(BDD!$BH$2:$BH$3,\"Banc 115FAUXVRAIFAUXFAUXVRAI\",BDD!$Z$2:$Z$3)","v":0},{"$f":"SUMIF(BDD!$BH$2:$BH$3,\"Banc 115VRAIFAUXVRAIFAUXFAUX\",BDD!$Z$2:$Z$3)","v":0},{"$f":"SUMIF(BDD!$BH$2:$BH$3,\"Banc 115VRAIFAUXFAUXVRAIFAUX\",BDD!$Z$2:$Z$3)","v":0},{"$f":"SUMIF(BDD!$BH$2:$BH$3,\"Banc 115VRAIFAUXFAUXFAUXVRAI\",BDD!$Z$2:$Z$3)","v":0},{"$f":"SUMIF(BDD!$BH$2:$BH$3,\"Banc 115FAUXVRAIVRAIFAUXFAUX\",BDD!$Z$2:$Z$3)","v":0},{"$f":"SUMIF(BDD!$BH$2:$BH$3,\"Banc 115FAUXVRAIFAUXVRAIFAUX\",BDD!$Z$2:$Z$3)","v":0},{"$f":"SUMIF(BDD!$BH$2:$BH$3,\"Banc 115FAUXVRAIFAUXFAUXVRAI\",BDD!$Z$2:$Z$3)","v":0},{"$f":"SUMIF(BDD!$BH$2:$BH$3,\"Banc 115VRAIFAUXVRAIFAUXFAUX\",BDD!$Z$2:$Z$3)","v":0},{"$f":"SUMIF(BDD!$BH$2:$BH$3,\"Banc 115VRAIFAUXFAUXVRAIFAUX\",BDD!$Z$2:$Z$3)","v":0},{"$f":"SUMIF(BDD!$BH$2:$BH$3,\"Banc 115VRAIFAUXFAUXFAUXVRAI\",BDD!$Z$2:$Z$3)","v":0},{"$f":"SUMIF(BDD!$BH$2:$BH$3,\"Banc 115FAUXVRAIVRAIFAUXFAUX\",BDD!$Z$2:$Z$3)","v":0},{"$f":"SUMIF(BDD!$BH$2:$BH$3,\"Banc 115FAUXVRAIFAUXVRAIFAUX\",BDD!$Z$2:$Z$3)","v":0},{"$f":"SUMIF(BDD!$BH$2:$BH$3,\"Banc 115FAUXVRAIFAUXFAUXVRAI\",BDD!$Z$2:$Z$3)","v":0},{"$f":"SUMIF(BDD!$BH$2:$BH$3,\"Banc 115VRAIFAUXVRAIFAUXFAUX\",BDD!$Z$2:$Z$3)","v":0},{"$f":"SUMIF(BDD!$BH$2:$BH$3,\"Banc 115VRAIFAUXFAUXVRAIFAUX\",BDD!$Z$2:$Z$3)","v":0},{"$f":"SUMIF(BDD!$BH$2:$BH$3,\"Banc 115VRAIFAUXFAUXFAUXVRAI\",BDD!$Z$2:$Z$3)","v":0},{"$f":"SUMIF(BDD!$BH$2:$BH$3,\"Banc 115FAUXVRAIVRAIFAUXFAUX\",BDD!$Z$2:$Z$3)","v":0},{"$f":"SUMIF(BDD!$BH$2:$BH$3,\"Banc 115FAUXVRAIFAUXVRAIFAUX\",BDD!$Z$2:$Z$3)","v":0},{"$f":"SUMIF(BDD!$BH$2:$BH$3,\"Banc 115FAUXVRAIFAUXFAUXVRAI\",BDD!$Z$2:$Z$3)","v":0}]
["Banc 120",{"$f":"SUMIF(BDD!$BH$2:$BH$3,\"Banc 120VRAIFAUXVRAIFAUXFAUX\",BDD!$Z$2:$Z$3)","v":0},{"$f":"SUMIF(BDD!$BH$2:$BH$3,\"Banc 120VRAIFAUXFAUXVRAIFAUX\",BDD!$Z$2:$Z$3)","v":0},{"$f":"SUMIF(BDD!$BH$2:$BH$3,\"Banc 120VRAIFAUXFAUXFAUXVRAI\",BDD!$Z$2:$Z$3)","v":0},{"$f":"SUMIF(BDD!$BH$2:$BH$3,\"Banc 120FAUXVRAIVRAIFAUXFAUX\",BDD!$Z$2:$Z$3)","v":0},{"$f":"SUMIF(BDD!$BH$2:$BH$3,\"Banc 120FAUXVRAIFAUXVRAIFAUX\",BDD!$Z$2:$Z$3)","v":0},{"$f":"SUMIF(BDD!$BH$2:$BH$3,\"Banc 120FAUXVRAIFAUXFAUXVRAI\",BDD!$Z$2:$Z$3)","v":0},{"$f":"SUMIF(BDD!$BH$2:$BH$3,\"Banc 120VRAIFAUXVRAIFAUXFAUX\",BDD!$Z$2:$Z$3)","v":0},{"$f":"SUMIF(BDD!$BH$2:$BH$3,\"Banc 120VRAIFAUXFAUXVRAIFAUX\",BDD!$Z$2:$Z$3)","v":0},{"$f":"SUMIF(BDD!$BH$2:$BH$3,\"Banc 120VRAIFAUXFAUXFAUXVRAI\",BDD!$Z$2:$Z$3)","v":0},{"$f":"SUMIF(BDD!$BH$2:$BH$3,\"Banc 120FAUXVRAIVRAIFAUXFAUX\",BDD!$Z$2:$Z$3)","v":0},{"$f":"SUMIF(BDD!$BH$2:$BH$3,\"Banc 120FAUXVRAIFAUXVRAIFAUX\",BDD!$Z$2:$Z$3)","v":0},{"$f":"SUMIF(BDD!$BH$2:$BH$3,\"Banc 120FAUXVRAIFAUXFAUXVRAI\",BDD!$Z$2:$Z$3)","v":0},{"$f":"SUMIF(BDD!$BH$2:$BH$683,\"Banc 120VRAIFAUXVRAIFAUXFAUX\",BDD!$Z$2:$Z$683)","v":0},{"$f":"SUMIF(BDD!$BH$2:$BH$683,\"Banc 120VRAIFAUXFAUXVRAIFAUX\",BDD!$Z$2:$Z$683)","v":0},{"$f":"SUMIF(BDD!$BH$2:$BH$683,\"Banc 120VRAIFAUXFAUXFAUXVRAI\",BDD!$Z$2:$Z$683)","v":0},{"$f":"SUMIF(BDD!$BH$2:$BH$683,\"Banc 120FAUXVRAIVRAIFAUXFAUX\",BDD!$Z$2:$Z$683)","v":0},{"$f":"SUMIF(BDD!$BH$2:$BH$683,\"Banc 120FAUXVRAIFAUXVRAIFAUX\",BDD!$Z$2:$Z$683)","v":0},{"$f":"SUMIF(BDD!$BH$2:$BH$683,\"Banc 120FAUXVRAIFAUXFAUXVRAI\",BDD!$Z$2:$Z$683)","v":0},{"$f":"SUMIF(BDD!$BH$2:$BH$3,\"Banc 120VRAIFAUXVRAIFAUXFAUX\",BDD!$Z$2:$Z$3)","v":0},{"$f":"SUMIF(BDD!$BH$2:$BH$3,\"Banc 120VRAIFAUXFAUXVRAIFAUX\",BDD!$Z$2:$Z$3)","v":0},{"$f":"SUMIF(BDD!$BH$2:$BH$3,\"Banc 120VRAIFAUXFAUXFAUXVRAI\",BDD!$Z$2:$Z$3)","v":0},{"$f":"SUMIF(BDD!$BH$2:$BH$3,\"Banc 120FAUXVRAIVRAIFAUXFAUX\",BDD!$Z$2:$Z$3)","v":0},{"$f":"SUMIF(BDD!$BH$2:$BH$3,\"Banc 120FAUXVRAIFAUXVRAIFAUX\",BDD!$Z$2:$Z$3)","v":0},{"$f":"SUMIF(BDD!$BH$2:$BH$3,\"Banc 120FAUXVRAIFAUXFAUXVRAI\",BDD!$Z$2:$Z$3)","v":0},{"$f":"SUMIF(BDD!$BH$2:$BH$3,\"Banc 120VRAIFAUXVRAIFAUXFAUX\",BDD!$Z$2:$Z$3)","v":0},{"$f":"SUMIF(BDD!$BH$2:$BH$3,\"Banc 120VRAIFAUXFAUXVRAIFAUX\",BDD!$Z$2:$Z$3)","v":0},{"$f":"SUMIF(BDD!$BH$2:$BH$3,\"Banc 120VRAIFAUXFAUXFAUXVRAI\",BDD!$Z$2:$Z$3)","v":0},{"$f":"SUMIF(BDD!$BH$2:$BH$3,\"Banc 120FAUXVRAIVRAIFAUXFAUX\",BDD!$Z$2:$Z$3)","v":0},{"$f":"SUMIF(BDD!$BH$2:$BH$3,\"Banc 120FAUXVRAIFAUXVRAIFAUX\",BDD!$Z$2:$Z$3)","v":0},{"$f":"SUMIF(BDD!$BH$2:$BH$3,\"Banc 120FAUXVRAIFAUXFAUXVRAI\",BDD!$Z$2:$Z$3)","v":0},{"$f":"SUMIF(BDD!$BH$2:$BH$3,\"Banc 120VRAIFAUXVRAIFAUXFAUX\",BDD!$Z$2:$Z$3)","v":0},{"$f":"SUMIF(BDD!$BH$2:$BH$3,\"Banc 120VRAIFAUXFAUXVRAIFAUX\",BDD!$Z$2:$Z$3)","v":0},{"$f":"SUMIF(BDD!$BH$2:$BH$3,\"Banc 120VRAIFAUXFAUXFAUXVRAI\",BDD!$Z$2:$Z$3)","v":0},{"$f":"SUMIF(BDD!$BH$2:$BH$3,\"Banc 120FAUXVRAIVRAIFAUXFAUX\",BDD!$Z$2:$Z$3)","v":0},{"$f":"SUMIF(BDD!$BH$2:$BH$3,\"Banc 120FAUXVRAIFAUXVRAIFAUX\",BDD!$Z$2:$Z$3)","v":0},{"$f":"SUMIF(BDD!$BH$2:$BH$3,\"Banc 120FAUXVRAIFAUXFAUXVRAI\",BDD!$Z$2:$Z$3)","v":0},{"$f":"SUMIF(BDD!$BH$2:$BH$3,\"Banc 120VRAIFAUXVRAIFAUXFAUX\",BDD!$Z$2:$Z$3)","v":0},{"$f":"SUMIF(BDD!$BH$2:$BH$3,\"Banc 120VRAIFAUXFAUXVRAIFAUX\",BDD!$Z$2:$Z$3)","v":0},{"$f":"SUMIF(BDD!$BH$2:$BH$3,\"Banc 120VRAIFAUXFAUXFAUXVRAI\",BDD!$Z$2:$Z$3)","v":0},{"$f":"SUMIF(BDD!$BH$2:$BH$3,\"Banc 120FAUXVRAIVRAIFAUXFAUX\",BDD!$Z$2:$Z$3)","v":0},{"$f":"SUMIF(BDD!$BH$2:$BH$3,\"Banc 120FAUXVRAIFAUXVRAIFAUX\",BDD!$Z$2:$Z$3)","v":0},{"$f":"SUMIF(BDD!$BH$2:$BH$3,\"Banc 120FAUXVRAIFAUXFAUXVRAI\",BDD!$Z$2:$Z$3)","v":0},{"$f":"SUMIF(BDD!$BH$2:$BH$3,\"Banc 120VRAIFAUXVRAIFAUXFAUX\",BDD!$Z$2:$Z$3)","v":0},{"$f":"SUMIF(BDD!$BH$2:$BH$3,\"Banc 120VRAIFAUXFAUXVRAIFAUX\",BDD!$Z$2:$Z$3)","v":0},{"$f":"SUMIF(BDD!$BH$2:$BH$3,\"Banc 120VRAIFAUXFAUXFAUXVRAI\",BDD!$Z$2:$Z$3)","v":0},{"$f":"SUMIF(BDD!$BH$2:$BH$3,\"Banc 120FAUXVRAIVRAIFAUXFAUX\",BDD!$Z$2:$Z$3)","v":0},{"$f":"SUMIF(BDD!$BH$2:$BH$3,\"Banc 120FAUXVRAIFAUXVRAIFAUX\",BDD!$Z$2:$Z$3)","v":0},{"$f":"SUMIF(BDD!$BH$2:$BH$3,\"Banc 120FAUXVRAIFAUXFAUXVRAI\",BDD!$Z$2:$Z$3)","v":0},{"$f":"SUMIF(BDD!$BH$2:$BH$3,\"Banc 120VRAIFAUXVRAIFAUXFAUX\",BDD!$Z$2:$Z$3)","v":0},{"$f":"SUMIF(BDD!$BH$2:$BH$3,\"Banc 120VRAIFAUXFAUXVRAIFAUX\",BDD!$Z$2:$Z$3)","v":0},{"$f":"SUMIF(BDD!$BH$2:$BH$3,\"Banc 120VRAIFAUXFAUXFAUXVRAI\",BDD!$Z$2:$Z$3)","v":0},{"$f":"SUMIF(BDD!$BH$2:$BH$3,\"Banc 120FAUXVRAIVRAIFAUXFAUX\",BDD!$Z$2:$Z$3)","v":0},{"$f":"SUMIF(BDD!$BH$2:$BH$3,\"Banc 120FAUXVRAIFAUXVRAIFAUX\",BDD!$Z$2:$Z$3)","v":0},{"$f":"SUMIF(BDD!$BH$2:$BH$3,\"Banc 120FAUXVRAIFAUXFAUXVRAI\",BDD!$Z$2:$Z$3)","v":0},{"$f":"SUMIF(BDD!$BH$2:$BH$3,\"Banc 120VRAIFAUXVRAIFAUXFAUX\",BDD!$Z$2:$Z$3)","v":0},{"$f":"SUMIF(BDD!$BH$2:$BH$3,\"Banc 120VRAIFAUXFAUXVRAIFAUX\",BDD!$Z$2:$Z$3)","v":0},{"$f":"SUMIF(BDD!$BH$2:$BH$3,\"Banc 120VRAIFAUXFAUXFAUXVRAI\",BDD!$Z$2:$Z$3)","v":0},{"$f":"SUMIF(BDD!$BH$2:$BH$3,\"Banc 120FAUXVRAIVRAIFAUXFAUX\",BDD!$Z$2:$Z$3)","v":0},{"$f":"SUMIF(BDD!$BH$2:$BH$3,\"Banc 120FAUXVRAIFAUXVRAIFAUX\",BDD!$Z$2:$Z$3)","v":0},{"$f":"SUMIF(BDD!$BH$2:$BH$3,\"Banc 120FAUXVRAIFAUXFAUXVRAI\",BDD!$Z$2:$Z$3)","v":0},{"$f":"SUMIF(BDD!$BH$2:$BH$3,\"Banc 120VRAIFAUXVRAIFAUXFAUX\",BDD!$Z$2:$Z$3)","v":0},{"$f":"SUMIF(BDD!$BH$2:$BH$3,\"Banc 120VRAIFAUXFAUXVRAIFAUX\",BDD!$Z$2:$Z$3)","v":0},{"$f":"SUMIF(BDD!$BH$2:$BH$3,\"Banc 120VRAIFAUXFAUXFAUXVRAI\",BDD!$Z$2:$Z$3)","v":0},{"$f":"SUMIF(BDD!$BH$2:$BH$3,\"Banc 120FAUXVRAIVRAIFAUXFAUX\",BDD!$Z$2:$Z$3)","v":0},{"$f":"SUMIF(BDD!$BH$2:$BH$3,\"Banc 120FAUXVRAIFAUXVRAIFAUX\",BDD!$Z$2:$Z$3)","v":0},{"$f":"SUMIF(BDD!$BH$2:$BH$3,\"Banc 120FAUXVRAIFAUXFAUXVRAI\",BDD!$Z$2:$Z$3)","v":0},{"$f":"SUMIF(BDD!$BH$2:$BH$3,\"Banc 120VRAIFAUXVRAIFAUXFAUX\",BDD!$Z$2:$Z$3)","v":0},{"$f":"SUMIF(BDD!$BH$2:$BH$3,\"Banc 120VRAIFAUXFAUXVRAIFAUX\",BDD!$Z$2:$Z$3)","v":0},{"$f":"SUMIF(BDD!$BH$2:$BH$3,\"Banc 120VRAIFAUXFAUXFAUXVRAI\",BDD!$Z$2:$Z$3)","v":0},{"$f":"SUMIF(BDD!$BH$2:$BH$3,\"Banc 120FAUXVRAIVRAIFAUXFAUX\",BDD!$Z$2:$Z$3)","v":0},{"$f":"SUMIF(BDD!$BH$2:$BH$3,\"Banc 120FAUXVRAIFAUXVRAIFAUX\",BDD!$Z$2:$Z$3)","v":0},{"$f":"SUMIF(BDD!$BH$2:$BH$3,\"Banc 120FAUXVRAIFAUXFAUXVRAI\",BDD!$Z$2:$Z$3)","v":0}]
["Banc 120 bis",{"$f":"SUMIF(BDD!$BH$2:$BH$3,\"Banc 120 bisVRAIFAUXVRAIFAUXFAUX\",BDD!$Z$2:$Z$3)","v":0},{"$f":"SUMIF(BDD!$BH$2:$BH$3,\"Banc 120 bisVRAIFAUXFAUXVRAIFAUX\",BDD!$Z$2:$Z$3)","v":0},{"$f":"SUMIF(BDD!$BH$2:$BH$3,\"Banc 120 bisVRAIFAUXFAUXFAUXVRAI\",BDD!$Z$2:$Z$3)","v":0},{"$f":"SUMIF(BDD!$BH$2:$BH$3,\"Banc 120 bisFAUXVRAIVRAIFAUXFAUX\",BDD!$Z$2:$Z$3)","v":0},{"$f":"SUMIF(BDD!$BH$2:$BH$3,\"Banc 120 bisFAUXVRAIFAUXVRAIFAUX\",BDD!$Z$2:$Z$3)","v":0},{"$f":"SUMIF(BDD!$BH$2:$BH$3,\"Banc 120 bisFAUXVRAIFAUXFAUXVRAI\",BDD!$Z$2:$Z$3)","v":0},{"$f":"SUMIF(BDD!$BH$2:$BH$3,\"Banc 120 bisVRAIFAUXVRAIFAUXFAUX\",BDD!$Z$2:$Z$3)","v":0},{"$f":"SUMIF(BDD!$BH$2:$BH$3,\"Banc 120 bisVRAIFAUXFAUXVRAIFAUX\",BDD!$Z$2:$Z$3)","v":0},{"$f":"SUMIF(BDD!$BH$2:$BH$3,\"Banc 120 bisVRAIFAUXFAUXFAUXVRAI\",BDD!$Z$2:$Z$3)","v":0},{"$f":"SUMIF(BDD!$BH$2:$BH$3,\"Banc 120 bisFAUXVRAIVRAIFAUXFAUX\",BDD!$Z$2:$Z$3)","v":0},{"$f":"SUMIF(BDD!$BH$2:$BH$3,\"Banc 120 bisFAUXVRAIFAUXVRAIFAUX\",BDD!$Z$2:$Z$3)","v":0},{"$f":"SUMIF(BDD!$BH$2:$BH$3,\"Banc 120 bisFAUXVRAIFAUXFAUXVRAI\",BDD!$Z$2:$Z$3)","v":0},{"$f":"SUMIF(BDD!$BH$2:$BH$683,\"Banc 120 bisVRAIFAUXVRAIFAUXFAUX\",BDD!$Z$2:$Z$683)","v":0},{"$f":"SUMIF(BDD!$BH$2:$BH$683,\"Banc 120 bisVRAIFAUXFAUXVRAIFAUX\",BDD!$Z$2:$Z$683)","v":0},{"$f":"SUMIF(BDD!$BH$2:$BH$683,\"Banc 120 bisVRAIFAUXFAUXFAUXVRAI\",BDD!$Z$2:$Z$683)","v":0},{"$f":"SUMIF(BDD!$BH$2:$BH$683,\"Banc 120 bisFAUXVRAIVRAIFAUXFAUX\",BDD!$Z$2:$Z$683)","v":0},{"$f":"SUMIF(BDD!$BH$2:$BH$683,\"Banc 120 bisFAUXVRAIFAUXVRAIFAUX\",BDD!$Z$2:$Z$683)","v":0},{"$f":"SUMIF(BDD!$BH$2:$BH$683,\"Banc 120 bisFAUXVRAIFAUXFAUXVRAI\",BDD!$Z$2:$Z$683)","v":0},{"$f":"SUMIF(BDD!$BH$2:$BH$3,\"Banc 120 bisVRAIFAUXVRAIFAUXFAUX\",BDD!$Z$2:$Z$3)","v":0},{"$f":"SUMIF(BDD!$BH$2:$BH$3,\"Banc 120 bisVRAIFAUXFAUXVRAIFAUX\",BDD!$Z$2:$Z$3)","v":0},{"$f":"SUMIF(BDD!$BH$2:$BH$3,\"Banc 120 bisVRAIFAUXFAUXFAUXVRAI\",BDD!$Z$2:$Z$3)","v":0},{"$f":"SUMIF(BDD!$BH$2:$BH$3,\"Banc 120 bisFAUXVRAIVRAIFAUXFAUX\",BDD!$Z$2:$Z$3)","v":0},{"$f":"SUMIF(BDD!$BH$2:$BH$3,\"Banc 120 bisFAUXVRAIFAUXVRAIFAUX\",BDD!$Z$2:$Z$3)","v":0},{"$f":"SUMIF(BDD!$BH$2:$BH$3,\"Banc 120 bisFAUXVRAIFAUXFAUXVRAI\",BDD!$Z$2:$Z$3)","v":0},{"$f":"SUMIF(BDD!$BH$2:$BH$3,\"Banc 120 bisVRAIFAUXVRAIFAUXFAUX\",BDD!$Z$2:$Z$3)","v":0},{"$f":"SUMIF(BDD!$BH$2:$BH$3,\"Banc 120 bisVRAIFAUXFAUXVRAIFAUX\",BDD!$Z$2:$Z$3)","v":0},{"$f":"SUMIF(BDD!$BH$2:$BH$3,\"Banc 120 bisVRAIFAUXFAUXFAUXVRAI\",BDD!$Z$2:$Z$3)","v":0},{"$f":"SUMIF(BDD!$BH$2:$BH$3,\"Banc 120 bisFAUXVRAIVRAIFAUXFAUX\",BDD!$Z$2:$Z$3)","v":0},{"$f":"SUMIF(BDD!$BH$2:$BH$3,\"Banc 120 bisFAUXVRAIFAUXVRAIFAUX\",BDD!$Z$2:$Z$3)","v":0},{"$f":"SUMIF(BDD!$BH$2:$BH$3,\"Banc 120 bisFAUXVRAIFAUXFAUXVRAI\",BDD!$Z$2:$Z$3)","v":0},{"$f":"SUMIF(BDD!$BH$2:$BH$3,\"Banc 120 bisVRAIFAUXVRAIFAUXFAUX\",BDD!$Z$2:$Z$3)","v":0},{"$f":"SUMIF(BDD!$BH$2:$BH$3,\"Banc 120 bisVRAIFAUXFAUXVRAIFAUX\",BDD!$Z$2:$Z$3)","v":0},{"$f":"SUMIF(BDD!$BH$2:$BH$3,\"Banc 120 bisVRAIFAUXFAUXFAUXVRAI\",BDD!$Z$2:$Z$3)","v":0},{"$f":"SUMIF(BDD!$BH$2:$BH$3,\"Banc 120 bisFAUXVRAIVRAIFAUXFAUX\",BDD!$Z$2:$Z$3)","v":0},{"$f":"SUMIF(BDD!$BH$2:$BH$3,\"Banc 120 bisFAUXVRAIFAUXVRAIFAUX\",BDD!$Z$2:$Z$3)","v":0},{"$f":"SUMIF(BDD!$BH$2:$BH$3,\"Banc 120 bisFAUXVRAIFAUXFAUXVRAI\",BDD!$Z$2:$Z$3)","v":0},{"$f":"SUMIF(BDD!$BH$2:$BH$3,\"Banc 120 bisVRAIFAUXVRAIFAUXFAUX\",BDD!$Z$2:$Z$3)","v":0},{"$f":"SUMIF(BDD!$BH$2:$BH$3,\"Banc 120 bisVRAIFAUXFAUXVRAIFAUX\",BDD!$Z$2:$Z$3)","v":0},{"$f":"SUMIF(BDD!$BH$2:$BH$3,\"Banc 120 bisVRAIFAUXFAUXFAUXVRAI\",BDD!$Z$2:$Z$3)","v":0},{"$f":"SUMIF(BDD!$BH$2:$BH$3,\"Banc 120 bisFAUXVRAIVRAIFAUXFAUX\",BDD!$Z$2:$Z$3)","v":0},{"$f":"SUMIF(BDD!$BH$2:$BH$3,\"Banc 120 bisFAUXVRAIFAUXVRAIFAUX\",BDD!$Z$2:$Z$3)","v":0},{"$f":"SUMIF(BDD!$BH$2:$BH$3,\"Banc 120 bisFAUXVRAIFAUXFAUXVRAI\",BDD!$Z$2:$Z$3)","v":0},{"$f":"SUMIF(BDD!$BH$2:$BH$3,\"Banc 120 bisVRAIFAUXVRAIFAUXFAUX\",BDD!$Z$2:$Z$3)","v":0},{"$f":"SUMIF(BDD!$BH$2:$BH$3,\"Banc 120 bisVRAIFAUXFAUXVRAIFAUX\",BDD!$Z$2:$Z$3)","v":0},{"$f":"SUMIF(BDD!$BH$2:$BH$3,\"Banc 120 bisVRAIFAUXFAUXFAUXVRAI\",BDD!$Z$2:$Z$3)","v":0},{"$f":"SUMIF(BDD!$BH$2:$BH$3,\"Banc 120 bisFAUXVRAIVRAIFAUXFAUX\",BDD!$Z$2:$Z$3)","v":0},{"$f":"SUMIF(BDD!$BH$2:$BH$3,\"Banc 120 bisFAUXVRAIFAUXVRAIFAUX\",BDD!$Z$2:$Z$3)","v":0},{"$f":"SUMIF(BDD!$BH$2:$BH$3,\"Banc 120 bisFAUXVRAIFAUXFAUXVRAI\",BDD!$Z$2:$Z$3)","v":0},{"$f":"SUMIF(BDD!$BH$2:$BH$3,\"Banc 120 bisVRAIFAUXVRAIFAUXFAUX\",BDD!$Z$2:$Z$3)","v":0},{"$f":"SUMIF(BDD!$BH$2:$BH$3,\"Banc 120 bisVRAIFAUXFAUXVRAIFAUX\",BDD!$Z$2:$Z$3)","v":0},{"$f":"SUMIF(BDD!$BH$2:$BH$3,\"Banc 120 bisVRAIFAUXFAUXFAUXVRAI\",BDD!$Z$2:$Z$3)","v":0},{"$f":"SUMIF(BDD!$BH$2:$BH$3,\"Banc 120 bisFAUXVRAIVRAIFAUXFAUX\",BDD!$Z$2:$Z$3)","v":0},{"$f":"SUMIF(BDD!$BH$2:$BH$3,\"Banc 120 bisFAUXVRAIFAUXVRAIFAUX\",BDD!$Z$2:$Z$3)","v":0},{"$f":"SUMIF(BDD!$BH$2:$BH$3,\"Banc 120 bisFAUXVRAIFAUXFAUXVRAI\",BDD!$Z$2:$Z$3)","v":0},{"$f":"SUMIF(BDD!$BH$2:$BH$3,\"Banc 120 bisVRAIFAUXVRAIFAUXFAUX\",BDD!$Z$2:$Z$3)","v":0},{"$f":"SUMIF(BDD!$BH$2:$BH$3,\"Banc 120 bisVRAIFAUXFAUXVRAIFAUX\",BDD!$Z$2:$Z$3)","v":0},{"$f":"SUMIF(BDD!$BH$2:$BH$3,\"Banc 120 bisVRAIFAUXFAUXFAUXVRAI\",BDD!$Z$2:$Z$3)","v":0},{"$f":"SUMIF(BDD!$BH$2:$BH$3,\"Banc 120 bisFAUXVRAIVRAIFAUXFAUX\",BDD!$Z$2:$Z$3)","v":0},{"$f":"SUMIF(BDD!$BH$2:$BH$3,\"Banc 120 bisFAUXVRAIFAUXVRAIFAUX\",BDD!$Z$2:$Z$3)","v":0},{"$f":"SUMIF(BDD!$BH$2:$BH$3,\"Banc 120 bisFAUXVRAIFAUXFAUXVRAI\",BDD!$Z$2:$Z$3)","v":0},{"$f":"SUMIF(BDD!$BH$2:$BH$3,\"Banc 120 bisVRAIFAUXVRAIFAUXFAUX\",BDD!$Z$2:$Z$3)","v":0},{"$f":"SUMIF(BDD!$BH$2:$BH$3,\"Banc 120 bisVRAIFAUXFAUXVRAIFAUX\",BDD!$Z$2:$Z$3)","v":0},{"$f":"SUMIF(BDD!$BH$2:$BH$3,\"Banc 120 bisVRAIFAUXFAUXFAUXVRAI\",BDD!$Z$2:$Z$3)","v":0},{"$f":"SUMIF(BDD!$BH$2:$BH$3,\"Banc 120 bisFAUXVRAIVRAIFAUXFAUX\",BDD!$Z$2:$Z$3)","v":0},{"$f":"SUMIF(BDD!$BH$2:$BH$3,\"Banc 120 bisFAUXVRAIFAUXVRAIFAUX\",BDD!$Z$2:$Z$3)","v":0},{"$f":"SUMIF(BDD!$BH$2:$BH$3,\"Banc 120 bisFAUXVRAIFAUXFAUXVRAI\",BDD!$Z$2:$Z$3)","v":0},{"$f":"SUMIF(BDD!$BH$2:$BH$3,\"Banc 120 bisVRAIFAUXVRAIFAUXFAUX\",BDD!$Z$2:$Z$3)","v":0},{"$f":"SUMIF(BDD!$BH$2:$BH$3,\"Banc 120 bisVRAIFAUXFAUXVRAIFAUX\",BDD!$Z$2:$Z$3)","v":0},{"$f":"SUMIF(BDD!$BH$2:$BH$3,\"Banc 120 bisVRAIFAUXFAUXFAUXVRAI\",BDD!$Z$2:$Z$3)","v":0},{"$f":"SUMIF(BDD!$BH$2:$BH$3,\"Banc 120 bisFAUXVRAIVRAIFAUXFAUX\",BDD!$Z$2:$Z$3)","v":0},{"$f":"SUMIF(BDD!$BH$2:$BH$3,\"Banc 120 bisFAUXVRAIFAUXVRAIFAUX\",BDD!$Z$2:$Z$3)","v":0},{"$f":"SUMIF(BDD!$BH$2:$BH$3,\"Banc 120 bisFAUXVRAIFAUXFAUXVRAI\",BDD!$Z$2:$Z$3)","v":0}]
["Banc 125",{"$f":"SUMIF(BDD!$BH$2:$BH$3,\"Banc 125VRAIFAUXVRAIFAUXFAUX\",BDD!$Z$2:$Z$3)","v":0},{"$f":"SUMIF(BDD!$BH$2:$BH$3,\"Banc 125VRAIFAUXFAUXVRAIFAUX\",BDD!$Z$2:$Z$3)","v":0},{"$f":"SUMIF(BDD!$BH$2:$BH$3,\"Banc 125VRAIFAUXFAUXFAUXVRAI\",BDD!$Z$2:$Z$3)","v":0},{"$f":"SUMIF(BDD!$BH$2:$BH$3,\"Banc 125FAUXVRAIVRAIFAUXFAUX\",BDD!$Z$2:$Z$3)","v":0},{"$f":"SUMIF(BDD!$BH$2:$BH$3,\"Banc 125FAUXVRAIFAUXVRAIFAUX\",BDD!$Z$2:$Z$3)","v":0},{"$f":"SUMIF(BDD!$BH$2:$BH$3,\"Banc 125FAUXVRAIFAUXFAUXVRAI\",BDD!$Z$2:$Z$3)","v":0},{"$f":"SUMIF(BDD!$BH$2:$BH$3,\"Banc 125VRAIFAUXVRAIFAUXFAUX\",BDD!$Z$2:$Z$3)","v":0},{"$f":"SUMIF(BDD!$BH$2:$BH$3,\"Banc 125VRAIFAUXFAUXVRAIFAUX\",BDD!$Z$2:$Z$3)","v":0},{"$f":"SUMIF(BDD!$BH$2:$BH$3,\"Banc 125VRAIFAUXFAUXFAUXVRAI\",BDD!$Z$2:$Z$3)","v":0},{"$f":"SUMIF(BDD!$BH$2:$BH$3,\"Banc 125FAUXVRAIVRAIFAUXFAUX\",BDD!$Z$2:$Z$3)","v":0},{"$f":"SUMIF(BDD!$BH$2:$BH$3,\"Banc 125FAUXVRAIFAUXVRAIFAUX\",BDD!$Z$2:$Z$3)","v":0},{"$f":"SUMIF(BDD!$BH$2:$BH$3,\"Banc 125FAUXVRAIFAUXFAUXVRAI\",BDD!$Z$2:$Z$3)","v":0},{"$f":"SUMIF(BDD!$BH$2:$BH$683,\"Banc 125VRAIFAUXVRAIFAUXFAUX\",BDD!$Z$2:$Z$683)","v":0},{"$f":"SUMIF(BDD!$BH$2:$BH$683,\"Banc 125VRAIFAUXFAUXVRAIFAUX\",BDD!$Z$2:$Z$683)","v":0},{"$f":"SUMIF(BDD!$BH$2:$BH$683,\"Banc 125VRAIFAUXFAUXFAUXVRAI\",BDD!$Z$2:$Z$683)","v":2.2999999999999998},{"$f":"SUMIF(BDD!$BH$2:$BH$683,\"Banc 125FAUXVRAIVRAIFAUXFAUX\",BDD!$Z$2:$Z$683)","v":0},{"$f":"SUMIF(BDD!$BH$2:$BH$683,\"Banc 125FAUXVRAIFAUXVRAIFAUX\",BDD!$Z$2:$Z$683)","v":0},{"$f":"SUMIF(BDD!$BH$2:$BH$683,\"Banc 125FAUXVRAIFAUXFAUXVRAI\",BDD!$Z$2:$Z$683)","v":0},{"$f":"SUMIF(BDD!$BH$2:$BH$3,\"Banc 125VRAIFAUXVRAIFAUXFAUX\",BDD!$Z$2:$Z$3)","v":0},{"$f":"SUMIF(BDD!$BH$2:$BH$3,\"Banc 125VRAIFAUXFAUXVRAIFAUX\",BDD!$Z$2:$Z$3)","v":0},{"$f":"SUMIF(BDD!$BH$2:$BH$3,\"Banc 125VRAIFAUXFAUXFAUXVRAI\",BDD!$Z$2:$Z$3)","v":0},{"$f":"SUMIF(BDD!$BH$2:$BH$3,\"Banc 125FAUXVRAIVRAIFAUXFAUX\",BDD!$Z$2:$Z$3)","v":0},{"$f":"SUMIF(BDD!$BH$2:$BH$3,\"Banc 125FAUXVRAIFAUXVRAIFAUX\",BDD!$Z$2:$Z$3)","v":0},{"$f":"SUMIF(BDD!$BH$2:$BH$3,\"Banc 125FAUXVRAIFAUXFAUXVRAI\",BDD!$Z$2:$Z$3)","v":0},{"$f":"SUMIF(BDD!$BH$2:$BH$3,\"Banc 125VRAIFAUXVRAIFAUXFAUX\",BDD!$Z$2:$Z$3)","v":0},{"$f":"SUMIF(BDD!$BH$2:$BH$3,\"Banc 125VRAIFAUXFAUXVRAIFAUX\",BDD!$Z$2:$Z$3)","v":0},{"$f":"SUMIF(BDD!$BH$2:$BH$3,\"Banc 125VRAIFAUXFAUXFAUXVRAI\",BDD!$Z$2:$Z$3)","v":0},{"$f":"SUMIF(BDD!$BH$2:$BH$3,\"Banc 125FAUXVRAIVRAIFAUXFAUX\",BDD!$Z$2:$Z$3)","v":0},{"$f":"SUMIF(BDD!$BH$2:$BH$3,\"Banc 125FAUXVRAIFAUXVRAIFAUX\",BDD!$Z$2:$Z$3)","v":0},{"$f":"SUMIF(BDD!$BH$2:$BH$3,\"Banc 125FAUXVRAIFAUXFAUXVRAI\",BDD!$Z$2:$Z$3)","v":0},{"$f":"SUMIF(BDD!$BH$2:$BH$3,\"Banc 125VRAIFAUXVRAIFAUXFAUX\",BDD!$Z$2:$Z$3)","v":0},{"$f":"SUMIF(BDD!$BH$2:$BH$3,\"Banc 125VRAIFAUXFAUXVRAIFAUX\",BDD!$Z$2:$Z$3)","v":0},{"$f":"SUMIF(BDD!$BH$2:$BH$3,\"Banc 125VRAIFAUXFAUXFAUXVRAI\",BDD!$Z$2:$Z$3)","v":0},{"$f":"SUMIF(BDD!$BH$2:$BH$3,\"Banc 125FAUXVRAIVRAIFAUXFAUX\",BDD!$Z$2:$Z$3)","v":0},{"$f":"SUMIF(BDD!$BH$2:$BH$3,\"Banc 125FAUXVRAIFAUXVRAIFAUX\",BDD!$Z$2:$Z$3)","v":0},{"$f":"SUMIF(BDD!$BH$2:$BH$3,\"Banc 125FAUXVRAIFAUXFAUXVRAI\",BDD!$Z$2:$Z$3)","v":0},{"$f":"SUMIF(BDD!$BH$2:$BH$3,\"Banc 125VRAIFAUXVRAIFAUXFAUX\",BDD!$Z$2:$Z$3)","v":0},{"$f":"SUMIF(BDD!$BH$2:$BH$3,\"Banc 125VRAIFAUXFAUXVRAIFAUX\",BDD!$Z$2:$Z$3)","v":0},{"$f":"SUMIF(BDD!$BH$2:$BH$3,\"Banc 125VRAIFAUXFAUXFAUXVRAI\",BDD!$Z$2:$Z$3)","v":0},{"$f":"SUMIF(BDD!$BH$2:$BH$3,\"Banc 125FAUXVRAIVRAIFAUXFAUX\",BDD!$Z$2:$Z$3)","v":0},{"$f":"SUMIF(BDD!$BH$2:$BH$3,\"Banc 125FAUXVRAIFAUXVRAIFAUX\",BDD!$Z$2:$Z$3)","v":0},{"$f":"SUMIF(BDD!$BH$2:$BH$3,\"Banc 125FAUXVRAIFAUXFAUXVRAI\",BDD!$Z$2:$Z$3)","v":0},{"$f":"SUMIF(BDD!$BH$2:$BH$3,\"Banc 125VRAIFAUXVRAIFAUXFAUX\",BDD!$Z$2:$Z$3)","v":0},{"$f":"SUMIF(BDD!$BH$2:$BH$3,\"Banc 125VRAIFAUXFAUXVRAIFAUX\",BDD!$Z$2:$Z$3)","v":0},{"$f":"SUMIF(BDD!$BH$2:$BH$3,\"Banc 125VRAIFAUXFAUXFAUXVRAI\",BDD!$Z$2:$Z$3)","v":0},{"$f":"SUMIF(BDD!$BH$2:$BH$3,\"Banc 125FAUXVRAIVRAIFAUXFAUX\",BDD!$Z$2:$Z$3)","v":0},{"$f":"SUMIF(BDD!$BH$2:$BH$3,\"Banc 125FAUXVRAIFAUXVRAIFAUX\",BDD!$Z$2:$Z$3)","v":0},{"$f":"SUMIF(BDD!$BH$2:$BH$3,\"Banc 125FAUXVRAIFAUXFAUXVRAI\",BDD!$Z$2:$Z$3)","v":0},{"$f":"SUMIF(BDD!$BH$2:$BH$3,\"Banc 125VRAIFAUXVRAIFAUXFAUX\",BDD!$Z$2:$Z$3)","v":0},{"$f":"SUMIF(BDD!$BH$2:$BH$3,\"Banc 125VRAIFAUXFAUXVRAIFAUX\",BDD!$Z$2:$Z$3)","v":0},{"$f":"SUMIF(BDD!$BH$2:$BH$3,\"Banc 125VRAIFAUXFAUXFAUXVRAI\",BDD!$Z$2:$Z$3)","v":0},{"$f":"SUMIF(BDD!$BH$2:$BH$3,\"Banc 125FAUXVRAIVRAIFAUXFAUX\",BDD!$Z$2:$Z$3)","v":0},{"$f":"SUMIF(BDD!$BH$2:$BH$3,\"Banc 125FAUXVRAIFAUXVRAIFAUX\",BDD!$Z$2:$Z$3)","v":0},{"$f":"SUMIF(BDD!$BH$2:$BH$3,\"Banc 125FAUXVRAIFAUXFAUXVRAI\",BDD!$Z$2:$Z$3)","v":0},{"$f":"SUMIF(BDD!$BH$2:$BH$3,\"Banc 125VRAIFAUXVRAIFAUXFAUX\",BDD!$Z$2:$Z$3)","v":0},{"$f":"SUMIF(BDD!$BH$2:$BH$3,\"Banc 125VRAIFAUXFAUXVRAIFAUX\",BDD!$Z$2:$Z$3)","v":0},{"$f":"SUMIF(BDD!$BH$2:$BH$3,\"Banc 125VRAIFAUXFAUXFAUXVRAI\",BDD!$Z$2:$Z$3)","v":0},{"$f":"SUMIF(BDD!$BH$2:$BH$3,\"Banc 125FAUXVRAIVRAIFAUXFAUX\",BDD!$Z$2:$Z$3)","v":0},{"$f":"SUMIF(BDD!$BH$2:$BH$3,\"Banc 125FAUXVRAIFAUXVRAIFAUX\",BDD!$Z$2:$Z$3)","v":0},{"$f":"SUMIF(BDD!$BH$2:$BH$3,\"Banc 125FAUXVRAIFAUXFAUXVRAI\",BDD!$Z$2:$Z$3)","v":0},{"$f":"SUMIF(BDD!$BH$2:$BH$3,\"Banc 125VRAIFAUXVRAIFAUXFAUX\",BDD!$Z$2:$Z$3)","v":0},{"$f":"SUMIF(BDD!$BH$2:$BH$3,\"Banc 125VRAIFAUXFAUXVRAIFAUX\",BDD!$Z$2:$Z$3)","v":0},{"$f":"SUMIF(BDD!$BH$2:$BH$3,\"Banc 125VRAIFAUXFAUXFAUXVRAI\",BDD!$Z$2:$Z$3)","v":0},{"$f":"SUMIF(BDD!$BH$2:$BH$3,\"Banc 125FAUXVRAIVRAIFAUXFAUX\",BDD!$Z$2:$Z$3)","v":0},{"$f":"SUMIF(BDD!$BH$2:$BH$3,\"Banc 125FAUXVRAIFAUXVRAIFAUX\",BDD!$Z$2:$Z$3)","v":0},{"$f":"SUMIF(BDD!$BH$2:$BH$3,\"Banc 125FAUXVRAIFAUXFAUXVRAI\",BDD!$Z$2:$Z$3)","v":0},{"$f":"SUMIF(BDD!$BH$2:$BH$3,\"Banc 125VRAIFAUXVRAIFAUXFAUX\",BDD!$Z$2:$Z$3)","v":0},{"$f":"SUMIF(BDD!$BH$2:$BH$3,\"Banc 125VRAIFAUXFAUXVRAIFAUX\",BDD!$Z$2:$Z$3)","v":0},{"$f":"SUMIF(BDD!$BH$2:$BH$3,\"Banc 125VRAIFAUXFAUXFAUXVRAI\",BDD!$Z$2:$Z$3)","v":0},{"$f":"SUMIF(BDD!$BH$2:$BH$3,\"Banc 125FAUXVRAIVRAIFAUXFAUX\",BDD!$Z$2:$Z$3)","v":0},{"$f":"SUMIF(BDD!$BH$2:$BH$3,\"Banc 125FAUXVRAIFAUXVRAIFAUX\",BDD!$Z$2:$Z$3)","v":0},{"$f":"SUMIF(BDD!$BH$2:$BH$3,\"Banc 125FAUXVRAIFAUXFAUXVRAI\",BDD!$Z$2:$Z$3)","v":0}]
["Banc 128",{"$f":"SUMIF(BDD!$BH$2:$BH$3,\"Banc 128VRAIFAUXVRAIFAUXFAUX\",BDD!$Z$2:$Z$3)","v":0},{"$f":"SUMIF(BDD!$BH$2:$BH$3,\"Banc 128VRAIFAUXFAUXVRAIFAUX\",BDD!$Z$2:$Z$3)","v":0},{"$f":"SUMIF(BDD!$BH$2:$BH$3,\"Banc 128VRAIFAUXFAUXFAUXVRAI\",BDD!$Z$2:$Z$3)","v":0},{"$f":"SUMIF(BDD!$BH$2:$BH$3,\"Banc 128FAUXVRAIVRAIFAUXFAUX\",BDD!$Z$2:$Z$3)","v":0},{"$f":"SUMIF(BDD!$BH$2:$BH$3,\"Banc 128FAUXVRAIFAUXVRAIFAUX\",BDD!$Z$2:$Z$3)","v":0},{"$f":"SUMIF(BDD!$BH$2:$BH$3,\"Banc 128FAUXVRAIFAUXFAUXVRAI\",BDD!$Z$2:$Z$3)","v":0},{"$f":"SUMIF(BDD!$BH$2:$BH$3,\"Banc 128VRAIFAUXVRAIFAUXFAUX\",BDD!$Z$2:$Z$3)","v":0},{"$f":"SUMIF(BDD!$BH$2:$BH$3,\"Banc 128VRAIFAUXFAUXVRAIFAUX\",BDD!$Z$2:$Z$3)","v":0},{"$f":"SUMIF(BDD!$BH$2:$BH$3,\"Banc 128VRAIFAUXFAUXFAUXVRAI\",BDD!$Z$2:$Z$3)","v":0},{"$f":"SUMIF(BDD!$BH$2:$BH$3,\"Banc 128FAUXVRAIVRAIFAUXFAUX\",BDD!$Z$2:$Z$3)","v":0},{"$f":"SUMIF(BDD!$BH$2:$BH$3,\"Banc 128FAUXVRAIFAUXVRAIFAUX\",BDD!$Z$2:$Z$3)","v":0},{"$f":"SUMIF(BDD!$BH$2:$BH$3,\"Banc 128FAUXVRAIFAUXFAUXVRAI\",BDD!$Z$2:$Z$3)","v":0},{"$f":"SUMIF(BDD!$BH$2:$BH$683,\"Banc 128VRAIFAUXVRAIFAUXFAUX\",BDD!$Z$2:$Z$683)","v":0},{"$f":"SUMIF(BDD!$BH$2:$BH$683,\"Banc 128VRAIFAUXFAUXVRAIFAUX\",BDD!$Z$2:$Z$683)","v":0},{"$f":"SUMIF(BDD!$BH$2:$BH$683,\"Banc 128VRAIFAUXFAUXFAUXVRAI\",BDD!$Z$2:$Z$683)","v":1},{"$f":"SUMIF(BDD!$BH$2:$BH$683,\"Banc 128FAUXVRAIVRAIFAUXFAUX\",BDD!$Z$2:$Z$683)","v":0},{"$f":"SUMIF(BDD!$BH$2:$BH$683,\"Banc 128FAUXVRAIFAUXVRAIFAUX\",BDD!$Z$2:$Z$683)","v":0},{"$f":"SUMIF(BDD!$BH$2:$BH$683,\"Banc 128FAUXVRAIFAUXFAUXVRAI\",BDD!$Z$2:$Z$683)","v":0},{"$f":"SUMIF(BDD!$BH$2:$BH$3,\"Banc 128VRAIFAUXVRAIFAUXFAUX\",BDD!$Z$2:$Z$3)","v":0},{"$f":"SUMIF(BDD!$BH$2:$BH$3,\"Banc 128VRAIFAUXFAUXVRAIFAUX\",BDD!$Z$2:$Z$3)","v":0},{"$f":"SUMIF(BDD!$BH$2:$BH$3,\"Banc 128VRAIFAUXFAUXFAUXVRAI\",BDD!$Z$2:$Z$3)","v":0},{"$f":"SUMIF(BDD!$BH$2:$BH$3,\"Banc 128FAUXVRAIVRAIFAUXFAUX\",BDD!$Z$2:$Z$3)","v":0},{"$f":"SUMIF(BDD!$BH$2:$BH$3,\"Banc 128FAUXVRAIFAUXVRAIFAUX\",BDD!$Z$2:$Z$3)","v":0},{"$f":"SUMIF(BDD!$BH$2:$BH$3,\"Banc 128FAUXVRAIFAUXFAUXVRAI\",BDD!$Z$2:$Z$3)","v":0},{"$f":"SUMIF(BDD!$BH$2:$BH$3,\"Banc 128VRAIFAUXVRAIFAUXFAUX\",BDD!$Z$2:$Z$3)","v":0},{"$f":"SUMIF(BDD!$BH$2:$BH$3,\"Banc 128VRAIFAUXFAUXVRAIFAUX\",BDD!$Z$2:$Z$3)","v":0},{"$f":"SUMIF(BDD!$BH$2:$BH$3,\"Banc 128VRAIFAUXFAUXFAUXVRAI\",BDD!$Z$2:$Z$3)","v":0},{"$f":"SUMIF(BDD!$BH$2:$BH$3,\"Banc 128FAUXVRAIVRAIFAUXFAUX\",BDD!$Z$2:$Z$3)","v":0},{"$f":"SUMIF(BDD!$BH$2:$BH$3,\"Banc 128FAUXVRAIFAUXVRAIFAUX\",BDD!$Z$2:$Z$3)","v":0},{"$f":"SUMIF(BDD!$BH$2:$BH$3,\"Banc 128FAUXVRAIFAUXFAUXVRAI\",BDD!$Z$2:$Z$3)","v":0},{"$f":"SUMIF(BDD!$BH$2:$BH$3,\"Banc 128VRAIFAUXVRAIFAUXFAUX\",BDD!$Z$2:$Z$3)","v":0},{"$f":"SUMIF(BDD!$BH$2:$BH$3,\"Banc 128VRAIFAUXFAUXVRAIFAUX\",BDD!$Z$2:$Z$3)","v":0},{"$f":"SUMIF(BDD!$BH$2:$BH$3,\"Banc 128VRAIFAUXFAUXFAUXVRAI\",BDD!$Z$2:$Z$3)","v":0},{"$f":"SUMIF(BDD!$BH$2:$BH$3,\"Banc 128FAUXVRAIVRAIFAUXFAUX\",BDD!$Z$2:$Z$3)","v":0},{"$f":"SUMIF(BDD!$BH$2:$BH$3,\"Banc 128FAUXVRAIFAUXVRAIFAUX\",BDD!$Z$2:$Z$3)","v":0},{"$f":"SUMIF(BDD!$BH$2:$BH$3,\"Banc 128FAUXVRAIFAUXFAUXVRAI\",BDD!$Z$2:$Z$3)","v":0},{"$f":"SUMIF(BDD!$BH$2:$BH$3,\"Banc 128VRAIFAUXVRAIFAUXFAUX\",BDD!$Z$2:$Z$3)","v":0},{"$f":"SUMIF(BDD!$BH$2:$BH$3,\"Banc 128VRAIFAUXFAUXVRAIFAUX\",BDD!$Z$2:$Z$3)","v":0},{"$f":"SUMIF(BDD!$BH$2:$BH$3,\"Banc 128VRAIFAUXFAUXFAUXVRAI\",BDD!$Z$2:$Z$3)","v":0},{"$f":"SUMIF(BDD!$BH$2:$BH$3,\"Banc 128FAUXVRAIVRAIFAUXFAUX\",BDD!$Z$2:$Z$3)","v":0},{"$f":"SUMIF(BDD!$BH$2:$BH$3,\"Banc 128FAUXVRAIFAUXVRAIFAUX\",BDD!$Z$2:$Z$3)","v":0},{"$f":"SUMIF(BDD!$BH$2:$BH$3,\"Banc 128FAUXVRAIFAUXFAUXVRAI\",BDD!$Z$2:$Z$3)","v":0},{"$f":"SUMIF(BDD!$BH$2:$BH$3,\"Banc 128VRAIFAUXVRAIFAUXFAUX\",BDD!$Z$2:$Z$3)","v":0},{"$f":"SUMIF(BDD!$BH$2:$BH$3,\"Banc 128VRAIFAUXFAUXVRAIFAUX\",BDD!$Z$2:$Z$3)","v":0},{"$f":"SUMIF(BDD!$BH$2:$BH$3,\"Banc 128VRAIFAUXFAUXFAUXVRAI\",BDD!$Z$2:$Z$3)","v":0},{"$f":"SUMIF(BDD!$BH$2:$BH$3,\"Banc 128FAUXVRAIVRAIFAUXFAUX\",BDD!$Z$2:$Z$3)","v":0},{"$f":"SUMIF(BDD!$BH$2:$BH$3,\"Banc 128FAUXVRAIFAUXVRAIFAUX\",BDD!$Z$2:$Z$3)","v":0},{"$f":"SUMIF(BDD!$BH$2:$BH$3,\"Banc 128FAUXVRAIFAUXFAUXVRAI\",BDD!$Z$2:$Z$3)","v":0},{"$f":"SUMIF(BDD!$BH$2:$BH$3,\"Banc 128VRAIFAUXVRAIFAUXFAUX\",BDD!$Z$2:$Z$3)","v":0},{"$f":"SUMIF(BDD!$BH$2:$BH$3,\"Banc 128VRAIFAUXFAUXVRAIFAUX\",BDD!$Z$2:$Z$3)","v":0},{"$f":"SUMIF(BDD!$BH$2:$BH$3,\"Banc 128VRAIFAUXFAUXFAUXVRAI\",BDD!$Z$2:$Z$3)","v":0},{"$f":"SUMIF(BDD!$BH$2:$BH$3,\"Banc 128FAUXVRAIVRAIFAUXFAUX\",BDD!$Z$2:$Z$3)","v":0},{"$f":"SUMIF(BDD!$BH$2:$BH$3,\"Banc 128FAUXVRAIFAUXVRAIFAUX\",BDD!$Z$2:$Z$3)","v":0},{"$f":"SUMIF(BDD!$BH$2:$BH$3,\"Banc 128FAUXVRAIFAUXFAUXVRAI\",BDD!$Z$2:$Z$3)","v":0},{"$f":"SUMIF(BDD!$BH$2:$BH$3,\"Banc 128VRAIFAUXVRAIFAUXFAUX\",BDD!$Z$2:$Z$3)","v":0},{"$f":"SUMIF(BDD!$BH$2:$BH$3,\"Banc 128VRAIFAUXFAUXVRAIFAUX\",BDD!$Z$2:$Z$3)","v":0},{"$f":"SUMIF(BDD!$BH$2:$BH$3,\"Banc 128VRAIFAUXFAUXFAUXVRAI\",BDD!$Z$2:$Z$3)","v":0},{"$f":"SUMIF(BDD!$BH$2:$BH$3,\"Banc 128FAUXVRAIVRAIFAUXFAUX\",BDD!$Z$2:$Z$3)","v":0},{"$f":"SUMIF(BDD!$BH$2:$BH$3,\"Banc 128FAUXVRAIFAUXVRAIFAUX\",BDD!$Z$2:$Z$3)","v":0},{"$f":"SUMIF(BDD!$BH$2:$BH$3,\"Banc 128FAUXVRAIFAUXFAUXVRAI\",BDD!$Z$2:$Z$3)","v":0},{"$f":"SUMIF(BDD!$BH$2:$BH$3,\"Banc 128VRAIFAUXVRAIFAUXFAUX\",BDD!$Z$2:$Z$3)","v":0},{"$f":"SUMIF(BDD!$BH$2:$BH$3,\"Banc 128VRAIFAUXFAUXVRAIFAUX\",BDD!$Z$2:$Z$3)","v":0},{"$f":"SUMIF(BDD!$BH$2:$BH$3,\"Banc 128VRAIFAUXFAUXFAUXVRAI\",BDD!$Z$2:$Z$3)","v":0},{"$f":"SUMIF(BDD!$BH$2:$BH$3,\"Banc 128FAUXVRAIVRAIFAUXFAUX\",BDD!$Z$2:$Z$3)","v":0},{"$f":"SUMIF(BDD!$BH$2:$BH$3,\"Banc 128FAUXVRAIFAUXVRAIFAUX\",BDD!$Z$2:$Z$3)","v":0},{"$f":"SUMIF(BDD!$BH$2:$BH$3,\"Banc 128FAUXVRAIFAUXFAUXVRAI\",BDD!$Z$2:$Z$3)","v":0},{"$f":"SUMIF(BDD!$BH$2:$BH$3,\"Banc 128VRAIFAUXVRAIFAUXFAUX\",BDD!$Z$2:$Z$3)","v":0},{"$f":"SUMIF(BDD!$BH$2:$BH$3,\"Banc 128VRAIFAUXFAUXVRAIFAUX\",BDD!$Z$2:$Z$3)","v":0},{"$f":"SUMIF(BDD!$BH$2:$BH$3,\"Banc 128VRAIFAUXFAUXFAUXVRAI\",BDD!$Z$2:$Z$3)","v":0},{"$f":"SUMIF(BDD!$BH$2:$BH$3,\"Banc 128FAUXVRAIVRAIFAUXFAUX\",BDD!$Z$2:$Z$3)","v":0},{"$f":"SUMIF(BDD!$BH$2:$BH$3,\"Banc 128FAUXVRAIFAUXVRAIFAUX\",BDD!$Z$2:$Z$3)","v":0},{"$f":"SUMIF(BDD!$BH$2:$BH$3,\"Banc 128FAUXVRAIFAUXFAUXVRAI\",BDD!$Z$2:$Z$3)","v":0}]
["Banc 131",{"$f":"SUMIF(BDD!$BH$2:$BH$3,\"Banc 131VRAIFAUXVRAIFAUXFAUX\",BDD!$Z$2:$Z$3)","v":0},{"$f":"SUMIF(BDD!$BH$2:$BH$3,\"Banc 131VRAIFAUXFAUXVRAIFAUX\",BDD!$Z$2:$Z$3)","v":0},{"$f":"SUMIF(BDD!$BH$2:$BH$3,\"Banc 131VRAIFAUXFAUXFAUXVRAI\",BDD!$Z$2:$Z$3)","v":0},{"$f":"SUMIF(BDD!$BH$2:$BH$3,\"Banc 131FAUXVRAIVRAIFAUXFAUX\",BDD!$Z$2:$Z$3)","v":0},{"$f":"SUMIF(BDD!$BH$2:$BH$3,\"Banc 131FAUXVRAIFAUXVRAIFAUX\",BDD!$Z$2:$Z$3)","v":0},{"$f":"SUMIF(BDD!$BH$2:$BH$3,\"Banc 131FAUXVRAIFAUXFAUXVRAI\",BDD!$Z$2:$Z$3)","v":0},{"$f":"SUMIF(BDD!$BH$2:$BH$3,\"Banc 131VRAIFAUXVRAIFAUXFAUX\",BDD!$Z$2:$Z$3)","v":0},{"$f":"SUMIF(BDD!$BH$2:$BH$3,\"Banc 131VRAIFAUXFAUXVRAIFAUX\",BDD!$Z$2:$Z$3)","v":0},{"$f":"SUMIF(BDD!$BH$2:$BH$3,\"Banc 131VRAIFAUXFAUXFAUXVRAI\",BDD!$Z$2:$Z$3)","v":0},{"$f":"SUMIF(BDD!$BH$2:$BH$3,\"Banc 131FAUXVRAIVRAIFAUXFAUX\",BDD!$Z$2:$Z$3)","v":0},{"$f":"SUMIF(BDD!$BH$2:$BH$3,\"Banc 131FAUXVRAIFAUXVRAIFAUX\",BDD!$Z$2:$Z$3)","v":0},{"$f":"SUMIF(BDD!$BH$2:$BH$3,\"Banc 131FAUXVRAIFAUXFAUXVRAI\",BDD!$Z$2:$Z$3)","v":0},{"$f":"SUMIF(BDD!$BH$2:$BH$683,\"Banc 131VRAIFAUXVRAIFAUXFAUX\",BDD!$Z$2:$Z$683)","v":0},{"$f":"SUMIF(BDD!$BH$2:$BH$683,\"Banc 131VRAIFAUXFAUXVRAIFAUX\",BDD!$Z$2:$Z$683)","v":0},{"$f":"SUMIF(BDD!$BH$2:$BH$683,\"Banc 131VRAIFAUXFAUXFAUXVRAI\",BDD!$Z$2:$Z$683)","v":0},{"$f":"SUMIF(BDD!$BH$2:$BH$683,\"Banc 131FAUXVRAIVRAIFAUXFAUX\",BDD!$Z$2:$Z$683)","v":0.1},{"$f":"SUMIF(BDD!$BH$2:$BH$683,\"Banc 131FAUXVRAIFAUXVRAIFAUX\",BDD!$Z$2:$Z$683)","v":0},{"$f":"SUMIF(BDD!$BH$2:$BH$683,\"Banc 131FAUXVRAIFAUXFAUXVRAI\",BDD!$Z$2:$Z$683)","v":0},{"$f":"SUMIF(BDD!$BH$2:$BH$3,\"Banc 131VRAIFAUXVRAIFAUXFAUX\",BDD!$Z$2:$Z$3)","v":0},{"$f":"SUMIF(BDD!$BH$2:$BH$3,\"Banc 131VRAIFAUXFAUXVRAIFAUX\",BDD!$Z$2:$Z$3)","v":0},{"$f":"SUMIF(BDD!$BH$2:$BH$3,\"Banc 131VRAIFAUXFAUXFAUXVRAI\",BDD!$Z$2:$Z$3)","v":0},{"$f":"SUMIF(BDD!$BH$2:$BH$3,\"Banc 131FAUXVRAIVRAIFAUXFAUX\",BDD!$Z$2:$Z$3)","v":0},{"$f":"SUMIF(BDD!$BH$2:$BH$3,\"Banc 131FAUXVRAIFAUXVRAIFAUX\",BDD!$Z$2:$Z$3)","v":0},{"$f":"SUMIF(BDD!$BH$2:$BH$3,\"Banc 131FAUXVRAIFAUXFAUXVRAI\",BDD!$Z$2:$Z$3)","v":0},{"$f":"SUMIF(BDD!$BH$2:$BH$3,\"Banc 131VRAIFAUXVRAIFAUXFAUX\",BDD!$Z$2:$Z$3)","v":0},{"$f":"SUMIF(BDD!$BH$2:$BH$3,\"Banc 131VRAIFAUXFAUXVRAIFAUX\",BDD!$Z$2:$Z$3)","v":0},{"$f":"SUMIF(BDD!$BH$2:$BH$3,\"Banc 131VRAIFAUXFAUXFAUXVRAI\",BDD!$Z$2:$Z$3)","v":0},{"$f":"SUMIF(BDD!$BH$2:$BH$3,\"Banc 131FAUXVRAIVRAIFAUXFAUX\",BDD!$Z$2:$Z$3)","v":0},{"$f":"SUMIF(BDD!$BH$2:$BH$3,\"Banc 131FAUXVRAIFAUXVRAIFAUX\",BDD!$Z$2:$Z$3)","v":0},{"$f":"SUMIF(BDD!$BH$2:$BH$3,\"Banc 131FAUXVRAIFAUXFAUXVRAI\",BDD!$Z$2:$Z$3)","v":0},{"$f":"SUMIF(BDD!$BH$2:$BH$3,\"Banc 131VRAIFAUXVRAIFAUXFAUX\",BDD!$Z$2:$Z$3)","v":0},{"$f":"SUMIF(BDD!$BH$2:$BH$3,\"Banc 131VRAIFAUXFAUXVRAIFAUX\",BDD!$Z$2:$Z$3)","v":0},{"$f":"SUMIF(BDD!$BH$2:$BH$3,\"Banc 131VRAIFAUXFAUXFAUXVRAI\",BDD!$Z$2:$Z$3)","v":0},{"$f":"SUMIF(BDD!$BH$2:$BH$3,\"Banc 131FAUXVRAIVRAIFAUXFAUX\",BDD!$Z$2:$Z$3)","v":0},{"$f":"SUMIF(BDD!$BH$2:$BH$3,\"Banc 131FAUXVRAIFAUXVRAIFAUX\",BDD!$Z$2:$Z$3)","v":0},{"$f":"SUMIF(BDD!$BH$2:$BH$3,\"Banc 131FAUXVRAIFAUXFAUXVRAI\",BDD!$Z$2:$Z$3)","v":0},{"$f":"SUMIF(BDD!$BH$2:$BH$3,\"Banc 131VRAIFAUXVRAIFAUXFAUX\",BDD!$Z$2:$Z$3)","v":0},{"$f":"SUMIF(BDD!$BH$2:$BH$3,\"Banc 131VRAIFAUXFAUXVRAIFAUX\",BDD!$Z$2:$Z$3)","v":0},{"$f":"SUMIF(BDD!$BH$2:$BH$3,\"Banc 131VRAIFAUXFAUXFAUXVRAI\",BDD!$Z$2:$Z$3)","v":0},{"$f":"SUMIF(BDD!$BH$2:$BH$3,\"Banc 131FAUXVRAIVRAIFAUXFAUX\",BDD!$Z$2:$Z$3)","v":0},{"$f":"SUMIF(BDD!$BH$2:$BH$3,\"Banc 131FAUXVRAIFAUXVRAIFAUX\",BDD!$Z$2:$Z$3)","v":0},{"$f":"SUMIF(BDD!$BH$2:$BH$3,\"Banc 131FAUXVRAIFAUXFAUXVRAI\",BDD!$Z$2:$Z$3)","v":0},{"$f":"SUMIF(BDD!$BH$2:$BH$3,\"Banc 131VRAIFAUXVRAIFAUXFAUX\",BDD!$Z$2:$Z$3)","v":0},{"$f":"SUMIF(BDD!$BH$2:$BH$3,\"Banc 131VRAIFAUXFAUXVRAIFAUX\",BDD!$Z$2:$Z$3)","v":0},{"$f":"SUMIF(BDD!$BH$2:$BH$3,\"Banc 131VRAIFAUXFAUXFAUXVRAI\",BDD!$Z$2:$Z$3)","v":0},{"$f":"SUMIF(BDD!$BH$2:$BH$3,\"Banc 131FAUXVRAIVRAIFAUXFAUX\",BDD!$Z$2:$Z$3)","v":0},{"$f":"SUMIF(BDD!$BH$2:$BH$3,\"Banc 131FAUXVRAIFAUXVRAIFAUX\",BDD!$Z$2:$Z$3)","v":0},{"$f":"SUMIF(BDD!$BH$2:$BH$3,\"Banc 131FAUXVRAIFAUXFAUXVRAI\",BDD!$Z$2:$Z$3)","v":0},{"$f":"SUMIF(BDD!$BH$2:$BH$3,\"Banc 131VRAIFAUXVRAIFAUXFAUX\",BDD!$Z$2:$Z$3)","v":0},{"$f":"SUMIF(BDD!$BH$2:$BH$3,\"Banc 131VRAIFAUXFAUXVRAIFAUX\",BDD!$Z$2:$Z$3)","v":0},{"$f":"SUMIF(BDD!$BH$2:$BH$3,\"Banc 131VRAIFAUXFAUXFAUXVRAI\",BDD!$Z$2:$Z$3)","v":0},{"$f":"SUMIF(BDD!$BH$2:$BH$3,\"Banc 131FAUXVRAIVRAIFAUXFAUX\",BDD!$Z$2:$Z$3)","v":0},{"$f":"SUMIF(BDD!$BH$2:$BH$3,\"Banc 131FAUXVRAIFAUXVRAIFAUX\",BDD!$Z$2:$Z$3)","v":0},{"$f":"SUMIF(BDD!$BH$2:$BH$3,\"Banc 131FAUXVRAIFAUXFAUXVRAI\",BDD!$Z$2:$Z$3)","v":0},{"$f":"SUMIF(BDD!$BH$2:$BH$3,\"Banc 131VRAIFAUXVRAIFAUXFAUX\",BDD!$Z$2:$Z$3)","v":0},{"$f":"SUMIF(BDD!$BH$2:$BH$3,\"Banc 131VRAIFAUXFAUXVRAIFAUX\",BDD!$Z$2:$Z$3)","v":0},{"$f":"SUMIF(BDD!$BH$2:$BH$3,\"Banc 131VRAIFAUXFAUXFAUXVRAI\",BDD!$Z$2:$Z$3)","v":0},{"$f":"SUMIF(BDD!$BH$2:$BH$3,\"Banc 131FAUXVRAIVRAIFAUXFAUX\",BDD!$Z$2:$Z$3)","v":0},{"$f":"SUMIF(BDD!$BH$2:$BH$3,\"Banc 131FAUXVRAIFAUXVRAIFAUX\",BDD!$Z$2:$Z$3)","v":0},{"$f":"SUMIF(BDD!$BH$2:$BH$3,\"Banc 131FAUXVRAIFAUXFAUXVRAI\",BDD!$Z$2:$Z$3)","v":0},{"$f":"SUMIF(BDD!$BH$2:$BH$3,\"Banc 131VRAIFAUXVRAIFAUXFAUX\",BDD!$Z$2:$Z$3)","v":0},{"$f":"SUMIF(BDD!$BH$2:$BH$3,\"Banc 131VRAIFAUXFAUXVRAIFAUX\",BDD!$Z$2:$Z$3)","v":0},{"$f":"SUMIF(BDD!$BH$2:$BH$3,\"Banc 131VRAIFAUXFAUXFAUXVRAI\",BDD!$Z$2:$Z$3)","v":0},{"$f":"SUMIF(BDD!$BH$2:$BH$3,\"Banc 131FAUXVRAIVRAIFAUXFAUX\",BDD!$Z$2:$Z$3)","v":0},{"$f":"SUMIF(BDD!$BH$2:$BH$3,\"Banc 131FAUXVRAIFAUXVRAIFAUX\",BDD!$Z$2:$Z$3)","v":0},{"$f":"SUMIF(BDD!$BH$2:$BH$3,\"Banc 131FAUXVRAIFAUXFAUXVRAI\",BDD!$Z$2:$Z$3)","v":0},{"$f":"SUMIF(BDD!$BH$2:$BH$3,\"Banc 131VRAIFAUXVRAIFAUXFAUX\",BDD!$Z$2:$Z$3)","v":0},{"$f":"SUMIF(BDD!$BH$2:$BH$3,\"Banc 131VRAIFAUXFAUXVRAIFAUX\",BDD!$Z$2:$Z$3)","v":0},{"$f":"SUMIF(BDD!$BH$2:$BH$3,\"Banc 131VRAIFAUXFAUXFAUXVRAI\",BDD!$Z$2:$Z$3)","v":0},{"$f":"SUMIF(BDD!$BH$2:$BH$3,\"Banc 131FAUXVRAIVRAIFAUXFAUX\",BDD!$Z$2:$Z$3)","v":0},{"$f":"SUMIF(BDD!$BH$2:$BH$3,\"Banc 131FAUXVRAIFAUXVRAIFAUX\",BDD!$Z$2:$Z$3)","v":0},{"$f":"SUMIF(BDD!$BH$2:$BH$3,\"Banc 131FAUXVRAIFAUXFAUXVRAI\",BDD!$Z$2:$Z$3)","v":0}]

{"sheet":"Indicateur Banc","index":8,"n_rows":8,"n_cols":13,"rows_kept":8,"cut":false,"hidden":false,"merged":[[2,1,2,12],[4,1,4,12],[6,1,6,12]]}
[]
[]
[null,"Suivi du correctif et du préventif"]
["Type de maintenance","Janvier","Février","Mars","Avril","Mai","Juin","Juillet","Août","Septembre","Octobre","Novembre","Décembre"]
[null,"Préventif"]
[true,{"$f":"SUMIF(BDD!$M$2:$M$3,'Indicateur Banc'!$A$6,BDD!$Z$2:$Z$3)","v":0},{"$f":"SUMIF(BDD!$M$2:$M$3,'Indicateur Banc'!$A$6,BDD!$Z$2:$Z$3)","v":0},{"$f":"SUMIF(BDD!$M$2:$M$30,'Indicateur Banc'!$A$6,BDD!$Z$2:$Z$30)","v":33.999999999999993},{"$f":"SUMIF(BDD!$M$2:$M$3,'Indicateur Banc'!$A$6,BDD!$Z$2:$Z$3)","v":0},{"$f":"SUMIF(BDD!$M$2:$M$3,'Indicateur Banc'!$A$6,BDD!$Z$2:$Z$3)","v":0},{"$f":"SUMIF(BDD!$M$2:$M$3,'Indicateur Banc'!$A$6,BDD!$Z$2:$Z$3)","v":0},{"$f":"SUMIF(BDD!$M$2:$M$3,'Indicateur Banc'!$A$6,BDD!$Z$2:$Z$3)","v":0},{"$f":"SUMIF(BDD!$M$2:$M$3,'Indicateur Banc'!$A$6,BDD!$Z$2:$Z$3)","v":0},{"$f":"SUMIF(BDD!$M$2:$M$3,'Indicateur Banc'!$A$6,BDD!$Z$2:$Z$3)","v":0},{"$f":"SUMIF(BDD!$M$2:$M$3,'Indicateur Banc'!$A$6,BDD!$Z$2:$Z$3)","v":0},{"$f":"SUMIF(BDD!$M$2:$M$3,'Indicateur Banc'!$A$6,BDD!$Z$2:$Z$3)","v":0},{"$f":"SUMIF(BDD!$M$2:$M$3,'Indicateur Banc'!$A$6,BDD!$Z$2:$Z$3)","v":0}]
[null,"Correctif"]
[true,{"$f":"SUMIF(BDD!$L$2:$L$3,'Indicateur Banc'!$A$8,BDD!$Z$2:$Z$3)","v":0},{"$f":"SUMIF(BDD!$L$2:$L$3,'Indicateur Banc'!$A$8,BDD!$Z$2:$Z$3)","v":0},{"$f":"SUMIF(BDD!$L$2:$L$30,'Indicateur Banc'!$A$8,BDD!$Z$2:$Z$30)","v":8.9699999999999989},{"$f":"SUMIF(BDD!$L$2:$L$3,'Indicateur Banc'!$A$8,BDD!$Z$2:$Z$3)","v":0},{"$f":"SUMIF(BDD!$L$2:$L$3,'Indicateur Banc'!$A$8,BDD!$Z$2:$Z$3)","v":0},{"$f":"SUMIF(BDD!$L$2:$L$3,'Indicateur Banc'!$A$8,BDD!$Z$2:$Z$3)","v":0},{"$f":"SUMIF(BDD!$L$2:$L$3,'Indicateur Banc'!$A$8,BDD!$Z$2:$Z$3)","v":0},{"$f":"SUMIF(BDD!$L$2:$L$3,'Indicateur Banc'!$A$8,BDD!$Z$2:$Z$3)","v":0},{"$f":"SUMIF(BDD!$L$2:$L$3,'Indicateur Banc'!$A$8,BDD!$Z$2:$Z$3)","v":0},{"$f":"SUMIF(BDD!$L$2:$L$3,'Indicateur Banc'!$A$8,BDD!$Z$2:$Z$3)","v":0},{"$f":"SUMIF(BDD!$L$2:$L$3,'Indicateur Banc'!$A$8,BDD!$Z$2:$Z$3)","v":0},{"$f":"SUMIF(BDD!$L$2:$L$3,'Indicateur Banc'!$A$8,BDD!$Z$2:$Z$3)","v":0}]