{"text_format":"1","workbook":"xlsx","n_sheets":9,"sheets":["Fiche d'intervention","BDD","Liste","Indicateur Zone5","Indicateur Zone6","Indicateur Zone8","Indicateur Zone9","Indicateur Zone10","Indicateur Banc"],"not_rendered":{"charts":23,"images":4,"macros":1,"external_links":0,"defined_names":3,"comments":0,"pivot_tables":0},"unopened":[],"bounds":{"document_bytes":16777216,"sheet_cells":100000,"rows_first":2000,"rows_last":500,"rows_between":2000,"halvings":0,"cell_chars":16384,"cell_head_chars":4096},"cells_cut":0,"cells_raw":0,"read":"whole","date_system":"1900"}

{"sheet":"Fiche d'intervention","index":0,"n_rows":51,"n_cols":16,"rows_kept":51,"cut":false,"hidden":false,"merged":[[24,2,25,4],[24,5,25,9],[33,12,35,13],[36,12,36,13],[37,12,38,13],[12,15,12,16],[13,15,13,16],[14,15,14,16],[8,15,8,16],[1,18,9,20],[15,15,16,16],[15,17,16,17],[17,15,17,16],[29,8,29,9],[9,8,10,11],[9,12,10,13],[11,10,11,13],[11,6,11,9],[14,6,14,7],[12,8,12,9],[13,8,13,9],[14,8,14,9],[17,2,17,13],[18,2,23,13],[15,2,16,13],[24,10,25,13],[56,2,56,6],[56,7,56,10],[56,11,56,13],[30,2,31,13],[26,8,26,9],[27,8,27,9],[28,8,28,9],[28,10,28,12],[29,10,29,12],[26,10,26,12],[27,10,27,12],[26,2,26,3],[27,2,27,3],[28,2,28,3],[29,2,29,3],[51,7,52,10],[60,2,60,6],[60,7,60,10],[60,11,60,13],[57,2,57,6],[57,7,57,10],[57,11,57,13],[58,2,58,6],[58,7,58,10],[58,11,58,13],[59,2,59,6],[59,7,59,10],[59,11,59,13],[51,11,52,13],[32,2,38,11],[50,7,50,10],[50,11,50,13],[48,2,49,13],[39,2,40,13],[41,2,47,13],[32,12,32,13],[55,11,55,13],[54,11,54,13],[53,11,53,13],[55,7,55,10],[54,7,54,10],[53,7,53,10],[6,2,7,13],[0,13,4,13],[0,5,4,12],[8,2,8,7],[10,2,10,7],[14,2,14,5],[12,6,12,7],[8,8,8,11],[8,12,8,13],[11,2,11,5],[9,3,9,7],[12,3,12,5],[13,3,13,5],[13,6,13,7],[12,10,14,13],[55,2,55,6],[50,2,50,6],[54,2,54,6],[53,2,53,6],[51,2,52,6]]}
[null,null,null,null,null,"FICHE D'INTERVENTION MAINTENANCE",null,null,null,null,null,null,null,"FI115"]
[]
[]
[]
[]
[]
[null,null,"Compte-rendu d'intervention"]
[]
[null,null,"Demandeur",null,null,null,null,null,"Système",null,null,null,"Compteur machine",null,null,"Statut fiche d'intervention"]
[null,null,"Nom:","romain.dehan",null,null,null,null,"Réseau d'eau atelier",null,null,null,0]
[]
[null,null,"Intervenant(s)",null,null,null,"Priorité",null,null,null,"Date de création de la demande"]
[null,null,"Nom :",null,null,null,1,null,false,null,"27/04/2016"]
[null,null,"Nom :",null,null,null,2,null,false,null,null,null,null,null,null,"Intervention en attente"]
[null,null,"Secteur Maintenance",null,null,null,3,true,false,null,null,null,null,null,null,"Intervention  finalisée"]
[null,null,"Localisation de l'intervention",null,null,null,null,null,null,null,null,null,null,null,null,"Intervention en attente de pièce"]
[]
[null,null,"Description de la demande",null,null,null,null,null,null,null,null,null,null,null,null,"Intervention en cours"]
[null,null,"Fuite d'eau derrière le 124 au niveau de la remontée d'huile.                                                                                                                                      L'eau coule de temps en temps sur la remontée d'huile."]
[]
[]
[]
[]
[]
[null,null,"Type de maintenance",null,null,"Type d'intervention",null,null,null,null,"Cause de défaillance"]
[]
[null,null,"Corrective",null,false,"Electrique",false,"Mesure",false,null,"Usure normale",null,null,false]
[null,null,"Préventive",null,false,"Mécanique",false,null,true,null,"Défaut utilisateur",null,null,false]
[null,null,"Préparation essais",null,false,"Hydraulique",false,null,false,null,"Défaut produit",null,null,false]
[null,null,"Amélioration",null,false,"Informatique",false,null,null,null,"Autre",null,null,false]
[null,null,"Cause liée à la défaillance"]
[]
[null,null,null,null,null,null,null,null,null,null,null,null,"Temps d'intervention en heure"]
[]
[]
[]
[null,null,null,null,null,null,null,null,null,null,null,null,"Date de fin d'intervention"]
[]
[]
[null,null,"Rapport d'intervention"]
[]
[]
[]
[]
[]
[]
[]
[]
[null,null,"Pièces de rechange et consommables"]
[]
[null,null,"Désignation",null,null,null,null,"Marque / Référence",null,null,null,"Quantité"]

{"sheet":"BDD","index":1,"n_rows":457,"n_cols":61,"rows_kept":457,"cut":false,"hidden":false,"merged":[[0,28,0,37],[0,38,0,47],[0,48,0,57],[0,4,0,6]]}
["N° intervention","Demandeur","Nom Intervenant","Nom intervenant ","Priorité                                            1                    2                   3",null,null,"Systéme","Compteur machine","Date","Description de la demande","Corrective","Préventive","Préparation essai","Amélioration","Electrique","Mécanique","Hydraulique","Informatique","Mesure","Usure normale","Défaut utilisateur","Défaut produit","Autre","Cause lié à la défaillance","Temps d'intervention","Date de fin d'intervention","Rapport d'intervention","Désignation",null,null,null,null,null,null,null,null,null,"Marque / Référence",null,null,null,null,null,null,null,null,null,"Quantité",null,null,null,null,null,null,null,null,null,"Formule corectif et prévzentif","Formule pour prévefentif curatif en fonction du banc","Formule Pour amélioration et prépa essais"]
[null,null,null,null,null,null,null,null,null,null,null,null,null,null,null,null,null,null,null,null,null,null,null,null,null,null,null,null,null,null,null,null,null,null,null,null,null,null,null,null,null,null,null,null,null,null,null,null,null,null,null,null,null,null,null,null,null,null,null,null,{"$f":"H2&L2&M2&N2&O2&P2&Q2&R2","v":""}]
[null,null,null,null,null,null,null,null,null,null,null,null,null,null,null,null,null,null,null,null,null,null,null,null,null,null,null,null,null,null,null,null,null,null,null,null,null,null,null,null,null,null,null,null,null,null,null,null,null,null,null,null,null,null,null,null,null,null,null,null,""]
[null,null,null,null,null,null,null,null,null,null,null,null,null,null,null,null,null,null,null,null,null,null,null,null,null,null,null,null,null,null,null,null,null,null,null,null,null,null,null,null,null,null,null,null,null,null,null,null,null,null,null,null,null,null,null,null,null,null,null,null,""]
[null,null,null,null,null,null,null,null,null,null,null,null,null,null,null,null,null,null,null,null,null,null,null,null,null,null,null,null,null,null,null,null,null,null,null,null,null,null,null,null,null,null,null,null,null,null,null,null,null,null,null,null,null,null,null,null,null,null,null,null,""]
[null,null,null,null,null,null,null,null,null,null,null,null,null,null,null,null,null,null,null,null,null,null,null,null,null,null,null,null,null,null,null,null,null,null,null,null,null,null,null,null,null,null,null,null,null,null,null,null,null,null,null,null,null,null,null,null,null,null,null,null,""]
["FI6","GUILLAUME SEBASTIEN","T.HEMART",null,true,false,false,"Banc 128",1234,42447,"Problème sur limiteur de pression Ligne M",true,false,null,null,false,false,true,null,false,false,false,true,false,"Pollution",1,42447,"DEMONTAGE NETTOYAGE ET REMONTAGE DU LIMITEUR DE PRESSION",null,null,null,null,null,null,null,null,null,null,null,null,null,null,null,null,null,null,null,null,null,null,null,null,null,null,null,null,null,null,{"$f":"H7&L7&M7","v":"Banc 128VRAIFAUX"},{"$f":"H7&L7&M7&P7&Q7&R7","v":"Banc 128VRAIFAUXFAUXFAUXVRAI"},{"$f":"H7&N7&O7&P7&Q7&R7","v":"Banc 128FAUXFAUXVRAI"}]
["FI7","C.GAUVIN","A.DELAUNAY",null,true,false,false,"Banc 126",9316,"2016-03-18","TLC_RPP-516-941 prog automate + câblage bobines voir Jonathan BARRA - Chronogramme dans la TLC",false,true,false,false,true,false,false,false,false,false,false,false,false,"AUCUNE",0.3,"2016-03-18","Programme finalisé, en attente par la suite du montage de l'essai sur le banc.",null,null,null,null,null,null,null,null,null,null,null,null,null,null,null,null,null,null,null,null,null,null,null,null,null,null,null,null,null,null,"Banc 126FAUXVRAI","Banc 126FAUXVRAIVRAIFAUXFAUX",{"$f":"H8&N8&O8&P8&Q8&R8","v":"Banc 126FAUXFAUXVRAIFAUXFAUX"}]
["FI8","C.GAUVIN","T.HEMART",null,true,false,false,"Banc 125",59195,"2016-03-22","VIBRATIONS ANORMALES DES 2 RETOURS P10 SUR REFRIGERANTS",true,false,false,false,false,false,true,false,false,true,false,false,false,"VIEILLISSEMENT DES 2 P10 SUR RETOUR REFRIGERANT",2.2999999999999998,"2016-03-22","CHANGEMENT DES 2 P10 PAR DES NEUFS",null,null,null,null,null,null,null,null,null,null,null,null,null,null,null,null,null,null,null,null,null,null,null,null,null,null,null,null,null,null,"Banc 125VRAIFAUX","Banc 125VRAIFAUXFAUXFAUXVRAI","Banc 125FAUXFAUXFAUXFAUXVRAI"]
["FI9","C.GAUVIN","T.HEMART","J.BOUCHER",true,false,false,"Banc 123",75697,"2016-03-22","VIDANGE DE L'HUILE XV32 / RINCAGE / REMPLISSAGE EN HUILE HV46\nDISPONIBILITE DU BANC POUR VENDREDI MATIN",false,true,false,false,false,false,true,false,false,false,false,false,false,"USURE DE L'HUILE XV32 PREMATUREE",32,"2016-03-22","Vidange, rinçage, nettoyage, remplissage en HV 46 et changement de tout les filtres","Filtre",null,null,null,null,null,null,null,null,null,"Relumix 483-4/P10",null,null,null,null,null,null,null,null,null,3,null,null,null,null,null,null,null,null,null,"Banc 123FAUXVRAI","Banc 123FAUXVRAIFAUXFAUXVRAI","Banc 123FAUXFAUXFAUXFAUXVRAI"]
["FI10","GARCIA SANCHEZ","D.GARCIA SANCHEZ",null,true,false,false,"Banc P7",7569,"2016-03-22","Le variateur ne demarre pas ",true,false,false,false,true,false,false,false,false,false,true,false,false,"Arrêt d'urgence variateur activer",0.15,"2016-03-22","Désactivation arrêt d'urgence",null,null,null,null,null,null,null,null,null,null,null,null,null,null,null,null,null,null,null,null,null,null,null,null,null,null,null,null,null,null,"Banc P7VRAIFAUX","Banc P7VRAIFAUXVRAIFAUXFAUX","Banc P7FAUXFAUXVRAIFAUXFAUX"]
["FI11","BARRA","J.BOUCHER",null,true,false,false,"Banc 104","4210,35","2016-03-22","LA PRESSION N'EST PAS STABLE SUR LA LIGNE 8",false,true,false,false,false,false,true,false,false,false,false,false,false,"AUCUNE",1,"2016-03-22","DEMONTAGE / NETTOYAGE / REMONTAGE DU LP8","LIMITEUR DE PRESSION 8",null,null,null,null,null,null,null,null,null,null,null,null,null,null,null,null,null,null,null,1,null,null,null,null,null,null,null,null,null,"Banc 104FAUXVRAI","Banc 104FAUXVRAIFAUXFAUXVRAI","Banc 104FAUXFAUXFAUXFAUXVRAI"]
["FI12","BARRA","J.BOUCHER",null,true,false,false,"Banc 104","4210,35","2016-03-22","Probleme de régulation de RD8 (vitesse du moteur en test trop instable en PEV)",true,false,false,false,false,false,true,false,false,false,false,false,false,null,2,"2016-03-22","Remplacement du RD8 par RD9","Réducteur de debit",null,null,null,null,null,null,null,null,null,null,null,null,null,null,null,null,null,null,null,"1 envoyer chez équipe",null,null,null,null,null,null,null,null,null,"Banc 104VRAIFAUX","Banc 104VRAIFAUXFAUXFAUXVRAI","Banc 104FAUXFAUXFAUXFAUXVRAI"]
["FI13","romain.dehan","J.BOUCHER",null,false,true,false,"Banc 124",12795,"2016-03-21","REFAIRE LE NIVEAU D'HUILE JUSQU'AU MILIEU DE LA SECONDE BULLE",false,true,false,false,false,false,true,false,false,false,false,false,false,"Fuite dans le recepteur du 124bis.",0.3,"2016-03-21","RAS",null,null,null,null,null,null,null,null,null,null,null,null,null,null,null,null,null,null,null,null,null,null,null,null,null,null,null,null,null,null,"Banc 124FAUXVRAI","Banc 124FAUXVRAIFAUXFAUXVRAI","Banc 124FAUXFAUXFAUXFAUXVRAI"]
["FI15","christophe.gauvin","A.DELAUNAY",null,true,false,false,"Chambre froide",2731,"2016-03-24","RPP_624-500-965 Installation d'un clignoteur pour le pilotage d'un distributeur. Voir Aëlig",false,true,false,false,true,false,false,false,false,false,false,false,false,"Installation a réaliser dans le cdre d'un essai RPP_624-500-965",0.3,"2016-03-24","Installation du clignoteur effectué, branchement de la bobine du distributeur faite et relié à une alimentation 24VDC se situant au banc d'essais P1","Câble\n",null,null,null,null,null,null,null,null,null,"2X1 HO7RNF",null,null,null,null,null,null,null,null,null,"10 M",null,null,null,null,null,null,null,null,null,"Chambre froideFAUXVRAI","Chambre froideFAUXVRAIVRAIFAUXFAUX","Chambre froideFAUXFAUXVRAIFAUXFAUX"]
[null,null,null,null,null,null,null,null,null,null,null,null,null,null,null,null,null,null,null,null,null,null,null,null,null,null,null,null,null,null,null,null,null,null,null,null,null,null,null,null,null,null,null,null,null,null,null,null,null,null,null,null,null,null,null,null,null,null,"","",""]
["FI16","romain.dehan","J.BOUCHER",null,false,true,false,"Banc 120",26687,"2016-03-29","Refaire 3 plaques de fermeture sur le réservoir dont une équiper d'un filtre à air",false,true,null,null,false,false,true,null,false,false,false,false,false,"Perte des bouchons de réservoir liés à l'installation des retours directs dans le réservoir",0.1,"2016-03-29","Mise en place de 2 bouchons et changement de la 3eme plaque par une plaque pleine.",null,null,null,null,null,null,null,null,null,null,null,null,null,null,null,null,null,null,null,null,null,null,null,null,null,null,null,null,null,null,"Banc 120FAUXVRAI","Banc 120FAUXVRAIFAUXFAUXVRAI","Banc 120FAUXFAUXVRAI"]
["FI17","romain.dehan","J.BOUCHER",null,false,false,false,"Banc 104",4206,"2016-03-30","Intervertir RD8 et RD9 pour test de pilotage",true,false,null,null,true,false,false,null,false,false,false,false,true,"Probleme de regulation de debit",0.05,"2016-03-31","intervention de diagnostic, invertion des prises des pilotages RD8 RD9",null,null,null,null,null,null,null,null,null,null,null,null,null,null,null,null,null,null,null,null,null,null,null,null,null,null,null,null,null,null,"Banc 104VRAIFAUX","Banc 104VRAIFAUXVRAIFAUXFAUX","Banc 104VRAIFAUXFAUX"]
["FI18","romain.dehan","T.HEMART",null,false,false,false,"Banc 125",59350,"2016-03-30","Remplacement du bloc pelle par un gros CETOP 5 avant le contrôle des débits sur HP MENANT",true,false,null,null,false,false,true,null,false,false,false,false,false,null,2.5,"2016-03-30","Changement du distributeur afin de déterminer si celui-ci est la cause des oscillations de pressions enregistrées sur le banc.","Distributeur électro-hydraulique 4/3 croisé parallèle centre en H",null,null,null,null,null,null,null,null,null,"ATOS",null,null,null,null,null,null,null,null,null,1,null,null,null,null,null,null,null,null,null,"Banc 125VRAIFAUX","Banc 125VRAIFAUXFAUXFAUXVRAI","Banc 125FAUXFAUXVRAI"]
["FI19","romain.dehan","A.DELAUNAY",null,false,false,false,"Porte bâtiment",0,"2016-03-30","Problème détection du capteur de porte déroulante côté véhicule",true,false,null,null,true,false,false,null,false,false,false,false,false,"Capteur mal régleé par l'installateur sous traitant",0.5,"2016-03-30","Réglage des axes x et y du capteur",null,null,null,null,null,null,null,null,null,null,null,null,null,null,null,null,null,null,null,null,null,null,null,null,null,null,null,null,null,null,"Porte bâtimentVRAIFAUX","Porte bâtimentVRAIFAUXVRAIFAUXFAUX","Porte bâtimentVRAIFAUXFAUX"]
["FI20","romain.dehan","J.BOUCHER",null,false,false,false,"Banc 104",4206,"2016-03-30","Intervertir RD8 et RD9 pour test de pilotage",false,true,null,null,false,false,false,null,true,false,true,false,false,"Amélioration",1,"1900-01-01","Voir FI17",null,null,null,null,null,null,null,null,null,null,null,null,null,null,null,null,null,null,null,null,null,null,null,null,null,null,null,null,null,null,"Banc 104FAUXVRAI","Banc 104FAUXVRAIFAUXFAUXFAUX","Banc 104FAUXFAUXFAUX"]
["FI21","romain.dehan","D.GARCIA SANCHEZ",null,true,false,false,"Banc P1",59173,"2016-03-24","Variateur en défaut",true,false,false,false,true,false,false,false,false,false,false,false,false,"Moteur chauffe trop par rapport a l'essai demander",0.02,"2016-03-24","Reset défaut variateur",null,null,null,null,null,null,null,null,null,null,null,null,null,null,null,null,null,null,null,null,null,null,null,null,null,null,null,null,null,null,"Banc P1VRAIFAUX","Banc P1VRAIFAUXVRAIFAUXFAUX","Banc P1FAUXFAUXVRAIFAUXFAUX"]
["FI22","romain.dehan","A.DELAUNAY","H.POTIER",false,false,false,"Banc 123",75740,"2016-03-30","Refixer l'armoire à Mano + fixer le mano se trouvant au sol sur celle-ci",true,false,null,null,false,true,false,null,false,false,false,false,false,null,0.5,"2016-03-30","Coffret des manos soudé sur le pupitre, le mano se trouvant sur le sol n'a pas été fixer car le banc va être très bientôt rénové.",null,null,null,null,null,null,null,null,null,null,null,null,null,null,null,null,null,null,null,null,null,null,null,null,null,null,null,null,null,null,"Banc 123VRAIFAUX","Banc 123VRAIFAUXFAUXVRAIFAUX","Banc 123FAUXVRAIFAUX"]
["FI23","romain.dehan","T.HEMART","D.GARCIA SANCHEZ",true,false,false,"Machine à laver",0,"2016-03-30","La machine à laver ne fonctionne plus.",true,false,null,null,true,false,true,null,false,true,false,false,false,null,8,"2016-04-12","La DA pour la pompe est faite et validée par Philippe. L'envoi de la pompe a été anticipé par le fournisseur JEAN BREL S.A.\nLa pompe a été remplacée par une neuve. Le contacteur de la pompe a été changé.","Groupe moto-pompe",null,"Contacteur moteur",null,null,null,null,null,null,null,"LOWARA CA200/35/P-V",null,"Scneider LC1D09",null,null,null,null,null,null,null,1,null,1,null,null,null,null,null,null,null,"Machine à laverVRAIFAUX","Machine à laverVRAIFAUXVRAIFAUXVRAI","Machine à laverVRAIFAUXVRAI"]
["FI24","romain.dehan","J.BOUCHER","T.HEMART",true,false,false,"Banc 128",4124,"2016-03-31","Le réducteur de débit RD BAL présente  des signes de collage. ",true,false,null,null,false,false,true,null,false,true,false,false,false,null,2,"31/04/2016","Rréducteur démonté, nettoyé et remonté. Remise ne service OK",null,null,null,null,null,null,null,null,null,null,null,null,null,null,null,null,null,null,null,null,null,null,null,null,null,null,null,null,null,null,"Banc 128VRAIFAUX","Banc 128VRAIFAUXFAUXFAUXVRAI","Banc 128FAUXFAUXVRAI"]
["FI25","lilian.charlier","D.GARCIA SANCHEZ","A.DELAUNAY",false,true,false,"Banc électroniques",0,"2016-04-04","Demande officielle pour le déplacement des bancs électroniques situés derrière le nouveau P9 (bancs + armoires). Ils sont à replacer en face du magasin de raccords (au niveau des poteaux à coté de la TY45). Il faut aussi les raccorder électriquement. Merci d'avance, Lilian.",false,false,null,true,true,false,false,null,false,false,true,false,false,null,1.5,"2016-04-11","Déplacement des bancs électroniques et des armoires de rangement, et branchement des bancs ( prise 230V standard que toutes personnes présentres au service essais peut débrancher). Aucune valeur rajoutée et perte de temps d'un électrotechnicien, qui n'est pas déménageur.",null,null,null,null,null,null,null,null,null,null,null,null,null,null,null,null,null,null,null,null,null,null,null,null,null,null,null,null,null,null,"Banc électroniquesFAUXFAUX","Banc électroniquesFAUXFAUXVRAIFAUXFAUX","Banc électroniquesVRAIVRAIFAUXFAUX"]
["FI26","romain.dehan","T.HEMART","J.BOUCHER",false,true,false,"Banc 124 bis",7,"2016-04-04"," Raccorder la remontée d’huile sur le bac de rétention de la platine d’essai\n",false,true,null,null,false,false,true,null,false,false,false,false,true,null,null,null,null,null,null,null,null,null,null,null,null,null,null,null,null,null,null,null,null,null,null,null,null,null,null,null,null,null,null,null,null,null,null,"Banc 124 bisFAUXVRAI","Banc 124 bisFAUXVRAIFAUXFAUXVRAI","Banc 124 bisFAUXFAUXVRAI"]
["FI27","yann.nourricier","A.DELAUNAY","H.POTIER",false,false,true,"Banc 128",4128,"2016-04-05","Suite à la maintenance préventive d'InTest, il faut : Mettre en place des borniers, repérer les câbles et passé sur des plus petite section.",true,false,null,null,true,false,false,null,false,false,false,false,true,null,null,null,null,null,null,null,null,null,null,null,null,null,null,null,null,null,null,null,null,null,null,null,null,null,null,null,null,null,null,null,null,null,null,"Banc 128VRAIFAUX","Banc 128VRAIFAUXVRAIFAUXFAUX","Banc 128VRAIFAUXFAUX"]
["FI28","yann.nourricier","J.BOUCHER",null,false,true,false,"Banc 128",4128,"2016-04-05","Suite à la maintenance préventive d'InTest, il y a une fuite d'huile dans la centrale hydraulique dans le bac de rétention",true,false,null,null,false,false,true,null,false,false,false,false,false,null,null,null,null,null,null,null,null,null,null,null,null,null,null,null,null,null,null,null,null,null,null,null,null,null,null,null,null,null,null,null,null,null,null,"Banc 128VRAIFAUX","Banc 128VRAIFAUXFAUXFAUXVRAI","Banc 128FAUXFAUXVRAI"]
["FI29","yann.nourricier","A.DELAUNAY",null,true,false,false,"Banc 128",4128,"2016-04-05","Il faudrait mettre à jours les schémas électrique.",true,false,null,null,true,false,false,null,false,false,false,false,true,null,null,null,null,null,null,null,null,null,null,null,null,null,null,null,null,null,null,null,null,null,null,null,null,null,null,null,null,null,null,null,null,null,null,"Banc 128VRAIFAUX","Banc 128VRAIFAUXVRAIFAUXFAUX","Banc 128VRAIFAUXFAUX"]
["FI30","yann.nourricier","A.DELAUNAY",null,false,true,false,"Banc 131",2309,"2016-04-05","Les relais de l'armoire de puissance n'ont pas de diode de roue libre. Est-il intéressant d'en mettre avec diode ? (pour éviter les arcs électrique)",false,true,null,null,true,false,false,null,false,false,false,false,false,null,0.1,"2016-04-05","Les relais actuel supportent les arcs électriques",null,null,null,null,null,null,null,null,null,null,null,null,null,null,null,null,null,null,null,null,null,null,null,null,null,null,null,null,null,null,"Banc 131FAUXVRAI","Banc 131FAUXVRAIVRAIFAUXFAUX","Banc 131VRAIFAUXFAUX"]
["FI31","yann.nourricier","D.GARCIA SANCHEZ",null,true,false,false,"Banc 131",2309,"2016-04-05","Il faudrait mettre à jour le schéma électrique du banc suite aux modifications apportées demandées par Yann NOURRICIER",false,false,null,true,true,false,false,null,false,false,false,false,false,null,2,"2016-04-14","Mis à jour des schémas électriques suite aux modifications par rapport a la sonde de température.",null,null,null,null,null,null,null,null,null,null,null,null,null,null,null,null,null,null,null,null,null,null,null,null,null,null,null,null,null,null,"Banc 131FAUXFAUX","Banc 131FAUXFAUXVRAIFAUXFAUX","Banc 131VRAIVRAIFAUXFAUX"]
["FI32","yann.nourricier","A.DELAUNAY",null,true,false,false,"Banc 131",2309,"2016-04-05","Le banc possède une centrale MX879 dans l'armoire de puissance. il faudrait la retirer et déplacer le câble connecté dessus (Pilotage de la pompe P90) vers la tranche AO2 du barreau phoenix.",true,false,null,null,true,false,false,null,false,false,false,false,false,null,1.3,"2016-04-07","Récupération d'une centrale MX879, déplacement du pilotage de la pompe sur une carte de sortie ANA de la baie de pilotage",null,null,null,null,null,null,null,null,null,null,null,null,null,null,null,null,null,null,null,null,null,null,null,null,null,null,null,null,null,null,"Banc 131VRAIFAUX","Banc 131VRAIFAUXVRAIFAUXFAUX","Banc 131VRAIFAUXFAUX"]
["FI33","yann.nourricier","A.DELAUNAY",null,false,true,false,"Banc 104",4217,"2016-04-05","La grille de ventillation de l'armoire est cassé.",true,false,null,null,true,false,false,null,false,false,false,false,false,"Bloc du ventilateur cassé",0.1,"2016-04-05","Pas de changement du bloc --> 500€/p le bloc ventilo, non génant pour son fonctionnement et pour la sécurité des personnes",null,null,null,null,null,null,null,null,null,null,null,null,null,null,null,null,null,null,null,null,null,null,null,null,null,null,null,null,null,null,"Banc 104VRAIFAUX","Banc 104VRAIFAUXVRAIFAUXFAUX","Banc 104VRAIFAUXFAUX"]
["FI34","yann.nourricier","A.DELAUNAY",null,false,false,true,"Banc 007",840,"2016-04-05","Il manque le cache de la goullotte dans le coffret de mesure dans l'enceinte du banc.",true,false,null,null,true,false,false,null,false,false,false,false,false,"Câble de mesure gênant pour la remise en place d'un couvercle",0.2,"2016-04-05","Goulotte laissé sans couvercle qui n'est en rien génant pour le coffret tant esthétique que fonctionnel",null,null,null,null,null,null,null,null,null,null,null,null,null,null,null,null,null,null,null,null,null,null,null,null,null,null,null,null,null,null,"Banc 007VRAIFAUX","Banc 007VRAIFAUXVRAIFAUXFAUX","Banc 007VRAIFAUXFAUX"]
["FI35","yann.nourricier","T.HEMART","J.BOUCHER",false,true,false,"Banc 008",954,"2016-04-05","Il y a une fuite dans la centrale hydraulique. Générateur ou récepteur? Voir Yann en direct.",true,false,null,null,false,false,true,null,false,false,false,false,false,null,null,null,null,null,null,null,null,null,null,null,null,null,null,null,null,null,null,null,null,null,null,null,null,null,null,null,null,null,null,null,null,null,null,"Banc 008VRAIFAUX","Banc 008VRAIFAUXFAUXFAUXVRAI","Banc 008FAUXFAUXVRAI"]
["FI36","yann.nourricier","A.DELAUNAY",null,false,false,true,"Banc 008",954,"2016-04-05","Il faudrait remplacer les filtres de l'armoire de puissance du banc et remettre en place un porte document dans l'armoire.",true,false,null,null,true,false,false,null,false,false,false,true,false,"Porte document de qualité médiocre",0.1,"2016-04-05","Mise en place d'un porte document, filtre changé tous les 6 mois (aout, décembre)",null,null,null,null,null,null,null,null,null,null,null,null,null,null,null,null,null,null,null,null,null,null,null,null,null,null,null,null,null,null,"Banc 008VRAIFAUX","Banc 008VRAIFAUXVRAIFAUXFAUX","Banc 008VRAIFAUXFAUX"]
["FI37","yann.nourricier","D.GARCIA SANCHEZ",null,false,true,false,"Banc 101",5376,"2016-04-05","Il faudrait changer les filtres de l'armoire électrique et un repérage manque sur un contact aux à côter de 42KM07",false,true,null,null,true,false,false,null,false,false,false,false,false,null,0.1,"2016-04-05"," Mis en place de repères sur les fils du contact 42KM03 ainsi que sur le compteur car ce sont les fils qui vont du contact au compteur/ modification des schémas",null,null,null,null,null,null,null,null,null,null,null,null,null,null,null,null,null,null,null,null,null,null,null,null,null,null,null,null,null,null,"Banc 101FAUXVRAI","Banc 101FAUXVRAIVRAIFAUXFAUX","Banc 101VRAIFAUXFAUX"]
["FI38","yann.nourricier","T.HEMART","J.BOUCHER",false,true,false,"Banc 101",5376,"2016-04-05","Fuite d'huile dans la centrale hydraulique.",true,false,null,null,false,false,true,null,false,false,false,false,true,null,null,null,"Non soldé. Attente de fonctionnement pour recherche de fuite.",null,null,null,null,null,null,null,null,null,null,null,null,null,null,null,null,null,null,null,null,null,null,null,null,null,null,null,null,null,null,"Banc 101VRAIFAUX","Banc 101VRAIFAUXFAUXFAUXVRAI","Banc 101FAUXFAUXVRAI"]
["FI39","benjamin.eyraud","T.HEMART",null,true,false,false,"Pompe à eau",27949,"2016-04-05","les ventilateurs des tours couinent de manière très audible.",true,false,null,null,false,true,false,null,false,true,false,false,false,"Courroies détendues",1.3,"2016-04-05","Tension des courroies",null,null,null,null,null,null,null,null,null,null,null,null,null,null,null,null,null,null,null,null,null,null,null,null,null,null,null,null,null,null,"Pompe à eauVRAIFAUX","Pompe à eauVRAIFAUXFAUXVRAIFAUX","Pompe à eauFAUXVRAIFAUX"]
["FI40","romain.dehan","T.HEMART","J.BOUCHER",true,false,false,"Banc 124 bis",7,"2016-04-05","Modifier le pont de clapet actuel en correspondance avec le schéma hydraulique",true,false,null,null,false,false,true,null,false,false,true,false,false,null,0,"2016-04-08","Intervention annulée",null,null,null,null,null,null,null,null,null,null,null,null,null,null,null,null,null,null,null,null,null,null,null,null,null,null,null,null,null,null,"Banc 124 bisVRAIFAUX","Banc 124 bisVRAIFAUXFAUXFAUXVRAI","Banc 124 bisFAUXFAUXVRAI"]
["FI41","romain.dehan","A.DELAUNAY",null,true,false,false,"Banc 124 bis",7,"2016-04-05","- Mettre à jours le schéma électrique du banc",true,false,null,null,true,false,false,null,false,false,false,false,false,null,1,"2016-04-05","Mise à jours des chémas électrique",null,null,null,null,null,null,null,null,null,null,null,null,null,null,null,null,null,null,null,null,null,null,null,null,null,null,null,null,null,null,"Banc 124 bisVRAIFAUX","Banc 124 bisVRAIFAUXVRAIFAUXFAUX","Banc 124 bisVRAIFAUXFAUX"]
["FI42","christophe.gauvin","T.HEMART",null,true,false,false,"Pompe à eau",0,"2016-04-05","Fuite d'eau se trouvant sur le haut du bromisateur Voir FI67",true,false,null,null,false,false,true,null,false,true,false,false,false,null,0,"2016-04-05","Voir FI67",null,null,null,null,null,null,null,null,null,null,null,null,null,null,null,null,null,null,null,null,null,null,null,null,null,null,null,null,null,null,"Pompe à eauVRAIFAUX","Pompe à eauVRAIFAUXFAUXFAUXVRAI","Pompe à eauFAUXFAUXVRAI"]
["FI43","romain.dehan","T.HEMART",null,true,false,false,"Banc 113",19594,"2016-04-05","La presssion carter est trop élevée 3 bars",false,true,null,null,false,false,true,null,false,true,false,false,false,null,0.5,"2016-04-05","Nettoyage du filtre magnétique situé sur le côté du reservoir",null,null,null,null,null,null,null,null,null,null,null,null,null,null,null,null,null,null,null,null,null,null,null,null,null,null,null,null,null,null,"Banc 113FAUXVRAI","Banc 113FAUXVRAIFAUXFAUXVRAI","Banc 113FAUXFAUXVRAI"]
["FI44","romain.dehan","D.GARCIA SANCHEZ",null,false,true,false,"Banc 124 bis",7,"2016-04-05","Recopie distributeur proportionnel démonté. Cable électrique des contacts de fin de course des limiteurs de pression décablé. Finir quand société extérieur viendra",false,false,true,null,true,false,false,null,false,false,false,false,false,null,null,null,"Devis fait mais attente intervention Eqhyp lorsque l'essai en cours sera terminer. Voir Yann NOURRICIER",null,null,null,null,null,null,null,null,null,null,null,null,null,null,null,null,null,null,null,null,null,null,null,null,null,null,null,null,null,null,"Banc 124 bisFAUXFAUX","Banc 124 bisFAUXFAUXVRAIFAUXFAUX","Banc 124 bisVRAIVRAIFAUXFAUX"]
["FI45","romain.dehan","J.BOUCHER","T.HEMART",true,false,false,"Banc 124",12924,"2016-04-05","Bruit anormale de la pompe de recirculation et intensité moteur trop importante. Attente de la livraison de la nouvelle pompe de recirculation. Intervention prévue dans le cadre d'un arrêt planifié pour maintenance préventive.",true,false,null,null,false,false,true,null,false,true,false,false,false,null,null,null,null,null,null,null,null,null,null,null,null,null,null,null,null,null,null,null,null,null,null,null,null,null,null,null,null,null,null,null,null,null,null,"Banc 124VRAIFAUX","Banc 124VRAIFAUXFAUXFAUXVRAI","Banc 124FAUXFAUXVRAI"]
["FI46","romain.dehan","J.BOUCHER","T.HEMART",false,true,false,"Banc 124",12924,"2016-04-05","Prévoir le perçage de la lanterne pour contrôler l'accouplement de GMP1. Intervention prévue dans le cadre d'un arrêt planifié pour maintenance préventive",true,false,null,null,false,true,false,null,false,false,false,false,false,null,null,null,null,null,null,null,null,null,null,null,null,null,null,null,null,null,null,null,null,null,null,null,null,null,null,null,null,null,null,null,null,null,null,"Banc 124VRAIFAUX","Banc 124VRAIFAUXFAUXVRAIFAUX","Banc 124FAUXVRAIFAUX"]
["FI47","romain.dehan","T.HEMART","J.BOUCHER",true,false,false,"Banc 124",12924,"2016-04-05","Presence d'huile sur dessus du réservoir (joint de la pompe fuyard ???) Intervention prévue dans le cadre d'un arrêt planifié pour maintenance préventive",true,false,null,null,false,false,true,null,false,false,false,false,false,null,null,null,null,null,null,null,null,null,null,null,null,null,null,null,null,null,null,null,null,null,null,null,null,null,null,null,null,null,null,null,null,null,null,"Banc 124VRAIFAUX","Banc 124VRAIFAUXFAUXFAUXVRAI","Banc 124FAUXFAUXVRAI"]
["FI48","romain.dehan","T.HEMART","J.BOUCHER",true,false,false,"Banc 117 bis",9698,"2016-04-05","Prélèvement Huile",false,true,null,null,false,false,true,null,false,false,false,false,false,null,0.1,"2016-04-08","Prélèvement effectué",null,null,null,null,null,null,null,null,null,null,null,null,null,null,null,null,null,null,null,null,null,null,null,null,null,null,null,null,null,null,"Banc 117 bisFAUXVRAI","Banc 117 bisFAUXVRAIFAUXFAUXVRAI","Banc 117 bisFAUXFAUXVRAI"]
["FI49","romain.dehan","T.HEMART","J.BOUCHER",false,false,false,"Banc 117 bis",9668,"2016-04-05","Fuite huile sur couvercle échangeur. Intervention prévue dans le cadre d'un arrêt planifié pour maintenance préventive",true,false,null,null,false,false,true,null,false,true,false,false,false,null,null,null,null,null,null,null,null,null,null,null,null,null,null,null,null,null,null,null,null,null,null,null,null,null,null,null,null,null,null,null,null,null,null,"Banc 117 bisVRAIFAUX","Banc 117 bisVRAIFAUXFAUXFAUXVRAI","Banc 117 bisFAUXFAUXVRAI"]
["FI50","romain.dehan","D.GARCIA SANCHEZ","A.DELAUNAY",false,true,false,"Banc 117 bis",9668,"2016-04-05","niveau non isolé et non fixé",true,false,null,null,true,false,false,null,false,false,false,false,true,null,null,null,null,null,null,null,null,null,null,null,null,null,null,null,null,null,null,null,null,null,null,null,null,null,null,null,null,null,null,null,null,null,null,"Banc 117 bisVRAIFAUX","Banc 117 bisVRAIFAUXVRAIFAUXFAUX","Banc 117 bisVRAIFAUXFAUX"]
["FI51","romain.dehan","A.DELAUNAY","D.GARCIA SANCHEZ",false,true,false,"Banc 117 bis",9668,"2016-04-05","indicateur de colmatage non cablé",true,false,null,null,true,false,false,null,false,false,false,false,true,null,null,null,null,null,null,null,null,null,null,null,null,null,null,null,null,null,null,null,null,null,null,null,null,null,null,null,null,null,null,null,null,null,null,"Banc 117 bisVRAIFAUX","Banc 117 bisVRAIFAUXVRAIFAUXFAUX","Banc 117 bisVRAIFAUXFAUX"]
["FI52","romain.dehan","T.HEMART","J.BOUCHER",false,true,false,"Banc 117 bis",9668,"2016-04-05","Resserage raccords et support tuyauterie BP. Intervention prévue dans le cadre d'un arrêt planifié pour maintenance préventive",true,false,null,null,false,false,true,null,false,false,false,false,true,null,null,null,null,null,null,null,null,null,null,null,null,null,null,null,null,null,null,null,null,null,null,null,null,null,null,null,null,null,null,null,null,null,null,"Banc 117 bisVRAIFAUX","Banc 117 bisVRAIFAUXFAUXFAUXVRAI","Banc 117 bisFAUXFAUXVRAI"]
["FI53","romain.dehan","T.HEMART","J.BOUCHER",false,true,false,"Banc 117 bis",9668,"2016-04-05","Remplacement filtre \"arlon\" attention pas d'indicateur de colmatage. Intervention prévue dans le cadre d'un arrêt planifié pour maintenance préventive",false,true,null,null,false,false,true,null,false,false,false,false,true,null,null,null,null,null,null,null,null,null,null,null,null,null,null,null,null,null,null,null,null,null,null,null,null,null,null,null,null,null,null,null,null,null,null,"Banc 117 bisFAUXVRAI","Banc 117 bisFAUXVRAIFAUXFAUXVRAI","Banc 117 bisFAUXFAUXVRAI"]
["FI54","romain.dehan","D.GARCIA SANCHEZ","A.DELAUNAY",false,false,false,"Banc 117 bis",9668,"2016-04-05","Moteur Limiteur de pression HP non isolé. Cable alimentation distributeur HP dénudé",true,false,null,null,true,false,false,null,false,true,false,false,false,null,null,null,null,null,null,null,null,null,null,null,null,null,null,null,null,null,null,null,null,null,null,null,null,null,null,null,null,null,null,null,null,null,null,"Banc 117 bisVRAIFAUX","Banc 117 bisVRAIFAUXVRAIFAUXFAUX","Banc 117 bisVRAIFAUXFAUX"]
["FI55","romain.dehan","T.HEMART","J.BOUCHER",false,true,false,"Banc 117 bis",9668,"2016-04-05","Fuite sur vis de réglage limiteur de pression et sur plan de pose du distributeur NG10 ATOS du circuit BP. Intervention prévue dans le cadre d'un arrêt planifié pour maintenance préventive",true,false,null,null,false,false,true,null,false,true,false,false,false,null,null,null,null,null,null,null,null,null,null,null,null,null,null,null,null,null,null,null,null,null,null,null,null,null,null,null,null,null,null,null,null,null,null,"Banc 117 bisVRAIFAUX","Banc 117 bisVRAIFAUXFAUXFAUXVRAI","Banc 117 bisFAUXFAUXVRAI"]
["FI56","romain.dehan","T.HEMART","J.BOUCHER",false,true,false,"Banc 117 bis",9668,"2016-04-05","Jeu sur canlures entre chaque tête de cardan. Chgt du cardan. Intervention prévue dans le cadre d'un arrêt planifié pour maintenance préventive",true,false,null,null,false,true,false,null,false,true,false,false,false,null,null,null,null,null,null,null,null,null,null,null,null,null,null,null,null,null,null,null,null,null,null,null,null,null,null,null,null,null,null,null,null,null,null,"Banc 117 bisVRAIFAUX","Banc 117 bisVRAIFAUXFAUXVRAIFAUX","Banc 117 bisFAUXVRAIFAUX"]
["FI57","romain.dehan","T.HEMART",null,true,false,false,"Banc 115",29032,"2016-04-05","Faire Prélèvement d'huile",false,true,null,null,false,false,true,null,false,false,false,false,false,null,0.1,"2016-04-08","Prélèvement effectué",null,null,null,null,null,null,null,null,null,null,null,null,null,null,null,null,null,null,null,null,null,null,null,null,null,null,null,null,null,null,"Banc 115FAUXVRAI","Banc 115FAUXVRAIFAUXFAUXVRAI","Banc 115FAUXFAUXVRAI"]
["FI58","romain.dehan","D.GARCIA SANCHEZ","A.DELAUNAY",false,true,false,"Banc 115",29024,"2016-04-05","Indicateur de niveau non isolé et non fixé. Prévoir petit cabochon en plastique du style tuyau d'évac. en diam.40",true,false,null,null,true,false,false,null,false,false,false,false,false,null,null,null,null,null,null,null,null,null,null,null,null,null,null,null,null,null,null,null,null,null,null,null,null,null,null,null,null,null,null,null,null,null,null,"Banc 115VRAIFAUX","Banc 115VRAIFAUXVRAIFAUXFAUX","Banc 115VRAIFAUXFAUX"]
["FI59","romain.dehan","J.BOUCHER","T.HEMART",false,true,false,"Banc 115",29024,"2016-04-05","Prévoir la vidange suite au résultat du prélèvement                                                                                                                            Contrôle colmatage des 2 filtres \"pall + filtre gris pall",false,true,false,false,false,false,true,false,false,true,false,false,false,null,null,null,null,null,null,null,null,null,null,null,null,null,null,null,null,null,null,null,null,null,null,null,null,null,null,null,null,null,null,null,null,null,null,"Banc 115FAUXVRAI","Banc 115FAUXVRAIFAUXFAUXVRAI","Banc 115FAUXFAUXFAUXFAUXVRAI"]
["FI60","romain.dehan",null,null,false,false,false,"Banc 117 bis",9668,"2016-04-06","Prévoir la vidange du banc si prélèvement d'huile négatif",false,false,null,null,false,false,false,null,false,false,false,false,false,null,null,null,null,null,null,null,null,null,null,null,null,null,null,null,null,null,null,null,null,null,null,null,null,null,null,null,null,null,null,null,null,null,null,"Banc 117 bisFAUXFAUX","Banc 117 bisFAUXFAUXFAUXFAUXFAUX","Banc 117 bisFAUXFAUXFAUX"]
["FI61","romain.dehan","T.HEMART",null,false,true,false,"Banc 104",4219,"2016-04-06","Colmatage du filtre de la ligne D détecté (HC 9801 FDS 4Z)",false,true,null,null,false,false,true,null,false,true,false,false,false,null,0.1,"2016-04-08","Remplacement de l'élément filtrant","Elément filtrant ",null,null,null,null,null,null,null,null,null,"PALL HC9801FDS4Z",null,null,null,null,null,null,null,null,null,1,null,null,null,null,null,null,null,null,null,"Banc 104FAUXVRAI","Banc 104FAUXVRAIFAUXFAUXVRAI","Banc 104FAUXFAUXVRAI"]
["FI62","romain.dehan","T.HEMART",null,false,true,false,"Banc 008",957,"2016-04-06","Alarme Colmatage FC (UE219AN04Z) ainsi que Colmatage F8 (UE319AN40Z)",false,true,null,null,false,false,true,null,false,true,false,false,false,null,0.2,"2016-04-08","Remplacement des éléments filtrants","Elément filtrant",null,"Elément filtrant",null,null,null,null,null,null,null,"PALL UE219AN04Z",null,"PALL UE319AN40Z",null,null,null,null,null,null,null,1,null,1,null,null,null,null,null,null,null,"Banc 008FAUXVRAI","Banc 008FAUXVRAIFAUXFAUXVRAI","Banc 008FAUXFAUXVRAI"]
["FI63","romain.dehan","T.HEMART",null,true,false,false,"Banc 124",12924,"2016-04-06","Prélèvement pour analyse d'huile",false,true,false,false,false,false,true,false,false,false,false,false,false,null,0.1,"2016-04-08","Prélèvement effectué",null,null,null,null,null,null,null,null,null,null,null,null,null,null,null,null,null,null,null,null,null,null,null,null,null,null,null,null,null,null,"Banc 124FAUXVRAI","Banc 124FAUXVRAIFAUXFAUXVRAI","Banc 124FAUXFAUXFAUXFAUXVRAI"]
["FI64","christophe.gauvin","D.GARCIA SANCHEZ",null,true,false,false,"Banc 145",7200,"2016-04-06","Faire un programme automate sur le banc 145 en rapport avec la TLC de l’essai 790-020-1038. Voir avec Jérôme MUNTREZ",false,false,true,false,true,false,false,false,false,false,false,false,false,null,1,"2016-04-06","Programme et câblage fait",null,null,null,null,null,null,null,null,null,null,null,null,null,null,null,null,null,null,null,null,null,null,null,null,null,null,null,null,null,null,"Banc 145FAUXFAUX","Banc 145FAUXFAUXVRAIFAUXFAUX","Banc 145VRAIFAUXVRAIFAUXFAUX"]
["FI65","christophe.gauvin","A.DELAUNAY",null,true,false,false,"Banc 119",6620,"2016-04-06","Demande de programme automate sur le banc 119 suivant la TLC_780-000-1013 en PJ.",false,false,true,false,true,false,false,false,false,false,false,false,false,null,1,"2016-04-08","Programmation du ZELIO, raccordement des bobines sur les distributeurs, essais du programme et vérification du pilotage",null,null,null,null,null,null,null,null,null,null,null,null,null,null,null,null,null,null,null,null,null,null,null,null,null,null,null,null,null,null,"Banc 119FAUXFAUX","Banc 119FAUXFAUXVRAIFAUXFAUX","Banc 119VRAIFAUXVRAIFAUXFAUX"]
["FI66","romain.dehan","T.HEMART",null,true,false,false,"Réseau d'eau atelier","x","2016-04-07","Fuite d'eau sur l'arrivée du nouveau P9. Canalisation percée.",true,false,false,false,false,false,true,false,false,true,false,false,false,null,0.15,"2016-04-07","Mise en place d'un manchon autour de la tuyauterie",null,null,null,null,null,null,null,null,null,null,null,null,null,null,null,null,null,null,null,null,null,null,null,null,null,null,null,null,null,null,"Réseau d'eau atelierVRAIFAUX","Réseau d'eau atelierVRAIFAUXFAUXFAUXVRAI","Réseau d'eau atelierFAUXFAUXFAUXFAUXVRAI"]
["FI67","romain.dehan","T.HEMART",null,true,false,false,"Pompe à eau",27553,"2016-04-07","Fuite d'eau sur la vanne supérieur du bromisateur.",true,false,false,false,false,false,true,false,false,true,false,false,false,null,5,"2016-04-07","Remplacement du raccord cassé",null,null,null,null,null,null,null,null,null,null,null,null,null,null,null,null,null,null,null,null,null,null,null,null,null,null,null,null,null,null,"Pompe à eauVRAIFAUX","Pompe à eauVRAIFAUXFAUXFAUXVRAI","Pompe à eauFAUXFAUXFAUXFAUXVRAI"]
["FI68","romain.dehan","D.GARCIA SANCHEZ",null,true,false,false,"M73001 (Banc new P9)",26,"2016-04-07","Câblage  d'un échangeur thermique air huile.",false,false,true,false,true,false,false,false,false,false,false,false,false,null,3,"2016-04-07","Câblage de l'échangeur air huille ",null,null,null,null,null,null,null,null,null,null,null,null,null,null,null,null,null,null,null,null,null,null,null,null,null,null,null,null,null,null,"M73001 (Banc new P9)FAUXFAUX","M73001 (Banc new P9)FAUXFAUXVRAIFAUXFAUX","M73001 (Banc new P9)VRAIFAUXVRAIFAUXFAUX"]
["FI69","samy.boussetta","D.GARCIA SANCHEZ",null,false,false,false,"Banc P1",5631,"2016-04-08","Coupure moteur électrique",true,false,false,false,true,false,false,false,false,false,false,false,false,"Variateur en défaut ",0.02,"2016-04-08","Reset variateur",null,null,null,null,null,null,null,null,null,null,null,null,null,null,null,null,null,null,null,null,null,null,null,null,null,null,null,null,null,null,"Banc P1VRAIFAUX","Banc P1VRAIFAUXVRAIFAUXFAUX","Banc P1FAUXFAUXVRAIFAUXFAUX"]
["FI70","christophe.gebhard","T.HEMART","D.GARCIA SANCHEZ",true,false,false,"Banc 119",6625,"2016-04-11","Prob dist Atos - Changer mano à seuil",true,false,false,false,true,false,true,false,false,true,false,false,false,null,1,"2016-04-11","Changement distributeur -  Changement mano numéro 2: 100 bars par un mano 600 bars -> remettre en place a la fin de l'essai ",null,null,null,null,null,null,null,null,null,null,null,null,null,null,null,null,null,null,null,null,null,null,null,null,null,null,null,null,null,null,{"$f":"H71&L71&M71","v":"Banc 119VRAIFAUX"},{"$f":"H71&L71&M71&P71&Q71&R71","v":"Banc 119VRAIFAUXVRAIFAUXVRAI"},"Banc 119FAUXFAUXVRAIFAUXVRAI"]
["FI71","christophe.gauvin","T.HEMART",null,true,false,false,"Banc 123",75753,"2016-04-11","Installation d'un débitmètre sur le circuit de refroidissement, aprés l'EV de refroidissement. Intervention prévue pour le 12/04 au matin.",false,false,false,true,false,false,true,false,false,false,false,false,false,null,2.5,"2016-04-12","Débimètre installé",null,null,null,null,null,null,null,null,null,null,null,null,null,null,null,null,null,null,null,null,null,null,null,null,null,null,null,null,null,null,"Banc 123FAUXFAUX","Banc 123FAUXFAUXFAUXFAUXVRAI",{"$f":"H72&N72&O72&P72&Q72&R72","v":"Banc 123FAUXVRAIFAUXFAUXVRAI"}]
["FI72","jerome.muntrez","A.DELAUNAY",null,true,false,false,"Banc 145",7198.25,"2016-04-11","Manocontacts de sécurité défaillants",true,false,false,false,true,false,false,false,false,false,false,false,false,"Manos déffaillant impossible de retourner à 0bar, et enclenchement du mano bouton sécurité sur off",3,"2016-04-11","Changement du mano et modification de cablage de la chaine de sécurité",null,null,null,null,null,null,null,null,null,null,null,null,null,null,null,null,null,null,null,null,null,null,null,null,null,null,null,null,null,null,"Banc 145VRAIFAUX","Banc 145VRAIFAUXVRAIFAUXFAUX","Banc 145FAUXFAUXVRAIFAUXFAUX"]
["FI73","christophe.gebhard",null,null,false,false,false,"Banc 119",6627,"2016-04-11","test de demande na pas tenir compte",false,false,false,false,false,false,false,false,false,false,false,false,false,null,null,null,null,null,null,null,null,null,null,null,null,null,null,null,null,null,null,null,null,null,null,null,null,null,null,null,null,null,null,null,null,null,null,"Banc 119FAUXFAUX","Banc 119FAUXFAUXFAUXFAUXFAUX","Banc 119FAUXFAUXFAUXFAUXFAUX"]
["FI74","christophe.gauvin","A.DELAUNAY",null,true,false,false,"Banc 145",7200,"2016-04-11","Modification de tempos dans l'automate",false,false,true,false,true,false,false,false,false,false,false,false,false,null,0.3,"2016-04-11","Connection et modification du programme",null,null,null,null,null,null,null,null,null,null,null,null,null,null,null,null,null,null,null,null,null,null,null,null,null,null,null,null,null,null,"Banc 145FAUXFAUX","Banc 145FAUXFAUXVRAIFAUXFAUX","Banc 145VRAIFAUXVRAIFAUXFAUX"]
["FI75","cyril.beauchamps","D.GARCIA SANCHEZ","A.DELAUNAY",true,false,false,"Banc HP",1342,"2016-04-12","Mauvaise lecture de la pression circuit sur les afficheurs. Pas de sécurité possible sur le Banc. Le banc est donc arrêté. ",false,false,true,false,true,false,false,false,false,false,false,false,false,null,1,"2016-04-12","Reparamétragre de l'afficheur",null,null,null,null,null,null,null,null,null,null,null,null,null,null,null,null,null,null,null,null,null,null,null,null,null,null,null,null,null,null,"Banc HPFAUXFAUX","Banc HPFAUXFAUXVRAIFAUXFAUX","Banc HPVRAIFAUXVRAIFAUXFAUX"]
["FI76","christophe.gauvin","A.DELAUNAY",null,true,false,false,"Banc PowerTrain",0,"2016-04-12","Besoin d'un câble d'alimentation pour le branchement en 230VAC d'une alimentation de puissance pour l'essai et d’un câble pour l’alimentation d'un GEP POWERTRAIN",false,false,true,false,true,false,false,false,false,false,false,false,false,null,0.3,"2016-04-12","Mise en place d'un câble 3G2.5 pour l'alimentation et de fils en 4² pour l'alimentation du GEP",null,null,null,null,null,null,null,null,null,null,null,null,null,null,null,null,null,null,null,null,null,null,null,null,null,null,null,null,null,null,"Banc PowerTrainFAUXFAUX","Banc PowerTrainFAUXFAUXVRAIFAUXFAUX","Banc PowerTrainVRAIFAUXVRAIFAUXFAUX"]
["FI77","christophe.gauvin","A.DELAUNAY",null,true,false,false,"Banc 123",75754,"2016-04-12","Pb sur la marche générale. La marche générale ne s’enclenche pas. Automate ???",true,false,false,false,true,false,false,false,false,false,false,false,false,"Fusible HS",0.15,"2016-04-12","Recherche de la panne et remplacent du fusible 230V",null,null,null,null,null,null,null,null,null,null,null,null,null,null,null,null,null,null,null,null,null,null,null,null,null,null,null,null,null,null,"Banc 123VRAIFAUX","Banc 123VRAIFAUXVRAIFAUXFAUX","Banc 123FAUXFAUXVRAIFAUXFAUX"]
["FI78","christophe.gauvin","C.GAUVIN",null,true,false,false,"Banc 119",6633,"2016-04-12","Défaut sur alarme incendie. Contacter SIEMENS pour intervention la plus rapide.",true,false,false,false,true,false,false,false,false,true,false,false,false,null,null,null,"Contact avec la HOTLINE le 12/04",null,null,null,null,null,null,null,null,null,null,null,null,null,null,null,null,null,null,null,null,null,null,null,null,null,null,null,null,null,null,"Banc 119VRAIFAUX","Banc 119VRAIFAUXVRAIFAUXFAUX","Banc 119FAUXFAUXVRAIFAUXFAUX"]
["FI79","christophe.gauvin","T.HEMART",null,true,false,false,"Banc 145",7206,"2016-04-12","Démonter, nettoyer et remonter la vanne de refroidissement des capteurs de vitesse. Fuite \"goute à goute\" qui gêne la chauffe des capteurs à 80°C. Intervention prioritaire dès ton arrivée.",true,false,false,false,false,false,true,false,false,true,false,false,false,null,2.2999999999999998,"2016-04-12","Démontage et nettoyage de l'électrovanne. Montage d'une vanne manuelle d'isolement en amont.",null,null,null,null,null,null,null,null,null,null,null,null,null,null,null,null,null,null,null,null,null,null,null,null,null,null,null,null,null,null,"Banc 145VRAIFAUX","Banc 145VRAIFAUXFAUXFAUXVRAI","Banc 145FAUXFAUXFAUXFAUXVRAI"]
["FI80","christophe.gauvin","T.HEMART",null,true,false,false,"Banc 131",2326,"2016-04-12","Pb de fonctionnement du refroidissement du banc. Voir EV.",true,false,false,false,false,true,true,false,false,false,false,true,false,null,2,"2016-04-12","Démontage nettoyage des deux électrovannes de refroidissement",null,null,null,null,null,null,null,null,null,null,null,null,null,null,null,null,null,null,null,null,null,null,null,null,null,null,null,null,null,null,"Banc 131VRAIFAUX","Banc 131VRAIFAUXFAUXVRAIVRAI","Banc 131FAUXFAUXFAUXVRAIVRAI"]
["FI81","christophe.gauvin","A.DELAUNAY","D.GARCIA SANCHEZ",false,false,true,"Machine à laver",1,"2016-04-12","Vérifier le bon fonctionnement de la pompe de la scie à ruban. Démontage, nettoyage et remontage de la pompe.",true,false,false,false,true,true,false,false,false,true,false,false,false,"Buses bouchés",1.3,"2016-04-13","Démontage et nettoyage des buses  -  Démontage et nettoyage de la pompe",null,null,null,null,null,null,null,null,null,null,null,null,null,null,null,null,null,null,null,null,null,null,null,null,null,null,null,null,null,null,"Machine à laverVRAIFAUX","Machine à laverVRAIFAUXVRAIVRAIFAUX","Machine à laverFAUXFAUXVRAIVRAIFAUX"]
["FI82","jonathan.barra","A.DELAUNAY",null,true,false,false,"Banc 111",8545,"2016-04-13","Pas de marche moteur et defaut de calibration du capteur hydac de securité 0-60 bar",true,false,false,false,true,false,false,false,false,false,false,false,false,"Contacteur moteur consigné",0.1,"EN COURS","Déconsignation du contacteur, RESTE A VOIR POUR LES CAPTEURS, CAPTEUR NON CORRESPONDANT AUX AFFICHEURS, le 0-60 bar doit être un 100 car le 0-60bar n'a rien faire sur ce banc ( cela engendre des changements intempestifs des plages des afficheurs alors que cela doit être réglé en dur et pas en provisoire selon les essais), il manque un 0-10bar et il manque aussi un 0-600bar à voir avec C.GAUVIN pour l'achat de capteur.",null,null,null,null,null,null,null,null,null,null,null,null,null,null,null,null,null,null,null,null,null,null,null,null,null,null,null,null,null,null,"Banc 111VRAIFAUX","Banc 111VRAIFAUXVRAIFAUXFAUX","Banc 111FAUXFAUXVRAIFAUXFAUX"]
["FI83","david.garcia","D.GARCIA SANCHEZ",null,true,false,false,"Banc 131",2332,"2016-04-12","Les sorties Ev eau et Rdg clignotent",true,false,false,false,true,false,false,false,false,false,false,false,false,null,0.2,"2016-04-14","Vu avec Yann,modification des paramètres dans Intest.",null,null,null,null,null,null,null,null,null,null,null,null,null,null,null,null,null,null,null,null,null,null,null,null,null,null,null,null,null,null,"Banc 131VRAIFAUX","Banc 131VRAIFAUXVRAIFAUXFAUX","Banc 131FAUXFAUXVRAIFAUXFAUX"]
["FI84","christophe.gauvin","J.BOUCHER","T.HEMART",true,false,false,"Banc P2",15822,"2016-04-14","Faire le niveau d'huile au 2/3 du niveau visuel",true,false,false,false,false,false,true,false,false,false,false,false,false,null,2,"2016-04-14","Fait",null,null,null,null,null,null,null,null,null,null,null,null,null,null,null,null,null,null,null,null,null,null,null,null,null,null,null,null,null,null,"Banc P2VRAIFAUX","Banc P2VRAIFAUXFAUXFAUXVRAI","Banc P2FAUXFAUXFAUXFAUXVRAI"]
["FI85","christophe.gauvin","J.BOUCHER","T.HEMART",true,false,false,"Banc 124",12977,"2016-04-06","Faire le niveau d'huile au 2/3 du niveau visuel",true,false,false,false,false,false,true,false,false,false,false,false,false,null,0.3,"2016-04-15","RAS",null,null,null,null,null,null,null,null,null,null,null,null,null,null,null,null,null,null,null,null,null,null,null,null,null,null,null,null,null,null,"Banc 124VRAIFAUX","Banc 124VRAIFAUXFAUXFAUXVRAI","Banc 124FAUXFAUXFAUXFAUXVRAI"]
["FI86","benjamin.eyraud","D.GARCIA SANCHEZ","T.HEMART",false,true,false,"Banc PowerTrain",0,"19/04/2016","La potence électrique ABUS ne remonte pas jusque en haut (probablement un réglage de fin de course à faire, la potence est neuve)",false,false,true,false,false,true,false,false,false,false,false,true,false,"La chaine est trop longue",0.3,"2016-04-19","Racourcissement de la chaine. Test position haute et basse OK.",null,null,null,null,null,null,null,null,null,null,null,null,null,null,null,null,null,null,null,null,null,null,null,null,null,null,null,null,null,null,"Banc PowerTrainFAUXFAUX","Banc PowerTrainFAUXFAUXFAUXVRAIFAUX","Banc PowerTrainVRAIFAUXFAUXVRAIFAUX"]
["FI87","david.garcia","D.GARCIA SANCHEZ",null,true,false,false,"Banc PowerTrain",0,"2016-04-13","Essai sur table de Christophe Gebhard pour Powertrain: mis en place platine GEP ainsi que changement du câblage",false,false,true,false,true,false,false,false,false,false,false,false,false,null,1,"2016-04-15","Mis en place d'un bouton 3 positions et vérification du câblage sur platine GEP",null,null,null,null,null,null,null,null,null,null,null,null,null,null,null,null,null,null,null,null,null,null,null,null,null,null,null,null,null,null,"Banc PowerTrainFAUXFAUX","Banc PowerTrainFAUXFAUXVRAIFAUXFAUX","Banc PowerTrainVRAIFAUXVRAIFAUXFAUX"]
["FI88","jonathan.barra","D.GARCIA SANCHEZ",null,true,false,false,"Banc 126",9316,"2016-04-18","Faire le programme et le cablage pour la TLC_RPP-516-941",false,false,true,false,true,false,false,false,false,false,false,false,false,null,1.3,"2016-04-18","Programmation du ZELIO, raccordement des bobines sur les distributeurs",null,null,null,null,null,null,null,null,null,null,null,null,null,null,null,null,null,null,null,null,null,null,null,null,null,null,null,null,null,null,{"$f":"H89&L89&M89","v":"Banc 126FAUXFAUX"},"Banc 126FAUXFAUXVRAIFAUXFAUX","Banc 126VRAIFAUXVRAIFAUXFAUX"]
["FI89","yann.nourricier",null,null,false,false,false,"Banc 124 bis",7,"2016-04-18","Il faudrait mettre à jours le schéma électrique du banc 124 #. J'aurais besoin des modifications apporté par Alexandre sur la chaine des afficheurs Mano Hydac pour l'envoyer a EQHYP pour les bancs 123-129. Merci.",false,false,false,false,false,false,false,false,false,false,false,false,false,null,null,null,null,null,null,null,null,null,null,null,null,null,null,null,null,null,null,null,null,null,null,null,null,null,null,null,null,null,null,null,null,null,null,null,null,"Banc 124 bisFAUXFAUXFAUXFAUXFAUX"]
["FI90","romain.dehan","T.HEMART",null,true,false,false,"Banc P2",15822,"19/04/2016","Voyant défaut de la marche générale allumé (suite au trop plein du réservoir ??) + prévoir un petit nettoyage à l'étage (suite au trop plein du réservoir)",true,false,false,false,false,false,true,false,false,false,true,false,false,"Réservoir ayant débordé lors du remplissage",3,"2016-04-15","Nettoyage du réservoir et du toit du banc. Vidange du trop plein d'huile.",null,null,null,null,null,null,null,null,null,null,null,null,null,null,null,null,null,null,null,null,null,null,null,null,null,null,null,null,null,null,null,null,"Banc P2FAUXFAUXFAUXFAUXVRAI"]
[null,null,null,null,null,null,null,null,null,null,null,null,null,null,null,null,null,null,null,null,null,null,null,null,null,null,null,null,null,null,null,null,null,null,null,null,null,null,null,null,null,null,null,null,null,null,null,null,null,null,null,null,null,null,null,null,null,null,null,null,""]
["FI92","yann.nourricier","A.DELAUNAY",null,false,true,false,"Banc 123",0,"19/04/2016","Pour la rénovation des bancs 123 et 129, il faudrait approvisionner 1 éclairage par générateur hydraulique. La date d'intervention par EQHYP est prévut pour le moment semaine 23.",false,false,false,true,true,false,false,false,false,false,false,false,true,null,null,null,null,null,null,null,null,null,null,null,null,null,null,null,null,null,null,null,null,null,null,null,null,null,null,null,null,null,null,null,null,null,null,null,null,"Banc 123FAUXVRAIVRAIFAUXFAUX"]
["FI93","romain.dehan","R.DEHAN","C.GAUVIN",false,true,false,"Banc 113",19623,"19/04/2016","Révision du moteur électrique nombre d'heure de fonctionnement atteint ",false,true,false,false,true,false,false,false,false,true,false,false,false]
["FI94","yann.nourricier","D.GARCIA SANCHEZ",null,true,false,false,"Banc 124 bis",6,"19/04/2016","La Dynex actuellement connecté dans le générateur du banc 124# est une Dynex 12V. Elle a été raccordé à une alimentation 24V. Il faut changer l'alim et vérifier que la Dynex n'a pas prit de coup..",true,false,false,false,true,false,false,false,false,false,false,false,true]
["FI95","romain.dehan","R.DEHAN","J.BOUCHER",false,false,false,"Pont roulant",0,"19/04/2016","Boitier de commande de la télécommande pont roulant est HS",true,false,false,false,true,false,false,false,false,true,false,false,false,"Usure du connecteur lié a l'utilisation",1,"2016-04-20","Reparation provisoire, en attente de pièce",null,null,null,null,null,null,null,null,null,null,null,null,null,null,null,null,null,null,null,null,null,null,null,null,null,null,null,null,null,null,"Pont roulantVRAIFAUX","Pont roulantVRAIFAUXVRAIFAUXFAUX","Pont roulantFAUXFAUXVRAIFAUXFAUX"]
["FI96","guillaume.lemaire","D.Garcia",null,false,true,false,"Banc 128",0,"2016-04-19","la prise ITT CANON présente sur le banc permet l'utilisation du HHT et pas du CAN pour faire la mise au point.Il faudrait cabler le CAN des broches 12/13 et 14 du Smart driveet ramener CAN-L et CAN-H sur le connecteur en façade. MERCI",true,false,false,false,true,false,false,false,false,false,false,false,false,null,null,null,null,null,null,null,null,null,null,null,null,null,null,null,null,null,null,null,null,null,null,null,null,null,null,null,null,null,null,null,null,null,null,"Banc 128VRAIFAUX","Banc 128VRAIFAUXVRAIFAUXFAUX","Banc 128FAUXFAUXVRAIFAUXFAUX"]
["FI97","guillaume.lemaire","D.GARCIA SANCHEZ",null,true,false,false,"Banc 101",0,"19/04/2016","la prise ITT CANON présente sur le banc permet l'utilisation du HHT et pas du CAN pour faire la mise au point.Il faudrait cabler le CAN des broches 12/13 et 14 du Smart driveet ramener CAN-L et CAN-H sur le connecteur en façade",true,false,false,false,true,false,false,false,false,false,false,false,false,"Câble de Guillaume qui a des faux contacts",0,"2016-04-21","En attente qu'il le répare pour refaire des essais.",null,null,null,null,null,null,null,null,null,null,null,null,null,null,null,null,null,null,null,null,null,null,null,null,null,null,null,null,null,null,"Banc 101VRAIFAUX","Banc 101VRAIFAUXVRAIFAUXFAUX","Banc 101FAUXFAUXVRAIFAUXFAUX"]
["FI98","jonathan.barra","D.GARCIA SANCHEZ",null,true,false,false,"Banc 111",8850,"20/04/2016","Probleme de seuil sur l afficheur du banc 111.Essai P22 à l'arret",true,false,false,false,true,false,false,false,false,false,false,false,false,"Seuil régler trop bas par rapport a la pression de l'essai",0.15,"2016-04-20","Réglage des plages du mano a seuil. Test et remis et en service du banc"]
["FI99","amine.selhami","J.BOUCHER",null,true,false,false,"M73001 (Banc new P9)",47,"20/04/2016","Problème avec RH20 motorisée volante.. URGENT, essai POWERTRAIN. Merci",true,false,false,false,false,true,false,false,false,false,false,true,false,"Plus de goupille sur l'acouplement",0.15,"2016-04-20","Remise en place d'une nouvelle goupille",null,null,null,null,null,null,null,null,null,null,null,null,null,null,null,null,null,null,null,null,null,null,null,null,null,null,null,null,null,null,"M73001 (Banc new P9)VRAIFAUX","M73001 (Banc new P9)VRAIFAUXFAUXVRAIFAUX","M73001 (Banc new P9)FAUXFAUXFAUXVRAIFAUX"]
["FI100","christophe.gebhard","J.BOUCHER","T.HEMART",false,false,false,"Chambre froide",9134,"20/04/2016","Tuyau PVC de vidange des frigo cassé\r\nIl pleut dedans lorsque la chambre se rechauffe ",false,false,false,false,false,false,false,false,false,false,false,false,false,null,null,null,null,null,null,null,null,null,null,null,null,null,null,null,null,null,null,null,null,null,null,null,null,null,null,null,null,null,null,null,null,null,null,"Chambre froideFAUXFAUX","Chambre froideFAUXFAUXFAUXFAUXFAUX","Chambre froideFAUXFAUXFAUXFAUXFAUX"]
["FI101","romain.dehan","J.BOUCHER",null,false,false,false,"Tours à eau",28352,"22/04/2016","Présence d'air dans le circuit du réseau d'eau. Niveau bas des tours allumés",true,false,false,false,false,true,false,false,false,true,false,false,false,"Electrovanne de remplissage des tours HS (membrane usée), cavitation des pompes.",1,"2016-04-22","Vitesse des groupes motopompes reduite à 600tr/min lors de l'intervention pour limiter la cavitation.","Mebrane 3/8\"",null,null,null,null,null,null,null,null,null,"cemé",null,null,null,null,null,null,null,null,null,1,null,null,null,null,null,null,null,null,null,"Tours à eauVRAIFAUX","Tours à eauVRAIFAUXFAUXVRAIFAUX","Tours à eauFAUXFAUXFAUXVRAIFAUX"]
["FI102","romain.dehan","J.BOUCHER","T.HEMART",false,false,false,"Pompe à eau",28352,"22/04/2016","Prévoir le remplacement de l'électrovanne au niveau de l'arrivée de l'eau de ville.",false,false,false,false,false,false,false,false,false,false,false,false,false,null,null,null,null,null,null,null,null,null,null,null,null,null,null,null,null,null,null,null,null,null,null,null,null,null,null,null,null,null,null,null,null,null,null,"Pompe à eauFAUXFAUX","Pompe à eauFAUXFAUXFAUXFAUXFAUX","Pompe à eauFAUXFAUXFAUXFAUXFAUX"]
["FI103","samy.boussetta","J.BOUCHER",null,true,false,false,"Banc P7",413457,"22/04/2016","La pompe a fait une performance cette nuit. et ce matin vers 8h30. Il y a eu une hausse soudaine de la température du réservoir. Je souhaiterai avoir une expertise du banc pour redémarrer. Merci",true,false,false,false,false,false,true,false,false,true,false,false,false,"Electrovanne de remplissage en eau des tours défaillante",0,"2016-04-22","L'augmentation de température est dû au défaut de l'électrovanne. Celle-ci était défaillante et a rempli le circuit en air.",null,null,null,null,null,null,null,null,null,null,null,null,null,null,null,null,null,null,null,null,null,null,null,null,null,null,null,null,null,null,"Banc P7VRAIFAUX","Banc P7VRAIFAUXFAUXFAUXVRAI","Banc P7FAUXFAUXFAUXFAUXVRAI"]
["FI104","yann.nourricier","D.GARCIA SANCHEZ",null,true,false,false,"Banc 128",123456,"22/04/2016","Le codeur du banc 128 a été remplacé.\r\nIl faut retirer un câble du codeur jusqu'au coffret de mesure dans le bancs puis jusqu'au module gantner.\r\nLe câble est en préparation à la mesure par Amédée.\r\nC'est urgent, sans le codeur le banc ne tourne pas :) ",false,false,true,false,true,false,false,false,false,false,false,false,false,null,3,"24 et 25/04/2016","Passage de câbles et câblage de ceux-ci",null,null,null,null,null,null,null,null,null,null,null,null,null,null,null,null,null,null,null,null,null,null,null,null,null,null,null,null,null,null,"Banc 128FAUXFAUX","Banc 128FAUXFAUXVRAIFAUXFAUX","Banc 128VRAIFAUXVRAIFAUXFAUX"]
["FI105","jonathan.barra","R.DEHAN",null,true,false,false,"Banc 126",8750,"22/04/2016","Probleme de distributeur au 126 vu avec Jonathan boucher. Je pense qu il manque les joints du distributeur. Il y a une grosse fuite au demarrage du banc. ",true,false,false,false,false,false,true,false,false,false,false,true,false,"1 joint d'embase du distributeur était pincé",0.25,"2016-04-22","Changement de tous les joints de l'embase du distributeur",null,null,null,null,null,null,null,null,null,null,null,null,null,null,null,null,null,null,null,null,null,null,null,null,null,null,null,null,null,null,"Banc 126VRAIFAUX","Banc 126VRAIFAUXFAUXFAUXVRAI","Banc 126FAUXFAUXFAUXFAUXVRAI"]
["FI106","david.gariglietti","D.GARCIA SANCHEZ",null,false,false,false,"Banc 104",4040,"22/04/2016","Probleme arret systematique du variateur de la pompe P2 a chaque demarrage. impossible de demarrer.",false,false,false,false,false,false,false,false,false,false,false,false,false,null,null,null,null,null,null,null,null,null,null,null,null,null,null,null,null,null,null,null,null,null,null,null,null,null,null,null,null,null,null,null,null,null,null,"Banc 104FAUXFAUX","Banc 104FAUXFAUXFAUXFAUXFAUX","Banc 104FAUXFAUXFAUXFAUXFAUX"]
["FI107","amine.selhami","J.BOUCHER","T.HEMART",false,false,false,"Banc 007","876,50","25/04/2016","Fuites constatées au niveau du bloc foré de puissance (mauvais serrage composants ?..) /!\\ Ne pas intervenir pour le moment car le banc est en fonctionnement...",false,false,false,false,false,false,false,false,false,false,false,false,false,null,null,null,null,null,null,null,null,null,null,null,null,null,null,null,null,null,null,null,null,null,null,null,null,null,null,null,null,null,null,null,null,null,null,"Banc 007FAUXFAUX","Banc 007FAUXFAUXFAUXFAUXFAUX","Banc 007FAUXFAUXFAUXFAUXFAUX"]
["FI108","romain.dehan","R.DEHAN",null,true,false,false,"Chambre sourde",24058,"2016-04-22","Préparation d'une soupape de tarrage pour l'essais PowerTrain",false,false,true,false,false,true,false,false,false,false,false,false,true,null,1.5,"2015-04-22","Préparation d'une soupape de tarrage pour l'essais PowerTrain",null,null,null,null,null,null,null,null,null,null,null,null,null,null,null,null,null,null,null,null,null,null,null,null,null,null,null,null,null,null,"Chambre sourdeFAUXFAUX","Chambre sourdeFAUXFAUXFAUXVRAIFAUX","Chambre sourdeVRAIFAUXFAUXVRAIFAUX"]
["FI109","christophe.chaldjian","D.GARCIA SANCHEZ",null,false,false,false,"Chambre sourde",24058,"25/04/2016","Cablage ventilateur refroidissement huile, RH20 motorisée, GEP véhicule",false,false,false,false,false,false,false,false,false,false,false,false,false]
["FI110","thibault.hemart","T.HEMART",null,false,true,false,"Banc P1",5638,"25/04/2016","Filtre recirculation colmaté",false,true,false,false,false,false,true,false,false,true,false,false,false,null,0.1,"2016-04-21","Remplacement de l'élément filtrant ","Elément filtrant ",null,null,null,null,null,null,null,null,null,"Pall UE319AP20Z",null,null,null,null,null,null,null,null,null,1]
["FI111","thibault.hemart","T.HEMART",null,false,true,false,"Banc 104",4242,"25/04/2016","Filtre recirculation colmaté",false,true,false,false,false,false,true,false,false,true,false,false,false,null,0.1,"2016-04-25","Remplacement de l'élément filtrant","Elément filtrant",null,null,null,null,null,null,null,null,null,"PALL UE310AP20Z",null,null,null,null,null,null,null,null,null,1,null,null,null,null,null,null,null,null,null,"Banc 104FAUXVRAI","Banc 104FAUXVRAIFAUXFAUXVRAI","Banc 104FAUXFAUXFAUXFAUXVRAI"]
["FI112","christophe.gauvin","J.BOUCHER","A.DELAUNAY",true,false,false,"Chambre froide",9176,"25/04/2016","Jérôme MUNTREZ RPP-658-022\nRecherche d'un moteur électrique 5,5kw (E443) avec une pompe HPI 300 bars (E432) avec accouplement pour fabrication d'un groupe motopompe avec, comme réservoir, la petite centrale qui se trouve sur le banc 105 (canne chauffante, thermostat...) Voir directement avec Jérôme MUNTREZ. \nRecherche des composants électriques pour la commande de cette mini centrale.",false,false,true,false,true,false,true,false,false,false,false,false,true]
["FI113","jonathan.barra","A.DELAUNAY",null,true,false,false,"Montage sur table","x","25/04/2016","Prévoir un transformateur 230/48 ou une alim 48V pour un moto reducteur.Prevoir un boitier pour piloter le moto reducteur avec le cablage. Pour details me contacter",false,false,true,false,true,false,false,false,false,false,false,false,true]
["FI114","romain.dehan","J.BOUCHER","A.DELAUNAY",false,true,false,"Pont roulant",0,"2016-04-26","Remplacement du boitier BJ24 du pont se situant dans l'allée des bancs P1 et P2",true,false,false,false,true,false,false,false,false,false,true,false,false,"Surcharge sur le support du boitier dû à une mauvaise utilisation",1.5,"2016-04-26","Changement du support avec l'aide d'une nacelle","Plug-in distrib switchboard BJ control carrier",null,null,null,null,null,null,null,null,null,"ABUS / 102792",null,null,null,null,null,null,null,null,null,1,null,null,null,null,null,null,null,null,null,"Pont roulantVRAIFAUX","Pont roulantVRAIFAUXVRAIFAUXFAUX","Pont roulantFAUXFAUXVRAIFAUXFAUX"]
["FI115","romain.dehan",null,null,false,false,false,"Réseau d'eau atelier",0,"27/04/2016","Fuite d'eau derrière le 124 au niveau de la remontée d'huile.                                                                                                                                      L'eau coule de temps en temps sur la remontée d'huile.",false,false,false,false,false,false,false,false,false,false,false,false,false]
["FI116","jonathan.barra",null,null,false,false,false,"Banc 117 bis",9868,"27/04/2016","L'accouplement du moto reducteur est cassé.",false,false,false,false,false,false,false,false,false,false,false,false,false]
["FI117","romain.dehan",null,null,false,false,false,"Banc 156",1051,"27/04/2016","Besoin de faire tarauder une ou deux culasses en 1/4G pour essais d'endurance capteur. 3 trous par culasses serait un plus",false,false,false,false,false,false,false,false,false,false,false,false,false]
[null,null,null,null,null,null,null,null,null,null,null,null,null,null,null,null,null,null,null,null,null,null,null,null,null,null,null,null,null,null,null,null,null,null,null,null,null,null,null,null,null,null,null,null,null,null,null,null,null,null,null,null,null,null,null,null,null,null,"","",""]
[null,null,null,null,null,null,null,null,null,null,null,null,null,null,null,null,null,null,null,null,null,null,null,null,null,null,null,null,null,null,null,null,null,null,null,null,null,null,null,null,null,null,null,null,null,null,null,null,null,null,null,null,null,null,null,null,null,null,"","",""]
[null,null,null,null,null,null,null,null,null,null,null,null,null,null,null,null,null,null,null,null,null,null,null,null,null,null,null,null,null,null,null,null,null,null,null,null,null,null,null,null,null,null,null,null,null,null,null,null,null,null,null,null,null,null,null,null,null,null,"","",""]
[null,null,null,null,null,null,null,null,null,null,null,null,null,null,null,null,null,null,null,null,null,null,null,null,null,null,null,null,null,null,null,null,null,null,null,null,null,null,null,null,null,null,null,null,null,null,null,null,null,null,null,null,null,null,null,null,null,null,"","",""]
[null,null,null,null,null,null,null,null,null,null,null,null,null,null,null,null,null,null,null,null,null,null,null,null,null,null,null,null,null,null,null,null,null,null,null,null,null,null,null,null,null,null,null,null,null,null,null,null,null,null,null,null,null,null,null,null,null,null,"","",""]
[null,null,null,null,null,null,null,null,null,null,null,null,null,null,null,null,null,null,null,null,null,null,null,null,null,null,null,null,null,null,null,null,null,null,null,null,null,null,null,null,null,null,null,null,null,null,null,null,null,null,null,null,null,null,null,null,null,null,"","",""]
[null,null,null,null,null,null,null,null,null,null,null,null,null,null,null,null,null,null,null,null,null,null,null,null,null,null,null,null,null,null,null,null,null,null,null,null,null,null,null,null,null,null,null,null,null,null,null,null,null,null,null,null,null,null,null,null,null,null,"","",""]
[null,null,null,null,null,null,null,null,null,null,null,null,null,null,null,null,null,null,null,null,null,null,null,null,null,null,null,null,null,null,null,null,null,null,null,null,null,null,null,null,null,null,null,null,null,null,null,null,null,null,null,null,null,null,null,null,null,null,"","",""]
[null,null,null,null,null,null,null,null,null,null,null,null,null,null,null,null,null,null,null,null,null,null,null,null,null,null,null,null,null,null,null,null,null,null,null,null,null,null,null,null,null,null,null,null,null,null,null,null,null,null,null,null,null,null,null,null,null,null,"","",""]
[null,null,null,null,null,null,null,null,null,null,null,null,null,null,null,null,null,null,null,null,null,null,null,null,null,null,null,null,null,null,null,null,null,null,null,null,null,null,null,null,null,null,null,null,null,null,null,null,null,null,null,null,null,null,null,null,null,null,"","",""]
[null,null,null,null,null,null,null,null,null,null,null,null,null,null,null,null,null,null,null,null,null,null,null,null,null,null,null,null,null,null,null,null,null,null,null,null,null,null,null,null,null,null,null,null,null,null,null,null,null,null,null,null,null,null,null,null,null,null,"","",""]
[null,null,null,null,null,null,null,null,null,null,null,null,null,null,null,null,null,null,null,null,null,null,null,null,null,null,null,null,null,null,null,null,null,null,null,null,null,null,null,null,null,null,null,null,null,null,null,null,null,null,null,null,null,null,null,null,null,null,"","",""]
[null,null,null,null,null,null,null,null,null,null,null,null,null,null,null,null,null,null,null,null,null,null,null,null,null,null,null,null,null,null,null,null,null,null,null,null,null,null,null,null,null,null,null,null,null,null,null,null,null,null,null,null,null,null,null,null,null,null,"","",""]
[null,null,null,null,null,null,null,null,null,null,null,null,null,null,null,null,null,null,null,null,null,null,null,null,null,null,null,null,null,null,null,null,null,null,null,null,null,null,null,null,null,null,null,null,null,null,null,null,null,null,null,null,null,null,null,null,null,null,"","",""]
[null,null,null,null,null,null,null,null,null,null,null,null,null,null,null,null,null,null,null,null,null,null,null,null,null,null,null,null,null,null,null,null,null,null,null,null,null,null,null,null,null,null,null,null,null,null,null,null,null,null,null,null,null,null,null,null,null,null,"","",""]
[null,null,null,null,null,null,null,null,null,null,null,null,null,null,null,null,null,null,null,null,null,null,null,null,null,null,null,null,null,null,null,null,null,null,null,null,null,null,null,null,null,null,null,null,null,null,null,null,null,null,null,null,null,null,null,null,null,null,{"$f":"H134&L134&M134","v":""},{"$f":"H134&L134&M134&P134&Q134&R134","v":""},""]
[null,null,null,null,null,null,null,null,null,null,null,null,null,null,null,null,null,null,null,null,null,null,null,null,null,null,null,null,null,null,null,null,null,null,null,null,null,null,null,null,null,null,null,null,null,null,null,null,null,null,null,null,null,null,null,null,null,null,"","",{"$f":"H135&N135&O135&P135&Q135&R135","v":""}]
[null,null,null,null,null,null,null,null,null,null,null,null,null,null,null,null,null,null,null,null,null,null,null,null,null,null,null,null,null,null,null,null,null,null,null,null,null,null,null,null,null,null,null,null,null,null,null,null,null,null,null,null,null,null,null,null,null,null,"","",""]
[null,null,null,null,null,null,null,null,null,null,null,null,null,null,null,null,null,null,null,null,null,null,null,null,null,null,null,null,null,null,null,null,null,null,null,null,null,null,null,null,null,null,null,null,null,null,null,null,null,null,null,null,null,null,null,null,null,null,"","",""]
[null,null,null,null,null,null,null,null,null,null,null,null,null,null,null,null,null,null,null,null,null,null,null,null,null,null,null,null,null,null,null,null,null,null,null,null,null,null,null,null,null,null,null,null,null,null,null,null,null,null,null,null,null,null,null,null,null,null,"","",""]
[null,null,null,null,null,null,null,null,null,null,null,null,null,null,null,null,null,null,null,null,null,null,null,null,null,null,null,null,null,null,null,null,null,null,null,null,null,null,null,null,null,null,null,null,null,null,null,null,null,null,null,null,null,null,null,null,null,null,"","",""]
[null,null,null,null,null,null,null,null,null,null,null,null,null,null,null,null,null,null,null,null,null,null,null,null,null,null,null,null,null,null,null,null,null,null,null,null,null,null,null,null,null,null,null,null,null,null,null,null,null,null,null,null,null,null,null,null,null,null,"","",""]
[null,null,null,null,null,null,null,null,null,null,null,null,null,null,null,null,null,null,null,null,null,null,null,null,null,null,null,null,null,null,null,null,null,null,null,null,null,null,null,null,null,null,null,null,null,null,null,null,null,null,null,null,null,null,null,null,null,null,"","",""]
[null,null,null,null,null,null,null,null,null,null,null,null,null,null,null,null,null,null,null,null,null,null,null,null,null,null,null,null,null,null,null,null,null,null,null,null,null,null,null,null,null,null,null,null,null,null,null,null,null,null,null,null,null,null,null,null,null,null,"","",""]
[null,null,null,null,null,null,null,null,null,null,null,null,null,null,null,null,null,null,null,null,null,null,null,null,null,null,null,null,null,null,null,null,null,null,null,null,null,null,null,null,null,null,null,null,null,null,null,null,null,null,null,null,null,null,null,null,null,null,"","",""]
[null,null,null,null,null,null,null,null,null,null,null,null,null,null,null,null,null,null,null,null,null,null,null,null,null,null,null,null,null,null,null,null,null,null,null,null,null,null,null,null,null,null,null,null,null,null,null,null,null,null,null,null,null,null,null,null,null,null,"","",""]
[null,null,null,null,null,null,null,null,null,null,null,null,null,null,null,null,null,null,null,null,null,null,null,null,null,null,null,null,null,null,null,null,null,null,null,null,null,null,null,null,null,null,null,null,null,null,null,null,null,null,null,null,null,null,null,null,null,null,"","",""]
[null,null,null,null,null,null,null,null,null,null,null,null,null,null,null,null,null,null,null,null,null,null,null,null,null,null,null,null,null,null,null,null,null,null,null,null,null,null,null,null,null,null,null,null,null,null,null,null,null,null,null,null,null,null,null,null,null,null,"","",""]
[null,null,null,null,null,null,null,null,null,null,null,null,null,null,null,null,null,null,null,null,null,null,null,null,null,null,null,null,null,null,null,null,null,null,null,null,null,null,null,null,null,null,null,null,null,null,null,null,null,null,null,null,null,null,null,null,null,null,"","",""]
[null,null,null,null,null,null,null,null,null,null,null,null,null,null,null,null,null,null,null,null,null,null,null,null,null,null,null,null,null,null,null,null,null,null,null,null,null,null,null,null,null,null,null,null,null,null,null,null,null,null,null,null,null,null,null,null,null,null,"","",""]
[null,null,null,null,null,null,null,null,null,null,null,null,null,null,null,null,null,null,null,null,null,null,null,null,null,null,null,null,null,null,null,null,null,null,null,null,null,null,null,null,null,null,null,null,null,null,null,null,null,null,null,null,null,null,null,null,null,null,"","",""]
[null,null,null,null,null,null,null,null,null,null,null,null,null,null,null,null,null,null,null,null,null,null,null,null,null,null,null,null,null,null,null,null,null,null,null,null,null,null,null,null,null,null,null,null,null,null,null,null,null,null,null,null,null,null,null,null,null,null,"","",""]
[null,null,null,null,null,null,null,null,null,null,null,null,null,null,null,null,null,null,null,null,null,null,null,null,null,null,null,null,null,null,null,null,null,null,null,null,null,null,null,null,null,null,null,null,null,null,null,null,null,null,null,null,null,null,null,null,null,null,"","",""]
[null,null,null,null,null,null,null,null,null,null,null,null,null,null,null,null,null,null,null,null,null,null,null,null,null,null,null,null,null,null,null,null,null,null,null,null,null,null,null,null,null,null,null,null,null,null,null,null,null,null,null,null,null,null,null,null,null,null,"","",""]
[null,null,null,null,null,null,null,null,null,null,null,null,null,null,null,null,null,null,null,null,null,null,null,null,null,null,null,null,null,null,null,null,null,null,null,null,null,null,null,null,null,null,null,null,null,null,null,null,null,null,null,null,null,null,null,null,null,null,"","",""]
[null,null,null,null,null,null,null,null,null,null,null,null,null,null,null,null,null,null,null,null,null,null,null,null,null,null,null,null,null,null,null,null,null,null,null,null,null,null,null,null,null,null,null,null,null,null,null,null,null,null,null,null,null,null,null,null,null,null,"","",""]
[null,null,null,null,null,null,null,null,null,null,null,null,null,null,null,null,null,null,null,null,null,null,null,null,null,null,null,null,null,null,null,null,null,null,null,null,null,null,null,null,null,null,null,null,null,null,null,null,null,null,null,null,null,null,null,null,null,null,"","",""]
[null,null,null,null,null,null,null,null,null,null,null,null,null,null,null,null,null,null,null,null,null,null,null,null,null,null,null,null,null,null,null,null,null,null,null,null,null,null,null,null,null,null,null,null,null,null,null,null,null,null,null,null,null,null,null,null,null,null,"","",""]
[null,null,null,null,null,null,null,null,null,null,null,null,null,null,null,null,null,null,null,null,null,null,null,null,null,null,null,null,null,null,null,null,null,null,null,null,null,null,null,null,null,null,null,null,null,null,null,null,null,null,null,null,null,null,null,null,null,null,"","",""]
[null,null,null,null,null,null,null,null,null,null,null,null,null,null,null,null,null,null,null,null,null,null,null,null,null,null,null,null,null,null,null,null,null,null,null,null,null,null,null,null,null,null,null,null,null,null,null,null,null,null,null,null,null,null,null,null,null,null,"","",""]
[null,null,null,null,null,null,null,null,null,null,null,null,null,null,null,null,null,null,null,null,null,null,null,null,null,null,null,null,null,null,null,null,null,null,null,null,null,null,null,null,null,null,null,null,null,null,null,null,null,null,null,null,null,null,null,null,null,null,"","",""]
[null,null,null,null,null,null,null,null,null,null,null,null,null,null,null,null,null,null,null,null,null,null,null,null,null,null,null,null,null,null,null,null,null,null,null,null,null,null,null,null,null,null,null,null,null,null,null,null,null,null,null,null,null,null,null,null,null,null,"","",""]
[null,null,null,null,null,null,null,null,null,null,null,null,null,null,null,null,null,null,null,null,null,null,null,null,null,null,null,null,null,null,null,null,null,null,null,null,null,null,null,null,null,null,null,null,null,null,null,null,null,null,null,null,null,null,null,null,null,null,"","",""]
[null,null,null,null,null,null,null,null,null,null,null,null,null,null,null,null,null,null,null,null,null,null,null,null,null,null,null,null,null,null,null,null,null,null,null,null,null,null,null,null,null,null,null,null,null,null,null,null,null,null,null,null,null,null,null,null,null,null,"","",""]
[null,null,null,null,null,null,null,null,null,null,null,null,null,null,null,null,null,null,null,null,null,null,null,null,null,null,null,null,null,null,null,null,null,null,null,null,null,null,null,null,null,null,null,null,null,null,null,null,null,null,null,null,null,null,null,null,null,null,"","",""]
[null,null,null,null,null,null,null,null,null,null,null,null,null,null,null,null,null,null,null,null,null,null,null,null,null,null,null,null,null,null,null,null,null,null,null,null,null,null,null,null,null,null,null,null,null,null,null,null,null,null,null,null,null,null,null,null,null,null,"","",""]
[null,null,null,null,null,null,null,null,null,null,null,null,null,null,null,null,null,null,null,null,null,null,null,null,null,null,null,null,null,null,null,null,null,null,null,null,null,null,null,null,null,null,null,null,null,null,null,null,null,null,null,null,null,null,null,null,null,null,"","",""]
[null,null,null,null,null,null,null,null,null,null,null,null,null,null,null,null,null,null,null,null,null,null,null,null,null,null,null,null,null,null,null,null,null,null,null,null,null,null,null,null,null,null,null,null,null,null,null,null,null,null,null,null,null,null,null,null,null,null,"","",""]
[null,null,null,null,null,null,null,null,null,null,null,null,null,null,null,null,null,null,null,null,null,null,null,null,null,null,null,null,null,null,null,null,null,null,null,null,null,null,null,null,null,null,null,null,null,null,null,null,null,null,null,null,null,null,null,null,null,null,"","",""]
[null,null,null,null,null,null,null,null,null,null,null,null,null,null,null,null,null,null,null,null,null,null,null,null,null,null,null,null,null,null,null,null,null,null,null,null,null,null,null,null,null,null,null,null,null,null,null,null,null,null,null,null,null,null,null,null,null,null,"","",""]
[null,null,null,null,null,null,null,null,null,null,null,null,null,null,null,null,null,null,null,null,null,null,null,null,null,null,null,null,null,null,null,null,null,null,null,null,null,null,null,null,null,null,null,null,null,null,null,null,null,null,null,null,null,null,null,null,null,null,"","",""]
[null,null,null,null,null,null,null,null,null,null,null,null,null,null,null,null,null,null,null,null,null,null,null,null,null,null,null,null,null,null,null,null,null,null,null,null,null,null,null,null,null,null,null,null,null,null,null,null,null,null,null,null,null,null,null,null,null,null,"","",""]
[null,null,null,null,null,null,null,null,null,null,null,null,null,null,null,null,null,null,null,null,null,null,null,null,null,null,null,null,null,null,null,null,null,null,null,null,null,null,null,null,null,null,null,null,null,null,null,null,null,null,null,null,null,null,null,null,null,null,"","",""]
[null,null,null,null,null,null,null,null,null,null,null,null,null,null,null,null,null,null,null,null,null,null,null,null,null,null,null,null,null,null,null,null,null,null,null,null,null,null,null,null,null,null,null,null,null,null,null,null,null,null,null,null,null,null,null,null,null,null,"","",""]
[null,null,null,null,null,null,null,null,null,null,null,null,null,null,null,null,null,null,null,null,null,null,null,null,null,null,null,null,null,null,null,null,null,null,null,null,null,null,null,null,null,null,null,null,null,null,null,null,null,null,null,null,null,null,null,null,null,null,"","",""]
[null,null,null,null,null,null,null,null,null,null,null,null,null,null,null,null,null,null,null,null,null,null,null,null,null,null,null,null,null,null,null,null,null,null,null,null,null,null,null,null,null,null,null,null,null,null,null,null,null,null,null,null,null,null,null,null,null,null,"","",""]
[null,null,null,null,null,null,null,null,null,null,null,null,null,null,null,null,null,null,null,null,null,null,null,null,null,null,null,null,null,null,null,null,null,null,null,null,null,null,null,null,null,null,null,null,null,null,null,null,null,null,null,null,null,null,null,null,null,null,"","",""]
[null,null,null,null,null,null,null,null,null,null,null,null,null,null,null,null,null,null,null,null,null,null,null,null,null,null,null,null,null,null,null,null,null,null,null,null,null,null,null,null,null,null,null,null,null,null,null,null,null,null,null,null,null,null,null,null,null,null,"","",""]
[null,null,null,null,null,null,null,null,null,null,null,null,null,null,null,null,null,null,null,null,null,null,null,null,null,null,null,null,null,null,null,null,null,null,null,null,null,null,null,null,null,null,null,null,null,null,null,null,null,null,null,null,null,null,null,null,null,null,"","",""]
[null,null,null,null,null,null,null,null,null,null,null,null,null,null,null,null,null,null,null,null,null,null,null,null,null,null,null,null,null,null,null,null,null,null,null,null,null,null,null,null,null,null,null,null,null,null,null,null,null,null,null,null,null,null,null,null,null,null,"","",""]
[null,null,null,null,null,null,null,null,null,null,null,null,null,null,null,null,null,null,null,null,null,null,null,null,null,null,null,null,null,null,null,null,null,null,null,null,null,null,null,null,null,null,null,null,null,null,null,null,null,null,null,null,null,null,null,null,null,null,"","",""]
[null,null,null,null,null,null,null,null,null,null,null,null,null,null,null,null,null,null,null,null,null,null,null,null,null,null,null,null,null,null,null,null,null,null,null,null,null,null,null,null,null,null,null,null,null,null,null,null,null,null,null,null,null,null,null,null,null,null,"","",""]
[null,null,null,null,null,null,null,null,null,null,null,null,null,null,null,null,null,null,null,null,null,null,null,null,null,null,null,null,null,null,null,null,null,null,null,null,null,null,null,null,null,null,null,null,null,null,null,null,null,null,null,null,null,null,null,null,null,null,"","",""]
[null,null,null,null,null,null,null,null,null,null,null,null,null,null,null,null,null,null,null,null,null,null,null,null,null,null,null,null,null,null,null,null,null,null,null,null,null,null,null,null,null,null,null,null,null,null,null,null,null,null,null,null,null,null,null,null,null,null,"","",""]
[null,null,null,null,null,null,null,null,null,null,null,null,null,null,null,null,null,null,null,null,null,null,null,null,null,null,null,null,null,null,null,null,null,null,null,null,null,null,null,null,null,null,null,null,null,null,null,null,null,null,null,null,null,null,null,null,null,null,"","",""]
[null,null,null,null,null,null,null,null,null,null,null,null,null,null,null,null,null,null,null,null,null,null,null,null,null,null,null,null,null,null,null,null,null,null,null,null,null,null,null,null,null,null,null,null,null,null,null,null,null,null,null,null,null,null,null,null,null,null,"","",""]
[null,null,null,null,null,null,null,null,null,null,null,null,null,null,null,null,null,null,null,null,null,null,null,null,null,null,null,null,null,null,null,null,null,null,null,null,null,null,null,null,null,null,null,null,null,null,null,null,null,null,null,null,null,null,null,null,null,null,"","",""]
[null,null,null,null,null,null,null,null,null,null,null,null,null,null,null,null,null,null,null,null,null,null,null,null,null,null,null,null,null,null,null,null,null,null,null,null,null,null,null,null,null,null,null,null,null,null,null,null,null,null,null,null,null,null,null,null,null,null,"","",""]
[null,null,null,null,null,null,null,null,null,null,null,null,null,null,null,null,null,null,null,null,null,null,null,null,null,null,null,null,null,null,null,null,null,null,null,null,null,null,null,null,null,null,null,null,null,null,null,null,null,null,null,null,null,null,null,null,null,null,"","",""]
[null,null,null,null,null,null,null,null,null,null,null,null,null,null,null,null,null,null,null,null,null,null,null,null,null,null,null,null,null,null,null,null,null,null,null,null,null,null,null,null,null,null,null,null,null,null,null,null,null,null,null,null,null,null,null,null,null,null,"","",""]
[null,null,null,null,null,null,null,null,null,null,null,null,null,null,null,null,null,null,null,null,null,null,null,null,null,null,null,null,null,null,null,null,null,null,null,null,null,null,null,null,null,null,null,null,null,null,null,null,null,null,null,null,null,null,null,null,null,null,"","",""]
[null,null,null,null,null,null,null,null,null,null,null,null,null,null,null,null,null,null,null,null,null,null,null,null,null,null,null,null,null,null,null,null,null,null,null,null,null,null,null,null,null,null,null,null,null,null,null,null,null,null,null,null,null,null,null,null,null,null,"","",""]
[null,null,null,null,null,null,null,null,null,null,null,null,null,null,null,null,null,null,null,null,null,null,null,null,null,null,null,null,null,null,null,null,null,null,null,null,null,null,null,null,null,null,null,null,null,null,null,null,null,null,null,null,null,null,null,null,null,null,"","",""]
[null,null,null,null,null,null,null,null,null,null,null,null,null,null,null,null,null,null,null,null,null,null,null,null,null,null,null,null,null,null,null,null,null,null,null,null,null,null,null,null,null,null,null,null,null,null,null,null,null,null,null,null,null,null,null,null,null,null,"","",""]
[null,null,null,null,null,null,null,null,null,null,null,null,null,null,null,null,null,null,null,null,null,null,null,null,null,null,null,null,null,null,null,null,null,null,null,null,null,null,null,null,null,null,null,null,null,null,null,null,null,null,null,null,null,null,null,null,null,null,"","",""]
[null,null,null,null,null,null,null,null,null,null,null,null,null,null,null,null,null,null,null,null,null,null,null,null,null,null,null,null,null,null,null,null,null,null,null,null,null,null,null,null,null,null,null,null,null,null,null,null,null,null,null,null,null,null,null,null,null,null,"","",""]
[null,null,null,null,null,null,null,null,null,null,null,null,null,null,null,null,null,null,null,null,null,null,null,null,null,null,null,null,null,null,null,null,null,null,null,null,null,null,null,null,null,null,null,null,null,null,null,null,null,null,null,null,null,null,null,null,null,null,"","",""]
[null,null,null,null,null,null,null,null,null,null,null,null,null,null,null,null,null,null,null,null,null,null,null,null,null,null,null,null,null,null,null,null,null,null,null,null,null,null,null,null,null,null,null,null,null,null,null,null,null,null,null,null,null,null,null,null,null,null,"","",""]
[null,null,null,null,null,null,null,null,null,null,null,null,null,null,null,null,null,null,null,null,null,null,null,null,null,null,null,null,null,null,null,null,null,null,null,null,null,null,null,null,null,null,null,null,null,null,null,null,null,null,null,null,null,null,null,null,null,null,"","",""]
[null,null,null,null,null,null,null,null,null,null,null,null,null,null,null,null,null,null,null,null,null,null,null,null,null,null,null,null,null,null,null,null,null,null,null,null,null,null,null,null,null,null,null,null,null,null,null,null,null,null,null,null,null,null,null,null,null,null,{"$f":"H198&L198&M198","v":""},{"$f":"H198&L198&M198&P198&Q198&R198","v":""},""]
[null,null,null,null,null,null,null,null,null,null,null,null,null,null,null,null,null,null,null,null,null,null,null,null,null,null,null,null,null,null,null,null,null,null,null,null,null,null,null,null,null,null,null,null,null,null,null,null,null,null,null,null,null,null,null,null,null,null,"","",{"$f":"H199&N199&O199&P199&Q199&R199","v":""}]
[null,null,null,null,null,null,null,null,null,null,null,null,null,null,null,null,null,null,null,null,null,null,null,null,null,null,null,null,null,null,null,null,null,null,null,null,null,null,null,null,null,null,null,null,null,null,null,null,null,null,null,null,null,null,null,null,null,null,"","",""]
[null,null,null,null,null,null,null,null,null,null,null,null,null,null,null,null,null,null,null,null,null,null,null,null,null,null,null,null,null,null,null,null,null,null,null,null,null,null,null,null,null,null,null,null,null,null,null,null,null,null,null,null,null,null,null,null,null,null,"","",""]
[null,null,null,null,null,null,null,null,null,null,null,null,null,null,null,null,null,null,null,null,null,null,null,null,null,null,null,null,null,null,null,null,null,null,null,null,null,null,null,null,null,null,null,null,null,null,null,null,null,null,null,null,null,null,null,null,null,null,"","",""]
[null,null,null,null,null,null,null,null,null,null,null,null,null,null,null,null,null,null,null,null,null,null,null,null,null,null,null,null,null,null,null,null,null,null,null,null,null,null,null,null,null,null,null,null,null,null,null,null,null,null,null,null,null,null,null,null,null,null,"","",""]
[null,null,null,null,null,null,null,null,null,null,null,null,null,null,null,null,null,null,null,null,null,null,null,null,null,null,null,null,null,null,null,null,null,null,null,null,null,null,null,null,null,null,null,null,null,null,null,null,null,null,null,null,null,null,null,null,null,null,"","",""]
[null,null,null,null,null,null,null,null,null,null,null,null,null,null,null,null,null,null,null,null,null,null,null,null,null,null,null,null,null,null,null,null,null,null,null,null,null,null,null,null,null,null,null,null,null,null,null,null,null,null,null,null,null,null,null,null,null,null,"","",""]
[null,null,null,null,null,null,null,null,null,null,null,null,null,null,null,null,null,null,null,null,null,null,null,null,null,null,null,null,null,null,null,null,null,null,null,null,null,null,null,null,null,null,null,null,null,null,null,null,null,null,null,null,null,null,null,null,null,null,"","",""]
[null,null,null,null,null,null,null,null,null,null,null,null,null,null,null,null,null,null,null,null,null,null,null,null,null,null,null,null,null,null,null,null,null,null,null,null,null,null,null,null,null,null,null,null,null,null,null,null,null,null,null,null,null,null,null,null,null,null,"","",""]
[null,null,null,null,null,null,null,null,null,null,null,null,null,null,null,null,null,null,null,null,null,null,null,null,null,null,null,null,null,null,null,null,null,null,null,null,null,null,null,null,null,null,null,null,null,null,null,null,null,null,null,null,null,null,null,null,null,null,"","",""]
[null,null,null,null,null,null,null,null,null,null,null,null,null,null,null,null,null,null,null,null,null,null,null,null,null,null,null,null,null,null,null,null,null,null,null,null,null,null,null,null,null,null,null,null,null,null,null,null,null,null,null,null,null,null,null,null,null,null,"","",""]
[null,null,null,null,null,null,null,null,null,null,null,null,null,null,null,null,null,null,null,null,null,null,null,null,null,null,null,null,null,null,null,null,null,null,null,null,null,null,null,null,null,null,null,null,null,null,null,null,null,null,null,null,null,null,null,null,null,null,"","",""]
[null,null,null,null,null,null,null,null,null,null,null,null,null,null,null,null,null,null,null,null,null,null,null,null,null,null,null,null,null,null,null,null,null,null,null,null,null,null,null,null,null,null,null,null,null,null,null,null,null,null,null,null,null,null,null,null,null,null,"","",""]
[null,null,null,null,null,null,null,null,null,null,null,null,null,null,null,null,null,null,null,null,null,null,null,null,null,null,null,null,null,null,null,null,null,null,null,null,null,null,null,null,null,null,null,null,null,null,null,null,null,null,null,null,null,null,null,null,null,null,"","",""]
[null,null,null,null,null,null,null,null,null,null,null,null,null,null,null,null,null,null,null,null,null,null,null,null,null,null,null,null,null,null,null,null,null,null,null,null,null,null,null,null,null,null,null,null,null,null,null,null,null,null,null,null,null,null,null,null,null,null,"","",""]
[null,null,null,null,null,null,null,null,null,null,null,null,null,null,null,null,null,null,null,null,null,null,null,null,null,null,null,null,null,null,null,null,null,null,null,null,null,null,null,null,null,null,null,null,null,null,null,null,null,null,null,null,null,null,null,null,null,null,"","",""]
[null,null,null,null,null,null,null,null,null,null,null,null,null,null,null,null,null,null,null,null,null,null,null,null,null,null,null,null,null,null,null,null,null,null,null,null,null,null,null,null,null,null,null,null,null,null,null,null,null,null,null,null,null,null,null,null,null,null,"","",""]
[null,null,null,null,null,null,null,null,null,null,null,null,null,null,null,null,null,null,null,null,null,null,null,null,null,null,null,null,null,null,null,null,null,null,null,null,null,null,null,null,null,null,null,null,null,null,null,null,null,null,null,null,null,null,null,null,null,null,"","",""]
[null,null,null,null,null,null,null,null,null,null,null,null,null,null,null,null,null,null,null,null,null,null,null,null,null,null,null,null,null,null,null,null,null,null,null,null,null,null,null,null,null,null,null,null,null,null,null,null,null,null,null,null,null,null,null,null,null,null,"","",""]
[null,null,null,null,null,null,null,null,null,null,null,null,null,null,null,null,null,null,null,null,null,null,null,null,null,null,null,null,null,null,null,null,null,null,null,null,null,null,null,null,null,null,null,null,null,null,null,null,null,null,null,null,null,null,null,null,null,null,"","",""]
[null,null,null,null,null,null,null,null,null,null,null,null,null,null,null,null,null,null,null,null,null,null,null,null,null,null,null,null,null,null,null,null,null,null,null,null,null,null,null,null,null,null,null,null,null,null,null,null,null,null,null,null,null,null,null,null,null,null,{"$f":"H219&L219&M219","v":""},"",""]
[null,null,null,null,null,null,null,null,null,null,null,null,null,null,null,null,null,null,null,null,null,null,null,null,null,null,null,null,null,null,null,null,null,null,null,null,null,null,null,null,null,null,null,null,null,null,null,null,null,null,null,null,null,null,null,null,null,null,"","",""]
[null,null,null,null,null,null,null,null,null,null,null,null,null,null,null,null,null,null,null,null,null,null,null,null,null,null,null,null,null,null,null,null,null,null,null,null,null,null,null,null,null,null,null,null,null,null,null,null,null,null,null,null,null,null,null,null,null,null,"","",""]
[null,null,null,null,null,null,null,null,null,null,null,null,null,null,null,null,null,null,null,null,null,null,null,null,null,null,null,null,null,null,null,null,null,null,null,null,null,null,null,null,null,null,null,null,null,null,null,null,null,null,null,null,null,null,null,null,null,null,"","",""]
[null,null,null,null,null,null,null,null,null,null,null,null,null,null,null,null,null,null,null,null,null,null,null,null,null,null,null,null,null,null,null,null,null,null,null,null,null,null,null,null,null,null,null,null,null,null,null,null,null,null,null,null,null,null,null,null,null,null,"","",""]
[null,null,null,null,null,null,null,null,null,null,null,null,null,null,null,null,null,null,null,null,null,null,null,null,null,null,null,null,null,null,null,null,null,null,null,null,null,null,null,null,null,null,null,null,null,null,null,null,null,null,null,null,null,null,null,null,null,null,"","",""]
[null,null,null,null,null,null,null,null,null,null,null,null,null,null,null,null,null,null,null,null,null,null,null,null,null,null,null,null,null,null,null,null,null,null,null,null,null,null,null,null,null,null,null,null,null,null,null,null,null,null,null,null,null,null,null,null,null,null,"","",""]
[null,null,null,null,null,null,null,null,null,null,null,null,null,null,null,null,null,null,null,null,null,null,null,null,null,null,null,null,null,null,null,null,null,null,null,null,null,null,null,null,null,null,null,null,null,null,null,null,null,null,null,null,null,null,null,null,null,null,"","",""]
[null,null,null,null,null,null,null,null,null,null,null,null,null,null,null,null,null,null,null,null,null,null,null,null,null,null,null,null,null,null,null,null,null,null,null,null,null,null,null,null,null,null,null,null,null,null,null,null,null,null,null,null,null,null,null,null,null,null,"","",""]
[null,null,null,null,null,null,null,null,null,null,null,null,null,null,null,null,null,null,null,null,null,null,null,null,null,null,null,null,null,null,null,null,null,null,null,null,null,null,null,null,null,null,null,null,null,null,null,null,null,null,null,null,null,null,null,null,null,null,"","",""]
[null,null,null,null,null,null,null,null,null,null,null,null,null,null,null,null,null,null,null,null,null,null,null,null,null,null,null,null,null,null,null,null,null,null,null,null,null,null,null,null,null,null,null,null,null,null,null,null,null,null,null,null,null,null,null,null,null,null,"","",""]
[null,null,null,null,null,null,null,null,null,null,null,null,null,null,null,null,null,null,null,null,null,null,null,null,null,null,null,null,null,null,null,null,null,null,null,null,null,null,null,null,null,null,null,null,null,null,null,null,null,null,null,null,null,null,null,null,null,null,"","",""]
[null,null,null,null,null,null,null,null,null,null,null,null,null,null,null,null,null,null,null,null,null,null,null,null,null,null,null,null,null,null,null,null,null,null,null,null,null,null,null,null,null,null,null,null,null,null,null,null,null,null,null,null,null,null,null,null,null,null,"",{"$f":"H231&L231&M231&P231&Q231&R231","v":""},""]
[null,null,null,null,null,null,null,null,null,null,null,null,null,null,null,null,null,null,null,null,null,null,null,null,null,null,null,null,null,null,null,null,null,null,null,null,null,null,null,null,null,null,null,null,null,null,null,null,null,null,null,null,null,null,null,null,null,null,"","",""]
[null,null,null,null,null,null,null,null,null,null,null,null,null,null,null,null,null,null,null,null,null,null,null,null,null,null,null,null,null,null,null,null,null,null,null,null,null,null,null,null,null,null,null,null,null,null,null,null,null,null,null,null,null,null,null,null,null,null,"","",""]
[null,null,null,null,null,null,null,null,null,null,null,null,null,null,null,null,null,null,null,null,null,null,null,null,null,null,null,null,null,null,null,null,null,null,null,null,null,null,null,null,null,null,null,null,null,null,null,null,null,null,null,null,null,null,null,null,null,null,"","",""]
[null,null,null,null,null,null,null,null,null,null,null,null,null,null,null,null,null,null,null,null,null,null,null,null,null,null,null,null,null,null,null,null,null,null,null,null,null,null,null,null,null,null,null,null,null,null,null,null,null,null,null,null,null,null,null,null,null,null,"","",""]
[null,null,null,null,null,null,null,null,null,null,null,null,null,null,null,null,null,null,null,null,null,null,null,null,null,null,null,null,null,null,null,null,null,null,null,null,null,null,null,null,null,null,null,null,null,null,null,null,null,null,null,null,null,null,null,null,null,null,"","",""]
[null,null,null,null,null,null,null,null,null,null,null,null,null,null,null,null,null,null,null,null,null,null,null,null,null,null,null,null,null,null,null,null,null,null,null,null,null,null,null,null,null,null,null,null,null,null,null,null,null,null,null,null,null,null,null,null,null,null,"","",""]
[null,null,null,null,null,null,null,null,null,null,null,null,null,null,null,null,null,null,null,null,null,null,null,null,null,null,null,null,null,null,null,null,null,null,null,null,null,null,null,null,null,null,null,null,null,null,null,null,null,null,null,null,null,null,null,null,null,null,"","",""]
[null,null,null,null,null,null,null,null,null,null,null,null,null,null,null,null,null,null,null,null,null,null,null,null,null,null,null,null,null,null,null,null,null,null,null,null,null,null,null,null,null,null,null,null,null,null,null,null,null,null,null,null,null,null,null,null,null,null,"","",""]
[null,null,null,null,null,null,null,null,null,null,null,null,null,null,null,null,null,null,null,null,null,null,null,null,null,null,null,null,null,null,null,null,null,null,null,null,null,null,null,null,null,null,null,null,null,null,null,null,null,null,null,null,null,null,null,null,null,null,"","",""]
[null,null,null,null,null,null,null,null,null,null,null,null,null,null,null,null,null,null,null,null,null,null,null,null,null,null,null,null,null,null,null,null,null,null,null,null,null,null,null,null,null,null,null,null,null,null,null,null,null,null,null,null,null,null,null,null,null,null,"","",""]
[null,null,null,null,null,null,null,null,null,null,null,null,null,null,null,null,null,null,null,null,null,null,null,null,null,null,null,null,null,null,null,null,null,null,null,null,null,null,null,null,null,null,null,null,null,null,null,null,null,null,null,null,null,null,null,null,null,null,"",{"$f":"H242&L242&M242&P242&Q242&R242","v":""},""]
[null,null,null,null,null,null,null,null,null,null,null,null,null,null,null,null,null,null,null,null,null,null,null,null,null,null,null,null,null,null,null,null,null,null,null,null,null,null,null,null,null,null,null,null,null,null,null,null,null,null,null,null,null,null,null,null,null,null,"","",""]
[null,null,null,null,null,null,null,null,null,null,null,null,null,null,null,null,null,null,null,null,null,null,null,null,null,null,null,null,null,null,null,null,null,null,null,null,null,null,null,null,null,null,null,null,null,null,null,null,null,null,null,null,null,null,null,null,null,null,"","",""]
[null,null,null,null,null,null,null,null,null,null,null,null,null,null,null,null,null,null,null,null,null,null,null,null,null,null,null,null,null,null,null,null,null,null,null,null,null,null,null,null,null,null,null,null,null,null,null,null,null,null,null,null,null,null,null,null,null,null,"","",""]
[null,null,null,null,null,null,null,null,null,null,null,null,null,null,null,null,null,null,null,null,null,null,null,null,null,null,null,null,null,null,null,null,null,null,null,null,null,null,null,null,null,null,null,null,null,null,null,null,null,null,null,null,null,null,null,null,null,null,"","",""]
[null,null,null,null,null,null,null,null,null,null,null,null,null,null,null,null,null,null,null,null,null,null,null,null,null,null,null,null,null,null,null,null,null,null,null,null,null,null,null,null,null,null,null,null,null,null,null,null,null,null,null,null,null,null,null,null,null,null,"","",""]
[null,null,null,null,null,null,null,null,null,null,null,null,null,null,null,null,null,null,null,null,null,null,null,null,null,null,null,null,null,null,null,null,null,null,null,null,null,null,null,null,null,null,null,null,null,null,null,null,null,null,null,null,null,null,null,null,null,null,"","",""]
[null,null,null,null,null,null,null,null,null,null,null,null,null,null,null,null,null,null,null,null,null,null,null,null,null,null,null,null,null,null,null,null,null,null,null,null,null,null,null,null,null,null,null,null,null,null,null,null,null,null,null,null,null,null,null,null,null,null,"","",""]
[null,null,null,null,null,null,null,null,null,null,null,null,null,null,null,null,null,null,null,null,null,null,null,null,null,null,null,null,null,null,null,null,null,null,null,null,null,null,null,null,null,null,null,null,null,null,null,null,null,null,null,null,null,null,null,null,null,null,"","",""]
[null,null,null,null,null,null,null,null,null,null,null,null,null,null,null,null,null,null,null,null,null,null,null,null,null,null,null,null,null,null,null,null,null,null,null,null,null,null,null,null,null,null,null,null,null,null,null,null,null,null,null,null,null,null,null,null,null,null,"","",""]
[null,null,null,null,null,null,null,null,null,null,null,null,null,null,null,null,null,null,null,null,null,null,null,null,null,null,null,null,null,null,null,null,null,null,null,null,null,null,null,null,null,null,null,null,null,null,null,null,null,null,null,null,null,null,null,null,null,null,"","",""]
[null,null,null,null,null,null,null,null,null,null,null,null,null,null,null,null,null,null,null,null,null,null,null,null,null,null,null,null,null,null,null,null,null,null,null,null,null,null,null,null,null,null,null,null,null,null,null,null,null,null,null,null,null,null,null,null,null,null,"","",""]
[null,null,null,null,null,null,null,null,null,null,null,null,null,null,null,null,null,null,null,null,null,null,null,null,null,null,null,null,null,null,null,null,null,null,null,null,null,null,null,null,null,null,null,null,null,null,null,null,null,null,null,null,null,null,null,null,null,null,"","",""]
[null,null,null,null,null,null,null,null,null,null,null,null,null,null,null,null,null,null,null,null,null,null,null,null,null,null,null,null,null,null,null,null,null,null,null,null,null,null,null,null,null,null,null,null,null,null,null,null,null,null,null,null,null,null,null,null,null,null,"","",""]
[null,null,null,null,null,null,null,null,null,null,null,null,null,null,null,null,null,null,null,null,null,null,null,null,null,null,null,null,null,null,null,null,null,null,null,null,null,null,null,null,null,null,null,null,null,null,null,null,null,null,null,null,null,null,null,null,null,null,{"$f":"H256&L256&M256","v":""},{"$f":"H256&L256&M256&P256&Q256&R256","v":""},""]
[null,null,null,null,null,null,null,null,null,null,null,null,null,null,null,null,null,null,null,null,null,null,null,null,null,null,null,null,null,null,null,null,null,null,null,null,null,null,null,null,null,null,null,null,null,null,null,null,null,null,null,null,null,null,null,null,null,null,"","",""]
[null,null,null,null,null,null,null,null,null,null,null,null,null,null,null,null,null,null,null,null,null,null,null,null,null,null,null,null,null,null,null,null,null,null,null,null,null,null,null,null,null,null,null,null,null,null,null,null,null,null,null,null,null,null,null,null,null,null,"","",""]
[null,null,null,null,null,null,null,null,null,null,null,null,null,null,null,null,null,null,null,null,null,null,null,null,null,null,null,null,null,null,null,null,null,null,null,null,null,null,null,null,null,null,null,null,null,null,null,null,null,null,null,null,null,null,null,null,null,null,"","",""]
[null,null,null,null,null,null,null,null,null,null,null,null,null,null,null,null,null,null,null,null,null,null,null,null,null,null,null,null,null,null,null,null,null,null,null,null,null,null,null,null,null,null,null,null,null,null,null,null,null,null,null,null,null,null,null,null,null,null,"","",""]
[null,null,null,null,null,null,null,null,null,null,null,null,null,null,null,null,null,null,null,null,null,null,null,null,null,null,null,null,null,null,null,null,null,null,null,null,null,null,null,null,null,null,null,null,null,null,null,null,null,null,null,null,null,null,null,null,null,null,"","",""]
[null,null,null,null,null,null,null,null,null,null,null,null,null,null,null,null,null,null,null,null,null,null,null,null,null,null,null,null,null,null,null,null,null,null,null,null,null,null,null,null,null,null,null,null,null,null,null,null,null,null,null,null,null,null,null,null,null,null,"","",""]
[null,null,null,null,null,null,null,null,null,null,null,null,null,null,null,null,null,null,null,null,null,null,null,null,null,null,null,null,null,null,null,null,null,null,null,null,null,null,null,null,null,null,null,null,null,null,null,null,null,null,null,null,null,null,null,null,null,null,"","",{"$f":"H263&N263&O263&P263&Q263&R263","v":""}]
[null,null,null,null,null,null,null,null,null,null,null,null,null,null,null,null,null,null,null,null,null,null,null,null,null,null,null,null,null,null,null,null,null,null,null,null,null,null,null,null,null,null,null,null,null,null,null,null,null,null,null,null,null,null,null,null,null,null,"","",""]
[null,null,null,null,null,null,null,null,null,null,null,null,null,null,null,null,null,null,null,null,null,null,null,null,null,null,null,null,null,null,null,null,null,null,null,null,null,null,null,null,null,null,null,null,null,null,null,null,null,null,null,null,null,null,null,null,null,null,"","",""]
[null,null,null,null,null,null,null,null,null,null,null,null,null,null,null,null,null,null,null,null,null,null,null,null,null,null,null,null,null,null,null,null,null,null,null,null,null,null,null,null,null,null,null,null,null,null,null,null,null,null,null,null,null,null,null,null,null,null,"","",""]
[null,null,null,null,null,null,null,null,null,null,null,null,null,null,null,null,null,null,null,null,null,null,null,null,null,null,null,null,null,null,null,null,null,null,null,null,null,null,null,null,null,null,null,null,null,null,null,null,null,null,null,null,null,null,null,null,null,null,"","",""]
[null,null,null,null,null,null,null,null,null,null,null,null,null,null,null,null,null,null,null,null,null,null,null,null,null,null,null,null,null,null,null,null,null,null,null,null,null,null,null,null,null,null,null,null,null,null,null,null,null,null,null,null,null,null,null,null,null,null,"","",""]
[null,null,null,null,null,null,null,null,null,null,null,null,null,null,null,null,null,null,null,null,null,null,null,null,null,null,null,null,null,null,null,null,null,null,null,null,null,null,null,null,null,null,null,null,null,null,null,null,null,null,null,null,null,null,null,null,null,null,"","",""]
[null,null,null,null,null,null,null,null,null,null,null,null,null,null,null,null,null,null,null,null,null,null,null,null,null,null,null,null,null,null,null,null,null,null,null,null,null,null,null,null,null,null,null,null,null,null,null,null,null,null,null,null,null,null,null,null,null,null,"","",""]
[null,null,null,null,null,null,null,null,null,null,null,null,null,null,null,null,null,null,null,null,null,null,null,null,null,null,null,null,null,null,null,null,null,null,null,null,null,null,null,null,null,null,null,null,null,null,null,null,null,null,null,null,null,null,null,null,null,null,"","",""]
[null,null,null,null,null,null,null,null,null,null,null,null,null,null,null,null,null,null,null,null,null,null,null,null,null,null,null,null,null,null,null,null,null,null,null,null,null,null,null,null,null,null,null,null,null,null,null,null,null,null,null,null,null,null,null,null,null,null,"","",""]
[null,null,null,null,null,null,null,null,null,null,null,null,null,null,null,null,null,null,null,null,null,null,null,null,null,null,null,null,null,null,null,null,null,null,null,null,null,null,null,null,null,null,null,null,null,null,null,null,null,null,null,null,null,null,null,null,null,null,"","",""]
[null,null,null,null,null,null,null,null,null,null,null,null,null,null,null,null,null,null,null,null,null,null,null,null,null,null,null,null,null,null,null,null,null,null,null,null,null,null,null,null,null,null,null,null,null,null,null,null,null,null,null,null,null,null,null,null,null,null,"","",""]
[null,null,null,null,null,null,null,null,null,null,null,null,null,null,null,null,null,null,null,null,null,null,null,null,null,null,null,null,null,null,null,null,null,null,null,null,null,null,null,null,null,null,null,null,null,null,null,null,null,null,null,null,null,null,null,null,null,null,"","",""]
[null,null,null,null,null,null,null,null,null,null,null,null,null,null,null,null,null,null,null,null,null,null,null,null,null,null,null,null,null,null,null,null,null,null,null,null,null,null,null,null,null,null,null,null,null,null,null,null,null,null,null,null,null,null,null,null,null,null,"","",""]
[null,null,null,null,null,null,null,null,null,null,null,null,null,null,null,null,null,null,null,null,null,null,null,null,null,null,null,null,null,null,null,null,null,null,null,null,null,null,null,null,null,null,null,null,null,null,null,null,null,null,null,null,null,null,null,null,null,null,"","",""]
[null,null,null,null,null,null,null,null,null,null,null,null,null,null,null,null,null,null,null,null,null,null,null,null,null,null,null,null,null,null,null,null,null,null,null,null,null,null,null,null,null,null,null,null,null,null,null,null,null,null,null,null,null,null,null,null,null,null,"","",""]
[null,null,null,null,null,null,null,null,null,null,null,null,null,null,null,null,null,null,null,null,null,null,null,null,null,null,null,null,null,null,null,null,null,null,null,null,null,null,null,null,null,null,null,null,null,null,null,null,null,null,null,null,null,null,null,null,null,null,"","",""]
[null,null,null,null,null,null,null,null,null,null,null,null,null,null,null,null,null,null,null,null,null,null,null,null,null,null,null,null,null,null,null,null,null,null,null,null,null,null,null,null,null,null,null,null,null,null,null,null,null,null,null,null,null,null,null,null,null,null,"","",""]
[null,null,null,null,null,null,null,null,null,null,null,null,null,null,null,null,null,null,null,null,null,null,null,null,null,null,null,null,null,null,null,null,null,null,null,null,null,null,null,null,null,null,null,null,null,null,null,null,null,null,null,null,null,null,null,null,null,null,"","",""]
[null,null,null,null,null,null,null,null,null,null,null,null,null,null,null,null,null,null,null,null,null,null,null,null,null,null,null,null,null,null,null,null,null,null,null,null,null,null,null,null,null,null,null,null,null,null,null,null,null,null,null,null,null,null,null,null,null,null,"","",""]
[null,null,null,null,null,null,null,null,null,null,null,null,null,null,null,null,null,null,null,null,null,null,null,null,null,null,null,null,null,null,null,null,null,null,null,null,null,null,null,null,null,null,null,null,null,null,null,null,null,null,null,null,null,null,null,null,null,null,"","",""]
[null,null,null,null,null,null,null,null,null,null,null,null,null,null,null,null,null,null,null,null,null,null,null,null,null,null,null,null,null,null,null,null,null,null,null,null,null,null,null,null,null,null,null,null,null,null,null,null,null,null,null,null,null,null,null,null,null,null,"","",""]
[null,null,null,null,null,null,null,null,null,null,null,null,null,null,null,null,null,null,null,null,null,null,null,null,null,null,null,null,null,null,null,null,null,null,null,null,null,null,null,null,null,null,null,null,null,null,null,null,null,null,null,null,null,null,null,null,null,null,"","",""]
[null,null,null,null,null,null,null,null,null,null,null,null,null,null,null,null,null,null,null,null,null,null,null,null,null,null,null,null,null,null,null,null,null,null,null,null,null,null,null,null,null,null,null,null,null,null,null,null,null,null,null,null,null,null,null,null,null,null,"","",""]
[null,null,null,null,null,null,null,null,null,null,null,null,null,null,null,null,null,null,null,null,null,null,null,null,null,null,null,null,null,null,null,null,null,null,null,null,null,null,null,null,null,null,null,null,null,null,null,null,null,null,null,null,null,null,null,null,null,null,"","",""]
[null,null,null,null,null,null,null,null,null,null,null,null,null,null,null,null,null,null,null,null,null,null,null,null,null,null,null,null,null,null,null,null,null,null,null,null,null,null,null,null,null,null,null,null,null,null,null,null,null,null,null,null,null,null,null,null,null,null,"","",""]
[null,null,null,null,null,null,null,null,null,null,null,null,null,null,null,null,null,null,null,null,null,null,null,null,null,null,null,null,null,null,null,null,null,null,null,null,null,null,null,null,null,null,null,null,null,null,null,null,null,null,null,null,null,null,null,null,null,null,"","",""]
[null,null,null,null,null,null,null,null,null,null,null,null,null,null,null,null,null,null,null,null,null,null,null,null,null,null,null,null,null,null,null,null,null,null,null,null,null,null,null,null,null,null,null,null,null,null,null,null,null,null,null,null,null,null,null,null,null,null,"","",""]
[null,null,null,null,null,null,null,null,null,null,null,null,null,null,null,null,null,null,null,null,null,null,null,null,null,null,null,null,null,null,null,null,null,null,null,null,null,null,null,null,null,null,null,null,null,null,null,null,null,null,null,null,null,null,null,null,null,null,"","",""]
[null,null,null,null,null,null,null,null,null,null,null,null,null,null,null,null,null,null,null,null,null,null,null,null,null,null,null,null,null,null,null,null,null,null,null,null,null,null,null,null,null,null,null,null,null,null,null,null,null,null,null,null,null,null,null,null,null,null,"","",""]
[null,null,null,null,null,null,null,null,null,null,null,null,null,null,null,null,null,null,null,null,null,null,null,null,null,null,null,null,null,null,null,null,null,null,null,null,null,null,null,null,null,null,null,null,null,null,null,null,null,null,null,null,null,null,null,null,null,null,"","",""]
[null,null,null,null,null,null,null,null,null,null,null,null,null,null,null,null,null,null,null,null,null,null,null,null,null,null,null,null,null,null,null,null,null,null,null,null,null,null,null,null,null,null,null,null,null,null,null,null,null,null,null,null,null,null,null,null,null,null,"","",""]
[null,null,null,null,null,null,null,null,null,null,null,null,null,null,null,null,null,null,null,null,null,null,null,null,null,null,null,null,null,null,null,null,null,null,null,null,null,null,null,null,null,null,null,null,null,null,null,null,null,null,null,null,null,null,null,null,null,null,"","",""]
[null,null,null,null,null,null,null,null,null,null,null,null,null,null,null,null,null,null,null,null,null,null,null,null,null,null,null,null,null,null,null,null,null,null,null,null,null,null,null,null,null,null,null,null,null,null,null,null,null,null,null,null,null,null,null,null,null,null,"","",""]
[null,null,null,null,null,null,null,null,null,null,null,null,null,null,null,null,null,null,null,null,null,null,null,null,null,null,null,null,null,null,null,null,null,null,null,null,null,null,null,null,null,null,null,null,null,null,null,null,null,null,null,null,null,null,null,null,null,null,"","",""]
[null,null,null,null,null,null,null,null,null,null,null,null,null,null,null,null,null,null,null,null,null,null,null,null,null,null,null,null,null,null,null,null,null,null,null,null,null,null,null,null,null,null,null,null,null,null,null,null,null,null,null,null,null,null,null,null,null,null,"","",""]
[null,null,null,null,null,null,null,null,null,null,null,null,null,null,null,null,null,null,null,null,null,null,null,null,null,null,null,null,null,null,null,null,null,null,null,null,null,null,null,null,null,null,null,null,null,null,null,null,null,null,null,null,null,null,null,null,null,null,"","",""]
[null,null,null,null,null,null,null,null,null,null,null,null,null,null,null,null,null,null,null,null,null,null,null,null,null,null,null,null,null,null,null,null,null,null,null,null,null,null,null,null,null,null,null,null,null,null,null,null,null,null,null,null,null,null,null,null,null,null,"","",""]
[null,null,null,null,null,null,null,null,null,null,null,null,null,null,null,null,null,null,null,null,null,null,null,null,null,null,null,null,null,null,null,null,null,null,null,null,null,null,null,null,null,null,null,null,null,null,null,null,null,null,null,null,null,null,null,null,null,null,"","",""]
[null,null,null,null,null,null,null,null,null,null,null,null,null,null,null,null,null,null,null,null,null,null,null,null,null,null,null,null,null,null,null,null,null,null,null,null,null,null,null,null,null,null,null,null,null,null,null,null,null,null,null,null,null,null,null,null,null,null,"","",""]
[null,null,null,null,null,null,null,null,null,null,null,null,null,null,null,null,null,null,null,null,null,null,null,null,null,null,null,null,null,null,null,null,null,null,null,null,null,null,null,null,null,null,null,null,null,null,null,null,null,null,null,null,null,null,null,null,null,null,"","",""]
[null,null,null,null,null,null,null,null,null,null,null,null,null,null,null,null,null,null,null,null,null,null,null,null,null,null,null,null,null,null,null,null,null,null,null,null,null,null,null,null,null,null,null,null,null,null,null,null,null,null,null,null,null,null,null,null,null,null,"","",""]
[null,null,null,null,null,null,null,null,null,null,null,null,null,null,null,null,null,null,null,null,null,null,null,null,null,null,null,null,null,null,null,null,null,null,null,null,null,null,null,null,null,null,null,null,null,null,null,null,null,null,null,null,null,null,null,null,null,null,"","",""]
[null,null,null,null,null,null,null,null,null,null,null,null,null,null,null,null,null,null,null,null,null,null,null,null,null,null,null,null,null,null,null,null,null,null,null,null,null,null,null,null,null,null,null,null,null,null,null,null,null,null,null,null,null,null,null,null,null,null,"","",""]
[null,null,null,null,null,null,null,null,null,null,null,null,null,null,null,null,null,null,null,null,null,null,null,null,null,null,null,null,null,null,null,null,null,null,null,null,null,null,null,null,null,null,null,null,null,null,null,null,null,null,null,null,null,null,null,null,null,null,"","",""]
[null,null,null,null,null,null,null,null,null,null,null,null,null,null,null,null,null,null,null,null,null,null,null,null,null,null,null,null,null,null,null,null,null,null,null,null,null,null,null,null,null,null,null,null,null,null,null,null,null,null,null,null,null,null,null,null,null,null,"","",""]
[null,null,null,null,null,null,null,null,null,null,null,null,null,null,null,null,null,null,null,null,null,null,null,null,null,null,null,null,null,null,null,null,null,null,null,null,null,null,null,null,null,null,null,null,null,null,null,null,null,null,null,null,null,null,null,null,null,null,"","",""]
[null,null,null,null,null,null,null,null,null,null,null,null,null,null,null,null,null,null,null,null,null,null,null,null,null,null,null,null,null,null,null,null,null,null,null,null,null,null,null,null,null,null,null,null,null,null,null,null,null,null,null,null,null,null,null,null,null,null,"","",""]
[null,null,null,null,null,null,null,null,null,null,null,null,null,null,null,null,null,null,null,null,null,null,null,null,null,null,null,null,null,null,null,null,null,null,null,null,null,null,null,null,null,null,null,null,null,null,null,null,null,null,null,null,null,null,null,null,null,null,"","",""]
[null,null,null,null,null,null,null,null,null,null,null,null,null,null,null,null,null,null,null,null,null,null,null,null,null,null,null,null,null,null,null,null,null,null,null,null,null,null,null,null,null,null,null,null,null,null,null,null,null,null,null,null,null,null,null,null,null,null,"","",""]
[null,null,null,null,null,null,null,null,null,null,null,null,null,null,null,null,null,null,null,null,null,null,null,null,null,null,null,null,null,null,null,null,null,null,null,null,null,null,null,null,null,null,null,null,null,null,null,null,null,null,null,null,null,null,null,null,null,null,"","",""]
[null,null,null,null,null,null,null,null,null,null,null,null,null,null,null,null,null,null,null,null,null,null,null,null,null,null,null,null,null,null,null,null,null,null,null,null,null,null,null,null,null,null,null,null,null,null,null,null,null,null,null,null,null,null,null,null,null,null,"","",""]
[null,null,null,null,null,null,null,null,null,null,null,null,null,null,null,null,null,null,null,null,null,null,null,null,null,null,null,null,null,null,null,null,null,null,null,null,null,null,null,null,null,null,null,null,null,null,null,null,null,null,null,null,null,null,null,null,null,null,"","",""]
[null,null,null,null,null,null,null,null,null,null,null,null,null,null,null,null,null,null,null,null,null,null,null,null,null,null,null,null,null,null,null,null,null,null,null,null,null,null,null,null,null,null,null,null,null,null,null,null,null,null,null,null,null,null,null,null,null,null,"","",""]
[null,null,null,null,null,null,null,null,null,null,null,null,null,null,null,null,null,null,null,null,null,null,null,null,null,null,null,null,null,null,null,null,null,null,null,null,null,null,null,null,null,null,null,null,null,null,null,null,null,null,null,null,null,null,null,null,null,null,"","",""]
[null,null,null,null,null,null,null,null,null,null,null,null,null,null,null,null,null,null,null,null,null,null,null,null,null,null,null,null,null,null,null,null,null,null,null,null,null,null,null,null,null,null,null,null,null,null,null,null,null,null,null,null,null,null,null,null,null,null,"","",""]
[null,null,null,null,null,null,null,null,null,null,null,null,null,null,null,null,null,null,null,null,null,null,null,null,null,null,null,null,null,null,null,null,null,null,null,null,null,null,null,null,null,null,null,null,null,null,null,null,null,null,null,null,null,null,null,null,null,null,"","",""]
[null,null,null,null,null,null,null,null,null,null,null,null,null,null,null,null,null,null,null,null,null,null,null,null,null,null,null,null,null,null,null,null,null,null,null,null,null,null,null,null,null,null,null,null,null,null,null,null,null,null,null,null,null,null,null,null,null,null,{"$f":"H320&L320&M320","v":""},{"$f":"H320&L320&M320&P320&Q320&R320","v":""},""]
[null,null,null,null,null,null,null,null,null,null,null,null,null,null,null,null,null,null,null,null,null,null,null,null,null,null,null,null,null,null,null,null,null,null,null,null,null,null,null,null,null,null,null,null,null,null,null,null,null,null,null,null,null,null,null,null,null,null,"","",""]
[null,null,null,null,null,null,null,null,null,null,null,null,null,null,null,null,null,null,null,null,null,null,null,null,null,null,null,null,null,null,null,null,null,null,null,null,null,null,null,null,null,null,null,null,null,null,null,null,null,null,null,null,null,null,null,null,null,null,"","",""]
[null,null,null,null,null,null,null,null,null,null,null,null,null,null,null,null,null,null,null,null,null,null,null,null,null,null,null,null,null,null,null,null,null,null,null,null,null,null,null,null,null,null,null,null,null,null,null,null,null,null,null,null,null,null,null,null,null,null,"","",""]
[null,null,null,null,null,null,null,null,null,null,null,null,null,null,null,null,null,null,null,null,null,null,null,null,null,null,null,null,null,null,null,null,null,null,null,null,null,null,null,null,null,null,null,null,null,null,null,null,null,null,null,null,null,null,null,null,null,null,"","",""]
[null,null,null,null,null,null,null,null,null,null,null,null,null,null,null,null,null,null,null,null,null,null,null,null,null,null,null,null,null,null,null,null,null,null,null,null,null,null,null,null,null,null,null,null,null,null,null,null,null,null,null,null,null,null,null,null,null,null,"","",""]
[null,null,null,null,null,null,null,null,null,null,null,null,null,null,null,null,null,null,null,null,null,null,null,null,null,null,null,null,null,null,null,null,null,null,null,null,null,null,null,null,null,null,null,null,null,null,null,null,null,null,null,null,null,null,null,null,null,null,"","",""]
[null,null,null,null,null,null,null,null,null,null,null,null,null,null,null,null,null,null,null,null,null,null,null,null,null,null,null,null,null,null,null,null,null,null,null,null,null,null,null,null,null,null,null,null,null,null,null,null,null,null,null,null,null,null,null,null,null,null,"","",{"$f":"H327&N327&O327&P327&Q327&R327","v":""}]
[null,null,null,null,null,null,null,null,null,null,null,null,null,null,null,null,null,null,null,null,null,null,null,null,null,null,null,null,null,null,null,null,null,null,null,null,null,null,null,null,null,null,null,null,null,null,null,null,null,null,null,null,null,null,null,null,null,null,"","",""]
[null,null,null,null,null,null,null,null,null,null,null,null,null,null,null,null,null,null,null,null,null,null,null,null,null,null,null,null,null,null,null,null,null,null,null,null,null,null,null,null,null,null,null,null,null,null,null,null,null,null,null,null,null,null,null,null,null,null,"","",""]
[null,null,null,null,null,null,null,null,null,null,null,null,null,null,null,null,null,null,null,null,null,null,null,null,null,null,null,null,null,null,null,null,null,null,null,null,null,null,null,null,null,null,null,null,null,null,null,null,null,null,null,null,null,null,null,null,null,null,"","",""]
[null,null,null,null,null,null,null,null,null,null,null,null,null,null,null,null,null,null,null,null,null,null,null,null,null,null,null,null,null,null,null,null,null,null,null,null,null,null,null,null,null,null,null,null,null,null,null,null,null,null,null,null,null,null,null,null,null,null,"","",""]
[null,null,null,null,null,null,null,null,null,null,null,null,null,null,null,null,null,null,null,null,null,null,null,null,null,null,null,null,null,null,null,null,null,null,null,null,null,null,null,null,null,null,null,null,null,null,null,null,null,null,null,null,null,null,null,null,null,null,"","",""]
[null,null,null,null,null,null,null,null,null,null,null,null,null,null,null,null,null,null,null,null,null,null,null,null,null,null,null,null,null,null,null,null,null,null,null,null,null,null,null,null,null,null,null,null,null,null,null,null,null,null,null,null,null,null,null,null,null,null,"","",""]
[null,null,null,null,null,null,null,null,null,null,null,null,null,null,null,null,null,null,null,null,null,null,null,null,null,null,null,null,null,null,null,null,null,null,null,null,null,null,null,null,null,null,null,null,null,null,null,null,null,null,null,null,null,null,null,null,null,null,"","",""]
[null,null,null,null,null,null,null,null,null,null,null,null,null,null,null,null,null,null,null,null,null,null,null,null,null,null,null,null,null,null,null,null,null,null,null,null,null,null,null,null,null,null,null,null,null,null,null,null,null,null,null,null,null,null,null,null,null,null,"","",""]
[null,null,null,null,null,null,null,null,null,null,null,null,null,null,null,null,null,null,null,null,null,null,null,null,null,null,null,null,null,null,null,null,null,null,null,null,null,null,null,null,null,null,null,null,null,null,null,null,null,null,null,null,null,null,null,null,null,null,"","",""]
[null,null,null,null,null,null,null,null,null,null,null,null,null,null,null,null,null,null,null,null,null,null,null,null,null,null,null,null,null,null,null,null,null,null,null,null,null,null,null,null,null,null,null,null,null,null,null,null,null,null,null,null,null,null,null,null,null,null,"","",""]
[null,null,null,null,null,null,null,null,null,null,null,null,null,null,null,null,null,null,null,null,null,null,null,null,null,null,null,null,null,null,null,null,null,null,null,null,null,null,null,null,null,null,null,null,null,null,null,null,null,null,null,null,null,null,null,null,null,null,"","",""]
[null,null,null,null,null,null,null,null,null,null,null,null,null,null,null,null,null,null,null,null,null,null,null,null,null,null,null,null,null,null,null,null,null,null,null,null,null,null,null,null,null,null,null,null,null,null,null,null,null,null,null,null,null,null,null,null,null,null,"","",""]
[null,null,null,null,null,null,null,null,null,null,null,null,null,null,null,null,null,null,null,null,null,null,null,null,null,null,null,null,null,null,null,null,null,null,null,null,null,null,null,null,null,null,null,null,null,null,null,null,null,null,null,null,null,null,null,null,null,null,"","",""]
[null,null,null,null,null,null,null,null,null,null,null,null,null,null,null,null,null,null,null,null,null,null,null,null,null,null,null,null,null,null,null,null,null,null,null,null,null,null,null,null,null,null,null,null,null,null,null,null,null,null,null,null,null,null,null,null,null,null,"","",""]
[null,null,null,null,null,null,null,null,null,null,null,null,null,null,null,null,null,null,null,null,null,null,null,null,null,null,null,null,null,null,null,null,null,null,null,null,null,null,null,null,null,null,null,null,null,null,null,null,null,null,null,null,null,null,null,null,null,null,"","",""]
[null,null,null,null,null,null,null,null,null,null,null,null,null,null,null,null,null,null,null,null,null,null,null,null,null,null,null,null,null,null,null,null,null,null,null,null,null,null,null,null,null,null,null,null,null,null,null,null,null,null,null,null,null,null,null,null,null,null,"","",""]
[null,null,null,null,null,null,null,null,null,null,null,null,null,null,null,null,null,null,null,null,null,null,null,null,null,null,null,null,null,null,null,null,null,null,null,null,null,null,null,null,null,null,null,null,null,null,null,null,null,null,null,null,null,null,null,null,null,null,"","",""]
[null,null,null,null,null,null,null,null,null,null,null,null,null,null,null,null,null,null,null,null,null,null,null,null,null,null,null,null,null,null,null,null,null,null,null,null,null,null,null,null,null,null,null,null,null,null,null,null,null,null,null,null,null,null,null,null,null,null,"","",""]
[null,null,null,null,null,null,null,null,null,null,null,null,null,null,null,null,null,null,null,null,null,null,null,null,null,null,null,null,null,null,null,null,null,null,null,null,null,null,null,null,null,null,null,null,null,null,null,null,null,null,null,null,null,null,null,null,null,null,"","",""]
[null,null,null,null,null,null,null,null,null,null,null,null,null,null,null,null,null,null,null,null,null,null,null,null,null,null,null,null,null,null,null,null,null,null,null,null,null,null,null,null,null,null,null,null,null,null,null,null,null,null,null,null,null,null,null,null,null,null,"","",""]
[null,null,null,null,null,null,null,null,null,null,null,null,null,null,null,null,null,null,null,null,null,null,null,null,null,null,null,null,null,null,null,null,null,null,null,null,null,null,null,null,null,null,null,null,null,null,null,null,null,null,null,null,null,null,null,null,null,null,"","",""]
[null,null,null,null,null,null,null,null,null,null,null,null,null,null,null,null,null,null,null,null,null,null,null,null,null,null,null,null,null,null,null,null,null,null,null,null,null,null,null,null,null,null,null,null,null,null,null,null,null,null,null,null,null,null,null,null,null,null,"","",""]
[null,null,null,null,null,null,null,null,null,null,null,null,null,null,null,null,null,null,null,null,null,null,null,null,null,null,null,null,null,null,null,null,null,null,null,null,null,null,null,null,null,null,null,null,null,null,null,null,null,null,null,null,null,null,null,null,null,null,"","",""]
[null,null,null,null,null,null,null,null,null,null,null,null,null,null,null,null,null,null,null,null,null,null,null,null,null,null,null,null,null,null,null,null,null,null,null,null,null,null,null,null,null,null,null,null,null,null,null,null,null,null,null,null,null,null,null,null,null,null,"","",""]
[null,null,null,null,null,null,null,null,null,null,null,null,null,null,null,null,null,null,null,null,null,null,null,null,null,null,null,null,null,null,null,null,null,null,null,null,null,null,null,null,null,null,null,null,null,null,null,null,null,null,null,null,null,null,null,null,null,null,"","",""]
[null,null,null,null,null,null,null,null,null,null,null,null,null,null,null,null,null,null,null,null,null,null,null,null,null,null,null,null,null,null,null,null,null,null,null,null,null,null,null,null,null,null,null,null,null,null,null,null,null,null,null,null,null,null,null,null,null,null,"","",""]
[null,null,null,null,null,null,null,null,null,null,null,null,null,null,null,null,null,null,null,null,null,null,null,null,null,null,null,null,null,null,null,null,null,null,null,null,null,null,null,null,null,null,null,null,null,null,null,null,null,null,null,null,null,null,null,null,null,null,"","",""]
[null,null,null,null,null,null,null,null,null,null,null,null,null,null,null,null,null,null,null,null,null,null,null,null,null,null,null,null,null,null,null,null,null,null,null,null,null,null,null,null,null,null,null,null,null,null,null,null,null,null,null,null,null,null,null,null,null,null,"","",""]
[null,null,null,null,null,null,null,null,null,null,null,null,null,null,null,null,null,null,null,null,null,null,null,null,null,null,null,null,null,null,null,null,null,null,null,null,null,null,null,null,null,null,null,null,null,null,null,null,null,null,null,null,null,null,null,null,null,null,"","",""]
[null,null,null,null,null,null,null,null,null,null,null,null,null,null,null,null,null,null,null,null,null,null,null,null,null,null,null,null,null,null,null,null,null,null,null,null,null,null,null,null,null,null,null,null,null,null,null,null,null,null,null,null,null,null,null,null,null,null,"","",""]
[null,null,null,null,null,null,null,null,null,null,null,null,null,null,null,null,null,null,null,null,null,null,null,null,null,null,null,null,null,null,null,null,null,null,null,null,null,null,null,null,null,null,null,null,null,null,null,null,null,null,null,null,null,null,null,null,null,null,"","",""]
[null,null,null,null,null,null,null,null,null,null,null,null,null,null,null,null,null,null,null,null,null,null,null,null,null,null,null,null,null,null,null,null,null,null,null,null,null,null,null,null,null,null,null,null,null,null,null,null,null,null,null,null,null,null,null,null,null,null,"","",""]
[null,null,null,null,null,null,null,null,null,null,null,null,null,null,null,null,null,null,null,null,null,null,null,null,null,null,null,null,null,null,null,null,null,null,null,null,null,null,null,null,null,null,null,null,null,null,null,null,null,null,null,null,null,null,null,null,null,null,"","",""]
[null,null,null,null,null,null,null,null,null,null,null,null,null,null,null,null,null,null,null,null,null,null,null,null,null,null,null,null,null,null,null,null,null,null,null,null,null,null,null,null,null,null,null,null,null,null,null,null,null,null,null,null,null,null,null,null,null,null,"","",""]
[null,null,null,null,null,null,null,null,null,null,null,null,null,null,null,null,null,null,null,null,null,null,null,null,null,null,null,null,null,null,null,null,null,null,null,null,null,null,null,null,null,null,null,null,null,null,null,null,null,null,null,null,null,null,null,null,null,null,"","",""]
[null,null,null,null,null,null,null,null,null,null,null,null,null,null,null,null,null,null,null,null,null,null,null,null,null,null,null,null,null,null,null,null,null,null,null,null,null,null,null,null,null,null,null,null,null,null,null,null,null,null,null,null,null,null,null,null,null,null,"","",""]
[null,null,null,null,null,null,null,null,null,null,null,null,null,null,null,null,null,null,null,null,null,null,null,null,null,null,null,null,null,null,null,null,null,null,null,null,null,null,null,null,null,null,null,null,null,null,null,null,null,null,null,null,null,null,null,null,null,null,"","",""]
[null,null,null,null,null,null,null,null,null,null,null,null,null,null,null,null,null,null,null,null,null,null,null,null,null,null,null,null,null,null,null,null,null,null,null,null,null,null,null,null,null,null,null,null,null,null,null,null,null,null,null,null,null,null,null,null,null,null,"","",""]
[null,null,null,null,null,null,null,null,null,null,null,null,null,null,null,null,null,null,null,null,null,null,null,null,null,null,null,null,null,null,null,null,null,null,null,null,null,null,null,null,null,null,null,null,null,null,null,null,null,null,null,null,null,null,null,null,null,null,"","",""]
[null,null,null,null,null,null,null,null,null,null,null,null,null,null,null,null,null,null,null,null,null,null,null,null,null,null,null,null,null,null,null,null,null,null,null,null,null,null,null,null,null,null,null,null,null,null,null,null,null,null,null,null,null,null,null,null,null,null,"","",""]
[null,null,null,null,null,null,null,null,null,null,null,null,null,null,null,null,null,null,null,null,null,null,null,null,null,null,null,null,null,null,null,null,null,null,null,null,null,null,null,null,null,null,null,null,null,null,null,null,null,null,null,null,null,null,null,null,null,null,"","",""]
[null,null,null,null,null,null,null,null,null,null,null,null,null,null,null,null,null,null,null,null,null,null,null,null,null,null,null,null,null,null,null,null,null,null,null,null,null,null,null,null,null,null,null,null,null,null,null,null,null,null,null,null,null,null,null,null,null,null,"","",""]
[null,null,null,null,null,null,null,null,null,null,null,null,null,null,null,null,null,null,null,null,null,null,null,null,null,null,null,null,null,null,null,null,null,null,null,null,null,null,null,null,null,null,null,null,null,null,null,null,null,null,null,null,null,null,null,null,null,null,"","",""]
[null,null,null,null,null,null,null,null,null,null,null,null,null,null,null,null,null,null,null,null,null,null,null,null,null,null,null,null,null,null,null,null,null,null,null,null,null,null,null,null,null,null,null,null,null,null,null,null,null,null,null,null,null,null,null,null,null,null,"","",""]
[null,null,null,null,null,null,null,null,null,null,null,null,null,null,null,null,null,null,null,null,null,null,null,null,null,null,null,null,null,null,null,null,null,null,null,null,null,null,null,null,null,null,null,null,null,null,null,null,null,null,null,null,null,null,null,null,null,null,"","",""]
[null,null,null,null,null,null,null,null,null,null,null,null,null,null,null,null,null,null,null,null,null,null,null,null,null,null,null,null,null,null,null,null,null,null,null,null,null,null,null,null,null,null,null,null,null,null,null,null,null,null,null,null,null,null,null,null,null,null,"","",""]
[null,null,null,null,null,null,null,null,null,null,null,null,null,null,null,null,null,null,null,null,null,null,null,null,null,null,null,null,null,null,null,null,null,null,null,null,null,null,null,null,null,null,null,null,null,null,null,null,null,null,null,null,null,null,null,null,null,null,"","",""]
[null,null,null,null,null,null,null,null,null,null,null,null,null,null,null,null,null,null,null,null,null,null,null,null,null,null,null,null,null,null,null,null,null,null,null,null,null,null,null,null,null,null,null,null,null,null,null,null,null,null,null,null,null,null,null,null,null,null,"","",""]
[null,null,null,null,null,null,null,null,null,null,null,null,null,null,null,null,null,null,null,null,null,null,null,null,null,null,null,null,null,null,null,null,null,null,null,null,null,null,null,null,null,null,null,null,null,null,null,null,null,null,null,null,null,null,null,null,null,null,"","",""]
[null,null,null,null,null,null,null,null,null,null,null,null,null,null,null,null,null,null,null,null,null,null,null,null,null,null,null,null,null,null,null,null,null,null,null,null,null,null,null,null,null,null,null,null,null,null,null,null,null,null,null,null,null,null,null,null,null,null,"","",""]
[null,null,null,null,null,null,null,null,null,null,null,null,null,null,null,null,null,null,null,null,null,null,null,null,null,null,null,null,null,null,null,null,null,null,null,null,null,null,null,null,null,null,null,null,null,null,null,null,null,null,null,null,null,null,null,null,null,null,"","",""]
[null,null,null,null,null,null,null,null,null,null,null,null,null,null,null,null,null,null,null,null,null,null,null,null,null,null,null,null,null,null,null,null,null,null,null,null,null,null,null,null,null,null,null,null,null,null,null,null,null,null,null,null,null,null,null,null,null,null,"","",""]
[null,null,null,null,null,null,null,null,null,null,null,null,null,null,null,null,null,null,null,null,null,null,null,null,null,null,null,null,null,null,null,null,null,null,null,null,null,null,null,null,null,null,null,null,null,null,null,null,null,null,null,null,null,null,null,null,null,null,"","",""]
[null,null,null,null,null,null,null,null,null,null,null,null,null,null,null,null,null,null,null,null,null,null,null,null,null,null,null,null,null,null,null,null,null,null,null,null,null,null,null,null,null,null,null,null,null,null,null,null,null,null,null,null,null,null,null,null,null,null,"","",""]
[null,null,null,null,null,null,null,null,null,null,null,null,null,null,null,null,null,null,null,null,null,null,null,null,null,null,null,null,null,null,null,null,null,null,null,null,null,null,null,null,null,null,null,null,null,null,null,null,null,null,null,null,null,null,null,null,null,null,"","",""]
[null,null,null,null,null,null,null,null,null,null,null,null,null,null,null,null,null,null,null,null,null,null,null,null,null,null,null,null,null,null,null,null,null,null,null,null,null,null,null,null,null,null,null,null,null,null,null,null,null,null,null,null,null,null,null,null,null,null,"","",""]
[null,null,null,null,null,null,null,null,null,null,null,null,null,null,null,null,null,null,null,null,null,null,null,null,null,null,null,null,null,null,null,null,null,null,null,null,null,null,null,null,null,null,null,null,null,null,null,null,null,null,null,null,null,null,null,null,null,null,{"$f":"H384&L384&M384","v":""},{"$f":"H384&L384&M384&P384&Q384&R384","v":""},""]
[null,null,null,null,null,null,null,null,null,null,null,null,null,null,null,null,null,null,null,null,null,null,null,null,null,null,null,null,null,null,null,null,null,null,null,null,null,null,null,null,null,null,null,null,null,null,null,null,null,null,null,null,null,null,null,null,null,null,"","",""]
[null,null,null,null,null,null,null,null,null,null,null,null,null,null,null,null,null,null,null,null,null,null,null,null,null,null,null,null,null,null,null,null,null,null,null,null,null,null,null,null,null,null,null,null,null,null,null,null,null,null,null,null,null,null,null,null,null,null,"","",""]
[null,null,null,null,null,null,null,null,null,null,null,null,null,null,null,null,null,null,null,null,null,null,null,null,null,null,null,null,null,null,null,null,null,null,null,null,null,null,null,null,null,null,null,null,null,null,null,null,null,null,null,null,null,null,null,null,null,null,"","",""]
[null,null,null,null,null,null,null,null,null,null,null,null,null,null,null,null,null,null,null,null,null,null,null,null,null,null,null,null,null,null,null,null,null,null,null,null,null,null,null,null,null,null,null,null,null,null,null,null,null,null,null,null,null,null,null,null,null,null,"","",""]
[null,null,null,null,null,null,null,null,null,null,null,null,null,null,null,null,null,null,null,null,null,null,null,null,null,null,null,null,null,null,null,null,null,null,null,null,null,null,null,null,null,null,null,null,null,null,null,null,null,null,null,null,null,null,null,null,null,null,"","",""]
[null,null,null,null,null,null,null,null,null,null,null,null,null,null,null,null,null,null,null,null,null,null,null,null,null,null,null,null,null,null,null,null,null,null,null,null,null,null,null,null,null,null,null,null,null,null,null,null,null,null,null,null,null,null,null,null,null,null,"","",""]
[null,null,null,null,null,null,null,null,null,null,null,null,null,null,null,null,null,null,null,null,null,null,null,null,null,null,null,null,null,null,null,null,null,null,null,null,null,null,null,null,null,null,null,null,null,null,null,null,null,null,null,null,null,null,null,null,null,null,"","",{"$f":"H391&N391&O391&P391&Q391&R391","v":""}]
[null,null,null,null,null,null,null,null,null,null,null,null,null,null,null,null,null,null,null,null,null,null,null,null,null,null,null,null,null,null,null,null,null,null,null,null,null,null,null,null,null,null,null,null,null,null,null,null,null,null,null,null,null,null,null,null,null,null,"","",""]
[null,null,null,null,null,null,null,null,null,null,null,null,null,null,null,null,null,null,null,null,null,null,null,null,null,null,null,null,null,null,null,null,null,null,null,null,null,null,null,null,null,null,null,null,null,null,null,null,null,null,null,null,null,null,null,null,null,null,"","",""]
[null,null,null,null,null,null,null,null,null,null,null,null,null,null,null,null,null,null,null,null,null,null,null,null,null,null,null,null,null,null,null,null,null,null,null,null,null,null,null,null,null,null,null,null,null,null,null,null,null,null,null,null,null,null,null,null,null,null,"","",""]
[null,null,null,null,null,null,null,null,null,null,null,null,null,null,null,null,null,null,null,null,null,null,null,null,null,null,null,null,null,null,null,null,null,null,null,null,null,null,null,null,null,null,null,null,null,null,null,null,null,null,null,null,null,null,null,null,null,null,"","",""]
[null,null,null,null,null,null,null,null,null,null,null,null,null,null,null,null,null,null,null,null,null,null,null,null,null,null,null,null,null,null,null,null,null,null,null,null,null,null,null,null,null,null,null,null,null,null,null,null,null,null,null,null,null,null,null,null,null,null,"","",""]
[null,null,null,null,null,null,null,null,null,null,null,null,null,null,null,null,null,null,null,null,null,null,null,null,null,null,null,null,null,null,null,null,null,null,null,null,null,null,null,null,null,null,null,null,null,null,null,null,null,null,null,null,null,null,null,null,null,null,"","",""]
[null,null,null,null,null,null,null,null,null,null,null,null,null,null,null,null,null,null,null,null,null,null,null,null,null,null,null,null,null,null,null,null,null,null,null,null,null,null,null,null,null,null,null,null,null,null,null,null,null,null,null,null,null,null,null,null,null,null,"","",""]
[null,null,null,null,null,null,null,null,null,null,null,null,null,null,null,null,null,null,null,null,null,null,null,null,null,null,null,null,null,null,null,null,null,null,null,null,null,null,null,null,null,null,null,null,null,null,null,null,null,null,null,null,null,null,null,null,null,null,"","",""]
[null,null,null,null,null,null,null,null,null,null,null,null,null,null,null,null,null,null,null,null,null,null,null,null,null,null,null,null,null,null,null,null,null,null,null,null,null,null,null,null,null,null,null,null,null,null,null,null,null,null,null,null,null,null,null,null,null,null,"","",""]
[null,null,null,null,null,null,null,null,null,null,null,null,null,null,null,null,null,null,null,null,null,null,null,null,null,null,null,null,null,null,null,null,null,null,null,null,null,null,null,null,null,null,null,null,null,null,null,null,null,null,null,null,null,null,null,null,null,null,"","",""]
[null,null,null,null,null,null,null,null,null,null,null,null,null,null,null,null,null,null,null,null,null,null,null,null,null,null,null,null,null,null,null,null,null,null,null,null,null,null,null,null,null,null,null,null,null,null,null,null,null,null,null,null,null,null,null,null,null,null,"","",""]
[null,null,null,null,null,null,null,null,null,null,null,null,null,null,null,null,null,null,null,null,null,null,null,null,null,null,null,null,null,null,null,null,null,null,null,null,null,null,null,null,null,null,null,null,null,null,null,null,null,null,null,null,null,null,null,null,null,null,"","",""]
[null,null,null,null,null,null,null,null,null,null,null,null,null,null,null,null,null,null,null,null,null,null,null,null,null,null,null,null,null,null,null,null,null,null,null,null,null,null,null,null,null,null,null,null,null,null,null,null,null,null,null,null,null,null,null,null,null,null,"","",""]
[null,null,null,null,null,null,null,null,null,null,null,null,null,null,null,null,null,null,null,null,null,null,null,null,null,null,null,null,null,null,null,null,null,null,null,null,null,null,null,null,null,null,null,null,null,null,null,null,null,null,null,null,null,null,null,null,null,null,"","",""]
[null,null,null,null,null,null,null,null,null,null,null,null,null,null,null,null,null,null,null,null,null,null,null,null,null,null,null,null,null,null,null,null,null,null,null,null,null,null,null,null,null,null,null,null,null,null,null,null,null,null,null,null,null,null,null,null,null,null,"","",""]
[null,null,null,null,null,null,null,null,null,null,null,null,null,null,null,null,null,null,null,null,null,null,null,null,null,null,null,null,null,null,null,null,null,null,null,null,null,null,null,null,null,null,null,null,null,null,null,null,null,null,null,null,null,null,null,null,null,null,"","",""]
[null,null,null,null,null,null,null,null,null,null,null,null,null,null,null,null,null,null,null,null,null,null,null,null,null,null,null,null,null,null,null,null,null,null,null,null,null,null,null,null,null,null,null,null,null,null,null,null,null,null,null,null,null,null,null,null,null,null,"","",""]
[null,null,null,null,null,null,null,null,null,null,null,null,null,null,null,null,null,null,null,null,null,null,null,null,null,null,null,null,null,null,null,null,null,null,null,null,null,null,null,null,null,null,null,null,null,null,null,null,null,null,null,null,null,null,null,null,null,null,"","",""]
[null,null,null,null,null,null,null,null,null,null,null,null,null,null,null,null,null,null,null,null,null,null,null,null,null,null,null,null,null,null,null,null,null,null,null,null,null,null,null,null,null,null,null,null,null,null,null,null,null,null,null,null,null,null,null,null,null,null,"","",""]
[null,null,null,null,null,null,null,null,null,null,null,null,null,null,null,null,null,null,null,null,null,null,null,null,null,null,null,null,null,null,null,null,null,null,null,null,null,null,null,null,null,null,null,null,null,null,null,null,null,null,null,null,null,null,null,null,null,null,"","",""]
[null,null,null,null,null,null,null,null,null,null,null,null,null,null,null,null,null,null,null,null,null,null,null,null,null,null,null,null,null,null,null,null,null,null,null,null,null,null,null,null,null,null,null,null,null,null,null,null,null,null,null,null,null,null,null,null,null,null,"","",""]
[null,null,null,null,null,null,null,null,null,null,null,null,null,null,null,null,null,null,null,null,null,null,null,null,null,null,null,null,null,null,null,null,null,null,null,null,null,null,null,null,null,null,null,null,null,null,null,null,null,null,null,null,null,null,null,null,null,null,"","",""]
[null,null,null,null,null,null,null,null,null,null,null,null,null,null,null,null,null,null,null,null,null,null,null,null,null,null,null,null,null,null,null,null,null,null,null,null,null,null,null,null,null,null,null,null,null,null,null,null,null,null,null,null,null,null,null,null,null,null,"","",""]
[null,null,null,null,null,null,null,null,null,null,null,null,null,null,null,null,null,null,null,null,null,null,null,null,null,null,null,null,null,null,null,null,null,null,null,null,null,null,null,null,null,null,null,null,null,null,null,null,null,null,null,null,null,null,null,null,null,null,"","",""]
[null,null,null,null,null,null,null,null,null,null,null,null,null,null,null,null,null,null,null,null,null,null,null,null,null,null,null,null,null,null,null,null,null,null,null,null,null,null,null,null,null,null,null,null,null,null,null,null,null,null,null,null,null,null,null,null,null,null,"","",""]
[null,null,null,null,null,null,null,null,null,null,null,null,null,null,null,null,null,null,null,null,null,null,null,null,null,null,null,null,null,null,null,null,null,null,null,null,null,null,null,null,null,null,null,null,null,null,null,null,null,null,null,null,null,null,null,null,null,null,"","",""]
[null,null,null,null,null,null,null,null,null,null,null,null,null,null,null,null,null,null,null,null,null,null,null,null,null,null,null,null,null,null,null,null,null,null,null,null,null,null,null,null,null,null,null,null,null,null,null,null,null,null,null,null,null,null,null,null,null,null,"","",""]
[null,null,null,null,null,null,null,null,null,null,null,null,null,null,null,null,null,null,null,null,null,null,null,null,null,null,null,null,null,null,null,null,null,null,null,null,null,null,null,null,null,null,null,null,null,null,null,null,null,null,null,null,null,null,null,null,null,null,"","",""]
[null,null,null,null,null,null,null,null,null,null,null,null,null,null,null,null,null,null,null,null,null,null,null,null,null,null,null,null,null,null,null,null,null,null,null,null,null,null,null,null,null,null,null,null,null,null,null,null,null,null,null,null,null,null,null,null,null,null,"","",""]
[null,null,null,null,null,null,null,null,null,null,null,null,null,null,null,null,null,null,null,null,null,null,null,null,null,null,null,null,null,null,null,null,null,null,null,null,null,null,null,null,null,null,null,null,null,null,null,null,null,null,null,null,null,null,null,null,null,null,"","",""]
[null,null,null,null,null,null,null,null,null,null,null,null,null,null,null,null,null,null,null,null,null,null,null,null,null,null,null,null,null,null,null,null,null,null,null,null,null,null,null,null,null,null,null,null,null,null,null,null,null,null,null,null,null,null,null,null,null,null,"","",""]
[null,null,null,null,null,null,null,null,null,null,null,null,null,null,null,null,null,null,null,null,null,null,null,null,null,null,null,null,null,null,null,null,null,null,null,null,null,null,null,null,null,null,null,null,null,null,null,null,null,null,null,null,null,null,null,null,null,null,"","",""]
[null,null,null,null,null,null,null,null,null,null,null,null,null,null,null,null,null,null,null,null,null,null,null,null,null,null,null,null,null,null,null,null,null,null,null,null,null,null,null,null,null,null,null,null,null,null,null,null,null,null,null,null,null,null,null,null,null,null,"","",""]
[null,null,null,null,null,null,null,null,null,null,null,null,null,null,null,null,null,null,null,null,null,null,null,null,null,null,null,null,null,null,null,null,null,null,null,null,null,null,null,null,null,null,null,null,null,null,null,null,null,null,null,null,null,null,null,null,null,null,"","",""]
[null,null,null,null,null,null,null,null,null,null,null,null,null,null,null,null,null,null,null,null,null,null,null,null,null,null,null,null,null,null,null,null,null,null,null,null,null,null,null,null,null,null,null,null,null,null,null,null,null,null,null,null,null,null,null,null,null,null,"","",""]
[null,null,null,null,null,null,null,null,null,null,null,null,null,null,null,null,null,null,null,null,null,null,null,null,null,null,null,null,null,null,null,null,null,null,null,null,null,null,null,null,null,null,null,null,null,null,null,null,null,null,null,null,null,null,null,null,null,null,"","",""]
[null,null,null,null,null,null,null,null,null,null,null,null,null,null,null,null,null,null,null,null,null,null,null,null,null,null,null,null,null,null,null,null,null,null,null,null,null,null,null,null,null,null,null,null,null,null,null,null,null,null,null,null,null,null,null,null,null,null,"","",""]
[null,null,null,null,null,null,null,null,null,null,null,null,null,null,null,null,null,null,null,null,null,null,null,null,null,null,null,null,null,null,null,null,null,null,null,null,null,null,null,null,null,null,null,null,null,null,null,null,null,null,null,null,null,null,null,null,null,null,"","",""]
[null,null,null,null,null,null,null,null,null,null,null,null,null,null,null,null,null,null,null,null,null,null,null,null,null,null,null,null,null,null,null,null,null,null,null,null,null,null,null,null,null,null,null,null,null,null,null,null,null,null,null,null,null,null,null,null,null,null,"","",""]
[null,null,null,null,null,null,null,null,null,null,null,null,null,null,null,null,null,null,null,null,null,null,null,null,null,null,null,null,null,null,null,null,null,null,null,null,null,null,null,null,null,null,null,null,null,null,null,null,null,null,null,null,null,null,null,null,null,null,"","",""]
[null,null,null,null,null,null,null,null,null,null,null,null,null,null,null,null,null,null,null,null,null,null,null,null,null,null,null,null,null,null,null,null,null,null,null,null,null,null,null,null,null,null,null,null,null,null,null,null,null,null,null,null,null,null,null,null,null,null,"","",""]
[null,null,null,null,null,null,null,null,null,null,null,null,null,null,null,null,null,null,null,null,null,null,null,null,null,null,null,null,null,null,null,null,null,null,null,null,null,null,null,null,null,null,null,null,null,null,null,null,null,null,null,null,null,null,null,null,null,null,"","",""]
[null,null,null,null,null,null,null,null,null,null,null,null,null,null,null,null,null,null,null,null,null,null,null,null,null,null,null,null,null,null,null,null,null,null,null,null,null,null,null,null,null,null,null,null,null,null,null,null,null,null,null,null,null,null,null,null,null,null,"","",""]
[null,null,null,null,null,null,null,null,null,null,null,null,null,null,null,null,null,null,null,null,null,null,null,null,null,null,null,null,null,null,null,null,null,null,null,null,null,null,null,null,null,null,null,null,null,null,null,null,null,null,null,null,null,null,null,null,null,null,"","",""]
[null,null,null,null,null,null,null,null,null,null,null,null,null,null,null,null,null,null,null,null,null,null,null,null,null,null,null,null,null,null,null,null,null,null,null,null,null,null,null,null,null,null,null,null,null,null,null,null,null,null,null,null,null,null,null,null,null,null,"","",""]
[null,null,null,null,null,null,null,null,null,null,null,null,null,null,null,null,null,null,null,null,null,null,null,null,null,null,null,null,null,null,null,null,null,null,null,null,null,null,null,null,null,null,null,null,null,null,null,null,null,null,null,null,null,null,null,null,null,null,"","",""]
[null,null,null,null,null,null,null,null,null,null,null,null,null,null,null,null,null,null,null,null,null,null,null,null,null,null,null,null,null,null,null,null,null,null,null,null,null,null,null,null,null,null,null,null,null,null,null,null,null,null,null,null,null,null,null,null,null,null,"","",""]
[null,null,null,null,null,null,null,null,null,null,null,null,null,null,null,null,null,null,null,null,null,null,null,null,null,null,null,null,null,null,null,null,null,null,null,null,null,null,null,null,null,null,null,null,null,null,null,null,null,null,null,null,null,null,null,null,null,null,"","",""]
[null,null,null,null,null,null,null,null,null,null,null,null,null,null,null,null,null,null,null,null,null,null,null,null,null,null,null,null,null,null,null,null,null,null,null,null,null,null,null,null,null,null,null,null,null,null,null,null,null,null,null,null,null,null,null,null,null,null,"","",""]
[null,null,null,null,null,null,null,null,null,null,null,null,null,null,null,null,null,null,null,null,null,null,null,null,null,null,null,null,null,null,null,null,null,null,null,null,null,null,null,null,null,null,null,null,null,null,null,null,null,null,null,null,null,null,null,null,null,null,"","",""]
[null,null,null,null,null,null,null,null,null,null,null,null,null,null,null,null,null,null,null,null,null,null,null,null,null,null,null,null,null,null,null,null,null,null,null,null,null,null,null,null,null,null,null,null,null,null,null,null,null,null,null,null,null,null,null,null,null,null,"","",""]
[null,null,null,null,null,null,null,null,null,null,null,null,null,null,null,null,null,null,null,null,null,null,null,null,null,null,null,null,null,null,null,null,null,null,null,null,null,null,null,null,null,null,null,null,null,null,null,null,null,null,null,null,null,null,null,null,null,null,"","",""]
[null,null,null,null,null,null,null,null,null,null,null,null,null,null,null,null,null,null,null,null,null,null,null,null,null,null,null,null,null,null,null,null,null,null,null,null,null,null,null,null,null,null,null,null,null,null,null,null,null,null,null,null,null,null,null,null,null,null,"","",""]
[null,null,null,null,null,null,null,null,null,null,null,null,null,null,null,null,null,null,null,null,null,null,null,null,null,null,null,null,null,null,null,null,null,null,null,null,null,null,null,null,null,null,null,null,null,null,null,null,null,null,null,null,null,null,null,null,null,null,"","",""]
[null,null,null,null,null,null,null,null,null,null,null,null,null,null,null,null,null,null,null,null,null,null,null,null,null,null,null,null,null,null,null,null,null,null,null,null,null,null,null,null,null,null,null,null,null,null,null,null,null,null,null,null,null,null,null,null,null,null,"","",""]
[null,null,null,null,null,null,null,null,null,null,null,null,null,null,null,null,null,null,null,null,null,null,null,null,null,null,null,null,null,null,null,null,null,null,null,null,null,null,null,null,null,null,null,null,null,null,null,null,null,null,null,null,null,null,null,null,null,null,"","",""]
[null,null,null,null,null,null,null,null,null,null,null,null,null,null,null,null,null,null,null,null,null,null,null,null,null,null,null,null,null,null,null,null,null,null,null,null,null,null,null,null,null,null,null,null,null,null,null,null,null,null,null,null,null,null,null,null,null,null,{"$f":"H448&L448&M448","v":""},{"$f":"H448&L448&M448&P448&Q448&R448","v":""},""]
[null,null,null,null,null,null,null,null,null,null,null,null,null,null,null,null,null,null,null,null,null,null,null,null,null,null,null,null,null,null,null,null,null,null,null,null,null,null,null,null,null,null,null,null,null,null,null,null,null,null,null,null,null,null,null,null,null,null,"","",""]
[null,null,null,null,null,null,null,null,null,null,null,null,null,null,null,null,null,null,null,null,null,null,null,null,null,null,null,null,null,null,null,null,null,null,null,null,null,null,null,null,null,null,null,null,null,null,null,null,null,null,null,null,null,null,null,null,null,null,"","",""]
[null,null,null,null,null,null,null,null,null,null,null,null,null,null,null,null,null,null,null,null,null,null,null,null,null,null,null,null,null,null,null,null,null,null,null,null,null,null,null,null,null,null,null,null,null,null,null,null,null,null,null,null,null,null,null,null,null,null,"","",""]
[null,null,null,null,null,null,null,null,null,null,null,null,null,null,null,null,null,null,null,null,null,null,null,null,null,null,null,null,null,null,null,null,null,null,null,null,null,null,null,null,null,null,null,null,null,null,null,null,null,null,null,null,null,null,null,null,null,null,"","",""]
[null,null,null,null,null,null,null,null,null,null,null,null,null,null,null,null,null,null,null,null,null,null,null,null,null,null,null,null,null,null,null,null,null,null,null,null,null,null,null,null,null,null,null,null,null,null,null,null,null,null,null,null,null,null,null,null,null,null,"","",""]
[null,null,null,null,null,null,null,null,null,null,null,null,null,null,null,null,null,null,null,null,null,null,null,null,null,null,null,null,null,null,null,null,null,null,null,null,null,null,null,null,null,null,null,null,null,null,null,null,null,null,null,null,null,null,null,null,null,null,"","",""]
[null,null,null,null,null,null,null,null,null,null,null,null,null,null,null,null,null,null,null,null,null,null,null,null,null,null,null,null,null,null,null,null,null,null,null,null,null,null,null,null,null,null,null,null,null,null,null,null,null,null,null,null,null,null,null,null,null,null,"","",{"$f":"H455&N455&O455&P455&Q455&R455","v":""}]
[null,null,null,null,null,null,null,null,null,null,null,null,null,null,null,null,null,null,null,null,null,null,null,null,null,null,null,null,null,null,null,null,null,null,null,null,null,null,null,null,null,null,null,null,null,null,null,null,null,null,null,null,null,null,null,null,null,null,null,null,""]
[null,null,null,null,null,null,null,null,null,null,null,null,null,null,null,null,null,null,null,null,null,null,null,null,null,null,null,null,null,null,null,null,null,null,null,null,null,null,null,null,null,null,null,null,null,null,null,null,null,null,null,null,null,null,null,null,null,null,null,null,""]

{"sheet":"Liste","index":2,"n_rows":61,"n_cols":7,"rows_kept":61,"cut":false,"hidden":false,"merged":[]}
["Liste des bancs",null,"Service maintenance","MDP","Fiche d'intervention","BDD","Liste"]
["Banc P1",null,"Christophe Gauvin","Christophe","X","X","X"]
["Banc P2",null,"David Garcia","motdepasse","X","X"]
["Banc PowerTrain",null,"Alexandre Delaunay",123456,"X","X"]
["Banc P5",null,"Jonhathan Boucher","changer","X","X"]
["Banc P7",null,"Thibault Hemart","Changer2016","X","X"]
["Banc P9",null,"Romain Dehan",940606,"X","X","X"]
["M73001 (Banc new P9)",null,"Benjamin Eyraud",null,"X","X"]
["Banc HP",null,"Angela Andrino",null,"X","X"]
["Banc Cisaillement",null,"Philippe Tavola",null,"X","X"]
["Banc 007",null,"Visiteur"]
["Banc 008"]
["Banc 101"]
["Banc 104"]
["Banc 111"]
["Banc 113"]
["Banc 115"]
["Banc 117"]
["Banc 117 bis"]
["Banc 119"]
["Banc 120"]
["Banc 120 bis"]
["Banc 121"]
["Banc 123"]
["Banc 124"]
["Banc 124 bis"]
["Banc 125"]
["Banc 126"]
["Banc 128"]
["Banc 129"]
["Banc 131"]
["Chambre sourde"]
["Banc 145"]
["Banc 156"]
["Chambre froide"]
["Banc W+B"]
["Ressort verticale"]
["Pompe à eau"]
["Porte bâtiment"]
["Mulet Alpha"]
["Mulet Househam"]
["Démo Truck"]
["Tech Truck"]
["Hamm HD130"]
["Volvo EC160"]
["Chariot C"]
["SSL John Deere"]
["Multi Phunction"]
["Volvo EC35"]
["Brodd SurPH"]
["TY45"]
["Boxer New"]
["CSF"]
["CNH BC2"]
[208]
["Renault Truck C460"]
["Plateau Lider"]
["Chariot BT2"]
["Machine à laver"]
["Réseau d'eau atelier"]
["Pont roulant"]

{"sheet":"Indicateur Zone5","index":3,"n_rows":135,"n_cols":73,"rows_kept":135,"cut":false,"hidden":false,"merged":[[1,1,1,12],[31,1,31,12],[55,1,55,12],[56,1,56,2],[56,3,56,4],[56,5,56,6],[56,7,56,8],[56,9,56,10],[56,11,56,12],[56,23,56,24],[87,1,87,21],[88,1,88,6],[88,7,88,12],[88,13,88,18],[88,19,88,24],[56,13,56,14],[56,15,56,16],[56,17,56,18],[56,19,56,20],[56,21,56,22],[88,25,88,30],[88,31,88,36],[88,37,88,42],[88,43,88,48],[88,49,88,54],[88,55,88,60],[88,61,88,66],[88,67,88,72],[89,1,89,3],[89,4,89,6],[89,7,89,9],[89,10,89,12],[89,13,89,15],[89,16,89,18],[89,19,89,21],[89,22,89,24],[89,25,89,27],[89,28,89,30],[89,31,89,33],[89,34,89,36],[89,37,89,39],[89,40,89,42],[89,43,89,45],[89,46,89,48],[89,49,89,51],[89,52,89,54],[89,70,89,72],[89,55,89,57],[89,58,89,60],[89,61,89,63],[89,64,89,66],[89,67,89,69],[124,1,124,21],[125,1,125,6],[125,7,125,12],[125,13,125,18],[125,19,125,24],[125,25,125,30],[125,31,125,36],[125,37,125,42],[125,43,125,48],[125,49,125,54],[125,55,125,60],[125,61,125,66],[125,67,125,72],[126,1,126,3],[126,4,126,6],[126,7,126,9],[126,10,126,12],[126,13,126,15],[126,16,126,18],[126,19,126,21],[126,22,126,24],[126,25,126,27],[126,28,126,30],[126,31,126,33],[126,34,126,36],[126,37,126,39],[126,40,126,42],[126,43,126,45],[126,46,126,48],[126,49,126,51],[126,52,126,54],[126,70,126,72],[126,55,126,57],[126,58,126,60],[126,61,126,63],[126,64,126,66],[126,67,126,69]]}
[]
[null,"Suivi des arrêts par banc"]
["Banc zone 5","Janvier","Février","Mars","Avril","Mai","Juin","Juillet","Août","Septembre","Octobre","Novembre","Décembre"]
["Banc 124",{"$f":"SUMIF(BDD!$H$2:$H$3,'Indicateur Zone5'!$A4,BDD!$Z$2:$Z$3)","v":0},{"$f":"SUMIF(BDD!$H$2:$H$3,'Indicateur Zone5'!$A4,BDD!$Z$2:$Z$3)","v":0},{"$f":"SUMIF(BDD!$H$2:$H$25,'Indicateur Zone5'!$A4,BDD!$Z$2:$Z$25)","v":0.3},{"$f":"SUMIF(BDD!$H$25:$H$599,'Indicateur Zone5'!$A4,BDD!$Z$25:$Z$599)","v":0.4},{"$f":"SUMIF(BDD!$H$2:$H$3,'Indicateur Zone5'!$A4,BDD!$Z$2:$Z$3)","v":0},{"$f":"SUMIF(BDD!$H$2:$H$3,'Indicateur Zone5'!$A4,BDD!$Z$2:$Z$3)","v":0},{"$f":"SUMIF(BDD!$H$2:$H$3,'Indicateur Zone5'!$A4,BDD!$Z$2:$Z$3)","v":0},{"$f":"SUMIF(BDD!$H$2:$H$3,'Indicateur Zone5'!$A4,BDD!$Z$2:$Z$3)","v":0},{"$f":"SUMIF(BDD!$H$2:$H$3,'Indicateur Zone5'!$A4,BDD!$Z$2:$Z$3)","v":0},{"$f":"SUMIF(BDD!$H$2:$H$3,'Indicateur Zone5'!$A4,BDD!$Z$2:$Z$3)","v":0},{"$f":"SUMIF(BDD!$H$2:$H$3,'Indicateur Zone5'!$A4,BDD!$Z$2:$Z$3)","v":0},{"$f":"SUMIF(BDD!$H$2:$H$3,'Indicateur Zone5'!$A4,BDD!$Z$2:$Z$3)","v":0}]
["Banc 124 bis",{"$f":"SUMIF(BDD!$H$2:$H$3,'Indicateur Zone5'!$A5,BDD!$Z$2:$Z$3)","v":0},{"$f":"SUMIF(BDD!$H$2:$H$3,'Indicateur Zone5'!$A5,BDD!$Z$2:$Z$3)","v":0},{"$f":"SUMIF(BDD!$H$2:$H$25,'Indicateur Zone5'!$A5,BDD!$Z$2:$Z$25)","v":0},{"$f":"SUMIF(BDD!$H$25:$H$599,'Indicateur Zone5'!$A5,BDD!$Z$25:$Z$599)","v":1},{"$f":"SUMIF(BDD!$H$2:$H$3,'Indicateur Zone5'!$A5,BDD!$Z$2:$Z$3)","v":0},{"$f":"SUMIF(BDD!$H$2:$H$3,'Indicateur Zone5'!$A5,BDD!$Z$2:$Z$3)","v":0},{"$f":"SUMIF(BDD!$H$2:$H$3,'Indicateur Zone5'!$A5,BDD!$Z$2:$Z$3)","v":0},{"$f":"SUMIF(BDD!$H$2:$H$3,'Indicateur Zone5'!$A5,BDD!$Z$2:$Z$3)","v":0},{"$f":"SUMIF(BDD!$H$2:$H$3,'Indicateur Zone5'!$A5,BDD!$Z$2:$Z$3)","v":0},{"$f":"SUMIF(BDD!$H$2:$H$3,'Indicateur Zone5'!$A5,BDD!$Z$2:$Z$3)","v":0},{"$f":"SUMIF(BDD!$H$2:$H$3,'Indicateur Zone5'!$A5,BDD!$Z$2:$Z$3)","v":0},{"$f":"SUMIF(BDD!$H$2:$H$3,'Indicateur Zone5'!$A5,BDD!$Z$2:$Z$3)","v":0}]
["Banc 145",{"$f":"SUMIF(BDD!$H$2:$H$3,'Indicateur Zone5'!$A6,BDD!$Z$2:$Z$3)","v":0},{"$f":"SUMIF(BDD!$H$2:$H$3,'Indicateur Zone5'!$A6,BDD!$Z$2:$Z$3)","v":0},{"$f":"SUMIF(BDD!$H$2:$H$25,'Indicateur Zone5'!$A6,BDD!$Z$2:$Z$25)","v":0},{"$f":"SUMIF(BDD!$H$25:$H$599,'Indicateur Zone5'!$A6,BDD!$Z$25:$Z$599)","v":6.6},{"$f":"SUMIF(BDD!$H$2:$H$3,'Indicateur Zone5'!$A6,BDD!$Z$2:$Z$3)","v":0},{"$f":"SUMIF(BDD!$H$2:$H$3,'Indicateur Zone5'!$A6,BDD!$Z$2:$Z$3)","v":0},{"$f":"SUMIF(BDD!$H$2:$H$3,'Indicateur Zone5'!$A6,BDD!$Z$2:$Z$3)","v":0},{"$f":"SUMIF(BDD!$H$2:$H$3,'Indicateur Zone5'!$A6,BDD!$Z$2:$Z$3)","v":0},{"$f":"SUMIF(BDD!$H$2:$H$3,'Indicateur Zone5'!$A6,BDD!$Z$2:$Z$3)","v":0},{"$f":"SUMIF(BDD!$H$2:$H$3,'Indicateur Zone5'!$A6,BDD!$Z$2:$Z$3)","v":0},{"$f":"SUMIF(BDD!$H$2:$H$3,'Indicateur Zone5'!$A6,BDD!$Z$2:$Z$3)","v":0},{"$f":"SUMIF(BDD!$H$2:$H$3,'Indicateur Zone5'!$A6,BDD!$Z$2:$Z$3)","v":0}]
["Banc cisaillement",{"$f":"SUMIF(BDD!$H$2:$H$3,'Indicateur Zone5'!$A7,BDD!$Z$2:$Z$3)","v":0},{"$f":"SUMIF(BDD!$H$2:$H$3,'Indicateur Zone5'!$A7,BDD!$Z$2:$Z$3)","v":0},{"$f":"SUMIF(BDD!$H$2:$H$25,'Indicateur Zone5'!$A7,BDD!$Z$2:$Z$25)","v":0},{"$f":"SUMIF(BDD!$H$25:$H$599,'Indicateur Zone5'!$A7,BDD!$Z$25:$Z$599)","v":0},{"$f":"SUMIF(BDD!$H$2:$H$3,'Indicateur Zone5'!$A7,BDD!$Z$2:$Z$3)","v":0},{"$f":"SUMIF(BDD!$H$2:$H$3,'Indicateur Zone5'!$A7,BDD!$Z$2:$Z$3)","v":0},{"$f":"SUMIF(BDD!$H$2:$H$3,'Indicateur Zone5'!$A7,BDD!$Z$2:$Z$3)","v":0},{"$f":"SUMIF(BDD!$H$2:$H$3,'Indicateur Zone5'!$A7,BDD!$Z$2:$Z$3)","v":0},{"$f":"SUMIF(BDD!$H$2:$H$3,'Indicateur Zone5'!$A7,BDD!$Z$2:$Z$3)","v":0},{"$f":"SUMIF(BDD!$H$2:$H$3,'Indicateur Zone5'!$A7,BDD!$Z$2:$Z$3)","v":0},{"$f":"SUMIF(BDD!$H$2:$H$3,'Indicateur Zone5'!$A7,BDD!$Z$2:$Z$3)","v":0},{"$f":"SUMIF(BDD!$H$2:$H$3,'Indicateur Zone5'!$A7,BDD!$Z$2:$Z$3)","v":0}]
["Banc HP",{"$f":"SUMIF(BDD!$H$2:$H$3,'Indicateur Zone5'!$A8,BDD!$Z$2:$Z$3)","v":0},{"$f":"SUMIF(BDD!$H$2:$H$3,'Indicateur Zone5'!$A8,BDD!$Z$2:$Z$3)","v":0},{"$f":"SUMIF(BDD!$H$2:$H$25,'Indicateur Zone5'!$A8,BDD!$Z$2:$Z$25)","v":0},{"$f":"SUMIF(BDD!$H$25:$H$599,'Indicateur Zone5'!$A8,BDD!$Z$25:$Z$599)","v":1},{"$f":"SUMIF(BDD!$H$2:$H$3,'Indicateur Zone5'!$A8,BDD!$Z$2:$Z$3)","v":0},{"$f":"SUMIF(BDD!$H$2:$H$3,'Indicateur Zone5'!$A8,BDD!$Z$2:$Z$3)","v":0},{"$f":"SUMIF(BDD!$H$2:$H$3,'Indicateur Zone5'!$A8,BDD!$Z$2:$Z$3)","v":0},{"$f":"SUMIF(BDD!$H$2:$H$3,'Indicateur Zone5'!$A8,BDD!$Z$2:$Z$3)","v":0},{"$f":"SUMIF(BDD!$H$2:$H$3,'Indicateur Zone5'!$A8,BDD!$Z$2:$Z$3)","v":0},{"$f":"SUMIF(BDD!$H$2:$H$3,'Indicateur Zone5'!$A8,BDD!$Z$2:$Z$3)","v":0},{"$f":"SUMIF(BDD!$H$2:$H$3,'Indicateur Zone5'!$A8,BDD!$Z$2:$Z$3)","v":0},{"$f":"SUMIF(BDD!$H$2:$H$3,'Indicateur Zone5'!$A8,BDD!$Z$2:$Z$3)","v":0}]
["Banc W+B",{"$f":"SUMIF(BDD!$H$2:$H$3,'Indicateur Zone5'!$A9,BDD!$Z$2:$Z$3)","v":0},{"$f":"SUMIF(BDD!$H$2:$H$3,'Indicateur Zone5'!$A9,BDD!$Z$2:$Z$3)","v":0},{"$f":"SUMIF(BDD!$H$2:$H$25,'Indicateur Zone5'!$A9,BDD!$Z$2:$Z$25)","v":0},{"$f":"SUMIF(BDD!$H$25:$H$599,'Indicateur Zone5'!$A9,BDD!$Z$25:$Z$599)","v":0},{"$f":"SUMIF(BDD!$H$2:$H$3,'Indicateur Zone5'!$A9,BDD!$Z$2:$Z$3)","v":0},{"$f":"SUMIF(BDD!$H$2:$H$3,'Indicateur Zone5'!$A9,BDD!$Z$2:$Z$3)","v":0},{"$f":"SUMIF(BDD!$H$2:$H$3,'Indicateur Zone5'!$A9,BDD!$Z$2:$Z$3)","v":0},{"$f":"SUMIF(BDD!$H$2:$H$3,'Indicateur Zone5'!$A9,BDD!$Z$2:$Z$3)","v":0},{"$f":"SUMIF(BDD!$H$2:$H$3,'Indicateur Zone5'!$A9,BDD!$Z$2:$Z$3)","v":0},{"$f":"SUMIF(BDD!$H$2:$H$3,'Indicateur Zone5'!$A9,BDD!$Z$2:$Z$3)","v":0},{"$f":"SUMIF(BDD!$H$2:$H$3,'Indicateur Zone5'!$A9,BDD!$Z$2:$Z$3)","v":0},{"$f":"SUMIF(BDD!$H$2:$H$3,'Indicateur Zone5'!$A9,BDD!$Z$2:$Z$3)","v":0}]
["Ressort verticale",{"$f":"SUMIF(BDD!$H$2:$H$3,'Indicateur Zone5'!$A10,BDD!$Z$2:$Z$3)","v":0},{"$f":"SUMIF(BDD!$H$2:$H$3,'Indicateur Zone5'!$A10,BDD!$Z$2:$Z$3)","v":0},{"$f":"SUMIF(BDD!$H$2:$H$25,'Indicateur Zone5'!$A10,BDD!$Z$2:$Z$25)","v":0},{"$f":"SUMIF(BDD!$H$25:$H$599,'Indicateur Zone5'!$A10,BDD!$Z$25:$Z$599)","v":0},{"$f":"SUMIF(BDD!$H$2:$H$3,'Indicateur Zone5'!$A10,BDD!$Z$2:$Z$3)","v":0},{"$f":"SUMIF(BDD!$H$2:$H$3,'Indicateur Zone5'!$A10,BDD!$Z$2:$Z$3)","v":0},{"$f":"SUMIF(BDD!$H$2:$H$3,'Indicateur Zone5'!$A10,BDD!$Z$2:$Z$3)","v":0},{"$f":"SUMIF(BDD!$H$2:$H$3,'Indicateur Zone5'!$A10,BDD!$Z$2:$Z$3)","v":0},{"$f":"SUMIF(BDD!$H$2:$H$3,'Indicateur Zone5'!$A10,BDD!$Z$2:$Z$3)","v":0},{"$f":"SUMIF(BDD!$H$2:$H$3,'Indicateur Zone5'!$A10,BDD!$Z$2:$Z$3)","v":0},{"$f":"SUMIF(BDD!$H$2:$H$3,'Indicateur Zone5'!$A10,BDD!$Z$2:$Z$3)","v":0},{"$f":"SUMIF(BDD!$H$2:$H$3,'Indicateur Zone5'!$A10,BDD!$Z$2:$Z$3)","v":0}]
[]
[]
[]
[]
[]
[]
[]
[]
[]
[]
[]
[]
[]
[]
[]
[]
[]
[]
[]
[]
[]
[null,"Suivi du correctif et du préventif"]
["Type de maintenance","Janvier","Février","Mars","Avril","Mai","Juin","Juillet","Août","Septembre","Octobre","Novembre","Décembre"]
["Préventive",{"$f":"SUM(C59:C65)","v":0},{"$f":"SUM(E59:E65)","v":0},{"$f":"SUM(G59:G65)","v":0.3},{"$f":"SUM(I59:I65)","v":0.1},{"$f":"SUM(K59:K65)","v":0},{"$f":"SUM(M59:M65)","v":0},{"$f":"SUM(O59:O65)","v":0},{"$f":"SUM(Q59:Q65)","v":0},{"$f":"SUM(S59:S65)","v":0},{"$f":"SUM(U59:U65)","v":0},{"$f":"SUM(W59:W65)","v":0},{"$f":"SUM(Y59:Y65)","v":0}]
["Corrective",{"$f":"SUM(B59:B65)","v":0},{"$f":"SUM(D59:D65)","v":0},{"$f":"SUM(F59:F65)","v":0},{"$f":"SUM(H59:H65)","v":6.6},{"$f":"SUM(J59:J65)","v":0},{"$f":"SUM(L59:L65)","v":0},{"$f":"SUM(N59:N65)","v":0},{"$f":"SUM(N59:N65)","v":0},{"$f":"SUM(R59:R65)","v":0},{"$f":"SUM(T59:T65)","v":0},{"$f":"SUM(V59:V65)","v":0},{"$f":"SUM(X59:X65)","v":0}]
[]
[]
[]
[]
[]
[]
[]
[]
[]
[]
[]
[]
[]
[]
[]
[]
[]
[]
[]
[]
[null,"Suivi du correctif et du préventif par banc"]
[null,"Janvier",null,"Février",null,"Mars",null,"Avril",null,"Mai",null,"Juin",null,"Juillet",null,"Août",null,"Septembre",null,"Octobre",null,"Novembre",null,"Décembre"]
["Banc zone 5","Corrective","Préventive","Corrective","Préventive","Corrective","Préventive","Corrective","Préventive","Corrective","Préventive","Corrective","Préventive","Corrective","Préventive","Corrective","Préventive","Corrective","Préventive","Corrective","Préventive","Corrective","Préventive","Corrective","Préventive"]
["Banc 124",{"$f":"SUMIF(BDD!$BG$2:$BG$3,\"Banc 124VRAIFAUX\",BDD!$Z$2:$Z$3)","v":0},{"$f":"SUMIF(BDD!$BG$2:$BG$3,\"Banc 124FAUXVRAI\",BDD!$Z$2:$Z$3)","v":0},{"$f":"SUMIF(BDD!$BG$2:$BG$3,\"Banc 124VRAIFAUX\",BDD!$Z$2:$Z$3)","v":0},{"$f":"SUMIF(BDD!$BG$2:$BG$3,\"Banc 124FAUXVRAI\",BDD!$Z$2:$Z$3)","v":0},{"$f":"SUMIF(BDD!$BG$2:$BG$25,\"Banc 124VRAIFAUX\",BDD!$Z$2:$Z$25)","v":0},{"$f":"SUMIF(BDD!$BG$2:$BG$25,\"Banc 124FAUXvrai\",BDD!$Z$2:$Z$25)","v":0.3},{"$f":"SUMIF(BDD!$BG$26:$BG$599,\"Banc 124VRAIFAUX\",BDD!$Z$26:$Z$599)","v":0.3},{"$f":"SUMIF(BDD!$BG$26:$BG$599,\"Banc 124FAUXVRAI\",BDD!$Z$26:$Z$599)","v":0.1},{"$f":"SUMIF(BDD!$BG$2:$BG$3,\"Banc 124VRAIFAUX\",BDD!$Z$2:$Z$3)","v":0},{"$f":"SUMIF(BDD!$BG$2:$BG$3,\"Banc 124FAUXVRAI\",BDD!$Z$2:$Z$3)","v":0},{"$f":"SUMIF(BDD!$BG$2:$BG$3,\"Banc 124VRAIFAUX\",BDD!$Z$2:$Z$3)","v":0},{"$f":"SUMIF(BDD!$BG$2:$BG$3,\"Banc 124FAUXVRAI\",BDD!$Z$2:$Z$3)","v":0},{"$f":"SUMIF(BDD!$BG$2:$BG$3,\"Banc 124VRAIFAUX\",BDD!$Z$2:$Z$3)","v":0},{"$f":"SUMIF(BDD!$BG$2:$BG$3,\"Banc 124FAUXVRAI\",BDD!$Z$2:$Z$3)","v":0},{"$f":"SUMIF(BDD!$BG$2:$BG$3,\"Banc 124VRAIFAUX\",BDD!$Z$2:$Z$3)","v":0},{"$f":"SUMIF(BDD!$BG$2:$BG$3,\"Banc 124FAUXVRAI\",BDD!$Z$2:$Z$3)","v":0},{"$f":"SUMIF(BDD!$BG$2:$BG$3,\"Banc 124VRAIFAUX\",BDD!$Z$2:$Z$3)","v":0},{"$f":"SUMIF(BDD!$BG$2:$BG$3,\"Banc 124FAUXVRAI\",BDD!$Z$2:$Z$3)","v":0},{"$f":"SUMIF(BDD!$BG$2:$BG$3,\"Banc 124VRAIFAUX\",BDD!$Z$2:$Z$3)","v":0},{"$f":"SUMIF(BDD!$BG$2:$BG$3,\"Banc 124FAUXVRAI\",BDD!$Z$2:$Z$3)","v":0},{"$f":"SUMIF(BDD!$BG$2:$BG$3,\"Banc 124VRAIFAUX\",BDD!$Z$2:$Z$3)","v":0},{"$f":"SUMIF(BDD!$BG$2:$BG$3,\"Banc 124FAUXVRAI\",BDD!$Z$2:$Z$3)","v":0},{"$f":"SUMIF(BDD!$BG$2:$BG$3,\"Banc 124VRAIFAUX\",BDD!$Z$2:$Z$3)","v":0},{"$f":"SUMIF(BDD!$BG$2:$BG$3,\"Banc 124FAUXVRAI\",BDD!$Z$2:$Z$3)","v":0}]
["Banc 124 bis",{"$f":"SUMIF(BDD!$BG$2:$BG$3,\"Banc 124 bisVRAIFAUX\",BDD!$Z$2:$Z$3)","v":0},{"$f":"SUMIF(BDD!$BG$2:$BG$3,\"Banc 124 bisFAUXVRAI\",BDD!$Z$2:$Z$3)","v":0},{"$f":"SUMIF(BDD!$BG$2:$BG$3,\"Banc 124 bisVRAIFAUX\",BDD!$Z$2:$Z$3)","v":0},{"$f":"SUMIF(BDD!$BG$2:$BG$3,\"Banc 124 bisFAUXVRAI\",BDD!$Z$2:$Z$3)","v":0},{"$f":"SUMIF(BDD!$BG$2:$BG$25,\"Banc 124 bisVRAIFAUX\",BDD!$Z$2:$Z$25)","v":0},{"$f":"SUMIF(BDD!$BG$2:$BG$25,\"Banc 124 bisFAUXVRAI\",BDD!$Z$2:$Z$25)","v":0},{"$f":"SUMIF(BDD!$BG$26:$BG$599,\"Banc 124 bisVRAIFAUX\",BDD!$Z$26:$Z$599)","v":1},{"$f":"SUMIF(BDD!$BG$26:$BG$599,\"Banc 124 bisFAUXVRAI\",BDD!$Z$26:$Z$599)","v":0},{"$f":"SUMIF(BDD!$BG$2:$BG$3,\"Banc 124 bisVRAIFAUX\",BDD!$Z$2:$Z$3)","v":0},{"$f":"SUMIF(BDD!$BG$2:$BG$3,\"Banc 124 bisFAUXVRAI\",BDD!$Z$2:$Z$3)","v":0},{"$f":"SUMIF(BDD!$BG$2:$BG$3,\"Banc 124 bisVRAIFAUX\",BDD!$Z$2:$Z$3)","v":0},{"$f":"SUMIF(BDD!$BG$2:$BG$3,\"Banc 124 bisFAUXVRAI\",BDD!$Z$2:$Z$3)","v":0},{"$f":"SUMIF(BDD!$BG$2:$BG$3,\"Banc 124 bisVRAIFAUX\",BDD!$Z$2:$Z$3)","v":0},{"$f":"SUMIF(BDD!$BG$2:$BG$3,\"Banc 124 bisFAUXVRAI\",BDD!$Z$2:$Z$3)","v":0},{"$f":"SUMIF(BDD!$BG$2:$BG$3,\"Banc 124 bisVRAIFAUX\",BDD!$Z$2:$Z$3)","v":0},{"$f":"SUMIF(BDD!$BG$2:$BG$3,\"Banc 124 bisFAUXVRAI\",BDD!$Z$2:$Z$3)","v":0},{"$f":"SUMIF(BDD!$BG$2:$BG$3,\"Banc 124 bisVRAIFAUX\",BDD!$Z$2:$Z$3)","v":0},{"$f":"SUMIF(BDD!$BG$2:$BG$3,\"Banc 124 bisFAUXVRAI\",BDD!$Z$2:$Z$3)","v":0},{"$f":"SUMIF(BDD!$BG$2:$BG$3,\"Banc 124 bisVRAIFAUX\",BDD!$Z$2:$Z$3)","v":0},{"$f":"SUMIF(BDD!$BG$2:$BG$3,\"Banc 124 bisFAUXVRAI\",BDD!$Z$2:$Z$3)","v":0},{"$f":"SUMIF(BDD!$BG$2:$BG$3,\"Banc 124 bisVRAIFAUX\",BDD!$Z$2:$Z$3)","v":0},{"$f":"SUMIF(BDD!$BG$2:$BG$3,\"Banc 124 bisFAUXVRAI\",BDD!$Z$2:$Z$3)","v":0},{"$f":"SUMIF(BDD!$BG$2:$BG$3,\"Banc 124 bisVRAIFAUX\",BDD!$Z$2:$Z$3)","v":0},{"$f":"SUMIF(BDD!$BG$2:$BG$3,\"Banc 124 bisFAUXVRAI\",BDD!$Z$2:$Z$3)","v":0}]
["Banc 145",{"$f":"SUMIF(BDD!$BG$2:$BG$3,\"Banc 145VRAIFAUX\",BDD!$Z$2:$Z$3)","v":0},{"$f":"SUMIF(BDD!$BG$2:$BG$3,\"Banc 145FAUXVRAI\",BDD!$Z$2:$Z$3)","v":0},{"$f":"SUMIF(BDD!$BG$2:$BG$3,\"Banc 145VRAIFAUX\",BDD!$Z$2:$Z$3)","v":0},{"$f":"SUMIF(BDD!$BG$2:$BG$3,\"Banc 145FAUXVRAI\",BDD!$Z$2:$Z$3)","v":0},{"$f":"SUMIF(BDD!$BG$2:$BG$25,\"Banc 145VRAIFAUX\",BDD!$Z$2:$Z$25)","v":0},{"$f":"SUMIF(BDD!$BG$2:$BG$25,\"Banc 145FAUXVRAI\",BDD!$Z$2:$Z$25)","v":0},{"$f":"SUMIF(BDD!$BG$26:$BG$599,\"Banc 145VRAIFAUX\",BDD!$Z$26:$Z$599)","v":5.3},{"$f":"SUMIF(BDD!$BG$26:$BG$599,\"Banc 145FAUXVRAI\",BDD!$Z$26:$Z$599)","v":0},{"$f":"SUMIF(BDD!$BG$2:$BG$3,\"Banc 145VRAIFAUX\",BDD!$Z$2:$Z$3)","v":0},{"$f":"SUMIF(BDD!$BG$2:$BG$3,\"Banc 145FAUXVRAI\",BDD!$Z$2:$Z$3)","v":0},{"$f":"SUMIF(BDD!$BG$2:$BG$3,\"Banc 145VRAIFAUX\",BDD!$Z$2:$Z$3)","v":0},{"$f":"SUMIF(BDD!$BG$2:$BG$3,\"Banc 145FAUXVRAI\",BDD!$Z$2:$Z$3)","v":0},{"$f":"SUMIF(BDD!$BG$2:$BG$3,\"Banc 145VRAIFAUX\",BDD!$Z$2:$Z$3)","v":0},{"$f":"SUMIF(BDD!$BG$2:$BG$3,\"Banc 145FAUXVRAI\",BDD!$Z$2:$Z$3)","v":0},{"$f":"SUMIF(BDD!$BG$2:$BG$3,\"Banc 145VRAIFAUX\",BDD!$Z$2:$Z$3)","v":0},{"$f":"SUMIF(BDD!$BG$2:$BG$3,\"Banc 145FAUXVRAI\",BDD!$Z$2:$Z$3)","v":0},{"$f":"SUMIF(BDD!$BG$2:$BG$3,\"Banc 145VRAIFAUX\",BDD!$Z$2:$Z$3)","v":0},{"$f":"SUMIF(BDD!$BG$2:$BG$3,\"Banc 145FAUXVRAI\",BDD!$Z$2:$Z$3)","v":0},{"$f":"SUMIF(BDD!$BG$2:$BG$3,\"Banc 145VRAIFAUX\",BDD!$Z$2:$Z$3)","v":0},{"$f":"SUMIF(BDD!$BG$2:$BG$3,\"Banc 145FAUXVRAI\",BDD!$Z$2:$Z$3)","v":0},{"$f":"SUMIF(BDD!$BG$2:$BG$3,\"Banc 145VRAIFAUX\",BDD!$Z$2:$Z$3)","v":0},{"$f":"SUMIF(BDD!$BG$2:$BG$3,\"Banc 145FAUXVRAI\",BDD!$Z$2:$Z$3)","v":0},{"$f":"SUMIF(BDD!$BG$2:$BG$3,\"Banc 145VRAIFAUX\",BDD!$Z$2:$Z$3)","v":0},{"$f":"SUMIF(BDD!$BG$2:$BG$3,\"Banc 145FAUXVRAI\",BDD!$Z$2:$Z$3)","v":0}]
["Banc cisaillement",{"$f":"SUMIF(BDD!$BG$2:$BG$3,\"Banc cisaillementVRAIFAUX\",BDD!$Z$2:$Z$3)","v":0},{"$f":"SUMIF(BDD!$BG$2:$BG$3,\"Banc cisaillementFAUXVRAI\",BDD!$Z$2:$Z$3)","v":0},{"$f":"SUMIF(BDD!$BG$2:$BG$3,\"Banc cisaillementVRAIFAUX\",BDD!$Z$2:$Z$3)","v":0},{"$f":"SUMIF(BDD!$BG$2:$BG$3,\"Banc cisaillementFAUXVRAI\",BDD!$Z$2:$Z$3)","v":0},{"$f":"SUMIF(BDD!$BG$2:$BG$25,\"Banc cisaillementVRAIFAUX\",BDD!$Z$2:$Z$25)","v":0},{"$f":"SUMIF(BDD!$BG$2:$BG$25,\"Banc cisaillementFAUXVRAI\",BDD!$Z$2:$Z$25)","v":0},{"$f":"SUMIF(BDD!$BG$26:$BG$599,\"Banc cisaillementVRAIFAUX\",BDD!$Z$26:$Z$599)","v":0},{"$f":"SUMIF(BDD!$BG$26:$BG$599,\"Banc cisaillementFAUXVRAI\",BDD!$Z$26:$Z$599)","v":0},{"$f":"SUMIF(BDD!$BG$2:$BG$3,\"Banc cisaillementVRAIFAUX\",BDD!$Z$2:$Z$3)","v":0},{"$f":"SUMIF(BDD!$BG$2:$BG$3,\"Banc cisaillementFAUXVRAI\",BDD!$Z$2:$Z$3)","v":0},{"$f":"SUMIF(BDD!$BG$2:$BG$3,\"Banc cisaillementVRAIFAUX\",BDD!$Z$2:$Z$3)","v":0},{"$f":"SUMIF(BDD!$BG$2:$BG$3,\"Banc cisaillementFAUXVRAI\",BDD!$Z$2:$Z$3)","v":0},{"$f":"SUMIF(BDD!$BG$2:$BG$3,\"Banc cisaillementVRAIFAUX\",BDD!$Z$2:$Z$3)","v":0},{"$f":"SUMIF(BDD!$BG$2:$BG$3,\"Banc cisaillementFAUXVRAI\",BDD!$Z$2:$Z$3)","v":0},{"$f":"SUMIF(BDD!$BG$2:$BG$3,\"Banc cisaillementVRAIFAUX\",BDD!$Z$2:$Z$3)","v":0},{"$f":"SUMIF(BDD!$BG$2:$BG$3,\"Banc cisaillementFAUXVRAI\",BDD!$Z$2:$Z$3)","v":0},{"$f":"SUMIF(BDD!$BG$2:$BG$3,\"Banc cisaillementVRAIFAUX\",BDD!$Z$2:$Z$3)","v":0},{"$f":"SUMIF(BDD!$BG$2:$BG$3,\"Banc cisaillementFAUXVRAI\",BDD!$Z$2:$Z$3)","v":0},{"$f":"SUMIF(BDD!$BG$2:$BG$3,\"Banc cisaillementVRAIFAUX\",BDD!$Z$2:$Z$3)","v":0},{"$f":"SUMIF(BDD!$BG$2:$BG$3,\"Banc cisaillementFAUXVRAI\",BDD!$Z$2:$Z$3)","v":0},{"$f":"SUMIF(BDD!$BG$2:$BG$3,\"Banc cisaillementVRAIFAUX\",BDD!$Z$2:$Z$3)","v":0},{"$f":"SUMIF(BDD!$BG$2:$BG$3,\"Banc cisaillementFAUXVRAI\",BDD!$Z$2:$Z$3)","v":0},{"$f":"SUMIF(BDD!$BG$2:$BG$3,\"Banc cisaillementVRAIFAUX\",BDD!$Z$2:$Z$3)","v":0},{"$f":"SUMIF(BDD!$BG$2:$BG$3,\"Banc cisaillementFAUXVRAI\",BDD!$Z$2:$Z$3)","v":0}]
["Banc HP",{"$f":"SUMIF(BDD!$BG$2:$BG$3,\"Banc HPVRAIFAUX\",BDD!$Z$2:$Z$3)","v":0},{"$f":"SUMIF(BDD!$BG$2:$BG$3,\"Banc HPFAUXVRAI\",BDD!$Z$2:$Z$3)","v":0},{"$f":"SUMIF(BDD!$BG$2:$BG$3,\"Banc HPVRAIFAUX\",BDD!$Z$2:$Z$3)","v":0},{"$f":"SUMIF(BDD!$BG$2:$BG$3,\"Banc HPFAUXVRAI\",BDD!$Z$2:$Z$3)","v":0},{"$f":"SUMIF(BDD!$BG$2:$BG$25,\"Banc HPVRAIFAUX\",BDD!$Z$2:$Z$25)","v":0},{"$f":"SUMIF(BDD!$BG$2:$BG$25,\"Banc HPFAUXVRAI\",BDD!$Z$2:$Z$25)","v":0},{"$f":"SUMIF(BDD!$BG$26:$BG$599,\"Banc HPVRAIFAUX\",BDD!$Z$26:$Z$599)","v":0},{"$f":"SUMIF(BDD!$BG$26:$BG$599,\"Banc HPFAUXVRAI\",BDD!$Z$26:$Z$599)","v":0},{"$f":"SUMIF(BDD!$BG$2:$BG$3,\"Banc HPVRAIFAUX\",BDD!$Z$2:$Z$3)","v":0},{"$f":"SUMIF(BDD!$BG$2:$BG$3,\"Banc HPFAUXVRAI\",BDD!$Z$2:$Z$3)","v":0},{"$f":"SUMIF(BDD!$BG$2:$BG$3,\"Banc HPVRAIFAUX\",BDD!$Z$2:$Z$3)","v":0},{"$f":"SUMIF(BDD!$BG$2:$BG$3,\"Banc HPFAUXVRAI\",BDD!$Z$2:$Z$3)","v":0},{"$f":"SUMIF(BDD!$BG$2:$BG$3,\"Banc HPVRAIFAUX\",BDD!$Z$2:$Z$3)","v":0},{"$f":"SUMIF(BDD!$BG$2:$BG$3,\"Banc HPFAUXVRAI\",BDD!$Z$2:$Z$3)","v":0},{"$f":"SUMIF(BDD!$BG$2:$BG$3,\"Banc HPVRAIFAUX\",BDD!$Z$2:$Z$3)","v":0},{"$f":"SUMIF(BDD!$BG$2:$BG$3,\"Banc HPFAUXVRAI\",BDD!$Z$2:$Z$3)","v":0},{"$f":"SUMIF(BDD!$BG$2:$BG$3,\"Banc HPVRAIFAUX\",BDD!$Z$2:$Z$3)","v":0},{"$f":"SUMIF(BDD!$BG$2:$BG$3,\"Banc HPFAUXVRAI\",BDD!$Z$2:$Z$3)","v":0},{"$f":"SUMIF(BDD!$BG$2:$BG$3,\"Banc HPVRAIFAUX\",BDD!$Z$2:$Z$3)","v":0},{"$f":"SUMIF(BDD!$BG$2:$BG$3,\"Banc HPFAUXVRAI\",BDD!$Z$2:$Z$3)","v":0},{"$f":"SUMIF(BDD!$BG$2:$BG$3,\"Banc HPVRAIFAUX\",BDD!$Z$2:$Z$3)","v":0},{"$f":"SUMIF(BDD!$BG$2:$BG$3,\"Banc HPFAUXVRAI\",BDD!$Z$2:$Z$3)","v":0},{"$f":"SUMIF(BDD!$BG$2:$BG$3,\"Banc HPVRAIFAUX\",BDD!$Z$2:$Z$3)","v":0},{"$f":"SUMIF(BDD!$BG$2:$BG$3,\"Banc HPFAUXVRAI\",BDD!$Z$2:$Z$3)","v":0}]
["Banc W+B",{"$f":"SUMIF(BDD!$BG$2:$BG$3,\"Banc W+BVRAIFAUX\",BDD!$Z$2:$Z$3)","v":0},{"$f":"SUMIF(BDD!$BG$2:$BG$3,\"Banc W+BFAUXVRAI\",BDD!$Z$2:$Z$3)","v":0},{"$f":"SUMIF(BDD!$BG$2:$BG$3,\"Banc W+BVRAIFAUX\",BDD!$Z$2:$Z$3)","v":0},{"$f":"SUMIF(BDD!$BG$2:$BG$3,\"Banc W+BFAUXVRAI\",BDD!$Z$2:$Z$3)","v":0},{"$f":"SUMIF(BDD!$BG$2:$BG$25,\"Banc W+BVRAIFAUX\",BDD!$Z$2:$Z$25)","v":0},{"$f":"SUMIF(BDD!$BG$2:$BG$25,\"Banc W+BFAUXVRAI\",BDD!$Z$2:$Z$25)","v":0},{"$f":"SUMIF(BDD!$BG$26:$BG$599,\"Banc W+BVRAIFAUX\",BDD!$Z$26:$Z$599)","v":0},{"$f":"SUMIF(BDD!$BG$26:$BG$599,\"Banc W+BFAUXVRAI\",BDD!$Z$26:$Z$599)","v":0},{"$f":"SUMIF(BDD!$BG$2:$BG$3,\"Banc W+BVRAIFAUX\",BDD!$Z$2:$Z$3)","v":0},{"$f":"SUMIF(BDD!$BG$2:$BG$3,\"Banc W+BFAUXVRAI\",BDD!$Z$2:$Z$3)","v":0},{"$f":"SUMIF(BDD!$BG$2:$BG$3,\"Banc W+BVRAIFAUX\",BDD!$Z$2:$Z$3)","v":0},{"$f":"SUMIF(BDD!$BG$2:$BG$3,\"Banc W+BFAUXVRAI\",BDD!$Z$2:$Z$3)","v":0},{"$f":"SUMIF(BDD!$BG$2:$BG$3,\"Banc W+BVRAIFAUX\",BDD!$Z$2:$Z$3)","v":0},{"$f":"SUMIF(BDD!$BG$2:$BG$3,\"Banc W+BFAUXVRAI\",BDD!$Z$2:$Z$3)","v":0},{"$f":"SUMIF(BDD!$BG$2:$BG$3,\"Banc W+BVRAIFAUX\",BDD!$Z$2:$Z$3)","v":0},{"$f":"SUMIF(BDD!$BG$2:$BG$3,\"Banc W+BFAUXVRAI\",BDD!$Z$2:$Z$3)","v":0},{"$f":"SUMIF(BDD!$BG$2:$BG$3,\"Banc W+BVRAIFAUX\",BDD!$Z$2:$Z$3)","v":0},{"$f":"SUMIF(BDD!$BG$2:$BG$3,\"Banc W+BFAUXVRAI\",BDD!$Z$2:$Z$3)","v":0},{"$f":"SUMIF(BDD!$BG$2:$BG$3,\"Banc W+BVRAIFAUX\",BDD!$Z$2:$Z$3)","v":0},{"$f":"SUMIF(BDD!$BG$2:$BG$3,\"Banc W+BFAUXVRAI\",BDD!$Z$2:$Z$3)","v":0},{"$f":"SUMIF(BDD!$BG$2:$BG$3,\"Banc W+BVRAIFAUX\",BDD!$Z$2:$Z$3)","v":0},{"$f":"SUMIF(BDD!$BG$2:$BG$3,\"Banc W+BFAUXVRAI\",BDD!$Z$2:$Z$3)","v":0},{"$f":"SUMIF(BDD!$BG$2:$BG$3,\"Banc W+BVRAIFAUX\",BDD!$Z$2:$Z$3)","v":0},{"$f":"SUMIF(BDD!$BG$2:$BG$3,\"Banc W+BFAUXVRAI\",BDD!$Z$2:$Z$3)","v":0}]
["Ressort verticale",{"$f":"SUMIF(BDD!$BG$2:$BG$3,\"Ressort verticaleVRAIFAUX\",BDD!$Z$2:$Z$3)","v":0},{"$f":"SUMIF(BDD!$BG$2:$BG$3,\"Ressort verticaleFAUXVRAI\",BDD!$Z$2:$Z$3)","v":0},{"$f":"SUMIF(BDD!$BG$2:$BG$3,\"Ressort verticaleVRAIFAUX\",BDD!$Z$2:$Z$3)","v":0},{"$f":"SUMIF(BDD!$BG$2:$BG$3,\"Ressort verticaleFAUXVRAI\",BDD!$Z$2:$Z$3)","v":0},{"$f":"SUMIF(BDD!$BG$2:$BG$25,\"Ressort verticaleVRAIFAUX\",BDD!$Z$2:$Z$25)","v":0},{"$f":"SUMIF(BDD!$BG$2:$BG$25,\"Ressort verticaleFAUXVRAI\",BDD!$Z$2:$Z$25)","v":0},{"$f":"SUMIF(BDD!$BG$26:$BG$599,\"Ressort verticaleVRAIFAUX\",BDD!$Z$26:$Z$599)","v":0},{"$f":"SUMIF(BDD!$BG$26:$BG$599,\"Ressort verticaleFAUXVRAI\",BDD!$Z$26:$Z$599)","v":0},{"$f":"SUMIF(BDD!$BG$2:$BG$3,\"Ressort verticaleVRAIFAUX\",BDD!$Z$2:$Z$3)","v":0},{"$f":"SUMIF(BDD!$BG$2:$BG$3,\"Ressort verticaleFAUXVRAI\",BDD!$Z$2:$Z$3)","v":0},{"$f":"SUMIF(BDD!$BG$2:$BG$3,\"Ressort verticaleVRAIFAUX\",BDD!$Z$2:$Z$3)","v":0},{"$f":"SUMIF(BDD!$BG$2:$BG$3,\"Ressort verticaleFAUXVRAI\",BDD!$Z$2:$Z$3)","v":0},{"$f":"SUMIF(BDD!$BG$2:$BG$3,\"Ressort verticaleVRAIFAUX\",BDD!$Z$2:$Z$3)","v":0},{"$f":"SUMIF(BDD!$BG$2:$BG$3,\"Ressort verticaleFAUXVRAI\",BDD!$Z$2:$Z$3)","v":0},{"$f":"SUMIF(BDD!$BG$2:$BG$3,\"Ressort verticaleVRAIFAUX\",BDD!$Z$2:$Z$3)","v":0},{"$f":"SUMIF(BDD!$BG$2:$BG$3,\"Ressort verticaleFAUXVRAI\",BDD!$Z$2:$Z$3)","v":0},{"$f":"SUMIF(BDD!$BG$2:$BG$3,\"Ressort verticaleVRAIFAUX\",BDD!$Z$2:$Z$3)","v":0},{"$f":"SUMIF(BDD!$BG$2:$BG$3,\"Ressort verticaleFAUXVRAI\",BDD!$Z$2:$Z$3)","v":0},{"$f":"SUMIF(BDD!$BG$2:$BG$3,\"Ressort verticaleVRAIFAUX\",BDD!$Z$2:$Z$3)","v":0},{"$f":"SUMIF(BDD!$BG$2:$BG$3,\"Ressort verticaleFAUXVRAI\",BDD!$Z$2:$Z$3)","v":0},{"$f":"SUMIF(BDD!$BG$2:$BG$3,\"Ressort verticaleVRAIFAUX\",BDD!$Z$2:$Z$3)","v":0},{"$f":"SUMIF(BDD!$BG$2:$BG$3,\"Ressort verticaleFAUXVRAI\",BDD!$Z$2:$Z$3)","v":0},{"$f":"SUMIF(BDD!$BG$2:$BG$3,\"Ressort verticaleVRAIFAUX\",BDD!$Z$2:$Z$3)","v":0},{"$f":"SUMIF(BDD!$BG$2:$BG$3,\"Ressort verticaleFAUXVRAI\",BDD!$Z$2:$Z$3)","v":0}]
[]
[]
[]
[]
[]
[]
[]
[]
[]
[]
[]
[]
[]
[]
[]
[]
[]
[]
[]
[]
[]
[]
[null,"Suivi du correctif et du préventif par banc"]
[null,"Janvier",null,null,null,null,null,"Février",null,null,null,null,null,"Mars",null,null,null,null,null,"Avril",null,null,null,null,null,"Mai",null,null,null,null,null,"Juin",null,null,null,null,null,"Juillet",null,null,null,null,null,"Août",null,null,null,null,null,"Septembre",null,null,null,null,null,"Octobre",null,null,null,null,null,"Novembre",null,null,null,null,null,"Décembre"]
[null,"Corrective",null,null,"Préventive",null,null,"Corrective",null,null,"Préventive",null,null,"Corrective",null,null,"Préventive",null,null,"Corrective",null,null,"Préventive",null,null,"Corrective",null,null,"Préventive",null,null,"Corrective",null,null,"Préventive",null,null,"Corrective",null,null,"Préventive",null,null,"Corrective",null,null,"Préventive",null,null,"Corrective",null,null,"Préventive",null,null,"Corrective",null,null,"Préventive",null,null,"Corrective",null,null,"Préventive",null,null,"Corrective",null,null,"Préventive"]
["Banc zone 5","Electrique","Mécanique","Hydraulique","Electrique","Mécanique","Hydraulique","Electrique","Mécanique","Hydraulique","Electrique","Mécanique","Hydraulique","Electrique","Mécanique","Hydraulique","Electrique","Mécanique","Hydraulique","Electrique","Mécanique","Hydraulique","Electrique","Mécanique","Hydraulique","Electrique","Mécanique","Hydraulique","Electrique","Mécanique","Hydraulique","Electrique","Mécanique","Hydraulique","Electrique","Mécanique","Hydraulique","Electrique","Mécanique","Hydraulique","Electrique","Mécanique","Hydraulique","Electrique","Mécanique","Hydraulique","Electrique","Mécanique","Hydraulique","Electrique","Mécanique","Hydraulique","Electrique","Mécanique","Hydraulique","Electrique","Mécanique","Hydraulique","Electrique","Mécanique","Hydraulique","Electrique","Mécanique","Hydraulique","Electrique","Mécanique","Hydraulique","Electrique","Mécanique","Hydraulique","Electrique","Mécanique","Hydraulique"]
["Banc 124",{"$f":"SUMIF(BDD!$BH$2:$BH$3,\"Banc 124VRAIFAUXVRAIFAUXFAUX\",BDD!$Z$2:$Z$3)","v":0},{"$f":"SUMIF(BDD!$BH$2:$BH$3,\"Banc 124VRAIFAUXFAUXVRAIFAUX\",BDD!$Z$2:$Z$3)","v":0},{"$f":"SUMIF(BDD!$BH$2:$BH$3,\"Banc 124VRAIFAUXFAUXFAUXVRAI\",BDD!$Z$2:$Z$3)","v":0},{"$f":"SUMIF(BDD!$BH$2:$BH$3,\"Banc 124FAUXVRAIVRAIFAUXFAUX\",BDD!$Z$2:$Z$3)","v":0},{"$f":"SUMIF(BDD!$BH$2:$BH$3,\"Banc 124FAUXVRAIFAUXVRAIFAUX\",BDD!$Z$2:$Z$3)","v":0},{"$f":"SUMIF(BDD!$BH$2:$BH$3,\"Banc 124FAUXVRAIFAUXFAUXVRAI\",BDD!$Z$2:$Z$3)","v":0},{"$f":"SUMIF(BDD!$BH$2:$BH$3,\"Banc 124VRAIFAUXVRAIFAUXFAUX\",BDD!$Z$2:$Z$3)","v":0},{"$f":"SUMIF(BDD!$BH$2:$BH$3,\"Banc 124VRAIFAUXFAUXVRAIFAUX\",BDD!$Z$2:$Z$3)","v":0},{"$f":"SUMIF(BDD!$BH$2:$BH$3,\"Banc 124VRAIFAUXFAUXFAUXVRAI\",BDD!$Z$2:$Z$3)","v":0},{"$f":"SUMIF(BDD!$BH$2:$BH$3,\"Banc 124FAUXVRAIVRAIFAUXFAUX\",BDD!$Z$2:$Z$3)","v":0},{"$f":"SUMIF(BDD!$BH$2:$BH$3,\"Banc 124FAUXVRAIFAUXVRAIFAUX\",BDD!$Z$2:$Z$3)","v":0},{"$f":"SUMIF(BDD!$BH$2:$BH$3,\"Banc 124FAUXVRAIFAUXFAUXVRAI\",BDD!$Z$2:$Z$3)","v":0},{"$f":"SUMIF(BDD!$BH$2:$BH$25,\"Banc 124VRAIFAUXVRAIFAUXFAUX\",BDD!$Z$2:$Z$25)","v":0},{"$f":"SUMIF(BDD!$BH$2:$BH$25,\"Banc 124VRAIFAUXFAUXVRAIFAUX\",BDD!$Z$2:$Z$25)","v":0},{"$f":"SUMIF(BDD!$BH$2:$BH$25,\"Banc 124VRAIFAUXFAUXFAUXVRAI\",BDD!$Z$2:$Z$25)","v":0},{"$f":"SUMIF(BDD!$BH$2:$BH$25,\"Banc 124FAUXVRAIVRAIFAUXFAUX\",BDD!$Z$2:$Z$25)","v":0},{"$f":"SUMIF(BDD!$BH$2:$BH$25,\"Banc 124FAUXVRAIFAUXVRAIFAUX\",BDD!$Z$2:$Z$25)","v":0},{"$f":"SUMIF(BDD!$BH$2:$BH$25,\"Banc 124FAUXVRAIFAUXFAUXVRAI\",BDD!$Z$2:$Z$25)","v":0.3},{"$f":"SUMIF(BDD!$BH$26:$BH$599,\"Banc 16004VRAIFAUXVRAIFAUXFAUX\",BDD!$Z$26:$Z$599)","v":0},{"$f":"SUMIF(BDD!$BH$26:$BH$599,\"Banc 16004VRAIFAUXFAUXVRAIFAUX\",BDD!$Z$26:$Z$599)","v":0},{"$f":"SUMIF(BDD!$BH$26:$BH$599,\"Banc 16004VRAIFAUXFAUXFAUXVRAI\",BDD!$Z$26:$Z$599)","v":0},{"$f":"SUMIF(BDD!$BH$26:$BH$599,\"Banc 16004FAUXVRAIVRAIFAUXFAUX\",BDD!$Z$26:$Z$599)","v":0},{"$f":"SUMIF(BDD!$BH$26:$BH$599,\"Banc 16004FAUXVRAIFAUXVRAIFAUX\",BDD!$Z$26:$Z$599)","v":0},{"$f":"SUMIF(BDD!$BH$26:$BH$599,\"Banc 16004FAUXVRAIFAUXFAUXVRAI\",BDD!$Z$26:$Z$599)","v":0},{"$f":"SUMIF(BDD!$BH$2:$BH$3,\"Banc 124VRAIFAUXVRAIFAUXFAUX\",BDD!$Z$2:$Z$3)","v":0},{"$f":"SUMIF(BDD!$BH$2:$BH$3,\"Banc 124VRAIFAUXFAUXVRAIFAUX\",BDD!$Z$2:$Z$3)","v":0},{"$f":"SUMIF(BDD!$BH$2:$BH$3,\"Banc 124VRAIFAUXFAUXFAUXVRAI\",BDD!$Z$2:$Z$3)","v":0},{"$f":"SUMIF(BDD!$BH$2:$BH$3,\"Banc 124FAUXVRAIVRAIFAUXFAUX\",BDD!$Z$2:$Z$3)","v":0},{"$f":"SUMIF(BDD!$BH$2:$BH$3,\"Banc 124FAUXVRAIFAUXVRAIFAUX\",BDD!$Z$2:$Z$3)","v":0},{"$f":"SUMIF(BDD!$BH$2:$BH$3,\"Banc 124FAUXVRAIFAUXFAUXVRAI\",BDD!$Z$2:$Z$3)","v":0},{"$f":"SUMIF(BDD!$BH$2:$BH$3,\"Banc 124VRAIFAUXVRAIFAUXFAUX\",BDD!$Z$2:$Z$3)","v":0},{"$f":"SUMIF(BDD!$BH$2:$BH$3,\"Banc 124VRAIFAUXFAUXVRAIFAUX\",BDD!$Z$2:$Z$3)","v":0},{"$f":"SUMIF(BDD!$BH$2:$BH$3,\"Banc 124VRAIFAUXFAUXFAUXVRAI\",BDD!$Z$2:$Z$3)","v":0},{"$f":"SUMIF(BDD!$BH$2:$BH$3,\"Banc 124FAUXVRAIVRAIFAUXFAUX\",BDD!$Z$2:$Z$3)","v":0},{"$f":"SUMIF(BDD!$BH$2:$BH$3,\"Banc 124FAUXVRAIFAUXVRAIFAUX\",BDD!$Z$2:$Z$3)","v":0},{"$f":"SUMIF(BDD!$BH$2:$BH$3,\"Banc 124FAUXVRAIFAUXFAUXVRAI\",BDD!$Z$2:$Z$3)","v":0},{"$f":"SUMIF(BDD!$BH$2:$BH$3,\"Banc 124VRAIFAUXVRAIFAUXFAUX\",BDD!$Z$2:$Z$3)","v":0},{"$f":"SUMIF(BDD!$BH$2:$BH$3,\"Banc 124VRAIFAUXFAUXVRAIFAUX\",BDD!$Z$2:$Z$3)","v":0},{"$f":"SUMIF(BDD!$BH$2:$BH$3,\"Banc 124VRAIFAUXFAUXFAUXVRAI\",BDD!$Z$2:$Z$3)","v":0},{"$f":"SUMIF(BDD!$BH$2:$BH$3,\"Banc 124FAUXVRAIVRAIFAUXFAUX\",BDD!$Z$2:$Z$3)","v":0},{"$f":"SUMIF(BDD!$BH$2:$BH$3,\"Banc 124FAUXVRAIFAUXVRAIFAUX\",BDD!$Z$2:$Z$3)","v":0},{"$f":"SUMIF(BDD!$BH$2:$BH$3,\"Banc 124FAUXVRAIFAUXFAUXVRAI\",BDD!$Z$2:$Z$3)","v":0},{"$f":"SUMIF(BDD!$BH$2:$BH$3,\"Banc 124VRAIFAUXVRAIFAUXFAUX\",BDD!$Z$2:$Z$3)","v":0},{"$f":"SUMIF(BDD!$BH$2:$BH$3,\"Banc 124VRAIFAUXFAUXVRAIFAUX\",BDD!$Z$2:$Z$3)","v":0},{"$f":"SUMIF(BDD!$BH$2:$BH$3,\"Banc 124VRAIFAUXFAUXFAUXVRAI\",BDD!$Z$2:$Z$3)","v":0},{"$f":"SUMIF(BDD!$BH$2:$BH$3,\"Banc 124FAUXVRAIVRAIFAUXFAUX\",BDD!$Z$2:$Z$3)","v":0},{"$f":"SUMIF(BDD!$BH$2:$BH$3,\"Banc 124FAUXVRAIFAUXVRAIFAUX\",BDD!$Z$2:$Z$3)","v":0},{"$f":"SUMIF(BDD!$BH$2:$BH$3,\"Banc 124FAUXVRAIFAUXFAUXVRAI\",BDD!$Z$2:$Z$3)","v":0},{"$f":"SUMIF(BDD!$BH$2:$BH$3,\"Banc 124VRAIFAUXVRAIFAUXFAUX\",BDD!$Z$2:$Z$3)","v":0},{"$f":"SUMIF(BDD!$BH$2:$BH$3,\"Banc 124VRAIFAUXFAUXVRAIFAUX\",BDD!$Z$2:$Z$3)","v":0},{"$f":"SUMIF(BDD!$BH$2:$BH$3,\"Banc 124VRAIFAUXFAUXFAUXVRAI\",BDD!$Z$2:$Z$3)","v":0},{"$f":"SUMIF(BDD!$BH$2:$BH$3,\"Banc 124FAUXVRAIVRAIFAUXFAUX\",BDD!$Z$2:$Z$3)","v":0},{"$f":"SUMIF(BDD!$BH$2:$BH$3,\"Banc 124FAUXVRAIFAUXVRAIFAUX\",BDD!$Z$2:$Z$3)","v":0},{"$f":"SUMIF(BDD!$BH$2:$BH$3,\"Banc 124FAUXVRAIFAUXFAUXVRAI\",BDD!$Z$2:$Z$3)","v":0},{"$f":"SUMIF(BDD!$BH$2:$BH$3,\"Banc 124VRAIFAUXVRAIFAUXFAUX\",BDD!$Z$2:$Z$3)","v":0},{"$f":"SUMIF(BDD!$BH$2:$BH$3,\"Banc 124VRAIFAUXFAUXVRAIFAUX\",BDD!$Z$2:$Z$3)","v":0},{"$f":"SUMIF(BDD!$BH$2:$BH$3,\"Banc 124VRAIFAUXFAUXFAUXVRAI\",BDD!$Z$2:$Z$3)","v":0},{"$f":"SUMIF(BDD!$BH$2:$BH$3,\"Banc 124FAUXVRAIVRAIFAUXFAUX\",BDD!$Z$2:$Z$3)","v":0},{"$f":"SUMIF(BDD!$BH$2:$BH$3,\"Banc 124FAUXVRAIFAUXVRAIFAUX\",BDD!$Z$2:$Z$3)","v":0},{"$f":"SUMIF(BDD!$BH$2:$BH$3,\"Banc 124FAUXVRAIFAUXFAUXVRAI\",BDD!$Z$2:$Z$3)","v":0},{"$f":"SUMIF(BDD!$BH$2:$BH$3,\"Banc 124VRAIFAUXVRAIFAUXFAUX\",BDD!$Z$2:$Z$3)","v":0},{"$f":"SUMIF(BDD!$BH$2:$BH$3,\"Banc 124VRAIFAUXFAUXVRAIFAUX\",BDD!$Z$2:$Z$3)","v":0},{"$f":"SUMIF(BDD!$BH$2:$BH$3,\"Banc 124VRAIFAUXFAUXFAUXVRAI\",BDD!$Z$2:$Z$3)","v":0},{"$f":"SUMIF(BDD!$BH$2:$BH$3,\"Banc 124FAUXVRAIVRAIFAUXFAUX\",BDD!$Z$2:$Z$3)","v":0},{"$f":"SUMIF(BDD!$BH$2:$BH$3,\"Banc 124FAUXVRAIFAUXVRAIFAUX\",BDD!$Z$2:$Z$3)","v":0},{"$f":"SUMIF(BDD!$BH$2:$BH$3,\"Banc 124FAUXVRAIFAUXFAUXVRAI\",BDD!$Z$2:$Z$3)","v":0},{"$f":"SUMIF(BDD!$BH$2:$BH$3,\"Banc 124VRAIFAUXVRAIFAUXFAUX\",BDD!$Z$2:$Z$3)","v":0},{"$f":"SUMIF(BDD!$BH$2:$BH$3,\"Banc 124VRAIFAUXFAUXVRAIFAUX\",BDD!$Z$2:$Z$3)","v":0},{"$f":"SUMIF(BDD!$BH$2:$BH$3,\"Banc 124VRAIFAUXFAUXFAUXVRAI\",BDD!$Z$2:$Z$3)","v":0},{"$f":"SUMIF(BDD!$BH$2:$BH$3,\"Banc 124FAUXVRAIVRAIFAUXFAUX\",BDD!$Z$2:$Z$3)","v":0},{"$f":"SUMIF(BDD!$BH$2:$BH$3,\"Banc 124FAUXVRAIFAUXVRAIFAUX\",BDD!$Z$2:$Z$3)","v":0},{"$f":"SUMIF(BDD!$BH$2:$BH$3,\"Banc 124FAUXVRAIFAUXFAUXVRAI\",BDD!$Z$2:$Z$3)","v":0}]
["Banc 124 bis",{"$f":"SUMIF(BDD!$BH$2:$BH$3,\"Banc 124 bisVRAIFAUXVRAIFAUXFAUX\",BDD!$Z$2:$Z$3)","v":0},{"$f":"SUMIF(BDD!$BH$2:$BH$3,\"Banc 124 bisVRAIFAUXFAUXVRAIFAUX\",BDD!$Z$2:$Z$3)","v":0},{"$f":"SUMIF(BDD!$BH$2:$BH$3,\"Banc 124 bisVRAIFAUXFAUXFAUXVRAI\",BDD!$Z$2:$Z$3)","v":0},{"$f":"SUMIF(BDD!$BH$2:$BH$3,\"Banc 124 bisFAUXVRAIVRAIFAUXFAUX\",BDD!$Z$2:$Z$3)","v":0},{"$f":"SUMIF(BDD!$BH$2:$BH$3,\"Banc 124 bisFAUXVRAIFAUXVRAIFAUX\",BDD!$Z$2:$Z$3)","v":0},{"$f":"SUMIF(BDD!$BH$2:$BH$3,\"Banc 124 bisFAUXVRAIFAUXFAUXVRAI\",BDD!$Z$2:$Z$3)","v":0},{"$f":"SUMIF(BDD!$BH$2:$BH$3,\"Banc 124 bisVRAIFAUXVRAIFAUXFAUX\",BDD!$Z$2:$Z$3)","v":0},{"$f":"SUMIF(BDD!$BH$2:$BH$3,\"Banc 124 bisVRAIFAUXFAUXVRAIFAUX\",BDD!$Z$2:$Z$3)","v":0},{"$f":"SUMIF(BDD!$BH$2:$BH$3,\"Banc 124 bisVRAIFAUXFAUXFAUXVRAI\",BDD!$Z$2:$Z$3)","v":0},{"$f":"SUMIF(BDD!$BH$2:$BH$3,\"Banc 124 bisFAUXVRAIVRAIFAUXFAUX\",BDD!$Z$2:$Z$3)","v":0},{"$f":"SUMIF(BDD!$BH$2:$BH$3,\"Banc 124 bisFAUXVRAIFAUXVRAIFAUX\",BDD!$Z$2:$Z$3)","v":0},{"$f":"SUMIF(BDD!$BH$2:$BH$3,\"Banc 124 bisFAUXVRAIFAUXFAUXVRAI\",BDD!$Z$2:$Z$3)","v":0},{"$f":"SUMIF(BDD!$BH$2:$BH$25,\"Banc 124 bisVRAIFAUXVRAIFAUXFAUX\",BDD!$Z$2:$Z$25)","v":0},{"$f":"SUMIF(BDD!$BH$2:$BH$25,\"Banc 124 bisVRAIFAUXFAUXVRAIFAUX\",BDD!$Z$2:$Z$25)","v":0},{"$f":"SUMIF(BDD!$BH$2:$BH$25,\"Banc 124 bisVRAIFAUXFAUXFAUXVRAI\",BDD!$Z$2:$Z$25)","v":0},{"$f":"SUMIF(BDD!$BH$2:$BH$25,\"Banc 124 bisFAUXVRAIVRAIFAUXFAUX\",BDD!$Z$2:$Z$25)","v":0},{"$f":"SUMIF(BDD!$BH$2:$BH$25,\"Banc 124 bisFAUXVRAIFAUXVRAIFAUX\",BDD!$Z$2:$Z$25)","v":0},{"$f":"SUMIF(BDD!$BH$2:$BH$25,\"Banc 124 bisFAUXVRAIFAUXFAUXVRAI\",BDD!$Z$2:$Z$25)","v":0},{"$f":"SUMIF(BDD!$BH$26:$BH$599,\"Banc 124 bisVRAIFAUXVRAIFAUXFAUX\",BDD!$Z$26:$Z$599)","v":1},{"$f":"SUMIF(BDD!$BH$26:$BH$599,\"Banc 124 bisVRAIFAUXFAUXVRAIFAUX\",BDD!$Z$26:$Z$599)","v":0},{"$f":"SUMIF(BDD!$BH$26:$BH$599,\"Banc 124 bisVRAIFAUXFAUXFAUXVRAI\",BDD!$Z$26:$Z$599)","v":0},{"$f":"SUMIF(BDD!$BH$26:$BH$599,\"Banc 124 bisFAUXVRAIVRAIFAUXFAUX\",BDD!$Z$26:$Z$599)","v":0},{"$f":"SUMIF(BDD!$BH$26:$BH$599,\"Banc 124 bisFAUXVRAIFAUXVRAIFAUX\",BDD!$Z$26:$Z$599)","v":0},{"$f":"SUMIF(BDD!$BH$26:$BH$599,\"Banc 124 bisFAUXVRAIFAUXFAUXVRAI\",BDD!$Z$26:$Z$599)","v":0},{"$f":"SUMIF(BDD!$BH$2:$BH$3,\"Banc 124 bisVRAIFAUXVRAIFAUXFAUX\",BDD!$Z$2:$Z$3)","v":0},{"$f":"SUMIF(BDD!$BH$2:$BH$3,\"Banc 124 bisVRAIFAUXFAUXVRAIFAUX\",BDD!$Z$2:$Z$3)","v":0},{"$f":"SUMIF(BDD!$BH$2:$BH$3,\"Banc 124 bisVRAIFAUXFAUXFAUXVRAI\",BDD!$Z$2:$Z$3)","v":0},{"$f":"SUMIF(BDD!$BH$2:$BH$3,\"Banc 124 bisFAUXVRAIVRAIFAUXFAUX\",BDD!$Z$2:$Z$3)","v":0},{"$f":"SUMIF(BDD!$BH$2:$BH$3,\"Banc 124 bisFAUXVRAIFAUXVRAIFAUX\",BDD!$Z$2:$Z$3)","v":0},{"$f":"SUMIF(BDD!$BH$2:$BH$3,\"Banc 124 bisFAUXVRAIFAUXFAUXVRAI\",BDD!$Z$2:$Z$3)","v":0},{"$f":"SUMIF(BDD!$BH$2:$BH$3,\"Banc 124 bisVRAIFAUXVRAIFAUXFAUX\",BDD!$Z$2:$Z$3)","v":0},{"$f":"SUMIF(BDD!$BH$2:$BH$3,\"Banc 124 bisVRAIFAUXFAUXVRAIFAUX\",BDD!$Z$2:$Z$3)","v":0},{"$f":"SUMIF(BDD!$BH$2:$BH$3,\"Banc 124 bisVRAIFAUXFAUXFAUXVRAI\",BDD!$Z$2:$Z$3)","v":0},{"$f":"SUMIF(BDD!$BH$2:$BH$3,\"Banc 124 bisFAUXVRAIVRAIFAUXFAUX\",BDD!$Z$2:$Z$3)","v":0},{"$f":"SUMIF(BDD!$BH$2:$BH$3,\"Banc 124 bisFAUXVRAIFAUXVRAIFAUX\",BDD!$Z$2:$Z$3)","v":0},{"$f":"SUMIF(BDD!$BH$2:$BH$3,\"Banc 124 bisFAUXVRAIFAUXFAUXVRAI\",BDD!$Z$2:$Z$3)","v":0},{"$f":"SUMIF(BDD!$BH$2:$BH$3,\"Banc 124 bisVRAIFAUXVRAIFAUXFAUX\",BDD!$Z$2:$Z$3)","v":0},{"$f":"SUMIF(BDD!$BH$2:$BH$3,\"Banc 124 bisVRAIFAUXFAUXVRAIFAUX\",BDD!$Z$2:$Z$3)","v":0},{"$f":"SUMIF(BDD!$BH$2:$BH$3,\"Banc 124 bisVRAIFAUXFAUXFAUXVRAI\",BDD!$Z$2:$Z$3)","v":0},{"$f":"SUMIF(BDD!$BH$2:$BH$3,\"Banc 124 bisFAUXVRAIVRAIFAUXFAUX\",BDD!$Z$2:$Z$3)","v":0},{"$f":"SUMIF(BDD!$BH$2:$BH$3,\"Banc 124 bisFAUXVRAIFAUXVRAIFAUX\",BDD!$Z$2:$Z$3)","v":0},{"$f":"SUMIF(BDD!$BH$2:$BH$3,\"Banc 124 bisFAUXVRAIFAUXFAUXVRAI\",BDD!$Z$2:$Z$3)","v":0},{"$f":"SUMIF(BDD!$BH$2:$BH$3,\"Banc 124 bisVRAIFAUXVRAIFAUXFAUX\",BDD!$Z$2:$Z$3)","v":0},{"$f":"SUMIF(BDD!$BH$2:$BH$3,\"Banc 124 bisVRAIFAUXFAUXVRAIFAUX\",BDD!$Z$2:$Z$3)","v":0},{"$f":"SUMIF(BDD!$BH$2:$BH$3,\"Banc 124 bisVRAIFAUXFAUXFAUXVRAI\",BDD!$Z$2:$Z$3)","v":0},{"$f":"SUMIF(BDD!$BH$2:$BH$3,\"Banc 124 bisFAUXVRAIVRAIFAUXFAUX\",BDD!$Z$2:$Z$3)","v":0},{"$f":"SUMIF(BDD!$BH$2:$BH$3,\"Banc 124 bisFAUXVRAIFAUXVRAIFAUX\",BDD!$Z$2:$Z$3)","v":0},{"$f":"SUMIF(BDD!$BH$2:$BH$3,\"Banc 124 bisFAUXVRAIFAUXFAUXVRAI\",BDD!$Z$2:$Z$3)","v":0},{"$f":"SUMIF(BDD!$BH$2:$BH$3,\"Banc 124 bisVRAIFAUXVRAIFAUXFAUX\",BDD!$Z$2:$Z$3)","v":0},{"$f":"SUMIF(BDD!$BH$2:$BH$3,\"Banc 124 bisVRAIFAUXFAUXVRAIFAUX\",BDD!$Z$2:$Z$3)","v":0},{"$f":"SUMIF(BDD!$BH$2:$BH$3,\"Banc 124 bisVRAIFAUXFAUXFAUXVRAI\",BDD!$Z$2:$Z$3)","v":0},{"$f":"SUMIF(BDD!$BH$2:$BH$3,\"Banc 124 bisFAUXVRAIVRAIFAUXFAUX\",BDD!$Z$2:$Z$3)","v":0},{"$f":"SUMIF(BDD!$BH$2:$BH$3,\"Banc 124 bisFAUXVRAIFAUXVRAIFAUX\",BDD!$Z$2:$Z$3)","v":0},{"$f":"SUMIF(BDD!$BH$2:$BH$3,\"Banc 124 bisFAUXVRAIFAUXFAUXVRAI\",BDD!$Z$2:$Z$3)","v":0},{"$f":"SUMIF(BDD!$BH$2:$BH$3,\"Banc 124 bisVRAIFAUXVRAIFAUXFAUX\",BDD!$Z$2:$Z$3)","v":0},{"$f":"SUMIF(BDD!$BH$2:$BH$3,\"Banc 124 bisVRAIFAUXFAUXVRAIFAUX\",BDD!$Z$2:$Z$3)","v":0},{"$f":"SUMIF(BDD!$BH$2:$BH$3,\"Banc 124 bisVRAIFAUXFAUXFAUXVRAI\",BDD!$Z$2:$Z$3)","v":0},{"$f":"SUMIF(BDD!$BH$2:$BH$3,\"Banc 124 bisFAUXVRAIVRAIFAUXFAUX\",BDD!$Z$2:$Z$3)","v":0},{"$f":"SUMIF(BDD!$BH$2:$BH$3,\"Banc 124 bisFAUXVRAIFAUXVRAIFAUX\",BDD!$Z$2:$Z$3)","v":0},{"$f":"SUMIF(BDD!$BH$2:$BH$3,\"Banc 124 bisFAUXVRAIFAUXFAUXVRAI\",BDD!$Z$2:$Z$3)","v":0},{"$f":"SUMIF(BDD!$BH$2:$BH$3,\"Banc 124 bisVRAIFAUXVRAIFAUXFAUX\",BDD!$Z$2:$Z$3)","v":0},{"$f":"SUMIF(BDD!$BH$2:$BH$3,\"Banc 124 bisVRAIFAUXFAUXVRAIFAUX\",BDD!$Z$2:$Z$3)","v":0},{"$f":"SUMIF(BDD!$BH$2:$BH$3,\"Banc 124 bisVRAIFAUXFAUXFAUXVRAI\",BDD!$Z$2:$Z$3)","v":0},{"$f":"SUMIF(BDD!$BH$2:$BH$3,\"Banc 124 bisFAUXVRAIVRAIFAUXFAUX\",BDD!$Z$2:$Z$3)","v":0},{"$f":"SUMIF(BDD!$BH$2:$BH$3,\"Banc 124 bisFAUXVRAIFAUXVRAIFAUX\",BDD!$Z$2:$Z$3)","v":0},{"$f":"SUMIF(BDD!$BH$2:$BH$3,\"Banc 124 bisFAUXVRAIFAUXFAUXVRAI\",BDD!$Z$2:$Z$3)","v":0},{"$f":"SUMIF(BDD!$BH$2:$BH$3,\"Banc 124 bisVRAIFAUXVRAIFAUXFAUX\",BDD!$Z$2:$Z$3)","v":0},{"$f":"SUMIF(BDD!$BH$2:$BH$3,\"Banc 124 bisVRAIFAUXFAUXVRAIFAUX\",BDD!$Z$2:$Z$3)","v":0},{"$f":"SUMIF(BDD!$BH$2:$BH$3,\"Banc 124 bisVRAIFAUXFAUXFAUXVRAI\",BDD!$Z$2:$Z$3)","v":0},{"$f":"SUMIF(BDD!$BH$2:$BH$3,\"Banc 124 bisFAUXVRAIVRAIFAUXFAUX\",BDD!$Z$2:$Z$3)","v":0},{"$f":"SUMIF(BDD!$BH$2:$BH$3,\"Banc 124 bisFAUXVRAIFAUXVRAIFAUX\",BDD!$Z$2:$Z$3)","v":0},{"$f":"SUMIF(BDD!$BH$2:$BH$3,\"Banc 124 bisFAUXVRAIFAUXFAUXVRAI\",BDD!$Z$2:$Z$3)","v":0}]
["Banc 145",{"$f":"SUMIF(BDD!$BH$2:$BH$3,\"Banc 145VRAIFAUXVRAIFAUXFAUX\",BDD!$Z$2:$Z$3)","v":0},{"$f":"SUMIF(BDD!$BH$2:$BH$3,\"Banc 145VRAIFAUXFAUXVRAIFAUX\",BDD!$Z$2:$Z$3)","v":0},{"$f":"SUMIF(BDD!$BH$2:$BH$3,\"Banc 145VRAIFAUXFAUXFAUXVRAI\",BDD!$Z$2:$Z$3)","v":0},{"$f":"SUMIF(BDD!$BH$2:$BH$3,\"Banc 145FAUXVRAIVRAIFAUXFAUX\",BDD!$Z$2:$Z$3)","v":0},{"$f":"SUMIF(BDD!$BH$2:$BH$3,\"Banc 145FAUXVRAIFAUXVRAIFAUX\",BDD!$Z$2:$Z$3)","v":0},{"$f":"SUMIF(BDD!$BH$2:$BH$3,\"Banc 145FAUXVRAIFAUXFAUXVRAI\",BDD!$Z$2:$Z$3)","v":0},{"$f":"SUMIF(BDD!$BH$2:$BH$3,\"Banc 145VRAIFAUXVRAIFAUXFAUX\",BDD!$Z$2:$Z$3)","v":0},{"$f":"SUMIF(BDD!$BH$2:$BH$3,\"Banc 145VRAIFAUXFAUXVRAIFAUX\",BDD!$Z$2:$Z$3)","v":0},{"$f":"SUMIF(BDD!$BH$2:$BH$3,\"Banc 145VRAIFAUXFAUXFAUXVRAI\",BDD!$Z$2:$Z$3)","v":0},{"$f":"SUMIF(BDD!$BH$2:$BH$3,\"Banc 145FAUXVRAIVRAIFAUXFAUX\",BDD!$Z$2:$Z$3)","v":0},{"$f":"SUMIF(BDD!$BH$2:$BH$3,\"Banc 145FAUXVRAIFAUXVRAIFAUX\",BDD!$Z$2:$Z$3)","v":0},{"$f":"SUMIF(BDD!$BH$2:$BH$3,\"Banc 145FAUXVRAIFAUXFAUXVRAI\",BDD!$Z$2:$Z$3)","v":0},{"$f":"SUMIF(BDD!$BH$2:$BH$25,\"Banc 145VRAIFAUXVRAIFAUXFAUX\",BDD!$Z$2:$Z$25)","v":0},{"$f":"SUMIF(BDD!$BH$2:$BH$25,\"Banc 145VRAIFAUXFAUXVRAIFAUX\",BDD!$Z$2:$Z$25)","v":0},{"$f":"SUMIF(BDD!$BH$2:$BH$25,\"Banc 145VRAIFAUXFAUXFAUXVRAI\",BDD!$Z$2:$Z$25)","v":0},{"$f":"SUMIF(BDD!$BH$2:$BH$25,\"Banc 145FAUXVRAIVRAIFAUXFAUX\",BDD!$Z$2:$Z$25)","v":0},{"$f":"SUMIF(BDD!$BH$2:$BH$25,\"Banc 145FAUXVRAIFAUXVRAIFAUX\",BDD!$Z$2:$Z$25)","v":0},{"$f":"SUMIF(BDD!$BH$2:$BH$25,\"Banc 145FAUXVRAIFAUXFAUXVRAI\",BDD!$Z$2:$Z$25)","v":0},{"$f":"SUMIF(BDD!$BH$26:$BH$599,\"Banc 145VRAIFAUXVRAIFAUXFAUX\",BDD!$Z$26:$Z$599)","v":3},{"$f":"SUMIF(BDD!$BH$26:$BH$599,\"Banc 145VRAIFAUXFAUXVRAIFAUX\",BDD!$Z$26:$Z$599)","v":0},{"$f":"SUMIF(BDD!$BH$26:$BH$599,\"Banc 145VRAIFAUXFAUXFAUXVRAI\",BDD!$Z$26:$Z$599)","v":2.2999999999999998},{"$f":"SUMIF(BDD!$BH$26:$BH$599,\"Banc 145FAUXVRAIVRAIFAUXFAUX\",BDD!$Z$26:$Z$599)","v":0},{"$f":"SUMIF(BDD!$BH$26:$BH$599,\"Banc 145FAUXVRAIFAUXVRAIFAUX\",BDD!$Z$26:$Z$599)","v":0},{"$f":"SUMIF(BDD!$BH$26:$BH$599,\"Banc 145FAUXVRAIFAUXFAUXVRAI\",BDD!$Z$26:$Z$599)","v":0},{"$f":"SUMIF(BDD!$BH$2:$BH$3,\"Banc 145VRAIFAUXVRAIFAUXFAUX\",BDD!$Z$2:$Z$3)","v":0},{"$f":"SUMIF(BDD!$BH$2:$BH$3,\"Banc 145VRAIFAUXFAUXVRAIFAUX\",BDD!$Z$2:$Z$3)","v":0},{"$f":"SUMIF(BDD!$BH$2:$BH$3,\"Banc 145VRAIFAUXFAUXFAUXVRAI\",BDD!$Z$2:$Z$3)","v":0},{"$f":"SUMIF(BDD!$BH$2:$BH$3,\"Banc 145FAUXVRAIVRAIFAUXFAUX\",BDD!$Z$2:$Z$3)","v":0},{"$f":"SUMIF(BDD!$BH$2:$BH$3,\"Banc 145FAUXVRAIFAUXVRAIFAUX\",BDD!$Z$2:$Z$3)","v":0},{"$f":"SUMIF(BDD!$BH$2:$BH$3,\"Banc 145FAUXVRAIFAUXFAUXVRAI\",BDD!$Z$2:$Z$3)","v":0},{"$f":"SUMIF(BDD!$BH$2:$BH$3,\"Banc 145VRAIFAUXVRAIFAUXFAUX\",BDD!$Z$2:$Z$3)","v":0},{"$f":"SUMIF(BDD!$BH$2:$BH$3,\"Banc 145VRAIFAUXFAUXVRAIFAUX\",BDD!$Z$2:$Z$3)","v":0},{"$f":"SUMIF(BDD!$BH$2:$BH$3,\"Banc 145VRAIFAUXFAUXFAUXVRAI\",BDD!$Z$2:$Z$3)","v":0},{"$f":"SUMIF(BDD!$BH$2:$BH$3,\"Banc 145FAUXVRAIVRAIFAUXFAUX\",BDD!$Z$2:$Z$3)","v":0},{"$f":"SUMIF(BDD!$BH$2:$BH$3,\"Banc 145FAUXVRAIFAUXVRAIFAUX\",BDD!$Z$2:$Z$3)","v":0},{"$f":"SUMIF(BDD!$BH$2:$BH$3,\"Banc 145FAUXVRAIFAUXFAUXVRAI\",BDD!$Z$2:$Z$3)","v":0},{"$f":"SUMIF(BDD!$BH$2:$BH$3,\"Banc 145VRAIFAUXVRAIFAUXFAUX\",BDD!$Z$2:$Z$3)","v":0},{"$f":"SUMIF(BDD!$BH$2:$BH$3,\"Banc 145VRAIFAUXFAUXVRAIFAUX\",BDD!$Z$2:$Z$3)","v":0},{"$f":"SUMIF(BDD!$BH$2:$BH$3,\"Banc 145VRAIFAUXFAUXFAUXVRAI\",BDD!$Z$2:$Z$3)","v":0},{"$f":"SUMIF(BDD!$BH$2:$BH$3,\"Banc 145FAUXVRAIVRAIFAUXFAUX\",BDD!$Z$2:$Z$3)","v":0},{"$f":"SUMIF(BDD!$BH$2:$BH$3,\"Banc 145FAUXVRAIFAUXVRAIFAUX\",BDD!$Z$2:$Z$3)","v":0},{"$f":"SUMIF(BDD!$BH$2:$BH$3,\"Banc 145FAUXVRAIFAUXFAUXVRAI\",BDD!$Z$2:$Z$3)","v":0},{"$f":"SUMIF(BDD!$BH$2:$BH$3,\"Banc 145VRAIFAUXVRAIFAUXFAUX\",BDD!$Z$2:$Z$3)","v":0},{"$f":"SUMIF(BDD!$BH$2:$BH$3,\"Banc 145VRAIFAUXFAUXVRAIFAUX\",BDD!$Z$2:$Z$3)","v":0},{"$f":"SUMIF(BDD!$BH$2:$BH$3,\"Banc 145VRAIFAUXFAUXFAUXVRAI\",BDD!$Z$2:$Z$3)","v":0},{"$f":"SUMIF(BDD!$BH$2:$BH$3,\"Banc 145FAUXVRAIVRAIFAUXFAUX\",BDD!$Z$2:$Z$3)","v":0},{"$f":"SUMIF(BDD!$BH$2:$BH$3,\"Banc 145FAUXVRAIFAUXVRAIFAUX\",BDD!$Z$2:$Z$3)","v":0},{"$f":"SUMIF(BDD!$BH$2:$BH$3,\"Banc 145FAUXVRAIFAUXFAUXVRAI\",BDD!$Z$2:$Z$3)","v":0},{"$f":"SUMIF(BDD!$BH$2:$BH$3,\"Banc 145VRAIFAUXVRAIFAUXFAUX\",BDD!$Z$2:$Z$3)","v":0},{"$f":"SUMIF(BDD!$BH$2:$BH$3,\"Banc 145VRAIFAUXFAUXVRAIFAUX\",BDD!$Z$2:$Z$3)","v":0},{"$f":"SUMIF(BDD!$BH$2:$BH$3,\"Banc 145VRAIFAUXFAUXFAUXVRAI\",BDD!$Z$2:$Z$3)","v":0},{"$f":"SUMIF(BDD!$BH$2:$BH$3,\"Banc 145FAUXVRAIVRAIFAUXFAUX\",BDD!$Z$2:$Z$3)","v":0},{"$f":"SUMIF(BDD!$BH$2:$BH$3,\"Banc 145FAUXVRAIFAUXVRAIFAUX\",BDD!$Z$2:$Z$3)","v":0},{"$f":"SUMIF(BDD!$BH$2:$BH$3,\"Banc 145FAUXVRAIFAUXFAUXVRAI\",BDD!$Z$2:$Z$3)","v":0},{"$f":"SUMIF(BDD!$BH$2:$BH$3,\"Banc 145VRAIFAUXVRAIFAUXFAUX\",BDD!$Z$2:$Z$3)","v":0},{"$f":"SUMIF(BDD!$BH$2:$BH$3,\"Banc 145VRAIFAUXFAUXVRAIFAUX\",BDD!$Z$2:$Z$3)","v":0},{"$f":"SUMIF(BDD!$BH$2:$BH$3,\"Banc 145VRAIFAUXFAUXFAUXVRAI\",BDD!$Z$2:$Z$3)","v":0},{"$f":"SUMIF(BDD!$BH$2:$BH$3,\"Banc 145FAUXVRAIVRAIFAUXFAUX\",BDD!$Z$2:$Z$3)","v":0},{"$f":"SUMIF(BDD!$BH$2:$BH$3,\"Banc 145FAUXVRAIFAUXVRAIFAUX\",BDD!$Z$2:$Z$3)","v":0},{"$f":"SUMIF(BDD!$BH$2:$BH$3,\"Banc 145FAUXVRAIFAUXFAUXVRAI\",BDD!$Z$2:$Z$3)","v":0},{"$f":"SUMIF(BDD!$BH$2:$BH$3,\"Banc 145VRAIFAUXVRAIFAUXFAUX\",BDD!$Z$2:$Z$3)","v":0},{"$f":"SUMIF(BDD!$BH$2:$BH$3,\"Banc 145VRAIFAUXFAUXVRAIFAUX\",BDD!$Z$2:$Z$3)","v":0},{"$f":"SUMIF(BDD!$BH$2:$BH$3,\"Banc 145VRAIFAUXFAUXFAUXVRAI\",BDD!$Z$2:$Z$3)","v":0},{"$f":"SUMIF(BDD!$BH$2:$BH$3,\"Banc 145FAUXVRAIVRAIFAUXFAUX\",BDD!$Z$2:$Z$3)","v":0},{"$f":"SUMIF(BDD!$BH$2:$BH$3,\"Banc 145FAUXVRAIFAUXVRAIFAUX\",BDD!$Z$2:$Z$3)","v":0},{"$f":"SUMIF(BDD!$BH$2:$BH$3,\"Banc 145FAUXVRAIFAUXFAUXVRAI\",BDD!$Z$2:$Z$3)","v":0},{"$f":"SUMIF(BDD!$BH$2:$BH$3,\"Banc 145VRAIFAUXVRAIFAUXFAUX\",BDD!$Z$2:$Z$3)","v":0},{"$f":"SUMIF(BDD!$BH$2:$BH$3,\"Banc 145VRAIFAUXFAUXVRAIFAUX\",BDD!$Z$2:$Z$3)","v":0},{"$f":"SUMIF(BDD!$BH$2:$BH$3,\"Banc 145VRAIFAUXFAUXFAUXVRAI\",BDD!$Z$2:$Z$3)","v":0},{"$f":"SUMIF(BDD!$BH$2:$BH$3,\"Banc 145FAUXVRAIVRAIFAUXFAUX\",BDD!$Z$2:$Z$3)","v":0},{"$f":"SUMIF(BDD!$BH$2:$BH$3,\"Banc 145FAUXVRAIFAUXVRAIFAUX\",BDD!$Z$2:$Z$3)","v":0},{"$f":"SUMIF(BDD!$BH$2:$BH$3,\"Banc 145FAUXVRAIFAUXFAUXVRAI\",BDD!$Z$2:$Z$3)","v":0}]
["Banc cisaillement",{"$f":"SUMIF(BDD!$BH$2:$BH$3,\"Banc cisaillementVRAIFAUXVRAIFAUXFAUX\",BDD!$Z$2:$Z$3)","v":0},{"$f":"SUMIF(BDD!$BH$2:$BH$3,\"Banc cisaillementVRAIFAUXFAUXVRAIFAUX\",BDD!$Z$2:$Z$3)","v":0},{"$f":"SUMIF(BDD!$BH$2:$BH$3,\"Banc cisaillementVRAIFAUXFAUXFAUXVRAI\",BDD!$Z$2:$Z$3)","v":0},{"$f":"SUMIF(BDD!$BH$2:$BH$3,\"Banc cisaillementFAUXVRAIVRAIFAUXFAUX\",BDD!$Z$2:$Z$3)","v":0},{"$f":"SUMIF(BDD!$BH$2:$BH$3,\"Banc cisaillementFAUXVRAIFAUXVRAIFAUX\",BDD!$Z$2:$Z$3)","v":0},{"$f":"SUMIF(BDD!$BH$2:$BH$3,\"Banc cisaillementFAUXVRAIFAUXFAUXVRAI\",BDD!$Z$2:$Z$3)","v":0},{"$f":"SUMIF(BDD!$BH$2:$BH$3,\"Banc cisaillementVRAIFAUXVRAIFAUXFAUX\",BDD!$Z$2:$Z$3)","v":0},{"$f":"SUMIF(BDD!$BH$2:$BH$3,\"Banc cisaillementVRAIFAUXFAUXVRAIFAUX\",BDD!$Z$2:$Z$3)","v":0},{"$f":"SUMIF(BDD!$BH$2:$BH$3,\"Banc cisaillementVRAIFAUXFAUXFAUXVRAI\",BDD!$Z$2:$Z$3)","v":0},{"$f":"SUMIF(BDD!$BH$2:$BH$3,\"Banc cisaillementFAUXVRAIVRAIFAUXFAUX\",BDD!$Z$2:$Z$3)","v":0},{"$f":"SUMIF(BDD!$BH$2:$BH$3,\"Banc cisaillementFAUXVRAIFAUXVRAIFAUX\",BDD!$Z$2:$Z$3)","v":0},{"$f":"SUMIF(BDD!$BH$2:$BH$3,\"Banc cisaillementFAUXVRAIFAUXFAUXVRAI\",BDD!$Z$2:$Z$3)","v":0},{"$f":"SUMIF(BDD!$BH$2:$BH$25,\"Banc cisaillementVRAIFAUXVRAIFAUXFAUX\",BDD!$Z$2:$Z$25)","v":0},{"$f":"SUMIF(BDD!$BH$2:$BH$25,\"Banc cisaillementVRAIFAUXFAUXVRAIFAUX\",BDD!$Z$2:$Z$25)","v":0},{"$f":"SUMIF(BDD!$BH$2:$BH$25,\"Banc cisaillementVRAIFAUXFAUXFAUXVRAI\",BDD!$Z$2:$Z$25)","v":0},{"$f":"SUMIF(BDD!$BH$2:$BH$25,\"Banc cisaillementFAUXVRAIVRAIFAUXFAUX\",BDD!$Z$2:$Z$25)","v":0},{"$f":"SUMIF(BDD!$BH$2:$BH$25,\"Banc cisaillementFAUXVRAIFAUXVRAIFAUX\",BDD!$Z$2:$Z$25)","v":0},{"$f":"SUMIF(BDD!$BH$2:$BH$25,\"Banc cisaillementFAUXVRAIFAUXFAUXVRAI\",BDD!$Z$2:$Z$25)","v":0},{"$f":"SUMIF(BDD!$BH$26:$BH$599,\"Banc cisaillementVRAIFAUXVRAIFAUXFAUX\",BDD!$Z$26:$Z$599)","v":0},{"$f":"SUMIF(BDD!$BH$26:$BH$599,\"Banc cisaillementVRAIFAUXFAUXVRAIFAUX\",BDD!$Z$26:$Z$599)","v":0},{"$f":"SUMIF(BDD!$BH$26:$BH$599,\"Banc cisaillementVRAIFAUXFAUXFAUXVRAI\",BDD!$Z$26:$Z$599)","v":0},{"$f":"SUMIF(BDD!$BH$26:$BH$599,\"Banc cisaillementFAUXVRAIVRAIFAUXFAUX\",BDD!$Z$26:$Z$599)","v":0},{"$f":"SUMIF(BDD!$BH$26:$BH$599,\"Banc cisaillementFAUXVRAIFAUXVRAIFAUX\",BDD!$Z$26:$Z$599)","v":0},{"$f":"SUMIF(BDD!$BH$26:$BH$599,\"Banc cisaillementFAUXVRAIFAUXFAUXVRAI\",BDD!$Z$26:$Z$599)","v":0},{"$f":"SUMIF(BDD!$BH$2:$BH$3,\"Banc cisaillementVRAIFAUXVRAIFAUXFAUX\",BDD!$Z$2:$Z$3)","v":0},{"$f":"SUMIF(BDD!$BH$2:$BH$3,\"Banc cisaillementVRAIFAUXFAUXVRAIFAUX\",BDD!$Z$2:$Z$3)","v":0},{"$f":"SUMIF(BDD!$BH$2:$BH$3,\"Banc cisaillementVRAIFAUXFAUXFAUXVRAI\",BDD!$Z$2:$Z$3)","v":0},{"$f":"SUMIF(BDD!$BH$2:$BH$3,\"Banc cisaillementFAUXVRAIVRAIFAUXFAUX\",BDD!$Z$2:$Z$3)","v":0},{"$f":"SUMIF(BDD!$BH$2:$BH$3,\"Banc cisaillementFAUXVRAIFAUXVRAIFAUX\",BDD!$Z$2:$Z$3)","v":0},{"$f":"SUMIF(BDD!$BH$2:$BH$3,\"Banc cisaillementFAUXVRAIFAUXFAUXVRAI\",BDD!$Z$2:$Z$3)","v":0},{"$f":"SUMIF(BDD!$BH$2:$BH$3,\"Banc cisaillementVRAIFAUXVRAIFAUXFAUX\",BDD!$Z$2:$Z$3)","v":0},{"$f":"SUMIF(BDD!$BH$2:$BH$3,\"Banc cisaillementVRAIFAUXFAUXVRAIFAUX\",BDD!$Z$2:$Z$3)","v":0},{"$f":"SUMIF(BDD!$BH$2:$BH$3,\"Banc cisaillementVRAIFAUXFAUXFAUXVRAI\",BDD!$Z$2:$Z$3)","v":0},{"$f":"SUMIF(BDD!$BH$2:$BH$3,\"Banc cisaillementFAUXVRAIVRAIFAUXFAUX\",BDD!$Z$2:$Z$3)","v":0},{"$f":"SUMIF(BDD!$BH$2:$BH$3,\"Banc cisaillementFAUXVRAIFAUXVRAIFAUX\",BDD!$Z$2:$Z$3)","v":0},{"$f":"SUMIF(BDD!$BH$2:$BH$3,\"Banc cisaillementFAUXVRAIFAUXFAUXVRAI\",BDD!$Z$2:$Z$3)","v":0},{"$f":"SUMIF(BDD!$BH$2:$BH$3,\"Banc cisaillementVRAIFAUXVRAIFAUXFAUX\",BDD!$Z$2:$Z$3)","v":0},{"$f":"SUMIF(BDD!$BH$2:$BH$3,\"Banc cisaillementVRAIFAUXFAUXVRAIFAUX\",BDD!$Z$2:$Z$3)","v":0},{"$f":"SUMIF(BDD!$BH$2:$BH$3,\"Banc cisaillementVRAIFAUXFAUXFAUXVRAI\",BDD!$Z$2:$Z$3)","v":0},{"$f":"SUMIF(BDD!$BH$2:$BH$3,\"Banc cisaillementFAUXVRAIVRAIFAUXFAUX\",BDD!$Z$2:$Z$3)","v":0},{"$f":"SUMIF(BDD!$BH$2:$BH$3,\"Banc cisaillementFAUXVRAIFAUXVRAIFAUX\",BDD!$Z$2:$Z$3)","v":0},{"$f":"SUMIF(BDD!$BH$2:$BH$3,\"Banc cisaillementFAUXVRAIFAUXFAUXVRAI\",BDD!$Z$2:$Z$3)","v":0},{"$f":"SUMIF(BDD!$BH$2:$BH$3,\"Banc cisaillementVRAIFAUXVRAIFAUXFAUX\",BDD!$Z$2:$Z$3)","v":0},{"$f":"SUMIF(BDD!$BH$2:$BH$3,\"Banc cisaillementVRAIFAUXFAUXVRAIFAUX\",BDD!$Z$2:$Z$3)","v":0},{"$f":"SUMIF(BDD!$BH$2:$BH$3,\"Banc cisaillementVRAIFAUXFAUXFAUXVRAI\",BDD!$Z$2:$Z$3)","v":0},{"$f":"SUMIF(BDD!$BH$2:$BH$3,\"Banc cisaillementFAUXVRAIVRAIFAUXFAUX\",BDD!$Z$2:$Z$3)","v":0},{"$f":"SUMIF(BDD!$BH$2:$BH$3,\"Banc cisaillementFAUXVRAIFAUXVRAIFAUX\",BDD!$Z$2:$Z$3)","v":0},{"$f":"SUMIF(BDD!$BH$2:$BH$3,\"Banc cisaillementFAUXVRAIFAUXFAUXVRAI\",BDD!$Z$2:$Z$3)","v":0},{"$f":"SUMIF(BDD!$BH$2:$BH$3,\"Banc cisaillementVRAIFAUXVRAIFAUXFAUX\",BDD!$Z$2:$Z$3)","v":0},{"$f":"SUMIF(BDD!$BH$2:$BH$3,\"Banc cisaillementVRAIFAUXFAUXVRAIFAUX\",BDD!$Z$2:$Z$3)","v":0},{"$f":"SUMIF(BDD!$BH$2:$BH$3,\"Banc cisaillementVRAIFAUXFAUXFAUXVRAI\",BDD!$Z$2:$Z$3)","v":0},{"$f":"SUMIF(BDD!$BH$2:$BH$3,\"Banc cisaillementFAUXVRAIVRAIFAUXFAUX\",BDD!$Z$2:$Z$3)","v":0},{"$f":"SUMIF(BDD!$BH$2:$BH$3,\"Banc cisaillementFAUXVRAIFAUXVRAIFAUX\",BDD!$Z$2:$Z$3)","v":0},{"$f":"SUMIF(BDD!$BH$2:$BH$3,\"Banc cisaillementFAUXVRAIFAUXFAUXVRAI\",BDD!$Z$2:$Z$3)","v":0},{"$f":"SUMIF(BDD!$BH$2:$BH$3,\"Banc cisaillementVRAIFAUXVRAIFAUXFAUX\",BDD!$Z$2:$Z$3)","v":0},{"$f":"SUMIF(BDD!$BH$2:$BH$3,\"Banc cisaillementVRAIFAUXFAUXVRAIFAUX\",BDD!$Z$2:$Z$3)","v":0},{"$f":"SUMIF(BDD!$BH$2:$BH$3,\"Banc cisaillementVRAIFAUXFAUXFAUXVRAI\",BDD!$Z$2:$Z$3)","v":0},{"$f":"SUMIF(BDD!$BH$2:$BH$3,\"Banc cisaillementFAUXVRAIVRAIFAUXFAUX\",BDD!$Z$2:$Z$3)","v":0},{"$f":"SUMIF(BDD!$BH$2:$BH$3,\"Banc cisaillementFAUXVRAIFAUXVRAIFAUX\",BDD!$Z$2:$Z$3)","v":0},{"$f":"SUMIF(BDD!$BH$2:$BH$3,\"Banc cisaillementFAUXVRAIFAUXFAUXVRAI\",BDD!$Z$2:$Z$3)","v":0},{"$f":"SUMIF(BDD!$BH$2:$BH$3,\"Banc cisaillementVRAIFAUXVRAIFAUXFAUX\",BDD!$Z$2:$Z$3)","v":0},{"$f":"SUMIF(BDD!$BH$2:$BH$3,\"Banc cisaillementVRAIFAUXFAUXVRAIFAUX\",BDD!$Z$2:$Z$3)","v":0},{"$f":"SUMIF(BDD!$BH$2:$BH$3,\"Banc cisaillementVRAIFAUXFAUXFAUXVRAI\",BDD!$Z$2:$Z$3)","v":0},{"$f":"SUMIF(BDD!$BH$2:$BH$3,\"Banc cisaillementFAUXVRAIVRAIFAUXFAUX\",BDD!$Z$2:$Z$3)","v":0},{"$f":"SUMIF(BDD!$BH$2:$BH$3,\"Banc cisaillementFAUXVRAIFAUXVRAIFAUX\",BDD!$Z$2:$Z$3)","v":0},{"$f":"SUMIF(BDD!$BH$2:$BH$3,\"Banc cisaillementFAUXVRAIFAUXFAUXVRAI\",BDD!$Z$2:$Z$3)","v":0},{"$f":"SUMIF(BDD!$BH$2:$BH$3,\"Banc cisaillementVRAIFAUXVRAIFAUXFAUX\",BDD!$Z$2:$Z$3)","v":0},{"$f":"SUMIF(BDD!$BH$2:$BH$3,\"Banc cisaillementVRAIFAUXFAUXVRAIFAUX\",BDD!$Z$2:$Z$3)","v":0},{"$f":"SUMIF(BDD!$BH$2:$BH$3,\"Banc cisaillementVRAIFAUXFAUXFAUXVRAI\",BDD!$Z$2:$Z$3)","v":0},{"$f":"SUMIF(BDD!$BH$2:$BH$3,\"Banc cisaillementFAUXVRAIVRAIFAUXFAUX\",BDD!$Z$2:$Z$3)","v":0},{"$f":"SUMIF(BDD!$BH$2:$BH$3,\"Banc cisaillementFAUXVRAIFAUXVRAIFAUX\",BDD!$Z$2:$Z$3)","v":0},{"$f":"SUMIF(BDD!$BH$2:$BH$3,\"Banc cisaillementFAUXVRAIFAUXFAUXVRAI\",BDD!$Z$2:$Z$3)","v":0}]
["Banc HP",{"$f":"SUMIF(BDD!$BH$2:$BH$3,\"Banc HPVRAIFAUXVRAIFAUXFAUX\",BDD!$Z$2:$Z$3)","v":0},{"$f":"SUMIF(BDD!$BH$2:$BH$3,\"Banc HPVRAIFAUXFAUXVRAIFAUX\",BDD!$Z$2:$Z$3)","v":0},{"$f":"SUMIF(BDD!$BH$2:$BH$3,\"Banc HPVRAIFAUXFAUXFAUXVRAI\",BDD!$Z$2:$Z$3)","v":0},{"$f":"SUMIF(BDD!$BH$2:$BH$3,\"Banc HPFAUXVRAIVRAIFAUXFAUX\",BDD!$Z$2:$Z$3)","v":0},{"$f":"SUMIF(BDD!$BH$2:$BH$3,\"Banc HPFAUXVRAIFAUXVRAIFAUX\",BDD!$Z$2:$Z$3)","v":0},{"$f":"SUMIF(BDD!$BH$2:$BH$3,\"Banc HPFAUXVRAIFAUXFAUXVRAI\",BDD!$Z$2:$Z$3)","v":0},{"$f":"SUMIF(BDD!$BH$2:$BH$3,\"Banc HPVRAIFAUXVRAIFAUXFAUX\",BDD!$Z$2:$Z$3)","v":0},{"$f":"SUMIF(BDD!$BH$2:$BH$3,\"Banc HPVRAIFAUXFAUXVRAIFAUX\",BDD!$Z$2:$Z$3)","v":0},{"$f":"SUMIF(BDD!$BH$2:$BH$3,\"Banc HPVRAIFAUXFAUXFAUXVRAI\",BDD!$Z$2:$Z$3)","v":0},{"$f":"SUMIF(BDD!$BH$2:$BH$3,\"Banc HPFAUXVRAIVRAIFAUXFAUX\",BDD!$Z$2:$Z$3)","v":0},{"$f":"SUMIF(BDD!$BH$2:$BH$3,\"Banc HPFAUXVRAIFAUXVRAIFAUX\",BDD!$Z$2:$Z$3)","v":0},{"$f":"SUMIF(BDD!$BH$2:$BH$3,\"Banc HPFAUXVRAIFAUXFAUXVRAI\",BDD!$Z$2:$Z$3)","v":0},{"$f":"SUMIF(BDD!$BH$2:$BH$25,\"Banc HPVRAIFAUXVRAIFAUXFAUX\",BDD!$Z$2:$Z$25)","v":0},{"$f":"SUMIF(BDD!$BH$2:$BH$25,\"Banc HPVRAIFAUXFAUXVRAIFAUX\",BDD!$Z$2:$Z$25)","v":0},{"$f":"SUMIF(BDD!$BH$2:$BH$25,\"Banc HPVRAIFAUXFAUXFAUXVRAI\",BDD!$Z$2:$Z$25)","v":0},{"$f":"SUMIF(BDD!$BH$2:$BH$25,\"Banc HPFAUXVRAIVRAIFAUXFAUX\",BDD!$Z$2:$Z$25)","v":0},{"$f":"SUMIF(BDD!$BH$2:$BH$25,\"Banc HPFAUXVRAIFAUXVRAIFAUX\",BDD!$Z$2:$Z$25)","v":0},{"$f":"SUMIF(BDD!$BH$2:$BH$25,\"Banc HPFAUXVRAIFAUXFAUXVRAI\",BDD!$Z$2:$Z$25)","v":0},{"$f":"SUMIF(BDD!$BH$26:$BH$599,\"Banc HPVRAIFAUXVRAIFAUXFAUX\",BDD!$Z$26:$Z$599)","v":0},{"$f":"SUMIF(BDD!$BH$26:$BH$599,\"Banc HPVRAIFAUXFAUXVRAIFAUX\",BDD!$Z$26:$Z$599)","v":0},{"$f":"SUMIF(BDD!$BH$26:$BH$599,\"Banc HPVRAIFAUXFAUXFAUXVRAI\",BDD!$Z$26:$Z$599)","v":0},{"$f":"SUMIF(BDD!$BH$26:$BH$599,\"Banc HPFAUXVRAIVRAIFAUXFAUX\",BDD!$Z$26:$Z$599)","v":0},{"$f":"SUMIF(BDD!$BH$26:$BH$599,\"Banc HPFAUXVRAIFAUXVRAIFAUX\",BDD!$Z$26:$Z$599)","v":0},{"$f":"SUMIF(BDD!$BH$26:$BH$599,\"Banc HPFAUXVRAIFAUXFAUXVRAI\",BDD!$Z$26:$Z$599)","v":0},{"$f":"SUMIF(BDD!$BH$2:$BH$3,\"Banc HPVRAIFAUXVRAIFAUXFAUX\",BDD!$Z$2:$Z$3)","v":0},{"$f":"SUMIF(BDD!$BH$2:$BH$3,\"Banc HPVRAIFAUXFAUXVRAIFAUX\",BDD!$Z$2:$Z$3)","v":0},{"$f":"SUMIF(BDD!$BH$2:$BH$3,\"Banc HPVRAIFAUXFAUXFAUXVRAI\",BDD!$Z$2:$Z$3)","v":0},{"$f":"SUMIF(BDD!$BH$2:$BH$3,\"Banc HPFAUXVRAIVRAIFAUXFAUX\",BDD!$Z$2:$Z$3)","v":0},{"$f":"SUMIF(BDD!$BH$2:$BH$3,\"Banc HPFAUXVRAIFAUXVRAIFAUX\",BDD!$Z$2:$Z$3)","v":0},{"$f":"SUMIF(BDD!$BH$2:$BH$3,\"Banc HPFAUXVRAIFAUXFAUXVRAI\",BDD!$Z$2:$Z$3)","v":0},{"$f":"SUMIF(BDD!$BH$2:$BH$3,\"Banc HPVRAIFAUXVRAIFAUXFAUX\",BDD!$Z$2:$Z$3)","v":0},{"$f":"SUMIF(BDD!$BH$2:$BH$3,\"Banc HPVRAIFAUXFAUXVRAIFAUX\",BDD!$Z$2:$Z$3)","v":0},{"$f":"SUMIF(BDD!$BH$2:$BH$3,\"Banc HPVRAIFAUXFAUXFAUXVRAI\",BDD!$Z$2:$Z$3)","v":0},{"$f":"SUMIF(BDD!$BH$2:$BH$3,\"Banc HPFAUXVRAIVRAIFAUXFAUX\",BDD!$Z$2:$Z$3)","v":0},{"$f":"SUMIF(BDD!$BH$2:$BH$3,\"Banc HPFAUXVRAIFAUXVRAIFAUX\",BDD!$Z$2:$Z$3)","v":0},{"$f":"SUMIF(BDD!$BH$2:$BH$3,\"Banc HPFAUXVRAIFAUXFAUXVRAI\",BDD!$Z$2:$Z$3)","v":0},{"$f":"SUMIF(BDD!$BH$2:$BH$3,\"Banc HPVRAIFAUXVRAIFAUXFAUX\",BDD!$Z$2:$Z$3)","v":0},{"$f":"SUMIF(BDD!$BH$2:$BH$3,\"Banc HPVRAIFAUXFAUXVRAIFAUX\",BDD!$Z$2:$Z$3)","v":0},{"$f":"SUMIF(BDD!$BH$2:$BH$3,\"Banc HPVRAIFAUXFAUXFAUXVRAI\",BDD!$Z$2:$Z$3)","v":0},{"$f":"SUMIF(BDD!$BH$2:$BH$3,\"Banc HPFAUXVRAIVRAIFAUXFAUX\",BDD!$Z$2:$Z$3)","v":0},{"$f":"SUMIF(BDD!$BH$2:$BH$3,\"Banc HPFAUXVRAIFAUXVRAIFAUX\",BDD!$Z$2:$Z$3)","v":0},{"$f":"SUMIF(BDD!$BH$2:$BH$3,\"Banc HPFAUXVRAIFAUXFAUXVRAI\",BDD!$Z$2:$Z$3)","v":0},{"$f":"SUMIF(BDD!$BH$2:$BH$3,\"Banc HPVRAIFAUXVRAIFAUXFAUX\",BDD!$Z$2:$Z$3)","v":0},{"$f":"SUMIF(BDD!$BH$2:$BH$3,\"Banc HPVRAIFAUXFAUXVRAIFAUX\",BDD!$Z$2:$Z$3)","v":0},{"$f":"SUMIF(BDD!$BH$2:$BH$3,\"Banc HPVRAIFAUXFAUXFAUXVRAI\",BDD!$Z$2:$Z$3)","v":0},{"$f":"SUMIF(BDD!$BH$2:$BH$3,\"Banc HPFAUXVRAIVRAIFAUXFAUX\",BDD!$Z$2:$Z$3)","v":0},{"$f":"SUMIF(BDD!$BH$2:$BH$3,\"Banc HPFAUXVRAIFAUXVRAIFAUX\",BDD!$Z$2:$Z$3)","v":0},{"$f":"SUMIF(BDD!$BH$2:$BH$3,\"Banc HPFAUXVRAIFAUXFAUXVRAI\",BDD!$Z$2:$Z$3)","v":0},{"$f":"SUMIF(BDD!$BH$2:$BH$3,\"Banc HPVRAIFAUXVRAIFAUXFAUX\",BDD!$Z$2:$Z$3)","v":0},{"$f":"SUMIF(BDD!$BH$2:$BH$3,\"Banc HPVRAIFAUXFAUXVRAIFAUX\",BDD!$Z$2:$Z$3)","v":0},{"$f":"SUMIF(BDD!$BH$2:$BH$3,\"Banc HPVRAIFAUXFAUXFAUXVRAI\",BDD!$Z$2:$Z$3)","v":0},{"$f":"SUMIF(BDD!$BH$2:$BH$3,\"Banc HPFAUXVRAIVRAIFAUXFAUX\",BDD!$Z$2:$Z$3)","v":0},{"$f":"SUMIF(BDD!$BH$2:$BH$3,\"Banc HPFAUXVRAIFAUXVRAIFAUX\",BDD!$Z$2:$Z$3)","v":0},{"$f":"SUMIF(BDD!$BH$2:$BH$3,\"Banc HPFAUXVRAIFAUXFAUXVRAI\",BDD!$Z$2:$Z$3)","v":0},{"$f":"SUMIF(BDD!$BH$2:$BH$3,\"Banc HPVRAIFAUXVRAIFAUXFAUX\",BDD!$Z$2:$Z$3)","v":0},{"$f":"SUMIF(BDD!$BH$2:$BH$3,\"Banc HPVRAIFAUXFAUXVRAIFAUX\",BDD!$Z$2:$Z$3)","v":0},{"$f":"SUMIF(BDD!$BH$2:$BH$3,\"Banc HPVRAIFAUXFAUXFAUXVRAI\",BDD!$Z$2:$Z$3)","v":0},{"$f":"SUMIF(BDD!$BH$2:$BH$3,\"Banc HPFAUXVRAIVRAIFAUXFAUX\",BDD!$Z$2:$Z$3)","v":0},{"$f":"SUMIF(BDD!$BH$2:$BH$3,\"Banc HPFAUXVRAIFAUXVRAIFAUX\",BDD!$Z$2:$Z$3)","v":0},{"$f":"SUMIF(BDD!$BH$2:$BH$3,\"Banc HPFAUXVRAIFAUXFAUXVRAI\",BDD!$Z$2:$Z$3)","v":0},{"$f":"SUMIF(BDD!$BH$2:$BH$3,\"Banc HPVRAIFAUXVRAIFAUXFAUX\",BDD!$Z$2:$Z$3)","v":0},{"$f":"SUMIF(BDD!$BH$2:$BH$3,\"Banc HPVRAIFAUXFAUXVRAIFAUX\",BDD!$Z$2:$Z$3)","v":0},{"$f":"SUMIF(BDD!$BH$2:$BH$3,\"Banc HPVRAIFAUXFAUXFAUXVRAI\",BDD!$Z$2:$Z$3)","v":0},{"$f":"SUMIF(BDD!$BH$2:$BH$3,\"Banc HPFAUXVRAIVRAIFAUXFAUX\",BDD!$Z$2:$Z$3)","v":0},{"$f":"SUMIF(BDD!$BH$2:$BH$3,\"Banc HPFAUXVRAIFAUXVRAIFAUX\",BDD!$Z$2:$Z$3)","v":0},{"$f":"SUMIF(BDD!$BH$2:$BH$3,\"Banc HPFAUXVRAIFAUXFAUXVRAI\",BDD!$Z$2:$Z$3)","v":0},{"$f":"SUMIF(BDD!$BH$2:$BH$3,\"Banc HPVRAIFAUXVRAIFAUXFAUX\",BDD!$Z$2:$Z$3)","v":0},{"$f":"SUMIF(BDD!$BH$2:$BH$3,\"Banc HPVRAIFAUXFAUXVRAIFAUX\",BDD!$Z$2:$Z$3)","v":0},{"$f":"SUMIF(BDD!$BH$2:$BH$3,\"Banc HPVRAIFAUXFAUXFAUXVRAI\",BDD!$Z$2:$Z$3)","v":0},{"$f":"SUMIF(BDD!$BH$2:$BH$3,\"Banc HPFAUXVRAIVRAIFAUXFAUX\",BDD!$Z$2:$Z$3)","v":0},{"$f":"SUMIF(BDD!$BH$2:$BH$3,\"Banc HPFAUXVRAIFAUXVRAIFAUX\",BDD!$Z$2:$Z$3)","v":0},{"$f":"SUMIF(BDD!$BH$2:$BH$3,\"Banc HPFAUXVRAIFAUXFAUXVRAI\",BDD!$Z$2:$Z$3)","v":0}]
["Banc W+B",{"$f":"SUMIF(BDD!$BH$2:$BH$3,\"Banc W+BVRAIFAUXVRAIFAUXFAUX\",BDD!$Z$2:$Z$3)","v":0},{"$f":"SUMIF(BDD!$BH$2:$BH$3,\"Banc W+BVRAIFAUXFAUXVRAIFAUX\",BDD!$Z$2:$Z$3)","v":0},{"$f":"SUMIF(BDD!$BH$2:$BH$3,\"Banc W+BVRAIFAUXFAUXFAUXVRAI\",BDD!$Z$2:$Z$3)","v":0},{"$f":"SUMIF(BDD!$BH$2:$BH$3,\"Banc W+BFAUXVRAIVRAIFAUXFAUX\",BDD!$Z$2:$Z$3)","v":0},{"$f":"SUMIF(BDD!$BH$2:$BH$3,\"Banc W+BFAUXVRAIFAUXVRAIFAUX\",BDD!$Z$2:$Z$3)","v":0},{"$f":"SUMIF(BDD!$BH$2:$BH$3,\"Banc W+BFAUXVRAIFAUXFAUXVRAI\",BDD!$Z$2:$Z$3)","v":0},{"$f":"SUMIF(BDD!$BH$2:$BH$3,\"Banc W+BVRAIFAUXVRAIFAUXFAUX\",BDD!$Z$2:$Z$3)","v":0},{"$f":"SUMIF(BDD!$BH$2:$BH$3,\"Banc W+BVRAIFAUXFAUXVRAIFAUX\",BDD!$Z$2:$Z$3)","v":0},{"$f":"SUMIF(BDD!$BH$2:$BH$3,\"Banc W+BVRAIFAUXFAUXFAUXVRAI\",BDD!$Z$2:$Z$3)","v":0},{"$f":"SUMIF(BDD!$BH$2:$BH$3,\"Banc W+BFAUXVRAIVRAIFAUXFAUX\",BDD!$Z$2:$Z$3)","v":0},{"$f":"SUMIF(BDD!$BH$2:$BH$3,\"Banc W+BFAUXVRAIFAUXVRAIFAUX\",BDD!$Z$2:$Z$3)","v":0},{"$f":"SUMIF(BDD!$BH$2:$BH$3,\"Banc W+BFAUXVRAIFAUXFAUXVRAI\",BDD!$Z$2:$Z$3)","v":0},{"$f":"SUMIF(BDD!$BH$2:$BH$25,\"Banc W+BVRAIFAUXVRAIFAUXFAUX\",BDD!$Z$2:$Z$25)","v":0},{"$f":"SUMIF(BDD!$BH$2:$BH$25,\"Banc W+BVRAIFAUXFAUXVRAIFAUX\",BDD!$Z$2:$Z$25)","v":0},{"$f":"SUMIF(BDD!$BH$2:$BH$25,\"Banc W+BVRAIFAUXFAUXFAUXVRAI\",BDD!$Z$2:$Z$25)","v":0},{"$f":"SUMIF(BDD!$BH$2:$BH$25,\"Banc W+BFAUXVRAIVRAIFAUXFAUX\",BDD!$Z$2:$Z$25)","v":0},{"$f":"SUMIF(BDD!$BH$2:$BH$25,\"Banc W+BFAUXVRAIFAUXVRAIFAUX\",BDD!$Z$2:$Z$25)","v":0},{"$f":"SUMIF(BDD!$BH$2:$BH$25,\"Banc W+BFAUXVRAIFAUXFAUXVRAI\",BDD!$Z$2:$Z$25)","v":0},{"$f":"SUMIF(BDD!$BH$26:$BH$599,\"Banc W+BVRAIFAUXVRAIFAUXFAUX\",BDD!$Z$26:$Z$599)","v":0},{"$f":"SUMIF(BDD!$BH$26:$BH$599,\"Banc W+BVRAIFAUXFAUXVRAIFAUX\",BDD!$Z$26:$Z$599)","v":0},{"$f":"SUMIF(BDD!$BH$26:$BH$599,\"Banc W+BVRAIFAUXFAUXFAUXVRAI\",BDD!$Z$26:$Z$599)","v":0},{"$f":"SUMIF(BDD!$BH$26:$BH$599,\"Banc W+BFAUXVRAIVRAIFAUXFAUX\",BDD!$Z$26:$Z$599)","v":0},{"$f":"SUMIF(BDD!$BH$26:$BH$599,\"Banc W+BFAUXVRAIFAUXVRAIFAUX\",BDD!$Z$26:$Z$599)","v":0},{"$f":"SUMIF(BDD!$BH$26:$BH$599,\"Banc W+BFAUXVRAIFAUXFAUXVRAI\",BDD!$Z$26:$Z$599)","v":0},{"$f":"SUMIF(BDD!$BH$2:$BH$3,\"Banc W+BVRAIFAUXVRAIFAUXFAUX\",BDD!$Z$2:$Z$3)","v":0},{"$f":"SUMIF(BDD!$BH$2:$BH$3,\"Banc W+BVRAIFAUXFAUXVRAIFAUX\",BDD!$Z$2:$Z$3)","v":0},{"$f":"SUMIF(BDD!$BH$2:$BH$3,\"Banc W+BVRAIFAUXFAUXFAUXVRAI\",BDD!$Z$2:$Z$3)","v":0},{"$f":"SUMIF(BDD!$BH$2:$BH$3,\"Banc W+BFAUXVRAIVRAIFAUXFAUX\",BDD!$Z$2:$Z$3)","v":0},{"$f":"SUMIF(BDD!$BH$2:$BH$3,\"Banc W+BFAUXVRAIFAUXVRAIFAUX\",BDD!$Z$2:$Z$3)","v":0},{"$f":"SUMIF(BDD!$BH$2:$BH$3,\"Banc W+BFAUXVRAIFAUXFAUXVRAI\",BDD!$Z$2:$Z$3)","v":0},{"$f":"SUMIF(BDD!$BH$2:$BH$3,\"Banc W+BVRAIFAUXVRAIFAUXFAUX\",BDD!$Z$2:$Z$3)","v":0},{"$f":"SUMIF(BDD!$BH$2:$BH$3,\"Banc W+BVRAIFAUXFAUXVRAIFAUX\",BDD!$Z$2:$Z$3)","v":0},{"$f":"SUMIF(BDD!$BH$2:$BH$3,\"Banc W+BVRAIFAUXFAUXFAUXVRAI\",BDD!$Z$2:$Z$3)","v":0},{"$f":"SUMIF(BDD!$BH$2:$BH$3,\"Banc W+BFAUXVRAIVRAIFAUXFAUX\",BDD!$Z$2:$Z$3)","v":0},{"$f":"SUMIF(BDD!$BH$2:$BH$3,\"Banc W+BFAUXVRAIFAUXVRAIFAUX\",BDD!$Z$2:$Z$3)","v":0},{"$f":"SUMIF(BDD!$BH$2:$BH$3,\"Banc W+BFAUXVRAIFAUXFAUXVRAI\",BDD!$Z$2:$Z$3)","v":0},{"$f":"SUMIF(BDD!$BH$2:$BH$3,\"Banc W+BVRAIFAUXVRAIFAUXFAUX\",BDD!$Z$2:$Z$3)","v":0},{"$f":"SUMIF(BDD!$BH$2:$BH$3,\"Banc W+BVRAIFAUXFAUXVRAIFAUX\",BDD!$Z$2:$Z$3)","v":0},{"$f":"SUMIF(BDD!$BH$2:$BH$3,\"Banc W+BVRAIFAUXFAUXFAUXVRAI\",BDD!$Z$2:$Z$3)","v":0},{"$f":"SUMIF(BDD!$BH$2:$BH$3,\"Banc W+BFAUXVRAIVRAIFAUXFAUX\",BDD!$Z$2:$Z$3)","v":0},{"$f":"SUMIF(BDD!$BH$2:$BH$3,\"Banc W+BFAUXVRAIFAUXVRAIFAUX\",BDD!$Z$2:$Z$3)","v":0},{"$f":"SUMIF(BDD!$BH$2:$BH$3,\"Banc W+BFAUXVRAIFAUXFAUXVRAI\",BDD!$Z$2:$Z$3)","v":0},{"$f":"SUMIF(BDD!$BH$2:$BH$3,\"Banc W+BVRAIFAUXVRAIFAUXFAUX\",BDD!$Z$2:$Z$3)","v":0},{"$f":"SUMIF(BDD!$BH$2:$BH$3,\"Banc W+BVRAIFAUXFAUXVRAIFAUX\",BDD!$Z$2:$Z$3)","v":0},{"$f":"SUMIF(BDD!$BH$2:$BH$3,\"Banc W+BVRAIFAUXFAUXFAUXVRAI\",BDD!$Z$2:$Z$3)","v":0},{"$f":"SUMIF(BDD!$BH$2:$BH$3,\"Banc W+BFAUXVRAIVRAIFAUXFAUX\",BDD!$Z$2:$Z$3)","v":0},{"$f":"SUMIF(BDD!$BH$2:$BH$3,\"Banc W+BFAUXVRAIFAUXVRAIFAUX\",BDD!$Z$2:$Z$3)","v":0},{"$f":"SUMIF(BDD!$BH$2:$BH$3,\"Banc W+BFAUXVRAIFAUXFAUXVRAI\",BDD!$Z$2:$Z$3)","v":0},{"$f":"SUMIF(BDD!$BH$2:$BH$3,\"Banc W+BVRAIFAUXVRAIFAUXFAUX\",BDD!$Z$2:$Z$3)","v":0},{"$f":"SUMIF(BDD!$BH$2:$BH$3,\"Banc W+BVRAIFAUXFAUXVRAIFAUX\",BDD!$Z$2:$Z$3)","v":0},{"$f":"SUMIF(BDD!$BH$2:$BH$3,\"Banc W+BVRAIFAUXFAUXFAUXVRAI\",BDD!$Z$2:$Z$3)","v":0},{"$f":"SUMIF(BDD!$BH$2:$BH$3,\"Banc W+BFAUXVRAIVRAIFAUXFAUX\",BDD!$Z$2:$Z$3)","v":0},{"$f":"SUMIF(BDD!$BH$2:$BH$3,\"Banc W+BFAUXVRAIFAUXVRAIFAUX\",BDD!$Z$2:$Z$3)","v":0},{"$f":"SUMIF(BDD!$BH$2:$BH$3,\"Banc W+BFAUXVRAIFAUXFAUXVRAI\",BDD!$Z$2:$Z$3)","v":0},{"$f":"SUMIF(BDD!$BH$2:$BH$3,\"Banc W+BVRAIFAUXVRAIFAUXFAUX\",BDD!$Z$2:$Z$3)","v":0},{"$f":"SUMIF(BDD!$BH$2:$BH$3,\"Banc W+BVRAIFAUXFAUXVRAIFAUX\",BDD!$Z$2:$Z$3)","v":0},{"$f":"SUMIF(BDD!$BH$2:$BH$3,\"Banc W+BVRAIFAUXFAUXFAUXVRAI\",BDD!$Z$2:$Z$3)","v":0},{"$f":"SUMIF(BDD!$BH$2:$BH$3,\"Banc W+BFAUXVRAIVRAIFAUXFAUX\",BDD!$Z$2:$Z$3)","v":0},{"$f":"SUMIF(BDD!$BH$2:$BH$3,\"Banc W+BFAUXVRAIFAUXVRAIFAUX\",BDD!$Z$2:$Z$3)","v":0},{"$f":"SUMIF(BDD!$BH$2:$BH$3,\"Banc W+BFAUXVRAIFAUXFAUXVRAI\",BDD!$Z$2:$Z$3)","v":0},{"$f":"SUMIF(BDD!$BH$2:$BH$3,\"Banc W+BVRAIFAUXVRAIFAUXFAUX\",BDD!$Z$2:$Z$3)","v":0},{"$f":"SUMIF(BDD!$BH$2:$BH$3,\"Banc W+BVRAIFAUXFAUXVRAIFAUX\",BDD!$Z$2:$Z$3)","v":0},{"$f":"SUMIF(BDD!$BH$2:$BH$3,\"Banc W+BVRAIFAUXFAUXFAUXVRAI\",BDD!$Z$2:$Z$3)","v":0},{"$f":"SUMIF(BDD!$BH$2:$BH$3,\"Banc W+BFAUXVRAIVRAIFAUXFAUX\",BDD!$Z$2:$Z$3)","v":0},{"$f":"SUMIF(BDD!$BH$2:$BH$3,\"Banc W+BFAUXVRAIFAUXVRAIFAUX\",BDD!$Z$2:$Z$3)","v":0},{"$f":"SUMIF(BDD!$BH$2:$BH$3,\"Banc W+BFAUXVRAIFAUXFAUXVRAI\",BDD!$Z$2:$Z$3)","v":0},{"$f":"SUMIF(BDD!$BH$2:$BH$3,\"Banc W+BVRAIFAUXVRAIFAUXFAUX\",BDD!$Z$2:$Z$3)","v":0},{"$f":"SUMIF(BDD!$BH$2:$BH$3,\"Banc W+BVRAIFAUXFAUXVRAIFAUX\",BDD!$Z$2:$Z$3)","v":0},{"$f":"SUMIF(BDD!$BH$2:$BH$3,\"Banc W+BVRAIFAUXFAUXFAUXVRAI\",BDD!$Z$2:$Z$3)","v":0},{"$f":"SUMIF(BDD!$BH$2:$BH$3,\"Banc W+BFAUXVRAIVRAIFAUXFAUX\",BDD!$Z$2:$Z$3)","v":0},{"$f":"SUMIF(BDD!$BH$2:$BH$3,\"Banc W+BFAUXVRAIFAUXVRAIFAUX\",BDD!$Z$2:$Z$3)","v":0},{"$f":"SUMIF(BDD!$BH$2:$BH$3,\"Banc W+BFAUXVRAIFAUXFAUXVRAI\",BDD!$Z$2:$Z$3)","v":0}]
["Ressort verticale",{"$f":"SUMIF(BDD!$BH$2:$BH$3,\"Ressort verticaleVRAIFAUXVRAIFAUXFAUX\",BDD!$Z$2:$Z$3)","v":0},{"$f":"SUMIF(BDD!$BH$2:$BH$3,\"Ressort verticaleVRAIFAUXFAUXVRAIFAUX\",BDD!$Z$2:$Z$3)","v":0},{"$f":"SUMIF(BDD!$BH$2:$BH$3,\"Ressort verticaleVRAIFAUXFAUXFAUXVRAI\",BDD!$Z$2:$Z$3)","v":0},{"$f":"SUMIF(BDD!$BH$2:$BH$3,\"Ressort verticaleFAUXVRAIVRAIFAUXFAUX\",BDD!$Z$2:$Z$3)","v":0},{"$f":"SUMIF(BDD!$BH$2:$BH$3,\"Ressort verticaleFAUXVRAIFAUXVRAIFAUX\",BDD!$Z$2:$Z$3)","v":0},{"$f":"SUMIF(BDD!$BH$2:$BH$3,\"Ressort verticaleFAUXVRAIFAUXFAUXVRAI\",BDD!$Z$2:$Z$3)","v":0},{"$f":"SUMIF(BDD!$BH$2:$BH$3,\"Ressort verticaleVRAIFAUXVRAIFAUXFAUX\",BDD!$Z$2:$Z$3)","v":0},{"$f":"SUMIF(BDD!$BH$2:$BH$3,\"Ressort verticaleVRAIFAUXFAUXVRAIFAUX\",BDD!$Z$2:$Z$3)","v":0},{"$f":"SUMIF(BDD!$BH$2:$BH$3,\"Ressort verticaleVRAIFAUXFAUXFAUXVRAI\",BDD!$Z$2:$Z$3)","v":0},{"$f":"SUMIF(BDD!$BH$2:$BH$3,\"Ressort verticaleFAUXVRAIVRAIFAUXFAUX\",BDD!$Z$2:$Z$3)","v":0},{"$f":"SUMIF(BDD!$BH$2:$BH$3,\"Ressort verticaleFAUXVRAIFAUXVRAIFAUX\",BDD!$Z$2:$Z$3)","v":0},{"$f":"SUMIF(BDD!$BH$2:$BH$3,\"Ressort verticaleFAUXVRAIFAUXFAUXVRAI\",BDD!$Z$2:$Z$3)","v":0},{"$f":"SUMIF(BDD!$BH$2:$BH$25,\"Ressort verticaleVRAIFAUXVRAIFAUXFAUX\",BDD!$Z$2:$Z$25)","v":0},{"$f":"SUMIF(BDD!$BH$2:$BH$25,\"Ressort verticaleVRAIFAUXFAUXVRAIFAUX\",BDD!$Z$2:$Z$25)","v":0},{"$f":"SUMIF(BDD!$BH$2:$BH$25,\"Ressort verticaleVRAIFAUXFAUXFAUXVRAI\",BDD!$Z$2:$Z$25)","v":0},{"$f":"SUMIF(BDD!$BH$2:$BH$25,\"Ressort verticaleFAUXVRAIVRAIFAUXFAUX\",BDD!$Z$2:$Z$25)","v":0},{"$f":"SUMIF(BDD!$BH$2:$BH$25,\"Ressort verticaleFAUXVRAIFAUXVRAIFAUX\",BDD!$Z$2:$Z$25)","v":0},{"$f":"SUMIF(BDD!$BH$2:$BH$25,\"Ressort verticaleFAUXVRAIFAUXFAUXVRAI\",BDD!$Z$2:$Z$25)","v":0},{"$f":"SUMIF(BDD!$BH$26:$BH$599,\"Ressort verticaleVRAIFAUXVRAIFAUXFAUX\",BDD!$Z$26:$Z$599)","v":0},{"$f":"SUMIF(BDD!$BH$26:$BH$599,\"Ressort verticaleVRAIFAUXFAUXVRAIFAUX\",BDD!$Z$26:$Z$599)","v":0},{"$f":"SUMIF(BDD!$BH$26:$BH$599,\"Ressort verticaleVRAIFAUXFAUXFAUXVRAI\",BDD!$Z$26:$Z$599)","v":0},{"$f":"SUMIF(BDD!$BH$26:$BH$599,\"Ressort verticaleFAUXVRAIVRAIFAUXFAUX\",BDD!$Z$26:$Z$599)","v":0},{"$f":"SUMIF(BDD!$BH$26:$BH$599,\"Ressort verticaleFAUXVRAIFAUXVRAIFAUX\",BDD!$Z$26:$Z$599)","v":0},{"$f":"SUMIF(BDD!$BH$26:$BH$599,\"Ressort verticaleFAUXVRAIFAUXFAUXVRAI\",BDD!$Z$26:$Z$599)","v":0},{"$f":"SUMIF(BDD!$BH$2:$BH$3,\"Ressort verticaleVRAIFAUXVRAIFAUXFAUX\",BDD!$Z$2:$Z$3)","v":0},{"$f":"SUMIF(BDD!$BH$2:$BH$3,\"Ressort verticaleVRAIFAUXFAUXVRAIFAUX\",BDD!$Z$2:$Z$3)","v":0},{"$f":"SUMIF(BDD!$BH$2:$BH$3,\"Ressort verticaleVRAIFAUXFAUXFAUXVRAI\",BDD!$Z$2:$Z$3)","v":0},{"$f":"SUMIF(BDD!$BH$2:$BH$3,\"Ressort verticaleFAUXVRAIVRAIFAUXFAUX\",BDD!$Z$2:$Z$3)","v":0},{"$f":"SUMIF(BDD!$BH$2:$BH$3,\"Ressort verticaleFAUXVRAIFAUXVRAIFAUX\",BDD!$Z$2:$Z$3)","v":0},{"$f":"SUMIF(BDD!$BH$2:$BH$3,\"Ressort verticaleFAUXVRAIFAUXFAUXVRAI\",BDD!$Z$2:$Z$3)","v":0},{"$f":"SUMIF(BDD!$BH$2:$BH$3,\"Ressort verticaleVRAIFAUXVRAIFAUXFAUX\",BDD!$Z$2:$Z$3)","v":0},{"$f":"SUMIF(BDD!$BH$2:$BH$3,\"Ressort verticaleVRAIFAUXFAUXVRAIFAUX\",BDD!$Z$2:$Z$3)","v":0},{"$f":"SUMIF(BDD!$BH$2:$BH$3,\"Ressort verticaleVRAIFAUXFAUXFAUXVRAI\",BDD!$Z$2:$Z$3)","v":0},{"$f":"SUMIF(BDD!$BH$2:$BH$3,\"Ressort verticaleFAUXVRAIVRAIFAUXFAUX\",BDD!$Z$2:$Z$3)","v":0},{"$f":"SUMIF(BDD!$BH$2:$BH$3,\"Ressort verticaleFAUXVRAIFAUXVRAIFAUX\",BDD!$Z$2:$Z$3)","v":0},{"$f":"SUMIF(BDD!$BH$2:$BH$3,\"Ressort verticaleFAUXVRAIFAUXFAUXVRAI\",BDD!$Z$2:$Z$3)","v":0},{"$f":"SUMIF(BDD!$BH$2:$BH$3,\"Ressort verticaleVRAIFAUXVRAIFAUXFAUX\",BDD!$Z$2:$Z$3)","v":0},{"$f":"SUMIF(BDD!$BH$2:$BH$3,\"Ressort verticaleVRAIFAUXFAUXVRAIFAUX\",BDD!$Z$2:$Z$3)","v":0},{"$f":"SUMIF(BDD!$BH$2:$BH$3,\"Ressort verticaleVRAIFAUXFAUXFAUXVRAI\",BDD!$Z$2:$Z$3)","v":0},{"$f":"SUMIF(BDD!$BH$2:$BH$3,\"Ressort verticaleFAUXVRAIVRAIFAUXFAUX\",BDD!$Z$2:$Z$3)","v":0},{"$f":"SUMIF(BDD!$BH$2:$BH$3,\"Ressort verticaleFAUXVRAIFAUXVRAIFAUX\",BDD!$Z$2:$Z$3)","v":0},{"$f":"SUMIF(BDD!$BH$2:$BH$3,\"Ressort verticaleFAUXVRAIFAUXFAUXVRAI\",BDD!$Z$2:$Z$3)","v":0},{"$f":"SUMIF(BDD!$BH$2:$BH$3,\"Ressort verticaleVRAIFAUXVRAIFAUXFAUX\",BDD!$Z$2:$Z$3)","v":0},{"$f":"SUMIF(BDD!$BH$2:$BH$3,\"Ressort verticaleVRAIFAUXFAUXVRAIFAUX\",BDD!$Z$2:$Z$3)","v":0},{"$f":"SUMIF(BDD!$BH$2:$BH$3,\"Ressort verticaleVRAIFAUXFAUXFAUXVRAI\",BDD!$Z$2:$Z$3)","v":0},{"$f":"SUMIF(BDD!$BH$2:$BH$3,\"Ressort verticaleFAUXVRAIVRAIFAUXFAUX\",BDD!$Z$2:$Z$3)","v":0},{"$f":"SUMIF(BDD!$BH$2:$BH$3,\"Ressort verticaleFAUXVRAIFAUXVRAIFAUX\",BDD!$Z$2:$Z$3)","v":0},{"$f":"SUMIF(BDD!$BH$2:$BH$3,\"Ressort verticaleFAUXVRAIFAUXFAUXVRAI\",BDD!$Z$2:$Z$3)","v":0},{"$f":"SUMIF(BDD!$BH$2:$BH$3,\"Ressort verticaleVRAIFAUXVRAIFAUXFAUX\",BDD!$Z$2:$Z$3)","v":0},{"$f":"SUMIF(BDD!$BH$2:$BH$3,\"Ressort verticaleVRAIFAUXFAUXVRAIFAUX\",BDD!$Z$2:$Z$3)","v":0},{"$f":"SUMIF(BDD!$BH$2:$BH$3,\"Ressort verticaleVRAIFAUXFAUXFAUXVRAI\",BDD!$Z$2:$Z$3)","v":0},{"$f":"SUMIF(BDD!$BH$2:$BH$3,\"Ressort verticaleFAUXVRAIVRAIFAUXFAUX\",BDD!$Z$2:$Z$3)","v":0},{"$f":"SUMIF(BDD!$BH$2:$BH$3,\"Ressort verticaleFAUXVRAIFAUXVRAIFAUX\",BDD!$Z$2:$Z$3)","v":0},{"$f":"SUMIF(BDD!$BH$2:$BH$3,\"Ressort verticaleFAUXVRAIFAUXFAUXVRAI\",BDD!$Z$2:$Z$3)","v":0},{"$f":"SUMIF(BDD!$BH$2:$BH$3,\"Ressort verticaleVRAIFAUXVRAIFAUXFAUX\",BDD!$Z$2:$Z$3)","v":0},{"$f":"SUMIF(BDD!$BH$2:$BH$3,\"Ressort verticaleVRAIFAUXFAUXVRAIFAUX\",BDD!$Z$2:$Z$3)","v":0},{"$f":"SUMIF(BDD!$BH$2:$BH$3,\"Ressort verticaleVRAIFAUXFAUXFAUXVRAI\",BDD!$Z$2:$Z$3)","v":0},{"$f":"SUMIF(BDD!$BH$2:$BH$3,\"Ressort verticaleFAUXVRAIVRAIFAUXFAUX\",BDD!$Z$2:$Z$3)","v":0},{"$f":"SUMIF(BDD!$BH$2:$BH$3,\"Ressort verticaleFAUXVRAIFAUXVRAIFAUX\",BDD!$Z$2:$Z$3)","v":0},{"$f":"SUMIF(BDD!$BH$2:$BH$3,\"Ressort verticaleFAUXVRAIFAUXFAUXVRAI\",BDD!$Z$2:$Z$3)","v":0},{"$f":"SUMIF(BDD!$BH$2:$BH$3,\"Ressort verticaleVRAIFAUXVRAIFAUXFAUX\",BDD!$Z$2:$Z$3)","v":0},{"$f":"SUMIF(BDD!$BH$2:$BH$3,\"Ressort verticaleVRAIFAUXFAUXVRAIFAUX\",BDD!$Z$2:$Z$3)","v":0},{"$f":"SUMIF(BDD!$BH$2:$BH$3,\"Ressort verticaleVRAIFAUXFAUXFAUXVRAI\",BDD!$Z$2:$Z$3)","v":0},{"$f":"SUMIF(BDD!$BH$2:$BH$3,\"Ressort verticaleFAUXVRAIVRAIFAUXFAUX\",BDD!$Z$2:$Z$3)","v":0},{"$f":"SUMIF(BDD!$BH$2:$BH$3,\"Ressort verticaleFAUXVRAIFAUXVRAIFAUX\",BDD!$Z$2:$Z$3)","v":0},{"$f":"SUMIF(BDD!$BH$2:$BH$3,\"Ressort verticaleFAUXVRAIFAUXFAUXVRAI\",BDD!$Z$2:$Z$3)","v":0},{"$f":"SUMIF(BDD!$BH$2:$BH$3,\"Ressort verticaleVRAIFAUXVRAIFAUXFAUX\",BDD!$Z$2:$Z$3)","v":0},{"$f":"SUMIF(BDD!$BH$2:$BH$3,\"Ressort verticaleVRAIFAUXFAUXVRAIFAUX\",BDD!$Z$2:$Z$3)","v":0},{"$f":"SUMIF(BDD!$BH$2:$BH$3,\"Ressort verticaleVRAIFAUXFAUXFAUXVRAI\",BDD!$Z$2:$Z$3)","v":0},{"$f":"SUMIF(BDD!$BH$2:$BH$3,\"Ressort verticaleFAUXVRAIVRAIFAUXFAUX\",BDD!$Z$2:$Z$3)","v":0},{"$f":"SUMIF(BDD!$BH$2:$BH$3,\"Ressort verticaleFAUXVRAIFAUXVRAIFAUX\",BDD!$Z$2:$Z$3)","v":0},{"$f":"SUMIF(BDD!$BH$2:$BH$3,\"Ressort verticaleFAUXVRAIFAUXFAUXVRAI\",BDD!$Z$2:$Z$3)","v":0}]
[]
[]
[]
[]
[]
[]
[]
[]
[]
[]
[]
[]
[]
[]
[]
[]
[]
[]
[]
[]
[]
[]
[]
[]
[]
[]
[null,"Suivi du correctif et du préventif par banc"]
[null,"Janvier",null,null,null,null,null,"Février",null,null,null,null,null,"Mars",null,null,null,null,null,"Avril",null,null,null,null,null,"Mai",null,null,null,null,null,"Juin",null,null,null,null,null,"Juillet",null,null,null,null,null,"Août",null,null,null,null,null,"Septembre",null,null,null,null,null,"Octobre",null,null,null,null,null,"Novembre",null,null,null,null,null,"Décembre"]
[null,"Préparation essais",null,null,"Amélioration",null,null,"Préparation essais",null,null,"Amélioration",null,null,"Préparation essais",null,null,"Amélioration",null,null,"Préparation essais",null,null,"Amélioration",null,null,"Préparation essais",null,null,"Amélioration",null,null,"Préparation essais",null,null,"Amélioration",null,null,"Préparation essais",null,null,"Amélioration",null,null,"Préparation essais",null,null,"Amélioration",null,null,"Préparation essais",null,null,"Amélioration",null,null,"Préparation essais",null,null,"Amélioration",null,null,"Préparation essais",null,null,"Amélioration",null,null,"Préparation essais",null,null,"Amélioration"]
["Banc zone 5","Electrique","Mécanique","Hydraulique","Electrique","Mécanique","Hydraulique","Electrique","Mécanique","Hydraulique","Electrique","Mécanique","Hydraulique","Electrique","Mécanique","Hydraulique","Electrique","Mécanique","Hydraulique","Electrique","Mécanique","Hydraulique","Electrique","Mécanique","Hydraulique","Electrique","Mécanique","Hydraulique","Electrique","Mécanique","Hydraulique","Electrique","Mécanique","Hydraulique","Electrique","Mécanique","Hydraulique","Electrique","Mécanique","Hydraulique","Electrique","Mécanique","Hydraulique","Electrique","Mécanique","Hydraulique","Electrique","Mécanique","Hydraulique","Electrique","Mécanique","Hydraulique","Electrique","Mécanique","Hydraulique","Electrique","Mécanique","Hydraulique","Electrique","Mécanique","Hydraulique","Electrique","Mécanique","Hydraulique","Electrique","Mécanique","Hydraulique","Electrique","Mécanique","Hydraulique","Electrique","Mécanique","Hydraulique"]
["Banc 124",{"$f":"SUMIF(BDD!$BI$2:$BI$3,\"Banc 124FAUXFAUXVRAIFAUXVRAIFAUXFAUX\",BDD!$Z$2:$Z$3)","v":0},{"$f":"SUMIF(BDD!$BI$2:$BI$3,\"Banc 124FAUXFAUXVRAIFAUXFAUXVRAIFAUX\",BDD!$Z$2:$Z$3)","v":0},{"$f":"SUMIF(BDD!$BI$2:$BI$3,\"Banc 124FAUXFAUXVRAIFAUXFAUXFAUXVRAI\",BDD!$Z$2:$Z$3)","v":0},{"$f":"SUMIF(BDD!$BI$2:$BI$3,\"Banc 124FAUXFAUXFAUXVRAIVRAIFAUXFAUX\",BDD!$Z$2:$Z$3)","v":0},{"$f":"SUMIF(BDD!$BI$2:$BI$3,\"Banc 124FAUXFAUXFAUXVRAIFAUXVRAIFAUX\",BDD!$Z$2:$Z$3)","v":0},{"$f":"SUMIF(BDD!$BI$2:$BI$3,\"Banc 124FAUXFAUXFAUXVRAIFAUXFAUXVRAI\",BDD!$Z$2:$Z$3)","v":0},{"$f":"SUMIF(BDD!$BI$2:$BI$3,\"Banc 124FAUXFAUXVRAIFAUXVRAIFAUXFAUX\",BDD!$Z$2:$Z$3)","v":0},{"$f":"SUMIF(BDD!$BI$2:$BI$3,\"Banc 124FAUXFAUXVRAIFAUXFAUXVRAIFAUX\",BDD!$Z$2:$Z$3)","v":0},{"$f":"SUMIF(BDD!$BI$2:$BI$3,\"Banc 124FAUXFAUXVRAIFAUXFAUXFAUXVRAI\",BDD!$Z$2:$Z$3)","v":0},{"$f":"SUMIF(BDD!$BI$2:$BI$3,\"Banc 124FAUXFAUXFAUXVRAIVRAIFAUXFAUX\",BDD!$Z$2:$Z$3)","v":0},{"$f":"SUMIF(BDD!$BI$2:$BI$3,\"Banc 124FAUXFAUXFAUXVRAIFAUXVRAIFAUX\",BDD!$Z$2:$Z$3)","v":0},{"$f":"SUMIF(BDD!$BI$2:$BI$3,\"Banc 124FAUXFAUXFAUXVRAIFAUXFAUXVRAI\",BDD!$Z$2:$Z$3)","v":0},{"$f":"SUMIF(BDD!$BI$2:$BI$24,\"Banc 124FAUXFAUXVRAIFAUXVRAIFAUXFAUX\",BDD!$Z$2:$Z$24)","v":0},{"$f":"SUMIF(BDD!$BI$2:$BI$24,\"Banc 124FAUXFAUXVRAIFAUXFAUXVRAIFAUX\",BDD!$Z$2:$Z$24)","v":0},{"$f":"SUMIF(BDD!$BI$2:$BI$24,\"Banc 124FAUXFAUXVRAIFAUXFAUXFAUXVRAI\",BDD!$Z$2:$Z$24)","v":0},{"$f":"SUMIF(BDD!$BI$2:$BI$24,\"Banc 124FAUXFAUXFAUXVRAIVRAIFAUXFAUX\",BDD!$Z$2:$Z$24)","v":0},{"$f":"SUMIF(BDD!$BI$2:$BI$24,\"Banc 124FAUXFAUXFAUXVRAIFAUXVRAIFAUX\",BDD!$Z$2:$Z$24)","v":0},{"$f":"SUMIF(BDD!$BI$2:$BI$24,\"Banc 124FAUXFAUXFAUXVRAIFAUXFAUXVRAI\",BDD!$Z$2:$Z$24)","v":0},{"$f":"SUMIF(BDD!$BI$26:$BI$599,\"Banc 124VRAIFAUXVRAIFAUXFAUX\",BDD!$Z$26:$Z$599)","v":0},{"$f":"SUMIF(BDD!$BI$26:$BI$599,\"Banc 124VRAIFAUXFAUXVRAIFAUX\",BDD!$Z$26:$Z$599)","v":0},{"$f":"SUMIF(BDD!$BI$26:$BI$599,\"Banc 124VRAIFAUXFAUXFAUXVRAI\",BDD!$Z$26:$Z$60)","v":0},{"$f":"SUMIF(BDD!$BI$26:$BI$599,\"Banc 124FAUXVRAIVRAIFAUXFAUX\",BDD!$Z$26:$Z$599)","v":0},{"$f":"SUMIF(BDD!$BI$26:$BI$599,\"Banc 124FAUXVRAIFAUXVRAIFAUX\",BDD!$Z$26:$Z$599)","v":0},{"$f":"SUMIF(BDD!$BI$26:$BI$599,\"Banc 124FAUXVRAIFAUXFAUXVRAI\",BDD!$Z$26:$Z$60)","v":0},{"$f":"SUMIF(BDD!$BI$2:$BI$3,\"Banc 124FAUXFAUXVRAIFAUXVRAIFAUXFAUX\",BDD!$Z$2:$Z$3)","v":0},{"$f":"SUMIF(BDD!$BI$2:$BI$3,\"Banc 124FAUXFAUXVRAIFAUXFAUXVRAIFAUX\",BDD!$Z$2:$Z$3)","v":0},{"$f":"SUMIF(BDD!$BI$2:$BI$3,\"Banc 124FAUXFAUXVRAIFAUXFAUXFAUXVRAI\",BDD!$Z$2:$Z$3)","v":0},{"$f":"SUMIF(BDD!$BI$2:$BI$3,\"Banc 124FAUXFAUXFAUXVRAIVRAIFAUXFAUX\",BDD!$Z$2:$Z$3)","v":0},{"$f":"SUMIF(BDD!$BI$2:$BI$3,\"Banc 124FAUXFAUXFAUXVRAIFAUXVRAIFAUX\",BDD!$Z$2:$Z$3)","v":0},{"$f":"SUMIF(BDD!$BI$2:$BI$3,\"Banc 124FAUXFAUXFAUXVRAIFAUXFAUXVRAI\",BDD!$Z$2:$Z$3)","v":0},{"$f":"SUMIF(BDD!$BI$2:$BI$3,\"Banc 124FAUXFAUXVRAIFAUXVRAIFAUXFAUX\",BDD!$Z$2:$Z$3)","v":0},{"$f":"SUMIF(BDD!$BI$2:$BI$3,\"Banc 124FAUXFAUXVRAIFAUXFAUXVRAIFAUX\",BDD!$Z$2:$Z$3)","v":0},{"$f":"SUMIF(BDD!$BI$2:$BI$3,\"Banc 124FAUXFAUXVRAIFAUXFAUXFAUXVRAI\",BDD!$Z$2:$Z$3)","v":0},{"$f":"SUMIF(BDD!$BI$2:$BI$3,\"Banc 124FAUXFAUXFAUXVRAIVRAIFAUXFAUX\",BDD!$Z$2:$Z$3)","v":0},{"$f":"SUMIF(BDD!$BI$2:$BI$3,\"Banc 124FAUXFAUXFAUXVRAIFAUXVRAIFAUX\",BDD!$Z$2:$Z$3)","v":0},{"$f":"SUMIF(BDD!$BI$2:$BI$3,\"Banc 124FAUXFAUXFAUXVRAIFAUXFAUXVRAI\",BDD!$Z$2:$Z$3)","v":0},{"$f":"SUMIF(BDD!$BI$2:$BI$3,\"Banc 124FAUXFAUXVRAIFAUXVRAIFAUXFAUX\",BDD!$Z$2:$Z$3)","v":0},{"$f":"SUMIF(BDD!$BI$2:$BI$3,\"Banc 124FAUXFAUXVRAIFAUXFAUXVRAIFAUX\",BDD!$Z$2:$Z$3)","v":0},{"$f":"SUMIF(BDD!$BI$2:$BI$3,\"Banc 124FAUXFAUXVRAIFAUXFAUXFAUXVRAI\",BDD!$Z$2:$Z$3)","v":0},{"$f":"SUMIF(BDD!$BI$2:$BI$3,\"Banc 124FAUXFAUXFAUXVRAIVRAIFAUXFAUX\",BDD!$Z$2:$Z$3)","v":0},{"$f":"SUMIF(BDD!$BI$2:$BI$3,\"Banc 124FAUXFAUXFAUXVRAIFAUXVRAIFAUX\",BDD!$Z$2:$Z$3)","v":0},{"$f":"SUMIF(BDD!$BI$2:$BI$3,\"Banc 124FAUXFAUXFAUXVRAIFAUXFAUXVRAI\",BDD!$Z$2:$Z$3)","v":0},{"$f":"SUMIF(BDD!$BI$2:$BI$3,\"Banc 124FAUXFAUXVRAIFAUXVRAIFAUXFAUX\",BDD!$Z$2:$Z$3)","v":0},{"$f":"SUMIF(BDD!$BI$2:$BI$3,\"Banc 124FAUXFAUXVRAIFAUXFAUXVRAIFAUX\",BDD!$Z$2:$Z$3)","v":0},{"$f":"SUMIF(BDD!$BI$2:$BI$3,\"Banc 124FAUXFAUXVRAIFAUXFAUXFAUXVRAI\",BDD!$Z$2:$Z$3)","v":0},{"$f":"SUMIF(BDD!$BI$2:$BI$3,\"Banc 124FAUXFAUXFAUXVRAIVRAIFAUXFAUX\",BDD!$Z$2:$Z$3)","v":0},{"$f":"SUMIF(BDD!$BI$2:$BI$3,\"Banc 124FAUXFAUXFAUXVRAIFAUXVRAIFAUX\",BDD!$Z$2:$Z$3)","v":0},{"$f":"SUMIF(BDD!$BI$2:$BI$3,\"Banc 124FAUXFAUXFAUXVRAIFAUXFAUXVRAI\",BDD!$Z$2:$Z$3)","v":0},{"$f":"SUMIF(BDD!$BI$2:$BI$3,\"Banc 124FAUXFAUXVRAIFAUXVRAIFAUXFAUX\",BDD!$Z$2:$Z$3)","v":0},{"$f":"SUMIF(BDD!$BI$2:$BI$3,\"Banc 124FAUXFAUXVRAIFAUXFAUXVRAIFAUX\",BDD!$Z$2:$Z$3)","v":0},{"$f":"SUMIF(BDD!$BI$2:$BI$3,\"Banc 124FAUXFAUXVRAIFAUXFAUXFAUXVRAI\",BDD!$Z$2:$Z$3)","v":0},{"$f":"SUMIF(BDD!$BI$2:$BI$3,\"Banc 124FAUXFAUXFAUXVRAIVRAIFAUXFAUX\",BDD!$Z$2:$Z$3)","v":0},{"$f":"SUMIF(BDD!$BI$2:$BI$3,\"Banc 124FAUXFAUXFAUXVRAIFAUXVRAIFAUX\",BDD!$Z$2:$Z$3)","v":0},{"$f":"SUMIF(BDD!$BI$2:$BI$3,\"Banc 124FAUXFAUXFAUXVRAIFAUXFAUXVRAI\",BDD!$Z$2:$Z$3)","v":0},{"$f":"SUMIF(BDD!$BI$2:$BI$3,\"Banc 124FAUXFAUXVRAIFAUXVRAIFAUXFAUX\",BDD!$Z$2:$Z$3)","v":0},{"$f":"SUMIF(BDD!$BI$2:$BI$3,\"Banc 124FAUXFAUXVRAIFAUXFAUXVRAIFAUX\",BDD!$Z$2:$Z$3)","v":0},{"$f":"SUMIF(BDD!$BI$2:$BI$3,\"Banc 124FAUXFAUXVRAIFAUXFAUXFAUXVRAI\",BDD!$Z$2:$Z$3)","v":0},{"$f":"SUMIF(BDD!$BI$2:$BI$3,\"Banc 124FAUXFAUXFAUXVRAIVRAIFAUXFAUX\",BDD!$Z$2:$Z$3)","v":0},{"$f":"SUMIF(BDD!$BI$2:$BI$3,\"Banc 124FAUXFAUXFAUXVRAIFAUXVRAIFAUX\",BDD!$Z$2:$Z$3)","v":0},{"$f":"SUMIF(BDD!$BI$2:$BI$3,\"Banc 124FAUXFAUXFAUXVRAIFAUXFAUXVRAI\",BDD!$Z$2:$Z$3)","v":0},{"$f":"SUMIF(BDD!$BI$2:$BI$3,\"Banc 124FAUXFAUXVRAIFAUXVRAIFAUXFAUX\",BDD!$Z$2:$Z$3)","v":0},{"$f":"SUMIF(BDD!$BI$2:$BI$3,\"Banc 124FAUXFAUXVRAIFAUXFAUXVRAIFAUX\",BDD!$Z$2:$Z$3)","v":0},{"$f":"SUMIF(BDD!$BI$2:$BI$3,\"Banc 124FAUXFAUXVRAIFAUXFAUXFAUXVRAI\",BDD!$Z$2:$Z$3)","v":0},{"$f":"SUMIF(BDD!$BI$2:$BI$3,\"Banc 124FAUXFAUXFAUXVRAIVRAIFAUXFAUX\",BDD!$Z$2:$Z$3)","v":0},{"$f":"SUMIF(BDD!$BI$2:$BI$3,\"Banc 124FAUXFAUXFAUXVRAIFAUXVRAIFAUX\",BDD!$Z$2:$Z$3)","v":0},{"$f":"SUMIF(BDD!$BI$2:$BI$3,\"Banc 124FAUXFAUXFAUXVRAIFAUXFAUXVRAI\",BDD!$Z$2:$Z$3)","v":0},{"$f":"SUMIF(BDD!$BI$2:$BI$3,\"Banc 124FAUXFAUXVRAIFAUXVRAIFAUXFAUX\",BDD!$Z$2:$Z$3)","v":0},{"$f":"SUMIF(BDD!$BI$2:$BI$3,\"Banc 124FAUXFAUXVRAIFAUXFAUXVRAIFAUX\",BDD!$Z$2:$Z$3)","v":0},{"$f":"SUMIF(BDD!$BI$2:$BI$3,\"Banc 124FAUXFAUXVRAIFAUXFAUXFAUXVRAI\",BDD!$Z$2:$Z$3)","v":0},{"$f":"SUMIF(BDD!$BI$2:$BI$3,\"Banc 124FAUXFAUXFAUXVRAIVRAIFAUXFAUX\",BDD!$Z$2:$Z$3)","v":0},{"$f":"SUMIF(BDD!$BI$2:$BI$3,\"Banc 124FAUXFAUXFAUXVRAIFAUXVRAIFAUX\",BDD!$Z$2:$Z$3)","v":0},{"$f":"SUMIF(BDD!$BI$2:$BI$3,\"Banc 124FAUXFAUXFAUXVRAIFAUXFAUXVRAI\",BDD!$Z$2:$Z$3)","v":0}]
["Banc 124 bis",{"$f":"SUMIF(BDD!$BI$2:$BI$3,\"Banc 124 bis bis bisFAUXFAUXVRAIFAUXVRAIFAUXFAUX\",BDD!$Z$2:$Z$3)","v":0},{"$f":"SUMIF(BDD!$BI$2:$BI$3,\"Banc 124 bis bis bisFAUXFAUXVRAIFAUXFAUXVRAIFAUX\",BDD!$Z$2:$Z$3)","v":0},{"$f":"SUMIF(BDD!$BI$2:$BI$3,\"Banc 124 bis bisFAUXFAUXVRAIFAUXFAUXFAUXVRAI\",BDD!$Z$2:$Z$3)","v":0},{"$f":"SUMIF(BDD!$BI$2:$BI$3,\"Banc 124 bis bisFAUXFAUXFAUXVRAIVRAIFAUXFAUX\",BDD!$Z$2:$Z$3)","v":0},{"$f":"SUMIF(BDD!$BI$2:$BI$3,\"Banc 124 bis bisFAUXFAUXFAUXVRAIFAUXVRAIFAUX\",BDD!$Z$2:$Z$3)","v":0},{"$f":"SUMIF(BDD!$BI$2:$BI$3,\"Banc 124 bis bisFAUXFAUXFAUXVRAIFAUXFAUXVRAI\",BDD!$Z$2:$Z$3)","v":0},{"$f":"SUMIF(BDD!$BI$2:$BI$3,\"Banc 124 bis bisFAUXFAUXVRAIFAUXVRAIFAUXFAUX\",BDD!$Z$2:$Z$3)","v":0},{"$f":"SUMIF(BDD!$BI$2:$BI$3,\"Banc 124 bis bisFAUXFAUXVRAIFAUXFAUXVRAIFAUX\",BDD!$Z$2:$Z$3)","v":0},{"$f":"SUMIF(BDD!$BI$2:$BI$3,\"Banc 124 bis bisFAUXFAUXVRAIFAUXFAUXFAUXVRAI\",BDD!$Z$2:$Z$3)","v":0},{"$f":"SUMIF(BDD!$BI$2:$BI$3,\"Banc 124 bis bisFAUXFAUXFAUXVRAIVRAIFAUXFAUX\",BDD!$Z$2:$Z$3)","v":0},{"$f":"SUMIF(BDD!$BI$2:$BI$3,\"Banc 124 bis bisFAUXFAUXFAUXVRAIFAUXVRAIFAUX\",BDD!$Z$2:$Z$3)","v":0},{"$f":"SUMIF(BDD!$BI$2:$BI$3,\"Banc 124 bis bisFAUXFAUXFAUXVRAIFAUXFAUXVRAI\",BDD!$Z$2:$Z$3)","v":0},{"$f":"SUMIF(BDD!$BI$2:$BI$24,\"Banc 124 bis bisFAUXFAUXVRAIFAUXVRAIFAUXFAUX\",BDD!$Z$2:$Z$24)","v":0},{"$f":"SUMIF(BDD!$BI$2:$BI$24,\"Banc 124 bis bisFAUXFAUXVRAIFAUXFAUXVRAIFAUX\",BDD!$Z$2:$Z$24)","v":0},{"$f":"SUMIF(BDD!$BI$2:$BI$24,\"Banc 124 bis bisFAUXFAUXVRAIFAUXFAUXFAUXVRAI\",BDD!$Z$2:$Z$24)","v":0},{"$f":"SUMIF(BDD!$BI$2:$BI$24,\"Banc 124 bis bisFAUXFAUXFAUXVRAIVRAIFAUXFAUX\",BDD!$Z$2:$Z$24)","v":0},{"$f":"SUMIF(BDD!$BI$2:$BI$24,\"Banc 124 bis bisFAUXFAUXFAUXVRAIFAUXVRAIFAUX\",BDD!$Z$2:$Z$24)","v":0},{"$f":"SUMIF(BDD!$BI$2:$BI$24,\"Banc 124 bis bisFAUXFAUXFAUXVRAIFAUXFAUXVRAI\",BDD!$Z$2:$Z$24)","v":0},{"$f":"SUMIF(BDD!$BI$26:$BI$599,\"Banc 124 bis bis bisVRAIFAUXVRAIFAUXFAUX\",BDD!$Z$26:$Z$599)","v":0},{"$f":"SUMIF(BDD!$BI$26:$BI$599,\"Banc 124 bis bis bisVRAIFAUXFAUXVRAIFAUX\",BDD!$Z$26:$Z$599)","v":0},{"$f":"SUMIF(BDD!$BI$26:$BI$599,\"Banc 124 bis bis bisVRAIFAUXFAUXFAUXVRAI\",BDD!$Z$26:$Z$599)","v":0},{"$f":"SUMIF(BDD!$BI$26:$BI$599,\"Banc 124 bis bis bisFAUXVRAIVRAIFAUXFAUX\",BDD!$Z$26:$Z$599)","v":0},{"$f":"SUMIF(BDD!$BI$26:$BI$599,\"Banc 124 bis bis bisFAUXVRAIFAUXVRAIFAUX\",BDD!$Z$26:$Z$599)","v":0},{"$f":"SUMIF(BDD!$BI$26:$BI$6005,\"Banc 124 bis bis bisFAUXVRAIFAUXFAUXVRAI\",BDD!$Z$26:$Z$599)","v":0},{"$f":"SUMIF(BDD!$BI$2:$BI$3,\"Banc 124 bis bisFAUXFAUXVRAIFAUXVRAIFAUXFAUX\",BDD!$Z$2:$Z$3)","v":0},{"$f":"SUMIF(BDD!$BI$2:$BI$3,\"Banc 124 bis bisFAUXFAUXVRAIFAUXFAUXVRAIFAUX\",BDD!$Z$2:$Z$3)","v":0},{"$f":"SUMIF(BDD!$BI$2:$BI$3,\"Banc 124 bis bisFAUXFAUXVRAIFAUXFAUXFAUXVRAI\",BDD!$Z$2:$Z$3)","v":0},{"$f":"SUMIF(BDD!$BI$2:$BI$3,\"Banc 124 bis bisFAUXFAUXFAUXVRAIVRAIFAUXFAUX\",BDD!$Z$2:$Z$3)","v":0},{"$f":"SUMIF(BDD!$BI$2:$BI$3,\"Banc 124 bis bisFAUXFAUXFAUXVRAIFAUXVRAIFAUX\",BDD!$Z$2:$Z$3)","v":0},{"$f":"SUMIF(BDD!$BI$2:$BI$3,\"Banc 124 bis bisFAUXFAUXFAUXVRAIFAUXFAUXVRAI\",BDD!$Z$2:$Z$3)","v":0},{"$f":"SUMIF(BDD!$BI$2:$BI$3,\"Banc 124 bis bisFAUXFAUXVRAIFAUXVRAIFAUXFAUX\",BDD!$Z$2:$Z$3)","v":0},{"$f":"SUMIF(BDD!$BI$2:$BI$3,\"Banc 124 bis bisFAUXFAUXVRAIFAUXFAUXVRAIFAUX\",BDD!$Z$2:$Z$3)","v":0},{"$f":"SUMIF(BDD!$BI$2:$BI$3,\"Banc 124 bis bisFAUXFAUXVRAIFAUXFAUXFAUXVRAI\",BDD!$Z$2:$Z$3)","v":0},{"$f":"SUMIF(BDD!$BI$2:$BI$3,\"Banc 124 bis bisFAUXFAUXFAUXVRAIVRAIFAUXFAUX\",BDD!$Z$2:$Z$3)","v":0},{"$f":"SUMIF(BDD!$BI$2:$BI$3,\"Banc 124 bis bisFAUXFAUXFAUXVRAIFAUXVRAIFAUX\",BDD!$Z$2:$Z$3)","v":0},{"$f":"SUMIF(BDD!$BI$2:$BI$3,\"Banc 124 bis bisFAUXFAUXFAUXVRAIFAUXFAUXVRAI\",BDD!$Z$2:$Z$3)","v":0},{"$f":"SUMIF(BDD!$BI$2:$BI$3,\"Banc 124 bis bisFAUXFAUXVRAIFAUXVRAIFAUXFAUX\",BDD!$Z$2:$Z$3)","v":0},{"$f":"SUMIF(BDD!$BI$2:$BI$3,\"Banc 124 bis bisFAUXFAUXVRAIFAUXFAUXVRAIFAUX\",BDD!$Z$2:$Z$3)","v":0},{"$f":"SUMIF(BDD!$BI$2:$BI$3,\"Banc 124 bis bisFAUXFAUXVRAIFAUXFAUXFAUXVRAI\",BDD!$Z$2:$Z$3)","v":0},{"$f":"SUMIF(BDD!$BI$2:$BI$3,\"Banc 124 bis bisFAUXFAUXFAUXVRAIVRAIFAUXFAUX\",BDD!$Z$2:$Z$3)","v":0},{"$f":"SUMIF(BDD!$BI$2:$BI$3,\"Banc 124 bis bisFAUXFAUXFAUXVRAIFAUXVRAIFAUX\",BDD!$Z$2:$Z$3)","v":0},{"$f":"SUMIF(BDD!$BI$2:$BI$3,\"Banc 124 bis bisFAUXFAUXFAUXVRAIFAUXFAUXVRAI\",BDD!$Z$2:$Z$3)","v":0},{"$f":"SUMIF(BDD!$BI$2:$BI$3,\"Banc 124 bis bisFAUXFAUXVRAIFAUXVRAIFAUXFAUX\",BDD!$Z$2:$Z$3)","v":0},{"$f":"SUMIF(BDD!$BI$2:$BI$3,\"Banc 124 bis bisFAUXFAUXVRAIFAUXFAUXVRAIFAUX\",BDD!$Z$2:$Z$3)","v":0},{"$f":"SUMIF(BDD!$BI$2:$BI$3,\"Banc 124 bis bisFAUXFAUXVRAIFAUXFAUXFAUXVRAI\",BDD!$Z$2:$Z$3)","v":0},{"$f":"SUMIF(BDD!$BI$2:$BI$3,\"Banc 124 bis bisFAUXFAUXFAUXVRAIVRAIFAUXFAUX\",BDD!$Z$2:$Z$3)","v":0},{"$f":"SUMIF(BDD!$BI$2:$BI$3,\"Banc 124 bis bisFAUXFAUXFAUXVRAIFAUXVRAIFAUX\",BDD!$Z$2:$Z$3)","v":0},{"$f":"SUMIF(BDD!$BI$2:$BI$3,\"Banc 124 bis bisFAUXFAUXFAUXVRAIFAUXFAUXVRAI\",BDD!$Z$2:$Z$3)","v":0},{"$f":"SUMIF(BDD!$BI$2:$BI$3,\"Banc 124 bis bisFAUXFAUXVRAIFAUXVRAIFAUXFAUX\",BDD!$Z$2:$Z$3)","v":0},{"$f":"SUMIF(BDD!$BI$2:$BI$3,\"Banc 124 bis bisFAUXFAUXVRAIFAUXFAUXVRAIFAUX\",BDD!$Z$2:$Z$3)","v":0},{"$f":"SUMIF(BDD!$BI$2:$BI$3,\"Banc 124 bis bisFAUXFAUXVRAIFAUXFAUXFAUXVRAI\",BDD!$Z$2:$Z$3)","v":0},{"$f":"SUMIF(BDD!$BI$2:$BI$3,\"Banc 124 bis bisFAUXFAUXFAUXVRAIVRAIFAUXFAUX\",BDD!$Z$2:$Z$3)","v":0},{"$f":"SUMIF(BDD!$BI$2:$BI$3,\"Banc 124 bis bisFAUXFAUXFAUXVRAIFAUXVRAIFAUX\",BDD!$Z$2:$Z$3)","v":0},{"$f":"SUMIF(BDD!$BI$2:$BI$3,\"Banc 124 bis bisFAUXFAUXFAUXVRAIFAUXFAUXVRAI\",BDD!$Z$2:$Z$3)","v":0},{"$f":"SUMIF(BDD!$BI$2:$BI$3,\"Banc 124 bis bisFAUXFAUXVRAIFAUXVRAIFAUXFAUX\",BDD!$Z$2:$Z$3)","v":0},{"$f":"SUMIF(BDD!$BI$2:$BI$3,\"Banc 124 bis bisFAUXFAUXVRAIFAUXFAUXVRAIFAUX\",BDD!$Z$2:$Z$3)","v":0},{"$f":"SUMIF(BDD!$BI$2:$BI$3,\"Banc 124 bis bisFAUXFAUXVRAIFAUXFAUXFAUXVRAI\",BDD!$Z$2:$Z$3)","v":0},{"$f":"SUMIF(BDD!$BI$2:$BI$3,\"Banc 124 bis bisFAUXFAUXFAUXVRAIVRAIFAUXFAUX\",BDD!$Z$2:$Z$3)","v":0},{"$f":"SUMIF(BDD!$BI$2:$BI$3,\"Banc 124 bis bisFAUXFAUXFAUXVRAIFAUXVRAIFAUX\",BDD!$Z$2:$Z$3)","v":0},{"$f":"SUMIF(BDD!$BI$2:$BI$3,\"Banc 124 bis bisFAUXFAUXFAUXVRAIFAUXFAUXVRAI\",BDD!$Z$2:$Z$3)","v":0},{"$f":"SUMIF(BDD!$BI$2:$BI$3,\"Banc 124 bis bisFAUXFAUXVRAIFAUXVRAIFAUXFAUX\",BDD!$Z$2:$Z$3)","v":0},{"$f":"SUMIF(BDD!$BI$2:$BI$3,\"Banc 124 bisFAUXFAUXVRAIFAUXFAUXVRAIFAUX\",BDD!$Z$2:$Z$3)","v":0},{"$f":"SUMIF(BDD!$BI$2:$BI$3,\"Banc 124 bisFAUXFAUXVRAIFAUXFAUXFAUXVRAI\",BDD!$Z$2:$Z$3)","v":0},{"$f":"SUMIF(BDD!$BI$2:$BI$3,\"Banc 124 bisFAUXFAUXFAUXVRAIVRAIFAUXFAUX\",BDD!$Z$2:$Z$3)","v":0},{"$f":"SUMIF(BDD!$BI$2:$BI$3,\"Banc 124 bisFAUXFAUXFAUXVRAIFAUXVRAIFAUX\",BDD!$Z$2:$Z$3)","v":0},{"$f":"SUMIF(BDD!$BI$2:$BI$3,\"Banc 124 bisFAUXFAUXFAUXVRAIFAUXFAUXVRAI\",BDD!$Z$2:$Z$3)","v":0},{"$f":"SUMIF(BDD!$BI$2:$BI$3,\"Banc 124 bisFAUXFAUXVRAIFAUXVRAIFAUXFAUX\",BDD!$Z$2:$Z$3)","v":0},{"$f":"SUMIF(BDD!$BI$2:$BI$3,\"Banc 124 bisFAUXFAUXVRAIFAUXFAUXVRAIFAUX\",BDD!$Z$2:$Z$3)","v":0},{"$f":"SUMIF(BDD!$BI$2:$BI$3,\"Banc 124 bisFAUXFAUXVRAIFAUXFAUXFAUXVRAI\",BDD!$Z$2:$Z$3)","v":0},{"$f":"SUMIF(BDD!$BI$2:$BI$3,\"Banc 124 bisFAUXFAUXFAUXVRAIVRAIFAUXFAUX\",BDD!$Z$2:$Z$3)","v":0},{"$f":"SUMIF(BDD!$BI$2:$BI$3,\"Banc 124 bisFAUXFAUXFAUXVRAIFAUXVRAIFAUX\",BDD!$Z$2:$Z$3)","v":0},{"$f":"SUMIF(BDD!$BI$2:$BI$3,\"Banc 124 bisFAUXFAUXFAUXVRAIFAUXFAUXVRAI\",BDD!$Z$2:$Z$3)","v":0}]
["Banc 145",{"$f":"SUMIF(BDD!$BI$2:$BI$3,\"Banc 124FAUXFAUXVRAIFAUXVRAIFAUXFAUX\",BDD!$Z$2:$Z$3)","v":0},{"$f":"SUMIF(BDD!$BI$2:$BI$3,\"Banc 124FAUXFAUXVRAIFAUXFAUXVRAIFAUX\",BDD!$Z$2:$Z$3)","v":0},{"$f":"SUMIF(BDD!$BI$2:$BI$3,\"Banc 124FAUXFAUXVRAIFAUXFAUXFAUXVRAI\",BDD!$Z$2:$Z$3)","v":0},{"$f":"SUMIF(BDD!$BI$2:$BI$3,\"Banc 124FAUXFAUXFAUXVRAIVRAIFAUXFAUX\",BDD!$Z$2:$Z$3)","v":0},{"$f":"SUMIF(BDD!$BI$2:$BI$3,\"Banc 124FAUXFAUXFAUXVRAIFAUXVRAIFAUX\",BDD!$Z$2:$Z$3)","v":0},{"$f":"SUMIF(BDD!$BI$2:$BI$3,\"Banc 124FAUXFAUXFAUXVRAIFAUXFAUXVRAI\",BDD!$Z$2:$Z$3)","v":0},{"$f":"SUMIF(BDD!$BI$2:$BI$3,\"Banc 124FAUXFAUXVRAIFAUXVRAIFAUXFAUX\",BDD!$Z$2:$Z$3)","v":0},{"$f":"SUMIF(BDD!$BI$2:$BI$3,\"Banc 124FAUXFAUXVRAIFAUXFAUXVRAIFAUX\",BDD!$Z$2:$Z$3)","v":0},{"$f":"SUMIF(BDD!$BI$2:$BI$3,\"Banc 124FAUXFAUXVRAIFAUXFAUXFAUXVRAI\",BDD!$Z$2:$Z$3)","v":0},{"$f":"SUMIF(BDD!$BI$2:$BI$3,\"Banc 124FAUXFAUXFAUXVRAIVRAIFAUXFAUX\",BDD!$Z$2:$Z$3)","v":0},{"$f":"SUMIF(BDD!$BI$2:$BI$3,\"Banc 124FAUXFAUXFAUXVRAIFAUXVRAIFAUX\",BDD!$Z$2:$Z$3)","v":0},{"$f":"SUMIF(BDD!$BI$2:$BI$3,\"Banc 124FAUXFAUXFAUXVRAIFAUXFAUXVRAI\",BDD!$Z$2:$Z$3)","v":0},{"$f":"SUMIF(BDD!$BI$2:$BI$24,\"Banc 124FAUXFAUXVRAIFAUXVRAIFAUXFAUX\",BDD!$Z$2:$Z$24)","v":0},{"$f":"SUMIF(BDD!$BI$2:$BI$24,\"Banc 124FAUXFAUXVRAIFAUXFAUXVRAIFAUX\",BDD!$Z$2:$Z$24)","v":0},{"$f":"SUMIF(BDD!$BI$2:$BI$24,\"Banc 124FAUXFAUXVRAIFAUXFAUXFAUXVRAI\",BDD!$Z$2:$Z$24)","v":0},{"$f":"SUMIF(BDD!$BI$2:$BI$24,\"Banc 124FAUXFAUXFAUXVRAIVRAIFAUXFAUX\",BDD!$Z$2:$Z$24)","v":0},{"$f":"SUMIF(BDD!$BI$2:$BI$24,\"Banc 124FAUXFAUXFAUXVRAIFAUXVRAIFAUX\",BDD!$Z$2:$Z$24)","v":0},{"$f":"SUMIF(BDD!$BI$2:$BI$24,\"Banc 124FAUXFAUXFAUXVRAIFAUXFAUXVRAI\",BDD!$Z$2:$Z$24)","v":0},{"$f":"SUMIF(BDD!$BI$26:$BI$599,\"Banc 145VRAIFAUXVRAIFAUXFAUX\",BDD!$Z$26:$Z$599)","v":1.3},{"$f":"SUMIF(BDD!$BI$26:$BI$599,\"Banc 145VRAIFAUXFAUXVRAIFAUX\",BDD!$Z$26:$Z$599)","v":0},{"$f":"SUMIF(BDD!$BI$26:$BI$599,\"Banc 145VRAIFAUXFAUXFAUXVRAI\",BDD!$Z$26:$Z$599)","v":0},{"$f":"SUMIF(BDD!$BI$26:$BI$599,\"Banc 145FAUXVRAIVRAIFAUXFAUX\",BDD!$Z$26:$Z$599)","v":0},{"$f":"SUMIF(BDD!$BI$26:$BI$599,\"Banc 145FAUXVRAIFAUXVRAIFAUX\",BDD!$Z$26:$Z$599)","v":0},{"$f":"SUMIF(BDD!$BI$26:$BI$599,\"Banc 145FAUXVRAIFAUXFAUXVRAI\",BDD!$Z$26:$Z$599)","v":0},{"$f":"SUMIF(BDD!$BI$2:$BI$3,\"Banc 124FAUXFAUXVRAIFAUXVRAIFAUXFAUX\",BDD!$Z$2:$Z$3)","v":0},{"$f":"SUMIF(BDD!$BI$2:$BI$3,\"Banc 124FAUXFAUXVRAIFAUXFAUXVRAIFAUX\",BDD!$Z$2:$Z$3)","v":0},{"$f":"SUMIF(BDD!$BI$2:$BI$3,\"Banc 124FAUXFAUXVRAIFAUXFAUXFAUXVRAI\",BDD!$Z$2:$Z$3)","v":0},{"$f":"SUMIF(BDD!$BI$2:$BI$3,\"Banc 124FAUXFAUXFAUXVRAIVRAIFAUXFAUX\",BDD!$Z$2:$Z$3)","v":0},{"$f":"SUMIF(BDD!$BI$2:$BI$3,\"Banc 124FAUXFAUXFAUXVRAIFAUXVRAIFAUX\",BDD!$Z$2:$Z$3)","v":0},{"$f":"SUMIF(BDD!$BI$2:$BI$3,\"Banc 124FAUXFAUXFAUXVRAIFAUXFAUXVRAI\",BDD!$Z$2:$Z$3)","v":0},{"$f":"SUMIF(BDD!$BI$2:$BI$3,\"Banc 124FAUXFAUXVRAIFAUXVRAIFAUXFAUX\",BDD!$Z$2:$Z$3)","v":0},{"$f":"SUMIF(BDD!$BI$2:$BI$3,\"Banc 124FAUXFAUXVRAIFAUXFAUXVRAIFAUX\",BDD!$Z$2:$Z$3)","v":0},{"$f":"SUMIF(BDD!$BI$2:$BI$3,\"Banc 124FAUXFAUXVRAIFAUXFAUXFAUXVRAI\",BDD!$Z$2:$Z$3)","v":0},{"$f":"SUMIF(BDD!$BI$2:$BI$3,\"Banc 124FAUXFAUXFAUXVRAIVRAIFAUXFAUX\",BDD!$Z$2:$Z$3)","v":0},{"$f":"SUMIF(BDD!$BI$2:$BI$3,\"Banc 124FAUXFAUXFAUXVRAIFAUXVRAIFAUX\",BDD!$Z$2:$Z$3)","v":0},{"$f":"SUMIF(BDD!$BI$2:$BI$3,\"Banc 124FAUXFAUXFAUXVRAIFAUXFAUXVRAI\",BDD!$Z$2:$Z$3)","v":0},{"$f":"SUMIF(BDD!$BI$2:$BI$3,\"Banc 124FAUXFAUXVRAIFAUXVRAIFAUXFAUX\",BDD!$Z$2:$Z$3)","v":0},{"$f":"SUMIF(BDD!$BI$2:$BI$3,\"Banc 124FAUXFAUXVRAIFAUXFAUXVRAIFAUX\",BDD!$Z$2:$Z$3)","v":0},{"$f":"SUMIF(BDD!$BI$2:$BI$3,\"Banc 124FAUXFAUXVRAIFAUXFAUXFAUXVRAI\",BDD!$Z$2:$Z$3)","v":0},{"$f":"SUMIF(BDD!$BI$2:$BI$3,\"Banc 124FAUXFAUXFAUXVRAIVRAIFAUXFAUX\",BDD!$Z$2:$Z$3)","v":0},{"$f":"SUMIF(BDD!$BI$2:$BI$3,\"Banc 124FAUXFAUXFAUXVRAIFAUXVRAIFAUX\",BDD!$Z$2:$Z$3)","v":0},{"$f":"SUMIF(BDD!$BI$2:$BI$3,\"Banc 124FAUXFAUXFAUXVRAIFAUXFAUXVRAI\",BDD!$Z$2:$Z$3)","v":0},{"$f":"SUMIF(BDD!$BI$2:$BI$3,\"Banc 124FAUXFAUXVRAIFAUXVRAIFAUXFAUX\",BDD!$Z$2:$Z$3)","v":0},{"$f":"SUMIF(BDD!$BI$2:$BI$3,\"Banc 124FAUXFAUXVRAIFAUXFAUXVRAIFAUX\",BDD!$Z$2:$Z$3)","v":0},{"$f":"SUMIF(BDD!$BI$2:$BI$3,\"Banc 124FAUXFAUXVRAIFAUXFAUXFAUXVRAI\",BDD!$Z$2:$Z$3)","v":0},{"$f":"SUMIF(BDD!$BI$2:$BI$3,\"Banc 124FAUXFAUXFAUXVRAIVRAIFAUXFAUX\",BDD!$Z$2:$Z$3)","v":0},{"$f":"SUMIF(BDD!$BI$2:$BI$3,\"Banc 124FAUXFAUXFAUXVRAIFAUXVRAIFAUX\",BDD!$Z$2:$Z$3)","v":0},{"$f":"SUMIF(BDD!$BI$2:$BI$3,\"Banc 124FAUXFAUXFAUXVRAIFAUXFAUXVRAI\",BDD!$Z$2:$Z$3)","v":0},{"$f":"SUMIF(BDD!$BI$2:$BI$3,\"Banc 124FAUXFAUXVRAIFAUXVRAIFAUXFAUX\",BDD!$Z$2:$Z$3)","v":0},{"$f":"SUMIF(BDD!$BI$2:$BI$3,\"Banc 124FAUXFAUXVRAIFAUXFAUXVRAIFAUX\",BDD!$Z$2:$Z$3)","v":0},{"$f":"SUMIF(BDD!$BI$2:$BI$3,\"Banc 124FAUXFAUXVRAIFAUXFAUXFAUXVRAI\",BDD!$Z$2:$Z$3)","v":0},{"$f":"SUMIF(BDD!$BI$2:$BI$3,\"Banc 124FAUXFAUXFAUXVRAIVRAIFAUXFAUX\",BDD!$Z$2:$Z$3)","v":0},{"$f":"SUMIF(BDD!$BI$2:$BI$3,\"Banc 124FAUXFAUXFAUXVRAIFAUXVRAIFAUX\",BDD!$Z$2:$Z$3)","v":0},{"$f":"SUMIF(BDD!$BI$2:$BI$3,\"Banc 124FAUXFAUXFAUXVRAIFAUXFAUXVRAI\",BDD!$Z$2:$Z$3)","v":0},{"$f":"SUMIF(BDD!$BI$2:$BI$3,\"Banc 124FAUXFAUXVRAIFAUXVRAIFAUXFAUX\",BDD!$Z$2:$Z$3)","v":0},{"$f":"SUMIF(BDD!$BI$2:$BI$3,\"Banc 124FAUXFAUXVRAIFAUXFAUXVRAIFAUX\",BDD!$Z$2:$Z$3)","v":0},{"$f":"SUMIF(BDD!$BI$2:$BI$3,\"Banc 124FAUXFAUXVRAIFAUXFAUXFAUXVRAI\",BDD!$Z$2:$Z$3)","v":0},{"$f":"SUMIF(BDD!$BI$2:$BI$3,\"Banc 124FAUXFAUXFAUXVRAIVRAIFAUXFAUX\",BDD!$Z$2:$Z$3)","v":0},{"$f":"SUMIF(BDD!$BI$2:$BI$3,\"Banc 124FAUXFAUXFAUXVRAIFAUXVRAIFAUX\",BDD!$Z$2:$Z$3)","v":0},{"$f":"SUMIF(BDD!$BI$2:$BI$3,\"Banc 124FAUXFAUXFAUXVRAIFAUXFAUXVRAI\",BDD!$Z$2:$Z$3)","v":0},{"$f":"SUMIF(BDD!$BI$2:$BI$3,\"Banc 124FAUXFAUXVRAIFAUXVRAIFAUXFAUX\",BDD!$Z$2:$Z$3)","v":0},{"$f":"SUMIF(BDD!$BI$2:$BI$3,\"Banc 124FAUXFAUXVRAIFAUXFAUXVRAIFAUX\",BDD!$Z$2:$Z$3)","v":0},{"$f":"SUMIF(BDD!$BI$2:$BI$3,\"Banc 124FAUXFAUXVRAIFAUXFAUXFAUXVRAI\",BDD!$Z$2:$Z$3)","v":0},{"$f":"SUMIF(BDD!$BI$2:$BI$3,\"Banc 124FAUXFAUXFAUXVRAIVRAIFAUXFAUX\",BDD!$Z$2:$Z$3)","v":0},{"$f":"SUMIF(BDD!$BI$2:$BI$3,\"Banc 124FAUXFAUXFAUXVRAIFAUXVRAIFAUX\",BDD!$Z$2:$Z$3)","v":0},{"$f":"SUMIF(BDD!$BI$2:$BI$3,\"Banc 124FAUXFAUXFAUXVRAIFAUXFAUXVRAI\",BDD!$Z$2:$Z$3)","v":0},{"$f":"SUMIF(BDD!$BI$2:$BI$3,\"Banc 124FAUXFAUXVRAIFAUXVRAIFAUXFAUX\",BDD!$Z$2:$Z$3)","v":0},{"$f":"SUMIF(BDD!$BI$2:$BI$3,\"Banc 124FAUXFAUXVRAIFAUXFAUXVRAIFAUX\",BDD!$Z$2:$Z$3)","v":0},{"$f":"SUMIF(BDD!$BI$2:$BI$3,\"Banc 124FAUXFAUXVRAIFAUXFAUXFAUXVRAI\",BDD!$Z$2:$Z$3)","v":0},{"$f":"SUMIF(BDD!$BI$2:$BI$3,\"Banc 124FAUXFAUXFAUXVRAIVRAIFAUXFAUX\",BDD!$Z$2:$Z$3)","v":0},{"$f":"SUMIF(BDD!$BI$2:$BI$3,\"Banc 124FAUXFAUXFAUXVRAIFAUXVRAIFAUX\",BDD!$Z$2:$Z$3)","v":0},{"$f":"SUMIF(BDD!$BI$2:$BI$3,\"Banc 124FAUXFAUXFAUXVRAIFAUXFAUXVRAI\",BDD!$Z$2:$Z$3)","v":0}]
["Banc cisaillement",{"$f":"SUMIF(BDD!$BI$2:$BI$3,\"Banc 124FAUXFAUXVRAIFAUXVRAIFAUXFAUX\",BDD!$Z$2:$Z$3)","v":0},{"$f":"SUMIF(BDD!$BI$2:$BI$3,\"Banc 124FAUXFAUXVRAIFAUXFAUXVRAIFAUX\",BDD!$Z$2:$Z$3)","v":0},{"$f":"SUMIF(BDD!$BI$2:$BI$3,\"Banc 124FAUXFAUXVRAIFAUXFAUXFAUXVRAI\",BDD!$Z$2:$Z$3)","v":0},{"$f":"SUMIF(BDD!$BI$2:$BI$3,\"Banc 124FAUXFAUXFAUXVRAIVRAIFAUXFAUX\",BDD!$Z$2:$Z$3)","v":0},{"$f":"SUMIF(BDD!$BI$2:$BI$3,\"Banc 124FAUXFAUXFAUXVRAIFAUXVRAIFAUX\",BDD!$Z$2:$Z$3)","v":0},{"$f":"SUMIF(BDD!$BI$2:$BI$3,\"Banc 124FAUXFAUXFAUXVRAIFAUXFAUXVRAI\",BDD!$Z$2:$Z$3)","v":0},{"$f":"SUMIF(BDD!$BI$2:$BI$3,\"Banc 124FAUXFAUXVRAIFAUXVRAIFAUXFAUX\",BDD!$Z$2:$Z$3)","v":0},{"$f":"SUMIF(BDD!$BI$2:$BI$3,\"Banc 124FAUXFAUXVRAIFAUXFAUXVRAIFAUX\",BDD!$Z$2:$Z$3)","v":0},{"$f":"SUMIF(BDD!$BI$2:$BI$3,\"Banc 124FAUXFAUXVRAIFAUXFAUXFAUXVRAI\",BDD!$Z$2:$Z$3)","v":0},{"$f":"SUMIF(BDD!$BI$2:$BI$3,\"Banc 124FAUXFAUXFAUXVRAIVRAIFAUXFAUX\",BDD!$Z$2:$Z$3)","v":0},{"$f":"SUMIF(BDD!$BI$2:$BI$3,\"Banc 124FAUXFAUXFAUXVRAIFAUXVRAIFAUX\",BDD!$Z$2:$Z$3)","v":0},{"$f":"SUMIF(BDD!$BI$2:$BI$3,\"Banc 124FAUXFAUXFAUXVRAIFAUXFAUXVRAI\",BDD!$Z$2:$Z$3)","v":0},{"$f":"SUMIF(BDD!$BI$2:$BI$24,\"Banc 124FAUXFAUXVRAIFAUXVRAIFAUXFAUX\",BDD!$Z$2:$Z$24)","v":0},{"$f":"SUMIF(BDD!$BI$2:$BI$24,\"Banc 124FAUXFAUXVRAIFAUXFAUXVRAIFAUX\",BDD!$Z$2:$Z$24)","v":0},{"$f":"SUMIF(BDD!$BI$2:$BI$24,\"Banc 124FAUXFAUXVRAIFAUXFAUXFAUXVRAI\",BDD!$Z$2:$Z$24)","v":0},{"$f":"SUMIF(BDD!$BI$2:$BI$24,\"Banc 124FAUXFAUXFAUXVRAIVRAIFAUXFAUX\",BDD!$Z$2:$Z$24)","v":0},{"$f":"SUMIF(BDD!$BI$2:$BI$24,\"Banc 124FAUXFAUXFAUXVRAIFAUXVRAIFAUX\",BDD!$Z$2:$Z$24)","v":0},{"$f":"SUMIF(BDD!$BI$2:$BI$24,\"Banc 124FAUXFAUXFAUXVRAIFAUXFAUXVRAI\",BDD!$Z$2:$Z$24)","v":0},{"$f":"SUMIF(BDD!$BI$26:$BI$599,\"Banc cisaillementVRAIFAUXVRAIFAUXFAUX\",BDD!$Z$26:$Z$599)","v":0},{"$f":"SUMIF(BDD!$BI$26:$BI$599,\"Banc cisaillementVRAIFAUXFAUXVRAIFAUX\",BDD!$Z$26:$Z$599)","v":0},{"$f":"SUMIF(BDD!$BI$26:$BI$599,\"Banc cisaillementVRAIFAUXFAUXFAUXVRAI\",BDD!$Z$26:$Z$599)","v":0},{"$f":"SUMIF(BDD!$BI$26:$BI$599,\"Banc cisaillementFAUXVRAIVRAIFAUXFAUX\",BDD!$Z$26:$Z$599)","v":0},{"$f":"SUMIF(BDD!$BI$26:$BI$599,\"Banc cisaillementFAUXVRAIFAUXVRAIFAUX\",BDD!$Z$26:$Z$599)","v":0},{"$f":"SUMIF(BDD!$BI$26:$BI$599,\"Banc cisaillementFAUXVRAIFAUXFAUXVRAI\",BDD!$Z$26:$Z$599)","v":0},{"$f":"SUMIF(BDD!$BI$2:$BI$3,\"Banc 124FAUXFAUXVRAIFAUXVRAIFAUXFAUX\",BDD!$Z$2:$Z$3)","v":0},{"$f":"SUMIF(BDD!$BI$2:$BI$3,\"Banc 124FAUXFAUXVRAIFAUXFAUXVRAIFAUX\",BDD!$Z$2:$Z$3)","v":0},{"$f":"SUMIF(BDD!$BI$2:$BI$3,\"Banc 124FAUXFAUXVRAIFAUXFAUXFAUXVRAI\",BDD!$Z$2:$Z$3)","v":0},{"$f":"SUMIF(BDD!$BI$2:$BI$3,\"Banc 124FAUXFAUXFAUXVRAIVRAIFAUXFAUX\",BDD!$Z$2:$Z$3)","v":0},{"$f":"SUMIF(BDD!$BI$2:$BI$3,\"Banc 124FAUXFAUXFAUXVRAIFAUXVRAIFAUX\",BDD!$Z$2:$Z$3)","v":0},{"$f":"SUMIF(BDD!$BI$2:$BI$3,\"Banc 124FAUXFAUXFAUXVRAIFAUXFAUXVRAI\",BDD!$Z$2:$Z$3)","v":0},{"$f":"SUMIF(BDD!$BI$2:$BI$3,\"Banc 124FAUXFAUXVRAIFAUXVRAIFAUXFAUX\",BDD!$Z$2:$Z$3)","v":0},{"$f":"SUMIF(BDD!$BI$2:$BI$3,\"Banc 124FAUXFAUXVRAIFAUXFAUXVRAIFAUX\",BDD!$Z$2:$Z$3)","v":0},{"$f":"SUMIF(BDD!$BI$2:$BI$3,\"Banc 124FAUXFAUXVRAIFAUXFAUXFAUXVRAI\",BDD!$Z$2:$Z$3)","v":0},{"$f":"SUMIF(BDD!$BI$2:$BI$3,\"Banc 124FAUXFAUXFAUXVRAIVRAIFAUXFAUX\",BDD!$Z$2:$Z$3)","v":0},{"$f":"SUMIF(BDD!$BI$2:$BI$3,\"Banc 124FAUXFAUXFAUXVRAIFAUXVRAIFAUX\",BDD!$Z$2:$Z$3)","v":0},{"$f":"SUMIF(BDD!$BI$2:$BI$3,\"Banc 124FAUXFAUXFAUXVRAIFAUXFAUXVRAI\",BDD!$Z$2:$Z$3)","v":0},{"$f":"SUMIF(BDD!$BI$2:$BI$3,\"Banc 124FAUXFAUXVRAIFAUXVRAIFAUXFAUX\",BDD!$Z$2:$Z$3)","v":0},{"$f":"SUMIF(BDD!$BI$2:$BI$3,\"Banc 124FAUXFAUXVRAIFAUXFAUXVRAIFAUX\",BDD!$Z$2:$Z$3)","v":0},{"$f":"SUMIF(BDD!$BI$2:$BI$3,\"Banc 124FAUXFAUXVRAIFAUXFAUXFAUXVRAI\",BDD!$Z$2:$Z$3)","v":0},{"$f":"SUMIF(BDD!$BI$2:$BI$3,\"Banc 124FAUXFAUXFAUXVRAIVRAIFAUXFAUX\",BDD!$Z$2:$Z$3)","v":0},{"$f":"SUMIF(BDD!$BI$2:$BI$3,\"Banc 124FAUXFAUXFAUXVRAIFAUXVRAIFAUX\",BDD!$Z$2:$Z$3)","v":0},{"$f":"SUMIF(BDD!$BI$2:$BI$3,\"Banc 124FAUXFAUXFAUXVRAIFAUXFAUXVRAI\",BDD!$Z$2:$Z$3)","v":0},{"$f":"SUMIF(BDD!$BI$2:$BI$3,\"Banc 124FAUXFAUXVRAIFAUXVRAIFAUXFAUX\",BDD!$Z$2:$Z$3)","v":0},{"$f":"SUMIF(BDD!$BI$2:$BI$3,\"Banc 124FAUXFAUXVRAIFAUXFAUXVRAIFAUX\",BDD!$Z$2:$Z$3)","v":0},{"$f":"SUMIF(BDD!$BI$2:$BI$3,\"Banc 124FAUXFAUXVRAIFAUXFAUXFAUXVRAI\",BDD!$Z$2:$Z$3)","v":0},{"$f":"SUMIF(BDD!$BI$2:$BI$3,\"Banc 124FAUXFAUXFAUXVRAIVRAIFAUXFAUX\",BDD!$Z$2:$Z$3)","v":0},{"$f":"SUMIF(BDD!$BI$2:$BI$3,\"Banc 124FAUXFAUXFAUXVRAIFAUXVRAIFAUX\",BDD!$Z$2:$Z$3)","v":0},{"$f":"SUMIF(BDD!$BI$2:$BI$3,\"Banc 124FAUXFAUXFAUXVRAIFAUXFAUXVRAI\",BDD!$Z$2:$Z$3)","v":0},{"$f":"SUMIF(BDD!$BI$2:$BI$3,\"Banc 124FAUXFAUXVRAIFAUXVRAIFAUXFAUX\",BDD!$Z$2:$Z$3)","v":0},{"$f":"SUMIF(BDD!$BI$2:$BI$3,\"Banc 124FAUXFAUXVRAIFAUXFAUXVRAIFAUX\",BDD!$Z$2:$Z$3)","v":0},{"$f":"SUMIF(BDD!$BI$2:$BI$3,\"Banc 124FAUXFAUXVRAIFAUXFAUXFAUXVRAI\",BDD!$Z$2:$Z$3)","v":0},{"$f":"SUMIF(BDD!$BI$2:$BI$3,\"Banc 124FAUXFAUXFAUXVRAIVRAIFAUXFAUX\",BDD!$Z$2:$Z$3)","v":0},{"$f":"SUMIF(BDD!$BI$2:$BI$3,\"Banc 124FAUXFAUXFAUXVRAIFAUXVRAIFAUX\",BDD!$Z$2:$Z$3)","v":0},{"$f":"SUMIF(BDD!$BI$2:$BI$3,\"Banc 124FAUXFAUXFAUXVRAIFAUXFAUXVRAI\",BDD!$Z$2:$Z$3)","v":0},{"$f":"SUMIF(BDD!$BI$2:$BI$3,\"Banc 124FAUXFAUXVRAIFAUXVRAIFAUXFAUX\",BDD!$Z$2:$Z$3)","v":0},{"$f":"SUMIF(BDD!$BI$2:$BI$3,\"Banc 124FAUXFAUXVRAIFAUXFAUXVRAIFAUX\",BDD!$Z$2:$Z$3)","v":0},{"$f":"SUMIF(BDD!$BI$2:$BI$3,\"Banc 124FAUXFAUXVRAIFAUXFAUXFAUXVRAI\",BDD!$Z$2:$Z$3)","v":0},{"$f":"SUMIF(BDD!$BI$2:$BI$3,\"Banc 124FAUXFAUXFAUXVRAIVRAIFAUXFAUX\",BDD!$Z$2:$Z$3)","v":0},{"$f":"SUMIF(BDD!$BI$2:$BI$3,\"Banc 124FAUXFAUXFAUXVRAIFAUXVRAIFAUX\",BDD!$Z$2:$Z$3)","v":0},{"$f":"SUMIF(BDD!$BI$2:$BI$3,\"Banc 124FAUXFAUXFAUXVRAIFAUXFAUXVRAI\",BDD!$Z$2:$Z$3)","v":0},{"$f":"SUMIF(BDD!$BI$2:$BI$3,\"Banc 124FAUXFAUXVRAIFAUXVRAIFAUXFAUX\",BDD!$Z$2:$Z$3)","v":0},{"$f":"SUMIF(BDD!$BI$2:$BI$3,\"Banc 124FAUXFAUXVRAIFAUXFAUXVRAIFAUX\",BDD!$Z$2:$Z$3)","v":0},{"$f":"SUMIF(BDD!$BI$2:$BI$3,\"Banc 124FAUXFAUXVRAIFAUXFAUXFAUXVRAI\",BDD!$Z$2:$Z$3)","v":0},{"$f":"SUMIF(BDD!$BI$2:$BI$3,\"Banc 124FAUXFAUXFAUXVRAIVRAIFAUXFAUX\",BDD!$Z$2:$Z$3)","v":0},{"$f":"SUMIF(BDD!$BI$2:$BI$3,\"Banc 124FAUXFAUXFAUXVRAIFAUXVRAIFAUX\",BDD!$Z$2:$Z$3)","v":0},{"$f":"SUMIF(BDD!$BI$2:$BI$3,\"Banc 124FAUXFAUXFAUXVRAIFAUXFAUXVRAI\",BDD!$Z$2:$Z$3)","v":0},{"$f":"SUMIF(BDD!$BI$2:$BI$3,\"Banc 124FAUXFAUXVRAIFAUXVRAIFAUXFAUX\",BDD!$Z$2:$Z$3)","v":0},{"$f":"SUMIF(BDD!$BI$2:$BI$3,\"Banc 124FAUXFAUXVRAIFAUXFAUXVRAIFAUX\",BDD!$Z$2:$Z$3)","v":0},{"$f":"SUMIF(BDD!$BI$2:$BI$3,\"Banc 124FAUXFAUXVRAIFAUXFAUXFAUXVRAI\",BDD!$Z$2:$Z$3)","v":0},{"$f":"SUMIF(BDD!$BI$2:$BI$3,\"Banc 124FAUXFAUXFAUXVRAIVRAIFAUXFAUX\",BDD!$Z$2:$Z$3)","v":0},{"$f":"SUMIF(BDD!$BI$2:$BI$3,\"Banc 124FAUXFAUXFAUXVRAIFAUXVRAIFAUX\",BDD!$Z$2:$Z$3)","v":0},{"$f":"SUMIF(BDD!$BI$2:$BI$3,\"Banc 124FAUXFAUXFAUXVRAIFAUXFAUXVRAI\",BDD!$Z$2:$Z$3)","v":0}]
["Banc HP",{"$f":"SUMIF(BDD!$BI$2:$BI$3,\"Banc 124FAUXFAUXVRAIFAUXVRAIFAUXFAUX\",BDD!$Z$2:$Z$3)","v":0},{"$f":"SUMIF(BDD!$BI$2:$BI$3,\"Banc 124FAUXFAUXVRAIFAUXFAUXVRAIFAUX\",BDD!$Z$2:$Z$3)","v":0},{"$f":"SUMIF(BDD!$BI$2:$BI$3,\"Banc 124FAUXFAUXVRAIFAUXFAUXFAUXVRAI\",BDD!$Z$2:$Z$3)","v":0},{"$f":"SUMIF(BDD!$BI$2:$BI$3,\"Banc 124FAUXFAUXFAUXVRAIVRAIFAUXFAUX\",BDD!$Z$2:$Z$3)","v":0},{"$f":"SUMIF(BDD!$BI$2:$BI$3,\"Banc 124FAUXFAUXFAUXVRAIFAUXVRAIFAUX\",BDD!$Z$2:$Z$3)","v":0},{"$f":"SUMIF(BDD!$BI$2:$BI$3,\"Banc 124FAUXFAUXFAUXVRAIFAUXFAUXVRAI\",BDD!$Z$2:$Z$3)","v":0},{"$f":"SUMIF(BDD!$BI$2:$BI$3,\"Banc 124FAUXFAUXVRAIFAUXVRAIFAUXFAUX\",BDD!$Z$2:$Z$3)","v":0},{"$f":"SUMIF(BDD!$BI$2:$BI$3,\"Banc 124FAUXFAUXVRAIFAUXFAUXVRAIFAUX\",BDD!$Z$2:$Z$3)","v":0},{"$f":"SUMIF(BDD!$BI$2:$BI$3,\"Banc 124FAUXFAUXVRAIFAUXFAUXFAUXVRAI\",BDD!$Z$2:$Z$3)","v":0},{"$f":"SUMIF(BDD!$BI$2:$BI$3,\"Banc 124FAUXFAUXFAUXVRAIVRAIFAUXFAUX\",BDD!$Z$2:$Z$3)","v":0},{"$f":"SUMIF(BDD!$BI$2:$BI$3,\"Banc 124FAUXFAUXFAUXVRAIFAUXVRAIFAUX\",BDD!$Z$2:$Z$3)","v":0},{"$f":"SUMIF(BDD!$BI$2:$BI$3,\"Banc 124FAUXFAUXFAUXVRAIFAUXFAUXVRAI\",BDD!$Z$2:$Z$3)","v":0},{"$f":"SUMIF(BDD!$BI$2:$BI$24,\"Banc 124FAUXFAUXVRAIFAUXVRAIFAUXFAUX\",BDD!$Z$2:$Z$24)","v":0},{"$f":"SUMIF(BDD!$BI$2:$BI$24,\"Banc 124FAUXFAUXVRAIFAUXFAUXVRAIFAUX\",BDD!$Z$2:$Z$24)","v":0},{"$f":"SUMIF(BDD!$BI$2:$BI$24,\"Banc 124FAUXFAUXVRAIFAUXFAUXFAUXVRAI\",BDD!$Z$2:$Z$24)","v":0},{"$f":"SUMIF(BDD!$BI$2:$BI$24,\"Banc 124FAUXFAUXFAUXVRAIVRAIFAUXFAUX\",BDD!$Z$2:$Z$24)","v":0},{"$f":"SUMIF(BDD!$BI$2:$BI$24,\"Banc 124FAUXFAUXFAUXVRAIFAUXVRAIFAUX\",BDD!$Z$2:$Z$24)","v":0},{"$f":"SUMIF(BDD!$BI$2:$BI$24,\"Banc 124FAUXFAUXFAUXVRAIFAUXFAUXVRAI\",BDD!$Z$2:$Z$24)","v":0},{"$f":"SUMIF(BDD!$BI$26:$BI$599,\"Banc HPVRAIFAUXVRAIFAUXFAUX\",BDD!$Z$26:$Z$599)","v":1},{"$f":"SUMIF(BDD!$BI$26:$BI$599,\"Banc HPVRAIFAUXFAUXVRAIFAUX\",BDD!$Z$26:$Z$599)","v":0},{"$f":"SUMIF(BDD!$BI$26:$BI$599,\"Banc HPVRAIFAUXFAUXFAUXVRAI\",BDD!$Z$26:$Z$599)","v":0},{"$f":"SUMIF(BDD!$BI$26:$BI$599,\"Banc HPFAUXVRAIVRAIFAUXFAUX\",BDD!$Z$26:$Z$599)","v":0},{"$f":"SUMIF(BDD!$BI$26:$BI$599,\"Banc HPFAUXVRAIFAUXVRAIFAUX\",BDD!$Z$26:$Z$599)","v":0},{"$f":"SUMIF(BDD!$BI$26:$BI$599,\"Banc HPFAUXVRAIFAUXFAUXVRAI\",BDD!$Z$26:$Z$599)","v":0},{"$f":"SUMIF(BDD!$BI$2:$BI$3,\"Banc 124FAUXFAUXVRAIFAUXVRAIFAUXFAUX\",BDD!$Z$2:$Z$3)","v":0},{"$f":"SUMIF(BDD!$BI$2:$BI$3,\"Banc 124FAUXFAUXVRAIFAUXFAUXVRAIFAUX\",BDD!$Z$2:$Z$3)","v":0},{"$f":"SUMIF(BDD!$BI$2:$BI$3,\"Banc 124FAUXFAUXVRAIFAUXFAUXFAUXVRAI\",BDD!$Z$2:$Z$3)","v":0},{"$f":"SUMIF(BDD!$BI$2:$BI$3,\"Banc 124FAUXFAUXFAUXVRAIVRAIFAUXFAUX\",BDD!$Z$2:$Z$3)","v":0},{"$f":"SUMIF(BDD!$BI$2:$BI$3,\"Banc 124FAUXFAUXFAUXVRAIFAUXVRAIFAUX\",BDD!$Z$2:$Z$3)","v":0},{"$f":"SUMIF(BDD!$BI$2:$BI$3,\"Banc 124FAUXFAUXFAUXVRAIFAUXFAUXVRAI\",BDD!$Z$2:$Z$3)","v":0},{"$f":"SUMIF(BDD!$BI$2:$BI$3,\"Banc 124FAUXFAUXVRAIFAUXVRAIFAUXFAUX\",BDD!$Z$2:$Z$3)","v":0},{"$f":"SUMIF(BDD!$BI$2:$BI$3,\"Banc 124FAUXFAUXVRAIFAUXFAUXVRAIFAUX\",BDD!$Z$2:$Z$3)","v":0},{"$f":"SUMIF(BDD!$BI$2:$BI$3,\"Banc 124FAUXFAUXVRAIFAUXFAUXFAUXVRAI\",BDD!$Z$2:$Z$3)","v":0},{"$f":"SUMIF(BDD!$BI$2:$BI$3,\"Banc 124FAUXFAUXFAUXVRAIVRAIFAUXFAUX\",BDD!$Z$2:$Z$3)","v":0},{"$f":"SUMIF(BDD!$BI$2:$BI$3,\"Banc 124FAUXFAUXFAUXVRAIFAUXVRAIFAUX\",BDD!$Z$2:$Z$3)","v":0},{"$f":"SUMIF(BDD!$BI$2:$BI$3,\"Banc 124FAUXFAUXFAUXVRAIFAUXFAUXVRAI\",BDD!$Z$2:$Z$3)","v":0},{"$f":"SUMIF(BDD!$BI$2:$BI$3,\"Banc 124FAUXFAUXVRAIFAUXVRAIFAUXFAUX\",BDD!$Z$2:$Z$3)","v":0},{"$f":"SUMIF(BDD!$BI$2:$BI$3,\"Banc 124FAUXFAUXVRAIFAUXFAUXVRAIFAUX\",BDD!$Z$2:$Z$3)","v":0},{"$f":"SUMIF(BDD!$BI$2:$BI$3,\"Banc 124FAUXFAUXVRAIFAUXFAUXFAUXVRAI\",BDD!$Z$2:$Z$3)","v":0},{"$f":"SUMIF(BDD!$BI$2:$BI$3,\"Banc 124FAUXFAUXFAUXVRAIVRAIFAUXFAUX\",BDD!$Z$2:$Z$3)","v":0},{"$f":"SUMIF(BDD!$BI$2:$BI$3,\"Banc 124FAUXFAUXFAUXVRAIFAUXVRAIFAUX\",BDD!$Z$2:$Z$3)","v":0},{"$f":"SUMIF(BDD!$BI$2:$BI$3,\"Banc 124FAUXFAUXFAUXVRAIFAUXFAUXVRAI\",BDD!$Z$2:$Z$3)","v":0},{"$f":"SUMIF(BDD!$BI$2:$BI$3,\"Banc 124FAUXFAUXVRAIFAUXVRAIFAUXFAUX\",BDD!$Z$2:$Z$3)","v":0},{"$f":"SUMIF(BDD!$BI$2:$BI$3,\"Banc 124FAUXFAUXVRAIFAUXFAUXVRAIFAUX\",BDD!$Z$2:$Z$3)","v":0},{"$f":"SUMIF(BDD!$BI$2:$BI$3,\"Banc 124FAUXFAUXVRAIFAUXFAUXFAUXVRAI\",BDD!$Z$2:$Z$3)","v":0},{"$f":"SUMIF(BDD!$BI$2:$BI$3,\"Banc 124FAUXFAUXFAUXVRAIVRAIFAUXFAUX\",BDD!$Z$2:$Z$3)","v":0},{"$f":"SUMIF(BDD!$BI$2:$BI$3,\"Banc 124FAUXFAUXFAUXVRAIFAUXVRAIFAUX\",BDD!$Z$2:$Z$3)","v":0},{"$f":"SUMIF(BDD!$BI$2:$BI$3,\"Banc 124FAUXFAUXFAUXVRAIFAUXFAUXVRAI\",BDD!$Z$2:$Z$3)","v":0},{"$f":"SUMIF(BDD!$BI$2:$BI$3,\"Banc 124FAUXFAUXVRAIFAUXVRAIFAUXFAUX\",BDD!$Z$2:$Z$3)","v":0},{"$f":"SUMIF(BDD!$BI$2:$BI$3,\"Banc 124FAUXFAUXVRAIFAUXFAUXVRAIFAUX\",BDD!$Z$2:$Z$3)","v":0},{"$f":"SUMIF(BDD!$BI$2:$BI$3,\"Banc 124FAUXFAUXVRAIFAUXFAUXFAUXVRAI\",BDD!$Z$2:$Z$3)","v":0},{"$f":"SUMIF(BDD!$BI$2:$BI$3,\"Banc 124FAUXFAUXFAUXVRAIVRAIFAUXFAUX\",BDD!$Z$2:$Z$3)","v":0},{"$f":"SUMIF(BDD!$BI$2:$BI$3,\"Banc 124FAUXFAUXFAUXVRAIFAUXVRAIFAUX\",BDD!$Z$2:$Z$3)","v":0},{"$f":"SUMIF(BDD!$BI$2:$BI$3,\"Banc 124FAUXFAUXFAUXVRAIFAUXFAUXVRAI\",BDD!$Z$2:$Z$3)","v":0},{"$f":"SUMIF(BDD!$BI$2:$BI$3,\"Banc 124FAUXFAUXVRAIFAUXVRAIFAUXFAUX\",BDD!$Z$2:$Z$3)","v":0},{"$f":"SUMIF(BDD!$BI$2:$BI$3,\"Banc 124FAUXFAUXVRAIFAUXFAUXVRAIFAUX\",BDD!$Z$2:$Z$3)","v":0},{"$f":"SUMIF(BDD!$BI$2:$BI$3,\"Banc 124FAUXFAUXVRAIFAUXFAUXFAUXVRAI\",BDD!$Z$2:$Z$3)","v":0},{"$f":"SUMIF(BDD!$BI$2:$BI$3,\"Banc 124FAUXFAUXFAUXVRAIVRAIFAUXFAUX\",BDD!$Z$2:$Z$3)","v":0},{"$f":"SUMIF(BDD!$BI$2:$BI$3,\"Banc 124FAUXFAUXFAUXVRAIFAUXVRAIFAUX\",BDD!$Z$2:$Z$3)","v":0},{"$f":"SUMIF(BDD!$BI$2:$BI$3,\"Banc 124FAUXFAUXFAUXVRAIFAUXFAUXVRAI\",BDD!$Z$2:$Z$3)","v":0},{"$f":"SUMIF(BDD!$BI$2:$BI$3,\"Banc 124FAUXFAUXVRAIFAUXVRAIFAUXFAUX\",BDD!$Z$2:$Z$3)","v":0},{"$f":"SUMIF(BDD!$BI$2:$BI$3,\"Banc 124FAUXFAUXVRAIFAUXFAUXVRAIFAUX\",BDD!$Z$2:$Z$3)","v":0},{"$f":"SUMIF(BDD!$BI$2:$BI$3,\"Banc 124FAUXFAUXVRAIFAUXFAUXFAUXVRAI\",BDD!$Z$2:$Z$3)","v":0},{"$f":"SUMIF(BDD!$BI$2:$BI$3,\"Banc 124FAUXFAUXFAUXVRAIVRAIFAUXFAUX\",BDD!$Z$2:$Z$3)","v":0},{"$f":"SUMIF(BDD!$BI$2:$BI$3,\"Banc 124FAUXFAUXFAUXVRAIFAUXVRAIFAUX\",BDD!$Z$2:$Z$3)","v":0},{"$f":"SUMIF(BDD!$BI$2:$BI$3,\"Banc 124FAUXFAUXFAUXVRAIFAUXFAUXVRAI\",BDD!$Z$2:$Z$3)","v":0},{"$f":"SUMIF(BDD!$BI$2:$BI$3,\"Banc 124FAUXFAUXVRAIFAUXVRAIFAUXFAUX\",BDD!$Z$2:$Z$3)","v":0},{"$f":"SUMIF(BDD!$BI$2:$BI$3,\"Banc 124FAUXFAUXVRAIFAUXFAUXVRAIFAUX\",BDD!$Z$2:$Z$3)","v":0},{"$f":"SUMIF(BDD!$BI$2:$BI$3,\"Banc 124FAUXFAUXVRAIFAUXFAUXFAUXVRAI\",BDD!$Z$2:$Z$3)","v":0},{"$f":"SUMIF(BDD!$BI$2:$BI$3,\"Banc 124FAUXFAUXFAUXVRAIVRAIFAUXFAUX\",BDD!$Z$2:$Z$3)","v":0},{"$f":"SUMIF(BDD!$BI$2:$BI$3,\"Banc 124FAUXFAUXFAUXVRAIFAUXVRAIFAUX\",BDD!$Z$2:$Z$3)","v":0},{"$f":"SUMIF(BDD!$BI$2:$BI$3,\"Banc 124FAUXFAUXFAUXVRAIFAUXFAUXVRAI\",BDD!$Z$2:$Z$3)","v":0}]
["Banc W+B",{"$f":"SUMIF(BDD!$BI$2:$BI$3,\"Banc 124FAUXFAUXVRAIFAUXVRAIFAUXFAUX\",BDD!$Z$2:$Z$3)","v":0},{"$f":"SUMIF(BDD!$BI$2:$BI$3,\"Banc 124FAUXFAUXVRAIFAUXFAUXVRAIFAUX\",BDD!$Z$2:$Z$3)","v":0},{"$f":"SUMIF(BDD!$BI$2:$BI$3,\"Banc 124FAUXFAUXVRAIFAUXFAUXFAUXVRAI\",BDD!$Z$2:$Z$3)","v":0},{"$f":"SUMIF(BDD!$BI$2:$BI$3,\"Banc 124FAUXFAUXFAUXVRAIVRAIFAUXFAUX\",BDD!$Z$2:$Z$3)","v":0},{"$f":"SUMIF(BDD!$BI$2:$BI$3,\"Banc 124FAUXFAUXFAUXVRAIFAUXVRAIFAUX\",BDD!$Z$2:$Z$3)","v":0},{"$f":"SUMIF(BDD!$BI$2:$BI$3,\"Banc 124FAUXFAUXFAUXVRAIFAUXFAUXVRAI\",BDD!$Z$2:$Z$3)","v":0},{"$f":"SUMIF(BDD!$BI$2:$BI$3,\"Banc 124FAUXFAUXVRAIFAUXVRAIFAUXFAUX\",BDD!$Z$2:$Z$3)","v":0},{"$f":"SUMIF(BDD!$BI$2:$BI$3,\"Banc 124FAUXFAUXVRAIFAUXFAUXVRAIFAUX\",BDD!$Z$2:$Z$3)","v":0},{"$f":"SUMIF(BDD!$BI$2:$BI$3,\"Banc 124FAUXFAUXVRAIFAUXFAUXFAUXVRAI\",BDD!$Z$2:$Z$3)","v":0},{"$f":"SUMIF(BDD!$BI$2:$BI$3,\"Banc 124FAUXFAUXFAUXVRAIVRAIFAUXFAUX\",BDD!$Z$2:$Z$3)","v":0},{"$f":"SUMIF(BDD!$BI$2:$BI$3,\"Banc 124FAUXFAUXFAUXVRAIFAUXVRAIFAUX\",BDD!$Z$2:$Z$3)","v":0},{"$f":"SUMIF(BDD!$BI$2:$BI$3,\"Banc 124FAUXFAUXFAUXVRAIFAUXFAUXVRAI\",BDD!$Z$2:$Z$3)","v":0},{"$f":"SUMIF(BDD!$BI$2:$BI$24,\"Banc 124FAUXFAUXVRAIFAUXVRAIFAUXFAUX\",BDD!$Z$2:$Z$24)","v":0},{"$f":"SUMIF(BDD!$BI$2:$BI$24,\"Banc 124FAUXFAUXVRAIFAUXFAUXVRAIFAUX\",BDD!$Z$2:$Z$24)","v":0},{"$f":"SUMIF(BDD!$BI$2:$BI$24,\"Banc 124FAUXFAUXVRAIFAUXFAUXFAUXVRAI\",BDD!$Z$2:$Z$24)","v":0},{"$f":"SUMIF(BDD!$BI$2:$BI$24,\"Banc 124FAUXFAUXFAUXVRAIVRAIFAUXFAUX\",BDD!$Z$2:$Z$24)","v":0},{"$f":"SUMIF(BDD!$BI$2:$BI$24,\"Banc 124FAUXFAUXFAUXVRAIFAUXVRAIFAUX\",BDD!$Z$2:$Z$24)","v":0},{"$f":"SUMIF(BDD!$BI$2:$BI$24,\"Banc 124FAUXFAUXFAUXVRAIFAUXFAUXVRAI\",BDD!$Z$2:$Z$24)","v":0},{"$f":"SUMIF(BDD!$BI$26:$BI$599,\"Banc W+BVRAIFAUXVRAIFAUXFAUX\",BDD!$Z$26:$Z$599)","v":0},{"$f":"SUMIF(BDD!$BI$26:$BI$599,\"Banc W+BVRAIFAUXFAUXVRAIFAUX\",BDD!$Z$26:$Z$599)","v":0},{"$f":"SUMIF(BDD!$BI$26:$BI$599,\"Banc W+BVRAIFAUXFAUXFAUXVRAI\",BDD!$Z$26:$Z$599)","v":0},{"$f":"SUMIF(BDD!$BI$26:$BI$599,\"Banc W+BFAUXVRAIVRAIFAUXFAUX\",BDD!$Z$26:$Z$599)","v":0},{"$f":"SUMIF(BDD!$BI$26:$BI$599,\"Banc W+BFAUXVRAIFAUXVRAIFAUX\",BDD!$Z$26:$Z$599)","v":0},{"$f":"SUMIF(BDD!$BI$26:$BI$599,\"Banc W+BFAUXVRAIFAUXFAUXVRAI\",BDD!$Z$26:$Z$599)","v":0},{"$f":"SUMIF(BDD!$BI$2:$BI$3,\"Banc 124FAUXFAUXVRAIFAUXVRAIFAUXFAUX\",BDD!$Z$2:$Z$3)","v":0},{"$f":"SUMIF(BDD!$BI$2:$BI$3,\"Banc 124FAUXFAUXVRAIFAUXFAUXVRAIFAUX\",BDD!$Z$2:$Z$3)","v":0},{"$f":"SUMIF(BDD!$BI$2:$BI$3,\"Banc 124FAUXFAUXVRAIFAUXFAUXFAUXVRAI\",BDD!$Z$2:$Z$3)","v":0},{"$f":"SUMIF(BDD!$BI$2:$BI$3,\"Banc 124FAUXFAUXFAUXVRAIVRAIFAUXFAUX\",BDD!$Z$2:$Z$3)","v":0},{"$f":"SUMIF(BDD!$BI$2:$BI$3,\"Banc 124FAUXFAUXFAUXVRAIFAUXVRAIFAUX\",BDD!$Z$2:$Z$3)","v":0},{"$f":"SUMIF(BDD!$BI$2:$BI$3,\"Banc 124FAUXFAUXFAUXVRAIFAUXFAUXVRAI\",BDD!$Z$2:$Z$3)","v":0},{"$f":"SUMIF(BDD!$BI$2:$BI$3,\"Banc 124FAUXFAUXVRAIFAUXVRAIFAUXFAUX\",BDD!$Z$2:$Z$3)","v":0},{"$f":"SUMIF(BDD!$BI$2:$BI$3,\"Banc 124FAUXFAUXVRAIFAUXFAUXVRAIFAUX\",BDD!$Z$2:$Z$3)","v":0},{"$f":"SUMIF(BDD!$BI$2:$BI$3,\"Banc 124FAUXFAUXVRAIFAUXFAUXFAUXVRAI\",BDD!$Z$2:$Z$3)","v":0},{"$f":"SUMIF(BDD!$BI$2:$BI$3,\"Banc 124FAUXFAUXFAUXVRAIVRAIFAUXFAUX\",BDD!$Z$2:$Z$3)","v":0},{"$f":"SUMIF(BDD!$BI$2:$BI$3,\"Banc 124FAUXFAUXFAUXVRAIFAUXVRAIFAUX\",BDD!$Z$2:$Z$3)","v":0},{"$f":"SUMIF(BDD!$BI$2:$BI$3,\"Banc 124FAUXFAUXFAUXVRAIFAUXFAUXVRAI\",BDD!$Z$2:$Z$3)","v":0},{"$f":"SUMIF(BDD!$BI$2:$BI$3,\"Banc 124FAUXFAUXVRAIFAUXVRAIFAUXFAUX\",BDD!$Z$2:$Z$3)","v":0},{"$f":"SUMIF(BDD!$BI$2:$BI$3,\"Banc 124FAUXFAUXVRAIFAUXFAUXVRAIFAUX\",BDD!$Z$2:$Z$3)","v":0},{"$f":"SUMIF(BDD!$BI$2:$BI$3,\"Banc 124FAUXFAUXVRAIFAUXFAUXFAUXVRAI\",BDD!$Z$2:$Z$3)","v":0},{"$f":"SUMIF(BDD!$BI$2:$BI$3,\"Banc 124FAUXFAUXFAUXVRAIVRAIFAUXFAUX\",BDD!$Z$2:$Z$3)","v":0},{"$f":"SUMIF(BDD!$BI$2:$BI$3,\"Banc 124FAUXFAUXFAUXVRAIFAUXVRAIFAUX\",BDD!$Z$2:$Z$3)","v":0},{"$f":"SUMIF(BDD!$BI$2:$BI$3,\"Banc 124FAUXFAUXFAUXVRAIFAUXFAUXVRAI\",BDD!$Z$2:$Z$3)","v":0},{"$f":"SUMIF(BDD!$BI$2:$BI$3,\"Banc 124FAUXFAUXVRAIFAUXVRAIFAUXFAUX\",BDD!$Z$2:$Z$3)","v":0},{"$f":"SUMIF(BDD!$BI$2:$BI$3,\"Banc 124FAUXFAUXVRAIFAUXFAUXVRAIFAUX\",BDD!$Z$2:$Z$3)","v":0},{"$f":"SUMIF(BDD!$BI$2:$BI$3,\"Banc 124FAUXFAUXVRAIFAUXFAUXFAUXVRAI\",BDD!$Z$2:$Z$3)","v":0},{"$f":"SUMIF(BDD!$BI$2:$BI$3,\"Banc 124FAUXFAUXFAUXVRAIVRAIFAUXFAUX\",BDD!$Z$2:$Z$3)","v":0},{"$f":"SUMIF(BDD!$BI$2:$BI$3,\"Banc 124FAUXFAUXFAUXVRAIFAUXVRAIFAUX\",BDD!$Z$2:$Z$3)","v":0},{"$f":"SUMIF(BDD!$BI$2:$BI$3,\"Banc 124FAUXFAUXFAUXVRAIFAUXFAUXVRAI\",BDD!$Z$2:$Z$3)","v":0},{"$f":"SUMIF(BDD!$BI$2:$BI$3,\"Banc 124FAUXFAUXVRAIFAUXVRAIFAUXFAUX\",BDD!$Z$2:$Z$3)","v":0},{"$f":"SUMIF(BDD!$BI$2:$BI$3,\"Banc 124FAUXFAUXVRAIFAUXFAUXVRAIFAUX\",BDD!$Z$2:$Z$3)","v":0},{"$f":"SUMIF(BDD!$BI$2:$BI$3,\"Banc 124FAUXFAUXVRAIFAUXFAUXFAUXVRAI\",BDD!$Z$2:$Z$3)","v":0},{"$f":"SUMIF(BDD!$BI$2:$BI$3,\"Banc 124FAUXFAUXFAUXVRAIVRAIFAUXFAUX\",BDD!$Z$2:$Z$3)","v":0},{"$f":"SUMIF(BDD!$BI$2:$BI$3,\"Banc 124FAUXFAUXFAUXVRAIFAUXVRAIFAUX\",BDD!$Z$2:$Z$3)","v":0},{"$f":"SUMIF(BDD!$BI$2:$BI$3,\"Banc 124FAUXFAUXFAUXVRAIFAUXFAUXVRAI\",BDD!$Z$2:$Z$3)","v":0},{"$f":"SUMIF(BDD!$BI$2:$BI$3,\"Banc 124FAUXFAUXVRAIFAUXVRAIFAUXFAUX\",BDD!$Z$2:$Z$3)","v":0},{"$f":"SUMIF(BDD!$BI$2:$BI$3,\"Banc 124FAUXFAUXVRAIFAUXFAUXVRAIFAUX\",BDD!$Z$2:$Z$3)","v":0},{"$f":"SUMIF(BDD!$BI$2:$BI$3,\"Banc 124FAUXFAUXVRAIFAUXFAUXFAUXVRAI\",BDD!$Z$2:$Z$3)","v":0},{"$f":"SUMIF(BDD!$BI$2:$BI$3,\"Banc 124FAUXFAUXFAUXVRAIVRAIFAUXFAUX\",BDD!$Z$2:$Z$3)","v":0},{"$f":"SUMIF(BDD!$BI$2:$BI$3,\"Banc 124FAUXFAUXFAUXVRAIFAUXVRAIFAUX\",BDD!$Z$2:$Z$3)","v":0},{"$f":"SUMIF(BDD!$BI$2:$BI$3,\"Banc 124FAUXFAUXFAUXVRAIFAUXFAUXVRAI\",BDD!$Z$2:$Z$3)","v":0},{"$f":"SUMIF(BDD!$BI$2:$BI$3,\"Banc 124FAUXFAUXVRAIFAUXVRAIFAUXFAUX\",BDD!$Z$2:$Z$3)","v":0},{"$f":"SUMIF(BDD!$BI$2:$BI$3,\"Banc 124FAUXFAUXVRAIFAUXFAUXVRAIFAUX\",BDD!$Z$2:$Z$3)","v":0},{"$f":"SUMIF(BDD!$BI$2:$BI$3,\"Banc 124FAUXFAUXVRAIFAUXFAUXFAUXVRAI\",BDD!$Z$2:$Z$3)","v":0},{"$f":"SUMIF(BDD!$BI$2:$BI$3,\"Banc 124FAUXFAUXFAUXVRAIVRAIFAUXFAUX\",BDD!$Z$2:$Z$3)","v":0},{"$f":"SUMIF(BDD!$BI$2:$BI$3,\"Banc 124FAUXFAUXFAUXVRAIFAUXVRAIFAUX\",BDD!$Z$2:$Z$3)","v":0},{"$f":"SUMIF(BDD!$BI$2:$BI$3,\"Banc 124FAUXFAUXFAUXVRAIFAUXFAUXVRAI\",BDD!$Z$2:$Z$3)","v":0},{"$f":"SUMIF(BDD!$BI$2:$BI$3,\"Banc 124FAUXFAUXVRAIFAUXVRAIFAUXFAUX\",BDD!$Z$2:$Z$3)","v":0},{"$f":"SUMIF(BDD!$BI$2:$BI$3,\"Banc 124FAUXFAUXVRAIFAUXFAUXVRAIFAUX\",BDD!$Z$2:$Z$3)","v":0},{"$f":"SUMIF(BDD!$BI$2:$BI$3,\"Banc 124FAUXFAUXVRAIFAUXFAUXFAUXVRAI\",BDD!$Z$2:$Z$3)","v":0},{"$f":"SUMIF(BDD!$BI$2:$BI$3,\"Banc 124FAUXFAUXFAUXVRAIVRAIFAUXFAUX\",BDD!$Z$2:$Z$3)","v":0},{"$f":"SUMIF(BDD!$BI$2:$BI$3,\"Banc 124FAUXFAUXFAUXVRAIFAUXVRAIFAUX\",BDD!$Z$2:$Z$3)","v":0},{"$f":"SUMIF(BDD!$BI$2:$BI$3,\"Banc 124FAUXFAUXFAUXVRAIFAUXFAUXVRAI\",BDD!$Z$2:$Z$3)","v":0}]
["Ressort verticale",{"$f":"SUMIF(BDD!$BI$2:$BI$3,\"Banc 124FAUXFAUXVRAIFAUXVRAIFAUXFAUX\",BDD!$Z$2:$Z$3)","v":0},{"$f":"SUMIF(BDD!$BI$2:$BI$3,\"Banc 124FAUXFAUXVRAIFAUXFAUXVRAIFAUX\",BDD!$Z$2:$Z$3)","v":0},{"$f":"SUMIF(BDD!$BI$2:$BI$3,\"Banc 124FAUXFAUXVRAIFAUXFAUXFAUXVRAI\",BDD!$Z$2:$Z$3)","v":0},{"$f":"SUMIF(BDD!$BI$2:$BI$3,\"Banc 124FAUXFAUXFAUXVRAIVRAIFAUXFAUX\",BDD!$Z$2:$Z$3)","v":0},{"$f":"SUMIF(BDD!$BI$2:$BI$3,\"Banc 124FAUXFAUXFAUXVRAIFAUXVRAIFAUX\",BDD!$Z$2:$Z$3)","v":0},{"$f":"SUMIF(BDD!$BI$2:$BI$3,\"Banc 124FAUXFAUXFAUXVRAIFAUXFAUXVRAI\",BDD!$Z$2:$Z$3)","v":0},{"$f":"SUMIF(BDD!$BI$2:$BI$3,\"Banc 124FAUXFAUXVRAIFAUXVRAIFAUXFAUX\",BDD!$Z$2:$Z$3)","v":0},{"$f":"SUMIF(BDD!$BI$2:$BI$3,\"Banc 124FAUXFAUXVRAIFAUXFAUXVRAIFAUX\",BDD!$Z$2:$Z$3)","v":0},{"$f":"SUMIF(BDD!$BI$2:$BI$3,\"Banc 124FAUXFAUXVRAIFAUXFAUXFAUXVRAI\",BDD!$Z$2:$Z$3)","v":0},{"$f":"SUMIF(BDD!$BI$2:$BI$3,\"Banc 124FAUXFAUXFAUXVRAIVRAIFAUXFAUX\",BDD!$Z$2:$Z$3)","v":0},{"$f":"SUMIF(BDD!$BI$2:$BI$3,\"Banc 124FAUXFAUXFAUXVRAIFAUXVRAIFAUX\",BDD!$Z$2:$Z$3)","v":0},{"$f":"SUMIF(BDD!$BI$2:$BI$3,\"Banc 124FAUXFAUXFAUXVRAIFAUXFAUXVRAI\",BDD!$Z$2:$Z$3)","v":0},{"$f":"SUMIF(BDD!$BI$2:$BI$24,\"Banc 124FAUXFAUXVRAIFAUXVRAIFAUXFAUX\",BDD!$Z$2:$Z$24)","v":0},{"$f":"SUMIF(BDD!$BI$2:$BI$24,\"Banc 124FAUXFAUXVRAIFAUXFAUXVRAIFAUX\",BDD!$Z$2:$Z$24)","v":0},{"$f":"SUMIF(BDD!$BI$2:$BI$24,\"Banc 124FAUXFAUXVRAIFAUXFAUXFAUXVRAI\",BDD!$Z$2:$Z$24)","v":0},{"$f":"SUMIF(BDD!$BI$2:$BI$24,\"Banc 124FAUXFAUXFAUXVRAIVRAIFAUXFAUX\",BDD!$Z$2:$Z$24)","v":0},{"$f":"SUMIF(BDD!$BI$2:$BI$24,\"Banc 124FAUXFAUXFAUXVRAIFAUXVRAIFAUX\",BDD!$Z$2:$Z$24)","v":0},{"$f":"SUMIF(BDD!$BI$2:$BI$24,\"Banc 124FAUXFAUXFAUXVRAIFAUXFAUXVRAI\",BDD!$Z$2:$Z$24)","v":0},{"$f":"SUMIF(BDD!$BI$26:$BI$599,\"Ressort verticaleVRAIFAUXVRAIFAUXFAUX\",BDD!$Z$26:$Z$599)","v":0},{"$f":"SUMIF(BDD!$BI$26:$BI$599,\"Ressort verticaleVRAIFAUXFAUXVRAIFAUX\",BDD!$Z$26:$Z$599)","v":0},{"$f":"SUMIF(BDD!$BI$26:$BI$599,\"Ressort verticaleVRAIFAUXFAUXFAUXVRAI\",BDD!$Z$26:$Z$599)","v":0},{"$f":"SUMIF(BDD!$BI$26:$BI$599,\"Ressort verticaleFAUXVRAIVRAIFAUXFAUX\",BDD!$Z$26:$Z$599)","v":0},{"$f":"SUMIF(BDD!$BI$26:$BI$599,\"Ressort verticaleFAUXVRAIFAUXVRAIFAUX\",BDD!$Z$26:$Z$599)","v":0},{"$f":"SUMIF(BDD!$BI$26:$BI$599,\"Ressort verticaleFAUXVRAIFAUXFAUXVRAI\",BDD!$Z$26:$Z$599)","v":0},{"$f":"SUMIF(BDD!$BI$2:$BI$3,\"Banc 124FAUXFAUXVRAIFAUXVRAIFAUXFAUX\",BDD!$Z$2:$Z$3)","v":0},{"$f":"SUMIF(BDD!$BI$2:$BI$3,\"Banc 124FAUXFAUXVRAIFAUXFAUXVRAIFAUX\",BDD!$Z$2:$Z$3)","v":0},{"$f":"SUMIF(BDD!$BI$2:$BI$3,\"Banc 124FAUXFAUXVRAIFAUXFAUXFAUXVRAI\",BDD!$Z$2:$Z$3)","v":0},{"$f":"SUMIF(BDD!$BI$2:$BI$3,\"Banc 124FAUXFAUXFAUXVRAIVRAIFAUXFAUX\",BDD!$Z$2:$Z$3)","v":0},{"$f":"SUMIF(BDD!$BI$2:$BI$3,\"Banc 124FAUXFAUXFAUXVRAIFAUXVRAIFAUX\",BDD!$Z$2:$Z$3)","v":0},{"$f":"SUMIF(BDD!$BI$2:$BI$3,\"Banc 124FAUXFAUXFAUXVRAIFAUXFAUXVRAI\",BDD!$Z$2:$Z$3)","v":0},{"$f":"SUMIF(BDD!$BI$2:$BI$3,\"Banc 124FAUXFAUXVRAIFAUXVRAIFAUXFAUX\",BDD!$Z$2:$Z$3)","v":0},{"$f":"SUMIF(BDD!$BI$2:$BI$3,\"Banc 124FAUXFAUXVRAIFAUXFAUXVRAIFAUX\",BDD!$Z$2:$Z$3)","v":0},{"$f":"SUMIF(BDD!$BI$2:$BI$3,\"Banc 124FAUXFAUXVRAIFAUXFAUXFAUXVRAI\",BDD!$Z$2:$Z$3)","v":0},{"$f":"SUMIF(BDD!$BI$2:$BI$3,\"Banc 124FAUXFAUXFAUXVRAIVRAIFAUXFAUX\",BDD!$Z$2:$Z$3)","v":0},{"$f":"SUMIF(BDD!$BI$2:$BI$3,\"Banc 124FAUXFAUXFAUXVRAIFAUXVRAIFAUX\",BDD!$Z$2:$Z$3)","v":0},{"$f":"SUMIF(BDD!$BI$2:$BI$3,\"Banc 124FAUXFAUXFAUXVRAIFAUXFAUXVRAI\",BDD!$Z$2:$Z$3)","v":0},{"$f":"SUMIF(BDD!$BI$2:$BI$3,\"Banc 124FAUXFAUXVRAIFAUXVRAIFAUXFAUX\",BDD!$Z$2:$Z$3)","v":0},{"$f":"SUMIF(BDD!$BI$2:$BI$3,\"Banc 124FAUXFAUXVRAIFAUXFAUXVRAIFAUX\",BDD!$Z$2:$Z$3)","v":0},{"$f":"SUMIF(BDD!$BI$2:$BI$3,\"Banc 124FAUXFAUXVRAIFAUXFAUXFAUXVRAI\",BDD!$Z$2:$Z$3)","v":0},{"$f":"SUMIF(BDD!$BI$2:$BI$3,\"Banc 124FAUXFAUXFAUXVRAIVRAIFAUXFAUX\",BDD!$Z$2:$Z$3)","v":0},{"$f":"SUMIF(BDD!$BI$2:$BI$3,\"Banc 124FAUXFAUXFAUXVRAIFAUXVRAIFAUX\",BDD!$Z$2:$Z$3)","v":0},{"$f":"SUMIF(BDD!$BI$2:$BI$3,\"Banc 124FAUXFAUXFAUXVRAIFAUXFAUXVRAI\",BDD!$Z$2:$Z$3)","v":0},{"$f":"SUMIF(BDD!$BI$2:$BI$3,\"Banc 124FAUXFAUXVRAIFAUXVRAIFAUXFAUX\",BDD!$Z$2:$Z$3)","v":0},{"$f":"SUMIF(BDD!$BI$2:$BI$3,\"Banc 124FAUXFAUXVRAIFAUXFAUXVRAIFAUX\",BDD!$Z$2:$Z$3)","v":0},{"$f":"SUMIF(BDD!$BI$2:$BI$3,\"Banc 124FAUXFAUXVRAIFAUXFAUXFAUXVRAI\",BDD!$Z$2:$Z$3)","v":0},{"$f":"SUMIF(BDD!$BI$2:$BI$3,\"Banc 124FAUXFAUXFAUXVRAIVRAIFAUXFAUX\",BDD!$Z$2:$Z$3)","v":0},{"$f":"SUMIF(BDD!$BI$2:$BI$3,\"Banc 124FAUXFAUXFAUXVRAIFAUXVRAIFAUX\",BDD!$Z$2:$Z$3)","v":0},{"$f":"SUMIF(BDD!$BI$2:$BI$3,\"Banc 124FAUXFAUXFAUXVRAIFAUXFAUXVRAI\",BDD!$Z$2:$Z$3)","v":0},{"$f":"SUMIF(BDD!$BI$2:$BI$3,\"Banc 124FAUXFAUXVRAIFAUXVRAIFAUXFAUX\",BDD!$Z$2:$Z$3)","v":0},{"$f":"SUMIF(BDD!$BI$2:$BI$3,\"Banc 124FAUXFAUXVRAIFAUXFAUXVRAIFAUX\",BDD!$Z$2:$Z$3)","v":0},{"$f":"SUMIF(BDD!$BI$2:$BI$3,\"Banc 124FAUXFAUXVRAIFAUXFAUXFAUXVRAI\",BDD!$Z$2:$Z$3)","v":0},{"$f":"SUMIF(BDD!$BI$2:$BI$3,\"Banc 124FAUXFAUXFAUXVRAIVRAIFAUXFAUX\",BDD!$Z$2:$Z$3)","v":0},{"$f":"SUMIF(BDD!$BI$2:$BI$3,\"Banc 124FAUXFAUXFAUXVRAIFAUXVRAIFAUX\",BDD!$Z$2:$Z$3)","v":0},{"$f":"SUMIF(BDD!$BI$2:$BI$3,\"Banc 124FAUXFAUXFAUXVRAIFAUXFAUXVRAI\",BDD!$Z$2:$Z$3)","v":0},{"$f":"SUMIF(BDD!$BI$2:$BI$3,\"Banc 124FAUXFAUXVRAIFAUXVRAIFAUXFAUX\",BDD!$Z$2:$Z$3)","v":0},{"$f":"SUMIF(BDD!$BI$2:$BI$3,\"Banc 124FAUXFAUXVRAIFAUXFAUXVRAIFAUX\",BDD!$Z$2:$Z$3)","v":0},{"$f":"SUMIF(BDD!$BI$2:$BI$3,\"Banc 124FAUXFAUXVRAIFAUXFAUXFAUXVRAI\",BDD!$Z$2:$Z$3)","v":0},{"$f":"SUMIF(BDD!$BI$2:$BI$3,\"Banc 124FAUXFAUXFAUXVRAIVRAIFAUXFAUX\",BDD!$Z$2:$Z$3)","v":0},{"$f":"SUMIF(BDD!$BI$2:$BI$3,\"Banc 124FAUXFAUXFAUXVRAIFAUXVRAIFAUX\",BDD!$Z$2:$Z$3)","v":0},{"$f":"SUMIF(BDD!$BI$2:$BI$3,\"Banc 124FAUXFAUXFAUXVRAIFAUXFAUXVRAI\",BDD!$Z$2:$Z$3)","v":0},{"$f":"SUMIF(BDD!$BI$2:$BI$3,\"Banc 124FAUXFAUXVRAIFAUXVRAIFAUXFAUX\",BDD!$Z$2:$Z$3)","v":0},{"$f":"SUMIF(BDD!$BI$2:$BI$3,\"Banc 124FAUXFAUXVRAIFAUXFAUXVRAIFAUX\",BDD!$Z$2:$Z$3)","v":0},{"$f":"SUMIF(BDD!$BI$2:$BI$3,\"Banc 124FAUXFAUXVRAIFAUXFAUXFAUXVRAI\",BDD!$Z$2:$Z$3)","v":0},{"$f":"SUMIF(BDD!$BI$2:$BI$3,\"Banc 124FAUXFAUXFAUXVRAIVRAIFAUXFAUX\",BDD!$Z$2:$Z$3)","v":0},{"$f":"SUMIF(BDD!$BI$2:$BI$3,\"Banc 124FAUXFAUXFAUXVRAIFAUXVRAIFAUX\",BDD!$Z$2:$Z$3)","v":0},{"$f":"SUMIF(BDD!$BI$2:$BI$3,\"Banc 124FAUXFAUXFAUXVRAIFAUXFAUXVRAI\",BDD!$Z$2:$Z$3)","v":0},{"$f":"SUMIF(BDD!$BI$2:$BI$3,\"Banc 124FAUXFAUXVRAIFAUXVRAIFAUXFAUX\",BDD!$Z$2:$Z$3)","v":0},{"$f":"SUMIF(BDD!$BI$2:$BI$3,\"Banc 124FAUXFAUXVRAIFAUXFAUXVRAIFAUX\",BDD!$Z$2:$Z$3)","v":0},{"$f":"SUMIF(BDD!$BI$2:$BI$3,\"Banc 124FAUXFAUXVRAIFAUXFAUXFAUXVRAI\",BDD!$Z$2:$Z$3)","v":0},{"$f":"SUMIF(BDD!$BI$2:$BI$3,\"Banc 124FAUXFAUXFAUXVRAIVRAIFAUXFAUX\",BDD!$Z$2:$Z$3)","v":0},{"$f":"SUMIF(BDD!$BI$2:$BI$3,\"Banc 124FAUXFAUXFAUXVRAIFAUXVRAIFAUX\",BDD!$Z$2:$Z$3)","v":0},{"$f":"SUMIF(BDD!$BI$2:$BI$3,\"Banc 124FAUXFAUXFAUXVRAIFAUXFAUXVRAI\",BDD!$Z$2:$Z$3)","v":0}]

{"sheet":"Indicateur Zone6","index":4,"n_rows":131,"n_cols":73,"rows_kept":131,"cut":false,"hidden":false,"merged":[[1,1,1,12],[31,1,31,12],[55,1,55,12],[56,1,56,2],[56,3,56,4],[56,5,56,6],[56,7,56,8],[56,9,56,10],[56,11,56,12],[56,23,56,24],[86,1,86,21],[87,1,87,6],[87,7,87,12],[87,13,87,18],[87,19,87,24],[56,13,56,14],[56,15,56,16],[56,17,56,18],[56,19,56,20],[56,21,56,22],[87,25,87,30],[87,31,87,36],[87,37,87,42],[87,43,87,48],[87,49,87,54],[87,55,87,60],[87,61,87,66],[87,67,87,72],[88,1,88,3],[88,4,88,6],[88,7,88,9],[88,10,88,12],[88,13,88,15],[88,16,88,18],[88,19,88,21],[88,22,88,24],[88,25,88,27],[88,28,88,30],[88,31,88,33],[88,34,88,36],[88,37,88,39],[88,40,88,42],[88,43,88,45],[88,46,88,48],[88,49,88,51],[88,52,88,54],[88,70,88,72],[88,55,88,57],[88,58,88,60],[88,61,88,63],[88,64,88,66],[88,67,88,69],[121,1,121,21],[122,1,122,6],[122,7,122,12],[122,13,122,18],[122,19,122,24],[122,25,122,30],[122,31,122,36],[122,37,122,42],[122,43,122,48],[122,49,122,54],[122,55,122,60],[122,61,122,66],[122,67,122,72],[123,1,123,3],[123,4,123,6],[123,7,123,9],[123,10,123,12],[123,13,123,15],[123,16,123,18],[123,19,123,21],[123,22,123,24],[123,25,123,27],[123,28,123,30],[123,31,123,33],[123,34,123,36],[123,37,123,39],[123,40,123,42],[123,43,123,45],[123,46,123,48],[123,49,123,51],[123,52,123,54],[123,70,123,72],[123,55,123,57],[123,58,123,60],[123,61,123,63],[123,64,123,66],[123,67,123,69]]}
[]
[null,"Suivi des arrêts par banc"]
["Banc zone 6","Janvier","Février","Mars","Avril","Mai","Juin","Juillet","Août","Septembre","Octobre","Novembre","Décembre"]
["M73001 (Banc new P9)",{"$f":"SUMIF(BDD!$H$2:$H$3,'Indicateur Zone6'!$A4,BDD!$Z$2:$Z$3)","v":0},{"$f":"SUMIF(BDD!$H$2:$H$3,'Indicateur Zone6'!$A4,BDD!$Z$2:$Z$3)","v":0},{"$f":"SUMIF(BDD!$H$2:$H$25,'Indicateur Zone6'!$A$4,BDD!$Z$2:$Z$25)","v":0},{"$f":"SUMIF(BDD!$H$26:$H$199,'Indicateur Zone6'!$A4,BDD!$Z$26:$Z$199)","v":3.15},{"$f":"SUMIF(BDD!$H$2:$H$3,'Indicateur Zone6'!$A4,BDD!$Z$2:$Z$3)","v":0},{"$f":"SUMIF(BDD!$H$2:$H$3,'Indicateur Zone6'!$A4,BDD!$Z$2:$Z$3)","v":0},{"$f":"SUMIF(BDD!$H$2:$H$3,'Indicateur Zone6'!$A4,BDD!$Z$2:$Z$3)","v":0},{"$f":"SUMIF(BDD!$H$2:$H$3,'Indicateur Zone6'!$A4,BDD!$Z$2:$Z$3)","v":0},{"$f":"SUMIF(BDD!$H$2:$H$3,'Indicateur Zone6'!$A4,BDD!$Z$2:$Z$3)","v":0},{"$f":"SUMIF(BDD!$H$2:$H$3,'Indicateur Zone6'!$A4,BDD!$Z$2:$Z$3)","v":0},{"$f":"SUMIF(BDD!$H$2:$H$3,'Indicateur Zone6'!$A4,BDD!$Z$2:$Z$3)","v":0},{"$f":"SUMIF(BDD!$H$2:$H$3,'Indicateur Zone6'!$A4,BDD!$Z$2:$Z$3)","v":0}]
["Banc P1",{"$f":"SUMIF(BDD!$H$2:$H$3,'Indicateur Zone6'!$A5,BDD!$Z$2:$Z$3)","v":0},{"$f":"SUMIF(BDD!$H$2:$H$3,'Indicateur Zone6'!$A5,BDD!$Z$2:$Z$3)","v":0},{"$f":"SUMIF(BDD!$H$2:$H$25,'Indicateur Zone6'!$A5,BDD!$Z$2:$Z$25)","v":0.02},{"$f":"SUMIF(BDD!$H$26:$H$199,'Indicateur Zone6'!$A5,BDD!$Z$26:$Z$199)","v":0.12000000000000001},{"$f":"SUMIF(BDD!$H$2:$H$3,'Indicateur Zone6'!$A5,BDD!$Z$2:$Z$3)","v":0},{"$f":"SUMIF(BDD!$H$2:$H$3,'Indicateur Zone6'!$A5,BDD!$Z$2:$Z$3)","v":0},{"$f":"SUMIF(BDD!$H$2:$H$3,'Indicateur Zone6'!$A5,BDD!$Z$2:$Z$3)","v":0},{"$f":"SUMIF(BDD!$H$2:$H$3,'Indicateur Zone6'!$A5,BDD!$Z$2:$Z$3)","v":0},{"$f":"SUMIF(BDD!$H$2:$H$3,'Indicateur Zone6'!$A5,BDD!$Z$2:$Z$3)","v":0},{"$f":"SUMIF(BDD!$H$2:$H$3,'Indicateur Zone6'!$A5,BDD!$Z$2:$Z$3)","v":0},{"$f":"SUMIF(BDD!$H$2:$H$3,'Indicateur Zone6'!$A5,BDD!$Z$2:$Z$3)","v":0},{"$f":"SUMIF(BDD!$H$2:$H$3,'Indicateur Zone6'!$A5,BDD!$Z$2:$Z$3)","v":0}]
["Banc P2",{"$f":"SUMIF(BDD!$H$2:$H$3,'Indicateur Zone6'!$A6,BDD!$Z$2:$Z$3)","v":0},{"$f":"SUMIF(BDD!$H$2:$H$3,'Indicateur Zone6'!$A6,BDD!$Z$2:$Z$3)","v":0},{"$f":"SUMIF(BDD!$H$2:$H$25,'Indicateur Zone6'!$A6,BDD!$Z$2:$Z$25)","v":0},{"$f":"SUMIF(BDD!$H$26:$H$199,'Indicateur Zone6'!$A6,BDD!$Z$26:$Z$199)","v":5},{"$f":"SUMIF(BDD!$H$2:$H$3,'Indicateur Zone6'!$A6,BDD!$Z$2:$Z$3)","v":0},{"$f":"SUMIF(BDD!$H$2:$H$3,'Indicateur Zone6'!$A6,BDD!$Z$2:$Z$3)","v":0},{"$f":"SUMIF(BDD!$H$2:$H$3,'Indicateur Zone6'!$A6,BDD!$Z$2:$Z$3)","v":0},{"$f":"SUMIF(BDD!$H$2:$H$3,'Indicateur Zone6'!$A6,BDD!$Z$2:$Z$3)","v":0},{"$f":"SUMIF(BDD!$H$2:$H$3,'Indicateur Zone6'!$A6,BDD!$Z$2:$Z$3)","v":0},{"$f":"SUMIF(BDD!$H$2:$H$3,'Indicateur Zone6'!$A6,BDD!$Z$2:$Z$3)","v":0},{"$f":"SUMIF(BDD!$H$2:$H$3,'Indicateur Zone6'!$A6,BDD!$Z$2:$Z$3)","v":0},{"$f":"SUMIF(BDD!$H$2:$H$3,'Indicateur Zone6'!$A6,BDD!$Z$2:$Z$3)","v":0}]
["Banc 156",{"$f":"SUMIF(BDD!$H$2:$H$3,'Indicateur Zone6'!$A7,BDD!$Z$2:$Z$3)","v":0},{"$f":"SUMIF(BDD!$H$2:$H$3,'Indicateur Zone6'!$A7,BDD!$Z$2:$Z$3)","v":0},{"$f":"SUMIF(BDD!$H$2:$H$25,'Indicateur Zone6'!$A7,BDD!$Z$2:$Z$25)","v":0},{"$f":"SUMIF(BDD!$H$26:$H$199,'Indicateur Zone6'!$A7,BDD!$Z$26:$Z$199)","v":0},{"$f":"SUMIF(BDD!$H$2:$H$3,'Indicateur Zone6'!$A7,BDD!$Z$2:$Z$3)","v":0},{"$f":"SUMIF(BDD!$H$2:$H$3,'Indicateur Zone6'!$A7,BDD!$Z$2:$Z$3)","v":0},{"$f":"SUMIF(BDD!$H$2:$H$3,'Indicateur Zone6'!$A7,BDD!$Z$2:$Z$3)","v":0},{"$f":"SUMIF(BDD!$H$2:$H$3,'Indicateur Zone6'!$A7,BDD!$Z$2:$Z$3)","v":0},{"$f":"SUMIF(BDD!$H$2:$H$3,'Indicateur Zone6'!$A7,BDD!$Z$2:$Z$3)","v":0},{"$f":"SUMIF(BDD!$H$2:$H$3,'Indicateur Zone6'!$A7,BDD!$Z$2:$Z$3)","v":0},{"$f":"SUMIF(BDD!$H$2:$H$3,'Indicateur Zone6'!$A7,BDD!$Z$2:$Z$3)","v":0},{"$f":"SUMIF(BDD!$H$2:$H$3,'Indicateur Zone6'!$A7,BDD!$Z$2:$Z$3)","v":0}]
["Chambre Froide",{"$f":"SUMIF(BDD!$H$2:$H$3,'Indicateur Zone6'!$A8,BDD!$Z$2:$Z$3)","v":0},{"$f":"SUMIF(BDD!$H$2:$H$3,'Indicateur Zone6'!$A8,BDD!$Z$2:$Z$3)","v":0},{"$f":"SUMIF(BDD!$H$2:$H$25,'Indicateur Zone6'!$A8,BDD!$Z$2:$Z$25)","v":0.3},{"$f":"SUMIF(BDD!$H$26:$H$199,'Indicateur Zone6'!$A8,BDD!$Z$26:$Z$199)","v":0},{"$f":"SUMIF(BDD!$H$2:$H$3,'Indicateur Zone6'!$A8,BDD!$Z$2:$Z$3)","v":0},{"$f":"SUMIF(BDD!$H$2:$H$3,'Indicateur Zone6'!$A8,BDD!$Z$2:$Z$3)","v":0},{"$f":"SUMIF(BDD!$H$2:$H$3,'Indicateur Zone6'!$A8,BDD!$Z$2:$Z$3)","v":0},{"$f":"SUMIF(BDD!$H$2:$H$3,'Indicateur Zone6'!$A8,BDD!$Z$2:$Z$3)","v":0},{"$f":"SUMIF(BDD!$H$2:$H$3,'Indicateur Zone6'!$A8,BDD!$Z$2:$Z$3)","v":0},{"$f":"SUMIF(BDD!$H$2:$H$3,'Indicateur Zone6'!$A8,BDD!$Z$2:$Z$3)","v":0},{"$f":"SUMIF(BDD!$H$2:$H$3,'Indicateur Zone6'!$A8,BDD!$Z$2:$Z$3)","v":0},{"$f":"SUMIF(BDD!$H$2:$H$3,'Indicateur Zone6'!$A8,BDD!$Z$2:$Z$3)","v":0}]
["Chambre Sourde",{"$f":"SUMIF(BDD!$H$2:$H$3,'Indicateur Zone6'!$A9,BDD!$Z$2:$Z$3)","v":0},{"$f":"SUMIF(BDD!$H$2:$H$3,'Indicateur Zone6'!$A9,BDD!$Z$2:$Z$3)","v":0},{"$f":"SUMIF(BDD!$H$2:$H$25,'Indicateur Zone6'!$A9,BDD!$Z$2:$Z$25)","v":0},{"$f":"SUMIF(BDD!$H$26:$H$199,'Indicateur Zone6'!$A9,BDD!$Z$26:$Z$199)","v":1.5},{"$f":"SUMIF(BDD!$H$2:$H$3,'Indicateur Zone6'!$A9,BDD!$Z$2:$Z$3)","v":0},{"$f":"SUMIF(BDD!$H$2:$H$3,'Indicateur Zone6'!$A9,BDD!$Z$2:$Z$3)","v":0},{"$f":"SUMIF(BDD!$H$2:$H$3,'Indicateur Zone6'!$A9,BDD!$Z$2:$Z$3)","v":0},{"$f":"SUMIF(BDD!$H$2:$H$3,'Indicateur Zone6'!$A9,BDD!$Z$2:$Z$3)","v":0},{"$f":"SUMIF(BDD!$H$2:$H$3,'Indicateur Zone6'!$A9,BDD!$Z$2:$Z$3)","v":0},{"$f":"SUMIF(BDD!$H$2:$H$3,'Indicateur Zone6'!$A9,BDD!$Z$2:$Z$3)","v":0},{"$f":"SUMIF(BDD!$H$2:$H$3,'Indicateur Zone6'!$A9,BDD!$Z$2:$Z$3)","v":0},{"$f":"SUMIF(BDD!$H$2:$H$3,'Indicateur Zone6'!$A9,BDD!$Z$2:$Z$3)","v":0}]
[]
[]
[]
[]
[]
[]
[]
[]
[]
[]
[]
[]
[]
[]
[]
[]
[]
[]
[]
[]
[]
[]
[null,"Suivi du correctif et du préventif"]
["Type de maintenance","Janvier","Février","Mars","Avril","Mai","Juin","Juillet","Août","Septembre","Octobre","Novembre","Décembre"]
["Préventive",{"$f":"SUM(C59:C64)","v":0},{"$f":"SUM(E59:E64)","v":0},{"$f":"SUM(G59:G64)","v":0.3},{"$f":"SUM(I59:I64)","v":0},{"$f":"SUM(K59:K64)","v":0},{"$f":"SUM(M59:M64)","v":0},{"$f":"SUM(O59:O64)","v":0},{"$f":"SUM(Q59:Q64)","v":0},{"$f":"SUM(S59:S64)","v":0},{"$f":"SUM(U59:U64)","v":0},{"$f":"SUM(W59:W64)","v":0},{"$f":"SUM(Y59:Y64)","v":0}]
["Corrective",{"$f":"SUM(B59:B64)","v":0},{"$f":"SUM(D59:D64)","v":0},{"$f":"SUM(F59:F64)","v":0.19},{"$f":"SUM(H59:H64)","v":2.17},{"$f":"SUM(J59:J64)","v":0},{"$f":"SUM(L59:L64)","v":0},{"$f":"SUM(N59:N64)","v":0},{"$f":"SUM(N59:N64)","v":0},{"$f":"SUM(R59:R64)","v":0},{"$f":"SUM(T59:T64)","v":0},{"$f":"SUM(V59:V64)","v":0},{"$f":"SUM(X59:X64)","v":0}]
[]
[]
[]
[]
[]
[]
[]
[]
[]
[]
[]
[]
[]
[]
[]
[]
[]
[]
[]
[]
[null,"Suivi du correctif et du préventif par banc"]
[null,"Janvier",null,"Février",null,"Mars",null,"Avril",null,"Mai",null,"Juin",null,"Juillet",null,"Août",null,"Septembre",null,"Octobre",null,"Novembre",null,"Décembre"]
["Banc zone 6","Corrective","Préventive","Corrective","Préventive","Corrective","Préventive","Corrective","Préventive","Corrective","Préventive","Corrective","Préventive","Corrective","Préventive","Corrective","Préventive","Corrective","Préventive","Corrective","Préventive","Corrective","Préventive","Corrective","Préventive"]
["M73001 (Banc new P9)",{"$f":"SUMIF(BDD!$BG$2:$BG$3,\"M73001 (Banc new P9)VRAIFAUX\",BDD!$Z$2:$Z$3)","v":0},{"$f":"SUMIF(BDD!$BG$2:$BG$3,\"M73001 (Banc new P9)FAUXVRAI\",BDD!$Z$2:$Z$3)","v":0},{"$f":"SUMIF(BDD!$BG$2:$BG$3,\"M73001 (Banc new P9)VRAIFAUX\",BDD!$Z$2:$Z$3)","v":0},{"$f":"SUMIF(BDD!$BG$2:$BG$3,\"M73001 (Banc new P9)FAUXVRAI\",BDD!$Z$2:$Z$3)","v":0},{"$f":"SUMIF(BDD!$BG$2:$BG$682,\"M73001 (Banc new P9)VRAIFAUX\",BDD!$Z$2:$Z$682)","v":0.15},{"$f":"SUMIF(BDD!$BG$2:$BG$682,\"M73001 (Banc new P9)FAUXvrai\",BDD!$Z$2:$Z$682)","v":0},{"$f":"SUMIF(BDD!$BG$26:$BG$199,\"M73001 (Banc new P9)VRAIFAUX\",BDD!$Z$26:$Z$199)","v":0.15},{"$f":"SUMIF(BDD!$BG$26:$BG$199,\"M73001 (Banc new P9)FAUXVRAI\",BDD!$Z$26:$Z$199)","v":0},{"$f":"SUMIF(BDD!$BG$2:$BG$3,\"M73001 (Banc new P9)VRAIFAUX\",BDD!$Z$2:$Z$3)","v":0},{"$f":"SUMIF(BDD!$BG$2:$BG$3,\"M73001 (Banc new P9)FAUXVRAI\",BDD!$Z$2:$Z$3)","v":0},{"$f":"SUMIF(BDD!$BG$2:$BG$3,\"M73001 (Banc new P9)VRAIFAUX\",BDD!$Z$2:$Z$3)","v":0},{"$f":"SUMIF(BDD!$BG$2:$BG$3,\"M73001 (Banc new P9)FAUXVRAI\",BDD!$Z$2:$Z$3)","v":0},{"$f":"SUMIF(BDD!$BG$2:$BG$3,\"M73001 (Banc new P9)VRAIFAUX\",BDD!$Z$2:$Z$3)","v":0},{"$f":"SUMIF(BDD!$BG$2:$BG$3,\"M73001 (Banc new P9)FAUXVRAI\",BDD!$Z$2:$Z$3)","v":0},{"$f":"SUMIF(BDD!$BG$2:$BG$3,\"M73001 (Banc new P9)VRAIFAUX\",BDD!$Z$2:$Z$3)","v":0},{"$f":"SUMIF(BDD!$BG$2:$BG$3,\"M73001 (Banc new P9)FAUXVRAI\",BDD!$Z$2:$Z$3)","v":0},{"$f":"SUMIF(BDD!$BG$2:$BG$3,\"M73001 (Banc new P9)VRAIFAUX\",BDD!$Z$2:$Z$3)","v":0},{"$f":"SUMIF(BDD!$BG$2:$BG$3,\"M73001 (Banc new P9)FAUXVRAI\",BDD!$Z$2:$Z$3)","v":0},{"$f":"SUMIF(BDD!$BG$2:$BG$3,\"M73001 (Banc new P9)VRAIFAUX\",BDD!$Z$2:$Z$3)","v":0},{"$f":"SUMIF(BDD!$BG$2:$BG$3,\"M73001 (Banc new P9)FAUXVRAI\",BDD!$Z$2:$Z$3)","v":0},{"$f":"SUMIF(BDD!$BG$2:$BG$3,\"M73001 (Banc new P9)VRAIFAUX\",BDD!$Z$2:$Z$3)","v":0},{"$f":"SUMIF(BDD!$BG$2:$BG$3,\"M73001 (Banc new P9)FAUXVRAI\",BDD!$Z$2:$Z$3)","v":0},{"$f":"SUMIF(BDD!$BG$2:$BG$3,\"M73001 (Banc new P9)VRAIFAUX\",BDD!$Z$2:$Z$3)","v":0},{"$f":"SUMIF(BDD!$BG$2:$BG$3,\"M73001 (Banc new P9)FAUXVRAI\",BDD!$Z$2:$Z$3)","v":0}]
["Banc P1",{"$f":"SUMIF(BDD!$BG$2:$BG$3,\"Banc P1VRAIFAUX\",BDD!$Z$2:$Z$3)","v":0},{"$f":"SUMIF(BDD!$BG$2:$BG$3,\"Banc P1FAUXVRAI\",BDD!$Z$2:$Z$3)","v":0},{"$f":"SUMIF(BDD!$BG$2:$BG$3,\"Banc P1VRAIFAUX\",BDD!$Z$2:$Z$3)","v":0},{"$f":"SUMIF(BDD!$BG$2:$BG$3,\"Banc P1FAUXVRAI\",BDD!$Z$2:$Z$3)","v":0},{"$f":"SUMIF(BDD!$BG$2:$BG$682,\"Banc P1VRAIFAUX\",BDD!$Z$2:$Z$682)","v":0.04},{"$f":"SUMIF(BDD!$BG$2:$BG$682,\"Banc P1FAUXVRAI\",BDD!$Z$2:$Z$682)","v":0},{"$f":"SUMIF(BDD!$BG$26:$BG$199,\"Banc P1VRAIFAUX\",BDD!$Z$26:$Z$199)","v":0.02},{"$f":"SUMIF(BDD!$BG$26:$BG$199,\"Banc P1FAUXVRAI\",BDD!$Z$26:$Z$199)","v":0},{"$f":"SUMIF(BDD!$BG$2:$BG$3,\"Banc P1VRAIFAUX\",BDD!$Z$2:$Z$3)","v":0},{"$f":"SUMIF(BDD!$BG$2:$BG$3,\"Banc P1FAUXVRAI\",BDD!$Z$2:$Z$3)","v":0},{"$f":"SUMIF(BDD!$BG$2:$BG$3,\"Banc P1VRAIFAUX\",BDD!$Z$2:$Z$3)","v":0},{"$f":"SUMIF(BDD!$BG$2:$BG$3,\"Banc P1FAUXVRAI\",BDD!$Z$2:$Z$3)","v":0},{"$f":"SUMIF(BDD!$BG$2:$BG$3,\"Banc P1VRAIFAUX\",BDD!$Z$2:$Z$3)","v":0},{"$f":"SUMIF(BDD!$BG$2:$BG$3,\"Banc P1FAUXVRAI\",BDD!$Z$2:$Z$3)","v":0},{"$f":"SUMIF(BDD!$BG$2:$BG$3,\"Banc P1VRAIFAUX\",BDD!$Z$2:$Z$3)","v":0},{"$f":"SUMIF(BDD!$BG$2:$BG$3,\"Banc P1FAUXVRAI\",BDD!$Z$2:$Z$3)","v":0},{"$f":"SUMIF(BDD!$BG$2:$BG$3,\"Banc P1VRAIFAUX\",BDD!$Z$2:$Z$3)","v":0},{"$f":"SUMIF(BDD!$BG$2:$BG$3,\"Banc P1FAUXVRAI\",BDD!$Z$2:$Z$3)","v":0},{"$f":"SUMIF(BDD!$BG$2:$BG$3,\"Banc P1VRAIFAUX\",BDD!$Z$2:$Z$3)","v":0},{"$f":"SUMIF(BDD!$BG$2:$BG$3,\"Banc P1FAUXVRAI\",BDD!$Z$2:$Z$3)","v":0},{"$f":"SUMIF(BDD!$BG$2:$BG$3,\"Banc P1VRAIFAUX\",BDD!$Z$2:$Z$3)","v":0},{"$f":"SUMIF(BDD!$BG$2:$BG$3,\"Banc P1FAUXVRAI\",BDD!$Z$2:$Z$3)","v":0},{"$f":"SUMIF(BDD!$BG$2:$BG$3,\"Banc P1VRAIFAUX\",BDD!$Z$2:$Z$3)","v":0},{"$f":"SUMIF(BDD!$BG$2:$BG$3,\"Banc P1FAUXVRAI\",BDD!$Z$2:$Z$3)","v":0}]
["Banc P2",{"$f":"SUMIF(BDD!$BG$2:$BG$3,\"Banc P2VRAIFAUX\",BDD!$Z$2:$Z$3)","v":0},{"$f":"SUMIF(BDD!$BG$2:$BG$3,\"Banc P2FAUXVRAI\",BDD!$Z$2:$Z$3)","v":0},{"$f":"SUMIF(BDD!$BG$2:$BG$3,\"Banc P2VRAIFAUX\",BDD!$Z$2:$Z$3)","v":0},{"$f":"SUMIF(BDD!$BG$2:$BG$3,\"Banc P2FAUXVRAI\",BDD!$Z$2:$Z$3)","v":0},{"$f":"SUMIF(BDD!$BG$2:$BG$25,\"Banc P2VRAIFAUX\",BDD!$Z$2:$Z$25)","v":0},{"$f":"SUMIF(BDD!$BG$2:$BG$25,\"Banc P2FAUXVRAI\",BDD!$Z$2:$Z$25)","v":0},{"$f":"SUMIF(BDD!$BG$26:$BG$199,\"Banc P2VRAIFAUX\",BDD!$Z$26:$Z$199)","v":2},{"$f":"SUMIF(BDD!$BG$26:$BG$199,\"Banc P2FAUXVRAI\",BDD!$Z$26:$Z$199)","v":0},{"$f":"SUMIF(BDD!$BG$2:$BG$3,\"Banc P2VRAIFAUX\",BDD!$Z$2:$Z$3)","v":0},{"$f":"SUMIF(BDD!$BG$2:$BG$3,\"Banc P2FAUXVRAI\",BDD!$Z$2:$Z$3)","v":0},{"$f":"SUMIF(BDD!$BG$2:$BG$3,\"Banc P2VRAIFAUX\",BDD!$Z$2:$Z$3)","v":0},{"$f":"SUMIF(BDD!$BG$2:$BG$3,\"Banc P2FAUXVRAI\",BDD!$Z$2:$Z$3)","v":0},{"$f":"SUMIF(BDD!$BG$2:$BG$3,\"Banc P2VRAIFAUX\",BDD!$Z$2:$Z$3)","v":0},{"$f":"SUMIF(BDD!$BG$2:$BG$3,\"Banc P2FAUXVRAI\",BDD!$Z$2:$Z$3)","v":0},{"$f":"SUMIF(BDD!$BG$2:$BG$3,\"Banc P2VRAIFAUX\",BDD!$Z$2:$Z$3)","v":0},{"$f":"SUMIF(BDD!$BG$2:$BG$3,\"Banc P2FAUXVRAI\",BDD!$Z$2:$Z$3)","v":0},{"$f":"SUMIF(BDD!$BG$2:$BG$3,\"Banc P2VRAIFAUX\",BDD!$Z$2:$Z$3)","v":0},{"$f":"SUMIF(BDD!$BG$2:$BG$3,\"Banc P2FAUXVRAI\",BDD!$Z$2:$Z$3)","v":0},{"$f":"SUMIF(BDD!$BG$2:$BG$3,\"Banc P2VRAIFAUX\",BDD!$Z$2:$Z$3)","v":0},{"$f":"SUMIF(BDD!$BG$2:$BG$3,\"Banc P2FAUXVRAI\",BDD!$Z$2:$Z$3)","v":0},{"$f":"SUMIF(BDD!$BG$2:$BG$3,\"Banc P2VRAIFAUX\",BDD!$Z$2:$Z$3)","v":0},{"$f":"SUMIF(BDD!$BG$2:$BG$3,\"Banc P2FAUXVRAI\",BDD!$Z$2:$Z$3)","v":0},{"$f":"SUMIF(BDD!$BG$2:$BG$3,\"Banc P2VRAIFAUX\",BDD!$Z$2:$Z$3)","v":0},{"$f":"SUMIF(BDD!$BG$2:$BG$3,\"Banc P2FAUXVRAI\",BDD!$Z$2:$Z$3)","v":0}]
["Banc 156",{"$f":"SUMIF(BDD!$BG$2:$BG$3,\"Banc 156VRAIFAUX\",BDD!$Z$2:$Z$3)","v":0},{"$f":"SUMIF(BDD!$BG$2:$BG$3,\"Banc 156FAUXVRAI\",BDD!$Z$2:$Z$3)","v":0},{"$f":"SUMIF(BDD!$BG$2:$BG$3,\"Banc 156VRAIFAUX\",BDD!$Z$2:$Z$3)","v":0},{"$f":"SUMIF(BDD!$BG$2:$BG$3,\"Banc 156FAUXVRAI\",BDD!$Z$2:$Z$3)","v":0},{"$f":"SUMIF(BDD!$BG$2:$BG$682,\"Banc 156VRAIFAUX\",BDD!$Z$2:$Z$682)","v":0},{"$f":"SUMIF(BDD!$BG$2:$BG$682,\"Banc 156FAUXVRAI\",BDD!$Z$2:$Z$682)","v":0},{"$f":"SUMIF(BDD!$BG$26:$BG$199,\"Banc 156VRAIFAUX\",BDD!$Z$26:$Z$199)","v":0},{"$f":"SUMIF(BDD!$BG$26:$BG$199,\"Banc 156FAUXVRAI\",BDD!$Z$26:$Z$199)","v":0},{"$f":"SUMIF(BDD!$BG$2:$BG$3,\"Banc 156VRAIFAUX\",BDD!$Z$2:$Z$3)","v":0},{"$f":"SUMIF(BDD!$BG$2:$BG$3,\"Banc 156FAUXVRAI\",BDD!$Z$2:$Z$3)","v":0},{"$f":"SUMIF(BDD!$BG$2:$BG$3,\"Banc 156VRAIFAUX\",BDD!$Z$2:$Z$3)","v":0},{"$f":"SUMIF(BDD!$BG$2:$BG$3,\"Banc 156FAUXVRAI\",BDD!$Z$2:$Z$3)","v":0},{"$f":"SUMIF(BDD!$BG$2:$BG$3,\"Banc 156VRAIFAUX\",BDD!$Z$2:$Z$3)","v":0},{"$f":"SUMIF(BDD!$BG$2:$BG$3,\"Banc 156FAUXVRAI\",BDD!$Z$2:$Z$3)","v":0},{"$f":"SUMIF(BDD!$BG$2:$BG$3,\"Banc 156VRAIFAUX\",BDD!$Z$2:$Z$3)","v":0},{"$f":"SUMIF(BDD!$BG$2:$BG$3,\"Banc 156FAUXVRAI\",BDD!$Z$2:$Z$3)","v":0},{"$f":"SUMIF(BDD!$BG$2:$BG$3,\"Banc 156VRAIFAUX\",BDD!$Z$2:$Z$3)","v":0},{"$f":"SUMIF(BDD!$BG$2:$BG$3,\"Banc 156FAUXVRAI\",BDD!$Z$2:$Z$3)","v":0},{"$f":"SUMIF(BDD!$BG$2:$BG$3,\"Banc 156VRAIFAUX\",BDD!$Z$2:$Z$3)","v":0},{"$f":"SUMIF(BDD!$BG$2:$BG$3,\"Banc 156FAUXVRAI\",BDD!$Z$2:$Z$3)","v":0},{"$f":"SUMIF(BDD!$BG$2:$BG$3,\"Banc 156VRAIFAUX\",BDD!$Z$2:$Z$3)","v":0},{"$f":"SUMIF(BDD!$BG$2:$BG$3,\"Banc 156FAUXVRAI\",BDD!$Z$2:$Z$3)","v":0},{"$f":"SUMIF(BDD!$BG$2:$BG$3,\"Banc 156VRAIFAUX\",BDD!$Z$2:$Z$3)","v":0},{"$f":"SUMIF(BDD!$BG$2:$BG$3,\"Banc 156FAUXVRAI\",BDD!$Z$2:$Z$3)","v":0}]
["Chambre Froide",{"$f":"SUMIF(BDD!$BG$2:$BG$3,\"Chambre FroideVRAIFAUX\",BDD!$Z$2:$Z$3)","v":0},{"$f":"SUMIF(BDD!$BG$2:$BG$3,\"Chambre FroideFAUXVRAI\",BDD!$Z$2:$Z$3)","v":0},{"$f":"SUMIF(BDD!$BG$2:$BG$3,\"Chambre FroideVRAIFAUX\",BDD!$Z$2:$Z$3)","v":0},{"$f":"SUMIF(BDD!$BG$2:$BG$3,\"Chambre FroideFAUXVRAI\",BDD!$Z$2:$Z$3)","v":0},{"$f":"SUMIF(BDD!$BG$2:$BG$682,\"Chambre FroideVRAIFAUX\",BDD!$Z$2:$Z$682)","v":0},{"$f":"SUMIF(BDD!$BG$2:$BG$682,\"Chambre FroideFAUXVRAI\",BDD!$Z$2:$Z$682)","v":0.3},{"$f":"SUMIF(BDD!$BG$26:$BG$199,\"Chambre FroideVRAIFAUX\",BDD!$Z$26:$Z$199)","v":0},{"$f":"SUMIF(BDD!$BG$26:$BG$199,\"Chambre FroideFAUXVRAI\",BDD!$Z$26:$Z$199)","v":0},{"$f":"SUMIF(BDD!$BG$2:$BG$3,\"Chambre FroideVRAIFAUX\",BDD!$Z$2:$Z$3)","v":0},{"$f":"SUMIF(BDD!$BG$2:$BG$3,\"Chambre FroideFAUXVRAI\",BDD!$Z$2:$Z$3)","v":0},{"$f":"SUMIF(BDD!$BG$2:$BG$3,\"Chambre FroideVRAIFAUX\",BDD!$Z$2:$Z$3)","v":0},{"$f":"SUMIF(BDD!$BG$2:$BG$3,\"Chambre FroideFAUXVRAI\",BDD!$Z$2:$Z$3)","v":0},{"$f":"SUMIF(BDD!$BG$2:$BG$3,\"Chambre FroideVRAIFAUX\",BDD!$Z$2:$Z$3)","v":0},{"$f":"SUMIF(BDD!$BG$2:$BG$3,\"Chambre FroideFAUXVRAI\",BDD!$Z$2:$Z$3)","v":0},{"$f":"SUMIF(BDD!$BG$2:$BG$3,\"Chambre FroideVRAIFAUX\",BDD!$Z$2:$Z$3)","v":0},{"$f":"SUMIF(BDD!$BG$2:$BG$3,\"Chambre FroideFAUXVRAI\",BDD!$Z$2:$Z$3)","v":0},{"$f":"SUMIF(BDD!$BG$2:$BG$3,\"Chambre FroideVRAIFAUX\",BDD!$Z$2:$Z$3)","v":0},{"$f":"SUMIF(BDD!$BG$2:$BG$3,\"Chambre FroideFAUXVRAI\",BDD!$Z$2:$Z$3)","v":0},{"$f":"SUMIF(BDD!$BG$2:$BG$3,\"Chambre FroideVRAIFAUX\",BDD!$Z$2:$Z$3)","v":0},{"$f":"SUMIF(BDD!$BG$2:$BG$3,\"Chambre FroideFAUXVRAI\",BDD!$Z$2:$Z$3)","v":0},{"$f":"SUMIF(BDD!$BG$2:$BG$3,\"Chambre FroideVRAIFAUX\",BDD!$Z$2:$Z$3)","v":0},{"$f":"SUMIF(BDD!$BG$2:$BG$3,\"Chambre FroideFAUXVRAI\",BDD!$Z$2:$Z$3)","v":0},{"$f":"SUMIF(BDD!$BG$2:$BG$3,\"Chambre FroideVRAIFAUX\",BDD!$Z$2:$Z$3)","v":0},{"$f":"SUMIF(BDD!$BG$2:$BG$3,\"Chambre FroideFAUXVRAI\",BDD!$Z$2:$Z$3)","v":0}]
["Chambre Sourde",{"$f":"SUMIF(BDD!$BG$2:$BG$3,\"Chambre SourdeVRAIFAUX\",BDD!$Z$2:$Z$3)","v":0},{"$f":"SUMIF(BDD!$BG$2:$BG$3,\"Chambre SourdeFAUXVRAI\",BDD!$Z$2:$Z$3)","v":0},{"$f":"SUMIF(BDD!$BG$2:$BG$3,\"Chambre SourdeVRAIFAUX\",BDD!$Z$2:$Z$3)","v":0},{"$f":"SUMIF(BDD!$BG$2:$BG$3,\"Chambre SourdeFAUXVRAI\",BDD!$Z$2:$Z$3)","v":0},{"$f":"SUMIF(BDD!$BG$2:$BG$682,\"Chambre SourdeVRAIFAUX\",BDD!$Z$2:$Z$682)","v":0},{"$f":"SUMIF(BDD!$BG$2:$BG$682,\"Chambre SourdeFAUXVRAI\",BDD!$Z$2:$Z$682)","v":0},{"$f":"SUMIF(BDD!$BG$26:$BG$199,\"Chambre SourdeVRAIFAUX\",BDD!$Z$26:$Z$199)","v":0},{"$f":"SUMIF(BDD!$BG$26:$BG$199,\"Chambre SourdeFAUXVRAI\",BDD!$Z$26:$Z$199)","v":0},{"$f":"SUMIF(BDD!$BG$2:$BG$3,\"Chambre SourdeVRAIFAUX\",BDD!$Z$2:$Z$3)","v":0},{"$f":"SUMIF(BDD!$BG$2:$BG$3,\"Chambre SourdeFAUXVRAI\",BDD!$Z$2:$Z$3)","v":0},{"$f":"SUMIF(BDD!$BG$2:$BG$3,\"Chambre SourdeVRAIFAUX\",BDD!$Z$2:$Z$3)","v":0},{"$f":"SUMIF(BDD!$BG$2:$BG$3,\"Chambre SourdeFAUXVRAI\",BDD!$Z$2:$Z$3)","v":0},{"$f":"SUMIF(BDD!$BG$2:$BG$3,\"Chambre SourdeVRAIFAUX\",BDD!$Z$2:$Z$3)","v":0},{"$f":"SUMIF(BDD!$BG$2:$BG$3,\"Chambre SourdeFAUXVRAI\",BDD!$Z$2:$Z$3)","v":0},{"$f":"SUMIF(BDD!$BG$2:$BG$3,\"Chambre SourdeVRAIFAUX\",BDD!$Z$2:$Z$3)","v":0},{"$f":"SUMIF(BDD!$BG$2:$BG$3,\"Chambre SourdeFAUXVRAI\",BDD!$Z$2:$Z$3)","v":0},{"$f":"SUMIF(BDD!$BG$2:$BG$3,\"Chambre SourdeVRAIFAUX\",BDD!$Z$2:$Z$3)","v":0},{"$f":"SUMIF(BDD!$BG$2:$BG$3,\"Chambre SourdeFAUXVRAI\",BDD!$Z$2:$Z$3)","v":0},{"$f":"SUMIF(BDD!$BG$2:$BG$3,\"Chambre SourdeVRAIFAUX\",BDD!$Z$2:$Z$3)","v":0},{"$f":"SUMIF(BDD!$BG$2:$BG$3,\"Chambre SourdeFAUXVRAI\",BDD!$Z$2:$Z$3)","v":0},{"$f":"SUMIF(BDD!$BG$2:$BG$3,\"Chambre SourdeVRAIFAUX\",BDD!$Z$2:$Z$3)","v":0},{"$f":"SUMIF(BDD!$BG$2:$BG$3,\"Chambre SourdeFAUXVRAI\",BDD!$Z$2:$Z$3)","v":0},{"$f":"SUMIF(BDD!$BG$2:$BG$3,\"Chambre SourdeVRAIFAUX\",BDD!$Z$2:$Z$3)","v":0},{"$f":"SUMIF(BDD!$BG$2:$BG$3,\"Chambre SourdeFAUXVRAI\",BDD!$Z$2:$Z$3)","v":0}]
[]
[]
[]
[]
[]
[]
[]
[]
[]
[]
[]
[]
[]
[]
[]
[]
[]
[]
[]
[]
[]
[]
[null,"Suivi du correctif et du préventif par banc"]
[null,"Janvier",null,null,null,null,null,"Février",null,null,null,null,null,"Mars",null,null,null,null,null,"Avril",null,null,null,null,null,"Mai",null,null,null,null,null,"Juin",null,null,null,null,null,"Juillet",null,null,null,null,null,"Août",null,null,null,null,null,"Septembre",null,null,null,null,null,"Octobre",null,null,null,null,null,"Novembre",null,null,null,null,null,"Décembre"]
[null,"Corrective",null,null,"Préventive",null,null,"Corrective",null,null,"Préventive",null,null,"Corrective",null,null,"Préventive",null,null,"Corrective",null,null,"Préventive",null,null,"Corrective",null,null,"Préventive",null,null,"Corrective",null,null,"Préventive",null,null,"Corrective",null,null,"Préventive",null,null,"Corrective",null,null,"Préventive",null,null,"Corrective",null,null,"Préventive",null,null,"Corrective",null,null,"Préventive",null,null,"Corrective",null,null,"Préventive",null,null,"Corrective",null,null,"Préventive"]
["Banc zone 6","Electrique","Mécanique","Hydraulique","Electrique","Mécanique","Hydraulique","Electrique","Mécanique","Hydraulique","Electrique","Mécanique","Hydraulique","Electrique","Mécanique","Hydraulique","Electrique","Mécanique","Hydraulique","Electrique","Mécanique","Hydraulique","Electrique","Mécanique","Hydraulique","Electrique","Mécanique","Hydraulique","Electrique","Mécanique","Hydraulique","Electrique","Mécanique","Hydraulique","Electrique","Mécanique","Hydraulique","Electrique","Mécanique","Hydraulique","Electrique","Mécanique","Hydraulique","Electrique","Mécanique","Hydraulique","Electrique","Mécanique","Hydraulique","Electrique","Mécanique","Hydraulique","Electrique","Mécanique","Hydraulique","Electrique","Mécanique","Hydraulique","Electrique","Mécanique","Hydraulique","Electrique","Mécanique","Hydraulique","Electrique","Mécanique","Hydraulique","Electrique","Mécanique","Hydraulique","Electrique","Mécanique","Hydraulique"]
["M73001 (Banc new P9)",{"$f":"SUMIF(BDD!$BH$2:$BH$3,\"M73001 (Banc new P9)VRAIFAUXVRAIFAUXFAUX\",BDD!$Z$2:$Z$3)","v":0},{"$f":"SUMIF(BDD!$BH$2:$BH$3,\"M73001 (Banc new P9)VRAIFAUXFAUXVRAIFAUX\",BDD!$Z$2:$Z$3)","v":0},{"$f":"SUMIF(BDD!$BH$2:$BH$3,\"M73001 (Banc new P9)VRAIFAUXFAUXFAUXVRAI\",BDD!$Z$2:$Z$3)","v":0},{"$f":"SUMIF(BDD!$BH$2:$BH$3,\"M73001 (Banc new P9)FAUXVRAIVRAIFAUXFAUX\",BDD!$Z$2:$Z$3)","v":0},{"$f":"SUMIF(BDD!$BH$2:$BH$3,\"M73001 (Banc new P9)FAUXVRAIFAUXVRAIFAUX\",BDD!$Z$2:$Z$3)","v":0},{"$f":"SUMIF(BDD!$BH$2:$BH$3,\"M73001 (Banc new P9)FAUXVRAIFAUXFAUXVRAI\",BDD!$Z$2:$Z$3)","v":0},{"$f":"SUMIF(BDD!$BH$2:$BH$3,\"M73001 (Banc new P9)VRAIFAUXVRAIFAUXFAUX\",BDD!$Z$2:$Z$3)","v":0},{"$f":"SUMIF(BDD!$BH$2:$BH$3,\"M73001 (Banc new P9)VRAIFAUXFAUXVRAIFAUX\",BDD!$Z$2:$Z$3)","v":0},{"$f":"SUMIF(BDD!$BH$2:$BH$3,\"M73001 (Banc new P9)VRAIFAUXFAUXFAUXVRAI\",BDD!$Z$2:$Z$3)","v":0},{"$f":"SUMIF(BDD!$BH$2:$BH$3,\"M73001 (Banc new P9)FAUXVRAIVRAIFAUXFAUX\",BDD!$Z$2:$Z$3)","v":0},{"$f":"SUMIF(BDD!$BH$2:$BH$3,\"M73001 (Banc new P9)FAUXVRAIFAUXVRAIFAUX\",BDD!$Z$2:$Z$3)","v":0},{"$f":"SUMIF(BDD!$BH$2:$BH$3,\"M73001 (Banc new P9)FAUXVRAIFAUXFAUXVRAI\",BDD!$Z$2:$Z$3)","v":0},{"$f":"SUMIF(BDD!$BH$2:$BH$25,\"M73001 (Banc new P9)VRAIFAUXVRAIFAUXFAUX\",BDD!$Z$2:$Z$25)","v":0},{"$f":"SUMIF(BDD!$BH$2:$BH$25,\"M73001 (Banc new P9)VRAIFAUXFAUXVRAIFAUX\",BDD!$Z$2:$Z$25)","v":0},{"$f":"SUMIF(BDD!$BH$2:$BH$25,\"M73001 (Banc new P9)VRAIFAUXFAUXFAUXVRAI\",BDD!$Z$2:$Z$25)","v":0},{"$f":"SUMIF(BDD!$BH$2:$BH$25,\"M73001 (Banc new P9)FAUXVRAIVRAIFAUXFAUX\",BDD!$Z$2:$Z$25)","v":0},{"$f":"SUMIF(BDD!$BH$2:$BH$25,\"M73001 (Banc new P9)FAUXVRAIFAUXVRAIFAUX\",BDD!$Z$2:$Z$25)","v":0},{"$f":"SUMIF(BDD!$BH$2:$BH$25,\"M73001 (Banc new P9)FAUXVRAIFAUXFAUXVRAI\",BDD!$Z$2:$Z$25)","v":0},{"$f":"SUMIF(BDD!$BH$26:$BH$149,\"M73001 (Banc new P9)VRAIFAUXVRAIFAUXFAUX\",BDD!$Z$26:$Z$149)","v":0},{"$f":"SUMIF(BDD!$BH$26:$BH$149,\"M72600001 (Banc new P9)VRAIFAUXFAUXVRAIFAUX\",BDD!$Z$26:$Z$149)","v":0},{"$f":"SUMIF(BDD!$BH$26:$BH$149,\"M72600001 (Banc new P9)VRAIFAUXFAUXFAUXVRAI\",BDD!$Z$26:$Z$149)","v":0},{"$f":"SUMIF(BDD!$BH$26:$BH$149,\"M72600001 (Banc new P9)FAUXVRAIVRAIFAUXFAUX\",BDD!$Z$26:$Z$149)","v":0},{"$f":"SUMIF(BDD!$BH$26:$BH$149,\"M72600001 (Banc new P9)FAUXVRAIFAUXVRAIFAUX\",BDD!$Z$26:$Z$149)","v":0},{"$f":"SUMIF(BDD!$BH$26:$BH$149,\"M72600001 (Banc new P9)FAUXVRAIFAUXFAUXVRAI\",BDD!$Z$26:$Z$149)","v":0},{"$f":"SUMIF(BDD!$BH$2:$BH$3,\"M73001 (Banc new P9)VRAIFAUXVRAIFAUXFAUX\",BDD!$Z$2:$Z$3)","v":0},{"$f":"SUMIF(BDD!$BH$2:$BH$3,\"M73001 (Banc new P9)VRAIFAUXFAUXVRAIFAUX\",BDD!$Z$2:$Z$3)","v":0},{"$f":"SUMIF(BDD!$BH$2:$BH$3,\"M73001 (Banc new P9)VRAIFAUXFAUXFAUXVRAI\",BDD!$Z$2:$Z$3)","v":0},{"$f":"SUMIF(BDD!$BH$2:$BH$3,\"M73001 (Banc new P9)FAUXVRAIVRAIFAUXFAUX\",BDD!$Z$2:$Z$3)","v":0},{"$f":"SUMIF(BDD!$BH$2:$BH$3,\"M73001 (Banc new P9)FAUXVRAIFAUXVRAIFAUX\",BDD!$Z$2:$Z$3)","v":0},{"$f":"SUMIF(BDD!$BH$2:$BH$3,\"M73001 (Banc new P9)FAUXVRAIFAUXFAUXVRAI\",BDD!$Z$2:$Z$3)","v":0},{"$f":"SUMIF(BDD!$BH$2:$BH$3,\"M73001 (Banc new P9)VRAIFAUXVRAIFAUXFAUX\",BDD!$Z$2:$Z$3)","v":0},{"$f":"SUMIF(BDD!$BH$2:$BH$3,\"M73001 (Banc new P9)VRAIFAUXFAUXVRAIFAUX\",BDD!$Z$2:$Z$3)","v":0},{"$f":"SUMIF(BDD!$BH$2:$BH$3,\"M73001 (Banc new P9)VRAIFAUXFAUXFAUXVRAI\",BDD!$Z$2:$Z$3)","v":0},{"$f":"SUMIF(BDD!$BH$2:$BH$3,\"M73001 (Banc new P9)FAUXVRAIVRAIFAUXFAUX\",BDD!$Z$2:$Z$3)","v":0},{"$f":"SUMIF(BDD!$BH$2:$BH$3,\"M73001 (Banc new P9)FAUXVRAIFAUXVRAIFAUX\",BDD!$Z$2:$Z$3)","v":0},{"$f":"SUMIF(BDD!$BH$2:$BH$3,\"M73001 (Banc new P9)FAUXVRAIFAUXFAUXVRAI\",BDD!$Z$2:$Z$3)","v":0},{"$f":"SUMIF(BDD!$BH$2:$BH$3,\"M73001 (Banc new P9)VRAIFAUXVRAIFAUXFAUX\",BDD!$Z$2:$Z$3)","v":0},{"$f":"SUMIF(BDD!$BH$2:$BH$3,\"M73001 (Banc new P9)VRAIFAUXFAUXVRAIFAUX\",BDD!$Z$2:$Z$3)","v":0},{"$f":"SUMIF(BDD!$BH$2:$BH$3,\"M73001 (Banc new P9)VRAIFAUXFAUXFAUXVRAI\",BDD!$Z$2:$Z$3)","v":0},{"$f":"SUMIF(BDD!$BH$2:$BH$3,\"M73001 (Banc new P9)FAUXVRAIVRAIFAUXFAUX\",BDD!$Z$2:$Z$3)","v":0},{"$f":"SUMIF(BDD!$BH$2:$BH$3,\"M73001 (Banc new P9)FAUXVRAIFAUXVRAIFAUX\",BDD!$Z$2:$Z$3)","v":0},{"$f":"SUMIF(BDD!$BH$2:$BH$3,\"M73001 (Banc new P9)FAUXVRAIFAUXFAUXVRAI\",BDD!$Z$2:$Z$3)","v":0},{"$f":"SUMIF(BDD!$BH$2:$BH$3,\"M73001 (Banc new P9)VRAIFAUXVRAIFAUXFAUX\",BDD!$Z$2:$Z$3)","v":0},{"$f":"SUMIF(BDD!$BH$2:$BH$3,\"M73001 (Banc new P9)VRAIFAUXFAUXVRAIFAUX\",BDD!$Z$2:$Z$3)","v":0},{"$f":"SUMIF(BDD!$BH$2:$BH$3,\"M73001 (Banc new P9)VRAIFAUXFAUXFAUXVRAI\",BDD!$Z$2:$Z$3)","v":0},{"$f":"SUMIF(BDD!$BH$2:$BH$3,\"M73001 (Banc new P9)FAUXVRAIVRAIFAUXFAUX\",BDD!$Z$2:$Z$3)","v":0},{"$f":"SUMIF(BDD!$BH$2:$BH$3,\"M73001 (Banc new P9)FAUXVRAIFAUXVRAIFAUX\",BDD!$Z$2:$Z$3)","v":0},{"$f":"SUMIF(BDD!$BH$2:$BH$3,\"M73001 (Banc new P9)FAUXVRAIFAUXFAUXVRAI\",BDD!$Z$2:$Z$3)","v":0},{"$f":"SUMIF(BDD!$BH$2:$BH$3,\"M73001 (Banc new P9)VRAIFAUXVRAIFAUXFAUX\",BDD!$Z$2:$Z$3)","v":0},{"$f":"SUMIF(BDD!$BH$2:$BH$3,\"M73001 (Banc new P9)VRAIFAUXFAUXVRAIFAUX\",BDD!$Z$2:$Z$3)","v":0},{"$f":"SUMIF(BDD!$BH$2:$BH$3,\"M73001 (Banc new P9)VRAIFAUXFAUXFAUXVRAI\",BDD!$Z$2:$Z$3)","v":0},{"$f":"SUMIF(BDD!$BH$2:$BH$3,\"M73001 (Banc new P9)FAUXVRAIVRAIFAUXFAUX\",BDD!$Z$2:$Z$3)","v":0},{"$f":"SUMIF(BDD!$BH$2:$BH$3,\"M73001 (Banc new P9)FAUXVRAIFAUXVRAIFAUX\",BDD!$Z$2:$Z$3)","v":0},{"$f":"SUMIF(BDD!$BH$2:$BH$3,\"M73001 (Banc new P9)FAUXVRAIFAUXFAUXVRAI\",BDD!$Z$2:$Z$3)","v":0},{"$f":"SUMIF(BDD!$BH$2:$BH$3,\"M73001 (Banc new P9)VRAIFAUXVRAIFAUXFAUX\",BDD!$Z$2:$Z$3)","v":0},{"$f":"SUMIF(BDD!$BH$2:$BH$3,\"M73001 (Banc new P9)VRAIFAUXFAUXVRAIFAUX\",BDD!$Z$2:$Z$3)","v":0},{"$f":"SUMIF(BDD!$BH$2:$BH$3,\"M73001 (Banc new P9)VRAIFAUXFAUXFAUXVRAI\",BDD!$Z$2:$Z$3)","v":0},{"$f":"SUMIF(BDD!$BH$2:$BH$3,\"M73001 (Banc new P9)FAUXVRAIVRAIFAUXFAUX\",BDD!$Z$2:$Z$3)","v":0},{"$f":"SUMIF(BDD!$BH$2:$BH$3,\"M73001 (Banc new P9)FAUXVRAIFAUXVRAIFAUX\",BDD!$Z$2:$Z$3)","v":0},{"$f":"SUMIF(BDD!$BH$2:$BH$3,\"M73001 (Banc new P9)FAUXVRAIFAUXFAUXVRAI\",BDD!$Z$2:$Z$3)","v":0},{"$f":"SUMIF(BDD!$BH$2:$BH$3,\"M73001 (Banc new P9)VRAIFAUXVRAIFAUXFAUX\",BDD!$Z$2:$Z$3)","v":0},{"$f":"SUMIF(BDD!$BH$2:$BH$3,\"M73001 (Banc new P9)VRAIFAUXFAUXVRAIFAUX\",BDD!$Z$2:$Z$3)","v":0},{"$f":"SUMIF(BDD!$BH$2:$BH$3,\"M73001 (Banc new P9)VRAIFAUXFAUXFAUXVRAI\",BDD!$Z$2:$Z$3)","v":0},{"$f":"SUMIF(BDD!$BH$2:$BH$3,\"M73001 (Banc new P9)FAUXVRAIVRAIFAUXFAUX\",BDD!$Z$2:$Z$3)","v":0},{"$f":"SUMIF(BDD!$BH$2:$BH$3,\"M73001 (Banc new P9)FAUXVRAIFAUXVRAIFAUX\",BDD!$Z$2:$Z$3)","v":0},{"$f":"SUMIF(BDD!$BH$2:$BH$3,\"M73001 (Banc new P9)FAUXVRAIFAUXFAUXVRAI\",BDD!$Z$2:$Z$3)","v":0},{"$f":"SUMIF(BDD!$BH$2:$BH$3,\"M73001 (Banc new P9)VRAIFAUXVRAIFAUXFAUX\",BDD!$Z$2:$Z$3)","v":0},{"$f":"SUMIF(BDD!$BH$2:$BH$3,\"M73001 (Banc new P9)VRAIFAUXFAUXVRAIFAUX\",BDD!$Z$2:$Z$3)","v":0},{"$f":"SUMIF(BDD!$BH$2:$BH$3,\"M73001 (Banc new P9)VRAIFAUXFAUXFAUXVRAI\",BDD!$Z$2:$Z$3)","v":0},{"$f":"SUMIF(BDD!$BH$2:$BH$3,\"M73001 (Banc new P9)FAUXVRAIVRAIFAUXFAUX\",BDD!$Z$2:$Z$3)","v":0},{"$f":"SUMIF(BDD!$BH$2:$BH$3,\"M73001 (Banc new P9)FAUXVRAIFAUXVRAIFAUX\",BDD!$Z$2:$Z$3)","v":0},{"$f":"SUMIF(BDD!$BH$2:$BH$3,\"M73001 (Banc new P9)FAUXVRAIFAUXFAUXVRAI\",BDD!$Z$2:$Z$3)","v":0}]
["Banc P1",{"$f":"SUMIF(BDD!$BH$2:$BH$3,\"Banc P1VRAIFAUXVRAIFAUXFAUX\",BDD!$Z$2:$Z$3)","v":0},{"$f":"SUMIF(BDD!$BH$2:$BH$3,\"Banc P1VRAIFAUXFAUXVRAIFAUX\",BDD!$Z$2:$Z$3)","v":0},{"$f":"SUMIF(BDD!$BH$2:$BH$3,\"Banc P1VRAIFAUXFAUXFAUXVRAI\",BDD!$Z$2:$Z$3)","v":0},{"$f":"SUMIF(BDD!$BH$2:$BH$3,\"Banc P1FAUXVRAIVRAIFAUXFAUX\",BDD!$Z$2:$Z$3)","v":0},{"$f":"SUMIF(BDD!$BH$2:$BH$3,\"Banc P1FAUXVRAIFAUXVRAIFAUX\",BDD!$Z$2:$Z$3)","v":0},{"$f":"SUMIF(BDD!$BH$2:$BH$3,\"Banc P1FAUXVRAIFAUXFAUXVRAI\",BDD!$Z$2:$Z$3)","v":0},{"$f":"SUMIF(BDD!$BH$2:$BH$3,\"Banc P1VRAIFAUXVRAIFAUXFAUX\",BDD!$Z$2:$Z$3)","v":0},{"$f":"SUMIF(BDD!$BH$2:$BH$3,\"Banc P1VRAIFAUXFAUXVRAIFAUX\",BDD!$Z$2:$Z$3)","v":0},{"$f":"SUMIF(BDD!$BH$2:$BH$3,\"Banc P1VRAIFAUXFAUXFAUXVRAI\",BDD!$Z$2:$Z$3)","v":0},{"$f":"SUMIF(BDD!$BH$2:$BH$3,\"Banc P1FAUXVRAIVRAIFAUXFAUX\",BDD!$Z$2:$Z$3)","v":0},{"$f":"SUMIF(BDD!$BH$2:$BH$3,\"Banc P1FAUXVRAIFAUXVRAIFAUX\",BDD!$Z$2:$Z$3)","v":0},{"$f":"SUMIF(BDD!$BH$2:$BH$3,\"Banc P1FAUXVRAIFAUXFAUXVRAI\",BDD!$Z$2:$Z$3)","v":0},{"$f":"SUMIF(BDD!$BH$2:$BH$25,\"Banc P1VRAIFAUXVRAIFAUXFAUX\",BDD!$Z$2:$Z$25)","v":0.02},{"$f":"SUMIF(BDD!$BH$2:$BH$25,\"Banc P1VRAIFAUXFAUXVRAIFAUX\",BDD!$Z$2:$Z$25)","v":0},{"$f":"SUMIF(BDD!$BH$2:$BH$25,\"Banc P1VRAIFAUXFAUXFAUXVRAI\",BDD!$Z$2:$Z$25)","v":0},{"$f":"SUMIF(BDD!$BH$2:$BH$25,\"Banc P1FAUXVRAIVRAIFAUXFAUX\",BDD!$Z$2:$Z$25)","v":0},{"$f":"SUMIF(BDD!$BH$2:$BH$25,\"Banc P1FAUXVRAIFAUXVRAIFAUX\",BDD!$Z$2:$Z$25)","v":0},{"$f":"SUMIF(BDD!$BH$2:$BH$25,\"Banc P1FAUXVRAIFAUXFAUXVRAI\",BDD!$Z$2:$Z$25)","v":0},{"$f":"SUMIF(BDD!$BH$26:$BH$149,\"Banc P1VRAIFAUXVRAIFAUXFAUX\",BDD!$Z$26:$Z$149)","v":0.02},{"$f":"SUMIF(BDD!$BH$26:$BH$149,\"Banc P1VRAIFAUXFAUXVRAIFAUX\",BDD!$Z$26:$Z$149)","v":0},{"$f":"SUMIF(BDD!$BH$26:$BH$149,\"Banc P1VRAIFAUXFAUXFAUXVRAI\",BDD!$Z$26:$Z$149)","v":0},{"$f":"SUMIF(BDD!$BH$26:$BH$149,\"Banc P1FAUXVRAIVRAIFAUXFAUX\",BDD!$Z$26:$Z$149)","v":0},{"$f":"SUMIF(BDD!$BH$26:$BH$149,\"Banc P1FAUXVRAIFAUXVRAIFAUX\",BDD!$Z$26:$Z$149)","v":0},{"$f":"SUMIF(BDD!$BH$26:$BH$149,\"Banc P1FAUXVRAIFAUXFAUXVRAI\",BDD!$Z$26:$Z$149)","v":0},{"$f":"SUMIF(BDD!$BH$2:$BH$3,\"Banc P1VRAIFAUXVRAIFAUXFAUX\",BDD!$Z$2:$Z$3)","v":0},{"$f":"SUMIF(BDD!$BH$2:$BH$3,\"Banc P1VRAIFAUXFAUXVRAIFAUX\",BDD!$Z$2:$Z$3)","v":0},{"$f":"SUMIF(BDD!$BH$2:$BH$3,\"Banc P1VRAIFAUXFAUXFAUXVRAI\",BDD!$Z$2:$Z$3)","v":0},{"$f":"SUMIF(BDD!$BH$2:$BH$3,\"Banc P1FAUXVRAIVRAIFAUXFAUX\",BDD!$Z$2:$Z$3)","v":0},{"$f":"SUMIF(BDD!$BH$2:$BH$3,\"Banc P1FAUXVRAIFAUXVRAIFAUX\",BDD!$Z$2:$Z$3)","v":0},{"$f":"SUMIF(BDD!$BH$2:$BH$3,\"Banc P1FAUXVRAIFAUXFAUXVRAI\",BDD!$Z$2:$Z$3)","v":0},{"$f":"SUMIF(BDD!$BH$2:$BH$3,\"Banc P1VRAIFAUXVRAIFAUXFAUX\",BDD!$Z$2:$Z$3)","v":0},{"$f":"SUMIF(BDD!$BH$2:$BH$3,\"Banc P1VRAIFAUXFAUXVRAIFAUX\",BDD!$Z$2:$Z$3)","v":0},{"$f":"SUMIF(BDD!$BH$2:$BH$3,\"Banc P1VRAIFAUXFAUXFAUXVRAI\",BDD!$Z$2:$Z$3)","v":0},{"$f":"SUMIF(BDD!$BH$2:$BH$3,\"Banc P1FAUXVRAIVRAIFAUXFAUX\",BDD!$Z$2:$Z$3)","v":0},{"$f":"SUMIF(BDD!$BH$2:$BH$3,\"Banc P1FAUXVRAIFAUXVRAIFAUX\",BDD!$Z$2:$Z$3)","v":0},{"$f":"SUMIF(BDD!$BH$2:$BH$3,\"Banc P1FAUXVRAIFAUXFAUXVRAI\",BDD!$Z$2:$Z$3)","v":0},{"$f":"SUMIF(BDD!$BH$2:$BH$3,\"Banc P1VRAIFAUXVRAIFAUXFAUX\",BDD!$Z$2:$Z$3)","v":0},{"$f":"SUMIF(BDD!$BH$2:$BH$3,\"Banc P1VRAIFAUXFAUXVRAIFAUX\",BDD!$Z$2:$Z$3)","v":0},{"$f":"SUMIF(BDD!$BH$2:$BH$3,\"Banc P1VRAIFAUXFAUXFAUXVRAI\",BDD!$Z$2:$Z$3)","v":0},{"$f":"SUMIF(BDD!$BH$2:$BH$3,\"Banc P1FAUXVRAIVRAIFAUXFAUX\",BDD!$Z$2:$Z$3)","v":0},{"$f":"SUMIF(BDD!$BH$2:$BH$3,\"Banc P1FAUXVRAIFAUXVRAIFAUX\",BDD!$Z$2:$Z$3)","v":0},{"$f":"SUMIF(BDD!$BH$2:$BH$3,\"Banc P1FAUXVRAIFAUXFAUXVRAI\",BDD!$Z$2:$Z$3)","v":0},{"$f":"SUMIF(BDD!$BH$2:$BH$3,\"Banc P1VRAIFAUXVRAIFAUXFAUX\",BDD!$Z$2:$Z$3)","v":0},{"$f":"SUMIF(BDD!$BH$2:$BH$3,\"Banc P1VRAIFAUXFAUXVRAIFAUX\",BDD!$Z$2:$Z$3)","v":0},{"$f":"SUMIF(BDD!$BH$2:$BH$3,\"Banc P1VRAIFAUXFAUXFAUXVRAI\",BDD!$Z$2:$Z$3)","v":0},{"$f":"SUMIF(BDD!$BH$2:$BH$3,\"Banc P1FAUXVRAIVRAIFAUXFAUX\",BDD!$Z$2:$Z$3)","v":0},{"$f":"SUMIF(BDD!$BH$2:$BH$3,\"Banc P1FAUXVRAIFAUXVRAIFAUX\",BDD!$Z$2:$Z$3)","v":0},{"$f":"SUMIF(BDD!$BH$2:$BH$3,\"Banc P1FAUXVRAIFAUXFAUXVRAI\",BDD!$Z$2:$Z$3)","v":0},{"$f":"SUMIF(BDD!$BH$2:$BH$3,\"Banc P1VRAIFAUXVRAIFAUXFAUX\",BDD!$Z$2:$Z$3)","v":0},{"$f":"SUMIF(BDD!$BH$2:$BH$3,\"Banc P1VRAIFAUXFAUXVRAIFAUX\",BDD!$Z$2:$Z$3)","v":0},{"$f":"SUMIF(BDD!$BH$2:$BH$3,\"Banc P1VRAIFAUXFAUXFAUXVRAI\",BDD!$Z$2:$Z$3)","v":0},{"$f":"SUMIF(BDD!$BH$2:$BH$3,\"Banc P1FAUXVRAIVRAIFAUXFAUX\",BDD!$Z$2:$Z$3)","v":0},{"$f":"SUMIF(BDD!$BH$2:$BH$3,\"Banc P1FAUXVRAIFAUXVRAIFAUX\",BDD!$Z$2:$Z$3)","v":0},{"$f":"SUMIF(BDD!$BH$2:$BH$3,\"Banc P1FAUXVRAIFAUXFAUXVRAI\",BDD!$Z$2:$Z$3)","v":0},{"$f":"SUMIF(BDD!$BH$2:$BH$3,\"Banc P1VRAIFAUXVRAIFAUXFAUX\",BDD!$Z$2:$Z$3)","v":0},{"$f":"SUMIF(BDD!$BH$2:$BH$3,\"Banc P1VRAIFAUXFAUXVRAIFAUX\",BDD!$Z$2:$Z$3)","v":0},{"$f":"SUMIF(BDD!$BH$2:$BH$3,\"Banc P1VRAIFAUXFAUXFAUXVRAI\",BDD!$Z$2:$Z$3)","v":0},{"$f":"SUMIF(BDD!$BH$2:$BH$3,\"Banc P1FAUXVRAIVRAIFAUXFAUX\",BDD!$Z$2:$Z$3)","v":0},{"$f":"SUMIF(BDD!$BH$2:$BH$3,\"Banc P1FAUXVRAIFAUXVRAIFAUX\",BDD!$Z$2:$Z$3)","v":0},{"$f":"SUMIF(BDD!$BH$2:$BH$3,\"Banc P1FAUXVRAIFAUXFAUXVRAI\",BDD!$Z$2:$Z$3)","v":0},{"$f":"SUMIF(BDD!$BH$2:$BH$3,\"Banc P1VRAIFAUXVRAIFAUXFAUX\",BDD!$Z$2:$Z$3)","v":0},{"$f":"SUMIF(BDD!$BH$2:$BH$3,\"Banc P1VRAIFAUXFAUXVRAIFAUX\",BDD!$Z$2:$Z$3)","v":0},{"$f":"SUMIF(BDD!$BH$2:$BH$3,\"Banc P1VRAIFAUXFAUXFAUXVRAI\",BDD!$Z$2:$Z$3)","v":0},{"$f":"SUMIF(BDD!$BH$2:$BH$3,\"Banc P1FAUXVRAIVRAIFAUXFAUX\",BDD!$Z$2:$Z$3)","v":0},{"$f":"SUMIF(BDD!$BH$2:$BH$3,\"Banc P1FAUXVRAIFAUXVRAIFAUX\",BDD!$Z$2:$Z$3)","v":0},{"$f":"SUMIF(BDD!$BH$2:$BH$3,\"Banc P1FAUXVRAIFAUXFAUXVRAI\",BDD!$Z$2:$Z$3)","v":0},{"$f":"SUMIF(BDD!$BH$2:$BH$3,\"Banc P1VRAIFAUXVRAIFAUXFAUX\",BDD!$Z$2:$Z$3)","v":0},{"$f":"SUMIF(BDD!$BH$2:$BH$3,\"Banc P1VRAIFAUXFAUXVRAIFAUX\",BDD!$Z$2:$Z$3)","v":0},{"$f":"SUMIF(BDD!$BH$2:$BH$3,\"Banc P1VRAIFAUXFAUXFAUXVRAI\",BDD!$Z$2:$Z$3)","v":0},{"$f":"SUMIF(BDD!$BH$2:$BH$3,\"Banc P1FAUXVRAIVRAIFAUXFAUX\",BDD!$Z$2:$Z$3)","v":0},{"$f":"SUMIF(BDD!$BH$2:$BH$3,\"Banc P1FAUXVRAIFAUXVRAIFAUX\",BDD!$Z$2:$Z$3)","v":0},{"$f":"SUMIF(BDD!$BH$2:$BH$3,\"Banc P1FAUXVRAIFAUXFAUXVRAI\",BDD!$Z$2:$Z$3)","v":0}]
["Banc P2",{"$f":"SUMIF(BDD!$BH$2:$BH$3,\"Banc P2VRAIFAUXVRAIFAUXFAUX\",BDD!$Z$2:$Z$3)","v":0},{"$f":"SUMIF(BDD!$BH$2:$BH$3,\"Banc P2VRAIFAUXFAUXVRAIFAUX\",BDD!$Z$2:$Z$3)","v":0},{"$f":"SUMIF(BDD!$BH$2:$BH$3,\"Banc P2VRAIFAUXFAUXFAUXVRAI\",BDD!$Z$2:$Z$3)","v":0},{"$f":"SUMIF(BDD!$BH$2:$BH$3,\"Banc P2FAUXVRAIVRAIFAUXFAUX\",BDD!$Z$2:$Z$3)","v":0},{"$f":"SUMIF(BDD!$BH$2:$BH$3,\"Banc P2FAUXVRAIFAUXVRAIFAUX\",BDD!$Z$2:$Z$3)","v":0},{"$f":"SUMIF(BDD!$BH$2:$BH$3,\"Banc P2FAUXVRAIFAUXFAUXVRAI\",BDD!$Z$2:$Z$3)","v":0},{"$f":"SUMIF(BDD!$BH$2:$BH$3,\"Banc P2VRAIFAUXVRAIFAUXFAUX\",BDD!$Z$2:$Z$3)","v":0},{"$f":"SUMIF(BDD!$BH$2:$BH$3,\"Banc P2VRAIFAUXFAUXVRAIFAUX\",BDD!$Z$2:$Z$3)","v":0},{"$f":"SUMIF(BDD!$BH$2:$BH$3,\"Banc P2VRAIFAUXFAUXFAUXVRAI\",BDD!$Z$2:$Z$3)","v":0},{"$f":"SUMIF(BDD!$BH$2:$BH$3,\"Banc P2FAUXVRAIVRAIFAUXFAUX\",BDD!$Z$2:$Z$3)","v":0},{"$f":"SUMIF(BDD!$BH$2:$BH$3,\"Banc P2FAUXVRAIFAUXVRAIFAUX\",BDD!$Z$2:$Z$3)","v":0},{"$f":"SUMIF(BDD!$BH$2:$BH$3,\"Banc P2FAUXVRAIFAUXFAUXVRAI\",BDD!$Z$2:$Z$3)","v":0},{"$f":"SUMIF(BDD!$BH$2:$BH$25,\"Banc P2VRAIFAUXVRAIFAUXFAUX\",BDD!$Z$2:$Z$25)","v":0},{"$f":"SUMIF(BDD!$BH$2:$BH$25,\"Banc P2VRAIFAUXFAUXVRAIFAUX\",BDD!$Z$2:$Z$25)","v":0},{"$f":"SUMIF(BDD!$BH$2:$BH$25,\"Banc P2VRAIFAUXFAUXFAUXVRAI\",BDD!$Z$2:$Z$25)","v":0},{"$f":"SUMIF(BDD!$BH$2:$BH$25,\"Banc P2FAUXVRAIVRAIFAUXFAUX\",BDD!$Z$2:$Z$25)","v":0},{"$f":"SUMIF(BDD!$BH$2:$BH$25,\"Banc P2FAUXVRAIFAUXVRAIFAUX\",BDD!$Z$2:$Z$25)","v":0},{"$f":"SUMIF(BDD!$BH$2:$BH$25,\"Banc P2FAUXVRAIFAUXFAUXVRAI\",BDD!$Z$2:$Z$25)","v":0},{"$f":"SUMIF(BDD!$BH$26:$BH$149,\"Banc P2VRAIFAUXVRAIFAUXFAUX\",BDD!$Z$26:$Z$149)","v":0},{"$f":"SUMIF(BDD!$BH$26:$BH$149,\"Banc P2VRAIFAUXFAUXVRAIFAUX\",BDD!$Z$26:$Z$149)","v":0},{"$f":"SUMIF(BDD!$BH$26:$BH$149,\"Banc P2VRAIFAUXFAUXFAUXVRAI\",BDD!$Z$26:$Z$149)","v":2},{"$f":"SUMIF(BDD!$BH$26:$BH$149,\"Banc P2FAUXVRAIVRAIFAUXFAUX\",BDD!$Z$26:$Z$149)","v":0},{"$f":"SUMIF(BDD!$BH$26:$BH$149,\"Banc P26FAUXVRAIFAUXVRAIFAUX\",BDD!$Z$26:$Z$149)","v":0},{"$f":"SUMIF(BDD!$BH$26:$BH$149,\"Banc P2FAUXVRAIFAUXFAUXVRAI\",BDD!$Z$26:$Z$149)","v":0},{"$f":"SUMIF(BDD!$BH$2:$BH$3,\"Banc P2VRAIFAUXVRAIFAUXFAUX\",BDD!$Z$2:$Z$3)","v":0},{"$f":"SUMIF(BDD!$BH$2:$BH$3,\"Banc P2VRAIFAUXFAUXVRAIFAUX\",BDD!$Z$2:$Z$3)","v":0},{"$f":"SUMIF(BDD!$BH$2:$BH$3,\"Banc P2VRAIFAUXFAUXFAUXVRAI\",BDD!$Z$2:$Z$3)","v":0},{"$f":"SUMIF(BDD!$BH$2:$BH$3,\"Banc P2FAUXVRAIVRAIFAUXFAUX\",BDD!$Z$2:$Z$3)","v":0},{"$f":"SUMIF(BDD!$BH$2:$BH$3,\"Banc P2FAUXVRAIFAUXVRAIFAUX\",BDD!$Z$2:$Z$3)","v":0},{"$f":"SUMIF(BDD!$BH$2:$BH$3,\"Banc P2FAUXVRAIFAUXFAUXVRAI\",BDD!$Z$2:$Z$3)","v":0},{"$f":"SUMIF(BDD!$BH$2:$BH$3,\"Banc P2VRAIFAUXVRAIFAUXFAUX\",BDD!$Z$2:$Z$3)","v":0},{"$f":"SUMIF(BDD!$BH$2:$BH$3,\"Banc P2VRAIFAUXFAUXVRAIFAUX\",BDD!$Z$2:$Z$3)","v":0},{"$f":"SUMIF(BDD!$BH$2:$BH$3,\"Banc P2VRAIFAUXFAUXFAUXVRAI\",BDD!$Z$2:$Z$3)","v":0},{"$f":"SUMIF(BDD!$BH$2:$BH$3,\"Banc P2FAUXVRAIVRAIFAUXFAUX\",BDD!$Z$2:$Z$3)","v":0},{"$f":"SUMIF(BDD!$BH$2:$BH$3,\"Banc P2FAUXVRAIFAUXVRAIFAUX\",BDD!$Z$2:$Z$3)","v":0},{"$f":"SUMIF(BDD!$BH$2:$BH$3,\"Banc P2FAUXVRAIFAUXFAUXVRAI\",BDD!$Z$2:$Z$3)","v":0},{"$f":"SUMIF(BDD!$BH$2:$BH$3,\"Banc P2VRAIFAUXVRAIFAUXFAUX\",BDD!$Z$2:$Z$3)","v":0},{"$f":"SUMIF(BDD!$BH$2:$BH$3,\"Banc P2VRAIFAUXFAUXVRAIFAUX\",BDD!$Z$2:$Z$3)","v":0},{"$f":"SUMIF(BDD!$BH$2:$BH$3,\"Banc P2VRAIFAUXFAUXFAUXVRAI\",BDD!$Z$2:$Z$3)","v":0},{"$f":"SUMIF(BDD!$BH$2:$BH$3,\"Banc P2FAUXVRAIVRAIFAUXFAUX\",BDD!$Z$2:$Z$3)","v":0},{"$f":"SUMIF(BDD!$BH$2:$BH$3,\"Banc P2FAUXVRAIFAUXVRAIFAUX\",BDD!$Z$2:$Z$3)","v":0},{"$f":"SUMIF(BDD!$BH$2:$BH$3,\"Banc P2FAUXVRAIFAUXFAUXVRAI\",BDD!$Z$2:$Z$3)","v":0},{"$f":"SUMIF(BDD!$BH$2:$BH$3,\"Banc P2VRAIFAUXVRAIFAUXFAUX\",BDD!$Z$2:$Z$3)","v":0},{"$f":"SUMIF(BDD!$BH$2:$BH$3,\"Banc P2VRAIFAUXFAUXVRAIFAUX\",BDD!$Z$2:$Z$3)","v":0},{"$f":"SUMIF(BDD!$BH$2:$BH$3,\"Banc P2VRAIFAUXFAUXFAUXVRAI\",BDD!$Z$2:$Z$3)","v":0},{"$f":"SUMIF(BDD!$BH$2:$BH$3,\"Banc P2FAUXVRAIVRAIFAUXFAUX\",BDD!$Z$2:$Z$3)","v":0},{"$f":"SUMIF(BDD!$BH$2:$BH$3,\"Banc P2FAUXVRAIFAUXVRAIFAUX\",BDD!$Z$2:$Z$3)","v":0},{"$f":"SUMIF(BDD!$BH$2:$BH$3,\"Banc P2FAUXVRAIFAUXFAUXVRAI\",BDD!$Z$2:$Z$3)","v":0},{"$f":"SUMIF(BDD!$BH$2:$BH$3,\"Banc P2VRAIFAUXVRAIFAUXFAUX\",BDD!$Z$2:$Z$3)","v":0},{"$f":"SUMIF(BDD!$BH$2:$BH$3,\"Banc P2VRAIFAUXFAUXVRAIFAUX\",BDD!$Z$2:$Z$3)","v":0},{"$f":"SUMIF(BDD!$BH$2:$BH$3,\"Banc P2VRAIFAUXFAUXFAUXVRAI\",BDD!$Z$2:$Z$3)","v":0},{"$f":"SUMIF(BDD!$BH$2:$BH$3,\"Banc P2FAUXVRAIVRAIFAUXFAUX\",BDD!$Z$2:$Z$3)","v":0},{"$f":"SUMIF(BDD!$BH$2:$BH$3,\"Banc P2FAUXVRAIFAUXVRAIFAUX\",BDD!$Z$2:$Z$3)","v":0},{"$f":"SUMIF(BDD!$BH$2:$BH$3,\"Banc P2FAUXVRAIFAUXFAUXVRAI\",BDD!$Z$2:$Z$3)","v":0},{"$f":"SUMIF(BDD!$BH$2:$BH$3,\"Banc P2VRAIFAUXVRAIFAUXFAUX\",BDD!$Z$2:$Z$3)","v":0},{"$f":"SUMIF(BDD!$BH$2:$BH$3,\"Banc P2VRAIFAUXFAUXVRAIFAUX\",BDD!$Z$2:$Z$3)","v":0},{"$f":"SUMIF(BDD!$BH$2:$BH$3,\"Banc P2VRAIFAUXFAUXFAUXVRAI\",BDD!$Z$2:$Z$3)","v":0},{"$f":"SUMIF(BDD!$BH$2:$BH$3,\"Banc P2FAUXVRAIVRAIFAUXFAUX\",BDD!$Z$2:$Z$3)","v":0},{"$f":"SUMIF(BDD!$BH$2:$BH$3,\"Banc P2FAUXVRAIFAUXVRAIFAUX\",BDD!$Z$2:$Z$3)","v":0},{"$f":"SUMIF(BDD!$BH$2:$BH$3,\"Banc P2FAUXVRAIFAUXFAUXVRAI\",BDD!$Z$2:$Z$3)","v":0},{"$f":"SUMIF(BDD!$BH$2:$BH$3,\"Banc P2VRAIFAUXVRAIFAUXFAUX\",BDD!$Z$2:$Z$3)","v":0},{"$f":"SUMIF(BDD!$BH$2:$BH$3,\"Banc P2VRAIFAUXFAUXVRAIFAUX\",BDD!$Z$2:$Z$3)","v":0},{"$f":"SUMIF(BDD!$BH$2:$BH$3,\"Banc P2VRAIFAUXFAUXFAUXVRAI\",BDD!$Z$2:$Z$3)","v":0},{"$f":"SUMIF(BDD!$BH$2:$BH$3,\"Banc P2FAUXVRAIVRAIFAUXFAUX\",BDD!$Z$2:$Z$3)","v":0},{"$f":"SUMIF(BDD!$BH$2:$BH$3,\"Banc P2FAUXVRAIFAUXVRAIFAUX\",BDD!$Z$2:$Z$3)","v":0},{"$f":"SUMIF(BDD!$BH$2:$BH$3,\"Banc P2FAUXVRAIFAUXFAUXVRAI\",BDD!$Z$2:$Z$3)","v":0},{"$f":"SUMIF(BDD!$BH$2:$BH$3,\"Banc P2VRAIFAUXVRAIFAUXFAUX\",BDD!$Z$2:$Z$3)","v":0},{"$f":"SUMIF(BDD!$BH$2:$BH$3,\"Banc P2VRAIFAUXFAUXVRAIFAUX\",BDD!$Z$2:$Z$3)","v":0},{"$f":"SUMIF(BDD!$BH$2:$BH$3,\"Banc P2VRAIFAUXFAUXFAUXVRAI\",BDD!$Z$2:$Z$3)","v":0},{"$f":"SUMIF(BDD!$BH$2:$BH$3,\"Banc P2FAUXVRAIVRAIFAUXFAUX\",BDD!$Z$2:$Z$3)","v":0},{"$f":"SUMIF(BDD!$BH$2:$BH$3,\"Banc P2FAUXVRAIFAUXVRAIFAUX\",BDD!$Z$2:$Z$3)","v":0},{"$f":"SUMIF(BDD!$BH$2:$BH$3,\"Banc P2FAUXVRAIFAUXFAUXVRAI\",BDD!$Z$2:$Z$3)","v":0}]
["Banc 156",{"$f":"SUMIF(BDD!$BH$2:$BH$3,\"Banc 156VRAIFAUXVRAIFAUXFAUX\",BDD!$Z$2:$Z$3)","v":0},{"$f":"SUMIF(BDD!$BH$2:$BH$3,\"Banc 156VRAIFAUXFAUXVRAIFAUX\",BDD!$Z$2:$Z$3)","v":0},{"$f":"SUMIF(BDD!$BH$2:$BH$3,\"Banc 156VRAIFAUXFAUXFAUXVRAI\",BDD!$Z$2:$Z$3)","v":0},{"$f":"SUMIF(BDD!$BH$2:$BH$3,\"Banc 156FAUXVRAIVRAIFAUXFAUX\",BDD!$Z$2:$Z$3)","v":0},{"$f":"SUMIF(BDD!$BH$2:$BH$3,\"Banc 156FAUXVRAIFAUXVRAIFAUX\",BDD!$Z$2:$Z$3)","v":0},{"$f":"SUMIF(BDD!$BH$2:$BH$3,\"Banc 156FAUXVRAIFAUXFAUXVRAI\",BDD!$Z$2:$Z$3)","v":0},{"$f":"SUMIF(BDD!$BH$2:$BH$3,\"Banc 156VRAIFAUXVRAIFAUXFAUX\",BDD!$Z$2:$Z$3)","v":0},{"$f":"SUMIF(BDD!$BH$2:$BH$3,\"Banc 156VRAIFAUXFAUXVRAIFAUX\",BDD!$Z$2:$Z$3)","v":0},{"$f":"SUMIF(BDD!$BH$2:$BH$3,\"Banc 156VRAIFAUXFAUXFAUXVRAI\",BDD!$Z$2:$Z$3)","v":0},{"$f":"SUMIF(BDD!$BH$2:$BH$3,\"Banc 156FAUXVRAIVRAIFAUXFAUX\",BDD!$Z$2:$Z$3)","v":0},{"$f":"SUMIF(BDD!$BH$2:$BH$3,\"Banc 156FAUXVRAIFAUXVRAIFAUX\",BDD!$Z$2:$Z$3)","v":0},{"$f":"SUMIF(BDD!$BH$2:$BH$3,\"Banc 156FAUXVRAIFAUXFAUXVRAI\",BDD!$Z$2:$Z$3)","v":0},{"$f":"SUMIF(BDD!$BH$2:$BH$25,\"Banc 156VRAIFAUXVRAIFAUXFAUX\",BDD!$Z$2:$Z$25)","v":0},{"$f":"SUMIF(BDD!$BH$2:$BH$25,\"Banc 156VRAIFAUXFAUXVRAIFAUX\",BDD!$Z$2:$Z$25)","v":0},{"$f":"SUMIF(BDD!$BH$2:$BH$25,\"Banc 156VRAIFAUXFAUXFAUXVRAI\",BDD!$Z$2:$Z$25)","v":0},{"$f":"SUMIF(BDD!$BH$2:$BH$25,\"Banc 156FAUXVRAIVRAIFAUXFAUX\",BDD!$Z$2:$Z$25)","v":0},{"$f":"SUMIF(BDD!$BH$2:$BH$25,\"Banc 156FAUXVRAIFAUXVRAIFAUX\",BDD!$Z$2:$Z$25)","v":0},{"$f":"SUMIF(BDD!$BH$2:$BH$25,\"Banc 156FAUXVRAIFAUXFAUXVRAI\",BDD!$Z$2:$Z$25)","v":0},{"$f":"SUMIF(BDD!$BH$26:$BH$149,\"Banc 156VRAIFAUXVRAIFAUXFAUX\",BDD!$Z$26:$Z$149)","v":0},{"$f":"SUMIF(BDD!$BH$26:$BH$149,\"Banc 156VRAIFAUXFAUXVRAIFAUX\",BDD!$Z$26:$Z$149)","v":0},{"$f":"SUMIF(BDD!$BH$26:$BH$149,\"Banc 156VRAIFAUXFAUXFAUXVRAI\",BDD!$Z$26:$Z$149)","v":0},{"$f":"SUMIF(BDD!$BH$26:$BH$149,\"Banc 156FAUXVRAIVRAIFAUXFAUX\",BDD!$Z$26:$Z$149)","v":0},{"$f":"SUMIF(BDD!$BH$26:$BH$149,\"Banc 156FAUXVRAIFAUXVRAIFAUX\",BDD!$Z$26:$Z$149)","v":0},{"$f":"SUMIF(BDD!$BH$26:$BH$149,\"Banc 156FAUXVRAIFAUXFAUXVRAI\",BDD!$Z$26:$Z$149)","v":0},{"$f":"SUMIF(BDD!$BH$2:$BH$3,\"Banc 156VRAIFAUXVRAIFAUXFAUX\",BDD!$Z$2:$Z$3)","v":0},{"$f":"SUMIF(BDD!$BH$2:$BH$3,\"Banc 156VRAIFAUXFAUXVRAIFAUX\",BDD!$Z$2:$Z$3)","v":0},{"$f":"SUMIF(BDD!$BH$2:$BH$3,\"Banc 156VRAIFAUXFAUXFAUXVRAI\",BDD!$Z$2:$Z$3)","v":0},{"$f":"SUMIF(BDD!$BH$2:$BH$3,\"Banc 156FAUXVRAIVRAIFAUXFAUX\",BDD!$Z$2:$Z$3)","v":0},{"$f":"SUMIF(BDD!$BH$2:$BH$3,\"Banc 156FAUXVRAIFAUXVRAIFAUX\",BDD!$Z$2:$Z$3)","v":0},{"$f":"SUMIF(BDD!$BH$2:$BH$3,\"Banc 156FAUXVRAIFAUXFAUXVRAI\",BDD!$Z$2:$Z$3)","v":0},{"$f":"SUMIF(BDD!$BH$2:$BH$3,\"Banc 156VRAIFAUXVRAIFAUXFAUX\",BDD!$Z$2:$Z$3)","v":0},{"$f":"SUMIF(BDD!$BH$2:$BH$3,\"Banc 156VRAIFAUXFAUXVRAIFAUX\",BDD!$Z$2:$Z$3)","v":0},{"$f":"SUMIF(BDD!$BH$2:$BH$3,\"Banc 156VRAIFAUXFAUXFAUXVRAI\",BDD!$Z$2:$Z$3)","v":0},{"$f":"SUMIF(BDD!$BH$2:$BH$3,\"Banc 156FAUXVRAIVRAIFAUXFAUX\",BDD!$Z$2:$Z$3)","v":0},{"$f":"SUMIF(BDD!$BH$2:$BH$3,\"Banc 156FAUXVRAIFAUXVRAIFAUX\",BDD!$Z$2:$Z$3)","v":0},{"$f":"SUMIF(BDD!$BH$2:$BH$3,\"Banc 156FAUXVRAIFAUXFAUXVRAI\",BDD!$Z$2:$Z$3)","v":0},{"$f":"SUMIF(BDD!$BH$2:$BH$3,\"Banc 156VRAIFAUXVRAIFAUXFAUX\",BDD!$Z$2:$Z$3)","v":0},{"$f":"SUMIF(BDD!$BH$2:$BH$3,\"Banc 156VRAIFAUXFAUXVRAIFAUX\",BDD!$Z$2:$Z$3)","v":0},{"$f":"SUMIF(BDD!$BH$2:$BH$3,\"Banc 156VRAIFAUXFAUXFAUXVRAI\",BDD!$Z$2:$Z$3)","v":0},{"$f":"SUMIF(BDD!$BH$2:$BH$3,\"Banc 156FAUXVRAIVRAIFAUXFAUX\",BDD!$Z$2:$Z$3)","v":0},{"$f":"SUMIF(BDD!$BH$2:$BH$3,\"Banc 156FAUXVRAIFAUXVRAIFAUX\",BDD!$Z$2:$Z$3)","v":0},{"$f":"SUMIF(BDD!$BH$2:$BH$3,\"Banc 156FAUXVRAIFAUXFAUXVRAI\",BDD!$Z$2:$Z$3)","v":0},{"$f":"SUMIF(BDD!$BH$2:$BH$3,\"Banc 156VRAIFAUXVRAIFAUXFAUX\",BDD!$Z$2:$Z$3)","v":0},{"$f":"SUMIF(BDD!$BH$2:$BH$3,\"Banc 156VRAIFAUXFAUXVRAIFAUX\",BDD!$Z$2:$Z$3)","v":0},{"$f":"SUMIF(BDD!$BH$2:$BH$3,\"Banc 156VRAIFAUXFAUXFAUXVRAI\",BDD!$Z$2:$Z$3)","v":0},{"$f":"SUMIF(BDD!$BH$2:$BH$3,\"Banc 156FAUXVRAIVRAIFAUXFAUX\",BDD!$Z$2:$Z$3)","v":0},{"$f":"SUMIF(BDD!$BH$2:$BH$3,\"Banc 156FAUXVRAIFAUXVRAIFAUX\",BDD!$Z$2:$Z$3)","v":0},{"$f":"SUMIF(BDD!$BH$2:$BH$3,\"Banc 156FAUXVRAIFAUXFAUXVRAI\",BDD!$Z$2:$Z$3)","v":0},{"$f":"SUMIF(BDD!$BH$2:$BH$3,\"Banc 156VRAIFAUXVRAIFAUXFAUX\",BDD!$Z$2:$Z$3)","v":0},{"$f":"SUMIF(BDD!$BH$2:$BH$3,\"Banc 156VRAIFAUXFAUXVRAIFAUX\",BDD!$Z$2:$Z$3)","v":0},{"$f":"SUMIF(BDD!$BH$2:$BH$3,\"Banc 156VRAIFAUXFAUXFAUXVRAI\",BDD!$Z$2:$Z$3)","v":0},{"$f":"SUMIF(BDD!$BH$2:$BH$3,\"Banc 156FAUXVRAIVRAIFAUXFAUX\",BDD!$Z$2:$Z$3)","v":0},{"$f":"SUMIF(BDD!$BH$2:$BH$3,\"Banc 156FAUXVRAIFAUXVRAIFAUX\",BDD!$Z$2:$Z$3)","v":0},{"$f":"SUMIF(BDD!$BH$2:$BH$3,\"Banc 156FAUXVRAIFAUXFAUXVRAI\",BDD!$Z$2:$Z$3)","v":0},{"$f":"SUMIF(BDD!$BH$2:$BH$3,\"Banc 156VRAIFAUXVRAIFAUXFAUX\",BDD!$Z$2:$Z$3)","v":0},{"$f":"SUMIF(BDD!$BH$2:$BH$3,\"Banc 156VRAIFAUXFAUXVRAIFAUX\",BDD!$Z$2:$Z$3)","v":0},{"$f":"SUMIF(BDD!$BH$2:$BH$3,\"Banc 156VRAIFAUXFAUXFAUXVRAI\",BDD!$Z$2:$Z$3)","v":0},{"$f":"SUMIF(BDD!$BH$2:$BH$3,\"Banc 156FAUXVRAIVRAIFAUXFAUX\",BDD!$Z$2:$Z$3)","v":0},{"$f":"SUMIF(BDD!$BH$2:$BH$3,\"Banc 156FAUXVRAIFAUXVRAIFAUX\",BDD!$Z$2:$Z$3)","v":0},{"$f":"SUMIF(BDD!$BH$2:$BH$3,\"Banc 156FAUXVRAIFAUXFAUXVRAI\",BDD!$Z$2:$Z$3)","v":0},{"$f":"SUMIF(BDD!$BH$2:$BH$3,\"Banc 156VRAIFAUXVRAIFAUXFAUX\",BDD!$Z$2:$Z$3)","v":0},{"$f":"SUMIF(BDD!$BH$2:$BH$3,\"Banc 156VRAIFAUXFAUXVRAIFAUX\",BDD!$Z$2:$Z$3)","v":0},{"$f":"SUMIF(BDD!$BH$2:$BH$3,\"Banc 156VRAIFAUXFAUXFAUXVRAI\",BDD!$Z$2:$Z$3)","v":0},{"$f":"SUMIF(BDD!$BH$2:$BH$3,\"Banc 156FAUXVRAIVRAIFAUXFAUX\",BDD!$Z$2:$Z$3)","v":0},{"$f":"SUMIF(BDD!$BH$2:$BH$3,\"Banc 156FAUXVRAIFAUXVRAIFAUX\",BDD!$Z$2:$Z$3)","v":0},{"$f":"SUMIF(BDD!$BH$2:$BH$3,\"Banc 156FAUXVRAIFAUXFAUXVRAI\",BDD!$Z$2:$Z$3)","v":0},{"$f":"SUMIF(BDD!$BH$2:$BH$3,\"Banc 156VRAIFAUXVRAIFAUXFAUX\",BDD!$Z$2:$Z$3)","v":0},{"$f":"SUMIF(BDD!$BH$2:$BH$3,\"Banc 156VRAIFAUXFAUXVRAIFAUX\",BDD!$Z$2:$Z$3)","v":0},{"$f":"SUMIF(BDD!$BH$2:$BH$3,\"Banc 156VRAIFAUXFAUXFAUXVRAI\",BDD!$Z$2:$Z$3)","v":0},{"$f":"SUMIF(BDD!$BH$2:$BH$3,\"Banc 156FAUXVRAIVRAIFAUXFAUX\",BDD!$Z$2:$Z$3)","v":0},{"$f":"SUMIF(BDD!$BH$2:$BH$3,\"Banc 156FAUXVRAIFAUXVRAIFAUX\",BDD!$Z$2:$Z$3)","v":0},{"$f":"SUMIF(BDD!$BH$2:$BH$3,\"Banc 156FAUXVRAIFAUXFAUXVRAI\",BDD!$Z$2:$Z$3)","v":0}]
["Chambre Froide",{"$f":"SUMIF(BDD!$BH$2:$BH$3,\"Chambre FroideVRAIFAUXVRAIFAUXFAUX\",BDD!$Z$2:$Z$3)","v":0},{"$f":"SUMIF(BDD!$BH$2:$BH$3,\"Chambre FroideVRAIFAUXFAUXVRAIFAUX\",BDD!$Z$2:$Z$3)","v":0},{"$f":"SUMIF(BDD!$BH$2:$BH$3,\"Chambre FroideVRAIFAUXFAUXFAUXVRAI\",BDD!$Z$2:$Z$3)","v":0},{"$f":"SUMIF(BDD!$BH$2:$BH$3,\"Chambre FroideFAUXVRAIVRAIFAUXFAUX\",BDD!$Z$2:$Z$3)","v":0},{"$f":"SUMIF(BDD!$BH$2:$BH$3,\"Chambre FroideFAUXVRAIFAUXVRAIFAUX\",BDD!$Z$2:$Z$3)","v":0},{"$f":"SUMIF(BDD!$BH$2:$BH$3,\"Chambre FroideFAUXVRAIFAUXFAUXVRAI\",BDD!$Z$2:$Z$3)","v":0},{"$f":"SUMIF(BDD!$BH$2:$BH$3,\"Chambre FroideVRAIFAUXVRAIFAUXFAUX\",BDD!$Z$2:$Z$3)","v":0},{"$f":"SUMIF(BDD!$BH$2:$BH$3,\"Chambre FroideVRAIFAUXFAUXVRAIFAUX\",BDD!$Z$2:$Z$3)","v":0},{"$f":"SUMIF(BDD!$BH$2:$BH$3,\"Chambre FroideVRAIFAUXFAUXFAUXVRAI\",BDD!$Z$2:$Z$3)","v":0},{"$f":"SUMIF(BDD!$BH$2:$BH$3,\"Chambre FroideFAUXVRAIVRAIFAUXFAUX\",BDD!$Z$2:$Z$3)","v":0},{"$f":"SUMIF(BDD!$BH$2:$BH$3,\"Chambre FroideFAUXVRAIFAUXVRAIFAUX\",BDD!$Z$2:$Z$3)","v":0},{"$f":"SUMIF(BDD!$BH$2:$BH$3,\"Chambre FroideFAUXVRAIFAUXFAUXVRAI\",BDD!$Z$2:$Z$3)","v":0},{"$f":"SUMIF(BDD!$BH$2:$BH$25,\"Chambre FroideVRAIFAUXVRAIFAUXFAUX\",BDD!$Z$2:$Z$25)","v":0},{"$f":"SUMIF(BDD!$BH$2:$BH$25,\"Chambre FroideVRAIFAUXFAUXVRAIFAUX\",BDD!$Z$2:$Z$25)","v":0},{"$f":"SUMIF(BDD!$BH$2:$BH$25,\"Chambre FroideVRAIFAUXFAUXFAUXVRAI\",BDD!$Z$2:$Z$25)","v":0},{"$f":"SUMIF(BDD!$BH$2:$BH$25,\"Chambre FroideFAUXVRAIVRAIFAUXFAUX\",BDD!$Z$2:$Z$25)","v":0.3},{"$f":"SUMIF(BDD!$BH$2:$BH$25,\"Chambre FroideFAUXVRAIFAUXVRAIFAUX\",BDD!$Z$2:$Z$25)","v":0},{"$f":"SUMIF(BDD!$BH$2:$BH$25,\"Chambre FroideFAUXVRAIFAUXFAUXVRAI\",BDD!$Z$2:$Z$25)","v":0},{"$f":"SUMIF(BDD!$BH$26:$BH$149,\"Chambre FroideVRAIFAUXVRAIFAUXFAUX\",BDD!$Z$26:$Z$149)","v":0},{"$f":"SUMIF(BDD!$BH$26:$BH$149,\"Chambre FroideVRAIFAUXFAUXVRAIFAUX\",BDD!$Z$26:$Z$149)","v":0},{"$f":"SUMIF(BDD!$BH$26:$BH$149,\"Chambre FroideVRAIFAUXFAUXFAUXVRAI\",BDD!$Z$26:$Z$149)","v":0},{"$f":"SUMIF(BDD!$BH$26:$BH$149,\"Chambre FroideFAUXVRAIVRAIFAUXFAUX\",BDD!$Z$26:$Z$149)","v":0},{"$f":"SUMIF(BDD!$BH$26:$BH$149,\"Chambre FroideFAUXVRAIFAUXVRAIFAUX\",BDD!$Z$26:$Z$149)","v":0},{"$f":"SUMIF(BDD!$BH$26:$BH$149,\"Chambre FroideFAUXVRAIFAUXFAUXVRAI\",BDD!$Z$26:$Z$149)","v":0},{"$f":"SUMIF(BDD!$BH$2:$BH$3,\"Chambre FroideVRAIFAUXVRAIFAUXFAUX\",BDD!$Z$2:$Z$3)","v":0},{"$f":"SUMIF(BDD!$BH$2:$BH$3,\"Chambre FroideVRAIFAUXFAUXVRAIFAUX\",BDD!$Z$2:$Z$3)","v":0},{"$f":"SUMIF(BDD!$BH$2:$BH$3,\"Chambre FroideVRAIFAUXFAUXFAUXVRAI\",BDD!$Z$2:$Z$3)","v":0},{"$f":"SUMIF(BDD!$BH$2:$BH$3,\"Chambre FroideFAUXVRAIVRAIFAUXFAUX\",BDD!$Z$2:$Z$3)","v":0},{"$f":"SUMIF(BDD!$BH$2:$BH$3,\"Chambre FroideFAUXVRAIFAUXVRAIFAUX\",BDD!$Z$2:$Z$3)","v":0},{"$f":"SUMIF(BDD!$BH$2:$BH$3,\"Chambre FroideFAUXVRAIFAUXFAUXVRAI\",BDD!$Z$2:$Z$3)","v":0},{"$f":"SUMIF(BDD!$BH$2:$BH$3,\"Chambre FroideVRAIFAUXVRAIFAUXFAUX\",BDD!$Z$2:$Z$3)","v":0},{"$f":"SUMIF(BDD!$BH$2:$BH$3,\"Chambre FroideVRAIFAUXFAUXVRAIFAUX\",BDD!$Z$2:$Z$3)","v":0},{"$f":"SUMIF(BDD!$BH$2:$BH$3,\"Chambre FroideVRAIFAUXFAUXFAUXVRAI\",BDD!$Z$2:$Z$3)","v":0},{"$f":"SUMIF(BDD!$BH$2:$BH$3,\"Chambre FroideFAUXVRAIVRAIFAUXFAUX\",BDD!$Z$2:$Z$3)","v":0},{"$f":"SUMIF(BDD!$BH$2:$BH$3,\"Chambre FroideFAUXVRAIFAUXVRAIFAUX\",BDD!$Z$2:$Z$3)","v":0},{"$f":"SUMIF(BDD!$BH$2:$BH$3,\"Chambre FroideFAUXVRAIFAUXFAUXVRAI\",BDD!$Z$2:$Z$3)","v":0},{"$f":"SUMIF(BDD!$BH$2:$BH$3,\"Chambre FroideVRAIFAUXVRAIFAUXFAUX\",BDD!$Z$2:$Z$3)","v":0},{"$f":"SUMIF(BDD!$BH$2:$BH$3,\"Chambre FroideVRAIFAUXFAUXVRAIFAUX\",BDD!$Z$2:$Z$3)","v":0},{"$f":"SUMIF(BDD!$BH$2:$BH$3,\"Chambre FroideVRAIFAUXFAUXFAUXVRAI\",BDD!$Z$2:$Z$3)","v":0},{"$f":"SUMIF(BDD!$BH$2:$BH$3,\"Chambre FroideFAUXVRAIVRAIFAUXFAUX\",BDD!$Z$2:$Z$3)","v":0},{"$f":"SUMIF(BDD!$BH$2:$BH$3,\"Chambre FroideFAUXVRAIFAUXVRAIFAUX\",BDD!$Z$2:$Z$3)","v":0},{"$f":"SUMIF(BDD!$BH$2:$BH$3,\"Chambre FroideFAUXVRAIFAUXFAUXVRAI\",BDD!$Z$2:$Z$3)","v":0},{"$f":"SUMIF(BDD!$BH$2:$BH$3,\"Chambre FroideVRAIFAUXVRAIFAUXFAUX\",BDD!$Z$2:$Z$3)","v":0},{"$f":"SUMIF(BDD!$BH$2:$BH$3,\"Chambre FroideVRAIFAUXFAUXVRAIFAUX\",BDD!$Z$2:$Z$3)","v":0},{"$f":"SUMIF(BDD!$BH$2:$BH$3,\"Chambre FroideVRAIFAUXFAUXFAUXVRAI\",BDD!$Z$2:$Z$3)","v":0},{"$f":"SUMIF(BDD!$BH$2:$BH$3,\"Chambre FroideFAUXVRAIVRAIFAUXFAUX\",BDD!$Z$2:$Z$3)","v":0},{"$f":"SUMIF(BDD!$BH$2:$BH$3,\"Chambre FroideFAUXVRAIFAUXVRAIFAUX\",BDD!$Z$2:$Z$3)","v":0},{"$f":"SUMIF(BDD!$BH$2:$BH$3,\"Chambre FroideFAUXVRAIFAUXFAUXVRAI\",BDD!$Z$2:$Z$3)","v":0},{"$f":"SUMIF(BDD!$BH$2:$BH$3,\"Chambre FroideVRAIFAUXVRAIFAUXFAUX\",BDD!$Z$2:$Z$3)","v":0},{"$f":"SUMIF(BDD!$BH$2:$BH$3,\"Chambre FroideVRAIFAUXFAUXVRAIFAUX\",BDD!$Z$2:$Z$3)","v":0},{"$f":"SUMIF(BDD!$BH$2:$BH$3,\"Chambre FroideVRAIFAUXFAUXFAUXVRAI\",BDD!$Z$2:$Z$3)","v":0},{"$f":"SUMIF(BDD!$BH$2:$BH$3,\"Chambre FroideFAUXVRAIVRAIFAUXFAUX\",BDD!$Z$2:$Z$3)","v":0},{"$f":"SUMIF(BDD!$BH$2:$BH$3,\"Chambre FroideFAUXVRAIFAUXVRAIFAUX\",BDD!$Z$2:$Z$3)","v":0},{"$f":"SUMIF(BDD!$BH$2:$BH$3,\"Chambre FroideFAUXVRAIFAUXFAUXVRAI\",BDD!$Z$2:$Z$3)","v":0},{"$f":"SUMIF(BDD!$BH$2:$BH$3,\"Chambre FroideVRAIFAUXVRAIFAUXFAUX\",BDD!$Z$2:$Z$3)","v":0},{"$f":"SUMIF(BDD!$BH$2:$BH$3,\"Chambre FroideVRAIFAUXFAUXVRAIFAUX\",BDD!$Z$2:$Z$3)","v":0},{"$f":"SUMIF(BDD!$BH$2:$BH$3,\"Chambre FroideVRAIFAUXFAUXFAUXVRAI\",BDD!$Z$2:$Z$3)","v":0},{"$f":"SUMIF(BDD!$BH$2:$BH$3,\"Chambre FroideFAUXVRAIVRAIFAUXFAUX\",BDD!$Z$2:$Z$3)","v":0},{"$f":"SUMIF(BDD!$BH$2:$BH$3,\"Chambre FroideFAUXVRAIFAUXVRAIFAUX\",BDD!$Z$2:$Z$3)","v":0},{"$f":"SUMIF(BDD!$BH$2:$BH$3,\"Chambre FroideFAUXVRAIFAUXFAUXVRAI\",BDD!$Z$2:$Z$3)","v":0},{"$f":"SUMIF(BDD!$BH$2:$BH$3,\"Chambre FroideVRAIFAUXVRAIFAUXFAUX\",BDD!$Z$2:$Z$3)","v":0},{"$f":"SUMIF(BDD!$BH$2:$BH$3,\"Chambre FroideVRAIFAUXFAUXVRAIFAUX\",BDD!$Z$2:$Z$3)","v":0},{"$f":"SUMIF(BDD!$BH$2:$BH$3,\"Chambre FroideVRAIFAUXFAUXFAUXVRAI\",BDD!$Z$2:$Z$3)","v":0},{"$f":"SUMIF(BDD!$BH$2:$BH$3,\"Chambre FroideFAUXVRAIVRAIFAUXFAUX\",BDD!$Z$2:$Z$3)","v":0},{"$f":"SUMIF(BDD!$BH$2:$BH$3,\"Chambre FroideFAUXVRAIFAUXVRAIFAUX\",BDD!$Z$2:$Z$3)","v":0},{"$f":"SUMIF(BDD!$BH$2:$BH$3,\"Chambre FroideFAUXVRAIFAUXFAUXVRAI\",BDD!$Z$2:$Z$3)","v":0},{"$f":"SUMIF(BDD!$BH$2:$BH$3,\"Chambre FroideVRAIFAUXVRAIFAUXFAUX\",BDD!$Z$2:$Z$3)","v":0},{"$f":"SUMIF(BDD!$BH$2:$BH$3,\"Chambre FroideVRAIFAUXFAUXVRAIFAUX\",BDD!$Z$2:$Z$3)","v":0},{"$f":"SUMIF(BDD!$BH$2:$BH$3,\"Chambre FroideVRAIFAUXFAUXFAUXVRAI\",BDD!$Z$2:$Z$3)","v":0},{"$f":"SUMIF(BDD!$BH$2:$BH$3,\"Chambre FroideFAUXVRAIVRAIFAUXFAUX\",BDD!$Z$2:$Z$3)","v":0},{"$f":"SUMIF(BDD!$BH$2:$BH$3,\"Chambre FroideFAUXVRAIFAUXVRAIFAUX\",BDD!$Z$2:$Z$3)","v":0},{"$f":"SUMIF(BDD!$BH$2:$BH$3,\"Chambre FroideFAUXVRAIFAUXFAUXVRAI\",BDD!$Z$2:$Z$3)","v":0}]
["Chambre Sourde",{"$f":"SUMIF(BDD!$BH$2:$BH$3,\"Chambre SourdeVRAIFAUXVRAIFAUXFAUX\",BDD!$Z$2:$Z$3)","v":0},{"$f":"SUMIF(BDD!$BH$2:$BH$3,\"Chambre SourdeVRAIFAUXFAUXVRAIFAUX\",BDD!$Z$2:$Z$3)","v":0},{"$f":"SUMIF(BDD!$BH$2:$BH$3,\"Chambre SourdeVRAIFAUXFAUXFAUXVRAI\",BDD!$Z$2:$Z$3)","v":0},{"$f":"SUMIF(BDD!$BH$2:$BH$3,\"Chambre SourdeFAUXVRAIVRAIFAUXFAUX\",BDD!$Z$2:$Z$3)","v":0},{"$f":"SUMIF(BDD!$BH$2:$BH$3,\"Chambre SourdeFAUXVRAIFAUXVRAIFAUX\",BDD!$Z$2:$Z$3)","v":0},{"$f":"SUMIF(BDD!$BH$2:$BH$3,\"Chambre SourdeFAUXVRAIFAUXFAUXVRAI\",BDD!$Z$2:$Z$3)","v":0},{"$f":"SUMIF(BDD!$BH$2:$BH$3,\"Chambre SourdeVRAIFAUXVRAIFAUXFAUX\",BDD!$Z$2:$Z$3)","v":0},{"$f":"SUMIF(BDD!$BH$2:$BH$3,\"Chambre SourdeVRAIFAUXFAUXVRAIFAUX\",BDD!$Z$2:$Z$3)","v":0},{"$f":"SUMIF(BDD!$BH$2:$BH$3,\"Chambre SourdeVRAIFAUXFAUXFAUXVRAI\",BDD!$Z$2:$Z$3)","v":0},{"$f":"SUMIF(BDD!$BH$2:$BH$3,\"Chambre SourdeFAUXVRAIVRAIFAUXFAUX\",BDD!$Z$2:$Z$3)","v":0},{"$f":"SUMIF(BDD!$BH$2:$BH$3,\"Chambre SourdeFAUXVRAIFAUXVRAIFAUX\",BDD!$Z$2:$Z$3)","v":0},{"$f":"SUMIF(BDD!$BH$2:$BH$3,\"Chambre SourdeFAUXVRAIFAUXFAUXVRAI\",BDD!$Z$2:$Z$3)","v":0},{"$f":"SUMIF(BDD!$BH$2:$BH$25,\"Chambre SourdeVRAIFAUXVRAIFAUXFAUX\",BDD!$Z$2:$Z$25)","v":0},{"$f":"SUMIF(BDD!$BH$2:$BH$25,\"Chambre SourdeVRAIFAUXFAUXVRAIFAUX\",BDD!$Z$2:$Z$25)","v":0},{"$f":"SUMIF(BDD!$BH$2:$BH$25,\"Chambre SourdeVRAIFAUXFAUXFAUXVRAI\",BDD!$Z$2:$Z$25)","v":0},{"$f":"SUMIF(BDD!$BH$2:$BH$25,\"Chambre SourdeFAUXVRAIVRAIFAUXFAUX\",BDD!$Z$2:$Z$25)","v":0},{"$f":"SUMIF(BDD!$BH$2:$BH$25,\"Chambre SourdeFAUXVRAIFAUXVRAIFAUX\",BDD!$Z$2:$Z$25)","v":0},{"$f":"SUMIF(BDD!$BH$2:$BH$25,\"Chambre SourdeFAUXVRAIFAUXFAUXVRAI\",BDD!$Z$2:$Z$25)","v":0},{"$f":"SUMIF(BDD!$BH$26:$BH$149,\"Chambre SourdeVRAIFAUXVRAIFAUXFAUX\",BDD!$Z$26:$Z$149)","v":0},{"$f":"SUMIF(BDD!$BH$26:$BH$149,\"Chambre SourdeVRAIFAUXFAUXVRAIFAUX\",BDD!$Z$26:$Z$149)","v":0},{"$f":"SUMIF(BDD!$BH$26:$BH$149,\"Chambre SourdeVRAIFAUXFAUXFAUXVRAI\",BDD!$Z$26:$Z$149)","v":0},{"$f":"SUMIF(BDD!$BH$26:$BH$149,\"Chambre SourdeFAUXVRAIVRAIFAUXFAUX\",BDD!$Z$26:$Z$149)","v":0},{"$f":"SUMIF(BDD!$BH$26:$BH$149,\"Chambre SourdeFAUXVRAIFAUXVRAIFAUX\",BDD!$Z$26:$Z$149)","v":0},{"$f":"SUMIF(BDD!$BH$26:$BH$149,\"Chambre SourdeFAUXVRAIFAUXFAUXVRAI\",BDD!$Z$26:$Z$149)","v":0},{"$f":"SUMIF(BDD!$BH$2:$BH$3,\"Chambre SourdeVRAIFAUXVRAIFAUXFAUX\",BDD!$Z$2:$Z$3)","v":0},{"$f":"SUMIF(BDD!$BH$2:$BH$3,\"Chambre SourdeVRAIFAUXFAUXVRAIFAUX\",BDD!$Z$2:$Z$3)","v":0},{"$f":"SUMIF(BDD!$BH$2:$BH$3,\"Chambre SourdeVRAIFAUXFAUXFAUXVRAI\",BDD!$Z$2:$Z$3)","v":0},{"$f":"SUMIF(BDD!$BH$2:$BH$3,\"Chambre SourdeFAUXVRAIVRAIFAUXFAUX\",BDD!$Z$2:$Z$3)","v":0},{"$f":"SUMIF(BDD!$BH$2:$BH$3,\"Chambre SourdeFAUXVRAIFAUXVRAIFAUX\",BDD!$Z$2:$Z$3)","v":0},{"$f":"SUMIF(BDD!$BH$2:$BH$3,\"Chambre SourdeFAUXVRAIFAUXFAUXVRAI\",BDD!$Z$2:$Z$3)","v":0},{"$f":"SUMIF(BDD!$BH$2:$BH$3,\"Chambre SourdeVRAIFAUXVRAIFAUXFAUX\",BDD!$Z$2:$Z$3)","v":0},{"$f":"SUMIF(BDD!$BH$2:$BH$3,\"Chambre SourdeVRAIFAUXFAUXVRAIFAUX\",BDD!$Z$2:$Z$3)","v":0},{"$f":"SUMIF(BDD!$BH$2:$BH$3,\"Chambre SourdeVRAIFAUXFAUXFAUXVRAI\",BDD!$Z$2:$Z$3)","v":0},{"$f":"SUMIF(BDD!$BH$2:$BH$3,\"Chambre SourdeFAUXVRAIVRAIFAUXFAUX\",BDD!$Z$2:$Z$3)","v":0},{"$f":"SUMIF(BDD!$BH$2:$BH$3,\"Chambre SourdeFAUXVRAIFAUXVRAIFAUX\",BDD!$Z$2:$Z$3)","v":0},{"$f":"SUMIF(BDD!$BH$2:$BH$3,\"Chambre SourdeFAUXVRAIFAUXFAUXVRAI\",BDD!$Z$2:$Z$3)","v":0},{"$f":"SUMIF(BDD!$BH$2:$BH$3,\"Chambre SourdeVRAIFAUXVRAIFAUXFAUX\",BDD!$Z$2:$Z$3)","v":0},{"$f":"SUMIF(BDD!$BH$2:$BH$3,\"Chambre SourdeVRAIFAUXFAUXVRAIFAUX\",BDD!$Z$2:$Z$3)","v":0},{"$f":"SUMIF(BDD!$BH$2:$BH$3,\"Chambre SourdeVRAIFAUXFAUXFAUXVRAI\",BDD!$Z$2:$Z$3)","v":0},{"$f":"SUMIF(BDD!$BH$2:$BH$3,\"Chambre SourdeFAUXVRAIVRAIFAUXFAUX\",BDD!$Z$2:$Z$3)","v":0},{"$f":"SUMIF(BDD!$BH$2:$BH$3,\"Chambre SourdeFAUXVRAIFAUXVRAIFAUX\",BDD!$Z$2:$Z$3)","v":0},{"$f":"SUMIF(BDD!$BH$2:$BH$3,\"Chambre SourdeFAUXVRAIFAUXFAUXVRAI\",BDD!$Z$2:$Z$3)","v":0},{"$f":"SUMIF(BDD!$BH$2:$BH$3,\"Chambre SourdeVRAIFAUXVRAIFAUXFAUX\",BDD!$Z$2:$Z$3)","v":0},{"$f":"SUMIF(BDD!$BH$2:$BH$3,\"Chambre SourdeVRAIFAUXFAUXVRAIFAUX\",BDD!$Z$2:$Z$3)","v":0},{"$f":"SUMIF(BDD!$BH$2:$BH$3,\"Chambre SourdeVRAIFAUXFAUXFAUXVRAI\",BDD!$Z$2:$Z$3)","v":0},{"$f":"SUMIF(BDD!$BH$2:$BH$3,\"Chambre SourdeFAUXVRAIVRAIFAUXFAUX\",BDD!$Z$2:$Z$3)","v":0},{"$f":"SUMIF(BDD!$BH$2:$BH$3,\"Chambre SourdeFAUXVRAIFAUXVRAIFAUX\",BDD!$Z$2:$Z$3)","v":0},{"$f":"SUMIF(BDD!$BH$2:$BH$3,\"Chambre SourdeFAUXVRAIFAUXFAUXVRAI\",BDD!$Z$2:$Z$3)","v":0},{"$f":"SUMIF(BDD!$BH$2:$BH$3,\"Chambre SourdeVRAIFAUXVRAIFAUXFAUX\",BDD!$Z$2:$Z$3)","v":0},{"$f":"SUMIF(BDD!$BH$2:$BH$3,\"Chambre SourdeVRAIFAUXFAUXVRAIFAUX\",BDD!$Z$2:$Z$3)","v":0},{"$f":"SUMIF(BDD!$BH$2:$BH$3,\"Chambre SourdeVRAIFAUXFAUXFAUXVRAI\",BDD!$Z$2:$Z$3)","v":0},{"$f":"SUMIF(BDD!$BH$2:$BH$3,\"Chambre SourdeFAUXVRAIVRAIFAUXFAUX\",BDD!$Z$2:$Z$3)","v":0},{"$f":"SUMIF(BDD!$BH$2:$BH$3,\"Chambre SourdeFAUXVRAIFAUXVRAIFAUX\",BDD!$Z$2:$Z$3)","v":0},{"$f":"SUMIF(BDD!$BH$2:$BH$3,\"Chambre SourdeFAUXVRAIFAUXFAUXVRAI\",BDD!$Z$2:$Z$3)","v":0},{"$f":"SUMIF(BDD!$BH$2:$BH$3,\"Chambre SourdeVRAIFAUXVRAIFAUXFAUX\",BDD!$Z$2:$Z$3)","v":0},{"$f":"SUMIF(BDD!$BH$2:$BH$3,\"Chambre SourdeVRAIFAUXFAUXVRAIFAUX\",BDD!$Z$2:$Z$3)","v":0},{"$f":"SUMIF(BDD!$BH$2:$BH$3,\"Chambre SourdeVRAIFAUXFAUXFAUXVRAI\",BDD!$Z$2:$Z$3)","v":0},{"$f":"SUMIF(BDD!$BH$2:$BH$3,\"Chambre SourdeFAUXVRAIVRAIFAUXFAUX\",BDD!$Z$2:$Z$3)","v":0},{"$f":"SUMIF(BDD!$BH$2:$BH$3,\"Chambre SourdeFAUXVRAIFAUXVRAIFAUX\",BDD!$Z$2:$Z$3)","v":0},{"$f":"SUMIF(BDD!$BH$2:$BH$3,\"Chambre SourdeFAUXVRAIFAUXFAUXVRAI\",BDD!$Z$2:$Z$3)","v":0},{"$f":"SUMIF(BDD!$BH$2:$BH$3,\"Chambre SourdeVRAIFAUXVRAIFAUXFAUX\",BDD!$Z$2:$Z$3)","v":0},{"$f":"SUMIF(BDD!$BH$2:$BH$3,\"Chambre SourdeVRAIFAUXFAUXVRAIFAUX\",BDD!$Z$2:$Z$3)","v":0},{"$f":"SUMIF(BDD!$BH$2:$BH$3,\"Chambre SourdeVRAIFAUXFAUXFAUXVRAI\",BDD!$Z$2:$Z$3)","v":0},{"$f":"SUMIF(BDD!$BH$2:$BH$3,\"Chambre SourdeFAUXVRAIVRAIFAUXFAUX\",BDD!$Z$2:$Z$3)","v":0},{"$f":"SUMIF(BDD!$BH$2:$BH$3,\"Chambre SourdeFAUXVRAIFAUXVRAIFAUX\",BDD!$Z$2:$Z$3)","v":0},{"$f":"SUMIF(BDD!$BH$2:$BH$3,\"Chambre SourdeFAUXVRAIFAUXFAUXVRAI\",BDD!$Z$2:$Z$3)","v":0},{"$f":"SUMIF(BDD!$BH$2:$BH$3,\"Chambre SourdeVRAIFAUXVRAIFAUXFAUX\",BDD!$Z$2:$Z$3)","v":0},{"$f":"SUMIF(BDD!$BH$2:$BH$3,\"Chambre SourdeVRAIFAUXFAUXVRAIFAUX\",BDD!$Z$2:$Z$3)","v":0},{"$f":"SUMIF(BDD!$BH$2:$BH$3,\"Chambre SourdeVRAIFAUXFAUXFAUXVRAI\",BDD!$Z$2:$Z$3)","v":0},{"$f":"SUMIF(BDD!$BH$2:$BH$3,\"Chambre SourdeFAUXVRAIVRAIFAUXFAUX\",BDD!$Z$2:$Z$3)","v":0},{"$f":"SUMIF(BDD!$BH$2:$BH$3,\"Chambre SourdeFAUXVRAIFAUXVRAIFAUX\",BDD!$Z$2:$Z$3)","v":0},{"$f":"SUMIF(BDD!$BH$2:$BH$3,\"Chambre SourdeFAUXVRAIFAUXFAUXVRAI\",BDD!$Z$2:$Z$3)","v":0}]
[]
[]
[]
[]
[]
[]
[]
[]
[]
[]
[]
[]
[]
[]
[]
[]
[]
[]
[]
[]
[]
[]
[]
[]
[]
[null,"Suivi du correctif et du préventif par banc"]
[null,"Janvier",null,null,null,null,null,"Février",null,null,null,null,null,"Mars",null,null,null,null,null,"Avril",null,null,null,null,null,"Mai",null,null,null,null,null,"Juin",null,null,null,null,null,"Juillet",null,null,null,null,null,"Août",null,null,null,null,null,"Septembre",null,null,null,null,null,"Octobre",null,null,null,null,null,"Novembre",null,null,null,null,null,"Décembre"]
[null,"Préparation essais",null,null,"Amélioration",null,null,"Préparation essais",null,null,"Amélioration",null,null,"Préparation essais",null,null,"Amélioration",null,null,"Préparation essais",null,null,"Amélioration",null,null,"Préparation essais",null,null,"Amélioration",null,null,"Préparation essais",null,null,"Amélioration",null,null,"Préparation essais",null,null,"Amélioration",null,null,"Préparation essais",null,null,"Amélioration",null,null,"Préparation essais",null,null,"Amélioration",null,null,"Préparation essais",null,null,"Amélioration",null,null,"Préparation essais",null,null,"Amélioration",null,null,"Préparation essais",null,null,"Amélioration"]
["Banc zone 6","Electrique","Mécanique","Hydraulique","Electrique","Mécanique","Hydraulique","Electrique","Mécanique","Hydraulique","Electrique","Mécanique","Hydraulique","Electrique","Mécanique","Hydraulique","Electrique","Mécanique","Hydraulique","Electrique","Mécanique","Hydraulique","Electrique","Mécanique","Hydraulique","Electrique","Mécanique","Hydraulique","Electrique","Mécanique","Hydraulique","Electrique","Mécanique","Hydraulique","Electrique","Mécanique","Hydraulique","Electrique","Mécanique","Hydraulique","Electrique","Mécanique","Hydraulique","Electrique","Mécanique","Hydraulique","Electrique","Mécanique","Hydraulique","Electrique","Mécanique","Hydraulique","Electrique","Mécanique","Hydraulique","Electrique","Mécanique","Hydraulique","Electrique","Mécanique","Hydraulique","Electrique","Mécanique","Hydraulique","Electrique","Mécanique","Hydraulique","Electrique","Mécanique","Hydraulique","Electrique","Mécanique","Hydraulique"]
["M73001 (Banc new P9)",{"$f":"SUMIF(BDD!$BI$2:$BI$3,\"M73001 (Banc new P9)FAUXFAUXVRAIFAUXVRAIFAUXFAUX\",BDD!$Z$2:$Z$3)","v":0},{"$f":"SUMIF(BDD!$BI$2:$BI$3,\"M73001 (Banc new P9)FAUXFAUXVRAIFAUXFAUXVRAIFAUX\",BDD!$Z$2:$Z$3)","v":0},{"$f":"SUMIF(BDD!$BI$2:$BI$3,\"M73001 (Banc new P9)FAUXFAUXVRAIFAUXFAUXFAUXVRAI\",BDD!$Z$2:$Z$3)","v":0},{"$f":"SUMIF(BDD!$BI$2:$BI$3,\"M73001 (Banc new P9)FAUXFAUXFAUXVRAIVRAIFAUXFAUX\",BDD!$Z$2:$Z$3)","v":0},{"$f":"SUMIF(BDD!$BI$2:$BI$3,\"M73001 (Banc new P9)FAUXFAUXFAUXVRAIFAUXVRAIFAUX\",BDD!$Z$2:$Z$3)","v":0},{"$f":"SUMIF(BDD!$BI$2:$BI$3,\"M73001 (Banc new P9)FAUXFAUXFAUXVRAIFAUXFAUXVRAI\",BDD!$Z$2:$Z$3)","v":0},{"$f":"SUMIF(BDD!$BI$2:$BI$3,\"M73001 (Banc new P9)FAUXFAUXVRAIFAUXVRAIFAUXFAUX\",BDD!$Z$2:$Z$3)","v":0},{"$f":"SUMIF(BDD!$BI$2:$BI$3,\"M73001 (Banc new P9)FAUXFAUXVRAIFAUXFAUXVRAIFAUX\",BDD!$Z$2:$Z$3)","v":0},{"$f":"SUMIF(BDD!$BI$2:$BI$3,\"M73001 (Banc new P9)FAUXFAUXVRAIFAUXFAUXFAUXVRAI\",BDD!$Z$2:$Z$3)","v":0},{"$f":"SUMIF(BDD!$BI$2:$BI$3,\"M73001 (Banc new P9)FAUXFAUXFAUXVRAIVRAIFAUXFAUX\",BDD!$Z$2:$Z$3)","v":0},{"$f":"SUMIF(BDD!$BI$2:$BI$3,\"M73001 (Banc new P9)FAUXFAUXFAUXVRAIFAUXVRAIFAUX\",BDD!$Z$2:$Z$3)","v":0},{"$f":"SUMIF(BDD!$BI$2:$BI$3,\"M73001 (Banc new P9)FAUXFAUXFAUXVRAIFAUXFAUXVRAI\",BDD!$Z$2:$Z$3)","v":0},{"$f":"SUMIF(BDD!$BI$2:$BI$24,\"M73001 (Banc new P9)FAUXFAUXVRAIFAUXVRAIFAUXFAUX\",BDD!$Z$2:$Z$24)","v":0},{"$f":"SUMIF(BDD!$BI$2:$BI$24,\"M73001 (Banc new P9)FAUXFAUXVRAIFAUXFAUXVRAIFAUX\",BDD!$Z$2:$Z$24)","v":0},{"$f":"SUMIF(BDD!$BI$2:$BI$24,\"M73001 (Banc new P9)FAUXFAUXVRAIFAUXFAUXFAUXVRAI\",BDD!$Z$2:$Z$24)","v":0},{"$f":"SUMIF(BDD!$BI$2:$BI$24,\"M73001 (Banc new P9)FAUXFAUXFAUXVRAIVRAIFAUXFAUX\",BDD!$Z$2:$Z$24)","v":0},{"$f":"SUMIF(BDD!$BI$2:$BI$24,\"M73001 (Banc new P9)FAUXFAUXFAUXVRAIFAUXVRAIFAUX\",BDD!$Z$2:$Z$24)","v":0},{"$f":"SUMIF(BDD!$BI$2:$BI$24,\"M73001 (Banc new P9)FAUXFAUXFAUXVRAIFAUXFAUXVRAI\",BDD!$Z$2:$Z$24)","v":0},{"$f":"SUMIF(BDD!$BI$26:$BI$599,\"M73001 (Banc new P9)VRAIFAUXVRAIFAUXFAUX\",BDD!$Z$26:$Z$599)","v":3},{"$f":"SUMIF(BDD!$BI$26:$BI$599,\"M73001 (Banc new P9)VRAIFAUXFAUXVRAIFAUX\",BDD!$Z$26:$Z$599)","v":0},{"$f":"SUMIF(BDD!$BI$26:$BI$599,\"M73001 (Banc new P9)VRAIFAUXFAUXFAUXVRAI\",BDD!$Z$26:$Z$60)","v":0},{"$f":"SUMIF(BDD!$BI$26:$BI$599,\"M73001 (Banc new P9)FAUXVRAIVRAIFAUXFAUX\",BDD!$Z$26:$Z$599)","v":0},{"$f":"SUMIF(BDD!$BI$26:$BI$599,\"M73001 (Banc new P9)FAUXVRAIFAUXVRAIFAUX\",BDD!$Z$26:$Z$599)","v":0},{"$f":"SUMIF(BDD!$BI$26:$BI$599,\"M73001 (Banc new P9)FAUXVRAIFAUXFAUXVRAI\",BDD!$Z$26:$Z$60)","v":0},{"$f":"SUMIF(BDD!$BI$2:$BI$3,\"M73001 (Banc new P9)FAUXFAUXVRAIFAUXVRAIFAUXFAUX\",BDD!$Z$2:$Z$3)","v":0},{"$f":"SUMIF(BDD!$BI$2:$BI$3,\"M73001 (Banc new P9)FAUXFAUXVRAIFAUXFAUXVRAIFAUX\",BDD!$Z$2:$Z$3)","v":0},{"$f":"SUMIF(BDD!$BI$2:$BI$3,\"M73001 (Banc new P9)FAUXFAUXVRAIFAUXFAUXFAUXVRAI\",BDD!$Z$2:$Z$3)","v":0},{"$f":"SUMIF(BDD!$BI$2:$BI$3,\"M73001 (Banc new P9)FAUXFAUXFAUXVRAIVRAIFAUXFAUX\",BDD!$Z$2:$Z$3)","v":0},{"$f":"SUMIF(BDD!$BI$2:$BI$3,\"M73001 (Banc new P9)FAUXFAUXFAUXVRAIFAUXVRAIFAUX\",BDD!$Z$2:$Z$3)","v":0},{"$f":"SUMIF(BDD!$BI$2:$BI$3,\"M73001 (Banc new P9)FAUXFAUXFAUXVRAIFAUXFAUXVRAI\",BDD!$Z$2:$Z$3)","v":0},{"$f":"SUMIF(BDD!$BI$2:$BI$3,\"M73001 (Banc new P9)FAUXFAUXVRAIFAUXVRAIFAUXFAUX\",BDD!$Z$2:$Z$3)","v":0},{"$f":"SUMIF(BDD!$BI$2:$BI$3,\"M73001 (Banc new P9)FAUXFAUXVRAIFAUXFAUXVRAIFAUX\",BDD!$Z$2:$Z$3)","v":0},{"$f":"SUMIF(BDD!$BI$2:$BI$3,\"M73001 (Banc new P9)FAUXFAUXVRAIFAUXFAUXFAUXVRAI\",BDD!$Z$2:$Z$3)","v":0},{"$f":"SUMIF(BDD!$BI$2:$BI$3,\"M73001 (Banc new P9)FAUXFAUXFAUXVRAIVRAIFAUXFAUX\",BDD!$Z$2:$Z$3)","v":0},{"$f":"SUMIF(BDD!$BI$2:$BI$3,\"M73001 (Banc new P9)FAUXFAUXFAUXVRAIFAUXVRAIFAUX\",BDD!$Z$2:$Z$3)","v":0},{"$f":"SUMIF(BDD!$BI$2:$BI$3,\"M73001 (Banc new P9)FAUXFAUXFAUXVRAIFAUXFAUXVRAI\",BDD!$Z$2:$Z$3)","v":0},{"$f":"SUMIF(BDD!$BI$2:$BI$3,\"M73001 (Banc new P9)FAUXFAUXVRAIFAUXVRAIFAUXFAUX\",BDD!$Z$2:$Z$3)","v":0},{"$f":"SUMIF(BDD!$BI$2:$BI$3,\"M73001 (Banc new P9)FAUXFAUXVRAIFAUXFAUXVRAIFAUX\",BDD!$Z$2:$Z$3)","v":0},{"$f":"SUMIF(BDD!$BI$2:$BI$3,\"M73001 (Banc new P9)FAUXFAUXVRAIFAUXFAUXFAUXVRAI\",BDD!$Z$2:$Z$3)","v":0},{"$f":"SUMIF(BDD!$BI$2:$BI$3,\"M73001 (Banc new P9)FAUXFAUXFAUXVRAIVRAIFAUXFAUX\",BDD!$Z$2:$Z$3)","v":0},{"$f":"SUMIF(BDD!$BI$2:$BI$3,\"M73001 (Banc new P9)FAUXFAUXFAUXVRAIFAUXVRAIFAUX\",BDD!$Z$2:$Z$3)","v":0},{"$f":"SUMIF(BDD!$BI$2:$BI$3,\"M73001 (Banc new P9)FAUXFAUXFAUXVRAIFAUXFAUXVRAI\",BDD!$Z$2:$Z$3)","v":0},{"$f":"SUMIF(BDD!$BI$2:$BI$3,\"M73001 (Banc new P9)FAUXFAUXVRAIFAUXVRAIFAUXFAUX\",BDD!$Z$2:$Z$3)","v":0},{"$f":"SUMIF(BDD!$BI$2:$BI$3,\"M73001 (Banc new P9)FAUXFAUXVRAIFAUXFAUXVRAIFAUX\",BDD!$Z$2:$Z$3)","v":0},{"$f":"SUMIF(BDD!$BI$2:$BI$3,\"M73001 (Banc new P9)FAUXFAUXVRAIFAUXFAUXFAUXVRAI\",BDD!$Z$2:$Z$3)","v":0},{"$f":"SUMIF(BDD!$BI$2:$BI$3,\"M73001 (Banc new P9)FAUXFAUXFAUXVRAIVRAIFAUXFAUX\",BDD!$Z$2:$Z$3)","v":0},{"$f":"SUMIF(BDD!$BI$2:$BI$3,\"M73001 (Banc new P9)FAUXFAUXFAUXVRAIFAUXVRAIFAUX\",BDD!$Z$2:$Z$3)","v":0},{"$f":"SUMIF(BDD!$BI$2:$BI$3,\"M73001 (Banc new P9)FAUXFAUXFAUXVRAIFAUXFAUXVRAI\",BDD!$Z$2:$Z$3)","v":0},{"$f":"SUMIF(BDD!$BI$2:$BI$3,\"M73001 (Banc new P9)FAUXFAUXVRAIFAUXVRAIFAUXFAUX\",BDD!$Z$2:$Z$3)","v":0},{"$f":"SUMIF(BDD!$BI$2:$BI$3,\"M73001 (Banc new P9)FAUXFAUXVRAIFAUXFAUXVRAIFAUX\",BDD!$Z$2:$Z$3)","v":0},{"$f":"SUMIF(BDD!$BI$2:$BI$3,\"M73001 (Banc new P9)FAUXFAUXVRAIFAUXFAUXFAUXVRAI\",BDD!$Z$2:$Z$3)","v":0},{"$f":"SUMIF(BDD!$BI$2:$BI$3,\"M73001 (Banc new P9)FAUXFAUXFAUXVRAIVRAIFAUXFAUX\",BDD!$Z$2:$Z$3)","v":0},{"$f":"SUMIF(BDD!$BI$2:$BI$3,\"M73001 (Banc new P9)FAUXFAUXFAUXVRAIFAUXVRAIFAUX\",BDD!$Z$2:$Z$3)","v":0},{"$f":"SUMIF(BDD!$BI$2:$BI$3,\"M73001 (Banc new P9)FAUXFAUXFAUXVRAIFAUXFAUXVRAI\",BDD!$Z$2:$Z$3)","v":0},{"$f":"SUMIF(BDD!$BI$2:$BI$3,\"M73001 (Banc new P9)FAUXFAUXVRAIFAUXVRAIFAUXFAUX\",BDD!$Z$2:$Z$3)","v":0},{"$f":"SUMIF(BDD!$BI$2:$BI$3,\"M73001 (Banc new P9)FAUXFAUXVRAIFAUXFAUXVRAIFAUX\",BDD!$Z$2:$Z$3)","v":0},{"$f":"SUMIF(BDD!$BI$2:$BI$3,\"M73001 (Banc new P9)FAUXFAUXVRAIFAUXFAUXFAUXVRAI\",BDD!$Z$2:$Z$3)","v":0},{"$f":"SUMIF(BDD!$BI$2:$BI$3,\"M73001 (Banc new P9)FAUXFAUXFAUXVRAIVRAIFAUXFAUX\",BDD!$Z$2:$Z$3)","v":0},{"$f":"SUMIF(BDD!$BI$2:$BI$3,\"M73001 (Banc new P9)FAUXFAUXFAUXVRAIFAUXVRAIFAUX\",BDD!$Z$2:$Z$3)","v":0},{"$f":"SUMIF(BDD!$BI$2:$BI$3,\"M73001 (Banc new P9)FAUXFAUXFAUXVRAIFAUXFAUXVRAI\",BDD!$Z$2:$Z$3)","v":0},{"$f":"SUMIF(BDD!$BI$2:$BI$3,\"M73001 (Banc new P9)FAUXFAUXVRAIFAUXVRAIFAUXFAUX\",BDD!$Z$2:$Z$3)","v":0},{"$f":"SUMIF(BDD!$BI$2:$BI$3,\"M73001 (Banc new P9)FAUXFAUXVRAIFAUXFAUXVRAIFAUX\",BDD!$Z$2:$Z$3)","v":0},{"$f":"SUMIF(BDD!$BI$2:$BI$3,\"M73001 (Banc new P9)FAUXFAUXVRAIFAUXFAUXFAUXVRAI\",BDD!$Z$2:$Z$3)","v":0},{"$f":"SUMIF(BDD!$BI$2:$BI$3,\"M73001 (Banc new P9)FAUXFAUXFAUXVRAIVRAIFAUXFAUX\",BDD!$Z$2:$Z$3)","v":0},{"$f":"SUMIF(BDD!$BI$2:$BI$3,\"M73001 (Banc new P9)FAUXFAUXFAUXVRAIFAUXVRAIFAUX\",BDD!$Z$2:$Z$3)","v":0},{"$f":"SUMIF(BDD!$BI$2:$BI$3,\"M73001 (Banc new P9)FAUXFAUXFAUXVRAIFAUXFAUXVRAI\",BDD!$Z$2:$Z$3)","v":0},{"$f":"SUMIF(BDD!$BI$2:$BI$3,\"M73001 (Banc new P9)FAUXFAUXVRAIFAUXVRAIFAUXFAUX\",BDD!$Z$2:$Z$3)","v":0},{"$f":"SUMIF(BDD!$BI$2:$BI$3,\"M73001 (Banc new P9)FAUXFAUXVRAIFAUXFAUXVRAIFAUX\",BDD!$Z$2:$Z$3)","v":0},{"$f":"SUMIF(BDD!$BI$2:$BI$3,\"M73001 (Banc new P9)FAUXFAUXVRAIFAUXFAUXFAUXVRAI\",BDD!$Z$2:$Z$3)","v":0},{"$f":"SUMIF(BDD!$BI$2:$BI$3,\"M73001 (Banc new P9)FAUXFAUXFAUXVRAIVRAIFAUXFAUX\",BDD!$Z$2:$Z$3)","v":0},{"$f":"SUMIF(BDD!$BI$2:$BI$3,\"M73001 (Banc new P9)FAUXFAUXFAUXVRAIFAUXVRAIFAUX\",BDD!$Z$2:$Z$3)","v":0},{"$f":"SUMIF(BDD!$BI$2:$BI$3,\"M73001 (Banc new P9)FAUXFAUXFAUXVRAIFAUXFAUXVRAI\",BDD!$Z$2:$Z$3)","v":0}]
["Banc P1",{"$f":"SUMIF(BDD!$BI$2:$BI$3,\"Banc P1FAUXFAUXVRAIFAUXVRAIFAUXFAUX\",BDD!$Z$2:$Z$3)","v":0},{"$f":"SUMIF(BDD!$BI$2:$BI$3,\"Banc P1FAUXFAUXVRAIFAUXFAUXVRAIFAUX\",BDD!$Z$2:$Z$3)","v":0},{"$f":"SUMIF(BDD!$BI$2:$BI$3,\"Banc P1FAUXFAUXVRAIFAUXFAUXFAUXVRAI\",BDD!$Z$2:$Z$3)","v":0},{"$f":"SUMIF(BDD!$BI$2:$BI$3,\"Banc P1FAUXFAUXFAUXVRAIVRAIFAUXFAUX\",BDD!$Z$2:$Z$3)","v":0},{"$f":"SUMIF(BDD!$BI$2:$BI$3,\"Banc P1FAUXFAUXFAUXVRAIFAUXVRAIFAUX\",BDD!$Z$2:$Z$3)","v":0},{"$f":"SUMIF(BDD!$BI$2:$BI$3,\"Banc P1FAUXFAUXFAUXVRAIFAUXFAUXVRAI\",BDD!$Z$2:$Z$3)","v":0},{"$f":"SUMIF(BDD!$BI$2:$BI$3,\"Banc P1FAUXFAUXVRAIFAUXVRAIFAUXFAUX\",BDD!$Z$2:$Z$3)","v":0},{"$f":"SUMIF(BDD!$BI$2:$BI$3,\"Banc P1FAUXFAUXVRAIFAUXFAUXVRAIFAUX\",BDD!$Z$2:$Z$3)","v":0},{"$f":"SUMIF(BDD!$BI$2:$BI$3,\"Banc P1FAUXFAUXVRAIFAUXFAUXFAUXVRAI\",BDD!$Z$2:$Z$3)","v":0},{"$f":"SUMIF(BDD!$BI$2:$BI$3,\"Banc P1FAUXFAUXFAUXVRAIVRAIFAUXFAUX\",BDD!$Z$2:$Z$3)","v":0},{"$f":"SUMIF(BDD!$BI$2:$BI$3,\"Banc P1FAUXFAUXFAUXVRAIFAUXVRAIFAUX\",BDD!$Z$2:$Z$3)","v":0},{"$f":"SUMIF(BDD!$BI$2:$BI$3,\"Banc P1FAUXFAUXFAUXVRAIFAUXFAUXVRAI\",BDD!$Z$2:$Z$3)","v":0},{"$f":"SUMIF(BDD!$BI$2:$BI$24,\"Banc P1FAUXFAUXVRAIFAUXVRAIFAUXFAUX\",BDD!$Z$2:$Z$24)","v":0},{"$f":"SUMIF(BDD!$BI$2:$BI$24,\"Banc P1FAUXFAUXVRAIFAUXFAUXVRAIFAUX\",BDD!$Z$2:$Z$24)","v":0},{"$f":"SUMIF(BDD!$BI$2:$BI$24,\"Banc P1FAUXFAUXVRAIFAUXFAUXFAUXVRAI\",BDD!$Z$2:$Z$24)","v":0},{"$f":"SUMIF(BDD!$BI$2:$BI$24,\"Banc P1FAUXFAUXFAUXVRAIVRAIFAUXFAUX\",BDD!$Z$2:$Z$24)","v":0},{"$f":"SUMIF(BDD!$BI$2:$BI$24,\"Banc P1FAUXFAUXFAUXVRAIFAUXVRAIFAUX\",BDD!$Z$2:$Z$24)","v":0},{"$f":"SUMIF(BDD!$BI$2:$BI$24,\"Banc P1FAUXFAUXFAUXVRAIFAUXFAUXVRAI\",BDD!$Z$2:$Z$24)","v":0},{"$f":"SUMIF(BDD!$BI$26:$BI$599,\"Banc P1VRAIFAUXVRAIFAUXFAUX\",BDD!$Z$26:$Z$599)","v":0},{"$f":"SUMIF(BDD!$BI$26:$BI$599,\"Banc P1VRAIFAUXFAUXVRAIFAUX\",BDD!$Z$26:$Z$599)","v":0},{"$f":"SUMIF(BDD!$BI$26:$BI$599,\"Banc P1VRAIFAUXFAUXFAUXVRAI\",BDD!$Z$26:$Z$599)","v":0},{"$f":"SUMIF(BDD!$BI$26:$BI$599,\"Banc P1FAUXVRAIVRAIFAUXFAUX\",BDD!$Z$26:$Z$599)","v":0},{"$f":"SUMIF(BDD!$BI$26:$BI$599,\"Banc P1FAUXVRAIFAUXVRAIFAUX\",BDD!$Z$26:$Z$599)","v":0},{"$f":"SUMIF(BDD!$BI$26:$BI$6005,\"Banc P1FAUXVRAIFAUXFAUXVRAI\",BDD!$Z$26:$Z$599)","v":0},{"$f":"SUMIF(BDD!$BI$2:$BI$3,\"Banc P1FAUXFAUXVRAIFAUXVRAIFAUXFAUX\",BDD!$Z$2:$Z$3)","v":0},{"$f":"SUMIF(BDD!$BI$2:$BI$3,\"Banc P1FAUXFAUXVRAIFAUXFAUXVRAIFAUX\",BDD!$Z$2:$Z$3)","v":0},{"$f":"SUMIF(BDD!$BI$2:$BI$3,\"Banc P1FAUXFAUXVRAIFAUXFAUXFAUXVRAI\",BDD!$Z$2:$Z$3)","v":0},{"$f":"SUMIF(BDD!$BI$2:$BI$3,\"Banc P1FAUXFAUXFAUXVRAIVRAIFAUXFAUX\",BDD!$Z$2:$Z$3)","v":0},{"$f":"SUMIF(BDD!$BI$2:$BI$3,\"Banc P1FAUXFAUXFAUXVRAIFAUXVRAIFAUX\",BDD!$Z$2:$Z$3)","v":0},{"$f":"SUMIF(BDD!$BI$2:$BI$3,\"Banc P1FAUXFAUXFAUXVRAIFAUXFAUXVRAI\",BDD!$Z$2:$Z$3)","v":0},{"$f":"SUMIF(BDD!$BI$2:$BI$3,\"Banc P1FAUXFAUXVRAIFAUXVRAIFAUXFAUX\",BDD!$Z$2:$Z$3)","v":0},{"$f":"SUMIF(BDD!$BI$2:$BI$3,\"Banc P1FAUXFAUXVRAIFAUXFAUXVRAIFAUX\",BDD!$Z$2:$Z$3)","v":0},{"$f":"SUMIF(BDD!$BI$2:$BI$3,\"Banc P1FAUXFAUXVRAIFAUXFAUXFAUXVRAI\",BDD!$Z$2:$Z$3)","v":0},{"$f":"SUMIF(BDD!$BI$2:$BI$3,\"Banc P1FAUXFAUXFAUXVRAIVRAIFAUXFAUX\",BDD!$Z$2:$Z$3)","v":0},{"$f":"SUMIF(BDD!$BI$2:$BI$3,\"Banc P1FAUXFAUXFAUXVRAIFAUXVRAIFAUX\",BDD!$Z$2:$Z$3)","v":0},{"$f":"SUMIF(BDD!$BI$2:$BI$3,\"Banc P1FAUXFAUXFAUXVRAIFAUXFAUXVRAI\",BDD!$Z$2:$Z$3)","v":0},{"$f":"SUMIF(BDD!$BI$2:$BI$3,\"Banc P1FAUXFAUXVRAIFAUXVRAIFAUXFAUX\",BDD!$Z$2:$Z$3)","v":0},{"$f":"SUMIF(BDD!$BI$2:$BI$3,\"Banc P1FAUXFAUXVRAIFAUXFAUXVRAIFAUX\",BDD!$Z$2:$Z$3)","v":0},{"$f":"SUMIF(BDD!$BI$2:$BI$3,\"Banc P1FAUXFAUXVRAIFAUXFAUXFAUXVRAI\",BDD!$Z$2:$Z$3)","v":0},{"$f":"SUMIF(BDD!$BI$2:$BI$3,\"Banc P1FAUXFAUXFAUXVRAIVRAIFAUXFAUX\",BDD!$Z$2:$Z$3)","v":0},{"$f":"SUMIF(BDD!$BI$2:$BI$3,\"Banc P1FAUXFAUXFAUXVRAIFAUXVRAIFAUX\",BDD!$Z$2:$Z$3)","v":0},{"$f":"SUMIF(BDD!$BI$2:$BI$3,\"Banc P1FAUXFAUXFAUXVRAIFAUXFAUXVRAI\",BDD!$Z$2:$Z$3)","v":0},{"$f":"SUMIF(BDD!$BI$2:$BI$3,\"Banc P1FAUXFAUXVRAIFAUXVRAIFAUXFAUX\",BDD!$Z$2:$Z$3)","v":0},{"$f":"SUMIF(BDD!$BI$2:$BI$3,\"Banc P1FAUXFAUXVRAIFAUXFAUXVRAIFAUX\",BDD!$Z$2:$Z$3)","v":0},{"$f":"SUMIF(BDD!$BI$2:$BI$3,\"Banc P1FAUXFAUXVRAIFAUXFAUXFAUXVRAI\",BDD!$Z$2:$Z$3)","v":0},{"$f":"SUMIF(BDD!$BI$2:$BI$3,\"Banc P1FAUXFAUXFAUXVRAIVRAIFAUXFAUX\",BDD!$Z$2:$Z$3)","v":0},{"$f":"SUMIF(BDD!$BI$2:$BI$3,\"Banc P1FAUXFAUXFAUXVRAIFAUXVRAIFAUX\",BDD!$Z$2:$Z$3)","v":0},{"$f":"SUMIF(BDD!$BI$2:$BI$3,\"Banc P1FAUXFAUXFAUXVRAIFAUXFAUXVRAI\",BDD!$Z$2:$Z$3)","v":0},{"$f":"SUMIF(BDD!$BI$2:$BI$3,\"Banc P1FAUXFAUXVRAIFAUXVRAIFAUXFAUX\",BDD!$Z$2:$Z$3)","v":0},{"$f":"SUMIF(BDD!$BI$2:$BI$3,\"Banc P1FAUXFAUXVRAIFAUXFAUXVRAIFAUX\",BDD!$Z$2:$Z$3)","v":0},{"$f":"SUMIF(BDD!$BI$2:$BI$3,\"Banc P1FAUXFAUXVRAIFAUXFAUXFAUXVRAI\",BDD!$Z$2:$Z$3)","v":0},{"$f":"SUMIF(BDD!$BI$2:$BI$3,\"Banc P1FAUXFAUXFAUXVRAIVRAIFAUXFAUX\",BDD!$Z$2:$Z$3)","v":0},{"$f":"SUMIF(BDD!$BI$2:$BI$3,\"Banc P1FAUXFAUXFAUXVRAIFAUXVRAIFAUX\",BDD!$Z$2:$Z$3)","v":0},{"$f":"SUMIF(BDD!$BI$2:$BI$3,\"Banc P1FAUXFAUXFAUXVRAIFAUXFAUXVRAI\",BDD!$Z$2:$Z$3)","v":0},{"$f":"SUMIF(BDD!$BI$2:$BI$3,\"Banc P1FAUXFAUXVRAIFAUXVRAIFAUXFAUX\",BDD!$Z$2:$Z$3)","v":0},{"$f":"SUMIF(BDD!$BI$2:$BI$3,\"Banc P1FAUXFAUXVRAIFAUXFAUXVRAIFAUX\",BDD!$Z$2:$Z$3)","v":0},{"$f":"SUMIF(BDD!$BI$2:$BI$3,\"Banc P1FAUXFAUXVRAIFAUXFAUXFAUXVRAI\",BDD!$Z$2:$Z$3)","v":0},{"$f":"SUMIF(BDD!$BI$2:$BI$3,\"Banc P1FAUXFAUXFAUXVRAIVRAIFAUXFAUX\",BDD!$Z$2:$Z$3)","v":0},{"$f":"SUMIF(BDD!$BI$2:$BI$3,\"Banc P1FAUXFAUXFAUXVRAIFAUXVRAIFAUX\",BDD!$Z$2:$Z$3)","v":0},{"$f":"SUMIF(BDD!$BI$2:$BI$3,\"Banc P1FAUXFAUXFAUXVRAIFAUXFAUXVRAI\",BDD!$Z$2:$Z$3)","v":0},{"$f":"SUMIF(BDD!$BI$2:$BI$3,\"Banc P1FAUXFAUXVRAIFAUXVRAIFAUXFAUX\",BDD!$Z$2:$Z$3)","v":0},{"$f":"SUMIF(BDD!$BI$2:$BI$3,\"Banc P1FAUXFAUXVRAIFAUXFAUXVRAIFAUX\",BDD!$Z$2:$Z$3)","v":0},{"$f":"SUMIF(BDD!$BI$2:$BI$3,\"Banc P1FAUXFAUXVRAIFAUXFAUXFAUXVRAI\",BDD!$Z$2:$Z$3)","v":0},{"$f":"SUMIF(BDD!$BI$2:$BI$3,\"Banc P1FAUXFAUXFAUXVRAIVRAIFAUXFAUX\",BDD!$Z$2:$Z$3)","v":0},{"$f":"SUMIF(BDD!$BI$2:$BI$3,\"Banc P1FAUXFAUXFAUXVRAIFAUXVRAIFAUX\",BDD!$Z$2:$Z$3)","v":0},{"$f":"SUMIF(BDD!$BI$2:$BI$3,\"Banc P1FAUXFAUXFAUXVRAIFAUXFAUXVRAI\",BDD!$Z$2:$Z$3)","v":0},{"$f":"SUMIF(BDD!$BI$2:$BI$3,\"Banc P1FAUXFAUXVRAIFAUXVRAIFAUXFAUX\",BDD!$Z$2:$Z$3)","v":0},{"$f":"SUMIF(BDD!$BI$2:$BI$3,\"Banc P1FAUXFAUXVRAIFAUXFAUXVRAIFAUX\",BDD!$Z$2:$Z$3)","v":0},{"$f":"SUMIF(BDD!$BI$2:$BI$3,\"Banc P1FAUXFAUXVRAIFAUXFAUXFAUXVRAI\",BDD!$Z$2:$Z$3)","v":0},{"$f":"SUMIF(BDD!$BI$2:$BI$3,\"Banc P1FAUXFAUXFAUXVRAIVRAIFAUXFAUX\",BDD!$Z$2:$Z$3)","v":0},{"$f":"SUMIF(BDD!$BI$2:$BI$3,\"Banc P1FAUXFAUXFAUXVRAIFAUXVRAIFAUX\",BDD!$Z$2:$Z$3)","v":0},{"$f":"SUMIF(BDD!$BI$2:$BI$3,\"Banc P1FAUXFAUXFAUXVRAIFAUXFAUXVRAI\",BDD!$Z$2:$Z$3)","v":0}]
["Banc P2",{"$f":"SUMIF(BDD!$BI$2:$BI$3,\"Banc P2FAUXFAUXVRAIFAUXVRAIFAUXFAUX\",BDD!$Z$2:$Z$3)","v":0},{"$f":"SUMIF(BDD!$BI$2:$BI$3,\"Banc P2FAUXFAUXVRAIFAUXFAUXVRAIFAUX\",BDD!$Z$2:$Z$3)","v":0},{"$f":"SUMIF(BDD!$BI$2:$BI$3,\"Banc P2FAUXFAUXVRAIFAUXFAUXFAUXVRAI\",BDD!$Z$2:$Z$3)","v":0},{"$f":"SUMIF(BDD!$BI$2:$BI$3,\"Banc P2FAUXFAUXFAUXVRAIVRAIFAUXFAUX\",BDD!$Z$2:$Z$3)","v":0},{"$f":"SUMIF(BDD!$BI$2:$BI$3,\"Banc P2FAUXFAUXFAUXVRAIFAUXVRAIFAUX\",BDD!$Z$2:$Z$3)","v":0},{"$f":"SUMIF(BDD!$BI$2:$BI$3,\"Banc P2FAUXFAUXFAUXVRAIFAUXFAUXVRAI\",BDD!$Z$2:$Z$3)","v":0},{"$f":"SUMIF(BDD!$BI$2:$BI$3,\"Banc P2FAUXFAUXVRAIFAUXVRAIFAUXFAUX\",BDD!$Z$2:$Z$3)","v":0},{"$f":"SUMIF(BDD!$BI$2:$BI$3,\"Banc P2FAUXFAUXVRAIFAUXFAUXVRAIFAUX\",BDD!$Z$2:$Z$3)","v":0},{"$f":"SUMIF(BDD!$BI$2:$BI$3,\"Banc P2FAUXFAUXVRAIFAUXFAUXFAUXVRAI\",BDD!$Z$2:$Z$3)","v":0},{"$f":"SUMIF(BDD!$BI$2:$BI$3,\"Banc P2FAUXFAUXFAUXVRAIVRAIFAUXFAUX\",BDD!$Z$2:$Z$3)","v":0},{"$f":"SUMIF(BDD!$BI$2:$BI$3,\"Banc P2FAUXFAUXFAUXVRAIFAUXVRAIFAUX\",BDD!$Z$2:$Z$3)","v":0},{"$f":"SUMIF(BDD!$BI$2:$BI$3,\"Banc P2FAUXFAUXFAUXVRAIFAUXFAUXVRAI\",BDD!$Z$2:$Z$3)","v":0},{"$f":"SUMIF(BDD!$BI$2:$BI$24,\"Banc P2FAUXFAUXVRAIFAUXVRAIFAUXFAUX\",BDD!$Z$2:$Z$24)","v":0},{"$f":"SUMIF(BDD!$BI$2:$BI$24,\"Banc P2FAUXFAUXVRAIFAUXFAUXVRAIFAUX\",BDD!$Z$2:$Z$24)","v":0},{"$f":"SUMIF(BDD!$BI$2:$BI$24,\"Banc P2FAUXFAUXVRAIFAUXFAUXFAUXVRAI\",BDD!$Z$2:$Z$24)","v":0},{"$f":"SUMIF(BDD!$BI$2:$BI$24,\"Banc P2FAUXFAUXFAUXVRAIVRAIFAUXFAUX\",BDD!$Z$2:$Z$24)","v":0},{"$f":"SUMIF(BDD!$BI$2:$BI$24,\"Banc P2FAUXFAUXFAUXVRAIFAUXVRAIFAUX\",BDD!$Z$2:$Z$24)","v":0},{"$f":"SUMIF(BDD!$BI$2:$BI$24,\"Banc P2FAUXFAUXFAUXVRAIFAUXFAUXVRAI\",BDD!$Z$2:$Z$24)","v":0},{"$f":"SUMIF(BDD!$BI$26:$BI$599,\"Banc P2VRAIFAUXVRAIFAUXFAUX\",BDD!$Z$26:$Z$599)","v":0},{"$f":"SUMIF(BDD!$BI$26:$BI$599,\"Banc P2VRAIFAUXFAUXVRAIFAUX\",BDD!$Z$26:$Z$599)","v":0},{"$f":"SUMIF(BDD!$BI$26:$BI$599,\"Banc P2VRAIFAUXFAUXFAUXVRAI\",BDD!$Z$26:$Z$599)","v":0},{"$f":"SUMIF(BDD!$BI$26:$BI$599,\"Banc P2FAUXVRAIVRAIFAUXFAUX\",BDD!$Z$26:$Z$599)","v":0},{"$f":"SUMIF(BDD!$BI$26:$BI$599,\"Banc P2FAUXVRAIFAUXVRAIFAUX\",BDD!$Z$26:$Z$599)","v":0},{"$f":"SUMIF(BDD!$BI$26:$BI$599,\"Banc P2FAUXVRAIFAUXFAUXVRAI\",BDD!$Z$26:$Z$599)","v":0},{"$f":"SUMIF(BDD!$BI$2:$BI$3,\"Banc P2FAUXFAUXVRAIFAUXVRAIFAUXFAUX\",BDD!$Z$2:$Z$3)","v":0},{"$f":"SUMIF(BDD!$BI$2:$BI$3,\"Banc P2FAUXFAUXVRAIFAUXFAUXVRAIFAUX\",BDD!$Z$2:$Z$3)","v":0},{"$f":"SUMIF(BDD!$BI$2:$BI$3,\"Banc P2FAUXFAUXVRAIFAUXFAUXFAUXVRAI\",BDD!$Z$2:$Z$3)","v":0},{"$f":"SUMIF(BDD!$BI$2:$BI$3,\"Banc P2FAUXFAUXFAUXVRAIVRAIFAUXFAUX\",BDD!$Z$2:$Z$3)","v":0},{"$f":"SUMIF(BDD!$BI$2:$BI$3,\"Banc P2FAUXFAUXFAUXVRAIFAUXVRAIFAUX\",BDD!$Z$2:$Z$3)","v":0},{"$f":"SUMIF(BDD!$BI$2:$BI$3,\"Banc P2FAUXFAUXFAUXVRAIFAUXFAUXVRAI\",BDD!$Z$2:$Z$3)","v":0},{"$f":"SUMIF(BDD!$BI$2:$BI$3,\"Banc P2FAUXFAUXVRAIFAUXVRAIFAUXFAUX\",BDD!$Z$2:$Z$3)","v":0},{"$f":"SUMIF(BDD!$BI$2:$BI$3,\"Banc P2FAUXFAUXVRAIFAUXFAUXVRAIFAUX\",BDD!$Z$2:$Z$3)","v":0},{"$f":"SUMIF(BDD!$BI$2:$BI$3,\"Banc P2FAUXFAUXVRAIFAUXFAUXFAUXVRAI\",BDD!$Z$2:$Z$3)","v":0},{"$f":"SUMIF(BDD!$BI$2:$BI$3,\"Banc P2FAUXFAUXFAUXVRAIVRAIFAUXFAUX\",BDD!$Z$2:$Z$3)","v":0},{"$f":"SUMIF(BDD!$BI$2:$BI$3,\"Banc P2FAUXFAUXFAUXVRAIFAUXVRAIFAUX\",BDD!$Z$2:$Z$3)","v":0},{"$f":"SUMIF(BDD!$BI$2:$BI$3,\"Banc P2FAUXFAUXFAUXVRAIFAUXFAUXVRAI\",BDD!$Z$2:$Z$3)","v":0},{"$f":"SUMIF(BDD!$BI$2:$BI$3,\"Banc P2FAUXFAUXVRAIFAUXVRAIFAUXFAUX\",BDD!$Z$2:$Z$3)","v":0},{"$f":"SUMIF(BDD!$BI$2:$BI$3,\"Banc P2FAUXFAUXVRAIFAUXFAUXVRAIFAUX\",BDD!$Z$2:$Z$3)","v":0},{"$f":"SUMIF(BDD!$BI$2:$BI$3,\"Banc P2FAUXFAUXVRAIFAUXFAUXFAUXVRAI\",BDD!$Z$2:$Z$3)","v":0},{"$f":"SUMIF(BDD!$BI$2:$BI$3,\"Banc P2FAUXFAUXFAUXVRAIVRAIFAUXFAUX\",BDD!$Z$2:$Z$3)","v":0},{"$f":"SUMIF(BDD!$BI$2:$BI$3,\"Banc P2FAUXFAUXFAUXVRAIFAUXVRAIFAUX\",BDD!$Z$2:$Z$3)","v":0},{"$f":"SUMIF(BDD!$BI$2:$BI$3,\"Banc P2FAUXFAUXFAUXVRAIFAUXFAUXVRAI\",BDD!$Z$2:$Z$3)","v":0},{"$f":"SUMIF(BDD!$BI$2:$BI$3,\"Banc P2FAUXFAUXVRAIFAUXVRAIFAUXFAUX\",BDD!$Z$2:$Z$3)","v":0},{"$f":"SUMIF(BDD!$BI$2:$BI$3,\"Banc P2FAUXFAUXVRAIFAUXFAUXVRAIFAUX\",BDD!$Z$2:$Z$3)","v":0},{"$f":"SUMIF(BDD!$BI$2:$BI$3,\"Banc P2FAUXFAUXVRAIFAUXFAUXFAUXVRAI\",BDD!$Z$2:$Z$3)","v":0},{"$f":"SUMIF(BDD!$BI$2:$BI$3,\"Banc P2FAUXFAUXFAUXVRAIVRAIFAUXFAUX\",BDD!$Z$2:$Z$3)","v":0},{"$f":"SUMIF(BDD!$BI$2:$BI$3,\"Banc P2FAUXFAUXFAUXVRAIFAUXVRAIFAUX\",BDD!$Z$2:$Z$3)","v":0},{"$f":"SUMIF(BDD!$BI$2:$BI$3,\"Banc P2FAUXFAUXFAUXVRAIFAUXFAUXVRAI\",BDD!$Z$2:$Z$3)","v":0},{"$f":"SUMIF(BDD!$BI$2:$BI$3,\"Banc P2FAUXFAUXVRAIFAUXVRAIFAUXFAUX\",BDD!$Z$2:$Z$3)","v":0},{"$f":"SUMIF(BDD!$BI$2:$BI$3,\"Banc P2FAUXFAUXVRAIFAUXFAUXVRAIFAUX\",BDD!$Z$2:$Z$3)","v":0},{"$f":"SUMIF(BDD!$BI$2:$BI$3,\"Banc P2FAUXFAUXVRAIFAUXFAUXFAUXVRAI\",BDD!$Z$2:$Z$3)","v":0},{"$f":"SUMIF(BDD!$BI$2:$BI$3,\"Banc P2FAUXFAUXFAUXVRAIVRAIFAUXFAUX\",BDD!$Z$2:$Z$3)","v":0},{"$f":"SUMIF(BDD!$BI$2:$BI$3,\"Banc P2FAUXFAUXFAUXVRAIFAUXVRAIFAUX\",BDD!$Z$2:$Z$3)","v":0},{"$f":"SUMIF(BDD!$BI$2:$BI$3,\"Banc P2FAUXFAUXFAUXVRAIFAUXFAUXVRAI\",BDD!$Z$2:$Z$3)","v":0},{"$f":"SUMIF(BDD!$BI$2:$BI$3,\"Banc P2FAUXFAUXVRAIFAUXVRAIFAUXFAUX\",BDD!$Z$2:$Z$3)","v":0},{"$f":"SUMIF(BDD!$BI$2:$BI$3,\"Banc P2FAUXFAUXVRAIFAUXFAUXVRAIFAUX\",BDD!$Z$2:$Z$3)","v":0},{"$f":"SUMIF(BDD!$BI$2:$BI$3,\"Banc P2FAUXFAUXVRAIFAUXFAUXFAUXVRAI\",BDD!$Z$2:$Z$3)","v":0},{"$f":"SUMIF(BDD!$BI$2:$BI$3,\"Banc P2FAUXFAUXFAUXVRAIVRAIFAUXFAUX\",BDD!$Z$2:$Z$3)","v":0},{"$f":"SUMIF(BDD!$BI$2:$BI$3,\"Banc P2FAUXFAUXFAUXVRAIFAUXVRAIFAUX\",BDD!$Z$2:$Z$3)","v":0},{"$f":"SUMIF(BDD!$BI$2:$BI$3,\"Banc P2FAUXFAUXFAUXVRAIFAUXFAUXVRAI\",BDD!$Z$2:$Z$3)","v":0},{"$f":"SUMIF(BDD!$BI$2:$BI$3,\"Banc P2FAUXFAUXVRAIFAUXVRAIFAUXFAUX\",BDD!$Z$2:$Z$3)","v":0},{"$f":"SUMIF(BDD!$BI$2:$BI$3,\"Banc P2FAUXFAUXVRAIFAUXFAUXVRAIFAUX\",BDD!$Z$2:$Z$3)","v":0},{"$f":"SUMIF(BDD!$BI$2:$BI$3,\"Banc P2FAUXFAUXVRAIFAUXFAUXFAUXVRAI\",BDD!$Z$2:$Z$3)","v":0},{"$f":"SUMIF(BDD!$BI$2:$BI$3,\"Banc P2FAUXFAUXFAUXVRAIVRAIFAUXFAUX\",BDD!$Z$2:$Z$3)","v":0},{"$f":"SUMIF(BDD!$BI$2:$BI$3,\"Banc P2FAUXFAUXFAUXVRAIFAUXVRAIFAUX\",BDD!$Z$2:$Z$3)","v":0},{"$f":"SUMIF(BDD!$BI$2:$BI$3,\"Banc P2FAUXFAUXFAUXVRAIFAUXFAUXVRAI\",BDD!$Z$2:$Z$3)","v":0},{"$f":"SUMIF(BDD!$BI$2:$BI$3,\"Banc P2FAUXFAUXVRAIFAUXVRAIFAUXFAUX\",BDD!$Z$2:$Z$3)","v":0},{"$f":"SUMIF(BDD!$BI$2:$BI$3,\"Banc P2FAUXFAUXVRAIFAUXFAUXVRAIFAUX\",BDD!$Z$2:$Z$3)","v":0},{"$f":"SUMIF(BDD!$BI$2:$BI$3,\"Banc P2FAUXFAUXVRAIFAUXFAUXFAUXVRAI\",BDD!$Z$2:$Z$3)","v":0},{"$f":"SUMIF(BDD!$BI$2:$BI$3,\"Banc P2FAUXFAUXFAUXVRAIVRAIFAUXFAUX\",BDD!$Z$2:$Z$3)","v":0},{"$f":"SUMIF(BDD!$BI$2:$BI$3,\"Banc P2FAUXFAUXFAUXVRAIFAUXVRAIFAUX\",BDD!$Z$2:$Z$3)","v":0},{"$f":"SUMIF(BDD!$BI$2:$BI$3,\"Banc P2FAUXFAUXFAUXVRAIFAUXFAUXVRAI\",BDD!$Z$2:$Z$3)","v":0}]
["Banc 156",{"$f":"SUMIF(BDD!$BI$2:$BI$3,\"Banc 156FAUXFAUXVRAIFAUXVRAIFAUXFAUX\",BDD!$Z$2:$Z$3)","v":0},{"$f":"SUMIF(BDD!$BI$2:$BI$3,\"Banc 156FAUXFAUXVRAIFAUXFAUXVRAIFAUX\",BDD!$Z$2:$Z$3)","v":0},{"$f":"SUMIF(BDD!$BI$2:$BI$3,\"Banc 156FAUXFAUXVRAIFAUXFAUXFAUXVRAI\",BDD!$Z$2:$Z$3)","v":0},{"$f":"SUMIF(BDD!$BI$2:$BI$3,\"Banc 156FAUXFAUXFAUXVRAIVRAIFAUXFAUX\",BDD!$Z$2:$Z$3)","v":0},{"$f":"SUMIF(BDD!$BI$2:$BI$3,\"Banc 156FAUXFAUXFAUXVRAIFAUXVRAIFAUX\",BDD!$Z$2:$Z$3)","v":0},{"$f":"SUMIF(BDD!$BI$2:$BI$3,\"Banc 156FAUXFAUXFAUXVRAIFAUXFAUXVRAI\",BDD!$Z$2:$Z$3)","v":0},{"$f":"SUMIF(BDD!$BI$2:$BI$3,\"Banc 156FAUXFAUXVRAIFAUXVRAIFAUXFAUX\",BDD!$Z$2:$Z$3)","v":0},{"$f":"SUMIF(BDD!$BI$2:$BI$3,\"Banc 156FAUXFAUXVRAIFAUXFAUXVRAIFAUX\",BDD!$Z$2:$Z$3)","v":0},{"$f":"SUMIF(BDD!$BI$2:$BI$3,\"Banc 156FAUXFAUXVRAIFAUXFAUXFAUXVRAI\",BDD!$Z$2:$Z$3)","v":0},{"$f":"SUMIF(BDD!$BI$2:$BI$3,\"Banc 156FAUXFAUXFAUXVRAIVRAIFAUXFAUX\",BDD!$Z$2:$Z$3)","v":0},{"$f":"SUMIF(BDD!$BI$2:$BI$3,\"Banc 156FAUXFAUXFAUXVRAIFAUXVRAIFAUX\",BDD!$Z$2:$Z$3)","v":0},{"$f":"SUMIF(BDD!$BI$2:$BI$3,\"Banc 156FAUXFAUXFAUXVRAIFAUXFAUXVRAI\",BDD!$Z$2:$Z$3)","v":0},{"$f":"SUMIF(BDD!$BI$2:$BI$24,\"Banc 156FAUXFAUXVRAIFAUXVRAIFAUXFAUX\",BDD!$Z$2:$Z$24)","v":0},{"$f":"SUMIF(BDD!$BI$2:$BI$24,\"Banc 156FAUXFAUXVRAIFAUXFAUXVRAIFAUX\",BDD!$Z$2:$Z$24)","v":0},{"$f":"SUMIF(BDD!$BI$2:$BI$24,\"Banc 156FAUXFAUXVRAIFAUXFAUXFAUXVRAI\",BDD!$Z$2:$Z$24)","v":0},{"$f":"SUMIF(BDD!$BI$2:$BI$24,\"Banc 156FAUXFAUXFAUXVRAIVRAIFAUXFAUX\",BDD!$Z$2:$Z$24)","v":0},{"$f":"SUMIF(BDD!$BI$2:$BI$24,\"Banc 156FAUXFAUXFAUXVRAIFAUXVRAIFAUX\",BDD!$Z$2:$Z$24)","v":0},{"$f":"SUMIF(BDD!$BI$2:$BI$24,\"Banc 156FAUXFAUXFAUXVRAIFAUXFAUXVRAI\",BDD!$Z$2:$Z$24)","v":0},{"$f":"SUMIF(BDD!$BI$26:$BI$599,\"Banc 156VRAIFAUXVRAIFAUXFAUX\",BDD!$Z$26:$Z$599)","v":0},{"$f":"SUMIF(BDD!$BI$26:$BI$599,\"Banc 156VRAIFAUXFAUXVRAIFAUX\",BDD!$Z$26:$Z$599)","v":0},{"$f":"SUMIF(BDD!$BI$26:$BI$599,\"Banc 156VRAIFAUXFAUXFAUXVRAI\",BDD!$Z$26:$Z$599)","v":0},{"$f":"SUMIF(BDD!$BI$26:$BI$599,\"Banc 156FAUXVRAIVRAIFAUXFAUX\",BDD!$Z$26:$Z$599)","v":0},{"$f":"SUMIF(BDD!$BI$26:$BI$599,\"Banc 156FAUXVRAIFAUXVRAIFAUX\",BDD!$Z$26:$Z$599)","v":0},{"$f":"SUMIF(BDD!$BI$26:$BI$599,\"Banc 156FAUXVRAIFAUXFAUXVRAI\",BDD!$Z$26:$Z$599)","v":0},{"$f":"SUMIF(BDD!$BI$2:$BI$3,\"Banc 156FAUXFAUXVRAIFAUXVRAIFAUXFAUX\",BDD!$Z$2:$Z$3)","v":0},{"$f":"SUMIF(BDD!$BI$2:$BI$3,\"Banc 156FAUXFAUXVRAIFAUXFAUXVRAIFAUX\",BDD!$Z$2:$Z$3)","v":0},{"$f":"SUMIF(BDD!$BI$2:$BI$3,\"Banc 156FAUXFAUXVRAIFAUXFAUXFAUXVRAI\",BDD!$Z$2:$Z$3)","v":0},{"$f":"SUMIF(BDD!$BI$2:$BI$3,\"Banc 156FAUXFAUXFAUXVRAIVRAIFAUXFAUX\",BDD!$Z$2:$Z$3)","v":0},{"$f":"SUMIF(BDD!$BI$2:$BI$3,\"Banc 156FAUXFAUXFAUXVRAIFAUXVRAIFAUX\",BDD!$Z$2:$Z$3)","v":0},{"$f":"SUMIF(BDD!$BI$2:$BI$3,\"Banc 156FAUXFAUXFAUXVRAIFAUXFAUXVRAI\",BDD!$Z$2:$Z$3)","v":0},{"$f":"SUMIF(BDD!$BI$2:$BI$3,\"Banc 156FAUXFAUXVRAIFAUXVRAIFAUXFAUX\",BDD!$Z$2:$Z$3)","v":0},{"$f":"SUMIF(BDD!$BI$2:$BI$3,\"Banc 156FAUXFAUXVRAIFAUXFAUXVRAIFAUX\",BDD!$Z$2:$Z$3)","v":0},{"$f":"SUMIF(BDD!$BI$2:$BI$3,\"Banc 156FAUXFAUXVRAIFAUXFAUXFAUXVRAI\",BDD!$Z$2:$Z$3)","v":0},{"$f":"SUMIF(BDD!$BI$2:$BI$3,\"Banc 156FAUXFAUXFAUXVRAIVRAIFAUXFAUX\",BDD!$Z$2:$Z$3)","v":0},{"$f":"SUMIF(BDD!$BI$2:$BI$3,\"Banc 156FAUXFAUXFAUXVRAIFAUXVRAIFAUX\",BDD!$Z$2:$Z$3)","v":0},{"$f":"SUMIF(BDD!$BI$2:$BI$3,\"Banc 156FAUXFAUXFAUXVRAIFAUXFAUXVRAI\",BDD!$Z$2:$Z$3)","v":0},{"$f":"SUMIF(BDD!$BI$2:$BI$3,\"Banc 156FAUXFAUXVRAIFAUXVRAIFAUXFAUX\",BDD!$Z$2:$Z$3)","v":0},{"$f":"SUMIF(BDD!$BI$2:$BI$3,\"Banc 156FAUXFAUXVRAIFAUXFAUXVRAIFAUX\",BDD!$Z$2:$Z$3)","v":0},{"$f":"SUMIF(BDD!$BI$2:$BI$3,\"Banc 156FAUXFAUXVRAIFAUXFAUXFAUXVRAI\",BDD!$Z$2:$Z$3)","v":0},{"$f":"SUMIF(BDD!$BI$2:$BI$3,\"Banc 156FAUXFAUXFAUXVRAIVRAIFAUXFAUX\",BDD!$Z$2:$Z$3)","v":0},{"$f":"SUMIF(BDD!$BI$2:$BI$3,\"Banc 156FAUXFAUXFAUXVRAIFAUXVRAIFAUX\",BDD!$Z$2:$Z$3)","v":0},{"$f":"SUMIF(BDD!$BI$2:$BI$3,\"Banc 156FAUXFAUXFAUXVRAIFAUXFAUXVRAI\",BDD!$Z$2:$Z$3)","v":0},{"$f":"SUMIF(BDD!$BI$2:$BI$3,\"Banc 156FAUXFAUXVRAIFAUXVRAIFAUXFAUX\",BDD!$Z$2:$Z$3)","v":0},{"$f":"SUMIF(BDD!$BI$2:$BI$3,\"Banc 156FAUXFAUXVRAIFAUXFAUXVRAIFAUX\",BDD!$Z$2:$Z$3)","v":0},{"$f":"SUMIF(BDD!$BI$2:$BI$3,\"Banc 156FAUXFAUXVRAIFAUXFAUXFAUXVRAI\",BDD!$Z$2:$Z$3)","v":0},{"$f":"SUMIF(BDD!$BI$2:$BI$3,\"Banc 156FAUXFAUXFAUXVRAIVRAIFAUXFAUX\",BDD!$Z$2:$Z$3)","v":0},{"$f":"SUMIF(BDD!$BI$2:$BI$3,\"Banc 156FAUXFAUXFAUXVRAIFAUXVRAIFAUX\",BDD!$Z$2:$Z$3)","v":0},{"$f":"SUMIF(BDD!$BI$2:$BI$3,\"Banc 156FAUXFAUXFAUXVRAIFAUXFAUXVRAI\",BDD!$Z$2:$Z$3)","v":0},{"$f":"SUMIF(BDD!$BI$2:$BI$3,\"Banc 156FAUXFAUXVRAIFAUXVRAIFAUXFAUX\",BDD!$Z$2:$Z$3)","v":0},{"$f":"SUMIF(BDD!$BI$2:$BI$3,\"Banc 156FAUXFAUXVRAIFAUXFAUXVRAIFAUX\",BDD!$Z$2:$Z$3)","v":0},{"$f":"SUMIF(BDD!$BI$2:$BI$3,\"Banc 156FAUXFAUXVRAIFAUXFAUXFAUXVRAI\",BDD!$Z$2:$Z$3)","v":0},{"$f":"SUMIF(BDD!$BI$2:$BI$3,\"Banc 156FAUXFAUXFAUXVRAIVRAIFAUXFAUX\",BDD!$Z$2:$Z$3)","v":0},{"$f":"SUMIF(BDD!$BI$2:$BI$3,\"Banc 156FAUXFAUXFAUXVRAIFAUXVRAIFAUX\",BDD!$Z$2:$Z$3)","v":0},{"$f":"SUMIF(BDD!$BI$2:$BI$3,\"Banc 156FAUXFAUXFAUXVRAIFAUXFAUXVRAI\",BDD!$Z$2:$Z$3)","v":0},{"$f":"SUMIF(BDD!$BI$2:$BI$3,\"Banc 156FAUXFAUXVRAIFAUXVRAIFAUXFAUX\",BDD!$Z$2:$Z$3)","v":0},{"$f":"SUMIF(BDD!$BI$2:$BI$3,\"Banc 156FAUXFAUXVRAIFAUXFAUXVRAIFAUX\",BDD!$Z$2:$Z$3)","v":0},{"$f":"SUMIF(BDD!$BI$2:$BI$3,\"Banc 156FAUXFAUXVRAIFAUXFAUXFAUXVRAI\",BDD!$Z$2:$Z$3)","v":0},{"$f":"SUMIF(BDD!$BI$2:$BI$3,\"Banc 156FAUXFAUXFAUXVRAIVRAIFAUXFAUX\",BDD!$Z$2:$Z$3)","v":0},{"$f":"SUMIF(BDD!$BI$2:$BI$3,\"Banc 156FAUXFAUXFAUXVRAIFAUXVRAIFAUX\",BDD!$Z$2:$Z$3)","v":0},{"$f":"SUMIF(BDD!$BI$2:$BI$3,\"Banc 156FAUXFAUXFAUXVRAIFAUXFAUXVRAI\",BDD!$Z$2:$Z$3)","v":0},{"$f":"SUMIF(BDD!$BI$2:$BI$3,\"Banc 156FAUXFAUXVRAIFAUXVRAIFAUXFAUX\",BDD!$Z$2:$Z$3)","v":0},{"$f":"SUMIF(BDD!$BI$2:$BI$3,\"Banc 156FAUXFAUXVRAIFAUXFAUXVRAIFAUX\",BDD!$Z$2:$Z$3)","v":0},{"$f":"SUMIF(BDD!$BI$2:$BI$3,\"Banc 156FAUXFAUXVRAIFAUXFAUXFAUXVRAI\",BDD!$Z$2:$Z$3)","v":0},{"$f":"SUMIF(BDD!$BI$2:$BI$3,\"Banc 156FAUXFAUXFAUXVRAIVRAIFAUXFAUX\",BDD!$Z$2:$Z$3)","v":0},{"$f":"SUMIF(BDD!$BI$2:$BI$3,\"Banc 156FAUXFAUXFAUXVRAIFAUXVRAIFAUX\",BDD!$Z$2:$Z$3)","v":0},{"$f":"SUMIF(BDD!$BI$2:$BI$3,\"Banc 156FAUXFAUXFAUXVRAIFAUXFAUXVRAI\",BDD!$Z$2:$Z$3)","v":0},{"$f":"SUMIF(BDD!$BI$2:$BI$3,\"Banc 156FAUXFAUXVRAIFAUXVRAIFAUXFAUX\",BDD!$Z$2:$Z$3)","v":0},{"$f":"SUMIF(BDD!$BI$2:$BI$3,\"Banc 156FAUXFAUXVRAIFAUXFAUXVRAIFAUX\",BDD!$Z$2:$Z$3)","v":0},{"$f":"SUMIF(BDD!$BI$2:$BI$3,\"Banc 156FAUXFAUXVRAIFAUXFAUXFAUXVRAI\",BDD!$Z$2:$Z$3)","v":0},{"$f":"SUMIF(BDD!$BI$2:$BI$3,\"Banc 156FAUXFAUXFAUXVRAIVRAIFAUXFAUX\",BDD!$Z$2:$Z$3)","v":0},{"$f":"SUMIF(BDD!$BI$2:$BI$3,\"Banc 156FAUXFAUXFAUXVRAIFAUXVRAIFAUX\",BDD!$Z$2:$Z$3)","v":0},{"$f":"SUMIF(BDD!$BI$2:$BI$3,\"Banc 156FAUXFAUXFAUXVRAIFAUXFAUXVRAI\",BDD!$Z$2:$Z$3)","v":0}]
["Chambre Froide",{"$f":"SUMIF(BDD!$BI$2:$BI$3,\"Chambre FroideFAUXFAUXVRAIFAUXVRAIFAUXFAUX\",BDD!$Z$2:$Z$3)","v":0},{"$f":"SUMIF(BDD!$BI$2:$BI$3,\"Chambre FroideFAUXFAUXVRAIFAUXFAUXVRAIFAUX\",BDD!$Z$2:$Z$3)","v":0},{"$f":"SUMIF(BDD!$BI$2:$BI$3,\"Chambre FroideFAUXFAUXVRAIFAUXFAUXFAUXVRAI\",BDD!$Z$2:$Z$3)","v":0},{"$f":"SUMIF(BDD!$BI$2:$BI$3,\"Chambre FroideFAUXFAUXFAUXVRAIVRAIFAUXFAUX\",BDD!$Z$2:$Z$3)","v":0},{"$f":"SUMIF(BDD!$BI$2:$BI$3,\"Chambre FroideFAUXFAUXFAUXVRAIFAUXVRAIFAUX\",BDD!$Z$2:$Z$3)","v":0},{"$f":"SUMIF(BDD!$BI$2:$BI$3,\"Chambre FroideFAUXFAUXFAUXVRAIFAUXFAUXVRAI\",BDD!$Z$2:$Z$3)","v":0},{"$f":"SUMIF(BDD!$BI$2:$BI$3,\"Chambre FroideFAUXFAUXVRAIFAUXVRAIFAUXFAUX\",BDD!$Z$2:$Z$3)","v":0},{"$f":"SUMIF(BDD!$BI$2:$BI$3,\"Chambre FroideFAUXFAUXVRAIFAUXFAUXVRAIFAUX\",BDD!$Z$2:$Z$3)","v":0},{"$f":"SUMIF(BDD!$BI$2:$BI$3,\"Chambre FroideFAUXFAUXVRAIFAUXFAUXFAUXVRAI\",BDD!$Z$2:$Z$3)","v":0},{"$f":"SUMIF(BDD!$BI$2:$BI$3,\"Chambre FroideFAUXFAUXFAUXVRAIVRAIFAUXFAUX\",BDD!$Z$2:$Z$3)","v":0},{"$f":"SUMIF(BDD!$BI$2:$BI$3,\"Chambre FroideFAUXFAUXFAUXVRAIFAUXVRAIFAUX\",BDD!$Z$2:$Z$3)","v":0},{"$f":"SUMIF(BDD!$BI$2:$BI$3,\"Chambre FroideFAUXFAUXFAUXVRAIFAUXFAUXVRAI\",BDD!$Z$2:$Z$3)","v":0},{"$f":"SUMIF(BDD!$BI$2:$BI$24,\"Chambre FroideFAUXFAUXVRAIFAUXVRAIFAUXFAUX\",BDD!$Z$2:$Z$24)","v":0},{"$f":"SUMIF(BDD!$BI$2:$BI$24,\"Chambre FroideFAUXFAUXVRAIFAUXFAUXVRAIFAUX\",BDD!$Z$2:$Z$24)","v":0},{"$f":"SUMIF(BDD!$BI$2:$BI$24,\"Chambre FroideFAUXFAUXVRAIFAUXFAUXFAUXVRAI\",BDD!$Z$2:$Z$24)","v":0},{"$f":"SUMIF(BDD!$BI$2:$BI$24,\"Chambre FroideFAUXFAUXFAUXVRAIVRAIFAUXFAUX\",BDD!$Z$2:$Z$24)","v":0},{"$f":"SUMIF(BDD!$BI$2:$BI$24,\"Chambre FroideFAUXFAUXFAUXVRAIFAUXVRAIFAUX\",BDD!$Z$2:$Z$24)","v":0},{"$f":"SUMIF(BDD!$BI$2:$BI$24,\"Chambre FroideFAUXFAUXFAUXVRAIFAUXFAUXVRAI\",BDD!$Z$2:$Z$24)","v":0},{"$f":"SUMIF(BDD!$BI$26:$BI$599,\"Chambre FroideVRAIFAUXVRAIFAUXFAUX\",BDD!$Z$26:$Z$599)","v":0},{"$f":"SUMIF(BDD!$BI$26:$BI$599,\"Chambre FroideVRAIFAUXFAUXVRAIFAUX\",BDD!$Z$26:$Z$599)","v":0},{"$f":"SUMIF(BDD!$BI$26:$BI$599,\"Chambre FroideVRAIFAUXFAUXFAUXVRAI\",BDD!$Z$26:$Z$599)","v":0},{"$f":"SUMIF(BDD!$BI$26:$BI$599,\"Chambre FroideFAUXVRAIVRAIFAUXFAUX\",BDD!$Z$26:$Z$599)","v":0},{"$f":"SUMIF(BDD!$BI$26:$BI$599,\"Chambre FroideFAUXVRAIFAUXVRAIFAUX\",BDD!$Z$26:$Z$599)","v":0},{"$f":"SUMIF(BDD!$BI$26:$BI$599,\"Chambre FroideFAUXVRAIFAUXFAUXVRAI\",BDD!$Z$26:$Z$599)","v":0},{"$f":"SUMIF(BDD!$BI$2:$BI$3,\"Chambre FroideFAUXFAUXVRAIFAUXVRAIFAUXFAUX\",BDD!$Z$2:$Z$3)","v":0},{"$f":"SUMIF(BDD!$BI$2:$BI$3,\"Chambre FroideFAUXFAUXVRAIFAUXFAUXVRAIFAUX\",BDD!$Z$2:$Z$3)","v":0},{"$f":"SUMIF(BDD!$BI$2:$BI$3,\"Chambre FroideFAUXFAUXVRAIFAUXFAUXFAUXVRAI\",BDD!$Z$2:$Z$3)","v":0},{"$f":"SUMIF(BDD!$BI$2:$BI$3,\"Chambre FroideFAUXFAUXFAUXVRAIVRAIFAUXFAUX\",BDD!$Z$2:$Z$3)","v":0},{"$f":"SUMIF(BDD!$BI$2:$BI$3,\"Chambre FroideFAUXFAUXFAUXVRAIFAUXVRAIFAUX\",BDD!$Z$2:$Z$3)","v":0},{"$f":"SUMIF(BDD!$BI$2:$BI$3,\"Chambre FroideFAUXFAUXFAUXVRAIFAUXFAUXVRAI\",BDD!$Z$2:$Z$3)","v":0},{"$f":"SUMIF(BDD!$BI$2:$BI$3,\"Chambre FroideFAUXFAUXVRAIFAUXVRAIFAUXFAUX\",BDD!$Z$2:$Z$3)","v":0},{"$f":"SUMIF(BDD!$BI$2:$BI$3,\"Chambre FroideFAUXFAUXVRAIFAUXFAUXVRAIFAUX\",BDD!$Z$2:$Z$3)","v":0},{"$f":"SUMIF(BDD!$BI$2:$BI$3,\"Chambre FroideFAUXFAUXVRAIFAUXFAUXFAUXVRAI\",BDD!$Z$2:$Z$3)","v":0},{"$f":"SUMIF(BDD!$BI$2:$BI$3,\"Chambre FroideFAUXFAUXFAUXVRAIVRAIFAUXFAUX\",BDD!$Z$2:$Z$3)","v":0},{"$f":"SUMIF(BDD!$BI$2:$BI$3,\"Chambre FroideFAUXFAUXFAUXVRAIFAUXVRAIFAUX\",BDD!$Z$2:$Z$3)","v":0},{"$f":"SUMIF(BDD!$BI$2:$BI$3,\"Chambre FroideFAUXFAUXFAUXVRAIFAUXFAUXVRAI\",BDD!$Z$2:$Z$3)","v":0},{"$f":"SUMIF(BDD!$BI$2:$BI$3,\"Chambre FroideFAUXFAUXVRAIFAUXVRAIFAUXFAUX\",BDD!$Z$2:$Z$3)","v":0},{"$f":"SUMIF(BDD!$BI$2:$BI$3,\"Chambre FroideFAUXFAUXVRAIFAUXFAUXVRAIFAUX\",BDD!$Z$2:$Z$3)","v":0},{"$f":"SUMIF(BDD!$BI$2:$BI$3,\"Chambre FroideFAUXFAUXVRAIFAUXFAUXFAUXVRAI\",BDD!$Z$2:$Z$3)","v":0},{"$f":"SUMIF(BDD!$BI$2:$BI$3,\"Chambre FroideFAUXFAUXFAUXVRAIVRAIFAUXFAUX\",BDD!$Z$2:$Z$3)","v":0},{"$f":"SUMIF(BDD!$BI$2:$BI$3,\"Chambre FroideFAUXFAUXFAUXVRAIFAUXVRAIFAUX\",BDD!$Z$2:$Z$3)","v":0},{"$f":"SUMIF(BDD!$BI$2:$BI$3,\"Chambre FroideFAUXFAUXFAUXVRAIFAUXFAUXVRAI\",BDD!$Z$2:$Z$3)","v":0},{"$f":"SUMIF(BDD!$BI$2:$BI$3,\"Chambre FroideFAUXFAUXVRAIFAUXVRAIFAUXFAUX\",BDD!$Z$2:$Z$3)","v":0},{"$f":"SUMIF(BDD!$BI$2:$BI$3,\"Chambre FroideFAUXFAUXVRAIFAUXFAUXVRAIFAUX\",BDD!$Z$2:$Z$3)","v":0},{"$f":"SUMIF(BDD!$BI$2:$BI$3,\"Chambre FroideFAUXFAUXVRAIFAUXFAUXFAUXVRAI\",BDD!$Z$2:$Z$3)","v":0},{"$f":"SUMIF(BDD!$BI$2:$BI$3,\"Chambre FroideFAUXFAUXFAUXVRAIVRAIFAUXFAUX\",BDD!$Z$2:$Z$3)","v":0},{"$f":"SUMIF(BDD!$BI$2:$BI$3,\"Chambre FroideFAUXFAUXFAUXVRAIFAUXVRAIFAUX\",BDD!$Z$2:$Z$3)","v":0},{"$f":"SUMIF(BDD!$BI$2:$BI$3,\"Chambre FroideFAUXFAUXFAUXVRAIFAUXFAUXVRAI\",BDD!$Z$2:$Z$3)","v":0},{"$f":"SUMIF(BDD!$BI$2:$BI$3,\"Chambre FroideFAUXFAUXVRAIFAUXVRAIFAUXFAUX\",BDD!$Z$2:$Z$3)","v":0},{"$f":"SUMIF(BDD!$BI$2:$BI$3,\"Chambre FroideFAUXFAUXVRAIFAUXFAUXVRAIFAUX\",BDD!$Z$2:$Z$3)","v":0},{"$f":"SUMIF(BDD!$BI$2:$BI$3,\"Chambre FroideFAUXFAUXVRAIFAUXFAUXFAUXVRAI\",BDD!$Z$2:$Z$3)","v":0},{"$f":"SUMIF(BDD!$BI$2:$BI$3,\"Chambre FroideFAUXFAUXFAUXVRAIVRAIFAUXFAUX\",BDD!$Z$2:$Z$3)","v":0},{"$f":"SUMIF(BDD!$BI$2:$BI$3,\"Chambre FroideFAUXFAUXFAUXVRAIFAUXVRAIFAUX\",BDD!$Z$2:$Z$3)","v":0},{"$f":"SUMIF(BDD!$BI$2:$BI$3,\"Chambre FroideFAUXFAUXFAUXVRAIFAUXFAUXVRAI\",BDD!$Z$2:$Z$3)","v":0},{"$f":"SUMIF(BDD!$BI$2:$BI$3,\"Chambre FroideFAUXFAUXVRAIFAUXVRAIFAUXFAUX\",BDD!$Z$2:$Z$3)","v":0},{"$f":"SUMIF(BDD!$BI$2:$BI$3,\"Chambre FroideFAUXFAUXVRAIFAUXFAUXVRAIFAUX\",BDD!$Z$2:$Z$3)","v":0},{"$f":"SUMIF(BDD!$BI$2:$BI$3,\"Chambre FroideFAUXFAUXVRAIFAUXFAUXFAUXVRAI\",BDD!$Z$2:$Z$3)","v":0},{"$f":"SUMIF(BDD!$BI$2:$BI$3,\"Chambre FroideFAUXFAUXFAUXVRAIVRAIFAUXFAUX\",BDD!$Z$2:$Z$3)","v":0},{"$f":"SUMIF(BDD!$BI$2:$BI$3,\"Chambre FroideFAUXFAUXFAUXVRAIFAUXVRAIFAUX\",BDD!$Z$2:$Z$3)","v":0},{"$f":"SUMIF(BDD!$BI$2:$BI$3,\"Chambre FroideFAUXFAUXFAUXVRAIFAUXFAUXVRAI\",BDD!$Z$2:$Z$3)","v":0},{"$f":"SUMIF(BDD!$BI$2:$BI$3,\"Chambre FroideFAUXFAUXVRAIFAUXVRAIFAUXFAUX\",BDD!$Z$2:$Z$3)","v":0},{"$f":"SUMIF(BDD!$BI$2:$BI$3,\"Chambre FroideFAUXFAUXVRAIFAUXFAUXVRAIFAUX\",BDD!$Z$2:$Z$3)","v":0},{"$f":"SUMIF(BDD!$BI$2:$BI$3,\"Chambre FroideFAUXFAUXVRAIFAUXFAUXFAUXVRAI\",BDD!$Z$2:$Z$3)","v":0},{"$f":"SUMIF(BDD!$BI$2:$BI$3,\"Chambre FroideFAUXFAUXFAUXVRAIVRAIFAUXFAUX\",BDD!$Z$2:$Z$3)","v":0},{"$f":"SUMIF(BDD!$BI$2:$BI$3,\"Chambre FroideFAUXFAUXFAUXVRAIFAUXVRAIFAUX\",BDD!$Z$2:$Z$3)","v":0},{"$f":"SUMIF(BDD!$BI$2:$BI$3,\"Chambre FroideFAUXFAUXFAUXVRAIFAUXFAUXVRAI\",BDD!$Z$2:$Z$3)","v":0},{"$f":"SUMIF(BDD!$BI$2:$BI$3,\"Chambre FroideFAUXFAUXVRAIFAUXVRAIFAUXFAUX\",BDD!$Z$2:$Z$3)","v":0},{"$f":"SUMIF(BDD!$BI$2:$BI$3,\"Chambre FroideFAUXFAUXVRAIFAUXFAUXVRAIFAUX\",BDD!$Z$2:$Z$3)","v":0},{"$f":"SUMIF(BDD!$BI$2:$BI$3,\"Chambre FroideFAUXFAUXVRAIFAUXFAUXFAUXVRAI\",BDD!$Z$2:$Z$3)","v":0},{"$f":"SUMIF(BDD!$BI$2:$BI$3,\"Chambre FroideFAUXFAUXFAUXVRAIVRAIFAUXFAUX\",BDD!$Z$2:$Z$3)","v":0},{"$f":"SUMIF(BDD!$BI$2:$BI$3,\"Chambre FroideFAUXFAUXFAUXVRAIFAUXVRAIFAUX\",BDD!$Z$2:$Z$3)","v":0},{"$f":"SUMIF(BDD!$BI$2:$BI$3,\"Chambre FroideFAUXFAUXFAUXVRAIFAUXFAUXVRAI\",BDD!$Z$2:$Z$3)","v":0}]
["Chambre Sourde",{"$f":"SUMIF(BDD!$BI$2:$BI$3,\"Chambre SourdeFAUXFAUXVRAIFAUXVRAIFAUXFAUX\",BDD!$Z$2:$Z$3)","v":0},{"$f":"SUMIF(BDD!$BI$2:$BI$3,\"Chambre SourdeFAUXFAUXVRAIFAUXFAUXVRAIFAUX\",BDD!$Z$2:$Z$3)","v":0},{"$f":"SUMIF(BDD!$BI$2:$BI$3,\"Chambre SourdeFAUXFAUXVRAIFAUXFAUXFAUXVRAI\",BDD!$Z$2:$Z$3)","v":0},{"$f":"SUMIF(BDD!$BI$2:$BI$3,\"Chambre SourdeFAUXFAUXFAUXVRAIVRAIFAUXFAUX\",BDD!$Z$2:$Z$3)","v":0},{"$f":"SUMIF(BDD!$BI$2:$BI$3,\"Chambre SourdeFAUXFAUXFAUXVRAIFAUXVRAIFAUX\",BDD!$Z$2:$Z$3)","v":0},{"$f":"SUMIF(BDD!$BI$2:$BI$3,\"Chambre SourdeFAUXFAUXFAUXVRAIFAUXFAUXVRAI\",BDD!$Z$2:$Z$3)","v":0},{"$f":"SUMIF(BDD!$BI$2:$BI$3,\"Chambre SourdeFAUXFAUXVRAIFAUXVRAIFAUXFAUX\",BDD!$Z$2:$Z$3)","v":0},{"$f":"SUMIF(BDD!$BI$2:$BI$3,\"Chambre SourdeFAUXFAUXVRAIFAUXFAUXVRAIFAUX\",BDD!$Z$2:$Z$3)","v":0},{"$f":"SUMIF(BDD!$BI$2:$BI$3,\"Chambre SourdeFAUXFAUXVRAIFAUXFAUXFAUXVRAI\",BDD!$Z$2:$Z$3)","v":0},{"$f":"SUMIF(BDD!$BI$2:$BI$3,\"Chambre SourdeFAUXFAUXFAUXVRAIVRAIFAUXFAUX\",BDD!$Z$2:$Z$3)","v":0},{"$f":"SUMIF(BDD!$BI$2:$BI$3,\"Chambre SourdeFAUXFAUXFAUXVRAIFAUXVRAIFAUX\",BDD!$Z$2:$Z$3)","v":0},{"$f":"SUMIF(BDD!$BI$2:$BI$3,\"Chambre SourdeFAUXFAUXFAUXVRAIFAUXFAUXVRAI\",BDD!$Z$2:$Z$3)","v":0},{"$f":"SUMIF(BDD!$BI$2:$BI$24,\"Chambre SourdeFAUXFAUXVRAIFAUXVRAIFAUXFAUX\",BDD!$Z$2:$Z$24)","v":0},{"$f":"SUMIF(BDD!$BI$2:$BI$24,\"Chambre SourdeFAUXFAUXVRAIFAUXFAUXVRAIFAUX\",BDD!$Z$2:$Z$24)","v":0},{"$f":"SUMIF(BDD!$BI$2:$BI$24,\"Chambre SourdeFAUXFAUXVRAIFAUXFAUXFAUXVRAI\",BDD!$Z$2:$Z$24)","v":0},{"$f":"SUMIF(BDD!$BI$2:$BI$24,\"Chambre SourdeFAUXFAUXFAUXVRAIVRAIFAUXFAUX\",BDD!$Z$2:$Z$24)","v":0},{"$f":"SUMIF(BDD!$BI$2:$BI$24,\"Chambre SourdeFAUXFAUXFAUXVRAIFAUXVRAIFAUX\",BDD!$Z$2:$Z$24)","v":0},{"$f":"SUMIF(BDD!$BI$2:$BI$24,\"Chambre SourdeFAUXFAUXFAUXVRAIFAUXFAUXVRAI\",BDD!$Z$2:$Z$24)","v":0},{"$f":"SUMIF(BDD!$BI$26:$BI$599,\"Chambre SourdeVRAIFAUXVRAIFAUXFAUX\",BDD!$Z$26:$Z$599)","v":0},{"$f":"SUMIF(BDD!$BI$26:$BI$599,\"Chambre SourdeVRAIFAUXFAUXVRAIFAUX\",BDD!$Z$26:$Z$599)","v":1.5},{"$f":"SUMIF(BDD!$BI$26:$BI$599,\"Chambre SourdeVRAIFAUXFAUXFAUXVRAI\",BDD!$Z$26:$Z$599)","v":0},{"$f":"SUMIF(BDD!$BI$26:$BI$599,\"Chambre SourdeFAUXVRAIVRAIFAUXFAUX\",BDD!$Z$26:$Z$599)","v":0},{"$f":"SUMIF(BDD!$BI$26:$BI$599,\"Chambre SourdeFAUXVRAIFAUXVRAIFAUX\",BDD!$Z$26:$Z$599)","v":0},{"$f":"SUMIF(BDD!$BI$26:$BI$599,\"Chambre SourdeFAUXVRAIFAUXFAUXVRAI\",BDD!$Z$26:$Z$599)","v":0},{"$f":"SUMIF(BDD!$BI$2:$BI$3,\"Chambre SourdeFAUXFAUXVRAIFAUXVRAIFAUXFAUX\",BDD!$Z$2:$Z$3)","v":0},{"$f":"SUMIF(BDD!$BI$2:$BI$3,\"Chambre SourdeFAUXFAUXVRAIFAUXFAUXVRAIFAUX\",BDD!$Z$2:$Z$3)","v":0},{"$f":"SUMIF(BDD!$BI$2:$BI$3,\"Chambre SourdeFAUXFAUXVRAIFAUXFAUXFAUXVRAI\",BDD!$Z$2:$Z$3)","v":0},{"$f":"SUMIF(BDD!$BI$2:$BI$3,\"Chambre SourdeFAUXFAUXFAUXVRAIVRAIFAUXFAUX\",BDD!$Z$2:$Z$3)","v":0},{"$f":"SUMIF(BDD!$BI$2:$BI$3,\"Chambre SourdeFAUXFAUXFAUXVRAIFAUXVRAIFAUX\",BDD!$Z$2:$Z$3)","v":0},{"$f":"SUMIF(BDD!$BI$2:$BI$3,\"Chambre SourdeFAUXFAUXFAUXVRAIFAUXFAUXVRAI\",BDD!$Z$2:$Z$3)","v":0},{"$f":"SUMIF(BDD!$BI$2:$BI$3,\"Chambre SourdeFAUXFAUXVRAIFAUXVRAIFAUXFAUX\",BDD!$Z$2:$Z$3)","v":0},{"$f":"SUMIF(BDD!$BI$2:$BI$3,\"Chambre SourdeFAUXFAUXVRAIFAUXFAUXVRAIFAUX\",BDD!$Z$2:$Z$3)","v":0},{"$f":"SUMIF(BDD!$BI$2:$BI$3,\"Chambre SourdeFAUXFAUXVRAIFAUXFAUXFAUXVRAI\",BDD!$Z$2:$Z$3)","v":0},{"$f":"SUMIF(BDD!$BI$2:$BI$3,\"Chambre SourdeFAUXFAUXFAUXVRAIVRAIFAUXFAUX\",BDD!$Z$2:$Z$3)","v":0},{"$f":"SUMIF(BDD!$BI$2:$BI$3,\"Chambre SourdeFAUXFAUXFAUXVRAIFAUXVRAIFAUX\",BDD!$Z$2:$Z$3)","v":0},{"$f":"SUMIF(BDD!$BI$2:$BI$3,\"Chambre SourdeFAUXFAUXFAUXVRAIFAUXFAUXVRAI\",BDD!$Z$2:$Z$3)","v":0},{"$f":"SUMIF(BDD!$BI$2:$BI$3,\"Chambre SourdeFAUXFAUXVRAIFAUXVRAIFAUXFAUX\",BDD!$Z$2:$Z$3)","v":0},{"$f":"SUMIF(BDD!$BI$2:$BI$3,\"Chambre SourdeFAUXFAUXVRAIFAUXFAUXVRAIFAUX\",BDD!$Z$2:$Z$3)","v":0},{"$f":"SUMIF(BDD!$BI$2:$BI$3,\"Chambre SourdeFAUXFAUXVRAIFAUXFAUXFAUXVRAI\",BDD!$Z$2:$Z$3)","v":0},{"$f":"SUMIF(BDD!$BI$2:$BI$3,\"Chambre SourdeFAUXFAUXFAUXVRAIVRAIFAUXFAUX\",BDD!$Z$2:$Z$3)","v":0},{"$f":"SUMIF(BDD!$BI$2:$BI$3,\"Chambre SourdeFAUXFAUXFAUXVRAIFAUXVRAIFAUX\",BDD!$Z$2:$Z$3)","v":0},{"$f":"SUMIF(BDD!$BI$2:$BI$3,\"Chambre SourdeFAUXFAUXFAUXVRAIFAUXFAUXVRAI\",BDD!$Z$2:$Z$3)","v":0},{"$f":"SUMIF(BDD!$BI$2:$BI$3,\"Chambre SourdeFAUXFAUXVRAIFAUXVRAIFAUXFAUX\",BDD!$Z$2:$Z$3)","v":0},{"$f":"SUMIF(BDD!$BI$2:$BI$3,\"Chambre SourdeFAUXFAUXVRAIFAUXFAUXVRAIFAUX\",BDD!$Z$2:$Z$3)","v":0},{"$f":"SUMIF(BDD!$BI$2:$BI$3,\"Chambre SourdeFAUXFAUXVRAIFAUXFAUXFAUXVRAI\",BDD!$Z$2:$Z$3)","v":0},{"$f":"SUMIF(BDD!$BI$2:$BI$3,\"Chambre SourdeFAUXFAUXFAUXVRAIVRAIFAUXFAUX\",BDD!$Z$2:$Z$3)","v":0},{"$f":"SUMIF(BDD!$BI$2:$BI$3,\"Chambre SourdeFAUXFAUXFAUXVRAIFAUXVRAIFAUX\",BDD!$Z$2:$Z$3)","v":0},{"$f":"SUMIF(BDD!$BI$2:$BI$3,\"Chambre SourdeFAUXFAUXFAUXVRAIFAUXFAUXVRAI\",BDD!$Z$2:$Z$3)","v":0},{"$f":"SUMIF(BDD!$BI$2:$BI$3,\"Chambre SourdeFAUXFAUXVRAIFAUXVRAIFAUXFAUX\",BDD!$Z$2:$Z$3)","v":0},{"$f":"SUMIF(BDD!$BI$2:$BI$3,\"Chambre SourdeFAUXFAUXVRAIFAUXFAUXVRAIFAUX\",BDD!$Z$2:$Z$3)","v":0},{"$f":"SUMIF(BDD!$BI$2:$BI$3,\"Chambre SourdeFAUXFAUXVRAIFAUXFAUXFAUXVRAI\",BDD!$Z$2:$Z$3)","v":0},{"$f":"SUMIF(BDD!$BI$2:$BI$3,\"Chambre SourdeFAUXFAUXFAUXVRAIVRAIFAUXFAUX\",BDD!$Z$2:$Z$3)","v":0},{"$f":"SUMIF(BDD!$BI$2:$BI$3,\"Chambre SourdeFAUXFAUXFAUXVRAIFAUXVRAIFAUX\",BDD!$Z$2:$Z$3)","v":0},{"$f":"SUMIF(BDD!$BI$2:$BI$3,\"Chambre SourdeFAUXFAUXFAUXVRAIFAUXFAUXVRAI\",BDD!$Z$2:$Z$3)","v":0},{"$f":"SUMIF(BDD!$BI$2:$BI$3,\"Chambre SourdeFAUXFAUXVRAIFAUXVRAIFAUXFAUX\",BDD!$Z$2:$Z$3)","v":0},{"$f":"SUMIF(BDD!$BI$2:$BI$3,\"Chambre SourdeFAUXFAUXVRAIFAUXFAUXVRAIFAUX\",BDD!$Z$2:$Z$3)","v":0},{"$f":"SUMIF(BDD!$BI$2:$BI$3,\"Chambre SourdeFAUXFAUXVRAIFAUXFAUXFAUXVRAI\",BDD!$Z$2:$Z$3)","v":0},{"$f":"SUMIF(BDD!$BI$2:$BI$3,\"Chambre SourdeFAUXFAUXFAUXVRAIVRAIFAUXFAUX\",BDD!$Z$2:$Z$3)","v":0},{"$f":"SUMIF(BDD!$BI$2:$BI$3,\"Chambre SourdeFAUXFAUXFAUXVRAIFAUXVRAIFAUX\",BDD!$Z$2:$Z$3)","v":0},{"$f":"SUMIF(BDD!$BI$2:$BI$3,\"Chambre SourdeFAUXFAUXFAUXVRAIFAUXFAUXVRAI\",BDD!$Z$2:$Z$3)","v":0},{"$f":"SUMIF(BDD!$BI$2:$BI$3,\"Chambre SourdeFAUXFAUXVRAIFAUXVRAIFAUXFAUX\",BDD!$Z$2:$Z$3)","v":0},{"$f":"SUMIF(BDD!$BI$2:$BI$3,\"Chambre SourdeFAUXFAUXVRAIFAUXFAUXVRAIFAUX\",BDD!$Z$2:$Z$3)","v":0},{"$f":"SUMIF(BDD!$BI$2:$BI$3,\"Chambre SourdeFAUXFAUXVRAIFAUXFAUXFAUXVRAI\",BDD!$Z$2:$Z$3)","v":0},{"$f":"SUMIF(BDD!$BI$2:$BI$3,\"Chambre SourdeFAUXFAUXFAUXVRAIVRAIFAUXFAUX\",BDD!$Z$2:$Z$3)","v":0},{"$f":"SUMIF(BDD!$BI$2:$BI$3,\"Chambre SourdeFAUXFAUXFAUXVRAIFAUXVRAIFAUX\",BDD!$Z$2:$Z$3)","v":0},{"$f":"SUMIF(BDD!$BI$2:$BI$3,\"Chambre SourdeFAUXFAUXFAUXVRAIFAUXFAUXVRAI\",BDD!$Z$2:$Z$3)","v":0},{"$f":"SUMIF(BDD!$BI$2:$BI$3,\"Chambre SourdeFAUXFAUXVRAIFAUXVRAIFAUXFAUX\",BDD!$Z$2:$Z$3)","v":0},{"$f":"SUMIF(BDD!$BI$2:$BI$3,\"Chambre SourdeFAUXFAUXVRAIFAUXFAUXVRAIFAUX\",BDD!$Z$2:$Z$3)","v":0},{"$f":"SUMIF(BDD!$BI$2:$BI$3,\"Chambre SourdeFAUXFAUXVRAIFAUXFAUXFAUXVRAI\",BDD!$Z$2:$Z$3)","v":0},{"$f":"SUMIF(BDD!$BI$2:$BI$3,\"Chambre SourdeFAUXFAUXFAUXVRAIVRAIFAUXFAUX\",BDD!$Z$2:$Z$3)","v":0},{"$f":"SUMIF(BDD!$BI$2:$BI$3,\"Chambre SourdeFAUXFAUXFAUXVRAIFAUXVRAIFAUX\",BDD!$Z$2:$Z$3)","v":0},{"$f":"SUMIF(BDD!$BI$2:$BI$3,\"Chambre SourdeFAUXFAUXFAUXVRAIFAUXFAUXVRAI\",BDD!$Z$2:$Z$3)","v":0}]

{"sheet":"Indicateur Zone8","index":5,"n_rows":97,"n_cols":73,"rows_kept":97,"cut":false,"hidden":false,"merged":[[88,70,88,72],[88,55,88,57],[88,58,88,60],[88,61,88,63],[88,64,88,66],[88,67,88,69],[88,40,88,42],[88,43,88,45],[88,46,88,48],[88,49,88,51],[88,52,88,54],[87,55,87,60],[87,61,87,66],[87,67,87,72],[88,1,88,3],[88,4,88,6],[88,7,88,9],[88,10,88,12],[88,13,88,15],[88,16,88,18],[88,19,88,21],[88,22,88,24],[88,25,88,27],[88,28,88,30],[88,31,88,33],[88,34,88,36],[88,37,88,39],[87,25,87,30],[87,31,87,36],[87,37,87,42],[87,43,87,48],[87,49,87,54],[55,23,55,24],[86,1,86,21],[87,1,87,6],[87,7,87,12],[87,13,87,18],[87,19,87,24],[55,13,55,14],[55,15,55,16],[55,17,55,18],[55,19,55,20],[55,21,55,22],[1,1,1,12],[30,1,30,12],[54,1,54,12],[55,1,55,2],[55,3,55,4],[55,5,55,6],[55,7,55,8],[55,9,55,10],[55,11,55,12]]}
[]
[null,"Suivi des arrêts par banc"]
["Banc zone 8","Janvier","Février","Mars","Avril","Mai","Juin","Juillet","Août","Septembre","Octobre","Novembre","Décembre"]
["Banc P5",{"$f":"SUMIF(BDD!$H$2:$H$3,'Indicateur Zone8'!$A4,BDD!$Z$2:$Z$3)","v":0},{"$f":"SUMIF(BDD!$H$2:$H$3,'Indicateur Zone8'!$A4,BDD!$Z$2:$Z$3)","v":0},{"$f":"SUMIF(BDD!$H$2:$H$682,'Indicateur Zone8'!$A$4,BDD!$Z$2:$Z$682)","v":0},{"$f":"SUMIF(BDD!$H$2:$H$3,'Indicateur Zone8'!$A4,BDD!$Z$2:$Z$3)","v":0},{"$f":"SUMIF(BDD!$H$2:$H$3,'Indicateur Zone8'!$A4,BDD!$Z$2:$Z$3)","v":0},{"$f":"SUMIF(BDD!$H$2:$H$3,'Indicateur Zone8'!$A4,BDD!$Z$2:$Z$3)","v":0},{"$f":"SUMIF(BDD!$H$2:$H$3,'Indicateur Zone8'!$A4,BDD!$Z$2:$Z$3)","v":0},{"$f":"SUMIF(BDD!$H$2:$H$3,'Indicateur Zone8'!$A4,BDD!$Z$2:$Z$3)","v":0},{"$f":"SUMIF(BDD!$H$2:$H$3,'Indicateur Zone8'!$A4,BDD!$Z$2:$Z$3)","v":0},{"$f":"SUMIF(BDD!$H$2:$H$3,'Indicateur Zone8'!$A4,BDD!$Z$2:$Z$3)","v":0},{"$f":"SUMIF(BDD!$H$2:$H$3,'Indicateur Zone8'!$A4,BDD!$Z$2:$Z$3)","v":0},{"$f":"SUMIF(BDD!$H$2:$H$3,'Indicateur Zone8'!$A4,BDD!$Z$2:$Z$3)","v":0}]
["Banc P7",{"$f":"SUMIF(BDD!$H$2:$H$3,'Indicateur Zone8'!$A5,BDD!$Z$2:$Z$3)","v":0},{"$f":"SUMIF(BDD!$H$2:$H$3,'Indicateur Zone8'!$A5,BDD!$Z$2:$Z$3)","v":0},{"$f":"SUMIF(BDD!$H$2:$H$682,'Indicateur Zone8'!$A$5,BDD!$Z$2:$Z$682)","v":0.15},{"$f":"SUMIF(BDD!$H$2:$H$3,'Indicateur Zone8'!$A5,BDD!$Z$2:$Z$3)","v":0},{"$f":"SUMIF(BDD!$H$2:$H$3,'Indicateur Zone8'!$A5,BDD!$Z$2:$Z$3)","v":0},{"$f":"SUMIF(BDD!$H$2:$H$3,'Indicateur Zone8'!$A5,BDD!$Z$2:$Z$3)","v":0},{"$f":"SUMIF(BDD!$H$2:$H$3,'Indicateur Zone8'!$A5,BDD!$Z$2:$Z$3)","v":0},{"$f":"SUMIF(BDD!$H$2:$H$3,'Indicateur Zone8'!$A5,BDD!$Z$2:$Z$3)","v":0},{"$f":"SUMIF(BDD!$H$2:$H$3,'Indicateur Zone8'!$A5,BDD!$Z$2:$Z$3)","v":0},{"$f":"SUMIF(BDD!$H$2:$H$3,'Indicateur Zone8'!$A5,BDD!$Z$2:$Z$3)","v":0},{"$f":"SUMIF(BDD!$H$2:$H$3,'Indicateur Zone8'!$A5,BDD!$Z$2:$Z$3)","v":0},{"$f":"SUMIF(BDD!$H$2:$H$3,'Indicateur Zone8'!$A5,BDD!$Z$2:$Z$3)","v":0}]
["Banc 101",{"$f":"SUMIF(BDD!$H$2:$H$3,'Indicateur Zone8'!$A6,BDD!$Z$2:$Z$3)","v":0},{"$f":"SUMIF(BDD!$H$2:$H$3,'Indicateur Zone8'!$A6,BDD!$Z$2:$Z$3)","v":0},{"$f":"SUMIF(BDD!$H$2:$H$682,'Indicateur Zone8'!$A$6,BDD!$Z$2:$Z$682)","v":0.1},{"$f":"SUMIF(BDD!$H$2:$H$3,'Indicateur Zone8'!$A6,BDD!$Z$2:$Z$3)","v":0},{"$f":"SUMIF(BDD!$H$2:$H$3,'Indicateur Zone8'!$A6,BDD!$Z$2:$Z$3)","v":0},{"$f":"SUMIF(BDD!$H$2:$H$3,'Indicateur Zone8'!$A6,BDD!$Z$2:$Z$3)","v":0},{"$f":"SUMIF(BDD!$H$2:$H$3,'Indicateur Zone8'!$A6,BDD!$Z$2:$Z$3)","v":0},{"$f":"SUMIF(BDD!$H$2:$H$3,'Indicateur Zone8'!$A6,BDD!$Z$2:$Z$3)","v":0},{"$f":"SUMIF(BDD!$H$2:$H$3,'Indicateur Zone8'!$A6,BDD!$Z$2:$Z$3)","v":0},{"$f":"SUMIF(BDD!$H$2:$H$3,'Indicateur Zone8'!$A6,BDD!$Z$2:$Z$3)","v":0},{"$f":"SUMIF(BDD!$H$2:$H$3,'Indicateur Zone8'!$A6,BDD!$Z$2:$Z$3)","v":0},{"$f":"SUMIF(BDD!$H$2:$H$3,'Indicateur Zone8'!$A6,BDD!$Z$2:$Z$3)","v":0}]
["Banc 104",{"$f":"SUMIF(BDD!$H$2:$H$3,'Indicateur Zone8'!$A7,BDD!$Z$2:$Z$3)","v":0},{"$f":"SUMIF(BDD!$H$2:$H$3,'Indicateur Zone8'!$A7,BDD!$Z$2:$Z$3)","v":0},{"$f":"SUMIF(BDD!$H$2:$H$682,'Indicateur Zone8'!$A$7,BDD!$Z$2:$Z$682)","v":4.3499999999999988},{"$f":"SUMIF(BDD!$H$2:$H$3,'Indicateur Zone8'!$A7,BDD!$Z$2:$Z$3)","v":0},{"$f":"SUMIF(BDD!$H$2:$H$3,'Indicateur Zone8'!$A7,BDD!$Z$2:$Z$3)","v":0},{"$f":"SUMIF(BDD!$H$2:$H$3,'Indicateur Zone8'!$A7,BDD!$Z$2:$Z$3)","v":0},{"$f":"SUMIF(BDD!$H$2:$H$3,'Indicateur Zone8'!$A7,BDD!$Z$2:$Z$3)","v":0},{"$f":"SUMIF(BDD!$H$2:$H$3,'Indicateur Zone8'!$A7,BDD!$Z$2:$Z$3)","v":0},{"$f":"SUMIF(BDD!$H$2:$H$3,'Indicateur Zone8'!$A7,BDD!$Z$2:$Z$3)","v":0},{"$f":"SUMIF(BDD!$H$2:$H$3,'Indicateur Zone8'!$A7,BDD!$Z$2:$Z$3)","v":0},{"$f":"SUMIF(BDD!$H$2:$H$3,'Indicateur Zone8'!$A7,BDD!$Z$2:$Z$3)","v":0},{"$f":"SUMIF(BDD!$H$2:$H$3,'Indicateur Zone8'!$A7,BDD!$Z$2:$Z$3)","v":0}]
["Banc 121",{"$f":"SUMIF(BDD!$H$2:$H$3,'Indicateur Zone8'!$A8,BDD!$Z$2:$Z$3)","v":0},{"$f":"SUMIF(BDD!$H$2:$H$3,'Indicateur Zone8'!$A8,BDD!$Z$2:$Z$3)","v":0},{"$f":"SUMIF(BDD!$H$2:$H$682,'Indicateur Zone8'!$A$8,BDD!$Z$2:$Z$682)","v":0},{"$f":"SUMIF(BDD!$H$2:$H$3,'Indicateur Zone8'!$A8,BDD!$Z$2:$Z$3)","v":0},{"$f":"SUMIF(BDD!$H$2:$H$3,'Indicateur Zone8'!$A8,BDD!$Z$2:$Z$3)","v":0},{"$f":"SUMIF(BDD!$H$2:$H$3,'Indicateur Zone8'!$A8,BDD!$Z$2:$Z$3)","v":0},{"$f":"SUMIF(BDD!$H$2:$H$3,'Indicateur Zone8'!$A8,BDD!$Z$2:$Z$3)","v":0},{"$f":"SUMIF(BDD!$H$2:$H$3,'Indicateur Zone8'!$A8,BDD!$Z$2:$Z$3)","v":0},{"$f":"SUMIF(BDD!$H$2:$H$3,'Indicateur Zone8'!$A8,BDD!$Z$2:$Z$3)","v":0},{"$f":"SUMIF(BDD!$H$2:$H$3,'Indicateur Zone8'!$A8,BDD!$Z$2:$Z$3)","v":0},{"$f":"SUMIF(BDD!$H$2:$H$3,'Indicateur Zone8'!$A8,BDD!$Z$2:$Z$3)","v":0},{"$f":"SUMIF(BDD!$H$2:$H$3,'Indicateur Zone8'!$A8,BDD!$Z$2:$Z$3)","v":0}]
["Pompe à eau",{"$f":"SUMIF(BDD!$H$2:$H$3,'Indicateur Zone8'!$A9,BDD!$Z$2:$Z$3)","v":0},{"$f":"SUMIF(BDD!$H$2:$H$3,'Indicateur Zone8'!$A9,BDD!$Z$2:$Z$3)","v":0},{"$f":"SUMIF(BDD!$H$2:$H$682,'Indicateur Zone8'!$A$9,BDD!$Z$2:$Z$682)","v":6.3},{"$f":"SUMIF(BDD!$H$2:$H$3,'Indicateur Zone8'!$A9,BDD!$Z$2:$Z$3)","v":0},{"$f":"SUMIF(BDD!$H$2:$H$3,'Indicateur Zone8'!$A9,BDD!$Z$2:$Z$3)","v":0},{"$f":"SUMIF(BDD!$H$2:$H$3,'Indicateur Zone8'!$A9,BDD!$Z$2:$Z$3)","v":0},{"$f":"SUMIF(BDD!$H$2:$H$3,'Indicateur Zone8'!$A9,BDD!$Z$2:$Z$3)","v":0},{"$f":"SUMIF(BDD!$H$2:$H$3,'Indicateur Zone8'!$A9,BDD!$Z$2:$Z$3)","v":0},{"$f":"SUMIF(BDD!$H$2:$H$3,'Indicateur Zone8'!$A9,BDD!$Z$2:$Z$3)","v":0},{"$f":"SUMIF(BDD!$H$2:$H$3,'Indicateur Zone8'!$A9,BDD!$Z$2:$Z$3)","v":0},{"$f":"SUMIF(BDD!$H$2:$H$3,'Indicateur Zone8'!$A9,BDD!$Z$2:$Z$3)","v":0},{"$f":"SUMIF(BDD!$H$2:$H$3,'Indicateur Zone8'!$A9,BDD!$Z$2:$Z$3)","v":0}]
["Banc PowerTrain",{"$f":"SUMIF(BDD!$H$2:$H$3,'Indicateur Zone8'!$A10,BDD!$Z$2:$Z$3)","v":0},{"$f":"SUMIF(BDD!$H$2:$H$3,'Indicateur Zone8'!$A10,BDD!$Z$2:$Z$3)","v":0},{"$f":"SUMIF(BDD!$H$2:$H$682,'Indicateur Zone8'!$A$10,BDD!$Z$2:$Z$682)","v":1.6},{"$f":"SUMIF(BDD!$H$2:$H$3,'Indicateur Zone8'!$A10,BDD!$Z$2:$Z$3)","v":0},{"$f":"SUMIF(BDD!$H$2:$H$3,'Indicateur Zone8'!$A10,BDD!$Z$2:$Z$3)","v":0},{"$f":"SUMIF(BDD!$H$2:$H$3,'Indicateur Zone8'!$A10,BDD!$Z$2:$Z$3)","v":0},{"$f":"SUMIF(BDD!$H$2:$H$3,'Indicateur Zone8'!$A10,BDD!$Z$2:$Z$3)","v":0},{"$f":"SUMIF(BDD!$H$2:$H$3,'Indicateur Zone8'!$A10,BDD!$Z$2:$Z$3)","v":0},{"$f":"SUMIF(BDD!$H$2:$H$3,'Indicateur Zone8'!$A10,BDD!$Z$2:$Z$3)","v":0},{"$f":"SUMIF(BDD!$H$2:$H$3,'Indicateur Zone8'!$A10,BDD!$Z$2:$Z$3)","v":0},{"$f":"SUMIF(BDD!$H$2:$H$3,'Indicateur Zone8'!$A10,BDD!$Z$2:$Z$3)","v":0},{"$f":"SUMIF(BDD!$H$2:$H$3,'Indicateur Zone8'!$A10,BDD!$Z$2:$Z$3)","v":0}]
[]
[]
[]
[]
[]
[]
[]
[]
[]
[]
[]
[]
[]
[]
[]
[]
[]
[]
[]
[]
[null,"Suivi du correctif et du préventif"]
["Type de maintenance","Janvier","Février","Mars","Avril","Mai","Juin","Juillet","Août","Septembre","Octobre","Novembre","Décembre"]
["Préventive",{"$f":"SUM(C58:C64)","v":0},{"$f":"SUM(E58:E64)","v":0},{"$f":"SUM(G58:G64)","v":2},{"$f":"SUM(I58:I64)","v":0.30000000000000004},{"$f":"SUM(K58:K64)","v":0},{"$f":"SUM(M58:M64)","v":0},{"$f":"SUM(O58:O64)","v":0},{"$f":"SUM(Q58:Q64)","v":0},{"$f":"SUM(S58:S64)","v":0},{"$f":"SUM(U58:U64)","v":0},{"$f":"SUM(W58:W64)","v":0},{"$f":"SUM(Y58:Y64)","v":0}]
["Corrective",{"$f":"SUM(B58:B64)","v":0},{"$f":"SUM(D58:D64)","v":0},{"$f":"SUM(F58:F64)","v":2.1999999999999997},{"$f":"SUM(H58:H64)","v":6.3999999999999995},{"$f":"SUM(J58:J64)","v":0},{"$f":"SUM(L58:L64)","v":0},{"$f":"SUM(N58:N64)","v":0},{"$f":"SUM(N58:N64)","v":0},{"$f":"SUM(R58:R64)","v":0},{"$f":"SUM(T58:T64)","v":0},{"$f":"SUM(V58:V64)","v":0},{"$f":"SUM(X58:X64)","v":0}]
[]
[]
[]
[]
[]
[]
[]
[]
[]
[]
[]
[]
[]
[]
[]
[]
[]
[]
[]
[]
[null,"Suivi du correctif et du préventif par banc"]
[null,"Janvier",null,"Février",null,"Mars",null,"Avril",null,"Mai",null,"Juin",null,"Juillet",null,"Août",null,"Septembre",null,"Octobre",null,"Novembre",null,"Décembre"]
["Banc zone 8","Corrective","Préventive","Corrective","Préventive","Corrective","Préventive","Corrective","Préventive","Corrective","Préventive","Corrective","Préventive","Corrective","Préventive","Corrective","Préventive","Corrective","Préventive","Corrective","Préventive","Corrective","Préventive","Corrective","Préventive"]
["Banc P5",{"$f":"SUMIF(BDD!$BG$2:$BG$3,\"Banc P5VRAIFAUX\",BDD!$Z$2:$Z$3)","v":0},{"$f":"SUMIF(BDD!$BG$2:$BG$3,\"Banc P5FAUXVRAI\",BDD!$Z$2:$Z$3)","v":0},{"$f":"SUMIF(BDD!$BG$2:$BG$3,\"Banc P5VRAIFAUX\",BDD!$Z$2:$Z$3)","v":0},{"$f":"SUMIF(BDD!$BG$2:$BG$3,\"Banc P5FAUXVRAI\",BDD!$Z$2:$Z$3)","v":0},{"$f":"SUMIF(BDD!$BG$2:$BG$25,\"Banc P5VRAIFAUX\",BDD!$Z$2:$Z$25)","v":0},{"$f":"SUMIF(BDD!$BG$2:$BG$25,\"Banc P5FAUXvrai\",BDD!$Z$2:$Z$25)","v":0},{"$f":"SUMIF(BDD!$BG$26:$BG$149,\"Banc P5VRAIFAUX\",BDD!$Z$26:$Z$26)","v":0},{"$f":"SUMIF(BDD!$BG$26:$BG$149,\"Banc P5FAUXVRAI\",BDD!$Z$26:$Z$149)","v":0},{"$f":"SUMIF(BDD!$BG$2:$BG$3,\"Banc P5VRAIFAUX\",BDD!$Z$2:$Z$3)","v":0},{"$f":"SUMIF(BDD!$BG$2:$BG$3,\"Banc P5FAUXVRAI\",BDD!$Z$2:$Z$3)","v":0},{"$f":"SUMIF(BDD!$BG$2:$BG$3,\"Banc P5VRAIFAUX\",BDD!$Z$2:$Z$3)","v":0},{"$f":"SUMIF(BDD!$BG$2:$BG$3,\"Banc P5FAUXVRAI\",BDD!$Z$2:$Z$3)","v":0},{"$f":"SUMIF(BDD!$BG$2:$BG$3,\"Banc P5VRAIFAUX\",BDD!$Z$2:$Z$3)","v":0},{"$f":"SUMIF(BDD!$BG$2:$BG$3,\"Banc P5FAUXVRAI\",BDD!$Z$2:$Z$3)","v":0},{"$f":"SUMIF(BDD!$BG$2:$BG$3,\"Banc P5VRAIFAUX\",BDD!$Z$2:$Z$3)","v":0},{"$f":"SUMIF(BDD!$BG$2:$BG$3,\"Banc P5FAUXVRAI\",BDD!$Z$2:$Z$3)","v":0},{"$f":"SUMIF(BDD!$BG$2:$BG$3,\"Banc P5VRAIFAUX\",BDD!$Z$2:$Z$3)","v":0},{"$f":"SUMIF(BDD!$BG$2:$BG$3,\"Banc P5FAUXVRAI\",BDD!$Z$2:$Z$3)","v":0},{"$f":"SUMIF(BDD!$BG$2:$BG$3,\"Banc P5VRAIFAUX\",BDD!$Z$2:$Z$3)","v":0},{"$f":"SUMIF(BDD!$BG$2:$BG$3,\"Banc P5FAUXVRAI\",BDD!$Z$2:$Z$3)","v":0},{"$f":"SUMIF(BDD!$BG$2:$BG$3,\"Banc P5VRAIFAUX\",BDD!$Z$2:$Z$3)","v":0},{"$f":"SUMIF(BDD!$BG$2:$BG$3,\"Banc P5FAUXVRAI\",BDD!$Z$2:$Z$3)","v":0},{"$f":"SUMIF(BDD!$BG$2:$BG$3,\"Banc P5VRAIFAUX\",BDD!$Z$2:$Z$3)","v":0},{"$f":"SUMIF(BDD!$BG$2:$BG$3,\"Banc P5FAUXVRAI\",BDD!$Z$2:$Z$3)","v":0}]
["Banc P7",{"$f":"SUMIF(BDD!$BG$2:$BG$3,\"Banc P7VRAIFAUX\",BDD!$Z$2:$Z$3)","v":0},{"$f":"SUMIF(BDD!$BG$2:$BG$3,\"Banc P7FAUXVRAI\",BDD!$Z$2:$Z$3)","v":0},{"$f":"SUMIF(BDD!$BG$2:$BG$3,\"Banc P7VRAIFAUX\",BDD!$Z$2:$Z$3)","v":0},{"$f":"SUMIF(BDD!$BG$2:$BG$3,\"Banc P7FAUXVRAI\",BDD!$Z$2:$Z$3)","v":0},{"$f":"SUMIF(BDD!$BG$2:$BG$25,\"Banc P7VRAIFAUX\",BDD!$Z$2:$Z$25)","v":0.15},{"$f":"SUMIF(BDD!$BG$2:$BG$25,\"Banc P7FAUXVRAI\",BDD!$Z$2:$Z$25)","v":0},{"$f":"SUMIF(BDD!$BG$26:$BG$149,\"Banc P7VRAIFAUX\",BDD!$Z$26:$Z$26)","v":0},{"$f":"SUMIF(BDD!$BG$26:$BG$149,\"Banc P7FAUXVRAI\",BDD!$Z$26:$Z$149)","v":0},{"$f":"SUMIF(BDD!$BG$2:$BG$3,\"Banc P7VRAIFAUX\",BDD!$Z$2:$Z$3)","v":0},{"$f":"SUMIF(BDD!$BG$2:$BG$3,\"Banc P7FAUXVRAI\",BDD!$Z$2:$Z$3)","v":0},{"$f":"SUMIF(BDD!$BG$2:$BG$3,\"Banc P7VRAIFAUX\",BDD!$Z$2:$Z$3)","v":0},{"$f":"SUMIF(BDD!$BG$2:$BG$3,\"Banc P7FAUXVRAI\",BDD!$Z$2:$Z$3)","v":0},{"$f":"SUMIF(BDD!$BG$2:$BG$3,\"Banc P7VRAIFAUX\",BDD!$Z$2:$Z$3)","v":0},{"$f":"SUMIF(BDD!$BG$2:$BG$3,\"Banc P7FAUXVRAI\",BDD!$Z$2:$Z$3)","v":0},{"$f":"SUMIF(BDD!$BG$2:$BG$3,\"Banc P7VRAIFAUX\",BDD!$Z$2:$Z$3)","v":0},{"$f":"SUMIF(BDD!$BG$2:$BG$3,\"Banc P7FAUXVRAI\",BDD!$Z$2:$Z$3)","v":0},{"$f":"SUMIF(BDD!$BG$2:$BG$3,\"Banc P7VRAIFAUX\",BDD!$Z$2:$Z$3)","v":0},{"$f":"SUMIF(BDD!$BG$2:$BG$3,\"Banc P7FAUXVRAI\",BDD!$Z$2:$Z$3)","v":0},{"$f":"SUMIF(BDD!$BG$2:$BG$3,\"Banc P7VRAIFAUX\",BDD!$Z$2:$Z$3)","v":0},{"$f":"SUMIF(BDD!$BG$2:$BG$3,\"Banc P7FAUXVRAI\",BDD!$Z$2:$Z$3)","v":0},{"$f":"SUMIF(BDD!$BG$2:$BG$3,\"Banc P7VRAIFAUX\",BDD!$Z$2:$Z$3)","v":0},{"$f":"SUMIF(BDD!$BG$2:$BG$3,\"Banc P7FAUXVRAI\",BDD!$Z$2:$Z$3)","v":0},{"$f":"SUMIF(BDD!$BG$2:$BG$3,\"Banc P7VRAIFAUX\",BDD!$Z$2:$Z$3)","v":0},{"$f":"SUMIF(BDD!$BG$2:$BG$3,\"Banc P7FAUXVRAI\",BDD!$Z$2:$Z$3)","v":0}]
["Banc 101",{"$f":"SUMIF(BDD!$BG$2:$BG$682,\"Banc 101VRAIFAUX\",BDD!$Z$2:$Z$682)","v":0},{"$f":"SUMIF(BDD!$BG$2:$BG$3,\"Banc 101FAUXVRAI\",BDD!$Z$2:$Z$3)","v":0},{"$f":"SUMIF(BDD!$BG$2:$BG$682,\"Banc 101VRAIFAUX\",BDD!$Z$2:$Z$682)","v":0},{"$f":"SUMIF(BDD!$BG$2:$BG$3,\"Banc 101FAUXVRAI\",BDD!$Z$2:$Z$3)","v":0},{"$f":"SUMIF(BDD!$BG$2:$BG$25,\"Banc 101VRAIFAUX\",BDD!$Z$2:$Z$25)","v":0},{"$f":"SUMIF(BDD!$BG$2:$BG$25,\"Banc 101FAUXVRAI\",BDD!$Z$2:$Z$25)","v":0},{"$f":"SUMIF(BDD!$BG$26:$BG$149,\"Banc 101VRAIFAUX\",BDD!$Z$26:$Z$6825)","v":0},{"$f":"SUMIF(BDD!$BG$26:$BG$149,\"Banc 101FAUXVRAI\",BDD!$Z$26:$Z$149)","v":0.1},{"$f":"SUMIF(BDD!$BG$2:$BG$682,\"Banc 101VRAIFAUX\",BDD!$Z$2:$Z$682)","v":0},{"$f":"SUMIF(BDD!$BG$2:$BG$3,\"Banc 101FAUXVRAI\",BDD!$Z$2:$Z$3)","v":0},{"$f":"SUMIF(BDD!$BG$2:$BG$682,\"Banc 101VRAIFAUX\",BDD!$Z$2:$Z$682)","v":0},{"$f":"SUMIF(BDD!$BG$2:$BG$3,\"Banc 101FAUXVRAI\",BDD!$Z$2:$Z$3)","v":0},{"$f":"SUMIF(BDD!$BG$2:$BG$682,\"Banc 101VRAIFAUX\",BDD!$Z$2:$Z$682)","v":0},{"$f":"SUMIF(BDD!$BG$2:$BG$3,\"Banc 101FAUXVRAI\",BDD!$Z$2:$Z$3)","v":0},{"$f":"SUMIF(BDD!$BG$2:$BG$682,\"Banc 101VRAIFAUX\",BDD!$Z$2:$Z$682)","v":0},{"$f":"SUMIF(BDD!$BG$2:$BG$3,\"Banc 101FAUXVRAI\",BDD!$Z$2:$Z$3)","v":0},{"$f":"SUMIF(BDD!$BG$2:$BG$682,\"Banc 101VRAIFAUX\",BDD!$Z$2:$Z$682)","v":0},{"$f":"SUMIF(BDD!$BG$2:$BG$3,\"Banc 101FAUXVRAI\",BDD!$Z$2:$Z$3)","v":0},{"$f":"SUMIF(BDD!$BG$2:$BG$682,\"Banc 101VRAIFAUX\",BDD!$Z$2:$Z$682)","v":0},{"$f":"SUMIF(BDD!$BG$2:$BG$3,\"Banc 101FAUXVRAI\",BDD!$Z$2:$Z$3)","v":0},{"$f":"SUMIF(BDD!$BG$2:$BG$682,\"Banc 101VRAIFAUX\",BDD!$Z$2:$Z$682)","v":0},{"$f":"SUMIF(BDD!$BG$2:$BG$3,\"Banc 101FAUXVRAI\",BDD!$Z$2:$Z$3)","v":0},{"$f":"SUMIF(BDD!$BG$2:$BG$682,\"Banc 101VRAIFAUX\",BDD!$Z$2:$Z$682)","v":0},{"$f":"SUMIF(BDD!$BG$2:$BG$3,\"Banc 101FAUXVRAI\",BDD!$Z$2:$Z$3)","v":0}]
["Banc 104",{"$f":"SUMIF(BDD!$BG$2:$BG$3,\"Banc 104VRAIFAUX\",BDD!$Z$2:$Z$3)","v":0},{"$f":"SUMIF(BDD!$BG$2:$BG$3,\"Banc 104FAUXVRAI\",BDD!$Z$2:$Z$3)","v":0},{"$f":"SUMIF(BDD!$BG$2:$BG$3,\"Banc 104VRAIFAUX\",BDD!$Z$2:$Z$3)","v":0},{"$f":"SUMIF(BDD!$BG$2:$BG$3,\"Banc 104FAUXVRAI\",BDD!$Z$2:$Z$3)","v":0},{"$f":"SUMIF(BDD!$BG$2:$BG$25,\"Banc 104VRAIFAUX\",BDD!$Z$2:$Z$25)","v":2.0499999999999998},{"$f":"SUMIF(BDD!$BG$2:$BG$25,\"Banc 104FAUXVRAI\",BDD!$Z$2:$Z$25)","v":2},{"$f":"SUMIF(BDD!$BG$26:$BG$149,\"Banc 104VRAIFAUX\",BDD!$Z$26:$Z$149)","v":0.1},{"$f":"SUMIF(BDD!$BG$26:$BG$149,\"Banc 104FAUXVRAI\",BDD!$Z$26:$Z$149)","v":0.2},{"$f":"SUMIF(BDD!$BG$2:$BG$3,\"Banc 104VRAIFAUX\",BDD!$Z$2:$Z$3)","v":0},{"$f":"SUMIF(BDD!$BG$2:$BG$3,\"Banc 104FAUXVRAI\",BDD!$Z$2:$Z$3)","v":0},{"$f":"SUMIF(BDD!$BG$2:$BG$3,\"Banc 104VRAIFAUX\",BDD!$Z$2:$Z$3)","v":0},{"$f":"SUMIF(BDD!$BG$2:$BG$3,\"Banc 104FAUXVRAI\",BDD!$Z$2:$Z$3)","v":0},{"$f":"SUMIF(BDD!$BG$2:$BG$3,\"Banc 104VRAIFAUX\",BDD!$Z$2:$Z$3)","v":0},{"$f":"SUMIF(BDD!$BG$2:$BG$3,\"Banc 104FAUXVRAI\",BDD!$Z$2:$Z$3)","v":0},{"$f":"SUMIF(BDD!$BG$2:$BG$3,\"Banc 104VRAIFAUX\",BDD!$Z$2:$Z$3)","v":0},{"$f":"SUMIF(BDD!$BG$2:$BG$3,\"Banc 104FAUXVRAI\",BDD!$Z$2:$Z$3)","v":0},{"$f":"SUMIF(BDD!$BG$2:$BG$3,\"Banc 104VRAIFAUX\",BDD!$Z$2:$Z$3)","v":0},{"$f":"SUMIF(BDD!$BG$2:$BG$3,\"Banc 104FAUXVRAI\",BDD!$Z$2:$Z$3)","v":0},{"$f":"SUMIF(BDD!$BG$2:$BG$3,\"Banc 104VRAIFAUX\",BDD!$Z$2:$Z$3)","v":0},{"$f":"SUMIF(BDD!$BG$2:$BG$3,\"Banc 104FAUXVRAI\",BDD!$Z$2:$Z$3)","v":0},{"$f":"SUMIF(BDD!$BG$2:$BG$3,\"Banc 104VRAIFAUX\",BDD!$Z$2:$Z$3)","v":0},{"$f":"SUMIF(BDD!$BG$2:$BG$3,\"Banc 104FAUXVRAI\",BDD!$Z$2:$Z$3)","v":0},{"$f":"SUMIF(BDD!$BG$2:$BG$3,\"Banc 104VRAIFAUX\",BDD!$Z$2:$Z$3)","v":0},{"$f":"SUMIF(BDD!$BG$2:$BG$3,\"Banc 104FAUXVRAI\",BDD!$Z$2:$Z$3)","v":0}]
["Banc 121",{"$f":"SUMIF(BDD!$BG$2:$BG$3,\"Banc 121VRAIFAUX\",BDD!$Z$2:$Z$3)","v":0},{"$f":"SUMIF(BDD!$BG$2:$BG$3,\"Banc 121FAUXVRAI\",BDD!$Z$2:$Z$3)","v":0},{"$f":"SUMIF(BDD!$BG$2:$BG$3,\"Banc 121VRAIFAUX\",BDD!$Z$2:$Z$3)","v":0},{"$f":"SUMIF(BDD!$BG$2:$BG$3,\"Banc 121FAUXVRAI\",BDD!$Z$2:$Z$3)","v":0},{"$f":"SUMIF(BDD!$BG$2:$BG$25,\"Banc 121VRAIFAUX\",BDD!$Z$2:$Z$25)","v":0},{"$f":"SUMIF(BDD!$BG$2:$BG$25,\"Banc 121FAUXVRAI\",BDD!$Z$2:$Z$25)","v":0},{"$f":"SUMIF(BDD!$BG$26:$BG$149,\"Banc 1261VRAIFAUX\",BDD!$Z$26:$Z$149)","v":0},{"$f":"SUMIF(BDD!$BG$26:$BG$149,\"Banc 1261FAUXVRAI\",BDD!$Z$26:$Z$149)","v":0},{"$f":"SUMIF(BDD!$BG$2:$BG$3,\"Banc 121VRAIFAUX\",BDD!$Z$2:$Z$3)","v":0},{"$f":"SUMIF(BDD!$BG$2:$BG$3,\"Banc 121FAUXVRAI\",BDD!$Z$2:$Z$3)","v":0},{"$f":"SUMIF(BDD!$BG$2:$BG$3,\"Banc 121VRAIFAUX\",BDD!$Z$2:$Z$3)","v":0},{"$f":"SUMIF(BDD!$BG$2:$BG$3,\"Banc 121FAUXVRAI\",BDD!$Z$2:$Z$3)","v":0},{"$f":"SUMIF(BDD!$BG$2:$BG$3,\"Banc 121VRAIFAUX\",BDD!$Z$2:$Z$3)","v":0},{"$f":"SUMIF(BDD!$BG$2:$BG$3,\"Banc 121FAUXVRAI\",BDD!$Z$2:$Z$3)","v":0},{"$f":"SUMIF(BDD!$BG$2:$BG$3,\"Banc 121VRAIFAUX\",BDD!$Z$2:$Z$3)","v":0},{"$f":"SUMIF(BDD!$BG$2:$BG$3,\"Banc 121FAUXVRAI\",BDD!$Z$2:$Z$3)","v":0},{"$f":"SUMIF(BDD!$BG$2:$BG$3,\"Banc 121VRAIFAUX\",BDD!$Z$2:$Z$3)","v":0},{"$f":"SUMIF(BDD!$BG$2:$BG$3,\"Banc 121FAUXVRAI\",BDD!$Z$2:$Z$3)","v":0},{"$f":"SUMIF(BDD!$BG$2:$BG$3,\"Banc 121VRAIFAUX\",BDD!$Z$2:$Z$3)","v":0},{"$f":"SUMIF(BDD!$BG$2:$BG$3,\"Banc 121FAUXVRAI\",BDD!$Z$2:$Z$3)","v":0},{"$f":"SUMIF(BDD!$BG$2:$BG$3,\"Banc 121VRAIFAUX\",BDD!$Z$2:$Z$3)","v":0},{"$f":"SUMIF(BDD!$BG$2:$BG$3,\"Banc 121FAUXVRAI\",BDD!$Z$2:$Z$3)","v":0},{"$f":"SUMIF(BDD!$BG$2:$BG$3,\"Banc 121VRAIFAUX\",BDD!$Z$2:$Z$3)","v":0},{"$f":"SUMIF(BDD!$BG$2:$BG$3,\"Banc 121FAUXVRAI\",BDD!$Z$2:$Z$3)","v":0}]
["Pompe à eau",{"$f":"SUMIF(BDD!$BG$2:$BG$3,\"Pompe à eauVRAIFAUX\",BDD!$Z$2:$Z$3)","v":0},{"$f":"SUMIF(BDD!$BG$2:$BG$3,\"Pompe à eauFAUXVRAI\",BDD!$Z$2:$Z$3)","v":0},{"$f":"SUMIF(BDD!$BG$2:$BG$3,\"Pompe à eauVRAIFAUX\",BDD!$Z$2:$Z$3)","v":0},{"$f":"SUMIF(BDD!$BG$2:$BG$3,\"Pompe à eauFAUXVRAI\",BDD!$Z$2:$Z$3)","v":0},{"$f":"SUMIF(BDD!$BG$2:$BG$25,\"Pompe à eauVRAIFAUX\",BDD!$Z$2:$Z$25)","v":0},{"$f":"SUMIF(BDD!$BG$2:$BG$25,\"Pompe à eauFAUXVRAI\",BDD!$Z$2:$Z$25)","v":0},{"$f":"SUMIF(BDD!$BG$26:$BG$149,\"Pompe à eauVRAIFAUX\",BDD!$Z$26:$Z$149)","v":6.3},{"$f":"SUMIF(BDD!$BG$26:$BG$149,\"Pompe à eauFAUXVRAI\",BDD!$Z$26:$Z$149)","v":0},{"$f":"SUMIF(BDD!$BG$2:$BG$3,\"Pompe à eauVRAIFAUX\",BDD!$Z$2:$Z$3)","v":0},{"$f":"SUMIF(BDD!$BG$2:$BG$3,\"Pompe à eauFAUXVRAI\",BDD!$Z$2:$Z$3)","v":0},{"$f":"SUMIF(BDD!$BG$2:$BG$3,\"Pompe à eauVRAIFAUX\",BDD!$Z$2:$Z$3)","v":0},{"$f":"SUMIF(BDD!$BG$2:$BG$3,\"Pompe à eauFAUXVRAI\",BDD!$Z$2:$Z$3)","v":0},{"$f":"SUMIF(BDD!$BG$2:$BG$3,\"Pompe à eauVRAIFAUX\",BDD!$Z$2:$Z$3)","v":0},{"$f":"SUMIF(BDD!$BG$2:$BG$3,\"Pompe à eauFAUXVRAI\",BDD!$Z$2:$Z$3)","v":0},{"$f":"SUMIF(BDD!$BG$2:$BG$3,\"Pompe à eauVRAIFAUX\",BDD!$Z$2:$Z$3)","v":0},{"$f":"SUMIF(BDD!$BG$2:$BG$3,\"Pompe à eauFAUXVRAI\",BDD!$Z$2:$Z$3)","v":0},{"$f":"SUMIF(BDD!$BG$2:$BG$3,\"Pompe à eauVRAIFAUX\",BDD!$Z$2:$Z$3)","v":0},{"$f":"SUMIF(BDD!$BG$2:$BG$3,\"Pompe à eauFAUXVRAI\",BDD!$Z$2:$Z$3)","v":0},{"$f":"SUMIF(BDD!$BG$2:$BG$3,\"Pompe à eauVRAIFAUX\",BDD!$Z$2:$Z$3)","v":0},{"$f":"SUMIF(BDD!$BG$2:$BG$3,\"Pompe à eauFAUXVRAI\",BDD!$Z$2:$Z$3)","v":0},{"$f":"SUMIF(BDD!$BG$2:$BG$3,\"Pompe à eauVRAIFAUX\",BDD!$Z$2:$Z$3)","v":0},{"$f":"SUMIF(BDD!$BG$2:$BG$3,\"Pompe à eauFAUXVRAI\",BDD!$Z$2:$Z$3)","v":0},{"$f":"SUMIF(BDD!$BG$2:$BG$3,\"Pompe à eauVRAIFAUX\",BDD!$Z$2:$Z$3)","v":0},{"$f":"SUMIF(BDD!$BG$2:$BG$3,\"Pompe à eauFAUXVRAI\",BDD!$Z$2:$Z$3)","v":0}]
["Banc PowerTrain",{"$f":"SUMIF(BDD!$BG$2:$BG$3,\"Banc PowerTrainVRAIFAUX\",BDD!$Z$2:$Z$3)","v":0},{"$f":"SUMIF(BDD!$BG$2:$BG$3,\"Banc PowerTrainFAUXVRAI\",BDD!$Z$2:$Z$3)","v":0},{"$f":"SUMIF(BDD!$BG$2:$BG$3,\"Banc PowerTrainVRAIFAUX\",BDD!$Z$2:$Z$3)","v":0},{"$f":"SUMIF(BDD!$BG$2:$BG$3,\"Banc PowerTrainFAUXVRAI\",BDD!$Z$2:$Z$3)","v":0},{"$f":"SUMIF(BDD!$BG$2:$BG$25,\"Banc PowerTrainVRAIFAUX\",BDD!$Z$2:$Z$25)","v":0},{"$f":"SUMIF(BDD!$BG$2:$BG$25,\"Banc PowerTrainFAUXVRAI\",BDD!$Z$2:$Z$25)","v":0},{"$f":"SUMIF(BDD!$BG$26:$BG$149,\"Banc PowerTrainVRAIFAUX\",BDD!$Z$26:$Z$149)","v":0},{"$f":"SUMIF(BDD!$BG$26:$BG$149,\"Banc PowerTrainFAUXVRAI\",BDD!$Z$26:$Z$149)","v":0},{"$f":"SUMIF(BDD!$BG$2:$BG$3,\"Banc PowerTrainVRAIFAUX\",BDD!$Z$2:$Z$3)","v":0},{"$f":"SUMIF(BDD!$BG$2:$BG$3,\"Banc PowerTrainFAUXVRAI\",BDD!$Z$2:$Z$3)","v":0},{"$f":"SUMIF(BDD!$BG$2:$BG$3,\"Banc PowerTrainVRAIFAUX\",BDD!$Z$2:$Z$3)","v":0},{"$f":"SUMIF(BDD!$BG$2:$BG$3,\"Banc PowerTrainFAUXVRAI\",BDD!$Z$2:$Z$3)","v":0},{"$f":"SUMIF(BDD!$BG$2:$BG$3,\"Banc PowerTrainVRAIFAUX\",BDD!$Z$2:$Z$3)","v":0},{"$f":"SUMIF(BDD!$BG$2:$BG$3,\"Banc PowerTrainFAUXVRAI\",BDD!$Z$2:$Z$3)","v":0},{"$f":"SUMIF(BDD!$BG$2:$BG$3,\"Banc PowerTrainVRAIFAUX\",BDD!$Z$2:$Z$3)","v":0},{"$f":"SUMIF(BDD!$BG$2:$BG$3,\"Banc PowerTrainFAUXVRAI\",BDD!$Z$2:$Z$3)","v":0},{"$f":"SUMIF(BDD!$BG$2:$BG$3,\"Banc PowerTrainVRAIFAUX\",BDD!$Z$2:$Z$3)","v":0},{"$f":"SUMIF(BDD!$BG$2:$BG$3,\"Banc PowerTrainFAUXVRAI\",BDD!$Z$2:$Z$3)","v":0},{"$f":"SUMIF(BDD!$BG$2:$BG$3,\"Banc PowerTrainVRAIFAUX\",BDD!$Z$2:$Z$3)","v":0},{"$f":"SUMIF(BDD!$BG$2:$BG$3,\"Banc PowerTrainFAUXVRAI\",BDD!$Z$2:$Z$3)","v":0},{"$f":"SUMIF(BDD!$BG$2:$BG$3,\"Banc PowerTrainVRAIFAUX\",BDD!$Z$2:$Z$3)","v":0},{"$f":"SUMIF(BDD!$BG$2:$BG$3,\"Banc PowerTrainFAUXVRAI\",BDD!$Z$2:$Z$3)","v":0},{"$f":"SUMIF(BDD!$BG$2:$BG$3,\"Banc PowerTrainVRAIFAUX\",BDD!$Z$2:$Z$3)","v":0},{"$f":"SUMIF(BDD!$BG$2:$BG$3,\"Banc PowerTrainFAUXVRAI\",BDD!$Z$2:$Z$3)","v":0}]
[]
[]
[]
[]
[]
[]
[]
[]
[]
[]
[]
[]
[]
[]
[]
[]
[]
[]
[]
[]
[]
[]
[null,"Suivi du correctif et du préventif par banc"]
[null,"Janvier",null,null,null,null,null,"Février",null,null,null,null,null,"Mars",null,null,null,null,null,"Avril",null,null,null,null,null,"Mai",null,null,null,null,null,"Juin",null,null,null,null,null,"Juillet",null,null,null,null,null,"Août",null,null,null,null,null,"Septembre",null,null,null,null,null,"Octobre",null,null,null,null,null,"Novembre",null,null,null,null,null,"Décembre"]
[null,"Corrective",null,null,"Préventive",null,null,"Corrective",null,null,"Préventive",null,null,"Corrective",null,null,"Préventive",null,null,"Corrective",null,null,"Préventive",null,null,"Corrective",null,null,"Préventive",null,null,"Corrective",null,null,"Préventive",null,null,"Corrective",null,null,"Préventive",null,null,"Corrective",null,null,"Préventive",null,null,"Corrective",null,null,"Préventive",null,null,"Corrective",null,null,"Préventive",null,null,"Corrective",null,null,"Préventive",null,null,"Corrective",null,null,"Préventive"]
["Banc zone 8","Electrique","Mécanique","Hydraulique","Electrique","Mécanique","Hydraulique","Electrique","Mécanique","Hydraulique","Electrique","Mécanique","Hydraulique","Electrique","Mécanique","Hydraulique","Electrique","Mécanique","Hydraulique","Electrique","Mécanique","Hydraulique","Electrique","Mécanique","Hydraulique","Electrique","Mécanique","Hydraulique","Electrique","Mécanique","Hydraulique","Electrique","Mécanique","Hydraulique","Electrique","Mécanique","Hydraulique","Electrique","Mécanique","Hydraulique","Electrique","Mécanique","Hydraulique","Electrique","Mécanique","Hydraulique","Electrique","Mécanique","Hydraulique","Electrique","Mécanique","Hydraulique","Electrique","Mécanique","Hydraulique","Electrique","Mécanique","Hydraulique","Electrique","Mécanique","Hydraulique","Electrique","Mécanique","Hydraulique","Electrique","Mécanique","Hydraulique","Electrique","Mécanique","Hydraulique","Electrique","Mécanique","Hydraulique"]
["Banc P5",{"$f":"SUMIF(BDD!$BH$2:$BH$3,\"Banc P5VRAIFAUXVRAIFAUXFAUX\",BDD!$Z$2:$Z$3)","v":0},{"$f":"SUMIF(BDD!$BH$2:$BH$3,\"Banc P5VRAIFAUXFAUXVRAIFAUX\",BDD!$Z$2:$Z$3)","v":0},{"$f":"SUMIF(BDD!$BH$2:$BH$3,\"Banc P5VRAIFAUXFAUXFAUXVRAI\",BDD!$Z$2:$Z$3)","v":0},{"$f":"SUMIF(BDD!$BH$2:$BH$3,\"Banc P5FAUXVRAIVRAIFAUXFAUX\",BDD!$Z$2:$Z$3)","v":0},{"$f":"SUMIF(BDD!$BH$2:$BH$3,\"Banc P5FAUXVRAIFAUXVRAIFAUX\",BDD!$Z$2:$Z$3)","v":0},{"$f":"SUMIF(BDD!$BH$2:$BH$3,\"Banc P5FAUXVRAIFAUXFAUXVRAI\",BDD!$Z$2:$Z$3)","v":0},{"$f":"SUMIF(BDD!$BH$2:$BH$3,\"Banc P5VRAIFAUXVRAIFAUXFAUX\",BDD!$Z$2:$Z$3)","v":0},{"$f":"SUMIF(BDD!$BH$2:$BH$3,\"Banc P5VRAIFAUXFAUXVRAIFAUX\",BDD!$Z$2:$Z$3)","v":0},{"$f":"SUMIF(BDD!$BH$2:$BH$3,\"Banc P5VRAIFAUXFAUXFAUXVRAI\",BDD!$Z$2:$Z$3)","v":0},{"$f":"SUMIF(BDD!$BH$2:$BH$3,\"Banc P5FAUXVRAIVRAIFAUXFAUX\",BDD!$Z$2:$Z$3)","v":0},{"$f":"SUMIF(BDD!$BH$2:$BH$3,\"Banc P5FAUXVRAIFAUXVRAIFAUX\",BDD!$Z$2:$Z$3)","v":0},{"$f":"SUMIF(BDD!$BH$2:$BH$3,\"Banc P5FAUXVRAIFAUXFAUXVRAI\",BDD!$Z$2:$Z$3)","v":0},{"$f":"SUMIF(BDD!$BH$2:$BH$682,\"Banc P5VRAIFAUXVRAIFAUXFAUX\",BDD!$Z$2:$Z$682)","v":0},{"$f":"SUMIF(BDD!$BH$2:$BH$682,\"Banc P5VRAIFAUXFAUXVRAIFAUX\",BDD!$Z$2:$Z$682)","v":0},{"$f":"SUMIF(BDD!$BH$2:$BH$682,\"Banc P5VRAIFAUXFAUXFAUXVRAI\",BDD!$Z$2:$Z$682)","v":0},{"$f":"SUMIF(BDD!$BH$2:$BH$682,\"Banc P5FAUXVRAIVRAIFAUXFAUX\",BDD!$Z$2:$Z$682)","v":0},{"$f":"SUMIF(BDD!$BH$2:$BH$682,\"Banc P5FAUXVRAIFAUXVRAIFAUX\",BDD!$Z$2:$Z$682)","v":0},{"$f":"SUMIF(BDD!$BH$2:$BH$682,\"Banc P5FAUXVRAIFAUXFAUXVRAI\",BDD!$Z$2:$Z$682)","v":0},{"$f":"SUMIF(BDD!$BH$2:$BH$3,\"Banc P5VRAIFAUXVRAIFAUXFAUX\",BDD!$Z$2:$Z$3)","v":0},{"$f":"SUMIF(BDD!$BH$2:$BH$3,\"Banc P5VRAIFAUXFAUXVRAIFAUX\",BDD!$Z$2:$Z$3)","v":0},{"$f":"SUMIF(BDD!$BH$2:$BH$3,\"Banc P5VRAIFAUXFAUXFAUXVRAI\",BDD!$Z$2:$Z$3)","v":0},{"$f":"SUMIF(BDD!$BH$2:$BH$3,\"Banc P5FAUXVRAIVRAIFAUXFAUX\",BDD!$Z$2:$Z$3)","v":0},{"$f":"SUMIF(BDD!$BH$2:$BH$3,\"Banc P5FAUXVRAIFAUXVRAIFAUX\",BDD!$Z$2:$Z$3)","v":0},{"$f":"SUMIF(BDD!$BH$2:$BH$3,\"Banc P5FAUXVRAIFAUXFAUXVRAI\",BDD!$Z$2:$Z$3)","v":0},{"$f":"SUMIF(BDD!$BH$2:$BH$3,\"Banc P5VRAIFAUXVRAIFAUXFAUX\",BDD!$Z$2:$Z$3)","v":0},{"$f":"SUMIF(BDD!$BH$2:$BH$3,\"Banc P5VRAIFAUXFAUXVRAIFAUX\",BDD!$Z$2:$Z$3)","v":0},{"$f":"SUMIF(BDD!$BH$2:$BH$3,\"Banc P5VRAIFAUXFAUXFAUXVRAI\",BDD!$Z$2:$Z$3)","v":0},{"$f":"SUMIF(BDD!$BH$2:$BH$3,\"Banc P5FAUXVRAIVRAIFAUXFAUX\",BDD!$Z$2:$Z$3)","v":0},{"$f":"SUMIF(BDD!$BH$2:$BH$3,\"Banc P5FAUXVRAIFAUXVRAIFAUX\",BDD!$Z$2:$Z$3)","v":0},{"$f":"SUMIF(BDD!$BH$2:$BH$3,\"Banc P5FAUXVRAIFAUXFAUXVRAI\",BDD!$Z$2:$Z$3)","v":0},{"$f":"SUMIF(BDD!$BH$2:$BH$3,\"Banc P5VRAIFAUXVRAIFAUXFAUX\",BDD!$Z$2:$Z$3)","v":0},{"$f":"SUMIF(BDD!$BH$2:$BH$3,\"Banc P5VRAIFAUXFAUXVRAIFAUX\",BDD!$Z$2:$Z$3)","v":0},{"$f":"SUMIF(BDD!$BH$2:$BH$3,\"Banc P5VRAIFAUXFAUXFAUXVRAI\",BDD!$Z$2:$Z$3)","v":0},{"$f":"SUMIF(BDD!$BH$2:$BH$3,\"Banc P5FAUXVRAIVRAIFAUXFAUX\",BDD!$Z$2:$Z$3)","v":0},{"$f":"SUMIF(BDD!$BH$2:$BH$3,\"Banc P5FAUXVRAIFAUXVRAIFAUX\",BDD!$Z$2:$Z$3)","v":0},{"$f":"SUMIF(BDD!$BH$2:$BH$3,\"Banc P5FAUXVRAIFAUXFAUXVRAI\",BDD!$Z$2:$Z$3)","v":0},{"$f":"SUMIF(BDD!$BH$2:$BH$3,\"Banc P5VRAIFAUXVRAIFAUXFAUX\",BDD!$Z$2:$Z$3)","v":0},{"$f":"SUMIF(BDD!$BH$2:$BH$3,\"Banc P5VRAIFAUXFAUXVRAIFAUX\",BDD!$Z$2:$Z$3)","v":0},{"$f":"SUMIF(BDD!$BH$2:$BH$3,\"Banc P5VRAIFAUXFAUXFAUXVRAI\",BDD!$Z$2:$Z$3)","v":0},{"$f":"SUMIF(BDD!$BH$2:$BH$3,\"Banc P5FAUXVRAIVRAIFAUXFAUX\",BDD!$Z$2:$Z$3)","v":0},{"$f":"SUMIF(BDD!$BH$2:$BH$3,\"Banc P5FAUXVRAIFAUXVRAIFAUX\",BDD!$Z$2:$Z$3)","v":0},{"$f":"SUMIF(BDD!$BH$2:$BH$3,\"Banc P5FAUXVRAIFAUXFAUXVRAI\",BDD!$Z$2:$Z$3)","v":0},{"$f":"SUMIF(BDD!$BH$2:$BH$3,\"Banc P5VRAIFAUXVRAIFAUXFAUX\",BDD!$Z$2:$Z$3)","v":0},{"$f":"SUMIF(BDD!$BH$2:$BH$3,\"Banc P5VRAIFAUXFAUXVRAIFAUX\",BDD!$Z$2:$Z$3)","v":0},{"$f":"SUMIF(BDD!$BH$2:$BH$3,\"Banc P5VRAIFAUXFAUXFAUXVRAI\",BDD!$Z$2:$Z$3)","v":0},{"$f":"SUMIF(BDD!$BH$2:$BH$3,\"Banc P5FAUXVRAIVRAIFAUXFAUX\",BDD!$Z$2:$Z$3)","v":0},{"$f":"SUMIF(BDD!$BH$2:$BH$3,\"Banc P5FAUXVRAIFAUXVRAIFAUX\",BDD!$Z$2:$Z$3)","v":0},{"$f":"SUMIF(BDD!$BH$2:$BH$3,\"Banc P5FAUXVRAIFAUXFAUXVRAI\",BDD!$Z$2:$Z$3)","v":0},{"$f":"SUMIF(BDD!$BH$2:$BH$3,\"Banc P5VRAIFAUXVRAIFAUXFAUX\",BDD!$Z$2:$Z$3)","v":0},{"$f":"SUMIF(BDD!$BH$2:$BH$3,\"Banc P5VRAIFAUXFAUXVRAIFAUX\",BDD!$Z$2:$Z$3)","v":0},{"$f":"SUMIF(BDD!$BH$2:$BH$3,\"Banc P5VRAIFAUXFAUXFAUXVRAI\",BDD!$Z$2:$Z$3)","v":0},{"$f":"SUMIF(BDD!$BH$2:$BH$3,\"Banc P5FAUXVRAIVRAIFAUXFAUX\",BDD!$Z$2:$Z$3)","v":0},{"$f":"SUMIF(BDD!$BH$2:$BH$3,\"Banc P5FAUXVRAIFAUXVRAIFAUX\",BDD!$Z$2:$Z$3)","v":0},{"$f":"SUMIF(BDD!$BH$2:$BH$3,\"Banc P5FAUXVRAIFAUXFAUXVRAI\",BDD!$Z$2:$Z$3)","v":0},{"$f":"SUMIF(BDD!$BH$2:$BH$3,\"Banc P5VRAIFAUXVRAIFAUXFAUX\",BDD!$Z$2:$Z$3)","v":0},{"$f":"SUMIF(BDD!$BH$2:$BH$3,\"Banc P5VRAIFAUXFAUXVRAIFAUX\",BDD!$Z$2:$Z$3)","v":0},{"$f":"SUMIF(BDD!$BH$2:$BH$3,\"Banc P5VRAIFAUXFAUXFAUXVRAI\",BDD!$Z$2:$Z$3)","v":0},{"$f":"SUMIF(BDD!$BH$2:$BH$3,\"Banc P5FAUXVRAIVRAIFAUXFAUX\",BDD!$Z$2:$Z$3)","v":0},{"$f":"SUMIF(BDD!$BH$2:$BH$3,\"Banc P5FAUXVRAIFAUXVRAIFAUX\",BDD!$Z$2:$Z$3)","v":0},{"$f":"SUMIF(BDD!$BH$2:$BH$3,\"Banc P5FAUXVRAIFAUXFAUXVRAI\",BDD!$Z$2:$Z$3)","v":0},{"$f":"SUMIF(BDD!$BH$2:$BH$3,\"Banc P5VRAIFAUXVRAIFAUXFAUX\",BDD!$Z$2:$Z$3)","v":0},{"$f":"SUMIF(BDD!$BH$2:$BH$3,\"Banc P5VRAIFAUXFAUXVRAIFAUX\",BDD!$Z$2:$Z$3)","v":0},{"$f":"SUMIF(BDD!$BH$2:$BH$3,\"Banc P5VRAIFAUXFAUXFAUXVRAI\",BDD!$Z$2:$Z$3)","v":0},{"$f":"SUMIF(BDD!$BH$2:$BH$3,\"Banc P5FAUXVRAIVRAIFAUXFAUX\",BDD!$Z$2:$Z$3)","v":0},{"$f":"SUMIF(BDD!$BH$2:$BH$3,\"Banc P5FAUXVRAIFAUXVRAIFAUX\",BDD!$Z$2:$Z$3)","v":0},{"$f":"SUMIF(BDD!$BH$2:$BH$3,\"Banc P5FAUXVRAIFAUXFAUXVRAI\",BDD!$Z$2:$Z$3)","v":0},{"$f":"SUMIF(BDD!$BH$2:$BH$3,\"Banc P5VRAIFAUXVRAIFAUXFAUX\",BDD!$Z$2:$Z$3)","v":0},{"$f":"SUMIF(BDD!$BH$2:$BH$3,\"Banc P5VRAIFAUXFAUXVRAIFAUX\",BDD!$Z$2:$Z$3)","v":0},{"$f":"SUMIF(BDD!$BH$2:$BH$3,\"Banc P5VRAIFAUXFAUXFAUXVRAI\",BDD!$Z$2:$Z$3)","v":0},{"$f":"SUMIF(BDD!$BH$2:$BH$3,\"Banc P5FAUXVRAIVRAIFAUXFAUX\",BDD!$Z$2:$Z$3)","v":0},{"$f":"SUMIF(BDD!$BH$2:$BH$3,\"Banc P5FAUXVRAIFAUXVRAIFAUX\",BDD!$Z$2:$Z$3)","v":0},{"$f":"SUMIF(BDD!$BH$2:$BH$3,\"Banc P5FAUXVRAIFAUXFAUXVRAI\",BDD!$Z$2:$Z$3)","v":0}]
["Banc P7",{"$f":"SUMIF(BDD!$BH$2:$BH$3,\"Banc P7VRAIFAUXVRAIFAUXFAUX\",BDD!$Z$2:$Z$3)","v":0},{"$f":"SUMIF(BDD!$BH$2:$BH$3,\"Banc P7VRAIFAUXFAUXVRAIFAUX\",BDD!$Z$2:$Z$3)","v":0},{"$f":"SUMIF(BDD!$BH$2:$BH$3,\"Banc P7VRAIFAUXFAUXFAUXVRAI\",BDD!$Z$2:$Z$3)","v":0},{"$f":"SUMIF(BDD!$BH$2:$BH$3,\"Banc P7FAUXVRAIVRAIFAUXFAUX\",BDD!$Z$2:$Z$3)","v":0},{"$f":"SUMIF(BDD!$BH$2:$BH$3,\"Banc P7FAUXVRAIFAUXVRAIFAUX\",BDD!$Z$2:$Z$3)","v":0},{"$f":"SUMIF(BDD!$BH$2:$BH$3,\"Banc P7FAUXVRAIFAUXFAUXVRAI\",BDD!$Z$2:$Z$3)","v":0},{"$f":"SUMIF(BDD!$BH$2:$BH$3,\"Banc P7VRAIFAUXVRAIFAUXFAUX\",BDD!$Z$2:$Z$3)","v":0},{"$f":"SUMIF(BDD!$BH$2:$BH$3,\"Banc P7VRAIFAUXFAUXVRAIFAUX\",BDD!$Z$2:$Z$3)","v":0},{"$f":"SUMIF(BDD!$BH$2:$BH$3,\"Banc P7VRAIFAUXFAUXFAUXVRAI\",BDD!$Z$2:$Z$3)","v":0},{"$f":"SUMIF(BDD!$BH$2:$BH$3,\"Banc P7FAUXVRAIVRAIFAUXFAUX\",BDD!$Z$2:$Z$3)","v":0},{"$f":"SUMIF(BDD!$BH$2:$BH$3,\"Banc P7FAUXVRAIFAUXVRAIFAUX\",BDD!$Z$2:$Z$3)","v":0},{"$f":"SUMIF(BDD!$BH$2:$BH$3,\"Banc P7FAUXVRAIFAUXFAUXVRAI\",BDD!$Z$2:$Z$3)","v":0},{"$f":"SUMIF(BDD!$BH$2:$BH$682,\"Banc P7VRAIFAUXVRAIFAUXFAUX\",BDD!$Z$2:$Z$682)","v":0.15},{"$f":"SUMIF(BDD!$BH$2:$BH$682,\"Banc P7VRAIFAUXFAUXVRAIFAUX\",BDD!$Z$2:$Z$682)","v":0},{"$f":"SUMIF(BDD!$BH$2:$BH$682,\"Banc P7VRAIFAUXFAUXFAUXVRAI\",BDD!$Z$2:$Z$682)","v":0},{"$f":"SUMIF(BDD!$BH$2:$BH$682,\"Banc P7FAUXVRAIVRAIFAUXFAUX\",BDD!$Z$2:$Z$682)","v":0},{"$f":"SUMIF(BDD!$BH$2:$BH$682,\"Banc P7FAUXVRAIFAUXVRAIFAUX\",BDD!$Z$2:$Z$682)","v":0},{"$f":"SUMIF(BDD!$BH$2:$BH$682,\"Banc P7FAUXVRAIFAUXFAUXVRAI\",BDD!$Z$2:$Z$682)","v":0},{"$f":"SUMIF(BDD!$BH$2:$BH$3,\"Banc P7VRAIFAUXVRAIFAUXFAUX\",BDD!$Z$2:$Z$3)","v":0},{"$f":"SUMIF(BDD!$BH$2:$BH$3,\"Banc P7VRAIFAUXFAUXVRAIFAUX\",BDD!$Z$2:$Z$3)","v":0},{"$f":"SUMIF(BDD!$BH$2:$BH$3,\"Banc P7VRAIFAUXFAUXFAUXVRAI\",BDD!$Z$2:$Z$3)","v":0},{"$f":"SUMIF(BDD!$BH$2:$BH$3,\"Banc P7FAUXVRAIVRAIFAUXFAUX\",BDD!$Z$2:$Z$3)","v":0},{"$f":"SUMIF(BDD!$BH$2:$BH$3,\"Banc P7FAUXVRAIFAUXVRAIFAUX\",BDD!$Z$2:$Z$3)","v":0},{"$f":"SUMIF(BDD!$BH$2:$BH$3,\"Banc P7FAUXVRAIFAUXFAUXVRAI\",BDD!$Z$2:$Z$3)","v":0},{"$f":"SUMIF(BDD!$BH$2:$BH$3,\"Banc P7VRAIFAUXVRAIFAUXFAUX\",BDD!$Z$2:$Z$3)","v":0},{"$f":"SUMIF(BDD!$BH$2:$BH$3,\"Banc P7VRAIFAUXFAUXVRAIFAUX\",BDD!$Z$2:$Z$3)","v":0},{"$f":"SUMIF(BDD!$BH$2:$BH$3,\"Banc P7VRAIFAUXFAUXFAUXVRAI\",BDD!$Z$2:$Z$3)","v":0},{"$f":"SUMIF(BDD!$BH$2:$BH$3,\"Banc P7FAUXVRAIVRAIFAUXFAUX\",BDD!$Z$2:$Z$3)","v":0},{"$f":"SUMIF(BDD!$BH$2:$BH$3,\"Banc P7FAUXVRAIFAUXVRAIFAUX\",BDD!$Z$2:$Z$3)","v":0},{"$f":"SUMIF(BDD!$BH$2:$BH$3,\"Banc P7FAUXVRAIFAUXFAUXVRAI\",BDD!$Z$2:$Z$3)","v":0},{"$f":"SUMIF(BDD!$BH$2:$BH$3,\"Banc P7VRAIFAUXVRAIFAUXFAUX\",BDD!$Z$2:$Z$3)","v":0},{"$f":"SUMIF(BDD!$BH$2:$BH$3,\"Banc P7VRAIFAUXFAUXVRAIFAUX\",BDD!$Z$2:$Z$3)","v":0},{"$f":"SUMIF(BDD!$BH$2:$BH$3,\"Banc P7VRAIFAUXFAUXFAUXVRAI\",BDD!$Z$2:$Z$3)","v":0},{"$f":"SUMIF(BDD!$BH$2:$BH$3,\"Banc P7FAUXVRAIVRAIFAUXFAUX\",BDD!$Z$2:$Z$3)","v":0},{"$f":"SUMIF(BDD!$BH$2:$BH$3,\"Banc P7FAUXVRAIFAUXVRAIFAUX\",BDD!$Z$2:$Z$3)","v":0},{"$f":"SUMIF(BDD!$BH$2:$BH$3,\"Banc P7FAUXVRAIFAUXFAUXVRAI\",BDD!$Z$2:$Z$3)","v":0},{"$f":"SUMIF(BDD!$BH$2:$BH$3,\"Banc P7VRAIFAUXVRAIFAUXFAUX\",BDD!$Z$2:$Z$3)","v":0},{"$f":"SUMIF(BDD!$BH$2:$BH$3,\"Banc P7VRAIFAUXFAUXVRAIFAUX\",BDD!$Z$2:$Z$3)","v":0},{"$f":"SUMIF(BDD!$BH$2:$BH$3,\"Banc P7VRAIFAUXFAUXFAUXVRAI\",BDD!$Z$2:$Z$3)","v":0},{"$f":"SUMIF(BDD!$BH$2:$BH$3,\"Banc P7FAUXVRAIVRAIFAUXFAUX\",BDD!$Z$2:$Z$3)","v":0},{"$f":"SUMIF(BDD!$BH$2:$BH$3,\"Banc P7FAUXVRAIFAUXVRAIFAUX\",BDD!$Z$2:$Z$3)","v":0},{"$f":"SUMIF(BDD!$BH$2:$BH$3,\"Banc P7FAUXVRAIFAUXFAUXVRAI\",BDD!$Z$2:$Z$3)","v":0},{"$f":"SUMIF(BDD!$BH$2:$BH$3,\"Banc P7VRAIFAUXVRAIFAUXFAUX\",BDD!$Z$2:$Z$3)","v":0},{"$f":"SUMIF(BDD!$BH$2:$BH$3,\"Banc P7VRAIFAUXFAUXVRAIFAUX\",BDD!$Z$2:$Z$3)","v":0},{"$f":"SUMIF(BDD!$BH$2:$BH$3,\"Banc P7VRAIFAUXFAUXFAUXVRAI\",BDD!$Z$2:$Z$3)","v":0},{"$f":"SUMIF(BDD!$BH$2:$BH$3,\"Banc P7FAUXVRAIVRAIFAUXFAUX\",BDD!$Z$2:$Z$3)","v":0},{"$f":"SUMIF(BDD!$BH$2:$BH$3,\"Banc P7FAUXVRAIFAUXVRAIFAUX\",BDD!$Z$2:$Z$3)","v":0},{"$f":"SUMIF(BDD!$BH$2:$BH$3,\"Banc P7FAUXVRAIFAUXFAUXVRAI\",BDD!$Z$2:$Z$3)","v":0},{"$f":"SUMIF(BDD!$BH$2:$BH$3,\"Banc P7VRAIFAUXVRAIFAUXFAUX\",BDD!$Z$2:$Z$3)","v":0},{"$f":"SUMIF(BDD!$BH$2:$BH$3,\"Banc P7VRAIFAUXFAUXVRAIFAUX\",BDD!$Z$2:$Z$3)","v":0},{"$f":"SUMIF(BDD!$BH$2:$BH$3,\"Banc P7VRAIFAUXFAUXFAUXVRAI\",BDD!$Z$2:$Z$3)","v":0},{"$f":"SUMIF(BDD!$BH$2:$BH$3,\"Banc P7FAUXVRAIVRAIFAUXFAUX\",BDD!$Z$2:$Z$3)","v":0},{"$f":"SUMIF(BDD!$BH$2:$BH$3,\"Banc P7FAUXVRAIFAUXVRAIFAUX\",BDD!$Z$2:$Z$3)","v":0},{"$f":"SUMIF(BDD!$BH$2:$BH$3,\"Banc P7FAUXVRAIFAUXFAUXVRAI\",BDD!$Z$2:$Z$3)","v":0},{"$f":"SUMIF(BDD!$BH$2:$BH$3,\"Banc P7VRAIFAUXVRAIFAUXFAUX\",BDD!$Z$2:$Z$3)","v":0},{"$f":"SUMIF(BDD!$BH$2:$BH$3,\"Banc P7VRAIFAUXFAUXVRAIFAUX\",BDD!$Z$2:$Z$3)","v":0},{"$f":"SUMIF(BDD!$BH$2:$BH$3,\"Banc P7VRAIFAUXFAUXFAUXVRAI\",BDD!$Z$2:$Z$3)","v":0},{"$f":"SUMIF(BDD!$BH$2:$BH$3,\"Banc P7FAUXVRAIVRAIFAUXFAUX\",BDD!$Z$2:$Z$3)","v":0},{"$f":"SUMIF(BDD!$BH$2:$BH$3,\"Banc P7FAUXVRAIFAUXVRAIFAUX\",BDD!$Z$2:$Z$3)","v":0},{"$f":"SUMIF(BDD!$BH$2:$BH$3,\"Banc P7FAUXVRAIFAUXFAUXVRAI\",BDD!$Z$2:$Z$3)","v":0},{"$f":"SUMIF(BDD!$BH$2:$BH$3,\"Banc P7VRAIFAUXVRAIFAUXFAUX\",BDD!$Z$2:$Z$3)","v":0},{"$f":"SUMIF(BDD!$BH$2:$BH$3,\"Banc P7VRAIFAUXFAUXVRAIFAUX\",BDD!$Z$2:$Z$3)","v":0},{"$f":"SUMIF(BDD!$BH$2:$BH$3,\"Banc P7VRAIFAUXFAUXFAUXVRAI\",BDD!$Z$2:$Z$3)","v":0},{"$f":"SUMIF(BDD!$BH$2:$BH$3,\"Banc P7FAUXVRAIVRAIFAUXFAUX\",BDD!$Z$2:$Z$3)","v":0},{"$f":"SUMIF(BDD!$BH$2:$BH$3,\"Banc P7FAUXVRAIFAUXVRAIFAUX\",BDD!$Z$2:$Z$3)","v":0},{"$f":"SUMIF(BDD!$BH$2:$BH$3,\"Banc P7FAUXVRAIFAUXFAUXVRAI\",BDD!$Z$2:$Z$3)","v":0},{"$f":"SUMIF(BDD!$BH$2:$BH$3,\"Banc P7VRAIFAUXVRAIFAUXFAUX\",BDD!$Z$2:$Z$3)","v":0},{"$f":"SUMIF(BDD!$BH$2:$BH$3,\"Banc P7VRAIFAUXFAUXVRAIFAUX\",BDD!$Z$2:$Z$3)","v":0},{"$f":"SUMIF(BDD!$BH$2:$BH$3,\"Banc P7VRAIFAUXFAUXFAUXVRAI\",BDD!$Z$2:$Z$3)","v":0},{"$f":"SUMIF(BDD!$BH$2:$BH$3,\"Banc P7FAUXVRAIVRAIFAUXFAUX\",BDD!$Z$2:$Z$3)","v":0},{"$f":"SUMIF(BDD!$BH$2:$BH$3,\"Banc P7FAUXVRAIFAUXVRAIFAUX\",BDD!$Z$2:$Z$3)","v":0},{"$f":"SUMIF(BDD!$BH$2:$BH$3,\"Banc P7FAUXVRAIFAUXFAUXVRAI\",BDD!$Z$2:$Z$3)","v":0}]
["Banc 101",{"$f":"SUMIF(BDD!$BH$2:$BH$3,\"Banc 101VRAIFAUXVRAIFAUXFAUX\",BDD!$Z$2:$Z$3)","v":0},{"$f":"SUMIF(BDD!$BH$2:$BH$3,\"Banc 101VRAIFAUXFAUXVRAIFAUX\",BDD!$Z$2:$Z$3)","v":0},{"$f":"SUMIF(BDD!$BH$2:$BH$3,\"Banc 101VRAIFAUXFAUXFAUXVRAI\",BDD!$Z$2:$Z$3)","v":0},{"$f":"SUMIF(BDD!$BH$2:$BH$3,\"Banc 101FAUXVRAIVRAIFAUXFAUX\",BDD!$Z$2:$Z$3)","v":0},{"$f":"SUMIF(BDD!$BH$2:$BH$3,\"Banc 101FAUXVRAIFAUXVRAIFAUX\",BDD!$Z$2:$Z$3)","v":0},{"$f":"SUMIF(BDD!$BH$2:$BH$3,\"Banc 101FAUXVRAIFAUXFAUXVRAI\",BDD!$Z$2:$Z$3)","v":0},{"$f":"SUMIF(BDD!$BH$2:$BH$3,\"Banc 101VRAIFAUXVRAIFAUXFAUX\",BDD!$Z$2:$Z$3)","v":0},{"$f":"SUMIF(BDD!$BH$2:$BH$3,\"Banc 101VRAIFAUXFAUXVRAIFAUX\",BDD!$Z$2:$Z$3)","v":0},{"$f":"SUMIF(BDD!$BH$2:$BH$3,\"Banc 101VRAIFAUXFAUXFAUXVRAI\",BDD!$Z$2:$Z$3)","v":0},{"$f":"SUMIF(BDD!$BH$2:$BH$3,\"Banc 101FAUXVRAIVRAIFAUXFAUX\",BDD!$Z$2:$Z$3)","v":0},{"$f":"SUMIF(BDD!$BH$2:$BH$3,\"Banc 101FAUXVRAIFAUXVRAIFAUX\",BDD!$Z$2:$Z$3)","v":0},{"$f":"SUMIF(BDD!$BH$2:$BH$3,\"Banc 101FAUXVRAIFAUXFAUXVRAI\",BDD!$Z$2:$Z$3)","v":0},{"$f":"SUMIF(BDD!$BH$2:$BH$682,\"Banc 101VRAIFAUXVRAIFAUXFAUX\",BDD!$Z$2:$Z$682)","v":0},{"$f":"SUMIF(BDD!$BH$2:$BH$682,\"Banc 101VRAIFAUXFAUXVRAIFAUX\",BDD!$Z$2:$Z$682)","v":0},{"$f":"SUMIF(BDD!$BH$2:$BH$682,\"Banc 101VRAIFAUXFAUXFAUXVRAI\",BDD!$Z$2:$Z$682)","v":0},{"$f":"SUMIF(BDD!$BH$2:$BH$682,\"Banc 101FAUXVRAIVRAIFAUXFAUX\",BDD!$Z$2:$Z$682)","v":0.1},{"$f":"SUMIF(BDD!$BH$2:$BH$682,\"Banc 101FAUXVRAIFAUXVRAIFAUX\",BDD!$Z$2:$Z$682)","v":0},{"$f":"SUMIF(BDD!$BH$2:$BH$682,\"Banc 101FAUXVRAIFAUXFAUXVRAI\",BDD!$Z$2:$Z$682)","v":0},{"$f":"SUMIF(BDD!$BH$2:$BH$3,\"Banc 101VRAIFAUXVRAIFAUXFAUX\",BDD!$Z$2:$Z$3)","v":0},{"$f":"SUMIF(BDD!$BH$2:$BH$3,\"Banc 101VRAIFAUXFAUXVRAIFAUX\",BDD!$Z$2:$Z$3)","v":0},{"$f":"SUMIF(BDD!$BH$2:$BH$3,\"Banc 101VRAIFAUXFAUXFAUXVRAI\",BDD!$Z$2:$Z$3)","v":0},{"$f":"SUMIF(BDD!$BH$2:$BH$3,\"Banc 101FAUXVRAIVRAIFAUXFAUX\",BDD!$Z$2:$Z$3)","v":0},{"$f":"SUMIF(BDD!$BH$2:$BH$3,\"Banc 101FAUXVRAIFAUXVRAIFAUX\",BDD!$Z$2:$Z$3)","v":0},{"$f":"SUMIF(BDD!$BH$2:$BH$3,\"Banc 101FAUXVRAIFAUXFAUXVRAI\",BDD!$Z$2:$Z$3)","v":0},{"$f":"SUMIF(BDD!$BH$2:$BH$3,\"Banc 101VRAIFAUXVRAIFAUXFAUX\",BDD!$Z$2:$Z$3)","v":0},{"$f":"SUMIF(BDD!$BH$2:$BH$3,\"Banc 101VRAIFAUXFAUXVRAIFAUX\",BDD!$Z$2:$Z$3)","v":0},{"$f":"SUMIF(BDD!$BH$2:$BH$3,\"Banc 101VRAIFAUXFAUXFAUXVRAI\",BDD!$Z$2:$Z$3)","v":0},{"$f":"SUMIF(BDD!$BH$2:$BH$3,\"Banc 101FAUXVRAIVRAIFAUXFAUX\",BDD!$Z$2:$Z$3)","v":0},{"$f":"SUMIF(BDD!$BH$2:$BH$3,\"Banc 101FAUXVRAIFAUXVRAIFAUX\",BDD!$Z$2:$Z$3)","v":0},{"$f":"SUMIF(BDD!$BH$2:$BH$3,\"Banc 101FAUXVRAIFAUXFAUXVRAI\",BDD!$Z$2:$Z$3)","v":0},{"$f":"SUMIF(BDD!$BH$2:$BH$3,\"Banc 101VRAIFAUXVRAIFAUXFAUX\",BDD!$Z$2:$Z$3)","v":0},{"$f":"SUMIF(BDD!$BH$2:$BH$3,\"Banc 101VRAIFAUXFAUXVRAIFAUX\",BDD!$Z$2:$Z$3)","v":0},{"$f":"SUMIF(BDD!$BH$2:$BH$3,\"Banc 101VRAIFAUXFAUXFAUXVRAI\",BDD!$Z$2:$Z$3)","v":0},{"$f":"SUMIF(BDD!$BH$2:$BH$3,\"Banc 101FAUXVRAIVRAIFAUXFAUX\",BDD!$Z$2:$Z$3)","v":0},{"$f":"SUMIF(BDD!$BH$2:$BH$3,\"Banc 101FAUXVRAIFAUXVRAIFAUX\",BDD!$Z$2:$Z$3)","v":0},{"$f":"SUMIF(BDD!$BH$2:$BH$3,\"Banc 101FAUXVRAIFAUXFAUXVRAI\",BDD!$Z$2:$Z$3)","v":0},{"$f":"SUMIF(BDD!$BH$2:$BH$3,\"Banc 101VRAIFAUXVRAIFAUXFAUX\",BDD!$Z$2:$Z$3)","v":0},{"$f":"SUMIF(BDD!$BH$2:$BH$3,\"Banc 101VRAIFAUXFAUXVRAIFAUX\",BDD!$Z$2:$Z$3)","v":0},{"$f":"SUMIF(BDD!$BH$2:$BH$3,\"Banc 101VRAIFAUXFAUXFAUXVRAI\",BDD!$Z$2:$Z$3)","v":0},{"$f":"SUMIF(BDD!$BH$2:$BH$3,\"Banc 101FAUXVRAIVRAIFAUXFAUX\",BDD!$Z$2:$Z$3)","v":0},{"$f":"SUMIF(BDD!$BH$2:$BH$3,\"Banc 101FAUXVRAIFAUXVRAIFAUX\",BDD!$Z$2:$Z$3)","v":0},{"$f":"SUMIF(BDD!$BH$2:$BH$3,\"Banc 101FAUXVRAIFAUXFAUXVRAI\",BDD!$Z$2:$Z$3)","v":0},{"$f":"SUMIF(BDD!$BH$2:$BH$3,\"Banc 101VRAIFAUXVRAIFAUXFAUX\",BDD!$Z$2:$Z$3)","v":0},{"$f":"SUMIF(BDD!$BH$2:$BH$3,\"Banc 101VRAIFAUXFAUXVRAIFAUX\",BDD!$Z$2:$Z$3)","v":0},{"$f":"SUMIF(BDD!$BH$2:$BH$3,\"Banc 101VRAIFAUXFAUXFAUXVRAI\",BDD!$Z$2:$Z$3)","v":0},{"$f":"SUMIF(BDD!$BH$2:$BH$3,\"Banc 101FAUXVRAIVRAIFAUXFAUX\",BDD!$Z$2:$Z$3)","v":0},{"$f":"SUMIF(BDD!$BH$2:$BH$3,\"Banc 101FAUXVRAIFAUXVRAIFAUX\",BDD!$Z$2:$Z$3)","v":0},{"$f":"SUMIF(BDD!$BH$2:$BH$3,\"Banc 101FAUXVRAIFAUXFAUXVRAI\",BDD!$Z$2:$Z$3)","v":0},{"$f":"SUMIF(BDD!$BH$2:$BH$3,\"Banc 101VRAIFAUXVRAIFAUXFAUX\",BDD!$Z$2:$Z$3)","v":0},{"$f":"SUMIF(BDD!$BH$2:$BH$3,\"Banc 101VRAIFAUXFAUXVRAIFAUX\",BDD!$Z$2:$Z$3)","v":0},{"$f":"SUMIF(BDD!$BH$2:$BH$3,\"Banc 101VRAIFAUXFAUXFAUXVRAI\",BDD!$Z$2:$Z$3)","v":0},{"$f":"SUMIF(BDD!$BH$2:$BH$3,\"Banc 101FAUXVRAIVRAIFAUXFAUX\",BDD!$Z$2:$Z$3)","v":0},{"$f":"SUMIF(BDD!$BH$2:$BH$3,\"Banc 101FAUXVRAIFAUXVRAIFAUX\",BDD!$Z$2:$Z$3)","v":0},{"$f":"SUMIF(BDD!$BH$2:$BH$3,\"Banc 101FAUXVRAIFAUXFAUXVRAI\",BDD!$Z$2:$Z$3)","v":0},{"$f":"SUMIF(BDD!$BH$2:$BH$3,\"Banc 101VRAIFAUXVRAIFAUXFAUX\",BDD!$Z$2:$Z$3)","v":0},{"$f":"SUMIF(BDD!$BH$2:$BH$3,\"Banc 101VRAIFAUXFAUXVRAIFAUX\",BDD!$Z$2:$Z$3)","v":0},{"$f":"SUMIF(BDD!$BH$2:$BH$3,\"Banc 101VRAIFAUXFAUXFAUXVRAI\",BDD!$Z$2:$Z$3)","v":0},{"$f":"SUMIF(BDD!$BH$2:$BH$3,\"Banc 101FAUXVRAIVRAIFAUXFAUX\",BDD!$Z$2:$Z$3)","v":0},{"$f":"SUMIF(BDD!$BH$2:$BH$3,\"Banc 101FAUXVRAIFAUXVRAIFAUX\",BDD!$Z$2:$Z$3)","v":0},{"$f":"SUMIF(BDD!$BH$2:$BH$3,\"Banc 101FAUXVRAIFAUXFAUXVRAI\",BDD!$Z$2:$Z$3)","v":0},{"$f":"SUMIF(BDD!$BH$2:$BH$3,\"Banc 101VRAIFAUXVRAIFAUXFAUX\",BDD!$Z$2:$Z$3)","v":0},{"$f":"SUMIF(BDD!$BH$2:$BH$3,\"Banc 101VRAIFAUXFAUXVRAIFAUX\",BDD!$Z$2:$Z$3)","v":0},{"$f":"SUMIF(BDD!$BH$2:$BH$3,\"Banc 101VRAIFAUXFAUXFAUXVRAI\",BDD!$Z$2:$Z$3)","v":0},{"$f":"SUMIF(BDD!$BH$2:$BH$3,\"Banc 101FAUXVRAIVRAIFAUXFAUX\",BDD!$Z$2:$Z$3)","v":0},{"$f":"SUMIF(BDD!$BH$2:$BH$3,\"Banc 101FAUXVRAIFAUXVRAIFAUX\",BDD!$Z$2:$Z$3)","v":0},{"$f":"SUMIF(BDD!$BH$2:$BH$3,\"Banc 101FAUXVRAIFAUXFAUXVRAI\",BDD!$Z$2:$Z$3)","v":0},{"$f":"SUMIF(BDD!$BH$2:$BH$3,\"Banc 101VRAIFAUXVRAIFAUXFAUX\",BDD!$Z$2:$Z$3)","v":0},{"$f":"SUMIF(BDD!$BH$2:$BH$3,\"Banc 101VRAIFAUXFAUXVRAIFAUX\",BDD!$Z$2:$Z$3)","v":0},{"$f":"SUMIF(BDD!$BH$2:$BH$3,\"Banc 101VRAIFAUXFAUXFAUXVRAI\",BDD!$Z$2:$Z$3)","v":0},{"$f":"SUMIF(BDD!$BH$2:$BH$3,\"Banc 101FAUXVRAIVRAIFAUXFAUX\",BDD!$Z$2:$Z$3)","v":0},{"$f":"SUMIF(BDD!$BH$2:$BH$3,\"Banc 101FAUXVRAIFAUXVRAIFAUX\",BDD!$Z$2:$Z$3)","v":0},{"$f":"SUMIF(BDD!$BH$2:$BH$3,\"Banc 101FAUXVRAIFAUXFAUXVRAI\",BDD!$Z$2:$Z$3)","v":0}]
["Banc 104",{"$f":"SUMIF(BDD!$BH$2:$BH$3,\"Banc 104VRAIFAUXVRAIFAUXFAUX\",BDD!$Z$2:$Z$3)","v":0},{"$f":"SUMIF(BDD!$BH$2:$BH$3,\"Banc 104VRAIFAUXFAUXVRAIFAUX\",BDD!$Z$2:$Z$3)","v":0},{"$f":"SUMIF(BDD!$BH$2:$BH$3,\"Banc 104VRAIFAUXFAUXFAUXVRAI\",BDD!$Z$2:$Z$3)","v":0},{"$f":"SUMIF(BDD!$BH$2:$BH$3,\"Banc 104FAUXVRAIVRAIFAUXFAUX\",BDD!$Z$2:$Z$3)","v":0},{"$f":"SUMIF(BDD!$BH$2:$BH$3,\"Banc 104FAUXVRAIFAUXVRAIFAUX\",BDD!$Z$2:$Z$3)","v":0},{"$f":"SUMIF(BDD!$BH$2:$BH$3,\"Banc 104FAUXVRAIFAUXFAUXVRAI\",BDD!$Z$2:$Z$3)","v":0},{"$f":"SUMIF(BDD!$BH$2:$BH$3,\"Banc 104VRAIFAUXVRAIFAUXFAUX\",BDD!$Z$2:$Z$3)","v":0},{"$f":"SUMIF(BDD!$BH$2:$BH$3,\"Banc 104VRAIFAUXFAUXVRAIFAUX\",BDD!$Z$2:$Z$3)","v":0},{"$f":"SUMIF(BDD!$BH$2:$BH$3,\"Banc 104VRAIFAUXFAUXFAUXVRAI\",BDD!$Z$2:$Z$3)","v":0},{"$f":"SUMIF(BDD!$BH$2:$BH$3,\"Banc 104FAUXVRAIVRAIFAUXFAUX\",BDD!$Z$2:$Z$3)","v":0},{"$f":"SUMIF(BDD!$BH$2:$BH$3,\"Banc 104FAUXVRAIFAUXVRAIFAUX\",BDD!$Z$2:$Z$3)","v":0},{"$f":"SUMIF(BDD!$BH$2:$BH$3,\"Banc 104FAUXVRAIFAUXFAUXVRAI\",BDD!$Z$2:$Z$3)","v":0},{"$f":"SUMIF(BDD!$BH$2:$BH$682,\"Banc 104VRAIFAUXVRAIFAUXFAUX\",BDD!$Z$2:$Z$682)","v":0.15000000000000002},{"$f":"SUMIF(BDD!$BH$2:$BH$682,\"Banc 104VRAIFAUXFAUXVRAIFAUX\",BDD!$Z$2:$Z$682)","v":0},{"$f":"SUMIF(BDD!$BH$2:$BH$682,\"Banc 104VRAIFAUXFAUXFAUXVRAI\",BDD!$Z$2:$Z$682)","v":2},{"$f":"SUMIF(BDD!$BH$2:$BH$682,\"Banc 104FAUXVRAIVRAIFAUXFAUX\",BDD!$Z$2:$Z$682)","v":0},{"$f":"SUMIF(BDD!$BH$2:$BH$682,\"Banc 104FAUXVRAIFAUXVRAIFAUX\",BDD!$Z$2:$Z$682)","v":0},{"$f":"SUMIF(BDD!$BH$2:$BH$682,\"Banc 104FAUXVRAIFAUXFAUXVRAI\",BDD!$Z$2:$Z$682)","v":1.2000000000000002},{"$f":"SUMIF(BDD!$BH$2:$BH$3,\"Banc 104VRAIFAUXVRAIFAUXFAUX\",BDD!$Z$2:$Z$3)","v":0},{"$f":"SUMIF(BDD!$BH$2:$BH$3,\"Banc 104VRAIFAUXFAUXVRAIFAUX\",BDD!$Z$2:$Z$3)","v":0},{"$f":"SUMIF(BDD!$BH$2:$BH$3,\"Banc 104VRAIFAUXFAUXFAUXVRAI\",BDD!$Z$2:$Z$3)","v":0},{"$f":"SUMIF(BDD!$BH$2:$BH$3,\"Banc 104FAUXVRAIVRAIFAUXFAUX\",BDD!$Z$2:$Z$3)","v":0},{"$f":"SUMIF(BDD!$BH$2:$BH$3,\"Banc 104FAUXVRAIFAUXVRAIFAUX\",BDD!$Z$2:$Z$3)","v":0},{"$f":"SUMIF(BDD!$BH$2:$BH$3,\"Banc 104FAUXVRAIFAUXFAUXVRAI\",BDD!$Z$2:$Z$3)","v":0},{"$f":"SUMIF(BDD!$BH$2:$BH$3,\"Banc 104VRAIFAUXVRAIFAUXFAUX\",BDD!$Z$2:$Z$3)","v":0},{"$f":"SUMIF(BDD!$BH$2:$BH$3,\"Banc 104VRAIFAUXFAUXVRAIFAUX\",BDD!$Z$2:$Z$3)","v":0},{"$f":"SUMIF(BDD!$BH$2:$BH$3,\"Banc 104VRAIFAUXFAUXFAUXVRAI\",BDD!$Z$2:$Z$3)","v":0},{"$f":"SUMIF(BDD!$BH$2:$BH$3,\"Banc 104FAUXVRAIVRAIFAUXFAUX\",BDD!$Z$2:$Z$3)","v":0},{"$f":"SUMIF(BDD!$BH$2:$BH$3,\"Banc 104FAUXVRAIFAUXVRAIFAUX\",BDD!$Z$2:$Z$3)","v":0},{"$f":"SUMIF(BDD!$BH$2:$BH$3,\"Banc 104FAUXVRAIFAUXFAUXVRAI\",BDD!$Z$2:$Z$3)","v":0},{"$f":"SUMIF(BDD!$BH$2:$BH$3,\"Banc 104VRAIFAUXVRAIFAUXFAUX\",BDD!$Z$2:$Z$3)","v":0},{"$f":"SUMIF(BDD!$BH$2:$BH$3,\"Banc 104VRAIFAUXFAUXVRAIFAUX\",BDD!$Z$2:$Z$3)","v":0},{"$f":"SUMIF(BDD!$BH$2:$BH$3,\"Banc 104VRAIFAUXFAUXFAUXVRAI\",BDD!$Z$2:$Z$3)","v":0},{"$f":"SUMIF(BDD!$BH$2:$BH$3,\"Banc 104FAUXVRAIVRAIFAUXFAUX\",BDD!$Z$2:$Z$3)","v":0},{"$f":"SUMIF(BDD!$BH$2:$BH$3,\"Banc 104FAUXVRAIFAUXVRAIFAUX\",BDD!$Z$2:$Z$3)","v":0},{"$f":"SUMIF(BDD!$BH$2:$BH$3,\"Banc 104FAUXVRAIFAUXFAUXVRAI\",BDD!$Z$2:$Z$3)","v":0},{"$f":"SUMIF(BDD!$BH$2:$BH$3,\"Banc 104VRAIFAUXVRAIFAUXFAUX\",BDD!$Z$2:$Z$3)","v":0},{"$f":"SUMIF(BDD!$BH$2:$BH$3,\"Banc 104VRAIFAUXFAUXVRAIFAUX\",BDD!$Z$2:$Z$3)","v":0},{"$f":"SUMIF(BDD!$BH$2:$BH$3,\"Banc 104VRAIFAUXFAUXFAUXVRAI\",BDD!$Z$2:$Z$3)","v":0},{"$f":"SUMIF(BDD!$BH$2:$BH$3,\"Banc 104FAUXVRAIVRAIFAUXFAUX\",BDD!$Z$2:$Z$3)","v":0},{"$f":"SUMIF(BDD!$BH$2:$BH$3,\"Banc 104FAUXVRAIFAUXVRAIFAUX\",BDD!$Z$2:$Z$3)","v":0},{"$f":"SUMIF(BDD!$BH$2:$BH$3,\"Banc 104FAUXVRAIFAUXFAUXVRAI\",BDD!$Z$2:$Z$3)","v":0},{"$f":"SUMIF(BDD!$BH$2:$BH$3,\"Banc 104VRAIFAUXVRAIFAUXFAUX\",BDD!$Z$2:$Z$3)","v":0},{"$f":"SUMIF(BDD!$BH$2:$BH$3,\"Banc 104VRAIFAUXFAUXVRAIFAUX\",BDD!$Z$2:$Z$3)","v":0},{"$f":"SUMIF(BDD!$BH$2:$BH$3,\"Banc 104VRAIFAUXFAUXFAUXVRAI\",BDD!$Z$2:$Z$3)","v":0},{"$f":"SUMIF(BDD!$BH$2:$BH$3,\"Banc 104FAUXVRAIVRAIFAUXFAUX\",BDD!$Z$2:$Z$3)","v":0},{"$f":"SUMIF(BDD!$BH$2:$BH$3,\"Banc 104FAUXVRAIFAUXVRAIFAUX\",BDD!$Z$2:$Z$3)","v":0},{"$f":"SUMIF(BDD!$BH$2:$BH$3,\"Banc 104FAUXVRAIFAUXFAUXVRAI\",BDD!$Z$2:$Z$3)","v":0},{"$f":"SUMIF(BDD!$BH$2:$BH$3,\"Banc 104VRAIFAUXVRAIFAUXFAUX\",BDD!$Z$2:$Z$3)","v":0},{"$f":"SUMIF(BDD!$BH$2:$BH$3,\"Banc 104VRAIFAUXFAUXVRAIFAUX\",BDD!$Z$2:$Z$3)","v":0},{"$f":"SUMIF(BDD!$BH$2:$BH$3,\"Banc 104VRAIFAUXFAUXFAUXVRAI\",BDD!$Z$2:$Z$3)","v":0},{"$f":"SUMIF(BDD!$BH$2:$BH$3,\"Banc 104FAUXVRAIVRAIFAUXFAUX\",BDD!$Z$2:$Z$3)","v":0},{"$f":"SUMIF(BDD!$BH$2:$BH$3,\"Banc 104FAUXVRAIFAUXVRAIFAUX\",BDD!$Z$2:$Z$3)","v":0},{"$f":"SUMIF(BDD!$BH$2:$BH$3,\"Banc 104FAUXVRAIFAUXFAUXVRAI\",BDD!$Z$2:$Z$3)","v":0},{"$f":"SUMIF(BDD!$BH$2:$BH$3,\"Banc 104VRAIFAUXVRAIFAUXFAUX\",BDD!$Z$2:$Z$3)","v":0},{"$f":"SUMIF(BDD!$BH$2:$BH$3,\"Banc 104VRAIFAUXFAUXVRAIFAUX\",BDD!$Z$2:$Z$3)","v":0},{"$f":"SUMIF(BDD!$BH$2:$BH$3,\"Banc 104VRAIFAUXFAUXFAUXVRAI\",BDD!$Z$2:$Z$3)","v":0},{"$f":"SUMIF(BDD!$BH$2:$BH$3,\"Banc 104FAUXVRAIVRAIFAUXFAUX\",BDD!$Z$2:$Z$3)","v":0},{"$f":"SUMIF(BDD!$BH$2:$BH$3,\"Banc 104FAUXVRAIFAUXVRAIFAUX\",BDD!$Z$2:$Z$3)","v":0},{"$f":"SUMIF(BDD!$BH$2:$BH$3,\"Banc 104FAUXVRAIFAUXFAUXVRAI\",BDD!$Z$2:$Z$3)","v":0},{"$f":"SUMIF(BDD!$BH$2:$BH$3,\"Banc 104VRAIFAUXVRAIFAUXFAUX\",BDD!$Z$2:$Z$3)","v":0},{"$f":"SUMIF(BDD!$BH$2:$BH$3,\"Banc 104VRAIFAUXFAUXVRAIFAUX\",BDD!$Z$2:$Z$3)","v":0},{"$f":"SUMIF(BDD!$BH$2:$BH$3,\"Banc 104VRAIFAUXFAUXFAUXVRAI\",BDD!$Z$2:$Z$3)","v":0},{"$f":"SUMIF(BDD!$BH$2:$BH$3,\"Banc 104FAUXVRAIVRAIFAUXFAUX\",BDD!$Z$2:$Z$3)","v":0},{"$f":"SUMIF(BDD!$BH$2:$BH$3,\"Banc 104FAUXVRAIFAUXVRAIFAUX\",BDD!$Z$2:$Z$3)","v":0},{"$f":"SUMIF(BDD!$BH$2:$BH$3,\"Banc 104FAUXVRAIFAUXFAUXVRAI\",BDD!$Z$2:$Z$3)","v":0},{"$f":"SUMIF(BDD!$BH$2:$BH$3,\"Banc 104VRAIFAUXVRAIFAUXFAUX\",BDD!$Z$2:$Z$3)","v":0},{"$f":"SUMIF(BDD!$BH$2:$BH$3,\"Banc 104VRAIFAUXFAUXVRAIFAUX\",BDD!$Z$2:$Z$3)","v":0},{"$f":"SUMIF(BDD!$BH$2:$BH$3,\"Banc 104VRAIFAUXFAUXFAUXVRAI\",BDD!$Z$2:$Z$3)","v":0},{"$f":"SUMIF(BDD!$BH$2:$BH$3,\"Banc 104FAUXVRAIVRAIFAUXFAUX\",BDD!$Z$2:$Z$3)","v":0},{"$f":"SUMIF(BDD!$BH$2:$BH$3,\"Banc 104FAUXVRAIFAUXVRAIFAUX\",BDD!$Z$2:$Z$3)","v":0},{"$f":"SUMIF(BDD!$BH$2:$BH$3,\"Banc 104FAUXVRAIFAUXFAUXVRAI\",BDD!$Z$2:$Z$3)","v":0}]
["Banc 121",{"$f":"SUMIF(BDD!$BH$2:$BH$3,\"Banc 121VRAIFAUXVRAIFAUXFAUX\",BDD!$Z$2:$Z$3)","v":0},{"$f":"SUMIF(BDD!$BH$2:$BH$3,\"Banc 121VRAIFAUXFAUXVRAIFAUX\",BDD!$Z$2:$Z$3)","v":0},{"$f":"SUMIF(BDD!$BH$2:$BH$3,\"Banc 121VRAIFAUXFAUXFAUXVRAI\",BDD!$Z$2:$Z$3)","v":0},{"$f":"SUMIF(BDD!$BH$2:$BH$3,\"Banc 121FAUXVRAIVRAIFAUXFAUX\",BDD!$Z$2:$Z$3)","v":0},{"$f":"SUMIF(BDD!$BH$2:$BH$3,\"Banc 121FAUXVRAIFAUXVRAIFAUX\",BDD!$Z$2:$Z$3)","v":0},{"$f":"SUMIF(BDD!$BH$2:$BH$3,\"Banc 121FAUXVRAIFAUXFAUXVRAI\",BDD!$Z$2:$Z$3)","v":0},{"$f":"SUMIF(BDD!$BH$2:$BH$3,\"Banc 121VRAIFAUXVRAIFAUXFAUX\",BDD!$Z$2:$Z$3)","v":0},{"$f":"SUMIF(BDD!$BH$2:$BH$3,\"Banc 121VRAIFAUXFAUXVRAIFAUX\",BDD!$Z$2:$Z$3)","v":0},{"$f":"SUMIF(BDD!$BH$2:$BH$3,\"Banc 121VRAIFAUXFAUXFAUXVRAI\",BDD!$Z$2:$Z$3)","v":0},{"$f":"SUMIF(BDD!$BH$2:$BH$3,\"Banc 121FAUXVRAIVRAIFAUXFAUX\",BDD!$Z$2:$Z$3)","v":0},{"$f":"SUMIF(BDD!$BH$2:$BH$3,\"Banc 121FAUXVRAIFAUXVRAIFAUX\",BDD!$Z$2:$Z$3)","v":0},{"$f":"SUMIF(BDD!$BH$2:$BH$3,\"Banc 121FAUXVRAIFAUXFAUXVRAI\",BDD!$Z$2:$Z$3)","v":0},{"$f":"SUMIF(BDD!$BH$2:$BH$682,\"Banc 121VRAIFAUXVRAIFAUXFAUX\",BDD!$Z$2:$Z$682)","v":0},{"$f":"SUMIF(BDD!$BH$2:$BH$682,\"Banc 121VRAIFAUXFAUXVRAIFAUX\",BDD!$Z$2:$Z$682)","v":0},{"$f":"SUMIF(BDD!$BH$2:$BH$682,\"Banc 121VRAIFAUXFAUXFAUXVRAI\",BDD!$Z$2:$Z$682)","v":0},{"$f":"SUMIF(BDD!$BH$2:$BH$682,\"Banc 121FAUXVRAIVRAIFAUXFAUX\",BDD!$Z$2:$Z$682)","v":0},{"$f":"SUMIF(BDD!$BH$2:$BH$682,\"Banc 121FAUXVRAIFAUXVRAIFAUX\",BDD!$Z$2:$Z$682)","v":0},{"$f":"SUMIF(BDD!$BH$2:$BH$682,\"Banc 121FAUXVRAIFAUXFAUXVRAI\",BDD!$Z$2:$Z$682)","v":0},{"$f":"SUMIF(BDD!$BH$2:$BH$3,\"Banc 121VRAIFAUXVRAIFAUXFAUX\",BDD!$Z$2:$Z$3)","v":0},{"$f":"SUMIF(BDD!$BH$2:$BH$3,\"Banc 121VRAIFAUXFAUXVRAIFAUX\",BDD!$Z$2:$Z$3)","v":0},{"$f":"SUMIF(BDD!$BH$2:$BH$3,\"Banc 121VRAIFAUXFAUXFAUXVRAI\",BDD!$Z$2:$Z$3)","v":0},{"$f":"SUMIF(BDD!$BH$2:$BH$3,\"Banc 121FAUXVRAIVRAIFAUXFAUX\",BDD!$Z$2:$Z$3)","v":0},{"$f":"SUMIF(BDD!$BH$2:$BH$3,\"Banc 121FAUXVRAIFAUXVRAIFAUX\",BDD!$Z$2:$Z$3)","v":0},{"$f":"SUMIF(BDD!$BH$2:$BH$3,\"Banc 121FAUXVRAIFAUXFAUXVRAI\",BDD!$Z$2:$Z$3)","v":0},{"$f":"SUMIF(BDD!$BH$2:$BH$3,\"Banc 121VRAIFAUXVRAIFAUXFAUX\",BDD!$Z$2:$Z$3)","v":0},{"$f":"SUMIF(BDD!$BH$2:$BH$3,\"Banc 121VRAIFAUXFAUXVRAIFAUX\",BDD!$Z$2:$Z$3)","v":0},{"$f":"SUMIF(BDD!$BH$2:$BH$3,\"Banc 121VRAIFAUXFAUXFAUXVRAI\",BDD!$Z$2:$Z$3)","v":0},{"$f":"SUMIF(BDD!$BH$2:$BH$3,\"Banc 121FAUXVRAIVRAIFAUXFAUX\",BDD!$Z$2:$Z$3)","v":0},{"$f":"SUMIF(BDD!$BH$2:$BH$3,\"Banc 121FAUXVRAIFAUXVRAIFAUX\",BDD!$Z$2:$Z$3)","v":0},{"$f":"SUMIF(BDD!$BH$2:$BH$3,\"Banc 121FAUXVRAIFAUXFAUXVRAI\",BDD!$Z$2:$Z$3)","v":0},{"$f":"SUMIF(BDD!$BH$2:$BH$3,\"Banc 121VRAIFAUXVRAIFAUXFAUX\",BDD!$Z$2:$Z$3)","v":0},{"$f":"SUMIF(BDD!$BH$2:$BH$3,\"Banc 121VRAIFAUXFAUXVRAIFAUX\",BDD!$Z$2:$Z$3)","v":0},{"$f":"SUMIF(BDD!$BH$2:$BH$3,\"Banc 121VRAIFAUXFAUXFAUXVRAI\",BDD!$Z$2:$Z$3)","v":0},{"$f":"SUMIF(BDD!$BH$2:$BH$3,\"Banc 121FAUXVRAIVRAIFAUXFAUX\",BDD!$Z$2:$Z$3)","v":0},{"$f":"SUMIF(BDD!$BH$2:$BH$3,\"Banc 121FAUXVRAIFAUXVRAIFAUX\",BDD!$Z$2:$Z$3)","v":0},{"$f":"SUMIF(BDD!$BH$2:$BH$3,\"Banc 121FAUXVRAIFAUXFAUXVRAI\",BDD!$Z$2:$Z$3)","v":0},{"$f":"SUMIF(BDD!$BH$2:$BH$3,\"Banc 121VRAIFAUXVRAIFAUXFAUX\",BDD!$Z$2:$Z$3)","v":0},{"$f":"SUMIF(BDD!$BH$2:$BH$3,\"Banc 121VRAIFAUXFAUXVRAIFAUX\",BDD!$Z$2:$Z$3)","v":0},{"$f":"SUMIF(BDD!$BH$2:$BH$3,\"Banc 121VRAIFAUXFAUXFAUXVRAI\",BDD!$Z$2:$Z$3)","v":0},{"$f":"SUMIF(BDD!$BH$2:$BH$3,\"Banc 121FAUXVRAIVRAIFAUXFAUX\",BDD!$Z$2:$Z$3)","v":0},{"$f":"SUMIF(BDD!$BH$2:$BH$3,\"Banc 121FAUXVRAIFAUXVRAIFAUX\",BDD!$Z$2:$Z$3)","v":0},{"$f":"SUMIF(BDD!$BH$2:$BH$3,\"Banc 121FAUXVRAIFAUXFAUXVRAI\",BDD!$Z$2:$Z$3)","v":0},{"$f":"SUMIF(BDD!$BH$2:$BH$3,\"Banc 121VRAIFAUXVRAIFAUXFAUX\",BDD!$Z$2:$Z$3)","v":0},{"$f":"SUMIF(BDD!$BH$2:$BH$3,\"Banc 121VRAIFAUXFAUXVRAIFAUX\",BDD!$Z$2:$Z$3)","v":0},{"$f":"SUMIF(BDD!$BH$2:$BH$3,\"Banc 121VRAIFAUXFAUXFAUXVRAI\",BDD!$Z$2:$Z$3)","v":0},{"$f":"SUMIF(BDD!$BH$2:$BH$3,\"Banc 121FAUXVRAIVRAIFAUXFAUX\",BDD!$Z$2:$Z$3)","v":0},{"$f":"SUMIF(BDD!$BH$2:$BH$3,\"Banc 121FAUXVRAIFAUXVRAIFAUX\",BDD!$Z$2:$Z$3)","v":0},{"$f":"SUMIF(BDD!$BH$2:$BH$3,\"Banc 121FAUXVRAIFAUXFAUXVRAI\",BDD!$Z$2:$Z$3)","v":0},{"$f":"SUMIF(BDD!$BH$2:$BH$3,\"Banc 121VRAIFAUXVRAIFAUXFAUX\",BDD!$Z$2:$Z$3)","v":0},{"$f":"SUMIF(BDD!$BH$2:$BH$3,\"Banc 121VRAIFAUXFAUXVRAIFAUX\",BDD!$Z$2:$Z$3)","v":0},{"$f":"SUMIF(BDD!$BH$2:$BH$3,\"Banc 121VRAIFAUXFAUXFAUXVRAI\",BDD!$Z$2:$Z$3)","v":0},{"$f":"SUMIF(BDD!$BH$2:$BH$3,\"Banc 121FAUXVRAIVRAIFAUXFAUX\",BDD!$Z$2:$Z$3)","v":0},{"$f":"SUMIF(BDD!$BH$2:$BH$3,\"Banc 121FAUXVRAIFAUXVRAIFAUX\",BDD!$Z$2:$Z$3)","v":0},{"$f":"SUMIF(BDD!$BH$2:$BH$3,\"Banc 121FAUXVRAIFAUXFAUXVRAI\",BDD!$Z$2:$Z$3)","v":0},{"$f":"SUMIF(BDD!$BH$2:$BH$3,\"Banc 121VRAIFAUXVRAIFAUXFAUX\",BDD!$Z$2:$Z$3)","v":0},{"$f":"SUMIF(BDD!$BH$2:$BH$3,\"Banc 121VRAIFAUXFAUXVRAIFAUX\",BDD!$Z$2:$Z$3)","v":0},{"$f":"SUMIF(BDD!$BH$2:$BH$3,\"Banc 121VRAIFAUXFAUXFAUXVRAI\",BDD!$Z$2:$Z$3)","v":0},{"$f":"SUMIF(BDD!$BH$2:$BH$3,\"Banc 121FAUXVRAIVRAIFAUXFAUX\",BDD!$Z$2:$Z$3)","v":0},{"$f":"SUMIF(BDD!$BH$2:$BH$3,\"Banc 121FAUXVRAIFAUXVRAIFAUX\",BDD!$Z$2:$Z$3)","v":0},{"$f":"SUMIF(BDD!$BH$2:$BH$3,\"Banc 121FAUXVRAIFAUXFAUXVRAI\",BDD!$Z$2:$Z$3)","v":0},{"$f":"SUMIF(BDD!$BH$2:$BH$3,\"Banc 121VRAIFAUXVRAIFAUXFAUX\",BDD!$Z$2:$Z$3)","v":0},{"$f":"SUMIF(BDD!$BH$2:$BH$3,\"Banc 121VRAIFAUXFAUXVRAIFAUX\",BDD!$Z$2:$Z$3)","v":0},{"$f":"SUMIF(BDD!$BH$2:$BH$3,\"Banc 121VRAIFAUXFAUXFAUXVRAI\",BDD!$Z$2:$Z$3)","v":0},{"$f":"SUMIF(BDD!$BH$2:$BH$3,\"Banc 121FAUXVRAIVRAIFAUXFAUX\",BDD!$Z$2:$Z$3)","v":0},{"$f":"SUMIF(BDD!$BH$2:$BH$3,\"Banc 121FAUXVRAIFAUXVRAIFAUX\",BDD!$Z$2:$Z$3)","v":0},{"$f":"SUMIF(BDD!$BH$2:$BH$3,\"Banc 121FAUXVRAIFAUXFAUXVRAI\",BDD!$Z$2:$Z$3)","v":0},{"$f":"SUMIF(BDD!$BH$2:$BH$3,\"Banc 121VRAIFAUXVRAIFAUXFAUX\",BDD!$Z$2:$Z$3)","v":0},{"$f":"SUMIF(BDD!$BH$2:$BH$3,\"Banc 121VRAIFAUXFAUXVRAIFAUX\",BDD!$Z$2:$Z$3)","v":0},{"$f":"SUMIF(BDD!$BH$2:$BH$3,\"Banc 121VRAIFAUXFAUXFAUXVRAI\",BDD!$Z$2:$Z$3)","v":0},{"$f":"SUMIF(BDD!$BH$2:$BH$3,\"Banc 121FAUXVRAIVRAIFAUXFAUX\",BDD!$Z$2:$Z$3)","v":0},{"$f":"SUMIF(BDD!$BH$2:$BH$3,\"Banc 121FAUXVRAIFAUXVRAIFAUX\",BDD!$Z$2:$Z$3)","v":0},{"$f":"SUMIF(BDD!$BH$2:$BH$3,\"Banc 121FAUXVRAIFAUXFAUXVRAI\",BDD!$Z$2:$Z$3)","v":0}]
["Pompe à eau",{"$f":"SUMIF(BDD!$BH$2:$BH$3,\"Pompe à eauVRAIFAUXVRAIFAUXFAUX\",BDD!$Z$2:$Z$3)","v":0},{"$f":"SUMIF(BDD!$BH$2:$BH$3,\"Pompe à eauVRAIFAUXFAUXVRAIFAUX\",BDD!$Z$2:$Z$3)","v":0},{"$f":"SUMIF(BDD!$BH$2:$BH$3,\"Pompe à eauVRAIFAUXFAUXFAUXVRAI\",BDD!$Z$2:$Z$3)","v":0},{"$f":"SUMIF(BDD!$BH$2:$BH$3,\"Pompe à eauFAUXVRAIVRAIFAUXFAUX\",BDD!$Z$2:$Z$3)","v":0},{"$f":"SUMIF(BDD!$BH$2:$BH$3,\"Pompe à eauFAUXVRAIFAUXVRAIFAUX\",BDD!$Z$2:$Z$3)","v":0},{"$f":"SUMIF(BDD!$BH$2:$BH$3,\"Pompe à eauFAUXVRAIFAUXFAUXVRAI\",BDD!$Z$2:$Z$3)","v":0},{"$f":"SUMIF(BDD!$BH$2:$BH$3,\"Pompe à eauVRAIFAUXVRAIFAUXFAUX\",BDD!$Z$2:$Z$3)","v":0},{"$f":"SUMIF(BDD!$BH$2:$BH$3,\"Pompe à eauVRAIFAUXFAUXVRAIFAUX\",BDD!$Z$2:$Z$3)","v":0},{"$f":"SUMIF(BDD!$BH$2:$BH$3,\"Pompe à eauVRAIFAUXFAUXFAUXVRAI\",BDD!$Z$2:$Z$3)","v":0},{"$f":"SUMIF(BDD!$BH$2:$BH$3,\"Pompe à eauFAUXVRAIVRAIFAUXFAUX\",BDD!$Z$2:$Z$3)","v":0},{"$f":"SUMIF(BDD!$BH$2:$BH$3,\"Pompe à eauFAUXVRAIFAUXVRAIFAUX\",BDD!$Z$2:$Z$3)","v":0},{"$f":"SUMIF(BDD!$BH$2:$BH$3,\"Pompe à eauFAUXVRAIFAUXFAUXVRAI\",BDD!$Z$2:$Z$3)","v":0},{"$f":"SUMIF(BDD!$BH$2:$BH$682,\"Pompe à eauVRAIFAUXVRAIFAUXFAUX\",BDD!$Z$2:$Z$682)","v":0},{"$f":"SUMIF(BDD!$BH$2:$BH$682,\"Pompe à eauVRAIFAUXFAUXVRAIFAUX\",BDD!$Z$2:$Z$682)","v":1.3},{"$f":"SUMIF(BDD!$BH$2:$BH$682,\"Pompe à eauVRAIFAUXFAUXFAUXVRAI\",BDD!$Z$2:$Z$682)","v":5},{"$f":"SUMIF(BDD!$BH$2:$BH$682,\"Pompe à eauFAUXVRAIVRAIFAUXFAUX\",BDD!$Z$2:$Z$682)","v":0},{"$f":"SUMIF(BDD!$BH$2:$BH$682,\"Pompe à eauFAUXVRAIFAUXVRAIFAUX\",BDD!$Z$2:$Z$682)","v":0},{"$f":"SUMIF(BDD!$BH$2:$BH$682,\"Pompe à eauFAUXVRAIFAUXFAUXVRAI\",BDD!$Z$2:$Z$682)","v":0},{"$f":"SUMIF(BDD!$BH$2:$BH$3,\"Pompe à eauVRAIFAUXVRAIFAUXFAUX\",BDD!$Z$2:$Z$3)","v":0},{"$f":"SUMIF(BDD!$BH$2:$BH$3,\"Pompe à eauVRAIFAUXFAUXVRAIFAUX\",BDD!$Z$2:$Z$3)","v":0},{"$f":"SUMIF(BDD!$BH$2:$BH$3,\"Pompe à eauVRAIFAUXFAUXFAUXVRAI\",BDD!$Z$2:$Z$3)","v":0},{"$f":"SUMIF(BDD!$BH$2:$BH$3,\"Pompe à eauFAUXVRAIVRAIFAUXFAUX\",BDD!$Z$2:$Z$3)","v":0},{"$f":"SUMIF(BDD!$BH$2:$BH$3,\"Pompe à eauFAUXVRAIFAUXVRAIFAUX\",BDD!$Z$2:$Z$3)","v":0},{"$f":"SUMIF(BDD!$BH$2:$BH$3,\"Pompe à eauFAUXVRAIFAUXFAUXVRAI\",BDD!$Z$2:$Z$3)","v":0},{"$f":"SUMIF(BDD!$BH$2:$BH$3,\"Pompe à eauVRAIFAUXVRAIFAUXFAUX\",BDD!$Z$2:$Z$3)","v":0},{"$f":"SUMIF(BDD!$BH$2:$BH$3,\"Pompe à eauVRAIFAUXFAUXVRAIFAUX\",BDD!$Z$2:$Z$3)","v":0},{"$f":"SUMIF(BDD!$BH$2:$BH$3,\"Pompe à eauVRAIFAUXFAUXFAUXVRAI\",BDD!$Z$2:$Z$3)","v":0},{"$f":"SUMIF(BDD!$BH$2:$BH$3,\"Pompe à eauFAUXVRAIVRAIFAUXFAUX\",BDD!$Z$2:$Z$3)","v":0},{"$f":"SUMIF(BDD!$BH$2:$BH$3,\"Pompe à eauFAUXVRAIFAUXVRAIFAUX\",BDD!$Z$2:$Z$3)","v":0},{"$f":"SUMIF(BDD!$BH$2:$BH$3,\"Pompe à eauFAUXVRAIFAUXFAUXVRAI\",BDD!$Z$2:$Z$3)","v":0},{"$f":"SUMIF(BDD!$BH$2:$BH$3,\"Pompe à eauVRAIFAUXVRAIFAUXFAUX\",BDD!$Z$2:$Z$3)","v":0},{"$f":"SUMIF(BDD!$BH$2:$BH$3,\"Pompe à eauVRAIFAUXFAUXVRAIFAUX\",BDD!$Z$2:$Z$3)","v":0},{"$f":"SUMIF(BDD!$BH$2:$BH$3,\"Pompe à eauVRAIFAUXFAUXFAUXVRAI\",BDD!$Z$2:$Z$3)","v":0},{"$f":"SUMIF(BDD!$BH$2:$BH$3,\"Pompe à eauFAUXVRAIVRAIFAUXFAUX\",BDD!$Z$2:$Z$3)","v":0},{"$f":"SUMIF(BDD!$BH$2:$BH$3,\"Pompe à eauFAUXVRAIFAUXVRAIFAUX\",BDD!$Z$2:$Z$3)","v":0},{"$f":"SUMIF(BDD!$BH$2:$BH$3,\"Pompe à eauFAUXVRAIFAUXFAUXVRAI\",BDD!$Z$2:$Z$3)","v":0},{"$f":"SUMIF(BDD!$BH$2:$BH$3,\"Pompe à eauVRAIFAUXVRAIFAUXFAUX\",BDD!$Z$2:$Z$3)","v":0},{"$f":"SUMIF(BDD!$BH$2:$BH$3,\"Pompe à eauVRAIFAUXFAUXVRAIFAUX\",BDD!$Z$2:$Z$3)","v":0},{"$f":"SUMIF(BDD!$BH$2:$BH$3,\"Pompe à eauVRAIFAUXFAUXFAUXVRAI\",BDD!$Z$2:$Z$3)","v":0},{"$f":"SUMIF(BDD!$BH$2:$BH$3,\"Pompe à eauFAUXVRAIVRAIFAUXFAUX\",BDD!$Z$2:$Z$3)","v":0},{"$f":"SUMIF(BDD!$BH$2:$BH$3,\"Pompe à eauFAUXVRAIFAUXVRAIFAUX\",BDD!$Z$2:$Z$3)","v":0},{"$f":"SUMIF(BDD!$BH$2:$BH$3,\"Pompe à eauFAUXVRAIFAUXFAUXVRAI\",BDD!$Z$2:$Z$3)","v":0},{"$f":"SUMIF(BDD!$BH$2:$BH$3,\"Pompe à eauVRAIFAUXVRAIFAUXFAUX\",BDD!$Z$2:$Z$3)","v":0},{"$f":"SUMIF(BDD!$BH$2:$BH$3,\"Pompe à eauVRAIFAUXFAUXVRAIFAUX\",BDD!$Z$2:$Z$3)","v":0},{"$f":"SUMIF(BDD!$BH$2:$BH$3,\"Pompe à eauVRAIFAUXFAUXFAUXVRAI\",BDD!$Z$2:$Z$3)","v":0},{"$f":"SUMIF(BDD!$BH$2:$BH$3,\"Pompe à eauFAUXVRAIVRAIFAUXFAUX\",BDD!$Z$2:$Z$3)","v":0},{"$f":"SUMIF(BDD!$BH$2:$BH$3,\"Pompe à eauFAUXVRAIFAUXVRAIFAUX\",BDD!$Z$2:$Z$3)","v":0},{"$f":"SUMIF(BDD!$BH$2:$BH$3,\"Pompe à eauFAUXVRAIFAUXFAUXVRAI\",BDD!$Z$2:$Z$3)","v":0},{"$f":"SUMIF(BDD!$BH$2:$BH$3,\"Pompe à eauVRAIFAUXVRAIFAUXFAUX\",BDD!$Z$2:$Z$3)","v":0},{"$f":"SUMIF(BDD!$BH$2:$BH$3,\"Pompe à eauVRAIFAUXFAUXVRAIFAUX\",BDD!$Z$2:$Z$3)","v":0},{"$f":"SUMIF(BDD!$BH$2:$BH$3,\"Pompe à eauVRAIFAUXFAUXFAUXVRAI\",BDD!$Z$2:$Z$3)","v":0},{"$f":"SUMIF(BDD!$BH$2:$BH$3,\"Pompe à eauFAUXVRAIVRAIFAUXFAUX\",BDD!$Z$2:$Z$3)","v":0},{"$f":"SUMIF(BDD!$BH$2:$BH$3,\"Pompe à eauFAUXVRAIFAUXVRAIFAUX\",BDD!$Z$2:$Z$3)","v":0},{"$f":"SUMIF(BDD!$BH$2:$BH$3,\"Pompe à eauFAUXVRAIFAUXFAUXVRAI\",BDD!$Z$2:$Z$3)","v":0},{"$f":"SUMIF(BDD!$BH$2:$BH$3,\"Pompe à eauVRAIFAUXVRAIFAUXFAUX\",BDD!$Z$2:$Z$3)","v":0},{"$f":"SUMIF(BDD!$BH$2:$BH$3,\"Pompe à eauVRAIFAUXFAUXVRAIFAUX\",BDD!$Z$2:$Z$3)","v":0},{"$f":"SUMIF(BDD!$BH$2:$BH$3,\"Pompe à eauVRAIFAUXFAUXFAUXVRAI\",BDD!$Z$2:$Z$3)","v":0},{"$f":"SUMIF(BDD!$BH$2:$BH$3,\"Pompe à eauFAUXVRAIVRAIFAUXFAUX\",BDD!$Z$2:$Z$3)","v":0},{"$f":"SUMIF(BDD!$BH$2:$BH$3,\"Pompe à eauFAUXVRAIFAUXVRAIFAUX\",BDD!$Z$2:$Z$3)","v":0},{"$f":"SUMIF(BDD!$BH$2:$BH$3,\"Pompe à eauFAUXVRAIFAUXFAUXVRAI\",BDD!$Z$2:$Z$3)","v":0},{"$f":"SUMIF(BDD!$BH$2:$BH$3,\"Pompe à eauVRAIFAUXVRAIFAUXFAUX\",BDD!$Z$2:$Z$3)","v":0},{"$f":"SUMIF(BDD!$BH$2:$BH$3,\"Pompe à eauVRAIFAUXFAUXVRAIFAUX\",BDD!$Z$2:$Z$3)","v":0},{"$f":"SUMIF(BDD!$BH$2:$BH$3,\"Pompe à eauVRAIFAUXFAUXFAUXVRAI\",BDD!$Z$2:$Z$3)","v":0},{"$f":"SUMIF(BDD!$BH$2:$BH$3,\"Pompe à eauFAUXVRAIVRAIFAUXFAUX\",BDD!$Z$2:$Z$3)","v":0},{"$f":"SUMIF(BDD!$BH$2:$BH$3,\"Pompe à eauFAUXVRAIFAUXVRAIFAUX\",BDD!$Z$2:$Z$3)","v":0},{"$f":"SUMIF(BDD!$BH$2:$BH$3,\"Pompe à eauFAUXVRAIFAUXFAUXVRAI\",BDD!$Z$2:$Z$3)","v":0},{"$f":"SUMIF(BDD!$BH$2:$BH$3,\"Pompe à eauVRAIFAUXVRAIFAUXFAUX\",BDD!$Z$2:$Z$3)","v":0},{"$f":"SUMIF(BDD!$BH$2:$BH$3,\"Pompe à eauVRAIFAUXFAUXVRAIFAUX\",BDD!$Z$2:$Z$3)","v":0},{"$f":"SUMIF(BDD!$BH$2:$BH$3,\"Pompe à eauVRAIFAUXFAUXFAUXVRAI\",BDD!$Z$2:$Z$3)","v":0},{"$f":"SUMIF(BDD!$BH$2:$BH$3,\"Pompe à eauFAUXVRAIVRAIFAUXFAUX\",BDD!$Z$2:$Z$3)","v":0},{"$f":"SUMIF(BDD!$BH$2:$BH$3,\"Pompe à eauFAUXVRAIFAUXVRAIFAUX\",BDD!$Z$2:$Z$3)","v":0},{"$f":"SUMIF(BDD!$BH$2:$BH$3,\"Pompe à eauFAUXVRAIFAUXFAUXVRAI\",BDD!$Z$2:$Z$3)","v":0}]
["Banc PowerTrain",{"$f":"SUMIF(BDD!$BH$2:$BH$3,\"Banc PowerTrainVRAIFAUXVRAIFAUXFAUX\",BDD!$Z$2:$Z$3)","v":0},{"$f":"SUMIF(BDD!$BH$2:$BH$3,\"Banc PowerTrainVRAIFAUXFAUXVRAIFAUX\",BDD!$Z$2:$Z$3)","v":0},{"$f":"SUMIF(BDD!$BH$2:$BH$3,\"Banc PowerTrainVRAIFAUXFAUXFAUXVRAI\",BDD!$Z$2:$Z$3)","v":0},{"$f":"SUMIF(BDD!$BH$2:$BH$3,\"Banc PowerTrainFAUXVRAIVRAIFAUXFAUX\",BDD!$Z$2:$Z$3)","v":0},{"$f":"SUMIF(BDD!$BH$2:$BH$3,\"Banc PowerTrainFAUXVRAIFAUXVRAIFAUX\",BDD!$Z$2:$Z$3)","v":0},{"$f":"SUMIF(BDD!$BH$2:$BH$3,\"Banc PowerTrainFAUXVRAIFAUXFAUXVRAI\",BDD!$Z$2:$Z$3)","v":0},{"$f":"SUMIF(BDD!$BH$2:$BH$3,\"Banc PowerTrainVRAIFAUXVRAIFAUXFAUX\",BDD!$Z$2:$Z$3)","v":0},{"$f":"SUMIF(BDD!$BH$2:$BH$3,\"Banc PowerTrainVRAIFAUXFAUXVRAIFAUX\",BDD!$Z$2:$Z$3)","v":0},{"$f":"SUMIF(BDD!$BH$2:$BH$3,\"Banc PowerTrainVRAIFAUXFAUXFAUXVRAI\",BDD!$Z$2:$Z$3)","v":0},{"$f":"SUMIF(BDD!$BH$2:$BH$3,\"Banc PowerTrainFAUXVRAIVRAIFAUXFAUX\",BDD!$Z$2:$Z$3)","v":0},{"$f":"SUMIF(BDD!$BH$2:$BH$3,\"Banc PowerTrainFAUXVRAIFAUXVRAIFAUX\",BDD!$Z$2:$Z$3)","v":0},{"$f":"SUMIF(BDD!$BH$2:$BH$3,\"Banc PowerTrainFAUXVRAIFAUXFAUXVRAI\",BDD!$Z$2:$Z$3)","v":0},{"$f":"SUMIF(BDD!$BH$2:$BH$682,\"Banc PowerTrainVRAIFAUXVRAIFAUXFAUX\",BDD!$Z$2:$Z$682)","v":0},{"$f":"SUMIF(BDD!$BH$2:$BH$682,\"Banc PowerTrainVRAIFAUXFAUXVRAIFAUX\",BDD!$Z$2:$Z$682)","v":0},{"$f":"SUMIF(BDD!$BH$2:$BH$682,\"Banc PowerTrainVRAIFAUXFAUXFAUXVRAI\",BDD!$Z$2:$Z$682)","v":0},{"$f":"SUMIF(BDD!$BH$2:$BH$682,\"Banc PowerTrainFAUXVRAIVRAIFAUXFAUX\",BDD!$Z$2:$Z$682)","v":0},{"$f":"SUMIF(BDD!$BH$2:$BH$682,\"Banc PowerTrainFAUXVRAIFAUXVRAIFAUX\",BDD!$Z$2:$Z$682)","v":0},{"$f":"SUMIF(BDD!$BH$2:$BH$682,\"Banc PowerTrainFAUXVRAIFAUXFAUXVRAI\",BDD!$Z$2:$Z$682)","v":0},{"$f":"SUMIF(BDD!$BH$2:$BH$3,\"Banc PowerTrainVRAIFAUXVRAIFAUXFAUX\",BDD!$Z$2:$Z$3)","v":0},{"$f":"SUMIF(BDD!$BH$2:$BH$3,\"Banc PowerTrainVRAIFAUXFAUXVRAIFAUX\",BDD!$Z$2:$Z$3)","v":0},{"$f":"SUMIF(BDD!$BH$2:$BH$3,\"Banc PowerTrainVRAIFAUXFAUXFAUXVRAI\",BDD!$Z$2:$Z$3)","v":0},{"$f":"SUMIF(BDD!$BH$2:$BH$3,\"Banc PowerTrainFAUXVRAIVRAIFAUXFAUX\",BDD!$Z$2:$Z$3)","v":0},{"$f":"SUMIF(BDD!$BH$2:$BH$3,\"Banc PowerTrainFAUXVRAIFAUXVRAIFAUX\",BDD!$Z$2:$Z$3)","v":0},{"$f":"SUMIF(BDD!$BH$2:$BH$3,\"Banc PowerTrainFAUXVRAIFAUXFAUXVRAI\",BDD!$Z$2:$Z$3)","v":0},{"$f":"SUMIF(BDD!$BH$2:$BH$3,\"Banc PowerTrainVRAIFAUXVRAIFAUXFAUX\",BDD!$Z$2:$Z$3)","v":0},{"$f":"SUMIF(BDD!$BH$2:$BH$3,\"Banc PowerTrainVRAIFAUXFAUXVRAIFAUX\",BDD!$Z$2:$Z$3)","v":0},{"$f":"SUMIF(BDD!$BH$2:$BH$3,\"Banc PowerTrainVRAIFAUXFAUXFAUXVRAI\",BDD!$Z$2:$Z$3)","v":0},{"$f":"SUMIF(BDD!$BH$2:$BH$3,\"Banc PowerTrainFAUXVRAIVRAIFAUXFAUX\",BDD!$Z$2:$Z$3)","v":0},{"$f":"SUMIF(BDD!$BH$2:$BH$3,\"Banc PowerTrainFAUXVRAIFAUXVRAIFAUX\",BDD!$Z$2:$Z$3)","v":0},{"$f":"SUMIF(BDD!$BH$2:$BH$3,\"Banc PowerTrainFAUXVRAIFAUXFAUXVRAI\",BDD!$Z$2:$Z$3)","v":0},{"$f":"SUMIF(BDD!$BH$2:$BH$3,\"Banc PowerTrainVRAIFAUXVRAIFAUXFAUX\",BDD!$Z$2:$Z$3)","v":0},{"$f":"SUMIF(BDD!$BH$2:$BH$3,\"Banc PowerTrainVRAIFAUXFAUXVRAIFAUX\",BDD!$Z$2:$Z$3)","v":0},{"$f":"SUMIF(BDD!$BH$2:$BH$3,\"Banc PowerTrainVRAIFAUXFAUXFAUXVRAI\",BDD!$Z$2:$Z$3)","v":0},{"$f":"SUMIF(BDD!$BH$2:$BH$3,\"Banc PowerTrainFAUXVRAIVRAIFAUXFAUX\",BDD!$Z$2:$Z$3)","v":0},{"$f":"SUMIF(BDD!$BH$2:$BH$3,\"Banc PowerTrainFAUXVRAIFAUXVRAIFAUX\",BDD!$Z$2:$Z$3)","v":0},{"$f":"SUMIF(BDD!$BH$2:$BH$3,\"Banc PowerTrainFAUXVRAIFAUXFAUXVRAI\",BDD!$Z$2:$Z$3)","v":0},{"$f":"SUMIF(BDD!$BH$2:$BH$3,\"Banc PowerTrainVRAIFAUXVRAIFAUXFAUX\",BDD!$Z$2:$Z$3)","v":0},{"$f":"SUMIF(BDD!$BH$2:$BH$3,\"Banc PowerTrainVRAIFAUXFAUXVRAIFAUX\",BDD!$Z$2:$Z$3)","v":0},{"$f":"SUMIF(BDD!$BH$2:$BH$3,\"Banc PowerTrainVRAIFAUXFAUXFAUXVRAI\",BDD!$Z$2:$Z$3)","v":0},{"$f":"SUMIF(BDD!$BH$2:$BH$3,\"Banc PowerTrainFAUXVRAIVRAIFAUXFAUX\",BDD!$Z$2:$Z$3)","v":0},{"$f":"SUMIF(BDD!$BH$2:$BH$3,\"Banc PowerTrainFAUXVRAIFAUXVRAIFAUX\",BDD!$Z$2:$Z$3)","v":0},{"$f":"SUMIF(BDD!$BH$2:$BH$3,\"Banc PowerTrainFAUXVRAIFAUXFAUXVRAI\",BDD!$Z$2:$Z$3)","v":0},{"$f":"SUMIF(BDD!$BH$2:$BH$3,\"Banc PowerTrainVRAIFAUXVRAIFAUXFAUX\",BDD!$Z$2:$Z$3)","v":0},{"$f":"SUMIF(BDD!$BH$2:$BH$3,\"Banc PowerTrainVRAIFAUXFAUXVRAIFAUX\",BDD!$Z$2:$Z$3)","v":0},{"$f":"SUMIF(BDD!$BH$2:$BH$3,\"Banc PowerTrainVRAIFAUXFAUXFAUXVRAI\",BDD!$Z$2:$Z$3)","v":0},{"$f":"SUMIF(BDD!$BH$2:$BH$3,\"Banc PowerTrainFAUXVRAIVRAIFAUXFAUX\",BDD!$Z$2:$Z$3)","v":0},{"$f":"SUMIF(BDD!$BH$2:$BH$3,\"Banc PowerTrainFAUXVRAIFAUXVRAIFAUX\",BDD!$Z$2:$Z$3)","v":0},{"$f":"SUMIF(BDD!$BH$2:$BH$3,\"Banc PowerTrainFAUXVRAIFAUXFAUXVRAI\",BDD!$Z$2:$Z$3)","v":0},{"$f":"SUMIF(BDD!$BH$2:$BH$3,\"Banc PowerTrainVRAIFAUXVRAIFAUXFAUX\",BDD!$Z$2:$Z$3)","v":0},{"$f":"SUMIF(BDD!$BH$2:$BH$3,\"Banc PowerTrainVRAIFAUXFAUXVRAIFAUX\",BDD!$Z$2:$Z$3)","v":0},{"$f":"SUMIF(BDD!$BH$2:$BH$3,\"Banc PowerTrainVRAIFAUXFAUXFAUXVRAI\",BDD!$Z$2:$Z$3)","v":0},{"$f":"SUMIF(BDD!$BH$2:$BH$3,\"Banc PowerTrainFAUXVRAIVRAIFAUXFAUX\",BDD!$Z$2:$Z$3)","v":0},{"$f":"SUMIF(BDD!$BH$2:$BH$3,\"Banc PowerTrainFAUXVRAIFAUXVRAIFAUX\",BDD!$Z$2:$Z$3)","v":0},{"$f":"SUMIF(BDD!$BH$2:$BH$3,\"Banc PowerTrainFAUXVRAIFAUXFAUXVRAI\",BDD!$Z$2:$Z$3)","v":0},{"$f":"SUMIF(BDD!$BH$2:$BH$3,\"Banc PowerTrainVRAIFAUXVRAIFAUXFAUX\",BDD!$Z$2:$Z$3)","v":0},{"$f":"SUMIF(BDD!$BH$2:$BH$3,\"Banc PowerTrainVRAIFAUXFAUXVRAIFAUX\",BDD!$Z$2:$Z$3)","v":0},{"$f":"SUMIF(BDD!$BH$2:$BH$3,\"Banc PowerTrainVRAIFAUXFAUXFAUXVRAI\",BDD!$Z$2:$Z$3)","v":0},{"$f":"SUMIF(BDD!$BH$2:$BH$3,\"Banc PowerTrainFAUXVRAIVRAIFAUXFAUX\",BDD!$Z$2:$Z$3)","v":0},{"$f":"SUMIF(BDD!$BH$2:$BH$3,\"Banc PowerTrainFAUXVRAIFAUXVRAIFAUX\",BDD!$Z$2:$Z$3)","v":0},{"$f":"SUMIF(BDD!$BH$2:$BH$3,\"Banc PowerTrainFAUXVRAIFAUXFAUXVRAI\",BDD!$Z$2:$Z$3)","v":0},{"$f":"SUMIF(BDD!$BH$2:$BH$3,\"Banc PowerTrainVRAIFAUXVRAIFAUXFAUX\",BDD!$Z$2:$Z$3)","v":0},{"$f":"SUMIF(BDD!$BH$2:$BH$3,\"Banc PowerTrainVRAIFAUXFAUXVRAIFAUX\",BDD!$Z$2:$Z$3)","v":0},{"$f":"SUMIF(BDD!$BH$2:$BH$3,\"Banc PowerTrainVRAIFAUXFAUXFAUXVRAI\",BDD!$Z$2:$Z$3)","v":0},{"$f":"SUMIF(BDD!$BH$2:$BH$3,\"Banc PowerTrainFAUXVRAIVRAIFAUXFAUX\",BDD!$Z$2:$Z$3)","v":0},{"$f":"SUMIF(BDD!$BH$2:$BH$3,\"Banc PowerTrainFAUXVRAIFAUXVRAIFAUX\",BDD!$Z$2:$Z$3)","v":0},{"$f":"SUMIF(BDD!$BH$2:$BH$3,\"Banc PowerTrainFAUXVRAIFAUXFAUXVRAI\",BDD!$Z$2:$Z$3)","v":0},{"$f":"SUMIF(BDD!$BH$2:$BH$3,\"Banc PowerTrainVRAIFAUXVRAIFAUXFAUX\",BDD!$Z$2:$Z$3)","v":0},{"$f":"SUMIF(BDD!$BH$2:$BH$3,\"Banc PowerTrainVRAIFAUXFAUXVRAIFAUX\",BDD!$Z$2:$Z$3)","v":0},{"$f":"SUMIF(BDD!$BH$2:$BH$3,\"Banc PowerTrainVRAIFAUXFAUXFAUXVRAI\",BDD!$Z$2:$Z$3)","v":0},{"$f":"SUMIF(BDD!$BH$2:$BH$3,\"Banc PowerTrainFAUXVRAIVRAIFAUXFAUX\",BDD!$Z$2:$Z$3)","v":0},{"$f":"SUMIF(BDD!$BH$2:$BH$3,\"Banc PowerTrainFAUXVRAIFAUXVRAIFAUX\",BDD!$Z$2:$Z$3)","v":0},{"$f":"SUMIF(BDD!$BH$2:$BH$3,\"Banc PowerTrainFAUXVRAIFAUXFAUXVRAI\",BDD!$Z$2:$Z$3)","v":0}]

{"sheet":"Indicateur Zone9","index":6,"n_rows":100,"n_cols":73,"rows_kept":100,"cut":false,"hidden":false,"merged":[[90,58,90,60],[90,61,90,63],[90,64,90,66],[90,67,90,69],[90,70,90,72],[90,43,90,45],[90,46,90,48],[90,49,90,51],[90,52,90,54],[90,55,90,57],[89,43,89,48],[89,49,89,54],[89,55,89,60],[89,61,89,66],[89,67,89,72],[89,31,89,36],[89,37,89,42],[90,31,90,33],[90,34,90,36],[90,37,90,39],[90,40,90,42],[1,1,1,12],[55,1,55,12],[89,25,89,30],[90,25,90,27],[90,28,90,30],[56,1,56,2],[56,3,56,4],[56,5,56,6],[56,7,56,8],[56,9,56,10],[56,11,56,12],[56,13,56,14],[56,15,56,16],[56,17,56,18],[56,19,56,20],[90,16,90,18],[90,19,90,21],[90,22,90,24],[31,1,31,12],[90,1,90,3],[90,4,90,6],[90,7,90,9],[90,10,90,12],[90,13,90,15],[56,21,56,22],[56,23,56,24],[88,1,88,21],[89,1,89,6],[89,7,89,12],[89,13,89,18],[89,19,89,24]]}
[]
[null,"Suivi des arrêts par banc"]
["Banc zone 9","Janvier","Février","Mars","Avril","Mai","Juin","Juillet","Août","Septembre","Octobre","Novembre","Décembre"]
["Banc P5",{"$f":"SUMIF(BDD!$H$2:$H$3,'Indicateur Zone9'!$A4,BDD!$Z$2:$Z$3)","v":0},{"$f":"SUMIF(BDD!$H$2:$H$3,'Indicateur Zone9'!$A4,BDD!$Z$2:$Z$3)","v":0},{"$f":"SUMIF(BDD!$H$2:$H$682,'Indicateur Zone9'!$A$4,BDD!$Z$2:$Z$682)","v":0},{"$f":"SUMIF(BDD!$H$2:$H$3,'Indicateur Zone9'!$A4,BDD!$Z$2:$Z$3)","v":0},{"$f":"SUMIF(BDD!$H$2:$H$3,'Indicateur Zone9'!$A4,BDD!$Z$2:$Z$3)","v":0},{"$f":"SUMIF(BDD!$H$2:$H$3,'Indicateur Zone9'!$A4,BDD!$Z$2:$Z$3)","v":0},{"$f":"SUMIF(BDD!$H$2:$H$3,'Indicateur Zone9'!$A4,BDD!$Z$2:$Z$3)","v":0},{"$f":"SUMIF(BDD!$H$2:$H$3,'Indicateur Zone9'!$A4,BDD!$Z$2:$Z$3)","v":0},{"$f":"SUMIF(BDD!$H$2:$H$3,'Indicateur Zone9'!$A4,BDD!$Z$2:$Z$3)","v":0},{"$f":"SUMIF(BDD!$H$2:$H$3,'Indicateur Zone9'!$A4,BDD!$Z$2:$Z$3)","v":0},{"$f":"SUMIF(BDD!$H$2:$H$3,'Indicateur Zone9'!$A4,BDD!$Z$2:$Z$3)","v":0},{"$f":"SUMIF(BDD!$H$2:$H$3,'Indicateur Zone9'!$A4,BDD!$Z$2:$Z$3)","v":0}]
["Banc 111",{"$f":"SUMIF(BDD!$H$2:$H$3,'Indicateur Zone9'!$A5,BDD!$Z$2:$Z$3)","v":0},{"$f":"SUMIF(BDD!$H$2:$H$3,'Indicateur Zone9'!$A5,BDD!$Z$2:$Z$3)","v":0},{"$f":"SUMIF(BDD!$H$2:$H$682,'Indicateur Zone9'!$A$5,BDD!$Z$2:$Z$682)","v":0.25},{"$f":"SUMIF(BDD!$H$2:$H$3,'Indicateur Zone9'!$A5,BDD!$Z$2:$Z$3)","v":0},{"$f":"SUMIF(BDD!$H$2:$H$3,'Indicateur Zone9'!$A5,BDD!$Z$2:$Z$3)","v":0},{"$f":"SUMIF(BDD!$H$2:$H$3,'Indicateur Zone9'!$A5,BDD!$Z$2:$Z$3)","v":0},{"$f":"SUMIF(BDD!$H$2:$H$3,'Indicateur Zone9'!$A5,BDD!$Z$2:$Z$3)","v":0},{"$f":"SUMIF(BDD!$H$2:$H$3,'Indicateur Zone9'!$A5,BDD!$Z$2:$Z$3)","v":0},{"$f":"SUMIF(BDD!$H$2:$H$3,'Indicateur Zone9'!$A5,BDD!$Z$2:$Z$3)","v":0},{"$f":"SUMIF(BDD!$H$2:$H$3,'Indicateur Zone9'!$A5,BDD!$Z$2:$Z$3)","v":0},{"$f":"SUMIF(BDD!$H$2:$H$3,'Indicateur Zone9'!$A5,BDD!$Z$2:$Z$3)","v":0},{"$f":"SUMIF(BDD!$H$2:$H$3,'Indicateur Zone9'!$A5,BDD!$Z$2:$Z$3)","v":0}]
["Banc 117",{"$f":"SUMIF(BDD!$H$2:$H$3,'Indicateur Zone9'!$A6,BDD!$Z$2:$Z$3)","v":0},{"$f":"SUMIF(BDD!$H$2:$H$3,'Indicateur Zone9'!$A6,BDD!$Z$2:$Z$3)","v":0},{"$f":"SUMIF(BDD!$H$2:$H$682,'Indicateur Zone9'!$A$6,BDD!$Z$2:$Z$682)","v":0},{"$f":"SUMIF(BDD!$H$2:$H$3,'Indicateur Zone9'!$A6,BDD!$Z$2:$Z$3)","v":0},{"$f":"SUMIF(BDD!$H$2:$H$3,'Indicateur Zone9'!$A6,BDD!$Z$2:$Z$3)","v":0},{"$f":"SUMIF(BDD!$H$2:$H$3,'Indicateur Zone9'!$A6,BDD!$Z$2:$Z$3)","v":0},{"$f":"SUMIF(BDD!$H$2:$H$3,'Indicateur Zone9'!$A6,BDD!$Z$2:$Z$3)","v":0},{"$f":"SUMIF(BDD!$H$2:$H$3,'Indicateur Zone9'!$A6,BDD!$Z$2:$Z$3)","v":0},{"$f":"SUMIF(BDD!$H$2:$H$3,'Indicateur Zone9'!$A6,BDD!$Z$2:$Z$3)","v":0},{"$f":"SUMIF(BDD!$H$2:$H$3,'Indicateur Zone9'!$A6,BDD!$Z$2:$Z$3)","v":0},{"$f":"SUMIF(BDD!$H$2:$H$3,'Indicateur Zone9'!$A6,BDD!$Z$2:$Z$3)","v":0},{"$f":"SUMIF(BDD!$H$2:$H$3,'Indicateur Zone9'!$A6,BDD!$Z$2:$Z$3)","v":0}]
["Banc 117 bis",{"$f":"SUMIF(BDD!$H$2:$H$3,'Indicateur Zone9'!$A7,BDD!$Z$2:$Z$3)","v":0},{"$f":"SUMIF(BDD!$H$2:$H$3,'Indicateur Zone9'!$A7,BDD!$Z$2:$Z$3)","v":0},{"$f":"SUMIF(BDD!$H$2:$H$682,'Indicateur Zone9'!$A$7,BDD!$Z$2:$Z$682)","v":0.1},{"$f":"SUMIF(BDD!$H$2:$H$3,'Indicateur Zone9'!$A7,BDD!$Z$2:$Z$3)","v":0},{"$f":"SUMIF(BDD!$H$2:$H$3,'Indicateur Zone9'!$A7,BDD!$Z$2:$Z$3)","v":0},{"$f":"SUMIF(BDD!$H$2:$H$3,'Indicateur Zone9'!$A7,BDD!$Z$2:$Z$3)","v":0},{"$f":"SUMIF(BDD!$H$2:$H$3,'Indicateur Zone9'!$A7,BDD!$Z$2:$Z$3)","v":0},{"$f":"SUMIF(BDD!$H$2:$H$3,'Indicateur Zone9'!$A7,BDD!$Z$2:$Z$3)","v":0},{"$f":"SUMIF(BDD!$H$2:$H$3,'Indicateur Zone9'!$A7,BDD!$Z$2:$Z$3)","v":0},{"$f":"SUMIF(BDD!$H$2:$H$3,'Indicateur Zone9'!$A7,BDD!$Z$2:$Z$3)","v":0},{"$f":"SUMIF(BDD!$H$2:$H$3,'Indicateur Zone9'!$A7,BDD!$Z$2:$Z$3)","v":0},{"$f":"SUMIF(BDD!$H$2:$H$3,'Indicateur Zone9'!$A7,BDD!$Z$2:$Z$3)","v":0}]
["Banc 119",{"$f":"SUMIF(BDD!$H$2:$H$3,'Indicateur Zone9'!$A8,BDD!$Z$2:$Z$3)","v":0},{"$f":"SUMIF(BDD!$H$2:$H$3,'Indicateur Zone9'!$A8,BDD!$Z$2:$Z$3)","v":0},{"$f":"SUMIF(BDD!$H$2:$H$682,'Indicateur Zone9'!$A$8,BDD!$Z$2:$Z$682)","v":2},{"$f":"SUMIF(BDD!$H$2:$H$3,'Indicateur Zone9'!$A8,BDD!$Z$2:$Z$3)","v":0},{"$f":"SUMIF(BDD!$H$2:$H$3,'Indicateur Zone9'!$A8,BDD!$Z$2:$Z$3)","v":0},{"$f":"SUMIF(BDD!$H$2:$H$3,'Indicateur Zone9'!$A8,BDD!$Z$2:$Z$3)","v":0},{"$f":"SUMIF(BDD!$H$2:$H$3,'Indicateur Zone9'!$A8,BDD!$Z$2:$Z$3)","v":0},{"$f":"SUMIF(BDD!$H$2:$H$3,'Indicateur Zone9'!$A8,BDD!$Z$2:$Z$3)","v":0},{"$f":"SUMIF(BDD!$H$2:$H$3,'Indicateur Zone9'!$A8,BDD!$Z$2:$Z$3)","v":0},{"$f":"SUMIF(BDD!$H$2:$H$3,'Indicateur Zone9'!$A8,BDD!$Z$2:$Z$3)","v":0},{"$f":"SUMIF(BDD!$H$2:$H$3,'Indicateur Zone9'!$A8,BDD!$Z$2:$Z$3)","v":0},{"$f":"SUMIF(BDD!$H$2:$H$3,'Indicateur Zone9'!$A8,BDD!$Z$2:$Z$3)","v":0}]
["Banc 123",{"$f":"SUMIF(BDD!$H$2:$H$3,'Indicateur Zone9'!$A9,BDD!$Z$2:$Z$3)","v":0},{"$f":"SUMIF(BDD!$H$2:$H$3,'Indicateur Zone9'!$A9,BDD!$Z$2:$Z$3)","v":0},{"$f":"SUMIF(BDD!$H$2:$H$682,'Indicateur Zone9'!$A$9,BDD!$Z$2:$Z$682)","v":35.15},{"$f":"SUMIF(BDD!$H$2:$H$3,'Indicateur Zone9'!$A9,BDD!$Z$2:$Z$3)","v":0},{"$f":"SUMIF(BDD!$H$2:$H$3,'Indicateur Zone9'!$A9,BDD!$Z$2:$Z$3)","v":0},{"$f":"SUMIF(BDD!$H$2:$H$3,'Indicateur Zone9'!$A9,BDD!$Z$2:$Z$3)","v":0},{"$f":"SUMIF(BDD!$H$2:$H$3,'Indicateur Zone9'!$A9,BDD!$Z$2:$Z$3)","v":0},{"$f":"SUMIF(BDD!$H$2:$H$3,'Indicateur Zone9'!$A9,BDD!$Z$2:$Z$3)","v":0},{"$f":"SUMIF(BDD!$H$2:$H$3,'Indicateur Zone9'!$A9,BDD!$Z$2:$Z$3)","v":0},{"$f":"SUMIF(BDD!$H$2:$H$3,'Indicateur Zone9'!$A9,BDD!$Z$2:$Z$3)","v":0},{"$f":"SUMIF(BDD!$H$2:$H$3,'Indicateur Zone9'!$A9,BDD!$Z$2:$Z$3)","v":0},{"$f":"SUMIF(BDD!$H$2:$H$3,'Indicateur Zone9'!$A9,BDD!$Z$2:$Z$3)","v":0}]
["Banc 126",{"$f":"SUMIF(BDD!$H$2:$H$3,'Indicateur Zone9'!$A10,BDD!$Z$2:$Z$3)","v":0},{"$f":"SUMIF(BDD!$H$2:$H$3,'Indicateur Zone9'!$A10,BDD!$Z$2:$Z$3)","v":0},{"$f":"SUMIF(BDD!$H$2:$H$682,'Indicateur Zone9'!$A$10,BDD!$Z$2:$Z$682)","v":1.85},{"$f":"SUMIF(BDD!$H$2:$H$3,'Indicateur Zone9'!$A10,BDD!$Z$2:$Z$3)","v":0},{"$f":"SUMIF(BDD!$H$2:$H$3,'Indicateur Zone9'!$A10,BDD!$Z$2:$Z$3)","v":0},{"$f":"SUMIF(BDD!$H$2:$H$3,'Indicateur Zone9'!$A10,BDD!$Z$2:$Z$3)","v":0},{"$f":"SUMIF(BDD!$H$2:$H$3,'Indicateur Zone9'!$A10,BDD!$Z$2:$Z$3)","v":0},{"$f":"SUMIF(BDD!$H$2:$H$3,'Indicateur Zone9'!$A10,BDD!$Z$2:$Z$3)","v":0},{"$f":"SUMIF(BDD!$H$2:$H$3,'Indicateur Zone9'!$A10,BDD!$Z$2:$Z$3)","v":0},{"$f":"SUMIF(BDD!$H$2:$H$3,'Indicateur Zone9'!$A10,BDD!$Z$2:$Z$3)","v":0},{"$f":"SUMIF(BDD!$H$2:$H$3,'Indicateur Zone9'!$A10,BDD!$Z$2:$Z$3)","v":0},{"$f":"SUMIF(BDD!$H$2:$H$3,'Indicateur Zone9'!$A10,BDD!$Z$2:$Z$3)","v":0}]
["Banc 156",{"$f":"SUMIF(BDD!$H$2:$H$3,'Indicateur Zone9'!$A11,BDD!$Z$2:$Z$3)","v":0},{"$f":"SUMIF(BDD!$H$2:$H$3,'Indicateur Zone9'!$A11,BDD!$Z$2:$Z$3)","v":0},{"$f":"SUMIF(BDD!$H$2:$H$682,'Indicateur Zone9'!$A$11,BDD!$Z$2:$Z$682)","v":0},{"$f":"SUMIF(BDD!$H$2:$H$3,'Indicateur Zone9'!$A11,BDD!$Z$2:$Z$3)","v":0},{"$f":"SUMIF(BDD!$H$2:$H$3,'Indicateur Zone9'!$A11,BDD!$Z$2:$Z$3)","v":0},{"$f":"SUMIF(BDD!$H$2:$H$3,'Indicateur Zone9'!$A11,BDD!$Z$2:$Z$3)","v":0},{"$f":"SUMIF(BDD!$H$2:$H$3,'Indicateur Zone9'!$A11,BDD!$Z$2:$Z$3)","v":0},{"$f":"SUMIF(BDD!$H$2:$H$3,'Indicateur Zone9'!$A11,BDD!$Z$2:$Z$3)","v":0},{"$f":"SUMIF(BDD!$H$2:$H$3,'Indicateur Zone9'!$A11,BDD!$Z$2:$Z$3)","v":0},{"$f":"SUMIF(BDD!$H$2:$H$3,'Indicateur Zone9'!$A11,BDD!$Z$2:$Z$3)","v":0},{"$f":"SUMIF(BDD!$H$2:$H$3,'Indicateur Zone9'!$A11,BDD!$Z$2:$Z$3)","v":0},{"$f":"SUMIF(BDD!$H$2:$H$3,'Indicateur Zone9'!$A11,BDD!$Z$2:$Z$3)","v":0}]
[]
[]
[]
[]
[]
[]
[]
[]
[]
[]
[]
[]
[]
[]
[]
[]
[]
[]
[]
[]
[null,"Suivi du correctif et du préventif"]
["Type de maintenance","Janvier","Février","Mars","Avril","Mai","Juin","Juillet","Août","Septembre","Octobre","Novembre","Décembre"]
["Préventive",{"$f":"SUM(C59:C66)","v":0},{"$f":"SUM(E59:E66)","v":0},{"$f":"SUM(G59:G66)","v":32.4},{"$f":"SUM(I59:I66)","v":0},{"$f":"SUM(K59:K66)","v":0},{"$f":"SUM(M59:M66)","v":0},{"$f":"SUM(O59:O66)","v":0},{"$f":"SUM(Q59:Q66)","v":0},{"$f":"SUM(S59:S66)","v":0},{"$f":"SUM(U59:U66)","v":0},{"$f":"SUM(W59:W66)","v":0},{"$f":"SUM(Y59:Y66)","v":0}]
["Corrective",{"$f":"SUM(B59:B66)","v":0},{"$f":"SUM(D59:D66)","v":0},{"$f":"SUM(F59:F66)","v":2},{"$f":"SUM(H59:H66)","v":0},{"$f":"SUM(J59:J66)","v":0},{"$f":"SUM(L59:L66)","v":0},{"$f":"SUM(N59:N66)","v":0},{"$f":"SUM(N59:N66)","v":0},{"$f":"SUM(R59:R66)","v":0},{"$f":"SUM(T59:T66)","v":0},{"$f":"SUM(V59:V66)","v":0},{"$f":"SUM(X59:X66)","v":0}]
[]
[]
[]
[]
[]
[]
[]
[]
[]
[]
[]
[]
[]
[]
[]
[]
[]
[]
[]
[]
[null,"Suivi du correctif et du préventif par banc"]
[null,"Janvier",null,"Février",null,"Mars",null,"Avril",null,"Mai",null,"Juin",null,"Juillet",null,"Août",null,"Septembre",null,"Octobre",null,"Novembre",null,"Décembre"]
["Banc zone 9","Corrective","Préventive","Corrective","Préventive","Corrective","Préventive","Corrective","Préventive","Corrective","Préventive","Corrective","Préventive","Corrective","Préventive","Corrective","Préventive","Corrective","Préventive","Corrective","Préventive","Corrective","Préventive","Corrective","Préventive"]
["Banc P5",{"$f":"SUMIF(BDD!$BG$2:$BG$3,\"Banc P5VRAIFAUX\",BDD!$Z$2:$Z$3)","v":0},{"$f":"SUMIF(BDD!$BG$2:$BG$3,\"Banc P5FAUXVRAI\",BDD!$Z$2:$Z$3)","v":0},{"$f":"SUMIF(BDD!$BG$2:$BG$3,\"Banc P5VRAIFAUX\",BDD!$Z$2:$Z$3)","v":0},{"$f":"SUMIF(BDD!$BG$2:$BG$3,\"Banc P5FAUXVRAI\",BDD!$Z$2:$Z$3)","v":0},{"$f":"SUMIF(BDD!$BG$2:$BG$682,\"Banc P5VRAIFAUX\",BDD!$Z$2:$Z$682)","v":0},{"$f":"SUMIF(BDD!$BG$2:$BG$682,\"Banc P5FAUXvrai\",BDD!$Z$2:$Z$682)","v":0},{"$f":"SUMIF(BDD!$BG$2:$BG$3,\"Banc P5VRAIFAUX\",BDD!$Z$2:$Z$3)","v":0},{"$f":"SUMIF(BDD!$BG$2:$BG$3,\"Banc P5FAUXVRAI\",BDD!$Z$2:$Z$3)","v":0},{"$f":"SUMIF(BDD!$BG$2:$BG$3,\"Banc P5VRAIFAUX\",BDD!$Z$2:$Z$3)","v":0},{"$f":"SUMIF(BDD!$BG$2:$BG$3,\"Banc P5FAUXVRAI\",BDD!$Z$2:$Z$3)","v":0},{"$f":"SUMIF(BDD!$BG$2:$BG$3,\"Banc P5VRAIFAUX\",BDD!$Z$2:$Z$3)","v":0},{"$f":"SUMIF(BDD!$BG$2:$BG$3,\"Banc P5FAUXVRAI\",BDD!$Z$2:$Z$3)","v":0},{"$f":"SUMIF(BDD!$BG$2:$BG$3,\"Banc P5VRAIFAUX\",BDD!$Z$2:$Z$3)","v":0},{"$f":"SUMIF(BDD!$BG$2:$BG$3,\"Banc P5FAUXVRAI\",BDD!$Z$2:$Z$3)","v":0},{"$f":"SUMIF(BDD!$BG$2:$BG$3,\"Banc P5VRAIFAUX\",BDD!$Z$2:$Z$3)","v":0},{"$f":"SUMIF(BDD!$BG$2:$BG$3,\"Banc P5FAUXVRAI\",BDD!$Z$2:$Z$3)","v":0},{"$f":"SUMIF(BDD!$BG$2:$BG$3,\"Banc P5VRAIFAUX\",BDD!$Z$2:$Z$3)","v":0},{"$f":"SUMIF(BDD!$BG$2:$BG$3,\"Banc P5FAUXVRAI\",BDD!$Z$2:$Z$3)","v":0},{"$f":"SUMIF(BDD!$BG$2:$BG$3,\"Banc P5VRAIFAUX\",BDD!$Z$2:$Z$3)","v":0},{"$f":"SUMIF(BDD!$BG$2:$BG$3,\"Banc P5FAUXVRAI\",BDD!$Z$2:$Z$3)","v":0},{"$f":"SUMIF(BDD!$BG$2:$BG$3,\"Banc P5VRAIFAUX\",BDD!$Z$2:$Z$3)","v":0},{"$f":"SUMIF(BDD!$BG$2:$BG$3,\"Banc P5FAUXVRAI\",BDD!$Z$2:$Z$3)","v":0},{"$f":"SUMIF(BDD!$BG$2:$BG$3,\"Banc P5VRAIFAUX\",BDD!$Z$2:$Z$3)","v":0},{"$f":"SUMIF(BDD!$BG$2:$BG$3,\"Banc P5FAUXVRAI\",BDD!$Z$2:$Z$3)","v":0}]
["Banc 111",{"$f":"SUMIF(BDD!$BG$2:$BG$3,\"Banc 111VRAIFAUX\",BDD!$Z$2:$Z$3)","v":0},{"$f":"SUMIF(BDD!$BG$2:$BG$3,\"Banc 111FAUXVRAI\",BDD!$Z$2:$Z$3)","v":0},{"$f":"SUMIF(BDD!$BG$2:$BG$3,\"Banc 111VRAIFAUX\",BDD!$Z$2:$Z$3)","v":0},{"$f":"SUMIF(BDD!$BG$2:$BG$3,\"Banc 111FAUXVRAI\",BDD!$Z$2:$Z$3)","v":0},{"$f":"SUMIF(BDD!$BG$2:$BG$682,\"Banc 111VRAIFAUX\",BDD!$Z$2:$Z$682)","v":0.1},{"$f":"SUMIF(BDD!$BG$2:$BG$682,\"Banc 111FAUXVRAI\",BDD!$Z$2:$Z$682)","v":0},{"$f":"SUMIF(BDD!$BG$2:$BG$3,\"Banc 111VRAIFAUX\",BDD!$Z$2:$Z$3)","v":0},{"$f":"SUMIF(BDD!$BG$2:$BG$3,\"Banc 111FAUXVRAI\",BDD!$Z$2:$Z$3)","v":0},{"$f":"SUMIF(BDD!$BG$2:$BG$3,\"Banc 111VRAIFAUX\",BDD!$Z$2:$Z$3)","v":0},{"$f":"SUMIF(BDD!$BG$2:$BG$3,\"Banc 111FAUXVRAI\",BDD!$Z$2:$Z$3)","v":0},{"$f":"SUMIF(BDD!$BG$2:$BG$3,\"Banc 111VRAIFAUX\",BDD!$Z$2:$Z$3)","v":0},{"$f":"SUMIF(BDD!$BG$2:$BG$3,\"Banc 111FAUXVRAI\",BDD!$Z$2:$Z$3)","v":0},{"$f":"SUMIF(BDD!$BG$2:$BG$3,\"Banc 111VRAIFAUX\",BDD!$Z$2:$Z$3)","v":0},{"$f":"SUMIF(BDD!$BG$2:$BG$3,\"Banc 111FAUXVRAI\",BDD!$Z$2:$Z$3)","v":0},{"$f":"SUMIF(BDD!$BG$2:$BG$3,\"Banc 111VRAIFAUX\",BDD!$Z$2:$Z$3)","v":0},{"$f":"SUMIF(BDD!$BG$2:$BG$3,\"Banc 111FAUXVRAI\",BDD!$Z$2:$Z$3)","v":0},{"$f":"SUMIF(BDD!$BG$2:$BG$3,\"Banc 111VRAIFAUX\",BDD!$Z$2:$Z$3)","v":0},{"$f":"SUMIF(BDD!$BG$2:$BG$3,\"Banc 111FAUXVRAI\",BDD!$Z$2:$Z$3)","v":0},{"$f":"SUMIF(BDD!$BG$2:$BG$3,\"Banc 111VRAIFAUX\",BDD!$Z$2:$Z$3)","v":0},{"$f":"SUMIF(BDD!$BG$2:$BG$3,\"Banc 111FAUXVRAI\",BDD!$Z$2:$Z$3)","v":0},{"$f":"SUMIF(BDD!$BG$2:$BG$3,\"Banc 111VRAIFAUX\",BDD!$Z$2:$Z$3)","v":0},{"$f":"SUMIF(BDD!$BG$2:$BG$3,\"Banc 111FAUXVRAI\",BDD!$Z$2:$Z$3)","v":0},{"$f":"SUMIF(BDD!$BG$2:$BG$3,\"Banc 111VRAIFAUX\",BDD!$Z$2:$Z$3)","v":0},{"$f":"SUMIF(BDD!$BG$2:$BG$3,\"Banc 111FAUXVRAI\",BDD!$Z$2:$Z$3)","v":0}]
["Banc 117",{"$f":"SUMIF(BDD!$BG$2:$BG$682,\"Banc 117VRAIFAUX\",BDD!$Z$2:$Z$682)","v":0},{"$f":"SUMIF(BDD!$BG$2:$BG$3,\"Banc 117FAUXVRAI\",BDD!$Z$2:$Z$3)","v":0},{"$f":"SUMIF(BDD!$BG$2:$BG$682,\"Banc 117VRAIFAUX\",BDD!$Z$2:$Z$682)","v":0},{"$f":"SUMIF(BDD!$BG$2:$BG$3,\"Banc 117FAUXVRAI\",BDD!$Z$2:$Z$3)","v":0},{"$f":"SUMIF(BDD!$BG$2:$BG$682,\"Banc 117VRAIFAUX\",BDD!$Z$2:$Z$682)","v":0},{"$f":"SUMIF(BDD!$BG$2:$BG$682,\"Banc 117FAUXVRAI\",BDD!$Z$2:$Z$682)","v":0},{"$f":"SUMIF(BDD!$BG$2:$BG$682,\"Banc 117VRAIFAUX\",BDD!$Z$2:$Z$682)","v":0},{"$f":"SUMIF(BDD!$BG$2:$BG$3,\"Banc 117FAUXVRAI\",BDD!$Z$2:$Z$3)","v":0},{"$f":"SUMIF(BDD!$BG$2:$BG$682,\"Banc 117VRAIFAUX\",BDD!$Z$2:$Z$682)","v":0},{"$f":"SUMIF(BDD!$BG$2:$BG$3,\"Banc 117FAUXVRAI\",BDD!$Z$2:$Z$3)","v":0},{"$f":"SUMIF(BDD!$BG$2:$BG$682,\"Banc 117VRAIFAUX\",BDD!$Z$2:$Z$682)","v":0},{"$f":"SUMIF(BDD!$BG$2:$BG$3,\"Banc 117FAUXVRAI\",BDD!$Z$2:$Z$3)","v":0},{"$f":"SUMIF(BDD!$BG$2:$BG$682,\"Banc 117VRAIFAUX\",BDD!$Z$2:$Z$682)","v":0},{"$f":"SUMIF(BDD!$BG$2:$BG$3,\"Banc 117FAUXVRAI\",BDD!$Z$2:$Z$3)","v":0},{"$f":"SUMIF(BDD!$BG$2:$BG$682,\"Banc 117VRAIFAUX\",BDD!$Z$2:$Z$682)","v":0},{"$f":"SUMIF(BDD!$BG$2:$BG$3,\"Banc 117FAUXVRAI\",BDD!$Z$2:$Z$3)","v":0},{"$f":"SUMIF(BDD!$BG$2:$BG$682,\"Banc 117VRAIFAUX\",BDD!$Z$2:$Z$682)","v":0},{"$f":"SUMIF(BDD!$BG$2:$BG$3,\"Banc 117FAUXVRAI\",BDD!$Z$2:$Z$3)","v":0},{"$f":"SUMIF(BDD!$BG$2:$BG$682,\"Banc 117VRAIFAUX\",BDD!$Z$2:$Z$682)","v":0},{"$f":"SUMIF(BDD!$BG$2:$BG$3,\"Banc 117FAUXVRAI\",BDD!$Z$2:$Z$3)","v":0},{"$f":"SUMIF(BDD!$BG$2:$BG$682,\"Banc 117VRAIFAUX\",BDD!$Z$2:$Z$682)","v":0},{"$f":"SUMIF(BDD!$BG$2:$BG$3,\"Banc 117FAUXVRAI\",BDD!$Z$2:$Z$3)","v":0},{"$f":"SUMIF(BDD!$BG$2:$BG$682,\"Banc 117VRAIFAUX\",BDD!$Z$2:$Z$682)","v":0},{"$f":"SUMIF(BDD!$BG$2:$BG$3,\"Banc 117FAUXVRAI\",BDD!$Z$2:$Z$3)","v":0}]
["Banc 117 bis",{"$f":"SUMIF(BDD!$BG$2:$BG$3,\"Banc 117 bisVRAIFAUX\",BDD!$Z$2:$Z$3)","v":0},{"$f":"SUMIF(BDD!$BG$2:$BG$3,\"Banc 117 bisFAUXVRAI\",BDD!$Z$2:$Z$3)","v":0},{"$f":"SUMIF(BDD!$BG$2:$BG$3,\"Banc 117 bisVRAIFAUX\",BDD!$Z$2:$Z$3)","v":0},{"$f":"SUMIF(BDD!$BG$2:$BG$3,\"Banc 117 bisFAUXVRAI\",BDD!$Z$2:$Z$3)","v":0},{"$f":"SUMIF(BDD!$BG$2:$BG$682,\"Banc 117 bisVRAIFAUX\",BDD!$Z$2:$Z$682)","v":0},{"$f":"SUMIF(BDD!$BG$2:$BG$682,\"Banc 117 bisFAUXVRAI\",BDD!$Z$2:$Z$682)","v":0.1},{"$f":"SUMIF(BDD!$BG$2:$BG$3,\"Banc 117 bisVRAIFAUX\",BDD!$Z$2:$Z$3)","v":0},{"$f":"SUMIF(BDD!$BG$2:$BG$3,\"Banc 117 bisFAUXVRAI\",BDD!$Z$2:$Z$3)","v":0},{"$f":"SUMIF(BDD!$BG$2:$BG$3,\"Banc 117 bisVRAIFAUX\",BDD!$Z$2:$Z$3)","v":0},{"$f":"SUMIF(BDD!$BG$2:$BG$3,\"Banc 117 bisFAUXVRAI\",BDD!$Z$2:$Z$3)","v":0},{"$f":"SUMIF(BDD!$BG$2:$BG$3,\"Banc 117 bisVRAIFAUX\",BDD!$Z$2:$Z$3)","v":0},{"$f":"SUMIF(BDD!$BG$2:$BG$3,\"Banc 117 bisFAUXVRAI\",BDD!$Z$2:$Z$3)","v":0},{"$f":"SUMIF(BDD!$BG$2:$BG$3,\"Banc 117 bisVRAIFAUX\",BDD!$Z$2:$Z$3)","v":0},{"$f":"SUMIF(BDD!$BG$2:$BG$3,\"Banc 117 bisFAUXVRAI\",BDD!$Z$2:$Z$3)","v":0},{"$f":"SUMIF(BDD!$BG$2:$BG$3,\"Banc 117 bisVRAIFAUX\",BDD!$Z$2:$Z$3)","v":0},{"$f":"SUMIF(BDD!$BG$2:$BG$3,\"Banc 117 bisFAUXVRAI\",BDD!$Z$2:$Z$3)","v":0},{"$f":"SUMIF(BDD!$BG$2:$BG$3,\"Banc 117 bisVRAIFAUX\",BDD!$Z$2:$Z$3)","v":0},{"$f":"SUMIF(BDD!$BG$2:$BG$3,\"Banc 117 bisFAUXVRAI\",BDD!$Z$2:$Z$3)","v":0},{"$f":"SUMIF(BDD!$BG$2:$BG$3,\"Banc 117 bisVRAIFAUX\",BDD!$Z$2:$Z$3)","v":0},{"$f":"SUMIF(BDD!$BG$2:$BG$3,\"Banc 117 bisFAUXVRAI\",BDD!$Z$2:$Z$3)","v":0},{"$f":"SUMIF(BDD!$BG$2:$BG$3,\"Banc 117 bisVRAIFAUX\",BDD!$Z$2:$Z$3)","v":0},{"$f":"SUMIF(BDD!$BG$2:$BG$3,\"Banc 117 bisFAUXVRAI\",BDD!$Z$2:$Z$3)","v":0},{"$f":"SUMIF(BDD!$BG$2:$BG$3,\"Banc 117 bisVRAIFAUX\",BDD!$Z$2:$Z$3)","v":0},{"$f":"SUMIF(BDD!$BG$2:$BG$3,\"Banc 117 bisFAUXVRAI\",BDD!$Z$2:$Z$3)","v":0}]
["Banc 119",{"$f":"SUMIF(BDD!$BG$2:$BG$3,\"Banc 119VRAIFAUX\",BDD!$Z$2:$Z$3)","v":0},{"$f":"SUMIF(BDD!$BG$2:$BG$3,\"Banc 119FAUXVRAI\",BDD!$Z$2:$Z$3)","v":0},{"$f":"SUMIF(BDD!$BG$2:$BG$3,\"Banc 119VRAIFAUX\",BDD!$Z$2:$Z$3)","v":0},{"$f":"SUMIF(BDD!$BG$2:$BG$3,\"Banc 119FAUXVRAI\",BDD!$Z$2:$Z$3)","v":0},{"$f":"SUMIF(BDD!$BG$2:$BG$682,\"Banc 119VRAIFAUX\",BDD!$Z$2:$Z$682)","v":1},{"$f":"SUMIF(BDD!$BG$2:$BG$682,\"Banc 119FAUXVRAI\",BDD!$Z$2:$Z$682)","v":0},{"$f":"SUMIF(BDD!$BG$2:$BG$3,\"Banc 119VRAIFAUX\",BDD!$Z$2:$Z$3)","v":0},{"$f":"SUMIF(BDD!$BG$2:$BG$3,\"Banc 119FAUXVRAI\",BDD!$Z$2:$Z$3)","v":0},{"$f":"SUMIF(BDD!$BG$2:$BG$3,\"Banc 119VRAIFAUX\",BDD!$Z$2:$Z$3)","v":0},{"$f":"SUMIF(BDD!$BG$2:$BG$3,\"Banc 119FAUXVRAI\",BDD!$Z$2:$Z$3)","v":0},{"$f":"SUMIF(BDD!$BG$2:$BG$3,\"Banc 119VRAIFAUX\",BDD!$Z$2:$Z$3)","v":0},{"$f":"SUMIF(BDD!$BG$2:$BG$3,\"Banc 119FAUXVRAI\",BDD!$Z$2:$Z$3)","v":0},{"$f":"SUMIF(BDD!$BG$2:$BG$3,\"Banc 119VRAIFAUX\",BDD!$Z$2:$Z$3)","v":0},{"$f":"SUMIF(BDD!$BG$2:$BG$3,\"Banc 119FAUXVRAI\",BDD!$Z$2:$Z$3)","v":0},{"$f":"SUMIF(BDD!$BG$2:$BG$3,\"Banc 119VRAIFAUX\",BDD!$Z$2:$Z$3)","v":0},{"$f":"SUMIF(BDD!$BG$2:$BG$3,\"Banc 119FAUXVRAI\",BDD!$Z$2:$Z$3)","v":0},{"$f":"SUMIF(BDD!$BG$2:$BG$3,\"Banc 119VRAIFAUX\",BDD!$Z$2:$Z$3)","v":0},{"$f":"SUMIF(BDD!$BG$2:$BG$3,\"Banc 119FAUXVRAI\",BDD!$Z$2:$Z$3)","v":0},{"$f":"SUMIF(BDD!$BG$2:$BG$3,\"Banc 119VRAIFAUX\",BDD!$Z$2:$Z$3)","v":0},{"$f":"SUMIF(BDD!$BG$2:$BG$3,\"Banc 119FAUXVRAI\",BDD!$Z$2:$Z$3)","v":0},{"$f":"SUMIF(BDD!$BG$2:$BG$3,\"Banc 119VRAIFAUX\",BDD!$Z$2:$Z$3)","v":0},{"$f":"SUMIF(BDD!$BG$2:$BG$3,\"Banc 119FAUXVRAI\",BDD!$Z$2:$Z$3)","v":0},{"$f":"SUMIF(BDD!$BG$2:$BG$3,\"Banc 119VRAIFAUX\",BDD!$Z$2:$Z$3)","v":0},{"$f":"SUMIF(BDD!$BG$2:$BG$3,\"Banc 119FAUXVRAI\",BDD!$Z$2:$Z$3)","v":0}]
["Banc 123",{"$f":"SUMIF(BDD!$BG$2:$BG$3,\"Banc 123VRAIFAUX\",BDD!$Z$2:$Z$3)","v":0},{"$f":"SUMIF(BDD!$BG$2:$BG$3,\"Banc 123FAUXVRAI\",BDD!$Z$2:$Z$3)","v":0},{"$f":"SUMIF(BDD!$BG$2:$BG$3,\"Banc 123VRAIFAUX\",BDD!$Z$2:$Z$3)","v":0},{"$f":"SUMIF(BDD!$BG$2:$BG$3,\"Banc 123FAUXVRAI\",BDD!$Z$2:$Z$3)","v":0},{"$f":"SUMIF(BDD!$BG$2:$BG$682,\"Banc 123VRAIFAUX\",BDD!$Z$2:$Z$682)","v":0.65},{"$f":"SUMIF(BDD!$BG$2:$BG$682,\"Banc 123FAUXVRAI\",BDD!$Z$2:$Z$682)","v":32},{"$f":"SUMIF(BDD!$BG$2:$BG$3,\"Banc 123VRAIFAUX\",BDD!$Z$2:$Z$3)","v":0},{"$f":"SUMIF(BDD!$BG$2:$BG$3,\"Banc 123FAUXVRAI\",BDD!$Z$2:$Z$3)","v":0},{"$f":"SUMIF(BDD!$BG$2:$BG$3,\"Banc 123VRAIFAUX\",BDD!$Z$2:$Z$3)","v":0},{"$f":"SUMIF(BDD!$BG$2:$BG$3,\"Banc 123FAUXVRAI\",BDD!$Z$2:$Z$3)","v":0},{"$f":"SUMIF(BDD!$BG$2:$BG$3,\"Banc 123VRAIFAUX\",BDD!$Z$2:$Z$3)","v":0},{"$f":"SUMIF(BDD!$BG$2:$BG$3,\"Banc 123FAUXVRAI\",BDD!$Z$2:$Z$3)","v":0},{"$f":"SUMIF(BDD!$BG$2:$BG$3,\"Banc 123VRAIFAUX\",BDD!$Z$2:$Z$3)","v":0},{"$f":"SUMIF(BDD!$BG$2:$BG$3,\"Banc 123FAUXVRAI\",BDD!$Z$2:$Z$3)","v":0},{"$f":"SUMIF(BDD!$BG$2:$BG$3,\"Banc 123VRAIFAUX\",BDD!$Z$2:$Z$3)","v":0},{"$f":"SUMIF(BDD!$BG$2:$BG$3,\"Banc 123FAUXVRAI\",BDD!$Z$2:$Z$3)","v":0},{"$f":"SUMIF(BDD!$BG$2:$BG$3,\"Banc 123VRAIFAUX\",BDD!$Z$2:$Z$3)","v":0},{"$f":"SUMIF(BDD!$BG$2:$BG$3,\"Banc 123FAUXVRAI\",BDD!$Z$2:$Z$3)","v":0},{"$f":"SUMIF(BDD!$BG$2:$BG$3,\"Banc 123VRAIFAUX\",BDD!$Z$2:$Z$3)","v":0},{"$f":"SUMIF(BDD!$BG$2:$BG$3,\"Banc 123FAUXVRAI\",BDD!$Z$2:$Z$3)","v":0},{"$f":"SUMIF(BDD!$BG$2:$BG$3,\"Banc 123VRAIFAUX\",BDD!$Z$2:$Z$3)","v":0},{"$f":"SUMIF(BDD!$BG$2:$BG$3,\"Banc 123FAUXVRAI\",BDD!$Z$2:$Z$3)","v":0},{"$f":"SUMIF(BDD!$BG$2:$BG$3,\"Banc 123VRAIFAUX\",BDD!$Z$2:$Z$3)","v":0},{"$f":"SUMIF(BDD!$BG$2:$BG$3,\"Banc 123FAUXVRAI\",BDD!$Z$2:$Z$3)","v":0}]
["Banc 126",{"$f":"SUMIF(BDD!$BG$2:$BG$3,\"Banc 126VRAIFAUX\",BDD!$Z$2:$Z$3)","v":0},{"$f":"SUMIF(BDD!$BG$2:$BG$3,\"Banc 126FAUXVRAI\",BDD!$Z$2:$Z$3)","v":0},{"$f":"SUMIF(BDD!$BG$2:$BG$3,\"Banc 126VRAIFAUX\",BDD!$Z$2:$Z$3)","v":0},{"$f":"SUMIF(BDD!$BG$2:$BG$3,\"Banc 126FAUXVRAI\",BDD!$Z$2:$Z$3)","v":0},{"$f":"SUMIF(BDD!$BG$2:$BG$682,\"Banc 126VRAIFAUX\",BDD!$Z$2:$Z$682)","v":0.25},{"$f":"SUMIF(BDD!$BG$2:$BG$682,\"Banc 126FAUXVRAI\",BDD!$Z$2:$Z$682)","v":0.3},{"$f":"SUMIF(BDD!$BG$2:$BG$3,\"Banc 126VRAIFAUX\",BDD!$Z$2:$Z$3)","v":0},{"$f":"SUMIF(BDD!$BG$2:$BG$3,\"Banc 126FAUXVRAI\",BDD!$Z$2:$Z$3)","v":0},{"$f":"SUMIF(BDD!$BG$2:$BG$3,\"Banc 126VRAIFAUX\",BDD!$Z$2:$Z$3)","v":0},{"$f":"SUMIF(BDD!$BG$2:$BG$3,\"Banc 126FAUXVRAI\",BDD!$Z$2:$Z$3)","v":0},{"$f":"SUMIF(BDD!$BG$2:$BG$3,\"Banc 126VRAIFAUX\",BDD!$Z$2:$Z$3)","v":0},{"$f":"SUMIF(BDD!$BG$2:$BG$3,\"Banc 126FAUXVRAI\",BDD!$Z$2:$Z$3)","v":0},{"$f":"SUMIF(BDD!$BG$2:$BG$3,\"Banc 126VRAIFAUX\",BDD!$Z$2:$Z$3)","v":0},{"$f":"SUMIF(BDD!$BG$2:$BG$3,\"Banc 126FAUXVRAI\",BDD!$Z$2:$Z$3)","v":0},{"$f":"SUMIF(BDD!$BG$2:$BG$3,\"Banc 126VRAIFAUX\",BDD!$Z$2:$Z$3)","v":0},{"$f":"SUMIF(BDD!$BG$2:$BG$3,\"Banc 126FAUXVRAI\",BDD!$Z$2:$Z$3)","v":0},{"$f":"SUMIF(BDD!$BG$2:$BG$3,\"Banc 126VRAIFAUX\",BDD!$Z$2:$Z$3)","v":0},{"$f":"SUMIF(BDD!$BG$2:$BG$3,\"Banc 126FAUXVRAI\",BDD!$Z$2:$Z$3)","v":0},{"$f":"SUMIF(BDD!$BG$2:$BG$3,\"Banc 126VRAIFAUX\",BDD!$Z$2:$Z$3)","v":0},{"$f":"SUMIF(BDD!$BG$2:$BG$3,\"Banc 126FAUXVRAI\",BDD!$Z$2:$Z$3)","v":0},{"$f":"SUMIF(BDD!$BG$2:$BG$3,\"Banc 126VRAIFAUX\",BDD!$Z$2:$Z$3)","v":0},{"$f":"SUMIF(BDD!$BG$2:$BG$3,\"Banc 126FAUXVRAI\",BDD!$Z$2:$Z$3)","v":0},{"$f":"SUMIF(BDD!$BG$2:$BG$3,\"Banc 126VRAIFAUX\",BDD!$Z$2:$Z$3)","v":0},{"$f":"SUMIF(BDD!$BG$2:$BG$3,\"Banc 126FAUXVRAI\",BDD!$Z$2:$Z$3)","v":0}]
["Banc 156",{"$f":"SUMIF(BDD!$BG$2:$BG$3,\"Banc 156VRAIFAUX\",BDD!$Z$2:$Z$3)","v":0},{"$f":"SUMIF(BDD!$BG$2:$BG$3,\"Banc 156FAUXVRAI\",BDD!$Z$2:$Z$3)","v":0},{"$f":"SUMIF(BDD!$BG$2:$BG$3,\"Banc 156VRAIFAUX\",BDD!$Z$2:$Z$3)","v":0},{"$f":"SUMIF(BDD!$BG$2:$BG$3,\"Banc 156FAUXVRAI\",BDD!$Z$2:$Z$3)","v":0},{"$f":"SUMIF(BDD!$BG$2:$BG$682,\"Banc 156VRAIFAUX\",BDD!$Z$2:$Z$682)","v":0},{"$f":"SUMIF(BDD!$BG$2:$BG$682,\"Banc 156FAUXVRAI\",BDD!$Z$2:$Z$682)","v":0},{"$f":"SUMIF(BDD!$BG$2:$BG$3,\"Banc 156VRAIFAUX\",BDD!$Z$2:$Z$3)","v":0},{"$f":"SUMIF(BDD!$BG$2:$BG$3,\"Banc 156FAUXVRAI\",BDD!$Z$2:$Z$3)","v":0},{"$f":"SUMIF(BDD!$BG$2:$BG$3,\"Banc 156VRAIFAUX\",BDD!$Z$2:$Z$3)","v":0},{"$f":"SUMIF(BDD!$BG$2:$BG$3,\"Banc 156FAUXVRAI\",BDD!$Z$2:$Z$3)","v":0},{"$f":"SUMIF(BDD!$BG$2:$BG$3,\"Banc 156VRAIFAUX\",BDD!$Z$2:$Z$3)","v":0},{"$f":"SUMIF(BDD!$BG$2:$BG$3,\"Banc 156FAUXVRAI\",BDD!$Z$2:$Z$3)","v":0},{"$f":"SUMIF(BDD!$BG$2:$BG$3,\"Banc 156VRAIFAUX\",BDD!$Z$2:$Z$3)","v":0},{"$f":"SUMIF(BDD!$BG$2:$BG$3,\"Banc 156FAUXVRAI\",BDD!$Z$2:$Z$3)","v":0},{"$f":"SUMIF(BDD!$BG$2:$BG$3,\"Banc 156VRAIFAUX\",BDD!$Z$2:$Z$3)","v":0},{"$f":"SUMIF(BDD!$BG$2:$BG$3,\"Banc 156FAUXVRAI\",BDD!$Z$2:$Z$3)","v":0},{"$f":"SUMIF(BDD!$BG$2:$BG$3,\"Banc 156VRAIFAUX\",BDD!$Z$2:$Z$3)","v":0},{"$f":"SUMIF(BDD!$BG$2:$BG$3,\"Banc 156FAUXVRAI\",BDD!$Z$2:$Z$3)","v":0},{"$f":"SUMIF(BDD!$BG$2:$BG$3,\"Banc 156VRAIFAUX\",BDD!$Z$2:$Z$3)","v":0},{"$f":"SUMIF(BDD!$BG$2:$BG$3,\"Banc 156FAUXVRAI\",BDD!$Z$2:$Z$3)","v":0},{"$f":"SUMIF(BDD!$BG$2:$BG$3,\"Banc 156VRAIFAUX\",BDD!$Z$2:$Z$3)","v":0},{"$f":"SUMIF(BDD!$BG$2:$BG$3,\"Banc 156FAUXVRAI\",BDD!$Z$2:$Z$3)","v":0},{"$f":"SUMIF(BDD!$BG$2:$BG$3,\"Banc 156VRAIFAUX\",BDD!$Z$2:$Z$3)","v":0},{"$f":"SUMIF(BDD!$BG$2:$BG$3,\"Banc 156FAUXVRAI\",BDD!$Z$2:$Z$3)","v":0}]
[]
[]
[]
[]
[]
[]
[]
[]
[]
[]
[]
[]
[]
[]
[]
[]
[]
[]
[]
[]
[]
[]
[null,"Suivi du correctif et du préventif par banc"]
[null,"Janvier",null,null,null,null,null,"Février",null,null,null,null,null,"Mars",null,null,null,null,null,"Avril",null,null,null,null,null,"Mai",null,null,null,null,null,"Juin",null,null,null,null,null,"Juillet",null,null,null,null,null,"Août",null,null,null,null,null,"Septembre",null,null,null,null,null,"Octobre",null,null,null,null,null,"Novembre",null,null,null,null,null,"Décembre"]
[null,"Corrective",null,null,"Préventive",null,null,"Corrective",null,null,"Préventive",null,null,"Corrective",null,null,"Préventive",null,null,"Corrective",null,null,"Préventive",null,null,"Corrective",null,null,"Préventive",null,null,"Corrective",null,null,"Préventive",null,null,"Corrective",null,null,"Préventive",null,null,"Corrective",null,null,"Préventive",null,null,"Corrective",null,null,"Préventive",null,null,"Corrective",null,null,"Préventive",null,null,"Corrective",null,null,"Préventive",null,null,"Corrective",null,null,"Préventive"]
["Banc zone 9","Electrique","Mécanique","Hydraulique","Electrique","Mécanique","Hydraulique","Electrique","Mécanique","Hydraulique","Electrique","Mécanique","Hydraulique","Electrique","Mécanique","Hydraulique","Electrique","Mécanique","Hydraulique","Electrique","Mécanique","Hydraulique","Electrique","Mécanique","Hydraulique","Electrique","Mécanique","Hydraulique","Electrique","Mécanique","Hydraulique","Electrique","Mécanique","Hydraulique","Electrique","Mécanique","Hydraulique","Electrique","Mécanique","Hydraulique","Electrique","Mécanique","Hydraulique","Electrique","Mécanique","Hydraulique","Electrique","Mécanique","Hydraulique","Electrique","Mécanique","Hydraulique","Electrique","Mécanique","Hydraulique","Electrique","Mécanique","Hydraulique","Electrique","Mécanique","Hydraulique","Electrique","Mécanique","Hydraulique","Electrique","Mécanique","Hydraulique","Electrique","Mécanique","Hydraulique","Electrique","Mécanique","Hydraulique"]
["Banc P5",{"$f":"SUMIF(BDD!$BH$2:$BH$3,\"Banc P5VRAIFAUXVRAIFAUXFAUX\",BDD!$Z$2:$Z$3)","v":0},{"$f":"SUMIF(BDD!$BH$2:$BH$3,\"Banc P5VRAIFAUXFAUXVRAIFAUX\",BDD!$Z$2:$Z$3)","v":0},{"$f":"SUMIF(BDD!$BH$2:$BH$3,\"Banc P5VRAIFAUXFAUXFAUXVRAI\",BDD!$Z$2:$Z$3)","v":0},{"$f":"SUMIF(BDD!$BH$2:$BH$3,\"Banc P5FAUXVRAIVRAIFAUXFAUX\",BDD!$Z$2:$Z$3)","v":0},{"$f":"SUMIF(BDD!$BH$2:$BH$3,\"Banc P5FAUXVRAIFAUXVRAIFAUX\",BDD!$Z$2:$Z$3)","v":0},{"$f":"SUMIF(BDD!$BH$2:$BH$3,\"Banc P5FAUXVRAIFAUXFAUXVRAI\",BDD!$Z$2:$Z$3)","v":0},{"$f":"SUMIF(BDD!$BH$2:$BH$3,\"Banc P5VRAIFAUXVRAIFAUXFAUX\",BDD!$Z$2:$Z$3)","v":0},{"$f":"SUMIF(BDD!$BH$2:$BH$3,\"Banc P5VRAIFAUXFAUXVRAIFAUX\",BDD!$Z$2:$Z$3)","v":0},{"$f":"SUMIF(BDD!$BH$2:$BH$3,\"Banc P5VRAIFAUXFAUXFAUXVRAI\",BDD!$Z$2:$Z$3)","v":0},{"$f":"SUMIF(BDD!$BH$2:$BH$3,\"Banc P5FAUXVRAIVRAIFAUXFAUX\",BDD!$Z$2:$Z$3)","v":0},{"$f":"SUMIF(BDD!$BH$2:$BH$3,\"Banc P5FAUXVRAIFAUXVRAIFAUX\",BDD!$Z$2:$Z$3)","v":0},{"$f":"SUMIF(BDD!$BH$2:$BH$3,\"Banc P5FAUXVRAIFAUXFAUXVRAI\",BDD!$Z$2:$Z$3)","v":0},{"$f":"SUMIF(BDD!$BH$2:$BH$682,\"Banc P5VRAIFAUXVRAIFAUXFAUX\",BDD!$Z$2:$Z$682)","v":0},{"$f":"SUMIF(BDD!$BH$2:$BH$682,\"Banc P5VRAIFAUXFAUXVRAIFAUX\",BDD!$Z$2:$Z$682)","v":0},{"$f":"SUMIF(BDD!$BH$2:$BH$682,\"Banc P5VRAIFAUXFAUXFAUXVRAI\",BDD!$Z$2:$Z$682)","v":0},{"$f":"SUMIF(BDD!$BH$2:$BH$682,\"Banc P5FAUXVRAIVRAIFAUXFAUX\",BDD!$Z$2:$Z$682)","v":0},{"$f":"SUMIF(BDD!$BH$2:$BH$682,\"Banc P5FAUXVRAIFAUXVRAIFAUX\",BDD!$Z$2:$Z$682)","v":0},{"$f":"SUMIF(BDD!$BH$2:$BH$682,\"Banc P5FAUXVRAIFAUXFAUXVRAI\",BDD!$Z$2:$Z$682)","v":0},{"$f":"SUMIF(BDD!$BH$2:$BH$3,\"Banc P5VRAIFAUXVRAIFAUXFAUX\",BDD!$Z$2:$Z$3)","v":0},{"$f":"SUMIF(BDD!$BH$2:$BH$3,\"Banc P5VRAIFAUXFAUXVRAIFAUX\",BDD!$Z$2:$Z$3)","v":0},{"$f":"SUMIF(BDD!$BH$2:$BH$3,\"Banc P5VRAIFAUXFAUXFAUXVRAI\",BDD!$Z$2:$Z$3)","v":0},{"$f":"SUMIF(BDD!$BH$2:$BH$3,\"Banc P5FAUXVRAIVRAIFAUXFAUX\",BDD!$Z$2:$Z$3)","v":0},{"$f":"SUMIF(BDD!$BH$2:$BH$3,\"Banc P5FAUXVRAIFAUXVRAIFAUX\",BDD!$Z$2:$Z$3)","v":0},{"$f":"SUMIF(BDD!$BH$2:$BH$3,\"Banc P5FAUXVRAIFAUXFAUXVRAI\",BDD!$Z$2:$Z$3)","v":0},{"$f":"SUMIF(BDD!$BH$2:$BH$3,\"Banc P5VRAIFAUXVRAIFAUXFAUX\",BDD!$Z$2:$Z$3)","v":0},{"$f":"SUMIF(BDD!$BH$2:$BH$3,\"Banc P5VRAIFAUXFAUXVRAIFAUX\",BDD!$Z$2:$Z$3)","v":0},{"$f":"SUMIF(BDD!$BH$2:$BH$3,\"Banc P5VRAIFAUXFAUXFAUXVRAI\",BDD!$Z$2:$Z$3)","v":0},{"$f":"SUMIF(BDD!$BH$2:$BH$3,\"Banc P5FAUXVRAIVRAIFAUXFAUX\",BDD!$Z$2:$Z$3)","v":0},{"$f":"SUMIF(BDD!$BH$2:$BH$3,\"Banc P5FAUXVRAIFAUXVRAIFAUX\",BDD!$Z$2:$Z$3)","v":0},{"$f":"SUMIF(BDD!$BH$2:$BH$3,\"Banc P5FAUXVRAIFAUXFAUXVRAI\",BDD!$Z$2:$Z$3)","v":0},{"$f":"SUMIF(BDD!$BH$2:$BH$3,\"Banc P5VRAIFAUXVRAIFAUXFAUX\",BDD!$Z$2:$Z$3)","v":0},{"$f":"SUMIF(BDD!$BH$2:$BH$3,\"Banc P5VRAIFAUXFAUXVRAIFAUX\",BDD!$Z$2:$Z$3)","v":0},{"$f":"SUMIF(BDD!$BH$2:$BH$3,\"Banc P5VRAIFAUXFAUXFAUXVRAI\",BDD!$Z$2:$Z$3)","v":0},{"$f":"SUMIF(BDD!$BH$2:$BH$3,\"Banc P5FAUXVRAIVRAIFAUXFAUX\",BDD!$Z$2:$Z$3)","v":0},{"$f":"SUMIF(BDD!$BH$2:$BH$3,\"Banc P5FAUXVRAIFAUXVRAIFAUX\",BDD!$Z$2:$Z$3)","v":0},{"$f":"SUMIF(BDD!$BH$2:$BH$3,\"Banc P5FAUXVRAIFAUXFAUXVRAI\",BDD!$Z$2:$Z$3)","v":0},{"$f":"SUMIF(BDD!$BH$2:$BH$3,\"Banc P5VRAIFAUXVRAIFAUXFAUX\",BDD!$Z$2:$Z$3)","v":0},{"$f":"SUMIF(BDD!$BH$2:$BH$3,\"Banc P5VRAIFAUXFAUXVRAIFAUX\",BDD!$Z$2:$Z$3)","v":0},{"$f":"SUMIF(BDD!$BH$2:$BH$3,\"Banc P5VRAIFAUXFAUXFAUXVRAI\",BDD!$Z$2:$Z$3)","v":0},{"$f":"SUMIF(BDD!$BH$2:$BH$3,\"Banc P5FAUXVRAIVRAIFAUXFAUX\",BDD!$Z$2:$Z$3)","v":0},{"$f":"SUMIF(BDD!$BH$2:$BH$3,\"Banc P5FAUXVRAIFAUXVRAIFAUX\",BDD!$Z$2:$Z$3)","v":0},{"$f":"SUMIF(BDD!$BH$2:$BH$3,\"Banc P5FAUXVRAIFAUXFAUXVRAI\",BDD!$Z$2:$Z$3)","v":0},{"$f":"SUMIF(BDD!$BH$2:$BH$3,\"Banc P5VRAIFAUXVRAIFAUXFAUX\",BDD!$Z$2:$Z$3)","v":0},{"$f":"SUMIF(BDD!$BH$2:$BH$3,\"Banc P5VRAIFAUXFAUXVRAIFAUX\",BDD!$Z$2:$Z$3)","v":0},{"$f":"SUMIF(BDD!$BH$2:$BH$3,\"Banc P5VRAIFAUXFAUXFAUXVRAI\",BDD!$Z$2:$Z$3)","v":0},{"$f":"SUMIF(BDD!$BH$2:$BH$3,\"Banc P5FAUXVRAIVRAIFAUXFAUX\",BDD!$Z$2:$Z$3)","v":0},{"$f":"SUMIF(BDD!$BH$2:$BH$3,\"Banc P5FAUXVRAIFAUXVRAIFAUX\",BDD!$Z$2:$Z$3)","v":0},{"$f":"SUMIF(BDD!$BH$2:$BH$3,\"Banc P5FAUXVRAIFAUXFAUXVRAI\",BDD!$Z$2:$Z$3)","v":0},{"$f":"SUMIF(BDD!$BH$2:$BH$3,\"Banc P5VRAIFAUXVRAIFAUXFAUX\",BDD!$Z$2:$Z$3)","v":0},{"$f":"SUMIF(BDD!$BH$2:$BH$3,\"Banc P5VRAIFAUXFAUXVRAIFAUX\",BDD!$Z$2:$Z$3)","v":0},{"$f":"SUMIF(BDD!$BH$2:$BH$3,\"Banc P5VRAIFAUXFAUXFAUXVRAI\",BDD!$Z$2:$Z$3)","v":0},{"$f":"SUMIF(BDD!$BH$2:$BH$3,\"Banc P5FAUXVRAIVRAIFAUXFAUX\",BDD!$Z$2:$Z$3)","v":0},{"$f":"SUMIF(BDD!$BH$2:$BH$3,\"Banc P5FAUXVRAIFAUXVRAIFAUX\",BDD!$Z$2:$Z$3)","v":0},{"$f":"SUMIF(BDD!$BH$2:$BH$3,\"Banc P5FAUXVRAIFAUXFAUXVRAI\",BDD!$Z$2:$Z$3)","v":0},{"$f":"SUMIF(BDD!$BH$2:$BH$3,\"Banc P5VRAIFAUXVRAIFAUXFAUX\",BDD!$Z$2:$Z$3)","v":0},{"$f":"SUMIF(BDD!$BH$2:$BH$3,\"Banc P5VRAIFAUXFAUXVRAIFAUX\",BDD!$Z$2:$Z$3)","v":0},{"$f":"SUMIF(BDD!$BH$2:$BH$3,\"Banc P5VRAIFAUXFAUXFAUXVRAI\",BDD!$Z$2:$Z$3)","v":0},{"$f":"SUMIF(BDD!$BH$2:$BH$3,\"Banc P5FAUXVRAIVRAIFAUXFAUX\",BDD!$Z$2:$Z$3)","v":0},{"$f":"SUMIF(BDD!$BH$2:$BH$3,\"Banc P5FAUXVRAIFAUXVRAIFAUX\",BDD!$Z$2:$Z$3)","v":0},{"$f":"SUMIF(BDD!$BH$2:$BH$3,\"Banc P5FAUXVRAIFAUXFAUXVRAI\",BDD!$Z$2:$Z$3)","v":0},{"$f":"SUMIF(BDD!$BH$2:$BH$3,\"Banc P5VRAIFAUXVRAIFAUXFAUX\",BDD!$Z$2:$Z$3)","v":0},{"$f":"SUMIF(BDD!$BH$2:$BH$3,\"Banc P5VRAIFAUXFAUXVRAIFAUX\",BDD!$Z$2:$Z$3)","v":0},{"$f":"SUMIF(BDD!$BH$2:$BH$3,\"Banc P5VRAIFAUXFAUXFAUXVRAI\",BDD!$Z$2:$Z$3)","v":0},{"$f":"SUMIF(BDD!$BH$2:$BH$3,\"Banc P5FAUXVRAIVRAIFAUXFAUX\",BDD!$Z$2:$Z$3)","v":0},{"$f":"SUMIF(BDD!$BH$2:$BH$3,\"Banc P5FAUXVRAIFAUXVRAIFAUX\",BDD!$Z$2:$Z$3)","v":0},{"$f":"SUMIF(BDD!$BH$2:$BH$3,\"Banc P5FAUXVRAIFAUXFAUXVRAI\",BDD!$Z$2:$Z$3)","v":0},{"$f":"SUMIF(BDD!$BH$2:$BH$3,\"Banc P5VRAIFAUXVRAIFAUXFAUX\",BDD!$Z$2:$Z$3)","v":0},{"$f":"SUMIF(BDD!$BH$2:$BH$3,\"Banc P5VRAIFAUXFAUXVRAIFAUX\",BDD!$Z$2:$Z$3)","v":0},{"$f":"SUMIF(BDD!$BH$2:$BH$3,\"Banc P5VRAIFAUXFAUXFAUXVRAI\",BDD!$Z$2:$Z$3)","v":0},{"$f":"SUMIF(BDD!$BH$2:$BH$3,\"Banc P5FAUXVRAIVRAIFAUXFAUX\",BDD!$Z$2:$Z$3)","v":0},{"$f":"SUMIF(BDD!$BH$2:$BH$3,\"Banc P5FAUXVRAIFAUXVRAIFAUX\",BDD!$Z$2:$Z$3)","v":0},{"$f":"SUMIF(BDD!$BH$2:$BH$3,\"Banc P5FAUXVRAIFAUXFAUXVRAI\",BDD!$Z$2:$Z$3)","v":0}]
["Banc 111",{"$f":"SUMIF(BDD!$BH$2:$BH$3,\"Banc 111VRAIFAUXVRAIFAUXFAUX\",BDD!$Z$2:$Z$3)","v":0},{"$f":"SUMIF(BDD!$BH$2:$BH$3,\"Banc 111VRAIFAUXFAUXVRAIFAUX\",BDD!$Z$2:$Z$3)","v":0},{"$f":"SUMIF(BDD!$BH$2:$BH$3,\"Banc 111VRAIFAUXFAUXFAUXVRAI\",BDD!$Z$2:$Z$3)","v":0},{"$f":"SUMIF(BDD!$BH$2:$BH$3,\"Banc 111FAUXVRAIVRAIFAUXFAUX\",BDD!$Z$2:$Z$3)","v":0},{"$f":"SUMIF(BDD!$BH$2:$BH$3,\"Banc 111FAUXVRAIFAUXVRAIFAUX\",BDD!$Z$2:$Z$3)","v":0},{"$f":"SUMIF(BDD!$BH$2:$BH$3,\"Banc 111FAUXVRAIFAUXFAUXVRAI\",BDD!$Z$2:$Z$3)","v":0},{"$f":"SUMIF(BDD!$BH$2:$BH$3,\"Banc 111VRAIFAUXVRAIFAUXFAUX\",BDD!$Z$2:$Z$3)","v":0},{"$f":"SUMIF(BDD!$BH$2:$BH$3,\"Banc 111VRAIFAUXFAUXVRAIFAUX\",BDD!$Z$2:$Z$3)","v":0},{"$f":"SUMIF(BDD!$BH$2:$BH$3,\"Banc 111VRAIFAUXFAUXFAUXVRAI\",BDD!$Z$2:$Z$3)","v":0},{"$f":"SUMIF(BDD!$BH$2:$BH$3,\"Banc 111FAUXVRAIVRAIFAUXFAUX\",BDD!$Z$2:$Z$3)","v":0},{"$f":"SUMIF(BDD!$BH$2:$BH$3,\"Banc 111FAUXVRAIFAUXVRAIFAUX\",BDD!$Z$2:$Z$3)","v":0},{"$f":"SUMIF(BDD!$BH$2:$BH$3,\"Banc 111FAUXVRAIFAUXFAUXVRAI\",BDD!$Z$2:$Z$3)","v":0},{"$f":"SUMIF(BDD!$BH$2:$BH$682,\"Banc 111VRAIFAUXVRAIFAUXFAUX\",BDD!$Z$2:$Z$682)","v":0.1},{"$f":"SUMIF(BDD!$BH$2:$BH$682,\"Banc 111VRAIFAUXFAUXVRAIFAUX\",BDD!$Z$2:$Z$682)","v":0},{"$f":"SUMIF(BDD!$BH$2:$BH$682,\"Banc 111VRAIFAUXFAUXFAUXVRAI\",BDD!$Z$2:$Z$682)","v":0},{"$f":"SUMIF(BDD!$BH$2:$BH$682,\"Banc 111FAUXVRAIVRAIFAUXFAUX\",BDD!$Z$2:$Z$682)","v":0},{"$f":"SUMIF(BDD!$BH$2:$BH$682,\"Banc 111FAUXVRAIFAUXVRAIFAUX\",BDD!$Z$2:$Z$682)","v":0},{"$f":"SUMIF(BDD!$BH$2:$BH$682,\"Banc 111FAUXVRAIFAUXFAUXVRAI\",BDD!$Z$2:$Z$682)","v":0},{"$f":"SUMIF(BDD!$BH$2:$BH$3,\"Banc 111VRAIFAUXVRAIFAUXFAUX\",BDD!$Z$2:$Z$3)","v":0},{"$f":"SUMIF(BDD!$BH$2:$BH$3,\"Banc 111VRAIFAUXFAUXVRAIFAUX\",BDD!$Z$2:$Z$3)","v":0},{"$f":"SUMIF(BDD!$BH$2:$BH$3,\"Banc 111VRAIFAUXFAUXFAUXVRAI\",BDD!$Z$2:$Z$3)","v":0},{"$f":"SUMIF(BDD!$BH$2:$BH$3,\"Banc 111FAUXVRAIVRAIFAUXFAUX\",BDD!$Z$2:$Z$3)","v":0},{"$f":"SUMIF(BDD!$BH$2:$BH$3,\"Banc 111FAUXVRAIFAUXVRAIFAUX\",BDD!$Z$2:$Z$3)","v":0},{"$f":"SUMIF(BDD!$BH$2:$BH$3,\"Banc 111FAUXVRAIFAUXFAUXVRAI\",BDD!$Z$2:$Z$3)","v":0},{"$f":"SUMIF(BDD!$BH$2:$BH$3,\"Banc 111VRAIFAUXVRAIFAUXFAUX\",BDD!$Z$2:$Z$3)","v":0},{"$f":"SUMIF(BDD!$BH$2:$BH$3,\"Banc 111VRAIFAUXFAUXVRAIFAUX\",BDD!$Z$2:$Z$3)","v":0},{"$f":"SUMIF(BDD!$BH$2:$BH$3,\"Banc 111VRAIFAUXFAUXFAUXVRAI\",BDD!$Z$2:$Z$3)","v":0},{"$f":"SUMIF(BDD!$BH$2:$BH$3,\"Banc 111FAUXVRAIVRAIFAUXFAUX\",BDD!$Z$2:$Z$3)","v":0},{"$f":"SUMIF(BDD!$BH$2:$BH$3,\"Banc 111FAUXVRAIFAUXVRAIFAUX\",BDD!$Z$2:$Z$3)","v":0},{"$f":"SUMIF(BDD!$BH$2:$BH$3,\"Banc 111FAUXVRAIFAUXFAUXVRAI\",BDD!$Z$2:$Z$3)","v":0},{"$f":"SUMIF(BDD!$BH$2:$BH$3,\"Banc 111VRAIFAUXVRAIFAUXFAUX\",BDD!$Z$2:$Z$3)","v":0},{"$f":"SUMIF(BDD!$BH$2:$BH$3,\"Banc 111VRAIFAUXFAUXVRAIFAUX\",BDD!$Z$2:$Z$3)","v":0},{"$f":"SUMIF(BDD!$BH$2:$BH$3,\"Banc 111VRAIFAUXFAUXFAUXVRAI\",BDD!$Z$2:$Z$3)","v":0},{"$f":"SUMIF(BDD!$BH$2:$BH$3,\"Banc 111FAUXVRAIVRAIFAUXFAUX\",BDD!$Z$2:$Z$3)","v":0},{"$f":"SUMIF(BDD!$BH$2:$BH$3,\"Banc 111FAUXVRAIFAUXVRAIFAUX\",BDD!$Z$2:$Z$3)","v":0},{"$f":"SUMIF(BDD!$BH$2:$BH$3,\"Banc 111FAUXVRAIFAUXFAUXVRAI\",BDD!$Z$2:$Z$3)","v":0},{"$f":"SUMIF(BDD!$BH$2:$BH$3,\"Banc 111VRAIFAUXVRAIFAUXFAUX\",BDD!$Z$2:$Z$3)","v":0},{"$f":"SUMIF(BDD!$BH$2:$BH$3,\"Banc 111VRAIFAUXFAUXVRAIFAUX\",BDD!$Z$2:$Z$3)","v":0},{"$f":"SUMIF(BDD!$BH$2:$BH$3,\"Banc 111VRAIFAUXFAUXFAUXVRAI\",BDD!$Z$2:$Z$3)","v":0},{"$f":"SUMIF(BDD!$BH$2:$BH$3,\"Banc 111FAUXVRAIVRAIFAUXFAUX\",BDD!$Z$2:$Z$3)","v":0},{"$f":"SUMIF(BDD!$BH$2:$BH$3,\"Banc 111FAUXVRAIFAUXVRAIFAUX\",BDD!$Z$2:$Z$3)","v":0},{"$f":"SUMIF(BDD!$BH$2:$BH$3,\"Banc 111FAUXVRAIFAUXFAUXVRAI\",BDD!$Z$2:$Z$3)","v":0},{"$f":"SUMIF(BDD!$BH$2:$BH$3,\"Banc 111VRAIFAUXVRAIFAUXFAUX\",BDD!$Z$2:$Z$3)","v":0},{"$f":"SUMIF(BDD!$BH$2:$BH$3,\"Banc 111VRAIFAUXFAUXVRAIFAUX\",BDD!$Z$2:$Z$3)","v":0},{"$f":"SUMIF(BDD!$BH$2:$BH$3,\"Banc 111VRAIFAUXFAUXFAUXVRAI\",BDD!$Z$2:$Z$3)","v":0},{"$f":"SUMIF(BDD!$BH$2:$BH$3,\"Banc 111FAUXVRAIVRAIFAUXFAUX\",BDD!$Z$2:$Z$3)","v":0},{"$f":"SUMIF(BDD!$BH$2:$BH$3,\"Banc 111FAUXVRAIFAUXVRAIFAUX\",BDD!$Z$2:$Z$3)","v":0},{"$f":"SUMIF(BDD!$BH$2:$BH$3,\"Banc 111FAUXVRAIFAUXFAUXVRAI\",BDD!$Z$2:$Z$3)","v":0},{"$f":"SUMIF(BDD!$BH$2:$BH$3,\"Banc 111VRAIFAUXVRAIFAUXFAUX\",BDD!$Z$2:$Z$3)","v":0},{"$f":"SUMIF(BDD!$BH$2:$BH$3,\"Banc 111VRAIFAUXFAUXVRAIFAUX\",BDD!$Z$2:$Z$3)","v":0},{"$f":"SUMIF(BDD!$BH$2:$BH$3,\"Banc 111VRAIFAUXFAUXFAUXVRAI\",BDD!$Z$2:$Z$3)","v":0},{"$f":"SUMIF(BDD!$BH$2:$BH$3,\"Banc 111FAUXVRAIVRAIFAUXFAUX\",BDD!$Z$2:$Z$3)","v":0},{"$f":"SUMIF(BDD!$BH$2:$BH$3,\"Banc 111FAUXVRAIFAUXVRAIFAUX\",BDD!$Z$2:$Z$3)","v":0},{"$f":"SUMIF(BDD!$BH$2:$BH$3,\"Banc 111FAUXVRAIFAUXFAUXVRAI\",BDD!$Z$2:$Z$3)","v":0},{"$f":"SUMIF(BDD!$BH$2:$BH$3,\"Banc 111VRAIFAUXVRAIFAUXFAUX\",BDD!$Z$2:$Z$3)","v":0},{"$f":"SUMIF(BDD!$BH$2:$BH$3,\"Banc 111VRAIFAUXFAUXVRAIFAUX\",BDD!$Z$2:$Z$3)","v":0},{"$f":"SUMIF(BDD!$BH$2:$BH$3,\"Banc 111VRAIFAUXFAUXFAUXVRAI\",BDD!$Z$2:$Z$3)","v":0},{"$f":"SUMIF(BDD!$BH$2:$BH$3,\"Banc 111FAUXVRAIVRAIFAUXFAUX\",BDD!$Z$2:$Z$3)","v":0},{"$f":"SUMIF(BDD!$BH$2:$BH$3,\"Banc 111FAUXVRAIFAUXVRAIFAUX\",BDD!$Z$2:$Z$3)","v":0},{"$f":"SUMIF(BDD!$BH$2:$BH$3,\"Banc 111FAUXVRAIFAUXFAUXVRAI\",BDD!$Z$2:$Z$3)","v":0},{"$f":"SUMIF(BDD!$BH$2:$BH$3,\"Banc 111VRAIFAUXVRAIFAUXFAUX\",BDD!$Z$2:$Z$3)","v":0},{"$f":"SUMIF(BDD!$BH$2:$BH$3,\"Banc 111VRAIFAUXFAUXVRAIFAUX\",BDD!$Z$2:$Z$3)","v":0},{"$f":"SUMIF(BDD!$BH$2:$BH$3,\"Banc 111VRAIFAUXFAUXFAUXVRAI\",BDD!$Z$2:$Z$3)","v":0},{"$f":"SUMIF(BDD!$BH$2:$BH$3,\"Banc 111FAUXVRAIVRAIFAUXFAUX\",BDD!$Z$2:$Z$3)","v":0},{"$f":"SUMIF(BDD!$BH$2:$BH$3,\"Banc 111FAUXVRAIFAUXVRAIFAUX\",BDD!$Z$2:$Z$3)","v":0},{"$f":"SUMIF(BDD!$BH$2:$BH$3,\"Banc 111FAUXVRAIFAUXFAUXVRAI\",BDD!$Z$2:$Z$3)","v":0},{"$f":"SUMIF(BDD!$BH$2:$BH$3,\"Banc 111VRAIFAUXVRAIFAUXFAUX\",BDD!$Z$2:$Z$3)","v":0},{"$f":"SUMIF(BDD!$BH$2:$BH$3,\"Banc 111VRAIFAUXFAUXVRAIFAUX\",BDD!$Z$2:$Z$3)","v":0},{"$f":"SUMIF(BDD!$BH$2:$BH$3,\"Banc 111VRAIFAUXFAUXFAUXVRAI\",BDD!$Z$2:$Z$3)","v":0},{"$f":"SUMIF(BDD!$BH$2:$BH$3,\"Banc 111FAUXVRAIVRAIFAUXFAUX\",BDD!$Z$2:$Z$3)","v":0},{"$f":"SUMIF(BDD!$BH$2:$BH$3,\"Banc 111FAUXVRAIFAUXVRAIFAUX\",BDD!$Z$2:$Z$3)","v":0},{"$f":"SUMIF(BDD!$BH$2:$BH$3,\"Banc 111FAUXVRAIFAUXFAUXVRAI\",BDD!$Z$2:$Z$3)","v":0}]
["Banc 117",{"$f":"SUMIF(BDD!$BH$2:$BH$3,\"Banc 117VRAIFAUXVRAIFAUXFAUX\",BDD!$Z$2:$Z$3)","v":0},{"$f":"SUMIF(BDD!$BH$2:$BH$3,\"Banc 117VRAIFAUXFAUXVRAIFAUX\",BDD!$Z$2:$Z$3)","v":0},{"$f":"SUMIF(BDD!$BH$2:$BH$3,\"Banc 117VRAIFAUXFAUXFAUXVRAI\",BDD!$Z$2:$Z$3)","v":0},{"$f":"SUMIF(BDD!$BH$2:$BH$3,\"Banc 117FAUXVRAIVRAIFAUXFAUX\",BDD!$Z$2:$Z$3)","v":0},{"$f":"SUMIF(BDD!$BH$2:$BH$3,\"Banc 117FAUXVRAIFAUXVRAIFAUX\",BDD!$Z$2:$Z$3)","v":0},{"$f":"SUMIF(BDD!$BH$2:$BH$3,\"Banc 117FAUXVRAIFAUXFAUXVRAI\",BDD!$Z$2:$Z$3)","v":0},{"$f":"SUMIF(BDD!$BH$2:$BH$3,\"Banc 117VRAIFAUXVRAIFAUXFAUX\",BDD!$Z$2:$Z$3)","v":0},{"$f":"SUMIF(BDD!$BH$2:$BH$3,\"Banc 117VRAIFAUXFAUXVRAIFAUX\",BDD!$Z$2:$Z$3)","v":0},{"$f":"SUMIF(BDD!$BH$2:$BH$3,\"Banc 117VRAIFAUXFAUXFAUXVRAI\",BDD!$Z$2:$Z$3)","v":0},{"$f":"SUMIF(BDD!$BH$2:$BH$3,\"Banc 117FAUXVRAIVRAIFAUXFAUX\",BDD!$Z$2:$Z$3)","v":0},{"$f":"SUMIF(BDD!$BH$2:$BH$3,\"Banc 117FAUXVRAIFAUXVRAIFAUX\",BDD!$Z$2:$Z$3)","v":0},{"$f":"SUMIF(BDD!$BH$2:$BH$3,\"Banc 117FAUXVRAIFAUXFAUXVRAI\",BDD!$Z$2:$Z$3)","v":0},{"$f":"SUMIF(BDD!$BH$2:$BH$682,\"Banc 117VRAIFAUXVRAIFAUXFAUX\",BDD!$Z$2:$Z$682)","v":0},{"$f":"SUMIF(BDD!$BH$2:$BH$682,\"Banc 117VRAIFAUXFAUXVRAIFAUX\",BDD!$Z$2:$Z$682)","v":0},{"$f":"SUMIF(BDD!$BH$2:$BH$682,\"Banc 117VRAIFAUXFAUXFAUXVRAI\",BDD!$Z$2:$Z$682)","v":0},{"$f":"SUMIF(BDD!$BH$2:$BH$682,\"Banc 117FAUXVRAIVRAIFAUXFAUX\",BDD!$Z$2:$Z$682)","v":0},{"$f":"SUMIF(BDD!$BH$2:$BH$682,\"Banc 117FAUXVRAIFAUXVRAIFAUX\",BDD!$Z$2:$Z$682)","v":0},{"$f":"SUMIF(BDD!$BH$2:$BH$682,\"Banc 117FAUXVRAIFAUXFAUXVRAI\",BDD!$Z$2:$Z$682)","v":0},{"$f":"SUMIF(BDD!$BH$2:$BH$3,\"Banc 117VRAIFAUXVRAIFAUXFAUX\",BDD!$Z$2:$Z$3)","v":0},{"$f":"SUMIF(BDD!$BH$2:$BH$3,\"Banc 117VRAIFAUXFAUXVRAIFAUX\",BDD!$Z$2:$Z$3)","v":0},{"$f":"SUMIF(BDD!$BH$2:$BH$3,\"Banc 117VRAIFAUXFAUXFAUXVRAI\",BDD!$Z$2:$Z$3)","v":0},{"$f":"SUMIF(BDD!$BH$2:$BH$3,\"Banc 117FAUXVRAIVRAIFAUXFAUX\",BDD!$Z$2:$Z$3)","v":0},{"$f":"SUMIF(BDD!$BH$2:$BH$3,\"Banc 117FAUXVRAIFAUXVRAIFAUX\",BDD!$Z$2:$Z$3)","v":0},{"$f":"SUMIF(BDD!$BH$2:$BH$3,\"Banc 117FAUXVRAIFAUXFAUXVRAI\",BDD!$Z$2:$Z$3)","v":0},{"$f":"SUMIF(BDD!$BH$2:$BH$3,\"Banc 117VRAIFAUXVRAIFAUXFAUX\",BDD!$Z$2:$Z$3)","v":0},{"$f":"SUMIF(BDD!$BH$2:$BH$3,\"Banc 117VRAIFAUXFAUXVRAIFAUX\",BDD!$Z$2:$Z$3)","v":0},{"$f":"SUMIF(BDD!$BH$2:$BH$3,\"Banc 117VRAIFAUXFAUXFAUXVRAI\",BDD!$Z$2:$Z$3)","v":0},{"$f":"SUMIF(BDD!$BH$2:$BH$3,\"Banc 117FAUXVRAIVRAIFAUXFAUX\",BDD!$Z$2:$Z$3)","v":0},{"$f":"SUMIF(BDD!$BH$2:$BH$3,\"Banc 117FAUXVRAIFAUXVRAIFAUX\",BDD!$Z$2:$Z$3)","v":0},{"$f":"SUMIF(BDD!$BH$2:$BH$3,\"Banc 117FAUXVRAIFAUXFAUXVRAI\",BDD!$Z$2:$Z$3)","v":0},{"$f":"SUMIF(BDD!$BH$2:$BH$3,\"Banc 117VRAIFAUXVRAIFAUXFAUX\",BDD!$Z$2:$Z$3)","v":0},{"$f":"SUMIF(BDD!$BH$2:$BH$3,\"Banc 117VRAIFAUXFAUXVRAIFAUX\",BDD!$Z$2:$Z$3)","v":0},{"$f":"SUMIF(BDD!$BH$2:$BH$3,\"Banc 117VRAIFAUXFAUXFAUXVRAI\",BDD!$Z$2:$Z$3)","v":0},{"$f":"SUMIF(BDD!$BH$2:$BH$3,\"Banc 117FAUXVRAIVRAIFAUXFAUX\",BDD!$Z$2:$Z$3)","v":0},{"$f":"SUMIF(BDD!$BH$2:$BH$3,\"Banc 117FAUXVRAIFAUXVRAIFAUX\",BDD!$Z$2:$Z$3)","v":0},{"$f":"SUMIF(BDD!$BH$2:$BH$3,\"Banc 117FAUXVRAIFAUXFAUXVRAI\",BDD!$Z$2:$Z$3)","v":0},{"$f":"SUMIF(BDD!$BH$2:$BH$3,\"Banc 117VRAIFAUXVRAIFAUXFAUX\",BDD!$Z$2:$Z$3)","v":0},{"$f":"SUMIF(BDD!$BH$2:$BH$3,\"Banc 117VRAIFAUXFAUXVRAIFAUX\",BDD!$Z$2:$Z$3)","v":0},{"$f":"SUMIF(BDD!$BH$2:$BH$3,\"Banc 117VRAIFAUXFAUXFAUXVRAI\",BDD!$Z$2:$Z$3)","v":0},{"$f":"SUMIF(BDD!$BH$2:$BH$3,\"Banc 117FAUXVRAIVRAIFAUXFAUX\",BDD!$Z$2:$Z$3)","v":0},{"$f":"SUMIF(BDD!$BH$2:$BH$3,\"Banc 117FAUXVRAIFAUXVRAIFAUX\",BDD!$Z$2:$Z$3)","v":0},{"$f":"SUMIF(BDD!$BH$2:$BH$3,\"Banc 117FAUXVRAIFAUXFAUXVRAI\",BDD!$Z$2:$Z$3)","v":0},{"$f":"SUMIF(BDD!$BH$2:$BH$3,\"Banc 117VRAIFAUXVRAIFAUXFAUX\",BDD!$Z$2:$Z$3)","v":0},{"$f":"SUMIF(BDD!$BH$2:$BH$3,\"Banc 117VRAIFAUXFAUXVRAIFAUX\",BDD!$Z$2:$Z$3)","v":0},{"$f":"SUMIF(BDD!$BH$2:$BH$3,\"Banc 117VRAIFAUXFAUXFAUXVRAI\",BDD!$Z$2:$Z$3)","v":0},{"$f":"SUMIF(BDD!$BH$2:$BH$3,\"Banc 117FAUXVRAIVRAIFAUXFAUX\",BDD!$Z$2:$Z$3)","v":0},{"$f":"SUMIF(BDD!$BH$2:$BH$3,\"Banc 117FAUXVRAIFAUXVRAIFAUX\",BDD!$Z$2:$Z$3)","v":0},{"$f":"SUMIF(BDD!$BH$2:$BH$3,\"Banc 117FAUXVRAIFAUXFAUXVRAI\",BDD!$Z$2:$Z$3)","v":0},{"$f":"SUMIF(BDD!$BH$2:$BH$3,\"Banc 117VRAIFAUXVRAIFAUXFAUX\",BDD!$Z$2:$Z$3)","v":0},{"$f":"SUMIF(BDD!$BH$2:$BH$3,\"Banc 117VRAIFAUXFAUXVRAIFAUX\",BDD!$Z$2:$Z$3)","v":0},{"$f":"SUMIF(BDD!$BH$2:$BH$3,\"Banc 117VRAIFAUXFAUXFAUXVRAI\",BDD!$Z$2:$Z$3)","v":0},{"$f":"SUMIF(BDD!$BH$2:$BH$3,\"Banc 117FAUXVRAIVRAIFAUXFAUX\",BDD!$Z$2:$Z$3)","v":0},{"$f":"SUMIF(BDD!$BH$2:$BH$3,\"Banc 117FAUXVRAIFAUXVRAIFAUX\",BDD!$Z$2:$Z$3)","v":0},{"$f":"SUMIF(BDD!$BH$2:$BH$3,\"Banc 117FAUXVRAIFAUXFAUXVRAI\",BDD!$Z$2:$Z$3)","v":0},{"$f":"SUMIF(BDD!$BH$2:$BH$3,\"Banc 117VRAIFAUXVRAIFAUXFAUX\",BDD!$Z$2:$Z$3)","v":0},{"$f":"SUMIF(BDD!$BH$2:$BH$3,\"Banc 117VRAIFAUXFAUXVRAIFAUX\",BDD!$Z$2:$Z$3)","v":0},{"$f":"SUMIF(BDD!$BH$2:$BH$3,\"Banc 117VRAIFAUXFAUXFAUXVRAI\",BDD!$Z$2:$Z$3)","v":0},{"$f":"SUMIF(BDD!$BH$2:$BH$3,\"Banc 117FAUXVRAIVRAIFAUXFAUX\",BDD!$Z$2:$Z$3)","v":0},{"$f":"SUMIF(BDD!$BH$2:$BH$3,\"Banc 117FAUXVRAIFAUXVRAIFAUX\",BDD!$Z$2:$Z$3)","v":0},{"$f":"SUMIF(BDD!$BH$2:$BH$3,\"Banc 117FAUXVRAIFAUXFAUXVRAI\",BDD!$Z$2:$Z$3)","v":0},{"$f":"SUMIF(BDD!$BH$2:$BH$3,\"Banc 117VRAIFAUXVRAIFAUXFAUX\",BDD!$Z$2:$Z$3)","v":0},{"$f":"SUMIF(BDD!$BH$2:$BH$3,\"Banc 117VRAIFAUXFAUXVRAIFAUX\",BDD!$Z$2:$Z$3)","v":0},{"$f":"SUMIF(BDD!$BH$2:$BH$3,\"Banc 117VRAIFAUXFAUXFAUXVRAI\",BDD!$Z$2:$Z$3)","v":0},{"$f":"SUMIF(BDD!$BH$2:$BH$3,\"Banc 117FAUXVRAIVRAIFAUXFAUX\",BDD!$Z$2:$Z$3)","v":0},{"$f":"SUMIF(BDD!$BH$2:$BH$3,\"Banc 117FAUXVRAIFAUXVRAIFAUX\",BDD!$Z$2:$Z$3)","v":0},{"$f":"SUMIF(BDD!$BH$2:$BH$3,\"Banc 117FAUXVRAIFAUXFAUXVRAI\",BDD!$Z$2:$Z$3)","v":0},{"$f":"SUMIF(BDD!$BH$2:$BH$3,\"Banc 117VRAIFAUXVRAIFAUXFAUX\",BDD!$Z$2:$Z$3)","v":0},{"$f":"SUMIF(BDD!$BH$2:$BH$3,\"Banc 117VRAIFAUXFAUXVRAIFAUX\",BDD!$Z$2:$Z$3)","v":0},{"$f":"SUMIF(BDD!$BH$2:$BH$3,\"Banc 117VRAIFAUXFAUXFAUXVRAI\",BDD!$Z$2:$Z$3)","v":0},{"$f":"SUMIF(BDD!$BH$2:$BH$3,\"Banc 117FAUXVRAIVRAIFAUXFAUX\",BDD!$Z$2:$Z$3)","v":0},{"$f":"SUMIF(BDD!$BH$2:$BH$3,\"Banc 117FAUXVRAIFAUXVRAIFAUX\",BDD!$Z$2:$Z$3)","v":0},{"$f":"SUMIF(BDD!$BH$2:$BH$3,\"Banc 117FAUXVRAIFAUXFAUXVRAI\",BDD!$Z$2:$Z$3)","v":0}]
["Banc 117 bis",{"$f":"SUMIF(BDD!$BH$2:$BH$3,\"Banc 117 bisVRAIFAUXVRAIFAUXFAUX\",BDD!$Z$2:$Z$3)","v":0},{"$f":"SUMIF(BDD!$BH$2:$BH$3,\"Banc 117 bisVRAIFAUXFAUXVRAIFAUX\",BDD!$Z$2:$Z$3)","v":0},{"$f":"SUMIF(BDD!$BH$2:$BH$3,\"Banc 117 bisVRAIFAUXFAUXFAUXVRAI\",BDD!$Z$2:$Z$3)","v":0},{"$f":"SUMIF(BDD!$BH$2:$BH$3,\"Banc 117 bisFAUXVRAIVRAIFAUXFAUX\",BDD!$Z$2:$Z$3)","v":0},{"$f":"SUMIF(BDD!$BH$2:$BH$3,\"Banc 117 bisFAUXVRAIFAUXVRAIFAUX\",BDD!$Z$2:$Z$3)","v":0},{"$f":"SUMIF(BDD!$BH$2:$BH$3,\"Banc 117 bisFAUXVRAIFAUXFAUXVRAI\",BDD!$Z$2:$Z$3)","v":0},{"$f":"SUMIF(BDD!$BH$2:$BH$3,\"Banc 117 bisVRAIFAUXVRAIFAUXFAUX\",BDD!$Z$2:$Z$3)","v":0},{"$f":"SUMIF(BDD!$BH$2:$BH$3,\"Banc 117 bisVRAIFAUXFAUXVRAIFAUX\",BDD!$Z$2:$Z$3)","v":0},{"$f":"SUMIF(BDD!$BH$2:$BH$3,\"Banc 117 bisVRAIFAUXFAUXFAUXVRAI\",BDD!$Z$2:$Z$3)","v":0},{"$f":"SUMIF(BDD!$BH$2:$BH$3,\"Banc 117 bisFAUXVRAIVRAIFAUXFAUX\",BDD!$Z$2:$Z$3)","v":0},{"$f":"SUMIF(BDD!$BH$2:$BH$3,\"Banc 117 bisFAUXVRAIFAUXVRAIFAUX\",BDD!$Z$2:$Z$3)","v":0},{"$f":"SUMIF(BDD!$BH$2:$BH$3,\"Banc 117 bisFAUXVRAIFAUXFAUXVRAI\",BDD!$Z$2:$Z$3)","v":0},{"$f":"SUMIF(BDD!$BH$2:$BH$682,\"Banc 117 bisVRAIFAUXVRAIFAUXFAUX\",BDD!$Z$2:$Z$682)","v":0},{"$f":"SUMIF(BDD!$BH$2:$BH$682,\"Banc 117 bisVRAIFAUXFAUXVRAIFAUX\",BDD!$Z$2:$Z$682)","v":0},{"$f":"SUMIF(BDD!$BH$2:$BH$682,\"Banc 117 bisVRAIFAUXFAUXFAUXVRAI\",BDD!$Z$2:$Z$682)","v":0},{"$f":"SUMIF(BDD!$BH$2:$BH$682,\"Banc 117 bisFAUXVRAIVRAIFAUXFAUX\",BDD!$Z$2:$Z$682)","v":0},{"$f":"SUMIF(BDD!$BH$2:$BH$682,\"Banc 117 bisFAUXVRAIFAUXVRAIFAUX\",BDD!$Z$2:$Z$682)","v":0},{"$f":"SUMIF(BDD!$BH$2:$BH$682,\"Banc 117 bisFAUXVRAIFAUXFAUXVRAI\",BDD!$Z$2:$Z$682)","v":0.1},{"$f":"SUMIF(BDD!$BH$2:$BH$3,\"Banc 117 bisVRAIFAUXVRAIFAUXFAUX\",BDD!$Z$2:$Z$3)","v":0},{"$f":"SUMIF(BDD!$BH$2:$BH$3,\"Banc 117 bisVRAIFAUXFAUXVRAIFAUX\",BDD!$Z$2:$Z$3)","v":0},{"$f":"SUMIF(BDD!$BH$2:$BH$3,\"Banc 117 bisVRAIFAUXFAUXFAUXVRAI\",BDD!$Z$2:$Z$3)","v":0},{"$f":"SUMIF(BDD!$BH$2:$BH$3,\"Banc 117 bisFAUXVRAIVRAIFAUXFAUX\",BDD!$Z$2:$Z$3)","v":0},{"$f":"SUMIF(BDD!$BH$2:$BH$3,\"Banc 117 bisFAUXVRAIFAUXVRAIFAUX\",BDD!$Z$2:$Z$3)","v":0},{"$f":"SUMIF(BDD!$BH$2:$BH$3,\"Banc 117 bisFAUXVRAIFAUXFAUXVRAI\",BDD!$Z$2:$Z$3)","v":0},{"$f":"SUMIF(BDD!$BH$2:$BH$3,\"Banc 117 bisVRAIFAUXVRAIFAUXFAUX\",BDD!$Z$2:$Z$3)","v":0},{"$f":"SUMIF(BDD!$BH$2:$BH$3,\"Banc 117 bisVRAIFAUXFAUXVRAIFAUX\",BDD!$Z$2:$Z$3)","v":0},{"$f":"SUMIF(BDD!$BH$2:$BH$3,\"Banc 117 bisVRAIFAUXFAUXFAUXVRAI\",BDD!$Z$2:$Z$3)","v":0},{"$f":"SUMIF(BDD!$BH$2:$BH$3,\"Banc 117 bisFAUXVRAIVRAIFAUXFAUX\",BDD!$Z$2:$Z$3)","v":0},{"$f":"SUMIF(BDD!$BH$2:$BH$3,\"Banc 117 bisFAUXVRAIFAUXVRAIFAUX\",BDD!$Z$2:$Z$3)","v":0},{"$f":"SUMIF(BDD!$BH$2:$BH$3,\"Banc 117 bisFAUXVRAIFAUXFAUXVRAI\",BDD!$Z$2:$Z$3)","v":0},{"$f":"SUMIF(BDD!$BH$2:$BH$3,\"Banc 117 bisVRAIFAUXVRAIFAUXFAUX\",BDD!$Z$2:$Z$3)","v":0},{"$f":"SUMIF(BDD!$BH$2:$BH$3,\"Banc 117 bisVRAIFAUXFAUXVRAIFAUX\",BDD!$Z$2:$Z$3)","v":0},{"$f":"SUMIF(BDD!$BH$2:$BH$3,\"Banc 117 bisVRAIFAUXFAUXFAUXVRAI\",BDD!$Z$2:$Z$3)","v":0},{"$f":"SUMIF(BDD!$BH$2:$BH$3,\"Banc 117 bisFAUXVRAIVRAIFAUXFAUX\",BDD!$Z$2:$Z$3)","v":0},{"$f":"SUMIF(BDD!$BH$2:$BH$3,\"Banc 117 bisFAUXVRAIFAUXVRAIFAUX\",BDD!$Z$2:$Z$3)","v":0},{"$f":"SUMIF(BDD!$BH$2:$BH$3,\"Banc 117 bisFAUXVRAIFAUXFAUXVRAI\",BDD!$Z$2:$Z$3)","v":0},{"$f":"SUMIF(BDD!$BH$2:$BH$3,\"Banc 117 bisVRAIFAUXVRAIFAUXFAUX\",BDD!$Z$2:$Z$3)","v":0},{"$f":"SUMIF(BDD!$BH$2:$BH$3,\"Banc 117 bisVRAIFAUXFAUXVRAIFAUX\",BDD!$Z$2:$Z$3)","v":0},{"$f":"SUMIF(BDD!$BH$2:$BH$3,\"Banc 117 bisVRAIFAUXFAUXFAUXVRAI\",BDD!$Z$2:$Z$3)","v":0},{"$f":"SUMIF(BDD!$BH$2:$BH$3,\"Banc 117 bisFAUXVRAIVRAIFAUXFAUX\",BDD!$Z$2:$Z$3)","v":0},{"$f":"SUMIF(BDD!$BH$2:$BH$3,\"Banc 117 bisFAUXVRAIFAUXVRAIFAUX\",BDD!$Z$2:$Z$3)","v":0},{"$f":"SUMIF(BDD!$BH$2:$BH$3,\"Banc 117 bisFAUXVRAIFAUXFAUXVRAI\",BDD!$Z$2:$Z$3)","v":0},{"$f":"SUMIF(BDD!$BH$2:$BH$3,\"Banc 117 bisVRAIFAUXVRAIFAUXFAUX\",BDD!$Z$2:$Z$3)","v":0},{"$f":"SUMIF(BDD!$BH$2:$BH$3,\"Banc 117 bisVRAIFAUXFAUXVRAIFAUX\",BDD!$Z$2:$Z$3)","v":0},{"$f":"SUMIF(BDD!$BH$2:$BH$3,\"Banc 117 bisVRAIFAUXFAUXFAUXVRAI\",BDD!$Z$2:$Z$3)","v":0},{"$f":"SUMIF(BDD!$BH$2:$BH$3,\"Banc 117 bisFAUXVRAIVRAIFAUXFAUX\",BDD!$Z$2:$Z$3)","v":0},{"$f":"SUMIF(BDD!$BH$2:$BH$3,\"Banc 117 bisFAUXVRAIFAUXVRAIFAUX\",BDD!$Z$2:$Z$3)","v":0},{"$f":"SUMIF(BDD!$BH$2:$BH$3,\"Banc 117 bisFAUXVRAIFAUXFAUXVRAI\",BDD!$Z$2:$Z$3)","v":0},{"$f":"SUMIF(BDD!$BH$2:$BH$3,\"Banc 117 bisVRAIFAUXVRAIFAUXFAUX\",BDD!$Z$2:$Z$3)","v":0},{"$f":"SUMIF(BDD!$BH$2:$BH$3,\"Banc 117 bisVRAIFAUXFAUXVRAIFAUX\",BDD!$Z$2:$Z$3)","v":0},{"$f":"SUMIF(BDD!$BH$2:$BH$3,\"Banc 117 bisVRAIFAUXFAUXFAUXVRAI\",BDD!$Z$2:$Z$3)","v":0},{"$f":"SUMIF(BDD!$BH$2:$BH$3,\"Banc 117 bisFAUXVRAIVRAIFAUXFAUX\",BDD!$Z$2:$Z$3)","v":0},{"$f":"SUMIF(BDD!$BH$2:$BH$3,\"Banc 117 bisFAUXVRAIFAUXVRAIFAUX\",BDD!$Z$2:$Z$3)","v":0},{"$f":"SUMIF(BDD!$BH$2:$BH$3,\"Banc 117 bisFAUXVRAIFAUXFAUXVRAI\",BDD!$Z$2:$Z$3)","v":0},{"$f":"SUMIF(BDD!$BH$2:$BH$3,\"Banc 117 bisVRAIFAUXVRAIFAUXFAUX\",BDD!$Z$2:$Z$3)","v":0},{"$f":"SUMIF(BDD!$BH$2:$BH$3,\"Banc 117 bisVRAIFAUXFAUXVRAIFAUX\",BDD!$Z$2:$Z$3)","v":0},{"$f":"SUMIF(BDD!$BH$2:$BH$3,\"Banc 117 bisVRAIFAUXFAUXFAUXVRAI\",BDD!$Z$2:$Z$3)","v":0},{"$f":"SUMIF(BDD!$BH$2:$BH$3,\"Banc 117 bisFAUXVRAIVRAIFAUXFAUX\",BDD!$Z$2:$Z$3)","v":0},{"$f":"SUMIF(BDD!$BH$2:$BH$3,\"Banc 117 bisFAUXVRAIFAUXVRAIFAUX\",BDD!$Z$2:$Z$3)","v":0},{"$f":"SUMIF(BDD!$BH$2:$BH$3,\"Banc 117 bisFAUXVRAIFAUXFAUXVRAI\",BDD!$Z$2:$Z$3)","v":0},{"$f":"SUMIF(BDD!$BH$2:$BH$3,\"Banc 117 bisVRAIFAUXVRAIFAUXFAUX\",BDD!$Z$2:$Z$3)","v":0},{"$f":"SUMIF(BDD!$BH$2:$BH$3,\"Banc 117 bisVRAIFAUXFAUXVRAIFAUX\",BDD!$Z$2:$Z$3)","v":0},{"$f":"SUMIF(BDD!$BH$2:$BH$3,\"Banc 117 bisVRAIFAUXFAUXFAUXVRAI\",BDD!$Z$2:$Z$3)","v":0},{"$f":"SUMIF(BDD!$BH$2:$BH$3,\"Banc 117 bisFAUXVRAIVRAIFAUXFAUX\",BDD!$Z$2:$Z$3)","v":0},{"$f":"SUMIF(BDD!$BH$2:$BH$3,\"Banc 117 bisFAUXVRAIFAUXVRAIFAUX\",BDD!$Z$2:$Z$3)","v":0},{"$f":"SUMIF(BDD!$BH$2:$BH$3,\"Banc 117 bisFAUXVRAIFAUXFAUXVRAI\",BDD!$Z$2:$Z$3)","v":0},{"$f":"SUMIF(BDD!$BH$2:$BH$3,\"Banc 117 bisVRAIFAUXVRAIFAUXFAUX\",BDD!$Z$2:$Z$3)","v":0},{"$f":"SUMIF(BDD!$BH$2:$BH$3,\"Banc 117 bisVRAIFAUXFAUXVRAIFAUX\",BDD!$Z$2:$Z$3)","v":0},{"$f":"SUMIF(BDD!$BH$2:$BH$3,\"Banc 117 bisVRAIFAUXFAUXFAUXVRAI\",BDD!$Z$2:$Z$3)","v":0},{"$f":"SUMIF(BDD!$BH$2:$BH$3,\"Banc 117 bisFAUXVRAIVRAIFAUXFAUX\",BDD!$Z$2:$Z$3)","v":0},{"$f":"SUMIF(BDD!$BH$2:$BH$3,\"Banc 117 bisFAUXVRAIFAUXVRAIFAUX\",BDD!$Z$2:$Z$3)","v":0},{"$f":"SUMIF(BDD!$BH$2:$BH$3,\"Banc 117 bisFAUXVRAIFAUXFAUXVRAI\",BDD!$Z$2:$Z$3)","v":0}]
["Banc 119",{"$f":"SUMIF(BDD!$BH$2:$BH$3,\"Banc 119VRAIFAUXVRAIFAUXFAUX\",BDD!$Z$2:$Z$3)","v":0},{"$f":"SUMIF(BDD!$BH$2:$BH$3,\"Banc 119VRAIFAUXFAUXVRAIFAUX\",BDD!$Z$2:$Z$3)","v":0},{"$f":"SUMIF(BDD!$BH$2:$BH$3,\"Banc 119VRAIFAUXFAUXFAUXVRAI\",BDD!$Z$2:$Z$3)","v":0},{"$f":"SUMIF(BDD!$BH$2:$BH$3,\"Banc 119FAUXVRAIVRAIFAUXFAUX\",BDD!$Z$2:$Z$3)","v":0},{"$f":"SUMIF(BDD!$BH$2:$BH$3,\"Banc 119FAUXVRAIFAUXVRAIFAUX\",BDD!$Z$2:$Z$3)","v":0},{"$f":"SUMIF(BDD!$BH$2:$BH$3,\"Banc 119FAUXVRAIFAUXFAUXVRAI\",BDD!$Z$2:$Z$3)","v":0},{"$f":"SUMIF(BDD!$BH$2:$BH$3,\"Banc 119VRAIFAUXVRAIFAUXFAUX\",BDD!$Z$2:$Z$3)","v":0},{"$f":"SUMIF(BDD!$BH$2:$BH$3,\"Banc 119VRAIFAUXFAUXVRAIFAUX\",BDD!$Z$2:$Z$3)","v":0},{"$f":"SUMIF(BDD!$BH$2:$BH$3,\"Banc 119VRAIFAUXFAUXFAUXVRAI\",BDD!$Z$2:$Z$3)","v":0},{"$f":"SUMIF(BDD!$BH$2:$BH$3,\"Banc 119FAUXVRAIVRAIFAUXFAUX\",BDD!$Z$2:$Z$3)","v":0},{"$f":"SUMIF(BDD!$BH$2:$BH$3,\"Banc 119FAUXVRAIFAUXVRAIFAUX\",BDD!$Z$2:$Z$3)","v":0},{"$f":"SUMIF(BDD!$BH$2:$BH$3,\"Banc 119FAUXVRAIFAUXFAUXVRAI\",BDD!$Z$2:$Z$3)","v":0},{"$f":"SUMIF(BDD!$BH$2:$BH$682,\"Banc 119VRAIFAUXVRAIFAUXFAUX\",BDD!$Z$2:$Z$682)","v":0},{"$f":"SUMIF(BDD!$BH$2:$BH$682,\"Banc 119VRAIFAUXFAUXVRAIFAUX\",BDD!$Z$2:$Z$682)","v":0},{"$f":"SUMIF(BDD!$BH$2:$BH$682,\"Banc 119VRAIFAUXFAUXFAUXVRAI\",BDD!$Z$2:$Z$682)","v":0},{"$f":"SUMIF(BDD!$BH$2:$BH$682,\"Banc 119FAUXVRAIVRAIFAUXFAUX\",BDD!$Z$2:$Z$682)","v":0},{"$f":"SUMIF(BDD!$BH$2:$BH$682,\"Banc 119FAUXVRAIFAUXVRAIFAUX\",BDD!$Z$2:$Z$682)","v":0},{"$f":"SUMIF(BDD!$BH$2:$BH$682,\"Banc 119FAUXVRAIFAUXFAUXVRAI\",BDD!$Z$2:$Z$682)","v":0},{"$f":"SUMIF(BDD!$BH$2:$BH$3,\"Banc 119VRAIFAUXVRAIFAUXFAUX\",BDD!$Z$2:$Z$3)","v":0},{"$f":"SUMIF(BDD!$BH$2:$BH$3,\"Banc 119VRAIFAUXFAUXVRAIFAUX\",BDD!$Z$2:$Z$3)","v":0},{"$f":"SUMIF(BDD!$BH$2:$BH$3,\"Banc 119VRAIFAUXFAUXFAUXVRAI\",BDD!$Z$2:$Z$3)","v":0},{"$f":"SUMIF(BDD!$BH$2:$BH$3,\"Banc 119FAUXVRAIVRAIFAUXFAUX\",BDD!$Z$2:$Z$3)","v":0},{"$f":"SUMIF(BDD!$BH$2:$BH$3,\"Banc 119FAUXVRAIFAUXVRAIFAUX\",BDD!$Z$2:$Z$3)","v":0},{"$f":"SUMIF(BDD!$BH$2:$BH$3,\"Banc 119FAUXVRAIFAUXFAUXVRAI\",BDD!$Z$2:$Z$3)","v":0},{"$f":"SUMIF(BDD!$BH$2:$BH$3,\"Banc 119VRAIFAUXVRAIFAUXFAUX\",BDD!$Z$2:$Z$3)","v":0},{"$f":"SUMIF(BDD!$BH$2:$BH$3,\"Banc 119VRAIFAUXFAUXVRAIFAUX\",BDD!$Z$2:$Z$3)","v":0},{"$f":"SUMIF(BDD!$BH$2:$BH$3,\"Banc 119VRAIFAUXFAUXFAUXVRAI\",BDD!$Z$2:$Z$3)","v":0},{"$f":"SUMIF(BDD!$BH$2:$BH$3,\"Banc 119FAUXVRAIVRAIFAUXFAUX\",BDD!$Z$2:$Z$3)","v":0},{"$f":"SUMIF(BDD!$BH$2:$BH$3,\"Banc 119FAUXVRAIFAUXVRAIFAUX\",BDD!$Z$2:$Z$3)","v":0},{"$f":"SUMIF(BDD!$BH$2:$BH$3,\"Banc 119FAUXVRAIFAUXFAUXVRAI\",BDD!$Z$2:$Z$3)","v":0},{"$f":"SUMIF(BDD!$BH$2:$BH$3,\"Banc 119VRAIFAUXVRAIFAUXFAUX\",BDD!$Z$2:$Z$3)","v":0},{"$f":"SUMIF(BDD!$BH$2:$BH$3,\"Banc 119VRAIFAUXFAUXVRAIFAUX\",BDD!$Z$2:$Z$3)","v":0},{"$f":"SUMIF(BDD!$BH$2:$BH$3,\"Banc 119VRAIFAUXFAUXFAUXVRAI\",BDD!$Z$2:$Z$3)","v":0},{"$f":"SUMIF(BDD!$BH$2:$BH$3,\"Banc 119FAUXVRAIVRAIFAUXFAUX\",BDD!$Z$2:$Z$3)","v":0},{"$f":"SUMIF(BDD!$BH$2:$BH$3,\"Banc 119FAUXVRAIFAUXVRAIFAUX\",BDD!$Z$2:$Z$3)","v":0},{"$f":"SUMIF(BDD!$BH$2:$BH$3,\"Banc 119FAUXVRAIFAUXFAUXVRAI\",BDD!$Z$2:$Z$3)","v":0},{"$f":"SUMIF(BDD!$BH$2:$BH$3,\"Banc 119VRAIFAUXVRAIFAUXFAUX\",BDD!$Z$2:$Z$3)","v":0},{"$f":"SUMIF(BDD!$BH$2:$BH$3,\"Banc 119VRAIFAUXFAUXVRAIFAUX\",BDD!$Z$2:$Z$3)","v":0},{"$f":"SUMIF(BDD!$BH$2:$BH$3,\"Banc 119VRAIFAUXFAUXFAUXVRAI\",BDD!$Z$2:$Z$3)","v":0},{"$f":"SUMIF(BDD!$BH$2:$BH$3,\"Banc 119FAUXVRAIVRAIFAUXFAUX\",BDD!$Z$2:$Z$3)","v":0},{"$f":"SUMIF(BDD!$BH$2:$BH$3,\"Banc 119FAUXVRAIFAUXVRAIFAUX\",BDD!$Z$2:$Z$3)","v":0},{"$f":"SUMIF(BDD!$BH$2:$BH$3,\"Banc 119FAUXVRAIFAUXFAUXVRAI\",BDD!$Z$2:$Z$3)","v":0},{"$f":"SUMIF(BDD!$BH$2:$BH$3,\"Banc 119VRAIFAUXVRAIFAUXFAUX\",BDD!$Z$2:$Z$3)","v":0},{"$f":"SUMIF(BDD!$BH$2:$BH$3,\"Banc 119VRAIFAUXFAUXVRAIFAUX\",BDD!$Z$2:$Z$3)","v":0},{"$f":"SUMIF(BDD!$BH$2:$BH$3,\"Banc 119VRAIFAUXFAUXFAUXVRAI\",BDD!$Z$2:$Z$3)","v":0},{"$f":"SUMIF(BDD!$BH$2:$BH$3,\"Banc 119FAUXVRAIVRAIFAUXFAUX\",BDD!$Z$2:$Z$3)","v":0},{"$f":"SUMIF(BDD!$BH$2:$BH$3,\"Banc 119FAUXVRAIFAUXVRAIFAUX\",BDD!$Z$2:$Z$3)","v":0},{"$f":"SUMIF(BDD!$BH$2:$BH$3,\"Banc 119FAUXVRAIFAUXFAUXVRAI\",BDD!$Z$2:$Z$3)","v":0},{"$f":"SUMIF(BDD!$BH$2:$BH$3,\"Banc 119VRAIFAUXVRAIFAUXFAUX\",BDD!$Z$2:$Z$3)","v":0},{"$f":"SUMIF(BDD!$BH$2:$BH$3,\"Banc 119VRAIFAUXFAUXVRAIFAUX\",BDD!$Z$2:$Z$3)","v":0},{"$f":"SUMIF(BDD!$BH$2:$BH$3,\"Banc 119VRAIFAUXFAUXFAUXVRAI\",BDD!$Z$2:$Z$3)","v":0},{"$f":"SUMIF(BDD!$BH$2:$BH$3,\"Banc 119FAUXVRAIVRAIFAUXFAUX\",BDD!$Z$2:$Z$3)","v":0},{"$f":"SUMIF(BDD!$BH$2:$BH$3,\"Banc 119FAUXVRAIFAUXVRAIFAUX\",BDD!$Z$2:$Z$3)","v":0},{"$f":"SUMIF(BDD!$BH$2:$BH$3,\"Banc 119FAUXVRAIFAUXFAUXVRAI\",BDD!$Z$2:$Z$3)","v":0},{"$f":"SUMIF(BDD!$BH$2:$BH$3,\"Banc 119VRAIFAUXVRAIFAUXFAUX\",BDD!$Z$2:$Z$3)","v":0},{"$f":"SUMIF(BDD!$BH$2:$BH$3,\"Banc 119VRAIFAUXFAUXVRAIFAUX\",BDD!$Z$2:$Z$3)","v":0},{"$f":"SUMIF(BDD!$BH$2:$BH$3,\"Banc 119VRAIFAUXFAUXFAUXVRAI\",BDD!$Z$2:$Z$3)","v":0},{"$f":"SUMIF(BDD!$BH$2:$BH$3,\"Banc 119FAUXVRAIVRAIFAUXFAUX\",BDD!$Z$2:$Z$3)","v":0},{"$f":"SUMIF(BDD!$BH$2:$BH$3,\"Banc 119FAUXVRAIFAUXVRAIFAUX\",BDD!$Z$2:$Z$3)","v":0},{"$f":"SUMIF(BDD!$BH$2:$BH$3,\"Banc 119FAUXVRAIFAUXFAUXVRAI\",BDD!$Z$2:$Z$3)","v":0},{"$f":"SUMIF(BDD!$BH$2:$BH$3,\"Banc 119VRAIFAUXVRAIFAUXFAUX\",BDD!$Z$2:$Z$3)","v":0},{"$f":"SUMIF(BDD!$BH$2:$BH$3,\"Banc 119VRAIFAUXFAUXVRAIFAUX\",BDD!$Z$2:$Z$3)","v":0},{"$f":"SUMIF(BDD!$BH$2:$BH$3,\"Banc 119VRAIFAUXFAUXFAUXVRAI\",BDD!$Z$2:$Z$3)","v":0},{"$f":"SUMIF(BDD!$BH$2:$BH$3,\"Banc 119FAUXVRAIVRAIFAUXFAUX\",BDD!$Z$2:$Z$3)","v":0},{"$f":"SUMIF(BDD!$BH$2:$BH$3,\"Banc 119FAUXVRAIFAUXVRAIFAUX\",BDD!$Z$2:$Z$3)","v":0},{"$f":"SUMIF(BDD!$BH$2:$BH$3,\"Banc 119FAUXVRAIFAUXFAUXVRAI\",BDD!$Z$2:$Z$3)","v":0},{"$f":"SUMIF(BDD!$BH$2:$BH$3,\"Banc 119VRAIFAUXVRAIFAUXFAUX\",BDD!$Z$2:$Z$3)","v":0},{"$f":"SUMIF(BDD!$BH$2:$BH$3,\"Banc 119VRAIFAUXFAUXVRAIFAUX\",BDD!$Z$2:$Z$3)","v":0},{"$f":"SUMIF(BDD!$BH$2:$BH$3,\"Banc 119VRAIFAUXFAUXFAUXVRAI\",BDD!$Z$2:$Z$3)","v":0},{"$f":"SUMIF(BDD!$BH$2:$BH$3,\"Banc 119FAUXVRAIVRAIFAUXFAUX\",BDD!$Z$2:$Z$3)","v":0},{"$f":"SUMIF(BDD!$BH$2:$BH$3,\"Banc 119FAUXVRAIFAUXVRAIFAUX\",BDD!$Z$2:$Z$3)","v":0},{"$f":"SUMIF(BDD!$BH$2:$BH$3,\"Banc 119FAUXVRAIFAUXFAUXVRAI\",BDD!$Z$2:$Z$3)","v":0}]
["Banc 123",{"$f":"SUMIF(BDD!$BH$2:$BH$3,\"Banc 123VRAIFAUXVRAIFAUXFAUX\",BDD!$Z$2:$Z$3)","v":0},{"$f":"SUMIF(BDD!$BH$2:$BH$3,\"Banc 123VRAIFAUXFAUXVRAIFAUX\",BDD!$Z$2:$Z$3)","v":0},{"$f":"SUMIF(BDD!$BH$2:$BH$3,\"Banc 123VRAIFAUXFAUXFAUXVRAI\",BDD!$Z$2:$Z$3)","v":0},{"$f":"SUMIF(BDD!$BH$2:$BH$3,\"Banc 123FAUXVRAIVRAIFAUXFAUX\",BDD!$Z$2:$Z$3)","v":0},{"$f":"SUMIF(BDD!$BH$2:$BH$3,\"Banc 123FAUXVRAIFAUXVRAIFAUX\",BDD!$Z$2:$Z$3)","v":0},{"$f":"SUMIF(BDD!$BH$2:$BH$3,\"Banc 123FAUXVRAIFAUXFAUXVRAI\",BDD!$Z$2:$Z$3)","v":0},{"$f":"SUMIF(BDD!$BH$2:$BH$3,\"Banc 123VRAIFAUXVRAIFAUXFAUX\",BDD!$Z$2:$Z$3)","v":0},{"$f":"SUMIF(BDD!$BH$2:$BH$3,\"Banc 123VRAIFAUXFAUXVRAIFAUX\",BDD!$Z$2:$Z$3)","v":0},{"$f":"SUMIF(BDD!$BH$2:$BH$3,\"Banc 123VRAIFAUXFAUXFAUXVRAI\",BDD!$Z$2:$Z$3)","v":0},{"$f":"SUMIF(BDD!$BH$2:$BH$3,\"Banc 123FAUXVRAIVRAIFAUXFAUX\",BDD!$Z$2:$Z$3)","v":0},{"$f":"SUMIF(BDD!$BH$2:$BH$3,\"Banc 123FAUXVRAIFAUXVRAIFAUX\",BDD!$Z$2:$Z$3)","v":0},{"$f":"SUMIF(BDD!$BH$2:$BH$3,\"Banc 123FAUXVRAIFAUXFAUXVRAI\",BDD!$Z$2:$Z$3)","v":0},{"$f":"SUMIF(BDD!$BH$2:$BH$682,\"Banc 123VRAIFAUXVRAIFAUXFAUX\",BDD!$Z$2:$Z$682)","v":0.15},{"$f":"SUMIF(BDD!$BH$2:$BH$682,\"Banc 123VRAIFAUXFAUXVRAIFAUX\",BDD!$Z$2:$Z$682)","v":0.5},{"$f":"SUMIF(BDD!$BH$2:$BH$682,\"Banc 123VRAIFAUXFAUXFAUXVRAI\",BDD!$Z$2:$Z$682)","v":0},{"$f":"SUMIF(BDD!$BH$2:$BH$682,\"Banc 123FAUXVRAIVRAIFAUXFAUX\",BDD!$Z$2:$Z$682)","v":0},{"$f":"SUMIF(BDD!$BH$2:$BH$682,\"Banc 123FAUXVRAIFAUXVRAIFAUX\",BDD!$Z$2:$Z$682)","v":0},{"$f":"SUMIF(BDD!$BH$2:$BH$682,\"Banc 123FAUXVRAIFAUXFAUXVRAI\",BDD!$Z$2:$Z$682)","v":32},{"$f":"SUMIF(BDD!$BH$2:$BH$3,\"Banc 123VRAIFAUXVRAIFAUXFAUX\",BDD!$Z$2:$Z$3)","v":0},{"$f":"SUMIF(BDD!$BH$2:$BH$3,\"Banc 123VRAIFAUXFAUXVRAIFAUX\",BDD!$Z$2:$Z$3)","v":0},{"$f":"SUMIF(BDD!$BH$2:$BH$3,\"Banc 123VRAIFAUXFAUXFAUXVRAI\",BDD!$Z$2:$Z$3)","v":0},{"$f":"SUMIF(BDD!$BH$2:$BH$3,\"Banc 123FAUXVRAIVRAIFAUXFAUX\",BDD!$Z$2:$Z$3)","v":0},{"$f":"SUMIF(BDD!$BH$2:$BH$3,\"Banc 123FAUXVRAIFAUXVRAIFAUX\",BDD!$Z$2:$Z$3)","v":0},{"$f":"SUMIF(BDD!$BH$2:$BH$3,\"Banc 123FAUXVRAIFAUXFAUXVRAI\",BDD!$Z$2:$Z$3)","v":0},{"$f":"SUMIF(BDD!$BH$2:$BH$3,\"Banc 123VRAIFAUXVRAIFAUXFAUX\",BDD!$Z$2:$Z$3)","v":0},{"$f":"SUMIF(BDD!$BH$2:$BH$3,\"Banc 123VRAIFAUXFAUXVRAIFAUX\",BDD!$Z$2:$Z$3)","v":0},{"$f":"SUMIF(BDD!$BH$2:$BH$3,\"Banc 123VRAIFAUXFAUXFAUXVRAI\",BDD!$Z$2:$Z$3)","v":0},{"$f":"SUMIF(BDD!$BH$2:$BH$3,\"Banc 123FAUXVRAIVRAIFAUXFAUX\",BDD!$Z$2:$Z$3)","v":0},{"$f":"SUMIF(BDD!$BH$2:$BH$3,\"Banc 123FAUXVRAIFAUXVRAIFAUX\",BDD!$Z$2:$Z$3)","v":0},{"$f":"SUMIF(BDD!$BH$2:$BH$3,\"Banc 123FAUXVRAIFAUXFAUXVRAI\",BDD!$Z$2:$Z$3)","v":0},{"$f":"SUMIF(BDD!$BH$2:$BH$3,\"Banc 123VRAIFAUXVRAIFAUXFAUX\",BDD!$Z$2:$Z$3)","v":0},{"$f":"SUMIF(BDD!$BH$2:$BH$3,\"Banc 123VRAIFAUXFAUXVRAIFAUX\",BDD!$Z$2:$Z$3)","v":0},{"$f":"SUMIF(BDD!$BH$2:$BH$3,\"Banc 123VRAIFAUXFAUXFAUXVRAI\",BDD!$Z$2:$Z$3)","v":0},{"$f":"SUMIF(BDD!$BH$2:$BH$3,\"Banc 123FAUXVRAIVRAIFAUXFAUX\",BDD!$Z$2:$Z$3)","v":0},{"$f":"SUMIF(BDD!$BH$2:$BH$3,\"Banc 123FAUXVRAIFAUXVRAIFAUX\",BDD!$Z$2:$Z$3)","v":0},{"$f":"SUMIF(BDD!$BH$2:$BH$3,\"Banc 123FAUXVRAIFAUXFAUXVRAI\",BDD!$Z$2:$Z$3)","v":0},{"$f":"SUMIF(BDD!$BH$2:$BH$3,\"Banc 123VRAIFAUXVRAIFAUXFAUX\",BDD!$Z$2:$Z$3)","v":0},{"$f":"SUMIF(BDD!$BH$2:$BH$3,\"Banc 123VRAIFAUXFAUXVRAIFAUX\",BDD!$Z$2:$Z$3)","v":0},{"$f":"SUMIF(BDD!$BH$2:$BH$3,\"Banc 123VRAIFAUXFAUXFAUXVRAI\",BDD!$Z$2:$Z$3)","v":0},{"$f":"SUMIF(BDD!$BH$2:$BH$3,\"Banc 123FAUXVRAIVRAIFAUXFAUX\",BDD!$Z$2:$Z$3)","v":0},{"$f":"SUMIF(BDD!$BH$2:$BH$3,\"Banc 123FAUXVRAIFAUXVRAIFAUX\",BDD!$Z$2:$Z$3)","v":0},{"$f":"SUMIF(BDD!$BH$2:$BH$3,\"Banc 123FAUXVRAIFAUXFAUXVRAI\",BDD!$Z$2:$Z$3)","v":0},{"$f":"SUMIF(BDD!$BH$2:$BH$3,\"Banc 123VRAIFAUXVRAIFAUXFAUX\",BDD!$Z$2:$Z$3)","v":0},{"$f":"SUMIF(BDD!$BH$2:$BH$3,\"Banc 123VRAIFAUXFAUXVRAIFAUX\",BDD!$Z$2:$Z$3)","v":0},{"$f":"SUMIF(BDD!$BH$2:$BH$3,\"Banc 123VRAIFAUXFAUXFAUXVRAI\",BDD!$Z$2:$Z$3)","v":0},{"$f":"SUMIF(BDD!$BH$2:$BH$3,\"Banc 123FAUXVRAIVRAIFAUXFAUX\",BDD!$Z$2:$Z$3)","v":0},{"$f":"SUMIF(BDD!$BH$2:$BH$3,\"Banc 123FAUXVRAIFAUXVRAIFAUX\",BDD!$Z$2:$Z$3)","v":0},{"$f":"SUMIF(BDD!$BH$2:$BH$3,\"Banc 123FAUXVRAIFAUXFAUXVRAI\",BDD!$Z$2:$Z$3)","v":0},{"$f":"SUMIF(BDD!$BH$2:$BH$3,\"Banc 123VRAIFAUXVRAIFAUXFAUX\",BDD!$Z$2:$Z$3)","v":0},{"$f":"SUMIF(BDD!$BH$2:$BH$3,\"Banc 123VRAIFAUXFAUXVRAIFAUX\",BDD!$Z$2:$Z$3)","v":0},{"$f":"SUMIF(BDD!$BH$2:$BH$3,\"Banc 123VRAIFAUXFAUXFAUXVRAI\",BDD!$Z$2:$Z$3)","v":0},{"$f":"SUMIF(BDD!$BH$2:$BH$3,\"Banc 123FAUXVRAIVRAIFAUXFAUX\",BDD!$Z$2:$Z$3)","v":0},{"$f":"SUMIF(BDD!$BH$2:$BH$3,\"Banc 123FAUXVRAIFAUXVRAIFAUX\",BDD!$Z$2:$Z$3)","v":0},{"$f":"SUMIF(BDD!$BH$2:$BH$3,\"Banc 123FAUXVRAIFAUXFAUXVRAI\",BDD!$Z$2:$Z$3)","v":0},{"$f":"SUMIF(BDD!$BH$2:$BH$3,\"Banc 123VRAIFAUXVRAIFAUXFAUX\",BDD!$Z$2:$Z$3)","v":0},{"$f":"SUMIF(BDD!$BH$2:$BH$3,\"Banc 123VRAIFAUXFAUXVRAIFAUX\",BDD!$Z$2:$Z$3)","v":0},{"$f":"SUMIF(BDD!$BH$2:$BH$3,\"Banc 123VRAIFAUXFAUXFAUXVRAI\",BDD!$Z$2:$Z$3)","v":0},{"$f":"SUMIF(BDD!$BH$2:$BH$3,\"Banc 123FAUXVRAIVRAIFAUXFAUX\",BDD!$Z$2:$Z$3)","v":0},{"$f":"SUMIF(BDD!$BH$2:$BH$3,\"Banc 123FAUXVRAIFAUXVRAIFAUX\",BDD!$Z$2:$Z$3)","v":0},{"$f":"SUMIF(BDD!$BH$2:$BH$3,\"Banc 123FAUXVRAIFAUXFAUXVRAI\",BDD!$Z$2:$Z$3)","v":0},{"$f":"SUMIF(BDD!$BH$2:$BH$3,\"Banc 123VRAIFAUXVRAIFAUXFAUX\",BDD!$Z$2:$Z$3)","v":0},{"$f":"SUMIF(BDD!$BH$2:$BH$3,\"Banc 123VRAIFAUXFAUXVRAIFAUX\",BDD!$Z$2:$Z$3)","v":0},{"$f":"SUMIF(BDD!$BH$2:$BH$3,\"Banc 123VRAIFAUXFAUXFAUXVRAI\",BDD!$Z$2:$Z$3)","v":0},{"$f":"SUMIF(BDD!$BH$2:$BH$3,\"Banc 123FAUXVRAIVRAIFAUXFAUX\",BDD!$Z$2:$Z$3)","v":0},{"$f":"SUMIF(BDD!$BH$2:$BH$3,\"Banc 123FAUXVRAIFAUXVRAIFAUX\",BDD!$Z$2:$Z$3)","v":0},{"$f":"SUMIF(BDD!$BH$2:$BH$3,\"Banc 123FAUXVRAIFAUXFAUXVRAI\",BDD!$Z$2:$Z$3)","v":0},{"$f":"SUMIF(BDD!$BH$2:$BH$3,\"Banc 123VRAIFAUXVRAIFAUXFAUX\",BDD!$Z$2:$Z$3)","v":0},{"$f":"SUMIF(BDD!$BH$2:$BH$3,\"Banc 123VRAIFAUXFAUXVRAIFAUX\",BDD!$Z$2:$Z$3)","v":0},{"$f":"SUMIF(BDD!$BH$2:$BH$3,\"Banc 123VRAIFAUXFAUXFAUXVRAI\",BDD!$Z$2:$Z$3)","v":0},{"$f":"SUMIF(BDD!$BH$2:$BH$3,\"Banc 123FAUXVRAIVRAIFAUXFAUX\",BDD!$Z$2:$Z$3)","v":0},{"$f":"SUMIF(BDD!$BH$2:$BH$3,\"Banc 123FAUXVRAIFAUXVRAIFAUX\",BDD!$Z$2:$Z$3)","v":0},{"$f":"SUMIF(BDD!$BH$2:$BH$3,\"Banc 123FAUXVRAIFAUXFAUXVRAI\",BDD!$Z$2:$Z$3)","v":0}]
["Banc 126",{"$f":"SUMIF(BDD!$BH$2:$BH$3,\"Banc 126VRAIFAUXVRAIFAUXFAUX\",BDD!$Z$2:$Z$3)","v":0},{"$f":"SUMIF(BDD!$BH$2:$BH$3,\"Banc 126VRAIFAUXFAUXVRAIFAUX\",BDD!$Z$2:$Z$3)","v":0},{"$f":"SUMIF(BDD!$BH$2:$BH$3,\"Banc 126VRAIFAUXFAUXFAUXVRAI\",BDD!$Z$2:$Z$3)","v":0},{"$f":"SUMIF(BDD!$BH$2:$BH$3,\"Banc 126FAUXVRAIVRAIFAUXFAUX\",BDD!$Z$2:$Z$3)","v":0},{"$f":"SUMIF(BDD!$BH$2:$BH$3,\"Banc 126FAUXVRAIFAUXVRAIFAUX\",BDD!$Z$2:$Z$3)","v":0},{"$f":"SUMIF(BDD!$BH$2:$BH$3,\"Banc 126FAUXVRAIFAUXFAUXVRAI\",BDD!$Z$2:$Z$3)","v":0},{"$f":"SUMIF(BDD!$BH$2:$BH$3,\"Banc 126VRAIFAUXVRAIFAUXFAUX\",BDD!$Z$2:$Z$3)","v":0},{"$f":"SUMIF(BDD!$BH$2:$BH$3,\"Banc 126VRAIFAUXFAUXVRAIFAUX\",BDD!$Z$2:$Z$3)","v":0},{"$f":"SUMIF(BDD!$BH$2:$BH$3,\"Banc 126VRAIFAUXFAUXFAUXVRAI\",BDD!$Z$2:$Z$3)","v":0},{"$f":"SUMIF(BDD!$BH$2:$BH$3,\"Banc 126FAUXVRAIVRAIFAUXFAUX\",BDD!$Z$2:$Z$3)","v":0},{"$f":"SUMIF(BDD!$BH$2:$BH$3,\"Banc 126FAUXVRAIFAUXVRAIFAUX\",BDD!$Z$2:$Z$3)","v":0},{"$f":"SUMIF(BDD!$BH$2:$BH$3,\"Banc 126FAUXVRAIFAUXFAUXVRAI\",BDD!$Z$2:$Z$3)","v":0},{"$f":"SUMIF(BDD!$BH$2:$BH$682,\"Banc 126VRAIFAUXVRAIFAUXFAUX\",BDD!$Z$2:$Z$682)","v":0},{"$f":"SUMIF(BDD!$BH$2:$BH$682,\"Banc 126VRAIFAUXFAUXVRAIFAUX\",BDD!$Z$2:$Z$682)","v":0},{"$f":"SUMIF(BDD!$BH$2:$BH$682,\"Banc 126VRAIFAUXFAUXFAUXVRAI\",BDD!$Z$2:$Z$682)","v":0.25},{"$f":"SUMIF(BDD!$BH$2:$BH$682,\"Banc 126FAUXVRAIVRAIFAUXFAUX\",BDD!$Z$2:$Z$682)","v":0.3},{"$f":"SUMIF(BDD!$BH$2:$BH$682,\"Banc 126FAUXVRAIFAUXVRAIFAUX\",BDD!$Z$2:$Z$682)","v":0},{"$f":"SUMIF(BDD!$BH$2:$BH$682,\"Banc 126FAUXVRAIFAUXFAUXVRAI\",BDD!$Z$2:$Z$682)","v":0},{"$f":"SUMIF(BDD!$BH$2:$BH$3,\"Banc 126VRAIFAUXVRAIFAUXFAUX\",BDD!$Z$2:$Z$3)","v":0},{"$f":"SUMIF(BDD!$BH$2:$BH$3,\"Banc 126VRAIFAUXFAUXVRAIFAUX\",BDD!$Z$2:$Z$3)","v":0},{"$f":"SUMIF(BDD!$BH$2:$BH$3,\"Banc 126VRAIFAUXFAUXFAUXVRAI\",BDD!$Z$2:$Z$3)","v":0},{"$f":"SUMIF(BDD!$BH$2:$BH$3,\"Banc 126FAUXVRAIVRAIFAUXFAUX\",BDD!$Z$2:$Z$3)","v":0},{"$f":"SUMIF(BDD!$BH$2:$BH$3,\"Banc 126FAUXVRAIFAUXVRAIFAUX\",BDD!$Z$2:$Z$3)","v":0},{"$f":"SUMIF(BDD!$BH$2:$BH$3,\"Banc 126FAUXVRAIFAUXFAUXVRAI\",BDD!$Z$2:$Z$3)","v":0},{"$f":"SUMIF(BDD!$BH$2:$BH$3,\"Banc 126VRAIFAUXVRAIFAUXFAUX\",BDD!$Z$2:$Z$3)","v":0},{"$f":"SUMIF(BDD!$BH$2:$BH$3,\"Banc 126VRAIFAUXFAUXVRAIFAUX\",BDD!$Z$2:$Z$3)","v":0},{"$f":"SUMIF(BDD!$BH$2:$BH$3,\"Banc 126VRAIFAUXFAUXFAUXVRAI\",BDD!$Z$2:$Z$3)","v":0},{"$f":"SUMIF(BDD!$BH$2:$BH$3,\"Banc 126FAUXVRAIVRAIFAUXFAUX\",BDD!$Z$2:$Z$3)","v":0},{"$f":"SUMIF(BDD!$BH$2:$BH$3,\"Banc 126FAUXVRAIFAUXVRAIFAUX\",BDD!$Z$2:$Z$3)","v":0},{"$f":"SUMIF(BDD!$BH$2:$BH$3,\"Banc 126FAUXVRAIFAUXFAUXVRAI\",BDD!$Z$2:$Z$3)","v":0},{"$f":"SUMIF(BDD!$BH$2:$BH$3,\"Banc 126VRAIFAUXVRAIFAUXFAUX\",BDD!$Z$2:$Z$3)","v":0},{"$f":"SUMIF(BDD!$BH$2:$BH$3,\"Banc 126VRAIFAUXFAUXVRAIFAUX\",BDD!$Z$2:$Z$3)","v":0},{"$f":"SUMIF(BDD!$BH$2:$BH$3,\"Banc 126VRAIFAUXFAUXFAUXVRAI\",BDD!$Z$2:$Z$3)","v":0},{"$f":"SUMIF(BDD!$BH$2:$BH$3,\"Banc 126FAUXVRAIVRAIFAUXFAUX\",BDD!$Z$2:$Z$3)","v":0},{"$f":"SUMIF(BDD!$BH$2:$BH$3,\"Banc 126FAUXVRAIFAUXVRAIFAUX\",BDD!$Z$2:$Z$3)","v":0},{"$f":"SUMIF(BDD!$BH$2:$BH$3,\"Banc 126FAUXVRAIFAUXFAUXVRAI\",BDD!$Z$2:$Z$3)","v":0},{"$f":"SUMIF(BDD!$BH$2:$BH$3,\"Banc 126VRAIFAUXVRAIFAUXFAUX\",BDD!$Z$2:$Z$3)","v":0},{"$f":"SUMIF(BDD!$BH$2:$BH$3,\"Banc 126VRAIFAUXFAUXVRAIFAUX\",BDD!$Z$2:$Z$3)","v":0},{"$f":"SUMIF(BDD!$BH$2:$BH$3,\"Banc 126VRAIFAUXFAUXFAUXVRAI\",BDD!$Z$2:$Z$3)","v":0},{"$f":"SUMIF(BDD!$BH$2:$BH$3,\"Banc 126FAUXVRAIVRAIFAUXFAUX\",BDD!$Z$2:$Z$3)","v":0},{"$f":"SUMIF(BDD!$BH$2:$BH$3,\"Banc 126FAUXVRAIFAUXVRAIFAUX\",BDD!$Z$2:$Z$3)","v":0},{"$f":"SUMIF(BDD!$BH$2:$BH$3,\"Banc 126FAUXVRAIFAUXFAUXVRAI\",BDD!$Z$2:$Z$3)","v":0},{"$f":"SUMIF(BDD!$BH$2:$BH$3,\"Banc 126VRAIFAUXVRAIFAUXFAUX\",BDD!$Z$2:$Z$3)","v":0},{"$f":"SUMIF(BDD!$BH$2:$BH$3,\"Banc 126VRAIFAUXFAUXVRAIFAUX\",BDD!$Z$2:$Z$3)","v":0},{"$f":"SUMIF(BDD!$BH$2:$BH$3,\"Banc 126VRAIFAUXFAUXFAUXVRAI\",BDD!$Z$2:$Z$3)","v":0},{"$f":"SUMIF(BDD!$BH$2:$BH$3,\"Banc 126FAUXVRAIVRAIFAUXFAUX\",BDD!$Z$2:$Z$3)","v":0},{"$f":"SUMIF(BDD!$BH$2:$BH$3,\"Banc 126FAUXVRAIFAUXVRAIFAUX\",BDD!$Z$2:$Z$3)","v":0},{"$f":"SUMIF(BDD!$BH$2:$BH$3,\"Banc 126FAUXVRAIFAUXFAUXVRAI\",BDD!$Z$2:$Z$3)","v":0},{"$f":"SUMIF(BDD!$BH$2:$BH$3,\"Banc 126VRAIFAUXVRAIFAUXFAUX\",BDD!$Z$2:$Z$3)","v":0},{"$f":"SUMIF(BDD!$BH$2:$BH$3,\"Banc 126VRAIFAUXFAUXVRAIFAUX\",BDD!$Z$2:$Z$3)","v":0},{"$f":"SUMIF(BDD!$BH$2:$BH$3,\"Banc 126VRAIFAUXFAUXFAUXVRAI\",BDD!$Z$2:$Z$3)","v":0},{"$f":"SUMIF(BDD!$BH$2:$BH$3,\"Banc 126FAUXVRAIVRAIFAUXFAUX\",BDD!$Z$2:$Z$3)","v":0},{"$f":"SUMIF(BDD!$BH$2:$BH$3,\"Banc 126FAUXVRAIFAUXVRAIFAUX\",BDD!$Z$2:$Z$3)","v":0},{"$f":"SUMIF(BDD!$BH$2:$BH$3,\"Banc 126FAUXVRAIFAUXFAUXVRAI\",BDD!$Z$2:$Z$3)","v":0},{"$f":"SUMIF(BDD!$BH$2:$BH$3,\"Banc 126VRAIFAUXVRAIFAUXFAUX\",BDD!$Z$2:$Z$3)","v":0},{"$f":"SUMIF(BDD!$BH$2:$BH$3,\"Banc 126VRAIFAUXFAUXVRAIFAUX\",BDD!$Z$2:$Z$3)","v":0},{"$f":"SUMIF(BDD!$BH$2:$BH$3,\"Banc 126VRAIFAUXFAUXFAUXVRAI\",BDD!$Z$2:$Z$3)","v":0},{"$f":"SUMIF(BDD!$BH$2:$BH$3,\"Banc 126FAUXVRAIVRAIFAUXFAUX\",BDD!$Z$2:$Z$3)","v":0},{"$f":"SUMIF(BDD!$BH$2:$BH$3,\"Banc 126FAUXVRAIFAUXVRAIFAUX\",BDD!$Z$2:$Z$3)","v":0},{"$f":"SUMIF(BDD!$BH$2:$BH$3,\"Banc 126FAUXVRAIFAUXFAUXVRAI\",BDD!$Z$2:$Z$3)","v":0},{"$f":"SUMIF(BDD!$BH$2:$BH$3,\"Banc 126VRAIFAUXVRAIFAUXFAUX\",BDD!$Z$2:$Z$3)","v":0},{"$f":"SUMIF(BDD!$BH$2:$BH$3,\"Banc 126VRAIFAUXFAUXVRAIFAUX\",BDD!$Z$2:$Z$3)","v":0},{"$f":"SUMIF(BDD!$BH$2:$BH$3,\"Banc 126VRAIFAUXFAUXFAUXVRAI\",BDD!$Z$2:$Z$3)","v":0},{"$f":"SUMIF(BDD!$BH$2:$BH$3,\"Banc 126FAUXVRAIVRAIFAUXFAUX\",BDD!$Z$2:$Z$3)","v":0},{"$f":"SUMIF(BDD!$BH$2:$BH$3,\"Banc 126FAUXVRAIFAUXVRAIFAUX\",BDD!$Z$2:$Z$3)","v":0},{"$f":"SUMIF(BDD!$BH$2:$BH$3,\"Banc 126FAUXVRAIFAUXFAUXVRAI\",BDD!$Z$2:$Z$3)","v":0},{"$f":"SUMIF(BDD!$BH$2:$BH$3,\"Banc 126VRAIFAUXVRAIFAUXFAUX\",BDD!$Z$2:$Z$3)","v":0},{"$f":"SUMIF(BDD!$BH$2:$BH$3,\"Banc 126VRAIFAUXFAUXVRAIFAUX\",BDD!$Z$2:$Z$3)","v":0},{"$f":"SUMIF(BDD!$BH$2:$BH$3,\"Banc 126VRAIFAUXFAUXFAUXVRAI\",BDD!$Z$2:$Z$3)","v":0},{"$f":"SUMIF(BDD!$BH$2:$BH$3,\"Banc 126FAUXVRAIVRAIFAUXFAUX\",BDD!$Z$2:$Z$3)","v":0},{"$f":"SUMIF(BDD!$BH$2:$BH$3,\"Banc 126FAUXVRAIFAUXVRAIFAUX\",BDD!$Z$2:$Z$3)","v":0},{"$f":"SUMIF(BDD!$BH$2:$BH$3,\"Banc 126FAUXVRAIFAUXFAUXVRAI\",BDD!$Z$2:$Z$3)","v":0}]
["Banc 156",{"$f":"SUMIF(BDD!$BH$2:$BH$3,\"Banc 156VRAIFAUXVRAIFAUXFAUX\",BDD!$Z$2:$Z$3)","v":0},{"$f":"SUMIF(BDD!$BH$2:$BH$3,\"Banc 156VRAIFAUXFAUXVRAIFAUX\",BDD!$Z$2:$Z$3)","v":0},{"$f":"SUMIF(BDD!$BH$2:$BH$3,\"Banc 156VRAIFAUXFAUXFAUXVRAI\",BDD!$Z$2:$Z$3)","v":0},{"$f":"SUMIF(BDD!$BH$2:$BH$3,\"Banc 156FAUXVRAIVRAIFAUXFAUX\",BDD!$Z$2:$Z$3)","v":0},{"$f":"SUMIF(BDD!$BH$2:$BH$3,\"Banc 156FAUXVRAIFAUXVRAIFAUX\",BDD!$Z$2:$Z$3)","v":0},{"$f":"SUMIF(BDD!$BH$2:$BH$3,\"Banc 156FAUXVRAIFAUXFAUXVRAI\",BDD!$Z$2:$Z$3)","v":0},{"$f":"SUMIF(BDD!$BH$2:$BH$3,\"Banc 156VRAIFAUXVRAIFAUXFAUX\",BDD!$Z$2:$Z$3)","v":0},{"$f":"SUMIF(BDD!$BH$2:$BH$3,\"Banc 156VRAIFAUXFAUXVRAIFAUX\",BDD!$Z$2:$Z$3)","v":0},{"$f":"SUMIF(BDD!$BH$2:$BH$3,\"Banc 156VRAIFAUXFAUXFAUXVRAI\",BDD!$Z$2:$Z$3)","v":0},{"$f":"SUMIF(BDD!$BH$2:$BH$3,\"Banc 156FAUXVRAIVRAIFAUXFAUX\",BDD!$Z$2:$Z$3)","v":0},{"$f":"SUMIF(BDD!$BH$2:$BH$3,\"Banc 156FAUXVRAIFAUXVRAIFAUX\",BDD!$Z$2:$Z$3)","v":0},{"$f":"SUMIF(BDD!$BH$2:$BH$3,\"Banc 156FAUXVRAIFAUXFAUXVRAI\",BDD!$Z$2:$Z$3)","v":0},{"$f":"SUMIF(BDD!$BH$2:$BH$682,\"Banc 156VRAIFAUXVRAIFAUXFAUX\",BDD!$Z$2:$Z$682)","v":0},{"$f":"SUMIF(BDD!$BH$2:$BH$682,\"Banc 156VRAIFAUXFAUXVRAIFAUX\",BDD!$Z$2:$Z$682)","v":0},{"$f":"SUMIF(BDD!$BH$2:$BH$682,\"Banc 156VRAIFAUXFAUXFAUXVRAI\",BDD!$Z$2:$Z$682)","v":0},{"$f":"SUMIF(BDD!$BH$2:$BH$682,\"Banc 156FAUXVRAIVRAIFAUXFAUX\",BDD!$Z$2:$Z$682)","v":0},{"$f":"SUMIF(BDD!$BH$2:$BH$682,\"Banc 156FAUXVRAIFAUXVRAIFAUX\",BDD!$Z$2:$Z$682)","v":0},{"$f":"SUMIF(BDD!$BH$2:$BH$682,\"Banc 156FAUXVRAIFAUXFAUXVRAI\",BDD!$Z$2:$Z$682)","v":0},{"$f":"SUMIF(BDD!$BH$2:$BH$3,\"Banc 156VRAIFAUXVRAIFAUXFAUX\",BDD!$Z$2:$Z$3)","v":0},{"$f":"SUMIF(BDD!$BH$2:$BH$3,\"Banc 156VRAIFAUXFAUXVRAIFAUX\",BDD!$Z$2:$Z$3)","v":0},{"$f":"SUMIF(BDD!$BH$2:$BH$3,\"Banc 156VRAIFAUXFAUXFAUXVRAI\",BDD!$Z$2:$Z$3)","v":0},{"$f":"SUMIF(BDD!$BH$2:$BH$3,\"Banc 156FAUXVRAIVRAIFAUXFAUX\",BDD!$Z$2:$Z$3)","v":0},{"$f":"SUMIF(BDD!$BH$2:$BH$3,\"Banc 156FAUXVRAIFAUXVRAIFAUX\",BDD!$Z$2:$Z$3)","v":0},{"$f":"SUMIF(BDD!$BH$2:$BH$3,\"Banc 156FAUXVRAIFAUXFAUXVRAI\",BDD!$Z$2:$Z$3)","v":0},{"$f":"SUMIF(BDD!$BH$2:$BH$3,\"Banc 156VRAIFAUXVRAIFAUXFAUX\",BDD!$Z$2:$Z$3)","v":0},{"$f":"SUMIF(BDD!$BH$2:$BH$3,\"Banc 156VRAIFAUXFAUXVRAIFAUX\",BDD!$Z$2:$Z$3)","v":0},{"$f":"SUMIF(BDD!$BH$2:$BH$3,\"Banc 156VRAIFAUXFAUXFAUXVRAI\",BDD!$Z$2:$Z$3)","v":0},{"$f":"SUMIF(BDD!$BH$2:$BH$3,\"Banc 156FAUXVRAIVRAIFAUXFAUX\",BDD!$Z$2:$Z$3)","v":0},{"$f":"SUMIF(BDD!$BH$2:$BH$3,\"Banc 156FAUXVRAIFAUXVRAIFAUX\",BDD!$Z$2:$Z$3)","v":0},{"$f":"SUMIF(BDD!$BH$2:$BH$3,\"Banc 156FAUXVRAIFAUXFAUXVRAI\",BDD!$Z$2:$Z$3)","v":0},{"$f":"SUMIF(BDD!$BH$2:$BH$3,\"Banc 156VRAIFAUXVRAIFAUXFAUX\",BDD!$Z$2:$Z$3)","v":0},{"$f":"SUMIF(BDD!$BH$2:$BH$3,\"Banc 156VRAIFAUXFAUXVRAIFAUX\",BDD!$Z$2:$Z$3)","v":0},{"$f":"SUMIF(BDD!$BH$2:$BH$3,\"Banc 156VRAIFAUXFAUXFAUXVRAI\",BDD!$Z$2:$Z$3)","v":0},{"$f":"SUMIF(BDD!$BH$2:$BH$3,\"Banc 156FAUXVRAIVRAIFAUXFAUX\",BDD!$Z$2:$Z$3)","v":0},{"$f":"SUMIF(BDD!$BH$2:$BH$3,\"Banc 156FAUXVRAIFAUXVRAIFAUX\",BDD!$Z$2:$Z$3)","v":0},{"$f":"SUMIF(BDD!$BH$2:$BH$3,\"Banc 156FAUXVRAIFAUXFAUXVRAI\",BDD!$Z$2:$Z$3)","v":0},{"$f":"SUMIF(BDD!$BH$2:$BH$3,\"Banc 156VRAIFAUXVRAIFAUXFAUX\",BDD!$Z$2:$Z$3)","v":0},{"$f":"SUMIF(BDD!$BH$2:$BH$3,\"Banc 156VRAIFAUXFAUXVRAIFAUX\",BDD!$Z$2:$Z$3)","v":0},{"$f":"SUMIF(BDD!$BH$2:$BH$3,\"Banc 156VRAIFAUXFAUXFAUXVRAI\",BDD!$Z$2:$Z$3)","v":0},{"$f":"SUMIF(BDD!$BH$2:$BH$3,\"Banc 156FAUXVRAIVRAIFAUXFAUX\",BDD!$Z$2:$Z$3)","v":0},{"$f":"SUMIF(BDD!$BH$2:$BH$3,\"Banc 156FAUXVRAIFAUXVRAIFAUX\",BDD!$Z$2:$Z$3)","v":0},{"$f":"SUMIF(BDD!$BH$2:$BH$3,\"Banc 156FAUXVRAIFAUXFAUXVRAI\",BDD!$Z$2:$Z$3)","v":0},{"$f":"SUMIF(BDD!$BH$2:$BH$3,\"Banc 156VRAIFAUXVRAIFAUXFAUX\",BDD!$Z$2:$Z$3)","v":0},{"$f":"SUMIF(BDD!$BH$2:$BH$3,\"Banc 156VRAIFAUXFAUXVRAIFAUX\",BDD!$Z$2:$Z$3)","v":0},{"$f":"SUMIF(BDD!$BH$2:$BH$3,\"Banc 156VRAIFAUXFAUXFAUXVRAI\",BDD!$Z$2:$Z$3)","v":0},{"$f":"SUMIF(BDD!$BH$2:$BH$3,\"Banc 156FAUXVRAIVRAIFAUXFAUX\",BDD!$Z$2:$Z$3)","v":0},{"$f":"SUMIF(BDD!$BH$2:$BH$3,\"Banc 156FAUXVRAIFAUXVRAIFAUX\",BDD!$Z$2:$Z$3)","v":0},{"$f":"SUMIF(BDD!$BH$2:$BH$3,\"Banc 156FAUXVRAIFAUXFAUXVRAI\",BDD!$Z$2:$Z$3)","v":0},{"$f":"SUMIF(BDD!$BH$2:$BH$3,\"Banc 156VRAIFAUXVRAIFAUXFAUX\",BDD!$Z$2:$Z$3)","v":0},{"$f":"SUMIF(BDD!$BH$2:$BH$3,\"Banc 156VRAIFAUXFAUXVRAIFAUX\",BDD!$Z$2:$Z$3)","v":0},{"$f":"SUMIF(BDD!$BH$2:$BH$3,\"Banc 156VRAIFAUXFAUXFAUXVRAI\",BDD!$Z$2:$Z$3)","v":0},{"$f":"SUMIF(BDD!$BH$2:$BH$3,\"Banc 156FAUXVRAIVRAIFAUXFAUX\",BDD!$Z$2:$Z$3)","v":0},{"$f":"SUMIF(BDD!$BH$2:$BH$3,\"Banc 156FAUXVRAIFAUXVRAIFAUX\",BDD!$Z$2:$Z$3)","v":0},{"$f":"SUMIF(BDD!$BH$2:$BH$3,\"Banc 156FAUXVRAIFAUXFAUXVRAI\",BDD!$Z$2:$Z$3)","v":0},{"$f":"SUMIF(BDD!$BH$2:$BH$3,\"Banc 156VRAIFAUXVRAIFAUXFAUX\",BDD!$Z$2:$Z$3)","v":0},{"$f":"SUMIF(BDD!$BH$2:$BH$3,\"Banc 156VRAIFAUXFAUXVRAIFAUX\",BDD!$Z$2:$Z$3)","v":0},{"$f":"SUMIF(BDD!$BH$2:$BH$3,\"Banc 156VRAIFAUXFAUXFAUXVRAI\",BDD!$Z$2:$Z$3)","v":0},{"$f":"SUMIF(BDD!$BH$2:$BH$3,\"Banc 156FAUXVRAIVRAIFAUXFAUX\",BDD!$Z$2:$Z$3)","v":0},{"$f":"SUMIF(BDD!$BH$2:$BH$3,\"Banc 156FAUXVRAIFAUXVRAIFAUX\",BDD!$Z$2:$Z$3)","v":0},{"$f":"SUMIF(BDD!$BH$2:$BH$3,\"Banc 156FAUXVRAIFAUXFAUXVRAI\",BDD!$Z$2:$Z$3)","v":0},{"$f":"SUMIF(BDD!$BH$2:$BH$3,\"Banc 156VRAIFAUXVRAIFAUXFAUX\",BDD!$Z$2:$Z$3)","v":0},{"$f":"SUMIF(BDD!$BH$2:$BH$3,\"Banc 156VRAIFAUXFAUXVRAIFAUX\",BDD!$Z$2:$Z$3)","v":0},{"$f":"SUMIF(BDD!$BH$2:$BH$3,\"Banc 156VRAIFAUXFAUXFAUXVRAI\",BDD!$Z$2:$Z$3)","v":0},{"$f":"SUMIF(BDD!$BH$2:$BH$3,\"Banc 156FAUXVRAIVRAIFAUXFAUX\",BDD!$Z$2:$Z$3)","v":0},{"$f":"SUMIF(BDD!$BH$2:$BH$3,\"Banc 156FAUXVRAIFAUXVRAIFAUX\",BDD!$Z$2:$Z$3)","v":0},{"$f":"SUMIF(BDD!$BH$2:$BH$3,\"Banc 156FAUXVRAIFAUXFAUXVRAI\",BDD!$Z$2:$Z$3)","v":0},{"$f":"SUMIF(BDD!$BH$2:$BH$3,\"Banc 156VRAIFAUXVRAIFAUXFAUX\",BDD!$Z$2:$Z$3)","v":0},{"$f":"SUMIF(BDD!$BH$2:$BH$3,\"Banc 156VRAIFAUXFAUXVRAIFAUX\",BDD!$Z$2:$Z$3)","v":0},{"$f":"SUMIF(BDD!$BH$2:$BH$3,\"Banc 156VRAIFAUXFAUXFAUXVRAI\",BDD!$Z$2:$Z$3)","v":0},{"$f":"SUMIF(BDD!$BH$2:$BH$3,\"Banc 156FAUXVRAIVRAIFAUXFAUX\",BDD!$Z$2:$Z$3)","v":0},{"$f":"SUMIF(BDD!$BH$2:$BH$3,\"Banc 156FAUXVRAIFAUXVRAIFAUX\",BDD!$Z$2:$Z$3)","v":0},{"$f":"SUMIF(BDD!$BH$2:$BH$3,\"Banc 156FAUXVRAIFAUXFAUXVRAI\",BDD!$Z$2:$Z$3)","v":0}]

{"sheet":"Indicateur Zone10","index":7,"n_rows":100,"n_cols":73,"rows_kept":100,"cut":false,"hidden":false,"merged":[[89,70,89,72],[89,55,89,57],[89,58,89,60],[89,61,89,63],[89,64,89,66],[89,67,89,69],[89,40,89,42],[89,43,89,45],[89,46,89,48],[89,49,89,51],[89,52,89,54],[88,55,88,60],[88,61,88,66],[88,67,88,72],[89,1,89,3],[89,4,89,6],[89,7,89,9],[89,10,89,12],[89,13,89,15],[89,16,89,18],[89,19,89,21],[89,22,89,24],[89,25,89,27],[89,28,89,30],[89,31,89,33],[89,34,89,36],[89,37,89,39],[88,25,88,30],[88,31,88,36],[88,37,88,42],[88,43,88,48],[88,49,88,54],[87,1,87,21],[88,1,88,6],[88,7,88,12],[88,13,88,18],[88,19,88,24],[54,19,54,20],[54,21,54,22],[54,23,54,24],[54,7,54,8],[54,13,54,14],[54,11,54,12],[54,17,54,18],[54,15,54,16],[1,1,1,12],[32,1,32,12],[53,1,53,12],[54,1,54,2],[54,5,54,6],[54,9,54,10],[54,3,54,4]]}
[]
[null,"Suivi des arrêts par banc"]
["Banc zone 10","Janvier","Février","Mars","Avril","Mai","Juin","Juillet","Août","Septembre","Octobre","Novembre","Décembre"]
["Banc 007",{"$f":"SUMIF(BDD!$H$2:$H$3,'Indicateur Zone10'!$A4,BDD!$Z$2:$Z$3)","v":0},{"$f":"SUMIF(BDD!$H$2:$H$3,'Indicateur Zone10'!$A4,BDD!$Z$2:$Z$3)","v":0},{"$f":"SUMIF(BDD!$H$2:$H$682,'Indicateur Zone10'!$A$4,BDD!$Z$2:$Z$682)","v":0.2},{"$f":"SUMIF(BDD!$H$2:$H$3,'Indicateur Zone10'!$A4,BDD!$Z$2:$Z$3)","v":0},{"$f":"SUMIF(BDD!$H$2:$H$3,'Indicateur Zone10'!$A4,BDD!$Z$2:$Z$3)","v":0},{"$f":"SUMIF(BDD!$H$2:$H$3,'Indicateur Zone10'!$A4,BDD!$Z$2:$Z$3)","v":0},{"$f":"SUMIF(BDD!$H$2:$H$3,'Indicateur Zone10'!$A4,BDD!$Z$2:$Z$3)","v":0},{"$f":"SUMIF(BDD!$H$2:$H$3,'Indicateur Zone10'!$A4,BDD!$Z$2:$Z$3)","v":0},{"$f":"SUMIF(BDD!$H$2:$H$3,'Indicateur Zone10'!$A4,BDD!$Z$2:$Z$3)","v":0},{"$f":"SUMIF(BDD!$H$2:$H$3,'Indicateur Zone10'!$A4,BDD!$Z$2:$Z$3)","v":0},{"$f":"SUMIF(BDD!$H$2:$H$3,'Indicateur Zone10'!$A4,BDD!$Z$2:$Z$3)","v":0},{"$f":"SUMIF(BDD!$H$2:$H$3,'Indicateur Zone10'!$A4,BDD!$Z$2:$Z$3)","v":0}]
["Banc 008",{"$f":"SUMIF(BDD!$H$2:$H$3,'Indicateur Zone10'!$A5,BDD!$Z$2:$Z$3)","v":0},{"$f":"SUMIF(BDD!$H$2:$H$3,'Indicateur Zone10'!$A5,BDD!$Z$2:$Z$3)","v":0},{"$f":"SUMIF(BDD!$H$2:$H$682,'Indicateur Zone10'!$A$5,BDD!$Z$2:$Z$682)","v":0.30000000000000004},{"$f":"SUMIF(BDD!$H$2:$H$3,'Indicateur Zone10'!$A5,BDD!$Z$2:$Z$3)","v":0},{"$f":"SUMIF(BDD!$H$2:$H$3,'Indicateur Zone10'!$A5,BDD!$Z$2:$Z$3)","v":0},{"$f":"SUMIF(BDD!$H$2:$H$3,'Indicateur Zone10'!$A5,BDD!$Z$2:$Z$3)","v":0},{"$f":"SUMIF(BDD!$H$2:$H$3,'Indicateur Zone10'!$A5,BDD!$Z$2:$Z$3)","v":0},{"$f":"SUMIF(BDD!$H$2:$H$3,'Indicateur Zone10'!$A5,BDD!$Z$2:$Z$3)","v":0},{"$f":"SUMIF(BDD!$H$2:$H$3,'Indicateur Zone10'!$A5,BDD!$Z$2:$Z$3)","v":0},{"$f":"SUMIF(BDD!$H$2:$H$3,'Indicateur Zone10'!$A5,BDD!$Z$2:$Z$3)","v":0},{"$f":"SUMIF(BDD!$H$2:$H$3,'Indicateur Zone10'!$A5,BDD!$Z$2:$Z$3)","v":0},{"$f":"SUMIF(BDD!$H$2:$H$3,'Indicateur Zone10'!$A5,BDD!$Z$2:$Z$3)","v":0}]
["Banc 113",{"$f":"SUMIF(BDD!$H$2:$H$3,'Indicateur Zone10'!$A6,BDD!$Z$2:$Z$3)","v":0},{"$f":"SUMIF(BDD!$H$2:$H$3,'Indicateur Zone10'!$A6,BDD!$Z$2:$Z$3)","v":0},{"$f":"SUMIF(BDD!$H$2:$H$682,'Indicateur Zone10'!$A$6,BDD!$Z$2:$Z$682)","v":0.5},{"$f":"SUMIF(BDD!$H$2:$H$3,'Indicateur Zone10'!$A6,BDD!$Z$2:$Z$3)","v":0},{"$f":"SUMIF(BDD!$H$2:$H$3,'Indicateur Zone10'!$A6,BDD!$Z$2:$Z$3)","v":0},{"$f":"SUMIF(BDD!$H$2:$H$3,'Indicateur Zone10'!$A6,BDD!$Z$2:$Z$3)","v":0},{"$f":"SUMIF(BDD!$H$2:$H$3,'Indicateur Zone10'!$A6,BDD!$Z$2:$Z$3)","v":0},{"$f":"SUMIF(BDD!$H$2:$H$3,'Indicateur Zone10'!$A6,BDD!$Z$2:$Z$3)","v":0},{"$f":"SUMIF(BDD!$H$2:$H$3,'Indicateur Zone10'!$A6,BDD!$Z$2:$Z$3)","v":0},{"$f":"SUMIF(BDD!$H$2:$H$3,'Indicateur Zone10'!$A6,BDD!$Z$2:$Z$3)","v":0},{"$f":"SUMIF(BDD!$H$2:$H$3,'Indicateur Zone10'!$A6,BDD!$Z$2:$Z$3)","v":0},{"$f":"SUMIF(BDD!$H$2:$H$3,'Indicateur Zone10'!$A6,BDD!$Z$2:$Z$3)","v":0}]
["Banc 115",{"$f":"SUMIF(BDD!$H$2:$H$3,'Indicateur Zone10'!$A7,BDD!$Z$2:$Z$3)","v":0},{"$f":"SUMIF(BDD!$H$2:$H$3,'Indicateur Zone10'!$A7,BDD!$Z$2:$Z$3)","v":0},{"$f":"SUMIF(BDD!$H$2:$H$682,'Indicateur Zone10'!$A$7,BDD!$Z$2:$Z$682)","v":0.1},{"$f":"SUMIF(BDD!$H$2:$H$3,'Indicateur Zone10'!$A7,BDD!$Z$2:$Z$3)","v":0},{"$f":"SUMIF(BDD!$H$2:$H$3,'Indicateur Zone10'!$A7,BDD!$Z$2:$Z$3)","v":0},{"$f":"SUMIF(BDD!$H$2:$H$3,'Indicateur Zone10'!$A7,BDD!$Z$2:$Z$3)","v":0},{"$f":"SUMIF(BDD!$H$2:$H$3,'Indicateur Zone10'!$A7,BDD!$Z$2:$Z$3)","v":0},{"$f":"SUMIF(BDD!$H$2:$H$3,'Indicateur Zone10'!$A7,BDD!$Z$2:$Z$3)","v":0},{"$f":"SUMIF(BDD!$H$2:$H$3,'Indicateur Zone10'!$A7,BDD!$Z$2:$Z$3)","v":0},{"$f":"SUMIF(BDD!$H$2:$H$3,'Indicateur Zone10'!$A7,BDD!$Z$2:$Z$3)","v":0},{"$f":"SUMIF(BDD!$H$2:$H$3,'Indicateur Zone10'!$A7,BDD!$Z$2:$Z$3)","v":0},{"$f":"SUMIF(BDD!$H$2:$H$3,'Indicateur Zone10'!$A7,BDD!$Z$2:$Z$3)","v":0}]
["Banc 120",{"$f":"SUMIF(BDD!$H$2:$H$3,'Indicateur Zone10'!$A8,BDD!$Z$2:$Z$3)","v":0},{"$f":"SUMIF(BDD!$H$2:$H$3,'Indicateur Zone10'!$A8,BDD!$Z$2:$Z$3)","v":0},{"$f":"SUMIF(BDD!$H$2:$H$682,'Indicateur Zone10'!$A$8,BDD!$Z$2:$Z$682)","v":0.1},{"$f":"SUMIF(BDD!$H$2:$H$3,'Indicateur Zone10'!$A8,BDD!$Z$2:$Z$3)","v":0},{"$f":"SUMIF(BDD!$H$2:$H$3,'Indicateur Zone10'!$A8,BDD!$Z$2:$Z$3)","v":0},{"$f":"SUMIF(BDD!$H$2:$H$3,'Indicateur Zone10'!$A8,BDD!$Z$2:$Z$3)","v":0},{"$f":"SUMIF(BDD!$H$2:$H$3,'Indicateur Zone10'!$A8,BDD!$Z$2:$Z$3)","v":0},{"$f":"SUMIF(BDD!$H$2:$H$3,'Indicateur Zone10'!$A8,BDD!$Z$2:$Z$3)","v":0},{"$f":"SUMIF(BDD!$H$2:$H$3,'Indicateur Zone10'!$A8,BDD!$Z$2:$Z$3)","v":0},{"$f":"SUMIF(BDD!$H$2:$H$3,'Indicateur Zone10'!$A8,BDD!$Z$2:$Z$3)","v":0},{"$f":"SUMIF(BDD!$H$2:$H$3,'Indicateur Zone10'!$A8,BDD!$Z$2:$Z$3)","v":0},{"$f":"SUMIF(BDD!$H$2:$H$3,'Indicateur Zone10'!$A8,BDD!$Z$2:$Z$3)","v":0}]
["Banc 120 bis",{"$f":"SUMIF(BDD!$H$2:$H$3,'Indicateur Zone10'!$A9,BDD!$Z$2:$Z$3)","v":0},{"$f":"SUMIF(BDD!$H$2:$H$3,'Indicateur Zone10'!$A9,BDD!$Z$2:$Z$3)","v":0},{"$f":"SUMIF(BDD!$H$2:$H$682,'Indicateur Zone10'!$A$9,BDD!$Z$2:$Z$682)","v":0},{"$f":"SUMIF(BDD!$H$2:$H$3,'Indicateur Zone10'!$A9,BDD!$Z$2:$Z$3)","v":0},{"$f":"SUMIF(BDD!$H$2:$H$3,'Indicateur Zone10'!$A9,BDD!$Z$2:$Z$3)","v":0},{"$f":"SUMIF(BDD!$H$2:$H$3,'Indicateur Zone10'!$A9,BDD!$Z$2:$Z$3)","v":0},{"$f":"SUMIF(BDD!$H$2:$H$3,'Indicateur Zone10'!$A9,BDD!$Z$2:$Z$3)","v":0},{"$f":"SUMIF(BDD!$H$2:$H$3,'Indicateur Zone10'!$A9,BDD!$Z$2:$Z$3)","v":0},{"$f":"SUMIF(BDD!$H$2:$H$3,'Indicateur Zone10'!$A9,BDD!$Z$2:$Z$3)","v":0},{"$f":"SUMIF(BDD!$H$2:$H$3,'Indicateur Zone10'!$A9,BDD!$Z$2:$Z$3)","v":0},{"$f":"SUMIF(BDD!$H$2:$H$3,'Indicateur Zone10'!$A9,BDD!$Z$2:$Z$3)","v":0},{"$f":"SUMIF(BDD!$H$2:$H$3,'Indicateur Zone10'!$A9,BDD!$Z$2:$Z$3)","v":0}]
["Banc 125",{"$f":"SUMIF(BDD!$H$2:$H$3,'Indicateur Zone10'!$A10,BDD!$Z$2:$Z$3)","v":0},{"$f":"SUMIF(BDD!$H$2:$H$3,'Indicateur Zone10'!$A10,BDD!$Z$2:$Z$3)","v":0},{"$f":"SUMIF(BDD!$H$2:$H$682,'Indicateur Zone10'!$A$10,BDD!$Z$2:$Z$682)","v":4.8},{"$f":"SUMIF(BDD!$H$2:$H$3,'Indicateur Zone10'!$A10,BDD!$Z$2:$Z$3)","v":0},{"$f":"SUMIF(BDD!$H$2:$H$3,'Indicateur Zone10'!$A10,BDD!$Z$2:$Z$3)","v":0},{"$f":"SUMIF(BDD!$H$2:$H$3,'Indicateur Zone10'!$A10,BDD!$Z$2:$Z$3)","v":0},{"$f":"SUMIF(BDD!$H$2:$H$3,'Indicateur Zone10'!$A10,BDD!$Z$2:$Z$3)","v":0},{"$f":"SUMIF(BDD!$H$2:$H$3,'Indicateur Zone10'!$A10,BDD!$Z$2:$Z$3)","v":0},{"$f":"SUMIF(BDD!$H$2:$H$3,'Indicateur Zone10'!$A10,BDD!$Z$2:$Z$3)","v":0},{"$f":"SUMIF(BDD!$H$2:$H$3,'Indicateur Zone10'!$A10,BDD!$Z$2:$Z$3)","v":0},{"$f":"SUMIF(BDD!$H$2:$H$3,'Indicateur Zone10'!$A10,BDD!$Z$2:$Z$3)","v":0},{"$f":"SUMIF(BDD!$H$2:$H$3,'Indicateur Zone10'!$A10,BDD!$Z$2:$Z$3)","v":0}]
["Banc 128",{"$f":"SUMIF(BDD!$H$2:$H$3,'Indicateur Zone10'!$A11,BDD!$Z$2:$Z$3)","v":0},{"$f":"SUMIF(BDD!$H$2:$H$3,'Indicateur Zone10'!$A11,BDD!$Z$2:$Z$3)","v":0},{"$f":"SUMIF(BDD!$H$2:$H$682,'Indicateur Zone10'!$A$11,BDD!$Z$2:$Z$682)","v":6},{"$f":"SUMIF(BDD!$H$2:$H$3,'Indicateur Zone10'!$A11,BDD!$Z$2:$Z$3)","v":0},{"$f":"SUMIF(BDD!$H$2:$H$3,'Indicateur Zone10'!$A11,BDD!$Z$2:$Z$3)","v":0},{"$f":"SUMIF(BDD!$H$2:$H$3,'Indicateur Zone10'!$A11,BDD!$Z$2:$Z$3)","v":0},{"$f":"SUMIF(BDD!$H$2:$H$3,'Indicateur Zone10'!$A11,BDD!$Z$2:$Z$3)","v":0},{"$f":"SUMIF(BDD!$H$2:$H$3,'Indicateur Zone10'!$A11,BDD!$Z$2:$Z$3)","v":0},{"$f":"SUMIF(BDD!$H$2:$H$3,'Indicateur Zone10'!$A11,BDD!$Z$2:$Z$3)","v":0},{"$f":"SUMIF(BDD!$H$2:$H$3,'Indicateur Zone10'!$A11,BDD!$Z$2:$Z$3)","v":0},{"$f":"SUMIF(BDD!$H$2:$H$3,'Indicateur Zone10'!$A11,BDD!$Z$2:$Z$3)","v":0},{"$f":"SUMIF(BDD!$H$2:$H$3,'Indicateur Zone10'!$A11,BDD!$Z$2:$Z$3)","v":0}]
["Banc 131",{"$f":"SUMIF(BDD!$H$2:$H$3,'Indicateur Zone10'!$A12,BDD!$Z$2:$Z$3)","v":0},{"$f":"SUMIF(BDD!$H$2:$H$3,'Indicateur Zone10'!$A12,BDD!$Z$2:$Z$3)","v":0},{"$f":"SUMIF(BDD!$H$2:$H$682,'Indicateur Zone10'!$A$4,BDD!$Z$2:$Z$682)","v":0.2},{"$f":"SUMIF(BDD!$H$2:$H$3,'Indicateur Zone10'!$A12,BDD!$Z$2:$Z$3)","v":0},{"$f":"SUMIF(BDD!$H$2:$H$3,'Indicateur Zone10'!$A12,BDD!$Z$2:$Z$3)","v":0},{"$f":"SUMIF(BDD!$H$2:$H$3,'Indicateur Zone10'!$A12,BDD!$Z$2:$Z$3)","v":0},{"$f":"SUMIF(BDD!$H$2:$H$3,'Indicateur Zone10'!$A12,BDD!$Z$2:$Z$3)","v":0},{"$f":"SUMIF(BDD!$H$2:$H$3,'Indicateur Zone10'!$A12,BDD!$Z$2:$Z$3)","v":0},{"$f":"SUMIF(BDD!$H$2:$H$3,'Indicateur Zone10'!$A12,BDD!$Z$2:$Z$3)","v":0},{"$f":"SUMIF(BDD!$H$2:$H$3,'Indicateur Zone10'!$A12,BDD!$Z$2:$Z$3)","v":0},{"$f":"SUMIF(BDD!$H$2:$H$3,'Indicateur Zone10'!$A12,BDD!$Z$2:$Z$3)","v":0},{"$f":"SUMIF(BDD!$H$2:$H$3,'Indicateur Zone10'!$A12,BDD!$Z$2:$Z$3)","v":0}]
[]
[]
[]
[]
[]
[]
[]
[]
[]
[]
[]
[]
[]
[]
[]
[]
[]
[]
[]
[]
[null,"Suivi du correctif et du préventif"]
["Type de maintenance","Janvier","Février","Mars","Avril","Mai","Juin","Juillet","Août","Septembre","Octobre","Novembre","Décembre"]
["Corrective",{"$f":"SUM(B57:B65)","v":0},{"$f":"SUM(D57:D65)","v":0},{"$f":"SUM(F57:F65)","v":11.6},{"$f":"SUM(H57:H65)","v":0},{"$f":"SUM(J57:J65)","v":0},{"$f":"SUM(L57:L65)","v":0},{"$f":"SUM(N57:N65)","v":0},{"$f":"SUM(P57:P65)","v":0},{"$f":"SUM(R57:R65)","v":0},{"$f":"SUM(T57:T65)","v":0},{"$f":"SUM(V57:V65)","v":0},{"$f":"SUM(X57:X65)","v":0}]
["Préventive",{"$f":"SUM(C57:C65)","v":0},{"$f":"SUM(E57:E65)","v":0},{"$f":"SUM(G57:G65)","v":0.99999999999999989},{"$f":"SUM(I57:I65)","v":0},{"$f":"SUM(K57:K65)","v":0},{"$f":"SUM(M57:M65)","v":0},{"$f":"SUM(O57:O65)","v":0},{"$f":"SUM(Q57:Q65)","v":0},{"$f":"SUM(S57:S65)","v":0},{"$f":"SUM(U57:U65)","v":0},{"$f":"SUM(W57:W65)","v":0},{"$f":"SUM(Y57:Y65)","v":0}]
[]
[]
[]
[]
[]
[]
[]
[]
[]
[]
[]
[]
[]
[]
[]
[]
[]
[null,"Suivi du correctif et du préventif par banc"]
[null,"Janvier",null,"Février",null,"Mars",null,"Avril",null,"Mai",null,"Juin",null,"Juillet",null,"Août",null,"Septembre",null,"Octobre",null,"Novembre",null,"Décembre"]
["Banc zone 10","Corrective","Préventive","Corrective","Préventive","Corrective","Préventive","Corrective","Préventive","Corrective","Préventive","Corrective","Préventive","Corrective","Préventive","Corrective","Préventive","Corrective","Préventive","Corrective","Préventive","Corrective","Préventive","Corrective","Préventive"]
["Banc 007",{"$f":"SUMIF(BDD!$BG$2:$BG$3,\"Banc 007VRAIFAUX\",BDD!$Z$2:$Z$3)","v":0},{"$f":"SUMIF(BDD!$BG$2:$BG$3,\"Banc 007FAUXVRAI\",BDD!$Z$2:$Z$3)","v":0},{"$f":"SUMIF(BDD!$BG$2:$BG$3,\"Banc 007VRAIFAUX\",BDD!$Z$2:$Z$3)","v":0},{"$f":"SUMIF(BDD!$BG$2:$BG$3,\"Banc 007FAUXVRAI\",BDD!$Z$2:$Z$3)","v":0},{"$f":"SUMIF(BDD!$BG$2:$BG$682,\"Banc 007VRAIFAUX\",BDD!$Z$2:$Z$682)","v":0.2},{"$f":"SUMIF(BDD!$BG$2:$BG$682,\"Banc 007FAUXvrai\",BDD!$Z$2:$Z$682)","v":0},{"$f":"SUMIF(BDD!$BG$2:$BG$3,\"Banc 007VRAIFAUX\",BDD!$Z$2:$Z$3)","v":0},{"$f":"SUMIF(BDD!$BG$2:$BG$3,\"Banc 007FAUXVRAI\",BDD!$Z$2:$Z$3)","v":0},{"$f":"SUMIF(BDD!$BG$2:$BG$3,\"Banc 007VRAIFAUX\",BDD!$Z$2:$Z$3)","v":0},{"$f":"SUMIF(BDD!$BG$2:$BG$3,\"Banc 007FAUXVRAI\",BDD!$Z$2:$Z$3)","v":0},{"$f":"SUMIF(BDD!$BG$2:$BG$3,\"Banc 007VRAIFAUX\",BDD!$Z$2:$Z$3)","v":0},{"$f":"SUMIF(BDD!$BG$2:$BG$3,\"Banc 007FAUXVRAI\",BDD!$Z$2:$Z$3)","v":0},{"$f":"SUMIF(BDD!$BG$2:$BG$3,\"Banc 007VRAIFAUX\",BDD!$Z$2:$Z$3)","v":0},{"$f":"SUMIF(BDD!$BG$2:$BG$3,\"Banc 007FAUXVRAI\",BDD!$Z$2:$Z$3)","v":0},{"$f":"SUMIF(BDD!$BG$2:$BG$3,\"Banc 007VRAIFAUX\",BDD!$Z$2:$Z$3)","v":0},{"$f":"SUMIF(BDD!$BG$2:$BG$3,\"Banc 007FAUXVRAI\",BDD!$Z$2:$Z$3)","v":0},{"$f":"SUMIF(BDD!$BG$2:$BG$3,\"Banc 007VRAIFAUX\",BDD!$Z$2:$Z$3)","v":0},{"$f":"SUMIF(BDD!$BG$2:$BG$3,\"Banc 007FAUXVRAI\",BDD!$Z$2:$Z$3)","v":0},{"$f":"SUMIF(BDD!$BG$2:$BG$3,\"Banc 007VRAIFAUX\",BDD!$Z$2:$Z$3)","v":0},{"$f":"SUMIF(BDD!$BG$2:$BG$3,\"Banc 007FAUXVRAI\",BDD!$Z$2:$Z$3)","v":0},{"$f":"SUMIF(BDD!$BG$2:$BG$3,\"Banc 007VRAIFAUX\",BDD!$Z$2:$Z$3)","v":0},{"$f":"SUMIF(BDD!$BG$2:$BG$3,\"Banc 007FAUXVRAI\",BDD!$Z$2:$Z$3)","v":0},{"$f":"SUMIF(BDD!$BG$2:$BG$3,\"Banc 007VRAIFAUX\",BDD!$Z$2:$Z$3)","v":0},{"$f":"SUMIF(BDD!$BG$2:$BG$3,\"Banc 007FAUXVRAI\",BDD!$Z$2:$Z$3)","v":0}]
["Banc 008",{"$f":"SUMIF(BDD!$BG$2:$BG$3,\"Banc 008VRAIFAUX\",BDD!$Z$2:$Z$3)","v":0},{"$f":"SUMIF(BDD!$BG$2:$BG$3,\"Banc 008FAUXVRAI\",BDD!$Z$2:$Z$3)","v":0},{"$f":"SUMIF(BDD!$BG$2:$BG$3,\"Banc 008VRAIFAUX\",BDD!$Z$2:$Z$3)","v":0},{"$f":"SUMIF(BDD!$BG$2:$BG$3,\"Banc 008FAUXVRAI\",BDD!$Z$2:$Z$3)","v":0},{"$f":"SUMIF(BDD!$BG$2:$BG$682,\"Banc 008VRAIFAUX\",BDD!$Z$2:$Z$682)","v":0.1},{"$f":"SUMIF(BDD!$BG$2:$BG$682,\"Banc 008FAUXVRAI\",BDD!$Z$2:$Z$682)","v":0.2},{"$f":"SUMIF(BDD!$BG$2:$BG$3,\"Banc 008VRAIFAUX\",BDD!$Z$2:$Z$3)","v":0},{"$f":"SUMIF(BDD!$BG$2:$BG$3,\"Banc 008FAUXVRAI\",BDD!$Z$2:$Z$3)","v":0},{"$f":"SUMIF(BDD!$BG$2:$BG$3,\"Banc 008VRAIFAUX\",BDD!$Z$2:$Z$3)","v":0},{"$f":"SUMIF(BDD!$BG$2:$BG$3,\"Banc 008FAUXVRAI\",BDD!$Z$2:$Z$3)","v":0},{"$f":"SUMIF(BDD!$BG$2:$BG$3,\"Banc 008VRAIFAUX\",BDD!$Z$2:$Z$3)","v":0},{"$f":"SUMIF(BDD!$BG$2:$BG$3,\"Banc 008FAUXVRAI\",BDD!$Z$2:$Z$3)","v":0},{"$f":"SUMIF(BDD!$BG$2:$BG$3,\"Banc 008VRAIFAUX\",BDD!$Z$2:$Z$3)","v":0},{"$f":"SUMIF(BDD!$BG$2:$BG$3,\"Banc 008FAUXVRAI\",BDD!$Z$2:$Z$3)","v":0},{"$f":"SUMIF(BDD!$BG$2:$BG$3,\"Banc 008VRAIFAUX\",BDD!$Z$2:$Z$3)","v":0},{"$f":"SUMIF(BDD!$BG$2:$BG$3,\"Banc 008FAUXVRAI\",BDD!$Z$2:$Z$3)","v":0},{"$f":"SUMIF(BDD!$BG$2:$BG$3,\"Banc 008VRAIFAUX\",BDD!$Z$2:$Z$3)","v":0},{"$f":"SUMIF(BDD!$BG$2:$BG$3,\"Banc 008FAUXVRAI\",BDD!$Z$2:$Z$3)","v":0},{"$f":"SUMIF(BDD!$BG$2:$BG$3,\"Banc 008VRAIFAUX\",BDD!$Z$2:$Z$3)","v":0},{"$f":"SUMIF(BDD!$BG$2:$BG$3,\"Banc 008FAUXVRAI\",BDD!$Z$2:$Z$3)","v":0},{"$f":"SUMIF(BDD!$BG$2:$BG$3,\"Banc 008VRAIFAUX\",BDD!$Z$2:$Z$3)","v":0},{"$f":"SUMIF(BDD!$BG$2:$BG$3,\"Banc 008FAUXVRAI\",BDD!$Z$2:$Z$3)","v":0},{"$f":"SUMIF(BDD!$BG$2:$BG$3,\"Banc 008VRAIFAUX\",BDD!$Z$2:$Z$3)","v":0},{"$f":"SUMIF(BDD!$BG$2:$BG$3,\"Banc 008FAUXVRAI\",BDD!$Z$2:$Z$3)","v":0}]
["Banc 113",{"$f":"SUMIF(BDD!$BG$2:$BG$682,\"Banc 113VRAIFAUX\",BDD!$Z$2:$Z$682)","v":0},{"$f":"SUMIF(BDD!$BG$2:$BG$3,\"Banc 113FAUXVRAI\",BDD!$Z$2:$Z$3)","v":0},{"$f":"SUMIF(BDD!$BG$2:$BG$682,\"Banc 113VRAIFAUX\",BDD!$Z$2:$Z$682)","v":0},{"$f":"SUMIF(BDD!$BG$2:$BG$3,\"Banc 113FAUXVRAI\",BDD!$Z$2:$Z$3)","v":0},{"$f":"SUMIF(BDD!$BG$2:$BG$682,\"Banc 113VRAIFAUX\",BDD!$Z$2:$Z$682)","v":0},{"$f":"SUMIF(BDD!$BG$2:$BG$682,\"Banc 113FAUXVRAI\",BDD!$Z$2:$Z$682)","v":0.5},{"$f":"SUMIF(BDD!$BG$2:$BG$682,\"Banc 113VRAIFAUX\",BDD!$Z$2:$Z$682)","v":0},{"$f":"SUMIF(BDD!$BG$2:$BG$3,\"Banc 113FAUXVRAI\",BDD!$Z$2:$Z$3)","v":0},{"$f":"SUMIF(BDD!$BG$2:$BG$682,\"Banc 113VRAIFAUX\",BDD!$Z$2:$Z$682)","v":0},{"$f":"SUMIF(BDD!$BG$2:$BG$3,\"Banc 113FAUXVRAI\",BDD!$Z$2:$Z$3)","v":0},{"$f":"SUMIF(BDD!$BG$2:$BG$682,\"Banc 113VRAIFAUX\",BDD!$Z$2:$Z$682)","v":0},{"$f":"SUMIF(BDD!$BG$2:$BG$3,\"Banc 113FAUXVRAI\",BDD!$Z$2:$Z$3)","v":0},{"$f":"SUMIF(BDD!$BG$2:$BG$682,\"Banc 113VRAIFAUX\",BDD!$Z$2:$Z$682)","v":0},{"$f":"SUMIF(BDD!$BG$2:$BG$3,\"Banc 113FAUXVRAI\",BDD!$Z$2:$Z$3)","v":0},{"$f":"SUMIF(BDD!$BG$2:$BG$682,\"Banc 113VRAIFAUX\",BDD!$Z$2:$Z$682)","v":0},{"$f":"SUMIF(BDD!$BG$2:$BG$3,\"Banc 113FAUXVRAI\",BDD!$Z$2:$Z$3)","v":0},{"$f":"SUMIF(BDD!$BG$2:$BG$682,\"Banc 113VRAIFAUX\",BDD!$Z$2:$Z$682)","v":0},{"$f":"SUMIF(BDD!$BG$2:$BG$3,\"Banc 113FAUXVRAI\",BDD!$Z$2:$Z$3)","v":0},{"$f":"SUMIF(BDD!$BG$2:$BG$682,\"Banc 113VRAIFAUX\",BDD!$Z$2:$Z$682)","v":0},{"$f":"SUMIF(BDD!$BG$2:$BG$3,\"Banc 113FAUXVRAI\",BDD!$Z$2:$Z$3)","v":0},{"$f":"SUMIF(BDD!$BG$2:$BG$682,\"Banc 113VRAIFAUX\",BDD!$Z$2:$Z$682)","v":0},{"$f":"SUMIF(BDD!$BG$2:$BG$3,\"Banc 113FAUXVRAI\",BDD!$Z$2:$Z$3)","v":0},{"$f":"SUMIF(BDD!$BG$2:$BG$682,\"Banc 113VRAIFAUX\",BDD!$Z$2:$Z$682)","v":0},{"$f":"SUMIF(BDD!$BG$2:$BG$3,\"Banc 113FAUXVRAI\",BDD!$Z$2:$Z$3)","v":0}]
["Banc 115",{"$f":"SUMIF(BDD!$BG$2:$BG$3,\"Banc 115VRAIFAUX\",BDD!$Z$2:$Z$3)","v":0},{"$f":"SUMIF(BDD!$BG$2:$BG$3,\"Banc 115FAUXVRAI\",BDD!$Z$2:$Z$3)","v":0},{"$f":"SUMIF(BDD!$BG$2:$BG$3,\"Banc 115VRAIFAUX\",BDD!$Z$2:$Z$3)","v":0},{"$f":"SUMIF(BDD!$BG$2:$BG$3,\"Banc 115FAUXVRAI\",BDD!$Z$2:$Z$3)","v":0},{"$f":"SUMIF(BDD!$BG$2:$BG$682,\"Banc 115VRAIFAUX\",BDD!$Z$2:$Z$682)","v":0},{"$f":"SUMIF(BDD!$BG$2:$BG$682,\"Banc 115FAUXVRAI\",BDD!$Z$2:$Z$682)","v":0.1},{"$f":"SUMIF(BDD!$BG$2:$BG$3,\"Banc 115VRAIFAUX\",BDD!$Z$2:$Z$3)","v":0},{"$f":"SUMIF(BDD!$BG$2:$BG$3,\"Banc 115FAUXVRAI\",BDD!$Z$2:$Z$3)","v":0},{"$f":"SUMIF(BDD!$BG$2:$BG$3,\"Banc 115VRAIFAUX\",BDD!$Z$2:$Z$3)","v":0},{"$f":"SUMIF(BDD!$BG$2:$BG$3,\"Banc 115FAUXVRAI\",BDD!$Z$2:$Z$3)","v":0},{"$f":"SUMIF(BDD!$BG$2:$BG$3,\"Banc 115VRAIFAUX\",BDD!$Z$2:$Z$3)","v":0},{"$f":"SUMIF(BDD!$BG$2:$BG$3,\"Banc 115FAUXVRAI\",BDD!$Z$2:$Z$3)","v":0},{"$f":"SUMIF(BDD!$BG$2:$BG$3,\"Banc 115VRAIFAUX\",BDD!$Z$2:$Z$3)","v":0},{"$f":"SUMIF(BDD!$BG$2:$BG$3,\"Banc 115FAUXVRAI\",BDD!$Z$2:$Z$3)","v":0},{"$f":"SUMIF(BDD!$BG$2:$BG$3,\"Banc 115VRAIFAUX\",BDD!$Z$2:$Z$3)","v":0},{"$f":"SUMIF(BDD!$BG$2:$BG$3,\"Banc 115FAUXVRAI\",BDD!$Z$2:$Z$3)","v":0},{"$f":"SUMIF(BDD!$BG$2:$BG$3,\"Banc 115VRAIFAUX\",BDD!$Z$2:$Z$3)","v":0},{"$f":"SUMIF(BDD!$BG$2:$BG$3,\"Banc 115FAUXVRAI\",BDD!$Z$2:$Z$3)","v":0},{"$f":"SUMIF(BDD!$BG$2:$BG$3,\"Banc 115VRAIFAUX\",BDD!$Z$2:$Z$3)","v":0},{"$f":"SUMIF(BDD!$BG$2:$BG$3,\"Banc 115FAUXVRAI\",BDD!$Z$2:$Z$3)","v":0},{"$f":"SUMIF(BDD!$BG$2:$BG$3,\"Banc 115VRAIFAUX\",BDD!$Z$2:$Z$3)","v":0},{"$f":"SUMIF(BDD!$BG$2:$BG$3,\"Banc 115FAUXVRAI\",BDD!$Z$2:$Z$3)","v":0},{"$f":"SUMIF(BDD!$BG$2:$BG$3,\"Banc 115VRAIFAUX\",BDD!$Z$2:$Z$3)","v":0},{"$f":"SUMIF(BDD!$BG$2:$BG$3,\"Banc 115FAUXVRAI\",BDD!$Z$2:$Z$3)","v":0}]
["Banc 120",{"$f":"SUMIF(BDD!$BG$2:$BG$3,\"Banc 120VRAIFAUX\",BDD!$Z$2:$Z$3)","v":0},{"$f":"SUMIF(BDD!$BG$2:$BG$3,\"Banc 120FAUXVRAI\",BDD!$Z$2:$Z$3)","v":0},{"$f":"SUMIF(BDD!$BG$2:$BG$3,\"Banc 120VRAIFAUX\",BDD!$Z$2:$Z$3)","v":0},{"$f":"SUMIF(BDD!$BG$2:$BG$3,\"Banc 120FAUXVRAI\",BDD!$Z$2:$Z$3)","v":0},{"$f":"SUMIF(BDD!$BG$2:$BG$682,\"Banc 120VRAIFAUX\",BDD!$Z$2:$Z$682)","v":0},{"$f":"SUMIF(BDD!$BG$2:$BG$682,\"Banc 120FAUXVRAI\",BDD!$Z$2:$Z$682)","v":0.1},{"$f":"SUMIF(BDD!$BG$2:$BG$3,\"Banc 120VRAIFAUX\",BDD!$Z$2:$Z$3)","v":0},{"$f":"SUMIF(BDD!$BG$2:$BG$3,\"Banc 120FAUXVRAI\",BDD!$Z$2:$Z$3)","v":0},{"$f":"SUMIF(BDD!$BG$2:$BG$3,\"Banc 120VRAIFAUX\",BDD!$Z$2:$Z$3)","v":0},{"$f":"SUMIF(BDD!$BG$2:$BG$3,\"Banc 120FAUXVRAI\",BDD!$Z$2:$Z$3)","v":0},{"$f":"SUMIF(BDD!$BG$2:$BG$3,\"Banc 120VRAIFAUX\",BDD!$Z$2:$Z$3)","v":0},{"$f":"SUMIF(BDD!$BG$2:$BG$3,\"Banc 120FAUXVRAI\",BDD!$Z$2:$Z$3)","v":0},{"$f":"SUMIF(BDD!$BG$2:$BG$3,\"Banc 120VRAIFAUX\",BDD!$Z$2:$Z$3)","v":0},{"$f":"SUMIF(BDD!$BG$2:$BG$3,\"Banc 120FAUXVRAI\",BDD!$Z$2:$Z$3)","v":0},{"$f":"SUMIF(BDD!$BG$2:$BG$3,\"Banc 120VRAIFAUX\",BDD!$Z$2:$Z$3)","v":0},{"$f":"SUMIF(BDD!$BG$2:$BG$3,\"Banc 120FAUXVRAI\",BDD!$Z$2:$Z$3)","v":0},{"$f":"SUMIF(BDD!$BG$2:$BG$3,\"Banc 120VRAIFAUX\",BDD!$Z$2:$Z$3)","v":0},{"$f":"SUMIF(BDD!$BG$2:$BG$3,\"Banc 120FAUXVRAI\",BDD!$Z$2:$Z$3)","v":0},{"$f":"SUMIF(BDD!$BG$2:$BG$3,\"Banc 120VRAIFAUX\",BDD!$Z$2:$Z$3)","v":0},{"$f":"SUMIF(BDD!$BG$2:$BG$3,\"Banc 120FAUXVRAI\",BDD!$Z$2:$Z$3)","v":0},{"$f":"SUMIF(BDD!$BG$2:$BG$3,\"Banc 120VRAIFAUX\",BDD!$Z$2:$Z$3)","v":0},{"$f":"SUMIF(BDD!$BG$2:$BG$3,\"Banc 120FAUXVRAI\",BDD!$Z$2:$Z$3)","v":0},{"$f":"SUMIF(BDD!$BG$2:$BG$3,\"Banc 120VRAIFAUX\",BDD!$Z$2:$Z$3)","v":0},{"$f":"SUMIF(BDD!$BG$2:$BG$3,\"Banc 120FAUXVRAI\",BDD!$Z$2:$Z$3)","v":0}]
["Banc 120 bis",{"$f":"SUMIF(BDD!$BG$2:$BG$3,\"Banc 120 bisVRAIFAUX\",BDD!$Z$2:$Z$3)","v":0},{"$f":"SUMIF(BDD!$BG$2:$BG$3,\"Banc 120 bisFAUXVRAI\",BDD!$Z$2:$Z$3)","v":0},{"$f":"SUMIF(BDD!$BG$2:$BG$3,\"Banc 120 bisVRAIFAUX\",BDD!$Z$2:$Z$3)","v":0},{"$f":"SUMIF(BDD!$BG$2:$BG$3,\"Banc 120 bisFAUXVRAI\",BDD!$Z$2:$Z$3)","v":0},{"$f":"SUMIF(BDD!$BG$2:$BG$682,\"Banc 120 bisVRAIFAUX\",BDD!$Z$2:$Z$682)","v":0},{"$f":"SUMIF(BDD!$BG$2:$BG$682,\"Banc 120 bisFAUXVRAI\",BDD!$Z$2:$Z$682)","v":0},{"$f":"SUMIF(BDD!$BG$2:$BG$3,\"Banc 120 bisVRAIFAUX\",BDD!$Z$2:$Z$3)","v":0},{"$f":"SUMIF(BDD!$BG$2:$BG$3,\"Banc 120 bisFAUXVRAI\",BDD!$Z$2:$Z$3)","v":0},{"$f":"SUMIF(BDD!$BG$2:$BG$3,\"Banc 120 bisVRAIFAUX\",BDD!$Z$2:$Z$3)","v":0},{"$f":"SUMIF(BDD!$BG$2:$BG$3,\"Banc 120 bisFAUXVRAI\",BDD!$Z$2:$Z$3)","v":0},{"$f":"SUMIF(BDD!$BG$2:$BG$3,\"Banc 120 bisVRAIFAUX\",BDD!$Z$2:$Z$3)","v":0},{"$f":"SUMIF(BDD!$BG$2:$BG$3,\"Banc 120 bisFAUXVRAI\",BDD!$Z$2:$Z$3)","v":0},{"$f":"SUMIF(BDD!$BG$2:$BG$3,\"Banc 120 bisVRAIFAUX\",BDD!$Z$2:$Z$3)","v":0},{"$f":"SUMIF(BDD!$BG$2:$BG$3,\"Banc 120 bisFAUXVRAI\",BDD!$Z$2:$Z$3)","v":0},{"$f":"SUMIF(BDD!$BG$2:$BG$3,\"Banc 120 bisVRAIFAUX\",BDD!$Z$2:$Z$3)","v":0},{"$f":"SUMIF(BDD!$BG$2:$BG$3,\"Banc 120 bisFAUXVRAI\",BDD!$Z$2:$Z$3)","v":0},{"$f":"SUMIF(BDD!$BG$2:$BG$3,\"Banc 120 bisVRAIFAUX\",BDD!$Z$2:$Z$3)","v":0},{"$f":"SUMIF(BDD!$BG$2:$BG$3,\"Banc 120 bisFAUXVRAI\",BDD!$Z$2:$Z$3)","v":0},{"$f":"SUMIF(BDD!$BG$2:$BG$3,\"Banc 120 bisVRAIFAUX\",BDD!$Z$2:$Z$3)","v":0},{"$f":"SUMIF(BDD!$BG$2:$BG$3,\"Banc 120 bisFAUXVRAI\",BDD!$Z$2:$Z$3)","v":0},{"$f":"SUMIF(BDD!$BG$2:$BG$3,\"Banc 120 bisVRAIFAUX\",BDD!$Z$2:$Z$3)","v":0},{"$f":"SUMIF(BDD!$BG$2:$BG$3,\"Banc 120 bisFAUXVRAI\",BDD!$Z$2:$Z$3)","v":0},{"$f":"SUMIF(BDD!$BG$2:$BG$3,\"Banc 120 bisVRAIFAUX\",BDD!$Z$2:$Z$3)","v":0},{"$f":"SUMIF(BDD!$BG$2:$BG$3,\"Banc 120 bisFAUXVRAI\",BDD!$Z$2:$Z$3)","v":0}]
["Banc 125",{"$f":"SUMIF(BDD!$BG$2:$BG$3,\"Banc 125VRAIFAUX\",BDD!$Z$2:$Z$3)","v":0},{"$f":"SUMIF(BDD!$BG$2:$BG$3,\"Banc 125FAUXVRAI\",BDD!$Z$2:$Z$3)","v":0},{"$f":"SUMIF(BDD!$BG$2:$BG$3,\"Banc 125VRAIFAUX\",BDD!$Z$2:$Z$3)","v":0},{"$f":"SUMIF(BDD!$BG$2:$BG$3,\"Banc 125FAUXVRAI\",BDD!$Z$2:$Z$3)","v":0},{"$f":"SUMIF(BDD!$BG$2:$BG$682,\"Banc 125VRAIFAUX\",BDD!$Z$2:$Z$682)","v":4.8},{"$f":"SUMIF(BDD!$BG$2:$BG$682,\"Banc 125FAUXVRAI\",BDD!$Z$2:$Z$682)","v":0},{"$f":"SUMIF(BDD!$BG$2:$BG$3,\"Banc 125VRAIFAUX\",BDD!$Z$2:$Z$3)","v":0},{"$f":"SUMIF(BDD!$BG$2:$BG$3,\"Banc 125FAUXVRAI\",BDD!$Z$2:$Z$3)","v":0},{"$f":"SUMIF(BDD!$BG$2:$BG$3,\"Banc 125VRAIFAUX\",BDD!$Z$2:$Z$3)","v":0},{"$f":"SUMIF(BDD!$BG$2:$BG$3,\"Banc 125FAUXVRAI\",BDD!$Z$2:$Z$3)","v":0},{"$f":"SUMIF(BDD!$BG$2:$BG$3,\"Banc 125VRAIFAUX\",BDD!$Z$2:$Z$3)","v":0},{"$f":"SUMIF(BDD!$BG$2:$BG$3,\"Banc 125FAUXVRAI\",BDD!$Z$2:$Z$3)","v":0},{"$f":"SUMIF(BDD!$BG$2:$BG$3,\"Banc 125VRAIFAUX\",BDD!$Z$2:$Z$3)","v":0},{"$f":"SUMIF(BDD!$BG$2:$BG$3,\"Banc 125FAUXVRAI\",BDD!$Z$2:$Z$3)","v":0},{"$f":"SUMIF(BDD!$BG$2:$BG$3,\"Banc 125VRAIFAUX\",BDD!$Z$2:$Z$3)","v":0},{"$f":"SUMIF(BDD!$BG$2:$BG$3,\"Banc 125FAUXVRAI\",BDD!$Z$2:$Z$3)","v":0},{"$f":"SUMIF(BDD!$BG$2:$BG$3,\"Banc 125VRAIFAUX\",BDD!$Z$2:$Z$3)","v":0},{"$f":"SUMIF(BDD!$BG$2:$BG$3,\"Banc 125FAUXVRAI\",BDD!$Z$2:$Z$3)","v":0},{"$f":"SUMIF(BDD!$BG$2:$BG$3,\"Banc 125VRAIFAUX\",BDD!$Z$2:$Z$3)","v":0},{"$f":"SUMIF(BDD!$BG$2:$BG$3,\"Banc 125FAUXVRAI\",BDD!$Z$2:$Z$3)","v":0},{"$f":"SUMIF(BDD!$BG$2:$BG$3,\"Banc 125VRAIFAUX\",BDD!$Z$2:$Z$3)","v":0},{"$f":"SUMIF(BDD!$BG$2:$BG$3,\"Banc 125FAUXVRAI\",BDD!$Z$2:$Z$3)","v":0},{"$f":"SUMIF(BDD!$BG$2:$BG$3,\"Banc 125VRAIFAUX\",BDD!$Z$2:$Z$3)","v":0},{"$f":"SUMIF(BDD!$BG$2:$BG$3,\"Banc 125FAUXVRAI\",BDD!$Z$2:$Z$3)","v":0}]
["Banc 128",{"$f":"SUMIF(BDD!$BG$2:$BG$3,\"Banc 128VRAIFAUX\",BDD!$Z$2:$Z$3)","v":0},{"$f":"SUMIF(BDD!$BG$2:$BG$3,\"Banc 128FAUXVRAI\",BDD!$Z$2:$Z$3)","v":0},{"$f":"SUMIF(BDD!$BG$2:$BG$3,\"Banc 128VRAIFAUX\",BDD!$Z$2:$Z$3)","v":0},{"$f":"SUMIF(BDD!$BG$2:$BG$3,\"Banc 128FAUXVRAI\",BDD!$Z$2:$Z$3)","v":0},{"$f":"SUMIF(BDD!$BG$2:$BG$682,\"Banc 128VRAIFAUX\",BDD!$Z$2:$Z$682)","v":3},{"$f":"SUMIF(BDD!$BG$2:$BG$682,\"Banc 128FAUXVRAI\",BDD!$Z$2:$Z$682)","v":0},{"$f":"SUMIF(BDD!$BG$2:$BG$3,\"Banc 128VRAIFAUX\",BDD!$Z$2:$Z$3)","v":0},{"$f":"SUMIF(BDD!$BG$2:$BG$3,\"Banc 128FAUXVRAI\",BDD!$Z$2:$Z$3)","v":0},{"$f":"SUMIF(BDD!$BG$2:$BG$3,\"Banc 128VRAIFAUX\",BDD!$Z$2:$Z$3)","v":0},{"$f":"SUMIF(BDD!$BG$2:$BG$3,\"Banc 128FAUXVRAI\",BDD!$Z$2:$Z$3)","v":0},{"$f":"SUMIF(BDD!$BG$2:$BG$3,\"Banc 128VRAIFAUX\",BDD!$Z$2:$Z$3)","v":0},{"$f":"SUMIF(BDD!$BG$2:$BG$3,\"Banc 128FAUXVRAI\",BDD!$Z$2:$Z$3)","v":0},{"$f":"SUMIF(BDD!$BG$2:$BG$3,\"Banc 128VRAIFAUX\",BDD!$Z$2:$Z$3)","v":0},{"$f":"SUMIF(BDD!$BG$2:$BG$3,\"Banc 128FAUXVRAI\",BDD!$Z$2:$Z$3)","v":0},{"$f":"SUMIF(BDD!$BG$2:$BG$3,\"Banc 128VRAIFAUX\",BDD!$Z$2:$Z$3)","v":0},{"$f":"SUMIF(BDD!$BG$2:$BG$3,\"Banc 128FAUXVRAI\",BDD!$Z$2:$Z$3)","v":0},{"$f":"SUMIF(BDD!$BG$2:$BG$3,\"Banc 128VRAIFAUX\",BDD!$Z$2:$Z$3)","v":0},{"$f":"SUMIF(BDD!$BG$2:$BG$3,\"Banc 128FAUXVRAI\",BDD!$Z$2:$Z$3)","v":0},{"$f":"SUMIF(BDD!$BG$2:$BG$3,\"Banc 128VRAIFAUX\",BDD!$Z$2:$Z$3)","v":0},{"$f":"SUMIF(BDD!$BG$2:$BG$3,\"Banc 128FAUXVRAI\",BDD!$Z$2:$Z$3)","v":0},{"$f":"SUMIF(BDD!$BG$2:$BG$3,\"Banc 128VRAIFAUX\",BDD!$Z$2:$Z$3)","v":0},{"$f":"SUMIF(BDD!$BG$2:$BG$3,\"Banc 128FAUXVRAI\",BDD!$Z$2:$Z$3)","v":0},{"$f":"SUMIF(BDD!$BG$2:$BG$3,\"Banc 128VRAIFAUX\",BDD!$Z$2:$Z$3)","v":0},{"$f":"SUMIF(BDD!$BG$2:$BG$3,\"Banc 128FAUXVRAI\",BDD!$Z$2:$Z$3)","v":0}]
["Banc 131",{"$f":"SUMIF(BDD!$BG$2:$BG$3,\"Banc 131VRAIFAUX\",BDD!$Z$2:$Z$3)","v":0},{"$f":"SUMIF(BDD!$BG$2:$BG$3,\"Banc 131FAUXVRAI\",BDD!$Z$2:$Z$3)","v":0},{"$f":"SUMIF(BDD!$BG$2:$BG$3,\"Banc 131VRAIFAUX\",BDD!$Z$2:$Z$3)","v":0},{"$f":"SUMIF(BDD!$BG$2:$BG$3,\"Banc 131FAUXVRAI\",BDD!$Z$2:$Z$3)","v":0},{"$f":"SUMIF(BDD!$BG$2:$BG$682,\"Banc 131VRAIFAUX\",BDD!$Z$2:$Z$682)","v":3.5},{"$f":"SUMIF(BDD!$BG$2:$BG$682,\"Banc 131FAUXvrai\",BDD!$Z$2:$Z$682)","v":0.1},{"$f":"SUMIF(BDD!$BG$2:$BG$3,\"Banc 131VRAIFAUX\",BDD!$Z$2:$Z$3)","v":0},{"$f":"SUMIF(BDD!$BG$2:$BG$3,\"Banc 131FAUXVRAI\",BDD!$Z$2:$Z$3)","v":0},{"$f":"SUMIF(BDD!$BG$2:$BG$3,\"Banc 131VRAIFAUX\",BDD!$Z$2:$Z$3)","v":0},{"$f":"SUMIF(BDD!$BG$2:$BG$3,\"Banc 131FAUXVRAI\",BDD!$Z$2:$Z$3)","v":0},{"$f":"SUMIF(BDD!$BG$2:$BG$3,\"Banc 131VRAIFAUX\",BDD!$Z$2:$Z$3)","v":0},{"$f":"SUMIF(BDD!$BG$2:$BG$3,\"Banc 131FAUXVRAI\",BDD!$Z$2:$Z$3)","v":0},{"$f":"SUMIF(BDD!$BG$2:$BG$3,\"Banc 131VRAIFAUX\",BDD!$Z$2:$Z$3)","v":0},{"$f":"SUMIF(BDD!$BG$2:$BG$3,\"Banc 131FAUXVRAI\",BDD!$Z$2:$Z$3)","v":0},{"$f":"SUMIF(BDD!$BG$2:$BG$3,\"Banc 131VRAIFAUX\",BDD!$Z$2:$Z$3)","v":0},{"$f":"SUMIF(BDD!$BG$2:$BG$3,\"Banc 131FAUXVRAI\",BDD!$Z$2:$Z$3)","v":0},{"$f":"SUMIF(BDD!$BG$2:$BG$3,\"Banc 131VRAIFAUX\",BDD!$Z$2:$Z$3)","v":0},{"$f":"SUMIF(BDD!$BG$2:$BG$3,\"Banc 131FAUXVRAI\",BDD!$Z$2:$Z$3)","v":0},{"$f":"SUMIF(BDD!$BG$2:$BG$3,\"Banc 131VRAIFAUX\",BDD!$Z$2:$Z$3)","v":0},{"$f":"SUMIF(BDD!$BG$2:$BG$3,\"Banc 131FAUXVRAI\",BDD!$Z$2:$Z$3)","v":0},{"$f":"SUMIF(BDD!$BG$2:$BG$3,\"Banc 131VRAIFAUX\",BDD!$Z$2:$Z$3)","v":0},{"$f":"SUMIF(BDD!$BG$2:$BG$3,\"Banc 131FAUXVRAI\",BDD!$Z$2:$Z$3)","v":0},{"$f":"SUMIF(BDD!$BG$2:$BG$3,\"Banc 131VRAIFAUX\",BDD!$Z$2:$Z$3)","v":0},{"$f":"SUMIF(BDD!$BG$2:$BG$3,\"Banc 131FAUXVRAI\",BDD!$Z$2:$Z$3)","v":0}]
[]
[]
[]
[]
[]
[]
[]
[]
[]
[]
[]
[]
[]
[]
[]
[]
[]
[]
[]
[]
[]
[]
[null,"Suivi du correctif et du préventif par banc"]
[null,"Janvier",null,null,null,null,null,"Février",null,null,null,null,null,"Mars",null,null,null,null,null,"Avril",null,null,null,null,null,"Mai",null,null,null,null,null,"Juin",null,null,null,null,null,"Juillet",null,null,null,null,null,"Août",null,null,null,null,null,"Septembre",null,null,null,null,null,"Octobre",null,null,null,null,null,"Novembre",null,null,null,null,null,"Décembre"]
[null,"Corrective",null,null,"Préventive",null,null,"Corrective",null,null,"Préventive",null,null,"Corrective",null,null,"Préventive",null,null,"Corrective",null,null,"Préventive",null,null,"Corrective",null,null,"Préventive",null,null,"Corrective",null,null,"Préventive",null,null,"Corrective",null,null,"Préventive",null,null,"Corrective",null,null,"Préventive",null,null,"Corrective",null,null,"Préventive",null,null,"Corrective",null,null,"Préventive",null,null,"Corrective",null,null,"Préventive",null,null,"Corrective",null,null,"Préventive"]
["Banc zone 10","Electrique","Mécanique","Hydraulique","Electrique","Mécanique","Hydraulique","Electrique","Mécanique","Hydraulique","Electrique","Mécanique","Hydraulique","Electrique","Mécanique","Hydraulique","Electrique","Mécanique","Hydraulique","Electrique","Mécanique","Hydraulique","Electrique","Mécanique","Hydraulique","Electrique","Mécanique","Hydraulique","Electrique","Mécanique","Hydraulique","Electrique","Mécanique","Hydraulique","Electrique","Mécanique","Hydraulique","Electrique","Mécanique","Hydraulique","Electrique","Mécanique","Hydraulique","Electrique","Mécanique","Hydraulique","Electrique","Mécanique","Hydraulique","Electrique","Mécanique","Hydraulique","Electrique","Mécanique","Hydraulique","Electrique","Mécanique","Hydraulique","Electrique","Mécanique","Hydraulique","Electrique","Mécanique","Hydraulique","Electrique","Mécanique","Hydraulique","Electrique","Mécanique","Hydraulique","Electrique","Mécanique","Hydraulique"]
["Banc 007",{"$f":"SUMIF(BDD!$BH$2:$BH$3,\"Banc 131VRAIFAUXVRAIFAUXFAUX\",BDD!$Z$2:$Z$3)","v":0},{"$f":"SUMIF(BDD!$BH$2:$BH$3,\"Banc 131VRAIFAUXFAUXVRAIFAUX\",BDD!$Z$2:$Z$3)","v":0},{"$f":"SUMIF(BDD!$BH$2:$BH$3,\"Banc 131VRAIFAUXFAUXFAUXVRAI\",BDD!$Z$2:$Z$3)","v":0},{"$f":"SUMIF(BDD!$BH$2:$BH$3,\"Banc 131FAUXVRAIVRAIFAUXFAUX\",BDD!$Z$2:$Z$3)","v":0},{"$f":"SUMIF(BDD!$BH$2:$BH$3,\"Banc 131FAUXVRAIFAUXVRAIFAUX\",BDD!$Z$2:$Z$3)","v":0},{"$f":"SUMIF(BDD!$BH$2:$BH$3,\"Banc 131FAUXVRAIFAUXFAUXVRAI\",BDD!$Z$2:$Z$3)","v":0},{"$f":"SUMIF(BDD!$BH$2:$BH$3,\"Banc 131VRAIFAUXVRAIFAUXFAUX\",BDD!$Z$2:$Z$3)","v":0},{"$f":"SUMIF(BDD!$BH$2:$BH$3,\"Banc 131VRAIFAUXFAUXVRAIFAUX\",BDD!$Z$2:$Z$3)","v":0},{"$f":"SUMIF(BDD!$BH$2:$BH$3,\"Banc 131VRAIFAUXFAUXFAUXVRAI\",BDD!$Z$2:$Z$3)","v":0},{"$f":"SUMIF(BDD!$BH$2:$BH$3,\"Banc 131FAUXVRAIVRAIFAUXFAUX\",BDD!$Z$2:$Z$3)","v":0},{"$f":"SUMIF(BDD!$BH$2:$BH$3,\"Banc 131FAUXVRAIFAUXVRAIFAUX\",BDD!$Z$2:$Z$3)","v":0},{"$f":"SUMIF(BDD!$BH$2:$BH$3,\"Banc 131FAUXVRAIFAUXFAUXVRAI\",BDD!$Z$2:$Z$3)","v":0},{"$f":"SUMIF(BDD!$BH$2:$BH$682,\"Banc 131VRAIFAUXVRAIFAUXFAUX\",BDD!$Z$2:$Z$682)","v":1.5},{"$f":"SUMIF(BDD!$BH$2:$BH$682,\"Banc 131VRAIFAUXFAUXVRAIFAUX\",BDD!$Z$2:$Z$682)","v":0},{"$f":"SUMIF(BDD!$BH$2:$BH$682,\"Banc 131VRAIFAUXFAUXFAUXVRAI\",BDD!$Z$2:$Z$682)","v":0},{"$f":"SUMIF(BDD!$BH$2:$BH$682,\"Banc 131FAUXVRAIVRAIFAUXFAUX\",BDD!$Z$2:$Z$682)","v":0.1},{"$f":"SUMIF(BDD!$BH$2:$BH$682,\"Banc 131FAUXVRAIFAUXVRAIFAUX\",BDD!$Z$2:$Z$682)","v":0},{"$f":"SUMIF(BDD!$BH$2:$BH$682,\"Banc 131FAUXVRAIFAUXFAUXVRAI\",BDD!$Z$2:$Z$682)","v":0},{"$f":"SUMIF(BDD!$BH$2:$BH$3,\"Banc 131VRAIFAUXVRAIFAUXFAUX\",BDD!$Z$2:$Z$3)","v":0},{"$f":"SUMIF(BDD!$BH$2:$BH$3,\"Banc 131VRAIFAUXFAUXVRAIFAUX\",BDD!$Z$2:$Z$3)","v":0},{"$f":"SUMIF(BDD!$BH$2:$BH$3,\"Banc 131VRAIFAUXFAUXFAUXVRAI\",BDD!$Z$2:$Z$3)","v":0},{"$f":"SUMIF(BDD!$BH$2:$BH$3,\"Banc 131FAUXVRAIVRAIFAUXFAUX\",BDD!$Z$2:$Z$3)","v":0},{"$f":"SUMIF(BDD!$BH$2:$BH$3,\"Banc 131FAUXVRAIFAUXVRAIFAUX\",BDD!$Z$2:$Z$3)","v":0},{"$f":"SUMIF(BDD!$BH$2:$BH$3,\"Banc 131FAUXVRAIFAUXFAUXVRAI\",BDD!$Z$2:$Z$3)","v":0},{"$f":"SUMIF(BDD!$BH$2:$BH$3,\"Banc 131VRAIFAUXVRAIFAUXFAUX\",BDD!$Z$2:$Z$3)","v":0},{"$f":"SUMIF(BDD!$BH$2:$BH$3,\"Banc 131VRAIFAUXFAUXVRAIFAUX\",BDD!$Z$2:$Z$3)","v":0},{"$f":"SUMIF(BDD!$BH$2:$BH$3,\"Banc 131VRAIFAUXFAUXFAUXVRAI\",BDD!$Z$2:$Z$3)","v":0},{"$f":"SUMIF(BDD!$BH$2:$BH$3,\"Banc 131FAUXVRAIVRAIFAUXFAUX\",BDD!$Z$2:$Z$3)","v":0},{"$f":"SUMIF(BDD!$BH$2:$BH$3,\"Banc 131FAUXVRAIFAUXVRAIFAUX\",BDD!$Z$2:$Z$3)","v":0},{"$f":"SUMIF(BDD!$BH$2:$BH$3,\"Banc 131FAUXVRAIFAUXFAUXVRAI\",BDD!$Z$2:$Z$3)","v":0},{"$f":"SUMIF(BDD!$BH$2:$BH$3,\"Banc 131VRAIFAUXVRAIFAUXFAUX\",BDD!$Z$2:$Z$3)","v":0},{"$f":"SUMIF(BDD!$BH$2:$BH$3,\"Banc 131VRAIFAUXFAUXVRAIFAUX\",BDD!$Z$2:$Z$3)","v":0},{"$f":"SUMIF(BDD!$BH$2:$BH$3,\"Banc 131VRAIFAUXFAUXFAUXVRAI\",BDD!$Z$2:$Z$3)","v":0},{"$f":"SUMIF(BDD!$BH$2:$BH$3,\"Banc 131FAUXVRAIVRAIFAUXFAUX\",BDD!$Z$2:$Z$3)","v":0},{"$f":"SUMIF(BDD!$BH$2:$BH$3,\"Banc 131FAUXVRAIFAUXVRAIFAUX\",BDD!$Z$2:$Z$3)","v":0},{"$f":"SUMIF(BDD!$BH$2:$BH$3,\"Banc 131FAUXVRAIFAUXFAUXVRAI\",BDD!$Z$2:$Z$3)","v":0},{"$f":"SUMIF(BDD!$BH$2:$BH$3,\"Banc 131VRAIFAUXVRAIFAUXFAUX\",BDD!$Z$2:$Z$3)","v":0},{"$f":"SUMIF(BDD!$BH$2:$BH$3,\"Banc 131VRAIFAUXFAUXVRAIFAUX\",BDD!$Z$2:$Z$3)","v":0},{"$f":"SUMIF(BDD!$BH$2:$BH$3,\"Banc 131VRAIFAUXFAUXFAUXVRAI\",BDD!$Z$2:$Z$3)","v":0},{"$f":"SUMIF(BDD!$BH$2:$BH$3,\"Banc 131FAUXVRAIVRAIFAUXFAUX\",BDD!$Z$2:$Z$3)","v":0},{"$f":"SUMIF(BDD!$BH$2:$BH$3,\"Banc 131FAUXVRAIFAUXVRAIFAUX\",BDD!$Z$2:$Z$3)","v":0},{"$f":"SUMIF(BDD!$BH$2:$BH$3,\"Banc 131FAUXVRAIFAUXFAUXVRAI\",BDD!$Z$2:$Z$3)","v":0},{"$f":"SUMIF(BDD!$BH$2:$BH$3,\"Banc 131VRAIFAUXVRAIFAUXFAUX\",BDD!$Z$2:$Z$3)","v":0},{"$f":"SUMIF(BDD!$BH$2:$BH$3,\"Banc 131VRAIFAUXFAUXVRAIFAUX\",BDD!$Z$2:$Z$3)","v":0},{"$f":"SUMIF(BDD!$BH$2:$BH$3,\"Banc 131VRAIFAUXFAUXFAUXVRAI\",BDD!$Z$2:$Z$3)","v":0},{"$f":"SUMIF(BDD!$BH$2:$BH$3,\"Banc 131FAUXVRAIVRAIFAUXFAUX\",BDD!$Z$2:$Z$3)","v":0},{"$f":"SUMIF(BDD!$BH$2:$BH$3,\"Banc 131FAUXVRAIFAUXVRAIFAUX\",BDD!$Z$2:$Z$3)","v":0},{"$f":"SUMIF(BDD!$BH$2:$BH$3,\"Banc 131FAUXVRAIFAUXFAUXVRAI\",BDD!$Z$2:$Z$3)","v":0},{"$f":"SUMIF(BDD!$BH$2:$BH$3,\"Banc 131VRAIFAUXVRAIFAUXFAUX\",BDD!$Z$2:$Z$3)","v":0},{"$f":"SUMIF(BDD!$BH$2:$BH$3,\"Banc 131VRAIFAUXFAUXVRAIFAUX\",BDD!$Z$2:$Z$3)","v":0},{"$f":"SUMIF(BDD!$BH$2:$BH$3,\"Banc 131VRAIFAUXFAUXFAUXVRAI\",BDD!$Z$2:$Z$3)","v":0},{"$f":"SUMIF(BDD!$BH$2:$BH$3,\"Banc 131FAUXVRAIVRAIFAUXFAUX\",BDD!$Z$2:$Z$3)","v":0},{"$f":"SUMIF(BDD!$BH$2:$BH$3,\"Banc 131FAUXVRAIFAUXVRAIFAUX\",BDD!$Z$2:$Z$3)","v":0},{"$f":"SUMIF(BDD!$BH$2:$BH$3,\"Banc 131FAUXVRAIFAUXFAUXVRAI\",BDD!$Z$2:$Z$3)","v":0},{"$f":"SUMIF(BDD!$BH$2:$BH$3,\"Banc 131VRAIFAUXVRAIFAUXFAUX\",BDD!$Z$2:$Z$3)","v":0},{"$f":"SUMIF(BDD!$BH$2:$BH$3,\"Banc 131VRAIFAUXFAUXVRAIFAUX\",BDD!$Z$2:$Z$3)","v":0},{"$f":"SUMIF(BDD!$BH$2:$BH$3,\"Banc 131VRAIFAUXFAUXFAUXVRAI\",BDD!$Z$2:$Z$3)","v":0},{"$f":"SUMIF(BDD!$BH$2:$BH$3,\"Banc 131FAUXVRAIVRAIFAUXFAUX\",BDD!$Z$2:$Z$3)","v":0},{"$f":"SUMIF(BDD!$BH$2:$BH$3,\"Banc 131FAUXVRAIFAUXVRAIFAUX\",BDD!$Z$2:$Z$3)","v":0},{"$f":"SUMIF(BDD!$BH$2:$BH$3,\"Banc 131FAUXVRAIFAUXFAUXVRAI\",BDD!$Z$2:$Z$3)","v":0},{"$f":"SUMIF(BDD!$BH$2:$BH$3,\"Banc 131VRAIFAUXVRAIFAUXFAUX\",BDD!$Z$2:$Z$3)","v":0},{"$f":"SUMIF(BDD!$BH$2:$BH$3,\"Banc 131VRAIFAUXFAUXVRAIFAUX\",BDD!$Z$2:$Z$3)","v":0},{"$f":"SUMIF(BDD!$BH$2:$BH$3,\"Banc 131VRAIFAUXFAUXFAUXVRAI\",BDD!$Z$2:$Z$3)","v":0},{"$f":"SUMIF(BDD!$BH$2:$BH$3,\"Banc 131FAUXVRAIVRAIFAUXFAUX\",BDD!$Z$2:$Z$3)","v":0},{"$f":"SUMIF(BDD!$BH$2:$BH$3,\"Banc 131FAUXVRAIFAUXVRAIFAUX\",BDD!$Z$2:$Z$3)","v":0},{"$f":"SUMIF(BDD!$BH$2:$BH$3,\"Banc 131FAUXVRAIFAUXFAUXVRAI\",BDD!$Z$2:$Z$3)","v":0},{"$f":"SUMIF(BDD!$BH$2:$BH$3,\"Banc 131VRAIFAUXVRAIFAUXFAUX\",BDD!$Z$2:$Z$3)","v":0},{"$f":"SUMIF(BDD!$BH$2:$BH$3,\"Banc 131VRAIFAUXFAUXVRAIFAUX\",BDD!$Z$2:$Z$3)","v":0},{"$f":"SUMIF(BDD!$BH$2:$BH$3,\"Banc 131VRAIFAUXFAUXFAUXVRAI\",BDD!$Z$2:$Z$3)","v":0},{"$f":"SUMIF(BDD!$BH$2:$BH$3,\"Banc 131FAUXVRAIVRAIFAUXFAUX\",BDD!$Z$2:$Z$3)","v":0},{"$f":"SUMIF(BDD!$BH$2:$BH$3,\"Banc 131FAUXVRAIFAUXVRAIFAUX\",BDD!$Z$2:$Z$3)","v":0},{"$f":"SUMIF(BDD!$BH$2:$BH$3,\"Banc 131FAUXVRAIFAUXFAUXVRAI\",BDD!$Z$2:$Z$3)","v":0}]
["Banc 008",{"$f":"SUMIF(BDD!$BH$2:$BH$3,\"Banc 008VRAIFAUXVRAIFAUXFAUX\",BDD!$Z$2:$Z$3)","v":0},{"$f":"SUMIF(BDD!$BH$2:$BH$3,\"Banc 008VRAIFAUXFAUXVRAIFAUX\",BDD!$Z$2:$Z$3)","v":0},{"$f":"SUMIF(BDD!$BH$2:$BH$3,\"Banc 008VRAIFAUXFAUXFAUXVRAI\",BDD!$Z$2:$Z$3)","v":0},{"$f":"SUMIF(BDD!$BH$2:$BH$3,\"Banc 008FAUXVRAIVRAIFAUXFAUX\",BDD!$Z$2:$Z$3)","v":0},{"$f":"SUMIF(BDD!$BH$2:$BH$3,\"Banc 008FAUXVRAIFAUXVRAIFAUX\",BDD!$Z$2:$Z$3)","v":0},{"$f":"SUMIF(BDD!$BH$2:$BH$3,\"Banc 008FAUXVRAIFAUXFAUXVRAI\",BDD!$Z$2:$Z$3)","v":0},{"$f":"SUMIF(BDD!$BH$2:$BH$3,\"Banc 008VRAIFAUXVRAIFAUXFAUX\",BDD!$Z$2:$Z$3)","v":0},{"$f":"SUMIF(BDD!$BH$2:$BH$3,\"Banc 008VRAIFAUXFAUXVRAIFAUX\",BDD!$Z$2:$Z$3)","v":0},{"$f":"SUMIF(BDD!$BH$2:$BH$3,\"Banc 008VRAIFAUXFAUXFAUXVRAI\",BDD!$Z$2:$Z$3)","v":0},{"$f":"SUMIF(BDD!$BH$2:$BH$3,\"Banc 008FAUXVRAIVRAIFAUXFAUX\",BDD!$Z$2:$Z$3)","v":0},{"$f":"SUMIF(BDD!$BH$2:$BH$3,\"Banc 008FAUXVRAIFAUXVRAIFAUX\",BDD!$Z$2:$Z$3)","v":0},{"$f":"SUMIF(BDD!$BH$2:$BH$3,\"Banc 008FAUXVRAIFAUXFAUXVRAI\",BDD!$Z$2:$Z$3)","v":0},{"$f":"SUMIF(BDD!$BH$2:$BH$682,\"Banc 008VRAIFAUXVRAIFAUXFAUX\",BDD!$Z$2:$Z$682)","v":0.1},{"$f":"SUMIF(BDD!$BH$2:$BH$682,\"Banc 008VRAIFAUXFAUXVRAIFAUX\",BDD!$Z$2:$Z$682)","v":0},{"$f":"SUMIF(BDD!$BH$2:$BH$682,\"Banc 008VRAIFAUXFAUXFAUXVRAI\",BDD!$Z$2:$Z$682)","v":0},{"$f":"SUMIF(BDD!$BH$2:$BH$682,\"Banc 008FAUXVRAIVRAIFAUXFAUX\",BDD!$Z$2:$Z$682)","v":0},{"$f":"SUMIF(BDD!$BH$2:$BH$682,\"Banc 008FAUXVRAIFAUXVRAIFAUX\",BDD!$Z$2:$Z$682)","v":0},{"$f":"SUMIF(BDD!$BH$2:$BH$682,\"Banc 008FAUXVRAIFAUXFAUXVRAI\",BDD!$Z$2:$Z$682)","v":0.2},{"$f":"SUMIF(BDD!$BH$2:$BH$3,\"Banc 008VRAIFAUXVRAIFAUXFAUX\",BDD!$Z$2:$Z$3)","v":0},{"$f":"SUMIF(BDD!$BH$2:$BH$3,\"Banc 008VRAIFAUXFAUXVRAIFAUX\",BDD!$Z$2:$Z$3)","v":0},{"$f":"SUMIF(BDD!$BH$2:$BH$3,\"Banc 008VRAIFAUXFAUXFAUXVRAI\",BDD!$Z$2:$Z$3)","v":0},{"$f":"SUMIF(BDD!$BH$2:$BH$3,\"Banc 008FAUXVRAIVRAIFAUXFAUX\",BDD!$Z$2:$Z$3)","v":0},{"$f":"SUMIF(BDD!$BH$2:$BH$3,\"Banc 008FAUXVRAIFAUXVRAIFAUX\",BDD!$Z$2:$Z$3)","v":0},{"$f":"SUMIF(BDD!$BH$2:$BH$3,\"Banc 008FAUXVRAIFAUXFAUXVRAI\",BDD!$Z$2:$Z$3)","v":0},{"$f":"SUMIF(BDD!$BH$2:$BH$3,\"Banc 008VRAIFAUXVRAIFAUXFAUX\",BDD!$Z$2:$Z$3)","v":0},{"$f":"SUMIF(BDD!$BH$2:$BH$3,\"Banc 008VRAIFAUXFAUXVRAIFAUX\",BDD!$Z$2:$Z$3)","v":0},{"$f":"SUMIF(BDD!$BH$2:$BH$3,\"Banc 008VRAIFAUXFAUXFAUXVRAI\",BDD!$Z$2:$Z$3)","v":0},{"$f":"SUMIF(BDD!$BH$2:$BH$3,\"Banc 008FAUXVRAIVRAIFAUXFAUX\",BDD!$Z$2:$Z$3)","v":0},{"$f":"SUMIF(BDD!$BH$2:$BH$3,\"Banc 008FAUXVRAIFAUXVRAIFAUX\",BDD!$Z$2:$Z$3)","v":0},{"$f":"SUMIF(BDD!$BH$2:$BH$3,\"Banc 008FAUXVRAIFAUXFAUXVRAI\",BDD!$Z$2:$Z$3)","v":0},{"$f":"SUMIF(BDD!$BH$2:$BH$3,\"Banc 008VRAIFAUXVRAIFAUXFAUX\",BDD!$Z$2:$Z$3)","v":0},{"$f":"SUMIF(BDD!$BH$2:$BH$3,\"Banc 008VRAIFAUXFAUXVRAIFAUX\",BDD!$Z$2:$Z$3)","v":0},{"$f":"SUMIF(BDD!$BH$2:$BH$3,\"Banc 008VRAIFAUXFAUXFAUXVRAI\",BDD!$Z$2:$Z$3)","v":0},{"$f":"SUMIF(BDD!$BH$2:$BH$3,\"Banc 008FAUXVRAIVRAIFAUXFAUX\",BDD!$Z$2:$Z$3)","v":0},{"$f":"SUMIF(BDD!$BH$2:$BH$3,\"Banc 008FAUXVRAIFAUXVRAIFAUX\",BDD!$Z$2:$Z$3)","v":0},{"$f":"SUMIF(BDD!$BH$2:$BH$3,\"Banc 008FAUXVRAIFAUXFAUXVRAI\",BDD!$Z$2:$Z$3)","v":0},{"$f":"SUMIF(BDD!$BH$2:$BH$3,\"Banc 008VRAIFAUXVRAIFAUXFAUX\",BDD!$Z$2:$Z$3)","v":0},{"$f":"SUMIF(BDD!$BH$2:$BH$3,\"Banc 008VRAIFAUXFAUXVRAIFAUX\",BDD!$Z$2:$Z$3)","v":0},{"$f":"SUMIF(BDD!$BH$2:$BH$3,\"Banc 008VRAIFAUXFAUXFAUXVRAI\",BDD!$Z$2:$Z$3)","v":0},{"$f":"SUMIF(BDD!$BH$2:$BH$3,\"Banc 008FAUXVRAIVRAIFAUXFAUX\",BDD!$Z$2:$Z$3)","v":0},{"$f":"SUMIF(BDD!$BH$2:$BH$3,\"Banc 008FAUXVRAIFAUXVRAIFAUX\",BDD!$Z$2:$Z$3)","v":0},{"$f":"SUMIF(BDD!$BH$2:$BH$3,\"Banc 008FAUXVRAIFAUXFAUXVRAI\",BDD!$Z$2:$Z$3)","v":0},{"$f":"SUMIF(BDD!$BH$2:$BH$3,\"Banc 008VRAIFAUXVRAIFAUXFAUX\",BDD!$Z$2:$Z$3)","v":0},{"$f":"SUMIF(BDD!$BH$2:$BH$3,\"Banc 008VRAIFAUXFAUXVRAIFAUX\",BDD!$Z$2:$Z$3)","v":0},{"$f":"SUMIF(BDD!$BH$2:$BH$3,\"Banc 008VRAIFAUXFAUXFAUXVRAI\",BDD!$Z$2:$Z$3)","v":0},{"$f":"SUMIF(BDD!$BH$2:$BH$3,\"Banc 008FAUXVRAIVRAIFAUXFAUX\",BDD!$Z$2:$Z$3)","v":0},{"$f":"SUMIF(BDD!$BH$2:$BH$3,\"Banc 008FAUXVRAIFAUXVRAIFAUX\",BDD!$Z$2:$Z$3)","v":0},{"$f":"SUMIF(BDD!$BH$2:$BH$3,\"Banc 008FAUXVRAIFAUXFAUXVRAI\",BDD!$Z$2:$Z$3)","v":0},{"$f":"SUMIF(BDD!$BH$2:$BH$3,\"Banc 008VRAIFAUXVRAIFAUXFAUX\",BDD!$Z$2:$Z$3)","v":0},{"$f":"SUMIF(BDD!$BH$2:$BH$3,\"Banc 008VRAIFAUXFAUXVRAIFAUX\",BDD!$Z$2:$Z$3)","v":0},{"$f":"SUMIF(BDD!$BH$2:$BH$3,\"Banc 008VRAIFAUXFAUXFAUXVRAI\",BDD!$Z$2:$Z$3)","v":0},{"$f":"SUMIF(BDD!$BH$2:$BH$3,\"Banc 008FAUXVRAIVRAIFAUXFAUX\",BDD!$Z$2:$Z$3)","v":0},{"$f":"SUMIF(BDD!$BH$2:$BH$3,\"Banc 008FAUXVRAIFAUXVRAIFAUX\",BDD!$Z$2:$Z$3)","v":0},{"$f":"SUMIF(BDD!$BH$2:$BH$3,\"Banc 008FAUXVRAIFAUXFAUXVRAI\",BDD!$Z$2:$Z$3)","v":0},{"$f":"SUMIF(BDD!$BH$2:$BH$3,\"Banc 008VRAIFAUXVRAIFAUXFAUX\",BDD!$Z$2:$Z$3)","v":0},{"$f":"SUMIF(BDD!$BH$2:$BH$3,\"Banc 008VRAIFAUXFAUXVRAIFAUX\",BDD!$Z$2:$Z$3)","v":0},{"$f":"SUMIF(BDD!$BH$2:$BH$3,\"Banc 008VRAIFAUXFAUXFAUXVRAI\",BDD!$Z$2:$Z$3)","v":0},{"$f":"SUMIF(BDD!$BH$2:$BH$3,\"Banc 008FAUXVRAIVRAIFAUXFAUX\",BDD!$Z$2:$Z$3)","v":0},{"$f":"SUMIF(BDD!$BH$2:$BH$3,\"Banc 008FAUXVRAIFAUXVRAIFAUX\",BDD!$Z$2:$Z$3)","v":0},{"$f":"SUMIF(BDD!$BH$2:$BH$3,\"Banc 008FAUXVRAIFAUXFAUXVRAI\",BDD!$Z$2:$Z$3)","v":0},{"$f":"SUMIF(BDD!$BH$2:$BH$3,\"Banc 008VRAIFAUXVRAIFAUXFAUX\",BDD!$Z$2:$Z$3)","v":0},{"$f":"SUMIF(BDD!$BH$2:$BH$3,\"Banc 008VRAIFAUXFAUXVRAIFAUX\",BDD!$Z$2:$Z$3)","v":0},{"$f":"SUMIF(BDD!$BH$2:$BH$3,\"Banc 008VRAIFAUXFAUXFAUXVRAI\",BDD!$Z$2:$Z$3)","v":0},{"$f":"SUMIF(BDD!$BH$2:$BH$3,\"Banc 008FAUXVRAIVRAIFAUXFAUX\",BDD!$Z$2:$Z$3)","v":0},{"$f":"SUMIF(BDD!$BH$2:$BH$3,\"Banc 008FAUXVRAIFAUXVRAIFAUX\",BDD!$Z$2:$Z$3)","v":0},{"$f":"SUMIF(BDD!$BH$2:$BH$3,\"Banc 008FAUXVRAIFAUXFAUXVRAI\",BDD!$Z$2:$Z$3)","v":0},{"$f":"SUMIF(BDD!$BH$2:$BH$3,\"Banc 008VRAIFAUXVRAIFAUXFAUX\",BDD!$Z$2:$Z$3)","v":0},{"$f":"SUMIF(BDD!$BH$2:$BH$3,\"Banc 008VRAIFAUXFAUXVRAIFAUX\",BDD!$Z$2:$Z$3)","v":0},{"$f":"SUMIF(BDD!$BH$2:$BH$3,\"Banc 008VRAIFAUXFAUXFAUXVRAI\",BDD!$Z$2:$Z$3)","v":0},{"$f":"SUMIF(BDD!$BH$2:$BH$3,\"Banc 008FAUXVRAIVRAIFAUXFAUX\",BDD!$Z$2:$Z$3)","v":0},{"$f":"SUMIF(BDD!$BH$2:$BH$3,\"Banc 008FAUXVRAIFAUXVRAIFAUX\",BDD!$Z$2:$Z$3)","v":0},{"$f":"SUMIF(BDD!$BH$2:$BH$3,\"Banc 008FAUXVRAIFAUXFAUXVRAI\",BDD!$Z$2:$Z$3)","v":0}]
["Banc 113",{"$f":"SUMIF(BDD!$BH$2:$BH$3,\"Banc 113VRAIFAUXVRAIFAUXFAUX\",BDD!$Z$2:$Z$3)","v":0},{"$f":"SUMIF(BDD!$BH$2:$BH$3,\"Banc 113VRAIFAUXFAUXVRAIFAUX\",BDD!$Z$2:$Z$3)","v":0},{"$f":"SUMIF(BDD!$BH$2:$BH$3,\"Banc 113VRAIFAUXFAUXFAUXVRAI\",BDD!$Z$2:$Z$3)","v":0},{"$f":"SUMIF(BDD!$BH$2:$BH$3,\"Banc 113FAUXVRAIVRAIFAUXFAUX\",BDD!$Z$2:$Z$3)","v":0},{"$f":"SUMIF(BDD!$BH$2:$BH$3,\"Banc 113FAUXVRAIFAUXVRAIFAUX\",BDD!$Z$2:$Z$3)","v":0},{"$f":"SUMIF(BDD!$BH$2:$BH$3,\"Banc 113FAUXVRAIFAUXFAUXVRAI\",BDD!$Z$2:$Z$3)","v":0},{"$f":"SUMIF(BDD!$BH$2:$BH$3,\"Banc 113VRAIFAUXVRAIFAUXFAUX\",BDD!$Z$2:$Z$3)","v":0},{"$f":"SUMIF(BDD!$BH$2:$BH$3,\"Banc 113VRAIFAUXFAUXVRAIFAUX\",BDD!$Z$2:$Z$3)","v":0},{"$f":"SUMIF(BDD!$BH$2:$BH$3,\"Banc 113VRAIFAUXFAUXFAUXVRAI\",BDD!$Z$2:$Z$3)","v":0},{"$f":"SUMIF(BDD!$BH$2:$BH$3,\"Banc 113FAUXVRAIVRAIFAUXFAUX\",BDD!$Z$2:$Z$3)","v":0},{"$f":"SUMIF(BDD!$BH$2:$BH$3,\"Banc 113FAUXVRAIFAUXVRAIFAUX\",BDD!$Z$2:$Z$3)","v":0},{"$f":"SUMIF(BDD!$BH$2:$BH$3,\"Banc 113FAUXVRAIFAUXFAUXVRAI\",BDD!$Z$2:$Z$3)","v":0},{"$f":"SUMIF(BDD!$BH$2:$BH$682,\"Banc 113VRAIFAUXVRAIFAUXFAUX\",BDD!$Z$2:$Z$682)","v":0},{"$f":"SUMIF(BDD!$BH$2:$BH$682,\"Banc 113VRAIFAUXFAUXVRAIFAUX\",BDD!$Z$2:$Z$682)","v":0},{"$f":"SUMIF(BDD!$BH$2:$BH$682,\"Banc 113VRAIFAUXFAUXFAUXVRAI\",BDD!$Z$2:$Z$682)","v":0},{"$f":"SUMIF(BDD!$BH$2:$BH$682,\"Banc 113FAUXVRAIVRAIFAUXFAUX\",BDD!$Z$2:$Z$682)","v":0},{"$f":"SUMIF(BDD!$BH$2:$BH$682,\"Banc 113FAUXVRAIFAUXVRAIFAUX\",BDD!$Z$2:$Z$682)","v":0},{"$f":"SUMIF(BDD!$BH$2:$BH$682,\"Banc 113FAUXVRAIFAUXFAUXVRAI\",BDD!$Z$2:$Z$682)","v":0.5},{"$f":"SUMIF(BDD!$BH$2:$BH$3,\"Banc 113VRAIFAUXVRAIFAUXFAUX\",BDD!$Z$2:$Z$3)","v":0},{"$f":"SUMIF(BDD!$BH$2:$BH$3,\"Banc 113VRAIFAUXFAUXVRAIFAUX\",BDD!$Z$2:$Z$3)","v":0},{"$f":"SUMIF(BDD!$BH$2:$BH$3,\"Banc 113VRAIFAUXFAUXFAUXVRAI\",BDD!$Z$2:$Z$3)","v":0},{"$f":"SUMIF(BDD!$BH$2:$BH$3,\"Banc 113FAUXVRAIVRAIFAUXFAUX\",BDD!$Z$2:$Z$3)","v":0},{"$f":"SUMIF(BDD!$BH$2:$BH$3,\"Banc 113FAUXVRAIFAUXVRAIFAUX\",BDD!$Z$2:$Z$3)","v":0},{"$f":"SUMIF(BDD!$BH$2:$BH$3,\"Banc 113FAUXVRAIFAUXFAUXVRAI\",BDD!$Z$2:$Z$3)","v":0},{"$f":"SUMIF(BDD!$BH$2:$BH$3,\"Banc 113VRAIFAUXVRAIFAUXFAUX\",BDD!$Z$2:$Z$3)","v":0},{"$f":"SUMIF(BDD!$BH$2:$BH$3,\"Banc 113VRAIFAUXFAUXVRAIFAUX\",BDD!$Z$2:$Z$3)","v":0},{"$f":"SUMIF(BDD!$BH$2:$BH$3,\"Banc 113VRAIFAUXFAUXFAUXVRAI\",BDD!$Z$2:$Z$3)","v":0},{"$f":"SUMIF(BDD!$BH$2:$BH$3,\"Banc 113FAUXVRAIVRAIFAUXFAUX\",BDD!$Z$2:$Z$3)","v":0},{"$f":"SUMIF(BDD!$BH$2:$BH$3,\"Banc 113FAUXVRAIFAUXVRAIFAUX\",BDD!$Z$2:$Z$3)","v":0},{"$f":"SUMIF(BDD!$BH$2:$BH$3,\"Banc 113FAUXVRAIFAUXFAUXVRAI\",BDD!$Z$2:$Z$3)","v":0},{"$f":"SUMIF(BDD!$BH$2:$BH$3,\"Banc 113VRAIFAUXVRAIFAUXFAUX\",BDD!$Z$2:$Z$3)","v":0},{"$f":"SUMIF(BDD!$BH$2:$BH$3,\"Banc 113VRAIFAUXFAUXVRAIFAUX\",BDD!$Z$2:$Z$3)","v":0},{"$f":"SUMIF(BDD!$BH$2:$BH$3,\"Banc 113VRAIFAUXFAUXFAUXVRAI\",BDD!$Z$2:$Z$3)","v":0},{"$f":"SUMIF(BDD!$BH$2:$BH$3,\"Banc 113FAUXVRAIVRAIFAUXFAUX\",BDD!$Z$2:$Z$3)","v":0},{"$f":"SUMIF(BDD!$BH$2:$BH$3,\"Banc 113FAUXVRAIFAUXVRAIFAUX\",BDD!$Z$2:$Z$3)","v":0},{"$f":"SUMIF(BDD!$BH$2:$BH$3,\"Banc 113FAUXVRAIFAUXFAUXVRAI\",BDD!$Z$2:$Z$3)","v":0},{"$f":"SUMIF(BDD!$BH$2:$BH$3,\"Banc 113VRAIFAUXVRAIFAUXFAUX\",BDD!$Z$2:$Z$3)","v":0},{"$f":"SUMIF(BDD!$BH$2:$BH$3,\"Banc 113VRAIFAUXFAUXVRAIFAUX\",BDD!$Z$2:$Z$3)","v":0},{"$f":"SUMIF(BDD!$BH$2:$BH$3,\"Banc 113VRAIFAUXFAUXFAUXVRAI\",BDD!$Z$2:$Z$3)","v":0},{"$f":"SUMIF(BDD!$BH$2:$BH$3,\"Banc 113FAUXVRAIVRAIFAUXFAUX\",BDD!$Z$2:$Z$3)","v":0},{"$f":"SUMIF(BDD!$BH$2:$BH$3,\"Banc 113FAUXVRAIFAUXVRAIFAUX\",BDD!$Z$2:$Z$3)","v":0},{"$f":"SUMIF(BDD!$BH$2:$BH$3,\"Banc 113FAUXVRAIFAUXFAUXVRAI\",BDD!$Z$2:$Z$3)","v":0},{"$f":"SUMIF(BDD!$BH$2:$BH$3,\"Banc 113VRAIFAUXVRAIFAUXFAUX\",BDD!$Z$2:$Z$3)","v":0},{"$f":"SUMIF(BDD!$BH$2:$BH$3,\"Banc 113VRAIFAUXFAUXVRAIFAUX\",BDD!$Z$2:$Z$3)","v":0},{"$f":"SUMIF(BDD!$BH$2:$BH$3,\"Banc 113VRAIFAUXFAUXFAUXVRAI\",BDD!$Z$2:$Z$3)","v":0},{"$f":"SUMIF(BDD!$BH$2:$BH$3,\"Banc 113FAUXVRAIVRAIFAUXFAUX\",BDD!$Z$2:$Z$3)","v":0},{"$f":"SUMIF(BDD!$BH$2:$BH$3,\"Banc 113FAUXVRAIFAUXVRAIFAUX\",BDD!$Z$2:$Z$3)","v":0},{"$f":"SUMIF(BDD!$BH$2:$BH$3,\"Banc 113FAUXVRAIFAUXFAUXVRAI\",BDD!$Z$2:$Z$3)","v":0},{"$f":"SUMIF(BDD!$BH$2:$BH$3,\"Banc 113VRAIFAUXVRAIFAUXFAUX\",BDD!$Z$2:$Z$3)","v":0},{"$f":"SUMIF(BDD!$BH$2:$BH$3,\"Banc 113VRAIFAUXFAUXVRAIFAUX\",BDD!$Z$2:$Z$3)","v":0},{"$f":"SUMIF(BDD!$BH$2:$BH$3,\"Banc 113VRAIFAUXFAUXFAUXVRAI\",BDD!$Z$2:$Z$3)","v":0},{"$f":"SUMIF(BDD!$BH$2:$BH$3,\"Banc 113FAUXVRAIVRAIFAUXFAUX\",BDD!$Z$2:$Z$3)","v":0},{"$f":"SUMIF(BDD!$BH$2:$BH$3,\"Banc 113FAUXVRAIFAUXVRAIFAUX\",BDD!$Z$2:$Z$3)","v":0},{"$f":"SUMIF(BDD!$BH$2:$BH$3,\"Banc 113FAUXVRAIFAUXFAUXVRAI\",BDD!$Z$2:$Z$3)","v":0},{"$f":"SUMIF(BDD!$BH$2:$BH$3,\"Banc 113VRAIFAUXVRAIFAUXFAUX\",BDD!$Z$2:$Z$3)","v":0},{"$f":"SUMIF(BDD!$BH$2:$BH$3,\"Banc 113VRAIFAUXFAUXVRAIFAUX\",BDD!$Z$2:$Z$3)","v":0},{"$f":"SUMIF(BDD!$BH$2:$BH$3,\"Banc 113VRAIFAUXFAUXFAUXVRAI\",BDD!$Z$2:$Z$3)","v":0},{"$f":"SUMIF(BDD!$BH$2:$BH$3,\"Banc 113FAUXVRAIVRAIFAUXFAUX\",BDD!$Z$2:$Z$3)","v":0},{"$f":"SUMIF(BDD!$BH$2:$BH$3,\"Banc 113FAUXVRAIFAUXVRAIFAUX\",BDD!$Z$2:$Z$3)","v":0},{"$f":"SUMIF(BDD!$BH$2:$BH$3,\"Banc 113FAUXVRAIFAUXFAUXVRAI\",BDD!$Z$2:$Z$3)","v":0},{"$f":"SUMIF(BDD!$BH$2:$BH$3,\"Banc 113VRAIFAUXVRAIFAUXFAUX\",BDD!$Z$2:$Z$3)","v":0},{"$f":"SUMIF(BDD!$BH$2:$BH$3,\"Banc 113VRAIFAUXFAUXVRAIFAUX\",BDD!$Z$2:$Z$3)","v":0},{"$f":"SUMIF(BDD!$BH$2:$BH$3,\"Banc 113VRAIFAUXFAUXFAUXVRAI\",BDD!$Z$2:$Z$3)","v":0},{"$f":"SUMIF(BDD!$BH$2:$BH$3,\"Banc 113FAUXVRAIVRAIFAUXFAUX\",BDD!$Z$2:$Z$3)","v":0},{"$f":"SUMIF(BDD!$BH$2:$BH$3,\"Banc 113FAUXVRAIFAUXVRAIFAUX\",BDD!$Z$2:$Z$3)","v":0},{"$f":"SUMIF(BDD!$BH$2:$BH$3,\"Banc 113FAUXVRAIFAUXFAUXVRAI\",BDD!$Z$2:$Z$3)","v":0},{"$f":"SUMIF(BDD!$BH$2:$BH$3,\"Banc 113VRAIFAUXVRAIFAUXFAUX\",BDD!$Z$2:$Z$3)","v":0},{"$f":"SUMIF(BDD!$BH$2:$BH$3,\"Banc 113VRAIFAUXFAUXVRAIFAUX\",BDD!$Z$2:$Z$3)","v":0},{"$f":"SUMIF(BDD!$BH$2:$BH$3,\"Banc 113VRAIFAUXFAUXFAUXVRAI\",BDD!$Z$2:$Z$3)","v":0},{"$f":"SUMIF(BDD!$BH$2:$BH$3,\"Banc 113FAUXVRAIVRAIFAUXFAUX\",BDD!$Z$2:$Z$3)","v":0},{"$f":"SUMIF(BDD!$BH$2:$BH$3,\"Banc 113FAUXVRAIFAUXVRAIFAUX\",BDD!$Z$2:$Z$3)","v":0},{"$f":"SUMIF(BDD!$BH$2:$BH$3,\"Banc 113FAUXVRAIFAUXFAUXVRAI\",BDD!$Z$2:$Z$3)","v":0}]
["Banc 115",{"$f":"SUMIF(BDD!$BH$2:$BH$3,\"Banc 115VRAIFAUXVRAIFAUXFAUX\",BDD!$Z$2:$Z$3)","v":0},{"$f":"SUMIF(BDD!$BH$2:$BH$3,\"Banc 115VRAIFAUXFAUXVRAIFAUX\",BDD!$Z$2:$Z$3)","v":0},{"$f":"SUMIF(BDD!$BH$2:$BH$3,\"Banc 115VRAIFAUXFAUXFAUXVRAI\",BDD!$Z$2:$Z$3)","v":0},{"$f":"SUMIF(BDD!$BH$2:$BH$3,\"Banc 115FAUXVRAIVRAIFAUXFAUX\",BDD!$Z$2:$Z$3)","v":0},{"$f":"SUMIF(BDD!$BH$2:$BH$3,\"Banc 115FAUXVRAIFAUXVRAIFAUX\",BDD!$Z$2:$Z$3)","v":0},{"$f":"SUMIF(BDD!$BH$2:$BH$3,\"Banc 115FAUXVRAIFAUXFAUXVRAI\",BDD!$Z$2:$Z$3)","v":0},{"$f":"SUMIF(BDD!$BH$2:$BH$3,\"Banc 115VRAIFAUXVRAIFAUXFAUX\",BDD!$Z$2:$Z$3)","v":0},{"$f":"SUMIF(BDD!$BH$2:$BH$3,\"Banc 115VRAIFAUXFAUXVRAIFAUX\",BDD!$Z$2:$Z$3)","v":0},{"$f":"SUMIF(BDD!$BH$2:$BH$3,\"Banc 115VRAIFAUXFAUXFAUXVRAI\",BDD!$Z$2:$Z$3)","v":0},{"$f":"SUMIF(BDD!$BH$2:$BH$3,\"Banc 115FAUXVRAIVRAIFAUXFAUX\",BDD!$Z$2:$Z$3)","v":0},{"$f":"SUMIF(BDD!$BH$2:$BH$3,\"Banc 115FAUXVRAIFAUXVRAIFAUX\",BDD!$Z$2:$Z$3)","v":0},{"$f":"SUMIF(BDD!$BH$2:$BH$3,\"Banc 115FAUXVRAIFAUXFAUXVRAI\",BDD!$Z$2:$Z$3)","v":0},{"$f":"SUMIF(BDD!$BH$2:$BH$682,\"Banc 115VRAIFAUXVRAIFAUXFAUX\",BDD!$Z$2:$Z$682)","v":0},{"$f":"SUMIF(BDD!$BH$2:$BH$682,\"Banc 115VRAIFAUXFAUXVRAIFAUX\",BDD!$Z$2:$Z$682)","v":0},{"$f":"SUMIF(BDD!$BH$2:$BH$682,\"Banc 115VRAIFAUXFAUXFAUXVRAI\",BDD!$Z$2:$Z$682)","v":0},{"$f":"SUMIF(BDD!$BH$2:$BH$682,\"Banc 115FAUXVRAIVRAIFAUXFAUX\",BDD!$Z$2:$Z$682)","v":0},{"$f":"SUMIF(BDD!$BH$2:$BH$682,\"Banc 115FAUXVRAIFAUXVRAIFAUX\",BDD!$Z$2:$Z$682)","v":0},{"$f":"SUMIF(BDD!$BH$2:$BH$682,\"Banc 115FAUXVRAIFAUXFAUXVRAI\",BDD!$Z$2:$Z$682)","v":0.1},{"$f":"SUMIF(BDD!$BH$2:$BH$3,\"Banc 115VRAIFAUXVRAIFAUXFAUX\",BDD!$Z$2:$Z$3)","v":0},{"$f":"SUMIF(BDD!$BH$2:$BH$3,\"Banc 115VRAIFAUXFAUXVRAIFAUX\",BDD!$Z$2:$Z$3)","v":0},{"$f":"SUMIF(BDD!$BH$2:$BH$3,\"Banc 115VRAIFAUXFAUXFAUXVRAI\",BDD!$Z$2:$Z$3)","v":0},{"$f":"SUMIF(BDD!$BH$2:$BH$3,\"Banc 115FAUXVRAIVRAIFAUXFAUX\",BDD!$Z$2:$Z$3)","v":0},{"$f":"SUMIF(BDD!$BH$2:$BH$3,\"Banc 115FAUXVRAIFAUXVRAIFAUX\",BDD!$Z$2:$Z$3)","v":0},{"$f":"SUMIF(BDD!$BH$2:$BH$3,\"Banc 115FAUXVRAIFAUXFAUXVRAI\",BDD!$Z$2:$Z$3)","v":0},{"$f":"SUMIF(BDD!$BH$2:$BH$3,\"Banc 115VRAIFAUXVRAIFAUXFAUX\",BDD!$Z$2:$Z$3)","v":0},{"$f":"SUMIF(BDD!$BH$2:$BH$3,\"Banc 115VRAIFAUXFAUXVRAIFAUX\",BDD!$Z$2:$Z$3)","v":0},{"$f":"SUMIF(BDD!$BH$2:$BH$3,\"Banc 115VRAIFAUXFAUXFAUXVRAI\",BDD!$Z$2:$Z$3)","v":0},{"$f":"SUMIF(BDD!$BH$2:$BH$3,\"Banc 115FAUXVRAIVRAIFAUXFAUX\",BDD!$Z$2:$Z$3)","v":0},{"$f":"SUMIF(BDD!$BH$2:$BH$3,\"Banc 115FAUXVRAIFAUXVRAIFAUX\",BDD!$Z$2:$Z$3)","v":0},{"$f":"SUMIF(BDD!$BH$2:$BH$3,\"Banc 115FAUXVRAIFAUXFAUXVRAI\",BDD!$Z$2:$Z$3)","v":0},{"$f":"SUMIF(BDD!$BH$2:$BH$3,\"Banc 115VRAIFAUXVRAIFAUXFAUX\",BDD!$Z$2:$Z$3)","v":0},{"$f":"SUMIF(BDD!$BH$2:$BH$3,\"Banc 115VRAIFAUXFAUXVRAIFAUX\",BDD!$Z$2:$Z$3)","v":0},{"$f":"SUMIF(BDD!$BH$2:$BH$3,\"Banc 115VRAIFAUXFAUXFAUXVRAI\",BDD!$Z$2:$Z$3)","v":0},{"$f":"SUMIF(BDD!$BH$2:$BH$3,\"Banc 115FAUXVRAIVRAIFAUXFAUX\",BDD!$Z$2:$Z$3)","v":0},{"$f":"SUMIF(BDD!$BH$2:$BH$3,\"Banc 115FAUXVRAIFAUXVRAIFAUX\",BDD!$Z$2:$Z$3)","v":0},{"$f":"SUMIF(BDD!$BH$2:$BH$3,\"Banc 115FAUXVRAIFAUXFAUXVRAI\",BDD!$Z$2:$Z$3)","v":0},{"$f":"SUMIF(BDD!$BH$2:$BH$3,\"Banc 115VRAIFAUXVRAIFAUXFAUX\",BDD!$Z$2:$Z$3)","v":0},{"$f":"SUMIF(BDD!$BH$2:$BH$3,\"Banc 115VRAIFAUXFAUXVRAIFAUX\",BDD!$Z$2:$Z$3)","v":0},{"$f":"SUMIF(BDD!$BH$2:$BH$3,\"Banc 115VRAIFAUXFAUXFAUXVRAI\",BDD!$Z$2:$Z$3)","v":0},{"$f":"SUMIF(BDD!$BH$2:$BH$3,\"Banc 115FAUXVRAIVRAIFAUXFAUX\",BDD!$Z$2:$Z$3)","v":0},{"$f":"SUMIF(BDD!$BH$2:$BH$3,\"Banc 115FAUXVRAIFAUXVRAIFAUX\",BDD!$Z$2:$Z$3)","v":0},{"$f":"SUMIF(BDD!$BH$2:$BH$3,\"Banc 115FAUXVRAIFAUXFAUXVRAI\",BDD!$Z$2:$Z$3)","v":0},{"$f":"SUMIF(BDD!$BH$2:$BH$3,\"Banc 115VRAIFAUXVRAIFAUXFAUX\",BDD!$Z$2:$Z$3)","v":0},{"$f":"SUMIF(BDD!$BH$2:$BH$3,\"Banc 115VRAIFAUXFAUXVRAIFAUX\",BDD!$Z$2:$Z$3)","v":0},{"$f":"SUMIF(BDD!$BH$2:$BH$3,\"Banc 115VRAIFAUXFAUXFAUXVRAI\",BDD!$Z$2:$Z$3)","v":0},{"$f":"SUMIF(BDD!$BH$2:$BH$3,\"Banc 115FAUXVRAIVRAIFAUXFAUX\",BDD!$Z$2:$Z$3)","v":0},{"$f":"SUMIF(BDD!$BH$2:$BH$3,\"Banc 115FAUXVRAIFAUXVRAIFAUX\",BDD!$Z$2:$Z$3)","v":0},{"$f":"SUMIF(BDD!$BH$2:$BH$3,\"Banc 115FAUXVRAIFAUXFAUXVRAI\",BDD!$Z$2:$Z$3)","v":0},{"$f":"SUMIF(BDD!$BH$2:$BH$3,\"Banc 115VRAIFAUXVRAIFAUXFAUX\",BDD!$Z$2:$Z$3)","v":0},{"$f":"SUMIF(BDD!$BH$2:$BH$3,\"Banc 115VRAIFAUXFAUXVRAIFAUX\",BDD!$Z$2:$Z$3)","v":0},{"$f":"SUMIF(BDD!$BH$2:$BH$3,\"Banc 115VRAIFAUXFAUXFAUXVRAI\",BDD!$Z$2:$Z$3)","v":0},{"$f":"SUMIF(BDD!$BH$2:$BH$3,\"Banc 115FAUXVRAIVRAIFAUXFAUX\",BDD!$Z$2:$Z$3)","v":0},{"$f":"SUMIF(BDD!$BH$2:$BH$3,\"Banc 115FAUXVRAIFAUXVRAIFAUX\",BDD!$Z$2:$Z$3)","v":0},{"$f":"SUMIF(BDD!$BH$2:$BH$3,\"Banc 115FAUXVRAIFAUXFAUXVRAI\",BDD!$Z$2:$Z$3)","v":0},{"$f":"SUMIF(BDD!$BH$2:$BH$3,\"Banc 115VRAIFAUXVRAIFAUXFAUX\",BDD!$Z$2:$Z$3)","v":0},{"$f":"SUMIF(BDD!$BH$2:$BH$3,\"Banc 115VRAIFAUXFAUXVRAIFAUX\",BDD!$Z$2:$Z$3)","v":0},{"$f":"SUMIF(BDD!$BH$2:$BH$3,\"Banc 115VRAIFAUXFAUXFAUXVRAI\",BDD!$Z$2:$Z$3)","v":0},{"$f":"SUMIF(BDD!$BH$2:$BH$3,\"Banc 115FAUXVRAIVRAIFAUXFAUX\",BDD!$Z$2:$Z$3)","v":0},{"$f":"SUMIF(BDD!$BH$2:$BH$3,\"Banc 115FAUXVRAIFAUXVRAIFAUX\",BDD!$Z$2:$Z$3)","v":0},{"$f":"SUMIF(BDD!$BH$2:$BH$3,\"Banc 115FAUXVRAIFAUXFAUXVRAI\",BDD!$Z$2:$Z$3)","v":0},{"$f":"SUMIF(BDD!$BH$2:$BH$3,\"Banc 115VRAIFAUXVRAIFAUXFAUX\",BDD!$Z$2:$Z$3)","v":0},{"$f":"SUMIF(BDD!$BH$2:$BH$3,\"Banc 115VRAIFAUXFAUXVRAIFAUX\",BDD!$Z$2:$Z$3)","v":0},{"$f":"SUMIF(BDD!$BH$2:$BH$3,\"Banc 115VRAIFAUXFAUXFAUXVRAI\",BDD!$Z$2:$Z$3)","v":0},{"$f":"SUMIF(BDD!$BH$2:$BH$3,\"Banc 115FAUXVRAIVRAIFAUXFAUX\",BDD!$Z$2:$Z$3)","v":0},{"$f":"SUMIF(BDD!$BH$2:$BH$3,\"Banc 115FAUXVRAIFAUXVRAIFAUX\",BDD!$Z$2:$Z$3)","v":0},{"$f":"SUMIF(BDD!$BH$2:$BH$3,\"Banc 115FAUXVRAIFAUXFAUXVRAI\",BDD!$Z$2:$Z$3)","v":0},{"$f":"SUMIF(BDD!$BH$2:$BH$3,\"Banc 115VRAIFAUXVRAIFAUXFAUX\",BDD!$Z$2:$Z$3)","v":0},{"$f":"SUMIF(BDD!$BH$2:$BH$3,\"Banc 115VRAIFAUXFAUXVRAIFAUX\",BDD!$Z$2:$Z$3)","v":0},{"$f":"SUMIF(BDD!$BH$2:$BH$3,\"Banc 115VRAIFAUXFAUXFAUXVRAI\",BDD!$Z$2:$Z$3)","v":0},{"$f":"SUMIF(BDD!$BH$2:$BH$3,\"Banc 115FAUXVRAIVRAIFAUXFAUX\",BDD!$Z$2:$Z$3)","v":0},{"$f":"SUMIF(BDD!$BH$2:$BH$3,\"Banc 115FAUXVRAIFAUXVRAIFAUX\",BDD!$Z$2:$Z$3)","v":0},{"$f":"SUMIF(BDD!$BH$2:$BH$3,\"Banc 115FAUXVRAIFAUXFAUXVRAI\",BDD!$Z$2:$Z$3)","v":0}]
["Banc 120",{"$f":"SUMIF(BDD!$BH$2:$BH$3,\"Banc 120VRAIFAUXVRAIFAUXFAUX\",BDD!$Z$2:$Z$3)","v":0},{"$f":"SUMIF(BDD!$BH$2:$BH$3,\"Banc 120VRAIFAUXFAUXVRAIFAUX\",BDD!$Z$2:$Z$3)","v":0},{"$f":"SUMIF(BDD!$BH$2:$BH$3,\"Banc 120VRAIFAUXFAUXFAUXVRAI\",BDD!$Z$2:$Z$3)","v":0},{"$f":"SUMIF(BDD!$BH$2:$BH$3,\"Banc 120FAUXVRAIVRAIFAUXFAUX\",BDD!$Z$2:$Z$3)","v":0},{"$f":"SUMIF(BDD!$BH$2:$BH$3,\"Banc 120FAUXVRAIFAUXVRAIFAUX\",BDD!$Z$2:$Z$3)","v":0},{"$f":"SUMIF(BDD!$BH$2:$BH$3,\"Banc 120FAUXVRAIFAUXFAUXVRAI\",BDD!$Z$2:$Z$3)","v":0},{"$f":"SUMIF(BDD!$BH$2:$BH$3,\"Banc 120VRAIFAUXVRAIFAUXFAUX\",BDD!$Z$2:$Z$3)","v":0},{"$f":"SUMIF(BDD!$BH$2:$BH$3,\"Banc 120VRAIFAUXFAUXVRAIFAUX\",BDD!$Z$2:$Z$3)","v":0},{"$f":"SUMIF(BDD!$BH$2:$BH$3,\"Banc 120VRAIFAUXFAUXFAUXVRAI\",BDD!$Z$2:$Z$3)","v":0},{"$f":"SUMIF(BDD!$BH$2:$BH$3,\"Banc 120FAUXVRAIVRAIFAUXFAUX\",BDD!$Z$2:$Z$3)","v":0},{"$f":"SUMIF(BDD!$BH$2:$BH$3,\"Banc 120FAUXVRAIFAUXVRAIFAUX\",BDD!$Z$2:$Z$3)","v":0},{"$f":"SUMIF(BDD!$BH$2:$BH$3,\"Banc 120FAUXVRAIFAUXFAUXVRAI\",BDD!$Z$2:$Z$3)","v":0},{"$f":"SUMIF(BDD!$BH$2:$BH$682,\"Banc 120VRAIFAUXVRAIFAUXFAUX\",BDD!$Z$2:$Z$682)","v":0},{"$f":"SUMIF(BDD!$BH$2:$BH$682,\"Banc 120VRAIFAUXFAUXVRAIFAUX\",BDD!$Z$2:$Z$682)","v":0},{"$f":"SUMIF(BDD!$BH$2:$BH$682,\"Banc 120VRAIFAUXFAUXFAUXVRAI\",BDD!$Z$2:$Z$682)","v":0},{"$f":"SUMIF(BDD!$BH$2:$BH$682,\"Banc 120FAUXVRAIVRAIFAUXFAUX\",BDD!$Z$2:$Z$682)","v":0},{"$f":"SUMIF(BDD!$BH$2:$BH$682,\"Banc 120FAUXVRAIFAUXVRAIFAUX\",BDD!$Z$2:$Z$682)","v":0},{"$f":"SUMIF(BDD!$BH$2:$BH$682,\"Banc 120FAUXVRAIFAUXFAUXVRAI\",BDD!$Z$2:$Z$682)","v":0.1},{"$f":"SUMIF(BDD!$BH$2:$BH$3,\"Banc 120VRAIFAUXVRAIFAUXFAUX\",BDD!$Z$2:$Z$3)","v":0},{"$f":"SUMIF(BDD!$BH$2:$BH$3,\"Banc 120VRAIFAUXFAUXVRAIFAUX\",BDD!$Z$2:$Z$3)","v":0},{"$f":"SUMIF(BDD!$BH$2:$BH$3,\"Banc 120VRAIFAUXFAUXFAUXVRAI\",BDD!$Z$2:$Z$3)","v":0},{"$f":"SUMIF(BDD!$BH$2:$BH$3,\"Banc 120FAUXVRAIVRAIFAUXFAUX\",BDD!$Z$2:$Z$3)","v":0},{"$f":"SUMIF(BDD!$BH$2:$BH$3,\"Banc 120FAUXVRAIFAUXVRAIFAUX\",BDD!$Z$2:$Z$3)","v":0},{"$f":"SUMIF(BDD!$BH$2:$BH$3,\"Banc 120FAUXVRAIFAUXFAUXVRAI\",BDD!$Z$2:$Z$3)","v":0},{"$f":"SUMIF(BDD!$BH$2:$BH$3,\"Banc 120VRAIFAUXVRAIFAUXFAUX\",BDD!$Z$2:$Z$3)","v":0},{"$f":"SUMIF(BDD!$BH$2:$BH$3,\"Banc 120VRAIFAUXFAUXVRAIFAUX\",BDD!$Z$2:$Z$3)","v":0},{"$f":"SUMIF(BDD!$BH$2:$BH$3,\"Banc 120VRAIFAUXFAUXFAUXVRAI\",BDD!$Z$2:$Z$3)","v":0},{"$f":"SUMIF(BDD!$BH$2:$BH$3,\"Banc 120FAUXVRAIVRAIFAUXFAUX\",BDD!$Z$2:$Z$3)","v":0},{"$f":"SUMIF(BDD!$BH$2:$BH$3,\"Banc 120FAUXVRAIFAUXVRAIFAUX\",BDD!$Z$2:$Z$3)","v":0},{"$f":"SUMIF(BDD!$BH$2:$BH$3,\"Banc 120FAUXVRAIFAUXFAUXVRAI\",BDD!$Z$2:$Z$3)","v":0},{"$f":"SUMIF(BDD!$BH$2:$BH$3,\"Banc 120VRAIFAUXVRAIFAUXFAUX\",BDD!$Z$2:$Z$3)","v":0},{"$f":"SUMIF(BDD!$BH$2:$BH$3,\"Banc 120VRAIFAUXFAUXVRAIFAUX\",BDD!$Z$2:$Z$3)","v":0},{"$f":"SUMIF(BDD!$BH$2:$BH$3,\"Banc 120VRAIFAUXFAUXFAUXVRAI\",BDD!$Z$2:$Z$3)","v":0},{"$f":"SUMIF(BDD!$BH$2:$BH$3,\"Banc 120FAUXVRAIVRAIFAUXFAUX\",BDD!$Z$2:$Z$3)","v":0},{"$f":"SUMIF(BDD!$BH$2:$BH$3,\"Banc 120FAUXVRAIFAUXVRAIFAUX\",BDD!$Z$2:$Z$3)","v":0},{"$f":"SUMIF(BDD!$BH$2:$BH$3,\"Banc 120FAUXVRAIFAUXFAUXVRAI\",BDD!$Z$2:$Z$3)","v":0},{"$f":"SUMIF(BDD!$BH$2:$BH$3,\"Banc 120VRAIFAUXVRAIFAUXFAUX\",BDD!$Z$2:$Z$3)","v":0},{"$f":"SUMIF(BDD!$BH$2:$BH$3,\"Banc 120VRAIFAUXFAUXVRAIFAUX\",BDD!$Z$2:$Z$3)","v":0},{"$f":"SUMIF(BDD!$BH$2:$BH$3,\"Banc 120VRAIFAUXFAUXFAUXVRAI\",BDD!$Z$2:$Z$3)","v":0},{"$f":"SUMIF(BDD!$BH$2:$BH$3,\"Banc 120FAUXVRAIVRAIFAUXFAUX\",BDD!$Z$2:$Z$3)","v":0},{"$f":"SUMIF(BDD!$BH$2:$BH$3,\"Banc 120FAUXVRAIFAUXVRAIFAUX\",BDD!$Z$2:$Z$3)","v":0},{"$f":"SUMIF(BDD!$BH$2:$BH$3,\"Banc 120FAUXVRAIFAUXFAUXVRAI\",BDD!$Z$2:$Z$3)","v":0},{"$f":"SUMIF(BDD!$BH$2:$BH$3,\"Banc 120VRAIFAUXVRAIFAUXFAUX\",BDD!$Z$2:$Z$3)","v":0},{"$f":"SUMIF(BDD!$BH$2:$BH$3,\"Banc 120VRAIFAUXFAUXVRAIFAUX\",BDD!$Z$2:$Z$3)","v":0},{"$f":"SUMIF(BDD!$BH$2:$BH$3,\"Banc 120VRAIFAUXFAUXFAUXVRAI\",BDD!$Z$2:$Z$3)","v":0},{"$f":"SUMIF(BDD!$BH$2:$BH$3,\"Banc 120FAUXVRAIVRAIFAUXFAUX\",BDD!$Z$2:$Z$3)","v":0},{"$f":"SUMIF(BDD!$BH$2:$BH$3,\"Banc 120FAUXVRAIFAUXVRAIFAUX\",BDD!$Z$2:$Z$3)","v":0},{"$f":"SUMIF(BDD!$BH$2:$BH$3,\"Banc 120FAUXVRAIFAUXFAUXVRAI\",BDD!$Z$2:$Z$3)","v":0},{"$f":"SUMIF(BDD!$BH$2:$BH$3,\"Banc 120VRAIFAUXVRAIFAUXFAUX\",BDD!$Z$2:$Z$3)","v":0},{"$f":"SUMIF(BDD!$BH$2:$BH$3,\"Banc 120VRAIFAUXFAUXVRAIFAUX\",BDD!$Z$2:$Z$3)","v":0},{"$f":"SUMIF(BDD!$BH$2:$BH$3,\"Banc 120VRAIFAUXFAUXFAUXVRAI\",BDD!$Z$2:$Z$3)","v":0},{"$f":"SUMIF(BDD!$BH$2:$BH$3,\"Banc 120FAUXVRAIVRAIFAUXFAUX\",BDD!$Z$2:$Z$3)","v":0},{"$f":"SUMIF(BDD!$BH$2:$BH$3,\"Banc 120FAUXVRAIFAUXVRAIFAUX\",BDD!$Z$2:$Z$3)","v":0},{"$f":"SUMIF(BDD!$BH$2:$BH$3,\"Banc 120FAUXVRAIFAUXFAUXVRAI\",BDD!$Z$2:$Z$3)","v":0},{"$f":"SUMIF(BDD!$BH$2:$BH$3,\"Banc 120VRAIFAUXVRAIFAUXFAUX\",BDD!$Z$2:$Z$3)","v":0},{"$f":"SUMIF(BDD!$BH$2:$BH$3,\"Banc 120VRAIFAUXFAUXVRAIFAUX\",BDD!$Z$2:$Z$3)","v":0},{"$f":"SUMIF(BDD!$BH$2:$BH$3,\"Banc 120VRAIFAUXFAUXFAUXVRAI\",BDD!$Z$2:$Z$3)","v":0},{"$f":"SUMIF(BDD!$BH$2:$BH$3,\"Banc 120FAUXVRAIVRAIFAUXFAUX\",BDD!$Z$2:$Z$3)","v":0},{"$f":"SUMIF(BDD!$BH$2:$BH$3,\"Banc 120FAUXVRAIFAUXVRAIFAUX\",BDD!$Z$2:$Z$3)","v":0},{"$f":"SUMIF(BDD!$BH$2:$BH$3,\"Banc 120FAUXVRAIFAUXFAUXVRAI\",BDD!$Z$2:$Z$3)","v":0},{"$f":"SUMIF(BDD!$BH$2:$BH$3,\"Banc 120VRAIFAUXVRAIFAUXFAUX\",BDD!$Z$2:$Z$3)","v":0},{"$f":"SUMIF(BDD!$BH$2:$BH$3,\"Banc 120VRAIFAUXFAUXVRAIFAUX\",BDD!$Z$2:$Z$3)","v":0},{"$f":"SUMIF(BDD!$BH$2:$BH$3,\"Banc 120VRAIFAUXFAUXFAUXVRAI\",BDD!$Z$2:$Z$3)","v":0},{"$f":"SUMIF(BDD!$BH$2:$BH$3,\"Banc 120FAUXVRAIVRAIFAUXFAUX\",BDD!$Z$2:$Z$3)","v":0},{"$f":"SUMIF(BDD!$BH$2:$BH$3,\"Banc 120FAUXVRAIFAUXVRAIFAUX\",BDD!$Z$2:$Z$3)","v":0},{"$f":"SUMIF(BDD!$BH$2:$BH$3,\"Banc 120FAUXVRAIFAUXFAUXVRAI\",BDD!$Z$2:$Z$3)","v":0},{"$f":"SUMIF(BDD!$BH$2:$BH$3,\"Banc 120VRAIFAUXVRAIFAUXFAUX\",BDD!$Z$2:$Z$3)","v":0},{"$f":"SUMIF(BDD!$BH$2:$BH$3,\"Banc 120VRAIFAUXFAUXVRAIFAUX\",BDD!$Z$2:$Z$3)","v":0},{"$f":"SUMIF(BDD!$BH$2:$BH$3,\"Banc 120VRAIFAUXFAUXFAUXVRAI\",BDD!$Z$2:$Z$3)","v":0},{"$f":"SUMIF(BDD!$BH$2:$BH$3,\"Banc 120FAUXVRAIVRAIFAUXFAUX\",BDD!$Z$2:$Z$3)","v":0},{"$f":"SUMIF(BDD!$BH$2:$BH$3,\"Banc 120FAUXVRAIFAUXVRAIFAUX\",BDD!$Z$2:$Z$3)","v":0},{"$f":"SUMIF(BDD!$BH$2:$BH$3,\"Banc 120FAUXVRAIFAUXFAUXVRAI\",BDD!$Z$2:$Z$3)","v":0}]
["Banc 120 bis",{"$f":"SUMIF(BDD!$BH$2:$BH$3,\"Banc 120 bisVRAIFAUXVRAIFAUXFAUX\",BDD!$Z$2:$Z$3)","v":0},{"$f":"SUMIF(BDD!$BH$2:$BH$3,\"Banc 120 bisVRAIFAUXFAUXVRAIFAUX\",BDD!$Z$2:$Z$3)","v":0},{"$f":"SUMIF(BDD!$BH$2:$BH$3,\"Banc 120 bisVRAIFAUXFAUXFAUXVRAI\",BDD!$Z$2:$Z$3)","v":0},{"$f":"SUMIF(BDD!$BH$2:$BH$3,\"Banc 120 bisFAUXVRAIVRAIFAUXFAUX\",BDD!$Z$2:$Z$3)","v":0},{"$f":"SUMIF(BDD!$BH$2:$BH$3,\"Banc 120 bisFAUXVRAIFAUXVRAIFAUX\",BDD!$Z$2:$Z$3)","v":0},{"$f":"SUMIF(BDD!$BH$2:$BH$3,\"Banc 120 bisFAUXVRAIFAUXFAUXVRAI\",BDD!$Z$2:$Z$3)","v":0},{"$f":"SUMIF(BDD!$BH$2:$BH$3,\"Banc 120 bisVRAIFAUXVRAIFAUXFAUX\",BDD!$Z$2:$Z$3)","v":0},{"$f":"SUMIF(BDD!$BH$2:$BH$3,\"Banc 120 bisVRAIFAUXFAUXVRAIFAUX\",BDD!$Z$2:$Z$3)","v":0},{"$f":"SUMIF(BDD!$BH$2:$BH$3,\"Banc 120 bisVRAIFAUXFAUXFAUXVRAI\",BDD!$Z$2:$Z$3)","v":0},{"$f":"SUMIF(BDD!$BH$2:$BH$3,\"Banc 120 bisFAUXVRAIVRAIFAUXFAUX\",BDD!$Z$2:$Z$3)","v":0},{"$f":"SUMIF(BDD!$BH$2:$BH$3,\"Banc 120 bisFAUXVRAIFAUXVRAIFAUX\",BDD!$Z$2:$Z$3)","v":0},{"$f":"SUMIF(BDD!$BH$2:$BH$3,\"Banc 120 bisFAUXVRAIFAUXFAUXVRAI\",BDD!$Z$2:$Z$3)","v":0},{"$f":"SUMIF(BDD!$BH$2:$BH$682,\"Banc 120 bisVRAIFAUXVRAIFAUXFAUX\",BDD!$Z$2:$Z$682)","v":0},{"$f":"SUMIF(BDD!$BH$2:$BH$682,\"Banc 120 bisVRAIFAUXFAUXVRAIFAUX\",BDD!$Z$2:$Z$682)","v":0},{"$f":"SUMIF(BDD!$BH$2:$BH$682,\"Banc 120 bisVRAIFAUXFAUXFAUXVRAI\",BDD!$Z$2:$Z$682)","v":0},{"$f":"SUMIF(BDD!$BH$2:$BH$682,\"Banc 120 bisFAUXVRAIVRAIFAUXFAUX\",BDD!$Z$2:$Z$682)","v":0},{"$f":"SUMIF(BDD!$BH$2:$BH$682,\"Banc 120 bisFAUXVRAIFAUXVRAIFAUX\",BDD!$Z$2:$Z$682)","v":0},{"$f":"SUMIF(BDD!$BH$2:$BH$682,\"Banc 120 bisFAUXVRAIFAUXFAUXVRAI\",BDD!$Z$2:$Z$682)","v":0},{"$f":"SUMIF(BDD!$BH$2:$BH$3,\"Banc 120 bisVRAIFAUXVRAIFAUXFAUX\",BDD!$Z$2:$Z$3)","v":0},{"$f":"SUMIF(BDD!$BH$2:$BH$3,\"Banc 120 bisVRAIFAUXFAUXVRAIFAUX\",BDD!$Z$2:$Z$3)","v":0},{"$f":"SUMIF(BDD!$BH$2:$BH$3,\"Banc 120 bisVRAIFAUXFAUXFAUXVRAI\",BDD!$Z$2:$Z$3)","v":0},{"$f":"SUMIF(BDD!$BH$2:$BH$3,\"Banc 120 bisFAUXVRAIVRAIFAUXFAUX\",BDD!$Z$2:$Z$3)","v":0},{"$f":"SUMIF(BDD!$BH$2:$BH$3,\"Banc 120 bisFAUXVRAIFAUXVRAIFAUX\",BDD!$Z$2:$Z$3)","v":0},{"$f":"SUMIF(BDD!$BH$2:$BH$3,\"Banc 120 bisFAUXVRAIFAUXFAUXVRAI\",BDD!$Z$2:$Z$3)","v":0},{"$f":"SUMIF(BDD!$BH$2:$BH$3,\"Banc 120 bisVRAIFAUXVRAIFAUXFAUX\",BDD!$Z$2:$Z$3)","v":0},{"$f":"SUMIF(BDD!$BH$2:$BH$3,\"Banc 120 bisVRAIFAUXFAUXVRAIFAUX\",BDD!$Z$2:$Z$3)","v":0},{"$f":"SUMIF(BDD!$BH$2:$BH$3,\"Banc 120 bisVRAIFAUXFAUXFAUXVRAI\",BDD!$Z$2:$Z$3)","v":0},{"$f":"SUMIF(BDD!$BH$2:$BH$3,\"Banc 120 bisFAUXVRAIVRAIFAUXFAUX\",BDD!$Z$2:$Z$3)","v":0},{"$f":"SUMIF(BDD!$BH$2:$BH$3,\"Banc 120 bisFAUXVRAIFAUXVRAIFAUX\",BDD!$Z$2:$Z$3)","v":0},{"$f":"SUMIF(BDD!$BH$2:$BH$3,\"Banc 120 bisFAUXVRAIFAUXFAUXVRAI\",BDD!$Z$2:$Z$3)","v":0},{"$f":"SUMIF(BDD!$BH$2:$BH$3,\"Banc 120 bisVRAIFAUXVRAIFAUXFAUX\",BDD!$Z$2:$Z$3)","v":0},{"$f":"SUMIF(BDD!$BH$2:$BH$3,\"Banc 120 bisVRAIFAUXFAUXVRAIFAUX\",BDD!$Z$2:$Z$3)","v":0},{"$f":"SUMIF(BDD!$BH$2:$BH$3,\"Banc 120 bisVRAIFAUXFAUXFAUXVRAI\",BDD!$Z$2:$Z$3)","v":0},{"$f":"SUMIF(BDD!$BH$2:$BH$3,\"Banc 120 bisFAUXVRAIVRAIFAUXFAUX\",BDD!$Z$2:$Z$3)","v":0},{"$f":"SUMIF(BDD!$BH$2:$BH$3,\"Banc 120 bisFAUXVRAIFAUXVRAIFAUX\",BDD!$Z$2:$Z$3)","v":0},{"$f":"SUMIF(BDD!$BH$2:$BH$3,\"Banc 120 bisFAUXVRAIFAUXFAUXVRAI\",BDD!$Z$2:$Z$3)","v":0},{"$f":"SUMIF(BDD!$BH$2:$BH$3,\"Banc 120 bisVRAIFAUXVRAIFAUXFAUX\",BDD!$Z$2:$Z$3)","v":0},{"$f":"SUMIF(BDD!$BH$2:$BH$3,\"Banc 120 bisVRAIFAUXFAUXVRAIFAUX\",BDD!$Z$2:$Z$3)","v":0},{"$f":"SUMIF(BDD!$BH$2:$BH$3,\"Banc 120 bisVRAIFAUXFAUXFAUXVRAI\",BDD!$Z$2:$Z$3)","v":0},{"$f":"SUMIF(BDD!$BH$2:$BH$3,\"Banc 120 bisFAUXVRAIVRAIFAUXFAUX\",BDD!$Z$2:$Z$3)","v":0},{"$f":"SUMIF(BDD!$BH$2:$BH$3,\"Banc 120 bisFAUXVRAIFAUXVRAIFAUX\",BDD!$Z$2:$Z$3)","v":0},{"$f":"SUMIF(BDD!$BH$2:$BH$3,\"Banc 120 bisFAUXVRAIFAUXFAUXVRAI\",BDD!$Z$2:$Z$3)","v":0},{"$f":"SUMIF(BDD!$BH$2:$BH$3,\"Banc 120 bisVRAIFAUXVRAIFAUXFAUX\",BDD!$Z$2:$Z$3)","v":0},{"$f":"SUMIF(BDD!$BH$2:$BH$3,\"Banc 120 bisVRAIFAUXFAUXVRAIFAUX\",BDD!$Z$2:$Z$3)","v":0},{"$f":"SUMIF(BDD!$BH$2:$BH$3,\"Banc 120 bisVRAIFAUXFAUXFAUXVRAI\",BDD!$Z$2:$Z$3)","v":0},{"$f":"SUMIF(BDD!$BH$2:$BH$3,\"Banc 120 bisFAUXVRAIVRAIFAUXFAUX\",BDD!$Z$2:$Z$3)","v":0},{"$f":"SUMIF(BDD!$BH$2:$BH$3,\"Banc 120 bisFAUXVRAIFAUXVRAIFAUX\",BDD!$Z$2:$Z$3)","v":0},{"$f":"SUMIF(BDD!$BH$2:$BH$3,\"Banc 120 bisFAUXVRAIFAUXFAUXVRAI\",BDD!$Z$2:$Z$3)","v":0},{"$f":"SUMIF(BDD!$BH$2:$BH$3,\"Banc 120 bisVRAIFAUXVRAIFAUXFAUX\",BDD!$Z$2:$Z$3)","v":0},{"$f":"SUMIF(BDD!$BH$2:$BH$3,\"Banc 120 bisVRAIFAUXFAUXVRAIFAUX\",BDD!$Z$2:$Z$3)","v":0},{"$f":"SUMIF(BDD!$BH$2:$BH$3,\"Banc 120 bisVRAIFAUXFAUXFAUXVRAI\",BDD!$Z$2:$Z$3)","v":0},{"$f":"SUMIF(BDD!$BH$2:$BH$3,\"Banc 120 bisFAUXVRAIVRAIFAUXFAUX\",BDD!$Z$2:$Z$3)","v":0},{"$f":"SUMIF(BDD!$BH$2:$BH$3,\"Banc 120 bisFAUXVRAIFAUXVRAIFAUX\",BDD!$Z$2:$Z$3)","v":0},{"$f":"SUMIF(BDD!$BH$2:$BH$3,\"Banc 120 bisFAUXVRAIFAUXFAUXVRAI\",BDD!$Z$2:$Z$3)","v":0},{"$f":"SUMIF(BDD!$BH$2:$BH$3,\"Banc 120 bisVRAIFAUXVRAIFAUXFAUX\",BDD!$Z$2:$Z$3)","v":0},{"$f":"SUMIF(BDD!$BH$2:$BH$3,\"Banc 120 bisVRAIFAUXFAUXVRAIFAUX\",BDD!$Z$2:$Z$3)","v":0},{"$f":"SUMIF(BDD!$BH$2:$BH$3,\"Banc 120 bisVRAIFAUXFAUXFAUXVRAI\",BDD!$Z$2:$Z$3)","v":0},{"$f":"SUMIF(BDD!$BH$2:$BH$3,\"Banc 120 bisFAUXVRAIVRAIFAUXFAUX\",BDD!$Z$2:$Z$3)","v":0},{"$f":"SUMIF(BDD!$BH$2:$BH$3,\"Banc 120 bisFAUXVRAIFAUXVRAIFAUX\",BDD!$Z$2:$Z$3)","v":0},{"$f":"SUMIF(BDD!$BH$2:$BH$3,\"Banc 120 bisFAUXVRAIFAUXFAUXVRAI\",BDD!$Z$2:$Z$3)","v":0},{"$f":"SUMIF(BDD!$BH$2:$BH$3,\"Banc 120 bisVRAIFAUXVRAIFAUXFAUX\",BDD!$Z$2:$Z$3)","v":0},{"$f":"SUMIF(BDD!$BH$2:$BH$3,\"Banc 120 bisVRAIFAUXFAUXVRAIFAUX\",BDD!$Z$2:$Z$3)","v":0},{"$f":"SUMIF(BDD!$BH$2:$BH$3,\"Banc 120 bisVRAIFAUXFAUXFAUXVRAI\",BDD!$Z$2:$Z$3)","v":0},{"$f":"SUMIF(BDD!$BH$2:$BH$3,\"Banc 120 bisFAUXVRAIVRAIFAUXFAUX\",BDD!$Z$2:$Z$3)","v":0},{"$f":"SUMIF(BDD!$BH$2:$BH$3,\"Banc 120 bisFAUXVRAIFAUXVRAIFAUX\",BDD!$Z$2:$Z$3)","v":0},{"$f":"SUMIF(BDD!$BH$2:$BH$3,\"Banc 120 bisFAUXVRAIFAUXFAUXVRAI\",BDD!$Z$2:$Z$3)","v":0},{"$f":"SUMIF(BDD!$BH$2:$BH$3,\"Banc 120 bisVRAIFAUXVRAIFAUXFAUX\",BDD!$Z$2:$Z$3)","v":0},{"$f":"SUMIF(BDD!$BH$2:$BH$3,\"Banc 120 bisVRAIFAUXFAUXVRAIFAUX\",BDD!$Z$2:$Z$3)","v":0},{"$f":"SUMIF(BDD!$BH$2:$BH$3,\"Banc 120 bisVRAIFAUXFAUXFAUXVRAI\",BDD!$Z$2:$Z$3)","v":0},{"$f":"SUMIF(BDD!$BH$2:$BH$3,\"Banc 120 bisFAUXVRAIVRAIFAUXFAUX\",BDD!$Z$2:$Z$3)","v":0},{"$f":"SUMIF(BDD!$BH$2:$BH$3,\"Banc 120 bisFAUXVRAIFAUXVRAIFAUX\",BDD!$Z$2:$Z$3)","v":0},{"$f":"SUMIF(BDD!$BH$2:$BH$3,\"Banc 120 bisFAUXVRAIFAUXFAUXVRAI\",BDD!$Z$2:$Z$3)","v":0}]
["Banc 125",{"$f":"SUMIF(BDD!$BH$2:$BH$3,\"Banc 125VRAIFAUXVRAIFAUXFAUX\",BDD!$Z$2:$Z$3)","v":0},{"$f":"SUMIF(BDD!$BH$2:$BH$3,\"Banc 125VRAIFAUXFAUXVRAIFAUX\",BDD!$Z$2:$Z$3)","v":0},{"$f":"SUMIF(BDD!$BH$2:$BH$3,\"Banc 125VRAIFAUXFAUXFAUXVRAI\",BDD!$Z$2:$Z$3)","v":0},{"$f":"SUMIF(BDD!$BH$2:$BH$3,\"Banc 125FAUXVRAIVRAIFAUXFAUX\",BDD!$Z$2:$Z$3)","v":0},{"$f":"SUMIF(BDD!$BH$2:$BH$3,\"Banc 125FAUXVRAIFAUXVRAIFAUX\",BDD!$Z$2:$Z$3)","v":0},{"$f":"SUMIF(BDD!$BH$2:$BH$3,\"Banc 125FAUXVRAIFAUXFAUXVRAI\",BDD!$Z$2:$Z$3)","v":0},{"$f":"SUMIF(BDD!$BH$2:$BH$3,\"Banc 125VRAIFAUXVRAIFAUXFAUX\",BDD!$Z$2:$Z$3)","v":0},{"$f":"SUMIF(BDD!$BH$2:$BH$3,\"Banc 125VRAIFAUXFAUXVRAIFAUX\",BDD!$Z$2:$Z$3)","v":0},{"$f":"SUMIF(BDD!$BH$2:$BH$3,\"Banc 125VRAIFAUXFAUXFAUXVRAI\",BDD!$Z$2:$Z$3)","v":0},{"$f":"SUMIF(BDD!$BH$2:$BH$3,\"Banc 125FAUXVRAIVRAIFAUXFAUX\",BDD!$Z$2:$Z$3)","v":0},{"$f":"SUMIF(BDD!$BH$2:$BH$3,\"Banc 125FAUXVRAIFAUXVRAIFAUX\",BDD!$Z$2:$Z$3)","v":0},{"$f":"SUMIF(BDD!$BH$2:$BH$3,\"Banc 125FAUXVRAIFAUXFAUXVRAI\",BDD!$Z$2:$Z$3)","v":0},{"$f":"SUMIF(BDD!$BH$2:$BH$682,\"Banc 125VRAIFAUXVRAIFAUXFAUX\",BDD!$Z$2:$Z$682)","v":0},{"$f":"SUMIF(BDD!$BH$2:$BH$682,\"Banc 125VRAIFAUXFAUXVRAIFAUX\",BDD!$Z$2:$Z$682)","v":0},{"$f":"SUMIF(BDD!$BH$2:$BH$682,\"Banc 125VRAIFAUXFAUXFAUXVRAI\",BDD!$Z$2:$Z$682)","v":4.8},{"$f":"SUMIF(BDD!$BH$2:$BH$682,\"Banc 125FAUXVRAIVRAIFAUXFAUX\",BDD!$Z$2:$Z$682)","v":0},{"$f":"SUMIF(BDD!$BH$2:$BH$682,\"Banc 125FAUXVRAIFAUXVRAIFAUX\",BDD!$Z$2:$Z$682)","v":0},{"$f":"SUMIF(BDD!$BH$2:$BH$682,\"Banc 125FAUXVRAIFAUXFAUXVRAI\",BDD!$Z$2:$Z$682)","v":0},{"$f":"SUMIF(BDD!$BH$2:$BH$3,\"Banc 125VRAIFAUXVRAIFAUXFAUX\",BDD!$Z$2:$Z$3)","v":0},{"$f":"SUMIF(BDD!$BH$2:$BH$3,\"Banc 125VRAIFAUXFAUXVRAIFAUX\",BDD!$Z$2:$Z$3)","v":0},{"$f":"SUMIF(BDD!$BH$2:$BH$3,\"Banc 125VRAIFAUXFAUXFAUXVRAI\",BDD!$Z$2:$Z$3)","v":0},{"$f":"SUMIF(BDD!$BH$2:$BH$3,\"Banc 125FAUXVRAIVRAIFAUXFAUX\",BDD!$Z$2:$Z$3)","v":0},{"$f":"SUMIF(BDD!$BH$2:$BH$3,\"Banc 125FAUXVRAIFAUXVRAIFAUX\",BDD!$Z$2:$Z$3)","v":0},{"$f":"SUMIF(BDD!$BH$2:$BH$3,\"Banc 125FAUXVRAIFAUXFAUXVRAI\",BDD!$Z$2:$Z$3)","v":0},{"$f":"SUMIF(BDD!$BH$2:$BH$3,\"Banc 125VRAIFAUXVRAIFAUXFAUX\",BDD!$Z$2:$Z$3)","v":0},{"$f":"SUMIF(BDD!$BH$2:$BH$3,\"Banc 125VRAIFAUXFAUXVRAIFAUX\",BDD!$Z$2:$Z$3)","v":0},{"$f":"SUMIF(BDD!$BH$2:$BH$3,\"Banc 125VRAIFAUXFAUXFAUXVRAI\",BDD!$Z$2:$Z$3)","v":0},{"$f":"SUMIF(BDD!$BH$2:$BH$3,\"Banc 125FAUXVRAIVRAIFAUXFAUX\",BDD!$Z$2:$Z$3)","v":0},{"$f":"SUMIF(BDD!$BH$2:$BH$3,\"Banc 125FAUXVRAIFAUXVRAIFAUX\",BDD!$Z$2:$Z$3)","v":0},{"$f":"SUMIF(BDD!$BH$2:$BH$3,\"Banc 125FAUXVRAIFAUXFAUXVRAI\",BDD!$Z$2:$Z$3)","v":0},{"$f":"SUMIF(BDD!$BH$2:$BH$3,\"Banc 125VRAIFAUXVRAIFAUXFAUX\",BDD!$Z$2:$Z$3)","v":0},{"$f":"SUMIF(BDD!$BH$2:$BH$3,\"Banc 125VRAIFAUXFAUXVRAIFAUX\",BDD!$Z$2:$Z$3)","v":0},{"$f":"SUMIF(BDD!$BH$2:$BH$3,\"Banc 125VRAIFAUXFAUXFAUXVRAI\",BDD!$Z$2:$Z$3)","v":0},{"$f":"SUMIF(BDD!$BH$2:$BH$3,\"Banc 125FAUXVRAIVRAIFAUXFAUX\",BDD!$Z$2:$Z$3)","v":0},{"$f":"SUMIF(BDD!$BH$2:$BH$3,\"Banc 125FAUXVRAIFAUXVRAIFAUX\",BDD!$Z$2:$Z$3)","v":0},{"$f":"SUMIF(BDD!$BH$2:$BH$3,\"Banc 125FAUXVRAIFAUXFAUXVRAI\",BDD!$Z$2:$Z$3)","v":0},{"$f":"SUMIF(BDD!$BH$2:$BH$3,\"Banc 125VRAIFAUXVRAIFAUXFAUX\",BDD!$Z$2:$Z$3)","v":0},{"$f":"SUMIF(BDD!$BH$2:$BH$3,\"Banc 125VRAIFAUXFAUXVRAIFAUX\",BDD!$Z$2:$Z$3)","v":0},{"$f":"SUMIF(BDD!$BH$2:$BH$3,\"Banc 125VRAIFAUXFAUXFAUXVRAI\",BDD!$Z$2:$Z$3)","v":0},{"$f":"SUMIF(BDD!$BH$2:$BH$3,\"Banc 125FAUXVRAIVRAIFAUXFAUX\",BDD!$Z$2:$Z$3)","v":0},{"$f":"SUMIF(BDD!$BH$2:$BH$3,\"Banc 125FAUXVRAIFAUXVRAIFAUX\",BDD!$Z$2:$Z$3)","v":0},{"$f":"SUMIF(BDD!$BH$2:$BH$3,\"Banc 125FAUXVRAIFAUXFAUXVRAI\",BDD!$Z$2:$Z$3)","v":0},{"$f":"SUMIF(BDD!$BH$2:$BH$3,\"Banc 125VRAIFAUXVRAIFAUXFAUX\",BDD!$Z$2:$Z$3)","v":0},{"$f":"SUMIF(BDD!$BH$2:$BH$3,\"Banc 125VRAIFAUXFAUXVRAIFAUX\",BDD!$Z$2:$Z$3)","v":0},{"$f":"SUMIF(BDD!$BH$2:$BH$3,\"Banc 125VRAIFAUXFAUXFAUXVRAI\",BDD!$Z$2:$Z$3)","v":0},{"$f":"SUMIF(BDD!$BH$2:$BH$3,\"Banc 125FAUXVRAIVRAIFAUXFAUX\",BDD!$Z$2:$Z$3)","v":0},{"$f":"SUMIF(BDD!$BH$2:$BH$3,\"Banc 125FAUXVRAIFAUXVRAIFAUX\",BDD!$Z$2:$Z$3)","v":0},{"$f":"SUMIF(BDD!$BH$2:$BH$3,\"Banc 125FAUXVRAIFAUXFAUXVRAI\",BDD!$Z$2:$Z$3)","v":0},{"$f":"SUMIF(BDD!$BH$2:$BH$3,\"Banc 125VRAIFAUXVRAIFAUXFAUX\",BDD!$Z$2:$Z$3)","v":0},{"$f":"SUMIF(BDD!$BH$2:$BH$3,\"Banc 125VRAIFAUXFAUXVRAIFAUX\",BDD!$Z$2:$Z$3)","v":0},{"$f":"SUMIF(BDD!$BH$2:$BH$3,\"Banc 125VRAIFAUXFAUXFAUXVRAI\",BDD!$Z$2:$Z$3)","v":0},{"$f":"SUMIF(BDD!$BH$2:$BH$3,\"Banc 125FAUXVRAIVRAIFAUXFAUX\",BDD!$Z$2:$Z$3)","v":0},{"$f":"SUMIF(BDD!$BH$2:$BH$3,\"Banc 125FAUXVRAIFAUXVRAIFAUX\",BDD!$Z$2:$Z$3)","v":0},{"$f":"SUMIF(BDD!$BH$2:$BH$3,\"Banc 125FAUXVRAIFAUXFAUXVRAI\",BDD!$Z$2:$Z$3)","v":0},{"$f":"SUMIF(BDD!$BH$2:$BH$3,\"Banc 125VRAIFAUXVRAIFAUXFAUX\",BDD!$Z$2:$Z$3)","v":0},{"$f":"SUMIF(BDD!$BH$2:$BH$3,\"Banc 125VRAIFAUXFAUXVRAIFAUX\",BDD!$Z$2:$Z$3)","v":0},{"$f":"SUMIF(BDD!$BH$2:$BH$3,\"Banc 125VRAIFAUXFAUXFAUXVRAI\",BDD!$Z$2:$Z$3)","v":0},{"$f":"SUMIF(BDD!$BH$2:$BH$3,\"Banc 125FAUXVRAIVRAIFAUXFAUX\",BDD!$Z$2:$Z$3)","v":0},{"$f":"SUMIF(BDD!$BH$2:$BH$3,\"Banc 125FAUXVRAIFAUXVRAIFAUX\",BDD!$Z$2:$Z$3)","v":0},{"$f":"SUMIF(BDD!$BH$2:$BH$3,\"Banc 125FAUXVRAIFAUXFAUXVRAI\",BDD!$Z$2:$Z$3)","v":0},{"$f":"SUMIF(BDD!$BH$2:$BH$3,\"Banc 125VRAIFAUXVRAIFAUXFAUX\",BDD!$Z$2:$Z$3)","v":0},{"$f":"SUMIF(BDD!$BH$2:$BH$3,\"Banc 125VRAIFAUXFAUXVRAIFAUX\",BDD!$Z$2:$Z$3)","v":0},{"$f":"SUMIF(BDD!$BH$2:$BH$3,\"Banc 125VRAIFAUXFAUXFAUXVRAI\",BDD!$Z$2:$Z$3)","v":0},{"$f":"SUMIF(BDD!$BH$2:$BH$3,\"Banc 125FAUXVRAIVRAIFAUXFAUX\",BDD!$Z$2:$Z$3)","v":0},{"$f":"SUMIF(BDD!$BH$2:$BH$3,\"Banc 125FAUXVRAIFAUXVRAIFAUX\",BDD!$Z$2:$Z$3)","v":0},{"$f":"SUMIF(BDD!$BH$2:$BH$3,\"Banc 125FAUXVRAIFAUXFAUXVRAI\",BDD!$Z$2:$Z$3)","v":0},{"$f":"SUMIF(BDD!$BH$2:$BH$3,\"Banc 125VRAIFAUXVRAIFAUXFAUX\",BDD!$Z$2:$Z$3)","v":0},{"$f":"SUMIF(BDD!$BH$2:$BH$3,\"Banc 125VRAIFAUXFAUXVRAIFAUX\",BDD!$Z$2:$Z$3)","v":0},{"$f":"SUMIF(BDD!$BH$2:$BH$3,\"Banc 125VRAIFAUXFAUXFAUXVRAI\",BDD!$Z$2:$Z$3)","v":0},{"$f":"SUMIF(BDD!$BH$2:$BH$3,\"Banc 125FAUXVRAIVRAIFAUXFAUX\",BDD!$Z$2:$Z$3)","v":0},{"$f":"SUMIF(BDD!$BH$2:$BH$3,\"Banc 125FAUXVRAIFAUXVRAIFAUX\",BDD!$Z$2:$Z$3)","v":0},{"$f":"SUMIF(BDD!$BH$2:$BH$3,\"Banc 125FAUXVRAIFAUXFAUXVRAI\",BDD!$Z$2:$Z$3)","v":0}]
["Banc 128",{"$f":"SUMIF(BDD!$BH$2:$BH$3,\"Banc 128VRAIFAUXVRAIFAUXFAUX\",BDD!$Z$2:$Z$3)","v":0},{"$f":"SUMIF(BDD!$BH$2:$BH$3,\"Banc 128VRAIFAUXFAUXVRAIFAUX\",BDD!$Z$2:$Z$3)","v":0},{"$f":"SUMIF(BDD!$BH$2:$BH$3,\"Banc 128VRAIFAUXFAUXFAUXVRAI\",BDD!$Z$2:$Z$3)","v":0},{"$f":"SUMIF(BDD!$BH$2:$BH$3,\"Banc 128FAUXVRAIVRAIFAUXFAUX\",BDD!$Z$2:$Z$3)","v":0},{"$f":"SUMIF(BDD!$BH$2:$BH$3,\"Banc 128FAUXVRAIFAUXVRAIFAUX\",BDD!$Z$2:$Z$3)","v":0},{"$f":"SUMIF(BDD!$BH$2:$BH$3,\"Banc 128FAUXVRAIFAUXFAUXVRAI\",BDD!$Z$2:$Z$3)","v":0},{"$f":"SUMIF(BDD!$BH$2:$BH$3,\"Banc 128VRAIFAUXVRAIFAUXFAUX\",BDD!$Z$2:$Z$3)","v":0},{"$f":"SUMIF(BDD!$BH$2:$BH$3,\"Banc 128VRAIFAUXFAUXVRAIFAUX\",BDD!$Z$2:$Z$3)","v":0},{"$f":"SUMIF(BDD!$BH$2:$BH$3,\"Banc 128VRAIFAUXFAUXFAUXVRAI\",BDD!$Z$2:$Z$3)","v":0},{"$f":"SUMIF(BDD!$BH$2:$BH$3,\"Banc 128FAUXVRAIVRAIFAUXFAUX\",BDD!$Z$2:$Z$3)","v":0},{"$f":"SUMIF(BDD!$BH$2:$BH$3,\"Banc 128FAUXVRAIFAUXVRAIFAUX\",BDD!$Z$2:$Z$3)","v":0},{"$f":"SUMIF(BDD!$BH$2:$BH$3,\"Banc 128FAUXVRAIFAUXFAUXVRAI\",BDD!$Z$2:$Z$3)","v":0},{"$f":"SUMIF(BDD!$BH$2:$BH$682,\"Banc 128VRAIFAUXVRAIFAUXFAUX\",BDD!$Z$2:$Z$682)","v":0},{"$f":"SUMIF(BDD!$BH$2:$BH$682,\"Banc 128VRAIFAUXFAUXVRAIFAUX\",BDD!$Z$2:$Z$682)","v":0},{"$f":"SUMIF(BDD!$BH$2:$BH$682,\"Banc 128VRAIFAUXFAUXFAUXVRAI\",BDD!$Z$2:$Z$682)","v":3},{"$f":"SUMIF(BDD!$BH$2:$BH$682,\"Banc 128FAUXVRAIVRAIFAUXFAUX\",BDD!$Z$2:$Z$682)","v":0},{"$f":"SUMIF(BDD!$BH$2:$BH$682,\"Banc 128FAUXVRAIFAUXVRAIFAUX\",BDD!$Z$2:$Z$682)","v":0},{"$f":"SUMIF(BDD!$BH$2:$BH$682,\"Banc 128FAUXVRAIFAUXFAUXVRAI\",BDD!$Z$2:$Z$682)","v":0},{"$f":"SUMIF(BDD!$BH$2:$BH$3,\"Banc 128VRAIFAUXVRAIFAUXFAUX\",BDD!$Z$2:$Z$3)","v":0},{"$f":"SUMIF(BDD!$BH$2:$BH$3,\"Banc 128VRAIFAUXFAUXVRAIFAUX\",BDD!$Z$2:$Z$3)","v":0},{"$f":"SUMIF(BDD!$BH$2:$BH$3,\"Banc 128VRAIFAUXFAUXFAUXVRAI\",BDD!$Z$2:$Z$3)","v":0},{"$f":"SUMIF(BDD!$BH$2:$BH$3,\"Banc 128FAUXVRAIVRAIFAUXFAUX\",BDD!$Z$2:$Z$3)","v":0},{"$f":"SUMIF(BDD!$BH$2:$BH$3,\"Banc 128FAUXVRAIFAUXVRAIFAUX\",BDD!$Z$2:$Z$3)","v":0},{"$f":"SUMIF(BDD!$BH$2:$BH$3,\"Banc 128FAUXVRAIFAUXFAUXVRAI\",BDD!$Z$2:$Z$3)","v":0},{"$f":"SUMIF(BDD!$BH$2:$BH$3,\"Banc 128VRAIFAUXVRAIFAUXFAUX\",BDD!$Z$2:$Z$3)","v":0},{"$f":"SUMIF(BDD!$BH$2:$BH$3,\"Banc 128VRAIFAUXFAUXVRAIFAUX\",BDD!$Z$2:$Z$3)","v":0},{"$f":"SUMIF(BDD!$BH$2:$BH$3,\"Banc 128VRAIFAUXFAUXFAUXVRAI\",BDD!$Z$2:$Z$3)","v":0},{"$f":"SUMIF(BDD!$BH$2:$BH$3,\"Banc 128FAUXVRAIVRAIFAUXFAUX\",BDD!$Z$2:$Z$3)","v":0},{"$f":"SUMIF(BDD!$BH$2:$BH$3,\"Banc 128FAUXVRAIFAUXVRAIFAUX\",BDD!$Z$2:$Z$3)","v":0},{"$f":"SUMIF(BDD!$BH$2:$BH$3,\"Banc 128FAUXVRAIFAUXFAUXVRAI\",BDD!$Z$2:$Z$3)","v":0},{"$f":"SUMIF(BDD!$BH$2:$BH$3,\"Banc 128VRAIFAUXVRAIFAUXFAUX\",BDD!$Z$2:$Z$3)","v":0},{"$f":"SUMIF(BDD!$BH$2:$BH$3,\"Banc 128VRAIFAUXFAUXVRAIFAUX\",BDD!$Z$2:$Z$3)","v":0},{"$f":"SUMIF(BDD!$BH$2:$BH$3,\"Banc 128VRAIFAUXFAUXFAUXVRAI\",BDD!$Z$2:$Z$3)","v":0},{"$f":"SUMIF(BDD!$BH$2:$BH$3,\"Banc 128FAUXVRAIVRAIFAUXFAUX\",BDD!$Z$2:$Z$3)","v":0},{"$f":"SUMIF(BDD!$BH$2:$BH$3,\"Banc 128FAUXVRAIFAUXVRAIFAUX\",BDD!$Z$2:$Z$3)","v":0},{"$f":"SUMIF(BDD!$BH$2:$BH$3,\"Banc 128FAUXVRAIFAUXFAUXVRAI\",BDD!$Z$2:$Z$3)","v":0},{"$f":"SUMIF(BDD!$BH$2:$BH$3,\"Banc 128VRAIFAUXVRAIFAUXFAUX\",BDD!$Z$2:$Z$3)","v":0},{"$f":"SUMIF(BDD!$BH$2:$BH$3,\"Banc 128VRAIFAUXFAUXVRAIFAUX\",BDD!$Z$2:$Z$3)","v":0},{"$f":"SUMIF(BDD!$BH$2:$BH$3,\"Banc 128VRAIFAUXFAUXFAUXVRAI\",BDD!$Z$2:$Z$3)","v":0},{"$f":"SUMIF(BDD!$BH$2:$BH$3,\"Banc 128FAUXVRAIVRAIFAUXFAUX\",BDD!$Z$2:$Z$3)","v":0},{"$f":"SUMIF(BDD!$BH$2:$BH$3,\"Banc 128FAUXVRAIFAUXVRAIFAUX\",BDD!$Z$2:$Z$3)","v":0},{"$f":"SUMIF(BDD!$BH$2:$BH$3,\"Banc 128FAUXVRAIFAUXFAUXVRAI\",BDD!$Z$2:$Z$3)","v":0},{"$f":"SUMIF(BDD!$BH$2:$BH$3,\"Banc 128VRAIFAUXVRAIFAUXFAUX\",BDD!$Z$2:$Z$3)","v":0},{"$f":"SUMIF(BDD!$BH$2:$BH$3,\"Banc 128VRAIFAUXFAUXVRAIFAUX\",BDD!$Z$2:$Z$3)","v":0},{"$f":"SUMIF(BDD!$BH$2:$BH$3,\"Banc 128VRAIFAUXFAUXFAUXVRAI\",BDD!$Z$2:$Z$3)","v":0},{"$f":"SUMIF(BDD!$BH$2:$BH$3,\"Banc 128FAUXVRAIVRAIFAUXFAUX\",BDD!$Z$2:$Z$3)","v":0},{"$f":"SUMIF(BDD!$BH$2:$BH$3,\"Banc 128FAUXVRAIFAUXVRAIFAUX\",BDD!$Z$2:$Z$3)","v":0},{"$f":"SUMIF(BDD!$BH$2:$BH$3,\"Banc 128FAUXVRAIFAUXFAUXVRAI\",BDD!$Z$2:$Z$3)","v":0},{"$f":"SUMIF(BDD!$BH$2:$BH$3,\"Banc 128VRAIFAUXVRAIFAUXFAUX\",BDD!$Z$2:$Z$3)","v":0},{"$f":"SUMIF(BDD!$BH$2:$BH$3,\"Banc 128VRAIFAUXFAUXVRAIFAUX\",BDD!$Z$2:$Z$3)","v":0},{"$f":"SUMIF(BDD!$BH$2:$BH$3,\"Banc 128VRAIFAUXFAUXFAUXVRAI\",BDD!$Z$2:$Z$3)","v":0},{"$f":"SUMIF(BDD!$BH$2:$BH$3,\"Banc 128FAUXVRAIVRAIFAUXFAUX\",BDD!$Z$2:$Z$3)","v":0},{"$f":"SUMIF(BDD!$BH$2:$BH$3,\"Banc 128FAUXVRAIFAUXVRAIFAUX\",BDD!$Z$2:$Z$3)","v":0},{"$f":"SUMIF(BDD!$BH$2:$BH$3,\"Banc 128FAUXVRAIFAUXFAUXVRAI\",BDD!$Z$2:$Z$3)","v":0},{"$f":"SUMIF(BDD!$BH$2:$BH$3,\"Banc 128VRAIFAUXVRAIFAUXFAUX\",BDD!$Z$2:$Z$3)","v":0},{"$f":"SUMIF(BDD!$BH$2:$BH$3,\"Banc 128VRAIFAUXFAUXVRAIFAUX\",BDD!$Z$2:$Z$3)","v":0},{"$f":"SUMIF(BDD!$BH$2:$BH$3,\"Banc 128VRAIFAUXFAUXFAUXVRAI\",BDD!$Z$2:$Z$3)","v":0},{"$f":"SUMIF(BDD!$BH$2:$BH$3,\"Banc 128FAUXVRAIVRAIFAUXFAUX\",BDD!$Z$2:$Z$3)","v":0},{"$f":"SUMIF(BDD!$BH$2:$BH$3,\"Banc 128FAUXVRAIFAUXVRAIFAUX\",BDD!$Z$2:$Z$3)","v":0},{"$f":"SUMIF(BDD!$BH$2:$BH$3,\"Banc 128FAUXVRAIFAUXFAUXVRAI\",BDD!$Z$2:$Z$3)","v":0},{"$f":"SUMIF(BDD!$BH$2:$BH$3,\"Banc 128VRAIFAUXVRAIFAUXFAUX\",BDD!$Z$2:$Z$3)","v":0},{"$f":"SUMIF(BDD!$BH$2:$BH$3,\"Banc 128VRAIFAUXFAUXVRAIFAUX\",BDD!$Z$2:$Z$3)","v":0},{"$f":"SUMIF(BDD!$BH$2:$BH$3,\"Banc 128VRAIFAUXFAUXFAUXVRAI\",BDD!$Z$2:$Z$3)","v":0},{"$f":"SUMIF(BDD!$BH$2:$BH$3,\"Banc 128FAUXVRAIVRAIFAUXFAUX\",BDD!$Z$2:$Z$3)","v":0},{"$f":"SUMIF(BDD!$BH$2:$BH$3,\"Banc 128FAUXVRAIFAUXVRAIFAUX\",BDD!$Z$2:$Z$3)","v":0},{"$f":"SUMIF(BDD!$BH$2:$BH$3,\"Banc 128FAUXVRAIFAUXFAUXVRAI\",BDD!$Z$2:$Z$3)","v":0},{"$f":"SUMIF(BDD!$BH$2:$BH$3,\"Banc 128VRAIFAUXVRAIFAUXFAUX\",BDD!$Z$2:$Z$3)","v":0},{"$f":"SUMIF(BDD!$BH$2:$BH$3,\"Banc 128VRAIFAUXFAUXVRAIFAUX\",BDD!$Z$2:$Z$3)","v":0},{"$f":"SUMIF(BDD!$BH$2:$BH$3,\"Banc 128VRAIFAUXFAUXFAUXVRAI\",BDD!$Z$2:$Z$3)","v":0},{"$f":"SUMIF(BDD!$BH$2:$BH$3,\"Banc 128FAUXVRAIVRAIFAUXFAUX\",BDD!$Z$2:$Z$3)","v":0},{"$f":"SUMIF(BDD!$BH$2:$BH$3,\"Banc 128FAUXVRAIFAUXVRAIFAUX\",BDD!$Z$2:$Z$3)","v":0},{"$f":"SUMIF(BDD!$BH$2:$BH$3,\"Banc 128FAUXVRAIFAUXFAUXVRAI\",BDD!$Z$2:$Z$3)","v":0}]
["Banc 131",{"$f":"SUMIF(BDD!$BH$2:$BH$3,\"Banc 131VRAIFAUXVRAIFAUXFAUX\",BDD!$Z$2:$Z$3)","v":0},{"$f":"SUMIF(BDD!$BH$2:$BH$3,\"Banc 131VRAIFAUXFAUXVRAIFAUX\",BDD!$Z$2:$Z$3)","v":0},{"$f":"SUMIF(BDD!$BH$2:$BH$3,\"Banc 131VRAIFAUXFAUXFAUXVRAI\",BDD!$Z$2:$Z$3)","v":0},{"$f":"SUMIF(BDD!$BH$2:$BH$3,\"Banc 131FAUXVRAIVRAIFAUXFAUX\",BDD!$Z$2:$Z$3)","v":0},{"$f":"SUMIF(BDD!$BH$2:$BH$3,\"Banc 131FAUXVRAIFAUXVRAIFAUX\",BDD!$Z$2:$Z$3)","v":0},{"$f":"SUMIF(BDD!$BH$2:$BH$3,\"Banc 131FAUXVRAIFAUXFAUXVRAI\",BDD!$Z$2:$Z$3)","v":0},{"$f":"SUMIF(BDD!$BH$2:$BH$3,\"Banc 131VRAIFAUXVRAIFAUXFAUX\",BDD!$Z$2:$Z$3)","v":0},{"$f":"SUMIF(BDD!$BH$2:$BH$3,\"Banc 131VRAIFAUXFAUXVRAIFAUX\",BDD!$Z$2:$Z$3)","v":0},{"$f":"SUMIF(BDD!$BH$2:$BH$3,\"Banc 131VRAIFAUXFAUXFAUXVRAI\",BDD!$Z$2:$Z$3)","v":0},{"$f":"SUMIF(BDD!$BH$2:$BH$3,\"Banc 131FAUXVRAIVRAIFAUXFAUX\",BDD!$Z$2:$Z$3)","v":0},{"$f":"SUMIF(BDD!$BH$2:$BH$3,\"Banc 131FAUXVRAIFAUXVRAIFAUX\",BDD!$Z$2:$Z$3)","v":0},{"$f":"SUMIF(BDD!$BH$2:$BH$3,\"Banc 131FAUXVRAIFAUXFAUXVRAI\",BDD!$Z$2:$Z$3)","v":0},{"$f":"SUMIF(BDD!$BH$2:$BH$682,\"Banc 131VRAIFAUXVRAIFAUXFAUX\",BDD!$Z$2:$Z$682)","v":1.5},{"$f":"SUMIF(BDD!$BH$2:$BH$682,\"Banc 131VRAIFAUXFAUXVRAIFAUX\",BDD!$Z$2:$Z$682)","v":0},{"$f":"SUMIF(BDD!$BH$2:$BH$682,\"Banc 131VRAIFAUXFAUXFAUXVRAI\",BDD!$Z$2:$Z$682)","v":0},{"$f":"SUMIF(BDD!$BH$2:$BH$682,\"Banc 131FAUXVRAIVRAIFAUXFAUX\",BDD!$Z$2:$Z$682)","v":0.1},{"$f":"SUMIF(BDD!$BH$2:$BH$682,\"Banc 131FAUXVRAIFAUXVRAIFAUX\",BDD!$Z$2:$Z$682)","v":0},{"$f":"SUMIF(BDD!$BH$2:$BH$682,\"Banc 131FAUXVRAIFAUXFAUXVRAI\",BDD!$Z$2:$Z$682)","v":0},{"$f":"SUMIF(BDD!$BH$2:$BH$3,\"Banc 131VRAIFAUXVRAIFAUXFAUX\",BDD!$Z$2:$Z$3)","v":0},{"$f":"SUMIF(BDD!$BH$2:$BH$3,\"Banc 131VRAIFAUXFAUXVRAIFAUX\",BDD!$Z$2:$Z$3)","v":0},{"$f":"SUMIF(BDD!$BH$2:$BH$3,\"Banc 131VRAIFAUXFAUXFAUXVRAI\",BDD!$Z$2:$Z$3)","v":0},{"$f":"SUMIF(BDD!$BH$2:$BH$3,\"Banc 131FAUXVRAIVRAIFAUXFAUX\",BDD!$Z$2:$Z$3)","v":0},{"$f":"SUMIF(BDD!$BH$2:$BH$3,\"Banc 131FAUXVRAIFAUXVRAIFAUX\",BDD!$Z$2:$Z$3)","v":0},{"$f":"SUMIF(BDD!$BH$2:$BH$3,\"Banc 131FAUXVRAIFAUXFAUXVRAI\",BDD!$Z$2:$Z$3)","v":0},{"$f":"SUMIF(BDD!$BH$2:$BH$3,\"Banc 131VRAIFAUXVRAIFAUXFAUX\",BDD!$Z$2:$Z$3)","v":0},{"$f":"SUMIF(BDD!$BH$2:$BH$3,\"Banc 131VRAIFAUXFAUXVRAIFAUX\",BDD!$Z$2:$Z$3)","v":0},{"$f":"SUMIF(BDD!$BH$2:$BH$3,\"Banc 131VRAIFAUXFAUXFAUXVRAI\",BDD!$Z$2:$Z$3)","v":0},{"$f":"SUMIF(BDD!$BH$2:$BH$3,\"Banc 131FAUXVRAIVRAIFAUXFAUX\",BDD!$Z$2:$Z$3)","v":0},{"$f":"SUMIF(BDD!$BH$2:$BH$3,\"Banc 131FAUXVRAIFAUXVRAIFAUX\",BDD!$Z$2:$Z$3)","v":0},{"$f":"SUMIF(BDD!$BH$2:$BH$3,\"Banc 131FAUXVRAIFAUXFAUXVRAI\",BDD!$Z$2:$Z$3)","v":0},{"$f":"SUMIF(BDD!$BH$2:$BH$3,\"Banc 131VRAIFAUXVRAIFAUXFAUX\",BDD!$Z$2:$Z$3)","v":0},{"$f":"SUMIF(BDD!$BH$2:$BH$3,\"Banc 131VRAIFAUXFAUXVRAIFAUX\",BDD!$Z$2:$Z$3)","v":0},{"$f":"SUMIF(BDD!$BH$2:$BH$3,\"Banc 131VRAIFAUXFAUXFAUXVRAI\",BDD!$Z$2:$Z$3)","v":0},{"$f":"SUMIF(BDD!$BH$2:$BH$3,\"Banc 131FAUXVRAIVRAIFAUXFAUX\",BDD!$Z$2:$Z$3)","v":0},{"$f":"SUMIF(BDD!$BH$2:$BH$3,\"Banc 131FAUXVRAIFAUXVRAIFAUX\",BDD!$Z$2:$Z$3)","v":0},{"$f":"SUMIF(BDD!$BH$2:$BH$3,\"Banc 131FAUXVRAIFAUXFAUXVRAI\",BDD!$Z$2:$Z$3)","v":0},{"$f":"SUMIF(BDD!$BH$2:$BH$3,\"Banc 131VRAIFAUXVRAIFAUXFAUX\",BDD!$Z$2:$Z$3)","v":0},{"$f":"SUMIF(BDD!$BH$2:$BH$3,\"Banc 131VRAIFAUXFAUXVRAIFAUX\",BDD!$Z$2:$Z$3)","v":0},{"$f":"SUMIF(BDD!$BH$2:$BH$3,\"Banc 131VRAIFAUXFAUXFAUXVRAI\",BDD!$Z$2:$Z$3)","v":0},{"$f":"SUMIF(BDD!$BH$2:$BH$3,\"Banc 131FAUXVRAIVRAIFAUXFAUX\",BDD!$Z$2:$Z$3)","v":0},{"$f":"SUMIF(BDD!$BH$2:$BH$3,\"Banc 131FAUXVRAIFAUXVRAIFAUX\",BDD!$Z$2:$Z$3)","v":0},{"$f":"SUMIF(BDD!$BH$2:$BH$3,\"Banc 131FAUXVRAIFAUXFAUXVRAI\",BDD!$Z$2:$Z$3)","v":0},{"$f":"SUMIF(BDD!$BH$2:$BH$3,\"Banc 131VRAIFAUXVRAIFAUXFAUX\",BDD!$Z$2:$Z$3)","v":0},{"$f":"SUMIF(BDD!$BH$2:$BH$3,\"Banc 131VRAIFAUXFAUXVRAIFAUX\",BDD!$Z$2:$Z$3)","v":0},{"$f":"SUMIF(BDD!$BH$2:$BH$3,\"Banc 131VRAIFAUXFAUXFAUXVRAI\",BDD!$Z$2:$Z$3)","v":0},{"$f":"SUMIF(BDD!$BH$2:$BH$3,\"Banc 131FAUXVRAIVRAIFAUXFAUX\",BDD!$Z$2:$Z$3)","v":0},{"$f":"SUMIF(BDD!$BH$2:$BH$3,\"Banc 131FAUXVRAIFAUXVRAIFAUX\",BDD!$Z$2:$Z$3)","v":0},{"$f":"SUMIF(BDD!$BH$2:$BH$3,\"Banc 131FAUXVRAIFAUXFAUXVRAI\",BDD!$Z$2:$Z$3)","v":0},{"$f":"SUMIF(BDD!$BH$2:$BH$3,\"Banc 131VRAIFAUXVRAIFAUXFAUX\",BDD!$Z$2:$Z$3)","v":0},{"$f":"SUMIF(BDD!$BH$2:$BH$3,\"Banc 131VRAIFAUXFAUXVRAIFAUX\",BDD!$Z$2:$Z$3)","v":0},{"$f":"SUMIF(BDD!$BH$2:$BH$3,\"Banc 131VRAIFAUXFAUXFAUXVRAI\",BDD!$Z$2:$Z$3)","v":0},{"$f":"SUMIF(BDD!$BH$2:$BH$3,\"Banc 131FAUXVRAIVRAIFAUXFAUX\",BDD!$Z$2:$Z$3)","v":0},{"$f":"SUMIF(BDD!$BH$2:$BH$3,\"Banc 131FAUXVRAIFAUXVRAIFAUX\",BDD!$Z$2:$Z$3)","v":0},{"$f":"SUMIF(BDD!$BH$2:$BH$3,\"Banc 131FAUXVRAIFAUXFAUXVRAI\",BDD!$Z$2:$Z$3)","v":0},{"$f":"SUMIF(BDD!$BH$2:$BH$3,\"Banc 131VRAIFAUXVRAIFAUXFAUX\",BDD!$Z$2:$Z$3)","v":0},{"$f":"SUMIF(BDD!$BH$2:$BH$3,\"Banc 131VRAIFAUXFAUXVRAIFAUX\",BDD!$Z$2:$Z$3)","v":0},{"$f":"SUMIF(BDD!$BH$2:$BH$3,\"Banc 131VRAIFAUXFAUXFAUXVRAI\",BDD!$Z$2:$Z$3)","v":0},{"$f":"SUMIF(BDD!$BH$2:$BH$3,\"Banc 131FAUXVRAIVRAIFAUXFAUX\",BDD!$Z$2:$Z$3)","v":0},{"$f":"SUMIF(BDD!$BH$2:$BH$3,\"Banc 131FAUXVRAIFAUXVRAIFAUX\",BDD!$Z$2:$Z$3)","v":0},{"$f":"SUMIF(BDD!$BH$2:$BH$3,\"Banc 131FAUXVRAIFAUXFAUXVRAI\",BDD!$Z$2:$Z$3)","v":0},{"$f":"SUMIF(BDD!$BH$2:$BH$3,\"Banc 131VRAIFAUXVRAIFAUXFAUX\",BDD!$Z$2:$Z$3)","v":0},{"$f":"SUMIF(BDD!$BH$2:$BH$3,\"Banc 131VRAIFAUXFAUXVRAIFAUX\",BDD!$Z$2:$Z$3)","v":0},{"$f":"SUMIF(BDD!$BH$2:$BH$3,\"Banc 131VRAIFAUXFAUXFAUXVRAI\",BDD!$Z$2:$Z$3)","v":0},{"$f":"SUMIF(BDD!$BH$2:$BH$3,\"Banc 131FAUXVRAIVRAIFAUXFAUX\",BDD!$Z$2:$Z$3)","v":0},{"$f":"SUMIF(BDD!$BH$2:$BH$3,\"Banc 131FAUXVRAIFAUXVRAIFAUX\",BDD!$Z$2:$Z$3)","v":0},{"$f":"SUMIF(BDD!$BH$2:$BH$3,\"Banc 131FAUXVRAIFAUXFAUXVRAI\",BDD!$Z$2:$Z$3)","v":0},{"$f":"SUMIF(BDD!$BH$2:$BH$3,\"Banc 131VRAIFAUXVRAIFAUXFAUX\",BDD!$Z$2:$Z$3)","v":0},{"$f":"SUMIF(BDD!$BH$2:$BH$3,\"Banc 131VRAIFAUXFAUXVRAIFAUX\",BDD!$Z$2:$Z$3)","v":0},{"$f":"SUMIF(BDD!$BH$2:$BH$3,\"Banc 131VRAIFAUXFAUXFAUXVRAI\",BDD!$Z$2:$Z$3)","v":0},{"$f":"SUMIF(BDD!$BH$2:$BH$3,\"Banc 131FAUXVRAIVRAIFAUXFAUX\",BDD!$Z$2:$Z$3)","v":0},{"$f":"SUMIF(BDD!$BH$2:$BH$3,\"Banc 131FAUXVRAIFAUXVRAIFAUX\",BDD!$Z$2:$Z$3)","v":0},{"$f":"SUMIF(BDD!$BH$2:$BH$3,\"Banc 131FAUXVRAIFAUXFAUXVRAI\",BDD!$Z$2:$Z$3)","v":0}]

{"sheet":"Indicateur Banc","index":8,"n_rows":8,"n_cols":13,"rows_kept":8,"cut":false,"hidden":false,"merged":[[2,1,2,12],[4,1,4,12],[6,1,6,12]]}
[]
[]
[null,"Suivi du correctif et du préventif"]
["Type de maintenance","Janvier","Février","Mars","Avril","Mai","Juin","Juillet","Août","Septembre","Octobre","Novembre","Décembre"]
[null,"Préventif"]
[true,{"$f":"SUMIF(BDD!$M$2:$M$3,'Indicateur Banc'!$A$6,BDD!$Z$2:$Z$3)","v":0},{"$f":"SUMIF(BDD!$M$2:$M$3,'Indicateur Banc'!$A$6,BDD!$Z$2:$Z$3)","v":0},{"$f":"SUMIF(BDD!$M$2:$M$30,'Indicateur Banc'!$A$6,BDD!$Z$2:$Z$30)","v":34.999999999999993},{"$f":"SUMIF(BDD!$M$2:$M$3,'Indicateur Banc'!$A$6,BDD!$Z$2:$Z$3)","v":0},{"$f":"SUMIF(BDD!$M$2:$M$3,'Indicateur Banc'!$A$6,BDD!$Z$2:$Z$3)","v":0},{"$f":"SUMIF(BDD!$M$2:$M$3,'Indicateur Banc'!$A$6,BDD!$Z$2:$Z$3)","v":0},{"$f":"SUMIF(BDD!$M$2:$M$3,'Indicateur Banc'!$A$6,BDD!$Z$2:$Z$3)","v":0},{"$f":"SUMIF(BDD!$M$2:$M$3,'Indicateur Banc'!$A$6,BDD!$Z$2:$Z$3)","v":0},{"$f":"SUMIF(BDD!$M$2:$M$3,'Indicateur Banc'!$A$6,BDD!$Z$2:$Z$3)","v":0},{"$f":"SUMIF(BDD!$M$2:$M$3,'Indicateur Banc'!$A$6,BDD!$Z$2:$Z$3)","v":0},{"$f":"SUMIF(BDD!$M$2:$M$3,'Indicateur Banc'!$A$6,BDD!$Z$2:$Z$3)","v":0},{"$f":"SUMIF(BDD!$M$2:$M$3,'Indicateur Banc'!$A$6,BDD!$Z$2:$Z$3)","v":0}]
[null,"Correctif"]
[true,{"$f":"SUMIF(BDD!$L$2:$L$3,'Indicateur Banc'!$A$8,BDD!$Z$2:$Z$3)","v":0},{"$f":"SUMIF(BDD!$L$2:$L$3,'Indicateur Banc'!$A$8,BDD!$Z$2:$Z$3)","v":0},{"$f":"SUMIF(BDD!$L$2:$L$30,'Indicateur Banc'!$A$8,BDD!$Z$2:$Z$30)","v":19.02},{"$f":"SUMIF(BDD!$L$2:$L$3,'Indicateur Banc'!$A$8,BDD!$Z$2:$Z$3)","v":0},{"$f":"SUMIF(BDD!$L$2:$L$3,'Indicateur Banc'!$A$8,BDD!$Z$2:$Z$3)","v":0},{"$f":"SUMIF(BDD!$L$2:$L$3,'Indicateur Banc'!$A$8,BDD!$Z$2:$Z$3)","v":0},{"$f":"SUMIF(BDD!$L$2:$L$3,'Indicateur Banc'!$A$8,BDD!$Z$2:$Z$3)","v":0},{"$f":"SUMIF(BDD!$L$2:$L$3,'Indicateur Banc'!$A$8,BDD!$Z$2:$Z$3)","v":0},{"$f":"SUMIF(BDD!$L$2:$L$3,'Indicateur Banc'!$A$8,BDD!$Z$2:$Z$3)","v":0},{"$f":"SUMIF(BDD!$L$2:$L$3,'Indicateur Banc'!$A$8,BDD!$Z$2:$Z$3)","v":0},{"$f":"SUMIF(BDD!$L$2:$L$3,'Indicateur Banc'!$A$8,BDD!$Z$2:$Z$3)","v":0},{"$f":"SUMIF(BDD!$L$2:$L$3,'Indicateur Banc'!$A$8,BDD!$Z$2:$Z$3)","v":0}]