{"text_format":"1","workbook":"xlsx","n_sheets":3,"sheets":["Match allez 1","Match retour","Classement"],"not_rendered":{"charts":0,"images":0,"macros":1,"external_links":0,"defined_names":2,"comments":0,"pivot_tables":0},"unopened":[],"bounds":{"document_bytes":16777216,"sheet_cells":100000,"rows_first":2000,"rows_last":500,"rows_between":2000,"halvings":0,"cell_chars":16384,"cell_head_chars":4096},"cells_cut":0,"cells_raw":0,"read":"whole","date_system":"1900"}

{"sheet":"Match allez 1","index":0,"n_rows":187,"n_cols":21,"rows_kept":187,"cut":false,"hidden":false,"merged":[[0,0,0,2],[1,0,1,2],[2,4,2,9],[2,11,2,14],[20,4,20,9]]}
["TOURNOI FIFA DEALABS - PS4"]
["COMMUNAUTE : FIFALABS"]
[null,null,null,null,"CLASSEMENT FORMULES",null,null,null,null,null,null,"Résultats"]
["Pseudo Dealabs","ID PSN","Equipe",null,"Equipe","Points","Match joués","Buts pour","Buts contre","Goal Average",null,"Equipe 1","Score 1","Score 2","Equipe 2"]
["Aurelson","aurelson","Braga",null,"Braga",{"$f":"SUM(U5:U15)","v":1},{"$f":"11-COUNTBLANK(M5:M15)","v":4},{"$f":"SUM(M5:M15)","v":5},{"$f":"SUM(N5:N15)","v":8},{"$f":"H5-I5","v":-3},null,"Braga",null,null,"Southampton",null,{"$f":"IF(M5>N5,3,0)","v":0},{"$f":"IF(M5=\"\",0,IF(M5=N5,1,0))","v":0},{"$f":"IF(N5>M5,6,0)","v":0},{"$f":"IF(M5=\"\",0,SUM(Q5:S5))","v":0},{"$f":"VLOOKUP(T5,Classement!$B$2:$C$7,2,0)","v":0}]
["Alexpulsion","Alexpulsion","Southampton",null,"Southampton",{"$f":"SUM(U16:U26)","v":2},{"$f":"11-COUNTBLANK(M16:M26)","v":2},{"$f":"SUM(M16:M26)","v":4},{"$f":"SUM(N16:N26)","v":4},0,null,"Braga",null,null,"Fiorentina",null,{"$f":"IF(M6>N6,3,0)","v":0},{"$f":"IF(M6=\"\",0,IF(M6=N6,1,0))","v":0},{"$f":"IF(N6>M6,6,0)","v":0},{"$f":"IF(M6=\"\",0,SUM(Q6:S6))","v":0},{"$f":"VLOOKUP(T6,Classement!$B$2:$C$7,2,0)","v":0}]
["Alexnanie","Diego-Alexis","Fiorentina",null,"Fiorentina",{"$f":"SUM(U27:U37)","v":9},{"$f":"11-COUNTBLANK(M27:M37)","v":4},{"$f":"SUM(M27:M37)","v":6},{"$f":"SUM(N27:N37)","v":6},0,null,"Braga",2,3,"Celta Vigo",null,0,0,6,6,{"$f":"VLOOKUP(T7,Classement!$B$2:$C$7,2,0)","v":0}]
["Roazhon91","Briand35000","Celta Vigo",null,"Celta Vigo",{"$f":"SUM(U38:U48)","v":10},{"$f":"11-COUNTBLANK(M38:M48)","v":7},{"$f":" SUM(M38:M48)","v":13},{"$f":"SUM(N38:N48)","v":10},3,null,"Braga",1,2,"Torino",null,0,0,6,6,{"$f":"VLOOKUP(T8,Classement!$B$2:$C$7,2,0)","v":0}]
["Toophe","Toophe","Torino",null,"Torino",{"$f":"SUM(U49:U59)","v":9},{"$f":"11-COUNTBLANK(M49:M59)","v":3},{"$f":" SUM(M49:M59)","v":4},{"$f":"SUM(N49:N59)","v":1},3,null,"Braga",null,null,"Werder",null,0,0,0,0,{"$f":"VLOOKUP(T9,Classement!$B$2:$C$7,2,0)","v":0}]
["Fabien59190","Fabien59390","Werder",null,"Werder",{"$f":"SUM(U60:U70)","v":3},{"$f":"11-COUNTBLANK(M60:M70)","v":2},{"$f":" SUM(M60:M70)","v":3},{"$f":"SUM(N60:N70)","v":4},-1,null,"Braga",1,1,"St etienne",null,0,1,0,1,{"$f":"VLOOKUP(T10,Classement!$B$2:$C$7,2,0)","v":1}]
["Astha","astharoth-666","St etienne",null,"St etienne",{"$f":"SUM(U71:U81)","v":7},{"$f":"11-COUNTBLANK(M71:M81)","v":4},{"$f":" SUM(M71:M81)","v":7},{"$f":"SUM(N71:N81)","v":4},3,null,"Braga",null,null,"Nice",null,0,0,0,0,{"$f":"VLOOKUP(T11,Classement!$B$2:$C$7,2,0)","v":0}]
["Rasmus","cyber-soc","Nice",null,"Nice",{"$f":"SUM(U82:U92)","v":0},{"$f":"11-COUNTBLANK(M82:M92)","v":3},{"$f":" SUM(M82:M92)","v":2},{"$f":"SUM(N82:N92)","v":10},-8,null,"Braga",1,2,"Swansea",null,0,0,6,6,{"$f":"VLOOKUP(T12,Classement!$B$2:$C$7,2,0)","v":0}]
["Guizmo35","Guizmo_35","Swansea",null,"Swansea",{"$f":"SUM(U93:U103)","v":11},{"$f":"11-COUNTBLANK(M93:M103)","v":6},{"$f":" SUM(M93:M103)","v":16},{"$f":"SUM(N93:N103)","v":7},9,null,"Braga",null,null,"Cologne",null,0,0,0,0,{"$f":"VLOOKUP(T13,Classement!$B$2:$C$7,2,0)","v":0}]
["HamtaroJoly",null,"Cologne",null,"Cologne",{"$f":"SUM(U104:U114)","v":0},{"$f":"11-COUNTBLANK(M104:M114)","v":0},{"$f":" SUM(M104:M114)","v":0},{"$f":"SUM(N104:N114)","v":0},0,null,"Braga",null,null,"Real Sociedad ",null,0,0,0,0,{"$f":"VLOOKUP(T14,Classement!$B$2:$C$7,2,0)","v":0}]
["Manuinho"," Manuinho35","Real Sociedad ",null,"Real Sociedad ",{"$f":"SUM(U115:U125)","v":4},{"$f":"11-COUNTBLANK(M115:M125)","v":2},{"$f":" SUM(M115:M125)","v":3},{"$f":"SUM(N115:N125)","v":2},1,null,"Braga",null,null,"Club Bruges",null,0,0,0,0,{"$f":"VLOOKUP(T15,Classement!$B$2:$C$7,2,0)","v":0}]
["Douda68","voegtldo","Club Bruges",null,"Club Bruges",{"$f":"SUM(U126:U136)","v":2},{"$f":"11-COUNTBLANK(M126:M136)","v":5},{"$f":" SUM(M126:M136)","v":4},{"$f":"SUM(N126:N136)","v":11},-7,null,"Southampton",null,null,"Fiorentina",null,{"$f":"IF(M16>N16,3,0)","v":0},{"$f":"IF(M16=\"\",0,IF(M16=N16,1,0))","v":0},{"$f":"IF(N16>M16,6,0)","v":0},{"$f":"IF(M16=\"\",0,SUM(Q16:S16))","v":0},{"$f":"VLOOKUP(T16,Classement!$B$2:$C$7,2,0)","v":0}]
[null,null,null,null,null,null,null,null,null,null,null,"Southampton",null,null,"Celta Vigo",null,{"$f":"IF(M17>N17,3,0)","v":0},{"$f":"IF(M17=\"\",0,IF(M17=N17,1,0))","v":0},{"$f":"IF(N17>M17,6,0)","v":0},{"$f":"IF(M17=\"\",0,SUM(Q17:S17))","v":0},{"$f":"VLOOKUP(T17,Classement!$B$2:$C$7,2,0)","v":0}]
[null,null,null,null,null,null,null,null,null,null,null,"Southampton",null,null,"Torino",null,{"$f":"IF(M18>N18,3,0)","v":0},{"$f":"IF(M18=\"\",0,IF(M18=N18,1,0))","v":0},{"$f":"IF(N18>M18,6,0)","v":0},{"$f":"IF(M18=\"\",0,SUM(Q18:S18))","v":0},{"$f":"VLOOKUP(T18,Classement!$B$2:$C$7,2,0)","v":0}]
[null,null,null,null,null,null,null,null,null,null,null,"Southampton",null,null,"Werder",null,{"$f":"IF(M19>N19,3,0)","v":0},{"$f":"IF(M19=\"\",0,IF(M19=N19,1,0))","v":0},{"$f":"IF(N19>M19,6,0)","v":0},{"$f":"IF(M19=\"\",0,SUM(Q19:S19))","v":0},{"$f":"VLOOKUP(T19,Classement!$B$2:$C$7,2,0)","v":0}]
[null,null,null,null,null,null,null,null,null,null,null,"Southampton",null,null,"St etienne",null,{"$f":"IF(M20>N20,3,0)","v":0},{"$f":"IF(M20=\"\",0,IF(M20=N20,1,0))","v":0},{"$f":"IF(N20>M20,6,0)","v":0},{"$f":"IF(M20=\"\",0,SUM(Q20:S20))","v":0},{"$f":"VLOOKUP(T20,Classement!$B$2:$C$7,2,0)","v":0}]
[null,null,null,null,"CLASSEMENT",null,null,null,null,null,null,"Southampton",null,null,"Nice",null,{"$f":"IF(M21>N21,3,0)","v":0},{"$f":"IF(M21=\"\",0,IF(M21=N21,1,0))","v":0},{"$f":"IF(N21>M21,6,0)","v":0},{"$f":"IF(M21=\"\",0,SUM(Q21:S21))","v":0},{"$f":"VLOOKUP(T21,Classement!$B$2:$C$7,2,0)","v":0}]
[null,null,null,null,"Equipe","Points","Match joués","Buts pour","Buts contre","Goal Average",null,"Southampton",2,2,"Swansea",null,{"$f":"IF(M22>N22,3,0)","v":0},{"$f":"IF(M22=\"\",0,IF(M22=N22,1,0))","v":1},{"$f":"IF(N22>M22,6,0)","v":0},{"$f":"IF(M22=\"\",0,SUM(Q22:S22))","v":1},{"$f":"VLOOKUP(T22,Classement!$B$2:$C$7,2,0)","v":1}]
[null,null,null,null,"Braga",null,null,null,null,null,null,"Southampton",null,null,"Cologne",null,{"$f":"IF(M23>N23,3,0)","v":0},{"$f":"IF(M23=\"\",0,IF(M23=N23,1,0))","v":0},{"$f":"IF(N23>M23,6,0)","v":0},{"$f":"IF(M23=\"\",0,SUM(Q23:S23))","v":0},{"$f":"VLOOKUP(T23,Classement!$B$2:$C$7,2,0)","v":0}]
[null,null,null,null,"Southampton",null,null,null,null,null,null,"Southampton",null,null,"Real Sociedad ",null,{"$f":"IF(M24>N24,3,0)","v":0},{"$f":"IF(M24=\"\",0,IF(M24=N24,1,0))","v":0},{"$f":"IF(N24>M24,6,0)","v":0},{"$f":"IF(M24=\"\",0,SUM(Q24:S24))","v":0},{"$f":"VLOOKUP(T24,Classement!$B$2:$C$7,2,0)","v":0}]
[null,null,null,null,"Fiorentina",null,null,null,null,null,null,"Southampton",2,2,"Club Bruges",null,{"$f":"IF(M25>N25,3,0)","v":0},{"$f":"IF(M25=\"\",0,IF(M25=N25,1,0))","v":1},{"$f":"IF(N25>M25,6,0)","v":0},{"$f":"IF(M25=\"\",0,SUM(Q25:S25))","v":1},{"$f":"VLOOKUP(T25,Classement!$B$2:$C$7,2,0)","v":1}]
[null,null,null,null,"Celta Vigo",null,null,null,null,null,null,"Southampton",null,null,"Braga",null,{"$f":"IF(M26>N26,3,0)","v":0},{"$f":"IF(M26=\"\",0,IF(M26=N26,1,0))","v":0},{"$f":"IF(N26>M26,6,0)","v":0},{"$f":"IF(M26=\"\",0,SUM(Q26:S26))","v":0},{"$f":"VLOOKUP(T26,Classement!$B$2:$C$7,2,0)","v":0}]
[null,null,null,null,"Torino",null,null,null,null,null,null,"Fiorentina",1,0,"Celta Vigo",null,{"$f":"IF(M27>N27,3,0)","v":3},{"$f":"IF(M27=\"\",0,IF(M27=N27,1,0))","v":0},{"$f":"IF(N27>M27,6,0)","v":0},{"$f":"IF(M27=\"\",0,SUM(Q27:S27))","v":3},{"$f":"VLOOKUP(T27,Classement!$B$2:$C$7,2,0)","v":3}]
[null,null,null,null,"Werder",null,null,null,null,null,null,"Fiorentina",null,null,"Torino",null,{"$f":"IF(M28>N28,3,0)","v":0},{"$f":"IF(M28=\"\",0,IF(M28=N28,1,0))","v":0},{"$f":"IF(N28>M28,6,0)","v":0},{"$f":"IF(M28=\"\",0,SUM(Q28:S28))","v":0},{"$f":"VLOOKUP(T28,Classement!$B$2:$C$7,2,0)","v":0}]
[null,null,null,null,"St etienne",null,null,null,null,null,null,"Fiorentina",null,null,"Werder",null,{"$f":"IF(M29>N29,3,0)","v":0},{"$f":"IF(M29=\"\",0,IF(M29=N29,1,0))","v":0},{"$f":"IF(N29>M29,6,0)","v":0},{"$f":"IF(M29=\"\",0,SUM(Q29:S29))","v":0},{"$f":"VLOOKUP(T29,Classement!$B$2:$C$7,2,0)","v":0}]
[null,null,null,null,"Nice",null,null,null,null,null,null,"Fiorentina",null,null,"St etienne",null,{"$f":"IF(M30>N30,3,0)","v":0},{"$f":"IF(M30=\"\",0,IF(M30=N30,1,0))","v":0},{"$f":"IF(N30>M30,6,0)","v":0},{"$f":"IF(M30=\"\",0,SUM(Q30:S30))","v":0},{"$f":"VLOOKUP(T30,Classement!$B$2:$C$7,2,0)","v":0}]
[null,null,null,null,"Cologne",null,null,null,null,null,null,"Fiorentina",4,0,"Nice",null,{"$f":"IF(M31>N31,3,0)","v":3},{"$f":"IF(M31=\"\",0,IF(M31=N31,1,0))","v":0},{"$f":"IF(N31>M31,6,0)","v":0},{"$f":"IF(M31=\"\",0,SUM(Q31:S31))","v":3},{"$f":"VLOOKUP(T31,Classement!$B$2:$C$7,2,0)","v":3}]
[null,null,null,null,"Real Sociedad ",null,null,null,null,null,null,"Fiorentina",0,6,"Swansea",null,{"$f":"IF(M32>N32,3,0)","v":0},{"$f":"IF(M32=\"\",0,IF(M32=N32,1,0))","v":0},{"$f":"IF(N32>M32,6,0)","v":6},{"$f":"IF(M32=\"\",0,SUM(Q32:S32))","v":6},{"$f":"VLOOKUP(T32,Classement!$B$2:$C$7,2,0)","v":0}]
[null,null,null,null,"Club Bruges",null,null,null,null,null,null,"Fiorentina",null,null,"Cologne",null,{"$f":"IF(M33>N33,3,0)","v":0},{"$f":"IF(M33=\"\",0,IF(M33=N33,1,0))","v":0},{"$f":"IF(N33>M33,6,0)","v":0},{"$f":"IF(M33=\"\",0,SUM(Q33:S33))","v":0},{"$f":"VLOOKUP(T33,Classement!$B$2:$C$7,2,0)","v":0}]
[null,null,null,null,"Swansea",null,null,null,null,null,null,"Fiorentina",null,null,"Real Sociedad ",null,{"$f":"IF(M34>N34,3,0)","v":0},{"$f":"IF(M34=\"\",0,IF(M34=N34,1,0))","v":0},{"$f":"IF(N34>M34,6,0)","v":0},{"$f":"IF(M34=\"\",0,SUM(Q34:S34))","v":0},{"$f":"VLOOKUP(T34,Classement!$B$2:$C$7,2,0)","v":0}]
[null,null,null,null,null,null,null,null,null,null,null,"Fiorentina",1,0,"Club Bruges",null,{"$f":"IF(M35>N35,3,0)","v":3},{"$f":"IF(M35=\"\",0,IF(M35=N35,1,0))","v":0},{"$f":"IF(N35>M35,6,0)","v":0},{"$f":"IF(M35=\"\",0,SUM(Q35:S35))","v":3},{"$f":"VLOOKUP(T35,Classement!$B$2:$C$7,2,0)","v":3}]
[null,null,null,null,null,null,null,null,null,null,null,"Fiorentina",null,null,"Braga",null,{"$f":"IF(M36>N36,3,0)","v":0},{"$f":"IF(M36=\"\",0,IF(M36=N36,1,0))","v":0},{"$f":"IF(N36>M36,6,0)","v":0},{"$f":"IF(M36=\"\",0,SUM(Q36:S36))","v":0},{"$f":"VLOOKUP(T36,Classement!$B$2:$C$7,2,0)","v":0}]
[null,null,null,null,null,null,null,null,null,null,null,"Fiorentina",null,null,"Southampton",null,{"$f":"IF(M37>N37,3,0)","v":0},{"$f":"IF(M37=\"\",0,IF(M37=N37,1,0))","v":0},{"$f":"IF(N37>M37,6,0)","v":0},{"$f":"IF(M37=\"\",0,SUM(Q37:S37))","v":0},{"$f":"VLOOKUP(T37,Classement!$B$2:$C$7,2,0)","v":0}]
[null,null,null,null,null,null,null,null,null,null,null,"Celta Vigo",0,1,"Torino",null,{"$f":"IF(M38>N38,3,0)","v":0},{"$f":"IF(M38=\"\",0,IF(M38=N38,1,0))","v":0},{"$f":"IF(N38>M38,6,0)","v":6},{"$f":"IF(M38=\"\",0,SUM(Q38:S38))","v":6},{"$f":"VLOOKUP(T38,Classement!$B$2:$C$7,2,0)","v":0}]
[null,null,null,null,null,null,null,null,null,null,null,"Celta Vigo",3,1,"Werder",null,{"$f":"IF(M39>N39,3,0)","v":3},{"$f":"IF(M39=\"\",0,IF(M39=N39,1,0))","v":0},{"$f":"IF(N39>M39,6,0)","v":0},{"$f":"IF(M39=\"\",0,SUM(Q39:S39))","v":3},{"$f":"VLOOKUP(T39,Classement!$B$2:$C$7,2,0)","v":3}]
[null,null,null,null,null,null,null,null,null,null,null,"Celta Vigo",null,null,"St etienne",null,{"$f":"IF(M40>N40,3,0)","v":0},{"$f":"IF(M40=\"\",0,IF(M40=N40,1,0))","v":0},{"$f":"IF(N40>M40,6,0)","v":0},{"$f":"IF(M40=\"\",0,SUM(Q40:S40))","v":0},{"$f":"VLOOKUP(T40,Classement!$B$2:$C$7,2,0)","v":0}]
[null,null,null,null,null,null,null,null,null,null,null,"Celta Vigo",5,2,"Nice",null,{"$f":"IF(M41>N41,3,0)","v":3},{"$f":"IF(M41=\"\",0,IF(M41=N41,1,0))","v":0},{"$f":"IF(N41>M41,6,0)","v":0},{"$f":"IF(M41=\"\",0,SUM(Q41:S41))","v":3},{"$f":"VLOOKUP(T41,Classement!$B$2:$C$7,2,0)","v":3}]
[null,null,null,null,null,null,null,null,null,null,null,"Celta Vigo",null,null,"Swansea",null,{"$f":"IF(M42>N42,3,0)","v":0},{"$f":"IF(M42=\"\",0,IF(M42=N42,1,0))","v":0},{"$f":"IF(N42>M42,6,0)","v":0},{"$f":"IF(M42=\"\",0,SUM(Q42:S42))","v":0},{"$f":"VLOOKUP(T42,Classement!$B$2:$C$7,2,0)","v":0}]
[null,null,null,null,null,null,null,null,null,null,null,"Celta Vigo",null,null,"Cologne",null,{"$f":"IF(M43>N43,3,0)","v":0},{"$f":"IF(M43=\"\",0,IF(M43=N43,1,0))","v":0},{"$f":"IF(N43>M43,6,0)","v":0},{"$f":"IF(M43=\"\",0,SUM(Q43:S43))","v":0},{"$f":"VLOOKUP(T43,Classement!$B$2:$C$7,2,0)","v":0}]
[null,null,null,null,null,null,null,null,null,null,null,"Celta Vigo",1,2,"Real Sociedad ",null,{"$f":"IF(M44>N44,3,0)","v":0},{"$f":"IF(M44=\"\",0,IF(M44=N44,1,0))","v":0},{"$f":"IF(N44>M44,6,0)","v":6},{"$f":"IF(M44=\"\",0,SUM(Q44:S44))","v":6},{"$f":"VLOOKUP(T44,Classement!$B$2:$C$7,2,0)","v":0}]
[null,null,null,null,null,null,null,null,null,null,null,"Celta Vigo",1,1,"Club Bruges",null,{"$f":"IF(M45>N45,3,0)","v":0},{"$f":"IF(M45=\"\",0,IF(M45=N45,1,0))","v":1},{"$f":"IF(N45>M45,6,0)","v":0},{"$f":"IF(M45=\"\",0,SUM(Q45:S45))","v":1},{"$f":"VLOOKUP(T45,Classement!$B$2:$C$7,2,0)","v":1}]
[null,null,null,null,null,null,null,null,null,null,null,"Celta Vigo",3,2,"Braga",null,{"$f":"IF(M46>N46,3,0)","v":3},{"$f":"IF(M46=\"\",0,IF(M46=N46,1,0))","v":0},{"$f":"IF(N46>M46,6,0)","v":0},{"$f":"IF(M46=\"\",0,SUM(Q46:S46))","v":3},{"$f":"VLOOKUP(T46,Classement!$B$2:$C$7,2,0)","v":3}]
[null,null,null,null,null,null,null,null,null,null,null,"Celta Vigo",null,null,"Southampton",null,{"$f":"IF(M47>N47,3,0)","v":0},{"$f":"IF(M47=\"\",0,IF(M47=N47,1,0))","v":0},{"$f":"IF(N47>M47,6,0)","v":0},{"$f":"IF(M47=\"\",0,SUM(Q47:S47))","v":0},{"$f":"VLOOKUP(T47,Classement!$B$2:$C$7,2,0)","v":0}]
[null,null,null,null,null,null,null,null,null,null,null,"Celta Vigo",0,1,"Fiorentina",null,{"$f":"IF(M48>N48,3,0)","v":0},{"$f":"IF(M48=\"\",0,IF(M48=N48,1,0))","v":0},{"$f":"IF(N48>M48,6,0)","v":6},{"$f":"IF(M48=\"\",0,SUM(Q48:S48))","v":6},{"$f":"VLOOKUP(T48,Classement!$B$2:$C$7,2,0)","v":0}]
[null,null,null,null,null,null,null,null,null,null,null,"Torino",null,null,"Werder",null,{"$f":"IF(M49>N49,3,0)","v":0},{"$f":"IF(M49=\"\",0,IF(M49=N49,1,0))","v":0},{"$f":"IF(N49>M49,6,0)","v":0},{"$f":"IF(M49=\"\",0,SUM(Q49:S49))","v":0},{"$f":"VLOOKUP(T49,Classement!$B$2:$C$7,2,0)","v":0}]
[null,null,null,null,null,null,null,null,null,null,null,"Torino",null,null,"St etienne",null,{"$f":"IF(M50>N50,3,0)","v":0},{"$f":"IF(M50=\"\",0,IF(M50=N50,1,0))","v":0},{"$f":"IF(N50>M50,6,0)","v":0},{"$f":"IF(M50=\"\",0,SUM(Q50:S50))","v":0},{"$f":"VLOOKUP(T50,Classement!$B$2:$C$7,2,0)","v":0}]
[null,null,null,null,null,null,null,null,null,null,null,"Torino",1,0,"Nice",null,{"$f":"IF(M51>N51,3,0)","v":3},{"$f":"IF(M51=\"\",0,IF(M51=N51,1,0))","v":0},{"$f":"IF(N51>M51,6,0)","v":0},{"$f":"IF(M51=\"\",0,SUM(Q51:S51))","v":3},{"$f":"VLOOKUP(T51,Classement!$B$2:$C$7,2,0)","v":3}]
[null,null,null,null,null,null,null,null,null,null,null,"Torino",null,null,"Swansea",null,{"$f":"IF(M52>N52,3,0)","v":0},{"$f":"IF(M52=\"\",0,IF(M52=N52,1,0))","v":0},{"$f":"IF(N52>M52,6,0)","v":0},{"$f":"IF(M52=\"\",0,SUM(Q52:S52))","v":0},{"$f":"VLOOKUP(T52,Classement!$B$2:$C$7,2,0)","v":0}]
[null,null,null,null,null,null,null,null,null,null,null,"Torino",null,null,"Cologne",null,{"$f":"IF(M53>N53,3,0)","v":0},{"$f":"IF(M53=\"\",0,IF(M53=N53,1,0))","v":0},{"$f":"IF(N53>M53,6,0)","v":0},{"$f":"IF(M53=\"\",0,SUM(Q53:S53))","v":0},{"$f":"VLOOKUP(T53,Classement!$B$2:$C$7,2,0)","v":0}]
[null,null,null,null,null,null,null,null,null,null,null,"Torino",null,null,"Real Sociedad ",null,{"$f":"IF(M54>N54,3,0)","v":0},{"$f":"IF(M54=\"\",0,IF(M54=N54,1,0))","v":0},{"$f":"IF(N54>M54,6,0)","v":0},{"$f":"IF(M54=\"\",0,SUM(Q54:S54))","v":0},{"$f":"VLOOKUP(T54,Classement!$B$2:$C$7,2,0)","v":0}]
[null,null,null,null,null,null,null,null,null,null,null,"Torino",null,null,"Club Bruges",null,{"$f":"IF(M55>N55,3,0)","v":0},{"$f":"IF(M55=\"\",0,IF(M55=N55,1,0))","v":0},{"$f":"IF(N55>M55,6,0)","v":0},{"$f":"IF(M55=\"\",0,SUM(Q55:S55))","v":0},{"$f":"VLOOKUP(T55,Classement!$B$2:$C$7,2,0)","v":0}]
[null,null,null,null,null,null,null,null,null,null,null,"Torino",2,1,"Braga",null,{"$f":"IF(M56>N56,3,0)","v":3},{"$f":"IF(M56=\"\",0,IF(M56=N56,1,0))","v":0},{"$f":"IF(N56>M56,6,0)","v":0},{"$f":"IF(M56=\"\",0,SUM(Q56:S56))","v":3},{"$f":"VLOOKUP(T56,Classement!$B$2:$C$7,2,0)","v":3}]
[null,null,null,null,null,null,null,null,null,null,null,"Torino",null,null,"Southampton",null,{"$f":"IF(M57>N57,3,0)","v":0},{"$f":"IF(M57=\"\",0,IF(M57=N57,1,0))","v":0},{"$f":"IF(N57>M57,6,0)","v":0},{"$f":"IF(M57=\"\",0,SUM(Q57:S57))","v":0},{"$f":"VLOOKUP(T57,Classement!$B$2:$C$7,2,0)","v":0}]
[null,null,null,null,null,null,null,null,null,null,null,"Torino",null,null,"Fiorentina",null,{"$f":"IF(M58>N58,3,0)","v":0},{"$f":"IF(M58=\"\",0,IF(M58=N58,1,0))","v":0},{"$f":"IF(N58>M58,6,0)","v":0},{"$f":"IF(M58=\"\",0,SUM(Q58:S58))","v":0},{"$f":"VLOOKUP(T58,Classement!$B$2:$C$7,2,0)","v":0}]
[null,null,null,null,null,null,null,null,null,null,null,"Torino",1,0,"Celta Vigo",null,{"$f":"IF(M59>N59,3,0)","v":3},{"$f":"IF(M59=\"\",0,IF(M59=N59,1,0))","v":0},{"$f":"IF(N59>M59,6,0)","v":0},{"$f":"IF(M59=\"\",0,SUM(Q59:S59))","v":3},{"$f":"VLOOKUP(T59,Classement!$B$2:$C$7,2,0)","v":3}]
[null,null,null,null,null,null,null,null,null,null,null,"Werder",2,1,"St etienne",null,{"$f":"IF(M60>N60,3,0)","v":3},{"$f":"IF(M60=\"\",0,IF(M60=N60,1,0))","v":0},{"$f":"IF(N60>M60,6,0)","v":0},{"$f":"IF(M60=\"\",0,SUM(Q60:S60))","v":3},{"$f":"VLOOKUP(T60,Classement!$B$2:$C$7,2,0)","v":3}]
[null,null,null,null,null,null,null,null,null,null,null,"Werder",null,null,"Nice",null,{"$f":"IF(M61>N61,3,0)","v":0},{"$f":"IF(M61=\"\",0,IF(M61=N61,1,0))","v":0},{"$f":"IF(N61>M61,6,0)","v":0},{"$f":"IF(M61=\"\",0,SUM(Q61:S61))","v":0},{"$f":"VLOOKUP(T61,Classement!$B$2:$C$7,2,0)","v":0}]
[null,null,null,null,null,null,null,null,null,null,null,"Werder",null,null,"Swansea",null,{"$f":"IF(M62>N62,3,0)","v":0},{"$f":"IF(M62=\"\",0,IF(M62=N62,1,0))","v":0},{"$f":"IF(N62>M62,6,0)","v":0},{"$f":"IF(M62=\"\",0,SUM(Q62:S62))","v":0},{"$f":"VLOOKUP(T62,Classement!$B$2:$C$7,2,0)","v":0}]
[null,null,null,null,null,null,null,null,null,null,null,"Werder",null,null,"Cologne",null,{"$f":"IF(M63>N63,3,0)","v":0},{"$f":"IF(M63=\"\",0,IF(M63=N63,1,0))","v":0},{"$f":"IF(N63>M63,6,0)","v":0},{"$f":"IF(M63=\"\",0,SUM(Q63:S63))","v":0},{"$f":"VLOOKUP(T63,Classement!$B$2:$C$7,2,0)","v":0}]
[null,null,null,null,null,null,null,null,null,null,null,"Werder",null,null,"Real Sociedad ",null,{"$f":"IF(M64>N64,3,0)","v":0},{"$f":"IF(M64=\"\",0,IF(M64=N64,1,0))","v":0},{"$f":"IF(N64>M64,6,0)","v":0},{"$f":"IF(M64=\"\",0,SUM(Q64:S64))","v":0},{"$f":"VLOOKUP(T64,Classement!$B$2:$C$7,2,0)","v":0}]
[null,null,null,null,null,null,null,null,null,null,null,"Werder",null,null,"Club Bruges",null,{"$f":"IF(M65>N65,3,0)","v":0},{"$f":"IF(M65=\"\",0,IF(M65=N65,1,0))","v":0},{"$f":"IF(N65>M65,6,0)","v":0},{"$f":"IF(M65=\"\",0,SUM(Q65:S65))","v":0},{"$f":"VLOOKUP(T65,Classement!$B$2:$C$7,2,0)","v":0}]
[null,null,null,null,null,null,null,null,null,null,null,"Werder",null,null,"Braga",null,{"$f":"IF(M66>N66,3,0)","v":0},{"$f":"IF(M66=\"\",0,IF(M66=N66,1,0))","v":0},{"$f":"IF(N66>M66,6,0)","v":0},{"$f":"IF(M66=\"\",0,SUM(Q66:S66))","v":0},{"$f":"VLOOKUP(T66,Classement!$B$2:$C$7,2,0)","v":0}]
[null,null,null,null,null,null,null,null,null,null,null,"Werder",null,null,"Southampton",null,{"$f":"IF(M67>N67,3,0)","v":0},{"$f":"IF(M67=\"\",0,IF(M67=N67,1,0))","v":0},{"$f":"IF(N67>M67,6,0)","v":0},{"$f":"IF(M67=\"\",0,SUM(Q67:S67))","v":0},{"$f":"VLOOKUP(T67,Classement!$B$2:$C$7,2,0)","v":0}]
[null,null,null,null,null,null,null,null,null,null,null,"Werder",null,null,"Fiorentina",null,{"$f":"IF(M68>N68,3,0)","v":0},{"$f":"IF(M68=\"\",0,IF(M68=N68,1,0))","v":0},{"$f":"IF(N68>M68,6,0)","v":0},{"$f":"IF(M68=\"\",0,SUM(Q68:S68))","v":0},{"$f":"VLOOKUP(T68,Classement!$B$2:$C$7,2,0)","v":0}]
[null,null,null,null,null,null,null,null,null,null,null,"Werder",1,3,"Celta Vigo",null,{"$f":"IF(M69>N69,3,0)","v":0},{"$f":"IF(M69=\"\",0,IF(M69=N69,1,0))","v":0},{"$f":"IF(N69>M69,6,0)","v":6},{"$f":"IF(M69=\"\",0,SUM(Q69:S69))","v":6},{"$f":"VLOOKUP(T69,Classement!$B$2:$C$7,2,0)","v":0}]
[null,null,null,null,null,null,null,null,null,null,null,"Werder",null,null,"Torino",null,{"$f":"IF(M70>N70,3,0)","v":0},{"$f":"IF(M70=\"\",0,IF(M70=N70,1,0))","v":0},{"$f":"IF(N70>M70,6,0)","v":0},{"$f":"IF(M70=\"\",0,SUM(Q70:S70))","v":0},{"$f":"VLOOKUP(T70,Classement!$B$2:$C$7,2,0)","v":0}]
[null,null,null,null,null,null,null,null,null,null,null,"St etienne",null,null,"Nice",null,{"$f":"IF(M71>N71,3,0)","v":0},{"$f":"IF(M71=\"\",0,IF(M71=N71,1,0))","v":0},{"$f":"IF(N71>M71,6,0)","v":0},{"$f":"IF(M71=\"\",0,SUM(Q71:S71))","v":0},{"$f":"VLOOKUP(T71,Classement!$B$2:$C$7,2,0)","v":0}]
[null,null,null,null,null,null,null,null,null,null,null,"St etienne",2,1,"Swansea",null,{"$f":"IF(M72>N72,3,0)","v":3},{"$f":"IF(M72=\"\",0,IF(M72=N72,1,0))","v":0},{"$f":"IF(N72>M72,6,0)","v":0},{"$f":"IF(M72=\"\",0,SUM(Q72:S72))","v":3},{"$f":"VLOOKUP(T72,Classement!$B$2:$C$7,2,0)","v":3}]
[null,null,null,null,null,null,null,null,null,null,null,"St etienne",null,null,"Cologne",null,{"$f":"IF(M73>N73,3,0)","v":0},{"$f":"IF(M73=\"\",0,IF(M73=N73,1,0))","v":0},{"$f":"IF(N73>M73,6,0)","v":0},{"$f":"IF(M73=\"\",0,SUM(Q73:S73))","v":0},{"$f":"VLOOKUP(T73,Classement!$B$2:$C$7,2,0)","v":0}]
[null,null,null,null,null,null,null,null,null,null,null,"St etienne",null,null,"Real Sociedad ",null,{"$f":"IF(M74>N74,3,0)","v":0},{"$f":"IF(M74=\"\",0,IF(M74=N74,1,0))","v":0},{"$f":"IF(N74>M74,6,0)","v":0},{"$f":"IF(M74=\"\",0,SUM(Q74:S74))","v":0},{"$f":"VLOOKUP(T74,Classement!$B$2:$C$7,2,0)","v":0}]
[null,null,null,null,null,null,null,null,null,null,null,"St etienne",3,0,"Club Bruges",null,{"$f":"IF(M75>N75,3,0)","v":3},{"$f":"IF(M75=\"\",0,IF(M75=N75,1,0))","v":0},{"$f":"IF(N75>M75,6,0)","v":0},{"$f":"IF(M75=\"\",0,SUM(Q75:S75))","v":3},{"$f":"VLOOKUP(T75,Classement!$B$2:$C$7,2,0)","v":3}]
[null,null,null,null,null,null,null,null,null,null,null,"St etienne",1,1,"Braga",null,{"$f":"IF(M76>N76,3,0)","v":0},{"$f":"IF(M76=\"\",0,IF(M76=N76,1,0))","v":1},{"$f":"IF(N76>M76,6,0)","v":0},{"$f":"IF(M76=\"\",0,SUM(Q76:S76))","v":1},{"$f":"VLOOKUP(T76,Classement!$B$2:$C$7,2,0)","v":1}]
[null,null,null,null,null,null,null,null,null,null,null,"St etienne",null,null,"Southampton",null,{"$f":"IF(M77>N77,3,0)","v":0},{"$f":"IF(M77=\"\",0,IF(M77=N77,1,0))","v":0},{"$f":"IF(N77>M77,6,0)","v":0},{"$f":"IF(M77=\"\",0,SUM(Q77:S77))","v":0},{"$f":"VLOOKUP(T77,Classement!$B$2:$C$7,2,0)","v":0}]
[null,null,null,null,null,null,null,null,null,null,null,"St etienne",null,null,"Fiorentina",null,{"$f":"IF(M78>N78,3,0)","v":0},{"$f":"IF(M78=\"\",0,IF(M78=N78,1,0))","v":0},{"$f":"IF(N78>M78,6,0)","v":0},{"$f":"IF(M78=\"\",0,SUM(Q78:S78))","v":0},{"$f":"VLOOKUP(T78,Classement!$B$2:$C$7,2,0)","v":0}]
[null,null,null,null,null,null,null,null,null,null,null,"St etienne",null,null,"Celta Vigo",null,{"$f":"IF(M79>N79,3,0)","v":0},{"$f":"IF(M79=\"\",0,IF(M79=N79,1,0))","v":0},{"$f":"IF(N79>M79,6,0)","v":0},{"$f":"IF(M79=\"\",0,SUM(Q79:S79))","v":0},{"$f":"VLOOKUP(T79,Classement!$B$2:$C$7,2,0)","v":0}]
[null,null,null,null,null,null,null,null,null,null,null,"St etienne",null,null,"Torino",null,{"$f":"IF(M80>N80,3,0)","v":0},{"$f":"IF(M80=\"\",0,IF(M80=N80,1,0))","v":0},{"$f":"IF(N80>M80,6,0)","v":0},{"$f":"IF(M80=\"\",0,SUM(Q80:S80))","v":0},{"$f":"VLOOKUP(T80,Classement!$B$2:$C$7,2,0)","v":0}]
[null,null,null,null,null,null,null,null,null,null,null,"St etienne",1,2,"Werder",null,{"$f":"IF(M81>N81,3,0)","v":0},{"$f":"IF(M81=\"\",0,IF(M81=N81,1,0))","v":0},{"$f":"IF(N81>M81,6,0)","v":6},{"$f":"IF(M81=\"\",0,SUM(Q81:S81))","v":6},{"$f":"VLOOKUP(T81,Classement!$B$2:$C$7,2,0)","v":0}]
[null,null,null,null,null,null,null,null,null,null,null,"Nice",null,null,"Swansea",null,{"$f":"IF(M82>N82,3,0)","v":0},{"$f":"IF(M82=\"\",0,IF(M82=N82,1,0))","v":0},{"$f":"IF(N82>M82,6,0)","v":0},{"$f":"IF(M82=\"\",0,SUM(Q82:S82))","v":0},{"$f":"VLOOKUP(T82,Classement!$B$2:$C$7,2,0)","v":0}]
[null,null,null,null,null,null,null,null,null,null,null,"Nice",null,null,"Cologne",null,{"$f":"IF(M83>N83,3,0)","v":0},{"$f":"IF(M83=\"\",0,IF(M83=N83,1,0))","v":0},{"$f":"IF(N83>M83,6,0)","v":0},{"$f":"IF(M83=\"\",0,SUM(Q83:S83))","v":0},{"$f":"VLOOKUP(T83,Classement!$B$2:$C$7,2,0)","v":0}]
[null,null,null,null,null,null,null,null,null,null,null,"Nice",null,null,"Real Sociedad ",null,{"$f":"IF(M84>N84,3,0)","v":0},{"$f":"IF(M84=\"\",0,IF(M84=N84,1,0))","v":0},{"$f":"IF(N84>M84,6,0)","v":0},{"$f":"IF(M84=\"\",0,SUM(Q84:S84))","v":0},{"$f":"VLOOKUP(T84,Classement!$B$2:$C$7,2,0)","v":0}]
[null,null,null,null,null,null,null,null,null,null,null,"Nice",null,null,"Club Bruges",null,{"$f":"IF(M85>N85,3,0)","v":0},{"$f":"IF(M85=\"\",0,IF(M85=N85,1,0))","v":0},{"$f":"IF(N85>M85,6,0)","v":0},{"$f":"IF(M85=\"\",0,SUM(Q85:S85))","v":0},{"$f":"VLOOKUP(T85,Classement!$B$2:$C$7,2,0)","v":0}]
[null,null,null,null,null,null,null,null,null,null,null,"Nice",null,null,"Braga",null,{"$f":"IF(M86>N86,3,0)","v":0},{"$f":"IF(M86=\"\",0,IF(M86=N86,1,0))","v":0},{"$f":"IF(N86>M86,6,0)","v":0},{"$f":"IF(M86=\"\",0,SUM(Q86:S86))","v":0},{"$f":"VLOOKUP(T86,Classement!$B$2:$C$7,2,0)","v":0}]
[null,null,null,null,null,null,null,null,null,null,null,"Nice",null,null,"Southampton",null,{"$f":"IF(M87>N87,3,0)","v":0},{"$f":"IF(M87=\"\",0,IF(M87=N87,1,0))","v":0},{"$f":"IF(N87>M87,6,0)","v":0},{"$f":"IF(M87=\"\",0,SUM(Q87:S87))","v":0},{"$f":"VLOOKUP(T87,Classement!$B$2:$C$7,2,0)","v":0}]
[null,null,null,null,null,null,null,null,null,null,null,"Nice",0,4,"Fiorentina",null,{"$f":"IF(M88>N88,3,0)","v":0},{"$f":"IF(M88=\"\",0,IF(M88=N88,1,0))","v":0},{"$f":"IF(N88>M88,6,0)","v":6},{"$f":"IF(M88=\"\",0,SUM(Q88:S88))","v":6},{"$f":"VLOOKUP(T88,Classement!$B$2:$C$7,2,0)","v":0}]
[null,null,null,null,null,null,null,null,null,null,null,"Nice",2,5,"Celta Vigo",null,{"$f":"IF(M89>N89,3,0)","v":0},{"$f":"IF(M89=\"\",0,IF(M89=N89,1,0))","v":0},{"$f":"IF(N89>M89,6,0)","v":6},{"$f":"IF(M89=\"\",0,SUM(Q89:S89))","v":6},{"$f":"VLOOKUP(T89,Classement!$B$2:$C$7,2,0)","v":0}]
[null,null,null,null,null,null,null,null,null,null,null,"Nice",0,1,"Torino",null,{"$f":"IF(M90>N90,3,0)","v":0},{"$f":"IF(M90=\"\",0,IF(M90=N90,1,0))","v":0},{"$f":"IF(N90>M90,6,0)","v":6},{"$f":"IF(M90=\"\",0,SUM(Q90:S90))","v":6},{"$f":"VLOOKUP(T90,Classement!$B$2:$C$7,2,0)","v":0}]
[null,null,null,null,null,null,null,null,null,null,null,"Nice",null,null,"Werder",null,{"$f":"IF(M91>N91,3,0)","v":0},{"$f":"IF(M91=\"\",0,IF(M91=N91,1,0))","v":0},{"$f":"IF(N91>M91,6,0)","v":0},{"$f":"IF(M91=\"\",0,SUM(Q91:S91))","v":0},{"$f":"VLOOKUP(T91,Classement!$B$2:$C$7,2,0)","v":0}]
[null,null,null,null,null,null,null,null,null,null,null,"Nice",null,null,"St etienne",null,{"$f":"IF(M92>N92,3,0)","v":0},{"$f":"IF(M92=\"\",0,IF(M92=N92,1,0))","v":0},{"$f":"IF(N92>M92,6,0)","v":0},{"$f":"IF(M92=\"\",0,SUM(Q92:S92))","v":0},{"$f":"VLOOKUP(T92,Classement!$B$2:$C$7,2,0)","v":0}]
[null,null,null,null,null,null,null,null,null,null,null,"Swansea",null,null,"Cologne",null,{"$f":"IF(M93>N93,3,0)","v":0},{"$f":"IF(M93=\"\",0,IF(M93=N93,1,0))","v":0},{"$f":"IF(N93>M93,6,0)","v":0},{"$f":"IF(M93=\"\",0,SUM(Q93:S93))","v":0},{"$f":"VLOOKUP(T93,Classement!$B$2:$C$7,2,0)","v":0}]
[null,null,null,null,null,null,null,null,null,null,null,"Swansea",1,1,"Real Sociedad ",null,{"$f":"IF(M94>N94,3,0)","v":0},{"$f":"IF(M94=\"\",0,IF(M94=N94,1,0))","v":1},{"$f":"IF(N94>M94,6,0)","v":0},{"$f":"IF(M94=\"\",0,SUM(Q94:S94))","v":1},{"$f":"VLOOKUP(T94,Classement!$B$2:$C$7,2,0)","v":1}]
[null,null,null,null,null,null,null,null,null,null,null,"Swansea",4,1,"Club Bruges",null,{"$f":"IF(M95>N95,3,0)","v":3},{"$f":"IF(M95=\"\",0,IF(M95=N95,1,0))","v":0},{"$f":"IF(N95>M95,6,0)","v":0},{"$f":"IF(M95=\"\",0,SUM(Q95:S95))","v":3},{"$f":"VLOOKUP(T95,Classement!$B$2:$C$7,2,0)","v":3}]
[null,null,null,null,null,null,null,null,null,null,null,"Swansea",2,1,"Braga",null,{"$f":"IF(M96>N96,3,0)","v":3},{"$f":"IF(M96=\"\",0,IF(M96=N96,1,0))","v":0},{"$f":"IF(N96>M96,6,0)","v":0},{"$f":"IF(M96=\"\",0,SUM(Q96:S96))","v":3},{"$f":"VLOOKUP(T96,Classement!$B$2:$C$7,2,0)","v":3}]
[null,null,null,null,null,null,null,null,null,null,null,"Swansea",2,2,"Southampton",null,{"$f":"IF(M97>N97,3,0)","v":0},{"$f":"IF(M97=\"\",0,IF(M97=N97,1,0))","v":1},{"$f":"IF(N97>M97,6,0)","v":0},{"$f":"IF(M97=\"\",0,SUM(Q97:S97))","v":1},{"$f":"VLOOKUP(T97,Classement!$B$2:$C$7,2,0)","v":1}]
[null,null,null,null,null,null,null,null,null,null,null,"Swansea",6,0,"Fiorentina",null,{"$f":"IF(M98>N98,3,0)","v":3},{"$f":"IF(M98=\"\",0,IF(M98=N98,1,0))","v":0},{"$f":"IF(N98>M98,6,0)","v":0},{"$f":"IF(M98=\"\",0,SUM(Q98:S98))","v":3},{"$f":"VLOOKUP(T98,Classement!$B$2:$C$7,2,0)","v":3}]
[null,null,null,null,null,null,null,null,null,null,null,"Swansea",null,null,"Celta Vigo",null,{"$f":"IF(M99>N99,3,0)","v":0},{"$f":"IF(M99=\"\",0,IF(M99=N99,1,0))","v":0},{"$f":"IF(N99>M99,6,0)","v":0},{"$f":"IF(M99=\"\",0,SUM(Q99:S99))","v":0},{"$f":"VLOOKUP(T99,Classement!$B$2:$C$7,2,0)","v":0}]
[null,null,null,null,null,null,null,null,null,null,null,"Swansea",null,null,"Torino",null,{"$f":"IF(M100>N100,3,0)","v":0},{"$f":"IF(M100=\"\",0,IF(M100=N100,1,0))","v":0},{"$f":"IF(N100>M100,6,0)","v":0},{"$f":"IF(M100=\"\",0,SUM(Q100:S100))","v":0},{"$f":"VLOOKUP(T100,Classement!$B$2:$C$7,2,0)","v":0}]
[null,null,null,null,null,null,null,null,null,null,null,"Swansea",null,null,"Werder",null,{"$f":"IF(M101>N101,3,0)","v":0},{"$f":"IF(M101=\"\",0,IF(M101=N101,1,0))","v":0},{"$f":"IF(N101>M101,6,0)","v":0},{"$f":"IF(M101=\"\",0,SUM(Q101:S101))","v":0},{"$f":"VLOOKUP(T101,Classement!$B$2:$C$7,2,0)","v":0}]
[null,null,null,null,null,null,null,null,null,null,null,"Swansea",1,2,"St etienne",null,{"$f":"IF(M102>N102,3,0)","v":0},{"$f":"IF(M102=\"\",0,IF(M102=N102,1,0))","v":0},{"$f":"IF(N102>M102,6,0)","v":6},{"$f":"IF(M102=\"\",0,SUM(Q102:S102))","v":6},{"$f":"VLOOKUP(T102,Classement!$B$2:$C$7,2,0)","v":0}]
[null,null,null,null,null,null,null,null,null,null,null,"Swansea",null,null,"Nice",null,{"$f":"IF(M103>N103,3,0)","v":0},{"$f":"IF(M103=\"\",0,IF(M103=N103,1,0))","v":0},{"$f":"IF(N103>M103,6,0)","v":0},{"$f":"IF(M103=\"\",0,SUM(Q103:S103))","v":0},{"$f":"VLOOKUP(T103,Classement!$B$2:$C$7,2,0)","v":0}]
[null,null,null,null,null,null,null,null,null,null,null,"Cologne",null,null,"Real Sociedad ",null,{"$f":"IF(M104>N104,3,0)","v":0},{"$f":"IF(M104=\"\",0,IF(M104=N104,1,0))","v":0},{"$f":"IF(N104>M104,6,0)","v":0},{"$f":"IF(M104=\"\",0,SUM(Q104:S104))","v":0},{"$f":"VLOOKUP(T104,Classement!$B$2:$C$7,2,0)","v":0}]
[null,null,null,null,null,null,null,null,null,null,null,"Cologne",null,null,"Club Bruges",null,{"$f":"IF(M105>N105,3,0)","v":0},{"$f":"IF(M105=\"\",0,IF(M105=N105,1,0))","v":0},{"$f":"IF(N105>M105,6,0)","v":0},{"$f":"IF(M105=\"\",0,SUM(Q105:S105))","v":0},{"$f":"VLOOKUP(T105,Classement!$B$2:$C$7,2,0)","v":0}]
[null,null,null,null,null,null,null,null,null,null,null,"Cologne",null,null,"Braga",null,{"$f":"IF(M106>N106,3,0)","v":0},{"$f":"IF(M106=\"\",0,IF(M106=N106,1,0))","v":0},{"$f":"IF(N106>M106,6,0)","v":0},{"$f":"IF(M106=\"\",0,SUM(Q106:S106))","v":0},{"$f":"VLOOKUP(T106,Classement!$B$2:$C$7,2,0)","v":0}]
[null,null,null,null,null,null,null,null,null,null,null,"Cologne",null,null,"Southampton",null,{"$f":"IF(M107>N107,3,0)","v":0},{"$f":"IF(M107=\"\",0,IF(M107=N107,1,0))","v":0},{"$f":"IF(N107>M107,6,0)","v":0},{"$f":"IF(M107=\"\",0,SUM(Q107:S107))","v":0},{"$f":"VLOOKUP(T107,Classement!$B$2:$C$7,2,0)","v":0}]
[null,null,null,null,null,null,null,null,null,null,null,"Cologne",null,null,"Fiorentina",null,{"$f":"IF(M108>N108,3,0)","v":0},{"$f":"IF(M108=\"\",0,IF(M108=N108,1,0))","v":0},{"$f":"IF(N108>M108,6,0)","v":0},{"$f":"IF(M108=\"\",0,SUM(Q108:S108))","v":0},{"$f":"VLOOKUP(T108,Classement!$B$2:$C$7,2,0)","v":0}]
[null,null,null,null,null,null,null,null,null,null,null,"Cologne",null,null,"Celta Vigo",null,{"$f":"IF(M109>N109,3,0)","v":0},{"$f":"IF(M109=\"\",0,IF(M109=N109,1,0))","v":0},{"$f":"IF(N109>M109,6,0)","v":0},{"$f":"IF(M109=\"\",0,SUM(Q109:S109))","v":0},{"$f":"VLOOKUP(T109,Classement!$B$2:$C$7,2,0)","v":0}]
[null,null,null,null,null,null,null,null,null,null,null,"Cologne",null,null,"Torino",null,{"$f":"IF(M110>N110,3,0)","v":0},{"$f":"IF(M110=\"\",0,IF(M110=N110,1,0))","v":0},{"$f":"IF(N110>M110,6,0)","v":0},{"$f":"IF(M110=\"\",0,SUM(Q110:S110))","v":0},{"$f":"VLOOKUP(T110,Classement!$B$2:$C$7,2,0)","v":0}]
[null,null,null,null,null,null,null,null,null,null,null,"Cologne",null,null,"Werder",null,{"$f":"IF(M111>N111,3,0)","v":0},{"$f":"IF(M111=\"\",0,IF(M111=N111,1,0))","v":0},{"$f":"IF(N111>M111,6,0)","v":0},{"$f":"IF(M111=\"\",0,SUM(Q111:S111))","v":0},{"$f":"VLOOKUP(T111,Classement!$B$2:$C$7,2,0)","v":0}]
[null,null,null,null,null,null,null,null,null,null,null,"Cologne",null,null,"St etienne",null,{"$f":"IF(M112>N112,3,0)","v":0},{"$f":"IF(M112=\"\",0,IF(M112=N112,1,0))","v":0},{"$f":"IF(N112>M112,6,0)","v":0},{"$f":"IF(M112=\"\",0,SUM(Q112:S112))","v":0},{"$f":"VLOOKUP(T112,Classement!$B$2:$C$7,2,0)","v":0}]
[null,null,null,null,null,null,null,null,null,null,null,"Cologne",null,null,"Nice",null,{"$f":"IF(M113>N113,3,0)","v":0},{"$f":"IF(M113=\"\",0,IF(M113=N113,1,0))","v":0},{"$f":"IF(N113>M113,6,0)","v":0},{"$f":"IF(M113=\"\",0,SUM(Q113:S113))","v":0},{"$f":"VLOOKUP(T113,Classement!$B$2:$C$7,2,0)","v":0}]
[null,null,null,null,null,null,null,null,null,null,null,"Cologne",null,null,"Swansea",null,{"$f":"IF(M114>N114,3,0)","v":0},{"$f":"IF(M114=\"\",0,IF(M114=N114,1,0))","v":0},{"$f":"IF(N114>M114,6,0)","v":0},{"$f":"IF(M114=\"\",0,SUM(Q114:S114))","v":0},{"$f":"VLOOKUP(T114,Classement!$B$2:$C$7,2,0)","v":0}]
[null,null,null,null,null,null,null,null,null,null,null,"Real Sociedad ",null,null,"Club Bruges",null,{"$f":"IF(M115>N115,3,0)","v":0},{"$f":"IF(M115=\"\",0,IF(M115=N115,1,0))","v":0},{"$f":"IF(N115>M115,6,0)","v":0},{"$f":"IF(M115=\"\",0,SUM(Q115:S115))","v":0},{"$f":"VLOOKUP(T115,Classement!$B$2:$C$7,2,0)","v":0}]
[null,null,null,null,null,null,null,null,null,null,null,"Real Sociedad ",null,null,"Braga",null,{"$f":"IF(M116>N116,3,0)","v":0},{"$f":"IF(M116=\"\",0,IF(M116=N116,1,0))","v":0},{"$f":"IF(N116>M116,6,0)","v":0},{"$f":"IF(M116=\"\",0,SUM(Q116:S116))","v":0},{"$f":"VLOOKUP(T116,Classement!$B$2:$C$7,2,0)","v":0}]
[null,null,null,null,null,null,null,null,null,null,null,"Real Sociedad ",null,null,"Southampton",null,{"$f":"IF(M117>N117,3,0)","v":0},{"$f":"IF(M117=\"\",0,IF(M117=N117,1,0))","v":0},{"$f":"IF(N117>M117,6,0)","v":0},{"$f":"IF(M117=\"\",0,SUM(Q117:S117))","v":0},{"$f":"VLOOKUP(T117,Classement!$B$2:$C$7,2,0)","v":0}]
[null,null,null,null,null,null,null,null,null,null,null,"Real Sociedad ",null,null,"Fiorentina",null,{"$f":"IF(M118>N118,3,0)","v":0},{"$f":"IF(M118=\"\",0,IF(M118=N118,1,0))","v":0},{"$f":"IF(N118>M118,6,0)","v":0},{"$f":"IF(M118=\"\",0,SUM(Q118:S118))","v":0},{"$f":"VLOOKUP(T118,Classement!$B$2:$C$7,2,0)","v":0}]
[null,null,null,null,null,null,null,null,null,null,null,"Real Sociedad ",2,1,"Celta Vigo",null,{"$f":"IF(M119>N119,3,0)","v":3},{"$f":"IF(M119=\"\",0,IF(M119=N119,1,0))","v":0},{"$f":"IF(N119>M119,6,0)","v":0},{"$f":"IF(M119=\"\",0,SUM(Q119:S119))","v":3},{"$f":"VLOOKUP(T119,Classement!$B$2:$C$7,2,0)","v":3}]
[null,null,null,null,null,null,null,null,null,null,null,"Real Sociedad ",null,null,"Torino",null,{"$f":"IF(M120>N120,3,0)","v":0},{"$f":"IF(M120=\"\",0,IF(M120=N120,1,0))","v":0},{"$f":"IF(N120>M120,6,0)","v":0},{"$f":"IF(M120=\"\",0,SUM(Q120:S120))","v":0},{"$f":"VLOOKUP(T120,Classement!$B$2:$C$7,2,0)","v":0}]
[null,null,null,null,null,null,null,null,null,null,null,"Real Sociedad ",null,null,"Werder",null,{"$f":"IF(M121>N121,3,0)","v":0},{"$f":"IF(M121=\"\",0,IF(M121=N121,1,0))","v":0},{"$f":"IF(N121>M121,6,0)","v":0},{"$f":"IF(M121=\"\",0,SUM(Q121:S121))","v":0},{"$f":"VLOOKUP(T121,Classement!$B$2:$C$7,2,0)","v":0}]
[null,null,null,null,null,null,null,null,null,null,null,"Real Sociedad ",null,null,"St etienne",null,{"$f":"IF(M122>N122,3,0)","v":0},{"$f":"IF(M122=\"\",0,IF(M122=N122,1,0))","v":0},{"$f":"IF(N122>M122,6,0)","v":0},{"$f":"IF(M122=\"\",0,SUM(Q122:S122))","v":0},{"$f":"VLOOKUP(T122,Classement!$B$2:$C$7,2,0)","v":0}]
[null,null,null,null,null,null,null,null,null,null,null,"Real Sociedad ",null,null,"Nice",null,{"$f":"IF(M123>N123,3,0)","v":0},{"$f":"IF(M123=\"\",0,IF(M123=N123,1,0))","v":0},{"$f":"IF(N123>M123,6,0)","v":0},{"$f":"IF(M123=\"\",0,SUM(Q123:S123))","v":0},{"$f":"VLOOKUP(T123,Classement!$B$2:$C$7,2,0)","v":0}]
[null,null,null,null,null,null,null,null,null,null,null,"Real Sociedad ",1,1,"Swansea",null,{"$f":"IF(M124>N124,3,0)","v":0},{"$f":"IF(M124=\"\",0,IF(M124=N124,1,0))","v":1},{"$f":"IF(N124>M124,6,0)","v":0},{"$f":"IF(M124=\"\",0,SUM(Q124:S124))","v":1},{"$f":"VLOOKUP(T124,Classement!$B$2:$C$7,2,0)","v":1}]
[null,null,null,null,null,null,null,null,null,null,null,"Real Sociedad ",null,null,"Cologne",null,{"$f":"IF(M125>N125,3,0)","v":0},{"$f":"IF(M125=\"\",0,IF(M125=N125,1,0))","v":0},{"$f":"IF(N125>M125,6,0)","v":0},{"$f":"IF(M125=\"\",0,SUM(Q125:S125))","v":0},{"$f":"VLOOKUP(T125,Classement!$B$2:$C$7,2,0)","v":0}]
[null,null,null,null,null,null,null,null,null,null,null,"Club Bruges",null,null,"Braga",null,{"$f":"IF(M126>N126,3,0)","v":0},{"$f":"IF(M126=\"\",0,IF(M126=N126,1,0))","v":0},{"$f":"IF(N126>M126,6,0)","v":0},{"$f":"IF(M126=\"\",0,SUM(Q126:S126))","v":0},{"$f":"VLOOKUP(T126,Classement!$B$2:$C$7,2,0)","v":0}]
[null,null,null,null,null,null,null,null,null,null,null,"Club Bruges",2,2,"Southampton",null,{"$f":"IF(M127>N127,3,0)","v":0},{"$f":"IF(M127=\"\",0,IF(M127=N127,1,0))","v":1},{"$f":"IF(N127>M127,6,0)","v":0},{"$f":"IF(M127=\"\",0,SUM(Q127:S127))","v":1},{"$f":"VLOOKUP(T127,Classement!$B$2:$C$7,2,0)","v":1}]
[null,null,null,null,null,null,null,null,null,null,null,"Club Bruges",0,1,"Fiorentina",null,{"$f":"IF(M128>N128,3,0)","v":0},{"$f":"IF(M128=\"\",0,IF(M128=N128,1,0))","v":0},{"$f":"IF(N128>M128,6,0)","v":6},{"$f":"IF(M128=\"\",0,SUM(Q128:S128))","v":6},{"$f":"VLOOKUP(T128,Classement!$B$2:$C$7,2,0)","v":0}]
[null,null,null,null,null,null,null,null,null,null,null,"Club Bruges",1,1,"Celta Vigo",null,{"$f":"IF(M129>N129,3,0)","v":0},{"$f":"IF(M129=\"\",0,IF(M129=N129,1,0))","v":1},{"$f":"IF(N129>M129,6,0)","v":0},{"$f":"IF(M129=\"\",0,SUM(Q129:S129))","v":1},{"$f":"VLOOKUP(T129,Classement!$B$2:$C$7,2,0)","v":1}]
[null,null,null,null,null,null,null,null,null,null,null,"Club Bruges",null,null,"Torino",null,{"$f":"IF(M130>N130,3,0)","v":0},{"$f":"IF(M130=\"\",0,IF(M130=N130,1,0))","v":0},{"$f":"IF(N130>M130,6,0)","v":0},{"$f":"IF(M130=\"\",0,SUM(Q130:S130))","v":0},{"$f":"VLOOKUP(T130,Classement!$B$2:$C$7,2,0)","v":0}]
[null,null,null,null,null,null,null,null,null,null,null,"Club Bruges",null,null,"Werder",null,{"$f":"IF(M131>N131,3,0)","v":0},{"$f":"IF(M131=\"\",0,IF(M131=N131,1,0))","v":0},{"$f":"IF(N131>M131,6,0)","v":0},{"$f":"IF(M131=\"\",0,SUM(Q131:S131))","v":0},{"$f":"VLOOKUP(T131,Classement!$B$2:$C$7,2,0)","v":0}]
[null,null,null,null,null,null,null,null,null,null,null,"Club Bruges",0,3,"St etienne",null,{"$f":"IF(M132>N132,3,0)","v":0},{"$f":"IF(M132=\"\",0,IF(M132=N132,1,0))","v":0},{"$f":"IF(N132>M132,6,0)","v":6},{"$f":"IF(M132=\"\",0,SUM(Q132:S132))","v":6},{"$f":"VLOOKUP(T132,Classement!$B$2:$C$7,2,0)","v":0}]
[null,null,null,null,null,null,null,null,null,null,null,"Club Bruges",null,null,"Nice",null,{"$f":"IF(M133>N133,3,0)","v":0},{"$f":"IF(M133=\"\",0,IF(M133=N133,1,0))","v":0},{"$f":"IF(N133>M133,6,0)","v":0},{"$f":"IF(M133=\"\",0,SUM(Q133:S133))","v":0},{"$f":"VLOOKUP(T133,Classement!$B$2:$C$7,2,0)","v":0}]
[null,null,null,null,null,null,null,null,null,null,null,"Club Bruges",1,4,"Swansea",null,{"$f":"IF(M134>N134,3,0)","v":0},{"$f":"IF(M134=\"\",0,IF(M134=N134,1,0))","v":0},{"$f":"IF(N134>M134,6,0)","v":6},{"$f":"IF(M134=\"\",0,SUM(Q134:S134))","v":6},{"$f":"VLOOKUP(T134,Classement!$B$2:$C$7,2,0)","v":0}]
[null,null,null,null,null,null,null,null,null,null,null,"Club Bruges",null,null,"Cologne",null,{"$f":"IF(M135>N135,3,0)","v":0},{"$f":"IF(M135=\"\",0,IF(M135=N135,1,0))","v":0},{"$f":"IF(N135>M135,6,0)","v":0},{"$f":"IF(M135=\"\",0,SUM(Q135:S135))","v":0},{"$f":"VLOOKUP(T135,Classement!$B$2:$C$7,2,0)","v":0}]
[null,null,null,null,null,null,null,null,null,null,null,"Club Bruges",null,null,"Real Sociedad ",null,{"$f":"IF(M136>N136,3,0)","v":0},{"$f":"IF(M136=\"\",0,IF(M136=N136,1,0))","v":0},{"$f":"IF(N136>M136,6,0)","v":0},{"$f":"IF(M136=\"\",0,SUM(Q136:S136))","v":0},{"$f":"VLOOKUP(T136,Classement!$B$2:$C$7,2,0)","v":0}]
[null,null,null,null,null,null,null,null,null,null,null,null,null,null,null,null,{"$f":"IF(M137>N137,3,0)","v":0},{"$f":"IF(M137=\"\",0,IF(M137=N137,1,0))","v":0},{"$f":"IF(N137>M137,6,0)","v":0},{"$f":"IF(M137=\"\",0,SUM(Q137:S137))","v":0},{"$f":"VLOOKUP(T137,Classement!$B$2:$C$7,2,0)","v":0}]
[null,null,null,null,null,null,null,null,null,null,null,null,null,null,null,null,{"$f":"IF(M138>N138,3,0)","v":0},{"$f":"IF(M138=\"\",0,IF(M138=N138,1,0))","v":0},{"$f":"IF(N138>M138,6,0)","v":0},{"$f":"IF(M138=\"\",0,SUM(Q138:S138))","v":0},{"$f":"VLOOKUP(T138,Classement!$B$2:$C$7,2,0)","v":0}]
[null,null,null,null,null,null,null,null,null,null,null,null,null,null,null,null,{"$f":"IF(M139>N139,3,0)","v":0},{"$f":"IF(M139=\"\",0,IF(M139=N139,1,0))","v":0},{"$f":"IF(N139>M139,6,0)","v":0},{"$f":"IF(M139=\"\",0,SUM(Q139:S139))","v":0},{"$f":"VLOOKUP(T139,Classement!$B$2:$C$7,2,0)","v":0}]
[null,null,null,null,null,null,null,null,null,null,null,null,null,null,null,null,{"$f":"IF(M140>N140,3,0)","v":0},{"$f":"IF(M140=\"\",0,IF(M140=N140,1,0))","v":0},{"$f":"IF(N140>M140,6,0)","v":0},{"$f":"IF(M140=\"\",0,SUM(Q140:S140))","v":0},{"$f":"VLOOKUP(T140,Classement!$B$2:$C$7,2,0)","v":0}]
[null,null,null,null,null,null,null,null,null,null,null,null,null,null,null,null,{"$f":"IF(M141>N141,3,0)","v":0},{"$f":"IF(M141=\"\",0,IF(M141=N141,1,0))","v":0},{"$f":"IF(N141>M141,6,0)","v":0},{"$f":"IF(M141=\"\",0,SUM(Q141:S141))","v":0},{"$f":"VLOOKUP(T141,Classement!$B$2:$C$7,2,0)","v":0}]
[null,null,null,null,null,null,null,null,null,null,null,null,null,null,null,null,{"$f":"IF(M142>N142,3,0)","v":0},{"$f":"IF(M142=\"\",0,IF(M142=N142,1,0))","v":0},{"$f":"IF(N142>M142,6,0)","v":0},{"$f":"IF(M142=\"\",0,SUM(Q142:S142))","v":0},{"$f":"VLOOKUP(T142,Classement!$B$2:$C$7,2,0)","v":0}]
[null,null,null,null,null,null,null,null,null,null,null,null,null,null,null,null,{"$f":"IF(M143>N143,3,0)","v":0},{"$f":"IF(M143=\"\",0,IF(M143=N143,1,0))","v":0},{"$f":"IF(N143>M143,6,0)","v":0},{"$f":"IF(M143=\"\",0,SUM(Q143:S143))","v":0},{"$f":"VLOOKUP(T143,Classement!$B$2:$C$7,2,0)","v":0}]
[null,null,null,null,null,null,null,null,null,null,null,null,null,null,null,null,{"$f":"IF(M144>N144,3,0)","v":0},{"$f":"IF(M144=\"\",0,IF(M144=N144,1,0))","v":0},{"$f":"IF(N144>M144,6,0)","v":0},{"$f":"IF(M144=\"\",0,SUM(Q144:S144))","v":0},{"$f":"VLOOKUP(T144,Classement!$B$2:$C$7,2,0)","v":0}]
[null,null,null,null,null,null,null,null,null,null,null,null,null,null,null,null,{"$f":"IF(M145>N145,3,0)","v":0},{"$f":"IF(M145=\"\",0,IF(M145=N145,1,0))","v":0},{"$f":"IF(N145>M145,6,0)","v":0},{"$f":"IF(M145=\"\",0,SUM(Q145:S145))","v":0},{"$f":"VLOOKUP(T145,Classement!$B$2:$C$7,2,0)","v":0}]
[null,null,null,null,null,null,null,null,null,null,null,null,null,null,null,null,{"$f":"IF(M146>N146,3,0)","v":0},{"$f":"IF(M146=\"\",0,IF(M146=N146,1,0))","v":0},{"$f":"IF(N146>M146,6,0)","v":0},{"$f":"IF(M146=\"\",0,SUM(Q146:S146))","v":0},{"$f":"VLOOKUP(T146,Classement!$B$2:$C$7,2,0)","v":0}]
[null,null,null,null,null,null,null,null,null,null,null,null,null,null,null,null,{"$f":"IF(M147>N147,3,0)","v":0},{"$f":"IF(M147=\"\",0,IF(M147=N147,1,0))","v":0},{"$f":"IF(N147>M147,6,0)","v":0},{"$f":"IF(M147=\"\",0,SUM(Q147:S147))","v":0},{"$f":"VLOOKUP(T147,Classement!$B$2:$C$7,2,0)","v":0}]
[null,null,null,null,null,null,null,null,null,null,null,null,null,null,null,null,{"$f":"IF(M148>N148,3,0)","v":0},{"$f":"IF(M148=\"\",0,IF(M148=N148,1,0))","v":0},{"$f":"IF(N148>M148,6,0)","v":0},{"$f":"IF(M148=\"\",0,SUM(Q148:S148))","v":0},{"$f":"VLOOKUP(T148,Classement!$B$2:$C$7,2,0)","v":0}]
[null,null,null,null,null,null,null,null,null,null,null,null,null,null,null,null,{"$f":"IF(M149>N149,3,0)","v":0},{"$f":"IF(M149=\"\",0,IF(M149=N149,1,0))","v":0},{"$f":"IF(N149>M149,6,0)","v":0},{"$f":"IF(M149=\"\",0,SUM(Q149:S149))","v":0},{"$f":"VLOOKUP(T149,Classement!$B$2:$C$7,2,0)","v":0}]
[null,null,null,null,null,null,null,null,null,null,null,null,null,null,null,null,{"$f":"IF(M150>N150,3,0)","v":0},{"$f":"IF(M150=\"\",0,IF(M150=N150,1,0))","v":0},{"$f":"IF(N150>M150,6,0)","v":0},{"$f":"IF(M150=\"\",0,SUM(Q150:S150))","v":0},{"$f":"VLOOKUP(T150,Classement!$B$2:$C$7,2,0)","v":0}]
[null,null,null,null,null,null,null,null,null,null,null,null,null,null,null,null,{"$f":"IF(M151>N151,3,0)","v":0},{"$f":"IF(M151=\"\",0,IF(M151=N151,1,0))","v":0},{"$f":"IF(N151>M151,6,0)","v":0},{"$f":"IF(M151=\"\",0,SUM(Q151:S151))","v":0},{"$f":"VLOOKUP(T151,Classement!$B$2:$C$7,2,0)","v":0}]
[null,null,null,null,null,null,null,null,null,null,null,null,null,null,null,null,{"$f":"IF(M152>N152,3,0)","v":0},{"$f":"IF(M152=\"\",0,IF(M152=N152,1,0))","v":0},{"$f":"IF(N152>M152,6,0)","v":0},{"$f":"IF(M152=\"\",0,SUM(Q152:S152))","v":0},{"$f":"VLOOKUP(T152,Classement!$B$2:$C$7,2,0)","v":0}]
[null,null,null,null,null,null,null,null,null,null,null,null,null,null,null,null,{"$f":"IF(M153>N153,3,0)","v":0},{"$f":"IF(M153=\"\",0,IF(M153=N153,1,0))","v":0},{"$f":"IF(N153>M153,6,0)","v":0},{"$f":"IF(M153=\"\",0,SUM(Q153:S153))","v":0},{"$f":"VLOOKUP(T153,Classement!$B$2:$C$7,2,0)","v":0}]
[null,null,null,null,null,null,null,null,null,null,null,null,null,null,null,null,{"$f":"IF(M154>N154,3,0)","v":0},{"$f":"IF(M154=\"\",0,IF(M154=N154,1,0))","v":0},{"$f":"IF(N154>M154,6,0)","v":0},{"$f":"IF(M154=\"\",0,SUM(Q154:S154))","v":0},{"$f":"VLOOKUP(T154,Classement!$B$2:$C$7,2,0)","v":0}]
[null,null,null,null,null,null,null,null,null,null,null,null,null,null,null,null,{"$f":"IF(M155>N155,3,0)","v":0},{"$f":"IF(M155=\"\",0,IF(M155=N155,1,0))","v":0},{"$f":"IF(N155>M155,6,0)","v":0},{"$f":"IF(M155=\"\",0,SUM(Q155:S155))","v":0},{"$f":"VLOOKUP(T155,Classement!$B$2:$C$7,2,0)","v":0}]
[null,null,null,null,null,null,null,null,null,null,null,null,null,null,null,null,{"$f":"IF(M156>N156,3,0)","v":0},{"$f":"IF(M156=\"\",0,IF(M156=N156,1,0))","v":0},{"$f":"IF(N156>M156,6,0)","v":0},{"$f":"IF(M156=\"\",0,SUM(Q156:S156))","v":0},{"$f":"VLOOKUP(T156,Classement!$B$2:$C$7,2,0)","v":0}]
[null,null,null,null,null,null,null,null,null,null,null,null,null,null,null,null,{"$f":"IF(M157>N157,3,0)","v":0},{"$f":"IF(M157=\"\",0,IF(M157=N157,1,0))","v":0},{"$f":"IF(N157>M157,6,0)","v":0},{"$f":"IF(M157=\"\",0,SUM(Q157:S157))","v":0},{"$f":"VLOOKUP(T157,Classement!$B$2:$C$7,2,0)","v":0}]
[null,null,null,null,null,null,null,null,null,null,null,null,null,null,null,null,{"$f":"IF(M158>N158,3,0)","v":0},{"$f":"IF(M158=\"\",0,IF(M158=N158,1,0))","v":0},{"$f":"IF(N158>M158,6,0)","v":0},{"$f":"IF(M158=\"\",0,SUM(Q158:S158))","v":0},{"$f":"VLOOKUP(T158,Classement!$B$2:$C$7,2,0)","v":0}]
[null,null,null,null,null,null,null,null,null,null,null,null,null,null,null,null,{"$f":"IF(M159>N159,3,0)","v":0},{"$f":"IF(M159=\"\",0,IF(M159=N159,1,0))","v":0},{"$f":"IF(N159>M159,6,0)","v":0},{"$f":"IF(M159=\"\",0,SUM(Q159:S159))","v":0},{"$f":"VLOOKUP(T159,Classement!$B$2:$C$7,2,0)","v":0}]
[null,null,null,null,null,null,null,null,null,null,null,null,null,null,null,null,{"$f":"IF(M160>N160,3,0)","v":0},{"$f":"IF(M160=\"\",0,IF(M160=N160,1,0))","v":0},{"$f":"IF(N160>M160,6,0)","v":0},{"$f":"IF(M160=\"\",0,SUM(Q160:S160))","v":0},{"$f":"VLOOKUP(T160,Classement!$B$2:$C$7,2,0)","v":0}]
[null,null,null,null,null,null,null,null,null,null,null,null,null,null,null,null,{"$f":"IF(M161>N161,3,0)","v":0},{"$f":"IF(M161=\"\",0,IF(M161=N161,1,0))","v":0},{"$f":"IF(N161>M161,6,0)","v":0},{"$f":"IF(M161=\"\",0,SUM(Q161:S161))","v":0},{"$f":"VLOOKUP(T161,Classement!$B$2:$C$7,2,0)","v":0}]
[null,null,null,null,null,null,null,null,null,null,null,null,null,null,null,null,{"$f":"IF(M162>N162,3,0)","v":0},{"$f":"IF(M162=\"\",0,IF(M162=N162,1,0))","v":0},{"$f":"IF(N162>M162,6,0)","v":0},{"$f":"IF(M162=\"\",0,SUM(Q162:S162))","v":0},{"$f":"VLOOKUP(T162,Classement!$B$2:$C$7,2,0)","v":0}]
[null,null,null,null,null,null,null,null,null,null,null,null,null,null,null,null,{"$f":"IF(M163>N163,3,0)","v":0},{"$f":"IF(M163=\"\",0,IF(M163=N163,1,0))","v":0},{"$f":"IF(N163>M163,6,0)","v":0},{"$f":"IF(M163=\"\",0,SUM(Q163:S163))","v":0},{"$f":"VLOOKUP(T163,Classement!$B$2:$C$7,2,0)","v":0}]
[null,null,null,null,null,null,null,null,null,null,null,null,null,null,null,null,{"$f":"IF(M164>N164,3,0)","v":0},{"$f":"IF(M164=\"\",0,IF(M164=N164,1,0))","v":0},{"$f":"IF(N164>M164,6,0)","v":0},{"$f":"IF(M164=\"\",0,SUM(Q164:S164))","v":0},{"$f":"VLOOKUP(T164,Classement!$B$2:$C$7,2,0)","v":0}]
[null,null,null,null,null,null,null,null,null,null,null,null,null,null,null,null,{"$f":"IF(M165>N165,3,0)","v":0},{"$f":"IF(M165=\"\",0,IF(M165=N165,1,0))","v":0},{"$f":"IF(N165>M165,6,0)","v":0},{"$f":"IF(M165=\"\",0,SUM(Q165:S165))","v":0},{"$f":"VLOOKUP(T165,Classement!$B$2:$C$7,2,0)","v":0}]
[null,null,null,null,null,null,null,null,null,null,null,null,null,null,null,null,{"$f":"IF(M166>N166,3,0)","v":0},{"$f":"IF(M166=\"\",0,IF(M166=N166,1,0))","v":0},{"$f":"IF(N166>M166,6,0)","v":0},{"$f":"IF(M166=\"\",0,SUM(Q166:S166))","v":0},{"$f":"VLOOKUP(T166,Classement!$B$2:$C$7,2,0)","v":0}]
[null,null,null,null,null,null,null,null,null,null,null,null,null,null,null,null,{"$f":"IF(M167>N167,3,0)","v":0},{"$f":"IF(M167=\"\",0,IF(M167=N167,1,0))","v":0},{"$f":"IF(N167>M167,6,0)","v":0},{"$f":"IF(M167=\"\",0,SUM(Q167:S167))","v":0},{"$f":"VLOOKUP(T167,Classement!$B$2:$C$7,2,0)","v":0}]
[null,null,null,null,null,null,null,null,null,null,null,null,null,null,null,null,{"$f":"IF(M168>N168,3,0)","v":0},{"$f":"IF(M168=\"\",0,IF(M168=N168,1,0))","v":0},{"$f":"IF(N168>M168,6,0)","v":0},{"$f":"IF(M168=\"\",0,SUM(Q168:S168))","v":0},{"$f":"VLOOKUP(T168,Classement!$B$2:$C$7,2,0)","v":0}]
[null,null,null,null,null,null,null,null,null,null,null,null,null,null,null,null,{"$f":"IF(M169>N169,3,0)","v":0},{"$f":"IF(M169=\"\",0,IF(M169=N169,1,0))","v":0},{"$f":"IF(N169>M169,6,0)","v":0},{"$f":"IF(M169=\"\",0,SUM(Q169:S169))","v":0},{"$f":"VLOOKUP(T169,Classement!$B$2:$C$7,2,0)","v":0}]
[null,null,null,null,null,null,null,null,null,null,null,null,null,null,null,null,{"$f":"IF(M170>N170,3,0)","v":0},{"$f":"IF(M170=\"\",0,IF(M170=N170,1,0))","v":0},{"$f":"IF(N170>M170,6,0)","v":0},{"$f":"IF(M170=\"\",0,SUM(Q170:S170))","v":0},{"$f":"VLOOKUP(T170,Classement!$B$2:$C$7,2,0)","v":0}]
[null,null,null,null,null,null,null,null,null,null,null,null,null,null,null,null,{"$f":"IF(M171>N171,3,0)","v":0},{"$f":"IF(M171=\"\",0,IF(M171=N171,1,0))","v":0},{"$f":"IF(N171>M171,6,0)","v":0},{"$f":"IF(M171=\"\",0,SUM(Q171:S171))","v":0},{"$f":"VLOOKUP(T171,Classement!$B$2:$C$7,2,0)","v":0}]
[null,null,null,null,null,null,null,null,null,null,null,null,null,null,null,null,{"$f":"IF(M172>N172,3,0)","v":0},{"$f":"IF(M172=\"\",0,IF(M172=N172,1,0))","v":0},{"$f":"IF(N172>M172,6,0)","v":0},{"$f":"IF(M172=\"\",0,SUM(Q172:S172))","v":0},{"$f":"VLOOKUP(T172,Classement!$B$2:$C$7,2,0)","v":0}]
[null,null,null,null,null,null,null,null,null,null,null,null,null,null,null,null,{"$f":"IF(M173>N173,3,0)","v":0},{"$f":"IF(M173=\"\",0,IF(M173=N173,1,0))","v":0},{"$f":"IF(N173>M173,6,0)","v":0},{"$f":"IF(M173=\"\",0,SUM(Q173:S173))","v":0},{"$f":"VLOOKUP(T173,Classement!$B$2:$C$7,2,0)","v":0}]
[null,null,null,null,null,null,null,null,null,null,null,null,null,null,null,null,{"$f":"IF(M174>N174,3,0)","v":0},{"$f":"IF(M174=\"\",0,IF(M174=N174,1,0))","v":0},{"$f":"IF(N174>M174,6,0)","v":0},{"$f":"IF(M174=\"\",0,SUM(Q174:S174))","v":0},{"$f":"VLOOKUP(T174,Classement!$B$2:$C$7,2,0)","v":0}]
[null,null,null,null,null,null,null,null,null,null,null,null,null,null,null,null,{"$f":"IF(M175>N175,3,0)","v":0},{"$f":"IF(M175=\"\",0,IF(M175=N175,1,0))","v":0},{"$f":"IF(N175>M175,6,0)","v":0},{"$f":"IF(M175=\"\",0,SUM(Q175:S175))","v":0},{"$f":"VLOOKUP(T175,Classement!$B$2:$C$7,2,0)","v":0}]
[null,null,null,null,null,null,null,null,null,null,null,null,null,null,null,null,{"$f":"IF(M176>N176,3,0)","v":0},{"$f":"IF(M176=\"\",0,IF(M176=N176,1,0))","v":0},{"$f":"IF(N176>M176,6,0)","v":0},{"$f":"IF(M176=\"\",0,SUM(Q176:S176))","v":0},{"$f":"VLOOKUP(T176,Classement!$B$2:$C$7,2,0)","v":0}]
[null,null,null,null,null,null,null,null,null,null,null,null,null,null,null,null,{"$f":"IF(M177>N177,3,0)","v":0},{"$f":"IF(M177=\"\",0,IF(M177=N177,1,0))","v":0},{"$f":"IF(N177>M177,6,0)","v":0},{"$f":"IF(M177=\"\",0,SUM(Q177:S177))","v":0},{"$f":"VLOOKUP(T177,Classement!$B$2:$C$7,2,0)","v":0}]
[null,null,null,null,null,null,null,null,null,null,null,null,null,null,null,null,{"$f":"IF(M178>N178,3,0)","v":0},{"$f":"IF(M178=\"\",0,IF(M178=N178,1,0))","v":0},{"$f":"IF(N178>M178,6,0)","v":0},{"$f":"IF(M178=\"\",0,SUM(Q178:S178))","v":0},{"$f":"VLOOKUP(T178,Classement!$B$2:$C$7,2,0)","v":0}]
[null,null,null,null,null,null,null,null,null,null,null,null,null,null,null,null,{"$f":"IF(M179>N179,3,0)","v":0},{"$f":"IF(M179=\"\",0,IF(M179=N179,1,0))","v":0},{"$f":"IF(N179>M179,6,0)","v":0},{"$f":"IF(M179=\"\",0,SUM(Q179:S179))","v":0},{"$f":"VLOOKUP(T179,Classement!$B$2:$C$7,2,0)","v":0}]
[null,null,null,null,null,null,null,null,null,null,null,null,null,null,null,null,{"$f":"IF(M180>N180,3,0)","v":0},{"$f":"IF(M180=\"\",0,IF(M180=N180,1,0))","v":0},{"$f":"IF(N180>M180,6,0)","v":0},{"$f":"IF(M180=\"\",0,SUM(Q180:S180))","v":0},{"$f":"VLOOKUP(T180,Classement!$B$2:$C$7,2,0)","v":0}]
[null,null,null,null,null,null,null,null,null,null,null,null,null,null,null,null,{"$f":"IF(M181>N181,3,0)","v":0},{"$f":"IF(M181=\"\",0,IF(M181=N181,1,0))","v":0},{"$f":"IF(N181>M181,6,0)","v":0},{"$f":"IF(M181=\"\",0,SUM(Q181:S181))","v":0},{"$f":"VLOOKUP(T181,Classement!$B$2:$C$7,2,0)","v":0}]
[null,null,null,null,null,null,null,null,null,null,null,null,null,null,null,null,{"$f":"IF(M182>N182,3,0)","v":0},{"$f":"IF(M182=\"\",0,IF(M182=N182,1,0))","v":0},{"$f":"IF(N182>M182,6,0)","v":0},{"$f":"IF(M182=\"\",0,SUM(Q182:S182))","v":0},{"$f":"VLOOKUP(T182,Classement!$B$2:$C$7,2,0)","v":0}]
[null,null,null,null,null,null,null,null,null,null,null,null,null,null,null,null,{"$f":"IF(M183>N183,3,0)","v":0},{"$f":"IF(M183=\"\",0,IF(M183=N183,1,0))","v":0},{"$f":"IF(N183>M183,6,0)","v":0},{"$f":"IF(M183=\"\",0,SUM(Q183:S183))","v":0},{"$f":"VLOOKUP(T183,Classement!$B$2:$C$7,2,0)","v":0}]
[null,null,null,null,null,null,null,null,null,null,null,null,null,null,null,null,{"$f":"IF(M184>N184,3,0)","v":0},{"$f":"IF(M184=\"\",0,IF(M184=N184,1,0))","v":0},{"$f":"IF(N184>M184,6,0)","v":0},{"$f":"IF(M184=\"\",0,SUM(Q184:S184))","v":0},{"$f":"VLOOKUP(T184,Classement!$B$2:$C$7,2,0)","v":0}]
[null,null,null,null,null,null,null,null,null,null,null,null,null,null,null,null,{"$f":"IF(M185>N185,3,0)","v":0},{"$f":"IF(M185=\"\",0,IF(M185=N185,1,0))","v":0},{"$f":"IF(N185>M185,6,0)","v":0},{"$f":"IF(M185=\"\",0,SUM(Q185:S185))","v":0},{"$f":"VLOOKUP(T185,Classement!$B$2:$C$7,2,0)","v":0}]
[null,null,null,null,null,null,null,null,null,null,null,null,null,null,null,null,{"$f":"IF(M186>N186,3,0)","v":0},{"$f":"IF(M186=\"\",0,IF(M186=N186,1,0))","v":0},{"$f":"IF(N186>M186,6,0)","v":0},{"$f":"IF(M186=\"\",0,SUM(Q186:S186))","v":0},{"$f":"VLOOKUP(T186,Classement!$B$2:$C$7,2,0)","v":0}]
[null,null,null,null,null,null,null,null,null,null,null,null,null,null,null,null,null,null,null,null,{"$f":"SUM(U27:U37)","v":9}]

{"sheet":"Match retour","index":1,"n_rows":187,"n_cols":21,"rows_kept":187,"cut":false,"hidden":false,"merged":[[2,11,2,14],[2,4,2,9],[0,0,0,2],[1,0,1,2],[20,4,20,9]]}
["TOURNOI FIFA DEALABS - PS4"]
["COMMUNAUTE : FIFALABS"]
[null,null,null,null,"CLASSEMENT FORMULES",null,null,null,null,null,null,"Résultats"]
["Pseudo Dealabs","ID PSN","Equipe",null,"Equipe","Points","Match joués","Buts pour","Buts contre","Goal Average",null,"Equipe 1","Score 1","Score 2","Equipe 2"]
["Aurelson","aurelson","Braga",null,"Braga",{"$f":"SUM(U5:U15)","v":3},{"$f":"11-COUNTBLANK(M5:M15)","v":2},{"$f":"SUM(M5:M15)","v":1},{"$f":"SUM(N5:N15)","v":4},{"$f":"H5-I5","v":-3},null,"Braga",null,null,"Southampton",null,{"$f":"IF(M5>N5,3,0)","v":0},{"$f":"IF(M5=\"\",0,IF(M5=N5,1,0))","v":0},{"$f":"IF(N5>M5,6,0)","v":0},{"$f":"IF(M5=\"\",0,SUM(Q5:S5))","v":0},{"$f":"VLOOKUP(T5,Classement!$B$2:$C$7,2,0)","v":0}]
["Alexpulsion","Alexpulsion","Southampton",null,"Southampton",{"$f":"SUM(U16:U26)","v":0},{"$f":"11-COUNTBLANK(M16:M26)","v":1},{"$f":"SUM(M16:M26)","v":1},{"$f":"SUM(N16:N26)","v":2},-1,null,"Braga",null,null,"Fiorentina",null,{"$f":"IF(M6>N6,3,0)","v":0},{"$f":"IF(M6=\"\",0,IF(M6=N6,1,0))","v":0},{"$f":"IF(N6>M6,6,0)","v":0},{"$f":"IF(M6=\"\",0,SUM(Q6:S6))","v":0},{"$f":"VLOOKUP(T6,Classement!$B$2:$C$7,2,0)","v":0}]
["Alexnanie","Diego-Alexis","Fiorentina",null,"Fiorentina",{"$f":"SUM(U27:U37)","v":7},{"$f":"11-COUNTBLANK(M27:M37)","v":3},{"$f":"SUM(M27:M37)","v":5},{"$f":"SUM(N27:N37)","v":2},3,null,"Braga",null,null,"Celta Vigo",null,0,0,0,0,{"$f":"VLOOKUP(T7,Classement!$B$2:$C$7,2,0)","v":0}]
["Roazhon91","Briand35000","Celta Vigo",null,"Celta Vigo",{"$f":"SUM(U38:U48)","v":8},{"$f":"11-COUNTBLANK(M38:M48)","v":5},{"$f":" SUM(M38:M48)","v":10},{"$f":"SUM(N38:N48)","v":6},4,null,"Braga",null,null,"Torino",null,0,0,0,0,{"$f":"VLOOKUP(T8,Classement!$B$2:$C$7,2,0)","v":0}]
["Toophe","Toophe","Torino",null,"Torino",{"$f":"SUM(U49:U59)","v":1},{"$f":"11-COUNTBLANK(M49:M59)","v":1},{"$f":" SUM(M49:M59)","v":2},{"$f":"SUM(N49:N59)","v":2},0,null,"Braga",null,null,"Werder",null,0,0,0,0,{"$f":"VLOOKUP(T9,Classement!$B$2:$C$7,2,0)","v":0}]
["Fabien59190","Fabien59390","Werder",null,"Werder",{"$f":"SUM(U60:U70)","v":0},{"$f":"11-COUNTBLANK(M60:M70)","v":2},{"$f":" SUM(M60:M70)","v":2},{"$f":"SUM(N60:N70)","v":8},-6,null,"Braga",1,0,"St etienne",null,3,0,0,3,{"$f":"VLOOKUP(T10,Classement!$B$2:$C$7,2,0)","v":3}]
["Astha","astharoth-666","St etienne",null,"St etienne",{"$f":"SUM(U71:U81)","v":7},{"$f":"11-COUNTBLANK(M71:M81)","v":4},{"$f":" SUM(M71:M81)","v":4},{"$f":"SUM(N71:N81)","v":2},2,null,"Braga",null,null,"Nice",null,0,0,0,0,{"$f":"VLOOKUP(T11,Classement!$B$2:$C$7,2,0)","v":0}]
["Rasmus","cyber-soc","Nice",null,"Nice",{"$f":"SUM(U82:U92)","v":1},{"$f":"11-COUNTBLANK(M82:M92)","v":1},{"$f":" SUM(M82:M92)","v":1},{"$f":"SUM(N82:N92)","v":1},0,null,"Braga",0,4,"Swansea",null,0,0,6,6,{"$f":"VLOOKUP(T12,Classement!$B$2:$C$7,2,0)","v":0}]
["Guizmo35","Guizmo_35","Swansea",null,"Swansea",{"$f":"SUM(U93:U103)","v":8},{"$f":"11-COUNTBLANK(M93:M103)","v":4},{"$f":" SUM(M93:M103)","v":7},{"$f":"SUM(N93:N103)","v":0},7,null,"Braga",null,null,"Cologne",null,0,0,0,0,{"$f":"VLOOKUP(T13,Classement!$B$2:$C$7,2,0)","v":0}]
["HamtaroJoly",null,"Cologne",null,"Cologne",{"$f":"SUM(U104:U114)","v":0},{"$f":"11-COUNTBLANK(M104:M114)","v":0},{"$f":" SUM(M104:M114)","v":0},{"$f":"SUM(N104:N114)","v":0},0,null,"Braga",null,null,"Real Sociedad ",null,0,0,0,0,{"$f":"VLOOKUP(T14,Classement!$B$2:$C$7,2,0)","v":0}]
["Manuinho"," Manuinho35","Real Sociedad ",null,"Real Sociedad ",{"$f":"SUM(U115:U125)","v":1},{"$f":"11-COUNTBLANK(M115:M125)","v":2},{"$f":" SUM(M115:M125)","v":2},{"$f":"SUM(N115:N125)","v":3},-1,null,"Braga",null,null,"Club Bruges",null,0,0,0,0,{"$f":"VLOOKUP(T15,Classement!$B$2:$C$7,2,0)","v":0}]
["Douda68","voegtldo","Club Bruges",null,"Club Bruges",{"$f":"SUM(U126:U136)","v":4},{"$f":"11-COUNTBLANK(M126:M136)","v":5},{"$f":" SUM(M126:M136)","v":3},{"$f":"SUM(N126:N136)","v":8},-5,null,"Southampton",null,null,"Fiorentina",null,{"$f":"IF(M16>N16,3,0)","v":0},{"$f":"IF(M16=\"\",0,IF(M16=N16,1,0))","v":0},{"$f":"IF(N16>M16,6,0)","v":0},{"$f":"IF(M16=\"\",0,SUM(Q16:S16))","v":0},{"$f":"VLOOKUP(T16,Classement!$B$2:$C$7,2,0)","v":0}]
[null,null,null,null,null,null,null,null,null,null,null,"Southampton",null,null,"Celta Vigo",null,{"$f":"IF(M17>N17,3,0)","v":0},{"$f":"IF(M17=\"\",0,IF(M17=N17,1,0))","v":0},{"$f":"IF(N17>M17,6,0)","v":0},{"$f":"IF(M17=\"\",0,SUM(Q17:S17))","v":0},{"$f":"VLOOKUP(T17,Classement!$B$2:$C$7,2,0)","v":0}]
[null,null,null,null,null,null,null,null,null,null,null,"Southampton",null,null,"Torino",null,{"$f":"IF(M18>N18,3,0)","v":0},{"$f":"IF(M18=\"\",0,IF(M18=N18,1,0))","v":0},{"$f":"IF(N18>M18,6,0)","v":0},{"$f":"IF(M18=\"\",0,SUM(Q18:S18))","v":0},{"$f":"VLOOKUP(T18,Classement!$B$2:$C$7,2,0)","v":0}]
[null,null,null,null,null,null,null,null,null,null,null,"Southampton",null,null,"Werder",null,{"$f":"IF(M19>N19,3,0)","v":0},{"$f":"IF(M19=\"\",0,IF(M19=N19,1,0))","v":0},{"$f":"IF(N19>M19,6,0)","v":0},{"$f":"IF(M19=\"\",0,SUM(Q19:S19))","v":0},{"$f":"VLOOKUP(T19,Classement!$B$2:$C$7,2,0)","v":0}]
[null,null,null,null,null,null,null,null,null,null,null,"Southampton",null,null,"St etienne",null,{"$f":"IF(M20>N20,3,0)","v":0},{"$f":"IF(M20=\"\",0,IF(M20=N20,1,0))","v":0},{"$f":"IF(N20>M20,6,0)","v":0},{"$f":"IF(M20=\"\",0,SUM(Q20:S20))","v":0},{"$f":"VLOOKUP(T20,Classement!$B$2:$C$7,2,0)","v":0}]
[null,null,null,null,"CLASSEMENT",null,null,null,null,null,null,"Southampton",null,null,"Nice",null,{"$f":"IF(M21>N21,3,0)","v":0},{"$f":"IF(M21=\"\",0,IF(M21=N21,1,0))","v":0},{"$f":"IF(N21>M21,6,0)","v":0},{"$f":"IF(M21=\"\",0,SUM(Q21:S21))","v":0},{"$f":"VLOOKUP(T21,Classement!$B$2:$C$7,2,0)","v":0}]
[null,null,null,null,"Equipe","Points","Match joués","Buts pour","Buts contre","Goal Average",null,"Southampton",null,null,"Swansea",null,{"$f":"IF(M22>N22,3,0)","v":0},{"$f":"IF(M22=\"\",0,IF(M22=N22,1,0))","v":0},{"$f":"IF(N22>M22,6,0)","v":0},{"$f":"IF(M22=\"\",0,SUM(Q22:S22))","v":0},{"$f":"VLOOKUP(T22,Classement!$B$2:$C$7,2,0)","v":0}]
[null,null,null,null,"Braga",null,null,null,null,null,null,"Southampton",null,null,"Cologne",null,{"$f":"IF(M23>N23,3,0)","v":0},{"$f":"IF(M23=\"\",0,IF(M23=N23,1,0))","v":0},{"$f":"IF(N23>M23,6,0)","v":0},{"$f":"IF(M23=\"\",0,SUM(Q23:S23))","v":0},{"$f":"VLOOKUP(T23,Classement!$B$2:$C$7,2,0)","v":0}]
[null,null,null,null,"Southampton",null,null,null,null,null,null,"Southampton",null,null,"Real Sociedad ",null,{"$f":"IF(M24>N24,3,0)","v":0},{"$f":"IF(M24=\"\",0,IF(M24=N24,1,0))","v":0},{"$f":"IF(N24>M24,6,0)","v":0},{"$f":"IF(M24=\"\",0,SUM(Q24:S24))","v":0},{"$f":"VLOOKUP(T24,Classement!$B$2:$C$7,2,0)","v":0}]
[null,null,null,null,"Fiorentina",null,null,null,null,null,null,"Southampton",1,2,"Club Bruges",null,{"$f":"IF(M25>N25,3,0)","v":0},{"$f":"IF(M25=\"\",0,IF(M25=N25,1,0))","v":0},{"$f":"IF(N25>M25,6,0)","v":6},{"$f":"IF(M25=\"\",0,SUM(Q25:S25))","v":6},{"$f":"VLOOKUP(T25,Classement!$B$2:$C$7,2,0)","v":0}]
[null,null,null,null,"Celta Vigo",null,null,null,null,null,null,"Southampton",null,null,"Braga",null,{"$f":"IF(M26>N26,3,0)","v":0},{"$f":"IF(M26=\"\",0,IF(M26=N26,1,0))","v":0},{"$f":"IF(N26>M26,6,0)","v":0},{"$f":"IF(M26=\"\",0,SUM(Q26:S26))","v":0},{"$f":"VLOOKUP(T26,Classement!$B$2:$C$7,2,0)","v":0}]
[null,null,null,null,"Torino",null,null,null,null,null,null,"Fiorentina",1,0,"Celta Vigo",null,{"$f":"IF(M27>N27,3,0)","v":3},{"$f":"IF(M27=\"\",0,IF(M27=N27,1,0))","v":0},{"$f":"IF(N27>M27,6,0)","v":0},{"$f":"IF(M27=\"\",0,SUM(Q27:S27))","v":3},{"$f":"VLOOKUP(T27,Classement!$B$2:$C$7,2,0)","v":3}]
[null,null,null,null,"Werder",null,null,null,null,null,null,"Fiorentina",null,null,"Torino",null,{"$f":"IF(M28>N28,3,0)","v":0},{"$f":"IF(M28=\"\",0,IF(M28=N28,1,0))","v":0},{"$f":"IF(N28>M28,6,0)","v":0},{"$f":"IF(M28=\"\",0,SUM(Q28:S28))","v":0},{"$f":"VLOOKUP(T28,Classement!$B$2:$C$7,2,0)","v":0}]
[null,null,null,null,"St etienne",null,null,null,null,null,null,"Fiorentina",null,null,"Werder",null,{"$f":"IF(M29>N29,3,0)","v":0},{"$f":"IF(M29=\"\",0,IF(M29=N29,1,0))","v":0},{"$f":"IF(N29>M29,6,0)","v":0},{"$f":"IF(M29=\"\",0,SUM(Q29:S29))","v":0},{"$f":"VLOOKUP(T29,Classement!$B$2:$C$7,2,0)","v":0}]
[null,null,null,null,"Nice",null,null,null,null,null,null,"Fiorentina",null,null,"St etienne",null,{"$f":"IF(M30>N30,3,0)","v":0},{"$f":"IF(M30=\"\",0,IF(M30=N30,1,0))","v":0},{"$f":"IF(N30>M30,6,0)","v":0},{"$f":"IF(M30=\"\",0,SUM(Q30:S30))","v":0},{"$f":"VLOOKUP(T30,Classement!$B$2:$C$7,2,0)","v":0}]
[null,null,null,null,"Cologne",null,null,null,null,null,null,"Fiorentina",1,1,"Nice",null,{"$f":"IF(M31>N31,3,0)","v":0},{"$f":"IF(M31=\"\",0,IF(M31=N31,1,0))","v":1},{"$f":"IF(N31>M31,6,0)","v":0},{"$f":"IF(M31=\"\",0,SUM(Q31:S31))","v":1},{"$f":"VLOOKUP(T31,Classement!$B$2:$C$7,2,0)","v":1}]
[null,null,null,null,"Real Sociedad ",null,null,null,null,null,null,"Fiorentina",null,null,"Swansea",null,{"$f":"IF(M32>N32,3,0)","v":0},{"$f":"IF(M32=\"\",0,IF(M32=N32,1,0))","v":0},{"$f":"IF(N32>M32,6,0)","v":0},{"$f":"IF(M32=\"\",0,SUM(Q32:S32))","v":0},{"$f":"VLOOKUP(T32,Classement!$B$2:$C$7,2,0)","v":0}]
[null,null,null,null,"Club Bruges",null,null,null,null,null,null,"Fiorentina",null,null,"Cologne",null,{"$f":"IF(M33>N33,3,0)","v":0},{"$f":"IF(M33=\"\",0,IF(M33=N33,1,0))","v":0},{"$f":"IF(N33>M33,6,0)","v":0},{"$f":"IF(M33=\"\",0,SUM(Q33:S33))","v":0},{"$f":"VLOOKUP(T33,Classement!$B$2:$C$7,2,0)","v":0}]
[null,null,null,null,"Swansea",null,null,null,null,null,null,"Fiorentina",null,null,"Real Sociedad ",null,{"$f":"IF(M34>N34,3,0)","v":0},{"$f":"IF(M34=\"\",0,IF(M34=N34,1,0))","v":0},{"$f":"IF(N34>M34,6,0)","v":0},{"$f":"IF(M34=\"\",0,SUM(Q34:S34))","v":0},{"$f":"VLOOKUP(T34,Classement!$B$2:$C$7,2,0)","v":0}]
[null,null,null,null,null,null,null,null,null,null,null,"Fiorentina",3,1,"Club Bruges",null,{"$f":"IF(M35>N35,3,0)","v":3},{"$f":"IF(M35=\"\",0,IF(M35=N35,1,0))","v":0},{"$f":"IF(N35>M35,6,0)","v":0},{"$f":"IF(M35=\"\",0,SUM(Q35:S35))","v":3},{"$f":"VLOOKUP(T35,Classement!$B$2:$C$7,2,0)","v":3}]
[null,null,null,null,null,null,null,null,null,null,null,"Fiorentina",null,null,"Braga",null,{"$f":"IF(M36>N36,3,0)","v":0},{"$f":"IF(M36=\"\",0,IF(M36=N36,1,0))","v":0},{"$f":"IF(N36>M36,6,0)","v":0},{"$f":"IF(M36=\"\",0,SUM(Q36:S36))","v":0},{"$f":"VLOOKUP(T36,Classement!$B$2:$C$7,2,0)","v":0}]
[null,null,null,null,null,null,null,null,null,null,null,"Fiorentina",null,null,"Southampton",null,{"$f":"IF(M37>N37,3,0)","v":0},{"$f":"IF(M37=\"\",0,IF(M37=N37,1,0))","v":0},{"$f":"IF(N37>M37,6,0)","v":0},{"$f":"IF(M37=\"\",0,SUM(Q37:S37))","v":0},{"$f":"VLOOKUP(T37,Classement!$B$2:$C$7,2,0)","v":0}]
[null,null,null,null,null,null,null,null,null,null,null,"Celta Vigo",2,2,"Torino",null,{"$f":"IF(M38>N38,3,0)","v":0},{"$f":"IF(M38=\"\",0,IF(M38=N38,1,0))","v":1},{"$f":"IF(N38>M38,6,0)","v":0},{"$f":"IF(M38=\"\",0,SUM(Q38:S38))","v":1},{"$f":"VLOOKUP(T38,Classement!$B$2:$C$7,2,0)","v":1}]
[null,null,null,null,null,null,null,null,null,null,null,"Celta Vigo",5,1,"Werder",null,{"$f":"IF(M39>N39,3,0)","v":3},{"$f":"IF(M39=\"\",0,IF(M39=N39,1,0))","v":0},{"$f":"IF(N39>M39,6,0)","v":0},{"$f":"IF(M39=\"\",0,SUM(Q39:S39))","v":3},{"$f":"VLOOKUP(T39,Classement!$B$2:$C$7,2,0)","v":3}]
[null,null,null,null,null,null,null,null,null,null,null,"Celta Vigo",null,null,"St etienne",null,{"$f":"IF(M40>N40,3,0)","v":0},{"$f":"IF(M40=\"\",0,IF(M40=N40,1,0))","v":0},{"$f":"IF(N40>M40,6,0)","v":0},{"$f":"IF(M40=\"\",0,SUM(Q40:S40))","v":0},{"$f":"VLOOKUP(T40,Classement!$B$2:$C$7,2,0)","v":0}]
[null,null,null,null,null,null,null,null,null,null,null,"Celta Vigo",null,null,"Nice",null,{"$f":"IF(M41>N41,3,0)","v":0},{"$f":"IF(M41=\"\",0,IF(M41=N41,1,0))","v":0},{"$f":"IF(N41>M41,6,0)","v":0},{"$f":"IF(M41=\"\",0,SUM(Q41:S41))","v":0},{"$f":"VLOOKUP(T41,Classement!$B$2:$C$7,2,0)","v":0}]
[null,null,null,null,null,null,null,null,null,null,null,"Celta Vigo",null,null,"Swansea",null,{"$f":"IF(M42>N42,3,0)","v":0},{"$f":"IF(M42=\"\",0,IF(M42=N42,1,0))","v":0},{"$f":"IF(N42>M42,6,0)","v":0},{"$f":"IF(M42=\"\",0,SUM(Q42:S42))","v":0},{"$f":"VLOOKUP(T42,Classement!$B$2:$C$7,2,0)","v":0}]
[null,null,null,null,null,null,null,null,null,null,null,"Celta Vigo",null,null,"Cologne",null,{"$f":"IF(M43>N43,3,0)","v":0},{"$f":"IF(M43=\"\",0,IF(M43=N43,1,0))","v":0},{"$f":"IF(N43>M43,6,0)","v":0},{"$f":"IF(M43=\"\",0,SUM(Q43:S43))","v":0},{"$f":"VLOOKUP(T43,Classement!$B$2:$C$7,2,0)","v":0}]
[null,null,null,null,null,null,null,null,null,null,null,"Celta Vigo",3,2,"Real Sociedad ",null,{"$f":"IF(M44>N44,3,0)","v":3},{"$f":"IF(M44=\"\",0,IF(M44=N44,1,0))","v":0},{"$f":"IF(N44>M44,6,0)","v":0},{"$f":"IF(M44=\"\",0,SUM(Q44:S44))","v":3},{"$f":"VLOOKUP(T44,Classement!$B$2:$C$7,2,0)","v":3}]
[null,null,null,null,null,null,null,null,null,null,null,"Celta Vigo",0,0,"Club Bruges",null,{"$f":"IF(M45>N45,3,0)","v":0},{"$f":"IF(M45=\"\",0,IF(M45=N45,1,0))","v":1},{"$f":"IF(N45>M45,6,0)","v":0},{"$f":"IF(M45=\"\",0,SUM(Q45:S45))","v":1},{"$f":"VLOOKUP(T45,Classement!$B$2:$C$7,2,0)","v":1}]
[null,null,null,null,null,null,null,null,null,null,null,"Celta Vigo",null,null,"Braga",null,{"$f":"IF(M46>N46,3,0)","v":0},{"$f":"IF(M46=\"\",0,IF(M46=N46,1,0))","v":0},{"$f":"IF(N46>M46,6,0)","v":0},{"$f":"IF(M46=\"\",0,SUM(Q46:S46))","v":0},{"$f":"VLOOKUP(T46,Classement!$B$2:$C$7,2,0)","v":0}]
[null,null,null,null,null,null,null,null,null,null,null,"Celta Vigo",null,null,"Southampton",null,{"$f":"IF(M47>N47,3,0)","v":0},{"$f":"IF(M47=\"\",0,IF(M47=N47,1,0))","v":0},{"$f":"IF(N47>M47,6,0)","v":0},{"$f":"IF(M47=\"\",0,SUM(Q47:S47))","v":0},{"$f":"VLOOKUP(T47,Classement!$B$2:$C$7,2,0)","v":0}]
[null,null,null,null,null,null,null,null,null,null,null,"Celta Vigo",0,1,"Fiorentina",null,{"$f":"IF(M48>N48,3,0)","v":0},{"$f":"IF(M48=\"\",0,IF(M48=N48,1,0))","v":0},{"$f":"IF(N48>M48,6,0)","v":6},{"$f":"IF(M48=\"\",0,SUM(Q48:S48))","v":6},{"$f":"VLOOKUP(T48,Classement!$B$2:$C$7,2,0)","v":0}]
[null,null,null,null,null,null,null,null,null,null,null,"Torino",null,null,"Werder",null,{"$f":"IF(M49>N49,3,0)","v":0},{"$f":"IF(M49=\"\",0,IF(M49=N49,1,0))","v":0},{"$f":"IF(N49>M49,6,0)","v":0},{"$f":"IF(M49=\"\",0,SUM(Q49:S49))","v":0},{"$f":"VLOOKUP(T49,Classement!$B$2:$C$7,2,0)","v":0}]
[null,null,null,null,null,null,null,null,null,null,null,"Torino",null,null,"St etienne",null,{"$f":"IF(M50>N50,3,0)","v":0},{"$f":"IF(M50=\"\",0,IF(M50=N50,1,0))","v":0},{"$f":"IF(N50>M50,6,0)","v":0},{"$f":"IF(M50=\"\",0,SUM(Q50:S50))","v":0},{"$f":"VLOOKUP(T50,Classement!$B$2:$C$7,2,0)","v":0}]
[null,null,null,null,null,null,null,null,null,null,null,"Torino",null,null,"Nice",null,{"$f":"IF(M51>N51,3,0)","v":0},{"$f":"IF(M51=\"\",0,IF(M51=N51,1,0))","v":0},{"$f":"IF(N51>M51,6,0)","v":0},{"$f":"IF(M51=\"\",0,SUM(Q51:S51))","v":0},{"$f":"VLOOKUP(T51,Classement!$B$2:$C$7,2,0)","v":0}]
[null,null,null,null,null,null,null,null,null,null,null,"Torino",null,null,"Swansea",null,{"$f":"IF(M52>N52,3,0)","v":0},{"$f":"IF(M52=\"\",0,IF(M52=N52,1,0))","v":0},{"$f":"IF(N52>M52,6,0)","v":0},{"$f":"IF(M52=\"\",0,SUM(Q52:S52))","v":0},{"$f":"VLOOKUP(T52,Classement!$B$2:$C$7,2,0)","v":0}]
[null,null,null,null,null,null,null,null,null,null,null,"Torino",null,null,"Cologne",null,{"$f":"IF(M53>N53,3,0)","v":0},{"$f":"IF(M53=\"\",0,IF(M53=N53,1,0))","v":0},{"$f":"IF(N53>M53,6,0)","v":0},{"$f":"IF(M53=\"\",0,SUM(Q53:S53))","v":0},{"$f":"VLOOKUP(T53,Classement!$B$2:$C$7,2,0)","v":0}]
[null,null,null,null,null,null,null,null,null,null,null,"Torino",null,null,"Real Sociedad ",null,{"$f":"IF(M54>N54,3,0)","v":0},{"$f":"IF(M54=\"\",0,IF(M54=N54,1,0))","v":0},{"$f":"IF(N54>M54,6,0)","v":0},{"$f":"IF(M54=\"\",0,SUM(Q54:S54))","v":0},{"$f":"VLOOKUP(T54,Classement!$B$2:$C$7,2,0)","v":0}]
[null,null,null,null,null,null,null,null,null,null,null,"Torino",null,null,"Club Bruges",null,{"$f":"IF(M55>N55,3,0)","v":0},{"$f":"IF(M55=\"\",0,IF(M55=N55,1,0))","v":0},{"$f":"IF(N55>M55,6,0)","v":0},{"$f":"IF(M55=\"\",0,SUM(Q55:S55))","v":0},{"$f":"VLOOKUP(T55,Classement!$B$2:$C$7,2,0)","v":0}]
[null,null,null,null,null,null,null,null,null,null,null,"Torino",null,null,"Braga",null,{"$f":"IF(M56>N56,3,0)","v":0},{"$f":"IF(M56=\"\",0,IF(M56=N56,1,0))","v":0},{"$f":"IF(N56>M56,6,0)","v":0},{"$f":"IF(M56=\"\",0,SUM(Q56:S56))","v":0},{"$f":"VLOOKUP(T56,Classement!$B$2:$C$7,2,0)","v":0}]
[null,null,null,null,null,null,null,null,null,null,null,"Torino",null,null,"Southampton",null,{"$f":"IF(M57>N57,3,0)","v":0},{"$f":"IF(M57=\"\",0,IF(M57=N57,1,0))","v":0},{"$f":"IF(N57>M57,6,0)","v":0},{"$f":"IF(M57=\"\",0,SUM(Q57:S57))","v":0},{"$f":"VLOOKUP(T57,Classement!$B$2:$C$7,2,0)","v":0}]
[null,null,null,null,null,null,null,null,null,null,null,"Torino",null,null,"Fiorentina",null,{"$f":"IF(M58>N58,3,0)","v":0},{"$f":"IF(M58=\"\",0,IF(M58=N58,1,0))","v":0},{"$f":"IF(N58>M58,6,0)","v":0},{"$f":"IF(M58=\"\",0,SUM(Q58:S58))","v":0},{"$f":"VLOOKUP(T58,Classement!$B$2:$C$7,2,0)","v":0}]
[null,null,null,null,null,null,null,null,null,null,null,"Torino",2,2,"Celta Vigo",null,{"$f":"IF(M59>N59,3,0)","v":0},{"$f":"IF(M59=\"\",0,IF(M59=N59,1,0))","v":1},{"$f":"IF(N59>M59,6,0)","v":0},{"$f":"IF(M59=\"\",0,SUM(Q59:S59))","v":1},{"$f":"VLOOKUP(T59,Classement!$B$2:$C$7,2,0)","v":1}]
[null,null,null,null,null,null,null,null,null,null,null,"Werder",1,3,"St etienne",null,{"$f":"IF(M60>N60,3,0)","v":0},{"$f":"IF(M60=\"\",0,IF(M60=N60,1,0))","v":0},{"$f":"IF(N60>M60,6,0)","v":6},{"$f":"IF(M60=\"\",0,SUM(Q60:S60))","v":6},{"$f":"VLOOKUP(T60,Classement!$B$2:$C$7,2,0)","v":0}]
[null,null,null,null,null,null,null,null,null,null,null,"Werder",null,null,"Nice",null,{"$f":"IF(M61>N61,3,0)","v":0},{"$f":"IF(M61=\"\",0,IF(M61=N61,1,0))","v":0},{"$f":"IF(N61>M61,6,0)","v":0},{"$f":"IF(M61=\"\",0,SUM(Q61:S61))","v":0},{"$f":"VLOOKUP(T61,Classement!$B$2:$C$7,2,0)","v":0}]
[null,null,null,null,null,null,null,null,null,null,null,"Werder",null,null,"Swansea",null,{"$f":"IF(M62>N62,3,0)","v":0},{"$f":"IF(M62=\"\",0,IF(M62=N62,1,0))","v":0},{"$f":"IF(N62>M62,6,0)","v":0},{"$f":"IF(M62=\"\",0,SUM(Q62:S62))","v":0},{"$f":"VLOOKUP(T62,Classement!$B$2:$C$7,2,0)","v":0}]
[null,null,null,null,null,null,null,null,null,null,null,"Werder",null,null,"Cologne",null,{"$f":"IF(M63>N63,3,0)","v":0},{"$f":"IF(M63=\"\",0,IF(M63=N63,1,0))","v":0},{"$f":"IF(N63>M63,6,0)","v":0},{"$f":"IF(M63=\"\",0,SUM(Q63:S63))","v":0},{"$f":"VLOOKUP(T63,Classement!$B$2:$C$7,2,0)","v":0}]
[null,null,null,null,null,null,null,null,null,null,null,"Werder",null,null,"Real Sociedad ",null,{"$f":"IF(M64>N64,3,0)","v":0},{"$f":"IF(M64=\"\",0,IF(M64=N64,1,0))","v":0},{"$f":"IF(N64>M64,6,0)","v":0},{"$f":"IF(M64=\"\",0,SUM(Q64:S64))","v":0},{"$f":"VLOOKUP(T64,Classement!$B$2:$C$7,2,0)","v":0}]
[null,null,null,null,null,null,null,null,null,null,null,"Werder",null,null,"Club Bruges",null,{"$f":"IF(M65>N65,3,0)","v":0},{"$f":"IF(M65=\"\",0,IF(M65=N65,1,0))","v":0},{"$f":"IF(N65>M65,6,0)","v":0},{"$f":"IF(M65=\"\",0,SUM(Q65:S65))","v":0},{"$f":"VLOOKUP(T65,Classement!$B$2:$C$7,2,0)","v":0}]
[null,null,null,null,null,null,null,null,null,null,null,"Werder",null,null,"Braga",null,{"$f":"IF(M66>N66,3,0)","v":0},{"$f":"IF(M66=\"\",0,IF(M66=N66,1,0))","v":0},{"$f":"IF(N66>M66,6,0)","v":0},{"$f":"IF(M66=\"\",0,SUM(Q66:S66))","v":0},{"$f":"VLOOKUP(T66,Classement!$B$2:$C$7,2,0)","v":0}]
[null,null,null,null,null,null,null,null,null,null,null,"Werder",null,null,"Southampton",null,{"$f":"IF(M67>N67,3,0)","v":0},{"$f":"IF(M67=\"\",0,IF(M67=N67,1,0))","v":0},{"$f":"IF(N67>M67,6,0)","v":0},{"$f":"IF(M67=\"\",0,SUM(Q67:S67))","v":0},{"$f":"VLOOKUP(T67,Classement!$B$2:$C$7,2,0)","v":0}]
[null,null,null,null,null,null,null,null,null,null,null,"Werder",null,null,"Fiorentina",null,{"$f":"IF(M68>N68,3,0)","v":0},{"$f":"IF(M68=\"\",0,IF(M68=N68,1,0))","v":0},{"$f":"IF(N68>M68,6,0)","v":0},{"$f":"IF(M68=\"\",0,SUM(Q68:S68))","v":0},{"$f":"VLOOKUP(T68,Classement!$B$2:$C$7,2,0)","v":0}]
[null,null,null,null,null,null,null,null,null,null,null,"Werder",1,5,"Celta Vigo",null,{"$f":"IF(M69>N69,3,0)","v":0},{"$f":"IF(M69=\"\",0,IF(M69=N69,1,0))","v":0},{"$f":"IF(N69>M69,6,0)","v":6},{"$f":"IF(M69=\"\",0,SUM(Q69:S69))","v":6},{"$f":"VLOOKUP(T69,Classement!$B$2:$C$7,2,0)","v":0}]
[null,null,null,null,null,null,null,null,null,null,null,"Werder",null,null,"Torino",null,{"$f":"IF(M70>N70,3,0)","v":0},{"$f":"IF(M70=\"\",0,IF(M70=N70,1,0))","v":0},{"$f":"IF(N70>M70,6,0)","v":0},{"$f":"IF(M70=\"\",0,SUM(Q70:S70))","v":0},{"$f":"VLOOKUP(T70,Classement!$B$2:$C$7,2,0)","v":0}]
[null,null,null,null,null,null,null,null,null,null,null,"St etienne",null,null,"Nice",null,{"$f":"IF(M71>N71,3,0)","v":0},{"$f":"IF(M71=\"\",0,IF(M71=N71,1,0))","v":0},{"$f":"IF(N71>M71,6,0)","v":0},{"$f":"IF(M71=\"\",0,SUM(Q71:S71))","v":0},{"$f":"VLOOKUP(T71,Classement!$B$2:$C$7,2,0)","v":0}]
[null,null,null,null,null,null,null,null,null,null,null,"St etienne",0,0,"Swansea",null,{"$f":"IF(M72>N72,3,0)","v":0},{"$f":"IF(M72=\"\",0,IF(M72=N72,1,0))","v":1},{"$f":"IF(N72>M72,6,0)","v":0},{"$f":"IF(M72=\"\",0,SUM(Q72:S72))","v":1},{"$f":"VLOOKUP(T72,Classement!$B$2:$C$7,2,0)","v":1}]
[null,null,null,null,null,null,null,null,null,null,null,"St etienne",null,null,"Cologne",null,{"$f":"IF(M73>N73,3,0)","v":0},{"$f":"IF(M73=\"\",0,IF(M73=N73,1,0))","v":0},{"$f":"IF(N73>M73,6,0)","v":0},{"$f":"IF(M73=\"\",0,SUM(Q73:S73))","v":0},{"$f":"VLOOKUP(T73,Classement!$B$2:$C$7,2,0)","v":0}]
[null,null,null,null,null,null,null,null,null,null,null,"St etienne",null,null,"Real Sociedad ",null,{"$f":"IF(M74>N74,3,0)","v":0},{"$f":"IF(M74=\"\",0,IF(M74=N74,1,0))","v":0},{"$f":"IF(N74>M74,6,0)","v":0},{"$f":"IF(M74=\"\",0,SUM(Q74:S74))","v":0},{"$f":"VLOOKUP(T74,Classement!$B$2:$C$7,2,0)","v":0}]
[null,null,null,null,null,null,null,null,null,null,null,"St etienne",1,0,"Club Bruges",null,{"$f":"IF(M75>N75,3,0)","v":3},{"$f":"IF(M75=\"\",0,IF(M75=N75,1,0))","v":0},{"$f":"IF(N75>M75,6,0)","v":0},{"$f":"IF(M75=\"\",0,SUM(Q75:S75))","v":3},{"$f":"VLOOKUP(T75,Classement!$B$2:$C$7,2,0)","v":3}]
[null,null,null,null,null,null,null,null,null,null,null,"St etienne",0,1,"Braga",null,{"$f":"IF(M76>N76,3,0)","v":0},{"$f":"IF(M76=\"\",0,IF(M76=N76,1,0))","v":0},{"$f":"IF(N76>M76,6,0)","v":6},{"$f":"IF(M76=\"\",0,SUM(Q76:S76))","v":6},{"$f":"VLOOKUP(T76,Classement!$B$2:$C$7,2,0)","v":0}]
[null,null,null,null,null,null,null,null,null,null,null,"St etienne",null,null,"Southampton",null,{"$f":"IF(M77>N77,3,0)","v":0},{"$f":"IF(M77=\"\",0,IF(M77=N77,1,0))","v":0},{"$f":"IF(N77>M77,6,0)","v":0},{"$f":"IF(M77=\"\",0,SUM(Q77:S77))","v":0},{"$f":"VLOOKUP(T77,Classement!$B$2:$C$7,2,0)","v":0}]
[null,null,null,null,null,null,null,null,null,null,null,"St etienne",null,null,"Fiorentina",null,{"$f":"IF(M78>N78,3,0)","v":0},{"$f":"IF(M78=\"\",0,IF(M78=N78,1,0))","v":0},{"$f":"IF(N78>M78,6,0)","v":0},{"$f":"IF(M78=\"\",0,SUM(Q78:S78))","v":0},{"$f":"VLOOKUP(T78,Classement!$B$2:$C$7,2,0)","v":0}]
[null,null,null,null,null,null,null,null,null,null,null,"St etienne",null,null,"Celta Vigo",null,{"$f":"IF(M79>N79,3,0)","v":0},{"$f":"IF(M79=\"\",0,IF(M79=N79,1,0))","v":0},{"$f":"IF(N79>M79,6,0)","v":0},{"$f":"IF(M79=\"\",0,SUM(Q79:S79))","v":0},{"$f":"VLOOKUP(T79,Classement!$B$2:$C$7,2,0)","v":0}]
[null,null,null,null,null,null,null,null,null,null,null,"St etienne",null,null,"Torino",null,{"$f":"IF(M80>N80,3,0)","v":0},{"$f":"IF(M80=\"\",0,IF(M80=N80,1,0))","v":0},{"$f":"IF(N80>M80,6,0)","v":0},{"$f":"IF(M80=\"\",0,SUM(Q80:S80))","v":0},{"$f":"VLOOKUP(T80,Classement!$B$2:$C$7,2,0)","v":0}]
[null,null,null,null,null,null,null,null,null,null,null,"St etienne",3,1,"Werder",null,{"$f":"IF(M81>N81,3,0)","v":3},{"$f":"IF(M81=\"\",0,IF(M81=N81,1,0))","v":0},{"$f":"IF(N81>M81,6,0)","v":0},{"$f":"IF(M81=\"\",0,SUM(Q81:S81))","v":3},{"$f":"VLOOKUP(T81,Classement!$B$2:$C$7,2,0)","v":3}]
[null,null,null,null,null,null,null,null,null,null,null,"Nice",null,null,"Swansea",null,{"$f":"IF(M82>N82,3,0)","v":0},{"$f":"IF(M82=\"\",0,IF(M82=N82,1,0))","v":0},{"$f":"IF(N82>M82,6,0)","v":0},{"$f":"IF(M82=\"\",0,SUM(Q82:S82))","v":0},{"$f":"VLOOKUP(T82,Classement!$B$2:$C$7,2,0)","v":0}]
[null,null,null,null,null,null,null,null,null,null,null,"Nice",null,null,"Cologne",null,{"$f":"IF(M83>N83,3,0)","v":0},{"$f":"IF(M83=\"\",0,IF(M83=N83,1,0))","v":0},{"$f":"IF(N83>M83,6,0)","v":0},{"$f":"IF(M83=\"\",0,SUM(Q83:S83))","v":0},{"$f":"VLOOKUP(T83,Classement!$B$2:$C$7,2,0)","v":0}]
[null,null,null,null,null,null,null,null,null,null,null,"Nice",null,null,"Real Sociedad ",null,{"$f":"IF(M84>N84,3,0)","v":0},{"$f":"IF(M84=\"\",0,IF(M84=N84,1,0))","v":0},{"$f":"IF(N84>M84,6,0)","v":0},{"$f":"IF(M84=\"\",0,SUM(Q84:S84))","v":0},{"$f":"VLOOKUP(T84,Classement!$B$2:$C$7,2,0)","v":0}]
[null,null,null,null,null,null,null,null,null,null,null,"Nice",null,null,"Club Bruges",null,{"$f":"IF(M85>N85,3,0)","v":0},{"$f":"IF(M85=\"\",0,IF(M85=N85,1,0))","v":0},{"$f":"IF(N85>M85,6,0)","v":0},{"$f":"IF(M85=\"\",0,SUM(Q85:S85))","v":0},{"$f":"VLOOKUP(T85,Classement!$B$2:$C$7,2,0)","v":0}]
[null,null,null,null,null,null,null,null,null,null,null,"Nice",null,null,"Braga",null,{"$f":"IF(M86>N86,3,0)","v":0},{"$f":"IF(M86=\"\",0,IF(M86=N86,1,0))","v":0},{"$f":"IF(N86>M86,6,0)","v":0},{"$f":"IF(M86=\"\",0,SUM(Q86:S86))","v":0},{"$f":"VLOOKUP(T86,Classement!$B$2:$C$7,2,0)","v":0}]
[null,null,null,null,null,null,null,null,null,null,null,"Nice",null,null,"Southampton",null,{"$f":"IF(M87>N87,3,0)","v":0},{"$f":"IF(M87=\"\",0,IF(M87=N87,1,0))","v":0},{"$f":"IF(N87>M87,6,0)","v":0},{"$f":"IF(M87=\"\",0,SUM(Q87:S87))","v":0},{"$f":"VLOOKUP(T87,Classement!$B$2:$C$7,2,0)","v":0}]
[null,null,null,null,null,null,null,null,null,null,null,"Nice",1,1,"Fiorentina",null,{"$f":"IF(M88>N88,3,0)","v":0},{"$f":"IF(M88=\"\",0,IF(M88=N88,1,0))","v":1},{"$f":"IF(N88>M88,6,0)","v":0},{"$f":"IF(M88=\"\",0,SUM(Q88:S88))","v":1},{"$f":"VLOOKUP(T88,Classement!$B$2:$C$7,2,0)","v":1}]
[null,null,null,null,null,null,null,null,null,null,null,"Nice",null,null,"Celta Vigo",null,{"$f":"IF(M89>N89,3,0)","v":0},{"$f":"IF(M89=\"\",0,IF(M89=N89,1,0))","v":0},{"$f":"IF(N89>M89,6,0)","v":0},{"$f":"IF(M89=\"\",0,SUM(Q89:S89))","v":0},{"$f":"VLOOKUP(T89,Classement!$B$2:$C$7,2,0)","v":0}]
[null,null,null,null,null,null,null,null,null,null,null,"Nice",null,null,"Torino",null,{"$f":"IF(M90>N90,3,0)","v":0},{"$f":"IF(M90=\"\",0,IF(M90=N90,1,0))","v":0},{"$f":"IF(N90>M90,6,0)","v":0},{"$f":"IF(M90=\"\",0,SUM(Q90:S90))","v":0},{"$f":"VLOOKUP(T90,Classement!$B$2:$C$7,2,0)","v":0}]
[null,null,null,null,null,null,null,null,null,null,null,"Nice",null,null,"Werder",null,{"$f":"IF(M91>N91,3,0)","v":0},{"$f":"IF(M91=\"\",0,IF(M91=N91,1,0))","v":0},{"$f":"IF(N91>M91,6,0)","v":0},{"$f":"IF(M91=\"\",0,SUM(Q91:S91))","v":0},{"$f":"VLOOKUP(T91,Classement!$B$2:$C$7,2,0)","v":0}]
[null,null,null,null,null,null,null,null,null,null,null,"Nice",null,null,"St etienne",null,{"$f":"IF(M92>N92,3,0)","v":0},{"$f":"IF(M92=\"\",0,IF(M92=N92,1,0))","v":0},{"$f":"IF(N92>M92,6,0)","v":0},{"$f":"IF(M92=\"\",0,SUM(Q92:S92))","v":0},{"$f":"VLOOKUP(T92,Classement!$B$2:$C$7,2,0)","v":0}]
[null,null,null,null,null,null,null,null,null,null,null,"Swansea",null,null,"Cologne",null,{"$f":"IF(M93>N93,3,0)","v":0},{"$f":"IF(M93=\"\",0,IF(M93=N93,1,0))","v":0},{"$f":"IF(N93>M93,6,0)","v":0},{"$f":"IF(M93=\"\",0,SUM(Q93:S93))","v":0},{"$f":"VLOOKUP(T93,Classement!$B$2:$C$7,2,0)","v":0}]
[null,null,null,null,null,null,null,null,null,null,null,"Swansea",0,0,"Real Sociedad ",null,{"$f":"IF(M94>N94,3,0)","v":0},{"$f":"IF(M94=\"\",0,IF(M94=N94,1,0))","v":1},{"$f":"IF(N94>M94,6,0)","v":0},{"$f":"IF(M94=\"\",0,SUM(Q94:S94))","v":1},{"$f":"VLOOKUP(T94,Classement!$B$2:$C$7,2,0)","v":1}]
[null,null,null,null,null,null,null,null,null,null,null,"Swansea",3,0,"Club Bruges",null,{"$f":"IF(M95>N95,3,0)","v":3},{"$f":"IF(M95=\"\",0,IF(M95=N95,1,0))","v":0},{"$f":"IF(N95>M95,6,0)","v":0},{"$f":"IF(M95=\"\",0,SUM(Q95:S95))","v":3},{"$f":"VLOOKUP(T95,Classement!$B$2:$C$7,2,0)","v":3}]
[null,null,null,null,null,null,null,null,null,null,null,"Swansea",4,0,"Braga",null,{"$f":"IF(M96>N96,3,0)","v":3},{"$f":"IF(M96=\"\",0,IF(M96=N96,1,0))","v":0},{"$f":"IF(N96>M96,6,0)","v":0},{"$f":"IF(M96=\"\",0,SUM(Q96:S96))","v":3},{"$f":"VLOOKUP(T96,Classement!$B$2:$C$7,2,0)","v":3}]
[null,null,null,null,null,null,null,null,null,null,null,"Swansea",null,null,"Southampton",null,{"$f":"IF(M97>N97,3,0)","v":0},{"$f":"IF(M97=\"\",0,IF(M97=N97,1,0))","v":0},{"$f":"IF(N97>M97,6,0)","v":0},{"$f":"IF(M97=\"\",0,SUM(Q97:S97))","v":0},{"$f":"VLOOKUP(T97,Classement!$B$2:$C$7,2,0)","v":0}]
[null,null,null,null,null,null,null,null,null,null,null,"Swansea",null,null,"Fiorentina",null,{"$f":"IF(M98>N98,3,0)","v":0},{"$f":"IF(M98=\"\",0,IF(M98=N98,1,0))","v":0},{"$f":"IF(N98>M98,6,0)","v":0},{"$f":"IF(M98=\"\",0,SUM(Q98:S98))","v":0},{"$f":"VLOOKUP(T98,Classement!$B$2:$C$7,2,0)","v":0}]
[null,null,null,null,null,null,null,null,null,null,null,"Swansea",null,null,"Celta Vigo",null,{"$f":"IF(M99>N99,3,0)","v":0},{"$f":"IF(M99=\"\",0,IF(M99=N99,1,0))","v":0},{"$f":"IF(N99>M99,6,0)","v":0},{"$f":"IF(M99=\"\",0,SUM(Q99:S99))","v":0},{"$f":"VLOOKUP(T99,Classement!$B$2:$C$7,2,0)","v":0}]
[null,null,null,null,null,null,null,null,null,null,null,"Swansea",null,null,"Torino",null,{"$f":"IF(M100>N100,3,0)","v":0},{"$f":"IF(M100=\"\",0,IF(M100=N100,1,0))","v":0},{"$f":"IF(N100>M100,6,0)","v":0},{"$f":"IF(M100=\"\",0,SUM(Q100:S100))","v":0},{"$f":"VLOOKUP(T100,Classement!$B$2:$C$7,2,0)","v":0}]
[null,null,null,null,null,null,null,null,null,null,null,"Swansea",null,null,"Werder",null,{"$f":"IF(M101>N101,3,0)","v":0},{"$f":"IF(M101=\"\",0,IF(M101=N101,1,0))","v":0},{"$f":"IF(N101>M101,6,0)","v":0},{"$f":"IF(M101=\"\",0,SUM(Q101:S101))","v":0},{"$f":"VLOOKUP(T101,Classement!$B$2:$C$7,2,0)","v":0}]
[null,null,null,null,null,null,null,null,null,null,null,"Swansea",0,0,"St etienne",null,{"$f":"IF(M102>N102,3,0)","v":0},{"$f":"IF(M102=\"\",0,IF(M102=N102,1,0))","v":1},{"$f":"IF(N102>M102,6,0)","v":0},{"$f":"IF(M102=\"\",0,SUM(Q102:S102))","v":1},{"$f":"VLOOKUP(T102,Classement!$B$2:$C$7,2,0)","v":1}]
[null,null,null,null,null,null,null,null,null,null,null,"Swansea",null,null,"Nice",null,{"$f":"IF(M103>N103,3,0)","v":0},{"$f":"IF(M103=\"\",0,IF(M103=N103,1,0))","v":0},{"$f":"IF(N103>M103,6,0)","v":0},{"$f":"IF(M103=\"\",0,SUM(Q103:S103))","v":0},{"$f":"VLOOKUP(T103,Classement!$B$2:$C$7,2,0)","v":0}]
[null,null,null,null,null,null,null,null,null,null,null,"Cologne",null,null,"Real Sociedad ",null,{"$f":"IF(M104>N104,3,0)","v":0},{"$f":"IF(M104=\"\",0,IF(M104=N104,1,0))","v":0},{"$f":"IF(N104>M104,6,0)","v":0},{"$f":"IF(M104=\"\",0,SUM(Q104:S104))","v":0},{"$f":"VLOOKUP(T104,Classement!$B$2:$C$7,2,0)","v":0}]
[null,null,null,null,null,null,null,null,null,null,null,"Cologne",null,null,"Club Bruges",null,{"$f":"IF(M105>N105,3,0)","v":0},{"$f":"IF(M105=\"\",0,IF(M105=N105,1,0))","v":0},{"$f":"IF(N105>M105,6,0)","v":0},{"$f":"IF(M105=\"\",0,SUM(Q105:S105))","v":0},{"$f":"VLOOKUP(T105,Classement!$B$2:$C$7,2,0)","v":0}]
[null,null,null,null,null,null,null,null,null,null,null,"Cologne",null,null,"Braga",null,{"$f":"IF(M106>N106,3,0)","v":0},{"$f":"IF(M106=\"\",0,IF(M106=N106,1,0))","v":0},{"$f":"IF(N106>M106,6,0)","v":0},{"$f":"IF(M106=\"\",0,SUM(Q106:S106))","v":0},{"$f":"VLOOKUP(T106,Classement!$B$2:$C$7,2,0)","v":0}]
[null,null,null,null,null,null,null,null,null,null,null,"Cologne",null,null,"Southampton",null,{"$f":"IF(M107>N107,3,0)","v":0},{"$f":"IF(M107=\"\",0,IF(M107=N107,1,0))","v":0},{"$f":"IF(N107>M107,6,0)","v":0},{"$f":"IF(M107=\"\",0,SUM(Q107:S107))","v":0},{"$f":"VLOOKUP(T107,Classement!$B$2:$C$7,2,0)","v":0}]
[null,null,null,null,null,null,null,null,null,null,null,"Cologne",null,null,"Fiorentina",null,{"$f":"IF(M108>N108,3,0)","v":0},{"$f":"IF(M108=\"\",0,IF(M108=N108,1,0))","v":0},{"$f":"IF(N108>M108,6,0)","v":0},{"$f":"IF(M108=\"\",0,SUM(Q108:S108))","v":0},{"$f":"VLOOKUP(T108,Classement!$B$2:$C$7,2,0)","v":0}]
[null,null,null,null,null,null,null,null,null,null,null,"Cologne",null,null,"Celta Vigo",null,{"$f":"IF(M109>N109,3,0)","v":0},{"$f":"IF(M109=\"\",0,IF(M109=N109,1,0))","v":0},{"$f":"IF(N109>M109,6,0)","v":0},{"$f":"IF(M109=\"\",0,SUM(Q109:S109))","v":0},{"$f":"VLOOKUP(T109,Classement!$B$2:$C$7,2,0)","v":0}]
[null,null,null,null,null,null,null,null,null,null,null,"Cologne",null,null,"Torino",null,{"$f":"IF(M110>N110,3,0)","v":0},{"$f":"IF(M110=\"\",0,IF(M110=N110,1,0))","v":0},{"$f":"IF(N110>M110,6,0)","v":0},{"$f":"IF(M110=\"\",0,SUM(Q110:S110))","v":0},{"$f":"VLOOKUP(T110,Classement!$B$2:$C$7,2,0)","v":0}]
[null,null,null,null,null,null,null,null,null,null,null,"Cologne",null,null,"Werder",null,{"$f":"IF(M111>N111,3,0)","v":0},{"$f":"IF(M111=\"\",0,IF(M111=N111,1,0))","v":0},{"$f":"IF(N111>M111,6,0)","v":0},{"$f":"IF(M111=\"\",0,SUM(Q111:S111))","v":0},{"$f":"VLOOKUP(T111,Classement!$B$2:$C$7,2,0)","v":0}]
[null,null,null,null,null,null,null,null,null,null,null,"Cologne",null,null,"St etienne",null,{"$f":"IF(M112>N112,3,0)","v":0},{"$f":"IF(M112=\"\",0,IF(M112=N112,1,0))","v":0},{"$f":"IF(N112>M112,6,0)","v":0},{"$f":"IF(M112=\"\",0,SUM(Q112:S112))","v":0},{"$f":"VLOOKUP(T112,Classement!$B$2:$C$7,2,0)","v":0}]
[null,null,null,null,null,null,null,null,null,null,null,"Cologne",null,null,"Nice",null,{"$f":"IF(M113>N113,3,0)","v":0},{"$f":"IF(M113=\"\",0,IF(M113=N113,1,0))","v":0},{"$f":"IF(N113>M113,6,0)","v":0},{"$f":"IF(M113=\"\",0,SUM(Q113:S113))","v":0},{"$f":"VLOOKUP(T113,Classement!$B$2:$C$7,2,0)","v":0}]
[null,null,null,null,null,null,null,null,null,null,null,"Cologne",null,null,"Swansea",null,{"$f":"IF(M114>N114,3,0)","v":0},{"$f":"IF(M114=\"\",0,IF(M114=N114,1,0))","v":0},{"$f":"IF(N114>M114,6,0)","v":0},{"$f":"IF(M114=\"\",0,SUM(Q114:S114))","v":0},{"$f":"VLOOKUP(T114,Classement!$B$2:$C$7,2,0)","v":0}]
[null,null,null,null,null,null,null,null,null,null,null,"Real Sociedad ",null,null,"Club Bruges",null,{"$f":"IF(M115>N115,3,0)","v":0},{"$f":"IF(M115=\"\",0,IF(M115=N115,1,0))","v":0},{"$f":"IF(N115>M115,6,0)","v":0},{"$f":"IF(M115=\"\",0,SUM(Q115:S115))","v":0},{"$f":"VLOOKUP(T115,Classement!$B$2:$C$7,2,0)","v":0}]
[null,null,null,null,null,null,null,null,null,null,null,"Real Sociedad ",null,null,"Braga",null,{"$f":"IF(M116>N116,3,0)","v":0},{"$f":"IF(M116=\"\",0,IF(M116=N116,1,0))","v":0},{"$f":"IF(N116>M116,6,0)","v":0},{"$f":"IF(M116=\"\",0,SUM(Q116:S116))","v":0},{"$f":"VLOOKUP(T116,Classement!$B$2:$C$7,2,0)","v":0}]
[null,null,null,null,null,null,null,null,null,null,null,"Real Sociedad ",null,null,"Southampton",null,{"$f":"IF(M117>N117,3,0)","v":0},{"$f":"IF(M117=\"\",0,IF(M117=N117,1,0))","v":0},{"$f":"IF(N117>M117,6,0)","v":0},{"$f":"IF(M117=\"\",0,SUM(Q117:S117))","v":0},{"$f":"VLOOKUP(T117,Classement!$B$2:$C$7,2,0)","v":0}]
[null,null,null,null,null,null,null,null,null,null,null,"Real Sociedad ",null,null,"Fiorentina",null,{"$f":"IF(M118>N118,3,0)","v":0},{"$f":"IF(M118=\"\",0,IF(M118=N118,1,0))","v":0},{"$f":"IF(N118>M118,6,0)","v":0},{"$f":"IF(M118=\"\",0,SUM(Q118:S118))","v":0},{"$f":"VLOOKUP(T118,Classement!$B$2:$C$7,2,0)","v":0}]
[null,null,null,null,null,null,null,null,null,null,null,"Real Sociedad ",2,3,"Celta Vigo",null,{"$f":"IF(M119>N119,3,0)","v":0},{"$f":"IF(M119=\"\",0,IF(M119=N119,1,0))","v":0},{"$f":"IF(N119>M119,6,0)","v":6},{"$f":"IF(M119=\"\",0,SUM(Q119:S119))","v":6},{"$f":"VLOOKUP(T119,Classement!$B$2:$C$7,2,0)","v":0}]
[null,null,null,null,null,null,null,null,null,null,null,"Real Sociedad ",null,null,"Torino",null,{"$f":"IF(M120>N120,3,0)","v":0},{"$f":"IF(M120=\"\",0,IF(M120=N120,1,0))","v":0},{"$f":"IF(N120>M120,6,0)","v":0},{"$f":"IF(M120=\"\",0,SUM(Q120:S120))","v":0},{"$f":"VLOOKUP(T120,Classement!$B$2:$C$7,2,0)","v":0}]
[null,null,null,null,null,null,null,null,null,null,null,"Real Sociedad ",null,null,"Werder",null,{"$f":"IF(M121>N121,3,0)","v":0},{"$f":"IF(M121=\"\",0,IF(M121=N121,1,0))","v":0},{"$f":"IF(N121>M121,6,0)","v":0},{"$f":"IF(M121=\"\",0,SUM(Q121:S121))","v":0},{"$f":"VLOOKUP(T121,Classement!$B$2:$C$7,2,0)","v":0}]
[null,null,null,null,null,null,null,null,null,null,null,"Real Sociedad ",null,null,"St etienne",null,{"$f":"IF(M122>N122,3,0)","v":0},{"$f":"IF(M122=\"\",0,IF(M122=N122,1,0))","v":0},{"$f":"IF(N122>M122,6,0)","v":0},{"$f":"IF(M122=\"\",0,SUM(Q122:S122))","v":0},{"$f":"VLOOKUP(T122,Classement!$B$2:$C$7,2,0)","v":0}]
[null,null,null,null,null,null,null,null,null,null,null,"Real Sociedad ",null,null,"Nice",null,{"$f":"IF(M123>N123,3,0)","v":0},{"$f":"IF(M123=\"\",0,IF(M123=N123,1,0))","v":0},{"$f":"IF(N123>M123,6,0)","v":0},{"$f":"IF(M123=\"\",0,SUM(Q123:S123))","v":0},{"$f":"VLOOKUP(T123,Classement!$B$2:$C$7,2,0)","v":0}]
[null,null,null,null,null,null,null,null,null,null,null,"Real Sociedad ",0,0,"Swansea",null,{"$f":"IF(M124>N124,3,0)","v":0},{"$f":"IF(M124=\"\",0,IF(M124=N124,1,0))","v":1},{"$f":"IF(N124>M124,6,0)","v":0},{"$f":"IF(M124=\"\",0,SUM(Q124:S124))","v":1},{"$f":"VLOOKUP(T124,Classement!$B$2:$C$7,2,0)","v":1}]
[null,null,null,null,null,null,null,null,null,null,null,"Real Sociedad ",null,null,"Cologne",null,{"$f":"IF(M125>N125,3,0)","v":0},{"$f":"IF(M125=\"\",0,IF(M125=N125,1,0))","v":0},{"$f":"IF(N125>M125,6,0)","v":0},{"$f":"IF(M125=\"\",0,SUM(Q125:S125))","v":0},{"$f":"VLOOKUP(T125,Classement!$B$2:$C$7,2,0)","v":0}]
[null,null,null,null,null,null,null,null,null,null,null,"Club Bruges",null,null,"Braga",null,{"$f":"IF(M126>N126,3,0)","v":0},{"$f":"IF(M126=\"\",0,IF(M126=N126,1,0))","v":0},{"$f":"IF(N126>M126,6,0)","v":0},{"$f":"IF(M126=\"\",0,SUM(Q126:S126))","v":0},{"$f":"VLOOKUP(T126,Classement!$B$2:$C$7,2,0)","v":0}]
[null,null,null,null,null,null,null,null,null,null,null,"Club Bruges",2,1,"Southampton",null,{"$f":"IF(M127>N127,3,0)","v":3},{"$f":"IF(M127=\"\",0,IF(M127=N127,1,0))","v":0},{"$f":"IF(N127>M127,6,0)","v":0},{"$f":"IF(M127=\"\",0,SUM(Q127:S127))","v":3},{"$f":"VLOOKUP(T127,Classement!$B$2:$C$7,2,0)","v":3}]
[null,null,null,null,null,null,null,null,null,null,null,"Club Bruges",1,3,"Fiorentina",null,{"$f":"IF(M128>N128,3,0)","v":0},{"$f":"IF(M128=\"\",0,IF(M128=N128,1,0))","v":0},{"$f":"IF(N128>M128,6,0)","v":6},{"$f":"IF(M128=\"\",0,SUM(Q128:S128))","v":6},{"$f":"VLOOKUP(T128,Classement!$B$2:$C$7,2,0)","v":0}]
[null,null,null,null,null,null,null,null,null,null,null,"Club Bruges",0,0,"Celta Vigo",null,{"$f":"IF(M129>N129,3,0)","v":0},{"$f":"IF(M129=\"\",0,IF(M129=N129,1,0))","v":1},{"$f":"IF(N129>M129,6,0)","v":0},{"$f":"IF(M129=\"\",0,SUM(Q129:S129))","v":1},{"$f":"VLOOKUP(T129,Classement!$B$2:$C$7,2,0)","v":1}]
[null,null,null,null,null,null,null,null,null,null,null,"Club Bruges",null,null,"Torino",null,{"$f":"IF(M130>N130,3,0)","v":0},{"$f":"IF(M130=\"\",0,IF(M130=N130,1,0))","v":0},{"$f":"IF(N130>M130,6,0)","v":0},{"$f":"IF(M130=\"\",0,SUM(Q130:S130))","v":0},{"$f":"VLOOKUP(T130,Classement!$B$2:$C$7,2,0)","v":0}]
[null,null,null,null,null,null,null,null,null,null,null,"Club Bruges",null,null,"Werder",null,{"$f":"IF(M131>N131,3,0)","v":0},{"$f":"IF(M131=\"\",0,IF(M131=N131,1,0))","v":0},{"$f":"IF(N131>M131,6,0)","v":0},{"$f":"IF(M131=\"\",0,SUM(Q131:S131))","v":0},{"$f":"VLOOKUP(T131,Classement!$B$2:$C$7,2,0)","v":0}]
[null,null,null,null,null,null,null,null,null,null,null,"Club Bruges",0,1,"St etienne",null,{"$f":"IF(M132>N132,3,0)","v":0},{"$f":"IF(M132=\"\",0,IF(M132=N132,1,0))","v":0},{"$f":"IF(N132>M132,6,0)","v":6},{"$f":"IF(M132=\"\",0,SUM(Q132:S132))","v":6},{"$f":"VLOOKUP(T132,Classement!$B$2:$C$7,2,0)","v":0}]
[null,null,null,null,null,null,null,null,null,null,null,"Club Bruges",null,null,"Nice",null,{"$f":"IF(M133>N133,3,0)","v":0},{"$f":"IF(M133=\"\",0,IF(M133=N133,1,0))","v":0},{"$f":"IF(N133>M133,6,0)","v":0},{"$f":"IF(M133=\"\",0,SUM(Q133:S133))","v":0},{"$f":"VLOOKUP(T133,Classement!$B$2:$C$7,2,0)","v":0}]
[null,null,null,null,null,null,null,null,null,null,null,"Club Bruges",0,3,"Swansea",null,{"$f":"IF(M134>N134,3,0)","v":0},{"$f":"IF(M134=\"\",0,IF(M134=N134,1,0))","v":0},{"$f":"IF(N134>M134,6,0)","v":6},{"$f":"IF(M134=\"\",0,SUM(Q134:S134))","v":6},{"$f":"VLOOKUP(T134,Classement!$B$2:$C$7,2,0)","v":0}]
[null,null,null,null,null,null,null,null,null,null,null,"Club Bruges",null,null,"Cologne",null,{"$f":"IF(M135>N135,3,0)","v":0},{"$f":"IF(M135=\"\",0,IF(M135=N135,1,0))","v":0},{"$f":"IF(N135>M135,6,0)","v":0},{"$f":"IF(M135=\"\",0,SUM(Q135:S135))","v":0},{"$f":"VLOOKUP(T135,Classement!$B$2:$C$7,2,0)","v":0}]
[null,null,null,null,null,null,null,null,null,null,null,"Club Bruges",null,null,"Real Sociedad ",null,{"$f":"IF(M136>N136,3,0)","v":0},{"$f":"IF(M136=\"\",0,IF(M136=N136,1,0))","v":0},{"$f":"IF(N136>M136,6,0)","v":0},{"$f":"IF(M136=\"\",0,SUM(Q136:S136))","v":0},{"$f":"VLOOKUP(T136,Classement!$B$2:$C$7,2,0)","v":0}]
[null,null,null,null,null,null,null,null,null,null,null,null,null,null,null,null,{"$f":"IF(M137>N137,3,0)","v":0},{"$f":"IF(M137=\"\",0,IF(M137=N137,1,0))","v":0},{"$f":"IF(N137>M137,6,0)","v":0},{"$f":"IF(M137=\"\",0,SUM(Q137:S137))","v":0},{"$f":"VLOOKUP(T137,Classement!$B$2:$C$7,2,0)","v":0}]
[null,null,null,null,null,null,null,null,null,null,null,null,null,null,null,null,{"$f":"IF(M138>N138,3,0)","v":0},{"$f":"IF(M138=\"\",0,IF(M138=N138,1,0))","v":0},{"$f":"IF(N138>M138,6,0)","v":0},{"$f":"IF(M138=\"\",0,SUM(Q138:S138))","v":0},{"$f":"VLOOKUP(T138,Classement!$B$2:$C$7,2,0)","v":0}]
[null,null,null,null,null,null,null,null,null,null,null,null,null,null,null,null,{"$f":"IF(M139>N139,3,0)","v":0},{"$f":"IF(M139=\"\",0,IF(M139=N139,1,0))","v":0},{"$f":"IF(N139>M139,6,0)","v":0},{"$f":"IF(M139=\"\",0,SUM(Q139:S139))","v":0},{"$f":"VLOOKUP(T139,Classement!$B$2:$C$7,2,0)","v":0}]
[null,null,null,null,null,null,null,null,null,null,null,null,null,null,null,null,{"$f":"IF(M140>N140,3,0)","v":0},{"$f":"IF(M140=\"\",0,IF(M140=N140,1,0))","v":0},{"$f":"IF(N140>M140,6,0)","v":0},{"$f":"IF(M140=\"\",0,SUM(Q140:S140))","v":0},{"$f":"VLOOKUP(T140,Classement!$B$2:$C$7,2,0)","v":0}]
[null,null,null,null,null,null,null,null,null,null,null,null,null,null,null,null,{"$f":"IF(M141>N141,3,0)","v":0},{"$f":"IF(M141=\"\",0,IF(M141=N141,1,0))","v":0},{"$f":"IF(N141>M141,6,0)","v":0},{"$f":"IF(M141=\"\",0,SUM(Q141:S141))","v":0},{"$f":"VLOOKUP(T141,Classement!$B$2:$C$7,2,0)","v":0}]
[null,null,null,null,null,null,null,null,null,null,null,null,null,null,null,null,{"$f":"IF(M142>N142,3,0)","v":0},{"$f":"IF(M142=\"\",0,IF(M142=N142,1,0))","v":0},{"$f":"IF(N142>M142,6,0)","v":0},{"$f":"IF(M142=\"\",0,SUM(Q142:S142))","v":0},{"$f":"VLOOKUP(T142,Classement!$B$2:$C$7,2,0)","v":0}]
[null,null,null,null,null,null,null,null,null,null,null,null,null,null,null,null,{"$f":"IF(M143>N143,3,0)","v":0},{"$f":"IF(M143=\"\",0,IF(M143=N143,1,0))","v":0},{"$f":"IF(N143>M143,6,0)","v":0},{"$f":"IF(M143=\"\",0,SUM(Q143:S143))","v":0},{"$f":"VLOOKUP(T143,Classement!$B$2:$C$7,2,0)","v":0}]
[null,null,null,null,null,null,null,null,null,null,null,null,null,null,null,null,{"$f":"IF(M144>N144,3,0)","v":0},{"$f":"IF(M144=\"\",0,IF(M144=N144,1,0))","v":0},{"$f":"IF(N144>M144,6,0)","v":0},{"$f":"IF(M144=\"\",0,SUM(Q144:S144))","v":0},{"$f":"VLOOKUP(T144,Classement!$B$2:$C$7,2,0)","v":0}]
[null,null,null,null,null,null,null,null,null,null,null,null,null,null,null,null,{"$f":"IF(M145>N145,3,0)","v":0},{"$f":"IF(M145=\"\",0,IF(M145=N145,1,0))","v":0},{"$f":"IF(N145>M145,6,0)","v":0},{"$f":"IF(M145=\"\",0,SUM(Q145:S145))","v":0},{"$f":"VLOOKUP(T145,Classement!$B$2:$C$7,2,0)","v":0}]
[null,null,null,null,null,null,null,null,null,null,null,null,null,null,null,null,{"$f":"IF(M146>N146,3,0)","v":0},{"$f":"IF(M146=\"\",0,IF(M146=N146,1,0))","v":0},{"$f":"IF(N146>M146,6,0)","v":0},{"$f":"IF(M146=\"\",0,SUM(Q146:S146))","v":0},{"$f":"VLOOKUP(T146,Classement!$B$2:$C$7,2,0)","v":0}]
[null,null,null,null,null,null,null,null,null,null,null,null,null,null,null,null,{"$f":"IF(M147>N147,3,0)","v":0},{"$f":"IF(M147=\"\",0,IF(M147=N147,1,0))","v":0},{"$f":"IF(N147>M147,6,0)","v":0},{"$f":"IF(M147=\"\",0,SUM(Q147:S147))","v":0},{"$f":"VLOOKUP(T147,Classement!$B$2:$C$7,2,0)","v":0}]
[null,null,null,null,null,null,null,null,null,null,null,null,null,null,null,null,{"$f":"IF(M148>N148,3,0)","v":0},{"$f":"IF(M148=\"\",0,IF(M148=N148,1,0))","v":0},{"$f":"IF(N148>M148,6,0)","v":0},{"$f":"IF(M148=\"\",0,SUM(Q148:S148))","v":0},{"$f":"VLOOKUP(T148,Classement!$B$2:$C$7,2,0)","v":0}]
[null,null,null,null,null,null,null,null,null,null,null,null,null,null,null,null,{"$f":"IF(M149>N149,3,0)","v":0},{"$f":"IF(M149=\"\",0,IF(M149=N149,1,0))","v":0},{"$f":"IF(N149>M149,6,0)","v":0},{"$f":"IF(M149=\"\",0,SUM(Q149:S149))","v":0},{"$f":"VLOOKUP(T149,Classement!$B$2:$C$7,2,0)","v":0}]
[null,null,null,null,null,null,null,null,null,null,null,null,null,null,null,null,{"$f":"IF(M150>N150,3,0)","v":0},{"$f":"IF(M150=\"\",0,IF(M150=N150,1,0))","v":0},{"$f":"IF(N150>M150,6,0)","v":0},{"$f":"IF(M150=\"\",0,SUM(Q150:S150))","v":0},{"$f":"VLOOKUP(T150,Classement!$B$2:$C$7,2,0)","v":0}]
[null,null,null,null,null,null,null,null,null,null,null,null,null,null,null,null,{"$f":"IF(M151>N151,3,0)","v":0},{"$f":"IF(M151=\"\",0,IF(M151=N151,1,0))","v":0},{"$f":"IF(N151>M151,6,0)","v":0},{"$f":"IF(M151=\"\",0,SUM(Q151:S151))","v":0},{"$f":"VLOOKUP(T151,Classement!$B$2:$C$7,2,0)","v":0}]
[null,null,null,null,null,null,null,null,null,null,null,null,null,null,null,null,{"$f":"IF(M152>N152,3,0)","v":0},{"$f":"IF(M152=\"\",0,IF(M152=N152,1,0))","v":0},{"$f":"IF(N152>M152,6,0)","v":0},{"$f":"IF(M152=\"\",0,SUM(Q152:S152))","v":0},{"$f":"VLOOKUP(T152,Classement!$B$2:$C$7,2,0)","v":0}]
[null,null,null,null,null,null,null,null,null,null,null,null,null,null,null,null,{"$f":"IF(M153>N153,3,0)","v":0},{"$f":"IF(M153=\"\",0,IF(M153=N153,1,0))","v":0},{"$f":"IF(N153>M153,6,0)","v":0},{"$f":"IF(M153=\"\",0,SUM(Q153:S153))","v":0},{"$f":"VLOOKUP(T153,Classement!$B$2:$C$7,2,0)","v":0}]
[null,null,null,null,null,null,null,null,null,null,null,null,null,null,null,null,{"$f":"IF(M154>N154,3,0)","v":0},{"$f":"IF(M154=\"\",0,IF(M154=N154,1,0))","v":0},{"$f":"IF(N154>M154,6,0)","v":0},{"$f":"IF(M154=\"\",0,SUM(Q154:S154))","v":0},{"$f":"VLOOKUP(T154,Classement!$B$2:$C$7,2,0)","v":0}]
[null,null,null,null,null,null,null,null,null,null,null,null,null,null,null,null,{"$f":"IF(M155>N155,3,0)","v":0},{"$f":"IF(M155=\"\",0,IF(M155=N155,1,0))","v":0},{"$f":"IF(N155>M155,6,0)","v":0},{"$f":"IF(M155=\"\",0,SUM(Q155:S155))","v":0},{"$f":"VLOOKUP(T155,Classement!$B$2:$C$7,2,0)","v":0}]
[null,null,null,null,null,null,null,null,null,null,null,null,null,null,null,null,{"$f":"IF(M156>N156,3,0)","v":0},{"$f":"IF(M156=\"\",0,IF(M156=N156,1,0))","v":0},{"$f":"IF(N156>M156,6,0)","v":0},{"$f":"IF(M156=\"\",0,SUM(Q156:S156))","v":0},{"$f":"VLOOKUP(T156,Classement!$B$2:$C$7,2,0)","v":0}]
[null,null,null,null,null,null,null,null,null,null,null,null,null,null,null,null,{"$f":"IF(M157>N157,3,0)","v":0},{"$f":"IF(M157=\"\",0,IF(M157=N157,1,0))","v":0},{"$f":"IF(N157>M157,6,0)","v":0},{"$f":"IF(M157=\"\",0,SUM(Q157:S157))","v":0},{"$f":"VLOOKUP(T157,Classement!$B$2:$C$7,2,0)","v":0}]
[null,null,null,null,null,null,null,null,null,null,null,null,null,null,null,null,{"$f":"IF(M158>N158,3,0)","v":0},{"$f":"IF(M158=\"\",0,IF(M158=N158,1,0))","v":0},{"$f":"IF(N158>M158,6,0)","v":0},{"$f":"IF(M158=\"\",0,SUM(Q158:S158))","v":0},{"$f":"VLOOKUP(T158,Classement!$B$2:$C$7,2,0)","v":0}]
[null,null,null,null,null,null,null,null,null,null,null,null,null,null,null,null,{"$f":"IF(M159>N159,3,0)","v":0},{"$f":"IF(M159=\"\",0,IF(M159=N159,1,0))","v":0},{"$f":"IF(N159>M159,6,0)","v":0},{"$f":"IF(M159=\"\",0,SUM(Q159:S159))","v":0},{"$f":"VLOOKUP(T159,Classement!$B$2:$C$7,2,0)","v":0}]
[null,null,null,null,null,null,null,null,null,null,null,null,null,null,null,null,{"$f":"IF(M160>N160,3,0)","v":0},{"$f":"IF(M160=\"\",0,IF(M160=N160,1,0))","v":0},{"$f":"IF(N160>M160,6,0)","v":0},{"$f":"IF(M160=\"\",0,SUM(Q160:S160))","v":0},{"$f":"VLOOKUP(T160,Classement!$B$2:$C$7,2,0)","v":0}]
[null,null,null,null,null,null,null,null,null,null,null,null,null,null,null,null,{"$f":"IF(M161>N161,3,0)","v":0},{"$f":"IF(M161=\"\",0,IF(M161=N161,1,0))","v":0},{"$f":"IF(N161>M161,6,0)","v":0},{"$f":"IF(M161=\"\",0,SUM(Q161:S161))","v":0},{"$f":"VLOOKUP(T161,Classement!$B$2:$C$7,2,0)","v":0}]
[null,null,null,null,null,null,null,null,null,null,null,null,null,null,null,null,{"$f":"IF(M162>N162,3,0)","v":0},{"$f":"IF(M162=\"\",0,IF(M162=N162,1,0))","v":0},{"$f":"IF(N162>M162,6,0)","v":0},{"$f":"IF(M162=\"\",0,SUM(Q162:S162))","v":0},{"$f":"VLOOKUP(T162,Classement!$B$2:$C$7,2,0)","v":0}]
[null,null,null,null,null,null,null,null,null,null,null,null,null,null,null,null,{"$f":"IF(M163>N163,3,0)","v":0},{"$f":"IF(M163=\"\",0,IF(M163=N163,1,0))","v":0},{"$f":"IF(N163>M163,6,0)","v":0},{"$f":"IF(M163=\"\",0,SUM(Q163:S163))","v":0},{"$f":"VLOOKUP(T163,Classement!$B$2:$C$7,2,0)","v":0}]
[null,null,null,null,null,null,null,null,null,null,null,null,null,null,null,null,{"$f":"IF(M164>N164,3,0)","v":0},{"$f":"IF(M164=\"\",0,IF(M164=N164,1,0))","v":0},{"$f":"IF(N164>M164,6,0)","v":0},{"$f":"IF(M164=\"\",0,SUM(Q164:S164))","v":0},{"$f":"VLOOKUP(T164,Classement!$B$2:$C$7,2,0)","v":0}]
[null,null,null,null,null,null,null,null,null,null,null,null,null,null,null,null,{"$f":"IF(M165>N165,3,0)","v":0},{"$f":"IF(M165=\"\",0,IF(M165=N165,1,0))","v":0},{"$f":"IF(N165>M165,6,0)","v":0},{"$f":"IF(M165=\"\",0,SUM(Q165:S165))","v":0},{"$f":"VLOOKUP(T165,Classement!$B$2:$C$7,2,0)","v":0}]
[null,null,null,null,null,null,null,null,null,null,null,null,null,null,null,null,{"$f":"IF(M166>N166,3,0)","v":0},{"$f":"IF(M166=\"\",0,IF(M166=N166,1,0))","v":0},{"$f":"IF(N166>M166,6,0)","v":0},{"$f":"IF(M166=\"\",0,SUM(Q166:S166))","v":0},{"$f":"VLOOKUP(T166,Classement!$B$2:$C$7,2,0)","v":0}]
[null,null,null,null,null,null,null,null,null,null,null,null,null,null,null,null,{"$f":"IF(M167>N167,3,0)","v":0},{"$f":"IF(M167=\"\",0,IF(M167=N167,1,0))","v":0},{"$f":"IF(N167>M167,6,0)","v":0},{"$f":"IF(M167=\"\",0,SUM(Q167:S167))","v":0},{"$f":"VLOOKUP(T167,Classement!$B$2:$C$7,2,0)","v":0}]
[null,null,null,null,null,null,null,null,null,null,null,null,null,null,null,null,{"$f":"IF(M168>N168,3,0)","v":0},{"$f":"IF(M168=\"\",0,IF(M168=N168,1,0))","v":0},{"$f":"IF(N168>M168,6,0)","v":0},{"$f":"IF(M168=\"\",0,SUM(Q168:S168))","v":0},{"$f":"VLOOKUP(T168,Classement!$B$2:$C$7,2,0)","v":0}]
[null,null,null,null,null,null,null,null,null,null,null,null,null,null,null,null,{"$f":"IF(M169>N169,3,0)","v":0},{"$f":"IF(M169=\"\",0,IF(M169=N169,1,0))","v":0},{"$f":"IF(N169>M169,6,0)","v":0},{"$f":"IF(M169=\"\",0,SUM(Q169:S169))","v":0},{"$f":"VLOOKUP(T169,Classement!$B$2:$C$7,2,0)","v":0}]
[null,null,null,null,null,null,null,null,null,null,null,null,null,null,null,null,{"$f":"IF(M170>N170,3,0)","v":0},{"$f":"IF(M170=\"\",0,IF(M170=N170,1,0))","v":0},{"$f":"IF(N170>M170,6,0)","v":0},{"$f":"IF(M170=\"\",0,SUM(Q170:S170))","v":0},{"$f":"VLOOKUP(T170,Classement!$B$2:$C$7,2,0)","v":0}]
[null,null,null,null,null,null,null,null,null,null,null,null,null,null,null,null,{"$f":"IF(M171>N171,3,0)","v":0},{"$f":"IF(M171=\"\",0,IF(M171=N171,1,0))","v":0},{"$f":"IF(N171>M171,6,0)","v":0},{"$f":"IF(M171=\"\",0,SUM(Q171:S171))","v":0},{"$f":"VLOOKUP(T171,Classement!$B$2:$C$7,2,0)","v":0}]
[null,null,null,null,null,null,null,null,null,null,null,null,null,null,null,null,{"$f":"IF(M172>N172,3,0)","v":0},{"$f":"IF(M172=\"\",0,IF(M172=N172,1,0))","v":0},{"$f":"IF(N172>M172,6,0)","v":0},{"$f":"IF(M172=\"\",0,SUM(Q172:S172))","v":0},{"$f":"VLOOKUP(T172,Classement!$B$2:$C$7,2,0)","v":0}]
[null,null,null,null,null,null,null,null,null,null,null,null,null,null,null,null,{"$f":"IF(M173>N173,3,0)","v":0},{"$f":"IF(M173=\"\",0,IF(M173=N173,1,0))","v":0},{"$f":"IF(N173>M173,6,0)","v":0},{"$f":"IF(M173=\"\",0,SUM(Q173:S173))","v":0},{"$f":"VLOOKUP(T173,Classement!$B$2:$C$7,2,0)","v":0}]
[null,null,null,null,null,null,null,null,null,null,null,null,null,null,null,null,{"$f":"IF(M174>N174,3,0)","v":0},{"$f":"IF(M174=\"\",0,IF(M174=N174,1,0))","v":0},{"$f":"IF(N174>M174,6,0)","v":0},{"$f":"IF(M174=\"\",0,SUM(Q174:S174))","v":0},{"$f":"VLOOKUP(T174,Classement!$B$2:$C$7,2,0)","v":0}]
[null,null,null,null,null,null,null,null,null,null,null,null,null,null,null,null,{"$f":"IF(M175>N175,3,0)","v":0},{"$f":"IF(M175=\"\",0,IF(M175=N175,1,0))","v":0},{"$f":"IF(N175>M175,6,0)","v":0},{"$f":"IF(M175=\"\",0,SUM(Q175:S175))","v":0},{"$f":"VLOOKUP(T175,Classement!$B$2:$C$7,2,0)","v":0}]
[null,null,null,null,null,null,null,null,null,null,null,null,null,null,null,null,{"$f":"IF(M176>N176,3,0)","v":0},{"$f":"IF(M176=\"\",0,IF(M176=N176,1,0))","v":0},{"$f":"IF(N176>M176,6,0)","v":0},{"$f":"IF(M176=\"\",0,SUM(Q176:S176))","v":0},{"$f":"VLOOKUP(T176,Classement!$B$2:$C$7,2,0)","v":0}]
[null,null,null,null,null,null,null,null,null,null,null,null,null,null,null,null,{"$f":"IF(M177>N177,3,0)","v":0},{"$f":"IF(M177=\"\",0,IF(M177=N177,1,0))","v":0},{"$f":"IF(N177>M177,6,0)","v":0},{"$f":"IF(M177=\"\",0,SUM(Q177:S177))","v":0},{"$f":"VLOOKUP(T177,Classement!$B$2:$C$7,2,0)","v":0}]
[null,null,null,null,null,null,null,null,null,null,null,null,null,null,null,null,{"$f":"IF(M178>N178,3,0)","v":0},{"$f":"IF(M178=\"\",0,IF(M178=N178,1,0))","v":0},{"$f":"IF(N178>M178,6,0)","v":0},{"$f":"IF(M178=\"\",0,SUM(Q178:S178))","v":0},{"$f":"VLOOKUP(T178,Classement!$B$2:$C$7,2,0)","v":0}]
[null,null,null,null,null,null,null,null,null,null,null,null,null,null,null,null,{"$f":"IF(M179>N179,3,0)","v":0},{"$f":"IF(M179=\"\",0,IF(M179=N179,1,0))","v":0},{"$f":"IF(N179>M179,6,0)","v":0},{"$f":"IF(M179=\"\",0,SUM(Q179:S179))","v":0},{"$f":"VLOOKUP(T179,Classement!$B$2:$C$7,2,0)","v":0}]
[null,null,null,null,null,null,null,null,null,null,null,null,null,null,null,null,{"$f":"IF(M180>N180,3,0)","v":0},{"$f":"IF(M180=\"\",0,IF(M180=N180,1,0))","v":0},{"$f":"IF(N180>M180,6,0)","v":0},{"$f":"IF(M180=\"\",0,SUM(Q180:S180))","v":0},{"$f":"VLOOKUP(T180,Classement!$B$2:$C$7,2,0)","v":0}]
[null,null,null,null,null,null,null,null,null,null,null,null,null,null,null,null,{"$f":"IF(M181>N181,3,0)","v":0},{"$f":"IF(M181=\"\",0,IF(M181=N181,1,0))","v":0},{"$f":"IF(N181>M181,6,0)","v":0},{"$f":"IF(M181=\"\",0,SUM(Q181:S181))","v":0},{"$f":"VLOOKUP(T181,Classement!$B$2:$C$7,2,0)","v":0}]
[null,null,null,null,null,null,null,null,null,null,null,null,null,null,null,null,{"$f":"IF(M182>N182,3,0)","v":0},{"$f":"IF(M182=\"\",0,IF(M182=N182,1,0))","v":0},{"$f":"IF(N182>M182,6,0)","v":0},{"$f":"IF(M182=\"\",0,SUM(Q182:S182))","v":0},{"$f":"VLOOKUP(T182,Classement!$B$2:$C$7,2,0)","v":0}]
[null,null,null,null,null,null,null,null,null,null,null,null,null,null,null,null,{"$f":"IF(M183>N183,3,0)","v":0},{"$f":"IF(M183=\"\",0,IF(M183=N183,1,0))","v":0},{"$f":"IF(N183>M183,6,0)","v":0},{"$f":"IF(M183=\"\",0,SUM(Q183:S183))","v":0},{"$f":"VLOOKUP(T183,Classement!$B$2:$C$7,2,0)","v":0}]
[null,null,null,null,null,null,null,null,null,null,null,null,null,null,null,null,{"$f":"IF(M184>N184,3,0)","v":0},{"$f":"IF(M184=\"\",0,IF(M184=N184,1,0))","v":0},{"$f":"IF(N184>M184,6,0)","v":0},{"$f":"IF(M184=\"\",0,SUM(Q184:S184))","v":0},{"$f":"VLOOKUP(T184,Classement!$B$2:$C$7,2,0)","v":0}]
[null,null,null,null,null,null,null,null,null,null,null,null,null,null,null,null,{"$f":"IF(M185>N185,3,0)","v":0},{"$f":"IF(M185=\"\",0,IF(M185=N185,1,0))","v":0},{"$f":"IF(N185>M185,6,0)","v":0},{"$f":"IF(M185=\"\",0,SUM(Q185:S185))","v":0},{"$f":"VLOOKUP(T185,Classement!$B$2:$C$7,2,0)","v":0}]
[null,null,null,null,null,null,null,null,null,null,null,null,null,null,null,null,{"$f":"IF(M186>N186,3,0)","v":0},{"$f":"IF(M186=\"\",0,IF(M186=N186,1,0))","v":0},{"$f":"IF(N186>M186,6,0)","v":0},{"$f":"IF(M186=\"\",0,SUM(Q186:S186))","v":0},{"$f":"VLOOKUP(T186,Classement!$B$2:$C$7,2,0)","v":0}]
[null,null,null,null,null,null,null,null,null,null,null,null,null,null,null,null,null,null,null,null,{"$f":"SUM(U27:U37)","v":7}]

{"sheet":"Classement","index":2,"n_rows":22,"n_cols":11,"rows_kept":22,"cut":false,"hidden":false,"merged":[[1,1,1,2],[8,5,8,10]]}
[]
[null,"Tableau de points"]
[null,"Identifiants","Points"]
[null,0,0]
[null,3,3]
[null,1,1]
[null,6,0]
[]
[null,null,null,null,null,"CLASSEMENT FORMULES"]
[null,null,null,null,null,"Equipe","Points","Match joués","Buts pour","Buts contre","Goal Average"]
[null,null,null,null,null,"Swansea",{"$f":"'Match allez 1'!F13+'Match retour'!F13","v":19},{"$f":"'Match allez 1'!G13+'Match retour'!G13","v":10},{"$f":"'Match allez 1'!H13+'Match retour'!H13","v":23},{"$f":"'Match allez 1'!I13+'Match retour'!I13","v":7},{"$f":"I11-J11","v":16}]
[null,null,null,null,null,"Celta Vigo",{"$f":"'Match allez 1'!F8+'Match retour'!F8","v":18},{"$f":"'Match allez 1'!G8+'Match retour'!G8","v":12},{"$f":"'Match allez 1'!H8+'Match retour'!H8","v":23},{"$f":"'Match allez 1'!I8+'Match retour'!I8","v":16},{"$f":"I12-J12","v":7}]
[null,null,null,null,null,"Fiorentina",{"$f":"'Match allez 1'!F7+'Match retour'!F7","v":16},{"$f":"'Match allez 1'!G7+'Match retour'!G7","v":7},{"$f":"'Match allez 1'!H7+'Match retour'!H7","v":11},{"$f":"'Match allez 1'!I7+'Match retour'!I7","v":8},{"$f":"I13-J13","v":3}]
[null,null,null,null,null,"St etienne",{"$f":"'Match allez 1'!F11+'Match retour'!F11","v":14},{"$f":"'Match allez 1'!G11+'Match retour'!G11","v":8},{"$f":"'Match allez 1'!H11+'Match retour'!H11","v":11},{"$f":"'Match allez 1'!I11+'Match retour'!I11","v":6},{"$f":"I14-J14","v":5}]
[null,null,null,null,null,"Torino",{"$f":"'Match allez 1'!F9+'Match retour'!F9","v":10},{"$f":"'Match allez 1'!G9+'Match retour'!G9","v":4},{"$f":"'Match allez 1'!H9+'Match retour'!H9","v":6},{"$f":"'Match allez 1'!I9+'Match retour'!I9","v":3},{"$f":"I15-J15","v":3}]
[null,null,null,null,null,"Club Bruges",{"$f":"'Match allez 1'!F16+'Match retour'!F16","v":6},{"$f":"'Match allez 1'!G16+'Match retour'!G16","v":10},{"$f":"'Match allez 1'!H16+'Match retour'!H16","v":7},{"$f":"'Match allez 1'!I16+'Match retour'!I16","v":19},{"$f":"I16-J16","v":-12}]
[null,null,null,null,null,"Real Sociedad ",{"$f":"'Match allez 1'!F15+'Match retour'!F15","v":5},{"$f":"'Match allez 1'!G15+'Match retour'!G15","v":4},{"$f":"'Match allez 1'!H15+'Match retour'!H15","v":5},{"$f":"'Match allez 1'!I15+'Match retour'!I15","v":5},{"$f":"I17-J17","v":0}]
[null,null,null,null,null,"Braga",{"$f":"'Match allez 1'!F5+'Match retour'!F5","v":4},{"$f":"'Match allez 1'!G5+'Match retour'!G5","v":6},{"$f":"'Match allez 1'!H5+'Match retour'!H5","v":6},{"$f":"'Match allez 1'!I5+'Match retour'!I5","v":12},{"$f":"I18-J18","v":-6}]
[null,null,null,null,null,"Werder",{"$f":"'Match allez 1'!F10+'Match retour'!F10","v":3},{"$f":"'Match allez 1'!G10+'Match retour'!G10","v":4},{"$f":"'Match allez 1'!H10+'Match retour'!H10","v":5},{"$f":"'Match allez 1'!I10+'Match retour'!I10","v":12},{"$f":"I19-J19","v":-7}]
[null,null,null,null,null,"Southampton",{"$f":"'Match allez 1'!F6+'Match retour'!F6","v":2},{"$f":"'Match allez 1'!G6+'Match retour'!G6","v":3},{"$f":"'Match allez 1'!H6+'Match retour'!H6","v":5},{"$f":"'Match allez 1'!I6+'Match retour'!I6","v":6},{"$f":"I20-J20","v":-1}]
[null,null,null,null,null,"Nice",{"$f":"'Match allez 1'!F12+'Match retour'!F12","v":1},{"$f":"'Match allez 1'!G12+'Match retour'!G12","v":4},{"$f":"'Match allez 1'!H12+'Match retour'!H12","v":3},{"$f":"'Match allez 1'!I12+'Match retour'!I12","v":11},{"$f":"I21-J21","v":-8}]
[null,null,null,null,null,"Cologne",{"$f":"'Match allez 1'!F14+'Match retour'!F14","v":0},{"$f":"'Match allez 1'!G14+'Match retour'!G14","v":0},{"$f":"'Match allez 1'!H14+'Match retour'!H14","v":0},{"$f":"'Match allez 1'!I14+'Match retour'!I14","v":0},{"$f":"I22-J22","v":0}]