{"text_format":"1","workbook":"xlsx","n_sheets":21,"sheets":["Composition et mode d'emplois","Planning","À Faire - Récapitulatif","À Faire - Détails","Bâtiments","Améliorations - Sorts & Troupes","Héros","Coûts des Améliorations","Gains et Stockage","Coûts de Formation","Calendrier","Paramètres - Admin","Paramètres","Production","Rentabilité","Combats - Loots","Trophées","Formation de Troupes","Valeur du Village","Traduction","Journal des Modifications"],"not_rendered":{"charts":1,"images":2,"macros":1,"external_links":0,"defined_names":18,"comments":1,"pivot_tables":0},"unopened":[],"bounds":{"document_bytes":16777216,"sheet_cells":100000,"rows_first":2000,"rows_last":500,"rows_between":2000,"halvings":0,"cell_chars":16384,"cell_head_chars":4096},"cells_cut":0,"cells_raw":0,"read":"whole","date_system":"1900"}

{"sheet":"Composition et mode d'emplois","index":0,"n_rows":59,"n_cols":2,"rows_kept":59,"cut":false,"hidden":false,"merged":[[2,0,2,7],[14,1,14,11],[8,1,8,11],[9,1,9,11],[10,1,10,11],[11,1,11,11],[13,1,13,11],[12,1,12,11],[17,1,17,11],[18,1,18,11],[19,1,19,11],[20,1,20,11],[21,1,21,11],[22,1,22,11],[46,0,46,6],[53,0,53,6],[23,1,23,11],[25,1,25,11],[31,0,31,6],[40,0,40,6]]}
["Mode d'emploi résumé :"]
[]
["Il faut remplir la page paramètre (rien de compliqué).\nLes cellules à remplir sont grises.\n\nLes autres feuilles se mettent à jour automatiquement.\nLes feuilles à faire (bleues) donnent une idée du travail pour maxer le hdv.\nLa feuille planning permet de se projeter des les travaux à réaliser pour maxer son hdv.\nLes feuilles rouges sont masquées et contiennent les valeurs utiles aux différents calculs.\nD'autres feuilles sont masquées également afin de ne pas avoir trop de feuilles affichées.\nIl y a une macro qui permet d'afficher ces feuilles."]
[]
[]
["Composition du fichier :"]
[]
["Calculs :"]
["À Faire - Récapitulatif","Une vue d'ensemble qui permet de voir de ce qu'il reste à faire en fonction du niveau de l'Hôtel De Ville et de ce qui a déjà été fait. Total des coûts et temps restants par catégorie de bâtiments et par Troupes / Sorts / Héros.\nPossibilité d'afficher le récapitulatif avec/sans les remparts, avec/sans l'hotel de ville, avec/sans héros (dans le camembert)"]
["À Faire - Détails","Une vue détaillée de ce qu'il reste à faire en fonction du niveau de l'Hôtel De Ville et de ce qui a déjà été fait. Tous les coûts et temps restants pour chaque bâtiment et Troupes / Sorts / Héros."]
["Production","Une vue qui indique les gains en ressources en fonction du nombre et du niveau des Mines d'Or / Extracteurs / Foreuses et du temps de production.\n"]
["Rentabilité","Un outil qui permet de calculer la rentabilité d'une attaque en fonction des ressources gagnées et des des troupes formées et du bonus de league eventuel (basé sur le nombre de trophés)"]
["Combats - Loots","Un outil qui permet de calculer les gains et pertes possibles en combat en ligne en fonction des quantités stockées / des niveaux d'Hôtel De Ville / du nombre de trophées.\nOnglet masqué par défaut."]
["Troops Training","Un outil qui permet connaître les coûts et temps de formation de troupes en fonction de ce que l'on souhaite former et pouvoir établir sa formation en fonction de ce que l'on peut faire (niveau Laboratoire / niveaux Casernes / niveaux Casernes Noires)\nOnglet masqué par défaut."]
["Valeur du Village"]
[]
["Données : (onglets masqués)"]
["Bâtiments","Créations / améliorations de bâtiments possibles en fonction du niveau de l'Hôtel De Ville"]
["Améliorations - Sorts & Troupes","Améliorations de Sorts / Troupes possibles en fonction du niveau de l'Hôtel De Ville"]
["Héros","Améliorations d'Héros possibles en fonction du niveau de l'Hôtel De Ville"]
["Coûts des Améliorations","Coûts et temps des créations / améliorations des Bâtiments / Sorts / Troupes / Héros."]
["Gains et Stockage","Gains et capacités possibles en fonction du niveau des Réserves et Mines d'Or / Extracteurs / Foreuses."]
["Trophées","Bonus et coefficient multiplicateur pour les combats en fonction du nombre de Trophées"]
["Training Costs","Coûts et temps des formations de Troupes + Capacité de Laboratoire / Casernes / Casernes Noires / Camps d'Armée"]
[]
["Paramètres","Les champs principaux à indiquer pour utiliser le fichier (niveau de l'Hôtel De Ville, nombre d'ouvriers, nombre et niveaux de Bâtiments / Sorts / Troupes / Héros)"]
[]
["Journal des Modifications","Cette vue permet de tracer l'évolution du fichier à travers les modifications apportées par rapport aux versions précédentes."]
[]
["Utilisation du fichier :"]
[]
["Renseigner les informations nécessaires dans l'onglet \"Paramètres\" pour les calculs généraux :"]
[null,"Niveau de l'Hôtel De Ville (Cellule BI2)"]
[null,"Nombre d'ouvriers (Cellule BJ2)"]
[null,"Nombre et niveaux de Bâtiments (Cellules B6:AF45)"]
[null,"Niveaux des Sorts (Cellules AG:AN45)"]
[null,"Niveaux des Troupes Normales (Cellules A06:AX45)"]
[null,"Niveaux des Troupes Noires (Cellules AY6:BD45)"]
[null,"Niveaux des Héros (Cellules BE6:BG45)"]
[]
["Renseigner les informations nécessaires dans l'onglet \"Combats - Loots\" pour la fonctionnalité qui permet de connaître les gains et pertes possibles en combat en ligne :"]
[null,"Attaque ou Défense (Cellule B2)"]
[null,"Niveau de l'Hôtel De Ville de l'opposant (Cellule C2)"]
[null,"Quantité de ressources dans les Réserves (Cellules B7:D13)"]
[null,"Quantité de ressources dans les Mines / Extracteurs / Foreuses (Cellules E7:G13)"]
[]
["Renseigner les informations nécessaires dans l'onglet \"Formation de Troupes\" pour la fonctionnalité qui permet connaître les coûts et temps de formation de troupes en fonction de ce que l'on souhaite former et pouvoir établir sa formation :"]
[null,"Choix et nombre de créations pour les Sorts (Cellules G5:G9)"]
[null,"Niveaux des Casernes (Cellules O2:R2)"]
[null,"Choix et nombre de formations de troupes normales (Cellules O5:R14)"]
[null,"Niveaux des Casernes Noires (Cellules AA2:AB2)"]
[null,"Choix et nombre de formations de Troupes Noires (Cellules AA5:AB8)"]
[]
["Enfin, il est possible de choisir l'affichage du temps dans les onglets \"À Faire - Récapitulatif\" et \"Formation de Troupes\" ou la période de production dans l'onglet \"Production\" :"]
[null,"Affichage Temps (Cellule B2)"]
[null,"Période (Cellule B2)"]
[]
["Pour afficher les onglets masqués lancer la macro \"Masquage_Onglets_OFF\""]
["Pour reccacher les onglets (uniquement les rouges) lancer la macro \"Masquage_Onglets_ON\""]

{"sheet":"Planning","index":1,"n_rows":98,"n_cols":68,"rows_kept":98,"cut":false,"hidden":false,"merged":[[2,19,2,21],[1,19,1,21],[3,19,3,21],[4,23,4,25],[4,15,4,16],[3,23,3,25],[0,18,0,25],[14,0,14,7],[43,0,43,7],[0,0,0,1],[1,0,1,1],[4,8,4,9],[4,11,4,12],[4,13,4,14],[0,15,0,16],[1,15,1,16],[2,15,2,16],[3,15,3,16],[0,8,0,9],[1,23,1,25],[2,23,2,25],[4,19,4,21],[0,13,0,14],[1,11,1,12],[2,11,2,12],[3,11,3,12],[1,13,1,14],[2,13,2,14],[3,13,3,14],[74,0,74,7],[21,0,21,7],[40,0,40,7],[0,11,0,12],[7,0,7,7],[1,8,1,9],[2,8,2,9],[3,8,3,9],[54,0,54,7],[2,0,5,7],[33,0,33,7]]}
["LVL HdV",null,"Date de Départ","Pas (jour)","Période Sélectionnée","Créer Planning",{"$f":"Paramètres!BO2","v":1},null,"Période",null,"NB","Besoins d'Or\n(sans remparts)",null,"Besoins d'Elixir",null,"Besoins d'Elixir Noir",null,null,"Légende"]
[{"$f":"Paramètres!$BN$2","v":1},null,"2016-07-20T14:09:05",1,"2016-07-20","Réinitialiser",null,null,{"$f":"period_selected","v":"2016-07-20"},null,0,0,null,0,null,0,null,null,null,"Planifié",null,null,null,"% Réalisé"]
["Planning",null,null,null,null,null,null,null,{"$f":"$I2+$D$2","v":"2016-07-21"},null,0,0,null,0,null,0,null,null,null,"Réel",null,null,null,"% Réalisé (au-delà du planifié)"]
[null,null,null,null,null,null,null,null,{"$f":"$I3+$D$2","v":"2016-07-22"},null,0,0,null,0,null,0,null,null,null,"Réel (au-delà du planifié)",null,null,null,"Ouvriers disponibles"]
[null,null,null,null,null,null,null,null,{"$f":"$I4+$D$2","v":"2016-07-23"},null,0,0,null,0,null,0,null,null,null,"Plus d'ouvrier disponible",null,null,null,"Erreur - Pas suffisament d'Ouvriers"]
[null,null,null,null,null,null,null,null,{"$f":"SUM(I8:I78)","v":0},0,0,0,0,0,0,0,0,0,0,0,0,0,0,0,0,0,0,0,0,0,0,0,0,0,0,0,0,0,0,0,{"$f":"SUM(AO8:AO78)","v":0},0,0,0,0,0,0,0,0,0,0,0,0,0,0,0,0,0,0,0,0,0,0,0,0,0,0,0]
["Construction / Amélioration","+","Coût","Durée Planifée (jours)","Début Planifiée","Début Réel","Durée Réelle","% Réalisé",{"$f":"$C$2","v":"2016-07-20T14:09:05"},{"$f":"I$7+$D$2","v":"2016-07-21T14:09:05"},{"$f":"J$7+$D$2","v":"2016-07-22T14:09:05"},"2016-07-23T14:09:05","2016-07-24T14:09:05","2016-07-25T14:09:05","2016-07-26T14:09:05","2016-07-27T14:09:05","2016-07-28T14:09:05","2016-07-29T14:09:05",{"$f":"R$7+$D$2","v":"2016-07-30T14:09:05"},"2016-07-31T14:09:05","2016-08-01T14:09:05",{"$f":"U$7+$D$2","v":"2016-08-02T14:09:05"},"2016-08-03T14:09:05","2016-08-04T14:09:05","2016-08-05T14:09:05","2016-08-06T14:09:05","2016-08-07T14:09:05",{"$f":"AA$7+$D$2","v":"2016-08-08T14:09:05"},"2016-08-09T14:09:05","2016-08-10T14:09:05","2016-08-11T14:09:05","2016-08-12T14:09:05","2016-08-13T14:09:05","2016-08-14T14:09:05","2016-08-15T14:09:05","2016-08-16T14:09:05","2016-08-17T14:09:05","2016-08-18T14:09:05","2016-08-19T14:09:05","2016-08-20T14:09:05","2016-08-21T14:09:05","2016-08-22T14:09:05","2016-08-23T14:09:05","2016-08-24T14:09:05","2016-08-25T14:09:05","2016-08-26T14:09:05","2016-08-27T14:09:05","2016-08-28T14:09:05","2016-08-29T14:09:05","2016-08-30T14:09:05","2016-08-31T14:09:05","2016-09-01T14:09:05","2016-09-02T14:09:05","2016-09-03T14:09:05","2016-09-04T14:09:05","2016-09-05T14:09:05","2016-09-06T14:09:05","2016-09-07T14:09:05","2016-09-08T14:09:05","2016-09-09T14:09:05","2016-09-10T14:09:05","2016-09-11T14:09:05","2016-09-12T14:09:05","2016-09-13T14:09:05","2016-09-14T14:09:05","2016-09-15T14:09:05","2016-09-16T14:09:05","2016-09-17T14:09:05"]
["Bâtiments de Ressources",null,null,null,null,null,null,null,{"$f":"IF(ISERROR(Plan),0,Plan)","v":0},0,0,0,0,0,0,0,0,0,0,0,0,0,0,0,{"$f":"IF(ISERROR(Plan),0,Plan)","v":0},0,0,0,0,0,0,0,0,0,0,0,0,0,0,0,0,0,0,0,0,0,0,0,0,0,0,0,0,0,0,0,0,0,0,0,0,0,0,0,0,0,0,0]
["Mine d'Or",null,{"$f":"IF($B9<>\"\",VLOOKUP($B9,COSTS_Gold_Mine[#All],2),\"\")","v":""},{"$f":"IF($B9<>\"\",VLOOKUP($B9,COSTS_Gold_Mine[#All],3)/24,\"\")","v":""},null,null,{"$f":"IF($D9<>\"\",$D9,\"\")","v":""},null,{"$f":"IF(ISERROR(Plan),0,Plan)","v":0},0,0,0,0,0,0,0,0,0,{"$f":"IF(ISERROR(Plan),0,Plan)","v":0},0,0,0,0,0,0,0,0,0,{"$f":"IF(ISERROR(Plan),0,Plan)","v":0},0,0,0,0,0,0,0,0,0,{"$f":"IF(ISERROR(Plan),0,Plan)","v":0},0,0,0,0,0,0,0,0,0,{"$f":"IF(ISERROR(Plan),0,Plan)","v":0},0,0,0,0,0,0,0,0,0,{"$f":"IF(ISERROR(Plan),0,Plan)","v":0},0,0,0,0,0,0,0,0,0]
["Extracteur d'Élixir",null,{"$f":"IF($B10<>\"\",VLOOKUP($B10,COSTS_Elixir_Collector[#All],2),\"\")","v":""},{"$f":"IF($B10<>\"\",VLOOKUP($B10,COSTS_Elixir_Collector[#All],3)/24,\"\")","v":""},null,null,"",null,0,0,0,0,0,0,0,0,0,0,0,0,0,0,0,0,0,0,0,0,0,0,0,0,0,0,0,0,0,0,0,0,0,0,0,0,0,0,0,0,0,0,0,0,0,0,0,0,0,0,0,0,0,0,0,0,0,0,0,0]
["Foreuse d'Élixir Noir",null,{"$f":"IF($B11<>\"\",VLOOKUP($B11,COSTS_Dark_Elixir_Drill[#All],2),\"\")","v":""},{"$f":"IF($B11<>\"\",VLOOKUP($B11,COSTS_Elixir_Collector[#All],3)/24,\"\")","v":""},null,null,"",null,0,0,0,0,0,0,0,0,0,0,0,0,0,0,0,0,0,0,0,0,0,0,0,0,0,0,0,0,0,0,0,0,0,0,0,0,0,0,0,0,0,0,0,0,0,0,0,0,0,0,0,0,0,0,0,0,0,0,0,0]
["Réserve d'Or",null,{"$f":"IF($B12<>\"\",VLOOKUP($B12,COSTS_Gold_Storage[#All],2),\"\")","v":""},{"$f":"IF($B12<>\"\",VLOOKUP($B12,COSTS_Gold_Storage[#All],3)/24,\"\")","v":""},null,null,"",null,0,0,0,{"$f":"IF(ISERROR(Plan),0,Plan)","v":0},0,0,0,0,0,0,0,0,0,0,0,0,0,0,0,0,0,0,0,0,0,0,0,0,0,0,0,0,0,0,0,0,0,0,0,0,0,0,0,0,0,0,0,0,0,0,0,0,0,0,0,0,0,0,0,0]
["Réservoir d'Élixir",null,{"$f":"IF($B13<>\"\",VLOOKUP($B13,COSTS_Elixir_Storage[#All],2),\"\")","v":""},{"$f":"IF($B13<>\"\",VLOOKUP($B13,COSTS_Elixir_Storage[#All],3)/24,\"\")","v":""},null,null,"",null,0,0,0,0,0,0,0,0,0,0,0,0,0,0,0,0,0,0,0,0,0,0,0,0,0,0,0,0,0,0,0,0,0,0,0,0,0,0,0,0,0,0,0,0,0,0,0,0,0,0,0,0,0,0,0,0,0,0,0,0]
["Réservoir d'Élixir Noir",null,{"$f":"IF($B14<>\"\",VLOOKUP($B14,COSTS_Dark_Elixir_Storage[#All],2),\"\")","v":""},{"$f":"IF($B14<>\"\",VLOOKUP($B14,COSTS_Dark_Elixir_Storage[#All],3)/24,\"\")","v":""},null,null,"",null,0,0,0,0,0,0,0,0,0,0,0,0,0,0,0,0,0,0,0,0,0,0,0,0,0,0,0,0,0,0,0,0,0,0,0,0,0,0,0,0,0,0,0,0,0,0,0,0,0,0,0,0,0,0,0,0,0,0,0,0]
["Bâtiments d'Armée",null,null,null,null,null,null,null,0,0,0,0,0,0,0,0,0,0,0,0,0,0,0,0,0,0,0,0,0,0,0,0,0,0,0,0,0,0,0,0,0,0,0,0,0,0,0,0,0,0,0,0,0,0,0,0,0,0,0,0,0,0,0,0,0,0,0,0]
["Caserne",null,{"$f":"IF($B16<>\"\",VLOOKUP($B16,COSTS_Barrack[#All],2),\"\")","v":""},{"$f":"IF($B16<>\"\",VLOOKUP($B16,COSTS_Barrack[#All],3)/24,\"\")","v":""},null,null,{"$f":"IF($D16<>\"\",$D16,\"\")","v":""},null,0,0,0,0,0,0,0,0,0,0,0,0,0,0,0,0,0,0,0,0,0,0,0,0,0,0,0,0,0,0,0,0,0,0,0,0,0,0,0,0,0,0,0,0,0,0,0,0,0,0,0,0,0,0,0,0,0,0,0,0]
["Caserne Noire",null,{"$f":"IF($B17<>\"\",VLOOKUP($B17,COSTS_Dark_Barrack[#All],2),\"\")","v":""},{"$f":"IF($B17<>\"\",VLOOKUP($B17,COSTS_Dark_Barrack[#All],3)/24,\"\")","v":""},null,null,{"$f":"IF($D17<>\"\",$D17,\"\")","v":""},null,0,0,0,0,0,0,0,0,0,0,0,0,0,0,0,0,0,0,0,0,0,0,0,0,0,0,0,0,0,0,0,0,0,0,0,0,0,0,0,0,0,0,0,0,0,0,0,0,0,0,0,0,0,0,0,0,0,0,0,0]
["Camp Militaire",null,{"$f":"IF($B18<>\"\",VLOOKUP($B18,COSTS_Army_Camp[#All],2),\"\")","v":""},{"$f":"IF($B18<>\"\",VLOOKUP($B18,COSTS_Army_Camp[#All],3)/24,\"\")","v":""},null,null,"",null,0,0,0,0,0,0,0,0,0,0,0,0,0,0,0,0,0,0,0,0,0,0,0,0,0,0,0,0,0,0,0,0,0,0,0,0,0,0,0,0,0,0,0,0,0,0,0,0,0,0,0,0,0,0,0,0,0,0,0,0]
["Laboratoire",null,{"$f":"IF($B19<>\"\",VLOOKUP($B19,COSTS_Laboratory[#All],2),\"\")","v":""},{"$f":"IF($B19<>\"\",VLOOKUP($B19,COSTS_Laboratory[#All],3)/24,\"\")","v":""},null,null,"",null,{"$f":"IF(ISERROR(Plan),0,Plan)","v":0},0,0,0,0,0,0,0,0,0,0,0,0,0,0,0,{"$f":"IF(ISERROR(Plan),0,Plan)","v":0},0,0,0,0,0,0,0,0,0,0,0,0,0,0,0,{"$f":"IF(ISERROR(Plan),0,Plan)","v":0},0,0,0,0,0,0,0,0,0,0,0,0,0,0,0,{"$f":"IF(ISERROR(Plan),0,Plan)","v":0},0,0,0,0,0,0,0,0,0,0,0]
["Usine de Sorts",null,{"$f":"IF($B20<>\"\",VLOOKUP($B20,COSTS_Spell_Factory[#All],2),\"\")","v":""},{"$f":"IF($B20<>\"\",VLOOKUP($B20,COSTS_Spell_Factory[#All],3)/24,\"\")","v":""},null,null,"",null,{"$f":"IF(ISERROR(Plan),0,Plan)","v":0},0,0,0,0,0,0,0,0,0,0,0,0,0,0,0,0,0,0,0,0,0,0,0,0,0,0,0,0,0,0,0,0,0,0,0,0,0,0,0,0,0,0,0,0,0,0,0,0,0,0,0,0,0,0,0,0,0,0,0]
["Usine de Sorts Noirs",null,{"$f":"IF($B21<>\"\",VLOOKUP($B21,COSTS_Dark_Spell_Factory[#All],2),\"\")","v":""},{"$f":"IF($B21<>\"\",VLOOKUP($B21,COSTS_Dark_Spell_Factory[#All],3)/24,\"\")","v":""},null,null,"",null,{"$f":"IF(ISERROR(Plan),0,Plan)","v":0},{"$f":"IF(ISERROR(Plan),0,Plan)","v":0},0,0,0,0,0,0,0,0,0,0,0,0,0,0,0,0,0,0,0,0,0,0,0,0,0,0,0,0,0,0,0,0,0,0,0,0,0,0,0,0,0,0,0,0,0,0,0,0,0,0,0,0,0,0,0,0,0,0]
["Bâtiments Défensifs",null,null,null,null,null,null,null,0,0,0,0,0,0,0,0,0,0,0,0,0,0,0,0,0,0,0,0,0,0,0,0,0,0,0,0,0,0,0,0,0,0,0,0,0,0,0,0,0,0,0,0,0,0,0,0,0,0,0,0,0,0,0,0,0,0,0,0]
["Rempart",null,{"$f":"IF($B23<>\"\",VLOOKUP($B23,COSTS_Wall[#All],2),\"\")","v":""},{"$f":"IF($B23<>\"\",VLOOKUP($B23,COSTS_Wall[#All],3)/24,\"\")","v":""},null,null,{"$f":"IF($D23<>\"\",$D23,\"\")","v":""},null,0,0,0,0,0,0,0,0,0,0,0,0,0,0,0,0,0,0,0,0,0,0,0,0,0,0,0,0,0,0,0,0,0,0,0,0,0,0,0,0,0,0,0,0,0,0,0,0,0,0,0,0,0,0,0,0,0,0,0,0]
["Canon",null,{"$f":"IF($B24<>\"\",VLOOKUP($B24,COSTS_Cannon[#All],2),\"\")","v":""},{"$f":"IF($B24<>\"\",VLOOKUP($B24,COSTS_Cannon[#All],3)/24,\"\")","v":""},null,null,{"$f":"IF($D24<>\"\",$D24,\"\")","v":""},null,0,0,0,0,0,0,0,0,0,0,0,0,0,0,0,0,0,0,0,0,0,0,0,0,0,0,0,0,0,0,0,0,0,0,0,0,0,0,0,0,0,0,0,0,0,0,0,0,0,0,0,0,0,0,0,0,0,0,0,0]
["Tour d'Archers",null,{"$f":"IF($B25<>\"\",VLOOKUP($B25,COSTS_Archer_Tower[#All],2),\"\")","v":""},{"$f":"IF($B25<>\"\",VLOOKUP($B25,COSTS_Cannon[#All],3)/24,\"\")","v":""},null,null,"",null,{"$f":"IF(ISERROR(Plan),0,Plan)","v":0},0,0,0,0,0,0,0,0,0,0,0,0,0,0,0,{"$f":"IF(ISERROR(Plan),0,Plan)","v":0},0,0,0,0,0,0,0,0,0,0,0,0,0,0,0,{"$f":"IF(ISERROR(Plan),0,Plan)","v":0},0,0,0,0,0,0,0,0,0,0,0,0,0,0,0,{"$f":"IF(ISERROR(Plan),0,Plan)","v":0},0,0,0,0,0,0,0,0,0,0,0]
["Mortier",null,{"$f":"IF($B26<>\"\",VLOOKUP($B26,COSTS_Mortar[#All],2),\"\")","v":""},{"$f":"IF($B26<>\"\",VLOOKUP($B26,COSTS_Mortar[#All],3)/24,\"\")","v":""},null,null,"",null,0,0,0,0,0,0,0,0,0,0,0,0,0,0,0,0,{"$f":"IF(ISERROR(Plan),0,Plan)","v":0},0,0,0,0,0,0,0,0,0,0,0,0,0,0,0,{"$f":"IF(ISERROR(Plan),0,Plan)","v":0},0,0,0,0,0,0,0,0,0,0,0,0,0,0,0,{"$f":"IF(ISERROR(Plan),0,Plan)","v":0},0,0,0,0,0,0,0,0,0,0,0]
["Défense Antiaérienne",null,{"$f":"IF($B27<>\"\",VLOOKUP($B27,COSTS_Air_Defense[#All],2),\"\")","v":""},{"$f":"IF($B27<>\"\",VLOOKUP($B27,COSTS_Air_Defense[#All],3)/24,\"\")","v":""},null,null,"",null,0,0,0,0,0,0,0,0,0,0,0,0,0,0,0,0,0,0,0,0,0,0,0,0,0,0,0,0,0,0,0,0,0,0,0,0,0,0,0,0,0,0,0,0,0,0,0,0,0,0,0,0,0,0,0,0,0,0,0,0]
["Tour de Sorciers",null,{"$f":"IF($B28<>\"\",VLOOKUP($B28,COSTS_Wizard_Tower[#All],2),\"\")","v":""},{"$f":"IF($B28<>\"\",VLOOKUP($B28,COSTS_Wizard_Tower[#All],3)/24,\"\")","v":""},null,null,"",null,0,0,0,0,0,0,0,0,0,0,0,0,0,0,0,0,0,0,0,0,0,0,0,0,0,0,0,0,0,0,0,0,0,0,0,0,0,0,0,0,0,0,0,0,0,0,0,0,0,0,0,0,0,0,0,0,0,0,0,0]
["Propulseur d'air",null,{"$f":"IF($B29<>\"\",VLOOKUP($B29,COSTS_Air_Sweeper[#All],2),\"\")","v":""},{"$f":"IF($B29<>\"\",VLOOKUP($B29,COSTS_Air_Sweeper[#All],3)/24,\"\")","v":""},null,null,"",null,0,0,0,0,0,0,0,0,0,0,0,0,0,0,0,0,0,0,0,0,0,0,0,0,0,0,0,0,0,0,0,0,0,0,0,0,0,0,0,0,0,0,0,0,0,0,0,0,0,0,0,0,0,0,0,0,0,0,0,0]
["Tesla Camouflée",null,{"$f":"IF($B30<>\"\",VLOOKUP($B30,COSTS_Hidden_Tesla[#All],2),\"\")","v":""},{"$f":"IF($B30<>\"\",VLOOKUP($B30,COSTS_Hidden_Tesla[#All],3)/24,\"\")","v":""},null,null,"",null,0,0,0,0,0,0,0,0,0,0,0,0,0,0,0,0,0,0,0,0,0,0,0,0,0,0,0,0,0,0,0,0,0,0,0,0,0,0,0,0,0,0,0,0,0,0,0,0,0,0,0,0,0,0,0,0,0,0,0,0]
["Arc-X",null,{"$f":"IF($B31<>\"\",VLOOKUP($B31,COSTS_XBow[#All],2),\"\")","v":""},{"$f":"IF($B31<>\"\",VLOOKUP($B31,COSTS_XBow[#All],3)/24,\"\")","v":""},null,null,"",null,0,0,0,0,0,0,0,0,0,0,0,0,0,0,0,0,0,0,0,0,0,0,0,0,0,0,0,0,0,0,0,0,0,0,0,0,0,0,0,0,0,0,0,0,0,0,0,0,0,0,0,0,0,0,0,0,0,0,0,0]
["Tour de l'Enfer",null,{"$f":"IF($B32<>\"\",VLOOKUP($B32,COSTS_Inferno_Tower[#All],2),\"\")","v":""},{"$f":"IF($B32<>\"\",VLOOKUP($B32,COSTS_Inferno_Tower[#All],3)/24,\"\")","v":""},null,null,"",null,0,0,0,0,0,0,0,0,0,0,0,0,0,0,0,0,0,0,0,0,0,0,0,0,0,0,0,0,0,0,0,0,0,0,0,0,0,0,0,0,0,0,0,0,0,0,0,0,0,0,0,0,0,0,0,0,0,0,0,0]
["Aigle Artilleur",null,{"$f":"IF($B33<>\"\",VLOOKUP($B33,COSTS_Defense_Aigle[#All],2),\"\")","v":""},{"$f":"IF($B33<>\"\",VLOOKUP($B33,COSTS_Defense_Aigle[#All],3)/24,\"\")","v":""},null,null,"",null,0,0,0,0,0,0,0,0,0,0,0,0,0,0,0,0,0,0,0,0,0,0,0,0,0,0,0,0,0,0,0,0,{"$f":"IF(ISERROR(Plan),0,Plan)","v":0},0,0,0,0,0,0,0,0,0,0,0,0,0,0,0,0,0,0,0,0,0,0,0,0,0,0,0]
["Pièges Défensifs",null,null,null,null,null,null,null,0,0,0,0,0,0,0,0,0,0,0,0,0,0,0,0,0,0,0,{"$f":"IF(ISERROR(Plan),0,Plan)","v":0},0,0,0,0,0,0,0,0,0,0,0,0,0,0,0,0,0,0,0,0,0,0,0,0,0,0,0,0,0,0,0,0,0,0,0,0,0,0,0,0]
["Bombe",null,{"$f":"IF($B35<>\"\",VLOOKUP($B35,COSTS_Bomb[#All],2),\"\")","v":""},{"$f":"IF($B35<>\"\",VLOOKUP($B35,COSTS_Bomb[#All],3)/24,\"\")","v":""},null,null,{"$f":"IF($D35<>\"\",$D35,\"\")","v":""},null,0,0,0,0,0,0,0,0,0,0,0,0,0,0,0,0,{"$f":"IF(ISERROR(Plan),0,Plan)","v":0},0,0,0,0,0,0,0,0,0,0,0,0,0,0,0,0,0,0,0,0,0,0,0,0,0,0,0,0,0,0,0,0,0,0,0,0,0,{"$f":"IF(ISERROR(Plan),0,Plan)","v":0},0,0,0,0,0]
["Piège à ressort",null,{"$f":"IF($B36<>\"\",VLOOKUP($B36,COSTS_Spring_Trap[#All],2),\"\")","v":""},{"$f":"IF($B36<>\"\",VLOOKUP($B36,COSTS_Spring_Trap[#All],3)/24,\"\")","v":""},null,null,"",null,0,0,0,0,0,0,0,0,0,{"$f":"IF(ISERROR(Plan),0,Plan)","v":0},0,0,0,0,0,0,0,0,0,0,0,0,0,0,0,0,0,0,0,0,0,0,0,0,0,0,0,0,0,0,0,0,0,0,0,0,0,0,{"$f":"IF(ISERROR(Plan),0,Plan)","v":0},0,0,0,0,0,0,0,0,0,0,0]
["Bombe géante",null,{"$f":"IF($B37<>\"\",VLOOKUP($B37,COSTS_Giant_Bomb[#All],2),\"\")","v":""},{"$f":"IF($B37<>\"\",VLOOKUP($B37,COSTS_Giant_Bomb[#All],3)/24,\"\")","v":""},null,null,"",null,{"$f":"IF(ISERROR(Plan),0,Plan)","v":0},0,0,0,0,0,0,0,0,0,0,0,0,0,0,0,0,0,0,0,0,0,0,0,0,0,0,0,0,0,0,0,0,0,0,0,0,0,0,0,0,0,0,0,0,0,0,0,0,0,0,0,0,0,0,0,0,0,0,0]
["Bombe aérienne",null,{"$f":"IF($B38<>\"\",VLOOKUP($B38,COST_Air_Bomb[#All],2),\"\")","v":""},{"$f":"IF($B38<>\"\",VLOOKUP($B38,COST_Air_Bomb[#All],3)/24,\"\")","v":""},null,null,"",null,0,0,0,0,0,0,0,0,0,0,0,0,0,0,0,0,0,0,0,0,0,0,0,0,0,0,0,0,0,0,0,0,0,0,0,0,0,0,0,0,0,0,0,0,0,0,0,0,0,0,0,0,0,0,0,0,0,0,0,0]
["Tête chercheuse",null,{"$f":"IF($B39<>\"\",VLOOKUP($B39,COST_Seeking_Air_Mine[#All],2),\"\")","v":""},{"$f":"IF($B39<>\"\",VLOOKUP($B39,COST_Seeking_Air_Mine[#All],3)/24,\"\")","v":""},null,null,"",null,0,0,0,0,0,0,0,0,0,0,0,0,0,0,0,0,0,0,0,0,0,0,0,0,0,0,0,0,0,0,0,0,0,0,0,0,0,0,0,0,0,0,0,0,0,0,0,0,0,0,0,0,0,0,0,0,0,0,0,0]
["Piège squelettique",null,{"$f":"IF($B40<>\"\",VLOOKUP($B40,COST_Skeleton_Trap[#All],2),\"\")","v":""},{"$f":"IF($B40<>\"\",VLOOKUP($B40,COST_Skeleton_Trap[#All],3)/24,\"\")","v":""},null,null,"",null,0,0,0,0,0,0,0,0,0,0,0,0,0,0,0,0,0,0,0,0,0,0,0,0,0,0,0,0,0,0,0,0,0,0,0,0,0,0,0,0,0,0,0,0,0,0,0,0,0,0,0,0,0,0,0,0,0,0,0,0]
["Bâtiments Autres",null,null,null,null,null,null,null,0,0,0,0,0,0,0,0,0,0,0,0,0,0,0,0,0,0,0,0,0,0,0,0,0,0,0,0,0,0,0,0,0,0,0,0,0,0,0,0,0,0,0,0,0,0,0,0,0,0,0,0,0,0,0,0,0,0,0,0]
["Château de Clan",null,{"$f":"IF($B42<>\"\",VLOOKUP($B42,COSTS_Clan_Castle[#All],2),\"\")","v":""},{"$f":"IF($B42<>\"\",VLOOKUP($B42,COSTS_Clan_Castle[#All],3)/24,\"\")","v":""},null,null,{"$f":"IF($D42<>\"\",$D42,\"\")","v":""},null,0,0,0,0,0,0,0,0,0,0,0,0,0,0,0,0,0,0,0,0,0,0,0,0,0,0,0,0,0,0,0,0,0,0,0,0,0,0,0,0,0,0,0,0,0,0,0,0,0,0,0,0,0,0,0,0,0,0,0,0]
["Hôtel de Ville",null,{"$f":"IF($B43<>\"\",VLOOKUP($B43,COSTS_Town_Home[#All],2),\"\")","v":""},{"$f":"IF($B43<>\"\",VLOOKUP($B43,COSTS_Town_Home[#All],3)/24,\"\")","v":""},null,null,"",null,0,0,0,0,0,0,0,0,0,0,0,0,0,0,0,0,0,0,0,0,0,0,0,0,0,0,0,0,0,0,0,0,0,0,0,0,0,0,0,0,0,0,0,0,0,0,0,0,0,0,0,0,0,0,0,0,0,0,0,0]
["Améliorations de Sorts",null,null,null,null,null,null,null,{"$f":"IF(ISERROR(Plan),0,0)","v":0},0,0,0,0,0,0,0,0,0,{"$f":"IF(ISERROR(Plan),0,0)","v":0},0,0,0,0,0,0,0,0,0,{"$f":"IF(ISERROR(Plan),0,0)","v":0},0,0,0,0,0,0,0,0,0,{"$f":"IF(ISERROR(Plan),0,0)","v":0},0,0,0,0,0,0,0,0,0,{"$f":"IF(ISERROR(Plan),0,0)","v":0},0,0,0,0,0,0,0,0,0,{"$f":"IF(ISERROR(Plan),0,0)","v":0},0,0,0,0,0,0,0,0,0]
["Sort de Foudre",null,{"$f":"IF($B45<>\"\",VLOOKUP($B45,COSTS_Spell_Lightning[#All],2),\"\")","v":""},{"$f":"IF($B45<>\"\",VLOOKUP($B45,COSTS_Spell_Lightning[#All],3)/24,\"\")","v":""},null,null,{"$f":"IF($D45<>\"\",$D45,\"\")","v":""},null,0,0,0,0,0,0,0,0,0,0,0,0,0,0,0,0,0,0,0,0,0,0,0,0,0,0,0,0,0,0,0,0,0,0,0,0,0,0,0,0,0,0,0,0,0,0,0,0,0,0,0,0,0,0,0,0,0,0,0,0]
["Sort de Guérison",null,{"$f":"IF($B46<>\"\",VLOOKUP($B46,COSTS_Spell_Healing[#All],2),\"\")","v":""},{"$f":"IF($B46<>\"\",VLOOKUP($B46,COSTS_Spell_Healing[#All],3)/24,\"\")","v":""},null,null,{"$f":"IF($D46<>\"\",$D46,\"\")","v":""},null,0,0,0,0,0,0,0,0,0,0,0,0,0,0,0,0,0,0,0,0,0,0,0,0,0,0,0,0,0,0,0,0,0,0,0,0,0,0,0,0,0,0,0,0,0,0,0,0,0,0,0,0,0,0,0,0,0,0,0,0]
["Sort de Rage",null,{"$f":"IF($B47<>\"\",VLOOKUP($B47,COSTS_Spell_Rage[#All],2),\"\")","v":""},{"$f":"IF($B47<>\"\",VLOOKUP($B47,COSTS_Spell_Rage[#All],3)/24,\"\")","v":""},null,null,"",null,0,0,0,0,0,0,0,0,0,0,0,0,0,0,0,0,0,0,0,0,0,0,0,0,0,0,0,0,0,0,0,0,0,0,0,0,0,0,0,0,0,0,0,0,0,0,0,0,0,0,0,0,0,0,0,0,0,0,0,0]
["Sort de Saut",null,{"$f":"IF($B48<>\"\",VLOOKUP($B48,COSTS_Spell_Jump[#All],2),\"\")","v":""},{"$f":"IF($B48<>\"\",VLOOKUP($B48,COSTS_Spell_Jump[#All],3)/24,\"\")","v":""},null,null,"",null,0,0,0,0,0,0,0,0,0,0,0,0,0,0,0,0,0,0,0,0,0,0,0,0,0,0,0,0,0,0,0,0,0,0,0,0,0,0,0,0,0,0,0,0,0,0,0,0,0,0,0,0,0,0,0,0,0,0,0,0]
["Sort de Gel",null,{"$f":"IF($B49<>\"\",VLOOKUP($B49,COSTS_Spell_Freeze[#All],2),\"\")","v":""},{"$f":"IF($B49<>\"\",VLOOKUP($B49,COSTS_Spell_Freeze[#All],3)/24,\"\")","v":""},null,null,"",null,0,0,0,0,0,0,0,0,0,0,0,0,0,0,0,0,0,0,0,0,0,0,0,0,0,0,0,0,0,0,0,0,0,0,0,0,0,0,0,0,0,0,0,0,0,0,0,0,0,0,0,0,0,0,0,0,0,0,0,0]
["Sort de clonage",null,{"$f":"IF($B50<>\"\",VLOOKUP($B50,COSTS_Spell_Clone[#All],2),\"\")","v":""},{"$f":"IF($B50<>\"\",VLOOKUP($B50,COSTS_Spell_Clone[#All],3)/24,\"\")","v":""},null,null,"",null,0,0,0,0,0,0,0,0,0,0,0,0,0,0,0,0,0,0,0,0,0,0,0,0,0,0,0,0,0,0,0,0,0,0,0,0,0,0,0,0,0,0,0,0,0,0,0,0,0,0,0,0,0,0,0,0,0,0,0,0]
["Sort de Poison",null,{"$f":"IF($B51<>\"\",VLOOKUP($B51,COSTS_Spell_Poison[#All],2),\"\")","v":""},{"$f":"IF($B51<>\"\",VLOOKUP($B51,COSTS_Spell_Poison[#All],3)/24,\"\")","v":""},null,null,"",null,0,0,0,0,0,0,0,0,0,0,0,0,0,0,0,0,0,0,0,0,0,0,0,0,0,0,0,0,0,0,0,0,0,0,0,0,0,0,0,0,0,0,0,0,0,0,0,0,0,0,0,0,0,0,0,0,0,0,0,0]
["Sort de Séisme",null,{"$f":"IF($B52<>\"\",VLOOKUP($B52,COSTS_Spell_Earthquake[#All],2),\"\")","v":""},{"$f":"IF($B52<>\"\",VLOOKUP($B52,COSTS_Spell_Earthquake[#All],3)/24,\"\")","v":""},null,null,"",null,0,0,0,0,0,0,0,0,0,0,0,0,0,0,0,0,0,0,0,0,0,0,0,0,0,0,0,0,0,0,0,0,0,0,0,0,0,0,0,0,0,0,0,0,0,0,0,0,0,0,0,0,0,0,0,0,0,0,0,0]
["Sort de Hâte",null,{"$f":"IF($B53<>\"\",VLOOKUP($B53,COSTS_Spell_Haste[#All],2),\"\")","v":""},{"$f":"IF($B53<>\"\",VLOOKUP($B53,COSTS_Spell_Haste[#All],3)/24,\"\")","v":""},null,null,"",null,{"$f":"IF(ISERROR(Plan),0,0)","v":0},0,0,0,0,0,0,0,0,0,{"$f":"IF(ISERROR(Plan),0,0)","v":0},0,0,0,0,0,0,0,0,0,{"$f":"IF(ISERROR(Plan),0,0)","v":0},0,0,0,0,0,0,0,0,0,{"$f":"IF(ISERROR(Plan),0,0)","v":0},0,0,0,0,0,0,0,0,0,{"$f":"IF(ISERROR(Plan),0,0)","v":0},0,0,0,0,0,0,0,0,0,{"$f":"IF(ISERROR(Plan),0,0)","v":0},0,0,0,0,0,0,0,0,0]
["Sort Squelettique",null,{"$f":"IF($B54<>\"\",VLOOKUP($B54,COSTS_Spell_Skeleton[#All],2),\"\")","v":""},{"$f":"IF($B54<>\"\",VLOOKUP($B54,COSTS_Spell_Skeleton[#All],3)/24,\"\")","v":""},null,null,"",null,0,0,0,0,0,0,0,0,0,0,0,0,0,0,0,0,0,0,0,0,0,0,0,0,0,0,0,0,0,0,0,0,0,0,0,0,0,0,0,0,0,0,0,0,0,0,0,0,0,0,0,0,0,0,0,0,0,0,0,0]
["Améliorations de Troupes",null,null,null,null,null,null,null,0,0,0,0,0,0,0,0,0,0,0,0,0,0,0,0,0,0,0,0,0,0,0,0,0,0,0,0,0,0,0,0,0,0,0,0,0,0,0,0,0,0,0,0,0,0,0,0,0,0,0,0,0,0,0,0,0,0,0,0]
["Barbare",null,{"$f":"IF($B56<>\"\",VLOOKUP($B56,COSTS_Barbarian[#All],2),\"\")","v":""},{"$f":"IF($B56<>\"\",VLOOKUP($B56,COSTS_Barbarian[#All],3)/24,\"\")","v":""},null,null,"",null,0,0,0,0,0,0,0,0,0,0,0,0,0,0,0,0,0,0,0,0,0,0,0,0,0,0,0,0,0,0,0,0,0,0,0,0,0,0,0,0,0,0,0,0,0,0,0,0,0,0,0,0,0,0,0,0,0,0,0,0]
["Archer",null,{"$f":"IF($B57<>\"\",VLOOKUP($B57,COSTS_Archer[#All],2),\"\")","v":""},{"$f":"IF($B57<>\"\",VLOOKUP($B57,COSTS_Archer[#All],3)/24,\"\")","v":""},null,null,"",null,0,0,0,0,0,0,0,0,0,0,0,0,0,0,0,0,0,0,0,0,0,0,0,0,0,0,0,0,0,0,0,0,0,0,0,0,0,0,0,0,0,0,0,0,0,0,0,0,0,0,0,0,0,0,0,0,0,0,0,0]
["Gobelin",null,{"$f":"IF($B58<>\"\",VLOOKUP($B58,COSTS_Goblin[#All],2),\"\")","v":""},{"$f":"IF($B58<>\"\",VLOOKUP($B58,COSTS_Goblin[#All],3)/24,\"\")","v":""},null,null,"",null,0,0,0,0,0,0,0,0,0,0,0,0,0,0,0,0,0,0,0,0,0,0,0,0,0,0,0,0,0,0,0,0,0,0,0,0,0,0,0,0,0,0,0,0,0,0,0,0,0,0,0,0,0,0,0,0,0,0,0,0]
["Géant",null,{"$f":"IF($B59<>\"\",VLOOKUP($B59,COSTS_Giant[#All],2),\"\")","v":""},{"$f":"IF($B59<>\"\",VLOOKUP($B59,COSTS_Giant[#All],3)/24,\"\")","v":""},null,null,"",null,0,0,0,0,0,0,0,0,0,0,0,0,0,0,0,0,0,0,0,0,0,0,0,0,0,0,0,0,0,0,0,0,0,0,0,0,0,0,0,0,0,0,0,0,0,0,0,0,0,0,0,0,0,0,0,0,0,0,0,0]
["Sapeur",null,{"$f":"IF($B60<>\"\",VLOOKUP($B60,COSTS_Wall_Breaker[#All],2),\"\")","v":""},{"$f":"IF($B60<>\"\",VLOOKUP($B60,COSTS_Wall_Breaker[#All],3)/24,\"\")","v":""},null,null,"",null,{"$f":"IF(ISERROR(Plan),0,0)","v":0},0,0,0,0,0,0,0,0,0,{"$f":"IF(ISERROR(Plan),0,0)","v":0},0,0,0,0,0,0,0,0,0,{"$f":"IF(ISERROR(Plan),0,0)","v":0},0,0,0,0,0,0,0,0,0,{"$f":"IF(ISERROR(Plan),0,0)","v":0},0,0,0,0,0,0,0,0,0,{"$f":"IF(ISERROR(Plan),0,0)","v":0},0,0,0,0,0,0,0,0,0,{"$f":"IF(ISERROR(Plan),0,0)","v":0},0,0,0,0,0,0,0,0,0]
["Ballon",null,{"$f":"IF($B61<>\"\",VLOOKUP($B61,COSTS_Balloon[#All],2),\"\")","v":""},{"$f":"IF($B61<>\"\",VLOOKUP($B61,COSTS_Balloon[#All],3)/24,\"\")","v":""},null,null,"",null,0,0,0,0,0,0,0,0,0,0,0,0,0,0,0,0,0,0,0,0,0,0,0,0,0,0,0,0,0,0,0,0,0,0,0,0,0,0,0,0,0,0,0,0,0,0,0,0,0,0,0,0,0,0,0,0,0,0,0,0]
["Sorcier",null,{"$f":"IF($B62<>\"\",VLOOKUP($B62,COSTS_Wizard[#All],2),\"\")","v":""},{"$f":"IF($B62<>\"\",VLOOKUP($B62,COSTS_Wizard[#All],3)/24,\"\")","v":""},null,null,"",null,0,0,0,0,0,0,0,0,0,0,0,0,0,0,0,0,0,0,0,0,0,0,0,0,0,0,0,0,0,0,0,0,0,0,0,0,0,0,0,0,0,0,0,0,0,0,0,0,0,0,0,0,0,0,0,0,0,0,0,0]
["Guérisseuse",null,{"$f":"IF($B63<>\"\",VLOOKUP($B63,COSTS_Healer[#All],2),\"\")","v":""},{"$f":"IF($B63<>\"\",VLOOKUP($B63,COSTS_Healer[#All],3)/24,\"\")","v":""},null,null,"",null,0,0,0,0,0,0,0,0,0,0,0,0,0,0,0,0,0,0,0,0,0,0,0,0,0,0,0,0,0,0,0,0,0,0,0,0,0,0,0,0,0,0,0,0,0,0,0,0,0,0,0,0,0,0,0,0,0,0,0,0]
["Dragon",null,{"$f":"IF($B64<>\"\",VLOOKUP($B64,COSTS_Dragon[#All],2),\"\")","v":""},{"$f":"IF($B64<>\"\",VLOOKUP($B64,COSTS_Dragon[#All],3)/24,\"\")","v":""},null,null,"",null,0,0,0,0,0,0,0,0,0,0,0,0,0,0,0,0,0,0,0,0,0,0,0,0,0,0,0,0,0,0,0,0,0,0,0,0,0,0,0,0,0,0,0,0,0,0,0,0,0,0,0,0,0,0,0,0,0,0,0,0]
["P.E.K.K.A",null,{"$f":"IF($B65<>\"\",VLOOKUP($B65,COSTS_PEKKA[#All],2),\"\")","v":""},{"$f":"IF($B65<>\"\",VLOOKUP($B65,COSTS_PEKKA[#All],3)/24,\"\")","v":""},null,null,"",null,0,0,0,0,0,0,0,0,0,0,0,0,0,0,0,0,0,0,0,0,0,0,0,0,0,0,0,0,0,0,0,0,0,0,0,0,0,0,0,0,0,0,0,0,0,0,0,0,0,0,0,0,0,0,0,0,0,0,0,0]
["Bébé dragon",null,{"$f":"IF($B66<>\"\",VLOOKUP($B66,COSTS_Baby_Dragon[#All],2),\"\")","v":""},{"$f":"IF($B66<>\"\",VLOOKUP($B66,COSTS_Baby_Dragon[#All],3)/24,\"\")","v":""},null,null,"",null,0,0,0,0,0,0,0,0,0,0,0,0,0,0,0,0,0,0,0,0,0,0,0,0,0,0,0,0,0,0,0,0,0,0,0,0,0,0,0,0,0,0,0,0,0,0,0,0,0,0,0,0,0,0,0,0,0,0,0,0]
["Mineur",null,{"$f":"IF($B67<>\"\",VLOOKUP($B67,COSTS_Miner[#All],2),\"\")","v":""},{"$f":"IF($B67<>\"\",VLOOKUP($B67,COSTS_Miner[#All],3)/24,\"\")","v":""},null,null,"",null,0,0,0,0,0,0,0,0,0,0,0,0,0,0,0,0,0,0,0,0,0,0,0,0,0,0,0,0,0,0,0,0,0,0,0,0,0,0,0,0,0,0,0,0,0,0,0,0,0,0,0,0,0,0,0,0,0,0,0,0]
["Serviteur",null,{"$f":"IF($B68<>\"\",VLOOKUP($B68,COSTS_Minion[#All],2),\"\")","v":""},{"$f":"IF($B68<>\"\",VLOOKUP($B68,COSTS_Minion[#All],3)/24,\"\")","v":""},null,null,"",null,0,0,0,0,0,0,0,0,0,0,0,0,0,0,0,0,0,0,0,0,0,0,0,0,0,0,0,0,0,0,0,0,0,0,0,0,0,0,0,0,0,0,0,0,0,0,0,0,0,0,0,0,0,0,0,0,0,0,0,0]
["Chevaucheur de Cochon",null,{"$f":"IF($B69<>\"\",VLOOKUP($B69,COSTS_Hog_Rider[#All],2),\"\")","v":""},{"$f":"IF($B69<>\"\",VLOOKUP($B69,COSTS_Hog_Rider[#All],3)/24,\"\")","v":""},null,null,"",null,0,0,0,0,0,0,0,0,0,0,0,0,0,0,0,0,0,0,0,0,0,0,0,0,0,0,0,0,0,0,0,0,0,0,0,0,0,0,0,0,0,0,0,0,0,0,0,0,0,0,0,0,0,0,0,0,0,0,0,0]
["Valkyrie",null,{"$f":"IF($B70<>\"\",VLOOKUP($B70,COSTS_Valkyrie[#All],2),\"\")","v":""},{"$f":"IF($B70<>\"\",VLOOKUP($B70,COSTS_Valkyrie[#All],3)/24,\"\")","v":""},null,null,"",null,{"$f":"IF(ISERROR(Plan),0,0)","v":0},0,0,0,0,0,0,0,0,0,{"$f":"IF(ISERROR(Plan),0,0)","v":0},0,0,0,0,0,0,0,0,0,{"$f":"IF(ISERROR(Plan),0,0)","v":0},0,0,0,0,0,0,0,0,0,{"$f":"IF(ISERROR(Plan),0,0)","v":0},0,0,0,0,0,0,0,0,0,{"$f":"IF(ISERROR(Plan),0,0)","v":0},0,0,0,0,0,0,0,0,0,{"$f":"IF(ISERROR(Plan),0,0)","v":0},0,0,0,0,0,0,0,0,0]
["Golem",null,{"$f":"IF($B71<>\"\",VLOOKUP($B71,COSTS_Golem[#All],2),\"\")","v":""},{"$f":"IF($B71<>\"\",VLOOKUP($B71,COSTS_Golem[#All],3)/24,\"\")","v":""},null,null,{"$f":"IF($D71<>\"\",$D71,\"\")","v":""},null,0,0,0,0,0,0,0,0,0,0,0,0,0,0,0,0,0,0,0,0,0,0,0,0,0,0,0,0,0,0,0,0,0,0,0,0,0,0,0,0,0,0,0,0,0,0,0,0,0,0,0,0,0,0,0,0,0,0,0,0]
["Sorcière",null,{"$f":"IF($B72<>\"\",VLOOKUP($B72,COSTS_Witch[#All],2),\"\")","v":""},{"$f":"IF($B72<>\"\",VLOOKUP($B72,COSTS_Witch[#All],3)/24,\"\")","v":""},null,null,"",null,0,0,0,0,0,0,0,0,0,0,0,0,0,0,0,0,0,0,0,0,0,0,0,0,0,0,0,0,0,0,0,0,0,0,0,0,0,0,0,0,0,0,0,0,0,0,0,0,0,0,0,0,0,0,0,0,0,0,0,0]
["Molosse de lave",null,{"$f":"IF($B73<>\"\",VLOOKUP($B73,COSTS_Lava_Hound[#All],2),\"\")","v":""},{"$f":"IF($B73<>\"\",VLOOKUP($B73,COSTS_Lava_Hound[#All],3)/24,\"\")","v":""},null,null,"",null,0,0,0,0,0,0,0,0,0,0,0,0,0,0,0,0,0,0,0,0,0,0,0,0,0,0,0,0,0,0,0,0,0,0,0,0,0,0,0,0,0,0,0,0,0,0,0,0,0,0,0,0,0,0,0,0,0,0,0,0]
["Bouliste",null,{"$f":"IF($B74<>\"\",VLOOKUP($B74,COSTS_Bowler[#All],2),\"\")","v":""},{"$f":"IF($B74<>\"\",VLOOKUP($B74,COSTS_Bowler[#All],3)/24,\"\")","v":""},null,null,"",null,0,0,0,0,0,0,0,0,0,0,0,0,0,0,0,0,0,0,0,0,0,0,0,0,0,0,0,0,0,0,0,0,0,0,0,0,0,0,0,0,0,0,0,0,0,0,0,0,0,0,0,0,0,0,0,0,0,0,0,0]
["Héros",null,null,null,null,null,null,null,{"$f":"IF(ISERROR(Plan),0,Plan)","v":0},0,0,0,0,0,0,0,0,0,0,0,0,0,0,0,{"$f":"IF(ISERROR(Plan),0,Plan)","v":0},0,0,0,0,0,0,0,0,0,0,0,0,0,0,{"$f":"IF(ISERROR(Plan),0,Plan)","v":0},0,0,0,0,0,0,0,0,0,0,0,0,0,0,0,{"$f":"IF(ISERROR(Plan),0,Plan)","v":0},0,0,0,0,0,0,0,0,0,0,0,0]
["Roi des Barbares",null,{"$f":"IF($B76<>\"\",VLOOKUP($B76,COSTS_Barbarian_King[#All],2),\"\")","v":""},{"$f":"IF($B76<>\"\",VLOOKUP($B76,COSTS_Barbarian_King[#All],3)/24,\"\")","v":""},null,null,"",null,0,0,0,0,0,0,0,0,0,0,0,0,0,0,0,0,0,0,0,0,0,0,0,0,0,0,0,0,0,0,0,0,0,0,0,0,0,0,0,0,0,0,0,0,0,0,0,0,0,0,0,0,0,0,0,0,0,0,0,0]
["Reine des Archers",null,{"$f":"IF($B77<>\"\",VLOOKUP($B77,COSTS_Archer_Queen[#All],2),\"\")","v":""},{"$f":"IF($B77<>\"\",VLOOKUP($B77,COSTS_Archer_Queen[#All],3)/24,\"\")","v":""},null,null,"",null,{"$f":"IF(ISERROR(Plan),0,Plan)","v":0},0,0,0,0,0,0,0,0,0,0,0,0,0,0,0,{"$f":"IF(ISERROR(Plan),0,Plan)","v":0},0,0,0,0,0,0,0,0,0,0,0,0,0,0,{"$f":"IF(ISERROR(Plan),0,Plan)","v":0},0,0,0,0,0,0,0,0,0,0,0,0,0,0,0,{"$f":"IF(ISERROR(Plan),0,Plan)","v":0},0,0,0,0,0,0,0,0,0,0,0,0]
["Grand Gardien",null,{"$f":"IF($B78<>\"\",VLOOKUP($B78,COSTS_Grand_Warden[#All],2),\"\")","v":""},{"$f":"IF($B78<>\"\",VLOOKUP($B78,COSTS_Grand_Warden[#All],3)/24,\"\")","v":""},null,null,{"$f":"IF($D78<>\"\",$D78,\"\")","v":""},null,{"$f":"IF(ISERROR(Plan),0,Plan)","v":0},0,0,0,0,0,0,0,0,0,0,0,0,0,0,0,{"$f":"IF(ISERROR(Plan),0,Plan)","v":0},0,0,0,0,0,0,0,0,0,0,0,0,0,0,{"$f":"IF(ISERROR(Plan),0,Plan)","v":0},0,0,0,0,0,0,0,0,0,0,0,0,0,0,0,{"$f":"IF(ISERROR(Plan),0,Plan)","v":0},0,0,0,0,0,0,0,0,0,0,0,0]
["Grand Gardien",null,{"$f":"IF($B79<>\"\",VLOOKUP($B79,COSTS_Grand_Warden[#All],2),\"\")","v":""},{"$f":"IF($B79<>\"\",VLOOKUP($B79,COSTS_Grand_Warden[#All],3)/24,\"\")","v":""},null,null,{"$f":"IF($D79<>\"\",$D79,\"\")","v":""},null,0,0,0,0,0,0,0,0,0,0,0,0,0,0,0,0,0,0,0,0,0,0,0,0,0,0,0,0,0,0,0,0,0,0,0,0,0,0,0,0,0,0,0,0,0,0,0,0,0,0,0,0,0,0,0,0,0,0,0,0]
["Grand Gardien",null,{"$f":"IF($B80<>\"\",VLOOKUP($B80,COSTS_Grand_Warden[#All],2),\"\")","v":""},{"$f":"IF($B80<>\"\",VLOOKUP($B80,COSTS_Grand_Warden[#All],3)/24,\"\")","v":""},null,null,"",null,0,0,0,0,0,0,0,0,0,0,0,0,0,0,0,0,0,0,0,0,0,0,0,0,0,0,0,0,0,0,0,0,0,0,0,0,0,0,0,0,0,0,0,0,0,0,0,0,0,0,0,0,0,0,0,0,0,0,0,0]
["Grand Gardien",null,{"$f":"IF($B81<>\"\",VLOOKUP($B81,COSTS_Grand_Warden[#All],2),\"\")","v":""},{"$f":"IF($B81<>\"\",VLOOKUP($B81,COSTS_Grand_Warden[#All],3)/24,\"\")","v":""},null,null,"",null,0,0,0,0,0,0,0,0,0,0,0,0,0,0,0,0,0,0,0,0,0,0,0,0,0,0,0,0,0,0,0,0,0,0,0,0,0,0,0,0,0,0,0,0,0,0,0,0,0,0,0,0,0,0,0,0,0,0,0,0]
["Grand Gardien",null,{"$f":"IF($B82<>\"\",VLOOKUP($B82,COSTS_Grand_Warden[#All],2),\"\")","v":""},{"$f":"IF($B82<>\"\",VLOOKUP($B82,COSTS_Grand_Warden[#All],3)/24,\"\")","v":""},null,null,"",null,0,0,0,0,0,0,0,0,0,0,0,0,0,0,0,0,0,0,0,0,0,0,0,0,0,0,0,0,0,0,0,0,0,0,0,0,0,0,0,0,0,0,0,0,0,0,0,0,0,0,0,0,0,0,0,0,0,0,0,0]
["Grand Gardien",null,{"$f":"IF($B83<>\"\",VLOOKUP($B83,COSTS_Grand_Warden[#All],2),\"\")","v":""},{"$f":"IF($B83<>\"\",VLOOKUP($B83,COSTS_Grand_Warden[#All],3)/24,\"\")","v":""},null,null,"",null,0,0,0,0,0,0,0,0,0,0,0,0,0,0,0,0,0,0,0,0,0,0,0,0,0,0,0,0,0,0,0,0,0,0,0,0,0,0,0,0,0,0,0,0,0,0,0,0,0,0,0,0,0,0,0,0,0,0,0,0]
["Grand Gardien",null,{"$f":"IF($B84<>\"\",VLOOKUP($B84,COSTS_Grand_Warden[#All],2),\"\")","v":""},{"$f":"IF($B84<>\"\",VLOOKUP($B84,COSTS_Grand_Warden[#All],3)/24,\"\")","v":""},null,null,"",null,0,0,0,0,0,0,0,0,0,0,0,0,0,0,0,0,0,0,0,0,0,0,0,0,0,0,0,0,0,0,0,0,0,0,0,0,0,0,0,0,0,0,0,0,0,0,0,0,0,0,0,0,0,0,0,0,0,0,0,0]
["Grand Gardien",null,{"$f":"IF($B85<>\"\",VLOOKUP($B85,COSTS_Grand_Warden[#All],2),\"\")","v":""},{"$f":"IF($B85<>\"\",VLOOKUP($B85,COSTS_Grand_Warden[#All],3)/24,\"\")","v":""},null,null,"",null,0,0,0,0,0,0,0,0,0,0,0,0,0,0,0,0,0,0,0,0,0,0,0,0,0,0,0,0,0,0,0,0,0,0,0,0,0,0,0,0,0,0,0,0,0,0,0,0,0,0,0,0,0,0,0,0,0,0,0,0]
["Grand Gardien",null,{"$f":"IF($B86<>\"\",VLOOKUP($B86,COSTS_Grand_Warden[#All],2),\"\")","v":""},{"$f":"IF($B86<>\"\",VLOOKUP($B86,COSTS_Grand_Warden[#All],3)/24,\"\")","v":""},null,null,"",null,0,0,0,0,0,0,0,0,0,0,0,0,0,0,0,0,0,0,0,0,0,0,0,0,0,0,0,0,0,0,0,0,0,0,0,0,0,0,0,0,0,0,0,0,0,0,0,0,0,0,0,0,0,0,0,0,0,0,0,0]
["Grand Gardien",null,{"$f":"IF($B87<>\"\",VLOOKUP($B87,COSTS_Grand_Warden[#All],2),\"\")","v":""},{"$f":"IF($B87<>\"\",VLOOKUP($B87,COSTS_Grand_Warden[#All],3)/24,\"\")","v":""},null,null,"",null,0,0,0,0,0,0,0,0,0,0,0,0,0,0,0,0,0,0,0,0,0,0,0,0,0,0,0,0,0,0,0,0,0,0,0,0,0,0,0,0,0,0,0,0,0,0,0,0,0,0,0,0,0,0,0,0,0,0,0,0]
["Grand Gardien",null,{"$f":"IF($B88<>\"\",VLOOKUP($B88,COSTS_Grand_Warden[#All],2),\"\")","v":""},{"$f":"IF($B88<>\"\",VLOOKUP($B88,COSTS_Grand_Warden[#All],3)/24,\"\")","v":""},null,null,"",null,0,0,0,0,0,0,0,0,0,0,0,0,0,0,0,0,0,0,0,0,0,0,0,0,0,0,0,0,0,0,0,0,0,0,0,0,0,0,0,0,0,0,0,0,0,0,0,0,0,0,0,0,0,0,0,0,0,0,0,0]
["Grand Gardien",null,{"$f":"IF($B89<>\"\",VLOOKUP($B89,COSTS_Grand_Warden[#All],2),\"\")","v":""},{"$f":"IF($B89<>\"\",VLOOKUP($B89,COSTS_Grand_Warden[#All],3)/24,\"\")","v":""},null,null,"",null,0,0,0,0,0,0,0,0,0,0,0,0,0,0,0,0,0,0,0,0,0,0,0,0,0,0,0,0,0,0,0,0,0,0,0,0,0,0,0,0,0,0,0,0,0,0,0,0,0,0,0,0,0,0,0,0,0,0,0,0]
["Grand Gardien",null,{"$f":"IF($B90<>\"\",VLOOKUP($B90,COSTS_Grand_Warden[#All],2),\"\")","v":""},{"$f":"IF($B90<>\"\",VLOOKUP($B90,COSTS_Grand_Warden[#All],3)/24,\"\")","v":""},null,null,"",null,0,0,0,0,0,0,0,0,0,0,0,0,0,0,0,0,0,0,0,0,0,0,0,0,0,0,0,0,0,0,0,0,0,0,0,0,0,0,0,0,0,0,0,0,0,0,0,0,0,0,0,0,0,0,0,0,0,0,0,0]
["Grand Gardien",null,{"$f":"IF($B91<>\"\",VLOOKUP($B91,COSTS_Grand_Warden[#All],2),\"\")","v":""},{"$f":"IF($B91<>\"\",VLOOKUP($B91,COSTS_Grand_Warden[#All],3)/24,\"\")","v":""},null,null,"",null,0,0,0,0,0,0,0,0,0,0,0,0,0,0,0,0,0,0,0,0,0,0,0,0,0,0,0,0,0,0,0,0,0,0,0,0,0,0,0,0,0,0,0,0,0,0,0,0,0,0,0,0,0,0,0,0,0,0,0,0]
["Grand Gardien",null,{"$f":"IF($B92<>\"\",VLOOKUP($B92,COSTS_Grand_Warden[#All],2),\"\")","v":""},{"$f":"IF($B92<>\"\",VLOOKUP($B92,COSTS_Grand_Warden[#All],3)/24,\"\")","v":""},null,null,"",null,0,0,0,0,0,0,0,0,0,0,0,0,0,0,0,0,0,0,0,0,0,0,0,0,0,0,0,0,0,0,0,0,0,0,0,0,0,0,0,0,0,0,0,0,0,0,0,0,0,0,0,0,0,0,0,0,0,0,0,0]
["Grand Gardien",null,{"$f":"IF($B93<>\"\",VLOOKUP($B93,COSTS_Grand_Warden[#All],2),\"\")","v":""},{"$f":"IF($B93<>\"\",VLOOKUP($B93,COSTS_Grand_Warden[#All],3)/24,\"\")","v":""},null,null,"",null,0,0,0,0,0,0,0,0,0,0,0,0,0,0,0,{"$f":"IF(ISERROR(Plan),0,Plan)","v":0},0,0,0,0,0,0,0,0,0,0,0,0,0,0,0,0,0,0,0,0,0,0,0,0,0,0,0,0,0,0,{"$f":"IF(ISERROR(Plan),0,Plan)","v":0},0,0,0,0,0,0,0,0,0,0,0,0,0]
["Grand Gardien",null,{"$f":"IF($B94<>\"\",VLOOKUP($B94,COSTS_Grand_Warden[#All],2),\"\")","v":""},{"$f":"IF($B94<>\"\",VLOOKUP($B94,COSTS_Grand_Warden[#All],3)/24,\"\")","v":""},null,null,"",null,0,0,0,0,0,0,0,0,0,0,0,0,0,0,0,0,{"$f":"IF(ISERROR(Plan),0,Plan)","v":0},0,0,0,0,0,0,0,0,0,0,0,0,0,0,0,0,0,0,0,0,0,0,0,0,0,0,0,0,0,0,{"$f":"IF(ISERROR(Plan),0,Plan)","v":0},0,0,0,0,0,0,0,0,0,0,0,0]
["Grand Gardien",null,{"$f":"IF($B95<>\"\",VLOOKUP($B95,COSTS_Grand_Warden[#All],2),\"\")","v":""},{"$f":"IF($B95<>\"\",VLOOKUP($B95,COSTS_Grand_Warden[#All],3)/24,\"\")","v":""},null,null,"",null,0,0,0,0,0,0,0,0,0,0,0,0,0,0,0,0,0,0,0,0,0,0,0,0,0,0,0,0,0,0,0,0,0,0,0,0,0,0,0,0,0,0,0,0,0,0,0,0,0,0,0,0,0,0,0,0,0,0,0,0]
["Grand Gardien",null,{"$f":"IF($B96<>\"\",VLOOKUP($B96,COSTS_Grand_Warden[#All],2),\"\")","v":""},{"$f":"IF($B96<>\"\",VLOOKUP($B96,COSTS_Grand_Warden[#All],3)/24,\"\")","v":""},null,null,"",null,0,0,0,0,0,0,0,0,0,0,0,0,0,0,0,0,0,0,0,0,0,0,0,0,0,0,0,0,0,0,0,0,0,0,0,0,0,0,0,0,0,0,0,0,0,0,0,0,0,0,0,0,0,0,0,0,0,0,0,0]
["Grand Gardien",null,{"$f":"IF($B97<>\"\",VLOOKUP($B97,COSTS_Grand_Warden[#All],2),\"\")","v":""},{"$f":"IF($B97<>\"\",VLOOKUP($B97,COSTS_Grand_Warden[#All],3)/24,\"\")","v":""},null,null,"",null,0,0,0,0,0,0,0,0,0,0,0,0,0,0,0,0,0,0,0,0,0,0,0,0,0,0,0,0,0,0,0,0,0,0,0,0,0,0,0,0,0,0,0,0,0,0,0,0,0,0,0,0,0,0,0,0,0,0,0,0]
["Grand Gardien",null,{"$f":"IF($B98<>\"\",VLOOKUP($B98,COSTS_Grand_Warden[#All],2),\"\")","v":""},{"$f":"IF($B98<>\"\",VLOOKUP($B98,COSTS_Grand_Warden[#All],3)/24,\"\")","v":""},null,null,"",null,0,0,0,0,0,0,0,0,0,0,0,0,0,0,0,0,0,0,0,0,0,0,0,0,0,0,0,0,0,0,0,0,0,0,0,0,0,0,0,0,0,0,0,0,0,0,0,0,0,0,0,0,0,0,0,0,0,0,0,0]

{"sheet":"À Faire - Récapitulatif","index":2,"n_rows":29,"n_cols":26,"rows_kept":29,"cut":false,"hidden":false,"merged":[[14,18,14,23],[1,22,1,23],[0,19,0,21],[1,19,1,21],[0,16,0,18],[1,16,1,18],[4,18,4,23],[30,14,30,17],[1,14,1,15],[0,14,0,15],[14,6,14,11],[0,7,0,9],[1,7,1,9],[2,0,3,23],[21,18,21,23],[4,0,4,5],[4,6,4,11],[14,0,14,5],[23,12,23,17],[1,12,1,13],[14,12,14,17],[4,12,4,17],[0,22,0,23],[1,1,1,2],[0,1,0,2],[0,10,0,11],[1,10,1,11],[0,12,0,13]]}
["LVL HdV","Affichage Temps",null,"Mur","HDV","Héros",null,"Or Total :",null,null,"Élixir Total :",null,"Élixir Noir Total :",null,"Temps Total :",null,{"$f":"'Paramètres - Admin'!$D$7 & IF($B$2='Paramètres - Admin'!$B$2,TEXT((E13+K13+E28+Q28+Q13)*60*60,\"# 0\")&\" \" & 'Paramètres - Admin'!$B$2,IF($B$2='Paramètres - Admin'!$B$3,TEXT((E13+K13+E28+Q28+Q13)*60,\"# 0\")&\" \" & 'Paramètres - Admin'!$B$3,IF($B$2='Paramètres - Admin'!$B$4,TEXT((E13+K13+E28+Q28+Q13),\"# 0,00\")&\" \" & 'Paramètres - Admin'!$B$4,IF($B$2='Paramètres - Admin'!$B$5,TEXT((E13+K13+E28+Q28+Q13)/24,\"# 0,00\")&\" \" & 'Paramètres - Admin'!$B$5,IF($B$2='Paramètres - Admin'!$B$6,TEXT(((E13+K13+E28+Q28+Q13)/24)/30,\"# 0,00\")&\" \" & 'Paramètres - Admin'!$B$6,IF((E13+K13+E28+Q28+Q13)/24>=1,INT((E13+K13+E28+Q28+Q13)/24)&\" \" &  'Paramètres - Admin'!$D$4 & \" \" & HOUR((E13+K13+E28+Q28+Q13)/24-INT((E13+K13+E28+Q28+Q13)/24))&\" \" &  'Paramètres - Admin'!$D$3 & \" \" & MINUTE((E13+K13+E28+Q28+Q13)/24-INT((E13+K13+E28+Q28+Q13)/24))&\" \" &  'Paramètres - Admin'!$D$2,HOUR((E13+K13+E28+Q28+Q13)/24-INT((E13+K13+E28+Q28+Q13)/24))&\" \" &  'Paramètres - Admin'!$D$3 & \" \" & MINUTE((E13+K13+E28+Q28+Q13)/24-INT((E13+K13+E28+Q28+Q13)/24))&\" \" &  'Paramètres - Admin'!$D$2))))))","v":"Bâtiments : 0,15 jours"},null,null,"=> Temps par Ouvrier :",null,null,"Améliorations Troupes/Sorts :"]
[{"$f":"Paramètres!$BN$2","v":1},"jours",null,"Non","Non","Oui",null,{"$f":"TEXT(D8+D11+D28+P28+P13,\"# ### ### ##0\")","v":"4 250"},null,null,{"$f":"TEXT(D7+D9+D10+D12+J13+P23+J29+V26,\"# ### ### ##0\")","v":"4 700"},null,{"$f":"TEXT(V14+V27+V21,\"# ### ### ##0\")","v":"0"},null,{"$f":"IF($B$2='Paramètres - Admin'!$B$2,TEXT((Z6)*60*60,\"# 0\")&\" \" & 'Paramètres - Admin'!$B$2,IF($B$2='Paramètres - Admin'!$B$3,TEXT(Z6*60,\"# 0\")&\" \" & 'Paramètres - Admin'!$B$3,IF($B$2='Paramètres - Admin'!$B$4,TEXT(Z6,\"# 0,00\")&\" \" & 'Paramètres - Admin'!$B$4,IF($B$2='Paramètres - Admin'!$B$5,TEXT(Z6/24,\"# 0,00\")&\" \" & 'Paramètres - Admin'!$B$5,IF($B$2='Paramètres - Admin'!$B$6,TEXT((Z6/24)/30,\"# 0,00\")&\" \" & 'Paramètres - Admin'!$B$6,IF(Z6/24>=1,INT(Z6/24)&\" \" &  'Paramètres - Admin'!$D$4 & \" \" & HOUR(Z6/24-INT(Z6/24))&\" \" &  'Paramètres - Admin'!$D$3 & \" \" & MINUTE(Z6/24-INT(Z6/24))&\" \" &  'Paramètres - Admin'!$D$2,HOUR(Z6/24-INT(Z6/24))&\" \" &  'Paramètres - Admin'!$D$3 & \" \" & MINUTE(Z6/24-INT(Z6/24))&\" \" &  'Paramètres - Admin'!$D$2))))))","v":"0,15 jours"},null,{"$f":"'Paramètres - Admin'!$D$6 & IF($B$2='Paramètres - Admin'!$B$2,TEXT(W27*60*60,\"# 0\")&\" \" & 'Paramètres - Admin'!$B$2,IF($B$2='Paramètres - Admin'!$B$3,TEXT(W27*60,\"# 0\")&\" \" & 'Paramètres - Admin'!$B$3,IF($B$2='Paramètres - Admin'!$B$4,TEXT(W27,\"# 0,00\")&\" \" & 'Paramètres - Admin'!$B$4,IF($B$2='Paramètres - Admin'!$B$5,TEXT(W27/24,\"# 0,00\")&\" \" & 'Paramètres - Admin'!$B$5,IF($B$2='Paramètres - Admin'!$B$6,TEXT((W27/24)/30,\"# 0,00\")&\" \" & 'Paramètres - Admin'!$B$6,IF(W27/24>=1,INT(W27/24)&\" \" &  'Paramètres - Admin'!$D$4 & \" \" & HOUR(W27/24-INT(W27/24))&\" \" &  'Paramètres - Admin'!$D$3 & \" \" & MINUTE(W27/24-INT(W27/24))&\" \" &  'Paramètres - Admin'!$D$2,HOUR(W27/24-INT(W27/24))&\" \" &  'Paramètres - Admin'!$D$3 & \" \" & MINUTE(W27/24-INT(W27/24))&\" \" &  'Paramètres - Admin'!$D$2))))))","v":"Héros : 0,00 jours"},null,null,{"$f":"IF($B$2='Paramètres - Admin'!$B$2,TEXT((E13+K13+E28+Q28+Q13+W27)/Paramètres!$BO$2*60*60,\"# 0\")&\" \" & 'Paramètres - Admin'!$B$2,IF($B$2='Paramètres - Admin'!$B$3,TEXT((E13+K13+E28+Q28+Q13+W27)/Paramètres!$BO$2*60,\"# 0\")&\" \" & 'Paramètres - Admin'!$B$3,IF($B$2='Paramètres - Admin'!$B$4,TEXT((E13+K13+E28+Q28+Q13+W27)/Paramètres!$BO$2,\"# 0,00\")&\" \" & 'Paramètres - Admin'!$B$4,IF($B$2='Paramètres - Admin'!$B$5,TEXT((E13+K13+E28+Q28+Q13+W27)/Paramètres!$BO$2/24,\"# 0,00\")&\" \" & 'Paramètres - Admin'!$B$5,IF($B$2='Paramètres - Admin'!$B$6,TEXT(((E13+K13+E28+Q28+Q13+W27)/Paramètres!$BO$2/24)/30,\"# 0,00\")&\" \" & 'Paramètres - Admin'!$B$6,IF((E13+K13+E28+Q28+Q13+W27)/Paramètres!$BO$2/24>=1,INT((E13+K13+E28+Q28+Q13+W27)/Paramètres!$BO$2/24)&\" \" &  'Paramètres - Admin'!$D$4 & \" \" & HOUR((E13+K13+E28+Q28+Q13+W27)/Paramètres!$BO$2/24-INT((E13+K13+E28+Q28+Q13+W27)/Paramètres!$BO$2/24))&\" \" &  'Paramètres - Admin'!$D$3 & \" \" & MINUTE((E13+K13+E28+Q28+Q13+W27)/Paramètres!$BO$2/24-INT((E13+K13+E28+Q28+Q13+W27)/Paramètres!$BO$2/24))&\" \" &  'Paramètres - Admin'!$D$2,HOUR((E13+K13+E28+Q28+Q13+W27)/Paramètres!$BO$2/24-INT((E13+K13+E28+Q28+Q13+W27)/Paramètres!$BO$2/24))&\" \" &  'Paramètres - Admin'!$D$3 & \" \" & MINUTE((E13+K13+E28+Q28+Q13+W27)/Paramètres!$BO$2/24-INT((E13+K13+E28+Q28+Q13+W27)/Paramètres!$BO$2/24))&\" \" &  'Paramètres - Admin'!$D$2))))))","v":"0,15 jours"},null,null,{"$f":"IF($B$2='Paramètres - Admin'!$B$2,TEXT((Q23+K29+W14+W21)*60*60,\"# 0\")&\" \" & 'Paramètres - Admin'!$B$2,IF($B$2='Paramètres - Admin'!$B$3,TEXT((Q23+K29+W14+W21)*60,\"# 0\")&\" \" & 'Paramètres - Admin'!$B$3,IF($B$2='Paramètres - Admin'!$B$4,TEXT((Q23+K29+W14+W21),\"# 0,00\")&\" \" & 'Paramètres - Admin'!$B$4,IF($B$2='Paramètres - Admin'!$B$5,TEXT((Q23+K29+W14+W21)/24,\"# 0,00\")&\" \" & 'Paramètres - Admin'!$B$5,IF($B$2='Paramètres - Admin'!$B$6,TEXT(((Q23+K29+W14+W21)/24)/30,\"# 0,00\")&\" \" & 'Paramètres - Admin'!$B$6,IF((Q23+K29+W14+W21)/24>=1,INT((Q23+K29+W14+W21)/24)&\" \" &  'Paramètres - Admin'!$D$4 & \" \" & HOUR((Q23+K29+W14+W21)/24-INT((Q23+K29+W14+W21)/24))&\" \" &  'Paramètres - Admin'!$D$3 & \" \" & MINUTE((Q23+K29+W14+W21)/24-INT((Q23+K29+W14+W21)/24))&\" \" &  'Paramètres - Admin'!$D$2,HOUR((Q23+K29+W14+W21)/24-INT((Q23+K29+W14+W21)/24))&\" \" &  'Paramètres - Admin'!$D$3 & \" \" & MINUTE((Q23+K29+W14+W21)/24-INT((Q23+K29+W14+W21)/24))&\" \" &  'Paramètres - Admin'!$D$2))))))","v":"0,00 jours"}]
["Tableaux récapitulatifs",null,null,null,null,null,null,null,null,null,null,null,null,null,null,null,null,null,null,null,null,null,null,null,"Or",{"$f":"D8+D11+D28+P28+P13-IF(D2=\"Non\",D17,0)-IF(E2=\"Non\",P27,0)","v":3250}]
[null,null,null,null,null,null,null,null,null,null,null,null,null,null,null,null,null,null,null,null,null,null,null,null,"Élixir",{"$f":"D7+D9+D10+D12+J13+P23+J29+IF(F2=\"Non\",0,V26)","v":4700}]
["Bâtiments de Ressources",null,null,null,null,null,"Bâtiments d'Armée",null,null,null,null,null,"Pièges Défensifs",null,null,null,null,null,"Améliorations de Troupes Noires",null,null,null,null,null,"Élixir Noir",{"$f":"V14+V21+IF(F2=\"Non\",0,V27)","v":0}]
["Bâtiment","À Faire","Up.","Coût Total","Temps Total","Temps Total","Bâtiment","À Faire","Up.","Coût Total","Temps Total","Temps Total","Bâtiment","À Faire","Up.","Coût Total","Temps Total","Temps Total","Troupe Noire","À Faire","Up.","Coût Total","Temps Total","Temps Total","Temps",{"$f":"E13+K13+Q13+W14+K29+E28+Q23+Q28+W21+W27","v":3.6700000000000004}]
["Mine d'Or",{"$f":"'À Faire - Détails'!H5","v":1},{"$f":"'À Faire - Détails'!I5","v":2},{"$f":"'À Faire - Détails'!H19","v":450},{"$f":"'À Faire - Détails'!I19","v":9.9999999999999992E-2},{"$f":"IF($B$2='Paramètres - Admin'!$B$2,TEXT(E7*60*60,\"# 0\")&\" \" & 'Paramètres - Admin'!$B$2,IF($B$2='Paramètres - Admin'!$B$3,TEXT(E7*60,\"# 0\")&\" \" & 'Paramètres - Admin'!$B$3,IF($B$2='Paramètres - Admin'!$B$4,TEXT(E7,\"# 0,00\")&\" \" & 'Paramètres - Admin'!$B$4,IF($B$2='Paramètres - Admin'!$B$5,TEXT(E7/24,\"# 0,00\")&\" \" & 'Paramètres - Admin'!$B$5,IF($B$2='Paramètres - Admin'!$B$6,TEXT((E7/24)/30,\"# 0,00\")&\" \" & 'Paramètres - Admin'!$B$6,IF(E7/24>=1,INT(E7/24)&\" \" &  'Paramètres - Admin'!$D$4 & \" \" & HOUR(E7/24-INT(E7/24))&\" \" &  'Paramètres - Admin'!$D$3 & \" \" & MINUTE(E7/24-INT(E7/24))&\" \" &  'Paramètres - Admin'!$D$2,HOUR(E7/24-INT(E7/24))&\" \" &  'Paramètres - Admin'!$D$3 & \" \" & MINUTE(E7/24-INT(E7/24))&\" \" &  'Paramètres - Admin'!$D$2))))))","v":"0,00 jours"},"Caserne",{"$f":"'À Faire - Détails'!H40","v":1},{"$f":"'À Faire - Détails'!I40","v":3},{"$f":"'À Faire - Détails'!H54","v":3700},{"$f":"'À Faire - Détails'!I54","v":2.27},{"$f":"IF($B$2='Paramètres - Admin'!$B$2,TEXT(K7*60*60,\"# 0\")&\" \" & 'Paramètres - Admin'!$B$2,IF($B$2='Paramètres - Admin'!$B$3,TEXT(K7*60,\"# 0\")&\" \" & 'Paramètres - Admin'!$B$3,IF($B$2='Paramètres - Admin'!$B$4,TEXT(K7,\"# 0,00\")&\" \" & 'Paramètres - Admin'!$B$4,IF($B$2='Paramètres - Admin'!$B$5,TEXT(K7/24,\"# 0,00\")&\" \" & 'Paramètres - Admin'!$B$5,IF($B$2='Paramètres - Admin'!$B$6,TEXT((K7/24)/30,\"# 0,00\")&\" \" & 'Paramètres - Admin'!$B$6,IF(K7/24>=1,INT(K7/24)&\" \" &  'Paramètres - Admin'!$D$4 & \" \" & HOUR(K7/24-INT(K7/24))&\" \" &  'Paramètres - Admin'!$D$3 & \" \" & MINUTE(K7/24-INT(K7/24))&\" \" &  'Paramètres - Admin'!$D$2,HOUR(K7/24-INT(K7/24))&\" \" &  'Paramètres - Admin'!$D$3 & \" \" & MINUTE(K7/24-INT(K7/24))&\" \" &  'Paramètres - Admin'!$D$2))))))","v":"0,09 jours"},"Bombe",{"$f":"'À Faire - Détails'!H117","v":0},{"$f":"'À Faire - Détails'!I117","v":0},{"$f":"'À Faire - Détails'!H125","v":0},{"$f":"'À Faire - Détails'!I125","v":0},{"$f":"IF($B$2='Paramètres - Admin'!$B$2,TEXT(Q7*60*60,\"# 0\")&\" \" & 'Paramètres - Admin'!$B$2,IF($B$2='Paramètres - Admin'!$B$3,TEXT(Q7*60,\"# 0\")&\" \" & 'Paramètres - Admin'!$B$3,IF($B$2='Paramètres - Admin'!$B$4,TEXT(Q7,\"# 0,00\")&\" \" & 'Paramètres - Admin'!$B$4,IF($B$2='Paramètres - Admin'!$B$5,TEXT(Q7/24,\"# 0,00\")&\" \" & 'Paramètres - Admin'!$B$5,IF($B$2='Paramètres - Admin'!$B$6,TEXT((Q7/24)/30,\"# 0,00\")&\" \" & 'Paramètres - Admin'!$B$6,IF(Q7/24>=1,INT(Q7/24)&\" \" &  'Paramètres - Admin'!$D$4 & \" \" & HOUR(Q7/24-INT(Q7/24))&\" \" &  'Paramètres - Admin'!$D$3 & \" \" & MINUTE(Q7/24-INT(Q7/24))&\" \" &  'Paramètres - Admin'!$D$2,HOUR(Q7/24-INT(Q7/24))&\" \" &  'Paramètres - Admin'!$D$3 & \" \" & MINUTE(Q7/24-INT(Q7/24))&\" \" &  'Paramètres - Admin'!$D$2))))))","v":"0,00 jours"},"Serviteur",{"$f":"'À Faire - Détails'!H245","v":0},{"$f":"'À Faire - Détails'!I245","v":0},{"$f":"'À Faire - Détails'!H254","v":0},{"$f":"'À Faire - Détails'!I254","v":0},{"$f":"IF($B$2='Paramètres - Admin'!$B$2,TEXT(W7*60*60,\"# 0\")&\" \" & 'Paramètres - Admin'!$B$2,IF($B$2='Paramètres - Admin'!$B$3,TEXT(W7*60,\"# 0\")&\" \" & 'Paramètres - Admin'!$B$3,IF($B$2='Paramètres - Admin'!$B$4,TEXT(W7,\"# 0,00\")&\" \" & 'Paramètres - Admin'!$B$4,IF($B$2='Paramètres - Admin'!$B$5,TEXT(W7/24,\"# 0,00\")&\" \" & 'Paramètres - Admin'!$B$5,IF($B$2='Paramètres - Admin'!$B$6,TEXT((W7/24)/30,\"# 0,00\")&\" \" & 'Paramètres - Admin'!$B$6,IF(W7/24>=1,INT(W7/24)&\" \" &  'Paramètres - Admin'!$D$4 & \" \" & HOUR(W7/24-INT(W7/24))&\" \" &  'Paramètres - Admin'!$D$3 & \" \" & MINUTE(W7/24-INT(W7/24))&\" \" &  'Paramètres - Admin'!$D$2,HOUR(W7/24-INT(W7/24))&\" \" &  'Paramètres - Admin'!$D$3 & \" \" & MINUTE(W7/24-INT(W7/24))&\" \" &  'Paramètres - Admin'!$D$2))))))","v":"0,00 jours"}]
["Extracteur d'Élixir",{"$f":"'À Faire - Détails'!Q5","v":1},{"$f":"'À Faire - Détails'!R5","v":2},{"$f":"'À Faire - Détails'!Q19","v":450},{"$f":"'À Faire - Détails'!R19","v":9.9999999999999992E-2},{"$f":"IF($B$2='Paramètres - Admin'!$B$2,TEXT(E8*60*60,\"# 0\")&\" \" & 'Paramètres - Admin'!$B$2,IF($B$2='Paramètres - Admin'!$B$3,TEXT(E8*60,\"# 0\")&\" \" & 'Paramètres - Admin'!$B$3,IF($B$2='Paramètres - Admin'!$B$4,TEXT(E8,\"# 0,00\")&\" \" & 'Paramètres - Admin'!$B$4,IF($B$2='Paramètres - Admin'!$B$5,TEXT(E8/24,\"# 0,00\")&\" \" & 'Paramètres - Admin'!$B$5,IF($B$2='Paramètres - Admin'!$B$6,TEXT((E8/24)/30,\"# 0,00\")&\" \" & 'Paramètres - Admin'!$B$6,IF(E8/24>=1,INT(E8/24)&\" \" &  'Paramètres - Admin'!$D$4 & \" \" & HOUR(E8/24-INT(E8/24))&\" \" &  'Paramètres - Admin'!$D$3 & \" \" & MINUTE(E8/24-INT(E8/24))&\" \" &  'Paramètres - Admin'!$D$2,HOUR(E8/24-INT(E8/24))&\" \" &  'Paramètres - Admin'!$D$3 & \" \" & MINUTE(E8/24-INT(E8/24))&\" \" &  'Paramètres - Admin'!$D$2))))))","v":"0,00 jours"},"Caserne Noire",{"$f":"'À Faire - Détails'!Z52","v":0},{"$f":"'À Faire - Détails'!AA52","v":0},{"$f":"'À Faire - Détails'!Z61","v":0},{"$f":"'À Faire - Détails'!AA61","v":0},{"$f":"IF($B$2='Paramètres - Admin'!$B$2,TEXT(K8*60*60,\"# 0\")&\" \" & 'Paramètres - Admin'!$B$2,IF($B$2='Paramètres - Admin'!$B$3,TEXT(K8*60,\"# 0\")&\" \" & 'Paramètres - Admin'!$B$3,IF($B$2='Paramètres - Admin'!$B$4,TEXT(K8,\"# 0,00\")&\" \" & 'Paramètres - Admin'!$B$4,IF($B$2='Paramètres - Admin'!$B$5,TEXT(K8/24,\"# 0,00\")&\" \" & 'Paramètres - Admin'!$B$5,IF($B$2='Paramètres - Admin'!$B$6,TEXT((K8/24)/30,\"# 0,00\")&\" \" & 'Paramètres - Admin'!$B$6,IF(K8/24>=1,INT(K8/24)&\" \" &  'Paramètres - Admin'!$D$4 & \" \" & HOUR(K8/24-INT(K8/24))&\" \" &  'Paramètres - Admin'!$D$3 & \" \" & MINUTE(K8/24-INT(K8/24))&\" \" &  'Paramètres - Admin'!$D$2,HOUR(K8/24-INT(K8/24))&\" \" &  'Paramètres - Admin'!$D$3 & \" \" & MINUTE(K8/24-INT(K8/24))&\" \" &  'Paramètres - Admin'!$D$2))))))","v":"0,00 jours"},"Piège à ressort",{"$f":"'À Faire - Détails'!Z117","v":0},{"$f":"'À Faire - Détails'!AA117","v":0},{"$f":"'À Faire - Détails'!Z124","v":0},{"$f":"'À Faire - Détails'!AA124","v":0},{"$f":"IF($B$2='Paramètres - Admin'!$B$2,TEXT(Q8*60*60,\"# 0\")&\" \" & 'Paramètres - Admin'!$B$2,IF($B$2='Paramètres - Admin'!$B$3,TEXT(Q8*60,\"# 0\")&\" \" & 'Paramètres - Admin'!$B$3,IF($B$2='Paramètres - Admin'!$B$4,TEXT(Q8,\"# 0,00\")&\" \" & 'Paramètres - Admin'!$B$4,IF($B$2='Paramètres - Admin'!$B$5,TEXT(Q8/24,\"# 0,00\")&\" \" & 'Paramètres - Admin'!$B$5,IF($B$2='Paramètres - Admin'!$B$6,TEXT((Q8/24)/30,\"# 0,00\")&\" \" & 'Paramètres - Admin'!$B$6,IF(Q8/24>=1,INT(Q8/24)&\" \" &  'Paramètres - Admin'!$D$4 & \" \" & HOUR(Q8/24-INT(Q8/24))&\" \" &  'Paramètres - Admin'!$D$3 & \" \" & MINUTE(Q8/24-INT(Q8/24))&\" \" &  'Paramètres - Admin'!$D$2,HOUR(Q8/24-INT(Q8/24))&\" \" &  'Paramètres - Admin'!$D$3 & \" \" & MINUTE(Q8/24-INT(Q8/24))&\" \" &  'Paramètres - Admin'!$D$2))))))","v":"0,00 jours"},"Chevaucheur de Cochon",{"$f":"'À Faire - Détails'!H256","v":0},{"$f":"'À Faire - Détails'!I256","v":0},{"$f":"'À Faire - Détails'!H265","v":0},{"$f":"'À Faire - Détails'!I265","v":0},{"$f":"IF($B$2='Paramètres - Admin'!$B$2,TEXT(W8*60*60,\"# 0\")&\" \" & 'Paramètres - Admin'!$B$2,IF($B$2='Paramètres - Admin'!$B$3,TEXT(W8*60,\"# 0\")&\" \" & 'Paramètres - Admin'!$B$3,IF($B$2='Paramètres - Admin'!$B$4,TEXT(W8,\"# 0,00\")&\" \" & 'Paramètres - Admin'!$B$4,IF($B$2='Paramètres - Admin'!$B$5,TEXT(W8/24,\"# 0,00\")&\" \" & 'Paramètres - Admin'!$B$5,IF($B$2='Paramètres - Admin'!$B$6,TEXT((W8/24)/30,\"# 0,00\")&\" \" & 'Paramètres - Admin'!$B$6,IF(W8/24>=1,INT(W8/24)&\" \" &  'Paramètres - Admin'!$D$4 & \" \" & HOUR(W8/24-INT(W8/24))&\" \" &  'Paramètres - Admin'!$D$3 & \" \" & MINUTE(W8/24-INT(W8/24))&\" \" &  'Paramètres - Admin'!$D$2,HOUR(W8/24-INT(W8/24))&\" \" &  'Paramètres - Admin'!$D$3 & \" \" & MINUTE(W8/24-INT(W8/24))&\" \" &  'Paramètres - Admin'!$D$2))))))","v":"0,00 jours"}]
["Foreuse d'Élixir Noir",{"$f":"'À Faire - Détails'!Z5","v":0},{"$f":"'À Faire - Détails'!AA5","v":0},{"$f":"'À Faire - Détails'!Z13","v":0},{"$f":"'À Faire - Détails'!AA13","v":0},{"$f":"IF($B$2='Paramètres - Admin'!$B$2,TEXT(E9*60*60,\"# 0\")&\" \" & 'Paramètres - Admin'!$B$2,IF($B$2='Paramètres - Admin'!$B$3,TEXT(E9*60,\"# 0\")&\" \" & 'Paramètres - Admin'!$B$3,IF($B$2='Paramètres - Admin'!$B$4,TEXT(E9,\"# 0,00\")&\" \" & 'Paramètres - Admin'!$B$4,IF($B$2='Paramètres - Admin'!$B$5,TEXT(E9/24,\"# 0,00\")&\" \" & 'Paramètres - Admin'!$B$5,IF($B$2='Paramètres - Admin'!$B$6,TEXT((E9/24)/30,\"# 0,00\")&\" \" & 'Paramètres - Admin'!$B$6,IF(E9/24>=1,INT(E9/24)&\" \" &  'Paramètres - Admin'!$D$4 & \" \" & HOUR(E9/24-INT(E9/24))&\" \" &  'Paramètres - Admin'!$D$3 & \" \" & MINUTE(E9/24-INT(E9/24))&\" \" &  'Paramètres - Admin'!$D$2,HOUR(E9/24-INT(E9/24))&\" \" &  'Paramètres - Admin'!$D$3 & \" \" & MINUTE(E9/24-INT(E9/24))&\" \" &  'Paramètres - Admin'!$D$2))))))","v":"0,00 jours"},"Camp Militaire",{"$f":"'À Faire - Détails'!Z40","v":1},{"$f":"'À Faire - Détails'!AA40","v":1},{"$f":"'À Faire - Détails'!Z50","v":250},{"$f":"'À Faire - Détails'!AA50","v":8.3333333333333329E-2},{"$f":"IF($B$2='Paramètres - Admin'!$B$2,TEXT(K9*60*60,\"# 0\")&\" \" & 'Paramètres - Admin'!$B$2,IF($B$2='Paramètres - Admin'!$B$3,TEXT(K9*60,\"# 0\")&\" \" & 'Paramètres - Admin'!$B$3,IF($B$2='Paramètres - Admin'!$B$4,TEXT(K9,\"# 0,00\")&\" \" & 'Paramètres - Admin'!$B$4,IF($B$2='Paramètres - Admin'!$B$5,TEXT(K9/24,\"# 0,00\")&\" \" & 'Paramètres - Admin'!$B$5,IF($B$2='Paramètres - Admin'!$B$6,TEXT((K9/24)/30,\"# 0,00\")&\" \" & 'Paramètres - Admin'!$B$6,IF(K9/24>=1,INT(K9/24)&\" \" &  'Paramètres - Admin'!$D$4 & \" \" & HOUR(K9/24-INT(K9/24))&\" \" &  'Paramètres - Admin'!$D$3 & \" \" & MINUTE(K9/24-INT(K9/24))&\" \" &  'Paramètres - Admin'!$D$2,HOUR(K9/24-INT(K9/24))&\" \" &  'Paramètres - Admin'!$D$3 & \" \" & MINUTE(K9/24-INT(K9/24))&\" \" &  'Paramètres - Admin'!$D$2))))))","v":"0,00 jours"},"Bombe géante",{"$f":"'À Faire - Détails'!H127","v":0},{"$f":"'À Faire - Détails'!I127","v":0},{"$f":"'À Faire - Détails'!H133","v":0},{"$f":"'À Faire - Détails'!I133","v":0},{"$f":"IF($B$2='Paramètres - Admin'!$B$2,TEXT(Q9*60*60,\"# 0\")&\" \" & 'Paramètres - Admin'!$B$2,IF($B$2='Paramètres - Admin'!$B$3,TEXT(Q9*60,\"# 0\")&\" \" & 'Paramètres - Admin'!$B$3,IF($B$2='Paramètres - Admin'!$B$4,TEXT(Q9,\"# 0,00\")&\" \" & 'Paramètres - Admin'!$B$4,IF($B$2='Paramètres - Admin'!$B$5,TEXT(Q9/24,\"# 0,00\")&\" \" & 'Paramètres - Admin'!$B$5,IF($B$2='Paramètres - Admin'!$B$6,TEXT((Q9/24)/30,\"# 0,00\")&\" \" & 'Paramètres - Admin'!$B$6,IF(Q9/24>=1,INT(Q9/24)&\" \" &  'Paramètres - Admin'!$D$4 & \" \" & HOUR(Q9/24-INT(Q9/24))&\" \" &  'Paramètres - Admin'!$D$3 & \" \" & MINUTE(Q9/24-INT(Q9/24))&\" \" &  'Paramètres - Admin'!$D$2,HOUR(Q9/24-INT(Q9/24))&\" \" &  'Paramètres - Admin'!$D$3 & \" \" & MINUTE(Q9/24-INT(Q9/24))&\" \" &  'Paramètres - Admin'!$D$2))))))","v":"0,00 jours"},"Valkyrie",{"$f":"'À Faire - Détails'!Q256","v":0},{"$f":"'À Faire - Détails'!R256","v":0},{"$f":"'À Faire - Détails'!Q263","v":0},{"$f":"'À Faire - Détails'!R263","v":0},{"$f":"IF($B$2='Paramètres - Admin'!$B$2,TEXT(W9*60*60,\"# 0\")&\" \" & 'Paramètres - Admin'!$B$2,IF($B$2='Paramètres - Admin'!$B$3,TEXT(W9*60,\"# 0\")&\" \" & 'Paramètres - Admin'!$B$3,IF($B$2='Paramètres - Admin'!$B$4,TEXT(W9,\"# 0,00\")&\" \" & 'Paramètres - Admin'!$B$4,IF($B$2='Paramètres - Admin'!$B$5,TEXT(W9/24,\"# 0,00\")&\" \" & 'Paramètres - Admin'!$B$5,IF($B$2='Paramètres - Admin'!$B$6,TEXT((W9/24)/30,\"# 0,00\")&\" \" & 'Paramètres - Admin'!$B$6,IF(W9/24>=1,INT(W9/24)&\" \" &  'Paramètres - Admin'!$D$4 & \" \" & HOUR(W9/24-INT(W9/24))&\" \" &  'Paramètres - Admin'!$D$3 & \" \" & MINUTE(W9/24-INT(W9/24))&\" \" &  'Paramètres - Admin'!$D$2,HOUR(W9/24-INT(W9/24))&\" \" &  'Paramètres - Admin'!$D$3 & \" \" & MINUTE(W9/24-INT(W9/24))&\" \" &  'Paramètres - Admin'!$D$2))))))","v":"0,00 jours"}]
["Réserve d'Or",{"$f":"'À Faire - Détails'!H21","v":1},{"$f":"'À Faire - Détails'!I21","v":1},{"$f":"'À Faire - Détails'!H35","v":300},{"$f":"'À Faire - Détails'!I35","v":0.25},{"$f":"IF($B$2='Paramètres - Admin'!$B$2,TEXT(E10*60*60,\"# 0\")&\" \" & 'Paramètres - Admin'!$B$2,IF($B$2='Paramètres - Admin'!$B$3,TEXT(E10*60,\"# 0\")&\" \" & 'Paramètres - Admin'!$B$3,IF($B$2='Paramètres - Admin'!$B$4,TEXT(E10,\"# 0,00\")&\" \" & 'Paramètres - Admin'!$B$4,IF($B$2='Paramètres - Admin'!$B$5,TEXT(E10/24,\"# 0,00\")&\" \" & 'Paramètres - Admin'!$B$5,IF($B$2='Paramètres - Admin'!$B$6,TEXT((E10/24)/30,\"# 0,00\")&\" \" & 'Paramètres - Admin'!$B$6,IF(E10/24>=1,INT(E10/24)&\" \" &  'Paramètres - Admin'!$D$4 & \" \" & HOUR(E10/24-INT(E10/24))&\" \" &  'Paramètres - Admin'!$D$3 & \" \" & MINUTE(E10/24-INT(E10/24))&\" \" &  'Paramètres - Admin'!$D$2,HOUR(E10/24-INT(E10/24))&\" \" &  'Paramètres - Admin'!$D$3 & \" \" & MINUTE(E10/24-INT(E10/24))&\" \" &  'Paramètres - Admin'!$D$2))))))","v":"0,01 jours"},"Laboratoire",{"$f":"'À Faire - Détails'!Q40","v":0},{"$f":"'À Faire - Détails'!R40","v":0},{"$f":"'À Faire - Détails'!Q51","v":0},{"$f":"'À Faire - Détails'!R51","v":0},{"$f":"IF($B$2='Paramètres - Admin'!$B$2,TEXT(K10*60*60,\"# 0\")&\" \" & 'Paramètres - Admin'!$B$2,IF($B$2='Paramètres - Admin'!$B$3,TEXT(K10*60,\"# 0\")&\" \" & 'Paramètres - Admin'!$B$3,IF($B$2='Paramètres - Admin'!$B$4,TEXT(K10,\"# 0,00\")&\" \" & 'Paramètres - Admin'!$B$4,IF($B$2='Paramètres - Admin'!$B$5,TEXT(K10/24,\"# 0,00\")&\" \" & 'Paramètres - Admin'!$B$5,IF($B$2='Paramètres - Admin'!$B$6,TEXT((K10/24)/30,\"# 0,00\")&\" \" & 'Paramètres - Admin'!$B$6,IF(K10/24>=1,INT(K10/24)&\" \" &  'Paramètres - Admin'!$D$4 & \" \" & HOUR(K10/24-INT(K10/24))&\" \" &  'Paramètres - Admin'!$D$3 & \" \" & MINUTE(K10/24-INT(K10/24))&\" \" &  'Paramètres - Admin'!$D$2,HOUR(K10/24-INT(K10/24))&\" \" &  'Paramètres - Admin'!$D$3 & \" \" & MINUTE(K10/24-INT(K10/24))&\" \" &  'Paramètres - Admin'!$D$2))))))","v":"0,00 jours"},"Bombe aérienne",{"$f":"'À Faire - Détails'!Q117","v":0},{"$f":"'À Faire - Détails'!R117","v":0},{"$f":"'À Faire - Détails'!Q123","v":0},{"$f":"'À Faire - Détails'!R123","v":0},{"$f":"IF($B$2='Paramètres - Admin'!$B$2,TEXT(Q10*60*60,\"# 0\")&\" \" & 'Paramètres - Admin'!$B$2,IF($B$2='Paramètres - Admin'!$B$3,TEXT(Q10*60,\"# 0\")&\" \" & 'Paramètres - Admin'!$B$3,IF($B$2='Paramètres - Admin'!$B$4,TEXT(Q10,\"# 0,00\")&\" \" & 'Paramètres - Admin'!$B$4,IF($B$2='Paramètres - Admin'!$B$5,TEXT(Q10/24,\"# 0,00\")&\" \" & 'Paramètres - Admin'!$B$5,IF($B$2='Paramètres - Admin'!$B$6,TEXT((Q10/24)/30,\"# 0,00\")&\" \" & 'Paramètres - Admin'!$B$6,IF(Q10/24>=1,INT(Q10/24)&\" \" &  'Paramètres - Admin'!$D$4 & \" \" & HOUR(Q10/24-INT(Q10/24))&\" \" &  'Paramètres - Admin'!$D$3 & \" \" & MINUTE(Q10/24-INT(Q10/24))&\" \" &  'Paramètres - Admin'!$D$2,HOUR(Q10/24-INT(Q10/24))&\" \" &  'Paramètres - Admin'!$D$3 & \" \" & MINUTE(Q10/24-INT(Q10/24))&\" \" &  'Paramètres - Admin'!$D$2))))))","v":"0,00 jours"},"Golem",{"$f":"'À Faire - Détails'!Q245","v":0},{"$f":"'À Faire - Détails'!R245","v":0},{"$f":"'À Faire - Détails'!Q253","v":0},{"$f":"'À Faire - Détails'!R253","v":0},{"$f":"IF($B$2='Paramètres - Admin'!$B$2,TEXT(W10*60*60,\"# 0\")&\" \" & 'Paramètres - Admin'!$B$2,IF($B$2='Paramètres - Admin'!$B$3,TEXT(W10*60,\"# 0\")&\" \" & 'Paramètres - Admin'!$B$3,IF($B$2='Paramètres - Admin'!$B$4,TEXT(W10,\"# 0,00\")&\" \" & 'Paramètres - Admin'!$B$4,IF($B$2='Paramètres - Admin'!$B$5,TEXT(W10/24,\"# 0,00\")&\" \" & 'Paramètres - Admin'!$B$5,IF($B$2='Paramètres - Admin'!$B$6,TEXT((W10/24)/30,\"# 0,00\")&\" \" & 'Paramètres - Admin'!$B$6,IF(W10/24>=1,INT(W10/24)&\" \" &  'Paramètres - Admin'!$D$4 & \" \" & HOUR(W10/24-INT(W10/24))&\" \" &  'Paramètres - Admin'!$D$3 & \" \" & MINUTE(W10/24-INT(W10/24))&\" \" &  'Paramètres - Admin'!$D$2,HOUR(W10/24-INT(W10/24))&\" \" &  'Paramètres - Admin'!$D$3 & \" \" & MINUTE(W10/24-INT(W10/24))&\" \" &  'Paramètres - Admin'!$D$2))))))","v":"0,00 jours"}]
["Réservoir d'Élixir",{"$f":"'À Faire - Détails'!Q21","v":1},{"$f":"'À Faire - Détails'!R21","v":1},{"$f":"'À Faire - Détails'!Q35","v":300},{"$f":"'À Faire - Détails'!R35","v":0.25},{"$f":"IF($B$2='Paramètres - Admin'!$B$2,TEXT(E11*60*60,\"# 0\")&\" \" & 'Paramètres - Admin'!$B$2,IF($B$2='Paramètres - Admin'!$B$3,TEXT(E11*60,\"# 0\")&\" \" & 'Paramètres - Admin'!$B$3,IF($B$2='Paramètres - Admin'!$B$4,TEXT(E11,\"# 0,00\")&\" \" & 'Paramètres - Admin'!$B$4,IF($B$2='Paramètres - Admin'!$B$5,TEXT(E11/24,\"# 0,00\")&\" \" & 'Paramètres - Admin'!$B$5,IF($B$2='Paramètres - Admin'!$B$6,TEXT((E11/24)/30,\"# 0,00\")&\" \" & 'Paramètres - Admin'!$B$6,IF(E11/24>=1,INT(E11/24)&\" \" &  'Paramètres - Admin'!$D$4 & \" \" & HOUR(E11/24-INT(E11/24))&\" \" &  'Paramètres - Admin'!$D$3 & \" \" & MINUTE(E11/24-INT(E11/24))&\" \" &  'Paramètres - Admin'!$D$2,HOUR(E11/24-INT(E11/24))&\" \" &  'Paramètres - Admin'!$D$3 & \" \" & MINUTE(E11/24-INT(E11/24))&\" \" &  'Paramètres - Admin'!$D$2))))))","v":"0,01 jours"},"Usine de Sorts",{"$f":"'À Faire - Détails'!Q53","v":0},{"$f":"'À Faire - Détails'!R53","v":0},{"$f":"'À Faire - Détails'!Q60","v":0},{"$f":"'À Faire - Détails'!R60","v":0},{"$f":"IF($B$2='Paramètres - Admin'!$B$2,TEXT(K11*60*60,\"# 0\")&\" \" & 'Paramètres - Admin'!$B$2,IF($B$2='Paramètres - Admin'!$B$3,TEXT(K11*60,\"# 0\")&\" \" & 'Paramètres - Admin'!$B$3,IF($B$2='Paramètres - Admin'!$B$4,TEXT(K11,\"# 0,00\")&\" \" & 'Paramètres - Admin'!$B$4,IF($B$2='Paramètres - Admin'!$B$5,TEXT(K11/24,\"# 0,00\")&\" \" & 'Paramètres - Admin'!$B$5,IF($B$2='Paramètres - Admin'!$B$6,TEXT((K11/24)/30,\"# 0,00\")&\" \" & 'Paramètres - Admin'!$B$6,IF(K11/24>=1,INT(K11/24)&\" \" &  'Paramètres - Admin'!$D$4 & \" \" & HOUR(K11/24-INT(K11/24))&\" \" &  'Paramètres - Admin'!$D$3 & \" \" & MINUTE(K11/24-INT(K11/24))&\" \" &  'Paramètres - Admin'!$D$2,HOUR(K11/24-INT(K11/24))&\" \" &  'Paramètres - Admin'!$D$3 & \" \" & MINUTE(K11/24-INT(K11/24))&\" \" &  'Paramètres - Admin'!$D$2))))))","v":"0,00 jours"},"Tête chercheuse",{"$f":"'À Faire - Détails'!Q125","v":0},{"$f":"'À Faire - Détails'!R125","v":0},{"$f":"'À Faire - Détails'!Q130","v":0},{"$f":"'À Faire - Détails'!R130","v":0},{"$f":"IF($B$2='Paramètres - Admin'!$B$2,TEXT(Q11*60*60,\"# 0\")&\" \" & 'Paramètres - Admin'!$B$2,IF($B$2='Paramètres - Admin'!$B$3,TEXT(Q11*60,\"# 0\")&\" \" & 'Paramètres - Admin'!$B$3,IF($B$2='Paramètres - Admin'!$B$4,TEXT(Q11,\"# 0,00\")&\" \" & 'Paramètres - Admin'!$B$4,IF($B$2='Paramètres - Admin'!$B$5,TEXT(Q11/24,\"# 0,00\")&\" \" & 'Paramètres - Admin'!$B$5,IF($B$2='Paramètres - Admin'!$B$6,TEXT((Q11/24)/30,\"# 0,00\")&\" \" & 'Paramètres - Admin'!$B$6,IF(Q11/24>=1,INT(Q11/24)&\" \" &  'Paramètres - Admin'!$D$4 & \" \" & HOUR(Q11/24-INT(Q11/24))&\" \" &  'Paramètres - Admin'!$D$3 & \" \" & MINUTE(Q11/24-INT(Q11/24))&\" \" &  'Paramètres - Admin'!$D$2,HOUR(Q11/24-INT(Q11/24))&\" \" &  'Paramètres - Admin'!$D$3 & \" \" & MINUTE(Q11/24-INT(Q11/24))&\" \" &  'Paramètres - Admin'!$D$2))))))","v":"0,00 jours"},"Sorcière",{"$f":"'À Faire - Détails'!Z245","v":0},{"$f":"'À Faire - Détails'!AA245","v":0},{"$f":"'À Faire - Détails'!Z248","v":0},{"$f":"'À Faire - Détails'!AA250","v":0},{"$f":"IF($B$2='Paramètres - Admin'!$B$2,TEXT(W11*60*60,\"# 0\")&\" \" & 'Paramètres - Admin'!$B$2,IF($B$2='Paramètres - Admin'!$B$3,TEXT(W11*60,\"# 0\")&\" \" & 'Paramètres - Admin'!$B$3,IF($B$2='Paramètres - Admin'!$B$4,TEXT(W11,\"# 0,00\")&\" \" & 'Paramètres - Admin'!$B$4,IF($B$2='Paramètres - Admin'!$B$5,TEXT(W11/24,\"# 0,00\")&\" \" & 'Paramètres - Admin'!$B$5,IF($B$2='Paramètres - Admin'!$B$6,TEXT((W11/24)/30,\"# 0,00\")&\" \" & 'Paramètres - Admin'!$B$6,IF(W11/24>=1,INT(W11/24)&\" \" &  'Paramètres - Admin'!$D$4 & \" \" & HOUR(W11/24-INT(W11/24))&\" \" &  'Paramètres - Admin'!$D$3 & \" \" & MINUTE(W11/24-INT(W11/24))&\" \" &  'Paramètres - Admin'!$D$2,HOUR(W11/24-INT(W11/24))&\" \" &  'Paramètres - Admin'!$D$3 & \" \" & MINUTE(W11/24-INT(W11/24))&\" \" &  'Paramètres - Admin'!$D$2))))))","v":"0,00 jours"}]
["Réservoir d'Élixir Noir",{"$f":"'À Faire - Détails'!Z21","v":0},{"$f":"'À Faire - Détails'!AA21","v":0},{"$f":"'À Faire - Détails'!Z29","v":0},{"$f":"'À Faire - Détails'!AA29","v":0},{"$f":"IF($B$2='Paramètres - Admin'!$B$2,TEXT(E12*60*60,\"# 0\")&\" \" & 'Paramètres - Admin'!$B$2,IF($B$2='Paramètres - Admin'!$B$3,TEXT(E12*60,\"# 0\")&\" \" & 'Paramètres - Admin'!$B$3,IF($B$2='Paramètres - Admin'!$B$4,TEXT(E12,\"# 0,00\")&\" \" & 'Paramètres - Admin'!$B$4,IF($B$2='Paramètres - Admin'!$B$5,TEXT(E12/24,\"# 0,00\")&\" \" & 'Paramètres - Admin'!$B$5,IF($B$2='Paramètres - Admin'!$B$6,TEXT((E12/24)/30,\"# 0,00\")&\" \" & 'Paramètres - Admin'!$B$6,IF(E12/24>=1,INT(E12/24)&\" \" &  'Paramètres - Admin'!$D$4 & \" \" & HOUR(E12/24-INT(E12/24))&\" \" &  'Paramètres - Admin'!$D$3 & \" \" & MINUTE(E12/24-INT(E12/24))&\" \" &  'Paramètres - Admin'!$D$2,HOUR(E12/24-INT(E12/24))&\" \" &  'Paramètres - Admin'!$D$3 & \" \" & MINUTE(E12/24-INT(E12/24))&\" \" &  'Paramètres - Admin'!$D$2))))))","v":"0,00 jours"},"Usine de Sorts Noirs",{"$f":"'À Faire - Détails'!H56","v":0},{"$f":"'À Faire - Détails'!I56","v":0},{"$f":"'À Faire - Détails'!H62","v":0},{"$f":"'À Faire - Détails'!I62","v":0},{"$f":"IF($B$2='Paramètres - Admin'!$B$2,TEXT(K12*60*60,\"# 0\")&\" \" & 'Paramètres - Admin'!$B$2,IF($B$2='Paramètres - Admin'!$B$3,TEXT(K12*60,\"# 0\")&\" \" & 'Paramètres - Admin'!$B$3,IF($B$2='Paramètres - Admin'!$B$4,TEXT(K12,\"# 0,00\")&\" \" & 'Paramètres - Admin'!$B$4,IF($B$2='Paramètres - Admin'!$B$5,TEXT(K12/24,\"# 0,00\")&\" \" & 'Paramètres - Admin'!$B$5,IF($B$2='Paramètres - Admin'!$B$6,TEXT((K12/24)/30,\"# 0,00\")&\" \" & 'Paramètres - Admin'!$B$6,IF(K12/24>=1,INT(K12/24)&\" \" &  'Paramètres - Admin'!$D$4 & \" \" & HOUR(K12/24-INT(K12/24))&\" \" &  'Paramètres - Admin'!$D$3 & \" \" & MINUTE(K12/24-INT(K12/24))&\" \" &  'Paramètres - Admin'!$D$2,HOUR(K12/24-INT(K12/24))&\" \" &  'Paramètres - Admin'!$D$3 & \" \" & MINUTE(K12/24-INT(K12/24))&\" \" &  'Paramètres - Admin'!$D$2))))))","v":"0,00 jours"},"Piège squelettique",{"$f":"'À Faire - Détails'!Z126","v":0},{"$f":"'À Faire - Détails'!AA126","v":0},{"$f":"'À Faire - Détails'!Z131","v":0},{"$f":"'À Faire - Détails'!AA131","v":0},{"$f":"IF($B$2='Paramètres - Admin'!$B$2,TEXT(Q12*60*60,\"# 0\")&\" \" & 'Paramètres - Admin'!$B$2,IF($B$2='Paramètres - Admin'!$B$3,TEXT(Q12*60,\"# 0\")&\" \" & 'Paramètres - Admin'!$B$3,IF($B$2='Paramètres - Admin'!$B$4,TEXT(Q12,\"# 0,00\")&\" \" & 'Paramètres - Admin'!$B$4,IF($B$2='Paramètres - Admin'!$B$5,TEXT(Q12/24,\"# 0,00\")&\" \" & 'Paramètres - Admin'!$B$5,IF($B$2='Paramètres - Admin'!$B$6,TEXT((Q12/24)/30,\"# 0,00\")&\" \" & 'Paramètres - Admin'!$B$6,IF(Q12/24>=1,INT(Q12/24)&\" \" &  'Paramètres - Admin'!$D$4 & \" \" & HOUR(Q12/24-INT(Q12/24))&\" \" &  'Paramètres - Admin'!$D$3 & \" \" & MINUTE(Q12/24-INT(Q12/24))&\" \" &  'Paramètres - Admin'!$D$2,HOUR(Q12/24-INT(Q12/24))&\" \" &  'Paramètres - Admin'!$D$3 & \" \" & MINUTE(Q12/24-INT(Q12/24))&\" \" &  'Paramètres - Admin'!$D$2))))))","v":"0,00 jours"},"Molosse de lave",{"$f":"'À Faire - Détails'!Z252","v":0},{"$f":"'À Faire - Détails'!AA252","v":0},{"$f":"'À Faire - Détails'!Z258","v":0},{"$f":"'À Faire - Détails'!AA258","v":0},{"$f":"IF($B$2='Paramètres - Admin'!$B$2,TEXT(W12*60*60,\"# 0\")&\" \" & 'Paramètres - Admin'!$B$2,IF($B$2='Paramètres - Admin'!$B$3,TEXT(W12*60,\"# 0\")&\" \" & 'Paramètres - Admin'!$B$3,IF($B$2='Paramètres - Admin'!$B$4,TEXT(W12,\"# 0,00\")&\" \" & 'Paramètres - Admin'!$B$4,IF($B$2='Paramètres - Admin'!$B$5,TEXT(W12/24,\"# 0,00\")&\" \" & 'Paramètres - Admin'!$B$5,IF($B$2='Paramètres - Admin'!$B$6,TEXT((W12/24)/30,\"# 0,00\")&\" \" & 'Paramètres - Admin'!$B$6,IF(W12/24>=1,INT(W12/24)&\" \" &  'Paramètres - Admin'!$D$4 & \" \" & HOUR(W12/24-INT(W12/24))&\" \" &  'Paramètres - Admin'!$D$3 & \" \" & MINUTE(W12/24-INT(W12/24))&\" \" &  'Paramètres - Admin'!$D$2,HOUR(W12/24-INT(W12/24))&\" \" &  'Paramètres - Admin'!$D$3 & \" \" & MINUTE(W12/24-INT(W12/24))&\" \" &  'Paramètres - Admin'!$D$2))))))","v":"0,00 jours"}]
["Total",{"$f":"SUM(B7:B12)","v":4},{"$f":"SUM(C7:C12)","v":6},{"$f":"SUM(D7:D12)","v":1500},{"$f":"SUM(E7:E12)","v":0.7},{"$f":"IF($B$2='Paramètres - Admin'!$B$2,TEXT(E13*60*60,\"# 0\")&\" \" & 'Paramètres - Admin'!$B$2,IF($B$2='Paramètres - Admin'!$B$3,TEXT(E13*60,\"# 0\")&\" \" & 'Paramètres - Admin'!$B$3,IF($B$2='Paramètres - Admin'!$B$4,TEXT(E13,\"# 0,00\")&\" \" & 'Paramètres - Admin'!$B$4,IF($B$2='Paramètres - Admin'!$B$5,TEXT(E13/24,\"# 0,00\")&\" \" & 'Paramètres - Admin'!$B$5,IF($B$2='Paramètres - Admin'!$B$6,TEXT((E13/24)/30,\"# 0,00\")&\" \" & 'Paramètres - Admin'!$B$6,IF(E13/24>=1,INT(E13/24)&\" \" &  'Paramètres - Admin'!$D$4 & \" \" & HOUR(E13/24-INT(E13/24))&\" \" &  'Paramètres - Admin'!$D$3 & \" \" & MINUTE(E13/24-INT(E13/24))&\" \" &  'Paramètres - Admin'!$D$2,HOUR(E13/24-INT(E13/24))&\" \" &  'Paramètres - Admin'!$D$3 & \" \" & MINUTE(E13/24-INT(E13/24))&\" \" &  'Paramètres - Admin'!$D$2))))))","v":"0,03 jours"},"Total",{"$f":"SUM(H7:H12)","v":2},{"$f":"SUM(I7:I12)","v":4},{"$f":"SUM(J7:J12)","v":3950},{"$f":"SUM(K7:K12)","v":2.3533333333333335},{"$f":"IF($B$2='Paramètres - Admin'!$B$2,TEXT(K13*60*60,\"# 0\")&\" \" & 'Paramètres - Admin'!$B$2,IF($B$2='Paramètres - Admin'!$B$3,TEXT(K13*60,\"# 0\")&\" \" & 'Paramètres - Admin'!$B$3,IF($B$2='Paramètres - Admin'!$B$4,TEXT(K13,\"# 0,00\")&\" \" & 'Paramètres - Admin'!$B$4,IF($B$2='Paramètres - Admin'!$B$5,TEXT(K13/24,\"# 0,00\")&\" \" & 'Paramètres - Admin'!$B$5,IF($B$2='Paramètres - Admin'!$B$6,TEXT((K13/24)/30,\"# 0,00\")&\" \" & 'Paramètres - Admin'!$B$6,IF(K13/24>=1,INT(K13/24)&\" \" &  'Paramètres - Admin'!$D$4 & \" \" & HOUR(K13/24-INT(K13/24))&\" \" &  'Paramètres - Admin'!$D$3 & \" \" & MINUTE(K13/24-INT(K13/24))&\" \" &  'Paramètres - Admin'!$D$2,HOUR(K13/24-INT(K13/24))&\" \" &  'Paramètres - Admin'!$D$3 & \" \" & MINUTE(K13/24-INT(K13/24))&\" \" &  'Paramètres - Admin'!$D$2))))))","v":"0,10 jours"},"Total",{"$f":"SUM(N7:N12)","v":0},{"$f":"SUM(O7:O12)","v":0},{"$f":"SUM(P7:P12)","v":0},{"$f":"SUM(Q7:Q12)","v":0},{"$f":"IF($B$2='Paramètres - Admin'!$B$2,TEXT(Q13*60*60,\"# 0\")&\" \" & 'Paramètres - Admin'!$B$2,IF($B$2='Paramètres - Admin'!$B$3,TEXT(Q13*60,\"# 0\")&\" \" & 'Paramètres - Admin'!$B$3,IF($B$2='Paramètres - Admin'!$B$4,TEXT(Q13,\"# 0,00\")&\" \" & 'Paramètres - Admin'!$B$4,IF($B$2='Paramètres - Admin'!$B$5,TEXT(Q13/24,\"# 0,00\")&\" \" & 'Paramètres - Admin'!$B$5,IF($B$2='Paramètres - Admin'!$B$6,TEXT((Q13/24)/30,\"# 0,00\")&\" \" & 'Paramètres - Admin'!$B$6,IF(Q13/24>=1,INT(Q13/24)&\" \" &  'Paramètres - Admin'!$D$4 & \" \" & HOUR(Q13/24-INT(Q13/24))&\" \" &  'Paramètres - Admin'!$D$3 & \" \" & MINUTE(Q13/24-INT(Q13/24))&\" \" &  'Paramètres - Admin'!$D$2,HOUR(Q13/24-INT(Q13/24))&\" \" &  'Paramètres - Admin'!$D$3 & \" \" & MINUTE(Q13/24-INT(Q13/24))&\" \" &  'Paramètres - Admin'!$D$2))))))","v":"0,00 jours"},"Bouliste",{"$f":"'À Faire - Détails'!Z260","v":0},{"$f":"'À Faire - Détails'!AA260","v":0},{"$f":"'À Faire - Détails'!Z265","v":0},{"$f":"'À Faire - Détails'!AA265","v":0},{"$f":"IF($B$2='Paramètres - Admin'!$B$2,TEXT(W13*60*60,\"# 0\")&\" \" & 'Paramètres - Admin'!$B$2,IF($B$2='Paramètres - Admin'!$B$3,TEXT(W13*60,\"# 0\")&\" \" & 'Paramètres - Admin'!$B$3,IF($B$2='Paramètres - Admin'!$B$4,TEXT(W13,\"# 0,00\")&\" \" & 'Paramètres - Admin'!$B$4,IF($B$2='Paramètres - Admin'!$B$5,TEXT(W13/24,\"# 0,00\")&\" \" & 'Paramètres - Admin'!$B$5,IF($B$2='Paramètres - Admin'!$B$6,TEXT((W13/24)/30,\"# 0,00\")&\" \" & 'Paramètres - Admin'!$B$6,IF(W13/24>=1,INT(W13/24)&\" \" &  'Paramètres - Admin'!$D$4 & \" \" & HOUR(W13/24-INT(W13/24))&\" \" &  'Paramètres - Admin'!$D$3 & \" \" & MINUTE(W13/24-INT(W13/24))&\" \" &  'Paramètres - Admin'!$D$2,HOUR(W13/24-INT(W13/24))&\" \" &  'Paramètres - Admin'!$D$3 & \" \" & MINUTE(W13/24-INT(W13/24))&\" \" &  'Paramètres - Admin'!$D$2))))))","v":"0,00 jours"}]
[null,null,null,null,null,null,null,null,null,null,null,null,null,null,null,null,null,null,"Total",{"$f":"SUM(T7:T13)","v":0},{"$f":"SUM(U7:U13)","v":0},{"$f":"SUM(V7:V13)","v":0},{"$f":"SUM(W7:W13)","v":0},{"$f":"IF($B$2='Paramètres - Admin'!$B$2,TEXT(W14*60*60,\"# 0\")&\" \" & 'Paramètres - Admin'!$B$2,IF($B$2='Paramètres - Admin'!$B$3,TEXT(W14*60,\"# 0\")&\" \" & 'Paramètres - Admin'!$B$3,IF($B$2='Paramètres - Admin'!$B$4,TEXT(W14,\"# 0,00\")&\" \" & 'Paramètres - Admin'!$B$4,IF($B$2='Paramètres - Admin'!$B$5,TEXT(W14/24,\"# 0,00\")&\" \" & 'Paramètres - Admin'!$B$5,IF($B$2='Paramètres - Admin'!$B$6,TEXT((W14/24)/30,\"# 0,00\")&\" \" & 'Paramètres - Admin'!$B$6,IF(W14/24>=1,INT(W14/24)&\" \" &  'Paramètres - Admin'!$D$4 & \" \" & HOUR(W14/24-INT(W14/24))&\" \" &  'Paramètres - Admin'!$D$3 & \" \" & MINUTE(W14/24-INT(W14/24))&\" \" &  'Paramètres - Admin'!$D$2,HOUR(W14/24-INT(W14/24))&\" \" &  'Paramètres - Admin'!$D$3 & \" \" & MINUTE(W14/24-INT(W14/24))&\" \" &  'Paramètres - Admin'!$D$2))))))","v":"0,00 jours"}]
["Bâtiments Défensifs",null,null,null,null,null,"Améliorations de Troupes",null,null,null,null,null,"Améliorations de Sorts",null,null,null,null,null,"Améliorations de Sorts Noirs"]
["Bâtiment","À Faire","Up.","Coût Total","Temps Total","Temps Total","Troupe Normale","À Faire","Up.","Coût Total","Temps Total","Temps Total","Sort","À Faire","Up.","Coût Total","Temps Total","Temps Total","Sort","À Faire","Up.","Coût Total","Temps Total","Temps Total"]
["Rempart",{"$f":"'À Faire - Détails'!Q67","v":0},{"$f":"'À Faire - Détails'!R67","v":0},{"$f":"'À Faire - Détails'!Q81","v":0},{"$f":"'À Faire - Détails'!R81","v":0},{"$f":"IF($B$2='Paramètres - Admin'!$B$2,TEXT(E17*60*60,\"# 0\")&\" \" & 'Paramètres - Admin'!$B$2,IF($B$2='Paramètres - Admin'!$B$3,TEXT(E17*60,\"# 0\")&\" \" & 'Paramètres - Admin'!$B$3,IF($B$2='Paramètres - Admin'!$B$4,TEXT(E17,\"# 0,00\")&\" \" & 'Paramètres - Admin'!$B$4,IF($B$2='Paramètres - Admin'!$B$5,TEXT(E17/24,\"# 0,00\")&\" \" & 'Paramètres - Admin'!$B$5,IF($B$2='Paramètres - Admin'!$B$6,TEXT((E17/24)/30,\"# 0,00\")&\" \" & 'Paramètres - Admin'!$B$6,IF(E17/24>=1,INT(E17/24)&\" \" &  'Paramètres - Admin'!$D$4 & \" \" & HOUR(E17/24-INT(E17/24))&\" \" &  'Paramètres - Admin'!$D$3 & \" \" & MINUTE(E17/24-INT(E17/24))&\" \" &  'Paramètres - Admin'!$D$2,HOUR(E17/24-INT(E17/24))&\" \" &  'Paramètres - Admin'!$D$3 & \" \" & MINUTE(E17/24-INT(E17/24))&\" \" &  'Paramètres - Admin'!$D$2))))))","v":"0,00 jours"},"Barbare",{"$f":"'À Faire - Détails'!H179","v":0},{"$f":"'À Faire - Détails'!I179","v":0},{"$f":"'À Faire - Détails'!H188","v":0},{"$f":"'À Faire - Détails'!I188","v":0},{"$f":"IF($B$2='Paramètres - Admin'!$B$2,TEXT(K17*60*60,\"# 0\")&\" \" & 'Paramètres - Admin'!$B$2,IF($B$2='Paramètres - Admin'!$B$3,TEXT(K17*60,\"# 0\")&\" \" & 'Paramètres - Admin'!$B$3,IF($B$2='Paramètres - Admin'!$B$4,TEXT(K17,\"# 0,00\")&\" \" & 'Paramètres - Admin'!$B$4,IF($B$2='Paramètres - Admin'!$B$5,TEXT(K17/24,\"# 0,00\")&\" \" & 'Paramètres - Admin'!$B$5,IF($B$2='Paramètres - Admin'!$B$6,TEXT((K17/24)/30,\"# 0,00\")&\" \" & 'Paramètres - Admin'!$B$6,IF(K17/24>=1,INT(K17/24)&\" \" &  'Paramètres - Admin'!$D$4 & \" \" & HOUR(K17/24-INT(K17/24))&\" \" &  'Paramètres - Admin'!$D$3 & \" \" & MINUTE(K17/24-INT(K17/24))&\" \" &  'Paramètres - Admin'!$D$2,HOUR(K17/24-INT(K17/24))&\" \" &  'Paramètres - Admin'!$D$3 & \" \" & MINUTE(K17/24-INT(K17/24))&\" \" &  'Paramètres - Admin'!$D$2))))))","v":"0,00 jours"},"Sort de Foudre",{"$f":"'À Faire - Détails'!H156","v":0},{"$f":"'À Faire - Détails'!I156","v":0},{"$f":"'À Faire - Détails'!H165","v":0},{"$f":"'À Faire - Détails'!I165","v":0},{"$f":"IF($B$2='Paramètres - Admin'!$B$2,TEXT(Q17*60*60,\"# 0\")&\" \" & 'Paramètres - Admin'!$B$2,IF($B$2='Paramètres - Admin'!$B$3,TEXT(Q17*60,\"# 0\")&\" \" & 'Paramètres - Admin'!$B$3,IF($B$2='Paramètres - Admin'!$B$4,TEXT(Q17,\"# 0,00\")&\" \" & 'Paramètres - Admin'!$B$4,IF($B$2='Paramètres - Admin'!$B$5,TEXT(Q17/24,\"# 0,00\")&\" \" & 'Paramètres - Admin'!$B$5,IF($B$2='Paramètres - Admin'!$B$6,TEXT((Q17/24)/30,\"# 0,00\")&\" \" & 'Paramètres - Admin'!$B$6,IF(Q17/24>=1,INT(Q17/24)&\" \" &  'Paramètres - Admin'!$D$4 & \" \" & HOUR(Q17/24-INT(Q17/24))&\" \" &  'Paramètres - Admin'!$D$3 & \" \" & MINUTE(Q17/24-INT(Q17/24))&\" \" &  'Paramètres - Admin'!$D$2,HOUR(Q17/24-INT(Q17/24))&\" \" &  'Paramètres - Admin'!$D$3 & \" \" & MINUTE(Q17/24-INT(Q17/24))&\" \" &  'Paramètres - Admin'!$D$2))))))","v":"0,00 jours"},"Sort de Poison",{"$f":"'À Faire - Détails'!H225","v":0},{"$f":"'À Faire - Détails'!I225","v":0},{"$f":"'À Faire - Détails'!H232","v":0},{"$f":"'À Faire - Détails'!I232","v":0},{"$f":"IF($B$2='Paramètres - Admin'!$B$2,TEXT(W17*60*60,\"# 0\")&\" \" & 'Paramètres - Admin'!$B$2,IF($B$2='Paramètres - Admin'!$B$3,TEXT(W17*60,\"# 0\")&\" \" & 'Paramètres - Admin'!$B$3,IF($B$2='Paramètres - Admin'!$B$4,TEXT(W17,\"# 0,00\")&\" \" & 'Paramètres - Admin'!$B$4,IF($B$2='Paramètres - Admin'!$B$5,TEXT(W17/24,\"# 0,00\")&\" \" & 'Paramètres - Admin'!$B$5,IF($B$2='Paramètres - Admin'!$B$6,TEXT((W17/24)/30,\"# 0,00\")&\" \" & 'Paramètres - Admin'!$B$6,IF(W17/24>=1,INT(W17/24)&\" \" &  'Paramètres - Admin'!$D$4 & \" \" & HOUR(W17/24-INT(W17/24))&\" \" &  'Paramètres - Admin'!$D$3 & \" \" & MINUTE(W17/24-INT(W17/24))&\" \" &  'Paramètres - Admin'!$D$2,HOUR(W17/24-INT(W17/24))&\" \" &  'Paramètres - Admin'!$D$3 & \" \" & MINUTE(W17/24-INT(W17/24))&\" \" &  'Paramètres - Admin'!$D$2))))))","v":"0,00 jours"}]
["Canon",{"$f":"'À Faire - Détails'!H67","v":2},{"$f":"'À Faire - Détails'!I67","v":4},{"$f":"'À Faire - Détails'!H83","v":2500},{"$f":"'À Faire - Détails'!I83","v":0.53333333333333333},{"$f":"IF($B$2='Paramètres - Admin'!$B$2,TEXT(E18*60*60,\"# 0\")&\" \" & 'Paramètres - Admin'!$B$2,IF($B$2='Paramètres - Admin'!$B$3,TEXT(E18*60,\"# 0\")&\" \" & 'Paramètres - Admin'!$B$3,IF($B$2='Paramètres - Admin'!$B$4,TEXT(E18,\"# 0,00\")&\" \" & 'Paramètres - Admin'!$B$4,IF($B$2='Paramètres - Admin'!$B$5,TEXT(E18/24,\"# 0,00\")&\" \" & 'Paramètres - Admin'!$B$5,IF($B$2='Paramètres - Admin'!$B$6,TEXT((E18/24)/30,\"# 0,00\")&\" \" & 'Paramètres - Admin'!$B$6,IF(E18/24>=1,INT(E18/24)&\" \" &  'Paramètres - Admin'!$D$4 & \" \" & HOUR(E18/24-INT(E18/24))&\" \" &  'Paramètres - Admin'!$D$3 & \" \" & MINUTE(E18/24-INT(E18/24))&\" \" &  'Paramètres - Admin'!$D$2,HOUR(E18/24-INT(E18/24))&\" \" &  'Paramètres - Admin'!$D$3 & \" \" & MINUTE(E18/24-INT(E18/24))&\" \" &  'Paramètres - Admin'!$D$2))))))","v":"0,02 jours"},"Archer",{"$f":"'À Faire - Détails'!H190","v":0},{"$f":"'À Faire - Détails'!I190","v":0},{"$f":"'À Faire - Détails'!H199","v":0},{"$f":"'À Faire - Détails'!I199","v":0},{"$f":"IF($B$2='Paramètres - Admin'!$B$2,TEXT(K18*60*60,\"# 0\")&\" \" & 'Paramètres - Admin'!$B$2,IF($B$2='Paramètres - Admin'!$B$3,TEXT(K18*60,\"# 0\")&\" \" & 'Paramètres - Admin'!$B$3,IF($B$2='Paramètres - Admin'!$B$4,TEXT(K18,\"# 0,00\")&\" \" & 'Paramètres - Admin'!$B$4,IF($B$2='Paramètres - Admin'!$B$5,TEXT(K18/24,\"# 0,00\")&\" \" & 'Paramètres - Admin'!$B$5,IF($B$2='Paramètres - Admin'!$B$6,TEXT((K18/24)/30,\"# 0,00\")&\" \" & 'Paramètres - Admin'!$B$6,IF(K18/24>=1,INT(K18/24)&\" \" &  'Paramètres - Admin'!$D$4 & \" \" & HOUR(K18/24-INT(K18/24))&\" \" &  'Paramètres - Admin'!$D$3 & \" \" & MINUTE(K18/24-INT(K18/24))&\" \" &  'Paramètres - Admin'!$D$2,HOUR(K18/24-INT(K18/24))&\" \" &  'Paramètres - Admin'!$D$3 & \" \" & MINUTE(K18/24-INT(K18/24))&\" \" &  'Paramètres - Admin'!$D$2))))))","v":"0,00 jours"},"Sort de Guérison",{"$f":"'À Faire - Détails'!Q156","v":0},{"$f":"'À Faire - Détails'!R156","v":0},{"$f":"'À Faire - Détails'!Q164","v":0},{"$f":"'À Faire - Détails'!R164","v":0},{"$f":"IF($B$2='Paramètres - Admin'!$B$2,TEXT(Q18*60*60,\"# 0\")&\" \" & 'Paramètres - Admin'!$B$2,IF($B$2='Paramètres - Admin'!$B$3,TEXT(Q18*60,\"# 0\")&\" \" & 'Paramètres - Admin'!$B$3,IF($B$2='Paramètres - Admin'!$B$4,TEXT(Q18,\"# 0,00\")&\" \" & 'Paramètres - Admin'!$B$4,IF($B$2='Paramètres - Admin'!$B$5,TEXT(Q18/24,\"# 0,00\")&\" \" & 'Paramètres - Admin'!$B$5,IF($B$2='Paramètres - Admin'!$B$6,TEXT((Q18/24)/30,\"# 0,00\")&\" \" & 'Paramètres - Admin'!$B$6,IF(Q18/24>=1,INT(Q18/24)&\" \" &  'Paramètres - Admin'!$D$4 & \" \" & HOUR(Q18/24-INT(Q18/24))&\" \" &  'Paramètres - Admin'!$D$3 & \" \" & MINUTE(Q18/24-INT(Q18/24))&\" \" &  'Paramètres - Admin'!$D$2,HOUR(Q18/24-INT(Q18/24))&\" \" &  'Paramètres - Admin'!$D$3 & \" \" & MINUTE(Q18/24-INT(Q18/24))&\" \" &  'Paramètres - Admin'!$D$2))))))","v":"0,00 jours"},"Sort de Séisme",{"$f":"'À Faire - Détails'!Z225","v":0},{"$f":"'À Faire - Détails'!AA225","v":0},{"$f":"'À Faire - Détails'!Z231","v":0},{"$f":"'À Faire - Détails'!AA231","v":0},{"$f":"IF($B$2='Paramètres - Admin'!$B$2,TEXT(W18*60*60,\"# 0\")&\" \" & 'Paramètres - Admin'!$B$2,IF($B$2='Paramètres - Admin'!$B$3,TEXT(W18*60,\"# 0\")&\" \" & 'Paramètres - Admin'!$B$3,IF($B$2='Paramètres - Admin'!$B$4,TEXT(W18,\"# 0,00\")&\" \" & 'Paramètres - Admin'!$B$4,IF($B$2='Paramètres - Admin'!$B$5,TEXT(W18/24,\"# 0,00\")&\" \" & 'Paramètres - Admin'!$B$5,IF($B$2='Paramètres - Admin'!$B$6,TEXT((W18/24)/30,\"# 0,00\")&\" \" & 'Paramètres - Admin'!$B$6,IF(W18/24>=1,INT(W18/24)&\" \" &  'Paramètres - Admin'!$D$4 & \" \" & HOUR(W18/24-INT(W18/24))&\" \" &  'Paramètres - Admin'!$D$3 & \" \" & MINUTE(W18/24-INT(W18/24))&\" \" &  'Paramètres - Admin'!$D$2,HOUR(W18/24-INT(W18/24))&\" \" &  'Paramètres - Admin'!$D$3 & \" \" & MINUTE(W18/24-INT(W18/24))&\" \" &  'Paramètres - Admin'!$D$2))))))","v":"0,00 jours"}]
["Tour d'Archers",{"$f":"'À Faire - Détails'!Z67","v":0},{"$f":"'À Faire - Détails'!AA67","v":0},{"$f":"'À Faire - Détails'!Z82","v":0},{"$f":"'À Faire - Détails'!AA82","v":0},{"$f":"IF($B$2='Paramètres - Admin'!$B$2,TEXT(E19*60*60,\"# 0\")&\" \" & 'Paramètres - Admin'!$B$2,IF($B$2='Paramètres - Admin'!$B$3,TEXT(E19*60,\"# 0\")&\" \" & 'Paramètres - Admin'!$B$3,IF($B$2='Paramètres - Admin'!$B$4,TEXT(E19,\"# 0,00\")&\" \" & 'Paramètres - Admin'!$B$4,IF($B$2='Paramètres - Admin'!$B$5,TEXT(E19/24,\"# 0,00\")&\" \" & 'Paramètres - Admin'!$B$5,IF($B$2='Paramètres - Admin'!$B$6,TEXT((E19/24)/30,\"# 0,00\")&\" \" & 'Paramètres - Admin'!$B$6,IF(E19/24>=1,INT(E19/24)&\" \" &  'Paramètres - Admin'!$D$4 & \" \" & HOUR(E19/24-INT(E19/24))&\" \" &  'Paramètres - Admin'!$D$3 & \" \" & MINUTE(E19/24-INT(E19/24))&\" \" &  'Paramètres - Admin'!$D$2,HOUR(E19/24-INT(E19/24))&\" \" &  'Paramètres - Admin'!$D$3 & \" \" & MINUTE(E19/24-INT(E19/24))&\" \" &  'Paramètres - Admin'!$D$2))))))","v":"0,00 jours"},"Gobelin",{"$f":"'À Faire - Détails'!Q201","v":0},{"$f":"'À Faire - Détails'!R201","v":0},{"$f":"'À Faire - Détails'!Q210","v":0},{"$f":"'À Faire - Détails'!R210","v":0},{"$f":"IF($B$2='Paramètres - Admin'!$B$2,TEXT(K19*60*60,\"# 0\")&\" \" & 'Paramètres - Admin'!$B$2,IF($B$2='Paramètres - Admin'!$B$3,TEXT(K19*60,\"# 0\")&\" \" & 'Paramètres - Admin'!$B$3,IF($B$2='Paramètres - Admin'!$B$4,TEXT(K19,\"# 0,00\")&\" \" & 'Paramètres - Admin'!$B$4,IF($B$2='Paramètres - Admin'!$B$5,TEXT(K19/24,\"# 0,00\")&\" \" & 'Paramètres - Admin'!$B$5,IF($B$2='Paramètres - Admin'!$B$6,TEXT((K19/24)/30,\"# 0,00\")&\" \" & 'Paramètres - Admin'!$B$6,IF(K19/24>=1,INT(K19/24)&\" \" &  'Paramètres - Admin'!$D$4 & \" \" & HOUR(K19/24-INT(K19/24))&\" \" &  'Paramètres - Admin'!$D$3 & \" \" & MINUTE(K19/24-INT(K19/24))&\" \" &  'Paramètres - Admin'!$D$2,HOUR(K19/24-INT(K19/24))&\" \" &  'Paramètres - Admin'!$D$3 & \" \" & MINUTE(K19/24-INT(K19/24))&\" \" &  'Paramètres - Admin'!$D$2))))))","v":"0,00 jours"},"Sort de Rage",{"$f":"'À Faire - Détails'!H167","v":0},{"$f":"'À Faire - Détails'!I167","v":0},{"$f":"'À Faire - Détails'!H174","v":0},{"$f":"'À Faire - Détails'!I174","v":0},{"$f":"IF($B$2='Paramètres - Admin'!$B$2,TEXT(Q19*60*60,\"# 0\")&\" \" & 'Paramètres - Admin'!$B$2,IF($B$2='Paramètres - Admin'!$B$3,TEXT(Q19*60,\"# 0\")&\" \" & 'Paramètres - Admin'!$B$3,IF($B$2='Paramètres - Admin'!$B$4,TEXT(Q19,\"# 0,00\")&\" \" & 'Paramètres - Admin'!$B$4,IF($B$2='Paramètres - Admin'!$B$5,TEXT(Q19/24,\"# 0,00\")&\" \" & 'Paramètres - Admin'!$B$5,IF($B$2='Paramètres - Admin'!$B$6,TEXT((Q19/24)/30,\"# 0,00\")&\" \" & 'Paramètres - Admin'!$B$6,IF(Q19/24>=1,INT(Q19/24)&\" \" &  'Paramètres - Admin'!$D$4 & \" \" & HOUR(Q19/24-INT(Q19/24))&\" \" &  'Paramètres - Admin'!$D$3 & \" \" & MINUTE(Q19/24-INT(Q19/24))&\" \" &  'Paramètres - Admin'!$D$2,HOUR(Q19/24-INT(Q19/24))&\" \" &  'Paramètres - Admin'!$D$3 & \" \" & MINUTE(Q19/24-INT(Q19/24))&\" \" &  'Paramètres - Admin'!$D$2))))))","v":"0,00 jours"},"Sort de Hâte",{"$f":"'À Faire - Détails'!Q225","v":0},{"$f":"'À Faire - Détails'!R225","v":0},{"$f":"'À Faire - Détails'!Q231","v":0},{"$f":"'À Faire - Détails'!R231","v":0},{"$f":"IF($B$2='Paramètres - Admin'!$B$2,TEXT(W19*60*60,\"# 0\")&\" \" & 'Paramètres - Admin'!$B$2,IF($B$2='Paramètres - Admin'!$B$3,TEXT(W19*60,\"# 0\")&\" \" & 'Paramètres - Admin'!$B$3,IF($B$2='Paramètres - Admin'!$B$4,TEXT(W19,\"# 0,00\")&\" \" & 'Paramètres - Admin'!$B$4,IF($B$2='Paramètres - Admin'!$B$5,TEXT(W19/24,\"# 0,00\")&\" \" & 'Paramètres - Admin'!$B$5,IF($B$2='Paramètres - Admin'!$B$6,TEXT((W19/24)/30,\"# 0,00\")&\" \" & 'Paramètres - Admin'!$B$6,IF(W19/24>=1,INT(W19/24)&\" \" &  'Paramètres - Admin'!$D$4 & \" \" & HOUR(W19/24-INT(W19/24))&\" \" &  'Paramètres - Admin'!$D$3 & \" \" & MINUTE(W19/24-INT(W19/24))&\" \" &  'Paramètres - Admin'!$D$2,HOUR(W19/24-INT(W19/24))&\" \" &  'Paramètres - Admin'!$D$3 & \" \" & MINUTE(W19/24-INT(W19/24))&\" \" &  'Paramètres - Admin'!$D$2))))))","v":"0,00 jours"}]
["Mortier",{"$f":"'À Faire - Détails'!Z84","v":0},{"$f":"'À Faire - Détails'!AA84","v":0},{"$f":"'À Faire - Détails'!Z96","v":0},{"$f":"'À Faire - Détails'!AA96","v":0},{"$f":"IF($B$2='Paramètres - Admin'!$B$2,TEXT(E20*60*60,\"# 0\")&\" \" & 'Paramètres - Admin'!$B$2,IF($B$2='Paramètres - Admin'!$B$3,TEXT(E20*60,\"# 0\")&\" \" & 'Paramètres - Admin'!$B$3,IF($B$2='Paramètres - Admin'!$B$4,TEXT(E20,\"# 0,00\")&\" \" & 'Paramètres - Admin'!$B$4,IF($B$2='Paramètres - Admin'!$B$5,TEXT(E20/24,\"# 0,00\")&\" \" & 'Paramètres - Admin'!$B$5,IF($B$2='Paramètres - Admin'!$B$6,TEXT((E20/24)/30,\"# 0,00\")&\" \" & 'Paramètres - Admin'!$B$6,IF(E20/24>=1,INT(E20/24)&\" \" &  'Paramètres - Admin'!$D$4 & \" \" & HOUR(E20/24-INT(E20/24))&\" \" &  'Paramètres - Admin'!$D$3 & \" \" & MINUTE(E20/24-INT(E20/24))&\" \" &  'Paramètres - Admin'!$D$2,HOUR(E20/24-INT(E20/24))&\" \" &  'Paramètres - Admin'!$D$3 & \" \" & MINUTE(E20/24-INT(E20/24))&\" \" &  'Paramètres - Admin'!$D$2))))))","v":"0,00 jours"},"Géant",{"$f":"'À Faire - Détails'!H201","v":0},{"$f":"'À Faire - Détails'!I201","v":0},{"$f":"'À Faire - Détails'!H211","v":0},{"$f":"'À Faire - Détails'!I211","v":0},{"$f":"IF($B$2='Paramètres - Admin'!$B$2,TEXT(K20*60*60,\"# 0\")&\" \" & 'Paramètres - Admin'!$B$2,IF($B$2='Paramètres - Admin'!$B$3,TEXT(K20*60,\"# 0\")&\" \" & 'Paramètres - Admin'!$B$3,IF($B$2='Paramètres - Admin'!$B$4,TEXT(K20,\"# 0,00\")&\" \" & 'Paramètres - Admin'!$B$4,IF($B$2='Paramètres - Admin'!$B$5,TEXT(K20/24,\"# 0,00\")&\" \" & 'Paramètres - Admin'!$B$5,IF($B$2='Paramètres - Admin'!$B$6,TEXT((K20/24)/30,\"# 0,00\")&\" \" & 'Paramètres - Admin'!$B$6,IF(K20/24>=1,INT(K20/24)&\" \" &  'Paramètres - Admin'!$D$4 & \" \" & HOUR(K20/24-INT(K20/24))&\" \" &  'Paramètres - Admin'!$D$3 & \" \" & MINUTE(K20/24-INT(K20/24))&\" \" &  'Paramètres - Admin'!$D$2,HOUR(K20/24-INT(K20/24))&\" \" &  'Paramètres - Admin'!$D$3 & \" \" & MINUTE(K20/24-INT(K20/24))&\" \" &  'Paramètres - Admin'!$D$2))))))","v":"0,00 jours"},"Sort de Saut",{"$f":"'À Faire - Détails'!Q166","v":0},{"$f":"'À Faire - Détails'!R166","v":0},{"$f":"'À Faire - Détails'!Q171","v":0},{"$f":"'À Faire - Détails'!R171","v":0},{"$f":"IF($B$2='Paramètres - Admin'!$B$2,TEXT(Q20*60*60,\"# 0\")&\" \" & 'Paramètres - Admin'!$B$2,IF($B$2='Paramètres - Admin'!$B$3,TEXT(Q20*60,\"# 0\")&\" \" & 'Paramètres - Admin'!$B$3,IF($B$2='Paramètres - Admin'!$B$4,TEXT(Q20,\"# 0,00\")&\" \" & 'Paramètres - Admin'!$B$4,IF($B$2='Paramètres - Admin'!$B$5,TEXT(Q20/24,\"# 0,00\")&\" \" & 'Paramètres - Admin'!$B$5,IF($B$2='Paramètres - Admin'!$B$6,TEXT((Q20/24)/30,\"# 0,00\")&\" \" & 'Paramètres - Admin'!$B$6,IF(Q20/24>=1,INT(Q20/24)&\" \" &  'Paramètres - Admin'!$D$4 & \" \" & HOUR(Q20/24-INT(Q20/24))&\" \" &  'Paramètres - Admin'!$D$3 & \" \" & MINUTE(Q20/24-INT(Q20/24))&\" \" &  'Paramètres - Admin'!$D$2,HOUR(Q20/24-INT(Q20/24))&\" \" &  'Paramètres - Admin'!$D$3 & \" \" & MINUTE(Q20/24-INT(Q20/24))&\" \" &  'Paramètres - Admin'!$D$2))))))","v":"0,00 jours"},"Sort Squelettique",{"$f":"'À Faire - Détails'!H234","v":0},{"$f":"'À Faire - Détails'!I234","v":0},{"$f":"'À Faire - Détails'!H240","v":0},{"$f":"'À Faire - Détails'!I240","v":0},{"$f":"IF($B$2='Paramètres - Admin'!$B$2,TEXT(W20*60*60,\"# 0\")&\" \" & 'Paramètres - Admin'!$B$2,IF($B$2='Paramètres - Admin'!$B$3,TEXT(W20*60,\"# 0\")&\" \" & 'Paramètres - Admin'!$B$3,IF($B$2='Paramètres - Admin'!$B$4,TEXT(W20,\"# 0,00\")&\" \" & 'Paramètres - Admin'!$B$4,IF($B$2='Paramètres - Admin'!$B$5,TEXT(W20/24,\"# 0,00\")&\" \" & 'Paramètres - Admin'!$B$5,IF($B$2='Paramètres - Admin'!$B$6,TEXT((W20/24)/30,\"# 0,00\")&\" \" & 'Paramètres - Admin'!$B$6,IF(W20/24>=1,INT(W20/24)&\" \" &  'Paramètres - Admin'!$D$4 & \" \" & HOUR(W20/24-INT(W20/24))&\" \" &  'Paramètres - Admin'!$D$3 & \" \" & MINUTE(W20/24-INT(W20/24))&\" \" &  'Paramètres - Admin'!$D$2,HOUR(W20/24-INT(W20/24))&\" \" &  'Paramètres - Admin'!$D$3 & \" \" & MINUTE(W20/24-INT(W20/24))&\" \" &  'Paramètres - Admin'!$D$2))))))","v":"0,00 jours"}]
["Défense Antiaérienne",{"$f":"'À Faire - Détails'!Q93","v":0},{"$f":"'À Faire - Détails'!R93","v":0},{"$f":"'À Faire - Détails'!Q103","v":0},{"$f":"'À Faire - Détails'!R103","v":0},{"$f":"IF($B$2='Paramètres - Admin'!$B$2,TEXT(E21*60*60,\"# 0\")&\" \" & 'Paramètres - Admin'!$B$2,IF($B$2='Paramètres - Admin'!$B$3,TEXT(E21*60,\"# 0\")&\" \" & 'Paramètres - Admin'!$B$3,IF($B$2='Paramètres - Admin'!$B$4,TEXT(E21,\"# 0,00\")&\" \" & 'Paramètres - Admin'!$B$4,IF($B$2='Paramètres - Admin'!$B$5,TEXT(E21/24,\"# 0,00\")&\" \" & 'Paramètres - Admin'!$B$5,IF($B$2='Paramètres - Admin'!$B$6,TEXT((E21/24)/30,\"# 0,00\")&\" \" & 'Paramètres - Admin'!$B$6,IF(E21/24>=1,INT(E21/24)&\" \" &  'Paramètres - Admin'!$D$4 & \" \" & HOUR(E21/24-INT(E21/24))&\" \" &  'Paramètres - Admin'!$D$3 & \" \" & MINUTE(E21/24-INT(E21/24))&\" \" &  'Paramètres - Admin'!$D$2,HOUR(E21/24-INT(E21/24))&\" \" &  'Paramètres - Admin'!$D$3 & \" \" & MINUTE(E21/24-INT(E21/24))&\" \" &  'Paramètres - Admin'!$D$2))))))","v":"0,00 jours"},"Sapeur",{"$f":"'À Faire - Détails'!Z187","v":0},{"$f":"'À Faire - Détails'!AA187","v":0},{"$f":"'À Faire - Détails'!Z195","v":0},{"$f":"'À Faire - Détails'!AA195","v":0},{"$f":"IF($B$2='Paramètres - Admin'!$B$2,TEXT(K21*60*60,\"# 0\")&\" \" & 'Paramètres - Admin'!$B$2,IF($B$2='Paramètres - Admin'!$B$3,TEXT(K21*60,\"# 0\")&\" \" & 'Paramètres - Admin'!$B$3,IF($B$2='Paramètres - Admin'!$B$4,TEXT(K21,\"# 0,00\")&\" \" & 'Paramètres - Admin'!$B$4,IF($B$2='Paramètres - Admin'!$B$5,TEXT(K21/24,\"# 0,00\")&\" \" & 'Paramètres - Admin'!$B$5,IF($B$2='Paramètres - Admin'!$B$6,TEXT((K21/24)/30,\"# 0,00\")&\" \" & 'Paramètres - Admin'!$B$6,IF(K21/24>=1,INT(K21/24)&\" \" &  'Paramètres - Admin'!$D$4 & \" \" & HOUR(K21/24-INT(K21/24))&\" \" &  'Paramètres - Admin'!$D$3 & \" \" & MINUTE(K21/24-INT(K21/24))&\" \" &  'Paramètres - Admin'!$D$2,HOUR(K21/24-INT(K21/24))&\" \" &  'Paramètres - Admin'!$D$3 & \" \" & MINUTE(K21/24-INT(K21/24))&\" \" &  'Paramètres - Admin'!$D$2))))))","v":"0,00 jours"},"Sort de Gel",{"$f":"'À Faire - Détails'!Z156","v":0},{"$f":"'À Faire - Détails'!AA156","v":0},{"$f":"'À Faire - Détails'!Z163","v":0},{"$f":"'À Faire - Détails'!AA163","v":0},{"$f":"IF($B$2='Paramètres - Admin'!$B$2,TEXT(Q21*60*60,\"# 0\")&\" \" & 'Paramètres - Admin'!$B$2,IF($B$2='Paramètres - Admin'!$B$3,TEXT(Q21*60,\"# 0\")&\" \" & 'Paramètres - Admin'!$B$3,IF($B$2='Paramètres - Admin'!$B$4,TEXT(Q21,\"# 0,00\")&\" \" & 'Paramètres - Admin'!$B$4,IF($B$2='Paramètres - Admin'!$B$5,TEXT(Q21/24,\"# 0,00\")&\" \" & 'Paramètres - Admin'!$B$5,IF($B$2='Paramètres - Admin'!$B$6,TEXT((Q21/24)/30,\"# 0,00\")&\" \" & 'Paramètres - Admin'!$B$6,IF(Q21/24>=1,INT(Q21/24)&\" \" &  'Paramètres - Admin'!$D$4 & \" \" & HOUR(Q21/24-INT(Q21/24))&\" \" &  'Paramètres - Admin'!$D$3 & \" \" & MINUTE(Q21/24-INT(Q21/24))&\" \" &  'Paramètres - Admin'!$D$2,HOUR(Q21/24-INT(Q21/24))&\" \" &  'Paramètres - Admin'!$D$3 & \" \" & MINUTE(Q21/24-INT(Q21/24))&\" \" &  'Paramètres - Admin'!$D$2))))))","v":"0,00 jours"},"Total",{"$f":"SUM(T17:T20)","v":0},{"$f":"SUM(U17:U20)","v":0},{"$f":"SUM(V17:V20)","v":0},{"$f":"SUM(W17:W20)","v":0},{"$f":"IF($B$2='Paramètres - Admin'!$B$2,TEXT(W21*60*60,\"# 0\")&\" \" & 'Paramètres - Admin'!$B$2,IF($B$2='Paramètres - Admin'!$B$3,TEXT(W21*60,\"# 0\")&\" \" & 'Paramètres - Admin'!$B$3,IF($B$2='Paramètres - Admin'!$B$4,TEXT(W21,\"# 0,00\")&\" \" & 'Paramètres - Admin'!$B$4,IF($B$2='Paramètres - Admin'!$B$5,TEXT(W21/24,\"# 0,00\")&\" \" & 'Paramètres - Admin'!$B$5,IF($B$2='Paramètres - Admin'!$B$6,TEXT((W21/24)/30,\"# 0,00\")&\" \" & 'Paramètres - Admin'!$B$6,IF(W21/24>=1,INT(W21/24)&\" \" &  'Paramètres - Admin'!$D$4 & \" \" & HOUR(W21/24-INT(W21/24))&\" \" &  'Paramètres - Admin'!$D$3 & \" \" & MINUTE(W21/24-INT(W21/24))&\" \" &  'Paramètres - Admin'!$D$2,HOUR(W21/24-INT(W21/24))&\" \" &  'Paramètres - Admin'!$D$3 & \" \" & MINUTE(W21/24-INT(W21/24))&\" \" &  'Paramètres - Admin'!$D$2))))))","v":"0,00 jours"}]
["Tour de Sorciers",{"$f":"'À Faire - Détails'!H85","v":0},{"$f":"'À Faire - Détails'!I85","v":0},{"$f":"'À Faire - Détails'!H97","v":0},{"$f":"'À Faire - Détails'!I97","v":0},{"$f":"IF($B$2='Paramètres - Admin'!$B$2,TEXT(E22*60*60,\"# 0\")&\" \" & 'Paramètres - Admin'!$B$2,IF($B$2='Paramètres - Admin'!$B$3,TEXT(E22*60,\"# 0\")&\" \" & 'Paramètres - Admin'!$B$3,IF($B$2='Paramètres - Admin'!$B$4,TEXT(E22,\"# 0,00\")&\" \" & 'Paramètres - Admin'!$B$4,IF($B$2='Paramètres - Admin'!$B$5,TEXT(E22/24,\"# 0,00\")&\" \" & 'Paramètres - Admin'!$B$5,IF($B$2='Paramètres - Admin'!$B$6,TEXT((E22/24)/30,\"# 0,00\")&\" \" & 'Paramètres - Admin'!$B$6,IF(E22/24>=1,INT(E22/24)&\" \" &  'Paramètres - Admin'!$D$4 & \" \" & HOUR(E22/24-INT(E22/24))&\" \" &  'Paramètres - Admin'!$D$3 & \" \" & MINUTE(E22/24-INT(E22/24))&\" \" &  'Paramètres - Admin'!$D$2,HOUR(E22/24-INT(E22/24))&\" \" &  'Paramètres - Admin'!$D$3 & \" \" & MINUTE(E22/24-INT(E22/24))&\" \" &  'Paramètres - Admin'!$D$2))))))","v":"0,00 jours"},"Ballon",{"$f":"'À Faire - Détails'!Q179","v":0},{"$f":"'À Faire - Détails'!R179","v":0},{"$f":"'À Faire - Détails'!Q188","v":0},{"$f":"'À Faire - Détails'!R188","v":0},{"$f":"IF($B$2='Paramètres - Admin'!$B$2,TEXT(K22*60*60,\"# 0\")&\" \" & 'Paramètres - Admin'!$B$2,IF($B$2='Paramètres - Admin'!$B$3,TEXT(K22*60,\"# 0\")&\" \" & 'Paramètres - Admin'!$B$3,IF($B$2='Paramètres - Admin'!$B$4,TEXT(K22,\"# 0,00\")&\" \" & 'Paramètres - Admin'!$B$4,IF($B$2='Paramètres - Admin'!$B$5,TEXT(K22/24,\"# 0,00\")&\" \" & 'Paramètres - Admin'!$B$5,IF($B$2='Paramètres - Admin'!$B$6,TEXT((K22/24)/30,\"# 0,00\")&\" \" & 'Paramètres - Admin'!$B$6,IF(K22/24>=1,INT(K22/24)&\" \" &  'Paramètres - Admin'!$D$4 & \" \" & HOUR(K22/24-INT(K22/24))&\" \" &  'Paramètres - Admin'!$D$3 & \" \" & MINUTE(K22/24-INT(K22/24))&\" \" &  'Paramètres - Admin'!$D$2,HOUR(K22/24-INT(K22/24))&\" \" &  'Paramètres - Admin'!$D$3 & \" \" & MINUTE(K22/24-INT(K22/24))&\" \" &  'Paramètres - Admin'!$D$2))))))","v":"0,00 jours"},"Sort de clonage",{"$f":"'À Faire - Détails'!Z165","v":0},{"$f":"'À Faire - Détails'!AA165","v":0},{"$f":"'À Faire - Détails'!Z171","v":0},{"$f":"'À Faire - Détails'!AA171","v":0},{"$f":"IF($B$2='Paramètres - Admin'!$B$2,TEXT(Q22*60*60,\"# 0\")&\" \" & 'Paramètres - Admin'!$B$2,IF($B$2='Paramètres - Admin'!$B$3,TEXT(Q22*60,\"# 0\")&\" \" & 'Paramètres - Admin'!$B$3,IF($B$2='Paramètres - Admin'!$B$4,TEXT(Q22,\"# 0,00\")&\" \" & 'Paramètres - Admin'!$B$4,IF($B$2='Paramètres - Admin'!$B$5,TEXT(Q22/24,\"# 0,00\")&\" \" & 'Paramètres - Admin'!$B$5,IF($B$2='Paramètres - Admin'!$B$6,TEXT((Q22/24)/30,\"# 0,00\")&\" \" & 'Paramètres - Admin'!$B$6,IF(Q22/24>=1,INT(Q22/24)&\" \" &  'Paramètres - Admin'!$D$4 & \" \" & HOUR(Q22/24-INT(Q22/24))&\" \" &  'Paramètres - Admin'!$D$3 & \" \" & MINUTE(Q22/24-INT(Q22/24))&\" \" &  'Paramètres - Admin'!$D$2,HOUR(Q22/24-INT(Q22/24))&\" \" &  'Paramètres - Admin'!$D$3 & \" \" & MINUTE(Q22/24-INT(Q22/24))&\" \" &  'Paramètres - Admin'!$D$2))))))","v":"0,00 jours"},"Héros"]
["Propulseur d'air",{"$f":"'À Faire - Détails'!Q83","v":0},{"$f":"'À Faire - Détails'!R83","v":0},{"$f":"'À Faire - Détails'!Q91","v":0},{"$f":"'À Faire - Détails'!R91","v":0},{"$f":"IF($B$2='Paramètres - Admin'!$B$2,TEXT(E23*60*60,\"# 0\")&\" \" & 'Paramètres - Admin'!$B$2,IF($B$2='Paramètres - Admin'!$B$3,TEXT(E23*60,\"# 0\")&\" \" & 'Paramètres - Admin'!$B$3,IF($B$2='Paramètres - Admin'!$B$4,TEXT(E23,\"# 0,00\")&\" \" & 'Paramètres - Admin'!$B$4,IF($B$2='Paramètres - Admin'!$B$5,TEXT(E23/24,\"# 0,00\")&\" \" & 'Paramètres - Admin'!$B$5,IF($B$2='Paramètres - Admin'!$B$6,TEXT((E23/24)/30,\"# 0,00\")&\" \" & 'Paramètres - Admin'!$B$6,IF(E23/24>=1,INT(E23/24)&\" \" &  'Paramètres - Admin'!$D$4 & \" \" & HOUR(E23/24-INT(E23/24))&\" \" &  'Paramètres - Admin'!$D$3 & \" \" & MINUTE(E23/24-INT(E23/24))&\" \" &  'Paramètres - Admin'!$D$2,HOUR(E23/24-INT(E23/24))&\" \" &  'Paramètres - Admin'!$D$3 & \" \" & MINUTE(E23/24-INT(E23/24))&\" \" &  'Paramètres - Admin'!$D$2))))))","v":"0,00 jours"},"Sorcier",{"$f":"'À Faire - Détails'!Q190","v":0},{"$f":"'À Faire - Détails'!R190","v":0},{"$f":"'À Faire - Détails'!Q199","v":0},{"$f":"'À Faire - Détails'!R199","v":0},{"$f":"IF($B$2='Paramètres - Admin'!$B$2,TEXT(K23*60*60,\"# 0\")&\" \" & 'Paramètres - Admin'!$B$2,IF($B$2='Paramètres - Admin'!$B$3,TEXT(K23*60,\"# 0\")&\" \" & 'Paramètres - Admin'!$B$3,IF($B$2='Paramètres - Admin'!$B$4,TEXT(K23,\"# 0,00\")&\" \" & 'Paramètres - Admin'!$B$4,IF($B$2='Paramètres - Admin'!$B$5,TEXT(K23/24,\"# 0,00\")&\" \" & 'Paramètres - Admin'!$B$5,IF($B$2='Paramètres - Admin'!$B$6,TEXT((K23/24)/30,\"# 0,00\")&\" \" & 'Paramètres - Admin'!$B$6,IF(K23/24>=1,INT(K23/24)&\" \" &  'Paramètres - Admin'!$D$4 & \" \" & HOUR(K23/24-INT(K23/24))&\" \" &  'Paramètres - Admin'!$D$3 & \" \" & MINUTE(K23/24-INT(K23/24))&\" \" &  'Paramètres - Admin'!$D$2,HOUR(K23/24-INT(K23/24))&\" \" &  'Paramètres - Admin'!$D$3 & \" \" & MINUTE(K23/24-INT(K23/24))&\" \" &  'Paramètres - Admin'!$D$2))))))","v":"0,00 jours"},"Total",{"$f":"SUM(N17:N22)","v":0},{"$f":"SUM(O17:O22)","v":0},{"$f":"SUM(P17:P22)","v":0},{"$f":"SUM(Q17:Q22)","v":0},{"$f":"IF($B$2='Paramètres - Admin'!$B$2,TEXT(Q23*60*60,\"# 0\")&\" \" & 'Paramètres - Admin'!$B$2,IF($B$2='Paramètres - Admin'!$B$3,TEXT(Q23*60,\"# 0\")&\" \" & 'Paramètres - Admin'!$B$3,IF($B$2='Paramètres - Admin'!$B$4,TEXT(Q23,\"# 0,00\")&\" \" & 'Paramètres - Admin'!$B$4,IF($B$2='Paramètres - Admin'!$B$5,TEXT(Q23/24,\"# 0,00\")&\" \" & 'Paramètres - Admin'!$B$5,IF($B$2='Paramètres - Admin'!$B$6,TEXT((Q23/24)/30,\"# 0,00\")&\" \" & 'Paramètres - Admin'!$B$6,IF(Q23/24>=1,INT(Q23/24)&\" \" &  'Paramètres - Admin'!$D$4 & \" \" & HOUR(Q23/24-INT(Q23/24))&\" \" &  'Paramètres - Admin'!$D$3 & \" \" & MINUTE(Q23/24-INT(Q23/24))&\" \" &  'Paramètres - Admin'!$D$2,HOUR(Q23/24-INT(Q23/24))&\" \" &  'Paramètres - Admin'!$D$3 & \" \" & MINUTE(Q23/24-INT(Q23/24))&\" \" &  'Paramètres - Admin'!$D$2))))))","v":"0,00 jours"},"Héros","À Faire","Up.","Coût Total","Temps Total","Temps Total"]
["Tesla Camouflée",{"$f":"'À Faire - Détails'!Z98","v":0},{"$f":"'À Faire - Détails'!AA98","v":0},{"$f":"'À Faire - Détails'!Z109","v":0},{"$f":"'À Faire - Détails'!AA109","v":0},{"$f":"IF($B$2='Paramètres - Admin'!$B$2,TEXT(E24*60*60,\"# 0\")&\" \" & 'Paramètres - Admin'!$B$2,IF($B$2='Paramètres - Admin'!$B$3,TEXT(E24*60,\"# 0\")&\" \" & 'Paramètres - Admin'!$B$3,IF($B$2='Paramètres - Admin'!$B$4,TEXT(E24,\"# 0,00\")&\" \" & 'Paramètres - Admin'!$B$4,IF($B$2='Paramètres - Admin'!$B$5,TEXT(E24/24,\"# 0,00\")&\" \" & 'Paramètres - Admin'!$B$5,IF($B$2='Paramètres - Admin'!$B$6,TEXT((E24/24)/30,\"# 0,00\")&\" \" & 'Paramètres - Admin'!$B$6,IF(E24/24>=1,INT(E24/24)&\" \" &  'Paramètres - Admin'!$D$4 & \" \" & HOUR(E24/24-INT(E24/24))&\" \" &  'Paramètres - Admin'!$D$3 & \" \" & MINUTE(E24/24-INT(E24/24))&\" \" &  'Paramètres - Admin'!$D$2,HOUR(E24/24-INT(E24/24))&\" \" &  'Paramètres - Admin'!$D$3 & \" \" & MINUTE(E24/24-INT(E24/24))&\" \" &  'Paramètres - Admin'!$D$2))))))","v":"0,00 jours"},"Guérisseuse",{"$f":"'À Faire - Détails'!Z179","v":0},{"$f":"'À Faire - Détails'!AA179","v":0},{"$f":"'À Faire - Détails'!Z185","v":0},{"$f":"'À Faire - Détails'!AA185","v":0},{"$f":"IF($B$2='Paramètres - Admin'!$B$2,TEXT(K24*60*60,\"# 0\")&\" \" & 'Paramètres - Admin'!$B$2,IF($B$2='Paramètres - Admin'!$B$3,TEXT(K24*60,\"# 0\")&\" \" & 'Paramètres - Admin'!$B$3,IF($B$2='Paramètres - Admin'!$B$4,TEXT(K24,\"# 0,00\")&\" \" & 'Paramètres - Admin'!$B$4,IF($B$2='Paramètres - Admin'!$B$5,TEXT(K24/24,\"# 0,00\")&\" \" & 'Paramètres - Admin'!$B$5,IF($B$2='Paramètres - Admin'!$B$6,TEXT((K24/24)/30,\"# 0,00\")&\" \" & 'Paramètres - Admin'!$B$6,IF(K24/24>=1,INT(K24/24)&\" \" &  'Paramètres - Admin'!$D$4 & \" \" & HOUR(K24/24-INT(K24/24))&\" \" &  'Paramètres - Admin'!$D$3 & \" \" & MINUTE(K24/24-INT(K24/24))&\" \" &  'Paramètres - Admin'!$D$2,HOUR(K24/24-INT(K24/24))&\" \" &  'Paramètres - Admin'!$D$3 & \" \" & MINUTE(K24/24-INT(K24/24))&\" \" &  'Paramètres - Admin'!$D$2))))))","v":"0,00 jours"},"Bâtiments Autres",null,null,null,null,null,"Roi des Barbares",{"$f":"'À Faire - Détails'!H269","v":0},{"$f":"'À Faire - Détails'!I269","v":0},{"$f":"'À Faire - Détails'!H316","v":0},{"$f":"'À Faire - Détails'!I316","v":0},{"$f":"IF($B$2='Paramètres - Admin'!$B$2,TEXT(W24*60*60,\"# 0\")&\" \" & 'Paramètres - Admin'!$B$2,IF($B$2='Paramètres - Admin'!$B$3,TEXT(W24*60,\"# 0\")&\" \" & 'Paramètres - Admin'!$B$3,IF($B$2='Paramètres - Admin'!$B$4,TEXT(W24,\"# 0,00\")&\" \" & 'Paramètres - Admin'!$B$4,IF($B$2='Paramètres - Admin'!$B$5,TEXT(W24/24,\"# 0,00\")&\" \" & 'Paramètres - Admin'!$B$5,IF($B$2='Paramètres - Admin'!$B$6,TEXT((W24/24)/30,\"# 0,00\")&\" \" & 'Paramètres - Admin'!$B$6,IF(W24/24>=1,INT(W24/24)&\" \" &  'Paramètres - Admin'!$D$4 & \" \" & HOUR(W24/24-INT(W24/24))&\" \" &  'Paramètres - Admin'!$D$3 & \" \" & MINUTE(W24/24-INT(W24/24))&\" \" &  'Paramètres - Admin'!$D$2,HOUR(W24/24-INT(W24/24))&\" \" &  'Paramètres - Admin'!$D$3 & \" \" & MINUTE(W24/24-INT(W24/24))&\" \" &  'Paramètres - Admin'!$D$2))))))","v":"0,00 jours"}]
["Arc-X",{"$f":"'À Faire - Détails'!Q105","v":0},{"$f":"'À Faire - Détails'!R105","v":0},{"$f":"'À Faire - Détails'!Q112","v":0},{"$f":"'À Faire - Détails'!R112","v":0},{"$f":"IF($B$2='Paramètres - Admin'!$B$2,TEXT(E25*60*60,\"# 0\")&\" \" & 'Paramètres - Admin'!$B$2,IF($B$2='Paramètres - Admin'!$B$3,TEXT(E25*60,\"# 0\")&\" \" & 'Paramètres - Admin'!$B$3,IF($B$2='Paramètres - Admin'!$B$4,TEXT(E25,\"# 0,00\")&\" \" & 'Paramètres - Admin'!$B$4,IF($B$2='Paramètres - Admin'!$B$5,TEXT(E25/24,\"# 0,00\")&\" \" & 'Paramètres - Admin'!$B$5,IF($B$2='Paramètres - Admin'!$B$6,TEXT((E25/24)/30,\"# 0,00\")&\" \" & 'Paramètres - Admin'!$B$6,IF(E25/24>=1,INT(E25/24)&\" \" &  'Paramètres - Admin'!$D$4 & \" \" & HOUR(E25/24-INT(E25/24))&\" \" &  'Paramètres - Admin'!$D$3 & \" \" & MINUTE(E25/24-INT(E25/24))&\" \" &  'Paramètres - Admin'!$D$2,HOUR(E25/24-INT(E25/24))&\" \" &  'Paramètres - Admin'!$D$3 & \" \" & MINUTE(E25/24-INT(E25/24))&\" \" &  'Paramètres - Admin'!$D$2))))))","v":"0,00 jours"},"Dragon",{"$f":"'À Faire - Détails'!Z197","v":0},{"$f":"'À Faire - Détails'!AA197","v":0},{"$f":"'À Faire - Détails'!Z205","v":0},{"$f":"'À Faire - Détails'!AA205","v":0},{"$f":"IF($B$2='Paramètres - Admin'!$B$2,TEXT(K25*60*60,\"# 0\")&\" \" & 'Paramètres - Admin'!$B$2,IF($B$2='Paramètres - Admin'!$B$3,TEXT(K25*60,\"# 0\")&\" \" & 'Paramètres - Admin'!$B$3,IF($B$2='Paramètres - Admin'!$B$4,TEXT(K25,\"# 0,00\")&\" \" & 'Paramètres - Admin'!$B$4,IF($B$2='Paramètres - Admin'!$B$5,TEXT(K25/24,\"# 0,00\")&\" \" & 'Paramètres - Admin'!$B$5,IF($B$2='Paramètres - Admin'!$B$6,TEXT((K25/24)/30,\"# 0,00\")&\" \" & 'Paramètres - Admin'!$B$6,IF(K25/24>=1,INT(K25/24)&\" \" &  'Paramètres - Admin'!$D$4 & \" \" & HOUR(K25/24-INT(K25/24))&\" \" &  'Paramètres - Admin'!$D$3 & \" \" & MINUTE(K25/24-INT(K25/24))&\" \" &  'Paramètres - Admin'!$D$2,HOUR(K25/24-INT(K25/24))&\" \" &  'Paramètres - Admin'!$D$3 & \" \" & MINUTE(K25/24-INT(K25/24))&\" \" &  'Paramètres - Admin'!$D$2))))))","v":"0,00 jours"},"Bâtiment","À Faire","Up.","Coût Total","Temps Total","Temps Total","Reine des Archers",{"$f":"'À Faire - Détails'!Q269","v":0},{"$f":"'À Faire - Détails'!R269","v":0},{"$f":"'À Faire - Détails'!Q316","v":0},{"$f":"'À Faire - Détails'!R316","v":0},{"$f":"IF($B$2='Paramètres - Admin'!$B$2,TEXT(W25*60*60,\"# 0\")&\" \" & 'Paramètres - Admin'!$B$2,IF($B$2='Paramètres - Admin'!$B$3,TEXT(W25*60,\"# 0\")&\" \" & 'Paramètres - Admin'!$B$3,IF($B$2='Paramètres - Admin'!$B$4,TEXT(W25,\"# 0,00\")&\" \" & 'Paramètres - Admin'!$B$4,IF($B$2='Paramètres - Admin'!$B$5,TEXT(W25/24,\"# 0,00\")&\" \" & 'Paramètres - Admin'!$B$5,IF($B$2='Paramètres - Admin'!$B$6,TEXT((W25/24)/30,\"# 0,00\")&\" \" & 'Paramètres - Admin'!$B$6,IF(W25/24>=1,INT(W25/24)&\" \" &  'Paramètres - Admin'!$D$4 & \" \" & HOUR(W25/24-INT(W25/24))&\" \" &  'Paramètres - Admin'!$D$3 & \" \" & MINUTE(W25/24-INT(W25/24))&\" \" &  'Paramètres - Admin'!$D$2,HOUR(W25/24-INT(W25/24))&\" \" &  'Paramètres - Admin'!$D$3 & \" \" & MINUTE(W25/24-INT(W25/24))&\" \" &  'Paramètres - Admin'!$D$2))))))","v":"0,00 jours"}]
["Tour de l'Enfer",{"$f":"'À Faire - Détails'!H99","v":0},{"$f":"'À Faire - Détails'!I99","v":0},{"$f":"'À Faire - Détails'!H105","v":0},{"$f":"'À Faire - Détails'!I105","v":0},{"$f":"IF($B$2='Paramètres - Admin'!$B$2,TEXT(E26*60*60,\"# 0\")&\" \" & 'Paramètres - Admin'!$B$2,IF($B$2='Paramètres - Admin'!$B$3,TEXT(E26*60,\"# 0\")&\" \" & 'Paramètres - Admin'!$B$3,IF($B$2='Paramètres - Admin'!$B$4,TEXT(E26,\"# 0,00\")&\" \" & 'Paramètres - Admin'!$B$4,IF($B$2='Paramètres - Admin'!$B$5,TEXT(E26/24,\"# 0,00\")&\" \" & 'Paramètres - Admin'!$B$5,IF($B$2='Paramètres - Admin'!$B$6,TEXT((E26/24)/30,\"# 0,00\")&\" \" & 'Paramètres - Admin'!$B$6,IF(E26/24>=1,INT(E26/24)&\" \" &  'Paramètres - Admin'!$D$4 & \" \" & HOUR(E26/24-INT(E26/24))&\" \" &  'Paramètres - Admin'!$D$3 & \" \" & MINUTE(E26/24-INT(E26/24))&\" \" &  'Paramètres - Admin'!$D$2,HOUR(E26/24-INT(E26/24))&\" \" &  'Paramètres - Admin'!$D$3 & \" \" & MINUTE(E26/24-INT(E26/24))&\" \" &  'Paramètres - Admin'!$D$2))))))","v":"0,00 jours"},"P.E.K.K.A",{"$f":"'À Faire - Détails'!Z207","v":0},{"$f":"'À Faire - Détails'!AA207","v":0},{"$f":"'À Faire - Détails'!Z214","v":0},{"$f":"'À Faire - Détails'!AA214","v":0},{"$f":"IF($B$2='Paramètres - Admin'!$B$2,TEXT(K26*60*60,\"# 0\")&\" \" & 'Paramètres - Admin'!$B$2,IF($B$2='Paramètres - Admin'!$B$3,TEXT(K26*60,\"# 0\")&\" \" & 'Paramètres - Admin'!$B$3,IF($B$2='Paramètres - Admin'!$B$4,TEXT(K26,\"# 0,00\")&\" \" & 'Paramètres - Admin'!$B$4,IF($B$2='Paramètres - Admin'!$B$5,TEXT(K26/24,\"# 0,00\")&\" \" & 'Paramètres - Admin'!$B$5,IF($B$2='Paramètres - Admin'!$B$6,TEXT((K26/24)/30,\"# 0,00\")&\" \" & 'Paramètres - Admin'!$B$6,IF(K26/24>=1,INT(K26/24)&\" \" &  'Paramètres - Admin'!$D$4 & \" \" & HOUR(K26/24-INT(K26/24))&\" \" &  'Paramètres - Admin'!$D$3 & \" \" & MINUTE(K26/24-INT(K26/24))&\" \" &  'Paramètres - Admin'!$D$2,HOUR(K26/24-INT(K26/24))&\" \" &  'Paramètres - Admin'!$D$3 & \" \" & MINUTE(K26/24-INT(K26/24))&\" \" &  'Paramètres - Admin'!$D$2))))))","v":"0,00 jours"},"Château de Clan",{"$f":"'À Faire - Détails'!Q138","v":0},{"$f":"'À Faire - Détails'!R138","v":0},{"$f":"'À Faire - Détails'!Q147","v":0},{"$f":"'À Faire - Détails'!R147","v":0},{"$f":"IF($B$2='Paramètres - Admin'!$B$2,TEXT(Q26*60*60,\"# 0\")&\" \" & 'Paramètres - Admin'!$B$2,IF($B$2='Paramètres - Admin'!$B$3,TEXT(Q26*60,\"# 0\")&\" \" & 'Paramètres - Admin'!$B$3,IF($B$2='Paramètres - Admin'!$B$4,TEXT(Q26,\"# 0,00\")&\" \" & 'Paramètres - Admin'!$B$4,IF($B$2='Paramètres - Admin'!$B$5,TEXT(Q26/24,\"# 0,00\")&\" \" & 'Paramètres - Admin'!$B$5,IF($B$2='Paramètres - Admin'!$B$6,TEXT((Q26/24)/30,\"# 0,00\")&\" \" & 'Paramètres - Admin'!$B$6,IF(Q26/24>=1,INT(Q26/24)&\" \" &  'Paramètres - Admin'!$D$4 & \" \" & HOUR(Q26/24-INT(Q26/24))&\" \" &  'Paramètres - Admin'!$D$3 & \" \" & MINUTE(Q26/24-INT(Q26/24))&\" \" &  'Paramètres - Admin'!$D$2,HOUR(Q26/24-INT(Q26/24))&\" \" &  'Paramètres - Admin'!$D$3 & \" \" & MINUTE(Q26/24-INT(Q26/24))&\" \" &  'Paramètres - Admin'!$D$2))))))","v":"0,00 jours"},"Grand Gardien",{"$f":"'À Faire - Détails'!Z269","v":0},{"$f":"'À Faire - Détails'!AA269","v":0},{"$f":"'À Faire - Détails'!Z316","v":0},{"$f":"'À Faire - Détails'!AA316","v":0},{"$f":"IF($B$2='Paramètres - Admin'!$B$2,TEXT(W26*60*60,\"# 0\")&\" \" & 'Paramètres - Admin'!$B$2,IF($B$2='Paramètres - Admin'!$B$3,TEXT(W26*60,\"# 0\")&\" \" & 'Paramètres - Admin'!$B$3,IF($B$2='Paramètres - Admin'!$B$4,TEXT(W26,\"# 0,00\")&\" \" & 'Paramètres - Admin'!$B$4,IF($B$2='Paramètres - Admin'!$B$5,TEXT(W26/24,\"# 0,00\")&\" \" & 'Paramètres - Admin'!$B$5,IF($B$2='Paramètres - Admin'!$B$6,TEXT((W26/24)/30,\"# 0,00\")&\" \" & 'Paramètres - Admin'!$B$6,IF(W26/24>=1,INT(W26/24)&\" \" &  'Paramètres - Admin'!$D$4 & \" \" & HOUR(W26/24-INT(W26/24))&\" \" &  'Paramètres - Admin'!$D$3 & \" \" & MINUTE(W26/24-INT(W26/24))&\" \" &  'Paramètres - Admin'!$D$2,HOUR(W26/24-INT(W26/24))&\" \" &  'Paramètres - Admin'!$D$3 & \" \" & MINUTE(W26/24-INT(W26/24))&\" \" &  'Paramètres - Admin'!$D$2))))))","v":"0,00 jours"}]
["Aigle Artilleur",{"$f":"'À Faire - Détails'!H107","v":0},{"$f":"'À Faire - Détails'!I107","v":0},{"$f":"'À Faire - Détails'!H111","v":0},{"$f":"'À Faire - Détails'!I111","v":0},{"$f":"IF($B$2='Paramètres - Admin'!$B$2,TEXT(E27*60*60,\"# 0\")&\" \" & 'Paramètres - Admin'!$B$2,IF($B$2='Paramètres - Admin'!$B$3,TEXT(E27*60,\"# 0\")&\" \" & 'Paramètres - Admin'!$B$3,IF($B$2='Paramètres - Admin'!$B$4,TEXT(E27,\"# 0,00\")&\" \" & 'Paramètres - Admin'!$B$4,IF($B$2='Paramètres - Admin'!$B$5,TEXT(E27/24,\"# 0,00\")&\" \" & 'Paramètres - Admin'!$B$5,IF($B$2='Paramètres - Admin'!$B$6,TEXT((E27/24)/30,\"# 0,00\")&\" \" & 'Paramètres - Admin'!$B$6,IF(E27/24>=1,INT(E27/24)&\" \" &  'Paramètres - Admin'!$D$4 & \" \" & HOUR(E27/24-INT(E27/24))&\" \" &  'Paramètres - Admin'!$D$3 & \" \" & MINUTE(E27/24-INT(E27/24))&\" \" &  'Paramètres - Admin'!$D$2,HOUR(E27/24-INT(E27/24))&\" \" &  'Paramètres - Admin'!$D$3 & \" \" & MINUTE(E27/24-INT(E27/24))&\" \" &  'Paramètres - Admin'!$D$2))))))","v":"0,00 jours"},"Bébé dragon",{"$f":"'À Faire - Détails'!H213","v":0},{"$f":"'À Faire - Détails'!I213","v":0},{"$f":"'À Faire - Détails'!H220","v":0},{"$f":"'À Faire - Détails'!I220","v":0},{"$f":"IF($B$2='Paramètres - Admin'!$B$2,TEXT(K27*60*60,\"# 0\")&\" \" & 'Paramètres - Admin'!$B$2,IF($B$2='Paramètres - Admin'!$B$3,TEXT(K27*60,\"# 0\")&\" \" & 'Paramètres - Admin'!$B$3,IF($B$2='Paramètres - Admin'!$B$4,TEXT(K27,\"# 0,00\")&\" \" & 'Paramètres - Admin'!$B$4,IF($B$2='Paramètres - Admin'!$B$5,TEXT(K27/24,\"# 0,00\")&\" \" & 'Paramètres - Admin'!$B$5,IF($B$2='Paramètres - Admin'!$B$6,TEXT((K27/24)/30,\"# 0,00\")&\" \" & 'Paramètres - Admin'!$B$6,IF(K27/24>=1,INT(K27/24)&\" \" &  'Paramètres - Admin'!$D$4 & \" \" & HOUR(K27/24-INT(K27/24))&\" \" &  'Paramètres - Admin'!$D$3 & \" \" & MINUTE(K27/24-INT(K27/24))&\" \" &  'Paramètres - Admin'!$D$2,HOUR(K27/24-INT(K27/24))&\" \" &  'Paramètres - Admin'!$D$3 & \" \" & MINUTE(K27/24-INT(K27/24))&\" \" &  'Paramètres - Admin'!$D$2))))))","v":"0,00 jours"},"Hôtel de Ville",{"$f":"'À Faire - Détails'!H138","v":0},{"$f":"'À Faire - Détails'!I138","v":1},{"$f":"'À Faire - Détails'!H151","v":1000},{"$f":"'À Faire - Détails'!I151","v":8.3333333333333329E-2},{"$f":"IF($B$2='Paramètres - Admin'!$B$2,TEXT(Q27*60*60,\"# 0\")&\" \" & 'Paramètres - Admin'!$B$2,IF($B$2='Paramètres - Admin'!$B$3,TEXT(Q27*60,\"# 0\")&\" \" & 'Paramètres - Admin'!$B$3,IF($B$2='Paramètres - Admin'!$B$4,TEXT(Q27,\"# 0,00\")&\" \" & 'Paramètres - Admin'!$B$4,IF($B$2='Paramètres - Admin'!$B$5,TEXT(Q27/24,\"# 0,00\")&\" \" & 'Paramètres - Admin'!$B$5,IF($B$2='Paramètres - Admin'!$B$6,TEXT((Q27/24)/30,\"# 0,00\")&\" \" & 'Paramètres - Admin'!$B$6,IF(Q27/24>=1,INT(Q27/24)&\" \" &  'Paramètres - Admin'!$D$4 & \" \" & HOUR(Q27/24-INT(Q27/24))&\" \" &  'Paramètres - Admin'!$D$3 & \" \" & MINUTE(Q27/24-INT(Q27/24))&\" \" &  'Paramètres - Admin'!$D$2,HOUR(Q27/24-INT(Q27/24))&\" \" &  'Paramètres - Admin'!$D$3 & \" \" & MINUTE(Q27/24-INT(Q27/24))&\" \" &  'Paramètres - Admin'!$D$2))))))","v":"0,00 jours"},"Total",{"$f":"SUM(T24:T26)","v":0},{"$f":"SUM(U24:U26)","v":0},{"$f":"SUM(V24:V25)","v":0},{"$f":"SUM(W24:W26)","v":0},{"$f":"IF($B$2='Paramètres - Admin'!$B$2,TEXT(W27*60*60,\"# 0\")&\" \" & 'Paramètres - Admin'!$B$2,IF($B$2='Paramètres - Admin'!$B$3,TEXT(W27*60,\"# 0\")&\" \" & 'Paramètres - Admin'!$B$3,IF($B$2='Paramètres - Admin'!$B$4,TEXT(W27,\"# 0,00\")&\" \" & 'Paramètres - Admin'!$B$4,IF($B$2='Paramètres - Admin'!$B$5,TEXT(W27/24,\"# 0,00\")&\" \" & 'Paramètres - Admin'!$B$5,IF($B$2='Paramètres - Admin'!$B$6,TEXT((W27/24)/30,\"# 0,00\")&\" \" & 'Paramètres - Admin'!$B$6,IF(W27/24>=1,INT(W27/24)&\" \" &  'Paramètres - Admin'!$D$4 & \" \" & HOUR(W27/24-INT(W27/24))&\" \" &  'Paramètres - Admin'!$D$3 & \" \" & MINUTE(W27/24-INT(W27/24))&\" \" &  'Paramètres - Admin'!$D$2,HOUR(W27/24-INT(W27/24))&\" \" &  'Paramètres - Admin'!$D$3 & \" \" & MINUTE(W27/24-INT(W27/24))&\" \" &  'Paramètres - Admin'!$D$2))))))","v":"0,00 jours"}]
["Total",{"$f":"SUM(B17:B27)","v":2},{"$f":"SUM(C17:C27)","v":4},{"$f":"SUM(D17:D27)","v":2500},{"$f":"SUM(E17:E27)","v":0.53333333333333333},{"$f":"IF($B$2='Paramètres - Admin'!$B$2,TEXT(E28*60*60,\"# 0\")&\" \" & 'Paramètres - Admin'!$B$2,IF($B$2='Paramètres - Admin'!$B$3,TEXT(E28*60,\"# 0\")&\" \" & 'Paramètres - Admin'!$B$3,IF($B$2='Paramètres - Admin'!$B$4,TEXT(E28,\"# 0,00\")&\" \" & 'Paramètres - Admin'!$B$4,IF($B$2='Paramètres - Admin'!$B$5,TEXT(E28/24,\"# 0,00\")&\" \" & 'Paramètres - Admin'!$B$5,IF($B$2='Paramètres - Admin'!$B$6,TEXT((E28/24)/30,\"# 0,00\")&\" \" & 'Paramètres - Admin'!$B$6,IF(E28/24>=1,INT(E28/24)&\" \" &  'Paramètres - Admin'!$D$4 & \" \" & HOUR(E28/24-INT(E28/24))&\" \" &  'Paramètres - Admin'!$D$3 & \" \" & MINUTE(E28/24-INT(E28/24))&\" \" &  'Paramètres - Admin'!$D$2,HOUR(E28/24-INT(E28/24))&\" \" &  'Paramètres - Admin'!$D$3 & \" \" & MINUTE(E28/24-INT(E28/24))&\" \" &  'Paramètres - Admin'!$D$2))))))","v":"0,02 jours"},"Mineur",{"$f":"'À Faire - Détails'!Q212","v":0},{"$f":"'À Faire - Détails'!R212","v":0},{"$f":"'À Faire - Détails'!Q218","v":0},{"$f":"'À Faire - Détails'!R218","v":0},{"$f":"IF($B$2='Paramètres - Admin'!$B$2,TEXT(K28*60*60,\"# 0\")&\" \" & 'Paramètres - Admin'!$B$2,IF($B$2='Paramètres - Admin'!$B$3,TEXT(K28*60,\"# 0\")&\" \" & 'Paramètres - Admin'!$B$3,IF($B$2='Paramètres - Admin'!$B$4,TEXT(K28,\"# 0,00\")&\" \" & 'Paramètres - Admin'!$B$4,IF($B$2='Paramètres - Admin'!$B$5,TEXT(K28/24,\"# 0,00\")&\" \" & 'Paramètres - Admin'!$B$5,IF($B$2='Paramètres - Admin'!$B$6,TEXT((K28/24)/30,\"# 0,00\")&\" \" & 'Paramètres - Admin'!$B$6,IF(K28/24>=1,INT(K28/24)&\" \" &  'Paramètres - Admin'!$D$4 & \" \" & HOUR(K28/24-INT(K28/24))&\" \" &  'Paramètres - Admin'!$D$3 & \" \" & MINUTE(K28/24-INT(K28/24))&\" \" &  'Paramètres - Admin'!$D$2,HOUR(K28/24-INT(K28/24))&\" \" &  'Paramètres - Admin'!$D$3 & \" \" & MINUTE(K28/24-INT(K28/24))&\" \" &  'Paramètres - Admin'!$D$2))))))","v":"0,00 jours"},"Total",{"$f":"SUM(N26:N27)","v":0},{"$f":"SUM(O26:O27)","v":1},{"$f":"SUM(P26:P27)","v":1000},{"$f":"SUM(Q26:Q27)","v":8.3333333333333329E-2},{"$f":"IF($B$2='Paramètres - Admin'!$B$2,TEXT(Q28*60*60,\"# 0\")&\" \" & 'Paramètres - Admin'!$B$2,IF($B$2='Paramètres - Admin'!$B$3,TEXT(Q28*60,\"# 0\")&\" \" & 'Paramètres - Admin'!$B$3,IF($B$2='Paramètres - Admin'!$B$4,TEXT(Q28,\"# 0,00\")&\" \" & 'Paramètres - Admin'!$B$4,IF($B$2='Paramètres - Admin'!$B$5,TEXT(Q28/24,\"# 0,00\")&\" \" & 'Paramètres - Admin'!$B$5,IF($B$2='Paramètres - Admin'!$B$6,TEXT((Q28/24)/30,\"# 0,00\")&\" \" & 'Paramètres - Admin'!$B$6,IF(Q28/24>=1,INT(Q28/24)&\" \" &  'Paramètres - Admin'!$D$4 & \" \" & HOUR(Q28/24-INT(Q28/24))&\" \" &  'Paramètres - Admin'!$D$3 & \" \" & MINUTE(Q28/24-INT(Q28/24))&\" \" &  'Paramètres - Admin'!$D$2,HOUR(Q28/24-INT(Q28/24))&\" \" &  'Paramètres - Admin'!$D$3 & \" \" & MINUTE(Q28/24-INT(Q28/24))&\" \" &  'Paramètres - Admin'!$D$2))))))","v":"0,00 jours"}]
[null,null,null,null,null,null,"Total",{"$f":"SUM(H17:H28)","v":0},{"$f":"SUM(I17:I28)","v":0},{"$f":"SUM(J17:J28)","v":0},{"$f":"SUM(K17:K28)","v":0},{"$f":"IF($B$2='Paramètres - Admin'!$B$2,TEXT(K29*60*60,\"# 0\")&\" \" & 'Paramètres - Admin'!$B$2,IF($B$2='Paramètres - Admin'!$B$3,TEXT(K29*60,\"# 0\")&\" \" & 'Paramètres - Admin'!$B$3,IF($B$2='Paramètres - Admin'!$B$4,TEXT(K29,\"# 0,00\")&\" \" & 'Paramètres - Admin'!$B$4,IF($B$2='Paramètres - Admin'!$B$5,TEXT(K29/24,\"# 0,00\")&\" \" & 'Paramètres - Admin'!$B$5,IF($B$2='Paramètres - Admin'!$B$6,TEXT((K29/24)/30,\"# 0,00\")&\" \" & 'Paramètres - Admin'!$B$6,IF(K29/24>=1,INT(K29/24)&\" \" &  'Paramètres - Admin'!$D$4 & \" \" & HOUR(K29/24-INT(K29/24))&\" \" &  'Paramètres - Admin'!$D$3 & \" \" & MINUTE(K29/24-INT(K29/24))&\" \" &  'Paramètres - Admin'!$D$2,HOUR(K29/24-INT(K29/24))&\" \" &  'Paramètres - Admin'!$D$3 & \" \" & MINUTE(K29/24-INT(K29/24))&\" \" &  'Paramètres - Admin'!$D$2))))))","v":"0,00 jours"}]

{"sheet":"À Faire - Détails","index":3,"n_rows":316,"n_cols":27,"rows_kept":316,"cut":false,"hidden":false,"merged":[[154,18,155,20],[223,18,224,20],[176,0,176,26],[210,9,211,11],[199,9,200,11],[163,18,164,20],[205,18,206,20],[185,18,186,20],[223,9,224,11],[223,0,224,2],[164,9,165,11],[154,0,155,2],[154,9,155,11],[165,0,166,2],[177,0,178,2],[136,9,137,11],[115,9,116,11],[123,9,124,11],[115,18,116,20],[114,0,114,26],[125,0,126,2],[115,0,116,2],[124,18,125,20],[135,0,135,17],[136,0,137,2],[3,18,4,20],[38,9,39,11],[97,0,98,2],[105,0,106,2],[96,18,97,20],[65,18,66,20],[65,0,66,2],[81,9,82,11],[91,9,92,11],[103,9,104,11],[38,0,39,2],[51,9,52,11],[54,0,55,2],[50,18,51,20],[38,18,39,20],[2,0,2,26],[222,0,222,26],[37,0,37,26],[64,0,64,26],[153,0,153,26],[82,18,83,20],[65,9,66,11],[83,0,84,2],[3,0,4,2],[3,9,4,11],[19,0,20,2],[19,9,20,11],[177,18,178,20],[195,18,196,20],[177,9,178,11],[19,18,20,20],[1,0,1,1],[0,0,0,1],[1,2,1,4],[1,5,1,7],[1,8,1,9],[1,20,1,21],[0,2,0,4],[0,5,0,7],[0,17,0,19],[0,8,0,9],[0,10,0,12],[0,20,0,21],[0,13,0,16],[1,13,1,16],[1,10,1,12],[1,17,1,19],[242,0,242,26],[188,0,189,2],[199,0,200,2],[188,9,189,11],[211,0,212,2],[267,18,268,20],[267,9,268,11],[267,0,268,2],[243,0,244,2],[243,9,244,11],[250,18,251,20],[266,0,266,26],[258,18,259,20],[243,18,244,20],[254,0,255,2],[254,9,255,11]]}
["LVL HdV",null,"Or Total :",null,null,"Élixir Total :",null,null,"Élixir Noir Total :",null,"Temps Total :",null,null,{"$f":"'À Faire - Récapitulatif'!Q1","v":"Bâtiments : 0,15 jours"},null,null,null,"=> Temps par Ouvrier :",null,null,"Améliorations de Troupes/Sorts :"]
[{"$f":"Paramètres!$BN$2","v":1},null,{"$f":"'À Faire - Récapitulatif'!H2","v":"4 250"},null,null,{"$f":"'À Faire - Récapitulatif'!K2","v":"4 700"},null,null,{"$f":"'À Faire - Récapitulatif'!M2","v":"0"},null,{"$f":"'À Faire - Récapitulatif'!O2","v":"0,15 jours"},null,null,{"$f":"'À Faire - Récapitulatif'!Q2","v":"Héros : 0,00 jours"},null,null,null,{"$f":"'À Faire - Récapitulatif'!T2","v":"0,15 jours"},null,null,{"$f":"'À Faire - Récapitulatif'!W2","v":"0,00 jours"}]
["Bâtiments de Ressources"]
["Mine d'Or",null,null,"Max","Max +",null,"Actuel","À Faire","Améliorations","Extracteur d'Élixir",null,null,"Max","Max +",null,"Actuel","À Faire","Améliorations","Foreuse d'Élixir Noir",null,null,"Max","Max +",null,"Actuel","À Faire","Améliorations"]
[null,null,null,{"$f":"VLOOKUP($A$2,AVAILABLE_Buildings_Resource[#All],MATCH(A4,AVAILABLE_Buildings_Resource[#Headers],0))","v":1},{"$f":"VLOOKUP($A$2,AVAILABLE_Buildings_Resource[#All],MATCH(A4,AVAILABLE_Buildings_Resource[#Headers],0)+1)","v":2},null,{"$f":"IF(SUM(B7:B18)>D5,\"Error\",SUM(B7:B18))","v":0},{"$f":"IF(G$5=\"Error\",\"Error\",D5-G5)","v":1},{"$f":"IF(G$5=\"Error\",\"Error\",SUM(D7:D18))","v":2},null,null,null,{"$f":"VLOOKUP($A$2,AVAILABLE_Buildings_Resource[#All],MATCH(J4,AVAILABLE_Buildings_Resource[#Headers],0))","v":1},{"$f":"VLOOKUP($A$2,AVAILABLE_Buildings_Resource[#All],MATCH(J4,AVAILABLE_Buildings_Resource[#Headers],0)+1)","v":2},null,{"$f":"IF(SUM(K7:K18)>M5,\"Error\",SUM(K7:K18))","v":0},{"$f":"IF(P$5=\"Error\",\"Error\",M5-P5)","v":1},{"$f":"IF(P$5=\"Error\",\"Error\",SUM(M7:M18))","v":2},null,null,null,{"$f":"VLOOKUP($A$2,AVAILABLE_Buildings_Resource[#All],MATCH(S4,AVAILABLE_Buildings_Resource[#Headers],0))","v":0},{"$f":"VLOOKUP($A$2,AVAILABLE_Buildings_Resource[#All],MATCH(S4,AVAILABLE_Buildings_Resource[#Headers],0)+1)","v":0},null,{"$f":"IF(SUM(T7:T12)>V5,\"Error\",SUM(T7:T12))","v":0},{"$f":"IF(Y$5=\"Error\",\"Error\",V5-Y5)","v":0},{"$f":"IF(Y$5=\"Error\",\"Error\",SUM(V7:V12))","v":0}]
["+","NB",null,"NB","+","Coût","Temps","Coût Total","Temps Total","+","NB",null,"NB","+","Coût","Temps","Coût Total","Temps Total","+","NB",null,"NB","+","Coût","Temps","Coût Total","Temps Total"]
[1,{"$f":"IF(Paramètres!B6=0,\"\",Paramètres!B6)","v":""},{"$f":"IF(C6<>0,C6+IF(AND(B6<>\"\",A6<E$5),B6,0),IF(AND(B6<>\"\",A6<E$5),B6,0))","v":0},{"$f":"IF(E7<>\"/\",IF(G$5=\"Error\",\"Error\",$H$5+C7),\"/\")","v":1},{"$f":"IF(G$5=\"Error\",\"Error\",IF(AND($E$5<>\"/\",$E$5>'Paramètres - Admin'!$A2),'Paramètres - Admin'!$A3,\"/\"))","v":1},{"$f":"IF(E7<>\"/\",VLOOKUP(E7,COSTS_Gold_Mine[#All],2),\"/\")","v":150},{"$f":"IF(E7<>\"/\",VLOOKUP(E7,COSTS_Gold_Mine[#All],3),\"/\")","v":1.6666666666666666E-2},{"$f":"IF(G$5=\"Error\",\"Error\",IF(F7<>\"/\",D7*F7,0))","v":150},{"$f":"IF(G$5=\"Error\",\"Error\",IF(G7<>\"/\",D7*G7,0))","v":1.6666666666666666E-2},1,{"$f":"IF(Paramètres!C6=0,\"\",Paramètres!C6)","v":""},{"$f":"IF(L6<>0,L6+IF(AND(K6<>\"\",J6<N$5),K6,0),IF(AND(K6<>\"\",J6<N$5),K6,0))","v":0},{"$f":"IF(N7<>\"/\",IF(P$5=\"Error\",\"Error\",$Q$5+L7),\"/\")","v":1},{"$f":"IF(P$5=\"Error\",\"Error\",IF(AND($N$5<>\"/\",$N$5>'Paramètres - Admin'!$A2),'Paramètres - Admin'!$A3,\"/\"))","v":1},{"$f":"IF(N7<>\"/\",VLOOKUP(N7,COSTS_Elixir_Collector[#All],2),\"/\")","v":150},{"$f":"IF(N7<>\"/\",VLOOKUP(N7,COSTS_Elixir_Collector[#All],3),\"/\")","v":1.6666666666666666E-2},{"$f":"IF(P$5=\"Error\",\"Error\",IF(O7<>\"/\",M7*O7,0))","v":150},{"$f":"IF(P$5=\"Error\",\"Error\",IF(P7<>\"/\",M7*P7,0))","v":1.6666666666666666E-2},1,{"$f":"IF(Paramètres!D6=0,\"\",Paramètres!D6)","v":""},{"$f":"IF(U6<>0,U6+IF(AND(T6<>\"\",S6<W$5),T6,0),IF(AND(T6<>\"\",S6<W$5),T6,0))","v":0},{"$f":"IF(W7<>\"/\",IF(Y$5=\"Error\",\"Error\",$Z$5+U7),\"/\")","v":"/"},{"$f":"IF(Y$5=\"Error\",\"Error\",IF(AND($W$5<>\"/\",$W$5>'Paramètres - Admin'!$A2),'Paramètres - Admin'!$A3,\"/\"))","v":"/"},{"$f":"IF(W7<>\"/\",VLOOKUP(W7,COSTS_Dark_Elixir_Drill[#All],2),\"/\")","v":"/"},{"$f":"IF(W7<>\"/\",VLOOKUP(W7,COSTS_Dark_Elixir_Drill[#All],3),\"/\")","v":"/"},{"$f":"IF(Y$5=\"Error\",\"Error\",IF(X7<>\"/\",V7*X7,0))","v":0},{"$f":"IF(Y$5=\"Error\",\"Error\",IF(Y7<>\"/\",V7*Y7,0))","v":0}]
[2,{"$f":"IF(Paramètres!B7=0,\"\",Paramètres!B7)","v":""},{"$f":"IF(C7<>0,C7+IF(AND(B7<>\"\",A7<E$5),B7,0),IF(AND(B7<>\"\",A7<E$5),B7,0))","v":0},1,{"$f":"IF(G$5=\"Error\",\"Error\",IF(AND($E$5<>\"/\",$E$5>'Paramètres - Admin'!$A3),'Paramètres - Admin'!$A4,\"/\"))","v":2},{"$f":"IF(E8<>\"/\",VLOOKUP(E8,COSTS_Gold_Mine[#All],2),\"/\")","v":300},{"$f":"IF(E8<>\"/\",VLOOKUP(E8,COSTS_Gold_Mine[#All],3),\"/\")","v":8.3333333333333329E-2},300,8.3333333333333329E-2,2,{"$f":"IF(Paramètres!C7=0,\"\",Paramètres!C7)","v":""},{"$f":"IF(L7<>0,L7+IF(AND(K7<>\"\",J7<N$5),K7,0),IF(AND(K7<>\"\",J7<N$5),K7,0))","v":0},1,{"$f":"IF(P$5=\"Error\",\"Error\",IF(AND($N$5<>\"/\",$N$5>'Paramètres - Admin'!$A3),'Paramètres - Admin'!$A4,\"/\"))","v":2},{"$f":"IF(N8<>\"/\",VLOOKUP(N8,COSTS_Elixir_Collector[#All],2),\"/\")","v":300},{"$f":"IF(N8<>\"/\",VLOOKUP(N8,COSTS_Elixir_Collector[#All],3),\"/\")","v":8.3333333333333329E-2},300,8.3333333333333329E-2,2,{"$f":"IF(Paramètres!D7=0,\"\",Paramètres!D7)","v":""},0,"/",{"$f":"IF(Y$5=\"Error\",\"Error\",IF(AND($W$5<>\"/\",$W$5>'Paramètres - Admin'!$A3),'Paramètres - Admin'!$A4,\"/\"))","v":"/"},{"$f":"IF(W8<>\"/\",VLOOKUP(W8,COSTS_Dark_Elixir_Drill[#All],2),\"/\")","v":"/"},{"$f":"IF(W8<>\"/\",VLOOKUP(W8,COSTS_Dark_Elixir_Drill[#All],3),\"/\")","v":"/"},0,0]
[3,{"$f":"IF(Paramètres!B8=0,\"\",Paramètres!B8)","v":""},0,"/",{"$f":"IF(G$5=\"Error\",\"Error\",IF(AND($E$5<>\"/\",$E$5>'Paramètres - Admin'!$A4),'Paramètres - Admin'!$A5,\"/\"))","v":"/"},{"$f":"IF(E9<>\"/\",VLOOKUP(E9,COSTS_Gold_Mine[#All],2),\"/\")","v":"/"},{"$f":"IF(E9<>\"/\",VLOOKUP(E9,COSTS_Gold_Mine[#All],3),\"/\")","v":"/"},0,0,3,{"$f":"IF(Paramètres!C8=0,\"\",Paramètres!C8)","v":""},0,"/",{"$f":"IF(P$5=\"Error\",\"Error\",IF(AND($N$5<>\"/\",$N$5>'Paramètres - Admin'!$A4),'Paramètres - Admin'!$A5,\"/\"))","v":"/"},{"$f":"IF(N9<>\"/\",VLOOKUP(N9,COSTS_Elixir_Collector[#All],2),\"/\")","v":"/"},{"$f":"IF(N9<>\"/\",VLOOKUP(N9,COSTS_Elixir_Collector[#All],3),\"/\")","v":"/"},0,0,3,{"$f":"IF(Paramètres!D8=0,\"\",Paramètres!D8)","v":""},0,"/",{"$f":"IF(Y$5=\"Error\",\"Error\",IF(AND($W$5<>\"/\",$W$5>'Paramètres - Admin'!$A4),'Paramètres - Admin'!$A5,\"/\"))","v":"/"},{"$f":"IF(W9<>\"/\",VLOOKUP(W9,COSTS_Dark_Elixir_Drill[#All],2),\"/\")","v":"/"},{"$f":"IF(W9<>\"/\",VLOOKUP(W9,COSTS_Dark_Elixir_Drill[#All],3),\"/\")","v":"/"},0,0]
[4,{"$f":"IF(Paramètres!B9=0,\"\",Paramètres!B9)","v":""},0,"/",{"$f":"IF(G$5=\"Error\",\"Error\",IF(AND($E$5<>\"/\",$E$5>'Paramètres - Admin'!$A5),'Paramètres - Admin'!$A6,\"/\"))","v":"/"},{"$f":"IF(E10<>\"/\",VLOOKUP(E10,COSTS_Gold_Mine[#All],2),\"/\")","v":"/"},{"$f":"IF(E10<>\"/\",VLOOKUP(E10,COSTS_Gold_Mine[#All],3),\"/\")","v":"/"},0,0,4,{"$f":"IF(Paramètres!C9=0,\"\",Paramètres!C9)","v":""},0,"/",{"$f":"IF(P$5=\"Error\",\"Error\",IF(AND($N$5<>\"/\",$N$5>'Paramètres - Admin'!$A5),'Paramètres - Admin'!$A6,\"/\"))","v":"/"},{"$f":"IF(N10<>\"/\",VLOOKUP(N10,COSTS_Elixir_Collector[#All],2),\"/\")","v":"/"},{"$f":"IF(N10<>\"/\",VLOOKUP(N10,COSTS_Elixir_Collector[#All],3),\"/\")","v":"/"},0,0,4,{"$f":"IF(Paramètres!D9=0,\"\",Paramètres!D9)","v":""},0,"/",{"$f":"IF(Y$5=\"Error\",\"Error\",IF(AND($W$5<>\"/\",$W$5>'Paramètres - Admin'!$A5),'Paramètres - Admin'!$A6,\"/\"))","v":"/"},{"$f":"IF(W10<>\"/\",VLOOKUP(W10,COSTS_Dark_Elixir_Drill[#All],2),\"/\")","v":"/"},{"$f":"IF(W10<>\"/\",VLOOKUP(W10,COSTS_Dark_Elixir_Drill[#All],3),\"/\")","v":"/"},0,0]
[5,{"$f":"IF(Paramètres!B10=0,\"\",Paramètres!B10)","v":""},0,"/",{"$f":"IF(G$5=\"Error\",\"Error\",IF(AND($E$5<>\"/\",$E$5>'Paramètres - Admin'!$A6),'Paramètres - Admin'!$A7,\"/\"))","v":"/"},{"$f":"IF(E11<>\"/\",VLOOKUP(E11,COSTS_Gold_Mine[#All],2),\"/\")","v":"/"},{"$f":"IF(E11<>\"/\",VLOOKUP(E11,COSTS_Gold_Mine[#All],3),\"/\")","v":"/"},0,0,5,{"$f":"IF(Paramètres!C10=0,\"\",Paramètres!C10)","v":""},0,"/",{"$f":"IF(P$5=\"Error\",\"Error\",IF(AND($N$5<>\"/\",$N$5>'Paramètres - Admin'!$A6),'Paramètres - Admin'!$A7,\"/\"))","v":"/"},{"$f":"IF(N11<>\"/\",VLOOKUP(N11,COSTS_Elixir_Collector[#All],2),\"/\")","v":"/"},{"$f":"IF(N11<>\"/\",VLOOKUP(N11,COSTS_Elixir_Collector[#All],3),\"/\")","v":"/"},0,0,5,{"$f":"IF(Paramètres!D10=0,\"\",Paramètres!D10)","v":""},0,"/",{"$f":"IF(Y$5=\"Error\",\"Error\",IF(AND($W$5<>\"/\",$W$5>'Paramètres - Admin'!$A6),'Paramètres - Admin'!$A7,\"/\"))","v":"/"},{"$f":"IF(W11<>\"/\",VLOOKUP(W11,COSTS_Dark_Elixir_Drill[#All],2),\"/\")","v":"/"},{"$f":"IF(W11<>\"/\",VLOOKUP(W11,COSTS_Dark_Elixir_Drill[#All],3),\"/\")","v":"/"},0,0]
[6,{"$f":"IF(Paramètres!B11=0,\"\",Paramètres!B11)","v":""},0,"/",{"$f":"IF(G$5=\"Error\",\"Error\",IF(AND($E$5<>\"/\",$E$5>'Paramètres - Admin'!$A7),'Paramètres - Admin'!$A8,\"/\"))","v":"/"},{"$f":"IF(E12<>\"/\",VLOOKUP(E12,COSTS_Gold_Mine[#All],2),\"/\")","v":"/"},{"$f":"IF(E12<>\"/\",VLOOKUP(E12,COSTS_Gold_Mine[#All],3),\"/\")","v":"/"},0,0,6,{"$f":"IF(Paramètres!C11=0,\"\",Paramètres!C11)","v":""},0,"/",{"$f":"IF(P$5=\"Error\",\"Error\",IF(AND($N$5<>\"/\",$N$5>'Paramètres - Admin'!$A7),'Paramètres - Admin'!$A8,\"/\"))","v":"/"},{"$f":"IF(N12<>\"/\",VLOOKUP(N12,COSTS_Elixir_Collector[#All],2),\"/\")","v":"/"},{"$f":"IF(N12<>\"/\",VLOOKUP(N12,COSTS_Elixir_Collector[#All],3),\"/\")","v":"/"},0,0,6,{"$f":"IF(Paramètres!D11=0,\"\",Paramètres!D11)","v":""},0,"/",{"$f":"IF(Y$5=\"Error\",\"Error\",IF(AND($W$5<>\"/\",$W$5>'Paramètres - Admin'!$A7),'Paramètres - Admin'!$A8,\"/\"))","v":"/"},{"$f":"IF(W12<>\"/\",VLOOKUP(W12,COSTS_Dark_Elixir_Drill[#All],2),\"/\")","v":"/"},{"$f":"IF(W12<>\"/\",VLOOKUP(W12,COSTS_Dark_Elixir_Drill[#All],3),\"/\")","v":"/"},0,0]
[7,{"$f":"IF(Paramètres!B12=0,\"\",Paramètres!B12)","v":""},0,"/",{"$f":"IF(G$5=\"Error\",\"Error\",IF(AND($E$5<>\"/\",$E$5>'Paramètres - Admin'!$A8),'Paramètres - Admin'!$A9,\"/\"))","v":"/"},{"$f":"IF(E13<>\"/\",VLOOKUP(E13,COSTS_Gold_Mine[#All],2),\"/\")","v":"/"},{"$f":"IF(E13<>\"/\",VLOOKUP(E13,COSTS_Gold_Mine[#All],3),\"/\")","v":"/"},0,0,7,{"$f":"IF(Paramètres!C12=0,\"\",Paramètres!C12)","v":""},0,"/",{"$f":"IF(P$5=\"Error\",\"Error\",IF(AND($N$5<>\"/\",$N$5>'Paramètres - Admin'!$A8),'Paramètres - Admin'!$A9,\"/\"))","v":"/"},{"$f":"IF(N13<>\"/\",VLOOKUP(N13,COSTS_Elixir_Collector[#All],2),\"/\")","v":"/"},{"$f":"IF(N13<>\"/\",VLOOKUP(N13,COSTS_Elixir_Collector[#All],3),\"/\")","v":"/"},0,0,null,null,null,null,null,null,"Total",{"$f":"IF(Y$5=\"Error\",\"Error\",SUM(Z7:Z12))","v":0},{"$f":"IF(Y$5=\"Error\",\"Error\",SUM(AA7:AA12))","v":0}]
[8,{"$f":"IF(Paramètres!B13=0,\"\",Paramètres!B13)","v":""},0,"/",{"$f":"IF(G$5=\"Error\",\"Error\",IF(AND($E$5<>\"/\",$E$5>'Paramètres - Admin'!$A9),'Paramètres - Admin'!$A10,\"/\"))","v":"/"},{"$f":"IF(E14<>\"/\",VLOOKUP(E14,COSTS_Gold_Mine[#All],2),\"/\")","v":"/"},{"$f":"IF(E14<>\"/\",VLOOKUP(E14,COSTS_Gold_Mine[#All],3),\"/\")","v":"/"},0,0,8,{"$f":"IF(Paramètres!C13=0,\"\",Paramètres!C13)","v":""},0,"/",{"$f":"IF(P$5=\"Error\",\"Error\",IF(AND($N$5<>\"/\",$N$5>'Paramètres - Admin'!$A9),'Paramètres - Admin'!$A10,\"/\"))","v":"/"},{"$f":"IF(N14<>\"/\",VLOOKUP(N14,COSTS_Elixir_Collector[#All],2),\"/\")","v":"/"},{"$f":"IF(N14<>\"/\",VLOOKUP(N14,COSTS_Elixir_Collector[#All],3),\"/\")","v":"/"},0,0]
[9,{"$f":"IF(Paramètres!B14=0,\"\",Paramètres!B14)","v":""},0,"/",{"$f":"IF(G$5=\"Error\",\"Error\",IF(AND($E$5<>\"/\",$E$5>'Paramètres - Admin'!$A10),'Paramètres - Admin'!$A11,\"/\"))","v":"/"},{"$f":"IF(E15<>\"/\",VLOOKUP(E15,COSTS_Gold_Mine[#All],2),\"/\")","v":"/"},{"$f":"IF(E15<>\"/\",VLOOKUP(E15,COSTS_Gold_Mine[#All],3),\"/\")","v":"/"},0,0,9,{"$f":"IF(Paramètres!C14=0,\"\",Paramètres!C14)","v":""},0,"/",{"$f":"IF(P$5=\"Error\",\"Error\",IF(AND($N$5<>\"/\",$N$5>'Paramètres - Admin'!$A10),'Paramètres - Admin'!$A11,\"/\"))","v":"/"},{"$f":"IF(N15<>\"/\",VLOOKUP(N15,COSTS_Elixir_Collector[#All],2),\"/\")","v":"/"},{"$f":"IF(N15<>\"/\",VLOOKUP(N15,COSTS_Elixir_Collector[#All],3),\"/\")","v":"/"},0,0]
[10,{"$f":"IF(Paramètres!B15=0,\"\",Paramètres!B15)","v":""},0,"/",{"$f":"IF(G$5=\"Error\",\"Error\",IF(AND($E$5<>\"/\",$E$5>'Paramètres - Admin'!$A11),'Paramètres - Admin'!$A12,\"/\"))","v":"/"},{"$f":"IF(E16<>\"/\",VLOOKUP(E16,COSTS_Gold_Mine[#All],2),\"/\")","v":"/"},{"$f":"IF(E16<>\"/\",VLOOKUP(E16,COSTS_Gold_Mine[#All],3),\"/\")","v":"/"},0,0,10,{"$f":"IF(Paramètres!C15=0,\"\",Paramètres!C15)","v":""},0,"/",{"$f":"IF(P$5=\"Error\",\"Error\",IF(AND($N$5<>\"/\",$N$5>'Paramètres - Admin'!$A11),'Paramètres - Admin'!$A12,\"/\"))","v":"/"},{"$f":"IF(N16<>\"/\",VLOOKUP(N16,COSTS_Elixir_Collector[#All],2),\"/\")","v":"/"},{"$f":"IF(N16<>\"/\",VLOOKUP(N16,COSTS_Elixir_Collector[#All],3),\"/\")","v":"/"},0,0]
[11,{"$f":"IF(Paramètres!B16=0,\"\",Paramètres!B16)","v":""},0,"/",{"$f":"IF(G$5=\"Error\",\"Error\",IF(AND($E$5<>\"/\",$E$5>'Paramètres - Admin'!$A12),'Paramètres - Admin'!$A13,\"/\"))","v":"/"},{"$f":"IF(E17<>\"/\",VLOOKUP(E17,COSTS_Gold_Mine[#All],2),\"/\")","v":"/"},{"$f":"IF(E17<>\"/\",VLOOKUP(E17,COSTS_Gold_Mine[#All],3),\"/\")","v":"/"},0,0,11,{"$f":"IF(Paramètres!C16=0,\"\",Paramètres!C16)","v":""},{"$f":"IF(L16<>0,L16+IF(AND(K16<>\"\",J16<N$5),K16,0),IF(AND(K16<>\"\",J16<N$5),K16,0))","v":0},"/",{"$f":"IF(P$5=\"Error\",\"Error\",IF(AND($N$5<>\"/\",$N$5>'Paramètres - Admin'!$A12),'Paramètres - Admin'!$A13,\"/\"))","v":"/"},{"$f":"IF(N17<>\"/\",VLOOKUP(N17,COSTS_Elixir_Collector[#All],2),\"/\")","v":"/"},{"$f":"IF(N17<>\"/\",VLOOKUP(N17,COSTS_Elixir_Collector[#All],3),\"/\")","v":"/"},0,0]
[12,{"$f":"IF(Paramètres!B17=0,\"\",Paramètres!B17)","v":""},{"$f":"IF(C17<>0,C17+IF(AND(B17<>\"\",A17<E$5),B17,0),IF(AND(B17<>\"\",A17<E$5),B17,0))","v":0},"/",{"$f":"IF(G$5=\"Error\",\"Error\",IF(AND($E$5<>\"/\",$E$5>'Paramètres - Admin'!$A13),'Paramètres - Admin'!$A14,\"/\"))","v":"/"},{"$f":"IF(E18<>\"/\",VLOOKUP(E18,COSTS_Gold_Mine[#All],2),\"/\")","v":"/"},{"$f":"IF(E18<>\"/\",VLOOKUP(E18,COSTS_Gold_Mine[#All],3),\"/\")","v":"/"},0,0,12,{"$f":"IF(Paramètres!C17=0,\"\",Paramètres!C17)","v":""},{"$f":"IF(L17<>0,L17+IF(AND(K17<>\"\",J17<N$5),K17,0),IF(AND(K17<>\"\",J17<N$5),K17,0))","v":0},"/",{"$f":"IF(P$5=\"Error\",\"Error\",IF(AND($N$5<>\"/\",$N$5>'Paramètres - Admin'!$A13),'Paramètres - Admin'!$A14,\"/\"))","v":"/"},{"$f":"IF(N18<>\"/\",VLOOKUP(N18,COSTS_Elixir_Collector[#All],2),\"/\")","v":"/"},{"$f":"IF(N18<>\"/\",VLOOKUP(N18,COSTS_Elixir_Collector[#All],3),\"/\")","v":"/"},0,0]
[null,null,null,null,null,null,"Total",{"$f":"IF(G$5=\"Error\",\"Error\",SUM(H7:H18))","v":450},{"$f":"IF(G$5=\"Error\",\"Error\",SUM(I7:I18))","v":9.9999999999999992E-2},null,null,null,null,null,null,"Total",{"$f":"IF(P$5=\"Error\",\"Error\",SUM(Q7:Q18))","v":450},{"$f":"IF(P$5=\"Error\",\"Error\",SUM(R7:R18))","v":9.9999999999999992E-2}]
["Réserve d'Or",null,null,"Max","Max +",null,"Actuel","À Faire","Améliorations","Réservoir d'Élixir",null,null,"Max","Max +",null,"Actuel","À Faire","Améliorations","Réservoir d'Élixir Noir",null,null,"Max","Max +",null,"Actuel","À Faire","Améliorations"]
[null,null,null,{"$f":"VLOOKUP($A$2,AVAILABLE_Buildings_Resource[#All],MATCH(A20,AVAILABLE_Buildings_Resource[#Headers],0))","v":1},{"$f":"VLOOKUP($A$2,AVAILABLE_Buildings_Resource[#All],MATCH(A20,AVAILABLE_Buildings_Resource[#Headers],0)+1)","v":1},null,{"$f":"IF(SUM(B23:B34)>D21,\"Error\",SUM(B23:B34))","v":0},{"$f":"IF(G$21=\"Error\",\"Error\",D21-G21)","v":1},{"$f":"IF(G$21=\"Error\",\"Error\",SUM(D23:D34))","v":1},null,null,null,{"$f":"VLOOKUP($A$2,AVAILABLE_Buildings_Resource[#All],MATCH(J20,AVAILABLE_Buildings_Resource[#Headers],0))","v":1},{"$f":"VLOOKUP($A$2,AVAILABLE_Buildings_Resource[#All],MATCH(J20,AVAILABLE_Buildings_Resource[#Headers],0)+1)","v":1},null,{"$f":"IF(SUM(K23:K34)>M21,\"Error\",SUM(K23:K34))","v":0},{"$f":"IF(P$21=\"Error\",\"Error\",M21-P21)","v":1},{"$f":"IF(P$21=\"Error\",\"Error\",SUM(M23:M34))","v":1},null,null,null,{"$f":"VLOOKUP($A$2,AVAILABLE_Buildings_Resource[#All],MATCH(S20,AVAILABLE_Buildings_Resource[#Headers],0))","v":0},{"$f":"VLOOKUP($A$2,AVAILABLE_Buildings_Resource[#All],MATCH(S20,AVAILABLE_Buildings_Resource[#Headers],0)+1)","v":0},null,{"$f":"IF(SUM(T23:T28)>V21,\"Error\",SUM(T23:T28))","v":0},{"$f":"IF(Y$21=\"Error\",\"Error\",V21-Y21)","v":0},{"$f":"IF(Y$21=\"Error\",\"Error\",SUM(V23:V28))","v":0}]
["+","NB",null,"NB","+","Coût","Temps","Coût Total","Temps Total","+","NB",null,"NB","+","Coût","Temps","Coût Total","Temps Total","+","NB",null,"NB","+","Coût","Temps","Coût Total","Temps Total"]
[1,{"$f":"IF(Paramètres!E6=0,\"\",Paramètres!E6)","v":""},{"$f":"IF(C22<>0,C22+IF(AND(B22<>\"\",A22<E$21),B22,0),IF(AND(B22<>\"\",A22<E$21),B22,0))","v":0},{"$f":"IF(E23<>\"/\",IF(G$21=\"Error\",\"Error\",$H$21+C23),\"/\")","v":1},{"$f":"IF(G$21=\"Error\",\"Error\",IF(AND($E$21<>\"/\",$E$21>'Paramètres - Admin'!$A2),'Paramètres - Admin'!$A3,\"/\"))","v":1},{"$f":"IF(E23<>\"/\",VLOOKUP(E23,COSTS_Gold_Storage[#All],2),\"/\")","v":300},{"$f":"IF(E23<>\"/\",VLOOKUP(E23,COSTS_Gold_Storage[#All],3),\"/\")","v":0.25},{"$f":"IF(G$21=\"Error\",\"Error\",IF(F23<>\"/\",D23*F23,0))","v":300},{"$f":"IF(G$21=\"Error\",\"Error\",IF(G23<>\"/\",D23*G23,0))","v":0.25},1,{"$f":"IF(Paramètres!F6=0,\"\",Paramètres!F6)","v":""},{"$f":"IF(L22<>0,L22+IF(AND(K22<>\"\",J22<N$21),K22,0),IF(AND(K22<>\"\",J22<N$21),K22,0))","v":0},{"$f":"IF(N23<>\"/\",IF(P$21=\"Error\",\"Error\",$Q$21+L23),\"/\")","v":1},{"$f":"IF(P$21=\"Error\",\"Error\",IF(AND($N$21<>\"/\",$N$21>'Paramètres - Admin'!$A2),'Paramètres - Admin'!$A3,\"/\"))","v":1},{"$f":"IF(N23<>\"/\",VLOOKUP(N23,COSTS_Elixir_Storage[#All],2),\"/\")","v":300},{"$f":"IF(N23<>\"/\",VLOOKUP(N23,COSTS_Elixir_Storage[#All],3),\"/\")","v":0.25},{"$f":"IF(P$21=\"Error\",\"Error\",IF(O23<>\"/\",M23*O23,0))","v":300},{"$f":"IF(P$21=\"Error\",\"Error\",IF(P23<>\"/\",M23*P23,0))","v":0.25},1,{"$f":"IF(Paramètres!G6=0,\"\",Paramètres!G6)","v":""},{"$f":"IF(U22<>0,U22+IF(AND(T22<>\"\",S22<W$21),T22,0),IF(AND(T22<>\"\",S22<W$21),T22,0))","v":0},{"$f":"IF(W23<>\"/\",IF(Y$21=\"Error\",\"Error\",$Z$21+U23),\"/\")","v":"/"},{"$f":"IF(Y$21=\"Error\",\"Error\",IF(AND($W$21<>\"/\",$W$21>'Paramètres - Admin'!$A2),'Paramètres - Admin'!$A3,\"/\"))","v":"/"},{"$f":"IF(W23<>\"/\",VLOOKUP(W23,COSTS_Dark_Elixir_Storage[#All],2),\"/\")","v":"/"},{"$f":"IF(W23<>\"/\",VLOOKUP(W23,COSTS_Dark_Elixir_Storage[#All],3),\"/\")","v":"/"},{"$f":"IF(Y$21=\"Error\",\"Error\",IF(X23<>\"/\",V23*X23,0))","v":0},{"$f":"IF(Y$21=\"Error\",\"Error\",IF(Y23<>\"/\",V23*Y23,0))","v":0}]
[2,{"$f":"IF(Paramètres!E7=0,\"\",Paramètres!E7)","v":""},0,"/",{"$f":"IF(G$21=\"Error\",\"Error\",IF(AND($E$21<>\"/\",$E$21>'Paramètres - Admin'!$A3),'Paramètres - Admin'!$A4,\"/\"))","v":"/"},{"$f":"IF(E24<>\"/\",VLOOKUP(E24,COSTS_Gold_Storage[#All],2),\"/\")","v":"/"},{"$f":"IF(E24<>\"/\",VLOOKUP(E24,COSTS_Gold_Storage[#All],3),\"/\")","v":"/"},0,0,2,{"$f":"IF(Paramètres!F7=0,\"\",Paramètres!F7)","v":""},{"$f":"IF(L23<>0,L23+IF(AND(K23<>\"\",J23<N$21),K23,0),IF(AND(K23<>\"\",J23<N$21),K23,0))","v":0},"/",{"$f":"IF(P$21=\"Error\",\"Error\",IF(AND($N$21<>\"/\",$N$21>'Paramètres - Admin'!$A3),'Paramètres - Admin'!$A4,\"/\"))","v":"/"},{"$f":"IF(N24<>\"/\",VLOOKUP(N24,COSTS_Elixir_Storage[#All],2),\"/\")","v":"/"},{"$f":"IF(N24<>\"/\",VLOOKUP(N24,COSTS_Elixir_Storage[#All],3),\"/\")","v":"/"},0,0,2,{"$f":"IF(Paramètres!G7=0,\"\",Paramètres!G7)","v":""},0,"/",{"$f":"IF(Y$21=\"Error\",\"Error\",IF(AND($W$21<>\"/\",$W$21>'Paramètres - Admin'!$A3),'Paramètres - Admin'!$A4,\"/\"))","v":"/"},{"$f":"IF(W24<>\"/\",VLOOKUP(W24,COSTS_Dark_Elixir_Storage[#All],2),\"/\")","v":"/"},{"$f":"IF(W24<>\"/\",VLOOKUP(W24,COSTS_Dark_Elixir_Storage[#All],3),\"/\")","v":"/"},0,0]
[3,{"$f":"IF(Paramètres!E8=0,\"\",Paramètres!E8)","v":""},0,"/",{"$f":"IF(G$21=\"Error\",\"Error\",IF(AND($E$21<>\"/\",$E$21>'Paramètres - Admin'!$A4),'Paramètres - Admin'!$A5,\"/\"))","v":"/"},{"$f":"IF(E25<>\"/\",VLOOKUP(E25,COSTS_Gold_Storage[#All],2),\"/\")","v":"/"},{"$f":"IF(E25<>\"/\",VLOOKUP(E25,COSTS_Gold_Storage[#All],3),\"/\")","v":"/"},0,0,3,{"$f":"IF(Paramètres!F8=0,\"\",Paramètres!F8)","v":""},0,"/",{"$f":"IF(P$21=\"Error\",\"Error\",IF(AND($N$21<>\"/\",$N$21>'Paramètres - Admin'!$A4),'Paramètres - Admin'!$A5,\"/\"))","v":"/"},{"$f":"IF(N25<>\"/\",VLOOKUP(N25,COSTS_Elixir_Storage[#All],2),\"/\")","v":"/"},{"$f":"IF(N25<>\"/\",VLOOKUP(N25,COSTS_Elixir_Storage[#All],3),\"/\")","v":"/"},0,0,3,{"$f":"IF(Paramètres!G8=0,\"\",Paramètres!G8)","v":""},0,"/",{"$f":"IF(Y$21=\"Error\",\"Error\",IF(AND($W$21<>\"/\",$W$21>'Paramètres - Admin'!$A4),'Paramètres - Admin'!$A5,\"/\"))","v":"/"},{"$f":"IF(W25<>\"/\",VLOOKUP(W25,COSTS_Dark_Elixir_Storage[#All],2),\"/\")","v":"/"},{"$f":"IF(W25<>\"/\",VLOOKUP(W25,COSTS_Dark_Elixir_Storage[#All],3),\"/\")","v":"/"},0,0]
[4,{"$f":"IF(Paramètres!E9=0,\"\",Paramètres!E9)","v":""},0,"/",{"$f":"IF(G$21=\"Error\",\"Error\",IF(AND($E$21<>\"/\",$E$21>'Paramètres - Admin'!$A5),'Paramètres - Admin'!$A6,\"/\"))","v":"/"},{"$f":"IF(E26<>\"/\",VLOOKUP(E26,COSTS_Gold_Storage[#All],2),\"/\")","v":"/"},{"$f":"IF(E26<>\"/\",VLOOKUP(E26,COSTS_Gold_Storage[#All],3),\"/\")","v":"/"},0,0,4,{"$f":"IF(Paramètres!F9=0,\"\",Paramètres!F9)","v":""},0,"/",{"$f":"IF(P$21=\"Error\",\"Error\",IF(AND($N$21<>\"/\",$N$21>'Paramètres - Admin'!$A5),'Paramètres - Admin'!$A6,\"/\"))","v":"/"},{"$f":"IF(N26<>\"/\",VLOOKUP(N26,COSTS_Elixir_Storage[#All],2),\"/\")","v":"/"},{"$f":"IF(N26<>\"/\",VLOOKUP(N26,COSTS_Elixir_Storage[#All],3),\"/\")","v":"/"},0,0,4,{"$f":"IF(Paramètres!G9=0,\"\",Paramètres!G9)","v":""},0,"/",{"$f":"IF(Y$21=\"Error\",\"Error\",IF(AND($W$21<>\"/\",$W$21>'Paramètres - Admin'!$A5),'Paramètres - Admin'!$A6,\"/\"))","v":"/"},{"$f":"IF(W26<>\"/\",VLOOKUP(W26,COSTS_Dark_Elixir_Storage[#All],2),\"/\")","v":"/"},{"$f":"IF(W26<>\"/\",VLOOKUP(W26,COSTS_Dark_Elixir_Storage[#All],3),\"/\")","v":"/"},0,0]
[5,{"$f":"IF(Paramètres!E10=0,\"\",Paramètres!E10)","v":""},0,"/",{"$f":"IF(G$21=\"Error\",\"Error\",IF(AND($E$21<>\"/\",$E$21>'Paramètres - Admin'!$A6),'Paramètres - Admin'!$A7,\"/\"))","v":"/"},{"$f":"IF(E27<>\"/\",VLOOKUP(E27,COSTS_Gold_Storage[#All],2),\"/\")","v":"/"},{"$f":"IF(E27<>\"/\",VLOOKUP(E27,COSTS_Gold_Storage[#All],3),\"/\")","v":"/"},0,0,5,{"$f":"IF(Paramètres!F10=0,\"\",Paramètres!F10)","v":""},0,"/",{"$f":"IF(P$21=\"Error\",\"Error\",IF(AND($N$21<>\"/\",$N$21>'Paramètres - Admin'!$A6),'Paramètres - Admin'!$A7,\"/\"))","v":"/"},{"$f":"IF(N27<>\"/\",VLOOKUP(N27,COSTS_Elixir_Storage[#All],2),\"/\")","v":"/"},{"$f":"IF(N27<>\"/\",VLOOKUP(N27,COSTS_Elixir_Storage[#All],3),\"/\")","v":"/"},0,0,5,{"$f":"IF(Paramètres!G10=0,\"\",Paramètres!G10)","v":""},0,"/",{"$f":"IF(Y$21=\"Error\",\"Error\",IF(AND($W$21<>\"/\",$W$21>'Paramètres - Admin'!$A6),'Paramètres - Admin'!$A7,\"/\"))","v":"/"},{"$f":"IF(W27<>\"/\",VLOOKUP(W27,COSTS_Dark_Elixir_Storage[#All],2),\"/\")","v":"/"},{"$f":"IF(W27<>\"/\",VLOOKUP(W27,COSTS_Dark_Elixir_Storage[#All],3),\"/\")","v":"/"},0,0]
[6,{"$f":"IF(Paramètres!E11=0,\"\",Paramètres!E11)","v":""},0,"/",{"$f":"IF(G$21=\"Error\",\"Error\",IF(AND($E$21<>\"/\",$E$21>'Paramètres - Admin'!$A7),'Paramètres - Admin'!$A8,\"/\"))","v":"/"},{"$f":"IF(E28<>\"/\",VLOOKUP(E28,COSTS_Gold_Storage[#All],2),\"/\")","v":"/"},{"$f":"IF(E28<>\"/\",VLOOKUP(E28,COSTS_Gold_Storage[#All],3),\"/\")","v":"/"},0,0,6,{"$f":"IF(Paramètres!F11=0,\"\",Paramètres!F11)","v":""},0,"/",{"$f":"IF(P$21=\"Error\",\"Error\",IF(AND($N$21<>\"/\",$N$21>'Paramètres - Admin'!$A7),'Paramètres - Admin'!$A8,\"/\"))","v":"/"},{"$f":"IF(N28<>\"/\",VLOOKUP(N28,COSTS_Elixir_Storage[#All],2),\"/\")","v":"/"},{"$f":"IF(N28<>\"/\",VLOOKUP(N28,COSTS_Elixir_Storage[#All],3),\"/\")","v":"/"},0,0,6,{"$f":"IF(Paramètres!G11=0,\"\",Paramètres!G11)","v":""},0,"/",{"$f":"IF(Y$21=\"Error\",\"Error\",IF(AND($W$21<>\"/\",$W$21>'Paramètres - Admin'!$A7),'Paramètres - Admin'!$A8,\"/\"))","v":"/"},{"$f":"IF(W28<>\"/\",VLOOKUP(W28,COSTS_Dark_Elixir_Storage[#All],2),\"/\")","v":"/"},{"$f":"IF(W28<>\"/\",VLOOKUP(W28,COSTS_Dark_Elixir_Storage[#All],3),\"/\")","v":"/"},0,0]
[7,{"$f":"IF(Paramètres!E12=0,\"\",Paramètres!E12)","v":""},0,"/",{"$f":"IF(G$21=\"Error\",\"Error\",IF(AND($E$21<>\"/\",$E$21>'Paramètres - Admin'!$A8),'Paramètres - Admin'!$A9,\"/\"))","v":"/"},{"$f":"IF(E29<>\"/\",VLOOKUP(E29,COSTS_Gold_Storage[#All],2),\"/\")","v":"/"},{"$f":"IF(E29<>\"/\",VLOOKUP(E29,COSTS_Gold_Storage[#All],3),\"/\")","v":"/"},0,0,7,{"$f":"IF(Paramètres!F12=0,\"\",Paramètres!F12)","v":""},0,"/",{"$f":"IF(P$21=\"Error\",\"Error\",IF(AND($N$21<>\"/\",$N$21>'Paramètres - Admin'!$A8),'Paramètres - Admin'!$A9,\"/\"))","v":"/"},{"$f":"IF(N29<>\"/\",VLOOKUP(N29,COSTS_Elixir_Storage[#All],2),\"/\")","v":"/"},{"$f":"IF(N29<>\"/\",VLOOKUP(N29,COSTS_Elixir_Storage[#All],3),\"/\")","v":"/"},0,0,null,null,null,null,null,null,"Total",{"$f":"IF(Y$21=\"Error\",\"Error\",SUM(Z23:Z28))","v":0},{"$f":"IF(Y$21=\"Error\",\"Error\",SUM(AA23:AA28))","v":0}]
[8,{"$f":"IF(Paramètres!E13=0,\"\",Paramètres!E13)","v":""},0,"/",{"$f":"IF(G$21=\"Error\",\"Error\",IF(AND($E$21<>\"/\",$E$21>'Paramètres - Admin'!$A9),'Paramètres - Admin'!$A10,\"/\"))","v":"/"},{"$f":"IF(E30<>\"/\",VLOOKUP(E30,COSTS_Gold_Storage[#All],2),\"/\")","v":"/"},{"$f":"IF(E30<>\"/\",VLOOKUP(E30,COSTS_Gold_Storage[#All],3),\"/\")","v":"/"},0,0,8,{"$f":"IF(Paramètres!F13=0,\"\",Paramètres!F13)","v":""},0,"/",{"$f":"IF(P$21=\"Error\",\"Error\",IF(AND($N$21<>\"/\",$N$21>'Paramètres - Admin'!$A9),'Paramètres - Admin'!$A10,\"/\"))","v":"/"},{"$f":"IF(N30<>\"/\",VLOOKUP(N30,COSTS_Elixir_Storage[#All],2),\"/\")","v":"/"},{"$f":"IF(N30<>\"/\",VLOOKUP(N30,COSTS_Elixir_Storage[#All],3),\"/\")","v":"/"},0,0]
[9,{"$f":"IF(Paramètres!E14=0,\"\",Paramètres!E14)","v":""},0,"/",{"$f":"IF(G$21=\"Error\",\"Error\",IF(AND($E$21<>\"/\",$E$21>'Paramètres - Admin'!$A10),'Paramètres - Admin'!$A11,\"/\"))","v":"/"},{"$f":"IF(E31<>\"/\",VLOOKUP(E31,COSTS_Gold_Storage[#All],2),\"/\")","v":"/"},{"$f":"IF(E31<>\"/\",VLOOKUP(E31,COSTS_Gold_Storage[#All],3),\"/\")","v":"/"},0,0,9,{"$f":"IF(Paramètres!F14=0,\"\",Paramètres!F14)","v":""},0,"/",{"$f":"IF(P$21=\"Error\",\"Error\",IF(AND($N$21<>\"/\",$N$21>'Paramètres - Admin'!$A10),'Paramètres - Admin'!$A11,\"/\"))","v":"/"},{"$f":"IF(N31<>\"/\",VLOOKUP(N31,COSTS_Elixir_Storage[#All],2),\"/\")","v":"/"},{"$f":"IF(N31<>\"/\",VLOOKUP(N31,COSTS_Elixir_Storage[#All],3),\"/\")","v":"/"},0,0]
[10,{"$f":"IF(Paramètres!E15=0,\"\",Paramètres!E15)","v":""},0,"/",{"$f":"IF(G$21=\"Error\",\"Error\",IF(AND($E$21<>\"/\",$E$21>'Paramètres - Admin'!$A11),'Paramètres - Admin'!$A12,\"/\"))","v":"/"},{"$f":"IF(E32<>\"/\",VLOOKUP(E32,COSTS_Gold_Storage[#All],2),\"/\")","v":"/"},{"$f":"IF(E32<>\"/\",VLOOKUP(E32,COSTS_Gold_Storage[#All],3),\"/\")","v":"/"},0,0,10,{"$f":"IF(Paramètres!F15=0,\"\",Paramètres!F15)","v":""},0,"/",{"$f":"IF(P$21=\"Error\",\"Error\",IF(AND($N$21<>\"/\",$N$21>'Paramètres - Admin'!$A11),'Paramètres - Admin'!$A12,\"/\"))","v":"/"},{"$f":"IF(N32<>\"/\",VLOOKUP(N32,COSTS_Elixir_Storage[#All],2),\"/\")","v":"/"},{"$f":"IF(N32<>\"/\",VLOOKUP(N32,COSTS_Elixir_Storage[#All],3),\"/\")","v":"/"},0,0]
[11,{"$f":"IF(Paramètres!E16=0,\"\",Paramètres!E16)","v":""},0,"/",{"$f":"IF(G$21=\"Error\",\"Error\",IF(AND($E$21<>\"/\",$E$21>'Paramètres - Admin'!$A12),'Paramètres - Admin'!$A13,\"/\"))","v":"/"},{"$f":"IF(E33<>\"/\",VLOOKUP(E33,COSTS_Gold_Storage[#All],2),\"/\")","v":"/"},{"$f":"IF(E33<>\"/\",VLOOKUP(E33,COSTS_Gold_Storage[#All],3),\"/\")","v":"/"},0,0,11,{"$f":"IF(Paramètres!F16=0,\"\",Paramètres!F16)","v":""},0,"/",{"$f":"IF(P$21=\"Error\",\"Error\",IF(AND($N$21<>\"/\",$N$21>'Paramètres - Admin'!$A12),'Paramètres - Admin'!$A13,\"/\"))","v":"/"},{"$f":"IF(N33<>\"/\",VLOOKUP(N33,COSTS_Elixir_Storage[#All],2),\"/\")","v":"/"},{"$f":"IF(N33<>\"/\",VLOOKUP(N33,COSTS_Elixir_Storage[#All],3),\"/\")","v":"/"},0,0]
[12,{"$f":"IF(Paramètres!E17=0,\"\",Paramètres!E17)","v":""},0,"/",{"$f":"IF(G$21=\"Error\",\"Error\",IF(AND($E$21<>\"/\",$E$21>'Paramètres - Admin'!$A13),'Paramètres - Admin'!$A14,\"/\"))","v":"/"},{"$f":"IF(E34<>\"/\",VLOOKUP(E34,COSTS_Gold_Storage[#All],2),\"/\")","v":"/"},{"$f":"IF(E34<>\"/\",VLOOKUP(E34,COSTS_Gold_Storage[#All],3),\"/\")","v":"/"},0,0,12,{"$f":"IF(Paramètres!F17=0,\"\",Paramètres!F17)","v":""},{"$f":"IF(L33<>0,L33+IF(AND(K33<>\"\",J33<N$21),K33,0),IF(AND(K33<>\"\",J33<N$21),K33,0))","v":0},"/",{"$f":"IF(P$21=\"Error\",\"Error\",IF(AND($N$21<>\"/\",$N$21>'Paramètres - Admin'!$A13),'Paramètres - Admin'!$A14,\"/\"))","v":"/"},{"$f":"IF(N34<>\"/\",VLOOKUP(N34,COSTS_Elixir_Storage[#All],2),\"/\")","v":"/"},{"$f":"IF(N34<>\"/\",VLOOKUP(N34,COSTS_Elixir_Storage[#All],3),\"/\")","v":"/"},0,0]
[null,null,null,null,null,null,"Total",{"$f":"IF(G$21=\"Error\",\"Error\",SUM(H23:H33))","v":300},{"$f":"IF(G$21=\"Error\",\"Error\",SUM(I23:I33))","v":0.25},null,null,null,null,null,null,"Total",{"$f":"IF(P$21=\"Error\",\"Error\",SUM(Q23:Q33))","v":300},{"$f":"IF(P$21=\"Error\",\"Error\",SUM(R23:R33))","v":0.25}]
[]
[]
["Bâtiments d'Armée"]
["Caserne",null,null,"Max","Max +",null,"Actuel","À Faire","Améliorations","Laboratoire",null,null,"Max","Max +",null,"Actuel","À Faire","Améliorations","Camp Militaire",null,null,"Max","Max +",null,"Actuel","À Faire","Améliorations"]
[null,null,null,{"$f":"VLOOKUP($A$2,AVAILABLE_Buildings_Army[#All],MATCH(A39,AVAILABLE_Buildings_Army[#Headers],0))","v":1},{"$f":"VLOOKUP($A$2,AVAILABLE_Buildings_Army[#All],MATCH(A39,AVAILABLE_Buildings_Army[#Headers],0)+1)","v":3},null,{"$f":"IF(SUM(B42:B53)>D40,\"Error\",SUM(B42:B53))","v":0},{"$f":"IF(G$40=\"Error\",\"Error\",D40-G40)","v":1},{"$f":"IF(G$40=\"Error\",\"Error\",SUM(D42:D53))","v":3},null,null,null,{"$f":"VLOOKUP($A$2,AVAILABLE_Buildings_Army[#All],MATCH(J39,AVAILABLE_Buildings_Army[#Headers],0))","v":0},{"$f":"VLOOKUP($A$2,AVAILABLE_Buildings_Army[#All],MATCH(J39,AVAILABLE_Buildings_Army[#Headers],0)+1)","v":0},null,{"$f":"IF(SUM(K42:K50)>M40,\"Error\",SUM(K42:K50))","v":0},{"$f":"IF(P$40=\"Error\",\"Error\",M40-P40)","v":0},{"$f":"IF(P$40=\"Error\",\"Error\",SUM(M42:M50))","v":0},null,null,null,{"$f":"VLOOKUP($A$2,AVAILABLE_Buildings_Army[#All],MATCH(S39,AVAILABLE_Buildings_Army[#Headers],0))","v":1},{"$f":"VLOOKUP($A$2,AVAILABLE_Buildings_Army[#All],MATCH(S39,AVAILABLE_Buildings_Army[#Headers],0)+1)","v":1},null,{"$f":"IF(SUM(T42:T49)>V40,\"Error\",SUM(T42:T49))","v":0},{"$f":"IF(Y$40=\"Error\",\"Error\",V40-Y40)","v":1},{"$f":"IF(Y$40=\"Error\",\"Error\",SUM(V42:V49))","v":1}]
["+","NB",null,"NB","+","Coût","Temps","Coût Total","Temps Total","+","NB",null,"NB","+","Coût","Temps","Coût Total","Temps Total","+","NB",null,"NB","+","Coût","Temps","Coût Total","Temps Total"]
[1,{"$f":"IF(Paramètres!H6=0,\"\",Paramètres!H6)","v":""},{"$f":"IF(C41<>0,C41+IF(AND(B41<>\"\",A41<E$40),B41,0),IF(AND(B41<>\"\",A41<E$40),B41,0))","v":0},{"$f":"IF(E42<>\"/\",IF(G$40=\"Error\",\"Error\",$H$40+C42),\"/\")","v":1},{"$f":"IF(G$40=\"Error\",\"Error\",IF(AND($E$40<>\"/\",$E$40>'Paramètres - Admin'!$A2),'Paramètres - Admin'!$A3,\"/\"))","v":1},{"$f":"IF(E42<>\"/\",VLOOKUP(E42,COSTS_Barrack[#All],2),\"/\")","v":200},{"$f":"IF(E42<>\"/\",VLOOKUP(E42,COSTS_Barrack[#All],3),\"/\")","v":0.02},{"$f":"IF(G$40=\"Error\",\"Error\",IF(F42<>\"/\",D42*F42,0))","v":200},{"$f":"IF(G$40=\"Error\",\"Error\",IF(G42<>\"/\",D42*G42,0))","v":0.02},1,{"$f":"IF(Paramètres!K6=0,\"\",Paramètres!K6)","v":""},{"$f":"IF(L41<>0,L41+IF(AND(K41<>\"\",J41<N$40),K41,0),IF(AND(K41<>\"\",J41<N$40),K41,0))","v":0},{"$f":"IF(N42<>\"/\",IF(P$40=\"Error\",\"Error\",$Q$40+L42),\"/\")","v":"/"},{"$f":"IF(P$40=\"Error\",\"Error\",IF(AND($N$40<>\"/\",$N$40>'Paramètres - Admin'!$A2),'Paramètres - Admin'!$A3,\"/\"))","v":"/"},{"$f":"IF(N42<>\"/\",VLOOKUP(N42,COSTS_Laboratory[#All],2),\"/\")","v":"/"},{"$f":"IF(N42<>\"/\",VLOOKUP(N42,COSTS_Laboratory[#All],3),\"/\")","v":"/"},{"$f":"IF(P$40=\"Error\",\"Error\",IF(O42<>\"/\",M42*O42,0))","v":0},{"$f":"IF(P$40=\"Error\",\"Error\",IF(P42<>\"/\",M42*P42,0))","v":0},1,{"$f":"IF(Paramètres!J6=0,\"\",Paramètres!J6)","v":""},{"$f":"IF(U41<>0,U41+IF(AND(T41<>\"\",S41<W$40),T41,0),IF(AND(T41<>\"\",S41<W$40),T41,0))","v":0},{"$f":"IF(W42<>\"/\",IF(Y$40=\"Error\",\"Error\",$Z$40+U42),\"/\")","v":1},{"$f":"IF(Y$40=\"Error\",\"Error\",IF(AND($W$40<>\"/\",$W$40>'Paramètres - Admin'!$A2),'Paramètres - Admin'!$A3,\"/\"))","v":1},{"$f":"IF(W42<>\"/\",VLOOKUP(W42,COSTS_Army_Camp[#All],2),\"/\")","v":250},{"$f":"IF(W42<>\"/\",VLOOKUP(W42,COSTS_Army_Camp[#All],3),\"/\")","v":8.3333333333333329E-2},{"$f":"IF(Y$40=\"Error\",\"Error\",IF(X42<>\"/\",V42*X42,0))","v":250},{"$f":"IF(Y$40=\"Error\",\"Error\",IF(Y42<>\"/\",V42*Y42,0))","v":8.3333333333333329E-2}]
[2,{"$f":"IF(Paramètres!H7=0,\"\",Paramètres!H7)","v":""},0,1,{"$f":"IF(G$40=\"Error\",\"Error\",IF(AND($E$40<>\"/\",$E$40>'Paramètres - Admin'!$A3),'Paramètres - Admin'!$A4,\"/\"))","v":2},{"$f":"IF(E43<>\"/\",VLOOKUP(E43,COSTS_Barrack[#All],2),\"/\")","v":1000},{"$f":"IF(E43<>\"/\",VLOOKUP(E43,COSTS_Barrack[#All],3),\"/\")","v":0.25},1000,0.25,2,{"$f":"IF(Paramètres!K7=0,\"\",Paramètres!K7)","v":""},0,"/",{"$f":"IF(P$40=\"Error\",\"Error\",IF(AND($N$40<>\"/\",$N$40>'Paramètres - Admin'!$A3),'Paramètres - Admin'!$A4,\"/\"))","v":"/"},{"$f":"IF(N43<>\"/\",VLOOKUP(N43,COSTS_Laboratory[#All],2),\"/\")","v":"/"},{"$f":"IF(N43<>\"/\",VLOOKUP(N43,COSTS_Laboratory[#All],3),\"/\")","v":"/"},0,0,2,{"$f":"IF(Paramètres!J7=0,\"\",Paramètres!J7)","v":""},{"$f":"IF(U42<>0,U42+IF(AND(T42<>\"\",S42<E$5),T42,0),IF(AND(T42<>\"\",S42<E$5),T42,0))","v":0},"/",{"$f":"IF(Y$40=\"Error\",\"Error\",IF(AND($W$40<>\"/\",$W$40>'Paramètres - Admin'!$A3),'Paramètres - Admin'!$A4,\"/\"))","v":"/"},{"$f":"IF(W43<>\"/\",VLOOKUP(W43,COSTS_Army_Camp[#All],2),\"/\")","v":"/"},{"$f":"IF(W43<>\"/\",VLOOKUP(W43,COSTS_Army_Camp[#All],3),\"/\")","v":"/"},0,0]
[3,{"$f":"IF(Paramètres!H8=0,\"\",Paramètres!H8)","v":""},0,1,{"$f":"IF(G$40=\"Error\",\"Error\",IF(AND($E$40<>\"/\",$E$40>'Paramètres - Admin'!$A4),'Paramètres - Admin'!$A5,\"/\"))","v":3},{"$f":"IF(E44<>\"/\",VLOOKUP(E44,COSTS_Barrack[#All],2),\"/\")","v":2500},{"$f":"IF(E44<>\"/\",VLOOKUP(E44,COSTS_Barrack[#All],3),\"/\")","v":2},2500,2,3,{"$f":"IF(Paramètres!K8=0,\"\",Paramètres!K8)","v":""},0,"/",{"$f":"IF(P$40=\"Error\",\"Error\",IF(AND($N$40<>\"/\",$N$40>'Paramètres - Admin'!$A4),'Paramètres - Admin'!$A5,\"/\"))","v":"/"},{"$f":"IF(N44<>\"/\",VLOOKUP(N44,COSTS_Laboratory[#All],2),\"/\")","v":"/"},{"$f":"IF(N44<>\"/\",VLOOKUP(N44,COSTS_Laboratory[#All],3),\"/\")","v":"/"},0,0,3,{"$f":"IF(Paramètres!J8=0,\"\",Paramètres!J8)","v":""},0,"/",{"$f":"IF(Y$40=\"Error\",\"Error\",IF(AND($W$40<>\"/\",$W$40>'Paramètres - Admin'!$A4),'Paramètres - Admin'!$A5,\"/\"))","v":"/"},{"$f":"IF(W44<>\"/\",VLOOKUP(W44,COSTS_Army_Camp[#All],2),\"/\")","v":"/"},{"$f":"IF(W44<>\"/\",VLOOKUP(W44,COSTS_Army_Camp[#All],3),\"/\")","v":"/"},0,0]
[4,{"$f":"IF(Paramètres!H9=0,\"\",Paramètres!H9)","v":""},0,"/",{"$f":"IF(G$40=\"Error\",\"Error\",IF(AND($E$40<>\"/\",$E$40>'Paramètres - Admin'!$A5),'Paramètres - Admin'!$A6,\"/\"))","v":"/"},{"$f":"IF(E45<>\"/\",VLOOKUP(E45,COSTS_Barrack[#All],2),\"/\")","v":"/"},{"$f":"IF(E45<>\"/\",VLOOKUP(E45,COSTS_Barrack[#All],3),\"/\")","v":"/"},0,0,4,{"$f":"IF(Paramètres!K9=0,\"\",Paramètres!K9)","v":""},0,"/",{"$f":"IF(P$40=\"Error\",\"Error\",IF(AND($N$40<>\"/\",$N$40>'Paramètres - Admin'!$A5),'Paramètres - Admin'!$A6,\"/\"))","v":"/"},{"$f":"IF(N45<>\"/\",VLOOKUP(N45,COSTS_Laboratory[#All],2),\"/\")","v":"/"},{"$f":"IF(N45<>\"/\",VLOOKUP(N45,COSTS_Laboratory[#All],3),\"/\")","v":"/"},0,0,4,{"$f":"IF(Paramètres!J9=0,\"\",Paramètres!J9)","v":""},0,"/",{"$f":"IF(Y$40=\"Error\",\"Error\",IF(AND($W$40<>\"/\",$W$40>'Paramètres - Admin'!$A5),'Paramètres - Admin'!$A6,\"/\"))","v":"/"},{"$f":"IF(W45<>\"/\",VLOOKUP(W45,COSTS_Army_Camp[#All],2),\"/\")","v":"/"},{"$f":"IF(W45<>\"/\",VLOOKUP(W45,COSTS_Army_Camp[#All],3),\"/\")","v":"/"},0,0]
[5,{"$f":"IF(Paramètres!H10=0,\"\",Paramètres!H10)","v":""},0,"/",{"$f":"IF(G$40=\"Error\",\"Error\",IF(AND($E$40<>\"/\",$E$40>'Paramètres - Admin'!$A6),'Paramètres - Admin'!$A7,\"/\"))","v":"/"},{"$f":"IF(E46<>\"/\",VLOOKUP(E46,COSTS_Barrack[#All],2),\"/\")","v":"/"},{"$f":"IF(E46<>\"/\",VLOOKUP(E46,COSTS_Barrack[#All],3),\"/\")","v":"/"},0,0,5,{"$f":"IF(Paramètres!K10=0,\"\",Paramètres!K10)","v":""},0,"/",{"$f":"IF(P$40=\"Error\",\"Error\",IF(AND($N$40<>\"/\",$N$40>'Paramètres - Admin'!$A6),'Paramètres - Admin'!$A7,\"/\"))","v":"/"},{"$f":"IF(N46<>\"/\",VLOOKUP(N46,COSTS_Laboratory[#All],2),\"/\")","v":"/"},{"$f":"IF(N46<>\"/\",VLOOKUP(N46,COSTS_Laboratory[#All],3),\"/\")","v":"/"},0,0,5,{"$f":"IF(Paramètres!J10=0,\"\",Paramètres!J10)","v":""},0,"/",{"$f":"IF(Y$40=\"Error\",\"Error\",IF(AND($W$40<>\"/\",$W$40>'Paramètres - Admin'!$A6),'Paramètres - Admin'!$A7,\"/\"))","v":"/"},{"$f":"IF(W46<>\"/\",VLOOKUP(W46,COSTS_Army_Camp[#All],2),\"/\")","v":"/"},{"$f":"IF(W46<>\"/\",VLOOKUP(W46,COSTS_Army_Camp[#All],3),\"/\")","v":"/"},0,0]
[6,{"$f":"IF(Paramètres!H11=0,\"\",Paramètres!H11)","v":""},0,"/",{"$f":"IF(G$40=\"Error\",\"Error\",IF(AND($E$40<>\"/\",$E$40>'Paramètres - Admin'!$A7),'Paramètres - Admin'!$A8,\"/\"))","v":"/"},{"$f":"IF(E47<>\"/\",VLOOKUP(E47,COSTS_Barrack[#All],2),\"/\")","v":"/"},{"$f":"IF(E47<>\"/\",VLOOKUP(E47,COSTS_Barrack[#All],3),\"/\")","v":"/"},0,0,6,{"$f":"IF(Paramètres!K11=0,\"\",Paramètres!K11)","v":""},0,"/",{"$f":"IF(P$40=\"Error\",\"Error\",IF(AND($N$40<>\"/\",$N$40>'Paramètres - Admin'!$A7),'Paramètres - Admin'!$A8,\"/\"))","v":"/"},{"$f":"IF(N47<>\"/\",VLOOKUP(N47,COSTS_Laboratory[#All],2),\"/\")","v":"/"},{"$f":"IF(N47<>\"/\",VLOOKUP(N47,COSTS_Laboratory[#All],3),\"/\")","v":"/"},0,0,6,{"$f":"IF(Paramètres!J11=0,\"\",Paramètres!J11)","v":""},0,"/",{"$f":"IF(Y$40=\"Error\",\"Error\",IF(AND($W$40<>\"/\",$W$40>'Paramètres - Admin'!$A7),'Paramètres - Admin'!$A8,\"/\"))","v":"/"},{"$f":"IF(W47<>\"/\",VLOOKUP(W47,COSTS_Army_Camp[#All],2),\"/\")","v":"/"},{"$f":"IF(W47<>\"/\",VLOOKUP(W47,COSTS_Army_Camp[#All],3),\"/\")","v":"/"},0,0]
[7,{"$f":"IF(Paramètres!H12=0,\"\",Paramètres!H12)","v":""},0,"/",{"$f":"IF(G$40=\"Error\",\"Error\",IF(AND($E$40<>\"/\",$E$40>'Paramètres - Admin'!$A8),'Paramètres - Admin'!$A9,\"/\"))","v":"/"},{"$f":"IF(E48<>\"/\",VLOOKUP(E48,COSTS_Barrack[#All],2),\"/\")","v":"/"},{"$f":"IF(E48<>\"/\",VLOOKUP(E48,COSTS_Barrack[#All],3),\"/\")","v":"/"},0,0,7,{"$f":"IF(Paramètres!K12=0,\"\",Paramètres!K12)","v":""},0,"/",{"$f":"IF(P$40=\"Error\",\"Error\",IF(AND($N$40<>\"/\",$N$40>'Paramètres - Admin'!$A8),'Paramètres - Admin'!$A9,\"/\"))","v":"/"},{"$f":"IF(N48<>\"/\",VLOOKUP(N48,COSTS_Laboratory[#All],2),\"/\")","v":"/"},{"$f":"IF(N48<>\"/\",VLOOKUP(N48,COSTS_Laboratory[#All],3),\"/\")","v":"/"},0,0,7,{"$f":"IF(Paramètres!J12=0,\"\",Paramètres!J12)","v":""},0,"/",{"$f":"IF(Y$40=\"Error\",\"Error\",IF(AND($W$40<>\"/\",$W$40>'Paramètres - Admin'!$A8),'Paramètres - Admin'!$A9,\"/\"))","v":"/"},{"$f":"IF(W48<>\"/\",VLOOKUP(W48,COSTS_Army_Camp[#All],2),\"/\")","v":"/"},{"$f":"IF(W48<>\"/\",VLOOKUP(W48,COSTS_Army_Camp[#All],3),\"/\")","v":"/"},0,0]
[8,{"$f":"IF(Paramètres!H13=0,\"\",Paramètres!H13)","v":""},0,"/",{"$f":"IF(G$40=\"Error\",\"Error\",IF(AND($E$40<>\"/\",$E$40>'Paramètres - Admin'!$A9),'Paramètres - Admin'!$A10,\"/\"))","v":"/"},{"$f":"IF(E49<>\"/\",VLOOKUP(E49,COSTS_Barrack[#All],2),\"/\")","v":"/"},{"$f":"IF(E49<>\"/\",VLOOKUP(E49,COSTS_Barrack[#All],3),\"/\")","v":"/"},0,0,8,{"$f":"IF(Paramètres!K13=0,\"\",Paramètres!K13)","v":""},0,"/",{"$f":"IF(P$40=\"Error\",\"Error\",IF(AND($N$40<>\"/\",$N$40>'Paramètres - Admin'!$A9),'Paramètres - Admin'!$A10,\"/\"))","v":"/"},{"$f":"IF(N49<>\"/\",VLOOKUP(N49,COSTS_Laboratory[#All],2),\"/\")","v":"/"},{"$f":"IF(N49<>\"/\",VLOOKUP(N49,COSTS_Laboratory[#All],3),\"/\")","v":"/"},0,0,8,{"$f":"IF(Paramètres!J13=0,\"\",Paramètres!J13)","v":""},0,"/",{"$f":"IF(Y$40=\"Error\",\"Error\",IF(AND($W$40<>\"/\",$W$40>'Paramètres - Admin'!$A9),'Paramètres - Admin'!$A10,\"/\"))","v":"/"},{"$f":"IF(W49<>\"/\",VLOOKUP(W49,COSTS_Army_Camp[#All],2),\"/\")","v":"/"},{"$f":"IF(W49<>\"/\",VLOOKUP(W49,COSTS_Army_Camp[#All],3),\"/\")","v":"/"},0,0]
[9,{"$f":"IF(Paramètres!H14=0,\"\",Paramètres!H14)","v":""},0,"/",{"$f":"IF(G$40=\"Error\",\"Error\",IF(AND($E$40<>\"/\",$E$40>'Paramètres - Admin'!$A10),'Paramètres - Admin'!$A11,\"/\"))","v":"/"},{"$f":"IF(E50<>\"/\",VLOOKUP(E50,COSTS_Barrack[#All],2),\"/\")","v":"/"},{"$f":"IF(E50<>\"/\",VLOOKUP(E50,COSTS_Barrack[#All],3),\"/\")","v":"/"},0,0,9,{"$f":"IF(Paramètres!K14=0,\"\",Paramètres!K14)","v":""},0,"/",{"$f":"IF(P$40=\"Error\",\"Error\",IF(AND($N$40<>\"/\",$N$40>'Paramètres - Admin'!$A10),'Paramètres - Admin'!$A11,\"/\"))","v":"/"},{"$f":"IF(N50<>\"/\",VLOOKUP(N50,COSTS_Laboratory[#All],2),\"/\")","v":"/"},{"$f":"IF(N50<>\"/\",VLOOKUP(N50,COSTS_Laboratory[#All],3),\"/\")","v":"/"},0,0,null,null,null,null,null,null,"Total",{"$f":"IF(Y$40=\"Error\",\"Error\",SUM(Z42:Z49))","v":250},{"$f":"IF(Y$40=\"Error\",\"Error\",SUM(AA42:AA49))","v":8.3333333333333329E-2}]
[10,{"$f":"IF(Paramètres!H15=0,\"\",Paramètres!H15)","v":""},0,"/",{"$f":"IF(G$40=\"Error\",\"Error\",IF(AND($E$40<>\"/\",$E$40>'Paramètres - Admin'!$A11),'Paramètres - Admin'!$A12,\"/\"))","v":"/"},{"$f":"IF(E51<>\"/\",VLOOKUP(E51,COSTS_Barrack[#All],2),\"/\")","v":"/"},{"$f":"IF(E51<>\"/\",VLOOKUP(E51,COSTS_Barrack[#All],3),\"/\")","v":"/"},0,0,null,null,null,null,null,null,"Total",{"$f":"IF(P$40=\"Error\",\"Error\",SUM(Q42:Q49))","v":0},{"$f":"IF(P$40=\"Error\",\"Error\",SUM(R42:R49))","v":0},"Caserne Noire",null,null,"Max","Max +",null,"Actuel","À Faire","Améliorations"]
[11,{"$f":"IF(Paramètres!H16=0,\"\",Paramètres!H16)","v":""},0,"/",{"$f":"IF(G$40=\"Error\",\"Error\",IF(AND($E$40<>\"/\",$E$40>'Paramètres - Admin'!$A12),'Paramètres - Admin'!$A13,\"/\"))","v":"/"},{"$f":"IF(E52<>\"/\",VLOOKUP(E52,COSTS_Barrack[#All],2),\"/\")","v":"/"},{"$f":"IF(E52<>\"/\",VLOOKUP(E52,COSTS_Barrack[#All],3),\"/\")","v":"/"},0,0,"Usine de Sorts",null,null,"Max","Max +",null,"Actuel","À Faire","Améliorations",null,null,null,{"$f":"VLOOKUP($A$2,AVAILABLE_Buildings_Army[#All],MATCH(S51,AVAILABLE_Buildings_Army[#Headers],0))","v":0},{"$f":"VLOOKUP($A$2,AVAILABLE_Buildings_Army[#All],MATCH(S51,AVAILABLE_Buildings_Army[#Headers],0)+1)","v":0},null,{"$f":"IF(SUM(T54:T60)>V52,\"Error\",SUM(T54:T60))","v":0},{"$f":"IF(Y$52=\"Error\",\"Error\",V52-Y52)","v":0},{"$f":"IF(Y$52=\"Error\",\"Error\",SUM(V54:V60))","v":0}]
[12,{"$f":"IF(Paramètres!H17=0,\"\",Paramètres!H17)","v":""},0,"/",{"$f":"IF(G$40=\"Error\",\"Error\",IF(AND($E$40<>\"/\",$E$40>'Paramètres - Admin'!$A13),'Paramètres - Admin'!$A14,\"/\"))","v":"/"},{"$f":"IF(E53<>\"/\",VLOOKUP(E53,COSTS_Barrack[#All],2),\"/\")","v":"/"},{"$f":"IF(E53<>\"/\",VLOOKUP(E53,COSTS_Barrack[#All],3),\"/\")","v":"/"},0,0,null,null,null,{"$f":"VLOOKUP($A$2,AVAILABLE_Buildings_Army[#All],MATCH(J52,AVAILABLE_Buildings_Army[#Headers],0))","v":0},{"$f":"VLOOKUP($A$2,AVAILABLE_Buildings_Army[#All],MATCH(J52,AVAILABLE_Buildings_Army[#Headers],0)+1)","v":0},null,{"$f":"IF(SUM(K55:K59)>M53,\"Error\",SUM(K55:K59))","v":0},{"$f":"IF(P$53=\"Error\",\"Error\",M53-P53)","v":0},{"$f":"IF(P$53=\"Error\",\"Error\",SUM(M55:M59))","v":0},"+","NB",null,"NB","+","Coût","Temps","Coût Total","Temps Total"]
[null,null,null,null,null,null,"Total",{"$f":"IF(G$40=\"Error\",\"Error\",SUM(H42:H53))","v":3700},{"$f":"IF(G$40=\"Error\",\"Error\",SUM(I42:I53))","v":2.27},"+","NB",null,"NB","+","Coût","Temps","Coût Total","Temps Total",1,{"$f":"IF(Paramètres!I6=0,\"\",Paramètres!I6)","v":""},{"$f":"IF(U53<>0,U53+IF(AND(T53<>\"\",S53<W$52),T53,0),IF(AND(T53<>\"\",S53<W$52),T53,0))","v":0},{"$f":"IF(W54<>\"/\",IF(Y$52=\"Error\",\"Error\",$Z$52+U54),\"/\")","v":"/"},{"$f":"IF(Y$52=\"Error\",\"Error\",IF(AND($W$52<>\"/\",$W$52>'Paramètres - Admin'!$A2),'Paramètres - Admin'!$A3,\"/\"))","v":"/"},{"$f":"IF(W54<>\"/\",VLOOKUP(W54,COSTS_Dark_Barrack[#All],2),\"/\")","v":"/"},{"$f":"IF(W54<>\"/\",VLOOKUP(W54,COSTS_Dark_Barrack[#All],3),\"/\")","v":"/"},{"$f":"IF(Y$52=\"Error\",\"Error\",IF(X54<>\"/\",V54*X54,0))","v":0},{"$f":"IF(Y$52=\"Error\",\"Error\",IF(Y54<>\"/\",V54*Y54,0))","v":0}]
["Usine de Sorts Noirs",null,null,"Max","Max +",null,"Actuel","À Faire","Améliorations",1,{"$f":"IF(Paramètres!L6=0,\"\",Paramètres!L6)","v":""},{"$f":"IF(L54<>0,L54+IF(AND(K54<>\"\",J54<N$53),K54,0),IF(AND(K54<>\"\",J54<N$53),K54,0))","v":0},{"$f":"IF(N55<>\"/\",IF(P$53=\"Error\",\"Error\",$Q$53+L55),\"/\")","v":"/"},{"$f":"IF(P$53=\"Error\",\"Error\",IF(AND($N$53<>\"/\",$N$53>'Paramètres - Admin'!$A2),'Paramètres - Admin'!$A3,\"/\"))","v":"/"},{"$f":"IF(N55<>\"/\",VLOOKUP(N55,COSTS_Spell_Factory[#All],2),\"/\")","v":"/"},{"$f":"IF(N55<>\"/\",VLOOKUP(N55,COSTS_Spell_Factory[#All],3),\"/\")","v":"/"},{"$f":"IF(P$53=\"Error\",\"Error\",IF(O55<>\"/\",M55*O55,0))","v":0},{"$f":"IF(P$53=\"Error\",\"Error\",IF(P55<>\"/\",M55*P55,0))","v":0},2,{"$f":"IF(Paramètres!I7=0,\"\",Paramètres!I7)","v":""},0,"/",{"$f":"IF(Y$52=\"Error\",\"Error\",IF(AND($W$52<>\"/\",$W$52>'Paramètres - Admin'!$A3),'Paramètres - Admin'!$A4,\"/\"))","v":"/"},{"$f":"IF(W55<>\"/\",VLOOKUP(W55,COSTS_Dark_Barrack[#All],2),\"/\")","v":"/"},{"$f":"IF(W55<>\"/\",VLOOKUP(W55,COSTS_Dark_Barrack[#All],3),\"/\")","v":"/"},0,0]
[null,null,null,{"$f":"VLOOKUP($A$2,AVAILABLE_Buildings_Army[#All],MATCH(A55,AVAILABLE_Buildings_Army[#Headers],0))","v":0},{"$f":"VLOOKUP($A$2,AVAILABLE_Buildings_Army[#All],MATCH(A55,AVAILABLE_Buildings_Army[#Headers],0)+1)","v":0},null,{"$f":"IF(SUM(B58:B61)>D56,\"Error\",SUM(B58:B61))","v":0},{"$f":"IF(G$56=\"Error\",\"Error\",D56-G56)","v":0},{"$f":"IF(G$56=\"Error\",\"Error\",SUM(D58:D61))","v":0},2,{"$f":"IF(Paramètres!L7=0,\"\",Paramètres!L7)","v":""},{"$f":"IF(L55<>0,L55+IF(AND(K55<>\"\",J55<N$53),K55,0),IF(AND(K55<>\"\",J55<N$53),K55,0))","v":0},{"$f":"IF(N56<>\"/\",IF(P$53=\"Error\",\"Error\",$Q$53+L56),\"/\")","v":"/"},{"$f":"IF(P$53=\"Error\",\"Error\",IF(AND($N$53<>\"/\",$N$53>'Paramètres - Admin'!$A3),'Paramètres - Admin'!$A4,\"/\"))","v":"/"},{"$f":"IF(N56<>\"/\",VLOOKUP(N56,COSTS_Spell_Factory[#All],2),\"/\")","v":"/"},{"$f":"IF(N56<>\"/\",VLOOKUP(N56,COSTS_Spell_Factory[#All],3),\"/\")","v":"/"},{"$f":"IF(P$53=\"Error\",\"Error\",IF(O56<>\"/\",M56*O56,0))","v":0},{"$f":"IF(P$53=\"Error\",\"Error\",IF(P56<>\"/\",M56*P56,0))","v":0},3,{"$f":"IF(Paramètres!I8=0,\"\",Paramètres!I8)","v":""},0,"/",{"$f":"IF(Y$52=\"Error\",\"Error\",IF(AND($W$52<>\"/\",$W$52>'Paramètres - Admin'!$A4),'Paramètres - Admin'!$A5,\"/\"))","v":"/"},{"$f":"IF(W56<>\"/\",VLOOKUP(W56,COSTS_Dark_Barrack[#All],2),\"/\")","v":"/"},{"$f":"IF(W56<>\"/\",VLOOKUP(W56,COSTS_Dark_Barrack[#All],3),\"/\")","v":"/"},0,0]
["+","NB",null,"NB","+","Coût","Temps","Coût Total","Temps Total",3,{"$f":"IF(Paramètres!L8=0,\"\",Paramètres!L8)","v":""},{"$f":"IF(L56<>0,L56+IF(AND(K56<>\"\",J56<N$53),K56,0),IF(AND(K56<>\"\",J56<N$53),K56,0))","v":0},{"$f":"IF(N57<>\"/\",IF(P$53=\"Error\",\"Error\",$Q$53+L57),\"/\")","v":"/"},{"$f":"IF(P$53=\"Error\",\"Error\",IF(AND($N$53<>\"/\",$N$53>'Paramètres - Admin'!$A4),'Paramètres - Admin'!$A5,\"/\"))","v":"/"},{"$f":"IF(N57<>\"/\",VLOOKUP(N57,COSTS_Spell_Factory[#All],2),\"/\")","v":"/"},{"$f":"IF(N57<>\"/\",VLOOKUP(N57,COSTS_Spell_Factory[#All],3),\"/\")","v":"/"},{"$f":"IF(P$53=\"Error\",\"Error\",IF(O57<>\"/\",M57*O57,0))","v":0},{"$f":"IF(P$53=\"Error\",\"Error\",IF(P57<>\"/\",M57*P57,0))","v":0},4,{"$f":"IF(Paramètres!I9=0,\"\",Paramètres!I9)","v":""},0,"/",{"$f":"IF(Y$52=\"Error\",\"Error\",IF(AND($W$52<>\"/\",$W$52>'Paramètres - Admin'!$A5),'Paramètres - Admin'!$A6,\"/\"))","v":"/"},{"$f":"IF(W57<>\"/\",VLOOKUP(W57,COSTS_Dark_Barrack[#All],2),\"/\")","v":"/"},{"$f":"IF(W57<>\"/\",VLOOKUP(W57,COSTS_Dark_Barrack[#All],3),\"/\")","v":"/"},0,0]
[1,{"$f":"IF(Paramètres!M6=0,\"\",Paramètres!M6)","v":""},{"$f":"IF(C57<>0,C57+IF(AND(B57<>\"\",A57<E$56),B57,0),IF(AND(B57<>\"\",A57<E$56),B57,0))","v":0},{"$f":"IF(E58<>\"/\",IF(G$56=\"Error\",\"Error\",$H$56+C58),\"/\")","v":"/"},{"$f":"IF(G$56=\"Error\",\"Error\",IF(AND($E$56<>\"/\",$E$56>'Paramètres - Admin'!$A2),'Paramètres - Admin'!$A3,\"/\"))","v":"/"},{"$f":"IF(E58<>\"/\",VLOOKUP(E58,COSTS_Dark_Spell_Factory[#All],2),\"/\")","v":"/"},{"$f":"IF(E58<>\"/\",VLOOKUP(E58,COSTS_Dark_Spell_Factory[#All],3),\"/\")","v":"/"},{"$f":"IF(G$56=\"Error\",\"Error\",IF(F58<>\"/\",D58*F58,0))","v":0},{"$f":"IF(G$56=\"Error\",\"Error\",IF(G58<>\"/\",D58*G58,0))","v":0},4,{"$f":"IF(Paramètres!L9=0,\"\",Paramètres!L9)","v":""},{"$f":"IF(L57<>0,L57+IF(AND(K57<>\"\",J57<N$53),K57,0),IF(AND(K57<>\"\",J57<N$53),K57,0))","v":0},{"$f":"IF(N58<>\"/\",IF(P$53=\"Error\",\"Error\",$Q$53+L58),\"/\")","v":"/"},{"$f":"IF(P$53=\"Error\",\"Error\",IF(AND($N$53<>\"/\",$N$53>'Paramètres - Admin'!$A5),'Paramètres - Admin'!$A6,\"/\"))","v":"/"},{"$f":"IF(N58<>\"/\",VLOOKUP(N58,COSTS_Spell_Factory[#All],2),\"/\")","v":"/"},{"$f":"IF(N58<>\"/\",VLOOKUP(N58,COSTS_Spell_Factory[#All],3),\"/\")","v":"/"},{"$f":"IF(P$53=\"Error\",\"Error\",IF(O58<>\"/\",M58*O58,0))","v":0},{"$f":"IF(P$53=\"Error\",\"Error\",IF(P58<>\"/\",M58*P58,0))","v":0},5,{"$f":"IF(Paramètres!I10=0,\"\",Paramètres!I10)","v":""},0,"/",{"$f":"IF(Y$52=\"Error\",\"Error\",IF(AND($W$52<>\"/\",$W$52>'Paramètres - Admin'!$A6),'Paramètres - Admin'!$A7,\"/\"))","v":"/"},{"$f":"IF(W58<>\"/\",VLOOKUP(W58,COSTS_Dark_Barrack[#All],2),\"/\")","v":"/"},{"$f":"IF(W58<>\"/\",VLOOKUP(W58,COSTS_Dark_Barrack[#All],3),\"/\")","v":"/"},0,0]
[2,{"$f":"IF(Paramètres!M7=0,\"\",Paramètres!M7)","v":""},{"$f":"IF(C58<>0,C58+IF(AND(B58<>\"\",A58<E$56),B58,0),IF(AND(B58<>\"\",A58<E$56),B58,0))","v":0},{"$f":"IF(E59<>\"/\",IF(G$56=\"Error\",\"Error\",$H$56+C59),\"/\")","v":"/"},{"$f":"IF(G$56=\"Error\",\"Error\",IF(AND($E$56<>\"/\",$E$56>'Paramètres - Admin'!$A3),'Paramètres - Admin'!$A4,\"/\"))","v":"/"},{"$f":"IF(E59<>\"/\",VLOOKUP(E59,COSTS_Dark_Spell_Factory[#All],2),\"/\")","v":"/"},{"$f":"IF(E59<>\"/\",VLOOKUP(E59,COSTS_Dark_Spell_Factory[#All],3),\"/\")","v":"/"},{"$f":"IF(P$53=\"Error\",\"Error\",IF(F59<>\"/\",D59*F59,0))","v":0},{"$f":"IF(P$53=\"Error\",\"Error\",IF(G59<>\"/\",D59*G59,0))","v":0},5,{"$f":"IF(Paramètres!L10=0,\"\",Paramètres!L10)","v":""},{"$f":"IF(L58<>0,L58+IF(AND(K58<>\"\",J58<N$53),K58,0),IF(AND(K58<>\"\",J58<N$53),K58,0))","v":0},{"$f":"IF(N59<>\"/\",IF(P$53=\"Error\",\"Error\",$Q$53+L59),\"/\")","v":"/"},{"$f":"IF(P$53=\"Error\",\"Error\",IF(AND($N$53<>\"/\",$N$53>'Paramètres - Admin'!$A6),'Paramètres - Admin'!$A7,\"/\"))","v":"/"},{"$f":"IF(N59<>\"/\",VLOOKUP(N59,COSTS_Spell_Factory[#All],2),\"/\")","v":"/"},{"$f":"IF(N59<>\"/\",VLOOKUP(N59,COSTS_Spell_Factory[#All],3),\"/\")","v":"/"},{"$f":"IF(P$53=\"Error\",\"Error\",IF(O59<>\"/\",M59*O59,0))","v":0},{"$f":"IF(P$53=\"Error\",\"Error\",IF(P59<>\"/\",M59*P59,0))","v":0},6,{"$f":"IF(Paramètres!I11=0,\"\",Paramètres!I11)","v":""},0,"/",{"$f":"IF(Y$52=\"Error\",\"Error\",IF(AND($W$52<>\"/\",$W$52>'Paramètres - Admin'!$A7),'Paramètres - Admin'!$A8,\"/\"))","v":"/"},{"$f":"IF(W59<>\"/\",VLOOKUP(W59,COSTS_Dark_Barrack[#All],2),\"/\")","v":"/"},{"$f":"IF(W59<>\"/\",VLOOKUP(W59,COSTS_Dark_Barrack[#All],3),\"/\")","v":"/"},0,0]
[3,{"$f":"IF(Paramètres!M8=0,\"\",Paramètres!M8)","v":""},{"$f":"IF(C59<>0,C59+IF(AND(B59<>\"\",A59<E$56),B59,0),IF(AND(B59<>\"\",A59<E$56),B59,0))","v":0},{"$f":"IF(E60<>\"/\",IF(G$56=\"Error\",\"Error\",$H$56+C60),\"/\")","v":"/"},{"$f":"IF(G$56=\"Error\",\"Error\",IF(AND($E$56<>\"/\",$E$56>'Paramètres - Admin'!$A4),'Paramètres - Admin'!$A5,\"/\"))","v":"/"},{"$f":"IF(E60<>\"/\",VLOOKUP(E60,COSTS_Dark_Spell_Factory[#All],2),\"/\")","v":"/"},{"$f":"IF(E60<>\"/\",VLOOKUP(E60,COSTS_Dark_Spell_Factory[#All],3),\"/\")","v":"/"},{"$f":"IF(P$53=\"Error\",\"Error\",IF(F60<>\"/\",D60*F60,0))","v":0},{"$f":"IF(P$53=\"Error\",\"Error\",IF(G60<>\"/\",D60*G60,0))","v":0},null,null,null,null,null,null,"Total",{"$f":"IF(P$53=\"Error\",\"Error\",SUM(Q55:Q59))","v":0},{"$f":"IF(P$53=\"Error\",\"Error\",SUM(R55:R59))","v":0},7,{"$f":"IF(Paramètres!I12=0,\"\",Paramètres!I12)","v":""},0,"/",{"$f":"IF(Y$52=\"Error\",\"Error\",IF(AND($W$52<>\"/\",$W$52>'Paramètres - Admin'!$A8),'Paramètres - Admin'!$A9,\"/\"))","v":"/"},{"$f":"IF(W60<>\"/\",VLOOKUP(W60,COSTS_Dark_Barrack[#All],2),\"/\")","v":"/"},{"$f":"IF(W60<>\"/\",VLOOKUP(W60,COSTS_Dark_Barrack[#All],3),\"/\")","v":"/"},0,0]
[4,{"$f":"IF(Paramètres!M9=0,\"\",Paramètres!M9)","v":""},{"$f":"IF(C60<>0,C60+IF(AND(B60<>\"\",A60<E$56),B60,0),IF(AND(B60<>\"\",A60<E$56),B60,0))","v":0},{"$f":"IF(E61<>\"/\",IF(G$56=\"Error\",\"Error\",$H$56+C61),\"/\")","v":"/"},{"$f":"IF(G$56=\"Error\",\"Error\",IF(AND($E$56<>\"/\",$E$56>'Paramètres - Admin'!$A5),'Paramètres - Admin'!$A6,\"/\"))","v":"/"},{"$f":"IF(E61<>\"/\",VLOOKUP(E61,COSTS_Dark_Spell_Factory[#All],2),\"/\")","v":"/"},{"$f":"IF(E61<>\"/\",VLOOKUP(E61,COSTS_Dark_Spell_Factory[#All],3),\"/\")","v":"/"},{"$f":"IF(P$53=\"Error\",\"Error\",IF(F61<>\"/\",D61*F61,0))","v":0},{"$f":"IF(P$53=\"Error\",\"Error\",IF(G61<>\"/\",D61*G61,0))","v":0},null,null,null,null,null,null,null,null,null,null,null,null,null,null,null,"Total",{"$f":"IF(Y$52=\"Error\",\"Error\",SUM(Z54:Z60))","v":0},{"$f":"IF(Y$52=\"Error\",\"Error\",SUM(AA54:AA60))","v":0}]
[null,null,null,null,null,null,"Total",{"$f":"IF(P$53=\"Error\",\"Error\",SUM(H58:H61))","v":0},{"$f":"IF(P$53=\"Error\",\"Error\",SUM(I58:I61))","v":0}]
[]
[]
["Bâtiments Défensifs"]
["Canon",null,null,"Max","Max +",null,"Actuel","À Faire","Améliorations","Rempart",null,null,"Max","Max +",null,"Actuel","À Faire","Améliorations","Tour d'Archers",null,null,"Max","Max +",null,"Actuel","À Faire","Améliorations"]
[null,null,null,{"$f":"VLOOKUP($A$2,AVAILABLE_Buildings_Defensive[#All],MATCH(A66,AVAILABLE_Buildings_Defensive[#Headers],0))","v":2},{"$f":"VLOOKUP($A$2,AVAILABLE_Buildings_Defensive[#All],MATCH(A66,AVAILABLE_Buildings_Defensive[#Headers],0)+1)","v":2},null,{"$f":"IF(SUM(B69:B82)>D67,\"Error\",SUM(B69:B82))","v":0},{"$f":"IF(G$67=\"Error\",\"Error\",D67-G67)","v":2},{"$f":"IF(G$67=\"Error\",\"Error\",SUM(D69:D82))","v":4},null,null,null,{"$f":"VLOOKUP($A$2,AVAILABLE_Buildings_Defensive[#All],MATCH(J66,AVAILABLE_Buildings_Defensive[#Headers],0))","v":0},{"$f":"VLOOKUP($A$2,AVAILABLE_Buildings_Defensive[#All],MATCH(J66,AVAILABLE_Buildings_Defensive[#Headers],0)+1)","v":0},null,{"$f":"IF(SUM(K69:K80)>M67,\"Error\",SUM(K69:K80))","v":0},{"$f":"IF(P$67=\"Error\",\"Error\",M67-P67)","v":0},{"$f":"IF(P$67=\"Error\",\"Error\",SUM(M69:M80))","v":0},null,null,null,{"$f":"VLOOKUP($A$2,AVAILABLE_Buildings_Defensive[#All],MATCH(S66,AVAILABLE_Buildings_Defensive[#Headers],0))","v":0},{"$f":"VLOOKUP($A$2,AVAILABLE_Buildings_Defensive[#All],MATCH(S66,AVAILABLE_Buildings_Defensive[#Headers],0)+1)","v":0},null,{"$f":"IF(SUM(T69:T81)>V67,\"Error\",SUM(T69:T81))","v":0},{"$f":"IF(Y$67=\"Error\",\"Error\",V67-Y67)","v":0},{"$f":"IF(Y$67=\"Error\",\"Error\",SUM(V69:V81))","v":0}]
["+","NB",null,"NB","+","Coût","Temps","Coût Total","Temps Total","+","NB",null,"NB","+","Coût","Temps","Coût Total","Temps Total","+","NB",null,"NB","+","Coût","Temps","Coût Total","Temps Total"]
[1,{"$f":"IF(Paramètres!O6=0,\"\",Paramètres!O6)","v":""},{"$f":"IF(C68<>0,C68+IF(AND(B68<>\"\",A68<$E$67),B68,0),IF(AND(B68<>\"\",A68<$E$67),B68,0))","v":0},{"$f":"IF(E69<>\"/\",IF(G$67=\"Error\",\"Error\",$H$67+C69),\"/\")","v":2},{"$f":"IF(G$67=\"Error\",\"Error\",IF(AND($E$67<>\"/\",$E$67>'Paramètres - Admin'!$A2),'Paramètres - Admin'!$A3,\"/\"))","v":1},{"$f":"IF(E69<>\"/\",VLOOKUP(E69,COSTS_Cannon[#All],2),\"/\")","v":250},{"$f":"IF(E69<>\"/\",VLOOKUP(E69,COSTS_Cannon[#All],3),\"/\")","v":1.6666666666666666E-2},{"$f":"IF(G$67=\"Error\",\"Error\",IF(F69<>\"/\",D69*F69,0))","v":500},{"$f":"IF(G$67=\"Error\",\"Error\",IF(G69<>\"/\",D69*G69,0))","v":3.3333333333333333E-2},1,{"$f":"IF(Paramètres!N6=0,\"\",Paramètres!N6)","v":""},{"$f":"IF(L68<>0,L68+IF(AND(K68<>\"\",J68<N$67),K68,0),IF(AND(K68<>\"\",J68<N$67),K68,0))","v":0},{"$f":"IF(N69<>\"/\",IF(P$67=\"Error\",\"Error\",$Q$67+L69),\"/\")","v":"/"},{"$f":"IF(P$67=\"Error\",\"Error\",IF(AND($N$67<>\"/\",$N$67>'Paramètres - Admin'!$A2),'Paramètres - Admin'!$A3,\"/\"))","v":"/"},{"$f":"IF(N69<>\"/\",VLOOKUP(N69,COSTS_Wall[#All],2),\"/\")","v":"/"},{"$f":"IF(N69<>\"/\",VLOOKUP(N69,COSTS_Wall[#All],3),\"/\")","v":"/"},{"$f":"IF(P$67=\"Error\",\"Error\",IF(O69<>\"/\",M69*O69,0))","v":0},{"$f":"IF(P$67=\"Error\",\"Error\",IF(P69<>\"/\",M69*P69,0))","v":0},1,{"$f":"IF(Paramètres!P6=0,\"\",Paramètres!P6)","v":""},{"$f":"IF(U68<>0,U68+IF(AND(T68<>\"\",S68<$W$67),T68,0),IF(AND(T68<>\"\",S68<$W$67),T68,0))","v":0},{"$f":"IF(W69<>\"/\",IF(Y$67=\"Error\",\"Error\",$Z$67+U69),\"/\")","v":"/"},{"$f":"IF(Y$67=\"Error\",\"Error\",IF(AND($W$67<>\"/\",$W$67>'Paramètres - Admin'!$A2),'Paramètres - Admin'!$A3,\"/\"))","v":"/"},{"$f":"IF(W69<>\"/\",VLOOKUP(W69,COSTS_Archer_Tower[#All],2),\"/\")","v":"/"},{"$f":"IF(W69<>\"/\",VLOOKUP(W69,COSTS_Archer_Tower[#All],3),\"/\")","v":"/"},{"$f":"IF(Y$67=\"Error\",\"Error\",IF(X69<>\"/\",V69*X69,0))","v":0},{"$f":"IF(Y$67=\"Error\",\"Error\",IF(Y69<>\"/\",V69*Y69,0))","v":0}]
[2,{"$f":"IF(Paramètres!O7=0,\"\",Paramètres!O7)","v":""},0,2,{"$f":"IF(G$67=\"Error\",\"Error\",IF(AND($E$67<>\"/\",$E$67>'Paramètres - Admin'!$A3),'Paramètres - Admin'!$A4,\"/\"))","v":2},{"$f":"IF(E70<>\"/\",VLOOKUP(E70,COSTS_Cannon[#All],2),\"/\")","v":1000},{"$f":"IF(E70<>\"/\",VLOOKUP(E70,COSTS_Cannon[#All],3),\"/\")","v":0.25},2000,0.5,2,{"$f":"IF(Paramètres!N7=0,\"\",Paramètres!N7)","v":""},0,"/",{"$f":"IF(P$67=\"Error\",\"Error\",IF(AND($N$67<>\"/\",$N$67>'Paramètres - Admin'!$A3),'Paramètres - Admin'!$A4,\"/\"))","v":"/"},{"$f":"IF(N70<>\"/\",VLOOKUP(N70,COSTS_Wall[#All],2),\"/\")","v":"/"},{"$f":"IF(N70<>\"/\",VLOOKUP(N70,COSTS_Wall[#All],3),\"/\")","v":"/"},0,0,2,{"$f":"IF(Paramètres!P7=0,\"\",Paramètres!P7)","v":""},0,"/",{"$f":"IF(Y$67=\"Error\",\"Error\",IF(AND($W$67<>\"/\",$W$67>'Paramètres - Admin'!$A3),'Paramètres - Admin'!$A4,\"/\"))","v":"/"},{"$f":"IF(W70<>\"/\",VLOOKUP(W70,COSTS_Archer_Tower[#All],2),\"/\")","v":"/"},{"$f":"IF(W70<>\"/\",VLOOKUP(W70,COSTS_Archer_Tower[#All],3),\"/\")","v":"/"},0,0]
[3,{"$f":"IF(Paramètres!O8=0,\"\",Paramètres!O8)","v":""},0,"/",{"$f":"IF(G$67=\"Error\",\"Error\",IF(AND($E$67<>\"/\",$E$67>'Paramètres - Admin'!$A4),'Paramètres - Admin'!$A5,\"/\"))","v":"/"},{"$f":"IF(E71<>\"/\",VLOOKUP(E71,COSTS_Cannon[#All],2),\"/\")","v":"/"},{"$f":"IF(E71<>\"/\",VLOOKUP(E71,COSTS_Cannon[#All],3),\"/\")","v":"/"},0,0,3,{"$f":"IF(Paramètres!N8=0,\"\",Paramètres!N8)","v":""},0,"/",{"$f":"IF(P$67=\"Error\",\"Error\",IF(AND($N$67<>\"/\",$N$67>'Paramètres - Admin'!$A4),'Paramètres - Admin'!$A5,\"/\"))","v":"/"},{"$f":"IF(N71<>\"/\",VLOOKUP(N71,COSTS_Wall[#All],2),\"/\")","v":"/"},{"$f":"IF(N71<>\"/\",VLOOKUP(N71,COSTS_Wall[#All],3),\"/\")","v":"/"},0,0,3,{"$f":"IF(Paramètres!P8=0,\"\",Paramètres!P8)","v":""},0,"/",{"$f":"IF(Y$67=\"Error\",\"Error\",IF(AND($W$67<>\"/\",$W$67>'Paramètres - Admin'!$A4),'Paramètres - Admin'!$A5,\"/\"))","v":"/"},{"$f":"IF(W71<>\"/\",VLOOKUP(W71,COSTS_Archer_Tower[#All],2),\"/\")","v":"/"},{"$f":"IF(W71<>\"/\",VLOOKUP(W71,COSTS_Archer_Tower[#All],3),\"/\")","v":"/"},0,0]
[4,{"$f":"IF(Paramètres!O9=0,\"\",Paramètres!O9)","v":""},0,"/",{"$f":"IF(G$67=\"Error\",\"Error\",IF(AND($E$67<>\"/\",$E$67>'Paramètres - Admin'!$A5),'Paramètres - Admin'!$A6,\"/\"))","v":"/"},{"$f":"IF(E72<>\"/\",VLOOKUP(E72,COSTS_Cannon[#All],2),\"/\")","v":"/"},{"$f":"IF(E72<>\"/\",VLOOKUP(E72,COSTS_Cannon[#All],3),\"/\")","v":"/"},0,0,4,{"$f":"IF(Paramètres!N9=0,\"\",Paramètres!N9)","v":""},0,"/",{"$f":"IF(P$67=\"Error\",\"Error\",IF(AND($N$67<>\"/\",$N$67>'Paramètres - Admin'!$A5),'Paramètres - Admin'!$A6,\"/\"))","v":"/"},{"$f":"IF(N72<>\"/\",VLOOKUP(N72,COSTS_Wall[#All],2),\"/\")","v":"/"},{"$f":"IF(N72<>\"/\",VLOOKUP(N72,COSTS_Wall[#All],3),\"/\")","v":"/"},0,0,4,{"$f":"IF(Paramètres!P9=0,\"\",Paramètres!P9)","v":""},0,"/",{"$f":"IF(Y$67=\"Error\",\"Error\",IF(AND($W$67<>\"/\",$W$67>'Paramètres - Admin'!$A5),'Paramètres - Admin'!$A6,\"/\"))","v":"/"},{"$f":"IF(W72<>\"/\",VLOOKUP(W72,COSTS_Archer_Tower[#All],2),\"/\")","v":"/"},{"$f":"IF(W72<>\"/\",VLOOKUP(W72,COSTS_Archer_Tower[#All],3),\"/\")","v":"/"},0,0]
[5,{"$f":"IF(Paramètres!O10=0,\"\",Paramètres!O10)","v":""},0,"/",{"$f":"IF(G$67=\"Error\",\"Error\",IF(AND($E$67<>\"/\",$E$67>'Paramètres - Admin'!$A6),'Paramètres - Admin'!$A7,\"/\"))","v":"/"},{"$f":"IF(E73<>\"/\",VLOOKUP(E73,COSTS_Cannon[#All],2),\"/\")","v":"/"},{"$f":"IF(E73<>\"/\",VLOOKUP(E73,COSTS_Cannon[#All],3),\"/\")","v":"/"},0,0,5,{"$f":"IF(Paramètres!N10=0,\"\",Paramètres!N10)","v":""},0,"/",{"$f":"IF(P$67=\"Error\",\"Error\",IF(AND($N$67<>\"/\",$N$67>'Paramètres - Admin'!$A6),'Paramètres - Admin'!$A7,\"/\"))","v":"/"},{"$f":"IF(N73<>\"/\",VLOOKUP(N73,COSTS_Wall[#All],2),\"/\")","v":"/"},{"$f":"IF(N73<>\"/\",VLOOKUP(N73,COSTS_Wall[#All],3),\"/\")","v":"/"},0,0,5,{"$f":"IF(Paramètres!P10=0,\"\",Paramètres!P10)","v":""},0,"/",{"$f":"IF(Y$67=\"Error\",\"Error\",IF(AND($W$67<>\"/\",$W$67>'Paramètres - Admin'!$A6),'Paramètres - Admin'!$A7,\"/\"))","v":"/"},{"$f":"IF(W73<>\"/\",VLOOKUP(W73,COSTS_Archer_Tower[#All],2),\"/\")","v":"/"},{"$f":"IF(W73<>\"/\",VLOOKUP(W73,COSTS_Archer_Tower[#All],3),\"/\")","v":"/"},0,0]
[6,{"$f":"IF(Paramètres!O11=0,\"\",Paramètres!O11)","v":""},0,"/",{"$f":"IF(G$67=\"Error\",\"Error\",IF(AND($E$67<>\"/\",$E$67>'Paramètres - Admin'!$A7),'Paramètres - Admin'!$A8,\"/\"))","v":"/"},{"$f":"IF(E74<>\"/\",VLOOKUP(E74,COSTS_Cannon[#All],2),\"/\")","v":"/"},{"$f":"IF(E74<>\"/\",VLOOKUP(E74,COSTS_Cannon[#All],3),\"/\")","v":"/"},0,0,6,{"$f":"IF(Paramètres!N11=0,\"\",Paramètres!N11)","v":""},0,"/",{"$f":"IF(P$67=\"Error\",\"Error\",IF(AND($N$67<>\"/\",$N$67>'Paramètres - Admin'!$A7),'Paramètres - Admin'!$A8,\"/\"))","v":"/"},{"$f":"IF(N74<>\"/\",VLOOKUP(N74,COSTS_Wall[#All],2),\"/\")","v":"/"},{"$f":"IF(N74<>\"/\",VLOOKUP(N74,COSTS_Wall[#All],3),\"/\")","v":"/"},0,0,6,{"$f":"IF(Paramètres!P11=0,\"\",Paramètres!P11)","v":""},0,"/",{"$f":"IF(Y$67=\"Error\",\"Error\",IF(AND($W$67<>\"/\",$W$67>'Paramètres - Admin'!$A7),'Paramètres - Admin'!$A8,\"/\"))","v":"/"},{"$f":"IF(W74<>\"/\",VLOOKUP(W74,COSTS_Archer_Tower[#All],2),\"/\")","v":"/"},{"$f":"IF(W74<>\"/\",VLOOKUP(W74,COSTS_Archer_Tower[#All],3),\"/\")","v":"/"},0,0]
[7,{"$f":"IF(Paramètres!O12=0,\"\",Paramètres!O12)","v":""},0,"/",{"$f":"IF(G$67=\"Error\",\"Error\",IF(AND($E$67<>\"/\",$E$67>'Paramètres - Admin'!$A8),'Paramètres - Admin'!$A9,\"/\"))","v":"/"},{"$f":"IF(E75<>\"/\",VLOOKUP(E75,COSTS_Cannon[#All],2),\"/\")","v":"/"},{"$f":"IF(E75<>\"/\",VLOOKUP(E75,COSTS_Cannon[#All],3),\"/\")","v":"/"},0,0,7,{"$f":"IF(Paramètres!N12=0,\"\",Paramètres!N12)","v":""},0,"/",{"$f":"IF(P$67=\"Error\",\"Error\",IF(AND($N$67<>\"/\",$N$67>'Paramètres - Admin'!$A8),'Paramètres - Admin'!$A9,\"/\"))","v":"/"},{"$f":"IF(N75<>\"/\",VLOOKUP(N75,COSTS_Wall[#All],2),\"/\")","v":"/"},{"$f":"IF(N75<>\"/\",VLOOKUP(N75,COSTS_Wall[#All],3),\"/\")","v":"/"},0,0,7,{"$f":"IF(Paramètres!P12=0,\"\",Paramètres!P12)","v":""},0,"/",{"$f":"IF(Y$67=\"Error\",\"Error\",IF(AND($W$67<>\"/\",$W$67>'Paramètres - Admin'!$A8),'Paramètres - Admin'!$A9,\"/\"))","v":"/"},{"$f":"IF(W75<>\"/\",VLOOKUP(W75,COSTS_Archer_Tower[#All],2),\"/\")","v":"/"},{"$f":"IF(W75<>\"/\",VLOOKUP(W75,COSTS_Archer_Tower[#All],3),\"/\")","v":"/"},0,0]
[8,{"$f":"IF(Paramètres!O13=0,\"\",Paramètres!O13)","v":""},0,"/",{"$f":"IF(G$67=\"Error\",\"Error\",IF(AND($E$67<>\"/\",$E$67>'Paramètres - Admin'!$A9),'Paramètres - Admin'!$A10,\"/\"))","v":"/"},{"$f":"IF(E76<>\"/\",VLOOKUP(E76,COSTS_Cannon[#All],2),\"/\")","v":"/"},{"$f":"IF(E76<>\"/\",VLOOKUP(E76,COSTS_Cannon[#All],3),\"/\")","v":"/"},0,0,8,{"$f":"IF(Paramètres!N13=0,\"\",Paramètres!N13)","v":""},0,"/",{"$f":"IF(P$67=\"Error\",\"Error\",IF(AND($N$67<>\"/\",$N$67>'Paramètres - Admin'!$A9),'Paramètres - Admin'!$A10,\"/\"))","v":"/"},{"$f":"IF(N76<>\"/\",VLOOKUP(N76,COSTS_Wall[#All],2),\"/\")","v":"/"},{"$f":"IF(N76<>\"/\",VLOOKUP(N76,COSTS_Wall[#All],3),\"/\")","v":"/"},0,0,8,{"$f":"IF(Paramètres!P13=0,\"\",Paramètres!P13)","v":""},0,"/",{"$f":"IF(Y$67=\"Error\",\"Error\",IF(AND($W$67<>\"/\",$W$67>'Paramètres - Admin'!$A9),'Paramètres - Admin'!$A10,\"/\"))","v":"/"},{"$f":"IF(W76<>\"/\",VLOOKUP(W76,COSTS_Archer_Tower[#All],2),\"/\")","v":"/"},{"$f":"IF(W76<>\"/\",VLOOKUP(W76,COSTS_Archer_Tower[#All],3),\"/\")","v":"/"},0,0]
[9,{"$f":"IF(Paramètres!O14=0,\"\",Paramètres!O14)","v":""},0,"/",{"$f":"IF(G$67=\"Error\",\"Error\",IF(AND($E$67<>\"/\",$E$67>'Paramètres - Admin'!$A10),'Paramètres - Admin'!$A11,\"/\"))","v":"/"},{"$f":"IF(E77<>\"/\",VLOOKUP(E77,COSTS_Cannon[#All],2),\"/\")","v":"/"},{"$f":"IF(E77<>\"/\",VLOOKUP(E77,COSTS_Cannon[#All],3),\"/\")","v":"/"},0,0,9,{"$f":"IF(Paramètres!N14=0,\"\",Paramètres!N14)","v":""},0,"/",{"$f":"IF(P$67=\"Error\",\"Error\",IF(AND($N$67<>\"/\",$N$67>'Paramètres - Admin'!$A10),'Paramètres - Admin'!$A11,\"/\"))","v":"/"},{"$f":"IF(N77<>\"/\",VLOOKUP(N77,COSTS_Wall[#All],2),\"/\")","v":"/"},{"$f":"IF(N77<>\"/\",VLOOKUP(N77,COSTS_Wall[#All],3),\"/\")","v":"/"},0,0,9,{"$f":"IF(Paramètres!P14=0,\"\",Paramètres!P14)","v":""},0,"/",{"$f":"IF(Y$67=\"Error\",\"Error\",IF(AND($W$67<>\"/\",$W$67>'Paramètres - Admin'!$A10),'Paramètres - Admin'!$A11,\"/\"))","v":"/"},{"$f":"IF(W77<>\"/\",VLOOKUP(W77,COSTS_Archer_Tower[#All],2),\"/\")","v":"/"},{"$f":"IF(W77<>\"/\",VLOOKUP(W77,COSTS_Archer_Tower[#All],3),\"/\")","v":"/"},0,0]
[10,{"$f":"IF(Paramètres!O15=0,\"\",Paramètres!O15)","v":""},0,"/",{"$f":"IF(G$67=\"Error\",\"Error\",IF(AND($E$67<>\"/\",$E$67>'Paramètres - Admin'!$A11),'Paramètres - Admin'!$A12,\"/\"))","v":"/"},{"$f":"IF(E78<>\"/\",VLOOKUP(E78,COSTS_Cannon[#All],2),\"/\")","v":"/"},{"$f":"IF(E78<>\"/\",VLOOKUP(E78,COSTS_Cannon[#All],3),\"/\")","v":"/"},0,0,10,{"$f":"IF(Paramètres!N15=0,\"\",Paramètres!N15)","v":""},0,"/",{"$f":"IF(P$67=\"Error\",\"Error\",IF(AND($N$67<>\"/\",$N$67>'Paramètres - Admin'!$A11),'Paramètres - Admin'!$A12,\"/\"))","v":"/"},{"$f":"IF(N78<>\"/\",VLOOKUP(N78,COSTS_Wall[#All],2),\"/\")","v":"/"},{"$f":"IF(N78<>\"/\",VLOOKUP(N78,COSTS_Wall[#All],3),\"/\")","v":"/"},0,0,10,{"$f":"IF(Paramètres!P15=0,\"\",Paramètres!P15)","v":""},0,"/",{"$f":"IF(Y$67=\"Error\",\"Error\",IF(AND($W$67<>\"/\",$W$67>'Paramètres - Admin'!$A11),'Paramètres - Admin'!$A12,\"/\"))","v":"/"},{"$f":"IF(W78<>\"/\",VLOOKUP(W78,COSTS_Archer_Tower[#All],2),\"/\")","v":"/"},{"$f":"IF(W78<>\"/\",VLOOKUP(W78,COSTS_Archer_Tower[#All],3),\"/\")","v":"/"},0,0]
[11,{"$f":"IF(Paramètres!O16=0,\"\",Paramètres!O16)","v":""},0,"/",{"$f":"IF(G$67=\"Error\",\"Error\",IF(AND($E$67<>\"/\",$E$67>'Paramètres - Admin'!$A12),'Paramètres - Admin'!$A13,\"/\"))","v":"/"},{"$f":"IF(E79<>\"/\",VLOOKUP(E79,COSTS_Cannon[#All],2),\"/\")","v":"/"},{"$f":"IF(E79<>\"/\",VLOOKUP(E79,COSTS_Cannon[#All],3),\"/\")","v":"/"},0,0,11,{"$f":"IF(Paramètres!N16=0,\"\",Paramètres!N16)","v":""},0,"/",{"$f":"IF(P$67=\"Error\",\"Error\",IF(AND($N$67<>\"/\",$N$67>'Paramètres - Admin'!$A12),'Paramètres - Admin'!$A13,\"/\"))","v":"/"},{"$f":"IF(N79<>\"/\",VLOOKUP(N79,COSTS_Wall[#All],2),\"/\")","v":"/"},{"$f":"IF(N79<>\"/\",VLOOKUP(N79,COSTS_Wall[#All],3),\"/\")","v":"/"},0,0,11,{"$f":"IF(Paramètres!P16=0,\"\",Paramètres!P16)","v":""},0,"/",{"$f":"IF(Y$67=\"Error\",\"Error\",IF(AND($W$67<>\"/\",$W$67>'Paramètres - Admin'!$A12),'Paramètres - Admin'!$A13,\"/\"))","v":"/"},{"$f":"IF(W79<>\"/\",VLOOKUP(W79,COSTS_Archer_Tower[#All],2),\"/\")","v":"/"},{"$f":"IF(W79<>\"/\",VLOOKUP(W79,COSTS_Archer_Tower[#All],3),\"/\")","v":"/"},0,0]
[12,{"$f":"IF(Paramètres!O17=0,\"\",Paramètres!O17)","v":""},0,"/",{"$f":"IF(G$67=\"Error\",\"Error\",IF(AND($E$67<>\"/\",$E$67>'Paramètres - Admin'!$A13),'Paramètres - Admin'!$A14,\"/\"))","v":"/"},{"$f":"IF(E80<>\"/\",VLOOKUP(E80,COSTS_Cannon[#All],2),\"/\")","v":"/"},{"$f":"IF(E80<>\"/\",VLOOKUP(E80,COSTS_Cannon[#All],3),\"/\")","v":"/"},0,0,12,{"$f":"IF(Paramètres!N17=0,\"\",Paramètres!N17)","v":""},0,{"$f":"IF(N80<>\"/\",IF(P$67=\"Error\",\"Error\",$Q$67+L80),\"/\")","v":"/"},{"$f":"IF(P$67=\"Error\",\"Error\",IF(AND($N$67<>\"/\",$N$67>'Paramètres - Admin'!$A13),'Paramètres - Admin'!$A14,\"/\"))","v":"/"},{"$f":"IF(N80<>\"/\",VLOOKUP(N80,COSTS_Wall[#All],2),\"/\")","v":"/"},{"$f":"IF(N80<>\"/\",VLOOKUP(N80,COSTS_Wall[#All],3),\"/\")","v":"/"},{"$f":"IF(P$67=\"Error\",\"Error\",IF(O80<>\"/\",M80*O80,0))","v":0},{"$f":"IF(P$67=\"Error\",\"Error\",IF(P80<>\"/\",M80*P80,0))","v":0},12,{"$f":"IF(Paramètres!P17=0,\"\",Paramètres!P17)","v":""},0,"/",{"$f":"IF(Y$67=\"Error\",\"Error\",IF(AND($W$67<>\"/\",$W$67>'Paramètres - Admin'!$A13),'Paramètres - Admin'!$A14,\"/\"))","v":"/"},{"$f":"IF(W80<>\"/\",VLOOKUP(W80,COSTS_Archer_Tower[#All],2),\"/\")","v":"/"},{"$f":"IF(W80<>\"/\",VLOOKUP(W80,COSTS_Archer_Tower[#All],3),\"/\")","v":"/"},0,0]
[13,{"$f":"IF(Paramètres!O18=0,\"\",Paramètres!O18)","v":""},0,"/",{"$f":"IF(G$67=\"Error\",\"Error\",IF(AND($E$67<>\"/\",$E$67>'Paramètres - Admin'!$A14),'Paramètres - Admin'!$A15,\"/\"))","v":"/"},{"$f":"IF(E81<>\"/\",VLOOKUP(E81,COSTS_Cannon[#All],2),\"/\")","v":"/"},{"$f":"IF(E81<>\"/\",VLOOKUP(E81,COSTS_Cannon[#All],3),\"/\")","v":"/"},0,0,null,null,null,null,null,null,"Total",{"$f":"IF(P$67=\"Error\",\"Error\",SUM(Q69:Q80))","v":0},{"$f":"IF(P$67=\"Error\",\"Error\",SUM(R69:R79))","v":0},13,{"$f":"IF(Paramètres!P18=0,\"\",Paramètres!P18)","v":""},0,"/",{"$f":"IF(Y$67=\"Error\",\"Error\",IF(AND($W$67<>\"/\",$W$67>'Paramètres - Admin'!$A14),'Paramètres - Admin'!$A15,\"/\"))","v":"/"},{"$f":"IF(W81<>\"/\",VLOOKUP(W81,COSTS_Archer_Tower[#All],2),\"/\")","v":"/"},{"$f":"IF(W81<>\"/\",VLOOKUP(W81,COSTS_Archer_Tower[#All],3),\"/\")","v":"/"},0,0]
[14,{"$f":"IF(Paramètres!O19=0,\"\",Paramètres!O19)","v":""},0,"/",{"$f":"IF(G$67=\"Error\",\"Error\",IF(AND($E$67<>\"/\",$E$67>'Paramètres - Admin'!$A15),'Paramètres - Admin'!$A16,\"/\"))","v":"/"},{"$f":"IF(E82<>\"/\",VLOOKUP(E82,COSTS_Cannon[#All],2),\"/\")","v":"/"},{"$f":"IF(E82<>\"/\",VLOOKUP(E82,COSTS_Cannon[#All],3),\"/\")","v":"/"},0,0,"Propulseur d'air",null,null,"Max","Max +",null,"Actuel","À Faire","Améliorations",null,null,null,null,null,null,"Total",{"$f":"IF(Y$67=\"Error\",\"Error\",SUM(Z69:Z81))","v":0},{"$f":"IF(Y$67=\"Error\",\"Error\",SUM(AA69:AA81))","v":0}]
[null,null,null,null,null,null,"Total",{"$f":"IF(G$67=\"Error\",\"Error\",SUM(H69:H82))","v":2500},{"$f":"IF(G$67=\"Error\",\"Error\",SUM(I69:I82))","v":0.53333333333333333},null,null,null,{"$f":"VLOOKUP($A$2,AVAILABLE_Buildings_Defensive[#All],MATCH(J82,AVAILABLE_Buildings_Defensive[#Headers],0))","v":0},{"$f":"VLOOKUP($A$2,AVAILABLE_Buildings_Defensive[#All],MATCH(J82,AVAILABLE_Buildings_Defensive[#Headers],0)+1)","v":0},null,{"$f":"IF(SUM(K85:K90)>M83,\"Error\",SUM(K85:K90))","v":0},{"$f":"IF(P$83=\"Error\",\"Error\",M83-P83)","v":0},{"$f":"IF(P$83=\"Error\",\"Error\",SUM(M85:M90))","v":0},"Mortier",null,null,"Max","Max +",null,"Actuel","À Faire","Améliorations"]
["Tour de Sorciers",null,null,"Max","Max +",null,"Actuel","À Faire","Améliorations","+","NB",null,"NB","+","Coût","Temps","Coût Total","Temps Total",null,null,null,{"$f":"VLOOKUP($A$2,AVAILABLE_Buildings_Defensive[#All],MATCH(S83,AVAILABLE_Buildings_Defensive[#Headers],0))","v":0},{"$f":"VLOOKUP($A$2,AVAILABLE_Buildings_Defensive[#All],MATCH(S83,AVAILABLE_Buildings_Defensive[#Headers],0)+1)","v":0},null,{"$f":"IF(SUM(T86:T95)>V84,\"Error\",SUM(T86:T95))","v":0},{"$f":"IF(Y$84=\"Error\",\"Error\",V84-Y84)","v":0},{"$f":"IF(Y$84=\"Error\",\"Error\",SUM(V86:V94))","v":0}]
[null,null,null,{"$f":"VLOOKUP($A$2,AVAILABLE_Buildings_Defensive[#All],MATCH(A84,AVAILABLE_Buildings_Defensive[#Headers],0))","v":0},{"$f":"VLOOKUP($A$2,AVAILABLE_Buildings_Defensive[#All],MATCH(A84,AVAILABLE_Buildings_Defensive[#Headers],0)+1)","v":0},null,{"$f":"IF(SUM(B87:B96)>D85,\"Error\",SUM(B87:B96))","v":0},{"$f":"IF(G$85=\"Error\",\"Error\",D85-G85)","v":0},{"$f":"IF(G$85=\"Error\",\"Error\",SUM(D87:D95))","v":0},1,{"$f":"IF(Paramètres!T6=0,\"\",Paramètres!T6)","v":""},{"$f":"IF(L84<>0,L84+IF(AND(K84<>\"\",J84<N$83),K84,0),IF(AND(K84<>\"\",J84<N$83),K84,0))","v":0},{"$f":"IF(N85<>\"/\",IF(P$83=\"Error\",\"Error\",$Q$83+L85),\"/\")","v":"/"},{"$f":"IF(P$83=\"Error\",\"Error\",IF(AND($N$83<>\"/\",$N$83>'Paramètres - Admin'!$A2),'Paramètres - Admin'!$A3,\"/\"))","v":"/"},{"$f":"IF(N85<>\"/\",VLOOKUP(N85,COSTS_Air_Sweeper[#All],2),\"/\")","v":"/"},{"$f":"IF(N85<>\"/\",VLOOKUP(N85,COSTS_Air_Sweeper[#All],3),\"/\")","v":"/"},{"$f":"IF(P$83=\"Error\",\"Error\",IF(O85<>\"/\",M85*O85,0))","v":0},{"$f":"IF(P$83=\"Error\",\"Error\",IF(P85<>\"/\",M85*P85,0))","v":0},"+","NB",null,"NB","+","Coût","Temps","Coût Total","Temps Total"]
["+","NB",null,"NB","+","Coût","Temps","Coût Total","Temps Total",2,{"$f":"IF(Paramètres!T7=0,\"\",Paramètres!T7)","v":""},0,"/",{"$f":"IF(P$83=\"Error\",\"Error\",IF(AND($N$83<>\"/\",$N$83>'Paramètres - Admin'!$A3),'Paramètres - Admin'!$A4,\"/\"))","v":"/"},{"$f":"IF(N86<>\"/\",VLOOKUP(N86,COSTS_Air_Sweeper[#All],2),\"/\")","v":"/"},{"$f":"IF(N86<>\"/\",VLOOKUP(N86,COSTS_Air_Sweeper[#All],3),\"/\")","v":"/"},0,0,1,{"$f":"IF(Paramètres!Q6=0,\"\",Paramètres!Q6)","v":""},{"$f":"IF(U85<>0,U85+IF(AND(T85<>\"\",S85<W$84),T85,0),IF(AND(T85<>\"\",S85<W$84),T85,0))","v":0},{"$f":"IF(W86<>\"/\",IF(Y$84=\"Error\",\"Error\",$Z$84+U86),\"/\")","v":"/"},{"$f":"IF(Y$84=\"Error\",\"Error\",IF(AND($W$84<>\"/\",$W$84>'Paramètres - Admin'!$A2),'Paramètres - Admin'!$A3,\"/\"))","v":"/"},{"$f":"IF(W86<>\"/\",VLOOKUP(W86,COSTS_Mortar[#All],2),\"/\")","v":"/"},{"$f":"IF(W86<>\"/\",VLOOKUP(W86,COSTS_Mortar[#All],3),\"/\")","v":"/"},{"$f":"IF(Y$84=\"Error\",\"Error\",IF(X86<>\"/\",V86*X86,0))","v":0},{"$f":"IF(Y$84=\"Error\",\"Error\",IF(Y86<>\"/\",V86*Y86,0))","v":0}]
[1,{"$f":"IF(Paramètres!S6=0,\"\",Paramètres!S6)","v":""},{"$f":"IF(C86<>0,C86+IF(AND(B86<>\"\",A86<E$85),B86,0),IF(AND(B86<>\"\",A86<E$85),B86,0))","v":0},{"$f":"IF(E87<>\"/\",IF(G$85=\"Error\",\"Error\",$H$85+C87),\"/\")","v":"/"},{"$f":"IF(G$85=\"Error\",\"Error\",IF(AND($E$85<>\"/\",$E$85>'Paramètres - Admin'!$A2),'Paramètres - Admin'!$A3,\"/\"))","v":"/"},{"$f":"IF(E87<>\"/\",VLOOKUP(E87,COSTS_Wizard_Tower[#All],2),\"/\")","v":"/"},{"$f":"IF(E87<>\"/\",VLOOKUP(E87,COSTS_Wizard_Tower[#All],3),\"/\")","v":"/"},{"$f":"IF(G$85=\"Error\",\"Error\",IF(F87<>\"/\",D87*F87,0))","v":0},{"$f":"IF(G$85=\"Error\",\"Error\",IF(G87<>\"/\",D87*G87,0))","v":0},3,{"$f":"IF(Paramètres!T8=0,\"\",Paramètres!T8)","v":""},0,"/",{"$f":"IF(P$83=\"Error\",\"Error\",IF(AND($N$83<>\"/\",$N$83>'Paramètres - Admin'!$A4),'Paramètres - Admin'!$A5,\"/\"))","v":"/"},{"$f":"IF(N87<>\"/\",VLOOKUP(N87,COSTS_Air_Sweeper[#All],2),\"/\")","v":"/"},{"$f":"IF(N87<>\"/\",VLOOKUP(N87,COSTS_Air_Sweeper[#All],3),\"/\")","v":"/"},0,0,2,{"$f":"IF(Paramètres!Q7=0,\"\",Paramètres!Q7)","v":""},0,"/",{"$f":"IF(Y$84=\"Error\",\"Error\",IF(AND($W$84<>\"/\",$W$84>'Paramètres - Admin'!$A3),'Paramètres - Admin'!$A4,\"/\"))","v":"/"},{"$f":"IF(W87<>\"/\",VLOOKUP(W87,COSTS_Mortar[#All],2),\"/\")","v":"/"},{"$f":"IF(W87<>\"/\",VLOOKUP(W87,COSTS_Mortar[#All],3),\"/\")","v":"/"},0,0]
[2,{"$f":"IF(Paramètres!S7=0,\"\",Paramètres!S7)","v":""},0,"/",{"$f":"IF(G$85=\"Error\",\"Error\",IF(AND($E$85<>\"/\",$E$85>'Paramètres - Admin'!$A3),'Paramètres - Admin'!$A4,\"/\"))","v":"/"},{"$f":"IF(E88<>\"/\",VLOOKUP(E88,COSTS_Wizard_Tower[#All],2),\"/\")","v":"/"},{"$f":"IF(E88<>\"/\",VLOOKUP(E88,COSTS_Wizard_Tower[#All],3),\"/\")","v":"/"},0,0,4,{"$f":"IF(Paramètres!T9=0,\"\",Paramètres!T9)","v":""},0,"/",{"$f":"IF(P$83=\"Error\",\"Error\",IF(AND($N$83<>\"/\",$N$83>'Paramètres - Admin'!$A5),'Paramètres - Admin'!$A6,\"/\"))","v":"/"},{"$f":"IF(N88<>\"/\",VLOOKUP(N88,COSTS_Air_Sweeper[#All],2),\"/\")","v":"/"},{"$f":"IF(N88<>\"/\",VLOOKUP(N88,COSTS_Air_Sweeper[#All],3),\"/\")","v":"/"},0,0,3,{"$f":"IF(Paramètres!Q8=0,\"\",Paramètres!Q8)","v":""},0,"/",{"$f":"IF(Y$84=\"Error\",\"Error\",IF(AND($W$84<>\"/\",$W$84>'Paramètres - Admin'!$A4),'Paramètres - Admin'!$A5,\"/\"))","v":"/"},{"$f":"IF(W88<>\"/\",VLOOKUP(W88,COSTS_Mortar[#All],2),\"/\")","v":"/"},{"$f":"IF(W88<>\"/\",VLOOKUP(W88,COSTS_Mortar[#All],3),\"/\")","v":"/"},0,0]
[3,{"$f":"IF(Paramètres!S8=0,\"\",Paramètres!S8)","v":""},0,"/",{"$f":"IF(G$85=\"Error\",\"Error\",IF(AND($E$85<>\"/\",$E$85>'Paramètres - Admin'!$A4),'Paramètres - Admin'!$A5,\"/\"))","v":"/"},{"$f":"IF(E89<>\"/\",VLOOKUP(E89,COSTS_Wizard_Tower[#All],2),\"/\")","v":"/"},{"$f":"IF(E89<>\"/\",VLOOKUP(E89,COSTS_Wizard_Tower[#All],3),\"/\")","v":"/"},0,0,5,{"$f":"IF(Paramètres!T10=0,\"\",Paramètres!T10)","v":""},0,"/",{"$f":"IF(P$83=\"Error\",\"Error\",IF(AND($N$83<>\"/\",$N$83>'Paramètres - Admin'!$A6),'Paramètres - Admin'!$A7,\"/\"))","v":"/"},{"$f":"IF(N89<>\"/\",VLOOKUP(N89,COSTS_Air_Sweeper[#All],2),\"/\")","v":"/"},{"$f":"IF(N89<>\"/\",VLOOKUP(N89,COSTS_Air_Sweeper[#All],3),\"/\")","v":"/"},0,0,4,{"$f":"IF(Paramètres!Q9=0,\"\",Paramètres!Q9)","v":""},0,"/",{"$f":"IF(Y$84=\"Error\",\"Error\",IF(AND($W$84<>\"/\",$W$84>'Paramètres - Admin'!$A5),'Paramètres - Admin'!$A6,\"/\"))","v":"/"},{"$f":"IF(W89<>\"/\",VLOOKUP(W89,COSTS_Mortar[#All],2),\"/\")","v":"/"},{"$f":"IF(W89<>\"/\",VLOOKUP(W89,COSTS_Mortar[#All],3),\"/\")","v":"/"},0,0]
[4,{"$f":"IF(Paramètres!S9=0,\"\",Paramètres!S9)","v":""},0,"/",{"$f":"IF(G$85=\"Error\",\"Error\",IF(AND($E$85<>\"/\",$E$85>'Paramètres - Admin'!$A5),'Paramètres - Admin'!$A6,\"/\"))","v":"/"},{"$f":"IF(E90<>\"/\",VLOOKUP(E90,COSTS_Wizard_Tower[#All],2),\"/\")","v":"/"},{"$f":"IF(E90<>\"/\",VLOOKUP(E90,COSTS_Wizard_Tower[#All],3),\"/\")","v":"/"},0,0,6,{"$f":"IF(Paramètres!T11=0,\"\",Paramètres!T11)","v":""},0,"/",{"$f":"IF(P$83=\"Error\",\"Error\",IF(AND($N$83<>\"/\",$N$83>'Paramètres - Admin'!$A7),'Paramètres - Admin'!$A8,\"/\"))","v":"/"},{"$f":"IF(N90<>\"/\",VLOOKUP(N90,COSTS_Air_Sweeper[#All],2),\"/\")","v":"/"},{"$f":"IF(N90<>\"/\",VLOOKUP(N90,COSTS_Air_Sweeper[#All],3),\"/\")","v":"/"},0,0,5,{"$f":"IF(Paramètres!Q10=0,\"\",Paramètres!Q10)","v":""},0,"/",{"$f":"IF(Y$84=\"Error\",\"Error\",IF(AND($W$84<>\"/\",$W$84>'Paramètres - Admin'!$A6),'Paramètres - Admin'!$A7,\"/\"))","v":"/"},{"$f":"IF(W90<>\"/\",VLOOKUP(W90,COSTS_Mortar[#All],2),\"/\")","v":"/"},{"$f":"IF(W90<>\"/\",VLOOKUP(W90,COSTS_Mortar[#All],3),\"/\")","v":"/"},0,0]
[5,{"$f":"IF(Paramètres!S10=0,\"\",Paramètres!S10)","v":""},0,"/",{"$f":"IF(G$85=\"Error\",\"Error\",IF(AND($E$85<>\"/\",$E$85>'Paramètres - Admin'!$A6),'Paramètres - Admin'!$A7,\"/\"))","v":"/"},{"$f":"IF(E91<>\"/\",VLOOKUP(E91,COSTS_Wizard_Tower[#All],2),\"/\")","v":"/"},{"$f":"IF(E91<>\"/\",VLOOKUP(E91,COSTS_Wizard_Tower[#All],3),\"/\")","v":"/"},0,0,null,null,null,null,null,null,"Total",{"$f":"IF(P$83=\"Error\",\"Error\",SUM(Q85:Q90))","v":0},{"$f":"IF(P$83=\"Error\",\"Error\",SUM(R85:R90))","v":0},6,{"$f":"IF(Paramètres!Q11=0,\"\",Paramètres!Q11)","v":""},0,"/",{"$f":"IF(Y$84=\"Error\",\"Error\",IF(AND($W$84<>\"/\",$W$84>'Paramètres - Admin'!$A7),'Paramètres - Admin'!$A8,\"/\"))","v":"/"},{"$f":"IF(W91<>\"/\",VLOOKUP(W91,COSTS_Mortar[#All],2),\"/\")","v":"/"},{"$f":"IF(W91<>\"/\",VLOOKUP(W91,COSTS_Mortar[#All],3),\"/\")","v":"/"},0,0]
[6,{"$f":"IF(Paramètres!S11=0,\"\",Paramètres!S11)","v":""},0,"/",{"$f":"IF(G$85=\"Error\",\"Error\",IF(AND($E$85<>\"/\",$E$85>'Paramètres - Admin'!$A7),'Paramètres - Admin'!$A8,\"/\"))","v":"/"},{"$f":"IF(E92<>\"/\",VLOOKUP(E92,COSTS_Wizard_Tower[#All],2),\"/\")","v":"/"},{"$f":"IF(E92<>\"/\",VLOOKUP(E92,COSTS_Wizard_Tower[#All],3),\"/\")","v":"/"},0,0,"Défense Antiaérienne",null,null,"Max","Max +",null,"Actuel","À Faire","Améliorations",7,{"$f":"IF(Paramètres!Q12=0,\"\",Paramètres!Q12)","v":""},0,"/",{"$f":"IF(Y$84=\"Error\",\"Error\",IF(AND($W$84<>\"/\",$W$84>'Paramètres - Admin'!$A8),'Paramètres - Admin'!$A9,\"/\"))","v":"/"},{"$f":"IF(W92<>\"/\",VLOOKUP(W92,COSTS_Mortar[#All],2),\"/\")","v":"/"},{"$f":"IF(W92<>\"/\",VLOOKUP(W92,COSTS_Mortar[#All],3),\"/\")","v":"/"},0,0]
[7,{"$f":"IF(Paramètres!S12=0,\"\",Paramètres!S12)","v":""},0,"/",{"$f":"IF(G$85=\"Error\",\"Error\",IF(AND($E$85<>\"/\",$E$85>'Paramètres - Admin'!$A8),'Paramètres - Admin'!$A9,\"/\"))","v":"/"},{"$f":"IF(E93<>\"/\",VLOOKUP(E93,COSTS_Wizard_Tower[#All],2),\"/\")","v":"/"},{"$f":"IF(E93<>\"/\",VLOOKUP(E93,COSTS_Wizard_Tower[#All],3),\"/\")","v":"/"},0,0,null,null,null,{"$f":"VLOOKUP($A$2,AVAILABLE_Buildings_Defensive[#All],MATCH(J92,AVAILABLE_Buildings_Defensive[#Headers],0))","v":0},{"$f":"VLOOKUP($A$2,AVAILABLE_Buildings_Defensive[#All],MATCH(J92,AVAILABLE_Buildings_Defensive[#Headers],0)+1)","v":0},null,{"$f":"IF(SUM(K95:K102)>M93,\"Error\",SUM(K95:K102))","v":0},{"$f":"IF(P$93=\"Error\",\"Error\",M93-P93)","v":0},{"$f":"IF(P$93=\"Error\",\"Error\",SUM(M95:M102))","v":0},8,{"$f":"IF(Paramètres!Q13=0,\"\",Paramètres!Q13)","v":""},0,"/",{"$f":"IF(Y$84=\"Error\",\"Error\",IF(AND($W$84<>\"/\",$W$84>'Paramètres - Admin'!$A9),'Paramètres - Admin'!$A10,\"/\"))","v":"/"},{"$f":"IF(W93<>\"/\",VLOOKUP(W93,COSTS_Mortar[#All],2),\"/\")","v":"/"},{"$f":"IF(W93<>\"/\",VLOOKUP(W93,COSTS_Mortar[#All],3),\"/\")","v":"/"},0,0]
[8,{"$f":"IF(Paramètres!S13=0,\"\",Paramètres!S13)","v":""},0,"/",{"$f":"IF(G$85=\"Error\",\"Error\",IF(AND($E$85<>\"/\",$E$85>'Paramètres - Admin'!$A9),'Paramètres - Admin'!$A10,\"/\"))","v":"/"},{"$f":"IF(E94<>\"/\",VLOOKUP(E94,COSTS_Wizard_Tower[#All],2),\"/\")","v":"/"},{"$f":"IF(E94<>\"/\",VLOOKUP(E94,COSTS_Wizard_Tower[#All],3),\"/\")","v":"/"},0,0,"+","NB",null,"NB","+","Coût","Temps","Coût Total","Temps Total",9,{"$f":"IF(Paramètres!Q14=0,\"\",Paramètres!Q14)","v":""},0,"/",{"$f":"IF(Y$84=\"Error\",\"Error\",IF(AND($W$84<>\"/\",$W$84>'Paramètres - Admin'!$A10),'Paramètres - Admin'!$A11,\"/\"))","v":"/"},{"$f":"IF(W94<>\"/\",VLOOKUP(W94,COSTS_Mortar[#All],2),\"/\")","v":"/"},{"$f":"IF(W94<>\"/\",VLOOKUP(W94,COSTS_Mortar[#All],3),\"/\")","v":"/"},0,0]
[9,{"$f":"IF(Paramètres!S14=0,\"\",Paramètres!S14)","v":""},0,"/",{"$f":"IF(G$85=\"Error\",\"Error\",IF(AND($E$85<>\"/\",$E$85>'Paramètres - Admin'!$A10),'Paramètres - Admin'!$A11,\"/\"))","v":"/"},{"$f":"IF(E95<>\"/\",VLOOKUP(E95,COSTS_Wizard_Tower[#All],2),\"/\")","v":"/"},{"$f":"IF(E95<>\"/\",VLOOKUP(E95,COSTS_Wizard_Tower[#All],3),\"/\")","v":"/"},0,0,1,{"$f":"IF(Paramètres!R6=0,\"\",Paramètres!R6)","v":""},{"$f":"IF(L94<>0,L94+IF(AND(K94<>\"\",J94<N$93),K94,0),IF(AND(K94<>\"\",J94<N$93),K94,0))","v":0},{"$f":"IF(N95<>\"/\",IF(P$93=\"Error\",\"Error\",$Q$93+L95),\"/\")","v":"/"},{"$f":"IF(P$93=\"Error\",\"Error\",IF(AND($N$93<>\"/\",$N$93>'Paramètres - Admin'!$A2),'Paramètres - Admin'!$A3,\"/\"))","v":"/"},{"$f":"IF(N95<>\"/\",VLOOKUP(N95,COSTS_Air_Defense[#All],2),\"/\")","v":"/"},{"$f":"IF(N95<>\"/\",VLOOKUP(N95,COSTS_Air_Defense[#All],3),\"/\")","v":"/"},{"$f":"IF(P$93=\"Error\",\"Error\",IF(O95<>\"/\",M95*O95,0))","v":0},{"$f":"IF(P$93=\"Error\",\"Error\",IF(P95<>\"/\",M95*P95,0))","v":0},9,{"$f":"IF(Paramètres!Q15=0,\"\",Paramètres!Q15)","v":""},0,{"$f":"IF(W95<>\"/\",IF(Y$84=\"Error\",\"Error\",$Z$84+U95),\"/\")","v":"/"},{"$f":"IF(Y$84=\"Error\",\"Error\",IF(AND($W$84<>\"/\",$W$84>'Paramètres - Admin'!$A11),'Paramètres - Admin'!$A12,\"/\"))","v":"/"},{"$f":"IF(W95<>\"/\",VLOOKUP(W95,COSTS_Mortar[#All],2),\"/\")","v":"/"},{"$f":"IF(W95<>\"/\",VLOOKUP(W95,COSTS_Mortar[#All],3),\"/\")","v":"/"},{"$f":"IF(Y$84=\"Error\",\"Error\",IF(X95<>\"/\",V95*X95,0))","v":0},{"$f":"IF(Y$84=\"Error\",\"Error\",IF(Y95<>\"/\",V95*Y95,0))","v":0}]
[9,{"$f":"IF(Paramètres!S15=0,\"\",Paramètres!S15)","v":""},0,{"$f":"IF(E96<>\"/\",IF(G$85=\"Error\",\"Error\",$H$85+C96),\"/\")","v":"/"},{"$f":"IF(G$85=\"Error\",\"Error\",IF(AND($E$85<>\"/\",$E$85>'Paramètres - Admin'!$A11),'Paramètres - Admin'!$A12,\"/\"))","v":"/"},{"$f":"IF(E96<>\"/\",VLOOKUP(E96,COSTS_Wizard_Tower[#All],2),\"/\")","v":"/"},{"$f":"IF(E96<>\"/\",VLOOKUP(E96,COSTS_Wizard_Tower[#All],3),\"/\")","v":"/"},0,{"$f":"IF(G$85=\"Error\",\"Error\",IF(G96<>\"/\",D96*G96,0))","v":0},2,{"$f":"IF(Paramètres!R7=0,\"\",Paramètres!R7)","v":""},0,"/",{"$f":"IF(P$93=\"Error\",\"Error\",IF(AND($N$93<>\"/\",$N$93>'Paramètres - Admin'!$A3),'Paramètres - Admin'!$A4,\"/\"))","v":"/"},{"$f":"IF(N96<>\"/\",VLOOKUP(N96,COSTS_Air_Defense[#All],2),\"/\")","v":"/"},{"$f":"IF(N96<>\"/\",VLOOKUP(N96,COSTS_Air_Defense[#All],3),\"/\")","v":"/"},0,0,null,null,null,null,null,null,"Total",{"$f":"IF(Y$84=\"Error\",\"Error\",SUM(Z86:Z95))","v":0},{"$f":"IF(Y$84=\"Error\",\"Error\",SUM(AA86:AA94))","v":0}]
[null,null,null,null,null,null,"Total",{"$f":"IF(G$85=\"Error\",\"Error\",SUM(H87:H96))","v":0},{"$f":"IF(G$85=\"Error\",\"Error\",SUM(I87:I95))","v":0},3,{"$f":"IF(Paramètres!R8=0,\"\",Paramètres!R8)","v":""},0,"/",{"$f":"IF(P$93=\"Error\",\"Error\",IF(AND($N$93<>\"/\",$N$93>'Paramètres - Admin'!$A4),'Paramètres - Admin'!$A5,\"/\"))","v":"/"},{"$f":"IF(N97<>\"/\",VLOOKUP(N97,COSTS_Air_Defense[#All],2),\"/\")","v":"/"},{"$f":"IF(N97<>\"/\",VLOOKUP(N97,COSTS_Air_Defense[#All],3),\"/\")","v":"/"},0,0,"Tesla Camouflée",null,null,"Max","Max +",null,"Actuel","À Faire","Améliorations"]
["Tour de l'Enfer",null,null,"Max","Max +",null,"Actuel","À Faire","Améliorations",4,{"$f":"IF(Paramètres!R9=0,\"\",Paramètres!R9)","v":""},0,"/",{"$f":"IF(P$93=\"Error\",\"Error\",IF(AND($N$93<>\"/\",$N$93>'Paramètres - Admin'!$A5),'Paramètres - Admin'!$A6,\"/\"))","v":"/"},{"$f":"IF(N98<>\"/\",VLOOKUP(N98,COSTS_Air_Defense[#All],2),\"/\")","v":"/"},{"$f":"IF(N98<>\"/\",VLOOKUP(N98,COSTS_Air_Defense[#All],3),\"/\")","v":"/"},0,0,null,null,null,{"$f":"VLOOKUP($A$2,AVAILABLE_Buildings_Defensive[#All],MATCH(S97,AVAILABLE_Buildings_Defensive[#Headers],0))","v":0},{"$f":"VLOOKUP($A$2,AVAILABLE_Buildings_Defensive[#All],MATCH(S97,AVAILABLE_Buildings_Defensive[#Headers],0)+1)","v":0},null,{"$f":"IF(SUM(T100:T108)>V98,\"Error\",SUM(T100:T108))","v":0},{"$f":"IF(Y$98=\"Error\",\"Error\",V98-Y98)","v":0},{"$f":"IF(Y$98=\"Error\",\"Error\",SUM(V100:V107))","v":0}]
[null,null,null,{"$f":"VLOOKUP($A$2,AVAILABLE_Buildings_Defensive[#All],MATCH(A98,AVAILABLE_Buildings_Defensive[#Headers],0))","v":0},{"$f":"VLOOKUP($A$2,AVAILABLE_Buildings_Defensive[#All],MATCH(A98,AVAILABLE_Buildings_Defensive[#Headers],0)+1)","v":0},null,{"$f":"IF(SUM(B101:B104)>D99,\"Error\",SUM(B101:B104))","v":0},{"$f":"IF(G$99=\"Error\",\"Error\",D99-G99)","v":0},{"$f":"IF(G$99=\"Error\",\"Error\",SUM(D101:D104))","v":0},5,{"$f":"IF(Paramètres!R10=0,\"\",Paramètres!R10)","v":""},0,"/",{"$f":"IF(P$93=\"Error\",\"Error\",IF(AND($N$93<>\"/\",$N$93>'Paramètres - Admin'!$A6),'Paramètres - Admin'!$A7,\"/\"))","v":"/"},{"$f":"IF(N99<>\"/\",VLOOKUP(N99,COSTS_Air_Defense[#All],2),\"/\")","v":"/"},{"$f":"IF(N99<>\"/\",VLOOKUP(N99,COSTS_Air_Defense[#All],3),\"/\")","v":"/"},0,0,"+","NB",null,"NB","+","Coût","Temps","Coût Total","Temps Total"]
["+","NB",null,"NB","+","Coût","Temps","Coût Total","Temps Total",6,{"$f":"IF(Paramètres!R11=0,\"\",Paramètres!R11)","v":""},0,"/",{"$f":"IF(P$93=\"Error\",\"Error\",IF(AND($N$93<>\"/\",$N$93>'Paramètres - Admin'!$A7),'Paramètres - Admin'!$A8,\"/\"))","v":"/"},{"$f":"IF(N100<>\"/\",VLOOKUP(N100,COSTS_Air_Defense[#All],2),\"/\")","v":"/"},{"$f":"IF(N100<>\"/\",VLOOKUP(N100,COSTS_Air_Defense[#All],3),\"/\")","v":"/"},0,0,1,{"$f":"IF(Paramètres!U6=0,\"\",Paramètres!U6)","v":""},{"$f":"IF(U99<>0,U99+IF(AND(T99<>\"\",S99<W$98),T99,0),IF(AND(T99<>\"\",S99<W$98),T99,0))","v":0},{"$f":"IF(W100<>\"/\",IF(Y$98=\"Error\",\"Error\",$Z$98+U100),\"/\")","v":"/"},{"$f":"IF(Y$98=\"Error\",\"Error\",IF(AND($W$98<>\"/\",$W$98>'Paramètres - Admin'!$A2),'Paramètres - Admin'!$A3,\"/\"))","v":"/"},{"$f":"IF(W100<>\"/\",VLOOKUP(W100,COSTS_Hidden_Tesla[#All],2),\"/\")","v":"/"},{"$f":"IF(W100<>\"/\",VLOOKUP(W100,COSTS_Hidden_Tesla[#All],3),\"/\")","v":"/"},{"$f":"IF(Y$98=\"Error\",\"Error\",IF(X100<>\"/\",V100*X100,0))","v":0},{"$f":"IF(Y$98=\"Error\",\"Error\",IF(Y100<>\"/\",V100*Y100,0))","v":0}]
[1,{"$f":"IF(Paramètres!W6=0,\"\",Paramètres!W6)","v":""},{"$f":"IF(C100<>0,C100+IF(AND(B100<>\"\",A100<E$99),B100,0),IF(AND(B100<>\"\",A100<E$99),B100,0))","v":0},{"$f":"IF(E101<>\"/\",IF(G$99=\"Error\",\"Error\",$H$99+C101),\"/\")","v":"/"},{"$f":"IF(G$99=\"Error\",\"Error\",IF(AND($E$99<>\"/\",$E$99>'Paramètres - Admin'!$A2),'Paramètres - Admin'!$A3,\"/\"))","v":"/"},{"$f":"IF(E101<>\"/\",VLOOKUP(E101,COSTS_Inferno_Tower[#All],2),\"/\")","v":"/"},{"$f":"IF(E101<>\"/\",VLOOKUP(E101,COSTS_Inferno_Tower[#All],3),\"/\")","v":"/"},{"$f":"IF(G$99=\"Error\",\"Error\",IF(F101<>\"/\",D101*F101,0))","v":0},{"$f":"IF(G$99=\"Error\",\"Error\",IF(G101<>\"/\",D101*G101,0))","v":0},7,{"$f":"IF(Paramètres!R12=0,\"\",Paramètres!R12)","v":""},0,"/",{"$f":"IF(P$93=\"Error\",\"Error\",IF(AND($N$93<>\"/\",$N$93>'Paramètres - Admin'!$A8),'Paramètres - Admin'!$A9,\"/\"))","v":"/"},{"$f":"IF(N101<>\"/\",VLOOKUP(N101,COSTS_Air_Defense[#All],2),\"/\")","v":"/"},{"$f":"IF(N101<>\"/\",VLOOKUP(N101,COSTS_Air_Defense[#All],3),\"/\")","v":"/"},0,0,2,{"$f":"IF(Paramètres!U7=0,\"\",Paramètres!U7)","v":""},{"$f":"IF(U100<>0,U100+IF(AND(T100<>\"\",S100<W$98),T100,0),IF(AND(T100<>\"\",S100<W$98),T100,0))","v":0},"/",{"$f":"IF(Y$98=\"Error\",\"Error\",IF(AND($W$98<>\"/\",$W$98>'Paramètres - Admin'!$A3),'Paramètres - Admin'!$A4,\"/\"))","v":"/"},{"$f":"IF(W101<>\"/\",VLOOKUP(W101,COSTS_Hidden_Tesla[#All],2),\"/\")","v":"/"},{"$f":"IF(W101<>\"/\",VLOOKUP(W101,COSTS_Hidden_Tesla[#All],3),\"/\")","v":"/"},0,0]
[2,{"$f":"IF(Paramètres!W7=0,\"\",Paramètres!W7)","v":""},{"$f":"IF(C101<>0,C101+IF(AND(B101<>\"\",A101<E$99),B101,0),IF(AND(B101<>\"\",A101<E$99),B101,0))","v":0},{"$f":"IF(E102<>\"/\",IF(G$99=\"Error\",\"Error\",$H$99+C102),\"/\")","v":"/"},{"$f":"IF(G$99=\"Error\",\"Error\",IF(AND($E$99<>\"/\",$E$99>'Paramètres - Admin'!$A3),'Paramètres - Admin'!$A4,\"/\"))","v":"/"},{"$f":"IF(E102<>\"/\",VLOOKUP(E102,COSTS_Inferno_Tower[#All],2),\"/\")","v":"/"},{"$f":"IF(E102<>\"/\",VLOOKUP(E102,COSTS_Inferno_Tower[#All],3),\"/\")","v":"/"},{"$f":"IF(G$99=\"Error\",\"Error\",IF(F102<>\"/\",D102*F102,0))","v":0},{"$f":"IF(G$99=\"Error\",\"Error\",IF(G102<>\"/\",D102*G102,0))","v":0},8,{"$f":"IF(Paramètres!R13=0,\"\",Paramètres!R13)","v":""},0,"/",{"$f":"IF(P$93=\"Error\",\"Error\",IF(AND($N$93<>\"/\",$N$93>'Paramètres - Admin'!$A9),'Paramètres - Admin'!$A10,\"/\"))","v":"/"},{"$f":"IF(N102<>\"/\",VLOOKUP(N102,COSTS_Air_Defense[#All],2),\"/\")","v":"/"},{"$f":"IF(N102<>\"/\",VLOOKUP(N102,COSTS_Air_Defense[#All],3),\"/\")","v":"/"},0,0,3,{"$f":"IF(Paramètres!U8=0,\"\",Paramètres!U8)","v":""},{"$f":"IF(U101<>0,U101+IF(AND(T101<>\"\",S101<W$98),T101,0),IF(AND(T101<>\"\",S101<W$98),T101,0))","v":0},"/",{"$f":"IF(Y$98=\"Error\",\"Error\",IF(AND($W$98<>\"/\",$W$98>'Paramètres - Admin'!$A4),'Paramètres - Admin'!$A5,\"/\"))","v":"/"},{"$f":"IF(W102<>\"/\",VLOOKUP(W102,COSTS_Hidden_Tesla[#All],2),\"/\")","v":"/"},{"$f":"IF(W102<>\"/\",VLOOKUP(W102,COSTS_Hidden_Tesla[#All],3),\"/\")","v":"/"},0,0]
[3,{"$f":"IF(Paramètres!W8=0,\"\",Paramètres!W8)","v":""},{"$f":"IF(C102<>0,C102+IF(AND(B102<>\"\",A102<E$99),B102,0),IF(AND(B102<>\"\",A102<E$99),B102,0))","v":0},{"$f":"IF(E103<>\"/\",IF(G$99=\"Error\",\"Error\",$H$99+C103),\"/\")","v":"/"},{"$f":"IF(G$99=\"Error\",\"Error\",IF(AND($E$99<>\"/\",$E$99>'Paramètres - Admin'!$A4),'Paramètres - Admin'!$A5,\"/\"))","v":"/"},{"$f":"IF(E103<>\"/\",VLOOKUP(E103,COSTS_Inferno_Tower[#All],2),\"/\")","v":"/"},{"$f":"IF(E103<>\"/\",VLOOKUP(E103,COSTS_Inferno_Tower[#All],3),\"/\")","v":"/"},{"$f":"IF(G$99=\"Error\",\"Error\",IF(F103<>\"/\",D103*F103,0))","v":0},{"$f":"IF(G$99=\"Error\",\"Error\",IF(G103<>\"/\",D103*G103,0))","v":0},null,null,null,null,null,null,"Total",{"$f":"IF(P$93=\"Error\",\"Error\",SUM(Q95:Q102))","v":0},{"$f":"IF(P$93=\"Error\",\"Error\",SUM(R95:R102))","v":0},4,{"$f":"IF(Paramètres!U9=0,\"\",Paramètres!U9)","v":""},{"$f":"IF(U102<>0,U102+IF(AND(T102<>\"\",S102<W$98),T102,0),IF(AND(T102<>\"\",S102<W$98),T102,0))","v":0},"/",{"$f":"IF(Y$98=\"Error\",\"Error\",IF(AND($W$98<>\"/\",$W$98>'Paramètres - Admin'!$A5),'Paramètres - Admin'!$A6,\"/\"))","v":"/"},{"$f":"IF(W103<>\"/\",VLOOKUP(W103,COSTS_Hidden_Tesla[#All],2),\"/\")","v":"/"},{"$f":"IF(W103<>\"/\",VLOOKUP(W103,COSTS_Hidden_Tesla[#All],3),\"/\")","v":"/"},0,0]
[4,{"$f":"IF(Paramètres!W9=0,\"\",Paramètres!W9)","v":""},{"$f":"IF(C103<>0,C103+IF(AND(B103<>\"\",A103<E$99),B103,0),IF(AND(B103<>\"\",A103<E$99),B103,0))","v":0},{"$f":"IF(E104<>\"/\",IF(G$99=\"Error\",\"Error\",$H$99+C104),\"/\")","v":"/"},{"$f":"IF(G$99=\"Error\",\"Error\",IF(AND($E$99<>\"/\",$E$99>'Paramètres - Admin'!$A5),'Paramètres - Admin'!$A6,\"/\"))","v":"/"},{"$f":"IF(E104<>\"/\",VLOOKUP(E104,COSTS_Inferno_Tower[#All],2),\"/\")","v":"/"},{"$f":"IF(E104<>\"/\",VLOOKUP(E104,COSTS_Inferno_Tower[#All],3),\"/\")","v":"/"},{"$f":"IF(G$99=\"Error\",\"Error\",IF(F104<>\"/\",D104*F104,0))","v":0},{"$f":"IF(G$99=\"Error\",\"Error\",IF(G104<>\"/\",D104*G104,0))","v":0},"Arc-X",null,null,"Max","Max +",null,"Actuel","À Faire","Améliorations",5,{"$f":"IF(Paramètres!U10=0,\"\",Paramètres!U10)","v":""},0,"/",{"$f":"IF(Y$98=\"Error\",\"Error\",IF(AND($W$98<>\"/\",$W$98>'Paramètres - Admin'!$A6),'Paramètres - Admin'!$A7,\"/\"))","v":"/"},{"$f":"IF(W104<>\"/\",VLOOKUP(W104,COSTS_Hidden_Tesla[#All],2),\"/\")","v":"/"},{"$f":"IF(W104<>\"/\",VLOOKUP(W104,COSTS_Hidden_Tesla[#All],3),\"/\")","v":"/"},0,0]
[null,null,null,null,null,null,"Total",{"$f":"IF(G$99=\"Error\",\"Error\",SUM(H101:H104))","v":0},{"$f":"IF(G$99=\"Error\",\"Error\",SUM(I101:I104))","v":0},null,null,null,{"$f":"VLOOKUP($A$2,AVAILABLE_Buildings_Defensive[#All],MATCH(J104,AVAILABLE_Buildings_Defensive[#Headers],0))","v":0},{"$f":"VLOOKUP($A$2,AVAILABLE_Buildings_Defensive[#All],MATCH(J104,AVAILABLE_Buildings_Defensive[#Headers],0)+1)","v":0},null,{"$f":"IF(SUM(K107:K111)>M105,\"Error\",SUM(K107:K111))","v":0},{"$f":"IF(P$105=\"Error\",\"Error\",M105-P105)","v":0},{"$f":"IF(P$105=\"Error\",\"Error\",SUM(M107:M110))","v":0},6,{"$f":"IF(Paramètres!U11=0,\"\",Paramètres!U11)","v":""},0,"/",{"$f":"IF(Y$98=\"Error\",\"Error\",IF(AND($W$98<>\"/\",$W$98>'Paramètres - Admin'!$A7),'Paramètres - Admin'!$A8,\"/\"))","v":"/"},{"$f":"IF(W105<>\"/\",VLOOKUP(W105,COSTS_Hidden_Tesla[#All],2),\"/\")","v":"/"},{"$f":"IF(W105<>\"/\",VLOOKUP(W105,COSTS_Hidden_Tesla[#All],3),\"/\")","v":"/"},0,0]
["Aigle Artilleur",null,null,"Max","Max +",null,"Actuel","À Faire","Améliorations","+","NB",null,"NB","+","Coût","Temps","Coût Total","Temps Total",7,{"$f":"IF(Paramètres!U12=0,\"\",Paramètres!U12)","v":""},0,"/",{"$f":"IF(Y$98=\"Error\",\"Error\",IF(AND($W$98<>\"/\",$W$98>'Paramètres - Admin'!$A8),'Paramètres - Admin'!$A9,\"/\"))","v":"/"},{"$f":"IF(W106<>\"/\",VLOOKUP(W106,COSTS_Hidden_Tesla[#All],2),\"/\")","v":"/"},{"$f":"IF(W106<>\"/\",VLOOKUP(W106,COSTS_Hidden_Tesla[#All],3),\"/\")","v":"/"},0,0]
[null,null,null,{"$f":"VLOOKUP($A$2,AVAILABLE_Buildings_Defensive[#All],MATCH(A106,AVAILABLE_Buildings_Defensive[#Headers],0))","v":0},{"$f":"VLOOKUP($A$2,AVAILABLE_Buildings_Defensive[#All],MATCH(A106,AVAILABLE_Buildings_Defensive[#Headers],0)+1)","v":0},null,{"$f":"IF(SUM(B109:B110)>D107,\"Error\",SUM(B109:B110))","v":0},{"$f":"IF(D$107=\"Error\",\"Error\",D107-G107)","v":0},{"$f":"IF(G$107=\"Error\",\"Error\",SUM(D109:D110))","v":0},1,{"$f":"IF(Paramètres!V6=0,\"\",Paramètres!V6)","v":""},{"$f":"IF(L106<>0,L106+IF(AND(K106<>\"\",J106<N$105),K106,0),IF(AND(K106<>\"\",J106<N$105),K106,0))","v":0},{"$f":"IF(N107<>\"/\",IF(P$105=\"Error\",\"Error\",$Q$105+L107),\"/\")","v":"/"},{"$f":"IF(P$105=\"Error\",\"Error\",IF(AND($N$105<>\"/\",$N$105>'Paramètres - Admin'!$A2),'Paramètres - Admin'!$A3,\"/\"))","v":"/"},{"$f":"IF(N107<>\"/\",VLOOKUP(N107,COSTS_XBow[#All],2),\"/\")","v":"/"},{"$f":"IF(N107<>\"/\",VLOOKUP(N107,COSTS_XBow[#All],3),\"/\")","v":"/"},{"$f":"IF(P$105=\"Error\",\"Error\",IF(O107<>\"/\",M107*O107,0))","v":0},{"$f":"IF(P$105=\"Error\",\"Error\",IF(P107<>\"/\",M107*P107,0))","v":0},8,{"$f":"IF(Paramètres!U13=0,\"\",Paramètres!U13)","v":""},0,"/",{"$f":"IF(Y$98=\"Error\",\"Error\",IF(AND($W$98<>\"/\",$W$98>'Paramètres - Admin'!$A9),'Paramètres - Admin'!$A10,\"/\"))","v":"/"},{"$f":"IF(W107<>\"/\",VLOOKUP(W107,COSTS_Hidden_Tesla[#All],2),\"/\")","v":"/"},{"$f":"IF(W107<>\"/\",VLOOKUP(W107,COSTS_Hidden_Tesla[#All],3),\"/\")","v":"/"},0,0]
["+","NB",null,"NB","+","Coût","Temps","Coût Total","Temps Total",2,{"$f":"IF(Paramètres!V7=0,\"\",Paramètres!V7)","v":""},{"$f":"IF(L107<>0,L107+IF(AND(K107<>\"\",J107<N$105),K107,0),IF(AND(K107<>\"\",J107<N$105),K107,0))","v":0},{"$f":"IF(N108<>\"/\",IF(P$105=\"Error\",\"Error\",$Q$105+L108),\"/\")","v":"/"},{"$f":"IF(P$105=\"Error\",\"Error\",IF(AND($N$105<>\"/\",$N$105>'Paramètres - Admin'!$A3),'Paramètres - Admin'!$A4,\"/\"))","v":"/"},{"$f":"IF(N108<>\"/\",VLOOKUP(N108,COSTS_XBow[#All],2),\"/\")","v":"/"},{"$f":"IF(N108<>\"/\",VLOOKUP(N108,COSTS_XBow[#All],3),\"/\")","v":"/"},{"$f":"IF(P$105=\"Error\",\"Error\",IF(O108<>\"/\",M108*O108,0))","v":0},{"$f":"IF(P$105=\"Error\",\"Error\",IF(P108<>\"/\",M108*P108,0))","v":0},9,{"$f":"IF(Paramètres!U14=0,\"\",Paramètres!U14)","v":""},0,"/",{"$f":"IF(Y$98=\"Error\",\"Error\",IF(AND($W$98<>\"/\",$W$98>'Paramètres - Admin'!$A10),'Paramètres - Admin'!$A11,\"/\"))","v":"/"},{"$f":"IF(W108<>\"/\",VLOOKUP(W108,COSTS_Hidden_Tesla[#All],2),\"/\")","v":"/"},{"$f":"IF(W108<>\"/\",VLOOKUP(W108,COSTS_Hidden_Tesla[#All],3),\"/\")","v":"/"},0,0]
[1,{"$f":"IF(Paramètres!X6=0,\"\",Paramètres!X6)","v":""},{"$f":"IF(C108<>0,C108+IF(AND(B108<>\"\",A108<E$107),B108,0),IF(AND(B108<>\"\",A108<E$107),B108,0))","v":0},{"$f":"IF(E109<>\"/\",IF(G$107=\"Error\",\"Error\",$H$107+C109),\"/\")","v":"/"},{"$f":"IF(G$107=\"Error\",\"Error\",IF(AND($E$107<>\"/\",$E$107>'Paramètres - Admin'!$A2),'Paramètres - Admin'!$A3,\"/\"))","v":"/"},{"$f":"IF(E109<>\"/\",VLOOKUP(E109,COSTS_Defense_Aigle[#All],2),\"/\")","v":"/"},{"$f":"IF(E109<>\"/\",VLOOKUP(E109,COSTS_Defense_Aigle[#All],3),\"/\")","v":"/"},{"$f":"IF(G$76=\"Error\",\"Error\",IF(F109<>\"/\",D109*F109,0))","v":0},{"$f":"IF(G$76=\"Error\",\"Error\",IF(G109<>\"/\",D109*G109,0))","v":0},3,{"$f":"IF(Paramètres!V8=0,\"\",Paramètres!V8)","v":""},{"$f":"IF(L108<>0,L108+IF(AND(K108<>\"\",J108<N$105),K108,0),IF(AND(K108<>\"\",J108<N$105),K108,0))","v":0},{"$f":"IF(N109<>\"/\",IF(P$105=\"Error\",\"Error\",$Q$105+L109),\"/\")","v":"/"},{"$f":"IF(P$105=\"Error\",\"Error\",IF(AND($N$105<>\"/\",$N$105>'Paramètres - Admin'!$A4),'Paramètres - Admin'!$A5,\"/\"))","v":"/"},{"$f":"IF(N109<>\"/\",VLOOKUP(N109,COSTS_XBow[#All],2),\"/\")","v":"/"},{"$f":"IF(N109<>\"/\",VLOOKUP(N109,COSTS_XBow[#All],3),\"/\")","v":"/"},{"$f":"IF(P$105=\"Error\",\"Error\",IF(O109<>\"/\",M109*O109,0))","v":0},{"$f":"IF(P$105=\"Error\",\"Error\",IF(P109<>\"/\",M109*P109,0))","v":0},null,null,null,null,null,null,"Total",{"$f":"IF(Y$98=\"Error\",\"Error\",SUM(Z100:Z108))","v":0},{"$f":"IF(Y$98=\"Error\",\"Error\",SUM(AA100:AA107))","v":0}]
[2,{"$f":"IF(Paramètres!X7=0,\"\",Paramètres!X7)","v":""},{"$f":"IF(C109<>0,C109+IF(AND(B109<>\"\",A109<E$107),B109,0),IF(AND(B109<>\"\",A109<E$107),B109,0))","v":0},{"$f":"IF(E110<>\"/\",IF(G$107=\"Error\",\"Error\",$H$107+C110),\"/\")","v":"/"},{"$f":"IF(G$107=\"Error\",\"Error\",IF(AND($E$107<>\"/\",$E$107>'Paramètres - Admin'!$A3),'Paramètres - Admin'!$A4,\"/\"))","v":"/"},{"$f":"IF(E110<>\"/\",VLOOKUP(E110,COSTS_Defense_Aigle[#All],2),\"/\")","v":"/"},{"$f":"IF(E110<>\"/\",VLOOKUP(E110,COSTS_Defense_Aigle[#All],3),\"/\")","v":"/"},{"$f":"IF(G$107=\"Error\",\"Error\",IF(F110<>\"/\",D110*F110,0))","v":0},{"$f":"IF(G$107=\"Error\",\"Error\",IF(G110<>\"/\",D110*G110,0))","v":0},4,{"$f":"IF(Paramètres!V9=0,\"\",Paramètres!V9)","v":""},{"$f":"IF(L109<>0,L109+IF(AND(K109<>\"\",J109<N$105),K109,0),IF(AND(K109<>\"\",J109<N$105),K109,0))","v":0},{"$f":"IF(N110<>\"/\",IF(P$105=\"Error\",\"Error\",$Q$105+L110),\"/\")","v":"/"},{"$f":"IF(P$105=\"Error\",\"Error\",IF(AND($N$105<>\"/\",$N$105>'Paramètres - Admin'!$A5),'Paramètres - Admin'!$A6,\"/\"))","v":"/"},{"$f":"IF(N110<>\"/\",VLOOKUP(N110,COSTS_XBow[#All],2),\"/\")","v":"/"},{"$f":"IF(N110<>\"/\",VLOOKUP(N110,COSTS_XBow[#All],3),\"/\")","v":"/"},{"$f":"IF(P$105=\"Error\",\"Error\",IF(O110<>\"/\",M110*O110,0))","v":0},{"$f":"IF(P$105=\"Error\",\"Error\",IF(P110<>\"/\",M110*P110,0))","v":0}]
[null,null,null,null,null,null,"Total",{"$f":"IF(Y$79=\"Error\",\"Error\",SUM(H109:H110))","v":0},{"$f":"IF(Y$79=\"Error\",\"Error\",SUM(I109:I110))","v":0},5,{"$f":"IF(Paramètres!V10=0,\"\",Paramètres!V10)","v":""},{"$f":"IF(L110<>0,L110+IF(AND(K110<>\"\",J110<N$105),K110,0),IF(AND(K110<>\"\",J110<N$105),K110,0))","v":0},{"$f":"IF(N111<>\"/\",IF(P$105=\"Error\",\"Error\",$Q$105+L111),\"/\")","v":"/"},{"$f":"IF(P$105=\"Error\",\"Error\",IF(AND($N$105<>\"/\",$N$105>'Paramètres - Admin'!$A6),'Paramètres - Admin'!$A7,\"/\"))","v":"/"},{"$f":"IF(N111<>\"/\",VLOOKUP(N111,COSTS_XBow[#All],2),\"/\")","v":"/"},{"$f":"IF(N111<>\"/\",VLOOKUP(N111,COSTS_XBow[#All],3),\"/\")","v":"/"},{"$f":"IF(P$105=\"Error\",\"Error\",IF(O111<>\"/\",M111*O111,0))","v":0},{"$f":"IF(P$105=\"Error\",\"Error\",IF(P111<>\"/\",M111*P111,0))","v":0}]
[null,null,null,null,null,null,null,null,null,null,null,null,null,null,null,"Total",{"$f":"IF(P$105=\"Error\",\"Error\",SUM(Q107:Q111))","v":0},{"$f":"IF(P$105=\"Error\",\"Error\",SUM(R107:R110))","v":0}]
[]
[]
["Pièges Défensifs"]
["Bombe",null,null,"Max","Max +",null,"Actuel","À Faire","Améliorations","Bombe aérienne",null,null,"Max","Max +",null,"Actuel","À Faire","Améliorations","Piège à ressort",null,null,"Max","Max +",null,"Actuel","À Faire","Améliorations"]
[null,null,null,{"$f":"VLOOKUP($A$2,AVAILABLE_Traps[#All],MATCH(A116,AVAILABLE_Traps[#Headers],0))","v":0},{"$f":"VLOOKUP($A$2,AVAILABLE_Traps[#All],MATCH(A116,AVAILABLE_Traps[#Headers],0)+1)","v":0},null,{"$f":"IF(SUM(B119:B124)>D117,\"Error\",SUM(B119:B124))","v":0},{"$f":"IF(G$117=\"Error\",\"Error\",D117-G117)","v":0},{"$f":"IF(G$117=\"Error\",\"Error\",SUM(D119:D124))","v":0},null,null,null,{"$f":"VLOOKUP($A$2,AVAILABLE_Traps[#All],MATCH(J116,AVAILABLE_Traps[#Headers],0))","v":0},{"$f":"VLOOKUP($A$2,AVAILABLE_Traps[#All],MATCH(J116,AVAILABLE_Traps[#Headers],0)+1)","v":0},null,{"$f":"IF(SUM(K119:K122)>M117,\"Error\",SUM(K119:K122))","v":0},{"$f":"IF(P$117=\"Error\",\"Error\",M117-P117)","v":0},{"$f":"IF(P$117=\"Error\",\"Error\",SUM(M119:M122))","v":0},null,null,null,{"$f":"VLOOKUP($A$2,AVAILABLE_Traps[#All],MATCH(S116,AVAILABLE_Traps[#Headers],0))","v":0},{"$f":"VLOOKUP($A$2,AVAILABLE_Traps[#All],MATCH(S116,AVAILABLE_Traps[#Headers],0)+1)","v":0},null,{"$f":"IF(SUM(T119:T123)>V117,\"Error\",SUM(T119:T123))","v":0},{"$f":"IF(Y$117=\"Error\",\"Error\",V117-Y117)","v":0},{"$f":"IF(Y$117=\"Error\",\"Error\",SUM(V119:V123))","v":0}]
["+","NB",null,"NB","+","Coût","Temps","Coût Total","Temps Total","+","NB",null,"NB","+","Coût","Temps","Coût Total","Temps Total","+","NB",null,"NB","+","Coût","Temps","Coût Total","Temps Total"]
[1,{"$f":"IF(Paramètres!Y6=0,\"\",Paramètres!Y6)","v":""},{"$f":"IF(C118<>0,C118+IF(AND(B118<>\"\",A118<E$117),B118,0),IF(AND(B118<>\"\",A118<E$117),B118,0))","v":0},{"$f":"IF(E119<>\"/\",IF($G$117=\"Error\",\"Error\",$H$117+C119),\"/\")","v":"/"},{"$f":"IF(G$117=\"Error\",\"Error\",IF(AND($E$117<>\"/\",$E$117>'Paramètres - Admin'!$A2),'Paramètres - Admin'!$A3,\"/\"))","v":"/"},{"$f":"IF(E119<>\"/\",VLOOKUP(E119,COSTS_Bomb[#All],2),\"/\")","v":"/"},{"$f":"IF(E119<>\"/\",VLOOKUP(E119,COSTS_Bomb[#All],3),\"/\")","v":"/"},{"$f":"IF(G$117=\"Error\",\"Error\",IF(F119<>\"/\",D119*F119,0))","v":0},{"$f":"IF(G$117=\"Error\",\"Error\",IF(G119<>\"/\",D119*G119,0))","v":0},1,{"$f":"IF(Paramètres!AB6=0,\"\",Paramètres!AB6)","v":""},{"$f":"IF(L118<>0,L118+IF(AND(K118<>\"\",J118<N$117),K118,0),IF(AND(K118<>\"\",J118<N$117),K118,0))","v":0},{"$f":"IF(N119<>\"/\",IF($P$117=\"Error\",\"Error\",$Q$117+L119),\"/\")","v":"/"},{"$f":"IF(P$117=\"Error\",\"Error\",IF(AND($N$117<>\"/\",$N$117>'Paramètres - Admin'!$A2),'Paramètres - Admin'!$A3,\"/\"))","v":"/"},{"$f":"IF(N119<>\"/\",VLOOKUP(N119,COST_Air_Bomb[#All],2),\"/\")","v":"/"},{"$f":"IF(N119<>\"/\",VLOOKUP(N119,COST_Air_Bomb[#All],3),\"/\")","v":"/"},{"$f":"IF(P$117=\"Error\",\"Error\",IF(O119<>\"/\",M119*O119,0))","v":0},{"$f":"IF(P$117=\"Error\",\"Error\",IF(P119<>\"/\",M119*P119,0))","v":0},1,{"$f":"IF(Paramètres!Z6=0,\"\",Paramètres!Z6)","v":""},{"$f":"IF(U118<>0,U118+IF(AND(T118<>\"\",S118<W$117),T118,0),IF(AND(T118<>\"\",S118<W$117),T118,0))","v":0},{"$f":"IF(W119<>\"/\",IF($Y$117=\"Error\",\"Error\",$Z$117+U119),\"/\")","v":"/"},{"$f":"IF(Y$117=\"Error\",\"Error\",IF(AND($W$117<>\"/\",$W$117>'Paramètres - Admin'!$A2),'Paramètres - Admin'!$A3,\"/\"))","v":"/"},{"$f":"IF(W119<>\"/\",VLOOKUP(W119,COSTS_Spring_Trap[#All],2),\"/\")","v":"/"},{"$f":"IF(W119<>\"/\",VLOOKUP(W119,COSTS_Spring_Trap[#All],3),\"/\")","v":"/"},{"$f":"IF(Y$117=\"Error\",\"Error\",IF(X119<>\"/\",V119*X119,0))","v":0},{"$f":"IF(Y$117=\"Error\",\"Error\",IF(Y119<>\"/\",V119*Y119,0))","v":0}]
[2,{"$f":"IF(Paramètres!Y7=0,\"\",Paramètres!Y7)","v":""},{"$f":"IF(C119<>0,C119+IF(AND(B119<>\"\",A119<E$117),B119,0),IF(AND(B119<>\"\",A119<E$117),B119,0))","v":0},"/",{"$f":"IF(G$117=\"Error\",\"Error\",IF(AND($E$117<>\"/\",$E$117>'Paramètres - Admin'!$A3),'Paramètres - Admin'!$A4,\"/\"))","v":"/"},{"$f":"IF(E120<>\"/\",VLOOKUP(E120,COSTS_Bomb[#All],2),\"/\")","v":"/"},{"$f":"IF(E120<>\"/\",VLOOKUP(E120,COSTS_Bomb[#All],3),\"/\")","v":"/"},0,{"$f":"IF(P$67=\"Error\",\"Error\",IF(G120<>\"/\",D120*G120,0))","v":0},2,{"$f":"IF(Paramètres!AB7=0,\"\",Paramètres!AB7)","v":""},{"$f":"IF(L119<>0,L119+IF(AND(K119<>\"\",J119<N$117),K119,0),IF(AND(K119<>\"\",J119<N$117),K119,0))","v":0},{"$f":"IF(N120<>\"/\",IF($P$117=\"Error\",\"Error\",$Q$117+L120),\"/\")","v":"/"},{"$f":"IF(P$117=\"Error\",\"Error\",IF(AND($N$117<>\"/\",$N$117>'Paramètres - Admin'!$A3),'Paramètres - Admin'!$A4,\"/\"))","v":"/"},{"$f":"IF(N120<>\"/\",VLOOKUP(N120,COST_Air_Bomb[#All],2),\"/\")","v":"/"},{"$f":"IF(N120<>\"/\",VLOOKUP(N120,COST_Air_Bomb[#All],3),\"/\")","v":"/"},{"$f":"IF(P$117=\"Error\",\"Error\",IF(O120<>\"/\",M120*O120,0))","v":0},{"$f":"IF(P$117=\"Error\",\"Error\",IF(P120<>\"/\",M120*P120,0))","v":0},2,{"$f":"IF(Paramètres!Z7=0,\"\",Paramètres!Z7)","v":""},{"$f":"IF(U119<>0,U119+IF(AND(T119<>\"\",S119<W$117),T119,0),IF(AND(T119<>\"\",S119<W$117),T119,0))","v":0},{"$f":"IF(W120<>\"/\",IF($Y$117=\"Error\",\"Error\",$Z$117+U120),\"/\")","v":"/"},{"$f":"IF(Y$117=\"Error\",\"Error\",IF(AND($W$117<>\"/\",$W$117>'Paramètres - Admin'!$A3),'Paramètres - Admin'!$A4,\"/\"))","v":"/"},{"$f":"IF(W120<>\"/\",VLOOKUP(W120,COSTS_Spring_Trap[#All],2),\"/\")","v":"/"},{"$f":"IF(W120<>\"/\",VLOOKUP(W120,COSTS_Spring_Trap[#All],3),\"/\")","v":"/"},{"$f":"IF(Y$117=\"Error\",\"Error\",IF(X120<>\"/\",V120*X120,0))","v":0},{"$f":"IF(Y$117=\"Error\",\"Error\",IF(Y120<>\"/\",V120*Y120,0))","v":0}]
[3,{"$f":"IF(Paramètres!Y8=0,\"\",Paramètres!Y8)","v":""},0,"/",{"$f":"IF(G$117=\"Error\",\"Error\",IF(AND($E$117<>\"/\",$E$117>'Paramètres - Admin'!$A4),'Paramètres - Admin'!$A5,\"/\"))","v":"/"},{"$f":"IF(E121<>\"/\",VLOOKUP(E121,COSTS_Bomb[#All],2),\"/\")","v":"/"},{"$f":"IF(E121<>\"/\",VLOOKUP(E121,COSTS_Bomb[#All],3),\"/\")","v":"/"},0,{"$f":"IF(P$67=\"Error\",\"Error\",IF(G121<>\"/\",D121*G121,0))","v":0},3,{"$f":"IF(Paramètres!AB8=0,\"\",Paramètres!AB8)","v":""},{"$f":"IF(L120<>0,L120+IF(AND(K120<>\"\",J120<N$117),K120,0),IF(AND(K120<>\"\",J120<N$117),K120,0))","v":0},{"$f":"IF(N121<>\"/\",IF($P$117=\"Error\",\"Error\",$Q$117+L121),\"/\")","v":"/"},{"$f":"IF(P$117=\"Error\",\"Error\",IF(AND($N$117<>\"/\",$N$117>'Paramètres - Admin'!$A4),'Paramètres - Admin'!$A5,\"/\"))","v":"/"},{"$f":"IF(N121<>\"/\",VLOOKUP(N121,COST_Air_Bomb[#All],2),\"/\")","v":"/"},{"$f":"IF(N121<>\"/\",VLOOKUP(N121,COST_Air_Bomb[#All],3),\"/\")","v":"/"},{"$f":"IF(P$117=\"Error\",\"Error\",IF(O121<>\"/\",M121*O121,0))","v":0},{"$f":"IF(P$117=\"Error\",\"Error\",IF(P121<>\"/\",M121*P121,0))","v":0},3,{"$f":"IF(Paramètres!Z8=0,\"\",Paramètres!Z8)","v":""},{"$f":"IF(U120<>0,U120+IF(AND(T120<>\"\",S120<W$117),T120,0),IF(AND(T120<>\"\",S120<W$117),T120,0))","v":0},"/",{"$f":"IF(Y$117=\"Error\",\"Error\",IF(AND($W$117<>\"/\",$W$117>'Paramètres - Admin'!$A4),'Paramètres - Admin'!$A5,\"/\"))","v":"/"},{"$f":"IF(W121<>\"/\",VLOOKUP(W121,COSTS_Spring_Trap[#All],2),\"/\")","v":"/"},{"$f":"IF(W121<>\"/\",VLOOKUP(W121,COSTS_Spring_Trap[#All],3),\"/\")","v":"/"},0,0]
[4,{"$f":"IF(Paramètres!Y9=0,\"\",Paramètres!Y9)","v":""},0,"/",{"$f":"IF(G$117=\"Error\",\"Error\",IF(AND($E$117<>\"/\",$E$117>'Paramètres - Admin'!$A5),'Paramètres - Admin'!$A6,\"/\"))","v":"/"},{"$f":"IF(E122<>\"/\",VLOOKUP(E122,COSTS_Bomb[#All],2),\"/\")","v":"/"},{"$f":"IF(E122<>\"/\",VLOOKUP(E122,COSTS_Bomb[#All],3),\"/\")","v":"/"},0,{"$f":"IF(P$67=\"Error\",\"Error\",IF(G122<>\"/\",D122*G122,0))","v":0},4,{"$f":"IF(Paramètres!AB9=0,\"\",Paramètres!AB9)","v":""},{"$f":"IF(L121<>0,L121+IF(AND(K121<>\"\",J121<N$117),K121,0),IF(AND(K121<>\"\",J121<N$117),K121,0))","v":0},{"$f":"IF(N122<>\"/\",IF($P$117=\"Error\",\"Error\",$Q$117+L122),\"/\")","v":"/"},{"$f":"IF(P$117=\"Error\",\"Error\",IF(AND($N$117<>\"/\",$N$117>'Paramètres - Admin'!$A5),'Paramètres - Admin'!$A6,\"/\"))","v":"/"},{"$f":"IF(N122<>\"/\",VLOOKUP(N122,COST_Air_Bomb[#All],2),\"/\")","v":"/"},{"$f":"IF(N122<>\"/\",VLOOKUP(N122,COST_Air_Bomb[#All],3),\"/\")","v":"/"},{"$f":"IF(P$117=\"Error\",\"Error\",IF(O122<>\"/\",M122*O122,0))","v":0},{"$f":"IF(P$117=\"Error\",\"Error\",IF(P122<>\"/\",M122*P122,0))","v":0},4,{"$f":"IF(Paramètres!Z9=0,\"\",Paramètres!Z9)","v":""},{"$f":"IF(U121<>0,U121+IF(AND(T121<>\"\",S121<W$117),T121,0),IF(AND(T121<>\"\",S121<W$117),T121,0))","v":0},"/",{"$f":"IF(Y$117=\"Error\",\"Error\",IF(AND($W$117<>\"/\",$W$117>'Paramètres - Admin'!$A5),'Paramètres - Admin'!$A6,\"/\"))","v":"/"},{"$f":"IF(W122<>\"/\",VLOOKUP(W122,COSTS_Spring_Trap[#All],2),\"/\")","v":"/"},{"$f":"IF(W122<>\"/\",VLOOKUP(W122,COSTS_Spring_Trap[#All],3),\"/\")","v":"/"},0,0]
[5,{"$f":"IF(Paramètres!Y10=0,\"\",Paramètres!Y10)","v":""},0,"/",{"$f":"IF(G$117=\"Error\",\"Error\",IF(AND($E$117<>\"/\",$E$117>'Paramètres - Admin'!$A6),'Paramètres - Admin'!$A7,\"/\"))","v":"/"},{"$f":"IF(E123<>\"/\",VLOOKUP(E123,COSTS_Bomb[#All],2),\"/\")","v":"/"},{"$f":"IF(E123<>\"/\",VLOOKUP(E123,COSTS_Bomb[#All],3),\"/\")","v":"/"},0,{"$f":"IF(P$67=\"Error\",\"Error\",IF(G123<>\"/\",D123*G123,0))","v":0},null,null,null,null,null,null,"Total",{"$f":"IF(P$117=\"Error\",\"Error\",SUM(Q119:Q122))","v":0},{"$f":"IF(P$117=\"Error\",\"Error\",SUM(R119:R122))","v":0},5,{"$f":"IF(Paramètres!Z10=0,\"\",Paramètres!Z10)","v":""},{"$f":"IF(U122<>0,U122+IF(AND(T122<>\"\",S122<W$117),T122,0),IF(AND(T122<>\"\",S122<W$117),T122,0))","v":0},"/",{"$f":"IF(Y$117=\"Error\",\"Error\",IF(AND($W$117<>\"/\",$W$117>'Paramètres - Admin'!$A6),'Paramètres - Admin'!$A7,\"/\"))","v":"/"},{"$f":"IF(W123<>\"/\",VLOOKUP(W123,COSTS_Spring_Trap[#All],2),\"/\")","v":"/"},{"$f":"IF(W123<>\"/\",VLOOKUP(W123,COSTS_Spring_Trap[#All],3),\"/\")","v":"/"},0,0]
[6,{"$f":"IF(Paramètres!Y11=0,\"\",Paramètres!Y11)","v":""},0,"/",{"$f":"IF(G$117=\"Error\",\"Error\",IF(AND($E$117<>\"/\",$E$117>'Paramètres - Admin'!$A7),'Paramètres - Admin'!$A8,\"/\"))","v":"/"},{"$f":"IF(E124<>\"/\",VLOOKUP(E124,COSTS_Bomb[#All],2),\"/\")","v":"/"},{"$f":"IF(E124<>\"/\",VLOOKUP(E124,COSTS_Bomb[#All],3),\"/\")","v":"/"},0,{"$f":"IF(G$117=\"Error\",\"Error\",IF(G124<>\"/\",D124*G124,0))","v":0},"Tête chercheuse",null,null,"Max","Max +",null,"Actuel","À Faire","Améliorations",null,null,null,null,null,null,"Total",{"$f":"IF(Y$117=\"Error\",\"Error\",SUM(Z119:Z123))","v":0},{"$f":"IF(Y$117=\"Error\",\"Error\",SUM(AA119:AA123))","v":0}]
[null,null,null,null,null,null,"Total",{"$f":"IF(G$117=\"Error\",\"Error\",SUM(H119:H124))","v":0},{"$f":"IF(G$117=\"Error\",\"Error\",SUM(I119:I124))","v":0},null,null,null,{"$f":"VLOOKUP($A$2,AVAILABLE_Traps[#All],MATCH(J124,AVAILABLE_Traps[#Headers],0))","v":0},{"$f":"VLOOKUP($A$2,AVAILABLE_Traps[#All],MATCH(J124,AVAILABLE_Traps[#Headers],0)+1)","v":0},null,{"$f":"IF(SUM(K127:K129)>M125,\"Error\",SUM(K127:K129))","v":0},{"$f":"IF(P$125=\"Error\",\"Error\",M125-P125)","v":0},{"$f":"IF(P$125=\"Error\",\"Error\",SUM(M127:M129))","v":0},"Piège squelettique",null,null,"Max","Max +",null,"Actuel","À Faire","Améliorations"]
["Bombe géante",null,null,"Max","Max +",null,"Actuel","À Faire","Améliorations","+","NB",null,"NB","+","Coût","Temps","Coût Total","Temps Total",null,null,null,{"$f":"VLOOKUP($A$2,AVAILABLE_Traps[#All],MATCH(S125,AVAILABLE_Traps[#Headers],0))","v":0},{"$f":"VLOOKUP($A$2,AVAILABLE_Traps[#All],MATCH(S125,AVAILABLE_Traps[#Headers],0)+1)","v":0},null,{"$f":"IF(SUM(T128:T130)>V126,\"Error\",SUM(T128:T130))","v":0},{"$f":"IF(Y$126=\"Error\",\"Error\",V126-Y126)","v":0},{"$f":"IF(Y$126=\"Error\",\"Error\",SUM(V128:V130))","v":0}]
[null,null,null,{"$f":"VLOOKUP($A$2,AVAILABLE_Traps[#All],MATCH(A126,AVAILABLE_Traps[#Headers],0))","v":0},{"$f":"VLOOKUP($A$2,AVAILABLE_Traps[#All],MATCH(A126,AVAILABLE_Traps[#Headers],0)+1)","v":0},null,{"$f":"IF(SUM(B129:B132)>D127,\"Error\",SUM(B129:B132))","v":0},{"$f":"IF(G$127=\"Error\",\"Error\",D127-G127)","v":0},{"$f":"IF(G$127=\"Error\",\"Error\",SUM(D129:D132))","v":0},1,{"$f":"IF(Paramètres!AC6=0,\"\",Paramètres!AC6)","v":""},{"$f":"IF(L126<>0,L126+IF(AND(K126<>\"\",J126<N$125),K126,0),IF(AND(K126<>\"\",J126<N$125),K126,0))","v":0},{"$f":"IF(N127<>\"/\",IF($P$125=\"Error\",\"Error\",$Q$125+L127),\"/\")","v":"/"},{"$f":"IF(P$125=\"Error\",\"Error\",IF(AND($N$125<>\"/\",$N$125>'Paramètres - Admin'!$A2),'Paramètres - Admin'!$A3,\"/\"))","v":"/"},{"$f":"IF(N127<>\"/\",VLOOKUP(N127,COST_Seeking_Air_Mine[#All],2),\"/\")","v":"/"},{"$f":"IF(N127<>\"/\",VLOOKUP(N127,COST_Seeking_Air_Mine[#All],3),\"/\")","v":"/"},{"$f":"IF(P$125=\"Error\",\"Error\",IF(O127<>\"/\",M127*O127,0))","v":0},{"$f":"IF(P$125=\"Error\",\"Error\",IF(P127<>\"/\",M127*P127,0))","v":0},"+","NB",null,"NB","+","Coût","Temps","Coût Total","Temps Total"]
["+","NB",null,"NB","+","Coût","Temps","Coût Total","Temps Total",2,{"$f":"IF(Paramètres!AC7=0,\"\",Paramètres!AC7)","v":""},{"$f":"IF(L127<>0,L127+IF(AND(K127<>\"\",J127<N$125),K127,0),IF(AND(K127<>\"\",J127<N$125),K127,0))","v":0},{"$f":"IF(N128<>\"/\",IF($P$125=\"Error\",\"Error\",$Q$125+L128),\"/\")","v":"/"},{"$f":"IF(P$125=\"Error\",\"Error\",IF(AND($N$125<>\"/\",$N$125>'Paramètres - Admin'!$A3),'Paramètres - Admin'!$A4,\"/\"))","v":"/"},{"$f":"IF(N128<>\"/\",VLOOKUP(N128,COST_Seeking_Air_Mine[#All],2),\"/\")","v":"/"},{"$f":"IF(N128<>\"/\",VLOOKUP(N128,COST_Seeking_Air_Mine[#All],3),\"/\")","v":"/"},{"$f":"IF(P$125=\"Error\",\"Error\",IF(O128<>\"/\",M128*O128,0))","v":0},{"$f":"IF(P$125=\"Error\",\"Error\",IF(P128<>\"/\",M128*P128,0))","v":0},1,{"$f":"IF(Paramètres!AD6=0,\"\",Paramètres!AD6)","v":""},{"$f":"IF(U127<>0,U127+IF(AND(T127<>\"\",S127<W$126),T127,0),IF(AND(T127<>\"\",S127<W$126),T127,0))","v":0},{"$f":"IF(W128<>\"/\",IF($Y$126=\"Error\",\"Error\",$Z$126+U128),\"/\")","v":"/"},{"$f":"IF(Y$126=\"Error\",\"Error\",IF(AND($W$126<>\"/\",$W$126>'Paramètres - Admin'!$A2),'Paramètres - Admin'!$A3,\"/\"))","v":"/"},{"$f":"IF(W128<>\"/\",VLOOKUP(W128,COST_Skeleton_Trap[#All],2),\"/\")","v":"/"},{"$f":"IF(W128<>\"/\",VLOOKUP(W128,COST_Skeleton_Trap[#All],3),\"/\")","v":"/"},{"$f":"IF(Y$126=\"Error\",\"Error\",IF(X128<>\"/\",V128*X128,0))","v":0},{"$f":"IF(Y$126=\"Error\",\"Error\",IF(Y128<>\"/\",V128*Y128,0))","v":0}]
[1,{"$f":"IF(Paramètres!AA6=0,\"\",Paramètres!AA6)","v":""},{"$f":"IF(C128<>0,C128+IF(AND(B128<>\"\",A128<E$127),B128,0),IF(AND(B128<>\"\",A128<E$127),B128,0))","v":0},{"$f":"IF(E129<>\"/\",IF($G$127=\"Error\",\"Error\",$H$127+C129),\"/\")","v":"/"},{"$f":"IF(G$127=\"Error\",\"Error\",IF(AND($E$127<>\"/\",$E$127>'Paramètres - Admin'!$A2),'Paramètres - Admin'!$A3,\"/\"))","v":"/"},{"$f":"IF(E129<>\"/\",VLOOKUP(E129,COSTS_Giant_Bomb[#All],2),\"/\")","v":"/"},{"$f":"IF(E129<>\"/\",VLOOKUP(E129,COSTS_Giant_Bomb[#All],3),\"/\")","v":"/"},{"$f":"IF(G$127=\"Error\",\"Error\",IF(F129<>\"/\",D129*F129,0))","v":0},{"$f":"IF(G$127=\"Error\",\"Error\",IF(G129<>\"/\",D129*G129,0))","v":0},3,{"$f":"IF(Paramètres!AC8=0,\"\",Paramètres!AC8)","v":""},{"$f":"IF(L128<>0,L128+IF(AND(K128<>\"\",J128<N$125),K128,0),IF(AND(K128<>\"\",J128<N$125),K128,0))","v":0},{"$f":"IF(N129<>\"/\",IF($P$125=\"Error\",\"Error\",$Q$125+L129),\"/\")","v":"/"},{"$f":"IF(P$125=\"Error\",\"Error\",IF(AND($N$125<>\"/\",$N$125>'Paramètres - Admin'!$A4),'Paramètres - Admin'!$A5,\"/\"))","v":"/"},{"$f":"IF(N129<>\"/\",VLOOKUP(N129,COST_Seeking_Air_Mine[#All],2),\"/\")","v":"/"},{"$f":"IF(N129<>\"/\",VLOOKUP(N129,COST_Seeking_Air_Mine[#All],3),\"/\")","v":"/"},{"$f":"IF(P$125=\"Error\",\"Error\",IF(O129<>\"/\",M129*O129,0))","v":0},{"$f":"IF(P$125=\"Error\",\"Error\",IF(P129<>\"/\",M129*P129,0))","v":0},2,{"$f":"IF(Paramètres!AD7=0,\"\",Paramètres!AD7)","v":""},{"$f":"IF(U128<>0,U128+IF(AND(T128<>\"\",S128<W$126),T128,0),IF(AND(T128<>\"\",S128<W$126),T128,0))","v":0},{"$f":"IF(W129<>\"/\",IF($Y$126=\"Error\",\"Error\",$Z$126+U129),\"/\")","v":"/"},{"$f":"IF(Y$126=\"Error\",\"Error\",IF(AND($W$126<>\"/\",$W$126>'Paramètres - Admin'!$A3),'Paramètres - Admin'!$A4,\"/\"))","v":"/"},{"$f":"IF(W129<>\"/\",VLOOKUP(W129,COST_Skeleton_Trap[#All],2),\"/\")","v":"/"},{"$f":"IF(W129<>\"/\",VLOOKUP(W129,COST_Skeleton_Trap[#All],3),\"/\")","v":"/"},{"$f":"IF(Y$126=\"Error\",\"Error\",IF(X129<>\"/\",V129*X129,0))","v":0},{"$f":"IF(Y$126=\"Error\",\"Error\",IF(Y129<>\"/\",V129*Y129,0))","v":0}]
[2,{"$f":"IF(Paramètres!AA7=0,\"\",Paramètres!AA7)","v":""},{"$f":"IF(C129<>0,C129+IF(AND(B129<>\"\",A129<E$127),B129,0),IF(AND(B129<>\"\",A129<E$127),B129,0))","v":0},{"$f":"IF(E130<>\"/\",IF($G$127=\"Error\",\"Error\",$H$127+C130),\"/\")","v":"/"},{"$f":"IF(G$127=\"Error\",\"Error\",IF(AND($E$127<>\"/\",$E$127>'Paramètres - Admin'!$A3),'Paramètres - Admin'!$A4,\"/\"))","v":"/"},{"$f":"IF(E130<>\"/\",VLOOKUP(E130,COSTS_Giant_Bomb[#All],2),\"/\")","v":"/"},{"$f":"IF(E130<>\"/\",VLOOKUP(E130,COSTS_Giant_Bomb[#All],3),\"/\")","v":"/"},{"$f":"IF(G$127=\"Error\",\"Error\",IF(F130<>\"/\",D130*F130,0))","v":0},{"$f":"IF(G$127=\"Error\",\"Error\",IF(G130<>\"/\",D130*G130,0))","v":0},null,null,null,null,null,null,"Total",{"$f":"IF(P$125=\"Error\",\"Error\",SUM(Q127:Q129))","v":0},{"$f":"IF(P$125=\"Error\",\"Error\",SUM(R127:R129))","v":0},3,{"$f":"IF(Paramètres!AD8=0,\"\",Paramètres!AD8)","v":""},{"$f":"IF(U129<>0,U129+IF(AND(T129<>\"\",S129<W$126),T129,0),IF(AND(T129<>\"\",S129<W$126),T129,0))","v":0},{"$f":"IF(W130<>\"/\",IF($Y$126=\"Error\",\"Error\",$Z$126+U130),\"/\")","v":"/"},{"$f":"IF(Y$126=\"Error\",\"Error\",IF(AND($W$126<>\"/\",$W$126>'Paramètres - Admin'!$A4),'Paramètres - Admin'!$A5,\"/\"))","v":"/"},{"$f":"IF(W130<>\"/\",VLOOKUP(W130,COST_Skeleton_Trap[#All],2),\"/\")","v":"/"},{"$f":"IF(W130<>\"/\",VLOOKUP(W130,COST_Skeleton_Trap[#All],3),\"/\")","v":"/"},{"$f":"IF(Y$126=\"Error\",\"Error\",IF(X130<>\"/\",V130*X130,0))","v":0},{"$f":"IF(Y$126=\"Error\",\"Error\",IF(Y130<>\"/\",V130*Y130,0))","v":0}]
[3,{"$f":"IF(Paramètres!AA8=0,\"\",Paramètres!AA8)","v":""},{"$f":"IF(C130<>0,C130+IF(AND(B130<>\"\",A130<E$127),B130,0),IF(AND(B130<>\"\",A130<E$127),B130,0))","v":0},{"$f":"IF(E131<>\"/\",IF($G$127=\"Error\",\"Error\",$H$127+C131),\"/\")","v":"/"},{"$f":"IF(G$127=\"Error\",\"Error\",IF(AND($E$127<>\"/\",$E$127>'Paramètres - Admin'!$A4),'Paramètres - Admin'!$A5,\"/\"))","v":"/"},{"$f":"IF(E131<>\"/\",VLOOKUP(E131,COSTS_Giant_Bomb[#All],2),\"/\")","v":"/"},{"$f":"IF(E131<>\"/\",VLOOKUP(E131,COSTS_Giant_Bomb[#All],3),\"/\")","v":"/"},{"$f":"IF(G$127=\"Error\",\"Error\",IF(F131<>\"/\",D131*F131,0))","v":0},{"$f":"IF(G$127=\"Error\",\"Error\",IF(G131<>\"/\",D131*G131,0))","v":0},null,null,null,null,null,null,null,null,null,null,null,null,null,null,null,"Total",{"$f":"IF(Y$126=\"Error\",\"Error\",SUM(Z128:Z130))","v":0},{"$f":"IF(Y$126=\"Error\",\"Error\",SUM(AA128:AA130))","v":0}]
[4,{"$f":"IF(Paramètres!AA9=0,\"\",Paramètres!AA9)","v":""},{"$f":"IF(C131<>0,C131+IF(AND(B131<>\"\",A131<E$127),B131,0),IF(AND(B131<>\"\",A131<E$127),B131,0))","v":0},{"$f":"IF(E132<>\"/\",IF($G$127=\"Error\",\"Error\",$H$127+C132),\"/\")","v":"/"},{"$f":"IF(G$127=\"Error\",\"Error\",IF(AND($E$127<>\"/\",$E$127>'Paramètres - Admin'!$A5),'Paramètres - Admin'!$A6,\"/\"))","v":"/"},{"$f":"IF(E132<>\"/\",VLOOKUP(E132,COSTS_Giant_Bomb[#All],2),\"/\")","v":"/"},{"$f":"IF(E132<>\"/\",VLOOKUP(E132,COSTS_Giant_Bomb[#All],3),\"/\")","v":"/"},{"$f":"IF(G$127=\"Error\",\"Error\",IF(F132<>\"/\",D132*F132,0))","v":0},{"$f":"IF(G$127=\"Error\",\"Error\",IF(G132<>\"/\",D132*G132,0))","v":0}]
[null,null,null,null,null,null,"Total",{"$f":"IF(G$127=\"Error\",\"Error\",SUM(H129:H132))","v":0},{"$f":"IF(G$127=\"Error\",\"Error\",SUM(I129:I132))","v":0}]
[]
[]
["Bâtiments Autres"]
["Hôtel de Ville",null,null,"Max","Max +",null,"Actuel","À Faire","Améliorations","Château de Clan",null,null,"Max","Max +",null,"Actuel","À Faire","Améliorations"]
[null,null,null,{"$f":"VLOOKUP($A$2,AVAILABLE_Buildings_Other[#All],MATCH(A137,AVAILABLE_Buildings_Other[#Headers],0))","v":1},{"$f":"VLOOKUP($A$2,AVAILABLE_Buildings_Other[#All],MATCH(A137,AVAILABLE_Buildings_Other[#Headers],0)+1)","v":2},null,{"$f":"IF(SUM(B140:B150)>D138,\"Error\",SUM(B140:B150))","v":1},{"$f":"IF(G$138=\"Error\",\"Error\",D138-G138)","v":0},{"$f":"IF(G$138=\"Error\",\"Error\",SUM(D140:D150))","v":1},null,null,null,{"$f":"VLOOKUP($A$2,AVAILABLE_Buildings_Other[#All],MATCH(J137,AVAILABLE_Buildings_Other[#Headers],0))","v":0},{"$f":"VLOOKUP($A$2,AVAILABLE_Buildings_Other[#All],MATCH(J137,AVAILABLE_Buildings_Other[#Headers],0)+1)","v":0},null,{"$f":"IF(SUM(K140:K146)>M138,\"Error\",SUM(K140:K146))","v":0},{"$f":"IF(P$138=\"Error\",\"Error\",M138-P138)","v":0},{"$f":"IF(P$138=\"Error\",\"Error\",SUM(M140:M146))","v":0}]
["+","NB",null,"NB","+","Coût","Temps","Coût Total","Temps Total","+","NB",null,"NB","+","Coût","Temps","Coût Total","Temps Total"]
[1,{"$f":"IF(Paramètres!AF6=0,\"\",Paramètres!AF6)","v":1},{"$f":"IF(C139<>0,C139+IF(AND(B139<>\"\",A139<E$138),B139,0),IF(AND(B139<>\"\",A139<E$138),B139,0))","v":0},{"$f":"IF(E140<>\"/\",IF(G$138=\"Error\",\"Error\",$H$138+C140),\"/\")","v":0},{"$f":"IF(G$138=\"Error\",\"Error\",IF(AND($E$138<>\"/\",$E$138>'Paramètres - Admin'!$A2),'Paramètres - Admin'!$A3,\"/\"))","v":1},{"$f":"IF(E140<>\"/\",VLOOKUP(E140,COSTS_Town_Home[#All],2),\"/\")","v":0},{"$f":"IF(E140<>\"/\",VLOOKUP(E140,COSTS_Town_Home[#All],3),\"/\")","v":0},{"$f":"IF(G$138=\"Error\",\"Error\",IF(F140<>\"/\",D140*F140,0))","v":0},{"$f":"IF(G$138=\"Error\",\"Error\",IF(G140<>\"/\",D140*G140,0))","v":0},1,{"$f":"IF(Paramètres!AE6=0,\"\",Paramètres!AE6)","v":""},{"$f":"IF(L139<>0,L139+IF(AND(K139<>\"\",J139<N$138),K139,0),IF(AND(K139<>\"\",J139<N$138),K139,0))","v":0},{"$f":"IF(N140<>\"/\",IF(P$138=\"Error\",\"Error\",$Q$138+L140),\"/\")","v":"/"},{"$f":"IF(P$138=\"Error\",\"Error\",IF(AND($N$138<>\"/\",$N$138>'Paramètres - Admin'!$A2),'Paramètres - Admin'!$A3,\"/\"))","v":"/"},{"$f":"IF(N140<>\"/\",VLOOKUP(N140,COSTS_Clan_Castle[#All],2),\"/\")","v":"/"},{"$f":"IF(N140<>\"/\",VLOOKUP(N140,COSTS_Clan_Castle[#All],3),\"/\")","v":"/"},{"$f":"IF(P$138=\"Error\",\"Error\",IF(O140<>\"/\",M140*O140,0))","v":0},{"$f":"IF(P$138=\"Error\",\"Error\",IF(P140<>\"/\",M140*P140,0))","v":0}]
[2,{"$f":"IF(Paramètres!AF7=0,\"\",Paramètres!AF7)","v":""},1,1,{"$f":"IF(G$138=\"Error\",\"Error\",IF(AND($E$138<>\"/\",$E$138>'Paramètres - Admin'!$A3),'Paramètres - Admin'!$A4,\"/\"))","v":2},{"$f":"IF(E141<>\"/\",VLOOKUP(E141,COSTS_Town_Home[#All],2),\"/\")","v":1000},{"$f":"IF(E141<>\"/\",VLOOKUP(E141,COSTS_Town_Home[#All],3),\"/\")","v":8.3333333333333329E-2},1000,8.3333333333333329E-2,2,{"$f":"IF(Paramètres!AE7=0,\"\",Paramètres!AE7)","v":""},0,"/",{"$f":"IF(P$138=\"Error\",\"Error\",IF(AND($N$138<>\"/\",$N$138>'Paramètres - Admin'!$A3),'Paramètres - Admin'!$A4,\"/\"))","v":"/"},{"$f":"IF(N141<>\"/\",VLOOKUP(N141,COSTS_Clan_Castle[#All],2),\"/\")","v":"/"},{"$f":"IF(N141<>\"/\",VLOOKUP(N141,COSTS_Clan_Castle[#All],3),\"/\")","v":"/"},0,0]
[3,{"$f":"IF(Paramètres!AF8=0,\"\",Paramètres!AF8)","v":""},1,"/",{"$f":"IF(G$138=\"Error\",\"Error\",IF(AND($E$138<>\"/\",$E$138>'Paramètres - Admin'!$A4),'Paramètres - Admin'!$A5,\"/\"))","v":"/"},{"$f":"IF(E142<>\"/\",VLOOKUP(E142,COSTS_Town_Home[#All],2),\"/\")","v":"/"},{"$f":"IF(E142<>\"/\",VLOOKUP(E142,COSTS_Town_Home[#All],3),\"/\")","v":"/"},0,0,3,{"$f":"IF(Paramètres!AE8=0,\"\",Paramètres!AE8)","v":""},0,"/",{"$f":"IF(P$138=\"Error\",\"Error\",IF(AND($N$138<>\"/\",$N$138>'Paramètres - Admin'!$A4),'Paramètres - Admin'!$A5,\"/\"))","v":"/"},{"$f":"IF(N142<>\"/\",VLOOKUP(N142,COSTS_Clan_Castle[#All],2),\"/\")","v":"/"},{"$f":"IF(N142<>\"/\",VLOOKUP(N142,COSTS_Clan_Castle[#All],3),\"/\")","v":"/"},0,0]
[4,{"$f":"IF(Paramètres!AF9=0,\"\",Paramètres!AF9)","v":""},1,"/",{"$f":"IF(G$138=\"Error\",\"Error\",IF(AND($E$138<>\"/\",$E$138>'Paramètres - Admin'!$A5),'Paramètres - Admin'!$A6,\"/\"))","v":"/"},{"$f":"IF(E143<>\"/\",VLOOKUP(E143,COSTS_Town_Home[#All],2),\"/\")","v":"/"},{"$f":"IF(E143<>\"/\",VLOOKUP(E143,COSTS_Town_Home[#All],3),\"/\")","v":"/"},0,0,4,{"$f":"IF(Paramètres!AE9=0,\"\",Paramètres!AE9)","v":""},0,"/",{"$f":"IF(P$138=\"Error\",\"Error\",IF(AND($N$138<>\"/\",$N$138>'Paramètres - Admin'!$A5),'Paramètres - Admin'!$A6,\"/\"))","v":"/"},{"$f":"IF(N143<>\"/\",VLOOKUP(N143,COSTS_Clan_Castle[#All],2),\"/\")","v":"/"},{"$f":"IF(N143<>\"/\",VLOOKUP(N143,COSTS_Clan_Castle[#All],3),\"/\")","v":"/"},0,0]
[5,{"$f":"IF(Paramètres!AF10=0,\"\",Paramètres!AF10)","v":""},1,"/",{"$f":"IF(G$138=\"Error\",\"Error\",IF(AND($E$138<>\"/\",$E$138>'Paramètres - Admin'!$A6),'Paramètres - Admin'!$A7,\"/\"))","v":"/"},{"$f":"IF(E144<>\"/\",VLOOKUP(E144,COSTS_Town_Home[#All],2),\"/\")","v":"/"},{"$f":"IF(E144<>\"/\",VLOOKUP(E144,COSTS_Town_Home[#All],3),\"/\")","v":"/"},0,0,5,{"$f":"IF(Paramètres!AE10=0,\"\",Paramètres!AE10)","v":""},0,"/",{"$f":"IF(P$138=\"Error\",\"Error\",IF(AND($N$138<>\"/\",$N$138>'Paramètres - Admin'!$A6),'Paramètres - Admin'!$A7,\"/\"))","v":"/"},{"$f":"IF(N144<>\"/\",VLOOKUP(N144,COSTS_Clan_Castle[#All],2),\"/\")","v":"/"},{"$f":"IF(N144<>\"/\",VLOOKUP(N144,COSTS_Clan_Castle[#All],3),\"/\")","v":"/"},0,0]
[6,{"$f":"IF(Paramètres!AF11=0,\"\",Paramètres!AF11)","v":""},1,"/",{"$f":"IF(G$138=\"Error\",\"Error\",IF(AND($E$138<>\"/\",$E$138>'Paramètres - Admin'!$A7),'Paramètres - Admin'!$A8,\"/\"))","v":"/"},{"$f":"IF(E145<>\"/\",VLOOKUP(E145,COSTS_Town_Home[#All],2),\"/\")","v":"/"},{"$f":"IF(E145<>\"/\",VLOOKUP(E145,COSTS_Town_Home[#All],3),\"/\")","v":"/"},0,0,6,{"$f":"IF(Paramètres!AE11=0,\"\",Paramètres!AE11)","v":""},0,"/",{"$f":"IF(P$138=\"Error\",\"Error\",IF(AND($N$138<>\"/\",$N$138>'Paramètres - Admin'!$A7),'Paramètres - Admin'!$A8,\"/\"))","v":"/"},{"$f":"IF(N145<>\"/\",VLOOKUP(N145,COSTS_Clan_Castle[#All],2),\"/\")","v":"/"},{"$f":"IF(N145<>\"/\",VLOOKUP(N145,COSTS_Clan_Castle[#All],3),\"/\")","v":"/"},0,0]
[7,{"$f":"IF(Paramètres!AF12=0,\"\",Paramètres!AF12)","v":""},1,"/",{"$f":"IF(G$138=\"Error\",\"Error\",IF(AND($E$138<>\"/\",$E$138>'Paramètres - Admin'!$A8),'Paramètres - Admin'!$A9,\"/\"))","v":"/"},{"$f":"IF(E146<>\"/\",VLOOKUP(E146,COSTS_Town_Home[#All],2),\"/\")","v":"/"},{"$f":"IF(E146<>\"/\",VLOOKUP(E146,COSTS_Town_Home[#All],3),\"/\")","v":"/"},0,0,7,{"$f":"IF(Paramètres!AE12=0,\"\",Paramètres!AE12)","v":""},0,{"$f":"IF(N146<>\"/\",IF(P$138=\"Error\",\"Error\",$Q$138+L146),\"/\")","v":"/"},{"$f":"IF(P$138=\"Error\",\"Error\",IF(AND($N$138<>\"/\",$N$138>'Paramètres - Admin'!$A8),'Paramètres - Admin'!$A9,\"/\"))","v":"/"},{"$f":"IF(N146<>\"/\",VLOOKUP(N146,COSTS_Clan_Castle[#All],2),\"/\")","v":"/"},{"$f":"IF(N146<>\"/\",VLOOKUP(N146,COSTS_Clan_Castle[#All],3),\"/\")","v":"/"},{"$f":"IF(P$138=\"Error\",\"Error\",IF(O146<>\"/\",M146*O146,0))","v":0},{"$f":"IF(P$138=\"Error\",\"Error\",IF(P146<>\"/\",M146*P146,0))","v":0}]
[8,{"$f":"IF(Paramètres!AF13=0,\"\",Paramètres!AF13)","v":""},1,"/",{"$f":"IF(G$138=\"Error\",\"Error\",IF(AND($E$138<>\"/\",$E$138>'Paramètres - Admin'!$A9),'Paramètres - Admin'!$A10,\"/\"))","v":"/"},{"$f":"IF(E147<>\"/\",VLOOKUP(E147,COSTS_Town_Home[#All],2),\"/\")","v":"/"},{"$f":"IF(E147<>\"/\",VLOOKUP(E147,COSTS_Town_Home[#All],3),\"/\")","v":"/"},0,0,null,null,null,null,null,null,"Total",{"$f":"IF(P$138=\"Error\",\"Error\",SUM(Q140:Q146))","v":0},{"$f":"IF(P$138=\"Error\",\"Error\",SUM(R140:R145))","v":0}]
[9,{"$f":"IF(Paramètres!AF14=0,\"\",Paramètres!AF14)","v":""},1,"/",{"$f":"IF(G$138=\"Error\",\"Error\",IF(AND($E$138<>\"/\",$E$138>'Paramètres - Admin'!$A10),'Paramètres - Admin'!$A11,\"/\"))","v":"/"},{"$f":"IF(E148<>\"/\",VLOOKUP(E148,COSTS_Town_Home[#All],2),\"/\")","v":"/"},{"$f":"IF(E148<>\"/\",VLOOKUP(E148,COSTS_Town_Home[#All],3),\"/\")","v":"/"},0,0]
[10,{"$f":"IF(Paramètres!AF15=0,\"\",Paramètres!AF15)","v":""},1,"/",{"$f":"IF(G$138=\"Error\",\"Error\",IF(AND($E$138<>\"/\",$E$138>'Paramètres - Admin'!$A11),'Paramètres - Admin'!$A12,\"/\"))","v":"/"},{"$f":"IF(E149<>\"/\",VLOOKUP(E149,COSTS_Town_Home[#All],2),\"/\")","v":"/"},{"$f":"IF(E149<>\"/\",VLOOKUP(E149,COSTS_Town_Home[#All],3),\"/\")","v":"/"},0,0]
[11,{"$f":"IF(Paramètres!AF16=0,\"\",Paramètres!AF16)","v":""},1,"/",{"$f":"IF(G$138=\"Error\",\"Error\",IF(AND($E$138<>\"/\",$E$138>'Paramètres - Admin'!$A12),'Paramètres - Admin'!$A13,\"/\"))","v":"/"},{"$f":"IF(E150<>\"/\",VLOOKUP(E150,COSTS_Town_Home[#All],2),\"/\")","v":"/"},{"$f":"IF(E150<>\"/\",VLOOKUP(E150,COSTS_Town_Home[#All],3),\"/\")","v":"/"},0,0]
[null,null,null,null,null,null,"Total",{"$f":"IF(G$138=\"Error\",\"Error\",SUM(H140:H150))","v":1000},{"$f":"IF(G$138=\"Error\",\"Error\",SUM(I140:I150))","v":8.3333333333333329E-2}]
[]
[]
["Améliorations de Sorts"]
["Sort de Foudre",null,null,"Max","Max +",null,"Actuel","À Faire","Améliorations","Sort de Guérison",null,null,"Max","Max +",null,"Actuel","À Faire","Améliorations","Sort de Gel",null,null,"Max","Max +",null,"Actuel","À Faire","Améliorations"]
[null,null,null,{"$f":"VLOOKUP($A$2,AVAILABLE_Upgrades_Spells[#All],MATCH(A155,AVAILABLE_Upgrades_Spells[#Headers],0))","v":0},{"$f":"VLOOKUP(IF(ISERROR(LOOKUP(MATCH(1,Paramètres!$K$6:$K$45,0),Paramètres!$A$6:$A$45)),0,LOOKUP(MATCH(1,Paramètres!$K$6:$K$45,0),Paramètres!$A$6:$A$45)),AVAILABLE_Upgrades_Spells[#All],MATCH(A155,AVAILABLE_Upgrades_Spells[#Headers],0)+1)","v":0},null,{"$f":"IF(SUM(B158:B164)>D156,\"Error\",SUM(B158:B164))","v":0},{"$f":"IF(G$156=\"Error\",\"Error\",D156-G156)","v":0},{"$f":"IF(G$156=\"Error\",\"Error\",SUM(D158:D164))","v":0},null,null,null,{"$f":"VLOOKUP($A$2,AVAILABLE_Upgrades_Spells[#All],MATCH(J155,AVAILABLE_Upgrades_Spells[#Headers],0))","v":0},{"$f":"VLOOKUP(IF(ISERROR(LOOKUP(MATCH(1,Paramètres!$K$6:$K$45,0),Paramètres!$A$6:$A$45)),0,LOOKUP(MATCH(1,Paramètres!$K$6:$K$45,0),Paramètres!$A$6:$A$45)),AVAILABLE_Upgrades_Spells[#All],MATCH(J155,AVAILABLE_Upgrades_Spells[#Headers],0)+1)","v":0},null,{"$f":"IF(SUM(K158:K163)>M156,\"Error\",SUM(K158:K163))","v":0},{"$f":"IF(P$156=\"Error\",\"Error\",M156-P156)","v":0},{"$f":"IF(P$156=\"Error\",\"Error\",SUM(M158:M163))","v":0},null,null,null,{"$f":"VLOOKUP($A$2,AVAILABLE_Upgrades_Spells[#All],MATCH(S155,AVAILABLE_Upgrades_Spells[#Headers],0))","v":0},{"$f":"VLOOKUP(IF(ISERROR(LOOKUP(MATCH(1,Paramètres!$K$6:$K$45,0),Paramètres!$A$6:$A$45)),0,LOOKUP(MATCH(1,Paramètres!$K$6:$K$45,0),Paramètres!$A$6:$A$45)),AVAILABLE_Upgrades_Spells[#All],MATCH(S155,AVAILABLE_Upgrades_Spells[#Headers],0)+1)","v":0},null,{"$f":"IF(SUM(T158:T162)>V156,\"Error\",SUM(T158:T162))","v":0},{"$f":"IF(Y$156=\"Error\",\"Error\",V156-Y156)","v":0},{"$f":"IF(Y$156=\"Error\",\"Error\",SUM(V158:V162))","v":0}]
["+","NB",null,"NB","+","Coût","Temps","Coût Total","Temps Total","+","NB",null,"NB","+","Coût","Temps","Coût Total","Temps Total","+","NB",null,"NB","+","Coût","Temps","Coût Total","Temps Total"]
[1,{"$f":"IF(Paramètres!AG6=0,\"\",Paramètres!AG6)","v":""},{"$f":"IF(C157<>0,C157+IF(AND(B157<>\"\",A157<E$156),B157,0),IF(AND(B157<>\"\",A157<E$156),B157,0))","v":0},{"$f":"IF(E158<>\"/\",IF(G$156=\"Error\",\"Error\",$H$156+C158),\"/\")","v":"/"},{"$f":"IF(G$156=\"Error\",\"Error\",IF(AND($E$156<>\"/\",$E$156>'Paramètres - Admin'!$A2),'Paramètres - Admin'!$A3,\"/\"))","v":"/"},{"$f":"IF(E158<>\"/\",VLOOKUP(E158,COSTS_Spell_Lightning[#All],2),\"/\")","v":"/"},{"$f":"IF(E158<>\"/\",VLOOKUP(E158,COSTS_Spell_Lightning[#All],3),\"/\")","v":"/"},{"$f":"IF(G$156=\"Error\",\"Error\",IF(F158<>\"/\",D158*F158,0))","v":0},{"$f":"IF(G$156=\"Error\",\"Error\",IF(G158<>\"/\",D158*G158,0))","v":0},1,{"$f":"IF(Paramètres!AH6=0,\"\",Paramètres!AH6)","v":""},{"$f":"IF(L157<>0,L157+IF(AND(K157<>\"\",J157<N$156),K157,0),IF(AND(K157<>\"\",J157<N$156),K157,0))","v":0},{"$f":"IF(N158<>\"/\",IF(P$156=\"Error\",\"Error\",$Q$156+L158),\"/\")","v":"/"},{"$f":"IF(P$156=\"Error\",\"Error\",IF(AND($N$156<>\"/\",$N$156>'Paramètres - Admin'!$A2),'Paramètres - Admin'!$A3,\"/\"))","v":"/"},{"$f":"IF(N158<>\"/\",VLOOKUP(N158,COSTS_Spell_Healing[#All],2),\"/\")","v":"/"},{"$f":"IF(N158<>\"/\",VLOOKUP(N158,COSTS_Spell_Healing[#All],3),\"/\")","v":"/"},{"$f":"IF(P$156=\"Error\",\"Error\",IF(O158<>\"/\",M158*O158,0))","v":0},{"$f":"IF(P$156=\"Error\",\"Error\",IF(P158<>\"/\",M158*P158,0))","v":0},1,{"$f":"IF(Paramètres!AK6=0,\"\",Paramètres!AK6)","v":""},{"$f":"IF(U157<>0,U157+IF(AND(T157<>\"\",S157<W$156),T157,0),IF(AND(T157<>\"\",S157<W$156),T157,0))","v":0},{"$f":"IF(W158<>\"/\",IF(Y$156=\"Error\",\"Error\",$Z$156+U158),\"/\")","v":"/"},{"$f":"IF(Y$156=\"Error\",\"Error\",IF(AND($W$156<>\"/\",$W$156>'Paramètres - Admin'!$A2),'Paramètres - Admin'!$A3,\"/\"))","v":"/"},{"$f":"IF(W158<>\"/\",VLOOKUP(W158,COSTS_Spell_Freeze[#All],2),\"/\")","v":"/"},{"$f":"IF(W158<>\"/\",VLOOKUP(W158,COSTS_Spell_Freeze[#All],3),\"/\")","v":"/"},{"$f":"IF(Y$156=\"Error\",\"Error\",IF(X158<>\"/\",V158*X158,0))","v":0},{"$f":"IF(Y$156=\"Error\",\"Error\",IF(Y158<>\"/\",V158*Y158,0))","v":0}]
[2,{"$f":"IF(Paramètres!AG7=0,\"\",Paramètres!AG7)","v":""},{"$f":"IF(C158<>0,C158+IF(AND(B158<>\"\",A158<E$156),B158,0),IF(AND(B158<>\"\",A158<E$156),B158,0))","v":0},"/",{"$f":"IF(G$156=\"Error\",\"Error\",IF(AND($E$156<>\"/\",$E$156>'Paramètres - Admin'!$A3),'Paramètres - Admin'!$A4,\"/\"))","v":"/"},{"$f":"IF(E159<>\"/\",VLOOKUP(E159,COSTS_Spell_Lightning[#All],2),\"/\")","v":"/"},{"$f":"IF(E159<>\"/\",VLOOKUP(E159,COSTS_Spell_Lightning[#All],3),\"/\")","v":"/"},0,0,2,{"$f":"IF(Paramètres!AH7=0,\"\",Paramètres!AH7)","v":""},0,"/",{"$f":"IF(P$156=\"Error\",\"Error\",IF(AND($N$156<>\"/\",$N$156>'Paramètres - Admin'!$A3),'Paramètres - Admin'!$A4,\"/\"))","v":"/"},{"$f":"IF(N159<>\"/\",VLOOKUP(N159,COSTS_Spell_Healing[#All],2),\"/\")","v":"/"},{"$f":"IF(N159<>\"/\",VLOOKUP(N159,COSTS_Spell_Healing[#All],3),\"/\")","v":"/"},0,0,2,{"$f":"IF(Paramètres!AK7=0,\"\",Paramètres!AK7)","v":""},{"$f":"IF(U158<>0,U158+IF(AND(T158<>\"\",S158<W$156),T158,0),IF(AND(T158<>\"\",S158<W$156),T158,0))","v":0},{"$f":"IF(W159<>\"/\",IF(Y$156=\"Error\",\"Error\",$Z$156+U159),\"/\")","v":"/"},{"$f":"IF(Y$156=\"Error\",\"Error\",IF(AND($W$156<>\"/\",$W$156>'Paramètres - Admin'!$A3),'Paramètres - Admin'!$A4,\"/\"))","v":"/"},{"$f":"IF(W159<>\"/\",VLOOKUP(W159,COSTS_Spell_Freeze[#All],2),\"/\")","v":"/"},{"$f":"IF(W159<>\"/\",VLOOKUP(W159,COSTS_Spell_Freeze[#All],3),\"/\")","v":"/"},{"$f":"IF(Y$156=\"Error\",\"Error\",IF(X159<>\"/\",V159*X159,0))","v":0},{"$f":"IF(Y$156=\"Error\",\"Error\",IF(Y159<>\"/\",V159*Y159,0))","v":0}]
[3,{"$f":"IF(Paramètres!AG8=0,\"\",Paramètres!AG8)","v":""},0,"/",{"$f":"IF(G$156=\"Error\",\"Error\",IF(AND($E$156<>\"/\",$E$156>'Paramètres - Admin'!$A4),'Paramètres - Admin'!$A5,\"/\"))","v":"/"},{"$f":"IF(E160<>\"/\",VLOOKUP(E160,COSTS_Spell_Lightning[#All],2),\"/\")","v":"/"},{"$f":"IF(E160<>\"/\",VLOOKUP(E160,COSTS_Spell_Lightning[#All],3),\"/\")","v":"/"},0,0,3,{"$f":"IF(Paramètres!AH8=0,\"\",Paramètres!AH8)","v":""},0,"/",{"$f":"IF(P$156=\"Error\",\"Error\",IF(AND($N$156<>\"/\",$N$156>'Paramètres - Admin'!$A4),'Paramètres - Admin'!$A5,\"/\"))","v":"/"},{"$f":"IF(N160<>\"/\",VLOOKUP(N160,COSTS_Spell_Healing[#All],2),\"/\")","v":"/"},{"$f":"IF(N160<>\"/\",VLOOKUP(N160,COSTS_Spell_Healing[#All],3),\"/\")","v":"/"},0,0,3,{"$f":"IF(Paramètres!AK8=0,\"\",Paramètres!AK8)","v":""},{"$f":"IF(U159<>0,U159+IF(AND(T159<>\"\",S159<W$156),T159,0),IF(AND(T159<>\"\",S159<W$156),T159,0))","v":0},{"$f":"IF(W160<>\"/\",IF(Y$156=\"Error\",\"Error\",$Z$156+U160),\"/\")","v":"/"},{"$f":"IF(Y$156=\"Error\",\"Error\",IF(AND($W$156<>\"/\",$W$156>'Paramètres - Admin'!$A4),'Paramètres - Admin'!$A5,\"/\"))","v":"/"},{"$f":"IF(W160<>\"/\",VLOOKUP(W160,COSTS_Spell_Freeze[#All],2),\"/\")","v":"/"},{"$f":"IF(W160<>\"/\",VLOOKUP(W160,COSTS_Spell_Freeze[#All],3),\"/\")","v":"/"},{"$f":"IF(Y$156=\"Error\",\"Error\",IF(X160<>\"/\",V160*X160,0))","v":0},{"$f":"IF(Y$156=\"Error\",\"Error\",IF(Y160<>\"/\",V160*Y160,0))","v":0}]
[4,{"$f":"IF(Paramètres!AG9=0,\"\",Paramètres!AG9)","v":""},0,"/",{"$f":"IF(G$156=\"Error\",\"Error\",IF(AND($E$156<>\"/\",$E$156>'Paramètres - Admin'!$A5),'Paramètres - Admin'!$A6,\"/\"))","v":"/"},{"$f":"IF(E161<>\"/\",VLOOKUP(E161,COSTS_Spell_Lightning[#All],2),\"/\")","v":"/"},{"$f":"IF(E161<>\"/\",VLOOKUP(E161,COSTS_Spell_Lightning[#All],3),\"/\")","v":"/"},0,0,4,{"$f":"IF(Paramètres!AH9=0,\"\",Paramètres!AH9)","v":""},0,"/",{"$f":"IF(P$156=\"Error\",\"Error\",IF(AND($N$156<>\"/\",$N$156>'Paramètres - Admin'!$A5),'Paramètres - Admin'!$A6,\"/\"))","v":"/"},{"$f":"IF(N161<>\"/\",VLOOKUP(N161,COSTS_Spell_Healing[#All],2),\"/\")","v":"/"},{"$f":"IF(N161<>\"/\",VLOOKUP(N161,COSTS_Spell_Healing[#All],3),\"/\")","v":"/"},0,0,4,{"$f":"IF(Paramètres!AK9=0,\"\",Paramètres!AK9)","v":""},{"$f":"IF(U160<>0,U160+IF(AND(T160<>\"\",S160<W$156),T160,0),IF(AND(T160<>\"\",S160<W$156),T160,0))","v":0},{"$f":"IF(W161<>\"/\",IF(Y$156=\"Error\",\"Error\",$Z$156+U161),\"/\")","v":"/"},{"$f":"IF(Y$156=\"Error\",\"Error\",IF(AND($W$156<>\"/\",$W$156>'Paramètres - Admin'!$A5),'Paramètres - Admin'!$A6,\"/\"))","v":"/"},{"$f":"IF(W161<>\"/\",VLOOKUP(W161,COSTS_Spell_Freeze[#All],2),\"/\")","v":"/"},{"$f":"IF(W161<>\"/\",VLOOKUP(W161,COSTS_Spell_Freeze[#All],3),\"/\")","v":"/"},{"$f":"IF(Y$156=\"Error\",\"Error\",IF(X161<>\"/\",V161*X161,0))","v":0},{"$f":"IF(Y$156=\"Error\",\"Error\",IF(Y161<>\"/\",V161*Y161,0))","v":0}]
[5,{"$f":"IF(Paramètres!AG10=0,\"\",Paramètres!AG10)","v":""},0,"/",{"$f":"IF(G$156=\"Error\",\"Error\",IF(AND($E$156<>\"/\",$E$156>'Paramètres - Admin'!$A6),'Paramètres - Admin'!$A7,\"/\"))","v":"/"},{"$f":"IF(E162<>\"/\",VLOOKUP(E162,COSTS_Spell_Lightning[#All],2),\"/\")","v":"/"},{"$f":"IF(E162<>\"/\",VLOOKUP(E162,COSTS_Spell_Lightning[#All],3),\"/\")","v":"/"},0,0,5,{"$f":"IF(Paramètres!AH10=0,\"\",Paramètres!AH10)","v":""},0,"/",{"$f":"IF(P$156=\"Error\",\"Error\",IF(AND($N$156<>\"/\",$N$156>'Paramètres - Admin'!$A6),'Paramètres - Admin'!$A7,\"/\"))","v":"/"},{"$f":"IF(N162<>\"/\",VLOOKUP(N162,COSTS_Spell_Healing[#All],2),\"/\")","v":"/"},{"$f":"IF(N162<>\"/\",VLOOKUP(N162,COSTS_Spell_Healing[#All],3),\"/\")","v":"/"},0,0,5,{"$f":"IF(Paramètres!AK10=0,\"\",Paramètres!AK10)","v":""},{"$f":"IF(U161<>0,U161+IF(AND(T161<>\"\",S161<W$156),T161,0),IF(AND(T161<>\"\",S161<W$156),T161,0))","v":0},{"$f":"IF(W162<>\"/\",IF(Y$156=\"Error\",\"Error\",$Z$156+U162),\"/\")","v":"/"},{"$f":"IF(Y$156=\"Error\",\"Error\",IF(AND($W$156<>\"/\",$W$156>'Paramètres - Admin'!$A6),'Paramètres - Admin'!$A7,\"/\"))","v":"/"},{"$f":"IF(W162<>\"/\",VLOOKUP(W162,COSTS_Spell_Freeze[#All],2),\"/\")","v":"/"},{"$f":"IF(W162<>\"/\",VLOOKUP(W162,COSTS_Spell_Freeze[#All],3),\"/\")","v":"/"},{"$f":"IF(Y$156=\"Error\",\"Error\",IF(X162<>\"/\",V162*X162,0))","v":0},{"$f":"IF(Y$156=\"Error\",\"Error\",IF(Y162<>\"/\",V162*Y162,0))","v":0}]
[6,{"$f":"IF(Paramètres!AG11=0,\"\",Paramètres!AG11)","v":""},0,"/",{"$f":"IF(G$156=\"Error\",\"Error\",IF(AND($E$156<>\"/\",$E$156>'Paramètres - Admin'!$A7),'Paramètres - Admin'!$A8,\"/\"))","v":"/"},{"$f":"IF(E163<>\"/\",VLOOKUP(E163,COSTS_Spell_Lightning[#All],2),\"/\")","v":"/"},{"$f":"IF(E163<>\"/\",VLOOKUP(E163,COSTS_Spell_Lightning[#All],3),\"/\")","v":"/"},0,0,6,{"$f":"IF(Paramètres!AH11=0,\"\",Paramètres!AH11)","v":""},0,"/",{"$f":"IF(P$156=\"Error\",\"Error\",IF(AND($N$156<>\"/\",$N$156>'Paramètres - Admin'!$A7),'Paramètres - Admin'!$A8,\"/\"))","v":"/"},{"$f":"IF(N163<>\"/\",VLOOKUP(N163,COSTS_Spell_Healing[#All],2),\"/\")","v":"/"},{"$f":"IF(N163<>\"/\",VLOOKUP(N163,COSTS_Spell_Healing[#All],3),\"/\")","v":"/"},0,0,null,null,null,null,null,null,"Total",{"$f":"IF(Y$156=\"Error\",\"Error\",SUM(Z158:Z162))","v":0},{"$f":"IF(Y$156=\"Error\",\"Error\",SUM(AA158:AA162))","v":0}]
[7,{"$f":"IF(Paramètres!AG12=0,\"\",Paramètres!AG12)","v":""},{"$f":"IF(C163<>0,C163+IF(AND(B163<>\"\",A163<E$156),B163,0),IF(AND(B163<>\"\",A163<E$156),B163,0))","v":0},"/",{"$f":"IF(G$156=\"Error\",\"Error\",IF(AND($E$156<>\"/\",$E$156>'Paramètres - Admin'!$A8),'Paramètres - Admin'!$A9,\"/\"))","v":"/"},{"$f":"IF(E164<>\"/\",VLOOKUP(E164,COSTS_Spell_Lightning[#All],2),\"/\")","v":"/"},{"$f":"IF(E164<>\"/\",VLOOKUP(E164,COSTS_Spell_Lightning[#All],3),\"/\")","v":"/"},0,0,null,null,null,null,null,null,"Total",{"$f":"IF(P$156=\"Error\",\"Error\",SUM(Q158:Q163))","v":0},{"$f":"IF(P$156=\"Error\",\"Error\",SUM(R158:R163))","v":0},"Sort de clonage",null,null,"Max","Max +",null,"Actuel","À Faire","Améliorations"]
[null,null,null,null,null,null,"Total",{"$f":"IF(G$156=\"Error\",\"Error\",SUM(H158:H164))","v":0},{"$f":"IF(G$156=\"Error\",\"Error\",SUM(I158:I164))","v":0},"Sort de Saut",null,null,"Max","Max +",null,"Actuel","À Faire","Améliorations",null,null,null,{"$f":"VLOOKUP($A$2,AVAILABLE_Upgrades_Spells[#All],MATCH(S164,AVAILABLE_Upgrades_Spells[#Headers],0))","v":0},{"$f":"VLOOKUP(IF(ISERROR(LOOKUP(MATCH(1,Paramètres!$K$6:$K$45,0),Paramètres!$A$6:$A$45)),0,LOOKUP(MATCH(1,Paramètres!$K$6:$K$45,0),Paramètres!$A$6:$A$45)),AVAILABLE_Upgrades_Spells[#All],MATCH(S164,AVAILABLE_Upgrades_Spells[#Headers],0)+1)","v":0},null,{"$f":"IF(SUM(T167:T170)>V165,\"Error\",SUM(T167:T170))","v":0},{"$f":"IF(Y$165=\"Error\",\"Error\",V165-Y165)","v":0},{"$f":"IF(Y$165=\"Error\",\"Error\",SUM(V167:V170))","v":0}]
["Sort de Rage",null,null,"Max","Max +",null,"Actuel","À Faire","Améliorations",null,null,null,{"$f":"VLOOKUP($A$2,AVAILABLE_Upgrades_Spells[#All],MATCH(J165,AVAILABLE_Upgrades_Spells[#Headers],0))","v":0},{"$f":"VLOOKUP(IF(ISERROR(LOOKUP(MATCH(1,Paramètres!$K$6:$K$45,0),Paramètres!$A$6:$A$45)),0,LOOKUP(MATCH(1,Paramètres!$K$6:$K$45,0),Paramètres!$A$6:$A$45)),AVAILABLE_Upgrades_Spells[#All],MATCH(J165,AVAILABLE_Upgrades_Spells[#Headers],0)+1)","v":0},null,{"$f":"IF(SUM(K168:K170)>M166,\"Error\",SUM(K168:K170))","v":0},{"$f":"IF(P$166=\"Error\",\"Error\",M166-P166)","v":0},{"$f":"IF(P$166=\"Error\",\"Error\",SUM(M168:M170))","v":0},"+","NB",null,"NB","+","Coût","Temps","Coût Total","Temps Total"]
[null,null,null,{"$f":"VLOOKUP($A$2,AVAILABLE_Upgrades_Spells[#All],MATCH(A166,AVAILABLE_Upgrades_Spells[#Headers],0))","v":0},{"$f":"VLOOKUP(IF(ISERROR(LOOKUP(MATCH(1,Paramètres!$K$6:$K$45,0),Paramètres!$A$6:$A$45)),0,LOOKUP(MATCH(1,Paramètres!$K$6:$K$45,0),Paramètres!$A$6:$A$45)),AVAILABLE_Upgrades_Spells[#All],MATCH(A166,AVAILABLE_Upgrades_Spells[#Headers],0)+1)","v":0},null,{"$f":"IF(SUM(B169:B173)>D167,\"Error\",SUM(B169:B173))","v":0},{"$f":"IF(G$167=\"Error\",\"Error\",D167-G167)","v":0},{"$f":"IF(G$167=\"Error\",\"Error\",SUM(D169:D173))","v":0},"+","NB",null,"NB","+","Coût","Temps","Coût Total","Temps Total",1,{"$f":"IF(Paramètres!AL6=0,\"\",Paramètres!AL6)","v":""},{"$f":"IF(U166<>0,U166+IF(AND(T166<>\"\",S166<W$165),T166,0),IF(AND(T166<>\"\",S166<W$165),T166,0))","v":0},{"$f":"IF(W167<>\"/\",IF(Y$165=\"Error\",\"Error\",$Q$166+U167),\"/\")","v":"/"},{"$f":"IF(Y$165=\"Error\",\"Error\",IF(AND($N$166<>\"/\",$N$166>'Paramètres - Admin'!$A2),'Paramètres - Admin'!$A3,\"/\"))","v":"/"},{"$f":"IF(W167<>\"/\",VLOOKUP(W167,COSTS_Spell_Clone[#All],2),\"/\")","v":"/"},{"$f":"IF(W167<>\"/\",VLOOKUP(W167,COSTS_Spell_Clone[#All],3),\"/\")","v":"/"},{"$f":"IF(Y$165=\"Error\",\"Error\",IF(X167<>\"/\",V167*X167,0))","v":0},{"$f":"IF(Y$165=\"Error\",\"Error\",IF(Y167<>\"/\",V167*Y167,0))","v":0}]
["+","NB",null,"NB","+","Coût","Temps","Coût Total","Temps Total",1,{"$f":"IF(Paramètres!AJ6=0,\"\",Paramètres!AJ6)","v":""},{"$f":"IF(L167<>0,L167+IF(AND(K167<>\"\",J167<N$166),K167,0),IF(AND(K167<>\"\",J167<N$166),K167,0))","v":0},{"$f":"IF(N168<>\"/\",IF(P$166=\"Error\",\"Error\",$Q$166+L168),\"/\")","v":"/"},{"$f":"IF(P$166=\"Error\",\"Error\",IF(AND($N$166<>\"/\",$N$166>'Paramètres - Admin'!$A2),'Paramètres - Admin'!$A3,\"/\"))","v":"/"},{"$f":"IF(N168<>\"/\",VLOOKUP(N168,COSTS_Spell_Jump[#All],2),\"/\")","v":"/"},{"$f":"IF(N168<>\"/\",VLOOKUP(N168,COSTS_Spell_Jump[#All],3),\"/\")","v":"/"},{"$f":"IF(P$166=\"Error\",\"Error\",IF(O168<>\"/\",M168*O168,0))","v":0},{"$f":"IF(P$166=\"Error\",\"Error\",IF(P168<>\"/\",M168*P168,0))","v":0},2,{"$f":"IF(Paramètres!AL7=0,\"\",Paramètres!AL7)","v":""},{"$f":"IF(U167<>0,U167+IF(AND(T167<>\"\",S167<W$165),T167,0),IF(AND(T167<>\"\",S167<W$165),T167,0))","v":0},{"$f":"IF(W168<>\"/\",IF(Y$165=\"Error\",\"Error\",$Q$166+U168),\"/\")","v":"/"},{"$f":"IF(Y$165=\"Error\",\"Error\",IF(AND($N$166<>\"/\",$N$166>'Paramètres - Admin'!$A3),'Paramètres - Admin'!$A4,\"/\"))","v":"/"},{"$f":"IF(W168<>\"/\",VLOOKUP(W168,COSTS_Spell_Clone[#All],2),\"/\")","v":"/"},{"$f":"IF(W168<>\"/\",VLOOKUP(W168,COSTS_Spell_Clone[#All],3),\"/\")","v":"/"},{"$f":"IF(Y$165=\"Error\",\"Error\",IF(X168<>\"/\",V168*X168,0))","v":0},{"$f":"IF(Y$165=\"Error\",\"Error\",IF(Y168<>\"/\",V168*Y168,0))","v":0}]
[1,{"$f":"IF(Paramètres!AI6=0,\"\",Paramètres!AI6)","v":""},{"$f":"IF(C168<>0,C168+IF(AND(B168<>\"\",A168<E$167),B168,0),IF(AND(B168<>\"\",A168<E$167),B168,0))","v":0},{"$f":"IF(E169<>\"/\",IF(G$167=\"Error\",\"Error\",$H$167+C169),\"/\")","v":"/"},{"$f":"IF(G$167=\"Error\",\"Error\",IF(AND($E$167<>\"/\",$E$167>'Paramètres - Admin'!$A2),'Paramètres - Admin'!$A3,\"/\"))","v":"/"},{"$f":"IF(E169<>\"/\",VLOOKUP(E169,COSTS_Spell_Rage[#All],2),\"/\")","v":"/"},{"$f":"IF(E169<>\"/\",VLOOKUP(E169,COSTS_Spell_Rage[#All],3),\"/\")","v":"/"},{"$f":"IF(G$167=\"Error\",\"Error\",IF(F169<>\"/\",D169*F169,0))","v":0},{"$f":"IF(G$167=\"Error\",\"Error\",IF(G169<>\"/\",D169*G169,0))","v":0},2,{"$f":"IF(Paramètres!AJ7=0,\"\",Paramètres!AJ7)","v":""},{"$f":"IF(L168<>0,L168+IF(AND(K168<>\"\",J168<N$166),K168,0),IF(AND(K168<>\"\",J168<N$166),K168,0))","v":0},{"$f":"IF(N169<>\"/\",IF(P$166=\"Error\",\"Error\",$Q$166+L169),\"/\")","v":"/"},{"$f":"IF(P$166=\"Error\",\"Error\",IF(AND($N$166<>\"/\",$N$166>'Paramètres - Admin'!$A3),'Paramètres - Admin'!$A4,\"/\"))","v":"/"},{"$f":"IF(N169<>\"/\",VLOOKUP(N169,COSTS_Spell_Jump[#All],2),\"/\")","v":"/"},{"$f":"IF(N169<>\"/\",VLOOKUP(N169,COSTS_Spell_Jump[#All],3),\"/\")","v":"/"},{"$f":"IF(P$166=\"Error\",\"Error\",IF(O169<>\"/\",M169*O169,0))","v":0},{"$f":"IF(P$166=\"Error\",\"Error\",IF(P169<>\"/\",M169*P169,0))","v":0},3,{"$f":"IF(Paramètres!AL8=0,\"\",Paramètres!AL8)","v":""},{"$f":"IF(U168<>0,U168+IF(AND(T168<>\"\",S168<W$165),T168,0),IF(AND(T168<>\"\",S168<W$165),T168,0))","v":0},{"$f":"IF(W169<>\"/\",IF(Y$165=\"Error\",\"Error\",$Q$166+U169),\"/\")","v":"/"},{"$f":"IF(Y$165=\"Error\",\"Error\",IF(AND($N$166<>\"/\",$N$166>'Paramètres - Admin'!$A4),'Paramètres - Admin'!$A5,\"/\"))","v":"/"},{"$f":"IF(W169<>\"/\",VLOOKUP(W169,COSTS_Spell_Clone[#All],2),\"/\")","v":"/"},{"$f":"IF(W169<>\"/\",VLOOKUP(W169,COSTS_Spell_Clone[#All],3),\"/\")","v":"/"},{"$f":"IF(Y$165=\"Error\",\"Error\",IF(X169<>\"/\",V169*X169,0))","v":0},{"$f":"IF(Y$165=\"Error\",\"Error\",IF(Y169<>\"/\",V169*Y169,0))","v":0}]
[2,{"$f":"IF(Paramètres!AI7=0,\"\",Paramètres!AI7)","v":""},{"$f":"IF(C169<>0,C169+IF(AND(B169<>\"\",A169<E$167),B169,0),IF(AND(B169<>\"\",A169<E$167),B169,0))","v":0},{"$f":"IF(E170<>\"/\",IF(G$167=\"Error\",\"Error\",$H$167+C170),\"/\")","v":"/"},{"$f":"IF(G$167=\"Error\",\"Error\",IF(AND($E$167<>\"/\",$E$167>'Paramètres - Admin'!$A3),'Paramètres - Admin'!$A4,\"/\"))","v":"/"},{"$f":"IF(E170<>\"/\",VLOOKUP(E170,COSTS_Spell_Rage[#All],2),\"/\")","v":"/"},{"$f":"IF(E170<>\"/\",VLOOKUP(E170,COSTS_Spell_Rage[#All],3),\"/\")","v":"/"},{"$f":"IF(G$167=\"Error\",\"Error\",IF(F170<>\"/\",D170*F170,0))","v":0},{"$f":"IF(G$167=\"Error\",\"Error\",IF(G170<>\"/\",D170*G170,0))","v":0},3,{"$f":"IF(Paramètres!AJ8=0,\"\",Paramètres!AJ8)","v":""},{"$f":"IF(L169<>0,L169+IF(AND(K169<>\"\",J169<N$166),K169,0),IF(AND(K169<>\"\",J169<N$166),K169,0))","v":0},{"$f":"IF(N170<>\"/\",IF(P$166=\"Error\",\"Error\",$Q$166+L170),\"/\")","v":"/"},{"$f":"IF(P$166=\"Error\",\"Error\",IF(AND($N$166<>\"/\",$N$166>'Paramètres - Admin'!$A4),'Paramètres - Admin'!$A5,\"/\"))","v":"/"},{"$f":"IF(N170<>\"/\",VLOOKUP(N170,COSTS_Spell_Jump[#All],2),\"/\")","v":"/"},{"$f":"IF(N170<>\"/\",VLOOKUP(N170,COSTS_Spell_Jump[#All],3),\"/\")","v":"/"},{"$f":"IF(P$166=\"Error\",\"Error\",IF(O170<>\"/\",M170*O170,0))","v":0},{"$f":"IF(P$166=\"Error\",\"Error\",IF(P170<>\"/\",M170*P170,0))","v":0},4,{"$f":"IF(Paramètres!AL9=0,\"\",Paramètres!AL9)","v":""},{"$f":"IF(U169<>0,U169+IF(AND(T169<>\"\",S169<W$165),T169,0),IF(AND(T169<>\"\",S169<W$165),T169,0))","v":0},{"$f":"IF(W170<>\"/\",IF(Y$165=\"Error\",\"Error\",$Q$166+U170),\"/\")","v":"/"},{"$f":"IF(Y$165=\"Error\",\"Error\",IF(AND($N$166<>\"/\",$N$166>'Paramètres - Admin'!$A5),'Paramètres - Admin'!$A6,\"/\"))","v":"/"},{"$f":"IF(W170<>\"/\",VLOOKUP(W170,COSTS_Spell_Clone[#All],2),\"/\")","v":"/"},{"$f":"IF(W170<>\"/\",VLOOKUP(W170,COSTS_Spell_Clone[#All],3),\"/\")","v":"/"},{"$f":"IF(Y$165=\"Error\",\"Error\",IF(X170<>\"/\",V170*X170,0))","v":0},{"$f":"IF(Y$165=\"Error\",\"Error\",IF(Y170<>\"/\",V170*Y170,0))","v":0}]
[3,{"$f":"IF(Paramètres!AI8=0,\"\",Paramètres!AI8)","v":""},{"$f":"IF(C170<>0,C170+IF(AND(B170<>\"\",A170<E$167),B170,0),IF(AND(B170<>\"\",A170<E$167),B170,0))","v":0},{"$f":"IF(E171<>\"/\",IF(G$167=\"Error\",\"Error\",$H$167+C171),\"/\")","v":"/"},{"$f":"IF(G$167=\"Error\",\"Error\",IF(AND($E$167<>\"/\",$E$167>'Paramètres - Admin'!$A4),'Paramètres - Admin'!$A5,\"/\"))","v":"/"},{"$f":"IF(E171<>\"/\",VLOOKUP(E171,COSTS_Spell_Rage[#All],2),\"/\")","v":"/"},{"$f":"IF(E171<>\"/\",VLOOKUP(E171,COSTS_Spell_Rage[#All],3),\"/\")","v":"/"},{"$f":"IF(G$167=\"Error\",\"Error\",IF(F171<>\"/\",D171*F171,0))","v":0},{"$f":"IF(G$167=\"Error\",\"Error\",IF(G171<>\"/\",D171*G171,0))","v":0},null,null,null,null,null,null,"Total",{"$f":"IF(P$166=\"Error\",\"Error\",SUM(Q168:Q170))","v":0},{"$f":"IF(P$166=\"Error\",\"Error\",SUM(R168:R170))","v":0},null,null,null,null,null,null,"Total",{"$f":"IF(Y$165=\"Error\",\"Error\",SUM(Z167:Z170))","v":0},{"$f":"IF(Y$165=\"Error\",\"Error\",SUM(AA167:AA170))","v":0}]
[4,{"$f":"IF(Paramètres!AI9=0,\"\",Paramètres!AI9)","v":""},{"$f":"IF(C171<>0,C171+IF(AND(B171<>\"\",A171<E$167),B171,0),IF(AND(B171<>\"\",A171<E$167),B171,0))","v":0},{"$f":"IF(E172<>\"/\",IF(G$167=\"Error\",\"Error\",$H$167+C172),\"/\")","v":"/"},{"$f":"IF(G$167=\"Error\",\"Error\",IF(AND($E$167<>\"/\",$E$167>'Paramètres - Admin'!$A5),'Paramètres - Admin'!$A6,\"/\"))","v":"/"},{"$f":"IF(E172<>\"/\",VLOOKUP(E172,COSTS_Spell_Rage[#All],2),\"/\")","v":"/"},{"$f":"IF(E172<>\"/\",VLOOKUP(E172,COSTS_Spell_Rage[#All],3),\"/\")","v":"/"},{"$f":"IF(G$167=\"Error\",\"Error\",IF(F172<>\"/\",D172*F172,0))","v":0},{"$f":"IF(G$167=\"Error\",\"Error\",IF(G172<>\"/\",D172*G172,0))","v":0}]
[5,{"$f":"IF(Paramètres!AI10=0,\"\",Paramètres!AI10)","v":""},{"$f":"IF(C172<>0,C172+IF(AND(B172<>\"\",A172<E$167),B172,0),IF(AND(B172<>\"\",A172<E$167),B172,0))","v":0},{"$f":"IF(E173<>\"/\",IF(G$167=\"Error\",\"Error\",$H$167+C173),\"/\")","v":"/"},{"$f":"IF(G$167=\"Error\",\"Error\",IF(AND($E$167<>\"/\",$E$167>'Paramètres - Admin'!$A6),'Paramètres - Admin'!$A7,\"/\"))","v":"/"},{"$f":"IF(E173<>\"/\",VLOOKUP(E173,COSTS_Spell_Rage[#All],2),\"/\")","v":"/"},{"$f":"IF(E173<>\"/\",VLOOKUP(E173,COSTS_Spell_Rage[#All],3),\"/\")","v":"/"},{"$f":"IF(G$167=\"Error\",\"Error\",IF(F173<>\"/\",D173*F173,0))","v":0},{"$f":"IF(G$167=\"Error\",\"Error\",IF(G173<>\"/\",D173*G173,0))","v":0}]
[null,null,null,null,null,null,"Total",{"$f":"IF(G$167=\"Error\",\"Error\",SUM(H169:H173))","v":0},{"$f":"IF(G$167=\"Error\",\"Error\",SUM(I169:I173))","v":0}]
[]
[]
["Améliorations de Troupes"]
["Barbare",null,null,"Max","Max +",null,"Actuel","À Faire","Améliorations","Ballon",null,null,"Max","Max +",null,"Actuel","À Faire","Améliorations","Guérisseuse",null,null,"Max","Max +",null,"Actuel","À Faire","Améliorations"]
[null,null,null,{"$f":"VLOOKUP($A$2,AVAILABLE_Upgrades_Normal_Troops[#All],MATCH(A178,AVAILABLE_Upgrades_Normal_Troops[#Headers],0))","v":0},{"$f":"VLOOKUP(IF(ISERROR(LOOKUP(MATCH(1,Paramètres!$K$6:$K$45,0),Paramètres!$A$6:$A$45)),0,LOOKUP(MATCH(1,Paramètres!$K$6:$K$45,0),Paramètres!$A$6:$A$45)),AVAILABLE_Upgrades_Normal_Troops[#All],MATCH(A178,AVAILABLE_Upgrades_Normal_Troops[#Headers],0)+1)","v":0},null,{"$f":"IF(SUM(B181:B187)>D179,\"Error\",SUM(B181:B187))","v":0},{"$f":"IF(G$179=\"Error\",\"Error\",D179-G179)","v":0},{"$f":"IF(G$179=\"Error\",\"Error\",SUM(D181:D187))","v":0},null,null,null,{"$f":"VLOOKUP($A$2,AVAILABLE_Upgrades_Normal_Troops[#All],MATCH(J178,AVAILABLE_Upgrades_Normal_Troops[#Headers],0))","v":0},{"$f":"VLOOKUP(IF(ISERROR(LOOKUP(MATCH(1,Paramètres!$K$6:$K$45,0),Paramètres!$A$6:$A$45)),0,LOOKUP(MATCH(1,Paramètres!$K$6:$K$45,0),Paramètres!$A$6:$A$45)),AVAILABLE_Upgrades_Normal_Troops[#All],MATCH(J178,AVAILABLE_Upgrades_Normal_Troops[#Headers],0)+1)","v":0},null,{"$f":"IF(SUM(K181:K187)>M179,\"Error\",SUM(K181:K187))","v":0},{"$f":"IF(P$179=\"Error\",\"Error\",M179-P179)","v":0},{"$f":"IF(P$179=\"Error\",\"Error\",SUM(M181:M187))","v":0},null,null,null,{"$f":"VLOOKUP($A$2,AVAILABLE_Upgrades_Normal_Troops[#All],MATCH(S178,AVAILABLE_Upgrades_Normal_Troops[#Headers],0))","v":0},{"$f":"VLOOKUP(IF(ISERROR(LOOKUP(MATCH(1,Paramètres!$K$6:$K$45,0),Paramètres!$A$6:$A$45)),0,LOOKUP(MATCH(1,Paramètres!$K$6:$K$45,0),Paramètres!$A$6:$A$45)),AVAILABLE_Upgrades_Normal_Troops[#All],MATCH(S178,AVAILABLE_Upgrades_Normal_Troops[#Headers],0)+1)","v":0},null,{"$f":"IF(SUM(T181:T184)>V179,\"Error\",SUM(T181:T184))","v":0},{"$f":"IF(Y$179=\"Error\",\"Error\",V179-Y179)","v":0},{"$f":"IF(Y$179=\"Error\",\"Error\",SUM(V181:V184))","v":0}]
["+","NB",null,"NB","+","Coût","Temps","Coût Total","Temps Total","+","NB",null,"NB","+","Coût","Temps","Coût Total","Temps Total","+","NB",null,"NB","+","Coût","Temps","Coût Total","Temps Total"]
[1,{"$f":"IF(Paramètres!AQ6=0,\"\",Paramètres!AQ6)","v":""},{"$f":"IF(C180<>0,C180+IF(AND(B180<>\"\",A180<E$179),B180,0),IF(AND(B180<>\"\",A180<E$179),B180,0))","v":0},{"$f":"IF(E181<>\"/\",IF(G$179=\"Error\",\"Error\",$H$179+C181),\"/\")","v":"/"},{"$f":"IF(G$179=\"Error\",\"Error\",IF(AND($E$179<>\"/\",$E$179>'Paramètres - Admin'!$A2),'Paramètres - Admin'!$A3,\"/\"))","v":"/"},{"$f":"IF(E181<>\"/\",VLOOKUP(E181,COSTS_Barbarian[#All],2),\"/\")","v":"/"},{"$f":"IF(E181<>\"/\",VLOOKUP(E181,COSTS_Barbarian[#All],3),\"/\")","v":"/"},{"$f":"IF(G$179=\"Error\",\"Error\",IF(F181<>\"/\",D181*F181,0))","v":0},{"$f":"IF(G$179=\"Error\",\"Error\",IF(G181<>\"/\",D181*G181,0))","v":0},1,{"$f":"IF(Paramètres!AV6=0,\"\",Paramètres!AV6)","v":""},{"$f":"IF(L180<>0,L180+IF(AND(K180<>\"\",J180<N$179),K180,0),IF(AND(K180<>\"\",J180<N$179),K180,0))","v":0},{"$f":"IF(N181<>\"/\",IF(P$179=\"Error\",\"Error\",$Q$179+L181),\"/\")","v":"/"},{"$f":"IF(P$179=\"Error\",\"Error\",IF(AND($N$179<>\"/\",$N$179>'Paramètres - Admin'!$A2),'Paramètres - Admin'!$A3,\"/\"))","v":"/"},{"$f":"IF(N181<>\"/\",VLOOKUP(N181,COSTS_Balloon[#All],2),\"/\")","v":"/"},{"$f":"IF(N181<>\"/\",VLOOKUP(N181,COSTS_Balloon[#All],3),\"/\")","v":"/"},{"$f":"IF(P$179=\"Error\",\"Error\",IF(O181<>\"/\",M181*O181,0))","v":0},{"$f":"IF(P$179=\"Error\",\"Error\",IF(P181<>\"/\",M181*P181,0))","v":0},1,{"$f":"IF(Paramètres!AX6=0,\"\",Paramètres!AX6)","v":""},{"$f":"IF(U180<>0,U180+IF(AND(T180<>\"\",S180<W$179),T180,0),IF(AND(T180<>\"\",S180<W$179),T180,0))","v":0},{"$f":"IF(W181<>\"/\",IF(Y$179=\"Error\",\"Error\",$Z$179+U181),\"/\")","v":"/"},{"$f":"IF(Y$179=\"Error\",\"Error\",IF(AND($W$179<>\"/\",$W$179>'Paramètres - Admin'!$A2),'Paramètres - Admin'!$A3,\"/\"))","v":"/"},{"$f":"IF(W181<>\"/\",VLOOKUP(W181,COSTS_Healer[#All],2),\"/\")","v":"/"},{"$f":"IF(W181<>\"/\",VLOOKUP(W181,COSTS_Healer[#All],3),\"/\")","v":"/"},{"$f":"IF(Y$179=\"Error\",\"Error\",IF(X181<>\"/\",V181*X181,0))","v":0},{"$f":"IF(Y$179=\"Error\",\"Error\",IF(Y181<>\"/\",V181*Y181,0))","v":0}]
[2,{"$f":"IF(Paramètres!AQ7=0,\"\",Paramètres!AQ7)","v":""},0,"/",{"$f":"IF(G$179=\"Error\",\"Error\",IF(AND($E$179<>\"/\",$E$179>'Paramètres - Admin'!$A3),'Paramètres - Admin'!$A4,\"/\"))","v":"/"},{"$f":"IF(E182<>\"/\",VLOOKUP(E182,COSTS_Barbarian[#All],2),\"/\")","v":"/"},{"$f":"IF(E182<>\"/\",VLOOKUP(E182,COSTS_Barbarian[#All],3),\"/\")","v":"/"},0,0,2,{"$f":"IF(Paramètres!AV7=0,\"\",Paramètres!AV7)","v":""},0,"/",{"$f":"IF(P$179=\"Error\",\"Error\",IF(AND($N$179<>\"/\",$N$179>'Paramètres - Admin'!$A3),'Paramètres - Admin'!$A4,\"/\"))","v":"/"},{"$f":"IF(N182<>\"/\",VLOOKUP(N182,COSTS_Balloon[#All],2),\"/\")","v":"/"},{"$f":"IF(N182<>\"/\",VLOOKUP(N182,COSTS_Balloon[#All],3),\"/\")","v":"/"},0,0,2,{"$f":"IF(Paramètres!AX7=0,\"\",Paramètres!AX7)","v":""},{"$f":"IF(U181<>0,U181+IF(AND(T181<>\"\",S181<W$179),T181,0),IF(AND(T181<>\"\",S181<W$179),T181,0))","v":0},{"$f":"IF(W182<>\"/\",IF(Y$179=\"Error\",\"Error\",$Z$179+U182),\"/\")","v":"/"},{"$f":"IF(Y$179=\"Error\",\"Error\",IF(AND($W$179<>\"/\",$W$179>'Paramètres - Admin'!$A3),'Paramètres - Admin'!$A4,\"/\"))","v":"/"},{"$f":"IF(W182<>\"/\",VLOOKUP(W182,COSTS_Healer[#All],2),\"/\")","v":"/"},{"$f":"IF(W182<>\"/\",VLOOKUP(W182,COSTS_Healer[#All],3),\"/\")","v":"/"},{"$f":"IF(Y$179=\"Error\",\"Error\",IF(X182<>\"/\",V182*X182,0))","v":0},{"$f":"IF(Y$179=\"Error\",\"Error\",IF(Y182<>\"/\",V182*Y182,0))","v":0}]
[3,{"$f":"IF(Paramètres!AQ8=0,\"\",Paramètres!AQ8)","v":""},0,"/",{"$f":"IF(G$179=\"Error\",\"Error\",IF(AND($E$179<>\"/\",$E$179>'Paramètres - Admin'!$A4),'Paramètres - Admin'!$A5,\"/\"))","v":"/"},{"$f":"IF(E183<>\"/\",VLOOKUP(E183,COSTS_Barbarian[#All],2),\"/\")","v":"/"},{"$f":"IF(E183<>\"/\",VLOOKUP(E183,COSTS_Barbarian[#All],3),\"/\")","v":"/"},0,0,3,{"$f":"IF(Paramètres!AV8=0,\"\",Paramètres!AV8)","v":""},0,"/",{"$f":"IF(P$179=\"Error\",\"Error\",IF(AND($N$179<>\"/\",$N$179>'Paramètres - Admin'!$A4),'Paramètres - Admin'!$A5,\"/\"))","v":"/"},{"$f":"IF(N183<>\"/\",VLOOKUP(N183,COSTS_Balloon[#All],2),\"/\")","v":"/"},{"$f":"IF(N183<>\"/\",VLOOKUP(N183,COSTS_Balloon[#All],3),\"/\")","v":"/"},0,0,3,{"$f":"IF(Paramètres!AX8=0,\"\",Paramètres!AX8)","v":""},{"$f":"IF(U182<>0,U182+IF(AND(T182<>\"\",S182<W$179),T182,0),IF(AND(T182<>\"\",S182<W$179),T182,0))","v":0},{"$f":"IF(W183<>\"/\",IF(Y$179=\"Error\",\"Error\",$Z$179+U183),\"/\")","v":"/"},{"$f":"IF(Y$179=\"Error\",\"Error\",IF(AND($W$179<>\"/\",$W$179>'Paramètres - Admin'!$A4),'Paramètres - Admin'!$A5,\"/\"))","v":"/"},{"$f":"IF(W183<>\"/\",VLOOKUP(W183,COSTS_Healer[#All],2),\"/\")","v":"/"},{"$f":"IF(W183<>\"/\",VLOOKUP(W183,COSTS_Healer[#All],3),\"/\")","v":"/"},{"$f":"IF(Y$179=\"Error\",\"Error\",IF(X183<>\"/\",V183*X183,0))","v":0},{"$f":"IF(Y$179=\"Error\",\"Error\",IF(Y183<>\"/\",V183*Y183,0))","v":0}]
[4,{"$f":"IF(Paramètres!AQ9=0,\"\",Paramètres!AQ9)","v":""},0,"/",{"$f":"IF(G$179=\"Error\",\"Error\",IF(AND($E$179<>\"/\",$E$179>'Paramètres - Admin'!$A5),'Paramètres - Admin'!$A6,\"/\"))","v":"/"},{"$f":"IF(E184<>\"/\",VLOOKUP(E184,COSTS_Barbarian[#All],2),\"/\")","v":"/"},{"$f":"IF(E184<>\"/\",VLOOKUP(E184,COSTS_Barbarian[#All],3),\"/\")","v":"/"},0,0,4,{"$f":"IF(Paramètres!AV9=0,\"\",Paramètres!AV9)","v":""},0,"/",{"$f":"IF(P$179=\"Error\",\"Error\",IF(AND($N$179<>\"/\",$N$179>'Paramètres - Admin'!$A5),'Paramètres - Admin'!$A6,\"/\"))","v":"/"},{"$f":"IF(N184<>\"/\",VLOOKUP(N184,COSTS_Balloon[#All],2),\"/\")","v":"/"},{"$f":"IF(N184<>\"/\",VLOOKUP(N184,COSTS_Balloon[#All],3),\"/\")","v":"/"},0,0,4,{"$f":"IF(Paramètres!AX9=0,\"\",Paramètres!AX9)","v":""},{"$f":"IF(U183<>0,U183+IF(AND(T183<>\"\",S183<W$179),T183,0),IF(AND(T183<>\"\",S183<W$179),T183,0))","v":0},{"$f":"IF(W184<>\"/\",IF(Y$179=\"Error\",\"Error\",$Z$179+U184),\"/\")","v":"/"},{"$f":"IF(Y$179=\"Error\",\"Error\",IF(AND($W$179<>\"/\",$W$179>'Paramètres - Admin'!$A5),'Paramètres - Admin'!$A6,\"/\"))","v":"/"},{"$f":"IF(W184<>\"/\",VLOOKUP(W184,COSTS_Healer[#All],2),\"/\")","v":"/"},{"$f":"IF(W184<>\"/\",VLOOKUP(W184,COSTS_Healer[#All],3),\"/\")","v":"/"},{"$f":"IF(Y$179=\"Error\",\"Error\",IF(X184<>\"/\",V184*X184,0))","v":0},{"$f":"IF(Y$179=\"Error\",\"Error\",IF(Y184<>\"/\",V184*Y184,0))","v":0}]
[5,{"$f":"IF(Paramètres!AQ10=0,\"\",Paramètres!AQ10)","v":""},0,"/",{"$f":"IF(G$179=\"Error\",\"Error\",IF(AND($E$179<>\"/\",$E$179>'Paramètres - Admin'!$A6),'Paramètres - Admin'!$A7,\"/\"))","v":"/"},{"$f":"IF(E185<>\"/\",VLOOKUP(E185,COSTS_Barbarian[#All],2),\"/\")","v":"/"},{"$f":"IF(E185<>\"/\",VLOOKUP(E185,COSTS_Barbarian[#All],3),\"/\")","v":"/"},0,0,5,{"$f":"IF(Paramètres!AV10=0,\"\",Paramètres!AV10)","v":""},0,"/",{"$f":"IF(P$179=\"Error\",\"Error\",IF(AND($N$179<>\"/\",$N$179>'Paramètres - Admin'!$A6),'Paramètres - Admin'!$A7,\"/\"))","v":"/"},{"$f":"IF(N185<>\"/\",VLOOKUP(N185,COSTS_Balloon[#All],2),\"/\")","v":"/"},{"$f":"IF(N185<>\"/\",VLOOKUP(N185,COSTS_Balloon[#All],3),\"/\")","v":"/"},0,0,null,null,null,null,null,null,"Total",{"$f":"IF(Y$179=\"Error\",\"Error\",SUM(Z181:Z184))","v":0},{"$f":"IF(Y$179=\"Error\",\"Error\",SUM(AA181:AA184))","v":0}]
[6,{"$f":"IF(Paramètres!AQ11=0,\"\",Paramètres!AQ11)","v":""},0,"/",{"$f":"IF(G$179=\"Error\",\"Error\",IF(AND($E$179<>\"/\",$E$179>'Paramètres - Admin'!$A7),'Paramètres - Admin'!$A8,\"/\"))","v":"/"},{"$f":"IF(E186<>\"/\",VLOOKUP(E186,COSTS_Barbarian[#All],2),\"/\")","v":"/"},{"$f":"IF(E186<>\"/\",VLOOKUP(E186,COSTS_Barbarian[#All],3),\"/\")","v":"/"},0,0,6,{"$f":"IF(Paramètres!AV11=0,\"\",Paramètres!AV11)","v":""},{"$f":"IF(L185<>0,L185+IF(AND(K185<>\"\",J185<N$179),K185,0),IF(AND(K185<>\"\",J185<N$179),K185,0))","v":0},"/",{"$f":"IF(P$179=\"Error\",\"Error\",IF(AND($N$179<>\"/\",$N$179>'Paramètres - Admin'!$A7),'Paramètres - Admin'!$A8,\"/\"))","v":"/"},{"$f":"IF(N186<>\"/\",VLOOKUP(N186,COSTS_Balloon[#All],2),\"/\")","v":"/"},{"$f":"IF(N186<>\"/\",VLOOKUP(N186,COSTS_Balloon[#All],3),\"/\")","v":"/"},0,0,"Sapeur",null,null,"Max","Max +",null,"Actuel","À Faire","Améliorations"]
[7,{"$f":"IF(Paramètres!AQ12=0,\"\",Paramètres!AQ12)","v":""},0,"/",{"$f":"IF(G$179=\"Error\",\"Error\",IF(AND($E$179<>\"/\",$E$179>'Paramètres - Admin'!$A8),'Paramètres - Admin'!$A9,\"/\"))","v":"/"},{"$f":"IF(E187<>\"/\",VLOOKUP(E187,COSTS_Barbarian[#All],2),\"/\")","v":"/"},{"$f":"IF(E187<>\"/\",VLOOKUP(E187,COSTS_Barbarian[#All],3),\"/\")","v":"/"},0,0,7,{"$f":"IF(Paramètres!AV12=0,\"\",Paramètres!AV12)","v":""},{"$f":"IF(L186<>0,L186+IF(AND(K186<>\"\",J186<N$179),K186,0),IF(AND(K186<>\"\",J186<N$179),K186,0))","v":0},{"$f":"IF(N187<>\"/\",IF(P$179=\"Error\",\"Error\",$Q$179+L187),\"/\")","v":"/"},{"$f":"IF(P$179=\"Error\",\"Error\",IF(AND($N$179<>\"/\",$N$179>'Paramètres - Admin'!$A8),'Paramètres - Admin'!$A9,\"/\"))","v":"/"},{"$f":"IF(N187<>\"/\",VLOOKUP(N187,COSTS_Balloon[#All],2),\"/\")","v":"/"},{"$f":"IF(N187<>\"/\",VLOOKUP(N187,COSTS_Balloon[#All],3),\"/\")","v":"/"},{"$f":"IF(P$179=\"Error\",\"Error\",IF(O187<>\"/\",M187*O187,0))","v":0},{"$f":"IF(P$179=\"Error\",\"Error\",IF(P187<>\"/\",M187*P187,0))","v":0},null,null,null,{"$f":"VLOOKUP($A$2,AVAILABLE_Upgrades_Normal_Troops[#All],MATCH(S186,AVAILABLE_Upgrades_Normal_Troops[#Headers],0))","v":0},{"$f":"VLOOKUP(IF(ISERROR(LOOKUP(MATCH(1,Paramètres!$K$6:$K$45,0),Paramètres!$A$6:$A$45)),0,LOOKUP(MATCH(1,Paramètres!$K$6:$K$45,0),Paramètres!$A$6:$A$45)),AVAILABLE_Upgrades_Normal_Troops[#All],MATCH(S186,AVAILABLE_Upgrades_Normal_Troops[#Headers],0)+1)","v":0},null,{"$f":"IF(SUM(T189:T194)>V187,\"Error\",SUM(T189:T194))","v":0},{"$f":"IF(Y$187=\"Error\",\"Error\",V187-Y187)","v":0},{"$f":"IF(Y$187=\"Error\",\"Error\",SUM(V189:V194))","v":0}]
[null,null,null,null,null,null,"Total",{"$f":"IF(G$179=\"Error\",\"Error\",SUM(H181:H187))","v":0},{"$f":"IF(G$179=\"Error\",\"Error\",SUM(I181:I187))","v":0},null,null,null,null,null,null,"Total",{"$f":"IF(P$179=\"Error\",\"Error\",SUM(Q181:Q187))","v":0},{"$f":"IF(P$179=\"Error\",\"Error\",SUM(R181:R187))","v":0},"+","NB",null,"NB","+","Coût","Temps","Coût Total","Temps Total"]
["Archer",null,null,"Max","Max +",null,"Actuel","À Faire","Améliorations","Sorcier",null,null,"Max","Max +",null,"Actuel","À Faire","Améliorations",1,{"$f":"IF(Paramètres!AU6=0,\"\",Paramètres!AU6)","v":""},{"$f":"IF(U188<>0,U188+IF(AND(T188<>\"\",S188<W$187),T188,0),IF(AND(T188<>\"\",S188<W$187),T188,0))","v":0},{"$f":"IF(W189<>\"/\",IF(Y$187=\"Error\",\"Error\",$Z$187+U189),\"/\")","v":"/"},{"$f":"IF(Y$187=\"Error\",\"Error\",IF(AND($W$187<>\"/\",$W$187>'Paramètres - Admin'!$A2),'Paramètres - Admin'!$A3,\"/\"))","v":"/"},{"$f":"IF(W189<>\"/\",VLOOKUP(W189,COSTS_Wall_Breaker[#All],2),\"/\")","v":"/"},{"$f":"IF(W189<>\"/\",VLOOKUP(W189,COSTS_Wall_Breaker[#All],3),\"/\")","v":"/"},{"$f":"IF(Y$187=\"Error\",\"Error\",IF(X189<>\"/\",V189*X189,0))","v":0},{"$f":"IF(Y$187=\"Error\",\"Error\",IF(Y189<>\"/\",V189*Y189,0))","v":0}]
[null,null,null,{"$f":"VLOOKUP($A$2,AVAILABLE_Upgrades_Normal_Troops[#All],MATCH(A189,AVAILABLE_Upgrades_Normal_Troops[#Headers],0))","v":0},{"$f":"VLOOKUP(IF(ISERROR(LOOKUP(MATCH(1,Paramètres!$K$6:$K$45,0),Paramètres!$A$6:$A$45)),0,LOOKUP(MATCH(1,Paramètres!$K$6:$K$45,0),Paramètres!$A$6:$A$45)),AVAILABLE_Upgrades_Normal_Troops[#All],MATCH(A189,AVAILABLE_Upgrades_Normal_Troops[#Headers],0)+1)","v":0},null,{"$f":"IF(SUM(B192:B198)>D190,\"Error\",SUM(B192:B198))","v":0},{"$f":"IF(G$190=\"Error\",\"Error\",D190-G190)","v":0},{"$f":"IF(G$190=\"Error\",\"Error\",SUM(D192:D198))","v":0},null,null,null,{"$f":"VLOOKUP($A$2,AVAILABLE_Upgrades_Normal_Troops[#All],MATCH(J189,AVAILABLE_Upgrades_Normal_Troops[#Headers],0))","v":0},{"$f":"VLOOKUP(IF(ISERROR(LOOKUP(MATCH(1,Paramètres!$K$6:$K$45,0),Paramètres!$A$6:$A$45)),0,LOOKUP(MATCH(1,Paramètres!$K$6:$K$45,0),Paramètres!$A$6:$A$45)),AVAILABLE_Upgrades_Normal_Troops[#All],MATCH(J189,AVAILABLE_Upgrades_Normal_Troops[#Headers],0)+1)","v":0},null,{"$f":"IF(SUM(K192:K198)>M190,\"Error\",SUM(K192:K198))","v":0},{"$f":"IF(P$190=\"Error\",\"Error\",M190-P190)","v":0},{"$f":"IF(P$190=\"Error\",\"Error\",SUM(M192:M198))","v":0},2,{"$f":"IF(Paramètres!AU7=0,\"\",Paramètres!AU7)","v":""},0,"/",{"$f":"IF(Y$187=\"Error\",\"Error\",IF(AND($W$187<>\"/\",$W$187>'Paramètres - Admin'!$A3),'Paramètres - Admin'!$A4,\"/\"))","v":"/"},{"$f":"IF(W190<>\"/\",VLOOKUP(W190,COSTS_Wall_Breaker[#All],2),\"/\")","v":"/"},{"$f":"IF(W190<>\"/\",VLOOKUP(W190,COSTS_Wall_Breaker[#All],3),\"/\")","v":"/"},0,0]
["+","NB",null,"NB","+","Coût","Temps","Coût Total","Temps Total","+","NB",null,"NB","+","Coût","Temps","Coût Total","Temps Total",3,{"$f":"IF(Paramètres!AU8=0,\"\",Paramètres!AU8)","v":""},0,"/",{"$f":"IF(Y$187=\"Error\",\"Error\",IF(AND($W$187<>\"/\",$W$187>'Paramètres - Admin'!$A4),'Paramètres - Admin'!$A5,\"/\"))","v":"/"},{"$f":"IF(W191<>\"/\",VLOOKUP(W191,COSTS_Wall_Breaker[#All],2),\"/\")","v":"/"},{"$f":"IF(W191<>\"/\",VLOOKUP(W191,COSTS_Wall_Breaker[#All],3),\"/\")","v":"/"},0,0]
[1,{"$f":"IF(Paramètres!AR6=0,\"\",Paramètres!AR6)","v":""},{"$f":"IF(C191<>0,C191+IF(AND(B191<>\"\",A191<E$190),B191,0),IF(AND(B191<>\"\",A191<E$190),B191,0))","v":0},{"$f":"IF(E192<>\"/\",IF(G$190=\"Error\",\"Error\",$H$190+C192),\"/\")","v":"/"},{"$f":"IF(G$190=\"Error\",\"Error\",IF(AND($E$190<>\"/\",$E$190>'Paramètres - Admin'!$A2),'Paramètres - Admin'!$A3,\"/\"))","v":"/"},{"$f":"IF(E192<>\"/\",VLOOKUP(E192,COSTS_Archer[#All],2),\"/\")","v":"/"},{"$f":"IF(E192<>\"/\",VLOOKUP(E192,COSTS_Archer[#All],3),\"/\")","v":"/"},{"$f":"IF(G$190=\"Error\",\"Error\",IF(F192<>\"/\",D192*F192,0))","v":0},{"$f":"IF(G$190=\"Error\",\"Error\",IF(G192<>\"/\",D192*G192,0))","v":0},1,{"$f":"IF(Paramètres!AW6=0,\"\",Paramètres!AW6)","v":""},{"$f":"IF(L191<>0,L191+IF(AND(K191<>\"\",J191<N$190),K191,0),IF(AND(K191<>\"\",J191<N$190),K191,0))","v":0},{"$f":"IF(N192<>\"/\",IF(P$190=\"Error\",\"Error\",$Q$190+L192),\"/\")","v":"/"},{"$f":"IF(P$190=\"Error\",\"Error\",IF(AND($N$190<>\"/\",$N$190>'Paramètres - Admin'!$A2),'Paramètres - Admin'!$A3,\"/\"))","v":"/"},{"$f":"IF(N192<>\"/\",VLOOKUP(N192,COSTS_Wizard[#All],2),\"/\")","v":"/"},{"$f":"IF(N192<>\"/\",VLOOKUP(N192,COSTS_Wizard[#All],3),\"/\")","v":"/"},{"$f":"IF(P$190=\"Error\",\"Error\",IF(O192<>\"/\",M192*O192,0))","v":0},{"$f":"IF(P$190=\"Error\",\"Error\",IF(P192<>\"/\",M192*P192,0))","v":0},4,{"$f":"IF(Paramètres!AU9=0,\"\",Paramètres!AU9)","v":""},0,"/",{"$f":"IF(Y$187=\"Error\",\"Error\",IF(AND($W$187<>\"/\",$W$187>'Paramètres - Admin'!$A5),'Paramètres - Admin'!$A6,\"/\"))","v":"/"},{"$f":"IF(W192<>\"/\",VLOOKUP(W192,COSTS_Wall_Breaker[#All],2),\"/\")","v":"/"},{"$f":"IF(W192<>\"/\",VLOOKUP(W192,COSTS_Wall_Breaker[#All],3),\"/\")","v":"/"},0,0]
[2,{"$f":"IF(Paramètres!AR7=0,\"\",Paramètres!AR7)","v":""},0,"/",{"$f":"IF(G$190=\"Error\",\"Error\",IF(AND($E$190<>\"/\",$E$190>'Paramètres - Admin'!$A3),'Paramètres - Admin'!$A4,\"/\"))","v":"/"},{"$f":"IF(E193<>\"/\",VLOOKUP(E193,COSTS_Archer[#All],2),\"/\")","v":"/"},{"$f":"IF(E193<>\"/\",VLOOKUP(E193,COSTS_Archer[#All],3),\"/\")","v":"/"},0,0,2,{"$f":"IF(Paramètres!AW7=0,\"\",Paramètres!AW7)","v":""},0,"/",{"$f":"IF(P$190=\"Error\",\"Error\",IF(AND($N$190<>\"/\",$N$190>'Paramètres - Admin'!$A3),'Paramètres - Admin'!$A4,\"/\"))","v":"/"},{"$f":"IF(N193<>\"/\",VLOOKUP(N193,COSTS_Wizard[#All],2),\"/\")","v":"/"},{"$f":"IF(N193<>\"/\",VLOOKUP(N193,COSTS_Wizard[#All],3),\"/\")","v":"/"},0,0,5,{"$f":"IF(Paramètres!AU10=0,\"\",Paramètres!AU10)","v":""},0,"/",{"$f":"IF(Y$187=\"Error\",\"Error\",IF(AND($W$187<>\"/\",$W$187>'Paramètres - Admin'!$A6),'Paramètres - Admin'!$A7,\"/\"))","v":"/"},{"$f":"IF(W193<>\"/\",VLOOKUP(W193,COSTS_Wall_Breaker[#All],2),\"/\")","v":"/"},{"$f":"IF(W193<>\"/\",VLOOKUP(W193,COSTS_Wall_Breaker[#All],3),\"/\")","v":"/"},0,0]
[3,{"$f":"IF(Paramètres!AR8=0,\"\",Paramètres!AR8)","v":""},0,"/",{"$f":"IF(G$190=\"Error\",\"Error\",IF(AND($E$190<>\"/\",$E$190>'Paramètres - Admin'!$A4),'Paramètres - Admin'!$A5,\"/\"))","v":"/"},{"$f":"IF(E194<>\"/\",VLOOKUP(E194,COSTS_Archer[#All],2),\"/\")","v":"/"},{"$f":"IF(E194<>\"/\",VLOOKUP(E194,COSTS_Archer[#All],3),\"/\")","v":"/"},0,0,3,{"$f":"IF(Paramètres!AW8=0,\"\",Paramètres!AW8)","v":""},0,"/",{"$f":"IF(P$190=\"Error\",\"Error\",IF(AND($N$190<>\"/\",$N$190>'Paramètres - Admin'!$A4),'Paramètres - Admin'!$A5,\"/\"))","v":"/"},{"$f":"IF(N194<>\"/\",VLOOKUP(N194,COSTS_Wizard[#All],2),\"/\")","v":"/"},{"$f":"IF(N194<>\"/\",VLOOKUP(N194,COSTS_Wizard[#All],3),\"/\")","v":"/"},0,0,6,{"$f":"IF(Paramètres!AU11=0,\"\",Paramètres!AU11)","v":""},0,"/",{"$f":"IF(Y$187=\"Error\",\"Error\",IF(AND($W$187<>\"/\",$W$187>'Paramètres - Admin'!$A7),'Paramètres - Admin'!$A8,\"/\"))","v":"/"},{"$f":"IF(W194<>\"/\",VLOOKUP(W194,COSTS_Wall_Breaker[#All],2),\"/\")","v":"/"},{"$f":"IF(W194<>\"/\",VLOOKUP(W194,COSTS_Wall_Breaker[#All],3),\"/\")","v":"/"},0,0]
[4,{"$f":"IF(Paramètres!AR9=0,\"\",Paramètres!AR9)","v":""},0,"/",{"$f":"IF(G$190=\"Error\",\"Error\",IF(AND($E$190<>\"/\",$E$190>'Paramètres - Admin'!$A5),'Paramètres - Admin'!$A6,\"/\"))","v":"/"},{"$f":"IF(E195<>\"/\",VLOOKUP(E195,COSTS_Archer[#All],2),\"/\")","v":"/"},{"$f":"IF(E195<>\"/\",VLOOKUP(E195,COSTS_Archer[#All],3),\"/\")","v":"/"},0,0,4,{"$f":"IF(Paramètres!AW9=0,\"\",Paramètres!AW9)","v":""},0,"/",{"$f":"IF(P$190=\"Error\",\"Error\",IF(AND($N$190<>\"/\",$N$190>'Paramètres - Admin'!$A5),'Paramètres - Admin'!$A6,\"/\"))","v":"/"},{"$f":"IF(N195<>\"/\",VLOOKUP(N195,COSTS_Wizard[#All],2),\"/\")","v":"/"},{"$f":"IF(N195<>\"/\",VLOOKUP(N195,COSTS_Wizard[#All],3),\"/\")","v":"/"},0,0,null,null,null,null,null,null,"Total",{"$f":"IF(Y$187=\"Error\",\"Error\",SUM(Z189:Z194))","v":0},{"$f":"IF(Y$187=\"Error\",\"Error\",SUM(AA189:AA194))","v":0}]
[5,{"$f":"IF(Paramètres!AR10=0,\"\",Paramètres!AR10)","v":""},0,"/",{"$f":"IF(G$190=\"Error\",\"Error\",IF(AND($E$190<>\"/\",$E$190>'Paramètres - Admin'!$A6),'Paramètres - Admin'!$A7,\"/\"))","v":"/"},{"$f":"IF(E196<>\"/\",VLOOKUP(E196,COSTS_Archer[#All],2),\"/\")","v":"/"},{"$f":"IF(E196<>\"/\",VLOOKUP(E196,COSTS_Archer[#All],3),\"/\")","v":"/"},0,0,5,{"$f":"IF(Paramètres!AW10=0,\"\",Paramètres!AW10)","v":""},0,"/",{"$f":"IF(P$190=\"Error\",\"Error\",IF(AND($N$190<>\"/\",$N$190>'Paramètres - Admin'!$A6),'Paramètres - Admin'!$A7,\"/\"))","v":"/"},{"$f":"IF(N196<>\"/\",VLOOKUP(N196,COSTS_Wizard[#All],2),\"/\")","v":"/"},{"$f":"IF(N196<>\"/\",VLOOKUP(N196,COSTS_Wizard[#All],3),\"/\")","v":"/"},0,0,"Dragon",null,null,"Max","Max +",null,"Actuel","À Faire","Améliorations"]
[6,{"$f":"IF(Paramètres!AR11=0,\"\",Paramètres!AR11)","v":""},0,"/",{"$f":"IF(G$190=\"Error\",\"Error\",IF(AND($E$190<>\"/\",$E$190>'Paramètres - Admin'!$A7),'Paramètres - Admin'!$A8,\"/\"))","v":"/"},{"$f":"IF(E197<>\"/\",VLOOKUP(E197,COSTS_Archer[#All],2),\"/\")","v":"/"},{"$f":"IF(E197<>\"/\",VLOOKUP(E197,COSTS_Archer[#All],3),\"/\")","v":"/"},0,0,6,{"$f":"IF(Paramètres!AW11=0,\"\",Paramètres!AW11)","v":""},0,"/",{"$f":"IF(P$190=\"Error\",\"Error\",IF(AND($N$190<>\"/\",$N$190>'Paramètres - Admin'!$A7),'Paramètres - Admin'!$A8,\"/\"))","v":"/"},{"$f":"IF(N197<>\"/\",VLOOKUP(N197,COSTS_Wizard[#All],2),\"/\")","v":"/"},{"$f":"IF(N197<>\"/\",VLOOKUP(N197,COSTS_Wizard[#All],3),\"/\")","v":"/"},0,0,null,null,null,{"$f":"VLOOKUP($A$2,AVAILABLE_Upgrades_Normal_Troops[#All],MATCH(S196,AVAILABLE_Upgrades_Normal_Troops[#Headers],0))","v":0},{"$f":"VLOOKUP(IF(ISERROR(LOOKUP(MATCH(1,Paramètres!$K$6:$K$45,0),Paramètres!$A$6:$A$45)),0,LOOKUP(MATCH(1,Paramètres!$K$6:$K$45,0),Paramètres!$A$6:$A$45)),AVAILABLE_Upgrades_Normal_Troops[#All],MATCH(S196,AVAILABLE_Upgrades_Normal_Troops[#Headers],0)+1)","v":0},null,{"$f":"IF(SUM(T199:T204)>V197,\"Error\",SUM(T199:T204))","v":0},{"$f":"IF(Y$197=\"Error\",\"Error\",V197-Y197)","v":0},{"$f":"IF(Y$197=\"Error\",\"Error\",SUM(V199:V204))","v":0}]
[7,{"$f":"IF(Paramètres!AR12=0,\"\",Paramètres!AR12)","v":""},0,"/",{"$f":"IF(G$190=\"Error\",\"Error\",IF(AND($E$190<>\"/\",$E$190>'Paramètres - Admin'!$A8),'Paramètres - Admin'!$A9,\"/\"))","v":"/"},{"$f":"IF(E198<>\"/\",VLOOKUP(E198,COSTS_Archer[#All],2),\"/\")","v":"/"},{"$f":"IF(E198<>\"/\",VLOOKUP(E198,COSTS_Archer[#All],3),\"/\")","v":"/"},0,0,7,{"$f":"IF(Paramètres!AW12=0,\"\",Paramètres!AW12)","v":""},0,{"$f":"IF(N198<>\"/\",IF(P$190=\"Error\",\"Error\",$Q$190+L198),\"/\")","v":"/"},{"$f":"IF(P$190=\"Error\",\"Error\",IF(AND($N$190<>\"/\",$N$190>'Paramètres - Admin'!$A8),'Paramètres - Admin'!$A9,\"/\"))","v":"/"},{"$f":"IF(N198<>\"/\",VLOOKUP(N198,COSTS_Wizard[#All],2),\"/\")","v":"/"},{"$f":"IF(N198<>\"/\",VLOOKUP(N198,COSTS_Wizard[#All],3),\"/\")","v":"/"},{"$f":"IF(P$190=\"Error\",\"Error\",IF(O198<>\"/\",M198*O198,0))","v":0},{"$f":"IF(P$190=\"Error\",\"Error\",IF(P198<>\"/\",M198*P198,0))","v":0},"+","NB",null,"NB","+","Coût","Temps","Coût Total","Temps Total"]
[null,null,null,null,null,null,"Total",{"$f":"IF(G$190=\"Error\",\"Error\",SUM(H192:H198))","v":0},{"$f":"IF(G$190=\"Error\",\"Error\",SUM(I192:I198))","v":0},null,null,null,null,null,null,"Total",{"$f":"IF(P$190=\"Error\",\"Error\",SUM(Q192:Q198))","v":0},{"$f":"IF(P$190=\"Error\",\"Error\",SUM(R192:R197))","v":0},1,{"$f":"IF(Paramètres!AY6=0,\"\",Paramètres!AY6)","v":""},{"$f":"IF(U198<>0,U198+IF(AND(T198<>\"\",S198<W$197),T198,0),IF(AND(T198<>\"\",S198<W$197),T198,0))","v":0},{"$f":"IF(W199<>\"/\",IF(Y$197=\"Error\",\"Error\",$Z$197+U199),\"/\")","v":"/"},{"$f":"IF(Y$197=\"Error\",\"Error\",IF(AND($W$197<>\"/\",$W$197>'Paramètres - Admin'!$A2),'Paramètres - Admin'!$A3,\"/\"))","v":"/"},{"$f":"IF(W199<>\"/\",VLOOKUP(W199,COSTS_Dragon[#All],2),\"/\")","v":"/"},{"$f":"IF(W199<>\"/\",VLOOKUP(W199,COSTS_Dragon[#All],3),\"/\")","v":"/"},{"$f":"IF(Y$197=\"Error\",\"Error\",IF(X199<>\"/\",V199*X199,0))","v":0},{"$f":"IF(Y$197=\"Error\",\"Error\",IF(Y199<>\"/\",V199*Y199,0))","v":0}]
["Géant",null,null,"Max","Max +",null,"Actuel","À Faire","Améliorations","Gobelin",null,null,"Max","Max +",null,"Actuel","À Faire","Améliorations",2,{"$f":"IF(Paramètres!AY7=0,\"\",Paramètres!AY7)","v":""},{"$f":"IF(U199<>0,U199+IF(AND(T199<>\"\",S199<W$197),T199,0),IF(AND(T199<>\"\",S199<W$197),T199,0))","v":0},"/",{"$f":"IF(Y$197=\"Error\",\"Error\",IF(AND($W$197<>\"/\",$W$197>'Paramètres - Admin'!$A3),'Paramètres - Admin'!$A4,\"/\"))","v":"/"},{"$f":"IF(W200<>\"/\",VLOOKUP(W200,COSTS_Dragon[#All],2),\"/\")","v":"/"},{"$f":"IF(W200<>\"/\",VLOOKUP(W200,COSTS_Dragon[#All],3),\"/\")","v":"/"},0,0]
[null,null,null,{"$f":"VLOOKUP($A$2,AVAILABLE_Upgrades_Normal_Troops[#All],MATCH(A200,AVAILABLE_Upgrades_Normal_Troops[#Headers],0))","v":0},{"$f":"VLOOKUP(IF(ISERROR(LOOKUP(MATCH(1,Paramètres!$K$6:$K$45,0),Paramètres!$A$6:$A$45)),0,LOOKUP(MATCH(1,Paramètres!$K$6:$K$45,0),Paramètres!$A$6:$A$45)),AVAILABLE_Upgrades_Normal_Troops[#All],MATCH(A200,AVAILABLE_Upgrades_Normal_Troops[#Headers],0)+1)","v":0},null,{"$f":"IF(SUM(B203:B210)>D201,\"Error\",SUM(B203:B210))","v":0},{"$f":"IF(G$201=\"Error\",\"Error\",D201-G201)","v":0},{"$f":"IF(G$201=\"Error\",\"Error\",SUM(D203:D210))","v":0},null,null,null,{"$f":"VLOOKUP($A$2,AVAILABLE_Upgrades_Normal_Troops[#All],MATCH(J200,AVAILABLE_Upgrades_Normal_Troops[#Headers],0))","v":0},{"$f":"VLOOKUP(IF(ISERROR(LOOKUP(MATCH(1,Paramètres!$K$6:$K$45,0),Paramètres!$A$6:$A$45)),0,LOOKUP(MATCH(1,Paramètres!$K$6:$K$45,0),Paramètres!$A$6:$A$45)),AVAILABLE_Upgrades_Normal_Troops[#All],MATCH(J200,AVAILABLE_Upgrades_Normal_Troops[#Headers],0)+1)","v":0},null,{"$f":"IF(SUM(K203:K209)>M201,\"Error\",SUM(K203:K209))","v":0},{"$f":"IF(P$201=\"Error\",\"Error\",M201-P201)","v":0},{"$f":"IF(P$201=\"Error\",\"Error\",SUM(M203:M209))","v":0},3,{"$f":"IF(Paramètres!AY8=0,\"\",Paramètres!AY8)","v":""},0,"/",{"$f":"IF(Y$197=\"Error\",\"Error\",IF(AND($W$197<>\"/\",$W$197>'Paramètres - Admin'!$A4),'Paramètres - Admin'!$A5,\"/\"))","v":"/"},{"$f":"IF(W201<>\"/\",VLOOKUP(W201,COSTS_Dragon[#All],2),\"/\")","v":"/"},{"$f":"IF(W201<>\"/\",VLOOKUP(W201,COSTS_Dragon[#All],3),\"/\")","v":"/"},0,0]
["+","NB",null,"NB","+","Coût","Temps","Coût Total","Temps Total","+","NB",null,"NB","+","Coût","Temps","Coût Total","Temps Total",4,{"$f":"IF(Paramètres!AY9=0,\"\",Paramètres!AY9)","v":""},0,"/",{"$f":"IF(Y$197=\"Error\",\"Error\",IF(AND($W$197<>\"/\",$W$197>'Paramètres - Admin'!$A5),'Paramètres - Admin'!$A6,\"/\"))","v":"/"},{"$f":"IF(W202<>\"/\",VLOOKUP(W202,COSTS_Dragon[#All],2),\"/\")","v":"/"},{"$f":"IF(W202<>\"/\",VLOOKUP(W202,COSTS_Dragon[#All],3),\"/\")","v":"/"},0,0]
[1,{"$f":"IF(Paramètres!AS6=0,\"\",Paramètres!AS6)","v":""},{"$f":"IF(C202<>0,C202+IF(AND(B202<>\"\",A202<E$201),B202,0),IF(AND(B202<>\"\",A202<E$201),B202,0))","v":0},{"$f":"IF(E203<>\"/\",IF(G$201=\"Error\",\"Error\",$H$201+C203),\"/\")","v":"/"},{"$f":"IF(G$201=\"Error\",\"Error\",IF(AND($E$201<>\"/\",$E$201>'Paramètres - Admin'!$A2),'Paramètres - Admin'!$A3,\"/\"))","v":"/"},{"$f":"IF(E203<>\"/\",VLOOKUP(E203,COSTS_Giant[#All],2),\"/\")","v":"/"},{"$f":"IF(E203<>\"/\",VLOOKUP(E203,COSTS_Giant[#All],3),\"/\")","v":"/"},{"$f":"IF(G$201=\"Error\",\"Error\",IF(F203<>\"/\",D203*F203,0))","v":0},{"$f":"IF(G$201=\"Error\",\"Error\",IF(G203<>\"/\",D203*G203,0))","v":0},1,{"$f":"IF(Paramètres!AT6=0,\"\",Paramètres!AT6)","v":""},{"$f":"IF(L202<>0,L202+IF(AND(K202<>\"\",J202<N$201),K202,0),IF(AND(K202<>\"\",J202<N$201),K202,0))","v":0},{"$f":"IF(N203<>\"/\",IF(P$201=\"Error\",\"Error\",$Q$201+L203),\"/\")","v":"/"},{"$f":"IF(P$201=\"Error\",\"Error\",IF(AND($N$201<>\"/\",$N$201>'Paramètres - Admin'!$A2),'Paramètres - Admin'!$A3,\"/\"))","v":"/"},{"$f":"IF(N203<>\"/\",VLOOKUP(N203,COSTS_Goblin[#All],2),\"/\")","v":"/"},{"$f":"IF(N203<>\"/\",VLOOKUP(N203,COSTS_Goblin[#All],3),\"/\")","v":"/"},{"$f":"IF(P$201=\"Error\",\"Error\",IF(O203<>\"/\",M203*O203,0))","v":0},{"$f":"IF(P$201=\"Error\",\"Error\",IF(P203<>\"/\",M203*P203,0))","v":0},5,{"$f":"IF(Paramètres!AY10=0,\"\",Paramètres!AY10)","v":""},0,"/",{"$f":"IF(Y$197=\"Error\",\"Error\",IF(AND($W$197<>\"/\",$W$197>'Paramètres - Admin'!$A6),'Paramètres - Admin'!$A7,\"/\"))","v":"/"},{"$f":"IF(W203<>\"/\",VLOOKUP(W203,COSTS_Dragon[#All],2),\"/\")","v":"/"},{"$f":"IF(W203<>\"/\",VLOOKUP(W203,COSTS_Dragon[#All],3),\"/\")","v":"/"},0,0]
[2,{"$f":"IF(Paramètres!AS7=0,\"\",Paramètres!AS7)","v":""},{"$f":"IF(C203<>0,C203+IF(AND(B203<>\"\",A203<E$201),B203,0),IF(AND(B203<>\"\",A203<E$201),B203,0))","v":0},{"$f":"IF(E204<>\"/\",IF(G$201=\"Error\",\"Error\",$H$201+C204),\"/\")","v":"/"},{"$f":"IF(G$201=\"Error\",\"Error\",IF(AND($E$201<>\"/\",$E$201>'Paramètres - Admin'!$A3),'Paramètres - Admin'!$A4,\"/\"))","v":"/"},{"$f":"IF(E204<>\"/\",VLOOKUP(E204,COSTS_Giant[#All],2),\"/\")","v":"/"},{"$f":"IF(E204<>\"/\",VLOOKUP(E204,COSTS_Giant[#All],3),\"/\")","v":"/"},{"$f":"IF(G$201=\"Error\",\"Error\",IF(F204<>\"/\",D204*F204,0))","v":0},{"$f":"IF(G$201=\"Error\",\"Error\",IF(G204<>\"/\",D204*G204,0))","v":0},2,{"$f":"IF(Paramètres!AT7=0,\"\",Paramètres!AT7)","v":""},0,"/",{"$f":"IF(P$201=\"Error\",\"Error\",IF(AND($N$201<>\"/\",$N$201>'Paramètres - Admin'!$A3),'Paramètres - Admin'!$A4,\"/\"))","v":"/"},{"$f":"IF(N204<>\"/\",VLOOKUP(N204,COSTS_Goblin[#All],2),\"/\")","v":"/"},{"$f":"IF(N204<>\"/\",VLOOKUP(N204,COSTS_Goblin[#All],3),\"/\")","v":"/"},0,0,6,{"$f":"IF(Paramètres!AY11=0,\"\",Paramètres!AY11)","v":""},0,"/",{"$f":"IF(Y$197=\"Error\",\"Error\",IF(AND($W$197<>\"/\",$W$197>'Paramètres - Admin'!$A7),'Paramètres - Admin'!$A8,\"/\"))","v":"/"},{"$f":"IF(W204<>\"/\",VLOOKUP(W204,COSTS_Dragon[#All],2),\"/\")","v":"/"},{"$f":"IF(W204<>\"/\",VLOOKUP(W204,COSTS_Dragon[#All],3),\"/\")","v":"/"},0,0]
[3,{"$f":"IF(Paramètres!AS8=0,\"\",Paramètres!AS8)","v":""},0,"/",{"$f":"IF(G$201=\"Error\",\"Error\",IF(AND($E$201<>\"/\",$E$201>'Paramètres - Admin'!$A4),'Paramètres - Admin'!$A5,\"/\"))","v":"/"},{"$f":"IF(E205<>\"/\",VLOOKUP(E205,COSTS_Giant[#All],2),\"/\")","v":"/"},{"$f":"IF(E205<>\"/\",VLOOKUP(E205,COSTS_Giant[#All],3),\"/\")","v":"/"},0,{"$f":"IF(G$201=\"Error\",\"Error\",IF(G205<>\"/\",D205*G205,0))","v":0},3,{"$f":"IF(Paramètres!AT8=0,\"\",Paramètres!AT8)","v":""},0,"/",{"$f":"IF(P$201=\"Error\",\"Error\",IF(AND($N$201<>\"/\",$N$201>'Paramètres - Admin'!$A4),'Paramètres - Admin'!$A5,\"/\"))","v":"/"},{"$f":"IF(N205<>\"/\",VLOOKUP(N205,COSTS_Goblin[#All],2),\"/\")","v":"/"},{"$f":"IF(N205<>\"/\",VLOOKUP(N205,COSTS_Goblin[#All],3),\"/\")","v":"/"},0,0,null,null,null,null,null,null,"Total",{"$f":"IF(Y$197=\"Error\",\"Error\",SUM(Z199:Z204))","v":0},{"$f":"IF(Y$197=\"Error\",\"Error\",SUM(AA199:AA203))","v":0}]
[4,{"$f":"IF(Paramètres!AS9=0,\"\",Paramètres!AS9)","v":""},0,"/",{"$f":"IF(G$201=\"Error\",\"Error\",IF(AND($E$201<>\"/\",$E$201>'Paramètres - Admin'!$A5),'Paramètres - Admin'!$A6,\"/\"))","v":"/"},{"$f":"IF(E206<>\"/\",VLOOKUP(E206,COSTS_Giant[#All],2),\"/\")","v":"/"},{"$f":"IF(E206<>\"/\",VLOOKUP(E206,COSTS_Giant[#All],3),\"/\")","v":"/"},0,{"$f":"IF(G$201=\"Error\",\"Error\",IF(G206<>\"/\",D206*G206,0))","v":0},4,{"$f":"IF(Paramètres!AT9=0,\"\",Paramètres!AT9)","v":""},0,"/",{"$f":"IF(P$201=\"Error\",\"Error\",IF(AND($N$201<>\"/\",$N$201>'Paramètres - Admin'!$A5),'Paramètres - Admin'!$A6,\"/\"))","v":"/"},{"$f":"IF(N206<>\"/\",VLOOKUP(N206,COSTS_Goblin[#All],2),\"/\")","v":"/"},{"$f":"IF(N206<>\"/\",VLOOKUP(N206,COSTS_Goblin[#All],3),\"/\")","v":"/"},0,0,"P.E.K.K.A",null,null,"Max","Max +",null,"Actuel","À Faire","Améliorations"]
[5,{"$f":"IF(Paramètres!AS10=0,\"\",Paramètres!AS10)","v":""},0,"/",{"$f":"IF(G$201=\"Error\",\"Error\",IF(AND($E$201<>\"/\",$E$201>'Paramètres - Admin'!$A6),'Paramètres - Admin'!$A7,\"/\"))","v":"/"},{"$f":"IF(E207<>\"/\",VLOOKUP(E207,COSTS_Giant[#All],2),\"/\")","v":"/"},{"$f":"IF(E207<>\"/\",VLOOKUP(E207,COSTS_Giant[#All],3),\"/\")","v":"/"},0,0,5,{"$f":"IF(Paramètres!AT10=0,\"\",Paramètres!AT10)","v":""},0,"/",{"$f":"IF(P$201=\"Error\",\"Error\",IF(AND($N$201<>\"/\",$N$201>'Paramètres - Admin'!$A6),'Paramètres - Admin'!$A7,\"/\"))","v":"/"},{"$f":"IF(N207<>\"/\",VLOOKUP(N207,COSTS_Goblin[#All],2),\"/\")","v":"/"},{"$f":"IF(N207<>\"/\",VLOOKUP(N207,COSTS_Goblin[#All],3),\"/\")","v":"/"},0,0,null,null,null,{"$f":"VLOOKUP($A$2,AVAILABLE_Upgrades_Normal_Troops[#All],MATCH(S206,AVAILABLE_Upgrades_Normal_Troops[#Headers],0))","v":0},{"$f":"VLOOKUP(IF(ISERROR(LOOKUP(MATCH(1,Paramètres!$K$6:$K$45,0),Paramètres!$A$6:$A$45)),0,LOOKUP(MATCH(1,Paramètres!$K$6:$K$45,0),Paramètres!$A$6:$A$45)),AVAILABLE_Upgrades_Normal_Troops[#All],MATCH(S206,AVAILABLE_Upgrades_Normal_Troops[#Headers],0)+1)","v":0},null,{"$f":"IF(SUM(T209:T213)>V207,\"Error\",SUM(T209:T213))","v":0},{"$f":"IF(Y$207=\"Error\",\"Error\",V207-Y207)","v":0},{"$f":"IF(Y$207=\"Error\",\"Error\",SUM(V209:V213))","v":0}]
[6,{"$f":"IF(Paramètres!AS11=0,\"\",Paramètres!AS11)","v":""},0,"/",{"$f":"IF(G$201=\"Error\",\"Error\",IF(AND($E$201<>\"/\",$E$201>'Paramètres - Admin'!$A7),'Paramètres - Admin'!$A8,\"/\"))","v":"/"},{"$f":"IF(E208<>\"/\",VLOOKUP(E208,COSTS_Giant[#All],2),\"/\")","v":"/"},{"$f":"IF(E208<>\"/\",VLOOKUP(E208,COSTS_Giant[#All],3),\"/\")","v":"/"},{"$f":"IF(G$201=\"Error\",\"Error\",IF(F208<>\"/\",D208*F208,0))","v":0},0,6,{"$f":"IF(Paramètres!AT11=0,\"\",Paramètres!AT11)","v":""},0,"/",{"$f":"IF(P$201=\"Error\",\"Error\",IF(AND($N$201<>\"/\",$N$201>'Paramètres - Admin'!$A7),'Paramètres - Admin'!$A8,\"/\"))","v":"/"},{"$f":"IF(N208<>\"/\",VLOOKUP(N208,COSTS_Goblin[#All],2),\"/\")","v":"/"},{"$f":"IF(N208<>\"/\",VLOOKUP(N208,COSTS_Goblin[#All],3),\"/\")","v":"/"},0,0,"+","NB",null,"NB","+","Coût","Temps","Coût Total","Temps Total"]
[7,{"$f":"IF(Paramètres!AS12=0,\"\",Paramètres!AS12)","v":""},0,"/",{"$f":"IF(G$201=\"Error\",\"Error\",IF(AND($E$201<>\"/\",$E$201>'Paramètres - Admin'!$A8),'Paramètres - Admin'!$A9,\"/\"))","v":"/"},{"$f":"IF(E209<>\"/\",VLOOKUP(E209,COSTS_Giant[#All],2),\"/\")","v":"/"},{"$f":"IF(E209<>\"/\",VLOOKUP(E209,COSTS_Giant[#All],3),\"/\")","v":"/"},0,0,7,{"$f":"IF(Paramètres!AT12=0,\"\",Paramètres!AT12)","v":""},0,"/",{"$f":"IF(P$201=\"Error\",\"Error\",IF(AND($N$201<>\"/\",$N$201>'Paramètres - Admin'!$A8),'Paramètres - Admin'!$A9,\"/\"))","v":"/"},{"$f":"IF(N209<>\"/\",VLOOKUP(N209,COSTS_Goblin[#All],2),\"/\")","v":"/"},{"$f":"IF(N209<>\"/\",VLOOKUP(N209,COSTS_Goblin[#All],3),\"/\")","v":"/"},0,0,1,{"$f":"IF(Paramètres!AZ6=0,\"\",Paramètres!AZ6)","v":""},{"$f":"IF(U208<>0,U208+IF(AND(T208<>\"\",S208<W$207),T208,0),IF(AND(T208<>\"\",S208<W$207),T208,0))","v":0},{"$f":"IF(W209<>\"/\",IF(Y$207=\"Error\",\"Error\",$Z$207+U209),\"/\")","v":"/"},{"$f":"IF(Y$207=\"Error\",\"Error\",IF(AND($W$207<>\"/\",$W$207>'Paramètres - Admin'!$A2),'Paramètres - Admin'!$A3,\"/\"))","v":"/"},{"$f":"IF(W209<>\"/\",VLOOKUP(W209,COSTS_PEKKA[#All],2),\"/\")","v":"/"},{"$f":"IF(W209<>\"/\",VLOOKUP(W209,COSTS_PEKKA[#All],3),\"/\")","v":"/"},{"$f":"IF(Y$207=\"Error\",\"Error\",IF(X209<>\"/\",V209*X209,0))","v":0},{"$f":"IF(Y$207=\"Error\",\"Error\",IF(Y209<>\"/\",V209*Y209,0))","v":0}]
[8,{"$f":"IF(Paramètres!AS13=0,\"\",Paramètres!AS13)","v":""},0,{"$f":"IF(E210<>\"/\",IF(G$201=\"Error\",\"Error\",$H$201+C210),\"/\")","v":"/"},{"$f":"IF(G$201=\"Error\",\"Error\",IF(AND($E$201<>\"/\",$E$201>'Paramètres - Admin'!$A9),'Paramètres - Admin'!$A10,\"/\"))","v":"/"},{"$f":"IF(E210<>\"/\",VLOOKUP(E210,COSTS_Giant[#All],2),\"/\")","v":"/"},{"$f":"IF(E210<>\"/\",VLOOKUP(E210,COSTS_Giant[#All],3),\"/\")","v":"/"},{"$f":"IF(G$201=\"Error\",\"Error\",IF(F210<>\"/\",D210*F210,0))","v":0},{"$f":"IF(G$201=\"Error\",\"Error\",IF(G210<>\"/\",D210*G210,0))","v":0},null,null,null,null,null,null,"Total",{"$f":"IF(P$201=\"Error\",\"Error\",SUM(Q203:Q209))","v":0},{"$f":"IF(P$201=\"Error\",\"Error\",SUM(R203:R209))","v":0},2,{"$f":"IF(Paramètres!AZ7=0,\"\",Paramètres!AZ7)","v":""},{"$f":"IF(U209<>0,U209+IF(AND(T209<>\"\",S209<W$207),T209,0),IF(AND(T209<>\"\",S209<W$207),T209,0))","v":0},{"$f":"IF(W210<>\"/\",IF(Y$207=\"Error\",\"Error\",$Z$207+U210),\"/\")","v":"/"},{"$f":"IF(Y$207=\"Error\",\"Error\",IF(AND($W$207<>\"/\",$W$207>'Paramètres - Admin'!$A3),'Paramètres - Admin'!$A4,\"/\"))","v":"/"},{"$f":"IF(W210<>\"/\",VLOOKUP(W210,COSTS_PEKKA[#All],2),\"/\")","v":"/"},{"$f":"IF(W210<>\"/\",VLOOKUP(W210,COSTS_PEKKA[#All],3),\"/\")","v":"/"},{"$f":"IF(Y$207=\"Error\",\"Error\",IF(X210<>\"/\",V210*X210,0))","v":0},{"$f":"IF(Y$207=\"Error\",\"Error\",IF(Y210<>\"/\",V210*Y210,0))","v":0}]
[null,null,null,null,null,null,"Total",{"$f":"IF(G$201=\"Error\",\"Error\",SUM(H203:H210))","v":0},{"$f":"IF(G$201=\"Error\",\"Error\",SUM(I203:I209))","v":0},"Mineur",null,null,"Max","Max +",null,"Actuel","À Faire","Améliorations",3,{"$f":"IF(Paramètres!AZ8=0,\"\",Paramètres!AZ8)","v":""},{"$f":"IF(U210<>0,U210+IF(AND(T210<>\"\",S210<W$207),T210,0),IF(AND(T210<>\"\",S210<W$207),T210,0))","v":0},{"$f":"IF(W211<>\"/\",IF(Y$207=\"Error\",\"Error\",$Z$207+U211),\"/\")","v":"/"},{"$f":"IF(Y$207=\"Error\",\"Error\",IF(AND($W$207<>\"/\",$W$207>'Paramètres - Admin'!$A4),'Paramètres - Admin'!$A5,\"/\"))","v":"/"},{"$f":"IF(W211<>\"/\",VLOOKUP(W211,COSTS_PEKKA[#All],2),\"/\")","v":"/"},{"$f":"IF(W211<>\"/\",VLOOKUP(W211,COSTS_PEKKA[#All],3),\"/\")","v":"/"},{"$f":"IF(Y$207=\"Error\",\"Error\",IF(X211<>\"/\",V211*X211,0))","v":0},{"$f":"IF(Y$207=\"Error\",\"Error\",IF(Y211<>\"/\",V211*Y211,0))","v":0}]
["Bébé dragon",null,null,"Max","Max +",null,"Actuel","À Faire","Améliorations",null,null,null,{"$f":"VLOOKUP($A$2,AVAILABLE_Upgrades_Normal_Troops[#All],MATCH(J211,AVAILABLE_Upgrades_Normal_Troops[#Headers],0))","v":0},{"$f":"VLOOKUP(IF(ISERROR(LOOKUP(MATCH(1,Paramètres!$K$6:$K$45,0),Paramètres!$A$6:$A$45)),0,LOOKUP(MATCH(1,Paramètres!$K$6:$K$45,0),Paramètres!$A$6:$A$45)),AVAILABLE_Upgrades_Normal_Troops[#All],MATCH(J211,AVAILABLE_Upgrades_Normal_Troops[#Headers],0)+1)","v":0},null,{"$f":"IF(SUM(K214:K217)>M212,\"Error\",SUM(K214:K217))","v":0},{"$f":"IF(P$212=\"Error\",\"Error\",M212-P212)","v":0},{"$f":"IF(P$213=\"Error\",\"Error\",SUM(M214:M217))","v":0},4,{"$f":"IF(Paramètres!AZ9=0,\"\",Paramètres!AZ9)","v":""},{"$f":"IF(U211<>0,U211+IF(AND(T211<>\"\",S211<W$207),T211,0),IF(AND(T211<>\"\",S211<W$207),T211,0))","v":0},{"$f":"IF(W212<>\"/\",IF(Y$207=\"Error\",\"Error\",$Z$207+U212),\"/\")","v":"/"},{"$f":"IF(Y$207=\"Error\",\"Error\",IF(AND($W$207<>\"/\",$W$207>'Paramètres - Admin'!$A5),'Paramètres - Admin'!$A6,\"/\"))","v":"/"},{"$f":"IF(W212<>\"/\",VLOOKUP(W212,COSTS_PEKKA[#All],2),\"/\")","v":"/"},{"$f":"IF(W212<>\"/\",VLOOKUP(W212,COSTS_PEKKA[#All],3),\"/\")","v":"/"},{"$f":"IF(Y$207=\"Error\",\"Error\",IF(X212<>\"/\",V212*X212,0))","v":0},{"$f":"IF(Y$207=\"Error\",\"Error\",IF(Y212<>\"/\",V212*Y212,0))","v":0}]
[null,null,null,{"$f":"VLOOKUP($A$2,AVAILABLE_Upgrades_Normal_Troops[#All],MATCH(A212,AVAILABLE_Upgrades_Normal_Troops[#Headers],0))","v":0},{"$f":"VLOOKUP(IF(ISERROR(LOOKUP(MATCH(1,Paramètres!$K$6:$K$45,0),Paramètres!$A$6:$A$45)),0,LOOKUP(MATCH(1,Paramètres!$K$6:$K$45,0),Paramètres!$A$6:$A$45)),AVAILABLE_Upgrades_Normal_Troops[#All],MATCH(A212,AVAILABLE_Upgrades_Normal_Troops[#Headers],0)+1)","v":0},null,{"$f":"IF(SUM(B215:B219)>D213,\"Error\",SUM(B215:B219))","v":0},{"$f":"IF(G$213=\"Error\",\"Error\",D213-G213)","v":0},{"$f":"IF(G$213=\"Error\",\"Error\",SUM(D215:D219))","v":0},"+","NB",null,"NB","+","Coût","Temps","Coût Total","Temps Total",5,{"$f":"IF(Paramètres!AZ10=0,\"\",Paramètres!AZ10)","v":""},{"$f":"IF(U212<>0,U212+IF(AND(T212<>\"\",S212<W$207),T212,0),IF(AND(T212<>\"\",S212<W$207),T212,0))","v":0},{"$f":"IF(W213<>\"/\",IF(Y$207=\"Error\",\"Error\",$Z$207+U213),\"/\")","v":"/"},{"$f":"IF(Y$207=\"Error\",\"Error\",IF(AND($W$207<>\"/\",$W$207>'Paramètres - Admin'!$A6),'Paramètres - Admin'!$A7,\"/\"))","v":"/"},{"$f":"IF(W213<>\"/\",VLOOKUP(W213,COSTS_PEKKA[#All],2),\"/\")","v":"/"},{"$f":"IF(W213<>\"/\",VLOOKUP(W213,COSTS_PEKKA[#All],3),\"/\")","v":"/"},{"$f":"IF(Y$207=\"Error\",\"Error\",IF(X213<>\"/\",V213*X213,0))","v":0},{"$f":"IF(Y$207=\"Error\",\"Error\",IF(Y213<>\"/\",V213*Y213,0))","v":0}]
["+","NB",null,"NB","+","Coût","Temps","Coût Total","Temps Total",1,{"$f":"IF(Paramètres!BB6=0,\"\",Paramètres!BB6)","v":""},{"$f":"IF(L213<>0,L213+IF(AND(K213<>\"\",J213<N$212),K213,0),IF(AND(K213<>\"\",J213<N$212),K213,0))","v":0},{"$f":"IF(N214<>\"/\",IF(P$212=\"Error\",\"Error\",$Q$212+L214),\"/\")","v":"/"},{"$f":"IF(P$213=\"Error\",\"Error\",IF(AND($E$213<>\"/\",$E$213>'Paramètres - Admin'!$A2),'Paramètres - Admin'!$A3,\"/\"))","v":"/"},{"$f":"IF(N214<>\"/\",VLOOKUP(N214,COSTS_Miner[#All],2),\"/\")","v":"/"},{"$f":"IF(N214<>\"/\",VLOOKUP(N214,COSTS_Miner[#All],3),\"/\")","v":"/"},{"$f":"IF(P$212=\"Error\",\"Error\",IF(O214<>\"/\",M214*O214,0))","v":0},{"$f":"IF(P$212=\"Error\",\"Error\",IF(P214<>\"/\",M214*P214,0))","v":0},null,null,null,null,null,null,"Total",{"$f":"IF(Y$207=\"Error\",\"Error\",SUM(Z209:Z213))","v":0},{"$f":"IF(Y$207=\"Error\",\"Error\",SUM(AA209:AA213))","v":0}]
[1,{"$f":"IF(Paramètres!BA6=0,\"\",Paramètres!BA6)","v":""},{"$f":"IF(C214<>0,C214+IF(AND(B214<>\"\",A214<E$213),B214,0),IF(AND(B214<>\"\",A214<E$213),B214,0))","v":0},{"$f":"IF(E215<>\"/\",IF(G$213=\"Error\",\"Error\",$H$213+C215),\"/\")","v":"/"},{"$f":"IF(G$213=\"Error\",\"Error\",IF(AND($E$213<>\"/\",$E$213>'Paramètres - Admin'!$A2),'Paramètres - Admin'!$A3,\"/\"))","v":"/"},{"$f":"IF(E215<>\"/\",VLOOKUP(E215,COSTS_Baby_Dragon[#All],2),\"/\")","v":"/"},{"$f":"IF(E215<>\"/\",VLOOKUP(E215,COSTS_Baby_Dragon[#All],3),\"/\")","v":"/"},{"$f":"IF(G$213=\"Error\",\"Error\",IF(F215<>\"/\",D215*F215,0))","v":0},{"$f":"IF(G$213=\"Error\",\"Error\",IF(G215<>\"/\",D215*G215,0))","v":0},2,{"$f":"IF(Paramètres!BB7=0,\"\",Paramètres!BB7)","v":""},{"$f":"IF(L214<>0,L214+IF(AND(K214<>\"\",J214<N$212),K214,0),IF(AND(K214<>\"\",J214<N$212),K214,0))","v":0},{"$f":"IF(N215<>\"/\",IF(P$212=\"Error\",\"Error\",$Q$212+L215),\"/\")","v":"/"},{"$f":"IF(P$213=\"Error\",\"Error\",IF(AND($E$213<>\"/\",$E$213>'Paramètres - Admin'!$A3),'Paramètres - Admin'!$A4,\"/\"))","v":"/"},{"$f":"IF(N215<>\"/\",VLOOKUP(N215,COSTS_Miner[#All],2),\"/\")","v":"/"},{"$f":"IF(N215<>\"/\",VLOOKUP(N215,COSTS_Miner[#All],3),\"/\")","v":"/"},{"$f":"IF(P$212=\"Error\",\"Error\",IF(O215<>\"/\",M215*O215,0))","v":0},{"$f":"IF(P$212=\"Error\",\"Error\",IF(P215<>\"/\",M215*P215,0))","v":0}]
[2,{"$f":"IF(Paramètres!BA7=0,\"\",Paramètres!BA7)","v":""},{"$f":"IF(C215<>0,C215+IF(AND(B215<>\"\",A215<E$213),B215,0),IF(AND(B215<>\"\",A215<E$213),B215,0))","v":0},{"$f":"IF(E216<>\"/\",IF(G$213=\"Error\",\"Error\",$H$213+C216),\"/\")","v":"/"},{"$f":"IF(G$213=\"Error\",\"Error\",IF(AND($E$213<>\"/\",$E$213>'Paramètres - Admin'!$A3),'Paramètres - Admin'!$A4,\"/\"))","v":"/"},{"$f":"IF(E216<>\"/\",VLOOKUP(E216,COSTS_Baby_Dragon[#All],2),\"/\")","v":"/"},{"$f":"IF(E216<>\"/\",VLOOKUP(E216,COSTS_Baby_Dragon[#All],3),\"/\")","v":"/"},{"$f":"IF(G$213=\"Error\",\"Error\",IF(F216<>\"/\",D216*F216,0))","v":0},{"$f":"IF(G$213=\"Error\",\"Error\",IF(G216<>\"/\",D216*G216,0))","v":0},3,{"$f":"IF(Paramètres!BB8=0,\"\",Paramètres!BB8)","v":""},{"$f":"IF(L215<>0,L215+IF(AND(K215<>\"\",J215<N$212),K215,0),IF(AND(K215<>\"\",J215<N$212),K215,0))","v":0},{"$f":"IF(N216<>\"/\",IF(P$212=\"Error\",\"Error\",$Q$212+L216),\"/\")","v":"/"},{"$f":"IF(P$213=\"Error\",\"Error\",IF(AND($E$213<>\"/\",$E$213>'Paramètres - Admin'!$A4),'Paramètres - Admin'!$A5,\"/\"))","v":"/"},{"$f":"IF(N216<>\"/\",VLOOKUP(N216,COSTS_Miner[#All],2),\"/\")","v":"/"},{"$f":"IF(N216<>\"/\",VLOOKUP(N216,COSTS_Miner[#All],3),\"/\")","v":"/"},{"$f":"IF(P$212=\"Error\",\"Error\",IF(O216<>\"/\",M216*O216,0))","v":0},{"$f":"IF(P$212=\"Error\",\"Error\",IF(P216<>\"/\",M216*P216,0))","v":0}]
[3,{"$f":"IF(Paramètres!BA8=0,\"\",Paramètres!BA8)","v":""},{"$f":"IF(C216<>0,C216+IF(AND(B216<>\"\",A216<E$213),B216,0),IF(AND(B216<>\"\",A216<E$213),B216,0))","v":0},{"$f":"IF(E217<>\"/\",IF(G$213=\"Error\",\"Error\",$H$213+C217),\"/\")","v":"/"},{"$f":"IF(G$213=\"Error\",\"Error\",IF(AND($E$213<>\"/\",$E$213>'Paramètres - Admin'!$A4),'Paramètres - Admin'!$A5,\"/\"))","v":"/"},{"$f":"IF(E217<>\"/\",VLOOKUP(E217,COSTS_Baby_Dragon[#All],2),\"/\")","v":"/"},{"$f":"IF(E217<>\"/\",VLOOKUP(E217,COSTS_Baby_Dragon[#All],3),\"/\")","v":"/"},{"$f":"IF(G$213=\"Error\",\"Error\",IF(F217<>\"/\",D217*F217,0))","v":0},{"$f":"IF(G$213=\"Error\",\"Error\",IF(G217<>\"/\",D217*G217,0))","v":0},4,{"$f":"IF(Paramètres!BB9=0,\"\",Paramètres!BB9)","v":""},{"$f":"IF(L216<>0,L216+IF(AND(K216<>\"\",J216<N$212),K216,0),IF(AND(K216<>\"\",J216<N$212),K216,0))","v":0},{"$f":"IF(N217<>\"/\",IF(P$212=\"Error\",\"Error\",$Q$212+L217),\"/\")","v":"/"},{"$f":"IF(P$213=\"Error\",\"Error\",IF(AND($E$213<>\"/\",$E$213>'Paramètres - Admin'!$A5),'Paramètres - Admin'!$A6,\"/\"))","v":"/"},{"$f":"IF(N217<>\"/\",VLOOKUP(N217,COSTS_Miner[#All],2),\"/\")","v":"/"},{"$f":"IF(N217<>\"/\",VLOOKUP(N217,COSTS_Miner[#All],3),\"/\")","v":"/"},{"$f":"IF(P$212=\"Error\",\"Error\",IF(O217<>\"/\",M217*O217,0))","v":0},{"$f":"IF(P$212=\"Error\",\"Error\",IF(P217<>\"/\",M217*P217,0))","v":0}]
[4,{"$f":"IF(Paramètres!BA9=0,\"\",Paramètres!BA9)","v":""},{"$f":"IF(C217<>0,C217+IF(AND(B217<>\"\",A217<E$213),B217,0),IF(AND(B217<>\"\",A217<E$213),B217,0))","v":0},{"$f":"IF(E218<>\"/\",IF(G$213=\"Error\",\"Error\",$H$213+C218),\"/\")","v":"/"},{"$f":"IF(G$213=\"Error\",\"Error\",IF(AND($E$213<>\"/\",$E$213>'Paramètres - Admin'!$A5),'Paramètres - Admin'!$A6,\"/\"))","v":"/"},{"$f":"IF(E218<>\"/\",VLOOKUP(E218,COSTS_Baby_Dragon[#All],2),\"/\")","v":"/"},{"$f":"IF(E218<>\"/\",VLOOKUP(E218,COSTS_Baby_Dragon[#All],3),\"/\")","v":"/"},{"$f":"IF(G$213=\"Error\",\"Error\",IF(F218<>\"/\",D218*F218,0))","v":0},{"$f":"IF(G$213=\"Error\",\"Error\",IF(G218<>\"/\",D218*G218,0))","v":0},null,null,null,null,null,null,"Total",{"$f":"IF(AS$179=\"Error\",\"Error\",SUM(Q214:Q217))","v":0},{"$f":"IF(AS$179=\"Error\",\"Error\",SUM(R214:R217))","v":0}]
[5,{"$f":"IF(Paramètres!BA10=0,\"\",Paramètres!BA10)","v":""},{"$f":"IF(C218<>0,C218+IF(AND(B218<>\"\",A218<E$213),B218,0),IF(AND(B218<>\"\",A218<E$213),B218,0))","v":0},{"$f":"IF(E219<>\"/\",IF(G$213=\"Error\",\"Error\",$H$213+C219),\"/\")","v":"/"},{"$f":"IF(G$213=\"Error\",\"Error\",IF(AND($E$213<>\"/\",$E$213>'Paramètres - Admin'!$A6),'Paramètres - Admin'!$A7,\"/\"))","v":"/"},{"$f":"IF(E219<>\"/\",VLOOKUP(E219,COSTS_Baby_Dragon[#All],2),\"/\")","v":"/"},{"$f":"IF(E219<>\"/\",VLOOKUP(E219,COSTS_Baby_Dragon[#All],3),\"/\")","v":"/"},{"$f":"IF(G$213=\"Error\",\"Error\",IF(F219<>\"/\",D219*F219,0))","v":0},{"$f":"IF(G$213=\"Error\",\"Error\",IF(G219<>\"/\",D219*G219,0))","v":0}]
[null,null,null,null,null,null,"Total",{"$f":"IF(AJ$179=\"Error\",\"Error\",SUM(H215:H219))","v":0},{"$f":"IF(AJ$179=\"Error\",\"Error\",SUM(I215:I218))","v":0}]
[]
[]
["Améliorations de Sorts"]
["Sort de Poison",null,null,"Max","Max +",null,"Actuel","À Faire","Améliorations","Sort de Hâte",null,null,"Max","Max +",null,"Actuel","À Faire","Améliorations","Sort de Séisme",null,null,"Max","Max +",null,"Actuel","À Faire","Améliorations"]
[null,null,null,{"$f":"VLOOKUP($A$2,AVAILABLE_Upgrades_Dark_Spells[#All],MATCH(A224,AVAILABLE_Upgrades_Dark_Spells[#Headers],0))","v":0},{"$f":"VLOOKUP(IF(ISERROR(LOOKUP(MATCH(1,Paramètres!$K$6:$K$45,0),Paramètres!$A$6:$A$45)),0,LOOKUP(MATCH(1,Paramètres!$K$6:$K$45,0),Paramètres!$A$6:$A$45)),AVAILABLE_Upgrades_Dark_Spells[#All],MATCH(A224,AVAILABLE_Upgrades_Dark_Spells[#Headers],0)+1)","v":0},null,{"$f":"IF(SUM(B227:B231)>D225,\"Error\",SUM(B227:B231))","v":0},{"$f":"IF(G$225=\"Error\",\"Error\",D225-G225)","v":0},{"$f":"IF(G$225=\"Error\",\"Error\",SUM(D227:D231))","v":0},null,null,null,{"$f":"VLOOKUP($A$2,AVAILABLE_Upgrades_Dark_Spells[#All],MATCH(J224,AVAILABLE_Upgrades_Dark_Spells[#Headers],0))","v":0},{"$f":"VLOOKUP(IF(ISERROR(LOOKUP(MATCH(1,Paramètres!$K$6:$K$45,0),Paramètres!$A$6:$A$45)),0,LOOKUP(MATCH(1,Paramètres!$K$6:$K$45,0),Paramètres!$A$6:$A$45)),AVAILABLE_Upgrades_Dark_Spells[#All],MATCH(J224,AVAILABLE_Upgrades_Dark_Spells[#Headers],0)+1)","v":0},null,{"$f":"IF(SUM(K227:K230)>M225,\"Error\",SUM(K227:K230))","v":0},{"$f":"IF(P$225=\"Error\",\"Error\",M225-P225)","v":0},{"$f":"IF(P$225=\"Error\",\"Error\",SUM(M227:M230))","v":0},null,null,null,{"$f":"VLOOKUP($A$2,AVAILABLE_Upgrades_Dark_Spells[#All],MATCH(S224,AVAILABLE_Upgrades_Dark_Spells[#Headers],0))","v":0},{"$f":"VLOOKUP(IF(ISERROR(LOOKUP(MATCH(1,Paramètres!$K$6:$K$45,0),Paramètres!$A$6:$A$45)),0,LOOKUP(MATCH(1,Paramètres!$K$6:$K$45,0),Paramètres!$A$6:$A$45)),AVAILABLE_Upgrades_Dark_Spells[#All],MATCH(S224,AVAILABLE_Upgrades_Dark_Spells[#Headers],0)+1)","v":0},null,{"$f":"IF(SUM(T227:T230)>V225,\"Error\",SUM(T227:T230))","v":0},{"$f":"IF(Y$225=\"Error\",\"Error\",V225-Y225)","v":0},{"$f":"IF(Y$225=\"Error\",\"Error\",SUM(V227:V230))","v":0}]
["+","NB",null,"NB","+","Coût","Temps","Coût Total","Temps Total","+","NB",null,"NB","+","Coût","Temps","Coût Total","Temps Total","+","NB",null,"NB","+","Coût","Temps","Coût Total","Temps Total"]
[1,{"$f":"IF(Paramètres!AM6=0,\"\",Paramètres!AM6)","v":""},{"$f":"IF(C226<>0,C226+IF(AND(B226<>\"\",A226<E$225),B226,0),IF(AND(B226<>\"\",A226<E$225),B226,0))","v":0},{"$f":"IF(E227<>\"/\",IF(G$225=\"Error\",\"Error\",$H$225+C227),\"/\")","v":"/"},{"$f":"IF(G$225=\"Error\",\"Error\",IF(AND($E$225<>\"/\",$E$225>'Paramètres - Admin'!$A2),'Paramètres - Admin'!$A3,\"/\"))","v":"/"},{"$f":"IF(E227<>\"/\",VLOOKUP(E227,COSTS_Spell_Poison[#All],2),\"/\")","v":"/"},{"$f":"IF(E227<>\"/\",VLOOKUP(E227,COSTS_Spell_Poison[#All],3),\"/\")","v":"/"},{"$f":"IF(G$225=\"Error\",\"Error\",IF(F227<>\"/\",D227*F227,0))","v":0},{"$f":"IF(G$225=\"Error\",\"Error\",IF(G227<>\"/\",D227*G227,0))","v":0},1,{"$f":"IF(Paramètres!AO6=0,\"\",Paramètres!AO6)","v":""},{"$f":"IF(L226<>0,L226+IF(AND(K226<>\"\",J226<N$225),K226,0),IF(AND(K226<>\"\",J226<N$225),K226,0))","v":0},{"$f":"IF(N227<>\"/\",IF(P$225=\"Error\",\"Error\",$Q$225+L227),\"/\")","v":"/"},{"$f":"IF(P$225=\"Error\",\"Error\",IF(AND($N$225<>\"/\",$N$225>'Paramètres - Admin'!$A2),'Paramètres - Admin'!$A3,\"/\"))","v":"/"},{"$f":"IF(N227<>\"/\",VLOOKUP(N227,COSTS_Spell_Haste[#All],2),\"/\")","v":"/"},{"$f":"IF(N227<>\"/\",VLOOKUP(N227,COSTS_Spell_Haste[#All],3),\"/\")","v":"/"},{"$f":"IF(P$225=\"Error\",\"Error\",IF(O227<>\"/\",M227*O227,0))","v":0},{"$f":"IF(P$225=\"Error\",\"Error\",IF(P227<>\"/\",M227*P227,0))","v":0},1,{"$f":"IF(Paramètres!AN6=0,\"\",Paramètres!AN6)","v":""},{"$f":"IF(U226<>0,U226+IF(AND(T226<>\"\",S226<W$225),T226,0),IF(AND(T226<>\"\",S226<W$225),T226,0))","v":0},{"$f":"IF(W227<>\"/\",IF(Y$225=\"Error\",\"Error\",$Z$225+U227),\"/\")","v":"/"},{"$f":"IF(Y$225=\"Error\",\"Error\",IF(AND($W$225<>\"/\",$W$225>'Paramètres - Admin'!$A2),'Paramètres - Admin'!$A3,\"/\"))","v":"/"},{"$f":"IF(W227<>\"/\",VLOOKUP(W227,COSTS_Spell_Earthquake[#All],2),\"/\")","v":"/"},{"$f":"IF(W227<>\"/\",VLOOKUP(W227,COSTS_Spell_Earthquake[#All],3),\"/\")","v":"/"},{"$f":"IF(Y$225=\"Error\",\"Error\",IF(X227<>\"/\",V227*X227,0))","v":0},{"$f":"IF(Y$225=\"Error\",\"Error\",IF(Y227<>\"/\",V227*Y227,0))","v":0}]
[2,{"$f":"IF(Paramètres!AM7=0,\"\",Paramètres!AM7)","v":""},{"$f":"IF(C227<>0,C227+IF(AND(B227<>\"\",A227<E$225),B227,0),IF(AND(B227<>\"\",A227<E$225),B227,0))","v":0},{"$f":"IF(E228<>\"/\",IF(G$225=\"Error\",\"Error\",$H$225+C228),\"/\")","v":"/"},{"$f":"IF(G$225=\"Error\",\"Error\",IF(AND($E$225<>\"/\",$E$225>'Paramètres - Admin'!$A3),'Paramètres - Admin'!$A4,\"/\"))","v":"/"},{"$f":"IF(E228<>\"/\",VLOOKUP(E228,COSTS_Spell_Poison[#All],2),\"/\")","v":"/"},{"$f":"IF(E228<>\"/\",VLOOKUP(E228,COSTS_Spell_Poison[#All],3),\"/\")","v":"/"},{"$f":"IF(G$156=\"Error\",\"Error\",IF(F228<>\"/\",D228*F228,0))","v":0},{"$f":"IF(G$156=\"Error\",\"Error\",IF(G228<>\"/\",D228*G228,0))","v":0},2,{"$f":"IF(Paramètres!AO7=0,\"\",Paramètres!AO7)","v":""},{"$f":"IF(L227<>0,L227+IF(AND(K227<>\"\",J227<N$225),K227,0),IF(AND(K227<>\"\",J227<N$225),K227,0))","v":0},{"$f":"IF(N228<>\"/\",IF(P$225=\"Error\",\"Error\",$Q$225+L228),\"/\")","v":"/"},{"$f":"IF(P$225=\"Error\",\"Error\",IF(AND($N$225<>\"/\",$N$225>'Paramètres - Admin'!$A3),'Paramètres - Admin'!$A4,\"/\"))","v":"/"},{"$f":"IF(N228<>\"/\",VLOOKUP(N228,COSTS_Spell_Haste[#All],2),\"/\")","v":"/"},{"$f":"IF(N228<>\"/\",VLOOKUP(N228,COSTS_Spell_Haste[#All],3),\"/\")","v":"/"},{"$f":"IF(P$225=\"Error\",\"Error\",IF(O228<>\"/\",M228*O228,0))","v":0},{"$f":"IF(P$225=\"Error\",\"Error\",IF(P228<>\"/\",M228*P228,0))","v":0},2,{"$f":"IF(Paramètres!AN7=0,\"\",Paramètres!AN7)","v":""},{"$f":"IF(U227<>0,U227+IF(AND(T227<>\"\",S227<W$225),T227,0),IF(AND(T227<>\"\",S227<W$225),T227,0))","v":0},{"$f":"IF(W228<>\"/\",IF(Y$225=\"Error\",\"Error\",$Z$225+U228),\"/\")","v":"/"},{"$f":"IF(Y$225=\"Error\",\"Error\",IF(AND($W$225<>\"/\",$W$225>'Paramètres - Admin'!$A3),'Paramètres - Admin'!$A4,\"/\"))","v":"/"},{"$f":"IF(W228<>\"/\",VLOOKUP(W228,COSTS_Spell_Earthquake[#All],2),\"/\")","v":"/"},{"$f":"IF(W228<>\"/\",VLOOKUP(W228,COSTS_Spell_Earthquake[#All],3),\"/\")","v":"/"},{"$f":"IF(P$166=\"Error\",\"Error\",IF(X228<>\"/\",V228*X228,0))","v":0},{"$f":"IF(P$166=\"Error\",\"Error\",IF(Y228<>\"/\",V228*Y228,0))","v":0}]
[3,{"$f":"IF(Paramètres!AM8=0,\"\",Paramètres!AM8)","v":""},0,{"$f":"IF(E229<>\"/\",IF(G$225=\"Error\",\"Error\",$H$225+C229),\"/\")","v":"/"},{"$f":"IF(G$225=\"Error\",\"Error\",IF(AND($E$225<>\"/\",$E$225>'Paramètres - Admin'!$A4),'Paramètres - Admin'!$A5,\"/\"))","v":"/"},{"$f":"IF(E229<>\"/\",VLOOKUP(E229,COSTS_Spell_Poison[#All],2),\"/\")","v":"/"},{"$f":"IF(E229<>\"/\",VLOOKUP(E229,COSTS_Spell_Poison[#All],3),\"/\")","v":"/"},{"$f":"IF(G$156=\"Error\",\"Error\",IF(F229<>\"/\",D229*F229,0))","v":0},{"$f":"IF(G$156=\"Error\",\"Error\",IF(G229<>\"/\",D229*G229,0))","v":0},3,{"$f":"IF(Paramètres!AO8=0,\"\",Paramètres!AO8)","v":""},{"$f":"IF(L228<>0,L228+IF(AND(K228<>\"\",J228<N$225),K228,0),IF(AND(K228<>\"\",J228<N$225),K228,0))","v":0},{"$f":"IF(N229<>\"/\",IF(P$225=\"Error\",\"Error\",$Q$225+L229),\"/\")","v":"/"},{"$f":"IF(P$225=\"Error\",\"Error\",IF(AND($N$225<>\"/\",$N$225>'Paramètres - Admin'!$A4),'Paramètres - Admin'!$A5,\"/\"))","v":"/"},{"$f":"IF(N229<>\"/\",VLOOKUP(N229,COSTS_Spell_Haste[#All],2),\"/\")","v":"/"},{"$f":"IF(N229<>\"/\",VLOOKUP(N229,COSTS_Spell_Haste[#All],3),\"/\")","v":"/"},{"$f":"IF(P$225=\"Error\",\"Error\",IF(O229<>\"/\",M229*O229,0))","v":0},{"$f":"IF(P$225=\"Error\",\"Error\",IF(P229<>\"/\",M229*P229,0))","v":0},3,{"$f":"IF(Paramètres!AN8=0,\"\",Paramètres!AN8)","v":""},{"$f":"IF(U228<>0,U228+IF(AND(T228<>\"\",S228<W$225),T228,0),IF(AND(T228<>\"\",S228<W$225),T228,0))","v":0},{"$f":"IF(W229<>\"/\",IF(Y$225=\"Error\",\"Error\",$Z$225+U229),\"/\")","v":"/"},{"$f":"IF(Y$225=\"Error\",\"Error\",IF(AND($W$225<>\"/\",$W$225>'Paramètres - Admin'!$A4),'Paramètres - Admin'!$A5,\"/\"))","v":"/"},{"$f":"IF(W229<>\"/\",VLOOKUP(W229,COSTS_Spell_Earthquake[#All],2),\"/\")","v":"/"},{"$f":"IF(W229<>\"/\",VLOOKUP(W229,COSTS_Spell_Earthquake[#All],3),\"/\")","v":"/"},{"$f":"IF(P$166=\"Error\",\"Error\",IF(X229<>\"/\",V229*X229,0))","v":0},{"$f":"IF(P$166=\"Error\",\"Error\",IF(Y229<>\"/\",V229*Y229,0))","v":0}]
[4,{"$f":"IF(Paramètres!AM9=0,\"\",Paramètres!AM9)","v":""},0,{"$f":"IF(E230<>\"/\",IF(G$225=\"Error\",\"Error\",$H$225+C230),\"/\")","v":"/"},{"$f":"IF(G$225=\"Error\",\"Error\",IF(AND($E$225<>\"/\",$E$225>'Paramètres - Admin'!$A5),'Paramètres - Admin'!$A6,\"/\"))","v":"/"},{"$f":"IF(E230<>\"/\",VLOOKUP(E230,COSTS_Spell_Poison[#All],2),\"/\")","v":"/"},{"$f":"IF(E230<>\"/\",VLOOKUP(E230,COSTS_Spell_Poison[#All],3),\"/\")","v":"/"},{"$f":"IF(G$156=\"Error\",\"Error\",IF(F230<>\"/\",D230*F230,0))","v":0},{"$f":"IF(G$156=\"Error\",\"Error\",IF(G230<>\"/\",D230*G230,0))","v":0},4,{"$f":"IF(Paramètres!AO9=0,\"\",Paramètres!AO9)","v":""},{"$f":"IF(L229<>0,L229+IF(AND(K229<>\"\",J229<N$225),K229,0),IF(AND(K229<>\"\",J229<N$225),K229,0))","v":0},{"$f":"IF(N230<>\"/\",IF(P$225=\"Error\",\"Error\",$Q$225+L230),\"/\")","v":"/"},{"$f":"IF(P$225=\"Error\",\"Error\",IF(AND($N$225<>\"/\",$N$225>'Paramètres - Admin'!$A5),'Paramètres - Admin'!$A6,\"/\"))","v":"/"},{"$f":"IF(N230<>\"/\",VLOOKUP(N230,COSTS_Spell_Haste[#All],2),\"/\")","v":"/"},{"$f":"IF(N230<>\"/\",VLOOKUP(N230,COSTS_Spell_Haste[#All],3),\"/\")","v":"/"},{"$f":"IF(P$225=\"Error\",\"Error\",IF(O230<>\"/\",M230*O230,0))","v":0},{"$f":"IF(P$225=\"Error\",\"Error\",IF(P230<>\"/\",M230*P230,0))","v":0},4,{"$f":"IF(Paramètres!AN9=0,\"\",Paramètres!AN9)","v":""},{"$f":"IF(U229<>0,U229+IF(AND(T229<>\"\",S229<W$225),T229,0),IF(AND(T229<>\"\",S229<W$225),T229,0))","v":0},{"$f":"IF(W230<>\"/\",IF(Y$225=\"Error\",\"Error\",$Z$225+U230),\"/\")","v":"/"},{"$f":"IF(Y$225=\"Error\",\"Error\",IF(AND($W$225<>\"/\",$W$225>'Paramètres - Admin'!$A5),'Paramètres - Admin'!$A6,\"/\"))","v":"/"},{"$f":"IF(W230<>\"/\",VLOOKUP(W230,COSTS_Spell_Earthquake[#All],2),\"/\")","v":"/"},{"$f":"IF(W230<>\"/\",VLOOKUP(W230,COSTS_Spell_Earthquake[#All],3),\"/\")","v":"/"},{"$f":"IF(P$166=\"Error\",\"Error\",IF(X230<>\"/\",V230*X230,0))","v":0},{"$f":"IF(P$166=\"Error\",\"Error\",IF(Y230<>\"/\",V230*Y230,0))","v":0}]
[5,{"$f":"IF(Paramètres!AM10=0,\"\",Paramètres!AM10)","v":""},0,{"$f":"IF(E231<>\"/\",IF(G$225=\"Error\",\"Error\",$H$225+C231),\"/\")","v":"/"},{"$f":"IF(G$225=\"Error\",\"Error\",IF(AND($E$225<>\"/\",$E$225>'Paramètres - Admin'!$A6),'Paramètres - Admin'!$A7,\"/\"))","v":"/"},{"$f":"IF(E231<>\"/\",VLOOKUP(E231,COSTS_Spell_Poison[#All],2),\"/\")","v":"/"},{"$f":"IF(E231<>\"/\",VLOOKUP(E231,COSTS_Spell_Poison[#All],3),\"/\")","v":"/"},{"$f":"IF(G$156=\"Error\",\"Error\",IF(F231<>\"/\",D231*F231,0))","v":0},{"$f":"IF(G$156=\"Error\",\"Error\",IF(G231<>\"/\",D231*G231,0))","v":0},null,null,null,null,null,null,"Total",{"$f":"IF(P$156=\"Error\",\"Error\",SUM(Q227:Q230))","v":0},{"$f":"IF(P$156=\"Error\",\"Error\",SUM(R227:R230))","v":0},null,null,null,null,null,null,"Total",{"$f":"IF(P$166=\"Error\",\"Error\",SUM(Z227:Z230))","v":0},{"$f":"IF(P$166=\"Error\",\"Error\",SUM(AA227:AA230))","v":0}]
[null,null,null,null,null,null,"Total",{"$f":"IF(G$156=\"Error\",\"Error\",SUM(H227:H231))","v":0},{"$f":"IF(G$156=\"Error\",\"Error\",SUM(I227:I230))","v":0}]
["Sort Squelettique",null,null,"Max","Max +",null,"Actuel","À Faire","Améliorations"]
[null,null,null,{"$f":"VLOOKUP($A$2,AVAILABLE_Upgrades_Dark_Spells[#All],MATCH(A233,AVAILABLE_Upgrades_Dark_Spells[#Headers],0))","v":0},{"$f":"VLOOKUP(IF(ISERROR(LOOKUP(MATCH(1,Paramètres!$K$6:$K$45,0),Paramètres!$A$6:$A$45)),0,LOOKUP(MATCH(1,Paramètres!$K$6:$K$45,0),Paramètres!$A$6:$A$45)),AVAILABLE_Upgrades_Dark_Spells[#All],MATCH(A233,AVAILABLE_Upgrades_Dark_Spells[#Headers],0)+1)","v":0},null,{"$f":"IF(SUM(B236:B239)>D234,\"Error\",SUM(B236:B239))","v":0},{"$f":"IF(G$234=\"Error\",\"Error\",D234-G234)","v":0},{"$f":"IF(G$234=\"Error\",\"Error\",SUM(D236:D239))","v":0}]
["+","NB",null,"NB","+","Coût","Temps","Coût Total","Temps Total"]
[1,{"$f":"IF(Paramètres!AP6=0,\"\",Paramètres!AP6)","v":""},{"$f":"IF(C235<>0,C235+IF(AND(B235<>\"\",A235<E$234),B235,0),IF(AND(B235<>\"\",A235<E$234),B235,0))","v":0},{"$f":"IF(E236<>\"/\",IF(G$234=\"Error\",\"Error\",$H$234+C236),\"/\")","v":"/"},{"$f":"IF(G$234=\"Error\",\"Error\",IF(AND($E$234<>\"/\",$E$234>'Paramètres - Admin'!$A2),'Paramètres - Admin'!$A3,\"/\"))","v":"/"},{"$f":"IF(E236<>\"/\",VLOOKUP(E236,COSTS_Spell_Skeleton[#All],2),\"/\")","v":"/"},{"$f":"IF(E236<>\"/\",VLOOKUP(E236,COSTS_Spell_Skeleton[#All],3),\"/\")","v":"/"},{"$f":"IF(G$234=\"Error\",\"Error\",IF(F236<>\"/\",D236*F236,0))","v":0},{"$f":"IF(G$234=\"Error\",\"Error\",IF(G236<>\"/\",D236*G236,0))","v":0}]
[2,{"$f":"IF(Paramètres!AP7=0,\"\",Paramètres!AP7)","v":""},{"$f":"IF(C236<>0,C236+IF(AND(B236<>\"\",A236<E$234),B236,0),IF(AND(B236<>\"\",A236<E$234),B236,0))","v":0},{"$f":"IF(E237<>\"/\",IF(G$234=\"Error\",\"Error\",$H$234+C237),\"/\")","v":"/"},{"$f":"IF(G$234=\"Error\",\"Error\",IF(AND($E$234<>\"/\",$E$234>'Paramètres - Admin'!$A3),'Paramètres - Admin'!$A4,\"/\"))","v":"/"},{"$f":"IF(E237<>\"/\",VLOOKUP(E237,COSTS_Spell_Skeleton[#All],2),\"/\")","v":"/"},{"$f":"IF(E237<>\"/\",VLOOKUP(E237,COSTS_Spell_Skeleton[#All],3),\"/\")","v":"/"},{"$f":"IF(G$234=\"Error\",\"Error\",IF(F237<>\"/\",D237*F237,0))","v":0},{"$f":"IF(G$234=\"Error\",\"Error\",IF(G237<>\"/\",D237*G237,0))","v":0}]
[3,{"$f":"IF(Paramètres!AP8=0,\"\",Paramètres!AP8)","v":""},{"$f":"IF(C237<>0,C237+IF(AND(B237<>\"\",A237<E$234),B237,0),IF(AND(B237<>\"\",A237<E$234),B237,0))","v":0},{"$f":"IF(E238<>\"/\",IF(G$234=\"Error\",\"Error\",$H$234+C238),\"/\")","v":"/"},{"$f":"IF(G$234=\"Error\",\"Error\",IF(AND($E$234<>\"/\",$E$234>'Paramètres - Admin'!$A4),'Paramètres - Admin'!$A5,\"/\"))","v":"/"},{"$f":"IF(E238<>\"/\",VLOOKUP(E238,COSTS_Spell_Skeleton[#All],2),\"/\")","v":"/"},{"$f":"IF(E238<>\"/\",VLOOKUP(E238,COSTS_Spell_Skeleton[#All],3),\"/\")","v":"/"},{"$f":"IF(G$234=\"Error\",\"Error\",IF(F238<>\"/\",D238*F238,0))","v":0},{"$f":"IF(G$234=\"Error\",\"Error\",IF(G238<>\"/\",D238*G238,0))","v":0}]
[4,{"$f":"IF(Paramètres!AP9=0,\"\",Paramètres!AP9)","v":""},{"$f":"IF(C238<>0,C238+IF(AND(B238<>\"\",A238<E$234),B238,0),IF(AND(B238<>\"\",A238<E$234),B238,0))","v":0},{"$f":"IF(E239<>\"/\",IF(G$234=\"Error\",\"Error\",$H$234+C239),\"/\")","v":"/"},{"$f":"IF(G$234=\"Error\",\"Error\",IF(AND($E$234<>\"/\",$E$234>'Paramètres - Admin'!$A5),'Paramètres - Admin'!$A6,\"/\"))","v":"/"},{"$f":"IF(E239<>\"/\",VLOOKUP(E239,COSTS_Spell_Skeleton[#All],2),\"/\")","v":"/"},{"$f":"IF(E239<>\"/\",VLOOKUP(E239,COSTS_Spell_Skeleton[#All],3),\"/\")","v":"/"},{"$f":"IF(G$234=\"Error\",\"Error\",IF(F239<>\"/\",D239*F239,0))","v":0},{"$f":"IF(G$234=\"Error\",\"Error\",IF(G239<>\"/\",D239*G239,0))","v":0}]
[null,null,null,null,null,null,"Total",{"$f":"IF(G$156=\"Error\",\"Error\",SUM(H236:H239))","v":0},{"$f":"IF(G$156=\"Error\",\"Error\",SUM(I236:I239))","v":0}]
[]
[]
["Améliorations de Troupes Noires"]
["Serviteur",null,null,"Max","Max +",null,"Actuel","À Faire","Améliorations","Golem",null,null,"Max","Max +",null,"Actuel","À Faire","Améliorations","Sorcière",null,null,"Max","Max +",null,"Actuel","À Faire","Améliorations"]
[null,null,null,{"$f":"VLOOKUP($A$2,AVAILABLE_Upgrades_Dark_Troops[#All],MATCH(A244,AVAILABLE_Upgrades_Dark_Troops[#Headers],0))","v":0},{"$f":"VLOOKUP(IF(ISERROR(LOOKUP(MATCH(1,Paramètres!$K$6:$K$45,0),Paramètres!$A$6:$A$45)),0,LOOKUP(MATCH(1,Paramètres!$K$6:$K$45,0),Paramètres!$A$6:$A$45)),AVAILABLE_Upgrades_Dark_Troops[#All],MATCH(A244,AVAILABLE_Upgrades_Dark_Troops[#Headers],0)+1)","v":0},null,{"$f":"IF(SUM(B247:B253)>D245,\"Error\",SUM(B247:B253))","v":0},{"$f":"IF(G$245=\"Error\",\"Error\",D245-G245)","v":0},{"$f":"IF(G$245=\"Error\",\"Error\",SUM(D247:D253))","v":0},null,null,null,{"$f":"VLOOKUP($A$2,AVAILABLE_Upgrades_Dark_Troops[#All],MATCH(J244,AVAILABLE_Upgrades_Dark_Troops[#Headers],0))","v":0},{"$f":"VLOOKUP(IF(ISERROR(LOOKUP(MATCH(1,Paramètres!$K$6:$K$45,0),Paramètres!$A$6:$A$45)),0,LOOKUP(MATCH(1,Paramètres!$K$6:$K$45,0),Paramètres!$A$6:$A$45)),AVAILABLE_Upgrades_Dark_Troops[#All],MATCH(J244,AVAILABLE_Upgrades_Dark_Troops[#Headers],0)+1)","v":0},null,{"$f":"IF(SUM(K247:K252)>M245,\"Error\",SUM(K247:K252))","v":0},{"$f":"IF(P$245=\"Error\",\"Error\",M245-P245)","v":0},{"$f":"IF(P$245=\"Error\",\"Error\",SUM(M247:M252))","v":0},null,null,null,{"$f":"VLOOKUP($A$2,AVAILABLE_Upgrades_Dark_Troops[#All],MATCH(S244,AVAILABLE_Upgrades_Dark_Troops[#Headers],0))","v":0},{"$f":"VLOOKUP(IF(ISERROR(LOOKUP(MATCH(1,Paramètres!$K$6:$K$45,0),Paramètres!$A$6:$A$45)),0,LOOKUP(MATCH(1,Paramètres!$K$6:$K$45,0),Paramètres!$A$6:$A$45)),AVAILABLE_Upgrades_Dark_Troops[#All],MATCH(S244,AVAILABLE_Upgrades_Dark_Troops[#Headers],0)+1)","v":0},null,{"$f":"IF(SUM(T247:T249)>V245,\"Error\",SUM(T247:T249))","v":0},{"$f":"IF(Y$245=\"Error\",\"Error\",V245-Y245)","v":0},{"$f":"IF(Y$245=\"Error\",\"Error\",SUM(V247:V249))","v":0}]
["+","NB",null,"NB","+","Coût","Temps","Coût Total","Temps Total","+","NB",null,"NB","+","Coût","Temps","Coût Total","Temps Total","+","NB",null,"NB","+","Coût","Temps","Coût Total","Temps Total"]
[1,{"$f":"IF(Paramètres!BC6=0,\"\",Paramètres!BC6)","v":""},{"$f":"IF(C246<>0,C246+IF(AND(B246<>\"\",A246<E$245),B246,0),IF(AND(B246<>\"\",A246<E$245),B246,0))","v":0},{"$f":"IF(E247<>\"/\",IF(G$245=\"Error\",\"Error\",$H$245+C247),\"/\")","v":"/"},{"$f":"IF(G$245=\"Error\",\"Error\",IF(AND($E$245<>\"/\",$E$245>'Paramètres - Admin'!$A2),'Paramètres - Admin'!$A3,\"/\"))","v":"/"},{"$f":"IF(E247<>\"/\",VLOOKUP(E247,COSTS_Minion[#All],2),\"/\")","v":"/"},{"$f":"IF(E247<>\"/\",VLOOKUP(E247,COSTS_Minion[#All],3),\"/\")","v":"/"},{"$f":"IF(G$245=\"Error\",\"Error\",IF(F247<>\"/\",D247*F247,0))","v":0},{"$f":"IF(G$245=\"Error\",\"Error\",IF(G247<>\"/\",D247*G247,0))","v":0},1,{"$f":"IF(Paramètres!BF6=0,\"\",Paramètres!BF6)","v":""},{"$f":"IF(L246<>0,L246+IF(AND(K246<>\"\",J246<N$245),K246,0),IF(AND(K246<>\"\",J246<N$245),K246,0))","v":0},{"$f":"IF(N247<>\"/\",IF(P$245=\"Error\",\"Error\",$Q$245+L247),\"/\")","v":"/"},{"$f":"IF(P$245=\"Error\",\"Error\",IF(AND($N$245<>\"/\",$N$245>'Paramètres - Admin'!$A2),'Paramètres - Admin'!$A3,\"/\"))","v":"/"},{"$f":"IF(N247<>\"/\",VLOOKUP(N247,COSTS_Golem[#All],2),\"/\")","v":"/"},{"$f":"IF(N247<>\"/\",VLOOKUP(N247,COSTS_Golem[#All],3),\"/\")","v":"/"},{"$f":"IF(P$245=\"Error\",\"Error\",IF(O247<>\"/\",M247*O247,0))","v":0},{"$f":"IF(P$245=\"Error\",\"Error\",IF(P247<>\"/\",M247*P247,0))","v":0},1,{"$f":"IF(Paramètres!BG6=0,\"\",Paramètres!BG6)","v":""},{"$f":"IF(U246<>0,U246+IF(AND(T246<>\"\",S246<W$245),T246,0),IF(AND(T246<>\"\",S246<W$245),T246,0))","v":0},{"$f":"IF(W247<>\"/\",IF(Y$245=\"Error\",\"Error\",$Z$245+U247),\"/\")","v":"/"},{"$f":"IF(Y$245=\"Error\",\"Error\",IF(AND($W$245<>\"/\",$W$245>'Paramètres - Admin'!$A2),'Paramètres - Admin'!$A3,\"/\"))","v":"/"},{"$f":"IF(W247<>\"/\",VLOOKUP(W247,COSTS_Witch[#All],2),\"/\")","v":"/"},{"$f":"IF(W247<>\"/\",VLOOKUP(W247,COSTS_Witch[#All],3),\"/\")","v":"/"},{"$f":"IF(Y$245=\"Error\",\"Error\",IF(X247<>\"/\",V247*X247,0))","v":0},{"$f":"IF(Y$245=\"Error\",\"Error\",IF(Y247<>\"/\",V247*Y247,0))","v":0}]
[2,{"$f":"IF(Paramètres!BC7=0,\"\",Paramètres!BC7)","v":""},{"$f":"IF(C247<>0,C247+IF(AND(B247<>\"\",A247<E$245),B247,0),IF(AND(B247<>\"\",A247<E$245),B247,0))","v":0},"/",{"$f":"IF(G$245=\"Error\",\"Error\",IF(AND($E$245<>\"/\",$E$245>'Paramètres - Admin'!$A3),'Paramètres - Admin'!$A4,\"/\"))","v":"/"},{"$f":"IF(E248<>\"/\",VLOOKUP(E248,COSTS_Minion[#All],2),\"/\")","v":"/"},{"$f":"IF(E248<>\"/\",VLOOKUP(E248,COSTS_Minion[#All],3),\"/\")","v":"/"},0,0,2,{"$f":"IF(Paramètres!BF7=0,\"\",Paramètres!BF7)","v":""},{"$f":"IF(L247<>0,L247+IF(AND(K247<>\"\",J247<N$245),K247,0),IF(AND(K247<>\"\",J247<N$245),K247,0))","v":0},"/",{"$f":"IF(P$245=\"Error\",\"Error\",IF(AND($N$245<>\"/\",$N$245>'Paramètres - Admin'!$A3),'Paramètres - Admin'!$A4,\"/\"))","v":"/"},{"$f":"IF(N248<>\"/\",VLOOKUP(N248,COSTS_Golem[#All],2),\"/\")","v":"/"},{"$f":"IF(N248<>\"/\",VLOOKUP(N248,COSTS_Golem[#All],3),\"/\")","v":"/"},0,0,2,{"$f":"IF(Paramètres!BG7=0,\"\",Paramètres!BG7)","v":""},{"$f":"IF(U247<>0,U247+IF(AND(T247<>\"\",S247<W$245),T247,0),IF(AND(T247<>\"\",S247<W$245),T247,0))","v":0},{"$f":"IF(W248<>\"/\",IF(Y$245=\"Error\",\"Error\",$Z$245+U248),\"/\")","v":"/"},{"$f":"IF(Y$245=\"Error\",\"Error\",IF(AND($W$245<>\"/\",$W$245>'Paramètres - Admin'!$A3),'Paramètres - Admin'!$A4,\"/\"))","v":"/"},{"$f":"IF(W248<>\"/\",VLOOKUP(W248,COSTS_Witch[#All],2),\"/\")","v":"/"},{"$f":"IF(W248<>\"/\",VLOOKUP(W248,COSTS_Witch[#All],3),\"/\")","v":"/"},{"$f":"IF(Y$245=\"Error\",\"Error\",IF(X248<>\"/\",V248*X248,0))","v":0},{"$f":"IF(Y$245=\"Error\",\"Error\",IF(Y248<>\"/\",V248*Y248,0))","v":0}]
[3,{"$f":"IF(Paramètres!BC8=0,\"\",Paramètres!BC8)","v":""},0,"/",{"$f":"IF(G$245=\"Error\",\"Error\",IF(AND($E$245<>\"/\",$E$245>'Paramètres - Admin'!$A4),'Paramètres - Admin'!$A5,\"/\"))","v":"/"},{"$f":"IF(E249<>\"/\",VLOOKUP(E249,COSTS_Minion[#All],2),\"/\")","v":"/"},{"$f":"IF(E249<>\"/\",VLOOKUP(E249,COSTS_Minion[#All],3),\"/\")","v":"/"},0,0,3,{"$f":"IF(Paramètres!BF8=0,\"\",Paramètres!BF8)","v":""},{"$f":"IF(L248<>0,L248+IF(AND(K248<>\"\",J248<N$245),K248,0),IF(AND(K248<>\"\",J248<N$245),K248,0))","v":0},"/",{"$f":"IF(P$245=\"Error\",\"Error\",IF(AND($N$245<>\"/\",$N$245>'Paramètres - Admin'!$A4),'Paramètres - Admin'!$A5,\"/\"))","v":"/"},{"$f":"IF(N249<>\"/\",VLOOKUP(N249,COSTS_Golem[#All],2),\"/\")","v":"/"},{"$f":"IF(N249<>\"/\",VLOOKUP(N249,COSTS_Golem[#All],3),\"/\")","v":"/"},0,0,3,{"$f":"IF(Paramètres!BG8=0,\"\",Paramètres!BG8)","v":""},{"$f":"IF(U248<>0,U248+IF(AND(T248<>\"\",S248<W$245),T248,0),IF(AND(T248<>\"\",S248<W$245),T248,0))","v":0},{"$f":"IF(W249<>\"/\",IF(Y$245=\"Error\",\"Error\",$Z$245+U249),\"/\")","v":"/"},{"$f":"IF(Y$245=\"Error\",\"Error\",IF(AND($W$245<>\"/\",$W$245>'Paramètres - Admin'!$A4),'Paramètres - Admin'!$A5,\"/\"))","v":"/"},{"$f":"IF(W249<>\"/\",VLOOKUP(W249,COSTS_Witch[#All],2),\"/\")","v":"/"},{"$f":"IF(W249<>\"/\",VLOOKUP(W249,COSTS_Witch[#All],3),\"/\")","v":"/"},{"$f":"IF(Y$245=\"Error\",\"Error\",IF(X249<>\"/\",V249*X249,0))","v":0},{"$f":"IF(Y$245=\"Error\",\"Error\",IF(Y249<>\"/\",V249*Y249,0))","v":0}]
[4,{"$f":"IF(Paramètres!BC9=0,\"\",Paramètres!BC9)","v":""},0,"/",{"$f":"IF(G$245=\"Error\",\"Error\",IF(AND($E$245<>\"/\",$E$245>'Paramètres - Admin'!$A5),'Paramètres - Admin'!$A6,\"/\"))","v":"/"},{"$f":"IF(E250<>\"/\",VLOOKUP(E250,COSTS_Minion[#All],2),\"/\")","v":"/"},{"$f":"IF(E250<>\"/\",VLOOKUP(E250,COSTS_Minion[#All],3),\"/\")","v":"/"},0,0,4,{"$f":"IF(Paramètres!BF9=0,\"\",Paramètres!BF9)","v":""},{"$f":"IF(L249<>0,L249+IF(AND(K249<>\"\",J249<N$245),K249,0),IF(AND(K249<>\"\",J249<N$245),K249,0))","v":0},"/",{"$f":"IF(P$245=\"Error\",\"Error\",IF(AND($N$245<>\"/\",$N$245>'Paramètres - Admin'!$A5),'Paramètres - Admin'!$A6,\"/\"))","v":"/"},{"$f":"IF(N250<>\"/\",VLOOKUP(N250,COSTS_Golem[#All],2),\"/\")","v":"/"},{"$f":"IF(N250<>\"/\",VLOOKUP(N250,COSTS_Golem[#All],3),\"/\")","v":"/"},0,0,null,null,null,null,null,null,"Total",{"$f":"IF(Y$245=\"Error\",\"Error\",SUM(Z247:Z248))","v":0},{"$f":"IF(Y$245=\"Error\",\"Error\",SUM(AA247:AA248))","v":0}]
[5,{"$f":"IF(Paramètres!BC10=0,\"\",Paramètres!BC10)","v":""},0,"/",{"$f":"IF(G$245=\"Error\",\"Error\",IF(AND($E$245<>\"/\",$E$245>'Paramètres - Admin'!$A6),'Paramètres - Admin'!$A7,\"/\"))","v":"/"},{"$f":"IF(E251<>\"/\",VLOOKUP(E251,COSTS_Minion[#All],2),\"/\")","v":"/"},{"$f":"IF(E251<>\"/\",VLOOKUP(E251,COSTS_Minion[#All],3),\"/\")","v":"/"},0,0,5,{"$f":"IF(Paramètres!BF10=0,\"\",Paramètres!BF10)","v":""},0,"/",{"$f":"IF(P$245=\"Error\",\"Error\",IF(AND($N$245<>\"/\",$N$245>'Paramètres - Admin'!$A6),'Paramètres - Admin'!$A7,\"/\"))","v":"/"},{"$f":"IF(N251<>\"/\",VLOOKUP(N251,COSTS_Golem[#All],2),\"/\")","v":"/"},{"$f":"IF(N251<>\"/\",VLOOKUP(N251,COSTS_Golem[#All],3),\"/\")","v":"/"},0,0,"Molosse de lave",null,null,"Max","Max +",null,"Actuel","À Faire","Améliorations"]
[6,{"$f":"IF(Paramètres!BC11=0,\"\",Paramètres!BC11)","v":""},0,"/",{"$f":"IF(G$245=\"Error\",\"Error\",IF(AND($E$245<>\"/\",$E$245>'Paramètres - Admin'!$A7),'Paramètres - Admin'!$A8,\"/\"))","v":"/"},{"$f":"IF(E252<>\"/\",VLOOKUP(E252,COSTS_Minion[#All],2),\"/\")","v":"/"},{"$f":"IF(E252<>\"/\",VLOOKUP(E252,COSTS_Minion[#All],3),\"/\")","v":"/"},0,0,6,{"$f":"IF(Paramètres!BF11=0,\"\",Paramètres!BF11)","v":""},0,"/",{"$f":"IF(P$245=\"Error\",\"Error\",IF(AND($N$245<>\"/\",$N$245>'Paramètres - Admin'!$A7),'Paramètres - Admin'!$A8,\"/\"))","v":"/"},{"$f":"IF(N252<>\"/\",VLOOKUP(N252,COSTS_Golem[#All],2),\"/\")","v":"/"},{"$f":"IF(N252<>\"/\",VLOOKUP(N252,COSTS_Golem[#All],3),\"/\")","v":"/"},0,0,null,null,null,{"$f":"VLOOKUP($A$2,AVAILABLE_Upgrades_Dark_Troops[#All],MATCH(S251,AVAILABLE_Upgrades_Dark_Troops[#Headers],0))","v":0},{"$f":"VLOOKUP(IF(ISERROR(LOOKUP(MATCH(1,Paramètres!$K$6:$K$45,0),Paramètres!$A$6:$A$45)),0,LOOKUP(MATCH(1,Paramètres!$K$6:$K$45,0),Paramètres!$A$6:$A$45)),AVAILABLE_Upgrades_Dark_Troops[#All],MATCH(S251,AVAILABLE_Upgrades_Dark_Troops[#Headers],0)+1)","v":0},null,{"$f":"IF(SUM(T254:T257)>V252,\"Error\",SUM(T254:T257))","v":0},{"$f":"IF(Y$252=\"Error\",\"Error\",V252-Y252)","v":0},{"$f":"IF(Y$252=\"Error\",\"Error\",SUM(V254:V257))","v":0}]
[7,{"$f":"IF(Paramètres!BC12=0,\"\",Paramètres!BC12)","v":""},{"$f":"IF(C252<>0,C252+IF(AND(B252<>\"\",A252<E$245),B252,0),IF(AND(B252<>\"\",A252<E$245),B252,0))","v":0},"/",{"$f":"IF(G$245=\"Error\",\"Error\",IF(AND($E$245<>\"/\",$E$245>'Paramètres - Admin'!$A8),'Paramètres - Admin'!$A9,\"/\"))","v":"/"},{"$f":"IF(E253<>\"/\",VLOOKUP(E253,COSTS_Minion[#All],2),\"/\")","v":"/"},{"$f":"IF(E253<>\"/\",VLOOKUP(E253,COSTS_Minion[#All],3),\"/\")","v":"/"},0,0,null,null,null,null,null,null,"Total",{"$f":"IF(P$245=\"Error\",\"Error\",SUM(Q247:Q252))","v":0},{"$f":"IF(P$245=\"Error\",\"Error\",SUM(R247:R251))","v":0},"+","NB",null,"NB","+","Coût","Temps","Coût Total","Temps Total"]
[null,null,null,null,null,null,"Total",{"$f":"IF(G$245=\"Error\",\"Error\",SUM(H247:H252))","v":0},{"$f":"IF(G$245=\"Error\",\"Error\",SUM(I247:I251))","v":0},null,null,null,null,null,null,null,null,null,1,{"$f":"IF(Paramètres!BH6=0,\"\",Paramètres!BH6)","v":""},{"$f":"IF(U253<>0,U253+IF(AND(T253<>\"\",S253<W$252),T253,0),IF(AND(T253<>\"\",S253<W$252),T253,0))","v":0},{"$f":"IF(W254<>\"/\",IF(Y$252=\"Error\",\"Error\",$Z$252+U254),\"/\")","v":"/"},{"$f":"IF($Y$252=\"Error\",\"Error\",IF(AND($W$252<>\"/\",$W$252>'Paramètres - Admin'!$A2),'Paramètres - Admin'!$A3,\"/\"))","v":"/"},{"$f":"IF(W254<>\"/\",VLOOKUP(W254,COSTS_Lava_Hound[#All],2),\"/\")","v":"/"},{"$f":"IF(W254<>\"/\",VLOOKUP(W254,COSTS_Lava_Hound[#All],3),\"/\")","v":"/"},{"$f":"IF(Y$252=\"Error\",\"Error\",IF(X254<>\"/\",V254*X254,0))","v":0},{"$f":"IF(Y$252=\"Error\",\"Error\",IF(Y254<>\"/\",V254*Y254,0))","v":0}]
["Chevaucheur de Cochon",null,null,"Max","Max +",null,"Actuel","À Faire","Améliorations","Valkyrie",null,null,"Max","Max +",null,"Actuel","À Faire","Améliorations",2,{"$f":"IF(Paramètres!BH7=0,\"\",Paramètres!BH7)","v":""},{"$f":"IF(U254<>0,U254+IF(AND(T254<>\"\",S254<W$252),T254,0),IF(AND(T254<>\"\",S254<W$252),T254,0))","v":0},{"$f":"IF(W255<>\"/\",IF(Y$252=\"Error\",\"Error\",$Z$252+U255),\"/\")","v":"/"},{"$f":"IF($Y$252=\"Error\",\"Error\",IF(AND($W$252<>\"/\",$W$252>'Paramètres - Admin'!$A3),'Paramètres - Admin'!$A4,\"/\"))","v":"/"},{"$f":"IF(W255<>\"/\",VLOOKUP(W255,COSTS_Lava_Hound[#All],2),\"/\")","v":"/"},{"$f":"IF(W255<>\"/\",VLOOKUP(W255,COSTS_Lava_Hound[#All],3),\"/\")","v":"/"},{"$f":"IF(Y$252=\"Error\",\"Error\",IF(X255<>\"/\",V255*X255,0))","v":0},{"$f":"IF(Y$252=\"Error\",\"Error\",IF(Y255<>\"/\",V255*Y255,0))","v":0}]
[null,null,null,{"$f":"VLOOKUP($A$2,AVAILABLE_Upgrades_Dark_Troops[#All],MATCH(A255,AVAILABLE_Upgrades_Dark_Troops[#Headers],0))","v":0},{"$f":"VLOOKUP(IF(ISERROR(LOOKUP(MATCH(1,Paramètres!$K$6:$K$45,0),Paramètres!$A$6:$A$45)),0,LOOKUP(MATCH(1,Paramètres!$K$6:$K$45,0),Paramètres!$A$6:$A$45)),AVAILABLE_Upgrades_Dark_Troops[#All],MATCH(A255,AVAILABLE_Upgrades_Dark_Troops[#Headers],0)+1)","v":0},null,{"$f":"IF(SUM(B258:B264)>D256,\"Error\",SUM(B258:B264))","v":0},{"$f":"IF(G$256=\"Error\",\"Error\",D256-G256)","v":0},{"$f":"IF(G$256=\"Error\",\"Error\",SUM(D258:D263))","v":0},null,null,null,{"$f":"VLOOKUP($A$2,AVAILABLE_Upgrades_Dark_Troops[#All],MATCH(J255,AVAILABLE_Upgrades_Dark_Troops[#Headers],0))","v":0},{"$f":"VLOOKUP(IF(ISERROR(LOOKUP(MATCH(1,Paramètres!$K$6:$K$45,0),Paramètres!$A$6:$A$45)),0,LOOKUP(MATCH(1,Paramètres!$K$6:$K$45,0),Paramètres!$A$6:$A$45)),AVAILABLE_Upgrades_Dark_Troops[#All],MATCH(J255,AVAILABLE_Upgrades_Dark_Troops[#Headers],0)+1)","v":0},null,{"$f":"IF(SUM(K258:K262)>M256,\"Error\",SUM(K258:K262))","v":0},{"$f":"IF(P$256=\"Error\",\"Error\",M256-P256)","v":0},{"$f":"IF(P$256=\"Error\",\"Error\",SUM(M258:M262))","v":0},3,{"$f":"IF(Paramètres!BH8=0,\"\",Paramètres!BH8)","v":""},{"$f":"IF(U255<>0,U255+IF(AND(T255<>\"\",S255<W$252),T255,0),IF(AND(T255<>\"\",S255<W$252),T255,0))","v":0},{"$f":"IF(W256<>\"/\",IF(Y$252=\"Error\",\"Error\",$Z$252+U256),\"/\")","v":"/"},{"$f":"IF($Y$252=\"Error\",\"Error\",IF(AND($W$252<>\"/\",$W$252>'Paramètres - Admin'!$A4),'Paramètres - Admin'!$A5,\"/\"))","v":"/"},{"$f":"IF(W256<>\"/\",VLOOKUP(W256,COSTS_Lava_Hound[#All],2),\"/\")","v":"/"},{"$f":"IF(W256<>\"/\",VLOOKUP(W256,COSTS_Lava_Hound[#All],3),\"/\")","v":"/"},{"$f":"IF(Y$252=\"Error\",\"Error\",IF(X256<>\"/\",V256*X256,0))","v":0},{"$f":"IF(Y$252=\"Error\",\"Error\",IF(Y256<>\"/\",V256*Y256,0))","v":0}]
["+","NB",null,"NB","+","Coût","Temps","Coût Total","Temps Total","+","NB",null,"NB","+","Coût","Temps","Coût Total","Temps Total",4,{"$f":"IF(Paramètres!BH9=0,\"\",Paramètres!BH9)","v":""},0,{"$f":"IF(W257<>\"/\",IF(Y$252=\"Error\",\"Error\",$Z$252+U257),\"/\")","v":"/"},{"$f":"IF($Y$252=\"Error\",\"Error\",IF(AND($W$252<>\"/\",$W$252>'Paramètres - Admin'!$A5),'Paramètres - Admin'!$A6,\"/\"))","v":"/"},{"$f":"IF(W257<>\"/\",VLOOKUP(W257,COSTS_Lava_Hound[#All],2),\"/\")","v":"/"},{"$f":"IF(W257<>\"/\",VLOOKUP(W257,COSTS_Lava_Hound[#All],3),\"/\")","v":"/"},{"$f":"IF(Y$252=\"Error\",\"Error\",IF(X257<>\"/\",V257*X257,0))","v":0},{"$f":"IF(Y$252=\"Error\",\"Error\",IF(Y257<>\"/\",V257*Y257,0))","v":0}]
[1,{"$f":"IF(Paramètres!BD6=0,\"\",Paramètres!BD6)","v":""},{"$f":"IF(C257<>0,C257+IF(AND(B257<>\"\",A257<E$256),B257,0),IF(AND(B257<>\"\",A257<E$256),B257,0))","v":0},{"$f":"IF(E258<>\"/\",IF(G$256=\"Error\",\"Error\",$H$256+C258),\"/\")","v":"/"},{"$f":"IF(G$256=\"Error\",\"Error\",IF(AND($E$256<>\"/\",$E$256>'Paramètres - Admin'!$A2),'Paramètres - Admin'!$A3,\"/\"))","v":"/"},{"$f":"IF(E258<>\"/\",VLOOKUP(E258,COSTS_Hog_Rider[#All],2),\"/\")","v":"/"},{"$f":"IF(E258<>\"/\",VLOOKUP(E258,COSTS_Hog_Rider[#All],3),\"/\")","v":"/"},{"$f":"IF(G$256=\"Error\",\"Error\",IF(F258<>\"/\",D258*F258,0))","v":0},{"$f":"IF(G$256=\"Error\",\"Error\",IF(G258<>\"/\",D258*G258,0))","v":0},1,{"$f":"IF(Paramètres!BE6=0,\"\",Paramètres!BE6)","v":""},{"$f":"IF(L257<>0,L257+IF(AND(K257<>\"\",J257<N$256),K257,0),IF(AND(K257<>\"\",J257<N$256),K257,0))","v":0},{"$f":"IF(N258<>\"/\",IF(P$256=\"Error\",\"Error\",$Q$256+L258),\"/\")","v":"/"},{"$f":"IF(P$256=\"Error\",\"Error\",IF(AND($N$256<>\"/\",$N$256>'Paramètres - Admin'!$A2),'Paramètres - Admin'!$A3,\"/\"))","v":"/"},{"$f":"IF(N258<>\"/\",VLOOKUP(N258,COSTS_Valkyrie[#All],2),\"/\")","v":"/"},{"$f":"IF(N258<>\"/\",VLOOKUP(N258,COSTS_Valkyrie[#All],3),\"/\")","v":"/"},{"$f":"IF(P$256=\"Error\",\"Error\",IF(O258<>\"/\",M258*O258,0))","v":0},{"$f":"IF(P$256=\"Error\",\"Error\",IF(P258<>\"/\",M258*P258,0))","v":0},null,null,null,null,null,null,"Total",{"$f":"IF(Y$252=\"Error\",\"Error\",SUM(Z254:Z257))","v":0},{"$f":"IF(Y$252=\"Error\",\"Error\",SUM(AA254:AA256))","v":0}]
[2,{"$f":"IF(Paramètres!BD7=0,\"\",Paramètres!BD7)","v":""},0,"/",{"$f":"IF(G$256=\"Error\",\"Error\",IF(AND($E$256<>\"/\",$E$256>'Paramètres - Admin'!$A3),'Paramètres - Admin'!$A4,\"/\"))","v":"/"},{"$f":"IF(E259<>\"/\",VLOOKUP(E259,COSTS_Hog_Rider[#All],2),\"/\")","v":"/"},{"$f":"IF(E259<>\"/\",VLOOKUP(E259,COSTS_Hog_Rider[#All],3),\"/\")","v":"/"},0,0,2,{"$f":"IF(Paramètres!BE7=0,\"\",Paramètres!BE7)","v":""},{"$f":"IF(L258<>0,L258+IF(AND(K258<>\"\",J258<N$256),K258,0),IF(AND(K258<>\"\",J258<N$256),K258,0))","v":0},{"$f":"IF(N259<>\"/\",IF(P$256=\"Error\",\"Error\",$Q$256+L259),\"/\")","v":"/"},{"$f":"IF(P$256=\"Error\",\"Error\",IF(AND($N$256<>\"/\",$N$256>'Paramètres - Admin'!$A3),'Paramètres - Admin'!$A4,\"/\"))","v":"/"},{"$f":"IF(N259<>\"/\",VLOOKUP(N259,COSTS_Valkyrie[#All],2),\"/\")","v":"/"},{"$f":"IF(N259<>\"/\",VLOOKUP(N259,COSTS_Valkyrie[#All],3),\"/\")","v":"/"},{"$f":"IF(P$256=\"Error\",\"Error\",IF(O259<>\"/\",M259*O259,0))","v":0},{"$f":"IF(P$256=\"Error\",\"Error\",IF(P259<>\"/\",M259*P259,0))","v":0},"Bouliste",null,null,"Max","Max +",null,"Actuel","À Faire","Améliorations"]
[3,{"$f":"IF(Paramètres!BD8=0,\"\",Paramètres!BD8)","v":""},0,"/",{"$f":"IF(G$256=\"Error\",\"Error\",IF(AND($E$256<>\"/\",$E$256>'Paramètres - Admin'!$A4),'Paramètres - Admin'!$A5,\"/\"))","v":"/"},{"$f":"IF(E260<>\"/\",VLOOKUP(E260,COSTS_Hog_Rider[#All],2),\"/\")","v":"/"},{"$f":"IF(E260<>\"/\",VLOOKUP(E260,COSTS_Hog_Rider[#All],3),\"/\")","v":"/"},0,0,3,{"$f":"IF(Paramètres!BE8=0,\"\",Paramètres!BE8)","v":""},{"$f":"IF(L259<>0,L259+IF(AND(K259<>\"\",J259<N$256),K259,0),IF(AND(K259<>\"\",J259<N$256),K259,0))","v":0},{"$f":"IF(N260<>\"/\",IF(P$256=\"Error\",\"Error\",$Q$256+L260),\"/\")","v":"/"},{"$f":"IF(P$256=\"Error\",\"Error\",IF(AND($N$256<>\"/\",$N$256>'Paramètres - Admin'!$A4),'Paramètres - Admin'!$A5,\"/\"))","v":"/"},{"$f":"IF(N260<>\"/\",VLOOKUP(N260,COSTS_Valkyrie[#All],2),\"/\")","v":"/"},{"$f":"IF(N260<>\"/\",VLOOKUP(N260,COSTS_Valkyrie[#All],3),\"/\")","v":"/"},{"$f":"IF(P$256=\"Error\",\"Error\",IF(O260<>\"/\",M260*O260,0))","v":0},{"$f":"IF(P$256=\"Error\",\"Error\",IF(P260<>\"/\",M260*P260,0))","v":0},null,null,null,{"$f":"VLOOKUP($A$2,AVAILABLE_Upgrades_Dark_Troops[#All],MATCH(S259,AVAILABLE_Upgrades_Dark_Troops[#Headers],0))","v":0},{"$f":"VLOOKUP(IF(ISERROR(LOOKUP(MATCH(1,Paramètres!$K$6:$K$45,0),Paramètres!$A$6:$A$45)),0,LOOKUP(MATCH(1,Paramètres!$K$6:$K$45,0),Paramètres!$A$6:$A$45)),AVAILABLE_Upgrades_Dark_Troops[#All],MATCH(S259,AVAILABLE_Upgrades_Dark_Troops[#Headers],0)+1)","v":0},null,{"$f":"IF(SUM(T262:T264)>V260,\"Error\",SUM(T262:T264))","v":0},{"$f":"IF(Y$260=\"Error\",\"Error\",V260-Y260)","v":0},{"$f":"IF(Y$260=\"Error\",\"Error\",SUM(V262:V264))","v":0}]
[4,{"$f":"IF(Paramètres!BD9=0,\"\",Paramètres!BD9)","v":""},0,"/",{"$f":"IF(G$256=\"Error\",\"Error\",IF(AND($E$256<>\"/\",$E$256>'Paramètres - Admin'!$A5),'Paramètres - Admin'!$A6,\"/\"))","v":"/"},{"$f":"IF(E261<>\"/\",VLOOKUP(E261,COSTS_Hog_Rider[#All],2),\"/\")","v":"/"},{"$f":"IF(E261<>\"/\",VLOOKUP(E261,COSTS_Hog_Rider[#All],3),\"/\")","v":"/"},0,0,4,{"$f":"IF(Paramètres!BE9=0,\"\",Paramètres!BE9)","v":""},{"$f":"IF(L260<>0,L260+IF(AND(K260<>\"\",J260<N$256),K260,0),IF(AND(K260<>\"\",J260<N$256),K260,0))","v":0},{"$f":"IF(N261<>\"/\",IF(P$256=\"Error\",\"Error\",$Q$256+L261),\"/\")","v":"/"},{"$f":"IF(P$256=\"Error\",\"Error\",IF(AND($N$256<>\"/\",$N$256>'Paramètres - Admin'!$A5),'Paramètres - Admin'!$A6,\"/\"))","v":"/"},{"$f":"IF(N261<>\"/\",VLOOKUP(N261,COSTS_Valkyrie[#All],2),\"/\")","v":"/"},{"$f":"IF(N261<>\"/\",VLOOKUP(N261,COSTS_Valkyrie[#All],3),\"/\")","v":"/"},{"$f":"IF(P$256=\"Error\",\"Error\",IF(O261<>\"/\",M261*O261,0))","v":0},{"$f":"IF(P$256=\"Error\",\"Error\",IF(P261<>\"/\",M261*P261,0))","v":0},"+","NB",null,"NB","+","Coût","Temps","Coût Total","Temps Total"]
[5,{"$f":"IF(Paramètres!BD10=0,\"\",Paramètres!BD10)","v":""},0,"/",{"$f":"IF(G$256=\"Error\",\"Error\",IF(AND($E$256<>\"/\",$E$256>'Paramètres - Admin'!$A6),'Paramètres - Admin'!$A7,\"/\"))","v":"/"},{"$f":"IF(E262<>\"/\",VLOOKUP(E262,COSTS_Hog_Rider[#All],2),\"/\")","v":"/"},{"$f":"IF(E262<>\"/\",VLOOKUP(E262,COSTS_Hog_Rider[#All],3),\"/\")","v":"/"},0,0,5,{"$f":"IF(Paramètres!BE10=0,\"\",Paramètres!BE10)","v":""},{"$f":"IF(L261<>0,L261+IF(AND(K261<>\"\",J261<N$256),K261,0),IF(AND(K261<>\"\",J261<N$256),K261,0))","v":0},{"$f":"IF(N262<>\"/\",IF(P$256=\"Error\",\"Error\",$Q$256+L262),\"/\")","v":"/"},{"$f":"IF(P$256=\"Error\",\"Error\",IF(AND($N$256<>\"/\",$N$256>'Paramètres - Admin'!$A6),'Paramètres - Admin'!$A7,\"/\"))","v":"/"},{"$f":"IF(N262<>\"/\",VLOOKUP(N262,COSTS_Valkyrie[#All],2),\"/\")","v":"/"},{"$f":"IF(N262<>\"/\",VLOOKUP(N262,COSTS_Valkyrie[#All],3),\"/\")","v":"/"},{"$f":"IF(P$256=\"Error\",\"Error\",IF(O262<>\"/\",M262*O262,0))","v":0},{"$f":"IF(P$256=\"Error\",\"Error\",IF(P262<>\"/\",M262*P262,0))","v":0},1,{"$f":"IF(Paramètres!BI6=0,\"\",Paramètres!BI6)","v":""},{"$f":"IF(U261<>0,U261+IF(AND(T261<>\"\",S261<W$260),T261,0),IF(AND(T261<>\"\",S261<W$260),T261,0))","v":0},{"$f":"IF(W262<>\"/\",IF(Y$260=\"Error\",\"Error\",$Z$260+U262),\"/\")","v":"/"},{"$f":"IF($Y$260=\"Error\",\"Error\",IF(AND($W$260<>\"/\",$W$260>'Paramètres - Admin'!$A2),'Paramètres - Admin'!$A3,\"/\"))","v":"/"},{"$f":"IF(W262<>\"/\",VLOOKUP(W262,COSTS_Bowler[#All],2),\"/\")","v":"/"},{"$f":"IF(W262<>\"/\",VLOOKUP(W262,COSTS_Bowler[#All],3),\"/\")","v":"/"},{"$f":"IF(Y$252=\"Error\",\"Error\",IF(X262<>\"/\",V262*X262,0))","v":0},{"$f":"IF(Y$252=\"Error\",\"Error\",IF(Y262<>\"/\",V262*Y262,0))","v":0}]
[6,{"$f":"IF(Paramètres!BD11=0,\"\",Paramètres!BD11)","v":""},0,"/",{"$f":"IF(G$256=\"Error\",\"Error\",IF(AND($E$256<>\"/\",$E$256>'Paramètres - Admin'!$A7),'Paramètres - Admin'!$A8,\"/\"))","v":"/"},{"$f":"IF(E263<>\"/\",VLOOKUP(E263,COSTS_Hog_Rider[#All],2),\"/\")","v":"/"},{"$f":"IF(E263<>\"/\",VLOOKUP(E263,COSTS_Hog_Rider[#All],3),\"/\")","v":"/"},0,0,null,null,null,null,null,null,"Total",{"$f":"IF(P$256=\"Error\",\"Error\",SUM(Q258:Q262))","v":0},{"$f":"IF(P$256=\"Error\",\"Error\",SUM(R258:R262))","v":0},2,{"$f":"IF(Paramètres!BI7=0,\"\",Paramètres!BI7)","v":""},{"$f":"IF(U262<>0,U262+IF(AND(T262<>\"\",S262<W$252),T262,0),IF(AND(T262<>\"\",S262<W$252),T262,0))","v":0},{"$f":"IF(W263<>\"/\",IF(Y$260=\"Error\",\"Error\",$Z$260+U263),\"/\")","v":"/"},{"$f":"IF($Y$260=\"Error\",\"Error\",IF(AND($W$260<>\"/\",$W$260>'Paramètres - Admin'!$A3),'Paramètres - Admin'!$A4,\"/\"))","v":"/"},{"$f":"IF(W263<>\"/\",VLOOKUP(W263,COSTS_Bowler[#All],2),\"/\")","v":"/"},{"$f":"IF(W263<>\"/\",VLOOKUP(W263,COSTS_Bowler[#All],3),\"/\")","v":"/"},{"$f":"IF(Y$252=\"Error\",\"Error\",IF(X263<>\"/\",V263*X263,0))","v":0},{"$f":"IF(Y$252=\"Error\",\"Error\",IF(Y263<>\"/\",V263*Y263,0))","v":0}]
[7,{"$f":"IF(Paramètres!BD12=0,\"\",Paramètres!BD12)","v":""},0,{"$f":"IF(E264<>\"/\",IF(G$256=\"Error\",\"Error\",$H$256+C264),\"/\")","v":"/"},{"$f":"IF(G$256=\"Error\",\"Error\",IF(AND($E$256<>\"/\",$E$256>'Paramètres - Admin'!$A8),'Paramètres - Admin'!$A9,\"/\"))","v":"/"},{"$f":"IF(E264<>\"/\",VLOOKUP(E264,COSTS_Hog_Rider[#All],2),\"/\")","v":"/"},{"$f":"IF(E264<>\"/\",VLOOKUP(E264,COSTS_Hog_Rider[#All],3),\"/\")","v":"/"},{"$f":"IF(G$256=\"Error\",\"Error\",IF(F264<>\"/\",D264*F264,0))","v":0},{"$f":"IF(G$256=\"Error\",\"Error\",IF(G264<>\"/\",D264*G264,0))","v":0},null,null,null,null,null,null,null,null,null,3,{"$f":"IF(Paramètres!BI8=0,\"\",Paramètres!BI8)","v":""},{"$f":"IF(U263<>0,U263+IF(AND(T263<>\"\",S263<W$252),T263,0),IF(AND(T263<>\"\",S263<W$252),T263,0))","v":0},{"$f":"IF(W264<>\"/\",IF(Y$260=\"Error\",\"Error\",$Z$260+U264),\"/\")","v":"/"},{"$f":"IF($Y$260=\"Error\",\"Error\",IF(AND($W$260<>\"/\",$W$260>'Paramètres - Admin'!$A4),'Paramètres - Admin'!$A5,\"/\"))","v":"/"},{"$f":"IF(W264<>\"/\",VLOOKUP(W264,COSTS_Bowler[#All],2),\"/\")","v":"/"},{"$f":"IF(W264<>\"/\",VLOOKUP(W264,COSTS_Bowler[#All],3),\"/\")","v":"/"},{"$f":"IF(Y$252=\"Error\",\"Error\",IF(X264<>\"/\",V264*X264,0))","v":0},{"$f":"IF(Y$252=\"Error\",\"Error\",IF(Y264<>\"/\",V264*Y264,0))","v":0}]
[null,null,null,null,null,null,"Total",{"$f":"IF(G$256=\"Error\",\"Error\",SUM(H258:H264))","v":0},{"$f":"IF(G$256=\"Error\",\"Error\",SUM(I258:I263))","v":0},null,null,null,null,null,null,null,null,null,null,null,null,null,null,null,"Total",{"$f":"IF(Y$252=\"Error\",\"Error\",SUM(Z262:Z264))","v":0},{"$f":"IF(Y$252=\"Error\",\"Error\",SUM(AA262:AA264))","v":0}]
[]
["Héros"]
["Roi des Barbares",null,null,"Max","Max +",null,"Actuel","À Faire","Améliorations","Reine des Archers",null,null,"Max","Max +",null,"Actuel","À Faire","Améliorations","Grand Gardien",null,null,"Max","Max +",null,"Actuel","À Faire","Améliorations"]
[null,null,null,{"$f":"VLOOKUP($A$2,AVAILABLE_Heroes[#All],MATCH(A268,AVAILABLE_Heroes[#Headers],0))","v":0},{"$f":"VLOOKUP($A$2,AVAILABLE_Heroes[#All],MATCH(A268,AVAILABLE_Heroes[#Headers],0)+1)","v":0},null,{"$f":"IF(SUM(B271:B310)>D269,\"Error\",SUM(B271:B315))","v":0},{"$f":"IF(G$269=\"Error\",\"Error\",D269-G269)","v":0},{"$f":"IF(G$269=\"Error\",\"Error\",SUM(D271:D315))","v":0},null,null,null,{"$f":"VLOOKUP($A$2,AVAILABLE_Heroes[#All],MATCH(J268,AVAILABLE_Heroes[#Headers],0))","v":0},{"$f":"VLOOKUP($A$2,AVAILABLE_Heroes[#All],MATCH(J268,AVAILABLE_Heroes[#Headers],0)+1)","v":0},null,{"$f":"IF(SUM(K271:K310)>M269,\"Error\",SUM(K271:K315))","v":0},{"$f":"IF(P$269=\"Error\",\"Error\",M269-P269)","v":0},{"$f":"IF(P$269=\"Error\",\"Error\",SUM(M271:M315))","v":0},null,null,null,{"$f":"VLOOKUP($A$2,AVAILABLE_Heroes[#All],MATCH(S268,AVAILABLE_Heroes[#Headers],0))","v":0},{"$f":"VLOOKUP($A$2,AVAILABLE_Heroes[#All],MATCH(S268,AVAILABLE_Heroes[#Headers],0)+1)","v":0},null,{"$f":"IF(SUM(T271:T310)>V269,\"Error\",SUM(T271:T310))","v":0},{"$f":"IF(Y$269=\"Error\",\"Error\",V269-Y269)","v":0},{"$f":"IF(Y$269=\"Error\",\"Error\",SUM(V271:V310))","v":0}]
["+","NB",null,"NB","+","Coût","Temps","Coût Total","Temps Total","+","NB",null,"NB","+","Coût","Temps","Coût Total","Temps Total","+","NB",null,"NB","+","Coût","Temps","Coût Total","Temps Total"]
[1,{"$f":"IF(Paramètres!BJ6=0,\"\",Paramètres!BJ6)","v":""},{"$f":"IF(C270<>0,C270+IF(AND(B270<>\"\",A270<E$269),B270,0),IF(AND(B270<>\"\",A270<E$269),B270,0))","v":0},{"$f":"IF(E271<>\"/\",IF(G$269=\"Error\",\"Error\",$H$269+C271),\"/\")","v":"/"},{"$f":"IF(G$269=\"Error\",\"Error\",IF(AND($E$269<>\"/\",$E$269>'Paramètres - Admin'!$A2),'Paramètres - Admin'!$A3,\"/\"))","v":"/"},{"$f":"IF(E271<>\"/\",VLOOKUP(E271,COSTS_Barbarian_King[#All],2),\"/\")","v":"/"},{"$f":"IF(E271<>\"/\",VLOOKUP(E271,COSTS_Barbarian_King[#All],3),\"/\")","v":"/"},{"$f":"IF(G$269=\"Error\",\"Error\",IF(F271<>\"/\",D271*F271,0))","v":0},{"$f":"IF(G$269=\"Error\",\"Error\",IF(G271<>\"/\",D271*G271,0))","v":0},1,{"$f":"IF(Paramètres!BK6=0,\"\",Paramètres!BK6)","v":""},{"$f":"IF(L270<>0,L270+IF(AND(K270<>\"\",J270<N$269),K270,0),IF(AND(K270<>\"\",J270<N$269),K270,0))","v":0},{"$f":"IF(N271<>\"/\",IF(P$269=\"Error\",\"Error\",$Q$269+L271),\"/\")","v":"/"},{"$f":"IF(P$269=\"Error\",\"Error\",IF(AND($N$269<>\"/\",$N$269>'Paramètres - Admin'!$A2),'Paramètres - Admin'!$A3,\"/\"))","v":"/"},{"$f":"IF(N271<>\"/\",VLOOKUP(N271,COSTS_Archer_Queen[#All],2),\"/\")","v":"/"},{"$f":"IF(N271<>\"/\",VLOOKUP(N271,COSTS_Archer_Queen[#All],3),\"/\")","v":"/"},{"$f":"IF(P$269=\"Error\",\"Error\",IF(O271<>\"/\",M271*O271,0))","v":0},{"$f":"IF(P$269=\"Error\",\"Error\",IF(P271<>\"/\",M271*P271,0))","v":0},1,{"$f":"IF(Paramètres!BL6=0,\"\",Paramètres!BL6)","v":""},{"$f":"IF(U270<>0,U270+IF(AND(T270<>\"\",S270<W$269),T270,0),IF(AND(T270<>\"\",S270<W$269),T270,0))","v":0},{"$f":"IF(W271<>\"/\",IF(Y$269=\"Error\",\"Error\",$Z$269+U271),\"/\")","v":"/"},{"$f":"IF(Y$269=\"Error\",\"Error\",IF(AND($W$269<>\"/\",$W$269>'Paramètres - Admin'!$A2),'Paramètres - Admin'!$A3,\"/\"))","v":"/"},{"$f":"IF(W271<>\"/\",VLOOKUP(W271,COSTS_Grand_Warden[#All],2),\"/\")","v":"/"},{"$f":"IF(W271<>\"/\",VLOOKUP(W271,COSTS_Grand_Warden[#All],3),\"/\")","v":"/"},{"$f":"IF(Y$269=\"Error\",\"Error\",IF(X271<>\"/\",V271*X271,0))","v":0},{"$f":"IF(Y$269=\"Error\",\"Error\",IF(Y271<>\"/\",V271*Y271,0))","v":0}]
[2,{"$f":"IF(Paramètres!BJ7=0,\"\",Paramètres!BJ7)","v":""},0,"/",{"$f":"IF(G$269=\"Error\",\"Error\",IF(AND($E$269<>\"/\",$E$269>'Paramètres - Admin'!$A3),'Paramètres - Admin'!$A4,\"/\"))","v":"/"},{"$f":"IF(E272<>\"/\",VLOOKUP(E272,COSTS_Barbarian_King[#All],2),\"/\")","v":"/"},{"$f":"IF(E272<>\"/\",VLOOKUP(E272,COSTS_Barbarian_King[#All],3),\"/\")","v":"/"},0,0,2,{"$f":"IF(Paramètres!BK7=0,\"\",Paramètres!BK7)","v":""},0,"/",{"$f":"IF(P$269=\"Error\",\"Error\",IF(AND($N$269<>\"/\",$N$269>'Paramètres - Admin'!$A3),'Paramètres - Admin'!$A4,\"/\"))","v":"/"},{"$f":"IF(N272<>\"/\",VLOOKUP(N272,COSTS_Archer_Queen[#All],2),\"/\")","v":"/"},{"$f":"IF(N272<>\"/\",VLOOKUP(N272,COSTS_Archer_Queen[#All],3),\"/\")","v":"/"},0,0,2,{"$f":"IF(Paramètres!BL7=0,\"\",Paramètres!BL7)","v":""},0,{"$f":"IF(W272<>\"/\",IF(Y$269=\"Error\",\"Error\",$Z$269+U272),\"/\")","v":"/"},{"$f":"IF(Y$269=\"Error\",\"Error\",IF(AND($W$269<>\"/\",$W$269>'Paramètres - Admin'!$A3),'Paramètres - Admin'!$A4,\"/\"))","v":"/"},{"$f":"IF(W272<>\"/\",VLOOKUP(W272,COSTS_Grand_Warden[#All],2),\"/\")","v":"/"},{"$f":"IF(W272<>\"/\",VLOOKUP(W272,COSTS_Grand_Warden[#All],3),\"/\")","v":"/"},{"$f":"IF(Y$269=\"Error\",\"Error\",IF(X272<>\"/\",V272*X272,0))","v":0},{"$f":"IF(Y$269=\"Error\",\"Error\",IF(Y272<>\"/\",V272*Y272,0))","v":0}]
[3,{"$f":"IF(Paramètres!BJ8=0,\"\",Paramètres!BJ8)","v":""},0,"/",{"$f":"IF(G$269=\"Error\",\"Error\",IF(AND($E$269<>\"/\",$E$269>'Paramètres - Admin'!$A4),'Paramètres - Admin'!$A5,\"/\"))","v":"/"},{"$f":"IF(E273<>\"/\",VLOOKUP(E273,COSTS_Barbarian_King[#All],2),\"/\")","v":"/"},{"$f":"IF(E273<>\"/\",VLOOKUP(E273,COSTS_Barbarian_King[#All],3),\"/\")","v":"/"},0,0,3,{"$f":"IF(Paramètres!BK8=0,\"\",Paramètres!BK8)","v":""},0,"/",{"$f":"IF(P$269=\"Error\",\"Error\",IF(AND($N$269<>\"/\",$N$269>'Paramètres - Admin'!$A4),'Paramètres - Admin'!$A5,\"/\"))","v":"/"},{"$f":"IF(N273<>\"/\",VLOOKUP(N273,COSTS_Archer_Queen[#All],2),\"/\")","v":"/"},{"$f":"IF(N273<>\"/\",VLOOKUP(N273,COSTS_Archer_Queen[#All],3),\"/\")","v":"/"},0,0,3,{"$f":"IF(Paramètres!BL8=0,\"\",Paramètres!BL8)","v":""},0,"/",{"$f":"IF(Y$269=\"Error\",\"Error\",IF(AND($W$269<>\"/\",$W$269>'Paramètres - Admin'!$A4),'Paramètres - Admin'!$A5,\"/\"))","v":"/"},{"$f":"IF(W273<>\"/\",VLOOKUP(W273,COSTS_Grand_Warden[#All],2),\"/\")","v":"/"},{"$f":"IF(W273<>\"/\",VLOOKUP(W273,COSTS_Grand_Warden[#All],3),\"/\")","v":"/"},0,0]
[4,{"$f":"IF(Paramètres!BJ9=0,\"\",Paramètres!BJ9)","v":""},0,"/",{"$f":"IF(G$269=\"Error\",\"Error\",IF(AND($E$269<>\"/\",$E$269>'Paramètres - Admin'!$A5),'Paramètres - Admin'!$A6,\"/\"))","v":"/"},{"$f":"IF(E274<>\"/\",VLOOKUP(E274,COSTS_Barbarian_King[#All],2),\"/\")","v":"/"},{"$f":"IF(E274<>\"/\",VLOOKUP(E274,COSTS_Barbarian_King[#All],3),\"/\")","v":"/"},0,0,4,{"$f":"IF(Paramètres!BK9=0,\"\",Paramètres!BK9)","v":""},0,"/",{"$f":"IF(P$269=\"Error\",\"Error\",IF(AND($N$269<>\"/\",$N$269>'Paramètres - Admin'!$A5),'Paramètres - Admin'!$A6,\"/\"))","v":"/"},{"$f":"IF(N274<>\"/\",VLOOKUP(N274,COSTS_Archer_Queen[#All],2),\"/\")","v":"/"},{"$f":"IF(N274<>\"/\",VLOOKUP(N274,COSTS_Archer_Queen[#All],3),\"/\")","v":"/"},0,0,4,{"$f":"IF(Paramètres!BL9=0,\"\",Paramètres!BL9)","v":""},0,"/",{"$f":"IF(Y$269=\"Error\",\"Error\",IF(AND($W$269<>\"/\",$W$269>'Paramètres - Admin'!$A5),'Paramètres - Admin'!$A6,\"/\"))","v":"/"},{"$f":"IF(W274<>\"/\",VLOOKUP(W274,COSTS_Grand_Warden[#All],2),\"/\")","v":"/"},{"$f":"IF(W274<>\"/\",VLOOKUP(W274,COSTS_Grand_Warden[#All],3),\"/\")","v":"/"},0,0]
[5,{"$f":"IF(Paramètres!BJ10=0,\"\",Paramètres!BJ10)","v":""},0,"/",{"$f":"IF(G$269=\"Error\",\"Error\",IF(AND($E$269<>\"/\",$E$269>'Paramètres - Admin'!$A6),'Paramètres - Admin'!$A7,\"/\"))","v":"/"},{"$f":"IF(E275<>\"/\",VLOOKUP(E275,COSTS_Barbarian_King[#All],2),\"/\")","v":"/"},{"$f":"IF(E275<>\"/\",VLOOKUP(E275,COSTS_Barbarian_King[#All],3),\"/\")","v":"/"},0,0,5,{"$f":"IF(Paramètres!BK10=0,\"\",Paramètres!BK10)","v":""},0,"/",{"$f":"IF(P$269=\"Error\",\"Error\",IF(AND($N$269<>\"/\",$N$269>'Paramètres - Admin'!$A6),'Paramètres - Admin'!$A7,\"/\"))","v":"/"},{"$f":"IF(N275<>\"/\",VLOOKUP(N275,COSTS_Archer_Queen[#All],2),\"/\")","v":"/"},{"$f":"IF(N275<>\"/\",VLOOKUP(N275,COSTS_Archer_Queen[#All],3),\"/\")","v":"/"},0,0,5,{"$f":"IF(Paramètres!BL10=0,\"\",Paramètres!BL10)","v":""},0,"/",{"$f":"IF(Y$269=\"Error\",\"Error\",IF(AND($W$269<>\"/\",$W$269>'Paramètres - Admin'!$A6),'Paramètres - Admin'!$A7,\"/\"))","v":"/"},{"$f":"IF(W275<>\"/\",VLOOKUP(W275,COSTS_Grand_Warden[#All],2),\"/\")","v":"/"},{"$f":"IF(W275<>\"/\",VLOOKUP(W275,COSTS_Grand_Warden[#All],3),\"/\")","v":"/"},0,0]
[6,{"$f":"IF(Paramètres!BJ11=0,\"\",Paramètres!BJ11)","v":""},0,"/",{"$f":"IF(G$269=\"Error\",\"Error\",IF(AND($E$269<>\"/\",$E$269>'Paramètres - Admin'!$A7),'Paramètres - Admin'!$A8,\"/\"))","v":"/"},{"$f":"IF(E276<>\"/\",VLOOKUP(E276,COSTS_Barbarian_King[#All],2),\"/\")","v":"/"},{"$f":"IF(E276<>\"/\",VLOOKUP(E276,COSTS_Barbarian_King[#All],3),\"/\")","v":"/"},0,0,6,{"$f":"IF(Paramètres!BK11=0,\"\",Paramètres!BK11)","v":""},0,"/",{"$f":"IF(P$269=\"Error\",\"Error\",IF(AND($N$269<>\"/\",$N$269>'Paramètres - Admin'!$A7),'Paramètres - Admin'!$A8,\"/\"))","v":"/"},{"$f":"IF(N276<>\"/\",VLOOKUP(N276,COSTS_Archer_Queen[#All],2),\"/\")","v":"/"},{"$f":"IF(N276<>\"/\",VLOOKUP(N276,COSTS_Archer_Queen[#All],3),\"/\")","v":"/"},0,0,6,{"$f":"IF(Paramètres!BL11=0,\"\",Paramètres!BL11)","v":""},0,"/",{"$f":"IF(Y$269=\"Error\",\"Error\",IF(AND($W$269<>\"/\",$W$269>'Paramètres - Admin'!$A7),'Paramètres - Admin'!$A8,\"/\"))","v":"/"},{"$f":"IF(W276<>\"/\",VLOOKUP(W276,COSTS_Grand_Warden[#All],2),\"/\")","v":"/"},{"$f":"IF(W276<>\"/\",VLOOKUP(W276,COSTS_Grand_Warden[#All],3),\"/\")","v":"/"},0,0]
[7,{"$f":"IF(Paramètres!BJ12=0,\"\",Paramètres!BJ12)","v":""},0,"/",{"$f":"IF(G$269=\"Error\",\"Error\",IF(AND($E$269<>\"/\",$E$269>'Paramètres - Admin'!$A8),'Paramètres - Admin'!$A9,\"/\"))","v":"/"},{"$f":"IF(E277<>\"/\",VLOOKUP(E277,COSTS_Barbarian_King[#All],2),\"/\")","v":"/"},{"$f":"IF(E277<>\"/\",VLOOKUP(E277,COSTS_Barbarian_King[#All],3),\"/\")","v":"/"},0,0,7,{"$f":"IF(Paramètres!BK12=0,\"\",Paramètres!BK12)","v":""},0,"/",{"$f":"IF(P$269=\"Error\",\"Error\",IF(AND($N$269<>\"/\",$N$269>'Paramètres - Admin'!$A8),'Paramètres - Admin'!$A9,\"/\"))","v":"/"},{"$f":"IF(N277<>\"/\",VLOOKUP(N277,COSTS_Archer_Queen[#All],2),\"/\")","v":"/"},{"$f":"IF(N277<>\"/\",VLOOKUP(N277,COSTS_Archer_Queen[#All],3),\"/\")","v":"/"},0,0,7,{"$f":"IF(Paramètres!BL12=0,\"\",Paramètres!BL12)","v":""},0,"/",{"$f":"IF(Y$269=\"Error\",\"Error\",IF(AND($W$269<>\"/\",$W$269>'Paramètres - Admin'!$A8),'Paramètres - Admin'!$A9,\"/\"))","v":"/"},{"$f":"IF(W277<>\"/\",VLOOKUP(W277,COSTS_Grand_Warden[#All],2),\"/\")","v":"/"},{"$f":"IF(W277<>\"/\",VLOOKUP(W277,COSTS_Grand_Warden[#All],3),\"/\")","v":"/"},0,0]
[8,{"$f":"IF(Paramètres!BJ13=0,\"\",Paramètres!BJ13)","v":""},0,"/",{"$f":"IF(G$269=\"Error\",\"Error\",IF(AND($E$269<>\"/\",$E$269>'Paramètres - Admin'!$A9),'Paramètres - Admin'!$A10,\"/\"))","v":"/"},{"$f":"IF(E278<>\"/\",VLOOKUP(E278,COSTS_Barbarian_King[#All],2),\"/\")","v":"/"},{"$f":"IF(E278<>\"/\",VLOOKUP(E278,COSTS_Barbarian_King[#All],3),\"/\")","v":"/"},0,0,8,{"$f":"IF(Paramètres!BK13=0,\"\",Paramètres!BK13)","v":""},0,"/",{"$f":"IF(P$269=\"Error\",\"Error\",IF(AND($N$269<>\"/\",$N$269>'Paramètres - Admin'!$A9),'Paramètres - Admin'!$A10,\"/\"))","v":"/"},{"$f":"IF(N278<>\"/\",VLOOKUP(N278,COSTS_Archer_Queen[#All],2),\"/\")","v":"/"},{"$f":"IF(N278<>\"/\",VLOOKUP(N278,COSTS_Archer_Queen[#All],3),\"/\")","v":"/"},0,0,8,{"$f":"IF(Paramètres!BL13=0,\"\",Paramètres!BL13)","v":""},0,"/",{"$f":"IF(Y$269=\"Error\",\"Error\",IF(AND($W$269<>\"/\",$W$269>'Paramètres - Admin'!$A9),'Paramètres - Admin'!$A10,\"/\"))","v":"/"},{"$f":"IF(W278<>\"/\",VLOOKUP(W278,COSTS_Grand_Warden[#All],2),\"/\")","v":"/"},{"$f":"IF(W278<>\"/\",VLOOKUP(W278,COSTS_Grand_Warden[#All],3),\"/\")","v":"/"},0,0]
[9,{"$f":"IF(Paramètres!BJ14=0,\"\",Paramètres!BJ14)","v":""},0,"/",{"$f":"IF(G$269=\"Error\",\"Error\",IF(AND($E$269<>\"/\",$E$269>'Paramètres - Admin'!$A10),'Paramètres - Admin'!$A11,\"/\"))","v":"/"},{"$f":"IF(E279<>\"/\",VLOOKUP(E279,COSTS_Barbarian_King[#All],2),\"/\")","v":"/"},{"$f":"IF(E279<>\"/\",VLOOKUP(E279,COSTS_Barbarian_King[#All],3),\"/\")","v":"/"},0,0,9,{"$f":"IF(Paramètres!BK14=0,\"\",Paramètres!BK14)","v":""},0,"/",{"$f":"IF(P$269=\"Error\",\"Error\",IF(AND($N$269<>\"/\",$N$269>'Paramètres - Admin'!$A10),'Paramètres - Admin'!$A11,\"/\"))","v":"/"},{"$f":"IF(N279<>\"/\",VLOOKUP(N279,COSTS_Archer_Queen[#All],2),\"/\")","v":"/"},{"$f":"IF(N279<>\"/\",VLOOKUP(N279,COSTS_Archer_Queen[#All],3),\"/\")","v":"/"},0,0,9,{"$f":"IF(Paramètres!BL14=0,\"\",Paramètres!BL14)","v":""},0,"/",{"$f":"IF(Y$269=\"Error\",\"Error\",IF(AND($W$269<>\"/\",$W$269>'Paramètres - Admin'!$A10),'Paramètres - Admin'!$A11,\"/\"))","v":"/"},{"$f":"IF(W279<>\"/\",VLOOKUP(W279,COSTS_Grand_Warden[#All],2),\"/\")","v":"/"},{"$f":"IF(W279<>\"/\",VLOOKUP(W279,COSTS_Grand_Warden[#All],3),\"/\")","v":"/"},0,0]
[10,{"$f":"IF(Paramètres!BJ15=0,\"\",Paramètres!BJ15)","v":""},0,"/",{"$f":"IF(G$269=\"Error\",\"Error\",IF(AND($E$269<>\"/\",$E$269>'Paramètres - Admin'!$A11),'Paramètres - Admin'!$A12,\"/\"))","v":"/"},{"$f":"IF(E280<>\"/\",VLOOKUP(E280,COSTS_Barbarian_King[#All],2),\"/\")","v":"/"},{"$f":"IF(E280<>\"/\",VLOOKUP(E280,COSTS_Barbarian_King[#All],3),\"/\")","v":"/"},0,0,10,{"$f":"IF(Paramètres!BK15=0,\"\",Paramètres!BK15)","v":""},0,"/",{"$f":"IF(P$269=\"Error\",\"Error\",IF(AND($N$269<>\"/\",$N$269>'Paramètres - Admin'!$A11),'Paramètres - Admin'!$A12,\"/\"))","v":"/"},{"$f":"IF(N280<>\"/\",VLOOKUP(N280,COSTS_Archer_Queen[#All],2),\"/\")","v":"/"},{"$f":"IF(N280<>\"/\",VLOOKUP(N280,COSTS_Archer_Queen[#All],3),\"/\")","v":"/"},0,0,10,{"$f":"IF(Paramètres!BL15=0,\"\",Paramètres!BL15)","v":""},0,"/",{"$f":"IF(Y$269=\"Error\",\"Error\",IF(AND($W$269<>\"/\",$W$269>'Paramètres - Admin'!$A11),'Paramètres - Admin'!$A12,\"/\"))","v":"/"},{"$f":"IF(W280<>\"/\",VLOOKUP(W280,COSTS_Grand_Warden[#All],2),\"/\")","v":"/"},{"$f":"IF(W280<>\"/\",VLOOKUP(W280,COSTS_Grand_Warden[#All],3),\"/\")","v":"/"},0,0]
[11,{"$f":"IF(Paramètres!BJ16=0,\"\",Paramètres!BJ16)","v":""},0,"/",{"$f":"IF(G$269=\"Error\",\"Error\",IF(AND($E$269<>\"/\",$E$269>'Paramètres - Admin'!$A12),'Paramètres - Admin'!$A13,\"/\"))","v":"/"},{"$f":"IF(E281<>\"/\",VLOOKUP(E281,COSTS_Barbarian_King[#All],2),\"/\")","v":"/"},{"$f":"IF(E281<>\"/\",VLOOKUP(E281,COSTS_Barbarian_King[#All],3),\"/\")","v":"/"},0,0,11,{"$f":"IF(Paramètres!BK16=0,\"\",Paramètres!BK16)","v":""},0,"/",{"$f":"IF(P$269=\"Error\",\"Error\",IF(AND($N$269<>\"/\",$N$269>'Paramètres - Admin'!$A12),'Paramètres - Admin'!$A13,\"/\"))","v":"/"},{"$f":"IF(N281<>\"/\",VLOOKUP(N281,COSTS_Archer_Queen[#All],2),\"/\")","v":"/"},{"$f":"IF(N281<>\"/\",VLOOKUP(N281,COSTS_Archer_Queen[#All],3),\"/\")","v":"/"},0,0,11,{"$f":"IF(Paramètres!BL16=0,\"\",Paramètres!BL16)","v":""},0,"/",{"$f":"IF(Y$269=\"Error\",\"Error\",IF(AND($W$269<>\"/\",$W$269>'Paramètres - Admin'!$A12),'Paramètres - Admin'!$A13,\"/\"))","v":"/"},{"$f":"IF(W281<>\"/\",VLOOKUP(W281,COSTS_Grand_Warden[#All],2),\"/\")","v":"/"},{"$f":"IF(W281<>\"/\",VLOOKUP(W281,COSTS_Grand_Warden[#All],3),\"/\")","v":"/"},0,0]
[12,{"$f":"IF(Paramètres!BJ17=0,\"\",Paramètres!BJ17)","v":""},0,"/",{"$f":"IF(G$269=\"Error\",\"Error\",IF(AND($E$269<>\"/\",$E$269>'Paramètres - Admin'!$A13),'Paramètres - Admin'!$A14,\"/\"))","v":"/"},{"$f":"IF(E282<>\"/\",VLOOKUP(E282,COSTS_Barbarian_King[#All],2),\"/\")","v":"/"},{"$f":"IF(E282<>\"/\",VLOOKUP(E282,COSTS_Barbarian_King[#All],3),\"/\")","v":"/"},0,0,12,{"$f":"IF(Paramètres!BK17=0,\"\",Paramètres!BK17)","v":""},0,"/",{"$f":"IF(P$269=\"Error\",\"Error\",IF(AND($N$269<>\"/\",$N$269>'Paramètres - Admin'!$A13),'Paramètres - Admin'!$A14,\"/\"))","v":"/"},{"$f":"IF(N282<>\"/\",VLOOKUP(N282,COSTS_Archer_Queen[#All],2),\"/\")","v":"/"},{"$f":"IF(N282<>\"/\",VLOOKUP(N282,COSTS_Archer_Queen[#All],3),\"/\")","v":"/"},0,0,12,{"$f":"IF(Paramètres!BL17=0,\"\",Paramètres!BL17)","v":""},0,"/",{"$f":"IF(Y$269=\"Error\",\"Error\",IF(AND($W$269<>\"/\",$W$269>'Paramètres - Admin'!$A13),'Paramètres - Admin'!$A14,\"/\"))","v":"/"},{"$f":"IF(W282<>\"/\",VLOOKUP(W282,COSTS_Grand_Warden[#All],2),\"/\")","v":"/"},{"$f":"IF(W282<>\"/\",VLOOKUP(W282,COSTS_Grand_Warden[#All],3),\"/\")","v":"/"},0,0]
[13,{"$f":"IF(Paramètres!BJ18=0,\"\",Paramètres!BJ18)","v":""},0,"/",{"$f":"IF(G$269=\"Error\",\"Error\",IF(AND($E$269<>\"/\",$E$269>'Paramètres - Admin'!$A14),'Paramètres - Admin'!$A15,\"/\"))","v":"/"},{"$f":"IF(E283<>\"/\",VLOOKUP(E283,COSTS_Barbarian_King[#All],2),\"/\")","v":"/"},{"$f":"IF(E283<>\"/\",VLOOKUP(E283,COSTS_Barbarian_King[#All],3),\"/\")","v":"/"},0,0,13,{"$f":"IF(Paramètres!BK18=0,\"\",Paramètres!BK18)","v":""},0,"/",{"$f":"IF(P$269=\"Error\",\"Error\",IF(AND($N$269<>\"/\",$N$269>'Paramètres - Admin'!$A14),'Paramètres - Admin'!$A15,\"/\"))","v":"/"},{"$f":"IF(N283<>\"/\",VLOOKUP(N283,COSTS_Archer_Queen[#All],2),\"/\")","v":"/"},{"$f":"IF(N283<>\"/\",VLOOKUP(N283,COSTS_Archer_Queen[#All],3),\"/\")","v":"/"},0,0,13,{"$f":"IF(Paramètres!BL18=0,\"\",Paramètres!BL18)","v":""},0,"/",{"$f":"IF(Y$269=\"Error\",\"Error\",IF(AND($W$269<>\"/\",$W$269>'Paramètres - Admin'!$A14),'Paramètres - Admin'!$A15,\"/\"))","v":"/"},{"$f":"IF(W283<>\"/\",VLOOKUP(W283,COSTS_Grand_Warden[#All],2),\"/\")","v":"/"},{"$f":"IF(W283<>\"/\",VLOOKUP(W283,COSTS_Grand_Warden[#All],3),\"/\")","v":"/"},0,0]
[14,{"$f":"IF(Paramètres!BJ19=0,\"\",Paramètres!BJ19)","v":""},0,"/",{"$f":"IF(G$269=\"Error\",\"Error\",IF(AND($E$269<>\"/\",$E$269>'Paramètres - Admin'!$A15),'Paramètres - Admin'!$A16,\"/\"))","v":"/"},{"$f":"IF(E284<>\"/\",VLOOKUP(E284,COSTS_Barbarian_King[#All],2),\"/\")","v":"/"},{"$f":"IF(E284<>\"/\",VLOOKUP(E284,COSTS_Barbarian_King[#All],3),\"/\")","v":"/"},0,0,14,{"$f":"IF(Paramètres!BK19=0,\"\",Paramètres!BK19)","v":""},0,"/",{"$f":"IF(P$269=\"Error\",\"Error\",IF(AND($N$269<>\"/\",$N$269>'Paramètres - Admin'!$A15),'Paramètres - Admin'!$A16,\"/\"))","v":"/"},{"$f":"IF(N284<>\"/\",VLOOKUP(N284,COSTS_Archer_Queen[#All],2),\"/\")","v":"/"},{"$f":"IF(N284<>\"/\",VLOOKUP(N284,COSTS_Archer_Queen[#All],3),\"/\")","v":"/"},0,0,14,{"$f":"IF(Paramètres!BL19=0,\"\",Paramètres!BL19)","v":""},0,"/",{"$f":"IF(Y$269=\"Error\",\"Error\",IF(AND($W$269<>\"/\",$W$269>'Paramètres - Admin'!$A15),'Paramètres - Admin'!$A16,\"/\"))","v":"/"},{"$f":"IF(W284<>\"/\",VLOOKUP(W284,COSTS_Grand_Warden[#All],2),\"/\")","v":"/"},{"$f":"IF(W284<>\"/\",VLOOKUP(W284,COSTS_Grand_Warden[#All],3),\"/\")","v":"/"},0,0]
[15,{"$f":"IF(Paramètres!BJ20=0,\"\",Paramètres!BJ20)","v":""},0,"/",{"$f":"IF(G$269=\"Error\",\"Error\",IF(AND($E$269<>\"/\",$E$269>'Paramètres - Admin'!$A16),'Paramètres - Admin'!$A17,\"/\"))","v":"/"},{"$f":"IF(E285<>\"/\",VLOOKUP(E285,COSTS_Barbarian_King[#All],2),\"/\")","v":"/"},{"$f":"IF(E285<>\"/\",VLOOKUP(E285,COSTS_Barbarian_King[#All],3),\"/\")","v":"/"},0,0,15,{"$f":"IF(Paramètres!BK20=0,\"\",Paramètres!BK20)","v":""},0,"/",{"$f":"IF(P$269=\"Error\",\"Error\",IF(AND($N$269<>\"/\",$N$269>'Paramètres - Admin'!$A16),'Paramètres - Admin'!$A17,\"/\"))","v":"/"},{"$f":"IF(N285<>\"/\",VLOOKUP(N285,COSTS_Archer_Queen[#All],2),\"/\")","v":"/"},{"$f":"IF(N285<>\"/\",VLOOKUP(N285,COSTS_Archer_Queen[#All],3),\"/\")","v":"/"},0,0,15,{"$f":"IF(Paramètres!BL20=0,\"\",Paramètres!BL20)","v":""},0,"/",{"$f":"IF(Y$269=\"Error\",\"Error\",IF(AND($W$269<>\"/\",$W$269>'Paramètres - Admin'!$A16),'Paramètres - Admin'!$A17,\"/\"))","v":"/"},{"$f":"IF(W285<>\"/\",VLOOKUP(W285,COSTS_Grand_Warden[#All],2),\"/\")","v":"/"},{"$f":"IF(W285<>\"/\",VLOOKUP(W285,COSTS_Grand_Warden[#All],3),\"/\")","v":"/"},0,0]
[16,{"$f":"IF(Paramètres!BJ21=0,\"\",Paramètres!BJ21)","v":""},0,"/",{"$f":"IF(G$269=\"Error\",\"Error\",IF(AND($E$269<>\"/\",$E$269>'Paramètres - Admin'!$A17),'Paramètres - Admin'!$A18,\"/\"))","v":"/"},{"$f":"IF(E286<>\"/\",VLOOKUP(E286,COSTS_Barbarian_King[#All],2),\"/\")","v":"/"},{"$f":"IF(E286<>\"/\",VLOOKUP(E286,COSTS_Barbarian_King[#All],3),\"/\")","v":"/"},0,0,16,{"$f":"IF(Paramètres!BK21=0,\"\",Paramètres!BK21)","v":""},0,"/",{"$f":"IF(P$269=\"Error\",\"Error\",IF(AND($N$269<>\"/\",$N$269>'Paramètres - Admin'!$A17),'Paramètres - Admin'!$A18,\"/\"))","v":"/"},{"$f":"IF(N286<>\"/\",VLOOKUP(N286,COSTS_Archer_Queen[#All],2),\"/\")","v":"/"},{"$f":"IF(N286<>\"/\",VLOOKUP(N286,COSTS_Archer_Queen[#All],3),\"/\")","v":"/"},0,0,16,{"$f":"IF(Paramètres!BL21=0,\"\",Paramètres!BL21)","v":""},0,"/",{"$f":"IF(Y$269=\"Error\",\"Error\",IF(AND($W$269<>\"/\",$W$269>'Paramètres - Admin'!$A17),'Paramètres - Admin'!$A18,\"/\"))","v":"/"},{"$f":"IF(W286<>\"/\",VLOOKUP(W286,COSTS_Grand_Warden[#All],2),\"/\")","v":"/"},{"$f":"IF(W286<>\"/\",VLOOKUP(W286,COSTS_Grand_Warden[#All],3),\"/\")","v":"/"},0,0]
[17,{"$f":"IF(Paramètres!BJ22=0,\"\",Paramètres!BJ22)","v":""},0,"/",{"$f":"IF(G$269=\"Error\",\"Error\",IF(AND($E$269<>\"/\",$E$269>'Paramètres - Admin'!$A18),'Paramètres - Admin'!$A19,\"/\"))","v":"/"},{"$f":"IF(E287<>\"/\",VLOOKUP(E287,COSTS_Barbarian_King[#All],2),\"/\")","v":"/"},{"$f":"IF(E287<>\"/\",VLOOKUP(E287,COSTS_Barbarian_King[#All],3),\"/\")","v":"/"},0,0,17,{"$f":"IF(Paramètres!BK22=0,\"\",Paramètres!BK22)","v":""},0,"/",{"$f":"IF(P$269=\"Error\",\"Error\",IF(AND($N$269<>\"/\",$N$269>'Paramètres - Admin'!$A18),'Paramètres - Admin'!$A19,\"/\"))","v":"/"},{"$f":"IF(N287<>\"/\",VLOOKUP(N287,COSTS_Archer_Queen[#All],2),\"/\")","v":"/"},{"$f":"IF(N287<>\"/\",VLOOKUP(N287,COSTS_Archer_Queen[#All],3),\"/\")","v":"/"},0,0,17,{"$f":"IF(Paramètres!BL22=0,\"\",Paramètres!BL22)","v":""},0,"/",{"$f":"IF(Y$269=\"Error\",\"Error\",IF(AND($W$269<>\"/\",$W$269>'Paramètres - Admin'!$A18),'Paramètres - Admin'!$A19,\"/\"))","v":"/"},{"$f":"IF(W287<>\"/\",VLOOKUP(W287,COSTS_Grand_Warden[#All],2),\"/\")","v":"/"},{"$f":"IF(W287<>\"/\",VLOOKUP(W287,COSTS_Grand_Warden[#All],3),\"/\")","v":"/"},0,0]
[18,{"$f":"IF(Paramètres!BJ23=0,\"\",Paramètres!BJ23)","v":""},0,"/",{"$f":"IF(G$269=\"Error\",\"Error\",IF(AND($E$269<>\"/\",$E$269>'Paramètres - Admin'!$A19),'Paramètres - Admin'!$A20,\"/\"))","v":"/"},{"$f":"IF(E288<>\"/\",VLOOKUP(E288,COSTS_Barbarian_King[#All],2),\"/\")","v":"/"},{"$f":"IF(E288<>\"/\",VLOOKUP(E288,COSTS_Barbarian_King[#All],3),\"/\")","v":"/"},0,0,18,{"$f":"IF(Paramètres!BK23=0,\"\",Paramètres!BK23)","v":""},0,"/",{"$f":"IF(P$269=\"Error\",\"Error\",IF(AND($N$269<>\"/\",$N$269>'Paramètres - Admin'!$A19),'Paramètres - Admin'!$A20,\"/\"))","v":"/"},{"$f":"IF(N288<>\"/\",VLOOKUP(N288,COSTS_Archer_Queen[#All],2),\"/\")","v":"/"},{"$f":"IF(N288<>\"/\",VLOOKUP(N288,COSTS_Archer_Queen[#All],3),\"/\")","v":"/"},0,0,18,{"$f":"IF(Paramètres!BL23=0,\"\",Paramètres!BL23)","v":""},0,"/",{"$f":"IF(Y$269=\"Error\",\"Error\",IF(AND($W$269<>\"/\",$W$269>'Paramètres - Admin'!$A19),'Paramètres - Admin'!$A20,\"/\"))","v":"/"},{"$f":"IF(W288<>\"/\",VLOOKUP(W288,COSTS_Grand_Warden[#All],2),\"/\")","v":"/"},{"$f":"IF(W288<>\"/\",VLOOKUP(W288,COSTS_Grand_Warden[#All],3),\"/\")","v":"/"},0,0]
[19,{"$f":"IF(Paramètres!BJ24=0,\"\",Paramètres!BJ24)","v":""},0,"/",{"$f":"IF(G$269=\"Error\",\"Error\",IF(AND($E$269<>\"/\",$E$269>'Paramètres - Admin'!$A20),'Paramètres - Admin'!$A21,\"/\"))","v":"/"},{"$f":"IF(E289<>\"/\",VLOOKUP(E289,COSTS_Barbarian_King[#All],2),\"/\")","v":"/"},{"$f":"IF(E289<>\"/\",VLOOKUP(E289,COSTS_Barbarian_King[#All],3),\"/\")","v":"/"},0,0,19,{"$f":"IF(Paramètres!BK24=0,\"\",Paramètres!BK24)","v":""},0,"/",{"$f":"IF(P$269=\"Error\",\"Error\",IF(AND($N$269<>\"/\",$N$269>'Paramètres - Admin'!$A20),'Paramètres - Admin'!$A21,\"/\"))","v":"/"},{"$f":"IF(N289<>\"/\",VLOOKUP(N289,COSTS_Archer_Queen[#All],2),\"/\")","v":"/"},{"$f":"IF(N289<>\"/\",VLOOKUP(N289,COSTS_Archer_Queen[#All],3),\"/\")","v":"/"},0,0,19,{"$f":"IF(Paramètres!BL24=0,\"\",Paramètres!BL24)","v":""},0,"/",{"$f":"IF(Y$269=\"Error\",\"Error\",IF(AND($W$269<>\"/\",$W$269>'Paramètres - Admin'!$A20),'Paramètres - Admin'!$A21,\"/\"))","v":"/"},{"$f":"IF(W289<>\"/\",VLOOKUP(W289,COSTS_Grand_Warden[#All],2),\"/\")","v":"/"},{"$f":"IF(W289<>\"/\",VLOOKUP(W289,COSTS_Grand_Warden[#All],3),\"/\")","v":"/"},0,0]
[20,{"$f":"IF(Paramètres!BJ25=0,\"\",Paramètres!BJ25)","v":""},0,"/",{"$f":"IF(G$269=\"Error\",\"Error\",IF(AND($E$269<>\"/\",$E$269>'Paramètres - Admin'!$A21),'Paramètres - Admin'!$A22,\"/\"))","v":"/"},{"$f":"IF(E290<>\"/\",VLOOKUP(E290,COSTS_Barbarian_King[#All],2),\"/\")","v":"/"},{"$f":"IF(E290<>\"/\",VLOOKUP(E290,COSTS_Barbarian_King[#All],3),\"/\")","v":"/"},0,0,20,{"$f":"IF(Paramètres!BK25=0,\"\",Paramètres!BK25)","v":""},0,"/",{"$f":"IF(P$269=\"Error\",\"Error\",IF(AND($N$269<>\"/\",$N$269>'Paramètres - Admin'!$A21),'Paramètres - Admin'!$A22,\"/\"))","v":"/"},{"$f":"IF(N290<>\"/\",VLOOKUP(N290,COSTS_Archer_Queen[#All],2),\"/\")","v":"/"},{"$f":"IF(N290<>\"/\",VLOOKUP(N290,COSTS_Archer_Queen[#All],3),\"/\")","v":"/"},0,0,20,{"$f":"IF(Paramètres!BL25=0,\"\",Paramètres!BL25)","v":""},0,"/",{"$f":"IF(Y$269=\"Error\",\"Error\",IF(AND($W$269<>\"/\",$W$269>'Paramètres - Admin'!$A21),'Paramètres - Admin'!$A22,\"/\"))","v":"/"},{"$f":"IF(W290<>\"/\",VLOOKUP(W290,COSTS_Grand_Warden[#All],2),\"/\")","v":"/"},{"$f":"IF(W290<>\"/\",VLOOKUP(W290,COSTS_Grand_Warden[#All],3),\"/\")","v":"/"},0,0]
[21,{"$f":"IF(Paramètres!BJ26=0,\"\",Paramètres!BJ26)","v":""},0,"/",{"$f":"IF(G$269=\"Error\",\"Error\",IF(AND($E$269<>\"/\",$E$269>'Paramètres - Admin'!$A22),'Paramètres - Admin'!$A23,\"/\"))","v":"/"},{"$f":"IF(E291<>\"/\",VLOOKUP(E291,COSTS_Barbarian_King[#All],2),\"/\")","v":"/"},{"$f":"IF(E291<>\"/\",VLOOKUP(E291,COSTS_Barbarian_King[#All],3),\"/\")","v":"/"},0,0,21,{"$f":"IF(Paramètres!BK26=0,\"\",Paramètres!BK26)","v":""},0,"/",{"$f":"IF(P$269=\"Error\",\"Error\",IF(AND($N$269<>\"/\",$N$269>'Paramètres - Admin'!$A22),'Paramètres - Admin'!$A23,\"/\"))","v":"/"},{"$f":"IF(N291<>\"/\",VLOOKUP(N291,COSTS_Archer_Queen[#All],2),\"/\")","v":"/"},{"$f":"IF(N291<>\"/\",VLOOKUP(N291,COSTS_Archer_Queen[#All],3),\"/\")","v":"/"},0,0,21,{"$f":"IF(Paramètres!BL26=0,\"\",Paramètres!BL26)","v":""},0,"/",{"$f":"IF(Y$269=\"Error\",\"Error\",IF(AND($W$269<>\"/\",$W$269>'Paramètres - Admin'!$A22),'Paramètres - Admin'!$A23,\"/\"))","v":"/"},{"$f":"IF(W291<>\"/\",VLOOKUP(W291,COSTS_Grand_Warden[#All],2),\"/\")","v":"/"},{"$f":"IF(W291<>\"/\",VLOOKUP(W291,COSTS_Grand_Warden[#All],3),\"/\")","v":"/"},0,0]
[22,{"$f":"IF(Paramètres!BJ27=0,\"\",Paramètres!BJ27)","v":""},0,"/",{"$f":"IF(G$269=\"Error\",\"Error\",IF(AND($E$269<>\"/\",$E$269>'Paramètres - Admin'!$A23),'Paramètres - Admin'!$A24,\"/\"))","v":"/"},{"$f":"IF(E292<>\"/\",VLOOKUP(E292,COSTS_Barbarian_King[#All],2),\"/\")","v":"/"},{"$f":"IF(E292<>\"/\",VLOOKUP(E292,COSTS_Barbarian_King[#All],3),\"/\")","v":"/"},0,0,22,{"$f":"IF(Paramètres!BK27=0,\"\",Paramètres!BK27)","v":""},0,"/",{"$f":"IF(P$269=\"Error\",\"Error\",IF(AND($N$269<>\"/\",$N$269>'Paramètres - Admin'!$A23),'Paramètres - Admin'!$A24,\"/\"))","v":"/"},{"$f":"IF(N292<>\"/\",VLOOKUP(N292,COSTS_Archer_Queen[#All],2),\"/\")","v":"/"},{"$f":"IF(N292<>\"/\",VLOOKUP(N292,COSTS_Archer_Queen[#All],3),\"/\")","v":"/"},0,0,22,{"$f":"IF(Paramètres!BL27=0,\"\",Paramètres!BL27)","v":""},0,"/",{"$f":"IF(Y$269=\"Error\",\"Error\",IF(AND($W$269<>\"/\",$W$269>'Paramètres - Admin'!$A23),'Paramètres - Admin'!$A24,\"/\"))","v":"/"},{"$f":"IF(W292<>\"/\",VLOOKUP(W292,COSTS_Grand_Warden[#All],2),\"/\")","v":"/"},{"$f":"IF(W292<>\"/\",VLOOKUP(W292,COSTS_Grand_Warden[#All],3),\"/\")","v":"/"},0,0]
[23,{"$f":"IF(Paramètres!BJ28=0,\"\",Paramètres!BJ28)","v":""},0,"/",{"$f":"IF(G$269=\"Error\",\"Error\",IF(AND($E$269<>\"/\",$E$269>'Paramètres - Admin'!$A24),'Paramètres - Admin'!$A25,\"/\"))","v":"/"},{"$f":"IF(E293<>\"/\",VLOOKUP(E293,COSTS_Barbarian_King[#All],2),\"/\")","v":"/"},{"$f":"IF(E293<>\"/\",VLOOKUP(E293,COSTS_Barbarian_King[#All],3),\"/\")","v":"/"},0,0,23,{"$f":"IF(Paramètres!BK28=0,\"\",Paramètres!BK28)","v":""},0,"/",{"$f":"IF(P$269=\"Error\",\"Error\",IF(AND($N$269<>\"/\",$N$269>'Paramètres - Admin'!$A24),'Paramètres - Admin'!$A25,\"/\"))","v":"/"},{"$f":"IF(N293<>\"/\",VLOOKUP(N293,COSTS_Archer_Queen[#All],2),\"/\")","v":"/"},{"$f":"IF(N293<>\"/\",VLOOKUP(N293,COSTS_Archer_Queen[#All],3),\"/\")","v":"/"},0,0,23,{"$f":"IF(Paramètres!BL28=0,\"\",Paramètres!BL28)","v":""},0,"/",{"$f":"IF(Y$269=\"Error\",\"Error\",IF(AND($W$269<>\"/\",$W$269>'Paramètres - Admin'!$A24),'Paramètres - Admin'!$A25,\"/\"))","v":"/"},{"$f":"IF(W293<>\"/\",VLOOKUP(W293,COSTS_Grand_Warden[#All],2),\"/\")","v":"/"},{"$f":"IF(W293<>\"/\",VLOOKUP(W293,COSTS_Grand_Warden[#All],3),\"/\")","v":"/"},0,0]
[24,{"$f":"IF(Paramètres!BJ29=0,\"\",Paramètres!BJ29)","v":""},0,"/",{"$f":"IF(G$269=\"Error\",\"Error\",IF(AND($E$269<>\"/\",$E$269>'Paramètres - Admin'!$A25),'Paramètres - Admin'!$A26,\"/\"))","v":"/"},{"$f":"IF(E294<>\"/\",VLOOKUP(E294,COSTS_Barbarian_King[#All],2),\"/\")","v":"/"},{"$f":"IF(E294<>\"/\",VLOOKUP(E294,COSTS_Barbarian_King[#All],3),\"/\")","v":"/"},0,0,24,{"$f":"IF(Paramètres!BK29=0,\"\",Paramètres!BK29)","v":""},0,"/",{"$f":"IF(P$269=\"Error\",\"Error\",IF(AND($N$269<>\"/\",$N$269>'Paramètres - Admin'!$A25),'Paramètres - Admin'!$A26,\"/\"))","v":"/"},{"$f":"IF(N294<>\"/\",VLOOKUP(N294,COSTS_Archer_Queen[#All],2),\"/\")","v":"/"},{"$f":"IF(N294<>\"/\",VLOOKUP(N294,COSTS_Archer_Queen[#All],3),\"/\")","v":"/"},0,0,24,{"$f":"IF(Paramètres!BL29=0,\"\",Paramètres!BL29)","v":""},0,"/",{"$f":"IF(Y$269=\"Error\",\"Error\",IF(AND($W$269<>\"/\",$W$269>'Paramètres - Admin'!$A25),'Paramètres - Admin'!$A26,\"/\"))","v":"/"},{"$f":"IF(W294<>\"/\",VLOOKUP(W294,COSTS_Grand_Warden[#All],2),\"/\")","v":"/"},{"$f":"IF(W294<>\"/\",VLOOKUP(W294,COSTS_Grand_Warden[#All],3),\"/\")","v":"/"},0,0]
[25,{"$f":"IF(Paramètres!BJ30=0,\"\",Paramètres!BJ30)","v":""},0,"/",{"$f":"IF(G$269=\"Error\",\"Error\",IF(AND($E$269<>\"/\",$E$269>'Paramètres - Admin'!$A26),'Paramètres - Admin'!$A27,\"/\"))","v":"/"},{"$f":"IF(E295<>\"/\",VLOOKUP(E295,COSTS_Barbarian_King[#All],2),\"/\")","v":"/"},{"$f":"IF(E295<>\"/\",VLOOKUP(E295,COSTS_Barbarian_King[#All],3),\"/\")","v":"/"},0,0,25,{"$f":"IF(Paramètres!BK30=0,\"\",Paramètres!BK30)","v":""},0,"/",{"$f":"IF(P$269=\"Error\",\"Error\",IF(AND($N$269<>\"/\",$N$269>'Paramètres - Admin'!$A26),'Paramètres - Admin'!$A27,\"/\"))","v":"/"},{"$f":"IF(N295<>\"/\",VLOOKUP(N295,COSTS_Archer_Queen[#All],2),\"/\")","v":"/"},{"$f":"IF(N295<>\"/\",VLOOKUP(N295,COSTS_Archer_Queen[#All],3),\"/\")","v":"/"},0,0,25,{"$f":"IF(Paramètres!BL30=0,\"\",Paramètres!BL30)","v":""},0,"/",{"$f":"IF(Y$269=\"Error\",\"Error\",IF(AND($W$269<>\"/\",$W$269>'Paramètres - Admin'!$A26),'Paramètres - Admin'!$A27,\"/\"))","v":"/"},{"$f":"IF(W295<>\"/\",VLOOKUP(W295,COSTS_Grand_Warden[#All],2),\"/\")","v":"/"},{"$f":"IF(W295<>\"/\",VLOOKUP(W295,COSTS_Grand_Warden[#All],3),\"/\")","v":"/"},0,0]
[26,{"$f":"IF(Paramètres!BJ31=0,\"\",Paramètres!BJ31)","v":""},0,"/",{"$f":"IF(G$269=\"Error\",\"Error\",IF(AND($E$269<>\"/\",$E$269>'Paramètres - Admin'!$A27),'Paramètres - Admin'!$A28,\"/\"))","v":"/"},{"$f":"IF(E296<>\"/\",VLOOKUP(E296,COSTS_Barbarian_King[#All],2),\"/\")","v":"/"},{"$f":"IF(E296<>\"/\",VLOOKUP(E296,COSTS_Barbarian_King[#All],3),\"/\")","v":"/"},0,0,26,{"$f":"IF(Paramètres!BK31=0,\"\",Paramètres!BK31)","v":""},0,"/",{"$f":"IF(P$269=\"Error\",\"Error\",IF(AND($N$269<>\"/\",$N$269>'Paramètres - Admin'!$A27),'Paramètres - Admin'!$A28,\"/\"))","v":"/"},{"$f":"IF(N296<>\"/\",VLOOKUP(N296,COSTS_Archer_Queen[#All],2),\"/\")","v":"/"},{"$f":"IF(N296<>\"/\",VLOOKUP(N296,COSTS_Archer_Queen[#All],3),\"/\")","v":"/"},0,0,26,{"$f":"IF(Paramètres!BL31=0,\"\",Paramètres!BL31)","v":""},0,"/",{"$f":"IF(Y$269=\"Error\",\"Error\",IF(AND($W$269<>\"/\",$W$269>'Paramètres - Admin'!$A27),'Paramètres - Admin'!$A28,\"/\"))","v":"/"},{"$f":"IF(W296<>\"/\",VLOOKUP(W296,COSTS_Grand_Warden[#All],2),\"/\")","v":"/"},{"$f":"IF(W296<>\"/\",VLOOKUP(W296,COSTS_Grand_Warden[#All],3),\"/\")","v":"/"},0,0]
[27,{"$f":"IF(Paramètres!BJ32=0,\"\",Paramètres!BJ32)","v":""},0,"/",{"$f":"IF(G$269=\"Error\",\"Error\",IF(AND($E$269<>\"/\",$E$269>'Paramètres - Admin'!$A28),'Paramètres - Admin'!$A29,\"/\"))","v":"/"},{"$f":"IF(E297<>\"/\",VLOOKUP(E297,COSTS_Barbarian_King[#All],2),\"/\")","v":"/"},{"$f":"IF(E297<>\"/\",VLOOKUP(E297,COSTS_Barbarian_King[#All],3),\"/\")","v":"/"},0,0,27,{"$f":"IF(Paramètres!BK32=0,\"\",Paramètres!BK32)","v":""},0,"/",{"$f":"IF(P$269=\"Error\",\"Error\",IF(AND($N$269<>\"/\",$N$269>'Paramètres - Admin'!$A28),'Paramètres - Admin'!$A29,\"/\"))","v":"/"},{"$f":"IF(N297<>\"/\",VLOOKUP(N297,COSTS_Archer_Queen[#All],2),\"/\")","v":"/"},{"$f":"IF(N297<>\"/\",VLOOKUP(N297,COSTS_Archer_Queen[#All],3),\"/\")","v":"/"},0,0,27,{"$f":"IF(Paramètres!BL32=0,\"\",Paramètres!BL32)","v":""},0,"/",{"$f":"IF(Y$269=\"Error\",\"Error\",IF(AND($W$269<>\"/\",$W$269>'Paramètres - Admin'!$A28),'Paramètres - Admin'!$A29,\"/\"))","v":"/"},{"$f":"IF(W297<>\"/\",VLOOKUP(W297,COSTS_Grand_Warden[#All],2),\"/\")","v":"/"},{"$f":"IF(W297<>\"/\",VLOOKUP(W297,COSTS_Grand_Warden[#All],3),\"/\")","v":"/"},0,0]
[28,{"$f":"IF(Paramètres!BJ33=0,\"\",Paramètres!BJ33)","v":""},0,"/",{"$f":"IF(G$269=\"Error\",\"Error\",IF(AND($E$269<>\"/\",$E$269>'Paramètres - Admin'!$A29),'Paramètres - Admin'!$A30,\"/\"))","v":"/"},{"$f":"IF(E298<>\"/\",VLOOKUP(E298,COSTS_Barbarian_King[#All],2),\"/\")","v":"/"},{"$f":"IF(E298<>\"/\",VLOOKUP(E298,COSTS_Barbarian_King[#All],3),\"/\")","v":"/"},0,0,28,{"$f":"IF(Paramètres!BK33=0,\"\",Paramètres!BK33)","v":""},0,"/",{"$f":"IF(P$269=\"Error\",\"Error\",IF(AND($N$269<>\"/\",$N$269>'Paramètres - Admin'!$A29),'Paramètres - Admin'!$A30,\"/\"))","v":"/"},{"$f":"IF(N298<>\"/\",VLOOKUP(N298,COSTS_Archer_Queen[#All],2),\"/\")","v":"/"},{"$f":"IF(N298<>\"/\",VLOOKUP(N298,COSTS_Archer_Queen[#All],3),\"/\")","v":"/"},0,0,28,{"$f":"IF(Paramètres!BL33=0,\"\",Paramètres!BL33)","v":""},0,"/",{"$f":"IF(Y$269=\"Error\",\"Error\",IF(AND($W$269<>\"/\",$W$269>'Paramètres - Admin'!$A29),'Paramètres - Admin'!$A30,\"/\"))","v":"/"},{"$f":"IF(W298<>\"/\",VLOOKUP(W298,COSTS_Grand_Warden[#All],2),\"/\")","v":"/"},{"$f":"IF(W298<>\"/\",VLOOKUP(W298,COSTS_Grand_Warden[#All],3),\"/\")","v":"/"},0,0]
[29,{"$f":"IF(Paramètres!BJ34=0,\"\",Paramètres!BJ34)","v":""},0,"/",{"$f":"IF(G$269=\"Error\",\"Error\",IF(AND($E$269<>\"/\",$E$269>'Paramètres - Admin'!$A30),'Paramètres - Admin'!$A31,\"/\"))","v":"/"},{"$f":"IF(E299<>\"/\",VLOOKUP(E299,COSTS_Barbarian_King[#All],2),\"/\")","v":"/"},{"$f":"IF(E299<>\"/\",VLOOKUP(E299,COSTS_Barbarian_King[#All],3),\"/\")","v":"/"},0,0,29,{"$f":"IF(Paramètres!BK34=0,\"\",Paramètres!BK34)","v":""},0,"/",{"$f":"IF(P$269=\"Error\",\"Error\",IF(AND($N$269<>\"/\",$N$269>'Paramètres - Admin'!$A30),'Paramètres - Admin'!$A31,\"/\"))","v":"/"},{"$f":"IF(N299<>\"/\",VLOOKUP(N299,COSTS_Archer_Queen[#All],2),\"/\")","v":"/"},{"$f":"IF(N299<>\"/\",VLOOKUP(N299,COSTS_Archer_Queen[#All],3),\"/\")","v":"/"},0,0,29,{"$f":"IF(Paramètres!BL34=0,\"\",Paramètres!BL34)","v":""},0,"/",{"$f":"IF(Y$269=\"Error\",\"Error\",IF(AND($W$269<>\"/\",$W$269>'Paramètres - Admin'!$A30),'Paramètres - Admin'!$A31,\"/\"))","v":"/"},{"$f":"IF(W299<>\"/\",VLOOKUP(W299,COSTS_Grand_Warden[#All],2),\"/\")","v":"/"},{"$f":"IF(W299<>\"/\",VLOOKUP(W299,COSTS_Grand_Warden[#All],3),\"/\")","v":"/"},0,0]
[30,{"$f":"IF(Paramètres!BJ35=0,\"\",Paramètres!BJ35)","v":""},0,"/",{"$f":"IF(G$269=\"Error\",\"Error\",IF(AND($E$269<>\"/\",$E$269>'Paramètres - Admin'!$A31),'Paramètres - Admin'!$A32,\"/\"))","v":"/"},{"$f":"IF(E300<>\"/\",VLOOKUP(E300,COSTS_Barbarian_King[#All],2),\"/\")","v":"/"},{"$f":"IF(E300<>\"/\",VLOOKUP(E300,COSTS_Barbarian_King[#All],3),\"/\")","v":"/"},0,0,30,{"$f":"IF(Paramètres!BK35=0,\"\",Paramètres!BK35)","v":""},0,"/",{"$f":"IF(P$269=\"Error\",\"Error\",IF(AND($N$269<>\"/\",$N$269>'Paramètres - Admin'!$A31),'Paramètres - Admin'!$A32,\"/\"))","v":"/"},{"$f":"IF(N300<>\"/\",VLOOKUP(N300,COSTS_Archer_Queen[#All],2),\"/\")","v":"/"},{"$f":"IF(N300<>\"/\",VLOOKUP(N300,COSTS_Archer_Queen[#All],3),\"/\")","v":"/"},0,0,30,{"$f":"IF(Paramètres!BL35=0,\"\",Paramètres!BL35)","v":""},0,"/",{"$f":"IF(Y$269=\"Error\",\"Error\",IF(AND($W$269<>\"/\",$W$269>'Paramètres - Admin'!$A31),'Paramètres - Admin'!$A32,\"/\"))","v":"/"},{"$f":"IF(W300<>\"/\",VLOOKUP(W300,COSTS_Grand_Warden[#All],2),\"/\")","v":"/"},{"$f":"IF(W300<>\"/\",VLOOKUP(W300,COSTS_Grand_Warden[#All],3),\"/\")","v":"/"},0,0]
[31,{"$f":"IF(Paramètres!BJ36=0,\"\",Paramètres!BJ36)","v":""},0,"/",{"$f":"IF(G$269=\"Error\",\"Error\",IF(AND($E$269<>\"/\",$E$269>'Paramètres - Admin'!$A32),'Paramètres - Admin'!$A33,\"/\"))","v":"/"},{"$f":"IF(E301<>\"/\",VLOOKUP(E301,COSTS_Barbarian_King[#All],2),\"/\")","v":"/"},{"$f":"IF(E301<>\"/\",VLOOKUP(E301,COSTS_Barbarian_King[#All],3),\"/\")","v":"/"},0,0,31,{"$f":"IF(Paramètres!BK36=0,\"\",Paramètres!BK36)","v":""},0,"/",{"$f":"IF(P$269=\"Error\",\"Error\",IF(AND($N$269<>\"/\",$N$269>'Paramètres - Admin'!$A32),'Paramètres - Admin'!$A33,\"/\"))","v":"/"},{"$f":"IF(N301<>\"/\",VLOOKUP(N301,COSTS_Archer_Queen[#All],2),\"/\")","v":"/"},{"$f":"IF(N301<>\"/\",VLOOKUP(N301,COSTS_Archer_Queen[#All],3),\"/\")","v":"/"},0,0,31,{"$f":"IF(Paramètres!BL36=0,\"\",Paramètres!BL36)","v":""},0,"/",{"$f":"IF(Y$269=\"Error\",\"Error\",IF(AND($W$269<>\"/\",$W$269>'Paramètres - Admin'!$A32),'Paramètres - Admin'!$A33,\"/\"))","v":"/"},{"$f":"IF(W301<>\"/\",VLOOKUP(W301,COSTS_Grand_Warden[#All],2),\"/\")","v":"/"},{"$f":"IF(W301<>\"/\",VLOOKUP(W301,COSTS_Grand_Warden[#All],3),\"/\")","v":"/"},0,0]
[32,{"$f":"IF(Paramètres!BJ37=0,\"\",Paramètres!BJ37)","v":""},0,"/",{"$f":"IF(G$269=\"Error\",\"Error\",IF(AND($E$269<>\"/\",$E$269>'Paramètres - Admin'!$A33),'Paramètres - Admin'!$A34,\"/\"))","v":"/"},{"$f":"IF(E302<>\"/\",VLOOKUP(E302,COSTS_Barbarian_King[#All],2),\"/\")","v":"/"},{"$f":"IF(E302<>\"/\",VLOOKUP(E302,COSTS_Barbarian_King[#All],3),\"/\")","v":"/"},0,0,32,{"$f":"IF(Paramètres!BK37=0,\"\",Paramètres!BK37)","v":""},0,"/",{"$f":"IF(P$269=\"Error\",\"Error\",IF(AND($N$269<>\"/\",$N$269>'Paramètres - Admin'!$A33),'Paramètres - Admin'!$A34,\"/\"))","v":"/"},{"$f":"IF(N302<>\"/\",VLOOKUP(N302,COSTS_Archer_Queen[#All],2),\"/\")","v":"/"},{"$f":"IF(N302<>\"/\",VLOOKUP(N302,COSTS_Archer_Queen[#All],3),\"/\")","v":"/"},0,0,32,{"$f":"IF(Paramètres!BL37=0,\"\",Paramètres!BL37)","v":""},0,"/",{"$f":"IF(Y$269=\"Error\",\"Error\",IF(AND($W$269<>\"/\",$W$269>'Paramètres - Admin'!$A33),'Paramètres - Admin'!$A34,\"/\"))","v":"/"},{"$f":"IF(W302<>\"/\",VLOOKUP(W302,COSTS_Grand_Warden[#All],2),\"/\")","v":"/"},{"$f":"IF(W302<>\"/\",VLOOKUP(W302,COSTS_Grand_Warden[#All],3),\"/\")","v":"/"},0,0]
[33,{"$f":"IF(Paramètres!BJ38=0,\"\",Paramètres!BJ38)","v":""},0,"/",{"$f":"IF(G$269=\"Error\",\"Error\",IF(AND($E$269<>\"/\",$E$269>'Paramètres - Admin'!$A34),'Paramètres - Admin'!$A35,\"/\"))","v":"/"},{"$f":"IF(E303<>\"/\",VLOOKUP(E303,COSTS_Barbarian_King[#All],2),\"/\")","v":"/"},{"$f":"IF(E303<>\"/\",VLOOKUP(E303,COSTS_Barbarian_King[#All],3),\"/\")","v":"/"},0,0,33,{"$f":"IF(Paramètres!BK38=0,\"\",Paramètres!BK38)","v":""},0,"/",{"$f":"IF(P$269=\"Error\",\"Error\",IF(AND($N$269<>\"/\",$N$269>'Paramètres - Admin'!$A34),'Paramètres - Admin'!$A35,\"/\"))","v":"/"},{"$f":"IF(N303<>\"/\",VLOOKUP(N303,COSTS_Archer_Queen[#All],2),\"/\")","v":"/"},{"$f":"IF(N303<>\"/\",VLOOKUP(N303,COSTS_Archer_Queen[#All],3),\"/\")","v":"/"},0,0,33,{"$f":"IF(Paramètres!BL38=0,\"\",Paramètres!BL38)","v":""},0,"/",{"$f":"IF(Y$269=\"Error\",\"Error\",IF(AND($W$269<>\"/\",$W$269>'Paramètres - Admin'!$A34),'Paramètres - Admin'!$A35,\"/\"))","v":"/"},{"$f":"IF(W303<>\"/\",VLOOKUP(W303,COSTS_Grand_Warden[#All],2),\"/\")","v":"/"},{"$f":"IF(W303<>\"/\",VLOOKUP(W303,COSTS_Grand_Warden[#All],3),\"/\")","v":"/"},0,0]
[34,{"$f":"IF(Paramètres!BJ39=0,\"\",Paramètres!BJ39)","v":""},0,"/",{"$f":"IF(G$269=\"Error\",\"Error\",IF(AND($E$269<>\"/\",$E$269>'Paramètres - Admin'!$A35),'Paramètres - Admin'!$A36,\"/\"))","v":"/"},{"$f":"IF(E304<>\"/\",VLOOKUP(E304,COSTS_Barbarian_King[#All],2),\"/\")","v":"/"},{"$f":"IF(E304<>\"/\",VLOOKUP(E304,COSTS_Barbarian_King[#All],3),\"/\")","v":"/"},0,0,34,{"$f":"IF(Paramètres!BK39=0,\"\",Paramètres!BK39)","v":""},0,"/",{"$f":"IF(P$269=\"Error\",\"Error\",IF(AND($N$269<>\"/\",$N$269>'Paramètres - Admin'!$A35),'Paramètres - Admin'!$A36,\"/\"))","v":"/"},{"$f":"IF(N304<>\"/\",VLOOKUP(N304,COSTS_Archer_Queen[#All],2),\"/\")","v":"/"},{"$f":"IF(N304<>\"/\",VLOOKUP(N304,COSTS_Archer_Queen[#All],3),\"/\")","v":"/"},0,0,34,{"$f":"IF(Paramètres!BL39=0,\"\",Paramètres!BL39)","v":""},0,"/",{"$f":"IF(Y$269=\"Error\",\"Error\",IF(AND($W$269<>\"/\",$W$269>'Paramètres - Admin'!$A35),'Paramètres - Admin'!$A36,\"/\"))","v":"/"},{"$f":"IF(W304<>\"/\",VLOOKUP(W304,COSTS_Grand_Warden[#All],2),\"/\")","v":"/"},{"$f":"IF(W304<>\"/\",VLOOKUP(W304,COSTS_Grand_Warden[#All],3),\"/\")","v":"/"},0,0]
[35,{"$f":"IF(Paramètres!BJ40=0,\"\",Paramètres!BJ40)","v":""},0,"/",{"$f":"IF(G$269=\"Error\",\"Error\",IF(AND($E$269<>\"/\",$E$269>'Paramètres - Admin'!$A36),'Paramètres - Admin'!$A37,\"/\"))","v":"/"},{"$f":"IF(E305<>\"/\",VLOOKUP(E305,COSTS_Barbarian_King[#All],2),\"/\")","v":"/"},{"$f":"IF(E305<>\"/\",VLOOKUP(E305,COSTS_Barbarian_King[#All],3),\"/\")","v":"/"},0,0,35,{"$f":"IF(Paramètres!BK40=0,\"\",Paramètres!BK40)","v":""},0,"/",{"$f":"IF(P$269=\"Error\",\"Error\",IF(AND($N$269<>\"/\",$N$269>'Paramètres - Admin'!$A36),'Paramètres - Admin'!$A37,\"/\"))","v":"/"},{"$f":"IF(N305<>\"/\",VLOOKUP(N305,COSTS_Archer_Queen[#All],2),\"/\")","v":"/"},{"$f":"IF(N305<>\"/\",VLOOKUP(N305,COSTS_Archer_Queen[#All],3),\"/\")","v":"/"},0,0,35,{"$f":"IF(Paramètres!BL40=0,\"\",Paramètres!BL40)","v":""},0,"/",{"$f":"IF(Y$269=\"Error\",\"Error\",IF(AND($W$269<>\"/\",$W$269>'Paramètres - Admin'!$A36),'Paramètres - Admin'!$A37,\"/\"))","v":"/"},{"$f":"IF(W305<>\"/\",VLOOKUP(W305,COSTS_Grand_Warden[#All],2),\"/\")","v":"/"},{"$f":"IF(W305<>\"/\",VLOOKUP(W305,COSTS_Grand_Warden[#All],3),\"/\")","v":"/"},0,0]
[36,{"$f":"IF(Paramètres!BJ41=0,\"\",Paramètres!BJ41)","v":""},0,"/",{"$f":"IF(G$269=\"Error\",\"Error\",IF(AND($E$269<>\"/\",$E$269>'Paramètres - Admin'!$A37),'Paramètres - Admin'!$A38,\"/\"))","v":"/"},{"$f":"IF(E306<>\"/\",VLOOKUP(E306,COSTS_Barbarian_King[#All],2),\"/\")","v":"/"},{"$f":"IF(E306<>\"/\",VLOOKUP(E306,COSTS_Barbarian_King[#All],3),\"/\")","v":"/"},0,0,36,{"$f":"IF(Paramètres!BK41=0,\"\",Paramètres!BK41)","v":""},0,"/",{"$f":"IF(P$269=\"Error\",\"Error\",IF(AND($N$269<>\"/\",$N$269>'Paramètres - Admin'!$A37),'Paramètres - Admin'!$A38,\"/\"))","v":"/"},{"$f":"IF(N306<>\"/\",VLOOKUP(N306,COSTS_Archer_Queen[#All],2),\"/\")","v":"/"},{"$f":"IF(N306<>\"/\",VLOOKUP(N306,COSTS_Archer_Queen[#All],3),\"/\")","v":"/"},0,0,36,{"$f":"IF(Paramètres!BL41=0,\"\",Paramètres!BL41)","v":""},0,"/",{"$f":"IF(Y$269=\"Error\",\"Error\",IF(AND($W$269<>\"/\",$W$269>'Paramètres - Admin'!$A37),'Paramètres - Admin'!$A38,\"/\"))","v":"/"},{"$f":"IF(W306<>\"/\",VLOOKUP(W306,COSTS_Grand_Warden[#All],2),\"/\")","v":"/"},{"$f":"IF(W306<>\"/\",VLOOKUP(W306,COSTS_Grand_Warden[#All],3),\"/\")","v":"/"},0,0]
[37,{"$f":"IF(Paramètres!BJ42=0,\"\",Paramètres!BJ42)","v":""},0,"/",{"$f":"IF(G$269=\"Error\",\"Error\",IF(AND($E$269<>\"/\",$E$269>'Paramètres - Admin'!$A38),'Paramètres - Admin'!$A39,\"/\"))","v":"/"},{"$f":"IF(E307<>\"/\",VLOOKUP(E307,COSTS_Barbarian_King[#All],2),\"/\")","v":"/"},{"$f":"IF(E307<>\"/\",VLOOKUP(E307,COSTS_Barbarian_King[#All],3),\"/\")","v":"/"},0,0,37,{"$f":"IF(Paramètres!BK42=0,\"\",Paramètres!BK42)","v":""},0,"/",{"$f":"IF(P$269=\"Error\",\"Error\",IF(AND($N$269<>\"/\",$N$269>'Paramètres - Admin'!$A38),'Paramètres - Admin'!$A39,\"/\"))","v":"/"},{"$f":"IF(N307<>\"/\",VLOOKUP(N307,COSTS_Archer_Queen[#All],2),\"/\")","v":"/"},{"$f":"IF(N307<>\"/\",VLOOKUP(N307,COSTS_Archer_Queen[#All],3),\"/\")","v":"/"},0,0,37,{"$f":"IF(Paramètres!BL42=0,\"\",Paramètres!BL42)","v":""},0,"/",{"$f":"IF(Y$269=\"Error\",\"Error\",IF(AND($W$269<>\"/\",$W$269>'Paramètres - Admin'!$A38),'Paramètres - Admin'!$A39,\"/\"))","v":"/"},{"$f":"IF(W307<>\"/\",VLOOKUP(W307,COSTS_Grand_Warden[#All],2),\"/\")","v":"/"},{"$f":"IF(W307<>\"/\",VLOOKUP(W307,COSTS_Grand_Warden[#All],3),\"/\")","v":"/"},0,0]
[38,{"$f":"IF(Paramètres!BJ43=0,\"\",Paramètres!BJ43)","v":""},0,"/",{"$f":"IF(G$269=\"Error\",\"Error\",IF(AND($E$269<>\"/\",$E$269>'Paramètres - Admin'!$A39),'Paramètres - Admin'!$A40,\"/\"))","v":"/"},{"$f":"IF(E308<>\"/\",VLOOKUP(E308,COSTS_Barbarian_King[#All],2),\"/\")","v":"/"},{"$f":"IF(E308<>\"/\",VLOOKUP(E308,COSTS_Barbarian_King[#All],3),\"/\")","v":"/"},0,0,38,{"$f":"IF(Paramètres!BK43=0,\"\",Paramètres!BK43)","v":""},0,"/",{"$f":"IF(P$269=\"Error\",\"Error\",IF(AND($N$269<>\"/\",$N$269>'Paramètres - Admin'!$A39),'Paramètres - Admin'!$A40,\"/\"))","v":"/"},{"$f":"IF(N308<>\"/\",VLOOKUP(N308,COSTS_Archer_Queen[#All],2),\"/\")","v":"/"},{"$f":"IF(N308<>\"/\",VLOOKUP(N308,COSTS_Archer_Queen[#All],3),\"/\")","v":"/"},0,0,38,{"$f":"IF(Paramètres!BL43=0,\"\",Paramètres!BL43)","v":""},0,"/",{"$f":"IF(Y$269=\"Error\",\"Error\",IF(AND($W$269<>\"/\",$W$269>'Paramètres - Admin'!$A39),'Paramètres - Admin'!$A40,\"/\"))","v":"/"},{"$f":"IF(W308<>\"/\",VLOOKUP(W308,COSTS_Grand_Warden[#All],2),\"/\")","v":"/"},{"$f":"IF(W308<>\"/\",VLOOKUP(W308,COSTS_Grand_Warden[#All],3),\"/\")","v":"/"},0,0]
[39,{"$f":"IF(Paramètres!BJ44=0,\"\",Paramètres!BJ44)","v":""},0,"/",{"$f":"IF(G$269=\"Error\",\"Error\",IF(AND($E$269<>\"/\",$E$269>'Paramètres - Admin'!$A40),'Paramètres - Admin'!$A41,\"/\"))","v":"/"},{"$f":"IF(E309<>\"/\",VLOOKUP(E309,COSTS_Barbarian_King[#All],2),\"/\")","v":"/"},{"$f":"IF(E309<>\"/\",VLOOKUP(E309,COSTS_Barbarian_King[#All],3),\"/\")","v":"/"},0,0,39,{"$f":"IF(Paramètres!BK44=0,\"\",Paramètres!BK44)","v":""},0,"/",{"$f":"IF(P$269=\"Error\",\"Error\",IF(AND($N$269<>\"/\",$N$269>'Paramètres - Admin'!$A40),'Paramètres - Admin'!$A41,\"/\"))","v":"/"},{"$f":"IF(N309<>\"/\",VLOOKUP(N309,COSTS_Archer_Queen[#All],2),\"/\")","v":"/"},{"$f":"IF(N309<>\"/\",VLOOKUP(N309,COSTS_Archer_Queen[#All],3),\"/\")","v":"/"},0,0,39,{"$f":"IF(Paramètres!BL44=0,\"\",Paramètres!BL44)","v":""},0,"/",{"$f":"IF(Y$269=\"Error\",\"Error\",IF(AND($W$269<>\"/\",$W$269>'Paramètres - Admin'!$A40),'Paramètres - Admin'!$A41,\"/\"))","v":"/"},{"$f":"IF(W309<>\"/\",VLOOKUP(W309,COSTS_Grand_Warden[#All],2),\"/\")","v":"/"},{"$f":"IF(W309<>\"/\",VLOOKUP(W309,COSTS_Grand_Warden[#All],3),\"/\")","v":"/"},0,0]
[40,{"$f":"IF(Paramètres!BJ45=0,\"\",Paramètres!BJ45)","v":""},0,"/",{"$f":"IF(G$269=\"Error\",\"Error\",IF(AND($E$269<>\"/\",$E$269>'Paramètres - Admin'!$A41),'Paramètres - Admin'!$A42,\"/\"))","v":"/"},{"$f":"IF(E310<>\"/\",VLOOKUP(E310,COSTS_Barbarian_King[#All],2),\"/\")","v":"/"},{"$f":"IF(E310<>\"/\",VLOOKUP(E310,COSTS_Barbarian_King[#All],3),\"/\")","v":"/"},0,0,40,{"$f":"IF(Paramètres!BK45=0,\"\",Paramètres!BK45)","v":""},0,"/",{"$f":"IF(P$269=\"Error\",\"Error\",IF(AND($N$269<>\"/\",$N$269>'Paramètres - Admin'!$A41),'Paramètres - Admin'!$A42,\"/\"))","v":"/"},{"$f":"IF(N310<>\"/\",VLOOKUP(N310,COSTS_Archer_Queen[#All],2),\"/\")","v":"/"},{"$f":"IF(N310<>\"/\",VLOOKUP(N310,COSTS_Archer_Queen[#All],3),\"/\")","v":"/"},0,0,40,{"$f":"IF(Paramètres!BL45=0,\"\",Paramètres!BL45)","v":""},0,"/",{"$f":"IF(Y$269=\"Error\",\"Error\",IF(AND($W$269<>\"/\",$W$269>'Paramètres - Admin'!$A41),'Paramètres - Admin'!$A42,\"/\"))","v":"/"},{"$f":"IF(W310<>\"/\",VLOOKUP(W310,COSTS_Grand_Warden[#All],2),\"/\")","v":"/"},{"$f":"IF(W310<>\"/\",VLOOKUP(W310,COSTS_Grand_Warden[#All],3),\"/\")","v":"/"},0,0]
[41,{"$f":"IF(Paramètres!BJ46=0,\"\",Paramètres!BJ46)","v":""},0,"/",{"$f":"IF(G$269=\"Error\",\"Error\",IF(AND($E$269<>\"/\",$E$269>'Paramètres - Admin'!$A42),'Paramètres - Admin'!$A43,\"/\"))","v":"/"},{"$f":"IF(E311<>\"/\",VLOOKUP(E311,COSTS_Barbarian_King[#All],2),\"/\")","v":"/"},{"$f":"IF(E311<>\"/\",VLOOKUP(E311,COSTS_Barbarian_King[#All],3),\"/\")","v":"/"},0,0,41,{"$f":"IF(Paramètres!BK46=0,\"\",Paramètres!BK46)","v":""},0,"/",{"$f":"IF(P$269=\"Error\",\"Error\",IF(AND($N$269<>\"/\",$N$269>'Paramètres - Admin'!$A42),'Paramètres - Admin'!$A43,\"/\"))","v":"/"},{"$f":"IF(N311<>\"/\",VLOOKUP(N311,COSTS_Archer_Queen[#All],2),\"/\")","v":"/"},{"$f":"IF(N311<>\"/\",VLOOKUP(N311,COSTS_Archer_Queen[#All],3),\"/\")","v":"/"},0,0,41,{"$f":"IF(Paramètres!BL46=0,\"\",Paramètres!BL46)","v":""},{"$f":"IF(U308<>0,U308+IF(AND(T308<>\"\",S308<W$269),T308,0),IF(AND(T308<>\"\",S308<W$269),T308,0))","v":0},"/",{"$f":"IF(Y$269=\"Error\",\"Error\",IF(AND($W$269<>\"/\",$W$269>'Paramètres - Admin'!$A40),'Paramètres - Admin'!$A41,\"/\"))","v":"/"},{"$f":"IF(W311<>\"/\",VLOOKUP(W311,COSTS_Grand_Warden[#All],2),\"/\")","v":"/"},{"$f":"IF(W311<>\"/\",VLOOKUP(W311,COSTS_Grand_Warden[#All],3),\"/\")","v":"/"},0,0]
[42,{"$f":"IF(Paramètres!BJ47=0,\"\",Paramètres!BJ47)","v":""},0,"/",{"$f":"IF(G$269=\"Error\",\"Error\",IF(AND($E$269<>\"/\",$E$269>'Paramètres - Admin'!$A43),'Paramètres - Admin'!$A44,\"/\"))","v":"/"},{"$f":"IF(E312<>\"/\",VLOOKUP(E312,COSTS_Barbarian_King[#All],2),\"/\")","v":"/"},{"$f":"IF(E312<>\"/\",VLOOKUP(E312,COSTS_Barbarian_King[#All],3),\"/\")","v":"/"},0,0,42,{"$f":"IF(Paramètres!BK47=0,\"\",Paramètres!BK47)","v":""},0,"/",{"$f":"IF(P$269=\"Error\",\"Error\",IF(AND($N$269<>\"/\",$N$269>'Paramètres - Admin'!$A43),'Paramètres - Admin'!$A44,\"/\"))","v":"/"},{"$f":"IF(N312<>\"/\",VLOOKUP(N312,COSTS_Archer_Queen[#All],2),\"/\")","v":"/"},{"$f":"IF(N312<>\"/\",VLOOKUP(N312,COSTS_Archer_Queen[#All],3),\"/\")","v":"/"},0,0,42,{"$f":"IF(Paramètres!BL47=0,\"\",Paramètres!BL47)","v":""},{"$f":"IF(U308<>0,U308+IF(AND(T308<>\"\",S308<W$269),T308,0),IF(AND(T308<>\"\",S308<W$269),T308,0))","v":0},"/",{"$f":"IF(Y$269=\"Error\",\"Error\",IF(AND($W$269<>\"/\",$W$269>'Paramètres - Admin'!$A40),'Paramètres - Admin'!$A41,\"/\"))","v":"/"},{"$f":"IF(W312<>\"/\",VLOOKUP(W312,COSTS_Grand_Warden[#All],2),\"/\")","v":"/"},{"$f":"IF(W312<>\"/\",VLOOKUP(W312,COSTS_Grand_Warden[#All],3),\"/\")","v":"/"},0,0]
[43,{"$f":"IF(Paramètres!BJ48=0,\"\",Paramètres!BJ48)","v":""},0,{"$f":"IF(E313<>\"/\",IF(G$269=\"Error\",\"Error\",$H$269+C313),\"/\")","v":"/"},{"$f":"IF(G$269=\"Error\",\"Error\",IF(AND($E$269<>\"/\",$E$269>'Paramètres - Admin'!$A44),'Paramètres - Admin'!$A45,\"/\"))","v":"/"},{"$f":"IF(E313<>\"/\",VLOOKUP(E313,COSTS_Barbarian_King[#All],2),\"/\")","v":"/"},{"$f":"IF(E313<>\"/\",VLOOKUP(E313,COSTS_Barbarian_King[#All],3),\"/\")","v":"/"},0,{"$f":"IF(G$269=\"Error\",\"Error\",IF(G313<>\"/\",D313*G313,0))","v":0},43,{"$f":"IF(Paramètres!BK48=0,\"\",Paramètres!BK48)","v":""},0,{"$f":"IF(N313<>\"/\",IF(P$269=\"Error\",\"Error\",$Q$269+L313),\"/\")","v":"/"},{"$f":"IF(P$269=\"Error\",\"Error\",IF(AND($N$269<>\"/\",$N$269>'Paramètres - Admin'!$A44),'Paramètres - Admin'!$A45,\"/\"))","v":"/"},{"$f":"IF(N313<>\"/\",VLOOKUP(N313,COSTS_Archer_Queen[#All],2),\"/\")","v":"/"},{"$f":"IF(N313<>\"/\",VLOOKUP(N313,COSTS_Archer_Queen[#All],3),\"/\")","v":"/"},0,0,43,{"$f":"IF(Paramètres!BL48=0,\"\",Paramètres!BL48)","v":""},{"$f":"IF(U310<>0,U310+IF(AND(T310<>\"\",S310<W$269),T310,0),IF(AND(T310<>\"\",S310<W$269),T310,0))","v":0},{"$f":"IF(W313<>\"/\",IF(Y$269=\"Error\",\"Error\",$Z$269+U313),\"/\")","v":"/"},{"$f":"IF(Y$269=\"Error\",\"Error\",IF(AND($W$269<>\"/\",$W$269>'Paramètres - Admin'!$A42),'Paramètres - Admin'!$A43,\"/\"))","v":"/"},{"$f":"IF(W313<>\"/\",VLOOKUP(W313,COSTS_Grand_Warden[#All],2),\"/\")","v":"/"},{"$f":"IF(W313<>\"/\",VLOOKUP(W313,COSTS_Grand_Warden[#All],3),\"/\")","v":"/"},{"$f":"IF(Y$269=\"Error\",\"Error\",IF(X313<>\"/\",V313*X313,0))","v":0},{"$f":"IF(Y$269=\"Error\",\"Error\",IF(Y313<>\"/\",V313*Y313,0))","v":0}]
[44,{"$f":"IF(Paramètres!BJ49=0,\"\",Paramètres!BJ49)","v":""},0,"/",{"$f":"IF(G$269=\"Error\",\"Error\",IF(AND($E$269<>\"/\",$E$269>'Paramètres - Admin'!$A45),'Paramètres - Admin'!$A46,\"/\"))","v":"/"},{"$f":"IF(E314<>\"/\",VLOOKUP(E314,COSTS_Barbarian_King[#All],2),\"/\")","v":"/"},{"$f":"IF(E314<>\"/\",VLOOKUP(E314,COSTS_Barbarian_King[#All],3),\"/\")","v":"/"},0,0,44,{"$f":"IF(Paramètres!BK49=0,\"\",Paramètres!BK49)","v":""},0,"/",{"$f":"IF(P$269=\"Error\",\"Error\",IF(AND($N$269<>\"/\",$N$269>'Paramètres - Admin'!$A45),'Paramètres - Admin'!$A46,\"/\"))","v":"/"},{"$f":"IF(N314<>\"/\",VLOOKUP(N314,COSTS_Archer_Queen[#All],2),\"/\")","v":"/"},{"$f":"IF(N314<>\"/\",VLOOKUP(N314,COSTS_Archer_Queen[#All],3),\"/\")","v":"/"},0,0,44,{"$f":"IF(Paramètres!BL49=0,\"\",Paramètres!BL49)","v":""},{"$f":"IF(U309<>0,U309+IF(AND(T309<>\"\",S309<W$269),T309,0),IF(AND(T309<>\"\",S309<W$269),T309,0))","v":0},"/",{"$f":"IF(Y$269=\"Error\",\"Error\",IF(AND($W$269<>\"/\",$W$269>'Paramètres - Admin'!$A41),'Paramètres - Admin'!$A42,\"/\"))","v":"/"},{"$f":"IF(W314<>\"/\",VLOOKUP(W314,COSTS_Grand_Warden[#All],2),\"/\")","v":"/"},{"$f":"IF(W314<>\"/\",VLOOKUP(W314,COSTS_Grand_Warden[#All],3),\"/\")","v":"/"},0,0]
[45,{"$f":"IF(Paramètres!BJ50=0,\"\",Paramètres!BJ50)","v":""},0,{"$f":"IF(E315<>\"/\",IF(G$269=\"Error\",\"Error\",$H$269+C315),\"/\")","v":"/"},{"$f":"IF(G$269=\"Error\",\"Error\",IF(AND($E$269<>\"/\",$E$269>'Paramètres - Admin'!$A46),'Paramètres - Admin'!$A47,\"/\"))","v":"/"},{"$f":"IF(E315<>\"/\",VLOOKUP(E315,COSTS_Barbarian_King[#All],2),\"/\")","v":"/"},{"$f":"IF(E315<>\"/\",VLOOKUP(E315,COSTS_Barbarian_King[#All],3),\"/\")","v":"/"},0,{"$f":"IF(G$269=\"Error\",\"Error\",IF(G315<>\"/\",D315*G315,0))","v":0},45,{"$f":"IF(Paramètres!BK50=0,\"\",Paramètres!BK50)","v":""},0,{"$f":"IF(N315<>\"/\",IF(P$269=\"Error\",\"Error\",$Q$269+L315),\"/\")","v":"/"},{"$f":"IF(P$269=\"Error\",\"Error\",IF(AND($N$269<>\"/\",$N$269>'Paramètres - Admin'!$A46),'Paramètres - Admin'!$A47,\"/\"))","v":"/"},{"$f":"IF(N315<>\"/\",VLOOKUP(N315,COSTS_Archer_Queen[#All],2),\"/\")","v":"/"},{"$f":"IF(N315<>\"/\",VLOOKUP(N315,COSTS_Archer_Queen[#All],3),\"/\")","v":"/"},0,0,45,{"$f":"IF(Paramètres!BL50=0,\"\",Paramètres!BL50)","v":""},{"$f":"IF(U310<>0,U310+IF(AND(T310<>\"\",S310<W$269),T310,0),IF(AND(T310<>\"\",S310<W$269),T310,0))","v":0},{"$f":"IF(W315<>\"/\",IF(Y$269=\"Error\",\"Error\",$Z$269+U315),\"/\")","v":"/"},{"$f":"IF(Y$269=\"Error\",\"Error\",IF(AND($W$269<>\"/\",$W$269>'Paramètres - Admin'!$A42),'Paramètres - Admin'!$A43,\"/\"))","v":"/"},{"$f":"IF(W315<>\"/\",VLOOKUP(W315,COSTS_Grand_Warden[#All],2),\"/\")","v":"/"},{"$f":"IF(W315<>\"/\",VLOOKUP(W315,COSTS_Grand_Warden[#All],3),\"/\")","v":"/"},{"$f":"IF(Y$269=\"Error\",\"Error\",IF(X315<>\"/\",V315*X315,0))","v":0},{"$f":"IF(Y$269=\"Error\",\"Error\",IF(Y315<>\"/\",V315*Y315,0))","v":0}]
[null,null,null,null,null,null,"Total",{"$f":"IF(G$269=\"Error\",\"Error\",SUM(H271:H315))","v":0},{"$f":"IF(G$269=\"Error\",\"Error\",SUM(I271:I310))","v":0},null,null,null,null,null,null,"Total",{"$f":"IF(P$269=\"Error\",\"Error\",SUM(Q271:Q315))","v":0},{"$f":"IF(P$269=\"Error\",\"Error\",SUM(R271:R310))","v":0},null,null,null,null,null,null,"Total",{"$f":"IF(Y$269=\"Error\",\"Error\",SUM(Z271:Z310))","v":0},{"$f":"IF(Y$269=\"Error\",\"Error\",SUM(AA271:AA310))","v":0}]

{"sheet":"Bâtiments","index":4,"n_rows":74,"n_cols":47,"rows_kept":74,"cut":false,"hidden":true,"merged":[[45,14,45,26],[0,0,0,12],[60,0,60,4],[0,14,0,26],[45,0,45,12],[60,6,60,10],[15,0,15,12],[15,14,15,26],[30,0,30,22],[30,24,30,46]]}
["Bâtiments de Ressources (Disponibles et LVL Max)",null,null,null,null,null,null,null,null,null,null,null,null,null,"Bâtiments de Ressources (Changements)"]
["LVL HdV","Mine d'Or","LVL Max1","Extracteur d'Élixir","LVL Max2","Foreuse d'Élixir Noir","LVL Max3","Réserve d'Or","LVL Max4","Réservoir d'Élixir","LVL Max5","Réservoir d'Élixir Noir","LVL Max6",null,"LVL HdV","Mine d'Or","LVL Max1","Extracteur d'Élixir","LVL Max2","Foreuse d'Élixir Noir","LVL Max3","Réserve d'Or","LVL Max4","Réservoir d'Élixir","LVL Max5","Réservoir d'Élixir Noir","LVL Max6"]
[0,0,0,0,0,0,0,0,0,0,0,0,0,null,0,{"$f":"B3","v":0},0,0,0,0,0,0,0,0,0,0,0]
[1,1,2,1,2,0,0,1,1,1,1,0,0,null,1,{"$f":"B4-B3","v":1},{"$f":"C4-C3","v":2},{"$f":"D4-D3","v":1},{"$f":"E4-E3","v":2},{"$f":"F4-F3","v":0},{"$f":"G4-G3","v":0},{"$f":"H4-H3","v":1},{"$f":"I4-I3","v":1},{"$f":"J4-J3","v":1},{"$f":"K4-K3","v":1},{"$f":"L4-L3","v":0},{"$f":"M4-M3","v":0}]
[2,2,4,2,4,0,0,1,3,1,3,0,0,null,2,1,2,1,2,0,0,0,2,0,2,0,0]
[3,3,6,3,6,0,0,2,6,2,6,0,0,null,3,1,2,1,2,0,0,1,3,1,3,0,0]
[4,4,8,4,8,0,0,2,8,2,8,0,0,null,4,1,2,1,2,0,0,0,2,0,2,0,0]
[5,5,10,5,10,0,0,2,9,2,9,0,0,null,5,1,2,1,2,0,0,0,1,0,1,0,0]
[6,6,10,6,10,0,0,2,10,2,10,0,0,null,6,1,0,1,0,0,0,0,1,0,1,0,0]
[7,6,11,6,11,1,3,2,11,2,11,1,2,null,7,0,1,0,1,1,3,0,1,0,1,1,2]
[8,6,12,6,12,2,3,3,11,3,11,1,4,null,8,0,1,0,1,1,0,1,0,1,0,0,2]
[9,6,12,6,12,2,6,4,11,4,11,1,6,null,9,0,0,0,0,0,3,1,0,1,0,0,2]
[10,7,12,7,12,3,6,4,11,4,11,1,6,null,10,1,0,1,0,1,0,0,0,0,0,0,0]
[11,7,12,7,12,3,6,4,12,4,12,1,6,null,11,0,0,0,0,0,0,0,1,0,1,0,0]
[]
["Bâtiments d'Armée (Disponibles et LVL Max)",null,null,null,null,null,null,null,null,null,null,null,null,null,"Bâtiments d'Armée (Changements)"]
["LVL HdV","Caserne","LVL Max1","Caserne Noire","LVL Max2","Camp Militaire","LVL Max3","Laboratoire","LVL Max4","Usine de Sorts","LVL Max5","Usine de Sorts Noirs","LVL Max6",null,"LVL HdV","Caserne","LVL Max1","Caserne Noire","LVL Max2","Camp Militaire","LVL Max3","Laboratoire","LVL Max4","Usine de Sorts","LVL Max5","Usine de Sorts Noirs","LVL Max6"]
[0,0,0,0,0,0,0,0,0,0,0,0,0,null,0,{"$f":"B18","v":0},0,0,0,0,0,0,0,0,0,{"$f":"L18","v":0},{"$f":"M18","v":0}]
[1,1,3,0,0,1,1,0,0,0,0,0,0,null,1,{"$f":"B19-B18","v":1},{"$f":"C19-C18","v":3},{"$f":"D19-D18","v":0},{"$f":"E19-E18","v":0},{"$f":"F19-F18","v":1},{"$f":"G19-G18","v":1},{"$f":"H19-H18","v":0},{"$f":"I19-I18","v":0},{"$f":"J19-J18","v":0},{"$f":"K19-K18","v":0},{"$f":"L19-L18","v":0},{"$f":"M19-M18","v":0}]
[2,2,4,0,0,1,2,0,0,0,0,0,0,null,2,1,1,0,0,0,1,0,0,0,0,0,0]
[3,2,5,0,0,2,3,1,1,0,0,0,0,null,3,0,1,0,0,1,1,1,1,0,0,0,0]
[4,3,6,0,0,2,4,1,2,0,0,0,0,null,4,1,1,0,0,0,1,0,1,0,0,0,0]
[5,3,7,0,0,3,5,1,3,1,1,0,0,null,5,0,1,0,0,1,1,0,1,1,1,0,0]
[6,3,8,0,0,3,6,1,4,1,2,0,0,null,6,0,1,0,0,0,1,0,1,0,1,0,0]
[7,4,9,1,2,4,6,1,5,1,3,0,0,null,7,1,1,1,2,1,0,0,1,0,1,0,0]
[8,4,10,2,4,4,6,1,6,1,3,1,2,null,8,0,1,1,2,0,0,0,1,0,0,1,2]
[9,4,11,2,6,4,7,1,7,1,4,1,4,null,9,0,1,0,2,0,1,0,1,0,1,0,2]
[10,4,12,2,7,4,8,1,8,1,5,1,4,null,10,0,1,0,1,0,1,0,1,0,1,0,0]
[11,4,12,2,7,4,8,1,9,1,5,1,4,null,11,{"$f":"B29-B28","v":0},{"$f":"C29-C28","v":0},{"$f":"D29-D28","v":0},{"$f":"E29-E28","v":0},{"$f":"F29-F28","v":0},{"$f":"G29-G28","v":0},{"$f":"H29-H28","v":0},{"$f":"I29-I28","v":1},{"$f":"J29-J28","v":0},{"$f":"K29-K28","v":0},{"$f":"L29-L28","v":0},{"$f":"M29-M28","v":0}]
[]
["Bâtiments de Défense (Disponibles et LVL Max)",null,null,null,null,null,null,null,null,null,null,null,null,null,null,null,null,null,null,null,null,null,null,null,"Bâtiments de Défense (Changements)"]
["LVL HdV","Rempart","LVL Max1","Canon","LVL Max2","Tour d'Archers","LVL Max3","Mortier","LVL Max4","Défense Antiaérienne","LVL Max5","Tour de Sorciers","LVL Max6","Propulseur d'air","LVL Max7","Tesla Camouflée","LVL Max8","Arc-X","LVL Max9","Tour de l'Enfer","LVL Max10","Aigle Artilleur","LVL Max11",null,"LVL HdV","Rempart","LVL Max1","Canon","LVL Max2","Tour d'Archers","LVL Max3","Mortier","LVL Max4","Défense Antiaérienne","LVL Max5","Tour de Sorciers","LVL Max6","Propulsion d'air","LVL Max7","Tesla Camouflée","LVL Max8","Arc-X","LVL Max9","Tour de l'Enfer","LVL Max10","Aigle Artilleur","LVL Max11"]
[0,0,0,0,0,0,0,0,0,0,0,0,0,0,0,0,0,0,0,0,0,0,0,null,0,{"$f":"B33","v":0},0,0,0,0,0,{"$f":"P33","v":0},{"$f":"Q33","v":0},{"$f":"R33","v":0},{"$f":"S33","v":0},{"$f":"L33","v":0},0,0,0,0,0,0,0,0,0,0,0]
[1,0,0,2,2,0,0,0,0,0,0,0,0,0,0,0,0,0,0,0,0,0,0,null,1,{"$f":"B34-B33","v":0},{"$f":"C34-C33","v":0},{"$f":"D34-D33","v":2},{"$f":"E34-E33","v":2},{"$f":"F34-F33","v":0},{"$f":"G34-G33","v":0},{"$f":"P34-P33","v":0},{"$f":"Q34-Q33","v":0},{"$f":"R34-R33","v":0},{"$f":"S34-S33","v":0},{"$f":"L34-L33","v":0},{"$f":"M34-M33","v":0},{"$f":"N34-N33","v":0},{"$f":"O34-O33","v":0},{"$f":"P34-P33","v":0},{"$f":"Q34-Q33","v":0},{"$f":"R34-R33","v":0},{"$f":"S34-S33","v":0},{"$f":"T34-T33","v":0},{"$f":"U34-U33","v":0},{"$f":"V34-V33","v":0},{"$f":"W34-W33","v":0}]
[2,25,2,2,3,1,2,0,0,0,0,0,0,0,0,0,0,0,0,0,0,0,0,null,2,25,2,0,1,1,2,0,0,0,0,0,0,0,0,0,0,0,0,0,0,0,0]
[3,50,3,2,4,1,3,1,1,0,0,0,0,0,0,0,0,0,0,0,0,0,0,null,3,25,1,0,1,0,1,0,0,0,0,0,0,0,0,0,0,0,0,0,0,0,0]
[4,75,4,2,5,2,4,1,2,1,2,0,0,0,0,0,0,0,0,0,0,0,0,null,4,25,1,0,1,1,1,0,0,0,0,0,0,0,0,0,0,0,0,0,0,0,0]
[5,100,5,3,6,3,6,1,3,1,3,1,2,0,0,0,0,0,0,0,0,0,0,null,5,25,1,1,1,1,2,0,0,0,0,1,2,0,0,0,0,0,0,0,0,0,0]
[6,125,6,3,7,3,7,2,4,2,4,2,3,1,2,0,0,0,0,0,0,0,0,null,6,25,1,0,1,0,1,0,0,0,0,1,1,1,2,0,0,0,0,0,0,0,0]
[7,175,7,5,8,4,8,3,5,3,5,2,4,1,3,2,3,0,0,0,0,0,0,null,7,50,1,2,1,1,1,2,3,0,0,0,1,0,1,2,3,0,0,0,0,0,0]
[8,225,8,5,10,5,10,4,6,3,6,3,6,1,4,3,6,0,0,0,0,0,0,null,8,50,1,0,2,1,2,1,3,0,0,1,2,0,1,1,3,0,0,0,0,0,0]
[9,250,10,5,11,6,11,4,7,4,7,4,7,2,5,4,7,2,3,0,0,0,0,null,9,25,2,0,1,1,1,1,1,2,3,1,1,1,1,1,1,2,3,0,0,0,0]
[10,275,11,6,13,7,13,4,8,4,8,4,9,2,6,4,8,3,4,2,3,0,0,null,10,25,1,1,2,1,2,0,1,1,1,0,2,0,1,0,1,1,1,2,3,0,0]
[11,300,12,7,14,8,14,4,10,4,8,5,10,2,6,4,9,4,5,2,4,1,2,null,11,25,1,1,1,1,1,0,1,1,1,1,1,0,0,0,1,1,1,0,1,1,2]
[]
["Pièges (Disponibles)",null,null,null,null,null,null,null,null,null,null,null,null,null,"Pièges (Changements)"]
["LVL HdV","Bombe","LVL Max1","Piège à ressort","LVL Max2","Bombe géante","LVL Max3","Bombe aérienne","LVL Max4","Tête chercheuse","LVL Max5","Piège squelettique","LVL Max6",null,"LVL HdV","Bombe","LVL Max1","Piège à ressort","LVL Max2","Bombe géante","LVL Max3","Bombe aérienne","LVL Max4","Tête chercheuse","LVL Max5","Piège squelettique","LVL Max6"]
[0,0,0,0,0,0,0,0,0,0,0,0,0,null,0,{"$f":"B48","v":0},0,0,0,0,0,0,0,0,0,0,0]
[1,0,0,0,0,0,0,0,0,0,0,0,0,null,1,{"$f":"B49-B48","v":0},{"$f":"C49-C48","v":0},{"$f":"D49-D48","v":0},{"$f":"E49-E48","v":0},{"$f":"F49-F48","v":0},{"$f":"G49-G48","v":0},{"$f":"H49-H48","v":0},{"$f":"I49-I48","v":0},{"$f":"J49-J48","v":0},{"$f":"K49-K48","v":0},{"$f":"L49-L48","v":0},{"$f":"M49-M48","v":0}]
[2,0,0,0,0,0,0,0,0,0,0,0,0,null,2,0,0,0,0,0,0,0,0,0,0,0,0]
[3,2,2,0,0,0,0,0,0,0,0,0,0,null,3,2,2,0,0,0,0,0,0,0,0,0,0]
[4,2,2,2,1,0,0,0,0,0,0,0,0,null,4,0,0,2,1,0,0,0,0,0,0,0,0]
[5,4,3,2,1,0,0,2,2,0,0,0,0,null,5,2,1,0,0,0,0,2,2,0,0,0,0]
[6,4,3,4,1,1,2,2,2,0,0,0,0,null,6,0,0,2,0,1,2,0,0,0,0,0,0]
[7,6,4,4,2,2,2,2,3,1,1,0,0,null,7,2,1,0,1,1,0,0,1,1,1,0,0]
[8,6,5,6,3,3,3,4,3,2,1,2,2,null,8,0,1,2,1,1,1,2,0,1,0,2,2]
[9,6,6,6,4,4,3,4,4,4,2,2,3,null,9,0,1,0,1,1,0,0,1,2,1,0,1]
[10,6,6,6,5,5,4,5,4,5,3,3,3,null,10,0,0,0,1,1,1,1,0,1,1,1,0]
[11,6,6,6,5,5,4,5,4,5,3,3,3,null,11,{"$f":"B59-B58","v":0},{"$f":"C59-C58","v":0},{"$f":"D59-D58","v":0},{"$f":"E59-E58","v":0},{"$f":"F59-F58","v":0},{"$f":"G59-G58","v":0},{"$f":"H59-H58","v":0},{"$f":"I59-I58","v":0},{"$f":"J59-J58","v":0},{"$f":"K59-K58","v":0},{"$f":"L59-L58","v":0},{"$f":"M59-M58","v":0}]
[]
["Bâtiments Autres (Disponibles et LVL Max)",null,null,null,null,null,"Bâtiments Autres (Changements)"]
["LVL HdV","Château de Clan","LVL Max1","Hôtel de Ville","LVL Max2",null,"LVL HdV","Château de Clan","LVL Max1","Hôtel de Ville","LVL Max2"]
[0,0,0,0,0,null,0,{"$f":"B63","v":0},{"$f":"C63","v":0},{"$f":"D63","v":0},{"$f":"E63","v":0}]
[1,0,0,1,2,null,1,{"$f":"B64-B63","v":0},{"$f":"C64-C63","v":0},{"$f":"D64-D63","v":1},{"$f":"E64-E63","v":2}]
[2,0,0,1,3,null,2,0,0,0,1]
[3,1,1,1,4,null,3,1,1,0,1]
[4,1,2,1,5,null,4,0,1,0,1]
[5,1,2,1,6,null,5,0,0,0,1]
[6,1,3,1,7,null,6,0,1,0,1]
[7,1,3,1,8,null,7,0,0,0,1]
[8,1,4,1,9,null,8,0,1,0,1]
[9,1,5,1,10,null,9,0,1,0,1]
[10,1,6,1,11,null,10,0,1,0,1]
[11,1,7,1,11,null,11,{"$f":"B74-B73","v":0},{"$f":"C74-C73","v":1},{"$f":"D74-D73","v":0},{"$f":"E74-E73","v":0}]

{"sheet":"Améliorations - Sorts & Troupes","index":5,"n_rows":63,"n_cols":79,"rows_kept":63,"cut":false,"hidden":true,"merged":[[0,54,0,66],[0,28,0,40],[0,14,0,20],[0,0,0,6],[32,28,32,52],[32,54,32,78],[49,54,49,68],[49,28,49,42],[49,0,49,7],[49,14,49,21],[16,28,16,36],[16,54,16,62],[16,0,16,4],[16,14,16,18],[32,0,32,12],[32,14,32,26]]}
["Usine de Sorts",null,null,null,null,null,null,null,null,null,null,null,null,null,"Laboratoire",null,null,null,null,null,null,null,null,null,null,null,null,null,"Améliorations de Sorts (Disponibles et LVL Max)",null,null,null,null,null,null,null,null,null,null,null,null,null,null,null,null,null,null,null,null,null,null,null,null,null,"Améliorations de Sorts (Changements)"]
["LVL Usine de Sorts","Sort de Foudre","Sort de Guérison","Sort de Rage","Sort de Saut","Sort de Gel","Sort de clonage",null,null,null,null,null,null,null,"LVL Labo","Sort de Foudre","Sort de Guérison","Sort de Rage","Sort de Saut","Sort de Gel","Sort de clonage",null,null,null,null,null,null,null,"LVL HdV","Sort de Foudre","LVL Max1","Sort de Guérison","LVL Max2","Sort de Rage","LVL Max3","Sort de Saut","LVL Max4","Sort de Gel","LVL Max5","Sort de clonage","LVL Max6",null,null,null,null,null,null,null,null,null,null,null,null,null,"LVL HdV","Sort de Foudre","LVL Max1","Sort de Guérison","LVL Max2","Sort de Rage","LVL Max3","Sort de Saut","LVL Max4","Sort de Gel","LVL Max5","Sort de clonage","LVL Max6"]
[0,0,0,0,0,0,0,null,null,null,null,null,null,null,0,0,0,0,0,0,0,null,null,null,null,null,null,null,0,{"$f":"IF(Paramètres!$L$57=0,0,VLOOKUP(Paramètres!$L$58,SPELLFACTORY_Spells[#All],2))","v":0},{"$f":"IF($AD3=0,0,IF(SUM(Paramètres!$K$6:$K$45)<>Paramètres!$K$3,0,VLOOKUP(MATCH(1,Paramètres!$K$6:$K$45,0),LABO_Spells[#All],2)))","v":0},{"$f":"IF(Paramètres!$L$57=0,0,VLOOKUP(Paramètres!$L$58,SPELLFACTORY_Spells[#All],3))","v":0},{"$f":"IF($AF3=0,0,IF(SUM(Paramètres!$K$6:$K$45)<>Paramètres!$K$3,0,VLOOKUP(MATCH(1,Paramètres!$K$6:$K$45,0),LABO_Spells[#All],3)))","v":0},{"$f":"IF(Paramètres!$L$57=0,0,VLOOKUP(Paramètres!$L$58,SPELLFACTORY_Spells[#All],4))","v":0},{"$f":"IF($AH3=0,0,IF(SUM(Paramètres!$K$6:$K$45)<>Paramètres!$K$3,0,VLOOKUP(MATCH(1,Paramètres!$K$6:$K$45,0),LABO_Spells[#All],4)))","v":0},{"$f":"IF(Paramètres!$L$57=0,0,VLOOKUP(Paramètres!$L$58,SPELLFACTORY_Spells[#All],5))","v":0},{"$f":"IF($AJ3=0,0,IF(SUM(Paramètres!$K$6:$K$45)<>Paramètres!$K$3,0,VLOOKUP(MATCH(1,Paramètres!$K$6:$K$45,0),LABO_Spells[#All],5)))","v":0},{"$f":"IF(Paramètres!$L$57=0,0,VLOOKUP(Paramètres!$L$58,SPELLFACTORY_Spells[#All],6))","v":0},{"$f":"IF($AL3=0,0,IF(SUM(Paramètres!$K$6:$K$45)<>Paramètres!$K$3,0,VLOOKUP(MATCH(1,Paramètres!$K$6:$K$45,0),LABO_Spells[#All],6)))","v":0},{"$f":"IF(Paramètres!$L$57=0,0,VLOOKUP(Paramètres!$L$58,SPELLFACTORY_Spells[#All],7))","v":0},{"$f":"IF($AN3=0,0,IF(SUM(Paramètres!$K$6:$K$45)<>Paramètres!$K$3,0,VLOOKUP(MATCH(1,Paramètres!$K$6:$K$45,0),LABO_Spells[#All],7)))","v":0},null,null,null,null,null,null,null,null,null,null,null,null,null,0,{"$f":"AD3","v":0},0,0,0,0,0,0,0,0,0,0,0]
[1,1,0,0,0,0,0,null,null,null,null,null,null,null,1,2,1,1,1,1,1,null,null,null,null,null,null,null,1,{"$f":"IF(Paramètres!$L$57=0,0,VLOOKUP(Paramètres!$L$58,SPELLFACTORY_Spells[#All],2))","v":0},{"$f":"IF($AD4=0,0,IF(SUM(Paramètres!$K$6:$K$45)<>Paramètres!$K$3,0,VLOOKUP(MATCH(1,Paramètres!$K$6:$K$45,0),LABO_Spells[#All],2)))","v":0},{"$f":"IF(Paramètres!$L$57=0,0,VLOOKUP(Paramètres!$L$58,SPELLFACTORY_Spells[#All],3))","v":0},{"$f":"IF($AF4=0,0,IF(SUM(Paramètres!$K$6:$K$45)<>Paramètres!$K$3,0,VLOOKUP(MATCH(1,Paramètres!$K$6:$K$45,0),LABO_Spells[#All],3)))","v":0},{"$f":"IF(Paramètres!$L$57=0,0,VLOOKUP(Paramètres!$L$58,SPELLFACTORY_Spells[#All],4))","v":0},{"$f":"IF($AH4=0,0,IF(SUM(Paramètres!$K$6:$K$45)<>Paramètres!$K$3,0,VLOOKUP(MATCH(1,Paramètres!$K$6:$K$45,0),LABO_Spells[#All],4)))","v":0},{"$f":"IF(Paramètres!$L$57=0,0,VLOOKUP(Paramètres!$L$58,SPELLFACTORY_Spells[#All],5))","v":0},{"$f":"IF($AJ4=0,0,IF(SUM(Paramètres!$K$6:$K$45)<>Paramètres!$K$3,0,VLOOKUP(MATCH(1,Paramètres!$K$6:$K$45,0),LABO_Spells[#All],5)))","v":0},{"$f":"IF(Paramètres!$L$57=0,0,VLOOKUP(Paramètres!$L$58,SPELLFACTORY_Spells[#All],6))","v":0},{"$f":"IF($AL4=0,0,IF(SUM(Paramètres!$K$6:$K$45)<>Paramètres!$K$3,0,VLOOKUP(MATCH(1,Paramètres!$K$6:$K$45,0),LABO_Spells[#All],6)))","v":0},{"$f":"IF(Paramètres!$L$57=0,0,VLOOKUP(Paramètres!$L$58,SPELLFACTORY_Spells[#All],7))","v":0},{"$f":"IF($AN4=0,0,IF(SUM(Paramètres!$K$6:$K$45)<>Paramètres!$K$3,0,VLOOKUP(MATCH(1,Paramètres!$K$6:$K$45,0),LABO_Spells[#All],7)))","v":0},null,null,null,null,null,null,null,null,null,null,null,null,null,1,{"$f":"AD4-AD3","v":0},{"$f":"AE4-AE3","v":0},{"$f":"AF4-AF3","v":0},{"$f":"AG4-AG3","v":0},{"$f":"AH4-AH3","v":0},{"$f":"AI4-AI3","v":0},{"$f":"AJ4-AJ3","v":0},{"$f":"AK4-AK3","v":0},{"$f":"AL4-AL3","v":0},{"$f":"AM4-AM3","v":0},{"$f":"AN4-AN3","v":0},{"$f":"AO4-AO3","v":0}]
[2,1,1,0,0,0,0,null,null,null,null,null,null,null,2,3,2,1,1,1,1,null,null,null,null,null,null,null,2,{"$f":"IF(Paramètres!$L$57=0,0,VLOOKUP(Paramètres!$L$58,SPELLFACTORY_Spells[#All],2))","v":0},{"$f":"IF($AD5=0,0,IF(SUM(Paramètres!$K$6:$K$45)<>Paramètres!$K$3,0,VLOOKUP(MATCH(1,Paramètres!$K$6:$K$45,0),LABO_Spells[#All],2)))","v":0},{"$f":"IF(Paramètres!$L$57=0,0,VLOOKUP(Paramètres!$L$58,SPELLFACTORY_Spells[#All],3))","v":0},{"$f":"IF($AF5=0,0,IF(SUM(Paramètres!$K$6:$K$45)<>Paramètres!$K$3,0,VLOOKUP(MATCH(1,Paramètres!$K$6:$K$45,0),LABO_Spells[#All],3)))","v":0},{"$f":"IF(Paramètres!$L$57=0,0,VLOOKUP(Paramètres!$L$58,SPELLFACTORY_Spells[#All],4))","v":0},{"$f":"IF($AH5=0,0,IF(SUM(Paramètres!$K$6:$K$45)<>Paramètres!$K$3,0,VLOOKUP(MATCH(1,Paramètres!$K$6:$K$45,0),LABO_Spells[#All],4)))","v":0},{"$f":"IF(Paramètres!$L$57=0,0,VLOOKUP(Paramètres!$L$58,SPELLFACTORY_Spells[#All],5))","v":0},{"$f":"IF($AJ5=0,0,IF(SUM(Paramètres!$K$6:$K$45)<>Paramètres!$K$3,0,VLOOKUP(MATCH(1,Paramètres!$K$6:$K$45,0),LABO_Spells[#All],5)))","v":0},{"$f":"IF(Paramètres!$L$57=0,0,VLOOKUP(Paramètres!$L$58,SPELLFACTORY_Spells[#All],6))","v":0},{"$f":"IF($AL5=0,0,IF(SUM(Paramètres!$K$6:$K$45)<>Paramètres!$K$3,0,VLOOKUP(MATCH(1,Paramètres!$K$6:$K$45,0),LABO_Spells[#All],6)))","v":0},{"$f":"IF(Paramètres!$L$57=0,0,VLOOKUP(Paramètres!$L$58,SPELLFACTORY_Spells[#All],7))","v":0},{"$f":"IF($AN5=0,0,IF(SUM(Paramètres!$K$6:$K$45)<>Paramètres!$K$3,0,VLOOKUP(MATCH(1,Paramètres!$K$6:$K$45,0),LABO_Spells[#All],7)))","v":0},null,null,null,null,null,null,null,null,null,null,null,null,null,2,0,0,0,0,0,0,0,0,0,0,0,0]
[3,1,1,1,0,0,0,null,null,null,null,null,null,null,3,4,3,2,1,1,1,null,null,null,null,null,null,null,3,{"$f":"IF(Paramètres!$L$57=0,0,VLOOKUP(Paramètres!$L$58,SPELLFACTORY_Spells[#All],2))","v":0},{"$f":"IF($AD6=0,0,IF(SUM(Paramètres!$K$6:$K$45)<>Paramètres!$K$3,0,VLOOKUP(MATCH(1,Paramètres!$K$6:$K$45,0),LABO_Spells[#All],2)))","v":0},{"$f":"IF(Paramètres!$L$57=0,0,VLOOKUP(Paramètres!$L$58,SPELLFACTORY_Spells[#All],3))","v":0},{"$f":"IF($AF6=0,0,IF(SUM(Paramètres!$K$6:$K$45)<>Paramètres!$K$3,0,VLOOKUP(MATCH(1,Paramètres!$K$6:$K$45,0),LABO_Spells[#All],3)))","v":0},{"$f":"IF(Paramètres!$L$57=0,0,VLOOKUP(Paramètres!$L$58,SPELLFACTORY_Spells[#All],4))","v":0},{"$f":"IF($AH6=0,0,IF(SUM(Paramètres!$K$6:$K$45)<>Paramètres!$K$3,0,VLOOKUP(MATCH(1,Paramètres!$K$6:$K$45,0),LABO_Spells[#All],4)))","v":0},{"$f":"IF(Paramètres!$L$57=0,0,VLOOKUP(Paramètres!$L$58,SPELLFACTORY_Spells[#All],5))","v":0},{"$f":"IF($AJ6=0,0,IF(SUM(Paramètres!$K$6:$K$45)<>Paramètres!$K$3,0,VLOOKUP(MATCH(1,Paramètres!$K$6:$K$45,0),LABO_Spells[#All],5)))","v":0},{"$f":"IF(Paramètres!$L$57=0,0,VLOOKUP(Paramètres!$L$58,SPELLFACTORY_Spells[#All],6))","v":0},{"$f":"IF($AL6=0,0,IF(SUM(Paramètres!$K$6:$K$45)<>Paramètres!$K$3,0,VLOOKUP(MATCH(1,Paramètres!$K$6:$K$45,0),LABO_Spells[#All],6)))","v":0},{"$f":"IF(Paramètres!$L$57=0,0,VLOOKUP(Paramètres!$L$58,SPELLFACTORY_Spells[#All],7))","v":0},{"$f":"IF($AN6=0,0,IF(SUM(Paramètres!$K$6:$K$45)<>Paramètres!$K$3,0,VLOOKUP(MATCH(1,Paramètres!$K$6:$K$45,0),LABO_Spells[#All],7)))","v":0},null,null,null,null,null,null,null,null,null,null,null,null,null,3,0,0,0,0,0,0,0,0,0,0,0,0]
[4,1,1,1,1,1,0,null,null,null,null,null,null,null,4,4,3,3,1,1,1,null,null,null,null,null,null,null,4,{"$f":"IF(Paramètres!$L$57=0,0,VLOOKUP(Paramètres!$L$58,SPELLFACTORY_Spells[#All],2))","v":0},{"$f":"IF($AD7=0,0,IF(SUM(Paramètres!$K$6:$K$45)<>Paramètres!$K$3,0,VLOOKUP(MATCH(1,Paramètres!$K$6:$K$45,0),LABO_Spells[#All],2)))","v":0},{"$f":"IF(Paramètres!$L$57=0,0,VLOOKUP(Paramètres!$L$58,SPELLFACTORY_Spells[#All],3))","v":0},{"$f":"IF($AF7=0,0,IF(SUM(Paramètres!$K$6:$K$45)<>Paramètres!$K$3,0,VLOOKUP(MATCH(1,Paramètres!$K$6:$K$45,0),LABO_Spells[#All],3)))","v":0},{"$f":"IF(Paramètres!$L$57=0,0,VLOOKUP(Paramètres!$L$58,SPELLFACTORY_Spells[#All],4))","v":0},{"$f":"IF($AH7=0,0,IF(SUM(Paramètres!$K$6:$K$45)<>Paramètres!$K$3,0,VLOOKUP(MATCH(1,Paramètres!$K$6:$K$45,0),LABO_Spells[#All],4)))","v":0},{"$f":"IF(Paramètres!$L$57=0,0,VLOOKUP(Paramètres!$L$58,SPELLFACTORY_Spells[#All],5))","v":0},{"$f":"IF($AJ7=0,0,IF(SUM(Paramètres!$K$6:$K$45)<>Paramètres!$K$3,0,VLOOKUP(MATCH(1,Paramètres!$K$6:$K$45,0),LABO_Spells[#All],5)))","v":0},{"$f":"IF(Paramètres!$L$57=0,0,VLOOKUP(Paramètres!$L$58,SPELLFACTORY_Spells[#All],6))","v":0},{"$f":"IF($AL7=0,0,IF(SUM(Paramètres!$K$6:$K$45)<>Paramètres!$K$3,0,VLOOKUP(MATCH(1,Paramètres!$K$6:$K$45,0),LABO_Spells[#All],6)))","v":0},{"$f":"IF(Paramètres!$L$57=0,0,VLOOKUP(Paramètres!$L$58,SPELLFACTORY_Spells[#All],7))","v":0},{"$f":"IF($AN7=0,0,IF(SUM(Paramètres!$K$6:$K$45)<>Paramètres!$K$3,0,VLOOKUP(MATCH(1,Paramètres!$K$6:$K$45,0),LABO_Spells[#All],7)))","v":0},null,null,null,null,null,null,null,null,null,null,null,null,null,4,0,0,0,0,0,0,0,0,0,0,0,0]
[5,1,1,1,1,1,1,null,null,null,null,null,null,null,5,4,4,4,1,1,1,null,null,null,null,null,null,null,5,{"$f":"IF(Paramètres!$L$57=0,0,VLOOKUP(Paramètres!$L$58,SPELLFACTORY_Spells[#All],2))","v":0},{"$f":"IF($AD8=0,0,IF(SUM(Paramètres!$K$6:$K$45)<>Paramètres!$K$3,0,VLOOKUP(MATCH(1,Paramètres!$K$6:$K$45,0),LABO_Spells[#All],2)))","v":0},{"$f":"IF(Paramètres!$L$57=0,0,VLOOKUP(Paramètres!$L$58,SPELLFACTORY_Spells[#All],3))","v":0},{"$f":"IF($AF8=0,0,IF(SUM(Paramètres!$K$6:$K$45)<>Paramètres!$K$3,0,VLOOKUP(MATCH(1,Paramètres!$K$6:$K$45,0),LABO_Spells[#All],3)))","v":0},{"$f":"IF(Paramètres!$L$57=0,0,VLOOKUP(Paramètres!$L$58,SPELLFACTORY_Spells[#All],4))","v":0},{"$f":"IF($AH8=0,0,IF(SUM(Paramètres!$K$6:$K$45)<>Paramètres!$K$3,0,VLOOKUP(MATCH(1,Paramètres!$K$6:$K$45,0),LABO_Spells[#All],4)))","v":0},{"$f":"IF(Paramètres!$L$57=0,0,VLOOKUP(Paramètres!$L$58,SPELLFACTORY_Spells[#All],5))","v":0},{"$f":"IF($AJ8=0,0,IF(SUM(Paramètres!$K$6:$K$45)<>Paramètres!$K$3,0,VLOOKUP(MATCH(1,Paramètres!$K$6:$K$45,0),LABO_Spells[#All],5)))","v":0},{"$f":"IF(Paramètres!$L$57=0,0,VLOOKUP(Paramètres!$L$58,SPELLFACTORY_Spells[#All],6))","v":0},{"$f":"IF($AL8=0,0,IF(SUM(Paramètres!$K$6:$K$45)<>Paramètres!$K$3,0,VLOOKUP(MATCH(1,Paramètres!$K$6:$K$45,0),LABO_Spells[#All],6)))","v":0},{"$f":"IF(Paramètres!$L$57=0,0,VLOOKUP(Paramètres!$L$58,SPELLFACTORY_Spells[#All],7))","v":0},{"$f":"IF($AN8=0,0,IF(SUM(Paramètres!$K$6:$K$45)<>Paramètres!$K$3,0,VLOOKUP(MATCH(1,Paramètres!$K$6:$K$45,0),LABO_Spells[#All],7)))","v":0},null,null,null,null,null,null,null,null,null,null,null,null,null,5,0,0,0,0,0,0,0,0,0,0,0,0]
[6,1,1,1,1,1,1,null,null,null,null,null,null,null,6,5,5,5,2,1,1,null,null,null,null,null,null,null,6,{"$f":"IF(Paramètres!$L$57=0,0,VLOOKUP(Paramètres!$L$58,SPELLFACTORY_Spells[#All],2))","v":0},{"$f":"IF($AD9=0,0,IF(SUM(Paramètres!$K$6:$K$45)<>Paramètres!$K$3,0,VLOOKUP(MATCH(1,Paramètres!$K$6:$K$45,0),LABO_Spells[#All],2)))","v":0},{"$f":"IF(Paramètres!$L$57=0,0,VLOOKUP(Paramètres!$L$58,SPELLFACTORY_Spells[#All],3))","v":0},{"$f":"IF($AF9=0,0,IF(SUM(Paramètres!$K$6:$K$45)<>Paramètres!$K$3,0,VLOOKUP(MATCH(1,Paramètres!$K$6:$K$45,0),LABO_Spells[#All],3)))","v":0},{"$f":"IF(Paramètres!$L$57=0,0,VLOOKUP(Paramètres!$L$58,SPELLFACTORY_Spells[#All],4))","v":0},{"$f":"IF($AH9=0,0,IF(SUM(Paramètres!$K$6:$K$45)<>Paramètres!$K$3,0,VLOOKUP(MATCH(1,Paramètres!$K$6:$K$45,0),LABO_Spells[#All],4)))","v":0},{"$f":"IF(Paramètres!$L$57=0,0,VLOOKUP(Paramètres!$L$58,SPELLFACTORY_Spells[#All],5))","v":0},{"$f":"IF($AJ9=0,0,IF(SUM(Paramètres!$K$6:$K$45)<>Paramètres!$K$3,0,VLOOKUP(MATCH(1,Paramètres!$K$6:$K$45,0),LABO_Spells[#All],5)))","v":0},{"$f":"IF(Paramètres!$L$57=0,0,VLOOKUP(Paramètres!$L$58,SPELLFACTORY_Spells[#All],6))","v":0},{"$f":"IF($AL9=0,0,IF(SUM(Paramètres!$K$6:$K$45)<>Paramètres!$K$3,0,VLOOKUP(MATCH(1,Paramètres!$K$6:$K$45,0),LABO_Spells[#All],6)))","v":0},{"$f":"IF(Paramètres!$L$57=0,0,VLOOKUP(Paramètres!$L$58,SPELLFACTORY_Spells[#All],7))","v":0},{"$f":"IF($AN9=0,0,IF(SUM(Paramètres!$K$6:$K$45)<>Paramètres!$K$3,0,VLOOKUP(MATCH(1,Paramètres!$K$6:$K$45,0),LABO_Spells[#All],7)))","v":0},null,null,null,null,null,null,null,null,null,null,null,null,null,6,0,0,0,0,0,0,0,0,0,0,0,0]
[7,1,1,1,1,1,1,null,null,null,null,null,null,null,7,6,6,5,2,1,1,null,null,null,null,null,null,null,7,{"$f":"IF(Paramètres!$L$57=0,0,VLOOKUP(Paramètres!$L$58,SPELLFACTORY_Spells[#All],2))","v":0},{"$f":"IF($AD10=0,0,IF(SUM(Paramètres!$K$6:$K$45)<>Paramètres!$K$3,0,VLOOKUP(MATCH(1,Paramètres!$K$6:$K$45,0),LABO_Spells[#All],2)))","v":0},{"$f":"IF(Paramètres!$L$57=0,0,VLOOKUP(Paramètres!$L$58,SPELLFACTORY_Spells[#All],3))","v":0},{"$f":"IF($AF10=0,0,IF(SUM(Paramètres!$K$6:$K$45)<>Paramètres!$K$3,0,VLOOKUP(MATCH(1,Paramètres!$K$6:$K$45,0),LABO_Spells[#All],3)))","v":0},{"$f":"IF(Paramètres!$L$57=0,0,VLOOKUP(Paramètres!$L$58,SPELLFACTORY_Spells[#All],4))","v":0},{"$f":"IF($AH10=0,0,IF(SUM(Paramètres!$K$6:$K$45)<>Paramètres!$K$3,0,VLOOKUP(MATCH(1,Paramètres!$K$6:$K$45,0),LABO_Spells[#All],4)))","v":0},{"$f":"IF(Paramètres!$L$57=0,0,VLOOKUP(Paramètres!$L$58,SPELLFACTORY_Spells[#All],5))","v":0},{"$f":"IF($AJ10=0,0,IF(SUM(Paramètres!$K$6:$K$45)<>Paramètres!$K$3,0,VLOOKUP(MATCH(1,Paramètres!$K$6:$K$45,0),LABO_Spells[#All],5)))","v":0},{"$f":"IF(Paramètres!$L$57=0,0,VLOOKUP(Paramètres!$L$58,SPELLFACTORY_Spells[#All],6))","v":0},{"$f":"IF($AL10=0,0,IF(SUM(Paramètres!$K$6:$K$45)<>Paramètres!$K$3,0,VLOOKUP(MATCH(1,Paramètres!$K$6:$K$45,0),LABO_Spells[#All],6)))","v":0},{"$f":"IF(Paramètres!$L$57=0,0,VLOOKUP(Paramètres!$L$58,SPELLFACTORY_Spells[#All],7))","v":0},{"$f":"IF($AN10=0,0,IF(SUM(Paramètres!$K$6:$K$45)<>Paramètres!$K$3,0,VLOOKUP(MATCH(1,Paramètres!$K$6:$K$45,0),LABO_Spells[#All],7)))","v":0},null,null,null,null,null,null,null,null,null,null,null,null,null,7,0,0,0,0,0,0,0,0,0,0,0,0]
[null,null,null,null,null,null,null,null,null,null,null,null,null,null,8,7,6,5,3,5,2,null,null,null,null,null,null,null,8,{"$f":"IF(Paramètres!$L$57=0,0,VLOOKUP(Paramètres!$L$58,SPELLFACTORY_Spells[#All],2))","v":0},{"$f":"IF($AD11=0,0,IF(SUM(Paramètres!$K$6:$K$45)<>Paramètres!$K$3,0,VLOOKUP(MATCH(1,Paramètres!$K$6:$K$45,0),LABO_Spells[#All],2)))","v":0},{"$f":"IF(Paramètres!$L$57=0,0,VLOOKUP(Paramètres!$L$58,SPELLFACTORY_Spells[#All],3))","v":0},{"$f":"IF($AF11=0,0,IF(SUM(Paramètres!$K$6:$K$45)<>Paramètres!$K$3,0,VLOOKUP(MATCH(1,Paramètres!$K$6:$K$45,0),LABO_Spells[#All],3)))","v":0},{"$f":"IF(Paramètres!$L$57=0,0,VLOOKUP(Paramètres!$L$58,SPELLFACTORY_Spells[#All],4))","v":0},{"$f":"IF($AH11=0,0,IF(SUM(Paramètres!$K$6:$K$45)<>Paramètres!$K$3,0,VLOOKUP(MATCH(1,Paramètres!$K$6:$K$45,0),LABO_Spells[#All],4)))","v":0},{"$f":"IF(Paramètres!$L$57=0,0,VLOOKUP(Paramètres!$L$58,SPELLFACTORY_Spells[#All],5))","v":0},{"$f":"IF($AJ11=0,0,IF(SUM(Paramètres!$K$6:$K$45)<>Paramètres!$K$3,0,VLOOKUP(MATCH(1,Paramètres!$K$6:$K$45,0),LABO_Spells[#All],5)))","v":0},{"$f":"IF(Paramètres!$L$57=0,0,VLOOKUP(Paramètres!$L$58,SPELLFACTORY_Spells[#All],6))","v":0},{"$f":"IF($AL11=0,0,IF(SUM(Paramètres!$K$6:$K$45)<>Paramètres!$K$3,0,VLOOKUP(MATCH(1,Paramètres!$K$6:$K$45,0),LABO_Spells[#All],6)))","v":0},{"$f":"IF(Paramètres!$L$57=0,0,VLOOKUP(Paramètres!$L$58,SPELLFACTORY_Spells[#All],7))","v":0},{"$f":"IF($AN11=0,0,IF(SUM(Paramètres!$K$6:$K$45)<>Paramètres!$K$3,0,VLOOKUP(MATCH(1,Paramètres!$K$6:$K$45,0),LABO_Spells[#All],7)))","v":0},null,null,null,null,null,null,null,null,null,null,null,null,null,8,0,0,0,0,0,0,0,0,0,0,0,0]
[null,null,null,null,null,null,null,null,null,null,null,null,null,null,9,7,6,5,3,5,4,null,null,null,null,null,null,null,9,{"$f":"IF(Paramètres!$L$57=0,0,VLOOKUP(Paramètres!$L$58,SPELLFACTORY_Spells[#All],2))","v":0},{"$f":"IF($AD12=0,0,IF(SUM(Paramètres!$K$6:$K$45)<>Paramètres!$K$3,0,VLOOKUP(MATCH(1,Paramètres!$K$6:$K$45,0),LABO_Spells[#All],2)))","v":0},{"$f":"IF(Paramètres!$L$57=0,0,VLOOKUP(Paramètres!$L$58,SPELLFACTORY_Spells[#All],3))","v":0},{"$f":"IF($AF12=0,0,IF(SUM(Paramètres!$K$6:$K$45)<>Paramètres!$K$3,0,VLOOKUP(MATCH(1,Paramètres!$K$6:$K$45,0),LABO_Spells[#All],3)))","v":0},{"$f":"IF(Paramètres!$L$57=0,0,VLOOKUP(Paramètres!$L$58,SPELLFACTORY_Spells[#All],4))","v":0},{"$f":"IF($AH12=0,0,IF(SUM(Paramètres!$K$6:$K$45)<>Paramètres!$K$3,0,VLOOKUP(MATCH(1,Paramètres!$K$6:$K$45,0),LABO_Spells[#All],4)))","v":0},{"$f":"IF(Paramètres!$L$57=0,0,VLOOKUP(Paramètres!$L$58,SPELLFACTORY_Spells[#All],5))","v":0},{"$f":"IF($AJ12=0,0,IF(SUM(Paramètres!$K$6:$K$45)<>Paramètres!$K$3,0,VLOOKUP(MATCH(1,Paramètres!$K$6:$K$45,0),LABO_Spells[#All],5)))","v":0},{"$f":"IF(Paramètres!$L$57=0,0,VLOOKUP(Paramètres!$L$58,SPELLFACTORY_Spells[#All],6))","v":0},{"$f":"IF($AL12=0,0,IF(SUM(Paramètres!$K$6:$K$45)<>Paramètres!$K$3,0,VLOOKUP(MATCH(1,Paramètres!$K$6:$K$45,0),LABO_Spells[#All],6)))","v":0},{"$f":"IF(Paramètres!$L$57=0,0,VLOOKUP(Paramètres!$L$58,SPELLFACTORY_Spells[#All],7))","v":0},{"$f":"IF($AN12=0,0,IF(SUM(Paramètres!$K$6:$K$45)<>Paramètres!$K$3,0,VLOOKUP(MATCH(1,Paramètres!$K$6:$K$45,0),LABO_Spells[#All],7)))","v":0},null,null,null,null,null,null,null,null,null,null,null,null,null,9,0,0,0,0,0,0,0,0,0,0,0,0]
[null,null,null,null,null,null,null,null,null,null,null,null,null,null,null,null,null,null,null,null,null,null,null,null,null,null,null,null,10,{"$f":"IF(Paramètres!$L$57=0,0,VLOOKUP(Paramètres!$L$58,SPELLFACTORY_Spells[#All],2))","v":0},{"$f":"IF($AD13=0,0,IF(SUM(Paramètres!$K$6:$K$45)<>Paramètres!$K$3,0,VLOOKUP(MATCH(1,Paramètres!$K$6:$K$45,0),LABO_Spells[#All],2)))","v":0},{"$f":"IF(Paramètres!$L$57=0,0,VLOOKUP(Paramètres!$L$58,SPELLFACTORY_Spells[#All],3))","v":0},{"$f":"IF($AF13=0,0,IF(SUM(Paramètres!$K$6:$K$45)<>Paramètres!$K$3,0,VLOOKUP(MATCH(1,Paramètres!$K$6:$K$45,0),LABO_Spells[#All],3)))","v":0},{"$f":"IF(Paramètres!$L$57=0,0,VLOOKUP(Paramètres!$L$58,SPELLFACTORY_Spells[#All],4))","v":0},{"$f":"IF($AH13=0,0,IF(SUM(Paramètres!$K$6:$K$45)<>Paramètres!$K$3,0,VLOOKUP(MATCH(1,Paramètres!$K$6:$K$45,0),LABO_Spells[#All],4)))","v":0},{"$f":"IF(Paramètres!$L$57=0,0,VLOOKUP(Paramètres!$L$58,SPELLFACTORY_Spells[#All],5))","v":0},{"$f":"IF($AJ13=0,0,IF(SUM(Paramètres!$K$6:$K$45)<>Paramètres!$K$3,0,VLOOKUP(MATCH(1,Paramètres!$K$6:$K$45,0),LABO_Spells[#All],5)))","v":0},{"$f":"IF(Paramètres!$L$57=0,0,VLOOKUP(Paramètres!$L$58,SPELLFACTORY_Spells[#All],6))","v":0},{"$f":"IF($AL13=0,0,IF(SUM(Paramètres!$K$6:$K$45)<>Paramètres!$K$3,0,VLOOKUP(MATCH(1,Paramètres!$K$6:$K$45,0),LABO_Spells[#All],6)))","v":0},{"$f":"IF(Paramètres!$L$57=0,0,VLOOKUP(Paramètres!$L$58,SPELLFACTORY_Spells[#All],7))","v":0},{"$f":"IF($AN13=0,0,IF(SUM(Paramètres!$K$6:$K$45)<>Paramètres!$K$3,0,VLOOKUP(MATCH(1,Paramètres!$K$6:$K$45,0),LABO_Spells[#All],7)))","v":0},null,null,null,null,null,null,null,null,null,null,null,null,null,10,0,0,0,0,0,0,0,0,0,0,0,0]
[null,null,null,null,null,null,null,null,null,null,null,null,null,null,null,null,null,null,null,null,null,null,null,null,null,null,null,null,11,{"$f":"IF(Paramètres!$L$57=0,0,VLOOKUP(Paramètres!$L$58,SPELLFACTORY_Spells[#All],2))","v":0},{"$f":"IF($AD14=0,0,IF(SUM(Paramètres!$K$6:$K$45)<>Paramètres!$K$3,0,VLOOKUP(MATCH(1,Paramètres!$K$6:$K$45,0),LABO_Spells[#All],2)))","v":0},{"$f":"IF(Paramètres!$L$57=0,0,VLOOKUP(Paramètres!$L$58,SPELLFACTORY_Spells[#All],3))","v":0},{"$f":"IF($AF14=0,0,IF(SUM(Paramètres!$K$6:$K$45)<>Paramètres!$K$3,0,VLOOKUP(MATCH(1,Paramètres!$K$6:$K$45,0),LABO_Spells[#All],3)))","v":0},{"$f":"IF(Paramètres!$L$57=0,0,VLOOKUP(Paramètres!$L$58,SPELLFACTORY_Spells[#All],4))","v":0},{"$f":"IF($AH14=0,0,IF(SUM(Paramètres!$K$6:$K$45)<>Paramètres!$K$3,0,VLOOKUP(MATCH(1,Paramètres!$K$6:$K$45,0),LABO_Spells[#All],4)))","v":0},{"$f":"IF(Paramètres!$L$57=0,0,VLOOKUP(Paramètres!$L$58,SPELLFACTORY_Spells[#All],5))","v":0},{"$f":"IF($AJ14=0,0,IF(SUM(Paramètres!$K$6:$K$45)<>Paramètres!$K$3,0,VLOOKUP(MATCH(1,Paramètres!$K$6:$K$45,0),LABO_Spells[#All],5)))","v":0},{"$f":"IF(Paramètres!$L$57=0,0,VLOOKUP(Paramètres!$L$58,SPELLFACTORY_Spells[#All],6))","v":0},{"$f":"IF($AL14=0,0,IF(SUM(Paramètres!$K$6:$K$45)<>Paramètres!$K$3,0,VLOOKUP(MATCH(1,Paramètres!$K$6:$K$45,0),LABO_Spells[#All],6)))","v":0},{"$f":"IF(Paramètres!$L$57=0,0,VLOOKUP(Paramètres!$L$58,SPELLFACTORY_Spells[#All],7))","v":0},{"$f":"IF($AN14=0,0,IF(SUM(Paramètres!$K$6:$K$45)<>Paramètres!$K$3,0,VLOOKUP(MATCH(1,Paramètres!$K$6:$K$45,0),LABO_Spells[#All],7)))","v":0},null,null,null,null,null,null,null,null,null,null,null,null,null,11,0,0,0,0,0,0,0,0,0,0,0,0]
[]
[]
["Usine de Sorts Noirs",null,null,null,null,null,null,null,null,null,null,null,null,null,"Laboratoire",null,null,null,null,null,null,null,null,null,null,null,null,null,"Améliorations de Sorts Noirs (Disponibles et LVL Max)",null,null,null,null,null,null,null,null,null,null,null,null,null,null,null,null,null,null,null,null,null,null,null,null,null,"Améliorations de Sorts Noirs (Changements)"]
["LVL  Dark Spell Factory","Sort de Poison","Sort de Séisme","Sort de Hâte","Sort Squelettique",null,null,null,null,null,null,null,null,null,"LVL Labo","Sort de Poison","Sort de Séisme","Sort de Hâte","Sort Squelettique",null,null,null,null,null,null,null,null,null,"LVL HdV","Sort de Poison","LVL Max1","Sort de Séisme","LVL Max2","Sort de Hâte","LVL Max3","Sort Squelettique","LVL Max4",null,null,null,null,null,null,null,null,null,null,null,null,null,null,null,null,null,"LVL HdV","Sort de Poison","LVL Max1","Sort de Séisme","LVL Max2","Sort de Hâte","LVL Max3","Sort Squelettique","LVL Max4"]
[0,0,0,0,0,null,null,null,null,null,null,null,null,null,0,0,0,0,0,null,null,null,null,null,null,null,null,null,0,{"$f":"IF(Paramètres!$M$57=0,0,VLOOKUP(Paramètres!$M$58,SPELLFACTORY_DarkSpells[#All],2))","v":0},{"$f":"IF($AD19=0,0,IF(SUM(Paramètres!$K$6:$K$45)<>Paramètres!$K$3,0,VLOOKUP(MATCH(1,Paramètres!$K$6:$K$45,0),LABO_Dark_Spells[#All],2)))","v":0},{"$f":"IF(Paramètres!$M$57=0,0,VLOOKUP(Paramètres!$M$58,SPELLFACTORY_DarkSpells[#All],3))","v":0},{"$f":"IF($AF19=0,0,IF(SUM(Paramètres!$K$6:$K$45)<>Paramètres!$K$3,0,VLOOKUP(MATCH(1,Paramètres!$K$6:$K$45,0),LABO_Dark_Spells[#All],3)))","v":0},{"$f":"IF(Paramètres!$M$57=0,0,VLOOKUP(Paramètres!$M$58,SPELLFACTORY_DarkSpells[#All],4))","v":0},{"$f":"IF($AH19=0,0,IF(SUM(Paramètres!$K$6:$K$45)<>Paramètres!$K$3,0,VLOOKUP(MATCH(1,Paramètres!$K$6:$K$45,0),LABO_Dark_Spells[#All],4)))","v":0},{"$f":"IF(Paramètres!$M$57=0,0,VLOOKUP(Paramètres!$M$58,SPELLFACTORY_DarkSpells[#All],5))","v":0},{"$f":"IF($AJ19=0,0,IF(SUM(Paramètres!$K$6:$K$45)<>Paramètres!$K$3,0,VLOOKUP(MATCH(1,Paramètres!$K$6:$K$45,0),LABO_Dark_Spells[#All],5)))","v":0},null,null,null,null,null,null,null,null,null,null,null,null,null,null,null,null,null,0,{"$f":"AD19","v":0},0,0,0,0,0,0,0]
[1,1,0,0,0,null,null,null,null,null,null,null,null,null,1,1,1,1,0,null,null,null,null,null,null,null,null,null,1,{"$f":"IF(Paramètres!$M$57=0,0,VLOOKUP(Paramètres!$M$58,SPELLFACTORY_DarkSpells[#All],2))","v":0},{"$f":"IF($AD20=0,0,IF(SUM(Paramètres!$K$6:$K$45)<>Paramètres!$K$3,0,VLOOKUP(MATCH(1,Paramètres!$K$6:$K$45,0),LABO_Dark_Spells[#All],2)))","v":0},{"$f":"IF(Paramètres!$M$57=0,0,VLOOKUP(Paramètres!$M$58,SPELLFACTORY_DarkSpells[#All],3))","v":0},{"$f":"IF($AF20=0,0,IF(SUM(Paramètres!$K$6:$K$45)<>Paramètres!$K$3,0,VLOOKUP(MATCH(1,Paramètres!$K$6:$K$45,0),LABO_Dark_Spells[#All],3)))","v":0},{"$f":"IF(Paramètres!$M$57=0,0,VLOOKUP(Paramètres!$M$58,SPELLFACTORY_DarkSpells[#All],4))","v":0},{"$f":"IF($AH20=0,0,IF(SUM(Paramètres!$K$6:$K$45)<>Paramètres!$K$3,0,VLOOKUP(MATCH(1,Paramètres!$K$6:$K$45,0),LABO_Dark_Spells[#All],4)))","v":0},{"$f":"IF(Paramètres!$M$57=0,0,VLOOKUP(Paramètres!$M$58,SPELLFACTORY_DarkSpells[#All],5))","v":0},{"$f":"IF($AJ20=0,0,IF(SUM(Paramètres!$K$6:$K$45)<>Paramètres!$K$3,0,VLOOKUP(MATCH(1,Paramètres!$K$6:$K$45,0),LABO_Dark_Spells[#All],5)))","v":0},null,null,null,null,null,null,null,null,null,null,null,null,null,null,null,null,null,1,{"$f":"AD20-AD19","v":0},{"$f":"AE20-AE19","v":0},{"$f":"AF20-AF19","v":0},{"$f":"AG20-AG19","v":0},{"$f":"AH20-AH19","v":0},{"$f":"AI20-AI19","v":0},{"$f":"AJ20-AJ19","v":0},{"$f":"AK20-AK19","v":0}]
[2,1,1,0,0,null,null,null,null,null,null,null,null,null,2,1,1,1,0,null,null,null,null,null,null,null,null,null,2,{"$f":"IF(Paramètres!$M$57=0,0,VLOOKUP(Paramètres!$M$58,SPELLFACTORY_DarkSpells[#All],2))","v":0},{"$f":"IF($AD21=0,0,IF(SUM(Paramètres!$K$6:$K$45)<>Paramètres!$K$3,0,VLOOKUP(MATCH(1,Paramètres!$K$6:$K$45,0),LABO_Dark_Spells[#All],2)))","v":0},{"$f":"IF(Paramètres!$M$57=0,0,VLOOKUP(Paramètres!$M$58,SPELLFACTORY_DarkSpells[#All],3))","v":0},{"$f":"IF($AF21=0,0,IF(SUM(Paramètres!$K$6:$K$45)<>Paramètres!$K$3,0,VLOOKUP(MATCH(1,Paramètres!$K$6:$K$45,0),LABO_Dark_Spells[#All],3)))","v":0},{"$f":"IF(Paramètres!$M$57=0,0,VLOOKUP(Paramètres!$M$58,SPELLFACTORY_DarkSpells[#All],4))","v":0},{"$f":"IF($AH21=0,0,IF(SUM(Paramètres!$K$6:$K$45)<>Paramètres!$K$3,0,VLOOKUP(MATCH(1,Paramètres!$K$6:$K$45,0),LABO_Dark_Spells[#All],4)))","v":0},{"$f":"IF(Paramètres!$M$57=0,0,VLOOKUP(Paramètres!$M$58,SPELLFACTORY_DarkSpells[#All],5))","v":0},{"$f":"IF($AJ21=0,0,IF(SUM(Paramètres!$K$6:$K$45)<>Paramètres!$K$3,0,VLOOKUP(MATCH(1,Paramètres!$K$6:$K$45,0),LABO_Dark_Spells[#All],5)))","v":0},null,null,null,null,null,null,null,null,null,null,null,null,null,null,null,null,null,2,0,0,0,0,0,0,0,0]
[3,1,1,1,0,null,null,null,null,null,null,null,null,null,3,1,1,1,0,null,null,null,null,null,null,null,null,null,3,{"$f":"IF(Paramètres!$M$57=0,0,VLOOKUP(Paramètres!$M$58,SPELLFACTORY_DarkSpells[#All],2))","v":0},{"$f":"IF($AD22=0,0,IF(SUM(Paramètres!$K$6:$K$45)<>Paramètres!$K$3,0,VLOOKUP(MATCH(1,Paramètres!$K$6:$K$45,0),LABO_Dark_Spells[#All],2)))","v":0},{"$f":"IF(Paramètres!$M$57=0,0,VLOOKUP(Paramètres!$M$58,SPELLFACTORY_DarkSpells[#All],3))","v":0},{"$f":"IF($AF22=0,0,IF(SUM(Paramètres!$K$6:$K$45)<>Paramètres!$K$3,0,VLOOKUP(MATCH(1,Paramètres!$K$6:$K$45,0),LABO_Dark_Spells[#All],3)))","v":0},{"$f":"IF(Paramètres!$M$57=0,0,VLOOKUP(Paramètres!$M$58,SPELLFACTORY_DarkSpells[#All],4))","v":0},{"$f":"IF($AH22=0,0,IF(SUM(Paramètres!$K$6:$K$45)<>Paramètres!$K$3,0,VLOOKUP(MATCH(1,Paramètres!$K$6:$K$45,0),LABO_Dark_Spells[#All],4)))","v":0},{"$f":"IF(Paramètres!$M$57=0,0,VLOOKUP(Paramètres!$M$58,SPELLFACTORY_DarkSpells[#All],5))","v":0},{"$f":"IF($AJ22=0,0,IF(SUM(Paramètres!$K$6:$K$45)<>Paramètres!$K$3,0,VLOOKUP(MATCH(1,Paramètres!$K$6:$K$45,0),LABO_Dark_Spells[#All],5)))","v":0},null,null,null,null,null,null,null,null,null,null,null,null,null,null,null,null,null,3,0,0,0,0,0,0,0,0]
[4,1,1,1,1,null,null,null,null,null,null,null,null,null,4,1,1,1,0,null,null,null,null,null,null,null,null,null,4,{"$f":"IF(Paramètres!$M$57=0,0,VLOOKUP(Paramètres!$M$58,SPELLFACTORY_DarkSpells[#All],2))","v":0},{"$f":"IF($AD23=0,0,IF(SUM(Paramètres!$K$6:$K$45)<>Paramètres!$K$3,0,VLOOKUP(MATCH(1,Paramètres!$K$6:$K$45,0),LABO_Dark_Spells[#All],2)))","v":0},{"$f":"IF(Paramètres!$M$57=0,0,VLOOKUP(Paramètres!$M$58,SPELLFACTORY_DarkSpells[#All],3))","v":0},{"$f":"IF($AF23=0,0,IF(SUM(Paramètres!$K$6:$K$45)<>Paramètres!$K$3,0,VLOOKUP(MATCH(1,Paramètres!$K$6:$K$45,0),LABO_Dark_Spells[#All],3)))","v":0},{"$f":"IF(Paramètres!$M$57=0,0,VLOOKUP(Paramètres!$M$58,SPELLFACTORY_DarkSpells[#All],4))","v":0},{"$f":"IF($AH23=0,0,IF(SUM(Paramètres!$K$6:$K$45)<>Paramètres!$K$3,0,VLOOKUP(MATCH(1,Paramètres!$K$6:$K$45,0),LABO_Dark_Spells[#All],4)))","v":0},{"$f":"IF(Paramètres!$M$57=0,0,VLOOKUP(Paramètres!$M$58,SPELLFACTORY_DarkSpells[#All],5))","v":0},{"$f":"IF($AJ23=0,0,IF(SUM(Paramètres!$K$6:$K$45)<>Paramètres!$K$3,0,VLOOKUP(MATCH(1,Paramètres!$K$6:$K$45,0),LABO_Dark_Spells[#All],5)))","v":0},null,null,null,null,null,null,null,null,null,null,null,null,null,null,null,null,null,4,0,0,0,0,0,0,0,0]
[5,1,1,1,1,null,null,null,null,null,null,null,null,null,5,1,1,1,0,null,null,null,null,null,null,null,null,null,5,{"$f":"IF(Paramètres!$M$57=0,0,VLOOKUP(Paramètres!$M$58,SPELLFACTORY_DarkSpells[#All],2))","v":0},{"$f":"IF($AD24=0,0,IF(SUM(Paramètres!$K$6:$K$45)<>Paramètres!$K$3,0,VLOOKUP(MATCH(1,Paramètres!$K$6:$K$45,0),LABO_Dark_Spells[#All],2)))","v":0},{"$f":"IF(Paramètres!$M$57=0,0,VLOOKUP(Paramètres!$M$58,SPELLFACTORY_DarkSpells[#All],3))","v":0},{"$f":"IF($AF24=0,0,IF(SUM(Paramètres!$K$6:$K$45)<>Paramètres!$K$3,0,VLOOKUP(MATCH(1,Paramètres!$K$6:$K$45,0),LABO_Dark_Spells[#All],3)))","v":0},{"$f":"IF(Paramètres!$M$57=0,0,VLOOKUP(Paramètres!$M$58,SPELLFACTORY_DarkSpells[#All],4))","v":0},{"$f":"IF($AH24=0,0,IF(SUM(Paramètres!$K$6:$K$45)<>Paramètres!$K$3,0,VLOOKUP(MATCH(1,Paramètres!$K$6:$K$45,0),LABO_Dark_Spells[#All],4)))","v":0},{"$f":"IF(Paramètres!$M$57=0,0,VLOOKUP(Paramètres!$M$58,SPELLFACTORY_DarkSpells[#All],5))","v":0},{"$f":"IF($AJ24=0,0,IF(SUM(Paramètres!$K$6:$K$45)<>Paramètres!$K$3,0,VLOOKUP(MATCH(1,Paramètres!$K$6:$K$45,0),LABO_Dark_Spells[#All],5)))","v":0},null,null,null,null,null,null,null,null,null,null,null,null,null,null,null,null,null,5,0,0,0,0,0,0,0,0]
[6,1,1,1,1,null,null,null,null,null,null,null,null,null,6,2,2,1,0,null,null,null,null,null,null,null,null,null,6,{"$f":"IF(Paramètres!$M$57=0,0,VLOOKUP(Paramètres!$M$58,SPELLFACTORY_DarkSpells[#All],2))","v":0},{"$f":"IF($AD25=0,0,IF(SUM(Paramètres!$K$6:$K$45)<>Paramètres!$K$3,0,VLOOKUP(MATCH(1,Paramètres!$K$6:$K$45,0),LABO_Dark_Spells[#All],2)))","v":0},{"$f":"IF(Paramètres!$M$57=0,0,VLOOKUP(Paramètres!$M$58,SPELLFACTORY_DarkSpells[#All],3))","v":0},{"$f":"IF($AF25=0,0,IF(SUM(Paramètres!$K$6:$K$45)<>Paramètres!$K$3,0,VLOOKUP(MATCH(1,Paramètres!$K$6:$K$45,0),LABO_Dark_Spells[#All],3)))","v":0},{"$f":"IF(Paramètres!$M$57=0,0,VLOOKUP(Paramètres!$M$58,SPELLFACTORY_DarkSpells[#All],4))","v":0},{"$f":"IF($AH25=0,0,IF(SUM(Paramètres!$K$6:$K$45)<>Paramètres!$K$3,0,VLOOKUP(MATCH(1,Paramètres!$K$6:$K$45,0),LABO_Dark_Spells[#All],4)))","v":0},{"$f":"IF(Paramètres!$M$57=0,0,VLOOKUP(Paramètres!$M$58,SPELLFACTORY_DarkSpells[#All],5))","v":0},{"$f":"IF($AJ25=0,0,IF(SUM(Paramètres!$K$6:$K$45)<>Paramètres!$K$3,0,VLOOKUP(MATCH(1,Paramètres!$K$6:$K$45,0),LABO_Dark_Spells[#All],5)))","v":0},null,null,null,null,null,null,null,null,null,null,null,null,null,null,null,null,null,6,0,0,0,0,0,0,0,0]
[null,null,null,null,null,null,null,null,null,null,null,null,null,null,7,3,3,2,1,null,null,null,null,null,null,null,null,null,7,{"$f":"IF(Paramètres!$M$57=0,0,VLOOKUP(Paramètres!$M$58,SPELLFACTORY_DarkSpells[#All],2))","v":0},{"$f":"IF($AD26=0,0,IF(SUM(Paramètres!$K$6:$K$45)<>Paramètres!$K$3,0,VLOOKUP(MATCH(1,Paramètres!$K$6:$K$45,0),LABO_Dark_Spells[#All],2)))","v":0},{"$f":"IF(Paramètres!$M$57=0,0,VLOOKUP(Paramètres!$M$58,SPELLFACTORY_DarkSpells[#All],3))","v":0},{"$f":"IF($AF26=0,0,IF(SUM(Paramètres!$K$6:$K$45)<>Paramètres!$K$3,0,VLOOKUP(MATCH(1,Paramètres!$K$6:$K$45,0),LABO_Dark_Spells[#All],3)))","v":0},{"$f":"IF(Paramètres!$M$57=0,0,VLOOKUP(Paramètres!$M$58,SPELLFACTORY_DarkSpells[#All],4))","v":0},{"$f":"IF($AH26=0,0,IF(SUM(Paramètres!$K$6:$K$45)<>Paramètres!$K$3,0,VLOOKUP(MATCH(1,Paramètres!$K$6:$K$45,0),LABO_Dark_Spells[#All],4)))","v":0},{"$f":"IF(Paramètres!$M$57=0,0,VLOOKUP(Paramètres!$M$58,SPELLFACTORY_DarkSpells[#All],5))","v":0},{"$f":"IF($AJ26=0,0,IF(SUM(Paramètres!$K$6:$K$45)<>Paramètres!$K$3,0,VLOOKUP(MATCH(1,Paramètres!$K$6:$K$45,0),LABO_Dark_Spells[#All],5)))","v":0},null,null,null,null,null,null,null,null,null,null,null,null,null,null,null,null,null,7,0,0,0,0,0,0,0,0]
[null,null,null,null,null,null,null,null,null,null,null,null,null,null,8,4,4,4,3,null,null,null,null,null,null,null,null,null,8,{"$f":"IF(Paramètres!$M$57=0,0,VLOOKUP(Paramètres!$M$58,SPELLFACTORY_DarkSpells[#All],2))","v":0},{"$f":"IF($AD27=0,0,IF(SUM(Paramètres!$K$6:$K$45)<>Paramètres!$K$3,0,VLOOKUP(MATCH(1,Paramètres!$K$6:$K$45,0),LABO_Dark_Spells[#All],2)))","v":0},{"$f":"IF(Paramètres!$M$57=0,0,VLOOKUP(Paramètres!$M$58,SPELLFACTORY_DarkSpells[#All],3))","v":0},{"$f":"IF($AF27=0,0,IF(SUM(Paramètres!$K$6:$K$45)<>Paramètres!$K$3,0,VLOOKUP(MATCH(1,Paramètres!$K$6:$K$45,0),LABO_Dark_Spells[#All],3)))","v":0},{"$f":"IF(Paramètres!$M$57=0,0,VLOOKUP(Paramètres!$M$58,SPELLFACTORY_DarkSpells[#All],4))","v":0},{"$f":"IF($AH27=0,0,IF(SUM(Paramètres!$K$6:$K$45)<>Paramètres!$K$3,0,VLOOKUP(MATCH(1,Paramètres!$K$6:$K$45,0),LABO_Dark_Spells[#All],4)))","v":0},{"$f":"IF(Paramètres!$M$57=0,0,VLOOKUP(Paramètres!$M$58,SPELLFACTORY_DarkSpells[#All],5))","v":0},{"$f":"IF($AJ27=0,0,IF(SUM(Paramètres!$K$6:$K$45)<>Paramètres!$K$3,0,VLOOKUP(MATCH(1,Paramètres!$K$6:$K$45,0),LABO_Dark_Spells[#All],5)))","v":0},null,null,null,null,null,null,null,null,null,null,null,null,null,null,null,null,null,8,0,0,0,0,0,0,0,0]
[null,null,null,null,null,null,null,null,null,null,null,null,null,null,9,5,4,4,4,null,null,null,null,null,null,null,null,null,9,{"$f":"IF(Paramètres!$M$57=0,0,VLOOKUP(Paramètres!$M$58,SPELLFACTORY_DarkSpells[#All],2))","v":0},{"$f":"IF($AD28=0,0,IF(SUM(Paramètres!$K$6:$K$45)<>Paramètres!$K$3,0,VLOOKUP(MATCH(1,Paramètres!$K$6:$K$45,0),LABO_Dark_Spells[#All],2)))","v":0},{"$f":"IF(Paramètres!$M$57=0,0,VLOOKUP(Paramètres!$M$58,SPELLFACTORY_DarkSpells[#All],3))","v":0},{"$f":"IF($AF28=0,0,IF(SUM(Paramètres!$K$6:$K$45)<>Paramètres!$K$3,0,VLOOKUP(MATCH(1,Paramètres!$K$6:$K$45,0),LABO_Dark_Spells[#All],3)))","v":0},{"$f":"IF(Paramètres!$M$57=0,0,VLOOKUP(Paramètres!$M$58,SPELLFACTORY_DarkSpells[#All],4))","v":0},{"$f":"IF($AH28=0,0,IF(SUM(Paramètres!$K$6:$K$45)<>Paramètres!$K$3,0,VLOOKUP(MATCH(1,Paramètres!$K$6:$K$45,0),LABO_Dark_Spells[#All],4)))","v":0},{"$f":"IF(Paramètres!$M$57=0,0,VLOOKUP(Paramètres!$M$58,SPELLFACTORY_DarkSpells[#All],5))","v":0},{"$f":"IF($AJ28=0,0,IF(SUM(Paramètres!$K$6:$K$45)<>Paramètres!$K$3,0,VLOOKUP(MATCH(1,Paramètres!$K$6:$K$45,0),LABO_Dark_Spells[#All],5)))","v":0},null,null,null,null,null,null,null,null,null,null,null,null,null,null,null,null,null,9,0,0,0,0,0,0,0,0]
[null,null,null,null,null,null,null,null,null,null,null,null,null,null,null,null,null,null,null,null,null,null,null,null,null,null,null,null,10,{"$f":"IF(Paramètres!$M$57=0,0,VLOOKUP(Paramètres!$M$58,SPELLFACTORY_DarkSpells[#All],2))","v":0},{"$f":"IF($AD29=0,0,IF(SUM(Paramètres!$K$6:$K$45)<>Paramètres!$K$3,0,VLOOKUP(MATCH(1,Paramètres!$K$6:$K$45,0),LABO_Dark_Spells[#All],2)))","v":0},{"$f":"IF(Paramètres!$M$57=0,0,VLOOKUP(Paramètres!$M$58,SPELLFACTORY_DarkSpells[#All],3))","v":0},{"$f":"IF($AF29=0,0,IF(SUM(Paramètres!$K$6:$K$45)<>Paramètres!$K$3,0,VLOOKUP(MATCH(1,Paramètres!$K$6:$K$45,0),LABO_Dark_Spells[#All],3)))","v":0},{"$f":"IF(Paramètres!$M$57=0,0,VLOOKUP(Paramètres!$M$58,SPELLFACTORY_DarkSpells[#All],4))","v":0},{"$f":"IF($AH29=0,0,IF(SUM(Paramètres!$K$6:$K$45)<>Paramètres!$K$3,0,VLOOKUP(MATCH(1,Paramètres!$K$6:$K$45,0),LABO_Dark_Spells[#All],4)))","v":0},{"$f":"IF(Paramètres!$M$57=0,0,VLOOKUP(Paramètres!$M$58,SPELLFACTORY_DarkSpells[#All],5))","v":0},{"$f":"IF($AJ29=0,0,IF(SUM(Paramètres!$K$6:$K$45)<>Paramètres!$K$3,0,VLOOKUP(MATCH(1,Paramètres!$K$6:$K$45,0),LABO_Dark_Spells[#All],5)))","v":0},null,null,null,null,null,null,null,null,null,null,null,null,null,null,null,null,null,10,0,0,0,0,0,0,0,0]
[null,null,null,null,null,null,null,null,null,null,null,null,null,null,null,null,null,null,null,null,null,null,null,null,null,null,null,null,11,{"$f":"IF(Paramètres!$M$57=0,0,VLOOKUP(Paramètres!$M$58,SPELLFACTORY_DarkSpells[#All],2))","v":0},{"$f":"IF($AD30=0,0,IF(SUM(Paramètres!$K$6:$K$45)<>Paramètres!$K$3,0,VLOOKUP(MATCH(1,Paramètres!$K$6:$K$45,0),LABO_Dark_Spells[#All],2)))","v":0},{"$f":"IF(Paramètres!$M$57=0,0,VLOOKUP(Paramètres!$M$58,SPELLFACTORY_DarkSpells[#All],3))","v":0},{"$f":"IF($AF30=0,0,IF(SUM(Paramètres!$K$6:$K$45)<>Paramètres!$K$3,0,VLOOKUP(MATCH(1,Paramètres!$K$6:$K$45,0),LABO_Dark_Spells[#All],3)))","v":0},{"$f":"IF(Paramètres!$M$57=0,0,VLOOKUP(Paramètres!$M$58,SPELLFACTORY_DarkSpells[#All],4))","v":0},{"$f":"IF($AH30=0,0,IF(SUM(Paramètres!$K$6:$K$45)<>Paramètres!$K$3,0,VLOOKUP(MATCH(1,Paramètres!$K$6:$K$45,0),LABO_Dark_Spells[#All],4)))","v":0},{"$f":"IF(Paramètres!$M$57=0,0,VLOOKUP(Paramètres!$M$58,SPELLFACTORY_DarkSpells[#All],5))","v":0},{"$f":"IF($AJ30=0,0,IF(SUM(Paramètres!$K$6:$K$45)<>Paramètres!$K$3,0,VLOOKUP(MATCH(1,Paramètres!$K$6:$K$45,0),LABO_Dark_Spells[#All],5)))","v":0},null,null,null,null,null,null,null,null,null,null,null,null,null,null,null,null,null,11,0,0,0,0,0,0,0,0]
[]
[]
["Caserne",null,null,null,null,null,null,null,null,null,null,null,null,null,"Laboratoire",null,null,null,null,null,null,null,null,null,null,null,null,null,"Améliorations de Troupes Normales (Disponibles & LVL Max)",null,null,null,null,null,null,null,null,null,null,null,null,null,null,null,null,null,null,null,null,null,null,null,null,null,"Améliorations de Troupes Normales (Changements)"]
["LVL Caserne","Barbare","Archer","Géant","Gobelin","Sapeur","Ballon","Sorcier","Guérisseuse","Dragon","P.E.K.K.A","Bébé dragon","Mineur",null,"LVL Labo","Barbare","Archer","Géant","Gobelin","Sapeur","Ballon","Sorcier","Guérisseuse","Dragon","P.E.K.K.A","Bébé dragon","Mineur",null,"LVL HdV","Barbare","LVL Max1","Archer","LVL Max2","Géant","LVL Max3","Gobelin","LVL Max4","Sapeur","LVL Max5","Ballon","LVL Max6","Sorcier","LVL Max7","Guérisseuse","LVL Max8","Dragon","LVL Max9","P.E.K.K.A","LVL Max10","Bébé dragon","LVL Max11","Mineur","LVL Max12",null,"LVL HdV","Barbare","LVL Max1","Archer","LVL Max2","Géant","LVL Max3","Gobelin","LVL Max4","Sapeur","LVL Max5","Ballon","LVL Max6","Sorcier","LVL Max7","Guérisseuse","LVL Max8","Dragon","LVL Max9","P.E.K.K.A","LVL Max10","Bébé dragon","LVL Max11","Mineur","LVL Max12"]
[0,0,0,0,0,0,0,0,0,0,0,0,0,null,0,0,0,0,0,0,0,0,0,0,0,0,0,null,0,{"$f":"IF(Paramètres!$H$57=0,0,VLOOKUP(Paramètres!$H$58,BARRACK_Normal_Troops[#All],2))","v":0},{"$f":"IF($AD35=0,0,IF($AC35<3,1,IF(SUM(Paramètres!$K$6:$K$45)<>Paramètres!$K$3,0,VLOOKUP(MATCH(1,Paramètres!$K$6:$K$45,0),LABO_Normal_Troops[#All],2))))","v":0},{"$f":"IF(Paramètres!$H$57=0,0,VLOOKUP(Paramètres!$H$58,BARRACK_Normal_Troops[#All],3))","v":0},{"$f":"IF($AF35=0,0,IF($AC35<3,1,IF(SUM(Paramètres!$K$6:$K$45)<>Paramètres!$K$3,0,VLOOKUP(MATCH(1,Paramètres!$K$6:$K$45,0),LABO_Normal_Troops[#All],3))))","v":0},{"$f":"IF(Paramètres!$H$57=0,0,VLOOKUP(Paramètres!$H$58,BARRACK_Normal_Troops[#All],4))","v":0},{"$f":"IF($AH35=0,0,IF($AC35<3,1,IF(SUM(Paramètres!$K$6:$K$45)<>Paramètres!$K$3,0,VLOOKUP(MATCH(1,Paramètres!$K$6:$K$45,0),LABO_Normal_Troops[#All],4))))","v":0},{"$f":"IF(Paramètres!$H$57=0,0,VLOOKUP(Paramètres!$H$58,BARRACK_Normal_Troops[#All],5))","v":0},{"$f":"IF($AJ35=0,0,IF($AC35<3,1,IF(SUM(Paramètres!$K$6:$K$45)<>Paramètres!$K$3,0,VLOOKUP(MATCH(1,Paramètres!$K$6:$K$45,0),LABO_Normal_Troops[#All],5))))","v":0},{"$f":"IF(Paramètres!$H$57=0,0,VLOOKUP(Paramètres!$H$58,BARRACK_Normal_Troops[#All],6))","v":0},{"$f":"IF($AL35=0,0,IF(SUM(Paramètres!$K$6:$K$45)<>Paramètres!$K$3,0,VLOOKUP(MATCH(1,Paramètres!$K$6:$K$45,0),LABO_Normal_Troops[#All],6)))","v":0},{"$f":"IF(Paramètres!$H$57=0,0,VLOOKUP(Paramètres!$H$58,BARRACK_Normal_Troops[#All],7))","v":0},{"$f":"IF($AN35=0,0,IF(SUM(Paramètres!$K$6:$K$45)<>Paramètres!$K$3,0,VLOOKUP(MATCH(1,Paramètres!$K$6:$K$45,0),LABO_Normal_Troops[#All],7)))","v":0},{"$f":"IF(Paramètres!$H$57=0,0,VLOOKUP(Paramètres!$H$58,BARRACK_Normal_Troops[#All],8))","v":0},{"$f":"IF($AP35=0,0,IF(SUM(Paramètres!$K$6:$K$45)<>Paramètres!$K$3,0,VLOOKUP(MATCH(1,Paramètres!$K$6:$K$45,0),LABO_Normal_Troops[#All],8)))","v":0},{"$f":"IF(Paramètres!$H$57=0,0,VLOOKUP(Paramètres!$H$58,BARRACK_Normal_Troops[#All],9))","v":0},{"$f":"IF($AR35=0,0,IF(SUM(Paramètres!$K$6:$K$45)<>Paramètres!$K$3,0,VLOOKUP(MATCH(1,Paramètres!$K$6:$K$45,0),LABO_Normal_Troops[#All],9)))","v":0},{"$f":"IF(Paramètres!$H$57=0,0,VLOOKUP(Paramètres!$H$58,BARRACK_Normal_Troops[#All],10))","v":0},{"$f":"IF($AT35=0,0,IF(SUM(Paramètres!$K$6:$K$45)<>Paramètres!$K$3,0,VLOOKUP(MATCH(1,Paramètres!$K$6:$K$45,0),LABO_Normal_Troops[#All],10)))","v":0},{"$f":"IF(Paramètres!$H$57=0,0,VLOOKUP(Paramètres!$H$58,BARRACK_Normal_Troops[#All],11))","v":0},{"$f":"IF($AV35=0,0,IF(SUM(Paramètres!$K$6:$K$45)<>Paramètres!$K$3,0,VLOOKUP(MATCH(1,Paramètres!$K$6:$K$45,0),LABO_Normal_Troops[#All],11)))","v":0},{"$f":"IF(Paramètres!$H$57=0,0,VLOOKUP(Paramètres!$H$58,BARRACK_Normal_Troops[#All],12))","v":0},{"$f":"IF($AX35=0,0,IF(SUM(Paramètres!$K$6:$K$45)<>Paramètres!$K$3,0,VLOOKUP(MATCH(1,Paramètres!$K$6:$K$45,0),LABO_Normal_Troops[#All],12)))","v":0},{"$f":"IF(Paramètres!$H$57=0,0,VLOOKUP(Paramètres!$H$58,BARRACK_Normal_Troops[#All],13))","v":0},{"$f":"IF($AZ35=0,0,IF(SUM(Paramètres!$K$6:$K$45)<>Paramètres!$K$3,0,VLOOKUP(MATCH(1,Paramètres!$K$6:$K$45,0),LABO_Normal_Troops[#All],13)))","v":0},null,0,{"$f":"AD35","v":0},{"$f":"AE35","v":0},{"$f":" AF35","v":0},{"$f":"AG35","v":0},{"$f":"AH35","v":0},0,0,0,0,0,0,0,0,0,0,0,0,0,0,0,0,0,0,0]
[1,1,0,0,0,0,0,0,0,0,0,0,0,null,1,2,2,1,2,1,1,1,1,1,1,1,1,null,1,{"$f":"IF(Paramètres!$H$57=0,0,VLOOKUP(Paramètres!$H$58,BARRACK_Normal_Troops[#All],2))","v":0},{"$f":"IF($AD36=0,0,IF($AC36<3,1,IF(SUM(Paramètres!$K$6:$K$45)<>Paramètres!$K$3,0,VLOOKUP(MATCH(1,Paramètres!$K$6:$K$45,0),LABO_Normal_Troops[#All],2))))","v":0},{"$f":"IF(Paramètres!$H$57=0,0,VLOOKUP(Paramètres!$H$58,BARRACK_Normal_Troops[#All],3))","v":0},{"$f":"IF($AF36=0,0,IF($AC36<3,1,IF(SUM(Paramètres!$K$6:$K$45)<>Paramètres!$K$3,0,VLOOKUP(MATCH(1,Paramètres!$K$6:$K$45,0),LABO_Normal_Troops[#All],3))))","v":0},{"$f":"IF(Paramètres!$H$57=0,0,VLOOKUP(Paramètres!$H$58,BARRACK_Normal_Troops[#All],4))","v":0},{"$f":"IF($AH36=0,0,IF($AC36<3,1,IF(SUM(Paramètres!$K$6:$K$45)<>Paramètres!$K$3,0,VLOOKUP(MATCH(1,Paramètres!$K$6:$K$45,0),LABO_Normal_Troops[#All],4))))","v":0},{"$f":"IF(Paramètres!$H$57=0,0,VLOOKUP(Paramètres!$H$58,BARRACK_Normal_Troops[#All],5))","v":0},{"$f":"IF($AJ36=0,0,IF($AC36<3,1,IF(SUM(Paramètres!$K$6:$K$45)<>Paramètres!$K$3,0,VLOOKUP(MATCH(1,Paramètres!$K$6:$K$45,0),LABO_Normal_Troops[#All],5))))","v":0},{"$f":"IF(Paramètres!$H$57=0,0,VLOOKUP(Paramètres!$H$58,BARRACK_Normal_Troops[#All],6))","v":0},{"$f":"IF($AL36=0,0,IF(SUM(Paramètres!$K$6:$K$45)<>Paramètres!$K$3,0,VLOOKUP(MATCH(1,Paramètres!$K$6:$K$45,0),LABO_Normal_Troops[#All],6)))","v":0},{"$f":"IF(Paramètres!$H$57=0,0,VLOOKUP(Paramètres!$H$58,BARRACK_Normal_Troops[#All],7))","v":0},{"$f":"IF($AN36=0,0,IF(SUM(Paramètres!$K$6:$K$45)<>Paramètres!$K$3,0,VLOOKUP(MATCH(1,Paramètres!$K$6:$K$45,0),LABO_Normal_Troops[#All],7)))","v":0},{"$f":"IF(Paramètres!$H$57=0,0,VLOOKUP(Paramètres!$H$58,BARRACK_Normal_Troops[#All],8))","v":0},{"$f":"IF($AP36=0,0,IF(SUM(Paramètres!$K$6:$K$45)<>Paramètres!$K$3,0,VLOOKUP(MATCH(1,Paramètres!$K$6:$K$45,0),LABO_Normal_Troops[#All],8)))","v":0},{"$f":"IF(Paramètres!$H$57=0,0,VLOOKUP(Paramètres!$H$58,BARRACK_Normal_Troops[#All],9))","v":0},{"$f":"IF($AR36=0,0,IF(SUM(Paramètres!$K$6:$K$45)<>Paramètres!$K$3,0,VLOOKUP(MATCH(1,Paramètres!$K$6:$K$45,0),LABO_Normal_Troops[#All],9)))","v":0},{"$f":"IF(Paramètres!$H$57=0,0,VLOOKUP(Paramètres!$H$58,BARRACK_Normal_Troops[#All],10))","v":0},{"$f":"IF($AT36=0,0,IF(SUM(Paramètres!$K$6:$K$45)<>Paramètres!$K$3,0,VLOOKUP(MATCH(1,Paramètres!$K$6:$K$45,0),LABO_Normal_Troops[#All],10)))","v":0},{"$f":"IF(Paramètres!$H$57=0,0,VLOOKUP(Paramètres!$H$58,BARRACK_Normal_Troops[#All],11))","v":0},{"$f":"IF($AV36=0,0,IF(SUM(Paramètres!$K$6:$K$45)<>Paramètres!$K$3,0,VLOOKUP(MATCH(1,Paramètres!$K$6:$K$45,0),LABO_Normal_Troops[#All],11)))","v":0},{"$f":"IF(Paramètres!$H$57=0,0,VLOOKUP(Paramètres!$H$58,BARRACK_Normal_Troops[#All],12))","v":0},{"$f":"IF($AX36=0,0,IF(SUM(Paramètres!$K$6:$K$45)<>Paramètres!$K$3,0,VLOOKUP(MATCH(1,Paramètres!$K$6:$K$45,0),LABO_Normal_Troops[#All],12)))","v":0},{"$f":"IF(Paramètres!$H$57=0,0,VLOOKUP(Paramètres!$H$58,BARRACK_Normal_Troops[#All],13))","v":0},{"$f":"IF($AZ36=0,0,IF(SUM(Paramètres!$K$6:$K$45)<>Paramètres!$K$3,0,VLOOKUP(MATCH(1,Paramètres!$K$6:$K$45,0),LABO_Normal_Troops[#All],13)))","v":0},null,1,{"$f":"AD36-AD35","v":0},{"$f":"AE36-AE35","v":0},{"$f":"AF36-AF35","v":0},{"$f":"AG36-AG35","v":0},{"$f":"AH36-AH35","v":0},{"$f":"AI36-AI35","v":0},{"$f":"AJ36-AJ35","v":0},{"$f":"AK36-AK35","v":0},{"$f":"AL36-AL35","v":0},{"$f":"AM36-AM35","v":0},{"$f":"AN36-AN35","v":0},{"$f":"AO36-AO35","v":0},{"$f":"AP36-AP35","v":0},{"$f":"AQ36-AQ35","v":0},{"$f":"AR36-AR35","v":0},{"$f":"AS36-AS35","v":0},{"$f":"AT36-AT35","v":0},{"$f":"AU36-AU35","v":0},{"$f":"AV36-AV35","v":0},{"$f":"AW36-AW35","v":0},{"$f":"AX36-AX35","v":0},0,0,0]
[2,1,1,0,0,0,0,0,0,0,0,0,0,null,2,2,2,2,2,2,2,1,1,1,1,1,1,null,2,{"$f":"IF(Paramètres!$H$57=0,0,VLOOKUP(Paramètres!$H$58,BARRACK_Normal_Troops[#All],2))","v":0},{"$f":"IF($AD37=0,0,IF($AC37<3,1,IF(SUM(Paramètres!$K$6:$K$45)<>Paramètres!$K$3,0,VLOOKUP(MATCH(1,Paramètres!$K$6:$K$45,0),LABO_Normal_Troops[#All],2))))","v":0},{"$f":"IF(Paramètres!$H$57=0,0,VLOOKUP(Paramètres!$H$58,BARRACK_Normal_Troops[#All],3))","v":0},{"$f":"IF($AF37=0,0,IF($AC37<3,1,IF(SUM(Paramètres!$K$6:$K$45)<>Paramètres!$K$3,0,VLOOKUP(MATCH(1,Paramètres!$K$6:$K$45,0),LABO_Normal_Troops[#All],3))))","v":0},{"$f":"IF(Paramètres!$H$57=0,0,VLOOKUP(Paramètres!$H$58,BARRACK_Normal_Troops[#All],4))","v":0},{"$f":"IF($AH37=0,0,IF($AC37<3,1,IF(SUM(Paramètres!$K$6:$K$45)<>Paramètres!$K$3,0,VLOOKUP(MATCH(1,Paramètres!$K$6:$K$45,0),LABO_Normal_Troops[#All],4))))","v":0},{"$f":"IF(Paramètres!$H$57=0,0,VLOOKUP(Paramètres!$H$58,BARRACK_Normal_Troops[#All],5))","v":0},{"$f":"IF($AJ37=0,0,IF($AC37<3,1,IF(SUM(Paramètres!$K$6:$K$45)<>Paramètres!$K$3,0,VLOOKUP(MATCH(1,Paramètres!$K$6:$K$45,0),LABO_Normal_Troops[#All],5))))","v":0},{"$f":"IF(Paramètres!$H$57=0,0,VLOOKUP(Paramètres!$H$58,BARRACK_Normal_Troops[#All],6))","v":0},{"$f":"IF($AL37=0,0,IF(SUM(Paramètres!$K$6:$K$45)<>Paramètres!$K$3,0,VLOOKUP(MATCH(1,Paramètres!$K$6:$K$45,0),LABO_Normal_Troops[#All],6)))","v":0},{"$f":"IF(Paramètres!$H$57=0,0,VLOOKUP(Paramètres!$H$58,BARRACK_Normal_Troops[#All],7))","v":0},{"$f":"IF($AN37=0,0,IF(SUM(Paramètres!$K$6:$K$45)<>Paramètres!$K$3,0,VLOOKUP(MATCH(1,Paramètres!$K$6:$K$45,0),LABO_Normal_Troops[#All],7)))","v":0},{"$f":"IF(Paramètres!$H$57=0,0,VLOOKUP(Paramètres!$H$58,BARRACK_Normal_Troops[#All],8))","v":0},{"$f":"IF($AP37=0,0,IF(SUM(Paramètres!$K$6:$K$45)<>Paramètres!$K$3,0,VLOOKUP(MATCH(1,Paramètres!$K$6:$K$45,0),LABO_Normal_Troops[#All],8)))","v":0},{"$f":"IF(Paramètres!$H$57=0,0,VLOOKUP(Paramètres!$H$58,BARRACK_Normal_Troops[#All],9))","v":0},{"$f":"IF($AR37=0,0,IF(SUM(Paramètres!$K$6:$K$45)<>Paramètres!$K$3,0,VLOOKUP(MATCH(1,Paramètres!$K$6:$K$45,0),LABO_Normal_Troops[#All],9)))","v":0},{"$f":"IF(Paramètres!$H$57=0,0,VLOOKUP(Paramètres!$H$58,BARRACK_Normal_Troops[#All],10))","v":0},{"$f":"IF($AT37=0,0,IF(SUM(Paramètres!$K$6:$K$45)<>Paramètres!$K$3,0,VLOOKUP(MATCH(1,Paramètres!$K$6:$K$45,0),LABO_Normal_Troops[#All],10)))","v":0},{"$f":"IF(Paramètres!$H$57=0,0,VLOOKUP(Paramètres!$H$58,BARRACK_Normal_Troops[#All],11))","v":0},{"$f":"IF($AV37=0,0,IF(SUM(Paramètres!$K$6:$K$45)<>Paramètres!$K$3,0,VLOOKUP(MATCH(1,Paramètres!$K$6:$K$45,0),LABO_Normal_Troops[#All],11)))","v":0},{"$f":"IF(Paramètres!$H$57=0,0,VLOOKUP(Paramètres!$H$58,BARRACK_Normal_Troops[#All],12))","v":0},{"$f":"IF($AX37=0,0,IF(SUM(Paramètres!$K$6:$K$45)<>Paramètres!$K$3,0,VLOOKUP(MATCH(1,Paramètres!$K$6:$K$45,0),LABO_Normal_Troops[#All],12)))","v":0},{"$f":"IF(Paramètres!$H$57=0,0,VLOOKUP(Paramètres!$H$58,BARRACK_Normal_Troops[#All],13))","v":0},{"$f":"IF($AZ37=0,0,IF(SUM(Paramètres!$K$6:$K$45)<>Paramètres!$K$3,0,VLOOKUP(MATCH(1,Paramètres!$K$6:$K$45,0),LABO_Normal_Troops[#All],13)))","v":0},null,2,0,0,0,0,0,0,0,0,0,0,0,0,0,0,0,0,0,0,0,0,0,0,0,0]
[3,1,1,1,0,0,0,0,0,0,0,0,0,null,3,3,3,2,3,2,2,2,1,1,1,1,1,null,3,{"$f":"IF(Paramètres!$H$57=0,0,VLOOKUP(Paramètres!$H$58,BARRACK_Normal_Troops[#All],2))","v":0},{"$f":"IF($AD38=0,0,IF($AC38<3,1,IF(SUM(Paramètres!$K$6:$K$45)<>Paramètres!$K$3,0,VLOOKUP(MATCH(1,Paramètres!$K$6:$K$45,0),LABO_Normal_Troops[#All],2))))","v":0},{"$f":"IF(Paramètres!$H$57=0,0,VLOOKUP(Paramètres!$H$58,BARRACK_Normal_Troops[#All],3))","v":0},{"$f":"IF($AF38=0,0,IF($AC38<3,1,IF(SUM(Paramètres!$K$6:$K$45)<>Paramètres!$K$3,0,VLOOKUP(MATCH(1,Paramètres!$K$6:$K$45,0),LABO_Normal_Troops[#All],3))))","v":0},{"$f":"IF(Paramètres!$H$57=0,0,VLOOKUP(Paramètres!$H$58,BARRACK_Normal_Troops[#All],4))","v":0},{"$f":"IF($AH38=0,0,IF($AC38<3,1,IF(SUM(Paramètres!$K$6:$K$45)<>Paramètres!$K$3,0,VLOOKUP(MATCH(1,Paramètres!$K$6:$K$45,0),LABO_Normal_Troops[#All],4))))","v":0},{"$f":"IF(Paramètres!$H$57=0,0,VLOOKUP(Paramètres!$H$58,BARRACK_Normal_Troops[#All],5))","v":0},{"$f":"IF($AJ38=0,0,IF($AC38<3,1,IF(SUM(Paramètres!$K$6:$K$45)<>Paramètres!$K$3,0,VLOOKUP(MATCH(1,Paramètres!$K$6:$K$45,0),LABO_Normal_Troops[#All],5))))","v":0},{"$f":"IF(Paramètres!$H$57=0,0,VLOOKUP(Paramètres!$H$58,BARRACK_Normal_Troops[#All],6))","v":0},{"$f":"IF($AL38=0,0,IF(SUM(Paramètres!$K$6:$K$45)<>Paramètres!$K$3,0,VLOOKUP(MATCH(1,Paramètres!$K$6:$K$45,0),LABO_Normal_Troops[#All],6)))","v":0},{"$f":"IF(Paramètres!$H$57=0,0,VLOOKUP(Paramètres!$H$58,BARRACK_Normal_Troops[#All],7))","v":0},{"$f":"IF($AN38=0,0,IF(SUM(Paramètres!$K$6:$K$45)<>Paramètres!$K$3,0,VLOOKUP(MATCH(1,Paramètres!$K$6:$K$45,0),LABO_Normal_Troops[#All],7)))","v":0},{"$f":"IF(Paramètres!$H$57=0,0,VLOOKUP(Paramètres!$H$58,BARRACK_Normal_Troops[#All],8))","v":0},{"$f":"IF($AP38=0,0,IF(SUM(Paramètres!$K$6:$K$45)<>Paramètres!$K$3,0,VLOOKUP(MATCH(1,Paramètres!$K$6:$K$45,0),LABO_Normal_Troops[#All],8)))","v":0},{"$f":"IF(Paramètres!$H$57=0,0,VLOOKUP(Paramètres!$H$58,BARRACK_Normal_Troops[#All],9))","v":0},{"$f":"IF($AR38=0,0,IF(SUM(Paramètres!$K$6:$K$45)<>Paramètres!$K$3,0,VLOOKUP(MATCH(1,Paramètres!$K$6:$K$45,0),LABO_Normal_Troops[#All],9)))","v":0},{"$f":"IF(Paramètres!$H$57=0,0,VLOOKUP(Paramètres!$H$58,BARRACK_Normal_Troops[#All],10))","v":0},{"$f":"IF($AT38=0,0,IF(SUM(Paramètres!$K$6:$K$45)<>Paramètres!$K$3,0,VLOOKUP(MATCH(1,Paramètres!$K$6:$K$45,0),LABO_Normal_Troops[#All],10)))","v":0},{"$f":"IF(Paramètres!$H$57=0,0,VLOOKUP(Paramètres!$H$58,BARRACK_Normal_Troops[#All],11))","v":0},{"$f":"IF($AV38=0,0,IF(SUM(Paramètres!$K$6:$K$45)<>Paramètres!$K$3,0,VLOOKUP(MATCH(1,Paramètres!$K$6:$K$45,0),LABO_Normal_Troops[#All],11)))","v":0},{"$f":"IF(Paramètres!$H$57=0,0,VLOOKUP(Paramètres!$H$58,BARRACK_Normal_Troops[#All],12))","v":0},{"$f":"IF($AX38=0,0,IF(SUM(Paramètres!$K$6:$K$45)<>Paramètres!$K$3,0,VLOOKUP(MATCH(1,Paramètres!$K$6:$K$45,0),LABO_Normal_Troops[#All],12)))","v":0},{"$f":"IF(Paramètres!$H$57=0,0,VLOOKUP(Paramètres!$H$58,BARRACK_Normal_Troops[#All],13))","v":0},{"$f":"IF($AZ38=0,0,IF(SUM(Paramètres!$K$6:$K$45)<>Paramètres!$K$3,0,VLOOKUP(MATCH(1,Paramètres!$K$6:$K$45,0),LABO_Normal_Troops[#All],13)))","v":0},null,3,0,0,0,0,0,0,0,0,0,0,0,0,0,0,0,0,0,0,0,0,0,0,0,0]
[4,1,1,1,1,0,0,0,0,0,0,0,0,null,4,3,3,3,3,3,3,3,1,1,1,1,1,null,4,{"$f":"IF(Paramètres!$H$57=0,0,VLOOKUP(Paramètres!$H$58,BARRACK_Normal_Troops[#All],2))","v":0},{"$f":"IF($AD39=0,0,IF($AC39<3,1,IF(SUM(Paramètres!$K$6:$K$45)<>Paramètres!$K$3,0,VLOOKUP(MATCH(1,Paramètres!$K$6:$K$45,0),LABO_Normal_Troops[#All],2))))","v":0},{"$f":"IF(Paramètres!$H$57=0,0,VLOOKUP(Paramètres!$H$58,BARRACK_Normal_Troops[#All],3))","v":0},{"$f":"IF($AF39=0,0,IF($AC39<3,1,IF(SUM(Paramètres!$K$6:$K$45)<>Paramètres!$K$3,0,VLOOKUP(MATCH(1,Paramètres!$K$6:$K$45,0),LABO_Normal_Troops[#All],3))))","v":0},{"$f":"IF(Paramètres!$H$57=0,0,VLOOKUP(Paramètres!$H$58,BARRACK_Normal_Troops[#All],4))","v":0},{"$f":"IF($AH39=0,0,IF($AC39<3,1,IF(SUM(Paramètres!$K$6:$K$45)<>Paramètres!$K$3,0,VLOOKUP(MATCH(1,Paramètres!$K$6:$K$45,0),LABO_Normal_Troops[#All],4))))","v":0},{"$f":"IF(Paramètres!$H$57=0,0,VLOOKUP(Paramètres!$H$58,BARRACK_Normal_Troops[#All],5))","v":0},{"$f":"IF($AJ39=0,0,IF($AC39<3,1,IF(SUM(Paramètres!$K$6:$K$45)<>Paramètres!$K$3,0,VLOOKUP(MATCH(1,Paramètres!$K$6:$K$45,0),LABO_Normal_Troops[#All],5))))","v":0},{"$f":"IF(Paramètres!$H$57=0,0,VLOOKUP(Paramètres!$H$58,BARRACK_Normal_Troops[#All],6))","v":0},{"$f":"IF($AL39=0,0,IF(SUM(Paramètres!$K$6:$K$45)<>Paramètres!$K$3,0,VLOOKUP(MATCH(1,Paramètres!$K$6:$K$45,0),LABO_Normal_Troops[#All],6)))","v":0},{"$f":"IF(Paramètres!$H$57=0,0,VLOOKUP(Paramètres!$H$58,BARRACK_Normal_Troops[#All],7))","v":0},{"$f":"IF($AN39=0,0,IF(SUM(Paramètres!$K$6:$K$45)<>Paramètres!$K$3,0,VLOOKUP(MATCH(1,Paramètres!$K$6:$K$45,0),LABO_Normal_Troops[#All],7)))","v":0},{"$f":"IF(Paramètres!$H$57=0,0,VLOOKUP(Paramètres!$H$58,BARRACK_Normal_Troops[#All],8))","v":0},{"$f":"IF($AP39=0,0,IF(SUM(Paramètres!$K$6:$K$45)<>Paramètres!$K$3,0,VLOOKUP(MATCH(1,Paramètres!$K$6:$K$45,0),LABO_Normal_Troops[#All],8)))","v":0},{"$f":"IF(Paramètres!$H$57=0,0,VLOOKUP(Paramètres!$H$58,BARRACK_Normal_Troops[#All],9))","v":0},{"$f":"IF($AR39=0,0,IF(SUM(Paramètres!$K$6:$K$45)<>Paramètres!$K$3,0,VLOOKUP(MATCH(1,Paramètres!$K$6:$K$45,0),LABO_Normal_Troops[#All],9)))","v":0},{"$f":"IF(Paramètres!$H$57=0,0,VLOOKUP(Paramètres!$H$58,BARRACK_Normal_Troops[#All],10))","v":0},{"$f":"IF($AT39=0,0,IF(SUM(Paramètres!$K$6:$K$45)<>Paramètres!$K$3,0,VLOOKUP(MATCH(1,Paramètres!$K$6:$K$45,0),LABO_Normal_Troops[#All],10)))","v":0},{"$f":"IF(Paramètres!$H$57=0,0,VLOOKUP(Paramètres!$H$58,BARRACK_Normal_Troops[#All],11))","v":0},{"$f":"IF($AV39=0,0,IF(SUM(Paramètres!$K$6:$K$45)<>Paramètres!$K$3,0,VLOOKUP(MATCH(1,Paramètres!$K$6:$K$45,0),LABO_Normal_Troops[#All],11)))","v":0},{"$f":"IF(Paramètres!$H$57=0,0,VLOOKUP(Paramètres!$H$58,BARRACK_Normal_Troops[#All],12))","v":0},{"$f":"IF($AX39=0,0,IF(SUM(Paramètres!$K$6:$K$45)<>Paramètres!$K$3,0,VLOOKUP(MATCH(1,Paramètres!$K$6:$K$45,0),LABO_Normal_Troops[#All],12)))","v":0},{"$f":"IF(Paramètres!$H$57=0,0,VLOOKUP(Paramètres!$H$58,BARRACK_Normal_Troops[#All],13))","v":0},{"$f":"IF($AZ39=0,0,IF(SUM(Paramètres!$K$6:$K$45)<>Paramètres!$K$3,0,VLOOKUP(MATCH(1,Paramètres!$K$6:$K$45,0),LABO_Normal_Troops[#All],13)))","v":0},null,4,0,0,0,0,0,0,0,0,0,0,0,0,0,0,0,0,0,0,0,0,0,0,0,0]
[5,1,1,1,1,1,0,0,0,0,0,0,0,null,5,4,4,4,4,4,4,4,2,2,1,1,1,null,5,{"$f":"IF(Paramètres!$H$57=0,0,VLOOKUP(Paramètres!$H$58,BARRACK_Normal_Troops[#All],2))","v":0},{"$f":"IF($AD40=0,0,IF($AC40<3,1,IF(SUM(Paramètres!$K$6:$K$45)<>Paramètres!$K$3,0,VLOOKUP(MATCH(1,Paramètres!$K$6:$K$45,0),LABO_Normal_Troops[#All],2))))","v":0},{"$f":"IF(Paramètres!$H$57=0,0,VLOOKUP(Paramètres!$H$58,BARRACK_Normal_Troops[#All],3))","v":0},{"$f":"IF($AF40=0,0,IF($AC40<3,1,IF(SUM(Paramètres!$K$6:$K$45)<>Paramètres!$K$3,0,VLOOKUP(MATCH(1,Paramètres!$K$6:$K$45,0),LABO_Normal_Troops[#All],3))))","v":0},{"$f":"IF(Paramètres!$H$57=0,0,VLOOKUP(Paramètres!$H$58,BARRACK_Normal_Troops[#All],4))","v":0},{"$f":"IF($AH40=0,0,IF($AC40<3,1,IF(SUM(Paramètres!$K$6:$K$45)<>Paramètres!$K$3,0,VLOOKUP(MATCH(1,Paramètres!$K$6:$K$45,0),LABO_Normal_Troops[#All],4))))","v":0},{"$f":"IF(Paramètres!$H$57=0,0,VLOOKUP(Paramètres!$H$58,BARRACK_Normal_Troops[#All],5))","v":0},{"$f":"IF($AJ40=0,0,IF($AC40<3,1,IF(SUM(Paramètres!$K$6:$K$45)<>Paramètres!$K$3,0,VLOOKUP(MATCH(1,Paramètres!$K$6:$K$45,0),LABO_Normal_Troops[#All],5))))","v":0},{"$f":"IF(Paramètres!$H$57=0,0,VLOOKUP(Paramètres!$H$58,BARRACK_Normal_Troops[#All],6))","v":0},{"$f":"IF($AL40=0,0,IF(SUM(Paramètres!$K$6:$K$45)<>Paramètres!$K$3,0,VLOOKUP(MATCH(1,Paramètres!$K$6:$K$45,0),LABO_Normal_Troops[#All],6)))","v":0},{"$f":"IF(Paramètres!$H$57=0,0,VLOOKUP(Paramètres!$H$58,BARRACK_Normal_Troops[#All],7))","v":0},{"$f":"IF($AN40=0,0,IF(SUM(Paramètres!$K$6:$K$45)<>Paramètres!$K$3,0,VLOOKUP(MATCH(1,Paramètres!$K$6:$K$45,0),LABO_Normal_Troops[#All],7)))","v":0},{"$f":"IF(Paramètres!$H$57=0,0,VLOOKUP(Paramètres!$H$58,BARRACK_Normal_Troops[#All],8))","v":0},{"$f":"IF($AP40=0,0,IF(SUM(Paramètres!$K$6:$K$45)<>Paramètres!$K$3,0,VLOOKUP(MATCH(1,Paramètres!$K$6:$K$45,0),LABO_Normal_Troops[#All],8)))","v":0},{"$f":"IF(Paramètres!$H$57=0,0,VLOOKUP(Paramètres!$H$58,BARRACK_Normal_Troops[#All],9))","v":0},{"$f":"IF($AR40=0,0,IF(SUM(Paramètres!$K$6:$K$45)<>Paramètres!$K$3,0,VLOOKUP(MATCH(1,Paramètres!$K$6:$K$45,0),LABO_Normal_Troops[#All],9)))","v":0},{"$f":"IF(Paramètres!$H$57=0,0,VLOOKUP(Paramètres!$H$58,BARRACK_Normal_Troops[#All],10))","v":0},{"$f":"IF($AT40=0,0,IF(SUM(Paramètres!$K$6:$K$45)<>Paramètres!$K$3,0,VLOOKUP(MATCH(1,Paramètres!$K$6:$K$45,0),LABO_Normal_Troops[#All],10)))","v":0},{"$f":"IF(Paramètres!$H$57=0,0,VLOOKUP(Paramètres!$H$58,BARRACK_Normal_Troops[#All],11))","v":0},{"$f":"IF($AV40=0,0,IF(SUM(Paramètres!$K$6:$K$45)<>Paramètres!$K$3,0,VLOOKUP(MATCH(1,Paramètres!$K$6:$K$45,0),LABO_Normal_Troops[#All],11)))","v":0},{"$f":"IF(Paramètres!$H$57=0,0,VLOOKUP(Paramètres!$H$58,BARRACK_Normal_Troops[#All],12))","v":0},{"$f":"IF($AX40=0,0,IF(SUM(Paramètres!$K$6:$K$45)<>Paramètres!$K$3,0,VLOOKUP(MATCH(1,Paramètres!$K$6:$K$45,0),LABO_Normal_Troops[#All],12)))","v":0},{"$f":"IF(Paramètres!$H$57=0,0,VLOOKUP(Paramètres!$H$58,BARRACK_Normal_Troops[#All],13))","v":0},{"$f":"IF($AZ40=0,0,IF(SUM(Paramètres!$K$6:$K$45)<>Paramètres!$K$3,0,VLOOKUP(MATCH(1,Paramètres!$K$6:$K$45,0),LABO_Normal_Troops[#All],13)))","v":0},null,5,0,0,0,0,0,0,0,0,0,0,0,0,0,0,0,0,0,0,0,0,0,0,0,0]
[6,1,1,1,1,1,1,0,0,0,0,0,0,null,6,5,5,5,5,5,5,5,3,3,3,1,1,null,6,{"$f":"IF(Paramètres!$H$57=0,0,VLOOKUP(Paramètres!$H$58,BARRACK_Normal_Troops[#All],2))","v":0},{"$f":"IF($AD41=0,0,IF($AC41<3,1,IF(SUM(Paramètres!$K$6:$K$45)<>Paramètres!$K$3,0,VLOOKUP(MATCH(1,Paramètres!$K$6:$K$45,0),LABO_Normal_Troops[#All],2))))","v":0},{"$f":"IF(Paramètres!$H$57=0,0,VLOOKUP(Paramètres!$H$58,BARRACK_Normal_Troops[#All],3))","v":0},{"$f":"IF($AF41=0,0,IF($AC41<3,1,IF(SUM(Paramètres!$K$6:$K$45)<>Paramètres!$K$3,0,VLOOKUP(MATCH(1,Paramètres!$K$6:$K$45,0),LABO_Normal_Troops[#All],3))))","v":0},{"$f":"IF(Paramètres!$H$57=0,0,VLOOKUP(Paramètres!$H$58,BARRACK_Normal_Troops[#All],4))","v":0},{"$f":"IF($AH41=0,0,IF($AC41<3,1,IF(SUM(Paramètres!$K$6:$K$45)<>Paramètres!$K$3,0,VLOOKUP(MATCH(1,Paramètres!$K$6:$K$45,0),LABO_Normal_Troops[#All],4))))","v":0},{"$f":"IF(Paramètres!$H$57=0,0,VLOOKUP(Paramètres!$H$58,BARRACK_Normal_Troops[#All],5))","v":0},{"$f":"IF($AJ41=0,0,IF($AC41<3,1,IF(SUM(Paramètres!$K$6:$K$45)<>Paramètres!$K$3,0,VLOOKUP(MATCH(1,Paramètres!$K$6:$K$45,0),LABO_Normal_Troops[#All],5))))","v":0},{"$f":"IF(Paramètres!$H$57=0,0,VLOOKUP(Paramètres!$H$58,BARRACK_Normal_Troops[#All],6))","v":0},{"$f":"IF($AL41=0,0,IF(SUM(Paramètres!$K$6:$K$45)<>Paramètres!$K$3,0,VLOOKUP(MATCH(1,Paramètres!$K$6:$K$45,0),LABO_Normal_Troops[#All],6)))","v":0},{"$f":"IF(Paramètres!$H$57=0,0,VLOOKUP(Paramètres!$H$58,BARRACK_Normal_Troops[#All],7))","v":0},{"$f":"IF($AN41=0,0,IF(SUM(Paramètres!$K$6:$K$45)<>Paramètres!$K$3,0,VLOOKUP(MATCH(1,Paramètres!$K$6:$K$45,0),LABO_Normal_Troops[#All],7)))","v":0},{"$f":"IF(Paramètres!$H$57=0,0,VLOOKUP(Paramètres!$H$58,BARRACK_Normal_Troops[#All],8))","v":0},{"$f":"IF($AP41=0,0,IF(SUM(Paramètres!$K$6:$K$45)<>Paramètres!$K$3,0,VLOOKUP(MATCH(1,Paramètres!$K$6:$K$45,0),LABO_Normal_Troops[#All],8)))","v":0},{"$f":"IF(Paramètres!$H$57=0,0,VLOOKUP(Paramètres!$H$58,BARRACK_Normal_Troops[#All],9))","v":0},{"$f":"IF($AR41=0,0,IF(SUM(Paramètres!$K$6:$K$45)<>Paramètres!$K$3,0,VLOOKUP(MATCH(1,Paramètres!$K$6:$K$45,0),LABO_Normal_Troops[#All],9)))","v":0},{"$f":"IF(Paramètres!$H$57=0,0,VLOOKUP(Paramètres!$H$58,BARRACK_Normal_Troops[#All],10))","v":0},{"$f":"IF($AT41=0,0,IF(SUM(Paramètres!$K$6:$K$45)<>Paramètres!$K$3,0,VLOOKUP(MATCH(1,Paramètres!$K$6:$K$45,0),LABO_Normal_Troops[#All],10)))","v":0},{"$f":"IF(Paramètres!$H$57=0,0,VLOOKUP(Paramètres!$H$58,BARRACK_Normal_Troops[#All],11))","v":0},{"$f":"IF($AV41=0,0,IF(SUM(Paramètres!$K$6:$K$45)<>Paramètres!$K$3,0,VLOOKUP(MATCH(1,Paramètres!$K$6:$K$45,0),LABO_Normal_Troops[#All],11)))","v":0},{"$f":"IF(Paramètres!$H$57=0,0,VLOOKUP(Paramètres!$H$58,BARRACK_Normal_Troops[#All],12))","v":0},{"$f":"IF($AX41=0,0,IF(SUM(Paramètres!$K$6:$K$45)<>Paramètres!$K$3,0,VLOOKUP(MATCH(1,Paramètres!$K$6:$K$45,0),LABO_Normal_Troops[#All],12)))","v":0},{"$f":"IF(Paramètres!$H$57=0,0,VLOOKUP(Paramètres!$H$58,BARRACK_Normal_Troops[#All],13))","v":0},{"$f":"IF($AZ41=0,0,IF(SUM(Paramètres!$K$6:$K$45)<>Paramètres!$K$3,0,VLOOKUP(MATCH(1,Paramètres!$K$6:$K$45,0),LABO_Normal_Troops[#All],13)))","v":0},null,6,0,0,0,0,0,0,0,0,0,0,0,0,0,0,0,0,0,0,0,0,0,0,0,0]
[7,1,1,1,1,1,1,1,0,0,0,0,0,null,7,6,6,6,6,5,6,5,4,4,3,2,1,null,7,{"$f":"IF(Paramètres!$H$57=0,0,VLOOKUP(Paramètres!$H$58,BARRACK_Normal_Troops[#All],2))","v":0},{"$f":"IF($AD42=0,0,IF($AC42<3,1,IF(SUM(Paramètres!$K$6:$K$45)<>Paramètres!$K$3,0,VLOOKUP(MATCH(1,Paramètres!$K$6:$K$45,0),LABO_Normal_Troops[#All],2))))","v":0},{"$f":"IF(Paramètres!$H$57=0,0,VLOOKUP(Paramètres!$H$58,BARRACK_Normal_Troops[#All],3))","v":0},{"$f":"IF($AF42=0,0,IF($AC42<3,1,IF(SUM(Paramètres!$K$6:$K$45)<>Paramètres!$K$3,0,VLOOKUP(MATCH(1,Paramètres!$K$6:$K$45,0),LABO_Normal_Troops[#All],3))))","v":0},{"$f":"IF(Paramètres!$H$57=0,0,VLOOKUP(Paramètres!$H$58,BARRACK_Normal_Troops[#All],4))","v":0},{"$f":"IF($AH42=0,0,IF($AC42<3,1,IF(SUM(Paramètres!$K$6:$K$45)<>Paramètres!$K$3,0,VLOOKUP(MATCH(1,Paramètres!$K$6:$K$45,0),LABO_Normal_Troops[#All],4))))","v":0},{"$f":"IF(Paramètres!$H$57=0,0,VLOOKUP(Paramètres!$H$58,BARRACK_Normal_Troops[#All],5))","v":0},{"$f":"IF($AJ42=0,0,IF($AC42<3,1,IF(SUM(Paramètres!$K$6:$K$45)<>Paramètres!$K$3,0,VLOOKUP(MATCH(1,Paramètres!$K$6:$K$45,0),LABO_Normal_Troops[#All],5))))","v":0},{"$f":"IF(Paramètres!$H$57=0,0,VLOOKUP(Paramètres!$H$58,BARRACK_Normal_Troops[#All],6))","v":0},{"$f":"IF($AL42=0,0,IF(SUM(Paramètres!$K$6:$K$45)<>Paramètres!$K$3,0,VLOOKUP(MATCH(1,Paramètres!$K$6:$K$45,0),LABO_Normal_Troops[#All],6)))","v":0},{"$f":"IF(Paramètres!$H$57=0,0,VLOOKUP(Paramètres!$H$58,BARRACK_Normal_Troops[#All],7))","v":0},{"$f":"IF($AN42=0,0,IF(SUM(Paramètres!$K$6:$K$45)<>Paramètres!$K$3,0,VLOOKUP(MATCH(1,Paramètres!$K$6:$K$45,0),LABO_Normal_Troops[#All],7)))","v":0},{"$f":"IF(Paramètres!$H$57=0,0,VLOOKUP(Paramètres!$H$58,BARRACK_Normal_Troops[#All],8))","v":0},{"$f":"IF($AP42=0,0,IF(SUM(Paramètres!$K$6:$K$45)<>Paramètres!$K$3,0,VLOOKUP(MATCH(1,Paramètres!$K$6:$K$45,0),LABO_Normal_Troops[#All],8)))","v":0},{"$f":"IF(Paramètres!$H$57=0,0,VLOOKUP(Paramètres!$H$58,BARRACK_Normal_Troops[#All],9))","v":0},{"$f":"IF($AR42=0,0,IF(SUM(Paramètres!$K$6:$K$45)<>Paramètres!$K$3,0,VLOOKUP(MATCH(1,Paramètres!$K$6:$K$45,0),LABO_Normal_Troops[#All],9)))","v":0},{"$f":"IF(Paramètres!$H$57=0,0,VLOOKUP(Paramètres!$H$58,BARRACK_Normal_Troops[#All],10))","v":0},{"$f":"IF($AT42=0,0,IF(SUM(Paramètres!$K$6:$K$45)<>Paramètres!$K$3,0,VLOOKUP(MATCH(1,Paramètres!$K$6:$K$45,0),LABO_Normal_Troops[#All],10)))","v":0},{"$f":"IF(Paramètres!$H$57=0,0,VLOOKUP(Paramètres!$H$58,BARRACK_Normal_Troops[#All],11))","v":0},{"$f":"IF($AV42=0,0,IF(SUM(Paramètres!$K$6:$K$45)<>Paramètres!$K$3,0,VLOOKUP(MATCH(1,Paramètres!$K$6:$K$45,0),LABO_Normal_Troops[#All],11)))","v":0},{"$f":"IF(Paramètres!$H$57=0,0,VLOOKUP(Paramètres!$H$58,BARRACK_Normal_Troops[#All],12))","v":0},{"$f":"IF($AX42=0,0,IF(SUM(Paramètres!$K$6:$K$45)<>Paramètres!$K$3,0,VLOOKUP(MATCH(1,Paramètres!$K$6:$K$45,0),LABO_Normal_Troops[#All],12)))","v":0},{"$f":"IF(Paramètres!$H$57=0,0,VLOOKUP(Paramètres!$H$58,BARRACK_Normal_Troops[#All],13))","v":0},{"$f":"IF($AZ42=0,0,IF(SUM(Paramètres!$K$6:$K$45)<>Paramètres!$K$3,0,VLOOKUP(MATCH(1,Paramètres!$K$6:$K$45,0),LABO_Normal_Troops[#All],13)))","v":0},null,7,0,0,0,0,0,0,0,0,0,0,0,0,0,0,0,0,0,0,0,0,0,0,0,0]
[8,1,1,1,1,1,1,1,1,0,0,0,0,null,8,7,7,7,7,6,6,7,4,5,5,4,2,null,8,{"$f":"IF(Paramètres!$H$57=0,0,VLOOKUP(Paramètres!$H$58,BARRACK_Normal_Troops[#All],2))","v":0},{"$f":"IF($AD43=0,0,IF($AC43<3,1,IF(SUM(Paramètres!$K$6:$K$45)<>Paramètres!$K$3,0,VLOOKUP(MATCH(1,Paramètres!$K$6:$K$45,0),LABO_Normal_Troops[#All],2))))","v":0},{"$f":"IF(Paramètres!$H$57=0,0,VLOOKUP(Paramètres!$H$58,BARRACK_Normal_Troops[#All],3))","v":0},{"$f":"IF($AF43=0,0,IF($AC43<3,1,IF(SUM(Paramètres!$K$6:$K$45)<>Paramètres!$K$3,0,VLOOKUP(MATCH(1,Paramètres!$K$6:$K$45,0),LABO_Normal_Troops[#All],3))))","v":0},{"$f":"IF(Paramètres!$H$57=0,0,VLOOKUP(Paramètres!$H$58,BARRACK_Normal_Troops[#All],4))","v":0},{"$f":"IF($AH43=0,0,IF($AC43<3,1,IF(SUM(Paramètres!$K$6:$K$45)<>Paramètres!$K$3,0,VLOOKUP(MATCH(1,Paramètres!$K$6:$K$45,0),LABO_Normal_Troops[#All],4))))","v":0},{"$f":"IF(Paramètres!$H$57=0,0,VLOOKUP(Paramètres!$H$58,BARRACK_Normal_Troops[#All],5))","v":0},{"$f":"IF($AJ43=0,0,IF($AC43<3,1,IF(SUM(Paramètres!$K$6:$K$45)<>Paramètres!$K$3,0,VLOOKUP(MATCH(1,Paramètres!$K$6:$K$45,0),LABO_Normal_Troops[#All],5))))","v":0},{"$f":"IF(Paramètres!$H$57=0,0,VLOOKUP(Paramètres!$H$58,BARRACK_Normal_Troops[#All],6))","v":0},{"$f":"IF($AL43=0,0,IF(SUM(Paramètres!$K$6:$K$45)<>Paramètres!$K$3,0,VLOOKUP(MATCH(1,Paramètres!$K$6:$K$45,0),LABO_Normal_Troops[#All],6)))","v":0},{"$f":"IF(Paramètres!$H$57=0,0,VLOOKUP(Paramètres!$H$58,BARRACK_Normal_Troops[#All],7))","v":0},{"$f":"IF($AN43=0,0,IF(SUM(Paramètres!$K$6:$K$45)<>Paramètres!$K$3,0,VLOOKUP(MATCH(1,Paramètres!$K$6:$K$45,0),LABO_Normal_Troops[#All],7)))","v":0},{"$f":"IF(Paramètres!$H$57=0,0,VLOOKUP(Paramètres!$H$58,BARRACK_Normal_Troops[#All],8))","v":0},{"$f":"IF($AP43=0,0,IF(SUM(Paramètres!$K$6:$K$45)<>Paramètres!$K$3,0,VLOOKUP(MATCH(1,Paramètres!$K$6:$K$45,0),LABO_Normal_Troops[#All],8)))","v":0},{"$f":"IF(Paramètres!$H$57=0,0,VLOOKUP(Paramètres!$H$58,BARRACK_Normal_Troops[#All],9))","v":0},{"$f":"IF($AR43=0,0,IF(SUM(Paramètres!$K$6:$K$45)<>Paramètres!$K$3,0,VLOOKUP(MATCH(1,Paramètres!$K$6:$K$45,0),LABO_Normal_Troops[#All],9)))","v":0},{"$f":"IF(Paramètres!$H$57=0,0,VLOOKUP(Paramètres!$H$58,BARRACK_Normal_Troops[#All],10))","v":0},{"$f":"IF($AT43=0,0,IF(SUM(Paramètres!$K$6:$K$45)<>Paramètres!$K$3,0,VLOOKUP(MATCH(1,Paramètres!$K$6:$K$45,0),LABO_Normal_Troops[#All],10)))","v":0},{"$f":"IF(Paramètres!$H$57=0,0,VLOOKUP(Paramètres!$H$58,BARRACK_Normal_Troops[#All],11))","v":0},{"$f":"IF($AV43=0,0,IF(SUM(Paramètres!$K$6:$K$45)<>Paramètres!$K$3,0,VLOOKUP(MATCH(1,Paramètres!$K$6:$K$45,0),LABO_Normal_Troops[#All],11)))","v":0},{"$f":"IF(Paramètres!$H$57=0,0,VLOOKUP(Paramètres!$H$58,BARRACK_Normal_Troops[#All],12))","v":0},{"$f":"IF($AX43=0,0,IF(SUM(Paramètres!$K$6:$K$45)<>Paramètres!$K$3,0,VLOOKUP(MATCH(1,Paramètres!$K$6:$K$45,0),LABO_Normal_Troops[#All],12)))","v":0},{"$f":"IF(Paramètres!$H$57=0,0,VLOOKUP(Paramètres!$H$58,BARRACK_Normal_Troops[#All],13))","v":0},{"$f":"IF($AZ43=0,0,IF(SUM(Paramètres!$K$6:$K$45)<>Paramètres!$K$3,0,VLOOKUP(MATCH(1,Paramètres!$K$6:$K$45,0),LABO_Normal_Troops[#All],13)))","v":0},null,8,0,0,0,0,0,0,0,0,0,0,0,0,0,0,0,0,0,0,0,0,0,0,0,0]
[9,1,1,1,1,1,1,1,1,1,0,0,0,null,9,7,7,8,7,6,7,7,4,6,5,5,4,null,9,{"$f":"IF(Paramètres!$H$57=0,0,VLOOKUP(Paramètres!$H$58,BARRACK_Normal_Troops[#All],2))","v":0},{"$f":"IF($AD44=0,0,IF($AC44<3,1,IF(SUM(Paramètres!$K$6:$K$45)<>Paramètres!$K$3,0,VLOOKUP(MATCH(1,Paramètres!$K$6:$K$45,0),LABO_Normal_Troops[#All],2))))","v":0},{"$f":"IF(Paramètres!$H$57=0,0,VLOOKUP(Paramètres!$H$58,BARRACK_Normal_Troops[#All],3))","v":0},{"$f":"IF($AF44=0,0,IF($AC44<3,1,IF(SUM(Paramètres!$K$6:$K$45)<>Paramètres!$K$3,0,VLOOKUP(MATCH(1,Paramètres!$K$6:$K$45,0),LABO_Normal_Troops[#All],3))))","v":0},{"$f":"IF(Paramètres!$H$57=0,0,VLOOKUP(Paramètres!$H$58,BARRACK_Normal_Troops[#All],4))","v":0},{"$f":"IF($AH44=0,0,IF($AC44<3,1,IF(SUM(Paramètres!$K$6:$K$45)<>Paramètres!$K$3,0,VLOOKUP(MATCH(1,Paramètres!$K$6:$K$45,0),LABO_Normal_Troops[#All],4))))","v":0},{"$f":"IF(Paramètres!$H$57=0,0,VLOOKUP(Paramètres!$H$58,BARRACK_Normal_Troops[#All],5))","v":0},{"$f":"IF($AJ44=0,0,IF($AC44<3,1,IF(SUM(Paramètres!$K$6:$K$45)<>Paramètres!$K$3,0,VLOOKUP(MATCH(1,Paramètres!$K$6:$K$45,0),LABO_Normal_Troops[#All],5))))","v":0},{"$f":"IF(Paramètres!$H$57=0,0,VLOOKUP(Paramètres!$H$58,BARRACK_Normal_Troops[#All],6))","v":0},{"$f":"IF($AL44=0,0,IF(SUM(Paramètres!$K$6:$K$45)<>Paramètres!$K$3,0,VLOOKUP(MATCH(1,Paramètres!$K$6:$K$45,0),LABO_Normal_Troops[#All],6)))","v":0},{"$f":"IF(Paramètres!$H$57=0,0,VLOOKUP(Paramètres!$H$58,BARRACK_Normal_Troops[#All],7))","v":0},{"$f":"IF($AN44=0,0,IF(SUM(Paramètres!$K$6:$K$45)<>Paramètres!$K$3,0,VLOOKUP(MATCH(1,Paramètres!$K$6:$K$45,0),LABO_Normal_Troops[#All],7)))","v":0},{"$f":"IF(Paramètres!$H$57=0,0,VLOOKUP(Paramètres!$H$58,BARRACK_Normal_Troops[#All],8))","v":0},{"$f":"IF($AP44=0,0,IF(SUM(Paramètres!$K$6:$K$45)<>Paramètres!$K$3,0,VLOOKUP(MATCH(1,Paramètres!$K$6:$K$45,0),LABO_Normal_Troops[#All],8)))","v":0},{"$f":"IF(Paramètres!$H$57=0,0,VLOOKUP(Paramètres!$H$58,BARRACK_Normal_Troops[#All],9))","v":0},{"$f":"IF($AR44=0,0,IF(SUM(Paramètres!$K$6:$K$45)<>Paramètres!$K$3,0,VLOOKUP(MATCH(1,Paramètres!$K$6:$K$45,0),LABO_Normal_Troops[#All],9)))","v":0},{"$f":"IF(Paramètres!$H$57=0,0,VLOOKUP(Paramètres!$H$58,BARRACK_Normal_Troops[#All],10))","v":0},{"$f":"IF($AT44=0,0,IF(SUM(Paramètres!$K$6:$K$45)<>Paramètres!$K$3,0,VLOOKUP(MATCH(1,Paramètres!$K$6:$K$45,0),LABO_Normal_Troops[#All],10)))","v":0},{"$f":"IF(Paramètres!$H$57=0,0,VLOOKUP(Paramètres!$H$58,BARRACK_Normal_Troops[#All],11))","v":0},{"$f":"IF($AV44=0,0,IF(SUM(Paramètres!$K$6:$K$45)<>Paramètres!$K$3,0,VLOOKUP(MATCH(1,Paramètres!$K$6:$K$45,0),LABO_Normal_Troops[#All],11)))","v":0},{"$f":"IF(Paramètres!$H$57=0,0,VLOOKUP(Paramètres!$H$58,BARRACK_Normal_Troops[#All],12))","v":0},{"$f":"IF($AX44=0,0,IF(SUM(Paramètres!$K$6:$K$45)<>Paramètres!$K$3,0,VLOOKUP(MATCH(1,Paramètres!$K$6:$K$45,0),LABO_Normal_Troops[#All],12)))","v":0},{"$f":"IF(Paramètres!$H$57=0,0,VLOOKUP(Paramètres!$H$58,BARRACK_Normal_Troops[#All],13))","v":0},{"$f":"IF($AZ44=0,0,IF(SUM(Paramètres!$K$6:$K$45)<>Paramètres!$K$3,0,VLOOKUP(MATCH(1,Paramètres!$K$6:$K$45,0),LABO_Normal_Troops[#All],13)))","v":0},null,9,0,0,0,0,0,0,0,0,0,0,0,0,0,0,0,0,0,0,0,0,0,0,0,0]
[10,1,1,1,1,1,1,1,1,1,1,0,0,null,null,null,null,null,null,null,null,null,null,null,null,null,null,null,10,{"$f":"IF(Paramètres!$H$57=0,0,VLOOKUP(Paramètres!$H$58,BARRACK_Normal_Troops[#All],2))","v":0},{"$f":"IF($AD45=0,0,IF($AC45<3,1,IF(SUM(Paramètres!$K$6:$K$45)<>Paramètres!$K$3,0,VLOOKUP(MATCH(1,Paramètres!$K$6:$K$45,0),LABO_Normal_Troops[#All],2))))","v":0},{"$f":"IF(Paramètres!$H$57=0,0,VLOOKUP(Paramètres!$H$58,BARRACK_Normal_Troops[#All],3))","v":0},{"$f":"IF($AF45=0,0,IF($AC45<3,1,IF(SUM(Paramètres!$K$6:$K$45)<>Paramètres!$K$3,0,VLOOKUP(MATCH(1,Paramètres!$K$6:$K$45,0),LABO_Normal_Troops[#All],3))))","v":0},{"$f":"IF(Paramètres!$H$57=0,0,VLOOKUP(Paramètres!$H$58,BARRACK_Normal_Troops[#All],4))","v":0},{"$f":"IF($AH45=0,0,IF($AC45<3,1,IF(SUM(Paramètres!$K$6:$K$45)<>Paramètres!$K$3,0,VLOOKUP(MATCH(1,Paramètres!$K$6:$K$45,0),LABO_Normal_Troops[#All],4))))","v":0},{"$f":"IF(Paramètres!$H$57=0,0,VLOOKUP(Paramètres!$H$58,BARRACK_Normal_Troops[#All],5))","v":0},{"$f":"IF($AJ45=0,0,IF($AC45<3,1,IF(SUM(Paramètres!$K$6:$K$45)<>Paramètres!$K$3,0,VLOOKUP(MATCH(1,Paramètres!$K$6:$K$45,0),LABO_Normal_Troops[#All],5))))","v":0},{"$f":"IF(Paramètres!$H$57=0,0,VLOOKUP(Paramètres!$H$58,BARRACK_Normal_Troops[#All],6))","v":0},{"$f":"IF($AL45=0,0,IF(SUM(Paramètres!$K$6:$K$45)<>Paramètres!$K$3,0,VLOOKUP(MATCH(1,Paramètres!$K$6:$K$45,0),LABO_Normal_Troops[#All],6)))","v":0},{"$f":"IF(Paramètres!$H$57=0,0,VLOOKUP(Paramètres!$H$58,BARRACK_Normal_Troops[#All],7))","v":0},{"$f":"IF($AN45=0,0,IF(SUM(Paramètres!$K$6:$K$45)<>Paramètres!$K$3,0,VLOOKUP(MATCH(1,Paramètres!$K$6:$K$45,0),LABO_Normal_Troops[#All],7)))","v":0},{"$f":"IF(Paramètres!$H$57=0,0,VLOOKUP(Paramètres!$H$58,BARRACK_Normal_Troops[#All],8))","v":0},{"$f":"IF($AP45=0,0,IF(SUM(Paramètres!$K$6:$K$45)<>Paramètres!$K$3,0,VLOOKUP(MATCH(1,Paramètres!$K$6:$K$45,0),LABO_Normal_Troops[#All],8)))","v":0},{"$f":"IF(Paramètres!$H$57=0,0,VLOOKUP(Paramètres!$H$58,BARRACK_Normal_Troops[#All],9))","v":0},{"$f":"IF($AR45=0,0,IF(SUM(Paramètres!$K$6:$K$45)<>Paramètres!$K$3,0,VLOOKUP(MATCH(1,Paramètres!$K$6:$K$45,0),LABO_Normal_Troops[#All],9)))","v":0},{"$f":"IF(Paramètres!$H$57=0,0,VLOOKUP(Paramètres!$H$58,BARRACK_Normal_Troops[#All],10))","v":0},{"$f":"IF($AT45=0,0,IF(SUM(Paramètres!$K$6:$K$45)<>Paramètres!$K$3,0,VLOOKUP(MATCH(1,Paramètres!$K$6:$K$45,0),LABO_Normal_Troops[#All],10)))","v":0},{"$f":"IF(Paramètres!$H$57=0,0,VLOOKUP(Paramètres!$H$58,BARRACK_Normal_Troops[#All],11))","v":0},{"$f":"IF($AV45=0,0,IF(SUM(Paramètres!$K$6:$K$45)<>Paramètres!$K$3,0,VLOOKUP(MATCH(1,Paramètres!$K$6:$K$45,0),LABO_Normal_Troops[#All],11)))","v":0},{"$f":"IF(Paramètres!$H$57=0,0,VLOOKUP(Paramètres!$H$58,BARRACK_Normal_Troops[#All],12))","v":0},{"$f":"IF($AX45=0,0,IF(SUM(Paramètres!$K$6:$K$45)<>Paramètres!$K$3,0,VLOOKUP(MATCH(1,Paramètres!$K$6:$K$45,0),LABO_Normal_Troops[#All],12)))","v":0},{"$f":"IF(Paramètres!$H$57=0,0,VLOOKUP(Paramètres!$H$58,BARRACK_Normal_Troops[#All],13))","v":0},{"$f":"IF($AZ45=0,0,IF(SUM(Paramètres!$K$6:$K$45)<>Paramètres!$K$3,0,VLOOKUP(MATCH(1,Paramètres!$K$6:$K$45,0),LABO_Normal_Troops[#All],13)))","v":0},null,10,0,0,0,0,0,0,0,0,0,0,0,0,0,0,0,0,0,0,0,0,0,0,0,0]
[11,1,1,1,1,1,1,1,1,1,1,1,0,null,null,null,null,null,null,null,null,null,null,null,null,null,null,null,11,{"$f":"IF(Paramètres!$H$57=0,0,VLOOKUP(Paramètres!$H$58,BARRACK_Normal_Troops[#All],2))","v":0},{"$f":"IF($AD46=0,0,IF($AC46<3,1,IF(SUM(Paramètres!$K$6:$K$45)<>Paramètres!$K$3,0,VLOOKUP(MATCH(1,Paramètres!$K$6:$K$45,0),LABO_Normal_Troops[#All],2))))","v":0},{"$f":"IF(Paramètres!$H$57=0,0,VLOOKUP(Paramètres!$H$58,BARRACK_Normal_Troops[#All],3))","v":0},{"$f":"IF($AF46=0,0,IF($AC46<3,1,IF(SUM(Paramètres!$K$6:$K$45)<>Paramètres!$K$3,0,VLOOKUP(MATCH(1,Paramètres!$K$6:$K$45,0),LABO_Normal_Troops[#All],3))))","v":0},{"$f":"IF(Paramètres!$H$57=0,0,VLOOKUP(Paramètres!$H$58,BARRACK_Normal_Troops[#All],4))","v":0},{"$f":"IF($AH46=0,0,IF($AC46<3,1,IF(SUM(Paramètres!$K$6:$K$45)<>Paramètres!$K$3,0,VLOOKUP(MATCH(1,Paramètres!$K$6:$K$45,0),LABO_Normal_Troops[#All],4))))","v":0},{"$f":"IF(Paramètres!$H$57=0,0,VLOOKUP(Paramètres!$H$58,BARRACK_Normal_Troops[#All],5))","v":0},{"$f":"IF($AJ46=0,0,IF($AC46<3,1,IF(SUM(Paramètres!$K$6:$K$45)<>Paramètres!$K$3,0,VLOOKUP(MATCH(1,Paramètres!$K$6:$K$45,0),LABO_Normal_Troops[#All],5))))","v":0},{"$f":"IF(Paramètres!$H$57=0,0,VLOOKUP(Paramètres!$H$58,BARRACK_Normal_Troops[#All],6))","v":0},{"$f":"IF($AL46=0,0,IF(SUM(Paramètres!$K$6:$K$45)<>Paramètres!$K$3,0,VLOOKUP(MATCH(1,Paramètres!$K$6:$K$45,0),LABO_Normal_Troops[#All],6)))","v":0},{"$f":"IF(Paramètres!$H$57=0,0,VLOOKUP(Paramètres!$H$58,BARRACK_Normal_Troops[#All],7))","v":0},{"$f":"IF($AN46=0,0,IF(SUM(Paramètres!$K$6:$K$45)<>Paramètres!$K$3,0,VLOOKUP(MATCH(1,Paramètres!$K$6:$K$45,0),LABO_Normal_Troops[#All],7)))","v":0},{"$f":"IF(Paramètres!$H$57=0,0,VLOOKUP(Paramètres!$H$58,BARRACK_Normal_Troops[#All],8))","v":0},{"$f":"IF($AP46=0,0,IF(SUM(Paramètres!$K$6:$K$45)<>Paramètres!$K$3,0,VLOOKUP(MATCH(1,Paramètres!$K$6:$K$45,0),LABO_Normal_Troops[#All],8)))","v":0},{"$f":"IF(Paramètres!$H$57=0,0,VLOOKUP(Paramètres!$H$58,BARRACK_Normal_Troops[#All],9))","v":0},{"$f":"IF($AR46=0,0,IF(SUM(Paramètres!$K$6:$K$45)<>Paramètres!$K$3,0,VLOOKUP(MATCH(1,Paramètres!$K$6:$K$45,0),LABO_Normal_Troops[#All],9)))","v":0},{"$f":"IF(Paramètres!$H$57=0,0,VLOOKUP(Paramètres!$H$58,BARRACK_Normal_Troops[#All],10))","v":0},{"$f":"IF($AT46=0,0,IF(SUM(Paramètres!$K$6:$K$45)<>Paramètres!$K$3,0,VLOOKUP(MATCH(1,Paramètres!$K$6:$K$45,0),LABO_Normal_Troops[#All],10)))","v":0},{"$f":"IF(Paramètres!$H$57=0,0,VLOOKUP(Paramètres!$H$58,BARRACK_Normal_Troops[#All],11))","v":0},{"$f":"IF($AV46=0,0,IF(SUM(Paramètres!$K$6:$K$45)<>Paramètres!$K$3,0,VLOOKUP(MATCH(1,Paramètres!$K$6:$K$45,0),LABO_Normal_Troops[#All],11)))","v":0},{"$f":"IF(Paramètres!$H$57=0,0,VLOOKUP(Paramètres!$H$58,BARRACK_Normal_Troops[#All],12))","v":0},{"$f":"IF($AX46=0,0,IF(SUM(Paramètres!$K$6:$K$45)<>Paramètres!$K$3,0,VLOOKUP(MATCH(1,Paramètres!$K$6:$K$45,0),LABO_Normal_Troops[#All],12)))","v":0},{"$f":"IF(Paramètres!$H$57=0,0,VLOOKUP(Paramètres!$H$58,BARRACK_Normal_Troops[#All],13))","v":0},{"$f":"IF($AZ46=0,0,IF(SUM(Paramètres!$K$6:$K$45)<>Paramètres!$K$3,0,VLOOKUP(MATCH(1,Paramètres!$K$6:$K$45,0),LABO_Normal_Troops[#All],13)))","v":0},null,11,0,0,0,0,0,0,0,0,0,0,0,0,0,0,0,0,0,0,0,0,0,0,0,0]
[12,1,1,1,1,1,1,1,1,1,1,1,1]
[]
[]
["Caserne Noire",null,null,null,null,null,null,null,null,null,null,null,null,null,"Laboratoire",null,null,null,null,null,null,null,null,null,null,null,null,null,"Améliorations de Troupes Noires (Disponibles et LVL Max)",null,null,null,null,null,null,null,null,null,null,null,null,null,null,null,null,null,null,null,null,null,null,null,null,null,"Améliorations de Troupes Noires (Changements)"]
["LVL Caserne Noire","Serviteur","Chevaucheur de Cochon","Valkyrie","Golem","Sorcière","Molosse de lave","Bouliste",null,null,null,null,null,null,"LVL Labo","Serviteur","Chevaucheur de Cochon","Valkyrie","Golem","Sorcière","Molosse de lave","Bouliste",null,null,null,null,null,null,"LVL HdV","Serviteur","LVL Max1","Chevaucheur de Cochon","LVL Max2","Valkyrie","LVL Max3","Golem","LVL Max4","Sorcière","LVL Max5","Molosse de lave","LVL Max6","Bouliste","LVL Max7",null,null,null,null,null,null,null,null,null,null,null,"LVL HdV","Serviteur","LVL Max1","Chevaucheur de Cochon","LVL Max2","Valkyrie","LVL Max3","Golem","LVL Max4","Sorcière","LVL Max5","Molosse de lave","LVL Max6","Bouliste","LVL Max7"]
[0,0,0,0,0,0,0,0,null,null,null,null,null,null,0,0,0,0,0,0,0,0,null,null,null,null,null,null,0,{"$f":"IF(Paramètres!$I$57=0,0,VLOOKUP(Paramètres!$I$58,BARRACK_DARK_Troops[#All],2))","v":0},{"$f":"IF($AD52=0,0,IF(SUM(Paramètres!$K$6:$K$45)<>Paramètres!$K$3,0,VLOOKUP(MATCH(1,Paramètres!$K$6:$K$45,0),LABO_Dark_Troops[#All],2)))","v":0},{"$f":"IF(Paramètres!$I$57=0,0,VLOOKUP(Paramètres!$I$58,BARRACK_DARK_Troops[#All],3))","v":0},{"$f":"IF($AF52=0,0,IF(SUM(Paramètres!$K$6:$K$45)<>Paramètres!$K$3,0,VLOOKUP(MATCH(1,Paramètres!$K$6:$K$45,0),LABO_Dark_Troops[#All],3)))","v":0},{"$f":"IF(Paramètres!$I$57=0,0,VLOOKUP(Paramètres!$I$58,BARRACK_DARK_Troops[#All],4))","v":0},{"$f":"IF($AH52=0,0,IF(SUM(Paramètres!$K$6:$K$45)<>Paramètres!$K$3,0,VLOOKUP(MATCH(1,Paramètres!$K$6:$K$45,0),LABO_Dark_Troops[#All],4)))","v":0},{"$f":"IF(Paramètres!$I$57=0,0,VLOOKUP(Paramètres!$I$58,BARRACK_DARK_Troops[#All],5))","v":0},{"$f":"IF($AJ52=0,0,IF(SUM(Paramètres!$K$6:$K$45)<>Paramètres!$K$3,0,VLOOKUP(MATCH(1,Paramètres!$K$6:$K$45,0),LABO_Dark_Troops[#All],5)))","v":0},{"$f":"IF(Paramètres!$I$57=0,0,VLOOKUP(Paramètres!$I$58,BARRACK_DARK_Troops[#All],6))","v":0},{"$f":"IF($AL52=0,0,IF(SUM(Paramètres!$K$6:$K$45)<>Paramètres!$K$3,0,VLOOKUP(MATCH(1,Paramètres!$K$6:$K$45,0),LABO_Dark_Troops[#All],6)))","v":0},{"$f":"IF(Paramètres!$I$57=0,0,VLOOKUP(Paramètres!$I$58,BARRACK_DARK_Troops[#All],7))","v":0},{"$f":"IF($AN52=0,0,IF(SUM(Paramètres!$K$6:$K$45)<>Paramètres!$K$3,0,VLOOKUP(MATCH(1,Paramètres!$K$6:$K$45,0),LABO_Dark_Troops[#All],7)))","v":0},{"$f":"IF(Paramètres!$I$57=0,0,VLOOKUP(Paramètres!$I$58,BARRACK_DARK_Troops[#All],8))","v":0},{"$f":"IF($AP52=0,0,IF(SUM(Paramètres!$K$6:$K$45)<>Paramètres!$K$3,0,VLOOKUP(MATCH(1,Paramètres!$K$6:$K$45,0),LABO_Dark_Troops[#All],8)))","v":0},null,null,null,null,null,null,null,null,null,null,null,0,{"$f":"AD52","v":0},0,0,0,0,0,0,0,0,0,0,0,0,0]
[1,1,0,0,0,0,0,0,null,null,null,null,null,null,1,1,1,1,1,1,1,1,null,null,null,null,null,null,1,{"$f":"IF(Paramètres!$I$57=0,0,VLOOKUP(Paramètres!$I$58,BARRACK_DARK_Troops[#All],2))","v":0},{"$f":"IF($AD53=0,0,IF(SUM(Paramètres!$K$6:$K$45)<>Paramètres!$K$3,0,VLOOKUP(MATCH(1,Paramètres!$K$6:$K$45,0),LABO_Dark_Troops[#All],2)))","v":0},{"$f":"IF(Paramètres!$I$57=0,0,VLOOKUP(Paramètres!$I$58,BARRACK_DARK_Troops[#All],3))","v":0},{"$f":"IF($AF53=0,0,IF(SUM(Paramètres!$K$6:$K$45)<>Paramètres!$K$3,0,VLOOKUP(MATCH(1,Paramètres!$K$6:$K$45,0),LABO_Dark_Troops[#All],3)))","v":0},{"$f":"IF(Paramètres!$I$57=0,0,VLOOKUP(Paramètres!$I$58,BARRACK_DARK_Troops[#All],4))","v":0},{"$f":"IF($AH53=0,0,IF(SUM(Paramètres!$K$6:$K$45)<>Paramètres!$K$3,0,VLOOKUP(MATCH(1,Paramètres!$K$6:$K$45,0),LABO_Dark_Troops[#All],4)))","v":0},{"$f":"IF(Paramètres!$I$57=0,0,VLOOKUP(Paramètres!$I$58,BARRACK_DARK_Troops[#All],5))","v":0},{"$f":"IF($AJ53=0,0,IF(SUM(Paramètres!$K$6:$K$45)<>Paramètres!$K$3,0,VLOOKUP(MATCH(1,Paramètres!$K$6:$K$45,0),LABO_Dark_Troops[#All],5)))","v":0},{"$f":"IF(Paramètres!$I$57=0,0,VLOOKUP(Paramètres!$I$58,BARRACK_DARK_Troops[#All],6))","v":0},{"$f":"IF($AL53=0,0,IF(SUM(Paramètres!$K$6:$K$45)<>Paramètres!$K$3,0,VLOOKUP(MATCH(1,Paramètres!$K$6:$K$45,0),LABO_Dark_Troops[#All],6)))","v":0},{"$f":"IF(Paramètres!$I$57=0,0,VLOOKUP(Paramètres!$I$58,BARRACK_DARK_Troops[#All],7))","v":0},{"$f":"IF($AN53=0,0,IF(SUM(Paramètres!$K$6:$K$45)<>Paramètres!$K$3,0,VLOOKUP(MATCH(1,Paramètres!$K$6:$K$45,0),LABO_Dark_Troops[#All],7)))","v":0},{"$f":"IF(Paramètres!$I$57=0,0,VLOOKUP(Paramètres!$I$58,BARRACK_DARK_Troops[#All],8))","v":0},{"$f":"IF($AP53=0,0,IF(SUM(Paramètres!$K$6:$K$45)<>Paramètres!$K$3,0,VLOOKUP(MATCH(1,Paramètres!$K$6:$K$45,0),LABO_Dark_Troops[#All],8)))","v":0},null,null,null,null,null,null,null,null,null,null,null,1,{"$f":"AD53-AD52","v":0},{"$f":"AE53-AE52","v":0},{"$f":"AF53-AF52","v":0},{"$f":"AG53-AG52","v":0},{"$f":"AH53-AH52","v":0},{"$f":"AI53-AI52","v":0},{"$f":"AJ53-AJ52","v":0},{"$f":"AK53-AK52","v":0},{"$f":"AL53-AL52","v":0},{"$f":"AM53-AM52","v":0},{"$f":"AN53-AN52","v":0},{"$f":"AO53-AO52","v":0},{"$f":"AP53-AP52","v":0},{"$f":"AQ53-AQ52","v":0}]
[2,1,1,0,0,0,0,0,null,null,null,null,null,null,2,1,1,1,1,1,1,1,null,null,null,null,null,null,2,{"$f":"IF(Paramètres!$I$57=0,0,VLOOKUP(Paramètres!$I$58,BARRACK_DARK_Troops[#All],2))","v":0},{"$f":"IF($AD54=0,0,IF(SUM(Paramètres!$K$6:$K$45)<>Paramètres!$K$3,0,VLOOKUP(MATCH(1,Paramètres!$K$6:$K$45,0),LABO_Dark_Troops[#All],2)))","v":0},{"$f":"IF(Paramètres!$I$57=0,0,VLOOKUP(Paramètres!$I$58,BARRACK_DARK_Troops[#All],3))","v":0},{"$f":"IF($AF54=0,0,IF(SUM(Paramètres!$K$6:$K$45)<>Paramètres!$K$3,0,VLOOKUP(MATCH(1,Paramètres!$K$6:$K$45,0),LABO_Dark_Troops[#All],3)))","v":0},{"$f":"IF(Paramètres!$I$57=0,0,VLOOKUP(Paramètres!$I$58,BARRACK_DARK_Troops[#All],4))","v":0},{"$f":"IF($AH54=0,0,IF(SUM(Paramètres!$K$6:$K$45)<>Paramètres!$K$3,0,VLOOKUP(MATCH(1,Paramètres!$K$6:$K$45,0),LABO_Dark_Troops[#All],4)))","v":0},{"$f":"IF(Paramètres!$I$57=0,0,VLOOKUP(Paramètres!$I$58,BARRACK_DARK_Troops[#All],5))","v":0},{"$f":"IF($AJ54=0,0,IF(SUM(Paramètres!$K$6:$K$45)<>Paramètres!$K$3,0,VLOOKUP(MATCH(1,Paramètres!$K$6:$K$45,0),LABO_Dark_Troops[#All],5)))","v":0},{"$f":"IF(Paramètres!$I$57=0,0,VLOOKUP(Paramètres!$I$58,BARRACK_DARK_Troops[#All],6))","v":0},{"$f":"IF($AL54=0,0,IF(SUM(Paramètres!$K$6:$K$45)<>Paramètres!$K$3,0,VLOOKUP(MATCH(1,Paramètres!$K$6:$K$45,0),LABO_Dark_Troops[#All],6)))","v":0},{"$f":"IF(Paramètres!$I$57=0,0,VLOOKUP(Paramètres!$I$58,BARRACK_DARK_Troops[#All],7))","v":0},{"$f":"IF($AN54=0,0,IF(SUM(Paramètres!$K$6:$K$45)<>Paramètres!$K$3,0,VLOOKUP(MATCH(1,Paramètres!$K$6:$K$45,0),LABO_Dark_Troops[#All],7)))","v":0},{"$f":"IF(Paramètres!$I$57=0,0,VLOOKUP(Paramètres!$I$58,BARRACK_DARK_Troops[#All],8))","v":0},{"$f":"IF($AP54=0,0,IF(SUM(Paramètres!$K$6:$K$45)<>Paramètres!$K$3,0,VLOOKUP(MATCH(1,Paramètres!$K$6:$K$45,0),LABO_Dark_Troops[#All],8)))","v":0},null,null,null,null,null,null,null,null,null,null,null,2,0,0,0,0,0,0,0,0,0,0,0,0,0,0]
[3,1,1,1,0,0,0,0,null,null,null,null,null,null,3,1,1,1,1,1,1,1,null,null,null,null,null,null,3,{"$f":"IF(Paramètres!$I$57=0,0,VLOOKUP(Paramètres!$I$58,BARRACK_DARK_Troops[#All],2))","v":0},{"$f":"IF($AD55=0,0,IF(SUM(Paramètres!$K$6:$K$45)<>Paramètres!$K$3,0,VLOOKUP(MATCH(1,Paramètres!$K$6:$K$45,0),LABO_Dark_Troops[#All],2)))","v":0},{"$f":"IF(Paramètres!$I$57=0,0,VLOOKUP(Paramètres!$I$58,BARRACK_DARK_Troops[#All],3))","v":0},{"$f":"IF($AF55=0,0,IF(SUM(Paramètres!$K$6:$K$45)<>Paramètres!$K$3,0,VLOOKUP(MATCH(1,Paramètres!$K$6:$K$45,0),LABO_Dark_Troops[#All],3)))","v":0},{"$f":"IF(Paramètres!$I$57=0,0,VLOOKUP(Paramètres!$I$58,BARRACK_DARK_Troops[#All],4))","v":0},{"$f":"IF($AH55=0,0,IF(SUM(Paramètres!$K$6:$K$45)<>Paramètres!$K$3,0,VLOOKUP(MATCH(1,Paramètres!$K$6:$K$45,0),LABO_Dark_Troops[#All],4)))","v":0},{"$f":"IF(Paramètres!$I$57=0,0,VLOOKUP(Paramètres!$I$58,BARRACK_DARK_Troops[#All],5))","v":0},{"$f":"IF($AJ55=0,0,IF(SUM(Paramètres!$K$6:$K$45)<>Paramètres!$K$3,0,VLOOKUP(MATCH(1,Paramètres!$K$6:$K$45,0),LABO_Dark_Troops[#All],5)))","v":0},{"$f":"IF(Paramètres!$I$57=0,0,VLOOKUP(Paramètres!$I$58,BARRACK_DARK_Troops[#All],6))","v":0},{"$f":"IF($AL55=0,0,IF(SUM(Paramètres!$K$6:$K$45)<>Paramètres!$K$3,0,VLOOKUP(MATCH(1,Paramètres!$K$6:$K$45,0),LABO_Dark_Troops[#All],6)))","v":0},{"$f":"IF(Paramètres!$I$57=0,0,VLOOKUP(Paramètres!$I$58,BARRACK_DARK_Troops[#All],7))","v":0},{"$f":"IF($AN55=0,0,IF(SUM(Paramètres!$K$6:$K$45)<>Paramètres!$K$3,0,VLOOKUP(MATCH(1,Paramètres!$K$6:$K$45,0),LABO_Dark_Troops[#All],7)))","v":0},{"$f":"IF(Paramètres!$I$57=0,0,VLOOKUP(Paramètres!$I$58,BARRACK_DARK_Troops[#All],8))","v":0},{"$f":"IF($AP55=0,0,IF(SUM(Paramètres!$K$6:$K$45)<>Paramètres!$K$3,0,VLOOKUP(MATCH(1,Paramètres!$K$6:$K$45,0),LABO_Dark_Troops[#All],8)))","v":0},null,null,null,null,null,null,null,null,null,null,null,3,0,0,0,0,0,0,0,0,0,0,0,0,0,0]
[4,1,1,1,1,0,0,0,null,null,null,null,null,null,4,1,1,1,1,1,1,1,null,null,null,null,null,null,4,{"$f":"IF(Paramètres!$I$57=0,0,VLOOKUP(Paramètres!$I$58,BARRACK_DARK_Troops[#All],2))","v":0},{"$f":"IF($AD56=0,0,IF(SUM(Paramètres!$K$6:$K$45)<>Paramètres!$K$3,0,VLOOKUP(MATCH(1,Paramètres!$K$6:$K$45,0),LABO_Dark_Troops[#All],2)))","v":0},{"$f":"IF(Paramètres!$I$57=0,0,VLOOKUP(Paramètres!$I$58,BARRACK_DARK_Troops[#All],3))","v":0},{"$f":"IF($AF56=0,0,IF(SUM(Paramètres!$K$6:$K$45)<>Paramètres!$K$3,0,VLOOKUP(MATCH(1,Paramètres!$K$6:$K$45,0),LABO_Dark_Troops[#All],3)))","v":0},{"$f":"IF(Paramètres!$I$57=0,0,VLOOKUP(Paramètres!$I$58,BARRACK_DARK_Troops[#All],4))","v":0},{"$f":"IF($AH56=0,0,IF(SUM(Paramètres!$K$6:$K$45)<>Paramètres!$K$3,0,VLOOKUP(MATCH(1,Paramètres!$K$6:$K$45,0),LABO_Dark_Troops[#All],4)))","v":0},{"$f":"IF(Paramètres!$I$57=0,0,VLOOKUP(Paramètres!$I$58,BARRACK_DARK_Troops[#All],5))","v":0},{"$f":"IF($AJ56=0,0,IF(SUM(Paramètres!$K$6:$K$45)<>Paramètres!$K$3,0,VLOOKUP(MATCH(1,Paramètres!$K$6:$K$45,0),LABO_Dark_Troops[#All],5)))","v":0},{"$f":"IF(Paramètres!$I$57=0,0,VLOOKUP(Paramètres!$I$58,BARRACK_DARK_Troops[#All],6))","v":0},{"$f":"IF($AL56=0,0,IF(SUM(Paramètres!$K$6:$K$45)<>Paramètres!$K$3,0,VLOOKUP(MATCH(1,Paramètres!$K$6:$K$45,0),LABO_Dark_Troops[#All],6)))","v":0},{"$f":"IF(Paramètres!$I$57=0,0,VLOOKUP(Paramètres!$I$58,BARRACK_DARK_Troops[#All],7))","v":0},{"$f":"IF($AN56=0,0,IF(SUM(Paramètres!$K$6:$K$45)<>Paramètres!$K$3,0,VLOOKUP(MATCH(1,Paramètres!$K$6:$K$45,0),LABO_Dark_Troops[#All],7)))","v":0},{"$f":"IF(Paramètres!$I$57=0,0,VLOOKUP(Paramètres!$I$58,BARRACK_DARK_Troops[#All],8))","v":0},{"$f":"IF($AP56=0,0,IF(SUM(Paramètres!$K$6:$K$45)<>Paramètres!$K$3,0,VLOOKUP(MATCH(1,Paramètres!$K$6:$K$45,0),LABO_Dark_Troops[#All],8)))","v":0},null,null,null,null,null,null,null,null,null,null,null,4,0,0,0,0,0,0,0,0,0,0,0,0,0,0]
[5,1,1,1,1,1,0,0,null,null,null,null,null,null,5,2,2,1,1,1,1,1,null,null,null,null,null,null,5,{"$f":"IF(Paramètres!$I$57=0,0,VLOOKUP(Paramètres!$I$58,BARRACK_DARK_Troops[#All],2))","v":0},{"$f":"IF($AD57=0,0,IF(SUM(Paramètres!$K$6:$K$45)<>Paramètres!$K$3,0,VLOOKUP(MATCH(1,Paramètres!$K$6:$K$45,0),LABO_Dark_Troops[#All],2)))","v":0},{"$f":"IF(Paramètres!$I$57=0,0,VLOOKUP(Paramètres!$I$58,BARRACK_DARK_Troops[#All],3))","v":0},{"$f":"IF($AF57=0,0,IF(SUM(Paramètres!$K$6:$K$45)<>Paramètres!$K$3,0,VLOOKUP(MATCH(1,Paramètres!$K$6:$K$45,0),LABO_Dark_Troops[#All],3)))","v":0},{"$f":"IF(Paramètres!$I$57=0,0,VLOOKUP(Paramètres!$I$58,BARRACK_DARK_Troops[#All],4))","v":0},{"$f":"IF($AH57=0,0,IF(SUM(Paramètres!$K$6:$K$45)<>Paramètres!$K$3,0,VLOOKUP(MATCH(1,Paramètres!$K$6:$K$45,0),LABO_Dark_Troops[#All],4)))","v":0},{"$f":"IF(Paramètres!$I$57=0,0,VLOOKUP(Paramètres!$I$58,BARRACK_DARK_Troops[#All],5))","v":0},{"$f":"IF($AJ57=0,0,IF(SUM(Paramètres!$K$6:$K$45)<>Paramètres!$K$3,0,VLOOKUP(MATCH(1,Paramètres!$K$6:$K$45,0),LABO_Dark_Troops[#All],5)))","v":0},{"$f":"IF(Paramètres!$I$57=0,0,VLOOKUP(Paramètres!$I$58,BARRACK_DARK_Troops[#All],6))","v":0},{"$f":"IF($AL57=0,0,IF(SUM(Paramètres!$K$6:$K$45)<>Paramètres!$K$3,0,VLOOKUP(MATCH(1,Paramètres!$K$6:$K$45,0),LABO_Dark_Troops[#All],6)))","v":0},{"$f":"IF(Paramètres!$I$57=0,0,VLOOKUP(Paramètres!$I$58,BARRACK_DARK_Troops[#All],7))","v":0},{"$f":"IF($AN57=0,0,IF(SUM(Paramètres!$K$6:$K$45)<>Paramètres!$K$3,0,VLOOKUP(MATCH(1,Paramètres!$K$6:$K$45,0),LABO_Dark_Troops[#All],7)))","v":0},{"$f":"IF(Paramètres!$I$57=0,0,VLOOKUP(Paramètres!$I$58,BARRACK_DARK_Troops[#All],8))","v":0},{"$f":"IF($AP57=0,0,IF(SUM(Paramètres!$K$6:$K$45)<>Paramètres!$K$3,0,VLOOKUP(MATCH(1,Paramètres!$K$6:$K$45,0),LABO_Dark_Troops[#All],8)))","v":0},null,null,null,null,null,null,null,null,null,null,null,5,0,0,0,0,0,0,0,0,0,0,0,0,0,0]
[6,1,1,1,1,1,1,0,null,null,null,null,null,null,6,4,4,2,2,1,1,1,null,null,null,null,null,null,6,{"$f":"IF(Paramètres!$I$57=0,0,VLOOKUP(Paramètres!$I$58,BARRACK_DARK_Troops[#All],2))","v":0},{"$f":"IF($AD58=0,0,IF(SUM(Paramètres!$K$6:$K$45)<>Paramètres!$K$3,0,VLOOKUP(MATCH(1,Paramètres!$K$6:$K$45,0),LABO_Dark_Troops[#All],2)))","v":0},{"$f":"IF(Paramètres!$I$57=0,0,VLOOKUP(Paramètres!$I$58,BARRACK_DARK_Troops[#All],3))","v":0},{"$f":"IF($AF58=0,0,IF(SUM(Paramètres!$K$6:$K$45)<>Paramètres!$K$3,0,VLOOKUP(MATCH(1,Paramètres!$K$6:$K$45,0),LABO_Dark_Troops[#All],3)))","v":0},{"$f":"IF(Paramètres!$I$57=0,0,VLOOKUP(Paramètres!$I$58,BARRACK_DARK_Troops[#All],4))","v":0},{"$f":"IF($AH58=0,0,IF(SUM(Paramètres!$K$6:$K$45)<>Paramètres!$K$3,0,VLOOKUP(MATCH(1,Paramètres!$K$6:$K$45,0),LABO_Dark_Troops[#All],4)))","v":0},{"$f":"IF(Paramètres!$I$57=0,0,VLOOKUP(Paramètres!$I$58,BARRACK_DARK_Troops[#All],5))","v":0},{"$f":"IF($AJ58=0,0,IF(SUM(Paramètres!$K$6:$K$45)<>Paramètres!$K$3,0,VLOOKUP(MATCH(1,Paramètres!$K$6:$K$45,0),LABO_Dark_Troops[#All],5)))","v":0},{"$f":"IF(Paramètres!$I$57=0,0,VLOOKUP(Paramètres!$I$58,BARRACK_DARK_Troops[#All],6))","v":0},{"$f":"IF($AL58=0,0,IF(SUM(Paramètres!$K$6:$K$45)<>Paramètres!$K$3,0,VLOOKUP(MATCH(1,Paramètres!$K$6:$K$45,0),LABO_Dark_Troops[#All],6)))","v":0},{"$f":"IF(Paramètres!$I$57=0,0,VLOOKUP(Paramètres!$I$58,BARRACK_DARK_Troops[#All],7))","v":0},{"$f":"IF($AN58=0,0,IF(SUM(Paramètres!$K$6:$K$45)<>Paramètres!$K$3,0,VLOOKUP(MATCH(1,Paramètres!$K$6:$K$45,0),LABO_Dark_Troops[#All],7)))","v":0},{"$f":"IF(Paramètres!$I$57=0,0,VLOOKUP(Paramètres!$I$58,BARRACK_DARK_Troops[#All],8))","v":0},{"$f":"IF($AP58=0,0,IF(SUM(Paramètres!$K$6:$K$45)<>Paramètres!$K$3,0,VLOOKUP(MATCH(1,Paramètres!$K$6:$K$45,0),LABO_Dark_Troops[#All],8)))","v":0},null,null,null,null,null,null,null,null,null,null,null,6,0,0,0,0,0,0,0,0,0,0,0,0,0,0]
[7,1,1,1,1,1,1,1,null,null,null,null,null,null,7,5,5,4,4,2,2,1,null,null,null,null,null,null,7,{"$f":"IF(Paramètres!$I$57=0,0,VLOOKUP(Paramètres!$I$58,BARRACK_DARK_Troops[#All],2))","v":0},{"$f":"IF($AD59=0,0,IF(SUM(Paramètres!$K$6:$K$45)<>Paramètres!$K$3,0,VLOOKUP(MATCH(1,Paramètres!$K$6:$K$45,0),LABO_Dark_Troops[#All],2)))","v":0},{"$f":"IF(Paramètres!$I$57=0,0,VLOOKUP(Paramètres!$I$58,BARRACK_DARK_Troops[#All],3))","v":0},{"$f":"IF($AF59=0,0,IF(SUM(Paramètres!$K$6:$K$45)<>Paramètres!$K$3,0,VLOOKUP(MATCH(1,Paramètres!$K$6:$K$45,0),LABO_Dark_Troops[#All],3)))","v":0},{"$f":"IF(Paramètres!$I$57=0,0,VLOOKUP(Paramètres!$I$58,BARRACK_DARK_Troops[#All],4))","v":0},{"$f":"IF($AH59=0,0,IF(SUM(Paramètres!$K$6:$K$45)<>Paramètres!$K$3,0,VLOOKUP(MATCH(1,Paramètres!$K$6:$K$45,0),LABO_Dark_Troops[#All],4)))","v":0},{"$f":"IF(Paramètres!$I$57=0,0,VLOOKUP(Paramètres!$I$58,BARRACK_DARK_Troops[#All],5))","v":0},{"$f":"IF($AJ59=0,0,IF(SUM(Paramètres!$K$6:$K$45)<>Paramètres!$K$3,0,VLOOKUP(MATCH(1,Paramètres!$K$6:$K$45,0),LABO_Dark_Troops[#All],5)))","v":0},{"$f":"IF(Paramètres!$I$57=0,0,VLOOKUP(Paramètres!$I$58,BARRACK_DARK_Troops[#All],6))","v":0},{"$f":"IF($AL59=0,0,IF(SUM(Paramètres!$K$6:$K$45)<>Paramètres!$K$3,0,VLOOKUP(MATCH(1,Paramètres!$K$6:$K$45,0),LABO_Dark_Troops[#All],6)))","v":0},{"$f":"IF(Paramètres!$I$57=0,0,VLOOKUP(Paramètres!$I$58,BARRACK_DARK_Troops[#All],7))","v":0},{"$f":"IF($AN59=0,0,IF(SUM(Paramètres!$K$6:$K$45)<>Paramètres!$K$3,0,VLOOKUP(MATCH(1,Paramètres!$K$6:$K$45,0),LABO_Dark_Troops[#All],7)))","v":0},{"$f":"IF(Paramètres!$I$57=0,0,VLOOKUP(Paramètres!$I$58,BARRACK_DARK_Troops[#All],8))","v":0},{"$f":"IF($AP59=0,0,IF(SUM(Paramètres!$K$6:$K$45)<>Paramètres!$K$3,0,VLOOKUP(MATCH(1,Paramètres!$K$6:$K$45,0),LABO_Dark_Troops[#All],8)))","v":0},null,null,null,null,null,null,null,null,null,null,null,7,0,0,0,0,0,0,0,0,0,0,0,0,0,0]
[null,null,null,null,null,null,null,null,null,null,null,null,null,null,8,6,6,5,5,2,3,2,null,null,null,null,null,null,8,{"$f":"IF(Paramètres!$I$57=0,0,VLOOKUP(Paramètres!$I$58,BARRACK_DARK_Troops[#All],2))","v":0},{"$f":"IF($AD60=0,0,IF(SUM(Paramètres!$K$6:$K$45)<>Paramètres!$K$3,0,VLOOKUP(MATCH(1,Paramètres!$K$6:$K$45,0),LABO_Dark_Troops[#All],2)))","v":0},{"$f":"IF(Paramètres!$I$57=0,0,VLOOKUP(Paramètres!$I$58,BARRACK_DARK_Troops[#All],3))","v":0},{"$f":"IF($AF60=0,0,IF(SUM(Paramètres!$K$6:$K$45)<>Paramètres!$K$3,0,VLOOKUP(MATCH(1,Paramètres!$K$6:$K$45,0),LABO_Dark_Troops[#All],3)))","v":0},{"$f":"IF(Paramètres!$I$57=0,0,VLOOKUP(Paramètres!$I$58,BARRACK_DARK_Troops[#All],4))","v":0},{"$f":"IF($AH60=0,0,IF(SUM(Paramètres!$K$6:$K$45)<>Paramètres!$K$3,0,VLOOKUP(MATCH(1,Paramètres!$K$6:$K$45,0),LABO_Dark_Troops[#All],4)))","v":0},{"$f":"IF(Paramètres!$I$57=0,0,VLOOKUP(Paramètres!$I$58,BARRACK_DARK_Troops[#All],5))","v":0},{"$f":"IF($AJ60=0,0,IF(SUM(Paramètres!$K$6:$K$45)<>Paramètres!$K$3,0,VLOOKUP(MATCH(1,Paramètres!$K$6:$K$45,0),LABO_Dark_Troops[#All],5)))","v":0},{"$f":"IF(Paramètres!$I$57=0,0,VLOOKUP(Paramètres!$I$58,BARRACK_DARK_Troops[#All],6))","v":0},{"$f":"IF($AL60=0,0,IF(SUM(Paramètres!$K$6:$K$45)<>Paramètres!$K$3,0,VLOOKUP(MATCH(1,Paramètres!$K$6:$K$45,0),LABO_Dark_Troops[#All],6)))","v":0},{"$f":"IF(Paramètres!$I$57=0,0,VLOOKUP(Paramètres!$I$58,BARRACK_DARK_Troops[#All],7))","v":0},{"$f":"IF($AN60=0,0,IF(SUM(Paramètres!$K$6:$K$45)<>Paramètres!$K$3,0,VLOOKUP(MATCH(1,Paramètres!$K$6:$K$45,0),LABO_Dark_Troops[#All],7)))","v":0},{"$f":"IF(Paramètres!$I$57=0,0,VLOOKUP(Paramètres!$I$58,BARRACK_DARK_Troops[#All],8))","v":0},{"$f":"IF($AP60=0,0,IF(SUM(Paramètres!$K$6:$K$45)<>Paramètres!$K$3,0,VLOOKUP(MATCH(1,Paramètres!$K$6:$K$45,0),LABO_Dark_Troops[#All],8)))","v":0},null,null,null,null,null,null,null,null,null,null,null,8,0,0,0,0,0,0,0,0,0,0,0,0,0,0]
[null,null,null,null,null,null,null,null,null,null,null,null,null,null,9,7,7,5,6,3,4,3,null,null,null,null,null,null,9,{"$f":"IF(Paramètres!$I$57=0,0,VLOOKUP(Paramètres!$I$58,BARRACK_DARK_Troops[#All],2))","v":0},{"$f":"IF($AD61=0,0,IF(SUM(Paramètres!$K$6:$K$45)<>Paramètres!$K$3,0,VLOOKUP(MATCH(1,Paramètres!$K$6:$K$45,0),LABO_Dark_Troops[#All],2)))","v":0},{"$f":"IF(Paramètres!$I$57=0,0,VLOOKUP(Paramètres!$I$58,BARRACK_DARK_Troops[#All],3))","v":0},{"$f":"IF($AF61=0,0,IF(SUM(Paramètres!$K$6:$K$45)<>Paramètres!$K$3,0,VLOOKUP(MATCH(1,Paramètres!$K$6:$K$45,0),LABO_Dark_Troops[#All],3)))","v":0},{"$f":"IF(Paramètres!$I$57=0,0,VLOOKUP(Paramètres!$I$58,BARRACK_DARK_Troops[#All],4))","v":0},{"$f":"IF($AH61=0,0,IF(SUM(Paramètres!$K$6:$K$45)<>Paramètres!$K$3,0,VLOOKUP(MATCH(1,Paramètres!$K$6:$K$45,0),LABO_Dark_Troops[#All],4)))","v":0},{"$f":"IF(Paramètres!$I$57=0,0,VLOOKUP(Paramètres!$I$58,BARRACK_DARK_Troops[#All],5))","v":0},{"$f":"IF($AJ61=0,0,IF(SUM(Paramètres!$K$6:$K$45)<>Paramètres!$K$3,0,VLOOKUP(MATCH(1,Paramètres!$K$6:$K$45,0),LABO_Dark_Troops[#All],5)))","v":0},{"$f":"IF(Paramètres!$I$57=0,0,VLOOKUP(Paramètres!$I$58,BARRACK_DARK_Troops[#All],6))","v":0},{"$f":"IF($AL61=0,0,IF(SUM(Paramètres!$K$6:$K$45)<>Paramètres!$K$3,0,VLOOKUP(MATCH(1,Paramètres!$K$6:$K$45,0),LABO_Dark_Troops[#All],6)))","v":0},{"$f":"IF(Paramètres!$I$57=0,0,VLOOKUP(Paramètres!$I$58,BARRACK_DARK_Troops[#All],7))","v":0},{"$f":"IF($AN61=0,0,IF(SUM(Paramètres!$K$6:$K$45)<>Paramètres!$K$3,0,VLOOKUP(MATCH(1,Paramètres!$K$6:$K$45,0),LABO_Dark_Troops[#All],7)))","v":0},{"$f":"IF(Paramètres!$I$57=0,0,VLOOKUP(Paramètres!$I$58,BARRACK_DARK_Troops[#All],8))","v":0},{"$f":"IF($AP61=0,0,IF(SUM(Paramètres!$K$6:$K$45)<>Paramètres!$K$3,0,VLOOKUP(MATCH(1,Paramètres!$K$6:$K$45,0),LABO_Dark_Troops[#All],8)))","v":0},null,null,null,null,null,null,null,null,null,null,null,9,0,0,0,0,0,0,0,0,0,0,0,0,0,0]
[null,null,null,null,null,null,null,null,null,null,null,null,null,null,null,null,null,null,null,null,null,null,null,null,null,null,null,null,10,{"$f":"IF(Paramètres!$I$57=0,0,VLOOKUP(Paramètres!$I$58,BARRACK_DARK_Troops[#All],2))","v":0},{"$f":"IF($AD62=0,0,IF(SUM(Paramètres!$K$6:$K$45)<>Paramètres!$K$3,0,VLOOKUP(MATCH(1,Paramètres!$K$6:$K$45,0),LABO_Dark_Troops[#All],2)))","v":0},{"$f":"IF(Paramètres!$I$57=0,0,VLOOKUP(Paramètres!$I$58,BARRACK_DARK_Troops[#All],3))","v":0},{"$f":"IF($AF62=0,0,IF(SUM(Paramètres!$K$6:$K$45)<>Paramètres!$K$3,0,VLOOKUP(MATCH(1,Paramètres!$K$6:$K$45,0),LABO_Dark_Troops[#All],3)))","v":0},{"$f":"IF(Paramètres!$I$57=0,0,VLOOKUP(Paramètres!$I$58,BARRACK_DARK_Troops[#All],4))","v":0},{"$f":"IF($AH62=0,0,IF(SUM(Paramètres!$K$6:$K$45)<>Paramètres!$K$3,0,VLOOKUP(MATCH(1,Paramètres!$K$6:$K$45,0),LABO_Dark_Troops[#All],4)))","v":0},{"$f":"IF(Paramètres!$I$57=0,0,VLOOKUP(Paramètres!$I$58,BARRACK_DARK_Troops[#All],5))","v":0},{"$f":"IF($AJ62=0,0,IF(SUM(Paramètres!$K$6:$K$45)<>Paramètres!$K$3,0,VLOOKUP(MATCH(1,Paramètres!$K$6:$K$45,0),LABO_Dark_Troops[#All],5)))","v":0},{"$f":"IF(Paramètres!$I$57=0,0,VLOOKUP(Paramètres!$I$58,BARRACK_DARK_Troops[#All],6))","v":0},{"$f":"IF($AL62=0,0,IF(SUM(Paramètres!$K$6:$K$45)<>Paramètres!$K$3,0,VLOOKUP(MATCH(1,Paramètres!$K$6:$K$45,0),LABO_Dark_Troops[#All],6)))","v":0},{"$f":"IF(Paramètres!$I$57=0,0,VLOOKUP(Paramètres!$I$58,BARRACK_DARK_Troops[#All],7))","v":0},{"$f":"IF($AN62=0,0,IF(SUM(Paramètres!$K$6:$K$45)<>Paramètres!$K$3,0,VLOOKUP(MATCH(1,Paramètres!$K$6:$K$45,0),LABO_Dark_Troops[#All],7)))","v":0},{"$f":"IF(Paramètres!$I$57=0,0,VLOOKUP(Paramètres!$I$58,BARRACK_DARK_Troops[#All],8))","v":0},{"$f":"IF($AP62=0,0,IF(SUM(Paramètres!$K$6:$K$45)<>Paramètres!$K$3,0,VLOOKUP(MATCH(1,Paramètres!$K$6:$K$45,0),LABO_Dark_Troops[#All],8)))","v":0},null,null,null,null,null,null,null,null,null,null,null,10,0,0,0,0,0,0,0,0,0,0,0,0,0,0]
[null,null,null,null,null,null,null,null,null,null,null,null,null,null,null,null,null,null,null,null,null,null,null,null,null,null,null,null,11,{"$f":"IF(Paramètres!$I$57=0,0,VLOOKUP(Paramètres!$I$58,BARRACK_DARK_Troops[#All],2))","v":0},{"$f":"IF($AD63=0,0,IF(SUM(Paramètres!$K$6:$K$45)<>Paramètres!$K$3,0,VLOOKUP(MATCH(1,Paramètres!$K$6:$K$45,0),LABO_Dark_Troops[#All],2)))","v":0},{"$f":"IF(Paramètres!$I$57=0,0,VLOOKUP(Paramètres!$I$58,BARRACK_DARK_Troops[#All],3))","v":0},{"$f":"IF($AF63=0,0,IF(SUM(Paramètres!$K$6:$K$45)<>Paramètres!$K$3,0,VLOOKUP(MATCH(1,Paramètres!$K$6:$K$45,0),LABO_Dark_Troops[#All],3)))","v":0},{"$f":"IF(Paramètres!$I$57=0,0,VLOOKUP(Paramètres!$I$58,BARRACK_DARK_Troops[#All],4))","v":0},{"$f":"IF($AH63=0,0,IF(SUM(Paramètres!$K$6:$K$45)<>Paramètres!$K$3,0,VLOOKUP(MATCH(1,Paramètres!$K$6:$K$45,0),LABO_Dark_Troops[#All],4)))","v":0},{"$f":"IF(Paramètres!$I$57=0,0,VLOOKUP(Paramètres!$I$58,BARRACK_DARK_Troops[#All],5))","v":0},{"$f":"IF($AJ63=0,0,IF(SUM(Paramètres!$K$6:$K$45)<>Paramètres!$K$3,0,VLOOKUP(MATCH(1,Paramètres!$K$6:$K$45,0),LABO_Dark_Troops[#All],5)))","v":0},{"$f":"IF(Paramètres!$I$57=0,0,VLOOKUP(Paramètres!$I$58,BARRACK_DARK_Troops[#All],6))","v":0},{"$f":"IF($AL63=0,0,IF(SUM(Paramètres!$K$6:$K$45)<>Paramètres!$K$3,0,VLOOKUP(MATCH(1,Paramètres!$K$6:$K$45,0),LABO_Dark_Troops[#All],6)))","v":0},{"$f":"IF(Paramètres!$I$57=0,0,VLOOKUP(Paramètres!$I$58,BARRACK_DARK_Troops[#All],7))","v":0},{"$f":"IF($AN63=0,0,IF(SUM(Paramètres!$K$6:$K$45)<>Paramètres!$K$3,0,VLOOKUP(MATCH(1,Paramètres!$K$6:$K$45,0),LABO_Dark_Troops[#All],7)))","v":0},{"$f":"IF(Paramètres!$I$57=0,0,VLOOKUP(Paramètres!$I$58,BARRACK_DARK_Troops[#All],8))","v":0},{"$f":"IF($AP63=0,0,IF(SUM(Paramètres!$K$6:$K$45)<>Paramètres!$K$3,0,VLOOKUP(MATCH(1,Paramètres!$K$6:$K$45,0),LABO_Dark_Troops[#All],8)))","v":0},null,null,null,null,null,null,null,null,null,null,null,11,0,0,0,0,0,0,0,0,0,0,0,0,0,0]

{"sheet":"Héros","index":6,"n_rows":14,"n_cols":15,"rows_kept":14,"cut":false,"hidden":true,"merged":[[0,8,0,14],[0,0,0,6]]}
["Héros (Disponibles & LVL Max)",null,null,null,null,null,null,null,"Héros (Changements)"]
["LVL HdV","Roi des Barbares","LVL Max","Reine des Archers","LVL Max2","Grand Gardien","LVL Max4",null,"LVL HdV","Roi des Barbares","LVL Max","Reine des Archers","LVL Max2","Grand Gardien","LVL Max4"]
[0,0,0,0,0,0,0,null,0,{"$f":"B3","v":0},0,0,0,0,0]
[1,0,0,0,0,0,0,null,1,{"$f":"B4-B3","v":0},{"$f":"C4-C3","v":0},{"$f":"D4-D3","v":0},{"$f":"E4-E3","v":0},{"$f":"F4-F3","v":0},{"$f":"G4-G3","v":0}]
[2,0,0,0,0,0,0,null,2,0,0,0,0,0,0]
[3,0,0,0,0,0,0,null,3,0,0,0,0,0,0]
[4,0,0,0,0,0,0,null,4,0,0,0,0,0,0]
[5,0,0,0,0,0,0,null,5,0,0,0,0,0,0]
[6,0,0,0,0,0,0,null,6,0,0,0,0,0,0]
[7,1,5,0,0,0,0,null,7,1,5,0,0,0,0]
[8,1,10,0,0,0,0,null,8,0,5,0,0,0,0]
[9,1,30,1,30,0,0,null,9,0,20,1,30,0,0]
[10,1,40,1,40,0,0,null,10,0,10,0,10,0,0]
[11,1,45,1,45,1,20,null,11,0,5,0,5,1,20]

{"sheet":"Coûts des Améliorations","index":7,"n_rows":171,"n_cols":36,"rows_kept":171,"cut":false,"hidden":true,"merged":[[79,15,79,17],[78,0,78,17],[91,30,91,32],[91,33,91,35],[90,0,90,35],[91,12,91,14],[79,0,79,2],[79,12,79,14],[91,0,91,2],[35,30,35,32],[34,0,34,32],[91,21,91,23],[35,15,35,17],[35,24,35,26],[35,21,35,23],[91,27,91,29],[91,18,91,20],[91,24,91,26],[35,27,35,29],[35,18,35,20],[35,0,35,2],[64,0,64,2],[53,6,53,8],[53,9,53,11],[91,15,91,17],[113,12,113,14],[113,6,113,8],[113,9,113,11],[113,3,113,5],[104,9,104,11],[113,0,113,2],[91,3,91,5],[91,6,91,8],[91,9,91,11],[124,6,124,8],[123,0,123,8],[104,0,104,2],[104,3,104,5],[104,6,104,8],[124,3,124,5],[124,0,124,2],[0,0,0,17],[63,0,63,5],[18,12,18,14],[1,12,1,14],[1,15,1,17],[53,0,53,2],[1,9,1,11],[18,0,18,2],[18,3,18,5],[1,0,1,2],[1,3,1,5],[1,6,1,8],[35,9,35,11],[53,12,53,14],[53,3,53,5],[53,15,53,17],[113,18,113,20],[112,0,112,20],[17,0,17,17],[79,6,79,8],[79,9,79,11],[35,3,35,5],[35,6,35,8],[79,3,79,5],[64,3,64,5],[18,9,18,11],[52,0,52,17],[18,6,18,8],[35,12,35,14],[18,15,18,17],[103,0,103,11],[113,15,113,17]]}
["Coûts - Bâtiments de Ressources"]
["Mine d'Or",null,null,"Foreuse d'Élixir Noir",null,null,"Réserve d'Or",null,null,"Réservoir d'Élixir Noir",null,null,"Extracteur d'Élixir",null,null,"Réservoir d'Élixir"]
["LVL","Coût","Temps","LVL","Coût","Temps","LVL","Coût","Temps","LVL","Coût","Temps","LVL","Coût","Temps","LVL","Coût","Temps"]
[1,150,{"$f":"1/60","v":1.6666666666666666E-2},1,1000000,24,1,300,{"$f":"15/60","v":0.25},1,600000,24,1,150,{"$f":"1/60","v":1.6666666666666666E-2},1,300,{"$f":"15/60","v":0.25}]
[2,300,{"$f":"5/60","v":8.3333333333333329E-2},2,1500000,48,2,750,{"$f":"30/60","v":0.5},2,1200000,48,2,300,{"$f":"5/60","v":8.3333333333333329E-2},2,750,{"$f":"30/60","v":0.5}]
[3,700,{"$f":"15/60","v":0.25},3,2000000,72,3,1500,1,3,1800000,72,3,700,{"$f":"15/60","v":0.25},3,1500,1]
[4,1400,1,4,3000000,96,4,3000,2,4,2400000,96,4,1400,1,4,3000,2]
[5,3000,2,5,4000000,144,5,6000,3,5,3000000,120,5,3000,2,5,6000,3]
[6,7000,6,6,5000000,192,6,12000,4,6,3600000,144,6,7000,6,6,12000,4]
[7,14000,12,null,null,null,7,25000,6,null,null,null,7,14000,12,7,25000,6]
[8,28000,24,null,null,null,8,50000,8,null,null,null,8,28000,24,8,50000,8]
[9,56000,48,null,null,null,9,100000,12,null,null,null,9,56000,48,9,100000,12]
[10,84000,72,null,null,null,10,250000,24,null,null,null,10,84000,72,10,250000,24]
[11,168000,96,null,null,null,11,500000,48,null,null,null,11,168000,96,11,500000,48]
[12,336000,120,null,null,null,12,2500000,168,null,null,null,12,336000,120,12,2500000,168]
[]
[]
["Coûts - Bâtiments d'Armée"]
["Caserne Noire",null,null,"Caserne",null,null,"Camp Militaire",null,null,"Laboratoire",null,null,"Usine de Sorts",null,null,"Usine de Sorts Noirs"]
["LVL","Coût","Temps","LVL","Coût","Temps","LVL","Coût","Temps","LVL","Coût","Temps","LVL","Coût","Temps","LVL","Coût","Temps"]
[1,750000,72,1,200,0.02,1,250,{"$f":"5/60","v":8.3333333333333329E-2},1,25000,{"$f":"30/60","v":0.5},1,200000,24,1,1500000,96]
[2,1250000,120,2,1000,0.25,2,2500,1,2,50000,5,2,400000,48,2,2500000,144]
[3,1750000,144,3,2500,2,3,10000,3,3,90000,12,3,800000,96,3,3500000,192]
[4,2250000,168,4,5000,4,4,100000,8,4,270000,24,4,1600000,120,4,4500000,240]
[5,2750000,192,5,10000,10,5,250000,24,5,500000,48,5,3200000,144]
[6,3500000,216,6,80000,16,6,750000,72,6,1000000,96]
[7,6000000,288,7,240000,24,7,2250000,120,7,2500000,120]
[null,null,null,8,700000,48,8,6750000,240,8,4000000,144]
[null,null,null,9,1500000,96,null,null,null,9,6000000,240]
[null,null,null,10,2000000,144]
[null,null,null,11,3000000,192]
[null,null,null,12,4000000,240]
[]
[]
["Coûts - Bâtiments de Défense"]
["Rempart",null,null,"Canon",null,null,"Tour d'Archers",null,null,"Mortier",null,null,"Défense Antiaérienne",null,null,"Tour de Sorciers",null,null,"Propulseur d'air",null,null,"Tesla Camouflée",null,null,"Arc-X",null,null,"Tour de l'Enfer",null,null,"Aigle Artilleur"]
["LVL","Coût","Temps","LVL","Coût","Temps","LVL","Coût","Temps","LVL","Coût","Temps","LVL","Coût","Temps","LVL","Coût","Temps","LVL","Coût","Temps","LVL","Coût","Temps","LVL","Coût","Temps","LVL","Coût","Temps","LVL","Coût","Temps"]
[1,50,0,1,250,{"$f":"1/60","v":1.6666666666666666E-2},1,1000,{"$f":"15/60","v":0.25},1,8000,8,1,22500,5,1,180000,12,1,500000,24,1,1000000,24,1,3000000,168,1,5000000,168,1,8000000,240]
[2,1000,0,2,1000,{"$f":"15/60","v":0.25},2,2000,{"$f":"30/60","v":0.5},2,32000,12,2,90000,24,2,360000,24,2,750000,72,2,1250000,72,2,5000000,192,2,6500000,240,2,10000000,336]
[3,5000,0,3,4000,{"$f":"45/60","v":0.75},3,5000,{"$f":"45/60","v":0.75},3,120000,24,3,270000,72,3,700000,48,3,1250000,120,3,1500000,120,3,7000000,240,3,8000000,336]
[4,10000,0,4,16000,2,4,20000,4,4,400000,48,4,540000,120,4,1200000,72,4,2400000,168,4,2000000,144,4,8000000,288,4,10000000,336]
[5,30000,0,5,50000,6,5,80000,12,5,800000,96,5,1080000,144,5,1700000,96,5,4800000,192,5,2500000,168,5,9500000,336]
[6,75000,0,6,100000,12,6,180000,24,6,1600000,120,6,2160000,192,6,2200000,120,6,7200000,216,6,3000000,192]
[7,200000,0,7,200000,24,7,360000,48,7,3200000,168,7,4320000,240,7,3700000,144,null,null,null,7,3500000,240]
[8,500000,0,8,400000,48,8,720000,72,8,5000000,192,8,7560000,288,8,5200000,192,null,null,null,8,5000000,288]
[9,1000000,0,9,800000,72,9,1500000,96,9,7000000,240,null,null,null,9,7200000,240,null,null,null,9,8000000,336]
[10,2000000,0,10,1600000,96,10,2500000,{"$f":"5*24","v":120},10,9000000,288,null,null,null,10,9200000,288]
[11,3000000,0,11,3200000,120,11,3800000,144]
[12,4000000,0,12,5000000,144,12,5500000,168]
[null,null,null,13,6500000,168,13,7000000,{"$f":"8*24","v":192}]
[null,null,null,14,8500000,192,14,9500000,{"$f":"9*24","v":216}]
[]
["Coûts - Pièges Défensifs"]
["Bombe",null,null,"Piège à ressort",null,null,"Bombe géante",null,null,"Bombe aérienne",null,null,"Tête chercheuse",null,null,"Piège squelettique"]
["LVL","Coût","Temps","LVL","Coût","Temps","LVL","Coût","Temps","LVL","Coût","Temps","LVL","Coût","Temps","LVL","Coût","Temps"]
[1,400,0,1,2000,0,1,12500,0,1,4000,0,1,15000,5,1,6000,0]
[2,1000,0.25,2,500000,16,2,75000,6,2,20000,4,2,2000000,24,2,600000,6]
[3,10000,2,3,1000000,24,3,750000,24,3,200000,12,3,4000000,72,3,1300000,24]
[4,100000,8,4,1500000,48,4,2500000,72,4,1500000,24]
[5,1000000,24,5,2000000,72]
[6,1500000,48]
[]
[]
["Coûts - Bâtiments Autres"]
["Château de Clan",null,null,"Hôtel de Ville"]
["LVL","Coût","Temps","LVL","Coût","Temps"]
[1,40000,0,1,0,0]
[2,100000,6,2,1000,{"$f":"5/60","v":8.3333333333333329E-2}]
[3,800000,24,3,4000,3]
[4,1800000,48,4,25000,24]
[5,5000000,144,5,150000,48]
[6,7000000,240,6,750000,96]
[7,10000000,336,7,1200000,144]
[null,null,null,8,2000000,192]
[null,null,null,9,3000000,240]
[null,null,null,10,5000000,288]
[null,null,null,11,7000000,336]
[]
["Coûts - Améliorations de Sorts"]
["Sort de Foudre",null,null,"Sort de Guérison",null,null,"Sort de Rage",null,null,"Sort de Saut",null,null,"Sort de Gel",null,null,"Sort de clonage"]
["LVL","Coût","Temps","LVL","Coût","Temps","LVL","Coût","Temps","LVL","Coût","Temps","LVL","Coût","Temps","LVL","Coût","Temps"]
[1,0,0,1,0,0,1,0,0,1,0,0,1,0,0,1,0,0]
[2,200000,24,2,300000,24,2,450000,48,2,3000000,120,2,4000000,120,2,5000000,192]
[3,500000,48,3,600000,48,3,900000,72,3,6000000,168,3,5000000,168,3,7000000,240]
[4,1000000,72,4,1200000,72,4,1800000,120,null,null,null,4,6500000,240,4,9000000,336]
[5,2000000,96,5,2400000,120,5,3000000,168,null,null,null,5,8000000,336,5]
[6,6000000,240,6,4800000,168]
[7,8000000,336]
[]
[]
["Coûts - Améliroations de Troupes Normales"]
["Barbare",null,null,"Archer",null,null,"Gobelin",null,null,"Géant",null,null,"Sapeur",null,null,"Ballon",null,null,"Sorcier",null,null,"Guérisseuse",null,null,"Dragon",null,null,"P.E.K.K.A",null,null,"Bébé dragon",null,null,"Mineur"]
["LVL","Coût","Temps","LVL","Coût","Temps","LVL","Coût","Temps","LVL","Coût","Temps","LVL","Coût","Temps","LVL","Coût","Temps","LVL","Coût","Temps","LVL","Coût","Temps","LVL","Coût","Temps","LVL","Coût","Temps","LVL","Coût","Temps","LVL","Coût","Temps"]
[1,0,0,1,0,0,1,0,0,1,0,0,1,0,0,1,0,0,1,0,0,1,0,0,1,0,0,1,0,0,1,0,0,1,0,0]
[2,50000,6,2,50000,12,2,50000,12,2,100000,24,2,100000,24,2,150000,24,2,150000,24,2,750000,72,2,2000000,168,2,3000000,240,2,5000000,192,2,7500000,240]
[3,150000,24,3,250000,48,3,250000,48,3,250000,48,3,250000,48,3,450000,48,3,450000,48,3,1500000,120,3,3000000,216,3,6000000,288,3,6000000,240,3,8500000,288]
[4,500000,72,4,750000,72,4,750000,72,4,750000,72,4,750000,72,4,1350000,72,4,1350000,72,4,3000000,168,4,5000000,240,4,7000000,336,4,7000000,288,4,9500000,336]
[5,1500000,120,5,2250000,120,5,2250000,120,5,2250000,120,5,2250000,120,5,2500000,120,5,2500000,120,null,null,null,5,7000000,288,5,8000000,336,5,8000000,336]
[6,4500000,240,6,6000000,240,6,4500000,192,6,5000000,240,6,6750000,240,6,6000000,240,6,5000000,240,null,null,null,6,9000000,336]
[7,6000000,336,7,7500000,336,7,6750000,240,7,6000000,288,null,null,null,7,9500000,336,7,8500000,336]
[null,null,null,null,null,null,null,null,null,8,9500000,{"$f":"14*24","v":336}]
[]
[]
["Coûts - Améliorations de Sorts Noirs"]
["Sort de Poison",null,null,"Sort de Séisme",null,null,"Sort de Hâte",null,null,"Sort Squelettique"]
["LVL","Coût","Temps","LVL","Coût","Temps","LVL","Coût","Temps","LVL","Coût","Temps"]
[1,0,0,1,0,0,1,0,0,1,0,0]
[2,25000,96,2,30000,144,2,40000,144,2,50000,192]
[3,50000,144,3,60000,192,3,80000,192,3,75000,240]
[4,75000,240,4,90000,288,4,100000,240,4,90000,288]
[5,150000,288]
[]
["Coûts - Améliorations de Troupes Noires"]
["Serviteur",null,null,"Chevaucheur de Cochon",null,null,"Valkyrie",null,null,"Golem",null,null,"Sorcière",null,null,"Molosse de lave",null,null,"Bouliste"]
["LVL","Coût","Temps","LVL","Coût","Temps","LVL","Coût","Temps","LVL","Coût","Temps","LVL","Coût","Temps","LVL","Coût","Temps","LVL","Coût","Temps"]
[1,0,0,1,0,0,1,0,0,1,0,0,1,0,0,1,0,0,1,0,0]
[2,10000,120,2,20000,120,2,50000,192,2,60000,144,2,75000,240,2,60000,240,2,120000,240]
[3,20000,144,3,30000,144,3,60000,240,3,70000,192,3,160000,336,3,70000,288,3,200000,288]
[4,30000,168,4,40000,192,4,70000,288,4,80000,240,null,null,null,4,150000,336]
[5,40000,240,5,50000,240,5,110000,336,5,90000,288]
[6,100000,288,6,100000,288,null,null,null,6,200000,336]
[7,140000,336,7,150000,336]
[]
["Coûts - Héros"]
["Roi des Barbares",null,null,"Reine des Archers",null,null,"Grand Gardien"]
["LVL","Coût","Temps","LVL","Coût","Temps","LVL","Coût","Temps"]
[1,10000,0,1,40000,0,1,6000000,0]
[2,12500,12,2,22500,12,2,2500000,12]
[3,15000,24,3,25000,24,3,3000000,24]
[4,17500,36,4,27500,36,4,3500000,36]
[5,20000,48,5,30000,48,5,4000000,48]
[6,22500,60,6,32500,60,6,4500000,60]
[7,25000,72,7,35000,72,7,5000000,72]
[8,30000,84,8,40000,84,8,5500000,84]
[9,35000,96,9,45000,96,9,6000000,96]
[10,40000,108,10,50000,108,10,6500000,108]
[11,45000,120,11,55000,120,11,7000000,120]
[12,50000,132,12,60000,132,12,7500000,132]
[13,55000,144,13,65000,144,13,8000000,144]
[14,60000,156,14,70000,156,14,8400000,156]
[15,65000,168,15,75000,168,15,8800000,168]
[16,70000,168,16,80000,168,16,9100000,168]
[17,75000,168,17,85000,168,17,9400000,168]
[18,80000,168,18,90000,168,18,9600000,168]
[19,85000,168,19,95000,168,19,9800000,168]
[20,90000,168,20,100000,168,20,10000000,168]
[21,95000,168,21,105000,168]
[22,100000,168,22,110000,168]
[23,105000,168,23,115000,168]
[24,110000,168,24,120000,168]
[25,115000,168,25,125000,168]
[26,120000,168,26,129000,168]
[27,125000,168,27,133000,168]
[28,130000,168,28,137000,168]
[29,135000,168,29,141000,168]
[30,140000,168,30,145000,168]
[31,144000,168,31,149000,168]
[32,148000,168,32,153000,168]
[33,152000,168,33,157000,168]
[34,156000,168,34,161000,168]
[35,160000,168,35,165000,168]
[36,164000,168,36,169000,168]
[37,168000,168,37,173000,168]
[38,172000,168,38,177000,168]
[39,176000,168,39,181000,168]
[40,180000,168,40,185000,168]
[41,185000,168,41,190000,168]
[42,188000,168,42,192000,168]
[43,191000,168,43,194000,168]
[44,194000,168,44,196000,168]
[45,197000,168,45,198000,168]

{"sheet":"Gains et Stockage","index":8,"n_rows":16,"n_cols":19,"rows_kept":16,"cut":false,"hidden":true,"merged":[[0,0,0,18],[1,0,1,4],[1,5,1,9],[2,8,2,9],[1,10,1,14],[1,15,1,18],[2,13,2,14],[2,0,2,2],[2,10,2,12],[2,5,2,7],[2,3,2,4]]}
["Gains"]
["Or",null,null,null,null,"Élixir",null,null,null,null,"Élixir Noir",null,null,null,null,"Hotel de ville"]
["Mine d'Or",null,null,"Réserve d'Or",null,"Extracteur d'Élixir",null,null,"Réservoir d'Élixir",null,"Foreuse d'Élixir Noir",null,null,"Réservoir d'Élixir Noir",null,"LVL","Or","Elixir rose","Elixir noir"]
["LVL","Production","Capacité","LVL","Capacité","LVL","Production","Capacité","LVL","Capacité","LVL","Production","Capacité","LVL","Capacité",1,0,{"$f":"EARNINGS_HDV[[#This Row],[Or]]","v":0},0]
[1,200,500,1,1500,1,200,500,1,1500,1,20,160,1,10000,2,0,{"$f":"EARNINGS_HDV[[#This Row],[Or]]","v":0},0]
[2,400,1000,2,3000,2,400,1000,2,3000,2,30,300,2,17500,3,10000,{"$f":"EARNINGS_HDV[[#This Row],[Or]]","v":10000},0]
[3,600,1500,3,6000,3,600,1500,3,6000,3,45,540,3,40000,4,50000,{"$f":"EARNINGS_HDV[[#This Row],[Or]]","v":50000},0]
[4,800,2500,4,12000,4,800,2500,4,12000,4,60,840,4,75000,5,100000,{"$f":"EARNINGS_HDV[[#This Row],[Or]]","v":100000},0]
[5,1000,10000,5,25000,5,1000,10000,5,25000,5,80,1280,5,140000,6,300000,{"$f":"EARNINGS_HDV[[#This Row],[Or]]","v":300000},0]
[6,1300,20000,6,50000,6,1300,20000,6,50000,6,100,1800,6,180000,7,500000,{"$f":"EARNINGS_HDV[[#This Row],[Or]]","v":500000},2500]
[7,1600,30000,7,100000,7,1600,30000,7,100000,null,null,null,null,null,8,750000,{"$f":"EARNINGS_HDV[[#This Row],[Or]]","v":750000},5000]
[8,1900,50000,8,225000,8,1900,50000,8,225000,null,null,null,null,null,9,1000000,{"$f":"EARNINGS_HDV[[#This Row],[Or]]","v":1000000},10000]
[9,2200,75000,9,450000,9,2200,75000,9,450000,null,null,null,null,null,10,1500000,{"$f":"EARNINGS_HDV[[#This Row],[Or]]","v":1500000},20000]
[10,2500,100000,10,850000,10,2500,100000,10,850000,null,null,null,null,null,11,2000000,{"$f":"EARNINGS_HDV[[#This Row],[Or]]","v":2000000},20000]
[11,3000,150000,11,1750000,11,3000,150000,11,1750000]
[12,3500,200000,12,2000000,12,3500,200000,12,2000000]

{"sheet":"Coûts de Formation","index":9,"n_rows":42,"n_cols":48,"rows_kept":42,"cut":false,"hidden":true,"merged":[[14,44,14,47],[12,0,12,47],[13,0,13,47],[14,40,14,43],[2,20,2,23],[14,32,14,35],[14,4,14,7],[14,8,14,11],[14,12,14,15],[14,16,14,19],[14,20,14,23],[1,0,1,23],[2,36,2,39],[0,0,0,39],[1,24,1,39],[27,20,27,23],[2,16,2,19],[27,0,27,3],[27,4,27,7],[27,8,27,11],[27,12,27,15],[2,0,2,3],[2,4,2,7],[2,8,2,11],[2,12,2,15],[27,16,27,19],[14,0,14,3],[27,30,27,31],[25,30,25,39],[26,30,26,39],[2,24,2,27],[2,28,2,31],[27,32,27,33],[27,38,27,39],[27,34,27,35],[27,36,27,37],[2,32,2,35],[27,24,27,27],[26,0,26,27],[25,0,25,27],[14,36,14,39],[14,24,14,27],[14,28,14,31]]}
["Coûts - Formation de Sorts"]
["Élixir",null,null,null,null,null,null,null,null,null,null,null,null,null,null,null,null,null,null,null,null,null,null,null,"Élixir"]
["Sort de Foudre",null,null,null,"Sort de Guérison",null,null,null,"Sort de Rage",null,null,null,"Sort de Saut",null,null,null,"Sort de Gel",null,null,null,{"$f":"Paramètres!AL2","v":"Sort de clonage"},null,null,null,"Sort de Poison",null,null,null,"Sort de Séisme",null,null,null,"Sort de Hâte",null,null,null,"Sort Squelettique"]
["LVL","Espace","Coût","Temps","LVL","Espace","Coût","Temps","LVL","Espace","Coût","Temps","LVL","Espace","Coût","Temps","LVL","Espace","Coût","Temps","LVL","Espace","Coût","Temps","LVL","Espace","Coût","Temps","LVL","Espace","Coût","Temps","LVL","Espace","Coût","Temps","LVL","Espace","Coût","Temps"]
[1,2,15000,360,1,2,15000,360,1,2,23000,360,1,2,23000,360,1,2,26000,360,1,4,38000,720,1,1,95,180,1,1,125,180,1,1,80,180,1,1,110,180]
[2,2,16500,360,2,2,16500,360,2,2,25000,360,2,2,27000,360,2,2,29000,360,2,4,40000,720,2,1,110,180,2,1,140,180,2,1,85,180,2,1,120,180]
[3,2,18000,360,3,2,18000,360,3,2,27000,360,3,2,31000,360,3,2,31000,360,3,4,42000,720,3,1,125,180,3,1,160,180,3,1,90,180,3,1,130,180]
[4,2,20000,360,4,2,20000,360,4,2,30000,360,null,null,null,null,4,2,33000,360,4,4,44000,720,4,1,140,180,4,1,180,180,4,1,95,180,4,1,140,180]
[5,2,22000,360,5,2,22000,360,5,2,33000,360,null,null,null,null,5,2,35000,360,null,null,null,null,5,1,155,180]
[6,2,24000,360,6,2,24000,360]
[7,2,26000,360]
[]
["Coûts - Formation de Troupes Normales"]
["Élixir"]
["Barbare",null,null,null,"Archer",null,null,null,"Gobelin",null,null,null,"Géant",null,null,null,"Sapeur",null,null,null,"Ballon",null,null,null,"Sorcier",null,null,null,"Guérisseuse",null,null,null,"Dragon",null,null,null,"P.E.K.K.A",null,null,null,"Bébé dragon",null,null,null,"Mineur"]
["LVL","Espace","Coût","Temps","LVL","Espace","Coût","Temps","LVL","Espace","Coût","Temps","LVL","Espace","Coût","Temps","LVL","Espace","Coût","Temps","LVL","Espace","Coût","Temps","LVL","Espace","Coût","Temps","LVL","Espace","Coût","Temps","LVL","Espace","Coût","Temps","LVL","Espace","Coût","Temps","LVL","Espace","Coût","Temps","LVL","Espace","Coût","Temps"]
[1,1,25,5,1,1,50,6,1,1,25,7,1,5,250,30,1,2,1000,15,1,5,2000,30,1,4,1500,30,1,14,5000,120,1,20,25000,180,1,25,28000,180,1,10,15000,90,1,5,4200,30]
[2,1,40,5,2,1,80,6,2,1,40,7,2,5,750,30,2,2,1500,15,2,5,2500,30,2,4,2000,30,2,14,6000,120,2,20,29000,180,2,25,32000,180,2,10,16000,90,2,5,4800,30]
[3,1,60,5,3,1,120,6,3,1,60,7,3,5,1250,30,3,2,2000,15,3,5,3000,30,3,4,2500,30,3,14,8000,120,3,20,33000,180,3,25,36000,180,3,10,17000,90,3,5,5400,30]
[4,1,100,5,4,1,200,6,4,1,80,7,4,5,1750,30,4,2,2500,15,4,5,3500,30,4,4,3000,30,4,14,10000,120,4,20,37000,180,4,25,40000,180,4,10,18000,90,4,5,6000,30]
[5,1,150,5,5,1,300,6,5,1,100,7,5,5,2250,30,5,2,3000,15,5,5,4000,30,5,4,3500,30,null,null,null,null,5,20,42000,180,5,25,45000,180,5,10,19000,90]
[6,1,200,5,6,1,400,6,6,1,150,7,6,5,3000,30,6,2,3500,15,6,5,4500,30,6,4,4000,30,null,null,null,null,6,20,46000,180]
[7,1,250,5,7,1,500,6,7,1,200,7,7,5,3500,30,null,null,null,null,7,5,5000,30,7,4,4500,30]
[null,null,null,null,null,null,null,null,null,null,null,null,8,5,4000,30]
[]
["Coûts - Formation de Troupes Noires",null,null,null,null,null,null,null,null,null,null,null,null,null,null,null,null,null,null,null,null,null,null,null,null,null,null,null,null,null,"Capacité - Bâtiments"]
["Élixir Noir"]
["Serviteur",null,null,null,"Chevaucheur de Cochon",null,null,null,"Valkyrie",null,null,null,"Golem",null,null,null,"Sorcière",null,null,null,"Molosse de lave",null,null,null,"Bouliste",null,null,null,null,null,"Usine de Sorts Noirs",null,"Usine de Sorts",null,"Caserne Noire",null,"Camp Militaire",null,"Caserne"]
["LVL","Espace","Coût","Temps","LVL","Espace","Coût","Temps","LVL","Espace","Coût","Temps","LVL","Espace","Coût","Temps","LVL","Espace","Coût","Temps","LVL","Espace","Coût","Temps","LVL","Espace","Coût","Temps",null,null,"LVL","Capacité","LVL","Capacité","LVL","Capacité","LVL","Capacité","LVL","Capacité"]
[1,2,6,18,1,5,40,45,1,8,70,90,1,30,450,300,1,12,250,180,1,30,390,300,1,6,130,60,null,null,0,0,0,0,0,0,0,0,0,0]
[2,2,7,18,2,5,45,45,2,8,100,90,2,30,525,300,2,12,350,180,2,30,450,300,2,6,150,60,null,null,1,1,1,2,1,40,1,20,1,20]
[3,2,8,18,3,5,52,45,3,8,130,90,3,30,600,300,3,12,450,180,3,30,510,300,3,6,170,60,null,null,2,1,2,4,2,50,2,30,2,25]
[4,2,9,18,4,5,58,45,4,8,160,90,4,30,675,300,null,null,null,null,4,30,570,300,null,null,null,null,null,null,3,1,3,6,3,60,3,35,3,30]
[5,2,10,18,5,5,65,45,5,8,190,90,5,30,750,300,null,null,null,null,null,null,null,null,null,null,null,null,null,null,null,null,4,8,4,70,4,40,4,35]
[6,2,11,18,6,5,90,45,null,null,null,null,6,30,825,300,null,null,null,null,null,null,null,null,null,null,null,null,null,null,null,null,5,10,5,80,5,45,5,40]
[7,2,12,18,7,5,115,45,null,null,null,null,null,null,null,null,null,null,null,null,null,null,null,null,null,null,null,null,null,null,null,null,null,null,6,90,6,50,6,45]
[null,null,null,null,null,null,null,null,null,null,null,null,null,null,null,null,null,null,null,null,null,null,null,null,null,null,null,null,null,null,null,null,null,null,7,100,7,55,7,50]
[null,null,null,null,null,null,null,null,null,null,null,null,null,null,null,null,null,null,null,null,null,null,null,null,null,null,null,null,null,null,null,null,null,null,null,null,8,60,8,55]
[null,null,null,null,null,null,null,null,null,null,null,null,null,null,null,null,null,null,null,null,null,null,null,null,null,null,null,null,null,null,null,null,null,null,null,null,null,null,9,60]
[null,null,null,null,null,null,null,null,null,null,null,null,null,null,null,null,null,null,null,null,null,null,null,null,null,null,null,null,null,null,null,null,null,null,null,null,null,null,10,75]
[null,null,null,null,null,null,null,null,null,null,null,null,null,null,null,null,null,null,null,null,null,null,null,null,null,null,null,null,null,null,null,null,null,null,null,null,null,null,11,90]
[null,null,null,null,null,null,null,null,null,null,null,null,null,null,null,null,null,null,null,null,null,null,null,null,null,null,null,null,null,null,null,null,null,null,null,null,null,null,12,105]

{"sheet":"Calendrier","index":10,"n_rows":1000,"n_cols":1,"rows_kept":1000,"cut":false,"hidden":true,"merged":[]}
["Calendrier"]
[{"$f":"Planning!$C$2","v":"2016-07-20T14:09:05"}]
[{"$f":"$A2+Planning!$D$2","v":"2016-07-21T14:09:05"}]
[{"$f":"$A3+Planning!$D$2","v":"2016-07-22T14:09:05"}]
[{"$f":"$A4+Planning!$D$2","v":"2016-07-23T14:09:05"}]
[{"$f":"$A5+Planning!$D$2","v":"2016-07-24T14:09:05"}]
[{"$f":"$A6+Planning!$D$2","v":"2016-07-25T14:09:05"}]
[{"$f":"$A7+Planning!$D$2","v":"2016-07-26T14:09:05"}]
[{"$f":"$A8+Planning!$D$2","v":"2016-07-27T14:09:05"}]
[{"$f":"$A9+Planning!$D$2","v":"2016-07-28T14:09:05"}]
[{"$f":"$A10+Planning!$D$2","v":"2016-07-29T14:09:05"}]
[{"$f":"$A11+Planning!$D$2","v":"2016-07-30T14:09:05"}]
[{"$f":"$A12+Planning!$D$2","v":"2016-07-31T14:09:05"}]
[{"$f":"$A13+Planning!$D$2","v":"2016-08-01T14:09:05"}]
[{"$f":"$A14+Planning!$D$2","v":"2016-08-02T14:09:05"}]
[{"$f":"$A15+Planning!$D$2","v":"2016-08-03T14:09:05"}]
[{"$f":"$A16+Planning!$D$2","v":"2016-08-04T14:09:05"}]
[{"$f":"$A17+Planning!$D$2","v":"2016-08-05T14:09:05"}]
[{"$f":"$A18+Planning!$D$2","v":"2016-08-06T14:09:05"}]
[{"$f":"$A19+Planning!$D$2","v":"2016-08-07T14:09:05"}]
[{"$f":"$A20+Planning!$D$2","v":"2016-08-08T14:09:05"}]
[{"$f":"$A21+Planning!$D$2","v":"2016-08-09T14:09:05"}]
[{"$f":"$A22+Planning!$D$2","v":"2016-08-10T14:09:05"}]
[{"$f":"$A23+Planning!$D$2","v":"2016-08-11T14:09:05"}]
[{"$f":"$A24+Planning!$D$2","v":"2016-08-12T14:09:05"}]
[{"$f":"$A25+Planning!$D$2","v":"2016-08-13T14:09:05"}]
[{"$f":"$A26+Planning!$D$2","v":"2016-08-14T14:09:05"}]
[{"$f":"$A27+Planning!$D$2","v":"2016-08-15T14:09:05"}]
[{"$f":"$A28+Planning!$D$2","v":"2016-08-16T14:09:05"}]
[{"$f":"$A29+Planning!$D$2","v":"2016-08-17T14:09:05"}]
[{"$f":"$A30+Planning!$D$2","v":"2016-08-18T14:09:05"}]
[{"$f":"$A31+Planning!$D$2","v":"2016-08-19T14:09:05"}]
[{"$f":"$A32+Planning!$D$2","v":"2016-08-20T14:09:05"}]
[{"$f":"$A33+Planning!$D$2","v":"2016-08-21T14:09:05"}]
[{"$f":"$A34+Planning!$D$2","v":"2016-08-22T14:09:05"}]
[{"$f":"$A35+Planning!$D$2","v":"2016-08-23T14:09:05"}]
[{"$f":"$A36+Planning!$D$2","v":"2016-08-24T14:09:05"}]
[{"$f":"$A37+Planning!$D$2","v":"2016-08-25T14:09:05"}]
[{"$f":"$A38+Planning!$D$2","v":"2016-08-26T14:09:05"}]
[{"$f":"$A39+Planning!$D$2","v":"2016-08-27T14:09:05"}]
[{"$f":"$A40+Planning!$D$2","v":"2016-08-28T14:09:05"}]
[{"$f":"$A41+Planning!$D$2","v":"2016-08-29T14:09:05"}]
[{"$f":"$A42+Planning!$D$2","v":"2016-08-30T14:09:05"}]
[{"$f":"$A43+Planning!$D$2","v":"2016-08-31T14:09:05"}]
[{"$f":"$A44+Planning!$D$2","v":"2016-09-01T14:09:05"}]
[{"$f":"$A45+Planning!$D$2","v":"2016-09-02T14:09:05"}]
[{"$f":"$A46+Planning!$D$2","v":"2016-09-03T14:09:05"}]
[{"$f":"$A47+Planning!$D$2","v":"2016-09-04T14:09:05"}]
[{"$f":"$A48+Planning!$D$2","v":"2016-09-05T14:09:05"}]
[{"$f":"$A49+Planning!$D$2","v":"2016-09-06T14:09:05"}]
[{"$f":"$A50+Planning!$D$2","v":"2016-09-07T14:09:05"}]
[{"$f":"$A51+Planning!$D$2","v":"2016-09-08T14:09:05"}]
[{"$f":"$A52+Planning!$D$2","v":"2016-09-09T14:09:05"}]
[{"$f":"$A53+Planning!$D$2","v":"2016-09-10T14:09:05"}]
[{"$f":"$A54+Planning!$D$2","v":"2016-09-11T14:09:05"}]
[{"$f":"$A55+Planning!$D$2","v":"2016-09-12T14:09:05"}]
[{"$f":"$A56+Planning!$D$2","v":"2016-09-13T14:09:05"}]
[{"$f":"$A57+Planning!$D$2","v":"2016-09-14T14:09:05"}]
[{"$f":"$A58+Planning!$D$2","v":"2016-09-15T14:09:05"}]
[{"$f":"$A59+Planning!$D$2","v":"2016-09-16T14:09:05"}]
[{"$f":"$A60+Planning!$D$2","v":"2016-09-17T14:09:05"}]
[{"$f":"$A61+Planning!$D$2","v":"2016-09-18T14:09:05"}]
[{"$f":"$A62+Planning!$D$2","v":"2016-09-19T14:09:05"}]
[{"$f":"$A63+Planning!$D$2","v":"2016-09-20T14:09:05"}]
[{"$f":"$A64+Planning!$D$2","v":"2016-09-21T14:09:05"}]
[{"$f":"$A65+Planning!$D$2","v":"2016-09-22T14:09:05"}]
[{"$f":"$A66+Planning!$D$2","v":"2016-09-23T14:09:05"}]
[{"$f":"$A67+Planning!$D$2","v":"2016-09-24T14:09:05"}]
[{"$f":"$A68+Planning!$D$2","v":"2016-09-25T14:09:05"}]
[{"$f":"$A69+Planning!$D$2","v":"2016-09-26T14:09:05"}]
[{"$f":"$A70+Planning!$D$2","v":"2016-09-27T14:09:05"}]
[{"$f":"$A71+Planning!$D$2","v":"2016-09-28T14:09:05"}]
[{"$f":"$A72+Planning!$D$2","v":"2016-09-29T14:09:05"}]
[{"$f":"$A73+Planning!$D$2","v":"2016-09-30T14:09:05"}]
[{"$f":"$A74+Planning!$D$2","v":"2016-10-01T14:09:05"}]
[{"$f":"$A75+Planning!$D$2","v":"2016-10-02T14:09:05"}]
[{"$f":"$A76+Planning!$D$2","v":"2016-10-03T14:09:05"}]
[{"$f":"$A77+Planning!$D$2","v":"2016-10-04T14:09:05"}]
[{"$f":"$A78+Planning!$D$2","v":"2016-10-05T14:09:05"}]
[{"$f":"$A79+Planning!$D$2","v":"2016-10-06T14:09:05"}]
[{"$f":"$A80+Planning!$D$2","v":"2016-10-07T14:09:05"}]
[{"$f":"$A81+Planning!$D$2","v":"2016-10-08T14:09:05"}]
[{"$f":"$A82+Planning!$D$2","v":"2016-10-09T14:09:05"}]
[{"$f":"$A83+Planning!$D$2","v":"2016-10-10T14:09:05"}]
[{"$f":"$A84+Planning!$D$2","v":"2016-10-11T14:09:05"}]
[{"$f":"$A85+Planning!$D$2","v":"2016-10-12T14:09:05"}]
[{"$f":"$A86+Planning!$D$2","v":"2016-10-13T14:09:05"}]
[{"$f":"$A87+Planning!$D$2","v":"2016-10-14T14:09:05"}]
[{"$f":"$A88+Planning!$D$2","v":"2016-10-15T14:09:05"}]
[{"$f":"$A89+Planning!$D$2","v":"2016-10-16T14:09:05"}]
[{"$f":"$A90+Planning!$D$2","v":"2016-10-17T14:09:05"}]
[{"$f":"$A91+Planning!$D$2","v":"2016-10-18T14:09:05"}]
[{"$f":"$A92+Planning!$D$2","v":"2016-10-19T14:09:05"}]
[{"$f":"$A93+Planning!$D$2","v":"2016-10-20T14:09:05"}]
[{"$f":"$A94+Planning!$D$2","v":"2016-10-21T14:09:05"}]
[{"$f":"$A95+Planning!$D$2","v":"2016-10-22T14:09:05"}]
[{"$f":"$A96+Planning!$D$2","v":"2016-10-23T14:09:05"}]
[{"$f":"$A97+Planning!$D$2","v":"2016-10-24T14:09:05"}]
[{"$f":"$A98+Planning!$D$2","v":"2016-10-25T14:09:05"}]
[{"$f":"$A99+Planning!$D$2","v":"2016-10-26T14:09:05"}]
[{"$f":"$A100+Planning!$D$2","v":"2016-10-27T14:09:05"}]
[{"$f":"$A101+Planning!$D$2","v":"2016-10-28T14:09:05"}]
[{"$f":"$A102+Planning!$D$2","v":"2016-10-29T14:09:05"}]
[{"$f":"$A103+Planning!$D$2","v":"2016-10-30T14:09:05"}]
[{"$f":"$A104+Planning!$D$2","v":"2016-10-31T14:09:05"}]
[{"$f":"$A105+Planning!$D$2","v":"2016-11-01T14:09:05"}]
[{"$f":"$A106+Planning!$D$2","v":"2016-11-02T14:09:05"}]
[{"$f":"$A107+Planning!$D$2","v":"2016-11-03T14:09:05"}]
[{"$f":"$A108+Planning!$D$2","v":"2016-11-04T14:09:05"}]
[{"$f":"$A109+Planning!$D$2","v":"2016-11-05T14:09:05"}]
[{"$f":"$A110+Planning!$D$2","v":"2016-11-06T14:09:05"}]
[{"$f":"$A111+Planning!$D$2","v":"2016-11-07T14:09:05"}]
[{"$f":"$A112+Planning!$D$2","v":"2016-11-08T14:09:05"}]
[{"$f":"$A113+Planning!$D$2","v":"2016-11-09T14:09:05"}]
[{"$f":"$A114+Planning!$D$2","v":"2016-11-10T14:09:05"}]
[{"$f":"$A115+Planning!$D$2","v":"2016-11-11T14:09:05"}]
[{"$f":"$A116+Planning!$D$2","v":"2016-11-12T14:09:05"}]
[{"$f":"$A117+Planning!$D$2","v":"2016-11-13T14:09:05"}]
[{"$f":"$A118+Planning!$D$2","v":"2016-11-14T14:09:05"}]
[{"$f":"$A119+Planning!$D$2","v":"2016-11-15T14:09:05"}]
[{"$f":"$A120+Planning!$D$2","v":"2016-11-16T14:09:05"}]
[{"$f":"$A121+Planning!$D$2","v":"2016-11-17T14:09:05"}]
[{"$f":"$A122+Planning!$D$2","v":"2016-11-18T14:09:05"}]
[{"$f":"$A123+Planning!$D$2","v":"2016-11-19T14:09:05"}]
[{"$f":"$A124+Planning!$D$2","v":"2016-11-20T14:09:05"}]
[{"$f":"$A125+Planning!$D$2","v":"2016-11-21T14:09:05"}]
[{"$f":"$A126+Planning!$D$2","v":"2016-11-22T14:09:05"}]
[{"$f":"$A127+Planning!$D$2","v":"2016-11-23T14:09:05"}]
[{"$f":"$A128+Planning!$D$2","v":"2016-11-24T14:09:05"}]
[{"$f":"$A129+Planning!$D$2","v":"2016-11-25T14:09:05"}]
[{"$f":"$A130+Planning!$D$2","v":"2016-11-26T14:09:05"}]
[{"$f":"$A131+Planning!$D$2","v":"2016-11-27T14:09:05"}]
[{"$f":"$A132+Planning!$D$2","v":"2016-11-28T14:09:05"}]
[{"$f":"$A133+Planning!$D$2","v":"2016-11-29T14:09:05"}]
[{"$f":"$A134+Planning!$D$2","v":"2016-11-30T14:09:05"}]
[{"$f":"$A135+Planning!$D$2","v":"2016-12-01T14:09:05"}]
[{"$f":"$A136+Planning!$D$2","v":"2016-12-02T14:09:05"}]
[{"$f":"$A137+Planning!$D$2","v":"2016-12-03T14:09:05"}]
[{"$f":"$A138+Planning!$D$2","v":"2016-12-04T14:09:05"}]
[{"$f":"$A139+Planning!$D$2","v":"2016-12-05T14:09:05"}]
[{"$f":"$A140+Planning!$D$2","v":"2016-12-06T14:09:05"}]
[{"$f":"$A141+Planning!$D$2","v":"2016-12-07T14:09:05"}]
[{"$f":"$A142+Planning!$D$2","v":"2016-12-08T14:09:05"}]
[{"$f":"$A143+Planning!$D$2","v":"2016-12-09T14:09:05"}]
[{"$f":"$A144+Planning!$D$2","v":"2016-12-10T14:09:05"}]
[{"$f":"$A145+Planning!$D$2","v":"2016-12-11T14:09:05"}]
[{"$f":"$A146+Planning!$D$2","v":"2016-12-12T14:09:05"}]
[{"$f":"$A147+Planning!$D$2","v":"2016-12-13T14:09:05"}]
[{"$f":"$A148+Planning!$D$2","v":"2016-12-14T14:09:05"}]
[{"$f":"$A149+Planning!$D$2","v":"2016-12-15T14:09:05"}]
[{"$f":"$A150+Planning!$D$2","v":"2016-12-16T14:09:05"}]
[{"$f":"$A151+Planning!$D$2","v":"2016-12-17T14:09:05"}]
[{"$f":"$A152+Planning!$D$2","v":"2016-12-18T14:09:05"}]
[{"$f":"$A153+Planning!$D$2","v":"2016-12-19T14:09:05"}]
[{"$f":"$A154+Planning!$D$2","v":"2016-12-20T14:09:05"}]
[{"$f":"$A155+Planning!$D$2","v":"2016-12-21T14:09:05"}]
[{"$f":"$A156+Planning!$D$2","v":"2016-12-22T14:09:05"}]
[{"$f":"$A157+Planning!$D$2","v":"2016-12-23T14:09:05"}]
[{"$f":"$A158+Planning!$D$2","v":"2016-12-24T14:09:05"}]
[{"$f":"$A159+Planning!$D$2","v":"2016-12-25T14:09:05"}]
[{"$f":"$A160+Planning!$D$2","v":"2016-12-26T14:09:05"}]
[{"$f":"$A161+Planning!$D$2","v":"2016-12-27T14:09:05"}]
[{"$f":"$A162+Planning!$D$2","v":"2016-12-28T14:09:05"}]
[{"$f":"$A163+Planning!$D$2","v":"2016-12-29T14:09:05"}]
[{"$f":"$A164+Planning!$D$2","v":"2016-12-30T14:09:05"}]
[{"$f":"$A165+Planning!$D$2","v":"2016-12-31T14:09:05"}]
[{"$f":"$A166+Planning!$D$2","v":"2017-01-01T14:09:05"}]
[{"$f":"$A167+Planning!$D$2","v":"2017-01-02T14:09:05"}]
[{"$f":"$A168+Planning!$D$2","v":"2017-01-03T14:09:05"}]
[{"$f":"$A169+Planning!$D$2","v":"2017-01-04T14:09:05"}]
[{"$f":"$A170+Planning!$D$2","v":"2017-01-05T14:09:05"}]
[{"$f":"$A171+Planning!$D$2","v":"2017-01-06T14:09:05"}]
[{"$f":"$A172+Planning!$D$2","v":"2017-01-07T14:09:05"}]
[{"$f":"$A173+Planning!$D$2","v":"2017-01-08T14:09:05"}]
[{"$f":"$A174+Planning!$D$2","v":"2017-01-09T14:09:05"}]
[{"$f":"$A175+Planning!$D$2","v":"2017-01-10T14:09:05"}]
[{"$f":"$A176+Planning!$D$2","v":"2017-01-11T14:09:05"}]
[{"$f":"$A177+Planning!$D$2","v":"2017-01-12T14:09:05"}]
[{"$f":"$A178+Planning!$D$2","v":"2017-01-13T14:09:05"}]
[{"$f":"$A179+Planning!$D$2","v":"2017-01-14T14:09:05"}]
[{"$f":"$A180+Planning!$D$2","v":"2017-01-15T14:09:05"}]
[{"$f":"$A181+Planning!$D$2","v":"2017-01-16T14:09:05"}]
[{"$f":"$A182+Planning!$D$2","v":"2017-01-17T14:09:05"}]
[{"$f":"$A183+Planning!$D$2","v":"2017-01-18T14:09:05"}]
[{"$f":"$A184+Planning!$D$2","v":"2017-01-19T14:09:05"}]
[{"$f":"$A185+Planning!$D$2","v":"2017-01-20T14:09:05"}]
[{"$f":"$A186+Planning!$D$2","v":"2017-01-21T14:09:05"}]
[{"$f":"$A187+Planning!$D$2","v":"2017-01-22T14:09:05"}]
[{"$f":"$A188+Planning!$D$2","v":"2017-01-23T14:09:05"}]
[{"$f":"$A189+Planning!$D$2","v":"2017-01-24T14:09:05"}]
[{"$f":"$A190+Planning!$D$2","v":"2017-01-25T14:09:05"}]
[{"$f":"$A191+Planning!$D$2","v":"2017-01-26T14:09:05"}]
[{"$f":"$A192+Planning!$D$2","v":"2017-01-27T14:09:05"}]
[{"$f":"$A193+Planning!$D$2","v":"2017-01-28T14:09:05"}]
[{"$f":"$A194+Planning!$D$2","v":"2017-01-29T14:09:05"}]
[{"$f":"$A195+Planning!$D$2","v":"2017-01-30T14:09:05"}]
[{"$f":"$A196+Planning!$D$2","v":"2017-01-31T14:09:05"}]
[{"$f":"$A197+Planning!$D$2","v":"2017-02-01T14:09:05"}]
[{"$f":"$A198+Planning!$D$2","v":"2017-02-02T14:09:05"}]
[{"$f":"$A199+Planning!$D$2","v":"2017-02-03T14:09:05"}]
[{"$f":"$A200+Planning!$D$2","v":"2017-02-04T14:09:05"}]
[{"$f":"$A201+Planning!$D$2","v":"2017-02-05T14:09:05"}]
[{"$f":"$A202+Planning!$D$2","v":"2017-02-06T14:09:05"}]
[{"$f":"$A203+Planning!$D$2","v":"2017-02-07T14:09:05"}]
[{"$f":"$A204+Planning!$D$2","v":"2017-02-08T14:09:05"}]
[{"$f":"$A205+Planning!$D$2","v":"2017-02-09T14:09:05"}]
[{"$f":"$A206+Planning!$D$2","v":"2017-02-10T14:09:05"}]
[{"$f":"$A207+Planning!$D$2","v":"2017-02-11T14:09:05"}]
[{"$f":"$A208+Planning!$D$2","v":"2017-02-12T14:09:05"}]
[{"$f":"$A209+Planning!$D$2","v":"2017-02-13T14:09:05"}]
[{"$f":"$A210+Planning!$D$2","v":"2017-02-14T14:09:05"}]
[{"$f":"$A211+Planning!$D$2","v":"2017-02-15T14:09:05"}]
[{"$f":"$A212+Planning!$D$2","v":"2017-02-16T14:09:05"}]
[{"$f":"$A213+Planning!$D$2","v":"2017-02-17T14:09:05"}]
[{"$f":"$A214+Planning!$D$2","v":"2017-02-18T14:09:05"}]
[{"$f":"$A215+Planning!$D$2","v":"2017-02-19T14:09:05"}]
[{"$f":"$A216+Planning!$D$2","v":"2017-02-20T14:09:05"}]
[{"$f":"$A217+Planning!$D$2","v":"2017-02-21T14:09:05"}]
[{"$f":"$A218+Planning!$D$2","v":"2017-02-22T14:09:05"}]
[{"$f":"$A219+Planning!$D$2","v":"2017-02-23T14:09:05"}]
[{"$f":"$A220+Planning!$D$2","v":"2017-02-24T14:09:05"}]
[{"$f":"$A221+Planning!$D$2","v":"2017-02-25T14:09:05"}]
[{"$f":"$A222+Planning!$D$2","v":"2017-02-26T14:09:05"}]
[{"$f":"$A223+Planning!$D$2","v":"2017-02-27T14:09:05"}]
[{"$f":"$A224+Planning!$D$2","v":"2017-02-28T14:09:05"}]
[{"$f":"$A225+Planning!$D$2","v":"2017-03-01T14:09:05"}]
[{"$f":"$A226+Planning!$D$2","v":"2017-03-02T14:09:05"}]
[{"$f":"$A227+Planning!$D$2","v":"2017-03-03T14:09:05"}]
[{"$f":"$A228+Planning!$D$2","v":"2017-03-04T14:09:05"}]
[{"$f":"$A229+Planning!$D$2","v":"2017-03-05T14:09:05"}]
[{"$f":"$A230+Planning!$D$2","v":"2017-03-06T14:09:05"}]
[{"$f":"$A231+Planning!$D$2","v":"2017-03-07T14:09:05"}]
[{"$f":"$A232+Planning!$D$2","v":"2017-03-08T14:09:05"}]
[{"$f":"$A233+Planning!$D$2","v":"2017-03-09T14:09:05"}]
[{"$f":"$A234+Planning!$D$2","v":"2017-03-10T14:09:05"}]
[{"$f":"$A235+Planning!$D$2","v":"2017-03-11T14:09:05"}]
[{"$f":"$A236+Planning!$D$2","v":"2017-03-12T14:09:05"}]
[{"$f":"$A237+Planning!$D$2","v":"2017-03-13T14:09:05"}]
[{"$f":"$A238+Planning!$D$2","v":"2017-03-14T14:09:05"}]
[{"$f":"$A239+Planning!$D$2","v":"2017-03-15T14:09:05"}]
[{"$f":"$A240+Planning!$D$2","v":"2017-03-16T14:09:05"}]
[{"$f":"$A241+Planning!$D$2","v":"2017-03-17T14:09:05"}]
[{"$f":"$A242+Planning!$D$2","v":"2017-03-18T14:09:05"}]
[{"$f":"$A243+Planning!$D$2","v":"2017-03-19T14:09:05"}]
[{"$f":"$A244+Planning!$D$2","v":"2017-03-20T14:09:05"}]
[{"$f":"$A245+Planning!$D$2","v":"2017-03-21T14:09:05"}]
[{"$f":"$A246+Planning!$D$2","v":"2017-03-22T14:09:05"}]
[{"$f":"$A247+Planning!$D$2","v":"2017-03-23T14:09:05"}]
[{"$f":"$A248+Planning!$D$2","v":"2017-03-24T14:09:05"}]
[{"$f":"$A249+Planning!$D$2","v":"2017-03-25T14:09:05"}]
[{"$f":"$A250+Planning!$D$2","v":"2017-03-26T14:09:05"}]
[{"$f":"$A251+Planning!$D$2","v":"2017-03-27T14:09:05"}]
[{"$f":"$A252+Planning!$D$2","v":"2017-03-28T14:09:05"}]
[{"$f":"$A253+Planning!$D$2","v":"2017-03-29T14:09:05"}]
[{"$f":"$A254+Planning!$D$2","v":"2017-03-30T14:09:05"}]
[{"$f":"$A255+Planning!$D$2","v":"2017-03-31T14:09:05"}]
[{"$f":"$A256+Planning!$D$2","v":"2017-04-01T14:09:05"}]
[{"$f":"$A257+Planning!$D$2","v":"2017-04-02T14:09:05"}]
[{"$f":"$A258+Planning!$D$2","v":"2017-04-03T14:09:05"}]
[{"$f":"$A259+Planning!$D$2","v":"2017-04-04T14:09:05"}]
[{"$f":"$A260+Planning!$D$2","v":"2017-04-05T14:09:05"}]
[{"$f":"$A261+Planning!$D$2","v":"2017-04-06T14:09:05"}]
[{"$f":"$A262+Planning!$D$2","v":"2017-04-07T14:09:05"}]
[{"$f":"$A263+Planning!$D$2","v":"2017-04-08T14:09:05"}]
[{"$f":"$A264+Planning!$D$2","v":"2017-04-09T14:09:05"}]
[{"$f":"$A265+Planning!$D$2","v":"2017-04-10T14:09:05"}]
[{"$f":"$A266+Planning!$D$2","v":"2017-04-11T14:09:05"}]
[{"$f":"$A267+Planning!$D$2","v":"2017-04-12T14:09:05"}]
[{"$f":"$A268+Planning!$D$2","v":"2017-04-13T14:09:05"}]
[{"$f":"$A269+Planning!$D$2","v":"2017-04-14T14:09:05"}]
[{"$f":"$A270+Planning!$D$2","v":"2017-04-15T14:09:05"}]
[{"$f":"$A271+Planning!$D$2","v":"2017-04-16T14:09:05"}]
[{"$f":"$A272+Planning!$D$2","v":"2017-04-17T14:09:05"}]
[{"$f":"$A273+Planning!$D$2","v":"2017-04-18T14:09:05"}]
[{"$f":"$A274+Planning!$D$2","v":"2017-04-19T14:09:05"}]
[{"$f":"$A275+Planning!$D$2","v":"2017-04-20T14:09:05"}]
[{"$f":"$A276+Planning!$D$2","v":"2017-04-21T14:09:05"}]
[{"$f":"$A277+Planning!$D$2","v":"2017-04-22T14:09:05"}]
[{"$f":"$A278+Planning!$D$2","v":"2017-04-23T14:09:05"}]
[{"$f":"$A279+Planning!$D$2","v":"2017-04-24T14:09:05"}]
[{"$f":"$A280+Planning!$D$2","v":"2017-04-25T14:09:05"}]
[{"$f":"$A281+Planning!$D$2","v":"2017-04-26T14:09:05"}]
[{"$f":"$A282+Planning!$D$2","v":"2017-04-27T14:09:05"}]
[{"$f":"$A283+Planning!$D$2","v":"2017-04-28T14:09:05"}]
[{"$f":"$A284+Planning!$D$2","v":"2017-04-29T14:09:05"}]
[{"$f":"$A285+Planning!$D$2","v":"2017-04-30T14:09:05"}]
[{"$f":"$A286+Planning!$D$2","v":"2017-05-01T14:09:05"}]
[{"$f":"$A287+Planning!$D$2","v":"2017-05-02T14:09:05"}]
[{"$f":"$A288+Planning!$D$2","v":"2017-05-03T14:09:05"}]
[{"$f":"$A289+Planning!$D$2","v":"2017-05-04T14:09:05"}]
[{"$f":"$A290+Planning!$D$2","v":"2017-05-05T14:09:05"}]
[{"$f":"$A291+Planning!$D$2","v":"2017-05-06T14:09:05"}]
[{"$f":"$A292+Planning!$D$2","v":"2017-05-07T14:09:05"}]
[{"$f":"$A293+Planning!$D$2","v":"2017-05-08T14:09:05"}]
[{"$f":"$A294+Planning!$D$2","v":"2017-05-09T14:09:05"}]
[{"$f":"$A295+Planning!$D$2","v":"2017-05-10T14:09:05"}]
[{"$f":"$A296+Planning!$D$2","v":"2017-05-11T14:09:05"}]
[{"$f":"$A297+Planning!$D$2","v":"2017-05-12T14:09:05"}]
[{"$f":"$A298+Planning!$D$2","v":"2017-05-13T14:09:05"}]
[{"$f":"$A299+Planning!$D$2","v":"2017-05-14T14:09:05"}]
[{"$f":"$A300+Planning!$D$2","v":"2017-05-15T14:09:05"}]
[{"$f":"$A301+Planning!$D$2","v":"2017-05-16T14:09:05"}]
[{"$f":"$A302+Planning!$D$2","v":"2017-05-17T14:09:05"}]
[{"$f":"$A303+Planning!$D$2","v":"2017-05-18T14:09:05"}]
[{"$f":"$A304+Planning!$D$2","v":"2017-05-19T14:09:05"}]
[{"$f":"$A305+Planning!$D$2","v":"2017-05-20T14:09:05"}]
[{"$f":"$A306+Planning!$D$2","v":"2017-05-21T14:09:05"}]
[{"$f":"$A307+Planning!$D$2","v":"2017-05-22T14:09:05"}]
[{"$f":"$A308+Planning!$D$2","v":"2017-05-23T14:09:05"}]
[{"$f":"$A309+Planning!$D$2","v":"2017-05-24T14:09:05"}]
[{"$f":"$A310+Planning!$D$2","v":"2017-05-25T14:09:05"}]
[{"$f":"$A311+Planning!$D$2","v":"2017-05-26T14:09:05"}]
[{"$f":"$A312+Planning!$D$2","v":"2017-05-27T14:09:05"}]
[{"$f":"$A313+Planning!$D$2","v":"2017-05-28T14:09:05"}]
[{"$f":"$A314+Planning!$D$2","v":"2017-05-29T14:09:05"}]
[{"$f":"$A315+Planning!$D$2","v":"2017-05-30T14:09:05"}]
[{"$f":"$A316+Planning!$D$2","v":"2017-05-31T14:09:05"}]
[{"$f":"$A317+Planning!$D$2","v":"2017-06-01T14:09:05"}]
[{"$f":"$A318+Planning!$D$2","v":"2017-06-02T14:09:05"}]
[{"$f":"$A319+Planning!$D$2","v":"2017-06-03T14:09:05"}]
[{"$f":"$A320+Planning!$D$2","v":"2017-06-04T14:09:05"}]
[{"$f":"$A321+Planning!$D$2","v":"2017-06-05T14:09:05"}]
[{"$f":"$A322+Planning!$D$2","v":"2017-06-06T14:09:05"}]
[{"$f":"$A323+Planning!$D$2","v":"2017-06-07T14:09:05"}]
[{"$f":"$A324+Planning!$D$2","v":"2017-06-08T14:09:05"}]
[{"$f":"$A325+Planning!$D$2","v":"2017-06-09T14:09:05"}]
[{"$f":"$A326+Planning!$D$2","v":"2017-06-10T14:09:05"}]
[{"$f":"$A327+Planning!$D$2","v":"2017-06-11T14:09:05"}]
[{"$f":"$A328+Planning!$D$2","v":"2017-06-12T14:09:05"}]
[{"$f":"$A329+Planning!$D$2","v":"2017-06-13T14:09:05"}]
[{"$f":"$A330+Planning!$D$2","v":"2017-06-14T14:09:05"}]
[{"$f":"$A331+Planning!$D$2","v":"2017-06-15T14:09:05"}]
[{"$f":"$A332+Planning!$D$2","v":"2017-06-16T14:09:05"}]
[{"$f":"$A333+Planning!$D$2","v":"2017-06-17T14:09:05"}]
[{"$f":"$A334+Planning!$D$2","v":"2017-06-18T14:09:05"}]
[{"$f":"$A335+Planning!$D$2","v":"2017-06-19T14:09:05"}]
[{"$f":"$A336+Planning!$D$2","v":"2017-06-20T14:09:05"}]
[{"$f":"$A337+Planning!$D$2","v":"2017-06-21T14:09:05"}]
[{"$f":"$A338+Planning!$D$2","v":"2017-06-22T14:09:05"}]
[{"$f":"$A339+Planning!$D$2","v":"2017-06-23T14:09:05"}]
[{"$f":"$A340+Planning!$D$2","v":"2017-06-24T14:09:05"}]
[{"$f":"$A341+Planning!$D$2","v":"2017-06-25T14:09:05"}]
[{"$f":"$A342+Planning!$D$2","v":"2017-06-26T14:09:05"}]
[{"$f":"$A343+Planning!$D$2","v":"2017-06-27T14:09:05"}]
[{"$f":"$A344+Planning!$D$2","v":"2017-06-28T14:09:05"}]
[{"$f":"$A345+Planning!$D$2","v":"2017-06-29T14:09:05"}]
[{"$f":"$A346+Planning!$D$2","v":"2017-06-30T14:09:05"}]
[{"$f":"$A347+Planning!$D$2","v":"2017-07-01T14:09:05"}]
[{"$f":"$A348+Planning!$D$2","v":"2017-07-02T14:09:05"}]
[{"$f":"$A349+Planning!$D$2","v":"2017-07-03T14:09:05"}]
[{"$f":"$A350+Planning!$D$2","v":"2017-07-04T14:09:05"}]
[{"$f":"$A351+Planning!$D$2","v":"2017-07-05T14:09:05"}]
[{"$f":"$A352+Planning!$D$2","v":"2017-07-06T14:09:05"}]
[{"$f":"$A353+Planning!$D$2","v":"2017-07-07T14:09:05"}]
[{"$f":"$A354+Planning!$D$2","v":"2017-07-08T14:09:05"}]
[{"$f":"$A355+Planning!$D$2","v":"2017-07-09T14:09:05"}]
[{"$f":"$A356+Planning!$D$2","v":"2017-07-10T14:09:05"}]
[{"$f":"$A357+Planning!$D$2","v":"2017-07-11T14:09:05"}]
[{"$f":"$A358+Planning!$D$2","v":"2017-07-12T14:09:05"}]
[{"$f":"$A359+Planning!$D$2","v":"2017-07-13T14:09:05"}]
[{"$f":"$A360+Planning!$D$2","v":"2017-07-14T14:09:05"}]
[{"$f":"$A361+Planning!$D$2","v":"2017-07-15T14:09:05"}]
[{"$f":"$A362+Planning!$D$2","v":"2017-07-16T14:09:05"}]
[{"$f":"$A363+Planning!$D$2","v":"2017-07-17T14:09:05"}]
[{"$f":"$A364+Planning!$D$2","v":"2017-07-18T14:09:05"}]
[{"$f":"$A365+Planning!$D$2","v":"2017-07-19T14:09:05"}]
[{"$f":"$A366+Planning!$D$2","v":"2017-07-20T14:09:05"}]
[{"$f":"$A367+Planning!$D$2","v":"2017-07-21T14:09:05"}]
[{"$f":"$A368+Planning!$D$2","v":"2017-07-22T14:09:05"}]
[{"$f":"$A369+Planning!$D$2","v":"2017-07-23T14:09:05"}]
[{"$f":"$A370+Planning!$D$2","v":"2017-07-24T14:09:05"}]
[{"$f":"$A371+Planning!$D$2","v":"2017-07-25T14:09:05"}]
[{"$f":"$A372+Planning!$D$2","v":"2017-07-26T14:09:05"}]
[{"$f":"$A373+Planning!$D$2","v":"2017-07-27T14:09:05"}]
[{"$f":"$A374+Planning!$D$2","v":"2017-07-28T14:09:05"}]
[{"$f":"$A375+Planning!$D$2","v":"2017-07-29T14:09:05"}]
[{"$f":"$A376+Planning!$D$2","v":"2017-07-30T14:09:05"}]
[{"$f":"$A377+Planning!$D$2","v":"2017-07-31T14:09:05"}]
[{"$f":"$A378+Planning!$D$2","v":"2017-08-01T14:09:05"}]
[{"$f":"$A379+Planning!$D$2","v":"2017-08-02T14:09:05"}]
[{"$f":"$A380+Planning!$D$2","v":"2017-08-03T14:09:05"}]
[{"$f":"$A381+Planning!$D$2","v":"2017-08-04T14:09:05"}]
[{"$f":"$A382+Planning!$D$2","v":"2017-08-05T14:09:05"}]
[{"$f":"$A383+Planning!$D$2","v":"2017-08-06T14:09:05"}]
[{"$f":"$A384+Planning!$D$2","v":"2017-08-07T14:09:05"}]
[{"$f":"$A385+Planning!$D$2","v":"2017-08-08T14:09:05"}]
[{"$f":"$A386+Planning!$D$2","v":"2017-08-09T14:09:05"}]
[{"$f":"$A387+Planning!$D$2","v":"2017-08-10T14:09:05"}]
[{"$f":"$A388+Planning!$D$2","v":"2017-08-11T14:09:05"}]
[{"$f":"$A389+Planning!$D$2","v":"2017-08-12T14:09:05"}]
[{"$f":"$A390+Planning!$D$2","v":"2017-08-13T14:09:05"}]
[{"$f":"$A391+Planning!$D$2","v":"2017-08-14T14:09:05"}]
[{"$f":"$A392+Planning!$D$2","v":"2017-08-15T14:09:05"}]
[{"$f":"$A393+Planning!$D$2","v":"2017-08-16T14:09:05"}]
[{"$f":"$A394+Planning!$D$2","v":"2017-08-17T14:09:05"}]
[{"$f":"$A395+Planning!$D$2","v":"2017-08-18T14:09:05"}]
[{"$f":"$A396+Planning!$D$2","v":"2017-08-19T14:09:05"}]
[{"$f":"$A397+Planning!$D$2","v":"2017-08-20T14:09:05"}]
[{"$f":"$A398+Planning!$D$2","v":"2017-08-21T14:09:05"}]
[{"$f":"$A399+Planning!$D$2","v":"2017-08-22T14:09:05"}]
[{"$f":"$A400+Planning!$D$2","v":"2017-08-23T14:09:05"}]
[{"$f":"$A401+Planning!$D$2","v":"2017-08-24T14:09:05"}]
[{"$f":"$A402+Planning!$D$2","v":"2017-08-25T14:09:05"}]
[{"$f":"$A403+Planning!$D$2","v":"2017-08-26T14:09:05"}]
[{"$f":"$A404+Planning!$D$2","v":"2017-08-27T14:09:05"}]
[{"$f":"$A405+Planning!$D$2","v":"2017-08-28T14:09:05"}]
[{"$f":"$A406+Planning!$D$2","v":"2017-08-29T14:09:05"}]
[{"$f":"$A407+Planning!$D$2","v":"2017-08-30T14:09:05"}]
[{"$f":"$A408+Planning!$D$2","v":"2017-08-31T14:09:05"}]
[{"$f":"$A409+Planning!$D$2","v":"2017-09-01T14:09:05"}]
[{"$f":"$A410+Planning!$D$2","v":"2017-09-02T14:09:05"}]
[{"$f":"$A411+Planning!$D$2","v":"2017-09-03T14:09:05"}]
[{"$f":"$A412+Planning!$D$2","v":"2017-09-04T14:09:05"}]
[{"$f":"$A413+Planning!$D$2","v":"2017-09-05T14:09:05"}]
[{"$f":"$A414+Planning!$D$2","v":"2017-09-06T14:09:05"}]
[{"$f":"$A415+Planning!$D$2","v":"2017-09-07T14:09:05"}]
[{"$f":"$A416+Planning!$D$2","v":"2017-09-08T14:09:05"}]
[{"$f":"$A417+Planning!$D$2","v":"2017-09-09T14:09:05"}]
[{"$f":"$A418+Planning!$D$2","v":"2017-09-10T14:09:05"}]
[{"$f":"$A419+Planning!$D$2","v":"2017-09-11T14:09:05"}]
[{"$f":"$A420+Planning!$D$2","v":"2017-09-12T14:09:05"}]
[{"$f":"$A421+Planning!$D$2","v":"2017-09-13T14:09:05"}]
[{"$f":"$A422+Planning!$D$2","v":"2017-09-14T14:09:05"}]
[{"$f":"$A423+Planning!$D$2","v":"2017-09-15T14:09:05"}]
[{"$f":"$A424+Planning!$D$2","v":"2017-09-16T14:09:05"}]
[{"$f":"$A425+Planning!$D$2","v":"2017-09-17T14:09:05"}]
[{"$f":"$A426+Planning!$D$2","v":"2017-09-18T14:09:05"}]
[{"$f":"$A427+Planning!$D$2","v":"2017-09-19T14:09:05"}]
[{"$f":"$A428+Planning!$D$2","v":"2017-09-20T14:09:05"}]
[{"$f":"$A429+Planning!$D$2","v":"2017-09-21T14:09:05"}]
[{"$f":"$A430+Planning!$D$2","v":"2017-09-22T14:09:05"}]
[{"$f":"$A431+Planning!$D$2","v":"2017-09-23T14:09:05"}]
[{"$f":"$A432+Planning!$D$2","v":"2017-09-24T14:09:05"}]
[{"$f":"$A433+Planning!$D$2","v":"2017-09-25T14:09:05"}]
[{"$f":"$A434+Planning!$D$2","v":"2017-09-26T14:09:05"}]
[{"$f":"$A435+Planning!$D$2","v":"2017-09-27T14:09:05"}]
[{"$f":"$A436+Planning!$D$2","v":"2017-09-28T14:09:05"}]
[{"$f":"$A437+Planning!$D$2","v":"2017-09-29T14:09:05"}]
[{"$f":"$A438+Planning!$D$2","v":"2017-09-30T14:09:05"}]
[{"$f":"$A439+Planning!$D$2","v":"2017-10-01T14:09:05"}]
[{"$f":"$A440+Planning!$D$2","v":"2017-10-02T14:09:05"}]
[{"$f":"$A441+Planning!$D$2","v":"2017-10-03T14:09:05"}]
[{"$f":"$A442+Planning!$D$2","v":"2017-10-04T14:09:05"}]
[{"$f":"$A443+Planning!$D$2","v":"2017-10-05T14:09:05"}]
[{"$f":"$A444+Planning!$D$2","v":"2017-10-06T14:09:05"}]
[{"$f":"$A445+Planning!$D$2","v":"2017-10-07T14:09:05"}]
[{"$f":"$A446+Planning!$D$2","v":"2017-10-08T14:09:05"}]
[{"$f":"$A447+Planning!$D$2","v":"2017-10-09T14:09:05"}]
[{"$f":"$A448+Planning!$D$2","v":"2017-10-10T14:09:05"}]
[{"$f":"$A449+Planning!$D$2","v":"2017-10-11T14:09:05"}]
[{"$f":"$A450+Planning!$D$2","v":"2017-10-12T14:09:05"}]
[{"$f":"$A451+Planning!$D$2","v":"2017-10-13T14:09:05"}]
[{"$f":"$A452+Planning!$D$2","v":"2017-10-14T14:09:05"}]
[{"$f":"$A453+Planning!$D$2","v":"2017-10-15T14:09:05"}]
[{"$f":"$A454+Planning!$D$2","v":"2017-10-16T14:09:05"}]
[{"$f":"$A455+Planning!$D$2","v":"2017-10-17T14:09:05"}]
[{"$f":"$A456+Planning!$D$2","v":"2017-10-18T14:09:05"}]
[{"$f":"$A457+Planning!$D$2","v":"2017-10-19T14:09:05"}]
[{"$f":"$A458+Planning!$D$2","v":"2017-10-20T14:09:05"}]
[{"$f":"$A459+Planning!$D$2","v":"2017-10-21T14:09:05"}]
[{"$f":"$A460+Planning!$D$2","v":"2017-10-22T14:09:05"}]
[{"$f":"$A461+Planning!$D$2","v":"2017-10-23T14:09:05"}]
[{"$f":"$A462+Planning!$D$2","v":"2017-10-24T14:09:05"}]
[{"$f":"$A463+Planning!$D$2","v":"2017-10-25T14:09:05"}]
[{"$f":"$A464+Planning!$D$2","v":"2017-10-26T14:09:05"}]
[{"$f":"$A465+Planning!$D$2","v":"2017-10-27T14:09:05"}]
[{"$f":"$A466+Planning!$D$2","v":"2017-10-28T14:09:05"}]
[{"$f":"$A467+Planning!$D$2","v":"2017-10-29T14:09:05"}]
[{"$f":"$A468+Planning!$D$2","v":"2017-10-30T14:09:05"}]
[{"$f":"$A469+Planning!$D$2","v":"2017-10-31T14:09:05"}]
[{"$f":"$A470+Planning!$D$2","v":"2017-11-01T14:09:05"}]
[{"$f":"$A471+Planning!$D$2","v":"2017-11-02T14:09:05"}]
[{"$f":"$A472+Planning!$D$2","v":"2017-11-03T14:09:05"}]
[{"$f":"$A473+Planning!$D$2","v":"2017-11-04T14:09:05"}]
[{"$f":"$A474+Planning!$D$2","v":"2017-11-05T14:09:05"}]
[{"$f":"$A475+Planning!$D$2","v":"2017-11-06T14:09:05"}]
[{"$f":"$A476+Planning!$D$2","v":"2017-11-07T14:09:05"}]
[{"$f":"$A477+Planning!$D$2","v":"2017-11-08T14:09:05"}]
[{"$f":"$A478+Planning!$D$2","v":"2017-11-09T14:09:05"}]
[{"$f":"$A479+Planning!$D$2","v":"2017-11-10T14:09:05"}]
[{"$f":"$A480+Planning!$D$2","v":"2017-11-11T14:09:05"}]
[{"$f":"$A481+Planning!$D$2","v":"2017-11-12T14:09:05"}]
[{"$f":"$A482+Planning!$D$2","v":"2017-11-13T14:09:05"}]
[{"$f":"$A483+Planning!$D$2","v":"2017-11-14T14:09:05"}]
[{"$f":"$A484+Planning!$D$2","v":"2017-11-15T14:09:05"}]
[{"$f":"$A485+Planning!$D$2","v":"2017-11-16T14:09:05"}]
[{"$f":"$A486+Planning!$D$2","v":"2017-11-17T14:09:05"}]
[{"$f":"$A487+Planning!$D$2","v":"2017-11-18T14:09:05"}]
[{"$f":"$A488+Planning!$D$2","v":"2017-11-19T14:09:05"}]
[{"$f":"$A489+Planning!$D$2","v":"2017-11-20T14:09:05"}]
[{"$f":"$A490+Planning!$D$2","v":"2017-11-21T14:09:05"}]
[{"$f":"$A491+Planning!$D$2","v":"2017-11-22T14:09:05"}]
[{"$f":"$A492+Planning!$D$2","v":"2017-11-23T14:09:05"}]
[{"$f":"$A493+Planning!$D$2","v":"2017-11-24T14:09:05"}]
[{"$f":"$A494+Planning!$D$2","v":"2017-11-25T14:09:05"}]
[{"$f":"$A495+Planning!$D$2","v":"2017-11-26T14:09:05"}]
[{"$f":"$A496+Planning!$D$2","v":"2017-11-27T14:09:05"}]
[{"$f":"$A497+Planning!$D$2","v":"2017-11-28T14:09:05"}]
[{"$f":"$A498+Planning!$D$2","v":"2017-11-29T14:09:05"}]
[{"$f":"$A499+Planning!$D$2","v":"2017-11-30T14:09:05"}]
[{"$f":"$A500+Planning!$D$2","v":"2017-12-01T14:09:05"}]
[{"$f":"$A501+Planning!$D$2","v":"2017-12-02T14:09:05"}]
[{"$f":"$A502+Planning!$D$2","v":"2017-12-03T14:09:05"}]
[{"$f":"$A503+Planning!$D$2","v":"2017-12-04T14:09:05"}]
[{"$f":"$A504+Planning!$D$2","v":"2017-12-05T14:09:05"}]
[{"$f":"$A505+Planning!$D$2","v":"2017-12-06T14:09:05"}]
[{"$f":"$A506+Planning!$D$2","v":"2017-12-07T14:09:05"}]
[{"$f":"$A507+Planning!$D$2","v":"2017-12-08T14:09:05"}]
[{"$f":"$A508+Planning!$D$2","v":"2017-12-09T14:09:05"}]
[{"$f":"$A509+Planning!$D$2","v":"2017-12-10T14:09:05"}]
[{"$f":"$A510+Planning!$D$2","v":"2017-12-11T14:09:05"}]
[{"$f":"$A511+Planning!$D$2","v":"2017-12-12T14:09:05"}]
[{"$f":"$A512+Planning!$D$2","v":"2017-12-13T14:09:05"}]
[{"$f":"$A513+Planning!$D$2","v":"2017-12-14T14:09:05"}]
[{"$f":"$A514+Planning!$D$2","v":"2017-12-15T14:09:05"}]
[{"$f":"$A515+Planning!$D$2","v":"2017-12-16T14:09:05"}]
[{"$f":"$A516+Planning!$D$2","v":"2017-12-17T14:09:05"}]
[{"$f":"$A517+Planning!$D$2","v":"2017-12-18T14:09:05"}]
[{"$f":"$A518+Planning!$D$2","v":"2017-12-19T14:09:05"}]
[{"$f":"$A519+Planning!$D$2","v":"2017-12-20T14:09:05"}]
[{"$f":"$A520+Planning!$D$2","v":"2017-12-21T14:09:05"}]
[{"$f":"$A521+Planning!$D$2","v":"2017-12-22T14:09:05"}]
[{"$f":"$A522+Planning!$D$2","v":"2017-12-23T14:09:05"}]
[{"$f":"$A523+Planning!$D$2","v":"2017-12-24T14:09:05"}]
[{"$f":"$A524+Planning!$D$2","v":"2017-12-25T14:09:05"}]
[{"$f":"$A525+Planning!$D$2","v":"2017-12-26T14:09:05"}]
[{"$f":"$A526+Planning!$D$2","v":"2017-12-27T14:09:05"}]
[{"$f":"$A527+Planning!$D$2","v":"2017-12-28T14:09:05"}]
[{"$f":"$A528+Planning!$D$2","v":"2017-12-29T14:09:05"}]
[{"$f":"$A529+Planning!$D$2","v":"2017-12-30T14:09:05"}]
[{"$f":"$A530+Planning!$D$2","v":"2017-12-31T14:09:05"}]
[{"$f":"$A531+Planning!$D$2","v":"2018-01-01T14:09:05"}]
[{"$f":"$A532+Planning!$D$2","v":"2018-01-02T14:09:05"}]
[{"$f":"$A533+Planning!$D$2","v":"2018-01-03T14:09:05"}]
[{"$f":"$A534+Planning!$D$2","v":"2018-01-04T14:09:05"}]
[{"$f":"$A535+Planning!$D$2","v":"2018-01-05T14:09:05"}]
[{"$f":"$A536+Planning!$D$2","v":"2018-01-06T14:09:05"}]
[{"$f":"$A537+Planning!$D$2","v":"2018-01-07T14:09:05"}]
[{"$f":"$A538+Planning!$D$2","v":"2018-01-08T14:09:05"}]
[{"$f":"$A539+Planning!$D$2","v":"2018-01-09T14:09:05"}]
[{"$f":"$A540+Planning!$D$2","v":"2018-01-10T14:09:05"}]
[{"$f":"$A541+Planning!$D$2","v":"2018-01-11T14:09:05"}]
[{"$f":"$A542+Planning!$D$2","v":"2018-01-12T14:09:05"}]
[{"$f":"$A543+Planning!$D$2","v":"2018-01-13T14:09:05"}]
[{"$f":"$A544+Planning!$D$2","v":"2018-01-14T14:09:05"}]
[{"$f":"$A545+Planning!$D$2","v":"2018-01-15T14:09:05"}]
[{"$f":"$A546+Planning!$D$2","v":"2018-01-16T14:09:05"}]
[{"$f":"$A547+Planning!$D$2","v":"2018-01-17T14:09:05"}]
[{"$f":"$A548+Planning!$D$2","v":"2018-01-18T14:09:05"}]
[{"$f":"$A549+Planning!$D$2","v":"2018-01-19T14:09:05"}]
[{"$f":"$A550+Planning!$D$2","v":"2018-01-20T14:09:05"}]
[{"$f":"$A551+Planning!$D$2","v":"2018-01-21T14:09:05"}]
[{"$f":"$A552+Planning!$D$2","v":"2018-01-22T14:09:05"}]
[{"$f":"$A553+Planning!$D$2","v":"2018-01-23T14:09:05"}]
[{"$f":"$A554+Planning!$D$2","v":"2018-01-24T14:09:05"}]
[{"$f":"$A555+Planning!$D$2","v":"2018-01-25T14:09:05"}]
[{"$f":"$A556+Planning!$D$2","v":"2018-01-26T14:09:05"}]
[{"$f":"$A557+Planning!$D$2","v":"2018-01-27T14:09:05"}]
[{"$f":"$A558+Planning!$D$2","v":"2018-01-28T14:09:05"}]
[{"$f":"$A559+Planning!$D$2","v":"2018-01-29T14:09:05"}]
[{"$f":"$A560+Planning!$D$2","v":"2018-01-30T14:09:05"}]
[{"$f":"$A561+Planning!$D$2","v":"2018-01-31T14:09:05"}]
[{"$f":"$A562+Planning!$D$2","v":"2018-02-01T14:09:05"}]
[{"$f":"$A563+Planning!$D$2","v":"2018-02-02T14:09:05"}]
[{"$f":"$A564+Planning!$D$2","v":"2018-02-03T14:09:05"}]
[{"$f":"$A565+Planning!$D$2","v":"2018-02-04T14:09:05"}]
[{"$f":"$A566+Planning!$D$2","v":"2018-02-05T14:09:05"}]
[{"$f":"$A567+Planning!$D$2","v":"2018-02-06T14:09:05"}]
[{"$f":"$A568+Planning!$D$2","v":"2018-02-07T14:09:05"}]
[{"$f":"$A569+Planning!$D$2","v":"2018-02-08T14:09:05"}]
[{"$f":"$A570+Planning!$D$2","v":"2018-02-09T14:09:05"}]
[{"$f":"$A571+Planning!$D$2","v":"2018-02-10T14:09:05"}]
[{"$f":"$A572+Planning!$D$2","v":"2018-02-11T14:09:05"}]
[{"$f":"$A573+Planning!$D$2","v":"2018-02-12T14:09:05"}]
[{"$f":"$A574+Planning!$D$2","v":"2018-02-13T14:09:05"}]
[{"$f":"$A575+Planning!$D$2","v":"2018-02-14T14:09:05"}]
[{"$f":"$A576+Planning!$D$2","v":"2018-02-15T14:09:05"}]
[{"$f":"$A577+Planning!$D$2","v":"2018-02-16T14:09:05"}]
[{"$f":"$A578+Planning!$D$2","v":"2018-02-17T14:09:05"}]
[{"$f":"$A579+Planning!$D$2","v":"2018-02-18T14:09:05"}]
[{"$f":"$A580+Planning!$D$2","v":"2018-02-19T14:09:05"}]
[{"$f":"$A581+Planning!$D$2","v":"2018-02-20T14:09:05"}]
[{"$f":"$A582+Planning!$D$2","v":"2018-02-21T14:09:05"}]
[{"$f":"$A583+Planning!$D$2","v":"2018-02-22T14:09:05"}]
[{"$f":"$A584+Planning!$D$2","v":"2018-02-23T14:09:05"}]
[{"$f":"$A585+Planning!$D$2","v":"2018-02-24T14:09:05"}]
[{"$f":"$A586+Planning!$D$2","v":"2018-02-25T14:09:05"}]
[{"$f":"$A587+Planning!$D$2","v":"2018-02-26T14:09:05"}]
[{"$f":"$A588+Planning!$D$2","v":"2018-02-27T14:09:05"}]
[{"$f":"$A589+Planning!$D$2","v":"2018-02-28T14:09:05"}]
[{"$f":"$A590+Planning!$D$2","v":"2018-03-01T14:09:05"}]
[{"$f":"$A591+Planning!$D$2","v":"2018-03-02T14:09:05"}]
[{"$f":"$A592+Planning!$D$2","v":"2018-03-03T14:09:05"}]
[{"$f":"$A593+Planning!$D$2","v":"2018-03-04T14:09:05"}]
[{"$f":"$A594+Planning!$D$2","v":"2018-03-05T14:09:05"}]
[{"$f":"$A595+Planning!$D$2","v":"2018-03-06T14:09:05"}]
[{"$f":"$A596+Planning!$D$2","v":"2018-03-07T14:09:05"}]
[{"$f":"$A597+Planning!$D$2","v":"2018-03-08T14:09:05"}]
[{"$f":"$A598+Planning!$D$2","v":"2018-03-09T14:09:05"}]
[{"$f":"$A599+Planning!$D$2","v":"2018-03-10T14:09:05"}]
[{"$f":"$A600+Planning!$D$2","v":"2018-03-11T14:09:05"}]
[{"$f":"$A601+Planning!$D$2","v":"2018-03-12T14:09:05"}]
[{"$f":"$A602+Planning!$D$2","v":"2018-03-13T14:09:05"}]
[{"$f":"$A603+Planning!$D$2","v":"2018-03-14T14:09:05"}]
[{"$f":"$A604+Planning!$D$2","v":"2018-03-15T14:09:05"}]
[{"$f":"$A605+Planning!$D$2","v":"2018-03-16T14:09:05"}]
[{"$f":"$A606+Planning!$D$2","v":"2018-03-17T14:09:05"}]
[{"$f":"$A607+Planning!$D$2","v":"2018-03-18T14:09:05"}]
[{"$f":"$A608+Planning!$D$2","v":"2018-03-19T14:09:05"}]
[{"$f":"$A609+Planning!$D$2","v":"2018-03-20T14:09:05"}]
[{"$f":"$A610+Planning!$D$2","v":"2018-03-21T14:09:05"}]
[{"$f":"$A611+Planning!$D$2","v":"2018-03-22T14:09:05"}]
[{"$f":"$A612+Planning!$D$2","v":"2018-03-23T14:09:05"}]
[{"$f":"$A613+Planning!$D$2","v":"2018-03-24T14:09:05"}]
[{"$f":"$A614+Planning!$D$2","v":"2018-03-25T14:09:05"}]
[{"$f":"$A615+Planning!$D$2","v":"2018-03-26T14:09:05"}]
[{"$f":"$A616+Planning!$D$2","v":"2018-03-27T14:09:05"}]
[{"$f":"$A617+Planning!$D$2","v":"2018-03-28T14:09:05"}]
[{"$f":"$A618+Planning!$D$2","v":"2018-03-29T14:09:05"}]
[{"$f":"$A619+Planning!$D$2","v":"2018-03-30T14:09:05"}]
[{"$f":"$A620+Planning!$D$2","v":"2018-03-31T14:09:05"}]
[{"$f":"$A621+Planning!$D$2","v":"2018-04-01T14:09:05"}]
[{"$f":"$A622+Planning!$D$2","v":"2018-04-02T14:09:05"}]
[{"$f":"$A623+Planning!$D$2","v":"2018-04-03T14:09:05"}]
[{"$f":"$A624+Planning!$D$2","v":"2018-04-04T14:09:05"}]
[{"$f":"$A625+Planning!$D$2","v":"2018-04-05T14:09:05"}]
[{"$f":"$A626+Planning!$D$2","v":"2018-04-06T14:09:05"}]
[{"$f":"$A627+Planning!$D$2","v":"2018-04-07T14:09:05"}]
[{"$f":"$A628+Planning!$D$2","v":"2018-04-08T14:09:05"}]
[{"$f":"$A629+Planning!$D$2","v":"2018-04-09T14:09:05"}]
[{"$f":"$A630+Planning!$D$2","v":"2018-04-10T14:09:05"}]
[{"$f":"$A631+Planning!$D$2","v":"2018-04-11T14:09:05"}]
[{"$f":"$A632+Planning!$D$2","v":"2018-04-12T14:09:05"}]
[{"$f":"$A633+Planning!$D$2","v":"2018-04-13T14:09:05"}]
[{"$f":"$A634+Planning!$D$2","v":"2018-04-14T14:09:05"}]
[{"$f":"$A635+Planning!$D$2","v":"2018-04-15T14:09:05"}]
[{"$f":"$A636+Planning!$D$2","v":"2018-04-16T14:09:05"}]
[{"$f":"$A637+Planning!$D$2","v":"2018-04-17T14:09:05"}]
[{"$f":"$A638+Planning!$D$2","v":"2018-04-18T14:09:05"}]
[{"$f":"$A639+Planning!$D$2","v":"2018-04-19T14:09:05"}]
[{"$f":"$A640+Planning!$D$2","v":"2018-04-20T14:09:05"}]
[{"$f":"$A641+Planning!$D$2","v":"2018-04-21T14:09:05"}]
[{"$f":"$A642+Planning!$D$2","v":"2018-04-22T14:09:05"}]
[{"$f":"$A643+Planning!$D$2","v":"2018-04-23T14:09:05"}]
[{"$f":"$A644+Planning!$D$2","v":"2018-04-24T14:09:05"}]
[{"$f":"$A645+Planning!$D$2","v":"2018-04-25T14:09:05"}]
[{"$f":"$A646+Planning!$D$2","v":"2018-04-26T14:09:05"}]
[{"$f":"$A647+Planning!$D$2","v":"2018-04-27T14:09:05"}]
[{"$f":"$A648+Planning!$D$2","v":"2018-04-28T14:09:05"}]
[{"$f":"$A649+Planning!$D$2","v":"2018-04-29T14:09:05"}]
[{"$f":"$A650+Planning!$D$2","v":"2018-04-30T14:09:05"}]
[{"$f":"$A651+Planning!$D$2","v":"2018-05-01T14:09:05"}]
[{"$f":"$A652+Planning!$D$2","v":"2018-05-02T14:09:05"}]
[{"$f":"$A653+Planning!$D$2","v":"2018-05-03T14:09:05"}]
[{"$f":"$A654+Planning!$D$2","v":"2018-05-04T14:09:05"}]
[{"$f":"$A655+Planning!$D$2","v":"2018-05-05T14:09:05"}]
[{"$f":"$A656+Planning!$D$2","v":"2018-05-06T14:09:05"}]
[{"$f":"$A657+Planning!$D$2","v":"2018-05-07T14:09:05"}]
[{"$f":"$A658+Planning!$D$2","v":"2018-05-08T14:09:05"}]
[{"$f":"$A659+Planning!$D$2","v":"2018-05-09T14:09:05"}]
[{"$f":"$A660+Planning!$D$2","v":"2018-05-10T14:09:05"}]
[{"$f":"$A661+Planning!$D$2","v":"2018-05-11T14:09:05"}]
[{"$f":"$A662+Planning!$D$2","v":"2018-05-12T14:09:05"}]
[{"$f":"$A663+Planning!$D$2","v":"2018-05-13T14:09:05"}]
[{"$f":"$A664+Planning!$D$2","v":"2018-05-14T14:09:05"}]
[{"$f":"$A665+Planning!$D$2","v":"2018-05-15T14:09:05"}]
[{"$f":"$A666+Planning!$D$2","v":"2018-05-16T14:09:05"}]
[{"$f":"$A667+Planning!$D$2","v":"2018-05-17T14:09:05"}]
[{"$f":"$A668+Planning!$D$2","v":"2018-05-18T14:09:05"}]
[{"$f":"$A669+Planning!$D$2","v":"2018-05-19T14:09:05"}]
[{"$f":"$A670+Planning!$D$2","v":"2018-05-20T14:09:05"}]
[{"$f":"$A671+Planning!$D$2","v":"2018-05-21T14:09:05"}]
[{"$f":"$A672+Planning!$D$2","v":"2018-05-22T14:09:05"}]
[{"$f":"$A673+Planning!$D$2","v":"2018-05-23T14:09:05"}]
[{"$f":"$A674+Planning!$D$2","v":"2018-05-24T14:09:05"}]
[{"$f":"$A675+Planning!$D$2","v":"2018-05-25T14:09:05"}]
[{"$f":"$A676+Planning!$D$2","v":"2018-05-26T14:09:05"}]
[{"$f":"$A677+Planning!$D$2","v":"2018-05-27T14:09:05"}]
[{"$f":"$A678+Planning!$D$2","v":"2018-05-28T14:09:05"}]
[{"$f":"$A679+Planning!$D$2","v":"2018-05-29T14:09:05"}]
[{"$f":"$A680+Planning!$D$2","v":"2018-05-30T14:09:05"}]
[{"$f":"$A681+Planning!$D$2","v":"2018-05-31T14:09:05"}]
[{"$f":"$A682+Planning!$D$2","v":"2018-06-01T14:09:05"}]
[{"$f":"$A683+Planning!$D$2","v":"2018-06-02T14:09:05"}]
[{"$f":"$A684+Planning!$D$2","v":"2018-06-03T14:09:05"}]
[{"$f":"$A685+Planning!$D$2","v":"2018-06-04T14:09:05"}]
[{"$f":"$A686+Planning!$D$2","v":"2018-06-05T14:09:05"}]
[{"$f":"$A687+Planning!$D$2","v":"2018-06-06T14:09:05"}]
[{"$f":"$A688+Planning!$D$2","v":"2018-06-07T14:09:05"}]
[{"$f":"$A689+Planning!$D$2","v":"2018-06-08T14:09:05"}]
[{"$f":"$A690+Planning!$D$2","v":"2018-06-09T14:09:05"}]
[{"$f":"$A691+Planning!$D$2","v":"2018-06-10T14:09:05"}]
[{"$f":"$A692+Planning!$D$2","v":"2018-06-11T14:09:05"}]
[{"$f":"$A693+Planning!$D$2","v":"2018-06-12T14:09:05"}]
[{"$f":"$A694+Planning!$D$2","v":"2018-06-13T14:09:05"}]
[{"$f":"$A695+Planning!$D$2","v":"2018-06-14T14:09:05"}]
[{"$f":"$A696+Planning!$D$2","v":"2018-06-15T14:09:05"}]
[{"$f":"$A697+Planning!$D$2","v":"2018-06-16T14:09:05"}]
[{"$f":"$A698+Planning!$D$2","v":"2018-06-17T14:09:05"}]
[{"$f":"$A699+Planning!$D$2","v":"2018-06-18T14:09:05"}]
[{"$f":"$A700+Planning!$D$2","v":"2018-06-19T14:09:05"}]
[{"$f":"$A701+Planning!$D$2","v":"2018-06-20T14:09:05"}]
[{"$f":"$A702+Planning!$D$2","v":"2018-06-21T14:09:05"}]
[{"$f":"$A703+Planning!$D$2","v":"2018-06-22T14:09:05"}]
[{"$f":"$A704+Planning!$D$2","v":"2018-06-23T14:09:05"}]
[{"$f":"$A705+Planning!$D$2","v":"2018-06-24T14:09:05"}]
[{"$f":"$A706+Planning!$D$2","v":"2018-06-25T14:09:05"}]
[{"$f":"$A707+Planning!$D$2","v":"2018-06-26T14:09:05"}]
[{"$f":"$A708+Planning!$D$2","v":"2018-06-27T14:09:05"}]
[{"$f":"$A709+Planning!$D$2","v":"2018-06-28T14:09:05"}]
[{"$f":"$A710+Planning!$D$2","v":"2018-06-29T14:09:05"}]
[{"$f":"$A711+Planning!$D$2","v":"2018-06-30T14:09:05"}]
[{"$f":"$A712+Planning!$D$2","v":"2018-07-01T14:09:05"}]
[{"$f":"$A713+Planning!$D$2","v":"2018-07-02T14:09:05"}]
[{"$f":"$A714+Planning!$D$2","v":"2018-07-03T14:09:05"}]
[{"$f":"$A715+Planning!$D$2","v":"2018-07-04T14:09:05"}]
[{"$f":"$A716+Planning!$D$2","v":"2018-07-05T14:09:05"}]
[{"$f":"$A717+Planning!$D$2","v":"2018-07-06T14:09:05"}]
[{"$f":"$A718+Planning!$D$2","v":"2018-07-07T14:09:05"}]
[{"$f":"$A719+Planning!$D$2","v":"2018-07-08T14:09:05"}]
[{"$f":"$A720+Planning!$D$2","v":"2018-07-09T14:09:05"}]
[{"$f":"$A721+Planning!$D$2","v":"2018-07-10T14:09:05"}]
[{"$f":"$A722+Planning!$D$2","v":"2018-07-11T14:09:05"}]
[{"$f":"$A723+Planning!$D$2","v":"2018-07-12T14:09:05"}]
[{"$f":"$A724+Planning!$D$2","v":"2018-07-13T14:09:05"}]
[{"$f":"$A725+Planning!$D$2","v":"2018-07-14T14:09:05"}]
[{"$f":"$A726+Planning!$D$2","v":"2018-07-15T14:09:05"}]
[{"$f":"$A727+Planning!$D$2","v":"2018-07-16T14:09:05"}]
[{"$f":"$A728+Planning!$D$2","v":"2018-07-17T14:09:05"}]
[{"$f":"$A729+Planning!$D$2","v":"2018-07-18T14:09:05"}]
[{"$f":"$A730+Planning!$D$2","v":"2018-07-19T14:09:05"}]
[{"$f":"$A731+Planning!$D$2","v":"2018-07-20T14:09:05"}]
[{"$f":"$A732+Planning!$D$2","v":"2018-07-21T14:09:05"}]
[{"$f":"$A733+Planning!$D$2","v":"2018-07-22T14:09:05"}]
[{"$f":"$A734+Planning!$D$2","v":"2018-07-23T14:09:05"}]
[{"$f":"$A735+Planning!$D$2","v":"2018-07-24T14:09:05"}]
[{"$f":"$A736+Planning!$D$2","v":"2018-07-25T14:09:05"}]
[{"$f":"$A737+Planning!$D$2","v":"2018-07-26T14:09:05"}]
[{"$f":"$A738+Planning!$D$2","v":"2018-07-27T14:09:05"}]
[{"$f":"$A739+Planning!$D$2","v":"2018-07-28T14:09:05"}]
[{"$f":"$A740+Planning!$D$2","v":"2018-07-29T14:09:05"}]
[{"$f":"$A741+Planning!$D$2","v":"2018-07-30T14:09:05"}]
[{"$f":"$A742+Planning!$D$2","v":"2018-07-31T14:09:05"}]
[{"$f":"$A743+Planning!$D$2","v":"2018-08-01T14:09:05"}]
[{"$f":"$A744+Planning!$D$2","v":"2018-08-02T14:09:05"}]
[{"$f":"$A745+Planning!$D$2","v":"2018-08-03T14:09:05"}]
[{"$f":"$A746+Planning!$D$2","v":"2018-08-04T14:09:05"}]
[{"$f":"$A747+Planning!$D$2","v":"2018-08-05T14:09:05"}]
[{"$f":"$A748+Planning!$D$2","v":"2018-08-06T14:09:05"}]
[{"$f":"$A749+Planning!$D$2","v":"2018-08-07T14:09:05"}]
[{"$f":"$A750+Planning!$D$2","v":"2018-08-08T14:09:05"}]
[{"$f":"$A751+Planning!$D$2","v":"2018-08-09T14:09:05"}]
[{"$f":"$A752+Planning!$D$2","v":"2018-08-10T14:09:05"}]
[{"$f":"$A753+Planning!$D$2","v":"2018-08-11T14:09:05"}]
[{"$f":"$A754+Planning!$D$2","v":"2018-08-12T14:09:05"}]
[{"$f":"$A755+Planning!$D$2","v":"2018-08-13T14:09:05"}]
[{"$f":"$A756+Planning!$D$2","v":"2018-08-14T14:09:05"}]
[{"$f":"$A757+Planning!$D$2","v":"2018-08-15T14:09:05"}]
[{"$f":"$A758+Planning!$D$2","v":"2018-08-16T14:09:05"}]
[{"$f":"$A759+Planning!$D$2","v":"2018-08-17T14:09:05"}]
[{"$f":"$A760+Planning!$D$2","v":"2018-08-18T14:09:05"}]
[{"$f":"$A761+Planning!$D$2","v":"2018-08-19T14:09:05"}]
[{"$f":"$A762+Planning!$D$2","v":"2018-08-20T14:09:05"}]
[{"$f":"$A763+Planning!$D$2","v":"2018-08-21T14:09:05"}]
[{"$f":"$A764+Planning!$D$2","v":"2018-08-22T14:09:05"}]
[{"$f":"$A765+Planning!$D$2","v":"2018-08-23T14:09:05"}]
[{"$f":"$A766+Planning!$D$2","v":"2018-08-24T14:09:05"}]
[{"$f":"$A767+Planning!$D$2","v":"2018-08-25T14:09:05"}]
[{"$f":"$A768+Planning!$D$2","v":"2018-08-26T14:09:05"}]
[{"$f":"$A769+Planning!$D$2","v":"2018-08-27T14:09:05"}]
[{"$f":"$A770+Planning!$D$2","v":"2018-08-28T14:09:05"}]
[{"$f":"$A771+Planning!$D$2","v":"2018-08-29T14:09:05"}]
[{"$f":"$A772+Planning!$D$2","v":"2018-08-30T14:09:05"}]
[{"$f":"$A773+Planning!$D$2","v":"2018-08-31T14:09:05"}]
[{"$f":"$A774+Planning!$D$2","v":"2018-09-01T14:09:05"}]
[{"$f":"$A775+Planning!$D$2","v":"2018-09-02T14:09:05"}]
[{"$f":"$A776+Planning!$D$2","v":"2018-09-03T14:09:05"}]
[{"$f":"$A777+Planning!$D$2","v":"2018-09-04T14:09:05"}]
[{"$f":"$A778+Planning!$D$2","v":"2018-09-05T14:09:05"}]
[{"$f":"$A779+Planning!$D$2","v":"2018-09-06T14:09:05"}]
[{"$f":"$A780+Planning!$D$2","v":"2018-09-07T14:09:05"}]
[{"$f":"$A781+Planning!$D$2","v":"2018-09-08T14:09:05"}]
[{"$f":"$A782+Planning!$D$2","v":"2018-09-09T14:09:05"}]
[{"$f":"$A783+Planning!$D$2","v":"2018-09-10T14:09:05"}]
[{"$f":"$A784+Planning!$D$2","v":"2018-09-11T14:09:05"}]
[{"$f":"$A785+Planning!$D$2","v":"2018-09-12T14:09:05"}]
[{"$f":"$A786+Planning!$D$2","v":"2018-09-13T14:09:05"}]
[{"$f":"$A787+Planning!$D$2","v":"2018-09-14T14:09:05"}]
[{"$f":"$A788+Planning!$D$2","v":"2018-09-15T14:09:05"}]
[{"$f":"$A789+Planning!$D$2","v":"2018-09-16T14:09:05"}]
[{"$f":"$A790+Planning!$D$2","v":"2018-09-17T14:09:05"}]
[{"$f":"$A791+Planning!$D$2","v":"2018-09-18T14:09:05"}]
[{"$f":"$A792+Planning!$D$2","v":"2018-09-19T14:09:05"}]
[{"$f":"$A793+Planning!$D$2","v":"2018-09-20T14:09:05"}]
[{"$f":"$A794+Planning!$D$2","v":"2018-09-21T14:09:05"}]
[{"$f":"$A795+Planning!$D$2","v":"2018-09-22T14:09:05"}]
[{"$f":"$A796+Planning!$D$2","v":"2018-09-23T14:09:05"}]
[{"$f":"$A797+Planning!$D$2","v":"2018-09-24T14:09:05"}]
[{"$f":"$A798+Planning!$D$2","v":"2018-09-25T14:09:05"}]
[{"$f":"$A799+Planning!$D$2","v":"2018-09-26T14:09:05"}]
[{"$f":"$A800+Planning!$D$2","v":"2018-09-27T14:09:05"}]
[{"$f":"$A801+Planning!$D$2","v":"2018-09-28T14:09:05"}]
[{"$f":"$A802+Planning!$D$2","v":"2018-09-29T14:09:05"}]
[{"$f":"$A803+Planning!$D$2","v":"2018-09-30T14:09:05"}]
[{"$f":"$A804+Planning!$D$2","v":"2018-10-01T14:09:05"}]
[{"$f":"$A805+Planning!$D$2","v":"2018-10-02T14:09:05"}]
[{"$f":"$A806+Planning!$D$2","v":"2018-10-03T14:09:05"}]
[{"$f":"$A807+Planning!$D$2","v":"2018-10-04T14:09:05"}]
[{"$f":"$A808+Planning!$D$2","v":"2018-10-05T14:09:05"}]
[{"$f":"$A809+Planning!$D$2","v":"2018-10-06T14:09:05"}]
[{"$f":"$A810+Planning!$D$2","v":"2018-10-07T14:09:05"}]
[{"$f":"$A811+Planning!$D$2","v":"2018-10-08T14:09:05"}]
[{"$f":"$A812+Planning!$D$2","v":"2018-10-09T14:09:05"}]
[{"$f":"$A813+Planning!$D$2","v":"2018-10-10T14:09:05"}]
[{"$f":"$A814+Planning!$D$2","v":"2018-10-11T14:09:05"}]
[{"$f":"$A815+Planning!$D$2","v":"2018-10-12T14:09:05"}]
[{"$f":"$A816+Planning!$D$2","v":"2018-10-13T14:09:05"}]
[{"$f":"$A817+Planning!$D$2","v":"2018-10-14T14:09:05"}]
[{"$f":"$A818+Planning!$D$2","v":"2018-10-15T14:09:05"}]
[{"$f":"$A819+Planning!$D$2","v":"2018-10-16T14:09:05"}]
[{"$f":"$A820+Planning!$D$2","v":"2018-10-17T14:09:05"}]
[{"$f":"$A821+Planning!$D$2","v":"2018-10-18T14:09:05"}]
[{"$f":"$A822+Planning!$D$2","v":"2018-10-19T14:09:05"}]
[{"$f":"$A823+Planning!$D$2","v":"2018-10-20T14:09:05"}]
[{"$f":"$A824+Planning!$D$2","v":"2018-10-21T14:09:05"}]
[{"$f":"$A825+Planning!$D$2","v":"2018-10-22T14:09:05"}]
[{"$f":"$A826+Planning!$D$2","v":"2018-10-23T14:09:05"}]
[{"$f":"$A827+Planning!$D$2","v":"2018-10-24T14:09:05"}]
[{"$f":"$A828+Planning!$D$2","v":"2018-10-25T14:09:05"}]
[{"$f":"$A829+Planning!$D$2","v":"2018-10-26T14:09:05"}]
[{"$f":"$A830+Planning!$D$2","v":"2018-10-27T14:09:05"}]
[{"$f":"$A831+Planning!$D$2","v":"2018-10-28T14:09:05"}]
[{"$f":"$A832+Planning!$D$2","v":"2018-10-29T14:09:05"}]
[{"$f":"$A833+Planning!$D$2","v":"2018-10-30T14:09:05"}]
[{"$f":"$A834+Planning!$D$2","v":"2018-10-31T14:09:05"}]
[{"$f":"$A835+Planning!$D$2","v":"2018-11-01T14:09:05"}]
[{"$f":"$A836+Planning!$D$2","v":"2018-11-02T14:09:05"}]
[{"$f":"$A837+Planning!$D$2","v":"2018-11-03T14:09:05"}]
[{"$f":"$A838+Planning!$D$2","v":"2018-11-04T14:09:05"}]
[{"$f":"$A839+Planning!$D$2","v":"2018-11-05T14:09:05"}]
[{"$f":"$A840+Planning!$D$2","v":"2018-11-06T14:09:05"}]
[{"$f":"$A841+Planning!$D$2","v":"2018-11-07T14:09:05"}]
[{"$f":"$A842+Planning!$D$2","v":"2018-11-08T14:09:05"}]
[{"$f":"$A843+Planning!$D$2","v":"2018-11-09T14:09:05"}]
[{"$f":"$A844+Planning!$D$2","v":"2018-11-10T14:09:05"}]
[{"$f":"$A845+Planning!$D$2","v":"2018-11-11T14:09:05"}]
[{"$f":"$A846+Planning!$D$2","v":"2018-11-12T14:09:05"}]
[{"$f":"$A847+Planning!$D$2","v":"2018-11-13T14:09:05"}]
[{"$f":"$A848+Planning!$D$2","v":"2018-11-14T14:09:05"}]
[{"$f":"$A849+Planning!$D$2","v":"2018-11-15T14:09:05"}]
[{"$f":"$A850+Planning!$D$2","v":"2018-11-16T14:09:05"}]
[{"$f":"$A851+Planning!$D$2","v":"2018-11-17T14:09:05"}]
[{"$f":"$A852+Planning!$D$2","v":"2018-11-18T14:09:05"}]
[{"$f":"$A853+Planning!$D$2","v":"2018-11-19T14:09:05"}]
[{"$f":"$A854+Planning!$D$2","v":"2018-11-20T14:09:05"}]
[{"$f":"$A855+Planning!$D$2","v":"2018-11-21T14:09:05"}]
[{"$f":"$A856+Planning!$D$2","v":"2018-11-22T14:09:05"}]
[{"$f":"$A857+Planning!$D$2","v":"2018-11-23T14:09:05"}]
[{"$f":"$A858+Planning!$D$2","v":"2018-11-24T14:09:05"}]
[{"$f":"$A859+Planning!$D$2","v":"2018-11-25T14:09:05"}]
[{"$f":"$A860+Planning!$D$2","v":"2018-11-26T14:09:05"}]
[{"$f":"$A861+Planning!$D$2","v":"2018-11-27T14:09:05"}]
[{"$f":"$A862+Planning!$D$2","v":"2018-11-28T14:09:05"}]
[{"$f":"$A863+Planning!$D$2","v":"2018-11-29T14:09:05"}]
[{"$f":"$A864+Planning!$D$2","v":"2018-11-30T14:09:05"}]
[{"$f":"$A865+Planning!$D$2","v":"2018-12-01T14:09:05"}]
[{"$f":"$A866+Planning!$D$2","v":"2018-12-02T14:09:05"}]
[{"$f":"$A867+Planning!$D$2","v":"2018-12-03T14:09:05"}]
[{"$f":"$A868+Planning!$D$2","v":"2018-12-04T14:09:05"}]
[{"$f":"$A869+Planning!$D$2","v":"2018-12-05T14:09:05"}]
[{"$f":"$A870+Planning!$D$2","v":"2018-12-06T14:09:05"}]
[{"$f":"$A871+Planning!$D$2","v":"2018-12-07T14:09:05"}]
[{"$f":"$A872+Planning!$D$2","v":"2018-12-08T14:09:05"}]
[{"$f":"$A873+Planning!$D$2","v":"2018-12-09T14:09:05"}]
[{"$f":"$A874+Planning!$D$2","v":"2018-12-10T14:09:05"}]
[{"$f":"$A875+Planning!$D$2","v":"2018-12-11T14:09:05"}]
[{"$f":"$A876+Planning!$D$2","v":"2018-12-12T14:09:05"}]
[{"$f":"$A877+Planning!$D$2","v":"2018-12-13T14:09:05"}]
[{"$f":"$A878+Planning!$D$2","v":"2018-12-14T14:09:05"}]
[{"$f":"$A879+Planning!$D$2","v":"2018-12-15T14:09:05"}]
[{"$f":"$A880+Planning!$D$2","v":"2018-12-16T14:09:05"}]
[{"$f":"$A881+Planning!$D$2","v":"2018-12-17T14:09:05"}]
[{"$f":"$A882+Planning!$D$2","v":"2018-12-18T14:09:05"}]
[{"$f":"$A883+Planning!$D$2","v":"2018-12-19T14:09:05"}]
[{"$f":"$A884+Planning!$D$2","v":"2018-12-20T14:09:05"}]
[{"$f":"$A885+Planning!$D$2","v":"2018-12-21T14:09:05"}]
[{"$f":"$A886+Planning!$D$2","v":"2018-12-22T14:09:05"}]
[{"$f":"$A887+Planning!$D$2","v":"2018-12-23T14:09:05"}]
[{"$f":"$A888+Planning!$D$2","v":"2018-12-24T14:09:05"}]
[{"$f":"$A889+Planning!$D$2","v":"2018-12-25T14:09:05"}]
[{"$f":"$A890+Planning!$D$2","v":"2018-12-26T14:09:05"}]
[{"$f":"$A891+Planning!$D$2","v":"2018-12-27T14:09:05"}]
[{"$f":"$A892+Planning!$D$2","v":"2018-12-28T14:09:05"}]
[{"$f":"$A893+Planning!$D$2","v":"2018-12-29T14:09:05"}]
[{"$f":"$A894+Planning!$D$2","v":"2018-12-30T14:09:05"}]
[{"$f":"$A895+Planning!$D$2","v":"2018-12-31T14:09:05"}]
[{"$f":"$A896+Planning!$D$2","v":"2019-01-01T14:09:05"}]
[{"$f":"$A897+Planning!$D$2","v":"2019-01-02T14:09:05"}]
[{"$f":"$A898+Planning!$D$2","v":"2019-01-03T14:09:05"}]
[{"$f":"$A899+Planning!$D$2","v":"2019-01-04T14:09:05"}]
[{"$f":"$A900+Planning!$D$2","v":"2019-01-05T14:09:05"}]
[{"$f":"$A901+Planning!$D$2","v":"2019-01-06T14:09:05"}]
[{"$f":"$A902+Planning!$D$2","v":"2019-01-07T14:09:05"}]
[{"$f":"$A903+Planning!$D$2","v":"2019-01-08T14:09:05"}]
[{"$f":"$A904+Planning!$D$2","v":"2019-01-09T14:09:05"}]
[{"$f":"$A905+Planning!$D$2","v":"2019-01-10T14:09:05"}]
[{"$f":"$A906+Planning!$D$2","v":"2019-01-11T14:09:05"}]
[{"$f":"$A907+Planning!$D$2","v":"2019-01-12T14:09:05"}]
[{"$f":"$A908+Planning!$D$2","v":"2019-01-13T14:09:05"}]
[{"$f":"$A909+Planning!$D$2","v":"2019-01-14T14:09:05"}]
[{"$f":"$A910+Planning!$D$2","v":"2019-01-15T14:09:05"}]
[{"$f":"$A911+Planning!$D$2","v":"2019-01-16T14:09:05"}]
[{"$f":"$A912+Planning!$D$2","v":"2019-01-17T14:09:05"}]
[{"$f":"$A913+Planning!$D$2","v":"2019-01-18T14:09:05"}]
[{"$f":"$A914+Planning!$D$2","v":"2019-01-19T14:09:05"}]
[{"$f":"$A915+Planning!$D$2","v":"2019-01-20T14:09:05"}]
[{"$f":"$A916+Planning!$D$2","v":"2019-01-21T14:09:05"}]
[{"$f":"$A917+Planning!$D$2","v":"2019-01-22T14:09:05"}]
[{"$f":"$A918+Planning!$D$2","v":"2019-01-23T14:09:05"}]
[{"$f":"$A919+Planning!$D$2","v":"2019-01-24T14:09:05"}]
[{"$f":"$A920+Planning!$D$2","v":"2019-01-25T14:09:05"}]
[{"$f":"$A921+Planning!$D$2","v":"2019-01-26T14:09:05"}]
[{"$f":"$A922+Planning!$D$2","v":"2019-01-27T14:09:05"}]
[{"$f":"$A923+Planning!$D$2","v":"2019-01-28T14:09:05"}]
[{"$f":"$A924+Planning!$D$2","v":"2019-01-29T14:09:05"}]
[{"$f":"$A925+Planning!$D$2","v":"2019-01-30T14:09:05"}]
[{"$f":"$A926+Planning!$D$2","v":"2019-01-31T14:09:05"}]
[{"$f":"$A927+Planning!$D$2","v":"2019-02-01T14:09:05"}]
[{"$f":"$A928+Planning!$D$2","v":"2019-02-02T14:09:05"}]
[{"$f":"$A929+Planning!$D$2","v":"2019-02-03T14:09:05"}]
[{"$f":"$A930+Planning!$D$2","v":"2019-02-04T14:09:05"}]
[{"$f":"$A931+Planning!$D$2","v":"2019-02-05T14:09:05"}]
[{"$f":"$A932+Planning!$D$2","v":"2019-02-06T14:09:05"}]
[{"$f":"$A933+Planning!$D$2","v":"2019-02-07T14:09:05"}]
[{"$f":"$A934+Planning!$D$2","v":"2019-02-08T14:09:05"}]
[{"$f":"$A935+Planning!$D$2","v":"2019-02-09T14:09:05"}]
[{"$f":"$A936+Planning!$D$2","v":"2019-02-10T14:09:05"}]
[{"$f":"$A937+Planning!$D$2","v":"2019-02-11T14:09:05"}]
[{"$f":"$A938+Planning!$D$2","v":"2019-02-12T14:09:05"}]
[{"$f":"$A939+Planning!$D$2","v":"2019-02-13T14:09:05"}]
[{"$f":"$A940+Planning!$D$2","v":"2019-02-14T14:09:05"}]
[{"$f":"$A941+Planning!$D$2","v":"2019-02-15T14:09:05"}]
[{"$f":"$A942+Planning!$D$2","v":"2019-02-16T14:09:05"}]
[{"$f":"$A943+Planning!$D$2","v":"2019-02-17T14:09:05"}]
[{"$f":"$A944+Planning!$D$2","v":"2019-02-18T14:09:05"}]
[{"$f":"$A945+Planning!$D$2","v":"2019-02-19T14:09:05"}]
[{"$f":"$A946+Planning!$D$2","v":"2019-02-20T14:09:05"}]
[{"$f":"$A947+Planning!$D$2","v":"2019-02-21T14:09:05"}]
[{"$f":"$A948+Planning!$D$2","v":"2019-02-22T14:09:05"}]
[{"$f":"$A949+Planning!$D$2","v":"2019-02-23T14:09:05"}]
[{"$f":"$A950+Planning!$D$2","v":"2019-02-24T14:09:05"}]
[{"$f":"$A951+Planning!$D$2","v":"2019-02-25T14:09:05"}]
[{"$f":"$A952+Planning!$D$2","v":"2019-02-26T14:09:05"}]
[{"$f":"$A953+Planning!$D$2","v":"2019-02-27T14:09:05"}]
[{"$f":"$A954+Planning!$D$2","v":"2019-02-28T14:09:05"}]
[{"$f":"$A955+Planning!$D$2","v":"2019-03-01T14:09:05"}]
[{"$f":"$A956+Planning!$D$2","v":"2019-03-02T14:09:05"}]
[{"$f":"$A957+Planning!$D$2","v":"2019-03-03T14:09:05"}]
[{"$f":"$A958+Planning!$D$2","v":"2019-03-04T14:09:05"}]
[{"$f":"$A959+Planning!$D$2","v":"2019-03-05T14:09:05"}]
[{"$f":"$A960+Planning!$D$2","v":"2019-03-06T14:09:05"}]
[{"$f":"$A961+Planning!$D$2","v":"2019-03-07T14:09:05"}]
[{"$f":"$A962+Planning!$D$2","v":"2019-03-08T14:09:05"}]
[{"$f":"$A963+Planning!$D$2","v":"2019-03-09T14:09:05"}]
[{"$f":"$A964+Planning!$D$2","v":"2019-03-10T14:09:05"}]
[{"$f":"$A965+Planning!$D$2","v":"2019-03-11T14:09:05"}]
[{"$f":"$A966+Planning!$D$2","v":"2019-03-12T14:09:05"}]
[{"$f":"$A967+Planning!$D$2","v":"2019-03-13T14:09:05"}]
[{"$f":"$A968+Planning!$D$2","v":"2019-03-14T14:09:05"}]
[{"$f":"$A969+Planning!$D$2","v":"2019-03-15T14:09:05"}]
[{"$f":"$A970+Planning!$D$2","v":"2019-03-16T14:09:05"}]
[{"$f":"$A971+Planning!$D$2","v":"2019-03-17T14:09:05"}]
[{"$f":"$A972+Planning!$D$2","v":"2019-03-18T14:09:05"}]
[{"$f":"$A973+Planning!$D$2","v":"2019-03-19T14:09:05"}]
[{"$f":"$A974+Planning!$D$2","v":"2019-03-20T14:09:05"}]
[{"$f":"$A975+Planning!$D$2","v":"2019-03-21T14:09:05"}]
[{"$f":"$A976+Planning!$D$2","v":"2019-03-22T14:09:05"}]
[{"$f":"$A977+Planning!$D$2","v":"2019-03-23T14:09:05"}]
[{"$f":"$A978+Planning!$D$2","v":"2019-03-24T14:09:05"}]
[{"$f":"$A979+Planning!$D$2","v":"2019-03-25T14:09:05"}]
[{"$f":"$A980+Planning!$D$2","v":"2019-03-26T14:09:05"}]
[{"$f":"$A981+Planning!$D$2","v":"2019-03-27T14:09:05"}]
[{"$f":"$A982+Planning!$D$2","v":"2019-03-28T14:09:05"}]
[{"$f":"$A983+Planning!$D$2","v":"2019-03-29T14:09:05"}]
[{"$f":"$A984+Planning!$D$2","v":"2019-03-30T14:09:05"}]
[{"$f":"$A985+Planning!$D$2","v":"2019-03-31T14:09:05"}]
[{"$f":"$A986+Planning!$D$2","v":"2019-04-01T14:09:05"}]
[{"$f":"$A987+Planning!$D$2","v":"2019-04-02T14:09:05"}]
[{"$f":"$A988+Planning!$D$2","v":"2019-04-03T14:09:05"}]
[{"$f":"$A989+Planning!$D$2","v":"2019-04-04T14:09:05"}]
[{"$f":"$A990+Planning!$D$2","v":"2019-04-05T14:09:05"}]
[{"$f":"$A991+Planning!$D$2","v":"2019-04-06T14:09:05"}]
[{"$f":"$A992+Planning!$D$2","v":"2019-04-07T14:09:05"}]
[{"$f":"$A993+Planning!$D$2","v":"2019-04-08T14:09:05"}]
[{"$f":"$A994+Planning!$D$2","v":"2019-04-09T14:09:05"}]
[{"$f":"$A995+Planning!$D$2","v":"2019-04-10T14:09:05"}]
[{"$f":"$A996+Planning!$D$2","v":"2019-04-11T14:09:05"}]
[{"$f":"$A997+Planning!$D$2","v":"2019-04-12T14:09:05"}]
[{"$f":"$A998+Planning!$D$2","v":"2019-04-13T14:09:05"}]
[{"$f":"$A999+Planning!$D$2","v":"2019-04-14T14:09:05"}]

{"sheet":"Paramètres - Admin","index":11,"n_rows":47,"n_cols":7,"rows_kept":47,"cut":false,"hidden":true,"merged":[]}
["+","Affichage Temps","Affichage Temps","Champs","Période","Attaque / Défense","Pas (jour)"]
[0,"secondes","secondes","mins","1 heure","Attaque",0.25]
[{"$f":"A2+1","v":1},"minutes","minutes","hrs","2 heures","Défense",0.5]
[2,"heures","heures","jours","4 heures",null,0.75]
[3,"jours","h/m/s","sec","8 heures",null,1]
[4,"mois",null,"Héros : ","12 heures"]
[5,"j/h/m",null,"Bâtiments : ","16 heures"]
[6,null,null,null,"1 jour"]
[7,null,null,null,"2 jours"]
[8,null,null,null,"3 jours"]
[9,null,null,null,"1 semaine"]
[10,null,null,null,"1 mois"]
[11]
[12]
[13]
[14]
[15]
[16]
[17]
[18]
[19]
[20]
[21]
[22]
[23]
[24]
[25]
[26]
[27]
[28]
[29]
[30]
[31]
[32]
[33]
[34]
[35]
[36]
[37]
[38]
[39]
[40]
[41]
[42]
[43]
[44]
[45]

{"sheet":"Paramètres","index":12,"n_rows":111,"n_cols":69,"rows_kept":111,"cut":false,"hidden":false,"merged":[[25,65,33,66],[0,61,0,63],[17,65,24,66],[13,65,15,65],[13,66,15,66],[5,65,7,65],[5,66,7,66],[9,65,11,65],[9,66,11,66],[0,54,0,60],[0,42,0,53],[0,32,0,41],[0,0,1,0],[0,1,0,6],[0,30,0,31],[0,13,0,23],[0,24,0,29],[0,7,0,12]]}
["+","Bâtiments de Ressources",null,null,null,null,null,"Bâtiments d'Armée",null,null,null,null,null,"Bâtiments Défensifs",null,null,null,null,null,null,null,null,null,null,"Pièges Défensifs",null,null,null,null,null,"Bâtiments Autres",null,"Améliorations de Sorts",null,null,null,null,null,null,null,null,null,"Améliorations de Troupes",null,null,null,null,null,null,null,null,null,null,null,"Améliorations de Troupes Noires",null,null,null,null,null,null,"Héros",null,null,null,"LVL HdV","Ouvriers","Langue","Trophées"]
[null,"Mine d'Or","Extracteur d'Élixir","Foreuse d'Élixir Noir","Réserve d'Or","Réservoir d'Élixir","Réservoir d'Élixir Noir","Caserne","Caserne Noire","Camp Militaire","Laboratoire","Usine de Sorts","Usine de Sorts Noirs","Rempart","Canon","Tour d'Archers","Mortier","Défense Antiaérienne","Tour de Sorciers","Propulseur d'air","Tesla Camouflée","Arc-X","Tour de l'Enfer","Aigle Artilleur","Bombe","Piège à ressort","Bombe géante","Bombe aérienne","Tête chercheuse","Piège squelettique","Château de Clan","Hôtel de Ville","Sort de Foudre","Sort de Guérison","Sort de Rage","Sort de Saut","Sort de Gel","Sort de clonage","Sort de Poison","Sort de Séisme","Sort de Hâte","Sort Squelettique","Barbare","Archer","Géant","Gobelin","Sapeur","Ballon","Sorcier","Guérisseuse","Dragon","P.E.K.K.A","Bébé dragon","Mineur","Serviteur","Chevaucheur de Cochon","Valkyrie","Golem","Sorcière","Molosse de lave","Bouliste","Roi des Barbares","Reine des Archers","Grand Gardien",null,1,1,"Français"]
["Max",{"$f":"VLOOKUP($BN$2,AVAILABLE_Buildings_Resource[#All],MATCH(B$2,AVAILABLE_Buildings_Resource[#Headers],0))","v":1},{"$f":"VLOOKUP($BN$2,AVAILABLE_Buildings_Resource[#All],MATCH(C$2,AVAILABLE_Buildings_Resource[#Headers],0))","v":1},{"$f":"VLOOKUP($BN$2,AVAILABLE_Buildings_Resource[#All],MATCH(D$2,AVAILABLE_Buildings_Resource[#Headers],0))","v":0},{"$f":"VLOOKUP($BN$2,AVAILABLE_Buildings_Resource[#All],MATCH(E$2,AVAILABLE_Buildings_Resource[#Headers],0))","v":1},{"$f":"VLOOKUP($BN$2,AVAILABLE_Buildings_Resource[#All],MATCH(F$2,AVAILABLE_Buildings_Resource[#Headers],0))","v":1},{"$f":"VLOOKUP($BN$2,AVAILABLE_Buildings_Resource[#All],MATCH(G$2,AVAILABLE_Buildings_Resource[#Headers],0))","v":0},{"$f":"VLOOKUP($BN$2,AVAILABLE_Buildings_Army[#All],MATCH(H$2,AVAILABLE_Buildings_Army[#Headers],0))","v":1},{"$f":"VLOOKUP($BN$2,AVAILABLE_Buildings_Army[#All],MATCH(I$2,AVAILABLE_Buildings_Army[#Headers],0))","v":0},{"$f":"VLOOKUP($BN$2,AVAILABLE_Buildings_Army[#All],MATCH(J$2,AVAILABLE_Buildings_Army[#Headers],0))","v":1},{"$f":"VLOOKUP($BN$2,AVAILABLE_Buildings_Army[#All],MATCH(K$2,AVAILABLE_Buildings_Army[#Headers],0))","v":0},{"$f":"VLOOKUP($BN$2,AVAILABLE_Buildings_Army[#All],MATCH(L$2,AVAILABLE_Buildings_Army[#Headers],0))","v":0},{"$f":"VLOOKUP($BN$2,AVAILABLE_Buildings_Army[#All],MATCH(M$2,AVAILABLE_Buildings_Army[#Headers],0))","v":0},{"$f":"VLOOKUP($BN$2,AVAILABLE_Buildings_Defensive[#All],MATCH(N$2,AVAILABLE_Buildings_Defensive[#Headers],0))","v":0},{"$f":"VLOOKUP($BN$2,AVAILABLE_Buildings_Defensive[#All],MATCH(O$2,AVAILABLE_Buildings_Defensive[#Headers],0))","v":2},{"$f":"VLOOKUP($BN$2,AVAILABLE_Buildings_Defensive[#All],MATCH(P$2,AVAILABLE_Buildings_Defensive[#Headers],0))","v":0},{"$f":"VLOOKUP($BN$2,AVAILABLE_Buildings_Defensive[#All],MATCH(Q$2,AVAILABLE_Buildings_Defensive[#Headers],0))","v":0},{"$f":"VLOOKUP($BN$2,AVAILABLE_Buildings_Defensive[#All],MATCH(R$2,AVAILABLE_Buildings_Defensive[#Headers],0))","v":0},{"$f":"VLOOKUP($BN$2,AVAILABLE_Buildings_Defensive[#All],MATCH(S$2,AVAILABLE_Buildings_Defensive[#Headers],0))","v":0},{"$f":"VLOOKUP($BN$2,AVAILABLE_Buildings_Defensive[#All],MATCH(T$2,AVAILABLE_Buildings_Defensive[#Headers],0))","v":0},{"$f":"VLOOKUP($BN$2,AVAILABLE_Buildings_Defensive[#All],MATCH(U$2,AVAILABLE_Buildings_Defensive[#Headers],0))","v":0},{"$f":"VLOOKUP($BN$2,AVAILABLE_Buildings_Defensive[#All],MATCH(V$2,AVAILABLE_Buildings_Defensive[#Headers],0))","v":0},{"$f":"VLOOKUP($BN$2,AVAILABLE_Buildings_Defensive[#All],MATCH(W$2,AVAILABLE_Buildings_Defensive[#Headers],0))","v":0},{"$f":"VLOOKUP($BN$2,AVAILABLE_Buildings_Defensive[#All],MATCH(X$2,AVAILABLE_Buildings_Defensive[#Headers],0))","v":0},{"$f":"VLOOKUP($BN$2,AVAILABLE_Traps[#All],MATCH(Y$2,AVAILABLE_Traps[#Headers],0))","v":0},{"$f":"VLOOKUP($BN$2,AVAILABLE_Traps[#All],MATCH(Z$2,AVAILABLE_Traps[#Headers],0))","v":0},{"$f":"VLOOKUP($BN$2,AVAILABLE_Traps[#All],MATCH(AA$2,AVAILABLE_Traps[#Headers],0))","v":0},{"$f":"VLOOKUP($BN$2,AVAILABLE_Traps[#All],MATCH(AB$2,AVAILABLE_Traps[#Headers],0))","v":0},{"$f":"VLOOKUP($BN$2,AVAILABLE_Traps[#All],MATCH(AC$2,AVAILABLE_Traps[#Headers],0))","v":0},{"$f":"VLOOKUP($BN$2,AVAILABLE_Traps[#All],MATCH(AD$2,AVAILABLE_Traps[#Headers],0))","v":0},{"$f":"VLOOKUP($BN$2,AVAILABLE_Buildings_Other[#All],MATCH(AE$2,AVAILABLE_Buildings_Other[#Headers],0))","v":0},{"$f":"VLOOKUP($BN$2,AVAILABLE_Buildings_Other[#All],MATCH(AF$2,AVAILABLE_Buildings_Other[#Headers],0))","v":1},{"$f":"IF(IF(ISERROR(LOOKUP(MATCH(4,Paramètres!$L$6:$L$45,1),Paramètres!$A$6:$A$45)),0,LOOKUP(MATCH(4,Paramètres!$L$6:$L$45,1),Paramètres!$A$6:$A$45))>=1,1,0)","v":0},{"$f":"IF(IF(ISERROR(LOOKUP(MATCH(4,Paramètres!$L$6:$L$45,1),Paramètres!$A$6:$A$45)),0,LOOKUP(MATCH(4,Paramètres!$L$6:$L$45,1),Paramètres!$A$6:$A$45))>=2,1,0)","v":0},{"$f":"IF(IF(ISERROR(LOOKUP(MATCH(4,Paramètres!$L$6:$L$45,1),Paramètres!$A$6:$A$45)),0,LOOKUP(MATCH(4,Paramètres!$L$6:$L$45,1),Paramètres!$A$6:$A$45))>=3,1,0)","v":0},{"$f":"IF(IF(ISERROR(LOOKUP(MATCH(4,Paramètres!$L$6:$L$45,1),Paramètres!$A$6:$A$45)),0,LOOKUP(MATCH(4,Paramètres!$L$6:$L$45,1),Paramètres!$A$6:$A$45))>=4,1,0)","v":0},{"$f":"IF(IF(ISERROR(LOOKUP(MATCH(4,Paramètres!$L$6:$L$45,1),Paramètres!$A$6:$A$45)),0,LOOKUP(MATCH(4,Paramètres!$L$6:$L$45,1),Paramètres!$A$6:$A$45))>=4,1,0)","v":0},{"$f":"IF(IF(ISERROR(LOOKUP(MATCH(4,Paramètres!$L$6:$L$45,1),Paramètres!$A$6:$A$45)),0,LOOKUP(MATCH(4,Paramètres!$L$6:$L$45,1),Paramètres!$A$6:$A$45))>=5,1,0)","v":0},{"$f":"IF(IF(ISERROR(LOOKUP(MATCH(4,Paramètres!$M$6:$M$45,1),Paramètres!$A$6:$A$45)),0,LOOKUP(MATCH(4,Paramètres!$M$6:$M$45,1),Paramètres!$A$6:$A$45))>=1,1,0)","v":0},{"$f":"IF(IF(ISERROR(LOOKUP(MATCH(4,Paramètres!$M$6:$M$45,1),Paramètres!$A$6:$A$45)),0,LOOKUP(MATCH(4,Paramètres!$M$6:$M$45,1),Paramètres!$A$6:$A$45))>=2,1,0)","v":0},{"$f":"IF(IF(ISERROR(LOOKUP(MATCH(4,Paramètres!$M$6:$M$45,1),Paramètres!$A$6:$A$45)),0,LOOKUP(MATCH(4,Paramètres!$M$6:$M$45,1),Paramètres!$A$6:$A$45))>=3,1,0)","v":0},{"$f":"IF(IF(ISERROR(LOOKUP(MATCH(4,Paramètres!$M$6:$M$45,1),Paramètres!$A$6:$A$45)),0,LOOKUP(MATCH(4,Paramètres!$M$6:$M$45,1),Paramètres!$A$6:$A$45))>=4,1,0)","v":0},{"$f":"IF(IF(ISERROR(LOOKUP(MATCH(4,Paramètres!$H$6:$H$45,1),Paramètres!$A$6:$A$45)),0,LOOKUP(MATCH(4,Paramètres!$H$6:$H$45,1),Paramètres!$A$6:$A$45))>=1,1,0)","v":0},{"$f":"IF(IF(ISERROR(LOOKUP(MATCH(4,Paramètres!$H$6:$H$45,1),Paramètres!$A$6:$A$45)),0,LOOKUP(MATCH(4,Paramètres!$H$6:$H$45,1),Paramètres!$A$6:$A$45))>=2,1,0)","v":0},{"$f":"IF(IF(ISERROR(LOOKUP(MATCH(4,Paramètres!$H$6:$H$45,1),Paramètres!$A$6:$A$45)),0,LOOKUP(MATCH(4,Paramètres!$H$6:$H$45,1),Paramètres!$A$6:$A$45))>=3,1,0)","v":0},{"$f":"IF(IF(ISERROR(LOOKUP(MATCH(4,Paramètres!$H$6:$H$45,1),Paramètres!$A$6:$A$45)),0,LOOKUP(MATCH(4,Paramètres!$H$6:$H$45,1),Paramètres!$A$6:$A$45))>=4,1,0)","v":0},{"$f":"IF(IF(ISERROR(LOOKUP(MATCH(4,Paramètres!$H$6:$H$45,1),Paramètres!$A$6:$A$45)),0,LOOKUP(MATCH(4,Paramètres!$H$6:$H$45,1),Paramètres!$A$6:$A$45))>=5,1,0)","v":0},{"$f":"IF(IF(ISERROR(LOOKUP(MATCH(4,Paramètres!$H$6:$H$45,1),Paramètres!$A$6:$A$45)),0,LOOKUP(MATCH(4,Paramètres!$H$6:$H$45,1),Paramètres!$A$6:$A$45))>=6,1,0)","v":0},{"$f":"IF(IF(ISERROR(LOOKUP(MATCH(4,Paramètres!$H$6:$H$45,1),Paramètres!$A$6:$A$45)),0,LOOKUP(MATCH(4,Paramètres!$H$6:$H$45,1),Paramètres!$A$6:$A$45))>=7,1,0)","v":0},{"$f":"IF(IF(ISERROR(LOOKUP(MATCH(4,Paramètres!$H$6:$H$45,1),Paramètres!$A$6:$A$45)),0,LOOKUP(MATCH(4,Paramètres!$H$6:$H$45,1),Paramètres!$A$6:$A$45))>=8,1,0)","v":0},{"$f":"IF(IF(ISERROR(LOOKUP(MATCH(4,Paramètres!$H$6:$H$45,1),Paramètres!$A$6:$A$45)),0,LOOKUP(MATCH(4,Paramètres!$H$6:$H$45,1),Paramètres!$A$6:$A$45))>=9,1,0)","v":0},{"$f":"IF(IF(ISERROR(LOOKUP(MATCH(4,Paramètres!$H$6:$H$45,1),Paramètres!$A$6:$A$45)),0,LOOKUP(MATCH(4,Paramètres!$H$6:$H$45,1),Paramètres!$A$6:$A$45))>=10,1,0)","v":0},{"$f":"IF(IF(ISERROR(LOOKUP(MATCH(4,Paramètres!$H$6:$H$45,1),Paramètres!$A$6:$A$45)),0,LOOKUP(MATCH(4,Paramètres!$H$6:$H$45,1),Paramètres!$A$6:$A$45))>=11,1,0)","v":0},{"$f":"IF(IF(ISERROR(LOOKUP(MATCH(4,Paramètres!$H$6:$H$45,1),Paramètres!$A$6:$A$45)),0,LOOKUP(MATCH(4,Paramètres!$H$6:$H$45,1),Paramètres!$A$6:$A$45))>=12,1,0)","v":0},{"$f":"IF(IF(ISERROR(LOOKUP(MATCH(4,Paramètres!$I$6:$I$45,1),Paramètres!$A$6:$A$45)),0,LOOKUP(MATCH(4,Paramètres!$I$6:$I$45,1),Paramètres!$A$6:$A$45))>=1,1,0)","v":0},{"$f":"IF(IF(ISERROR(LOOKUP(MATCH(4,Paramètres!$I$6:$I$45,1),Paramètres!$A$6:$A$45)),0,LOOKUP(MATCH(4,Paramètres!$I$6:$I$45,1),Paramètres!$A$6:$A$45))>=2,1,0)","v":0},{"$f":"IF(IF(ISERROR(LOOKUP(MATCH(4,Paramètres!$I$6:$I$45,1),Paramètres!$A$6:$A$45)),0,LOOKUP(MATCH(4,Paramètres!$I$6:$I$45,1),Paramètres!$A$6:$A$45))>=3,1,0)","v":0},{"$f":"IF(IF(ISERROR(LOOKUP(MATCH(4,Paramètres!$I$6:$I$45,1),Paramètres!$A$6:$A$45)),0,LOOKUP(MATCH(4,Paramètres!$I$6:$I$45,1),Paramètres!$A$6:$A$45))>=4,1,0)","v":0},{"$f":"IF(IF(ISERROR(LOOKUP(MATCH(4,Paramètres!$I$6:$I$45,1),Paramètres!$A$6:$A$45)),0,LOOKUP(MATCH(4,Paramètres!$I$6:$I$45,1),Paramètres!$A$6:$A$45))>=5,1,0)","v":0},{"$f":"IF(IF(ISERROR(LOOKUP(MATCH(4,Paramètres!$I$6:$I$45,1),Paramètres!$A$6:$A$45)),0,LOOKUP(MATCH(4,Paramètres!$I$6:$I$45,1),Paramètres!$A$6:$A$45))>=6,1,0)","v":0},{"$f":"IF(IF(ISERROR(LOOKUP(MATCH(4,Paramètres!$I$6:$I$45,1),Paramètres!$A$6:$A$45)),0,LOOKUP(MATCH(4,Paramètres!$I$6:$I$45,1),Paramètres!$A$6:$A$45))>=7,1,0)","v":0},{"$f":"VLOOKUP($BN$2,AVAILABLE_Heroes[#All],MATCH(BJ$2,AVAILABLE_Heroes[#Headers],0))","v":0},{"$f":"VLOOKUP($BN$2,AVAILABLE_Heroes[#All],MATCH(BK$2,AVAILABLE_Heroes[#Headers],0))","v":0},{"$f":"VLOOKUP($BN$2,AVAILABLE_Heroes[#All],MATCH(BL$2,AVAILABLE_Heroes[#Headers],0))","v":0}]
["À Faire",{"$f":"B3-B57","v":1},1,0,1,1,0,1,0,1,0,0,0,0,2,0,{"$f":"Q3-Q57","v":0},{"$f":"R3-R57","v":0},0,{"$f":"T3-T57","v":0},0,0,0,{"$f":"X3-X57","v":0},0,0,0,0,0,0,0,0,{"$f":"AG3-AG57","v":0},0,0,{"$f":"AJ3-AJ57","v":0},0,{"$f":"AL3-AL57","v":0},0,0,{"$f":"AO3-AO57","v":0},{"$f":"AP3-AP57","v":0},0,0,0,0,0,0,0,0,0,{"$f":"AZ3-AZ57","v":0},{"$f":"BA3-BA57","v":0},0,0,0,{"$f":"BE3-BE57","v":0},0,0,{"$f":"BH3-BH57","v":0},{"$f":"BI3-BI57","v":0},{"$f":"BJ3-BJ57","v":0},{"$f":"BK3-BK57","v":0},{"$f":"BL3-BL57","v":0}]
["Max +",{"$f":"VLOOKUP($BN$2,AVAILABLE_Buildings_Resource[#All],MATCH(B$2,AVAILABLE_Buildings_Resource[#Headers],0)+1)","v":2},{"$f":"VLOOKUP($BN$2,AVAILABLE_Buildings_Resource[#All],MATCH(C$2,AVAILABLE_Buildings_Resource[#Headers],0)+1)","v":2},{"$f":"VLOOKUP($BN$2,AVAILABLE_Buildings_Resource[#All],MATCH(D$2,AVAILABLE_Buildings_Resource[#Headers],0)+1)","v":0},{"$f":"VLOOKUP($BN$2,AVAILABLE_Buildings_Resource[#All],MATCH(E$2,AVAILABLE_Buildings_Resource[#Headers],0)+1)","v":1},{"$f":"VLOOKUP($BN$2,AVAILABLE_Buildings_Resource[#All],MATCH(F$2,AVAILABLE_Buildings_Resource[#Headers],0)+1)","v":1},{"$f":"VLOOKUP($BN$2,AVAILABLE_Buildings_Resource[#All],MATCH(G$2,AVAILABLE_Buildings_Resource[#Headers],0)+1)","v":0},{"$f":"VLOOKUP($BN$2,AVAILABLE_Buildings_Army[#All],MATCH(H$2,AVAILABLE_Buildings_Army[#Headers],0)+1)","v":3},{"$f":"VLOOKUP($BN$2,AVAILABLE_Buildings_Army[#All],MATCH(I$2,AVAILABLE_Buildings_Army[#Headers],0)+1)","v":0},{"$f":"VLOOKUP($BN$2,AVAILABLE_Buildings_Army[#All],MATCH(J$2,AVAILABLE_Buildings_Army[#Headers],0)+1)","v":1},{"$f":"VLOOKUP($BN$2,AVAILABLE_Buildings_Army[#All],MATCH(K$2,AVAILABLE_Buildings_Army[#Headers],0)+1)","v":0},{"$f":"VLOOKUP($BN$2,AVAILABLE_Buildings_Army[#All],MATCH(L$2,AVAILABLE_Buildings_Army[#Headers],0)+1)","v":0},{"$f":"VLOOKUP($BN$2,AVAILABLE_Buildings_Army[#All],MATCH(M$2,AVAILABLE_Buildings_Army[#Headers],0)+1)","v":0},{"$f":"VLOOKUP($BN$2,AVAILABLE_Buildings_Defensive[#All],MATCH(N$2,AVAILABLE_Buildings_Defensive[#Headers],0)+1)","v":0},{"$f":"VLOOKUP($BN$2,AVAILABLE_Buildings_Defensive[#All],MATCH(O$2,AVAILABLE_Buildings_Defensive[#Headers],0)+1)","v":2},{"$f":"VLOOKUP($BN$2,AVAILABLE_Buildings_Defensive[#All],MATCH(P$2,AVAILABLE_Buildings_Defensive[#Headers],0)+1)","v":0},{"$f":"VLOOKUP($BN$2,AVAILABLE_Buildings_Defensive[#All],MATCH(Q$2,AVAILABLE_Buildings_Defensive[#Headers],0)+1)","v":0},{"$f":"VLOOKUP($BN$2,AVAILABLE_Buildings_Defensive[#All],MATCH(R$2,AVAILABLE_Buildings_Defensive[#Headers],0)+1)","v":0},{"$f":"VLOOKUP($BN$2,AVAILABLE_Buildings_Defensive[#All],MATCH(S$2,AVAILABLE_Buildings_Defensive[#Headers],0)+1)","v":0},{"$f":"VLOOKUP($BN$2,AVAILABLE_Buildings_Defensive[#All],MATCH(T$2,AVAILABLE_Buildings_Defensive[#Headers],0)+1)","v":0},{"$f":"VLOOKUP($BN$2,AVAILABLE_Buildings_Defensive[#All],MATCH(U$2,AVAILABLE_Buildings_Defensive[#Headers],0)+1)","v":0},{"$f":"VLOOKUP($BN$2,AVAILABLE_Buildings_Defensive[#All],MATCH(V$2,AVAILABLE_Buildings_Defensive[#Headers],0)+1)","v":0},{"$f":"VLOOKUP($BN$2,AVAILABLE_Buildings_Defensive[#All],MATCH(W$2,AVAILABLE_Buildings_Defensive[#Headers],0)+1)","v":0},{"$f":"VLOOKUP($BN$2,AVAILABLE_Buildings_Defensive[#All],MATCH(X$2,AVAILABLE_Buildings_Defensive[#Headers],0)+1)","v":0},{"$f":"VLOOKUP($BN$2,AVAILABLE_Traps[#All],MATCH(Y$2,AVAILABLE_Traps[#Headers],0)+1)","v":0},{"$f":"VLOOKUP($BN$2,AVAILABLE_Traps[#All],MATCH(Z$2,AVAILABLE_Traps[#Headers],0)+1)","v":0},{"$f":"VLOOKUP($BN$2,AVAILABLE_Traps[#All],MATCH(AA$2,AVAILABLE_Traps[#Headers],0)+1)","v":0},{"$f":"VLOOKUP($BN$2,AVAILABLE_Traps[#All],MATCH(AB$2,AVAILABLE_Traps[#Headers],0)+1)","v":0},{"$f":"VLOOKUP($BN$2,AVAILABLE_Traps[#All],MATCH(AC$2,AVAILABLE_Traps[#Headers],0)+1)","v":0},{"$f":"VLOOKUP($BN$2,AVAILABLE_Traps[#All],MATCH(AD$2,AVAILABLE_Traps[#Headers],0)+1)","v":0},{"$f":"VLOOKUP($BN$2,AVAILABLE_Buildings_Other[#All],MATCH(AE$2,AVAILABLE_Buildings_Other[#Headers],0)+1)","v":0},{"$f":"VLOOKUP($BN$2,AVAILABLE_Buildings_Other[#All],MATCH(AF$2,AVAILABLE_Buildings_Other[#Headers],0)+1)","v":2},{"$f":"VLOOKUP(IF(ISERROR(LOOKUP(MATCH(1,Paramètres!$K$6:$K$45,0),Paramètres!$A$6:$A$45)),0,LOOKUP(MATCH(1,Paramètres!$K$6:$K$45,0),Paramètres!$A$6:$A$45)),AVAILABLE_Upgrades_Spells[#All],MATCH(AG$2,AVAILABLE_Upgrades_Spells[#Headers],0)+1)","v":0},{"$f":"VLOOKUP(IF(ISERROR(LOOKUP(MATCH(1,Paramètres!$K$6:$K$45,0),Paramètres!$A$6:$A$45)),0,LOOKUP(MATCH(1,Paramètres!$K$6:$K$45,0),Paramètres!$A$6:$A$45)),AVAILABLE_Upgrades_Spells[#All],MATCH(AH$2,AVAILABLE_Upgrades_Spells[#Headers],0)+1)","v":0},{"$f":"VLOOKUP(IF(ISERROR(LOOKUP(MATCH(1,Paramètres!$K$6:$K$45,0),Paramètres!$A$6:$A$45)),0,LOOKUP(MATCH(1,Paramètres!$K$6:$K$45,0),Paramètres!$A$6:$A$45)),AVAILABLE_Upgrades_Spells[#All],MATCH(AI$2,AVAILABLE_Upgrades_Spells[#Headers],0)+1)","v":0},{"$f":"VLOOKUP(IF(ISERROR(LOOKUP(MATCH(1,Paramètres!$K$6:$K$45,0),Paramètres!$A$6:$A$45)),0,LOOKUP(MATCH(1,Paramètres!$K$6:$K$45,0),Paramètres!$A$6:$A$45)),AVAILABLE_Upgrades_Spells[#All],MATCH(AJ$2,AVAILABLE_Upgrades_Spells[#Headers],0)+1)","v":0},{"$f":"VLOOKUP(IF(ISERROR(LOOKUP(MATCH(1,Paramètres!$K$6:$K$45,0),Paramètres!$A$6:$A$45)),0,LOOKUP(MATCH(1,Paramètres!$K$6:$K$45,0),Paramètres!$A$6:$A$45)),AVAILABLE_Upgrades_Spells[#All],MATCH(AK$2,AVAILABLE_Upgrades_Spells[#Headers],0)+1)","v":0},{"$f":"VLOOKUP(IF(ISERROR(LOOKUP(MATCH(1,Paramètres!$K$6:$K$45,0),Paramètres!$A$6:$A$45)),0,LOOKUP(MATCH(1,Paramètres!$K$6:$K$45,0),Paramètres!$A$6:$A$45)),AVAILABLE_Upgrades_Spells[#All],MATCH(AL$2,AVAILABLE_Upgrades_Spells[#Headers],0)+1)","v":0},{"$f":"VLOOKUP(IF(ISERROR(LOOKUP(MATCH(1,Paramètres!$K$6:$K$45,0),Paramètres!$A$6:$A$45)),0,LOOKUP(MATCH(1,Paramètres!$K$6:$K$45,0),Paramètres!$A$6:$A$45)),AVAILABLE_Upgrades_Dark_Spells[#All],MATCH(AM$2,AVAILABLE_Upgrades_Dark_Spells[#Headers],0)+1)","v":0},{"$f":"VLOOKUP(IF(ISERROR(LOOKUP(MATCH(1,Paramètres!$K$6:$K$45,0),Paramètres!$A$6:$A$45)),0,LOOKUP(MATCH(1,Paramètres!$K$6:$K$45,0),Paramètres!$A$6:$A$45)),AVAILABLE_Upgrades_Dark_Spells[#All],MATCH(AN$2,AVAILABLE_Upgrades_Dark_Spells[#Headers],0)+1)","v":0},{"$f":"VLOOKUP(IF(ISERROR(LOOKUP(MATCH(1,Paramètres!$K$6:$K$45,0),Paramètres!$A$6:$A$45)),0,LOOKUP(MATCH(1,Paramètres!$K$6:$K$45,0),Paramètres!$A$6:$A$45)),AVAILABLE_Upgrades_Dark_Spells[#All],MATCH(AO$2,AVAILABLE_Upgrades_Dark_Spells[#Headers],0)+1)","v":0},{"$f":"VLOOKUP(IF(ISERROR(LOOKUP(MATCH(1,Paramètres!$K$6:$K$45,0),Paramètres!$A$6:$A$45)),0,LOOKUP(MATCH(1,Paramètres!$K$6:$K$45,0),Paramètres!$A$6:$A$45)),AVAILABLE_Upgrades_Dark_Spells[#All],MATCH(AP$2,AVAILABLE_Upgrades_Dark_Spells[#Headers],0)+1)","v":0},{"$f":"VLOOKUP(IF(ISERROR(LOOKUP(MATCH(1,Paramètres!$K$6:$K$45,0),Paramètres!$A$6:$A$45)),0,LOOKUP(MATCH(1,Paramètres!$K$6:$K$45,0),Paramètres!$A$6:$A$45)),AVAILABLE_Upgrades_Normal_Troops[#All],MATCH(AQ$2,AVAILABLE_Upgrades_Normal_Troops[#Headers],0)+1)","v":0},{"$f":"VLOOKUP(IF(ISERROR(LOOKUP(MATCH(1,Paramètres!$K$6:$K$45,0),Paramètres!$A$6:$A$45)),0,LOOKUP(MATCH(1,Paramètres!$K$6:$K$45,0),Paramètres!$A$6:$A$45)),AVAILABLE_Upgrades_Normal_Troops[#All],MATCH(AR$2,AVAILABLE_Upgrades_Normal_Troops[#Headers],0)+1)","v":0},{"$f":"VLOOKUP(IF(ISERROR(LOOKUP(MATCH(1,Paramètres!$K$6:$K$45,0),Paramètres!$A$6:$A$45)),0,LOOKUP(MATCH(1,Paramètres!$K$6:$K$45,0),Paramètres!$A$6:$A$45)),AVAILABLE_Upgrades_Normal_Troops[#All],MATCH(AS$2,AVAILABLE_Upgrades_Normal_Troops[#Headers],0)+1)","v":0},{"$f":"VLOOKUP(IF(ISERROR(LOOKUP(MATCH(1,Paramètres!$K$6:$K$45,0),Paramètres!$A$6:$A$45)),0,LOOKUP(MATCH(1,Paramètres!$K$6:$K$45,0),Paramètres!$A$6:$A$45)),AVAILABLE_Upgrades_Normal_Troops[#All],MATCH(AT$2,AVAILABLE_Upgrades_Normal_Troops[#Headers],0)+1)","v":0},{"$f":"VLOOKUP(IF(ISERROR(LOOKUP(MATCH(1,Paramètres!$K$6:$K$45,0),Paramètres!$A$6:$A$45)),0,LOOKUP(MATCH(1,Paramètres!$K$6:$K$45,0),Paramètres!$A$6:$A$45)),AVAILABLE_Upgrades_Normal_Troops[#All],MATCH(AU$2,AVAILABLE_Upgrades_Normal_Troops[#Headers],0)+1)","v":0},{"$f":"VLOOKUP(IF(ISERROR(LOOKUP(MATCH(1,Paramètres!$K$6:$K$45,0),Paramètres!$A$6:$A$45)),0,LOOKUP(MATCH(1,Paramètres!$K$6:$K$45,0),Paramètres!$A$6:$A$45)),AVAILABLE_Upgrades_Normal_Troops[#All],MATCH(AV$2,AVAILABLE_Upgrades_Normal_Troops[#Headers],0)+1)","v":0},{"$f":"VLOOKUP(IF(ISERROR(LOOKUP(MATCH(1,Paramètres!$K$6:$K$45,0),Paramètres!$A$6:$A$45)),0,LOOKUP(MATCH(1,Paramètres!$K$6:$K$45,0),Paramètres!$A$6:$A$45)),AVAILABLE_Upgrades_Normal_Troops[#All],MATCH(AW$2,AVAILABLE_Upgrades_Normal_Troops[#Headers],0)+1)","v":0},{"$f":"VLOOKUP(IF(ISERROR(LOOKUP(MATCH(1,Paramètres!$K$6:$K$45,0),Paramètres!$A$6:$A$45)),0,LOOKUP(MATCH(1,Paramètres!$K$6:$K$45,0),Paramètres!$A$6:$A$45)),AVAILABLE_Upgrades_Normal_Troops[#All],MATCH(AX$2,AVAILABLE_Upgrades_Normal_Troops[#Headers],0)+1)","v":0},{"$f":"VLOOKUP(IF(ISERROR(LOOKUP(MATCH(1,Paramètres!$K$6:$K$45,0),Paramètres!$A$6:$A$45)),0,LOOKUP(MATCH(1,Paramètres!$K$6:$K$45,0),Paramètres!$A$6:$A$45)),AVAILABLE_Upgrades_Normal_Troops[#All],MATCH(AY$2,AVAILABLE_Upgrades_Normal_Troops[#Headers],0)+1)","v":0},{"$f":"VLOOKUP(IF(ISERROR(LOOKUP(MATCH(1,Paramètres!$K$6:$K$45,0),Paramètres!$A$6:$A$45)),0,LOOKUP(MATCH(1,Paramètres!$K$6:$K$45,0),Paramètres!$A$6:$A$45)),AVAILABLE_Upgrades_Normal_Troops[#All],MATCH(AZ$2,AVAILABLE_Upgrades_Normal_Troops[#Headers],0)+1)","v":0},{"$f":"VLOOKUP(IF(ISERROR(LOOKUP(MATCH(1,Paramètres!$K$6:$K$45,0),Paramètres!$A$6:$A$45)),0,LOOKUP(MATCH(1,Paramètres!$K$6:$K$45,0),Paramètres!$A$6:$A$45)),AVAILABLE_Upgrades_Normal_Troops[#All],MATCH(BA$2,AVAILABLE_Upgrades_Normal_Troops[#Headers],0)+1)","v":0},{"$f":"VLOOKUP(IF(ISERROR(LOOKUP(MATCH(1,Paramètres!$K$6:$K$45,0),Paramètres!$A$6:$A$45)),0,LOOKUP(MATCH(1,Paramètres!$K$6:$K$45,0),Paramètres!$A$6:$A$45)),AVAILABLE_Upgrades_Normal_Troops[#All],MATCH(BB$2,AVAILABLE_Upgrades_Normal_Troops[#Headers],0)+1)","v":0},{"$f":"VLOOKUP(IF(ISERROR(LOOKUP(MATCH(1,Paramètres!$K$6:$K$45,0),Paramètres!$A$6:$A$45)),0,LOOKUP(MATCH(1,Paramètres!$K$6:$K$45,0),Paramètres!$A$6:$A$45)),AVAILABLE_Upgrades_Dark_Troops[#All],MATCH(BC$2,AVAILABLE_Upgrades_Dark_Troops[#Headers],0)+1)","v":0},{"$f":"VLOOKUP(IF(ISERROR(LOOKUP(MATCH(1,Paramètres!$K$6:$K$45,0),Paramètres!$A$6:$A$45)),0,LOOKUP(MATCH(1,Paramètres!$K$6:$K$45,0),Paramètres!$A$6:$A$45)),AVAILABLE_Upgrades_Dark_Troops[#All],MATCH(BD$2,AVAILABLE_Upgrades_Dark_Troops[#Headers],0)+1)","v":0},{"$f":"VLOOKUP(IF(ISERROR(LOOKUP(MATCH(1,Paramètres!$K$6:$K$45,0),Paramètres!$A$6:$A$45)),0,LOOKUP(MATCH(1,Paramètres!$K$6:$K$45,0),Paramètres!$A$6:$A$45)),AVAILABLE_Upgrades_Dark_Troops[#All],MATCH(BE$2,AVAILABLE_Upgrades_Dark_Troops[#Headers],0)+1)","v":0},{"$f":"VLOOKUP(IF(ISERROR(LOOKUP(MATCH(1,Paramètres!$K$6:$K$45,0),Paramètres!$A$6:$A$45)),0,LOOKUP(MATCH(1,Paramètres!$K$6:$K$45,0),Paramètres!$A$6:$A$45)),AVAILABLE_Upgrades_Dark_Troops[#All],MATCH(BF$2,AVAILABLE_Upgrades_Dark_Troops[#Headers],0)+1)","v":0},{"$f":"VLOOKUP(IF(ISERROR(LOOKUP(MATCH(1,Paramètres!$K$6:$K$45,0),Paramètres!$A$6:$A$45)),0,LOOKUP(MATCH(1,Paramètres!$K$6:$K$45,0),Paramètres!$A$6:$A$45)),AVAILABLE_Upgrades_Dark_Troops[#All],MATCH(BG$2,AVAILABLE_Upgrades_Dark_Troops[#Headers],0)+1)","v":0},{"$f":"VLOOKUP(IF(ISERROR(LOOKUP(MATCH(1,Paramètres!$K$6:$K$45,0),Paramètres!$A$6:$A$45)),0,LOOKUP(MATCH(1,Paramètres!$K$6:$K$45,0),Paramètres!$A$6:$A$45)),AVAILABLE_Upgrades_Dark_Troops[#All],MATCH(BH$2,AVAILABLE_Upgrades_Dark_Troops[#Headers],0)+1)","v":0},{"$f":"VLOOKUP(IF(ISERROR(LOOKUP(MATCH(1,Paramètres!$K$6:$K$45,0),Paramètres!$A$6:$A$45)),0,LOOKUP(MATCH(1,Paramètres!$K$6:$K$45,0),Paramètres!$A$6:$A$45)),AVAILABLE_Upgrades_Dark_Troops[#All],MATCH(BI$2,AVAILABLE_Upgrades_Dark_Troops[#Headers],0)+1)","v":0},{"$f":"VLOOKUP($BN$2,AVAILABLE_Heroes[#All],MATCH(BJ$2,AVAILABLE_Heroes[#Headers],0)+1)","v":0},{"$f":"VLOOKUP($BN$2,AVAILABLE_Heroes[#All],MATCH(BK$2,AVAILABLE_Heroes[#Headers],0)+1)","v":0},{"$f":"VLOOKUP($BN$2,AVAILABLE_Heroes[#All],MATCH(BL$2,AVAILABLE_Heroes[#Headers],0)+1)","v":0}]
[1,null,null,null,null,null,null,null,null,null,null,null,null,null,null,null,null,null,null,null,null,null,null,null,null,null,null,null,null,null,null,{"$f":"IF($BN$2=1,1,0)","v":1},null,null,null,null,null,null,null,null,null,null,null,null,null,null,null,null,null,null,null,null,null,null,null,null,null,null,null,null,null,null,null,null,null,"Cellule rouge :","Amélioration indisponible"]
[2,null,null,null,null,null,null,null,null,null,null,null,null,null,null,null,null,null,null,null,null,null,null,null,null,null,null,null,null,null,null,{"$f":"IF($BN$2=2,1,0)","v":0}]
[3,null,null,null,null,null,null,null,null,null,null,null,null,null,null,null,null,null,null,null,null,null,null,null,null,null,null,null,null,null,null,{"$f":"IF($BN$2=3,1,0)","v":0}]
[4,null,null,null,null,null,null,null,null,null,null,null,null,null,null,null,null,null,null,null,null,null,null,null,null,null,null,null,null,null,null,{"$f":"IF($BN$2=4,1,0)","v":0}]
[5,null,null,null,null,null,null,null,null,null,null,null,null,null,null,null,null,null,null,null,null,null,null,null,null,null,null,null,null,null,null,{"$f":"IF($BN$2=5,1,0)","v":0},null,null,null,null,null,null,null,null,null,null,null,null,null,null,null,null,null,null,null,null,null,null,null,null,null,null,null,null,null,null,null,null,null,"Cellule verte :","Amélioration max. atteinte"]
[6,null,null,null,null,null,null,null,null,null,null,null,null,null,null,null,null,null,null,null,null,null,null,null,null,null,null,null,null,null,null,{"$f":"IF($BN$2=6,1,0)","v":0}]
[7,null,null,null,null,null,null,null,null,null,null,null,null,null,null,null,null,null,null,null,null,null,null,null,null,null,null,null,null,null,null,{"$f":"IF($BN$2=7,1,0)","v":0}]
[8,null,null,null,null,null,null,null,null,null,null,null,null,null,null,null,null,null,null,null,null,null,null,null,null,null,null,null,null,null,null,{"$f":"IF($BN$2=8,1,0)","v":0}]
[9,null,null,null,null,null,null,null,null,null,null,null,null,null,null,null,null,null,null,null,null,null,null,null,null,null,null,null,null,null,null,{"$f":"IF($BN$2=9,1,0)","v":0},null,null,null,null,null,null,null,null,null,null,null,null,null,null,null,null,null,null,null,null,null,null,null,null,null,null,null,null,null,null,null,null,null,"Colonne orange :","Erreur\nMax. total atteint"]
[10,null,null,null,null,null,null,null,null,null,null,null,null,null,null,null,null,null,null,null,null,null,null,null,null,null,null,null,null,null,null,{"$f":"IF($BN$2=10,1,0)","v":0}]
[11,null,null,null,null,null,null,null,null,null,null,null,null,null,null,null,null,null,null,null,null,null,null,null,null,null,null,null,null,null,null,{"$f":"IF($BN$2=11,1,0)","v":0}]
[12]
[13,null,null,null,null,null,null,null,null,null,null,null,null,null,null,null,null,null,null,null,null,null,null,null,null,null,null,null,null,null,null,null,null,null,null,null,null,null,null,null,null,null,null,null,null,null,null,null,null,null,null,null,null,null,null,null,null,null,null,null,null,null,null,null,null,"INSTRUCTIONS:\n1. LVL HdV : Indiquer le level de votre Hôtel de Ville (1-10)\n\n2. Ouvriers : Indiquer le nombre d'ouvriers que vous avez (1-5)"]
[14]
[15]
[16]
[17]
[18]
[19]
[20]
[21,null,null,null,null,null,null,null,null,null,null,null,null,null,null,null,null,null,null,null,null,null,null,null,null,null,null,null,null,null,null,null,null,null,null,null,null,null,null,null,null,null,null,null,null,null,null,null,null,null,null,null,null,null,null,null,null,null,null,null,null,null,null,null,null,"3.a. Saisir le nombre de Bâtiments que vous avez actuellement avec leurs levels correspondants\n3.b. Saisir le level actuel de vos améliorations de Sorts/Troupes Normales/Troupes Noires\n3.c. Saisir le level actuel de vos Héros"]
[22]
[23]
[24]
[25]
[26]
[27]
[28]
[29]
[30]
[31]
[32]
[33]
[34]
[35]
[36]
[37]
[38]
[39]
[40]
[41]
[42]
[43]
[44]
[45]
[46]
[47]
[48]
[49]
[50]
[51]
["Tot.",{"$f":"SUM(B6:B56)","v":0},{"$f":"SUM(C6:C56)","v":0},0,0,0,0,0,0,0,0,0,0,0,0,0,0,0,0,0,{"$f":"SUM(U6:U56)","v":0},0,0,0,0,0,0,0,0,0,0,1,0,0,0,0,0,0,0,0,0,0,0,0,0,0,0,0,0,0,0,0,0,0,0,0,0,0,0,0,0,{"$f":"SUM(BJ6:BJ56)","v":0},{"$f":"SUM(BK6:BK56)","v":0},{"$f":"SUM(BL6:BL56)","v":0}]
[null,null,null,null,null,null,null,{"$f":"MAX(IF(ISBLANK(Paramètres!$H$6:$H$45),0,ROW(Paramètres!$H$6:$H$45)))-5","v":-5},{"$f":"MAX(IF(ISBLANK(Paramètres!$I$6:$I$45),0,ROW(Paramètres!$I$6:$I$45)))-5","v":-5},null,null,{"$f":"MAX(IF(ISBLANK(Paramètres!$L$6:$L$45),0,ROW(Paramètres!$L$6:$L$45)))-5","v":-5},{"$f":"MAX(IF(ISBLANK(Paramètres!$M$6:$M$45),0,ROW(Paramètres!$M$6:$M$45)))-5","v":-5},null,null,null,null,null,null,null,null,null,null,null,null,null,null,null,null,null,null,null,{"$f":"VLOOKUP($A45,LABO_Spells[#All],MATCH(AG$2,LABO_Spells[#Headers],0))","v":7},{"$f":"VLOOKUP($A45,LABO_Spells[#All],MATCH(AH$2,LABO_Spells[#Headers],0))","v":6},{"$f":"VLOOKUP($A45,LABO_Spells[#All],MATCH(AI$2,LABO_Spells[#Headers],0))","v":5},{"$f":"VLOOKUP($A45,LABO_Spells[#All],MATCH(AJ$2,LABO_Spells[#Headers],0))","v":3},{"$f":"VLOOKUP($A45,LABO_Spells[#All],MATCH(AK$2,LABO_Spells[#Headers],0))","v":5},{"$f":"VLOOKUP($A45,LABO_Spells[#All],MATCH(AL$2,LABO_Spells[#Headers],0))","v":4},{"$f":"VLOOKUP($A45,LABO_Dark_Spells[#All],MATCH(AM$2,LABO_Dark_Spells[#Headers],0))","v":5},{"$f":"VLOOKUP($A45,LABO_Dark_Spells[#All],MATCH(AN$2,LABO_Dark_Spells[#Headers],0))","v":4},{"$f":"VLOOKUP($A45,LABO_Dark_Spells[#All],MATCH(AO$2,LABO_Dark_Spells[#Headers],0))","v":4},{"$f":"VLOOKUP($A45,LABO_Dark_Spells[#All],MATCH(AP$2,LABO_Dark_Spells[#Headers],0))","v":4},{"$f":"VLOOKUP(A45,LABO_Normal_Troops[#All],MATCH(AQ$2,LABO_Normal_Troops[#Headers],0))","v":7},{"$f":"VLOOKUP(A45,LABO_Normal_Troops[#All],MATCH(AR$2,LABO_Normal_Troops[#Headers],0))","v":7},{"$f":"VLOOKUP(A45,LABO_Normal_Troops[#All],MATCH(AS$2,LABO_Normal_Troops[#Headers],0))","v":8},{"$f":"VLOOKUP(A45,LABO_Normal_Troops[#All],MATCH(AT$2,LABO_Normal_Troops[#Headers],0))","v":7},{"$f":"VLOOKUP(A45,LABO_Normal_Troops[#All],MATCH(AU$2,LABO_Normal_Troops[#Headers],0))","v":6},{"$f":"VLOOKUP(A45,LABO_Normal_Troops[#All],MATCH(AV$2,LABO_Normal_Troops[#Headers],0))","v":7},{"$f":"VLOOKUP(A45,LABO_Normal_Troops[#All],MATCH(AW$2,LABO_Normal_Troops[#Headers],0))","v":7},{"$f":"VLOOKUP(A45,LABO_Normal_Troops[#All],MATCH(AX$2,LABO_Normal_Troops[#Headers],0))","v":4},{"$f":"VLOOKUP(A45,LABO_Normal_Troops[#All],MATCH(AY$2,LABO_Normal_Troops[#Headers],0))","v":6},{"$f":"VLOOKUP(A45,LABO_Normal_Troops[#All],MATCH(AZ$2,LABO_Normal_Troops[#Headers],0))","v":5},{"$f":"VLOOKUP(A45,LABO_Normal_Troops[#All],MATCH(BA$2,LABO_Normal_Troops[#Headers],0))","v":5},{"$f":"VLOOKUP(A45,LABO_Normal_Troops[#All],MATCH(BB$2,LABO_Normal_Troops[#Headers],0))","v":4},{"$f":"VLOOKUP(A45,LABO_Dark_Troops[#All],MATCH(BC$2,LABO_Dark_Troops[#Headers],0))","v":7},{"$f":"VLOOKUP(A45,LABO_Dark_Troops[#All],MATCH(BD$2,LABO_Dark_Troops[#Headers],0))","v":7},{"$f":"VLOOKUP(A45,LABO_Dark_Troops[#All],MATCH(BE$2,LABO_Dark_Troops[#Headers],0))","v":5},{"$f":"VLOOKUP(A45,LABO_Dark_Troops[#All],MATCH(BF$2,LABO_Dark_Troops[#Headers],0))","v":6},{"$f":"VLOOKUP(A45,LABO_Dark_Troops[#All],MATCH(BG$2,LABO_Dark_Troops[#Headers],0))","v":3},{"$f":"VLOOKUP(A45,LABO_Dark_Troops[#All],MATCH(BH$2,LABO_Dark_Troops[#Headers],0))","v":4},{"$f":"VLOOKUP(A45,LABO_Dark_Troops[#All],MATCH(BI$2,LABO_Dark_Troops[#Headers],0))","v":3},{"$f":"VLOOKUP(A45,AVAILABLE_Heroes[#All],MATCH(BJ$2,AVAILABLE_Heroes[#Headers],0)+1)","v":45},{"$f":"VLOOKUP(A45,AVAILABLE_Heroes[#All],MATCH(BK$2,AVAILABLE_Heroes[#Headers],0)+1)","v":45},{"$f":"VLOOKUP(A45,AVAILABLE_Heroes[#All],MATCH(BL$2,AVAILABLE_Heroes[#Headers],0)+1)","v":20}]
["+","NB Up","NB Up","NB Up","NB Up","NB Up","NB Up","NB Up","NB Up","NB Up","NB Up","NB Up","NB Up","NB Up","NB Up","NB Up","NB Up","NB Up","NB Up","NB Up","NB Up","NB Up","NB Up","NB Up","NB Up","NB Up","NB Up","NB Up","NB Up","NB Up","NB Up","vNB Up","NB Up","NB Up","NB Up","NB Up","NB Up","NB Up","NB Up","NB Up","NB Up","NB Up","NB Up","NB Up","NB Up","NB Up","NB Up","NB Up","NB Up","NB Up","NB Up","NB Up","NB Up","NB Up","NB Up","NB Up","NB Up","NB Up","NB Up","NB Up","NB Up","NB Up","NB Up","NB Up"]
[1,{"$f":"IF($A6-1<B$5,IF(B4>0,B4,IF(B6>0,0,B$4+B6)),0)","v":1},1,0,1,1,0,1,0,1,{"$f":"IF($A6-1<K$5,IF(K4>0,K4,IF(K6>0,0,K$4+K6)),0)","v":0},{"$f":"IF($A6-1<L$5,IF(L4>0,L4,IF(L6>0,0,L$4+L6)),0)","v":0},{"$f":"IF($A6-1<M$5,IF(M4>0,M4,IF(M6>0,0,M$4+M6)),0)","v":0},0,2,0,0,0,0,{"$f":"IF($A6-1<T$5,IF(T4>0,T4,IF(T6>0,0,T$4+T6)),0)","v":0},0,0,{"$f":"IF($A6-1<W$5,IF(W4>0,W4,IF(W6>0,0,W$4+W6)),0)","v":0},0,0,0,0,0,0,0,0,{"$f":"IF($A6-1<AF$5,IF(AF4>0,AF4,IF(AF6>0,0,AF$4+AF6)),0)","v":0},0,0,0,{"$f":"IF($A6-1<AJ$5,IF(AJ4>0,AJ4,IF(AJ6>0,0,AJ$4+AJ6)),0)","v":0},{"$f":"IF($A6-1<AK$5,IF(AK4>0,AK4,IF(AK6>0,0,AK$4+AK6)),0)","v":0},{"$f":"IF($A6-1<AL$5,IF(AL4>0,AL4,IF(AL6>0,0,AL$4+AL6)),0)","v":0},0,0,0,0,0,0,0,0,0,0,0,0,0,0,{"$f":"IF($A6-1<BA$5,IF(BA4>0,BA4,IF(BA6>0,0,BA$4+BA6)),0)","v":0},{"$f":"IF($A5<BB$5,IF(BB59<>0,BB59+BB5,BB5),0)","v":0},0,0,0,0,0,{"$f":"IF($A6-1<BH$5,IF(BH4>0,BH4,IF(BH6>0,0,BH$4+BH6)),0)","v":0},{"$f":"IF($A6-1<BI$5,IF(BI4>0,BI4,IF(BI6>0,0,BI$4+BI6)),0)","v":0},0,{"$f":"IF($A6-1<BK$5,IF(BK4>0,BK4,IF(BK6>0,0,BK$4+BK6)),0)","v":0},{"$f":"IF($A6-1<BL$5,IF(BL4>0,BL4,IF(BL6>0,0,BL$4+BL6)),0)","v":0}]
[2,{"$f":"IF($A6<B$5,IF(B60<>0,B60+B6,B6),0)","v":1},{"$f":"IF($A6<C$5,IF(C60<>0,C60+C6,C6),0)","v":1},{"$f":"IF($A6<D$5,IF(D60<>0,D60+D6,D6),0)","v":0},{"$f":"IF($A6<E$5,IF(E60<>0,E60+E6,E6),0)","v":0},{"$f":"IF($A6<F$5,IF(F60<>0,F60+F6,F6),0)","v":0},{"$f":"IF($A6<G$5,IF(G60<>0,G60+G6,G6),0)","v":0},{"$f":"IF($A6<H$5,IF(H60<>0,H60+H6,H6),0)","v":1},{"$f":"IF($A6<I$5,IF(I60<>0,I60+I6,I6),0)","v":0},{"$f":"IF($A6<J$5,IF(J60<>0,J60+J6,J6),0)","v":0},{"$f":"IF($A6<K$5,IF(K60<>0,K60+K6,K6),0)","v":0},{"$f":"IF($A6<L$5,IF(L60<>0,L60+L6,L6),0)","v":0},{"$f":"IF($A6<M$5,IF(M60<>0,M60+M6,M6),0)","v":0},{"$f":"IF($A6<N$5,IF(N60<>0,N60+N6,N6),0)","v":0},{"$f":"IF($A6<O$5,IF(O60<>0,O60+O6,O6),0)","v":2},{"$f":"IF($A6<P$5,IF(P60<>0,P60+P6,P6),0)","v":0},{"$f":"IF($A6<Q$5,IF(Q60<>0,Q60+Q6,Q6),0)","v":0},{"$f":"IF($A6<R$5,IF(R60<>0,R60+R6,R6),0)","v":0},{"$f":"IF($A6<S$5,IF(S60<>0,S60+S6,S6),0)","v":0},{"$f":"IF($A6<T$5,IF(T60<>0,T60+T6,T6),0)","v":0},{"$f":"IF($A6<U$5,IF(U60<>0,U60+U6,U6),0)","v":0},{"$f":"IF($A6<V$5,IF(V60<>0,V60+V6,V6),0)","v":0},{"$f":"IF($A6<W$5,IF(W60<>0,W60+W6,W6),0)","v":0},{"$f":"IF($A6<X$5,IF(X60<>0,X60+X6,X6),0)","v":0},{"$f":"IF($A6<Y$5,IF(Y60<>0,Y60+Y6,Y6),0)","v":0},{"$f":"IF($A6<Z$5,IF(Z60<>0,Z60+Z6,Z6),0)","v":0},{"$f":"IF($A6<AA$5,IF(AA60<>0,AA60+AA6,AA6),0)","v":0},{"$f":"IF($A6<AB$5,IF(AB60<>0,AB60+AB6,AB6),0)","v":0},{"$f":"IF($A6<AC$5,IF(AC60<>0,AC60+AC6,AC6),0)","v":0},{"$f":"IF($A6<AD$5,IF(AD60<>0,AD60+AD6,AD6),0)","v":0},{"$f":"IF($A6<AE$5,IF(AE60<>0,AE60+AE6,AE6),0)","v":0},{"$f":"IF($A6<AF$5,IF(AF60<>0,AF60+AF6,AF6),0)","v":1},{"$f":"IF($A6<AG$5,IF(AG60<>0,AG60+AG6,AG6),0)","v":0},0,0,0,0,0,0,0,0,0,{"$f":"IF($A6<AQ$5,IF(AQ60<>0,AQ60+AQ6,AQ6),0)","v":0},{"$f":"IF($A6<AR$5,IF(AR60<>0,AR60+AR6,AR6),0)","v":0},{"$f":"IF($A6<AS$5,IF(AS60<>0,AS60+AS6,AS6),0)","v":0},{"$f":"IF($A6<AT$5,IF(AT60<>0,AT60+AT6,AT6),0)","v":0},{"$f":"IF($A6<AU$5,IF(AU60<>0,AU60+AU6,AU6),0)","v":0},{"$f":"IF($A6<AV$5,IF(AV60<>0,AV60+AV6,AV6),0)","v":0},{"$f":"IF($A6<AW$5,IF(AW60<>0,AW60+AW6,AW6),0)","v":0},{"$f":"IF($A6<AX$5,IF(AX60<>0,AX60+AX6,AX6),0)","v":0},{"$f":"IF($A6<AY$5,IF(AY60<>0,AY60+AY6,AY6),0)","v":0},{"$f":"IF($A6<AZ$5,IF(AZ60<>0,AZ60+AZ6,AZ6),0)","v":0},{"$f":"IF($A6<BA$5,IF(BA60<>0,BA60+BA6,BA6),0)","v":0},{"$f":"IF($A6<BB$5,IF(BB60<>0,BB60+BB6,BB6),0)","v":0},{"$f":"IF($A6<BC$5,IF(BC60<>0,BC60+BC6,BC6),0)","v":0},{"$f":"IF($A6<BD$5,IF(BD60<>0,BD60+BD6,BD6),0)","v":0},{"$f":"IF($A6<BE$5,IF(BE60<>0,BE60+BE6,BE6),0)","v":0},{"$f":"IF($A6<BF$5,IF(BF60<>0,BF60+BF6,BF6),0)","v":0},{"$f":"IF($A6<BG$5,IF(BG60<>0,BG60+BG6,BG6),0)","v":0},{"$f":"IF($A6<BH$5,IF(BH60<>0,BH60+BH6,BH6),0)","v":0},{"$f":"IF($A6<BI$5,IF(BI60<>0,BI60+BI6,BI6),0)","v":0},{"$f":"IF($A6<BJ$5,IF(BJ60<>0,BJ60+BJ6,BJ6),0)","v":0},{"$f":"IF($A6<BK$5,IF(BK60<>0,BK60+BK6,BK6),0)","v":0},{"$f":"IF($A6<BL$5,IF(BL60<>0,BL60+BL6,BL6),0)","v":0}]
[3,0,0,0,0,0,0,1,0,0,0,0,0,0,0,0,0,0,0,0,0,0,0,0,0,0,0,0,0,0,0,0,{"$f":"IF($A7<AG$5,IF(AG61<>0,AG61+AG7,AG7),0)","v":0},{"$f":"IF($A7<AH$5,IF(AH61<>0,AH61+AH7,AH7),0)","v":0},{"$f":"IF($A7<AI$5,IF(AI61<>0,AI61+AI7,AI7),0)","v":0},{"$f":"IF($A7<AJ$5,IF(AJ61<>0,AJ61+AJ7,AJ7),0)","v":0},{"$f":"IF($A7<AK$5,IF(AK61<>0,AK61+AK7,AK7),0)","v":0},{"$f":"IF($A7<AL$5,IF(AL61<>0,AL61+AL7,AL7),0)","v":0},{"$f":"IF($A7<AM$5,IF(AM61<>0,AM61+AM7,AM7),0)","v":0},{"$f":"IF($A7<AN$5,IF(AN61<>0,AN61+AN7,AN7),0)","v":0},{"$f":"IF($A7<AO$5,IF(AO61<>0,AO61+AO7,AO7),0)","v":0},{"$f":"IF($A7<AP$5,IF(AP61<>0,AP61+AP7,AP7),0)","v":0},0,0,0,0,0,0,0,0,0,0,0,0,0,0,0,0,0,0,0,0,0,0]
[4,0,0,0,0,0,0,0,0,0,0,0,0,0,0,0,0,0,0,0,0,0,0,0,0,0,0,0,0,0,0,0,0,0,0,0,0,0,0,0,0,0,0,0,0,0,0,0,0,0,0,0,0,0,0,0,0,0,0,0,0,0,0,0]
[5,0,0,0,0,0,0,0,0,0,0,0,0,0,0,0,0,0,0,0,0,0,0,0,0,0,0,0,0,0,0,0,0,0,0,0,0,0,0,0,0,0,0,0,0,0,0,0,0,0,0,0,0,0,0,0,0,0,0,0,0,0,0,0]
[6,0,0,0,0,0,0,0,0,0,0,0,0,0,0,0,0,0,0,0,0,0,0,0,0,0,0,0,0,0,0,0,0,0,0,0,0,0,0,0,0,0,0,0,0,0,0,0,0,0,0,0,0,0,0,0,0,0,0,0,0,0,0,0]
[7,0,0,0,0,0,0,0,0,0,0,0,0,0,0,0,0,0,0,0,0,0,0,0,0,0,0,0,0,0,0,0,0,0,0,0,0,0,0,0,0,0,0,0,0,0,0,0,0,0,0,0,0,0,0,0,0,0,0,0,0,0,0,0]
[8,0,0,0,0,0,0,0,0,0,0,0,0,0,0,0,0,0,0,0,0,0,0,0,0,0,0,0,0,0,0,0,0,0,0,0,0,0,0,0,0,0,0,0,0,0,0,0,0,0,0,0,0,0,0,0,0,0,0,0,0,0,0,0]
[9,0,0,0,0,0,0,0,0,0,0,0,0,0,0,0,0,0,0,0,0,0,0,0,0,0,0,0,0,0,0,0,0,0,0,0,0,0,0,0,0,0,0,0,0,0,0,0,0,0,0,0,0,0,0,0,0,0,0,0,0,0,0,0]
[10,0,0,0,0,0,0,0,0,0,0,0,0,0,0,0,0,0,0,0,0,0,0,0,0,0,0,0,0,0,0,0,0,0,0,0,0,0,0,0,0,0,0,0,0,0,0,0,0,0,0,0,0,0,0,0,0,0,0,0,0,0,0,0]
[11,0,0,0,0,0,0,0,0,0,0,0,0,0,0,0,0,0,0,0,0,0,0,0,0,0,0,0,0,0,0,0,0,0,0,0,0,0,0,0,0,0,0,0,0,0,0,0,0,0,0,0,0,0,0,0,0,0,0,0,0,0,0,0]
[12,0,0,0,0,0,0,0,0,0,0,0,0,0,0,0,0,0,0,0,0,0,0,0,0,0,0,0,0,0,0,0,{"$f":"IF($A16<AG$5,IF(AG70<>0,AG70+AG16,AG16),0)","v":0},0,0,0,0,0,0,0,0,0,0,0,0,0,0,0,0,0,0,0,0,0,0,0,0,0,0,0,0,0,0,0]
[13,0,0,0,0,0,0,0,0,0,0,0,0,0,0,0,0,0,0,0,0,0,0,0,0,0,0,0,0,0,0,0,{"$f":"IF($A17<AG$5,IF(AG71<>0,AG71+AG17,AG17),0)","v":0},0,0,0,0,0,0,0,0,0,0,0,0,0,0,0,0,0,0,0,0,0,0,0,0,0,0,0,0,0,0,0]
[14,0,0,0,0,0,0,0,0,0,0,0,0,0,0,0,0,0,0,0,0,0,0,0,0,0,0,0,0,0,0,0,{"$f":"IF($A18<AG$5,IF(AG72<>0,AG72+AG18,AG18),0)","v":0},0,0,0,0,0,0,0,0,0,0,0,0,0,0,0,0,0,0,0,0,0,0,0,0,0,0,0,0,0,0,0]
[15,0,0,0,0,0,0,0,0,0,0,0,0,0,0,0,0,0,0,0,0,0,0,0,0,0,0,0,0,0,0,0,{"$f":"IF($A19<AG$5,IF(AG73<>0,AG73+AG19,AG19),0)","v":0},{"$f":"IF($A19<AH$5,IF(AH73<>0,AH73+AH19,AH19),0)","v":0},{"$f":"IF($A19<AI$5,IF(AI73<>0,AI73+AI19,AI19),0)","v":0},{"$f":"IF($A19<AJ$5,IF(AJ73<>0,AJ73+AJ19,AJ19),0)","v":0},{"$f":"IF($A19<AK$5,IF(AK73<>0,AK73+AK19,AK19),0)","v":0},{"$f":"IF($A19<AL$5,IF(AL73<>0,AL73+AL19,AL19),0)","v":0},{"$f":"IF($A19<AM$5,IF(AM73<>0,AM73+AM19,AM19),0)","v":0},{"$f":"IF($A19<AN$5,IF(AN73<>0,AN73+AN19,AN19),0)","v":0},{"$f":"IF($A19<AO$5,IF(AO73<>0,AO73+AO19,AO19),0)","v":0},{"$f":"IF($A19<AP$5,IF(AP73<>0,AP73+AP19,AP19),0)","v":0},0,0,0,0,0,0,0,0,0,0,0,0,0,0,0,0,0,0,0,0,0,0]
[16,0,0,0,0,0,0,0,0,0,0,0,0,0,0,0,0,0,0,0,0,0,0,0,0,0,0,0,0,0,0,0,0,0,0,0,0,0,0,0,0,0,0,0,0,0,0,0,0,0,0,0,0,0,0,0,0,0,0,0,0,0,0,0]
[17,0,0,0,0,0,0,0,0,0,0,0,0,0,0,0,0,0,0,0,0,0,0,0,0,0,0,0,0,0,0,0,0,0,0,0,0,0,0,0,0,0,0,0,0,0,0,0,0,0,0,0,0,0,0,0,0,0,0,0,0,0,0,0]
[18,0,0,0,0,0,0,0,0,0,0,0,0,0,0,0,0,0,0,0,0,0,0,0,0,0,0,0,0,0,0,0,0,0,0,0,0,0,0,0,0,0,{"$f":"IF($A22<AQ$5,IF(AQ76<>0,AQ76+AQ22,AQ22),0)","v":0},{"$f":"IF($A22<AR$5,IF(AR76<>0,AR76+AR22,AR22),0)","v":0},{"$f":"IF($A22<AS$5,IF(AS76<>0,AS76+AS22,AS22),0)","v":0},{"$f":"IF($A22<AT$5,IF(AT76<>0,AT76+AT22,AT22),0)","v":0},{"$f":"IF($A22<AU$5,IF(AU76<>0,AU76+AU22,AU22),0)","v":0},{"$f":"IF($A22<AV$5,IF(AV76<>0,AV76+AV22,AV22),0)","v":0},{"$f":"IF($A22<AW$5,IF(AW76<>0,AW76+AW22,AW22),0)","v":0},{"$f":"IF($A22<AX$5,IF(AX76<>0,AX76+AX22,AX22),0)","v":0},{"$f":"IF($A22<AY$5,IF(AY76<>0,AY76+AY22,AY22),0)","v":0},{"$f":"IF($A22<AZ$5,IF(AZ76<>0,AZ76+AZ22,AZ22),0)","v":0},{"$f":"IF($A22<BA$5,IF(BA76<>0,BA76+BA22,BA22),0)","v":0},{"$f":"IF($A22<BB$5,IF(BB76<>0,BB76+BB22,BB22),0)","v":0},{"$f":"IF($A22<BC$5,IF(BC76<>0,BC76+BC22,BC22),0)","v":0},{"$f":"IF($A22<BD$5,IF(BD76<>0,BD76+BD22,BD22),0)","v":0},{"$f":"IF($A22<BE$5,IF(BE76<>0,BE76+BE22,BE22),0)","v":0},{"$f":"IF($A22<BF$5,IF(BF76<>0,BF76+BF22,BF22),0)","v":0},{"$f":"IF($A22<BG$5,IF(BG76<>0,BG76+BG22,BG22),0)","v":0},{"$f":"IF($A22<BH$5,IF(BH76<>0,BH76+BH22,BH22),0)","v":0},{"$f":"IF($A22<BI$5,IF(BI76<>0,BI76+BI22,BI22),0)","v":0},{"$f":"IF($A22<BJ$5,IF(BJ76<>0,BJ76+BJ22,BJ22),0)","v":0},{"$f":"IF($A22<BK$5,IF(BK76<>0,BK76+BK22,BK22),0)","v":0},{"$f":"IF($A22<BL$5,IF(BL76<>0,BL76+BL22,BL22),0)","v":0}]
[19,0,0,0,0,0,0,0,0,0,0,0,0,0,0,0,0,0,0,0,0,0,0,0,0,0,0,0,0,0,0,0,0,0,0,0,0,0,0,0,0,0,0,0,0,0,0,0,0,0,0,0,0,{"$f":"IF($A23<BB$5,IF(BB77<>0,BB77+BB23,BB23),0)","v":0},0,0,0,0,0,0,0,0,0,0]
[20,0,0,0,0,0,0,0,0,0,0,0,0,0,0,0,0,0,0,0,0,0,0,0,0,0,0,0,0,0,0,0,0,0,0,0,0,0,0,0,0,0,0,0,0,0,0,0,0,0,0,0,0,{"$f":"IF($A24<BB$5,IF(BB78<>0,BB78+BB24,BB24),0)","v":0},0,0,0,0,0,0,0,0,0,0]
[21,0,0,0,0,0,0,0,0,0,0,0,0,0,0,0,0,0,0,0,0,0,0,0,0,0,0,0,0,0,0,0,0,0,0,0,0,0,0,0,0,0,0,0,0,0,0,0,0,0,0,0,0,{"$f":"IF($A25<BB$5,IF(BB79<>0,BB79+BB25,BB25),0)","v":0},0,0,0,0,0,0,0,0,0,0]
[22,0,0,0,0,0,0,0,0,0,0,0,0,0,0,0,0,0,0,0,0,0,0,0,0,0,0,0,0,0,0,0,0,0,0,0,0,0,0,0,0,0,0,0,0,0,0,0,0,0,0,0,0,{"$f":"IF($A26<BB$5,IF(BB80<>0,BB80+BB26,BB26),0)","v":0},0,0,0,0,0,0,0,0,0,0]
[23,0,0,0,0,0,0,0,0,0,0,0,0,0,0,0,0,0,0,0,0,0,0,0,0,0,0,0,0,0,0,0,0,0,0,0,0,0,0,0,0,0,0,0,0,0,0,0,0,0,0,0,0,{"$f":"IF($A27<BB$5,IF(BB81<>0,BB81+BB27,BB27),0)","v":0},0,0,0,0,0,0,0,0,0,0]
[24,0,0,0,0,0,0,0,0,0,0,0,0,0,0,0,0,0,0,0,0,0,0,0,0,0,0,0,0,0,0,0,0,0,0,0,0,0,0,0,0,0,0,0,0,0,0,0,0,0,0,0,0,{"$f":"IF($A28<BB$5,IF(BB82<>0,BB82+BB28,BB28),0)","v":0},0,0,0,0,0,0,0,0,0,0]
[25,0,0,0,0,0,0,0,0,0,0,0,0,0,0,0,0,0,0,0,0,0,0,0,0,0,0,0,0,0,0,0,0,0,0,0,0,0,0,0,0,0,0,0,0,0,0,0,0,0,0,0,0,{"$f":"IF($A29<BB$5,IF(BB83<>0,BB83+BB29,BB29),0)","v":0},0,0,0,0,0,0,0,0,0,0]
[26,0,0,0,0,0,0,0,0,0,0,0,0,0,0,0,0,0,0,0,0,0,0,0,0,0,0,0,0,0,0,0,0,0,0,0,0,0,0,0,0,0,0,0,0,0,0,0,0,0,0,0,0,{"$f":"IF($A30<BB$5,IF(BB84<>0,BB84+BB30,BB30),0)","v":0},0,0,0,0,0,0,0,0,0,0]
[27,0,0,0,0,0,0,0,0,0,0,0,0,0,0,0,0,0,0,0,0,0,0,0,0,0,0,0,0,0,0,0,0,0,0,0,0,0,0,0,0,0,0,0,0,0,0,0,0,0,0,0,0,{"$f":"IF($A31<BB$5,IF(BB85<>0,BB85+BB31,BB31),0)","v":0},0,0,0,0,0,0,0,0,0,0]
[28,0,0,0,0,0,0,0,0,0,0,0,0,0,0,0,0,0,0,0,0,0,0,0,0,0,0,0,0,0,0,0,0,0,0,0,0,0,0,0,0,0,0,0,0,0,0,0,0,0,0,0,0,{"$f":"IF($A32<BB$5,IF(BB86<>0,BB86+BB32,BB32),0)","v":0},0,0,0,0,0,0,0,0,0,0]
[29,0,0,0,0,0,0,0,0,0,0,0,0,0,0,0,0,0,0,0,0,0,0,0,0,0,0,0,0,0,0,0,0,0,0,0,0,0,0,0,0,0,0,0,0,0,0,0,0,0,0,0,0,{"$f":"IF($A33<BB$5,IF(BB87<>0,BB87+BB33,BB33),0)","v":0},0,0,0,0,0,0,0,0,0,0]
[30,0,0,0,0,0,0,0,0,0,0,0,0,0,0,0,0,0,0,0,0,0,0,0,0,0,0,0,0,0,0,0,0,0,0,0,0,0,0,0,0,0,0,0,0,0,0,0,0,0,0,0,0,{"$f":"IF($A34<BB$5,IF(BB88<>0,BB88+BB34,BB34),0)","v":0},0,0,0,0,0,0,0,0,0,0]
[31,0,0,0,0,0,0,0,0,0,0,0,0,0,0,0,0,0,0,0,0,0,0,0,0,0,0,0,0,0,0,0,0,0,0,0,0,0,0,0,0,0,0,0,0,0,0,0,0,0,0,0,0,0,0,0,0,0,0,0,0,0,0,0]
[32,0,0,0,0,0,0,0,0,0,0,0,0,0,0,0,0,0,0,0,0,0,0,0,0,0,0,0,0,0,0,0,0,0,0,0,0,0,0,0,0,0,0,0,0,0,0,0,0,0,0,0,0,0,0,0,0,0,0,0,0,0,0,0]
[33,0,0,0,0,0,0,0,0,0,0,0,0,0,0,0,0,0,0,0,0,0,0,0,0,0,0,0,0,0,0,0,0,0,0,0,0,0,0,0,0,0,0,0,0,0,0,0,0,0,0,0,0,0,0,0,0,0,0,0,0,0,0,0]
[34,0,0,0,0,0,0,0,0,0,0,0,0,0,0,0,0,0,0,0,0,0,0,0,0,0,0,0,0,0,0,0,0,0,0,0,0,0,0,0,0,0,0,0,0,0,0,0,0,0,0,0,0,0,0,0,0,0,0,0,0,0,0,0]
[35,0,0,0,0,0,0,0,0,0,0,0,0,0,0,0,0,0,0,0,0,0,0,0,0,0,0,0,0,0,0,0,0,0,0,0,0,0,0,0,0,0,0,0,0,0,0,0,0,0,0,0,0,0,0,0,0,0,0,0,0,0,0,0]
[36,0,0,0,0,0,0,0,0,0,0,0,0,0,0,0,0,0,0,0,0,0,0,0,0,0,0,0,0,0,0,0,0,0,0,0,0,0,0,0,0,0,0,0,0,0,0,0,0,0,0,0,0,0,0,0,0,0,0,0,0,0,0,0]
[37,0,0,0,0,0,0,0,0,0,0,0,0,0,0,0,0,0,0,0,0,0,0,0,0,0,0,0,0,0,0,0,0,0,0,0,0,0,0,0,0,0,0,0,0,0,0,0,0,0,0,0,0,0,0,0,0,0,0,0,0,0,0,0]
[38,0,0,0,0,0,0,0,0,0,0,0,0,0,0,0,0,0,0,0,0,0,0,0,0,0,0,0,0,0,0,0,0,0,0,0,0,0,0,0,0,0,0,0,0,0,0,0,0,0,0,0,0,0,0,0,0,0,0,0,0,0,0,0]
[39,0,0,0,0,0,0,0,0,0,0,0,0,0,0,0,0,0,0,0,0,0,0,0,0,0,0,0,0,0,0,0,0,0,0,0,0,0,0,0,0,0,0,0,0,0,0,0,0,0,0,0,0,0,0,0,0,0,0,0,0,0,0,0]
[40,0,0,0,0,0,0,0,0,0,0,0,0,0,0,0,0,0,0,0,0,0,0,0,0,0,0,0,0,0,0,0,0,0,0,0,0,0,0,0,0,0,0,0,0,0,0,0,0,0,0,0,0,0,0,0,0,0,0,0,0,0,0,0]
[41,0,0,0,0,0,0,0,0,0,0,0,0,0,0,0,0,0,0,0,0,0,0,0,0,0,0,0,0,0,0,0,0,0,0,0,0,0,0,0,0,0,0,0,0,0,0,0,0,0,0,0,0,0,0,0,0,0,0,0,0,0,0,0]
[42,0,0,0,0,0,0,0,0,0,0,0,0,0,0,0,0,0,0,0,0,0,0,0,0,0,0,0,0,0,0,0,0,0,0,0,0,0,0,0,0,0,0,0,0,0,0,0,0,0,0,0,0,0,0,0,0,0,0,0,0,0,0,0]
[43,0,0,0,0,0,0,0,0,0,0,0,0,0,0,0,0,0,0,0,0,0,0,0,0,0,0,0,0,0,0,0,0,0,0,0,0,0,0,0,0,0,0,0,0,0,0,0,0,0,0,0,0,0,0,0,0,0,0,0,0,0,0,0]
[44,0,0,0,0,0,0,0,0,0,0,0,0,0,0,0,0,0,0,0,0,0,0,0,0,0,0,0,0,0,0,0,0,0,0,0,0,0,0,0,0,0,0,0,0,0,0,0,0,0,0,0,0,0,0,0,0,0,0,0,0,0,0,0]
[45,0,0,0,0,0,0,0,0,0,0,0,0,0,0,0,0,0,0,0,0,0,0,0,0,0,0,0,0,0,0,0,0,0,0,0,0,0,0,0,0,0,0,0,0,0,0,0,0,0,0,0,0,0,0,0,0,0,0,0,0,0,0,0]
[46,0,0,0,0,0,0,0,0,0,0,0,0,0,0,0,0,0,0,0,0,0,0,0,0,0,0,0,0,0,0,0,0,0,0,0,0,0,0,0,0,0,0,0,0,0,0,0,0,0,0,0,0,0,0,0,0,0,0,0,0,0,0,0]
[47,0,0,0,0,0,0,0,0,0,0,0,0,0,0,0,0,0,0,0,0,0,0,0,0,0,0,0,0,0,0,0,0,0,0,0,0,0,0,0,0,0,0,0,0,0,0,0,0,0,0,0,0,0,0,0,0,0,0,0,0,0,0,0]
[48,0,0,0,0,0,0,0,0,0,0,0,0,0,0,0,0,0,0,0,0,0,0,0,0,0,0,0,0,0,0,0,0,0,0,0,0,0,0,0,0,0,0,0,0,0,0,0,0,0,0,0,0,0,0,0,0,0,0,0,0,0,0,0]
[49,0,0,0,0,0,0,0,0,0,0,0,0,0,0,0,0,0,0,0,0,0,0,0,0,0,0,0,0,0,0,0,0,0,0,0,0,0,0,0,0,0,0,0,0,0,0,0,0,0,0,0,0,0,0,0,0,0,0,0,0,0,0,0]
[50,0,0,0,0,0,0,0,0,0,0,0,0,0,0,0,0,0,0,0,0,0,0,0,0,0,0,0,0,0,0,0,0,0,0,0,0,0,0,0,0,0,0,0,0,0,0,0,0,0,0,0,0,0,0,0,0,0,0,0,0,0,0,0]
[51,0,0,0,0,0,0,0,0,0,0,0,0,0,0,0,0,0,0,0,0,0,0,0,0,0,0,0,0,0,0,0,0,0,0,0,0,0,0,0,0,0,0,0,0,0,0,0,0,0,0,0,0,0,0,0,0,0,0,0,0,0,0,0]
["Tot.",{"$f":"SUM(B60:B110)","v":2},{"$f":"SUM(C60:C110)","v":2},0,1,1,0,3,0,1,0,0,0,0,4,0,{"$f":"SUM(Q60:Q110)","v":0},{"$f":"SUM(R60:R110)","v":0},0,{"$f":"SUM(T60:T110)","v":0},0,0,0,{"$f":"SUM(X60:X110)","v":0},0,0,0,0,0,0,0,1,0,0,0,0,0,0,0,0,0,0,0,0,0,0,0,0,0,0,0,0,0,0,0,0,{"$f":"SUM(BE60:BE110)","v":0},0,{"$f":"SUM(BG60:BG110)","v":0},{"$f":"SUM(BH60:BH110)","v":0},{"$f":"SUM(BI60:BI110)","v":0},0,{"$f":"SUM(BK60:BK110)","v":0},0]

{"sheet":"Production","index":13,"n_rows":20,"n_cols":5,"rows_kept":20,"cut":false,"hidden":false,"merged":[[2,0,2,3]]}
["LVL HdV","Période","Or Total :","Élixir Total :","Élixir Noir Total :"]
[{"$f":"Paramètres!$BN$2","v":1},"1 jour",{"$f":"'À Faire - Récapitulatif'!H2","v":"4 250"},{"$f":"'À Faire - Récapitulatif'!K2","v":"4 700"},{"$f":"'À Faire - Récapitulatif'!M2","v":"0"}]
["Production"]
["Type","Mine d'Or","Extracteur d'Élixir","Foreuse d'Élixir Noir"]
["Max +",{"$f":"VLOOKUP($A$2,AVAILABLE_Buildings_Resource[#All],MATCH(B$4,AVAILABLE_Buildings_Resource[#Headers],0)+1)","v":2},{"$f":"VLOOKUP($A$2,AVAILABLE_Buildings_Resource[#All],MATCH(C$4,AVAILABLE_Buildings_Resource[#Headers],0)+1)","v":2},{"$f":"VLOOKUP($A$2,AVAILABLE_Buildings_Resource[#All],MATCH(D$4,AVAILABLE_Buildings_Resource[#Headers],0)+1)","v":0}]
[1,{"$f":"Paramètres!B6","v":0},{"$f":"Paramètres!C6","v":0},{"$f":"Paramètres!D6","v":0}]
[2,{"$f":"Paramètres!B7","v":0},{"$f":"Paramètres!C7","v":0},{"$f":"Paramètres!D7","v":0}]
[3,{"$f":"Paramètres!B8","v":0},{"$f":"Paramètres!C8","v":0},{"$f":"Paramètres!D8","v":0}]
[4,{"$f":"Paramètres!B9","v":0},{"$f":"Paramètres!C9","v":0},{"$f":"Paramètres!D9","v":0}]
[5,{"$f":"Paramètres!B10","v":0},{"$f":"Paramètres!C10","v":0},{"$f":"Paramètres!D10","v":0}]
[6,{"$f":"Paramètres!B11","v":0},{"$f":"Paramètres!C11","v":0},{"$f":"Paramètres!D11","v":0}]
[7,{"$f":"Paramètres!B12","v":0},{"$f":"Paramètres!C12","v":0},{"$f":"Paramètres!D12","v":0}]
[8,{"$f":"Paramètres!B13","v":0},{"$f":"Paramètres!C13","v":0},{"$f":"Paramètres!D13","v":0}]
[9,{"$f":"Paramètres!B14","v":0},{"$f":"Paramètres!C14","v":0},{"$f":"Paramètres!D14","v":0}]
[10,{"$f":"Paramètres!B15","v":0},{"$f":"Paramètres!C15","v":0},{"$f":"Paramètres!D15","v":0}]
[11,{"$f":"Paramètres!B16","v":0},{"$f":"Paramètres!C16","v":0},{"$f":"Paramètres!D16","v":0}]
[12,{"$f":"Paramètres!B17","v":0},{"$f":"Paramètres!C17","v":0},{"$f":"Paramètres!D17","v":0}]
["Production / heure",{"$f":"SUMPRODUCT(B6:B17,EARNINGS_Gold_Mine[Production])","v":0},{"$f":"SUMPRODUCT(C6:C17,EARNINGS_Elixir_Collector[Production])","v":0},{"$f":"SUMPRODUCT(D6:D11,EARNINGS_Dark_Elixir_Drill[Production])","v":0}]
["Production / période",{"$f":"IF($B$2='Paramètres - Admin'!$E$2,B18,IF($B$2='Paramètres - Admin'!$E$3,B18*2,IF($B$2='Paramètres - Admin'!$E$4,B18*4,IF($B$2='Paramètres - Admin'!$E$5,B18*8,IF($B$2='Paramètres - Admin'!$E$6,B18*12,IF($B$2='Paramètres - Admin'!$E$7,B18*16,IF($B$2='Paramètres - Admin'!$E$8,B18*24,IF($B$2='Paramètres - Admin'!$E$9,B18*48,IF($B$2='Paramètres - Admin'!$E$10,B18*72,IF($B$2='Paramètres - Admin'!$E$11,B18*168,IF($B$2='Paramètres - Admin'!$E$12,B18*720)))))))))))","v":0},{"$f":"IF($B$2='Paramètres - Admin'!$E$2,C18,IF($B$2='Paramètres - Admin'!$E$3,C18*2,IF($B$2='Paramètres - Admin'!$E$4,C18*4,IF($B$2='Paramètres - Admin'!$E$5,C18*8,IF($B$2='Paramètres - Admin'!$E$6,C18*12,IF($B$2='Paramètres - Admin'!$E$7,C18*16,IF($B$2='Paramètres - Admin'!$E$8,C18*24,IF($B$2='Paramètres - Admin'!$E$9,C18*48,IF($B$2='Paramètres - Admin'!$E$10,C18*72,IF($B$2='Paramètres - Admin'!$E$11,C18*168,IF($B$2='Paramètres - Admin'!$E$12,C18*720)))))))))))","v":0},{"$f":"IF($B$2='Paramètres - Admin'!$E$2,D18,IF($B$2='Paramètres - Admin'!$E$3,D18*2,IF($B$2='Paramètres - Admin'!$E$4,D18*4,IF($B$2='Paramètres - Admin'!$E$5,D18*8,IF($B$2='Paramètres - Admin'!$E$6,D18*12,IF($B$2='Paramètres - Admin'!$E$7,D18*16,IF($B$2='Paramètres - Admin'!$E$8,D18*24,IF($B$2='Paramètres - Admin'!$E$9,D18*48,IF($B$2='Paramètres - Admin'!$E$10,D18*72,IF($B$2='Paramètres - Admin'!$E$11,D18*168,IF($B$2='Paramètres - Admin'!$E$12,D18*720)))))))))))","v":0}]
["Temps pour obtenir besoins",{"$f":"IF(B$18<>0,IF($B$2='Paramètres - Admin'!$B$2,TEXT((C2/B$18)*60*60,\"# 0\")&\" \" & 'Paramètres - Admin'!$B$2,IF($B$2='Paramètres - Admin'!$B$3,TEXT((C2/B$18)*60,\"# 0\")&\" \" & 'Paramètres - Admin'!$B$3,IF($B$2='Paramètres - Admin'!$B$4,TEXT((C2/B$18),\"# 0,00\")&\" \" & 'Paramètres - Admin'!$B$4,IF($B$2='Paramètres - Admin'!$B$5,TEXT((C2/B$18)/24,\"# 0,00\")&\" \" & 'Paramètres - Admin'!$B$5,IF($B$2='Paramètres - Admin'!$B$6,TEXT(((C2/B$18)/24)/30,\"# 0,00\")&\" \" & 'Paramètres - Admin'!$B$6,IF((C2/B$18)/24>=1,INT((C2/B$18)/24)&\" \" &  'Paramètres - Admin'!$D$4 & \" \" & HOUR((C2/B$18)/24-INT((C2/B$18)/24))&\" \" &  'Paramètres - Admin'!$D$3 & \" \" & MINUTE((C2/B$18)/24-INT((C2/B$18)/24))&\" \" &  'Paramètres - Admin'!$D$2,HOUR((C2/B$18)/24-INT((C2/B$18)/24))&\" \" &  'Paramètres - Admin'!$D$3 & \" \" & MINUTE((C2/B$18)/24-INT((C2/B$18)/24))&\" \" &  'Paramètres - Admin'!$D$2)))))),0)","v":0},{"$f":"IF(C$18<>0,IF($B$2='Paramètres - Admin'!$B$2,TEXT((D2/C$18)*60*60,\"# 0\")&\" \" & 'Paramètres - Admin'!$B$2,IF($B$2='Paramètres - Admin'!$B$3,TEXT((D2/C$18)*60,\"# 0\")&\" \" & 'Paramètres - Admin'!$B$3,IF($B$2='Paramètres - Admin'!$B$4,TEXT((D2/C$18),\"# 0,00\")&\" \" & 'Paramètres - Admin'!$B$4,IF($B$2='Paramètres - Admin'!$B$5,TEXT((D2/C$18)/24,\"# 0,00\")&\" \" & 'Paramètres - Admin'!$B$5,IF($B$2='Paramètres - Admin'!$B$6,TEXT(((D2/C$18)/24)/30,\"# 0,00\")&\" \" & 'Paramètres - Admin'!$B$6,IF((D2/C$18)/24>=1,INT((D2/C$18)/24)&\" \" &  'Paramètres - Admin'!$D$4 & \" \" & HOUR((D2/C$18)/24-INT((D2/C$18)/24))&\" \" &  'Paramètres - Admin'!$D$3 & \" \" & MINUTE((D2/C$18)/24-INT((D2/C$18)/24))&\" \" &  'Paramètres - Admin'!$D$2,HOUR((D2/C$18)/24-INT((D2/C$18)/24))&\" \" &  'Paramètres - Admin'!$D$3 & \" \" & MINUTE((D2/C$18)/24-INT((D2/C$18)/24))&\" \" &  'Paramètres - Admin'!$D$2)))))),0)","v":0},{"$f":"IF(D$18<>0,IF($B$2='Paramètres - Admin'!$B$2,TEXT((E2/D$18)*60*60,\"# 0\")&\" \" & 'Paramètres - Admin'!$B$2,IF($B$2='Paramètres - Admin'!$B$3,TEXT((E2/D$18)*60,\"# 0\")&\" \" & 'Paramètres - Admin'!$B$3,IF($B$2='Paramètres - Admin'!$B$4,TEXT((E2/D$18),\"# 0,00\")&\" \" & 'Paramètres - Admin'!$B$4,IF($B$2='Paramètres - Admin'!$B$5,TEXT((E2/D$18)/24,\"# 0,00\")&\" \" & 'Paramètres - Admin'!$B$5,IF($B$2='Paramètres - Admin'!$B$6,TEXT(((E2/D$18)/24)/30,\"# 0,00\")&\" \" & 'Paramètres - Admin'!$B$6,IF((E2/D$18)/24>=1,INT((E2/D$18)/24)&\" \" &  'Paramètres - Admin'!$D$4 & \" \" & HOUR((E2/D$18)/24-INT((E2/D$18)/24))&\" \" &  'Paramètres - Admin'!$D$3 & \" \" & MINUTE((E2/D$18)/24-INT((E2/D$18)/24))&\" \" &  'Paramètres - Admin'!$D$2,HOUR((E2/D$18)/24-INT((E2/D$18)/24))&\" \" &  'Paramètres - Admin'!$D$3 & \" \" & MINUTE((E2/D$18)/24-INT((E2/D$18)/24))&\" \" &  'Paramètres - Admin'!$D$2)))))),0)","v":0}]

{"sheet":"Rentabilité","index":14,"n_rows":35,"n_cols":14,"rows_kept":35,"cut":false,"hidden":true,"merged":[[17,9,17,10],[32,1,32,2],[14,1,14,2],[11,1,11,2],[12,1,12,2],[14,3,14,5],[16,9,16,10],[23,8,23,13],[31,1,31,2],[18,9,18,10],[4,3,4,4],[5,1,5,2],[5,3,5,4],[6,1,6,2],[6,3,6,4],[33,1,33,2],[34,1,34,2],[32,9,32,10],[33,9,33,10],[0,1,0,2],[1,1,1,2],[19,0,19,5],[2,8,2,13],[2,0,2,4],[3,1,3,2],[15,1,15,2],[15,3,15,5],[8,0,8,2],[9,1,9,2],[10,1,10,2],[4,1,4,2]]}
["LVL HdV","Trophées",null,null,null,null,null,null,"NB\nCaserne"]
[{"$f":"Paramètres!$BN$2","v":1},{"$f":"Paramètres!BQ2","v":0},null,null,null,null,null,null,{"$f":"Paramètres!H57","v":0}]
["Combat - Gains",null,null,null,null,null,null,null,"Formation de Troupes Normales"]
["Type","Montant",null,"Bonus","Non",null,null,null,null,"Max +","Actuel +","Espace","Coût","Caserne"]
["Or",null,null,{"$f":"IF($E$4=\"Oui\",VLOOKUP(1,LEAGUES_Bonus[#All],3),0)-VLOOKUP(1,LEAGUES_Find[#All],2)","v":-10},null,null,null,null,"Barbare",{"$f":"VLOOKUP($A$2,AVAILABLE_Upgrades_Normal_Troops[#All],MATCH($I5,AVAILABLE_Upgrades_Normal_Troops[#Headers],0)+1)","v":0},{"$f":"IF(ISERROR(MATCH(1,Paramètres!AQ$6:AQ$45,0)),0,MATCH(1,Paramètres!AQ$6:AQ$45,0))","v":0},{"$f":"IF($K5<>0,VLOOKUP($K5,TRAINING_Barbarian[#All],2),0)","v":0},{"$f":"IF($K5<>0,VLOOKUP($K5,TRAINING_Barbarian[#All],3),0)","v":0}]
["Élixir",null,null,{"$f":"IF($E$4=\"Oui\",VLOOKUP(1,LEAGUES_Bonus[#All],4),0)","v":0},null,null,null,null,"Archer",{"$f":"VLOOKUP($A$2,AVAILABLE_Upgrades_Normal_Troops[#All],MATCH($I6,AVAILABLE_Upgrades_Normal_Troops[#Headers],0)+1)","v":0},{"$f":"IF(ISERROR(MATCH(1,Paramètres!AR$6:AR$45,0)),0,MATCH(1,Paramètres!AR$6:AR$45,0))","v":0},{"$f":"IF($K6<>0,VLOOKUP($K6,TRAINING_Archer[#All],2),0)","v":0},{"$f":"IF($K6<>0,VLOOKUP($K6,TRAINING_Archer[#All],3),0)","v":0}]
["Élixir Noir",null,null,{"$f":"IF($E$4=\"Oui\",VLOOKUP(1,LEAGUES_Bonus[#All],5),0)","v":0},null,null,null,null,"Gobelin",{"$f":"VLOOKUP($A$2,AVAILABLE_Upgrades_Normal_Troops[#All],MATCH($I7,AVAILABLE_Upgrades_Normal_Troops[#Headers],0)+1)","v":0},{"$f":"IF(ISERROR(MATCH(1,Paramètres!AS$6:AS$45,0)),0,MATCH(1,Paramètres!AS$6:AS$45,0))","v":0},{"$f":"IF($K7<>0,VLOOKUP($K7,TRAINING_Goblin[#All],2),0)","v":0},{"$f":"IF($K7<>0,VLOOKUP($K7,TRAINING_Goblin[#All],3),0)","v":0}]
[null,null,null,null,null,null,null,null,"Géant",{"$f":"VLOOKUP($A$2,AVAILABLE_Upgrades_Normal_Troops[#All],MATCH($I8,AVAILABLE_Upgrades_Normal_Troops[#Headers],0)+1)","v":0},{"$f":"IF(ISERROR(MATCH(1,Paramètres!AT$6:AT$45,0)),0,MATCH(1,Paramètres!AT$6:AT$45,0))","v":0},{"$f":"IF($K8<>0,VLOOKUP($K8,TRAINING_Giant[#All],2),0)","v":0},{"$f":"IF($K8<>0,VLOOKUP($K8,TRAINING_Giant[#All],3),0)","v":0}]
["Combat - Profits",null,null,null,null,null,null,null,"Sapeur",{"$f":"VLOOKUP($A$2,AVAILABLE_Upgrades_Normal_Troops[#All],MATCH($I9,AVAILABLE_Upgrades_Normal_Troops[#Headers],0)+1)","v":0},{"$f":"IF(ISERROR(MATCH(1,Paramètres!AU$6:AU$45,0)),0,MATCH(1,Paramètres!AU$6:AU$45,0))","v":0},{"$f":"IF($K9<>0,VLOOKUP($K9,TRAINING_Wall_Breaker[#All],2),0)","v":0},{"$f":"IF($K9<>0,VLOOKUP($K9,TRAINING_Wall_Breaker[#All],3),0)","v":0}]
["Type","Montant",null,null,null,null,null,null,"Ballon",{"$f":"VLOOKUP($A$2,AVAILABLE_Upgrades_Normal_Troops[#All],MATCH($I10,AVAILABLE_Upgrades_Normal_Troops[#Headers],0)+1)","v":0},{"$f":"IF(ISERROR(MATCH(1,Paramètres!AV$6:AV$45,0)),0,MATCH(1,Paramètres!AV$6:AV$45,0))","v":0},{"$f":"IF($K10<>0,VLOOKUP($K10,TRAINING_Balloon[#All],2),0)","v":0},{"$f":"IF($K10<>0,VLOOKUP($K10,TRAINING_Balloon[#All],3),0)","v":0}]
["Or",{"$f":"B5+D5","v":-10},null,null,null,null,null,null,"Sorcier",{"$f":"VLOOKUP($A$2,AVAILABLE_Upgrades_Normal_Troops[#All],MATCH($I11,AVAILABLE_Upgrades_Normal_Troops[#Headers],0)+1)","v":0},{"$f":"IF(ISERROR(MATCH(1,Paramètres!AW$6:AW$45,0)),0,MATCH(1,Paramètres!AW$6:AW$45,0))","v":0},{"$f":"IF($K11<>0,VLOOKUP($K11,TRAINING_Wizard[#All],2),0)","v":0},{"$f":"IF($K11<>0,VLOOKUP($K11,TRAINING_Wizard[#All],3),0)","v":0}]
["Élixir",{"$f":"(B6+D6)-(F34+N19)","v":0},null,null,null,null,null,null,"Guérisseuse",{"$f":"VLOOKUP($A$2,AVAILABLE_Upgrades_Normal_Troops[#All],MATCH($I12,AVAILABLE_Upgrades_Normal_Troops[#Headers],0)+1)","v":0},{"$f":"IF(ISERROR(MATCH(1,Paramètres!AX$6:AX$45,0)),0,MATCH(1,Paramètres!AX$6:AX$45,0))","v":0},{"$f":"IF($K12<>0,VLOOKUP($K12,TRAINING_Healer[#All],2),0)","v":0},{"$f":"IF($K12<>0,VLOOKUP($K12,TRAINING_Healer[#All],3),0)","v":0}]
["Élixir Noir",{"$f":"B7+D7-(F35+N34)","v":0},null,null,null,null,null,null,"Dragon",{"$f":"VLOOKUP($A$2,AVAILABLE_Upgrades_Normal_Troops[#All],MATCH($I13,AVAILABLE_Upgrades_Normal_Troops[#Headers],0)+1)","v":0},{"$f":"IF(ISERROR(MATCH(1,Paramètres!AY$6:AY$45,0)),0,MATCH(1,Paramètres!AY$6:AY$45,0))","v":0},{"$f":"IF($K13<>0,VLOOKUP($K13,TRAINING_Dragon[#All],2),0)","v":0},{"$f":"IF($K13<>0,VLOOKUP($K13,TRAINING_Dragon[#All],3),0)","v":0}]
[null,null,null,null,null,null,null,null,"P.E.K.K.A",{"$f":"VLOOKUP($A$2,AVAILABLE_Upgrades_Normal_Troops[#All],MATCH($I14,AVAILABLE_Upgrades_Normal_Troops[#Headers],0)+1)","v":0},{"$f":"IF(ISERROR(MATCH(1,Paramètres!AZ$6:AZ$45,0)),0,MATCH(1,Paramètres!AZ$6:AZ$45,0))","v":0},{"$f":"IF($K14<>0,VLOOKUP($K14,TRAINING_PEKKA[#All],2),0)","v":0},{"$f":"IF($K14<>0,VLOOKUP($K14,TRAINING_PEKKA[#All],3),0)","v":0}]
[null,"Cellule rouge :",null,"Troupe/Sort non disponible",null,null,null,null,"Bébé dragon",{"$f":"VLOOKUP($A$2,AVAILABLE_Upgrades_Normal_Troops[#All],MATCH($I15,AVAILABLE_Upgrades_Normal_Troops[#Headers],0)+1)","v":0},{"$f":"IF(ISERROR(MATCH(1,Paramètres!BA$6:BA$45,0)),0,MATCH(1,Paramètres!BA$6:BA$45,0))","v":0},{"$f":"IF($K15<>0,VLOOKUP($K15,TRAINING_Baby_dragon[#All],2),0)","v":0},{"$f":"IF($K15<>0,VLOOKUP($K15,TRAINING_Baby_dragon[#All],3),0)","v":0}]
[null,"Ligne jaune :",null,"Max. total atteint - Camp Militaire - Sorts",null,null,null,null,"Mineur",{"$f":"VLOOKUP($A$2,AVAILABLE_Upgrades_Normal_Troops[#All],MATCH($I16,AVAILABLE_Upgrades_Normal_Troops[#Headers],0)+1)","v":0},{"$f":"IF(ISERROR(MATCH(1,Paramètres!BB$6:BB$45,0)),0,MATCH(1,Paramètres!BB$6:BB$45,0))","v":0},{"$f":"IF($K16<>0,VLOOKUP($K16,TRAINING_Miner[#All],2),0)","v":0},{"$f":"IF($K16<>0,VLOOKUP($K16,TRAINING_Miner[#All],3),0)","v":0}]
[null,null,null,null,null,null,null,null,null,"Espace Total",null,null,null,{"$f":"SUMPRODUCT(N$5:N$14,$L$5:$L$14)","v":0}]
["LVL Usine de Sorts",{"$f":"IF(ISERROR(MATCH(1,Paramètres!L$6:L$45,0)),0,MATCH(1,Paramètres!L$6:L$45,0))","v":0},null,null,null,null,null,null,null,"Camp Militaire",null,null,null,{"$f":"SUMPRODUCT(Paramètres!J6:J13,'Coûts de Formation'!AL31:AL38)","v":0}]
["LVL Usine de Sorts Noirs",{"$f":"IF(ISERROR(MATCH(1,Paramètres!M$6:M$45,0)),0,MATCH(1,Paramètres!M$6:M$45,0))","v":0},null,null,null,null,null,null,null,"Coût Total",null,null,null,{"$f":"SUMPRODUCT(N$5:N$14,$M$5:$M$14)","v":0}]
["Création de Sorts"]
[null,"Max +","Actuel +","Espace","Coût","Laboratoire"]
["Sort de Foudre",{"$f":"VLOOKUP($A$2,AVAILABLE_Upgrades_Spells[#All],MATCH($A22,AVAILABLE_Upgrades_Spells[#Headers],0)+1)","v":0},{"$f":"IF(ISERROR(MATCH(1,Paramètres!AG$6:AG$45,0)),0,MATCH(1,Paramètres!AG$6:AG$45,0))","v":0},{"$f":"IF($C22<>0,VLOOKUP($C22,TRAINING_Spell_Lightning[#All],2),0)","v":0},{"$f":"IF($C22<>0,VLOOKUP($C22,TRAINING_Spell_Lightning[#All],3),0)","v":0},null,null,null,"NB\nCaserne Noire"]
["Sort de Guérison",{"$f":"VLOOKUP($A$2,AVAILABLE_Upgrades_Spells[#All],MATCH($A23,AVAILABLE_Upgrades_Spells[#Headers],0)+1)","v":0},{"$f":"IF(ISERROR(MATCH(1,Paramètres!AH$6:AH$45,0)),0,MATCH(1,Paramètres!AH$6:AH$45,0))","v":0},{"$f":"IF($C23<>0,VLOOKUP($C23,TRAINING_Spell_Healing[#All],2),0)","v":0},{"$f":"IF($C23<>0,VLOOKUP($C23,TRAINING_Spell_Healing[#All],3),0)","v":0},null,null,null,{"$f":"Paramètres!I57","v":0}]
["Sort de Rage",{"$f":"VLOOKUP($A$2,AVAILABLE_Upgrades_Spells[#All],MATCH($A24,AVAILABLE_Upgrades_Spells[#Headers],0)+1)","v":0},{"$f":"IF(ISERROR(MATCH(1,Paramètres!AI$6:AI$45,0)),0,MATCH(1,Paramètres!AI$6:AI$45,0))","v":0},{"$f":"IF($C24<>0,VLOOKUP($C24,TRAINING_Spell_Rage[#All],2),0)","v":0},{"$f":"IF($C24<>0,VLOOKUP($C24,TRAINING_Spell_Rage[#All],3),0)","v":0},null,null,null,"Formation de Troupes Noires"]
["Sort de Saut",{"$f":"VLOOKUP($A$2,AVAILABLE_Upgrades_Spells[#All],MATCH($A25,AVAILABLE_Upgrades_Spells[#Headers],0)+1)","v":0},{"$f":"IF(ISERROR(MATCH(1,Paramètres!AJ$6:AJ$45,0)),0,MATCH(1,Paramètres!AJ$6:AJ$45,0))","v":0},{"$f":"IF($C25<>0,VLOOKUP($C25,TRAINING_Spell_Jump[#All],2),0)","v":0},{"$f":"IF($C25<>0,VLOOKUP($C25,TRAINING_Spell_Jump[#All],3),0)","v":0},null,null,null,null,"Max +","Actuel +","Espace","Coût","Caserne Noire"]
["Sort de Gel",{"$f":"VLOOKUP($A$2,AVAILABLE_Upgrades_Spells[#All],MATCH($A26,AVAILABLE_Upgrades_Spells[#Headers],0)+1)","v":0},{"$f":"IF(ISERROR(MATCH(1,Paramètres!AK$6:AK$45,0)),0,MATCH(1,Paramètres!AK$6:AK$45,0))","v":0},{"$f":"IF($C26<>0,VLOOKUP($C26,TRAINING_Spell_Freeze[#All],2),0)","v":0},{"$f":"IF($C26<>0,VLOOKUP($C26,TRAINING_Spell_Freeze[#All],3),0)","v":0},null,null,null,"Serviteur",{"$f":"VLOOKUP($A$2,AVAILABLE_Upgrades_Dark_Troops[#All],MATCH($I26,AVAILABLE_Upgrades_Dark_Troops[#Headers],0)+1)","v":0},{"$f":"IF(ISERROR(MATCH(1,Paramètres!BC$6:BC$45,0)),0,MATCH(1,Paramètres!BC$6:BC$45,0))","v":0},{"$f":"IF($K26<>0,VLOOKUP($K26,TRAINING_Minion[#All],2),0)","v":0},{"$f":"IF($K26<>0,VLOOKUP($K26,TRAINING_Minion[#All],3),0)","v":0}]
["Sort de Clonage",{"$f":"VLOOKUP($A$2,AVAILABLE_Upgrades_Spells[#All],MATCH($A27,AVAILABLE_Upgrades_Spells[#Headers],0)+1)","v":0},{"$f":"IF(ISERROR(MATCH(1,Paramètres!AL$6:AL$45,0)),0,MATCH(1,Paramètres!AL$6:AL$45,0))","v":0},{"$f":"IF($C27<>0,VLOOKUP($C27,TRAINING_Spell_Clone[#All],2),0)","v":0},{"$f":"IF($C27<>0,VLOOKUP($C27,TRAINING_Spell_Clone[#All],3),0)","v":0},null,null,null,"Chevaucheur de Cochon",{"$f":"VLOOKUP($A$2,AVAILABLE_Upgrades_Dark_Troops[#All],MATCH($I27,AVAILABLE_Upgrades_Dark_Troops[#Headers],0)+1)","v":0},{"$f":"IF(ISERROR(MATCH(1,Paramètres!BD$6:BD$45,0)),0,MATCH(1,Paramètres!BD$6:BD$45,0))","v":0},{"$f":"IF($K27<>0,VLOOKUP($K27,TRAINING_Hog_Rider[#All],2),0)","v":0},{"$f":"IF($K27<>0,VLOOKUP($K27,TRAINING_Hog_Rider[#All],3),0)","v":0}]
["Sort de Poison",{"$f":"VLOOKUP($A$2,AVAILABLE_Upgrades_Dark_Spells[#All],MATCH($A28,AVAILABLE_Upgrades_Dark_Spells[#Headers],0)+1)","v":0},{"$f":"IF(ISERROR(MATCH(1,Paramètres!AM$6:AM$45,0)),0,MATCH(1,Paramètres!AM$6:AM$45,0))","v":0},{"$f":"IF($C28<>0,VLOOKUP($C28,TRAINING_Spell_Poison[#All],2),0)","v":0},{"$f":"IF($C28<>0,VLOOKUP($C28,TRAINING_Spell_Poison[#All],3),0)","v":0},null,null,null,"Valkyrie",{"$f":"VLOOKUP($A$2,AVAILABLE_Upgrades_Dark_Troops[#All],MATCH($I28,AVAILABLE_Upgrades_Dark_Troops[#Headers],0)+1)","v":0},{"$f":"IF(ISERROR(MATCH(1,Paramètres!BE$6:BE$45,0)),0,MATCH(1,Paramètres!BE$6:BE$45,0))","v":0},{"$f":"IF($K28<>0,VLOOKUP($K28,TRAINING_Valkyrie[#All],2),0)","v":0},{"$f":"IF($K28<>0,VLOOKUP($K28,TRAINING_Valkyrie[#All],3),0)","v":0}]
["Sort de Séisme",{"$f":"VLOOKUP($A$2,AVAILABLE_Upgrades_Dark_Spells[#All],MATCH($A29,AVAILABLE_Upgrades_Dark_Spells[#Headers],0)+1)","v":0},{"$f":"IF(ISERROR(MATCH(1,Paramètres!AN$6:AN$45,0)),0,MATCH(1,Paramètres!AN$6:AN$45,0))","v":0},{"$f":"IF($C29<>0,VLOOKUP($C29,TRAINING_Spell_Earthquake[#All],2),0)","v":0},{"$f":"IF($C29<>0,VLOOKUP($C29,TRAINING_Spell_Poison[#All],3),0)","v":0},null,null,null,"Golem",{"$f":"VLOOKUP($A$2,AVAILABLE_Upgrades_Dark_Troops[#All],MATCH($I29,AVAILABLE_Upgrades_Dark_Troops[#Headers],0)+1)","v":0},{"$f":"IF(ISERROR(MATCH(1,Paramètres!BF$6:BF$45,0)),0,MATCH(1,Paramètres!BF$6:BF$45,0))","v":0},{"$f":"IF($K29<>0,VLOOKUP($K29,TRAINING_Golem[#All],2),0)","v":0},{"$f":"IF($K29<>0,VLOOKUP($K29,TRAINING_Golem[#All],3),0)","v":0}]
["Sort de Hâte",{"$f":"VLOOKUP($A$2,AVAILABLE_Upgrades_Dark_Spells[#All],MATCH($A30,AVAILABLE_Upgrades_Dark_Spells[#Headers],0)+1)","v":0},{"$f":"IF(ISERROR(MATCH(1,Paramètres!AO$6:AO$45,0)),0,MATCH(1,Paramètres!AO$6:AO$45,0))","v":0},{"$f":"IF($C30<>0,VLOOKUP($C30,TRAINING_Spell_Haste[#All],2),0)","v":0},{"$f":"IF($C30<>0,VLOOKUP($C30,TRAINING_Spell_Earthquake[#All],3),0)","v":0},null,null,null,"Sorcière",{"$f":"VLOOKUP($A$2,AVAILABLE_Upgrades_Dark_Troops[#All],MATCH($I30,AVAILABLE_Upgrades_Dark_Troops[#Headers],0)+1)","v":0},{"$f":"IF(ISERROR(MATCH(1,Paramètres!BG$6:BG$45,0)),0,MATCH(1,Paramètres!BG$6:BG$45,0))","v":0},{"$f":"IF($K30<>0,VLOOKUP($K30,TRAINING_Witch[#All],2),0)","v":0},{"$f":"IF($K30<>0,VLOOKUP($K30,TRAINING_Witch[#All],3),0)","v":0}]
["Sort Squelettique",{"$f":"VLOOKUP($A$2,AVAILABLE_Upgrades_Dark_Spells[#All],MATCH($A31,AVAILABLE_Upgrades_Dark_Spells[#Headers],0)+1)","v":0},{"$f":"IF(ISERROR(MATCH(1,Paramètres!AP$6:AP$56,0)),0,MATCH(1,Paramètres!AP$6:AP$56,0))","v":0},{"$f":"IF($C31<>0,VLOOKUP($C31,TRAINING_Spell_Skeleton[#All],2),0)","v":0},{"$f":"IF($C31<>0,VLOOKUP($C31,TRAINING_Spell_Skeleton[#All],3),0)","v":0},null,null,null,"Molosse de lave",{"$f":"VLOOKUP($A$2,AVAILABLE_Upgrades_Dark_Troops[#All],MATCH($I31,AVAILABLE_Upgrades_Dark_Troops[#Headers],0)+1)","v":0},{"$f":"IF(ISERROR(MATCH(1,Paramètres!BH$6:BH$45,0)),0,MATCH(1,Paramètres!BH$6:BH$45,0))","v":0},{"$f":"IF($K31<>0,VLOOKUP($K31,TRAINING_Lava_Hound[#All],2),0)","v":0},{"$f":"IF($K31<>0,VLOOKUP($K31,TRAINING_Lava_Hound[#All],3),0)","v":0}]
[null,"Espace Total",null,null,null,{"$f":"SUMPRODUCT(F$22:F$29,$D$22:$D$29)","v":0},null,null,"Bouliste",{"$f":"VLOOKUP($A$2,AVAILABLE_Upgrades_Dark_Troops[#All],MATCH($I32,AVAILABLE_Upgrades_Dark_Troops[#Headers],0)+1)","v":0},{"$f":"IF(ISERROR(MATCH(1,Paramètres!BI$6:BI$45,0)),0,MATCH(1,Paramètres!BI$6:BI$45,0))","v":0},{"$f":"IF($K32<>0,VLOOKUP($K32,TRAINING_Bowler[#All],2),0)","v":0},{"$f":"IF($K32<>0,VLOOKUP($K32,TRAINING_Bowler[#All],3),0)","v":0}]
[null,"Capacité Totale",null,null,null,{"$f":"VLOOKUP($B$19,TRAINING_Dark_Spell_Factory[#All],2)+VLOOKUP($B$18,TRAINING_Spell_Factory[#All],2)","v":0},null,null,null,"Espace Total",null,null,null,{"$f":"SUMPRODUCT(N$26:N$31,$L$26:$L$31)","v":0}]
[null,"Coût Total",null,null,null,{"$f":"SUMPRODUCT(F$22:F$26,$E$22:$E$26)","v":0},null,null,null,"Coût Total",null,null,null,{"$f":"SUMPRODUCT(N$26:N$31,$M$26:$M$31)","v":0}]
[null,"Coût Total",null,null,null,{"$f":"SUMPRODUCT(F$27:F$29,$E$27:$E$29)","v":0}]

{"sheet":"Combats - Loots","index":15,"n_rows":29,"n_cols":19,"rows_kept":29,"cut":false,"hidden":true,"merged":[[15,0,15,6],[2,0,2,6],[2,8,2,12],[3,17,4,17],[3,18,4,19],[6,17,7,17],[6,18,7,19]]}
["LVL HdV","Attaque / Défense","LVL HdV Opposant","Différence LVL HdV"]
[{"$f":"Paramètres!$BN$2","v":1},"Attaque",10,{"$f":"IF($B$2='Paramètres - Admin'!$F$2,$C$2-$A$2,IF(B2='Paramètres - Admin'!$F$3,$A$2-$C$2))","v":9}]
["Combat - Nombre Total de Ressources",null,null,null,null,null,null,null,{"$f":"IF($B$2='Paramètres - Admin'!$F$2,$G$29 & C2,IF($B$2='Paramètres - Admin'!$F$3,$H$29 & C2))","v":"Loots - Gains Possibles vs HdV LVL 10"}]
[null,"Réserve d'Or","Réservoir d'Élixir","Réservoir d'Élixir Noir","Mine d'Or","Extracteur d'Élixir","Foreuse d'Élixir Noir",null,null,"Multiplicateur de Loot","Or","Élixir","Élixir Noir",null,null,null,null,"Cellule rouge :","Bâtiment non disponible"]
["Max",{"$f":"IF($B$2='Paramètres - Admin'!$F$2,VLOOKUP($C$2,AVAILABLE_Buildings_Resource[#All],MATCH(B$4,AVAILABLE_Buildings_Resource[#Headers],0)),IF($B$2='Paramètres - Admin'!$F$3,VLOOKUP($A$2,AVAILABLE_Buildings_Resource[#All],MATCH(B$4,AVAILABLE_Buildings_Resource[#Headers],0))))","v":4},{"$f":"IF($B$2='Paramètres - Admin'!$F$2,VLOOKUP($C$2,AVAILABLE_Buildings_Resource[#All],MATCH(C$4,AVAILABLE_Buildings_Resource[#Headers],0)),IF($B$2='Paramètres - Admin'!$F$3,VLOOKUP($A$2,AVAILABLE_Buildings_Resource[#All],MATCH(C$4,AVAILABLE_Buildings_Resource[#Headers],0))))","v":4},{"$f":"IF($B$2='Paramètres - Admin'!$F$2,VLOOKUP($C$2,AVAILABLE_Buildings_Resource[#All],MATCH(D$4,AVAILABLE_Buildings_Resource[#Headers],0)),IF($B$2='Paramètres - Admin'!$F$3,VLOOKUP($A$2,AVAILABLE_Buildings_Resource[#All],MATCH(D$4,AVAILABLE_Buildings_Resource[#Headers],0))))","v":1},{"$f":"IF($B$2='Paramètres - Admin'!$F$2,VLOOKUP($C$2,AVAILABLE_Buildings_Resource[#All],MATCH(E$4,AVAILABLE_Buildings_Resource[#Headers],0)),IF($B$2='Paramètres - Admin'!$F$3,VLOOKUP($A$2,AVAILABLE_Buildings_Resource[#All],MATCH(E$4,AVAILABLE_Buildings_Resource[#Headers],0))))","v":7},{"$f":"IF($B$2='Paramètres - Admin'!$F$2,VLOOKUP($C$2,AVAILABLE_Buildings_Resource[#All],MATCH(F$4,AVAILABLE_Buildings_Resource[#Headers],0)),IF($B$2='Paramètres - Admin'!$F$3,VLOOKUP($A$2,AVAILABLE_Buildings_Resource[#All],MATCH(F$4,AVAILABLE_Buildings_Resource[#Headers],0))))","v":7},{"$f":"IF($B$2='Paramètres - Admin'!$F$2,VLOOKUP($C$2,AVAILABLE_Buildings_Resource[#All],MATCH(G$4,AVAILABLE_Buildings_Resource[#Headers],0)),IF($B$2='Paramètres - Admin'!$F$3,VLOOKUP($A$2,AVAILABLE_Buildings_Resource[#All],MATCH(G$4,AVAILABLE_Buildings_Resource[#Headers],0))))","v":3},null,"Stockages",{"$f":"VLOOKUP(1,LEAGUES_Loot_Multiplier[#All],3)","v":2},{"$f":"B25*$J5","v":100000},{"$f":"C25*$J5","v":20000},{"$f":"D25*$J5","v":2400}]
["Stockage Max",{"$f":"IF($B$2='Paramètres - Admin'!$F$2,IF(ISERROR(VLOOKUP(VLOOKUP($C$2,AVAILABLE_Buildings_Resource[#All],MATCH(B$4,AVAILABLE_Buildings_Resource[#Headers],0)+1),EARNINGS_Gold_Storage[#All],2)),0,VLOOKUP(VLOOKUP($C$2,AVAILABLE_Buildings_Resource[#All],MATCH(B$4,AVAILABLE_Buildings_Resource[#Headers],0)+1),EARNINGS_Gold_Storage[#All],2)),IF($B$2='Paramètres - Admin'!$F$3,IF(ISERROR(VLOOKUP(VLOOKUP($A$2,AVAILABLE_Buildings_Resource[#All],MATCH(B$4,AVAILABLE_Buildings_Resource[#Headers],0)+1),EARNINGS_Gold_Storage[#All],2)),0,VLOOKUP(VLOOKUP($A$2,AVAILABLE_Buildings_Resource[#All],MATCH(B$4,AVAILABLE_Buildings_Resource[#Headers],0)+1),EARNINGS_Gold_Storage[#All],2))))","v":1750000},{"$f":"IF($B$2='Paramètres - Admin'!$F$2,IF(ISERROR(VLOOKUP(VLOOKUP($C$2,AVAILABLE_Buildings_Resource[#All],MATCH(C$4,AVAILABLE_Buildings_Resource[#Headers],0)+1),EARNINGS_Elixir_Storage[#All],2)),0,VLOOKUP(VLOOKUP($C$2,AVAILABLE_Buildings_Resource[#All],MATCH(C$4,AVAILABLE_Buildings_Resource[#Headers],0)+1),EARNINGS_Elixir_Storage[#All],2)),IF($B$2='Paramètres - Admin'!$F$3,IF(ISERROR(VLOOKUP(VLOOKUP($A$2,AVAILABLE_Buildings_Resource[#All],MATCH(C$4,AVAILABLE_Buildings_Resource[#Headers],0)+1),EARNINGS_Elixir_Storage[#All],2)),0,VLOOKUP(VLOOKUP($A$2,AVAILABLE_Buildings_Resource[#All],MATCH(C$4,AVAILABLE_Buildings_Resource[#Headers],0)+1),EARNINGS_Elixir_Storage[#All],2))))","v":1750000},{"$f":"IF($B$2='Paramètres - Admin'!$F$2,IF(ISERROR(VLOOKUP(VLOOKUP($C$2,AVAILABLE_Buildings_Resource[#All],MATCH(D$4,AVAILABLE_Buildings_Resource[#Headers],0)+1),EARNINGS_Dark_Elixir_Storage[#All],2)),0,VLOOKUP(VLOOKUP($C$2,AVAILABLE_Buildings_Resource[#All],MATCH(D$4,AVAILABLE_Buildings_Resource[#Headers],0)+1),EARNINGS_Dark_Elixir_Storage[#All],2)),IF($B$2='Paramètres - Admin'!$F$3,IF(ISERROR(VLOOKUP(VLOOKUP($A$2,AVAILABLE_Buildings_Resource[#All],MATCH(D$4,AVAILABLE_Buildings_Resource[#Headers],0)+1),EARNINGS_Dark_Elixir_Storage[#All],2)),0,VLOOKUP(VLOOKUP($A$2,AVAILABLE_Buildings_Resource[#All],MATCH(D$4,AVAILABLE_Buildings_Resource[#Headers],0)+1),EARNINGS_Dark_Elixir_Storage[#All],2))))","v":180000},{"$f":"IF($B$2='Paramètres - Admin'!$F$2,IF(ISERROR(VLOOKUP(VLOOKUP($C$2,AVAILABLE_Buildings_Resource[#All],MATCH(E$4,AVAILABLE_Buildings_Resource[#Headers],0)+1),EARNINGS_Gold_Mine[#All],3)),0,VLOOKUP(VLOOKUP($C$2,AVAILABLE_Buildings_Resource[#All],MATCH(E$4,AVAILABLE_Buildings_Resource[#Headers],0)+1),EARNINGS_Gold_Mine[#All],3)),IF($B$2='Paramètres - Admin'!$F$3,IF(ISERROR(VLOOKUP(VLOOKUP($A$2,AVAILABLE_Buildings_Resource[#All],MATCH(E$4,AVAILABLE_Buildings_Resource[#Headers],0)+1),EARNINGS_Gold_Mine[#All],3)),0,VLOOKUP(VLOOKUP($A$2,AVAILABLE_Buildings_Resource[#All],MATCH(E$4,AVAILABLE_Buildings_Resource[#Headers],0)+1),EARNINGS_Gold_Mine[#All],3))))","v":200000},{"$f":"IF($B$2='Paramètres - Admin'!$F$2,IF(ISERROR(VLOOKUP(VLOOKUP($C$2,AVAILABLE_Buildings_Resource[#All],MATCH(F$4,AVAILABLE_Buildings_Resource[#Headers],0)+1),EARNINGS_Elixir_Collector[#All],3)),0,VLOOKUP(VLOOKUP($C$2,AVAILABLE_Buildings_Resource[#All],MATCH(F$4,AVAILABLE_Buildings_Resource[#Headers],0)+1),EARNINGS_Elixir_Collector[#All],3)),IF($B$2='Paramètres - Admin'!$F$3,IF(ISERROR(VLOOKUP(VLOOKUP($A$2,AVAILABLE_Buildings_Resource[#All],MATCH(F$4,AVAILABLE_Buildings_Resource[#Headers],0)+1),EARNINGS_Elixir_Collector[#All],3)),0,VLOOKUP(VLOOKUP($A$2,AVAILABLE_Buildings_Resource[#All],MATCH(F$4,AVAILABLE_Buildings_Resource[#Headers],0)+1),EARNINGS_Elixir_Collector[#All],3))))","v":200000},{"$f":"IF($B$2='Paramètres - Admin'!$F$2,IF(ISERROR(VLOOKUP(VLOOKUP($C$2,AVAILABLE_Buildings_Resource[#All],MATCH(E$4,AVAILABLE_Buildings_Resource[#Headers],0)+1),EARNINGS_Dark_Elixir_Drill[#All],3)),0,VLOOKUP(VLOOKUP($C$2,AVAILABLE_Buildings_Resource[#All],MATCH(E$4,AVAILABLE_Buildings_Resource[#Headers],0)+1),EARNINGS_Dark_Elixir_Drill[#All],3)),IF($B$2='Paramètres - Admin'!$F$3,IF(ISERROR(VLOOKUP(VLOOKUP($A$2,AVAILABLE_Buildings_Resource[#All],MATCH(E$4,AVAILABLE_Buildings_Resource[#Headers],0)+1),EARNINGS_Dark_Elixir_Drill[#All],3)),0,VLOOKUP(VLOOKUP($A$2,AVAILABLE_Buildings_Resource[#All],MATCH(E$4,AVAILABLE_Buildings_Resource[#Headers],0)+1),EARNINGS_Dark_Elixir_Drill[#All],3))))","v":1800},null,"Mines/Extracteurs/Foreuses",{"$f":"VLOOKUP(1,LEAGUES_Loot_Multiplier[#All],3)","v":2},{"$f":"E25*$J6","v":44000},{"$f":"F25*$J6","v":350000},{"$f":"G25*$J6","v":2400}]
[1,null,100000,30000,2000,null,null,null,"Hôtel de Ville",{"$f":"IF(D2>0,1,VLOOKUP(1,LEAGUES_Loot_Multiplier[#All],3))","v":1},{"$f":"$K$24*$J7","v":1000},{"$f":"$K$25*$J7","v":1000},0,null,null,null,null,"Cellule orange :","Erreur - Bâtiment\nMax. total atteint"]
[2,500000,null,null,2000,null,null,null,"Bonus de Ligue","/",{"$f":"IF($B$2='Paramètres - Admin'!$F$2,VLOOKUP(1,LEAGUES_Bonus[#All],3),0)","v":0},{"$f":"IF($B$2='Paramètres - Admin'!$F$2,VLOOKUP(1,LEAGUES_Bonus[#All],4),0)","v":0},{"$f":"IF($B$2='Paramètres - Admin'!$F$2,VLOOKUP(1,LEAGUES_Bonus[#All],5),0)","v":0}]
[3,null,null,null,20000,null,1800,null,null,"Total",{"$f":"SUM(K5:K8)","v":145000},{"$f":"SUM(L5:L8)","v":371000},{"$f":"SUM(M5:M8)","v":4800}]
[4,null,null,null,20000]
[5,null,null,null,null,50000]
[6,null,null,null,null,100000]
[7,null,null,null,null,200000]
["Total",{"$f":"SUMIF($A7:$A13,\"<=\"&B$5,B7:B13)","v":500000},100000,30000,44000,350000,1800]
[]
["Combat - Nombre de Ressources Disponibles"]
[null,"Réserve d'Or","Réservoir d'Élixir","Réservoir d'Élixir Noir","Mine d'Or","Extracteur d'Élixir","Foreuse d'Élixir Noir",null,"Type","%","Gain Maximum"]
[1,{"$f":"IF($A18>B$5,0,IF((B$7*$J$18)+(B$8*$J$18)+(B$9*$J$18)+(B$10*$J$18)+(B$11*$J$18)+(B$12*$J$18)+(B$13*$J$18)>$K$18,$K$18*(B7/B$14),B7*$J$18))","v":0},{"$f":"IF($A18>C$5,0,IF((C$7*$J$19)+(C$8*$J$19)+(C$9*$J$19)+(C$10*$J$19)+(C$11*$J$19)+(C$12*$J$19)+(C$13*$J$19)>$K$19,$K$19*(C7/C$14),C7*$J$19))","v":10000},{"$f":"IF($A18>D$5,0,IF((D$7*$J$20)+(D$8*$J$20)+(D$9*$J$20)+(D$10*$J$20)+(D$11*$J$20)+(D$12*$J$20)+(D$13*$J$20)>$K$20,$K$20*(D7/D$14),D7*$J$20))","v":1200},{"$f":"IF($A18>E$5,0,IF(E7>$K$21,$K$21*$J$21,E7*$J$21))","v":1000},{"$f":"IF($A18>F$5,0,IF(F7>$K$22,$K$22*$J$22,F7*$J$22))","v":0},{"$f":"IF($A18>G$5,0,IF(G7>$K$23,$K$23*$J$23,G7*$J$23))","v":0},null,"Réserve d'Or",0.1,400000]
[2,50000,0,0,1000,0,0,null,"Réservoir d'Élixir",0.1,400000]
[3,0,0,0,10000,0,1200,null,"Réservoir d'Élixir Noir",0.04,3000]
[4,0,0,0,10000,0,0,null,"Mine d'Or",0.5,{"$f":"IF($B$2='Paramètres - Admin'!$F$2,IF(ISERROR(VLOOKUP(VLOOKUP($C$2,AVAILABLE_Buildings_Resource[#All],MATCH(E$4,AVAILABLE_Buildings_Resource[#Headers],0)+1),EARNINGS_Gold_Storage[#All],2)),0,VLOOKUP(VLOOKUP($C$2,AVAILABLE_Buildings_Resource[#All],MATCH(E$4,AVAILABLE_Buildings_Resource[#Headers],0)+1),EARNINGS_Gold_Mine[#All],3)),IF($B$2='Paramètres - Admin'!$F$3,IF(ISERROR(VLOOKUP(VLOOKUP($A$2,AVAILABLE_Buildings_Resource[#All],MATCH(E$4,AVAILABLE_Buildings_Resource[#Headers],0)+1),EARNINGS_Gold_Storage[#All],2)),0,VLOOKUP(VLOOKUP($A$2,AVAILABLE_Buildings_Resource[#All],MATCH(E$4,AVAILABLE_Buildings_Resource[#Headers],0)+1),EARNINGS_Gold_Mine[#All],3))))","v":200000}]
[5,0,0,0,0,25000,0,null,"Extracteur d'Élixir",0.5,{"$f":"IF($B$2='Paramètres - Admin'!$F$2,IF(ISERROR(VLOOKUP(VLOOKUP($C$2,AVAILABLE_Buildings_Resource[#All],MATCH(F$4,AVAILABLE_Buildings_Resource[#Headers],0)+1),EARNINGS_Gold_Storage[#All],2)),0,VLOOKUP(VLOOKUP($C$2,AVAILABLE_Buildings_Resource[#All],MATCH(F$4,AVAILABLE_Buildings_Resource[#Headers],0)+1),EARNINGS_Elixir_Collector[#All],3)),IF($B$2='Paramètres - Admin'!$F$3,IF(ISERROR(VLOOKUP(VLOOKUP($A$2,AVAILABLE_Buildings_Resource[#All],MATCH(F$4,AVAILABLE_Buildings_Resource[#Headers],0)+1),EARNINGS_Gold_Storage[#All],2)),0,VLOOKUP(VLOOKUP($A$2,AVAILABLE_Buildings_Resource[#All],MATCH(F$4,AVAILABLE_Buildings_Resource[#Headers],0)+1),EARNINGS_Elixir_Collector[#All],3))))","v":200000}]
[6,0,0,0,0,50000,0,null,"Foreuse d'Élixir Noir",0.75,1600]
[7,0,0,0,0,100000,0,null,"Hôtel de Ville - Or",1,1000]
["Total",{"$f":"SUM(B18:B24)","v":50000},10000,1200,22000,175000,1200,null,"Hôtel de Ville - Élixir",1,1000]
[]
[]
[]
[null,null,null,null,null,null,"Loots - Gains Possibles vs HdV LVL ","Loots - Pertes Possibles vs HdV LVL "]

{"sheet":"Trophées","index":16,"n_rows":25,"n_cols":12,"rows_kept":25,"cut":false,"hidden":true,"merged":[[0,0,0,4],[0,6,0,8],[0,10,0,11]]}
["Bonus de Trophées",null,null,null,null,null,"Différence de Trophées",null,null,null,"Coûts - Multijoueur"]
["Classement","Trophy","Bonus d'Or","Bonus d'Élixir","Bonus d'Élixir Noir",null,"Classement","Trophy Difference","Multiplicateur de Loot",null,"HDV","Coût en or"]
[{"$f":"IF(AND(Paramètres!$BQ$2>=B3,Paramètres!$BQ$2<B4),1,\"\")","v":1},0,0,{"$f":"LEAGUES_Bonus[[#This Row],[Bonus d''Or]]","v":0},0,null,{"$f":"IF(AND('Combats - Loots'!$D$2>=H3,'Combats - Loots'!$D$2<H4),1,\"\")","v":""},-10,0.05,null,{"$f":"IF(Paramètres!$BN$2=1,1,\"\")","v":1},10]
[{"$f":"IF(AND(Paramètres!$BQ$2>=B4,Paramètres!$BQ$2<B5),1,\"\")","v":""},400,600,{"$f":"LEAGUES_Bonus[[#This Row],[Bonus d''Or]]","v":600},0,null,{"$f":"IF(AND('Combats - Loots'!$D$2>=H4,'Combats - Loots'!$D$2<H5),1,\"\")","v":""},-9,0.05,null,{"$f":"IF(Paramètres!$BN$2=2,1,\"\")","v":""},50]
[{"$f":"IF(AND(Paramètres!$BQ$2>=B5,Paramètres!$BQ$2<B6),1,\"\")","v":""},500,800,{"$f":"LEAGUES_Bonus[[#This Row],[Bonus d''Or]]","v":800},0,null,{"$f":"IF(AND('Combats - Loots'!$D$2>=H5,'Combats - Loots'!$D$2<H6),1,\"\")","v":""},-8,0.05,null,{"$f":"IF(Paramètres!$BN$2=3,1,\"\")","v":""},75]
[{"$f":"IF(AND(Paramètres!$BQ$2>=B6,Paramètres!$BQ$2<B7),1,\"\")","v":""},600,1000,{"$f":"LEAGUES_Bonus[[#This Row],[Bonus d''Or]]","v":1000},0,null,{"$f":"IF(AND('Combats - Loots'!$D$2>=H6,'Combats - Loots'!$D$2<H7),1,\"\")","v":""},-7,0.05,null,{"$f":"IF(Paramètres!$BN$2=4,1,\"\")","v":""},110]
[{"$f":"IF(AND(Paramètres!$BQ$2>=B7,Paramètres!$BQ$2<B8),1,\"\")","v":""},800,2000,{"$f":"LEAGUES_Bonus[[#This Row],[Bonus d''Or]]","v":2000},0,null,{"$f":"IF(AND('Combats - Loots'!$D$2>=H7,'Combats - Loots'!$D$2<H8),1,\"\")","v":""},-6,0.05,null,{"$f":"IF(Paramètres!$BN$2=5,1,\"\")","v":""},170]
[{"$f":"IF(AND(Paramètres!$BQ$2>=B8,Paramètres!$BQ$2<B9),1,\"\")","v":""},1000,3000,{"$f":"LEAGUES_Bonus[[#This Row],[Bonus d''Or]]","v":3000},0,null,{"$f":"IF(AND('Combats - Loots'!$D$2>=H8,'Combats - Loots'!$D$2<H9),1,\"\")","v":""},-5,0.05,null,{"$f":"IF(Paramètres!$BN$2=6,1,\"\")","v":""},250]
[{"$f":"IF(AND(Paramètres!$BQ$2>=B9,Paramètres!$BQ$2<B10),1,\"\")","v":""},1200,4000,{"$f":"LEAGUES_Bonus[[#This Row],[Bonus d''Or]]","v":4000},0,null,{"$f":"IF(AND('Combats - Loots'!$D$2>=H9,'Combats - Loots'!$D$2<H10),1,\"\")","v":""},-4,0.05,null,{"$f":"IF(Paramètres!$BN$2=7,1,\"\")","v":""},380]
[{"$f":"IF(AND(Paramètres!$BQ$2>=B10,Paramètres!$BQ$2<B11),1,\"\")","v":""},1400,8000,{"$f":"LEAGUES_Bonus[[#This Row],[Bonus d''Or]]","v":8000},0,null,{"$f":"IF(AND('Combats - Loots'!$D$2>=H10,'Combats - Loots'!$D$2<H11),1,\"\")","v":""},-3,0.25,null,{"$f":"IF(Paramètres!$BN$2=8,1,\"\")","v":""},580]
[{"$f":"IF(AND(Paramètres!$BQ$2>=B11,Paramètres!$BQ$2<B12),1,\"\")","v":""},1600,11000,{"$f":"LEAGUES_Bonus[[#This Row],[Bonus d''Or]]","v":11000},0,null,{"$f":"IF(AND('Combats - Loots'!$D$2>=H11,'Combats - Loots'!$D$2<H12),1,\"\")","v":""},-2,0.5,null,{"$f":"IF(Paramètres!$BN$2=9,1,\"\")","v":""},750]
[{"$f":"IF(AND(Paramètres!$BQ$2>=B12,Paramètres!$BQ$2<B13),1,\"\")","v":""},1800,14000,{"$f":"LEAGUES_Bonus[[#This Row],[Bonus d''Or]]","v":14000},0,null,{"$f":"IF(AND('Combats - Loots'!$D$2>=H12,'Combats - Loots'!$D$2<H13),1,\"\")","v":""},-1,0.9,null,{"$f":"IF(Paramètres!$BN$2=10,1,\"\")","v":""},1000]
[{"$f":"IF(AND(Paramètres!$BQ$2>=B13,Paramètres!$BQ$2<B14),1,\"\")","v":""},2000,40000,{"$f":"LEAGUES_Bonus[[#This Row],[Bonus d''Or]]","v":40000},120,null,{"$f":"IF(AND('Combats - Loots'!$D$2>=H13,'Combats - Loots'!$D$2<H14),1,\"\")","v":""},0,1,null,{"$f":"IF(Paramètres!$BN$2=11,1,\"\")","v":""},1001]
[{"$f":"IF(AND(Paramètres!$BQ$2>=B14,Paramètres!$BQ$2<B15),1,\"\")","v":""},2200,55000,{"$f":"LEAGUES_Bonus[[#This Row],[Bonus d''Or]]","v":55000},220,null,{"$f":"IF(AND('Combats - Loots'!$D$2>=H14,'Combats - Loots'!$D$2<H15),1,\"\")","v":""},1,1.1000000000000001]
[{"$f":"IF(AND(Paramètres!$BQ$2>=B15,Paramètres!$BQ$2<B16),1,\"\")","v":""},2400,65000,{"$f":"LEAGUES_Bonus[[#This Row],[Bonus d''Or]]","v":65000},300,null,{"$f":"IF(AND('Combats - Loots'!$D$2>=H15,'Combats - Loots'!$D$2<H16),1,\"\")","v":""},2,1.5]
[{"$f":"IF(AND(Paramètres!$BQ$2>=B16,Paramètres!$BQ$2<B17),1,\"\")","v":""},2600,100000,{"$f":"LEAGUES_Bonus[[#This Row],[Bonus d''Or]]","v":100000},500,null,{"$f":"IF(AND('Combats - Loots'!$D$2>=H16,'Combats - Loots'!$D$2<H17),1,\"\")","v":""},3,2]
[{"$f":"IF(AND(Paramètres!$BQ$2>=B17,Paramètres!$BQ$2<B18),1,\"\")","v":""},2800,120000,{"$f":"LEAGUES_Bonus[[#This Row],[Bonus d''Or]]","v":120000},700,null,{"$f":"IF(AND('Combats - Loots'!$D$2>=H17,'Combats - Loots'!$D$2<H18),1,\"\")","v":""},4,2]
[{"$f":"IF(AND(Paramètres!$BQ$2>=B18,Paramètres!$BQ$2<B19),1,\"\")","v":""},3000,140000,{"$f":"LEAGUES_Bonus[[#This Row],[Bonus d''Or]]","v":140000},900,null,{"$f":"IF(AND('Combats - Loots'!$D$2>=H18,'Combats - Loots'!$D$2<H19),1,\"\")","v":""},5,2]
[{"$f":"IF(AND(Paramètres!$BQ$2>=B19,Paramètres!$BQ$2<B20),1,\"\")","v":""},3200,180000,{"$f":"LEAGUES_Bonus[[#This Row],[Bonus d''Or]]","v":180000},1200,null,{"$f":"IF(AND('Combats - Loots'!$D$2>=H19,'Combats - Loots'!$D$2<H20),1,\"\")","v":""},6,2]
[{"$f":"IF(AND(Paramètres!$BQ$2>=B20,Paramètres!$BQ$2<B26),1,\"\")","v":""},3500,190000,{"$f":"LEAGUES_Bonus[[#This Row],[Bonus d''Or]]","v":190000},1300,null,{"$f":"IF(AND('Combats - Loots'!$D$2>=H20,'Combats - Loots'!$D$2<H21),1,\"\")","v":""},7,2]
[{"$f":"IF(AND(Paramètres!$BQ$2>=B21,Paramètres!$BQ$2<B26),1,\"\")","v":""},3800,200000,{"$f":"LEAGUES_Bonus[[#This Row],[Bonus d''Or]]","v":200000},1500,null,{"$f":"IF(AND('Combats - Loots'!$D$2>=H21,'Combats - Loots'!$D$2<H22),1,\"\")","v":""},8,2]
[{"$f":"IF(AND(Paramètres!$BQ$2>=B22,Paramètres!$BQ$2<B26),1,\"\")","v":""},4100,210000,{"$f":"LEAGUES_Bonus[[#This Row],[Bonus d''Or]]","v":210000},1600,null,{"$f":"IF(AND('Combats - Loots'!$D$2>=H22,'Combats - Loots'!$D$2<H23),1,\"\")","v":1},9,2]
[{"$f":"IF(AND(Paramètres!$BQ$2>=B23,Paramètres!$BQ$2<B24),1,\"\")","v":""},4400,220000,{"$f":"LEAGUES_Bonus[[#This Row],[Bonus d''Or]]","v":220000},1700,null,{"$f":"IF(AND('Combats - Loots'!$D$2>=H23,'Combats - Loots'!$D$2<H24),1,\"\")","v":""},10,2]
[{"$f":"IF(AND(Paramètres!$BQ$2>=B24,Paramètres!$BQ$2<B25),1,\"\")","v":""},4600,250000,{"$f":"LEAGUES_Bonus[[#This Row],[Bonus d''Or]]","v":250000},1800]
[{"$f":"IF(AND(Paramètres!$BQ$2>=B25,Paramètres!$BQ$2<B26),1,\"\")","v":""},5000,250000,{"$f":"LEAGUES_Bonus[[#This Row],[Bonus d''Or]]","v":250000},2000]

{"sheet":"Formation de Troupes","index":17,"n_rows":37,"n_cols":20,"rows_kept":37,"cut":false,"hidden":true,"merged":[[33,9,33,10],[34,9,34,10],[35,9,35,10],[36,9,36,10],[27,0,28,3],[30,0,31,3],[18,9,18,10],[19,9,19,10],[17,1,17,2],[18,1,18,2],[27,5,28,5],[27,6,28,6],[21,0,22,3],[24,0,25,3],[17,9,17,10],[24,8,24,15],[2,8,2,17],[16,1,16,2],[0,5,0,6],[1,5,1,6],[16,9,16,10],[0,3,0,4],[1,3,1,4],[15,1,15,2],[0,1,0,2],[1,1,1,2],[14,1,14,2],[2,0,2,6]]}
["LVL HdV","Affichage Temps",null,"LVL Usine de Sorts",null,"LVL Usine de Sorts Noirs",null,null,"NB\nCaserne",null,null,null,null,null,"LVL\nCaserne n°1","LVL\nCaserne n°2","LVL\nCaserne n°3","LVL\nCaserne n°4"]
[{"$f":"Paramètres!$BN$2","v":1},"heures",null,{"$f":"IF(ISERROR(MATCH(1,Paramètres!L$6:L$45,0)),0,MATCH(1,Paramètres!L$6:L$45,0))","v":0},null,{"$f":"IF(ISERROR(MATCH(1,Paramètres!M$6:M$45,0)),0,MATCH(1,Paramètres!M$6:M$45,0))","v":0},null,null,{"$f":"Paramètres!H57","v":0},null,null,null,null,null,12,9,10,10]
["Création de Sorts",null,null,null,null,null,null,null,"Formation de Troupes Normales"]
[null,"Max +","Actuel +","Espace","Coût","Time (s)","Laboratoire - NB",null,null,"Max +","Actuel +","Espace","Coût","Time (s)","Caserne n°1 - NB","Caserne° 2 - NB","Caserne n°3 - NB","Caserne n°4 - NB","Total",{"$f":"AND(B$5<>\"\",$A6>B$5)","v":true}]
["Sort de Foudre",{"$f":"VLOOKUP($A$2,AVAILABLE_Upgrades_Spells[#All],MATCH($A5,AVAILABLE_Upgrades_Spells[#Headers],0)+1)","v":0},{"$f":"IF(ISERROR(MATCH(1,Paramètres!AG$6:AG$45,0)),0,MATCH(1,Paramètres!AG$6:AG$45,0))","v":0},{"$f":"IF($C5<>0,VLOOKUP($C5,TRAINING_Spell_Lightning[#All],2),0)","v":0},{"$f":"IF($C5<>0,VLOOKUP($C5,TRAINING_Spell_Lightning[#All],3),0)","v":0},{"$f":"IF($C5<>0,VLOOKUP($C5,TRAINING_Spell_Lightning[#All],4),0)","v":0},null,null,"Barbare",{"$f":"VLOOKUP($A$2,AVAILABLE_Upgrades_Normal_Troops[#All],MATCH($I5,AVAILABLE_Upgrades_Normal_Troops[#Headers],0)+1)","v":0},{"$f":"IF(ISERROR(MATCH(1,Paramètres!AQ$6:AQ$45,0)),0,MATCH(1,Paramètres!AQ$6:AQ$45,0))","v":0},{"$f":"IF($K5<>0,VLOOKUP($K5,TRAINING_Barbarian[#All],2),0)","v":0},{"$f":"IF($K5<>0,VLOOKUP($K5,TRAINING_Barbarian[#All],3),0)","v":0},{"$f":"IF($K5<>0,VLOOKUP($K5,TRAINING_Barbarian[#All],4),0)","v":0},null,null,null,null,{"$f":"SUM(O5:R5)","v":0}]
["Sort de Guérison",{"$f":"VLOOKUP($A$2,AVAILABLE_Upgrades_Spells[#All],MATCH($A6,AVAILABLE_Upgrades_Spells[#Headers],0)+1)","v":0},{"$f":"IF(ISERROR(MATCH(1,Paramètres!AH$6:AH$45,0)),0,MATCH(1,Paramètres!AH$6:AH$45,0))","v":0},{"$f":"IF($C6<>0,VLOOKUP($C6,TRAINING_Spell_Healing[#All],2),0)","v":0},{"$f":"IF($C6<>0,VLOOKUP($C6,TRAINING_Spell_Healing[#All],3),0)","v":0},{"$f":"IF($C6<>0,VLOOKUP($C6,TRAINING_Spell_Healing[#All],4),0)","v":0},3,null,"Archer",{"$f":"VLOOKUP($A$2,AVAILABLE_Upgrades_Normal_Troops[#All],MATCH($I6,AVAILABLE_Upgrades_Normal_Troops[#Headers],0)+1)","v":0},{"$f":"IF(ISERROR(MATCH(1,Paramètres!AR$6:AR$45,0)),0,MATCH(1,Paramètres!AR$6:AR$45,0))","v":0},{"$f":"IF($K6<>0,VLOOKUP($K6,TRAINING_Archer[#All],2),0)","v":0},{"$f":"IF($K6<>0,VLOOKUP($K6,TRAINING_Archer[#All],3),0)","v":0},{"$f":"IF($K6<>0,VLOOKUP($K6,TRAINING_Archer[#All],4),0)","v":0},null,null,null,null,{"$f":"SUM(O6:R6)","v":0}]
["Sort de Rage",{"$f":"VLOOKUP($A$2,AVAILABLE_Upgrades_Spells[#All],MATCH($A7,AVAILABLE_Upgrades_Spells[#Headers],0)+1)","v":0},{"$f":"IF(ISERROR(MATCH(1,Paramètres!AI$6:AI$45,0)),0,MATCH(1,Paramètres!AI$6:AI$45,0))","v":0},{"$f":"IF($C7<>0,VLOOKUP($C7,TRAINING_Spell_Rage[#All],2),0)","v":0},{"$f":"IF($C7<>0,VLOOKUP($C7,TRAINING_Spell_Rage[#All],3),0)","v":0},{"$f":"IF($C7<>0,VLOOKUP($C7,TRAINING_Spell_Rage[#All],4),0)","v":0},1,null,"Gobelin",{"$f":"VLOOKUP($A$2,AVAILABLE_Upgrades_Normal_Troops[#All],MATCH($I7,AVAILABLE_Upgrades_Normal_Troops[#Headers],0)+1)","v":0},{"$f":"IF(ISERROR(MATCH(1,Paramètres!AS$6:AS$45,0)),0,MATCH(1,Paramètres!AS$6:AS$45,0))","v":0},{"$f":"IF($K7<>0,VLOOKUP($K7,TRAINING_Goblin[#All],2),0)","v":0},{"$f":"IF($K7<>0,VLOOKUP($K7,TRAINING_Goblin[#All],3),0)","v":0},{"$f":"IF($K7<>0,VLOOKUP($K7,TRAINING_Goblin[#All],4),0)","v":0},null,null,null,null,0]
["Sort de Saut",{"$f":"VLOOKUP($A$2,AVAILABLE_Upgrades_Spells[#All],MATCH($A8,AVAILABLE_Upgrades_Spells[#Headers],0)+1)","v":0},{"$f":"IF(ISERROR(MATCH(1,Paramètres!AJ$6:AJ$45,0)),0,MATCH(1,Paramètres!AJ$6:AJ$45,0))","v":0},{"$f":"IF($C8<>0,VLOOKUP($C8,TRAINING_Spell_Jump[#All],2),0)","v":0},{"$f":"IF($C8<>0,VLOOKUP($C8,TRAINING_Spell_Jump[#All],3),0)","v":0},{"$f":"IF($C8<>0,VLOOKUP($C8,TRAINING_Spell_Jump[#All],4),0)","v":0},1,null,"Géant",{"$f":"VLOOKUP($A$2,AVAILABLE_Upgrades_Normal_Troops[#All],MATCH($I8,AVAILABLE_Upgrades_Normal_Troops[#Headers],0)+1)","v":0},{"$f":"IF(ISERROR(MATCH(1,Paramètres!AT$6:AT$45,0)),0,MATCH(1,Paramètres!AT$6:AT$45,0))","v":0},{"$f":"IF($K8<>0,VLOOKUP($K8,TRAINING_Giant[#All],2),0)","v":0},{"$f":"IF($K8<>0,VLOOKUP($K8,TRAINING_Giant[#All],3),0)","v":0},{"$f":"IF($K8<>0,VLOOKUP($K8,TRAINING_Giant[#All],4),0)","v":0},null,null,null,null,0]
["Sort de Gel",{"$f":"VLOOKUP($A$2,AVAILABLE_Upgrades_Spells[#All],MATCH($A9,AVAILABLE_Upgrades_Spells[#Headers],0)+1)","v":0},{"$f":"IF(ISERROR(MATCH(1,Paramètres!AK$6:AK$45,0)),0,MATCH(1,Paramètres!AK$6:AK$45,0))","v":0},{"$f":"IF($C9<>0,VLOOKUP($C9,TRAINING_Spell_Freeze[#All],2),0)","v":0},{"$f":"IF($C9<>0,VLOOKUP($C9,TRAINING_Spell_Freeze[#All],3),0)","v":0},{"$f":"IF($C9<>0,VLOOKUP($C9,TRAINING_Spell_Freeze[#All],4),0)","v":0},null,null,"Sapeur",{"$f":"VLOOKUP($A$2,AVAILABLE_Upgrades_Normal_Troops[#All],MATCH($I9,AVAILABLE_Upgrades_Normal_Troops[#Headers],0)+1)","v":0},{"$f":"IF(ISERROR(MATCH(1,Paramètres!AU$6:AU$45,0)),0,MATCH(1,Paramètres!AU$6:AU$45,0))","v":0},{"$f":"IF($K9<>0,VLOOKUP($K9,TRAINING_Wall_Breaker[#All],2),0)","v":0},{"$f":"IF($K9<>0,VLOOKUP($K9,TRAINING_Wall_Breaker[#All],3),0)","v":0},{"$f":"IF($K9<>0,VLOOKUP($K9,TRAINING_Wall_Breaker[#All],4),0)","v":0},null,null,null,null,0]
["Sort de Clonage",{"$f":"VLOOKUP($A$2,AVAILABLE_Upgrades_Spells[#All],MATCH($A10,AVAILABLE_Upgrades_Spells[#Headers],0)+1)","v":0},{"$f":"IF(ISERROR(MATCH(1,Paramètres!AK$6:AK$45,0)),0,MATCH(1,Paramètres!AK$6:AK$45,0))","v":0},{"$f":"IF($C10<>0,VLOOKUP($C10,TRAINING_Spell_Clone[#All],2),0)","v":0},{"$f":"IF($C10<>0,VLOOKUP($C10,TRAINING_Spell_Clone[#All],3),0)","v":0},{"$f":"IF($C10<>0,VLOOKUP($C10,TRAINING_Spell_Clone[#All],4),0)","v":0},null,null,"Ballon",{"$f":"VLOOKUP($A$2,AVAILABLE_Upgrades_Normal_Troops[#All],MATCH($I10,AVAILABLE_Upgrades_Normal_Troops[#Headers],0)+1)","v":0},{"$f":"IF(ISERROR(MATCH(1,Paramètres!AV$6:AV$45,0)),0,MATCH(1,Paramètres!AV$6:AV$45,0))","v":0},{"$f":"IF($K10<>0,VLOOKUP($K10,TRAINING_Balloon[#All],2),0)","v":0},{"$f":"IF($K10<>0,VLOOKUP($K10,TRAINING_Balloon[#All],3),0)","v":0},{"$f":"IF($K10<>0,VLOOKUP($K10,TRAINING_Balloon[#All],4),0)","v":0},null,null,null,null,0]
["Sort de Poison",{"$f":"VLOOKUP($A$2,AVAILABLE_Upgrades_Dark_Spells[#All],MATCH($A11,AVAILABLE_Upgrades_Dark_Spells[#Headers],0)+1)","v":0},{"$f":"IF(ISERROR(MATCH(1,Paramètres!AM$6:AM$45,0)),0,MATCH(1,Paramètres!AM$6:AM$45,0))","v":0},{"$f":"IF($C11<>0,VLOOKUP($C11,TRAINING_Spell_Poison[#All],2),0)","v":0},{"$f":"IF($C11<>0,VLOOKUP($C11,TRAINING_Spell_Poison[#All],3),0)","v":0},{"$f":"IF($C11<>0,VLOOKUP($C11,TRAINING_Spell_Poison[#All],4),0)","v":0},1,null,"Sorcier",{"$f":"VLOOKUP($A$2,AVAILABLE_Upgrades_Normal_Troops[#All],MATCH($I11,AVAILABLE_Upgrades_Normal_Troops[#Headers],0)+1)","v":0},{"$f":"IF(ISERROR(MATCH(1,Paramètres!AW$6:AW$45,0)),0,MATCH(1,Paramètres!AW$6:AW$45,0))","v":0},{"$f":"IF($K11<>0,VLOOKUP($K11,TRAINING_Wizard[#All],2),0)","v":0},{"$f":"IF($K11<>0,VLOOKUP($K11,TRAINING_Wizard[#All],3),0)","v":0},{"$f":"IF($K11<>0,VLOOKUP($K11,TRAINING_Wizard[#All],4),0)","v":0},3,3,3,3,12]
["Sort de Séisme",{"$f":"VLOOKUP($A$2,AVAILABLE_Upgrades_Dark_Spells[#All],MATCH($A12,AVAILABLE_Upgrades_Dark_Spells[#Headers],0)+1)","v":0},{"$f":"IF(ISERROR(MATCH(1,Paramètres!AN$6:AN$45,0)),0,MATCH(1,Paramètres!AN$6:AN$45,0))","v":0},{"$f":"IF($C12<>0,VLOOKUP($C12,TRAINING_Spell_Earthquake[#All],2),0)","v":0},{"$f":"IF($C12<>0,VLOOKUP($C12,TRAINING_Spell_Earthquake[#All],3),0)","v":0},{"$f":"IF($C12<>0,VLOOKUP($C12,TRAINING_Spell_Earthquake[#All],4),0)","v":0},null,null,"Guérisseuse",{"$f":"VLOOKUP($A$2,AVAILABLE_Upgrades_Normal_Troops[#All],MATCH($I12,AVAILABLE_Upgrades_Normal_Troops[#Headers],0)+1)","v":0},{"$f":"IF(ISERROR(MATCH(1,Paramètres!AX$6:AX$45,0)),0,MATCH(1,Paramètres!AX$6:AX$45,0))","v":0},{"$f":"IF($K12<>0,VLOOKUP($K12,TRAINING_Healer[#All],2),0)","v":0},{"$f":"IF($K12<>0,VLOOKUP($K12,TRAINING_Healer[#All],3),0)","v":0},{"$f":"IF($K12<>0,VLOOKUP($K12,TRAINING_Healer[#All],4),0)","v":0},null,null,null,null,0]
["Sort de Hâte",{"$f":"VLOOKUP($A$2,AVAILABLE_Upgrades_Dark_Spells[#All],MATCH($A13,AVAILABLE_Upgrades_Dark_Spells[#Headers],0)+1)","v":0},{"$f":"IF(ISERROR(MATCH(1,Paramètres!AO$6:AO$45,0)),0,MATCH(1,Paramètres!AO$6:AO$45,0))","v":0},{"$f":"IF($C13<>0,VLOOKUP($C13,TRAINING_Spell_Haste[#All],2),0)","v":0},{"$f":"IF($C13<>0,VLOOKUP($C13,TRAINING_Spell_Haste[#All],3),0)","v":0},{"$f":"IF($C13<>0,VLOOKUP($C13,TRAINING_Spell_Haste[#All],4),0)","v":0},null,null,"Dragon",{"$f":"VLOOKUP($A$2,AVAILABLE_Upgrades_Normal_Troops[#All],MATCH($I13,AVAILABLE_Upgrades_Normal_Troops[#Headers],0)+1)","v":0},{"$f":"IF(ISERROR(MATCH(1,Paramètres!AY$6:AY$45,0)),0,MATCH(1,Paramètres!AY$6:AY$45,0))","v":0},{"$f":"IF($K13<>0,VLOOKUP($K13,TRAINING_Dragon[#All],2),0)","v":0},{"$f":"IF($K13<>0,VLOOKUP($K13,TRAINING_Dragon[#All],3),0)","v":0},{"$f":"IF($K13<>0,VLOOKUP($K13,TRAINING_Dragon[#All],4),0)","v":0},null,null,null,null,0]
["Sort Squelettique",{"$f":"VLOOKUP($A$2,AVAILABLE_Upgrades_Dark_Spells[#All],MATCH($A14,AVAILABLE_Upgrades_Dark_Spells[#Headers],0)+1)","v":0},{"$f":"IF(ISERROR(MATCH(1,Paramètres!AO$6:AO$45,0)),0,MATCH(1,Paramètres!AO$6:AO$45,0))","v":0},{"$f":"IF($C14<>0,VLOOKUP($C14,TRAINING_Spell_Skeleton[#All],2),0)","v":0},{"$f":"IF($C14<>0,VLOOKUP($C14,TRAINING_Spell_Skeleton[#All],3),0)","v":0},{"$f":"IF($C14<>0,VLOOKUP($C14,TRAINING_Spell_Skeleton[#All],4),0)","v":0},null,null,"P.E.K.K.A",{"$f":"VLOOKUP($A$2,AVAILABLE_Upgrades_Normal_Troops[#All],MATCH($I14,AVAILABLE_Upgrades_Normal_Troops[#Headers],0)+1)","v":0},{"$f":"IF(ISERROR(MATCH(1,Paramètres!AZ$6:AZ$45,0)),0,MATCH(1,Paramètres!AZ$6:AZ$45,0))","v":0},{"$f":"IF($K14<>0,VLOOKUP($K14,TRAINING_PEKKA[#All],2),0)","v":0},{"$f":"IF($K14<>0,VLOOKUP($K14,TRAINING_PEKKA[#All],3),0)","v":0},{"$f":"IF($K14<>0,VLOOKUP($K14,TRAINING_PEKKA[#All],4),0)","v":0},null,null,null,null,0]
[null,"Espace Max",null,null,null,null,{"$f":"VLOOKUP($F$2,TRAINING_Dark_Spell_Factory[#All],2)+VLOOKUP($D$2,TRAINING_Spell_Factory[#All],2)","v":0},null,"Bébé dragon",{"$f":"VLOOKUP($A$2,AVAILABLE_Upgrades_Normal_Troops[#All],MATCH($I15,AVAILABLE_Upgrades_Normal_Troops[#Headers],0)+1)","v":0},{"$f":"IF(ISERROR(MATCH(1,Paramètres!AZ$6:AZ$45,0)),0,MATCH(1,Paramètres!AZ$6:AZ$45,0))","v":0},{"$f":"IF($K15<>0,VLOOKUP($K15,TRAINING_PEKKA[#All],2),0)","v":0},{"$f":"IF($K15<>0,VLOOKUP($K15,TRAINING_PEKKA[#All],3),0)","v":0},{"$f":"IF($K15<>0,VLOOKUP($K15,TRAINING_PEKKA[#All],4),0)","v":0},null,null,null,null,{"$f":"SUM(O15:R15)","v":0}]
[null,"Espace Total",null,null,null,null,{"$f":"SUMPRODUCT(G$5:G$9,$D$5:$D$9)+SUMPRODUCT(G$10:G$12,$D$10:$D$12)","v":0},null,"Mineur",{"$f":"VLOOKUP($A$2,AVAILABLE_Upgrades_Normal_Troops[#All],MATCH($I16,AVAILABLE_Upgrades_Normal_Troops[#Headers],0)+1)","v":0},{"$f":"IF(ISERROR(MATCH(1,Paramètres!AZ$6:AZ$45,0)),0,MATCH(1,Paramètres!AZ$6:AZ$45,0))","v":0},{"$f":"IF($K16<>0,VLOOKUP($K16,TRAINING_PEKKA[#All],2),0)","v":0},{"$f":"IF($K16<>0,VLOOKUP($K16,TRAINING_PEKKA[#All],3),0)","v":0},{"$f":"IF($K16<>0,VLOOKUP($K16,TRAINING_PEKKA[#All],4),0)","v":0},null,null,null,null,0]
[null,"Coût Total",null,null,null,null,{"$f":"SUMPRODUCT(G$5:G$9,$E$5:$E$9)","v":0},null,null,"Espace Max",null,null,null,null,{"$f":"VLOOKUP(O$2,TRAINING_Barrack[#All],2)","v":105},{"$f":"VLOOKUP(P$2,TRAINING_Barrack[#All],2)","v":60},{"$f":"VLOOKUP(Q$2,TRAINING_Barrack[#All],2)","v":75},{"$f":"VLOOKUP(R$2,TRAINING_Barrack[#All],2)","v":75},{"$f":"SUM(O17:R17)","v":315}]
[null,"Coût Total",null,null,null,null,{"$f":"SUMPRODUCT(G$10:G$12,$E$10:$E$12)","v":0},null,null,"Espace Total",null,null,null,null,{"$f":"SUMPRODUCT(O$5:O$14,$L$5:$L$14)","v":0},{"$f":"SUMPRODUCT(P$5:P$14,$L$5:$L$14)","v":0},{"$f":"SUMPRODUCT(Q$5:Q$14,$L$5:$L$14)","v":0},{"$f":"SUMPRODUCT(R$5:R$14,$L$5:$L$14)","v":0},{"$f":"SUM(O18:R18)","v":0}]
[null,"Temps Total",null,null,null,null,{"$f":"IF($B$2='Paramètres - Admin'!$B$2,TEXT(SUMPRODUCT(G$5:G$12,$F$5:$F$12),\"# 0\")&\" \" & 'Paramètres - Admin'!$B$2,IF($B$2='Paramètres - Admin'!$B$3,TEXT(SUMPRODUCT(G$5:G$12,$F$5:$F$12)/60,\"# 0\")&\" \" & 'Paramètres - Admin'!$B$3,IF($B$2='Paramètres - Admin'!$B$4,TEXT(SUMPRODUCT(G$5:G$12,$F$5:$F$12)/3600,\"# 0,00\")&\" \" & 'Paramètres - Admin'!$B$4,IF(SUMPRODUCT(G$5:G$12,$F$5:$F$12)/3600>=1,INT(SUMPRODUCT(G$5:G$12,$F$5:$F$12)/3600) &\" \" & 'Paramètres - Admin'!$D$3 & \" \" & MINUTE(SUMPRODUCT(G$5:G$12,$F$5:$F$12)/86400-INT(SUMPRODUCT(G$5:G$12,$F$5:$F$12)/86400))  &\" \" & 'Paramètres - Admin'!$D$2 & \" \" & SECOND(SUMPRODUCT(G$5:G$12,$F$5:$F$12)/86400-INT(SUMPRODUCT(G$5:G$12,$F$5:$F$12)/86400)) &\" \" & 'Paramètres - Admin'!$D$5,MINUTE(SUMPRODUCT(G$5:G$12,$F$5:$F$12)/86400-INT(SUMPRODUCT(G$5:G$12,$F$5:$F$12)/86400)) &\" \" & 'Paramètres - Admin'!$D$2 & \" \" & SECOND(SUMPRODUCT(G$5:G$12,$F$5:$F$12)/86400-INT(SUMPRODUCT(G$5:G$12,$F$5:$F$12)/86400)) &\" \" & 'Paramètres - Admin'!$D$5))))","v":"0,00 heures"},null,null,"Coût Total",null,null,null,null,{"$f":"SUMPRODUCT(O$5:O$14,$M$5:$M$14)","v":0},{"$f":"SUMPRODUCT(P$5:P$14,$M$5:$M$14)","v":0},{"$f":"SUMPRODUCT(Q$5:Q$14,$M$5:$M$14)","v":0},{"$f":"SUMPRODUCT(R$5:R$14,$M$5:$M$14)","v":0},{"$f":"SUM(O19:R19)","v":0}]
[null,null,null,null,null,null,null,null,null,"Temps Total",null,null,null,null,{"$f":"IF($B$2='Paramètres - Admin'!$B$2,TEXT(SUMPRODUCT(O$5:O$14,$N$5:$N$14),\"# 0\")&\" \" & 'Paramètres - Admin'!$B$2,IF($B$2='Paramètres - Admin'!$B$3,TEXT(SUMPRODUCT(O$5:O$14,$N$5:$N$14)/60,\"# 0\")&\" \" & 'Paramètres - Admin'!$B$3,IF($B$2='Paramètres - Admin'!$B$4,TEXT(SUMPRODUCT(O$5:O$14,$N$5:$N$14)/3600,\"# 0,00\")&\" \" & 'Paramètres - Admin'!$B$4,IF(SUMPRODUCT(O$5:O$14,$N$5:$N$14)/3600>=1,INT(SUMPRODUCT(O$5:O$14,$N$5:$N$14)/3600) &\" \" & 'Paramètres - Admin'!$D$3 & \" \" & MINUTE(SUMPRODUCT(O$5:O$14,$N$5:$N$14)/86400-INT(SUMPRODUCT(O$5:O$14,$N$5:$N$14)/86400))  &\" \" & 'Paramètres - Admin'!$D$2 & \" \" & SECOND(SUMPRODUCT(O$5:O$14,$N$5:$N$14)/86400-INT(SUMPRODUCT(O$5:O$14,$N$5:$N$14)/86400)) &\" \" & 'Paramètres - Admin'!$D$5,MINUTE(SUMPRODUCT(O$5:O$14,$N$5:$N$14)/86400-INT(SUMPRODUCT(O$5:O$14,$N$5:$N$14)/86400)) &\" \" & 'Paramètres - Admin'!$D$2 & \" \" & SECOND(SUMPRODUCT(O$5:O$14,$N$5:$N$14)/86400-INT(SUMPRODUCT(O$5:O$14,$N$5:$N$14)/86400)) &\" \" & 'Paramètres - Admin'!$D$5))))","v":"0,00 heures"},{"$f":"IF($B$2='Paramètres - Admin'!$B$2,TEXT(SUMPRODUCT(P$5:P$14,$N$5:$N$14),\"# 0\")&\" \" & 'Paramètres - Admin'!$B$2,IF($B$2='Paramètres - Admin'!$B$3,TEXT(SUMPRODUCT(P$5:P$14,$N$5:$N$14)/60,\"# 0\")&\" \" & 'Paramètres - Admin'!$B$3,IF($B$2='Paramètres - Admin'!$B$4,TEXT(SUMPRODUCT(P$5:P$14,$N$5:$N$14)/3600,\"# 0,00\")&\" \" & 'Paramètres - Admin'!$B$4,IF(SUMPRODUCT(P$5:P$14,$N$5:$N$14)/3600>=1,INT(SUMPRODUCT(P$5:P$14,$N$5:$N$14)/3600) &\" \" & 'Paramètres - Admin'!$D$3 & \" \" & MINUTE(SUMPRODUCT(P$5:P$14,$N$5:$N$14)/86400-INT(SUMPRODUCT(P$5:P$14,$N$5:$N$14)/86400))  &\" \" & 'Paramètres - Admin'!$D$2 & \" \" & SECOND(SUMPRODUCT(P$5:P$14,$N$5:$N$14)/86400-INT(SUMPRODUCT(P$5:P$14,$N$5:$N$14)/86400)) &\" \" & 'Paramètres - Admin'!$D$5,MINUTE(SUMPRODUCT(P$5:P$14,$N$5:$N$14)/86400-INT(SUMPRODUCT(P$5:P$14,$N$5:$N$14)/86400)) &\" \" & 'Paramètres - Admin'!$D$2 & \" \" & SECOND(SUMPRODUCT(P$5:P$14,$N$5:$N$14)/86400-INT(SUMPRODUCT(P$5:P$14,$N$5:$N$14)/86400)) &\" \" & 'Paramètres - Admin'!$D$5))))","v":"0,00 heures"},{"$f":"IF($B$2='Paramètres - Admin'!$B$2,TEXT(SUMPRODUCT(Q$5:Q$14,$N$5:$N$14),\"# 0\")&\" \" & 'Paramètres - Admin'!$B$2,IF($B$2='Paramètres - Admin'!$B$3,TEXT(SUMPRODUCT(Q$5:Q$14,$N$5:$N$14)/60,\"# 0\")&\" \" & 'Paramètres - Admin'!$B$3,IF($B$2='Paramètres - Admin'!$B$4,TEXT(SUMPRODUCT(Q$5:Q$14,$N$5:$N$14)/3600,\"# 0,00\")&\" \" & 'Paramètres - Admin'!$B$4,IF(SUMPRODUCT(Q$5:Q$14,$N$5:$N$14)/3600>=1,INT(SUMPRODUCT(Q$5:Q$14,$N$5:$N$14)/3600) &\" \" & 'Paramètres - Admin'!$D$3 & \" \" & MINUTE(SUMPRODUCT(Q$5:Q$14,$N$5:$N$14)/86400-INT(SUMPRODUCT(Q$5:Q$14,$N$5:$N$14)/86400))  &\" \" & 'Paramètres - Admin'!$D$2 & \" \" & SECOND(SUMPRODUCT(Q$5:Q$14,$N$5:$N$14)/86400-INT(SUMPRODUCT(Q$5:Q$14,$N$5:$N$14)/86400)) &\" \" & 'Paramètres - Admin'!$D$5,MINUTE(SUMPRODUCT(Q$5:Q$14,$N$5:$N$14)/86400-INT(SUMPRODUCT(Q$5:Q$14,$N$5:$N$14)/86400)) &\" \" & 'Paramètres - Admin'!$D$2 & \" \" & SECOND(SUMPRODUCT(Q$5:Q$14,$N$5:$N$14)/86400-INT(SUMPRODUCT(Q$5:Q$14,$N$5:$N$14)/86400)) &\" \" & 'Paramètres - Admin'!$D$5))))","v":"0,00 heures"},{"$f":"IF($B$2='Paramètres - Admin'!$B$2,TEXT(SUMPRODUCT(R$5:R$14,$N$5:$N$14),\"# 0\")&\" \" & 'Paramètres - Admin'!$B$2,IF($B$2='Paramètres - Admin'!$B$3,TEXT(SUMPRODUCT(R$5:R$14,$N$5:$N$14)/60,\"# 0\")&\" \" & 'Paramètres - Admin'!$B$3,IF($B$2='Paramètres - Admin'!$B$4,TEXT(SUMPRODUCT(R$5:R$14,$N$5:$N$14)/3600,\"# 0,00\")&\" \" & 'Paramètres - Admin'!$B$4,IF(SUMPRODUCT(R$5:R$14,$N$5:$N$14)/3600>=1,INT(SUMPRODUCT(R$5:R$14,$N$5:$N$14)/3600) &\" \" & 'Paramètres - Admin'!$D$3 & \" \" & MINUTE(SUMPRODUCT(R$5:R$14,$N$5:$N$14)/86400-INT(SUMPRODUCT(R$5:R$14,$N$5:$N$14)/86400))  &\" \" & 'Paramètres - Admin'!$D$2 & \" \" & SECOND(SUMPRODUCT(R$5:R$14,$N$5:$N$14)/86400-INT(SUMPRODUCT(R$5:R$14,$N$5:$N$14)/86400)) &\" \" & 'Paramètres - Admin'!$D$5,MINUTE(SUMPRODUCT(R$5:R$14,$N$5:$N$14)/86400-INT(SUMPRODUCT(R$5:R$14,$N$5:$N$14)/86400)) &\" \" & 'Paramètres - Admin'!$D$2 & \" \" & SECOND(SUMPRODUCT(R$5:R$14,$N$5:$N$14)/86400-INT(SUMPRODUCT(R$5:R$14,$N$5:$N$14)/86400)) &\" \" & 'Paramètres - Admin'!$D$5))))","v":"0,00 heures"},{"$f":"IF($B$2='Paramètres - Admin'!$B$2,TEXT((SUMPRODUCT(O$5:O$14,$N$5:$N$14)+SUMPRODUCT(P$5:P$14,$N$5:$N$14)+SUMPRODUCT(Q$5:Q$14,$N$5:$N$14)+SUMPRODUCT(R$5:R$14,$N$5:$N$14)),\"# 0\")&\" \" & 'Paramètres - Admin'!$B$2,IF($B$2='Paramètres - Admin'!$B$3,TEXT((SUMPRODUCT(O$5:O$14,$N$5:$N$14)+SUMPRODUCT(P$5:P$14,$N$5:$N$14)+SUMPRODUCT(Q$5:Q$14,$N$5:$N$14)+SUMPRODUCT(R$5:R$14,$N$5:$N$14))/60,\"# 0\")&\" \" & 'Paramètres - Admin'!$B$3,IF($B$2='Paramètres - Admin'!$B$4,TEXT((SUMPRODUCT(O$5:O$14,$N$5:$N$14)+SUMPRODUCT(P$5:P$14,$N$5:$N$14)+SUMPRODUCT(Q$5:Q$14,$N$5:$N$14)+SUMPRODUCT(R$5:R$14,$N$5:$N$14))/3600,\"# 0,00\")&\" \" & 'Paramètres - Admin'!$B$4,IF((SUMPRODUCT(O$5:O$14,$N$5:$N$14)+SUMPRODUCT(P$5:P$14,$N$5:$N$14)+SUMPRODUCT(Q$5:Q$14,$N$5:$N$14)+SUMPRODUCT(R$5:R$14,$N$5:$N$14))/3600>=1,INT((SUMPRODUCT(O$5:O$14,$N$5:$N$14)+SUMPRODUCT(P$5:P$14,$N$5:$N$14)+SUMPRODUCT(Q$5:Q$14,$N$5:$N$14)+SUMPRODUCT(R$5:R$14,$N$5:$N$14))/3600) &\" \" & 'Paramètres - Admin'!$D$3 & \" \" & MINUTE((SUMPRODUCT(O$5:O$14,$N$5:$N$14)+SUMPRODUCT(P$5:P$14,$N$5:$N$14)+SUMPRODUCT(Q$5:Q$14,$N$5:$N$14)+SUMPRODUCT(R$5:R$14,$N$5:$N$14))/86400-INT((SUMPRODUCT(O$5:O$14,$N$5:$N$14)+SUMPRODUCT(P$5:P$14,$N$5:$N$14)+SUMPRODUCT(Q$5:Q$14,$N$5:$N$14)+SUMPRODUCT(R$5:R$14,$N$5:$N$14))/86400))  &\" \" & 'Paramètres - Admin'!$D$2 & \" \" & SECOND((SUMPRODUCT(O$5:O$14,$N$5:$N$14)+SUMPRODUCT(P$5:P$14,$N$5:$N$14)+SUMPRODUCT(Q$5:Q$14,$N$5:$N$14)+SUMPRODUCT(R$5:R$14,$N$5:$N$14))/86400-INT((SUMPRODUCT(O$5:O$14,$N$5:$N$14)+SUMPRODUCT(P$5:P$14,$N$5:$N$14)+SUMPRODUCT(Q$5:Q$14,$N$5:$N$14)+SUMPRODUCT(R$5:R$14,$N$5:$N$14))/86400)) &\" \" & 'Paramètres - Admin'!$D$5,MINUTE((SUMPRODUCT(O$5:O$14,$N$5:$N$14)+SUMPRODUCT(P$5:P$14,$N$5:$N$14)+SUMPRODUCT(Q$5:Q$14,$N$5:$N$14)+SUMPRODUCT(R$5:R$14,$N$5:$N$14))/86400-INT((SUMPRODUCT(O$5:O$14,$N$5:$N$14)+SUMPRODUCT(P$5:P$14,$N$5:$N$14)+SUMPRODUCT(Q$5:Q$14,$N$5:$N$14)+SUMPRODUCT(R$5:R$14,$N$5:$N$14))/86400)) &\" \" & 'Paramètres - Admin'!$D$2 & \" \" & SECOND((SUMPRODUCT(O$5:O$14,$N$5:$N$14)+SUMPRODUCT(P$5:P$14,$N$5:$N$14)+SUMPRODUCT(Q$5:Q$14,$N$5:$N$14)+SUMPRODUCT(R$5:R$14,$N$5:$N$14))/86400-INT((SUMPRODUCT(O$5:O$14,$N$5:$N$14)+SUMPRODUCT(P$5:P$14,$N$5:$N$14)+SUMPRODUCT(Q$5:Q$14,$N$5:$N$14)+SUMPRODUCT(R$5:R$14,$N$5:$N$14))/86400)) &\" \" & 'Paramètres - Admin'!$D$5))))","v":"0,00 heures"}]
[]
["Troupe/Sort non disponible"]
[null,null,null,null,null,null,null,null,"NB\nCaserne Noire",null,null,null,null,null,"LVL\nCaserne Noire n°1","LVL\nCaserne Noire n°2"]
[null,null,null,null,null,null,null,null,{"$f":"Paramètres!I57","v":0},null,null,null,null,null,7,7]
["Erreur - Caserne\nMax. total atteint",null,null,null,null,null,null,null,"Formation de Troupes Noires",null,null,null,null,null,null,null,null,null,"Coût Total"]
[null,null,null,null,null,null,null,null,null,"Max +","Actuel +","Espace","Coût","Time (s)","Caserne Noire n°1","Caserne Noire n°2","Total",null,{"$f":"S19+G17","v":0}]
[null,null,null,null,null,null,null,null,"Serviteur",{"$f":"VLOOKUP($A$2,AVAILABLE_Upgrades_Dark_Troops[#All],MATCH($I27,AVAILABLE_Upgrades_Dark_Troops[#Headers],0)+1)","v":0},{"$f":"IF(ISERROR(MATCH(1,Paramètres!BC$6:BC$45,0)),0,MATCH(1,Paramètres!BC$6:BC$45,0))","v":0},{"$f":"IF($K27<>0,VLOOKUP($K27,TRAINING_Minion[#All],2),0)","v":0},{"$f":"IF($K27<>0,VLOOKUP($K27,TRAINING_Minion[#All],3),0)","v":0},{"$f":"IF($K27<>0,VLOOKUP($K27,TRAINING_Minion[#All],4),0)","v":0},null,null,{"$f":"SUM(O27:P27)","v":0},null,{"$f":"G18+Q36","v":0}]
["Caserne non disponible\n(ou pas de Laboratoire)",null,null,null,null,"Camps Militaires",{"$f":"SUMPRODUCT(Paramètres!J6:J13,'Coûts de Formation'!AL31:AL38)","v":0},null,"Chevaucheur de Cochon",{"$f":"VLOOKUP($A$2,AVAILABLE_Upgrades_Dark_Troops[#All],MATCH($I28,AVAILABLE_Upgrades_Dark_Troops[#Headers],0)+1)","v":0},{"$f":"IF(ISERROR(MATCH(1,Paramètres!BD$6:BD$45,0)),0,MATCH(1,Paramètres!BD$6:BD$45,0))","v":0},{"$f":"IF($K28<>0,VLOOKUP($K28,TRAINING_Hog_Rider[#All],2),0)","v":0},{"$f":"IF($K28<>0,VLOOKUP($K28,TRAINING_Hog_Rider[#All],3),0)","v":0},{"$f":"IF($K28<>0,VLOOKUP($K28,TRAINING_Hog_Rider[#All],4),0)","v":0},2,8,10]
[null,null,null,null,null,null,null,null,"Valkyrie",{"$f":"VLOOKUP($A$2,AVAILABLE_Upgrades_Dark_Troops[#All],MATCH($I29,AVAILABLE_Upgrades_Dark_Troops[#Headers],0)+1)","v":0},{"$f":"IF(ISERROR(MATCH(1,Paramètres!BE$6:BE$45,0)),0,MATCH(1,Paramètres!BE$6:BE$45,0))","v":0},{"$f":"IF($K29<>0,VLOOKUP($K29,TRAINING_Valkyrie[#All],2),0)","v":0},{"$f":"IF($K29<>0,VLOOKUP($K29,TRAINING_Valkyrie[#All],3),0)","v":0},{"$f":"IF($K29<>0,VLOOKUP($K29,TRAINING_Valkyrie[#All],4),0)","v":0},7,7,14]
[null,null,null,null,null,null,null,null,"Golem",{"$f":"VLOOKUP($A$2,AVAILABLE_Upgrades_Dark_Troops[#All],MATCH($I30,AVAILABLE_Upgrades_Dark_Troops[#Headers],0)+1)","v":0},{"$f":"IF(ISERROR(MATCH(1,Paramètres!BF$6:BF$45,0)),0,MATCH(1,Paramètres!BF$6:BF$45,0))","v":0},{"$f":"IF($K30<>0,VLOOKUP($K30,TRAINING_Golem[#All],2),0)","v":0},{"$f":"IF($K30<>0,VLOOKUP($K30,TRAINING_Golem[#All],3),0)","v":0},{"$f":"IF($K30<>0,VLOOKUP($K30,TRAINING_Golem[#All],4),0)","v":0},1,null,1]
["Erreur - Camp Militaire\nMax. total atteint",null,null,null,null,null,null,null,"Sorcière",{"$f":"VLOOKUP($A$2,AVAILABLE_Upgrades_Dark_Troops[#All],MATCH($I31,AVAILABLE_Upgrades_Dark_Troops[#Headers],0)+1)","v":0},{"$f":"IF(ISERROR(MATCH(1,Paramètres!BG$6:BG$45,0)),0,MATCH(1,Paramètres!BG$6:BG$45,0))","v":0},{"$f":"IF($K31<>0,VLOOKUP($K31,TRAINING_Witch[#All],2),0)","v":0},{"$f":"IF($K31<>0,VLOOKUP($K31,TRAINING_Witch[#All],3),0)","v":0},{"$f":"IF($K31<>0,VLOOKUP($K31,TRAINING_Witch[#All],4),0)","v":0},null,null,0]
[null,null,null,null,null,null,null,null,"Molosse de lave",{"$f":"VLOOKUP($A$2,AVAILABLE_Upgrades_Dark_Troops[#All],MATCH($I32,AVAILABLE_Upgrades_Dark_Troops[#Headers],0)+1)","v":0},{"$f":"IF(ISERROR(MATCH(1,Paramètres!BH$6:BH$45,0)),0,MATCH(1,Paramètres!BH$6:BH$45,0))","v":0},{"$f":"IF($K32<>0,VLOOKUP($K32,TRAINING_Lava_Hound[#All],2),0)","v":0},{"$f":"IF($K32<>0,VLOOKUP($K32,TRAINING_Lava_Hound[#All],3),0)","v":0},{"$f":"IF($K32<>0,VLOOKUP($K32,TRAINING_Lava_Hound[#All],4),0)","v":0},null,null,0]
[null,null,null,null,null,null,null,null,"Bouliste",{"$f":"VLOOKUP($A$2,AVAILABLE_Upgrades_Dark_Troops[#All],MATCH($I33,AVAILABLE_Upgrades_Dark_Troops[#Headers],0)+1)","v":0},{"$f":"IF(ISERROR(MATCH(1,Paramètres!BH$6:BH$45,0)),0,MATCH(1,Paramètres!BH$6:BH$45,0))","v":0},{"$f":"IF($K33<>0,VLOOKUP($K33,TRAINING_Lava_Hound[#All],2),0)","v":0},{"$f":"IF($K33<>0,VLOOKUP($K33,TRAINING_Lava_Hound[#All],3),0)","v":0},{"$f":"IF($K33<>0,VLOOKUP($K33,TRAINING_Lava_Hound[#All],4),0)","v":0},null,null,{"$f":"SUM(O33:P33)","v":0}]
[null,null,null,null,null,null,null,null,null,"Espace Max",null,null,null,null,{"$f":"VLOOKUP(O$24,TRAINING_Dark_Barrack[#All],2)","v":100},{"$f":"VLOOKUP(P$24,TRAINING_Dark_Barrack[#All],2)","v":100},{"$f":"SUM(O34:P34)","v":200}]
[null,null,null,null,null,null,null,null,null,"Espace Total",null,null,null,null,{"$f":"SUMPRODUCT(O$27:O$32,$L$27:$L$32)","v":0},{"$f":"SUMPRODUCT(P$27:P$32,$L$27:$L$32)","v":0},{"$f":"SUM(O35:P35)","v":0}]
[null,null,null,null,null,null,null,null,null,"Coût Total",null,null,null,null,{"$f":"SUMPRODUCT(O$27:O$32,$M$27:$M$32)","v":0},{"$f":"SUMPRODUCT(P$27:P$32,$M$27:$M$32)","v":0},{"$f":"SUM(O36:P36)","v":0}]
[null,null,null,null,null,null,null,null,null,"Temps Total",null,null,null,null,{"$f":"IF($B$2='Paramètres - Admin'!$B$2,TEXT(SUMPRODUCT(O$27:O$32,$N$27:$N$32),\"# 0\")&\" \" & 'Paramètres - Admin'!$B$2,IF($B$2='Paramètres - Admin'!$B$3,TEXT(SUMPRODUCT(O$27:O$32,$N$27:$N$32)/60,\"# 0\")&\" \" & 'Paramètres - Admin'!$B$3,IF($B$2='Paramètres - Admin'!$B$4,TEXT(SUMPRODUCT(O$27:O$32,$N$27:$N$32)/3600,\"# 0,00\")&\" \" & 'Paramètres - Admin'!$B$4,IF(SUMPRODUCT(O$27:O$32,$N$27:$N$32)/3600>=1,INT(SUMPRODUCT(O$27:O$32,$N$27:$N$32)/3600) &\" \" & 'Paramètres - Admin'!$D$3 & \" \" & MINUTE(SUMPRODUCT(O$27:O$32,$N$27:$N$32)/86400-INT(SUMPRODUCT(O$27:O$32,$N$27:$N$32)/86400))  &\" \" & 'Paramètres - Admin'!$D$2 & \" \" & SECOND(SUMPRODUCT(O$27:O$32,$N$27:$N$32)/86400-INT(SUMPRODUCT(O$27:O$32,$N$27:$N$32)/86400)) &\" \" & 'Paramètres - Admin'!$D$5,MINUTE(SUMPRODUCT(O$27:O$32,$N$27:$N$32)/86400-INT(SUMPRODUCT(O$27:O$32,$N$27:$N$32)/86400)) &\" \" & 'Paramètres - Admin'!$D$2 & \" \" & SECOND(SUMPRODUCT(O$27:O$32,$N$27:$N$32)/86400-INT(SUMPRODUCT(O$27:O$32,$N$27:$N$32)/86400)) &\" \" & 'Paramètres - Admin'!$D$5))))","v":"0,00 heures"},{"$f":"IF($B$2='Paramètres - Admin'!$B$2,TEXT(SUMPRODUCT(P$27:P$32,$N$27:$N$32),\"# 0\")&\" \" & 'Paramètres - Admin'!$B$2,IF($B$2='Paramètres - Admin'!$B$3,TEXT(SUMPRODUCT(P$27:P$32,$N$27:$N$32)/60,\"# 0\")&\" \" & 'Paramètres - Admin'!$B$3,IF($B$2='Paramètres - Admin'!$B$4,TEXT(SUMPRODUCT(P$27:P$32,$N$27:$N$32)/3600,\"# 0,00\")&\" \" & 'Paramètres - Admin'!$B$4,IF(SUMPRODUCT(P$27:P$32,$N$27:$N$32)/3600>=1,INT(SUMPRODUCT(P$27:P$32,$N$27:$N$32)/3600) &\" \" & 'Paramètres - Admin'!$D$3 & \" \" & MINUTE(SUMPRODUCT(P$27:P$32,$N$27:$N$32)/86400-INT(SUMPRODUCT(P$27:P$32,$N$27:$N$32)/86400))  &\" \" & 'Paramètres - Admin'!$D$2 & \" \" & SECOND(SUMPRODUCT(P$27:P$32,$N$27:$N$32)/86400-INT(SUMPRODUCT(P$27:P$32,$N$27:$N$32)/86400)) &\" \" & 'Paramètres - Admin'!$D$5,MINUTE(SUMPRODUCT(P$27:P$32,$N$27:$N$32)/86400-INT(SUMPRODUCT(P$27:P$32,$N$27:$N$32)/86400)) &\" \" & 'Paramètres - Admin'!$D$2 & \" \" & SECOND(SUMPRODUCT(P$27:P$32,$N$27:$N$32)/86400-INT(SUMPRODUCT(P$27:P$32,$N$27:$N$32)/86400)) &\" \" & 'Paramètres - Admin'!$D$5))))","v":"0,00 heures"},{"$f":"IF($B$2='Paramètres - Admin'!$B$2,TEXT((SUMPRODUCT(O$27:O$32,$N$27:$N$32)+SUMPRODUCT(P$27:P$32,$N$27:$N$32)),\"# 0\")&\" \" & 'Paramètres - Admin'!$B$2,IF($B$2='Paramètres - Admin'!$B$3,TEXT((SUMPRODUCT(O$27:O$32,$N$27:$N$32)+SUMPRODUCT(P$27:P$32,$N$27:$N$32))/60,\"# 0\")&\" \" & 'Paramètres - Admin'!$B$3,IF($B$2='Paramètres - Admin'!$B$4,TEXT((SUMPRODUCT(O$27:O$32,$N$27:$N$32)+SUMPRODUCT(P$27:P$32,$N$27:$N$32))/3600,\"# 0,00\")&\" \" & 'Paramètres - Admin'!$B$4,IF((SUMPRODUCT(O$27:O$32,$N$27:$N$32)+SUMPRODUCT(P$27:P$32,$N$27:$N$32))/3600>=1,INT((SUMPRODUCT(O$27:O$32,$N$27:$N$32)+SUMPRODUCT(P$27:P$32,$N$27:$N$32))/3600) &\" \" & 'Paramètres - Admin'!$D$3 & \" \" & MINUTE((SUMPRODUCT(O$27:O$32,$N$27:$N$32)+SUMPRODUCT(P$27:P$32,$N$27:$N$32))/86400-INT((SUMPRODUCT(O$27:O$32,$N$27:$N$32)+SUMPRODUCT(P$27:P$32,$N$27:$N$32))/86400))  &\" \" & 'Paramètres - Admin'!$D$2 & \" \" & SECOND((SUMPRODUCT(O$27:O$32,$N$27:$N$32)+SUMPRODUCT(P$27:P$32,$N$27:$N$32))/86400-INT((SUMPRODUCT(O$27:O$32,$N$27:$N$32)+SUMPRODUCT(P$27:P$32,$N$27:$N$32))/86400)) &\" \" & 'Paramètres - Admin'!$D$5,MINUTE((SUMPRODUCT(O$27:O$32,$N$27:$N$32)+SUMPRODUCT(P$27:P$32,$N$27:$N$32))/86400-INT((SUMPRODUCT(O$27:O$32,$N$27:$N$32)+SUMPRODUCT(P$27:P$32,$N$27:$N$32))/86400)) &\" \" & 'Paramètres - Admin'!$D$2 & \" \" & SECOND((SUMPRODUCT(O$27:O$32,$N$27:$N$32)+SUMPRODUCT(P$27:P$32,$N$27:$N$32))/86400-INT((SUMPRODUCT(O$27:O$32,$N$27:$N$32)+SUMPRODUCT(P$27:P$32,$N$27:$N$32))/86400)) &\" \" & 'Paramètres - Admin'!$D$5))))","v":"0,00 heures"}]

{"sheet":"Valeur du Village","index":18,"n_rows":129,"n_cols":48,"rows_kept":129,"cut":false,"hidden":true,"merged":[[51,40,51,43],[50,0,50,43],[80,0,80,3],[83,8,83,11],[1,3,1,7],[3,3,3,7],[2,3,2,7],[13,12,13,15],[13,16,13,19],[3,10,3,11],[4,10,4,11],[4,3,4,7],[5,3,5,7],[6,3,6,7],[7,3,7,7],[8,3,8,7],[9,3,9,7],[10,3,10,7],[38,0,38,3],[38,4,38,7],[38,8,38,11],[13,0,13,3],[13,4,13,7],[13,8,13,11],[25,32,25,35],[25,36,25,39],[25,0,25,3],[25,4,25,7],[25,8,25,11],[25,12,25,15],[25,16,25,19],[25,20,25,23],[25,24,25,27],[25,28,25,31],[38,16,38,19],[81,32,81,35],[81,24,81,27],[38,20,38,23],[70,12,70,15],[81,12,81,15],[82,4,82,7],[81,0,81,3],[25,44,25,47],[24,0,24,47],[38,24,38,27],[37,0,37,27],[51,0,51,3],[51,4,51,7],[51,32,51,35],[51,36,51,39],[51,8,51,11],[51,12,51,15],[51,16,51,19],[51,20,51,23],[70,20,70,23],[38,12,38,15],[115,12,115,15],[115,16,115,19],[115,20,115,23],[111,32,111,35],[51,24,51,27],[51,28,51,31],[98,24,98,27],[98,28,98,31],[111,28,111,31],[110,28,110,35],[80,12,80,35],[81,28,81,31],[13,20,13,23],[12,0,12,23],[115,24,115,27],[114,12,114,27],[25,40,25,43],[98,32,98,35],[97,12,97,35],[98,12,98,15],[98,16,98,19],[98,20,98,23],[81,16,81,19],[81,20,81,23],[70,16,70,19],[70,0,70,3],[71,4,71,7],[71,8,71,11]]}
[]
[null,null,null,"Valeurs - Sorts",null,null,null,null,{"$f":"SUM(VALUE_Spell_Lightning[Total],VALUE_Spell_Healing[Total],VALUE_Spell_Rage[Total],VALUE_Spell_Jump[Total],VALUE_Spell_Freeze[Total],VALUE_Spell_Clonage[Total])","v":0}]
[null,null,null,"Valeurs - Sorts Noirs",null,null,null,null,{"$f":"SUM(VALUE_Spell_Poison[Total],VALUE_Spell_Earthquake[Total],VALUE_Spell_Haste[Total],VALUE_Spell_Earthquake[Total],Value_Spell_Skeleton[Total])","v":0}]
[null,null,null,"Valeurs - Troupes Normales",null,null,null,null,{"$f":"SUM(VALUE_Barbarian[Total],VALUE_Archer[Total],VALUE_Goblin[Total],VALUE_Giant[Total],VALUE_Wall_Breaker[Total],VALUE_Balloon[Total],VALUE_Wizard[Total],VALUE_Healer[Total],VALUE_Dragon[Total],VALUE_PEKKA[Total],VALUE_Bébé_Drag[Total],VALUE_Mineur[Total])","v":0},null,"Valeur du Village"]
[null,null,null,"Valeurs - Troupes Noires",null,null,null,null,{"$f":"SUM(VALUE_Minion[Total],VALUE_Hog_Rider[Total],VALUE_Valkyrie[Total],VALUE_Golem[Total],VALUE_Witch[Total],VALUE_Lava_Hound[Total],VALUE_Bowler[Total])","v":0},null,{"$f":"SUM(I2:I11)","v":0}]
[null,null,null,"Valeurs - Bâtiments de Ressources",null,null,null,null,{"$f":"SUM(VALUE_Gold_Mine[Total],VALUE_Dark_Elixir_Drill[Total],VALUE_Gold_Storage[Total],VALUE_Dark_Elixir_Storage[Total],VALUE_Elixir_Collector[Total],VALUE_Elixir_Storage[Total])","v":0}]
[null,null,null,"Valeurs - Bâtiments d'Armée",null,null,null,null,{"$f":"SUM(VALUE_Dark_Barrack[Total],VALUE_Barrack[Total],VALUE_Army_Camp[Total],VALUE_Laboratory[Total],VALUE_Spell_Factory[Total],VALUE_Dark_Spell_Factory[Total])","v":0}]
[null,null,null,"Valeurs - Bâtiments Autres",null,null,null,null,{"$f":"SUM(VALUE_Clan_Castle[Total],VALUE_Town_Home[Total])","v":0}]
[null,null,null,"Valeurs - Bâtiments de Défense",null,null,null,null,{"$f":"SUM(VALUE_Wall[Total],VALUE_Cannon[Total],VALUE_Archer_Tower[Total],VALUE_Mortar[Total],VALUE_Air_Defense[Total],VALUE_Wizard_Tower[Total],VALUE_Air_Sweeper[Total],VALUE_Hidden_Tesla[Total],VALUE_XBow[Total],VALUE_Inferno_Tower[Total],VALUE_Aigle[Total])","v":0}]
[null,null,null,"Valeurs - Pièges Défensifs",null,null,null,null,{"$f":"SUM(VALUE_Bomb[Total],VALUE_Spring_Trap[Total],VALUE_Giant_Bomb[Total],VALUE_Air_Bomb[Total],VALUE_Seeking_Air_Mine[Total],VALUE_Skeleton_Trap[Total])","v":0}]
[null,null,null,"Valeurs - Héros",null,null,null,null,{"$f":"SUM(VALUE_Barbarian_King[Total],VALUE_Archer_Queen[Total],Value_Grand_Gardien[Total])","v":0}]
[]
["Valeurs - Sorts"]
["Sort de Foudre",null,null,null,"Sort de Guérison",null,null,null,"Sort de Rage",null,null,null,"Sort de Saut",null,null,null,"Sort de Gel",null,null,null,"Sort de Clonage"]
["LVL","Rang","Valeur","Total","LVL","Rang","Valeur","Total","LVL","Rang","Valeur","Total","LVL","Rang","Valeur","Total","LVL","Rang","Valeur","Total","LVL","Rang","Valeur","Total"]
[1,{"$f":"Paramètres!AG6","v":0},60,{"$f":"VALUE_Spell_Lightning[[#This Row],[Valeur]]*VALUE_Spell_Lightning[[#This Row],[Rang]]","v":0},1,{"$f":"Paramètres!AH6","v":0},230,{"$f":"VALUE_Spell_Healing[[#This Row],[Valeur]]*VALUE_Spell_Healing[[#This Row],[Rang]]","v":0},1,{"$f":"Paramètres!AI6","v":0},100,{"$f":"VALUE_Spell_Rage[[#This Row],[Valeur]]*VALUE_Spell_Rage[[#This Row],[Rang]]","v":0},1,{"$f":"Paramètres!AJ6","v":0},250,{"$f":"VALUE_Spell_Jump[[#This Row],[Valeur]]*VALUE_Spell_Jump[[#This Row],[Rang]]","v":0},1,{"$f":"Paramètres!AK6","v":0},1000,{"$f":"VALUE_Spell_Freeze[[#This Row],[Valeur]]*VALUE_Spell_Freeze[[#This Row],[Rang]]","v":0},1,{"$f":"Paramètres!AL6","v":0},300,{"$f":"'Valeur du Village'!$W16*'Valeur du Village'!$V16","v":0}]
[2,{"$f":"Paramètres!AG7","v":0},125,{"$f":"VALUE_Spell_Lightning[[#This Row],[Valeur]]*VALUE_Spell_Lightning[[#This Row],[Rang]]","v":0},2,{"$f":"Paramètres!AH7","v":0},445,{"$f":"VALUE_Spell_Healing[[#This Row],[Valeur]]*VALUE_Spell_Healing[[#This Row],[Rang]]","v":0},2,{"$f":"Paramètres!AI7","v":0},195,{"$f":"VALUE_Spell_Rage[[#This Row],[Valeur]]*VALUE_Spell_Rage[[#This Row],[Rang]]","v":0},2,{"$f":"Paramètres!AJ7","v":0},420,{"$f":"VALUE_Spell_Jump[[#This Row],[Valeur]]*VALUE_Spell_Jump[[#This Row],[Rang]]","v":0},2,{"$f":"Paramètres!AK7","v":0},2150,{"$f":"VALUE_Spell_Freeze[[#This Row],[Valeur]]*VALUE_Spell_Freeze[[#This Row],[Rang]]","v":0},2,{"$f":"Paramètres!AL7","v":0},630,{"$f":"'Valeur du Village'!$W17*'Valeur du Village'!$V17","v":0}]
[3,{"$f":"Paramètres!AG8","v":0},195,{"$f":"VALUE_Spell_Lightning[[#This Row],[Valeur]]*VALUE_Spell_Lightning[[#This Row],[Rang]]","v":0},3,{"$f":"Paramètres!AH8","v":0},645,{"$f":"VALUE_Spell_Healing[[#This Row],[Valeur]]*VALUE_Spell_Healing[[#This Row],[Rang]]","v":0},3,{"$f":"Paramètres!AI8","v":0},285,{"$f":"VALUE_Spell_Rage[[#This Row],[Valeur]]*VALUE_Spell_Rage[[#This Row],[Rang]]","v":0},3,{"$f":"Paramètres!AJ8","v":0},570,{"$f":"VALUE_Spell_Jump[[#This Row],[Valeur]]*VALUE_Spell_Jump[[#This Row],[Rang]]","v":0},3,{"$f":"Paramètres!AK8","v":0},3450,{"$f":"VALUE_Spell_Freeze[[#This Row],[Valeur]]*VALUE_Spell_Freeze[[#This Row],[Rang]]","v":0},3,{"$f":"Paramètres!AL8","v":0},990,{"$f":"'Valeur du Village'!$W18*'Valeur du Village'!$V18","v":0}]
[4,{"$f":"Paramètres!AG9","v":0},270,{"$f":"VALUE_Spell_Lightning[[#This Row],[Valeur]]*VALUE_Spell_Lightning[[#This Row],[Rang]]","v":0},4,{"$f":"Paramètres!AH9","v":0},835,{"$f":"VALUE_Spell_Healing[[#This Row],[Valeur]]*VALUE_Spell_Healing[[#This Row],[Rang]]","v":0},4,{"$f":"Paramètres!AI9","v":0},370,{"$f":"VALUE_Spell_Rage[[#This Row],[Valeur]]*VALUE_Spell_Rage[[#This Row],[Rang]]","v":0},null,null,null,null,4,{"$f":"Paramètres!AK9","v":0},4900,{"$f":"VALUE_Spell_Freeze[[#This Row],[Valeur]]*VALUE_Spell_Freeze[[#This Row],[Rang]]","v":0},4,{"$f":"Paramètres!AL9","v":0},1390,{"$f":"'Valeur du Village'!$W19*'Valeur du Village'!$V19","v":0}]
[5,{"$f":"Paramètres!AG10","v":0},350,{"$f":"VALUE_Spell_Lightning[[#This Row],[Valeur]]*VALUE_Spell_Lightning[[#This Row],[Rang]]","v":0},5,{"$f":"Paramètres!AH10","v":0},1015,{"$f":"VALUE_Spell_Healing[[#This Row],[Valeur]]*VALUE_Spell_Healing[[#This Row],[Rang]]","v":0},5,{"$f":"Paramètres!AI10","v":0},450,{"$f":"VALUE_Spell_Rage[[#This Row],[Valeur]]*VALUE_Spell_Rage[[#This Row],[Rang]]","v":0},null,null,null,null,5,{"$f":"Paramètres!AK10","v":0},6500,{"$f":"VALUE_Spell_Freeze[[#This Row],[Valeur]]*VALUE_Spell_Freeze[[#This Row],[Rang]]","v":0}]
[6,{"$f":"Paramètres!AG11","v":0},430,{"$f":"VALUE_Spell_Lightning[[#This Row],[Valeur]]*VALUE_Spell_Lightning[[#This Row],[Rang]]","v":0},6,{"$f":"Paramètres!AH11","v":0},1185,{"$f":"VALUE_Spell_Healing[[#This Row],[Valeur]]*VALUE_Spell_Healing[[#This Row],[Rang]]","v":0}]
[7,{"$f":"Paramètres!AG12","v":0},510,{"$f":"VALUE_Spell_Lightning[[#This Row],[Valeur]]*VALUE_Spell_Lightning[[#This Row],[Rang]]","v":0}]
[]
[]
["Valeurs - Troupes Normales"]
["Barbare",null,null,null,"Archer",null,null,null,"Gobelin",null,null,null,"Géant",null,null,null,"Sapeur",null,null,null,"Ballon",null,null,null,"Sorcier",null,null,null,"Guérisseuse",null,null,null,"Dragon",null,null,null,"P.E.K.K.A",null,null,null,"Bébé Dragon",null,null,null,"Mineur"]
["LVL","Rang","Valeur","Total","LVL","Rang","Valeur","Total","LVL","Rang","Valeur","Total","LVL","Rang","Valeur","Total","LVL","Rang","Valeur","Total","LVL","Rang","Valeur","Total","LVL","Rang","Valeur","Total","LVL","Rang","Valeur","Total","LVL","Rang","Valeur","Total","LVL","Rang","Valeur","Total","LVL","Rang","Valeur","Total","LVL","Rang","Valeur","Total"]
[1,{"$f":"Paramètres!AQ6","v":0},100,{"$f":"VALUE_Barbarian[[#This Row],[Valeur]]*VALUE_Barbarian[[#This Row],[Rang]]","v":0},1,{"$f":"Paramètres!AR6","v":0},150,{"$f":"VALUE_Archer[[#This Row],[Valeur]]*VALUE_Archer[[#This Row],[Rang]]","v":0},1,{"$f":"Paramètres!AT6","v":0},50,{"$f":"VALUE_Goblin[[#This Row],[Valeur]]*VALUE_Goblin[[#This Row],[Rang]]","v":0},1,{"$f":"Paramètres!AS6","v":0},120,{"$f":"VALUE_Giant[[#This Row],[Valeur]]*VALUE_Giant[[#This Row],[Rang]]","v":0},1,{"$f":"Paramètres!AU6","v":0},100,{"$f":"VALUE_Wall_Breaker[[#This Row],[Valeur]]*VALUE_Wall_Breaker[[#This Row],[Rang]]","v":0},1,{"$f":"Paramètres!AV6","v":0},100,{"$f":"VALUE_Balloon[[#This Row],[Valeur]]*VALUE_Balloon[[#This Row],[Rang]]","v":0},1,{"$f":"Paramètres!AW6","v":0},150,{"$f":"VALUE_Wizard[[#This Row],[Valeur]]*VALUE_Wizard[[#This Row],[Rang]]","v":0},1,{"$f":"Paramètres!AX6","v":0},180,{"$f":"VALUE_Healer[[#This Row],[Valeur]]*VALUE_Healer[[#This Row],[Rang]]","v":0},1,{"$f":"Paramètres!AY6","v":0},160,{"$f":"VALUE_Dragon[[#This Row],[Valeur]]*VALUE_Dragon[[#This Row],[Rang]]","v":0},1,{"$f":"Paramètres!AZ6","v":0},120,{"$f":"VALUE_PEKKA[[#This Row],[Valeur]]*VALUE_PEKKA[[#This Row],[Rang]]","v":0},1,{"$f":"Paramètres!BA6","v":0},150,{"$f":"'Valeur du Village'!$AQ28*'Valeur du Village'!$AP28","v":0},1,{"$f":"Paramètres!BB6","v":0},200,{"$f":"VALUE_Healer[[#This Row],[Valeur]]*VALUE_Healer[[#This Row],[Rang]]","v":0}]
[2,{"$f":"Paramètres!AQ7","v":0},200,{"$f":"VALUE_Barbarian[[#This Row],[Valeur]]*VALUE_Barbarian[[#This Row],[Rang]]","v":0},2,{"$f":"Paramètres!AR7","v":0},300,{"$f":"VALUE_Archer[[#This Row],[Valeur]]*VALUE_Archer[[#This Row],[Rang]]","v":0},2,{"$f":"Paramètres!AT7","v":0},100,{"$f":"VALUE_Goblin[[#This Row],[Valeur]]*VALUE_Goblin[[#This Row],[Rang]]","v":0},2,{"$f":"Paramètres!AS7","v":0},240,{"$f":"VALUE_Giant[[#This Row],[Valeur]]*VALUE_Giant[[#This Row],[Rang]]","v":0},2,{"$f":"Paramètres!AU7","v":0},200,{"$f":"VALUE_Wall_Breaker[[#This Row],[Valeur]]*VALUE_Wall_Breaker[[#This Row],[Rang]]","v":0},2,{"$f":"Paramètres!AV7","v":0},200,{"$f":"VALUE_Balloon[[#This Row],[Valeur]]*VALUE_Balloon[[#This Row],[Rang]]","v":0},2,{"$f":"Paramètres!AW7","v":0},300,{"$f":"VALUE_Wizard[[#This Row],[Valeur]]*VALUE_Wizard[[#This Row],[Rang]]","v":0},2,{"$f":"Paramètres!AX7","v":0},365,{"$f":"VALUE_Healer[[#This Row],[Valeur]]*VALUE_Healer[[#This Row],[Rang]]","v":0},2,{"$f":"Paramètres!AY7","v":0},325,{"$f":"VALUE_Dragon[[#This Row],[Valeur]]*VALUE_Dragon[[#This Row],[Rang]]","v":0},2,{"$f":"Paramètres!AZ7","v":0},270,{"$f":"VALUE_PEKKA[[#This Row],[Valeur]]*VALUE_PEKKA[[#This Row],[Rang]]","v":0},2,{"$f":"Paramètres!BA7","v":0},350,{"$f":"'Valeur du Village'!$AQ29*'Valeur du Village'!$AP29","v":0},2,{"$f":"Paramètres!BB7","v":0},500,{"$f":"VALUE_Healer[[#This Row],[Valeur]]*VALUE_Healer[[#This Row],[Rang]]","v":0}]
[3,{"$f":"Paramètres!AQ8","v":0},290,{"$f":"VALUE_Barbarian[[#This Row],[Valeur]]*VALUE_Barbarian[[#This Row],[Rang]]","v":0},3,{"$f":"Paramètres!AR8","v":0},440,{"$f":"VALUE_Archer[[#This Row],[Valeur]]*VALUE_Archer[[#This Row],[Rang]]","v":0},3,{"$f":"Paramètres!AT8","v":0},145,{"$f":"VALUE_Goblin[[#This Row],[Valeur]]*VALUE_Goblin[[#This Row],[Rang]]","v":0},3,{"$f":"Paramètres!AS8","v":0},360,{"$f":"VALUE_Giant[[#This Row],[Valeur]]*VALUE_Giant[[#This Row],[Rang]]","v":0},3,{"$f":"Paramètres!AU8","v":0},300,{"$f":"VALUE_Wall_Breaker[[#This Row],[Valeur]]*VALUE_Wall_Breaker[[#This Row],[Rang]]","v":0},3,{"$f":"Paramètres!AV8","v":0},300,{"$f":"VALUE_Balloon[[#This Row],[Valeur]]*VALUE_Balloon[[#This Row],[Rang]]","v":0},3,{"$f":"Paramètres!AW8","v":0},450,{"$f":"VALUE_Wizard[[#This Row],[Valeur]]*VALUE_Wizard[[#This Row],[Rang]]","v":0},3,{"$f":"Paramètres!AX8","v":0},565,{"$f":"VALUE_Healer[[#This Row],[Valeur]]*VALUE_Healer[[#This Row],[Rang]]","v":0},3,{"$f":"Paramètres!AY8","v":0},495,{"$f":"VALUE_Dragon[[#This Row],[Valeur]]*VALUE_Dragon[[#This Row],[Rang]]","v":0},3,{"$f":"Paramètres!AZ8","v":0},450,{"$f":"VALUE_PEKKA[[#This Row],[Valeur]]*VALUE_PEKKA[[#This Row],[Rang]]","v":0},3,{"$f":"Paramètres!BA8","v":0},600,{"$f":"'Valeur du Village'!$AQ30*'Valeur du Village'!$AP30","v":0},3,{"$f":"Paramètres!BB8","v":0},875,{"$f":"VALUE_Healer[[#This Row],[Valeur]]*VALUE_Healer[[#This Row],[Rang]]","v":0}]
[4,{"$f":"Paramètres!AQ9","v":0},370,{"$f":"VALUE_Barbarian[[#This Row],[Valeur]]*VALUE_Barbarian[[#This Row],[Rang]]","v":0},4,{"$f":"Paramètres!AR9","v":0},570,{"$f":"VALUE_Archer[[#This Row],[Valeur]]*VALUE_Archer[[#This Row],[Rang]]","v":0},4,{"$f":"Paramètres!AT9","v":0},185,{"$f":"VALUE_Goblin[[#This Row],[Valeur]]*VALUE_Goblin[[#This Row],[Rang]]","v":0},4,{"$f":"Paramètres!AS9","v":0},480,{"$f":"VALUE_Giant[[#This Row],[Valeur]]*VALUE_Giant[[#This Row],[Rang]]","v":0},4,{"$f":"Paramètres!AU9","v":0},400,{"$f":"VALUE_Wall_Breaker[[#This Row],[Valeur]]*VALUE_Wall_Breaker[[#This Row],[Rang]]","v":0},4,{"$f":"Paramètres!AV9","v":0},400,{"$f":"VALUE_Balloon[[#This Row],[Valeur]]*VALUE_Balloon[[#This Row],[Rang]]","v":0},4,{"$f":"Paramètres!AW9","v":0},600,{"$f":"VALUE_Wizard[[#This Row],[Valeur]]*VALUE_Wizard[[#This Row],[Rang]]","v":0},4,{"$f":"Paramètres!AX9","v":0},785,{"$f":"VALUE_Healer[[#This Row],[Valeur]]*VALUE_Healer[[#This Row],[Rang]]","v":0},4,{"$f":"Paramètres!AY9","v":0},745,{"$f":"VALUE_Dragon[[#This Row],[Valeur]]*VALUE_Dragon[[#This Row],[Rang]]","v":0},4,{"$f":"Paramètres!AZ9","v":0},670,{"$f":"VALUE_PEKKA[[#This Row],[Valeur]]*VALUE_PEKKA[[#This Row],[Rang]]","v":0},4,{"$f":"Paramètres!BA9","v":0},900,{"$f":"'Valeur du Village'!$AQ31*'Valeur du Village'!$AP31","v":0},4,{"$f":"Paramètres!BB9","v":0},1325,{"$f":"VALUE_Healer[[#This Row],[Valeur]]*VALUE_Healer[[#This Row],[Rang]]","v":0}]
[5,{"$f":"Paramètres!AQ10","v":0},440,{"$f":"VALUE_Barbarian[[#This Row],[Valeur]]*VALUE_Barbarian[[#This Row],[Rang]]","v":0},5,{"$f":"Paramètres!AR10","v":0},690,{"$f":"VALUE_Archer[[#This Row],[Valeur]]*VALUE_Archer[[#This Row],[Rang]]","v":0},5,{"$f":"Paramètres!AT10","v":0},220,{"$f":"VALUE_Goblin[[#This Row],[Valeur]]*VALUE_Goblin[[#This Row],[Rang]]","v":0},5,{"$f":"Paramètres!AS10","v":0},600,{"$f":"VALUE_Giant[[#This Row],[Valeur]]*VALUE_Giant[[#This Row],[Rang]]","v":0},5,{"$f":"Paramètres!AU10","v":0},490,{"$f":"VALUE_Wall_Breaker[[#This Row],[Valeur]]*VALUE_Wall_Breaker[[#This Row],[Rang]]","v":0},5,{"$f":"Paramètres!AV10","v":0},500,{"$f":"VALUE_Balloon[[#This Row],[Valeur]]*VALUE_Balloon[[#This Row],[Rang]]","v":0},5,{"$f":"Paramètres!AW10","v":0},750,{"$f":"VALUE_Wizard[[#This Row],[Valeur]]*VALUE_Wizard[[#This Row],[Rang]]","v":0},null,null,null,null,5,{"$f":"Paramètres!AY10","v":0},1165,{"$f":"VALUE_Dragon[[#This Row],[Valeur]]*VALUE_Dragon[[#This Row],[Rang]]","v":0},5,{"$f":"Paramètres!AZ10","v":0},1020,{"$f":"VALUE_PEKKA[[#This Row],[Valeur]]*VALUE_PEKKA[[#This Row],[Rang]]","v":0},5,{"$f":"Paramètres!BA10","v":0},1250,{"$f":"'Valeur du Village'!$AQ32*'Valeur du Village'!$AP32","v":0}]
[6,{"$f":"Paramètres!AQ11","v":0},505,{"$f":"VALUE_Barbarian[[#This Row],[Valeur]]*VALUE_Barbarian[[#This Row],[Rang]]","v":0},6,{"$f":"Paramètres!AR11","v":0},800,{"$f":"VALUE_Archer[[#This Row],[Valeur]]*VALUE_Archer[[#This Row],[Rang]]","v":0},6,{"$f":"Paramètres!AT11","v":0},250,{"$f":"VALUE_Goblin[[#This Row],[Valeur]]*VALUE_Goblin[[#This Row],[Rang]]","v":0},6,{"$f":"Paramètres!AS11","v":0},800,{"$f":"VALUE_Giant[[#This Row],[Valeur]]*VALUE_Giant[[#This Row],[Rang]]","v":0},6,{"$f":"Paramètres!AU11","v":0},570,{"$f":"VALUE_Wall_Breaker[[#This Row],[Valeur]]*VALUE_Wall_Breaker[[#This Row],[Rang]]","v":0},6,{"$f":"Paramètres!AV11","v":0},690,{"$f":"VALUE_Balloon[[#This Row],[Valeur]]*VALUE_Balloon[[#This Row],[Rang]]","v":0},6,{"$f":"Paramètres!AW11","v":0},900,{"$f":"VALUE_Wizard[[#This Row],[Valeur]]*VALUE_Wizard[[#This Row],[Rang]]","v":0},null,null,null,null,6,{"$f":"Paramètres!AY11","v":0},1645,{"$f":"VALUE_Dragon[[#This Row],[Valeur]]*VALUE_Dragon[[#This Row],[Rang]]","v":0}]
[7,{"$f":"Paramètres!AQ12","v":0},565,{"$f":"VALUE_Barbarian[[#This Row],[Valeur]]*VALUE_Barbarian[[#This Row],[Rang]]","v":0},7,{"$f":"Paramètres!AR12","v":0},900,{"$f":"VALUE_Archer[[#This Row],[Valeur]]*VALUE_Archer[[#This Row],[Rang]]","v":0},7,{"$f":"Paramètres!AT12","v":0},280,{"$f":"VALUE_Goblin[[#This Row],[Valeur]]*VALUE_Goblin[[#This Row],[Rang]]","v":0},7,{"$f":"Paramètres!AS12","v":0},1080,{"$f":"VALUE_Giant[[#This Row],[Valeur]]*VALUE_Giant[[#This Row],[Rang]]","v":0},null,null,null,null,7,{"$f":"Paramètres!AV12","v":0},950,{"$f":"VALUE_Balloon[[#This Row],[Valeur]]*VALUE_Balloon[[#This Row],[Rang]]","v":0},7,{"$f":"Paramètres!AW12","v":0},1050,{"$f":"VALUE_Wizard[[#This Row],[Valeur]]*VALUE_Wizard[[#This Row],[Rang]]","v":0}]
[null,null,null,null,null,null,null,null,null,null,null,null,8,{"$f":"Paramètres!AS13","v":0},1410,{"$f":"VALUE_Giant[[#This Row],[Valeur]]*VALUE_Giant[[#This Row],[Rang]]","v":0}]
[]
[]
["Valeurs - Troupes Noires"]
["Serviteur",null,null,null,"Chevaucheur de Cochon",null,null,null,"Valkyrie",null,null,null,"Golem",null,null,null,"Sorcière",null,null,null,"Molosse de lave",null,null,null,"Bouliste"]
["LVL","Rang","Valeur","Total","LVL","Rang","Valeur","Total","LVL","Rang","Valeur","Total","LVL","Rang","Valeur","Total","LVL","Rang","Valeur","Total","LVL","Rang","Valeur","Total","LVL","Rang","Valeur","Total"]
[1,{"$f":"Paramètres!BC6","v":0},120,{"$f":"VALUE_Minion[[#This Row],[Valeur]]*VALUE_Minion[[#This Row],[Rang]]","v":0},1,{"$f":"Paramètres!BD6","v":0},120,{"$f":"VALUE_Hog_Rider[[#This Row],[Valeur]]*VALUE_Hog_Rider[[#This Row],[Rang]]","v":0},1,{"$f":"Paramètres!BE6","v":0},100,{"$f":"VALUE_Valkyrie[[#This Row],[Valeur]]*VALUE_Valkyrie[[#This Row],[Rang]]","v":0},1,{"$f":"Paramètres!BF6","v":0},160,{"$f":"VALUE_Golem[[#This Row],[Valeur]]*VALUE_Golem[[#This Row],[Rang]]","v":0},1,{"$f":"Paramètres!BG6","v":0},800,{"$f":"VALUE_Witch[[#This Row],[Valeur]]*VALUE_Witch[[#This Row],[Rang]]","v":0},1,{"$f":"Paramètres!BH6","v":0},160,{"$f":"VALUE_Lava_Hound[[#This Row],[Valeur]]*VALUE_Lava_Hound[[#This Row],[Rang]]","v":0},1,{"$f":"Paramètres!BI6","v":0},400,{"$f":"'Valeur du Village'!$AA41*'Valeur du Village'!$Z41","v":0}]
[2,{"$f":"Paramètres!BC7","v":0},240,{"$f":"VALUE_Minion[[#This Row],[Valeur]]*VALUE_Minion[[#This Row],[Rang]]","v":0},2,{"$f":"Paramètres!BD7","v":0},250,{"$f":"VALUE_Hog_Rider[[#This Row],[Valeur]]*VALUE_Hog_Rider[[#This Row],[Rang]]","v":0},2,{"$f":"Paramètres!BE7","v":0},230,{"$f":"VALUE_Valkyrie[[#This Row],[Valeur]]*VALUE_Valkyrie[[#This Row],[Rang]]","v":0},2,{"$f":"Paramètres!BF7","v":0},330,{"$f":"VALUE_Golem[[#This Row],[Valeur]]*VALUE_Golem[[#This Row],[Rang]]","v":0},2,{"$f":"Paramètres!BG7","v":0},1800,{"$f":"VALUE_Witch[[#This Row],[Valeur]]*VALUE_Witch[[#This Row],[Rang]]","v":0},2,{"$f":"Paramètres!BH7","v":0},400,{"$f":"VALUE_Lava_Hound[[#This Row],[Valeur]]*VALUE_Lava_Hound[[#This Row],[Rang]]","v":0},2,{"$f":"Paramètres!BI7","v":0},1000,{"$f":"'Valeur du Village'!$AA42*'Valeur du Village'!$Z42","v":0}]
[3,{"$f":"Paramètres!BC8","v":0},355,{"$f":"VALUE_Minion[[#This Row],[Valeur]]*VALUE_Minion[[#This Row],[Rang]]","v":0},3,{"$f":"Paramètres!BD8","v":0},390,{"$f":"VALUE_Hog_Rider[[#This Row],[Valeur]]*VALUE_Hog_Rider[[#This Row],[Rang]]","v":0},3,{"$f":"Paramètres!BE8","v":0},390,{"$f":"VALUE_Valkyrie[[#This Row],[Valeur]]*VALUE_Valkyrie[[#This Row],[Rang]]","v":0},3,{"$f":"Paramètres!BF8","v":0},540,{"$f":"VALUE_Golem[[#This Row],[Valeur]]*VALUE_Golem[[#This Row],[Rang]]","v":0},3,{"$f":"Paramètres!BG8","v":0},3600,{"$f":"VALUE_Witch[[#This Row],[Valeur]]*VALUE_Witch[[#This Row],[Rang]]","v":0},3,{"$f":"Paramètres!BH8","v":0},750,{"$f":"VALUE_Lava_Hound[[#This Row],[Valeur]]*VALUE_Lava_Hound[[#This Row],[Rang]]","v":0},3,{"$f":"Paramètres!BI8","v":0},1800,{"$f":"'Valeur du Village'!$AA43*'Valeur du Village'!$Z43","v":0}]
[4,{"$f":"Paramètres!BC9","v":0},465,{"$f":"VALUE_Minion[[#This Row],[Valeur]]*VALUE_Minion[[#This Row],[Rang]]","v":0},4,{"$f":"Paramètres!BD9","v":0},540,{"$f":"VALUE_Hog_Rider[[#This Row],[Valeur]]*VALUE_Hog_Rider[[#This Row],[Rang]]","v":0},4,{"$f":"Paramètres!BE9","v":0},580,{"$f":"VALUE_Valkyrie[[#This Row],[Valeur]]*VALUE_Valkyrie[[#This Row],[Rang]]","v":0},4,{"$f":"Paramètres!BF9","v":0},810,{"$f":"VALUE_Golem[[#This Row],[Valeur]]*VALUE_Golem[[#This Row],[Rang]]","v":0},null,null,null,null,4,{"$f":"Paramètres!BH9","v":0},1170,{"$f":"VALUE_Lava_Hound[[#This Row],[Valeur]]*VALUE_Lava_Hound[[#This Row],[Rang]]","v":0}]
[5,{"$f":"Paramètres!BC10","v":0},570,{"$f":"VALUE_Minion[[#This Row],[Valeur]]*VALUE_Minion[[#This Row],[Rang]]","v":0},5,{"$f":"Paramètres!BD10","v":0},740,{"$f":"VALUE_Hog_Rider[[#This Row],[Valeur]]*VALUE_Hog_Rider[[#This Row],[Rang]]","v":0},5,{"$f":"Paramètres!BE10","v":0},800,{"$f":"VALUE_Valkyrie[[#This Row],[Valeur]]*VALUE_Valkyrie[[#This Row],[Rang]]","v":0},5,{"$f":"Paramètres!BF10","v":0},1210,{"$f":"VALUE_Golem[[#This Row],[Valeur]]*VALUE_Golem[[#This Row],[Rang]]","v":0}]
[6,{"$f":"Paramètres!BC11","v":0},670,{"$f":"VALUE_Minion[[#This Row],[Valeur]]*VALUE_Minion[[#This Row],[Rang]]","v":0},6,{"$f":"Paramètres!BD11","v":0},990,{"$f":"VALUE_Hog_Rider[[#This Row],[Valeur]]*VALUE_Hog_Rider[[#This Row],[Rang]]","v":0},null,null,null,null,6,{"$f":"Paramètres!BF11","v":0},1710,{"$f":"VALUE_Golem[[#This Row],[Valeur]]*VALUE_Golem[[#This Row],[Rang]]","v":0}]
[7,{"$f":"Paramètres!BC12","v":0},770,{"$f":"VALUE_Minion[[#This Row],[Valeur]]*VALUE_Minion[[#This Row],[Rang]]","v":0},7,{"$f":"Paramètres!BD12","v":0},1290,{"$f":"VALUE_Hog_Rider[[#This Row],[Valeur]]*VALUE_Hog_Rider[[#This Row],[Rang]]","v":0}]
[]
[]
[]
["Valeurs - Bâtiments de Défense"]
["Rempart",null,null,null,"Canon",null,null,null,"Tour d'Archers",null,null,null,"Mortier",null,null,null,"Défense Antiaérienne",null,null,null,"Tour de Sorciers",null,null,null,"Propulseur d'air",null,null,null,"Tesla Camouflée",null,null,null,"Arc-X",null,null,null,"Tour de l'Enfer",null,null,null,"Aigle Artilleur"]
["LVL","Rang","Valeur","Total","LVL","Rang","Valeur","Total","LVL","Rang","Valeur","Total","LVL","Rang","Valeur","Total","LVL","Rang","Valeur","Total","LVL","Rang","Valeur","Total","LVL","Rang","Valeur","Total","LVL","Rang","Valeur","Total","LVL","Rang","Valeur","Total","LVL","Rang","Valeur","Total","LVL","Rang","Valeur","Total"]
[1,{"$f":"Paramètres!N6","v":0},4.2,{"$f":"VALUE_Wall[[#This Row],[Valeur]]*VALUE_Wall[[#This Row],[Rang]]","v":0},1,{"$f":"Paramètres!O6","v":0},100,{"$f":"VALUE_Cannon[[#This Row],[Valeur]]*VALUE_Cannon[[#This Row],[Rang]]","v":0},1,{"$f":"Paramètres!P6","v":0},100,{"$f":"VALUE_Archer_Tower[[#This Row],[Valeur]]*VALUE_Archer_Tower[[#This Row],[Rang]]","v":0},1,{"$f":"Paramètres!Q6","v":0},450,{"$f":"VALUE_Mortar[[#This Row],[Valeur]]*VALUE_Mortar[[#This Row],[Rang]]","v":0},1,{"$f":"Paramètres!R6","v":0},50,{"$f":"VALUE_Air_Defense[[#This Row],[Valeur]]*VALUE_Air_Defense[[#This Row],[Rang]]","v":0},1,{"$f":"Paramètres!S6","v":0},450,{"$f":"VALUE_Wizard_Tower[[#This Row],[Valeur]]*VALUE_Wizard_Tower[[#This Row],[Rang]]","v":0},1,{"$f":"Paramètres!T6","v":0},20,{"$f":"VALUE_Air_Sweeper[[#This Row],[Valeur]]*VALUE_Air_Sweeper[[#This Row],[Rang]]","v":0},1,{"$f":"Paramètres!U6","v":0},100,{"$f":"VALUE_Hidden_Tesla[[#This Row],[Valeur]]*VALUE_Hidden_Tesla[[#This Row],[Rang]]","v":0},1,{"$f":"Paramètres!V6","v":0},350,{"$f":"VALUE_XBow[[#This Row],[Valeur]]*VALUE_XBow[[#This Row],[Rang]]","v":0},1,{"$f":"Paramètres!W6","v":0},2950,{"$f":"VALUE_Inferno_Tower[[#This Row],[Valeur]]*VALUE_Inferno_Tower[[#This Row],[Rang]]","v":0},1,{"$f":"Paramètres!X6","v":0},5200,{"$f":"VALUE_Inferno_Tower[[#This Row],[Valeur]]*VALUE_Inferno_Tower[[#This Row],[Rang]]","v":0}]
[2,{"$f":"Paramètres!N7","v":0},8.4,{"$f":"VALUE_Wall[[#This Row],[Valeur]]*VALUE_Wall[[#This Row],[Rang]]","v":0},2,{"$f":"Paramètres!O7","v":0},199,{"$f":"VALUE_Cannon[[#This Row],[Valeur]]*VALUE_Cannon[[#This Row],[Rang]]","v":0},2,{"$f":"Paramètres!P7","v":0},199,{"$f":"VALUE_Archer_Tower[[#This Row],[Valeur]]*VALUE_Archer_Tower[[#This Row],[Rang]]","v":0},2,{"$f":"Paramètres!Q7","v":0},890,{"$f":"VALUE_Mortar[[#This Row],[Valeur]]*VALUE_Mortar[[#This Row],[Rang]]","v":0},2,{"$f":"Paramètres!R7","v":0},100,{"$f":"VALUE_Air_Defense[[#This Row],[Valeur]]*VALUE_Air_Defense[[#This Row],[Rang]]","v":0},2,{"$f":"Paramètres!S7","v":0},870,{"$f":"VALUE_Wizard_Tower[[#This Row],[Valeur]]*VALUE_Wizard_Tower[[#This Row],[Rang]]","v":0},2,{"$f":"Paramètres!T7","v":0},40,{"$f":"VALUE_Air_Sweeper[[#This Row],[Valeur]]*VALUE_Air_Sweeper[[#This Row],[Rang]]","v":0},2,{"$f":"Paramètres!U7","v":0},200,{"$f":"VALUE_Hidden_Tesla[[#This Row],[Valeur]]*VALUE_Hidden_Tesla[[#This Row],[Rang]]","v":0},2,{"$f":"Paramètres!V7","v":0},675,{"$f":"VALUE_XBow[[#This Row],[Valeur]]*VALUE_XBow[[#This Row],[Rang]]","v":0},2,{"$f":"Paramètres!W7","v":0},5550,{"$f":"VALUE_Inferno_Tower[[#This Row],[Valeur]]*VALUE_Inferno_Tower[[#This Row],[Rang]]","v":0},2,{"$f":"Paramètres!X7","v":0},9950,{"$f":"VALUE_Inferno_Tower[[#This Row],[Valeur]]*VALUE_Inferno_Tower[[#This Row],[Rang]]","v":0}]
[3,{"$f":"Paramètres!N8","v":0},12.600000000000001,{"$f":"VALUE_Wall[[#This Row],[Valeur]]*VALUE_Wall[[#This Row],[Rang]]","v":0},3,{"$f":"Paramètres!O8","v":0},297,{"$f":"VALUE_Cannon[[#This Row],[Valeur]]*VALUE_Cannon[[#This Row],[Rang]]","v":0},3,{"$f":"Paramètres!P8","v":0},297,{"$f":"VALUE_Archer_Tower[[#This Row],[Valeur]]*VALUE_Archer_Tower[[#This Row],[Rang]]","v":0},3,{"$f":"Paramètres!Q8","v":0},1320,{"$f":"VALUE_Mortar[[#This Row],[Valeur]]*VALUE_Mortar[[#This Row],[Rang]]","v":0},3,{"$f":"Paramètres!R8","v":0},150,{"$f":"VALUE_Air_Defense[[#This Row],[Valeur]]*VALUE_Air_Defense[[#This Row],[Rang]]","v":0},3,{"$f":"Paramètres!S8","v":0},1260,{"$f":"VALUE_Wizard_Tower[[#This Row],[Valeur]]*VALUE_Wizard_Tower[[#This Row],[Rang]]","v":0},3,{"$f":"Paramètres!T8","v":0},60,{"$f":"VALUE_Air_Sweeper[[#This Row],[Valeur]]*VALUE_Air_Sweeper[[#This Row],[Rang]]","v":0},3,{"$f":"Paramètres!U8","v":0},300,{"$f":"VALUE_Hidden_Tesla[[#This Row],[Valeur]]*VALUE_Hidden_Tesla[[#This Row],[Rang]]","v":0},3,{"$f":"Paramètres!V8","v":0},975,{"$f":"VALUE_XBow[[#This Row],[Valeur]]*VALUE_XBow[[#This Row],[Rang]]","v":0},3,{"$f":"Paramètres!W8","v":0},7900,{"$f":"VALUE_Inferno_Tower[[#This Row],[Valeur]]*VALUE_Inferno_Tower[[#This Row],[Rang]]","v":0}]
[4,{"$f":"Paramètres!N9","v":0},16.8,{"$f":"VALUE_Wall[[#This Row],[Valeur]]*VALUE_Wall[[#This Row],[Rang]]","v":0},4,{"$f":"Paramètres!O9","v":0},394,{"$f":"VALUE_Cannon[[#This Row],[Valeur]]*VALUE_Cannon[[#This Row],[Rang]]","v":0},4,{"$f":"Paramètres!P9","v":0},394,{"$f":"VALUE_Archer_Tower[[#This Row],[Valeur]]*VALUE_Archer_Tower[[#This Row],[Rang]]","v":0},4,{"$f":"Paramètres!Q9","v":0},1740,{"$f":"VALUE_Mortar[[#This Row],[Valeur]]*VALUE_Mortar[[#This Row],[Rang]]","v":0},4,{"$f":"Paramètres!R9","v":0},200,{"$f":"VALUE_Air_Defense[[#This Row],[Valeur]]*VALUE_Air_Defense[[#This Row],[Rang]]","v":0},4,{"$f":"Paramètres!S9","v":0},1620,{"$f":"VALUE_Wizard_Tower[[#This Row],[Valeur]]*VALUE_Wizard_Tower[[#This Row],[Rang]]","v":0},4,{"$f":"Paramètres!T9","v":0},80,{"$f":"VALUE_Air_Sweeper[[#This Row],[Valeur]]*VALUE_Air_Sweeper[[#This Row],[Rang]]","v":0},4,{"$f":"Paramètres!U9","v":0},400,{"$f":"VALUE_Hidden_Tesla[[#This Row],[Valeur]]*VALUE_Hidden_Tesla[[#This Row],[Rang]]","v":0},4,{"$f":"Paramètres!V9","v":0},1275,{"$f":"VALUE_XBow[[#This Row],[Valeur]]*VALUE_XBow[[#This Row],[Rang]]","v":0},4,{"$f":"Paramètres!W9","v":0},10100,{"$f":"VALUE_Inferno_Tower[[#This Row],[Valeur]]*VALUE_Inferno_Tower[[#This Row],[Rang]]","v":0}]
[5,{"$f":"Paramètres!N10","v":0},21,{"$f":"VALUE_Wall[[#This Row],[Valeur]]*VALUE_Wall[[#This Row],[Rang]]","v":0},5,{"$f":"Paramètres!O10","v":0},490,{"$f":"VALUE_Cannon[[#This Row],[Valeur]]*VALUE_Cannon[[#This Row],[Rang]]","v":0},5,{"$f":"Paramètres!P10","v":0},490,{"$f":"VALUE_Archer_Tower[[#This Row],[Valeur]]*VALUE_Archer_Tower[[#This Row],[Rang]]","v":0},5,{"$f":"Paramètres!Q10","v":0},2150,{"$f":"VALUE_Mortar[[#This Row],[Valeur]]*VALUE_Mortar[[#This Row],[Rang]]","v":0},5,{"$f":"Paramètres!R10","v":0},250,{"$f":"VALUE_Air_Defense[[#This Row],[Valeur]]*VALUE_Air_Defense[[#This Row],[Rang]]","v":0},5,{"$f":"Paramètres!S10","v":0},1950,{"$f":"VALUE_Wizard_Tower[[#This Row],[Valeur]]*VALUE_Wizard_Tower[[#This Row],[Rang]]","v":0},5,{"$f":"Paramètres!T10","v":0},100,{"$f":"VALUE_Air_Sweeper[[#This Row],[Valeur]]*VALUE_Air_Sweeper[[#This Row],[Rang]]","v":0},5,{"$f":"Paramètres!U10","v":0},500,{"$f":"VALUE_Hidden_Tesla[[#This Row],[Valeur]]*VALUE_Hidden_Tesla[[#This Row],[Rang]]","v":0},5,{"$f":"Paramètres!V10","v":0},1575,{"$f":"VALUE_XBow[[#This Row],[Valeur]]*VALUE_XBow[[#This Row],[Rang]]","v":0}]
[6,{"$f":"Paramètres!N11","v":0},25.2,{"$f":"VALUE_Wall[[#This Row],[Valeur]]*VALUE_Wall[[#This Row],[Rang]]","v":0},6,{"$f":"Paramètres!O11","v":0},585,{"$f":"VALUE_Cannon[[#This Row],[Valeur]]*VALUE_Cannon[[#This Row],[Rang]]","v":0},6,{"$f":"Paramètres!P11","v":0},585,{"$f":"VALUE_Archer_Tower[[#This Row],[Valeur]]*VALUE_Archer_Tower[[#This Row],[Rang]]","v":0},6,{"$f":"Paramètres!Q11","v":0},2550,{"$f":"VALUE_Mortar[[#This Row],[Valeur]]*VALUE_Mortar[[#This Row],[Rang]]","v":0},6,{"$f":"Paramètres!R11","v":0},300,{"$f":"VALUE_Air_Defense[[#This Row],[Valeur]]*VALUE_Air_Defense[[#This Row],[Rang]]","v":0},6,{"$f":"Paramètres!S11","v":0},2250,{"$f":"VALUE_Wizard_Tower[[#This Row],[Valeur]]*VALUE_Wizard_Tower[[#This Row],[Rang]]","v":0},6,{"$f":"Paramètres!T11","v":0},120,{"$f":"VALUE_Air_Sweeper[[#This Row],[Valeur]]*VALUE_Air_Sweeper[[#This Row],[Rang]]","v":0},6,{"$f":"Paramètres!U11","v":0},600,{"$f":"VALUE_Hidden_Tesla[[#This Row],[Valeur]]*VALUE_Hidden_Tesla[[#This Row],[Rang]]","v":0}]
[7,{"$f":"Paramètres!N12","v":0},29.4,{"$f":"VALUE_Wall[[#This Row],[Valeur]]*VALUE_Wall[[#This Row],[Rang]]","v":0},7,{"$f":"Paramètres!O12","v":0},679,{"$f":"VALUE_Cannon[[#This Row],[Valeur]]*VALUE_Cannon[[#This Row],[Rang]]","v":0},7,{"$f":"Paramètres!P12","v":0},679,{"$f":"VALUE_Archer_Tower[[#This Row],[Valeur]]*VALUE_Archer_Tower[[#This Row],[Rang]]","v":0},7,{"$f":"Paramètres!Q12","v":0},2940,{"$f":"VALUE_Mortar[[#This Row],[Valeur]]*VALUE_Mortar[[#This Row],[Rang]]","v":0},7,{"$f":"Paramètres!R12","v":0},350,{"$f":"VALUE_Air_Defense[[#This Row],[Valeur]]*VALUE_Air_Defense[[#This Row],[Rang]]","v":0},7,{"$f":"Paramètres!S12","v":0},2520,{"$f":"VALUE_Wizard_Tower[[#This Row],[Valeur]]*VALUE_Wizard_Tower[[#This Row],[Rang]]","v":0},null,null,null,null,7,{"$f":"Paramètres!U12","v":0},700,{"$f":"VALUE_Hidden_Tesla[[#This Row],[Valeur]]*VALUE_Hidden_Tesla[[#This Row],[Rang]]","v":0}]
[8,{"$f":"Paramètres!N13","v":0},33.6,{"$f":"VALUE_Wall[[#This Row],[Valeur]]*VALUE_Wall[[#This Row],[Rang]]","v":0},8,{"$f":"Paramètres!O13","v":0},772,{"$f":"VALUE_Cannon[[#This Row],[Valeur]]*VALUE_Cannon[[#This Row],[Rang]]","v":0},8,{"$f":"Paramètres!P13","v":0},772,{"$f":"VALUE_Archer_Tower[[#This Row],[Valeur]]*VALUE_Archer_Tower[[#This Row],[Rang]]","v":0},8,{"$f":"Paramètres!Q13","v":0},3320,{"$f":"VALUE_Mortar[[#This Row],[Valeur]]*VALUE_Mortar[[#This Row],[Rang]]","v":0},8,{"$f":"Paramètres!R13","v":0},400,{"$f":"VALUE_Air_Defense[[#This Row],[Valeur]]*VALUE_Air_Defense[[#This Row],[Rang]]","v":0},8,{"$f":"Paramètres!S13","v":0},2760,{"$f":"VALUE_Wizard_Tower[[#This Row],[Valeur]]*VALUE_Wizard_Tower[[#This Row],[Rang]]","v":0},null,null,null,null,8,{"$f":"Paramètres!U13","v":0},800,{"$f":"VALUE_Hidden_Tesla[[#This Row],[Valeur]]*VALUE_Hidden_Tesla[[#This Row],[Rang]]","v":0}]
[9,{"$f":"Paramètres!N14","v":0},37.800000000000004,{"$f":"VALUE_Wall[[#This Row],[Valeur]]*VALUE_Wall[[#This Row],[Rang]]","v":0},9,{"$f":"Paramètres!O14","v":0},863,{"$f":"VALUE_Cannon[[#This Row],[Valeur]]*VALUE_Cannon[[#This Row],[Rang]]","v":0},9,{"$f":"Paramètres!P14","v":0},864,{"$f":"VALUE_Archer_Tower[[#This Row],[Valeur]]*VALUE_Archer_Tower[[#This Row],[Rang]]","v":0},9,{"$f":"Paramètres!Q14","v":0},3690,{"$f":"VALUE_Mortar[[#This Row],[Valeur]]*VALUE_Mortar[[#This Row],[Rang]]","v":0},null,null,null,null,9,{"$f":"Paramètres!S14","v":0},3000,{"$f":"VALUE_Wizard_Tower[[#This Row],[Valeur]]*VALUE_Wizard_Tower[[#This Row],[Rang]]","v":0},null,null,null,null,9,{"$f":"Paramètres!U14","v":0},800,{"$f":"VALUE_Hidden_Tesla[[#This Row],[Valeur]]*VALUE_Hidden_Tesla[[#This Row],[Rang]]","v":0}]
[10,{"$f":"Paramètres!N15","v":0},42.000000000000007,{"$f":"VALUE_Wall[[#This Row],[Valeur]]*VALUE_Wall[[#This Row],[Rang]]","v":0},10,{"$f":"Paramètres!O15","v":0},952,{"$f":"VALUE_Cannon[[#This Row],[Valeur]]*VALUE_Cannon[[#This Row],[Rang]]","v":0},10,{"$f":"Paramètres!P15","v":0},955,{"$f":"VALUE_Archer_Tower[[#This Row],[Valeur]]*VALUE_Archer_Tower[[#This Row],[Rang]]","v":0},10,{"$f":"Paramètres!Q15","v":0},4050,{"$f":"VALUE_Mortar[[#This Row],[Valeur]]*VALUE_Mortar[[#This Row],[Rang]]","v":0},null,null,null,null,10,{"$f":"Paramètres!S15","v":0},3240,{"$f":"VALUE_Wizard_Tower[[#This Row],[Valeur]]*VALUE_Wizard_Tower[[#This Row],[Rang]]","v":0}]
[11,{"$f":"Paramètres!N16","v":0},46.20000000000001,{"$f":"VALUE_Wall[[#This Row],[Valeur]]*VALUE_Wall[[#This Row],[Rang]]","v":0},11,{"$f":"Paramètres!O16","v":0},1039,{"$f":"VALUE_Cannon[[#This Row],[Valeur]]*VALUE_Cannon[[#This Row],[Rang]]","v":0},11,{"$f":"Paramètres!P16","v":0},1045,{"$f":"VALUE_Archer_Tower[[#This Row],[Valeur]]*VALUE_Archer_Tower[[#This Row],[Rang]]","v":0}]
[12,{"$f":"Paramètres!N17","v":0},50.8,{"$f":"VALUE_Wall[[#This Row],[Valeur]]*VALUE_Wall[[#This Row],[Rang]]","v":0},12,{"$f":"Paramètres!O17","v":0},1124,{"$f":"VALUE_Cannon[[#This Row],[Valeur]]*VALUE_Cannon[[#This Row],[Rang]]","v":0},12,{"$f":"Paramètres!P17","v":0},1134,{"$f":"VALUE_Archer_Tower[[#This Row],[Valeur]]*VALUE_Archer_Tower[[#This Row],[Rang]]","v":0}]
[null,null,null,null,13,{"$f":"Paramètres!O18","v":0},1207,{"$f":"VALUE_Cannon[[#This Row],[Valeur]]*VALUE_Cannon[[#This Row],[Rang]]","v":0},13,{"$f":"Paramètres!P18","v":0},1222,{"$f":"VALUE_Archer_Tower[[#This Row],[Valeur]]*VALUE_Archer_Tower[[#This Row],[Rang]]","v":0}]
[null,null,null,null,14,{"$f":"Paramètres!O19","v":0},1288,{"$f":"VALUE_Cannon[[#This Row],[Valeur]]*VALUE_Cannon[[#This Row],[Rang]]","v":0},14,{"$f":"Paramètres!P19","v":0},1309,{"$f":"VALUE_Archer_Tower[[#This Row],[Valeur]]*VALUE_Archer_Tower[[#This Row],[Rang]]","v":0}]
[]
[]
[]
["Bombe",null,null,null,null,null,null,null,null,null,null,null,"Bombe aérienne",null,null,null,"Tête chercheuse",null,null,null,"Piège squelettique"]
["LVL","Rang","Valeur","Total","Piège à ressort",null,null,null,"Bombe géante",null,null,null,"LVL","Rang","Valeur","Total","LVL","Rang","Valeur","Total","LVL","Rang","Valeur","Total"]
[1,{"$f":"Paramètres!Y6","v":0},100,{"$f":"VALUE_Bomb[[#This Row],[Valeur]]*VALUE_Bomb[[#This Row],[Rang]]","v":0},"LVL","Rang","Valeur","Total","LVL","Rang","Valeur","Total",1,{"$f":"Paramètres!AB6","v":0},100,{"$f":"VALUE_Air_Bomb[[#This Row],[Valeur]]*VALUE_Air_Bomb[[#This Row],[Rang]]","v":0},1,{"$f":"Paramètres!AC6","v":0},15,{"$f":"VALUE_Seeking_Air_Mine[[#This Row],[Valeur]]*VALUE_Seeking_Air_Mine[[#This Row],[Rang]]","v":0},1,{"$f":"Paramètres!AD6","v":0},80,{"$f":"VALUE_Skeleton_Trap[[#This Row],[Valeur]]*VALUE_Skeleton_Trap[[#This Row],[Rang]]","v":0}]
[2,{"$f":"Paramètres!Y7","v":0},200,{"$f":"VALUE_Bomb[[#This Row],[Valeur]]*VALUE_Bomb[[#This Row],[Rang]]","v":0},1,{"$f":"Paramètres!Z6","v":0},20,{"$f":"VALUE_Spring_Trap[Valeur]*VALUE_Spring_Trap[Rang]","v":0},1,{"$f":"Paramètres!AA6","v":0},150,{"$f":"VALUE_Giant_Bomb[[#This Row],[Valeur]]*VALUE_Giant_Bomb[[#This Row],[Rang]]","v":0},2,{"$f":"Paramètres!AB7","v":0},200,{"$f":"VALUE_Air_Bomb[[#This Row],[Valeur]]*VALUE_Air_Bomb[[#This Row],[Rang]]","v":0},2,{"$f":"Paramètres!AC7","v":0},30,{"$f":"VALUE_Seeking_Air_Mine[[#This Row],[Valeur]]*VALUE_Seeking_Air_Mine[[#This Row],[Rang]]","v":0},2,{"$f":"Paramètres!AD7","v":0},160,{"$f":"VALUE_Skeleton_Trap[[#This Row],[Valeur]]*VALUE_Skeleton_Trap[[#This Row],[Rang]]","v":0}]
[3,{"$f":"Paramètres!Y8","v":0},300,{"$f":"VALUE_Bomb[[#This Row],[Valeur]]*VALUE_Bomb[[#This Row],[Rang]]","v":0},2,{"$f":"Paramètres!Z7","v":0},45,{"$f":"VALUE_Spring_Trap[Valeur]*VALUE_Spring_Trap[Rang]","v":0},2,{"$f":"Paramètres!AA7","v":0},300,{"$f":"VALUE_Giant_Bomb[[#This Row],[Valeur]]*VALUE_Giant_Bomb[[#This Row],[Rang]]","v":0},3,{"$f":"Paramètres!AB8","v":0},300,{"$f":"VALUE_Air_Bomb[[#This Row],[Valeur]]*VALUE_Air_Bomb[[#This Row],[Rang]]","v":0},3,{"$f":"Paramètres!AC8","v":0},45,{"$f":"VALUE_Seeking_Air_Mine[[#This Row],[Valeur]]*VALUE_Seeking_Air_Mine[[#This Row],[Rang]]","v":0},3,{"$f":"Paramètres!AD8","v":0},240,{"$f":"VALUE_Skeleton_Trap[[#This Row],[Valeur]]*VALUE_Skeleton_Trap[[#This Row],[Rang]]","v":0}]
[4,{"$f":"Paramètres!Y9","v":0},400,{"$f":"VALUE_Bomb[[#This Row],[Valeur]]*VALUE_Bomb[[#This Row],[Rang]]","v":0},3,{"$f":"Paramètres!Z8","v":0},71,{"$f":"VALUE_Spring_Trap[Valeur]*VALUE_Spring_Trap[Rang]","v":0},3,{"$f":"Paramètres!AA8","v":0},450,{"$f":"VALUE_Giant_Bomb[[#This Row],[Valeur]]*VALUE_Giant_Bomb[[#This Row],[Rang]]","v":0},4,{"$f":"Paramètres!AB9","v":0},400,{"$f":"VALUE_Air_Bomb[[#This Row],[Valeur]]*VALUE_Air_Bomb[[#This Row],[Rang]]","v":0}]
[5,{"$f":"Paramètres!Y10","v":0},500,{"$f":"VALUE_Bomb[[#This Row],[Valeur]]*VALUE_Bomb[[#This Row],[Rang]]","v":0},4,{"$f":"Paramètres!Z9","v":0},98,{"$f":"VALUE_Spring_Trap[Valeur]*VALUE_Spring_Trap[Rang]","v":0},4,{"$f":"Paramètres!AA9","v":0},600,{"$f":"VALUE_Giant_Bomb[[#This Row],[Valeur]]*VALUE_Giant_Bomb[[#This Row],[Rang]]","v":0}]
[6,{"$f":"Paramètres!Y11","v":0},600,{"$f":"VALUE_Bomb[[#This Row],[Valeur]]*VALUE_Bomb[[#This Row],[Rang]]","v":0},5,{"$f":"Paramètres!Z10","v":0},126,{"$f":"VALUE_Spring_Trap[Valeur]*VALUE_Spring_Trap[Rang]","v":0}]
[]
[]
["Valeurs - Héros",null,null,null,null,null,null,null,null,null,null,null,"Valeurs - Bâtiments de Ressources"]
["Roi des Barbares",null,null,null,null,null,null,null,null,null,null,null,"Mine d'Or",null,null,null,"Foreuse d'Élixir Noir",null,null,null,"Réserve d'Or",null,null,null,"Réservoir d'Élixir Noir",null,null,null,"Extracteur d'Élixir",null,null,null,"Réservoir d'Élixir"]
["LVL","Rang","Valeur","Total","Reine des Archers",null,null,null,null,null,null,null,"LVL","Rang","Valeur","Total","LVL","Rang","Valeur","Total","LVL","Rang","Valeur","Total","LVL","Rang","Valeur","Total","LVL","Rang","Valeur","Total","LVL","Rang","Valeur","Total"]
[1,{"$f":"Paramètres!BJ6","v":0},15,{"$f":"VALUE_Barbarian_King[[#This Row],[Valeur]]*VALUE_Barbarian_King[[#This Row],[Rang]]","v":0},"LVL","Rang","Valeur","Total","Grand Gardien",null,null,null,1,{"$f":"Paramètres!B6","v":0},0,{"$f":"VALUE_Gold_Mine[[#This Row],[Valeur]]*VALUE_Gold_Mine[[#This Row],[Rang]]","v":0},1,{"$f":"Paramètres!D6","v":0},0,{"$f":"VALUE_Dark_Elixir_Drill[[#This Row],[Valeur]]*VALUE_Dark_Elixir_Drill[[#This Row],[Rang]]","v":0},1,{"$f":"Paramètres!E6","v":0},0,{"$f":"VALUE_Gold_Storage[[#This Row],[Valeur]]*VALUE_Gold_Storage[[#This Row],[Rang]]","v":0},1,{"$f":"Paramètres!G6","v":0},0,{"$f":"VALUE_Dark_Elixir_Storage[[#This Row],[Valeur]]*VALUE_Dark_Elixir_Storage[[#This Row],[Rang]]","v":0},1,{"$f":"Paramètres!C6","v":0},0,{"$f":"VALUE_Elixir_Collector[[#This Row],[Valeur]]*VALUE_Elixir_Collector[[#This Row],[Rang]]","v":0},1,{"$f":"Paramètres!F6","v":0},0,{"$f":"VALUE_Elixir_Storage[[#This Row],[Valeur]]*VALUE_Elixir_Storage[[#This Row],[Rang]]","v":0}]
[2,{"$f":"Paramètres!BJ7","v":0},{"$f":"15+C84","v":30},{"$f":"VALUE_Barbarian_King[[#This Row],[Valeur]]*VALUE_Barbarian_King[[#This Row],[Rang]]","v":0},1,{"$f":"Paramètres!BK6","v":0},26,{"$f":"VALUE_Archer_Queen[[#This Row],[Valeur]]*VALUE_Archer_Queen[[#This Row],[Rang]]","v":0},"LVL","Rang","Valeur","Total",2,{"$f":"Paramètres!B7","v":0},0,{"$f":"VALUE_Gold_Mine[[#This Row],[Valeur]]*VALUE_Gold_Mine[[#This Row],[Rang]]","v":0},2,{"$f":"Paramètres!D7","v":0},0,{"$f":"VALUE_Dark_Elixir_Drill[[#This Row],[Valeur]]*VALUE_Dark_Elixir_Drill[[#This Row],[Rang]]","v":0},2,{"$f":"Paramètres!E7","v":0},0,{"$f":"VALUE_Gold_Storage[[#This Row],[Valeur]]*VALUE_Gold_Storage[[#This Row],[Rang]]","v":0},2,{"$f":"Paramètres!G7","v":0},0,{"$f":"VALUE_Dark_Elixir_Storage[[#This Row],[Valeur]]*VALUE_Dark_Elixir_Storage[[#This Row],[Rang]]","v":0},2,{"$f":"Paramètres!C7","v":0},0,{"$f":"VALUE_Elixir_Collector[[#This Row],[Valeur]]*VALUE_Elixir_Collector[[#This Row],[Rang]]","v":0},2,{"$f":"Paramètres!F7","v":0},0,{"$f":"VALUE_Elixir_Storage[[#This Row],[Valeur]]*VALUE_Elixir_Storage[[#This Row],[Rang]]","v":0}]
[3,{"$f":"Paramètres!BJ8","v":0},{"$f":"15+C85","v":45},{"$f":"VALUE_Barbarian_King[[#This Row],[Valeur]]*VALUE_Barbarian_King[[#This Row],[Rang]]","v":0},2,{"$f":"Paramètres!BK7","v":0},{"$f":"G85+26","v":52},{"$f":"VALUE_Archer_Queen[[#This Row],[Valeur]]*VALUE_Archer_Queen[[#This Row],[Rang]]","v":0},1,{"$f":"Paramètres!BL6","v":0},41,{"$f":"VALUE_Archer_Queen[[#This Row],[Valeur]]*VALUE_Archer_Queen[[#This Row],[Rang]]","v":0},3,{"$f":"Paramètres!B8","v":0},0,{"$f":"VALUE_Gold_Mine[[#This Row],[Valeur]]*VALUE_Gold_Mine[[#This Row],[Rang]]","v":0},3,{"$f":"Paramètres!D8","v":0},0,{"$f":"VALUE_Dark_Elixir_Drill[[#This Row],[Valeur]]*VALUE_Dark_Elixir_Drill[[#This Row],[Rang]]","v":0},3,{"$f":"Paramètres!E8","v":0},0,{"$f":"VALUE_Gold_Storage[[#This Row],[Valeur]]*VALUE_Gold_Storage[[#This Row],[Rang]]","v":0},3,{"$f":"Paramètres!G8","v":0},0,{"$f":"VALUE_Dark_Elixir_Storage[[#This Row],[Valeur]]*VALUE_Dark_Elixir_Storage[[#This Row],[Rang]]","v":0},3,{"$f":"Paramètres!C8","v":0},0,{"$f":"VALUE_Elixir_Collector[[#This Row],[Valeur]]*VALUE_Elixir_Collector[[#This Row],[Rang]]","v":0},3,{"$f":"Paramètres!F8","v":0},0,{"$f":"VALUE_Elixir_Storage[[#This Row],[Valeur]]*VALUE_Elixir_Storage[[#This Row],[Rang]]","v":0}]
[4,{"$f":"Paramètres!BJ9","v":0},60,{"$f":"VALUE_Barbarian_King[[#This Row],[Valeur]]*VALUE_Barbarian_King[[#This Row],[Rang]]","v":0},3,{"$f":"Paramètres!BK8","v":0},{"$f":"G86+26","v":78},{"$f":"VALUE_Archer_Queen[[#This Row],[Valeur]]*VALUE_Archer_Queen[[#This Row],[Rang]]","v":0},2,{"$f":"Paramètres!BL7","v":0},81,{"$f":"VALUE_Archer_Queen[[#This Row],[Valeur]]*VALUE_Archer_Queen[[#This Row],[Rang]]","v":0},4,{"$f":"Paramètres!B9","v":0},0,{"$f":"VALUE_Gold_Mine[[#This Row],[Valeur]]*VALUE_Gold_Mine[[#This Row],[Rang]]","v":0},4,{"$f":"Paramètres!D9","v":0},0,{"$f":"VALUE_Dark_Elixir_Drill[[#This Row],[Valeur]]*VALUE_Dark_Elixir_Drill[[#This Row],[Rang]]","v":0},4,{"$f":"Paramètres!E9","v":0},0,{"$f":"VALUE_Gold_Storage[[#This Row],[Valeur]]*VALUE_Gold_Storage[[#This Row],[Rang]]","v":0},4,{"$f":"Paramètres!G9","v":0},0,{"$f":"VALUE_Dark_Elixir_Storage[[#This Row],[Valeur]]*VALUE_Dark_Elixir_Storage[[#This Row],[Rang]]","v":0},4,{"$f":"Paramètres!C9","v":0},0,{"$f":"VALUE_Elixir_Collector[[#This Row],[Valeur]]*VALUE_Elixir_Collector[[#This Row],[Rang]]","v":0},4,{"$f":"Paramètres!F9","v":0},0,{"$f":"VALUE_Elixir_Storage[[#This Row],[Valeur]]*VALUE_Elixir_Storage[[#This Row],[Rang]]","v":0}]
[5,{"$f":"Paramètres!BJ10","v":0},{"$f":"16+C87","v":76},{"$f":"VALUE_Barbarian_King[[#This Row],[Valeur]]*VALUE_Barbarian_King[[#This Row],[Rang]]","v":0},4,{"$f":"Paramètres!BK9","v":0},104,{"$f":"VALUE_Archer_Queen[[#This Row],[Valeur]]*VALUE_Archer_Queen[[#This Row],[Rang]]","v":0},3,{"$f":"Paramètres!BL8","v":0},121,{"$f":"VALUE_Archer_Queen[[#This Row],[Valeur]]*VALUE_Archer_Queen[[#This Row],[Rang]]","v":0},5,{"$f":"Paramètres!B10","v":0},0,{"$f":"VALUE_Gold_Mine[[#This Row],[Valeur]]*VALUE_Gold_Mine[[#This Row],[Rang]]","v":0},5,{"$f":"Paramètres!D10","v":0},0,{"$f":"VALUE_Dark_Elixir_Drill[[#This Row],[Valeur]]*VALUE_Dark_Elixir_Drill[[#This Row],[Rang]]","v":0},5,{"$f":"Paramètres!E10","v":0},0,{"$f":"VALUE_Gold_Storage[[#This Row],[Valeur]]*VALUE_Gold_Storage[[#This Row],[Rang]]","v":0},5,{"$f":"Paramètres!G10","v":0},0,{"$f":"VALUE_Dark_Elixir_Storage[[#This Row],[Valeur]]*VALUE_Dark_Elixir_Storage[[#This Row],[Rang]]","v":0},5,{"$f":"Paramètres!C10","v":0},0,{"$f":"VALUE_Elixir_Collector[[#This Row],[Valeur]]*VALUE_Elixir_Collector[[#This Row],[Rang]]","v":0},5,{"$f":"Paramètres!F10","v":0},0,{"$f":"VALUE_Elixir_Storage[[#This Row],[Valeur]]*VALUE_Elixir_Storage[[#This Row],[Rang]]","v":0}]
[6,{"$f":"Paramètres!BJ11","v":0},{"$f":"16+C88","v":92},{"$f":"VALUE_Barbarian_King[[#This Row],[Valeur]]*VALUE_Barbarian_King[[#This Row],[Rang]]","v":0},5,{"$f":"Paramètres!BK10","v":0},{"$f":"G88+27","v":131},{"$f":"VALUE_Archer_Queen[[#This Row],[Valeur]]*VALUE_Archer_Queen[[#This Row],[Rang]]","v":0},4,{"$f":"Paramètres!BL9","v":0},162,{"$f":"VALUE_Archer_Queen[[#This Row],[Valeur]]*VALUE_Archer_Queen[[#This Row],[Rang]]","v":0},6,{"$f":"Paramètres!B11","v":0},0,{"$f":"VALUE_Gold_Mine[[#This Row],[Valeur]]*VALUE_Gold_Mine[[#This Row],[Rang]]","v":0},6,{"$f":"Paramètres!D11","v":0},0,{"$f":"VALUE_Dark_Elixir_Drill[[#This Row],[Valeur]]*VALUE_Dark_Elixir_Drill[[#This Row],[Rang]]","v":0},6,{"$f":"Paramètres!E11","v":0},0,{"$f":"VALUE_Gold_Storage[[#This Row],[Valeur]]*VALUE_Gold_Storage[[#This Row],[Rang]]","v":0},6,{"$f":"Paramètres!G11","v":0},0,{"$f":"VALUE_Dark_Elixir_Storage[[#This Row],[Valeur]]*VALUE_Dark_Elixir_Storage[[#This Row],[Rang]]","v":0},6,{"$f":"Paramètres!C11","v":0},0,{"$f":"VALUE_Elixir_Collector[[#This Row],[Valeur]]*VALUE_Elixir_Collector[[#This Row],[Rang]]","v":0},6,{"$f":"Paramètres!F11","v":0},0,{"$f":"VALUE_Elixir_Storage[[#This Row],[Valeur]]*VALUE_Elixir_Storage[[#This Row],[Rang]]","v":0}]
[7,{"$f":"Paramètres!BJ12","v":0},108,{"$f":"VALUE_Barbarian_King[[#This Row],[Valeur]]*VALUE_Barbarian_King[[#This Row],[Rang]]","v":0},6,{"$f":"Paramètres!BK11","v":0},{"$f":"G89+27","v":158},{"$f":"VALUE_Archer_Queen[[#This Row],[Valeur]]*VALUE_Archer_Queen[[#This Row],[Rang]]","v":0},5,{"$f":"Paramètres!BL10","v":0},{"$f":"K89+27","v":189},{"$f":"VALUE_Archer_Queen[[#This Row],[Valeur]]*VALUE_Archer_Queen[[#This Row],[Rang]]","v":0},7,{"$f":"Paramètres!B12","v":0},0,{"$f":"VALUE_Gold_Mine[[#This Row],[Valeur]]*VALUE_Gold_Mine[[#This Row],[Rang]]","v":0},null,null,null,null,7,{"$f":"Paramètres!E12","v":0},0,{"$f":"VALUE_Gold_Storage[[#This Row],[Valeur]]*VALUE_Gold_Storage[[#This Row],[Rang]]","v":0},null,null,null,null,7,{"$f":"Paramètres!C12","v":0},0,{"$f":"VALUE_Elixir_Collector[[#This Row],[Valeur]]*VALUE_Elixir_Collector[[#This Row],[Rang]]","v":0},7,{"$f":"Paramètres!F12","v":0},0,{"$f":"VALUE_Elixir_Storage[[#This Row],[Valeur]]*VALUE_Elixir_Storage[[#This Row],[Rang]]","v":0}]
[8,{"$f":"Paramètres!BJ13","v":0},124,{"$f":"VALUE_Barbarian_King[[#This Row],[Valeur]]*VALUE_Barbarian_King[[#This Row],[Rang]]","v":0},7,{"$f":"Paramètres!BK12","v":0},185,{"$f":"VALUE_Archer_Queen[[#This Row],[Valeur]]*VALUE_Archer_Queen[[#This Row],[Rang]]","v":0},6,{"$f":"Paramètres!BL11","v":0},205,{"$f":"VALUE_Archer_Queen[[#This Row],[Valeur]]*VALUE_Archer_Queen[[#This Row],[Rang]]","v":0},8,{"$f":"Paramètres!B13","v":0},0,{"$f":"VALUE_Gold_Mine[[#This Row],[Valeur]]*VALUE_Gold_Mine[[#This Row],[Rang]]","v":0},null,null,null,null,8,{"$f":"Paramètres!E13","v":0},0,{"$f":"VALUE_Gold_Storage[[#This Row],[Valeur]]*VALUE_Gold_Storage[[#This Row],[Rang]]","v":0},null,null,null,null,8,{"$f":"Paramètres!C13","v":0},0,{"$f":"VALUE_Elixir_Collector[[#This Row],[Valeur]]*VALUE_Elixir_Collector[[#This Row],[Rang]]","v":0},8,{"$f":"Paramètres!F13","v":0},0,{"$f":"VALUE_Elixir_Storage[[#This Row],[Valeur]]*VALUE_Elixir_Storage[[#This Row],[Rang]]","v":0}]
[9,{"$f":"Paramètres!BJ14","v":0},140,{"$f":"VALUE_Barbarian_King[[#This Row],[Valeur]]*VALUE_Barbarian_King[[#This Row],[Rang]]","v":0},8,{"$f":"Paramètres!BK13","v":0},212,{"$f":"VALUE_Archer_Queen[[#This Row],[Valeur]]*VALUE_Archer_Queen[[#This Row],[Rang]]","v":0},7,{"$f":"Paramètres!BL12","v":0},292,{"$f":"VALUE_Archer_Queen[[#This Row],[Valeur]]*VALUE_Archer_Queen[[#This Row],[Rang]]","v":0},9,{"$f":"Paramètres!B14","v":0},0,{"$f":"VALUE_Gold_Mine[[#This Row],[Valeur]]*VALUE_Gold_Mine[[#This Row],[Rang]]","v":0},null,null,null,null,9,{"$f":"Paramètres!E14","v":0},0,{"$f":"VALUE_Gold_Storage[[#This Row],[Valeur]]*VALUE_Gold_Storage[[#This Row],[Rang]]","v":0},null,null,null,null,9,{"$f":"Paramètres!C14","v":0},0,{"$f":"VALUE_Elixir_Collector[[#This Row],[Valeur]]*VALUE_Elixir_Collector[[#This Row],[Rang]]","v":0},9,{"$f":"Paramètres!F14","v":0},0,{"$f":"VALUE_Elixir_Storage[[#This Row],[Valeur]]*VALUE_Elixir_Storage[[#This Row],[Rang]]","v":0}]
[10,{"$f":"Paramètres!BJ15","v":0},{"$f":"17+C92","v":157},{"$f":"VALUE_Barbarian_King[[#This Row],[Valeur]]*VALUE_Barbarian_King[[#This Row],[Rang]]","v":0},9,{"$f":"Paramètres!BK14","v":0},239,{"$f":"VALUE_Archer_Queen[[#This Row],[Valeur]]*VALUE_Archer_Queen[[#This Row],[Rang]]","v":0},8,{"$f":"Paramètres!BL13","v":0},335,{"$f":"VALUE_Archer_Queen[[#This Row],[Valeur]]*VALUE_Archer_Queen[[#This Row],[Rang]]","v":0},10,{"$f":"Paramètres!B15","v":0},0,{"$f":"VALUE_Gold_Mine[[#This Row],[Valeur]]*VALUE_Gold_Mine[[#This Row],[Rang]]","v":0},null,null,null,null,10,{"$f":"Paramètres!E15","v":0},0,{"$f":"VALUE_Gold_Storage[[#This Row],[Valeur]]*VALUE_Gold_Storage[[#This Row],[Rang]]","v":0},null,null,null,null,10,{"$f":"Paramètres!C15","v":0},0,{"$f":"VALUE_Elixir_Collector[[#This Row],[Valeur]]*VALUE_Elixir_Collector[[#This Row],[Rang]]","v":0},10,{"$f":"Paramètres!F15","v":0},0,{"$f":"VALUE_Elixir_Storage[[#This Row],[Valeur]]*VALUE_Elixir_Storage[[#This Row],[Rang]]","v":0}]
[11,{"$f":"Paramètres!BJ16","v":0},{"$f":"17+C93","v":174},{"$f":"VALUE_Barbarian_King[[#This Row],[Valeur]]*VALUE_Barbarian_King[[#This Row],[Rang]]","v":0},10,{"$f":"Paramètres!BK15","v":0},{"$f":"G93+28","v":267},{"$f":"VALUE_Archer_Queen[[#This Row],[Valeur]]*VALUE_Archer_Queen[[#This Row],[Rang]]","v":0},9,{"$f":"Paramètres!BL14","v":0},378,{"$f":"VALUE_Archer_Queen[[#This Row],[Valeur]]*VALUE_Archer_Queen[[#This Row],[Rang]]","v":0},11,{"$f":"Paramètres!B16","v":0},0,{"$f":"VALUE_Gold_Mine[[#This Row],[Valeur]]*VALUE_Gold_Mine[[#This Row],[Rang]]","v":0},null,null,null,null,11,{"$f":"Paramètres!E16","v":0},0,{"$f":"VALUE_Gold_Storage[[#This Row],[Valeur]]*VALUE_Gold_Storage[[#This Row],[Rang]]","v":0},null,null,null,null,11,{"$f":"Paramètres!C16","v":0},0,{"$f":"VALUE_Elixir_Collector[[#This Row],[Valeur]]*VALUE_Elixir_Collector[[#This Row],[Rang]]","v":0},11,{"$f":"Paramètres!F16","v":0},0,{"$f":"VALUE_Elixir_Storage[[#This Row],[Valeur]]*VALUE_Elixir_Storage[[#This Row],[Rang]]","v":0}]
[12,{"$f":"Paramètres!BJ17","v":0},191,{"$f":"VALUE_Barbarian_King[[#This Row],[Valeur]]*VALUE_Barbarian_King[[#This Row],[Rang]]","v":0},11,{"$f":"Paramètres!BK16","v":0},{"$f":"G94+28","v":295},{"$f":"VALUE_Archer_Queen[[#This Row],[Valeur]]*VALUE_Archer_Queen[[#This Row],[Rang]]","v":0},10,{"$f":"Paramètres!BL15","v":0},424,{"$f":"VALUE_Archer_Queen[[#This Row],[Valeur]]*VALUE_Archer_Queen[[#This Row],[Rang]]","v":0},12,{"$f":"Paramètres!B17","v":0},0,{"$f":"VALUE_Gold_Mine[[#This Row],[Valeur]]*VALUE_Gold_Mine[[#This Row],[Rang]]","v":0},null,null,null,null,null,null,null,null,null,null,null,null,12,{"$f":"Paramètres!C17","v":0},0,{"$f":"VALUE_Elixir_Collector[[#This Row],[Valeur]]*VALUE_Elixir_Collector[[#This Row],[Rang]]","v":0}]
[13,{"$f":"Paramètres!BJ18","v":0},208,{"$f":"VALUE_Barbarian_King[[#This Row],[Valeur]]*VALUE_Barbarian_King[[#This Row],[Rang]]","v":0},12,{"$f":"Paramètres!BK17","v":0},323,{"$f":"VALUE_Archer_Queen[[#This Row],[Valeur]]*VALUE_Archer_Queen[[#This Row],[Rang]]","v":0},11,{"$f":"Paramètres!BL16","v":0},470,{"$f":"VALUE_Archer_Queen[[#This Row],[Valeur]]*VALUE_Archer_Queen[[#This Row],[Rang]]","v":0}]
[14,{"$f":"Paramètres!BJ19","v":0},225,{"$f":"VALUE_Barbarian_King[[#This Row],[Valeur]]*VALUE_Barbarian_King[[#This Row],[Rang]]","v":0},13,{"$f":"Paramètres!BK18","v":0},351,{"$f":"VALUE_Archer_Queen[[#This Row],[Valeur]]*VALUE_Archer_Queen[[#This Row],[Rang]]","v":0},12,{"$f":"Paramètres!BL17","v":0},515,{"$f":"VALUE_Archer_Queen[[#This Row],[Valeur]]*VALUE_Archer_Queen[[#This Row],[Rang]]","v":0}]
[15,{"$f":"Paramètres!BJ20","v":0},{"$f":"18+C97","v":243},{"$f":"VALUE_Barbarian_King[[#This Row],[Valeur]]*VALUE_Barbarian_King[[#This Row],[Rang]]","v":0},14,{"$f":"Paramètres!BK19","v":0},379,{"$f":"VALUE_Archer_Queen[[#This Row],[Valeur]]*VALUE_Archer_Queen[[#This Row],[Rang]]","v":0},13,{"$f":"Paramètres!BL18","v":0},562,{"$f":"VALUE_Archer_Queen[[#This Row],[Valeur]]*VALUE_Archer_Queen[[#This Row],[Rang]]","v":0},"Valeurs - Bâtiments d'Armée"]
[16,{"$f":"Paramètres!BJ21","v":0},{"$f":"18+C98","v":261},{"$f":"VALUE_Barbarian_King[[#This Row],[Valeur]]*VALUE_Barbarian_King[[#This Row],[Rang]]","v":0},15,{"$f":"Paramètres!BK20","v":0},{"$f":"G98+29","v":408},{"$f":"VALUE_Archer_Queen[[#This Row],[Valeur]]*VALUE_Archer_Queen[[#This Row],[Rang]]","v":0},14,{"$f":"Paramètres!BL19","v":0},607,{"$f":"VALUE_Archer_Queen[[#This Row],[Valeur]]*VALUE_Archer_Queen[[#This Row],[Rang]]","v":0},"Caserne Noire",null,null,null,"Caserne",null,null,null,"Camp Militaire",null,null,null,"Laboratoire",null,null,null,"Usine de Sorts",null,null,null,"Usine de Sorts Noirs"]
[17,{"$f":"Paramètres!BJ22","v":0},279,{"$f":"VALUE_Barbarian_King[[#This Row],[Valeur]]*VALUE_Barbarian_King[[#This Row],[Rang]]","v":0},16,{"$f":"Paramètres!BK21","v":0},{"$f":"G99+29","v":437},{"$f":"VALUE_Archer_Queen[[#This Row],[Valeur]]*VALUE_Archer_Queen[[#This Row],[Rang]]","v":0},15,{"$f":"Paramètres!BL20","v":0},656,{"$f":"VALUE_Archer_Queen[[#This Row],[Valeur]]*VALUE_Archer_Queen[[#This Row],[Rang]]","v":0},"LVL","Rang","Valeur","Total","LVL","Rang","Valeur","Total","LVL","Rang","Valeur","Total","LVL","Rang","Valeur","Total","LVL","Rang","Valeur","Total","LVL","Rang","Valeur","Total"]
[18,{"$f":"Paramètres!BJ23","v":0},297,{"$f":"VALUE_Barbarian_King[[#This Row],[Valeur]]*VALUE_Barbarian_King[[#This Row],[Rang]]","v":0},17,{"$f":"Paramètres!BK22","v":0},466,{"$f":"VALUE_Archer_Queen[[#This Row],[Valeur]]*VALUE_Archer_Queen[[#This Row],[Rang]]","v":0},16,{"$f":"Paramètres!BL21","v":0},705,{"$f":"VALUE_Archer_Queen[[#This Row],[Valeur]]*VALUE_Archer_Queen[[#This Row],[Rang]]","v":0},1,{"$f":"Paramètres!I6","v":0},0,{"$f":"VALUE_Dark_Barrack[[#This Row],[Valeur]]*VALUE_Dark_Barrack[[#This Row],[Rang]]","v":0},1,{"$f":"Paramètres!H6","v":0},0,{"$f":"VALUE_Barrack[[#This Row],[Valeur]]*VALUE_Barrack[[#This Row],[Rang]]","v":0},1,{"$f":"Paramètres!J6","v":0},0,{"$f":"VALUE_Army_Camp[[#This Row],[Valeur]]*VALUE_Army_Camp[[#This Row],[Rang]]","v":0},1,{"$f":"Paramètres!K6","v":0},0,{"$f":"VALUE_Laboratory[[#This Row],[Valeur]]*VALUE_Laboratory[[#This Row],[Rang]]","v":0},1,{"$f":"Paramètres!L6","v":0},0,{"$f":"VALUE_Spell_Factory[[#This Row],[Valeur]]*VALUE_Spell_Factory[[#This Row],[Rang]]","v":0},1,{"$f":"Paramètres!M6","v":0},0,{"$f":"VALUE_Dark_Spell_Factory[[#This Row],[Valeur]]*VALUE_Dark_Spell_Factory[[#This Row],[Rang]]","v":0}]
[19,{"$f":"Paramètres!BJ24","v":0},315,{"$f":"VALUE_Barbarian_King[[#This Row],[Valeur]]*VALUE_Barbarian_King[[#This Row],[Rang]]","v":0},18,{"$f":"Paramètres!BK23","v":0},495,{"$f":"VALUE_Archer_Queen[[#This Row],[Valeur]]*VALUE_Archer_Queen[[#This Row],[Rang]]","v":0},17,{"$f":"Paramètres!BL22","v":0},753,{"$f":"VALUE_Archer_Queen[[#This Row],[Valeur]]*VALUE_Archer_Queen[[#This Row],[Rang]]","v":0},2,{"$f":"Paramètres!I7","v":0},0,{"$f":"VALUE_Dark_Barrack[[#This Row],[Valeur]]*VALUE_Dark_Barrack[[#This Row],[Rang]]","v":0},2,{"$f":"Paramètres!H7","v":0},0,{"$f":"VALUE_Barrack[[#This Row],[Valeur]]*VALUE_Barrack[[#This Row],[Rang]]","v":0},2,{"$f":"Paramètres!J7","v":0},0,{"$f":"VALUE_Army_Camp[[#This Row],[Valeur]]*VALUE_Army_Camp[[#This Row],[Rang]]","v":0},2,{"$f":"Paramètres!K7","v":0},0,{"$f":"VALUE_Laboratory[[#This Row],[Valeur]]*VALUE_Laboratory[[#This Row],[Rang]]","v":0},2,{"$f":"Paramètres!L7","v":0},0,{"$f":"VALUE_Spell_Factory[[#This Row],[Valeur]]*VALUE_Spell_Factory[[#This Row],[Rang]]","v":0},2,{"$f":"Paramètres!M7","v":0},0,{"$f":"VALUE_Dark_Spell_Factory[[#This Row],[Valeur]]*VALUE_Dark_Spell_Factory[[#This Row],[Rang]]","v":0}]
[20,{"$f":"Paramètres!BJ25","v":0},{"$f":"19+C102","v":334},{"$f":"VALUE_Barbarian_King[[#This Row],[Valeur]]*VALUE_Barbarian_King[[#This Row],[Rang]]","v":0},19,{"$f":"Paramètres!BK24","v":0},524,{"$f":"VALUE_Archer_Queen[[#This Row],[Valeur]]*VALUE_Archer_Queen[[#This Row],[Rang]]","v":0},18,{"$f":"Paramètres!BL23","v":0},802,{"$f":"VALUE_Archer_Queen[[#This Row],[Valeur]]*VALUE_Archer_Queen[[#This Row],[Rang]]","v":0},3,{"$f":"Paramètres!I8","v":0},0,{"$f":"VALUE_Dark_Barrack[[#This Row],[Valeur]]*VALUE_Dark_Barrack[[#This Row],[Rang]]","v":0},3,{"$f":"Paramètres!H8","v":0},0,{"$f":"VALUE_Barrack[[#This Row],[Valeur]]*VALUE_Barrack[[#This Row],[Rang]]","v":0},3,{"$f":"Paramètres!J8","v":0},0,{"$f":"VALUE_Army_Camp[[#This Row],[Valeur]]*VALUE_Army_Camp[[#This Row],[Rang]]","v":0},3,{"$f":"Paramètres!K8","v":0},0,{"$f":"VALUE_Laboratory[[#This Row],[Valeur]]*VALUE_Laboratory[[#This Row],[Rang]]","v":0},3,{"$f":"Paramètres!L8","v":0},0,{"$f":"VALUE_Spell_Factory[[#This Row],[Valeur]]*VALUE_Spell_Factory[[#This Row],[Rang]]","v":0},3,{"$f":"Paramètres!M8","v":0},0,{"$f":"VALUE_Dark_Spell_Factory[[#This Row],[Valeur]]*VALUE_Dark_Spell_Factory[[#This Row],[Rang]]","v":0}]
[21,{"$f":"Paramètres!BJ26","v":0},{"$f":"19+C103","v":353},{"$f":"VALUE_Barbarian_King[[#This Row],[Valeur]]*VALUE_Barbarian_King[[#This Row],[Rang]]","v":0},20,{"$f":"Paramètres!BK25","v":0},{"$f":"G103+30","v":554},{"$f":"VALUE_Archer_Queen[[#This Row],[Valeur]]*VALUE_Archer_Queen[[#This Row],[Rang]]","v":0},19,{"$f":"Paramètres!BL24","v":0},850,{"$f":"VALUE_Archer_Queen[[#This Row],[Valeur]]*VALUE_Archer_Queen[[#This Row],[Rang]]","v":0},4,{"$f":"Paramètres!I9","v":0},0,{"$f":"VALUE_Dark_Barrack[[#This Row],[Valeur]]*VALUE_Dark_Barrack[[#This Row],[Rang]]","v":0},4,{"$f":"Paramètres!H9","v":0},0,{"$f":"VALUE_Barrack[[#This Row],[Valeur]]*VALUE_Barrack[[#This Row],[Rang]]","v":0},4,{"$f":"Paramètres!J9","v":0},0,{"$f":"VALUE_Army_Camp[[#This Row],[Valeur]]*VALUE_Army_Camp[[#This Row],[Rang]]","v":0},4,{"$f":"Paramètres!K9","v":0},0,{"$f":"VALUE_Laboratory[[#This Row],[Valeur]]*VALUE_Laboratory[[#This Row],[Rang]]","v":0},4,{"$f":"Paramètres!L9","v":0},0,{"$f":"VALUE_Spell_Factory[[#This Row],[Valeur]]*VALUE_Spell_Factory[[#This Row],[Rang]]","v":0}]
[22,{"$f":"Paramètres!BJ27","v":0},{"$f":"19+C104","v":372},{"$f":"VALUE_Barbarian_King[[#This Row],[Valeur]]*VALUE_Barbarian_King[[#This Row],[Rang]]","v":0},21,{"$f":"Paramètres!BK26","v":0},{"$f":"G104+30","v":584},{"$f":"VALUE_Archer_Queen[[#This Row],[Valeur]]*VALUE_Archer_Queen[[#This Row],[Rang]]","v":0},20,{"$f":"Paramètres!BL25","v":0},902,{"$f":"VALUE_Archer_Queen[[#This Row],[Valeur]]*VALUE_Archer_Queen[[#This Row],[Rang]]","v":0},5,{"$f":"Paramètres!I10","v":0},0,{"$f":"VALUE_Dark_Barrack[[#This Row],[Valeur]]*VALUE_Dark_Barrack[[#This Row],[Rang]]","v":0},5,{"$f":"Paramètres!H10","v":0},0,{"$f":"VALUE_Barrack[[#This Row],[Valeur]]*VALUE_Barrack[[#This Row],[Rang]]","v":0},5,{"$f":"Paramètres!J10","v":0},0,{"$f":"VALUE_Army_Camp[[#This Row],[Valeur]]*VALUE_Army_Camp[[#This Row],[Rang]]","v":0},5,{"$f":"Paramètres!K10","v":0},0,{"$f":"VALUE_Laboratory[[#This Row],[Valeur]]*VALUE_Laboratory[[#This Row],[Rang]]","v":0},5,{"$f":"Paramètres!L10","v":0},0,{"$f":"VALUE_Spell_Factory[[#This Row],[Valeur]]*VALUE_Spell_Factory[[#This Row],[Rang]]","v":0}]
[23,{"$f":"Paramètres!BJ28","v":0},391,{"$f":"VALUE_Barbarian_King[[#This Row],[Valeur]]*VALUE_Barbarian_King[[#This Row],[Rang]]","v":0},22,{"$f":"Paramètres!BK27","v":0},614,{"$f":"VALUE_Archer_Queen[[#This Row],[Valeur]]*VALUE_Archer_Queen[[#This Row],[Rang]]","v":0},null,null,null,null,6,{"$f":"Paramètres!I11","v":0},0,{"$f":"VALUE_Dark_Barrack[[#This Row],[Valeur]]*VALUE_Dark_Barrack[[#This Row],[Rang]]","v":0},6,{"$f":"Paramètres!H11","v":0},0,{"$f":"VALUE_Barrack[[#This Row],[Valeur]]*VALUE_Barrack[[#This Row],[Rang]]","v":0},6,{"$f":"Paramètres!J11","v":0},0,{"$f":"VALUE_Army_Camp[[#This Row],[Valeur]]*VALUE_Army_Camp[[#This Row],[Rang]]","v":0},6,{"$f":"Paramètres!K11","v":0},0,{"$f":"VALUE_Laboratory[[#This Row],[Valeur]]*VALUE_Laboratory[[#This Row],[Rang]]","v":0}]
[24,{"$f":"Paramètres!BJ29","v":0},410,{"$f":"VALUE_Barbarian_King[[#This Row],[Valeur]]*VALUE_Barbarian_King[[#This Row],[Rang]]","v":0},23,{"$f":"Paramètres!BK28","v":0},644,{"$f":"VALUE_Archer_Queen[[#This Row],[Valeur]]*VALUE_Archer_Queen[[#This Row],[Rang]]","v":0},null,null,null,null,7,{"$f":"Paramètres!I12","v":0},0,{"$f":"VALUE_Dark_Barrack[[#This Row],[Valeur]]*VALUE_Dark_Barrack[[#This Row],[Rang]]","v":0},7,{"$f":"Paramètres!H12","v":0},0,{"$f":"VALUE_Barrack[[#This Row],[Valeur]]*VALUE_Barrack[[#This Row],[Rang]]","v":0},7,{"$f":"Paramètres!J12","v":0},0,{"$f":"VALUE_Army_Camp[[#This Row],[Valeur]]*VALUE_Army_Camp[[#This Row],[Rang]]","v":0},7,{"$f":"Paramètres!K12","v":0},0,{"$f":"VALUE_Laboratory[[#This Row],[Valeur]]*VALUE_Laboratory[[#This Row],[Rang]]","v":0}]
[25,{"$f":"Paramètres!BJ30","v":0},{"$f":"20+C107","v":430},{"$f":"VALUE_Barbarian_King[[#This Row],[Valeur]]*VALUE_Barbarian_King[[#This Row],[Rang]]","v":0},24,{"$f":"Paramètres!BK29","v":0},674,{"$f":"VALUE_Archer_Queen[[#This Row],[Valeur]]*VALUE_Archer_Queen[[#This Row],[Rang]]","v":0},null,null,null,null,null,null,null,null,8,{"$f":"Paramètres!H13","v":0},0,{"$f":"VALUE_Barrack[[#This Row],[Valeur]]*VALUE_Barrack[[#This Row],[Rang]]","v":0},8,{"$f":"Paramètres!J13","v":0},0,{"$f":"VALUE_Army_Camp[[#This Row],[Valeur]]*VALUE_Army_Camp[[#This Row],[Rang]]","v":0},8,{"$f":"Paramètres!K13","v":0},0,{"$f":"VALUE_Laboratory[[#This Row],[Valeur]]*VALUE_Laboratory[[#This Row],[Rang]]","v":0}]
[26,{"$f":"Paramètres!BJ31","v":0},{"$f":"20+C108","v":450},{"$f":"VALUE_Barbarian_King[[#This Row],[Valeur]]*VALUE_Barbarian_King[[#This Row],[Rang]]","v":0},25,{"$f":"Paramètres!BK30","v":0},{"$f":"G108+31","v":705},{"$f":"VALUE_Archer_Queen[[#This Row],[Valeur]]*VALUE_Archer_Queen[[#This Row],[Rang]]","v":0},null,null,null,null,null,null,null,null,9,{"$f":"Paramètres!H14","v":0},0,{"$f":"VALUE_Barrack[[#This Row],[Valeur]]*VALUE_Barrack[[#This Row],[Rang]]","v":0},null,null,null,null,9,{"$f":"Paramètres!K14","v":0},0,{"$f":"VALUE_Laboratory[[#This Row],[Valeur]]*VALUE_Laboratory[[#This Row],[Rang]]","v":0}]
[27,{"$f":"Paramètres!BJ32","v":0},470,{"$f":"VALUE_Barbarian_King[[#This Row],[Valeur]]*VALUE_Barbarian_King[[#This Row],[Rang]]","v":0},26,{"$f":"Paramètres!BK31","v":0},{"$f":"G109+31","v":736},{"$f":"VALUE_Archer_Queen[[#This Row],[Valeur]]*VALUE_Archer_Queen[[#This Row],[Rang]]","v":0},null,null,null,null,null,null,null,null,10,{"$f":"Paramètres!H15","v":0},0,{"$f":"VALUE_Barrack[[#This Row],[Valeur]]*VALUE_Barrack[[#This Row],[Rang]]","v":0}]
[28,{"$f":"Paramètres!BJ33","v":0},490,{"$f":"VALUE_Barbarian_King[[#This Row],[Valeur]]*VALUE_Barbarian_King[[#This Row],[Rang]]","v":0},27,{"$f":"Paramètres!BK32","v":0},767,{"$f":"VALUE_Archer_Queen[[#This Row],[Valeur]]*VALUE_Archer_Queen[[#This Row],[Rang]]","v":0},null,null,null,null,null,null,null,null,11,{"$f":"Paramètres!H16","v":0},0,{"$f":"VALUE_Barrack[[#This Row],[Valeur]]*VALUE_Barrack[[#This Row],[Rang]]","v":0},null,null,null,null,null,null,null,null,"Valeurs - Bâtiments Autres"]
[29,{"$f":"Paramètres!BJ34","v":0},510,{"$f":"VALUE_Barbarian_King[[#This Row],[Valeur]]*VALUE_Barbarian_King[[#This Row],[Rang]]","v":0},28,{"$f":"Paramètres!BK33","v":0},798,{"$f":"VALUE_Archer_Queen[[#This Row],[Valeur]]*VALUE_Archer_Queen[[#This Row],[Rang]]","v":0},null,null,null,null,null,null,null,null,12,{"$f":"Paramètres!H17","v":0},0,{"$f":"VALUE_Barrack[[#This Row],[Valeur]]*VALUE_Barrack[[#This Row],[Rang]]","v":0},null,null,null,null,null,null,null,null,"Château de Clan",null,null,null,"Hôtel de Ville"]
[30,{"$f":"Paramètres!BJ35","v":0},{"$f":"21+C112","v":531},{"$f":"VALUE_Barbarian_King[[#This Row],[Valeur]]*VALUE_Barbarian_King[[#This Row],[Rang]]","v":0},29,{"$f":"Paramètres!BK34","v":0},829,{"$f":"VALUE_Archer_Queen[[#This Row],[Valeur]]*VALUE_Archer_Queen[[#This Row],[Rang]]","v":0},null,null,null,null,null,null,null,null,null,null,null,null,null,null,null,null,null,null,null,null,"LVL","Rang","Valeur","Total","LVL","Rang","Valeur","Total"]
[31,{"$f":"Paramètres!BJ36","v":0},{"$f":"21+C113","v":552},{"$f":"VALUE_Barbarian_King[[#This Row],[Valeur]]*VALUE_Barbarian_King[[#This Row],[Rang]]","v":0},30,{"$f":"Paramètres!BK35","v":0},{"$f":"G113+32","v":861},{"$f":"VALUE_Archer_Queen[[#This Row],[Valeur]]*VALUE_Archer_Queen[[#This Row],[Rang]]","v":0},null,null,null,null,null,null,null,null,null,null,null,null,null,null,null,null,null,null,null,null,1,{"$f":"Paramètres!AE6","v":0},0,{"$f":"VALUE_Clan_Castle[[#This Row],[Valeur]]*VALUE_Clan_Castle[[#This Row],[Rang]]","v":0},1,{"$f":"Paramètres!AF6","v":1},0,{"$f":"VALUE_Town_Home[[#This Row],[Valeur]]*VALUE_Town_Home[[#This Row],[Rang]]","v":0}]
[32,{"$f":"Paramètres!BJ37","v":0},573,{"$f":"VALUE_Barbarian_King[[#This Row],[Valeur]]*VALUE_Barbarian_King[[#This Row],[Rang]]","v":0},31,{"$f":"Paramètres!BK36","v":0},{"$f":"G114+32","v":893},{"$f":"VALUE_Archer_Queen[[#This Row],[Valeur]]*VALUE_Archer_Queen[[#This Row],[Rang]]","v":0},null,null,null,null,"Valeurs - Sorts Noirs",null,null,null,null,null,null,null,null,null,null,null,null,null,null,null,2,{"$f":"Paramètres!AE7","v":0},0,{"$f":"VALUE_Clan_Castle[[#This Row],[Valeur]]*VALUE_Clan_Castle[[#This Row],[Rang]]","v":0},2,{"$f":"Paramètres!AF7","v":0},0,{"$f":"VALUE_Town_Home[[#This Row],[Valeur]]*VALUE_Town_Home[[#This Row],[Rang]]","v":0}]
[33,{"$f":"Paramètres!BJ38","v":0},594,{"$f":"VALUE_Barbarian_King[[#This Row],[Valeur]]*VALUE_Barbarian_King[[#This Row],[Rang]]","v":0},32,{"$f":"Paramètres!BK37","v":0},925,{"$f":"VALUE_Archer_Queen[[#This Row],[Valeur]]*VALUE_Archer_Queen[[#This Row],[Rang]]","v":0},null,null,null,null,"Sort de Poison",null,null,null,"Sort de Séisme",null,null,null,"Sort de Hâte",null,null,null,"Sort Squelettique",null,null,null,3,{"$f":"Paramètres!AE8","v":0},0,{"$f":"VALUE_Clan_Castle[[#This Row],[Valeur]]*VALUE_Clan_Castle[[#This Row],[Rang]]","v":0},3,{"$f":"Paramètres!AF8","v":0},0,{"$f":"VALUE_Town_Home[[#This Row],[Valeur]]*VALUE_Town_Home[[#This Row],[Rang]]","v":0}]
[34,{"$f":"Paramètres!BJ39","v":0},615,{"$f":"VALUE_Barbarian_King[[#This Row],[Valeur]]*VALUE_Barbarian_King[[#This Row],[Rang]]","v":0},33,{"$f":"Paramètres!BK38","v":0},957,{"$f":"VALUE_Archer_Queen[[#This Row],[Valeur]]*VALUE_Archer_Queen[[#This Row],[Rang]]","v":0},null,null,null,null,"LVL","Rang","Valeur","Total","LVL","Rang","Valeur","Total","LVL","Rang","Valeur","Total","LVL","Rang","Valeur","Total",4,{"$f":"Paramètres!AE9","v":0},0,{"$f":"VALUE_Clan_Castle[[#This Row],[Valeur]]*VALUE_Clan_Castle[[#This Row],[Rang]]","v":0},4,{"$f":"Paramètres!AF9","v":0},0,{"$f":"VALUE_Town_Home[[#This Row],[Valeur]]*VALUE_Town_Home[[#This Row],[Rang]]","v":0}]
[35,{"$f":"Paramètres!BJ40","v":0},{"$f":"22+C117","v":637},{"$f":"VALUE_Barbarian_King[[#This Row],[Valeur]]*VALUE_Barbarian_King[[#This Row],[Rang]]","v":0},34,{"$f":"Paramètres!BK39","v":0},989,{"$f":"VALUE_Archer_Queen[[#This Row],[Valeur]]*VALUE_Archer_Queen[[#This Row],[Rang]]","v":0},null,null,null,null,1,{"$f":"Paramètres!AM6","v":0},160,{"$f":"VALUE_Spell_Poison[[#This Row],[Valeur]]*VALUE_Spell_Poison[[#This Row],[Rang]]","v":0},1,{"$f":"Paramètres!AN6","v":0},150,{"$f":"VALUE_Spell_Earthquake[[#This Row],[Valeur]]*VALUE_Spell_Earthquake[[#This Row],[Rang]]","v":0},1,{"$f":"Paramètres!AO6","v":0},0,{"$f":"VALUE_Spell_Haste[[#This Row],[Valeur]]*VALUE_Spell_Haste[[#This Row],[Rang]]","v":0},1,{"$f":"Paramètres!AP6","v":0},0,{"$f":"'Valeur du Village'!$AA118*'Valeur du Village'!$Z118","v":0},5,{"$f":"Paramètres!AE10","v":0},0,{"$f":"VALUE_Clan_Castle[[#This Row],[Valeur]]*VALUE_Clan_Castle[[#This Row],[Rang]]","v":0},5,{"$f":"Paramètres!AF10","v":0},0,{"$f":"VALUE_Town_Home[[#This Row],[Valeur]]*VALUE_Town_Home[[#This Row],[Rang]]","v":0}]
[36,{"$f":"Paramètres!BJ41","v":0},{"$f":"22+C118","v":659},{"$f":"VALUE_Barbarian_King[[#This Row],[Valeur]]*VALUE_Barbarian_King[[#This Row],[Rang]]","v":0},35,{"$f":"Paramètres!BK40","v":0},{"$f":"G118+33","v":1022},{"$f":"VALUE_Archer_Queen[[#This Row],[Valeur]]*VALUE_Archer_Queen[[#This Row],[Rang]]","v":0},null,null,null,null,2,{"$f":"Paramètres!AM7","v":0},170,{"$f":"VALUE_Spell_Poison[[#This Row],[Valeur]]*VALUE_Spell_Poison[[#This Row],[Rang]]","v":0},2,{"$f":"Paramètres!AN7","v":0},145,{"$f":"VALUE_Spell_Earthquake[[#This Row],[Valeur]]*VALUE_Spell_Earthquake[[#This Row],[Rang]]","v":0},2,{"$f":"Paramètres!AO7","v":0},0,{"$f":"VALUE_Spell_Haste[[#This Row],[Valeur]]*VALUE_Spell_Haste[[#This Row],[Rang]]","v":0},2,{"$f":"Paramètres!AP7","v":0},0,{"$f":"'Valeur du Village'!$AA119*'Valeur du Village'!$Z119","v":0},6,{"$f":"Paramètres!AE11","v":0},0,{"$f":"VALUE_Clan_Castle[[#This Row],[Valeur]]*VALUE_Clan_Castle[[#This Row],[Rang]]","v":0},6,{"$f":"Paramètres!AF11","v":0},0,{"$f":"VALUE_Town_Home[[#This Row],[Valeur]]*VALUE_Town_Home[[#This Row],[Rang]]","v":0}]
[37,{"$f":"Paramètres!BJ42","v":0},681,{"$f":"VALUE_Barbarian_King[[#This Row],[Valeur]]*VALUE_Barbarian_King[[#This Row],[Rang]]","v":0},36,{"$f":"Paramètres!BK41","v":0},{"$f":"G119+33","v":1055},{"$f":"VALUE_Archer_Queen[[#This Row],[Valeur]]*VALUE_Archer_Queen[[#This Row],[Rang]]","v":0},null,null,null,null,3,{"$f":"Paramètres!AM8","v":0},190,{"$f":"VALUE_Spell_Poison[[#This Row],[Valeur]]*VALUE_Spell_Poison[[#This Row],[Rang]]","v":0},3,{"$f":"Paramètres!AN8","v":0},140,{"$f":"VALUE_Spell_Earthquake[[#This Row],[Valeur]]*VALUE_Spell_Earthquake[[#This Row],[Rang]]","v":0},3,{"$f":"Paramètres!AO8","v":0},0,{"$f":"VALUE_Spell_Haste[[#This Row],[Valeur]]*VALUE_Spell_Haste[[#This Row],[Rang]]","v":0},3,{"$f":"Paramètres!AP8","v":0},0,{"$f":"'Valeur du Village'!$AA120*'Valeur du Village'!$Z120","v":0},7,{"$f":"Paramètres!AE12","v":0},0,{"$f":"VALUE_Clan_Castle[[#This Row],[Valeur]]*VALUE_Clan_Castle[[#This Row],[Rang]]","v":0},7,{"$f":"Paramètres!AF12","v":0},0,{"$f":"VALUE_Town_Home[[#This Row],[Valeur]]*VALUE_Town_Home[[#This Row],[Rang]]","v":0}]
[38,{"$f":"Paramètres!BJ43","v":0},703,{"$f":"VALUE_Barbarian_King[[#This Row],[Valeur]]*VALUE_Barbarian_King[[#This Row],[Rang]]","v":0},37,{"$f":"Paramètres!BK42","v":0},1088,{"$f":"VALUE_Archer_Queen[[#This Row],[Valeur]]*VALUE_Archer_Queen[[#This Row],[Rang]]","v":0},null,null,null,null,4,{"$f":"Paramètres!AM9","v":0},210,{"$f":"VALUE_Spell_Poison[[#This Row],[Valeur]]*VALUE_Spell_Poison[[#This Row],[Rang]]","v":0},4,{"$f":"Paramètres!AN9","v":0},135,{"$f":"VALUE_Spell_Earthquake[[#This Row],[Valeur]]*VALUE_Spell_Earthquake[[#This Row],[Rang]]","v":0},4,{"$f":"Paramètres!AO9","v":0},0,{"$f":"VALUE_Spell_Haste[[#This Row],[Valeur]]*VALUE_Spell_Haste[[#This Row],[Rang]]","v":0},4,{"$f":"Paramètres!AP9","v":0},0,{"$f":"'Valeur du Village'!$AA121*'Valeur du Village'!$Z121","v":0},null,null,null,null,8,{"$f":"Paramètres!AF13","v":0},0,{"$f":"VALUE_Town_Home[[#This Row],[Valeur]]*VALUE_Town_Home[[#This Row],[Rang]]","v":0}]
[39,{"$f":"Paramètres!BJ44","v":0},725,{"$f":"VALUE_Barbarian_King[[#This Row],[Valeur]]*VALUE_Barbarian_King[[#This Row],[Rang]]","v":0},38,{"$f":"Paramètres!BK43","v":0},1121,{"$f":"VALUE_Archer_Queen[[#This Row],[Valeur]]*VALUE_Archer_Queen[[#This Row],[Rang]]","v":0},null,null,null,null,5,{"$f":"Paramètres!AM10","v":0},230,{"$f":"VALUE_Spell_Poison[[#This Row],[Valeur]]*VALUE_Spell_Poison[[#This Row],[Rang]]","v":0},null,null,null,null,null,null,null,null,null,null,null,null,null,null,null,null,9,{"$f":"Paramètres!AF14","v":0},0,{"$f":"VALUE_Town_Home[[#This Row],[Valeur]]*VALUE_Town_Home[[#This Row],[Rang]]","v":0}]
[40,{"$f":"Paramètres!BJ45","v":0},747,{"$f":"VALUE_Barbarian_King[[#This Row],[Valeur]]*VALUE_Barbarian_King[[#This Row],[Rang]]","v":0},39,{"$f":"Paramètres!BK44","v":0},1154,{"$f":"VALUE_Archer_Queen[[#This Row],[Valeur]]*VALUE_Archer_Queen[[#This Row],[Rang]]","v":0},null,null,null,null,null,null,null,null,null,null,null,null,null,null,null,null,null,null,null,null,null,null,null,null,10,{"$f":"Paramètres!AF15","v":0},0,{"$f":"VALUE_Town_Home[[#This Row],[Valeur]]*VALUE_Town_Home[[#This Row],[Rang]]","v":0}]
[41,{"$f":"Paramètres!BJ46","v":0},769,{"$f":"VALUE_Barbarian_King[[#This Row],[Valeur]]*VALUE_Barbarian_King[[#This Row],[Rang]]","v":0},40,{"$f":"Paramètres!BK45","v":0},1187,{"$f":"VALUE_Archer_Queen[[#This Row],[Valeur]]*VALUE_Archer_Queen[[#This Row],[Rang]]","v":0},null,null,null,null,null,null,null,null,null,null,null,null,null,null,null,null,null,null,null,null,null,null,null,null,11,{"$f":"Paramètres!AF16","v":0},0,{"$f":"VALUE_Town_Home[[#This Row],[Valeur]]*VALUE_Town_Home[[#This Row],[Rang]]","v":0}]
[42,{"$f":"Paramètres!BJ47","v":0},791,{"$f":"VALUE_Barbarian_King[[#This Row],[Valeur]]*VALUE_Barbarian_King[[#This Row],[Rang]]","v":0},41,{"$f":"Paramètres!BK46","v":0},1220,{"$f":"VALUE_Archer_Queen[[#This Row],[Valeur]]*VALUE_Archer_Queen[[#This Row],[Rang]]","v":0}]
[43,{"$f":"Paramètres!BJ48","v":0},813,{"$f":"VALUE_Barbarian_King[[#This Row],[Valeur]]*VALUE_Barbarian_King[[#This Row],[Rang]]","v":0},42,{"$f":"Paramètres!BK47","v":0},1253,{"$f":"VALUE_Archer_Queen[[#This Row],[Valeur]]*VALUE_Archer_Queen[[#This Row],[Rang]]","v":0}]
[44,{"$f":"Paramètres!BJ49","v":0},835,{"$f":"VALUE_Barbarian_King[[#This Row],[Valeur]]*VALUE_Barbarian_King[[#This Row],[Rang]]","v":0},43,{"$f":"Paramètres!BK48","v":0},1286,{"$f":"VALUE_Archer_Queen[[#This Row],[Valeur]]*VALUE_Archer_Queen[[#This Row],[Rang]]","v":0}]
[45,{"$f":"Paramètres!BJ50","v":0},857,{"$f":"VALUE_Barbarian_King[[#This Row],[Valeur]]*VALUE_Barbarian_King[[#This Row],[Rang]]","v":0},44,{"$f":"Paramètres!BK49","v":0},1319,{"$f":"VALUE_Archer_Queen[[#This Row],[Valeur]]*VALUE_Archer_Queen[[#This Row],[Rang]]","v":0}]
[null,null,null,null,45,{"$f":"Paramètres!BK50","v":0},1352,{"$f":"VALUE_Archer_Queen[[#This Row],[Valeur]]*VALUE_Archer_Queen[[#This Row],[Rang]]","v":0}]

{"sheet":"Traduction","index":19,"n_rows":274,"n_cols":2,"rows_kept":274,"cut":false,"hidden":true,"merged":[[0,0,0,1]]}
["Translation"]
["Français - FR","English - EN"]
["% Réalisé","% Complete"]
["% Réalisé (au-delà du planifié)","% Complete (beyond plan)"]
["=> Temps par Ouvrier :","=> Time per Builder:"]
["1 heure","1 hour"]
["1 jour","1 day"]
["1 mois","1 month"]
["1 semaine","1 week"]
["16 heures","16 hours"]
["2 heures","2 hours"]
["2 jours","2 days"]
["3 jours","3 days"]
["3.a. Saisir le nombre de Bâtiments que vous avez actuellement avec leurs levels correspondants\n3.b. Saisir le level actuel de vos améliorations de Sorts/Troupes Normales/Troupes Noires\n3.c. Saisir le level actuel de vos Héros","3.a. Write down the number of Buildings you currently have with their corresponding levels\n3.b. Write down the current level of your Spells/Normals Troops/Dark Troops upgrades\n3.c. Write down the current level of your Heroes"]
["4 heures","4 hours"]
["8 heures","8 hours"]
["À Faire","TO DO"]
["Actuel","Current"]
["Actuel +","Current +"]
["Affichage Temps","Time Display"]
["Amélioration max. atteinte","Max. upgrade reached"]
["Amélioration non disponible","Upgrade not available"]
["Améliorations","Upgrades"]
["Améliorations de Sorts","Spells Upgrades"]
["Améliorations de Sorts (Changements)","Spells Upgrades (Changes)"]
["Améliorations de Sorts (Disponibles et LVL Max)","Spells Upgrades (Available & Max LVL)"]
["Améliorations de Troupes","Normal Troops Upgrades"]
["Améliorations de Troupes Noires","Dark Troops Upgrades"]
["Améliorations de Troupes Noires (Changements)","Dark Troops Upgrades (Changes)"]
["Améliorations de Troupes Noires (Disponibles et LVL Max)","Dark Troops Upgrades (Available & Max LVL)"]
["Améliorations de Troupes Normales (Changements)","Normal Troops Upgrades (Changes)"]
["Améliorations de Troupes Normales (Disponibles & LVL Max)","Normal Troops Upgrades (Available & Max LVL)"]
["Améliorations de Troupes/Sorts :","Troops/Spells Up.:"]
["Archer","Archer"]
["Arc-X","X-Bow"]
["Attaque","Attack"]
["Attaque / Défense","Attack / Defense"]
["Ballon","Balloon"]
["Barbare","Barbarian"]
["Bâtiment","Building"]
["Bâtiment non disponible","Building not available"]
["Bâtiments : ","Buildings: "]
["Bâtiments Autres","Other Buildings"]
["Bâtiments Autres (Changements)","Other Buildings (Changes)"]
["Bâtiments Autres (Disponibles et LVL Max)","Other Buildings (Available & Max LVL)"]
["Bâtiments d'Amée (Changements)","Army Buildings (Changes)"]
["Bâtiments d'Amée (Disponibles et LVL Max)","Army Buildings (Available & Max LVL)"]
["Bâtiments d'Armée","Army Buildings"]
["Bâtiments de Défense (Changements)","Defensive Buildings (Changes)"]
["Bâtiments de Défense (Disponibles et LVL Max)","Defensive Buildings (Available & Max LVL)"]
["Bâtiments de Ressources","Resource Buildings"]
["Bâtiments de Ressources (Changements)","Resource Buildings (Changes)"]
["Bâtiments de Ressources (Disponibles et LVL Max)","Resource Buildings (Available & Max LVL)"]
["Bâtiments Défensifs","Defensive Buildings"]
["Besoins d'Elixir","Elixir needs"]
["Besoins d'Elixir Noir","Dark Elixir needs"]
["Besoins d'Or\n(sans remparts)","Gold needs\n(without walls)"]
["Bombe","Bomb"]
["Bombe aérienne","Air Bomb"]
["Bombe géante","Giant Bomb"]
["Bonus de Ligue","League Bonus"]
["Bonus de Trophées","Trophies Bonus"]
["Bonus d'Élixir","Elixir Bonus"]
["Bonus d'Élixir Noir","Dark Elixir Bonus"]
["Bonus d'Or","Gold Bonus"]
["Calendrier","Calendar"]
["Camp Militaire","Army Camp"]
["Camp Militaire - Capacité Totale","Army Camp - Total Capacity"]
["Camp Militaire\nCapacité Totale","Army Camp\nTotal Capacity"]
["Canon","Cannon"]
["Capacité","Capacity"]
["Capacité - Bâtiments","Capacity - Buildings"]
["Caserne","Barracks"]
["Caserne n°1 - NB","Barracks #1 - NB"]
["Caserne n°3 - NB","Barracks #3 - NB"]
["Caserne n°4 - NB","Barracks #4 - NB"]
["Caserne Noire","Dark Barracks"]
["Caserne Noire n°1 - NB","Dark Barracks #1 - NB"]
["Caserne Noire n°2 - NB","Dark Barracks #2 - NB"]
["Caserne non disponible\n(ou pas de Laboratoire)","Barracks not available\n(or no Laboratory)"]
["Caserne° 2 - NB","Barracks #2 - NB"]
["Cellule orange :","Orange Cell:"]
["Cellule rouge :","Red cell:"]
["Cellule verte :","Green cell:"]
["Champs","Fields"]
["Château de Clan","Clan Castle"]
["Chevaucheur de Cochon","Hog Rider"]
["Classement","Rank"]
["Colonne marron :","Brown cell:"]
["Colonne orange :","Orange column:"]
["Combat - Gains","Raiding - Earnings"]
["Combat - Nombre de Ressources Disponibles","Raiding - Available Amount of Ressources"]
["Combat - Nombre Total de Ressources","Raiding - Total Amount of Ressources"]
["Combat - Profits","Raiding - Profits"]
["Construction / Amélioration","Construction / Upgrade"]
["Coût","Cost"]
["Coût Total","Total Cost"]
["Coûts - Améliorations de Sorts","Costs - Spells Upgrades"]
["Coûts - Améliorations de Troupes Noires","Costs - Dark Troops Upgrades"]
["Coûts - Améliroations de Troupes Normales","Costs - Normal Troops Upgrades"]
["Coûts - Bâtiments Autres","Costs - Other Buildings"]
["Coûts - Bâtiments d'Armée","Costs - Army Buildings"]
["Coûts - Bâtiments de Défense","Costs - Defensive Buildings"]
["Coûts - Bâtiments de Ressources","Costs - Resource Buildings"]
["Coûts - Formation de Troupes Noires","Costs - Dark Troops Training"]
["Coûts - Formation de Troupes Normales","Costs - Normal Troops Training"]
["Coûts - Héros","Costs - Heroes"]
["Coûts - Multijoueur","Costs - Multiplayer"]
["Coûts - Pièges Défensifs","Costs - Traps"]
["Création de Sorts","Spells Creation"]
["Créer Planning","Create Planning"]
["Date","Date"]
["Date de Départ","Start Date"]
["Début Planifiée","Plan Start"]
["Début Réel","Actual Start"]
["Défense","Defense"]
["Défense Antiaérienne","Air Defense"]
["Description","Description"]
["Différence de Trophées","Trophies Difference"]
["Différence LVL HdV","TH LVL Difference"]
["Dragon","Dragon"]
["Durée Planifée (jours)","Plan Duration (days)"]
["Durée Réelle","Actual Duration"]
["Élixir","Elixir"]
["Élixir Noir","Dark Elixir"]
["Élixir Noir Total :","Total Dark Elixir:"]
["Élixir Total :","Total Elixir:"]
["Erreur - Bâtiment\nMax. total atteint","Error - Building\nTotal max. reach"]
["Erreur - Camp Militaire\nMax. total atteint","Error - Army Camp\nTotal max. reach"]
["Erreur - Caserne\nMax. total atteint","Error - Barracks\nTotal max. reach"]
["Erreur - Pas suffisament d'Ouvriers","Error - Not enought Builders"]
["Erreur\nMax. total atteint","Error\nTotal max. reach"]
["Espace","Space"]
["Espace Max","Max Space"]
["Espace Total","Total Space"]
["Extracteur d'Élixir","Elixir Collector"]
["Foreuse d'Élixir Noir","Dark Elixir Drill"]
["Formation de Troupes Noires","Dark Troops Training"]
["Formation de Troupes Normales","Normal Troops Training"]
["Gain Maximum","Maximum Gain"]
["Gains","Earnings"]
["Géant","Giant"]
["Gobelin","Goblin"]
["Golem","Golem"]
["Guérisseuse","Healer"]
["h/m/s","h/m/s"]
["Héros","Hero"]
["Héros","Heroes"]
["Héros (Changements)","Heroes (Changes)"]
["Héros (Disponibles & LVL Max)","Heroes (Available & Max LVL)"]
["Héros : ","Heroes: "]
["heures","hours"]
["Hôtel de Ville","Town Hall"]
["Hôtel de Ville - Élixir","Town Hall - Elixir"]
["Hôtel de Ville - Or","Town Hall - Gold"]
["hrs","hrs"]
["INSTRUCTIONS:\n1. LVL HdV : Indiquer le level de votre Hôtel de Ville (1-10)\n\n2. Ouvriers : Indiquer le nombre d'ouvriers que vous avez (1-5)","INSTRUCTIONS:\n1. TH LVL: Indicate the level of your Town Hall (1-10)\n\n2. Builders: Indicate the number of Builders you have (1-5)"]
["j/h/m","d/h/m"]
["Journal des Modifications","ChangeLog"]
["jours","days"]
["Laboratoire","Laboratory"]
["Laboratoire - NB","Laboratory - NB"]
["Langue","Language"]
["Légende","Legend"]
["Ligne jaune :","Yellow line:"]
["Loots - Gains Possibles vs HdV LVL ","Loots - Possible Earnings vs TH LVL "]
["Loots - Pertes Possibles vs HdV LVL ","Loots - Possible Losses vs TH LVL "]
["LVL","LVL"]
["LVL HdV","TH LVL"]
["LVL HdV Opposant","Opponent TH LVL"]
["LVL Max","Max LVL"]
["LVL Usine de Sorts","Spell Factory\nLVL"]
["LVL\nCaserne n°1","Barracks #1\nLVL"]
["LVL\nCaserne n°2","Barracks #2\nLVL"]
["LVL\nCaserne n°3","Barracks #3\nLVL"]
["LVL\nCaserne n°4","Barracks #4\nLVL"]
["LVL\nCaserne Noire n°1","Dark Barracks #1\nLVL"]
["LVL\nCaserne Noire n°2","Dark Barracks #2\nLVL"]
["Mine d'Or","Gold Mine"]
["Mines/Extracteurs/Foreuses","Mines/Collectors/Drills"]
["mins","mins"]
["minutes","minutes"]
["mois","months"]
["Molosse de lave","Lava Hound"]
["Montant","Amount"]
["Mortier","Mortar"]
["Multiplicateur de Loot","Loot Multiplier"]
["NB Caserne","NB Barracks"]
["NB Caserne Noire","NB Dark Barracks"]
["Nom de Fichier","Name File"]
["Or","Gold"]
["Or Total :","Total Gold:"]
["Ouvriers","Builders"]
["Ouvriers disponibles","Builders available"]
["P.E.K.K.A","P.E.K.K.A"]
["Pas (jour)","Step (day)"]
["Période","Period"]
["Période Sélectionnée","Period Highlight"]
["Piège à ressort","Spring Trap"]
["Piège squelettique","Skeleton Trap"]
["Pièges (Changements)","Traps (Changes)"]
["Pièges (Disponibles)","Traps (Available)"]
["Pièges Défensifs","Traps"]
["Planifié","Plan"]
["Planning","Planning"]
["Production","Production"]
["Production / heure","Production / hour"]
["Production / période","Production / period"]
["Propulseur d'air","Air Sweeper"]
["Réel","Actual"]
["Réel (au-delà du planifié)","Actual (beyond plan)"]
["Reine des Archers","Archer Queen"]
["Réinitialiser","Reset"]
["Rempart","Wall"]
["Réserve d'Or","Gold Storage"]
["Réservoir d'Élixir","Elixir Storage"]
["Réservoir d'Élixir Noir","Dark Elixir Storage"]
["Ressources Nécessaires","Required Resources"]
["Roi des Barbares","Barbarian King"]
["Sapeur","Wall Breaker"]
["secondes","seconds"]
["Serviteur","Minion"]
["Sorcier","Wizard"]
["Sorcière","Witch"]
["Sort","Spell"]
["Sort de Foudre","Lightning Spell"]
["Sort de Gel","Freeze Spell"]
["Sort de Guérison","Healing Spell"]
["Sort de Hâte","Haste Spell"]
["Sort de Poison","Poison Spell"]
["Sort de Rage","Rage Spell"]
["Sort de Saut","Jump Spell"]
["Sort de Séisme","Earthquake Spell"]
["Stockage Max","Max Stockable"]
["Stockages","Storages"]
["Tableaux récapitulatifs","Summary Tables"]
["Téléchargement","Download"]
["Temps","Time"]
["Temps pour obtenir besoins","Time to reach needs"]
["Temps Total","Total Time"]
["Temps Total :","Total Time:"]
["Tesla Camouflée","Hidden Tesla"]
["Tête chercheuse","Seeking Air Mine"]
["Total","Total"]
["Tour d'Archers","Archer Tower"]
["Tour de l'Enfer","Inferno Tower"]
["Tour de Sorciers","Wizard Tower"]
["Trophées","Trophies"]
["Troupe Noire","Dark Troop"]
["Troupe Normale","Normal Troop"]
["Troupe/Sort non disponible","Troop/Spell not available"]
["Type","Type"]
["Up.","Up."]
["Usine de Sorts","Spell Factory"]
["Usine de Sorts Noirs","Dark Spell Factory"]
["Valeur du Village","Town Value"]
["Valeurs - Bâtiments Autres","Values - Other Buildings"]
["Valeurs - Bâtiments d'Armée","Values - Army Buildings"]
["Valeurs - Bâtiments de Défense","Values - Defensive Buildings"]
["Valeurs - Bâtiments de Ressources","Values - Resource Buildings"]
["Valeurs - Héros","Values - Heroes"]
["Valeurs - Pièges Défensifs","Values - Traps"]
["Valeurs - Sorts","Values - Spells"]
["Valeurs - Troupes Noires","Values - Dark Troops"]
["Valeurs - Troupes Normales","Values - Normal Troops"]
["Valkyrie","Valkyrie"]
["Version","Version"]
["Bouliste","Bowler"]
["Aigle Artilleur","Defense Aigle"]
["Grand Gardien","Grand Warden"]
["Bébé dragon","Baby Dragon"]
["Mineur","Miner"]
["Sort Squelettique","Skeleton Spell"]
["Sort de clonage","Clone Spell"]

{"sheet":"Journal des Modifications","index":20,"n_rows":83,"n_cols":6,"rows_kept":83,"cut":false,"hidden":false,"merged":[[0,0,0,5]]}
["Journal des Modifications"]
["Version","Date","Nom de Fichier","Description ","Description","Téléchargement"]
["V17.01.03",42738,{"$f":"\"coc-calculator-\" & CHANGELOG86[[#This Row],[Version]] & \".xlsm\"","v":"coc-calculator-V17.01.03.xlsm"},null,"Coxwen\nModification du nombre de rempart pour HDV 11\nModification du script de génération du planning","https://www.fichier-xls.fr/2017/01/03/coc-calculator-v17-01-03-vierge/"]
["V17.01",42737,{"$f":"\"coc-calculator-\" & CHANGELOG86[[#This Row],[Version]] & \".xlsm\"","v":"coc-calculator-V17.01.xlsm"},null,"Pie852\nPrise en compte des dernières mises à jour","https://www.fichier-xls.fr/2017/01/02/coc-calculator-v17-01-vierge"]
["V8.07",42663,{"$f":"\"coc-calculator-\" & CHANGELOG86[[#This Row],[Version]] & \".xlsm\"","v":"coc-calculator-V8.07.xlsm"},null,"-Coxwen\nAjout des modification suite à l'update\nGeant 8\nTour d'archers 14","https://www.fichier-xls.fr/2016/07/20/coc-calculator-v8-07-vierge"]
["V8.06",42539,{"$f":"\"coc-calculator-\" & CHANGELOG86[[#This Row],[Version]] & \".xlsm\"","v":"coc-calculator-V8.06.xlsm"},null,"-Coxwen\nModification concernant le niveau max pour les ballons pour un HDV 10 avec un Laboratoire de niveau 8","https://www.fichier-xls.fr/2016/06/07/coc-calculator-v8-06-vierge"]
["V8.05",42529,{"$f":"\"coc-calculator-\" & CHANGELOG86[[#This Row],[Version]] & \".xlsm\"","v":"coc-calculator-V8.05.xlsm"},null,"-eiffel\najout d'un bouton (flèche verte vers le haut) qui permet de remplir le fichier des paramètres avec les valeurs max pour le TH sélectionné\najout de traductions manquantes","https://www.fichier-xls.fr/2016/06/07/coc-calculator-v8-05-vierge"]
["V8.04",42529,{"$f":"\"coc-calculator-\" & CHANGELOG86[[#This Row],[Version]] & \".xlsm\"","v":"coc-calculator-V8.04.xlsm"},null,"-Coxwen\ncorrections diverses dans l'onglet paramètres","https://www.fichier-xls.fr/2016/06/07/coc-calculator-v8-04-vierge"]
["V8.03",42528,{"$f":"\"coc-calculator-\" & CHANGELOG86[[#This Row],[Version]] & \".xlsm\"","v":"coc-calculator-V8.03.xlsm"},null,"-eiffel\ncorrections sur niveau max bébé dragon et mineur\ncorrection sur niveau max sort squelettique","https://www.fichier-xls.fr/2016/06/07/coc-calculator-v8-03-vierge/"]
["V8.01",42528,{"$f":"\"coc-calculator-\" & CHANGELOG86[[#This Row],[Version]] & \".xlsm\"","v":"coc-calculator-V8.01.xlsm"},null,"-eiffel\nAjout de l'amélioration niveau 4 et correction coût du niveau 3 de l'usine de sorts noirs\ncorrections sur niveau max bébé dragon et mineur","https://www.fichier-xls.fr/2016/06/07/coc-calculator-v8-01-vierge/"]
["v8",42516,{"$f":"\"coc-calculator-\" & CHANGELOG86[[#This Row],[Version]] & \".xlsm\"","v":"coc-calculator-v8.xlsm"},null,"-Souris verte\nMise a jours\nAttention, les valeurs des nouvelles troupes et améliarations ne sont pas fiables…","https://www.fichier-xls.fr/2016/05/26/coc-calculator-v8-vierge/"]
["V7.02",42495,{"$f":"\"coc-calculator-\" & CHANGELOG86[[#This Row],[Version]] & \".xlsm\"","v":"coc-calculator-V7.02.xlsm"},null,"Mr Spock\n-Modification des temps suivant dernière mise a jour de supercell\n- modification du coût de production des boulistes","https://www.fichier-xls.fr/2016/05/05/coc-calcultator-v7-02-vierge/"]
["V7.01",42461,{"$f":"\"coc-calculator-\" & CHANGELOG86[[#This Row],[Version]] & \".xlsm\"","v":"coc-calculator-V7.01.xlsm"},null,"-Souris verte\nMise a jours\nCorrections diverses","https://www.fichier-xls.fr/2016/04/01/coc-calcultator-v7-01-vierge/"]
["V7",42455,{"$f":"\"coc-calculator-\" & CHANGELOG86[[#This Row],[Version]] & \".xlsm\"","v":"coc-calculator-V7.xlsm"},null,"-Souris verte\nNouveaux niveaux batiments et troupes\nNouvelle troupe","https://www.fichier-xls.fr/2016/03/26/coc-calcultator-v7-vierge/"]
["V6.07",42399,{"$f":"\"coc-calculator-\" & CHANGELOG86[[#This Row],[Version]] & \".xlsm\"","v":"coc-calculator-V6.07.xlsm"},null,"-Souris verte\nCorrections mineures suite a l'augmentation du niveau max de certains batiments et autres"]
["V6.04",42388,{"$f":"\"coc-calculator-\" & CHANGELOG86[[#This Row],[Version]] & \".xlsm\"","v":"coc-calculator-V6.04.xlsm"},null,"-Souris verte\nCorrections mineures suite a l'augmentation du niveau max de certains batiments et autres"]
["V6.03",42379,{"$f":"\"coc-calculator-\" & CHANGELOG86[[#This Row],[Version]] & \".xlsm\"","v":"coc-calculator-V6.03.xlsm"},null,"-Franck51-\nModification de l'onglet planning\nCertaine données ne pointées pas sur les bon tableaux comme la tour d'archer et la foreuse d'élixir noir.","http://www.cjoint.com/c/FAksLbvTKcE"]
["V6.02",42362,{"$f":"\"coc-calculator-\" & CHANGELOG86[[#This Row],[Version]] & \".xlsm\"","v":"coc-calculator-V6.02.xlsm"},null,"-Souris verte\nMise a jour des valeurs d'amélioration\nModification de la macro de création du planning (rduction d'1/3 du temps d'execution).","http://www.fichier-xls.fr/2015/12/24/coc-calcultator-v6-02-vierge/"]
["V6.01.01",42357,{"$f":"\"coc-calculator-\" & CHANGELOG86[[#This Row],[Version]] & \".xlsm\"","v":"coc-calculator-V6.01.01.xlsm"},null,"-Titounne\nOnglet planning : \n     - Remet le % à 0 en cas de supression de la date de début réel\n     - Prise en compte d'une 2nd teinte de noir dans le calcul du coût de la période pour l'EN\nCorrection de l'affichage des tautaux or,  elixir et  elixir noir de la page \"A faire - Récapitulatif\" pour Google Drive (Merci Akyrish)\nComposition et mode d'emplois (reprise de la 1ere page du sujet + résumé de Souris verte)\nCorrection du niveau max des barbare, archer, géant et gobelin pour HDV < 3","http://www.fichier-xls.fr/2015/12/19/coc-calcultator-v6-01-01-vierge/"]
["V6.01",42350,{"$f":"\"coc-calculator-\" & CHANGELOG86[[#This Row],[Version]] & \".xlsm\"","v":"coc-calculator-V6.01.xlsm"},null,"-Souris verte\nGrosse MAJ: HDV11, nouveau batiment et nouveau hero","http://www.fichier-xls.fr/2015/12/12/coc-calcultator-v6-01-vierge/"]
["V5.04",42342,{"$f":"\"coc-calculator-\" & CHANGELOG86[[#This Row],[Version]] & \".xlsm\"","v":"coc-calculator-V5.04.xlsm"},null,"-Souris verte\nCorrection de bugs divers…\nModification dans l'onglet Planning\nMerci, e1ff3l.","http://www.fichier-xls.fr/2015/12/04/coc-calcultator-v5-04-vierge/"]
["V5.03",42322,{"$f":"\"coc-calculator-\" & CHANGELOG86[[#This Row],[Version]] & \".xlsm\"","v":"coc-calculator-V5.03.xlsm"},null,"-Souris verte\nCorrection de bugs divers…\nMerci, choumex et e1ff3l.","http://www.fichier-xls.fr/2015/11/14/coc-calcultator-v5-03-vierge/"]
["V5.02",42299,{"$f":"\"coc-calculator-\" & CHANGELOG86[[#This Row],[Version]] & \".xlsm\"","v":"coc-calculator-V5.02.xlsm"},null,"-Souris verte\nCorrection de bugs divers…","http://www.fichier-xls.fr/2015/10/22/coc-calcultator-v5.02-vierge/"]
["V5.01",42266,{"$f":"\"coc-calculator-\" & CHANGELOG86[[#This Row],[Version]] & \".xlsm\"","v":"coc-calculator-V5.01.xlsm"},null,"-Souris verte\nEvolution sur à la mise à jour de septembre.\n25 remparts en plus, sort de foudre 7.\nMise a jours des coûts de sorts et developpements.","http://www.fichier-xls.fr/2015/09/19/coc-calcultator-v5.01-vierge/"]
["V5",42189,{"$f":"\"coc-calculator-\" & CHANGELOG86[[#This Row],[Version]] & \".xlsm\"","v":"coc-calculator-V5.xlsm"},null,"-Souris verte\nEvolution sur à la mise à jour du 01/07/15.Reste l'onget traduction\nquelques formules a la marge…"]
["V4.17.08",42175,{"$f":"\"coc-calculator-\" & CHANGELOG86[[#This Row],[Version]] & \".xlsm\"","v":"coc-calculator-V4.17.08.xlsm"},null,"-Souris verte\nCorrection de qq formules (Merci Coxwen, franck51, Leynae et krashs)\nCréation d'une nouvelle feuille pour la valeur du village (Proto suite au post de Extrapidou)"]
["V4.17.07",42167,{"$f":"\"coc-calculator-\" & CHANGELOG86[[#This Row],[Version]] & \".xlsm\"","v":"coc-calculator-V4.17.07.xlsm"},null,"-Souris verte :\nPrise en compte du cout de la recherche d'adversaire en attaque multijoueur."]
["V4.17.06",42160,{"$f":"\"coc-calculator-\" & CHANGELOG86[[#This Row],[Version]] & \".xlsm\"","v":"coc-calculator-V4.17.06.xlsm"},null,"-Souris verte :\nPrise en compte de l'Elixir Noir\nSimplification de la formule concernant la période"]
["V4.17.05",42160,{"$f":"\"coc-calculator-\" & CHANGELOG86[[#This Row],[Version]] & \".xlsm\"","v":"coc-calculator-V4.17.05.xlsm"},null,"-Souris verte :\nAjout de possibilité d'afficher le récapitulatif sans leshéros.\nCorrections mineure de formule.","http://www.fichier-xls.fr/2015/06/05/coc-calcultator-v4-17-05-vierge/"]
["V4.17.04",42154,{"$f":"\"coc-calculator-\" & CHANGELOG86[[#This Row],[Version]] & \".xlsm\"","v":"coc-calculator-V4.17.04.xlsm"},null,"-Souris verte :\nAjout de possibilité d'afficher le récapitulatif sans les remparts.\nAjout de possibilité d'afficher le récapitulatif sans l'hotel de ville.\n","http://www.fichier-xls.fr/2015/05/30/coc-calcultator-v4-17-04-vierge/"]
["V4.17.03",42138,{"$f":"\"coc-calculator-\" & CHANGELOG86[[#This Row],[Version]] & \".xlsm\"","v":"coc-calculator-V4.17.03.xlsm"},"-Souris verte :\nupdate formule sheet \"To do…\"\nChange production Dark Elixir\nUse trophee in gains on sheet \"Troops Training\"","-Souris verte :\nModification formule feuilles \"A faire…\"\nCorrection production Elixir noir\nUtilisation des trophées dans le calcul des gains dans la feuille \"Formation des troupes\"\nModification \"Planning\" pour prise en charge expulseur d'air\nSimplification de la mise en forme conditionnelle feuille \"paramètres\"\nCréation d'une feuille \"Rentabilité\"","http://www.fichier-xls.fr/2015/05/22/coc-calcultator-v4-17-03-vierge/"]
["V4.17.00",42124,{"$f":"\"coc-calculator-\" & CHANGELOG86[[#This Row],[Version]] & \".xlsm\"","v":"coc-calculator-V4.17.00.xlsm"},null,"Mise en place du souffleur d'air"]
["V4.16.00",41984,{"$f":"\"coc-calculator-\" & CHANGELOG86[[#This Row],[Version]] & \".xlsm\"","v":"coc-calculator-V4.16.00.xlsm"},null,"-Sednanref-\nAjout coût de formation pour :\n- Sort de saut 3\n- Sort de gel 5\n- Guerrier 7\n- Archer 7\n- Gobelin 6\n- Lava Hound 1/2/3\n\n+ Mise à jour suite Update du 11/12/2014"]
["V4.15.00",41977,{"$f":"\"coc-calculator-\" & CHANGELOG86[[#This Row],[Version]] & \".xlsm\"","v":"coc-calculator-V4.15.00.xlsm"},null,"-Sednanref-\nAjout de piège à ressort et tête chercheuse dans les onglets A Faire - Recap et A Faire - Détails"]
["V4.14",41974,{"$f":"\"coc-calculator-\" & CHANGELOG86[[#This Row],[Version]] & \".xlsm\"","v":"coc-calculator-V4.14.xlsm"},null,"-Franck51-\nCorrection dans l'onglet a-faire detail des tableaux pour les unités et les sorts qui avaient un décalage dans les calculs suite au ajout des derniers niveau qui n'étaient pas pris en compte"]
["V4.13,09",41974,{"$f":"\"coc-calculator-\" & CHANGELOG86[[#This Row],[Version]] & \".xlsm\"","v":"coc-calculator-V4.13,09.xlsm"}]
["V4.13,07",41973,{"$f":"\"coc-calculator-\" & CHANGELOG86[[#This Row],[Version]] & \".xlsm\"","v":"coc-calculator-V4.13,07.xlsm"},null,"-Franck51-\nCorrection dans l'onglet a-faire detail des tableaux pour les unités et les sorts qui ne prenait en compte que l'amelioration de HDV et non du labo"]
["V4.13,06",41972,{"$f":"\"coc-calculator-\" & CHANGELOG86[[#This Row],[Version]] & \".xlsm\"","v":"coc-calculator-V4.13,06.xlsm"},null,"-Franck51-\nCorrection dans l'onglet a-faire detail des tableaux pour les bombes géantes et les pieges Squelettiques"]
["V4.13,05",41971,{"$f":"\"coc-calculator-\" & CHANGELOG86[[#This Row],[Version]] & \".xlsm\"","v":"coc-calculator-V4.13,05.xlsm"},null,"-Sednanref-\nModification de la macro de traduction pour recherche automatique de la cellule \"langue ou language\" de traduction"]
["V4.13,04",41969,{"$f":"\"coc-calculator-\" & CHANGELOG86[[#This Row],[Version]] & \".xlsm\"","v":"coc-calculator-V4.13,04.xlsm"},null,"-Sednanref-\nCorrection de l'onglet a-faire avec le tableau des sorciers qui ne s'activait pas"]
["V4.13,03",41968,{"$f":"\"coc-calculator-\" & CHANGELOG86[[#This Row],[Version]] & \".xlsm\"","v":"coc-calculator-V4.13,03.xlsm"},null,"-Franck51-\nCorrection :\n1 - En hdv 10, message d'erreur dans l'onglet A faire pour les pekka niveau 4, idem pour les ballons niv 6 et les sorciers niv 5 .\n2 - Pour les cochons , ilqui au max dans l'onglet parametre devaient être amélioré dans l'onglet A faire,\nModification :\nde la macro, Lors de la création du planning j'ai modifié la macro VBA de création pour que l'on puisses intégrer des nouvelles colonne dans l'onglet parametre (pour de nouvelles unités) et que de façon automatique la macro détecte la derniere cellule non vide."]
["V4.13,02",41966,{"$f":"\"coc-calculator-\" & CHANGELOG86[[#This Row],[Version]] & \".xlsm\"","v":"coc-calculator-V4.13,02.xlsm"},null,"-Franck51-\nModification de l'onglet à faire-Détails tableau pour les ballons avec l'affichage du niv 6 et calcul des sommes à avoir"]
["V4.13,01",41966,{"$f":"\"coc-calculator-\" & CHANGELOG86[[#This Row],[Version]] & \".xlsm\"","v":"coc-calculator-V4.13,01.xlsm"},null,"-Franck51-\nModification de l'onglet à faire-Détails avec ajout des niveau supplémentaire suite à mise à jour"]
["V4.13",41965,{"$f":"\"coc-calculator-\" & CHANGELOG86[[#This Row],[Version]] & \".xlsm\"","v":"coc-calculator-V4.13.xlsm"},null,"-Franck51-\nmodification de l'onglet parametre pour la gestion des unités et des sorts par rapport a l'existance des casernes et usine de sort et liaison des niveau par rapport au niveaux du labo"]
["V4.12",41960,{"$f":"\"coc-calculator-\" & CHANGELOG86[[#This Row],[Version]] & \".xlsm\"","v":"coc-calculator-V4.12.xlsm"},"-Yezazell-\nupgrade spell healing ","-Yezazell-\nMise à jour des sorts de soins  "]
["V4.11,01",41958,{"$f":"\"coc-calculator-\" & CHANGELOG86[[#This Row],[Version]] & \".xlsm\"","v":"coc-calculator-V4.11,01.xlsm"},"- Franck51 - \nRemise en route du module traduction","- Franck51 - \nRemise en route du module traduction"]
["V4.11",41958,{"$f":"\"coc-calculator-\" & CHANGELOG86[[#This Row],[Version]] & \".xlsm\"","v":"coc-calculator-V4.11.xlsm"},"- Franck51 - \nAjout dans l'onglet a faire - détails des molosse de lave\nAjout aussi dans l'onglet a faire recapitulatif\nchangement de l'ordre de la sorciere et molosse de lave dans l'onglet parametre","- Franck51 - \nAjout dans l'onglet a faire - détails des molosse de lave\nAjout aussi dans l'onglet a faire recapitulatif\nchangement de l'ordre de la sorciere et molosse de lave dans l'onglet parametre"]
["V4.09.01",41956,{"$f":"\"coc-calculator-\" & CHANGELOG86[[#This Row],[Version]] & \".xlsm\"","v":"coc-calculator-V4.09.01.xlsm"},"- Yezazell - \nCorrection mineur sur les formules de l'onglet \"Paramètres\", le problème venait de l'onglet batiment ou il manquait une colonne HDV","- Yezazell - \nCorrection mineur sur les formules de l'onglet \"Paramètres\", le problème venait de l'onglet batiment ou il manquait une colonne HDV"]
["V4.07.02",41954,{"$f":"\"coc-calculator-\" & CHANGELOG86[[#This Row],[Version]] & \".xlsm\"","v":"coc-calculator-V4.07.02.xlsm"},"Ajout :\n- Bombe Aérienne \n- Piège Squelletique\nDans les onglets : A faire - Détail & A faire - Récapitulatif \nCorrection divers de formules","Ajout :\n- Bombe Aérienne \n- Piège Squelletique\nDans les onglets : A faire - Détail & A faire - Récapitulatif \nCorrection divers de formules"]
["V4.07.01",41953,{"$f":"\"coc-calculator-\" & CHANGELOG86[[#This Row],[Version]] & \".xlsm\"","v":"coc-calculator-V4.07.01.xlsm"},"Ajout :\n- Ajout dans \"A Faire - Détails \" & \"A Faire - Récupitulatif\" des \"Bombe Géante\"\n- Mofication des formules pour les calcules de temps ","Ajout :\n- Ajout dans \"A Faire - Détails \" & \"A Faire - Récupitulatif\" des \"Bombe Géante\"\n- Mofication des formules pour les calcules de temps "]
["V4.07",41953,{"$f":"\"coc-calculator-\" & CHANGELOG86[[#This Row],[Version]] & \".xlsm\"","v":"coc-calculator-V4.07.xlsm"},"Ajout :\n- Modification des temps de construction des bombes\n- Ajout dans \"A Faire - Détails\" de la gestion des bombes\n- Ajout dans \"A faire - Récapitualitif \" de la gestion des bombes\n- Corrections sur les formules ","Ajout :\n- Modification des temps de construction des bombes\n- Ajout dans \"A Faire - Détails\" de la gestion des bombes\n- Ajout dans \"A faire - Récapitualitif \" de la gestion des bombes\n- Corrections sur les formules "]
["v4.06",41952,{"$f":"\"coc-calculator-\" & CHANGELOG86[[#This Row],[Version]] & \".xlsm\"","v":"coc-calculator-v4.06.xlsm"},"- Correctif sur :\n- Modification du niveau du sort de guerisson pour aparaitre avec HDV niveau 6\n- et la caserne noire est disponible au niveau 6 dès l'hôtel de ville niveau 9","- Correctif sur :\n- Modification du niveau du sort de guerisson pour aparaitre avec HDV niveau 6\n- et la caserne noire est disponible au niveau 6 dès l'hôtel de ville niveau 9"]
["v4.05",41950,{"$f":"\"coc-calculator-\" & CHANGELOG86[[#This Row],[Version]] & \".xlsm\"","v":"coc-calculator-v4.05.xlsm"},"- Correctif sur :\n- Onglet planning qui ajoutais un ouvrier pour les amelioration des sort ou des unités noirs","- Correctif sur :\n- Onglet planning qui ajoutais un ouvrier pour les amelioration des sort ou des unités noirs"]
["v4.04",41949,{"$f":"\"coc-calculator-\" & CHANGELOG86[[#This Row],[Version]] & \".xlsm\"","v":"coc-calculator-v4.04.xlsm"},"- Correctif sur :\n- d'une erreur dans les formules de l'onglet planning inversion entre les golems et les molosse de lave","- Correctif sur :\n- d'une erreur dans les formules de l'onglet planning inversion entre les golems et les molosse de lave"]
["v4.03",41949,{"$f":"\"coc-calculator-\" & CHANGELOG86[[#This Row],[Version]] & \".xlsm\"","v":"coc-calculator-v4.03.xlsm"},"- Correctif sur :\n- Ajout de la nouvelle untité des molosses de lave\n- Correction dans l'onglet : \"À Faire - Détails\" , la formule de la cellulle B148 est fausse on pointe plus au bonne endroit","- Correctif sur :\n- Ajout de la nouvelle untité des molosses de lave\n- Correction dans l'onglet : \"À Faire - Détails\" , la formule de la cellulle B148 est fausse on pointe plus au bonne endroit"]
["v4.02",41942,{"$f":"\"coc-calculator-\" & CHANGELOG86[[#This Row],[Version]] & \".xlsm\"","v":"coc-calculator-v4.02.xlsm"},"- Correctif sur :\n- Les TDA n'affichent que 12 lvl alors qu'il y en a maintenant 13\n- Les Barbares et Archers ont maintenant 7 lvl et non plus 6 comme l'indique le tableau\n- Le PEKKA peut maintenant être up au lvl 5 et non plus seulement 4, \n- Les Teslas peuvent etre up jusqu'au lvl 8 et non plus seulement 7, \n- Le sort de saut à maintenant 3 lvl et non plus seulement 2, ","- Correctif sur :\n- Les TDA n'affichent que 12 lvl alors qu'il y en a maintenant 13\n- Les Barbares et Archers ont maintenant 7 lvl et non plus 6 comme l'indique le tableau\n- Le PEKKA peut maintenant être up au lvl 5 et non plus seulement 4, \n- Les Teslas peuvent etre up jusqu'au lvl 8 et non plus seulement 7, \n- Le sort de saut à maintenant 3 lvl et non plus seulement 2, "]
["v4.01",41940,{"$f":"\"coc-calculator-\" & CHANGELOG86[[#This Row],[Version]] & \".xlsm\"","v":"coc-calculator-v4.01.xlsm"},"- Correction des niveau des bombes et des bombes géantes","- Correction des niveau des bombes et des bombes géantes"]
["v4.00",41940,{"$f":"\"coc-calculator-\" & CHANGELOG86[[#This Row],[Version]] & \".xlsm\"","v":"coc-calculator-v4.00.xlsm"},"-Add different Trap in the sheet\nPiège à ressort \nTête chercheuse  \nBombe géante  \nBombe aérienne \npour integration dans l'onglet planning\nPiège squelettique","- Ajout des pièges dans l'onglet paramétre - Batiment - Amélioration et couts des améliorations\nPiège à ressort \nTête chercheuse  \nBombe géante  \nBombe aérienne \npour integration dans l'onglet planning\nPiège squelettique"]
["v2.00",41514,{"$f":"\"coc-calculator-\" & CHANGELOG86[[#This Row],[Version]] & \".xlsm\"","v":"coc-calculator-v2.00.xlsm"},"- Updates following the maintenance of 2013-08-28\n- Adding the total of troops in \"Troups training\" tab\n- Fixing the required level for the \"Healing Spell\"\n- Fixing the totals formulas of \"Army Buildings\"  in \"TO DO - Summary\" tab\n- Fixing formulas for \"Wall Breaker\" and \"Dark Barracks\" in \"TO DO - Details\" tab","- Mises à jour suite à la maintenance du 28/08/2013\n- Ajout du total de troupes dans l'onglet \"Formation de Troupes\"\n- Correction du level nécessaire pour le \"Sort de Guérison\"\n- Correction de formules des totaux \"Batiments d'Armée\" dans l'onglet \"À Faire - Récapitulatif\"\n- Correction des formules pour le \"Sapeur\" et les \"Casernes Noires\" dans l'onglet \"À Faire - Détails\""]
["v1.91",41502,{"$f":"\"coc-calculator-\" & CHANGELOG86[[#This Row],[Version]] & \".xlsm\"","v":"coc-calculator-v1.91.xlsm"},"- Small fixes\n    - TH Level was incorrect in \"Planning\" and \"Raiding - Loots\" tabs\n    - Fixed the level of dark barracks in \"Troops Training\" tab\n    - Forgot a formula in the \"Parameters\" tab for the Witch\n- Changing the VBA code - No more checking on the filename","- Petites corrections\n   - Niveau de HdV ne correspondait pas dans les onglets \"Planning\" et \"Combats - Loots\"\n   - Correction du niveau des casernes noires dans l'onglet \"Formation de Troupes\"\n   - Oubli d'une formule dans l'onglet \"Paramètres\" pour la Sorcière\n- Modification du code VBA - Plus de vérification sur le nom du fichier"]
["v1.90",41498,{"$f":"\"coc-calculator-\" & CHANGELOG86[[#This Row],[Version]] & \".xlsm\"","v":"coc-calculator-v1.90.xlsm"},"- Updates following the maintenance of 2013-07-29\n- Switching host file uploader","- Mises à jour suite à la maintenance du 29/07/2013\n- Changement de l'hébergeur des fichiers"]
["v1.82",41481,{"$f":"\"coc-calculator-\" & CHANGELOG86[[#This Row],[Version]] & \".xlsm\"","v":"coc-calculator-v1.82.xlsm"},"- Renaming the file so the VBA code can works\n- Fixing the translation for the \"Barracks\"\n- Fixing the calculation for the \"Walls\" in the \"TO DO - Details\" tab. Forgot some formulas","- Modification du nom de fichier pour que les macros VBA fonctionnent\n- Correction de la traduction pour les \"Casernes\"\n- Correction du calcul des \"Remparts\" dans l'onglet \"À Faire - Détails\". Oubli de formules"]
["v1.81",41479,{"$f":"\"coc-calculator-\" & CHANGELOG86[[#This Row],[Version]] & \".xlsm\"","v":"coc-calculator-v1.81.xlsm"},"- Fixing the translation for \"Town Hall\"\n- Automatic refresh when selecting the \"Period Highlight\" on the \"Planning\" tab\n- Freezing panes on the \"Planning\" tab","- Correction de la traduction pour \"Hôtel de Ville\"\n- Rafraichissement automatique lorsqu'on choisit la période sélectionnée dans l'onglet \"Planning\"\n- Figeage des volets dans l'onglet \"Planning\""]
["v1.80",41479,{"$f":"\"coc-calculator-\" & CHANGELOG86[[#This Row],[Version]] & \".xlsm\"","v":"coc-calculator-v1.80.xlsm"},"Adding the \"Planning\" tab to know the constuctions/upgrades futures","- Ajout de l'onglet \"Planning\" pour prévoir les futures constructions/améliorations."]
["v1.71",41471,{"$f":"\"coc-calculator-\" & CHANGELOG86[[#This Row],[Version]] & \".xlsm\"","v":"coc-calculator-v1.71.xlsm"},"- Conditionnal formatting on \"Parameters\" tab to know which ameliorations are left/unavailable\n- Fixing the translation for \"Inferno Tower\"\n- Fixing the representative color for \"Hidden Tesla\" in the \"TO DO - Details\" tab\n- Fixing the total cost with the adding of the \"P.E.K.K.A\" line o=in the \"Trainings Troops\" tab\n- Editing the \"Elixir\" color","- Mise en forme conditionnelle dans l'onglet \"Paramètres\" pour savoir les améliorations restantes/indisponibles\n- Correction de la traduction pour \"Tour de l'Enfer\"\n- Correction de la couleur représentative du coût de \"Tesla Camouflée\" dans l'onglet \"À Faire - Détails\"\n- Correction du calcul total avec l'ajout de la ligne des \"P.E.K.K.A\" dans l'onglet \"Formation de Troupes\" \n- Modification de la couleur de l'Élixir"]
["v1.70",41467,{"$f":"\"coc-calculator-\" & CHANGELOG86[[#This Row],[Version]] & \".xlsm\"","v":"coc-calculator-v1.70.xlsm"},"- Adding the language selection in the \"Parameters\" tab - French translation\n- Adding the feature which allow to see profits regarding the training costs and the raiding wins on the \"Training Troops\" tab\n- Rights' restriction on the file's sheets - unable to click on the protected cells\n- Values seizure restriction on cells\n- Small graphic changes","- Ajout du choix de la langue dans l'onglet \"Paramètres\" - traduction en français\n- Ajout de la fonctionnalité permettant de voir les profits en fonction des coûts de formation et des gains de combat dans l'onglet \"Formation de Troupes\"\n- Restriction des droits sur les feuilles du fichier - impossibilité de cliquer sur les cellules protégées\n- Restriction des valeurs saisissables dans les cellules\n- Changements graphiques mineurs"]
["v1.61",41464,{"$f":"\"coc-calculator-\" & CHANGELOG86[[#This Row],[Version]] & \".xlsm\"","v":"coc-calculator-v1.61.xlsm"},"- Adding the Date in the \"ChangeLog\" tab\n- Fixing bug with conditional formatting on \"Troops Training\" tab","- Ajout de la date dans l'onglet \"Journal des Modifications\"\n- Correction d'un bug de formatage conditionnel sur l'onglet \"Formation de Troupes\""]
["v1.60",41463,{"$f":"\"coc-calculator-\" & CHANGELOG86[[#This Row],[Version]] & \".xlsm\"","v":"coc-calculator-v1.60.xlsm"},"- Adding the \"Troops Training\" tab: It helps to know training possibilities regarding the Barracks/Laboratory level and the total costs\n- Renaming the \"Leagues\" tab to \"Trophies\"\n- Renaming the \"Costs\" tab to \"Upgrades Costs\"\n- Conditional formatting on \"Production\" tab\n- Conditional formatting changes on \"Raidings Loots\" tab\n- Fixing Freeze Spell upgrade Costs/Time\n- Fixing TH LVL required for Spells Upgrades","- Ajout de l'onglet \"Formation de Troupes\" : cela permet de connaître les possibilités de formation par rapport aux levels des Casernes/Laboratoire ainsi que les coûts totaux\n- Renommage de l'onglet \"Ligues\" par \"Trophées\"\n- Renommage de l'onglet \"Coûts\" par \"Coûts des Améliorations\"\n- Formatage conditionnel sur l'onglet \"Production\"\n- Modifications sur le formatage conditionnel sur l'onglet \"Combats - Loots\"\n- Correction des Coûts/Temps des améliorations du Sort de Gel\n- Correction du LVL HdV nécessaire pour les améliorations de Sorts"]
["v1.50",41457,{"$f":"\"coc-calculator-\" & CHANGELOG86[[#This Row],[Version]] & \".xlsm\"","v":"coc-calculator-v1.50.xlsm"},"- Adding the \"Production\" tab: It helps to know how many resources can be won in a specific time\n- Adding the \"Raiding Loots\" tab: It helps to know the possible earnings or losses in Multiplayer Raiding\n- Small graphic changes\n- Renaming previous file versions\n- Renaming file","- Ajout de l'onglet \"Production\" : cela permet de connaître combien de ressources peuvent être gagnées dans un temps imparti\n- Ajout de l'onglet \"Combats - Loots\" : cela permet de connaître les gains ou pertes possibles dans les combats multi-joueurs\n- Changements graphiques mineurs\n- Renommage des anciennes versions du fichier\n- Renommage du fichier"]
["v1.41 - FR",41452,{"$f":"\"coc-calculator-\" & CHANGELOG86[[#This Row],[Version]] & \".xlsm\"","v":"coc-calculator-v1.41 - FR.xlsm"},"- French version of 1.41 file","- Version française du fichier 1.41"]
["v1.41",41452,{"$f":"\"coc-calculator-\" & CHANGELOG86[[#This Row],[Version]] & \".xlsm\"","v":"coc-calculator-v1.41.xlsm"},"- Fixing the summary cost view for Golem upgrade\n- Fixing the summary time view for Troops/Spells upgrades\n- Editing the cell format for numbers","- Correction de la vue récapitulative pour l'amélioration de Golem\n- Correction de la vue récapitulative pour les améliorations de Troupes/Sorts\n- Modification du format de cellule pour les nombres"]
["v1.40",41452,{"$f":"\"coc-calculator-\" & CHANGELOG86[[#This Row],[Version]] & \".xlsm\"","v":"coc-calculator-v1.40.xlsm"},"- Separation of summary and details sections\n     - Adding the tab \"TO DO - Summary\"\n     - Renaming the tab \"TO DO\" to \"TO DO - Details\"\n- The times can now be displayed by seconds/minutes/hours/days/months/days hours minutes\" by selecting the choice in B2 cell (\"TO DO - Summary\" tab)\n- Hiding the grid in the tabs\n- Allowing permission to change the cell format / use filters / sort even if the tab is locked","- Séparation des sections récapitulatif et détails\n   - Ajout de l'onglet \"À Faire - Récapitulatif\"\n   - Renommage de l'onglet \"À Faire\" par \"À Faire - Détails\"\n- Les temps peuvent désormais être affichés en secondes/minutes/heures/jours/mois/jours heures minutes en sélectionnant le choix dans la cellule B2 (onglet \"À Faire - Récapitulatif\")\n- Masquage du quadrillage dans les onglets\n- Autorisation de modifier le format de cellule / utiliser des filtres / trier même si l'onglet est verrouillé"]
["v1.31",41451,{"$f":"\"coc-calculator-\" & CHANGELOG86[[#This Row],[Version]] & \".xlsm\"","v":"coc-calculator-v1.31.xlsm"},"- Updating available Buildings, following the maintenance of 2013/06/24\n     For TH LVL 10:\n        - 1 more Gold Mine\n        - 1 more Elixir Collector","- Mise à jour des Bâtiments disponibles, suite à la maintenance du 24/06/2013\n    Pour LVL HdV 10 :\n     - 1 Mine d'Or supplémentaire\n     - 1 Extracteur d'Élixir supplémentaire"]
["v1.30",41450,{"$f":"\"coc-calculator-\" & CHANGELOG86[[#This Row],[Version]] & \".xlsm\"","v":"coc-calculator-v1.30.xlsm"},"- Changes on the \"Parameters\" tab. \n     - Summary table of all Buildings and Spells/Normal Troops/Dark Troops Upgrades. \n      - All user data has to be written in this tab and now the \"TO DO\" tab only display results\n     - Adding indications to use the Excel file","- Changements sur l'onglet \"Paramètres\"\n   - Tableau récapitulatif de tous les améliorations de Bâtiments et Sorts/Troupes Normales/Troupes Noires\n    - Toutes les données utilisateurs doivent désormais être saisies dans cet onglet et l'onglet \"À faire\" n'affiche que les résultats\n    - Ajout d'indications pour utiliser le fichier Excel"]
["v1.23",41450,{"$f":"\"coc-calculator-\" & CHANGELOG86[[#This Row],[Version]] & \".xlsm\"","v":"coc-calculator-v1.23.xlsm"},"- Adding the \"ChangeLog\" tab","- Ajout de l'onglet \"Journal des Modifications\""]
["v1.22",41449,{"$f":"\"coc-calculator-\" & CHANGELOG86[[#This Row],[Version]] & \".xlsm\"","v":"coc-calculator-v1.22.xlsm"},"- Fixed Elixir Storage & Gold Storage costs","- Correction des coûts de Réserve d'Or et Réserve d'Élixir"]
["v1.21",41446,{"$f":"\"coc-calculator-\" & CHANGELOG86[[#This Row],[Version]] & \".xlsm\"","v":"coc-calculator-v1.21.xlsm"},"- Summary graphic changes on \"TO DO\" tab\n- Displaying the time remaining in days rather than hours\n- Locking formulas cells","- Changements graphiques sur le récapitulatif sur l'onglet \"À Faire\"\n- Affichage du temps restant en jours plutôt qu'en heures\n- Verrouillage des cellules de formules"]
["v1.20",41445,{"$f":"\"coc-calculator-\" & CHANGELOG86[[#This Row],[Version]] & \".xlsm\"","v":"coc-calculator-v1.20.xlsm"},"- Removing the tab \"TO DO - By TH LVL\"\n- Renaming the tab \"TO DO - By Current \" to \"TO DO\"\n- Conditional Formatting on \"TO DO\" tab","- Suppression de l'onglet \"À faire - Par LVL HdV\"\n- Renommage de l'onglet \"À faire - Actuellement\" par \"À faire\"\n- Mise en forme conditionnelle sur l'onglet \"À faire\""]
["v1.10",41444,{"$f":"\"coc-calculator-\" & CHANGELOG86[[#This Row],[Version]] & \".xlsm\"","v":"coc-calculator-v1.10.xlsm"},"- Displaying buildings by category on one tab\n- Summary graphic changes on \"TO DO - Current\" tab\n- Adding a graphic \"Required Resources\"","- Affichage des Bâtiments par catégorie sur un seul onglet\n- Changements graphiques sur le récapitulatif dans l'onglet \"À faire - Actuellement\"\n- Ajout d'un graphique \"Ressources Nécessaires\""]
["v1.01",41443,{"$f":"\"coc-calculator-\" & CHANGELOG86[[#This Row],[Version]] & \".xlsm\"","v":"coc-calculator-v1.01.xlsm"},"- Updating Spells Costs/Time","- Mise à jour des Coûts/Temps des Sorts"]
["v1.00",41443,{"$f":"\"coc-calculator-\" & CHANGELOG86[[#This Row],[Version]] & \".xlsm\"","v":"coc-calculator-v1.00.xlsm"},"- Initial version","- Version initiale"]
["V.4.9",41955,{"$f":"\"coc-calculator-\" & CHANGELOG86[[#This Row],[Version]] & \".xlsm\"","v":"coc-calculator-V.4.9.xlsm"},"- Yezazell - \nAjout : \n- Molosse de lave onglet : Formation de troupes\n- Ajout gestion Caserne Noir Lvl 6\n- Modifications mise en forme conditionnelle…","- Yezazell - \nAjout : \n- Molosse de lave onglet : Formation de troupes\n- Ajout gestion Caserne Noir Lvl 6\n- Modifications mise en forme conditionnelle…"]
["V.4.8",41955,{"$f":"\"coc-calculator-\" & CHANGELOG86[[#This Row],[Version]] & \".xlsm\"","v":"coc-calculator-V.4.8.xlsm"},"- Yezazell - \nModification :\n - Séparation des pièges défensifset des batiments défensifs\n - Modification de toutes les formules en respectant l'éxistant","- Yezazell - \nModification :\n - Séparation des pièges défensifset des batiments défensifs\n - Modification de toutes les formules en respectant l'éxistant"]