{"text_format":"1","workbook":"xlsx","n_sheets":5,"sheets":["SimulCalculBonus","simulCombat","simulPonte","InfoUnité","InfoAlliAdverse"],"not_rendered":{"charts":0,"images":4,"macros":1,"external_links":0,"defined_names":0,"comments":0,"pivot_tables":0},"unopened":[],"bounds":{"document_bytes":16777216,"sheet_cells":100000,"rows_first":2000,"rows_last":500,"rows_between":2000,"halvings":0,"cell_chars":16384,"cell_head_chars":4096},"cells_cut":0,"cells_raw":0,"read":"whole","date_system":"1900"}

{"sheet":"SimulCalculBonus","index":0,"n_rows":12,"n_cols":14,"rows_kept":12,"cut":false,"hidden":false,"merged":[[9,9,9,10],[0,0,1,10],[3,0,3,1],[3,3,3,4],[3,6,3,7],[3,9,3,10],[3,12,3,13],[8,0,8,1],[7,3,7,4],[7,6,7,7],[8,9,8,10],[8,6,8,7]]}
["Calcul des bonus de l'adversaire"]
[]
[]
["Calcul Niv. Bonus Vie",null,null,"Calcul Niv. Mandibule",null,null,"Calcul Vie d'armée",null,null,"Calcul TDP adversaire",null,null,"Calcul TDP adversaire"]
["Dommage Reçu",17000,null,"FDF SB",1020000,null,"VIE SB",1020000,null,"Nb. Troupe pondu",null,null,"Nb. Troupe pondu"]
["Nb Troupe Mort",1300,null,"FDF B",2040000,null,"VIE B",2040000,null,"Type troupe","Maître esclave",null,"Type troupe","Maître esclave"]
["Type troupe","Esclave",null,"Niv. Mandibule",20,null,"Vie total (Dôme/Loge)",3060000,null,"Temps entre Rc",6.9444444444444441E-3,null,"Temps entre Rc",6.9444444444444441E-3]
["Bonus vie",9,null,"Calculer",null,null,"Calculer",null,null,"TDP adversaire",null,null,"TDP adversaire"]
["Calculer",null,null,"Niv. Carapace",{"$f":"IF(E7=\"Esclave\",(E8-InfoUnité!B3),IF(E7=\"Maître esclave\",(E8-InfoUnité!C3),IF(E7=\"Jeune soldate\",(E8-InfoUnité!D3),IF(E7=\"Soldate\",(E8-InfoUnité!E3),IF(E7=\"Soldate d'élite\",(E8-InfoUnité!F3),IF(E7=\"Gardienne\",(E8-InfoUnité!G3),IF(E7=\"Gardienne d'élite\",(E8-InfoUnité!H3),IF(E7=\"Tirailleuse\",(E8-InfoUnité!I3),IF(E7=\"Tirailleuse d'élite\",(E8-InfoUnité!J3),IF(E7=\"Jeune légionnaire\",(E8-InfoUnité!K3),IF(E7=\"Légionnaire\",(E8-InfoUnité!L3),IF(E7=\"Tank\",(E8-InfoUnité!M3),IF(E7=\"Tank d'élite\",(E8-InfoUnité!N3),IF(E7=\"Commandante\",(E8-InfoUnité!O3),IF(E7=\"Championne\",(E8-InfoUnité!P3),IF(E7=\"Chasseuse\",(E8-InfoUnité!Q3),IF(E7=\"Enigma\",(E8-InfoUnité!R3),)))))))))))))))))","v":0},null,"Calcul Vie d'armée",null,null,"Calculer"]
[null,null,null,"Niv. Carapace",{"$f":"IF(E7=\"Esclave\",(E9/InfoUnité!B4),IF(E7=\"Maître esclave\",(E9/InfoUnité!C4),IF(E7=\"Jeune soldate\",(E9/InfoUnité!D4),IF(E7=\"Soldate\",(E9/InfoUnité!E4),IF(E7=\"Soldate d'élite\",(E9/InfoUnité!F4),IF(E7=\"Gardienne\",(E9/InfoUnité!G4),IF(E7=\"Gardienne d'élite\",(E9/InfoUnité!H4),IF(E7=\"Tirailleuse\",(E9/InfoUnité!I4),IF(E7=\"Tirailleuse d'élite\",(E9/InfoUnité!J4),IF(E7=\"Jeune légionnaire\",(E9/InfoUnité!K4),IF(E7=\"Légionnaire\",(E9/InfoUnité!L4),IF(E7=\"Tank\",(E9/InfoUnité!M4),IF(E7=\"Tank d'élite\",(E9/InfoUnité!N4),IF(E7=\"Commandante\",(E9/InfoUnité!O4),IF(E7=\"Championne\",(E9/InfoUnité!P4),IF(E7=\"Chasseuse\",(E9/InfoUnité!Q4),IF(E7=\"Enigma\",(E9/InfoUnité!R4),)))))))))))))))))","v":0},null,"VIE SB",{"$f":"simulCombat!J42","v":0}]
[null,null,null,"Niv. Carapace",{"$f":"IF(ISBLANK(E10),\" \",(E10*10))","v":0},null,"VIE B"]
[null,null,null,null,null,null,"Vie total (Dôme/Loge)",{"$f":"H11+H10","v":0}]

{"sheet":"simulCombat","index":1,"n_rows":54,"n_cols":18,"rows_kept":54,"cut":false,"hidden":false,"merged":[[5,6,5,7],[5,11,5,12],[0,0,3,17],[44,0,44,1],[24,0,24,17],[34,6,34,7],[34,11,34,12],[14,0,14,17]]}
["Simulateur de combat pour le jeu Nature At War"]
[]
[]
[]
[]
[null,null,null,null,null,null,"Infos. Attaquant",null,null,null,null,"Infos. Défenseur"]
[null,null,null,null,null,null,"Niv. Mandibule",12,null,null,null,"Niv. Mandibule",{"$f":"SimulCalculBonus!E7","v":20}]
[null,null,null,null,null,null,"Niv. Carapace",11,null,null,null,"Niv. Carapace",20]
[null,null,null,null,null,null,"Ni. Salle d'entraî.",null,null,null,null,"Niv. Salle d'entraî."]
[null,null,null,null,null,null,"Type d'alli",null,null,null,null,"Type d'alli"]
[null,null,null,null,null,null,"Espèce",null,null,null,null,"Espèce"]
[null,null,null,null,null,null,null,null,null,null,null,"Emplacement","Terrain"]
[null,null,null,null,null,null,null,null,null,null,null,"Niv. Emplacement"]
[]
["   Armée de l'attaquant"]
[null,"Esclave","Maitre Esclave","Jeune Soldate","Soldate","Soldate d'élite","Gardienne","Gardienne d'élite","Tirailleuse","Tirailleuse d'élite","Jeune légionnaire","Légionnaire","Tank","Tank d'élite","Commandante","Championne","Chasseuse","Enigma"]
["Nb. Troupe"]
["VIE SB",{"$f":"IF(ISBLANK(B17),\" \",B17*InfoUnité!B3)","v":" "},{"$f":"IF(ISBLANK(C17),\" \",C17*InfoUnité!C3)","v":" "},{"$f":"IF(ISBLANK(D17),\" \",D17*InfoUnité!D3)","v":" "},{"$f":"IF(ISBLANK(E17),\" \",E17*InfoUnité!E3)","v":" "},{"$f":"IF(ISBLANK(F17),\" \",F17*InfoUnité!F3)","v":" "},{"$f":"IF(ISBLANK(G17),\" \",G17*InfoUnité!G3)","v":" "},{"$f":"IF(ISBLANK(H17),\" \",H17*InfoUnité!H3)","v":" "},{"$f":"IF(ISBLANK(I17),\" \",I17*InfoUnité!I3)","v":" "},{"$f":"IF(ISBLANK(J17),\" \",J17*InfoUnité!J3)","v":" "},{"$f":"IF(ISBLANK(K17),\" \",K17*InfoUnité!K3)","v":" "},{"$f":"IF(ISBLANK(L17),\" \",L17*InfoUnité!L3)","v":" "},{"$f":"IF(ISBLANK(M17),\" \",M17*InfoUnité!M3)","v":" "},{"$f":"IF(ISBLANK(N17),\" \",N17*InfoUnité!N3)","v":" "},{"$f":"IF(ISBLANK(O17),\" \",O17*InfoUnité!O3)","v":" "},{"$f":"IF(ISBLANK(P17),\" \",P17*InfoUnité!P3)","v":" "},{"$f":"IF(ISBLANK(Q17),\" \",Q17*InfoUnité!Q3)","v":" "},{"$f":"IF(ISBLANK(R17),\" \",R17*InfoUnité!R3)","v":" "}]
["VIE AB",{"$f":"IF(ISBLANK(B17),\" \",(B17*InfoUnité!$B3)*(1+($H$8/10)))","v":" "},{"$f":"IF(ISBLANK(C17),\" \",(C17*InfoUnité!C3)*(1+($H$8/10)))","v":" "},{"$f":"IF(ISBLANK(D17),\" \",(D17*InfoUnité!D3)*(1+($H$8/10)))","v":" "},{"$f":"IF(ISBLANK(E17),\" \",(E17*InfoUnité!E3)*(1+($H$8/10)))","v":" "},{"$f":"IF(ISBLANK(F17),\" \",(F17*InfoUnité!F3)*(1+($H$8/10)))","v":" "},{"$f":"IF(ISBLANK(G17),\" \",(G17*InfoUnité!G3)*(1+($H$8/10)))","v":" "},{"$f":"IF(ISBLANK(H17),\" \",(H17*InfoUnité!H3)*(1+($H$8/10)))","v":" "},{"$f":"IF(ISBLANK(I17),\" \",(I17*InfoUnité!I3)*(1+($H$8/10)))","v":" "},{"$f":"IF(ISBLANK(J17),\" \",(J17*InfoUnité!J3)*(1+($H$8/10)))","v":" "},{"$f":"IF(ISBLANK(K17),\" \",(K17*InfoUnité!K3)*(1+($H$8/10)))","v":" "},{"$f":"IF(ISBLANK(L17),\" \",(L17*InfoUnité!L3)*(1+($H$8/10)))","v":" "},{"$f":"IF(ISBLANK(M17),\" \",(M17*InfoUnité!M3)*(1+($H$8/10)))","v":" "},{"$f":"IF(ISBLANK(N17),\" \",(N17*InfoUnité!N3)*(1+($H$8/10)))","v":" "},{"$f":"IF(ISBLANK(O17),\" \",(O17*InfoUnité!O3)*(1+($H$8/10)))","v":" "},{"$f":"IF(ISBLANK(P17),\" \",(P17*InfoUnité!P3)*(1+($H$8/10)))","v":" "},{"$f":"IF(ISBLANK(Q17),\" \",(Q17*InfoUnité!Q3)*(1+($H$8/10)))","v":" "},{"$f":"IF(ISBLANK(R17),\" \",(R17*InfoUnité!R3)*(1+($H$8/10)))","v":" "}]
["FDF SB",{"$f":"IF(ISBLANK(B17),\" \",B17*InfoUnité!B4)","v":" "},{"$f":"IF(ISBLANK(C17),\" \",C17*InfoUnité!C4)","v":" "},{"$f":"IF(ISBLANK(D17),\" \",D17*InfoUnité!D4)","v":" "},{"$f":"IF(ISBLANK(E17),\" \",E17*InfoUnité!E4)","v":" "},{"$f":"IF(ISBLANK(F17),\" \",F17*InfoUnité!F4)","v":" "},{"$f":"IF(ISBLANK(G17),\" \",G17*InfoUnité!G4)","v":" "},{"$f":"IF(ISBLANK(H17),\" \",H17*InfoUnité!H4)","v":" "},{"$f":"IF(ISBLANK(I17),\" \",I17*InfoUnité!I4)","v":" "},{"$f":"IF(ISBLANK(J17),\" \",J17*InfoUnité!J4)","v":" "},{"$f":"IF(ISBLANK(K17),\" \",K17*InfoUnité!K4)","v":" "},{"$f":"IF(ISBLANK(L17),\" \",L17*InfoUnité!L4)","v":" "},{"$f":"IF(ISBLANK(M17),\" \",M17*InfoUnité!M4)","v":" "},{"$f":"IF(ISBLANK(N17),\" \",N17*InfoUnité!N4)","v":" "},{"$f":"IF(ISBLANK(O17),\" \",O17*InfoUnité!O4)","v":" "},{"$f":"IF(ISBLANK(P17),\" \",P17*InfoUnité!P4)","v":" "},{"$f":"IF(ISBLANK(Q17),\" \",Q17*InfoUnité!Q4)","v":" "},{"$f":"IF(ISBLANK(R17),\" \",R17*InfoUnité!R4)","v":" "}]
["FDF AB",{"$f":"IF(ISBLANK(B17),\" \",(B17*InfoUnité!B4)*(1+($H$7/10)))","v":" "},{"$f":"IF(ISBLANK(C17),\" \",(C17*InfoUnité!C4)*(1+($H$7/10)))","v":" "},{"$f":"IF(ISBLANK(D17),\" \",(D17*InfoUnité!D4)*(1+($H$7/10)))","v":" "},{"$f":"IF(ISBLANK(E17),\" \",(E17*InfoUnité!E4)*(1+($H$7/10)))","v":" "},{"$f":"IF(ISBLANK(F17),\" \",(F17*InfoUnité!F4)*(1+($H$7/10)))","v":" "},{"$f":"IF(ISBLANK(G17),\" \",(G17*InfoUnité!G4)*(1+($H$7/10)))","v":" "},{"$f":"IF(ISBLANK(H17),\" \",(H17*InfoUnité!H4)*(1+($H$7/10)))","v":" "},{"$f":"IF(ISBLANK(I17),\" \",(I17*InfoUnité!I4)*(1+($H$7/10)))","v":" "},{"$f":"IF(ISBLANK(J17),\" \",(J17*InfoUnité!J4)*(1+($H$7/10)))","v":" "},{"$f":"IF(ISBLANK(K17),\" \",(K17*InfoUnité!K4)*(1+($H$7/10)))","v":" "},{"$f":"IF(ISBLANK(L17),\" \",(L17*InfoUnité!L4)*(1+($H$7/10)))","v":" "},{"$f":"IF(ISBLANK(M17),\" \",(M17*InfoUnité!M4)*(1+($H$7/10)))","v":" "},{"$f":"IF(ISBLANK(N17),\" \",(N17*InfoUnité!N4)*(1+($H$7/10)))","v":" "},{"$f":"IF(ISBLANK(O17),\" \",(O17*InfoUnité!O4)*(1+($H$7/10)))","v":" "},{"$f":"IF(ISBLANK(P17),\" \",(P17*InfoUnité!P4)*(1+($H$7/10)))","v":" "},{"$f":"IF(ISBLANK(Q17),\" \",(Q17*InfoUnité!Q4)*(1+($H$7/10)))","v":" "},{"$f":"IF(ISBLANK(R17),\" \",(R17*InfoUnité!R4)*(1+($H$7/10)))","v":" "}]
["DEF SB",{"$f":"IF(ISBLANK(B17),\" \",B17*InfoUnité!B5)","v":" "},{"$f":"IF(ISBLANK(C17),\" \",C17*InfoUnité!C5)","v":" "},{"$f":"IF(ISBLANK(D17),\" \",D17*InfoUnité!D5)","v":" "},{"$f":"IF(ISBLANK(E17),\" \",E17*InfoUnité!E5)","v":" "},{"$f":"IF(ISBLANK(F17),\" \",F17*InfoUnité!F5)","v":" "},{"$f":"IF(ISBLANK(G17),\" \",G17*InfoUnité!G5)","v":" "},{"$f":"IF(ISBLANK(H17),\" \",H17*InfoUnité!H5)","v":" "},{"$f":"IF(ISBLANK(I17),\" \",I17*InfoUnité!I5)","v":" "},{"$f":"IF(ISBLANK(J17),\" \",J17*InfoUnité!J5)","v":" "},{"$f":"IF(ISBLANK(K17),\" \",K17*InfoUnité!K5)","v":" "},{"$f":"IF(ISBLANK(L17),\" \",L17*InfoUnité!L5)","v":" "},{"$f":"IF(ISBLANK(M17),\" \",M17*InfoUnité!M5)","v":" "},{"$f":"IF(ISBLANK(N17),\" \",N17*InfoUnité!N5)","v":" "},{"$f":"IF(ISBLANK(O17),\" \",O17*InfoUnité!O5)","v":" "},{"$f":"IF(ISBLANK(P17),\" \",P17*InfoUnité!P5)","v":" "},{"$f":"IF(ISBLANK(Q17),\" \",Q17*InfoUnité!Q5)","v":" "},{"$f":"IF(ISBLANK(R17),\" \",R17*InfoUnité!R5)","v":" "}]
["DEF AB",{"$f":"IF(ISBLANK(B17),\" \",(B17*InfoUnité!B5)*(1+($H$7/10)))","v":" "},{"$f":"IF(ISBLANK(C17),\" \",(C17*InfoUnité!C5)*(1+($H$7/10)))","v":" "},{"$f":"IF(ISBLANK(D17),\" \",(D17*InfoUnité!D5)*(1+($H$7/10)))","v":" "},{"$f":"IF(ISBLANK(E17),\" \",(E17*InfoUnité!E5)*(1+($H$7/10)))","v":" "},{"$f":"IF(ISBLANK(F17),\" \",(F17*InfoUnité!F5)*(1+($H$7/10)))","v":" "},{"$f":"IF(ISBLANK(G17),\" \",(G17*InfoUnité!G5)*(1+($H$7/10)))","v":" "},{"$f":"IF(ISBLANK(H17),\" \",(H17*InfoUnité!H5)*(1+($H$7/10)))","v":" "},{"$f":"IF(ISBLANK(I17),\" \",(I17*InfoUnité!I5)*(1+($H$7/10)))","v":" "},{"$f":"IF(ISBLANK(J17),\" \",(J17*InfoUnité!J5)*(1+($H$7/10)))","v":" "},{"$f":"IF(ISBLANK(K17),\" \",(K17*InfoUnité!K5)*(1+($H$7/10)))","v":" "},{"$f":"IF(ISBLANK(L17),\" \",(L17*InfoUnité!L5)*(1+($H$7/10)))","v":" "},{"$f":"IF(ISBLANK(M17),\" \",(M17*InfoUnité!M5)*(1+($H$7/10)))","v":" "},{"$f":"IF(ISBLANK(N17),\" \",(N17*InfoUnité!N5)*(1+($H$7/10)))","v":" "},{"$f":"IF(ISBLANK(O17),\" \",(O17*InfoUnité!O5)*(1+($H$7/10)))","v":" "},{"$f":"IF(ISBLANK(P17),\" \",(P17*InfoUnité!P5)*(1+($H$7/10)))","v":" "},{"$f":"IF(ISBLANK(Q17),\" \",(Q17*InfoUnité!Q5)*(1+($H$7/10)))","v":" "},{"$f":"IF(ISBLANK(R17),\" \",(R17*InfoUnité!R5)*(1+($H$7/10)))","v":" "}]
[]
["   Armée du défenseur"]
[null,"Esclave","Maitre Esclave","Jeune Soldate","Soldate","Soldate d'élite","Gardienne","Gardienne d'élite","Tirailleuse","Tirailleuse d'élite","Jeune légionnaire","Légionnaire","Tank","Tank d'élite","Commandante","Championne","Chasseuse","Enigma"]
["Nb. Troupe"]
["VIE SB",{"$f":"IF(ISBLANK(B27),\" \",B27*InfoUnité!B3)","v":" "},{"$f":"IF(ISBLANK(C27),\" \",C27*InfoUnité!C3)","v":" "},{"$f":"IF(ISBLANK(D27),\" \",D27*InfoUnité!D3)","v":" "},{"$f":"IF(ISBLANK(E27),\" \",E27*InfoUnité!E3)","v":" "},{"$f":"IF(ISBLANK(F27),\" \",F27*InfoUnité!F3)","v":" "},{"$f":"IF(ISBLANK(G27),\" \",G27*InfoUnité!G3)","v":" "},{"$f":"IF(ISBLANK(H27),\" \",H27*InfoUnité!H3)","v":" "},{"$f":"IF(ISBLANK(I27),\" \",I27*InfoUnité!I3)","v":" "},{"$f":"IF(ISBLANK(J27),\" \",J27*InfoUnité!J3)","v":" "},{"$f":"IF(ISBLANK(K27),\" \",K27*InfoUnité!K3)","v":" "},{"$f":"IF(ISBLANK(L27),\" \",L27*InfoUnité!L3)","v":" "},{"$f":"IF(ISBLANK(M27),\" \",M27*InfoUnité!M3)","v":" "},{"$f":"IF(ISBLANK(N27),\" \",N27*InfoUnité!N3)","v":" "},{"$f":"IF(ISBLANK(O27),\" \",O27*InfoUnité!O3)","v":" "},{"$f":"IF(ISBLANK(P27),\" \",P27*InfoUnité!P3)","v":" "},{"$f":"IF(ISBLANK(Q27),\" \",Q27*InfoUnité!Q3)","v":" "},{"$f":"IF(ISBLANK(R27),\" \",R27*InfoUnité!R3)","v":" "}]
["VIE AB",{"$f":"IF(ISBLANK(B27),\" \",(B27*InfoUnité!B3)*(1+($M$8/10)))","v":" "},{"$f":"IF(ISBLANK(C27),\" \",(C27*InfoUnité!C3)*(1+($M$8/10)))","v":" "},{"$f":"IF(ISBLANK(D27),\" \",(D27*InfoUnité!D3)*(1+($M$8/10)))","v":" "},{"$f":"IF(ISBLANK(E27),\" \",(E27*InfoUnité!E3)*(1+($M$8/10)))","v":" "},{"$f":"IF(ISBLANK(F27),\" \",(F27*InfoUnité!F3)*(1+($M$8/10)))","v":" "},{"$f":"IF(ISBLANK(G27),\" \",(G27*InfoUnité!G3)*(1+($M$8/10)))","v":" "},{"$f":"IF(ISBLANK(H27),\" \",(H27*InfoUnité!H3)*(1+($M$8/10)))","v":" "},{"$f":"IF(ISBLANK(I27),\" \",(I27*InfoUnité!I3)*(1+($M$8/10)))","v":" "},{"$f":"IF(ISBLANK(J27),\" \",(J27*InfoUnité!J3)*(1+($M$8/10)))","v":" "},{"$f":"IF(ISBLANK(K27),\" \",(K27*InfoUnité!K3)*(1+($M$8/10)))","v":" "},{"$f":"IF(ISBLANK(L27),\" \",(L27*InfoUnité!L3)*(1+($M$8/10)))","v":" "},{"$f":"IF(ISBLANK(M27),\" \",(M27*InfoUnité!M3)*(1+($M$8/10)))","v":" "},{"$f":"IF(ISBLANK(N27),\" \",(N27*InfoUnité!N3)*(1+($M$8/10)))","v":" "},{"$f":"IF(ISBLANK(O27),\" \",(O27*InfoUnité!O3)*(1+($M$8/10)))","v":" "},{"$f":"IF(ISBLANK(P27),\" \",(P27*InfoUnité!P3)*(1+($M$8/10)))","v":" "},{"$f":"IF(ISBLANK(Q27),\" \",(Q27*InfoUnité!Q3)*(1+($M$8/10)))","v":" "},{"$f":"IF(ISBLANK(R27),\" \",(R27*InfoUnité!R3)*(1+($M$8/10)))","v":" "}]
["FDF SB",{"$f":"IF(ISBLANK(B27),\" \",B27*InfoUnité!B4)","v":" "},{"$f":"IF(ISBLANK(C27),\" \",C27*InfoUnité!C4)","v":" "},{"$f":"IF(ISBLANK(D27),\" \",D27*InfoUnité!D4)","v":" "},{"$f":"IF(ISBLANK(E27),\" \",E27*InfoUnité!E4)","v":" "},{"$f":"IF(ISBLANK(F27),\" \",F27*InfoUnité!F4)","v":" "},{"$f":"IF(ISBLANK(G27),\" \",G27*InfoUnité!G4)","v":" "},{"$f":"IF(ISBLANK(H27),\" \",H27*InfoUnité!H4)","v":" "},{"$f":"IF(ISBLANK(I27),\" \",I27*InfoUnité!I4)","v":" "},{"$f":"IF(ISBLANK(J27),\" \",J27*InfoUnité!J4)","v":" "},{"$f":"IF(ISBLANK(K27),\" \",K27*InfoUnité!K4)","v":" "},{"$f":"IF(ISBLANK(L27),\" \",L27*InfoUnité!L4)","v":" "},{"$f":"IF(ISBLANK(M27),\" \",M27*InfoUnité!M4)","v":" "},{"$f":"IF(ISBLANK(N27),\" \",N27*InfoUnité!N4)","v":" "},{"$f":"IF(ISBLANK(O27),\" \",O27*InfoUnité!O4)","v":" "},{"$f":"IF(ISBLANK(P27),\" \",P27*InfoUnité!P4)","v":" "},{"$f":"IF(ISBLANK(Q27),\" \",Q27*InfoUnité!Q4)","v":" "},{"$f":"IF(ISBLANK(R27),\" \",R27*InfoUnité!R4)","v":" "}]
["FDF AB",{"$f":"IF(ISBLANK(B27),\" \",(B27*InfoUnité!B4)*(1+($M$7/10)))","v":" "},{"$f":"IF(ISBLANK(C27),\" \",(C27*InfoUnité!C4)*(1+($M$7/10)))","v":" "},{"$f":"IF(ISBLANK(D27),\" \",(D27*InfoUnité!D4)*(1+($M$7/10)))","v":" "},{"$f":"IF(ISBLANK(E27),\" \",(E27*InfoUnité!E4)*(1+($M$7/10)))","v":" "},{"$f":"IF(ISBLANK(F27),\" \",(F27*InfoUnité!F4)*(1+($M$7/10)))","v":" "},{"$f":"IF(ISBLANK(G27),\" \",(G27*InfoUnité!G4)*(1+($M$7/10)))","v":" "},{"$f":"IF(ISBLANK(H27),\" \",(H27*InfoUnité!H4)*(1+($M$7/10)))","v":" "},{"$f":"IF(ISBLANK(I27),\" \",(I27*InfoUnité!I4)*(1+($M$7/10)))","v":" "},{"$f":"IF(ISBLANK(J27),\" \",(J27*InfoUnité!J4)*(1+($M$7/10)))","v":" "},{"$f":"IF(ISBLANK(K27),\" \",(K27*InfoUnité!K4)*(1+($M$7/10)))","v":" "},{"$f":"IF(ISBLANK(L27),\" \",(L27*InfoUnité!L4)*(1+($M$7/10)))","v":" "},{"$f":"IF(ISBLANK(M27),\" \",(M27*InfoUnité!M4)*(1+($M$7/10)))","v":" "},{"$f":"IF(ISBLANK(N27),\" \",(N27*InfoUnité!N4)*(1+($M$7/10)))","v":" "},{"$f":"IF(ISBLANK(O27),\" \",(O27*InfoUnité!O4)*(1+($M$7/10)))","v":" "},{"$f":"IF(ISBLANK(P27),\" \",(P27*InfoUnité!P4)*(1+($M$7/10)))","v":" "},{"$f":"IF(ISBLANK(Q27),\" \",(Q27*InfoUnité!Q4)*(1+($M$7/10)))","v":" "},{"$f":"IF(ISBLANK(R27),\" \",(R27*InfoUnité!R4)*(1+($M$7/10)))","v":" "}]
["DEF SB",{"$f":"IF(ISBLANK(B27),\" \",B27*InfoUnité!B5)","v":" "},{"$f":"IF(ISBLANK(C27),\" \",C27*InfoUnité!C5)","v":" "},{"$f":"IF(ISBLANK(D27),\" \",D27*InfoUnité!D5)","v":" "},{"$f":"IF(ISBLANK(E27),\" \",E27*InfoUnité!E5)","v":" "},{"$f":"IF(ISBLANK(F27),\" \",F27*InfoUnité!F5)","v":" "},{"$f":"IF(ISBLANK(G27),\" \",G27*InfoUnité!G5)","v":" "},{"$f":"IF(ISBLANK(H27),\" \",H27*InfoUnité!H5)","v":" "},{"$f":"IF(ISBLANK(I27),\" \",I27*InfoUnité!I5)","v":" "},{"$f":"IF(ISBLANK(J27),\" \",J27*InfoUnité!J5)","v":" "},{"$f":"IF(ISBLANK(K27),\" \",K27*InfoUnité!K5)","v":" "},{"$f":"IF(ISBLANK(L27),\" \",L27*InfoUnité!L5)","v":" "},{"$f":"IF(ISBLANK(M27),\" \",M27*InfoUnité!M5)","v":" "},{"$f":"IF(ISBLANK(N27),\" \",N27*InfoUnité!N5)","v":" "},{"$f":"IF(ISBLANK(O27),\" \",O27*InfoUnité!O5)","v":" "},{"$f":"IF(ISBLANK(P27),\" \",P27*InfoUnité!P5)","v":" "},{"$f":"IF(ISBLANK(Q27),\" \",Q27*InfoUnité!Q5)","v":" "},{"$f":"IF(ISBLANK(R27),\" \",R27*InfoUnité!R5)","v":" "}]
["DEF AB",{"$f":"IF(ISBLANK(B27),\" \",(B27*InfoUnité!B5)*(1+($M$7/10)))","v":" "},{"$f":"IF(ISBLANK(C27),\" \",(C27*InfoUnité!C5)*(1+($M$7/10)))","v":" "},{"$f":"IF(ISBLANK(D27),\" \",(D27*InfoUnité!D5)*(1+($M$7/10)))","v":" "},{"$f":"IF(ISBLANK(E27),\" \",(E27*InfoUnité!E5)*(1+($M$7/10)))","v":" "},{"$f":"IF(ISBLANK(F27),\" \",(F27*InfoUnité!F5)*(1+($M$7/10)))","v":" "},{"$f":"IF(ISBLANK(G27),\" \",(G27*InfoUnité!G5)*(1+($M$7/10)))","v":" "},{"$f":"IF(ISBLANK(H27),\" \",(H27*InfoUnité!H5)*(1+($M$7/10)))","v":" "},{"$f":"IF(ISBLANK(I27),\" \",(I27*InfoUnité!I5)*(1+($M$7/10)))","v":" "},{"$f":"IF(ISBLANK(J27),\" \",(J27*InfoUnité!J5)*(1+($M$7/10)))","v":" "},{"$f":"IF(ISBLANK(K27),\" \",(K27*InfoUnité!K5)*(1+($M$7/10)))","v":" "},{"$f":"IF(ISBLANK(L27),\" \",(L27*InfoUnité!L5)*(1+($M$7/10)))","v":" "},{"$f":"IF(ISBLANK(M27),\" \",(M27*InfoUnité!M5)*(1+($M$7/10)))","v":" "},{"$f":"IF(ISBLANK(N27),\" \",(N27*InfoUnité!N5)*(1+($M$7/10)))","v":" "},{"$f":"IF(ISBLANK(O27),\" \",(O27*InfoUnité!O5)*(1+($M$7/10)))","v":" "},{"$f":"IF(ISBLANK(P27),\" \",(P27*InfoUnité!P5)*(1+($M$7/10)))","v":" "},{"$f":"IF(ISBLANK(Q27),\" \",(Q27*InfoUnité!Q5)*(1+($M$7/10)))","v":" "},{"$f":"IF(ISBLANK(R27),\" \",(R27*InfoUnité!R5)*(1+($M$7/10)))","v":" "}]
[]
[null,null,null,null,null,null,"Infos. Armée Attaquant",null,null,null,null,"Infos. Armée Défenseur"]
[null,null,null,null,null,null,"Nb. Troupe Total",{"$f":"IF(ISBLANK(B17:R17),\" \",SUM(B17:R17))","v":" "},null,null,null,"Nb. Troupe Total",{"$f":"SUM(B27:R27)","v":0}]
[null,null,null,null,null,null,"VIE SB Total",0,null,null,null,"VIE SB Total",0]
[null,null,null,null,null,null,"VIE AB Total",0,null,null,null,"VIE AB Total",0,{"$f":"IF(H40>M38,\"Poutrable d'un coup\",\"Peut-être pas poutable\")","v":"Peut-être pas poutable"}]
[null,null,null,null,null,null,"FDF SB Total",0,null,null,null,"FDF SB Total",0]
[null,null,null,null,null,null,"FDF AB Total",0,null,null,null,"FDF AB Total",0]
[null,null,null,null,null,null,"DEF SB Total",0,null,null,null,"DEF SB Total",0]
[null,null,null,null,null,null,"DEF AB Total",0,null,null,null,"DEF AB Total",0]
[null,null,null,null,null,null,null,null,null,null,null,"Réplique",{"$f":"IF($M$38>$H$40,$M$42,IF(($M$38*8)<=$H$40,($M$42*30/100),IF(($M$38*4)<=$H$40,($M$42*50/100),$M$42*10/100)))","v":0}]
[null,null,null,null,null,null,null,null,null,null,null,"Réplique",{"$f":"IF($M$38>$H$40,$M$42,IF(($M$38*8)<=$H$40,($M$42*30/100),IF(($M$38*4)<=$H$40,($M$42*50/100),$M$42*10/100)))","v":0}]
[]
[]
[]
[]
[null,null,null,null,null,null,null,null,{"$f":"(100*40)*(1+((11+(13/2))/10))","v":11000}]
[]
[]
[null,null,null,null,null,null,null,null,{"$f":"169416368+95491187+176939800","v":441847355}]
[null,null,null,null,null,null,null,null,{"$f":"144800351+24616017+87516833","v":256933201}]
[null,null,null,null,null,null,null,null,{"$f":"I52-I53","v":184914154}]

{"sheet":"simulPonte","index":2,"n_rows":9,"n_cols":18,"rows_kept":9,"cut":false,"hidden":false,"merged":[[0,0,0,17]]}
["   Armée à pondre"]
[null,"Esclave","Maitre Esclave","Jeune Soldate","Soldate","Soldate d'élite","Gardienne","Gardienne d'élite","Tirailleuse","Tirailleuse d'élite","Jeune légionnaire","Légionnaire","Tank","Tank d'élite","Commandante","Championne","Chasseuse","Enigma"]
["Nb. Troupe"]
["VIE SB"]
["VIE AB"]
["FDF SB"]
["FDF AB"]
["DEF SB"]
["DEF AB"]

{"sheet":"InfoUnité","index":3,"n_rows":7,"n_cols":18,"rows_kept":7,"cut":false,"hidden":false,"merged":[[0,0,0,17]]}
["   Info sur les unitées"]
[null,"E","ME","JS","S","SE","G","GE","Ti","TiE","JL","L","Tk","TkE","Comm","Champ","Chass","Enig"]
["VIE",4,6,16,20,26,25,32,12,15,40,55,40,70,44,56,200,260]
["FDF",4,6,8,11,17,1,1,32,40,45,60,80,140,60,45,50,260]
["DEF",3,4,7,10,14,27,35,10,12,35,45,1,1,30,45,50,220]
["TDP",120,180,210,270,360,360,480,420,540,660,900,1080,2040,null,null,null,3600]
["Coût",20,30,35,45,60,60,80,70,90,110,150,180,340,20000,20000,20000,600]

{"sheet":"InfoAlliAdverse","index":4,"n_rows":29,"n_cols":11,"rows_kept":29,"cut":false,"hidden":false,"merged":[[39,0,39,10],[1,0,1,10],[14,0,14,10],[27,0,27,10],[13,0,13,10],[0,0,0,10],[26,0,26,10]]}
[]
["Stats Alli"]
["Pseudo","FDF AB","DEF AB","VIE AB (Terrain)","VIE AB (Dôme)","VIE AB (Loge)","Niv. Mandibule","Niv. Carapace","Niv. Dôme","Niv. Loge","Niv. TDP"]
[]
[]
[]
[]
[]
[]
[]
[]
[]
[]
[]
["Stats Alli"]
["Pseudo","FDF AB","DEF AB","VIE AB (Terrain)","VIE AB (Dôme)","VIE AB (Loge)","Niv. Mandibule","Niv. Carapace","Niv. Dôme","Niv. Loge","Niv. TDP"]
[]
[]
[]
[]
[]
[]
[]
[]
[]
[]
[]
["Stats Alli"]
["Pseudo","FDF AB","DEF AB","VIE AB (Terrain)","VIE AB (Dôme)","VIE AB (Loge)","Niv. Mandibule","Niv. Carapace","Niv. Dôme","Niv. Loge","Niv. TDP"]